{"text_format":"1","workbook":"xlsx","n_sheets":4,"sheets":["Catalogue ATR 2023","FICHE NAVETTE","DATA LOAD","ANNUAIRE AGENCES"],"not_rendered":{"charts":0,"images":0,"macros":1,"external_links":0,"defined_names":6,"comments":0,"pivot_tables":0},"unopened":[],"bounds":{"document_bytes":16777216,"sheet_cells":100000,"rows_first":2000,"rows_last":500,"rows_between":2000,"halvings":0,"cell_chars":16384,"cell_head_chars":4096},"cells_cut":0,"cells_raw":0,"read":"whole","date_system":"1900"}

{"sheet":"Catalogue ATR 2023","index":0,"n_rows":45954,"n_cols":17,"rows_kept":4500,"cut":true,"hidden":false,"merged":[],"bounds":{"rows_first":2000,"rows_last":500,"rows_between":2000,"halvings":0}}
["Référence","Ancienne référence","Description","Prix d'achat 2023","EAN13","Alias","Fabricant",null,"Référence Article","Description Article",null,null,"Référence","Désignation","Type","Catégorie","Commentaire"]
["ABB6AGC081282",null,{"$f":"VLOOKUP(A2,I:J,2,0)","v":"Terra AC Wallbox 7/22 kW LAN/WIFI/BLUETOOTH/GSM/RFID Compteur MID Afficheur LCD"},null,null,{"$f":"LEFT(Catalogue[[#This Row],[Référence]],3)","v":"ABB"},{"$f":"VLOOKUP(Catalogue[[#This Row],[Alias]],#REF!,2,FALSE)","v":{"$error":"#REF!"}},null,"ABB6AGC081282","Terra AC Wallbox 7/22 kW LAN/WIFI/BLUETOOTH/GSM/RFID Compteur MID Afficheur LCD",null,null,"SDUS1047000S","CI THEMA 24/25","G","Circuit imprimé","Thémaplus 25,30 CF (1ère monte)"]
["ABB6AGC082535",null,"CABLE T2-T2 7M 1P 32A",null,null,{"$f":"LEFT(Catalogue[[#This Row],[Référence]],3)","v":"ABB"},{"$f":"VLOOKUP(Catalogue[[#This Row],[Alias]],#REF!,2,FALSE)","v":{"$error":"#REF!"}},null,"ABB6AGC082535","CABLE T2-T2 7M 1P 32A",null,null,"SDUS1047000S","CI THEMA 24/25","H","Circuit imprimé","Thémaplus 25,30 FF"]
["ABB6AGC082536",null,"CABLE T2-T2 7M 3P 16A",null,null,{"$f":"LEFT(Catalogue[[#This Row],[Référence]],3)","v":"ABB"},{"$f":"VLOOKUP(Catalogue[[#This Row],[Alias]],#REF!,2,FALSE)","v":{"$error":"#REF!"}},null,"ABB6AGC082536","CABLE T2-T2 7M 3P 16A",null,null,"SDUS1047000S","CI THEMA 24/25","M","Circuit imprimé","MULTIPRODUIT"]
["ABB6AGC082537",null,"CABLE T2-T2 7M 3P 32A",null,null,{"$f":"LEFT(Catalogue[[#This Row],[Référence]],3)","v":"ABB"},{"$f":"VLOOKUP(Catalogue[[#This Row],[Alias]],#REF!,2,FALSE)","v":{"$error":"#REF!"}},null,"ABB6AGC082537","CABLE T2-T2 7M 3P 32A",null,null,"MTS65104333S","ECHANGEUR INOA","12 PLQ","Echangeur à plaque"]
["ABB6AGC082589",null,"Terra AC Wallbox 7/22 kW LAN/WIFI/BLUETOOTH/RFID",null,null,{"$f":"LEFT(Catalogue[[#This Row],[Référence]],3)","v":"ABB"},{"$f":"VLOOKUP(Catalogue[[#This Row],[Alias]],#REF!,2,FALSE)","v":{"$error":"#REF!"}},null,"ABB6AGC082589","Terra AC Wallbox 7/22 kW LAN/WIFI/BLUETOOTH/RFID",null,null,"MTS65104333S","ECHANGEUR INOA","14 PLQ","Echangeur à plaque"]
["ABB6AGC101252",null,"TERRA AC WALLBOX 7 KW LAN/WIFI/BLUETOOTH/RFID/",null,null,{"$f":"LEFT(Catalogue[[#This Row],[Référence]],3)","v":"ABB"},{"$f":"VLOOKUP(Catalogue[[#This Row],[Alias]],#REF!,2,FALSE)","v":{"$error":"#REF!"}},null,"ABB6AGC101252","TERRA AC WALLBOX 7 KW LAN/WIFI/BLUETOOTH/RFID/",null,null,"MTS65104333S","ECHANGEUR INOA","16 PLQ","Echangeur à plaque"]
["ABB6AGC105895",null,"Terra AC Wallbox 11 kW LAN/WIFI/BLUETOOTH/GSM/RFID Compteur MID Afficheur LCD",null,null,{"$f":"LEFT(Catalogue[[#This Row],[Référence]],3)","v":"ABB"},{"$f":"VLOOKUP(Catalogue[[#This Row],[Alias]],#REF!,2,FALSE)","v":{"$error":"#REF!"}},null,"ABB6AGC105895","Terra AC Wallbox 11 kW LAN/WIFI/BLUETOOTH/GSM/RFID Compteur MID Afficheur LCD",null,null,"MTS61302409-01S","ECHANGEUR SANITAIRE","10 PLQ","Echangeur à plaque"]
["ABB6AGC105907",null,"Terra AC Wallbox 11 kW LAN/WIFI/BLUETOOTH/RFID",null,null,{"$f":"LEFT(Catalogue[[#This Row],[Référence]],3)","v":"ABB"},{"$f":"VLOOKUP(Catalogue[[#This Row],[Alias]],#REF!,2,FALSE)","v":{"$error":"#REF!"}},null,"ABB6AGC105907","Terra AC Wallbox 11 kW LAN/WIFI/BLUETOOTH/RFID",null,null,"MTS61302409-01S","ECHANGEUR SANITAIRE","14 PLQ","Echangeur à plaque"]
["ACL009243",null,"TREPIED UNIVERS.",null,null,{"$f":"LEFT(Catalogue[[#This Row],[Référence]],3)","v":"ACL"},{"$f":"VLOOKUP(Catalogue[[#This Row],[Alias]],#REF!,2,FALSE)","v":{"$error":"#REF!"}},null,"ACL009243","TREPIED UNIVERS.",null,null,"MTS61302409-01S","ECHANGEUR SANITAIRE","16 PLQ","Echangeur à plaque"]
["ACL022500",null,"COIFFE + PIECE THERMOFORMEE ET PIQUAGES",null,null,{"$f":"LEFT(Catalogue[[#This Row],[Référence]],3)","v":"ACL"},{"$f":"VLOOKUP(Catalogue[[#This Row],[Alias]],#REF!,2,FALSE)","v":{"$error":"#REF!"}},null,"ACL022500","COIFFE + PIECE THERMOFORMEE ET PIQUAGES",null,null,"MTS61011164S","ECH. SAN. NECTRA 28","12 PLQ","Echangeur à plaque"]
["ACL022597",null,"VIROLE GAUCHE HABILLAGE PAC",null,null,{"$f":"LEFT(Catalogue[[#This Row],[Référence]],3)","v":"ACL"},{"$f":"VLOOKUP(Catalogue[[#This Row],[Alias]],#REF!,2,FALSE)","v":{"$error":"#REF!"}},null,"ACL022597","VIROLE GAUCHE HABILLAGE PAC",null,null,"MTS61011164S","ECH. SAN. NECTRA 28","14 PLQ","Echangeur à plaque"]
["ACL022793",null,"MOTOTURBINE AQUACOSY",null,null,{"$f":"LEFT(Catalogue[[#This Row],[Référence]],3)","v":"ACL"},{"$f":"VLOOKUP(Catalogue[[#This Row],[Alias]],#REF!,2,FALSE)","v":{"$error":"#REF!"}},null,"ACL022793","MOTOTURBINE AQUACOSY",null,null,"MTS61011164S","ECH. SAN. NECTRA 28","16 PLQ","Echangeur à plaque"]
["ACL026326",null,"FAISCEAU CEM AQUACOSY",null,null,{"$f":"LEFT(Catalogue[[#This Row],[Référence]],3)","v":"ACL"},{"$f":"VLOOKUP(Catalogue[[#This Row],[Alias]],#REF!,2,FALSE)","v":{"$error":"#REF!"}},null,"ACL026326","FAISCEAU CEM AQUACOSY",null,null,"SDUS1024800S","ECHANGEUR ISOPLIT","14 PLQ","Echangeur à plaque"]
["ACL029271",null,"VENTILATEUR POMPE A CHALEUR",null,null,{"$f":"LEFT(Catalogue[[#This Row],[Référence]],3)","v":"ACL"},{"$f":"VLOOKUP(Catalogue[[#This Row],[Alias]],#REF!,2,FALSE)","v":{"$error":"#REF!"}},null,"ACL029271","VENTILATEUR POMPE A CHALEUR",null,null,"SDUS1024800S","ECHANGEUR ISOPLIT","16 PLQ","Echangeur à plaque"]
["ACL029277",null,"DETENDEUR POMPE A CHALEUR",null,null,{"$f":"LEFT(Catalogue[[#This Row],[Référence]],3)","v":"ACL"},{"$f":"VLOOKUP(Catalogue[[#This Row],[Alias]],#REF!,2,FALSE)","v":{"$error":"#REF!"}},null,"ACL029277","DETENDEUR POMPE A CHALEUR",null,null,"SDUS1024800S","ECHANGEUR ISOPLIT","18 PLQ","Echangeur à plaque"]
["ACL029278",null,"SONDE DE PRESSION AVEC RACCORDEMENT AIR",null,null,{"$f":"LEFT(Catalogue[[#This Row],[Référence]],3)","v":"ACL"},{"$f":"VLOOKUP(Catalogue[[#This Row],[Alias]],#REF!,2,FALSE)","v":{"$error":"#REF!"}},null,"ACL029278","SONDE DE PRESSION AVEC RACCORDEMENT AIR",null,null,"SDU05733000S","ECH.SANITAIRE ISOFAST 35 KW","12 PLQ","Echangeur à plaque"]
["ACL029279",null,"ENS. SONDES DE TEMPERATURE (X3)",null,null,{"$f":"LEFT(Catalogue[[#This Row],[Référence]],3)","v":"ACL"},{"$f":"VLOOKUP(Catalogue[[#This Row],[Alias]],#REF!,2,FALSE)","v":{"$error":"#REF!"}},null,"ACL029279","ENS. SONDES DE TEMPERATURE (X3)",null,null,"SDU05733000S","ECH.SANITAIRE ISOFAST 35 KW","14 PLQ","Echangeur à plaque"]
["ACL029633",null,"KIT COMPRESSEUR VERTICAL",null,null,{"$f":"LEFT(Catalogue[[#This Row],[Référence]],3)","v":"ACL"},{"$f":"VLOOKUP(Catalogue[[#This Row],[Alias]],#REF!,2,FALSE)","v":{"$error":"#REF!"}},null,"ACL029633","KIT COMPRESSEUR VERTICAL",null,null,"SDU05733000S","ECH.SANITAIRE ISOFAST 35 KW","16 PLQ","Echangeur à plaque"]
["ACL029666",null,"IHM AQUACOSY",null,null,{"$f":"LEFT(Catalogue[[#This Row],[Référence]],3)","v":"ACL"},{"$f":"VLOOKUP(Catalogue[[#This Row],[Alias]],#REF!,2,FALSE)","v":{"$error":"#REF!"}},null,"ACL029666","IHM AQUACOSY",null,null,"SDU05733000S","ECH.SANITAIRE ISOFAST 35 KW","18 PLQ","Echangeur à plaque"]
["ACL029667",null,"CARTE INVERTER DRIVE",null,null,{"$f":"LEFT(Catalogue[[#This Row],[Référence]],3)","v":"ACL"},{"$f":"VLOOKUP(Catalogue[[#This Row],[Alias]],#REF!,2,FALSE)","v":{"$error":"#REF!"}},null,"ACL029667","CARTE INVERTER DRIVE",null,null,"SDU05738500S","BALLON","A VIS","Ballon"]
["ACL029738",null,"PLATINE REGULATION 200L AV",null,null,{"$f":"LEFT(Catalogue[[#This Row],[Référence]],3)","v":"ACL"},{"$f":"VLOOKUP(Catalogue[[#This Row],[Alias]],#REF!,2,FALSE)","v":{"$error":"#REF!"}},null,"ACL029738","PLATINE REGULATION 200L AV",null,null,"SDU05738500S","BALLON","A CLIPS","Ballon"]
["ACL029739",null,"PLATINE REGULATION 200L SV",null,null,{"$f":"LEFT(Catalogue[[#This Row],[Référence]],3)","v":"ACL"},{"$f":"VLOOKUP(Catalogue[[#This Row],[Alias]],#REF!,2,FALSE)","v":{"$error":"#REF!"}},null,"ACL029739","PLATINE REGULATION 200L SV",null,null,"ELM87167620460S","BALLON 48L EGALIS","SONDE PLONGÉE","Ballon"]
["ACL029742",null,"KLIXON",null,null,{"$f":"LEFT(Catalogue[[#This Row],[Référence]],3)","v":"ACL"},{"$f":"VLOOKUP(Catalogue[[#This Row],[Alias]],#REF!,2,FALSE)","v":{"$error":"#REF!"}},null,"ACL029742","KLIXON",null,null,"ELM87167620460S","BALLON 48L EGALIS","SONDE APPLIQUE","Ballon"]
["ACL029744",null,"SONDES PAC AEX",null,null,{"$f":"LEFT(Catalogue[[#This Row],[Référence]],3)","v":"ACL"},{"$f":"VLOOKUP(Catalogue[[#This Row],[Alias]],#REF!,2,FALSE)","v":{"$error":"#REF!"}},null,"ACL029744","SONDES PAC AEX",null,null,"BDRJJJ005688340S","BALLON","GROSSE TRAPPE","Ballon"]
["ACL029997",null,"KIT CAPTEUR PRESSION + CARTE REGULATION",null,null,{"$f":"LEFT(Catalogue[[#This Row],[Référence]],3)","v":"ACL"},{"$f":"VLOOKUP(Catalogue[[#This Row],[Alias]],#REF!,2,FALSE)","v":{"$error":"#REF!"}},null,"ACL029997","KIT CAPTEUR PRESSION + CARTE REGULATION",null,null,"BDRJJJ005688340S","BALLON","PETITE TRAPPE","Ballon"]
["ACL030147",null,"CORPS DE CHAUFFE + JOINT ACI HYB.",null,null,{"$f":"LEFT(Catalogue[[#This Row],[Référence]],3)","v":"ACL"},{"$f":"VLOOKUP(Catalogue[[#This Row],[Alias]],#REF!,2,FALSE)","v":{"$error":"#REF!"}},null,"ACL030147","CORPS DE CHAUFFE + JOINT ACI HYB."]
["ACL030264",null,"SECURITE MECA 90DEG SBLC0049 + BARRETTES",null,null,{"$f":"LEFT(Catalogue[[#This Row],[Référence]],3)","v":"ACL"},{"$f":"VLOOKUP(Catalogue[[#This Row],[Alias]],#REF!,2,FALSE)","v":{"$error":"#REF!"}},null,"ACL030264","SECURITE MECA 90DEG SBLC0049 + BARRETTES"]
["ACL040374",null,"ANODE ACI + BOUCHON",null,null,{"$f":"LEFT(Catalogue[[#This Row],[Référence]],3)","v":"ACL"},{"$f":"VLOOKUP(Catalogue[[#This Row],[Alias]],#REF!,2,FALSE)","v":{"$error":"#REF!"}},null,"ACL040374","ANODE ACI + BOUCHON"]
["ACL060178",null,"RESISTANCE STEATITE 1800W 230V",null,null,{"$f":"LEFT(Catalogue[[#This Row],[Référence]],3)","v":"ACL"},{"$f":"VLOOKUP(Catalogue[[#This Row],[Alias]],#REF!,2,FALSE)","v":{"$error":"#REF!"}},null,"ACL060178","RESISTANCE STEATITE 1800W 230V"]
["ACL070327",null,"BOITIER ELECTRONIQUE DE REGULATION",null,null,{"$f":"LEFT(Catalogue[[#This Row],[Référence]],3)","v":"ACL"},{"$f":"VLOOKUP(Catalogue[[#This Row],[Alias]],#REF!,2,FALSE)","v":{"$error":"#REF!"}},null,"ACL070327","BOITIER ELECTRONIQUE DE REGULATION"]
["ACL082042",null,"CONDENSATEUR 5MF",null,null,{"$f":"LEFT(Catalogue[[#This Row],[Référence]],3)","v":"ACL"},{"$f":"VLOOKUP(Catalogue[[#This Row],[Alias]],#REF!,2,FALSE)","v":{"$error":"#REF!"}},null,"ACL082042","CONDENSATEUR 5MF"]
["ACL099060",null,"JOINT A LEVRE D.82MM",null,null,{"$f":"LEFT(Catalogue[[#This Row],[Référence]],3)","v":"ACL"},{"$f":"VLOOKUP(Catalogue[[#This Row],[Alias]],#REF!,2,FALSE)","v":{"$error":"#REF!"}},null,"ACL099060","JOINT A LEVRE D.82MM"]
["ACL123068",null,"VPI 100 S",null,null,{"$f":"LEFT(Catalogue[[#This Row],[Référence]],3)","v":"ACL"},{"$f":"VLOOKUP(Catalogue[[#This Row],[Alias]],#REF!,2,FALSE)","v":{"$error":"#REF!"}},null,"ACL123068","VPI 100 S"]
["ACL123183",null,"AIREA2 CUISINE",null,null,{"$f":"LEFT(Catalogue[[#This Row],[Référence]],3)","v":"ACL"},{"$f":"VLOOKUP(Catalogue[[#This Row],[Alias]],#REF!,2,FALSE)","v":{"$error":"#REF!"}},null,"ACL123183","AIREA2 CUISINE"]
["ACL123184",null,"AIREA2 15",null,null,{"$f":"LEFT(Catalogue[[#This Row],[Référence]],3)","v":"ACL"},{"$f":"VLOOKUP(Catalogue[[#This Row],[Alias]],#REF!,2,FALSE)","v":{"$error":"#REF!"}},null,"ACL123184","AIREA2 15"]
["ACL123185",null,"AIREA2 30",null,null,{"$f":"LEFT(Catalogue[[#This Row],[Référence]],3)","v":"ACL"},{"$f":"VLOOKUP(Catalogue[[#This Row],[Alias]],#REF!,2,FALSE)","v":{"$error":"#REF!"}},null,"ACL123185","AIREA2 30"]
["ACL123235",null,"CURV CONFORT 100",null,null,{"$f":"LEFT(Catalogue[[#This Row],[Référence]],3)","v":"ACL"},{"$f":"VLOOKUP(Catalogue[[#This Row],[Alias]],#REF!,2,FALSE)","v":{"$error":"#REF!"}},null,"ACL123235","CURV CONFORT 100"]
["ACL123237",null,"CURV CONFORT 100 HY",null,null,{"$f":"LEFT(Catalogue[[#This Row],[Référence]],3)","v":"ACL"},{"$f":"VLOOKUP(Catalogue[[#This Row],[Alias]],#REF!,2,FALSE)","v":{"$error":"#REF!"}},null,"ACL123237","CURV CONFORT 100 HY"]
["ACL123238",null,"CURV CONFORT 120 I",null,null,{"$f":"LEFT(Catalogue[[#This Row],[Référence]],3)","v":"ACL"},{"$f":"VLOOKUP(Catalogue[[#This Row],[Alias]],#REF!,2,FALSE)","v":{"$error":"#REF!"}},null,"ACL123238","CURV CONFORT 120 I"]
["ACL123239",null,"CURV GENIUS 100 IH",null,null,{"$f":"LEFT(Catalogue[[#This Row],[Référence]],3)","v":"ACL"},{"$f":"VLOOKUP(Catalogue[[#This Row],[Alias]],#REF!,2,FALSE)","v":{"$error":"#REF!"}},null,"ACL123239","CURV GENIUS 100 IH"]
["ACL123242",null,"CURV FLASH 100 I",null,null,{"$f":"LEFT(Catalogue[[#This Row],[Référence]],3)","v":"ACL"},{"$f":"VLOOKUP(Catalogue[[#This Row],[Alias]],#REF!,2,FALSE)","v":{"$error":"#REF!"}},null,"ACL123242","CURV FLASH 100 I"]
["ACL123243",null,"CURV FLASH 100 T",null,null,{"$f":"LEFT(Catalogue[[#This Row],[Référence]],3)","v":"ACL"},{"$f":"VLOOKUP(Catalogue[[#This Row],[Alias]],#REF!,2,FALSE)","v":{"$error":"#REF!"}},null,"ACL123243","CURV FLASH 100 T"]
["ACL123246",null,"CURV FLASH 120 I",null,null,{"$f":"LEFT(Catalogue[[#This Row],[Référence]],3)","v":"ACL"},{"$f":"VLOOKUP(Catalogue[[#This Row],[Alias]],#REF!,2,FALSE)","v":{"$error":"#REF!"}},null,"ACL123246","CURV FLASH 120 I"]
["ACL197122",null,"CARTE INTERFACE",null,null,{"$f":"LEFT(Catalogue[[#This Row],[Référence]],3)","v":"ACL"},{"$f":"VLOOKUP(Catalogue[[#This Row],[Alias]],#REF!,2,FALSE)","v":{"$error":"#REF!"}},null,"ACL197122","CARTE INTERFACE"]
["ACL308227",null,"KIT F7 S DUOTECH 3700",null,null,{"$f":"LEFT(Catalogue[[#This Row],[Référence]],3)","v":"ACL"},{"$f":"VLOOKUP(Catalogue[[#This Row],[Alias]],#REF!,2,FALSE)","v":{"$error":"#REF!"}},null,"ACL308227","KIT F7 S DUOTECH 3700"]
["ACL308236",null,"KIT G4 P/S DUOTECH 3700",null,null,{"$f":"LEFT(Catalogue[[#This Row],[Référence]],3)","v":"ACL"},{"$f":"VLOOKUP(Catalogue[[#This Row],[Alias]],#REF!,2,FALSE)","v":{"$error":"#REF!"}},null,"ACL308236","KIT G4 P/S DUOTECH 3700"]
["ACL308263",null,"KIT G4 R DUOTECH 3700",null,null,{"$f":"LEFT(Catalogue[[#This Row],[Référence]],3)","v":"ACL"},{"$f":"VLOOKUP(Catalogue[[#This Row],[Alias]],#REF!,2,FALSE)","v":{"$error":"#REF!"}},null,"ACL308263","KIT G4 R DUOTECH 3700"]
["ACL308581",null,"REGULATION AIRVENT PA 2500",null,null,{"$f":"LEFT(Catalogue[[#This Row],[Référence]],3)","v":"ACL"},{"$f":"VLOOKUP(Catalogue[[#This Row],[Alias]],#REF!,2,FALSE)","v":{"$error":"#REF!"}},null,"ACL308581","REGULATION AIRVENT PA 2500"]
["ACL308582",null,"VARIATEUR AIRVENT PC 4502",null,null,{"$f":"LEFT(Catalogue[[#This Row],[Référence]],3)","v":"ACL"},{"$f":"VLOOKUP(Catalogue[[#This Row],[Alias]],#REF!,2,FALSE)","v":{"$error":"#REF!"}},null,"ACL308582","VARIATEUR AIRVENT PC 4502"]
["ACL311010",null,"VAM 1.0",null,null,{"$f":"LEFT(Catalogue[[#This Row],[Référence]],3)","v":"ACL"},{"$f":"VLOOKUP(Catalogue[[#This Row],[Alias]],#REF!,2,FALSE)","v":{"$error":"#REF!"}},null,"ACL311010","VAM 1.0"]
["ACL350102",null,"AQUACOSY AV 200L",null,null,{"$f":"LEFT(Catalogue[[#This Row],[Référence]],3)","v":"ACL"},{"$f":"VLOOKUP(Catalogue[[#This Row],[Alias]],#REF!,2,FALSE)","v":{"$error":"#REF!"}},null,"ACL350102","AQUACOSY AV 200L"]
["ACL350104",null,"AQUACOSY SV 200L",null,null,{"$f":"LEFT(Catalogue[[#This Row],[Référence]],3)","v":"ACL"},{"$f":"VLOOKUP(Catalogue[[#This Row],[Alias]],#REF!,2,FALSE)","v":{"$error":"#REF!"}},null,"ACL350104","AQUACOSY SV 200L"]
["ACL412132",null,"FILT.AERAULIX",null,null,{"$f":"LEFT(Catalogue[[#This Row],[Référence]],3)","v":"ACL"},{"$f":"VLOOKUP(Catalogue[[#This Row],[Alias]],#REF!,2,FALSE)","v":{"$error":"#REF!"}},null,"ACL412132","FILT.AERAULIX"]
["ACL412190",null,"FILT PRIMOCOSY",null,null,{"$f":"LEFT(Catalogue[[#This Row],[Référence]],3)","v":"ACL"},{"$f":"VLOOKUP(Catalogue[[#This Row],[Alias]],#REF!,2,FALSE)","v":{"$error":"#REF!"}},null,"ACL412190","FILT PRIMOCOSY"]
["ACL412193",null,"FILTRES DUO",null,null,{"$f":"LEFT(Catalogue[[#This Row],[Référence]],3)","v":"ACL"},{"$f":"VLOOKUP(Catalogue[[#This Row],[Alias]],#REF!,2,FALSE)","v":{"$error":"#REF!"}},null,"ACL412193","FILTRES DUO"]
["ACL412219",null,"PB 80 LINE NP",null,null,{"$f":"LEFT(Catalogue[[#This Row],[Référence]],3)","v":"ACL"},{"$f":"VLOOKUP(Catalogue[[#This Row],[Alias]],#REF!,2,FALSE)","v":{"$error":"#REF!"}},null,"ACL412219","PB 80 LINE NP"]
["ACL412227",null,"GB 125 LINE NP",null,null,{"$f":"LEFT(Catalogue[[#This Row],[Référence]],3)","v":"ACL"},{"$f":"VLOOKUP(Catalogue[[#This Row],[Alias]],#REF!,2,FALSE)","v":{"$error":"#REF!"}},null,"ACL412227","GB 125 LINE NP"]
["ACL412231",null,"NEOCD 80 S",null,null,{"$f":"LEFT(Catalogue[[#This Row],[Référence]],3)","v":"ACL"},{"$f":"VLOOKUP(Catalogue[[#This Row],[Alias]],#REF!,2,FALSE)","v":{"$error":"#REF!"}},null,"ACL412231","NEOCD 80 S"]
["ACL412233",null,"NEOCD 80 HY",null,null,{"$f":"LEFT(Catalogue[[#This Row],[Référence]],3)","v":"ACL"},{"$f":"VLOOKUP(Catalogue[[#This Row],[Alias]],#REF!,2,FALSE)","v":{"$error":"#REF!"}},null,"ACL412233","NEOCD 80 HY"]
["ACL412236",null,"PRIMOCOSY HR BP",null,null,{"$f":"LEFT(Catalogue[[#This Row],[Référence]],3)","v":"ACL"},{"$f":"VLOOKUP(Catalogue[[#This Row],[Alias]],#REF!,2,FALSE)","v":{"$error":"#REF!"}},null,"ACL412236","PRIMOCOSY HR BP"]
["ACL412237",null,"PRIMOCOSY SRI BP",null,null,{"$f":"LEFT(Catalogue[[#This Row],[Référence]],3)","v":"ACL"},{"$f":"VLOOKUP(Catalogue[[#This Row],[Alias]],#REF!,2,FALSE)","v":{"$error":"#REF!"}},null,"ACL412237","PRIMOCOSY SRI BP"]
["ACL412278",null,"KT HYGRO BC FLEX +",null,null,{"$f":"LEFT(Catalogue[[#This Row],[Référence]],3)","v":"ACL"},{"$f":"VLOOKUP(Catalogue[[#This Row],[Alias]],#REF!,2,FALSE)","v":{"$error":"#REF!"}},null,"ACL412278","KT HYGRO BC FLEX +"]
["ACL412279",null,"GPE HYGRO BC FLEX",null,null,{"$f":"LEFT(Catalogue[[#This Row],[Référence]],3)","v":"ACL"},{"$f":"VLOOKUP(Catalogue[[#This Row],[Alias]],#REF!,2,FALSE)","v":{"$error":"#REF!"}},null,"ACL412279","GPE HYGRO BC FLEX"]
["ACL412287",null,"GPE AUTOCOSY",null,null,{"$f":"LEFT(Catalogue[[#This Row],[Référence]],3)","v":"ACL"},{"$f":"VLOOKUP(Catalogue[[#This Row],[Alias]],#REF!,2,FALSE)","v":{"$error":"#REF!"}},null,"ACL412287","GPE AUTOCOSY"]
["ACL412288",null,{"$f":"VLOOKUP(A66,I:J,2,0)","v":"KT AUTOCOSY"},null,null,{"$f":"LEFT(Catalogue[[#This Row],[Référence]],3)","v":"ACL"},{"$f":"VLOOKUP(Catalogue[[#This Row],[Alias]],#REF!,2,FALSE)","v":{"$error":"#REF!"}},null,"ACL412288","KT AUTOCOSY"]
["ACL412289",null,"KT AUTOCOSY IH",null,null,{"$f":"LEFT(Catalogue[[#This Row],[Référence]],3)","v":"ACL"},{"$f":"VLOOKUP(Catalogue[[#This Row],[Alias]],#REF!,2,FALSE)","v":{"$error":"#REF!"}},null,"ACL412289","KT AUTOCOSY IH"]
["ACL412290",null,"KT AUTOCOSY IH FLEX",null,null,{"$f":"LEFT(Catalogue[[#This Row],[Référence]],3)","v":"ACL"},{"$f":"VLOOKUP(Catalogue[[#This Row],[Alias]],#REF!,2,FALSE)","v":{"$error":"#REF!"}},null,"ACL412290","KT AUTOCOSY IH FLEX"]
["ACL412291",null,"GPE HYGROCOSY",null,null,{"$f":"LEFT(Catalogue[[#This Row],[Référence]],3)","v":"ACL"},{"$f":"VLOOKUP(Catalogue[[#This Row],[Alias]],#REF!,2,FALSE)","v":{"$error":"#REF!"}},null,"ACL412291","GPE HYGROCOSY"]
["ACL412292",null,"KT HYGROCOSY",null,null,{"$f":"LEFT(Catalogue[[#This Row],[Référence]],3)","v":"ACL"},{"$f":"VLOOKUP(Catalogue[[#This Row],[Alias]],#REF!,2,FALSE)","v":{"$error":"#REF!"}},null,"ACL412292","KT HYGROCOSY"]
["ACL412293",null,"GPE HYGROCOSY BC",null,null,{"$f":"LEFT(Catalogue[[#This Row],[Référence]],3)","v":"ACL"},{"$f":"VLOOKUP(Catalogue[[#This Row],[Alias]],#REF!,2,FALSE)","v":{"$error":"#REF!"}},null,"ACL412293","GPE HYGROCOSY BC"]
["ACL412294",null,"KT HYGROCOSY BC",null,null,{"$f":"LEFT(Catalogue[[#This Row],[Référence]],3)","v":"ACL"},{"$f":"VLOOKUP(Catalogue[[#This Row],[Alias]],#REF!,2,FALSE)","v":{"$error":"#REF!"}},null,"ACL412294","KT HYGROCOSY BC"]
["ACL412295",null,"KT HYGROCOSY FLEX",null,null,{"$f":"LEFT(Catalogue[[#This Row],[Référence]],3)","v":"ACL"},{"$f":"VLOOKUP(Catalogue[[#This Row],[Alias]],#REF!,2,FALSE)","v":{"$error":"#REF!"}},null,"ACL412295","KT HYGROCOSY FLEX"]
["ACL412319",null,"GPE HYGROCOSY BC 2",null,null,{"$f":"LEFT(Catalogue[[#This Row],[Référence]],3)","v":"ACL"},{"$f":"VLOOKUP(Catalogue[[#This Row],[Alias]],#REF!,2,FALSE)","v":{"$error":"#REF!"}},null,"ACL412319","GPE HYGROCOSY BC 2"]
["ACL412320",null,"KT HYGROCOSY BC 2",null,null,{"$f":"LEFT(Catalogue[[#This Row],[Référence]],3)","v":"ACL"},{"$f":"VLOOKUP(Catalogue[[#This Row],[Alias]],#REF!,2,FALSE)","v":{"$error":"#REF!"}},null,"ACL412320","KT HYGROCOSY BC 2"]
["ACL420931",null,"BOUTON POUSSOIR",null,null,{"$f":"LEFT(Catalogue[[#This Row],[Référence]],3)","v":"ACL"},{"$f":"VLOOKUP(Catalogue[[#This Row],[Alias]],#REF!,2,FALSE)","v":{"$error":"#REF!"}},null,"ACL420931","BOUTON POUSSOIR"]
["ACL422145",null,"PB 80 L",null,null,{"$f":"LEFT(Catalogue[[#This Row],[Référence]],3)","v":"ACL"},{"$f":"VLOOKUP(Catalogue[[#This Row],[Alias]],#REF!,2,FALSE)","v":{"$error":"#REF!"}},null,"ACL422145","PB 80 L"]
["ACL422147",null,"PB 80 NP",null,null,{"$f":"LEFT(Catalogue[[#This Row],[Référence]],3)","v":"ACL"},{"$f":"VLOOKUP(Catalogue[[#This Row],[Alias]],#REF!,2,FALSE)","v":{"$error":"#REF!"}},null,"ACL422147","PB 80 NP"]
["ACL422152",null,"GB 125 NP",null,null,{"$f":"LEFT(Catalogue[[#This Row],[Référence]],3)","v":"ACL"},{"$f":"VLOOKUP(Catalogue[[#This Row],[Alias]],#REF!,2,FALSE)","v":{"$error":"#REF!"}},null,"ACL422152","GB 125 NP"]
["ACL422222",null,"RP 100/80",null,null,{"$f":"LEFT(Catalogue[[#This Row],[Référence]],3)","v":"ACL"},{"$f":"VLOOKUP(Catalogue[[#This Row],[Alias]],#REF!,2,FALSE)","v":{"$error":"#REF!"}},null,"ACL422222","RP 100/80"]
["ACL422223",null,"RP 125/100",null,null,{"$f":"LEFT(Catalogue[[#This Row],[Référence]],3)","v":"ACL"},{"$f":"VLOOKUP(Catalogue[[#This Row],[Alias]],#REF!,2,FALSE)","v":{"$error":"#REF!"}},null,"ACL422223","RP 125/100"]
["ACL422728",null,"BHC 10/45/120 E",null,null,{"$f":"LEFT(Catalogue[[#This Row],[Référence]],3)","v":"ACL"},{"$f":"VLOOKUP(Catalogue[[#This Row],[Alias]],#REF!,2,FALSE)","v":{"$error":"#REF!"}},null,"ACL422728","BHC 10/45/120 E"]
["ACL422740",null,"BAWC 5/30 I",null,null,{"$f":"LEFT(Catalogue[[#This Row],[Référence]],3)","v":"ACL"},{"$f":"VLOOKUP(Catalogue[[#This Row],[Alias]],#REF!,2,FALSE)","v":{"$error":"#REF!"}},null,"ACL422740","BAWC 5/30 I"]
["ACL422744",null,"BH SDB 10/40",null,null,{"$f":"LEFT(Catalogue[[#This Row],[Référence]],3)","v":"ACL"},{"$f":"VLOOKUP(Catalogue[[#This Row],[Alias]],#REF!,2,FALSE)","v":{"$error":"#REF!"}},null,"ACL422744","BH SDB 10/40"]
["ACL422761",null,"BHPC 10/135 E",null,null,{"$f":"LEFT(Catalogue[[#This Row],[Référence]],3)","v":"ACL"},{"$f":"VLOOKUP(Catalogue[[#This Row],[Alias]],#REF!,2,FALSE)","v":{"$error":"#REF!"}},null,"ACL422761","BHPC 10/135 E"]
["ACL422769",null,"PBWC 5/30",null,null,{"$f":"LEFT(Catalogue[[#This Row],[Référence]],3)","v":"ACL"},{"$f":"VLOOKUP(Catalogue[[#This Row],[Alias]],#REF!,2,FALSE)","v":{"$error":"#REF!"}},null,"ACL422769","PBWC 5/30"]
["ACL422809",null,"RCP 160/125",null,null,{"$f":"LEFT(Catalogue[[#This Row],[Référence]],3)","v":"ACL"},{"$f":"VLOOKUP(Catalogue[[#This Row],[Alias]],#REF!,2,FALSE)","v":{"$error":"#REF!"}},null,"ACL422809","RCP 160/125"]
["ACL423027",null,"T 82 ALU CR 25",null,null,{"$f":"LEFT(Catalogue[[#This Row],[Référence]],3)","v":"ACL"},{"$f":"VLOOKUP(Catalogue[[#This Row],[Alias]],#REF!,2,FALSE)","v":{"$error":"#REF!"}},null,"ACL423027","T 82 ALU CR 25"]
["ACL423028",null,"T 127 ALU CR 25",null,null,{"$f":"LEFT(Catalogue[[#This Row],[Référence]],3)","v":"ACL"},{"$f":"VLOOKUP(Catalogue[[#This Row],[Alias]],#REF!,2,FALSE)","v":{"$error":"#REF!"}},null,"ACL423028","T 127 ALU CR 25"]
["ACL423050",null,"T 82 CR L6M",null,null,{"$f":"LEFT(Catalogue[[#This Row],[Référence]],3)","v":"ACL"},{"$f":"VLOOKUP(Catalogue[[#This Row],[Alias]],#REF!,2,FALSE)","v":{"$error":"#REF!"}},null,"ACL423050","T 82 CR L6M"]
["ACL423053",null,"T 127 CR L6M",null,null,{"$f":"LEFT(Catalogue[[#This Row],[Référence]],3)","v":"ACL"},{"$f":"VLOOKUP(Catalogue[[#This Row],[Alias]],#REF!,2,FALSE)","v":{"$error":"#REF!"}},null,"ACL423053","T 127 CR L6M"]
["ACL423060",null,"T162 ALU CR 50",null,null,{"$f":"LEFT(Catalogue[[#This Row],[Référence]],3)","v":"ACL"},{"$f":"VLOOKUP(Catalogue[[#This Row],[Alias]],#REF!,2,FALSE)","v":{"$error":"#REF!"}},null,"ACL423060","T162 ALU CR 50"]
["ACL423098",null,"FR NEODF X2",null,null,{"$f":"LEFT(Catalogue[[#This Row],[Référence]],3)","v":"ACL"},{"$f":"VLOOKUP(Catalogue[[#This Row],[Alias]],#REF!,2,FALSE)","v":{"$error":"#REF!"}},null,"ACL423098","FR NEODF X2"]
["ACL423360",null,"HEXAGAINE 80",null,null,{"$f":"LEFT(Catalogue[[#This Row],[Référence]],3)","v":"ACL"},{"$f":"VLOOKUP(Catalogue[[#This Row],[Alias]],#REF!,2,FALSE)","v":{"$error":"#REF!"}},null,"ACL423360","HEXAGAINE 80"]
["ACL423362",null,"HEXAGAINE 125",null,null,{"$f":"LEFT(Catalogue[[#This Row],[Référence]],3)","v":"ACL"},{"$f":"VLOOKUP(Catalogue[[#This Row],[Alias]],#REF!,2,FALSE)","v":{"$error":"#REF!"}},null,"ACL423362","HEXAGAINE 125"]
["ACL461001",null,"RD PE CR 160",null,null,{"$f":"LEFT(Catalogue[[#This Row],[Référence]],3)","v":"ACL"},{"$f":"VLOOKUP(Catalogue[[#This Row],[Alias]],#REF!,2,FALSE)","v":{"$error":"#REF!"}},null,"ACL461001","RD PE CR 160"]
["ACL511590",null,"CAISSON TERT.MONO 140W CRITAIR M5I     511590",null,null,{"$f":"LEFT(Catalogue[[#This Row],[Référence]],3)","v":"ACL"},{"$f":"VLOOKUP(Catalogue[[#This Row],[Alias]],#REF!,2,FALSE)","v":{"$error":"#REF!"}},null,"ACL511590","CAISSON TERT.MONO 140W CRITAIR M5I     511590"]
["ACL512472",null,"COPERNIC V 700",null,null,{"$f":"LEFT(Catalogue[[#This Row],[Référence]],3)","v":"ACL"},{"$f":"VLOOKUP(Catalogue[[#This Row],[Alias]],#REF!,2,FALSE)","v":{"$error":"#REF!"}},null,"ACL512472","COPERNIC V 700"]
["ACL512474",null,"COPERNIC V 1500",null,null,{"$f":"LEFT(Catalogue[[#This Row],[Référence]],3)","v":"ACL"},{"$f":"VLOOKUP(Catalogue[[#This Row],[Alias]],#REF!,2,FALSE)","v":{"$error":"#REF!"}},null,"ACL512474","COPERNIC V 1500"]
["ACL512475",null,"COPERNIC V 2500",null,null,{"$f":"LEFT(Catalogue[[#This Row],[Référence]],3)","v":"ACL"},{"$f":"VLOOKUP(Catalogue[[#This Row],[Alias]],#REF!,2,FALSE)","v":{"$error":"#REF!"}},null,"ACL512475","COPERNIC V 2500"]
["ACL515028",null,"COSMOS 3800",null,null,{"$f":"LEFT(Catalogue[[#This Row],[Référence]],3)","v":"ACL"},{"$f":"VLOOKUP(Catalogue[[#This Row],[Alias]],#REF!,2,FALSE)","v":{"$error":"#REF!"}},null,"ACL515028","COSMOS 3800"]
["ACL516023",null,"COMETE 1100",null,null,{"$f":"LEFT(Catalogue[[#This Row],[Référence]],3)","v":"ACL"},{"$f":"VLOOKUP(Catalogue[[#This Row],[Alias]],#REF!,2,FALSE)","v":{"$error":"#REF!"}},null,"ACL516023","COMETE 1100"]
["ACL516024",null,"COMETE 1500",null,null,{"$f":"LEFT(Catalogue[[#This Row],[Référence]],3)","v":"ACL"},{"$f":"VLOOKUP(Catalogue[[#This Row],[Alias]],#REF!,2,FALSE)","v":{"$error":"#REF!"}},null,"ACL516024","COMETE 1500"]
["ACL516026",null,"COMETE 2600",null,null,{"$f":"LEFT(Catalogue[[#This Row],[Référence]],3)","v":"ACL"},{"$f":"VLOOKUP(Catalogue[[#This Row],[Alias]],#REF!,2,FALSE)","v":{"$error":"#REF!"}},null,"ACL516026","COMETE 2600"]
["ACL516028",null,"COMETE 3800",null,null,{"$f":"LEFT(Catalogue[[#This Row],[Référence]],3)","v":"ACL"},{"$f":"VLOOKUP(Catalogue[[#This Row],[Alias]],#REF!,2,FALSE)","v":{"$error":"#REF!"}},null,"ACL516028","COMETE 3800"]
["ACL520290",null,"BE 45/105 J",null,null,{"$f":"LEFT(Catalogue[[#This Row],[Référence]],3)","v":"ACL"},{"$f":"VLOOKUP(Catalogue[[#This Row],[Alias]],#REF!,2,FALSE)","v":{"$error":"#REF!"}},null,"ACL520290","BE 45/105 J"]
["ACL520291",null,"BE 45/120 J",null,null,{"$f":"LEFT(Catalogue[[#This Row],[Référence]],3)","v":"ACL"},{"$f":"VLOOKUP(Catalogue[[#This Row],[Alias]],#REF!,2,FALSE)","v":{"$error":"#REF!"}},null,"ACL520291","BE 45/120 J"]
["ACL521000",null,"BN 15",null,null,{"$f":"LEFT(Catalogue[[#This Row],[Référence]],3)","v":"ACL"},{"$f":"VLOOKUP(Catalogue[[#This Row],[Alias]],#REF!,2,FALSE)","v":{"$error":"#REF!"}},null,"ACL521000","BN 15"]
["ACL521001",null,"BN 30",null,null,{"$f":"LEFT(Catalogue[[#This Row],[Référence]],3)","v":"ACL"},{"$f":"VLOOKUP(Catalogue[[#This Row],[Alias]],#REF!,2,FALSE)","v":{"$error":"#REF!"}},null,"ACL521001","BN 30"]
["ACL521011",null,"BN 20/75",null,null,{"$f":"LEFT(Catalogue[[#This Row],[Référence]],3)","v":"ACL"},{"$f":"VLOOKUP(Catalogue[[#This Row],[Alias]],#REF!,2,FALSE)","v":{"$error":"#REF!"}},null,"ACL521011","BN 20/75"]
["ACL521013",null,"BN 45/105",null,null,{"$f":"LEFT(Catalogue[[#This Row],[Référence]],3)","v":"ACL"},{"$f":"VLOOKUP(Catalogue[[#This Row],[Alias]],#REF!,2,FALSE)","v":{"$error":"#REF!"}},null,"ACL521013","BN 45/105"]
["ACL521014",null,"BN 45/120",null,null,{"$f":"LEFT(Catalogue[[#This Row],[Référence]],3)","v":"ACL"},{"$f":"VLOOKUP(Catalogue[[#This Row],[Alias]],#REF!,2,FALSE)","v":{"$error":"#REF!"}},null,"ACL521014","BN 45/120"]
["ACL522910",null,"IP 1V-20",null,null,{"$f":"LEFT(Catalogue[[#This Row],[Référence]],3)","v":"ACL"},{"$f":"VLOOKUP(Catalogue[[#This Row],[Alias]],#REF!,2,FALSE)","v":{"$error":"#REF!"}},null,"ACL522910","IP 1V-20"]
["ACL523521",null,"C 125/90",null,null,{"$f":"LEFT(Catalogue[[#This Row],[Référence]],3)","v":"ACL"},{"$f":"VLOOKUP(Catalogue[[#This Row],[Alias]],#REF!,2,FALSE)","v":{"$error":"#REF!"}},null,"ACL523521","C 125/90"]
["ACL523574",null,"SAH 8 (PAR 4)",null,null,{"$f":"LEFT(Catalogue[[#This Row],[Référence]],3)","v":"ACL"},{"$f":"VLOOKUP(Catalogue[[#This Row],[Alias]],#REF!,2,FALSE)","v":{"$error":"#REF!"}},null,"ACL523574","SAH 8 (PAR 4)"]
["ACL523712",null,"MRS 315",null,null,{"$f":"LEFT(Catalogue[[#This Row],[Référence]],3)","v":"ACL"},{"$f":"VLOOKUP(Catalogue[[#This Row],[Alias]],#REF!,2,FALSE)","v":{"$error":"#REF!"}},null,"ACL523712","MRS 315"]
["ACL523713",null,"MRS 400",null,null,{"$f":"LEFT(Catalogue[[#This Row],[Référence]],3)","v":"ACL"},{"$f":"VLOOKUP(Catalogue[[#This Row],[Alias]],#REF!,2,FALSE)","v":{"$error":"#REF!"}},null,"ACL523713","MRS 400"]
["ACL523717",null,"BA 55",null,null,{"$f":"LEFT(Catalogue[[#This Row],[Référence]],3)","v":"ACL"},{"$f":"VLOOKUP(Catalogue[[#This Row],[Alias]],#REF!,2,FALSE)","v":{"$error":"#REF!"}},null,"ACL523717","BA 55"]
["ACL523778",null,"T 315/3 AGR",null,null,{"$f":"LEFT(Catalogue[[#This Row],[Référence]],3)","v":"ACL"},{"$f":"VLOOKUP(Catalogue[[#This Row],[Alias]],#REF!,2,FALSE)","v":{"$error":"#REF!"}},null,"ACL523778","T 315/3 AGR"]
["ACL523800",null,"PS 125/125",null,null,{"$f":"LEFT(Catalogue[[#This Row],[Référence]],3)","v":"ACL"},{"$f":"VLOOKUP(Catalogue[[#This Row],[Alias]],#REF!,2,FALSE)","v":{"$error":"#REF!"}},null,"ACL523800","PS 125/125"]
["ACL523997",null,"DEPR/G",null,null,{"$f":"LEFT(Catalogue[[#This Row],[Référence]],3)","v":"ACL"},{"$f":"VLOOKUP(Catalogue[[#This Row],[Alias]],#REF!,2,FALSE)","v":{"$error":"#REF!"}},null,"ACL523997","DEPR/G"]
["ACL524743",null,"T 160 CMO-P/25 M0/M1",null,null,{"$f":"LEFT(Catalogue[[#This Row],[Référence]],3)","v":"ACL"},{"$f":"VLOOKUP(Catalogue[[#This Row],[Alias]],#REF!,2,FALSE)","v":{"$error":"#REF!"}},null,"ACL524743","T 160 CMO-P/25 M0/M1"]
["ACL524744",null,"T 200 CMO-P/25 M0/M1",null,null,{"$f":"LEFT(Catalogue[[#This Row],[Référence]],3)","v":"ACL"},{"$f":"VLOOKUP(Catalogue[[#This Row],[Alias]],#REF!,2,FALSE)","v":{"$error":"#REF!"}},null,"ACL524744","T 200 CMO-P/25 M0/M1"]
["ACL526372",null,"BHC 10/45-105M 125L",null,null,{"$f":"LEFT(Catalogue[[#This Row],[Référence]],3)","v":"ACL"},{"$f":"VLOOKUP(Catalogue[[#This Row],[Alias]],#REF!,2,FALSE)","v":{"$error":"#REF!"}},null,"ACL526372","BHC 10/45-105M 125L"]
["ACL526380",null,"BHC 10/45-105EBI125L",null,null,{"$f":"LEFT(Catalogue[[#This Row],[Référence]],3)","v":"ACL"},{"$f":"VLOOKUP(Catalogue[[#This Row],[Alias]],#REF!,2,FALSE)","v":{"$error":"#REF!"}},null,"ACL526380","BHC 10/45-105EBI125L"]
["ACL526392",null,"BAW 5-30M 125L",null,null,{"$f":"LEFT(Catalogue[[#This Row],[Référence]],3)","v":"ACL"},{"$f":"VLOOKUP(Catalogue[[#This Row],[Alias]],#REF!,2,FALSE)","v":{"$error":"#REF!"}},null,"ACL526392","BAW 5-30M 125L"]
["ACL526393",null,"BAW 5-30PP 125L",null,null,{"$f":"LEFT(Catalogue[[#This Row],[Référence]],3)","v":"ACL"},{"$f":"VLOOKUP(Catalogue[[#This Row],[Alias]],#REF!,2,FALSE)","v":{"$error":"#REF!"}},null,"ACL526393","BAW 5-30PP 125L"]
["ACL526427",null,"BHC 10/40-90FBI 125L",null,null,{"$f":"LEFT(Catalogue[[#This Row],[Référence]],3)","v":"ACL"},{"$f":"VLOOKUP(Catalogue[[#This Row],[Alias]],#REF!,2,FALSE)","v":{"$error":"#REF!"}},null,"ACL526427","BHC 10/40-90FBI 125L"]
["ACL526512",null,"EH 5/45 - 37 BL",null,null,{"$f":"LEFT(Catalogue[[#This Row],[Référence]],3)","v":"ACL"},{"$f":"VLOOKUP(Catalogue[[#This Row],[Alias]],#REF!,2,FALSE)","v":{"$error":"#REF!"}},null,"ACL526512","EH 5/45 - 37 BL"]
["ACL526555",null,{"$f":"VLOOKUP(A130,I:J,2,0)","v":"BHC 10/40-90EBI 125G"},null,null,{"$f":"LEFT(Catalogue[[#This Row],[Référence]],3)","v":"ACL"},{"$f":"VLOOKUP(Catalogue[[#This Row],[Alias]],#REF!,2,FALSE)","v":{"$error":"#REF!"}},null,"ACL526555","BHC 10/40-90EBI 125G"]
["ACL526571",null,"BHB 15/45 80G",null,null,{"$f":"LEFT(Catalogue[[#This Row],[Référence]],3)","v":"ACL"},{"$f":"VLOOKUP(Catalogue[[#This Row],[Alias]],#REF!,2,FALSE)","v":{"$error":"#REF!"}},null,"ACL526571","BHB 15/45 80G"]
["ACL526586",null,"KIT BHBW 15/45PP 80G",null,null,{"$f":"LEFT(Catalogue[[#This Row],[Référence]],3)","v":"ACL"},{"$f":"VLOOKUP(Catalogue[[#This Row],[Alias]],#REF!,2,FALSE)","v":{"$error":"#REF!"}},null,"ACL526586","KIT BHBW 15/45PP 80G"]
["ACL526592",null,"BAW 5-30M 80G",null,null,{"$f":"LEFT(Catalogue[[#This Row],[Référence]],3)","v":"ACL"},{"$f":"VLOOKUP(Catalogue[[#This Row],[Alias]],#REF!,2,FALSE)","v":{"$error":"#REF!"}},null,"ACL526592","BAW 5-30M 80G"]
["ACL526594",null,"BAW 5-30PP 80G",null,null,{"$f":"LEFT(Catalogue[[#This Row],[Référence]],3)","v":"ACL"},{"$f":"VLOOKUP(Catalogue[[#This Row],[Alias]],#REF!,2,FALSE)","v":{"$error":"#REF!"}},null,"ACL526594","BAW 5-30PP 80G"]
["ACL526595",null,"KIT BAW 5-30PP 80G",null,null,{"$f":"LEFT(Catalogue[[#This Row],[Référence]],3)","v":"ACL"},{"$f":"VLOOKUP(Catalogue[[#This Row],[Alias]],#REF!,2,FALSE)","v":{"$error":"#REF!"}},null,"ACL526595","KIT BAW 5-30PP 80G"]
["ACL526598",null,"BAW 5-30EP 80G",null,null,{"$f":"LEFT(Catalogue[[#This Row],[Référence]],3)","v":"ACL"},{"$f":"VLOOKUP(Catalogue[[#This Row],[Alias]],#REF!,2,FALSE)","v":{"$error":"#REF!"}},null,"ACL526598","BAW 5-30EP 80G"]
["ACL526599",null,"KIT BAW 5-30EP 80G",null,null,{"$f":"LEFT(Catalogue[[#This Row],[Référence]],3)","v":"ACL"},{"$f":"VLOOKUP(Catalogue[[#This Row],[Alias]],#REF!,2,FALSE)","v":{"$error":"#REF!"}},null,"ACL526599","KIT BAW 5-30EP 80G"]
["ACL526600",null,"BAW 5-30EB 80G",null,null,{"$f":"LEFT(Catalogue[[#This Row],[Référence]],3)","v":"ACL"},{"$f":"VLOOKUP(Catalogue[[#This Row],[Alias]],#REF!,2,FALSE)","v":{"$error":"#REF!"}},null,"ACL526600","BAW 5-30EB 80G"]
["ACL526602",null,"EHC 5/45+G-34 BL",null,null,{"$f":"LEFT(Catalogue[[#This Row],[Référence]],3)","v":"ACL"},{"$f":"VLOOKUP(Catalogue[[#This Row],[Alias]],#REF!,2,FALSE)","v":{"$error":"#REF!"}},null,"ACL526602","EHC 5/45+G-34 BL"]
["ACL528516",null,"LSD-PL 2X558 B",null,null,{"$f":"LEFT(Catalogue[[#This Row],[Référence]],3)","v":"ACL"},{"$f":"VLOOKUP(Catalogue[[#This Row],[Alias]],#REF!,2,FALSE)","v":{"$error":"#REF!"}},null,"ACL528516","LSD-PL 2X558 B"]
["ACL529356",null,"RMT 315 J",null,null,{"$f":"LEFT(Catalogue[[#This Row],[Référence]],3)","v":"ACL"},{"$f":"VLOOKUP(Catalogue[[#This Row],[Alias]],#REF!,2,FALSE)","v":{"$error":"#REF!"}},null,"ACL529356","RMT 315 J"]
["ACL531287",null,"MRS-XL 315",null,null,{"$f":"LEFT(Catalogue[[#This Row],[Référence]],3)","v":"ACL"},{"$f":"VLOOKUP(Catalogue[[#This Row],[Alias]],#REF!,2,FALSE)","v":{"$error":"#REF!"}},null,"ACL531287","MRS-XL 315"]
["ACL531288",null,"MRS-XL 355",null,null,{"$f":"LEFT(Catalogue[[#This Row],[Référence]],3)","v":"ACL"},{"$f":"VLOOKUP(Catalogue[[#This Row],[Alias]],#REF!,2,FALSE)","v":{"$error":"#REF!"}},null,"ACL531288","MRS-XL 355"]
["ACL531289",null,"MRS-XL 400",null,null,{"$f":"LEFT(Catalogue[[#This Row],[Référence]],3)","v":"ACL"},{"$f":"VLOOKUP(Catalogue[[#This Row],[Alias]],#REF!,2,FALSE)","v":{"$error":"#REF!"}},null,"ACL531289","MRS-XL 400"]
["ACL533258",null,"MIC 225/25",null,null,{"$f":"LEFT(Catalogue[[#This Row],[Référence]],3)","v":"ACL"},{"$f":"VLOOKUP(Catalogue[[#This Row],[Alias]],#REF!,2,FALSE)","v":{"$error":"#REF!"}},null,"ACL533258","MIC 225/25"]
["ACL535376",null,"PLEN IS 2F.L558",null,null,{"$f":"LEFT(Catalogue[[#This Row],[Référence]],3)","v":"ACL"},{"$f":"VLOOKUP(Catalogue[[#This Row],[Alias]],#REF!,2,FALSE)","v":{"$error":"#REF!"}},null,"ACL535376","PLEN IS 2F.L558"]
["ACL535993",null,"BBG-ABS 300X150",null,null,{"$f":"LEFT(Catalogue[[#This Row],[Référence]],3)","v":"ACL"},{"$f":"VLOOKUP(Catalogue[[#This Row],[Alias]],#REF!,2,FALSE)","v":{"$error":"#REF!"}},null,"ACL535993","BBG-ABS 300X150"]
["ACL535995",null,"BBG-ABS 400X150",null,null,{"$f":"LEFT(Catalogue[[#This Row],[Référence]],3)","v":"ACL"},{"$f":"VLOOKUP(Catalogue[[#This Row],[Alias]],#REF!,2,FALSE)","v":{"$error":"#REF!"}},null,"ACL535995","BBG-ABS 400X150"]
["ACL535996",null,"GDF-ABS 400X200",null,null,{"$f":"LEFT(Catalogue[[#This Row],[Référence]],3)","v":"ACL"},{"$f":"VLOOKUP(Catalogue[[#This Row],[Alias]],#REF!,2,FALSE)","v":{"$error":"#REF!"}},null,"ACL535996","GDF-ABS 400X200"]
["ACL536792",null,"CLIP BBG-ABS",null,null,{"$f":"LEFT(Catalogue[[#This Row],[Référence]],3)","v":"ACL"},{"$f":"VLOOKUP(Catalogue[[#This Row],[Alias]],#REF!,2,FALSE)","v":{"$error":"#REF!"}},null,"ACL536792","CLIP BBG-ABS"]
["ACL542439",null,"BHC 10/45-120M 125L",null,null,{"$f":"LEFT(Catalogue[[#This Row],[Référence]],3)","v":"ACL"},{"$f":"VLOOKUP(Catalogue[[#This Row],[Alias]],#REF!,2,FALSE)","v":{"$error":"#REF!"}},null,"ACL542439","BHC 10/45-120M 125L"]
["ACL542444",null,"BHC 10/45-120EBI125L",null,null,{"$f":"LEFT(Catalogue[[#This Row],[Référence]],3)","v":"ACL"},{"$f":"VLOOKUP(Catalogue[[#This Row],[Alias]],#REF!,2,FALSE)","v":{"$error":"#REF!"}},null,"ACL542444","BHC 10/45-120EBI125L"]
["ACL542449",null,"BHC 10/45-120PB 125L",null,null,{"$f":"LEFT(Catalogue[[#This Row],[Référence]],3)","v":"ACL"},{"$f":"VLOOKUP(Catalogue[[#This Row],[Alias]],#REF!,2,FALSE)","v":{"$error":"#REF!"}},null,"ACL542449","BHC 10/45-120PB 125L"]
["ACL542457",null,"BHC 6/40-90M O",null,null,{"$f":"LEFT(Catalogue[[#This Row],[Référence]],3)","v":"ACL"},{"$f":"VLOOKUP(Catalogue[[#This Row],[Alias]],#REF!,2,FALSE)","v":{"$error":"#REF!"}},null,"ACL542457","BHC 6/40-90M O"]
["ACL542462",null,"BHB 5/40 125L",null,null,{"$f":"LEFT(Catalogue[[#This Row],[Référence]],3)","v":"ACL"},{"$f":"VLOOKUP(Catalogue[[#This Row],[Alias]],#REF!,2,FALSE)","v":{"$error":"#REF!"}},null,"ACL542462","BHB 5/40 125L"]
["ACL542464",null,"BHB 10/40 125L",null,null,{"$f":"LEFT(Catalogue[[#This Row],[Référence]],3)","v":"ACL"},{"$f":"VLOOKUP(Catalogue[[#This Row],[Alias]],#REF!,2,FALSE)","v":{"$error":"#REF!"}},null,"ACL542464","BHB 10/40 125L"]
["ACL542465",null,"BHB 10/45 125L",null,null,{"$f":"LEFT(Catalogue[[#This Row],[Référence]],3)","v":"ACL"},{"$f":"VLOOKUP(Catalogue[[#This Row],[Alias]],#REF!,2,FALSE)","v":{"$error":"#REF!"}},null,"ACL542465","BHB 10/45 125L"]
["ACL542472",null,"BHB 10/40 O",null,null,{"$f":"LEFT(Catalogue[[#This Row],[Référence]],3)","v":"ACL"},{"$f":"VLOOKUP(Catalogue[[#This Row],[Alias]],#REF!,2,FALSE)","v":{"$error":"#REF!"}},null,"ACL542472","BHB 10/40 O"]
["ACL542568",null,"BHC 10/45-135M 125G",null,null,{"$f":"LEFT(Catalogue[[#This Row],[Référence]],3)","v":"ACL"},{"$f":"VLOOKUP(Catalogue[[#This Row],[Alias]],#REF!,2,FALSE)","v":{"$error":"#REF!"}},null,"ACL542568","BHC 10/45-135M 125G"]
["ACL542569",null,"BHC 10/45-135PB 125G",null,null,{"$f":"LEFT(Catalogue[[#This Row],[Référence]],3)","v":"ACL"},{"$f":"VLOOKUP(Catalogue[[#This Row],[Alias]],#REF!,2,FALSE)","v":{"$error":"#REF!"}},null,"ACL542569","BHC 10/45-135PB 125G"]
["ACL542570",null,"BHC 10/45-135EBI 125G",null,null,{"$f":"LEFT(Catalogue[[#This Row],[Référence]],3)","v":"ACL"},{"$f":"VLOOKUP(Catalogue[[#This Row],[Alias]],#REF!,2,FALSE)","v":{"$error":"#REF!"}},null,"ACL542570","BHC 10/45-135EBI 125G"]
["ACL542576",null,"KIT BHB 10/40 80G",null,null,{"$f":"LEFT(Catalogue[[#This Row],[Référence]],3)","v":"ACL"},{"$f":"VLOOKUP(Catalogue[[#This Row],[Alias]],#REF!,2,FALSE)","v":{"$error":"#REF!"}},null,"ACL542576","KIT BHB 10/40 80G"]
["ACL542585",null,"BHB 5/40 80G",null,null,{"$f":"LEFT(Catalogue[[#This Row],[Référence]],3)","v":"ACL"},{"$f":"VLOOKUP(Catalogue[[#This Row],[Alias]],#REF!,2,FALSE)","v":{"$error":"#REF!"}},null,"ACL542585","BHB 5/40 80G"]
["ACL542587",null,"BHB 10/40 80G",null,null,{"$f":"LEFT(Catalogue[[#This Row],[Référence]],3)","v":"ACL"},{"$f":"VLOOKUP(Catalogue[[#This Row],[Alias]],#REF!,2,FALSE)","v":{"$error":"#REF!"}},null,"ACL542587","BHB 10/40 80G"]
["ACL542588",null,"BHB 10/45 80G",null,null,{"$f":"LEFT(Catalogue[[#This Row],[Référence]],3)","v":"ACL"},{"$f":"VLOOKUP(Catalogue[[#This Row],[Alias]],#REF!,2,FALSE)","v":{"$error":"#REF!"}},null,"ACL542588","BHB 10/45 80G"]
["ACL543048",null,"PP 560",null,null,{"$f":"LEFT(Catalogue[[#This Row],[Référence]],3)","v":"ACL"},{"$f":"VLOOKUP(Catalogue[[#This Row],[Alias]],#REF!,2,FALSE)","v":{"$error":"#REF!"}},null,"ACL543048","PP 560"]
["ACL543771",null,"RM 160",null,null,{"$f":"LEFT(Catalogue[[#This Row],[Référence]],3)","v":"ACL"},{"$f":"VLOOKUP(Catalogue[[#This Row],[Alias]],#REF!,2,FALSE)","v":{"$error":"#REF!"}},null,"ACL543771","RM 160"]
["ACL543772",null,"RM 200",null,null,{"$f":"LEFT(Catalogue[[#This Row],[Référence]],3)","v":"ACL"},{"$f":"VLOOKUP(Catalogue[[#This Row],[Alias]],#REF!,2,FALSE)","v":{"$error":"#REF!"}},null,"ACL543772","RM 200"]
["ACL809030",null,"UTY-RSRY",null,null,{"$f":"LEFT(Catalogue[[#This Row],[Référence]],3)","v":"ACL"},{"$f":"VLOOKUP(Catalogue[[#This Row],[Alias]],#REF!,2,FALSE)","v":{"$error":"#REF!"}},null,"ACL809030","UTY-RSRY"]
["ACL809034",null,"UTY-RCRYZ1",null,null,{"$f":"LEFT(Catalogue[[#This Row],[Référence]],3)","v":"ACL"},{"$f":"VLOOKUP(Catalogue[[#This Row],[Alias]],#REF!,2,FALSE)","v":{"$error":"#REF!"}},null,"ACL809034","UTY-RCRYZ1"]
["ACL809448",null,"UTY-LNHY",null,null,{"$f":"LEFT(Catalogue[[#This Row],[Référence]],3)","v":"ACL"},{"$f":"VLOOKUP(Catalogue[[#This Row],[Alias]],#REF!,2,FALSE)","v":{"$error":"#REF!"}},null,"ACL809448","UTY-LNHY"]
["ACL809536",null,"SNC 600",null,null,{"$f":"LEFT(Catalogue[[#This Row],[Référence]],3)","v":"ACL"},{"$f":"VLOOKUP(Catalogue[[#This Row],[Alias]],#REF!,2,FALSE)","v":{"$error":"#REF!"}},null,"ACL809536","SNC 600"]
["ACL809538",null,"SRB 400 (PAR 4)",null,null,{"$f":"LEFT(Catalogue[[#This Row],[Référence]],3)","v":"ACL"},{"$f":"VLOOKUP(Catalogue[[#This Row],[Alias]],#REF!,2,FALSE)","v":{"$error":"#REF!"}},null,"ACL809538","SRB 400 (PAR 4)"]
["ACL809644",null,"TRACEUR FOND DE BAC",null,null,{"$f":"LEFT(Catalogue[[#This Row],[Référence]],3)","v":"ACL"},{"$f":"VLOOKUP(Catalogue[[#This Row],[Alias]],#REF!,2,FALSE)","v":{"$error":"#REF!"}},null,"ACL809644","TRACEUR FOND DE BAC"]
["ACL809803",null,"PIQUAGE D200X4",null,null,{"$f":"LEFT(Catalogue[[#This Row],[Référence]],3)","v":"ACL"},{"$f":"VLOOKUP(Catalogue[[#This Row],[Alias]],#REF!,2,FALSE)","v":{"$error":"#REF!"}},null,"ACL809803","PIQUAGE D200X4"]
["ACL809906",null,"B4 X 200 L/U",null,null,{"$f":"LEFT(Catalogue[[#This Row],[Référence]],3)","v":"ACL"},{"$f":"VLOOKUP(Catalogue[[#This Row],[Alias]],#REF!,2,FALSE)","v":{"$error":"#REF!"}},null,"ACL809906","B4 X 200 L/U"]
["ACL809917",null,"BRIDE B2 X 200 S2",null,null,{"$f":"LEFT(Catalogue[[#This Row],[Référence]],3)","v":"ACL"},{"$f":"VLOOKUP(Catalogue[[#This Row],[Alias]],#REF!,2,FALSE)","v":{"$error":"#REF!"}},null,"ACL809917","BRIDE B2 X 200 S2"]
["ACL809926",null,"ER 18/30",null,null,{"$f":"LEFT(Catalogue[[#This Row],[Référence]],3)","v":"ACL"},{"$f":"VLOOKUP(Catalogue[[#This Row],[Alias]],#REF!,2,FALSE)","v":{"$error":"#REF!"}},null,"ACL809926","ER 18/30"]
["ACL852012",null,"ASYG 12 LU.UI",null,null,{"$f":"LEFT(Catalogue[[#This Row],[Référence]],3)","v":"ACL"},{"$f":"VLOOKUP(Catalogue[[#This Row],[Alias]],#REF!,2,FALSE)","v":{"$error":"#REF!"}},null,"ACL852012","ASYG 12 LU.UI"]
["ACL852318",null,"ASYG 18 LFC.UI",null,null,{"$f":"LEFT(Catalogue[[#This Row],[Référence]],3)","v":"ACL"},{"$f":"VLOOKUP(Catalogue[[#This Row],[Alias]],#REF!,2,FALSE)","v":{"$error":"#REF!"}},null,"ACL852318","ASYG 18 LFC.UI"]
["ACL858607",null,"AUYG 7 LVLA.UI",null,null,{"$f":"LEFT(Catalogue[[#This Row],[Référence]],3)","v":"ACL"},{"$f":"VLOOKUP(Catalogue[[#This Row],[Alias]],#REF!,2,FALSE)","v":{"$error":"#REF!"}},null,"ACL858607","AUYG 7 LVLA.UI"]
["ACL866214",null,"AOYG 14 LAC2.UE",null,null,{"$f":"LEFT(Catalogue[[#This Row],[Référence]],3)","v":"ACL"},{"$f":"VLOOKUP(Catalogue[[#This Row],[Alias]],#REF!,2,FALSE)","v":{"$error":"#REF!"}},null,"ACL866214","AOYG 14 LAC2.UE"]
["ACL866218",null,"AOYG 18 LAC2.UE - UNITE EXTERIEURE CLIMATISEUR MULTI-SPLITS 5000W",null,null,{"$f":"LEFT(Catalogue[[#This Row],[Référence]],3)","v":"ACL"},{"$f":"VLOOKUP(Catalogue[[#This Row],[Alias]],#REF!,2,FALSE)","v":{"$error":"#REF!"}},null,"ACL866218","AOYG 18 LAC2.UE - UNITE EXTERIEURE CLIMATISEUR MULTI-SPLITS 5000W"]
["ACL868118",null,"AOYG 18 LAT3.UE",null,null,{"$f":"LEFT(Catalogue[[#This Row],[Référence]],3)","v":"ACL"},{"$f":"VLOOKUP(Catalogue[[#This Row],[Alias]],#REF!,2,FALSE)","v":{"$error":"#REF!"}},null,"ACL868118","AOYG 18 LAT3.UE"]
["ACL868124",null,"AOYG 24 LAT3.UE",null,null,{"$f":"LEFT(Catalogue[[#This Row],[Référence]],3)","v":"ACL"},{"$f":"VLOOKUP(Catalogue[[#This Row],[Alias]],#REF!,2,FALSE)","v":{"$error":"#REF!"}},null,"ACL868124","AOYG 24 LAT3.UE"]
["ACL868130",null,"AOYG 30 LAT4.UE",null,null,{"$f":"LEFT(Catalogue[[#This Row],[Référence]],3)","v":"ACL"},{"$f":"VLOOKUP(Catalogue[[#This Row],[Alias]],#REF!,2,FALSE)","v":{"$error":"#REF!"}},null,"ACL868130","AOYG 30 LAT4.UE"]
["ACL872030",null,"1U 012 DBRB.UE",null,null,{"$f":"LEFT(Catalogue[[#This Row],[Référence]],3)","v":"ACL"},{"$f":"VLOOKUP(Catalogue[[#This Row],[Alias]],#REF!,2,FALSE)","v":{"$error":"#REF!"}},null,"ACL872030","1U 012 DBRB.UE"]
["ACL872054",null,"AOYG 9 LMCE.UE",null,null,{"$f":"LEFT(Catalogue[[#This Row],[Référence]],3)","v":"ACL"},{"$f":"VLOOKUP(Catalogue[[#This Row],[Alias]],#REF!,2,FALSE)","v":{"$error":"#REF!"}},null,"ACL872054","AOYG 9 LMCE.UE"]
["ACL872056",null,"AOYG 14 LMCE.UE",null,null,{"$f":"LEFT(Catalogue[[#This Row],[Référence]],3)","v":"ACL"},{"$f":"VLOOKUP(Catalogue[[#This Row],[Alias]],#REF!,2,FALSE)","v":{"$error":"#REF!"}},null,"ACL872056","AOYG 14 LMCE.UE"]
["ACL872059",null,"AOYG 12 LLCE.UE - UNITE EXTERIEURE CLIMATISEUR MURAL LLCE 3400W",null,null,{"$f":"LEFT(Catalogue[[#This Row],[Référence]],3)","v":"ACL"},{"$f":"VLOOKUP(Catalogue[[#This Row],[Alias]],#REF!,2,FALSE)","v":{"$error":"#REF!"}},null,"ACL872059","AOYG 12 LLCE.UE - UNITE EXTERIEURE CLIMATISEUR MURAL LLCE 3400W"]
["ACL872062",null,"AOYG 12 KGC.UE",null,null,{"$f":"LEFT(Catalogue[[#This Row],[Référence]],3)","v":"ACL"},{"$f":"VLOOKUP(Catalogue[[#This Row],[Alias]],#REF!,2,FALSE)","v":{"$error":"#REF!"}},null,"ACL872062","AOYG 12 KGC.UE"]
["ACL872066",null,"AOYG 36 LBLA5.UE",null,null,{"$f":"LEFT(Catalogue[[#This Row],[Référence]],3)","v":"ACL"},{"$f":"VLOOKUP(Catalogue[[#This Row],[Alias]],#REF!,2,FALSE)","v":{"$error":"#REF!"}},null,"ACL872066","AOYG 36 LBLA5.UE"]
["ACL872074",null,"AOYG 18 LBCB.UE",null,null,{"$f":"LEFT(Catalogue[[#This Row],[Référence]],3)","v":"ACL"},{"$f":"VLOOKUP(Catalogue[[#This Row],[Alias]],#REF!,2,FALSE)","v":{"$error":"#REF!"}},null,"ACL872074","AOYG 18 LBCB.UE"]
["ACL872083",null,{"$f":"VLOOKUP(A194,I:J,2,0)","v":"AOYG 18 KBTB.UE"},null,null,{"$f":"LEFT(Catalogue[[#This Row],[Référence]],3)","v":"ACL"},{"$f":"VLOOKUP(Catalogue[[#This Row],[Alias]],#REF!,2,FALSE)","v":{"$error":"#REF!"}},null,"ACL872083","AOYG 18 KBTB.UE"]
["ACL872085",null,"AOYG 24 KBTB.UE",null,null,{"$f":"LEFT(Catalogue[[#This Row],[Référence]],3)","v":"ACL"},{"$f":"VLOOKUP(Catalogue[[#This Row],[Alias]],#REF!,2,FALSE)","v":{"$error":"#REF!"}},null,"ACL872085","AOYG 24 KBTB.UE"]
["ACL872090",null,"AOYG 7 KPC.UE",null,null,{"$f":"LEFT(Catalogue[[#This Row],[Référence]],3)","v":"ACL"},{"$f":"VLOOKUP(Catalogue[[#This Row],[Alias]],#REF!,2,FALSE)","v":{"$error":"#REF!"}},null,"ACL872090","AOYG 7 KPC.UE"]
["ACL872091",null,"AOYG 9 KPC.UE",null,null,{"$f":"LEFT(Catalogue[[#This Row],[Référence]],3)","v":"ACL"},{"$f":"VLOOKUP(Catalogue[[#This Row],[Alias]],#REF!,2,FALSE)","v":{"$error":"#REF!"}},null,"ACL872091","AOYG 9 KPC.UE"]
["ACL872092",null,"AOYG 12 KPC.UE",null,null,{"$f":"LEFT(Catalogue[[#This Row],[Référence]],3)","v":"ACL"},{"$f":"VLOOKUP(Catalogue[[#This Row],[Alias]],#REF!,2,FALSE)","v":{"$error":"#REF!"}},null,"ACL872092","AOYG 12 KPC.UE"]
["ACL872093",null,"AOYG 18 KMT.UE",null,null,{"$f":"LEFT(Catalogue[[#This Row],[Référence]],3)","v":"ACL"},{"$f":"VLOOKUP(Catalogue[[#This Row],[Alias]],#REF!,2,FALSE)","v":{"$error":"#REF!"}},null,"ACL872093","AOYG 18 KMT.UE"]
["ACL872094",null,"AOYG 24 KMT.UE",null,null,{"$f":"LEFT(Catalogue[[#This Row],[Référence]],3)","v":"ACL"},{"$f":"VLOOKUP(Catalogue[[#This Row],[Alias]],#REF!,2,FALSE)","v":{"$error":"#REF!"}},null,"ACL872094","AOYG 24 KMT.UE"]
["ACL872095",null,"AOYG 14 KBTA2.UE",null,null,{"$f":"LEFT(Catalogue[[#This Row],[Référence]],3)","v":"ACL"},{"$f":"VLOOKUP(Catalogue[[#This Row],[Alias]],#REF!,2,FALSE)","v":{"$error":"#REF!"}},null,"ACL872095","AOYG 14 KBTA2.UE"]
["ACL872096",null,"AOYG 18 KBTA2.UE",null,null,{"$f":"LEFT(Catalogue[[#This Row],[Référence]],3)","v":"ACL"},{"$f":"VLOOKUP(Catalogue[[#This Row],[Alias]],#REF!,2,FALSE)","v":{"$error":"#REF!"}},null,"ACL872096","AOYG 18 KBTA2.UE"]
["ACL872099",null,"AOYG 9 KET.UE",null,null,{"$f":"LEFT(Catalogue[[#This Row],[Référence]],3)","v":"ACL"},{"$f":"VLOOKUP(Catalogue[[#This Row],[Alias]],#REF!,2,FALSE)","v":{"$error":"#REF!"}},null,"ACL872099","AOYG 9 KET.UE"]
["ACL872104",null,"AOYG 7 KMCC.UE",null,null,{"$f":"LEFT(Catalogue[[#This Row],[Référence]],3)","v":"ACL"},{"$f":"VLOOKUP(Catalogue[[#This Row],[Alias]],#REF!,2,FALSE)","v":{"$error":"#REF!"}},null,"ACL872104","AOYG 7 KMCC.UE"]
["ACL872106",null,"AOYG 12 KMCC.UE",null,null,{"$f":"LEFT(Catalogue[[#This Row],[Référence]],3)","v":"ACL"},{"$f":"VLOOKUP(Catalogue[[#This Row],[Alias]],#REF!,2,FALSE)","v":{"$error":"#REF!"}},null,"ACL872106","AOYG 12 KMCC.UE"]
["ACL872119",null,"AOYG 18 KLC.UE",null,null,{"$f":"LEFT(Catalogue[[#This Row],[Référence]],3)","v":"ACL"},{"$f":"VLOOKUP(Catalogue[[#This Row],[Alias]],#REF!,2,FALSE)","v":{"$error":"#REF!"}},null,"ACL872119","AOYG 18 KLC.UE"]
["ACL872121",null,"AOYG 9 KVCA.UE",null,null,{"$f":"LEFT(Catalogue[[#This Row],[Référence]],3)","v":"ACL"},{"$f":"VLOOKUP(Catalogue[[#This Row],[Alias]],#REF!,2,FALSE)","v":{"$error":"#REF!"}},null,"ACL872121","AOYG 9 KVCA.UE"]
["ACL872123",null,"AOYG 14 KVCA.UE",null,null,{"$f":"LEFT(Catalogue[[#This Row],[Référence]],3)","v":"ACL"},{"$f":"VLOOKUP(Catalogue[[#This Row],[Alias]],#REF!,2,FALSE)","v":{"$error":"#REF!"}},null,"ACL872123","AOYG 14 KVCA.UE"]
["ACL872126",null,"AOYG 18 KBTA3.UE",null,null,{"$f":"LEFT(Catalogue[[#This Row],[Référence]],3)","v":"ACL"},{"$f":"VLOOKUP(Catalogue[[#This Row],[Alias]],#REF!,2,FALSE)","v":{"$error":"#REF!"}},null,"ACL872126","AOYG 18 KBTA3.UE"]
["ACL872127",null,"AOYG 24 KBTA3.UE",null,null,{"$f":"LEFT(Catalogue[[#This Row],[Référence]],3)","v":"ACL"},{"$f":"VLOOKUP(Catalogue[[#This Row],[Alias]],#REF!,2,FALSE)","v":{"$error":"#REF!"}},null,"ACL872127","AOYG 24 KBTA3.UE"]
["ACL872128",null,"AOYG 30 KBTA4.UE",null,null,{"$f":"LEFT(Catalogue[[#This Row],[Référence]],3)","v":"ACL"},{"$f":"VLOOKUP(Catalogue[[#This Row],[Alias]],#REF!,2,FALSE)","v":{"$error":"#REF!"}},null,"ACL872128","AOYG 30 KBTA4.UE"]
["ACL872129",null,"AOYG 36 KBTA5.UE",null,null,{"$f":"LEFT(Catalogue[[#This Row],[Référence]],3)","v":"ACL"},{"$f":"VLOOKUP(Catalogue[[#This Row],[Alias]],#REF!,2,FALSE)","v":{"$error":"#REF!"}},null,"ACL872129","AOYG 36 KBTA5.UE"]
["ACL872140",null,"AOYG 18 KATA.UE",null,null,{"$f":"LEFT(Catalogue[[#This Row],[Référence]],3)","v":"ACL"},{"$f":"VLOOKUP(Catalogue[[#This Row],[Alias]],#REF!,2,FALSE)","v":{"$error":"#REF!"}},null,"ACL872140","AOYG 18 KATA.UE"]
["ACL872148",null,"1U 018 NBRB.UE",null,null,{"$f":"LEFT(Catalogue[[#This Row],[Référence]],3)","v":"ACL"},{"$f":"VLOOKUP(Catalogue[[#This Row],[Alias]],#REF!,2,FALSE)","v":{"$error":"#REF!"}},null,"ACL872148","1U 018 NBRB.UE"]
["ACL872161",null,"2U 018 NBB.UE",null,null,{"$f":"LEFT(Catalogue[[#This Row],[Référence]],3)","v":"ACL"},{"$f":"VLOOKUP(Catalogue[[#This Row],[Alias]],#REF!,2,FALSE)","v":{"$error":"#REF!"}},null,"ACL872161","2U 018 NBB.UE"]
["ACL872162",null,"3U 024 NBB.UE",null,null,{"$f":"LEFT(Catalogue[[#This Row],[Référence]],3)","v":"ACL"},{"$f":"VLOOKUP(Catalogue[[#This Row],[Alias]],#REF!,2,FALSE)","v":{"$error":"#REF!"}},null,"ACL872162","3U 024 NBB.UE"]
["ACL872163",null,"4U 030 NBB.UE",null,null,{"$f":"LEFT(Catalogue[[#This Row],[Référence]],3)","v":"ACL"},{"$f":"VLOOKUP(Catalogue[[#This Row],[Alias]],#REF!,2,FALSE)","v":{"$error":"#REF!"}},null,"ACL872163","4U 030 NBB.UE"]
["ACL872164",null,"5U 036 NBB.UE",null,null,{"$f":"LEFT(Catalogue[[#This Row],[Référence]],3)","v":"ACL"},{"$f":"VLOOKUP(Catalogue[[#This Row],[Alias]],#REF!,2,FALSE)","v":{"$error":"#REF!"}},null,"ACL872164","5U 036 NBB.UE"]
["ACL872165",null,"1U 018 DBRB.UE",null,null,{"$f":"LEFT(Catalogue[[#This Row],[Référence]],3)","v":"ACL"},{"$f":"VLOOKUP(Catalogue[[#This Row],[Alias]],#REF!,2,FALSE)","v":{"$error":"#REF!"}},null,"ACL872165","1U 018 DBRB.UE"]
["ACL872166",null,"1U 012 NBRB.UE",null,null,{"$f":"LEFT(Catalogue[[#This Row],[Référence]],3)","v":"ACL"},{"$f":"VLOOKUP(Catalogue[[#This Row],[Alias]],#REF!,2,FALSE)","v":{"$error":"#REF!"}},null,"ACL872166","1U 012 NBRB.UE"]
["ACL872167",null,"1U 007 JDB.UE",null,null,{"$f":"LEFT(Catalogue[[#This Row],[Référence]],3)","v":"ACL"},{"$f":"VLOOKUP(Catalogue[[#This Row],[Alias]],#REF!,2,FALSE)","v":{"$error":"#REF!"}},null,"ACL872167","1U 007 JDB.UE"]
["ACL872180",null,"1U 009 DBRB.UE",null,null,{"$f":"LEFT(Catalogue[[#This Row],[Référence]],3)","v":"ACL"},{"$f":"VLOOKUP(Catalogue[[#This Row],[Alias]],#REF!,2,FALSE)","v":{"$error":"#REF!"}},null,"ACL872180","1U 009 DBRB.UE"]
["ACL872182",null,"1U 007 NBRB.UE",null,null,{"$f":"LEFT(Catalogue[[#This Row],[Référence]],3)","v":"ACL"},{"$f":"VLOOKUP(Catalogue[[#This Row],[Alias]],#REF!,2,FALSE)","v":{"$error":"#REF!"}},null,"ACL872182","1U 007 NBRB.UE"]
["ACL872183",null,"1U 009 NBRB.UE",null,null,{"$f":"LEFT(Catalogue[[#This Row],[Référence]],3)","v":"ACL"},{"$f":"VLOOKUP(Catalogue[[#This Row],[Alias]],#REF!,2,FALSE)","v":{"$error":"#REF!"}},null,"ACL872183","1U 009 NBRB.UE"]
["ACL872938",null,"1U 009 NBR.UE",null,null,{"$f":"LEFT(Catalogue[[#This Row],[Référence]],3)","v":"ACL"},{"$f":"VLOOKUP(Catalogue[[#This Row],[Alias]],#REF!,2,FALSE)","v":{"$error":"#REF!"}},null,"ACL872938","1U 009 NBR.UE"]
["ACL872939",null,"1U 012 NBR.UE",null,null,{"$f":"LEFT(Catalogue[[#This Row],[Référence]],3)","v":"ACL"},{"$f":"VLOOKUP(Catalogue[[#This Row],[Alias]],#REF!,2,FALSE)","v":{"$error":"#REF!"}},null,"ACL872939","1U 012 NBR.UE"]
["ACL872940",null,"1U 018 NBR.UE",null,null,{"$f":"LEFT(Catalogue[[#This Row],[Référence]],3)","v":"ACL"},{"$f":"VLOOKUP(Catalogue[[#This Row],[Alias]],#REF!,2,FALSE)","v":{"$error":"#REF!"}},null,"ACL872940","1U 018 NBR.UE"]
["ACL872941",null,"2U 018 NB.UE -UNITE EXTERIEURE CLIMATISEUR BI-SPLITS 4800W R32",null,null,{"$f":"LEFT(Catalogue[[#This Row],[Référence]],3)","v":"ACL"},{"$f":"VLOOKUP(Catalogue[[#This Row],[Alias]],#REF!,2,FALSE)","v":{"$error":"#REF!"}},null,"ACL872941","2U 018 NB.UE -UNITE EXTERIEURE CLIMATISEUR BI-SPLITS 4800W R32"]
["ACL872942",null,"3U 024 NB.UE",null,null,{"$f":"LEFT(Catalogue[[#This Row],[Référence]],3)","v":"ACL"},{"$f":"VLOOKUP(Catalogue[[#This Row],[Alias]],#REF!,2,FALSE)","v":{"$error":"#REF!"}},null,"ACL872942","3U 024 NB.UE"]
["ACL872943",null,"4U 030 NB.UE",null,null,{"$f":"LEFT(Catalogue[[#This Row],[Référence]],3)","v":"ACL"},{"$f":"VLOOKUP(Catalogue[[#This Row],[Alias]],#REF!,2,FALSE)","v":{"$error":"#REF!"}},null,"ACL872943","4U 030 NB.UE"]
["ACL873071",null,"ASYG 7 LLCE.UI - UNITE INTERIEURE CLIMATISEUR MURAL LLCE 2000W",null,null,{"$f":"LEFT(Catalogue[[#This Row],[Référence]],3)","v":"ACL"},{"$f":"VLOOKUP(Catalogue[[#This Row],[Alias]],#REF!,2,FALSE)","v":{"$error":"#REF!"}},null,"ACL873071","ASYG 7 LLCE.UI - UNITE INTERIEURE CLIMATISEUR MURAL LLCE 2000W"]
["ACL873073",null,"ASYG 12 LLCE.UI",null,null,{"$f":"LEFT(Catalogue[[#This Row],[Référence]],3)","v":"ACL"},{"$f":"VLOOKUP(Catalogue[[#This Row],[Alias]],#REF!,2,FALSE)","v":{"$error":"#REF!"}},null,"ACL873073","ASYG 12 LLCE.UI"]
["ACL873074",null,"ASYG 7 LMCE.UI",null,null,{"$f":"LEFT(Catalogue[[#This Row],[Référence]],3)","v":"ACL"},{"$f":"VLOOKUP(Catalogue[[#This Row],[Alias]],#REF!,2,FALSE)","v":{"$error":"#REF!"}},null,"ACL873074","ASYG 7 LMCE.UI"]
["ACL873075",null,"ASYG 9 LMCE.UI",null,null,{"$f":"LEFT(Catalogue[[#This Row],[Référence]],3)","v":"ACL"},{"$f":"VLOOKUP(Catalogue[[#This Row],[Alias]],#REF!,2,FALSE)","v":{"$error":"#REF!"}},null,"ACL873075","ASYG 9 LMCE.UI"]
["ACL873076",null,"ASYG 12 LMCE.UI",null,null,{"$f":"LEFT(Catalogue[[#This Row],[Référence]],3)","v":"ACL"},{"$f":"VLOOKUP(Catalogue[[#This Row],[Alias]],#REF!,2,FALSE)","v":{"$error":"#REF!"}},null,"ACL873076","ASYG 12 LMCE.UI"]
["ACL873106",null,"ASYG 18 KLC.UI",null,null,{"$f":"LEFT(Catalogue[[#This Row],[Référence]],3)","v":"ACL"},{"$f":"VLOOKUP(Catalogue[[#This Row],[Alias]],#REF!,2,FALSE)","v":{"$error":"#REF!"}},null,"ACL873106","ASYG 18 KLC.UI"]
["ACL873110",null,"ASYG 7 KPC.UI",null,null,{"$f":"LEFT(Catalogue[[#This Row],[Référence]],3)","v":"ACL"},{"$f":"VLOOKUP(Catalogue[[#This Row],[Alias]],#REF!,2,FALSE)","v":{"$error":"#REF!"}},null,"ACL873110","ASYG 7 KPC.UI"]
["ACL873111",null,"ASYG 9 KPC.UI",null,null,{"$f":"LEFT(Catalogue[[#This Row],[Référence]],3)","v":"ACL"},{"$f":"VLOOKUP(Catalogue[[#This Row],[Alias]],#REF!,2,FALSE)","v":{"$error":"#REF!"}},null,"ACL873111","ASYG 9 KPC.UI"]
["ACL873112",null,"ASYG 12 KPC.UI",null,null,{"$f":"LEFT(Catalogue[[#This Row],[Référence]],3)","v":"ACL"},{"$f":"VLOOKUP(Catalogue[[#This Row],[Alias]],#REF!,2,FALSE)","v":{"$error":"#REF!"}},null,"ACL873112","ASYG 12 KPC.UI"]
["ACL873144",null,"ARXG 18 KLLA.UI",null,null,{"$f":"LEFT(Catalogue[[#This Row],[Référence]],3)","v":"ACL"},{"$f":"VLOOKUP(Catalogue[[#This Row],[Alias]],#REF!,2,FALSE)","v":{"$error":"#REF!"}},null,"ACL873144","ARXG 18 KLLA.UI"]
["ACL873146",null,"ARXG 24 KMLA.UI",null,null,{"$f":"LEFT(Catalogue[[#This Row],[Référence]],3)","v":"ACL"},{"$f":"VLOOKUP(Catalogue[[#This Row],[Alias]],#REF!,2,FALSE)","v":{"$error":"#REF!"}},null,"ACL873146","ARXG 24 KMLA.UI"]
["ACL873158",null,"ASYG 7 KGTB.UI",null,null,{"$f":"LEFT(Catalogue[[#This Row],[Référence]],3)","v":"ACL"},{"$f":"VLOOKUP(Catalogue[[#This Row],[Alias]],#REF!,2,FALSE)","v":{"$error":"#REF!"}},null,"ACL873158","ASYG 7 KGTB.UI"]
["ACL873191",null,"ASYG 9 KETAS.UI",null,null,{"$f":"LEFT(Catalogue[[#This Row],[Référence]],3)","v":"ACL"},{"$f":"VLOOKUP(Catalogue[[#This Row],[Alias]],#REF!,2,FALSE)","v":{"$error":"#REF!"}},null,"ACL873191","ASYG 9 KETAS.UI"]
["ACL873194",null,"ASYG 7 KMCC.UI",null,null,{"$f":"LEFT(Catalogue[[#This Row],[Référence]],3)","v":"ACL"},{"$f":"VLOOKUP(Catalogue[[#This Row],[Alias]],#REF!,2,FALSE)","v":{"$error":"#REF!"}},null,"ACL873194","ASYG 7 KMCC.UI"]
["ACL873195",null,"ASYG 9 KMCC.UI",null,null,{"$f":"LEFT(Catalogue[[#This Row],[Référence]],3)","v":"ACL"},{"$f":"VLOOKUP(Catalogue[[#This Row],[Alias]],#REF!,2,FALSE)","v":{"$error":"#REF!"}},null,"ACL873195","ASYG 9 KMCC.UI"]
["ACL873196",null,"ASYG 12 KMCC.UI",null,null,{"$f":"LEFT(Catalogue[[#This Row],[Référence]],3)","v":"ACL"},{"$f":"VLOOKUP(Catalogue[[#This Row],[Alias]],#REF!,2,FALSE)","v":{"$error":"#REF!"}},null,"ACL873196","ASYG 12 KMCC.UI"]
["ACL873200",null,"ASYG 12 KETAW.UI",null,null,{"$f":"LEFT(Catalogue[[#This Row],[Référence]],3)","v":"ACL"},{"$f":"VLOOKUP(Catalogue[[#This Row],[Alias]],#REF!,2,FALSE)","v":{"$error":"#REF!"}},null,"ACL873200","ASYG 12 KETAW.UI"]
["ACL873218",null,"AUYG 18 LVLB.UI",null,null,{"$f":"LEFT(Catalogue[[#This Row],[Référence]],3)","v":"ACL"},{"$f":"VLOOKUP(Catalogue[[#This Row],[Alias]],#REF!,2,FALSE)","v":{"$error":"#REF!"}},null,"ACL873218","AUYG 18 LVLB.UI"]
["ACL873227",null,"AGYG 9 KVCA.UI",null,null,{"$f":"LEFT(Catalogue[[#This Row],[Référence]],3)","v":"ACL"},{"$f":"VLOOKUP(Catalogue[[#This Row],[Alias]],#REF!,2,FALSE)","v":{"$error":"#REF!"}},null,"ACL873227","AGYG 9 KVCA.UI"]
["ACL873228",null,"AGYG 12 KVCA.UI",null,null,{"$f":"LEFT(Catalogue[[#This Row],[Référence]],3)","v":"ACL"},{"$f":"VLOOKUP(Catalogue[[#This Row],[Alias]],#REF!,2,FALSE)","v":{"$error":"#REF!"}},null,"ACL873228","AGYG 12 KVCA.UI"]
["ACL873229",null,"AGYG 14 KVCA.UI",null,null,{"$f":"LEFT(Catalogue[[#This Row],[Référence]],3)","v":"ACL"},{"$f":"VLOOKUP(Catalogue[[#This Row],[Alias]],#REF!,2,FALSE)","v":{"$error":"#REF!"}},null,"ACL873229","AGYG 14 KVCA.UI"]
["ACL873230",null,"ASYG 18 KMTB.UI",null,null,{"$f":"LEFT(Catalogue[[#This Row],[Référence]],3)","v":"ACL"},{"$f":"VLOOKUP(Catalogue[[#This Row],[Alias]],#REF!,2,FALSE)","v":{"$error":"#REF!"}},null,"ACL873230","ASYG 18 KMTB.UI"]
["ACL873823",null,"AS 007 DBB.UI",null,null,{"$f":"LEFT(Catalogue[[#This Row],[Référence]],3)","v":"ACL"},{"$f":"VLOOKUP(Catalogue[[#This Row],[Alias]],#REF!,2,FALSE)","v":{"$error":"#REF!"}},null,"ACL873823","AS 007 DBB.UI"]
["ACL873824",null,"AS 009 DBB.UI",null,null,{"$f":"LEFT(Catalogue[[#This Row],[Référence]],3)","v":"ACL"},{"$f":"VLOOKUP(Catalogue[[#This Row],[Alias]],#REF!,2,FALSE)","v":{"$error":"#REF!"}},null,"ACL873824","AS 009 DBB.UI"]
["ACL873825",null,"AS 012 DBB.UI",null,null,{"$f":"LEFT(Catalogue[[#This Row],[Référence]],3)","v":"ACL"},{"$f":"VLOOKUP(Catalogue[[#This Row],[Alias]],#REF!,2,FALSE)","v":{"$error":"#REF!"}},null,"ACL873825","AS 012 DBB.UI"]
["ACL873826",null,"AS 018 DBB.UI",null,null,{"$f":"LEFT(Catalogue[[#This Row],[Référence]],3)","v":"ACL"},{"$f":"VLOOKUP(Catalogue[[#This Row],[Alias]],#REF!,2,FALSE)","v":{"$error":"#REF!"}},null,"ACL873826","AS 018 DBB.UI"]
["ACL873828",null,"AS 007 JDB.UI",null,null,{"$f":"LEFT(Catalogue[[#This Row],[Référence]],3)","v":"ACL"},{"$f":"VLOOKUP(Catalogue[[#This Row],[Alias]],#REF!,2,FALSE)","v":{"$error":"#REF!"}},null,"ACL873828","AS 007 JDB.UI"]
["ACL873829",null,{"$f":"VLOOKUP(A258,I:J,2,0)","v":"AS 009 JDB.UI"},null,null,{"$f":"LEFT(Catalogue[[#This Row],[Référence]],3)","v":"ACL"},{"$f":"VLOOKUP(Catalogue[[#This Row],[Alias]],#REF!,2,FALSE)","v":{"$error":"#REF!"}},null,"ACL873829","AS 009 JDB.UI"]
["ACL873830",null,"AS 012 JDB.UI",null,null,{"$f":"LEFT(Catalogue[[#This Row],[Référence]],3)","v":"ACL"},{"$f":"VLOOKUP(Catalogue[[#This Row],[Alias]],#REF!,2,FALSE)","v":{"$error":"#REF!"}},null,"ACL873830","AS 012 JDB.UI"]
["ACL873831",null,"AS 018 JDB.UI",null,null,{"$f":"LEFT(Catalogue[[#This Row],[Référence]],3)","v":"ACL"},{"$f":"VLOOKUP(Catalogue[[#This Row],[Alias]],#REF!,2,FALSE)","v":{"$error":"#REF!"}},null,"ACL873831","AS 018 JDB.UI"]
["ACL873832",null,"AS 005 NBB.UI",null,null,{"$f":"LEFT(Catalogue[[#This Row],[Référence]],3)","v":"ACL"},{"$f":"VLOOKUP(Catalogue[[#This Row],[Alias]],#REF!,2,FALSE)","v":{"$error":"#REF!"}},null,"ACL873832","AS 005 NBB.UI"]
["ACL873833",null,"AS 007 NBB.UI",null,null,{"$f":"LEFT(Catalogue[[#This Row],[Référence]],3)","v":"ACL"},{"$f":"VLOOKUP(Catalogue[[#This Row],[Alias]],#REF!,2,FALSE)","v":{"$error":"#REF!"}},null,"ACL873833","AS 007 NBB.UI"]
["ACL873834",null,"AS 009 NBB.UI",null,null,{"$f":"LEFT(Catalogue[[#This Row],[Référence]],3)","v":"ACL"},{"$f":"VLOOKUP(Catalogue[[#This Row],[Alias]],#REF!,2,FALSE)","v":{"$error":"#REF!"}},null,"ACL873834","AS 009 NBB.UI"]
["ACL873835",null,"AS 012 NBB.UI",null,null,{"$f":"LEFT(Catalogue[[#This Row],[Référence]],3)","v":"ACL"},{"$f":"VLOOKUP(Catalogue[[#This Row],[Alias]],#REF!,2,FALSE)","v":{"$error":"#REF!"}},null,"ACL873835","AS 012 NBB.UI"]
["ACL873836",null,"AS 018 NBB.UI",null,null,{"$f":"LEFT(Catalogue[[#This Row],[Référence]],3)","v":"ACL"},{"$f":"VLOOKUP(Catalogue[[#This Row],[Alias]],#REF!,2,FALSE)","v":{"$error":"#REF!"}},null,"ACL873836","AS 018 NBB.UI"]
["ACL873841",null,"ASYG 7 KETEW.UI",null,null,{"$f":"LEFT(Catalogue[[#This Row],[Référence]],3)","v":"ACL"},{"$f":"VLOOKUP(Catalogue[[#This Row],[Alias]],#REF!,2,FALSE)","v":{"$error":"#REF!"}},null,"ACL873841","ASYG 7 KETEW.UI"]
["ACL873842",null,"ASYG 9 KETEW.UI",null,null,{"$f":"LEFT(Catalogue[[#This Row],[Référence]],3)","v":"ACL"},{"$f":"VLOOKUP(Catalogue[[#This Row],[Alias]],#REF!,2,FALSE)","v":{"$error":"#REF!"}},null,"ACL873842","ASYG 9 KETEW.UI"]
["ACL873843",null,"ASYG 12 KETEW.UI",null,null,{"$f":"LEFT(Catalogue[[#This Row],[Référence]],3)","v":"ACL"},{"$f":"VLOOKUP(Catalogue[[#This Row],[Alias]],#REF!,2,FALSE)","v":{"$error":"#REF!"}},null,"ACL873843","ASYG 12 KETEW.UI"]
["ACL873845",null,"ASYG 7 KPCE.UI",null,null,{"$f":"LEFT(Catalogue[[#This Row],[Référence]],3)","v":"ACL"},{"$f":"VLOOKUP(Catalogue[[#This Row],[Alias]],#REF!,2,FALSE)","v":{"$error":"#REF!"}},null,"ACL873845","ASYG 7 KPCE.UI"]
["ACL873846",null,"ASYG 9 KPCE.UI",null,null,{"$f":"LEFT(Catalogue[[#This Row],[Référence]],3)","v":"ACL"},{"$f":"VLOOKUP(Catalogue[[#This Row],[Alias]],#REF!,2,FALSE)","v":{"$error":"#REF!"}},null,"ACL873846","ASYG 9 KPCE.UI"]
["ACL873847",null,"ASYG 12 KPCE.UI",null,null,{"$f":"LEFT(Catalogue[[#This Row],[Référence]],3)","v":"ACL"},{"$f":"VLOOKUP(Catalogue[[#This Row],[Alias]],#REF!,2,FALSE)","v":{"$error":"#REF!"}},null,"ACL873847","ASYG 12 KPCE.UI"]
["ACL873848",null,"ASYG 18 KMTE.UI",null,null,{"$f":"LEFT(Catalogue[[#This Row],[Référence]],3)","v":"ACL"},{"$f":"VLOOKUP(Catalogue[[#This Row],[Alias]],#REF!,2,FALSE)","v":{"$error":"#REF!"}},null,"ACL873848","ASYG 18 KMTE.UI"]
["ACL873850",null,"ASYG 24 KMTE.UI",null,null,{"$f":"LEFT(Catalogue[[#This Row],[Référence]],3)","v":"ACL"},{"$f":"VLOOKUP(Catalogue[[#This Row],[Alias]],#REF!,2,FALSE)","v":{"$error":"#REF!"}},null,"ACL873850","ASYG 24 KMTE.UI"]
["ACL873853",null,"ASYG 07 KMCE.UI",null,null,{"$f":"LEFT(Catalogue[[#This Row],[Référence]],3)","v":"ACL"},{"$f":"VLOOKUP(Catalogue[[#This Row],[Alias]],#REF!,2,FALSE)","v":{"$error":"#REF!"}},null,"ACL873853","ASYG 07 KMCE.UI"]
["ACL873854",null,"ASYG 09 KMCE.UI",null,null,{"$f":"LEFT(Catalogue[[#This Row],[Référence]],3)","v":"ACL"},{"$f":"VLOOKUP(Catalogue[[#This Row],[Alias]],#REF!,2,FALSE)","v":{"$error":"#REF!"}},null,"ACL873854","ASYG 09 KMCE.UI"]
["ACL873855",null,"ASYG 12 KMCE.UI",null,null,{"$f":"LEFT(Catalogue[[#This Row],[Référence]],3)","v":"ACL"},{"$f":"VLOOKUP(Catalogue[[#This Row],[Alias]],#REF!,2,FALSE)","v":{"$error":"#REF!"}},null,"ACL873855","ASYG 12 KMCE.UI"]
["ACL873856",null,"ASYG 14 KMCE.UI",null,null,{"$f":"LEFT(Catalogue[[#This Row],[Référence]],3)","v":"ACL"},{"$f":"VLOOKUP(Catalogue[[#This Row],[Alias]],#REF!,2,FALSE)","v":{"$error":"#REF!"}},null,"ACL873856","ASYG 14 KMCE.UI"]
["ACL873857",null,"ASYG 07 KGTE.UI",null,null,{"$f":"LEFT(Catalogue[[#This Row],[Référence]],3)","v":"ACL"},{"$f":"VLOOKUP(Catalogue[[#This Row],[Alias]],#REF!,2,FALSE)","v":{"$error":"#REF!"}},null,"ACL873857","ASYG 07 KGTE.UI"]
["ACL873858",null,"ASYG 09 KGTE.UI",null,null,{"$f":"LEFT(Catalogue[[#This Row],[Référence]],3)","v":"ACL"},{"$f":"VLOOKUP(Catalogue[[#This Row],[Alias]],#REF!,2,FALSE)","v":{"$error":"#REF!"}},null,"ACL873858","ASYG 09 KGTE.UI"]
["ACL873859",null,"ASYG 12 KGTE.UI",null,null,{"$f":"LEFT(Catalogue[[#This Row],[Référence]],3)","v":"ACL"},{"$f":"VLOOKUP(Catalogue[[#This Row],[Alias]],#REF!,2,FALSE)","v":{"$error":"#REF!"}},null,"ACL873859","ASYG 12 KGTE.UI"]
["ACL873953",null,"AS 007 NB.UI",null,null,{"$f":"LEFT(Catalogue[[#This Row],[Référence]],3)","v":"ACL"},{"$f":"VLOOKUP(Catalogue[[#This Row],[Alias]],#REF!,2,FALSE)","v":{"$error":"#REF!"}},null,"ACL873953","AS 007 NB.UI"]
["ACL873954",null,"AS 009 NB.UI",null,null,{"$f":"LEFT(Catalogue[[#This Row],[Référence]],3)","v":"ACL"},{"$f":"VLOOKUP(Catalogue[[#This Row],[Alias]],#REF!,2,FALSE)","v":{"$error":"#REF!"}},null,"ACL873954","AS 009 NB.UI"]
["ACL873955",null,"AS 012 NB.UI",null,null,{"$f":"LEFT(Catalogue[[#This Row],[Référence]],3)","v":"ACL"},{"$f":"VLOOKUP(Catalogue[[#This Row],[Alias]],#REF!,2,FALSE)","v":{"$error":"#REF!"}},null,"ACL873955","AS 012 NB.UI"]
["ACL873956",null,"AS 018 NB.UI - UNITE INTERIEURE CLIMATISEUR MURAL ZENKEO 5000W R32",null,null,{"$f":"LEFT(Catalogue[[#This Row],[Référence]],3)","v":"ACL"},{"$f":"VLOOKUP(Catalogue[[#This Row],[Alias]],#REF!,2,FALSE)","v":{"$error":"#REF!"}},null,"ACL873956","AS 018 NB.UI - UNITE INTERIEURE CLIMATISEUR MURAL ZENKEO 5000W R32"]
["ACL873957",null,"AS 005 NB.UI",null,null,{"$f":"LEFT(Catalogue[[#This Row],[Référence]],3)","v":"ACL"},{"$f":"VLOOKUP(Catalogue[[#This Row],[Alias]],#REF!,2,FALSE)","v":{"$error":"#REF!"}},null,"ACL873957","AS 005 NB.UI"]
["ACL875001",null,"AT 8 DPG3",null,null,{"$f":"LEFT(Catalogue[[#This Row],[Référence]],3)","v":"ACL"},{"$f":"VLOOKUP(Catalogue[[#This Row],[Alias]],#REF!,2,FALSE)","v":{"$error":"#REF!"}},null,"ACL875001","AT 8 DPG3"]
["ACL875033",null,"SE 560",null,null,{"$f":"LEFT(Catalogue[[#This Row],[Référence]],3)","v":"ACL"},{"$f":"VLOOKUP(Catalogue[[#This Row],[Alias]],#REF!,2,FALSE)","v":{"$error":"#REF!"}},null,"ACL875033","SE 560"]
["ACL875035",null,"B4 X 200 LH",null,null,{"$f":"LEFT(Catalogue[[#This Row],[Référence]],3)","v":"ACL"},{"$f":"VLOOKUP(Catalogue[[#This Row],[Alias]],#REF!,2,FALSE)","v":{"$error":"#REF!"}},null,"ACL875035","B4 X 200 LH"]
["ACL875041",null,"PL4 X 200 LH",null,null,{"$f":"LEFT(Catalogue[[#This Row],[Référence]],3)","v":"ACL"},{"$f":"VLOOKUP(Catalogue[[#This Row],[Alias]],#REF!,2,FALSE)","v":{"$error":"#REF!"}},null,"ACL875041","PL4 X 200 LH"]
["ACL875052",null,"ZONE+ 160/200",null,null,{"$f":"LEFT(Catalogue[[#This Row],[Référence]],3)","v":"ACL"},{"$f":"VLOOKUP(Catalogue[[#This Row],[Alias]],#REF!,2,FALSE)","v":{"$error":"#REF!"}},null,"ACL875052","ZONE+ 160/200"]
["ACL875073",null,"SONDE FILAIRE",null,null,{"$f":"LEFT(Catalogue[[#This Row],[Référence]],3)","v":"ACL"},{"$f":"VLOOKUP(Catalogue[[#This Row],[Alias]],#REF!,2,FALSE)","v":{"$error":"#REF!"}},null,"ACL875073","SONDE FILAIRE"]
["ACL875074",null,"SONDE A PILES",null,null,{"$f":"LEFT(Catalogue[[#This Row],[Référence]],3)","v":"ACL"},{"$f":"VLOOKUP(Catalogue[[#This Row],[Alias]],#REF!,2,FALSE)","v":{"$error":"#REF!"}},null,"ACL875074","SONDE A PILES"]
["ACL875081",null,"UTY-TFNXZ1",null,null,{"$f":"LEFT(Catalogue[[#This Row],[Référence]],3)","v":"ACL"},{"$f":"VLOOKUP(Catalogue[[#This Row],[Alias]],#REF!,2,FALSE)","v":{"$error":"#REF!"}},null,"ACL875081","UTY-TFNXZ1"]
["ACL875108",null,"UTY-TFSXW1",null,null,{"$f":"LEFT(Catalogue[[#This Row],[Référence]],3)","v":"ACL"},{"$f":"VLOOKUP(Catalogue[[#This Row],[Alias]],#REF!,2,FALSE)","v":{"$error":"#REF!"}},null,"ACL875108","UTY-TFSXW1"]
["ACL875129",null,"SHOGUN ZC 200 S5",null,null,{"$f":"LEFT(Catalogue[[#This Row],[Référence]],3)","v":"ACL"},{"$f":"VLOOKUP(Catalogue[[#This Row],[Alias]],#REF!,2,FALSE)","v":{"$error":"#REF!"}},null,"ACL875129","SHOGUN ZC 200 S5"]
["ACL875310",null,"PACK NAVICLIM",null,null,{"$f":"LEFT(Catalogue[[#This Row],[Référence]],3)","v":"ACL"},{"$f":"VLOOKUP(Catalogue[[#This Row],[Alias]],#REF!,2,FALSE)","v":{"$error":"#REF!"}},null,"ACL875310","PACK NAVICLIM"]
["ACL875311",null,"INTERFACE NAVICLIM",null,null,{"$f":"LEFT(Catalogue[[#This Row],[Référence]],3)","v":"ACL"},{"$f":"VLOOKUP(Catalogue[[#This Row],[Alias]],#REF!,2,FALSE)","v":{"$error":"#REF!"}},null,"ACL875311","INTERFACE NAVICLIM"]
["ACL876138",null,"UTY-RLRY",null,null,{"$f":"LEFT(Catalogue[[#This Row],[Référence]],3)","v":"ACL"},{"$f":"VLOOKUP(Catalogue[[#This Row],[Alias]],#REF!,2,FALSE)","v":{"$error":"#REF!"}},null,"ACL876138","UTY-RLRY"]
["ACL876357",null,"ASYA 07 GCGH.UI",null,null,{"$f":"LEFT(Catalogue[[#This Row],[Référence]],3)","v":"ACL"},{"$f":"VLOOKUP(Catalogue[[#This Row],[Alias]],#REF!,2,FALSE)","v":{"$error":"#REF!"}},null,"ACL876357","ASYA 07 GCGH.UI"]
["ACL890019",null,"SILENT BLOC TURBINE",null,null,{"$f":"LEFT(Catalogue[[#This Row],[Référence]],3)","v":"ACL"},{"$f":"VLOOKUP(Catalogue[[#This Row],[Alias]],#REF!,2,FALSE)","v":{"$error":"#REF!"}},null,"ACL890019","SILENT BLOC TURBINE"]
["ACL890051",null,"MOTEUR DE TURBINE",null,null,{"$f":"LEFT(Catalogue[[#This Row],[Référence]],3)","v":"ACL"},{"$f":"VLOOKUP(Catalogue[[#This Row],[Alias]],#REF!,2,FALSE)","v":{"$error":"#REF!"}},null,"ACL890051","MOTEUR DE TURBINE"]
["ACL890176",null,"PLATINE REGUL AUY 14 TGA",null,null,{"$f":"LEFT(Catalogue[[#This Row],[Référence]],3)","v":"ACL"},{"$f":"VLOOKUP(Catalogue[[#This Row],[Alias]],#REF!,2,FALSE)","v":{"$error":"#REF!"}},null,"ACL890176","PLATINE REGUL AUY 14 TGA"]
["ACL890214",null,"SONDE EVAPORATEUR",null,null,{"$f":"LEFT(Catalogue[[#This Row],[Référence]],3)","v":"ACL"},{"$f":"VLOOKUP(Catalogue[[#This Row],[Alias]],#REF!,2,FALSE)","v":{"$error":"#REF!"}},null,"ACL890214","SONDE EVAPORATEUR"]
["ACL890414",null,"VOLET HAUT",null,null,{"$f":"LEFT(Catalogue[[#This Row],[Référence]],3)","v":"ACL"},{"$f":"VLOOKUP(Catalogue[[#This Row],[Alias]],#REF!,2,FALSE)","v":{"$error":"#REF!"}},null,"ACL890414","VOLET HAUT"]
["ACL890420",null,"PLATINE GROUPE AOY19RSEM2",null,null,{"$f":"LEFT(Catalogue[[#This Row],[Référence]],3)","v":"ACL"},{"$f":"VLOOKUP(Catalogue[[#This Row],[Alias]],#REF!,2,FALSE)","v":{"$error":"#REF!"}},null,"ACL890420","PLATINE GROUPE AOY19RSEM2"]
["ACL890429",null,"MOTEUR VENTILATION",null,null,{"$f":"LEFT(Catalogue[[#This Row],[Référence]],3)","v":"ACL"},{"$f":"VLOOKUP(Catalogue[[#This Row],[Alias]],#REF!,2,FALSE)","v":{"$error":"#REF!"}},null,"ACL890429","MOTEUR VENTILATION"]
["ACL890455",null,"MOTEUR DE TURBINE",null,null,{"$f":"LEFT(Catalogue[[#This Row],[Référence]],3)","v":"ACL"},{"$f":"VLOOKUP(Catalogue[[#This Row],[Alias]],#REF!,2,FALSE)","v":{"$error":"#REF!"}},null,"ACL890455","MOTEUR DE TURBINE"]
["ACL890486",null,"SONDE CONDENSEUR",null,null,{"$f":"LEFT(Catalogue[[#This Row],[Référence]],3)","v":"ACL"},{"$f":"VLOOKUP(Catalogue[[#This Row],[Alias]],#REF!,2,FALSE)","v":{"$error":"#REF!"}},null,"ACL890486","SONDE CONDENSEUR"]
["ACL890515",null,"POMPE DE RELEVAGE",null,null,{"$f":"LEFT(Catalogue[[#This Row],[Référence]],3)","v":"ACL"},{"$f":"VLOOKUP(Catalogue[[#This Row],[Alias]],#REF!,2,FALSE)","v":{"$error":"#REF!"}},null,"ACL890515","POMPE DE RELEVAGE"]
["ACL890573",null,"CONDENSATEUR COMPR AOY 24 RMEL",null,null,{"$f":"LEFT(Catalogue[[#This Row],[Référence]],3)","v":"ACL"},{"$f":"VLOOKUP(Catalogue[[#This Row],[Alias]],#REF!,2,FALSE)","v":{"$error":"#REF!"}},null,"ACL890573","CONDENSATEUR COMPR AOY 24 RMEL"]
["ACL890589",null,"VANNE 4 VOIES AOY 24 LMAM2",null,null,{"$f":"LEFT(Catalogue[[#This Row],[Référence]],3)","v":"ACL"},{"$f":"VLOOKUP(Catalogue[[#This Row],[Alias]],#REF!,2,FALSE)","v":{"$error":"#REF!"}},null,"ACL890589","VANNE 4 VOIES AOY 24 LMAM2"]
["ACL890675",null,"TELECOMMANDE ARY30LUAN",null,null,{"$f":"LEFT(Catalogue[[#This Row],[Référence]],3)","v":"ACL"},{"$f":"VLOOKUP(Catalogue[[#This Row],[Alias]],#REF!,2,FALSE)","v":{"$error":"#REF!"}},null,"ACL890675","TELECOMMANDE ARY30LUAN"]
["ACL890856",null,"BAC A CONDENSATS",null,null,{"$f":"LEFT(Catalogue[[#This Row],[Référence]],3)","v":"ACL"},{"$f":"VLOOKUP(Catalogue[[#This Row],[Alias]],#REF!,2,FALSE)","v":{"$error":"#REF!"}},null,"ACL890856","BAC A CONDENSATS"]
["ACL890868",null,"MOTEUR VENTILATION",null,null,{"$f":"LEFT(Catalogue[[#This Row],[Référence]],3)","v":"ACL"},{"$f":"VLOOKUP(Catalogue[[#This Row],[Alias]],#REF!,2,FALSE)","v":{"$error":"#REF!"}},null,"ACL890868","MOTEUR VENTILATION"]
["ACL890885",null,"PLATINE REGULATION",null,null,{"$f":"LEFT(Catalogue[[#This Row],[Référence]],3)","v":"ACL"},{"$f":"VLOOKUP(Catalogue[[#This Row],[Alias]],#REF!,2,FALSE)","v":{"$error":"#REF!"}},null,"ACL890885","PLATINE REGULATION"]
["ACL890923",null,"PLATINE MULTI CONTR AOY30QMAM4",null,null,{"$f":"LEFT(Catalogue[[#This Row],[Référence]],3)","v":"ACL"},{"$f":"VLOOKUP(Catalogue[[#This Row],[Alias]],#REF!,2,FALSE)","v":{"$error":"#REF!"}},null,"ACL890923","PLATINE MULTI CONTR AOY30QMAM4"]
["ACL890953",null,"PLATINE REGUL ARY 18 UUAD",null,null,{"$f":"LEFT(Catalogue[[#This Row],[Référence]],3)","v":"ACL"},{"$f":"VLOOKUP(Catalogue[[#This Row],[Alias]],#REF!,2,FALSE)","v":{"$error":"#REF!"}},null,"ACL890953","PLATINE REGUL ARY 18 UUAD"]
["ACL890959",null,"MOTEUR VENTILATION",null,null,{"$f":"LEFT(Catalogue[[#This Row],[Référence]],3)","v":"ACL"},{"$f":"VLOOKUP(Catalogue[[#This Row],[Alias]],#REF!,2,FALSE)","v":{"$error":"#REF!"}},null,"ACL890959","MOTEUR VENTILATION"]
["ACL890968",null,"SONDE EVAPORATEUR",null,null,{"$f":"LEFT(Catalogue[[#This Row],[Référence]],3)","v":"ACL"},{"$f":"VLOOKUP(Catalogue[[#This Row],[Alias]],#REF!,2,FALSE)","v":{"$error":"#REF!"}},null,"ACL890968","SONDE EVAPORATEUR"]
["ACL890987",null,"PLATINE REGUL AUY 12 UMAB",null,null,{"$f":"LEFT(Catalogue[[#This Row],[Référence]],3)","v":"ACL"},{"$f":"VLOOKUP(Catalogue[[#This Row],[Alias]],#REF!,2,FALSE)","v":{"$error":"#REF!"}},null,"ACL890987","PLATINE REGUL AUY 12 UMAB"]
["ACL891057",null,"RACCORD GAZ 3/8 AOY19?60F/U/L",null,null,{"$f":"LEFT(Catalogue[[#This Row],[Référence]],3)","v":"ACL"},{"$f":"VLOOKUP(Catalogue[[#This Row],[Alias]],#REF!,2,FALSE)","v":{"$error":"#REF!"}},null,"ACL891057","RACCORD GAZ 3/8 AOY19?60F/U/L"]
["ACL891058",null,{"$f":"VLOOKUP(A322,I:J,2,0)","v":"VANNE 2 VOIES 1/4 LIQUIDE"},null,null,{"$f":"LEFT(Catalogue[[#This Row],[Référence]],3)","v":"ACL"},{"$f":"VLOOKUP(Catalogue[[#This Row],[Alias]],#REF!,2,FALSE)","v":{"$error":"#REF!"}},null,"ACL891058","VANNE 2 VOIES 1/4 LIQUIDE"]
["ACL891067",null,"JEU DE SONDES VANNES A ET B",null,null,{"$f":"LEFT(Catalogue[[#This Row],[Référence]],3)","v":"ACL"},{"$f":"VLOOKUP(Catalogue[[#This Row],[Alias]],#REF!,2,FALSE)","v":{"$error":"#REF!"}},null,"ACL891067","JEU DE SONDES VANNES A ET B"]
["ACL891068",null,"SONDE REFOULEMENT",null,null,{"$f":"LEFT(Catalogue[[#This Row],[Référence]],3)","v":"ACL"},{"$f":"VLOOKUP(Catalogue[[#This Row],[Alias]],#REF!,2,FALSE)","v":{"$error":"#REF!"}},null,"ACL891068","SONDE REFOULEMENT"]
["ACL891127",null,"PLATINE REGULATION AOY 30LMAL",null,null,{"$f":"LEFT(Catalogue[[#This Row],[Référence]],3)","v":"ACL"},{"$f":"VLOOKUP(Catalogue[[#This Row],[Alias]],#REF!,2,FALSE)","v":{"$error":"#REF!"}},null,"ACL891127","PLATINE REGULATION AOY 30LMAL"]
["ACL891145",null,"PLATINE DE REGULATION",null,null,{"$f":"LEFT(Catalogue[[#This Row],[Référence]],3)","v":"ACL"},{"$f":"VLOOKUP(Catalogue[[#This Row],[Alias]],#REF!,2,FALSE)","v":{"$error":"#REF!"}},null,"ACL891145","PLATINE DE REGULATION"]
["ACL891173",null,"PLATINE INVERTER AOY24LMAKL",null,null,{"$f":"LEFT(Catalogue[[#This Row],[Référence]],3)","v":"ACL"},{"$f":"VLOOKUP(Catalogue[[#This Row],[Alias]],#REF!,2,FALSE)","v":{"$error":"#REF!"}},null,"ACL891173","PLATINE INVERTER AOY24LMAKL"]
["ACL891180",null,"PLATINE DE REGULATION",null,null,{"$f":"LEFT(Catalogue[[#This Row],[Référence]],3)","v":"ACL"},{"$f":"VLOOKUP(Catalogue[[#This Row],[Alias]],#REF!,2,FALSE)","v":{"$error":"#REF!"}},null,"ACL891180","PLATINE DE REGULATION"]
["ACL891181",null,"PLATINE ALIMENTATION",null,null,{"$f":"LEFT(Catalogue[[#This Row],[Référence]],3)","v":"ACL"},{"$f":"VLOOKUP(Catalogue[[#This Row],[Alias]],#REF!,2,FALSE)","v":{"$error":"#REF!"}},null,"ACL891181","PLATINE ALIMENTATION"]
["ACL891186",null,"PLATINE DE REGULATION",null,null,{"$f":"LEFT(Catalogue[[#This Row],[Référence]],3)","v":"ACL"},{"$f":"VLOOKUP(Catalogue[[#This Row],[Alias]],#REF!,2,FALSE)","v":{"$error":"#REF!"}},null,"ACL891186","PLATINE DE REGULATION"]
["ACL891242",null,"MOTEUR VENTILATION",null,null,{"$f":"LEFT(Catalogue[[#This Row],[Référence]],3)","v":"ACL"},{"$f":"VLOOKUP(Catalogue[[#This Row],[Alias]],#REF!,2,FALSE)","v":{"$error":"#REF!"}},null,"ACL891242","MOTEUR VENTILATION"]
["ACL891245",null,"PLATINE IR",null,null,{"$f":"LEFT(Catalogue[[#This Row],[Référence]],3)","v":"ACL"},{"$f":"VLOOKUP(Catalogue[[#This Row],[Alias]],#REF!,2,FALSE)","v":{"$error":"#REF!"}},null,"ACL891245","PLATINE IR"]
["ACL891301",null,"BOBINE DETENDEUR AOY7A36LF/LM/LC/LAC",null,null,{"$f":"LEFT(Catalogue[[#This Row],[Référence]],3)","v":"ACL"},{"$f":"VLOOKUP(Catalogue[[#This Row],[Alias]],#REF!,2,FALSE)","v":{"$error":"#REF!"}},null,"ACL891301","BOBINE DETENDEUR AOY7A36LF/LM/LC/LAC"]
["ACL891331",null,"MOTEUR VENTILATION",null,null,{"$f":"LEFT(Catalogue[[#This Row],[Référence]],3)","v":"ACL"},{"$f":"VLOOKUP(Catalogue[[#This Row],[Alias]],#REF!,2,FALSE)","v":{"$error":"#REF!"}},null,"ACL891331","MOTEUR VENTILATION"]
["ACL891394",null,"PLATINE INVERTER AOY30LMAWL",null,null,{"$f":"LEFT(Catalogue[[#This Row],[Référence]],3)","v":"ACL"},{"$f":"VLOOKUP(Catalogue[[#This Row],[Alias]],#REF!,2,FALSE)","v":{"$error":"#REF!"}},null,"ACL891394","PLATINE INVERTER AOY30LMAWL"]
["ACL891411",null,"PLATINE ALIMENTATION",null,null,{"$f":"LEFT(Catalogue[[#This Row],[Référence]],3)","v":"ACL"},{"$f":"VLOOKUP(Catalogue[[#This Row],[Alias]],#REF!,2,FALSE)","v":{"$error":"#REF!"}},null,"ACL891411","PLATINE ALIMENTATION"]
["ACL891413",null,"PLATINE DE REGULATION",null,null,{"$f":"LEFT(Catalogue[[#This Row],[Référence]],3)","v":"ACL"},{"$f":"VLOOKUP(Catalogue[[#This Row],[Alias]],#REF!,2,FALSE)","v":{"$error":"#REF!"}},null,"ACL891413","PLATINE DE REGULATION"]
["ACL891414",null,"BOBINE DETENDEUR",null,null,{"$f":"LEFT(Catalogue[[#This Row],[Référence]],3)","v":"ACL"},{"$f":"VLOOKUP(Catalogue[[#This Row],[Alias]],#REF!,2,FALSE)","v":{"$error":"#REF!"}},null,"ACL891414","BOBINE DETENDEUR"]
["ACL891423",null,"BOBINE D ARRET",null,null,{"$f":"LEFT(Catalogue[[#This Row],[Référence]],3)","v":"ACL"},{"$f":"VLOOKUP(Catalogue[[#This Row],[Alias]],#REF!,2,FALSE)","v":{"$error":"#REF!"}},null,"ACL891423","BOBINE D ARRET"]
["ACL891444",null,"PLATINE REGULATION",null,null,{"$f":"LEFT(Catalogue[[#This Row],[Référence]],3)","v":"ACL"},{"$f":"VLOOKUP(Catalogue[[#This Row],[Alias]],#REF!,2,FALSE)","v":{"$error":"#REF!"}},null,"ACL891444","PLATINE REGULATION"]
["ACL891464",null,"JEU DE SONDES",null,null,{"$f":"LEFT(Catalogue[[#This Row],[Référence]],3)","v":"ACL"},{"$f":"VLOOKUP(Catalogue[[#This Row],[Alias]],#REF!,2,FALSE)","v":{"$error":"#REF!"}},null,"ACL891464","JEU DE SONDES"]
["ACL891517",null,"MOTEUR VENTILATION",null,null,{"$f":"LEFT(Catalogue[[#This Row],[Référence]],3)","v":"ACL"},{"$f":"VLOOKUP(Catalogue[[#This Row],[Alias]],#REF!,2,FALSE)","v":{"$error":"#REF!"}},null,"ACL891517","MOTEUR VENTILATION"]
["ACL891544",null,"TELECOMMANDE",null,null,{"$f":"LEFT(Catalogue[[#This Row],[Référence]],3)","v":"ACL"},{"$f":"VLOOKUP(Catalogue[[#This Row],[Alias]],#REF!,2,FALSE)","v":{"$error":"#REF!"}},null,"ACL891544","TELECOMMANDE"]
["ACL891548",null,"PLATINE VOYANT  AWYZ14A24LBC",null,null,{"$f":"LEFT(Catalogue[[#This Row],[Référence]],3)","v":"ACL"},{"$f":"VLOOKUP(Catalogue[[#This Row],[Alias]],#REF!,2,FALSE)","v":{"$error":"#REF!"}},null,"ACL891548","PLATINE VOYANT  AWYZ14A24LBC"]
["ACL891564",null,"PLATINE INVERTER",null,null,{"$f":"LEFT(Catalogue[[#This Row],[Référence]],3)","v":"ACL"},{"$f":"VLOOKUP(Catalogue[[#This Row],[Alias]],#REF!,2,FALSE)","v":{"$error":"#REF!"}},null,"ACL891564","PLATINE INVERTER"]
["ACL891582",null,"SONDE EVAPORATEUR",null,null,{"$f":"LEFT(Catalogue[[#This Row],[Référence]],3)","v":"ACL"},{"$f":"VLOOKUP(Catalogue[[#This Row],[Alias]],#REF!,2,FALSE)","v":{"$error":"#REF!"}},null,"ACL891582","SONDE EVAPORATEUR"]
["ACL891587",null,"SONDE CONDENSEUR",null,null,{"$f":"LEFT(Catalogue[[#This Row],[Référence]],3)","v":"ACL"},{"$f":"VLOOKUP(Catalogue[[#This Row],[Alias]],#REF!,2,FALSE)","v":{"$error":"#REF!"}},null,"ACL891587","SONDE CONDENSEUR"]
["ACL891717",null,"CONDENSATEUR MOTEUR",null,null,{"$f":"LEFT(Catalogue[[#This Row],[Référence]],3)","v":"ACL"},{"$f":"VLOOKUP(Catalogue[[#This Row],[Alias]],#REF!,2,FALSE)","v":{"$error":"#REF!"}},null,"ACL891717","CONDENSATEUR MOTEUR"]
["ACL891775",null,"PLATINE ALIMENTATION",null,null,{"$f":"LEFT(Catalogue[[#This Row],[Référence]],3)","v":"ACL"},{"$f":"VLOOKUP(Catalogue[[#This Row],[Alias]],#REF!,2,FALSE)","v":{"$error":"#REF!"}},null,"ACL891775","PLATINE ALIMENTATION"]
["ACL891776",null,"PLATINE DE REGULATION",null,null,{"$f":"LEFT(Catalogue[[#This Row],[Référence]],3)","v":"ACL"},{"$f":"VLOOKUP(Catalogue[[#This Row],[Alias]],#REF!,2,FALSE)","v":{"$error":"#REF!"}},null,"ACL891776","PLATINE DE REGULATION"]
["ACL891778",null,"SONDE COMPRESSEUR",null,null,{"$f":"LEFT(Catalogue[[#This Row],[Référence]],3)","v":"ACL"},{"$f":"VLOOKUP(Catalogue[[#This Row],[Alias]],#REF!,2,FALSE)","v":{"$error":"#REF!"}},null,"ACL891778","SONDE COMPRESSEUR"]
["ACL891784",null,"DETENDEUR",null,null,{"$f":"LEFT(Catalogue[[#This Row],[Référence]],3)","v":"ACL"},{"$f":"VLOOKUP(Catalogue[[#This Row],[Alias]],#REF!,2,FALSE)","v":{"$error":"#REF!"}},null,"ACL891784","DETENDEUR"]
["ACL891785",null,"VANNE 4 VOIES",null,null,{"$f":"LEFT(Catalogue[[#This Row],[Référence]],3)","v":"ACL"},{"$f":"VLOOKUP(Catalogue[[#This Row],[Alias]],#REF!,2,FALSE)","v":{"$error":"#REF!"}},null,"ACL891785","VANNE 4 VOIES"]
["ACL891795",null,"PLATINE DE REGULATION",null,null,{"$f":"LEFT(Catalogue[[#This Row],[Référence]],3)","v":"ACL"},{"$f":"VLOOKUP(Catalogue[[#This Row],[Alias]],#REF!,2,FALSE)","v":{"$error":"#REF!"}},null,"ACL891795","PLATINE DE REGULATION"]
["ACL891823",null,"PLATINE DE REGULATION",null,null,{"$f":"LEFT(Catalogue[[#This Row],[Référence]],3)","v":"ACL"},{"$f":"VLOOKUP(Catalogue[[#This Row],[Alias]],#REF!,2,FALSE)","v":{"$error":"#REF!"}},null,"ACL891823","PLATINE DE REGULATION"]
["ACL891829",null,"PLATINE ALIMENTATION",null,null,{"$f":"LEFT(Catalogue[[#This Row],[Référence]],3)","v":"ACL"},{"$f":"VLOOKUP(Catalogue[[#This Row],[Alias]],#REF!,2,FALSE)","v":{"$error":"#REF!"}},null,"ACL891829","PLATINE ALIMENTATION"]
["ACL891838",null,"SONDE COMPRESSEUR AOYA12A24LACL/LALL",null,null,{"$f":"LEFT(Catalogue[[#This Row],[Référence]],3)","v":"ACL"},{"$f":"VLOOKUP(Catalogue[[#This Row],[Alias]],#REF!,2,FALSE)","v":{"$error":"#REF!"}},null,"ACL891838","SONDE COMPRESSEUR AOYA12A24LACL/LALL"]
["ACL891840",null,"MOTEUR VENTILATION",null,null,{"$f":"LEFT(Catalogue[[#This Row],[Référence]],3)","v":"ACL"},{"$f":"VLOOKUP(Catalogue[[#This Row],[Alias]],#REF!,2,FALSE)","v":{"$error":"#REF!"}},null,"ACL891840","MOTEUR VENTILATION"]
["ACL891873",null,"SONDE REPRISE",null,null,{"$f":"LEFT(Catalogue[[#This Row],[Référence]],3)","v":"ACL"},{"$f":"VLOOKUP(Catalogue[[#This Row],[Alias]],#REF!,2,FALSE)","v":{"$error":"#REF!"}},null,"ACL891873","SONDE REPRISE"]
["ACL891874",null,"POMPE DE RELEVAGE",null,null,{"$f":"LEFT(Catalogue[[#This Row],[Référence]],3)","v":"ACL"},{"$f":"VLOOKUP(Catalogue[[#This Row],[Alias]],#REF!,2,FALSE)","v":{"$error":"#REF!"}},null,"ACL891874","POMPE DE RELEVAGE"]
["ACL891879",null,"FLOTTEUR",null,null,{"$f":"LEFT(Catalogue[[#This Row],[Référence]],3)","v":"ACL"},{"$f":"VLOOKUP(Catalogue[[#This Row],[Alias]],#REF!,2,FALSE)","v":{"$error":"#REF!"}},null,"ACL891879","FLOTTEUR"]
["ACL892089",null,"MOTEUR DE BALAYAGE",null,null,{"$f":"LEFT(Catalogue[[#This Row],[Référence]],3)","v":"ACL"},{"$f":"VLOOKUP(Catalogue[[#This Row],[Alias]],#REF!,2,FALSE)","v":{"$error":"#REF!"}},null,"ACL892089","MOTEUR DE BALAYAGE"]
["ACL892199",null,"PLATINE REGULATION",null,null,{"$f":"LEFT(Catalogue[[#This Row],[Référence]],3)","v":"ACL"},{"$f":"VLOOKUP(Catalogue[[#This Row],[Alias]],#REF!,2,FALSE)","v":{"$error":"#REF!"}},null,"ACL892199","PLATINE REGULATION"]
["ACL892240",null,"PLATINE REGULATION",null,null,{"$f":"LEFT(Catalogue[[#This Row],[Référence]],3)","v":"ACL"},{"$f":"VLOOKUP(Catalogue[[#This Row],[Alias]],#REF!,2,FALSE)","v":{"$error":"#REF!"}},null,"ACL892240","PLATINE REGULATION"]
["ACL892327",null,"CABLE DE CONNEXION 15M",null,null,{"$f":"LEFT(Catalogue[[#This Row],[Référence]],3)","v":"ACL"},{"$f":"VLOOKUP(Catalogue[[#This Row],[Alias]],#REF!,2,FALSE)","v":{"$error":"#REF!"}},null,"ACL892327","CABLE DE CONNEXION 15M"]
["ACL892391",null,"SORTIE CONDENSAT",null,null,{"$f":"LEFT(Catalogue[[#This Row],[Référence]],3)","v":"ACL"},{"$f":"VLOOKUP(Catalogue[[#This Row],[Alias]],#REF!,2,FALSE)","v":{"$error":"#REF!"}},null,"ACL892391","SORTIE CONDENSAT"]
["ACL892405",null,"PLATINE REGULATION",null,null,{"$f":"LEFT(Catalogue[[#This Row],[Référence]],3)","v":"ACL"},{"$f":"VLOOKUP(Catalogue[[#This Row],[Alias]],#REF!,2,FALSE)","v":{"$error":"#REF!"}},null,"ACL892405","PLATINE REGULATION"]
["ACL892411",null,"BOBINE DETENDEUR",null,null,{"$f":"LEFT(Catalogue[[#This Row],[Référence]],3)","v":"ACL"},{"$f":"VLOOKUP(Catalogue[[#This Row],[Alias]],#REF!,2,FALSE)","v":{"$error":"#REF!"}},null,"ACL892411","BOBINE DETENDEUR"]
["ACL892465",null,"PLATINE REGULATION",null,null,{"$f":"LEFT(Catalogue[[#This Row],[Référence]],3)","v":"ACL"},{"$f":"VLOOKUP(Catalogue[[#This Row],[Alias]],#REF!,2,FALSE)","v":{"$error":"#REF!"}},null,"ACL892465","PLATINE REGULATION"]
["ACL892467",null,"PLATINE REGULATION",null,null,{"$f":"LEFT(Catalogue[[#This Row],[Référence]],3)","v":"ACL"},{"$f":"VLOOKUP(Catalogue[[#This Row],[Alias]],#REF!,2,FALSE)","v":{"$error":"#REF!"}},null,"ACL892467","PLATINE REGULATION"]
["ACL892484",null,"HELICE",null,null,{"$f":"LEFT(Catalogue[[#This Row],[Référence]],3)","v":"ACL"},{"$f":"VLOOKUP(Catalogue[[#This Row],[Alias]],#REF!,2,FALSE)","v":{"$error":"#REF!"}},null,"ACL892484","HELICE"]
["ACL892497",null,"JEU DE SONDES",null,null,{"$f":"LEFT(Catalogue[[#This Row],[Référence]],3)","v":"ACL"},{"$f":"VLOOKUP(Catalogue[[#This Row],[Alias]],#REF!,2,FALSE)","v":{"$error":"#REF!"}},null,"ACL892497","JEU DE SONDES"]
["ACL892506",null,"CORPS AVANT COMPLET",null,null,{"$f":"LEFT(Catalogue[[#This Row],[Référence]],3)","v":"ACL"},{"$f":"VLOOKUP(Catalogue[[#This Row],[Alias]],#REF!,2,FALSE)","v":{"$error":"#REF!"}},null,"ACL892506","CORPS AVANT COMPLET"]
["ACL892509",null,"PLATINE REGULATION",null,null,{"$f":"LEFT(Catalogue[[#This Row],[Référence]],3)","v":"ACL"},{"$f":"VLOOKUP(Catalogue[[#This Row],[Alias]],#REF!,2,FALSE)","v":{"$error":"#REF!"}},null,"ACL892509","PLATINE REGULATION"]
["ACL892511",null,"PLATINE REGULATION",null,null,{"$f":"LEFT(Catalogue[[#This Row],[Référence]],3)","v":"ACL"},{"$f":"VLOOKUP(Catalogue[[#This Row],[Alias]],#REF!,2,FALSE)","v":{"$error":"#REF!"}},null,"ACL892511","PLATINE REGULATION"]
["ACL892517",null,"PLATINE REGULATION + BORNIER",null,null,{"$f":"LEFT(Catalogue[[#This Row],[Référence]],3)","v":"ACL"},{"$f":"VLOOKUP(Catalogue[[#This Row],[Alias]],#REF!,2,FALSE)","v":{"$error":"#REF!"}},null,"ACL892517","PLATINE REGULATION + BORNIER"]
["ACL892519",null,"PLATINE REGULATION + BORNIER",null,null,{"$f":"LEFT(Catalogue[[#This Row],[Référence]],3)","v":"ACL"},{"$f":"VLOOKUP(Catalogue[[#This Row],[Alias]],#REF!,2,FALSE)","v":{"$error":"#REF!"}},null,"ACL892519","PLATINE REGULATION + BORNIER"]
["ACL892614",null,"1U 009 JD.UE",null,null,{"$f":"LEFT(Catalogue[[#This Row],[Référence]],3)","v":"ACL"},{"$f":"VLOOKUP(Catalogue[[#This Row],[Alias]],#REF!,2,FALSE)","v":{"$error":"#REF!"}},null,"ACL892614","1U 009 JD.UE"]
["ACL892615",null,"1U 012 JD.UE",null,null,{"$f":"LEFT(Catalogue[[#This Row],[Référence]],3)","v":"ACL"},{"$f":"VLOOKUP(Catalogue[[#This Row],[Alias]],#REF!,2,FALSE)","v":{"$error":"#REF!"}},null,"ACL892615","1U 012 JD.UE"]
["ACL892616",null,"1U 018 JD.UE",null,null,{"$f":"LEFT(Catalogue[[#This Row],[Référence]],3)","v":"ACL"},{"$f":"VLOOKUP(Catalogue[[#This Row],[Alias]],#REF!,2,FALSE)","v":{"$error":"#REF!"}},null,"ACL892616","1U 018 JD.UE"]
["ACL892731",null,"BAC A CONDENSATS",null,null,{"$f":"LEFT(Catalogue[[#This Row],[Référence]],3)","v":"ACL"},{"$f":"VLOOKUP(Catalogue[[#This Row],[Alias]],#REF!,2,FALSE)","v":{"$error":"#REF!"}},null,"ACL892731","BAC A CONDENSATS"]
["ACL892733",null,"MOTEUR VENTILATION",null,null,{"$f":"LEFT(Catalogue[[#This Row],[Référence]],3)","v":"ACL"},{"$f":"VLOOKUP(Catalogue[[#This Row],[Alias]],#REF!,2,FALSE)","v":{"$error":"#REF!"}},null,"ACL892733","MOTEUR VENTILATION"]
["ACL892754",null,"CLEF WIFI",null,null,{"$f":"LEFT(Catalogue[[#This Row],[Référence]],3)","v":"ACL"},{"$f":"VLOOKUP(Catalogue[[#This Row],[Alias]],#REF!,2,FALSE)","v":{"$error":"#REF!"}},null,"ACL892754","CLEF WIFI"]
["ACL892769",null,"GRILLE DE PROTECTION HELICE",null,null,{"$f":"LEFT(Catalogue[[#This Row],[Référence]],3)","v":"ACL"},{"$f":"VLOOKUP(Catalogue[[#This Row],[Alias]],#REF!,2,FALSE)","v":{"$error":"#REF!"}},null,"ACL892769","GRILLE DE PROTECTION HELICE"]
["ACL892777",null,"PLATINE REGULATION",null,null,{"$f":"LEFT(Catalogue[[#This Row],[Référence]],3)","v":"ACL"},{"$f":"VLOOKUP(Catalogue[[#This Row],[Alias]],#REF!,2,FALSE)","v":{"$error":"#REF!"}},null,"ACL892777","PLATINE REGULATION"]
["ACL892781",null,{"$f":"VLOOKUP(A386,I:J,2,0)","v":"JEU DE SONDES"},null,null,{"$f":"LEFT(Catalogue[[#This Row],[Référence]],3)","v":"ACL"},{"$f":"VLOOKUP(Catalogue[[#This Row],[Alias]],#REF!,2,FALSE)","v":{"$error":"#REF!"}},null,"ACL892781","JEU DE SONDES"]
["ACL892784",null,"JEU DE SONDES",null,null,{"$f":"LEFT(Catalogue[[#This Row],[Référence]],3)","v":"ACL"},{"$f":"VLOOKUP(Catalogue[[#This Row],[Alias]],#REF!,2,FALSE)","v":{"$error":"#REF!"}},null,"ACL892784","JEU DE SONDES"]
["ACL892819",null,"COMPRESSEUR",null,null,{"$f":"LEFT(Catalogue[[#This Row],[Référence]],3)","v":"ACL"},{"$f":"VLOOKUP(Catalogue[[#This Row],[Alias]],#REF!,2,FALSE)","v":{"$error":"#REF!"}},null,"ACL892819","COMPRESSEUR"]
["ACL892843",null,"ASSEMBLAGE SOUPAPE EXPAN. ELEC",null,null,{"$f":"LEFT(Catalogue[[#This Row],[Référence]],3)","v":"ACL"},{"$f":"VLOOKUP(Catalogue[[#This Row],[Alias]],#REF!,2,FALSE)","v":{"$error":"#REF!"}},null,"ACL892843","ASSEMBLAGE SOUPAPE EXPAN. ELEC"]
["ACL892844",null,"ASSEMBLAGE SOUPAPE EXPAN. ELEC",null,null,{"$f":"LEFT(Catalogue[[#This Row],[Référence]],3)","v":"ACL"},{"$f":"VLOOKUP(Catalogue[[#This Row],[Alias]],#REF!,2,FALSE)","v":{"$error":"#REF!"}},null,"ACL892844","ASSEMBLAGE SOUPAPE EXPAN. ELEC"]
["ACL892872",null,"ENSEMBLE VALVE D EXPENSION",null,null,{"$f":"LEFT(Catalogue[[#This Row],[Référence]],3)","v":"ACL"},{"$f":"VLOOKUP(Catalogue[[#This Row],[Alias]],#REF!,2,FALSE)","v":{"$error":"#REF!"}},null,"ACL892872","ENSEMBLE VALVE D EXPENSION"]
["ACL892896",null,"HELICE",null,null,{"$f":"LEFT(Catalogue[[#This Row],[Référence]],3)","v":"ACL"},{"$f":"VLOOKUP(Catalogue[[#This Row],[Alias]],#REF!,2,FALSE)","v":{"$error":"#REF!"}},null,"ACL892896","HELICE"]
["ACL893269",null,"CONDENSATEUR COMPRESSEUR",null,null,{"$f":"LEFT(Catalogue[[#This Row],[Référence]],3)","v":"ACL"},{"$f":"VLOOKUP(Catalogue[[#This Row],[Alias]],#REF!,2,FALSE)","v":{"$error":"#REF!"}},null,"ACL893269","CONDENSATEUR COMPRESSEUR"]
["ACL893360",null,"AS 009 JD.UI",null,null,{"$f":"LEFT(Catalogue[[#This Row],[Référence]],3)","v":"ACL"},{"$f":"VLOOKUP(Catalogue[[#This Row],[Alias]],#REF!,2,FALSE)","v":{"$error":"#REF!"}},null,"ACL893360","AS 009 JD.UI"]
["ACL893361",null,"AS 012 JD.UI",null,null,{"$f":"LEFT(Catalogue[[#This Row],[Référence]],3)","v":"ACL"},{"$f":"VLOOKUP(Catalogue[[#This Row],[Alias]],#REF!,2,FALSE)","v":{"$error":"#REF!"}},null,"ACL893361","AS 012 JD.UI"]
["ACL893362",null,"AS 018 JD.UI",null,null,{"$f":"LEFT(Catalogue[[#This Row],[Référence]],3)","v":"ACL"},{"$f":"VLOOKUP(Catalogue[[#This Row],[Alias]],#REF!,2,FALSE)","v":{"$error":"#REF!"}},null,"ACL893362","AS 018 JD.UI"]
["ACL893467",null,"POMPE DE RELEVAGE",null,null,{"$f":"LEFT(Catalogue[[#This Row],[Référence]],3)","v":"ACL"},{"$f":"VLOOKUP(Catalogue[[#This Row],[Alias]],#REF!,2,FALSE)","v":{"$error":"#REF!"}},null,"ACL893467","POMPE DE RELEVAGE"]
["ACL893825",null,"BOBINE V4V2 AO72TPBMF  FC 07/2015",null,null,{"$f":"LEFT(Catalogue[[#This Row],[Référence]],3)","v":"ACL"},{"$f":"VLOOKUP(Catalogue[[#This Row],[Alias]],#REF!,2,FALSE)","v":{"$error":"#REF!"}},null,"ACL893825","BOBINE V4V2 AO72TPBMF  FC 07/2015"]
["ACL893920",null,"BOBINE VANNE 4 VOIES",null,null,{"$f":"LEFT(Catalogue[[#This Row],[Référence]],3)","v":"ACL"},{"$f":"VLOOKUP(Catalogue[[#This Row],[Alias]],#REF!,2,FALSE)","v":{"$error":"#REF!"}},null,"ACL893920","BOBINE VANNE 4 VOIES"]
["ACL893942",null,"SONDE ECHANGEUR",null,null,{"$f":"LEFT(Catalogue[[#This Row],[Référence]],3)","v":"ACL"},{"$f":"VLOOKUP(Catalogue[[#This Row],[Alias]],#REF!,2,FALSE)","v":{"$error":"#REF!"}},null,"ACL893942","SONDE ECHANGEUR"]
["ACL894065",null,"PLATINE COMMUNICATION",null,null,{"$f":"LEFT(Catalogue[[#This Row],[Référence]],3)","v":"ACL"},{"$f":"VLOOKUP(Catalogue[[#This Row],[Alias]],#REF!,2,FALSE)","v":{"$error":"#REF!"}},null,"ACL894065","PLATINE COMMUNICATION"]
["ACL894511",null,"JEU DE SONDES",null,null,{"$f":"LEFT(Catalogue[[#This Row],[Référence]],3)","v":"ACL"},{"$f":"VLOOKUP(Catalogue[[#This Row],[Alias]],#REF!,2,FALSE)","v":{"$error":"#REF!"}},null,"ACL894511","JEU DE SONDES"]
["ACL894598",null,"POMPE DE RELEVAGE",null,null,{"$f":"LEFT(Catalogue[[#This Row],[Référence]],3)","v":"ACL"},{"$f":"VLOOKUP(Catalogue[[#This Row],[Alias]],#REF!,2,FALSE)","v":{"$error":"#REF!"}},null,"ACL894598","POMPE DE RELEVAGE"]
["ACL894964",null,"VOLET HAUT",null,null,{"$f":"LEFT(Catalogue[[#This Row],[Référence]],3)","v":"ACL"},{"$f":"VLOOKUP(Catalogue[[#This Row],[Alias]],#REF!,2,FALSE)","v":{"$error":"#REF!"}},null,"ACL894964","VOLET HAUT"]
["ACL894965",null,"VOLET BAS",null,null,{"$f":"LEFT(Catalogue[[#This Row],[Référence]],3)","v":"ACL"},{"$f":"VLOOKUP(Catalogue[[#This Row],[Alias]],#REF!,2,FALSE)","v":{"$error":"#REF!"}},null,"ACL894965","VOLET BAS"]
["ACL896008",null,"MOTEUR VENTILATION",null,null,{"$f":"LEFT(Catalogue[[#This Row],[Référence]],3)","v":"ACL"},{"$f":"VLOOKUP(Catalogue[[#This Row],[Alias]],#REF!,2,FALSE)","v":{"$error":"#REF!"}},null,"ACL896008","MOTEUR VENTILATION"]
["ACL896084",null,"MOTEUR VENTILATION",null,null,{"$f":"LEFT(Catalogue[[#This Row],[Référence]],3)","v":"ACL"},{"$f":"VLOOKUP(Catalogue[[#This Row],[Alias]],#REF!,2,FALSE)","v":{"$error":"#REF!"}},null,"ACL896084","MOTEUR VENTILATION"]
["ACL896086",null,"JEU DE SONDES",null,null,{"$f":"LEFT(Catalogue[[#This Row],[Référence]],3)","v":"ACL"},{"$f":"VLOOKUP(Catalogue[[#This Row],[Alias]],#REF!,2,FALSE)","v":{"$error":"#REF!"}},null,"ACL896086","JEU DE SONDES"]
["ACL896129",null,"MOTEUR VOLET",null,null,{"$f":"LEFT(Catalogue[[#This Row],[Référence]],3)","v":"ACL"},{"$f":"VLOOKUP(Catalogue[[#This Row],[Alias]],#REF!,2,FALSE)","v":{"$error":"#REF!"}},null,"ACL896129","MOTEUR VOLET"]
["ACL896244",null,"PLATINE INVERTER",null,null,{"$f":"LEFT(Catalogue[[#This Row],[Référence]],3)","v":"ACL"},{"$f":"VLOOKUP(Catalogue[[#This Row],[Alias]],#REF!,2,FALSE)","v":{"$error":"#REF!"}},null,"ACL896244","PLATINE INVERTER"]
["ACL896385",null,"EQUERRE DE FIXATION",null,null,{"$f":"LEFT(Catalogue[[#This Row],[Référence]],3)","v":"ACL"},{"$f":"VLOOKUP(Catalogue[[#This Row],[Alias]],#REF!,2,FALSE)","v":{"$error":"#REF!"}},null,"ACL896385","EQUERRE DE FIXATION"]
["ACL896789",null,"BOBINE DETENDEUR",null,null,{"$f":"LEFT(Catalogue[[#This Row],[Référence]],3)","v":"ACL"},{"$f":"VLOOKUP(Catalogue[[#This Row],[Alias]],#REF!,2,FALSE)","v":{"$error":"#REF!"}},null,"ACL896789","BOBINE DETENDEUR"]
["ACL896832",null,"FACADE AVANT",null,null,{"$f":"LEFT(Catalogue[[#This Row],[Référence]],3)","v":"ACL"},{"$f":"VLOOKUP(Catalogue[[#This Row],[Alias]],#REF!,2,FALSE)","v":{"$error":"#REF!"}},null,"ACL896832","FACADE AVANT"]
["ACL897010",null,"PLATINE FILTRE",null,null,{"$f":"LEFT(Catalogue[[#This Row],[Référence]],3)","v":"ACL"},{"$f":"VLOOKUP(Catalogue[[#This Row],[Alias]],#REF!,2,FALSE)","v":{"$error":"#REF!"}},null,"ACL897010","PLATINE FILTRE"]
["ACL897013",null,"FILTRE",null,null,{"$f":"LEFT(Catalogue[[#This Row],[Référence]],3)","v":"ACL"},{"$f":"VLOOKUP(Catalogue[[#This Row],[Alias]],#REF!,2,FALSE)","v":{"$error":"#REF!"}},null,"ACL897013","FILTRE"]
["ACL897015",null,"VOLET",null,null,{"$f":"LEFT(Catalogue[[#This Row],[Référence]],3)","v":"ACL"},{"$f":"VLOOKUP(Catalogue[[#This Row],[Alias]],#REF!,2,FALSE)","v":{"$error":"#REF!"}},null,"ACL897015","VOLET"]
["ACL897016",null,"DIFFUSEUR",null,null,{"$f":"LEFT(Catalogue[[#This Row],[Référence]],3)","v":"ACL"},{"$f":"VLOOKUP(Catalogue[[#This Row],[Alias]],#REF!,2,FALSE)","v":{"$error":"#REF!"}},null,"ACL897016","DIFFUSEUR"]
["ACL897017",null,"PLATINE DE REGULATION",null,null,{"$f":"LEFT(Catalogue[[#This Row],[Référence]],3)","v":"ACL"},{"$f":"VLOOKUP(Catalogue[[#This Row],[Alias]],#REF!,2,FALSE)","v":{"$error":"#REF!"}},null,"ACL897017","PLATINE DE REGULATION"]
["ACL897018",null,"PLATINE DE REGULATION",null,null,{"$f":"LEFT(Catalogue[[#This Row],[Référence]],3)","v":"ACL"},{"$f":"VLOOKUP(Catalogue[[#This Row],[Alias]],#REF!,2,FALSE)","v":{"$error":"#REF!"}},null,"ACL897018","PLATINE DE REGULATION"]
["ACL897019",null,"PLATINE DE REGULATION",null,null,{"$f":"LEFT(Catalogue[[#This Row],[Référence]],3)","v":"ACL"},{"$f":"VLOOKUP(Catalogue[[#This Row],[Alias]],#REF!,2,FALSE)","v":{"$error":"#REF!"}},null,"ACL897019","PLATINE DE REGULATION"]
["ACL897020",null,"PLATINE IR",null,null,{"$f":"LEFT(Catalogue[[#This Row],[Référence]],3)","v":"ACL"},{"$f":"VLOOKUP(Catalogue[[#This Row],[Alias]],#REF!,2,FALSE)","v":{"$error":"#REF!"}},null,"ACL897020","PLATINE IR"]
["ACL897021",null,"JEU DE SONDES",null,null,{"$f":"LEFT(Catalogue[[#This Row],[Référence]],3)","v":"ACL"},{"$f":"VLOOKUP(Catalogue[[#This Row],[Alias]],#REF!,2,FALSE)","v":{"$error":"#REF!"}},null,"ACL897021","JEU DE SONDES"]
["ACL897023",null,"MOTEUR VENTILATION",null,null,{"$f":"LEFT(Catalogue[[#This Row],[Référence]],3)","v":"ACL"},{"$f":"VLOOKUP(Catalogue[[#This Row],[Alias]],#REF!,2,FALSE)","v":{"$error":"#REF!"}},null,"ACL897023","MOTEUR VENTILATION"]
["ACL897024",null,"BAC A CONDENSATS",null,null,{"$f":"LEFT(Catalogue[[#This Row],[Référence]],3)","v":"ACL"},{"$f":"VLOOKUP(Catalogue[[#This Row],[Alias]],#REF!,2,FALSE)","v":{"$error":"#REF!"}},null,"ACL897024","BAC A CONDENSATS"]
["ACL897035",null,"MOTEUR VENTILATION",null,null,{"$f":"LEFT(Catalogue[[#This Row],[Référence]],3)","v":"ACL"},{"$f":"VLOOKUP(Catalogue[[#This Row],[Alias]],#REF!,2,FALSE)","v":{"$error":"#REF!"}},null,"ACL897035","MOTEUR VENTILATION"]
["ACL897036",null,"PLATINE DE REGULATION",null,null,{"$f":"LEFT(Catalogue[[#This Row],[Référence]],3)","v":"ACL"},{"$f":"VLOOKUP(Catalogue[[#This Row],[Alias]],#REF!,2,FALSE)","v":{"$error":"#REF!"}},null,"ACL897036","PLATINE DE REGULATION"]
["ACL897042",null,"COMPRESSEUR",null,null,{"$f":"LEFT(Catalogue[[#This Row],[Référence]],3)","v":"ACL"},{"$f":"VLOOKUP(Catalogue[[#This Row],[Alias]],#REF!,2,FALSE)","v":{"$error":"#REF!"}},null,"ACL897042","COMPRESSEUR"]
["ACL897056",null,"PLATINE DE REGULATION",null,null,{"$f":"LEFT(Catalogue[[#This Row],[Référence]],3)","v":"ACL"},{"$f":"VLOOKUP(Catalogue[[#This Row],[Alias]],#REF!,2,FALSE)","v":{"$error":"#REF!"}},null,"ACL897056","PLATINE DE REGULATION"]
["ACL897105",null,"PLATINE COMMUNICATION TC",null,null,{"$f":"LEFT(Catalogue[[#This Row],[Référence]],3)","v":"ACL"},{"$f":"VLOOKUP(Catalogue[[#This Row],[Alias]],#REF!,2,FALSE)","v":{"$error":"#REF!"}},null,"ACL897105","PLATINE COMMUNICATION TC"]
["ACL897202",null,"PLATINE DE REGULATION",null,null,{"$f":"LEFT(Catalogue[[#This Row],[Référence]],3)","v":"ACL"},{"$f":"VLOOKUP(Catalogue[[#This Row],[Alias]],#REF!,2,FALSE)","v":{"$error":"#REF!"}},null,"ACL897202","PLATINE DE REGULATION"]
["ACL897204",null,"PLATINE D ALIMENTATION",null,null,{"$f":"LEFT(Catalogue[[#This Row],[Référence]],3)","v":"ACL"},{"$f":"VLOOKUP(Catalogue[[#This Row],[Alias]],#REF!,2,FALSE)","v":{"$error":"#REF!"}},null,"ACL897204","PLATINE D ALIMENTATION"]
["ACL897215",null,"PLATINE DE REGULATION",null,null,{"$f":"LEFT(Catalogue[[#This Row],[Référence]],3)","v":"ACL"},{"$f":"VLOOKUP(Catalogue[[#This Row],[Alias]],#REF!,2,FALSE)","v":{"$error":"#REF!"}},null,"ACL897215","PLATINE DE REGULATION"]
["ACL897240",null,"BOBINE DETENDEUR",null,null,{"$f":"LEFT(Catalogue[[#This Row],[Référence]],3)","v":"ACL"},{"$f":"VLOOKUP(Catalogue[[#This Row],[Alias]],#REF!,2,FALSE)","v":{"$error":"#REF!"}},null,"ACL897240","BOBINE DETENDEUR"]
["ACL897251",null,"BOUTEILLE DE STOCKAGE",null,null,{"$f":"LEFT(Catalogue[[#This Row],[Référence]],3)","v":"ACL"},{"$f":"VLOOKUP(Catalogue[[#This Row],[Alias]],#REF!,2,FALSE)","v":{"$error":"#REF!"}},null,"ACL897251","BOUTEILLE DE STOCKAGE"]
["ACL897258",null,"COMPRESSEUR",null,null,{"$f":"LEFT(Catalogue[[#This Row],[Référence]],3)","v":"ACL"},{"$f":"VLOOKUP(Catalogue[[#This Row],[Alias]],#REF!,2,FALSE)","v":{"$error":"#REF!"}},null,"ACL897258","COMPRESSEUR"]
["ACL897259",null,"COMPRESSEUR",null,null,{"$f":"LEFT(Catalogue[[#This Row],[Référence]],3)","v":"ACL"},{"$f":"VLOOKUP(Catalogue[[#This Row],[Alias]],#REF!,2,FALSE)","v":{"$error":"#REF!"}},null,"ACL897259","COMPRESSEUR"]
["ACL897264",null,"CONDENSEUR",null,null,{"$f":"LEFT(Catalogue[[#This Row],[Référence]],3)","v":"ACL"},{"$f":"VLOOKUP(Catalogue[[#This Row],[Alias]],#REF!,2,FALSE)","v":{"$error":"#REF!"}},null,"ACL897264","CONDENSEUR"]
["ACL897269",null,"DETENDEUR",null,null,{"$f":"LEFT(Catalogue[[#This Row],[Référence]],3)","v":"ACL"},{"$f":"VLOOKUP(Catalogue[[#This Row],[Alias]],#REF!,2,FALSE)","v":{"$error":"#REF!"}},null,"ACL897269","DETENDEUR"]
["ACL897273",null,"DETENDEUR",null,null,{"$f":"LEFT(Catalogue[[#This Row],[Référence]],3)","v":"ACL"},{"$f":"VLOOKUP(Catalogue[[#This Row],[Alias]],#REF!,2,FALSE)","v":{"$error":"#REF!"}},null,"ACL897273","DETENDEUR"]
["ACL897291",null,"FILTRE A TAMIS",null,null,{"$f":"LEFT(Catalogue[[#This Row],[Référence]],3)","v":"ACL"},{"$f":"VLOOKUP(Catalogue[[#This Row],[Alias]],#REF!,2,FALSE)","v":{"$error":"#REF!"}},null,"ACL897291","FILTRE A TAMIS"]
["ACL897292",null,"FILTRE A TAMIS",null,null,{"$f":"LEFT(Catalogue[[#This Row],[Référence]],3)","v":"ACL"},{"$f":"VLOOKUP(Catalogue[[#This Row],[Alias]],#REF!,2,FALSE)","v":{"$error":"#REF!"}},null,"ACL897292","FILTRE A TAMIS"]
["ACL897298",null,"HELICE",null,null,{"$f":"LEFT(Catalogue[[#This Row],[Référence]],3)","v":"ACL"},{"$f":"VLOOKUP(Catalogue[[#This Row],[Alias]],#REF!,2,FALSE)","v":{"$error":"#REF!"}},null,"ACL897298","HELICE"]
["ACL897299",null,"HELICE",null,null,{"$f":"LEFT(Catalogue[[#This Row],[Référence]],3)","v":"ACL"},{"$f":"VLOOKUP(Catalogue[[#This Row],[Alias]],#REF!,2,FALSE)","v":{"$error":"#REF!"}},null,"ACL897299","HELICE"]
["ACL897301",null,"BOBINE D ARRET",null,null,{"$f":"LEFT(Catalogue[[#This Row],[Référence]],3)","v":"ACL"},{"$f":"VLOOKUP(Catalogue[[#This Row],[Alias]],#REF!,2,FALSE)","v":{"$error":"#REF!"}},null,"ACL897301","BOBINE D ARRET"]
["ACL897302",null,"JEU DE SONDES",null,null,{"$f":"LEFT(Catalogue[[#This Row],[Référence]],3)","v":"ACL"},{"$f":"VLOOKUP(Catalogue[[#This Row],[Alias]],#REF!,2,FALSE)","v":{"$error":"#REF!"}},null,"ACL897302","JEU DE SONDES"]
["ACL897303",null,"MOTEUR VENTILATION",null,null,{"$f":"LEFT(Catalogue[[#This Row],[Référence]],3)","v":"ACL"},{"$f":"VLOOKUP(Catalogue[[#This Row],[Alias]],#REF!,2,FALSE)","v":{"$error":"#REF!"}},null,"ACL897303","MOTEUR VENTILATION"]
["ACL897307",null,"MOTEUR VENTILATION",null,null,{"$f":"LEFT(Catalogue[[#This Row],[Référence]],3)","v":"ACL"},{"$f":"VLOOKUP(Catalogue[[#This Row],[Alias]],#REF!,2,FALSE)","v":{"$error":"#REF!"}},null,"ACL897307","MOTEUR VENTILATION"]
["ACL897308",null,"PLATINE ALIMENTATION",null,null,{"$f":"LEFT(Catalogue[[#This Row],[Référence]],3)","v":"ACL"},{"$f":"VLOOKUP(Catalogue[[#This Row],[Alias]],#REF!,2,FALSE)","v":{"$error":"#REF!"}},null,"ACL897308","PLATINE ALIMENTATION"]
["ACL897315",null,"PLATINE D ALIMENTATION",null,null,{"$f":"LEFT(Catalogue[[#This Row],[Référence]],3)","v":"ACL"},{"$f":"VLOOKUP(Catalogue[[#This Row],[Alias]],#REF!,2,FALSE)","v":{"$error":"#REF!"}},null,"ACL897315","PLATINE D ALIMENTATION"]
["ACL897316",null,{"$f":"VLOOKUP(A450,I:J,2,0)","v":"PLATINE CONDENSATEUR"},null,null,{"$f":"LEFT(Catalogue[[#This Row],[Référence]],3)","v":"ACL"},{"$f":"VLOOKUP(Catalogue[[#This Row],[Alias]],#REF!,2,FALSE)","v":{"$error":"#REF!"}},null,"ACL897316","PLATINE CONDENSATEUR"]
["ACL897319",null,"PLATINE FILTRE ACTIF",null,null,{"$f":"LEFT(Catalogue[[#This Row],[Référence]],3)","v":"ACL"},{"$f":"VLOOKUP(Catalogue[[#This Row],[Alias]],#REF!,2,FALSE)","v":{"$error":"#REF!"}},null,"ACL897319","PLATINE FILTRE ACTIF"]
["ACL897321",null,"PLATINE INVERTER",null,null,{"$f":"LEFT(Catalogue[[#This Row],[Référence]],3)","v":"ACL"},{"$f":"VLOOKUP(Catalogue[[#This Row],[Alias]],#REF!,2,FALSE)","v":{"$error":"#REF!"}},null,"ACL897321","PLATINE INVERTER"]
["ACL897323",null,"PLATINE REGULATION ARY30LUAN",null,null,{"$f":"LEFT(Catalogue[[#This Row],[Référence]],3)","v":"ACL"},{"$f":"VLOOKUP(Catalogue[[#This Row],[Alias]],#REF!,2,FALSE)","v":{"$error":"#REF!"}},null,"ACL897323","PLATINE REGULATION ARY30LUAN"]
["ACL897326",null,"PLATINE REGULATION ARY54LUAK",null,null,{"$f":"LEFT(Catalogue[[#This Row],[Référence]],3)","v":"ACL"},{"$f":"VLOOKUP(Catalogue[[#This Row],[Alias]],#REF!,2,FALSE)","v":{"$error":"#REF!"}},null,"ACL897326","PLATINE REGULATION ARY54LUAK"]
["ACL897329",null,"PLATINE REGULATION",null,null,{"$f":"LEFT(Catalogue[[#This Row],[Référence]],3)","v":"ACL"},{"$f":"VLOOKUP(Catalogue[[#This Row],[Alias]],#REF!,2,FALSE)","v":{"$error":"#REF!"}},null,"ACL897329","PLATINE REGULATION"]
["ACL897330",null,"PLATINE REGULATION AOYA24LACL",null,null,{"$f":"LEFT(Catalogue[[#This Row],[Référence]],3)","v":"ACL"},{"$f":"VLOOKUP(Catalogue[[#This Row],[Alias]],#REF!,2,FALSE)","v":{"$error":"#REF!"}},null,"ACL897330","PLATINE REGULATION AOYA24LACL"]
["ACL897331",null,"PLATINE REGULATION",null,null,{"$f":"LEFT(Catalogue[[#This Row],[Référence]],3)","v":"ACL"},{"$f":"VLOOKUP(Catalogue[[#This Row],[Alias]],#REF!,2,FALSE)","v":{"$error":"#REF!"}},null,"ACL897331","PLATINE REGULATION"]
["ACL897332",null,"PLATINE REGULATION AOYA36LBTL",null,null,{"$f":"LEFT(Catalogue[[#This Row],[Référence]],3)","v":"ACL"},{"$f":"VLOOKUP(Catalogue[[#This Row],[Alias]],#REF!,2,FALSE)","v":{"$error":"#REF!"}},null,"ACL897332","PLATINE REGULATION AOYA36LBTL"]
["ACL897341",null,"SONDE COMPRESSEUR",null,null,{"$f":"LEFT(Catalogue[[#This Row],[Référence]],3)","v":"ACL"},{"$f":"VLOOKUP(Catalogue[[#This Row],[Alias]],#REF!,2,FALSE)","v":{"$error":"#REF!"}},null,"ACL897341","SONDE COMPRESSEUR"]
["ACL897349",null,"SONDE CONDENSEUR",null,null,{"$f":"LEFT(Catalogue[[#This Row],[Référence]],3)","v":"ACL"},{"$f":"VLOOKUP(Catalogue[[#This Row],[Alias]],#REF!,2,FALSE)","v":{"$error":"#REF!"}},null,"ACL897349","SONDE CONDENSEUR"]
["ACL897350",null,"SONDE CONDENSEUR",null,null,{"$f":"LEFT(Catalogue[[#This Row],[Référence]],3)","v":"ACL"},{"$f":"VLOOKUP(Catalogue[[#This Row],[Alias]],#REF!,2,FALSE)","v":{"$error":"#REF!"}},null,"ACL897350","SONDE CONDENSEUR"]
["ACL897351",null,"SONDE EXTERIEURE",null,null,{"$f":"LEFT(Catalogue[[#This Row],[Référence]],3)","v":"ACL"},{"$f":"VLOOKUP(Catalogue[[#This Row],[Alias]],#REF!,2,FALSE)","v":{"$error":"#REF!"}},null,"ACL897351","SONDE EXTERIEURE"]
["ACL897352",null,"SONDE EVAPORATEUR",null,null,{"$f":"LEFT(Catalogue[[#This Row],[Référence]],3)","v":"ACL"},{"$f":"VLOOKUP(Catalogue[[#This Row],[Alias]],#REF!,2,FALSE)","v":{"$error":"#REF!"}},null,"ACL897352","SONDE EVAPORATEUR"]
["ACL897354",null,"SONDE EXTERIEURE",null,null,{"$f":"LEFT(Catalogue[[#This Row],[Référence]],3)","v":"ACL"},{"$f":"VLOOKUP(Catalogue[[#This Row],[Alias]],#REF!,2,FALSE)","v":{"$error":"#REF!"}},null,"ACL897354","SONDE EXTERIEURE"]
["ACL897355",null,"SONDE EXTERIEURE",null,null,{"$f":"LEFT(Catalogue[[#This Row],[Référence]],3)","v":"ACL"},{"$f":"VLOOKUP(Catalogue[[#This Row],[Alias]],#REF!,2,FALSE)","v":{"$error":"#REF!"}},null,"ACL897355","SONDE EXTERIEURE"]
["ACL897356",null,"SONDE EXTERIEURE",null,null,{"$f":"LEFT(Catalogue[[#This Row],[Référence]],3)","v":"ACL"},{"$f":"VLOOKUP(Catalogue[[#This Row],[Alias]],#REF!,2,FALSE)","v":{"$error":"#REF!"}},null,"ACL897356","SONDE EXTERIEURE"]
["ACL897357",null,"SONDE RADIATEUR",null,null,{"$f":"LEFT(Catalogue[[#This Row],[Référence]],3)","v":"ACL"},{"$f":"VLOOKUP(Catalogue[[#This Row],[Alias]],#REF!,2,FALSE)","v":{"$error":"#REF!"}},null,"ACL897357","SONDE RADIATEUR"]
["ACL897358",null,"SONDE REFOULEMENT",null,null,{"$f":"LEFT(Catalogue[[#This Row],[Référence]],3)","v":"ACL"},{"$f":"VLOOKUP(Catalogue[[#This Row],[Alias]],#REF!,2,FALSE)","v":{"$error":"#REF!"}},null,"ACL897358","SONDE REFOULEMENT"]
["ACL897359",null,"SONDE REFOULEMENT",null,null,{"$f":"LEFT(Catalogue[[#This Row],[Référence]],3)","v":"ACL"},{"$f":"VLOOKUP(Catalogue[[#This Row],[Alias]],#REF!,2,FALSE)","v":{"$error":"#REF!"}},null,"ACL897359","SONDE REFOULEMENT"]
["ACL897361",null,"SORTIE DE CONDENSATS",null,null,{"$f":"LEFT(Catalogue[[#This Row],[Référence]],3)","v":"ACL"},{"$f":"VLOOKUP(Catalogue[[#This Row],[Alias]],#REF!,2,FALSE)","v":{"$error":"#REF!"}},null,"ACL897361","SORTIE DE CONDENSATS"]
["ACL897374",null,"VANNE 3 VOIES 3/8 GAZ",null,null,{"$f":"LEFT(Catalogue[[#This Row],[Référence]],3)","v":"ACL"},{"$f":"VLOOKUP(Catalogue[[#This Row],[Alias]],#REF!,2,FALSE)","v":{"$error":"#REF!"}},null,"ACL897374","VANNE 3 VOIES 3/8 GAZ"]
["ACL897379",null,"VANNE 4 VOIES",null,null,{"$f":"LEFT(Catalogue[[#This Row],[Référence]],3)","v":"ACL"},{"$f":"VLOOKUP(Catalogue[[#This Row],[Alias]],#REF!,2,FALSE)","v":{"$error":"#REF!"}},null,"ACL897379","VANNE 4 VOIES"]
["ACL897380",null,"VANNE 4 VOIES",null,null,{"$f":"LEFT(Catalogue[[#This Row],[Référence]],3)","v":"ACL"},{"$f":"VLOOKUP(Catalogue[[#This Row],[Alias]],#REF!,2,FALSE)","v":{"$error":"#REF!"}},null,"ACL897380","VANNE 4 VOIES"]
["ACL897383",null,"VANNE 4 VOIES",null,null,{"$f":"LEFT(Catalogue[[#This Row],[Référence]],3)","v":"ACL"},{"$f":"VLOOKUP(Catalogue[[#This Row],[Alias]],#REF!,2,FALSE)","v":{"$error":"#REF!"}},null,"ACL897383","VANNE 4 VOIES"]
["ACL897390",null,"BORNIER",null,null,{"$f":"LEFT(Catalogue[[#This Row],[Référence]],3)","v":"ACL"},{"$f":"VLOOKUP(Catalogue[[#This Row],[Alias]],#REF!,2,FALSE)","v":{"$error":"#REF!"}},null,"ACL897390","BORNIER"]
["ACL897395",null,"VOLET",null,null,{"$f":"LEFT(Catalogue[[#This Row],[Référence]],3)","v":"ACL"},{"$f":"VLOOKUP(Catalogue[[#This Row],[Alias]],#REF!,2,FALSE)","v":{"$error":"#REF!"}},null,"ACL897395","VOLET"]
["ACL897396",null,"DIFFUSEUR",null,null,{"$f":"LEFT(Catalogue[[#This Row],[Référence]],3)","v":"ACL"},{"$f":"VLOOKUP(Catalogue[[#This Row],[Alias]],#REF!,2,FALSE)","v":{"$error":"#REF!"}},null,"ACL897396","DIFFUSEUR"]
["ACL897398",null,"SUPPORT MOTEUR",null,null,{"$f":"LEFT(Catalogue[[#This Row],[Référence]],3)","v":"ACL"},{"$f":"VLOOKUP(Catalogue[[#This Row],[Alias]],#REF!,2,FALSE)","v":{"$error":"#REF!"}},null,"ACL897398","SUPPORT MOTEUR"]
["ACL897415",null,"PLATINE REGISTRE",null,null,{"$f":"LEFT(Catalogue[[#This Row],[Référence]],3)","v":"ACL"},{"$f":"VLOOKUP(Catalogue[[#This Row],[Alias]],#REF!,2,FALSE)","v":{"$error":"#REF!"}},null,"ACL897415","PLATINE REGISTRE"]
["ACL897421",null,"PLATINE INTERFACE",null,null,{"$f":"LEFT(Catalogue[[#This Row],[Référence]],3)","v":"ACL"},{"$f":"VLOOKUP(Catalogue[[#This Row],[Alias]],#REF!,2,FALSE)","v":{"$error":"#REF!"}},null,"ACL897421","PLATINE INTERFACE"]
["ACL897424",null,"PACK TC FILAIRE PRINCIPALE",null,null,{"$f":"LEFT(Catalogue[[#This Row],[Référence]],3)","v":"ACL"},{"$f":"VLOOKUP(Catalogue[[#This Row],[Alias]],#REF!,2,FALSE)","v":{"$error":"#REF!"}},null,"ACL897424","PACK TC FILAIRE PRINCIPALE"]
["ACL897426",null,"TELECOMMANDE",null,null,{"$f":"LEFT(Catalogue[[#This Row],[Référence]],3)","v":"ACL"},{"$f":"VLOOKUP(Catalogue[[#This Row],[Alias]],#REF!,2,FALSE)","v":{"$error":"#REF!"}},null,"ACL897426","TELECOMMANDE"]
["ACL897440",null,"ENGRENAGE FACADE AVANT",null,null,{"$f":"LEFT(Catalogue[[#This Row],[Référence]],3)","v":"ACL"},{"$f":"VLOOKUP(Catalogue[[#This Row],[Alias]],#REF!,2,FALSE)","v":{"$error":"#REF!"}},null,"ACL897440","ENGRENAGE FACADE AVANT"]
["ACL897443",null,"CACHE RACCORD",null,null,{"$f":"LEFT(Catalogue[[#This Row],[Référence]],3)","v":"ACL"},{"$f":"VLOOKUP(Catalogue[[#This Row],[Alias]],#REF!,2,FALSE)","v":{"$error":"#REF!"}},null,"ACL897443","CACHE RACCORD"]
["ACL897447",null,"JEU DE SONDES",null,null,{"$f":"LEFT(Catalogue[[#This Row],[Référence]],3)","v":"ACL"},{"$f":"VLOOKUP(Catalogue[[#This Row],[Alias]],#REF!,2,FALSE)","v":{"$error":"#REF!"}},null,"ACL897447","JEU DE SONDES"]
["ACL897518",null,"TELECOMMANDE FILAIRE",null,null,{"$f":"LEFT(Catalogue[[#This Row],[Référence]],3)","v":"ACL"},{"$f":"VLOOKUP(Catalogue[[#This Row],[Alias]],#REF!,2,FALSE)","v":{"$error":"#REF!"}},null,"ACL897518","TELECOMMANDE FILAIRE"]
["ACL897519",null,"TELECOMMANDE NRT",null,null,{"$f":"LEFT(Catalogue[[#This Row],[Référence]],3)","v":"ACL"},{"$f":"VLOOKUP(Catalogue[[#This Row],[Alias]],#REF!,2,FALSE)","v":{"$error":"#REF!"}},null,"ACL897519","TELECOMMANDE NRT"]
["ACL897527",null,"SUPPORT MURAL",null,null,{"$f":"LEFT(Catalogue[[#This Row],[Référence]],3)","v":"ACL"},{"$f":"VLOOKUP(Catalogue[[#This Row],[Alias]],#REF!,2,FALSE)","v":{"$error":"#REF!"}},null,"ACL897527","SUPPORT MURAL"]
["ACL897531",null,"CORPS AVANT COMPLET",null,null,{"$f":"LEFT(Catalogue[[#This Row],[Référence]],3)","v":"ACL"},{"$f":"VLOOKUP(Catalogue[[#This Row],[Alias]],#REF!,2,FALSE)","v":{"$error":"#REF!"}},null,"ACL897531","CORPS AVANT COMPLET"]
["ACL897532",null,"FILTRE",null,null,{"$f":"LEFT(Catalogue[[#This Row],[Référence]],3)","v":"ACL"},{"$f":"VLOOKUP(Catalogue[[#This Row],[Alias]],#REF!,2,FALSE)","v":{"$error":"#REF!"}},null,"ACL897532","FILTRE"]
["ACL897548",null,"MOTEUR VENTILATION",null,null,{"$f":"LEFT(Catalogue[[#This Row],[Référence]],3)","v":"ACL"},{"$f":"VLOOKUP(Catalogue[[#This Row],[Alias]],#REF!,2,FALSE)","v":{"$error":"#REF!"}},null,"ACL897548","MOTEUR VENTILATION"]
["ACL897550",null,"TURBINE",null,null,{"$f":"LEFT(Catalogue[[#This Row],[Référence]],3)","v":"ACL"},{"$f":"VLOOKUP(Catalogue[[#This Row],[Alias]],#REF!,2,FALSE)","v":{"$error":"#REF!"}},null,"ACL897550","TURBINE"]
["ACL897551",null,"SILENTBLOC TURBINE",null,null,{"$f":"LEFT(Catalogue[[#This Row],[Référence]],3)","v":"ACL"},{"$f":"VLOOKUP(Catalogue[[#This Row],[Alias]],#REF!,2,FALSE)","v":{"$error":"#REF!"}},null,"ACL897551","SILENTBLOC TURBINE"]
["ACL897553",null,"SONDE EXTERIEURE",null,null,{"$f":"LEFT(Catalogue[[#This Row],[Référence]],3)","v":"ACL"},{"$f":"VLOOKUP(Catalogue[[#This Row],[Alias]],#REF!,2,FALSE)","v":{"$error":"#REF!"}},null,"ACL897553","SONDE EXTERIEURE"]
["ACL897556",null,"TOIT",null,null,{"$f":"LEFT(Catalogue[[#This Row],[Référence]],3)","v":"ACL"},{"$f":"VLOOKUP(Catalogue[[#This Row],[Alias]],#REF!,2,FALSE)","v":{"$error":"#REF!"}},null,"ACL897556","TOIT"]
["ACL897563",null,"MOTEUR VENTILATION",null,null,{"$f":"LEFT(Catalogue[[#This Row],[Référence]],3)","v":"ACL"},{"$f":"VLOOKUP(Catalogue[[#This Row],[Alias]],#REF!,2,FALSE)","v":{"$error":"#REF!"}},null,"ACL897563","MOTEUR VENTILATION"]
["ACL897567",null,"PLATINE DE REGULATION",null,null,{"$f":"LEFT(Catalogue[[#This Row],[Référence]],3)","v":"ACL"},{"$f":"VLOOKUP(Catalogue[[#This Row],[Alias]],#REF!,2,FALSE)","v":{"$error":"#REF!"}},null,"ACL897567","PLATINE DE REGULATION"]
["ACL897584",null,"RESSORT DIFFUSEUR",null,null,{"$f":"LEFT(Catalogue[[#This Row],[Référence]],3)","v":"ACL"},{"$f":"VLOOKUP(Catalogue[[#This Row],[Alias]],#REF!,2,FALSE)","v":{"$error":"#REF!"}},null,"ACL897584","RESSORT DIFFUSEUR"]
["ACL897596",null,"JEU DE SONDES REFOUL/CONDENS",null,null,{"$f":"LEFT(Catalogue[[#This Row],[Référence]],3)","v":"ACL"},{"$f":"VLOOKUP(Catalogue[[#This Row],[Alias]],#REF!,2,FALSE)","v":{"$error":"#REF!"}},null,"ACL897596","JEU DE SONDES REFOUL/CONDENS"]
["ACL897644",null,"PLATINE IR",null,null,{"$f":"LEFT(Catalogue[[#This Row],[Référence]],3)","v":"ACL"},{"$f":"VLOOKUP(Catalogue[[#This Row],[Alias]],#REF!,2,FALSE)","v":{"$error":"#REF!"}},null,"ACL897644","PLATINE IR"]
["ACL897649",null,"TOIT",null,null,{"$f":"LEFT(Catalogue[[#This Row],[Référence]],3)","v":"ACL"},{"$f":"VLOOKUP(Catalogue[[#This Row],[Alias]],#REF!,2,FALSE)","v":{"$error":"#REF!"}},null,"ACL897649","TOIT"]
["ACL897653",null,"PLATINE DE REGULATION",null,null,{"$f":"LEFT(Catalogue[[#This Row],[Référence]],3)","v":"ACL"},{"$f":"VLOOKUP(Catalogue[[#This Row],[Alias]],#REF!,2,FALSE)","v":{"$error":"#REF!"}},null,"ACL897653","PLATINE DE REGULATION"]
["ACL897672",null,"CORPS AVANT",null,null,{"$f":"LEFT(Catalogue[[#This Row],[Référence]],3)","v":"ACL"},{"$f":"VLOOKUP(Catalogue[[#This Row],[Alias]],#REF!,2,FALSE)","v":{"$error":"#REF!"}},null,"ACL897672","CORPS AVANT"]
["ACL897706",null,"TELECOMMANDE IR",null,null,{"$f":"LEFT(Catalogue[[#This Row],[Référence]],3)","v":"ACL"},{"$f":"VLOOKUP(Catalogue[[#This Row],[Alias]],#REF!,2,FALSE)","v":{"$error":"#REF!"}},null,"ACL897706","TELECOMMANDE IR"]
["ACL897719",null,"PLATINE REGULATION",null,null,{"$f":"LEFT(Catalogue[[#This Row],[Référence]],3)","v":"ACL"},{"$f":"VLOOKUP(Catalogue[[#This Row],[Alias]],#REF!,2,FALSE)","v":{"$error":"#REF!"}},null,"ACL897719","PLATINE REGULATION"]
["ACL897729",null,"PLATINE REGULATION",null,null,{"$f":"LEFT(Catalogue[[#This Row],[Référence]],3)","v":"ACL"},{"$f":"VLOOKUP(Catalogue[[#This Row],[Alias]],#REF!,2,FALSE)","v":{"$error":"#REF!"}},null,"ACL897729","PLATINE REGULATION"]
["ACL897730",null,"PLATINE REGULATION",null,null,{"$f":"LEFT(Catalogue[[#This Row],[Référence]],3)","v":"ACL"},{"$f":"VLOOKUP(Catalogue[[#This Row],[Alias]],#REF!,2,FALSE)","v":{"$error":"#REF!"}},null,"ACL897730","PLATINE REGULATION"]
["ACL897731",null,"PLATINE REGULATION",null,null,{"$f":"LEFT(Catalogue[[#This Row],[Référence]],3)","v":"ACL"},{"$f":"VLOOKUP(Catalogue[[#This Row],[Alias]],#REF!,2,FALSE)","v":{"$error":"#REF!"}},null,"ACL897731","PLATINE REGULATION"]
["ACL897739",null,"PLATINE REGULATION",null,null,{"$f":"LEFT(Catalogue[[#This Row],[Référence]],3)","v":"ACL"},{"$f":"VLOOKUP(Catalogue[[#This Row],[Alias]],#REF!,2,FALSE)","v":{"$error":"#REF!"}},null,"ACL897739","PLATINE REGULATION"]
["ACL897740",null,"PLATINE REGULATION",null,null,{"$f":"LEFT(Catalogue[[#This Row],[Référence]],3)","v":"ACL"},{"$f":"VLOOKUP(Catalogue[[#This Row],[Alias]],#REF!,2,FALSE)","v":{"$error":"#REF!"}},null,"ACL897740","PLATINE REGULATION"]
["ACL897762",null,"BOBINE DETENDEUT (A)",null,null,{"$f":"LEFT(Catalogue[[#This Row],[Référence]],3)","v":"ACL"},{"$f":"VLOOKUP(Catalogue[[#This Row],[Alias]],#REF!,2,FALSE)","v":{"$error":"#REF!"}},null,"ACL897762","BOBINE DETENDEUT (A)"]
["ACL897763",null,"BOBINE DETENDEUR (B)",null,null,{"$f":"LEFT(Catalogue[[#This Row],[Référence]],3)","v":"ACL"},{"$f":"VLOOKUP(Catalogue[[#This Row],[Alias]],#REF!,2,FALSE)","v":{"$error":"#REF!"}},null,"ACL897763","BOBINE DETENDEUR (B)"]
["ACL897769",null,"PLATINE REGULATION",null,null,{"$f":"LEFT(Catalogue[[#This Row],[Référence]],3)","v":"ACL"},{"$f":"VLOOKUP(Catalogue[[#This Row],[Alias]],#REF!,2,FALSE)","v":{"$error":"#REF!"}},null,"ACL897769","PLATINE REGULATION"]
["ACL897777",null,{"$f":"VLOOKUP(A514,I:J,2,0)","v":"PLATINE REGULATION"},null,null,{"$f":"LEFT(Catalogue[[#This Row],[Référence]],3)","v":"ACL"},{"$f":"VLOOKUP(Catalogue[[#This Row],[Alias]],#REF!,2,FALSE)","v":{"$error":"#REF!"}},null,"ACL897777","PLATINE REGULATION"]
["ACL897876",null,"BOBINE DETENDEUR",null,null,{"$f":"LEFT(Catalogue[[#This Row],[Référence]],3)","v":"ACL"},{"$f":"VLOOKUP(Catalogue[[#This Row],[Alias]],#REF!,2,FALSE)","v":{"$error":"#REF!"}},null,"ACL897876","BOBINE DETENDEUR"]
["ACL897921",null,"CACHE DROIT",null,null,{"$f":"LEFT(Catalogue[[#This Row],[Référence]],3)","v":"ACL"},{"$f":"VLOOKUP(Catalogue[[#This Row],[Alias]],#REF!,2,FALSE)","v":{"$error":"#REF!"}},null,"ACL897921","CACHE DROIT"]
["ACL897935",null,"POMPE DE RELEVAGE",null,null,{"$f":"LEFT(Catalogue[[#This Row],[Référence]],3)","v":"ACL"},{"$f":"VLOOKUP(Catalogue[[#This Row],[Alias]],#REF!,2,FALSE)","v":{"$error":"#REF!"}},null,"ACL897935","POMPE DE RELEVAGE"]
["ACL897971",null,"SONDE CONDENSEUR AOYG30-36KBTB",null,null,{"$f":"LEFT(Catalogue[[#This Row],[Référence]],3)","v":"ACL"},{"$f":"VLOOKUP(Catalogue[[#This Row],[Alias]],#REF!,2,FALSE)","v":{"$error":"#REF!"}},null,"ACL897971","SONDE CONDENSEUR AOYG30-36KBTB"]
["ACL897987",null,"SONDE COMPRESSEUR",null,null,{"$f":"LEFT(Catalogue[[#This Row],[Référence]],3)","v":"ACL"},{"$f":"VLOOKUP(Catalogue[[#This Row],[Alias]],#REF!,2,FALSE)","v":{"$error":"#REF!"}},null,"ACL897987","SONDE COMPRESSEUR"]
["ACL898001",null,"MOTEUR VOLET",null,null,{"$f":"LEFT(Catalogue[[#This Row],[Référence]],3)","v":"ACL"},{"$f":"VLOOKUP(Catalogue[[#This Row],[Alias]],#REF!,2,FALSE)","v":{"$error":"#REF!"}},null,"ACL898001","MOTEUR VOLET"]
["ACL898002",null,"MOTEUR VOLET",null,null,{"$f":"LEFT(Catalogue[[#This Row],[Référence]],3)","v":"ACL"},{"$f":"VLOOKUP(Catalogue[[#This Row],[Alias]],#REF!,2,FALSE)","v":{"$error":"#REF!"}},null,"ACL898002","MOTEUR VOLET"]
["ACL898007",null,"PLATINE ALIMENTATION",null,null,{"$f":"LEFT(Catalogue[[#This Row],[Référence]],3)","v":"ACL"},{"$f":"VLOOKUP(Catalogue[[#This Row],[Alias]],#REF!,2,FALSE)","v":{"$error":"#REF!"}},null,"ACL898007","PLATINE ALIMENTATION"]
["ACL898044",null,"PLATINE DE REGULATION",null,null,{"$f":"LEFT(Catalogue[[#This Row],[Référence]],3)","v":"ACL"},{"$f":"VLOOKUP(Catalogue[[#This Row],[Alias]],#REF!,2,FALSE)","v":{"$error":"#REF!"}},null,"ACL898044","PLATINE DE REGULATION"]
["ACL898066",null,"VOLET",null,null,{"$f":"LEFT(Catalogue[[#This Row],[Référence]],3)","v":"ACL"},{"$f":"VLOOKUP(Catalogue[[#This Row],[Alias]],#REF!,2,FALSE)","v":{"$error":"#REF!"}},null,"ACL898066","VOLET"]
["ACL898067",null,"MOTEUR DE BALAYAGE HAUT",null,null,{"$f":"LEFT(Catalogue[[#This Row],[Référence]],3)","v":"ACL"},{"$f":"VLOOKUP(Catalogue[[#This Row],[Alias]],#REF!,2,FALSE)","v":{"$error":"#REF!"}},null,"ACL898067","MOTEUR DE BALAYAGE HAUT"]
["ACL898068",null,"MOTEUR DIFFUSEUR",null,null,{"$f":"LEFT(Catalogue[[#This Row],[Référence]],3)","v":"ACL"},{"$f":"VLOOKUP(Catalogue[[#This Row],[Alias]],#REF!,2,FALSE)","v":{"$error":"#REF!"}},null,"ACL898068","MOTEUR DIFFUSEUR"]
["ACL898069",null,"MOTEUR VOLET",null,null,{"$f":"LEFT(Catalogue[[#This Row],[Référence]],3)","v":"ACL"},{"$f":"VLOOKUP(Catalogue[[#This Row],[Alias]],#REF!,2,FALSE)","v":{"$error":"#REF!"}},null,"ACL898069","MOTEUR VOLET"]
["ACL898070",null,"MOTEUR VOLET",null,null,{"$f":"LEFT(Catalogue[[#This Row],[Référence]],3)","v":"ACL"},{"$f":"VLOOKUP(Catalogue[[#This Row],[Alias]],#REF!,2,FALSE)","v":{"$error":"#REF!"}},null,"ACL898070","MOTEUR VOLET"]
["ACL898089",null,"PLATINE INVERTER",null,null,{"$f":"LEFT(Catalogue[[#This Row],[Référence]],3)","v":"ACL"},{"$f":"VLOOKUP(Catalogue[[#This Row],[Alias]],#REF!,2,FALSE)","v":{"$error":"#REF!"}},null,"ACL898089","PLATINE INVERTER"]
["ACL898117",null,"DIFFUSEUR",null,null,{"$f":"LEFT(Catalogue[[#This Row],[Référence]],3)","v":"ACL"},{"$f":"VLOOKUP(Catalogue[[#This Row],[Alias]],#REF!,2,FALSE)","v":{"$error":"#REF!"}},null,"ACL898117","DIFFUSEUR"]
["ACL898120",null,"PLATINE DE REGULATION",null,null,{"$f":"LEFT(Catalogue[[#This Row],[Référence]],3)","v":"ACL"},{"$f":"VLOOKUP(Catalogue[[#This Row],[Alias]],#REF!,2,FALSE)","v":{"$error":"#REF!"}},null,"ACL898120","PLATINE DE REGULATION"]
["ACL898121",null,"PLATINE DE REGULATION",null,null,{"$f":"LEFT(Catalogue[[#This Row],[Référence]],3)","v":"ACL"},{"$f":"VLOOKUP(Catalogue[[#This Row],[Alias]],#REF!,2,FALSE)","v":{"$error":"#REF!"}},null,"ACL898121","PLATINE DE REGULATION"]
["ACL898138",null,"SUPPORT DE FILTRE",null,null,{"$f":"LEFT(Catalogue[[#This Row],[Référence]],3)","v":"ACL"},{"$f":"VLOOKUP(Catalogue[[#This Row],[Alias]],#REF!,2,FALSE)","v":{"$error":"#REF!"}},null,"ACL898138","SUPPORT DE FILTRE"]
["ACL898145",null,"PLATINE DE REGULATION",null,null,{"$f":"LEFT(Catalogue[[#This Row],[Référence]],3)","v":"ACL"},{"$f":"VLOOKUP(Catalogue[[#This Row],[Alias]],#REF!,2,FALSE)","v":{"$error":"#REF!"}},null,"ACL898145","PLATINE DE REGULATION"]
["ACL898158",null,"PLATINE DE REGULATION",null,null,{"$f":"LEFT(Catalogue[[#This Row],[Référence]],3)","v":"ACL"},{"$f":"VLOOKUP(Catalogue[[#This Row],[Alias]],#REF!,2,FALSE)","v":{"$error":"#REF!"}},null,"ACL898158","PLATINE DE REGULATION"]
["ACL898159",null,"PLATINE DE REGULATION",null,null,{"$f":"LEFT(Catalogue[[#This Row],[Référence]],3)","v":"ACL"},{"$f":"VLOOKUP(Catalogue[[#This Row],[Alias]],#REF!,2,FALSE)","v":{"$error":"#REF!"}},null,"ACL898159","PLATINE DE REGULATION"]
["ACL898164",null,"PLATINE DE REGULATION",null,null,{"$f":"LEFT(Catalogue[[#This Row],[Référence]],3)","v":"ACL"},{"$f":"VLOOKUP(Catalogue[[#This Row],[Alias]],#REF!,2,FALSE)","v":{"$error":"#REF!"}},null,"ACL898164","PLATINE DE REGULATION"]
["ACL898171",null,"FILTRE",null,null,{"$f":"LEFT(Catalogue[[#This Row],[Référence]],3)","v":"ACL"},{"$f":"VLOOKUP(Catalogue[[#This Row],[Alias]],#REF!,2,FALSE)","v":{"$error":"#REF!"}},null,"ACL898171","FILTRE"]
["ACL898174",null,"TURBINE",null,null,{"$f":"LEFT(Catalogue[[#This Row],[Référence]],3)","v":"ACL"},{"$f":"VLOOKUP(Catalogue[[#This Row],[Alias]],#REF!,2,FALSE)","v":{"$error":"#REF!"}},null,"ACL898174","TURBINE"]
["ACL898176",null,"TUYAU DE CONDENSATS",null,null,{"$f":"LEFT(Catalogue[[#This Row],[Référence]],3)","v":"ACL"},{"$f":"VLOOKUP(Catalogue[[#This Row],[Alias]],#REF!,2,FALSE)","v":{"$error":"#REF!"}},null,"ACL898176","TUYAU DE CONDENSATS"]
["ACL898178",null,"VOLET BAS",null,null,{"$f":"LEFT(Catalogue[[#This Row],[Référence]],3)","v":"ACL"},{"$f":"VLOOKUP(Catalogue[[#This Row],[Alias]],#REF!,2,FALSE)","v":{"$error":"#REF!"}},null,"ACL898178","VOLET BAS"]
["ACL898179",null,"VOLET HAUT",null,null,{"$f":"LEFT(Catalogue[[#This Row],[Référence]],3)","v":"ACL"},{"$f":"VLOOKUP(Catalogue[[#This Row],[Alias]],#REF!,2,FALSE)","v":{"$error":"#REF!"}},null,"ACL898179","VOLET HAUT"]
["ACL898200",null,"MOTEUR VENTILATION",null,null,{"$f":"LEFT(Catalogue[[#This Row],[Référence]],3)","v":"ACL"},{"$f":"VLOOKUP(Catalogue[[#This Row],[Alias]],#REF!,2,FALSE)","v":{"$error":"#REF!"}},null,"ACL898200","MOTEUR VENTILATION"]
["ACL898203",null,"PLATINE DE REGULATION",null,null,{"$f":"LEFT(Catalogue[[#This Row],[Référence]],3)","v":"ACL"},{"$f":"VLOOKUP(Catalogue[[#This Row],[Alias]],#REF!,2,FALSE)","v":{"$error":"#REF!"}},null,"ACL898203","PLATINE DE REGULATION"]
["ACL898220",null,"MOTEUR VENTILATION",null,null,{"$f":"LEFT(Catalogue[[#This Row],[Référence]],3)","v":"ACL"},{"$f":"VLOOKUP(Catalogue[[#This Row],[Alias]],#REF!,2,FALSE)","v":{"$error":"#REF!"}},null,"ACL898220","MOTEUR VENTILATION"]
["ACL898225",null,"PLATINE DE REGULATION",null,null,{"$f":"LEFT(Catalogue[[#This Row],[Référence]],3)","v":"ACL"},{"$f":"VLOOKUP(Catalogue[[#This Row],[Alias]],#REF!,2,FALSE)","v":{"$error":"#REF!"}},null,"ACL898225","PLATINE DE REGULATION"]
["ACL898243",null,"CONDENSEUR",null,null,{"$f":"LEFT(Catalogue[[#This Row],[Référence]],3)","v":"ACL"},{"$f":"VLOOKUP(Catalogue[[#This Row],[Alias]],#REF!,2,FALSE)","v":{"$error":"#REF!"}},null,"ACL898243","CONDENSEUR"]
["ACL898246",null,"COMPRESSEUR",null,null,{"$f":"LEFT(Catalogue[[#This Row],[Référence]],3)","v":"ACL"},{"$f":"VLOOKUP(Catalogue[[#This Row],[Alias]],#REF!,2,FALSE)","v":{"$error":"#REF!"}},null,"ACL898246","COMPRESSEUR"]
["ACL898250",null,"JEU DE SONDES",null,null,{"$f":"LEFT(Catalogue[[#This Row],[Référence]],3)","v":"ACL"},{"$f":"VLOOKUP(Catalogue[[#This Row],[Alias]],#REF!,2,FALSE)","v":{"$error":"#REF!"}},null,"ACL898250","JEU DE SONDES"]
["ACL898300",null,"MOTEUR VENTILATION AOYG07-09LUCA",null,null,{"$f":"LEFT(Catalogue[[#This Row],[Référence]],3)","v":"ACL"},{"$f":"VLOOKUP(Catalogue[[#This Row],[Alias]],#REF!,2,FALSE)","v":{"$error":"#REF!"}},null,"ACL898300","MOTEUR VENTILATION AOYG07-09LUCA"]
["ACL898321",null,"PLATINE ALIMENTATION",null,null,{"$f":"LEFT(Catalogue[[#This Row],[Référence]],3)","v":"ACL"},{"$f":"VLOOKUP(Catalogue[[#This Row],[Alias]],#REF!,2,FALSE)","v":{"$error":"#REF!"}},null,"ACL898321","PLATINE ALIMENTATION"]
["ACL898322",null,"PLATINE FILTRE ACTIF",null,null,{"$f":"LEFT(Catalogue[[#This Row],[Référence]],3)","v":"ACL"},{"$f":"VLOOKUP(Catalogue[[#This Row],[Alias]],#REF!,2,FALSE)","v":{"$error":"#REF!"}},null,"ACL898322","PLATINE FILTRE ACTIF"]
["ACL898323",null,"PLATINE CONDENSATEUR",null,null,{"$f":"LEFT(Catalogue[[#This Row],[Référence]],3)","v":"ACL"},{"$f":"VLOOKUP(Catalogue[[#This Row],[Alias]],#REF!,2,FALSE)","v":{"$error":"#REF!"}},null,"ACL898323","PLATINE CONDENSATEUR"]
["ACL898353",null,"PLATINE DE REGULATION",null,null,{"$f":"LEFT(Catalogue[[#This Row],[Référence]],3)","v":"ACL"},{"$f":"VLOOKUP(Catalogue[[#This Row],[Alias]],#REF!,2,FALSE)","v":{"$error":"#REF!"}},null,"ACL898353","PLATINE DE REGULATION"]
["ACL898355",null,"CACHE TURBINE",null,null,{"$f":"LEFT(Catalogue[[#This Row],[Référence]],3)","v":"ACL"},{"$f":"VLOOKUP(Catalogue[[#This Row],[Alias]],#REF!,2,FALSE)","v":{"$error":"#REF!"}},null,"ACL898355","CACHE TURBINE"]
["ACL898372",null,"MOTEUR VENTILATION",null,null,{"$f":"LEFT(Catalogue[[#This Row],[Référence]],3)","v":"ACL"},{"$f":"VLOOKUP(Catalogue[[#This Row],[Alias]],#REF!,2,FALSE)","v":{"$error":"#REF!"}},null,"ACL898372","MOTEUR VENTILATION"]
["ACL898374",null,"BOBINE D ARRET",null,null,{"$f":"LEFT(Catalogue[[#This Row],[Référence]],3)","v":"ACL"},{"$f":"VLOOKUP(Catalogue[[#This Row],[Alias]],#REF!,2,FALSE)","v":{"$error":"#REF!"}},null,"ACL898374","BOBINE D ARRET"]
["ACL898378",null,"ENSEMBLE DETENDEURS",null,null,{"$f":"LEFT(Catalogue[[#This Row],[Référence]],3)","v":"ACL"},{"$f":"VLOOKUP(Catalogue[[#This Row],[Alias]],#REF!,2,FALSE)","v":{"$error":"#REF!"}},null,"ACL898378","ENSEMBLE DETENDEURS"]
["ACL898381",null,"VANNE 4VOIES",null,null,{"$f":"LEFT(Catalogue[[#This Row],[Référence]],3)","v":"ACL"},{"$f":"VLOOKUP(Catalogue[[#This Row],[Alias]],#REF!,2,FALSE)","v":{"$error":"#REF!"}},null,"ACL898381","VANNE 4VOIES"]
["ACL898382",null,"PLATINE INVERTER",null,null,{"$f":"LEFT(Catalogue[[#This Row],[Référence]],3)","v":"ACL"},{"$f":"VLOOKUP(Catalogue[[#This Row],[Alias]],#REF!,2,FALSE)","v":{"$error":"#REF!"}},null,"ACL898382","PLATINE INVERTER"]
["ACL898383",null,"JEU DE SONDES",null,null,{"$f":"LEFT(Catalogue[[#This Row],[Référence]],3)","v":"ACL"},{"$f":"VLOOKUP(Catalogue[[#This Row],[Alias]],#REF!,2,FALSE)","v":{"$error":"#REF!"}},null,"ACL898383","JEU DE SONDES"]
["ACL898387",null,"JEU DE FILTRES",null,null,{"$f":"LEFT(Catalogue[[#This Row],[Référence]],3)","v":"ACL"},{"$f":"VLOOKUP(Catalogue[[#This Row],[Alias]],#REF!,2,FALSE)","v":{"$error":"#REF!"}},null,"ACL898387","JEU DE FILTRES"]
["ACL898390",null,"BOUCHON DE CONDENSATS",null,null,{"$f":"LEFT(Catalogue[[#This Row],[Référence]],3)","v":"ACL"},{"$f":"VLOOKUP(Catalogue[[#This Row],[Alias]],#REF!,2,FALSE)","v":{"$error":"#REF!"}},null,"ACL898390","BOUCHON DE CONDENSATS"]
["ACL898391",null,"PLATINE DE REGULATION",null,null,{"$f":"LEFT(Catalogue[[#This Row],[Référence]],3)","v":"ACL"},{"$f":"VLOOKUP(Catalogue[[#This Row],[Alias]],#REF!,2,FALSE)","v":{"$error":"#REF!"}},null,"ACL898391","PLATINE DE REGULATION"]
["ACL898392",null,"PLATINE DE REGULATION",null,null,{"$f":"LEFT(Catalogue[[#This Row],[Référence]],3)","v":"ACL"},{"$f":"VLOOKUP(Catalogue[[#This Row],[Alias]],#REF!,2,FALSE)","v":{"$error":"#REF!"}},null,"ACL898392","PLATINE DE REGULATION"]
["ACL898424",null,"SONDE COMPRESSEUR",null,null,{"$f":"LEFT(Catalogue[[#This Row],[Référence]],3)","v":"ACL"},{"$f":"VLOOKUP(Catalogue[[#This Row],[Alias]],#REF!,2,FALSE)","v":{"$error":"#REF!"}},null,"ACL898424","SONDE COMPRESSEUR"]
["ACL898426",null,"PLATINE TRANSISTOR",null,null,{"$f":"LEFT(Catalogue[[#This Row],[Référence]],3)","v":"ACL"},{"$f":"VLOOKUP(Catalogue[[#This Row],[Alias]],#REF!,2,FALSE)","v":{"$error":"#REF!"}},null,"ACL898426","PLATINE TRANSISTOR"]
["ACL898430",null,"PLATINE CONDENSATEUR",null,null,{"$f":"LEFT(Catalogue[[#This Row],[Référence]],3)","v":"ACL"},{"$f":"VLOOKUP(Catalogue[[#This Row],[Alias]],#REF!,2,FALSE)","v":{"$error":"#REF!"}},null,"ACL898430","PLATINE CONDENSATEUR"]
["ACL898431",null,"PLATINE CONDENSATEUR",null,null,{"$f":"LEFT(Catalogue[[#This Row],[Référence]],3)","v":"ACL"},{"$f":"VLOOKUP(Catalogue[[#This Row],[Alias]],#REF!,2,FALSE)","v":{"$error":"#REF!"}},null,"ACL898431","PLATINE CONDENSATEUR"]
["ACL898503",null,"COMPRESSEUR",null,null,{"$f":"LEFT(Catalogue[[#This Row],[Référence]],3)","v":"ACL"},{"$f":"VLOOKUP(Catalogue[[#This Row],[Alias]],#REF!,2,FALSE)","v":{"$error":"#REF!"}},null,"ACL898503","COMPRESSEUR"]
["ACL898512",null,"PLATINE INVERTER",null,null,{"$f":"LEFT(Catalogue[[#This Row],[Référence]],3)","v":"ACL"},{"$f":"VLOOKUP(Catalogue[[#This Row],[Alias]],#REF!,2,FALSE)","v":{"$error":"#REF!"}},null,"ACL898512","PLATINE INVERTER"]
["ACL898514",null,"PLATINE FILTRE ACTIF",null,null,{"$f":"LEFT(Catalogue[[#This Row],[Référence]],3)","v":"ACL"},{"$f":"VLOOKUP(Catalogue[[#This Row],[Alias]],#REF!,2,FALSE)","v":{"$error":"#REF!"}},null,"ACL898514","PLATINE FILTRE ACTIF"]
["ACL898535",null,"FILTRE",null,null,{"$f":"LEFT(Catalogue[[#This Row],[Référence]],3)","v":"ACL"},{"$f":"VLOOKUP(Catalogue[[#This Row],[Alias]],#REF!,2,FALSE)","v":{"$error":"#REF!"}},null,"ACL898535","FILTRE"]
["ACL898551",null,"CACHE VIS",null,null,{"$f":"LEFT(Catalogue[[#This Row],[Référence]],3)","v":"ACL"},{"$f":"VLOOKUP(Catalogue[[#This Row],[Alias]],#REF!,2,FALSE)","v":{"$error":"#REF!"}},null,"ACL898551","CACHE VIS"]
["ACL898553",null,"TELECOMMANDE",null,null,{"$f":"LEFT(Catalogue[[#This Row],[Référence]],3)","v":"ACL"},{"$f":"VLOOKUP(Catalogue[[#This Row],[Alias]],#REF!,2,FALSE)","v":{"$error":"#REF!"}},null,"ACL898553","TELECOMMANDE"]
["ACL898566",null,"EVAPORATEUR AUYG09A12LVLA",null,null,{"$f":"LEFT(Catalogue[[#This Row],[Référence]],3)","v":"ACL"},{"$f":"VLOOKUP(Catalogue[[#This Row],[Alias]],#REF!,2,FALSE)","v":{"$error":"#REF!"}},null,"ACL898566","EVAPORATEUR AUYG09A12LVLA"]
["ACL898580",null,"PLATINE DE REGULATION",null,null,{"$f":"LEFT(Catalogue[[#This Row],[Référence]],3)","v":"ACL"},{"$f":"VLOOKUP(Catalogue[[#This Row],[Alias]],#REF!,2,FALSE)","v":{"$error":"#REF!"}},null,"ACL898580","PLATINE DE REGULATION"]
["ACL898584",null,{"$f":"VLOOKUP(A578,I:J,2,0)","v":"MOTEUR VENTILATION"},null,null,{"$f":"LEFT(Catalogue[[#This Row],[Référence]],3)","v":"ACL"},{"$f":"VLOOKUP(Catalogue[[#This Row],[Alias]],#REF!,2,FALSE)","v":{"$error":"#REF!"}},null,"ACL898584","MOTEUR VENTILATION"]
["ACL898585",null,"MOTEUR VENTILATION",null,null,{"$f":"LEFT(Catalogue[[#This Row],[Référence]],3)","v":"ACL"},{"$f":"VLOOKUP(Catalogue[[#This Row],[Alias]],#REF!,2,FALSE)","v":{"$error":"#REF!"}},null,"ACL898585","MOTEUR VENTILATION"]
["ACL898588",null,"CONTACT FIN DE COURSE",null,null,{"$f":"LEFT(Catalogue[[#This Row],[Référence]],3)","v":"ACL"},{"$f":"VLOOKUP(Catalogue[[#This Row],[Alias]],#REF!,2,FALSE)","v":{"$error":"#REF!"}},null,"ACL898588","CONTACT FIN DE COURSE"]
["ACL898590",null,"FILTRE",null,null,{"$f":"LEFT(Catalogue[[#This Row],[Référence]],3)","v":"ACL"},{"$f":"VLOOKUP(Catalogue[[#This Row],[Alias]],#REF!,2,FALSE)","v":{"$error":"#REF!"}},null,"ACL898590","FILTRE"]
["ACL898612",null,"MOTEUR VENTILATION",null,null,{"$f":"LEFT(Catalogue[[#This Row],[Référence]],3)","v":"ACL"},{"$f":"VLOOKUP(Catalogue[[#This Row],[Alias]],#REF!,2,FALSE)","v":{"$error":"#REF!"}},null,"ACL898612","MOTEUR VENTILATION"]
["ACL898621",null,"PLATINE DE REGULATION",null,null,{"$f":"LEFT(Catalogue[[#This Row],[Référence]],3)","v":"ACL"},{"$f":"VLOOKUP(Catalogue[[#This Row],[Alias]],#REF!,2,FALSE)","v":{"$error":"#REF!"}},null,"ACL898621","PLATINE DE REGULATION"]
["ACL898623",null,"TELECOMMANDE FILAIRE",null,null,{"$f":"LEFT(Catalogue[[#This Row],[Référence]],3)","v":"ACL"},{"$f":"VLOOKUP(Catalogue[[#This Row],[Alias]],#REF!,2,FALSE)","v":{"$error":"#REF!"}},null,"ACL898623","TELECOMMANDE FILAIRE"]
["ACL898644",null,"JEU DE SONDES VANNES A ET B",null,null,{"$f":"LEFT(Catalogue[[#This Row],[Référence]],3)","v":"ACL"},{"$f":"VLOOKUP(Catalogue[[#This Row],[Alias]],#REF!,2,FALSE)","v":{"$error":"#REF!"}},null,"ACL898644","JEU DE SONDES VANNES A ET B"]
["ACL898651",null,"PLATINE DE REGULATION",null,null,{"$f":"LEFT(Catalogue[[#This Row],[Référence]],3)","v":"ACL"},{"$f":"VLOOKUP(Catalogue[[#This Row],[Alias]],#REF!,2,FALSE)","v":{"$error":"#REF!"}},null,"ACL898651","PLATINE DE REGULATION"]
["ACL898661",null,"MOTEUR VENTILATION",null,null,{"$f":"LEFT(Catalogue[[#This Row],[Référence]],3)","v":"ACL"},{"$f":"VLOOKUP(Catalogue[[#This Row],[Alias]],#REF!,2,FALSE)","v":{"$error":"#REF!"}},null,"ACL898661","MOTEUR VENTILATION"]
["ACL898664",null,"VANNE 4 VOIES",null,null,{"$f":"LEFT(Catalogue[[#This Row],[Référence]],3)","v":"ACL"},{"$f":"VLOOKUP(Catalogue[[#This Row],[Alias]],#REF!,2,FALSE)","v":{"$error":"#REF!"}},null,"ACL898664","VANNE 4 VOIES"]
["ACL898676",null,"PLATINE TRANSISTOR + RADIATEUR",null,null,{"$f":"LEFT(Catalogue[[#This Row],[Référence]],3)","v":"ACL"},{"$f":"VLOOKUP(Catalogue[[#This Row],[Alias]],#REF!,2,FALSE)","v":{"$error":"#REF!"}},null,"ACL898676","PLATINE TRANSISTOR + RADIATEUR"]
["ACL898680",null,"VANNE 3 VOIES 3/8 GAZ",null,null,{"$f":"LEFT(Catalogue[[#This Row],[Référence]],3)","v":"ACL"},{"$f":"VLOOKUP(Catalogue[[#This Row],[Alias]],#REF!,2,FALSE)","v":{"$error":"#REF!"}},null,"ACL898680","VANNE 3 VOIES 3/8 GAZ"]
["ACL898684",null,"PLATINE INVERTER",null,null,{"$f":"LEFT(Catalogue[[#This Row],[Référence]],3)","v":"ACL"},{"$f":"VLOOKUP(Catalogue[[#This Row],[Alias]],#REF!,2,FALSE)","v":{"$error":"#REF!"}},null,"ACL898684","PLATINE INVERTER"]
["ACL898685",null,"PLATINE INVERTER",null,null,{"$f":"LEFT(Catalogue[[#This Row],[Référence]],3)","v":"ACL"},{"$f":"VLOOKUP(Catalogue[[#This Row],[Alias]],#REF!,2,FALSE)","v":{"$error":"#REF!"}},null,"ACL898685","PLATINE INVERTER"]
["ACL898688",null,"TOIT",null,null,{"$f":"LEFT(Catalogue[[#This Row],[Référence]],3)","v":"ACL"},{"$f":"VLOOKUP(Catalogue[[#This Row],[Alias]],#REF!,2,FALSE)","v":{"$error":"#REF!"}},null,"ACL898688","TOIT"]
["ACL898689",null,"FACADE AVANT",null,null,{"$f":"LEFT(Catalogue[[#This Row],[Référence]],3)","v":"ACL"},{"$f":"VLOOKUP(Catalogue[[#This Row],[Alias]],#REF!,2,FALSE)","v":{"$error":"#REF!"}},null,"ACL898689","FACADE AVANT"]
["ACL898695",null,"BOBINE DETENDEUR",null,null,{"$f":"LEFT(Catalogue[[#This Row],[Référence]],3)","v":"ACL"},{"$f":"VLOOKUP(Catalogue[[#This Row],[Alias]],#REF!,2,FALSE)","v":{"$error":"#REF!"}},null,"ACL898695","BOBINE DETENDEUR"]
["ACL898696",null,"PLATINE DE REGULATION",null,null,{"$f":"LEFT(Catalogue[[#This Row],[Référence]],3)","v":"ACL"},{"$f":"VLOOKUP(Catalogue[[#This Row],[Alias]],#REF!,2,FALSE)","v":{"$error":"#REF!"}},null,"ACL898696","PLATINE DE REGULATION"]
["ACL898702",null,"JEU DE SONDES VANNE C",null,null,{"$f":"LEFT(Catalogue[[#This Row],[Référence]],3)","v":"ACL"},{"$f":"VLOOKUP(Catalogue[[#This Row],[Alias]],#REF!,2,FALSE)","v":{"$error":"#REF!"}},null,"ACL898702","JEU DE SONDES VANNE C"]
["ACL898708",null,"PLATINE DE REGULATION",null,null,{"$f":"LEFT(Catalogue[[#This Row],[Référence]],3)","v":"ACL"},{"$f":"VLOOKUP(Catalogue[[#This Row],[Alias]],#REF!,2,FALSE)","v":{"$error":"#REF!"}},null,"ACL898708","PLATINE DE REGULATION"]
["ACL898709",null,"PLATINE DE REGULATION",null,null,{"$f":"LEFT(Catalogue[[#This Row],[Référence]],3)","v":"ACL"},{"$f":"VLOOKUP(Catalogue[[#This Row],[Alias]],#REF!,2,FALSE)","v":{"$error":"#REF!"}},null,"ACL898709","PLATINE DE REGULATION"]
["ACL898725",null,"JEU DE SONDES",null,null,{"$f":"LEFT(Catalogue[[#This Row],[Référence]],3)","v":"ACL"},{"$f":"VLOOKUP(Catalogue[[#This Row],[Alias]],#REF!,2,FALSE)","v":{"$error":"#REF!"}},null,"ACL898725","JEU DE SONDES"]
["ACL898726",null,"FACADE AVANT",null,null,{"$f":"LEFT(Catalogue[[#This Row],[Référence]],3)","v":"ACL"},{"$f":"VLOOKUP(Catalogue[[#This Row],[Alias]],#REF!,2,FALSE)","v":{"$error":"#REF!"}},null,"ACL898726","FACADE AVANT"]
["ACL898743",null,"VOLET HAUT",null,null,{"$f":"LEFT(Catalogue[[#This Row],[Référence]],3)","v":"ACL"},{"$f":"VLOOKUP(Catalogue[[#This Row],[Alias]],#REF!,2,FALSE)","v":{"$error":"#REF!"}},null,"ACL898743","VOLET HAUT"]
["ACL898747",null,"CORPS AVANT COMPLET",null,null,{"$f":"LEFT(Catalogue[[#This Row],[Référence]],3)","v":"ACL"},{"$f":"VLOOKUP(Catalogue[[#This Row],[Alias]],#REF!,2,FALSE)","v":{"$error":"#REF!"}},null,"ACL898747","CORPS AVANT COMPLET"]
["ACL898749",null,"FACADE AVANT",null,null,{"$f":"LEFT(Catalogue[[#This Row],[Référence]],3)","v":"ACL"},{"$f":"VLOOKUP(Catalogue[[#This Row],[Alias]],#REF!,2,FALSE)","v":{"$error":"#REF!"}},null,"ACL898749","FACADE AVANT"]
["ACL898750",null,"CORPS AVANT",null,null,{"$f":"LEFT(Catalogue[[#This Row],[Référence]],3)","v":"ACL"},{"$f":"VLOOKUP(Catalogue[[#This Row],[Alias]],#REF!,2,FALSE)","v":{"$error":"#REF!"}},null,"ACL898750","CORPS AVANT"]
["ACL898751",null,"EVAPORATEUR",null,null,{"$f":"LEFT(Catalogue[[#This Row],[Référence]],3)","v":"ACL"},{"$f":"VLOOKUP(Catalogue[[#This Row],[Alias]],#REF!,2,FALSE)","v":{"$error":"#REF!"}},null,"ACL898751","EVAPORATEUR"]
["ACL898752",null,"PLATINE DE REGULATION",null,null,{"$f":"LEFT(Catalogue[[#This Row],[Référence]],3)","v":"ACL"},{"$f":"VLOOKUP(Catalogue[[#This Row],[Alias]],#REF!,2,FALSE)","v":{"$error":"#REF!"}},null,"ACL898752","PLATINE DE REGULATION"]
["ACL898753",null,"PLATINE DE REGULATION",null,null,{"$f":"LEFT(Catalogue[[#This Row],[Référence]],3)","v":"ACL"},{"$f":"VLOOKUP(Catalogue[[#This Row],[Alias]],#REF!,2,FALSE)","v":{"$error":"#REF!"}},null,"ACL898753","PLATINE DE REGULATION"]
["ACL898755",null,"MOTEUR FACADE",null,null,{"$f":"LEFT(Catalogue[[#This Row],[Référence]],3)","v":"ACL"},{"$f":"VLOOKUP(Catalogue[[#This Row],[Alias]],#REF!,2,FALSE)","v":{"$error":"#REF!"}},null,"ACL898755","MOTEUR FACADE"]
["ACL898756",null,"ENGRENAGE MOTEUR",null,null,{"$f":"LEFT(Catalogue[[#This Row],[Référence]],3)","v":"ACL"},{"$f":"VLOOKUP(Catalogue[[#This Row],[Alias]],#REF!,2,FALSE)","v":{"$error":"#REF!"}},null,"ACL898756","ENGRENAGE MOTEUR"]
["ACL898757",null,"ENGRENAGE FACADE",null,null,{"$f":"LEFT(Catalogue[[#This Row],[Référence]],3)","v":"ACL"},{"$f":"VLOOKUP(Catalogue[[#This Row],[Alias]],#REF!,2,FALSE)","v":{"$error":"#REF!"}},null,"ACL898757","ENGRENAGE FACADE"]
["ACL898759",null,"PLATINE IR",null,null,{"$f":"LEFT(Catalogue[[#This Row],[Référence]],3)","v":"ACL"},{"$f":"VLOOKUP(Catalogue[[#This Row],[Alias]],#REF!,2,FALSE)","v":{"$error":"#REF!"}},null,"ACL898759","PLATINE IR"]
["ACL898760",null,"JEU DE SONDES",null,null,{"$f":"LEFT(Catalogue[[#This Row],[Référence]],3)","v":"ACL"},{"$f":"VLOOKUP(Catalogue[[#This Row],[Alias]],#REF!,2,FALSE)","v":{"$error":"#REF!"}},null,"ACL898760","JEU DE SONDES"]
["ACL898761",null,"MOTEUR VENTILATION",null,null,{"$f":"LEFT(Catalogue[[#This Row],[Référence]],3)","v":"ACL"},{"$f":"VLOOKUP(Catalogue[[#This Row],[Alias]],#REF!,2,FALSE)","v":{"$error":"#REF!"}},null,"ACL898761","MOTEUR VENTILATION"]
["ACL898762",null,"TURBINE",null,null,{"$f":"LEFT(Catalogue[[#This Row],[Référence]],3)","v":"ACL"},{"$f":"VLOOKUP(Catalogue[[#This Row],[Alias]],#REF!,2,FALSE)","v":{"$error":"#REF!"}},null,"ACL898762","TURBINE"]
["ACL898763",null,"BAC A CONDENSATS COMPLET",null,null,{"$f":"LEFT(Catalogue[[#This Row],[Référence]],3)","v":"ACL"},{"$f":"VLOOKUP(Catalogue[[#This Row],[Alias]],#REF!,2,FALSE)","v":{"$error":"#REF!"}},null,"ACL898763","BAC A CONDENSATS COMPLET"]
["ACL898765",null,"ENGRENAGE VOLET",null,null,{"$f":"LEFT(Catalogue[[#This Row],[Référence]],3)","v":"ACL"},{"$f":"VLOOKUP(Catalogue[[#This Row],[Alias]],#REF!,2,FALSE)","v":{"$error":"#REF!"}},null,"ACL898765","ENGRENAGE VOLET"]
["ACL898766",null,"ENGRENAGE MOTEUR",null,null,{"$f":"LEFT(Catalogue[[#This Row],[Référence]],3)","v":"ACL"},{"$f":"VLOOKUP(Catalogue[[#This Row],[Alias]],#REF!,2,FALSE)","v":{"$error":"#REF!"}},null,"ACL898766","ENGRENAGE MOTEUR"]
["ACL898769",null,"PLATINE DE REGULATION",null,null,{"$f":"LEFT(Catalogue[[#This Row],[Référence]],3)","v":"ACL"},{"$f":"VLOOKUP(Catalogue[[#This Row],[Alias]],#REF!,2,FALSE)","v":{"$error":"#REF!"}},null,"ACL898769","PLATINE DE REGULATION"]
["ACL898788",null,"TELECOMMANDE",null,null,{"$f":"LEFT(Catalogue[[#This Row],[Référence]],3)","v":"ACL"},{"$f":"VLOOKUP(Catalogue[[#This Row],[Alias]],#REF!,2,FALSE)","v":{"$error":"#REF!"}},null,"ACL898788","TELECOMMANDE"]
["ACL898795",null,"MOTEUR VENTILATION",null,null,{"$f":"LEFT(Catalogue[[#This Row],[Référence]],3)","v":"ACL"},{"$f":"VLOOKUP(Catalogue[[#This Row],[Alias]],#REF!,2,FALSE)","v":{"$error":"#REF!"}},null,"ACL898795","MOTEUR VENTILATION"]
["ACL898807",null,"PLATINE DE REGULATION",null,null,{"$f":"LEFT(Catalogue[[#This Row],[Référence]],3)","v":"ACL"},{"$f":"VLOOKUP(Catalogue[[#This Row],[Alias]],#REF!,2,FALSE)","v":{"$error":"#REF!"}},null,"ACL898807","PLATINE DE REGULATION"]
["ACL898828",null,"ENSEMBLE POMPE DE RELEVAGE",null,null,{"$f":"LEFT(Catalogue[[#This Row],[Référence]],3)","v":"ACL"},{"$f":"VLOOKUP(Catalogue[[#This Row],[Alias]],#REF!,2,FALSE)","v":{"$error":"#REF!"}},null,"ACL898828","ENSEMBLE POMPE DE RELEVAGE"]
["ACL898837",null,"PLATINE DE REGULATION",null,null,{"$f":"LEFT(Catalogue[[#This Row],[Référence]],3)","v":"ACL"},{"$f":"VLOOKUP(Catalogue[[#This Row],[Alias]],#REF!,2,FALSE)","v":{"$error":"#REF!"}},null,"ACL898837","PLATINE DE REGULATION"]
["ACL898838",null,"CONDENSEUR",null,null,{"$f":"LEFT(Catalogue[[#This Row],[Référence]],3)","v":"ACL"},{"$f":"VLOOKUP(Catalogue[[#This Row],[Alias]],#REF!,2,FALSE)","v":{"$error":"#REF!"}},null,"ACL898838","CONDENSEUR"]
["ACL898853",null,"VOLET",null,null,{"$f":"LEFT(Catalogue[[#This Row],[Référence]],3)","v":"ACL"},{"$f":"VLOOKUP(Catalogue[[#This Row],[Alias]],#REF!,2,FALSE)","v":{"$error":"#REF!"}},null,"ACL898853","VOLET"]
["ACL898856",null,"PLATINE IR",null,null,{"$f":"LEFT(Catalogue[[#This Row],[Référence]],3)","v":"ACL"},{"$f":"VLOOKUP(Catalogue[[#This Row],[Alias]],#REF!,2,FALSE)","v":{"$error":"#REF!"}},null,"ACL898856","PLATINE IR"]
["ACL898887",null,"SORTIE DE CONDENSATS",null,null,{"$f":"LEFT(Catalogue[[#This Row],[Référence]],3)","v":"ACL"},{"$f":"VLOOKUP(Catalogue[[#This Row],[Alias]],#REF!,2,FALSE)","v":{"$error":"#REF!"}},null,"ACL898887","SORTIE DE CONDENSATS"]
["ACL898893",null,"PLATINE DE REGULATION",null,null,{"$f":"LEFT(Catalogue[[#This Row],[Référence]],3)","v":"ACL"},{"$f":"VLOOKUP(Catalogue[[#This Row],[Alias]],#REF!,2,FALSE)","v":{"$error":"#REF!"}},null,"ACL898893","PLATINE DE REGULATION"]
["ACL898896",null,"PLATINE INVERTER",null,null,{"$f":"LEFT(Catalogue[[#This Row],[Référence]],3)","v":"ACL"},{"$f":"VLOOKUP(Catalogue[[#This Row],[Alias]],#REF!,2,FALSE)","v":{"$error":"#REF!"}},null,"ACL898896","PLATINE INVERTER"]
["ACL898912",null,"PLATINE DE REGULATION",null,null,{"$f":"LEFT(Catalogue[[#This Row],[Référence]],3)","v":"ACL"},{"$f":"VLOOKUP(Catalogue[[#This Row],[Alias]],#REF!,2,FALSE)","v":{"$error":"#REF!"}},null,"ACL898912","PLATINE DE REGULATION"]
["ACL898915",null,"MOTEUR VENTILATION",null,null,{"$f":"LEFT(Catalogue[[#This Row],[Référence]],3)","v":"ACL"},{"$f":"VLOOKUP(Catalogue[[#This Row],[Alias]],#REF!,2,FALSE)","v":{"$error":"#REF!"}},null,"ACL898915","MOTEUR VENTILATION"]
["ACL898918",null,"PLATINE ALIMENTATION",null,null,{"$f":"LEFT(Catalogue[[#This Row],[Référence]],3)","v":"ACL"},{"$f":"VLOOKUP(Catalogue[[#This Row],[Alias]],#REF!,2,FALSE)","v":{"$error":"#REF!"}},null,"ACL898918","PLATINE ALIMENTATION"]
["ACL898951",null,"VANNE 4 VOIES + PRESSOSTAT",null,null,{"$f":"LEFT(Catalogue[[#This Row],[Référence]],3)","v":"ACL"},{"$f":"VLOOKUP(Catalogue[[#This Row],[Alias]],#REF!,2,FALSE)","v":{"$error":"#REF!"}},null,"ACL898951","VANNE 4 VOIES + PRESSOSTAT"]
["ACL898954",null,"PLATINE DE REGULATION",null,null,{"$f":"LEFT(Catalogue[[#This Row],[Référence]],3)","v":"ACL"},{"$f":"VLOOKUP(Catalogue[[#This Row],[Alias]],#REF!,2,FALSE)","v":{"$error":"#REF!"}},null,"ACL898954","PLATINE DE REGULATION"]
["ACL898958",null,"PLATINE DE REGULATION",null,null,{"$f":"LEFT(Catalogue[[#This Row],[Référence]],3)","v":"ACL"},{"$f":"VLOOKUP(Catalogue[[#This Row],[Alias]],#REF!,2,FALSE)","v":{"$error":"#REF!"}},null,"ACL898958","PLATINE DE REGULATION"]
["ACL898959",null,"PLATINE DE REGULATION",null,null,{"$f":"LEFT(Catalogue[[#This Row],[Référence]],3)","v":"ACL"},{"$f":"VLOOKUP(Catalogue[[#This Row],[Alias]],#REF!,2,FALSE)","v":{"$error":"#REF!"}},null,"ACL898959","PLATINE DE REGULATION"]
["ACL898966",null,"PLATINE DE REGULATION",null,null,{"$f":"LEFT(Catalogue[[#This Row],[Référence]],3)","v":"ACL"},{"$f":"VLOOKUP(Catalogue[[#This Row],[Alias]],#REF!,2,FALSE)","v":{"$error":"#REF!"}},null,"ACL898966","PLATINE DE REGULATION"]
["ACL898968",null,"CONDENSEUR",null,null,{"$f":"LEFT(Catalogue[[#This Row],[Référence]],3)","v":"ACL"},{"$f":"VLOOKUP(Catalogue[[#This Row],[Alias]],#REF!,2,FALSE)","v":{"$error":"#REF!"}},null,"ACL898968","CONDENSEUR"]
["ACL898971",null,"PLATINE DE REGULATION",null,null,{"$f":"LEFT(Catalogue[[#This Row],[Référence]],3)","v":"ACL"},{"$f":"VLOOKUP(Catalogue[[#This Row],[Alias]],#REF!,2,FALSE)","v":{"$error":"#REF!"}},null,"ACL898971","PLATINE DE REGULATION"]
["ACL898974",null,"PLATINE DE REGULATION",null,null,{"$f":"LEFT(Catalogue[[#This Row],[Référence]],3)","v":"ACL"},{"$f":"VLOOKUP(Catalogue[[#This Row],[Alias]],#REF!,2,FALSE)","v":{"$error":"#REF!"}},null,"ACL898974","PLATINE DE REGULATION"]
["ACL899185",null,{"$f":"VLOOKUP(A642,I:J,2,0)","v":"POMPE DE RELEVAGE"},null,null,{"$f":"LEFT(Catalogue[[#This Row],[Référence]],3)","v":"ACL"},{"$f":"VLOOKUP(Catalogue[[#This Row],[Alias]],#REF!,2,FALSE)","v":{"$error":"#REF!"}},null,"ACL899185","POMPE DE RELEVAGE"]
["ACL899486",null,"FILTRE",null,null,{"$f":"LEFT(Catalogue[[#This Row],[Référence]],3)","v":"ACL"},{"$f":"VLOOKUP(Catalogue[[#This Row],[Alias]],#REF!,2,FALSE)","v":{"$error":"#REF!"}},null,"ACL899486","FILTRE"]
["ACL899493",null,"SONDE REPRISE",null,null,{"$f":"LEFT(Catalogue[[#This Row],[Référence]],3)","v":"ACL"},{"$f":"VLOOKUP(Catalogue[[#This Row],[Alias]],#REF!,2,FALSE)","v":{"$error":"#REF!"}},null,"ACL899493","SONDE REPRISE"]
["ACL899599",null,"TURBINE",null,null,{"$f":"LEFT(Catalogue[[#This Row],[Référence]],3)","v":"ACL"},{"$f":"VLOOKUP(Catalogue[[#This Row],[Alias]],#REF!,2,FALSE)","v":{"$error":"#REF!"}},null,"ACL899599","TURBINE"]
["ACL899621",null,"SILENT BLOC TURBINE",null,null,{"$f":"LEFT(Catalogue[[#This Row],[Référence]],3)","v":"ACL"},{"$f":"VLOOKUP(Catalogue[[#This Row],[Alias]],#REF!,2,FALSE)","v":{"$error":"#REF!"}},null,"ACL899621","SILENT BLOC TURBINE"]
["ACL899747",null,"TURBINE",null,null,{"$f":"LEFT(Catalogue[[#This Row],[Référence]],3)","v":"ACL"},{"$f":"VLOOKUP(Catalogue[[#This Row],[Alias]],#REF!,2,FALSE)","v":{"$error":"#REF!"}},null,"ACL899747","TURBINE"]
["ACL899837",null,"SONDE REPRISE",null,null,{"$f":"LEFT(Catalogue[[#This Row],[Référence]],3)","v":"ACL"},{"$f":"VLOOKUP(Catalogue[[#This Row],[Alias]],#REF!,2,FALSE)","v":{"$error":"#REF!"}},null,"ACL899837","SONDE REPRISE"]
["ACL906249",null,"TELECOMMANDE IR",null,null,{"$f":"LEFT(Catalogue[[#This Row],[Référence]],3)","v":"ACL"},{"$f":"VLOOKUP(Catalogue[[#This Row],[Alias]],#REF!,2,FALSE)","v":{"$error":"#REF!"}},null,"ACL906249","TELECOMMANDE IR"]
["ACL906265",null,"RESSORT C",null,null,{"$f":"LEFT(Catalogue[[#This Row],[Référence]],3)","v":"ACL"},{"$f":"VLOOKUP(Catalogue[[#This Row],[Alias]],#REF!,2,FALSE)","v":{"$error":"#REF!"}},null,"ACL906265","RESSORT C"]
["ACL906278",null,"DIFFUSEUR U",null,null,{"$f":"LEFT(Catalogue[[#This Row],[Référence]],3)","v":"ACL"},{"$f":"VLOOKUP(Catalogue[[#This Row],[Alias]],#REF!,2,FALSE)","v":{"$error":"#REF!"}},null,"ACL906278","DIFFUSEUR U"]
["ACL906279",null,"DIFFUSEUR Z",null,null,{"$f":"LEFT(Catalogue[[#This Row],[Référence]],3)","v":"ACL"},{"$f":"VLOOKUP(Catalogue[[#This Row],[Alias]],#REF!,2,FALSE)","v":{"$error":"#REF!"}},null,"ACL906279","DIFFUSEUR Z"]
["ACL906556",null,"CAPOT INFERIEUR R",null,null,{"$f":"LEFT(Catalogue[[#This Row],[Référence]],3)","v":"ACL"},{"$f":"VLOOKUP(Catalogue[[#This Row],[Alias]],#REF!,2,FALSE)","v":{"$error":"#REF!"}},null,"ACL906556","CAPOT INFERIEUR R"]
["ACL906569",null,"ENSEMBLE TELECOMMANDE",null,null,{"$f":"LEFT(Catalogue[[#This Row],[Référence]],3)","v":"ACL"},{"$f":"VLOOKUP(Catalogue[[#This Row],[Alias]],#REF!,2,FALSE)","v":{"$error":"#REF!"}},null,"ACL906569","ENSEMBLE TELECOMMANDE"]
["ACL906637",null,"HELICE",null,null,{"$f":"LEFT(Catalogue[[#This Row],[Référence]],3)","v":"ACL"},{"$f":"VLOOKUP(Catalogue[[#This Row],[Alias]],#REF!,2,FALSE)","v":{"$error":"#REF!"}},null,"ACL906637","HELICE"]
["ACL907725",null,"BOBINE DETENDEUR (B : BLANC)",null,null,{"$f":"LEFT(Catalogue[[#This Row],[Référence]],3)","v":"ACL"},{"$f":"VLOOKUP(Catalogue[[#This Row],[Alias]],#REF!,2,FALSE)","v":{"$error":"#REF!"}},null,"ACL907725","BOBINE DETENDEUR (B : BLANC)"]
["ACL911039",null,"RELAIS FINDER",null,null,{"$f":"LEFT(Catalogue[[#This Row],[Référence]],3)","v":"ACL"},{"$f":"VLOOKUP(Catalogue[[#This Row],[Alias]],#REF!,2,FALSE)","v":{"$error":"#REF!"}},null,"ACL911039","RELAIS FINDER"]
["ACL911270",null,"TURBINE",null,null,{"$f":"LEFT(Catalogue[[#This Row],[Référence]],3)","v":"ACL"},{"$f":"VLOOKUP(Catalogue[[#This Row],[Alias]],#REF!,2,FALSE)","v":{"$error":"#REF!"}},null,"ACL911270","TURBINE"]
["ACL911313",null,"GRILLE MOT AM300N4 AM",null,null,{"$f":"LEFT(Catalogue[[#This Row],[Référence]],3)","v":"ACL"},{"$f":"VLOOKUP(Catalogue[[#This Row],[Alias]],#REF!,2,FALSE)","v":{"$error":"#REF!"}},null,"ACL911313","GRILLE MOT AM300N4 AM"]
["ACL911418",null,"POULIE RECEPTRICE",null,null,{"$f":"LEFT(Catalogue[[#This Row],[Référence]],3)","v":"ACL"},{"$f":"VLOOKUP(Catalogue[[#This Row],[Alias]],#REF!,2,FALSE)","v":{"$error":"#REF!"}},null,"ACL911418","POULIE RECEPTRICE"]
["ACL911430",null,"COURROIE",null,null,{"$f":"LEFT(Catalogue[[#This Row],[Référence]],3)","v":"ACL"},{"$f":"VLOOKUP(Catalogue[[#This Row],[Alias]],#REF!,2,FALSE)","v":{"$error":"#REF!"}},null,"ACL911430","COURROIE"]
["ACL911433",null,"COURROIE",null,null,{"$f":"LEFT(Catalogue[[#This Row],[Référence]],3)","v":"ACL"},{"$f":"VLOOKUP(Catalogue[[#This Row],[Alias]],#REF!,2,FALSE)","v":{"$error":"#REF!"}},null,"ACL911433","COURROIE"]
["ACL911469",null,"PLATINE ELECTRONIQUE + CLAVIER",null,null,{"$f":"LEFT(Catalogue[[#This Row],[Référence]],3)","v":"ACL"},{"$f":"VLOOKUP(Catalogue[[#This Row],[Alias]],#REF!,2,FALSE)","v":{"$error":"#REF!"}},null,"ACL911469","PLATINE ELECTRONIQUE + CLAVIER"]
["ACL911476",null,"VERIN THERMIQUE",null,null,{"$f":"LEFT(Catalogue[[#This Row],[Référence]],3)","v":"ACL"},{"$f":"VLOOKUP(Catalogue[[#This Row],[Alias]],#REF!,2,FALSE)","v":{"$error":"#REF!"}},null,"ACL911476","VERIN THERMIQUE"]
["ACL911481",null,"ENSEMBLE PLATINE COMPLETE",null,null,{"$f":"LEFT(Catalogue[[#This Row],[Référence]],3)","v":"ACL"},{"$f":"VLOOKUP(Catalogue[[#This Row],[Alias]],#REF!,2,FALSE)","v":{"$error":"#REF!"}},null,"ACL911481","ENSEMBLE PLATINE COMPLETE"]
["ACL911485",null,"MOTEUR VENTILATION",null,null,{"$f":"LEFT(Catalogue[[#This Row],[Référence]],3)","v":"ACL"},{"$f":"VLOOKUP(Catalogue[[#This Row],[Alias]],#REF!,2,FALSE)","v":{"$error":"#REF!"}},null,"ACL911485","MOTEUR VENTILATION"]
["ACL911487",null,"MOTEUR VENTILATION",null,null,{"$f":"LEFT(Catalogue[[#This Row],[Référence]],3)","v":"ACL"},{"$f":"VLOOKUP(Catalogue[[#This Row],[Alias]],#REF!,2,FALSE)","v":{"$error":"#REF!"}},null,"ACL911487","MOTEUR VENTILATION"]
["ACL911491",null,"COURROIE",null,null,{"$f":"LEFT(Catalogue[[#This Row],[Référence]],3)","v":"ACL"},{"$f":"VLOOKUP(Catalogue[[#This Row],[Alias]],#REF!,2,FALSE)","v":{"$error":"#REF!"}},null,"ACL911491","COURROIE"]
["ACL911494",null,"VARIATEUR FREQUENCE (0.75KW)",null,null,{"$f":"LEFT(Catalogue[[#This Row],[Référence]],3)","v":"ACL"},{"$f":"VLOOKUP(Catalogue[[#This Row],[Alias]],#REF!,2,FALSE)","v":{"$error":"#REF!"}},null,"ACL911494","VARIATEUR FREQUENCE (0.75KW)"]
["ACL911498",null,"TURBINE",null,null,{"$f":"LEFT(Catalogue[[#This Row],[Référence]],3)","v":"ACL"},{"$f":"VLOOKUP(Catalogue[[#This Row],[Alias]],#REF!,2,FALSE)","v":{"$error":"#REF!"}},null,"ACL911498","TURBINE"]
["ACL911534",null,"DISJONCTEUR (1/1.6A)",null,null,{"$f":"LEFT(Catalogue[[#This Row],[Référence]],3)","v":"ACL"},{"$f":"VLOOKUP(Catalogue[[#This Row],[Alias]],#REF!,2,FALSE)","v":{"$error":"#REF!"}},null,"ACL911534","DISJONCTEUR (1/1.6A)"]
["ACL911535",null,"DISJONCTEUR (1.6/2.5A)",null,null,{"$f":"LEFT(Catalogue[[#This Row],[Référence]],3)","v":"ACL"},{"$f":"VLOOKUP(Catalogue[[#This Row],[Alias]],#REF!,2,FALSE)","v":{"$error":"#REF!"}},null,"ACL911535","DISJONCTEUR (1.6/2.5A)"]
["ACL911536",null,"DISJONCTEUR (2.5/4A)",null,null,{"$f":"LEFT(Catalogue[[#This Row],[Référence]],3)","v":"ACL"},{"$f":"VLOOKUP(Catalogue[[#This Row],[Alias]],#REF!,2,FALSE)","v":{"$error":"#REF!"}},null,"ACL911536","DISJONCTEUR (2.5/4A)"]
["ACL911537",null,"VENTILATEUR AT9/9 AIR T2001/20",null,null,{"$f":"LEFT(Catalogue[[#This Row],[Référence]],3)","v":"ACL"},{"$f":"VLOOKUP(Catalogue[[#This Row],[Alias]],#REF!,2,FALSE)","v":{"$error":"#REF!"}},null,"ACL911537","VENTILATEUR AT9/9 AIR T2001/20"]
["ACL911539",null,"DEPRESSOSTAT",null,null,{"$f":"LEFT(Catalogue[[#This Row],[Référence]],3)","v":"ACL"},{"$f":"VLOOKUP(Catalogue[[#This Row],[Alias]],#REF!,2,FALSE)","v":{"$error":"#REF!"}},null,"ACL911539","DEPRESSOSTAT"]
["ACL911563",null,"POULIE VARIABLE",null,null,{"$f":"LEFT(Catalogue[[#This Row],[Référence]],3)","v":"ACL"},{"$f":"VLOOKUP(Catalogue[[#This Row],[Alias]],#REF!,2,FALSE)","v":{"$error":"#REF!"}},null,"ACL911563","POULIE VARIABLE"]
["ACL911577",null,"VENTILATEUR AT10/10 AIRT3001/3",null,null,{"$f":"LEFT(Catalogue[[#This Row],[Référence]],3)","v":"ACL"},{"$f":"VLOOKUP(Catalogue[[#This Row],[Alias]],#REF!,2,FALSE)","v":{"$error":"#REF!"}},null,"ACL911577","VENTILATEUR AT10/10 AIRT3001/3"]
["ACL911578",null,"VENTILATEUR AT12-12 AIR T4501",null,null,{"$f":"LEFT(Catalogue[[#This Row],[Référence]],3)","v":"ACL"},{"$f":"VLOOKUP(Catalogue[[#This Row],[Alias]],#REF!,2,FALSE)","v":{"$error":"#REF!"}},null,"ACL911578","VENTILATEUR AT12-12 AIR T4501"]
["ACL911598",null,"ENSEMBLE 2 GLISSIERES 2 RAILS",null,null,{"$f":"LEFT(Catalogue[[#This Row],[Référence]],3)","v":"ACL"},{"$f":"VLOOKUP(Catalogue[[#This Row],[Alias]],#REF!,2,FALSE)","v":{"$error":"#REF!"}},null,"ACL911598","ENSEMBLE 2 GLISSIERES 2 RAILS"]
["ACL911757",null,"CONDENSATEUR 4 MF",null,null,{"$f":"LEFT(Catalogue[[#This Row],[Référence]],3)","v":"ACL"},{"$f":"VLOOKUP(Catalogue[[#This Row],[Alias]],#REF!,2,FALSE)","v":{"$error":"#REF!"}},null,"ACL911757","CONDENSATEUR 4 MF"]
["ACL911820",null,"CONDENSATEUR 2.5 MF",null,null,{"$f":"LEFT(Catalogue[[#This Row],[Référence]],3)","v":"ACL"},{"$f":"VLOOKUP(Catalogue[[#This Row],[Alias]],#REF!,2,FALSE)","v":{"$error":"#REF!"}},null,"ACL911820","CONDENSATEUR 2.5 MF"]
["ACL911823",null,"COURROIE",null,null,{"$f":"LEFT(Catalogue[[#This Row],[Référence]],3)","v":"ACL"},{"$f":"VLOOKUP(Catalogue[[#This Row],[Alias]],#REF!,2,FALSE)","v":{"$error":"#REF!"}},null,"ACL911823","COURROIE"]
["ACL912034",null,"RESISTANCE T1 3000W",null,null,{"$f":"LEFT(Catalogue[[#This Row],[Référence]],3)","v":"ACL"},{"$f":"VLOOKUP(Catalogue[[#This Row],[Alias]],#REF!,2,FALSE)","v":{"$error":"#REF!"}},null,"ACL912034","RESISTANCE T1 3000W"]
["ACL912049",null,"CONDENSATEUR DOUBLE 3/4.7 MICRO F",null,null,{"$f":"LEFT(Catalogue[[#This Row],[Référence]],3)","v":"ACL"},{"$f":"VLOOKUP(Catalogue[[#This Row],[Alias]],#REF!,2,FALSE)","v":{"$error":"#REF!"}},null,"ACL912049","CONDENSATEUR DOUBLE 3/4.7 MICRO F"]
["ACL912138",null,"SACHET DE 4 FILTRES",null,null,{"$f":"LEFT(Catalogue[[#This Row],[Référence]],3)","v":"ACL"},{"$f":"VLOOKUP(Catalogue[[#This Row],[Alias]],#REF!,2,FALSE)","v":{"$error":"#REF!"}},null,"ACL912138","SACHET DE 4 FILTRES"]
["ACL912155",null,"MOTEUR VENTILATION",null,null,{"$f":"LEFT(Catalogue[[#This Row],[Référence]],3)","v":"ACL"},{"$f":"VLOOKUP(Catalogue[[#This Row],[Alias]],#REF!,2,FALSE)","v":{"$error":"#REF!"}},null,"ACL912155","MOTEUR VENTILATION"]
["ACL912247",null,"CONDENSATEUR 3UF 450V",null,null,{"$f":"LEFT(Catalogue[[#This Row],[Référence]],3)","v":"ACL"},{"$f":"VLOOKUP(Catalogue[[#This Row],[Alias]],#REF!,2,FALSE)","v":{"$error":"#REF!"}},null,"ACL912247","CONDENSATEUR 3UF 450V"]
["ACL912293",null,"MOTEUR 0.37KW",null,null,{"$f":"LEFT(Catalogue[[#This Row],[Référence]],3)","v":"ACL"},{"$f":"VLOOKUP(Catalogue[[#This Row],[Alias]],#REF!,2,FALSE)","v":{"$error":"#REF!"}},null,"ACL912293","MOTEUR 0.37KW"]
["ACL912297",null,"MOTEUR TRI 1LA7083-4AA10 0.75KW IE2",null,null,{"$f":"LEFT(Catalogue[[#This Row],[Référence]],3)","v":"ACL"},{"$f":"VLOOKUP(Catalogue[[#This Row],[Alias]],#REF!,2,FALSE)","v":{"$error":"#REF!"}},null,"ACL912297","MOTEUR TRI 1LA7083-4AA10 0.75KW IE2"]
["ACL912301",null,"MOTEUR TRI",null,null,{"$f":"LEFT(Catalogue[[#This Row],[Référence]],3)","v":"ACL"},{"$f":"VLOOKUP(Catalogue[[#This Row],[Alias]],#REF!,2,FALSE)","v":{"$error":"#REF!"}},null,"ACL912301","MOTEUR TRI"]
["ACL912337",null,"TURBINE",null,null,{"$f":"LEFT(Catalogue[[#This Row],[Référence]],3)","v":"ACL"},{"$f":"VLOOKUP(Catalogue[[#This Row],[Alias]],#REF!,2,FALSE)","v":{"$error":"#REF!"}},null,"ACL912337","TURBINE"]
["ACL912960",null,"MOTOTURBINE HYGRO BBC",null,null,{"$f":"LEFT(Catalogue[[#This Row],[Référence]],3)","v":"ACL"},{"$f":"VLOOKUP(Catalogue[[#This Row],[Alias]],#REF!,2,FALSE)","v":{"$error":"#REF!"}},null,"ACL912960","MOTOTURBINE HYGRO BBC"]
["ACL913025",null,"BOUCHE CUISINE (10/135M3/HPES)",null,null,{"$f":"LEFT(Catalogue[[#This Row],[Référence]],3)","v":"ACL"},{"$f":"VLOOKUP(Catalogue[[#This Row],[Alias]],#REF!,2,FALSE)","v":{"$error":"#REF!"}},null,"ACL913025","BOUCHE CUISINE (10/135M3/HPES)"]
["ACL913030",null,"TOLE SUPPORT CARTE V2",null,null,{"$f":"LEFT(Catalogue[[#This Row],[Référence]],3)","v":"ACL"},{"$f":"VLOOKUP(Catalogue[[#This Row],[Alias]],#REF!,2,FALSE)","v":{"$error":"#REF!"}},null,"ACL913030","TOLE SUPPORT CARTE V2"]
["ACL913057",null,"REDUCTION 160/125",null,null,{"$f":"LEFT(Catalogue[[#This Row],[Référence]],3)","v":"ACL"},{"$f":"VLOOKUP(Catalogue[[#This Row],[Alias]],#REF!,2,FALSE)","v":{"$error":"#REF!"}},null,"ACL913057","REDUCTION 160/125"]
["ACL913137",null,"MOTEUR VENTILATION",null,null,{"$f":"LEFT(Catalogue[[#This Row],[Référence]],3)","v":"ACL"},{"$f":"VLOOKUP(Catalogue[[#This Row],[Alias]],#REF!,2,FALSE)","v":{"$error":"#REF!"}},null,"ACL913137","MOTEUR VENTILATION"]
["ACL913138",null,"MOTEUR EC 1500",null,null,{"$f":"LEFT(Catalogue[[#This Row],[Référence]],3)","v":"ACL"},{"$f":"VLOOKUP(Catalogue[[#This Row],[Alias]],#REF!,2,FALSE)","v":{"$error":"#REF!"}},null,"ACL913138","MOTEUR EC 1500"]
["ACL913141",null,"TURBINE",null,null,{"$f":"LEFT(Catalogue[[#This Row],[Référence]],3)","v":"ACL"},{"$f":"VLOOKUP(Catalogue[[#This Row],[Alias]],#REF!,2,FALSE)","v":{"$error":"#REF!"}},null,"ACL913141","TURBINE"]
["ACL913172",null,"MOT AIRVENT BBC/PA 2500",null,null,{"$f":"LEFT(Catalogue[[#This Row],[Référence]],3)","v":"ACL"},{"$f":"VLOOKUP(Catalogue[[#This Row],[Alias]],#REF!,2,FALSE)","v":{"$error":"#REF!"}},null,"ACL913172","MOT AIRVENT BBC/PA 2500"]
["ACL913174",null,"MOT AIRVENT M 2250",null,null,{"$f":"LEFT(Catalogue[[#This Row],[Référence]],3)","v":"ACL"},{"$f":"VLOOKUP(Catalogue[[#This Row],[Alias]],#REF!,2,FALSE)","v":{"$error":"#REF!"}},null,"ACL913174","MOT AIRVENT M 2250"]
["ACL913197",null,"MOTEUR VENTILATION",null,null,{"$f":"LEFT(Catalogue[[#This Row],[Référence]],3)","v":"ACL"},{"$f":"VLOOKUP(Catalogue[[#This Row],[Alias]],#REF!,2,FALSE)","v":{"$error":"#REF!"}},null,"ACL913197","MOTEUR VENTILATION"]
["ACL913321",null,"BOUCHE WC (5/30M3/H)",null,null,{"$f":"LEFT(Catalogue[[#This Row],[Référence]],3)","v":"ACL"},{"$f":"VLOOKUP(Catalogue[[#This Row],[Alias]],#REF!,2,FALSE)","v":{"$error":"#REF!"}},null,"ACL913321","BOUCHE WC (5/30M3/H)"]
["ACL913375",null,"MOTOTURBINE PRIMOCOSY EC",null,null,{"$f":"LEFT(Catalogue[[#This Row],[Référence]],3)","v":"ACL"},{"$f":"VLOOKUP(Catalogue[[#This Row],[Alias]],#REF!,2,FALSE)","v":{"$error":"#REF!"}},null,"ACL913375","MOTOTURBINE PRIMOCOSY EC"]
["ACL913376",null,"CONDENSATEUR 2MF/3.8MF",null,null,{"$f":"LEFT(Catalogue[[#This Row],[Référence]],3)","v":"ACL"},{"$f":"VLOOKUP(Catalogue[[#This Row],[Alias]],#REF!,2,FALSE)","v":{"$error":"#REF!"}},null,"ACL913376","CONDENSATEUR 2MF/3.8MF"]
["ACL913422",null,"TURBINE",null,null,{"$f":"LEFT(Catalogue[[#This Row],[Référence]],3)","v":"ACL"},{"$f":"VLOOKUP(Catalogue[[#This Row],[Alias]],#REF!,2,FALSE)","v":{"$error":"#REF!"}},null,"ACL913422","TURBINE"]
["ACL913438",null,{"$f":"VLOOKUP(A706,I:J,2,0)","v":"INTER. PROX ENCASTRE 2P10A"},null,null,{"$f":"LEFT(Catalogue[[#This Row],[Référence]],3)","v":"ACL"},{"$f":"VLOOKUP(Catalogue[[#This Row],[Alias]],#REF!,2,FALSE)","v":{"$error":"#REF!"}},null,"ACL913438","INTER. PROX ENCASTRE 2P10A"]
["ACL913482",null,"TELECOMMANDE",null,null,{"$f":"LEFT(Catalogue[[#This Row],[Référence]],3)","v":"ACL"},{"$f":"VLOOKUP(Catalogue[[#This Row],[Alias]],#REF!,2,FALSE)","v":{"$error":"#REF!"}},null,"ACL913482","TELECOMMANDE"]
["ACL913489",null,"COURROIE",null,null,{"$f":"LEFT(Catalogue[[#This Row],[Référence]],3)","v":"ACL"},{"$f":"VLOOKUP(Catalogue[[#This Row],[Alias]],#REF!,2,FALSE)","v":{"$error":"#REF!"}},null,"ACL913489","COURROIE"]
["ACL913496",null,"COURROIE",null,null,{"$f":"LEFT(Catalogue[[#This Row],[Référence]],3)","v":"ACL"},{"$f":"VLOOKUP(Catalogue[[#This Row],[Alias]],#REF!,2,FALSE)","v":{"$error":"#REF!"}},null,"ACL913496","COURROIE"]
["ACL913545",null,"CARTE COM AIRVENT BBC 1500",null,null,{"$f":"LEFT(Catalogue[[#This Row],[Référence]],3)","v":"ACL"},{"$f":"VLOOKUP(Catalogue[[#This Row],[Alias]],#REF!,2,FALSE)","v":{"$error":"#REF!"}},null,"ACL913545","CARTE COM AIRVENT BBC 1500"]
["ACL913550",null,"MOTEUR CRITAIR BC 1000",null,null,{"$f":"LEFT(Catalogue[[#This Row],[Référence]],3)","v":"ACL"},{"$f":"VLOOKUP(Catalogue[[#This Row],[Alias]],#REF!,2,FALSE)","v":{"$error":"#REF!"}},null,"ACL913550","MOTEUR CRITAIR BC 1000"]
["ACL913610",null,"DEPRESSOSTAT 20-300PA",null,null,{"$f":"LEFT(Catalogue[[#This Row],[Référence]],3)","v":"ACL"},{"$f":"VLOOKUP(Catalogue[[#This Row],[Alias]],#REF!,2,FALSE)","v":{"$error":"#REF!"}},null,"ACL913610","DEPRESSOSTAT 20-300PA"]
["ACL913636",null,"MOTOTURBINE DUOCOSY HR ECO",null,null,{"$f":"LEFT(Catalogue[[#This Row],[Référence]],3)","v":"ACL"},{"$f":"VLOOKUP(Catalogue[[#This Row],[Alias]],#REF!,2,FALSE)","v":{"$error":"#REF!"}},null,"ACL913636","MOTOTURBINE DUOCOSY HR ECO"]
["ACL913637",null,"CONDENSATEUR 2/3.8MF",null,null,{"$f":"LEFT(Catalogue[[#This Row],[Référence]],3)","v":"ACL"},{"$f":"VLOOKUP(Catalogue[[#This Row],[Alias]],#REF!,2,FALSE)","v":{"$error":"#REF!"}},null,"ACL913637","CONDENSATEUR 2/3.8MF"]
["ACL913640",null,"FILTRE G4",null,null,{"$f":"LEFT(Catalogue[[#This Row],[Référence]],3)","v":"ACL"},{"$f":"VLOOKUP(Catalogue[[#This Row],[Alias]],#REF!,2,FALSE)","v":{"$error":"#REF!"}},null,"ACL913640","FILTRE G4"]
["ACL913644",null,"FILTRE G4",null,null,{"$f":"LEFT(Catalogue[[#This Row],[Référence]],3)","v":"ACL"},{"$f":"VLOOKUP(Catalogue[[#This Row],[Alias]],#REF!,2,FALSE)","v":{"$error":"#REF!"}},null,"ACL913644","FILTRE G4"]
["ACL913663",null,"MOTOTURBINE DUOLIX MAX",null,null,{"$f":"LEFT(Catalogue[[#This Row],[Référence]],3)","v":"ACL"},{"$f":"VLOOKUP(Catalogue[[#This Row],[Alias]],#REF!,2,FALSE)","v":{"$error":"#REF!"}},null,"ACL913663","MOTOTURBINE DUOLIX MAX"]
["ACL913715",null,"COURROIE",null,null,{"$f":"LEFT(Catalogue[[#This Row],[Référence]],3)","v":"ACL"},{"$f":"VLOOKUP(Catalogue[[#This Row],[Alias]],#REF!,2,FALSE)","v":{"$error":"#REF!"}},null,"ACL913715","COURROIE"]
["ACL913760",null,"CARTE MOTEUR CRITAIR EC1000P34",null,null,{"$f":"LEFT(Catalogue[[#This Row],[Référence]],3)","v":"ACL"},{"$f":"VLOOKUP(Catalogue[[#This Row],[Alias]],#REF!,2,FALSE)","v":{"$error":"#REF!"}},null,"ACL913760","CARTE MOTEUR CRITAIR EC1000P34"]
["ACL913764",null,"REGULATION AIRVENT BBC2 1500",null,null,{"$f":"LEFT(Catalogue[[#This Row],[Référence]],3)","v":"ACL"},{"$f":"VLOOKUP(Catalogue[[#This Row],[Alias]],#REF!,2,FALSE)","v":{"$error":"#REF!"}},null,"ACL913764","REGULATION AIRVENT BBC2 1500"]
["ACL913765",null,"REGULATION AIRVENT BBC2 2500",null,null,{"$f":"LEFT(Catalogue[[#This Row],[Référence]],3)","v":"ACL"},{"$f":"VLOOKUP(Catalogue[[#This Row],[Alias]],#REF!,2,FALSE)","v":{"$error":"#REF!"}},null,"ACL913765","REGULATION AIRVENT BBC2 2500"]
["ACL913775",null,"PLASTRON",null,null,{"$f":"LEFT(Catalogue[[#This Row],[Référence]],3)","v":"ACL"},{"$f":"VLOOKUP(Catalogue[[#This Row],[Alias]],#REF!,2,FALSE)","v":{"$error":"#REF!"}},null,"ACL913775","PLASTRON"]
["ACL913776",null,"FAISCEAU REGULATION",null,null,{"$f":"LEFT(Catalogue[[#This Row],[Référence]],3)","v":"ACL"},{"$f":"VLOOKUP(Catalogue[[#This Row],[Alias]],#REF!,2,FALSE)","v":{"$error":"#REF!"}},null,"ACL913776","FAISCEAU REGULATION"]
["ACL913778",null,"CARTE MOTEUR AIRVENT BBC2 2500",null,null,{"$f":"LEFT(Catalogue[[#This Row],[Référence]],3)","v":"ACL"},{"$f":"VLOOKUP(Catalogue[[#This Row],[Alias]],#REF!,2,FALSE)","v":{"$error":"#REF!"}},null,"ACL913778","CARTE MOTEUR AIRVENT BBC2 2500"]
["ACL913800",null,"KIT MOT AIRVENT PA BBC1500P29",null,null,{"$f":"LEFT(Catalogue[[#This Row],[Référence]],3)","v":"ACL"},{"$f":"VLOOKUP(Catalogue[[#This Row],[Alias]],#REF!,2,FALSE)","v":{"$error":"#REF!"}},null,"ACL913800","KIT MOT AIRVENT PA BBC1500P29"]
["ACL913801",null,"KIT MOT AIRVENT PA BBC2500P30",null,null,{"$f":"LEFT(Catalogue[[#This Row],[Référence]],3)","v":"ACL"},{"$f":"VLOOKUP(Catalogue[[#This Row],[Alias]],#REF!,2,FALSE)","v":{"$error":"#REF!"}},null,"ACL913801","KIT MOT AIRVENT PA BBC2500P30"]
["ACL913802",null,"MODULE MODBUS TCP M168",null,null,{"$f":"LEFT(Catalogue[[#This Row],[Référence]],3)","v":"ACL"},{"$f":"VLOOKUP(Catalogue[[#This Row],[Alias]],#REF!,2,FALSE)","v":{"$error":"#REF!"}},null,"ACL913802","MODULE MODBUS TCP M168"]
["ACL913803",null,"REGULATION CRITAIR EC 1000 PC",null,null,{"$f":"LEFT(Catalogue[[#This Row],[Référence]],3)","v":"ACL"},{"$f":"VLOOKUP(Catalogue[[#This Row],[Alias]],#REF!,2,FALSE)","v":{"$error":"#REF!"}},null,"ACL913803","REGULATION CRITAIR EC 1000 PC"]
["ACL913814",null,"REGULATION AERAULIX COLLECTIF",null,null,{"$f":"LEFT(Catalogue[[#This Row],[Référence]],3)","v":"ACL"},{"$f":"VLOOKUP(Catalogue[[#This Row],[Alias]],#REF!,2,FALSE)","v":{"$error":"#REF!"}},null,"ACL913814","REGULATION AERAULIX COLLECTIF"]
["ACL913839",null,"VENTILATEUR",null,null,{"$f":"LEFT(Catalogue[[#This Row],[Référence]],3)","v":"ACL"},{"$f":"VLOOKUP(Catalogue[[#This Row],[Alias]],#REF!,2,FALSE)","v":{"$error":"#REF!"}},null,"ACL913839","VENTILATEUR"]
["ACL913844",null,"MOTOTURBINE CRITAIR M4N",null,null,{"$f":"LEFT(Catalogue[[#This Row],[Référence]],3)","v":"ACL"},{"$f":"VLOOKUP(Catalogue[[#This Row],[Alias]],#REF!,2,FALSE)","v":{"$error":"#REF!"}},null,"ACL913844","MOTOTURBINE CRITAIR M4N"]
["ACL913848",null,"MOTEUR DE VENTILATION",null,null,{"$f":"LEFT(Catalogue[[#This Row],[Référence]],3)","v":"ACL"},{"$f":"VLOOKUP(Catalogue[[#This Row],[Alias]],#REF!,2,FALSE)","v":{"$error":"#REF!"}},null,"ACL913848","MOTEUR DE VENTILATION"]
["ACL913874",null,"POULIE VARIABLE",null,null,{"$f":"LEFT(Catalogue[[#This Row],[Référence]],3)","v":"ACL"},{"$f":"VLOOKUP(Catalogue[[#This Row],[Alias]],#REF!,2,FALSE)","v":{"$error":"#REF!"}},null,"ACL913874","POULIE VARIABLE"]
["ACL913875",null,"COURROIE",null,null,{"$f":"LEFT(Catalogue[[#This Row],[Référence]],3)","v":"ACL"},{"$f":"VLOOKUP(Catalogue[[#This Row],[Alias]],#REF!,2,FALSE)","v":{"$error":"#REF!"}},null,"ACL913875","COURROIE"]
["ACL913903",null,"MANCHETTE AIRVENT T6001",null,null,{"$f":"LEFT(Catalogue[[#This Row],[Référence]],3)","v":"ACL"},{"$f":"VLOOKUP(Catalogue[[#This Row],[Alias]],#REF!,2,FALSE)","v":{"$error":"#REF!"}},null,"ACL913903","MANCHETTE AIRVENT T6001"]
["ACL913926",null,"MOTEUR VENTILATION",null,null,{"$f":"LEFT(Catalogue[[#This Row],[Référence]],3)","v":"ACL"},{"$f":"VLOOKUP(Catalogue[[#This Row],[Alias]],#REF!,2,FALSE)","v":{"$error":"#REF!"}},null,"ACL913926","MOTEUR VENTILATION"]
["ACL913932",null,"COURROIE",null,null,{"$f":"LEFT(Catalogue[[#This Row],[Référence]],3)","v":"ACL"},{"$f":"VLOOKUP(Catalogue[[#This Row],[Alias]],#REF!,2,FALSE)","v":{"$error":"#REF!"}},null,"ACL913932","COURROIE"]
["ACL913962",null,"REGULATION V2 1500-2500",null,null,{"$f":"LEFT(Catalogue[[#This Row],[Référence]],3)","v":"ACL"},{"$f":"VLOOKUP(Catalogue[[#This Row],[Alias]],#REF!,2,FALSE)","v":{"$error":"#REF!"}},null,"ACL913962","REGULATION V2 1500-2500"]
["ACL913972",null,"POULIE RECEPTRICE",null,null,{"$f":"LEFT(Catalogue[[#This Row],[Référence]],3)","v":"ACL"},{"$f":"VLOOKUP(Catalogue[[#This Row],[Alias]],#REF!,2,FALSE)","v":{"$error":"#REF!"}},null,"ACL913972","POULIE RECEPTRICE"]
["ACL913998",null,"BOUCHE DESIGN (O125)",null,null,{"$f":"LEFT(Catalogue[[#This Row],[Référence]],3)","v":"ACL"},{"$f":"VLOOKUP(Catalogue[[#This Row],[Alias]],#REF!,2,FALSE)","v":{"$error":"#REF!"}},null,"ACL913998","BOUCHE DESIGN (O125)"]
["ACL914013",null,"MOTEUR DE VENTILATION",null,null,{"$f":"LEFT(Catalogue[[#This Row],[Référence]],3)","v":"ACL"},{"$f":"VLOOKUP(Catalogue[[#This Row],[Alias]],#REF!,2,FALSE)","v":{"$error":"#REF!"}},null,"ACL914013","MOTEUR DE VENTILATION"]
["ACL914080",null,"MOTOTURBINE HYGROCOSY M BC",null,null,{"$f":"LEFT(Catalogue[[#This Row],[Référence]],3)","v":"ACL"},{"$f":"VLOOKUP(Catalogue[[#This Row],[Alias]],#REF!,2,FALSE)","v":{"$error":"#REF!"}},null,"ACL914080","MOTOTURBINE HYGROCOSY M BC"]
["ACL914085",null,"CONDENSATEUR",null,null,{"$f":"LEFT(Catalogue[[#This Row],[Référence]],3)","v":"ACL"},{"$f":"VLOOKUP(Catalogue[[#This Row],[Alias]],#REF!,2,FALSE)","v":{"$error":"#REF!"}},null,"ACL914085","CONDENSATEUR"]
["ACL914093",null,"BOUCHE CUISINE (10/45-135M3/H)",null,null,{"$f":"LEFT(Catalogue[[#This Row],[Référence]],3)","v":"ACL"},{"$f":"VLOOKUP(Catalogue[[#This Row],[Alias]],#REF!,2,FALSE)","v":{"$error":"#REF!"}},null,"ACL914093","BOUCHE CUISINE (10/45-135M3/H)"]
["ACL914095",null,"MOTOTURBINE GAULI E-P",null,null,{"$f":"LEFT(Catalogue[[#This Row],[Référence]],3)","v":"ACL"},{"$f":"VLOOKUP(Catalogue[[#This Row],[Alias]],#REF!,2,FALSE)","v":{"$error":"#REF!"}},null,"ACL914095","MOTOTURBINE GAULI E-P"]
["ACL914108",null,"KIT BOITIER DE CONNECTION",null,null,{"$f":"LEFT(Catalogue[[#This Row],[Référence]],3)","v":"ACL"},{"$f":"VLOOKUP(Catalogue[[#This Row],[Alias]],#REF!,2,FALSE)","v":{"$error":"#REF!"}},null,"ACL914108","KIT BOITIER DE CONNECTION"]
["ACL914111",null,"MOTOTURBINE",null,null,{"$f":"LEFT(Catalogue[[#This Row],[Référence]],3)","v":"ACL"},{"$f":"VLOOKUP(Catalogue[[#This Row],[Alias]],#REF!,2,FALSE)","v":{"$error":"#REF!"}},null,"ACL914111","MOTOTURBINE"]
["ACL914114",null,"INTERRUPTEUR PROXIMITE 2P20A",null,null,{"$f":"LEFT(Catalogue[[#This Row],[Référence]],3)","v":"ACL"},{"$f":"VLOOKUP(Catalogue[[#This Row],[Alias]],#REF!,2,FALSE)","v":{"$error":"#REF!"}},null,"ACL914114","INTERRUPTEUR PROXIMITE 2P20A"]
["ACL914117",null,"MOTEUR VENTILATION",null,null,{"$f":"LEFT(Catalogue[[#This Row],[Référence]],3)","v":"ACL"},{"$f":"VLOOKUP(Catalogue[[#This Row],[Alias]],#REF!,2,FALSE)","v":{"$error":"#REF!"}},null,"ACL914117","MOTEUR VENTILATION"]
["ACL914118",null,"MOTEUR VENTILATION",null,null,{"$f":"LEFT(Catalogue[[#This Row],[Référence]],3)","v":"ACL"},{"$f":"VLOOKUP(Catalogue[[#This Row],[Alias]],#REF!,2,FALSE)","v":{"$error":"#REF!"}},null,"ACL914118","MOTEUR VENTILATION"]
["ACL914119",null,"TURBINE",null,null,{"$f":"LEFT(Catalogue[[#This Row],[Référence]],3)","v":"ACL"},{"$f":"VLOOKUP(Catalogue[[#This Row],[Alias]],#REF!,2,FALSE)","v":{"$error":"#REF!"}},null,"ACL914119","TURBINE"]
["ACL914123",null,"TURBINE",null,null,{"$f":"LEFT(Catalogue[[#This Row],[Référence]],3)","v":"ACL"},{"$f":"VLOOKUP(Catalogue[[#This Row],[Alias]],#REF!,2,FALSE)","v":{"$error":"#REF!"}},null,"ACL914123","TURBINE"]
["ACL914136",null,"REGULATION COMETE 700",null,null,{"$f":"LEFT(Catalogue[[#This Row],[Référence]],3)","v":"ACL"},{"$f":"VLOOKUP(Catalogue[[#This Row],[Alias]],#REF!,2,FALSE)","v":{"$error":"#REF!"}},null,"ACL914136","REGULATION COMETE 700"]
["ACL914137",null,"REGULATION COMETE 1100",null,null,{"$f":"LEFT(Catalogue[[#This Row],[Référence]],3)","v":"ACL"},{"$f":"VLOOKUP(Catalogue[[#This Row],[Alias]],#REF!,2,FALSE)","v":{"$error":"#REF!"}},null,"ACL914137","REGULATION COMETE 1100"]
["ACL914139",null,"REGULATION COMETE 2000",null,null,{"$f":"LEFT(Catalogue[[#This Row],[Référence]],3)","v":"ACL"},{"$f":"VLOOKUP(Catalogue[[#This Row],[Alias]],#REF!,2,FALSE)","v":{"$error":"#REF!"}},null,"ACL914139","REGULATION COMETE 2000"]
["ACL914140",null,"REGULATION COMETE 2600",null,null,{"$f":"LEFT(Catalogue[[#This Row],[Référence]],3)","v":"ACL"},{"$f":"VLOOKUP(Catalogue[[#This Row],[Alias]],#REF!,2,FALSE)","v":{"$error":"#REF!"}},null,"ACL914140","REGULATION COMETE 2600"]
["ACL914141",null,"REGULATION COMETE 3200",null,null,{"$f":"LEFT(Catalogue[[#This Row],[Référence]],3)","v":"ACL"},{"$f":"VLOOKUP(Catalogue[[#This Row],[Alias]],#REF!,2,FALSE)","v":{"$error":"#REF!"}},null,"ACL914141","REGULATION COMETE 3200"]
["ACL914142",null,"REGULATION COMETE 3800",null,null,{"$f":"LEFT(Catalogue[[#This Row],[Référence]],3)","v":"ACL"},{"$f":"VLOOKUP(Catalogue[[#This Row],[Alias]],#REF!,2,FALSE)","v":{"$error":"#REF!"}},null,"ACL914142","REGULATION COMETE 3800"]
["ACL914147",null,"CARTE MOTEUR COSMOS 3800",null,null,{"$f":"LEFT(Catalogue[[#This Row],[Référence]],3)","v":"ACL"},{"$f":"VLOOKUP(Catalogue[[#This Row],[Alias]],#REF!,2,FALSE)","v":{"$error":"#REF!"}},null,"ACL914147","CARTE MOTEUR COSMOS 3800"]
["ACL914153",null,"BOITIER PILES",null,null,{"$f":"LEFT(Catalogue[[#This Row],[Référence]],3)","v":"ACL"},{"$f":"VLOOKUP(Catalogue[[#This Row],[Alias]],#REF!,2,FALSE)","v":{"$error":"#REF!"}},null,"ACL914153","BOITIER PILES"]
["ACL914171",null,"CARTE MOTEUR COPERNIC V 2500",null,null,{"$f":"LEFT(Catalogue[[#This Row],[Référence]],3)","v":"ACL"},{"$f":"VLOOKUP(Catalogue[[#This Row],[Alias]],#REF!,2,FALSE)","v":{"$error":"#REF!"}},null,"ACL914171","CARTE MOTEUR COPERNIC V 2500"]
["ACL914182",null,"VENTILATEUR",null,null,{"$f":"LEFT(Catalogue[[#This Row],[Référence]],3)","v":"ACL"},{"$f":"VLOOKUP(Catalogue[[#This Row],[Alias]],#REF!,2,FALSE)","v":{"$error":"#REF!"}},null,"ACL914182","VENTILATEUR"]
["ACL914190",null,"KIT FILTRE COMPARTIMENT MOTEUR",null,null,{"$f":"LEFT(Catalogue[[#This Row],[Référence]],3)","v":"ACL"},{"$f":"VLOOKUP(Catalogue[[#This Row],[Alias]],#REF!,2,FALSE)","v":{"$error":"#REF!"}},null,"ACL914190","KIT FILTRE COMPARTIMENT MOTEUR"]
["ACL914196",null,"S/E MOTOTURBINE 5300",null,null,{"$f":"LEFT(Catalogue[[#This Row],[Référence]],3)","v":"ACL"},{"$f":"VLOOKUP(Catalogue[[#This Row],[Alias]],#REF!,2,FALSE)","v":{"$error":"#REF!"}},null,"ACL914196","S/E MOTOTURBINE 5300"]
["ACL914201",null,"JEU DE PIEDS AT12/12",null,null,{"$f":"LEFT(Catalogue[[#This Row],[Référence]],3)","v":"ACL"},{"$f":"VLOOKUP(Catalogue[[#This Row],[Alias]],#REF!,2,FALSE)","v":{"$error":"#REF!"}},null,"ACL914201","JEU DE PIEDS AT12/12"]
["ACL914202",null,"SUPPORT MOTEUR AT12/12",null,null,{"$f":"LEFT(Catalogue[[#This Row],[Référence]],3)","v":"ACL"},{"$f":"VLOOKUP(Catalogue[[#This Row],[Alias]],#REF!,2,FALSE)","v":{"$error":"#REF!"}},null,"ACL914202","SUPPORT MOTEUR AT12/12"]
["ACL914209",null,"KIT MOUSSE COMETE 3200-11000",null,null,{"$f":"LEFT(Catalogue[[#This Row],[Référence]],3)","v":"ACL"},{"$f":"VLOOKUP(Catalogue[[#This Row],[Alias]],#REF!,2,FALSE)","v":{"$error":"#REF!"}},null,"ACL914209","KIT MOUSSE COMETE 3200-11000"]
["ACL914231",null,"KIT MOT AIRVENT BBC2PA21500P29",null,null,{"$f":"LEFT(Catalogue[[#This Row],[Référence]],3)","v":"ACL"},{"$f":"VLOOKUP(Catalogue[[#This Row],[Alias]],#REF!,2,FALSE)","v":{"$error":"#REF!"}},null,"ACL914231","KIT MOT AIRVENT BBC2PA21500P29"]
["ACL914241",null,"KIT MOTEUR CRITAIR 2500 C4 PCI",null,null,{"$f":"LEFT(Catalogue[[#This Row],[Référence]],3)","v":"ACL"},{"$f":"VLOOKUP(Catalogue[[#This Row],[Alias]],#REF!,2,FALSE)","v":{"$error":"#REF!"}},null,"ACL914241","KIT MOTEUR CRITAIR 2500 C4 PCI"]
["ACL914254",null,{"$f":"VLOOKUP(A770,I:J,2,0)","v":"VARIATEUR COMETE 6200"},null,null,{"$f":"LEFT(Catalogue[[#This Row],[Référence]],3)","v":"ACL"},{"$f":"VLOOKUP(Catalogue[[#This Row],[Alias]],#REF!,2,FALSE)","v":{"$error":"#REF!"}},null,"ACL914254","VARIATEUR COMETE 6200"]
["ACL914255",null,"VARIATEUR COMETE 8200",null,null,{"$f":"LEFT(Catalogue[[#This Row],[Référence]],3)","v":"ACL"},{"$f":"VLOOKUP(Catalogue[[#This Row],[Alias]],#REF!,2,FALSE)","v":{"$error":"#REF!"}},null,"ACL914255","VARIATEUR COMETE 8200"]
["ACL914273",null,"JEU DE PIEDS AT 18/18",null,null,{"$f":"LEFT(Catalogue[[#This Row],[Référence]],3)","v":"ACL"},{"$f":"VLOOKUP(Catalogue[[#This Row],[Alias]],#REF!,2,FALSE)","v":{"$error":"#REF!"}},null,"ACL914273","JEU DE PIEDS AT 18/18"]
["ACL914301",null,"REGULATION COMETE 6200",null,null,{"$f":"LEFT(Catalogue[[#This Row],[Référence]],3)","v":"ACL"},{"$f":"VLOOKUP(Catalogue[[#This Row],[Alias]],#REF!,2,FALSE)","v":{"$error":"#REF!"}},null,"ACL914301","REGULATION COMETE 6200"]
["ACL914718",null,"FILTRE M5 DUOFLEX 3000",null,null,{"$f":"LEFT(Catalogue[[#This Row],[Référence]],3)","v":"ACL"},{"$f":"VLOOKUP(Catalogue[[#This Row],[Alias]],#REF!,2,FALSE)","v":{"$error":"#REF!"}},null,"ACL914718","FILTRE M5 DUOFLEX 3000"]
["ACL914794",null,"CART MOT HAN. SIL. COMETE 3800",null,null,{"$f":"LEFT(Catalogue[[#This Row],[Référence]],3)","v":"ACL"},{"$f":"VLOOKUP(Catalogue[[#This Row],[Alias]],#REF!,2,FALSE)","v":{"$error":"#REF!"}},null,"ACL914794","CART MOT HAN. SIL. COMETE 3800"]
["ACL914917",null,"KIT MOT COSMOS COMETE 1500 P23",null,null,{"$f":"LEFT(Catalogue[[#This Row],[Référence]],3)","v":"ACL"},{"$f":"VLOOKUP(Catalogue[[#This Row],[Alias]],#REF!,2,FALSE)","v":{"$error":"#REF!"}},null,"ACL914917","KIT MOT COSMOS COMETE 1500 P23"]
["ACL914918",null,"KIT MOT COSMOS COMETE 2000 P24",null,null,{"$f":"LEFT(Catalogue[[#This Row],[Référence]],3)","v":"ACL"},{"$f":"VLOOKUP(Catalogue[[#This Row],[Alias]],#REF!,2,FALSE)","v":{"$error":"#REF!"}},null,"ACL914918","KIT MOT COSMOS COMETE 2000 P24"]
["ACL914919",null,"KIT MOT COSMOS COMETE 2600 P25",null,null,{"$f":"LEFT(Catalogue[[#This Row],[Référence]],3)","v":"ACL"},{"$f":"VLOOKUP(Catalogue[[#This Row],[Alias]],#REF!,2,FALSE)","v":{"$error":"#REF!"}},null,"ACL914919","KIT MOT COSMOS COMETE 2600 P25"]
["ACL914920",null,"KIT MOT COSMOS COMETE 3200 P26",null,null,{"$f":"LEFT(Catalogue[[#This Row],[Référence]],3)","v":"ACL"},{"$f":"VLOOKUP(Catalogue[[#This Row],[Alias]],#REF!,2,FALSE)","v":{"$error":"#REF!"}},null,"ACL914920","KIT MOT COSMOS COMETE 3200 P26"]
["ACL915170",null,"FILTRE M5",null,null,{"$f":"LEFT(Catalogue[[#This Row],[Référence]],3)","v":"ACL"},{"$f":"VLOOKUP(Catalogue[[#This Row],[Alias]],#REF!,2,FALSE)","v":{"$error":"#REF!"}},null,"ACL915170","FILTRE M5"]
["ACO639161",null,"PIED DE SOUTIEN HT 200/250 HX/HXD/THX/TMX",null,null,{"$f":"LEFT(Catalogue[[#This Row],[Référence]],3)","v":"ACO"},{"$f":"VLOOKUP(Catalogue[[#This Row],[Alias]],#REF!,2,FALSE)","v":{"$error":"#REF!"}},null,"ACO639161","PIED DE SOUTIEN HT 200/250 HX/HXD/THX/TMX"]
["ACO639231",null,"PIED DE SOUTIEN H 200/250 MM POUR ACOVA",null,null,{"$f":"LEFT(Catalogue[[#This Row],[Référence]],3)","v":"ACO"},{"$f":"VLOOKUP(Catalogue[[#This Row],[Alias]],#REF!,2,FALSE)","v":{"$error":"#REF!"}},null,"ACO639231","PIED DE SOUTIEN H 200/250 MM POUR ACOVA"]
["ACO829140",null,"TETE THERMOSTATIQUE CERTIFIEE KEYMARK BLANCHE",null,null,{"$f":"LEFT(Catalogue[[#This Row],[Référence]],3)","v":"ACO"},{"$f":"VLOOKUP(Catalogue[[#This Row],[Alias]],#REF!,2,FALSE)","v":{"$error":"#REF!"}},null,"ACO829140","TETE THERMOSTATIQUE CERTIFIEE KEYMARK BLANCHE"]
["ACO841468",null,"ROB. THERMOSTATISABLE H DR. CHROME TETE A DROITE",null,null,{"$f":"LEFT(Catalogue[[#This Row],[Référence]],3)","v":"ACO"},{"$f":"VLOOKUP(Catalogue[[#This Row],[Alias]],#REF!,2,FALSE)","v":{"$error":"#REF!"}},null,"ACO841468","ROB. THERMOSTATISABLE H DR. CHROME TETE A DROITE"]
["ACO864610",null,"RESISTANCE R-KIT-SST-050-A",null,null,{"$f":"LEFT(Catalogue[[#This Row],[Référence]],3)","v":"ACO"},{"$f":"VLOOKUP(Catalogue[[#This Row],[Alias]],#REF!,2,FALSE)","v":{"$error":"#REF!"}},null,"ACO864610","RESISTANCE R-KIT-SST-050-A"]
["ACO865990",null,"BOITIER TEMPO3 SECHE-SERVIETTES ACOVA",null,null,{"$f":"LEFT(Catalogue[[#This Row],[Référence]],3)","v":"ACO"},{"$f":"VLOOKUP(Catalogue[[#This Row],[Alias]],#REF!,2,FALSE)","v":{"$error":"#REF!"}},null,"ACO865990","BOITIER TEMPO3 SECHE-SERVIETTES ACOVA"]
["ACO874100",null,"BOITIER TIMERPROG COMPLET",null,null,{"$f":"LEFT(Catalogue[[#This Row],[Référence]],3)","v":"ACO"},{"$f":"VLOOKUP(Catalogue[[#This Row],[Alias]],#REF!,2,FALSE)","v":{"$error":"#REF!"}},null,"ACO874100","BOITIER TIMERPROG COMPLET"]
["ACO895010",null,"BOITIER TAX-TAG (FP6 AVEC CPL)",null,null,{"$f":"LEFT(Catalogue[[#This Row],[Référence]],3)","v":"ACO"},{"$f":"VLOOKUP(Catalogue[[#This Row],[Alias]],#REF!,2,FALSE)","v":{"$error":"#REF!"}},null,"ACO895010","BOITIER TAX-TAG (FP6 AVEC CPL)"]
["ACOASX-126-050",null,"REGATE S/S MIXTE 583/600W",null,null,{"$f":"LEFT(Catalogue[[#This Row],[Référence]],3)","v":"ACO"},{"$f":"VLOOKUP(Catalogue[[#This Row],[Alias]],#REF!,2,FALSE)","v":{"$error":"#REF!"}},null,"ACOASX-126-050","REGATE S/S MIXTE 583/600W"]
["ACOBHCL1-S",null,"BOITIER REGULATION HABITAT BHC",null,null,{"$f":"LEFT(Catalogue[[#This Row],[Référence]],3)","v":"ACO"},{"$f":"VLOOKUP(Catalogue[[#This Row],[Alias]],#REF!,2,FALSE)","v":{"$error":"#REF!"}},null,"ACOBHCL1-S","BOITIER REGULATION HABITAT BHC"]
["ACOCL-150-050",null,"SECH S PALMA SPA EC      CL-150-050",null,null,{"$f":"LEFT(Catalogue[[#This Row],[Référence]],3)","v":"ACO"},{"$f":"VLOOKUP(Catalogue[[#This Row],[Alias]],#REF!,2,FALSE)","v":{"$error":"#REF!"}},null,"ACOCL-150-050","SECH S PALMA SPA EC      CL-150-050"]
["ACOFAS-082-050",null,"SECHE-SERVIETTE FASSANE SPA 411W FAS-082-050 BLANC",null,null,{"$f":"LEFT(Catalogue[[#This Row],[Référence]],3)","v":"ACO"},{"$f":"VLOOKUP(Catalogue[[#This Row],[Alias]],#REF!,2,FALSE)","v":{"$error":"#REF!"}},null,"ACOFAS-082-050","SECHE-SERVIETTE FASSANE SPA 411W FAS-082-050 BLANC"]
["ACOFAS-133-050",null,"SECHE SERVIETTE ACOVA EC FASSANE SPA SYMETRIQUE 625W H1333 L500 BLANC",null,null,{"$f":"LEFT(Catalogue[[#This Row],[Référence]],3)","v":"ACO"},{"$f":"VLOOKUP(Catalogue[[#This Row],[Alias]],#REF!,2,FALSE)","v":{"$error":"#REF!"}},null,"ACOFAS-133-050","SECHE SERVIETTE ACOVA EC FASSANE SPA SYMETRIQUE 625W H1333 L500 BLANC"]
["ACOFAS-185-060",null,"SECHE SERVIETTE ACOVA EC FASSANE SPA SYMETRIQUE 1019W H1851 L600 BLANC",null,null,{"$f":"LEFT(Catalogue[[#This Row],[Référence]],3)","v":"ACO"},{"$f":"VLOOKUP(Catalogue[[#This Row],[Alias]],#REF!,2,FALSE)","v":{"$error":"#REF!"}},null,"ACOFAS-185-060","SECHE SERVIETTE ACOVA EC FASSANE SPA SYMETRIQUE 1019W H1851 L600 BLANC"]
["ACOFL168-055C",null,"RSS FASSANE SPA 809W",null,null,{"$f":"LEFT(Catalogue[[#This Row],[Référence]],3)","v":"ACO"},{"$f":"VLOOKUP(Catalogue[[#This Row],[Alias]],#REF!,2,FALSE)","v":{"$error":"#REF!"}},null,"ACOFL168-055C","RSS FASSANE SPA 809W"]
["ACOFR118-055",null,"SECHE SERVIETTE ACOVA EC FASSANE SPA ASYMETRIQUE 594W H1183 L550 BLANC",null,null,{"$f":"LEFT(Catalogue[[#This Row],[Référence]],3)","v":"ACO"},{"$f":"VLOOKUP(Catalogue[[#This Row],[Alias]],#REF!,2,FALSE)","v":{"$error":"#REF!"}},null,"ACOFR118-055","SECHE SERVIETTE ACOVA EC FASSANE SPA ASYMETRIQUE 594W H1183 L550 BLANC"]
["ACOHX-200-059",null,"RAD FASSANE VT SPL EC HX-200-059",null,null,{"$f":"LEFT(Catalogue[[#This Row],[Référence]],3)","v":"ACO"},{"$f":"VLOOKUP(Catalogue[[#This Row],[Alias]],#REF!,2,FALSE)","v":{"$error":"#REF!"}},null,"ACOHX-200-059","RAD FASSANE VT SPL EC HX-200-059"]
["ACOLN-072-050",null,"SECHE-SERVIETTE CALA LN-072-050 378W BLANC",null,null,{"$f":"LEFT(Catalogue[[#This Row],[Référence]],3)","v":"ACO"},{"$f":"VLOOKUP(Catalogue[[#This Row],[Alias]],#REF!,2,FALSE)","v":{"$error":"#REF!"}},null,"ACOLN-072-050","SECHE-SERVIETTE CALA LN-072-050 378W BLANC"]
["ACOLN-168-050",null,"SECH S CALA EC LN-168-050",null,null,{"$f":"LEFT(Catalogue[[#This Row],[Référence]],3)","v":"ACO"},{"$f":"VLOOKUP(Catalogue[[#This Row],[Alias]],#REF!,2,FALSE)","v":{"$error":"#REF!"}},null,"ACOLN-168-050","SECH S CALA EC LN-168-050"]
["ACOM2C3-10-200",null,"RAD.VUELTA VERT. BLC       1830W  M2C3-10-200",null,null,{"$f":"LEFT(Catalogue[[#This Row],[Référence]],3)","v":"ACO"},{"$f":"VLOOKUP(Catalogue[[#This Row],[Alias]],#REF!,2,FALSE)","v":{"$error":"#REF!"}},null,"ACOM2C3-10-200","RAD.VUELTA VERT. BLC       1830W  M2C3-10-200"]
["ACOM6C4-22-075",null,"RAD.VUELTA S.ALL. BLC      2143W  M6C4-22-075",null,null,{"$f":"LEFT(Catalogue[[#This Row],[Référence]],3)","v":"ACO"},{"$f":"VLOOKUP(Catalogue[[#This Row],[Alias]],#REF!,2,FALSE)","v":{"$error":"#REF!"}},null,"ACOM6C4-22-075","RAD.VUELTA S.ALL. BLC      2143W  M6C4-22-075"]
["ACOR-KIT-TALX100-A",null,"Kit resistance TAL/TAX 1000 W  FC 08/04/2016",null,null,{"$f":"LEFT(Catalogue[[#This Row],[Référence]],3)","v":"ACO"},{"$f":"VLOOKUP(Catalogue[[#This Row],[Alias]],#REF!,2,FALSE)","v":{"$error":"#REF!"}},null,"ACOR-KIT-TALX100-A","Kit resistance TAL/TAX 1000 W  FC 08/04/2016"]
["ACOR-KIT-TALX175-A",null,"Kit resistance TAL/TAX 1750 W",null,null,{"$f":"LEFT(Catalogue[[#This Row],[Référence]],3)","v":"ACO"},{"$f":"VLOOKUP(Catalogue[[#This Row],[Alias]],#REF!,2,FALSE)","v":{"$error":"#REF!"}},null,"ACOR-KIT-TALX175-A","Kit resistance TAL/TAX 1750 W"]
["ACORX04-160-060",null,"RAD.CLARIAN RX H1600X600         RX04-160-060",null,null,{"$f":"LEFT(Catalogue[[#This Row],[Référence]],3)","v":"ACO"},{"$f":"VLOOKUP(Catalogue[[#This Row],[Alias]],#REF!,2,FALSE)","v":{"$error":"#REF!"}},null,"ACORX04-160-060","RAD.CLARIAN RX H1600X600         RX04-160-060"]
["ACOSHX-200-044",null,"RADIATEUR ACIER ACOVA VERTICAL SIMPLE FASSANE STOCK 930W H2000 L444",null,null,{"$f":"LEFT(Catalogue[[#This Row],[Référence]],3)","v":"ACO"},{"$f":"VLOOKUP(Catalogue[[#This Row],[Alias]],#REF!,2,FALSE)","v":{"$error":"#REF!"}},null,"ACOSHX-200-044","RADIATEUR ACIER ACOVA VERTICAL SIMPLE FASSANE STOCK 930W H2000 L444"]
["ACOSHXD-070-088",null,"RADIATEUR ACIER ACOVA HORIZONT DOUBLE FASSANE STOCK 1062W H700 L888",null,null,{"$f":"LEFT(Catalogue[[#This Row],[Référence]],3)","v":"ACO"},{"$f":"VLOOKUP(Catalogue[[#This Row],[Alias]],#REF!,2,FALSE)","v":{"$error":"#REF!"}},null,"ACOSHXD-070-088","RADIATEUR ACIER ACOVA HORIZONT DOUBLE FASSANE STOCK 1062W H700 L888"]
["ACOSHXD-200-044",null,"RADIATEUR ACIER ACOVA VERTICAL DOUBLE FASSANE STOCK 1350W H2000 L444",null,null,{"$f":"LEFT(Catalogue[[#This Row],[Référence]],3)","v":"ACO"},{"$f":"VLOOKUP(Catalogue[[#This Row],[Alias]],#REF!,2,FALSE)","v":{"$error":"#REF!"}},null,"ACOSHXD-200-044","RADIATEUR ACIER ACOVA VERTICAL DOUBLE FASSANE STOCK 1350W H2000 L444"]
["ACOSHXD-200-059",null,"RADIATEUR ACIER ACOVA VERTICAL DOUBLE FASSANE STOCK 1800W H2000 L592",null,null,{"$f":"LEFT(Catalogue[[#This Row],[Référence]],3)","v":"ACO"},{"$f":"VLOOKUP(Catalogue[[#This Row],[Alias]],#REF!,2,FALSE)","v":{"$error":"#REF!"}},null,"ACOSHXD-200-059","RADIATEUR ACIER ACOVA VERTICAL DOUBLE FASSANE STOCK 1800W H2000 L592"]
["ACOSL-080-050",null,"ATOLL SPA blanc 388W",null,null,{"$f":"LEFT(Catalogue[[#This Row],[Référence]],3)","v":"ACO"},{"$f":"VLOOKUP(Catalogue[[#This Row],[Alias]],#REF!,2,FALSE)","v":{"$error":"#REF!"}},null,"ACOSL-080-050","ATOLL SPA blanc 388W"]
["ACOSL-120-050",null,"SECH S ATOLL SPA EC SL-120-050",null,null,{"$f":"LEFT(Catalogue[[#This Row],[Référence]],3)","v":"ACO"},{"$f":"VLOOKUP(Catalogue[[#This Row],[Alias]],#REF!,2,FALSE)","v":{"$error":"#REF!"}},null,"ACOSL-120-050","SECH S ATOLL SPA EC SL-120-050"]
["ACOSL-120-050C",null,"ATOLL SPA COLOR 571W  SL-120-050C",null,null,{"$f":"LEFT(Catalogue[[#This Row],[Référence]],3)","v":"ACO"},{"$f":"VLOOKUP(Catalogue[[#This Row],[Alias]],#REF!,2,FALSE)","v":{"$error":"#REF!"}},null,"ACOSL-120-050C","ATOLL SPA COLOR 571W  SL-120-050C"]
["ACOSL-150-050",null,"SECH S ATOLL SPA EC SL-150-050",null,null,{"$f":"LEFT(Catalogue[[#This Row],[Référence]],3)","v":"ACO"},{"$f":"VLOOKUP(Catalogue[[#This Row],[Alias]],#REF!,2,FALSE)","v":{"$error":"#REF!"}},null,"ACOSL-150-050","SECH S ATOLL SPA EC SL-150-050"]
["ACOSL-150-060",null,"SECH S ATOLL SPA EC SL-150-060",null,null,{"$f":"LEFT(Catalogue[[#This Row],[Référence]],3)","v":"ACO"},{"$f":"VLOOKUP(Catalogue[[#This Row],[Alias]],#REF!,2,FALSE)","v":{"$error":"#REF!"}},null,"ACOSL-150-060","SECH S ATOLL SPA EC SL-150-060"]
["ACOSL-170-060",null,"SECHE SERVIETTE ATOLL SL-170-060 BLANC 966W EC",null,null,{"$f":"LEFT(Catalogue[[#This Row],[Référence]],3)","v":"ACO"},{"$f":"VLOOKUP(Catalogue[[#This Row],[Alias]],#REF!,2,FALSE)","v":{"$error":"#REF!"}},null,"ACOSL-170-060","SECHE SERVIETTE ATOLL SL-170-060 BLANC 966W EC"]
["ACOSL-170-075",null,"SECH S ATOLL SPA EC SL-170-075",null,null,{"$f":"LEFT(Catalogue[[#This Row],[Référence]],3)","v":"ACO"},{"$f":"VLOOKUP(Catalogue[[#This Row],[Alias]],#REF!,2,FALSE)","v":{"$error":"#REF!"}},null,"ACOSL-170-075","SECH S ATOLL SPA EC SL-170-075"]
["ACOSX-148-050",null,"SECH S REGATE EC SX-148-050",null,null,{"$f":"LEFT(Catalogue[[#This Row],[Référence]],3)","v":"ACO"},{"$f":"VLOOKUP(Catalogue[[#This Row],[Alias]],#REF!,2,FALSE)","v":{"$error":"#REF!"}},null,"ACOSX-148-050","SECH S REGATE EC SX-148-050"]
["ACOTAXB-075-047/CF",null,"RAD.ATOLL LCD 750W BLANC",null,null,{"$f":"LEFT(Catalogue[[#This Row],[Référence]],3)","v":"ACO"},{"$f":"VLOOKUP(Catalogue[[#This Row],[Alias]],#REF!,2,FALSE)","v":{"$error":"#REF!"}},null,"ACOTAXB-075-047/CF","RAD.ATOLL LCD 750W BLANC"]
["ACOTAXN-100-063/CF",null,"ATOLL EL BOITIER DIGITAL BLANC RAL9010 1000W H 575MM/",null,null,{"$f":"LEFT(Catalogue[[#This Row],[Référence]],3)","v":"ACO"},{"$f":"VLOOKUP(Catalogue[[#This Row],[Alias]],#REF!,2,FALSE)","v":{"$error":"#REF!"}},null,"ACOTAXN-100-063/CF","ATOLL EL BOITIER DIGITAL BLANC RAL9010 1000W H 575MM/"]
["ACOTAXN-150-095/CF",null,"ATOLL EL BOITIER DIGITAL.BLANC RAL9010.1500W.H 575MM/",null,null,{"$f":"LEFT(Catalogue[[#This Row],[Référence]],3)","v":"ACO"},{"$f":"VLOOKUP(Catalogue[[#This Row],[Alias]],#REF!,2,FALSE)","v":{"$error":"#REF!"}},null,"ACOTAXN-150-095/CF","ATOLL EL BOITIER DIGITAL.BLANC RAL9010.1500W.H 575MM/"]
["ACOTAXN-200-127/CF",null,"ATOLL EL BOITIER DIGITAL.BLANC RAL9010.2000W.H 575MM/",null,null,{"$f":"LEFT(Catalogue[[#This Row],[Référence]],3)","v":"ACO"},{"$f":"VLOOKUP(Catalogue[[#This Row],[Alias]],#REF!,2,FALSE)","v":{"$error":"#REF!"}},null,"ACOTAXN-200-127/CF","ATOLL EL BOITIER DIGITAL.BLANC RAL9010.2000W.H 575MM/"]
["ACOTLN050-050IFS",null,"S/S CALA AIR EL BLC TLN050-050IFS - EcoTaxe 0,83 \u001a incluse",null,null,{"$f":"LEFT(Catalogue[[#This Row],[Référence]],3)","v":"ACO"},{"$f":"VLOOKUP(Catalogue[[#This Row],[Alias]],#REF!,2,FALSE)","v":{"$error":"#REF!"}},null,"ACOTLN050-050IFS","S/S CALA AIR EL BLC TLN050-050IFS - EcoTaxe 0,83 \u001a incluse"]
["ACOTSL-050-050-TF",null,"SECHE-SERV.ATOLL SPA     500W  EL TSL-050-050",null,null,{"$f":"LEFT(Catalogue[[#This Row],[Référence]],3)","v":"ACO"},{"$f":"VLOOKUP(Catalogue[[#This Row],[Alias]],#REF!,2,FALSE)","v":{"$error":"#REF!"}},null,"ACOTSL-050-050-TF","SECHE-SERV.ATOLL SPA     500W  EL TSL-050-050"]
["ACOTSL-075-050-TF",null,"SECHE-SERV.ATOLL SPA     750W  EL TSL-075-050  FC 01/2016",null,null,{"$f":"LEFT(Catalogue[[#This Row],[Référence]],3)","v":"ACO"},{"$f":"VLOOKUP(Catalogue[[#This Row],[Alias]],#REF!,2,FALSE)","v":{"$error":"#REF!"}},null,"ACOTSL-075-050-TF","SECHE-SERV.ATOLL SPA     750W  EL TSL-075-050  FC 01/2016"]
["ACOTSL-100-050-TF",null,"SECHE-SERV.ATOLL SPA    1000W  EL TSL-100-050",null,null,{"$f":"LEFT(Catalogue[[#This Row],[Référence]],3)","v":"ACO"},{"$f":"VLOOKUP(Catalogue[[#This Row],[Alias]],#REF!,2,FALSE)","v":{"$error":"#REF!"}},null,"ACOTSL-100-050-TF","SECHE-SERV.ATOLL SPA    1000W  EL TSL-100-050"]
["ACOTSX-075-050",null,"SECHE-SERV.REGATE EL.  750W BLC   TSX-075-050",null,null,{"$f":"LEFT(Catalogue[[#This Row],[Référence]],3)","v":"ACO"},{"$f":"VLOOKUP(Catalogue[[#This Row],[Alias]],#REF!,2,FALSE)","v":{"$error":"#REF!"}},null,"ACOTSX-075-050","SECHE-SERV.REGATE EL.  750W BLC   TSX-075-050"]
["ACOVXD-044-080",null,"FASSANE horizontal double blanc 668W",null,null,{"$f":"LEFT(Catalogue[[#This Row],[Référence]],3)","v":"ACO"},{"$f":"VLOOKUP(Catalogue[[#This Row],[Alias]],#REF!,2,FALSE)","v":{"$error":"#REF!"}},null,"ACOVXD-044-080","FASSANE horizontal double blanc 668W"]
["ACOVXD-066-080",null,"FASSANE horizontal double blanc 946W",null,null,{"$f":"LEFT(Catalogue[[#This Row],[Référence]],3)","v":"ACO"},{"$f":"VLOOKUP(Catalogue[[#This Row],[Alias]],#REF!,2,FALSE)","v":{"$error":"#REF!"}},null,"ACOVXD-066-080","FASSANE horizontal double blanc 946W"]
["ACV10800288",null,"KIT ELECTRODE PREST.MK2",null,null,{"$f":"LEFT(Catalogue[[#This Row],[Référence]],3)","v":"ACV"},{"$f":"VLOOKUP(Catalogue[[#This Row],[Alias]],#REF!,2,FALSE)","v":{"$error":"#REF!"}},null,"ACV10800288","KIT ELECTRODE PREST.MK2"]
["ACV10800313",null,"ELECTRODE ALLUMAGE HM70/85-TC",null,null,{"$f":"LEFT(Catalogue[[#This Row],[Référence]],3)","v":"ACV"},{"$f":"VLOOKUP(Catalogue[[#This Row],[Alias]],#REF!,2,FALSE)","v":{"$error":"#REF!"}},null,"ACV10800313","ELECTRODE ALLUMAGE HM70/85-TC"]
["ACV21423026",null,"PORTE BRULEUR D PERFORMANCE 25",null,null,{"$f":"LEFT(Catalogue[[#This Row],[Référence]],3)","v":"ACV"},{"$f":"VLOOKUP(Catalogue[[#This Row],[Alias]],#REF!,2,FALSE)","v":{"$error":"#REF!"}},null,"ACV21423026","PORTE BRULEUR D PERFORMANCE 25"]
["ACV257F1071",null,"CABLE IONIS/ALLUM LG780",null,null,{"$f":"LEFT(Catalogue[[#This Row],[Référence]],3)","v":"ACV"},{"$f":"VLOOKUP(Catalogue[[#This Row],[Alias]],#REF!,2,FALSE)","v":{"$error":"#REF!"}},null,"ACV257F1071","CABLE IONIS/ALLUM LG780"]
["ACV257F1145",null,"257F1145/AC CIRCULATEUR HEP CA",null,null,{"$f":"LEFT(Catalogue[[#This Row],[Référence]],3)","v":"ACV"},{"$f":"VLOOKUP(Catalogue[[#This Row],[Alias]],#REF!,2,FALSE)","v":{"$error":"#REF!"}},null,"ACV257F1145","257F1145/AC CIRCULATEUR HEP CA"]
["ACV497B2003",null,"FLEXIBLE SILICONE 5X9",null,null,{"$f":"LEFT(Catalogue[[#This Row],[Référence]],3)","v":"ACV"},{"$f":"VLOOKUP(Catalogue[[#This Row],[Alias]],#REF!,2,FALSE)","v":{"$error":"#REF!"}},null,"ACV497B2003","FLEXIBLE SILICONE 5X9"]
["ACV507F3037",null,{"$f":"VLOOKUP(A834,I:J,2,0)","v":"BOITE DE RACC. CHEMINEE"},null,null,{"$f":"LEFT(Catalogue[[#This Row],[Référence]],3)","v":"ACV"},{"$f":"VLOOKUP(Catalogue[[#This Row],[Alias]],#REF!,2,FALSE)","v":{"$error":"#REF!"}},null,"ACV507F3037","BOITE DE RACC. CHEMINEE"]
["ACV507F4095",null,"PORTE FOYER REGARD PSOLO",null,null,{"$f":"LEFT(Catalogue[[#This Row],[Référence]],3)","v":"ACV"},{"$f":"VLOOKUP(Catalogue[[#This Row],[Alias]],#REF!,2,FALSE)","v":{"$error":"#REF!"}},null,"ACV507F4095","PORTE FOYER REGARD PSOLO"]
["ACV51401013",null,"ISOLANT KERANAP",null,null,{"$f":"LEFT(Catalogue[[#This Row],[Référence]],3)","v":"ACV"},{"$f":"VLOOKUP(Catalogue[[#This Row],[Alias]],#REF!,2,FALSE)","v":{"$error":"#REF!"}},null,"ACV51401013","ISOLANT KERANAP"]
["ACV51401041",null,"ISOLANT PORTE BG60-100",null,null,{"$f":"LEFT(Catalogue[[#This Row],[Référence]],3)","v":"ACV"},{"$f":"VLOOKUP(Catalogue[[#This Row],[Alias]],#REF!,2,FALSE)","v":{"$error":"#REF!"}},null,"ACV51401041","ISOLANT PORTE BG60-100"]
["ACV51700012",null,"ISOL KERANAP 314X200X12",null,null,{"$f":"LEFT(Catalogue[[#This Row],[Référence]],3)","v":"ACV"},{"$f":"VLOOKUP(Catalogue[[#This Row],[Alias]],#REF!,2,FALSE)","v":{"$error":"#REF!"}},null,"ACV51700012","ISOL KERANAP 314X200X12"]
["ACV51700037",null,"ISOL. KERANAP DIAM175X70X20 NS",null,null,{"$f":"LEFT(Catalogue[[#This Row],[Référence]],3)","v":"ACV"},{"$f":"VLOOKUP(Catalogue[[#This Row],[Alias]],#REF!,2,FALSE)","v":{"$error":"#REF!"}},null,"ACV51700037","ISOL. KERANAP DIAM175X70X20 NS"]
["ACV51700093",null,"ISOL.CERABLANKET DIAM430",null,null,{"$f":"LEFT(Catalogue[[#This Row],[Référence]],3)","v":"ACV"},{"$f":"VLOOKUP(Catalogue[[#This Row],[Alias]],#REF!,2,FALSE)","v":{"$error":"#REF!"}},null,"ACV51700093","ISOL.CERABLANKET DIAM430"]
["ACV51700098",null,"ISOLATION PORTE BRULEUR P24/32",null,null,{"$f":"LEFT(Catalogue[[#This Row],[Référence]],3)","v":"ACV"},{"$f":"VLOOKUP(Catalogue[[#This Row],[Alias]],#REF!,2,FALSE)","v":{"$error":"#REF!"}},null,"ACV51700098","ISOLATION PORTE BRULEUR P24/32"]
["ACV51700102",null,"ISOLATION PORTE KERANAP",null,null,{"$f":"LEFT(Catalogue[[#This Row],[Référence]],3)","v":"ACV"},{"$f":"VLOOKUP(Catalogue[[#This Row],[Alias]],#REF!,2,FALSE)","v":{"$error":"#REF!"}},null,"ACV51700102","ISOLATION PORTE KERANAP"]
["ACV51700103",null,"BRIQUE ISOLATION PORTE",null,null,{"$f":"LEFT(Catalogue[[#This Row],[Référence]],3)","v":"ACV"},{"$f":"VLOOKUP(Catalogue[[#This Row],[Alias]],#REF!,2,FALSE)","v":{"$error":"#REF!"}},null,"ACV51700103","BRIQUE ISOLATION PORTE"]
["ACV51700106",null,"ISOL FIBRE CERAMIQUE",null,null,{"$f":"LEFT(Catalogue[[#This Row],[Référence]],3)","v":"ACV"},{"$f":"VLOOKUP(Catalogue[[#This Row],[Alias]],#REF!,2,FALSE)","v":{"$error":"#REF!"}},null,"ACV51700106","ISOL FIBRE CERAMIQUE"]
["ACV51700118",null,"51700118/AC ISOLATION BRÛLEUR",null,null,{"$f":"LEFT(Catalogue[[#This Row],[Référence]],3)","v":"ACV"},{"$f":"VLOOKUP(Catalogue[[#This Row],[Alias]],#REF!,2,FALSE)","v":{"$error":"#REF!"}},null,"ACV51700118","51700118/AC ISOLATION BRÛLEUR"]
["ACV51700126",null,"ISOLATION PORTE BRULEUR FC 14/12/2018",null,null,{"$f":"LEFT(Catalogue[[#This Row],[Référence]],3)","v":"ACV"},{"$f":"VLOOKUP(Catalogue[[#This Row],[Alias]],#REF!,2,FALSE)","v":{"$error":"#REF!"}},null,"ACV51700126","ISOLATION PORTE BRULEUR FC 14/12/2018"]
["ACV51700128",null,"ISOLATION PORTE BRULEUR P24/32 FC 29/01/2018",null,null,{"$f":"LEFT(Catalogue[[#This Row],[Référence]],3)","v":"ACV"},{"$f":"VLOOKUP(Catalogue[[#This Row],[Alias]],#REF!,2,FALSE)","v":{"$error":"#REF!"}},null,"ACV51700128","ISOLATION PORTE BRULEUR P24/32 FC 29/01/2018"]
["ACV53428060",null,"ELECTRODE ALLUMAGE",null,null,{"$f":"LEFT(Catalogue[[#This Row],[Référence]],3)","v":"ACV"},{"$f":"VLOOKUP(Catalogue[[#This Row],[Alias]],#REF!,2,FALSE)","v":{"$error":"#REF!"}},null,"ACV53428060","ELECTRODE ALLUMAGE"]
["ACV53428073",null,"ALLUMEUR PIEZO DELTA",null,null,{"$f":"LEFT(Catalogue[[#This Row],[Référence]],3)","v":"ACV"},{"$f":"VLOOKUP(Catalogue[[#This Row],[Alias]],#REF!,2,FALSE)","v":{"$error":"#REF!"}},null,"ACV53428073","ALLUMEUR PIEZO DELTA"]
["ACV53429007",null,"ACCROCHEUR DE FLAMME 6",null,null,{"$f":"LEFT(Catalogue[[#This Row],[Référence]],3)","v":"ACV"},{"$f":"VLOOKUP(Catalogue[[#This Row],[Alias]],#REF!,2,FALSE)","v":{"$error":"#REF!"}},null,"ACV53429007","ACCROCHEUR DE FLAMME 6"]
["ACV53429012",null,"LIGNE RECHAUFF 30N4105 ACV/BMI",null,null,{"$f":"LEFT(Catalogue[[#This Row],[Référence]],3)","v":"ACV"},{"$f":"VLOOKUP(Catalogue[[#This Row],[Alias]],#REF!,2,FALSE)","v":{"$error":"#REF!"}},null,"ACV53429012","LIGNE RECHAUFF 30N4105 ACV/BMI"]
["ACV53429060",null,"ELECTRODE ALLUMAGE",null,null,{"$f":"LEFT(Catalogue[[#This Row],[Référence]],3)","v":"ACV"},{"$f":"VLOOKUP(Catalogue[[#This Row],[Alias]],#REF!,2,FALSE)","v":{"$error":"#REF!"}},null,"ACV53429060","ELECTRODE ALLUMAGE"]
["ACV53429151",null,"TRANSFO ALLLUMAGE BMV1-2",null,null,{"$f":"LEFT(Catalogue[[#This Row],[Référence]],3)","v":"ACV"},{"$f":"VLOOKUP(Catalogue[[#This Row],[Alias]],#REF!,2,FALSE)","v":{"$error":"#REF!"}},null,"ACV53429151","TRANSFO ALLLUMAGE BMV1-2"]
["ACV53429161",null,"ELECTRODE D ALLUMAGE S/CDE",null,null,{"$f":"LEFT(Catalogue[[#This Row],[Référence]],3)","v":"ACV"},{"$f":"VLOOKUP(Catalogue[[#This Row],[Alias]],#REF!,2,FALSE)","v":{"$error":"#REF!"}},null,"ACV53429161","ELECTRODE D ALLUMAGE S/CDE"]
["ACV53429299",null,"PHOTOCELLULE QRB1",null,null,{"$f":"LEFT(Catalogue[[#This Row],[Référence]],3)","v":"ACV"},{"$f":"VLOOKUP(Catalogue[[#This Row],[Alias]],#REF!,2,FALSE)","v":{"$error":"#REF!"}},null,"ACV53429299","PHOTOCELLULE QRB1"]
["ACV53437009",null,"ELECTRODE IONISATION",null,null,{"$f":"LEFT(Catalogue[[#This Row],[Référence]],3)","v":"ACV"},{"$f":"VLOOKUP(Catalogue[[#This Row],[Alias]],#REF!,2,FALSE)","v":{"$error":"#REF!"}},null,"ACV53437009","ELECTRODE IONISATION"]
["ACV53439047",null,"VANNE GAZ V4600T1045U /REPRISE",null,null,{"$f":"LEFT(Catalogue[[#This Row],[Référence]],3)","v":"ACV"},{"$f":"VLOOKUP(Catalogue[[#This Row],[Alias]],#REF!,2,FALSE)","v":{"$error":"#REF!"}},null,"ACV53439047","VANNE GAZ V4600T1045U /REPRISE"]
["ACV53439056",null,"CABLE TOD L.1750",null,null,{"$f":"LEFT(Catalogue[[#This Row],[Référence]],3)","v":"ACV"},{"$f":"VLOOKUP(Catalogue[[#This Row],[Alias]],#REF!,2,FALSE)","v":{"$error":"#REF!"}},null,"ACV53439056","CABLE TOD L.1750"]
["ACV53439089",null,"INJECTEUR VEILLEUSE GN",null,null,{"$f":"LEFT(Catalogue[[#This Row],[Référence]],3)","v":"ACV"},{"$f":"VLOOKUP(Catalogue[[#This Row],[Alias]],#REF!,2,FALSE)","v":{"$error":"#REF!"}},null,"ACV53439089","INJECTEUR VEILLEUSE GN"]
["ACV53439097",null,"THERMOCOUPLE L.600MM",null,null,{"$f":"LEFT(Catalogue[[#This Row],[Référence]],3)","v":"ACV"},{"$f":"VLOOKUP(Catalogue[[#This Row],[Alias]],#REF!,2,FALSE)","v":{"$error":"#REF!"}},null,"ACV53439097","THERMOCOUPLE L.600MM"]
["ACV53439118",null,"INTERCALAIRE THERMOCOUPLE",null,null,{"$f":"LEFT(Catalogue[[#This Row],[Référence]],3)","v":"ACV"},{"$f":"VLOOKUP(Catalogue[[#This Row],[Alias]],#REF!,2,FALSE)","v":{"$error":"#REF!"}},null,"ACV53439118","INTERCALAIRE THERMOCOUPLE"]
["ACV53439222",null,"THERMOCOUPLE SIT L.600MM",null,null,{"$f":"LEFT(Catalogue[[#This Row],[Référence]],3)","v":"ACV"},{"$f":"VLOOKUP(Catalogue[[#This Row],[Alias]],#REF!,2,FALSE)","v":{"$error":"#REF!"}},null,"ACV53439222","THERMOCOUPLE SIT L.600MM"]
["ACV53439260",null,"VANNE GAZ COMPOSIT",null,null,{"$f":"LEFT(Catalogue[[#This Row],[Référence]],3)","v":"ACV"},{"$f":"VLOOKUP(Catalogue[[#This Row],[Alias]],#REF!,2,FALSE)","v":{"$error":"#REF!"}},null,"ACV53439260","VANNE GAZ COMPOSIT"]
["ACV537D3000",null,"VENTILATEUR GE 120 AR",null,null,{"$f":"LEFT(Catalogue[[#This Row],[Référence]],3)","v":"ACV"},{"$f":"VLOOKUP(Catalogue[[#This Row],[Alias]],#REF!,2,FALSE)","v":{"$error":"#REF!"}},null,"ACV537D3000","VENTILATEUR GE 120 AR"]
["ACV537D3008",null,"VENT RG148/1200-3612",null,null,{"$f":"LEFT(Catalogue[[#This Row],[Référence]],3)","v":"ACV"},{"$f":"VLOOKUP(Catalogue[[#This Row],[Alias]],#REF!,2,FALSE)","v":{"$error":"#REF!"}},null,"ACV537D3008","VENT RG148/1200-3612"]
["ACV537D3020",null,"DISPLAY REGUL HM201-P50-75",null,null,{"$f":"LEFT(Catalogue[[#This Row],[Référence]],3)","v":"ACV"},{"$f":"VLOOKUP(Catalogue[[#This Row],[Alias]],#REF!,2,FALSE)","v":{"$error":"#REF!"}},null,"ACV537D3020","DISPLAY REGUL HM201-P50-75"]
["ACV537D3026",null,"CABLE ALLUMAGE",null,null,{"$f":"LEFT(Catalogue[[#This Row],[Référence]],3)","v":"ACV"},{"$f":"VLOOKUP(Catalogue[[#This Row],[Alias]],#REF!,2,FALSE)","v":{"$error":"#REF!"}},null,"ACV537D3026","CABLE ALLUMAGE"]
["ACV537D3027",null,"VENT RG148/1200-3612",null,null,{"$f":"LEFT(Catalogue[[#This Row],[Référence]],3)","v":"ACV"},{"$f":"VLOOKUP(Catalogue[[#This Row],[Alias]],#REF!,2,FALSE)","v":{"$error":"#REF!"}},null,"ACV537D3027","VENT RG148/1200-3612"]
["ACV537D3033",null,"VENT MVL 148 3633",null,null,{"$f":"LEFT(Catalogue[[#This Row],[Référence]],3)","v":"ACV"},{"$f":"VLOOKUP(Catalogue[[#This Row],[Alias]],#REF!,2,FALSE)","v":{"$error":"#REF!"}},null,"ACV537D3033","VENT MVL 148 3633"]
["ACV537D3039",null,"RECTIFICATEUR 24V L.1260",null,null,{"$f":"LEFT(Catalogue[[#This Row],[Référence]],3)","v":"ACV"},{"$f":"VLOOKUP(Catalogue[[#This Row],[Alias]],#REF!,2,FALSE)","v":{"$error":"#REF!"}},null,"ACV537D3039","RECTIFICATEUR 24V L.1260"]
["ACV537D3041",null,"VENTILATEUR 24V",null,null,{"$f":"LEFT(Catalogue[[#This Row],[Référence]],3)","v":"ACV"},{"$f":"VLOOKUP(Catalogue[[#This Row],[Alias]],#REF!,2,FALSE)","v":{"$error":"#REF!"}},null,"ACV537D3041","VENTILATEUR 24V"]
["ACV537D3049",null,"VENTILATEUR RG128/1300",null,null,{"$f":"LEFT(Catalogue[[#This Row],[Référence]],3)","v":"ACV"},{"$f":"VLOOKUP(Catalogue[[#This Row],[Alias]],#REF!,2,FALSE)","v":{"$error":"#REF!"}},null,"ACV537D3049","VENTILATEUR RG128/1300"]
["ACV537D3053",null,"VENTILATEUR NRG118-3612 P24-32",null,null,{"$f":"LEFT(Catalogue[[#This Row],[Référence]],3)","v":"ACV"},{"$f":"VLOOKUP(Catalogue[[#This Row],[Alias]],#REF!,2,FALSE)","v":{"$error":"#REF!"}},null,"ACV537D3053","VENTILATEUR NRG118-3612 P24-32"]
["ACV537D3059",null,"VENT.RG128.1300 230V ROTAT120deg",null,null,{"$f":"LEFT(Catalogue[[#This Row],[Référence]],3)","v":"ACV"},{"$f":"VLOOKUP(Catalogue[[#This Row],[Alias]],#REF!,2,FALSE)","v":{"$error":"#REF!"}},null,"ACV537D3059","VENT.RG128.1300 230V ROTAT120deg"]
["ACV537D4006",null,"VANNE GAZ VR4605AB1001B",null,null,{"$f":"LEFT(Catalogue[[#This Row],[Référence]],3)","v":"ACV"},{"$f":"VLOOKUP(Catalogue[[#This Row],[Alias]],#REF!,2,FALSE)","v":{"$error":"#REF!"}},null,"ACV537D4006","VANNE GAZ VR4605AB1001B"]
["ACV537D4009",null,"VANNE GAZ",null,null,{"$f":"LEFT(Catalogue[[#This Row],[Référence]],3)","v":"ACV"},{"$f":"VLOOKUP(Catalogue[[#This Row],[Alias]],#REF!,2,FALSE)","v":{"$error":"#REF!"}},null,"ACV537D4009","VANNE GAZ"]
["ACV537D4033",null,"VANNE GAZ",null,null,{"$f":"LEFT(Catalogue[[#This Row],[Référence]],3)","v":"ACV"},{"$f":"VLOOKUP(Catalogue[[#This Row],[Alias]],#REF!,2,FALSE)","v":{"$error":"#REF!"}},null,"ACV537D4033","VANNE GAZ"]
["ACV537D4038",null,"VANNE GAZ 840 SIGMA",null,null,{"$f":"LEFT(Catalogue[[#This Row],[Référence]],3)","v":"ACV"},{"$f":"VLOOKUP(Catalogue[[#This Row],[Alias]],#REF!,2,FALSE)","v":{"$error":"#REF!"}},null,"ACV537D4038","VANNE GAZ 840 SIGMA"]
["ACV537D4086",null,"VANNE GAZ VK4205VE5002",null,null,{"$f":"LEFT(Catalogue[[#This Row],[Référence]],3)","v":"ACV"},{"$f":"VLOOKUP(Catalogue[[#This Row],[Alias]],#REF!,2,FALSE)","v":{"$error":"#REF!"}},null,"ACV537D4086","VANNE GAZ VK4205VE5002"]
["ACV537D5000",null,"CABLE ALLUMAGE SAPCO",null,null,{"$f":"LEFT(Catalogue[[#This Row],[Référence]],3)","v":"ACV"},{"$f":"VLOOKUP(Catalogue[[#This Row],[Alias]],#REF!,2,FALSE)","v":{"$error":"#REF!"}},null,"ACV537D5000","CABLE ALLUMAGE SAPCO"]
["ACV537D6033",null,"KIT VEILLEUSE COMPLETE",null,null,{"$f":"LEFT(Catalogue[[#This Row],[Référence]],3)","v":"ACV"},{"$f":"VLOOKUP(Catalogue[[#This Row],[Alias]],#REF!,2,FALSE)","v":{"$error":"#REF!"}},null,"ACV537D6033","KIT VEILLEUSE COMPLETE"]
["ACV537D6238",null,"FLEXIBLE MASTER NEO D.80",null,null,{"$f":"LEFT(Catalogue[[#This Row],[Référence]],3)","v":"ACV"},{"$f":"VLOOKUP(Catalogue[[#This Row],[Alias]],#REF!,2,FALSE)","v":{"$error":"#REF!"}},null,"ACV537D6238","FLEXIBLE MASTER NEO D.80"]
["ACV537D8121",null,"CONTROLEUR DE REMPLACEMENT",null,null,{"$f":"LEFT(Catalogue[[#This Row],[Référence]],3)","v":"ACV"},{"$f":"VLOOKUP(Catalogue[[#This Row],[Alias]],#REF!,2,FALSE)","v":{"$error":"#REF!"}},null,"ACV537D8121","CONTROLEUR DE REMPLACEMENT"]
["ACV537D8127",null,"PLATINE MCBA 1456 HEATMASTER",null,null,{"$f":"LEFT(Catalogue[[#This Row],[Référence]],3)","v":"ACV"},{"$f":"VLOOKUP(Catalogue[[#This Row],[Alias]],#REF!,2,FALSE)","v":{"$error":"#REF!"}},null,"ACV537D8127","PLATINE MCBA 1456 HEATMASTER"]
["ACV537D8185",null,"AUTOMATE BRULEUR S4965A2058",null,null,{"$f":"LEFT(Catalogue[[#This Row],[Référence]],3)","v":"ACV"},{"$f":"VLOOKUP(Catalogue[[#This Row],[Alias]],#REF!,2,FALSE)","v":{"$error":"#REF!"}},null,"ACV537D8185","AUTOMATE BRULEUR S4965A2058"]
["ACV537DC000",null,"PRESSOSTAT GAZ  PRESTIGE",null,null,{"$f":"LEFT(Catalogue[[#This Row],[Référence]],3)","v":"ACV"},{"$f":"VLOOKUP(Catalogue[[#This Row],[Alias]],#REF!,2,FALSE)","v":{"$error":"#REF!"}},null,"ACV537DC000","PRESSOSTAT GAZ  PRESTIGE"]
["ACV537DX005",null,"ELECTRODE ALLUMAGE",null,null,{"$f":"LEFT(Catalogue[[#This Row],[Référence]],3)","v":"ACV"},{"$f":"VLOOKUP(Catalogue[[#This Row],[Alias]],#REF!,2,FALSE)","v":{"$error":"#REF!"}},null,"ACV537DX005","ELECTRODE ALLUMAGE"]
["ACV537DX006",null,"ELECTRODE ALLUMAGE",null,null,{"$f":"LEFT(Catalogue[[#This Row],[Référence]],3)","v":"ACV"},{"$f":"VLOOKUP(Catalogue[[#This Row],[Alias]],#REF!,2,FALSE)","v":{"$error":"#REF!"}},null,"ACV537DX006","ELECTRODE ALLUMAGE"]
["ACV537DX007",null,"537DX007/AC ELECTRODE ALLUMAGE",null,null,{"$f":"LEFT(Catalogue[[#This Row],[Référence]],3)","v":"ACV"},{"$f":"VLOOKUP(Catalogue[[#This Row],[Alias]],#REF!,2,FALSE)","v":{"$error":"#REF!"}},null,"ACV537DX007","537DX007/AC ELECTRODE ALLUMAGE"]
["ACV537DX008",null,"ELECTRODE ALLUMAGE",null,null,{"$f":"LEFT(Catalogue[[#This Row],[Référence]],3)","v":"ACV"},{"$f":"VLOOKUP(Catalogue[[#This Row],[Alias]],#REF!,2,FALSE)","v":{"$error":"#REF!"}},null,"ACV537DX008","ELECTRODE ALLUMAGE"]
["ACV537DX009",null,"ELECTRODE IONISATION",null,null,{"$f":"LEFT(Catalogue[[#This Row],[Référence]],3)","v":"ACV"},{"$f":"VLOOKUP(Catalogue[[#This Row],[Alias]],#REF!,2,FALSE)","v":{"$error":"#REF!"}},null,"ACV537DX009","ELECTRODE IONISATION"]
["ACV537DX010",null,"ELECTRODE IONISATION",null,null,{"$f":"LEFT(Catalogue[[#This Row],[Référence]],3)","v":"ACV"},{"$f":"VLOOKUP(Catalogue[[#This Row],[Alias]],#REF!,2,FALSE)","v":{"$error":"#REF!"}},null,"ACV537DX010","ELECTRODE IONISATION"]
["ACV537DX016",null,"ELECTRODE DOUBLE PLIEE",null,null,{"$f":"LEFT(Catalogue[[#This Row],[Référence]],3)","v":"ACV"},{"$f":"VLOOKUP(Catalogue[[#This Row],[Alias]],#REF!,2,FALSE)","v":{"$error":"#REF!"}},null,"ACV537DX016","ELECTRODE DOUBLE PLIEE"]
["ACV537DX020",null,"537DX020/AC ELECTRODE DOUBLE L",null,null,{"$f":"LEFT(Catalogue[[#This Row],[Référence]],3)","v":"ACV"},{"$f":"VLOOKUP(Catalogue[[#This Row],[Alias]],#REF!,2,FALSE)","v":{"$error":"#REF!"}},null,"ACV537DX020","537DX020/AC ELECTRODE DOUBLE L"]
["ACV537DX028",null,"ELECTRODE DOUBLE LG215MM",null,null,{"$f":"LEFT(Catalogue[[#This Row],[Référence]],3)","v":"ACV"},{"$f":"VLOOKUP(Catalogue[[#This Row],[Alias]],#REF!,2,FALSE)","v":{"$error":"#REF!"}},null,"ACV537DX028","ELECTRODE DOUBLE LG215MM"]
["ACV537DX029",null,"537DX029/AC ELECTRODE DOUBLE L",null,null,{"$f":"LEFT(Catalogue[[#This Row],[Référence]],3)","v":"ACV"},{"$f":"VLOOKUP(Catalogue[[#This Row],[Alias]],#REF!,2,FALSE)","v":{"$error":"#REF!"}},null,"ACV537DX029","537DX029/AC ELECTRODE DOUBLE L"]
["ACV537DX031",null,"ELECTRODE PLIEE BRUL ALL ELCTR",null,null,{"$f":"LEFT(Catalogue[[#This Row],[Référence]],3)","v":"ACV"},{"$f":"VLOOKUP(Catalogue[[#This Row],[Alias]],#REF!,2,FALSE)","v":{"$error":"#REF!"}},null,"ACV537DX031","ELECTRODE PLIEE BRUL ALL ELCTR"]
["ACV537DZ022",null,{"$f":"VLOOKUP(A898,I:J,2,0)","v":"ELECTRODE ALLUMAGE"},null,null,{"$f":"LEFT(Catalogue[[#This Row],[Référence]],3)","v":"ACV"},{"$f":"VLOOKUP(Catalogue[[#This Row],[Alias]],#REF!,2,FALSE)","v":{"$error":"#REF!"}},null,"ACV537DZ022","ELECTRODE ALLUMAGE"]
["ACV537DZ024",null,"ELECTRODE ALLUMAGE BMV",null,null,{"$f":"LEFT(Catalogue[[#This Row],[Référence]],3)","v":"ACV"},{"$f":"VLOOKUP(Catalogue[[#This Row],[Alias]],#REF!,2,FALSE)","v":{"$error":"#REF!"}},null,"ACV537DZ024","ELECTRODE ALLUMAGE BMV"]
["ACV537DZ026",null,"RAMPE BRULEUR PRESTIGE",null,null,{"$f":"LEFT(Catalogue[[#This Row],[Référence]],3)","v":"ACV"},{"$f":"VLOOKUP(Catalogue[[#This Row],[Alias]],#REF!,2,FALSE)","v":{"$error":"#REF!"}},null,"ACV537DZ026","RAMPE BRULEUR PRESTIGE"]
["ACV537DZ028",null,"ELECTRODE L215NON-PLBG2000S",null,null,{"$f":"LEFT(Catalogue[[#This Row],[Référence]],3)","v":"ACV"},{"$f":"VLOOKUP(Catalogue[[#This Row],[Alias]],#REF!,2,FALSE)","v":{"$error":"#REF!"}},null,"ACV537DZ028","ELECTRODE L215NON-PLBG2000S"]
["ACV537DZ038",null,"ELECTRODE P18-32MK3",null,null,{"$f":"LEFT(Catalogue[[#This Row],[Référence]],3)","v":"ACV"},{"$f":"VLOOKUP(Catalogue[[#This Row],[Alias]],#REF!,2,FALSE)","v":{"$error":"#REF!"}},null,"ACV537DZ038","ELECTRODE P18-32MK3"]
["ACV537DZ043",null,"ELECTRODE DOUBLE PLIEE",null,null,{"$f":"LEFT(Catalogue[[#This Row],[Référence]],3)","v":"ACV"},{"$f":"VLOOKUP(Catalogue[[#This Row],[Alias]],#REF!,2,FALSE)","v":{"$error":"#REF!"}},null,"ACV537DZ043","ELECTRODE DOUBLE PLIEE"]
["ACV54322000",null,"THERMOSTAT PREREGLE 95DEG C",null,null,{"$f":"LEFT(Catalogue[[#This Row],[Référence]],3)","v":"ACV"},{"$f":"VLOOKUP(Catalogue[[#This Row],[Alias]],#REF!,2,FALSE)","v":{"$error":"#REF!"}},null,"ACV54322000","THERMOSTAT PREREGLE 95DEG C"]
["ACV54428020",null,"CABLE ALLUMEUR PIEZO",null,null,{"$f":"LEFT(Catalogue[[#This Row],[Référence]],3)","v":"ACV"},{"$f":"VLOOKUP(Catalogue[[#This Row],[Alias]],#REF!,2,FALSE)","v":{"$error":"#REF!"}},null,"ACV54428020","CABLE ALLUMEUR PIEZO"]
["ACV54428116",null,"INTERRUPTEUR BIPOLAIRE",null,null,{"$f":"LEFT(Catalogue[[#This Row],[Référence]],3)","v":"ACV"},{"$f":"VLOOKUP(Catalogue[[#This Row],[Alias]],#REF!,2,FALSE)","v":{"$error":"#REF!"}},null,"ACV54428116","INTERRUPTEUR BIPOLAIRE"]
["ACV54428220",null,"RELAIS PRIORITE ECS",null,null,{"$f":"LEFT(Catalogue[[#This Row],[Référence]],3)","v":"ACV"},{"$f":"VLOOKUP(Catalogue[[#This Row],[Alias]],#REF!,2,FALSE)","v":{"$error":"#REF!"}},null,"ACV54428220","RELAIS PRIORITE ECS"]
["ACV54442015",null,"THERMOSTAT A REARMEMENT",null,null,{"$f":"LEFT(Catalogue[[#This Row],[Référence]],3)","v":"ACV"},{"$f":"VLOOKUP(Catalogue[[#This Row],[Alias]],#REF!,2,FALSE)","v":{"$error":"#REF!"}},null,"ACV54442015","THERMOSTAT A REARMEMENT"]
["ACV54442027",null,"KLIX MINI 442027",null,null,{"$f":"LEFT(Catalogue[[#This Row],[Référence]],3)","v":"ACV"},{"$f":"VLOOKUP(Catalogue[[#This Row],[Alias]],#REF!,2,FALSE)","v":{"$error":"#REF!"}},null,"ACV54442027","KLIX MINI 442027"]
["ACV54442045",null,"THERMOSTAT CDE 90DEG C",null,null,{"$f":"LEFT(Catalogue[[#This Row],[Référence]],3)","v":"ACV"},{"$f":"VLOOKUP(Catalogue[[#This Row],[Alias]],#REF!,2,FALSE)","v":{"$error":"#REF!"}},null,"ACV54442045","THERMOSTAT CDE 90DEG C"]
["ACV54763017",null,"MANOMETRE P32 EXCEL",null,null,{"$f":"LEFT(Catalogue[[#This Row],[Référence]],3)","v":"ACV"},{"$f":"VLOOKUP(Catalogue[[#This Row],[Alias]],#REF!,2,FALSE)","v":{"$error":"#REF!"}},null,"ACV54763017","MANOMETRE P32 EXCEL"]
["ACV54764000",null,"THERMOSTAT TOD 90C",null,null,{"$f":"LEFT(Catalogue[[#This Row],[Référence]],3)","v":"ACV"},{"$f":"VLOOKUP(Catalogue[[#This Row],[Alias]],#REF!,2,FALSE)","v":{"$error":"#REF!"}},null,"ACV54764000","THERMOSTAT TOD 90C"]
["ACV54764009",null,"THERMOSTAT A REARMEMENT",null,null,{"$f":"LEFT(Catalogue[[#This Row],[Référence]],3)","v":"ACV"},{"$f":"VLOOKUP(Catalogue[[#This Row],[Alias]],#REF!,2,FALSE)","v":{"$error":"#REF!"}},null,"ACV54764009","THERMOSTAT A REARMEMENT"]
["ACV54764010",null,"THERMOSTAT A REARMEMENT",null,null,{"$f":"LEFT(Catalogue[[#This Row],[Référence]],3)","v":"ACV"},{"$f":"VLOOKUP(Catalogue[[#This Row],[Alias]],#REF!,2,FALSE)","v":{"$error":"#REF!"}},null,"ACV54764010","THERMOSTAT A REARMEMENT"]
["ACV54764032",null,"THERMOSTAT 3 PH REGLAGE0-85DEG C+",null,null,{"$f":"LEFT(Catalogue[[#This Row],[Référence]],3)","v":"ACV"},{"$f":"VLOOKUP(Catalogue[[#This Row],[Alias]],#REF!,2,FALSE)","v":{"$error":"#REF!"}},null,"ACV54764032","THERMOSTAT 3 PH REGLAGE0-85DEG C+"]
["ACV54766016",null,"INTERRUPTEUR BIPOLAIRE",null,null,{"$f":"LEFT(Catalogue[[#This Row],[Référence]],3)","v":"ACV"},{"$f":"VLOOKUP(Catalogue[[#This Row],[Alias]],#REF!,2,FALSE)","v":{"$error":"#REF!"}},null,"ACV54766016","INTERRUPTEUR BIPOLAIRE"]
["ACV54766017",null,"INTERRUPTEUR BIPOLAIRE",null,null,{"$f":"LEFT(Catalogue[[#This Row],[Référence]],3)","v":"ACV"},{"$f":"VLOOKUP(Catalogue[[#This Row],[Alias]],#REF!,2,FALSE)","v":{"$error":"#REF!"}},null,"ACV54766017","INTERRUPTEUR BIPOLAIRE"]
["ACV54768002",null,"RELAIS DE VANNE SIT",null,null,{"$f":"LEFT(Catalogue[[#This Row],[Référence]],3)","v":"ACV"},{"$f":"VLOOKUP(Catalogue[[#This Row],[Alias]],#REF!,2,FALSE)","v":{"$error":"#REF!"}},null,"ACV54768002","RELAIS DE VANNE SIT"]
["ACV5476G001",null,"PLAQUETTE ELECTRONIQUE",null,null,{"$f":"LEFT(Catalogue[[#This Row],[Référence]],3)","v":"ACV"},{"$f":"VLOOKUP(Catalogue[[#This Row],[Alias]],#REF!,2,FALSE)","v":{"$error":"#REF!"}},null,"ACV5476G001","PLAQUETTE ELECTRONIQUE"]
["ACV5476G002",null,"SONDE NTC DUPLO 2400MM",null,null,{"$f":"LEFT(Catalogue[[#This Row],[Référence]],3)","v":"ACV"},{"$f":"VLOOKUP(Catalogue[[#This Row],[Alias]],#REF!,2,FALSE)","v":{"$error":"#REF!"}},null,"ACV5476G002","SONDE NTC DUPLO 2400MM"]
["ACV5476G003",null,"SONDE A DOIGT DE GANT",null,null,{"$f":"LEFT(Catalogue[[#This Row],[Référence]],3)","v":"ACV"},{"$f":"VLOOKUP(Catalogue[[#This Row],[Alias]],#REF!,2,FALSE)","v":{"$error":"#REF!"}},null,"ACV5476G003","SONDE A DOIGT DE GANT"]
["ACV5476G005",null,"5476G005/AC SONDE NTC",null,null,{"$f":"LEFT(Catalogue[[#This Row],[Référence]],3)","v":"ACV"},{"$f":"VLOOKUP(Catalogue[[#This Row],[Alias]],#REF!,2,FALSE)","v":{"$error":"#REF!"}},null,"ACV5476G005","5476G005/AC SONDE NTC"]
["ACV5476G008",null,"SONDE NTC 12K D5X18 1/8",null,null,{"$f":"LEFT(Catalogue[[#This Row],[Référence]],3)","v":"ACV"},{"$f":"VLOOKUP(Catalogue[[#This Row],[Alias]],#REF!,2,FALSE)","v":{"$error":"#REF!"}},null,"ACV5476G008","SONDE NTC 12K D5X18 1/8"]
["ACV5476G015",null,"MCBA PRESTIGE 24 EXC.-GAZ NAT",null,null,{"$f":"LEFT(Catalogue[[#This Row],[Référence]],3)","v":"ACV"},{"$f":"VLOOKUP(Catalogue[[#This Row],[Alias]],#REF!,2,FALSE)","v":{"$error":"#REF!"}},null,"ACV5476G015","MCBA PRESTIGE 24 EXC.-GAZ NAT"]
["ACV5476G021",null,"MCBA PRESTIGE 32 EXC.-GAZ NATU",null,null,{"$f":"LEFT(Catalogue[[#This Row],[Référence]],3)","v":"ACV"},{"$f":"VLOOKUP(Catalogue[[#This Row],[Alias]],#REF!,2,FALSE)","v":{"$error":"#REF!"}},null,"ACV5476G021","MCBA PRESTIGE 32 EXC.-GAZ NATU"]
["ACV5476G025",null,"MCBA PRESTIGE 32 SOLO GAZ PROP",null,null,{"$f":"LEFT(Catalogue[[#This Row],[Référence]],3)","v":"ACV"},{"$f":"VLOOKUP(Catalogue[[#This Row],[Alias]],#REF!,2,FALSE)","v":{"$error":"#REF!"}},null,"ACV5476G025","MCBA PRESTIGE 32 SOLO GAZ PROP"]
["ACV5476G030",null,"MCBA PRESTIGE 50 SOLO GAZ NAT",null,null,{"$f":"LEFT(Catalogue[[#This Row],[Référence]],3)","v":"ACV"},{"$f":"VLOOKUP(Catalogue[[#This Row],[Alias]],#REF!,2,FALSE)","v":{"$error":"#REF!"}},null,"ACV5476G030","MCBA PRESTIGE 50 SOLO GAZ NAT"]
["ACV5476G042",null,"MCBA HEAT MASTER 35TC-GAZ NATU",null,null,{"$f":"LEFT(Catalogue[[#This Row],[Référence]],3)","v":"ACV"},{"$f":"VLOOKUP(Catalogue[[#This Row],[Alias]],#REF!,2,FALSE)","v":{"$error":"#REF!"}},null,"ACV5476G042","MCBA HEAT MASTER 35TC-GAZ NATU"]
["ACV5476G042-33",null,"MCBA HEAT MASTER 35TC-GAZ-PROP",null,null,{"$f":"LEFT(Catalogue[[#This Row],[Référence]],3)","v":"ACV"},{"$f":"VLOOKUP(Catalogue[[#This Row],[Alias]],#REF!,2,FALSE)","v":{"$error":"#REF!"}},null,"ACV5476G042-33","MCBA HEAT MASTER 35TC-GAZ-PROP"]
["ACV5476G043",null,"MCBA HEAT MASTER 85TC-GAZ NATU",null,null,{"$f":"LEFT(Catalogue[[#This Row],[Référence]],3)","v":"ACV"},{"$f":"VLOOKUP(Catalogue[[#This Row],[Alias]],#REF!,2,FALSE)","v":{"$error":"#REF!"}},null,"ACV5476G043","MCBA HEAT MASTER 85TC-GAZ NATU"]
["ACV5476G054",null,"SONDE NTC",null,null,{"$f":"LEFT(Catalogue[[#This Row],[Référence]],3)","v":"ACV"},{"$f":"VLOOKUP(Catalogue[[#This Row],[Alias]],#REF!,2,FALSE)","v":{"$error":"#REF!"}},null,"ACV5476G054","SONDE NTC"]
["ACV5476G057",null,"ESYS REGLE PRESTIGE MK3",null,null,{"$f":"LEFT(Catalogue[[#This Row],[Référence]],3)","v":"ACV"},{"$f":"VLOOKUP(Catalogue[[#This Row],[Alias]],#REF!,2,FALSE)","v":{"$error":"#REF!"}},null,"ACV5476G057","ESYS REGLE PRESTIGE MK3"]
["ACV5476G061",null,"5476G061/AC SONDE NTC 12K D5X5",null,null,{"$f":"LEFT(Catalogue[[#This Row],[Référence]],3)","v":"ACV"},{"$f":"VLOOKUP(Catalogue[[#This Row],[Alias]],#REF!,2,FALSE)","v":{"$error":"#REF!"}},null,"ACV5476G061","5476G061/AC SONDE NTC 12K D5X5"]
["ACV5476G068",null,"MCBA HEAT MASTER 45TC GAZ NATU",null,null,{"$f":"LEFT(Catalogue[[#This Row],[Référence]],3)","v":"ACV"},{"$f":"VLOOKUP(Catalogue[[#This Row],[Alias]],#REF!,2,FALSE)","v":{"$error":"#REF!"}},null,"ACV5476G068","MCBA HEAT MASTER 45TC GAZ NATU"]
["ACV5476V016",null,"RELAIS",null,null,{"$f":"LEFT(Catalogue[[#This Row],[Référence]],3)","v":"ACV"},{"$f":"VLOOKUP(Catalogue[[#This Row],[Alias]],#REF!,2,FALSE)","v":{"$error":"#REF!"}},null,"ACV5476V016","RELAIS"]
["ACV547D3006",null,"TRANSFO D ISOLE",null,null,{"$f":"LEFT(Catalogue[[#This Row],[Référence]],3)","v":"ACV"},{"$f":"VLOOKUP(Catalogue[[#This Row],[Alias]],#REF!,2,FALSE)","v":{"$error":"#REF!"}},null,"ACV547D3006","TRANSFO D ISOLE"]
["ACV547D3018",null,"SONDE NTC 12KOHM",null,null,{"$f":"LEFT(Catalogue[[#This Row],[Référence]],3)","v":"ACV"},{"$f":"VLOOKUP(Catalogue[[#This Row],[Alias]],#REF!,2,FALSE)","v":{"$error":"#REF!"}},null,"ACV547D3018","SONDE NTC 12KOHM"]
["ACV547D3021",null,"TRANSFO REGUL HM201",null,null,{"$f":"LEFT(Catalogue[[#This Row],[Référence]],3)","v":"ACV"},{"$f":"VLOOKUP(Catalogue[[#This Row],[Alias]],#REF!,2,FALSE)","v":{"$error":"#REF!"}},null,"ACV547D3021","TRANSFO REGUL HM201"]
["ACV547D3024",null,"RELAIS S4565 AD2 ACV 2",null,null,{"$f":"LEFT(Catalogue[[#This Row],[Référence]],3)","v":"ACV"},{"$f":"VLOOKUP(Catalogue[[#This Row],[Alias]],#REF!,2,FALSE)","v":{"$error":"#REF!"}},null,"ACV547D3024","RELAIS S4565 AD2 ACV 2"]
["ACV547D4018",null,"CIRCUIT ELECTRONIQUE",null,null,{"$f":"LEFT(Catalogue[[#This Row],[Référence]],3)","v":"ACV"},{"$f":"VLOOKUP(Catalogue[[#This Row],[Alias]],#REF!,2,FALSE)","v":{"$error":"#REF!"}},null,"ACV547D4018","CIRCUIT ELECTRONIQUE"]
["ACV55301200",null,"VASE 8L MODELE LONG",null,null,{"$f":"LEFT(Catalogue[[#This Row],[Référence]],3)","v":"ACV"},{"$f":"VLOOKUP(Catalogue[[#This Row],[Alias]],#REF!,2,FALSE)","v":{"$error":"#REF!"}},null,"ACV55301200","VASE 8L MODELE LONG"]
["ACV55426001",null,"ROBINET DE VIDANGE DIAM1/2  ART.3",null,null,{"$f":"LEFT(Catalogue[[#This Row],[Référence]],3)","v":"ACV"},{"$f":"VLOOKUP(Catalogue[[#This Row],[Alias]],#REF!,2,FALSE)","v":{"$error":"#REF!"}},null,"ACV55426001","ROBINET DE VIDANGE DIAM1/2  ART.3"]
["ACV55426017",null,"SOUPAPE 3 BAR 1/2",null,null,{"$f":"LEFT(Catalogue[[#This Row],[Référence]],3)","v":"ACV"},{"$f":"VLOOKUP(Catalogue[[#This Row],[Alias]],#REF!,2,FALSE)","v":{"$error":"#REF!"}},null,"ACV55426017","SOUPAPE 3 BAR 1/2"]
["ACV55429070",null,"JOINT BRIDE BM(R)21-101",null,null,{"$f":"LEFT(Catalogue[[#This Row],[Référence]],3)","v":"ACV"},{"$f":"VLOOKUP(Catalogue[[#This Row],[Alias]],#REF!,2,FALSE)","v":{"$error":"#REF!"}},null,"ACV55429070","JOINT BRIDE BM(R)21-101"]
["ACV557A0025",null,"TUBE PORTE GICLEUR  S/CDE",null,null,{"$f":"LEFT(Catalogue[[#This Row],[Référence]],3)","v":"ACV"},{"$f":"VLOOKUP(Catalogue[[#This Row],[Alias]],#REF!,2,FALSE)","v":{"$error":"#REF!"}},null,"ACV557A0025","TUBE PORTE GICLEUR  S/CDE"]
["ACV557A0026",null,"JOINT LIEGE VENTURI",null,null,{"$f":"LEFT(Catalogue[[#This Row],[Référence]],3)","v":"ACV"},{"$f":"VLOOKUP(Catalogue[[#This Row],[Alias]],#REF!,2,FALSE)","v":{"$error":"#REF!"}},null,"ACV557A0026","JOINT LIEGE VENTURI"]
["ACV557A0027",null,"JOINT CARCASSE BRIDE BM1",null,null,{"$f":"LEFT(Catalogue[[#This Row],[Référence]],3)","v":"ACV"},{"$f":"VLOOKUP(Catalogue[[#This Row],[Alias]],#REF!,2,FALSE)","v":{"$error":"#REF!"}},null,"ACV557A0027","JOINT CARCASSE BRIDE BM1"]
["ACV557A0038",null,"JOINT DE BRIDE ROND BMV RONDE",null,null,{"$f":"LEFT(Catalogue[[#This Row],[Référence]],3)","v":"ACV"},{"$f":"VLOOKUP(Catalogue[[#This Row],[Alias]],#REF!,2,FALSE)","v":{"$error":"#REF!"}},null,"ACV557A0038","JOINT DE BRIDE ROND BMV RONDE"]
["ACV557A0054",null,"JOINT BRIDE VENTILATEUR",null,null,{"$f":"LEFT(Catalogue[[#This Row],[Référence]],3)","v":"ACV"},{"$f":"VLOOKUP(Catalogue[[#This Row],[Alias]],#REF!,2,FALSE)","v":{"$error":"#REF!"}},null,"ACV557A0054","JOINT BRIDE VENTILATEUR"]
["ACV557A0105",null,"JOINT A LEVRE DIAM80MM",null,null,{"$f":"LEFT(Catalogue[[#This Row],[Référence]],3)","v":"ACV"},{"$f":"VLOOKUP(Catalogue[[#This Row],[Alias]],#REF!,2,FALSE)","v":{"$error":"#REF!"}},null,"ACV557A0105","JOINT A LEVRE DIAM80MM"]
["ACV557A0153",null,"JOINT RAMPE BRULEUR",null,null,{"$f":"LEFT(Catalogue[[#This Row],[Référence]],3)","v":"ACV"},{"$f":"VLOOKUP(Catalogue[[#This Row],[Alias]],#REF!,2,FALSE)","v":{"$error":"#REF!"}},null,"ACV557A0153","JOINT RAMPE BRULEUR"]
["ACV557A0163",null,"JOINT DOUBLE ELECTRODE",null,null,{"$f":"LEFT(Catalogue[[#This Row],[Référence]],3)","v":"ACV"},{"$f":"VLOOKUP(Catalogue[[#This Row],[Alias]],#REF!,2,FALSE)","v":{"$error":"#REF!"}},null,"ACV557A0163","JOINT DOUBLE ELECTRODE"]
["ACV557A0178",null,"JOINT PORTE FOYERE  (REMPLACE",null,null,{"$f":"LEFT(Catalogue[[#This Row],[Référence]],3)","v":"ACV"},{"$f":"VLOOKUP(Catalogue[[#This Row],[Alias]],#REF!,2,FALSE)","v":{"$error":"#REF!"}},null,"ACV557A0178","JOINT PORTE FOYERE  (REMPLACE"]
["ACV557A0179",null,"JOINT PORTE FOYERE FC 27/02/19",null,null,{"$f":"LEFT(Catalogue[[#This Row],[Référence]],3)","v":"ACV"},{"$f":"VLOOKUP(Catalogue[[#This Row],[Alias]],#REF!,2,FALSE)","v":{"$error":"#REF!"}},null,"ACV557A0179","JOINT PORTE FOYERE FC 27/02/19"]
["ACV557A1085",null,"SOUPAPE SECURITE 3 BAR P24-32",null,null,{"$f":"LEFT(Catalogue[[#This Row],[Référence]],3)","v":"ACV"},{"$f":"VLOOKUP(Catalogue[[#This Row],[Alias]],#REF!,2,FALSE)","v":{"$error":"#REF!"}},null,"ACV557A1085","SOUPAPE SECURITE 3 BAR P24-32"]
["ACV557A2014",null,"FLEX MK3 820.32.0700",null,null,{"$f":"LEFT(Catalogue[[#This Row],[Référence]],3)","v":"ACV"},{"$f":"VLOOKUP(Catalogue[[#This Row],[Alias]],#REF!,2,FALSE)","v":{"$error":"#REF!"}},null,"ACV557A2014","FLEX MK3 820.32.0700"]
["ACV557A3007",null,"PURGEUR AIR AUTO.COMPOSITE P32",null,null,{"$f":"LEFT(Catalogue[[#This Row],[Référence]],3)","v":"ACV"},{"$f":"VLOOKUP(Catalogue[[#This Row],[Alias]],#REF!,2,FALSE)","v":{"$error":"#REF!"}},null,"ACV557A3007","PURGEUR AIR AUTO.COMPOSITE P32"]
["ACV557A4009",null,"CIRCULATEUR WILO RS",null,null,{"$f":"LEFT(Catalogue[[#This Row],[Référence]],3)","v":"ACV"},{"$f":"VLOOKUP(Catalogue[[#This Row],[Alias]],#REF!,2,FALSE)","v":{"$error":"#REF!"}},null,"ACV557A4009","CIRCULATEUR WILO RS"]
["ACV557A4012",null,"CIRCUL WILO 15/6 RS",null,null,{"$f":"LEFT(Catalogue[[#This Row],[Référence]],3)","v":"ACV"},{"$f":"VLOOKUP(Catalogue[[#This Row],[Alias]],#REF!,2,FALSE)","v":{"$error":"#REF!"}},null,"ACV557A4012","CIRCUL WILO 15/6 RS"]
["ACV557A4014",null,"CIRCULATEUR RS 15/6-3C",null,null,{"$f":"LEFT(Catalogue[[#This Row],[Référence]],3)","v":"ACV"},{"$f":"VLOOKUP(Catalogue[[#This Row],[Alias]],#REF!,2,FALSE)","v":{"$error":"#REF!"}},null,"ACV557A4014","CIRCULATEUR RS 15/6-3C"]
["ACV557A4017",null,"CIRCULATEUR AVEC PURGEUR",null,null,{"$f":"LEFT(Catalogue[[#This Row],[Référence]],3)","v":"ACV"},{"$f":"VLOOKUP(Catalogue[[#This Row],[Alias]],#REF!,2,FALSE)","v":{"$error":"#REF!"}},null,"ACV557A4017","CIRCULATEUR AVEC PURGEUR"]
["ACV557A4032",null,{"$f":"VLOOKUP(A962,I:J,2,0)","v":"CIRCULATEUR UPM3 15-60 L130"},null,null,{"$f":"LEFT(Catalogue[[#This Row],[Référence]],3)","v":"ACV"},{"$f":"VLOOKUP(Catalogue[[#This Row],[Alias]],#REF!,2,FALSE)","v":{"$error":"#REF!"}},null,"ACV557A4032","CIRCULATEUR UPM3 15-60 L130"]
["ACV557A5005",null,"CLAPET ANTI-RETOUR",null,null,{"$f":"LEFT(Catalogue[[#This Row],[Référence]],3)","v":"ACV"},{"$f":"VLOOKUP(Catalogue[[#This Row],[Alias]],#REF!,2,FALSE)","v":{"$error":"#REF!"}},null,"ACV557A5005","CLAPET ANTI-RETOUR"]
["ACV557A6006",null,"CLAPET ANTI RETOUR",null,null,{"$f":"LEFT(Catalogue[[#This Row],[Référence]],3)","v":"ACV"},{"$f":"VLOOKUP(Catalogue[[#This Row],[Alias]],#REF!,2,FALSE)","v":{"$error":"#REF!"}},null,"ACV557A6006","CLAPET ANTI RETOUR"]
["ACV557A7006",null,"VASE EXPANSION 10L",null,null,{"$f":"LEFT(Catalogue[[#This Row],[Référence]],3)","v":"ACV"},{"$f":"VLOOKUP(Catalogue[[#This Row],[Alias]],#REF!,2,FALSE)","v":{"$error":"#REF!"}},null,"ACV557A7006","VASE EXPANSION 10L"]
["ACV557A7008",null,"VASE 12L PLAT",null,null,{"$f":"LEFT(Catalogue[[#This Row],[Référence]],3)","v":"ACV"},{"$f":"VLOOKUP(Catalogue[[#This Row],[Alias]],#REF!,2,FALSE)","v":{"$error":"#REF!"}},null,"ACV557A7008","VASE 12L PLAT"]
["ACV557A7011",null,"VASE D EXPANSION EXC MK3",null,null,{"$f":"LEFT(Catalogue[[#This Row],[Référence]],3)","v":"ACV"},{"$f":"VLOOKUP(Catalogue[[#This Row],[Alias]],#REF!,2,FALSE)","v":{"$error":"#REF!"}},null,"ACV557A7011","VASE D EXPANSION EXC MK3"]
["ACV557D2000",null,"JOINT COLLERETTE DU DELTA G 25",null,null,{"$f":"LEFT(Catalogue[[#This Row],[Référence]],3)","v":"ACV"},{"$f":"VLOOKUP(Catalogue[[#This Row],[Alias]],#REF!,2,FALSE)","v":{"$error":"#REF!"}},null,"ACV557D2000","JOINT COLLERETTE DU DELTA G 25"]
["ACV557D2001",null,"JOINT VENTILATEUR - DELTA G 25",null,null,{"$f":"LEFT(Catalogue[[#This Row],[Référence]],3)","v":"ACV"},{"$f":"VLOOKUP(Catalogue[[#This Row],[Alias]],#REF!,2,FALSE)","v":{"$error":"#REF!"}},null,"ACV557D2001","JOINT VENTILATEUR - DELTA G 25"]
["ACV557D2003",null,"JOINT CAOOUTCHOUC D80",null,null,{"$f":"LEFT(Catalogue[[#This Row],[Référence]],3)","v":"ACV"},{"$f":"VLOOKUP(Catalogue[[#This Row],[Alias]],#REF!,2,FALSE)","v":{"$error":"#REF!"}},null,"ACV557D2003","JOINT CAOOUTCHOUC D80"]
["ACV60T12",null,"KLIX MINI 442027",null,null,{"$f":"LEFT(Catalogue[[#This Row],[Référence]],3)","v":"ACV"},{"$f":"VLOOKUP(Catalogue[[#This Row],[Alias]],#REF!,2,FALSE)","v":{"$error":"#REF!"}},null,"ACV60T12","KLIX MINI 442027"]
["ACV784460",null,"KIT ELECTRODE PRESTIGE MK2",null,null,{"$f":"LEFT(Catalogue[[#This Row],[Référence]],3)","v":"ACV"},{"$f":"VLOOKUP(Catalogue[[#This Row],[Alias]],#REF!,2,FALSE)","v":{"$error":"#REF!"}},null,"ACV784460","KIT ELECTRODE PRESTIGE MK2"]
["ACV784486",null,"ELECTRODE DOUBLE CERAMIQUE L185MM",null,null,{"$f":"LEFT(Catalogue[[#This Row],[Référence]],3)","v":"ACV"},{"$f":"VLOOKUP(Catalogue[[#This Row],[Alias]],#REF!,2,FALSE)","v":{"$error":"#REF!"}},null,"ACV784486","ELECTRODE DOUBLE CERAMIQUE L185MM"]
["ACV784941",null,"ISOLANT KERANAP 342X195X12MM PORTE HM100BG",null,null,{"$f":"LEFT(Catalogue[[#This Row],[Référence]],3)","v":"ACV"},{"$f":"VLOOKUP(Catalogue[[#This Row],[Alias]],#REF!,2,FALSE)","v":{"$error":"#REF!"}},null,"ACV784941","ISOLANT KERANAP 342X195X12MM PORTE HM100BG"]
["ACV784995",null,"ISOLATION PORTE DELTA",null,null,{"$f":"LEFT(Catalogue[[#This Row],[Référence]],3)","v":"ACV"},{"$f":"VLOOKUP(Catalogue[[#This Row],[Alias]],#REF!,2,FALSE)","v":{"$error":"#REF!"}},null,"ACV784995","ISOLATION PORTE DELTA"]
["ACV785087",null,"ELECTRODE BG100-DELTA",null,null,{"$f":"LEFT(Catalogue[[#This Row],[Référence]],3)","v":"ACV"},{"$f":"VLOOKUP(Catalogue[[#This Row],[Alias]],#REF!,2,FALSE)","v":{"$error":"#REF!"}},null,"ACV785087","ELECTRODE BG100-DELTA"]
["ACV785094",null,"CABLE TOD L.1750",null,null,{"$f":"LEFT(Catalogue[[#This Row],[Référence]],3)","v":"ACV"},{"$f":"VLOOKUP(Catalogue[[#This Row],[Alias]],#REF!,2,FALSE)","v":{"$error":"#REF!"}},null,"ACV785094","CABLE TOD L.1750"]
["ACV785275",null,"SOUPAPE 3B IN DIAM1/2",null,null,{"$f":"LEFT(Catalogue[[#This Row],[Référence]],3)","v":"ACV"},{"$f":"VLOOKUP(Catalogue[[#This Row],[Alias]],#REF!,2,FALSE)","v":{"$error":"#REF!"}},null,"ACV785275","SOUPAPE 3B IN DIAM1/2"]
["ACV785427",null,"VENTILATEUR KK HR/HRE",null,null,{"$f":"LEFT(Catalogue[[#This Row],[Référence]],3)","v":"ACV"},{"$f":"VLOOKUP(Catalogue[[#This Row],[Alias]],#REF!,2,FALSE)","v":{"$error":"#REF!"}},null,"ACV785427","VENTILATEUR KK HR/HRE"]
["ACV785429",null,"CABLE ALLUMAGE HR",null,null,{"$f":"LEFT(Catalogue[[#This Row],[Référence]],3)","v":"ACV"},{"$f":"VLOOKUP(Catalogue[[#This Row],[Alias]],#REF!,2,FALSE)","v":{"$error":"#REF!"}},null,"ACV785429","CABLE ALLUMAGE HR"]
["ACV785508",null,"SONDE SANITAIRE NTC3",null,null,{"$f":"LEFT(Catalogue[[#This Row],[Référence]],3)","v":"ACV"},{"$f":"VLOOKUP(Catalogue[[#This Row],[Alias]],#REF!,2,FALSE)","v":{"$error":"#REF!"}},null,"ACV785508","SONDE SANITAIRE NTC3"]
["ACV785510",null,"NTC 12K OHM 15MM",null,null,{"$f":"LEFT(Catalogue[[#This Row],[Référence]],3)","v":"ACV"},{"$f":"VLOOKUP(Catalogue[[#This Row],[Alias]],#REF!,2,FALSE)","v":{"$error":"#REF!"}},null,"ACV785510","NTC 12K OHM 15MM"]
["ACV785511",null,"ELECTRODE ALLUMAGE",null,null,{"$f":"LEFT(Catalogue[[#This Row],[Référence]],3)","v":"ACV"},{"$f":"VLOOKUP(Catalogue[[#This Row],[Alias]],#REF!,2,FALSE)","v":{"$error":"#REF!"}},null,"ACV785511","ELECTRODE ALLUMAGE"]
["ACV785593",null,"SOUPAPE DE SECURITE 3B PCW6",null,null,{"$f":"LEFT(Catalogue[[#This Row],[Référence]],3)","v":"ACV"},{"$f":"VLOOKUP(Catalogue[[#This Row],[Alias]],#REF!,2,FALSE)","v":{"$error":"#REF!"}},null,"ACV785593","SOUPAPE DE SECURITE 3B PCW6"]
["ACV785624",null,"FLEXIBLE RACCORD VASE HR 36/30",null,null,{"$f":"LEFT(Catalogue[[#This Row],[Référence]],3)","v":"ACV"},{"$f":"VLOOKUP(Catalogue[[#This Row],[Alias]],#REF!,2,FALSE)","v":{"$error":"#REF!"}},null,"ACV785624","FLEXIBLE RACCORD VASE HR 36/30"]
["ACV785681",null,"BAC DISOLATION KOMBI HR 36/30",null,null,{"$f":"LEFT(Catalogue[[#This Row],[Référence]],3)","v":"ACV"},{"$f":"VLOOKUP(Catalogue[[#This Row],[Alias]],#REF!,2,FALSE)","v":{"$error":"#REF!"}},null,"ACV785681","BAC DISOLATION KOMBI HR 36/30"]
["ACV786091",null,"DISPLAY POUR REGULATION MCBA",null,null,{"$f":"LEFT(Catalogue[[#This Row],[Référence]],3)","v":"ACV"},{"$f":"VLOOKUP(Catalogue[[#This Row],[Alias]],#REF!,2,FALSE)","v":{"$error":"#REF!"}},null,"ACV786091","DISPLAY POUR REGULATION MCBA"]
["ACV786102",null,"RECTIFICATEUR 24V L.1260",null,null,{"$f":"LEFT(Catalogue[[#This Row],[Référence]],3)","v":"ACV"},{"$f":"VLOOKUP(Catalogue[[#This Row],[Alias]],#REF!,2,FALSE)","v":{"$error":"#REF!"}},null,"ACV786102","RECTIFICATEUR 24V L.1260"]
["ACV786104",null,"VENTILATEUR 24V",null,null,{"$f":"LEFT(Catalogue[[#This Row],[Référence]],3)","v":"ACV"},{"$f":"VLOOKUP(Catalogue[[#This Row],[Alias]],#REF!,2,FALSE)","v":{"$error":"#REF!"}},null,"ACV786104","VENTILATEUR 24V"]
["ACV786113",null,"VENTIL.NRG118-3612 P24-32 V14",null,null,{"$f":"LEFT(Catalogue[[#This Row],[Référence]],3)","v":"ACV"},{"$f":"VLOOKUP(Catalogue[[#This Row],[Alias]],#REF!,2,FALSE)","v":{"$error":"#REF!"}},null,"ACV786113","VENTIL.NRG118-3612 P24-32 V14"]
["ACV786129",null,"VENTURI VF",null,null,{"$f":"LEFT(Catalogue[[#This Row],[Référence]],3)","v":"ACV"},{"$f":"VLOOKUP(Catalogue[[#This Row],[Alias]],#REF!,2,FALSE)","v":{"$error":"#REF!"}},null,"ACV786129","VENTURI VF"]
["ACV786130",null,"VANNE GAZ VK8115V1036B",null,null,{"$f":"LEFT(Catalogue[[#This Row],[Référence]],3)","v":"ACV"},{"$f":"VLOOKUP(Catalogue[[#This Row],[Alias]],#REF!,2,FALSE)","v":{"$error":"#REF!"}},null,"ACV786130","VANNE GAZ VK8115V1036B"]
["ACV786131",null,"VENTURI VF002",null,null,{"$f":"LEFT(Catalogue[[#This Row],[Référence]],3)","v":"ACV"},{"$f":"VLOOKUP(Catalogue[[#This Row],[Alias]],#REF!,2,FALSE)","v":{"$error":"#REF!"}},null,"ACV786131","VENTURI VF002"]
["ACV786234",null,"FLEXIBLE MASTER NEO DIAM80",null,null,{"$f":"LEFT(Catalogue[[#This Row],[Référence]],3)","v":"ACV"},{"$f":"VLOOKUP(Catalogue[[#This Row],[Alias]],#REF!,2,FALSE)","v":{"$error":"#REF!"}},null,"ACV786234","FLEXIBLE MASTER NEO DIAM80"]
["ACV786438",null,"ELECTRODE DOUBLE L.215MM",null,null,{"$f":"LEFT(Catalogue[[#This Row],[Référence]],3)","v":"ACV"},{"$f":"VLOOKUP(Catalogue[[#This Row],[Alias]],#REF!,2,FALSE)","v":{"$error":"#REF!"}},null,"ACV786438","ELECTRODE DOUBLE L.215MM"]
["ACV786439",null,"ELECTRODE PLIEE",null,null,{"$f":"LEFT(Catalogue[[#This Row],[Référence]],3)","v":"ACV"},{"$f":"VLOOKUP(Catalogue[[#This Row],[Alias]],#REF!,2,FALSE)","v":{"$error":"#REF!"}},null,"ACV786439","ELECTRODE PLIEE"]
["ACV786492",null,"SONDE NTC 5X18 12K",null,null,{"$f":"LEFT(Catalogue[[#This Row],[Référence]],3)","v":"ACV"},{"$f":"VLOOKUP(Catalogue[[#This Row],[Alias]],#REF!,2,FALSE)","v":{"$error":"#REF!"}},null,"ACV786492","SONDE NTC 5X18 12K"]
["ACV786498",null,"MCBA PRESTIGE 24 EXCELLENCE GAZ PROPANE",null,null,{"$f":"LEFT(Catalogue[[#This Row],[Référence]],3)","v":"ACV"},{"$f":"VLOOKUP(Catalogue[[#This Row],[Alias]],#REF!,2,FALSE)","v":{"$error":"#REF!"}},null,"ACV786498","MCBA PRESTIGE 24 EXCELLENCE GAZ PROPANE"]
["ACV786502",null,"MCBA PRESTIGE 32 EXCELLENCE GAZ PROPANE",null,null,{"$f":"LEFT(Catalogue[[#This Row],[Référence]],3)","v":"ACV"},{"$f":"VLOOKUP(Catalogue[[#This Row],[Alias]],#REF!,2,FALSE)","v":{"$error":"#REF!"}},null,"ACV786502","MCBA PRESTIGE 32 EXCELLENCE GAZ PROPANE"]
["ACV786514",null,"MCBA HEAT MASTER 35TC GAZ NATUREL",null,null,{"$f":"LEFT(Catalogue[[#This Row],[Référence]],3)","v":"ACV"},{"$f":"VLOOKUP(Catalogue[[#This Row],[Alias]],#REF!,2,FALSE)","v":{"$error":"#REF!"}},null,"ACV786514","MCBA HEAT MASTER 35TC GAZ NATUREL"]
["ACV786524",null,"SONDE NTC12 KV D5X50",null,null,{"$f":"LEFT(Catalogue[[#This Row],[Référence]],3)","v":"ACV"},{"$f":"VLOOKUP(Catalogue[[#This Row],[Alias]],#REF!,2,FALSE)","v":{"$error":"#REF!"}},null,"ACV786524","SONDE NTC12 KV D5X50"]
["ACV786562",null,"TRANSFORMATEUR 230/24V 72VA+ CABLE 35CM MCBA",null,null,{"$f":"LEFT(Catalogue[[#This Row],[Référence]],3)","v":"ACV"},{"$f":"VLOOKUP(Catalogue[[#This Row],[Alias]],#REF!,2,FALSE)","v":{"$error":"#REF!"}},null,"ACV786562","TRANSFORMATEUR 230/24V 72VA+ CABLE 35CM MCBA"]
["ACV786700",null,"CIRCULATEUR WILO 25/06-3",null,null,{"$f":"LEFT(Catalogue[[#This Row],[Référence]],3)","v":"ACV"},{"$f":"VLOOKUP(Catalogue[[#This Row],[Alias]],#REF!,2,FALSE)","v":{"$error":"#REF!"}},null,"ACV786700","CIRCULATEUR WILO 25/06-3"]
["ACV786837",null,"SOUPAPE SECURITE 8B 3/4 SANIT",null,null,{"$f":"LEFT(Catalogue[[#This Row],[Référence]],3)","v":"ACV"},{"$f":"VLOOKUP(Catalogue[[#This Row],[Alias]],#REF!,2,FALSE)","v":{"$error":"#REF!"}},null,"ACV786837","SOUPAPE SECURITE 8B 3/4 SANIT"]
["ACV787214",null,"ISOLATION 2 EN 1 30 60 100 DELTA",null,null,{"$f":"LEFT(Catalogue[[#This Row],[Référence]],3)","v":"ACV"},{"$f":"VLOOKUP(Catalogue[[#This Row],[Alias]],#REF!,2,FALSE)","v":{"$error":"#REF!"}},null,"ACV787214","ISOLATION 2 EN 1 30 60 100 DELTA"]
["ACV787426",null,"ISOLANT PRESTIGE 24",null,null,{"$f":"LEFT(Catalogue[[#This Row],[Référence]],3)","v":"ACV"},{"$f":"VLOOKUP(Catalogue[[#This Row],[Alias]],#REF!,2,FALSE)","v":{"$error":"#REF!"}},null,"ACV787426","ISOLANT PRESTIGE 24"]
["ACV90448025",null,"KIT THERMOSTATS LCA",null,null,{"$f":"LEFT(Catalogue[[#This Row],[Référence]],3)","v":"ACV"},{"$f":"VLOOKUP(Catalogue[[#This Row],[Alias]],#REF!,2,FALSE)","v":{"$error":"#REF!"}},null,"ACV90448025","KIT THERMOSTATS LCA"]
["ACV90448195",null,"90448195/AC KIT 3 ANODES CUVE",null,null,{"$f":"LEFT(Catalogue[[#This Row],[Référence]],3)","v":"ACV"},{"$f":"VLOOKUP(Catalogue[[#This Row],[Alias]],#REF!,2,FALSE)","v":{"$error":"#REF!"}},null,"ACV90448195","90448195/AC KIT 3 ANODES CUVE"]
["ACV91074367",null,"AUTOMATE POUR K HR FC 05/04/2018",null,null,{"$f":"LEFT(Catalogue[[#This Row],[Référence]],3)","v":"ACV"},{"$f":"VLOOKUP(Catalogue[[#This Row],[Alias]],#REF!,2,FALSE)","v":{"$error":"#REF!"}},null,"ACV91074367","AUTOMATE POUR K HR FC 05/04/2018"]
["ACV91074377",null,"AUTOMATE CW6",null,null,{"$f":"LEFT(Catalogue[[#This Row],[Référence]],3)","v":"ACV"},{"$f":"VLOOKUP(Catalogue[[#This Row],[Alias]],#REF!,2,FALSE)","v":{"$error":"#REF!"}},null,"ACV91074377","AUTOMATE CW6"]
["ACV91074397",null,"VENTILATEUR POUR HR",null,null,{"$f":"LEFT(Catalogue[[#This Row],[Référence]],3)","v":"ACV"},{"$f":"VLOOKUP(Catalogue[[#This Row],[Alias]],#REF!,2,FALSE)","v":{"$error":"#REF!"}},null,"ACV91074397","VENTILATEUR POUR HR"]
["ACV91074397S","Non concerné","VENTILATEUR POUR HR",50,2000007350823,{"$f":"LEFT(Catalogue[[#This Row],[Référence]],3)","v":"ACV"},{"$f":"VLOOKUP(Catalogue[[#This Row],[Alias]],#REF!,2,FALSE)","v":{"$error":"#REF!"}},null,"ACV91074397S","VENTILATEUR POUR HR"]
["ACV91074397S",null,"VENTILATEUR POUR HR",null,null,{"$f":"LEFT(Catalogue[[#This Row],[Référence]],3)","v":"ACV"},{"$f":"VLOOKUP(Catalogue[[#This Row],[Alias]],#REF!,2,FALSE)","v":{"$error":"#REF!"}},null,"ACV91074487","AUTOMATBRULEUR 1:1 KKHRE"]
["ACV91074487",null,"AUTOMATBRULEUR 1:1 KKHRE",null,null,{"$f":"LEFT(Catalogue[[#This Row],[Référence]],3)","v":"ACV"},{"$f":"VLOOKUP(Catalogue[[#This Row],[Alias]],#REF!,2,FALSE)","v":{"$error":"#REF!"}},null,"ACV91074977","KIT REMPLACMENT VANNE GAZ SIEM"]
["ACV91074977",null,"KIT REMPLACMENT VANNE GAZ SIEM",null,null,{"$f":"LEFT(Catalogue[[#This Row],[Référence]],3)","v":"ACV"},{"$f":"VLOOKUP(Catalogue[[#This Row],[Alias]],#REF!,2,FALSE)","v":{"$error":"#REF!"}},null,"ACV91074987","ALLUMEUR"]
["ACV91074987",null,"ALLUMEUR",null,null,{"$f":"LEFT(Catalogue[[#This Row],[Référence]],3)","v":"ACV"},{"$f":"VLOOKUP(Catalogue[[#This Row],[Alias]],#REF!,2,FALSE)","v":{"$error":"#REF!"}},null,"ACV91200117","SONDE NTC 1 OU 2"]
["ACV91200117",null,"SONDE NTC 1 OU 2",null,null,{"$f":"LEFT(Catalogue[[#This Row],[Référence]],3)","v":"ACV"},{"$f":"VLOOKUP(Catalogue[[#This Row],[Alias]],#REF!,2,FALSE)","v":{"$error":"#REF!"}},null,"ACV91200127","I200127/AC SONDE SANITAIRE NTC"]
["ACV91200127",null,"I200127/AC SONDE SANITAIRE NTC",null,null,{"$f":"LEFT(Catalogue[[#This Row],[Référence]],3)","v":"ACV"},{"$f":"VLOOKUP(Catalogue[[#This Row],[Alias]],#REF!,2,FALSE)","v":{"$error":"#REF!"}},null,"ACV91200137","SONDE BALLON PCW6"]
["ACV91200137",null,"SONDE BALLON PCW6",null,null,{"$f":"LEFT(Catalogue[[#This Row],[Référence]],3)","v":"ACV"},{"$f":"VLOOKUP(Catalogue[[#This Row],[Alias]],#REF!,2,FALSE)","v":{"$error":"#REF!"}},null,"ACV91200177","SONDE SANITAIRE NTC 12K OHM 15"]
["ACV91200177",null,"SONDE SANITAIRE NTC 12K OHM 15",null,null,{"$f":"LEFT(Catalogue[[#This Row],[Référence]],3)","v":"ACV"},{"$f":"VLOOKUP(Catalogue[[#This Row],[Alias]],#REF!,2,FALSE)","v":{"$error":"#REF!"}},null,"ACV91209327","ELECTRODE ALLUMAGE"]
["ACV91209327",null,"ELECTRODE ALLUMAGE",null,null,{"$f":"LEFT(Catalogue[[#This Row],[Référence]],3)","v":"ACV"},{"$f":"VLOOKUP(Catalogue[[#This Row],[Alias]],#REF!,2,FALSE)","v":{"$error":"#REF!"}},null,"ACV91210177","CIRCULATEUR 1 PR HR"]
["ACV91210177",null,"CIRCULATEUR 1 PR HR",null,null,{"$f":"LEFT(Catalogue[[#This Row],[Référence]],3)","v":"ACV"},{"$f":"VLOOKUP(Catalogue[[#This Row],[Alias]],#REF!,2,FALSE)","v":{"$error":"#REF!"}},null,"ACV91210217","CIRCULATEUR ECS 1 PCW6"]
["ACV91210217",null,"CIRCULATEUR ECS 1 PCW6",null,null,{"$f":"LEFT(Catalogue[[#This Row],[Référence]],3)","v":"ACV"},{"$f":"VLOOKUP(Catalogue[[#This Row],[Alias]],#REF!,2,FALSE)","v":{"$error":"#REF!"}},null,"ACV91801407","TSFO ALLUMAGE SIT PR HR FC 29/01/2018"]
["ACV91801407",null,"TSFO ALLUMAGE SIT PR HR FC 29/01/2018",null,null,{"$f":"LEFT(Catalogue[[#This Row],[Référence]],3)","v":"ACV"},{"$f":"VLOOKUP(Catalogue[[#This Row],[Alias]],#REF!,2,FALSE)","v":{"$error":"#REF!"}},null,"ACV91801417","BLOC GAZ SIT"]
["ACV91801417",null,"BLOC GAZ SIT",null,null,{"$f":"LEFT(Catalogue[[#This Row],[Référence]],3)","v":"ACV"},{"$f":"VLOOKUP(Catalogue[[#This Row],[Alias]],#REF!,2,FALSE)","v":{"$error":"#REF!"}},null,"ACV91801477","TSFO ALLUMAGE SIEMENS HR"]
["ACV91801477",null,{"$f":"VLOOKUP(A1026,I:J,2,0)","v":"TSFO ALLUMAGE SIEMENS HR"},null,null,{"$f":"LEFT(Catalogue[[#This Row],[Référence]],3)","v":"ACV"},{"$f":"VLOOKUP(Catalogue[[#This Row],[Alias]],#REF!,2,FALSE)","v":{"$error":"#REF!"}},null,"ACV91801487","TSFO ALLUMAGESIEMENS PCW"]
["ACV91801487",null,"TSFO ALLUMAGESIEMENS PCW",null,null,{"$f":"LEFT(Catalogue[[#This Row],[Référence]],3)","v":"ACV"},{"$f":"VLOOKUP(Catalogue[[#This Row],[Alias]],#REF!,2,FALSE)","v":{"$error":"#REF!"}},null,"ACV91801527","Vanne gaz Siemens Smart ( vend"]
["ACV91801527",null,"Vanne gaz Siemens Smart ( vend",null,null,{"$f":"LEFT(Catalogue[[#This Row],[Référence]],3)","v":"ACV"},{"$f":"VLOOKUP(Catalogue[[#This Row],[Alias]],#REF!,2,FALSE)","v":{"$error":"#REF!"}},null,"ACV91842167","VANNE DEVIATRICE PCW6"]
["ACV91842167",null,"VANNE DEVIATRICE PCW6",null,null,{"$f":"LEFT(Catalogue[[#This Row],[Référence]],3)","v":"ACV"},{"$f":"VLOOKUP(Catalogue[[#This Row],[Alias]],#REF!,2,FALSE)","v":{"$error":"#REF!"}},null,"ACV91842177","VANNE THERMOSTATIC PCW6"]
["ACV91842177",null,"VANNE THERMOSTATIC PCW6",null,null,{"$f":"LEFT(Catalogue[[#This Row],[Référence]],3)","v":"ACV"},{"$f":"VLOOKUP(Catalogue[[#This Row],[Alias]],#REF!,2,FALSE)","v":{"$error":"#REF!"}},null,"ACV91844267","91844267/AC DEBISTAT 2L SIKA V"]
["ACV91844267",null,"91844267/AC DEBISTAT 2L SIKA V",null,null,{"$f":"LEFT(Catalogue[[#This Row],[Référence]],3)","v":"ACV"},{"$f":"VLOOKUP(Catalogue[[#This Row],[Alias]],#REF!,2,FALSE)","v":{"$error":"#REF!"}},null,"ACV91844417","SOUPAPE DE SECURITE  3BARS PCW"]
["ACV91844417",null,"SOUPAPE DE SECURITE  3BARS PCW",null,null,{"$f":"LEFT(Catalogue[[#This Row],[Référence]],3)","v":"ACV"},{"$f":"VLOOKUP(Catalogue[[#This Row],[Alias]],#REF!,2,FALSE)","v":{"$error":"#REF!"}},null,"ACV91844427","GROUPE 8 BAR POUR PCW6"]
["ACV91844427",null,"GROUPE 8 BAR POUR PCW6",null,null,{"$f":"LEFT(Catalogue[[#This Row],[Référence]],3)","v":"ACV"},{"$f":"VLOOKUP(Catalogue[[#This Row],[Alias]],#REF!,2,FALSE)","v":{"$error":"#REF!"}},null,"ACV91845217","CLAPET ANTI RETOUR PCW6"]
["ACV91845217",null,"CLAPET ANTI RETOUR PCW6",null,null,{"$f":"LEFT(Catalogue[[#This Row],[Référence]],3)","v":"ACV"},{"$f":"VLOOKUP(Catalogue[[#This Row],[Alias]],#REF!,2,FALSE)","v":{"$error":"#REF!"}},null,"ACV91864037","MANOMETRE PR HR"]
["ACV91864037",null,"MANOMETRE PR HR",null,null,{"$f":"LEFT(Catalogue[[#This Row],[Référence]],3)","v":"ACV"},{"$f":"VLOOKUP(Catalogue[[#This Row],[Alias]],#REF!,2,FALSE)","v":{"$error":"#REF!"}},null,"ACV91864047","CLAPET MANOMETRE KOMPAKT"]
["ACV91864047",null,"CLAPET MANOMETRE KOMPAKT",null,null,{"$f":"LEFT(Catalogue[[#This Row],[Référence]],3)","v":"ACV"},{"$f":"VLOOKUP(Catalogue[[#This Row],[Alias]],#REF!,2,FALSE)","v":{"$error":"#REF!"}},null,"ACV91864067","VASE EXPANSION 6L 3/8"]
["ACV91864067",null,"VASE EXPANSION 6L 3/8",null,null,{"$f":"LEFT(Catalogue[[#This Row],[Référence]],3)","v":"ACV"},{"$f":"VLOOKUP(Catalogue[[#This Row],[Alias]],#REF!,2,FALSE)","v":{"$error":"#REF!"}},null,"ACV91864087","CAPTEUR DE PRESSION"]
["ACV91864087",null,"CAPTEUR DE PRESSION",null,null,{"$f":"LEFT(Catalogue[[#This Row],[Référence]],3)","v":"ACV"},{"$f":"VLOOKUP(Catalogue[[#This Row],[Alias]],#REF!,2,FALSE)","v":{"$error":"#REF!"}},null,"ACV91875567","JOINT POMPE 1"]
["ACV91875567",null,"JOINT POMPE 1",null,null,{"$f":"LEFT(Catalogue[[#This Row],[Référence]],3)","v":"ACV"},{"$f":"VLOOKUP(Catalogue[[#This Row],[Alias]],#REF!,2,FALSE)","v":{"$error":"#REF!"}},null,"ACV91875637","JOINT TORIQUE 28 , 25X"]
["ACV91875637",null,"JOINT TORIQUE 28 , 25X",null,null,{"$f":"LEFT(Catalogue[[#This Row],[Référence]],3)","v":"ACV"},{"$f":"VLOOKUP(Catalogue[[#This Row],[Alias]],#REF!,2,FALSE)","v":{"$error":"#REF!"}},null,"ACV91875677","JOINT ELECTRODE PR HR"]
["ACV91875677",null,"JOINT ELECTRODE PR HR",null,null,{"$f":"LEFT(Catalogue[[#This Row],[Référence]],3)","v":"ACV"},{"$f":"VLOOKUP(Catalogue[[#This Row],[Alias]],#REF!,2,FALSE)","v":{"$error":"#REF!"}},null,"ACV91876467","JOINT PLAQUE"]
["ACV91876467",null,"JOINT PLAQUE",null,null,{"$f":"LEFT(Catalogue[[#This Row],[Référence]],3)","v":"ACV"},{"$f":"VLOOKUP(Catalogue[[#This Row],[Alias]],#REF!,2,FALSE)","v":{"$error":"#REF!"}},null,"ACV91876597","JOINT COUV ECHGR KK36/30"]
["ACV91876597",null,"JOINT COUV ECHGR KK36/30",null,null,{"$f":"LEFT(Catalogue[[#This Row],[Référence]],3)","v":"ACV"},{"$f":"VLOOKUP(Catalogue[[#This Row],[Alias]],#REF!,2,FALSE)","v":{"$error":"#REF!"}},null,"ACV91877807","JOINT VENTILATEUR"]
["ACV91877807",null,"JOINT VENTILATEUR",null,null,{"$f":"LEFT(Catalogue[[#This Row],[Référence]],3)","v":"ACV"},{"$f":"VLOOKUP(Catalogue[[#This Row],[Alias]],#REF!,2,FALSE)","v":{"$error":"#REF!"}},null,"ACV91877817","JOINT BOITE FUMEE PR HR"]
["ACV91877817",null,"JOINT BOITE FUMEE PR HR",null,null,{"$f":"LEFT(Catalogue[[#This Row],[Référence]],3)","v":"ACV"},{"$f":"VLOOKUP(Catalogue[[#This Row],[Alias]],#REF!,2,FALSE)","v":{"$error":"#REF!"}},null,"ACV91877847","JOINT DE BRULEUR PR HR"]
["ACV91877847",null,"JOINT DE BRULEUR PR HR",null,null,{"$f":"LEFT(Catalogue[[#This Row],[Référence]],3)","v":"ACV"},{"$f":"VLOOKUP(Catalogue[[#This Row],[Alias]],#REF!,2,FALSE)","v":{"$error":"#REF!"}},null,"ACV91877927","JOINT COUV ECHGR KK28/24"]
["ACV91877927",null,"JOINT COUV ECHGR KK28/24",null,null,{"$f":"LEFT(Catalogue[[#This Row],[Référence]],3)","v":"ACV"},{"$f":"VLOOKUP(Catalogue[[#This Row],[Alias]],#REF!,2,FALSE)","v":{"$error":"#REF!"}},null,"ACVA1002029","SONDE NTC 12 K OHM SONDE EXTERIEURE"]
["ACVA1002029",null,"SONDE NTC 12 K OHM SONDE EXTERIEURE",null,null,{"$f":"LEFT(Catalogue[[#This Row],[Référence]],3)","v":"ACV"},{"$f":"VLOOKUP(Catalogue[[#This Row],[Alias]],#REF!,2,FALSE)","v":{"$error":"#REF!"}},null,"ACVA1002098","DISPLAY BOARD VERSION C256K"]
["ACVA1002098",null,"DISPLAY BOARD VERSION C256K",null,null,{"$f":"LEFT(Catalogue[[#This Row],[Référence]],3)","v":"ACV"},{"$f":"VLOOKUP(Catalogue[[#This Row],[Alias]],#REF!,2,FALSE)","v":{"$error":"#REF!"}},null,"ACVA1002100","THERM DE SEC A REAM"]
["ACVA1002100",null,"THERM DE SEC A REAM",null,null,{"$f":"LEFT(Catalogue[[#This Row],[Référence]],3)","v":"ACV"},{"$f":"VLOOKUP(Catalogue[[#This Row],[Alias]],#REF!,2,FALSE)","v":{"$error":"#REF!"}},null,"ACVA1002168","CIRCULATEUR UPS2 25-60 L180 G6"]
["ACVA1002168",null,"CIRCULATEUR UPS2 25-60 L180 G6",null,null,{"$f":"LEFT(Catalogue[[#This Row],[Référence]],3)","v":"ACV"},{"$f":"VLOOKUP(Catalogue[[#This Row],[Alias]],#REF!,2,FALSE)","v":{"$error":"#REF!"}},null,"ACVA1002184","AUTOMATE BRULEUR IC3 HR ECO FC 24/10/2017"]
["ACVA1002184",null,"AUTOMATE BRULEUR IC3 HR ECO FC 24/10/2017",null,null,{"$f":"LEFT(Catalogue[[#This Row],[Référence]],3)","v":"ACV"},{"$f":"VLOOKUP(Catalogue[[#This Row],[Alias]],#REF!,2,FALSE)","v":{"$error":"#REF!"}},null,"ACVA1002406","ISOL BRULEUR 20MM PREST 24-32"]
["ACVA1002406",null,"ISOL BRULEUR 20MM PREST 24-32",null,null,{"$f":"LEFT(Catalogue[[#This Row],[Référence]],3)","v":"ACV"},{"$f":"VLOOKUP(Catalogue[[#This Row],[Alias]],#REF!,2,FALSE)","v":{"$error":"#REF!"}},null,"ACVA1002429","ISOLANT PORTE BRULEUR"]
["ACVA1002429",null,"ISOLANT PORTE BRULEUR",null,null,{"$f":"LEFT(Catalogue[[#This Row],[Référence]],3)","v":"ACV"},{"$f":"VLOOKUP(Catalogue[[#This Row],[Alias]],#REF!,2,FALSE)","v":{"$error":"#REF!"}},null,"ACVA1002510","KIT ELECTRODE P24-32-100-120 V"]
["ACVA1002510",null,"KIT ELECTRODE P24-32-100-120 V",null,null,{"$f":"LEFT(Catalogue[[#This Row],[Référence]],3)","v":"ACV"},{"$f":"VLOOKUP(Catalogue[[#This Row],[Alias]],#REF!,2,FALSE)","v":{"$error":"#REF!"}},null,"ACVA1002747","PRESSOST.MANQUE EAU 1/4 CEME"]
["ACVA1002747",null,"PRESSOST.MANQUE EAU 1/4 CEME",null,null,{"$f":"LEFT(Catalogue[[#This Row],[Référence]],3)","v":"ACV"},{"$f":"VLOOKUP(Catalogue[[#This Row],[Alias]],#REF!,2,FALSE)","v":{"$error":"#REF!"}},null,"ACVA1003132","SIPHON A BILLE DH50 + BAGUE + JT"]
["ACVA1003132",null,"SIPHON A BILLE DH50 + BAGUE + JT",null,null,{"$f":"LEFT(Catalogue[[#This Row],[Référence]],3)","v":"ACV"},{"$f":"VLOOKUP(Catalogue[[#This Row],[Alias]],#REF!,2,FALSE)","v":{"$error":"#REF!"}},null,"ACVA1003191","KIT PRESSOSTAT 220V"]
["ACVA1003191",null,"KIT PRESSOSTAT 220V",null,null,{"$f":"LEFT(Catalogue[[#This Row],[Référence]],3)","v":"ACV"},{"$f":"VLOOKUP(Catalogue[[#This Row],[Alias]],#REF!,2,FALSE)","v":{"$error":"#REF!"}},null,"ACVA1003520","ISOLATION 2 EN 1 30 60 100 DELTA"]
["ACVA1003520",null,"ISOLATION 2 EN 1 30 60 100 DELTA",null,null,{"$f":"LEFT(Catalogue[[#This Row],[Référence]],3)","v":"ACV"},{"$f":"VLOOKUP(Catalogue[[#This Row],[Alias]],#REF!,2,FALSE)","v":{"$error":"#REF!"}},null,"ACVA1003579","CIRCUL.UPM3 15-75 L130 G1"]
["ACVA1003579",null,"CIRCUL.UPM3 15-75 L130 G1",null,null,{"$f":"LEFT(Catalogue[[#This Row],[Référence]],3)","v":"ACV"},{"$f":"VLOOKUP(Catalogue[[#This Row],[Alias]],#REF!,2,FALSE)","v":{"$error":"#REF!"}},null,"ACVA1003599","CIRC.ACVMAX (E) S4962S3038B"]
["ACVA1003599",null,"CIRC.ACVMAX (E) S4962S3038B",null,null,{"$f":"LEFT(Catalogue[[#This Row],[Référence]],3)","v":"ACV"},{"$f":"VLOOKUP(Catalogue[[#This Row],[Alias]],#REF!,2,FALSE)","v":{"$error":"#REF!"}},null,"ACVA1004112","CIRCUL. UPM3 15-60 L130 G1 FONTE"]
["ACVA1004112",null,"CIRCUL. UPM3 15-60 L130 G1 FONTE",null,null,{"$f":"LEFT(Catalogue[[#This Row],[Référence]],3)","v":"ACV"},{"$f":"VLOOKUP(Catalogue[[#This Row],[Alias]],#REF!,2,FALSE)","v":{"$error":"#REF!"}},null,"ACVA1005061","ISO BRULEUR 20MM PREST24-32MK4"]
["ACVA1005061",null,"ISO BRULEUR 20MM PREST24-32MK4",null,null,{"$f":"LEFT(Catalogue[[#This Row],[Référence]],3)","v":"ACV"},{"$f":"VLOOKUP(Catalogue[[#This Row],[Alias]],#REF!,2,FALSE)","v":{"$error":"#REF!"}},null,"ACVA1005063","ISO BRULEUR 2IN1 PREST50-75MK4"]
["ACVA1005063",null,"ISO BRULEUR 2IN1 PREST50-75MK4",null,null,{"$f":"LEFT(Catalogue[[#This Row],[Référence]],3)","v":"ACV"},{"$f":"VLOOKUP(Catalogue[[#This Row],[Alias]],#REF!,2,FALSE)","v":{"$error":"#REF!"}},null,"ACVA1005068","ISO BRULEUR 2IN1 PRETIGE 24-32 MK2"]
["ACVA1005068",null,"ISO BRULEUR 2IN1 PRETIGE 24-32 MK2",null,null,{"$f":"LEFT(Catalogue[[#This Row],[Référence]],3)","v":"ACV"},{"$f":"VLOOKUP(Catalogue[[#This Row],[Alias]],#REF!,2,FALSE)","v":{"$error":"#REF!"}},null,"ACVA1005072","ISO PORTE BRULEUR SO TC MK4"]
["ACVA1005072",null,"ISO PORTE BRULEUR SO TC MK4",null,null,{"$f":"LEFT(Catalogue[[#This Row],[Référence]],3)","v":"ACV"},{"$f":"VLOOKUP(Catalogue[[#This Row],[Alias]],#REF!,2,FALSE)","v":{"$error":"#REF!"}},null,"ACVA1005375","SOUPAPE SECUR.3BAR HYDROSMART P.MK3"]
["ACVA1005375",null,"SOUPAPE SECUR.3BAR HYDROSMART P.MK3",null,null,{"$f":"LEFT(Catalogue[[#This Row],[Référence]],3)","v":"ACV"},{"$f":"VLOOKUP(Catalogue[[#This Row],[Alias]],#REF!,2,FALSE)","v":{"$error":"#REF!"}},null,"ACVFR3391094","JOINT DN80 HTE TEMP FUEL"]
["ACVFR3391094",null,"JOINT DN80 HTE TEMP FUEL",null,null,{"$f":"LEFT(Catalogue[[#This Row],[Référence]],3)","v":"ACV"},{"$f":"VLOOKUP(Catalogue[[#This Row],[Alias]],#REF!,2,FALSE)","v":{"$error":"#REF!"}},null,"ACVFR710059","JOINT DN125 GAZ  CONDENS"]
["ACVFR710059",null,"JOINT DN125 GAZ  CONDENS",null,null,{"$f":"LEFT(Catalogue[[#This Row],[Référence]],3)","v":"ACV"},{"$f":"VLOOKUP(Catalogue[[#This Row],[Alias]],#REF!,2,FALSE)","v":{"$error":"#REF!"}},null,"ACVFR710945","JOIN DN 125 AIR FRAIS"]
["ACVFR710945",null,"JOIN DN 125 AIR FRAIS",null,null,{"$f":"LEFT(Catalogue[[#This Row],[Référence]],3)","v":"ACV"},{"$f":"VLOOKUP(Catalogue[[#This Row],[Alias]],#REF!,2,FALSE)","v":{"$error":"#REF!"}},null,"ACVI842177","VANNE THERMOSTATIC PCW6"]
["ACVI842177",null,"VANNE THERMOSTATIC PCW6",null,null,{"$f":"LEFT(Catalogue[[#This Row],[Référence]],3)","v":"ACV"},{"$f":"VLOOKUP(Catalogue[[#This Row],[Alias]],#REF!,2,FALSE)","v":{"$error":"#REF!"}},null,"ACVI844267","DEBISTAT 2L"]
["ACVI844267",null,"DEBISTAT 2L",null,null,{"$f":"LEFT(Catalogue[[#This Row],[Référence]],3)","v":"ACV"},{"$f":"VLOOKUP(Catalogue[[#This Row],[Alias]],#REF!,2,FALSE)","v":{"$error":"#REF!"}},null,"AEL009134","KIT TRI 400V ATLANTIC"]
["AEL009134",null,"KIT TRI 400V ATLANTIC",null,null,{"$f":"LEFT(Catalogue[[#This Row],[Référence]],3)","v":"AEL"},{"$f":"VLOOKUP(Catalogue[[#This Row],[Alias]],#REF!,2,FALSE)","v":{"$error":"#REF!"}},null,"AEL021107","CHAUFFEO VM 075L 1200M"]
["AEL021107",null,"CHAUFFEO VM 075L 1200M",null,null,{"$f":"LEFT(Catalogue[[#This Row],[Référence]],3)","v":"AEL"},{"$f":"VLOOKUP(Catalogue[[#This Row],[Alias]],#REF!,2,FALSE)","v":{"$error":"#REF!"}},null,"AEL021110","CHAUFFEO VM 100L 1200M"]
["AEL021110",null,"CHAUFFEO VM 100L 1200M",null,null,{"$f":"LEFT(Catalogue[[#This Row],[Référence]],3)","v":"AEL"},{"$f":"VLOOKUP(Catalogue[[#This Row],[Alias]],#REF!,2,FALSE)","v":{"$error":"#REF!"}},null,"AEL021113","CHAUFFEO VM 075L 1200M"]
["AEL021113",null,"CHAUFFEO VM 075L 1200M",null,null,{"$f":"LEFT(Catalogue[[#This Row],[Référence]],3)","v":"AEL"},{"$f":"VLOOKUP(Catalogue[[#This Row],[Alias]],#REF!,2,FALSE)","v":{"$error":"#REF!"}},null,"AEL021114","CHAUFFEO VM 100L 1200M"]
["AEL021114",null,"CHAUFFEO VM 100L 1200M",null,null,{"$f":"LEFT(Catalogue[[#This Row],[Référence]],3)","v":"AEL"},{"$f":"VLOOKUP(Catalogue[[#This Row],[Alias]],#REF!,2,FALSE)","v":{"$error":"#REF!"}},null,"AEL021116","CHAUFFEO VM 150L 1600M"]
["AEL021116",null,"CHAUFFEO VM 150L 1600M",null,null,{"$f":"LEFT(Catalogue[[#This Row],[Référence]],3)","v":"AEL"},{"$f":"VLOOKUP(Catalogue[[#This Row],[Alias]],#REF!,2,FALSE)","v":{"$error":"#REF!"}},null,"AEL021117","CHAUFFEO VM 200L 2200M"]
["AEL021117",null,"CHAUFFEO VM 200L 2200M",null,null,{"$f":"LEFT(Catalogue[[#This Row],[Référence]],3)","v":"AEL"},{"$f":"VLOOKUP(Catalogue[[#This Row],[Alias]],#REF!,2,FALSE)","v":{"$error":"#REF!"}},null,"AEL021120","CHAUFFEO VM 200L 2200M"]
["AEL021120",null,"CHAUFFEO VM 200L 2200M",null,null,{"$f":"LEFT(Catalogue[[#This Row],[Référence]],3)","v":"AEL"},{"$f":"VLOOKUP(Catalogue[[#This Row],[Alias]],#REF!,2,FALSE)","v":{"$error":"#REF!"}},null,"AEL021220","CHAUFFEO COMP VM 200L 2200M"]
["AEL021220",null,"CHAUFFEO COMP VM 200L 2200M",null,null,{"$f":"LEFT(Catalogue[[#This Row],[Référence]],3)","v":"AEL"},{"$f":"VLOOKUP(Catalogue[[#This Row],[Alias]],#REF!,2,FALSE)","v":{"$error":"#REF!"}},null,"AEL021226","CHAUFFEO COMP VM 150L 1600M"]
["AEL021226",null,"CHAUFFEO COMP VM 150L 1600M",null,null,{"$f":"LEFT(Catalogue[[#This Row],[Référence]],3)","v":"AEL"},{"$f":"VLOOKUP(Catalogue[[#This Row],[Alias]],#REF!,2,FALSE)","v":{"$error":"#REF!"}},null,"AEL021227","CHAUFFEO COMP VM 200L 2200M"]
["AEL021227",null,"CHAUFFEO COMP VM 200L 2200M",null,null,{"$f":"LEFT(Catalogue[[#This Row],[Référence]],3)","v":"AEL"},{"$f":"VLOOKUP(Catalogue[[#This Row],[Alias]],#REF!,2,FALSE)","v":{"$error":"#REF!"}},null,"AEL022120","CHAUFFEO VS 200L 2200M"]
["AEL022120",null,"CHAUFFEO VS 200L 2200M",null,null,{"$f":"LEFT(Catalogue[[#This Row],[Référence]],3)","v":"AEL"},{"$f":"VLOOKUP(Catalogue[[#This Row],[Alias]],#REF!,2,FALSE)","v":{"$error":"#REF!"}},null,"AEL022121","CHAUFFEO VS 200L 2200M"]
["AEL022121",null,"CHAUFFEO VS 200L 2200M",null,null,{"$f":"LEFT(Catalogue[[#This Row],[Référence]],3)","v":"AEL"},{"$f":"VLOOKUP(Catalogue[[#This Row],[Alias]],#REF!,2,FALSE)","v":{"$error":"#REF!"}},null,"AEL022122","CHAUFFEO VS 300L 3000M"]
["AEL022122",null,"CHAUFFEO VS 300L 3000M",null,null,{"$f":"LEFT(Catalogue[[#This Row],[Référence]],3)","v":"AEL"},{"$f":"VLOOKUP(Catalogue[[#This Row],[Alias]],#REF!,2,FALSE)","v":{"$error":"#REF!"}},null,"AEL022266","CAPOT BLANC CONST. 416"]
["AEL022266",null,"CAPOT BLANC CONST. 416",null,null,{"$f":"LEFT(Catalogue[[#This Row],[Référence]],3)","v":"AEL"},{"$f":"VLOOKUP(Catalogue[[#This Row],[Alias]],#REF!,2,FALSE)","v":{"$error":"#REF!"}},null,"AEL022279","CAPOT BLANC"]
["AEL022279",null,"CAPOT BLANC",null,null,{"$f":"LEFT(Catalogue[[#This Row],[Référence]],3)","v":"AEL"},{"$f":"VLOOKUP(Catalogue[[#This Row],[Alias]],#REF!,2,FALSE)","v":{"$error":"#REF!"}},null,"AEL022358","CAPOT BLEU"]
["AEL022358",null,"CAPOT BLEU",null,null,{"$f":"LEFT(Catalogue[[#This Row],[Référence]],3)","v":"AEL"},{"$f":"VLOOKUP(Catalogue[[#This Row],[Alias]],#REF!,2,FALSE)","v":{"$error":"#REF!"}},null,"AEL022612","GRILLE DE VENTILATION"]
["AEL022612",null,{"$f":"VLOOKUP(A1090,I:J,2,0)","v":"GRILLE DE VENTILATION"},null,null,{"$f":"LEFT(Catalogue[[#This Row],[Référence]],3)","v":"AEL"},{"$f":"VLOOKUP(Catalogue[[#This Row],[Alias]],#REF!,2,FALSE)","v":{"$error":"#REF!"}},null,"AEL022670","TUYAU EVAC CONDENSATS + SIPHON + CLIP"]
["AEL022670",null,"TUYAU EVAC CONDENSATS + SIPHON + CLIP",null,null,{"$f":"LEFT(Catalogue[[#This Row],[Référence]],3)","v":"AEL"},{"$f":"VLOOKUP(Catalogue[[#This Row],[Alias]],#REF!,2,FALSE)","v":{"$error":"#REF!"}},null,"AEL022675","VENTILATEUR"]
["AEL022675",null,"VENTILATEUR",null,null,{"$f":"LEFT(Catalogue[[#This Row],[Référence]],3)","v":"AEL"},{"$f":"VLOOKUP(Catalogue[[#This Row],[Alias]],#REF!,2,FALSE)","v":{"$error":"#REF!"}},null,"AEL022816","VENTILATEUR AC D160 CET. MUR."]
["AEL022816",null,"VENTILATEUR AC D160 CET. MUR.",null,null,{"$f":"LEFT(Catalogue[[#This Row],[Référence]],3)","v":"AEL"},{"$f":"VLOOKUP(Catalogue[[#This Row],[Alias]],#REF!,2,FALSE)","v":{"$error":"#REF!"}},null,"AEL022940","TREPIED MOUSSE"]
["AEL022940",null,"TREPIED MOUSSE",null,null,{"$f":"LEFT(Catalogue[[#This Row],[Référence]],3)","v":"AEL"},{"$f":"VLOOKUP(Catalogue[[#This Row],[Alias]],#REF!,2,FALSE)","v":{"$error":"#REF!"}},null,"AEL022947","QUINCAILLERIE CACHE PIQUAGES"]
["AEL022947",null,"QUINCAILLERIE CACHE PIQUAGES",null,null,{"$f":"LEFT(Catalogue[[#This Row],[Référence]],3)","v":"AEL"},{"$f":"VLOOKUP(Catalogue[[#This Row],[Alias]],#REF!,2,FALSE)","v":{"$error":"#REF!"}},null,"AEL022971","TREPIED METALLIQUE"]
["AEL022971",null,"TREPIED METALLIQUE",null,null,{"$f":"LEFT(Catalogue[[#This Row],[Référence]],3)","v":"AEL"},{"$f":"VLOOKUP(Catalogue[[#This Row],[Alias]],#REF!,2,FALSE)","v":{"$error":"#REF!"}},null,"AEL023110","CHAUFFEO HM 100L 1200M"]
["AEL023110",null,"CHAUFFEO HM 100L 1200M",null,null,{"$f":"LEFT(Catalogue[[#This Row],[Référence]],3)","v":"AEL"},{"$f":"VLOOKUP(Catalogue[[#This Row],[Alias]],#REF!,2,FALSE)","v":{"$error":"#REF!"}},null,"AEL023178","CHAUFFEO HM 150L RACC DESSOUS"]
["AEL023178",null,"CHAUFFEO HM 150L RACC DESSOUS",null,null,{"$f":"LEFT(Catalogue[[#This Row],[Référence]],3)","v":"AEL"},{"$f":"VLOOKUP(Catalogue[[#This Row],[Alias]],#REF!,2,FALSE)","v":{"$error":"#REF!"}},null,"AEL023193","CHAUFFEO HM 200L RACC DESSOUS"]
["AEL023193",null,"CHAUFFEO HM 200L RACC DESSOUS",null,null,{"$f":"LEFT(Catalogue[[#This Row],[Référence]],3)","v":"AEL"},{"$f":"VLOOKUP(Catalogue[[#This Row],[Alias]],#REF!,2,FALSE)","v":{"$error":"#REF!"}},null,"AEL025109","CHAUFFEO HM 100L RACC COTE"]
["AEL025109",null,"CHAUFFEO HM 100L RACC COTE",null,null,{"$f":"LEFT(Catalogue[[#This Row],[Référence]],3)","v":"AEL"},{"$f":"VLOOKUP(Catalogue[[#This Row],[Alias]],#REF!,2,FALSE)","v":{"$error":"#REF!"}},null,"AEL025110","CHAUFFEO HM 100L 2000M RACC COTE"]
["AEL025110",null,"CHAUFFEO HM 100L 2000M RACC COTE",null,null,{"$f":"LEFT(Catalogue[[#This Row],[Référence]],3)","v":"AEL"},{"$f":"VLOOKUP(Catalogue[[#This Row],[Alias]],#REF!,2,FALSE)","v":{"$error":"#REF!"}},null,"AEL025118","CHAUFFEO HM 200L RACC COTE"]
["AEL025118",null,"CHAUFFEO HM 200L RACC COTE",null,null,{"$f":"LEFT(Catalogue[[#This Row],[Référence]],3)","v":"AEL"},{"$f":"VLOOKUP(Catalogue[[#This Row],[Alias]],#REF!,2,FALSE)","v":{"$error":"#REF!"}},null,"AEL026095","FAISCEAU 3 SONDES CTN (ELECTRO)"]
["AEL026095",null,"FAISCEAU 3 SONDES CTN (ELECTRO)",null,null,{"$f":"LEFT(Catalogue[[#This Row],[Référence]],3)","v":"AEL"},{"$f":"VLOOKUP(Catalogue[[#This Row],[Alias]],#REF!,2,FALSE)","v":{"$error":"#REF!"}},null,"AEL026130","FAISCEAU DE SONDES"]
["AEL026130",null,"FAISCEAU DE SONDES",null,null,{"$f":"LEFT(Catalogue[[#This Row],[Référence]],3)","v":"AEL"},{"$f":"VLOOKUP(Catalogue[[#This Row],[Alias]],#REF!,2,FALSE)","v":{"$error":"#REF!"}},null,"AEL026211","CONDENSATEUR 25MF"]
["AEL026211",null,"CONDENSATEUR 25MF",null,null,{"$f":"LEFT(Catalogue[[#This Row],[Référence]],3)","v":"AEL"},{"$f":"VLOOKUP(Catalogue[[#This Row],[Alias]],#REF!,2,FALSE)","v":{"$error":"#REF!"}},null,"AEL026216","CONDENSATEUR 15UF COMPRESSEUR"]
["AEL026216",null,"CONDENSATEUR 15UF COMPRESSEUR",null,null,{"$f":"LEFT(Catalogue[[#This Row],[Référence]],3)","v":"AEL"},{"$f":"VLOOKUP(Catalogue[[#This Row],[Alias]],#REF!,2,FALSE)","v":{"$error":"#REF!"}},null,"AEL026217","PRESSOSTAT COMPRESSEUR"]
["AEL026217",null,"PRESSOSTAT COMPRESSEUR",null,null,{"$f":"LEFT(Catalogue[[#This Row],[Référence]],3)","v":"AEL"},{"$f":"VLOOKUP(Catalogue[[#This Row],[Alias]],#REF!,2,FALSE)","v":{"$error":"#REF!"}},null,"AEL026249","FILERIE ALIM + HC + TORE"]
["AEL026249",null,"FILERIE ALIM + HC + TORE",null,null,{"$f":"LEFT(Catalogue[[#This Row],[Référence]],3)","v":"AEL"},{"$f":"VLOOKUP(Catalogue[[#This Row],[Alias]],#REF!,2,FALSE)","v":{"$error":"#REF!"}},null,"AEL026252","FAISCEAU 4 SONDES PAC"]
["AEL026252",null,"FAISCEAU 4 SONDES PAC",null,null,{"$f":"LEFT(Catalogue[[#This Row],[Référence]],3)","v":"AEL"},{"$f":"VLOOKUP(Catalogue[[#This Row],[Alias]],#REF!,2,FALSE)","v":{"$error":"#REF!"}},null,"AEL026253","SONDE BAS / HAUT BALLON"]
["AEL026253",null,"SONDE BAS / HAUT BALLON",null,null,{"$f":"LEFT(Catalogue[[#This Row],[Référence]],3)","v":"AEL"},{"$f":"VLOOKUP(Catalogue[[#This Row],[Alias]],#REF!,2,FALSE)","v":{"$error":"#REF!"}},null,"AEL026254","SONDE DOIGT DE GANT"]
["AEL026254",null,"SONDE DOIGT DE GANT",null,null,{"$f":"LEFT(Catalogue[[#This Row],[Référence]],3)","v":"AEL"},{"$f":"VLOOKUP(Catalogue[[#This Row],[Alias]],#REF!,2,FALSE)","v":{"$error":"#REF!"}},null,"AEL026255","FILERIE VENTILATEUR"]
["AEL026255",null,"FILERIE VENTILATEUR",null,null,{"$f":"LEFT(Catalogue[[#This Row],[Référence]],3)","v":"AEL"},{"$f":"VLOOKUP(Catalogue[[#This Row],[Alias]],#REF!,2,FALSE)","v":{"$error":"#REF!"}},null,"AEL026263","CONDENSATEUR 15MF COMPRESSEUR"]
["AEL026263",null,"CONDENSATEUR 15MF COMPRESSEUR",null,null,{"$f":"LEFT(Catalogue[[#This Row],[Référence]],3)","v":"AEL"},{"$f":"VLOOKUP(Catalogue[[#This Row],[Alias]],#REF!,2,FALSE)","v":{"$error":"#REF!"}},null,"AEL026301","SONDE DOUBLE DDG-HB"]
["AEL026301",null,"SONDE DOUBLE DDG-HB",null,null,{"$f":"LEFT(Catalogue[[#This Row],[Référence]],3)","v":"AEL"},{"$f":"VLOOKUP(Catalogue[[#This Row],[Alias]],#REF!,2,FALSE)","v":{"$error":"#REF!"}},null,"AEL026310","CARTE DE REGULATION + BORNIER"]
["AEL026310",null,"CARTE DE REGULATION + BORNIER",null,null,{"$f":"LEFT(Catalogue[[#This Row],[Référence]],3)","v":"AEL"},{"$f":"VLOOKUP(Catalogue[[#This Row],[Alias]],#REF!,2,FALSE)","v":{"$error":"#REF!"}},null,"AEL026311","FAISCEAU SONDES"]
["AEL026311",null,"FAISCEAU SONDES",null,null,{"$f":"LEFT(Catalogue[[#This Row],[Référence]],3)","v":"AEL"},{"$f":"VLOOKUP(Catalogue[[#This Row],[Alias]],#REF!,2,FALSE)","v":{"$error":"#REF!"}},null,"AEL026312","SONDE EXTERIEURE"]
["AEL026312",null,"SONDE EXTERIEURE",null,null,{"$f":"LEFT(Catalogue[[#This Row],[Référence]],3)","v":"AEL"},{"$f":"VLOOKUP(Catalogue[[#This Row],[Alias]],#REF!,2,FALSE)","v":{"$error":"#REF!"}},null,"AEL026316","CAPTEUR DE PRESSION"]
["AEL026316",null,"CAPTEUR DE PRESSION",null,null,{"$f":"LEFT(Catalogue[[#This Row],[Référence]],3)","v":"AEL"},{"$f":"VLOOKUP(Catalogue[[#This Row],[Alias]],#REF!,2,FALSE)","v":{"$error":"#REF!"}},null,"AEL026319","SONDE DE CONDENSATION"]
["AEL026319",null,"SONDE DE CONDENSATION",null,null,{"$f":"LEFT(Catalogue[[#This Row],[Référence]],3)","v":"AEL"},{"$f":"VLOOKUP(Catalogue[[#This Row],[Alias]],#REF!,2,FALSE)","v":{"$error":"#REF!"}},null,"AEL026333","CORDON VENTILATEUR"]
["AEL026333",null,"CORDON VENTILATEUR",null,null,{"$f":"LEFT(Catalogue[[#This Row],[Référence]],3)","v":"AEL"},{"$f":"VLOOKUP(Catalogue[[#This Row],[Alias]],#REF!,2,FALSE)","v":{"$error":"#REF!"}},null,"AEL026336","FAISCEAU 2 SONDES (AIR-EVAPORATEUR)"]
["AEL026336",null,"FAISCEAU 2 SONDES (AIR-EVAPORATEUR)",null,null,{"$f":"LEFT(Catalogue[[#This Row],[Référence]],3)","v":"AEL"},{"$f":"VLOOKUP(Catalogue[[#This Row],[Alias]],#REF!,2,FALSE)","v":{"$error":"#REF!"}},null,"AEL026350","FAISCEAU 3 SONDES"]
["AEL026350",null,"FAISCEAU 3 SONDES",null,null,{"$f":"LEFT(Catalogue[[#This Row],[Référence]],3)","v":"AEL"},{"$f":"VLOOKUP(Catalogue[[#This Row],[Alias]],#REF!,2,FALSE)","v":{"$error":"#REF!"}},null,"AEL026403","FILERIE CTN POUR CV4"]
["AEL026403",null,"FILERIE CTN POUR CV4",null,null,{"$f":"LEFT(Catalogue[[#This Row],[Référence]],3)","v":"AEL"},{"$f":"VLOOKUP(Catalogue[[#This Row],[Alias]],#REF!,2,FALSE)","v":{"$error":"#REF!"}},null,"AEL029046","GROUPE DE SECURITE COUDE 20X27"]
["AEL029046",null,"GROUPE DE SECURITE COUDE 20X27",null,null,{"$f":"LEFT(Catalogue[[#This Row],[Référence]],3)","v":"AEL"},{"$f":"VLOOKUP(Catalogue[[#This Row],[Alias]],#REF!,2,FALSE)","v":{"$error":"#REF!"}},null,"AEL029214","SOUPAPE DE SECURITE"]
["AEL029214",null,"SOUPAPE DE SECURITE",null,null,{"$f":"LEFT(Catalogue[[#This Row],[Référence]],3)","v":"AEL"},{"$f":"VLOOKUP(Catalogue[[#This Row],[Alias]],#REF!,2,FALSE)","v":{"$error":"#REF!"}},null,"AEL029216","SONDE PT1000 LG 1,5M (CAPTEUR)"]
["AEL029216",null,"SONDE PT1000 LG 1,5M (CAPTEUR)",null,null,{"$f":"LEFT(Catalogue[[#This Row],[Référence]],3)","v":"AEL"},{"$f":"VLOOKUP(Catalogue[[#This Row],[Alias]],#REF!,2,FALSE)","v":{"$error":"#REF!"}},null,"AEL029219","GLYCOL (-30C) EN BIDON DE 10L"]
["AEL029219",null,"GLYCOL (-30C) EN BIDON DE 10L",null,null,{"$f":"LEFT(Catalogue[[#This Row],[Référence]],3)","v":"AEL"},{"$f":"VLOOKUP(Catalogue[[#This Row],[Alias]],#REF!,2,FALSE)","v":{"$error":"#REF!"}},null,"AEL029232","DEBULLEUR STATION SOLAIRE"]
["AEL029232",null,"DEBULLEUR STATION SOLAIRE",null,null,{"$f":"LEFT(Catalogue[[#This Row],[Référence]],3)","v":"AEL"},{"$f":"VLOOKUP(Catalogue[[#This Row],[Alias]],#REF!,2,FALSE)","v":{"$error":"#REF!"}},null,"AEL029233","MITIGEUR THERMOSTATIQUE RELIANCE 3/4M"]
["AEL029233",null,"MITIGEUR THERMOSTATIQUE RELIANCE 3/4M",null,null,{"$f":"LEFT(Catalogue[[#This Row],[Référence]],3)","v":"AEL"},{"$f":"VLOOKUP(Catalogue[[#This Row],[Alias]],#REF!,2,FALSE)","v":{"$error":"#REF!"}},null,"AEL029239","POCHETTE DE JOINTS STATION SOLAIRE"]
["AEL029239",null,"POCHETTE DE JOINTS STATION SOLAIRE",null,null,{"$f":"LEFT(Catalogue[[#This Row],[Référence]],3)","v":"AEL"},{"$f":"VLOOKUP(Catalogue[[#This Row],[Alias]],#REF!,2,FALSE)","v":{"$error":"#REF!"}},null,"AEL029249","REGULATION TEC SOLAIRE HG"]
["AEL029249",null,"REGULATION TEC SOLAIRE HG",null,null,{"$f":"LEFT(Catalogue[[#This Row],[Référence]],3)","v":"AEL"},{"$f":"VLOOKUP(Catalogue[[#This Row],[Alias]],#REF!,2,FALSE)","v":{"$error":"#REF!"}},null,"AEL029251","CORPS DE CHAUFFE A.C.I + JOINT"]
["AEL029251",null,"CORPS DE CHAUFFE A.C.I + JOINT",null,null,{"$f":"LEFT(Catalogue[[#This Row],[Référence]],3)","v":"AEL"},{"$f":"VLOOKUP(Catalogue[[#This Row],[Alias]],#REF!,2,FALSE)","v":{"$error":"#REF!"}},null,"AEL029279","ENS. SONDES DE TEMPERATURE (X3"]
["AEL029279",null,"ENS. SONDES DE TEMPERATURE (X3",null,null,{"$f":"LEFT(Catalogue[[#This Row],[Référence]],3)","v":"AEL"},{"$f":"VLOOKUP(Catalogue[[#This Row],[Alias]],#REF!,2,FALSE)","v":{"$error":"#REF!"}},null,"AEL029280","MOTO-VENTILATEUR + FAISCEAU"]
["AEL029280",null,"MOTO-VENTILATEUR + FAISCEAU",null,null,{"$f":"LEFT(Catalogue[[#This Row],[Référence]],3)","v":"AEL"},{"$f":"VLOOKUP(Catalogue[[#This Row],[Alias]],#REF!,2,FALSE)","v":{"$error":"#REF!"}},null,"AEL029282","BOITIER DE REGULATION DIGITAL"]
["AEL029282",null,"BOITIER DE REGULATION DIGITAL",null,null,{"$f":"LEFT(Catalogue[[#This Row],[Référence]],3)","v":"AEL"},{"$f":"VLOOKUP(Catalogue[[#This Row],[Alias]],#REF!,2,FALSE)","v":{"$error":"#REF!"}},null,"AEL029309","THERMOSTAT ELECTRONIQUE"]
["AEL029309",null,"THERMOSTAT ELECTRONIQUE",null,null,{"$f":"LEFT(Catalogue[[#This Row],[Référence]],3)","v":"AEL"},{"$f":"VLOOKUP(Catalogue[[#This Row],[Alias]],#REF!,2,FALSE)","v":{"$error":"#REF!"}},null,"AEL029310","THERMOSTAT ELECTRONIQUE"]
["AEL029310",null,"THERMOSTAT ELECTRONIQUE",null,null,{"$f":"LEFT(Catalogue[[#This Row],[Référence]],3)","v":"AEL"},{"$f":"VLOOKUP(Catalogue[[#This Row],[Alias]],#REF!,2,FALSE)","v":{"$error":"#REF!"}},null,"AEL029314","EVAPORATEUR POMPE A CHALEUR (V1BIS)"]
["AEL029314",null,"EVAPORATEUR POMPE A CHALEUR (V1BIS)",null,null,{"$f":"LEFT(Catalogue[[#This Row],[Référence]],3)","v":"AEL"},{"$f":"VLOOKUP(Catalogue[[#This Row],[Alias]],#REF!,2,FALSE)","v":{"$error":"#REF!"}},null,"AEL029323","THERMOSTAT ELECTRONIQUE"]
["AEL029323",null,"THERMOSTAT ELECTRONIQUE",null,null,{"$f":"LEFT(Catalogue[[#This Row],[Référence]],3)","v":"AEL"},{"$f":"VLOOKUP(Catalogue[[#This Row],[Alias]],#REF!,2,FALSE)","v":{"$error":"#REF!"}},null,"AEL029324","THERMOSTAT ELECTRONIQUE"]
["AEL029324",null,"THERMOSTAT ELECTRONIQUE",null,null,{"$f":"LEFT(Catalogue[[#This Row],[Référence]],3)","v":"AEL"},{"$f":"VLOOKUP(Catalogue[[#This Row],[Alias]],#REF!,2,FALSE)","v":{"$error":"#REF!"}},null,"AEL029326","THERMOSTAT ELECTRONIQUE"]
["AEL029326",null,"THERMOSTAT ELECTRONIQUE",null,null,{"$f":"LEFT(Catalogue[[#This Row],[Référence]],3)","v":"AEL"},{"$f":"VLOOKUP(Catalogue[[#This Row],[Alias]],#REF!,2,FALSE)","v":{"$error":"#REF!"}},null,"AEL029337","THERMOSTAT ELECTRONIQUE"]
["AEL029337",null,"THERMOSTAT ELECTRONIQUE",null,null,{"$f":"LEFT(Catalogue[[#This Row],[Référence]],3)","v":"AEL"},{"$f":"VLOOKUP(Catalogue[[#This Row],[Alias]],#REF!,2,FALSE)","v":{"$error":"#REF!"}},null,"AEL029345","SONDE DE TEMPERATURE TEC1"]
["AEL029345",null,"SONDE DE TEMPERATURE TEC1",null,null,{"$f":"LEFT(Catalogue[[#This Row],[Référence]],3)","v":"AEL"},{"$f":"VLOOKUP(Catalogue[[#This Row],[Alias]],#REF!,2,FALSE)","v":{"$error":"#REF!"}},null,"AEL029346","SONDE DE TEMPERATURE HM / VS"]
["AEL029346",null,"SONDE DE TEMPERATURE HM / VS",null,null,{"$f":"LEFT(Catalogue[[#This Row],[Référence]],3)","v":"AEL"},{"$f":"VLOOKUP(Catalogue[[#This Row],[Alias]],#REF!,2,FALSE)","v":{"$error":"#REF!"}},null,"AEL029354","FAISCEAU 3 SONDES CETHI"]
["AEL029354",null,"FAISCEAU 3 SONDES CETHI",null,null,{"$f":"LEFT(Catalogue[[#This Row],[Référence]],3)","v":"AEL"},{"$f":"VLOOKUP(Catalogue[[#This Row],[Alias]],#REF!,2,FALSE)","v":{"$error":"#REF!"}},null,"AEL029384","THERMOSTAT BBSC 0143"]
["AEL029384",null,"THERMOSTAT BBSC 0143",null,null,{"$f":"LEFT(Catalogue[[#This Row],[Référence]],3)","v":"AEL"},{"$f":"VLOOKUP(Catalogue[[#This Row],[Alias]],#REF!,2,FALSE)","v":{"$error":"#REF!"}},null,"AEL029390","MOTO-VENTILATEUR + FAISCEAU"]
["AEL029390",null,"MOTO-VENTILATEUR + FAISCEAU",null,null,{"$f":"LEFT(Catalogue[[#This Row],[Référence]],3)","v":"AEL"},{"$f":"VLOOKUP(Catalogue[[#This Row],[Alias]],#REF!,2,FALSE)","v":{"$error":"#REF!"}},null,"AEL029395","COMPRESSEUR RV174VRXMT"]
["AEL029395",null,"COMPRESSEUR RV174VRXMT",null,null,{"$f":"LEFT(Catalogue[[#This Row],[Référence]],3)","v":"AEL"},{"$f":"VLOOKUP(Catalogue[[#This Row],[Alias]],#REF!,2,FALSE)","v":{"$error":"#REF!"}},null,"AEL029422","SONDE UNITE EXTERIEURE 2"]
["AEL029422",null,"SONDE UNITE EXTERIEURE 2",null,null,{"$f":"LEFT(Catalogue[[#This Row],[Référence]],3)","v":"AEL"},{"$f":"VLOOKUP(Catalogue[[#This Row],[Alias]],#REF!,2,FALSE)","v":{"$error":"#REF!"}},null,"AEL029423","VANNE 3 VOIES (PK-33 FSA 3/8)"]
["AEL029423",null,"VANNE 3 VOIES (PK-33 FSA 3/8)",null,null,{"$f":"LEFT(Catalogue[[#This Row],[Référence]],3)","v":"AEL"},{"$f":"VLOOKUP(Catalogue[[#This Row],[Alias]],#REF!,2,FALSE)","v":{"$error":"#REF!"}},null,"AEL029424","VANNE 2 VOIES (PK-22 FS 1/4)"]
["AEL029424",null,"VANNE 2 VOIES (PK-22 FS 1/4)",null,null,{"$f":"LEFT(Catalogue[[#This Row],[Référence]],3)","v":"AEL"},{"$f":"VLOOKUP(Catalogue[[#This Row],[Alias]],#REF!,2,FALSE)","v":{"$error":"#REF!"}},null,"AEL029425","MOTEUR ELECTRIQUE"]
["AEL029425",null,"MOTEUR ELECTRIQUE",null,null,{"$f":"LEFT(Catalogue[[#This Row],[Référence]],3)","v":"AEL"},{"$f":"VLOOKUP(Catalogue[[#This Row],[Alias]],#REF!,2,FALSE)","v":{"$error":"#REF!"}},null,"AEL029451","KIT COMPRESSEUR VERTICAL"]
["AEL029451",null,"KIT COMPRESSEUR VERTICAL",null,null,{"$f":"LEFT(Catalogue[[#This Row],[Référence]],3)","v":"AEL"},{"$f":"VLOOKUP(Catalogue[[#This Row],[Alias]],#REF!,2,FALSE)","v":{"$error":"#REF!"}},null,"AEL029452","THERMOSTAT A CANNE EMBROCHABLE"]
["AEL029452",null,{"$f":"VLOOKUP(A1154,I:J,2,0)","v":"THERMOSTAT A CANNE EMBROCHABLE"},null,null,{"$f":"LEFT(Catalogue[[#This Row],[Référence]],3)","v":"AEL"},{"$f":"VLOOKUP(Catalogue[[#This Row],[Alias]],#REF!,2,FALSE)","v":{"$error":"#REF!"}},null,"AEL029477","THERMOSTAT 2 BULBES 230/400V + PATTE"]
["AEL029477",null,"THERMOSTAT 2 BULBES 230/400V + PATTE",null,null,{"$f":"LEFT(Catalogue[[#This Row],[Référence]],3)","v":"AEL"},{"$f":"VLOOKUP(Catalogue[[#This Row],[Alias]],#REF!,2,FALSE)","v":{"$error":"#REF!"}},null,"AEL029489","CIRCULATEUR WILO YONOS PARA ST15/7,5PWM2"]
["AEL029489",null,"CIRCULATEUR WILO YONOS PARA ST15/7,5PWM2",null,null,{"$f":"LEFT(Catalogue[[#This Row],[Référence]],3)","v":"AEL"},{"$f":"VLOOKUP(Catalogue[[#This Row],[Alias]],#REF!,2,FALSE)","v":{"$error":"#REF!"}},null,"AEL029494","REGULATION GAMME ES SANS FILERIE"]
["AEL029494",null,"REGULATION GAMME ES SANS FILERIE",null,null,{"$f":"LEFT(Catalogue[[#This Row],[Référence]],3)","v":"AEL"},{"$f":"VLOOKUP(Catalogue[[#This Row],[Alias]],#REF!,2,FALSE)","v":{"$error":"#REF!"}},null,"AEL029497","SONDE PT1000 LG 0,9M (ECHANGEUR SOLAIRE)"]
["AEL029497",null,"SONDE PT1000 LG 0,9M (ECHANGEUR SOLAIRE)",null,null,{"$f":"LEFT(Catalogue[[#This Row],[Référence]],3)","v":"AEL"},{"$f":"VLOOKUP(Catalogue[[#This Row],[Alias]],#REF!,2,FALSE)","v":{"$error":"#REF!"}},null,"AEL029511","CABLE ALIMENTATION SECTEUR LG 2,15M"]
["AEL029511",null,"CABLE ALIMENTATION SECTEUR LG 2,15M",null,null,{"$f":"LEFT(Catalogue[[#This Row],[Référence]],3)","v":"AEL"},{"$f":"VLOOKUP(Catalogue[[#This Row],[Alias]],#REF!,2,FALSE)","v":{"$error":"#REF!"}},null,"AEL029520","CARTE DE REGULATION 270L"]
["AEL029520",null,"CARTE DE REGULATION 270L",null,null,{"$f":"LEFT(Catalogue[[#This Row],[Référence]],3)","v":"AEL"},{"$f":"VLOOKUP(Catalogue[[#This Row],[Alias]],#REF!,2,FALSE)","v":{"$error":"#REF!"}},null,"AEL029521","COMMANDE DIGITALE IHM"]
["AEL029521",null,"COMMANDE DIGITALE IHM",null,null,{"$f":"LEFT(Catalogue[[#This Row],[Référence]],3)","v":"AEL"},{"$f":"VLOOKUP(Catalogue[[#This Row],[Alias]],#REF!,2,FALSE)","v":{"$error":"#REF!"}},null,"AEL029522","CARTE DE REGULATION"]
["AEL029522",null,"CARTE DE REGULATION",null,null,{"$f":"LEFT(Catalogue[[#This Row],[Référence]],3)","v":"AEL"},{"$f":"VLOOKUP(Catalogue[[#This Row],[Alias]],#REF!,2,FALSE)","v":{"$error":"#REF!"}},null,"AEL029534","THERMOSTAT BBSC0153 82DEG"]
["AEL029534",null,"THERMOSTAT BBSC0153 82DEG",null,null,{"$f":"LEFT(Catalogue[[#This Row],[Référence]],3)","v":"AEL"},{"$f":"VLOOKUP(Catalogue[[#This Row],[Alias]],#REF!,2,FALSE)","v":{"$error":"#REF!"}},null,"AEL029538","TUBE RIGIDE STATION / SERPENTIN"]
["AEL029538",null,"TUBE RIGIDE STATION / SERPENTIN",null,null,{"$f":"LEFT(Catalogue[[#This Row],[Référence]],3)","v":"AEL"},{"$f":"VLOOKUP(Catalogue[[#This Row],[Alias]],#REF!,2,FALSE)","v":{"$error":"#REF!"}},null,"AEL029574","KIT BORNIER-REGULATION-FILERIE"]
["AEL029574",null,"KIT BORNIER-REGULATION-FILERIE",null,null,{"$f":"LEFT(Catalogue[[#This Row],[Référence]],3)","v":"AEL"},{"$f":"VLOOKUP(Catalogue[[#This Row],[Alias]],#REF!,2,FALSE)","v":{"$error":"#REF!"}},null,"AEL029577","THERMOSTAT EMBROCHABLE L350"]
["AEL029577",null,"THERMOSTAT EMBROCHABLE L350",null,null,{"$f":"LEFT(Catalogue[[#This Row],[Référence]],3)","v":"AEL"},{"$f":"VLOOKUP(Catalogue[[#This Row],[Alias]],#REF!,2,FALSE)","v":{"$error":"#REF!"}},null,"AEL029587","CARTE ELECTRONIQUE + SUPPORT"]
["AEL029587",null,"CARTE ELECTRONIQUE + SUPPORT",null,null,{"$f":"LEFT(Catalogue[[#This Row],[Référence]],3)","v":"AEL"},{"$f":"VLOOKUP(Catalogue[[#This Row],[Alias]],#REF!,2,FALSE)","v":{"$error":"#REF!"}},null,"AEL029611","CARTE DE REGULATION"]
["AEL029611",null,"CARTE DE REGULATION",null,null,{"$f":"LEFT(Catalogue[[#This Row],[Référence]],3)","v":"AEL"},{"$f":"VLOOKUP(Catalogue[[#This Row],[Alias]],#REF!,2,FALSE)","v":{"$error":"#REF!"}},null,"AEL029612","THERMOSTAT SBLC"]
["AEL029612",null,"THERMOSTAT SBLC",null,null,{"$f":"LEFT(Catalogue[[#This Row],[Référence]],3)","v":"AEL"},{"$f":"VLOOKUP(Catalogue[[#This Row],[Alias]],#REF!,2,FALSE)","v":{"$error":"#REF!"}},null,"AEL029613","COMPRESSEUR ROTATIF"]
["AEL029613",null,"COMPRESSEUR ROTATIF",null,null,{"$f":"LEFT(Catalogue[[#This Row],[Référence]],3)","v":"AEL"},{"$f":"VLOOKUP(Catalogue[[#This Row],[Alias]],#REF!,2,FALSE)","v":{"$error":"#REF!"}},null,"AEL029653","CARTE DE REGULATION"]
["AEL029653",null,"CARTE DE REGULATION",null,null,{"$f":"LEFT(Catalogue[[#This Row],[Référence]],3)","v":"AEL"},{"$f":"VLOOKUP(Catalogue[[#This Row],[Alias]],#REF!,2,FALSE)","v":{"$error":"#REF!"}},null,"AEL029654","CARTE DE REGULATION"]
["AEL029654",null,"CARTE DE REGULATION",null,null,{"$f":"LEFT(Catalogue[[#This Row],[Référence]],3)","v":"AEL"},{"$f":"VLOOKUP(Catalogue[[#This Row],[Alias]],#REF!,2,FALSE)","v":{"$error":"#REF!"}},null,"AEL029673","VENTILATEUR EC 120X120"]
["AEL029673",null,"VENTILATEUR EC 120X120",null,null,{"$f":"LEFT(Catalogue[[#This Row],[Référence]],3)","v":"AEL"},{"$f":"VLOOKUP(Catalogue[[#This Row],[Alias]],#REF!,2,FALSE)","v":{"$error":"#REF!"}},null,"AEL029687","DETENDEUR + FILTRE DESHYDRATEUR"]
["AEL029687",null,"DETENDEUR + FILTRE DESHYDRATEUR",null,null,{"$f":"LEFT(Catalogue[[#This Row],[Référence]],3)","v":"AEL"},{"$f":"VLOOKUP(Catalogue[[#This Row],[Alias]],#REF!,2,FALSE)","v":{"$error":"#REF!"}},null,"AEL029692","CARTE REGUL PROG ATL 150L"]
["AEL029692",null,"CARTE REGUL PROG ATL 150L",null,null,{"$f":"LEFT(Catalogue[[#This Row],[Référence]],3)","v":"AEL"},{"$f":"VLOOKUP(Catalogue[[#This Row],[Alias]],#REF!,2,FALSE)","v":{"$error":"#REF!"}},null,"AEL029760","ELEMENT STEATITE 2400W MONO"]
["AEL029760",null,"ELEMENT STEATITE 2400W MONO",null,null,{"$f":"LEFT(Catalogue[[#This Row],[Référence]],3)","v":"AEL"},{"$f":"VLOOKUP(Catalogue[[#This Row],[Alias]],#REF!,2,FALSE)","v":{"$error":"#REF!"}},null,"AEL029761","BOITIER DE COMMANDE DIGITAL"]
["AEL029761",null,"BOITIER DE COMMANDE DIGITAL",null,null,{"$f":"LEFT(Catalogue[[#This Row],[Référence]],3)","v":"AEL"},{"$f":"VLOOKUP(Catalogue[[#This Row],[Alias]],#REF!,2,FALSE)","v":{"$error":"#REF!"}},null,"AEL029764","CARTE DE REGULATION"]
["AEL029764",null,"CARTE DE REGULATION",null,null,{"$f":"LEFT(Catalogue[[#This Row],[Référence]],3)","v":"AEL"},{"$f":"VLOOKUP(Catalogue[[#This Row],[Alias]],#REF!,2,FALSE)","v":{"$error":"#REF!"}},null,"AEL029765","CARTE DE REGULATION"]
["AEL029765",null,"CARTE DE REGULATION",null,null,{"$f":"LEFT(Catalogue[[#This Row],[Référence]],3)","v":"AEL"},{"$f":"VLOOKUP(Catalogue[[#This Row],[Alias]],#REF!,2,FALSE)","v":{"$error":"#REF!"}},null,"AEL029783","DETENDEUR TDEN ( 068N2923)"]
["AEL029783",null,"DETENDEUR TDEN ( 068N2923)",null,null,{"$f":"LEFT(Catalogue[[#This Row],[Référence]],3)","v":"AEL"},{"$f":"VLOOKUP(Catalogue[[#This Row],[Alias]],#REF!,2,FALSE)","v":{"$error":"#REF!"}},null,"AEL029784","CLAPET ANTI RETOUR SW M/25X4"]
["AEL029784",null,"CLAPET ANTI RETOUR SW M/25X4",null,null,{"$f":"LEFT(Catalogue[[#This Row],[Référence]],3)","v":"AEL"},{"$f":"VLOOKUP(Catalogue[[#This Row],[Alias]],#REF!,2,FALSE)","v":{"$error":"#REF!"}},null,"AEL029785","FILTRE DESHYDRATEUR 1/4"]
["AEL029785",null,"FILTRE DESHYDRATEUR 1/4",null,null,{"$f":"LEFT(Catalogue[[#This Row],[Référence]],3)","v":"AEL"},{"$f":"VLOOKUP(Catalogue[[#This Row],[Alias]],#REF!,2,FALSE)","v":{"$error":"#REF!"}},null,"AEL029841","UNITE EXTERIEURE V1"]
["AEL029841",null,"UNITE EXTERIEURE V1",null,null,{"$f":"LEFT(Catalogue[[#This Row],[Référence]],3)","v":"AEL"},{"$f":"VLOOKUP(Catalogue[[#This Row],[Alias]],#REF!,2,FALSE)","v":{"$error":"#REF!"}},null,"AEL029964","MITIGEUR THERMOSTATIQUE 252713 MMM3/4"]
["AEL029964",null,"MITIGEUR THERMOSTATIQUE 252713 MMM3/4",null,null,{"$f":"LEFT(Catalogue[[#This Row],[Référence]],3)","v":"AEL"},{"$f":"VLOOKUP(Catalogue[[#This Row],[Alias]],#REF!,2,FALSE)","v":{"$error":"#REF!"}},null,"AEL029969","CARTE ELECTRONIQUE WIFI BA C2"]
["AEL029969",null,"CARTE ELECTRONIQUE WIFI BA C2",null,null,{"$f":"LEFT(Catalogue[[#This Row],[Référence]],3)","v":"AEL"},{"$f":"VLOOKUP(Catalogue[[#This Row],[Alias]],#REF!,2,FALSE)","v":{"$error":"#REF!"}},null,"AEL029978","CARTE ELECTRONIQUE WIFI BA C2"]
["AEL029978",null,"CARTE ELECTRONIQUE WIFI BA C2",null,null,{"$f":"LEFT(Catalogue[[#This Row],[Référence]],3)","v":"AEL"},{"$f":"VLOOKUP(Catalogue[[#This Row],[Alias]],#REF!,2,FALSE)","v":{"$error":"#REF!"}},null,"AEL029992","THERMOSTAT ELECTRO KITABLE"]
["AEL029992",null,"THERMOSTAT ELECTRO KITABLE",null,null,{"$f":"LEFT(Catalogue[[#This Row],[Référence]],3)","v":"AEL"},{"$f":"VLOOKUP(Catalogue[[#This Row],[Alias]],#REF!,2,FALSE)","v":{"$error":"#REF!"}},null,"AEL030141","CORPS DE CHAUFFE ACI HYBR."]
["AEL030141",null,"CORPS DE CHAUFFE ACI HYBR.",null,null,{"$f":"LEFT(Catalogue[[#This Row],[Référence]],3)","v":"AEL"},{"$f":"VLOOKUP(Catalogue[[#This Row],[Alias]],#REF!,2,FALSE)","v":{"$error":"#REF!"}},null,"AEL030147","CORPS DE CHAUFFE + JOINT ACI"]
["AEL030147",null,"CORPS DE CHAUFFE + JOINT ACI",null,null,{"$f":"LEFT(Catalogue[[#This Row],[Référence]],3)","v":"AEL"},{"$f":"VLOOKUP(Catalogue[[#This Row],[Alias]],#REF!,2,FALSE)","v":{"$error":"#REF!"}},null,"AEL030187","ENS. EL. BLINDE 2000W MO HZ"]
["AEL030187",null,"ENS. EL. BLINDE 2000W MO HZ",null,null,{"$f":"LEFT(Catalogue[[#This Row],[Référence]],3)","v":"AEL"},{"$f":"VLOOKUP(Catalogue[[#This Row],[Alias]],#REF!,2,FALSE)","v":{"$error":"#REF!"}},null,"AEL030264","SECURITE MECA 90DEG SBLC0049"]
["AEL030264",null,"SECURITE MECA 90DEG SBLC0049",null,null,{"$f":"LEFT(Catalogue[[#This Row],[Référence]],3)","v":"AEL"},{"$f":"VLOOKUP(Catalogue[[#This Row],[Alias]],#REF!,2,FALSE)","v":{"$error":"#REF!"}},null,"AEL030318","THERMOSTAT BBSC0184 R67 S100"]
["AEL030318",null,"THERMOSTAT BBSC0184 R67 S100",null,null,{"$f":"LEFT(Catalogue[[#This Row],[Référence]],3)","v":"AEL"},{"$f":"VLOOKUP(Catalogue[[#This Row],[Alias]],#REF!,2,FALSE)","v":{"$error":"#REF!"}},null,"AEL030336","THERMOSTAT TSX011030 L270"]
["AEL030336",null,"THERMOSTAT TSX011030 L270",null,null,{"$f":"LEFT(Catalogue[[#This Row],[Référence]],3)","v":"AEL"},{"$f":"VLOOKUP(Catalogue[[#This Row],[Alias]],#REF!,2,FALSE)","v":{"$error":"#REF!"}},null,"AEL030522","CARTE ELECTRONIQUE NIDEC"]
["AEL030522",null,"CARTE ELECTRONIQUE NIDEC",null,null,{"$f":"LEFT(Catalogue[[#This Row],[Référence]],3)","v":"AEL"},{"$f":"VLOOKUP(Catalogue[[#This Row],[Alias]],#REF!,2,FALSE)","v":{"$error":"#REF!"}},null,"AEL040155","JOINT A LEVRE D.82MM"]
["AEL040155",null,"JOINT A LEVRE D.82MM",null,null,{"$f":"LEFT(Catalogue[[#This Row],[Référence]],3)","v":"AEL"},{"$f":"VLOOKUP(Catalogue[[#This Row],[Alias]],#REF!,2,FALSE)","v":{"$error":"#REF!"}},null,"AEL040158","JOINT A LEVRE D.112MM"]
["AEL040158",null,"JOINT A LEVRE D.112MM",null,null,{"$f":"LEFT(Catalogue[[#This Row],[Référence]],3)","v":"AEL"},{"$f":"VLOOKUP(Catalogue[[#This Row],[Alias]],#REF!,2,FALSE)","v":{"$error":"#REF!"}},null,"AEL040159","CORPS DE CHAUFFE + JOINT"]
["AEL040159",null,"CORPS DE CHAUFFE + JOINT",null,null,{"$f":"LEFT(Catalogue[[#This Row],[Référence]],3)","v":"AEL"},{"$f":"VLOOKUP(Catalogue[[#This Row],[Alias]],#REF!,2,FALSE)","v":{"$error":"#REF!"}},null,"AEL040164","ANODE D26 L252"]
["AEL040164",null,"ANODE D26 L252",null,null,{"$f":"LEFT(Catalogue[[#This Row],[Référence]],3)","v":"AEL"},{"$f":"VLOOKUP(Catalogue[[#This Row],[Alias]],#REF!,2,FALSE)","v":{"$error":"#REF!"}},null,"AEL040166","ANODE MAGNESIUM D26 L322"]
["AEL040166",null,"ANODE MAGNESIUM D26 L322",null,null,{"$f":"LEFT(Catalogue[[#This Row],[Référence]],3)","v":"AEL"},{"$f":"VLOOKUP(Catalogue[[#This Row],[Alias]],#REF!,2,FALSE)","v":{"$error":"#REF!"}},null,"AEL040181","CORPS DE CHAUFFE + JOINT"]
["AEL040181",null,"CORPS DE CHAUFFE + JOINT",null,null,{"$f":"LEFT(Catalogue[[#This Row],[Référence]],3)","v":"AEL"},{"$f":"VLOOKUP(Catalogue[[#This Row],[Alias]],#REF!,2,FALSE)","v":{"$error":"#REF!"}},null,"AEL040208","ANODE D26 L186"]
["AEL040208",null,"ANODE D26 L186",null,null,{"$f":"LEFT(Catalogue[[#This Row],[Référence]],3)","v":"AEL"},{"$f":"VLOOKUP(Catalogue[[#This Row],[Alias]],#REF!,2,FALSE)","v":{"$error":"#REF!"}},null,"AEL040227","CORPS DE CHAUFFE ACI D.195"]
["AEL040227",null,"CORPS DE CHAUFFE ACI D.195",null,null,{"$f":"LEFT(Catalogue[[#This Row],[Référence]],3)","v":"AEL"},{"$f":"VLOOKUP(Catalogue[[#This Row],[Alias]],#REF!,2,FALSE)","v":{"$error":"#REF!"}},null,"AEL040234","CORPS DE CHAUFFE ACI D.172"]
["AEL040234",null,"CORPS DE CHAUFFE ACI D.172",null,null,{"$f":"LEFT(Catalogue[[#This Row],[Référence]],3)","v":"AEL"},{"$f":"VLOOKUP(Catalogue[[#This Row],[Alias]],#REF!,2,FALSE)","v":{"$error":"#REF!"}},null,"AEL040239","PLATINE ELECTRONIQUE ACI TC"]
["AEL040239",null,"PLATINE ELECTRONIQUE ACI TC",null,null,{"$f":"LEFT(Catalogue[[#This Row],[Référence]],3)","v":"AEL"},{"$f":"VLOOKUP(Catalogue[[#This Row],[Alias]],#REF!,2,FALSE)","v":{"$error":"#REF!"}},null,"AEL040323","JOINT A LEVRE D.75MM"]
["AEL040323",null,"JOINT A LEVRE D.75MM",null,null,{"$f":"LEFT(Catalogue[[#This Row],[Référence]],3)","v":"AEL"},{"$f":"VLOOKUP(Catalogue[[#This Row],[Alias]],#REF!,2,FALSE)","v":{"$error":"#REF!"}},null,"AEL040324","ENSEMBLE PLATINE ACI PECS VM"]
["AEL040324",null,"ENSEMBLE PLATINE ACI PECS VM",null,null,{"$f":"LEFT(Catalogue[[#This Row],[Référence]],3)","v":"AEL"},{"$f":"VLOOKUP(Catalogue[[#This Row],[Alias]],#REF!,2,FALSE)","v":{"$error":"#REF!"}},null,"AEL040326","BRIDE + DOIGT DE GANT A.C.I."]
["AEL040326",null,"BRIDE + DOIGT DE GANT A.C.I.",null,null,{"$f":"LEFT(Catalogue[[#This Row],[Référence]],3)","v":"AEL"},{"$f":"VLOOKUP(Catalogue[[#This Row],[Alias]],#REF!,2,FALSE)","v":{"$error":"#REF!"}},null,"AEL040374","ANODE ACI + BOUCHON"]
["AEL040374",null,"ANODE ACI + BOUCHON",null,null,{"$f":"LEFT(Catalogue[[#This Row],[Référence]],3)","v":"AEL"},{"$f":"VLOOKUP(Catalogue[[#This Row],[Alias]],#REF!,2,FALSE)","v":{"$error":"#REF!"}},null,"AEL052130","CHAUFFEO PLUS VS 300L 3000M"]
["AEL052130",null,"CHAUFFEO PLUS VS 300L 3000M",null,null,{"$f":"LEFT(Catalogue[[#This Row],[Référence]],3)","v":"AEL"},{"$f":"VLOOKUP(Catalogue[[#This Row],[Alias]],#REF!,2,FALSE)","v":{"$error":"#REF!"}},null,"AEL053005","CHAUFFEO PLUS VM MONO 50L"]
["AEL053005",null,"CHAUFFEO PLUS VM MONO 50L",null,null,{"$f":"LEFT(Catalogue[[#This Row],[Référence]],3)","v":"AEL"},{"$f":"VLOOKUP(Catalogue[[#This Row],[Alias]],#REF!,2,FALSE)","v":{"$error":"#REF!"}},null,"AEL053015","CHAUFFEO PLUS VM 100L 1200M"]
["AEL053015",null,"CHAUFFEO PLUS VM 100L 1200M",null,null,{"$f":"LEFT(Catalogue[[#This Row],[Référence]],3)","v":"AEL"},{"$f":"VLOOKUP(Catalogue[[#This Row],[Alias]],#REF!,2,FALSE)","v":{"$error":"#REF!"}},null,"AEL053016","CHAUFFEO PLUS VM 150L 1800M"]
["AEL053016",null,"CHAUFFEO PLUS VM 150L 1800M",null,null,{"$f":"LEFT(Catalogue[[#This Row],[Référence]],3)","v":"AEL"},{"$f":"VLOOKUP(Catalogue[[#This Row],[Alias]],#REF!,2,FALSE)","v":{"$error":"#REF!"}},null,"AEL053017","CHAUFFEO PLUS VM 200L 2200M"]
["AEL053017",null,"CHAUFFEO PLUS VM 200L 2200M",null,null,{"$f":"LEFT(Catalogue[[#This Row],[Référence]],3)","v":"AEL"},{"$f":"VLOOKUP(Catalogue[[#This Row],[Alias]],#REF!,2,FALSE)","v":{"$error":"#REF!"}},null,"AEL053020","CHAUFFEO PLUS VS 200L 2200M"]
["AEL053020",null,"CHAUFFEO PLUS VS 200L 2200M",null,null,{"$f":"LEFT(Catalogue[[#This Row],[Référence]],3)","v":"AEL"},{"$f":"VLOOKUP(Catalogue[[#This Row],[Alias]],#REF!,2,FALSE)","v":{"$error":"#REF!"}},null,"AEL053021","CHAUFFEO PLUS VS 200L 2200M"]
["AEL053021",null,"CHAUFFEO PLUS VS 200L 2200M",null,null,{"$f":"LEFT(Catalogue[[#This Row],[Référence]],3)","v":"AEL"},{"$f":"VLOOKUP(Catalogue[[#This Row],[Alias]],#REF!,2,FALSE)","v":{"$error":"#REF!"}},null,"AEL053022","CHAUFFEO PLUS VS 250L 3000M"]
["AEL053022",null,"CHAUFFEO PLUS VS 250L 3000M",null,null,{"$f":"LEFT(Catalogue[[#This Row],[Référence]],3)","v":"AEL"},{"$f":"VLOOKUP(Catalogue[[#This Row],[Alias]],#REF!,2,FALSE)","v":{"$error":"#REF!"}},null,"AEL053023","CHAUFFEO PLUS VS 300L 3000M"]
["AEL053023",null,"CHAUFFEO PLUS VS 300L 3000M",null,null,{"$f":"LEFT(Catalogue[[#This Row],[Référence]],3)","v":"AEL"},{"$f":"VLOOKUP(Catalogue[[#This Row],[Alias]],#REF!,2,FALSE)","v":{"$error":"#REF!"}},null,"AEL053041","CHAUFFEO + COMP VM 150L 1800M"]
["AEL053041",null,{"$f":"VLOOKUP(A1218,I:J,2,0)","v":"CHAUFFEO + COMP VM 150L 1800M"},null,null,{"$f":"LEFT(Catalogue[[#This Row],[Référence]],3)","v":"AEL"},{"$f":"VLOOKUP(Catalogue[[#This Row],[Alias]],#REF!,2,FALSE)","v":{"$error":"#REF!"}},null,"AEL060173","RESISTANCE STEATITE 3000W 230/400V"]
["AEL060173",null,"RESISTANCE STEATITE 3000W 230/400V",null,null,{"$f":"LEFT(Catalogue[[#This Row],[Référence]],3)","v":"AEL"},{"$f":"VLOOKUP(Catalogue[[#This Row],[Alias]],#REF!,2,FALSE)","v":{"$error":"#REF!"}},null,"AEL060174","RESISTANCE STEATITE 2400W"]
["AEL060174",null,"RESISTANCE STEATITE 2400W",null,null,{"$f":"LEFT(Catalogue[[#This Row],[Référence]],3)","v":"AEL"},{"$f":"VLOOKUP(Catalogue[[#This Row],[Alias]],#REF!,2,FALSE)","v":{"$error":"#REF!"}},null,"AEL060175","RESISTANCE STEATITE 1800W"]
["AEL060175",null,"RESISTANCE STEATITE 1800W",null,null,{"$f":"LEFT(Catalogue[[#This Row],[Référence]],3)","v":"AEL"},{"$f":"VLOOKUP(Catalogue[[#This Row],[Alias]],#REF!,2,FALSE)","v":{"$error":"#REF!"}},null,"AEL060177","RESISTANCE STEATITE 1200W 230V"]
["AEL060177",null,"RESISTANCE STEATITE 1200W 230V",null,null,{"$f":"LEFT(Catalogue[[#This Row],[Référence]],3)","v":"AEL"},{"$f":"VLOOKUP(Catalogue[[#This Row],[Alias]],#REF!,2,FALSE)","v":{"$error":"#REF!"}},null,"AEL060178","RESISTANCE STEATITE 1800W 230V"]
["AEL060178",null,"RESISTANCE STEATITE 1800W 230V",null,null,{"$f":"LEFT(Catalogue[[#This Row],[Référence]],3)","v":"AEL"},{"$f":"VLOOKUP(Catalogue[[#This Row],[Alias]],#REF!,2,FALSE)","v":{"$error":"#REF!"}},null,"AEL060179","RESISTANCE STEATITE 2400W 230V"]
["AEL060179",null,"RESISTANCE STEATITE 2400W 230V",null,null,{"$f":"LEFT(Catalogue[[#This Row],[Référence]],3)","v":"AEL"},{"$f":"VLOOKUP(Catalogue[[#This Row],[Alias]],#REF!,2,FALSE)","v":{"$error":"#REF!"}},null,"AEL060185","RESISTANCE BLINDEE 1200W 230V"]
["AEL060185",null,"RESISTANCE BLINDEE 1200W 230V",null,null,{"$f":"LEFT(Catalogue[[#This Row],[Référence]],3)","v":"AEL"},{"$f":"VLOOKUP(Catalogue[[#This Row],[Alias]],#REF!,2,FALSE)","v":{"$error":"#REF!"}},null,"AEL060186","RESISTANCE BLINDEE 1600W 230V"]
["AEL060186",null,"RESISTANCE BLINDEE 1600W 230V",null,null,{"$f":"LEFT(Catalogue[[#This Row],[Référence]],3)","v":"AEL"},{"$f":"VLOOKUP(Catalogue[[#This Row],[Alias]],#REF!,2,FALSE)","v":{"$error":"#REF!"}},null,"AEL060187","RESISTANCE BLINDEE 2200W 230V"]
["AEL060187",null,"RESISTANCE BLINDEE 2200W 230V",null,null,{"$f":"LEFT(Catalogue[[#This Row],[Référence]],3)","v":"AEL"},{"$f":"VLOOKUP(Catalogue[[#This Row],[Alias]],#REF!,2,FALSE)","v":{"$error":"#REF!"}},null,"AEL060413","ENS.EL.BLINDE 2000W"]
["AEL060413",null,"ENS.EL.BLINDE 2000W",null,null,{"$f":"LEFT(Catalogue[[#This Row],[Référence]],3)","v":"AEL"},{"$f":"VLOOKUP(Catalogue[[#This Row],[Alias]],#REF!,2,FALSE)","v":{"$error":"#REF!"}},null,"AEL060429","ENS. EL. BLINDE 1600W SU"]
["AEL060429",null,"ENS. EL. BLINDE 1600W SU",null,null,{"$f":"LEFT(Catalogue[[#This Row],[Référence]],3)","v":"AEL"},{"$f":"VLOOKUP(Catalogue[[#This Row],[Alias]],#REF!,2,FALSE)","v":{"$error":"#REF!"}},null,"AEL060464","ENS EL. BLINDE 2500W 230/400V"]
["AEL060464",null,"ENS EL. BLINDE 2500W 230/400V",null,null,{"$f":"LEFT(Catalogue[[#This Row],[Référence]],3)","v":"AEL"},{"$f":"VLOOKUP(Catalogue[[#This Row],[Alias]],#REF!,2,FALSE)","v":{"$error":"#REF!"}},null,"AEL060469","RESISTANCE BLINDEE 3000W 230V"]
["AEL060469",null,"RESISTANCE BLINDEE 3000W 230V",null,null,{"$f":"LEFT(Catalogue[[#This Row],[Référence]],3)","v":"AEL"},{"$f":"VLOOKUP(Catalogue[[#This Row],[Alias]],#REF!,2,FALSE)","v":{"$error":"#REF!"}},null,"AEL060477","RESISTANCE STEATITE 1800W"]
["AEL060477",null,"RESISTANCE STEATITE 1800W",null,null,{"$f":"LEFT(Catalogue[[#This Row],[Référence]],3)","v":"AEL"},{"$f":"VLOOKUP(Catalogue[[#This Row],[Alias]],#REF!,2,FALSE)","v":{"$error":"#REF!"}},null,"AEL060479","RESISTANCE STEATITE 2400W AVEC CONNECTEUR"]
["AEL060479",null,"RESISTANCE STEATITE 2400W AVEC CONNECTEUR",null,null,{"$f":"LEFT(Catalogue[[#This Row],[Référence]],3)","v":"AEL"},{"$f":"VLOOKUP(Catalogue[[#This Row],[Alias]],#REF!,2,FALSE)","v":{"$error":"#REF!"}},null,"AEL060480","RESISTANCE STEATITE 3000W"]
["AEL060480",null,"RESISTANCE STEATITE 3000W",null,null,{"$f":"LEFT(Catalogue[[#This Row],[Référence]],3)","v":"AEL"},{"$f":"VLOOKUP(Catalogue[[#This Row],[Alias]],#REF!,2,FALSE)","v":{"$error":"#REF!"}},null,"AEL060483","RESISTANCE STEATITE 2200W"]
["AEL060483",null,"RESISTANCE STEATITE 2200W",null,null,{"$f":"LEFT(Catalogue[[#This Row],[Référence]],3)","v":"AEL"},{"$f":"VLOOKUP(Catalogue[[#This Row],[Alias]],#REF!,2,FALSE)","v":{"$error":"#REF!"}},null,"AEL060484","RESISTANCE STEATITE 3000W"]
["AEL060484",null,"RESISTANCE STEATITE 3000W",null,null,{"$f":"LEFT(Catalogue[[#This Row],[Référence]],3)","v":"AEL"},{"$f":"VLOOKUP(Catalogue[[#This Row],[Alias]],#REF!,2,FALSE)","v":{"$error":"#REF!"}},null,"AEL060485","RESISTANCE STEATITE 1200W"]
["AEL060485",null,"RESISTANCE STEATITE 1200W",null,null,{"$f":"LEFT(Catalogue[[#This Row],[Référence]],3)","v":"AEL"},{"$f":"VLOOKUP(Catalogue[[#This Row],[Alias]],#REF!,2,FALSE)","v":{"$error":"#REF!"}},null,"AEL060515","EL. BLINDE 1200W 230V + ANODE"]
["AEL060515",null,"EL. BLINDE 1200W 230V + ANODE",null,null,{"$f":"LEFT(Catalogue[[#This Row],[Référence]],3)","v":"AEL"},{"$f":"VLOOKUP(Catalogue[[#This Row],[Alias]],#REF!,2,FALSE)","v":{"$error":"#REF!"}},null,"AEL070070","THERMOSTAT EMBROCHABLE L270 MOL. BLEUE"]
["AEL070070",null,"THERMOSTAT EMBROCHABLE L270 MOL. BLEUE",null,null,{"$f":"LEFT(Catalogue[[#This Row],[Référence]],3)","v":"AEL"},{"$f":"VLOOKUP(Catalogue[[#This Row],[Alias]],#REF!,2,FALSE)","v":{"$error":"#REF!"}},null,"AEL070130","THERMOSTAT 1 BULBE 230V"]
["AEL070130",null,"THERMOSTAT 1 BULBE 230V",null,null,{"$f":"LEFT(Catalogue[[#This Row],[Référence]],3)","v":"AEL"},{"$f":"VLOOKUP(Catalogue[[#This Row],[Alias]],#REF!,2,FALSE)","v":{"$error":"#REF!"}},null,"AEL070210","CARTE DE PUISSANCE TRI 400V"]
["AEL070210",null,"CARTE DE PUISSANCE TRI 400V",null,null,{"$f":"LEFT(Catalogue[[#This Row],[Référence]],3)","v":"AEL"},{"$f":"VLOOKUP(Catalogue[[#This Row],[Alias]],#REF!,2,FALSE)","v":{"$error":"#REF!"}},null,"AEL070214","ENS. THERMOSTAT ELECT."]
["AEL070214",null,"ENS. THERMOSTAT ELECT.",null,null,{"$f":"LEFT(Catalogue[[#This Row],[Référence]],3)","v":"AEL"},{"$f":"VLOOKUP(Catalogue[[#This Row],[Alias]],#REF!,2,FALSE)","v":{"$error":"#REF!"}},null,"AEL070215","ENS. THERMOSTAT ELECT."]
["AEL070215",null,"ENS. THERMOSTAT ELECT.",null,null,{"$f":"LEFT(Catalogue[[#This Row],[Référence]],3)","v":"AEL"},{"$f":"VLOOKUP(Catalogue[[#This Row],[Alias]],#REF!,2,FALSE)","v":{"$error":"#REF!"}},null,"AEL070216","ENS. THERMOSTAT ELECT."]
["AEL070216",null,"ENS. THERMOSTAT ELECT.",null,null,{"$f":"LEFT(Catalogue[[#This Row],[Référence]],3)","v":"AEL"},{"$f":"VLOOKUP(Catalogue[[#This Row],[Alias]],#REF!,2,FALSE)","v":{"$error":"#REF!"}},null,"AEL070218","ENS. THERMOSTAT ELECT."]
["AEL070218",null,"ENS. THERMOSTAT ELECT.",null,null,{"$f":"LEFT(Catalogue[[#This Row],[Référence]],3)","v":"AEL"},{"$f":"VLOOKUP(Catalogue[[#This Row],[Alias]],#REF!,2,FALSE)","v":{"$error":"#REF!"}},null,"AEL070219","CARTE DE PUISS. THERMOSTAT"]
["AEL070219",null,"CARTE DE PUISS. THERMOSTAT",null,null,{"$f":"LEFT(Catalogue[[#This Row],[Référence]],3)","v":"AEL"},{"$f":"VLOOKUP(Catalogue[[#This Row],[Alias]],#REF!,2,FALSE)","v":{"$error":"#REF!"}},null,"AEL070225","THERMOSTAT ELECTRO KITABLE"]
["AEL070225",null,"THERMOSTAT ELECTRO KITABLE",null,null,{"$f":"LEFT(Catalogue[[#This Row],[Référence]],3)","v":"AEL"},{"$f":"VLOOKUP(Catalogue[[#This Row],[Alias]],#REF!,2,FALSE)","v":{"$error":"#REF!"}},null,"AEL070230","KIT AGRO 85DIAM (THERMOSTAT BTS)"]
["AEL070230",null,"KIT AGRO 85DIAM (THERMOSTAT BTS)",null,null,{"$f":"LEFT(Catalogue[[#This Row],[Référence]],3)","v":"AEL"},{"$f":"VLOOKUP(Catalogue[[#This Row],[Alias]],#REF!,2,FALSE)","v":{"$error":"#REF!"}},null,"AEL070262","ENS. THERMOSTAT ELECTRONIQUE"]
["AEL070262",null,"ENS. THERMOSTAT ELECTRONIQUE",null,null,{"$f":"LEFT(Catalogue[[#This Row],[Référence]],3)","v":"AEL"},{"$f":"VLOOKUP(Catalogue[[#This Row],[Alias]],#REF!,2,FALSE)","v":{"$error":"#REF!"}},null,"AEL070272","THERMOSTAT DE SECURITE SBLC001"]
["AEL070272",null,"THERMOSTAT DE SECURITE SBLC001",null,null,{"$f":"LEFT(Catalogue[[#This Row],[Référence]],3)","v":"AEL"},{"$f":"VLOOKUP(Catalogue[[#This Row],[Alias]],#REF!,2,FALSE)","v":{"$error":"#REF!"}},null,"AEL070320","BOITIER ELECT. DE REGULATION"]
["AEL070320",null,"BOITIER ELECT. DE REGULATION",null,null,{"$f":"LEFT(Catalogue[[#This Row],[Référence]],3)","v":"AEL"},{"$f":"VLOOKUP(Catalogue[[#This Row],[Alias]],#REF!,2,FALSE)","v":{"$error":"#REF!"}},null,"AEL081055","SONDE DE CHARGE"]
["AEL081055",null,"SONDE DE CHARGE",null,null,{"$f":"LEFT(Catalogue[[#This Row],[Référence]],3)","v":"AEL"},{"$f":"VLOOKUP(Catalogue[[#This Row],[Alias]],#REF!,2,FALSE)","v":{"$error":"#REF!"}},null,"AEL081056","SONDE D AMBIANCE"]
["AEL081056",null,"SONDE D AMBIANCE",null,null,{"$f":"LEFT(Catalogue[[#This Row],[Référence]],3)","v":"AEL"},{"$f":"VLOOKUP(Catalogue[[#This Row],[Alias]],#REF!,2,FALSE)","v":{"$error":"#REF!"}},null,"AEL081057","SONDE AMBIANCE"]
["AEL081057",null,"SONDE AMBIANCE",null,null,{"$f":"LEFT(Catalogue[[#This Row],[Référence]],3)","v":"AEL"},{"$f":"VLOOKUP(Catalogue[[#This Row],[Alias]],#REF!,2,FALSE)","v":{"$error":"#REF!"}},null,"AEL086453","RESISTANCE 2000W + JOINT"]
["AEL086453",null,"RESISTANCE 2000W + JOINT",null,null,{"$f":"LEFT(Catalogue[[#This Row],[Référence]],3)","v":"AEL"},{"$f":"VLOOKUP(Catalogue[[#This Row],[Alias]],#REF!,2,FALSE)","v":{"$error":"#REF!"}},null,"AEL087080","CARTE ELECTRONIQUE"]
["AEL087080",null,"CARTE ELECTRONIQUE",null,null,{"$f":"LEFT(Catalogue[[#This Row],[Référence]],3)","v":"AEL"},{"$f":"VLOOKUP(Catalogue[[#This Row],[Alias]],#REF!,2,FALSE)","v":{"$error":"#REF!"}},null,"AEL087083","POTENTIOMETRE 10 K"]
["AEL087083",null,"POTENTIOMETRE 10 K",null,null,{"$f":"LEFT(Catalogue[[#This Row],[Référence]],3)","v":"AEL"},{"$f":"VLOOKUP(Catalogue[[#This Row],[Alias]],#REF!,2,FALSE)","v":{"$error":"#REF!"}},null,"AEL087140","CARTE DE PUISSANCE R4GD 1500/2000W"]
["AEL087140",null,"CARTE DE PUISSANCE R4GD 1500/2000W",null,null,{"$f":"LEFT(Catalogue[[#This Row],[Référence]],3)","v":"AEL"},{"$f":"VLOOKUP(Catalogue[[#This Row],[Alias]],#REF!,2,FALSE)","v":{"$error":"#REF!"}},null,"AEL087142","PLATINE THERMOSTAT (COMBINE) TRO"]
["AEL087142",null,"PLATINE THERMOSTAT (COMBINE) TRO",null,null,{"$f":"LEFT(Catalogue[[#This Row],[Référence]],3)","v":"AEL"},{"$f":"VLOOKUP(Catalogue[[#This Row],[Alias]],#REF!,2,FALSE)","v":{"$error":"#REF!"}},null,"AEL087260","CARTE ELECT. SEULE LPO MO/D"]
["AEL087260",null,"CARTE ELECT. SEULE LPO MO/D",null,null,{"$f":"LEFT(Catalogue[[#This Row],[Référence]],3)","v":"AEL"},{"$f":"VLOOKUP(Catalogue[[#This Row],[Alias]],#REF!,2,FALSE)","v":{"$error":"#REF!"}},null,"AEL087735","BOITIER THERMOSTAT COMPLET (2 ORDRES) + PRISE"]
["AEL087735",null,"BOITIER THERMOSTAT COMPLET (2 ORDRES) + PRISE",null,null,{"$f":"LEFT(Catalogue[[#This Row],[Référence]],3)","v":"AEL"},{"$f":"VLOOKUP(Catalogue[[#This Row],[Alias]],#REF!,2,FALSE)","v":{"$error":"#REF!"}},null,"AEL087743","BOITIER THERMOSTAT COMPLET"]
["AEL087743",null,"BOITIER THERMOSTAT COMPLET",null,null,{"$f":"LEFT(Catalogue[[#This Row],[Référence]],3)","v":"AEL"},{"$f":"VLOOKUP(Catalogue[[#This Row],[Alias]],#REF!,2,FALSE)","v":{"$error":"#REF!"}},null,"AEL087753","BOITIER THERMOSTAT COMPLET"]
["AEL087753",null,"BOITIER THERMOSTAT COMPLET",null,null,{"$f":"LEFT(Catalogue[[#This Row],[Référence]],3)","v":"AEL"},{"$f":"VLOOKUP(Catalogue[[#This Row],[Alias]],#REF!,2,FALSE)","v":{"$error":"#REF!"}},null,"AEL087977","COMMANDE DIGITALE ATLANTIC"]
["AEL087977",null,"COMMANDE DIGITALE ATLANTIC",null,null,{"$f":"LEFT(Catalogue[[#This Row],[Référence]],3)","v":"AEL"},{"$f":"VLOOKUP(Catalogue[[#This Row],[Alias]],#REF!,2,FALSE)","v":{"$error":"#REF!"}},null,"AEL089045","DELESTEUR 1 Z FP (PACK ECO)"]
["AEL089045",null,"DELESTEUR 1 Z FP (PACK ECO)",null,null,{"$f":"LEFT(Catalogue[[#This Row],[Référence]],3)","v":"AEL"},{"$f":"VLOOKUP(Catalogue[[#This Row],[Alias]],#REF!,2,FALSE)","v":{"$error":"#REF!"}},null,"AEL089046","DELESTEUR 2 ZONES FP (PACK ECO)"]
["AEL089046",null,"DELESTEUR 2 ZONES FP (PACK ECO)",null,null,{"$f":"LEFT(Catalogue[[#This Row],[Référence]],3)","v":"AEL"},{"$f":"VLOOKUP(Catalogue[[#This Row],[Alias]],#REF!,2,FALSE)","v":{"$error":"#REF!"}},null,"AEL089050","BOITIER MURAL 2 ZONES"]
["AEL089050",null,"BOITIER MURAL 2 ZONES",null,null,{"$f":"LEFT(Catalogue[[#This Row],[Référence]],3)","v":"AEL"},{"$f":"VLOOKUP(Catalogue[[#This Row],[Alias]],#REF!,2,FALSE)","v":{"$error":"#REF!"}},null,"AEL089107","DELESTEUR SEUL PACK CONF ELEC"]
["AEL089107",null,"DELESTEUR SEUL PACK CONF ELEC",null,null,{"$f":"LEFT(Catalogue[[#This Row],[Référence]],3)","v":"AEL"},{"$f":"VLOOKUP(Catalogue[[#This Row],[Alias]],#REF!,2,FALSE)","v":{"$error":"#REF!"}},null,"AEL099003","RESISTANCE BLINDEE 1200W 230V"]
["AEL099003",null,"RESISTANCE BLINDEE 1200W 230V",null,null,{"$f":"LEFT(Catalogue[[#This Row],[Référence]],3)","v":"AEL"},{"$f":"VLOOKUP(Catalogue[[#This Row],[Alias]],#REF!,2,FALSE)","v":{"$error":"#REF!"}},null,"AEL099004","RESISTANCE BLINDEE 1650W 230V"]
["AEL099004",null,"RESISTANCE BLINDEE 1650W 230V",null,null,{"$f":"LEFT(Catalogue[[#This Row],[Référence]],3)","v":"AEL"},{"$f":"VLOOKUP(Catalogue[[#This Row],[Alias]],#REF!,2,FALSE)","v":{"$error":"#REF!"}},null,"AEL099005","RESISTANCE BLINDEE 2200W 230V"]
["AEL099005",null,"RESISTANCE BLINDEE 2200W 230V",null,null,{"$f":"LEFT(Catalogue[[#This Row],[Référence]],3)","v":"AEL"},{"$f":"VLOOKUP(Catalogue[[#This Row],[Alias]],#REF!,2,FALSE)","v":{"$error":"#REF!"}},null,"AEL099007","RESISTANCE BLINDEE 3000W 230V"]
["AEL099007",null,"RESISTANCE BLINDEE 3000W 230V",null,null,{"$f":"LEFT(Catalogue[[#This Row],[Référence]],3)","v":"AEL"},{"$f":"VLOOKUP(Catalogue[[#This Row],[Alias]],#REF!,2,FALSE)","v":{"$error":"#REF!"}},null,"AEL099009","RESISTANCE BLINDEE 2200W TC"]
["AEL099009",null,"RESISTANCE BLINDEE 2200W TC",null,null,{"$f":"LEFT(Catalogue[[#This Row],[Référence]],3)","v":"AEL"},{"$f":"VLOOKUP(Catalogue[[#This Row],[Alias]],#REF!,2,FALSE)","v":{"$error":"#REF!"}},null,"AEL099011","RESISTANCE BLINDEE 3300W TC"]
["AEL099011",null,"RESISTANCE BLINDEE 3300W TC",null,null,{"$f":"LEFT(Catalogue[[#This Row],[Référence]],3)","v":"AEL"},{"$f":"VLOOKUP(Catalogue[[#This Row],[Alias]],#REF!,2,FALSE)","v":{"$error":"#REF!"}},null,"AEL099022","RESISTANCE STEATITE 2200W TC"]
["AEL099022",null,"RESISTANCE STEATITE 2200W TC",null,null,{"$f":"LEFT(Catalogue[[#This Row],[Référence]],3)","v":"AEL"},{"$f":"VLOOKUP(Catalogue[[#This Row],[Alias]],#REF!,2,FALSE)","v":{"$error":"#REF!"}},null,"AEL099023","RESISTANCE STEAT.COURTE 3000W"]
["AEL099023",null,"RESISTANCE STEAT.COURTE 3000W",null,null,{"$f":"LEFT(Catalogue[[#This Row],[Référence]],3)","v":"AEL"},{"$f":"VLOOKUP(Catalogue[[#This Row],[Alias]],#REF!,2,FALSE)","v":{"$error":"#REF!"}},null,"AEL099024","RESISTANCE STEATITE 1800W MONO"]
["AEL099024",null,"RESISTANCE STEATITE 1800W MONO",null,null,{"$f":"LEFT(Catalogue[[#This Row],[Référence]],3)","v":"AEL"},{"$f":"VLOOKUP(Catalogue[[#This Row],[Alias]],#REF!,2,FALSE)","v":{"$error":"#REF!"}},null,"AEL099025","RESISTANCE STEATITE 2200W MONO"]
["AEL099025",null,"RESISTANCE STEATITE 2200W MONO",null,null,{"$f":"LEFT(Catalogue[[#This Row],[Référence]],3)","v":"AEL"},{"$f":"VLOOKUP(Catalogue[[#This Row],[Alias]],#REF!,2,FALSE)","v":{"$error":"#REF!"}},null,"AEL099032","CORPS DE CHAUFFE + JOINT"]
["AEL099032",null,"CORPS DE CHAUFFE + JOINT",null,null,{"$f":"LEFT(Catalogue[[#This Row],[Référence]],3)","v":"AEL"},{"$f":"VLOOKUP(Catalogue[[#This Row],[Alias]],#REF!,2,FALSE)","v":{"$error":"#REF!"}},null,"AEL099035","CORPS DE CHAUFFE + JOINT + ANODE MG"]
["AEL099035",null,"CORPS DE CHAUFFE + JOINT + ANODE MG",null,null,{"$f":"LEFT(Catalogue[[#This Row],[Référence]],3)","v":"AEL"},{"$f":"VLOOKUP(Catalogue[[#This Row],[Alias]],#REF!,2,FALSE)","v":{"$error":"#REF!"}},null,"AEL099041","THERMOSTAT TOUS COURANTS"]
["AEL099041",null,"THERMOSTAT TOUS COURANTS",null,null,{"$f":"LEFT(Catalogue[[#This Row],[Référence]],3)","v":"AEL"},{"$f":"VLOOKUP(Catalogue[[#This Row],[Alias]],#REF!,2,FALSE)","v":{"$error":"#REF!"}},null,"AEL099042","THERMOSTAT MONOPHASE BBSC"]
["AEL099042",null,{"$f":"VLOOKUP(A1282,I:J,2,0)","v":"THERMOSTAT MONOPHASE BBSC"},null,null,{"$f":"LEFT(Catalogue[[#This Row],[Référence]],3)","v":"AEL"},{"$f":"VLOOKUP(Catalogue[[#This Row],[Alias]],#REF!,2,FALSE)","v":{"$error":"#REF!"}},null,"AEL099043","THERMOSTAT EMBROCHABLE L270"]
["AEL099043",null,"THERMOSTAT EMBROCHABLE L270",null,null,{"$f":"LEFT(Catalogue[[#This Row],[Référence]],3)","v":"AEL"},{"$f":"VLOOKUP(Catalogue[[#This Row],[Alias]],#REF!,2,FALSE)","v":{"$error":"#REF!"}},null,"AEL099044","THERMOSTAT MONO"]
["AEL099044",null,"THERMOSTAT MONO",null,null,{"$f":"LEFT(Catalogue[[#This Row],[Référence]],3)","v":"AEL"},{"$f":"VLOOKUP(Catalogue[[#This Row],[Alias]],#REF!,2,FALSE)","v":{"$error":"#REF!"}},null,"AEL099045","THERMOSTAT MONO EMBROCHABLE"]
["AEL099045",null,"THERMOSTAT MONO EMBROCHABLE",null,null,{"$f":"LEFT(Catalogue[[#This Row],[Référence]],3)","v":"AEL"},{"$f":"VLOOKUP(Catalogue[[#This Row],[Alias]],#REF!,2,FALSE)","v":{"$error":"#REF!"}},null,"AEL099048","CAPOT CONST. 344 TYPE 96VM"]
["AEL099048",null,"CAPOT CONST. 344 TYPE 96VM",null,null,{"$f":"LEFT(Catalogue[[#This Row],[Référence]],3)","v":"AEL"},{"$f":"VLOOKUP(Catalogue[[#This Row],[Alias]],#REF!,2,FALSE)","v":{"$error":"#REF!"}},null,"AEL099051","CAPOT CONST. 344 TYPE 78 OU 88 MONO / TC"]
["AEL099051",null,"CAPOT CONST. 344 TYPE 78 OU 88 MONO / TC",null,null,{"$f":"LEFT(Catalogue[[#This Row],[Référence]],3)","v":"AEL"},{"$f":"VLOOKUP(Catalogue[[#This Row],[Alias]],#REF!,2,FALSE)","v":{"$error":"#REF!"}},null,"AEL099060","JOINT A LEVRE D.82MM"]
["AEL099060",null,"JOINT A LEVRE D.82MM",null,null,{"$f":"LEFT(Catalogue[[#This Row],[Référence]],3)","v":"AEL"},{"$f":"VLOOKUP(Catalogue[[#This Row],[Alias]],#REF!,2,FALSE)","v":{"$error":"#REF!"}},null,"AEL099063","KIT ANODE"]
["AEL099063",null,"KIT ANODE",null,null,{"$f":"LEFT(Catalogue[[#This Row],[Référence]],3)","v":"AEL"},{"$f":"VLOOKUP(Catalogue[[#This Row],[Alias]],#REF!,2,FALSE)","v":{"$error":"#REF!"}},null,"AEL099085","ENS. ELEMENT BLINDE 2200W"]
["AEL099085",null,"ENS. ELEMENT BLINDE 2200W",null,null,{"$f":"LEFT(Catalogue[[#This Row],[Référence]],3)","v":"AEL"},{"$f":"VLOOKUP(Catalogue[[#This Row],[Alias]],#REF!,2,FALSE)","v":{"$error":"#REF!"}},null,"AEL099102","CORPS DE CHAUFFE  ACI + JOINT"]
["AEL099102",null,"CORPS DE CHAUFFE  ACI + JOINT",null,null,{"$f":"LEFT(Catalogue[[#This Row],[Référence]],3)","v":"AEL"},{"$f":"VLOOKUP(Catalogue[[#This Row],[Alias]],#REF!,2,FALSE)","v":{"$error":"#REF!"}},null,"AEL099103","099103 PORTE BOUGIE ACI 300L"]
["AEL099103",null,"099103 PORTE BOUGIE ACI 300L",null,null,{"$f":"LEFT(Catalogue[[#This Row],[Référence]],3)","v":"AEL"},{"$f":"VLOOKUP(Catalogue[[#This Row],[Alias]],#REF!,2,FALSE)","v":{"$error":"#REF!"}},null,"AEL099105","RESISTANCE STEATITE 2200W TC"]
["AEL099105",null,"RESISTANCE STEATITE 2200W TC",null,null,{"$f":"LEFT(Catalogue[[#This Row],[Référence]],3)","v":"AEL"},{"$f":"VLOOKUP(Catalogue[[#This Row],[Alias]],#REF!,2,FALSE)","v":{"$error":"#REF!"}},null,"AEL099108","KIT ELECTRONIQUE COMPLET MONO"]
["AEL099108",null,"KIT ELECTRONIQUE COMPLET MONO",null,null,{"$f":"LEFT(Catalogue[[#This Row],[Référence]],3)","v":"AEL"},{"$f":"VLOOKUP(Catalogue[[#This Row],[Alias]],#REF!,2,FALSE)","v":{"$error":"#REF!"}},null,"AEL099109","KIT ELECTRONIQUE COMPLET TRI"]
["AEL099109",null,"KIT ELECTRONIQUE COMPLET TRI",null,null,{"$f":"LEFT(Catalogue[[#This Row],[Référence]],3)","v":"AEL"},{"$f":"VLOOKUP(Catalogue[[#This Row],[Alias]],#REF!,2,FALSE)","v":{"$error":"#REF!"}},null,"AEL099110","CARTE DE PUISSANCE MONO"]
["AEL099110",null,"CARTE DE PUISSANCE MONO",null,null,{"$f":"LEFT(Catalogue[[#This Row],[Référence]],3)","v":"AEL"},{"$f":"VLOOKUP(Catalogue[[#This Row],[Alias]],#REF!,2,FALSE)","v":{"$error":"#REF!"}},null,"AEL099111","CARTE DE REGULATION MONO"]
["AEL099111",null,"CARTE DE REGULATION MONO",null,null,{"$f":"LEFT(Catalogue[[#This Row],[Référence]],3)","v":"AEL"},{"$f":"VLOOKUP(Catalogue[[#This Row],[Alias]],#REF!,2,FALSE)","v":{"$error":"#REF!"}},null,"AEL099116","RESISTANCE STEATITE 1200W TC"]
["AEL099116",null,"RESISTANCE STEATITE 1200W TC",null,null,{"$f":"LEFT(Catalogue[[#This Row],[Référence]],3)","v":"AEL"},{"$f":"VLOOKUP(Catalogue[[#This Row],[Alias]],#REF!,2,FALSE)","v":{"$error":"#REF!"}},null,"AEL153105","ZENEO ACI VM 050L 1200M"]
["AEL153105",null,"ZENEO ACI VM 050L 1200M",null,null,{"$f":"LEFT(Catalogue[[#This Row],[Référence]],3)","v":"AEL"},{"$f":"VLOOKUP(Catalogue[[#This Row],[Alias]],#REF!,2,FALSE)","v":{"$error":"#REF!"}},null,"AEL153109","ZENEO VM 100L 1200M"]
["AEL153109",null,"ZENEO VM 100L 1200M",null,null,{"$f":"LEFT(Catalogue[[#This Row],[Référence]],3)","v":"AEL"},{"$f":"VLOOKUP(Catalogue[[#This Row],[Alias]],#REF!,2,FALSE)","v":{"$error":"#REF!"}},null,"AEL153111","ZENEO VM 150L 1800M"]
["AEL153111",null,"ZENEO VM 150L 1800M",null,null,{"$f":"LEFT(Catalogue[[#This Row],[Référence]],3)","v":"AEL"},{"$f":"VLOOKUP(Catalogue[[#This Row],[Alias]],#REF!,2,FALSE)","v":{"$error":"#REF!"}},null,"AEL153112","ZENEO VM 200L 2200M"]
["AEL153112",null,"ZENEO VM 200L 2200M",null,null,{"$f":"LEFT(Catalogue[[#This Row],[Référence]],3)","v":"AEL"},{"$f":"VLOOKUP(Catalogue[[#This Row],[Alias]],#REF!,2,FALSE)","v":{"$error":"#REF!"}},null,"AEL153115","ZENEO ACI HYB VM 150L 1800M"]
["AEL153115",null,"ZENEO ACI HYB VM 150L 1800M",null,null,{"$f":"LEFT(Catalogue[[#This Row],[Référence]],3)","v":"AEL"},{"$f":"VLOOKUP(Catalogue[[#This Row],[Alias]],#REF!,2,FALSE)","v":{"$error":"#REF!"}},null,"AEL153120","ZENEO ACI HYB VM 200L 2200M"]
["AEL153120",null,"ZENEO ACI HYB VM 200L 2200M",null,null,{"$f":"LEFT(Catalogue[[#This Row],[Référence]],3)","v":"AEL"},{"$f":"VLOOKUP(Catalogue[[#This Row],[Alias]],#REF!,2,FALSE)","v":{"$error":"#REF!"}},null,"AEL153204","ZENEO ACI VM 050L 1800M ACC."]
["AEL153204",null,"ZENEO ACI VM 050L 1800M ACC.",null,null,{"$f":"LEFT(Catalogue[[#This Row],[Référence]],3)","v":"AEL"},{"$f":"VLOOKUP(Catalogue[[#This Row],[Alias]],#REF!,2,FALSE)","v":{"$error":"#REF!"}},null,"AEL154117","AQUEO ACI HYB VM 200L 2200M"]
["AEL154117",null,"AQUEO ACI HYB VM 200L 2200M",null,null,{"$f":"LEFT(Catalogue[[#This Row],[Référence]],3)","v":"AEL"},{"$f":"VLOOKUP(Catalogue[[#This Row],[Alias]],#REF!,2,FALSE)","v":{"$error":"#REF!"}},null,"AEL154316","ZENEO ACI HYB VS 150L 1800M"]
["AEL154316",null,"ZENEO ACI HYB VS 150L 1800M",null,null,{"$f":"LEFT(Catalogue[[#This Row],[Référence]],3)","v":"AEL"},{"$f":"VLOOKUP(Catalogue[[#This Row],[Alias]],#REF!,2,FALSE)","v":{"$error":"#REF!"}},null,"AEL154317","CEE ZENEO ACI HYBRIDE VERTICAL SUR SOCLE 200L"]
["AEL154317",null,"CEE ZENEO ACI HYBRIDE VERTICAL SUR SOCLE 200L",null,null,{"$f":"LEFT(Catalogue[[#This Row],[Référence]],3)","v":"AEL"},{"$f":"VLOOKUP(Catalogue[[#This Row],[Alias]],#REF!,2,FALSE)","v":{"$error":"#REF!"}},null,"AEL154318","ZENEO ACI HYB VS 250L 3000M"]
["AEL154318",null,"ZENEO ACI HYB VS 250L 3000M",null,null,{"$f":"LEFT(Catalogue[[#This Row],[Référence]],3)","v":"AEL"},{"$f":"VLOOKUP(Catalogue[[#This Row],[Alias]],#REF!,2,FALSE)","v":{"$error":"#REF!"}},null,"AEL154319","ZENEO ACI HYB VS 300L 3000M"]
["AEL154319",null,"ZENEO ACI HYB VS 300L 3000M",null,null,{"$f":"LEFT(Catalogue[[#This Row],[Référence]],3)","v":"AEL"},{"$f":"VLOOKUP(Catalogue[[#This Row],[Alias]],#REF!,2,FALSE)","v":{"$error":"#REF!"}},null,"AEL154320","ZENEO ACI HYB VS 200L 2200M"]
["AEL154320",null,"ZENEO ACI HYB VS 200L 2200M",null,null,{"$f":"LEFT(Catalogue[[#This Row],[Référence]],3)","v":"AEL"},{"$f":"VLOOKUP(Catalogue[[#This Row],[Alias]],#REF!,2,FALSE)","v":{"$error":"#REF!"}},null,"AEL155412","ZENEO ACI HYB HM 150L"]
["AEL155412",null,"ZENEO ACI HYB HM 150L",null,null,{"$f":"LEFT(Catalogue[[#This Row],[Référence]],3)","v":"AEL"},{"$f":"VLOOKUP(Catalogue[[#This Row],[Alias]],#REF!,2,FALSE)","v":{"$error":"#REF!"}},null,"AEL155415","ZENEO ACI HYB HM 150L 1800M"]
["AEL155415",null,"ZENEO ACI HYB HM 150L 1800M",null,null,{"$f":"LEFT(Catalogue[[#This Row],[Référence]],3)","v":"AEL"},{"$f":"VLOOKUP(Catalogue[[#This Row],[Alias]],#REF!,2,FALSE)","v":{"$error":"#REF!"}},null,"AEL155420","ZENEO ACI HYB HM 200L 2200M"]
["AEL155420",null,"ZENEO ACI HYB HM 200L 2200M",null,null,{"$f":"LEFT(Catalogue[[#This Row],[Référence]],3)","v":"AEL"},{"$f":"VLOOKUP(Catalogue[[#This Row],[Alias]],#REF!,2,FALSE)","v":{"$error":"#REF!"}},null,"AEL156220","ZENEO COMP ACI HYB VM 200L 2400M"]
["AEL156220",null,"ZENEO COMP ACI HYB VM 200L 2400M",null,null,{"$f":"LEFT(Catalogue[[#This Row],[Référence]],3)","v":"AEL"},{"$f":"VLOOKUP(Catalogue[[#This Row],[Alias]],#REF!,2,FALSE)","v":{"$error":"#REF!"}},null,"AEL157204","LINEO CONNECTE MP 040L BLC 2250M"]
["AEL157204",null,"LINEO CONNECTE MP 040L BLC 2250M",null,null,{"$f":"LEFT(Catalogue[[#This Row],[Référence]],3)","v":"AEL"},{"$f":"VLOOKUP(Catalogue[[#This Row],[Alias]],#REF!,2,FALSE)","v":{"$error":"#REF!"}},null,"AEL157205","LINEO CONNECTE MP 040L BLC 2250M"]
["AEL157205",null,"LINEO CONNECTE MP 040L BLC 2250M",null,null,{"$f":"LEFT(Catalogue[[#This Row],[Référence]],3)","v":"AEL"},{"$f":"VLOOKUP(Catalogue[[#This Row],[Alias]],#REF!,2,FALSE)","v":{"$error":"#REF!"}},null,"AEL157206","LINEO CONNECTE MP 065L BLC 2250M"]
["AEL157206",null,"LINEO CONNECTE MP 065L BLC 2250M",null,null,{"$f":"LEFT(Catalogue[[#This Row],[Référence]],3)","v":"AEL"},{"$f":"VLOOKUP(Catalogue[[#This Row],[Alias]],#REF!,2,FALSE)","v":{"$error":"#REF!"}},null,"AEL157207","LINEO CONNECTE MP 065L BLC 2250M"]
["AEL157207",null,"LINEO CONNECTE MP 065L BLC 2250M",null,null,{"$f":"LEFT(Catalogue[[#This Row],[Référence]],3)","v":"AEL"},{"$f":"VLOOKUP(Catalogue[[#This Row],[Alias]],#REF!,2,FALSE)","v":{"$error":"#REF!"}},null,"AEL157208","LINEO CONNECTE MP 080L BLC 2250M"]
["AEL157208",null,"LINEO CONNECTE MP 080L BLC 2250M",null,null,{"$f":"LEFT(Catalogue[[#This Row],[Référence]],3)","v":"AEL"},{"$f":"VLOOKUP(Catalogue[[#This Row],[Alias]],#REF!,2,FALSE)","v":{"$error":"#REF!"}},null,"AEL157209","LINEO CONNECTE MP 080L BLC 2250M"]
["AEL157209",null,"LINEO CONNECTE MP 080L BLC 2250M",null,null,{"$f":"LEFT(Catalogue[[#This Row],[Référence]],3)","v":"AEL"},{"$f":"VLOOKUP(Catalogue[[#This Row],[Alias]],#REF!,2,FALSE)","v":{"$error":"#REF!"}},null,"AEL157210","LINEO CONNECTE VM 100L BLC 2400M"]
["AEL157210",null,"LINEO CONNECTE VM 100L BLC 2400M",null,null,{"$f":"LEFT(Catalogue[[#This Row],[Référence]],3)","v":"AEL"},{"$f":"VLOOKUP(Catalogue[[#This Row],[Alias]],#REF!,2,FALSE)","v":{"$error":"#REF!"}},null,"AEL157213","LINEO CONNECTE VM 100L BLC 2400M"]
["AEL157213",null,"LINEO CONNECTE VM 100L BLC 2400M",null,null,{"$f":"LEFT(Catalogue[[#This Row],[Référence]],3)","v":"AEL"},{"$f":"VLOOKUP(Catalogue[[#This Row],[Alias]],#REF!,2,FALSE)","v":{"$error":"#REF!"}},null,"AEL157214","LINEO CONNECTE VM 120L BLC 2400M"]
["AEL157214",null,"LINEO CONNECTE VM 120L BLC 2400M",null,null,{"$f":"LEFT(Catalogue[[#This Row],[Référence]],3)","v":"AEL"},{"$f":"VLOOKUP(Catalogue[[#This Row],[Alias]],#REF!,2,FALSE)","v":{"$error":"#REF!"}},null,"AEL157215","LINEO CONNECTE VM 150L BLC 2400M"]
["AEL157215",null,"LINEO CONNECTE VM 150L BLC 2400M",null,null,{"$f":"LEFT(Catalogue[[#This Row],[Référence]],3)","v":"AEL"},{"$f":"VLOOKUP(Catalogue[[#This Row],[Alias]],#REF!,2,FALSE)","v":{"$error":"#REF!"}},null,"AEL199600","THERMOSTAT DE CHARGE"]
["AEL199600",null,"THERMOSTAT DE CHARGE",null,null,{"$f":"LEFT(Catalogue[[#This Row],[Référence]],3)","v":"AEL"},{"$f":"VLOOKUP(Catalogue[[#This Row],[Alias]],#REF!,2,FALSE)","v":{"$error":"#REF!"}},null,"AEL199604","THERMOSTAT"]
["AEL199604",null,"THERMOSTAT",null,null,{"$f":"LEFT(Catalogue[[#This Row],[Référence]],3)","v":"AEL"},{"$f":"VLOOKUP(Catalogue[[#This Row],[Alias]],#REF!,2,FALSE)","v":{"$error":"#REF!"}},null,"AEL199605","MOTO-TURBINE (271MM)"]
["AEL199605",null,"MOTO-TURBINE (271MM)",null,null,{"$f":"LEFT(Catalogue[[#This Row],[Référence]],3)","v":"AEL"},{"$f":"VLOOKUP(Catalogue[[#This Row],[Alias]],#REF!,2,FALSE)","v":{"$error":"#REF!"}},null,"AEL199675","INTERRUPTEUR A VOYANT"]
["AEL199675",null,"INTERRUPTEUR A VOYANT",null,null,{"$f":"LEFT(Catalogue[[#This Row],[Référence]],3)","v":"AEL"},{"$f":"VLOOKUP(Catalogue[[#This Row],[Alias]],#REF!,2,FALSE)","v":{"$error":"#REF!"}},null,"AEL199676","THERMO-RELAIS"]
["AEL199676",null,"THERMO-RELAIS",null,null,{"$f":"LEFT(Catalogue[[#This Row],[Référence]],3)","v":"AEL"},{"$f":"VLOOKUP(Catalogue[[#This Row],[Alias]],#REF!,2,FALSE)","v":{"$error":"#REF!"}},null,"AEL199677","THERMOSTAT AMBIANCE"]
["AEL199677",null,"THERMOSTAT AMBIANCE",null,null,{"$f":"LEFT(Catalogue[[#This Row],[Référence]],3)","v":"AEL"},{"$f":"VLOOKUP(Catalogue[[#This Row],[Alias]],#REF!,2,FALSE)","v":{"$error":"#REF!"}},null,"AEL199681","CONDENSATEUR ANTI-PARASITES"]
["AEL199681",null,"CONDENSATEUR ANTI-PARASITES",null,null,{"$f":"LEFT(Catalogue[[#This Row],[Référence]],3)","v":"AEL"},{"$f":"VLOOKUP(Catalogue[[#This Row],[Alias]],#REF!,2,FALSE)","v":{"$error":"#REF!"}},null,"AEL199684","THERMOSTAT D AMBIANCE"]
["AEL199684",null,"THERMOSTAT D AMBIANCE",null,null,{"$f":"LEFT(Catalogue[[#This Row],[Référence]],3)","v":"AEL"},{"$f":"VLOOKUP(Catalogue[[#This Row],[Alias]],#REF!,2,FALSE)","v":{"$error":"#REF!"}},null,"AEL199687","INTERRUPTEUR AMBIANCE / CHARGE"]
["AEL199687",null,"INTERRUPTEUR AMBIANCE / CHARGE",null,null,{"$f":"LEFT(Catalogue[[#This Row],[Référence]],3)","v":"AEL"},{"$f":"VLOOKUP(Catalogue[[#This Row],[Alias]],#REF!,2,FALSE)","v":{"$error":"#REF!"}},null,"AEL199688","SONDE D AMBIANCE"]
["AEL199688",null,"SONDE D AMBIANCE",null,null,{"$f":"LEFT(Catalogue[[#This Row],[Référence]],3)","v":"AEL"},{"$f":"VLOOKUP(Catalogue[[#This Row],[Alias]],#REF!,2,FALSE)","v":{"$error":"#REF!"}},null,"AEL199689","SONDE DE CHARGE"]
["AEL199689",null,"SONDE DE CHARGE",null,null,{"$f":"LEFT(Catalogue[[#This Row],[Référence]],3)","v":"AEL"},{"$f":"VLOOKUP(Catalogue[[#This Row],[Alias]],#REF!,2,FALSE)","v":{"$error":"#REF!"}},null,"AEL199691","SUPPORT INTERRUPTEUR"]
["AEL199691",null,"SUPPORT INTERRUPTEUR",null,null,{"$f":"LEFT(Catalogue[[#This Row],[Référence]],3)","v":"AEL"},{"$f":"VLOOKUP(Catalogue[[#This Row],[Alias]],#REF!,2,FALSE)","v":{"$error":"#REF!"}},null,"AEL232398","UNITE EXTERIEURE INVERTER CALYPSO SPLIT"]
["AEL232398",null,"UNITE EXTERIEURE INVERTER CALYPSO SPLIT",null,null,{"$f":"LEFT(Catalogue[[#This Row],[Référence]],3)","v":"AEL"},{"$f":"VLOOKUP(Catalogue[[#This Row],[Alias]],#REF!,2,FALSE)","v":{"$error":"#REF!"}},null,"AEL232512","EGEO VS 200L"]
["AEL232512",null,"EGEO VS 200L",null,null,{"$f":"LEFT(Catalogue[[#This Row],[Référence]],3)","v":"AEL"},{"$f":"VLOOKUP(Catalogue[[#This Row],[Alias]],#REF!,2,FALSE)","v":{"$error":"#REF!"}},null,"AEL232514","CALYPSO SPLIT VS 270L"]
["AEL232514",null,"CALYPSO SPLIT VS 270L",null,null,{"$f":"LEFT(Catalogue[[#This Row],[Référence]],3)","v":"AEL"},{"$f":"VLOOKUP(Catalogue[[#This Row],[Alias]],#REF!,2,FALSE)","v":{"$error":"#REF!"}},null,"AEL232516","CHAUFFE-EAU THERMODYNAMIQUE EGEO VERTICAL SUR SOCLE 200L"]
["AEL232516",null,"CHAUFFE-EAU THERMODYNAMIQUE EGEO VERTICAL SUR SOCLE 200L",null,null,{"$f":"LEFT(Catalogue[[#This Row],[Référence]],3)","v":"AEL"},{"$f":"VLOOKUP(Catalogue[[#This Row],[Alias]],#REF!,2,FALSE)","v":{"$error":"#REF!"}},null,"AEL232517","EGEO VS 250L"]
["AEL232517",null,"EGEO VS 250L",null,null,{"$f":"LEFT(Catalogue[[#This Row],[Référence]],3)","v":"AEL"},{"$f":"VLOOKUP(Catalogue[[#This Row],[Alias]],#REF!,2,FALSE)","v":{"$error":"#REF!"}},null,"AEL232519","CALYPSO SPLIT VM 200L"]
["AEL232519",null,"CALYPSO SPLIT VM 200L",null,null,{"$f":"LEFT(Catalogue[[#This Row],[Référence]],3)","v":"AEL"},{"$f":"VLOOKUP(Catalogue[[#This Row],[Alias]],#REF!,2,FALSE)","v":{"$error":"#REF!"}},null,"AEL232520","CALYPSO SPLIT VS 270L"]
["AEL232520",null,"CALYPSO SPLIT VS 270L",null,null,{"$f":"LEFT(Catalogue[[#This Row],[Référence]],3)","v":"AEL"},{"$f":"VLOOKUP(Catalogue[[#This Row],[Alias]],#REF!,2,FALSE)","v":{"$error":"#REF!"}},null,"AEL232521","CALYPSO SPLIT UE INVERTER"]
["AEL232521",null,"CALYPSO SPLIT UE INVERTER",null,null,{"$f":"LEFT(Catalogue[[#This Row],[Référence]],3)","v":"AEL"},{"$f":"VLOOKUP(Catalogue[[#This Row],[Alias]],#REF!,2,FALSE)","v":{"$error":"#REF!"}},null,"AEL234510","CALYPSO CONNECTE VM 100L"]
["AEL234510",null,{"$f":"VLOOKUP(A1346,I:J,2,0)","v":"CALYPSO CONNECTE VM 100L"},null,null,{"$f":"LEFT(Catalogue[[#This Row],[Référence]],3)","v":"AEL"},{"$f":"VLOOKUP(Catalogue[[#This Row],[Alias]],#REF!,2,FALSE)","v":{"$error":"#REF!"}},null,"AEL286040","CALYPSO CONNECTE VS 200L"]
["AEL286040",null,"CALYPSO CONNECTE VS 200L",null,null,{"$f":"LEFT(Catalogue[[#This Row],[Référence]],3)","v":"AEL"},{"$f":"VLOOKUP(Catalogue[[#This Row],[Alias]],#REF!,2,FALSE)","v":{"$error":"#REF!"}},null,"AEL286041","CALYPSO CONNECTE VS 250L"]
["AEL286041",null,"CALYPSO CONNECTE VS 250L",null,null,{"$f":"LEFT(Catalogue[[#This Row],[Référence]],3)","v":"AEL"},{"$f":"VLOOKUP(Catalogue[[#This Row],[Alias]],#REF!,2,FALSE)","v":{"$error":"#REF!"}},null,"AEL321104","ATL PC BLINDE ETROIT SUR 030L 2000M"]
["AEL321104",null,"ATL PC BLINDE ETROIT SUR 030L 2000M",null,null,{"$f":"LEFT(Catalogue[[#This Row],[Référence]],3)","v":"AEL"},{"$f":"VLOOKUP(Catalogue[[#This Row],[Alias]],#REF!,2,FALSE)","v":{"$error":"#REF!"}},null,"AEL321105","CHAUFFEO VM 050L 1200M"]
["AEL321105",null,"CHAUFFEO VM 050L 1200M",null,null,{"$f":"LEFT(Catalogue[[#This Row],[Référence]],3)","v":"AEL"},{"$f":"VLOOKUP(Catalogue[[#This Row],[Alias]],#REF!,2,FALSE)","v":{"$error":"#REF!"}},null,"AEL325116","ATL PC BLINDE ETROIT SUR 015L 2000M"]
["AEL325116",null,"ATL PC BLINDE ETROIT SUR 015L 2000M",null,null,{"$f":"LEFT(Catalogue[[#This Row],[Référence]],3)","v":"AEL"},{"$f":"VLOOKUP(Catalogue[[#This Row],[Alias]],#REF!,2,FALSE)","v":{"$error":"#REF!"}},null,"AEL325216","ATL PC BLINDE COMP SUR 015L 1600M"]
["AEL325216",null,"ATL PC BLINDE COMP SUR 015L 1600M",null,null,{"$f":"LEFT(Catalogue[[#This Row],[Référence]],3)","v":"AEL"},{"$f":"VLOOKUP(Catalogue[[#This Row],[Alias]],#REF!,2,FALSE)","v":{"$error":"#REF!"}},null,"AEL326216","ATL PC BLINDE COMP SOUS 015L 2000M"]
["AEL326216",null,"ATL PC BLINDE COMP SOUS 015L 2000M",null,null,{"$f":"LEFT(Catalogue[[#This Row],[Référence]],3)","v":"AEL"},{"$f":"VLOOKUP(Catalogue[[#This Row],[Alias]],#REF!,2,FALSE)","v":{"$error":"#REF!"}},null,"AEL327106","CHAUFFEO ETROIT VM 050L 2000M"]
["AEL327106",null,"CHAUFFEO ETROIT VM 050L 2000M",null,null,{"$f":"LEFT(Catalogue[[#This Row],[Référence]],3)","v":"AEL"},{"$f":"VLOOKUP(Catalogue[[#This Row],[Alias]],#REF!,2,FALSE)","v":{"$error":"#REF!"}},null,"AEL341073","ACC CE LINEO CARRE BAC RECUPERATION EAU"]
["AEL341073",null,"ACC CE LINEO CARRE BAC RECUPERATION EAU",null,null,{"$f":"LEFT(Catalogue[[#This Row],[Référence]],3)","v":"AEL"},{"$f":"VLOOKUP(Catalogue[[#This Row],[Alias]],#REF!,2,FALSE)","v":{"$error":"#REF!"}},null,"AEL341074","EASY SWITCH CE DEPANNAGE 30 L"]
["AEL341074",null,"EASY SWITCH CE DEPANNAGE 30 L",null,null,{"$f":"LEFT(Catalogue[[#This Row],[Référence]],3)","v":"AEL"},{"$f":"VLOOKUP(Catalogue[[#This Row],[Alias]],#REF!,2,FALSE)","v":{"$error":"#REF!"}},null,"AEL341083","CACHE-PIQUAGE BLANC LINEO CONNECTE 100-150L"]
["AEL341083",null,"CACHE-PIQUAGE BLANC LINEO CONNECTE 100-150L",null,null,{"$f":"LEFT(Catalogue[[#This Row],[Référence]],3)","v":"AEL"},{"$f":"VLOOKUP(Catalogue[[#This Row],[Alias]],#REF!,2,FALSE)","v":{"$error":"#REF!"}},null,"AEL399062","JOINT A LEVRE"]
["AEL399062",null,"JOINT A LEVRE",null,null,{"$f":"LEFT(Catalogue[[#This Row],[Référence]],3)","v":"AEL"},{"$f":"VLOOKUP(Catalogue[[#This Row],[Alias]],#REF!,2,FALSE)","v":{"$error":"#REF!"}},null,"AEL399079","ANODE DEMONTABLE + JOINT + PORTE 3 TROUS"]
["AEL399079",null,"ANODE DEMONTABLE + JOINT + PORTE 3 TROUS",null,null,{"$f":"LEFT(Catalogue[[#This Row],[Référence]],3)","v":"AEL"},{"$f":"VLOOKUP(Catalogue[[#This Row],[Alias]],#REF!,2,FALSE)","v":{"$error":"#REF!"}},null,"AEL399199","ANODE ACI + BOUCHON"]
["AEL399199",null,"ANODE ACI + BOUCHON",null,null,{"$f":"LEFT(Catalogue[[#This Row],[Référence]],3)","v":"AEL"},{"$f":"VLOOKUP(Catalogue[[#This Row],[Alias]],#REF!,2,FALSE)","v":{"$error":"#REF!"}},null,"AEL399270","THERMOSTAT MONOPHASE STEATITE"]
["AEL399270",null,"THERMOSTAT MONOPHASE STEATITE",null,null,{"$f":"LEFT(Catalogue[[#This Row],[Référence]],3)","v":"AEL"},{"$f":"VLOOKUP(Catalogue[[#This Row],[Alias]],#REF!,2,FALSE)","v":{"$error":"#REF!"}},null,"AEL412132","FILTRE A AIR"]
["AEL412132",null,"FILTRE A AIR",null,null,{"$f":"LEFT(Catalogue[[#This Row],[Référence]],3)","v":"AEL"},{"$f":"VLOOKUP(Catalogue[[#This Row],[Alias]],#REF!,2,FALSE)","v":{"$error":"#REF!"}},null,"AEL412132S","FILTRE A AIR"]
["AEL412132S","Non concerné","FILTRE A AIR",9,2000007347359,{"$f":"LEFT(Catalogue[[#This Row],[Référence]],3)","v":"AEL"},{"$f":"VLOOKUP(Catalogue[[#This Row],[Alias]],#REF!,2,FALSE)","v":{"$error":"#REF!"}},null,"AEL423533","SOLIUS DIGIT H 0500W BLC"]
["AEL412132S",null,"FILTRE A AIR",null,null,{"$f":"LEFT(Catalogue[[#This Row],[Référence]],3)","v":"AEL"},{"$f":"VLOOKUP(Catalogue[[#This Row],[Alias]],#REF!,2,FALSE)","v":{"$error":"#REF!"}},null,"AEL423534","SOLIUS DIGIT H 0750W BLC"]
["AEL423533",null,"SOLIUS DIGIT H 0500W BLC",null,null,{"$f":"LEFT(Catalogue[[#This Row],[Référence]],3)","v":"AEL"},{"$f":"VLOOKUP(Catalogue[[#This Row],[Alias]],#REF!,2,FALSE)","v":{"$error":"#REF!"}},null,"AEL423539","SOLIUS DIGIT V 1000W BLC"]
["AEL423534",null,"SOLIUS DIGIT H 0750W BLC",null,null,{"$f":"LEFT(Catalogue[[#This Row],[Référence]],3)","v":"AEL"},{"$f":"VLOOKUP(Catalogue[[#This Row],[Alias]],#REF!,2,FALSE)","v":{"$error":"#REF!"}},null,"AEL425422","SOLIUS NEO H 500W BLC"]
["AEL423539",null,"SOLIUS DIGIT V 1000W BLC",null,null,{"$f":"LEFT(Catalogue[[#This Row],[Référence]],3)","v":"AEL"},{"$f":"VLOOKUP(Catalogue[[#This Row],[Alias]],#REF!,2,FALSE)","v":{"$error":"#REF!"}},null,"AEL425423","SOLIUS NEO H 750W BLC"]
["AEL425422",null,"SOLIUS NEO H 500W BLC",null,null,{"$f":"LEFT(Catalogue[[#This Row],[Référence]],3)","v":"AEL"},{"$f":"VLOOKUP(Catalogue[[#This Row],[Alias]],#REF!,2,FALSE)","v":{"$error":"#REF!"}},null,"AEL425424","SOLIUS NEO H 1000W BLC"]
["AEL425423",null,"SOLIUS NEO H 750W BLC",null,null,{"$f":"LEFT(Catalogue[[#This Row],[Référence]],3)","v":"AEL"},{"$f":"VLOOKUP(Catalogue[[#This Row],[Alias]],#REF!,2,FALSE)","v":{"$error":"#REF!"}},null,"AEL425425","SOLIUS NEO H 1250W BLC"]
["AEL425424",null,"SOLIUS NEO H 1000W BLC",null,null,{"$f":"LEFT(Catalogue[[#This Row],[Référence]],3)","v":"AEL"},{"$f":"VLOOKUP(Catalogue[[#This Row],[Alias]],#REF!,2,FALSE)","v":{"$error":"#REF!"}},null,"AEL425426","SOLIUS NEO H 1500W BLC"]
["AEL425425",null,"SOLIUS NEO H 1250W BLC",null,null,{"$f":"LEFT(Catalogue[[#This Row],[Référence]],3)","v":"AEL"},{"$f":"VLOOKUP(Catalogue[[#This Row],[Alias]],#REF!,2,FALSE)","v":{"$error":"#REF!"}},null,"AEL425427","SOLIUS NEO H 2000W BLC"]
["AEL425426",null,"SOLIUS NEO H 1500W BLC",null,null,{"$f":"LEFT(Catalogue[[#This Row],[Référence]],3)","v":"AEL"},{"$f":"VLOOKUP(Catalogue[[#This Row],[Alias]],#REF!,2,FALSE)","v":{"$error":"#REF!"}},null,"AEL425429","SOLIUS NEO V 1500W BLC"]
["AEL425427",null,"SOLIUS NEO H 2000W BLC",null,null,{"$f":"LEFT(Catalogue[[#This Row],[Référence]],3)","v":"AEL"},{"$f":"VLOOKUP(Catalogue[[#This Row],[Alias]],#REF!,2,FALSE)","v":{"$error":"#REF!"}},null,"AEL425430","SOLIUS NEO V 2000W BLC"]
["AEL425429",null,"SOLIUS NEO V 1500W BLC",null,null,{"$f":"LEFT(Catalogue[[#This Row],[Référence]],3)","v":"AEL"},{"$f":"VLOOKUP(Catalogue[[#This Row],[Alias]],#REF!,2,FALSE)","v":{"$error":"#REF!"}},null,"AEL500090","BRIDGE COZYTOUCH"]
["AEL425430",null,"SOLIUS NEO V 2000W BLC",null,null,{"$f":"LEFT(Catalogue[[#This Row],[Référence]],3)","v":"AEL"},{"$f":"VLOOKUP(Catalogue[[#This Row],[Alias]],#REF!,2,FALSE)","v":{"$error":"#REF!"}},null,"AEL500109","BRIDGE COZYTOUCH"]
["AEL500090",null,"BRIDGE COZYTOUCH",null,null,{"$f":"LEFT(Catalogue[[#This Row],[Référence]],3)","v":"AEL"},{"$f":"VLOOKUP(Catalogue[[#This Row],[Alias]],#REF!,2,FALSE)","v":{"$error":"#REF!"}},null,"AEL500615","GALAPAGOS PI CONNECTE H 1500W BLC"]
["AEL500109",null,"BRIDGE COZYTOUCH",null,null,{"$f":"LEFT(Catalogue[[#This Row],[Référence]],3)","v":"AEL"},{"$f":"VLOOKUP(Catalogue[[#This Row],[Alias]],#REF!,2,FALSE)","v":{"$error":"#REF!"}},null,"AEL500620","GALAPAGOS PI CONNECTE H 2000W BLC"]
["AEL500615",null,"GALAPAGOS PI CONNECTE H 1500W BLC",null,null,{"$f":"LEFT(Catalogue[[#This Row],[Référence]],3)","v":"AEL"},{"$f":"VLOOKUP(Catalogue[[#This Row],[Alias]],#REF!,2,FALSE)","v":{"$error":"#REF!"}},null,"AEL503111","SOKIO DIGITAL H 1250W BLANC"]
["AEL500620",null,"GALAPAGOS PI CONNECTE H 2000W BLC",null,null,{"$f":"LEFT(Catalogue[[#This Row],[Référence]],3)","v":"AEL"},{"$f":"VLOOKUP(Catalogue[[#This Row],[Alias]],#REF!,2,FALSE)","v":{"$error":"#REF!"}},null,"AEL503113","SOKIO H 1500W BLANC"]
["AEL503111",null,"SOKIO DIGITAL H 1250W BLANC",null,null,{"$f":"LEFT(Catalogue[[#This Row],[Référence]],3)","v":"AEL"},{"$f":"VLOOKUP(Catalogue[[#This Row],[Alias]],#REF!,2,FALSE)","v":{"$error":"#REF!"}},null,"AEL503120","AGILIA PI CONNECTE H 2000W CARAT"]
["AEL503113",null,"SOKIO H 1500W BLANC",null,null,{"$f":"LEFT(Catalogue[[#This Row],[Référence]],3)","v":"AEL"},{"$f":"VLOOKUP(Catalogue[[#This Row],[Alias]],#REF!,2,FALSE)","v":{"$error":"#REF!"}},null,"AEL507420","NIRVANA DIGIT H 2000W BLC"]
["AEL503120",null,"AGILIA PI CONNECTE H 2000W CARAT",null,null,{"$f":"LEFT(Catalogue[[#This Row],[Référence]],3)","v":"AEL"},{"$f":"VLOOKUP(Catalogue[[#This Row],[Alias]],#REF!,2,FALSE)","v":{"$error":"#REF!"}},null,"AEL510905","RAYONNANT SOLIUS ECODOMO H 500W"]
["AEL507420",null,"NIRVANA DIGIT H 2000W BLC",null,null,{"$f":"LEFT(Catalogue[[#This Row],[Référence]],3)","v":"AEL"},{"$f":"VLOOKUP(Catalogue[[#This Row],[Alias]],#REF!,2,FALSE)","v":{"$error":"#REF!"}},null,"AEL510907","RAYONNANT SOLIUS ECODOMO H 750W"]
["AEL510905",null,"RAYONNANT SOLIUS ECODOMO H 500W",null,null,{"$f":"LEFT(Catalogue[[#This Row],[Référence]],3)","v":"AEL"},{"$f":"VLOOKUP(Catalogue[[#This Row],[Alias]],#REF!,2,FALSE)","v":{"$error":"#REF!"}},null,"AEL510912","RAYONNANT SOLIUS ECODOMO H 1250W"]
["AEL510907",null,"RAYONNANT SOLIUS ECODOMO H 750W",null,null,{"$f":"LEFT(Catalogue[[#This Row],[Référence]],3)","v":"AEL"},{"$f":"VLOOKUP(Catalogue[[#This Row],[Alias]],#REF!,2,FALSE)","v":{"$error":"#REF!"}},null,"AEL510920","RAYONNANT SOLIUS ECODOMO H 2000W"]
["AEL510912",null,"RAYONNANT SOLIUS ECODOMO H 1250W",null,null,{"$f":"LEFT(Catalogue[[#This Row],[Référence]],3)","v":"AEL"},{"$f":"VLOOKUP(Catalogue[[#This Row],[Alias]],#REF!,2,FALSE)","v":{"$error":"#REF!"}},null,"AEL514107","CONVECT F117T BLC   THERMOST 750W"]
["AEL510920",null,"RAYONNANT SOLIUS ECODOMO H 2000W",null,null,{"$f":"LEFT(Catalogue[[#This Row],[Référence]],3)","v":"AEL"},{"$f":"VLOOKUP(Catalogue[[#This Row],[Alias]],#REF!,2,FALSE)","v":{"$error":"#REF!"}},null,"AEL514110","CONVECT F117T BLC   THERMOSTA 1000W"]
["AEL514107",null,"CONVECT F117T BLC   THERMOST 750W",null,null,{"$f":"LEFT(Catalogue[[#This Row],[Référence]],3)","v":"AEL"},{"$f":"VLOOKUP(Catalogue[[#This Row],[Alias]],#REF!,2,FALSE)","v":{"$error":"#REF!"}},null,"AEL514115","1076092_CONVECT F117T BLC   THERMOSTA 1500W FC 15/11/2018"]
["AEL514110",null,"CONVECT F117T BLC   THERMOSTA 1000W",null,null,{"$f":"LEFT(Catalogue[[#This Row],[Référence]],3)","v":"AEL"},{"$f":"VLOOKUP(Catalogue[[#This Row],[Alias]],#REF!,2,FALSE)","v":{"$error":"#REF!"}},null,"AEL514117","CONVECT F117T BLC   THERMOSTA 1750W"]
["AEL514115",null,"1076092_CONVECT F117T BLC   THERMOSTA 1500W FC 15/11/2018",null,null,{"$f":"LEFT(Catalogue[[#This Row],[Référence]],3)","v":"AEL"},{"$f":"VLOOKUP(Catalogue[[#This Row],[Alias]],#REF!,2,FALSE)","v":{"$error":"#REF!"}},null,"AEL514120","CONVECT F117T BLC   THERMOSTA 2000W"]
["AEL514117",null,"CONVECT F117T BLC   THERMOSTA 1750W",null,null,{"$f":"LEFT(Catalogue[[#This Row],[Référence]],3)","v":"AEL"},{"$f":"VLOOKUP(Catalogue[[#This Row],[Alias]],#REF!,2,FALSE)","v":{"$error":"#REF!"}},null,"AEL524915","ACCESSIO DIGIT 2 H 1500W BLC"]
["AEL514120",null,"CONVECT F117T BLC   THERMOSTA 2000W",null,null,{"$f":"LEFT(Catalogue[[#This Row],[Référence]],3)","v":"AEL"},{"$f":"VLOOKUP(Catalogue[[#This Row],[Alias]],#REF!,2,FALSE)","v":{"$error":"#REF!"}},null,"AEL524920","ACCESSIO DIGIT 2 H 2000W BLC"]
["AEL524915",null,"ACCESSIO DIGIT 2 H 1500W BLC",null,null,{"$f":"LEFT(Catalogue[[#This Row],[Référence]],3)","v":"AEL"},{"$f":"VLOOKUP(Catalogue[[#This Row],[Alias]],#REF!,2,FALSE)","v":{"$error":"#REF!"}},null,"AEL529917","NIRVANA NEO H 1250W BLC"]
["AEL524920",null,"ACCESSIO DIGIT 2 H 2000W BLC",null,null,{"$f":"LEFT(Catalogue[[#This Row],[Référence]],3)","v":"AEL"},{"$f":"VLOOKUP(Catalogue[[#This Row],[Alias]],#REF!,2,FALSE)","v":{"$error":"#REF!"}},null,"AEL529919","NIRVANA NEO H 2000W BLC"]
["AEL529917",null,"NIRVANA NEO H 1250W BLC",null,null,{"$f":"LEFT(Catalogue[[#This Row],[Référence]],3)","v":"AEL"},{"$f":"VLOOKUP(Catalogue[[#This Row],[Alias]],#REF!,2,FALSE)","v":{"$error":"#REF!"}},null,"AEL530410","SOLIUS V 1000W BLC"]
["AEL529919",null,"NIRVANA NEO H 2000W BLC",null,null,{"$f":"LEFT(Catalogue[[#This Row],[Référence]],3)","v":"AEL"},{"$f":"VLOOKUP(Catalogue[[#This Row],[Alias]],#REF!,2,FALSE)","v":{"$error":"#REF!"}},null,"AEL530420","SOLIUS V 2000W BLC"]
["AEL530410",null,"SOLIUS V 1000W BLC",null,null,{"$f":"LEFT(Catalogue[[#This Row],[Référence]],3)","v":"AEL"},{"$f":"VLOOKUP(Catalogue[[#This Row],[Alias]],#REF!,2,FALSE)","v":{"$error":"#REF!"}},null,"AEL542415","SOLIUS H 1500W BLC"]
["AEL530420",null,"SOLIUS V 2000W BLC",null,null,{"$f":"LEFT(Catalogue[[#This Row],[Référence]],3)","v":"AEL"},{"$f":"VLOOKUP(Catalogue[[#This Row],[Alias]],#REF!,2,FALSE)","v":{"$error":"#REF!"}},null,"AEL542420","SOLIUS H 2000W BLC"]
["AEL542415",null,"SOLIUS H 1500W BLC",null,null,{"$f":"LEFT(Catalogue[[#This Row],[Référence]],3)","v":"AEL"},{"$f":"VLOOKUP(Catalogue[[#This Row],[Alias]],#REF!,2,FALSE)","v":{"$error":"#REF!"}},null,"AEL561705","F617 H 0500W BLC"]
["AEL542420",null,"SOLIUS H 2000W BLC",null,null,{"$f":"LEFT(Catalogue[[#This Row],[Référence]],3)","v":"AEL"},{"$f":"VLOOKUP(Catalogue[[#This Row],[Alias]],#REF!,2,FALSE)","v":{"$error":"#REF!"}},null,"AEL561707","F617 H 0750W BLC"]
["AEL561705",null,"F617 H 0500W BLC",null,null,{"$f":"LEFT(Catalogue[[#This Row],[Référence]],3)","v":"AEL"},{"$f":"VLOOKUP(Catalogue[[#This Row],[Alias]],#REF!,2,FALSE)","v":{"$error":"#REF!"}},null,"AEL561710","F617 H 1000W BLC"]
["AEL561707",null,"F617 H 0750W BLC",null,null,{"$f":"LEFT(Catalogue[[#This Row],[Référence]],3)","v":"AEL"},{"$f":"VLOOKUP(Catalogue[[#This Row],[Alias]],#REF!,2,FALSE)","v":{"$error":"#REF!"}},null,"AEL561712","F617 H 1250W BLC"]
["AEL561710",null,"F617 H 1000W BLC",null,null,{"$f":"LEFT(Catalogue[[#This Row],[Référence]],3)","v":"AEL"},{"$f":"VLOOKUP(Catalogue[[#This Row],[Alias]],#REF!,2,FALSE)","v":{"$error":"#REF!"}},null,"AEL561715","F617 H 1500W BLC"]
["AEL561712",null,"F617 H 1250W BLC",null,null,{"$f":"LEFT(Catalogue[[#This Row],[Référence]],3)","v":"AEL"},{"$f":"VLOOKUP(Catalogue[[#This Row],[Alias]],#REF!,2,FALSE)","v":{"$error":"#REF!"}},null,"AEL561717","F617 H 1750W BLC"]
["AEL561715",null,"F617 H 1500W BLC",null,null,{"$f":"LEFT(Catalogue[[#This Row],[Référence]],3)","v":"AEL"},{"$f":"VLOOKUP(Catalogue[[#This Row],[Alias]],#REF!,2,FALSE)","v":{"$error":"#REF!"}},null,"AEL561720","F617 H 2000W BLC"]
["AEL561717",null,"F617 H 1750W BLC",null,null,{"$f":"LEFT(Catalogue[[#This Row],[Référence]],3)","v":"AEL"},{"$f":"VLOOKUP(Catalogue[[#This Row],[Alias]],#REF!,2,FALSE)","v":{"$error":"#REF!"}},null,"AEL561728","CONVECTEUR ELECTRIQUE F617 EQUIPE D UN BOITIER DIGITAL PROGRAMMABLE HORIZONTAL 500W BLANC"]
["AEL561720",null,"F617 H 2000W BLC",null,null,{"$f":"LEFT(Catalogue[[#This Row],[Référence]],3)","v":"AEL"},{"$f":"VLOOKUP(Catalogue[[#This Row],[Alias]],#REF!,2,FALSE)","v":{"$error":"#REF!"}},null,"AEL561730","CONVECTEUR ELECTRIQUE F617 EQUIPE D UN BOITIER DIGITAL PROGRAMMABLE HORIZONTAL 750W BLANC"]
["AEL561728",null,"CONVECTEUR ELECTRIQUE F617 EQUIPE D UN BOITIER DIGITAL PROGRAMMABLE HORIZONTAL 500W BLANC",null,null,{"$f":"LEFT(Catalogue[[#This Row],[Référence]],3)","v":"AEL"},{"$f":"VLOOKUP(Catalogue[[#This Row],[Alias]],#REF!,2,FALSE)","v":{"$error":"#REF!"}},null,"AEL561731","CONVECTEUR ELECTRIQUE F617 EQUIPE D UN BOITIER DIGITAL PROGRAMMABLE HORIZONTAL 1000W BLANC"]
["AEL561730",null,"CONVECTEUR ELECTRIQUE F617 EQUIPE D UN BOITIER DIGITAL PROGRAMMABLE HORIZONTAL 750W BLANC",null,null,{"$f":"LEFT(Catalogue[[#This Row],[Référence]],3)","v":"AEL"},{"$f":"VLOOKUP(Catalogue[[#This Row],[Alias]],#REF!,2,FALSE)","v":{"$error":"#REF!"}},null,"AEL561732","CONVECTEUR ELECTRIQUE F617 EQUIPE D UN BOITIER DIGITAL PROGRAMMABLE HORIZONTAL 1250W BLANC"]
["AEL561731",null,{"$f":"VLOOKUP(A1410,I:J,2,0)","v":"CONVECTEUR ELECTRIQUE F617 EQUIPE D UN BOITIER DIGITAL PROGRAMMABLE HORIZONTAL 1000W BLANC"},null,null,{"$f":"LEFT(Catalogue[[#This Row],[Référence]],3)","v":"AEL"},{"$f":"VLOOKUP(Catalogue[[#This Row],[Alias]],#REF!,2,FALSE)","v":{"$error":"#REF!"}},null,"AEL561733","CONVECTEUR ELECTRIQUE F617 EQUIPE D UN BOITIER DIGITAL PROGRAMMABLE HORIZONTAL 1500W BLANC"]
["AEL561732",null,"CONVECTEUR ELECTRIQUE F617 EQUIPE D UN BOITIER DIGITAL PROGRAMMABLE HORIZONTAL 1250W BLANC",null,null,{"$f":"LEFT(Catalogue[[#This Row],[Référence]],3)","v":"AEL"},{"$f":"VLOOKUP(Catalogue[[#This Row],[Alias]],#REF!,2,FALSE)","v":{"$error":"#REF!"}},null,"AEL566205","TATOU PI CONNECTE 500 W HORIZ."]
["AEL561733",null,"CONVECTEUR ELECTRIQUE F617 EQUIPE D UN BOITIER DIGITAL PROGRAMMABLE HORIZONTAL 1500W BLANC",null,null,{"$f":"LEFT(Catalogue[[#This Row],[Référence]],3)","v":"AEL"},{"$f":"VLOOKUP(Catalogue[[#This Row],[Alias]],#REF!,2,FALSE)","v":{"$error":"#REF!"}},null,"AEL599657","MOTEUR VENTILATEUR"]
["AEL566205",null,"TATOU PI CONNECTE 500 W HORIZ.",null,null,{"$f":"LEFT(Catalogue[[#This Row],[Référence]],3)","v":"AEL"},{"$f":"VLOOKUP(Catalogue[[#This Row],[Alias]],#REF!,2,FALSE)","v":{"$error":"#REF!"}},null,"AEL602011","CHRONOPASS + INTERFACE FP"]
["AEL599657",null,"MOTEUR VENTILATEUR",null,null,{"$f":"LEFT(Catalogue[[#This Row],[Référence]],3)","v":"AEL"},{"$f":"VLOOKUP(Catalogue[[#This Row],[Alias]],#REF!,2,FALSE)","v":{"$error":"#REF!"}},null,"AEL602132","DIGI PILOT HEBDO 2 ZONES"]
["AEL602011",null,"CHRONOPASS + INTERFACE FP",null,null,{"$f":"LEFT(Catalogue[[#This Row],[Référence]],3)","v":"AEL"},{"$f":"VLOOKUP(Catalogue[[#This Row],[Alias]],#REF!,2,FALSE)","v":{"$error":"#REF!"}},null,"AEL602230","PACK CONFORT ELEC IO HOMECONTROL"]
["AEL602132",null,"DIGI PILOT HEBDO 2 ZONES",null,null,{"$f":"LEFT(Catalogue[[#This Row],[Référence]],3)","v":"AEL"},{"$f":"VLOOKUP(Catalogue[[#This Row],[Alias]],#REF!,2,FALSE)","v":{"$error":"#REF!"}},null,"AEL610915","SOLIUS ECODOMO VERT 1500 W"]
["AEL602230",null,"PACK CONFORT ELEC IO HOMECONTROL",null,null,{"$f":"LEFT(Catalogue[[#This Row],[Référence]],3)","v":"AEL"},{"$f":"VLOOKUP(Catalogue[[#This Row],[Alias]],#REF!,2,FALSE)","v":{"$error":"#REF!"}},null,"AEL612613","ABELIA RC14 D H 0500W BLANC"]
["AEL610915",null,"SOLIUS ECODOMO VERT 1500 W",null,null,{"$f":"LEFT(Catalogue[[#This Row],[Référence]],3)","v":"AEL"},{"$f":"VLOOKUP(Catalogue[[#This Row],[Alias]],#REF!,2,FALSE)","v":{"$error":"#REF!"}},null,"AEL612616","ABELIA RC14 D H 1000W BLANC"]
["AEL612613",null,"ABELIA RC14 D H 0500W BLANC",null,null,{"$f":"LEFT(Catalogue[[#This Row],[Référence]],3)","v":"AEL"},{"$f":"VLOOKUP(Catalogue[[#This Row],[Alias]],#REF!,2,FALSE)","v":{"$error":"#REF!"}},null,"AEL612617","ABELIA RC14 D H 1250W BLANC"]
["AEL612616",null,"ABELIA RC14 D H 1000W BLANC",null,null,{"$f":"LEFT(Catalogue[[#This Row],[Référence]],3)","v":"AEL"},{"$f":"VLOOKUP(Catalogue[[#This Row],[Alias]],#REF!,2,FALSE)","v":{"$error":"#REF!"}},null,"AEL666417","TATOU PI CONNECTE H 0500W BLC"]
["AEL612617",null,"ABELIA RC14 D H 1250W BLANC",null,null,{"$f":"LEFT(Catalogue[[#This Row],[Référence]],3)","v":"AEL"},{"$f":"VLOOKUP(Catalogue[[#This Row],[Alias]],#REF!,2,FALSE)","v":{"$error":"#REF!"}},null,"AEL666418","TATOU PI CONNECTE H 0750W BLC"]
["AEL666417",null,"TATOU PI CONNECTE H 0500W BLC",null,null,{"$f":"LEFT(Catalogue[[#This Row],[Référence]],3)","v":"AEL"},{"$f":"VLOOKUP(Catalogue[[#This Row],[Alias]],#REF!,2,FALSE)","v":{"$error":"#REF!"}},null,"AEL666419","TATOU PI CONNECTE H 1000W BLC"]
["AEL666418",null,"TATOU PI CONNECTE H 0750W BLC",null,null,{"$f":"LEFT(Catalogue[[#This Row],[Référence]],3)","v":"AEL"},{"$f":"VLOOKUP(Catalogue[[#This Row],[Alias]],#REF!,2,FALSE)","v":{"$error":"#REF!"}},null,"AEL666421","TATOU PI CONNECTE H 1250W BLC"]
["AEL666419",null,"TATOU PI CONNECTE H 1000W BLC",null,null,{"$f":"LEFT(Catalogue[[#This Row],[Référence]],3)","v":"AEL"},{"$f":"VLOOKUP(Catalogue[[#This Row],[Alias]],#REF!,2,FALSE)","v":{"$error":"#REF!"}},null,"AEL666422","TATOU PI CONNECTE H 1500W BLC"]
["AEL666421",null,"TATOU PI CONNECTE H 1250W BLC",null,null,{"$f":"LEFT(Catalogue[[#This Row],[Référence]],3)","v":"AEL"},{"$f":"VLOOKUP(Catalogue[[#This Row],[Alias]],#REF!,2,FALSE)","v":{"$error":"#REF!"}},null,"AEL666423","TATOU PI CONNECTE H 2000W BLC"]
["AEL666422",null,"TATOU PI CONNECTE H 1500W BLC",null,null,{"$f":"LEFT(Catalogue[[#This Row],[Référence]],3)","v":"AEL"},{"$f":"VLOOKUP(Catalogue[[#This Row],[Alias]],#REF!,2,FALSE)","v":{"$error":"#REF!"}},null,"AEL720107","SOUFFLANT NICO 2 MINUTE"]
["AEL666423",null,"TATOU PI CONNECTE H 2000W BLC",null,null,{"$f":"LEFT(Catalogue[[#This Row],[Référence]],3)","v":"AEL"},{"$f":"VLOOKUP(Catalogue[[#This Row],[Alias]],#REF!,2,FALSE)","v":{"$error":"#REF!"}},null,"AEL720108","SOUFFLANT NICOBAR 2"]
["AEL720107",null,"SOUFFLANT NICO 2 MINUTE",null,null,{"$f":"LEFT(Catalogue[[#This Row],[Référence]],3)","v":"AEL"},{"$f":"VLOOKUP(Catalogue[[#This Row],[Alias]],#REF!,2,FALSE)","v":{"$error":"#REF!"}},null,"AEL809057","LIAISON FRIGORIFIQUE 7M -3/8 - 1/4"]
["AEL720108",null,"SOUFFLANT NICOBAR 2",null,null,{"$f":"LEFT(Catalogue[[#This Row],[Référence]],3)","v":"AEL"},{"$f":"VLOOKUP(Catalogue[[#This Row],[Alias]],#REF!,2,FALSE)","v":{"$error":"#REF!"}},null,"AEL809060","LIAISON FRIGORIFIQUE 10M -3/8 - 1/4"]
["AEL809057",null,"LIAISON FRIGORIFIQUE 7M -3/8 - 1/4",null,null,{"$f":"LEFT(Catalogue[[#This Row],[Référence]],3)","v":"AEL"},{"$f":"VLOOKUP(Catalogue[[#This Row],[Alias]],#REF!,2,FALSE)","v":{"$error":"#REF!"}},null,"AEL831107","2012 0750W BLC"]
["AEL809060",null,"LIAISON FRIGORIFIQUE 10M -3/8 - 1/4",null,null,{"$f":"LEFT(Catalogue[[#This Row],[Référence]],3)","v":"AEL"},{"$f":"VLOOKUP(Catalogue[[#This Row],[Alias]],#REF!,2,FALSE)","v":{"$error":"#REF!"}},null,"AEL831110","2012 1000W BLC"]
["AEL831107",null,"2012 0750W BLC",null,null,{"$f":"LEFT(Catalogue[[#This Row],[Référence]],3)","v":"AEL"},{"$f":"VLOOKUP(Catalogue[[#This Row],[Alias]],#REF!,2,FALSE)","v":{"$error":"#REF!"}},null,"AEL831849","RSS 2012 EAU CHAUDE 0844W BLC RAC.COLL"]
["AEL831110",null,"2012 1000W BLC",null,null,{"$f":"LEFT(Catalogue[[#This Row],[Référence]],3)","v":"AEL"},{"$f":"VLOOKUP(Catalogue[[#This Row],[Alias]],#REF!,2,FALSE)","v":{"$error":"#REF!"}},null,"AEL833426","RSS 2012 EAU CHAUDE 0408W BLC RAC.CENT"]
["AEL831849",null,"RSS 2012 EAU CHAUDE 0844W BLC RAC.COLL",null,null,{"$f":"LEFT(Catalogue[[#This Row],[Référence]],3)","v":"AEL"},{"$f":"VLOOKUP(Catalogue[[#This Row],[Alias]],#REF!,2,FALSE)","v":{"$error":"#REF!"}},null,"AEL833619","RSS 2012 EAU CHAUDE 0609W BLC RAC.CENT"]
["AEL833426",null,"RSS 2012 EAU CHAUDE 0408W BLC RAC.CENT",null,null,{"$f":"LEFT(Catalogue[[#This Row],[Référence]],3)","v":"AEL"},{"$f":"VLOOKUP(Catalogue[[#This Row],[Alias]],#REF!,2,FALSE)","v":{"$error":"#REF!"}},null,"AEL833620","2012 DIGIT 0500W BLC"]
["AEL833619",null,"RSS 2012 EAU CHAUDE 0609W BLC RAC.CENT",null,null,{"$f":"LEFT(Catalogue[[#This Row],[Référence]],3)","v":"AEL"},{"$f":"VLOOKUP(Catalogue[[#This Row],[Alias]],#REF!,2,FALSE)","v":{"$error":"#REF!"}},null,"AEL833621","2012 DIGIT 0750W BLC"]
["AEL833620",null,"2012 DIGIT 0500W BLC",null,null,{"$f":"LEFT(Catalogue[[#This Row],[Référence]],3)","v":"AEL"},{"$f":"VLOOKUP(Catalogue[[#This Row],[Alias]],#REF!,2,FALSE)","v":{"$error":"#REF!"}},null,"AEL833849","RSS 2012 EAU CHAUDE 0844W BLC RAC.CENT"]
["AEL833621",null,"2012 DIGIT 0750W BLC",null,null,{"$f":"LEFT(Catalogue[[#This Row],[Référence]],3)","v":"AEL"},{"$f":"VLOOKUP(Catalogue[[#This Row],[Alias]],#REF!,2,FALSE)","v":{"$error":"#REF!"}},null,"AEL850257","DORIS DIGIT 0500W BLC"]
["AEL833849",null,"RSS 2012 EAU CHAUDE 0844W BLC RAC.CENT",null,null,{"$f":"LEFT(Catalogue[[#This Row],[Référence]],3)","v":"AEL"},{"$f":"VLOOKUP(Catalogue[[#This Row],[Alias]],#REF!,2,FALSE)","v":{"$error":"#REF!"}},null,"AEL850258","DORIS DIGIT 0750W BLC"]
["AEL850257",null,"DORIS DIGIT 0500W BLC",null,null,{"$f":"LEFT(Catalogue[[#This Row],[Référence]],3)","v":"AEL"},{"$f":"VLOOKUP(Catalogue[[#This Row],[Alias]],#REF!,2,FALSE)","v":{"$error":"#REF!"}},null,"AEL851131","DORIS DIGIT MIXTE 1750W BLC"]
["AEL850258",null,"DORIS DIGIT 0750W BLC",null,null,{"$f":"LEFT(Catalogue[[#This Row],[Référence]],3)","v":"AEL"},{"$f":"VLOOKUP(Catalogue[[#This Row],[Alias]],#REF!,2,FALSE)","v":{"$error":"#REF!"}},null,"AEL861753","ADELIS 2000W GRAPH"]
["AEL851131",null,"DORIS DIGIT MIXTE 1750W BLC",null,null,{"$f":"LEFT(Catalogue[[#This Row],[Référence]],3)","v":"AEL"},{"$f":"VLOOKUP(Catalogue[[#This Row],[Alias]],#REF!,2,FALSE)","v":{"$error":"#REF!"}},null,"AEL897563","MOTEUR VENTILATION"]
["AEL861753",null,"ADELIS 2000W GRAPH",null,null,{"$f":"LEFT(Catalogue[[#This Row],[Référence]],3)","v":"AEL"},{"$f":"VLOOKUP(Catalogue[[#This Row],[Alias]],#REF!,2,FALSE)","v":{"$error":"#REF!"}},null,"AEL898887","SORTIE DE CONDENSATS"]
["AEL897563",null,"MOTEUR VENTILATION",null,null,{"$f":"LEFT(Catalogue[[#This Row],[Référence]],3)","v":"AEL"},{"$f":"VLOOKUP(Catalogue[[#This Row],[Alias]],#REF!,2,FALSE)","v":{"$error":"#REF!"}},null,"AER9109921","MOTEUR"]
["AEL898887",null,"SORTIE DE CONDENSATS",null,null,{"$f":"LEFT(Catalogue[[#This Row],[Référence]],3)","v":"AEL"},{"$f":"VLOOKUP(Catalogue[[#This Row],[Alias]],#REF!,2,FALSE)","v":{"$error":"#REF!"}},null,"AER9128228","CARTE ELECTRONIQUE"]
["AER9109921",null,"MOTEUR",null,null,{"$f":"LEFT(Catalogue[[#This Row],[Référence]],3)","v":"AER"},{"$f":"VLOOKUP(Catalogue[[#This Row],[Alias]],#REF!,2,FALSE)","v":{"$error":"#REF!"}},null,"AIA000365","VANNE 3 VOIES"]
["AER9128228",null,"CARTE ELECTRONIQUE",null,null,{"$f":"LEFT(Catalogue[[#This Row],[Référence]],3)","v":"AER"},{"$f":"VLOOKUP(Catalogue[[#This Row],[Alias]],#REF!,2,FALSE)","v":{"$error":"#REF!"}},null,"AIA000424","CORPS DE VANNE 3 VOIES"]
["AIA000365",null,"VANNE 3 VOIES",null,null,{"$f":"LEFT(Catalogue[[#This Row],[Référence]],3)","v":"AIA"},{"$f":"VLOOKUP(Catalogue[[#This Row],[Alias]],#REF!,2,FALSE)","v":{"$error":"#REF!"}},null,"AIAIIS32C003ET","KIT REMP.GE AMCH071 PAR AMGE32-08/COMBINE TACTILE"]
["AIA000424",null,"CORPS DE VANNE 3 VOIES",null,null,{"$f":"LEFT(Catalogue[[#This Row],[Référence]],3)","v":"AIA"},{"$f":"VLOOKUP(Catalogue[[#This Row],[Alias]],#REF!,2,FALSE)","v":{"$error":"#REF!"}},null,"AIAS00119","CARTE DE PUISSANCE A2P - T"]
["AIAIIS32C003ET",null,"KIT REMP.GE AMCH071 PAR AMGE32-08/COMBINE TACTILE",null,null,{"$f":"LEFT(Catalogue[[#This Row],[Référence]],3)","v":"AIA"},{"$f":"VLOOKUP(Catalogue[[#This Row],[Alias]],#REF!,2,FALSE)","v":{"$error":"#REF!"}},null,"AIAS00125","CARTE PRINCIPALE A1P TAILLE 125 M"]
["AIAS00119",null,"CARTE DE PUISSANCE A2P - T",null,null,{"$f":"LEFT(Catalogue[[#This Row],[Référence]],3)","v":"AIA"},{"$f":"VLOOKUP(Catalogue[[#This Row],[Alias]],#REF!,2,FALSE)","v":{"$error":"#REF!"}},null,"AIAS00126","CARTE PRINCIPALE A1P TAILLE 140 M"]
["AIAS00125",null,"CARTE PRINCIPALE A1P TAILLE 125 M",null,null,{"$f":"LEFT(Catalogue[[#This Row],[Référence]],3)","v":"AIA"},{"$f":"VLOOKUP(Catalogue[[#This Row],[Alias]],#REF!,2,FALSE)","v":{"$error":"#REF!"}},null,"AIAS00130","MOTEUR VENTILLATEUR-M"]
["AIAS00126",null,"CARTE PRINCIPALE A1P TAILLE 140 M",null,null,{"$f":"LEFT(Catalogue[[#This Row],[Référence]],3)","v":"AIA"},{"$f":"VLOOKUP(Catalogue[[#This Row],[Alias]],#REF!,2,FALSE)","v":{"$error":"#REF!"}},null,"AIAS00131","MOTEUR VENTILATEUR"]
["AIAS00130",null,"MOTEUR VENTILLATEUR-M",null,null,{"$f":"LEFT(Catalogue[[#This Row],[Référence]],3)","v":"AIA"},{"$f":"VLOOKUP(Catalogue[[#This Row],[Alias]],#REF!,2,FALSE)","v":{"$error":"#REF!"}},null,"AIAS00192","PRESSOSTAT HP"]
["AIAS00131",null,"MOTEUR VENTILATEUR",null,null,{"$f":"LEFT(Catalogue[[#This Row],[Référence]],3)","v":"AIA"},{"$f":"VLOOKUP(Catalogue[[#This Row],[Alias]],#REF!,2,FALSE)","v":{"$error":"#REF!"}},null,"AIG103184","COFFRET ELECTRONIQUE"]
["AIAS00192",null,"PRESSOSTAT HP",null,null,{"$f":"LEFT(Catalogue[[#This Row],[Référence]],3)","v":"AIA"},{"$f":"VLOOKUP(Catalogue[[#This Row],[Alias]],#REF!,2,FALSE)","v":{"$error":"#REF!"}},null,"AIRATE521","CARTE RFP5 RECEPTEUR FIL PILOTE ACG"]
["AIG103184",null,"COFFRET ELECTRONIQUE",null,null,{"$f":"LEFT(Catalogue[[#This Row],[Référence]],3)","v":"AIG"},{"$f":"VLOOKUP(Catalogue[[#This Row],[Alias]],#REF!,2,FALSE)","v":{"$error":"#REF!"}},null,"AIRFTR049","FILTRE"]
["AIRATE521",null,"CARTE RFP5 RECEPTEUR FIL PILOTE ACG",null,null,{"$f":"LEFT(Catalogue[[#This Row],[Référence]],3)","v":"AIR"},{"$f":"VLOOKUP(Catalogue[[#This Row],[Alias]],#REF!,2,FALSE)","v":{"$error":"#REF!"}},null,"AIRS00126","CARTE PRINCIPALE"]
["AIRFTR049",null,"FILTRE",null,null,{"$f":"LEFT(Catalogue[[#This Row],[Référence]],3)","v":"AIR"},{"$f":"VLOOKUP(Catalogue[[#This Row],[Alias]],#REF!,2,FALSE)","v":{"$error":"#REF!"}},null,"AIW1PR010089","COMPRESSEUR"]
["AIRS00126",null,"CARTE PRINCIPALE",null,null,{"$f":"LEFT(Catalogue[[#This Row],[Référence]],3)","v":"AIR"},{"$f":"VLOOKUP(Catalogue[[#This Row],[Alias]],#REF!,2,FALSE)","v":{"$error":"#REF!"}},null,"AIW1PR010174","COMPRESSEUR"]
["AIW1PR010089",null,"COMPRESSEUR",null,null,{"$f":"LEFT(Catalogue[[#This Row],[Référence]],3)","v":"AIW"},{"$f":"VLOOKUP(Catalogue[[#This Row],[Alias]],#REF!,2,FALSE)","v":{"$error":"#REF!"}},null,"AIW1PR010440","COMPRESSEUR"]
["AIW1PR010174",null,"COMPRESSEUR",null,null,{"$f":"LEFT(Catalogue[[#This Row],[Référence]],3)","v":"AIW"},{"$f":"VLOOKUP(Catalogue[[#This Row],[Alias]],#REF!,2,FALSE)","v":{"$error":"#REF!"}},null,"AIW1PR020007","THERMOSTAT"]
["AIW1PR010440",null,"COMPRESSEUR",null,null,{"$f":"LEFT(Catalogue[[#This Row],[Référence]],3)","v":"AIW"},{"$f":"VLOOKUP(Catalogue[[#This Row],[Alias]],#REF!,2,FALSE)","v":{"$error":"#REF!"}},null,"AIW1PR030938","KIT REGULATEUR"]
["AIW1PR020007",null,"THERMOSTAT",null,null,{"$f":"LEFT(Catalogue[[#This Row],[Référence]],3)","v":"AIW"},{"$f":"VLOOKUP(Catalogue[[#This Row],[Alias]],#REF!,2,FALSE)","v":{"$error":"#REF!"}},null,"AIW1PR060130","MOTEUR VENTILATEUR"]
["AIW1PR030938",null,"KIT REGULATEUR",null,null,{"$f":"LEFT(Catalogue[[#This Row],[Référence]],3)","v":"AIW"},{"$f":"VLOOKUP(Catalogue[[#This Row],[Alias]],#REF!,2,FALSE)","v":{"$error":"#REF!"}},null,"AIW1PR060176","MOTEUR VENTILATEUR"]
["AIW1PR060130",null,"MOTEUR VENTILATEUR",null,null,{"$f":"LEFT(Catalogue[[#This Row],[Référence]],3)","v":"AIW"},{"$f":"VLOOKUP(Catalogue[[#This Row],[Alias]],#REF!,2,FALSE)","v":{"$error":"#REF!"}},null,"AIW1PR060359","MOTEUR VENTILATEUR"]
["AIW1PR060176",null,"MOTEUR VENTILATEUR",null,null,{"$f":"LEFT(Catalogue[[#This Row],[Référence]],3)","v":"AIW"},{"$f":"VLOOKUP(Catalogue[[#This Row],[Alias]],#REF!,2,FALSE)","v":{"$error":"#REF!"}},null,"AIW1PR070008","SONDE TEMPERATURE"]
["AIW1PR060359",null,"MOTEUR VENTILATEUR",null,null,{"$f":"LEFT(Catalogue[[#This Row],[Référence]],3)","v":"AIW"},{"$f":"VLOOKUP(Catalogue[[#This Row],[Alias]],#REF!,2,FALSE)","v":{"$error":"#REF!"}},null,"AIW1PR070009","SONDE TEMPERATURE"]
["AIW1PR070008",null,"SONDE TEMPERATURE",null,null,{"$f":"LEFT(Catalogue[[#This Row],[Référence]],3)","v":"AIW"},{"$f":"VLOOKUP(Catalogue[[#This Row],[Alias]],#REF!,2,FALSE)","v":{"$error":"#REF!"}},null,"AIW1PR070018","PRESSOSTAT"]
["AIW1PR070009",null,"SONDE TEMPERATURE",null,null,{"$f":"LEFT(Catalogue[[#This Row],[Référence]],3)","v":"AIW"},{"$f":"VLOOKUP(Catalogue[[#This Row],[Alias]],#REF!,2,FALSE)","v":{"$error":"#REF!"}},null,"AIW1PR070025","SONDE TEMPERATURE"]
["AIW1PR070018",null,"PRESSOSTAT",null,null,{"$f":"LEFT(Catalogue[[#This Row],[Référence]],3)","v":"AIW"},{"$f":"VLOOKUP(Catalogue[[#This Row],[Alias]],#REF!,2,FALSE)","v":{"$error":"#REF!"}},null,"AIW1PR070111","PRESSOSTAT DIFFERENTIEL"]
["AIW1PR070025",null,"SONDE TEMPERATURE",null,null,{"$f":"LEFT(Catalogue[[#This Row],[Référence]],3)","v":"AIW"},{"$f":"VLOOKUP(Catalogue[[#This Row],[Alias]],#REF!,2,FALSE)","v":{"$error":"#REF!"}},null,"AIW1PR070213","BOITIER SONDE"]
["AIW1PR070111",null,"PRESSOSTAT DIFFERENTIEL",null,null,{"$f":"LEFT(Catalogue[[#This Row],[Référence]],3)","v":"AIW"},{"$f":"VLOOKUP(Catalogue[[#This Row],[Alias]],#REF!,2,FALSE)","v":{"$error":"#REF!"}},null,"AIW1PR070217","DETECTEUR DEBIT"]
["AIW1PR070213",null,{"$f":"VLOOKUP(A1474,I:J,2,0)","v":"BOITIER SONDE"},null,null,{"$f":"LEFT(Catalogue[[#This Row],[Référence]],3)","v":"AIW"},{"$f":"VLOOKUP(Catalogue[[#This Row],[Alias]],#REF!,2,FALSE)","v":{"$error":"#REF!"}},null,"AIW1PR070221","PRESSOSTAT"]
["AIW1PR070217",null,"DETECTEUR DEBIT",null,null,{"$f":"LEFT(Catalogue[[#This Row],[Référence]],3)","v":"AIW"},{"$f":"VLOOKUP(Catalogue[[#This Row],[Alias]],#REF!,2,FALSE)","v":{"$error":"#REF!"}},null,"AIW1PR070222","PRESSOSTAT"]
["AIW1PR070221",null,"PRESSOSTAT",null,null,{"$f":"LEFT(Catalogue[[#This Row],[Référence]],3)","v":"AIW"},{"$f":"VLOOKUP(Catalogue[[#This Row],[Alias]],#REF!,2,FALSE)","v":{"$error":"#REF!"}},null,"AIW1PR070223","PRESSOSTAT"]
["AIW1PR070222",null,"PRESSOSTAT",null,null,{"$f":"LEFT(Catalogue[[#This Row],[Référence]],3)","v":"AIW"},{"$f":"VLOOKUP(Catalogue[[#This Row],[Alias]],#REF!,2,FALSE)","v":{"$error":"#REF!"}},null,"AIW1PR080030","CONDENSATEUR"]
["AIW1PR070223",null,"PRESSOSTAT",null,null,{"$f":"LEFT(Catalogue[[#This Row],[Référence]],3)","v":"AIW"},{"$f":"VLOOKUP(Catalogue[[#This Row],[Alias]],#REF!,2,FALSE)","v":{"$error":"#REF!"}},null,"AIW1PR080102","CONDENSATEUR"]
["AIW1PR080030",null,"CONDENSATEUR",null,null,{"$f":"LEFT(Catalogue[[#This Row],[Référence]],3)","v":"AIW"},{"$f":"VLOOKUP(Catalogue[[#This Row],[Alias]],#REF!,2,FALSE)","v":{"$error":"#REF!"}},null,"AIW1PR100106","INTERRUPTEUR"]
["AIW1PR080102",null,"CONDENSATEUR",null,null,{"$f":"LEFT(Catalogue[[#This Row],[Référence]],3)","v":"AIW"},{"$f":"VLOOKUP(Catalogue[[#This Row],[Alias]],#REF!,2,FALSE)","v":{"$error":"#REF!"}},null,"AIW1PR100115","SOFT STARTER"]
["AIW1PR100106",null,"INTERRUPTEUR",null,null,{"$f":"LEFT(Catalogue[[#This Row],[Référence]],3)","v":"AIW"},{"$f":"VLOOKUP(Catalogue[[#This Row],[Alias]],#REF!,2,FALSE)","v":{"$error":"#REF!"}},null,"AIW1PR100153","BOBINE DETENDEUR ELECTRONIQUE"]
["AIW1PR100115",null,"SOFT STARTER",null,null,{"$f":"LEFT(Catalogue[[#This Row],[Référence]],3)","v":"AIW"},{"$f":"VLOOKUP(Catalogue[[#This Row],[Alias]],#REF!,2,FALSE)","v":{"$error":"#REF!"}},null,"AIW1PR100165","KLIXON"]
["AIW1PR100153",null,"BOBINE DETENDEUR ELECTRONIQUE",null,null,{"$f":"LEFT(Catalogue[[#This Row],[Référence]],3)","v":"AIW"},{"$f":"VLOOKUP(Catalogue[[#This Row],[Alias]],#REF!,2,FALSE)","v":{"$error":"#REF!"}},null,"AIW1PR100219","FAISCEAU"]
["AIW1PR100165",null,"KLIXON",null,null,{"$f":"LEFT(Catalogue[[#This Row],[Référence]],3)","v":"AIW"},{"$f":"VLOOKUP(Catalogue[[#This Row],[Alias]],#REF!,2,FALSE)","v":{"$error":"#REF!"}},null,"AIW1PR100257","RELAIS"]
["AIW1PR100219",null,"FAISCEAU",null,null,{"$f":"LEFT(Catalogue[[#This Row],[Référence]],3)","v":"AIW"},{"$f":"VLOOKUP(Catalogue[[#This Row],[Alias]],#REF!,2,FALSE)","v":{"$error":"#REF!"}},null,"AIW1PR100258","RELAIS"]
["AIW1PR100257",null,"RELAIS",null,null,{"$f":"LEFT(Catalogue[[#This Row],[Référence]],3)","v":"AIW"},{"$f":"VLOOKUP(Catalogue[[#This Row],[Alias]],#REF!,2,FALSE)","v":{"$error":"#REF!"}},null,"AIW1PR100259","RELAIS"]
["AIW1PR100258",null,"RELAIS",null,null,{"$f":"LEFT(Catalogue[[#This Row],[Référence]],3)","v":"AIW"},{"$f":"VLOOKUP(Catalogue[[#This Row],[Alias]],#REF!,2,FALSE)","v":{"$error":"#REF!"}},null,"AIW1PR100278","RESISTANCE CARTER"]
["AIW1PR100259",null,"RELAIS",null,null,{"$f":"LEFT(Catalogue[[#This Row],[Référence]],3)","v":"AIW"},{"$f":"VLOOKUP(Catalogue[[#This Row],[Alias]],#REF!,2,FALSE)","v":{"$error":"#REF!"}},null,"AIW1PR100282","SOFT STARTER"]
["AIW1PR100278",null,"RESISTANCE CARTER",null,null,{"$f":"LEFT(Catalogue[[#This Row],[Référence]],3)","v":"AIW"},{"$f":"VLOOKUP(Catalogue[[#This Row],[Alias]],#REF!,2,FALSE)","v":{"$error":"#REF!"}},null,"AIW1PR100291","TRANSFORMATEUR"]
["AIW1PR100282",null,"SOFT STARTER",null,null,{"$f":"LEFT(Catalogue[[#This Row],[Référence]],3)","v":"AIW"},{"$f":"VLOOKUP(Catalogue[[#This Row],[Alias]],#REF!,2,FALSE)","v":{"$error":"#REF!"}},null,"AIW1PR110250","TURBINE"]
["AIW1PR100291",null,"TRANSFORMATEUR",null,null,{"$f":"LEFT(Catalogue[[#This Row],[Référence]],3)","v":"AIW"},{"$f":"VLOOKUP(Catalogue[[#This Row],[Alias]],#REF!,2,FALSE)","v":{"$error":"#REF!"}},null,"AIW1PR110418","VOLET"]
["AIW1PR110250",null,"TURBINE",null,null,{"$f":"LEFT(Catalogue[[#This Row],[Référence]],3)","v":"AIW"},{"$f":"VLOOKUP(Catalogue[[#This Row],[Alias]],#REF!,2,FALSE)","v":{"$error":"#REF!"}},null,"AIW1PR130026","CIRCULATEUR"]
["AIW1PR110418",null,"VOLET",null,null,{"$f":"LEFT(Catalogue[[#This Row],[Référence]],3)","v":"AIW"},{"$f":"VLOOKUP(Catalogue[[#This Row],[Alias]],#REF!,2,FALSE)","v":{"$error":"#REF!"}},null,"AIW1PR190449","PANNEAU"]
["AIW1PR130026",null,"CIRCULATEUR",null,null,{"$f":"LEFT(Catalogue[[#This Row],[Référence]],3)","v":"AIW"},{"$f":"VLOOKUP(Catalogue[[#This Row],[Alias]],#REF!,2,FALSE)","v":{"$error":"#REF!"}},null,"AIW230149","RELAIS 4RT 7A-230V FINDER TYPE"]
["AIW1PR190449",null,"PANNEAU",null,null,{"$f":"LEFT(Catalogue[[#This Row],[Référence]],3)","v":"AIW"},{"$f":"VLOOKUP(Catalogue[[#This Row],[Alias]],#REF!,2,FALSE)","v":{"$error":"#REF!"}},null,"AIW230178","RELAY 1RT 40.61 16A-230V"]
["AIW230149",null,"RELAIS 4RT 7A-230V FINDER TYPE",null,null,{"$f":"LEFT(Catalogue[[#This Row],[Référence]],3)","v":"AIW"},{"$f":"VLOOKUP(Catalogue[[#This Row],[Alias]],#REF!,2,FALSE)","v":{"$error":"#REF!"}},null,"AIW231272","TIMER DAA 51C M24 (CARLO GAVAZ"]
["AIW230178",null,"RELAY 1RT 40.61 16A-230V",null,null,{"$f":"LEFT(Catalogue[[#This Row],[Référence]],3)","v":"AIW"},{"$f":"VLOOKUP(Catalogue[[#This Row],[Alias]],#REF!,2,FALSE)","v":{"$error":"#REF!"}},null,"AIW232528","PRESSOSTAT HAUTE PRESSION"]
["AIW231272",null,"TIMER DAA 51C M24 (CARLO GAVAZ",null,null,{"$f":"LEFT(Catalogue[[#This Row],[Référence]],3)","v":"AIW"},{"$f":"VLOOKUP(Catalogue[[#This Row],[Alias]],#REF!,2,FALSE)","v":{"$error":"#REF!"}},null,"AIW233358","CAPA 40MICRO F A VISSER"]
["AIW232528",null,"PRESSOSTAT HAUTE PRESSION",null,null,{"$f":"LEFT(Catalogue[[#This Row],[Référence]],3)","v":"AIW"},{"$f":"VLOOKUP(Catalogue[[#This Row],[Alias]],#REF!,2,FALSE)","v":{"$error":"#REF!"}},null,"AIW685221","REGULATEUR MICROTECH"]
["AIW233358",null,"CAPA 40MICRO F A VISSER",null,null,{"$f":"LEFT(Catalogue[[#This Row],[Référence]],3)","v":"AIW"},{"$f":"VLOOKUP(Catalogue[[#This Row],[Alias]],#REF!,2,FALSE)","v":{"$error":"#REF!"}},null,"AIW7ACEL1592","THERMOSTAT FILAIRE PACHT"]
["AIW685221",null,"REGULATEUR MICROTECH",null,null,{"$f":"LEFT(Catalogue[[#This Row],[Référence]],3)","v":"AIW"},{"$f":"VLOOKUP(Catalogue[[#This Row],[Alias]],#REF!,2,FALSE)","v":{"$error":"#REF!"}},null,"AIW7ACFH0855","VANNE DIRECTE 3 VOIES"]
["AIW7ACEL1592",null,"THERMOSTAT FILAIRE PACHT",null,null,{"$f":"LEFT(Catalogue[[#This Row],[Référence]],3)","v":"AIW"},{"$f":"VLOOKUP(Catalogue[[#This Row],[Alias]],#REF!,2,FALSE)","v":{"$error":"#REF!"}},null,"AIW7MB021056","CLIMATISEUR AWPO-MAP009-C11 CLIM MOBIL 2,64 KW"]
["AIW7ACFH0855",null,"VANNE DIRECTE 3 VOIES",null,null,{"$f":"LEFT(Catalogue[[#This Row],[Référence]],3)","v":"AIW"},{"$f":"VLOOKUP(Catalogue[[#This Row],[Alias]],#REF!,2,FALSE)","v":{"$error":"#REF!"}},null,"AIW7SP023102","HDL SPLIT MURAL  HDL18 - AW-HDL018-N91"]
["AIW7MB021056",null,"CLIMATISEUR AWPO-MAP009-C11 CLIM MOBIL 2,64 KW",null,null,{"$f":"LEFT(Catalogue[[#This Row],[Référence]],3)","v":"AIW"},{"$f":"VLOOKUP(Catalogue[[#This Row],[Alias]],#REF!,2,FALSE)","v":{"$error":"#REF!"}},null,"AIWWSAN-XEMHW35.4","PAC HT SCROLL ON-OFF (CHILLER UE SCROLL)"]
["AIW7SP023102",null,"HDL SPLIT MURAL  HDL18 - AW-HDL018-N91",null,null,{"$f":"LEFT(Catalogue[[#This Row],[Référence]],3)","v":"AIW"},{"$f":"VLOOKUP(Catalogue[[#This Row],[Alias]],#REF!,2,FALSE)","v":{"$error":"#REF!"}},null,"AJT903000016","RELAIS MINIATURE 4RT"]
["AIWWSAN-XEMHW35.4",null,"PAC HT SCROLL ON-OFF (CHILLER UE SCROLL)",null,null,{"$f":"LEFT(Catalogue[[#This Row],[Référence]],3)","v":"AIW"},{"$f":"VLOOKUP(Catalogue[[#This Row],[Alias]],#REF!,2,FALSE)","v":{"$error":"#REF!"}},null,"AJT903000019","SOCLE RELAIS MINIATURE 4RT"]
["AJT903000016",null,"RELAIS MINIATURE 4RT",null,null,{"$f":"LEFT(Catalogue[[#This Row],[Référence]],3)","v":"AJT"},{"$f":"VLOOKUP(Catalogue[[#This Row],[Alias]],#REF!,2,FALSE)","v":{"$error":"#REF!"}},null,"AJT907000030","CIRCULATEUR PARA 5C 15/8"]
["AJT903000019",null,"SOCLE RELAIS MINIATURE 4RT",null,null,{"$f":"LEFT(Catalogue[[#This Row],[Référence]],3)","v":"AJT"},{"$f":"VLOOKUP(Catalogue[[#This Row],[Alias]],#REF!,2,FALSE)","v":{"$error":"#REF!"}},null,"AJT920000056","CARTE PUISSANCE MONO A2P 300464P"]
["AJT907000030",null,"CIRCULATEUR PARA 5C 15/8",null,null,{"$f":"LEFT(Catalogue[[#This Row],[Référence]],3)","v":"AJT"},{"$f":"VLOOKUP(Catalogue[[#This Row],[Alias]],#REF!,2,FALSE)","v":{"$error":"#REF!"}},null,"AJT925000063","COMPRESSEUR MONO       925000063"]
["AJT920000056",null,"CARTE PUISSANCE MONO A2P 300464P",null,null,{"$f":"LEFT(Catalogue[[#This Row],[Référence]],3)","v":"AJT"},{"$f":"VLOOKUP(Catalogue[[#This Row],[Alias]],#REF!,2,FALSE)","v":{"$error":"#REF!"}},null,"ALD11001000","GRILLE EXTERIEURE GAT 150X150 MM - BLANC"]
["AJT925000063",null,"COMPRESSEUR MONO       925000063",null,null,{"$f":"LEFT(Catalogue[[#This Row],[Référence]],3)","v":"AJT"},{"$f":"VLOOKUP(Catalogue[[#This Row],[Alias]],#REF!,2,FALSE)","v":{"$error":"#REF!"}},null,"ALD11001005","GRILLE EXTERIEURE GAT 200X200 MM - BLANC"]
["ALD11001000",null,"GRILLE EXTERIEURE GAT 150X150 MM - BLANC",null,null,{"$f":"LEFT(Catalogue[[#This Row],[Référence]],3)","v":"ALD"},{"$f":"VLOOKUP(Catalogue[[#This Row],[Alias]],#REF!,2,FALSE)","v":{"$error":"#REF!"}},null,"ALD11001009","GRILLE EXTERIEURE GAT 150X200 MM - BLANC AVEC GRILLAGE ANTI-MOUSTIQUE"]
["ALD11001005",null,"GRILLE EXTERIEURE GAT 200X200 MM - BLANC",null,null,{"$f":"LEFT(Catalogue[[#This Row],[Référence]],3)","v":"ALD"},{"$f":"VLOOKUP(Catalogue[[#This Row],[Alias]],#REF!,2,FALSE)","v":{"$error":"#REF!"}},null,"ALD11001990","SOUPAPE D125"]
["ALD11001009",null,"GRILLE EXTERIEURE GAT 150X200 MM - BLANC AVEC GRILLAGE ANTI-MOUSTIQUE",null,null,{"$f":"LEFT(Catalogue[[#This Row],[Référence]],3)","v":"ALD"},{"$f":"VLOOKUP(Catalogue[[#This Row],[Alias]],#REF!,2,FALSE)","v":{"$error":"#REF!"}},null,"ALD11001997","BOUCHE A NOYAU REGLABLE DE SOUFFLAGE ET REPRISE PLASTIQUE BLANC SR 149 D125"]
["ALD11001990",null,"SOUPAPE D125",null,null,{"$f":"LEFT(Catalogue[[#This Row],[Référence]],3)","v":"ALD"},{"$f":"VLOOKUP(Catalogue[[#This Row],[Alias]],#REF!,2,FALSE)","v":{"$error":"#REF!"}},null,"ALD11001998","BOUCHE A NOYAU REGLABLE DE SOUFFLAGE ET REPRISE PLASTIQUE BLANC SR 149 D150"]
["ALD11001997",null,"BOUCHE A NOYAU REGLABLE DE SOUFFLAGE ET REPRISE PLASTIQUE BLANC SR 149 D125",null,null,{"$f":"LEFT(Catalogue[[#This Row],[Référence]],3)","v":"ALD"},{"$f":"VLOOKUP(Catalogue[[#This Row],[Alias]],#REF!,2,FALSE)","v":{"$error":"#REF!"}},null,"ALD11011126","ENTREE D AIR AUTOREGABLE EA MODULE 30 M3/H - ALUMINIUM 36 DB"]
["ALD11001998",null,"BOUCHE A NOYAU REGLABLE DE SOUFFLAGE ET REPRISE PLASTIQUE BLANC SR 149 D150",null,null,{"$f":"LEFT(Catalogue[[#This Row],[Référence]],3)","v":"ALD"},{"$f":"VLOOKUP(Catalogue[[#This Row],[Alias]],#REF!,2,FALSE)","v":{"$error":"#REF!"}},null,"ALD11011132","ENTREE D AIR AUTOREGABLE EA MODULE 30 M3/H - BLANC 36 DB"]
["ALD11011126",null,"ENTREE D AIR AUTOREGABLE EA MODULE 30 M3/H - ALUMINIUM 36 DB",null,null,{"$f":"LEFT(Catalogue[[#This Row],[Référence]],3)","v":"ALD"},{"$f":"VLOOKUP(Catalogue[[#This Row],[Alias]],#REF!,2,FALSE)","v":{"$error":"#REF!"}},null,"ALD11011133","ENTREE D AIR AUTOREGABLE EA MODULE 22 M3/H - BLANC 37 DB"]
["ALD11011132",null,"ENTREE D AIR AUTOREGABLE EA MODULE 30 M3/H - BLANC 36 DB",null,null,{"$f":"LEFT(Catalogue[[#This Row],[Référence]],3)","v":"ALD"},{"$f":"VLOOKUP(Catalogue[[#This Row],[Alias]],#REF!,2,FALSE)","v":{"$error":"#REF!"}},null,"ALD11011139","ENTREE D AIR AUTOREGABLE EAI MODULE 30 M3/H - BLANC 36 DB"]
["ALD11011133",null,"ENTREE D AIR AUTOREGABLE EA MODULE 22 M3/H - BLANC 37 DB",null,null,{"$f":"LEFT(Catalogue[[#This Row],[Référence]],3)","v":"ALD"},{"$f":"VLOOKUP(Catalogue[[#This Row],[Alias]],#REF!,2,FALSE)","v":{"$error":"#REF!"}},null,"ALD11011145","EA 30 POUR MENUISERIE BOMBEE-BLANC/BLANC"]
["ALD11011139",null,"ENTREE D AIR AUTOREGABLE EAI MODULE 30 M3/H - BLANC 36 DB",null,null,{"$f":"LEFT(Catalogue[[#This Row],[Référence]],3)","v":"ALD"},{"$f":"VLOOKUP(Catalogue[[#This Row],[Alias]],#REF!,2,FALSE)","v":{"$error":"#REF!"}},null,"ALD11011149","ENTREE D AIR AUTOREGABLE EA MODULE 45 M3/H - BLANC 36 DB"]
["ALD11011145",null,"EA 30 POUR MENUISERIE BOMBEE-BLANC/BLANC",null,null,{"$f":"LEFT(Catalogue[[#This Row],[Référence]],3)","v":"ALD"},{"$f":"VLOOKUP(Catalogue[[#This Row],[Alias]],#REF!,2,FALSE)","v":{"$error":"#REF!"}},null,"ALD11011150","ENTREE D AIR AUTOREGABLE EA MODULE 45 M3/H - ALUMINIUM 36 DB"]
["ALD11011149",null,"ENTREE D AIR AUTOREGABLE EA MODULE 45 M3/H - BLANC 36 DB",null,null,{"$f":"LEFT(Catalogue[[#This Row],[Référence]],3)","v":"ALD"},{"$f":"VLOOKUP(Catalogue[[#This Row],[Alias]],#REF!,2,FALSE)","v":{"$error":"#REF!"}},null,"ALD11011151","ENTREE D AIR AUTOREGABLE EA MODULE 45 M3/H - NOIR 36 DB"]
["ALD11011150",null,"ENTREE D AIR AUTOREGABLE EA MODULE 45 M3/H - ALUMINIUM 36 DB",null,null,{"$f":"LEFT(Catalogue[[#This Row],[Référence]],3)","v":"ALD"},{"$f":"VLOOKUP(Catalogue[[#This Row],[Alias]],#REF!,2,FALSE)","v":{"$error":"#REF!"}},null,"ALD11011170","ENTREE D AIR AUTOREGABLE MINI EA MODULE 30 M3/H - BLANC 37 DB"]
["ALD11011151",null,"ENTREE D AIR AUTOREGABLE EA MODULE 45 M3/H - NOIR 36 DB",null,null,{"$f":"LEFT(Catalogue[[#This Row],[Référence]],3)","v":"ALD"},{"$f":"VLOOKUP(Catalogue[[#This Row],[Alias]],#REF!,2,FALSE)","v":{"$error":"#REF!"}},null,"ALD11011171","ENTREE D AIR AUTOREGABLE KIT MINI EA MODULE 30 M3/H - BLANC 37 DB"]
["ALD11011170",null,"ENTREE D AIR AUTOREGABLE MINI EA MODULE 30 M3/H - BLANC 37 DB",null,null,{"$f":"LEFT(Catalogue[[#This Row],[Référence]],3)","v":"ALD"},{"$f":"VLOOKUP(Catalogue[[#This Row],[Alias]],#REF!,2,FALSE)","v":{"$error":"#REF!"}},null,"ALD11011172","ENTREE D AIR AUTOREGABLE MINI EA 15/22/30/45 M3/H - BLANC 37 DB"]
["ALD11011171",null,"ENTREE D AIR AUTOREGABLE KIT MINI EA MODULE 30 M3/H - BLANC 37 DB",null,null,{"$f":"LEFT(Catalogue[[#This Row],[Référence]],3)","v":"ALD"},{"$f":"VLOOKUP(Catalogue[[#This Row],[Alias]],#REF!,2,FALSE)","v":{"$error":"#REF!"}},null,"ALD11011179","ENTREE D AIR AUTOREGABLE KIT MINI EA 15/22/30/45 M3/H - BLANC 37 DB"]
["ALD11011172",null,"ENTREE D AIR AUTOREGABLE MINI EA 15/22/30/45 M3/H - BLANC 37 DB",null,null,{"$f":"LEFT(Catalogue[[#This Row],[Référence]],3)","v":"ALD"},{"$f":"VLOOKUP(Catalogue[[#This Row],[Alias]],#REF!,2,FALSE)","v":{"$error":"#REF!"}},null,"ALD11011390","MANCHON DE RACCORDEMENT POUR AUVENT TR COULLISANT 190 A 320 MM"]
["ALD11011179",null,"ENTREE D AIR AUTOREGABLE KIT MINI EA 15/22/30/45 M3/H - BLANC 37 DB",null,null,{"$f":"LEFT(Catalogue[[#This Row],[Référence]],3)","v":"ALD"},{"$f":"VLOOKUP(Catalogue[[#This Row],[Alias]],#REF!,2,FALSE)","v":{"$error":"#REF!"}},null,"ALD11011486","ENTREE D AIR AUTOREGLABLE MINI EMMA - 15/22/30 M3/H - BLANC"]
["ALD11011390",null,"MANCHON DE RACCORDEMENT POUR AUVENT TR COULLISANT 190 A 320 MM",null,null,{"$f":"LEFT(Catalogue[[#This Row],[Référence]],3)","v":"ALD"},{"$f":"VLOOKUP(Catalogue[[#This Row],[Alias]],#REF!,2,FALSE)","v":{"$error":"#REF!"}},null,"ALD11011508","ENTREE D AIR AUTOREGLABLE ELLIA - 30 M3/H - BLANC"]
["ALD11011486",null,"ENTREE D AIR AUTOREGLABLE MINI EMMA - 15/22/30 M3/H - BLANC",null,null,{"$f":"LEFT(Catalogue[[#This Row],[Référence]],3)","v":"ALD"},{"$f":"VLOOKUP(Catalogue[[#This Row],[Alias]],#REF!,2,FALSE)","v":{"$error":"#REF!"}},null,"ALD11011509","ENTREE D AIR AUTOREGLABLE ELLIA - 22 M3/H - BLANC"]
["ALD11011508",null,"ENTREE D AIR AUTOREGLABLE ELLIA - 30 M3/H - BLANC",null,null,{"$f":"LEFT(Catalogue[[#This Row],[Référence]],3)","v":"ALD"},{"$f":"VLOOKUP(Catalogue[[#This Row],[Alias]],#REF!,2,FALSE)","v":{"$error":"#REF!"}},null,"ALD11011539","KIT ENTREES D AIR AUTOREGLABLES EA - 30 M3/H - 37 DB - BLANC"]
["ALD11011509",null,"ENTREE D AIR AUTOREGLABLE ELLIA - 22 M3/H - BLANC",null,null,{"$f":"LEFT(Catalogue[[#This Row],[Référence]],3)","v":"ALD"},{"$f":"VLOOKUP(Catalogue[[#This Row],[Alias]],#REF!,2,FALSE)","v":{"$error":"#REF!"}},null,"ALD11011546","KIT ENTREES D AIR AUTOREGLABLES EA - 22 M3/H - 38 DB - BLANC"]
["ALD11011539",null,"KIT ENTREES D AIR AUTOREGLABLES EA - 30 M3/H - 37 DB - BLANC",null,null,{"$f":"LEFT(Catalogue[[#This Row],[Référence]],3)","v":"ALD"},{"$f":"VLOOKUP(Catalogue[[#This Row],[Alias]],#REF!,2,FALSE)","v":{"$error":"#REF!"}},null,"ALD11011551","KIT ENTREES D AIR AUTOREGLABLES ELLIA - 30 M3/H - 41 DB - BLANC"]
["ALD11011546",null,"KIT ENTREES D AIR AUTOREGLABLES EA - 22 M3/H - 38 DB - BLANC",null,null,{"$f":"LEFT(Catalogue[[#This Row],[Référence]],3)","v":"ALD"},{"$f":"VLOOKUP(Catalogue[[#This Row],[Alias]],#REF!,2,FALSE)","v":{"$error":"#REF!"}},null,"ALD11011552","KIT ENTREES D AIR AUTOREGLABLES ELLIA - 22 M3/H - 37 DB - BLANC"]
["ALD11011551",null,"KIT ENTREES D AIR AUTOREGLABLES ELLIA - 30 M3/H - 41 DB - BLANC",null,null,{"$f":"LEFT(Catalogue[[#This Row],[Référence]],3)","v":"ALD"},{"$f":"VLOOKUP(Catalogue[[#This Row],[Alias]],#REF!,2,FALSE)","v":{"$error":"#REF!"}},null,"ALD11011554","KIT ENTREES D AIR AUTOREGLABLES EAI - 30 M3/H - 38 DB - BLANC"]
["ALD11011552",null,"KIT ENTREES D AIR AUTOREGLABLES ELLIA - 22 M3/H - 37 DB - BLANC",null,null,{"$f":"LEFT(Catalogue[[#This Row],[Référence]],3)","v":"ALD"},{"$f":"VLOOKUP(Catalogue[[#This Row],[Alias]],#REF!,2,FALSE)","v":{"$error":"#REF!"}},null,"ALD11011580","KIT ENTREES D AIR AUTOREGLABLES EA - 45 M3/H - 36 DB - BLANC"]
["ALD11011554",null,{"$f":"VLOOKUP(A1538,I:J,2,0)","v":"KIT ENTREES D AIR AUTOREGLABLES EAI - 30 M3/H - 38 DB - BLANC"},null,null,{"$f":"LEFT(Catalogue[[#This Row],[Référence]],3)","v":"ALD"},{"$f":"VLOOKUP(Catalogue[[#This Row],[Alias]],#REF!,2,FALSE)","v":{"$error":"#REF!"}},null,"ALD11011581","ENTREE D AIR FILTRANTE FIXE POUR MENSUISERIE AIRFILTER - 30 M3/H - 34 DB - BLANC"]
["ALD11011580",null,"KIT ENTREES D AIR AUTOREGLABLES EA - 45 M3/H - 36 DB - BLANC",null,null,{"$f":"LEFT(Catalogue[[#This Row],[Référence]],3)","v":"ALD"},{"$f":"VLOOKUP(Catalogue[[#This Row],[Alias]],#REF!,2,FALSE)","v":{"$error":"#REF!"}},null,"ALD11011584","FILTRE POLLEN AIRFILTER - BLANC"]
["ALD11011581",null,"ENTREE D AIR FILTRANTE FIXE POUR MENSUISERIE AIRFILTER - 30 M3/H - 34 DB - BLANC",null,null,{"$f":"LEFT(Catalogue[[#This Row],[Référence]],3)","v":"ALD"},{"$f":"VLOOKUP(Catalogue[[#This Row],[Alias]],#REF!,2,FALSE)","v":{"$error":"#REF!"}},null,"ALD11011585","KIT ENTREES D AIR FILTRANTE AIRFILTER - 30 M3/H - 34 DB - BLANC"]
["ALD11011584",null,"FILTRE POLLEN AIRFILTER - BLANC",null,null,{"$f":"LEFT(Catalogue[[#This Row],[Référence]],3)","v":"ALD"},{"$f":"VLOOKUP(Catalogue[[#This Row],[Alias]],#REF!,2,FALSE)","v":{"$error":"#REF!"}},null,"ALD11011972","AUVENT MENUISERIE ACOUSTIQUE POUR EHL, EA, EHB2 - BLANC"]
["ALD11011585",null,"KIT ENTREES D AIR FILTRANTE AIRFILTER - 30 M3/H - 34 DB - BLANC",null,null,{"$f":"LEFT(Catalogue[[#This Row],[Référence]],3)","v":"ALD"},{"$f":"VLOOKUP(Catalogue[[#This Row],[Alias]],#REF!,2,FALSE)","v":{"$error":"#REF!"}},null,"ALD11012252","MANCHETTE TOLE TRIDENT D125 MM, LONGEUR 130 MM"]
["ALD11011972",null,"AUVENT MENUISERIE ACOUSTIQUE POUR EHL, EA, EHB2 - BLANC",null,null,{"$f":"LEFT(Catalogue[[#This Row],[Référence]],3)","v":"ALD"},{"$f":"VLOOKUP(Catalogue[[#This Row],[Alias]],#REF!,2,FALSE)","v":{"$error":"#REF!"}},null,"ALD11012402","BOUCHE FIXE DE SOUFFLAGE BIO DESIGN D80 MM, BLANC"]
["ALD11012252",null,"MANCHETTE TOLE TRIDENT D125 MM, LONGEUR 130 MM",null,null,{"$f":"LEFT(Catalogue[[#This Row],[Référence]],3)","v":"ALD"},{"$f":"VLOOKUP(Catalogue[[#This Row],[Alias]],#REF!,2,FALSE)","v":{"$error":"#REF!"}},null,"ALD11012490","MANCHETTE EPAULEMENT EN TOLE D80 MM, LONGEUR 100 MM"]
["ALD11012402",null,"BOUCHE FIXE DE SOUFFLAGE BIO DESIGN D80 MM, BLANC",null,null,{"$f":"LEFT(Catalogue[[#This Row],[Référence]],3)","v":"ALD"},{"$f":"VLOOKUP(Catalogue[[#This Row],[Alias]],#REF!,2,FALSE)","v":{"$error":"#REF!"}},null,"ALD11014028","KIT EHL 14-45 L - BLC/WHI"]
["ALD11012490",null,"MANCHETTE EPAULEMENT EN TOLE D80 MM, LONGEUR 100 MM",null,null,{"$f":"LEFT(Catalogue[[#This Row],[Référence]],3)","v":"ALD"},{"$f":"VLOOKUP(Catalogue[[#This Row],[Alias]],#REF!,2,FALSE)","v":{"$error":"#REF!"}},null,"ALD11014060","ENTREE D AIR HYGROREGLABLE EHL, 6-44 S M3/H - 37 DB - BLANC"]
["ALD11014028",null,"KIT EHL 14-45 L - BLC/WHI",null,null,{"$f":"LEFT(Catalogue[[#This Row],[Référence]],3)","v":"ALD"},{"$f":"VLOOKUP(Catalogue[[#This Row],[Alias]],#REF!,2,FALSE)","v":{"$error":"#REF!"}},null,"ALD11014061","ENTREE D AIR HYGROREGLABLE EHL, 6-44 S M3/H - 37 DB - ALUMINIUM"]
["ALD11014060",null,"ENTREE D AIR HYGROREGLABLE EHL, 6-44 S M3/H - 37 DB - BLANC",null,null,{"$f":"LEFT(Catalogue[[#This Row],[Référence]],3)","v":"ALD"},{"$f":"VLOOKUP(Catalogue[[#This Row],[Alias]],#REF!,2,FALSE)","v":{"$error":"#REF!"}},null,"ALD11014066","ENTREE D AIR HYGROREGLABLE EHL, 6-44 L M3/H - 39 DB - BLANC"]
["ALD11014061",null,"ENTREE D AIR HYGROREGLABLE EHL, 6-44 S M3/H - 37 DB - ALUMINIUM",null,null,{"$f":"LEFT(Catalogue[[#This Row],[Référence]],3)","v":"ALD"},{"$f":"VLOOKUP(Catalogue[[#This Row],[Alias]],#REF!,2,FALSE)","v":{"$error":"#REF!"}},null,"ALD11014084","KIT ENTREE D AIR HYGROREGLABLE EHL, 6-44 S M3/H - 37 DB - BLANC"]
["ALD11014066",null,"ENTREE D AIR HYGROREGLABLE EHL, 6-44 L M3/H - 39 DB - BLANC",null,null,{"$f":"LEFT(Catalogue[[#This Row],[Référence]],3)","v":"ALD"},{"$f":"VLOOKUP(Catalogue[[#This Row],[Alias]],#REF!,2,FALSE)","v":{"$error":"#REF!"}},null,"ALD11014085","KIT ENTREE D AIR HYGROREGLABLE EHL, 6-44 L M3/H - 39 DB - BLANC"]
["ALD11014084",null,"KIT ENTREE D AIR HYGROREGLABLE EHL, 6-44 S M3/H - 37 DB - BLANC",null,null,{"$f":"LEFT(Catalogue[[#This Row],[Référence]],3)","v":"ALD"},{"$f":"VLOOKUP(Catalogue[[#This Row],[Alias]],#REF!,2,FALSE)","v":{"$error":"#REF!"}},null,"ALD11014090","EFL 23-34-47 S 37DB BLC/WHI FC 22/02/2019"]
["ALD11014085",null,"KIT ENTREE D AIR HYGROREGLABLE EHL, 6-44 L M3/H - 39 DB - BLANC",null,null,{"$f":"LEFT(Catalogue[[#This Row],[Référence]],3)","v":"ALD"},{"$f":"VLOOKUP(Catalogue[[#This Row],[Alias]],#REF!,2,FALSE)","v":{"$error":"#REF!"}},null,"ALD11014098","KIT EFL 23/34/47 S 37DB BLC/WHI"]
["ALD11014090",null,"EFL 23-34-47 S 37DB BLC/WHI FC 22/02/2019",null,null,{"$f":"LEFT(Catalogue[[#This Row],[Référence]],3)","v":"ALD"},{"$f":"VLOOKUP(Catalogue[[#This Row],[Alias]],#REF!,2,FALSE)","v":{"$error":"#REF!"}},null,"ALD11014099","KIT EFL 34 S 37DB"]
["ALD11014098",null,"KIT EFL 23/34/47 S 37DB BLC/WHI",null,null,{"$f":"LEFT(Catalogue[[#This Row],[Référence]],3)","v":"ALD"},{"$f":"VLOOKUP(Catalogue[[#This Row],[Alias]],#REF!,2,FALSE)","v":{"$error":"#REF!"}},null,"ALD11014101","KIT ENTREE D AIR FIXE EFL, 22/30/45 L M3/H - 39 DB - BLANC"]
["ALD11014099",null,"KIT EFL 34 S 37DB",null,null,{"$f":"LEFT(Catalogue[[#This Row],[Référence]],3)","v":"ALD"},{"$f":"VLOOKUP(Catalogue[[#This Row],[Alias]],#REF!,2,FALSE)","v":{"$error":"#REF!"}},null,"ALD11014102","ENTREE D AIR FIXE EFL, 22/30/45 L M3/H - 39 DB - BLANC"]
["ALD11014101",null,"KIT ENTREE D AIR FIXE EFL, 22/30/45 L M3/H - 39 DB - BLANC",null,null,{"$f":"LEFT(Catalogue[[#This Row],[Référence]],3)","v":"ALD"},{"$f":"VLOOKUP(Catalogue[[#This Row],[Alias]],#REF!,2,FALSE)","v":{"$error":"#REF!"}},null,"ALD11014116","ENTREE D AIR HYGROREGLABLE EN TRAVERSE DE MUR EHT - 6-44 M3/H - BLANC"]
["ALD11014102",null,"ENTREE D AIR FIXE EFL, 22/30/45 L M3/H - 39 DB - BLANC",null,null,{"$f":"LEFT(Catalogue[[#This Row],[Référence]],3)","v":"ALD"},{"$f":"VLOOKUP(Catalogue[[#This Row],[Alias]],#REF!,2,FALSE)","v":{"$error":"#REF!"}},null,"ALD11014120","ENTREE D AIR FIXE EN TRAVERSE DE MUR EFT - 45 M3/H - BLANC"]
["ALD11014116",null,"ENTREE D AIR HYGROREGLABLE EN TRAVERSE DE MUR EHT - 6-44 M3/H - BLANC",null,null,{"$f":"LEFT(Catalogue[[#This Row],[Référence]],3)","v":"ALD"},{"$f":"VLOOKUP(Catalogue[[#This Row],[Alias]],#REF!,2,FALSE)","v":{"$error":"#REF!"}},null,"ALD11014121","TUBE TRAVERSEE DE MUR POUR ENTREE D AIR EHT D100 MM, LARGEUR 350 MM"]
["ALD11014120",null,"ENTREE D AIR FIXE EN TRAVERSE DE MUR EFT - 45 M3/H - BLANC",null,null,{"$f":"LEFT(Catalogue[[#This Row],[Référence]],3)","v":"ALD"},{"$f":"VLOOKUP(Catalogue[[#This Row],[Alias]],#REF!,2,FALSE)","v":{"$error":"#REF!"}},null,"ALD11014122","AUVENT EXTERIEUR POUR ENTREE D AIR EHT ET EFT"]
["ALD11014121",null,"TUBE TRAVERSEE DE MUR POUR ENTREE D AIR EHT D100 MM, LARGEUR 350 MM",null,null,{"$f":"LEFT(Catalogue[[#This Row],[Référence]],3)","v":"ALD"},{"$f":"VLOOKUP(Catalogue[[#This Row],[Alias]],#REF!,2,FALSE)","v":{"$error":"#REF!"}},null,"ALD11014127","ENTRETOISE POUR LES ENTREES D AIR EHL - BLANC"]
["ALD11014122",null,"AUVENT EXTERIEUR POUR ENTREE D AIR EHT ET EFT",null,null,{"$f":"LEFT(Catalogue[[#This Row],[Référence]],3)","v":"ALD"},{"$f":"VLOOKUP(Catalogue[[#This Row],[Alias]],#REF!,2,FALSE)","v":{"$error":"#REF!"}},null,"ALD11014174","KIT EFB 47 STD BLC/WHI"]
["ALD11014127",null,"ENTRETOISE POUR LES ENTREES D AIR EHL - BLANC",null,null,{"$f":"LEFT(Catalogue[[#This Row],[Référence]],3)","v":"ALD"},{"$f":"VLOOKUP(Catalogue[[#This Row],[Alias]],#REF!,2,FALSE)","v":{"$error":"#REF!"}},null,"ALD11014175","KIT EHB 14-45GAZ STD BLC/WHI"]
["ALD11014174",null,"KIT EFB 47 STD BLC/WHI",null,null,{"$f":"LEFT(Catalogue[[#This Row],[Référence]],3)","v":"ALD"},{"$f":"VLOOKUP(Catalogue[[#This Row],[Alias]],#REF!,2,FALSE)","v":{"$error":"#REF!"}},null,"ALD11014182","EHB 6-45 BLC/WHI"]
["ALD11014175",null,"KIT EHB 14-45GAZ STD BLC/WHI",null,null,{"$f":"LEFT(Catalogue[[#This Row],[Référence]],3)","v":"ALD"},{"$f":"VLOOKUP(Catalogue[[#This Row],[Alias]],#REF!,2,FALSE)","v":{"$error":"#REF!"}},null,"ALD11014185","EFB 34 BLC/WHI"]
["ALD11014182",null,"EHB 6-45 BLC/WHI",null,null,{"$f":"LEFT(Catalogue[[#This Row],[Référence]],3)","v":"ALD"},{"$f":"VLOOKUP(Catalogue[[#This Row],[Alias]],#REF!,2,FALSE)","v":{"$error":"#REF!"}},null,"ALD11014188","EFB 47 BLC/WHI"]
["ALD11014185",null,"EFB 34 BLC/WHI",null,null,{"$f":"LEFT(Catalogue[[#This Row],[Référence]],3)","v":"ALD"},{"$f":"VLOOKUP(Catalogue[[#This Row],[Alias]],#REF!,2,FALSE)","v":{"$error":"#REF!"}},null,"ALD11014191","EHB 14-45 GAZ BLC/WHI"]
["ALD11014188",null,"EFB 47 BLC/WHI",null,null,{"$f":"LEFT(Catalogue[[#This Row],[Référence]],3)","v":"ALD"},{"$f":"VLOOKUP(Catalogue[[#This Row],[Alias]],#REF!,2,FALSE)","v":{"$error":"#REF!"}},null,"ALD11014233","ENTREE D AIR HYGROREGLABLE EHB2 6-44 M3/H 37 DB - BLANC"]
["ALD11014191",null,"EHB 14-45 GAZ BLC/WHI",null,null,{"$f":"LEFT(Catalogue[[#This Row],[Référence]],3)","v":"ALD"},{"$f":"VLOOKUP(Catalogue[[#This Row],[Alias]],#REF!,2,FALSE)","v":{"$error":"#REF!"}},null,"ALD11014238","KIT ENTREE D AIR HYGROREGLABLE EHB2 6-44 M3/H 37 DB - BLANC"]
["ALD11014233",null,"ENTREE D AIR HYGROREGLABLE EHB2 6-44 M3/H 37 DB - BLANC",null,null,{"$f":"LEFT(Catalogue[[#This Row],[Référence]],3)","v":"ALD"},{"$f":"VLOOKUP(Catalogue[[#This Row],[Alias]],#REF!,2,FALSE)","v":{"$error":"#REF!"}},null,"ALD11014250","ENTREE D AIR HYGROREGLABLE EHC 6-44 M3/H 34 DB - BLANC"]
["ALD11014238",null,"KIT ENTREE D AIR HYGROREGLABLE EHB2 6-44 M3/H 37 DB - BLANC",null,null,{"$f":"LEFT(Catalogue[[#This Row],[Référence]],3)","v":"ALD"},{"$f":"VLOOKUP(Catalogue[[#This Row],[Alias]],#REF!,2,FALSE)","v":{"$error":"#REF!"}},null,"ALD11015024","BOUCHE HYGROREGLABLE BAIN B21 CURVE S 5-45 D80 MM - BLANC"]
["ALD11014250",null,"ENTREE D AIR HYGROREGLABLE EHC 6-44 M3/H 34 DB - BLANC",null,null,{"$f":"LEFT(Catalogue[[#This Row],[Référence]],3)","v":"ALD"},{"$f":"VLOOKUP(Catalogue[[#This Row],[Alias]],#REF!,2,FALSE)","v":{"$error":"#REF!"}},null,"ALD11015025","BOUCHE HYGROREGLABLE BAIN B22 CURVE S 10-50 D80 MM - BLANC"]
["ALD11015024",null,"BOUCHE HYGROREGLABLE BAIN B21 CURVE S 5-45 D80 MM - BLANC",null,null,{"$f":"LEFT(Catalogue[[#This Row],[Référence]],3)","v":"ALD"},{"$f":"VLOOKUP(Catalogue[[#This Row],[Alias]],#REF!,2,FALSE)","v":{"$error":"#REF!"}},null,"ALD11015026","Bouche hygroréglable bain B23 Curve S 15-50 D80 mm - Blanc"]
["ALD11015025",null,"BOUCHE HYGROREGLABLE BAIN B22 CURVE S 10-50 D80 MM - BLANC",null,null,{"$f":"LEFT(Catalogue[[#This Row],[Référence]],3)","v":"ALD"},{"$f":"VLOOKUP(Catalogue[[#This Row],[Alias]],#REF!,2,FALSE)","v":{"$error":"#REF!"}},null,"ALD11015027","BOUCHE HYGROREGLABLE BAIN B31 CURVE S 5-45 D125 MM - BLANC"]
["ALD11015026",null,"Bouche hygroréglable bain B23 Curve S 15-50 D80 mm - Blanc",null,null,{"$f":"LEFT(Catalogue[[#This Row],[Référence]],3)","v":"ALD"},{"$f":"VLOOKUP(Catalogue[[#This Row],[Alias]],#REF!,2,FALSE)","v":{"$error":"#REF!"}},null,"ALD11015028","BOUCHE HYGROREGLABLE BAIN B31 CURVE S 5-45 SANS FUT - BLANC"]
["ALD11015027",null,"BOUCHE HYGROREGLABLE BAIN B31 CURVE S 5-45 D125 MM - BLANC",null,null,{"$f":"LEFT(Catalogue[[#This Row],[Référence]],3)","v":"ALD"},{"$f":"VLOOKUP(Catalogue[[#This Row],[Alias]],#REF!,2,FALSE)","v":{"$error":"#REF!"}},null,"ALD11015029","BOUCHE HYGROREGLABLE BAIN B32 CURVE S 5-45 D125 MM - BLANC"]
["ALD11015028",null,"BOUCHE HYGROREGLABLE BAIN B31 CURVE S 5-45 SANS FUT - BLANC",null,null,{"$f":"LEFT(Catalogue[[#This Row],[Référence]],3)","v":"ALD"},{"$f":"VLOOKUP(Catalogue[[#This Row],[Alias]],#REF!,2,FALSE)","v":{"$error":"#REF!"}},null,"ALD11015031","BOUCHE HYGROREGLABLE BAIN B33 CURVE S 10-50 D125 MM - BLANC"]
["ALD11015029",null,"BOUCHE HYGROREGLABLE BAIN B32 CURVE S 5-45 D125 MM - BLANC",null,null,{"$f":"LEFT(Catalogue[[#This Row],[Référence]],3)","v":"ALD"},{"$f":"VLOOKUP(Catalogue[[#This Row],[Alias]],#REF!,2,FALSE)","v":{"$error":"#REF!"}},null,"ALD11015066","BOUCHE HYGROREGLABLE CUISINE C21 CURVE L 15-55/135 M3/H D125 MM CORDELETTE - BLC"]
["ALD11015031",null,"BOUCHE HYGROREGLABLE BAIN B33 CURVE S 10-50 D125 MM - BLANC",null,null,{"$f":"LEFT(Catalogue[[#This Row],[Référence]],3)","v":"ALD"},{"$f":"VLOOKUP(Catalogue[[#This Row],[Alias]],#REF!,2,FALSE)","v":{"$error":"#REF!"}},null,"ALD11015068","BOUCHE HYGROREGLABLE CUISINE C21 CURVE L 15-55/135 M3/H D125 MM PUSH 9V - BLC"]
["ALD11015066",null,"BOUCHE HYGROREGLABLE CUISINE C21 CURVE L 15-55/135 M3/H D125 MM CORDELETTE - BLC",null,null,{"$f":"LEFT(Catalogue[[#This Row],[Référence]],3)","v":"ALD"},{"$f":"VLOOKUP(Catalogue[[#This Row],[Alias]],#REF!,2,FALSE)","v":{"$error":"#REF!"}},null,"ALD11015069","BOUCHE HYGROREGLABLE CUISINE C21 CURVE L 15-55/135 M3/H SANS FUT CORD. - BLC"]
["ALD11015068",null,"BOUCHE HYGROREGLABLE CUISINE C21 CURVE L 15-55/135 M3/H D125 MM PUSH 9V - BLC",null,null,{"$f":"LEFT(Catalogue[[#This Row],[Référence]],3)","v":"ALD"},{"$f":"VLOOKUP(Catalogue[[#This Row],[Alias]],#REF!,2,FALSE)","v":{"$error":"#REF!"}},null,"ALD11015070","BOUCHE HYGROREGLABLE CUISINE C31 CURVE L 10-50/75 M3/H D125 MM CORDELETTE - BLC"]
["ALD11015069",null,"BOUCHE HYGROREGLABLE CUISINE C21 CURVE L 15-55/135 M3/H SANS FUT CORD. - BLC",null,null,{"$f":"LEFT(Catalogue[[#This Row],[Référence]],3)","v":"ALD"},{"$f":"VLOOKUP(Catalogue[[#This Row],[Alias]],#REF!,2,FALSE)","v":{"$error":"#REF!"}},null,"ALD11015072","BOUCHE HYGROREGLABLE CUISINE C31 CURVE L 10-50/75 M3/H D125 MM PUSH 9V - BLC"]
["ALD11015070",null,"BOUCHE HYGROREGLABLE CUISINE C31 CURVE L 10-50/75 M3/H D125 MM CORDELETTE - BLC",null,null,{"$f":"LEFT(Catalogue[[#This Row],[Référence]],3)","v":"ALD"},{"$f":"VLOOKUP(Catalogue[[#This Row],[Alias]],#REF!,2,FALSE)","v":{"$error":"#REF!"}},null,"ALD11015073","Bouche hygroréglable cuisine C31 Curve L 10-50/75 m3/h sans fût cordelette - BLC"]
["ALD11015072",null,"BOUCHE HYGROREGLABLE CUISINE C31 CURVE L 10-50/75 M3/H D125 MM PUSH 9V - BLC",null,null,{"$f":"LEFT(Catalogue[[#This Row],[Référence]],3)","v":"ALD"},{"$f":"VLOOKUP(Catalogue[[#This Row],[Alias]],#REF!,2,FALSE)","v":{"$error":"#REF!"}},null,"ALD11015074","BOUCHE HYGROREGLABLE CUISINE C32 CURVE L 10-50/90 M3/H D125 MM CORDELETTE - BLC"]
["ALD11015073",null,"Bouche hygroréglable cuisine C31 Curve L 10-50/75 m3/h sans fût cordelette - BLC",null,null,{"$f":"LEFT(Catalogue[[#This Row],[Référence]],3)","v":"ALD"},{"$f":"VLOOKUP(Catalogue[[#This Row],[Alias]],#REF!,2,FALSE)","v":{"$error":"#REF!"}},null,"ALD11015076","BOUCHE HYGROREGLABLE CUISINE C32 CURVE L 10-50/90 M3/H D125 MM PUSH 9V - BLC"]
["ALD11015074",null,"BOUCHE HYGROREGLABLE CUISINE C32 CURVE L 10-50/90 M3/H D125 MM CORDELETTE - BLC",null,null,{"$f":"LEFT(Catalogue[[#This Row],[Référence]],3)","v":"ALD"},{"$f":"VLOOKUP(Catalogue[[#This Row],[Alias]],#REF!,2,FALSE)","v":{"$error":"#REF!"}},null,"ALD11015078","BOUCHE HYGROREGLABLE CUISINE C33 CURVE L 10-50/105 M3/H D125 MM CORDELETTE - BLC"]
["ALD11015076",null,"BOUCHE HYGROREGLABLE CUISINE C32 CURVE L 10-50/90 M3/H D125 MM PUSH 9V - BLC",null,null,{"$f":"LEFT(Catalogue[[#This Row],[Référence]],3)","v":"ALD"},{"$f":"VLOOKUP(Catalogue[[#This Row],[Alias]],#REF!,2,FALSE)","v":{"$error":"#REF!"}},null,"ALD11015080","BOUCHE HYGROREGLABLE CUISINE C33 CURVE L 10-50/105 M3/H D125 MM PUSH 9V - BLC"]
["ALD11015078",null,"BOUCHE HYGROREGLABLE CUISINE C33 CURVE L 10-50/105 M3/H D125 MM CORDELETTE - BLC",null,null,{"$f":"LEFT(Catalogue[[#This Row],[Référence]],3)","v":"ALD"},{"$f":"VLOOKUP(Catalogue[[#This Row],[Alias]],#REF!,2,FALSE)","v":{"$error":"#REF!"}},null,"ALD11015081","Bouche hygroréglable cuisine C33 Curve L 10-50/105 m3/h sans fût cord. - BLC"]
["ALD11015080",null,"BOUCHE HYGROREGLABLE CUISINE C33 CURVE L 10-50/105 M3/H D125 MM PUSH 9V - BLC",null,null,{"$f":"LEFT(Catalogue[[#This Row],[Référence]],3)","v":"ALD"},{"$f":"VLOOKUP(Catalogue[[#This Row],[Alias]],#REF!,2,FALSE)","v":{"$error":"#REF!"}},null,"ALD11015082","BOUCHE HYGROREGLABLE CUISINE C34 CURVE L 10-50/120 M3/H D125 MM CORDELETTE - BLC"]
["ALD11015081",null,"Bouche hygroréglable cuisine C33 Curve L 10-50/105 m3/h sans fût cord. - BLC",null,null,{"$f":"LEFT(Catalogue[[#This Row],[Référence]],3)","v":"ALD"},{"$f":"VLOOKUP(Catalogue[[#This Row],[Alias]],#REF!,2,FALSE)","v":{"$error":"#REF!"}},null,"ALD11015084","BOUCHE HYGROREGLABLE CUISINE C34 CURVE L 10-50/120 M3/H 9V, D125 MM - BLC"]
["ALD11015082",null,"BOUCHE HYGROREGLABLE CUISINE C34 CURVE L 10-50/120 M3/H D125 MM CORDELETTE - BLC",null,null,{"$f":"LEFT(Catalogue[[#This Row],[Référence]],3)","v":"ALD"},{"$f":"VLOOKUP(Catalogue[[#This Row],[Alias]],#REF!,2,FALSE)","v":{"$error":"#REF!"}},null,"ALD11015085","Bouche hygroréglable cuisine C34 Curve L 10-50/120 m3/h sans fût cord. - BLC"]
["ALD11015084",null,"BOUCHE HYGROREGLABLE CUISINE C34 CURVE L 10-50/120 M3/H 9V, D125 MM - BLC",null,null,{"$f":"LEFT(Catalogue[[#This Row],[Référence]],3)","v":"ALD"},{"$f":"VLOOKUP(Catalogue[[#This Row],[Alias]],#REF!,2,FALSE)","v":{"$error":"#REF!"}},null,"ALD11015086","BOUCHE HYGROREGLABLE CUISINE C35 CURVE L 15-55/135 M3/H D125 MM CORDELETTE - BLC"]
["ALD11015085",null,"Bouche hygroréglable cuisine C34 Curve L 10-50/120 m3/h sans fût cord. - BLC",null,null,{"$f":"LEFT(Catalogue[[#This Row],[Référence]],3)","v":"ALD"},{"$f":"VLOOKUP(Catalogue[[#This Row],[Alias]],#REF!,2,FALSE)","v":{"$error":"#REF!"}},null,"ALD11015088","Bouche hygroréglable cuisine C35 Curve L 15-55/135 m3/h D125 mm push 9V - BLC"]
["ALD11015086",null,"BOUCHE HYGROREGLABLE CUISINE C35 CURVE L 15-55/135 M3/H D125 MM CORDELETTE - BLC",null,null,{"$f":"LEFT(Catalogue[[#This Row],[Référence]],3)","v":"ALD"},{"$f":"VLOOKUP(Catalogue[[#This Row],[Alias]],#REF!,2,FALSE)","v":{"$error":"#REF!"}},null,"ALD11015089","Bouche hygroréglable cuisine C35 Curve L 15-55/135 m3/h sans fût cord. - BLC"]
["ALD11015088",null,"Bouche hygroréglable cuisine C35 Curve L 15-55/135 m3/h D125 mm push 9V - BLC",null,null,{"$f":"LEFT(Catalogue[[#This Row],[Référence]],3)","v":"ALD"},{"$f":"VLOOKUP(Catalogue[[#This Row],[Alias]],#REF!,2,FALSE)","v":{"$error":"#REF!"}},null,"ALD11015090","Bouche hygroréglable cuisine C36 Curve L 10-50/90 m3/h D125 mm cordelette - BLC"]
["ALD11015089",null,"Bouche hygroréglable cuisine C35 Curve L 15-55/135 m3/h sans fût cord. - BLC",null,null,{"$f":"LEFT(Catalogue[[#This Row],[Référence]],3)","v":"ALD"},{"$f":"VLOOKUP(Catalogue[[#This Row],[Alias]],#REF!,2,FALSE)","v":{"$error":"#REF!"}},null,"ALD11015102","BOUCHE WC BAHIA D80 BLC      15102_CA508_312546"]
["ALD11015090",null,"Bouche hygroréglable cuisine C36 Curve L 10-50/90 m3/h D125 mm cordelette - BLC",null,null,{"$f":"LEFT(Catalogue[[#This Row],[Référence]],3)","v":"ALD"},{"$f":"VLOOKUP(Catalogue[[#This Row],[Alias]],#REF!,2,FALSE)","v":{"$error":"#REF!"}},null,"ALD11015103","ALDES-BOUCHE SDB BAHIA D125      AD15103 CA508"]
["ALD11015102",null,"BOUCHE WC BAHIA D80 BLC      15102_CA508_312546",null,null,{"$f":"LEFT(Catalogue[[#This Row],[Référence]],3)","v":"ALD"},{"$f":"VLOOKUP(Catalogue[[#This Row],[Alias]],#REF!,2,FALSE)","v":{"$error":"#REF!"}},null,"ALD11015118","BOUCHE HYGRO BAHIA 125WC  11015118_CA508_344771"]
["ALD11015103",null,"ALDES-BOUCHE SDB BAHIA D125      AD15103 CA508",null,null,{"$f":"LEFT(Catalogue[[#This Row],[Référence]],3)","v":"ALD"},{"$f":"VLOOKUP(Catalogue[[#This Row],[Alias]],#REF!,2,FALSE)","v":{"$error":"#REF!"}},null,"ALD11015144","BOUCHE HYGROREGLABLE BAIN/WC BW 21 CURVE S 5-45/30 M3/H D80 MM PRESENCE - BLC"]
["ALD11015118",null,"BOUCHE HYGRO BAHIA 125WC  11015118_CA508_344771",null,null,{"$f":"LEFT(Catalogue[[#This Row],[Référence]],3)","v":"ALD"},{"$f":"VLOOKUP(Catalogue[[#This Row],[Alias]],#REF!,2,FALSE)","v":{"$error":"#REF!"}},null,"ALD11015146","BOUCHE HYGROREGLABLE BAIN/WC BW 22 CURVE S 15-50/50 M3/H D80 MM PRESENCE - BLANC"]
["ALD11015144",null,"BOUCHE HYGROREGLABLE BAIN/WC BW 21 CURVE S 5-45/30 M3/H D80 MM PRESENCE - BLC",null,null,{"$f":"LEFT(Catalogue[[#This Row],[Référence]],3)","v":"ALD"},{"$f":"VLOOKUP(Catalogue[[#This Row],[Alias]],#REF!,2,FALSE)","v":{"$error":"#REF!"}},null,"ALD11015148","Bouche hygroréglable bain/WC BW 31 Curve S 5-45/30 m3/h D125 mm cordelette- BLC"]
["ALD11015146",null,"BOUCHE HYGROREGLABLE BAIN/WC BW 22 CURVE S 15-50/50 M3/H D80 MM PRESENCE - BLANC",null,null,{"$f":"LEFT(Catalogue[[#This Row],[Référence]],3)","v":"ALD"},{"$f":"VLOOKUP(Catalogue[[#This Row],[Alias]],#REF!,2,FALSE)","v":{"$error":"#REF!"}},null,"ALD11015149","BOUCHE HYGROREGLABLE BAIN/WC BW 31 CURVE S 5-45/30 M3/H D125 MM PRESENCE - BLC"]
["ALD11015148",null,{"$f":"VLOOKUP(A1602,I:J,2,0)","v":"Bouche hygroréglable bain/WC BW 31 Curve S 5-45/30 m3/h D125 mm cordelette- BLC"},null,null,{"$f":"LEFT(Catalogue[[#This Row],[Référence]],3)","v":"ALD"},{"$f":"VLOOKUP(Catalogue[[#This Row],[Alias]],#REF!,2,FALSE)","v":{"$error":"#REF!"}},null,"ALD11015151","Bouche hygroréglable bain/WC BW 32 Curve S 10-50/30 m3/h D125 mm cord. - BLC"]
["ALD11015149",null,"BOUCHE HYGROREGLABLE BAIN/WC BW 31 CURVE S 5-45/30 M3/H D125 MM PRESENCE - BLC",null,null,{"$f":"LEFT(Catalogue[[#This Row],[Référence]],3)","v":"ALD"},{"$f":"VLOOKUP(Catalogue[[#This Row],[Alias]],#REF!,2,FALSE)","v":{"$error":"#REF!"}},null,"ALD11015152","BOUCHE HYGROREGLABLE BAIN/WC BW 32 CURVE S 10-50/50 M3/H D125 MM PRESENCE - BLC"]
["ALD11015151",null,"Bouche hygroréglable bain/WC BW 32 Curve S 10-50/30 m3/h D125 mm cord. - BLC",null,null,{"$f":"LEFT(Catalogue[[#This Row],[Référence]],3)","v":"ALD"},{"$f":"VLOOKUP(Catalogue[[#This Row],[Alias]],#REF!,2,FALSE)","v":{"$error":"#REF!"}},null,"ALD11015155","BOUCHE HYGROREGLABLE BAIN/WC BW 33 CURVE S 15-50/50 M3/H D125 MM PRESENCE - BLC"]
["ALD11015152",null,"BOUCHE HYGROREGLABLE BAIN/WC BW 32 CURVE S 10-50/50 M3/H D125 MM PRESENCE - BLC",null,null,{"$f":"LEFT(Catalogue[[#This Row],[Référence]],3)","v":"ALD"},{"$f":"VLOOKUP(Catalogue[[#This Row],[Alias]],#REF!,2,FALSE)","v":{"$error":"#REF!"}},null,"ALD11015159","Bouche hygroréglable bain/WC BW 31 Bahia S 5-45/30 m3/h sans fût cord. - BLC"]
["ALD11015155",null,"BOUCHE HYGROREGLABLE BAIN/WC BW 33 CURVE S 15-50/50 M3/H D125 MM PRESENCE - BLC",null,null,{"$f":"LEFT(Catalogue[[#This Row],[Référence]],3)","v":"ALD"},{"$f":"VLOOKUP(Catalogue[[#This Row],[Alias]],#REF!,2,FALSE)","v":{"$error":"#REF!"}},null,"ALD11015163","Bouche hygroréglable bain/WC BW 32 Bahia S 10-50/30 m3/h présence - BLC"]
["ALD11015159",null,"Bouche hygroréglable bain/WC BW 31 Bahia S 5-45/30 m3/h sans fût cord. - BLC",null,null,{"$f":"LEFT(Catalogue[[#This Row],[Référence]],3)","v":"ALD"},{"$f":"VLOOKUP(Catalogue[[#This Row],[Alias]],#REF!,2,FALSE)","v":{"$error":"#REF!"}},null,"ALD11015180","BOUCHE HYGRO BWC 30 CORD.BLC 15180_CA508_356332"]
["ALD11015163",null,"Bouche hygroréglable bain/WC BW 32 Bahia S 10-50/30 m3/h présence - BLC",null,null,{"$f":"LEFT(Catalogue[[#This Row],[Référence]],3)","v":"ALD"},{"$f":"VLOOKUP(Catalogue[[#This Row],[Alias]],#REF!,2,FALSE)","v":{"$error":"#REF!"}},null,"ALD11015185","BWC F/pour un seul WC/ D 125 mm"]
["ALD11015180",null,"BOUCHE HYGRO BWC 30 CORD.BLC 15180_CA508_356332",null,null,{"$f":"LEFT(Catalogue[[#This Row],[Référence]],3)","v":"ALD"},{"$f":"VLOOKUP(Catalogue[[#This Row],[Alias]],#REF!,2,FALSE)","v":{"$error":"#REF!"}},null,"ALD11015202","ALDES-BOUCHE HYGRO BH C 1-2        15202 CA508"]
["ALD11015185",null,"BWC F/pour un seul WC/ D 125 mm",null,null,{"$f":"LEFT(Catalogue[[#This Row],[Référence]],3)","v":"ALD"},{"$f":"VLOOKUP(Catalogue[[#This Row],[Alias]],#REF!,2,FALSE)","v":{"$error":"#REF!"}},null,"ALD11015203","BHC 3/4 D125 PLAINE ELEC"]
["ALD11015202",null,"ALDES-BOUCHE HYGRO BH C 1-2        15202 CA508",null,null,{"$f":"LEFT(Catalogue[[#This Row],[Référence]],3)","v":"ALD"},{"$f":"VLOOKUP(Catalogue[[#This Row],[Alias]],#REF!,2,FALSE)","v":{"$error":"#REF!"}},null,"ALD11015204","ALDES-BOUCHE HYGRO BH C 3-4        15204 CA508"]
["ALD11015203",null,"BHC 3/4 D125 PLAINE ELEC",null,null,{"$f":"LEFT(Catalogue[[#This Row],[Référence]],3)","v":"ALD"},{"$f":"VLOOKUP(Catalogue[[#This Row],[Alias]],#REF!,2,FALSE)","v":{"$error":"#REF!"}},null,"ALD11015270","BAHIA F+/ POUR PLUS D UN WC-D 125 MM FC 06/16"]
["ALD11015204",null,"ALDES-BOUCHE HYGRO BH C 3-4        15204 CA508",null,null,{"$f":"LEFT(Catalogue[[#This Row],[Référence]],3)","v":"ALD"},{"$f":"VLOOKUP(Catalogue[[#This Row],[Alias]],#REF!,2,FALSE)","v":{"$error":"#REF!"}},null,"ALD11015271","Bahia F/pour un WC/D 125 mm"]
["ALD11015270",null,"BAHIA F+/ POUR PLUS D UN WC-D 125 MM FC 06/16",null,null,{"$f":"LEFT(Catalogue[[#This Row],[Référence]],3)","v":"ALD"},{"$f":"VLOOKUP(Catalogue[[#This Row],[Alias]],#REF!,2,FALSE)","v":{"$error":"#REF!"}},null,"ALD11015276","PLATINE RENOVATION POUR BOUCHE BAHIA/BH A VIS"]
["ALD11015271",null,"Bahia F/pour un WC/D 125 mm",null,null,{"$f":"LEFT(Catalogue[[#This Row],[Référence]],3)","v":"ALD"},{"$f":"VLOOKUP(Catalogue[[#This Row],[Alias]],#REF!,2,FALSE)","v":{"$error":"#REF!"}},null,"ALD11015280","INTERFACE 9 V DC-230 VAC POUR LES BOUCHES HYGROREGLABLES ET AUTOREGLABLES"]
["ALD11015276",null,"PLATINE RENOVATION POUR BOUCHE BAHIA/BH A VIS",null,null,{"$f":"LEFT(Catalogue[[#This Row],[Référence]],3)","v":"ALD"},{"$f":"VLOOKUP(Catalogue[[#This Row],[Alias]],#REF!,2,FALSE)","v":{"$error":"#REF!"}},null,"ALD11015333","GRILLE BLC/WHI  BAHIA C"]
["ALD11015280",null,"INTERFACE 9 V DC-230 VAC POUR LES BOUCHES HYGROREGLABLES ET AUTOREGLABLES",null,null,{"$f":"LEFT(Catalogue[[#This Row],[Référence]],3)","v":"ALD"},{"$f":"VLOOKUP(Catalogue[[#This Row],[Alias]],#REF!,2,FALSE)","v":{"$error":"#REF!"}},null,"ALD11015346","B11 BAHIA D125"]
["ALD11015333",null,"GRILLE BLC/WHI  BAHIA C",null,null,{"$f":"LEFT(Catalogue[[#This Row],[Référence]],3)","v":"ALD"},{"$f":"VLOOKUP(Catalogue[[#This Row],[Alias]],#REF!,2,FALSE)","v":{"$error":"#REF!"}},null,"ALD11015349","BOUCHE HYGRO BAHIA 80B  AD15349_CA508_355392- FC 03/2015"]
["ALD11015346",null,"B11 BAHIA D125",null,null,{"$f":"LEFT(Catalogue[[#This Row],[Référence]],3)","v":"ALD"},{"$f":"VLOOKUP(Catalogue[[#This Row],[Alias]],#REF!,2,FALSE)","v":{"$error":"#REF!"}},null,"ALD11015350","BOUCHE BAHIA BAIN D125             15350_CA508_355317"]
["ALD11015349",null,"BOUCHE HYGRO BAHIA 80B  AD15349_CA508_355392- FC 03/2015",null,null,{"$f":"LEFT(Catalogue[[#This Row],[Référence]],3)","v":"ALD"},{"$f":"VLOOKUP(Catalogue[[#This Row],[Alias]],#REF!,2,FALSE)","v":{"$error":"#REF!"}},null,"ALD11015351","B14 BAHIA D80- FC 02/2015"]
["ALD11015350",null,"BOUCHE BAHIA BAIN D125             15350_CA508_355317",null,null,{"$f":"LEFT(Catalogue[[#This Row],[Référence]],3)","v":"ALD"},{"$f":"VLOOKUP(Catalogue[[#This Row],[Alias]],#REF!,2,FALSE)","v":{"$error":"#REF!"}},null,"ALD11015355","C11 BAHIA D125 ELEC. AD15355_CA508_354205  FC 10/2015"]
["ALD11015351",null,"B14 BAHIA D80- FC 02/2015",null,null,{"$f":"LEFT(Catalogue[[#This Row],[Référence]],3)","v":"ALD"},{"$f":"VLOOKUP(Catalogue[[#This Row],[Alias]],#REF!,2,FALSE)","v":{"$error":"#REF!"}},null,"ALD11015356","BOUCHE HYDRO BAHIA C1/2            15356_CA508_355313"]
["ALD11015355",null,"C11 BAHIA D125 ELEC. AD15355_CA508_354205  FC 10/2015",null,null,{"$f":"LEFT(Catalogue[[#This Row],[Référence]],3)","v":"ALD"},{"$f":"VLOOKUP(Catalogue[[#This Row],[Alias]],#REF!,2,FALSE)","v":{"$error":"#REF!"}},null,"ALD11015357","C13 BAHIA D125 ELEC. AD15357_CA508"]
["ALD11015356",null,"BOUCHE HYDRO BAHIA C1/2            15356_CA508_355313",null,null,{"$f":"LEFT(Catalogue[[#This Row],[Référence]],3)","v":"ALD"},{"$f":"VLOOKUP(Catalogue[[#This Row],[Alias]],#REF!,2,FALSE)","v":{"$error":"#REF!"}},null,"ALD11015358","C14 BAHIA D125 ELEC. AD15358_CA508_354211"]
["ALD11015357",null,"C13 BAHIA D125 ELEC. AD15357_CA508",null,null,{"$f":"LEFT(Catalogue[[#This Row],[Référence]],3)","v":"ALD"},{"$f":"VLOOKUP(Catalogue[[#This Row],[Alias]],#REF!,2,FALSE)","v":{"$error":"#REF!"}},null,"ALD11015359","C11 BAHIA D125 CORD. AD15359_CA508_354212"]
["ALD11015358",null,"C14 BAHIA D125 ELEC. AD15358_CA508_354211",null,null,{"$f":"LEFT(Catalogue[[#This Row],[Référence]],3)","v":"ALD"},{"$f":"VLOOKUP(Catalogue[[#This Row],[Alias]],#REF!,2,FALSE)","v":{"$error":"#REF!"}},null,"ALD11015360","BOUCHE BAHIA CUIS 1/2 CORD         15360_CA508_355314"]
["ALD11015359",null,"C11 BAHIA D125 CORD. AD15359_CA508_354212",null,null,{"$f":"LEFT(Catalogue[[#This Row],[Référence]],3)","v":"ALD"},{"$f":"VLOOKUP(Catalogue[[#This Row],[Alias]],#REF!,2,FALSE)","v":{"$error":"#REF!"}},null,"ALD11015361","BOUCHE BAHIA CUIS C5 CORD          15361_CA508_355315"]
["ALD11015360",null,"BOUCHE BAHIA CUIS 1/2 CORD         15360_CA508_355314",null,null,{"$f":"LEFT(Catalogue[[#This Row],[Référence]],3)","v":"ALD"},{"$f":"VLOOKUP(Catalogue[[#This Row],[Alias]],#REF!,2,FALSE)","v":{"$error":"#REF!"}},null,"ALD11015362","C14 BAHIA D125 CORD. AD15362_CA508_354221"]
["ALD11015361",null,"BOUCHE BAHIA CUIS C5 CORD          15361_CA508_355315",null,null,{"$f":"LEFT(Catalogue[[#This Row],[Référence]],3)","v":"ALD"},{"$f":"VLOOKUP(Catalogue[[#This Row],[Alias]],#REF!,2,FALSE)","v":{"$error":"#REF!"}},null,"ALD11015363","W11 BWC D125"]
["ALD11015362",null,"C14 BAHIA D125 CORD. AD15362_CA508_354221",null,null,{"$f":"LEFT(Catalogue[[#This Row],[Référence]],3)","v":"ALD"},{"$f":"VLOOKUP(Catalogue[[#This Row],[Alias]],#REF!,2,FALSE)","v":{"$error":"#REF!"}},null,"ALD11015365","B11 BHB D125"]
["ALD11015363",null,"W11 BWC D125",null,null,{"$f":"LEFT(Catalogue[[#This Row],[Référence]],3)","v":"ALD"},{"$f":"VLOOKUP(Catalogue[[#This Row],[Alias]],#REF!,2,FALSE)","v":{"$error":"#REF!"}},null,"ALD11015368","BOUCHE HYGRO BH BAIN R D125        15368_CA508_355424"]
["ALD11015365",null,"B11 BHB D125",null,null,{"$f":"LEFT(Catalogue[[#This Row],[Référence]],3)","v":"ALD"},{"$f":"VLOOKUP(Catalogue[[#This Row],[Alias]],#REF!,2,FALSE)","v":{"$error":"#REF!"}},null,"ALD11015370","C11 BHC D125 CORD. FC 05/16"]
["ALD11015368",null,"BOUCHE HYGRO BH BAIN R D125        15368_CA508_355424",null,null,{"$f":"LEFT(Catalogue[[#This Row],[Référence]],3)","v":"ALD"},{"$f":"VLOOKUP(Catalogue[[#This Row],[Alias]],#REF!,2,FALSE)","v":{"$error":"#REF!"}},null,"ALD11015373","C14 BHC D125 CORD."]
["ALD11015370",null,"C11 BHC D125 CORD. FC 05/16",null,null,{"$f":"LEFT(Catalogue[[#This Row],[Référence]],3)","v":"ALD"},{"$f":"VLOOKUP(Catalogue[[#This Row],[Alias]],#REF!,2,FALSE)","v":{"$error":"#REF!"}},null,"ALD11015375","C12 BAHIA SANS FUT ELEC."]
["ALD11015373",null,"C14 BHC D125 CORD.",null,null,{"$f":"LEFT(Catalogue[[#This Row],[Référence]],3)","v":"ALD"},{"$f":"VLOOKUP(Catalogue[[#This Row],[Alias]],#REF!,2,FALSE)","v":{"$error":"#REF!"}},null,"ALD11015378","C12 BHC SANS FUT CORD."]
["ALD11015375",null,"C12 BAHIA SANS FUT ELEC.",null,null,{"$f":"LEFT(Catalogue[[#This Row],[Référence]],3)","v":"ALD"},{"$f":"VLOOKUP(Catalogue[[#This Row],[Alias]],#REF!,2,FALSE)","v":{"$error":"#REF!"}},null,"ALD11015379","BOUCHE C13 BHC SS FUT CORD AD15379_CA508_355396- FC 04/2015"]
["ALD11015378",null,"C12 BHC SANS FUT CORD.",null,null,{"$f":"LEFT(Catalogue[[#This Row],[Référence]],3)","v":"ALD"},{"$f":"VLOOKUP(Catalogue[[#This Row],[Alias]],#REF!,2,FALSE)","v":{"$error":"#REF!"}},null,"ALD11015386","C15 BAHIA D125 CORD. AD15386_CA508_354227"]
["ALD11015379",null,"BOUCHE C13 BHC SS FUT CORD AD15379_CA508_355396- FC 04/2015",null,null,{"$f":"LEFT(Catalogue[[#This Row],[Référence]],3)","v":"ALD"},{"$f":"VLOOKUP(Catalogue[[#This Row],[Alias]],#REF!,2,FALSE)","v":{"$error":"#REF!"}},null,"ALD11015432","C13 BAHIA CURVE L 20-60/135 D125 PUSH"]
["ALD11015386",null,"C15 BAHIA D125 CORD. AD15386_CA508_354227",null,null,{"$f":"LEFT(Catalogue[[#This Row],[Référence]],3)","v":"ALD"},{"$f":"VLOOKUP(Catalogue[[#This Row],[Alias]],#REF!,2,FALSE)","v":{"$error":"#REF!"}},null,"ALD11015433","C14 BAHIA CURVE L 10-50/105 D125 PUSH"]
["ALD11015432",null,"C13 BAHIA CURVE L 20-60/135 D125 PUSH",null,null,{"$f":"LEFT(Catalogue[[#This Row],[Référence]],3)","v":"ALD"},{"$f":"VLOOKUP(Catalogue[[#This Row],[Alias]],#REF!,2,FALSE)","v":{"$error":"#REF!"}},null,"ALD11015435","C11 BAHIA CURVE L 5-45/75 D125 CORD"]
["ALD11015433",null,"C14 BAHIA CURVE L 10-50/105 D125 PUSH",null,null,{"$f":"LEFT(Catalogue[[#This Row],[Référence]],3)","v":"ALD"},{"$f":"VLOOKUP(Catalogue[[#This Row],[Alias]],#REF!,2,FALSE)","v":{"$error":"#REF!"}},null,"ALD11015436","C12 BAHIA CURVE L 10-45/90 D125 CORD"]
["ALD11015435",null,"C11 BAHIA CURVE L 5-45/75 D125 CORD",null,null,{"$f":"LEFT(Catalogue[[#This Row],[Référence]],3)","v":"ALD"},{"$f":"VLOOKUP(Catalogue[[#This Row],[Alias]],#REF!,2,FALSE)","v":{"$error":"#REF!"}},null,"ALD11015437","C13 BAHIA CURVE L 20-60/135 D125 CORD"]
["ALD11015436",null,"C12 BAHIA CURVE L 10-45/90 D125 CORD",null,null,{"$f":"LEFT(Catalogue[[#This Row],[Référence]],3)","v":"ALD"},{"$f":"VLOOKUP(Catalogue[[#This Row],[Alias]],#REF!,2,FALSE)","v":{"$error":"#REF!"}},null,"ALD11015438","C14 BAHIA CURVE L 10-50/105 D125 CORD"]
["ALD11015437",null,"C13 BAHIA CURVE L 20-60/135 D125 CORD",null,null,{"$f":"LEFT(Catalogue[[#This Row],[Référence]],3)","v":"ALD"},{"$f":"VLOOKUP(Catalogue[[#This Row],[Alias]],#REF!,2,FALSE)","v":{"$error":"#REF!"}},null,"ALD11015439","C15 BAHIA CURVE L 10-50/120 D125 CORD"]
["ALD11015438",null,"C14 BAHIA CURVE L 10-50/105 D125 CORD",null,null,{"$f":"LEFT(Catalogue[[#This Row],[Référence]],3)","v":"ALD"},{"$f":"VLOOKUP(Catalogue[[#This Row],[Alias]],#REF!,2,FALSE)","v":{"$error":"#REF!"}},null,"ALD11015440","C11 BAHIA CURVE L 5-45/75 D0 CORD"]
["ALD11015439",null,"C15 BAHIA CURVE L 10-50/120 D125 CORD",null,null,{"$f":"LEFT(Catalogue[[#This Row],[Référence]],3)","v":"ALD"},{"$f":"VLOOKUP(Catalogue[[#This Row],[Alias]],#REF!,2,FALSE)","v":{"$error":"#REF!"}},null,"ALD11015441","C12 BAHIA CURVE L 10-45/90 D0 CORD"]
["ALD11015440",null,"C11 BAHIA CURVE L 5-45/75 D0 CORD",null,null,{"$f":"LEFT(Catalogue[[#This Row],[Référence]],3)","v":"ALD"},{"$f":"VLOOKUP(Catalogue[[#This Row],[Alias]],#REF!,2,FALSE)","v":{"$error":"#REF!"}},null,"ALD11015442","C13 BAHIA CURVE L 20-60/135 D0 CORD"]
["ALD11015441",null,"C12 BAHIA CURVE L 10-45/90 D0 CORD",null,null,{"$f":"LEFT(Catalogue[[#This Row],[Référence]],3)","v":"ALD"},{"$f":"VLOOKUP(Catalogue[[#This Row],[Alias]],#REF!,2,FALSE)","v":{"$error":"#REF!"}},null,"ALD11015444","C15 BAHIA CURVE L 10-50/120 D0 CORD"]
["ALD11015442",null,"C13 BAHIA CURVE L 20-60/135 D0 CORD",null,null,{"$f":"LEFT(Catalogue[[#This Row],[Référence]],3)","v":"ALD"},{"$f":"VLOOKUP(Catalogue[[#This Row],[Alias]],#REF!,2,FALSE)","v":{"$error":"#REF!"}},null,"ALD11015446","C12 BAHIA CURVE L 10-45/90 D125 IR"]
["ALD11015444",null,"C15 BAHIA CURVE L 10-50/120 D0 CORD",null,null,{"$f":"LEFT(Catalogue[[#This Row],[Référence]],3)","v":"ALD"},{"$f":"VLOOKUP(Catalogue[[#This Row],[Alias]],#REF!,2,FALSE)","v":{"$error":"#REF!"}},null,"ALD11015460","B11 BAHIA CURVE S 6-45 D125"]
["ALD11015446",null,"C12 BAHIA CURVE L 10-45/90 D125 IR",null,null,{"$f":"LEFT(Catalogue[[#This Row],[Référence]],3)","v":"ALD"},{"$f":"VLOOKUP(Catalogue[[#This Row],[Alias]],#REF!,2,FALSE)","v":{"$error":"#REF!"}},null,"ALD11015461","B13 BAHIA CURVE S 5-45 D125"]
["ALD11015460",null,"B11 BAHIA CURVE S 6-45 D125",null,null,{"$f":"LEFT(Catalogue[[#This Row],[Référence]],3)","v":"ALD"},{"$f":"VLOOKUP(Catalogue[[#This Row],[Alias]],#REF!,2,FALSE)","v":{"$error":"#REF!"}},null,"ALD11015462","B14 BAHIA CURVE S 5-45 D125"]
["ALD11015461",null,"B13 BAHIA CURVE S 5-45 D125",null,null,{"$f":"LEFT(Catalogue[[#This Row],[Référence]],3)","v":"ALD"},{"$f":"VLOOKUP(Catalogue[[#This Row],[Alias]],#REF!,2,FALSE)","v":{"$error":"#REF!"}},null,"ALD11015464","B13 BAHIA CURVE S 5-45 D80"]
["ALD11015462",null,"B14 BAHIA CURVE S 5-45 D125",null,null,{"$f":"LEFT(Catalogue[[#This Row],[Référence]],3)","v":"ALD"},{"$f":"VLOOKUP(Catalogue[[#This Row],[Alias]],#REF!,2,FALSE)","v":{"$error":"#REF!"}},null,"ALD11015465","B14 BAHIA CURVE S 5-45 D80"]
["ALD11015464",null,"B13 BAHIA CURVE S 5-45 D80",null,null,{"$f":"LEFT(Catalogue[[#This Row],[Référence]],3)","v":"ALD"},{"$f":"VLOOKUP(Catalogue[[#This Row],[Alias]],#REF!,2,FALSE)","v":{"$error":"#REF!"}},null,"ALD11015467","W14 BAHIA CURVE S 30 D125"]
["ALD11015465",null,"B14 BAHIA CURVE S 5-45 D80",null,null,{"$f":"LEFT(Catalogue[[#This Row],[Référence]],3)","v":"ALD"},{"$f":"VLOOKUP(Catalogue[[#This Row],[Alias]],#REF!,2,FALSE)","v":{"$error":"#REF!"}},null,"ALD11015468","W11 BAHIA CURVE S 15 D80"]
["ALD11015467",null,"W14 BAHIA CURVE S 30 D125",null,null,{"$f":"LEFT(Catalogue[[#This Row],[Référence]],3)","v":"ALD"},{"$f":"VLOOKUP(Catalogue[[#This Row],[Alias]],#REF!,2,FALSE)","v":{"$error":"#REF!"}},null,"ALD11015469","W14 BAHIA CURVE S 30 D80"]
["ALD11015468",null,"W11 BAHIA CURVE S 15 D80",null,null,{"$f":"LEFT(Catalogue[[#This Row],[Référence]],3)","v":"ALD"},{"$f":"VLOOKUP(Catalogue[[#This Row],[Alias]],#REF!,2,FALSE)","v":{"$error":"#REF!"}},null,"ALD11015470","BOUCHE HYGROREGLABLE WC W13 CURVE S 5/30 D125 MM PUSH 9V - BLANC"]
["ALD11015469",null,"W14 BAHIA CURVE S 30 D80",null,null,{"$f":"LEFT(Catalogue[[#This Row],[Référence]],3)","v":"ALD"},{"$f":"VLOOKUP(Catalogue[[#This Row],[Alias]],#REF!,2,FALSE)","v":{"$error":"#REF!"}},null,"ALD11015471","BOUCHE HYGROREGLABLE WC W13 CURVE S 5/30 D80 MM PUSH 9V - BLANC"]
["ALD11015470",null,"BOUCHE HYGROREGLABLE WC W13 CURVE S 5/30 D125 MM PUSH 9V - BLANC",null,null,{"$f":"LEFT(Catalogue[[#This Row],[Référence]],3)","v":"ALD"},{"$f":"VLOOKUP(Catalogue[[#This Row],[Alias]],#REF!,2,FALSE)","v":{"$error":"#REF!"}},null,"ALD11015472","BOUCHE HYGROREGLABLE WC W13 CURVE S 5/30 D125 MM CORDELETTE - BLANC"]
["ALD11015471",null,"BOUCHE HYGROREGLABLE WC W13 CURVE S 5/30 D80 MM PUSH 9V - BLANC",null,null,{"$f":"LEFT(Catalogue[[#This Row],[Référence]],3)","v":"ALD"},{"$f":"VLOOKUP(Catalogue[[#This Row],[Alias]],#REF!,2,FALSE)","v":{"$error":"#REF!"}},null,"ALD11015473","BOUCHE HYGROREGLABLE WC W13 CURVE S 5/30 D80 MM CORDELETTE - BLANC"]
["ALD11015472",null,"BOUCHE HYGROREGLABLE WC W13 CURVE S 5/30 D125 MM CORDELETTE - BLANC",null,null,{"$f":"LEFT(Catalogue[[#This Row],[Référence]],3)","v":"ALD"},{"$f":"VLOOKUP(Catalogue[[#This Row],[Alias]],#REF!,2,FALSE)","v":{"$error":"#REF!"}},null,"ALD11015474","BOUCHE HYGROREGLABLE WC W13 CURVE S 5/30 D125 MM PRESENCE - BLANC"]
["ALD11015473",null,"BOUCHE HYGROREGLABLE WC W13 CURVE S 5/30 D80 MM CORDELETTE - BLANC",null,null,{"$f":"LEFT(Catalogue[[#This Row],[Référence]],3)","v":"ALD"},{"$f":"VLOOKUP(Catalogue[[#This Row],[Alias]],#REF!,2,FALSE)","v":{"$error":"#REF!"}},null,"ALD11015475","BOUCHE HYGROREGLABLE WC W13 CURVE S 5/30 D80 MM PRESENCE - BLANC"]
["ALD11015474",null,"BOUCHE HYGROREGLABLE WC W13 CURVE S 5/30 D125 MM PRESENCE - BLANC",null,null,{"$f":"LEFT(Catalogue[[#This Row],[Référence]],3)","v":"ALD"},{"$f":"VLOOKUP(Catalogue[[#This Row],[Alias]],#REF!,2,FALSE)","v":{"$error":"#REF!"}},null,"ALD11015476","BW15 BAHIA CURVE S 5-45/30 D125 CORD"]
["ALD11015475",null,"BOUCHE HYGROREGLABLE WC W13 CURVE S 5/30 D80 MM PRESENCE - BLANC",null,null,{"$f":"LEFT(Catalogue[[#This Row],[Référence]],3)","v":"ALD"},{"$f":"VLOOKUP(Catalogue[[#This Row],[Alias]],#REF!,2,FALSE)","v":{"$error":"#REF!"}},null,"ALD11015477","BW15 BAHIA CURVE S 5-45/30 D125 PRES"]
["ALD11015476",null,{"$f":"VLOOKUP(A1666,I:J,2,0)","v":"BW15 BAHIA CURVE S 5-45/30 D125 CORD"},null,null,{"$f":"LEFT(Catalogue[[#This Row],[Référence]],3)","v":"ALD"},{"$f":"VLOOKUP(Catalogue[[#This Row],[Alias]],#REF!,2,FALSE)","v":{"$error":"#REF!"}},null,"ALD11015482","BOUCHE HYGROREGLABLE WC W13 CURVE S 5/30 SANS FUT CORDELETTE - BLANC"]
["ALD11015477",null,"BW15 BAHIA CURVE S 5-45/30 D125 PRES",null,null,{"$f":"LEFT(Catalogue[[#This Row],[Référence]],3)","v":"ALD"},{"$f":"VLOOKUP(Catalogue[[#This Row],[Alias]],#REF!,2,FALSE)","v":{"$error":"#REF!"}},null,"ALD11015483","B11 BAHIA CURVE S 6-45 D0"]
["ALD11015482",null,"BOUCHE HYGROREGLABLE WC W13 CURVE S 5/30 SANS FUT CORDELETTE - BLANC",null,null,{"$f":"LEFT(Catalogue[[#This Row],[Référence]],3)","v":"ALD"},{"$f":"VLOOKUP(Catalogue[[#This Row],[Alias]],#REF!,2,FALSE)","v":{"$error":"#REF!"}},null,"ALD11015484","B13 BAHIA CURVE S 5-45 D0"]
["ALD11015483",null,"B11 BAHIA CURVE S 6-45 D0",null,null,{"$f":"LEFT(Catalogue[[#This Row],[Référence]],3)","v":"ALD"},{"$f":"VLOOKUP(Catalogue[[#This Row],[Alias]],#REF!,2,FALSE)","v":{"$error":"#REF!"}},null,"ALD11015486","W11 BAHIA CURVE S 15 D0"]
["ALD11015484",null,"B13 BAHIA CURVE S 5-45 D0",null,null,{"$f":"LEFT(Catalogue[[#This Row],[Référence]],3)","v":"ALD"},{"$f":"VLOOKUP(Catalogue[[#This Row],[Alias]],#REF!,2,FALSE)","v":{"$error":"#REF!"}},null,"ALD11015488","BOUCHE HYGROREGLABLE WC W13 CURVE S 5/30 SANS FUT PRESENCE - BLANC"]
["ALD11015486",null,"W11 BAHIA CURVE S 15 D0",null,null,{"$f":"LEFT(Catalogue[[#This Row],[Référence]],3)","v":"ALD"},{"$f":"VLOOKUP(Catalogue[[#This Row],[Alias]],#REF!,2,FALSE)","v":{"$error":"#REF!"}},null,"ALD11015490","BOUCHE HYGROREGLABLE CUISINE C13 CURVE L 20-60/135 M3/H D125 MM PUSH 9V - BLANC"]
["ALD11015488",null,"BOUCHE HYGROREGLABLE WC W13 CURVE S 5/30 SANS FUT PRESENCE - BLANC",null,null,{"$f":"LEFT(Catalogue[[#This Row],[Référence]],3)","v":"ALD"},{"$f":"VLOOKUP(Catalogue[[#This Row],[Alias]],#REF!,2,FALSE)","v":{"$error":"#REF!"}},null,"ALD11016307","REGULATEUR DE DEBIT REGLABLE MR MODULO D100 20-60M3/H"]
["ALD11015490",null,"BOUCHE HYGROREGLABLE CUISINE C13 CURVE L 20-60/135 M3/H D125 MM PUSH 9V - BLANC",null,null,{"$f":"LEFT(Catalogue[[#This Row],[Référence]],3)","v":"ALD"},{"$f":"VLOOKUP(Catalogue[[#This Row],[Alias]],#REF!,2,FALSE)","v":{"$error":"#REF!"}},null,"ALD11016310","REGULATEUR DE DEBIT REGLABLE MR MODULO D125 100-190M3/H"]
["ALD11016307",null,"REGULATEUR DE DEBIT REGLABLE MR MODULO D100 20-60M3/H",null,null,{"$f":"LEFT(Catalogue[[#This Row],[Référence]],3)","v":"ALD"},{"$f":"VLOOKUP(Catalogue[[#This Row],[Alias]],#REF!,2,FALSE)","v":{"$error":"#REF!"}},null,"ALD11017110","TRANSFO 230V/12V AC P:12VA"]
["ALD11016310",null,"REGULATEUR DE DEBIT REGLABLE MR MODULO D125 100-190M3/H",null,null,{"$f":"LEFT(Catalogue[[#This Row],[Référence]],3)","v":"ALD"},{"$f":"VLOOKUP(Catalogue[[#This Row],[Alias]],#REF!,2,FALSE)","v":{"$error":"#REF!"}},null,"ALD11017344","Bouche hygroréglable bain B42 Curve S 10-50 m3/h D125 mm - Blanc"]
["ALD11017110",null,"TRANSFO 230V/12V AC P:12VA",null,null,{"$f":"LEFT(Catalogue[[#This Row],[Référence]],3)","v":"ALD"},{"$f":"VLOOKUP(Catalogue[[#This Row],[Alias]],#REF!,2,FALSE)","v":{"$error":"#REF!"}},null,"ALD11017347","Bouche hygroréglable bain B43 Curve S 15-50 m3/h D125 mm - Blanc"]
["ALD11017344",null,"Bouche hygroréglable bain B42 Curve S 10-50 m3/h D125 mm - Blanc",null,null,{"$f":"LEFT(Catalogue[[#This Row],[Référence]],3)","v":"ALD"},{"$f":"VLOOKUP(Catalogue[[#This Row],[Alias]],#REF!,2,FALSE)","v":{"$error":"#REF!"}},null,"ALD11017393","C5 BAHIA CURVE S 15-40 D125"]
["ALD11017347",null,"Bouche hygroréglable bain B43 Curve S 15-50 m3/h D125 mm - Blanc",null,null,{"$f":"LEFT(Catalogue[[#This Row],[Référence]],3)","v":"ALD"},{"$f":"VLOOKUP(Catalogue[[#This Row],[Alias]],#REF!,2,FALSE)","v":{"$error":"#REF!"}},null,"ALD11017395","C7 BAHIA CURVE L 15-65 D125"]
["ALD11017393",null,"C5 BAHIA CURVE S 15-40 D125",null,null,{"$f":"LEFT(Catalogue[[#This Row],[Référence]],3)","v":"ALD"},{"$f":"VLOOKUP(Catalogue[[#This Row],[Alias]],#REF!,2,FALSE)","v":{"$error":"#REF!"}},null,"ALD11018013","SOUS-ENSEMBLE REGULATION BAZ 30/90"]
["ALD11017395",null,"C7 BAHIA CURVE L 15-65 D125",null,null,{"$f":"LEFT(Catalogue[[#This Row],[Référence]],3)","v":"ALD"},{"$f":"VLOOKUP(Catalogue[[#This Row],[Alias]],#REF!,2,FALSE)","v":{"$error":"#REF!"}},null,"ALD11018014","SOUS-ENSEMBLE REGULATION BAZ 45/105"]
["ALD11018013",null,"SOUS-ENSEMBLE REGULATION BAZ 30/90",null,null,{"$f":"LEFT(Catalogue[[#This Row],[Référence]],3)","v":"ALD"},{"$f":"VLOOKUP(Catalogue[[#This Row],[Alias]],#REF!,2,FALSE)","v":{"$error":"#REF!"}},null,"ALD11018015","SOUS-ENSEMBLE REGULATION BAZ 45/120"]
["ALD11018014",null,"SOUS-ENSEMBLE REGULATION BAZ 45/105",null,null,{"$f":"LEFT(Catalogue[[#This Row],[Référence]],3)","v":"ALD"},{"$f":"VLOOKUP(Catalogue[[#This Row],[Alias]],#REF!,2,FALSE)","v":{"$error":"#REF!"}},null,"ALD11018030","SAC DE 10 GRIFFES FIXATION BAZ"]
["ALD11018015",null,"SOUS-ENSEMBLE REGULATION BAZ 45/120",null,null,{"$f":"LEFT(Catalogue[[#This Row],[Référence]],3)","v":"ALD"},{"$f":"VLOOKUP(Catalogue[[#This Row],[Alias]],#REF!,2,FALSE)","v":{"$error":"#REF!"}},null,"ALD11018043","SOUS-ENSEMBLE REGULATION BAZ 20/105"]
["ALD11018030",null,"SAC DE 10 GRIFFES FIXATION BAZ",null,null,{"$f":"LEFT(Catalogue[[#This Row],[Référence]],3)","v":"ALD"},{"$f":"VLOOKUP(Catalogue[[#This Row],[Alias]],#REF!,2,FALSE)","v":{"$error":"#REF!"}},null,"ALD11018044","SOUS-ENSEMBLE REGULATION BAZ 45/135"]
["ALD11018043",null,"SOUS-ENSEMBLE REGULATION BAZ 20/105",null,null,{"$f":"LEFT(Catalogue[[#This Row],[Référence]],3)","v":"ALD"},{"$f":"VLOOKUP(Catalogue[[#This Row],[Alias]],#REF!,2,FALSE)","v":{"$error":"#REF!"}},null,"ALD11018135","BOUCHE AUTOREGLABLE GAZ BAZ MOTUS 20/75 M3/H 17KW D125/125 MM"]
["ALD11018044",null,"SOUS-ENSEMBLE REGULATION BAZ 45/135",null,null,{"$f":"LEFT(Catalogue[[#This Row],[Référence]],3)","v":"ALD"},{"$f":"VLOOKUP(Catalogue[[#This Row],[Alias]],#REF!,2,FALSE)","v":{"$error":"#REF!"}},null,"ALD11018136","BOUCHE AUTOREGLABLE GAZ BAZ MOTUS 20/105 M3/H 23KW D125/125 MM"]
["ALD11018135",null,"BOUCHE AUTOREGLABLE GAZ BAZ MOTUS 20/75 M3/H 17KW D125/125 MM",null,null,{"$f":"LEFT(Catalogue[[#This Row],[Référence]],3)","v":"ALD"},{"$f":"VLOOKUP(Catalogue[[#This Row],[Alias]],#REF!,2,FALSE)","v":{"$error":"#REF!"}},null,"ALD11018137","BOUCHE AUTOREGLABLE GAZ BAZ MOTUS 30/90 M3/H 23KW D125/125 MM"]
["ALD11018136",null,"BOUCHE AUTOREGLABLE GAZ BAZ MOTUS 20/105 M3/H 23KW D125/125 MM",null,null,{"$f":"LEFT(Catalogue[[#This Row],[Référence]],3)","v":"ALD"},{"$f":"VLOOKUP(Catalogue[[#This Row],[Alias]],#REF!,2,FALSE)","v":{"$error":"#REF!"}},null,"ALD11018138","BOUCHE AUTOREGLABLE GAZ BAZ MOTUS 45/105 M3/H 23KW D125/125 MM"]
["ALD11018137",null,"BOUCHE AUTOREGLABLE GAZ BAZ MOTUS 30/90 M3/H 23KW D125/125 MM",null,null,{"$f":"LEFT(Catalogue[[#This Row],[Référence]],3)","v":"ALD"},{"$f":"VLOOKUP(Catalogue[[#This Row],[Alias]],#REF!,2,FALSE)","v":{"$error":"#REF!"}},null,"ALD11018139","BOUCHE AUTOREGLABLE GAZ BAZ MOTUS 45/120 M3/H 23KW D125/125 MM"]
["ALD11018138",null,"BOUCHE AUTOREGLABLE GAZ BAZ MOTUS 45/105 M3/H 23KW D125/125 MM",null,null,{"$f":"LEFT(Catalogue[[#This Row],[Référence]],3)","v":"ALD"},{"$f":"VLOOKUP(Catalogue[[#This Row],[Alias]],#REF!,2,FALSE)","v":{"$error":"#REF!"}},null,"ALD11018140","BOUCHE AUTOREGLABLE GAZ BAZ MOTUS 45/135 M3/H 23KW D125/125 MM"]
["ALD11018139",null,"BOUCHE AUTOREGLABLE GAZ BAZ MOTUS 45/120 M3/H 23KW D125/125 MM",null,null,{"$f":"LEFT(Catalogue[[#This Row],[Référence]],3)","v":"ALD"},{"$f":"VLOOKUP(Catalogue[[#This Row],[Alias]],#REF!,2,FALSE)","v":{"$error":"#REF!"}},null,"ALD11018141","BAZMOTUS 20/75 17KW D125/D120"]
["ALD11018140",null,"BOUCHE AUTOREGLABLE GAZ BAZ MOTUS 45/135 M3/H 23KW D125/125 MM",null,null,{"$f":"LEFT(Catalogue[[#This Row],[Référence]],3)","v":"ALD"},{"$f":"VLOOKUP(Catalogue[[#This Row],[Alias]],#REF!,2,FALSE)","v":{"$error":"#REF!"}},null,"ALD11018144","BAZMOTUS 45/105 23KW D125/D120"]
["ALD11018141",null,"BAZMOTUS 20/75 17KW D125/D120",null,null,{"$f":"LEFT(Catalogue[[#This Row],[Référence]],3)","v":"ALD"},{"$f":"VLOOKUP(Catalogue[[#This Row],[Alias]],#REF!,2,FALSE)","v":{"$error":"#REF!"}},null,"ALD11018146","BAZMOTUS 45/135 23KW 125/120 18146 CA516"]
["ALD11018144",null,"BAZMOTUS 45/105 23KW D125/D120",null,null,{"$f":"LEFT(Catalogue[[#This Row],[Référence]],3)","v":"ALD"},{"$f":"VLOOKUP(Catalogue[[#This Row],[Alias]],#REF!,2,FALSE)","v":{"$error":"#REF!"}},null,"ALD11018171","BOUCHE AUTOREGLABLE GAZ BAZ MOTUS 20/75 M3/H 17KW D116/125 MM"]
["ALD11018146",null,"BAZMOTUS 45/135 23KW 125/120 18146 CA516",null,null,{"$f":"LEFT(Catalogue[[#This Row],[Référence]],3)","v":"ALD"},{"$f":"VLOOKUP(Catalogue[[#This Row],[Alias]],#REF!,2,FALSE)","v":{"$error":"#REF!"}},null,"ALD11018172","BOUCHE AUTOREGLABLE GAZ BAZ MOTUS 20/105 M3/H 23KW D116/125 MM"]
["ALD11018171",null,"BOUCHE AUTOREGLABLE GAZ BAZ MOTUS 20/75 M3/H 17KW D116/125 MM",null,null,{"$f":"LEFT(Catalogue[[#This Row],[Référence]],3)","v":"ALD"},{"$f":"VLOOKUP(Catalogue[[#This Row],[Alias]],#REF!,2,FALSE)","v":{"$error":"#REF!"}},null,"ALD11018173","BOUCHE AUTOREGLABLE GAZ BAZ MOTUS 30/90 M3/H 23KW D116/125 MM"]
["ALD11018172",null,"BOUCHE AUTOREGLABLE GAZ BAZ MOTUS 20/105 M3/H 23KW D116/125 MM",null,null,{"$f":"LEFT(Catalogue[[#This Row],[Référence]],3)","v":"ALD"},{"$f":"VLOOKUP(Catalogue[[#This Row],[Alias]],#REF!,2,FALSE)","v":{"$error":"#REF!"}},null,"ALD11018174","BOUCHE AUTOREGLABLE GAZ BAZ MOTUS 45/105 M3/H 23KW D116/125 MM"]
["ALD11018173",null,"BOUCHE AUTOREGLABLE GAZ BAZ MOTUS 30/90 M3/H 23KW D116/125 MM",null,null,{"$f":"LEFT(Catalogue[[#This Row],[Référence]],3)","v":"ALD"},{"$f":"VLOOKUP(Catalogue[[#This Row],[Alias]],#REF!,2,FALSE)","v":{"$error":"#REF!"}},null,"ALD11018175","BOUCHE AUTOREGLABLE GAZ BAZ MOTUS 45/120 M3/H 23KW D116/125 MM"]
["ALD11018174",null,"BOUCHE AUTOREGLABLE GAZ BAZ MOTUS 45/105 M3/H 23KW D116/125 MM",null,null,{"$f":"LEFT(Catalogue[[#This Row],[Référence]],3)","v":"ALD"},{"$f":"VLOOKUP(Catalogue[[#This Row],[Alias]],#REF!,2,FALSE)","v":{"$error":"#REF!"}},null,"ALD11018176","BOUCHE AUTOREGLABLE GAZ BAZ MOTUS 45/135 M3/H 23KW D116/125 MM"]
["ALD11018175",null,"BOUCHE AUTOREGLABLE GAZ BAZ MOTUS 45/120 M3/H 23KW D116/125 MM",null,null,{"$f":"LEFT(Catalogue[[#This Row],[Référence]],3)","v":"ALD"},{"$f":"VLOOKUP(Catalogue[[#This Row],[Alias]],#REF!,2,FALSE)","v":{"$error":"#REF!"}},null,"ALD11018179","BAZMOTUS 30/90 23KW D116/D120 (FDS)"]
["ALD11018176",null,"BOUCHE AUTOREGLABLE GAZ BAZ MOTUS 45/135 M3/H 23KW D116/125 MM",null,null,{"$f":"LEFT(Catalogue[[#This Row],[Référence]],3)","v":"ALD"},{"$f":"VLOOKUP(Catalogue[[#This Row],[Alias]],#REF!,2,FALSE)","v":{"$error":"#REF!"}},null,"ALD11018180","BAZMOTUS 45/105 23KW D116/D120 (FDS)"]
["ALD11018179",null,"BAZMOTUS 30/90 23KW D116/D120 (FDS)",null,null,{"$f":"LEFT(Catalogue[[#This Row],[Référence]],3)","v":"ALD"},{"$f":"VLOOKUP(Catalogue[[#This Row],[Alias]],#REF!,2,FALSE)","v":{"$error":"#REF!"}},null,"ALD11018181","BAZMOTUS 45/120 23KW D116/D120 (FDS)  FC 09/2015"]
["ALD11018180",null,"BAZMOTUS 45/105 23KW D116/D120 (FDS)",null,null,{"$f":"LEFT(Catalogue[[#This Row],[Référence]],3)","v":"ALD"},{"$f":"VLOOKUP(Catalogue[[#This Row],[Alias]],#REF!,2,FALSE)","v":{"$error":"#REF!"}},null,"ALD11018182","BAZMOTUS 45/135 23KW D116/D120 (FDS)"]
["ALD11018181",null,"BAZMOTUS 45/120 23KW D116/D120 (FDS)  FC 09/2015",null,null,{"$f":"LEFT(Catalogue[[#This Row],[Référence]],3)","v":"ALD"},{"$f":"VLOOKUP(Catalogue[[#This Row],[Alias]],#REF!,2,FALSE)","v":{"$error":"#REF!"}},null,"ALD11018186","ADAPTATEUR BAZ /BOUCHE SOUPAPE"]
["ALD11018182",null,"BAZMOTUS 45/135 23KW D116/D120 (FDS)",null,null,{"$f":"LEFT(Catalogue[[#This Row],[Référence]],3)","v":"ALD"},{"$f":"VLOOKUP(Catalogue[[#This Row],[Alias]],#REF!,2,FALSE)","v":{"$error":"#REF!"}},null,"ALD11018187","MANCHETTE ADAPTATION POUR BOUCHE AUTOREGLABLE GAZ BAZ D116 MM"]
["ALD11018186",null,"ADAPTATEUR BAZ /BOUCHE SOUPAPE",null,null,{"$f":"LEFT(Catalogue[[#This Row],[Référence]],3)","v":"ALD"},{"$f":"VLOOKUP(Catalogue[[#This Row],[Alias]],#REF!,2,FALSE)","v":{"$error":"#REF!"}},null,"ALD11018188","MANCHETTE ADAPTATION POUR BOUCHE AUTOREGLABLE GAZ BAZ D100 MM"]
["ALD11018187",null,"MANCHETTE ADAPTATION POUR BOUCHE AUTOREGLABLE GAZ BAZ D116 MM",null,null,{"$f":"LEFT(Catalogue[[#This Row],[Référence]],3)","v":"ALD"},{"$f":"VLOOKUP(Catalogue[[#This Row],[Alias]],#REF!,2,FALSE)","v":{"$error":"#REF!"}},null,"ALD11018192","MANCHETTE INOX DIAMETRE 116 MM COTE VMC POUR LES BOUCHES GAZ BAZ"]
["ALD11018188",null,"MANCHETTE ADAPTATION POUR BOUCHE AUTOREGLABLE GAZ BAZ D100 MM",null,null,{"$f":"LEFT(Catalogue[[#This Row],[Référence]],3)","v":"ALD"},{"$f":"VLOOKUP(Catalogue[[#This Row],[Alias]],#REF!,2,FALSE)","v":{"$error":"#REF!"}},null,"ALD11018200","BOUCHE AUTOREGLABLE GAZ BAZ PILOT 20/75 M3/H D125 MM"]
["ALD11018192",null,"MANCHETTE INOX DIAMETRE 116 MM COTE VMC POUR LES BOUCHES GAZ BAZ",null,null,{"$f":"LEFT(Catalogue[[#This Row],[Référence]],3)","v":"ALD"},{"$f":"VLOOKUP(Catalogue[[#This Row],[Alias]],#REF!,2,FALSE)","v":{"$error":"#REF!"}},null,"ALD11018201","BOUCHE AUTOREGLABLE GAZ BAZ PILOT 30/90 M3/H D125 MM"]
["ALD11018200",null,"BOUCHE AUTOREGLABLE GAZ BAZ PILOT 20/75 M3/H D125 MM",null,null,{"$f":"LEFT(Catalogue[[#This Row],[Référence]],3)","v":"ALD"},{"$f":"VLOOKUP(Catalogue[[#This Row],[Alias]],#REF!,2,FALSE)","v":{"$error":"#REF!"}},null,"ALD11018202","BOUCHE AUTOREGLABLE GAZ BAZ PILOT 45/105 M3/H D125 MM"]
["ALD11018201",null,"BOUCHE AUTOREGLABLE GAZ BAZ PILOT 30/90 M3/H D125 MM",null,null,{"$f":"LEFT(Catalogue[[#This Row],[Référence]],3)","v":"ALD"},{"$f":"VLOOKUP(Catalogue[[#This Row],[Alias]],#REF!,2,FALSE)","v":{"$error":"#REF!"}},null,"ALD11018203","BOUCHE AUTOREGLABLE GAZ BAZ PILOT 45/120 M3/H D125 MM"]
["ALD11018202",null,"BOUCHE AUTOREGLABLE GAZ BAZ PILOT 45/105 M3/H D125 MM",null,null,{"$f":"LEFT(Catalogue[[#This Row],[Référence]],3)","v":"ALD"},{"$f":"VLOOKUP(Catalogue[[#This Row],[Alias]],#REF!,2,FALSE)","v":{"$error":"#REF!"}},null,"ALD11018204","BOUCHE AUTOREGLABLE GAZ BAZ PILOT 45/135 M3/H D125 MM"]
["ALD11018203",null,"BOUCHE AUTOREGLABLE GAZ BAZ PILOT 45/120 M3/H D125 MM",null,null,{"$f":"LEFT(Catalogue[[#This Row],[Référence]],3)","v":"ALD"},{"$f":"VLOOKUP(Catalogue[[#This Row],[Alias]],#REF!,2,FALSE)","v":{"$error":"#REF!"}},null,"ALD11018210","BOUCHE AUTOREGLABLE GAZ BAZ PILOT 20/75 M3/H D116 MM"]
["ALD11018204",null,"BOUCHE AUTOREGLABLE GAZ BAZ PILOT 45/135 M3/H D125 MM",null,null,{"$f":"LEFT(Catalogue[[#This Row],[Référence]],3)","v":"ALD"},{"$f":"VLOOKUP(Catalogue[[#This Row],[Alias]],#REF!,2,FALSE)","v":{"$error":"#REF!"}},null,"ALD11018212","BOUCHE AUTOREGLABLE GAZ BAZ PILOT 45/105 M3/H D116 MM"]
["ALD11018210",null,"BOUCHE AUTOREGLABLE GAZ BAZ PILOT 20/75 M3/H D116 MM",null,null,{"$f":"LEFT(Catalogue[[#This Row],[Référence]],3)","v":"ALD"},{"$f":"VLOOKUP(Catalogue[[#This Row],[Alias]],#REF!,2,FALSE)","v":{"$error":"#REF!"}},null,"ALD11018213","BOUCHE AUTOREGLABLE GAZ BAZ PILOT 45/120 M3/H D116 MM"]
["ALD11018212",null,"BOUCHE AUTOREGLABLE GAZ BAZ PILOT 45/105 M3/H D116 MM",null,null,{"$f":"LEFT(Catalogue[[#This Row],[Référence]],3)","v":"ALD"},{"$f":"VLOOKUP(Catalogue[[#This Row],[Alias]],#REF!,2,FALSE)","v":{"$error":"#REF!"}},null,"ALD11018214","BOUCHE AUTOREGLABLE GAZ BAZ PILOT 45/135 M3/H D116 MM"]
["ALD11018213",null,"BOUCHE AUTOREGLABLE GAZ BAZ PILOT 45/120 M3/H D116 MM",null,null,{"$f":"LEFT(Catalogue[[#This Row],[Référence]],3)","v":"ALD"},{"$f":"VLOOKUP(Catalogue[[#This Row],[Alias]],#REF!,2,FALSE)","v":{"$error":"#REF!"}},null,"ALD11018702","SOUS-ENSEMBLE REGULATION BAZ 20/75"]
["ALD11018214",null,"BOUCHE AUTOREGLABLE GAZ BAZ PILOT 45/135 M3/H D116 MM",null,null,{"$f":"LEFT(Catalogue[[#This Row],[Référence]],3)","v":"ALD"},{"$f":"VLOOKUP(Catalogue[[#This Row],[Alias]],#REF!,2,FALSE)","v":{"$error":"#REF!"}},null,"ALD11018721","BOUCHE AUTOREGLABLE GAZ BAZ MOTUS 30 M3/H 23KW D125 MM SANS CABLE"]
["ALD11018702",null,"SOUS-ENSEMBLE REGULATION BAZ 20/75",null,null,{"$f":"LEFT(Catalogue[[#This Row],[Référence]],3)","v":"ALD"},{"$f":"VLOOKUP(Catalogue[[#This Row],[Alias]],#REF!,2,FALSE)","v":{"$error":"#REF!"}},null,"ALD11018879","MANCHETTE POUR LES BOUCHES GAZ EN TOLE D133/125 MM"]
["ALD11018721",null,"BOUCHE AUTOREGLABLE GAZ BAZ MOTUS 30 M3/H 23KW D125 MM SANS CABLE",null,null,{"$f":"LEFT(Catalogue[[#This Row],[Référence]],3)","v":"ALD"},{"$f":"VLOOKUP(Catalogue[[#This Row],[Alias]],#REF!,2,FALSE)","v":{"$error":"#REF!"}},null,"ALD11019003","BOUCHE AUTOREGLABLE BAP SI 15 M3/H D125 MM - BLANC"]
["ALD11018879",null,"MANCHETTE POUR LES BOUCHES GAZ EN TOLE D133/125 MM",null,null,{"$f":"LEFT(Catalogue[[#This Row],[Référence]],3)","v":"ALD"},{"$f":"VLOOKUP(Catalogue[[#This Row],[Alias]],#REF!,2,FALSE)","v":{"$error":"#REF!"}},null,"ALD11019004","BOUCHE AUTOREGLABLE BAP SI 30 M3/H D125 MM - BLANC"]
["ALD11019003",null,"BOUCHE AUTOREGLABLE BAP SI 15 M3/H D125 MM - BLANC",null,null,{"$f":"LEFT(Catalogue[[#This Row],[Référence]],3)","v":"ALD"},{"$f":"VLOOKUP(Catalogue[[#This Row],[Alias]],#REF!,2,FALSE)","v":{"$error":"#REF!"}},null,"ALD11019005","BOUCHE AUTOREGLABLE BAP SI 45 M3/H D125 MM - BLANC"]
["ALD11019004",null,"BOUCHE AUTOREGLABLE BAP SI 30 M3/H D125 MM - BLANC",null,null,{"$f":"LEFT(Catalogue[[#This Row],[Référence]],3)","v":"ALD"},{"$f":"VLOOKUP(Catalogue[[#This Row],[Alias]],#REF!,2,FALSE)","v":{"$error":"#REF!"}},null,"ALD11019006","BOUCHE AUTOREGLABLE BAP SI 60 M3/H D125 MM - BLANC"]
["ALD11019005",null,"BOUCHE AUTOREGLABLE BAP SI 45 M3/H D125 MM - BLANC",null,null,{"$f":"LEFT(Catalogue[[#This Row],[Référence]],3)","v":"ALD"},{"$f":"VLOOKUP(Catalogue[[#This Row],[Alias]],#REF!,2,FALSE)","v":{"$error":"#REF!"}},null,"ALD11019007","BOUCHE AUTOREGLABLE BAP SI 15 M3/H SANS FUT - BLANC"]
["ALD11019006",null,"BOUCHE AUTOREGLABLE BAP SI 60 M3/H D125 MM - BLANC",null,null,{"$f":"LEFT(Catalogue[[#This Row],[Référence]],3)","v":"ALD"},{"$f":"VLOOKUP(Catalogue[[#This Row],[Alias]],#REF!,2,FALSE)","v":{"$error":"#REF!"}},null,"ALD11019008","BOUCHE AUTOREGLABLE BAP SI 30 M3/H SANS FUT - BLANC"]
["ALD11019007",null,"BOUCHE AUTOREGLABLE BAP SI 15 M3/H SANS FUT - BLANC",null,null,{"$f":"LEFT(Catalogue[[#This Row],[Référence]],3)","v":"ALD"},{"$f":"VLOOKUP(Catalogue[[#This Row],[Alias]],#REF!,2,FALSE)","v":{"$error":"#REF!"}},null,"ALD11019009","BOUCHE AUTOREGLABLE BAP SI 45 M3/H SANS FUT - BLANC"]
["ALD11019008",null,"BOUCHE AUTOREGLABLE BAP SI 30 M3/H SANS FUT - BLANC",null,null,{"$f":"LEFT(Catalogue[[#This Row],[Référence]],3)","v":"ALD"},{"$f":"VLOOKUP(Catalogue[[#This Row],[Alias]],#REF!,2,FALSE)","v":{"$error":"#REF!"}},null,"ALD11019010","BOUCHE AUTOREGLABLE BAP SI 60 M3/H SANS FUT - BLANC"]
["ALD11019009",null,"BOUCHE AUTOREGLABLE BAP SI 45 M3/H SANS FUT - BLANC",null,null,{"$f":"LEFT(Catalogue[[#This Row],[Référence]],3)","v":"ALD"},{"$f":"VLOOKUP(Catalogue[[#This Row],[Alias]],#REF!,2,FALSE)","v":{"$error":"#REF!"}},null,"ALD11019011","BOUCHE AUTOREGLABLE BAP SI DOUBLE DEBIT 15/30 M3/H D125 MM - BLANC"]
["ALD11019010",null,"BOUCHE AUTOREGLABLE BAP SI 60 M3/H SANS FUT - BLANC",null,null,{"$f":"LEFT(Catalogue[[#This Row],[Référence]],3)","v":"ALD"},{"$f":"VLOOKUP(Catalogue[[#This Row],[Alias]],#REF!,2,FALSE)","v":{"$error":"#REF!"}},null,"ALD11019012","BOUCHE AUTOREGLABLE BAP SI DOUBLE DEBIT 20/75 M3/H D125 MM - BLANC"]
["ALD11019011",null,{"$f":"VLOOKUP(A1730,I:J,2,0)","v":"BOUCHE AUTOREGLABLE BAP SI DOUBLE DEBIT 15/30 M3/H D125 MM - BLANC"},null,null,{"$f":"LEFT(Catalogue[[#This Row],[Référence]],3)","v":"ALD"},{"$f":"VLOOKUP(Catalogue[[#This Row],[Alias]],#REF!,2,FALSE)","v":{"$error":"#REF!"}},null,"ALD11019013","BOUCHE AUTOREGLABLE BAP SI DOUBLE DEBIT 30/90 M3/H D125 MM - BLANC"]
["ALD11019012",null,"BOUCHE AUTOREGLABLE BAP SI DOUBLE DEBIT 20/75 M3/H D125 MM - BLANC",null,null,{"$f":"LEFT(Catalogue[[#This Row],[Référence]],3)","v":"ALD"},{"$f":"VLOOKUP(Catalogue[[#This Row],[Alias]],#REF!,2,FALSE)","v":{"$error":"#REF!"}},null,"ALD11019014","BOUCHE AUTOREGLABLE BAP SI DOUBLE DEBIT 45/105 M3/H D125 MM - BLANC"]
["ALD11019013",null,"BOUCHE AUTOREGLABLE BAP SI DOUBLE DEBIT 30/90 M3/H D125 MM - BLANC",null,null,{"$f":"LEFT(Catalogue[[#This Row],[Référence]],3)","v":"ALD"},{"$f":"VLOOKUP(Catalogue[[#This Row],[Alias]],#REF!,2,FALSE)","v":{"$error":"#REF!"}},null,"ALD11019015","BOUCHE AUTOREGLABLE BAP SI DOUBLE DEBIT 45/120 M3/H D125 MM - BLANC"]
["ALD11019014",null,"BOUCHE AUTOREGLABLE BAP SI DOUBLE DEBIT 45/105 M3/H D125 MM - BLANC",null,null,{"$f":"LEFT(Catalogue[[#This Row],[Référence]],3)","v":"ALD"},{"$f":"VLOOKUP(Catalogue[[#This Row],[Alias]],#REF!,2,FALSE)","v":{"$error":"#REF!"}},null,"ALD11019017","BOUCHE AUTOREGLABLE BAP SI DOUBLE DEBIT 15/30 M3/H SANS FUT - BLANC"]
["ALD11019015",null,"BOUCHE AUTOREGLABLE BAP SI DOUBLE DEBIT 45/120 M3/H D125 MM - BLANC",null,null,{"$f":"LEFT(Catalogue[[#This Row],[Référence]],3)","v":"ALD"},{"$f":"VLOOKUP(Catalogue[[#This Row],[Alias]],#REF!,2,FALSE)","v":{"$error":"#REF!"}},null,"ALD11019018","BOUCHE AUTOREGLABLE BAP SI DOUBLE DEBIT 20/75 M3/H SANS FUT - BLANC"]
["ALD11019017",null,"BOUCHE AUTOREGLABLE BAP SI DOUBLE DEBIT 15/30 M3/H SANS FUT - BLANC",null,null,{"$f":"LEFT(Catalogue[[#This Row],[Référence]],3)","v":"ALD"},{"$f":"VLOOKUP(Catalogue[[#This Row],[Alias]],#REF!,2,FALSE)","v":{"$error":"#REF!"}},null,"ALD11019019","BOUCHE AUTOREGLABLE BAP SI DOUBLE DEBIT 30/90 M3/H SANS FUT - BLANC"]
["ALD11019018",null,"BOUCHE AUTOREGLABLE BAP SI DOUBLE DEBIT 20/75 M3/H SANS FUT - BLANC",null,null,{"$f":"LEFT(Catalogue[[#This Row],[Référence]],3)","v":"ALD"},{"$f":"VLOOKUP(Catalogue[[#This Row],[Alias]],#REF!,2,FALSE)","v":{"$error":"#REF!"}},null,"ALD11019020","BOUCHE AUTOREGLABLE BAP SI DOUBLE DEBIT 45/105 M3/H SANS FUT - BLANC"]
["ALD11019019",null,"BOUCHE AUTOREGLABLE BAP SI DOUBLE DEBIT 30/90 M3/H SANS FUT - BLANC",null,null,{"$f":"LEFT(Catalogue[[#This Row],[Référence]],3)","v":"ALD"},{"$f":"VLOOKUP(Catalogue[[#This Row],[Alias]],#REF!,2,FALSE)","v":{"$error":"#REF!"}},null,"ALD11019021","BOUCHE AUTOREGLABLE BAP SI DOUBLE DEBIT 45/120 M3/H SANS FUT - BLANC"]
["ALD11019020",null,"BOUCHE AUTOREGLABLE BAP SI DOUBLE DEBIT 45/105 M3/H SANS FUT - BLANC",null,null,{"$f":"LEFT(Catalogue[[#This Row],[Référence]],3)","v":"ALD"},{"$f":"VLOOKUP(Catalogue[[#This Row],[Alias]],#REF!,2,FALSE)","v":{"$error":"#REF!"}},null,"ALD11019022","BOUCHE AUTOREGLABLE BAP SI DOUBLE DEBIT 45/135 M3/H SANS FUT - BLANC"]
["ALD11019021",null,"BOUCHE AUTOREGLABLE BAP SI DOUBLE DEBIT 45/120 M3/H SANS FUT - BLANC",null,null,{"$f":"LEFT(Catalogue[[#This Row],[Référence]],3)","v":"ALD"},{"$f":"VLOOKUP(Catalogue[[#This Row],[Alias]],#REF!,2,FALSE)","v":{"$error":"#REF!"}},null,"ALD11019049","JOINT D ETANCHEITE EN MOUSSE POUR LES BOUCHES"]
["ALD11019022",null,"BOUCHE AUTOREGLABLE BAP SI DOUBLE DEBIT 45/135 M3/H SANS FUT - BLANC",null,null,{"$f":"LEFT(Catalogue[[#This Row],[Référence]],3)","v":"ALD"},{"$f":"VLOOKUP(Catalogue[[#This Row],[Alias]],#REF!,2,FALSE)","v":{"$error":"#REF!"}},null,"ALD11019050","PLATINE DE RENOVATION A GRIFFES POUR LES BOUCHES - BLANC"]
["ALD11019049",null,"JOINT D ETANCHEITE EN MOUSSE POUR LES BOUCHES",null,null,{"$f":"LEFT(Catalogue[[#This Row],[Référence]],3)","v":"ALD"},{"$f":"VLOOKUP(Catalogue[[#This Row],[Alias]],#REF!,2,FALSE)","v":{"$error":"#REF!"}},null,"ALD11019090","BOUCHE AUTOREGABLE BAP SI S1-MODULO D125 MM - BLANC"]
["ALD11019050",null,"PLATINE DE RENOVATION A GRIFFES POUR LES BOUCHES - BLANC",null,null,{"$f":"LEFT(Catalogue[[#This Row],[Référence]],3)","v":"ALD"},{"$f":"VLOOKUP(Catalogue[[#This Row],[Alias]],#REF!,2,FALSE)","v":{"$error":"#REF!"}},null,"ALD11019091","BOUCHE AUTOREGABLE BAP SI S2-MODULO D125 MM - BLANC"]
["ALD11019090",null,"BOUCHE AUTOREGABLE BAP SI S1-MODULO D125 MM - BLANC",null,null,{"$f":"LEFT(Catalogue[[#This Row],[Référence]],3)","v":"ALD"},{"$f":"VLOOKUP(Catalogue[[#This Row],[Alias]],#REF!,2,FALSE)","v":{"$error":"#REF!"}},null,"ALD11019092","BOUCHE AUTOREGABLE BAP SI D1-MODULO D125 MM - BLANC"]
["ALD11019091",null,"BOUCHE AUTOREGABLE BAP SI S2-MODULO D125 MM - BLANC",null,null,{"$f":"LEFT(Catalogue[[#This Row],[Référence]],3)","v":"ALD"},{"$f":"VLOOKUP(Catalogue[[#This Row],[Alias]],#REF!,2,FALSE)","v":{"$error":"#REF!"}},null,"ALD11019093","BOUCHE AUTOREGABLE BAP SI D2-MODULO D125 MM - BLANC"]
["ALD11019092",null,"BOUCHE AUTOREGABLE BAP SI D1-MODULO D125 MM - BLANC",null,null,{"$f":"LEFT(Catalogue[[#This Row],[Référence]],3)","v":"ALD"},{"$f":"VLOOKUP(Catalogue[[#This Row],[Alias]],#REF!,2,FALSE)","v":{"$error":"#REF!"}},null,"ALD11019094","BOUCHE AUTOREGABLE BAP SI S1-MODULO SANS FUT - BLANC"]
["ALD11019093",null,"BOUCHE AUTOREGABLE BAP SI D2-MODULO D125 MM - BLANC",null,null,{"$f":"LEFT(Catalogue[[#This Row],[Référence]],3)","v":"ALD"},{"$f":"VLOOKUP(Catalogue[[#This Row],[Alias]],#REF!,2,FALSE)","v":{"$error":"#REF!"}},null,"ALD11019095","BOUCHE AUTOREGABLE BAP SI S2-MODULO SANS FUT - BLANC"]
["ALD11019094",null,"BOUCHE AUTOREGABLE BAP SI S1-MODULO SANS FUT - BLANC",null,null,{"$f":"LEFT(Catalogue[[#This Row],[Référence]],3)","v":"ALD"},{"$f":"VLOOKUP(Catalogue[[#This Row],[Alias]],#REF!,2,FALSE)","v":{"$error":"#REF!"}},null,"ALD11019096","BOUCHE AUTOREGABLE BAP SI D1-MODULO SANS FUT - BLANC"]
["ALD11019095",null,"BOUCHE AUTOREGABLE BAP SI S2-MODULO SANS FUT - BLANC",null,null,{"$f":"LEFT(Catalogue[[#This Row],[Référence]],3)","v":"ALD"},{"$f":"VLOOKUP(Catalogue[[#This Row],[Alias]],#REF!,2,FALSE)","v":{"$error":"#REF!"}},null,"ALD11019097","BOUCHE AUTOREGABLE BAP SI D2-MODULO SANS FUT - BLANC"]
["ALD11019096",null,"BOUCHE AUTOREGABLE BAP SI D1-MODULO SANS FUT - BLANC",null,null,{"$f":"LEFT(Catalogue[[#This Row],[Référence]],3)","v":"ALD"},{"$f":"VLOOKUP(Catalogue[[#This Row],[Alias]],#REF!,2,FALSE)","v":{"$error":"#REF!"}},null,"ALD11019112","BOUCHE AUTOREGABLE DOUBLE DEBIT BAP SI 15/30 M3/H SANS FUT - BLANC"]
["ALD11019097",null,"BOUCHE AUTOREGABLE BAP SI D2-MODULO SANS FUT - BLANC",null,null,{"$f":"LEFT(Catalogue[[#This Row],[Référence]],3)","v":"ALD"},{"$f":"VLOOKUP(Catalogue[[#This Row],[Alias]],#REF!,2,FALSE)","v":{"$error":"#REF!"}},null,"ALD11019113","BOUCHE AUTOREGABLE DOUBLE DEBIT CORDELETTE BAP SI D1 SANS FUT - BLANC"]
["ALD11019112",null,"BOUCHE AUTOREGABLE DOUBLE DEBIT BAP SI 15/30 M3/H SANS FUT - BLANC",null,null,{"$f":"LEFT(Catalogue[[#This Row],[Référence]],3)","v":"ALD"},{"$f":"VLOOKUP(Catalogue[[#This Row],[Alias]],#REF!,2,FALSE)","v":{"$error":"#REF!"}},null,"ALD11019114","BOUCHE AUTOREGABLE DOUBLE DEBITCORDELETTE BAP SI D2 SANS FUT - BLANC"]
["ALD11019113",null,"BOUCHE AUTOREGABLE DOUBLE DEBIT CORDELETTE BAP SI D1 SANS FUT - BLANC",null,null,{"$f":"LEFT(Catalogue[[#This Row],[Référence]],3)","v":"ALD"},{"$f":"VLOOKUP(Catalogue[[#This Row],[Alias]],#REF!,2,FALSE)","v":{"$error":"#REF!"}},null,"ALD11019115","BOUCHE AUTOREGABLE DOUBLE DEBIT CORDELETTE BAP SI 15/30 M3/H SANS FUT - BLANC"]
["ALD11019114",null,"BOUCHE AUTOREGABLE DOUBLE DEBITCORDELETTE BAP SI D2 SANS FUT - BLANC",null,null,{"$f":"LEFT(Catalogue[[#This Row],[Référence]],3)","v":"ALD"},{"$f":"VLOOKUP(Catalogue[[#This Row],[Alias]],#REF!,2,FALSE)","v":{"$error":"#REF!"}},null,"ALD11019117","BOUCHE AUTOREGABLE DOUBLE DEBIT CORDELETTE BAP SI D2 SANS FUT - BLANC"]
["ALD11019115",null,"BOUCHE AUTOREGABLE DOUBLE DEBIT CORDELETTE BAP SI 15/30 M3/H SANS FUT - BLANC",null,null,{"$f":"LEFT(Catalogue[[#This Row],[Référence]],3)","v":"ALD"},{"$f":"VLOOKUP(Catalogue[[#This Row],[Alias]],#REF!,2,FALSE)","v":{"$error":"#REF!"}},null,"ALD11019124","BAP82 45-105 D100 BLANCHE (FDS)"]
["ALD11019117",null,"BOUCHE AUTOREGABLE DOUBLE DEBIT CORDELETTE BAP SI D2 SANS FUT - BLANC",null,null,{"$f":"LEFT(Catalogue[[#This Row],[Référence]],3)","v":"ALD"},{"$f":"VLOOKUP(Catalogue[[#This Row],[Alias]],#REF!,2,FALSE)","v":{"$error":"#REF!"}},null,"ALD11019130","BOUCHE AUTOREGLABLE BAP COLOR 15 M3/H D125 MM - BLANC"]
["ALD11019124",null,"BAP82 45-105 D100 BLANCHE (FDS)",null,null,{"$f":"LEFT(Catalogue[[#This Row],[Référence]],3)","v":"ALD"},{"$f":"VLOOKUP(Catalogue[[#This Row],[Alias]],#REF!,2,FALSE)","v":{"$error":"#REF!"}},null,"ALD11019131","BOUCHE AUTOREGLABLE BAP COLOR 30 M3/H D125 MM - BLANC"]
["ALD11019130",null,"BOUCHE AUTOREGLABLE BAP COLOR 15 M3/H D125 MM - BLANC",null,null,{"$f":"LEFT(Catalogue[[#This Row],[Référence]],3)","v":"ALD"},{"$f":"VLOOKUP(Catalogue[[#This Row],[Alias]],#REF!,2,FALSE)","v":{"$error":"#REF!"}},null,"ALD11019132","BOUCHE AUTOREGLABLE BAP COLOR 45 M3/H D125 MM - BLANC"]
["ALD11019131",null,"BOUCHE AUTOREGLABLE BAP COLOR 30 M3/H D125 MM - BLANC",null,null,{"$f":"LEFT(Catalogue[[#This Row],[Référence]],3)","v":"ALD"},{"$f":"VLOOKUP(Catalogue[[#This Row],[Alias]],#REF!,2,FALSE)","v":{"$error":"#REF!"}},null,"ALD11019137","BOUCHE AUTOREGLABLE BAP COLOR 20/75 M3/H D125 MM - BLANC"]
["ALD11019132",null,"BOUCHE AUTOREGLABLE BAP COLOR 45 M3/H D125 MM - BLANC",null,null,{"$f":"LEFT(Catalogue[[#This Row],[Référence]],3)","v":"ALD"},{"$f":"VLOOKUP(Catalogue[[#This Row],[Alias]],#REF!,2,FALSE)","v":{"$error":"#REF!"}},null,"ALD11019138","BOUCHE AUTOREGLABLE BAP COLOR 30/90 M3/H D125 MM - BLANC"]
["ALD11019137",null,"BOUCHE AUTOREGLABLE BAP COLOR 20/75 M3/H D125 MM - BLANC",null,null,{"$f":"LEFT(Catalogue[[#This Row],[Référence]],3)","v":"ALD"},{"$f":"VLOOKUP(Catalogue[[#This Row],[Alias]],#REF!,2,FALSE)","v":{"$error":"#REF!"}},null,"ALD11019139","BOUCHE AUTOREGLABLE BAP COLOR 45/105 M3/H D125 MM - BLANC"]
["ALD11019138",null,"BOUCHE AUTOREGLABLE BAP COLOR 30/90 M3/H D125 MM - BLANC",null,null,{"$f":"LEFT(Catalogue[[#This Row],[Référence]],3)","v":"ALD"},{"$f":"VLOOKUP(Catalogue[[#This Row],[Alias]],#REF!,2,FALSE)","v":{"$error":"#REF!"}},null,"ALD11019140","BOUCHE AUTOREGLABLE BAP COLOR 45/120 M3/H D125 MM - BLANC"]
["ALD11019139",null,"BOUCHE AUTOREGLABLE BAP COLOR 45/105 M3/H D125 MM - BLANC",null,null,{"$f":"LEFT(Catalogue[[#This Row],[Référence]],3)","v":"ALD"},{"$f":"VLOOKUP(Catalogue[[#This Row],[Alias]],#REF!,2,FALSE)","v":{"$error":"#REF!"}},null,"ALD11019141","BOUCHE AUTOREGLABLE BAP COLOR 45/135 M3/H D125 MM - BLANC"]
["ALD11019140",null,"BOUCHE AUTOREGLABLE BAP COLOR 45/120 M3/H D125 MM - BLANC",null,null,{"$f":"LEFT(Catalogue[[#This Row],[Référence]],3)","v":"ALD"},{"$f":"VLOOKUP(Catalogue[[#This Row],[Alias]],#REF!,2,FALSE)","v":{"$error":"#REF!"}},null,"ALD11019142","BOUCHE AUTOREGLABLE BAP COLOR 15 M3/H D116 MM - BLANC"]
["ALD11019141",null,"BOUCHE AUTOREGLABLE BAP COLOR 45/135 M3/H D125 MM - BLANC",null,null,{"$f":"LEFT(Catalogue[[#This Row],[Référence]],3)","v":"ALD"},{"$f":"VLOOKUP(Catalogue[[#This Row],[Alias]],#REF!,2,FALSE)","v":{"$error":"#REF!"}},null,"ALD11019143","BOUCHE AUTOREGLABLE BAP COLOR 30 M3/H D116 MM - BLANC"]
["ALD11019142",null,"BOUCHE AUTOREGLABLE BAP COLOR 15 M3/H D116 MM - BLANC",null,null,{"$f":"LEFT(Catalogue[[#This Row],[Référence]],3)","v":"ALD"},{"$f":"VLOOKUP(Catalogue[[#This Row],[Alias]],#REF!,2,FALSE)","v":{"$error":"#REF!"}},null,"ALD11019144","BOUCHE AUTOREGLABLE BAP COLOR 20/75 M3/H D116 MM - BLANC"]
["ALD11019143",null,"BOUCHE AUTOREGLABLE BAP COLOR 30 M3/H D116 MM - BLANC",null,null,{"$f":"LEFT(Catalogue[[#This Row],[Référence]],3)","v":"ALD"},{"$f":"VLOOKUP(Catalogue[[#This Row],[Alias]],#REF!,2,FALSE)","v":{"$error":"#REF!"}},null,"ALD11019145","BOUCHE AUTOREGLABLE BAP COLOR 30/90 M3/H D116 MM - BLANC"]
["ALD11019144",null,"BOUCHE AUTOREGLABLE BAP COLOR 20/75 M3/H D116 MM - BLANC",null,null,{"$f":"LEFT(Catalogue[[#This Row],[Référence]],3)","v":"ALD"},{"$f":"VLOOKUP(Catalogue[[#This Row],[Alias]],#REF!,2,FALSE)","v":{"$error":"#REF!"}},null,"ALD11019146","BOUCHE AUTOREGLABLE BAP COLOR 45/105 M3/H D116 MM - BLANC"]
["ALD11019145",null,"BOUCHE AUTOREGLABLE BAP COLOR 30/90 M3/H D116 MM - BLANC",null,null,{"$f":"LEFT(Catalogue[[#This Row],[Référence]],3)","v":"ALD"},{"$f":"VLOOKUP(Catalogue[[#This Row],[Alias]],#REF!,2,FALSE)","v":{"$error":"#REF!"}},null,"ALD11019147","BOUCHE AUTOREGLABLE BAP COLOR 45/120 M3/H D116 MM - BLANC"]
["ALD11019146",null,"BOUCHE AUTOREGLABLE BAP COLOR 45/105 M3/H D116 MM - BLANC",null,null,{"$f":"LEFT(Catalogue[[#This Row],[Référence]],3)","v":"ALD"},{"$f":"VLOOKUP(Catalogue[[#This Row],[Alias]],#REF!,2,FALSE)","v":{"$error":"#REF!"}},null,"ALD11019149","BOUCHE AUTOREGLABLE BAP COLOR 15 M3/H D100 MM - BLANC"]
["ALD11019147",null,"BOUCHE AUTOREGLABLE BAP COLOR 45/120 M3/H D116 MM - BLANC",null,null,{"$f":"LEFT(Catalogue[[#This Row],[Référence]],3)","v":"ALD"},{"$f":"VLOOKUP(Catalogue[[#This Row],[Alias]],#REF!,2,FALSE)","v":{"$error":"#REF!"}},null,"ALD11019150","BOUCHE AUTOREGLABLE BAP COLOR 30 M3/H D100 MM - BLANC"]
["ALD11019149",null,"BOUCHE AUTOREGLABLE BAP COLOR 15 M3/H D100 MM - BLANC",null,null,{"$f":"LEFT(Catalogue[[#This Row],[Référence]],3)","v":"ALD"},{"$f":"VLOOKUP(Catalogue[[#This Row],[Alias]],#REF!,2,FALSE)","v":{"$error":"#REF!"}},null,"ALD11019152","BOUCHE AUTOREGLABLE BAP COLOR 30/90 M3/H D100 MM - BLANC"]
["ALD11019150",null,"BOUCHE AUTOREGLABLE BAP COLOR 30 M3/H D100 MM - BLANC",null,null,{"$f":"LEFT(Catalogue[[#This Row],[Référence]],3)","v":"ALD"},{"$f":"VLOOKUP(Catalogue[[#This Row],[Alias]],#REF!,2,FALSE)","v":{"$error":"#REF!"}},null,"ALD11019153","BOUCHE AUTOREGLABLE BAP COLOR 45/105 M3/H D100 MM - BLANC"]
["ALD11019152",null,"BOUCHE AUTOREGLABLE BAP COLOR 30/90 M3/H D100 MM - BLANC",null,null,{"$f":"LEFT(Catalogue[[#This Row],[Référence]],3)","v":"ALD"},{"$f":"VLOOKUP(Catalogue[[#This Row],[Alias]],#REF!,2,FALSE)","v":{"$error":"#REF!"}},null,"ALD11019154","BOUCHE AUTOREGLABLE BAP COLOR 45/120 M3/H D100 MM - BLANC"]
["ALD11019153",null,"BOUCHE AUTOREGLABLE BAP COLOR 45/105 M3/H D100 MM - BLANC",null,null,{"$f":"LEFT(Catalogue[[#This Row],[Référence]],3)","v":"ALD"},{"$f":"VLOOKUP(Catalogue[[#This Row],[Alias]],#REF!,2,FALSE)","v":{"$error":"#REF!"}},null,"ALD11019185","BOUCHE AUTOREGLABLE BAP SI TWIN 15 M3/H D125 MM - BLANC"]
["ALD11019154",null,"BOUCHE AUTOREGLABLE BAP COLOR 45/120 M3/H D100 MM - BLANC",null,null,{"$f":"LEFT(Catalogue[[#This Row],[Référence]],3)","v":"ALD"},{"$f":"VLOOKUP(Catalogue[[#This Row],[Alias]],#REF!,2,FALSE)","v":{"$error":"#REF!"}},null,"ALD11019186","BOUCHE AUTOREGLABLE BAP SI TWIN 30 M3/H D125 MM - BLANC"]
["ALD11019185",null,"BOUCHE AUTOREGLABLE BAP SI TWIN 15 M3/H D125 MM - BLANC",null,null,{"$f":"LEFT(Catalogue[[#This Row],[Référence]],3)","v":"ALD"},{"$f":"VLOOKUP(Catalogue[[#This Row],[Alias]],#REF!,2,FALSE)","v":{"$error":"#REF!"}},null,"ALD11019187","BOUCHE AUTOREGLABLE BAP SI TWIN 45 M3/H D125 MM - BLANC"]
["ALD11019186",null,"BOUCHE AUTOREGLABLE BAP SI TWIN 30 M3/H D125 MM - BLANC",null,null,{"$f":"LEFT(Catalogue[[#This Row],[Référence]],3)","v":"ALD"},{"$f":"VLOOKUP(Catalogue[[#This Row],[Alias]],#REF!,2,FALSE)","v":{"$error":"#REF!"}},null,"ALD11019189","BOUCHE AUTOREGLABLE BAP SI TWIN 75 M3/H D125 MM - BLANC"]
["ALD11019187",null,"BOUCHE AUTOREGLABLE BAP SI TWIN 45 M3/H D125 MM - BLANC",null,null,{"$f":"LEFT(Catalogue[[#This Row],[Référence]],3)","v":"ALD"},{"$f":"VLOOKUP(Catalogue[[#This Row],[Alias]],#REF!,2,FALSE)","v":{"$error":"#REF!"}},null,"ALD11019190","BOUCHE AUTOREGLABLE BAP SI TWIN 90 M3/H D125 MM - BLANC"]
["ALD11019189",null,"BOUCHE AUTOREGLABLE BAP SI TWIN 75 M3/H D125 MM - BLANC",null,null,{"$f":"LEFT(Catalogue[[#This Row],[Référence]],3)","v":"ALD"},{"$f":"VLOOKUP(Catalogue[[#This Row],[Alias]],#REF!,2,FALSE)","v":{"$error":"#REF!"}},null,"ALD11019191","BOUCHE AUTOREGLABLE BAP SI TWIN 100 M3/H D125 MM - BLANC"]
["ALD11019190",null,"BOUCHE AUTOREGLABLE BAP SI TWIN 90 M3/H D125 MM - BLANC",null,null,{"$f":"LEFT(Catalogue[[#This Row],[Référence]],3)","v":"ALD"},{"$f":"VLOOKUP(Catalogue[[#This Row],[Alias]],#REF!,2,FALSE)","v":{"$error":"#REF!"}},null,"ALD11019192","BOUCHE AUTOREGLABLE BAP SI TWIN 120 M3/H D125 MM - BLANC"]
["ALD11019191",null,"BOUCHE AUTOREGLABLE BAP SI TWIN 100 M3/H D125 MM - BLANC",null,null,{"$f":"LEFT(Catalogue[[#This Row],[Référence]],3)","v":"ALD"},{"$f":"VLOOKUP(Catalogue[[#This Row],[Alias]],#REF!,2,FALSE)","v":{"$error":"#REF!"}},null,"ALD11019194","BOUCHE AUTOREGLABLE BAP SI TWIN 15 M3/H SANS FUT - BLANC"]
["ALD11019192",null,"BOUCHE AUTOREGLABLE BAP SI TWIN 120 M3/H D125 MM - BLANC",null,null,{"$f":"LEFT(Catalogue[[#This Row],[Référence]],3)","v":"ALD"},{"$f":"VLOOKUP(Catalogue[[#This Row],[Alias]],#REF!,2,FALSE)","v":{"$error":"#REF!"}},null,"ALD11019195","BOUCHE AUTOREGLABLE BAP SI TWIN 30 M3/H SANS FUT - BLANC"]
["ALD11019194",null,"BOUCHE AUTOREGLABLE BAP SI TWIN 15 M3/H SANS FUT - BLANC",null,null,{"$f":"LEFT(Catalogue[[#This Row],[Référence]],3)","v":"ALD"},{"$f":"VLOOKUP(Catalogue[[#This Row],[Alias]],#REF!,2,FALSE)","v":{"$error":"#REF!"}},null,"ALD11019196","BOUCHE AUTOREGLABLE BAP SI TWIN 45 M3/H SANS FUT - BLANC"]
["ALD11019195",null,"BOUCHE AUTOREGLABLE BAP SI TWIN 30 M3/H SANS FUT - BLANC",null,null,{"$f":"LEFT(Catalogue[[#This Row],[Référence]],3)","v":"ALD"},{"$f":"VLOOKUP(Catalogue[[#This Row],[Alias]],#REF!,2,FALSE)","v":{"$error":"#REF!"}},null,"ALD11019199","BOUCHE AUTOREGLABLE BAP SI TWIN 90 M3/H SANS FUT - BLANC"]
["ALD11019196",null,"BOUCHE AUTOREGLABLE BAP SI TWIN 45 M3/H SANS FUT - BLANC",null,null,{"$f":"LEFT(Catalogue[[#This Row],[Référence]],3)","v":"ALD"},{"$f":"VLOOKUP(Catalogue[[#This Row],[Alias]],#REF!,2,FALSE)","v":{"$error":"#REF!"}},null,"ALD11019201","BOUCHE AUTOREGLABLE BAP COLOR 15 M3/H D125 MM - GRIS"]
["ALD11019199",null,"BOUCHE AUTOREGLABLE BAP SI TWIN 90 M3/H SANS FUT - BLANC",null,null,{"$f":"LEFT(Catalogue[[#This Row],[Référence]],3)","v":"ALD"},{"$f":"VLOOKUP(Catalogue[[#This Row],[Alias]],#REF!,2,FALSE)","v":{"$error":"#REF!"}},null,"ALD11019202","BOUCHE AUTOREGLABLE BAP COLOR 30 M3/H D125 MM - GRIS"]
["ALD11019201",null,"BOUCHE AUTOREGLABLE BAP COLOR 15 M3/H D125 MM - GRIS",null,null,{"$f":"LEFT(Catalogue[[#This Row],[Référence]],3)","v":"ALD"},{"$f":"VLOOKUP(Catalogue[[#This Row],[Alias]],#REF!,2,FALSE)","v":{"$error":"#REF!"}},null,"ALD11019203","BOUCHE AUTOREGLABLE BAP COLOR 45 M3/H D125 MM - GRIS"]
["ALD11019202",null,"BOUCHE AUTOREGLABLE BAP COLOR 30 M3/H D125 MM - GRIS",null,null,{"$f":"LEFT(Catalogue[[#This Row],[Référence]],3)","v":"ALD"},{"$f":"VLOOKUP(Catalogue[[#This Row],[Alias]],#REF!,2,FALSE)","v":{"$error":"#REF!"}},null,"ALD11019204","BOUCHE AUTOREGLABLE BAP COLOR 60 M3/H D125 MM - GRIS"]
["ALD11019203",null,"BOUCHE AUTOREGLABLE BAP COLOR 45 M3/H D125 MM - GRIS",null,null,{"$f":"LEFT(Catalogue[[#This Row],[Référence]],3)","v":"ALD"},{"$f":"VLOOKUP(Catalogue[[#This Row],[Alias]],#REF!,2,FALSE)","v":{"$error":"#REF!"}},null,"ALD11019205","BOUCHE AUTOREGLABLE BAP COLOR 75 M3/H D125 MM - GRIS"]
["ALD11019204",null,"BOUCHE AUTOREGLABLE BAP COLOR 60 M3/H D125 MM - GRIS",null,null,{"$f":"LEFT(Catalogue[[#This Row],[Référence]],3)","v":"ALD"},{"$f":"VLOOKUP(Catalogue[[#This Row],[Alias]],#REF!,2,FALSE)","v":{"$error":"#REF!"}},null,"ALD11019211","BAPCOLOR 15-30 D125 GRI/GRY"]
["ALD11019205",null,"BOUCHE AUTOREGLABLE BAP COLOR 75 M3/H D125 MM - GRIS",null,null,{"$f":"LEFT(Catalogue[[#This Row],[Référence]],3)","v":"ALD"},{"$f":"VLOOKUP(Catalogue[[#This Row],[Alias]],#REF!,2,FALSE)","v":{"$error":"#REF!"}},null,"ALD11019213","BOUCHE AUTOREGLABLE BAP COLOR 30/90 M3/H D125 MM - GRIS"]
["ALD11019211",null,"BAPCOLOR 15-30 D125 GRI/GRY",null,null,{"$f":"LEFT(Catalogue[[#This Row],[Référence]],3)","v":"ALD"},{"$f":"VLOOKUP(Catalogue[[#This Row],[Alias]],#REF!,2,FALSE)","v":{"$error":"#REF!"}},null,"ALD11019214","BOUCHE AUTOREGLABLE BAP COLOR 45/105 M3/H D125 MM - GRIS"]
["ALD11019213",null,"BOUCHE AUTOREGLABLE BAP COLOR 30/90 M3/H D125 MM - GRIS",null,null,{"$f":"LEFT(Catalogue[[#This Row],[Référence]],3)","v":"ALD"},{"$f":"VLOOKUP(Catalogue[[#This Row],[Alias]],#REF!,2,FALSE)","v":{"$error":"#REF!"}},null,"ALD11019215","BOUCHE AUTOREGLABLE BAP COLOR 45/120 M3/H D125 MM - GRIS"]
["ALD11019214",null,{"$f":"VLOOKUP(A1794,I:J,2,0)","v":"BOUCHE AUTOREGLABLE BAP COLOR 45/105 M3/H D125 MM - GRIS"},null,null,{"$f":"LEFT(Catalogue[[#This Row],[Référence]],3)","v":"ALD"},{"$f":"VLOOKUP(Catalogue[[#This Row],[Alias]],#REF!,2,FALSE)","v":{"$error":"#REF!"}},null,"ALD11019216","BOUCHE AUTOREGLABLE BAP COLOR 45/135 M3/H D125 MM - GRIS"]
["ALD11019215",null,"BOUCHE AUTOREGLABLE BAP COLOR 45/120 M3/H D125 MM - GRIS",null,null,{"$f":"LEFT(Catalogue[[#This Row],[Référence]],3)","v":"ALD"},{"$f":"VLOOKUP(Catalogue[[#This Row],[Alias]],#REF!,2,FALSE)","v":{"$error":"#REF!"}},null,"ALD11019221","BOUCHE AUTOREGLABLE BAP COLOR 15 M3/H D116 MM - GRIS"]
["ALD11019216",null,"BOUCHE AUTOREGLABLE BAP COLOR 45/135 M3/H D125 MM - GRIS",null,null,{"$f":"LEFT(Catalogue[[#This Row],[Référence]],3)","v":"ALD"},{"$f":"VLOOKUP(Catalogue[[#This Row],[Alias]],#REF!,2,FALSE)","v":{"$error":"#REF!"}},null,"ALD11019222","BOUCHE AUTOREGLABLE BAP COLOR 30 M3/H D116 MM - GRIS"]
["ALD11019221",null,"BOUCHE AUTOREGLABLE BAP COLOR 15 M3/H D116 MM - GRIS",null,null,{"$f":"LEFT(Catalogue[[#This Row],[Référence]],3)","v":"ALD"},{"$f":"VLOOKUP(Catalogue[[#This Row],[Alias]],#REF!,2,FALSE)","v":{"$error":"#REF!"}},null,"ALD11019223","BOUCHE AUTOREGLABLE BAP COLOR 45 M3/H D116 MM - GRIS"]
["ALD11019222",null,"BOUCHE AUTOREGLABLE BAP COLOR 30 M3/H D116 MM - GRIS",null,null,{"$f":"LEFT(Catalogue[[#This Row],[Référence]],3)","v":"ALD"},{"$f":"VLOOKUP(Catalogue[[#This Row],[Alias]],#REF!,2,FALSE)","v":{"$error":"#REF!"}},null,"ALD11019233","BOUCHE AUTOREGLABLE BAP COLOR 30/90 M3/H D116 MM - GRIS"]
["ALD11019223",null,"BOUCHE AUTOREGLABLE BAP COLOR 45 M3/H D116 MM - GRIS",null,null,{"$f":"LEFT(Catalogue[[#This Row],[Référence]],3)","v":"ALD"},{"$f":"VLOOKUP(Catalogue[[#This Row],[Alias]],#REF!,2,FALSE)","v":{"$error":"#REF!"}},null,"ALD11019234","BOUCHE AUTOREGLABLE BAP COLOR 45/105 M3/H D116 MM - GRIS"]
["ALD11019233",null,"BOUCHE AUTOREGLABLE BAP COLOR 30/90 M3/H D116 MM - GRIS",null,null,{"$f":"LEFT(Catalogue[[#This Row],[Référence]],3)","v":"ALD"},{"$f":"VLOOKUP(Catalogue[[#This Row],[Alias]],#REF!,2,FALSE)","v":{"$error":"#REF!"}},null,"ALD11019235","BOUCHE AUTOREGLABLE BAP COLOR 45/120 M3/H D116 MM - GRIS"]
["ALD11019234",null,"BOUCHE AUTOREGLABLE BAP COLOR 45/105 M3/H D116 MM - GRIS",null,null,{"$f":"LEFT(Catalogue[[#This Row],[Référence]],3)","v":"ALD"},{"$f":"VLOOKUP(Catalogue[[#This Row],[Alias]],#REF!,2,FALSE)","v":{"$error":"#REF!"}},null,"ALD11019241","BOUCHE AUTOREGLABLE BAP COLOR 15 M3/H D100 MM - GRIS"]
["ALD11019235",null,"BOUCHE AUTOREGLABLE BAP COLOR 45/120 M3/H D116 MM - GRIS",null,null,{"$f":"LEFT(Catalogue[[#This Row],[Référence]],3)","v":"ALD"},{"$f":"VLOOKUP(Catalogue[[#This Row],[Alias]],#REF!,2,FALSE)","v":{"$error":"#REF!"}},null,"ALD11019242","BOUCHE AUTOREGLABLE BAP COLOR 30 M3/H D100 MM - GRIS"]
["ALD11019241",null,"BOUCHE AUTOREGLABLE BAP COLOR 15 M3/H D100 MM - GRIS",null,null,{"$f":"LEFT(Catalogue[[#This Row],[Référence]],3)","v":"ALD"},{"$f":"VLOOKUP(Catalogue[[#This Row],[Alias]],#REF!,2,FALSE)","v":{"$error":"#REF!"}},null,"ALD11019243","BOUCHE AUTOREGLABLE BAP COLOR 45 M3/H D100 MM - GRIS"]
["ALD11019242",null,"BOUCHE AUTOREGLABLE BAP COLOR 30 M3/H D100 MM - GRIS",null,null,{"$f":"LEFT(Catalogue[[#This Row],[Référence]],3)","v":"ALD"},{"$f":"VLOOKUP(Catalogue[[#This Row],[Alias]],#REF!,2,FALSE)","v":{"$error":"#REF!"}},null,"ALD11019253","BOUCHE AUTOREGLABLE BAP COLOR 30/90 M3/H D100 MM - GRIS"]
["ALD11019243",null,"BOUCHE AUTOREGLABLE BAP COLOR 45 M3/H D100 MM - GRIS",null,null,{"$f":"LEFT(Catalogue[[#This Row],[Référence]],3)","v":"ALD"},{"$f":"VLOOKUP(Catalogue[[#This Row],[Alias]],#REF!,2,FALSE)","v":{"$error":"#REF!"}},null,"ALD11019254","BOUCHE AUTOREGLABLE BAP COLOR 45/105 M3/H D100 MM - GRIS"]
["ALD11019253",null,"BOUCHE AUTOREGLABLE BAP COLOR 30/90 M3/H D100 MM - GRIS",null,null,{"$f":"LEFT(Catalogue[[#This Row],[Référence]],3)","v":"ALD"},{"$f":"VLOOKUP(Catalogue[[#This Row],[Alias]],#REF!,2,FALSE)","v":{"$error":"#REF!"}},null,"ALD11019255","BOUCHE AUTOREGLABLE BAP COLOR 45/120 M3/H D100 MM - GRIS"]
["ALD11019254",null,"BOUCHE AUTOREGLABLE BAP COLOR 45/105 M3/H D100 MM - GRIS",null,null,{"$f":"LEFT(Catalogue[[#This Row],[Référence]],3)","v":"ALD"},{"$f":"VLOOKUP(Catalogue[[#This Row],[Alias]],#REF!,2,FALSE)","v":{"$error":"#REF!"}},null,"ALD11019421","SOUS-ENSEMBLE DE REGULATION POUR LA BOUCHE AUTOREGLABLE BAP COLOR 15/30 M3/H"]
["ALD11019255",null,"BOUCHE AUTOREGLABLE BAP COLOR 45/120 M3/H D100 MM - GRIS",null,null,{"$f":"LEFT(Catalogue[[#This Row],[Référence]],3)","v":"ALD"},{"$f":"VLOOKUP(Catalogue[[#This Row],[Alias]],#REF!,2,FALSE)","v":{"$error":"#REF!"}},null,"ALD11019422","SOUS-ENSEMBLE DE REGULATION POUR LA BOUCHE AUTOREGLABLE BAP COLOR 45 M3/H"]
["ALD11019421",null,"SOUS-ENSEMBLE DE REGULATION POUR LA BOUCHE AUTOREGLABLE BAP COLOR 15/30 M3/H",null,null,{"$f":"LEFT(Catalogue[[#This Row],[Référence]],3)","v":"ALD"},{"$f":"VLOOKUP(Catalogue[[#This Row],[Alias]],#REF!,2,FALSE)","v":{"$error":"#REF!"}},null,"ALD11019426","PLATINE DE RENOVATION A GRIFFES POUR LA BOUCHE AUTOREGLABLE BAP COLOR"]
["ALD11019422",null,"SOUS-ENSEMBLE DE REGULATION POUR LA BOUCHE AUTOREGLABLE BAP COLOR 45 M3/H",null,null,{"$f":"LEFT(Catalogue[[#This Row],[Référence]],3)","v":"ALD"},{"$f":"VLOOKUP(Catalogue[[#This Row],[Alias]],#REF!,2,FALSE)","v":{"$error":"#REF!"}},null,"ALD11019430","BAPCOLOR 15-30 SS FUT BLC/WHI SS ENTRETO"]
["ALD11019426",null,"PLATINE DE RENOVATION A GRIFFES POUR LA BOUCHE AUTOREGLABLE BAP COLOR",null,null,{"$f":"LEFT(Catalogue[[#This Row],[Référence]],3)","v":"ALD"},{"$f":"VLOOKUP(Catalogue[[#This Row],[Alias]],#REF!,2,FALSE)","v":{"$error":"#REF!"}},null,"ALD11019432","BOUCHE AUTOREGLABLE BAP COLOR BI-DEBIT 30/90 M3/H SANS FUT - BLANC"]
["ALD11019430",null,"BAPCOLOR 15-30 SS FUT BLC/WHI SS ENTRETO",null,null,{"$f":"LEFT(Catalogue[[#This Row],[Référence]],3)","v":"ALD"},{"$f":"VLOOKUP(Catalogue[[#This Row],[Alias]],#REF!,2,FALSE)","v":{"$error":"#REF!"}},null,"ALD11019433","BOUCHE AUTOREGLABLE BAP COLOR BI-DEBIT 40/105 M3/H SANS FUT - BLANC"]
["ALD11019432",null,"BOUCHE AUTOREGLABLE BAP COLOR BI-DEBIT 30/90 M3/H SANS FUT - BLANC",null,null,{"$f":"LEFT(Catalogue[[#This Row],[Référence]],3)","v":"ALD"},{"$f":"VLOOKUP(Catalogue[[#This Row],[Alias]],#REF!,2,FALSE)","v":{"$error":"#REF!"}},null,"ALD11019434","BOUCHE AUTOREGLABLE BAP COLOR BI-DEBIT 45/120 M3/H SANS FUT - BLANC"]
["ALD11019433",null,"BOUCHE AUTOREGLABLE BAP COLOR BI-DEBIT 40/105 M3/H SANS FUT - BLANC",null,null,{"$f":"LEFT(Catalogue[[#This Row],[Référence]],3)","v":"ALD"},{"$f":"VLOOKUP(Catalogue[[#This Row],[Alias]],#REF!,2,FALSE)","v":{"$error":"#REF!"}},null,"ALD11019435","BOUCHE AUTOREGLABLE BAP COLOR BI-DEBIT 45/135 M3/H SANS FUT - BLANC"]
["ALD11019434",null,"BOUCHE AUTOREGLABLE BAP COLOR BI-DEBIT 45/120 M3/H SANS FUT - BLANC",null,null,{"$f":"LEFT(Catalogue[[#This Row],[Référence]],3)","v":"ALD"},{"$f":"VLOOKUP(Catalogue[[#This Row],[Alias]],#REF!,2,FALSE)","v":{"$error":"#REF!"}},null,"ALD11019444","BAPCOLOR 45-120 SS FUT GRI/GRY SS ENTRET"]
["ALD11019435",null,"BOUCHE AUTOREGLABLE BAP COLOR BI-DEBIT 45/135 M3/H SANS FUT - BLANC",null,null,{"$f":"LEFT(Catalogue[[#This Row],[Référence]],3)","v":"ALD"},{"$f":"VLOOKUP(Catalogue[[#This Row],[Alias]],#REF!,2,FALSE)","v":{"$error":"#REF!"}},null,"ALD11019445","BAPCOLOR 45-135 SS FUT GRI/GRY SS ENTRET"]
["ALD11019444",null,"BAPCOLOR 45-120 SS FUT GRI/GRY SS ENTRET",null,null,{"$f":"LEFT(Catalogue[[#This Row],[Référence]],3)","v":"ALD"},{"$f":"VLOOKUP(Catalogue[[#This Row],[Alias]],#REF!,2,FALSE)","v":{"$error":"#REF!"}},null,"ALD11020033","KIT ZG2 CHAUD.CUISINE"]
["ALD11019445",null,"BAPCOLOR 45-135 SS FUT GRI/GRY SS ENTRET",null,null,{"$f":"LEFT(Catalogue[[#This Row],[Référence]],3)","v":"ALD"},{"$f":"VLOOKUP(Catalogue[[#This Row],[Alias]],#REF!,2,FALSE)","v":{"$error":"#REF!"}},null,"ALD11020035S","CAISSON VMC SKAGEM  MOTEUR NEUF+REFECTION CAISSON"]
["ALD11020033",null,"KIT ZG2 CHAUD.CUISINE",null,null,{"$f":"LEFT(Catalogue[[#This Row],[Référence]],3)","v":"ALD"},{"$f":"VLOOKUP(Catalogue[[#This Row],[Alias]],#REF!,2,FALSE)","v":{"$error":"#REF!"}},null,"ALD11020038","KIT ZG4 CHAUD.GARAGE"]
["ALD11020035S","Non concerné","CAISSON VMC SKAGEM  MOTEUR NEUF+REFECTION CAISSON",150,2000003779147,{"$f":"LEFT(Catalogue[[#This Row],[Référence]],3)","v":"ALD"},{"$f":"VLOOKUP(Catalogue[[#This Row],[Alias]],#REF!,2,FALSE)","v":{"$error":"#REF!"}},null,"ALD11021097","KIT D ADAPTATION VT 750 / VELONE 2 F400-120 TAILLE 2"]
["ALD11020035S",null,"CAISSON VMC SKAGEM  MOTEUR NEUF+REFECTION CAISSON",null,null,{"$f":"LEFT(Catalogue[[#This Row],[Référence]],3)","v":"ALD"},{"$f":"VLOOKUP(Catalogue[[#This Row],[Alias]],#REF!,2,FALSE)","v":{"$error":"#REF!"}},null,"ALD11021256","VELONE F400 - 120 MODELE 1.5 - 6T - 0,18 KW + INTER. DE PROXIMITE MONTE D USINE"]
["ALD11020038",null,"KIT ZG4 CHAUD.GARAGE",null,null,{"$f":"LEFT(Catalogue[[#This Row],[Référence]],3)","v":"ALD"},{"$f":"VLOOKUP(Catalogue[[#This Row],[Alias]],#REF!,2,FALSE)","v":{"$error":"#REF!"}},null,"ALD11021290","CADRE A SCELLER VELONE 1.2/1.5/3.2"]
["ALD11021097",null,"KIT D ADAPTATION VT 750 / VELONE 2 F400-120 TAILLE 2",null,null,{"$f":"LEFT(Catalogue[[#This Row],[Référence]],3)","v":"ALD"},{"$f":"VLOOKUP(Catalogue[[#This Row],[Alias]],#REF!,2,FALSE)","v":{"$error":"#REF!"}},null,"ALD11021395","VELONE F400-120 MODELE 1.5M 0,24KW + INTERRUPTEUR DE PROXIMITE MONTE D USINE"]
["ALD11021256",null,"VELONE F400 - 120 MODELE 1.5 - 6T - 0,18 KW + INTER. DE PROXIMITE MONTE D USINE",null,null,{"$f":"LEFT(Catalogue[[#This Row],[Référence]],3)","v":"ALD"},{"$f":"VLOOKUP(Catalogue[[#This Row],[Alias]],#REF!,2,FALSE)","v":{"$error":"#REF!"}},null,"ALD11022008","MINUTERIE 0-1 HEURE POUR VMC EASYHOME AUTO"]
["ALD11021290",null,"CADRE A SCELLER VELONE 1.2/1.5/3.2",null,null,{"$f":"LEFT(Catalogue[[#This Row],[Référence]],3)","v":"ALD"},{"$f":"VLOOKUP(Catalogue[[#This Row],[Alias]],#REF!,2,FALSE)","v":{"$error":"#REF!"}},null,"ALD11022015","GRILLE AVEC LE FILTRE POUR LA BOUCHE AUTOREGLABLE BAP COLOR D150 MM"]
["ALD11021395",null,"VELONE F400-120 MODELE 1.5M 0,24KW + INTERRUPTEUR DE PROXIMITE MONTE D USINE",null,null,{"$f":"LEFT(Catalogue[[#This Row],[Référence]],3)","v":"ALD"},{"$f":"VLOOKUP(Catalogue[[#This Row],[Alias]],#REF!,2,FALSE)","v":{"$error":"#REF!"}},null,"ALD11022021","KIT SANITAIRE VMP K 15-30 M3"]
["ALD11022008",null,"MINUTERIE 0-1 HEURE POUR VMC EASYHOME AUTO",null,null,{"$f":"LEFT(Catalogue[[#This Row],[Référence]],3)","v":"ALD"},{"$f":"VLOOKUP(Catalogue[[#This Row],[Alias]],#REF!,2,FALSE)","v":{"$error":"#REF!"}},null,"ALD11022026","2 FILTRES POUR LES BOUCHES CUISINE AUTOREGLABLES BAP COLOR"]
["ALD11022015",null,"GRILLE AVEC LE FILTRE POUR LA BOUCHE AUTOREGLABLE BAP COLOR D150 MM",null,null,{"$f":"LEFT(Catalogue[[#This Row],[Référence]],3)","v":"ALD"},{"$f":"VLOOKUP(Catalogue[[#This Row],[Alias]],#REF!,2,FALSE)","v":{"$error":"#REF!"}},null,"ALD11022026S","Filtres Bouches cuisine"]
["ALD11022021",null,"KIT SANITAIRE VMP K 15-30 M3",null,null,{"$f":"LEFT(Catalogue[[#This Row],[Référence]],3)","v":"ALD"},{"$f":"VLOOKUP(Catalogue[[#This Row],[Alias]],#REF!,2,FALSE)","v":{"$error":"#REF!"}},null,"ALD11022036","SORTIE CHATIERE GRISE ET PLAQUE DE PLOMB D125"]
["ALD11022026",null,"2 FILTRES POUR LES BOUCHES CUISINE AUTOREGLABLES BAP COLOR",null,null,{"$f":"LEFT(Catalogue[[#This Row],[Référence]],3)","v":"ALD"},{"$f":"VLOOKUP(Catalogue[[#This Row],[Alias]],#REF!,2,FALSE)","v":{"$error":"#REF!"}},null,"ALD11022037","SORTIE CHATIERE GRISE ET PLAQUE DE PLOMB D150"]
["ALD11022026S","Non concerné","Filtres Bouches cuisine",2,2000007346338,{"$f":"LEFT(Catalogue[[#This Row],[Référence]],3)","v":"ALD"},{"$f":"VLOOKUP(Catalogue[[#This Row],[Alias]],#REF!,2,FALSE)","v":{"$error":"#REF!"}},null,"ALD11022042","SORTIE CHATIERE BRUNE ET PLAQUE DE PLOMB D125"]
["ALD11022026S",null,"Filtres Bouches cuisine",null,null,{"$f":"LEFT(Catalogue[[#This Row],[Référence]],3)","v":"ALD"},{"$f":"VLOOKUP(Catalogue[[#This Row],[Alias]],#REF!,2,FALSE)","v":{"$error":"#REF!"}},null,"ALD11022055","MANCHETTE TRIDENT EN TOLE D125 HAUTEUR 300 MM"]
["ALD11022036",null,"SORTIE CHATIERE GRISE ET PLAQUE DE PLOMB D125",null,null,{"$f":"LEFT(Catalogue[[#This Row],[Référence]],3)","v":"ALD"},{"$f":"VLOOKUP(Catalogue[[#This Row],[Alias]],#REF!,2,FALSE)","v":{"$error":"#REF!"}},null,"ALD11022061","GRILLE PLASTIQUE FIXE BIO DESIGN D125 MM - BLANC"]
["ALD11022037",null,"SORTIE CHATIERE GRISE ET PLAQUE DE PLOMB D150",null,null,{"$f":"LEFT(Catalogue[[#This Row],[Référence]],3)","v":"ALD"},{"$f":"VLOOKUP(Catalogue[[#This Row],[Alias]],#REF!,2,FALSE)","v":{"$error":"#REF!"}},null,"ALD11022064","GRILLE PLASTIQUE FIXE BIO DESIGN RECTANGULAIRE D80 MM - BLANC"]
["ALD11022042",null,"SORTIE CHATIERE BRUNE ET PLAQUE DE PLOMB D125",null,null,{"$f":"LEFT(Catalogue[[#This Row],[Référence]],3)","v":"ALD"},{"$f":"VLOOKUP(Catalogue[[#This Row],[Alias]],#REF!,2,FALSE)","v":{"$error":"#REF!"}},null,"ALD11022065","GRILLES PLASTIQUE FIXE BIO DESIGN CARRE D80 MM - BLANC"]
["ALD11022055",null,"MANCHETTE TRIDENT EN TOLE D125 HAUTEUR 300 MM",null,null,{"$f":"LEFT(Catalogue[[#This Row],[Référence]],3)","v":"ALD"},{"$f":"VLOOKUP(Catalogue[[#This Row],[Alias]],#REF!,2,FALSE)","v":{"$error":"#REF!"}},null,"ALD11022067","GRILLE PLASTIQUE BIP AVEC MANCHETTE TRIDENT D80 MM - BLANC"]
["ALD11022061",null,"GRILLE PLASTIQUE FIXE BIO DESIGN D125 MM - BLANC",null,null,{"$f":"LEFT(Catalogue[[#This Row],[Référence]],3)","v":"ALD"},{"$f":"VLOOKUP(Catalogue[[#This Row],[Alias]],#REF!,2,FALSE)","v":{"$error":"#REF!"}},null,"ALD11022070","MOTO-ROUE D160X74+CONDO"]
["ALD11022064",null,"GRILLE PLASTIQUE FIXE BIO DESIGN RECTANGULAIRE D80 MM - BLANC",null,null,{"$f":"LEFT(Catalogue[[#This Row],[Référence]],3)","v":"ALD"},{"$f":"VLOOKUP(Catalogue[[#This Row],[Alias]],#REF!,2,FALSE)","v":{"$error":"#REF!"}},null,"ALD11022072","MOTO-ROUE E2053504 + CONDO"]
["ALD11022065",null,"GRILLES PLASTIQUE FIXE BIO DESIGN CARRE D80 MM - BLANC",null,null,{"$f":"LEFT(Catalogue[[#This Row],[Référence]],3)","v":"ALD"},{"$f":"VLOOKUP(Catalogue[[#This Row],[Alias]],#REF!,2,FALSE)","v":{"$error":"#REF!"}},null,"ALD11022074","MANCHETTE TRIDENT OPTIFLEX D80"]
["ALD11022067",null,"GRILLE PLASTIQUE BIP AVEC MANCHETTE TRIDENT D80 MM - BLANC",null,null,{"$f":"LEFT(Catalogue[[#This Row],[Référence]],3)","v":"ALD"},{"$f":"VLOOKUP(Catalogue[[#This Row],[Alias]],#REF!,2,FALSE)","v":{"$error":"#REF!"}},null,"ALD11022077","MANCH. PLAST D125 H125 TRIDENT EMB. (fds"]
["ALD11022070",null,"MOTO-ROUE D160X74+CONDO",null,null,{"$f":"LEFT(Catalogue[[#This Row],[Référence]],3)","v":"ALD"},{"$f":"VLOOKUP(Catalogue[[#This Row],[Alias]],#REF!,2,FALSE)","v":{"$error":"#REF!"}},null,"ALD11022103","GROUPE VMC VMP K - SIMPLE FLUX AUTOREGLABLE - 74 W - 215 M3/H - 28 DB"]
["ALD11022072",null,"MOTO-ROUE E2053504 + CONDO",null,null,{"$f":"LEFT(Catalogue[[#This Row],[Référence]],3)","v":"ALD"},{"$f":"VLOOKUP(Catalogue[[#This Row],[Alias]],#REF!,2,FALSE)","v":{"$error":"#REF!"}},null,"ALD11022103S","VMC GROUPE VMPK"]
["ALD11022074",null,"MANCHETTE TRIDENT OPTIFLEX D80",null,null,{"$f":"LEFT(Catalogue[[#This Row],[Référence]],3)","v":"ALD"},{"$f":"VLOOKUP(Catalogue[[#This Row],[Alias]],#REF!,2,FALSE)","v":{"$error":"#REF!"}},null,"ALD11022110","KIT VMPK + MINUTERIE"]
["ALD11022077",null,"MANCH. PLAST D125 H125 TRIDENT EMB. (fds",null,null,{"$f":"LEFT(Catalogue[[#This Row],[Référence]],3)","v":"ALD"},{"$f":"VLOOKUP(Catalogue[[#This Row],[Alias]],#REF!,2,FALSE)","v":{"$error":"#REF!"}},null,"ALD11022156","KIT GRILLE PLASTIQUE FIXE COLORLINE D80 - BLANC"]
["ALD11022103",null,"GROUPE VMC VMP K - SIMPLE FLUX AUTOREGLABLE - 74 W - 215 M3/H - 28 DB",null,null,{"$f":"LEFT(Catalogue[[#This Row],[Référence]],3)","v":"ALD"},{"$f":"VLOOKUP(Catalogue[[#This Row],[Alias]],#REF!,2,FALSE)","v":{"$error":"#REF!"}},null,"ALD11022157","KIT GRILLE PLASTIQUE FIXE COLORLINE D125 - BLANC"]
["ALD11022103S","Non concerné","VMC GROUPE VMPK",70,2000007345126,{"$f":"LEFT(Catalogue[[#This Row],[Référence]],3)","v":"ALD"},{"$f":"VLOOKUP(Catalogue[[#This Row],[Alias]],#REF!,2,FALSE)","v":{"$error":"#REF!"}},null,"ALD11022300","EXTRACTEUR PONCTUEL DESIGN DIAM 100 MM ARRET MANUEL INSTANTANE"]
["ALD11022103S",null,"VMC GROUPE VMPK",null,null,{"$f":"LEFT(Catalogue[[#This Row],[Référence]],3)","v":"ALD"},{"$f":"VLOOKUP(Catalogue[[#This Row],[Alias]],#REF!,2,FALSE)","v":{"$error":"#REF!"}},null,"ALD11022302","EXTRACTEUR PONCTUEL DESIGN DIAM 100 MM H A DETECTION D HUMIDITE"]
["ALD11022110",null,"KIT VMPK + MINUTERIE",null,null,{"$f":"LEFT(Catalogue[[#This Row],[Référence]],3)","v":"ALD"},{"$f":"VLOOKUP(Catalogue[[#This Row],[Alias]],#REF!,2,FALSE)","v":{"$error":"#REF!"}},null,"ALD11022303","EXTRACTEUR PONCTUEL DESIGN DIAM 100 MM P A DETECTION DE PRESENCE"]
["ALD11022156",null,"KIT GRILLE PLASTIQUE FIXE COLORLINE D80 - BLANC",null,null,{"$f":"LEFT(Catalogue[[#This Row],[Référence]],3)","v":"ALD"},{"$f":"VLOOKUP(Catalogue[[#This Row],[Alias]],#REF!,2,FALSE)","v":{"$error":"#REF!"}},null,"ALD11022304","EXTRACTEUR PONCTUEL DESIGN DIAM 125 MM ARRET MANUEL INSTANTANE"]
["ALD11022157",null,"KIT GRILLE PLASTIQUE FIXE COLORLINE D125 - BLANC",null,null,{"$f":"LEFT(Catalogue[[#This Row],[Référence]],3)","v":"ALD"},{"$f":"VLOOKUP(Catalogue[[#This Row],[Alias]],#REF!,2,FALSE)","v":{"$error":"#REF!"}},null,"ALD11022306","EXTRACTEUR PONCTUEL DESIGN DIAM 125 MM H A DETECTION D HUMIDITE"]
["ALD11022300",null,"EXTRACTEUR PONCTUEL DESIGN DIAM 100 MM ARRET MANUEL INSTANTANE",null,null,{"$f":"LEFT(Catalogue[[#This Row],[Référence]],3)","v":"ALD"},{"$f":"VLOOKUP(Catalogue[[#This Row],[Alias]],#REF!,2,FALSE)","v":{"$error":"#REF!"}},null,"ALD11022307","EXTRACTEUR PONCTUEL DESIGN DIAM 125 MM P A DETECTION DE PRESENCE"]
["ALD11022302",null,"EXTRACTEUR PONCTUEL DESIGN DIAM 100 MM H A DETECTION D HUMIDITE",null,null,{"$f":"LEFT(Catalogue[[#This Row],[Référence]],3)","v":"ALD"},{"$f":"VLOOKUP(Catalogue[[#This Row],[Alias]],#REF!,2,FALSE)","v":{"$error":"#REF!"}},null,"ALD11022326","EXTRACTEUR PONCTUEL EN CONDUIT COURT INLINE DIAM 100 MM ARRET MANUEL INSTANTANE"]
["ALD11022303",null,"EXTRACTEUR PONCTUEL DESIGN DIAM 100 MM P A DETECTION DE PRESENCE",null,null,{"$f":"LEFT(Catalogue[[#This Row],[Référence]],3)","v":"ALD"},{"$f":"VLOOKUP(Catalogue[[#This Row],[Alias]],#REF!,2,FALSE)","v":{"$error":"#REF!"}},null,"ALD11022327","EXTRACTEUR PONCTUEL EN CONDUIT COURT INLINE DIAM 125 MM ARRET MANUEL INSTANTANE"]
["ALD11022304",null,"EXTRACTEUR PONCTUEL DESIGN DIAM 125 MM ARRET MANUEL INSTANTANE",null,null,{"$f":"LEFT(Catalogue[[#This Row],[Référence]],3)","v":"ALD"},{"$f":"VLOOKUP(Catalogue[[#This Row],[Alias]],#REF!,2,FALSE)","v":{"$error":"#REF!"}},null,"ALD11022330","EXTRACTEUR DE CONDUIT IN LINE XS DIAM 100 MM 190 M3/H"]
["ALD11022306",null,"EXTRACTEUR PONCTUEL DESIGN DIAM 125 MM H A DETECTION D HUMIDITE",null,null,{"$f":"LEFT(Catalogue[[#This Row],[Référence]],3)","v":"ALD"},{"$f":"VLOOKUP(Catalogue[[#This Row],[Alias]],#REF!,2,FALSE)","v":{"$error":"#REF!"}},null,"ALD11022340","EXTRACTEUR DE CONDUIT IN LINE XPRO DIAM 100 MM 245 M3/H"]
["ALD11022307",null,"EXTRACTEUR PONCTUEL DESIGN DIAM 125 MM P A DETECTION DE PRESENCE",null,null,{"$f":"LEFT(Catalogue[[#This Row],[Référence]],3)","v":"ALD"},{"$f":"VLOOKUP(Catalogue[[#This Row],[Alias]],#REF!,2,FALSE)","v":{"$error":"#REF!"}},null,"ALD11022350","EXTRACTEUR DE CONDUIT IN LINE XS DIAM 100 MM 240 M3/H"]
["ALD11022326",null,"EXTRACTEUR PONCTUEL EN CONDUIT COURT INLINE DIAM 100 MM ARRET MANUEL INSTANTANE",null,null,{"$f":"LEFT(Catalogue[[#This Row],[Référence]],3)","v":"ALD"},{"$f":"VLOOKUP(Catalogue[[#This Row],[Alias]],#REF!,2,FALSE)","v":{"$error":"#REF!"}},null,"ALD11022351","EXTRACTEUR DE CONDUIT IN LINE XSILENT DIAM 125 MM 340 M3/H"]
["ALD11022327",null,{"$f":"VLOOKUP(A1858,I:J,2,0)","v":"EXTRACTEUR PONCTUEL EN CONDUIT COURT INLINE DIAM 125 MM ARRET MANUEL INSTANTANE"},null,null,{"$f":"LEFT(Catalogue[[#This Row],[Référence]],3)","v":"ALD"},{"$f":"VLOOKUP(Catalogue[[#This Row],[Alias]],#REF!,2,FALSE)","v":{"$error":"#REF!"}},null,"ALD11022358","VARIATEUR DE VITESSE 1,5 A POUR VENTILATEURS DE CONDUITS IN LINE X"]
["ALD11022330",null,"EXTRACTEUR DE CONDUIT IN LINE XS DIAM 100 MM 190 M3/H",null,null,{"$f":"LEFT(Catalogue[[#This Row],[Référence]],3)","v":"ALD"},{"$f":"VLOOKUP(Catalogue[[#This Row],[Alias]],#REF!,2,FALSE)","v":{"$error":"#REF!"}},null,"ALD11023009","FILET MINIGAINE BLANC 2M RACCORD SOUPLE MINIGAINE EQUIVALENT D125"]
["ALD11022340",null,"EXTRACTEUR DE CONDUIT IN LINE XPRO DIAM 100 MM 245 M3/H",null,null,{"$f":"LEFT(Catalogue[[#This Row],[Référence]],3)","v":"ALD"},{"$f":"VLOOKUP(Catalogue[[#This Row],[Alias]],#REF!,2,FALSE)","v":{"$error":"#REF!"}},null,"ALD11023023","CLAVIER COMMANDE TZEN INDIV (C3000)"]
["ALD11022350",null,"EXTRACTEUR DE CONDUIT IN LINE XS DIAM 100 MM 240 M3/H",null,null,{"$f":"LEFT(Catalogue[[#This Row],[Référence]],3)","v":"ALD"},{"$f":"VLOOKUP(Catalogue[[#This Row],[Alias]],#REF!,2,FALSE)","v":{"$error":"#REF!"}},null,"ALD11023037","CAISSON REPARTITEUR PPE EQUIPE DE 6 PIQUAGES D80"]
["ALD11022351",null,"EXTRACTEUR DE CONDUIT IN LINE XSILENT DIAM 125 MM 340 M3/H",null,null,{"$f":"LEFT(Catalogue[[#This Row],[Référence]],3)","v":"ALD"},{"$f":"VLOOKUP(Catalogue[[#This Row],[Alias]],#REF!,2,FALSE)","v":{"$error":"#REF!"}},null,"ALD11023047","CLAVIER DE COMMANDE POUR T.ZEN COLLECTIF 300 OU 3000"]
["ALD11022358",null,"VARIATEUR DE VITESSE 1,5 A POUR VENTILATEURS DE CONDUITS IN LINE X",null,null,{"$f":"LEFT(Catalogue[[#This Row],[Référence]],3)","v":"ALD"},{"$f":"VLOOKUP(Catalogue[[#This Row],[Alias]],#REF!,2,FALSE)","v":{"$error":"#REF!"}},null,"ALD11023065","COMMANDE FILAIRE 3 VITESSES + BY-PASS  POUR VMC DOUBLE-FLUX DEE FLY CUBE"]
["ALD11023009",null,"FILET MINIGAINE BLANC 2M RACCORD SOUPLE MINIGAINE EQUIVALENT D125",null,null,{"$f":"LEFT(Catalogue[[#This Row],[Référence]],3)","v":"ALD"},{"$f":"VLOOKUP(Catalogue[[#This Row],[Alias]],#REF!,2,FALSE)","v":{"$error":"#REF!"}},null,"ALD11023087","BARRE MINIGAINE BLANC 3M D125"]
["ALD11023023",null,"CLAVIER COMMANDE TZEN INDIV (C3000)",null,null,{"$f":"LEFT(Catalogue[[#This Row],[Référence]],3)","v":"ALD"},{"$f":"VLOOKUP(Catalogue[[#This Row],[Alias]],#REF!,2,FALSE)","v":{"$error":"#REF!"}},null,"ALD11023117","KIT 4 TIGES M8x1M + ECROU CHEVILLES ROND"]
["ALD11023037",null,"CAISSON REPARTITEUR PPE EQUIPE DE 6 PIQUAGES D80",null,null,{"$f":"LEFT(Catalogue[[#This Row],[Référence]],3)","v":"ALD"},{"$f":"VLOOKUP(Catalogue[[#This Row],[Alias]],#REF!,2,FALSE)","v":{"$error":"#REF!"}},null,"ALD11023118","LOT FILTRES (5XPOLLEN) VMC DOUBLE-FLUX DEE FLY MODULO SANS BY-PASS (AV.06.09)"]
["ALD11023047",null,"CLAVIER DE COMMANDE POUR T.ZEN COLLECTIF 300 OU 3000",null,null,{"$f":"LEFT(Catalogue[[#This Row],[Référence]],3)","v":"ALD"},{"$f":"VLOOKUP(Catalogue[[#This Row],[Alias]],#REF!,2,FALSE)","v":{"$error":"#REF!"}},null,"ALD11023119","LOT FILTRES (5XPOLLEN) VMC DOUBLE-FLUX DEE FLY MODULO AVEC BY-PASS (AV.06.09)"]
["ALD11023065",null,"COMMANDE FILAIRE 3 VITESSES + BY-PASS  POUR VMC DOUBLE-FLUX DEE FLY CUBE",null,null,{"$f":"LEFT(Catalogue[[#This Row],[Référence]],3)","v":"ALD"},{"$f":"VLOOKUP(Catalogue[[#This Row],[Alias]],#REF!,2,FALSE)","v":{"$error":"#REF!"}},null,"ALD11023122","2 FILTRES POUR ECHANGEUR E1000"]
["ALD11023087",null,"BARRE MINIGAINE BLANC 3M D125",null,null,{"$f":"LEFT(Catalogue[[#This Row],[Référence]],3)","v":"ALD"},{"$f":"VLOOKUP(Catalogue[[#This Row],[Alias]],#REF!,2,FALSE)","v":{"$error":"#REF!"}},null,"ALD11023122S","LOT 2 FILTRES ECHANGEUR E1000"]
["ALD11023117",null,"KIT 4 TIGES M8x1M + ECROU CHEVILLES ROND",null,null,{"$f":"LEFT(Catalogue[[#This Row],[Référence]],3)","v":"ALD"},{"$f":"VLOOKUP(Catalogue[[#This Row],[Alias]],#REF!,2,FALSE)","v":{"$error":"#REF!"}},null,"ALD11023126","THERMOSTAT UBIO"]
["ALD11023118",null,"LOT FILTRES (5XPOLLEN) VMC DOUBLE-FLUX DEE FLY MODULO SANS BY-PASS (AV.06.09)",null,null,{"$f":"LEFT(Catalogue[[#This Row],[Référence]],3)","v":"ALD"},{"$f":"VLOOKUP(Catalogue[[#This Row],[Alias]],#REF!,2,FALSE)","v":{"$error":"#REF!"}},null,"ALD11023145","LOT FILTRES VMC DOUBLE-FLUX MODULO SANS BY-PASS (1XPOLLEN+1XPARTICULES FINES)"]
["ALD11023119",null,"LOT FILTRES (5XPOLLEN) VMC DOUBLE-FLUX DEE FLY MODULO AVEC BY-PASS (AV.06.09)",null,null,{"$f":"LEFT(Catalogue[[#This Row],[Référence]],3)","v":"ALD"},{"$f":"VLOOKUP(Catalogue[[#This Row],[Alias]],#REF!,2,FALSE)","v":{"$error":"#REF!"}},null,"ALD11023146","LOT FILTRES VMC DOUBLE-FLUX MODULO SANS BY-PASS (1XPOLLEN+1XPARTICULES FINES)"]
["ALD11023122",null,"2 FILTRES POUR ECHANGEUR E1000",null,null,{"$f":"LEFT(Catalogue[[#This Row],[Référence]],3)","v":"ALD"},{"$f":"VLOOKUP(Catalogue[[#This Row],[Alias]],#REF!,2,FALSE)","v":{"$error":"#REF!"}},null,"ALD11023146S","LOT 1 FILTRE G4"]
["ALD11023122S","Non concerné","LOT 2 FILTRES ECHANGEUR E1000",10,2000007346314,{"$f":"LEFT(Catalogue[[#This Row],[Référence]],3)","v":"ALD"},{"$f":"VLOOKUP(Catalogue[[#This Row],[Alias]],#REF!,2,FALSE)","v":{"$error":"#REF!"}},null,"ALD11023164","KIT VENTILATEUR REPRISE"]
["ALD11023122S",null,"LOT 2 FILTRES ECHANGEUR E1000",null,null,{"$f":"LEFT(Catalogue[[#This Row],[Référence]],3)","v":"ALD"},{"$f":"VLOOKUP(Catalogue[[#This Row],[Alias]],#REF!,2,FALSE)","v":{"$error":"#REF!"}},null,"ALD11023165","CARTE ELECTRONIQUE MODULE M03E M05E"]
["ALD11023126",null,"THERMOSTAT UBIO",null,null,{"$f":"LEFT(Catalogue[[#This Row],[Référence]],3)","v":"ALD"},{"$f":"VLOOKUP(Catalogue[[#This Row],[Alias]],#REF!,2,FALSE)","v":{"$error":"#REF!"}},null,"ALD11023194","CAISSON REPARTITEUR PPE EQUIPE D 1 PIQUAGE D160, 1 D125 ET 6 D80"]
["ALD11023145",null,"LOT FILTRES VMC DOUBLE-FLUX MODULO SANS BY-PASS (1XPOLLEN+1XPARTICULES FINES)",null,null,{"$f":"LEFT(Catalogue[[#This Row],[Référence]],3)","v":"ALD"},{"$f":"VLOOKUP(Catalogue[[#This Row],[Alias]],#REF!,2,FALSE)","v":{"$error":"#REF!"}},null,"ALD11023198","CHAUFFE-EAU THERMODYNAMIQUE T.FLOW HYGRO+ 200 L FAN POUR LA MAISON INDIVIDUELLE"]
["ALD11023146",null,"LOT FILTRES VMC DOUBLE-FLUX MODULO SANS BY-PASS (1XPOLLEN+1XPARTICULES FINES)",null,null,{"$f":"LEFT(Catalogue[[#This Row],[Référence]],3)","v":"ALD"},{"$f":"VLOOKUP(Catalogue[[#This Row],[Alias]],#REF!,2,FALSE)","v":{"$error":"#REF!"}},null,"ALD11023199","CHAUFFE-EAU THERMODYNAMIQUE T.FLOW HYGRO+ 200 L POUR LE LOGEMENT COLLECTIF"]
["ALD11023146S","Non concerné","LOT 1 FILTRE G4",15,2000007346734,{"$f":"LEFT(Catalogue[[#This Row],[Référence]],3)","v":"ALD"},{"$f":"VLOOKUP(Catalogue[[#This Row],[Alias]],#REF!,2,FALSE)","v":{"$error":"#REF!"}},null,"ALD11023205","1 FILTRE F7 + 2 FILTRES G4 POUR CENTRALE C3000"]
["ALD11023146S",null,"LOT 1 FILTRE G4",null,null,{"$f":"LEFT(Catalogue[[#This Row],[Référence]],3)","v":"ALD"},{"$f":"VLOOKUP(Catalogue[[#This Row],[Alias]],#REF!,2,FALSE)","v":{"$error":"#REF!"}},null,"ALD11023209","RACCORD A JOINTS CALOGAINE"]
["ALD11023164",null,"KIT VENTILATEUR REPRISE",null,null,{"$f":"LEFT(Catalogue[[#This Row],[Référence]],3)","v":"ALD"},{"$f":"VLOOKUP(Catalogue[[#This Row],[Alias]],#REF!,2,FALSE)","v":{"$error":"#REF!"}},null,"ALD11023210","CALOGAINE D160 BARRE DE 2 M"]
["ALD11023165",null,"CARTE ELECTRONIQUE MODULE M03E M05E",null,null,{"$f":"LEFT(Catalogue[[#This Row],[Référence]],3)","v":"ALD"},{"$f":"VLOOKUP(Catalogue[[#This Row],[Alias]],#REF!,2,FALSE)","v":{"$error":"#REF!"}},null,"ALD11023221","LOT FILTRES (2XPOLLENS ET 1XPARTICULES FINES) POUR VMC DOUBLE-FLUX DEE FLY CUBE"]
["ALD11023194",null,"CAISSON REPARTITEUR PPE EQUIPE D 1 PIQUAGE D160, 1 D125 ET 6 D80",null,null,{"$f":"LEFT(Catalogue[[#This Row],[Référence]],3)","v":"ALD"},{"$f":"VLOOKUP(Catalogue[[#This Row],[Alias]],#REF!,2,FALSE)","v":{"$error":"#REF!"}},null,"ALD11023228","KIT MANCHETTES+BOUCHES AUTO POUR T3/T4 EXTRACTION D125 /INSUFFLATION D80"]
["ALD11023198",null,"CHAUFFE-EAU THERMODYNAMIQUE T.FLOW HYGRO+ 200 L FAN POUR LA MAISON INDIVIDUELLE",null,null,{"$f":"LEFT(Catalogue[[#This Row],[Référence]],3)","v":"ALD"},{"$f":"VLOOKUP(Catalogue[[#This Row],[Alias]],#REF!,2,FALSE)","v":{"$error":"#REF!"}},null,"ALD11023239","MOTO-VENTILATEUR MODULO MV300-HE MICRO-WATT AUTO"]
["ALD11023199",null,"CHAUFFE-EAU THERMODYNAMIQUE T.FLOW HYGRO+ 200 L POUR LE LOGEMENT COLLECTIF",null,null,{"$f":"LEFT(Catalogue[[#This Row],[Référence]],3)","v":"ALD"},{"$f":"VLOOKUP(Catalogue[[#This Row],[Alias]],#REF!,2,FALSE)","v":{"$error":"#REF!"}},null,"ALD11023240","ECHANGEUR STATIQUE MODULO ES300-HE AUTO + BY-PASS + COMMANDE MODULO"]
["ALD11023205",null,"1 FILTRE F7 + 2 FILTRES G4 POUR CENTRALE C3000",null,null,{"$f":"LEFT(Catalogue[[#This Row],[Référence]],3)","v":"ALD"},{"$f":"VLOOKUP(Catalogue[[#This Row],[Alias]],#REF!,2,FALSE)","v":{"$error":"#REF!"}},null,"ALD11023309","TREPIED POUR LE CHAUFFE-EAU THERMODYNAMIQUE T.FLOW NANO"]
["ALD11023209",null,"RACCORD A JOINTS CALOGAINE",null,null,{"$f":"LEFT(Catalogue[[#This Row],[Référence]],3)","v":"ALD"},{"$f":"VLOOKUP(Catalogue[[#This Row],[Alias]],#REF!,2,FALSE)","v":{"$error":"#REF!"}},null,"ALD11023326","FILTRE PARTICULES FINES INSPIRAIRHOME SC240"]
["ALD11023210",null,"CALOGAINE D160 BARRE DE 2 M",null,null,{"$f":"LEFT(Catalogue[[#This Row],[Référence]],3)","v":"ALD"},{"$f":"VLOOKUP(Catalogue[[#This Row],[Alias]],#REF!,2,FALSE)","v":{"$error":"#REF!"}},null,"ALD11023350","KIT CIRCULATEUR ACTIV"]
["ALD11023221",null,"LOT FILTRES (2XPOLLENS ET 1XPARTICULES FINES) POUR VMC DOUBLE-FLUX DEE FLY CUBE",null,null,{"$f":"LEFT(Catalogue[[#This Row],[Référence]],3)","v":"ALD"},{"$f":"VLOOKUP(Catalogue[[#This Row],[Alias]],#REF!,2,FALSE)","v":{"$error":"#REF!"}},null,"ALD11023366","KIT POMPE RELEVAGE CONDENSAT ACTIV"]
["ALD11023228",null,"KIT MANCHETTES+BOUCHES AUTO POUR T3/T4 EXTRACTION D125 /INSUFFLATION D80",null,null,{"$f":"LEFT(Catalogue[[#This Row],[Référence]],3)","v":"ALD"},{"$f":"VLOOKUP(Catalogue[[#This Row],[Alias]],#REF!,2,FALSE)","v":{"$error":"#REF!"}},null,"ALD11023372","KIT FLEXIBLE EAU ET ISOLATION ACTIV"]
["ALD11023239",null,"MOTO-VENTILATEUR MODULO MV300-HE MICRO-WATT AUTO",null,null,{"$f":"LEFT(Catalogue[[#This Row],[Référence]],3)","v":"ALD"},{"$f":"VLOOKUP(Catalogue[[#This Row],[Alias]],#REF!,2,FALSE)","v":{"$error":"#REF!"}},null,"ALD11023374","GROUPE DE SECURITE 4,7 BARS"]
["ALD11023240",null,"ECHANGEUR STATIQUE MODULO ES300-HE AUTO + BY-PASS + COMMANDE MODULO",null,null,{"$f":"LEFT(Catalogue[[#This Row],[Référence]],3)","v":"ALD"},{"$f":"VLOOKUP(Catalogue[[#This Row],[Alias]],#REF!,2,FALSE)","v":{"$error":"#REF!"}},null,"ALD11023386","MODEM DE CONNECTIVITE ALDESCONNECT BOX"]
["ALD11023309",null,"TREPIED POUR LE CHAUFFE-EAU THERMODYNAMIQUE T.FLOW NANO",null,null,{"$f":"LEFT(Catalogue[[#This Row],[Référence]],3)","v":"ALD"},{"$f":"VLOOKUP(Catalogue[[#This Row],[Alias]],#REF!,2,FALSE)","v":{"$error":"#REF!"}},null,"ALD11023388","TUYAU D ARRIVEE DE L EAU FROIDE SANITAIRE POUR LE T.FLOW ACTIV"]
["ALD11023326",null,"FILTRE PARTICULES FINES INSPIRAIRHOME SC240",null,null,{"$f":"LEFT(Catalogue[[#This Row],[Référence]],3)","v":"ALD"},{"$f":"VLOOKUP(Catalogue[[#This Row],[Alias]],#REF!,2,FALSE)","v":{"$error":"#REF!"}},null,"ALD11023389","TUYAU DEPART DE L EAU CHAUDE SANITAIRE POUR LE T.FLOW ACTIV"]
["ALD11023350",null,"KIT CIRCULATEUR ACTIV",null,null,{"$f":"LEFT(Catalogue[[#This Row],[Référence]],3)","v":"ALD"},{"$f":"VLOOKUP(Catalogue[[#This Row],[Alias]],#REF!,2,FALSE)","v":{"$error":"#REF!"}},null,"ALD11023390","TUYAU DE BOUCLAGE BALLON COTE ARRIVEE POUR LE T.FLOW ACTIV"]
["ALD11023366",null,"KIT POMPE RELEVAGE CONDENSAT ACTIV",null,null,{"$f":"LEFT(Catalogue[[#This Row],[Référence]],3)","v":"ALD"},{"$f":"VLOOKUP(Catalogue[[#This Row],[Alias]],#REF!,2,FALSE)","v":{"$error":"#REF!"}},null,"ALD11023395","CHAUFFE-EAU THERMODYNAMIQUE T.FLOW NANO 100 L POUR LE LOGEMENT COLLECTIF"]
["ALD11023372",null,"KIT FLEXIBLE EAU ET ISOLATION ACTIV",null,null,{"$f":"LEFT(Catalogue[[#This Row],[Référence]],3)","v":"ALD"},{"$f":"VLOOKUP(Catalogue[[#This Row],[Alias]],#REF!,2,FALSE)","v":{"$error":"#REF!"}},null,"ALD11023479","TELECOMMANDE INSPIRAIR"]
["ALD11023374",null,"GROUPE DE SECURITE 4,7 BARS",null,null,{"$f":"LEFT(Catalogue[[#This Row],[Référence]],3)","v":"ALD"},{"$f":"VLOOKUP(Catalogue[[#This Row],[Alias]],#REF!,2,FALSE)","v":{"$error":"#REF!"}},null,"ALD11023490","FILTRE POUSSIERE INSPIRAIR TOP/VEX40T"]
["ALD11023386",null,"MODEM DE CONNECTIVITE ALDESCONNECT BOX",null,null,{"$f":"LEFT(Catalogue[[#This Row],[Référence]],3)","v":"ALD"},{"$f":"VLOOKUP(Catalogue[[#This Row],[Alias]],#REF!,2,FALSE)","v":{"$error":"#REF!"}},null,"ALD11023491","FILTRE POLLEN INSPIRAIR TOP/VEX40T"]
["ALD11023388",null,"TUYAU D ARRIVEE DE L EAU FROIDE SANITAIRE POUR LE T.FLOW ACTIV",null,null,{"$f":"LEFT(Catalogue[[#This Row],[Référence]],3)","v":"ALD"},{"$f":"VLOOKUP(Catalogue[[#This Row],[Alias]],#REF!,2,FALSE)","v":{"$error":"#REF!"}},null,"ALD11023769S","FILTRE F7"]
["ALD11023389",null,"TUYAU DEPART DE L EAU CHAUDE SANITAIRE POUR LE T.FLOW ACTIV",null,null,{"$f":"LEFT(Catalogue[[#This Row],[Référence]],3)","v":"ALD"},{"$f":"VLOOKUP(Catalogue[[#This Row],[Alias]],#REF!,2,FALSE)","v":{"$error":"#REF!"}},null,"ALD11023980","TE MINIGAINE BLANC 90DEG  HORIZONTAL EQUIVALENT D125 (60X200)"]
["ALD11023390",null,"TUYAU DE BOUCLAGE BALLON COTE ARRIVEE POUR LE T.FLOW ACTIV",null,null,{"$f":"LEFT(Catalogue[[#This Row],[Référence]],3)","v":"ALD"},{"$f":"VLOOKUP(Catalogue[[#This Row],[Alias]],#REF!,2,FALSE)","v":{"$error":"#REF!"}},null,"ALD11024106","TOURELLE REFOULEMENT HORIZONTAL TAHA 315 M4"]
["ALD11023395",null,"CHAUFFE-EAU THERMODYNAMIQUE T.FLOW NANO 100 L POUR LE LOGEMENT COLLECTIF",null,null,{"$f":"LEFT(Catalogue[[#This Row],[Référence]],3)","v":"ALD"},{"$f":"VLOOKUP(Catalogue[[#This Row],[Alias]],#REF!,2,FALSE)","v":{"$error":"#REF!"}},null,"ALD11024117","TOURELLE REFOULEMENT VERTICAL TAVA 280 M4"]
["ALD11023479",null,"TELECOMMANDE INSPIRAIR",null,null,{"$f":"LEFT(Catalogue[[#This Row],[Référence]],3)","v":"ALD"},{"$f":"VLOOKUP(Catalogue[[#This Row],[Alias]],#REF!,2,FALSE)","v":{"$error":"#REF!"}},null,"ALD11024118","TOURELLE REFOULEMENT VERTICAL TAVA 315 M4"]
["ALD11023490",null,"FILTRE POUSSIERE INSPIRAIR TOP/VEX40T",null,null,{"$f":"LEFT(Catalogue[[#This Row],[Référence]],3)","v":"ALD"},{"$f":"VLOOKUP(Catalogue[[#This Row],[Alias]],#REF!,2,FALSE)","v":{"$error":"#REF!"}},null,"ALD11024435","KIT D ADAPTATION VT 535 VERS TAHA-TAVA 280-315"]
["ALD11023491",null,"FILTRE POLLEN INSPIRAIR TOP/VEX40T",null,null,{"$f":"LEFT(Catalogue[[#This Row],[Référence]],3)","v":"ALD"},{"$f":"VLOOKUP(Catalogue[[#This Row],[Alias]],#REF!,2,FALSE)","v":{"$error":"#REF!"}},null,"ALD11024437","KIT D ADAPTATION VT 750 VERS TAHA-TAVA 280-315"]
["ALD11023739S","Non concerné",{"$error":"#N/A"},15,2000007345249,{"$f":"LEFT(Catalogue[[#This Row],[Référence]],3)","v":"ALD"},{"$f":"VLOOKUP(Catalogue[[#This Row],[Alias]],#REF!,2,FALSE)","v":{"$error":"#REF!"}},null,"ALD11024447","SOUCHE TERRASSE ISOLEE AVEC SILENCIEUX POUR TAHA-TAVA 280"]
["ALD11023769S","Non concerné","FILTRE F7",15,2000007345256,{"$f":"LEFT(Catalogue[[#This Row],[Référence]],3)","v":"ALD"},{"$f":"VLOOKUP(Catalogue[[#This Row],[Alias]],#REF!,2,FALSE)","v":{"$error":"#REF!"}},null,"ALD11024448","SOUCHE TERRASSE ISOLEE AVEC SILENCIEUX POUR TAHA-TAVA 355"]
["ALD11023769S",null,"FILTRE F7",null,null,{"$f":"LEFT(Catalogue[[#This Row],[Référence]],3)","v":"ALD"},{"$f":"VLOOKUP(Catalogue[[#This Row],[Alias]],#REF!,2,FALSE)","v":{"$error":"#REF!"}},null,"ALD11024471","PLATINE D ADAPTATION POUR SOUCHE TAHA-TAVA 280-315"]
["ALD11023980",null,"TE MINIGAINE BLANC 90DEG  HORIZONTAL EQUIVALENT D125 (60X200)",null,null,{"$f":"LEFT(Catalogue[[#This Row],[Référence]],3)","v":"ALD"},{"$f":"VLOOKUP(Catalogue[[#This Row],[Alias]],#REF!,2,FALSE)","v":{"$error":"#REF!"}},null,"ALD11025001","INTERRUPTEUR M/A + PLATINE D ADAPTATION"]
["ALD11024106",null,"TOURELLE REFOULEMENT HORIZONTAL TAHA 315 M4",null,null,{"$f":"LEFT(Catalogue[[#This Row],[Référence]],3)","v":"ALD"},{"$f":"VLOOKUP(Catalogue[[#This Row],[Alias]],#REF!,2,FALSE)","v":{"$error":"#REF!"}},null,"ALD11025002","PLATINE ADAPTATION DISJONCTEUR VEC"]
["ALD11024117",null,"TOURELLE REFOULEMENT VERTICAL TAVA 280 M4",null,null,{"$f":"LEFT(Catalogue[[#This Row],[Référence]],3)","v":"ALD"},{"$f":"VLOOKUP(Catalogue[[#This Row],[Alias]],#REF!,2,FALSE)","v":{"$error":"#REF!"}},null,"ALD11025009","KIT PRESSOSTAT REGLABLE 20-300 PA"]
["ALD11024118",null,"TOURELLE REFOULEMENT VERTICAL TAVA 315 M4",null,null,{"$f":"LEFT(Catalogue[[#This Row],[Référence]],3)","v":"ALD"},{"$f":"VLOOKUP(Catalogue[[#This Row],[Alias]],#REF!,2,FALSE)","v":{"$error":"#REF!"}},null,"ALD11025012","KIT TEMPORISATION PRESSOSTAT - RECOMMANDER EN CAS DE RAFALE DE VENT"]
["ALD11024435",null,"KIT D ADAPTATION VT 535 VERS TAHA-TAVA 280-315",null,null,{"$f":"LEFT(Catalogue[[#This Row],[Référence]],3)","v":"ALD"},{"$f":"VLOOKUP(Catalogue[[#This Row],[Alias]],#REF!,2,FALSE)","v":{"$error":"#REF!"}},null,"ALD11025018","PRESSOSTAT HUBA 80PA"]
["ALD11024437",null,"KIT D ADAPTATION VT 750 VERS TAHA-TAVA 280-315",null,null,{"$f":"LEFT(Catalogue[[#This Row],[Référence]],3)","v":"ALD"},{"$f":"VLOOKUP(Catalogue[[#This Row],[Alias]],#REF!,2,FALSE)","v":{"$error":"#REF!"}},null,"ALD11025032","SOUS-ENSEMBLE MONT.2EME MOTEUR VEC271"]
["ALD11024447",null,"SOUCHE TERRASSE ISOLEE AVEC SILENCIEUX POUR TAHA-TAVA 280",null,null,{"$f":"LEFT(Catalogue[[#This Row],[Référence]],3)","v":"ALD"},{"$f":"VLOOKUP(Catalogue[[#This Row],[Alias]],#REF!,2,FALSE)","v":{"$error":"#REF!"}},null,"ALD11025033","SOUS-ENSEMBLE MONT.2EME MOTEUR VEC321"]
["ALD11024448",null,"SOUCHE TERRASSE ISOLEE AVEC SILENCIEUX POUR TAHA-TAVA 355",null,null,{"$f":"LEFT(Catalogue[[#This Row],[Référence]],3)","v":"ALD"},{"$f":"VLOOKUP(Catalogue[[#This Row],[Alias]],#REF!,2,FALSE)","v":{"$error":"#REF!"}},null,"ALD11025034","SOUS-ENSEMBLE MONT.2EME MOTEUR VEC382"]
["ALD11024471",null,"PLATINE D ADAPTATION POUR SOUCHE TAHA-TAVA 280-315",null,null,{"$f":"LEFT(Catalogue[[#This Row],[Référence]],3)","v":"ALD"},{"$f":"VLOOKUP(Catalogue[[#This Row],[Alias]],#REF!,2,FALSE)","v":{"$error":"#REF!"}},null,"ALD11025035","SOUS-ENSEMBLE MONT.2EME MOTEUR VEC452"]
["ALD11025001",null,"INTERRUPTEUR M/A + PLATINE D ADAPTATION",null,null,{"$f":"LEFT(Catalogue[[#This Row],[Référence]],3)","v":"ALD"},{"$f":"VLOOKUP(Catalogue[[#This Row],[Alias]],#REF!,2,FALSE)","v":{"$error":"#REF!"}},null,"ALD11025038","KIT 3 PATTES + VIS  MOTEUR VEC 270"]
["ALD11025002",null,"PLATINE ADAPTATION DISJONCTEUR VEC",null,null,{"$f":"LEFT(Catalogue[[#This Row],[Référence]],3)","v":"ALD"},{"$f":"VLOOKUP(Catalogue[[#This Row],[Alias]],#REF!,2,FALSE)","v":{"$error":"#REF!"}},null,"ALD11025041","POULIE FIXE 250.1 SPA AL25"]
["ALD11025009",null,"KIT PRESSOSTAT REGLABLE 20-300 PA",null,null,{"$f":"LEFT(Catalogue[[#This Row],[Référence]],3)","v":"ALD"},{"$f":"VLOOKUP(Catalogue[[#This Row],[Alias]],#REF!,2,FALSE)","v":{"$error":"#REF!"}},null,"ALD11025042","POULIE FIXE 280.1 SPA AL25"]
["ALD11025012",null,{"$f":"VLOOKUP(A1922,I:J,2,0)","v":"KIT TEMPORISATION PRESSOSTAT - RECOMMANDER EN CAS DE RAFALE DE VENT"},null,null,{"$f":"LEFT(Catalogue[[#This Row],[Référence]],3)","v":"ALD"},{"$f":"VLOOKUP(Catalogue[[#This Row],[Alias]],#REF!,2,FALSE)","v":{"$error":"#REF!"}},null,"ALD11025044","POULIE FIXE 315.1 SPA AL25"]
["ALD11025018",null,"PRESSOSTAT HUBA 80PA",null,null,{"$f":"LEFT(Catalogue[[#This Row],[Référence]],3)","v":"ALD"},{"$f":"VLOOKUP(Catalogue[[#This Row],[Alias]],#REF!,2,FALSE)","v":{"$error":"#REF!"}},null,"ALD11025050","ROULEMENT+BAGUE 20 INTERIEUR -46 EXTERIEUR"]
["ALD11025032",null,"SOUS-ENSEMBLE MONT.2EME MOTEUR VEC271",null,null,{"$f":"LEFT(Catalogue[[#This Row],[Référence]],3)","v":"ALD"},{"$f":"VLOOKUP(Catalogue[[#This Row],[Alias]],#REF!,2,FALSE)","v":{"$error":"#REF!"}},null,"ALD11025051","ROULEMENT+BAGUE 25 INTERIEUR"]
["ALD11025033",null,"SOUS-ENSEMBLE MONT.2EME MOTEUR VEC321",null,null,{"$f":"LEFT(Catalogue[[#This Row],[Référence]],3)","v":"ALD"},{"$f":"VLOOKUP(Catalogue[[#This Row],[Alias]],#REF!,2,FALSE)","v":{"$error":"#REF!"}},null,"ALD11025052","ROULEMENT+BAGUE D20 INTERIEUR -D65 EXTERIEUR"]
["ALD11025034",null,"SOUS-ENSEMBLE MONT.2EME MOTEUR VEC382",null,null,{"$f":"LEFT(Catalogue[[#This Row],[Référence]],3)","v":"ALD"},{"$f":"VLOOKUP(Catalogue[[#This Row],[Alias]],#REF!,2,FALSE)","v":{"$error":"#REF!"}},null,"ALD11025055","PALIER VENTIL.VEC 3 D30"]
["ALD11025035",null,"SOUS-ENSEMBLE MONT.2EME MOTEUR VEC452",null,null,{"$f":"LEFT(Catalogue[[#This Row],[Référence]],3)","v":"ALD"},{"$f":"VLOOKUP(Catalogue[[#This Row],[Alias]],#REF!,2,FALSE)","v":{"$error":"#REF!"}},null,"ALD11025056","SOUS-ENSEMBLE VENTILATEUR TYPE 240 HY"]
["ALD11025038",null,"KIT 3 PATTES + VIS  MOTEUR VEC 270",null,null,{"$f":"LEFT(Catalogue[[#This Row],[Référence]],3)","v":"ALD"},{"$f":"VLOOKUP(Catalogue[[#This Row],[Alias]],#REF!,2,FALSE)","v":{"$error":"#REF!"}},null,"ALD11025056S","S/ENS VENTILATEUR TYPE 240 HY"]
["ALD11025041",null,"POULIE FIXE 250.1 SPA AL25",null,null,{"$f":"LEFT(Catalogue[[#This Row],[Référence]],3)","v":"ALD"},{"$f":"VLOOKUP(Catalogue[[#This Row],[Alias]],#REF!,2,FALSE)","v":{"$error":"#REF!"}},null,"ALD11025057","SOUS ENSEMBLE VENTILATEUR - VEC 271B 11025057"]
["ALD11025042",null,"POULIE FIXE 280.1 SPA AL25",null,null,{"$f":"LEFT(Catalogue[[#This Row],[Référence]],3)","v":"ALD"},{"$f":"VLOOKUP(Catalogue[[#This Row],[Alias]],#REF!,2,FALSE)","v":{"$error":"#REF!"}},null,"ALD11025058","S/E VENTIL TYPE 321 OPTIONS"]
["ALD11025044",null,"POULIE FIXE 315.1 SPA AL25",null,null,{"$f":"LEFT(Catalogue[[#This Row],[Référence]],3)","v":"ALD"},{"$f":"VLOOKUP(Catalogue[[#This Row],[Alias]],#REF!,2,FALSE)","v":{"$error":"#REF!"}},null,"ALD11025058S","S/E VENTIL TYPE 321 OPTIONS"]
["ALD11025050",null,"ROULEMENT+BAGUE 20 INTERIEUR -46 EXTERIEUR",null,null,{"$f":"LEFT(Catalogue[[#This Row],[Référence]],3)","v":"ALD"},{"$f":"VLOOKUP(Catalogue[[#This Row],[Alias]],#REF!,2,FALSE)","v":{"$error":"#REF!"}},null,"ALD11025062","KIT MANCHETTE REFOULEMENT M0 + PIQUAGE EASYVEC D160"]
["ALD11025051",null,"ROULEMENT+BAGUE 25 INTERIEUR",null,null,{"$f":"LEFT(Catalogue[[#This Row],[Référence]],3)","v":"ALD"},{"$f":"VLOOKUP(Catalogue[[#This Row],[Alias]],#REF!,2,FALSE)","v":{"$error":"#REF!"}},null,"ALD11025063","KIT MANCHETTE REFOULEMENT M0 - D160"]
["ALD11025052",null,"ROULEMENT+BAGUE D20 INTERIEUR -D65 EXTERIEUR",null,null,{"$f":"LEFT(Catalogue[[#This Row],[Référence]],3)","v":"ALD"},{"$f":"VLOOKUP(Catalogue[[#This Row],[Alias]],#REF!,2,FALSE)","v":{"$error":"#REF!"}},null,"ALD11025064","KIT MANCHETTE REFOULEMENT M0 - D200"]
["ALD11025055",null,"PALIER VENTIL.VEC 3 D30",null,null,{"$f":"LEFT(Catalogue[[#This Row],[Référence]],3)","v":"ALD"},{"$f":"VLOOKUP(Catalogue[[#This Row],[Alias]],#REF!,2,FALSE)","v":{"$error":"#REF!"}},null,"ALD11025065","KIT MANCHETTE REFOULEMENT M0 - D250"]
["ALD11025056",null,"SOUS-ENSEMBLE VENTILATEUR TYPE 240 HY",null,null,{"$f":"LEFT(Catalogue[[#This Row],[Référence]],3)","v":"ALD"},{"$f":"VLOOKUP(Catalogue[[#This Row],[Alias]],#REF!,2,FALSE)","v":{"$error":"#REF!"}},null,"ALD11025066","KIT MANCHETTE REFOULEMENT M0 - D315"]
["ALD11025056S","Non concerné","S/ENS VENTILATEUR TYPE 240 HY",120,2000007346291,{"$f":"LEFT(Catalogue[[#This Row],[Référence]],3)","v":"ALD"},{"$f":"VLOOKUP(Catalogue[[#This Row],[Alias]],#REF!,2,FALSE)","v":{"$error":"#REF!"}},null,"ALD11025067","KIT MANCHETTE REFOULEMENT M0 - D400"]
["ALD11025056S",null,"S/ENS VENTILATEUR TYPE 240 HY",null,null,{"$f":"LEFT(Catalogue[[#This Row],[Référence]],3)","v":"ALD"},{"$f":"VLOOKUP(Catalogue[[#This Row],[Alias]],#REF!,2,FALSE)","v":{"$error":"#REF!"}},null,"ALD11025068","KIT MANCHETTE ASPIRATION M0 - D500"]
["ALD11025057",null,"SOUS ENSEMBLE VENTILATEUR - VEC 271B 11025057",null,null,{"$f":"LEFT(Catalogue[[#This Row],[Référence]],3)","v":"ALD"},{"$f":"VLOOKUP(Catalogue[[#This Row],[Alias]],#REF!,2,FALSE)","v":{"$error":"#REF!"}},null,"ALD11025069","KIT MANCHETTE REFOULEMENT M0 - D560"]
["ALD11025057S","Non concerné",{"$error":"#N/A"},120,2000007348516,{"$f":"LEFT(Catalogue[[#This Row],[Référence]],3)","v":"ALD"},{"$f":"VLOOKUP(Catalogue[[#This Row],[Alias]],#REF!,2,FALSE)","v":{"$error":"#REF!"}},null,"ALD11025070","KIT MANCHETTE SOUPLE REFOULEMENT 500MM"]
["ALD11025058",null,"S/E VENTIL TYPE 321 OPTIONS",null,null,{"$f":"LEFT(Catalogue[[#This Row],[Référence]],3)","v":"ALD"},{"$f":"VLOOKUP(Catalogue[[#This Row],[Alias]],#REF!,2,FALSE)","v":{"$error":"#REF!"}},null,"ALD11025071","KIT MANCHETTE SOUPLE REFOULEMENT 630MM"]
["ALD11025058S","Non concerné","S/E VENTIL TYPE 321 OPTIONS",120,2000007348189,{"$f":"LEFT(Catalogue[[#This Row],[Référence]],3)","v":"ALD"},{"$f":"VLOOKUP(Catalogue[[#This Row],[Alias]],#REF!,2,FALSE)","v":{"$error":"#REF!"}},null,"ALD11025072","MANCHETTE REFOULEMENT M0 + CADRE - D500"]
["ALD11025058S",null,"S/E VENTIL TYPE 321 OPTIONS",null,null,{"$f":"LEFT(Catalogue[[#This Row],[Référence]],3)","v":"ALD"},{"$f":"VLOOKUP(Catalogue[[#This Row],[Alias]],#REF!,2,FALSE)","v":{"$error":"#REF!"}},null,"ALD11025075","MANCHETTE REFOULEMENT M0 + CADRE - D400"]
["ALD11025062",null,"KIT MANCHETTE REFOULEMENT M0 + PIQUAGE EASYVEC D160",null,null,{"$f":"LEFT(Catalogue[[#This Row],[Référence]],3)","v":"ALD"},{"$f":"VLOOKUP(Catalogue[[#This Row],[Alias]],#REF!,2,FALSE)","v":{"$error":"#REF!"}},null,"ALD11025076","KIT MANCHETTE REFOULEMENT M0 - D500"]
["ALD11025063",null,"KIT MANCHETTE REFOULEMENT M0 - D160",null,null,{"$f":"LEFT(Catalogue[[#This Row],[Référence]],3)","v":"ALD"},{"$f":"VLOOKUP(Catalogue[[#This Row],[Alias]],#REF!,2,FALSE)","v":{"$error":"#REF!"}},null,"ALD11025077","KIT MANCHETTE ASPIRATION/REFOULEMENT M0 - D630"]
["ALD11025064",null,"KIT MANCHETTE REFOULEMENT M0 - D200",null,null,{"$f":"LEFT(Catalogue[[#This Row],[Référence]],3)","v":"ALD"},{"$f":"VLOOKUP(Catalogue[[#This Row],[Alias]],#REF!,2,FALSE)","v":{"$error":"#REF!"}},null,"ALD11025078","KIT MANCHETTE ASPIRATION/REFOULEMENT M0 - D800"]
["ALD11025065",null,"KIT MANCHETTE REFOULEMENT M0 - D250",null,null,{"$f":"LEFT(Catalogue[[#This Row],[Référence]],3)","v":"ALD"},{"$f":"VLOOKUP(Catalogue[[#This Row],[Alias]],#REF!,2,FALSE)","v":{"$error":"#REF!"}},null,"ALD11025081","KIT MANCHETTE REFOULEMENT M0 + PIQUAGE EASYVEC T2 D250"]
["ALD11025066",null,"KIT MANCHETTE REFOULEMENT M0 - D315",null,null,{"$f":"LEFT(Catalogue[[#This Row],[Référence]],3)","v":"ALD"},{"$f":"VLOOKUP(Catalogue[[#This Row],[Alias]],#REF!,2,FALSE)","v":{"$error":"#REF!"}},null,"ALD11025082","KIT MANCHETTE REFOULEMENT M0 + PIQUAGE EASYVEC T3 D315"]
["ALD11025067",null,"KIT MANCHETTE REFOULEMENT M0 - D400",null,null,{"$f":"LEFT(Catalogue[[#This Row],[Référence]],3)","v":"ALD"},{"$f":"VLOOKUP(Catalogue[[#This Row],[Alias]],#REF!,2,FALSE)","v":{"$error":"#REF!"}},null,"ALD11025083","KIT MANCHETTE REFOULEMENT M0 + PIQUAGE EASYVEC T4 D355"]
["ALD11025068",null,"KIT MANCHETTE ASPIRATION M0 - D500",null,null,{"$f":"LEFT(Catalogue[[#This Row],[Référence]],3)","v":"ALD"},{"$f":"VLOOKUP(Catalogue[[#This Row],[Alias]],#REF!,2,FALSE)","v":{"$error":"#REF!"}},null,"ALD11025084","KIT MANCHETTE REFOULEMENT M0 + PIQUAGE EASYVEC T5 D400"]
["ALD11025069",null,"KIT MANCHETTE REFOULEMENT M0 - D560",null,null,{"$f":"LEFT(Catalogue[[#This Row],[Référence]],3)","v":"ALD"},{"$f":"VLOOKUP(Catalogue[[#This Row],[Alias]],#REF!,2,FALSE)","v":{"$error":"#REF!"}},null,"ALD11025087","KIT MOT.SECOURS VEC200AB/COND"]
["ALD11025070",null,"KIT MANCHETTE SOUPLE REFOULEMENT 500MM",null,null,{"$f":"LEFT(Catalogue[[#This Row],[Référence]],3)","v":"ALD"},{"$f":"VLOOKUP(Catalogue[[#This Row],[Alias]],#REF!,2,FALSE)","v":{"$error":"#REF!"}},null,"ALD11025088","MOT. SECOURS M 20W 2MF  ALD25088"]
["ALD11025071",null,"KIT MANCHETTE SOUPLE REFOULEMENT 630MM",null,null,{"$f":"LEFT(Catalogue[[#This Row],[Référence]],3)","v":"ALD"},{"$f":"VLOOKUP(Catalogue[[#This Row],[Alias]],#REF!,2,FALSE)","v":{"$error":"#REF!"}},null,"ALD11025089","KIT MOTEUR DE SECOURS MINIVEC AB"]
["ALD11025072",null,"MANCHETTE REFOULEMENT M0 + CADRE - D500",null,null,{"$f":"LEFT(Catalogue[[#This Row],[Référence]],3)","v":"ALD"},{"$f":"VLOOKUP(Catalogue[[#This Row],[Alias]],#REF!,2,FALSE)","v":{"$error":"#REF!"}},null,"ALD11025181","ARMOIRE ELECTRIQUE VEC271B 0.55 KW MONOPHASE"]
["ALD11025075",null,"MANCHETTE REFOULEMENT M0 + CADRE - D400",null,null,{"$f":"LEFT(Catalogue[[#This Row],[Référence]],3)","v":"ALD"},{"$f":"VLOOKUP(Catalogue[[#This Row],[Alias]],#REF!,2,FALSE)","v":{"$error":"#REF!"}},null,"ALD11025182","ARMOIRE ELECTRIQUE VEC271B 0.75 KW MONOPHASE"]
["ALD11025076",null,"KIT MANCHETTE REFOULEMENT M0 - D500",null,null,{"$f":"LEFT(Catalogue[[#This Row],[Référence]],3)","v":"ALD"},{"$f":"VLOOKUP(Catalogue[[#This Row],[Alias]],#REF!,2,FALSE)","v":{"$error":"#REF!"}},null,"ALD11025183","ARMOIRE ELECTRIQUE VEC321B 0.75 KW MONOPHASE"]
["ALD11025077",null,"KIT MANCHETTE ASPIRATION/REFOULEMENT M0 - D630",null,null,{"$f":"LEFT(Catalogue[[#This Row],[Référence]],3)","v":"ALD"},{"$f":"VLOOKUP(Catalogue[[#This Row],[Alias]],#REF!,2,FALSE)","v":{"$error":"#REF!"}},null,"ALD11025184","ARMOIRE ELECTRIQUE VEC321C 0.75 KW MONOPHASE"]
["ALD11025078",null,"KIT MANCHETTE ASPIRATION/REFOULEMENT M0 - D800",null,null,{"$f":"LEFT(Catalogue[[#This Row],[Référence]],3)","v":"ALD"},{"$f":"VLOOKUP(Catalogue[[#This Row],[Alias]],#REF!,2,FALSE)","v":{"$error":"#REF!"}},null,"ALD11025188","ARMOIRE ELECTRIQUE VEC382C 2.2 KW MONOPHASE"]
["ALD11025081",null,"KIT MANCHETTE REFOULEMENT M0 + PIQUAGE EASYVEC T2 D250",null,null,{"$f":"LEFT(Catalogue[[#This Row],[Référence]],3)","v":"ALD"},{"$f":"VLOOKUP(Catalogue[[#This Row],[Alias]],#REF!,2,FALSE)","v":{"$error":"#REF!"}},null,"ALD11025237","MOTO-VENTILATEUR VEC240/CVEC1500 AB"]
["ALD11025082",null,"KIT MANCHETTE REFOULEMENT M0 + PIQUAGE EASYVEC T3 D315",null,null,{"$f":"LEFT(Catalogue[[#This Row],[Référence]],3)","v":"ALD"},{"$f":"VLOOKUP(Catalogue[[#This Row],[Alias]],#REF!,2,FALSE)","v":{"$error":"#REF!"}},null,"ALD11025764","COURROIE SECTION A - LP 1280"]
["ALD11025083",null,"KIT MANCHETTE REFOULEMENT M0 + PIQUAGE EASYVEC T4 D355",null,null,{"$f":"LEFT(Catalogue[[#This Row],[Référence]],3)","v":"ALD"},{"$f":"VLOOKUP(Catalogue[[#This Row],[Alias]],#REF!,2,FALSE)","v":{"$error":"#REF!"}},null,"ALD11026002","LIAISON ACOUSTIQUE POUR EXTRACTION CUISINE D125"]
["ALD11025084",null,"KIT MANCHETTE REFOULEMENT M0 + PIQUAGE EASYVEC T5 D400",null,null,{"$f":"LEFT(Catalogue[[#This Row],[Référence]],3)","v":"ALD"},{"$f":"VLOOKUP(Catalogue[[#This Row],[Alias]],#REF!,2,FALSE)","v":{"$error":"#REF!"}},null,"ALD11026011","BOUTON POUSSOIR VMC"]
["ALD11025087",null,"KIT MOT.SECOURS VEC200AB/COND",null,null,{"$f":"LEFT(Catalogue[[#This Row],[Référence]],3)","v":"ALD"},{"$f":"VLOOKUP(Catalogue[[#This Row],[Alias]],#REF!,2,FALSE)","v":{"$error":"#REF!"}},null,"ALD11026015","GRILLE PLASTIQUE FIXE BIP AVEC MANCHETTE TRIDENT D125 MM - BLANC"]
["ALD11025088",null,"MOT. SECOURS M 20W 2MF  ALD25088",null,null,{"$f":"LEFT(Catalogue[[#This Row],[Référence]],3)","v":"ALD"},{"$f":"VLOOKUP(Catalogue[[#This Row],[Alias]],#REF!,2,FALSE)","v":{"$error":"#REF!"}},null,"ALD11026021","KIT SANITAIRE 15M/H3"]
["ALD11025089",null,"KIT MOTEUR DE SECOURS MINIVEC AB",null,null,{"$f":"LEFT(Catalogue[[#This Row],[Référence]],3)","v":"ALD"},{"$f":"VLOOKUP(Catalogue[[#This Row],[Alias]],#REF!,2,FALSE)","v":{"$error":"#REF!"}},null,"ALD11026022","KIT SANITAIRE 30M3/H"]
["ALD11025181",null,"ARMOIRE ELECTRIQUE VEC271B 0.55 KW MONOPHASE",null,null,{"$f":"LEFT(Catalogue[[#This Row],[Référence]],3)","v":"ALD"},{"$f":"VLOOKUP(Catalogue[[#This Row],[Alias]],#REF!,2,FALSE)","v":{"$error":"#REF!"}},null,"ALD11026031","GROUPE VMC SIMPLE FLUX EASYHOME AUTO COMBLES"]
["ALD11025182",null,"ARMOIRE ELECTRIQUE VEC271B 0.75 KW MONOPHASE",null,null,{"$f":"LEFT(Catalogue[[#This Row],[Référence]],3)","v":"ALD"},{"$f":"VLOOKUP(Catalogue[[#This Row],[Alias]],#REF!,2,FALSE)","v":{"$error":"#REF!"}},null,"ALD11026031S","GROUPE VMC SIMPLE FLUX EASYHOME AUTO COMBLES L"]
["ALD11025183",null,"ARMOIRE ELECTRIQUE VEC321B 0.75 KW MONOPHASE",null,null,{"$f":"LEFT(Catalogue[[#This Row],[Référence]],3)","v":"ALD"},{"$f":"VLOOKUP(Catalogue[[#This Row],[Alias]],#REF!,2,FALSE)","v":{"$error":"#REF!"}},null,"ALD11026032","KIT VMC SIMPLE FLUX EASYHOME AUTO COMBLES + 3 GRILLES BIP"]
["ALD11025184",null,"ARMOIRE ELECTRIQUE VEC321C 0.75 KW MONOPHASE",null,null,{"$f":"LEFT(Catalogue[[#This Row],[Référence]],3)","v":"ALD"},{"$f":"VLOOKUP(Catalogue[[#This Row],[Alias]],#REF!,2,FALSE)","v":{"$error":"#REF!"}},null,"ALD11026032S","VMC KIT EASYHOME AUTO"]
["ALD11025188",null,"ARMOIRE ELECTRIQUE VEC382C 2.2 KW MONOPHASE",null,null,{"$f":"LEFT(Catalogue[[#This Row],[Référence]],3)","v":"ALD"},{"$f":"VLOOKUP(Catalogue[[#This Row],[Alias]],#REF!,2,FALSE)","v":{"$error":"#REF!"}},null,"ALD11026033","KIT VMC SIMPLE FLUX EASYHOME AUTO COMBLES + 3 GRILLES COLORLINE"]
["ALD11025237",null,"MOTO-VENTILATEUR VEC240/CVEC1500 AB",null,null,{"$f":"LEFT(Catalogue[[#This Row],[Référence]],3)","v":"ALD"},{"$f":"VLOOKUP(Catalogue[[#This Row],[Alias]],#REF!,2,FALSE)","v":{"$error":"#REF!"}},null,"ALD11026034","GROUPE VMC SIMPLE FLUX EASYHOME AUTO COMPACT"]
["ALD11025764",null,"COURROIE SECTION A - LP 1280",null,null,{"$f":"LEFT(Catalogue[[#This Row],[Référence]],3)","v":"ALD"},{"$f":"VLOOKUP(Catalogue[[#This Row],[Alias]],#REF!,2,FALSE)","v":{"$error":"#REF!"}},null,"ALD11026035","KIT VMC SIMPLE FLUX EASYHOME AUTO COMPACT + 3 GRILLES DE VENTILATION BIP"]
["ALD11026002",null,"LIAISON ACOUSTIQUE POUR EXTRACTION CUISINE D125",null,null,{"$f":"LEFT(Catalogue[[#This Row],[Référence]],3)","v":"ALD"},{"$f":"VLOOKUP(Catalogue[[#This Row],[Alias]],#REF!,2,FALSE)","v":{"$error":"#REF!"}},null,"ALD11026036","KIT VMC SIMPLE FLUX EASYHOME AUTO COMPACT + 3 GRILLES DE VENTILATION COLORLINE"]
["ALD11026011",null,"BOUTON POUSSOIR VMC",null,null,{"$f":"LEFT(Catalogue[[#This Row],[Référence]],3)","v":"ALD"},{"$f":"VLOOKUP(Catalogue[[#This Row],[Alias]],#REF!,2,FALSE)","v":{"$error":"#REF!"}},null,"ALD11026040","KIT COMPLEMENTAIRE WC + GRILLE DE VENTILATION BIP POUR EASYHOME AUTO"]
["ALD11026015",null,"GRILLE PLASTIQUE FIXE BIP AVEC MANCHETTE TRIDENT D125 MM - BLANC",null,null,{"$f":"LEFT(Catalogue[[#This Row],[Référence]],3)","v":"ALD"},{"$f":"VLOOKUP(Catalogue[[#This Row],[Alias]],#REF!,2,FALSE)","v":{"$error":"#REF!"}},null,"ALD11026041","KIT COMPLEMENTAIRE BAIN + GRILLE DE VENTILATION BIP POUR EASYHOME AUTO"]
["ALD11026021",null,"KIT SANITAIRE 15M/H3",null,null,{"$f":"LEFT(Catalogue[[#This Row],[Référence]],3)","v":"ALD"},{"$f":"VLOOKUP(Catalogue[[#This Row],[Alias]],#REF!,2,FALSE)","v":{"$error":"#REF!"}},null,"ALD11026100","GROUPE COMPACT"]
["ALD11026022",null,"KIT SANITAIRE 30M3/H",null,null,{"$f":"LEFT(Catalogue[[#This Row],[Référence]],3)","v":"ALD"},{"$f":"VLOOKUP(Catalogue[[#This Row],[Alias]],#REF!,2,FALSE)","v":{"$error":"#REF!"}},null,"ALD11026100S","GROUPE COMPACT"]
["ALD11026031",null,"GROUPE VMC SIMPLE FLUX EASYHOME AUTO COMBLES",null,null,{"$f":"LEFT(Catalogue[[#This Row],[Référence]],3)","v":"ALD"},{"$f":"VLOOKUP(Catalogue[[#This Row],[Alias]],#REF!,2,FALSE)","v":{"$error":"#REF!"}},null,"ALD11026101","KIT COMPACT"]
["ALD11026031S","Non concerné","GROUPE VMC SIMPLE FLUX EASYHOME AUTO COMBLES L",40,2000007353329,{"$f":"LEFT(Catalogue[[#This Row],[Référence]],3)","v":"ALD"},{"$f":"VLOOKUP(Catalogue[[#This Row],[Alias]],#REF!,2,FALSE)","v":{"$error":"#REF!"}},null,"ALD11026101S","KIT COMPACT VMC"]
["ALD11026031S",null,"GROUPE VMC SIMPLE FLUX EASYHOME AUTO COMBLES L",null,null,{"$f":"LEFT(Catalogue[[#This Row],[Référence]],3)","v":"ALD"},{"$f":"VLOOKUP(Catalogue[[#This Row],[Alias]],#REF!,2,FALSE)","v":{"$error":"#REF!"}},null,"ALD11026103","MULTI"]
["ALD11026032",null,"KIT VMC SIMPLE FLUX EASYHOME AUTO COMBLES + 3 GRILLES BIP",null,null,{"$f":"LEFT(Catalogue[[#This Row],[Référence]],3)","v":"ALD"},{"$f":"VLOOKUP(Catalogue[[#This Row],[Alias]],#REF!,2,FALSE)","v":{"$error":"#REF!"}},null,"ALD11026104","EXTRACTEUR PERMANENT MONO POUR VMC REPARTIE AVEC DEBIT AU CHOIX 15/30/45 M3/H"]
["ALD11026032S","Non concerné","VMC KIT EASYHOME AUTO",30,2000007349247,{"$f":"LEFT(Catalogue[[#This Row],[Référence]],3)","v":"ALD"},{"$f":"VLOOKUP(Catalogue[[#This Row],[Alias]],#REF!,2,FALSE)","v":{"$error":"#REF!"}},null,"ALD11026113","GROUPE SEKOIA"]
["ALD11026032S",null,"VMC KIT EASYHOME AUTO",null,null,{"$f":"LEFT(Catalogue[[#This Row],[Référence]],3)","v":"ALD"},{"$f":"VLOOKUP(Catalogue[[#This Row],[Alias]],#REF!,2,FALSE)","v":{"$error":"#REF!"}},null,"ALD11026113S","CAISSON VMC SEKOIA"]
["ALD11026033",null,"KIT VMC SIMPLE FLUX EASYHOME AUTO COMBLES + 3 GRILLES COLORLINE",null,null,{"$f":"LEFT(Catalogue[[#This Row],[Référence]],3)","v":"ALD"},{"$f":"VLOOKUP(Catalogue[[#This Row],[Alias]],#REF!,2,FALSE)","v":{"$error":"#REF!"}},null,"ALD11026121","GROUPE SEKOIA RADIO FC 03/02/2016"]
["ALD11026034",null,"GROUPE VMC SIMPLE FLUX EASYHOME AUTO COMPACT",null,null,{"$f":"LEFT(Catalogue[[#This Row],[Référence]],3)","v":"ALD"},{"$f":"VLOOKUP(Catalogue[[#This Row],[Alias]],#REF!,2,FALSE)","v":{"$error":"#REF!"}},null,"ALD11027046","SOUS-ENSEMBLE DE MOTEURS DE SECOURS MVH 2 VITESSES (SAV)"]
["ALD11026035",null,{"$f":"VLOOKUP(A1986,I:J,2,0)","v":"KIT VMC SIMPLE FLUX EASYHOME AUTO COMPACT + 3 GRILLES DE VENTILATION BIP"},null,null,{"$f":"LEFT(Catalogue[[#This Row],[Référence]],3)","v":"ALD"},{"$f":"VLOOKUP(Catalogue[[#This Row],[Alias]],#REF!,2,FALSE)","v":{"$error":"#REF!"}},null,"ALD11027162","ISOLANT OPTIFLEX D90 6M"]
["ALD11026036",null,"KIT VMC SIMPLE FLUX EASYHOME AUTO COMPACT + 3 GRILLES DE VENTILATION COLORLINE",null,null,{"$f":"LEFT(Catalogue[[#This Row],[Référence]],3)","v":"ALD"},{"$f":"VLOOKUP(Catalogue[[#This Row],[Alias]],#REF!,2,FALSE)","v":{"$error":"#REF!"}},null,"ALD11028048","FILTRE RECHANGE G4 VIK.2"]
["ALD11026040",null,"KIT COMPLEMENTAIRE WC + GRILLE DE VENTILATION BIP POUR EASYHOME AUTO",null,null,{"$f":"LEFT(Catalogue[[#This Row],[Référence]],3)","v":"ALD"},{"$f":"VLOOKUP(Catalogue[[#This Row],[Alias]],#REF!,2,FALSE)","v":{"$error":"#REF!"}},null,"ALD11028049","FILTRE DE RECHANGE F5 POUR VIK NDEG 1"]
["ALD11026041",null,"KIT COMPLEMENTAIRE BAIN + GRILLE DE VENTILATION BIP POUR EASYHOME AUTO",null,null,{"$f":"LEFT(Catalogue[[#This Row],[Référence]],3)","v":"ALD"},{"$f":"VLOOKUP(Catalogue[[#This Row],[Alias]],#REF!,2,FALSE)","v":{"$error":"#REF!"}},null,"ALD11028050","FILTRE DE RECHANGE G4 POUR VIK NDEG 1"]
["ALD11026100",null,"GROUPE COMPACT",null,null,{"$f":"LEFT(Catalogue[[#This Row],[Référence]],3)","v":"ALD"},{"$f":"VLOOKUP(Catalogue[[#This Row],[Alias]],#REF!,2,FALSE)","v":{"$error":"#REF!"}},null,"ALD11029762S","FILTRE G4 DIM L276 LG208"]
["ALD11026100S","Non concerné","GROUPE COMPACT",40,2000007350380,{"$f":"LEFT(Catalogue[[#This Row],[Référence]],3)","v":"ALD"},{"$f":"VLOOKUP(Catalogue[[#This Row],[Alias]],#REF!,2,FALSE)","v":{"$error":"#REF!"}},null,"ALD11030102","SORTIE DE TOITURE D315 FINISSION TUILE"]
["ALD11026100S",null,"GROUPE COMPACT",null,null,{"$f":"LEFT(Catalogue[[#This Row],[Référence]],3)","v":"ALD"},{"$f":"VLOOKUP(Catalogue[[#This Row],[Alias]],#REF!,2,FALSE)","v":{"$error":"#REF!"}},null,"ALD11030108","SORTIE DE TOIT 160 EN ACIER GALVANISE POUR TUILES"]
["ALD11026101",null,"KIT COMPACT",null,null,{"$f":"LEFT(Catalogue[[#This Row],[Référence]],3)","v":"ALD"},{"$f":"VLOOKUP(Catalogue[[#This Row],[Alias]],#REF!,2,FALSE)","v":{"$error":"#REF!"}},null,"ALD11030110","SORTIE DE TOIT STANDARD EN ACIER GALVANISE"]
["ALD11026101S","Non concerné","KIT COMPACT VMC",50,2000007348868,{"$f":"LEFT(Catalogue[[#This Row],[Référence]],3)","v":"ALD"},{"$f":"VLOOKUP(Catalogue[[#This Row],[Alias]],#REF!,2,FALSE)","v":{"$error":"#REF!"}},null,"ALD11032001","VENTILATEUR DE CONDUIT VC 160"]
["ALD11026101S",null,"KIT COMPACT VMC",null,null,{"$f":"LEFT(Catalogue[[#This Row],[Référence]],3)","v":"ALD"},{"$f":"VLOOKUP(Catalogue[[#This Row],[Alias]],#REF!,2,FALSE)","v":{"$error":"#REF!"}},null,"ALD11032101","COLLIER ANTIVIBRATIL D160"]
["ALD11026103",null,"MULTI",null,null,{"$f":"LEFT(Catalogue[[#This Row],[Référence]],3)","v":"ALD"},{"$f":"VLOOKUP(Catalogue[[#This Row],[Alias]],#REF!,2,FALSE)","v":{"$error":"#REF!"}},null,"ALD11032104","COLLIER ANTIVIBRATIL D125"]
["ALD11026104",null,"EXTRACTEUR PERMANENT MONO POUR VMC REPARTIE AVEC DEBIT AU CHOIX 15/30/45 M3/H",null,null,{"$f":"LEFT(Catalogue[[#This Row],[Référence]],3)","v":"ALD"},{"$f":"VLOOKUP(Catalogue[[#This Row],[Alias]],#REF!,2,FALSE)","v":{"$error":"#REF!"}},null,"ALD11033007","MANCHETTE TRIDENT EN PLASTIQUE D125 UNIVERSELLE HAUTEUR 125MM"]
["ALD11026113",null,"GROUPE SEKOIA",null,null,{"$f":"LEFT(Catalogue[[#This Row],[Référence]],3)","v":"ALD"},{"$f":"VLOOKUP(Catalogue[[#This Row],[Alias]],#REF!,2,FALSE)","v":{"$error":"#REF!"}},null,"ALD11033015","KIT DE FIXATION MURALE POUR GROUPE EASYHOME COMBLES"]
["ALD11026113S","Non concerné","CAISSON VMC SEKOIA",40,2000003621927,{"$f":"LEFT(Catalogue[[#This Row],[Référence]],3)","v":"ALD"},{"$f":"VLOOKUP(Catalogue[[#This Row],[Alias]],#REF!,2,FALSE)","v":{"$error":"#REF!"}},null,"ALD11033016","EASYCLIP COLLIER + RACCORD DIAM 160 MM POUR CONDUIT SOUPLE ALGAINE"]
["ALD11026113S",null,"CAISSON VMC SEKOIA",null,null,{"$f":"LEFT(Catalogue[[#This Row],[Référence]],3)","v":"ALD"},{"$f":"VLOOKUP(Catalogue[[#This Row],[Alias]],#REF!,2,FALSE)","v":{"$error":"#REF!"}},null,"ALD11033025","GPE EASYHOME HYGRO COMPACT PREMIUM HP+"]
["ALD11033025",null,"GPE EASYHOME HYGRO COMPACT PREMIUM HP+",null,null,{"$f":"LEFT(Catalogue[[#This Row],[Référence]],3)","v":"ALD"},{"$f":"VLOOKUP(Catalogue[[#This Row],[Alias]],#REF!,2,FALSE)","v":{"$error":"#REF!"}},null,"ALD11033090","GROUPE OPTIMA MICROWATT"]
["ALD11033032",null,"KIT VMC SIMPLE FLUX EASYHOME HYGRO COMBLES CLASSIC + CORDELETTE",null,null,{"$f":"LEFT(Catalogue[[#This Row],[Référence]],3)","v":"ALD"},{"$f":"VLOOKUP(Catalogue[[#This Row],[Alias]],#REF!,2,FALSE)","v":{"$error":"#REF!"}},null,"ALD11033114","GROUPE COMPACT MICROWATT (REFOUL. D160)"]
["ALD11034313",null,"COURROIE SECTION A - LP 1244",null,null,{"$f":"LEFT(Catalogue[[#This Row],[Référence]],3)","v":"ALD"},{"$f":"VLOOKUP(Catalogue[[#This Row],[Alias]],#REF!,2,FALSE)","v":{"$error":"#REF!"}},null,"ALD11034383","BOITE ELECTRIQUE / PRESSOSTAT"]
["ALD11034331",null,"POULIE VARIABLE 108/19/6",null,null,{"$f":"LEFT(Catalogue[[#This Row],[Référence]],3)","v":"ALD"},{"$f":"VLOOKUP(Catalogue[[#This Row],[Alias]],#REF!,2,FALSE)","v":{"$error":"#REF!"}},null,"ALD11034445","PIQUAGE EASYVEC T6 D500"]
["ALD11034462",null,"BOUCHON EASYVEC T3",null,null,{"$f":"LEFT(Catalogue[[#This Row],[Référence]],3)","v":"ALD"},{"$f":"VLOOKUP(Catalogue[[#This Row],[Alias]],#REF!,2,FALSE)","v":{"$error":"#REF!"}},null,"ALD11034783","EasyVEC C4 1000 arrgt 2 IP DP"]
["ALD11034722",null,"EasyVEC C4 700  arrgt 2 IP",null,null,{"$f":"LEFT(Catalogue[[#This Row],[Référence]],3)","v":"ALD"},{"$f":"VLOOKUP(Catalogue[[#This Row],[Alias]],#REF!,2,FALSE)","v":{"$error":"#REF!"}},null,"ALD11034954","EASYVEC C4 STD 1000"]
["ALD11034951",null,"EASYVEC C4 STD 400 DEPRESSOSTAT (ANC. ALD11034780)",null,null,{"$f":"LEFT(Catalogue[[#This Row],[Référence]],3)","v":"ALD"},{"$f":"VLOOKUP(Catalogue[[#This Row],[Alias]],#REF!,2,FALSE)","v":{"$error":"#REF!"}},null,"ALD11039387","COURROIE SECTION SPA - LP 1950 CYCLONE F400-120 - MODELE 315A-B"]
["ALD11039387",null,"COURROIE SECTION SPA - LP 1950 CYCLONE F400-120 - MODELE 315A-B",null,null,{"$f":"LEFT(Catalogue[[#This Row],[Référence]],3)","v":"ALD"},{"$f":"VLOOKUP(Catalogue[[#This Row],[Alias]],#REF!,2,FALSE)","v":{"$error":"#REF!"}},null,"ALD11052292","TERMINAL BIM2 300 - ALU - BLANC - SOUFFLAGE MURAL OU REPRISE MURAL/PLAFOND D125"]
["ALD11050264",null,"GRILLE EMBOUTIE INTERIEURE EN ACIER SR 377 400X150 MM",null,null,{"$f":"LEFT(Catalogue[[#This Row],[Référence]],3)","v":"ALD"},{"$f":"VLOOKUP(Catalogue[[#This Row],[Alias]],#REF!,2,FALSE)","v":{"$error":"#REF!"}},null,"ALD11056082","MOTEUR DE SECOURS CVEC 1500"]
["ALD11056120",null,"MANCHETTE REFOULEMENT M0 + CADRE - DIAMETRE 250 MM",null,null,{"$f":"LEFT(Catalogue[[#This Row],[Référence]],3)","v":"ALD"},{"$f":"VLOOKUP(Catalogue[[#This Row],[Alias]],#REF!,2,FALSE)","v":{"$error":"#REF!"}},null,"ALD11058100","KIT FILTRE G4 DFE 450"]
["ALD11057056",null,"DISJONCTEUR 11A-16A",null,null,{"$f":"LEFT(Catalogue[[#This Row],[Référence]],3)","v":"ALD"},{"$f":"VLOOKUP(Catalogue[[#This Row],[Alias]],#REF!,2,FALSE)","v":{"$error":"#REF!"}},null,"ALD11059119","SOUS-ENSEMBLE VENTILATEUR INOVEC 6500/8000 RH (381)"]
["ALD11058394",null,"FILTRE F7 DFS 1000 / 1500",null,null,{"$f":"LEFT(Catalogue[[#This Row],[Référence]],3)","v":"ALD"},{"$f":"VLOOKUP(Catalogue[[#This Row],[Alias]],#REF!,2,FALSE)","v":{"$error":"#REF!"}},null,"ALD11059144","VARIATEUR DE FREQUENCE VEC321B 0.75 KW MONOPHASE"]
["ALD11059131",null,"POULIE FIXE 170.1 SPA AL25",null,null,{"$f":"LEFT(Catalogue[[#This Row],[Référence]],3)","v":"ALD"},{"$f":"VLOOKUP(Catalogue[[#This Row],[Alias]],#REF!,2,FALSE)","v":{"$error":"#REF!"}},null,"ALD11086024","VARIATEUR ELECTRIQUE MONOPHASE 3A"]
["ALD11059490",null,"KIT FILTRE G4+F7 DFE+/DFE+TOP 1200",null,null,{"$f":"LEFT(Catalogue[[#This Row],[Référence]],3)","v":"ALD"},{"$f":"VLOOKUP(Catalogue[[#This Row],[Alias]],#REF!,2,FALSE)","v":{"$error":"#REF!"}},null,"ALD11091013","ROULEAUX BANDE ADHESIVE ALU : RAA DE 50 M ET DE LARGEUR DE 50 MM"]
["ALD11090027",null,"MICRO MANOMETRE MPS + MALETTE",null,null,{"$f":"LEFT(Catalogue[[#This Row],[Référence]],3)","v":"ALD"},{"$f":"VLOOKUP(Catalogue[[#This Row],[Alias]],#REF!,2,FALSE)","v":{"$error":"#REF!"}},null,"ALD11091230","ELEMENT D ETAGE GALVA DE 2,47 METRES ET DE DIAMETRE 400 MM"]
["ALD11091337",null,"CONDUIT SEMI RIGIDE L 3M ALFLEX GAZ DIAMETRE 150 MM",null,null,{"$f":"LEFT(Catalogue[[#This Row],[Référence]],3)","v":"ALD"},{"$f":"VLOOKUP(Catalogue[[#This Row],[Alias]],#REF!,2,FALSE)","v":{"$error":"#REF!"}},null,"ALD11091630","FILET DE 6M ALGAINE ARMEE FIBRE D125"]
["ALD11091621",null,"FILET DE 6M ALGAINE ISOLEE D125",null,null,{"$f":"LEFT(Catalogue[[#This Row],[Référence]],3)","v":"ALD"},{"$f":"VLOOKUP(Catalogue[[#This Row],[Alias]],#REF!,2,FALSE)","v":{"$error":"#REF!"}},null,"ALD11091830","CONDUIT SEMI RIGIDE L 3M ALFLEX ALU COMPACT DIAMETRE 400 MM"]
["ALD11091809",null,"CONDUIT SEMI RIGIDE L 3M ALFLEX GALVA DIAMETRE 355 MM",null,null,{"$f":"LEFT(Catalogue[[#This Row],[Référence]],3)","v":"ALD"},{"$f":"VLOOKUP(Catalogue[[#This Row],[Alias]],#REF!,2,FALSE)","v":{"$error":"#REF!"}},null,"ALD11091898","COUDE OPTIFLEX A 90DEG  POUR CONDUIT D90"]
["ALD11091830",null,"CONDUIT SEMI RIGIDE L 3M ALFLEX ALU COMPACT DIAMETRE 400 MM",null,null,{"$f":"LEFT(Catalogue[[#This Row],[Référence]],3)","v":"ALD"},{"$f":"VLOOKUP(Catalogue[[#This Row],[Alias]],#REF!,2,FALSE)","v":{"$error":"#REF!"}},null,"ALD11091921","CONDUIT FLEXIBLE SOUPLE L 10M ALGAINE ALU CALORIFUGE M0-M1 DIAMETRE 250MM"]
["ALD11091916",null,"CONDUIT FLEXIBLE SOUPLE L 10M ALGAINE ALU CALORIFUGE M0-M1 DIAMETRE 100MM",null,null,{"$f":"LEFT(Catalogue[[#This Row],[Référence]],3)","v":"ALD"},{"$f":"VLOOKUP(Catalogue[[#This Row],[Alias]],#REF!,2,FALSE)","v":{"$error":"#REF!"}},null,"ALD11093308","COUDE GALVANISE 90DEG  - DIAMETRE 315 MM"]
["ALD11093073",null,"RACCORD FEMELLE GALVA - DIAMETRE 630 MM",null,null,{"$f":"LEFT(Catalogue[[#This Row],[Référence]],3)","v":"ALD"},{"$f":"VLOOKUP(Catalogue[[#This Row],[Alias]],#REF!,2,FALSE)","v":{"$error":"#REF!"}},null,"ALD11093410","BOUCHON MALE GALVANISE - DIAMETRE D400"]
["ALD11093466",null,"REDUCTION PLATE CONCENTRIQUE GALVANISE RPC - DIAMETRE 355/315",null,null,{"$f":"LEFT(Catalogue[[#This Row],[Référence]],3)","v":"ALD"},{"$f":"VLOOKUP(Catalogue[[#This Row],[Alias]],#REF!,2,FALSE)","v":{"$error":"#REF!"}},null,"ALD11093602","CAISSON PIQUAGE GALVANISE - DIAMETRE 200/315 MM"]
["ALD11093535",null,"REDUCTION CONIQUE CONCENTRIQUE GALVANISE - DIAMETRE 630/400 MM",null,null,{"$f":"LEFT(Catalogue[[#This Row],[Référence]],3)","v":"ALD"},{"$f":"VLOOKUP(Catalogue[[#This Row],[Alias]],#REF!,2,FALSE)","v":{"$error":"#REF!"}},null,"ALD11094615","PIQUAGE EQUERRE PLAT GALVANISE - DIAMETRE 200 MM"]
["ALD11094442",null,"REGISTRE GALVANISE - DIAMETRE 160 MM",null,null,{"$f":"LEFT(Catalogue[[#This Row],[Référence]],3)","v":"ALD"},{"$f":"VLOOKUP(Catalogue[[#This Row],[Alias]],#REF!,2,FALSE)","v":{"$error":"#REF!"}},null,"ALD11094692","MANCHETTE SOUPLE MS PRO M0 - DIAMETRE 200 MM"]
["ALD11094637",null,"PIEGE A SON CIRCULAIRE OCTA D355 A JOINT - ISOLATION LAINE MINERALE 100MM - M0",null,null,{"$f":"LEFT(Catalogue[[#This Row],[Référence]],3)","v":"ALD"},{"$f":"VLOOKUP(Catalogue[[#This Row],[Alias]],#REF!,2,FALSE)","v":{"$error":"#REF!"}},null,"ALD11095052","RACCORD MALE RM ALUMINIUM - DIAMETRE 500 MM"]
["ALD11094993",null,"PIEGE A SON CIRCULAIRE OCTA A BAFFLE D400 A JOINT - ISOLATION  50MM - M0",null,null,{"$f":"LEFT(Catalogue[[#This Row],[Référence]],3)","v":"ALD"},{"$f":"VLOOKUP(Catalogue[[#This Row],[Alias]],#REF!,2,FALSE)","v":{"$error":"#REF!"}},null,"ALD11095512","REDUCTION CONIQUE CONCENTRIQUE ALUMINIUM - DIAMETRE 315/250"]
["ALD11095107",null,"TE EQUERRE ALUMINIUM : TE 90DEG  - DIAMETRE 125/125",null,null,{"$f":"LEFT(Catalogue[[#This Row],[Référence]],3)","v":"ALD"},{"$f":"VLOOKUP(Catalogue[[#This Row],[Alias]],#REF!,2,FALSE)","v":{"$error":"#REF!"}},null,"ALD11096931","MANCHETTE SOUPLE DIAMETRE 800 CYCLONE F400-120 - MODELE 450 ET 500"]
["ALD11095522",null,"REDUCTION CONIQUE CONCENTRIQUE ALUMINIUM - DIAMETRE 400/315",null,null,{"$f":"LEFT(Catalogue[[#This Row],[Référence]],3)","v":"ALD"},{"$f":"VLOOKUP(Catalogue[[#This Row],[Alias]],#REF!,2,FALSE)","v":{"$error":"#REF!"}},null,"ALD11098188","REDUCTION CONIQUE CONCENTRIQUE GALVANIQUE A JOINT - DIAMETRE 250/160"]
["ALD11100202",null,{"$f":"VLOOKUP(A2626,I:J,2,0)","v":"KIT MOTEUR CVEC 2500 MW + RV"},null,null,{"$f":"LEFT(Catalogue[[#This Row],[Référence]],3)","v":"ALD"},{"$f":"VLOOKUP(Catalogue[[#This Row],[Alias]],#REF!,2,FALSE)","v":{"$error":"#REF!"}},null,"ALD11123788","CARTE ELECTRONIQUE PRINCIPALE C3000"]
["ALD11122009",null,"PIEGE A SON ABSORB SON RACCORD D80",null,null,{"$f":"LEFT(Catalogue[[#This Row],[Référence]],3)","v":"ALD"},{"$f":"VLOOKUP(Catalogue[[#This Row],[Alias]],#REF!,2,FALSE)","v":{"$error":"#REF!"}},null,"ALD11125693","SOUS-ENSEMBLE MOTEUR + ROUE EASYVEC 700 MW"]
["ALD11125059",null,"SOUS-ENSEMBLE VENTILATEUR TYPE 382 REGLE B CONFIGURE",null,null,{"$f":"LEFT(Catalogue[[#This Row],[Référence]],3)","v":"ALD"},{"$f":"VLOOKUP(Catalogue[[#This Row],[Alias]],#REF!,2,FALSE)","v":{"$error":"#REF!"}},null,"ALD11125902","COURROIE SECTION SPA-LP 1400"]
["ALD11125702",null,"MOTEUR EASYVEC 1500 STANDARD",null,null,{"$f":"LEFT(Catalogue[[#This Row],[Référence]],3)","v":"ALD"},{"$f":"VLOOKUP(Catalogue[[#This Row],[Alias]],#REF!,2,FALSE)","v":{"$error":"#REF!"}},null,"ALD11138971","ROUE R63 D1 450X140 AL19"]
["ALD11129747",null,"CARTE ELECTRONIQUE DEE FLY MW AUTO/HYGRO",null,null,{"$f":"LEFT(Catalogue[[#This Row],[Référence]],3)","v":"ALD"},{"$f":"VLOOKUP(Catalogue[[#This Row],[Alias]],#REF!,2,FALSE)","v":{"$error":"#REF!"}},null,"ALD11156585","COURROIE SECTION SPA-LP 982"]
["ALD11138984",null,"MOTEUR TRI PM B3 0.55KW",null,null,{"$f":"LEFT(Catalogue[[#This Row],[Référence]],3)","v":"ALD"},{"$f":"VLOOKUP(Catalogue[[#This Row],[Alias]],#REF!,2,FALSE)","v":{"$error":"#REF!"}},null,"ALD11170421","SUCEUR FIN FLEXIBLE POUR ASPIRATEUR CENTRALISEE, UTILE POUR LES PASSAGES ETROITS"]
["ALD11186150",null,"VERIN THERMIQUE 220-240V (PAR 5)",null,null,{"$f":"LEFT(Catalogue[[#This Row],[Référence]],3)","v":"ALD"},{"$f":"VLOOKUP(Catalogue[[#This Row],[Alias]],#REF!,2,FALSE)","v":{"$error":"#REF!"}},null,"ALD35111044","CICULATEUR UPS SOLAR 15-20/130 FC 19/02/2018"]
["ALD35012056",null,"COMMANDE CENTRALISEE T.ONE REV. (OLD)",null,null,{"$f":"LEFT(Catalogue[[#This Row],[Référence]],3)","v":"ALD"},{"$f":"VLOOKUP(Catalogue[[#This Row],[Alias]],#REF!,2,FALSE)","v":{"$error":"#REF!"}},null,"ALD35121195","KIT RACCORD DIELECTRIQUE FC 06/16"]
["ALD35111045",null,"VASE D EXPANSION 0.5L PRE-CHARGE 0.5B",null,null,{"$f":"LEFT(Catalogue[[#This Row],[Référence]],3)","v":"ALD"},{"$f":"VLOOKUP(Catalogue[[#This Row],[Alias]],#REF!,2,FALSE)","v":{"$error":"#REF!"}},null,"ALD35122344","CARTE REGULATION UNITE INTERIEURE OPHELY FUSION+"]
["ALD35122179",null,"TORON MONO OPHELY DUO AUTOMATE (fds SAV)",null,null,{"$f":"LEFT(Catalogue[[#This Row],[Référence]],3)","v":"ALD"},{"$f":"VLOOKUP(Catalogue[[#This Row],[Alias]],#REF!,2,FALSE)","v":{"$error":"#REF!"}},null,"ALD35155005","JEU SONDES RBC04/05/06MX M R410A - R32"]
["ALD35122409",null,"KIT CABLE USB-NAPPE IHM TF H+/NANO",null,null,{"$f":"LEFT(Catalogue[[#This Row],[Référence]],3)","v":"ALD"},{"$f":"VLOOKUP(Catalogue[[#This Row],[Alias]],#REF!,2,FALSE)","v":{"$error":"#REF!"}},null,"ALD35700261","UNITE EXTERIEURE POUR POMPE A CHALEUR T.ONE TAILLE 04"]
["ALD35153027S","Non concerné",{"$error":"#N/A"},430,2000007346086,{"$f":"LEFT(Catalogue[[#This Row],[Référence]],3)","v":"ALD"},{"$f":"VLOOKUP(Catalogue[[#This Row],[Alias]],#REF!,2,FALSE)","v":{"$error":"#REF!"}},null,"ALT1080ALT2","RAC 51M COMPT S/TR 15X21-15X21 (2)"]
["ALT101279200",null,"POMPE RELEVAGE ALTECH LPC 300W",null,null,{"$f":"LEFT(Catalogue[[#This Row],[Référence]],3)","v":"ALT"},{"$f":"VLOOKUP(Catalogue[[#This Row],[Alias]],#REF!,2,FALSE)","v":{"$error":"#REF!"}},null,"ALT201841","FLEX PLOMB FF 15X21 DN13 L 300"]
["ALT1831",null,"CART ANTI-CALC + ANTI CORRO    1831",null,null,{"$f":"LEFT(Catalogue[[#This Row],[Référence]],3)","v":"ALT"},{"$f":"VLOOKUP(Catalogue[[#This Row],[Alias]],#REF!,2,FALSE)","v":{"$error":"#REF!"}},null,"ALT207242","FLEX CHAUF FF 20X27 DN19 800MM"]
["ALT201860",null,"FLEX PLOMB FF 20X27 DN13 COUD L 300",null,null,{"$f":"LEFT(Catalogue[[#This Row],[Référence]],3)","v":"ALT"},{"$f":"VLOOKUP(Catalogue[[#This Row],[Alias]],#REF!,2,FALSE)","v":{"$error":"#REF!"}},null,"ALT3000632","CEE ALTECH 200L VT THERMOPL"]
["ALT207254",null,"FLEX CALOR EP13 FF 20X27 DN19 1000",null,null,{"$f":"LEFT(Catalogue[[#This Row],[Référence]],3)","v":"ALT"},{"$f":"VLOOKUP(Catalogue[[#This Row],[Alias]],#REF!,2,FALSE)","v":{"$error":"#REF!"}},null,"ALT511ALT2","RAC 8246R B MF(M) 33X42-40X49 (2)"]
["ALT3000629",null,"CE THERM ALTECH 300L STA D570 MO EU",null,null,{"$f":"LEFT(Catalogue[[#This Row],[Référence]],3)","v":"ALT"},{"$f":"VLOOKUP(Catalogue[[#This Row],[Alias]],#REF!,2,FALSE)","v":{"$error":"#REF!"}},null,"ALT6360080000","RTS 301ACS FF LEV R40X49 759062"]
["ALT39100000034",null,"BONDE PLAST EV A/TP PANIER      D90",null,null,{"$f":"LEFT(Catalogue[[#This Row],[Référence]],3)","v":"ALT"},{"$f":"VLOOKUP(Catalogue[[#This Row],[Alias]],#REF!,2,FALSE)","v":{"$error":"#REF!"}},null,"ALT9049","FLEX FIOUL COUD FF1/4 L750 (X2)"]
["ALTA37",null,"BDE LAV LAIT CLIC CLAC S/TP     A37",null,null,{"$f":"LEFT(Catalogue[[#This Row],[Référence]],3)","v":"ALT"},{"$f":"VLOOKUP(Catalogue[[#This Row],[Alias]],#REF!,2,FALSE)","v":{"$error":"#REF!"}},null,"ALTALT02EF5270 028","MANCHON CU 5270 EGAL FF D28 (X2)"]
["ALTALT02EF5002A028",null,"COURBE CU 5002 GR 90° FF D28 (X2)",null,null,{"$f":"LEFT(Catalogue[[#This Row],[Référence]],3)","v":"ALT"},{"$f":"VLOOKUP(Catalogue[[#This Row],[Alias]],#REF!,2,FALSE)","v":{"$error":"#REF!"}},null,"ALTALT02P4355 1404","RACC A SERTIR ECR TOURN D14X1/2 (2)"]
["ALTALT02EF5301 018",null,"BOUCHON CU 5301 ALT F D18 (X2)",null,null,{"$f":"LEFT(Catalogue[[#This Row],[Référence]],3)","v":"ALT"},{"$f":"VLOOKUP(Catalogue[[#This Row],[Alias]],#REF!,2,FALSE)","v":{"$error":"#REF!"}},null,"ALTALT02P5243 2822","REDUCT A SERTIR CU MF D28-22MM  (2)"]
["ALTALT02P4355 1403",null,"RACC A SERTIR ECR TOURN D14X3/8 (2)",null,null,{"$f":"LEFT(Catalogue[[#This Row],[Référence]],3)","v":"ALT"},{"$f":"VLOOKUP(Catalogue[[#This Row],[Alias]],#REF!,2,FALSE)","v":{"$error":"#REF!"}},null,"ALTALT10EF5001A016","COURBE CU 5001 GR 90° MF D16 (10)"]
["ALTALT02P5301 1400",null,"BOUCH A SERTIR CU F D14MM       (2)",null,null,{"$f":"LEFT(Catalogue[[#This Row],[Référence]],3)","v":"ALT"},{"$f":"VLOOKUP(Catalogue[[#This Row],[Alias]],#REF!,2,FALSE)","v":{"$error":"#REF!"}},null,"ALTALT10EF5092 016","COUDE CU 5092 PR 90° MF D16 (10)"]
["ALTALT10EF5001A016",null,"COURBE CU 5001 GR 90° MF D16 (10)",null,null,{"$f":"LEFT(Catalogue[[#This Row],[Référence]],3)","v":"ALT"},{"$f":"VLOOKUP(Catalogue[[#This Row],[Alias]],#REF!,2,FALSE)","v":{"$error":"#REF!"}},null,"ALTALT22H700L400","3602936_RAD ALTECH 4CX T22 H700 L 400  802W"]
["ALTALT25EF5040 022",null,"COUDE CU 5040 PR 45° MF D22 (25)",null,null,{"$f":"LEFT(Catalogue[[#This Row],[Référence]],3)","v":"ALT"},{"$f":"VLOOKUP(Catalogue[[#This Row],[Alias]],#REF!,2,FALSE)","v":{"$error":"#REF!"}},null,"ALTALTC21H900L800F","RAD ACI 4CX T21 H900 L800 1494W"]
["ALTALTC21H600L1200F",null,"RAD ACI 4CX T21 H600 L1200 1634W",null,null,{"$f":"LEFT(Catalogue[[#This Row],[Référence]],3)","v":"ALT"},{"$f":"VLOOKUP(Catalogue[[#This Row],[Alias]],#REF!,2,FALSE)","v":{"$error":"#REF!"}},null,"ALTALTC22H700L600F","RAD ACI 4CX T22 H700 L600 1178W"]
["ALTALTC21H700L900F",null,"RADIATEUR EAU CHAUDE ALTECH HORIZONTAL 4 CONNEXIONS TYPE21 HAUTEUR 700 LARGEUR 900 1385W",null,null,{"$f":"LEFT(Catalogue[[#This Row],[Référence]],3)","v":"ALT"},{"$f":"VLOOKUP(Catalogue[[#This Row],[Alias]],#REF!,2,FALSE)","v":{"$error":"#REF!"}},null,"ALTALTC22H900L800F","RAD ACI 4CX T22 H900 L800 1874W"]
["ALTALTC22H700L700F",null,"RAD ACI 4CX T22 H700 L700 1374W",null,null,{"$f":"LEFT(Catalogue[[#This Row],[Référence]],3)","v":"ALT"},{"$f":"VLOOKUP(Catalogue[[#This Row],[Alias]],#REF!,2,FALSE)","v":{"$error":"#REF!"}},null,"ANJ058554","RELAIS GAZ MANG DSC 24V 16A"]
["ALTAM7035T",null,"DEBIMETRE 0,5-5 L/MI",null,null,{"$f":"LEFT(Catalogue[[#This Row],[Référence]],3)","v":"ALT"},{"$f":"VLOOKUP(Catalogue[[#This Row],[Alias]],#REF!,2,FALSE)","v":{"$error":"#REF!"}},null,"ANJ0841","ENTREE D AIR AUTOREGLABLE ACOUSTIQUE MINI ESEA 15"]
["ANJ0189",null,"ENTREE D AIR AUTOREGLABLE ACOUSTIQUE 30",null,null,{"$f":"LEFT(Catalogue[[#This Row],[Référence]],3)","v":"ANJ"},{"$f":"VLOOKUP(Catalogue[[#This Row],[Alias]],#REF!,2,FALSE)","v":{"$error":"#REF!"}},null,"ANJ1706","ALIZE HYGRO TEMPO A CORDON 15/45/135 HCC06"]
["ANJ1704",null,"ALIZE HYGRO TEMPO A CORDON 10/45/120 HCC04",null,null,{"$f":"LEFT(Catalogue[[#This Row],[Référence]],3)","v":"ANJ"},{"$f":"VLOOKUP(Catalogue[[#This Row],[Alias]],#REF!,2,FALSE)","v":{"$error":"#REF!"}},null,"ANJ1912","ALIZE AUTO 45 M3/H SANS MANCHETTE"]
["ANJ1760",null,"ALIZE HYGRO VISION A PILES (3 V) 5/40/30 HVP01",null,null,{"$f":"LEFT(Catalogue[[#This Row],[Référence]],3)","v":"ANJ"},{"$f":"VLOOKUP(Catalogue[[#This Row],[Alias]],#REF!,2,FALSE)","v":{"$error":"#REF!"}},null,"ANJ2262","ALIZE AUTO 45 M3/H MANCHETTE DIAM 125 MM A JOINT"]
["ANJ1937",null,"PLATINE RENOVATION 180 X 278 MM SANS ENTRETOISE",null,null,{"$f":"LEFT(Catalogue[[#This Row],[Référence]],3)","v":"ANJ"},{"$f":"VLOOKUP(Catalogue[[#This Row],[Alias]],#REF!,2,FALSE)","v":{"$error":"#REF!"}},null,"ANJ2731","BOUCHE VMC GAZ ALUMINIUM ARF DIAM100MM"]
["ANJ2265",null,"ALIZE AUTO 90 M3/H MANCHETTE DIAM 125 MM A JOINT",null,null,{"$f":"LEFT(Catalogue[[#This Row],[Référence]],3)","v":"ANJ"},{"$f":"VLOOKUP(Catalogue[[#This Row],[Alias]],#REF!,2,FALSE)","v":{"$error":"#REF!"}},null,"AOS0071607003","THERMCPLE 850MM BT85/100(OERTL"]
["ANJ3847",null,"ALIZE TEMPO VISION 230 V 15/30 MANCHETTE",null,null,{"$f":"LEFT(Catalogue[[#This Row],[Référence]],3)","v":"ANJ"},{"$f":"VLOOKUP(Catalogue[[#This Row],[Alias]],#REF!,2,FALSE)","v":{"$error":"#REF!"}},null,"AOS0304079(S)","0304079(S) BOUGIE INCANDESCENTE BFC"]
["AOS0071607003(S)",null,"0071607003(S) THERMOCOUP.P.FPA 30-4",null,null,{"$f":"LEFT(Catalogue[[#This Row],[Référence]],3)","v":"AOS"},{"$f":"VLOOKUP(Catalogue[[#This Row],[Alias]],#REF!,2,FALSE)","v":{"$error":"#REF!"}},null,"AOSEQL 155 FR NAT","GEN ECS LOW NOX GN      EQL155FRNAT"]
["AOS0303493(S)",null,{"$f":"VLOOKUP(A3394,I:J,2,0)","v":"0303493(S) BOUGIE INCANDESCENTE"},null,null,{"$f":"LEFT(Catalogue[[#This Row],[Référence]],3)","v":"AOS"},{"$f":"VLOOKUP(Catalogue[[#This Row],[Alias]],#REF!,2,FALSE)","v":{"$error":"#REF!"}},null,"APP0011877SE","VIVAFONTE H SMART ECO  2000W"]
["AOSQ334A9749",null,"VEILLEUSE Q334A9540",null,null,{"$f":"LEFT(Catalogue[[#This Row],[Référence]],3)","v":"AOS"},{"$f":"VLOOKUP(Catalogue[[#This Row],[Alias]],#REF!,2,FALSE)","v":{"$error":"#REF!"}},null,"ARI3000592","ARI 250 STAB 570 STEA MO EU"]
["ARI3000597",null,"ARI 300 STAB 570 THER MO EU",null,null,{"$f":"LEFT(Catalogue[[#This Row],[Référence]],3)","v":"ARI"},{"$f":"VLOOKUP(Catalogue[[#This Row],[Alias]],#REF!,2,FALSE)","v":{"$error":"#REF!"}},null,"ARI3302292","NIMBUS S HYBRID 35 NET R32 FR"]
["ARI3301608",null,"CLAS ONE SYSTEM 25 KW (Chaudière Chauffage seul) - THPE",null,null,{"$f":"LEFT(Catalogue[[#This Row],[Référence]],3)","v":"ARI"},{"$f":"VLOOKUP(Catalogue[[#This Row],[Alias]],#REF!,2,FALSE)","v":{"$error":"#REF!"}},null,"ARI3319220","KIT ARISTON NET GPRS AVEC SENSYS"]
["ARI3302230",null,"NIMBUS COMPACT 150 S NET R32",null,null,{"$f":"LEFT(Catalogue[[#This Row],[Référence]],3)","v":"ARI"},{"$f":"VLOOKUP(Catalogue[[#This Row],[Alias]],#REF!,2,FALSE)","v":{"$error":"#REF!"}},null,"ARI3319574","NF-BARRETTE + EASY INST CELTIC POUR URBIA/CLAS B ONE PLUS"]
["ARI3319220",null,"KIT ARISTON NET GPRS AVEC SENSYS",null,null,{"$f":"LEFT(Catalogue[[#This Row],[Référence]],3)","v":"ARI"},{"$f":"VLOOKUP(Catalogue[[#This Row],[Alias]],#REF!,2,FALSE)","v":{"$error":"#REF!"}},null,"ARI3381564","MONOSPLIT NEVIS EVO R32 - TAILLE 25 - PACKAGE COMPLET (INT. + EXT.)"]
["ARI3319575",null,"NF-BARRETTE + EASY INST 7 ET 5 CF POUR URBIA/CLAS B ONE PLUS",null,null,{"$f":"LEFT(Catalogue[[#This Row],[Référence]],3)","v":"ARI"},{"$f":"VLOOKUP(Catalogue[[#This Row],[Alias]],#REF!,2,FALSE)","v":{"$error":"#REF!"}},null,"ATL000024","RELAIS TEMPORISE"]
["ARI3626155",null,"VLS EVO 80  FR EU",null,null,{"$f":"LEFT(Catalogue[[#This Row],[Référence]],3)","v":"ARI"},{"$f":"VLOOKUP(Catalogue[[#This Row],[Alias]],#REF!,2,FALSE)","v":{"$error":"#REF!"}},null,"ATL000163","CIRCULATEUR 1   CYTHIA-ATHENA 20-41"]
["ATL000168",null,"ANODE ACI",null,null,{"$f":"LEFT(Catalogue[[#This Row],[Référence]],3)","v":"ATL"},{"$f":"VLOOKUP(Catalogue[[#This Row],[Alias]],#REF!,2,FALSE)","v":{"$error":"#REF!"}},null,"ATL000490","ADAPTATEUR ENTREE D AIR"]
["ATL000193",null,"THERMOMETRE",null,null,{"$f":"LEFT(Catalogue[[#This Row],[Référence]],3)","v":"ATL"},{"$f":"VLOOKUP(Catalogue[[#This Row],[Alias]],#REF!,2,FALSE)","v":{"$error":"#REF!"}},null,"ATL009316","VOYANT MISE SOUS TENSION UI"]
["ATL000522",null,"ELECTRODE",null,null,{"$f":"LEFT(Catalogue[[#This Row],[Référence]],3)","v":"ATL"},{"$f":"VLOOKUP(Catalogue[[#This Row],[Alias]],#REF!,2,FALSE)","v":{"$error":"#REF!"}},null,"ATL021793","EFFINOX CONDENS 5024 (V)IR THPE"]
["ATL021242",null,"NAEMA 2 MICRO 25 - THPE",null,null,{"$f":"LEFT(Catalogue[[#This Row],[Référence]],3)","v":"ATL"},{"$f":"VLOOKUP(Catalogue[[#This Row],[Alias]],#REF!,2,FALSE)","v":{"$error":"#REF!"}},null,"ATL026091","FAISCEAU ELECT. ACI  (ELECTRO)"]
["ATL023107",null,"CEE ATLAN.    HOR  75RB M 023107",null,null,{"$f":"LEFT(Catalogue[[#This Row],[Référence]],3)","v":"ATL"},{"$f":"VLOOKUP(Catalogue[[#This Row],[Alias]],#REF!,2,FALSE)","v":{"$error":"#REF!"}},null,"ATL029249","REGULATION TEC SOLAIRE HG"]
["ATL026093",null,"BORNIER SOLAIRE + FILERIE REGULATION",null,null,{"$f":"LEFT(Catalogue[[#This Row],[Référence]],3)","v":"ATL"},{"$f":"VLOOKUP(Catalogue[[#This Row],[Alias]],#REF!,2,FALSE)","v":{"$error":"#REF!"}},null,"ATL029281","THERMOSTAT BTS 2 BULBES 82 DEG"]
["ATL029326",null,{"$f":"VLOOKUP(A3714,I:J,2,0)","v":"THERMOSTAT 1200W.MONO VS HM -ENS- ATL. 029326"},null,null,{"$f":"LEFT(Catalogue[[#This Row],[Référence]],3)","v":"ATL"},{"$f":"VLOOKUP(Catalogue[[#This Row],[Alias]],#REF!,2,FALSE)","v":{"$error":"#REF!"}},null,"ATL060005","ELECTRODE"]
["ATL030473",null,"THERMOSTAT SECURITE TSE00253",null,null,{"$f":"LEFT(Catalogue[[#This Row],[Référence]],3)","v":"ATL"},{"$f":"VLOOKUP(Catalogue[[#This Row],[Alias]],#REF!,2,FALSE)","v":{"$error":"#REF!"}},null,"ATL060179","PANNEAU REFRACTAIRE PORTE AVAN"]
["ATL060078",null,"MOTEUR",null,null,{"$f":"LEFT(Catalogue[[#This Row],[Référence]],3)","v":"ATL"},{"$f":"VLOOKUP(Catalogue[[#This Row],[Alias]],#REF!,2,FALSE)","v":{"$error":"#REF!"}},null,"ATL060430","AFFICHEUR"]
["ATL060175",null,"RESISTANCE STEATITE 1800W 230/400V",null,null,{"$f":"LEFT(Catalogue[[#This Row],[Référence]],3)","v":"ATL"},{"$f":"VLOOKUP(Catalogue[[#This Row],[Alias]],#REF!,2,FALSE)","v":{"$error":"#REF!"}},null,"ATL060455","TROMPETTE BRULEUR ST120FUV/KAV V20/27"]
["ATL060401",null,"VENTILATEUR",null,null,{"$f":"LEFT(Catalogue[[#This Row],[Référence]],3)","v":"ATL"},{"$f":"VLOOKUP(Catalogue[[#This Row],[Alias]],#REF!,2,FALSE)","v":{"$error":"#REF!"}},null,"ATL062762","JOINT"]
["ATL060480",null,"ELEMENT STEATITE 3000W + CONNECTEUR",null,null,{"$f":"LEFT(Catalogue[[#This Row],[Référence]],3)","v":"ATL"},{"$f":"VLOOKUP(Catalogue[[#This Row],[Alias]],#REF!,2,FALSE)","v":{"$error":"#REF!"}},null,"ATL070070","THERMOSTAT EMBROCHABLE L270"]
["ATL062834",null,"VISSERIE",null,null,{"$f":"LEFT(Catalogue[[#This Row],[Référence]],3)","v":"ATL"},{"$f":"VLOOKUP(Catalogue[[#This Row],[Alias]],#REF!,2,FALSE)","v":{"$error":"#REF!"}},null,"ATL070308","ELECTRODE IONISATION DIA. 11X130"]
["ATL070308",null,"ELECTRODE IONISATION DIA. 11X130",null,null,{"$f":"LEFT(Catalogue[[#This Row],[Référence]],3)","v":"ATL"},{"$f":"VLOOKUP(Catalogue[[#This Row],[Alias]],#REF!,2,FALSE)","v":{"$error":"#REF!"}},null,"ATL070934","ELECTRODE"]
["ATL070550",null,"VANNE",null,null,{"$f":"LEFT(Catalogue[[#This Row],[Référence]],3)","v":"ATL"},{"$f":"VLOOKUP(Catalogue[[#This Row],[Alias]],#REF!,2,FALSE)","v":{"$error":"#REF!"}},null,"ATL071069","RECUPERATEUR CONDENSATS"]
["ATL070934",null,"ELECTRODE",null,null,{"$f":"LEFT(Catalogue[[#This Row],[Référence]],3)","v":"ATL"},{"$f":"VLOOKUP(Catalogue[[#This Row],[Alias]],#REF!,2,FALSE)","v":{"$error":"#REF!"}},null,"ATL071443","INTERFACE"]
["ATL071108",null,"BOITIER DE COMMANDE",null,null,{"$f":"LEFT(Catalogue[[#This Row],[Référence]],3)","v":"ATL"},{"$f":"VLOOKUP(Catalogue[[#This Row],[Alias]],#REF!,2,FALSE)","v":{"$error":"#REF!"}},null,"ATL071858","SONDE TEMPERATURE 418947"]
["ATL071331",null,"FILTRE ANTIPARASITE",null,null,{"$f":"LEFT(Catalogue[[#This Row],[Référence]],3)","v":"ATL"},{"$f":"VLOOKUP(Catalogue[[#This Row],[Alias]],#REF!,2,FALSE)","v":{"$error":"#REF!"}},null,"ATL072147","ELECTRODE"]
["ATL071878",null,"COFFRET CONTROLE",null,null,{"$f":"LEFT(Catalogue[[#This Row],[Référence]],3)","v":"ATL"},{"$f":"VLOOKUP(Catalogue[[#This Row],[Alias]],#REF!,2,FALSE)","v":{"$error":"#REF!"}},null,"ATL072567","COFFRET CONTROLE"]
["ATL072456",null,"KIT ENTRETIEN BRULEUR G145",null,null,{"$f":"LEFT(Catalogue[[#This Row],[Référence]],3)","v":"ATL"},{"$f":"VLOOKUP(Catalogue[[#This Row],[Alias]],#REF!,2,FALSE)","v":{"$error":"#REF!"}},null,"ATL073329","NAVIPASS IO"]
["ATL073007",null,"SONDE REGUL AMBIANCE QAA73FB 073007",null,null,{"$f":"LEFT(Catalogue[[#This Row],[Référence]],3)","v":"ATL"},{"$f":"VLOOKUP(Catalogue[[#This Row],[Alias]],#REF!,2,FALSE)","v":{"$error":"#REF!"}},null,"ATL074391","DOSS. ECARTEUR REMPL. 40X10"]
["ATL073766",null,"SIPHON",null,null,{"$f":"LEFT(Catalogue[[#This Row],[Référence]],3)","v":"ATL"},{"$f":"VLOOKUP(Catalogue[[#This Row],[Alias]],#REF!,2,FALSE)","v":{"$error":"#REF!"}},null,"ATL074761","CACHE INF.600 NAEMA NAIA 3 DUO"]
["ATL074224",null,"CACHE INF. 400 NAEMA NAIA 3",null,null,{"$f":"LEFT(Catalogue[[#This Row],[Référence]],3)","v":"ATL"},{"$f":"VLOOKUP(Catalogue[[#This Row],[Alias]],#REF!,2,FALSE)","v":{"$error":"#REF!"}},null,"ATL076514","CAPTEUR"]
["ATL076061",null,"CORPS",null,null,{"$f":"LEFT(Catalogue[[#This Row],[Référence]],3)","v":"ATL"},{"$f":"VLOOKUP(Catalogue[[#This Row],[Alias]],#REF!,2,FALSE)","v":{"$error":"#REF!"}},null,"ATL078866","BOITIER DE COMMANDE"]
["ATL076514",null,"CAPTEUR",null,null,{"$f":"LEFT(Catalogue[[#This Row],[Référence]],3)","v":"ATL"},{"$f":"VLOOKUP(Catalogue[[#This Row],[Alias]],#REF!,2,FALSE)","v":{"$error":"#REF!"}},null,"ATL079299","ELECTRODE"]
["ATL078366",null,"MAINTENANCE",null,null,{"$f":"LEFT(Catalogue[[#This Row],[Référence]],3)","v":"ATL"},{"$f":"VLOOKUP(Catalogue[[#This Row],[Alias]],#REF!,2,FALSE)","v":{"$error":"#REF!"}},null,"ATL099021","RESISTANCE STEATITE 1800W TC"]
["ATL082573",null,"VARPRIM 140 20 MB 2 PIQUAGES THPE",null,null,{"$f":"LEFT(Catalogue[[#This Row],[Référence]],3)","v":"ATL"},{"$f":"VLOOKUP(Catalogue[[#This Row],[Alias]],#REF!,2,FALSE)","v":{"$error":"#REF!"}},null,"ATL100228","ALLUMEUR"]
["ATL100156",null,"ADAPT VENTOUSE D80/125 COND",null,null,{"$f":"LEFT(Catalogue[[#This Row],[Référence]],3)","v":"ATL"},{"$f":"VLOOKUP(Catalogue[[#This Row],[Alias]],#REF!,2,FALSE)","v":{"$error":"#REF!"}},null,"ATL102106","BOITIER CDE IDRA24S"]
["ATL100523",null,"THERM SEC RAK71-4271",null,null,{"$f":"LEFT(Catalogue[[#This Row],[Référence]],3)","v":"ATL"},{"$f":"VLOOKUP(Catalogue[[#This Row],[Alias]],#REF!,2,FALSE)","v":{"$error":"#REF!"}},null,"ATL102130","PLATINE PR IDRA3200"]
["ATL102065S","Non concerné",{"$error":"#N/A"},90,2000007345645,{"$f":"LEFT(Catalogue[[#This Row],[Référence]],3)","v":"ATL"},{"$f":"VLOOKUP(Catalogue[[#This Row],[Alias]],#REF!,2,FALSE)","v":{"$error":"#REF!"}},null,"ATL102156","PLATINE PRINCIPALE"]
["ATL102125",null,"PLATINE ALL IDRA3224",null,null,{"$f":"LEFT(Catalogue[[#This Row],[Référence]],3)","v":"ATL"},{"$f":"VLOOKUP(Catalogue[[#This Row],[Alias]],#REF!,2,FALSE)","v":{"$error":"#REF!"}},null,"ATL102189","CARTE INTERFACE"]
["ATL102150",null,"PLATI/AFF.IDRA4000/S BLANC",null,null,{"$f":"LEFT(Catalogue[[#This Row],[Référence]],3)","v":"ATL"},{"$f":"VLOOKUP(Catalogue[[#This Row],[Alias]],#REF!,2,FALSE)","v":{"$error":"#REF!"}},null,"ATL105135","BOUTON/R SUN GXE-E/V"]
["ATL104943",null,"BAC CONDAT",null,null,{"$f":"LEFT(Catalogue[[#This Row],[Référence]],3)","v":"ATL"},{"$f":"VLOOKUP(Catalogue[[#This Row],[Alias]],#REF!,2,FALSE)","v":{"$error":"#REF!"}},null,"ATL107518","BRIDE BALLON 503/95"]
["ATL105954",null,"BRULEUR 32KW",null,null,{"$f":"LEFT(Catalogue[[#This Row],[Référence]],3)","v":"ATL"},{"$f":"VLOOKUP(Catalogue[[#This Row],[Alias]],#REF!,2,FALSE)","v":{"$error":"#REF!"}},null,"ATL109199","CABLAGE BOITIERLOA24"]
["ATL106483",null,"BORNIER TRIPHASE",null,null,{"$f":"LEFT(Catalogue[[#This Row],[Référence]],3)","v":"ATL"},{"$f":"VLOOKUP(Catalogue[[#This Row],[Alias]],#REF!,2,FALSE)","v":{"$error":"#REF!"}},null,"ATL109287","CAB E/COMBIDRA3224BV"]
["ATL109175",null,"CABLAGE ELECTRIQUE IDRA23",null,null,{"$f":"LEFT(Catalogue[[#This Row],[Référence]],3)","v":"ATL"},{"$f":"VLOOKUP(Catalogue[[#This Row],[Alias]],#REF!,2,FALSE)","v":{"$error":"#REF!"}},null,"ATL109351","FAISCEAU 24V"]
["ATL109286",null,"CABLAG M/V IDRA3224B",null,null,{"$f":"LEFT(Catalogue[[#This Row],[Référence]],3)","v":"ATL"},{"$f":"VLOOKUP(Catalogue[[#This Row],[Alias]],#REF!,2,FALSE)","v":{"$error":"#REF!"}},null,"ATL109462","CABLE HYDRAULIQUE"]
["ATL109442",null,"FAISCEAU CAPTEUR ET SONDES",null,null,{"$f":"LEFT(Catalogue[[#This Row],[Référence]],3)","v":"ATL"},{"$f":"VLOOKUP(Catalogue[[#This Row],[Alias]],#REF!,2,FALSE)","v":{"$error":"#REF!"}},null,"ATL109654","CARTOUCHE VANNE DIR."]
["ATL109557",null,"CABLE COMB ECO 4020SVR",null,null,{"$f":"LEFT(Catalogue[[#This Row],[Référence]],3)","v":"ATL"},{"$f":"VLOOKUP(Catalogue[[#This Row],[Alias]],#REF!,2,FALSE)","v":{"$error":"#REF!"}},null,"ATL109943","CIRCULATEUR POUR CIAO"]
["ATL109666",null,"FAISCEAU 24V",null,null,{"$f":"LEFT(Catalogue[[#This Row],[Référence]],3)","v":"ATL"},{"$f":"VLOOKUP(Catalogue[[#This Row],[Alias]],#REF!,2,FALSE)","v":{"$error":"#REF!"}},null,"ATL109986","CIRCULATEUR AVEC JOINT 6M"]
["ATL109933",null,"CIRCULATEUR UP1550 CIAO3124",null,null,{"$f":"LEFT(Catalogue[[#This Row],[Référence]],3)","v":"ATL"},{"$f":"VLOOKUP(Catalogue[[#This Row],[Alias]],#REF!,2,FALSE)","v":{"$error":"#REF!"}},null,"ATL110078","CLAPET VANNE DIRECTIONNELLE"]
["ATL110010",null,"CLAPET TTES POS20X27",null,null,{"$f":"LEFT(Catalogue[[#This Row],[Référence]],3)","v":"ATL"},{"$f":"VLOOKUP(Catalogue[[#This Row],[Alias]],#REF!,2,FALSE)","v":{"$error":"#REF!"}},null,"ATL110495","CORPS GROUPE CHAUFF."]
["ATL110041",null,{"$f":"VLOOKUP(A4482,I:J,2,0)","v":"VOLET TABL/B 9522801"},null,null,{"$f":"LEFT(Catalogue[[#This Row],[Référence]],3)","v":"ATL"},{"$f":"VLOOKUP(Catalogue[[#This Row],[Alias]],#REF!,2,FALSE)","v":{"$error":"#REF!"}},null,"ATL110507","BOITIER LAO24"]
["ATL110321",null,"CLIP F/PORT IDRA3000",null,null,{"$f":"LEFT(Catalogue[[#This Row],[Référence]],3)","v":"ATL"},{"$f":"VLOOKUP(Catalogue[[#This Row],[Alias]],#REF!,2,FALSE)","v":{"$error":"#REF!"}},null,"ATL111428","COUVERCLE SUP DIAM 610"]
["ATL111428",null,"COUVERCLE SUP DIAM 610",null,null,{"$f":"LEFT(Catalogue[[#This Row],[Référence]],3)","v":"ATL"},{"$f":"VLOOKUP(Catalogue[[#This Row],[Alias]],#REF!,2,FALSE)","v":{"$error":"#REF!"}},null,"ATL114103","CROIX HYDROBLOC"]
["ATL111448",null,"COUV/B BFC09.005/016",null,null,{"$f":"LEFT(Catalogue[[#This Row],[Référence]],3)","v":"ATL"},{"$f":"VLOOKUP(Catalogue[[#This Row],[Alias]],#REF!,2,FALSE)","v":{"$error":"#REF!"}},null,"ATL115101","CABLAGE ENSEMBLE HYDR BT"]
["ATL112524S",null,"CDC 3228 BV",null,null,{"$f":"LEFT(Catalogue[[#This Row],[Référence]],3)","v":"ATL"},{"$f":"VLOOKUP(Catalogue[[#This Row],[Alias]],#REF!,2,FALSE)","v":{"$error":"#REF!"}},null,"ATL120050","DIAPHRAGME G20 6.7MM"]
["ATL113224",null,"COUTEAU",null,null,{"$f":"LEFT(Catalogue[[#This Row],[Référence]],3)","v":"ATL"},{"$f":"VLOOKUP(Catalogue[[#This Row],[Alias]],#REF!,2,FALSE)","v":{"$error":"#REF!"}},null,"ATL122028","ECHANGEUR PERFINOX 4134 BVI"]
["ATL119436",null,"DETEC D/SAN IDRA3000",null,null,{"$f":"LEFT(Catalogue[[#This Row],[Référence]],3)","v":"ATL"},{"$f":"VLOOKUP(Catalogue[[#This Row],[Alias]],#REF!,2,FALSE)","v":{"$error":"#REF!"}},null,"ATL124333","ELECTRODE DE 9522301"]
["ATL120047",null,"DIAPHRAGME D5.0",null,null,{"$f":"LEFT(Catalogue[[#This Row],[Référence]],3)","v":"ATL"},{"$f":"VLOOKUP(Catalogue[[#This Row],[Alias]],#REF!,2,FALSE)","v":{"$error":"#REF!"}},null,"ATL124370","ELECTRODE BFE01.101"]
["ATL122919",null,"ELECTROVANNE",null,null,{"$f":"LEFT(Catalogue[[#This Row],[Référence]],3)","v":"ATL"},{"$f":"VLOOKUP(Catalogue[[#This Row],[Alias]],#REF!,2,FALSE)","v":{"$error":"#REF!"}},null,"ATL132211","TUYAU FLEX.RET/BAL P"]
["ATL124359",null,"ELECTR ALL IDRA E24I",null,null,{"$f":"LEFT(Catalogue[[#This Row],[Référence]],3)","v":"ATL"},{"$f":"VLOOKUP(Catalogue[[#This Row],[Alias]],#REF!,2,FALSE)","v":{"$error":"#REF!"}},null,"ATL132573","DESSUS DE CHAMBRE DE COMBUSTION"]
["ATL124388",null,"ELECTRODE BFE01102",null,null,{"$f":"LEFT(Catalogue[[#This Row],[Référence]],3)","v":"ATL"},{"$f":"VLOOKUP(Catalogue[[#This Row],[Alias]],#REF!,2,FALSE)","v":{"$error":"#REF!"}},null,"ATL133246","FAISCEAU ALIMENTATION"]
["ATL124498",null,"ELECTRODE D ALLUMAGE /D IONISATION",null,null,{"$f":"LEFT(Catalogue[[#This Row],[Référence]],3)","v":"ATL"},{"$f":"VLOOKUP(Catalogue[[#This Row],[Alias]],#REF!,2,FALSE)","v":{"$error":"#REF!"}},null,"ATL138000","HYDROBLOC"]
["ATL132545",null,"FACE AVANT AVEC VITRE IDRA3224V",null,null,{"$f":"LEFT(Catalogue[[#This Row],[Référence]],3)","v":"ATL"},{"$f":"VLOOKUP(Catalogue[[#This Row],[Alias]],#REF!,2,FALSE)","v":{"$error":"#REF!"}},null,"ATL139622","SET CV PR IDRA3200"]
["ATL133164",null,"FAISC ALLUMEUR PERFINOX 5000",null,null,{"$f":"LEFT(Catalogue[[#This Row],[Référence]],3)","v":"ATL"},{"$f":"VLOOKUP(Catalogue[[#This Row],[Alias]],#REF!,2,FALSE)","v":{"$error":"#REF!"}},null,"ATL141084","ISOLATION FOYER"]
["ATL139112",null,"SONDE D AMBIANCE H55",null,null,{"$f":"LEFT(Catalogue[[#This Row],[Référence]],3)","v":"ATL"},{"$f":"VLOOKUP(Catalogue[[#This Row],[Alias]],#REF!,2,FALSE)","v":{"$error":"#REF!"}},null,"ATL142473","JOINT PORTE BRULEUR"]
["ATL141078",null,"ISOL.BRUL SUNAG.4025",null,null,{"$f":"LEFT(Catalogue[[#This Row],[Référence]],3)","v":"ATL"},{"$f":"VLOOKUP(Catalogue[[#This Row],[Alias]],#REF!,2,FALSE)","v":{"$error":"#REF!"}},null,"ATL143046","KIT NETTOYAGE ALU"]
["ATL142302",null,"JOINT SORTIE FUMEE",null,null,{"$f":"LEFT(Catalogue[[#This Row],[Référence]],3)","v":"ATL"},{"$f":"VLOOKUP(Catalogue[[#This Row],[Alias]],#REF!,2,FALSE)","v":{"$error":"#REF!"}},null,"ATL149917","MANOMETRE D27 GRIS 0-4BAR"]
["ATL142446",null,"JOINT TRAPPE",null,null,{"$f":"LEFT(Catalogue[[#This Row],[Référence]],3)","v":"ATL"},{"$f":"VLOOKUP(Catalogue[[#This Row],[Alias]],#REF!,2,FALSE)","v":{"$error":"#REF!"}},null,"ATL149964","MANOTHERMO D40 0/120"]
["ATL142787",null,"JOINT PORTE BRULEUR",null,null,{"$f":"LEFT(Catalogue[[#This Row],[Référence]],3)","v":"ATL"},{"$f":"VLOOKUP(Catalogue[[#This Row],[Alias]],#REF!,2,FALSE)","v":{"$error":"#REF!"}},null,"ATL150113","MICROSWITCH 3 VOIES"]
["ATL146321",null,"LIMITEUR DEBIT SANIT ROUGE",null,null,{"$f":"LEFT(Catalogue[[#This Row],[Référence]],3)","v":"ATL"},{"$f":"VLOOKUP(Catalogue[[#This Row],[Alias]],#REF!,2,FALSE)","v":{"$error":"#REF!"}},null,"ATL150326","MOTEUR VANNE DIRECTIONNELLE"]
["ATL149967",null,"MANOMETRE IDRA",null,null,{"$f":"LEFT(Catalogue[[#This Row],[Référence]],3)","v":"ATL"},{"$f":"VLOOKUP(Catalogue[[#This Row],[Alias]],#REF!,2,FALSE)","v":{"$error":"#REF!"}},null,"ATL157540","PLAQ ISOL FR IDRA28S"]
["ATL150110",null,"MICROSWIT SC IDRA24S",null,null,{"$f":"LEFT(Catalogue[[#This Row],[Référence]],3)","v":"ATL"},{"$f":"VLOOKUP(Catalogue[[#This Row],[Alias]],#REF!,2,FALSE)","v":{"$error":"#REF!"}},null,"ATL158936","PORTE GICLEUR"]
["ATL150392",null,"MOTEUR CIRCULATEUR",null,null,{"$f":"LEFT(Catalogue[[#This Row],[Référence]],3)","v":"ATL"},{"$f":"VLOOKUP(Catalogue[[#This Row],[Alias]],#REF!,2,FALSE)","v":{"$error":"#REF!"}},null,"ATL159730","PRESS FUM/D O3228MBV"]
["ATL158351",null,"PLATINE CI747-180-10",null,null,{"$f":"LEFT(Catalogue[[#This Row],[Référence]],3)","v":"ATL"},{"$f":"VLOOKUP(Catalogue[[#This Row],[Alias]],#REF!,2,FALSE)","v":{"$error":"#REF!"}},null,"ATL161054S","ECH. IDRA EXCL 24 et 24S"]
["ATL159062",null,"PURGEUR AUTOMATIQUE",null,null,{"$f":"LEFT(Catalogue[[#This Row],[Référence]],3)","v":"ATL"},{"$f":"VLOOKUP(Catalogue[[#This Row],[Alias]],#REF!,2,FALSE)","v":{"$error":"#REF!"}},null,"ATL161155","PREP SANIT TWEETIE DUO"]
["ATL159724",null,"PRESSOSTAT FUM GXE-V",null,null,{"$f":"LEFT(Catalogue[[#This Row],[Référence]],3)","v":"ATL"},{"$f":"VLOOKUP(Catalogue[[#This Row],[Alias]],#REF!,2,FALSE)","v":{"$error":"#REF!"}},null,"ATL165341","CARTE AVS 55"]
["ATL159814",null,"CAPTEUR PRESSION",null,null,{"$f":"LEFT(Catalogue[[#This Row],[Référence]],3)","v":"ATL"},{"$f":"VLOOKUP(Catalogue[[#This Row],[Alias]],#REF!,2,FALSE)","v":{"$error":"#REF!"}},null,"ATL165922","RESISTANCE VENTILATEUR IDRA28SV"]
["ATL164272",null,"VANNE SPHERE G JAU 3/4F-3/4M",null,null,{"$f":"LEFT(Catalogue[[#This Row],[Référence]],3)","v":"ATL"},{"$f":"VLOOKUP(Catalogue[[#This Row],[Alias]],#REF!,2,FALSE)","v":{"$error":"#REF!"}},null,"ATL169038","FACADE GAUCHE"]
["ATL165333",null,"REGULATEUR SIEMENS",null,null,{"$f":"LEFT(Catalogue[[#This Row],[Référence]],3)","v":"ATL"},{"$f":"VLOOKUP(Catalogue[[#This Row],[Alias]],#REF!,2,FALSE)","v":{"$error":"#REF!"}},null,"ATL169125","ENS DETENDEUR"]
["ATL166707",null,"ROBINET VID IDRA3224",null,null,{"$f":"LEFT(Catalogue[[#This Row],[Référence]],3)","v":"ATL"},{"$f":"VLOOKUP(Catalogue[[#This Row],[Alias]],#REF!,2,FALSE)","v":{"$error":"#REF!"}},null,"ATL169160","MOTEUR"]
["ATL169005",null,"BOBINE",null,null,{"$f":"LEFT(Catalogue[[#This Row],[Référence]],3)","v":"ATL"},{"$f":"VLOOKUP(Catalogue[[#This Row],[Alias]],#REF!,2,FALSE)","v":{"$error":"#REF!"}},null,"ATL169197","COTE DROIT"]
["ATL169039",null,"FACADE DROITE",null,null,{"$f":"LEFT(Catalogue[[#This Row],[Référence]],3)","v":"ATL"},{"$f":"VLOOKUP(Catalogue[[#This Row],[Alias]],#REF!,2,FALSE)","v":{"$error":"#REF!"}},null,"ATL169251","CARTE REGUL"]
["ATL169146",null,"BOBINE DE CHOKE",null,null,{"$f":"LEFT(Catalogue[[#This Row],[Référence]],3)","v":"ATL"},{"$f":"VLOOKUP(Catalogue[[#This Row],[Alias]],#REF!,2,FALSE)","v":{"$error":"#REF!"}},null,"ATL169358","CARTE INVERTER"]
["ATL169162",null,"ECHANGEUR DE CHALEUR",null,null,{"$f":"LEFT(Catalogue[[#This Row],[Référence]],3)","v":"ATL"},{"$f":"VLOOKUP(Catalogue[[#This Row],[Alias]],#REF!,2,FALSE)","v":{"$error":"#REF!"}},null,"ATL171667","RESISTANCE BAC CONDATS"]
["ATL169253",null,"COUVERCLE",null,null,{"$f":"LEFT(Catalogue[[#This Row],[Référence]],3)","v":"ATL"},{"$f":"VLOOKUP(Catalogue[[#This Row],[Alias]],#REF!,2,FALSE)","v":{"$error":"#REF!"}},null,"ATL174658","SUPPORT STELLA 4145"]
["ATL169296",null,"CARTE PRINCIPALE",null,null,{"$f":"LEFT(Catalogue[[#This Row],[Référence]],3)","v":"ATL"},{"$f":"VLOOKUP(Catalogue[[#This Row],[Alias]],#REF!,2,FALSE)","v":{"$error":"#REF!"}},null,"ATL177535","TE LAITON 1MF 1/2F P"]
["ATL169343",null,"COUVERCLE",null,null,{"$f":"LEFT(Catalogue[[#This Row],[Référence]],3)","v":"ATL"},{"$f":"VLOOKUP(Catalogue[[#This Row],[Alias]],#REF!,2,FALSE)","v":{"$error":"#REF!"}},null,"ATL178625","THERM NOIR D50 0/120"]
["ATL174419",null,"SOUPAPE SEC IDRA3000",null,null,{"$f":"LEFT(Catalogue[[#This Row],[Référence]],3)","v":"ATL"},{"$f":"VLOOKUP(Catalogue[[#This Row],[Alias]],#REF!,2,FALSE)","v":{"$error":"#REF!"}},null,"ATL178939","THERM SEC SUNA GXE/E"]
["ATL174677",null,"LIGNE GICL RECHAUFFEE FPHB3",null,null,{"$f":"LEFT(Catalogue[[#This Row],[Référence]],3)","v":"ATL"},{"$f":"VLOOKUP(Catalogue[[#This Row],[Alias]],#REF!,2,FALSE)","v":{"$error":"#REF!"}},null,"ATL178990","THERMOSTAT SECURITE"]
["ATL178618",null,"THERMOMETRE IDRA24S",null,null,{"$f":"LEFT(Catalogue[[#This Row],[Référence]],3)","v":"ATL"},{"$f":"VLOOKUP(Catalogue[[#This Row],[Alias]],#REF!,2,FALSE)","v":{"$error":"#REF!"}},null,"ATL181128","TRAPPE SUP+VIS+JOINT"]
["ATL178943",null,"THERMOSTAT LIMITEUR IDRAE24BI",null,null,{"$f":"LEFT(Catalogue[[#This Row],[Référence]],3)","v":"ATL"},{"$f":"VLOOKUP(Catalogue[[#This Row],[Alias]],#REF!,2,FALSE)","v":{"$error":"#REF!"}},null,"ATL182208","TUYAU EAU F B9724002"]
["ATL178996",null,"THERMOSTAT SECURITE",null,null,{"$f":"LEFT(Catalogue[[#This Row],[Référence]],3)","v":"ATL"},{"$f":"VLOOKUP(Catalogue[[#This Row],[Alias]],#REF!,2,FALSE)","v":{"$error":"#REF!"}},null,"ATL182317","TUYAUTERIE GAZ"]
["ATL179218",null,"THERMOCOUPLE",null,null,{"$f":"LEFT(Catalogue[[#This Row],[Référence]],3)","v":"ATL"},{"$f":"VLOOKUP(Catalogue[[#This Row],[Alias]],#REF!,2,FALSE)","v":{"$error":"#REF!"}},null,"ATL182354","TUYAU DEPART ECHANGEUR"]
["ATL182000",null,"TUBE FLEX D.INT60 1M",null,null,{"$f":"LEFT(Catalogue[[#This Row],[Référence]],3)","v":"ATL"},{"$f":"VLOOKUP(Catalogue[[#This Row],[Alias]],#REF!,2,FALSE)","v":{"$error":"#REF!"}},null,"ATL182541","TUBE SORTIE DISCONNECTEUR"]
["ATL182213",null,"TUYAU EAU FR 9722510",null,null,{"$f":"LEFT(Catalogue[[#This Row],[Référence]],3)","v":"ATL"},{"$f":"VLOOKUP(Catalogue[[#This Row],[Alias]],#REF!,2,FALSE)","v":{"$error":"#REF!"}},null,"ATL182725","TUYAUTERIE SANITAIRE"]
["ATL182312",null,"TUYAUTERIE RETOUR",null,null,{"$f":"LEFT(Catalogue[[#This Row],[Référence]],3)","v":"ATL"},{"$f":"VLOOKUP(Catalogue[[#This Row],[Alias]],#REF!,2,FALSE)","v":{"$error":"#REF!"}},null,"ATL183030","FLEXIBLE LG1600"]
["ATL182357",null,"TUYAUTERIE DE RETOUR",null,null,{"$f":"LEFT(Catalogue[[#This Row],[Référence]],3)","v":"ATL"},{"$f":"VLOOKUP(Catalogue[[#This Row],[Alias]],#REF!,2,FALSE)","v":{"$error":"#REF!"}},null,"ATL183152","TUYAUTERIE RET ECHANGEUR"]
["ATL182700",null,"TUBE FLEXIBLE VASE",null,null,{"$f":"LEFT(Catalogue[[#This Row],[Référence]],3)","v":"ATL"},{"$f":"VLOOKUP(Catalogue[[#This Row],[Alias]],#REF!,2,FALSE)","v":{"$error":"#REF!"}},null,"ATL184081","TUYAU FRIGO 3/8"]
["ATL183034",null,"TUYAUTERIE EAU FROID",null,null,{"$f":"LEFT(Catalogue[[#This Row],[Référence]],3)","v":"ATL"},{"$f":"VLOOKUP(Catalogue[[#This Row],[Alias]],#REF!,2,FALSE)","v":{"$error":"#REF!"}},null,"ATL188124","VANNE GAZ IDRA 23S"]
["ATL183183",null,"TUYAU FLEX DEPART/RETOUR",null,null,{"$f":"LEFT(Catalogue[[#This Row],[Référence]],3)","v":"ATL"},{"$f":"VLOOKUP(Catalogue[[#This Row],[Alias]],#REF!,2,FALSE)","v":{"$error":"#REF!"}},null,"ATL188163","VANNE GAZ IDRA"]
["ATL183272",null,"TUYAU RET CHAUFF/BOUTEILLE",null,null,{"$f":"LEFT(Catalogue[[#This Row],[Référence]],3)","v":"ATL"},{"$f":"VLOOKUP(Catalogue[[#This Row],[Alias]],#REF!,2,FALSE)","v":{"$error":"#REF!"}},null,"ATL188184","VANNE VID SUNAG.4000"]
["ATL184094",null,"TUYAU VANNE-CIRCULATEUR",null,null,{"$f":"LEFT(Catalogue[[#This Row],[Référence]],3)","v":"ATL"},{"$f":"VLOOKUP(Catalogue[[#This Row],[Alias]],#REF!,2,FALSE)","v":{"$error":"#REF!"}},null,"ATL188230S","VASE EXPANSION"]
["ATL188125",null,"VANNE ARRET R-C IDRA",null,null,{"$f":"LEFT(Catalogue[[#This Row],[Référence]],3)","v":"ATL"},{"$f":"VLOOKUP(Catalogue[[#This Row],[Alias]],#REF!,2,FALSE)","v":{"$error":"#REF!"}},null,"ATL188256","VANNE"]
["ATL188209",null,"VASE EXPANS 9722501Z",null,null,{"$f":"LEFT(Catalogue[[#This Row],[Référence]],3)","v":"ATL"},{"$f":"VLOOKUP(Catalogue[[#This Row],[Alias]],#REF!,2,FALSE)","v":{"$error":"#REF!"}},null,"ATL188524","VANNE 3VOIES 9722501"]
["ATL188222",null,"VASE EXPANS RECT 12L",null,null,{"$f":"LEFT(Catalogue[[#This Row],[Référence]],3)","v":"ATL"},{"$f":"VLOOKUP(Catalogue[[#This Row],[Alias]],#REF!,2,FALSE)","v":{"$error":"#REF!"}},null,"ATL188534","VENTILATEUR"]
["ATL188256",null,"VANNE",null,null,{"$f":"LEFT(Catalogue[[#This Row],[Référence]],3)","v":"ATL"},{"$f":"VLOOKUP(Catalogue[[#This Row],[Alias]],#REF!,2,FALSE)","v":{"$error":"#REF!"}},null,"ATL195407","CELLULE PHOTO"]
["ATL188292",null,"VASE EXPANSION",null,null,{"$f":"LEFT(Catalogue[[#This Row],[Référence]],3)","v":"ATL"},{"$f":"VLOOKUP(Catalogue[[#This Row],[Alias]],#REF!,2,FALSE)","v":{"$error":"#REF!"}},null,"ATL197159","CARTE CONNECT9522701"]
["ATL188521S","Non concerné","EXT CIAO",40,2000002305323,{"$f":"LEFT(Catalogue[[#This Row],[Référence]],3)","v":"ATL"},{"$f":"VLOOKUP(Catalogue[[#This Row],[Alias]],#REF!,2,FALSE)","v":{"$error":"#REF!"}},null,"ATL198639","TRANSFORMATEUR IDRA 5000"]
["ATL188538",null,"VENTILATEUR NOVABOIS 4030",null,null,{"$f":"LEFT(Catalogue[[#This Row],[Référence]],3)","v":"ATL"},{"$f":"VLOOKUP(Catalogue[[#This Row],[Alias]],#REF!,2,FALSE)","v":{"$error":"#REF!"}},null,"ATL198746","SONDE DE DEPART KHP"]
["ATL188903",null,"VANNE DEPART INSTALL",null,null,{"$f":"LEFT(Catalogue[[#This Row],[Référence]],3)","v":"ATL"},{"$f":"VLOOKUP(Catalogue[[#This Row],[Alias]],#REF!,2,FALSE)","v":{"$error":"#REF!"}},null,"ATL198765","SONDE CAPTEUR SOLAIRE"]
["ATL198628",null,"TRANSF ALL O3228MBV",null,null,{"$f":"LEFT(Catalogue[[#This Row],[Référence]],3)","v":"ATL"},{"$f":"VLOOKUP(Catalogue[[#This Row],[Alias]],#REF!,2,FALSE)","v":{"$error":"#REF!"}},null,"ATL240302","SUPPORT BUBLE 9522101"]
["ATL198724",null,"SONDE NTC IDRA24SVI",null,null,{"$f":"LEFT(Catalogue[[#This Row],[Référence]],3)","v":"ATL"},{"$f":"VLOOKUP(Catalogue[[#This Row],[Alias]],#REF!,2,FALSE)","v":{"$error":"#REF!"}},null,"ATL422761","B,H PAV CUIS ELEC 10/45/135 422761  FC 10/2015"]
["ATL198753",null,"SONDE EXT IDRA/C",null,null,{"$f":"LEFT(Catalogue[[#This Row],[Référence]],3)","v":"ATL"},{"$f":"VLOOKUP(Catalogue[[#This Row],[Alias]],#REF!,2,FALSE)","v":{"$error":"#REF!"}},null,"ATL514110","RADIATEUR ELECTRIQUE ATLANTIC F117T BLANC 1000W 514110 FC 140318"]
["ATL198774",null,"CAPTEUR DE PRESSION",null,null,{"$f":"LEFT(Catalogue[[#This Row],[Référence]],3)","v":"ATL"},{"$f":"VLOOKUP(Catalogue[[#This Row],[Alias]],#REF!,2,FALSE)","v":{"$error":"#REF!"}},null,"ATL526303","ALFEA EXCELLIA AI 14 INVERTER 400V APPOINT ELECTRIQUE DE SERIE D'UNE PUISSANCE DE 9 KW FLUIDE R410A"]
["ATL199084",null,"GICLEUR 0.55 GPH 60DEG W",null,null,{"$f":"LEFT(Catalogue[[#This Row],[Référence]],3)","v":"ATL"},{"$f":"VLOOKUP(Catalogue[[#This Row],[Alias]],#REF!,2,FALSE)","v":{"$error":"#REF!"}},null,"ATL526633","ALFEA EXCELLIA HP A.I. TRI 17 INVERTER 400V APPOINT ELECTRIQUE DE SERIE D'UNE PUISSANCE DE 9 KW FLUIDE R410A"]
["ATL446222",null,"PROTECT HAUTE 345X85",null,null,{"$f":"LEFT(Catalogue[[#This Row],[Référence]],3)","v":"ATL"},{"$f":"VLOOKUP(Catalogue[[#This Row],[Alias]],#REF!,2,FALSE)","v":{"$error":"#REF!"}},null,"ATL711402","PLATINE ALIM TRIPH R/O 13 R"]
["ATL522524",null,"ALFEA HYBRID DUO GAZ MONO 11",null,null,{"$f":"LEFT(Catalogue[[#This Row],[Référence]],3)","v":"ATL"},{"$f":"VLOOKUP(Catalogue[[#This Row],[Alias]],#REF!,2,FALSE)","v":{"$error":"#REF!"}},null,"ATL785087","ELECTRODE"]
["ATL526332",null,"ALFEA EXTENSA A.I. 6 R32",null,null,{"$f":"LEFT(Catalogue[[#This Row],[Référence]],3)","v":"ATL"},{"$f":"VLOOKUP(Catalogue[[#This Row],[Alias]],#REF!,2,FALSE)","v":{"$error":"#REF!"}},null,"ATL785676","JOINT"]
["ATL529919",null,"NIRVANA NEO H 2000W BLC",null,null,{"$f":"LEFT(Catalogue[[#This Row],[Référence]],3)","v":"ATL"},{"$f":"VLOOKUP(Catalogue[[#This Row],[Alias]],#REF!,2,FALSE)","v":{"$error":"#REF!"}},null,"ATL786489","CARTE"]
["ATL70216",null,"070216 ENS THERM ELEC MONO KITABLE  FC 10/2015",null,null,{"$f":"LEFT(Catalogue[[#This Row],[Référence]],3)","v":"ATL"},{"$f":"VLOOKUP(Catalogue[[#This Row],[Alias]],#REF!,2,FALSE)","v":{"$error":"#REF!"}},null,"ATL890740","SONDE EVAPORATEUR"]
["ATL711422",null,"COND COMPRESSEUR R/O 10 R",null,null,{"$f":"LEFT(Catalogue[[#This Row],[Référence]],3)","v":"ATL"},{"$f":"VLOOKUP(Catalogue[[#This Row],[Alias]],#REF!,2,FALSE)","v":{"$error":"#REF!"}},null,"ATL891202","MOTEUR VENTILATEUR 30 45 54"]
["ATL785224",null,"INTERRUPTEUR",null,null,{"$f":"LEFT(Catalogue[[#This Row],[Référence]],3)","v":"ATL"},{"$f":"VLOOKUP(Catalogue[[#This Row],[Alias]],#REF!,2,FALSE)","v":{"$error":"#REF!"}},null,"ATL891401","HELICE 30 45 54"]
["ATL786417",null,"TRANSFORMATEUR ALLUMAGE",null,null,{"$f":"LEFT(Catalogue[[#This Row],[Référence]],3)","v":"ATL"},{"$f":"VLOOKUP(Catalogue[[#This Row],[Alias]],#REF!,2,FALSE)","v":{"$error":"#REF!"}},null,"ATL892391","SORTIE CONDENSAT"]
["ATL890019",null,"SILENT BLOC TURBINE",null,null,{"$f":"LEFT(Catalogue[[#This Row],[Référence]],3)","v":"ATL"},{"$f":"VLOOKUP(Catalogue[[#This Row],[Alias]],#REF!,2,FALSE)","v":{"$error":"#REF!"}},null,"ATL900598","ADAPTATEUR FUMEES"]
["ATL891230",null,"GRILLE AVANT 30 45 54",null,null,{"$f":"LEFT(Catalogue[[#This Row],[Référence]],3)","v":"ATL"},{"$f":"VLOOKUP(Catalogue[[#This Row],[Alias]],#REF!,2,FALSE)","v":{"$error":"#REF!"}},null,"ATL904544","BALLON"]
["ATL891542",null,"CONDEUR",null,null,{"$f":"LEFT(Catalogue[[#This Row],[Référence]],3)","v":"ATL"},{"$f":"VLOOKUP(Catalogue[[#This Row],[Alias]],#REF!,2,FALSE)","v":{"$error":"#REF!"}},null,"ATL909151","CARTE REGUL LMS14"]
["ATL891864",null,"CARTE DE REGUL",null,null,{"$f":"LEFT(Catalogue[[#This Row],[Référence]],3)","v":"ATL"},{"$f":"VLOOKUP(Catalogue[[#This Row],[Alias]],#REF!,2,FALSE)","v":{"$error":"#REF!"}},null,"ATL909189","CARTE REGUL LMS"]
["ATL898153",null,"PLAT TRANSIS AOYA30-36LBTL",null,null,{"$f":"LEFT(Catalogue[[#This Row],[Référence]],3)","v":"ATL"},{"$f":"VLOOKUP(Catalogue[[#This Row],[Alias]],#REF!,2,FALSE)","v":{"$error":"#REF!"}},null,"ATL909243","KIT ALIMENTATION APPOINT ECS"]
["ATL909050",null,"CARTE REGUL/SECU/HMI 30KW",null,null,{"$f":"LEFT(Catalogue[[#This Row],[Référence]],3)","v":"ATL"},{"$f":"VLOOKUP(Catalogue[[#This Row],[Alias]],#REF!,2,FALSE)","v":{"$error":"#REF!"}},null,"ATL914011","ECHANGEUR DE CHALEUR"]
["ATL909159",null,{"$f":"VLOOKUP(A6210,I:J,2,0)","v":"COMMANDE + ALIM APPOINT ECS"},null,null,{"$f":"LEFT(Catalogue[[#This Row],[Référence]],3)","v":"ATL"},{"$f":"VLOOKUP(Catalogue[[#This Row],[Alias]],#REF!,2,FALSE)","v":{"$error":"#REF!"}},null,"ATL923009","ELECTRODE ALL+JOINT+VIS"]
["ATL909193",null,"CARTE REGUL PROG. EXCELLIA",null,null,{"$f":"LEFT(Catalogue[[#This Row],[Référence]],3)","v":"ATL"},{"$f":"VLOOKUP(Catalogue[[#This Row],[Alias]],#REF!,2,FALSE)","v":{"$error":"#REF!"}},null,"ATL943007","POC REF COL/C IDRA-E"]
["ATL909904",null,"CIRCULATEUR ECHANGEUR GAZ",null,null,{"$f":"LEFT(Catalogue[[#This Row],[Référence]],3)","v":"ATL"},{"$f":"VLOOKUP(Catalogue[[#This Row],[Alias]],#REF!,2,FALSE)","v":{"$error":"#REF!"}},null,"ATL943168","KIT SAV JOINT FUMEE"]
["ATL909952",null,"CIRC. PARA KU 20-130/7-50/SC-6",null,null,{"$f":"LEFT(Catalogue[[#This Row],[Référence]],3)","v":"ATL"},{"$f":"VLOOKUP(Catalogue[[#This Row],[Alias]],#REF!,2,FALSE)","v":{"$error":"#REF!"}},null,"ATL965425","CARTE REGULATION RVS"]
["ATL914011",null,"ECHANGEUR DE CHALEUR",null,null,{"$f":"LEFT(Catalogue[[#This Row],[Référence]],3)","v":"ATL"},{"$f":"VLOOKUP(Catalogue[[#This Row],[Alias]],#REF!,2,FALSE)","v":{"$error":"#REF!"}},null,"ATL965908","RESISTANCE THERMOPLONGEUR"]
["ATL943009",null,"POC REF SOU/DIF IDRA",null,null,{"$f":"LEFT(Catalogue[[#This Row],[Référence]],3)","v":"ATL"},{"$f":"VLOOKUP(Catalogue[[#This Row],[Alias]],#REF!,2,FALSE)","v":{"$error":"#REF!"}},null,"ATL979201","THERMOCOUPLE COMBI 21"]
["ATL965405",null,"REGUL LMS 34KW",null,null,{"$f":"LEFT(Catalogue[[#This Row],[Référence]],3)","v":"ATL"},{"$f":"VLOOKUP(Catalogue[[#This Row],[Alias]],#REF!,2,FALSE)","v":{"$error":"#REF!"}},null,"ATL982122","TRAPPE DE VISITE 2 X 1.5KW"]
["ATL965447",null,"CARTE REGULATION LMS 28KW",null,null,{"$f":"LEFT(Catalogue[[#This Row],[Référence]],3)","v":"ATL"},{"$f":"VLOOKUP(Catalogue[[#This Row],[Alias]],#REF!,2,FALSE)","v":{"$error":"#REF!"}},null,"ATL988108","VANNE +ISOLANT"]
["ATL965904",null,"RESISTANCE THERMOPLONGEUR",null,null,{"$f":"LEFT(Catalogue[[#This Row],[Référence]],3)","v":"ATL"},{"$f":"VLOOKUP(Catalogue[[#This Row],[Alias]],#REF!,2,FALSE)","v":{"$error":"#REF!"}},null,"ATL988125","VANNE GAZ + JOINTS"]
["ATL979011",null,"REGULATEUR PAC S5",null,null,{"$f":"LEFT(Catalogue[[#This Row],[Référence]],3)","v":"ATL"},{"$f":"VLOOKUP(Catalogue[[#This Row],[Alias]],#REF!,2,FALSE)","v":{"$error":"#REF!"}},null,"AUE1245298","PIEZO.RAD.AUER ANCIEN MODELE"]
["ATL981001",null,"TRAPPE SUPP+ ANODE120L",null,null,{"$f":"LEFT(Catalogue[[#This Row],[Référence]],3)","v":"ATL"},{"$f":"VLOOKUP(Catalogue[[#This Row],[Alias]],#REF!,2,FALSE)","v":{"$error":"#REF!"}},null,"AUE751009","SONDE D AMBIANCE AVEC AFFICHEUR"]
["ATL988112",null,"VANNE GAZ",null,null,{"$f":"LEFT(Catalogue[[#This Row],[Référence]],3)","v":"ATL"},{"$f":"VLOOKUP(Catalogue[[#This Row],[Alias]],#REF!,2,FALSE)","v":{"$error":"#REF!"}},null,"AUEB1243211","CIRCUL.UPS15/50/130-1X230V-50HZ"]
["ATL988126",null,"ROBINET + JOINTS + COUDE",null,null,{"$f":"LEFT(Catalogue[[#This Row],[Référence]],3)","v":"ATL"},{"$f":"VLOOKUP(Catalogue[[#This Row],[Alias]],#REF!,2,FALSE)","v":{"$error":"#REF!"}},null,"AUEB1243514","FIL BOUGIE -PULS-"]
["ATRONDULEURO3","Non concerné",{"$error":"#N/A"},180,2000007348042,{"$f":"LEFT(Catalogue[[#This Row],[Référence]],3)","v":"ATR"},{"$f":"VLOOKUP(Catalogue[[#This Row],[Alias]],#REF!,2,FALSE)","v":{"$error":"#REF!"}},null,"AUEB1244578","SONDE LG2000MM"]
["AUE721105",null,"2 PIEDS ADAPTABLES POUR RADIATEURS GAZ MV230 ET MV240",null,null,{"$f":"LEFT(Catalogue[[#This Row],[Référence]],3)","v":"AUE"},{"$f":"VLOOKUP(Catalogue[[#This Row],[Alias]],#REF!,2,FALSE)","v":{"$error":"#REF!"}},null,"AUEB1656285","1 MICA REGARD 56285 X10"]
["AUEB1239013",null,"AQUASTAT 30-90DEG C L1500",null,null,{"$f":"LEFT(Catalogue[[#This Row],[Référence]],3)","v":"AUE"},{"$f":"VLOOKUP(Catalogue[[#This Row],[Alias]],#REF!,2,FALSE)","v":{"$error":"#REF!"}},null,"AUEB1939172","PURGEUR HYDROBLOCK"]
["AUEB1243054",null,"PRESSOSTAT VENTI/COMBUS",null,null,{"$f":"LEFT(Catalogue[[#This Row],[Référence]],3)","v":"AUE"},{"$f":"VLOOKUP(Catalogue[[#This Row],[Alias]],#REF!,2,FALSE)","v":{"$error":"#REF!"}},null,"AUEB1957310","JOINT TETE COMBUS.(X2)-20/32/40-"]
["AUEB1243601",null,"CIRCULATEUR SANITAIRE",null,null,{"$f":"LEFT(Catalogue[[#This Row],[Référence]],3)","v":"AUE"},{"$f":"VLOOKUP(Catalogue[[#This Row],[Alias]],#REF!,2,FALSE)","v":{"$error":"#REF!"}},null,"AUEB1990076","MICA REGARD + JOINTS"]
["AUEB14726564S",null,"ECHANGEUR LELIA",null,null,{"$f":"LEFT(Catalogue[[#This Row],[Référence]],3)","v":"AUE"},{"$f":"VLOOKUP(Catalogue[[#This Row],[Alias]],#REF!,2,FALSE)","v":{"$error":"#REF!"}},null,"AUEB4963005","ENS.BARRETTE MAINTIEN 1502 X2"]
["AUEB1657100",null,"MICA REGARD",null,null,{"$f":"LEFT(Catalogue[[#This Row],[Référence]],3)","v":"AUE"},{"$f":"VLOOKUP(Catalogue[[#This Row],[Alias]],#REF!,2,FALSE)","v":{"$error":"#REF!"}},null,"AUEB4990640","TETE COMBUSTION -PULS 20 (AP98)-"]
["AUEB1945340",null,"ALLUMEUR MINI -S-",null,null,{"$f":"LEFT(Catalogue[[#This Row],[Référence]],3)","v":"AUE"},{"$f":"VLOOKUP(Catalogue[[#This Row],[Alias]],#REF!,2,FALSE)","v":{"$error":"#REF!"}},null,"AUEB4992380","KIT SDE DEGIVRAGE-1243950-CETC3R"]
["AUEB1964442",null,"THERMISTANCE JOINT ET VIS",null,null,{"$f":"LEFT(Catalogue[[#This Row],[Référence]],3)","v":"AUE"},{"$f":"VLOOKUP(Catalogue[[#This Row],[Alias]],#REF!,2,FALSE)","v":{"$error":"#REF!"}},null,"AUEB4993668","KIT DETENDEUR -HRC 17 /2"]
["AUEB2039015",null,"BOITIER ALLUMAGE 0301960",null,null,{"$f":"LEFT(Catalogue[[#This Row],[Référence]],3)","v":"AUE"},{"$f":"VLOOKUP(Catalogue[[#This Row],[Alias]],#REF!,2,FALSE)","v":{"$error":"#REF!"}},null,"BAN0232012","RAC DROIT 1P F15X21 M20/150 0232012"]
["AUEB4972535",null,"ECHANG. A PLAQUES SAV",null,null,{"$f":"LEFT(Catalogue[[#This Row],[Référence]],3)","v":"AUE"},{"$f":"VLOOKUP(Catalogue[[#This Row],[Alias]],#REF!,2,FALSE)","v":{"$error":"#REF!"}},null,"BAN239106","FLEXIBLE INOX+ROAI LONG. 2M"]
["AUEB4991857",null,"ENS.DURITES DEP/RET -32/40-",null,null,{"$f":"LEFT(Catalogue[[#This Row],[Référence]],3)","v":"AUE"},{"$f":"VLOOKUP(Catalogue[[#This Row],[Alias]],#REF!,2,FALSE)","v":{"$error":"#REF!"}},null,"BAN606-10","FLEXIBLE GAZ NAT 1 M INOX"]
["AUEB4993079",null,"ENS.CDC ISO UNIT 4X32",null,null,{"$f":"LEFT(Catalogue[[#This Row],[Référence]],3)","v":"AUE"},{"$f":"VLOOKUP(Catalogue[[#This Row],[Alias]],#REF!,2,FALSE)","v":{"$error":"#REF!"}},null,"BAN902901","CLE 4 USAGES EN CUPRO-ALU        0902901_TR401_711890"]
["BAN0038705",null,"FLEXIBLE ARMUGAZ BP 1,50M   0038705",null,null,{"$f":"LEFT(Catalogue[[#This Row],[Référence]],3)","v":"BAN"},{"$f":"VLOOKUP(Catalogue[[#This Row],[Alias]],#REF!,2,FALSE)","v":{"$error":"#REF!"}},null,"BANB185011","LIMIT PRESS PROP 30KG/H     B185011"]
["BAN0802519",null,"REGULATEUR B25N GN  21M/BAR           0802519",null,null,{"$f":"LEFT(Catalogue[[#This Row],[Référence]],3)","v":"BAN"},{"$f":"VLOOKUP(Catalogue[[#This Row],[Alias]],#REF!,2,FALSE)","v":{"$error":"#REF!"}},null,"BAX710157700","TUBE DEPART CHAUFFAGE (ANC. BAXSX710157700)"]
["BAN22917025",null,"ROB.1/4T.CAL25-DM1 1/4 40mB NF 121917PCAL25",null,null,{"$f":"LEFT(Catalogue[[#This Row],[Référence]],3)","v":"BAN"},{"$f":"VLOOKUP(Catalogue[[#This Row],[Alias]],#REF!,2,FALSE)","v":{"$error":"#REF!"}},null,"BAX710883700","ROBINET SOLO (ANC. BAXSX710883700)"]
["BAN42013015",null,"ROB DN15 MM 20X27 42013015",null,null,{"$f":"LEFT(Catalogue[[#This Row],[Référence]],3)","v":"BAN"},{"$f":"VLOOKUP(Catalogue[[#This Row],[Alias]],#REF!,2,FALSE)","v":{"$error":"#REF!"}},null,"BAX711633900","GROUPE FILTRE LIMITEUR 12L"]
["BANB142950",null,"KIT DET PROP+INV AUTO 4KG B142950",null,null,{"$f":"LEFT(Catalogue[[#This Row],[Référence]],3)","v":"BAN"},{"$f":"VLOOKUP(Catalogue[[#This Row],[Alias]],#REF!,2,FALSE)","v":{"$error":"#REF!"}},null,"BAX7710322","CARTE LMS 14 SGB (ANC. BAX7642558)"]
["BAX710022500",null,"VASE D EXPANSION 8L (ANC. BAXSX710022500)",null,null,{"$f":"LEFT(Catalogue[[#This Row],[Référence]],3)","v":"BAX"},{"$f":"VLOOKUP(Catalogue[[#This Row],[Alias]],#REF!,2,FALSE)","v":{"$error":"#REF!"}},null,"BAXJJD005652030","PURGE DE VIDANGE (ANC. BAXSX5652030)"]
["BAX710682200",null,"GROUPE FILTRE EF 8 L (ANC. BAXSX710682200)",null,null,{"$f":"LEFT(Catalogue[[#This Row],[Référence]],3)","v":"BAX"},{"$f":"VLOOKUP(Catalogue[[#This Row],[Alias]],#REF!,2,FALSE)","v":{"$error":"#REF!"}},null,"BAXJJD009951170","SOUPAPE DE SECURITE 3 BAR MPX 12-24"]
["BAX711613200",null,"ECHANGEUR SANIT 20 PLAQUES",null,null,{"$f":"LEFT(Catalogue[[#This Row],[Référence]],3)","v":"BAX"},{"$f":"VLOOKUP(Catalogue[[#This Row],[Alias]],#REF!,2,FALSE)","v":{"$error":"#REF!"}},null,"BAXJJJ003619380","TUBE BALLON (ANC. BAXSX3619380)"]
["BAX7626810",null,"POMPE FIOUL RLB",null,null,{"$f":"LEFT(Catalogue[[#This Row],[Référence]],3)","v":"BAX"},{"$f":"VLOOKUP(Catalogue[[#This Row],[Alias]],#REF!,2,FALSE)","v":{"$error":"#REF!"}},null,"BAXJJJ005625960","RACCORD SORTIE SANIT (ANC. BAXSX5625960)"]
["BAX7814140",null,"CIRCULATEUR UPM3S+ADAPTATEUR 2 VITESSES",null,null,{"$f":"LEFT(Catalogue[[#This Row],[Référence]],3)","v":"BAX"},{"$f":"VLOOKUP(Catalogue[[#This Row],[Alias]],#REF!,2,FALSE)","v":{"$error":"#REF!"}},null,"BAXJJJ005652270","GROUPE FILTRE/VENTURI SANITAIRE (ANC. BAXSX5652270)"]
["BAXJJD005115820",null,{"$f":"VLOOKUP(A6978,I:J,2,0)","v":"COUVERCLE INFERIEUR (ANC. BAXSX5115820)"},null,null,{"$f":"LEFT(Catalogue[[#This Row],[Référence]],3)","v":"BAX"},{"$f":"VLOOKUP(Catalogue[[#This Row],[Alias]],#REF!,2,FALSE)","v":{"$error":"#REF!"}},null,"BAXJJJ005659020","VASE D EXPANSION 6L /CIRCULAIRE (ANC. BAXSX5659020)"]
["BAXJJJ000605780",null,"PRESSOSTAT POMPE (ANC. BAXSX0605780)",null,null,{"$f":"LEFT(Catalogue[[#This Row],[Référence]],3)","v":"BAX"},{"$f":"VLOOKUP(Catalogue[[#This Row],[Alias]],#REF!,2,FALSE)","v":{"$error":"#REF!"}},null,"BAXJJJ005702310","VANNE GAZ SIEMENS VDU 11.A 120 LMU 54D (ANC. BAXSX5702310)"]
["BAXJJJ005409310",null,"TUBE SIPHON HYDRAULIQUE 2/PRISE L150MM (ANC. BAXSX5409310)",null,null,{"$f":"LEFT(Catalogue[[#This Row],[Référence]],3)","v":"BAX"},{"$f":"VLOOKUP(Catalogue[[#This Row],[Alias]],#REF!,2,FALSE)","v":{"$error":"#REF!"}},null,"BAXJJJ008620380","ALLUMEUR VZ 2/25 SAC (ANC. BAXSX8620380)"]
["BAXJJJ005641800",null,"MICRO INTERRUPTEUR + CABLE LUNA DUO (ANC. BAXSX5641800)",null,null,{"$f":"LEFT(Catalogue[[#This Row],[Référence]],3)","v":"BAX"},{"$f":"VLOOKUP(Catalogue[[#This Row],[Alias]],#REF!,2,FALSE)","v":{"$error":"#REF!"}},null,"BAXS117011","MODULE HYDRAULIQUE ASS. FC 04/15"]
["BAXJJJ005655200S",null,"POMPE GRUNDFOS 15/50 (ANC. BAXSX5655200)",null,null,{"$f":"LEFT(Catalogue[[#This Row],[Référence]],3)","v":"BAX"},{"$f":"VLOOKUP(Catalogue[[#This Row],[Alias]],#REF!,2,FALSE)","v":{"$error":"#REF!"}},null,"BAXS135080","MODULE AMBIANCE"]
["BAXJJJ005663120",null,"TUBE REMPLISSAGE CHAUF.LUNA 3 DUO (ANC. BAXSX5663120)",null,null,{"$f":"LEFT(Catalogue[[#This Row],[Référence]],3)","v":"BAX"},{"$f":"VLOOKUP(Catalogue[[#This Row],[Alias]],#REF!,2,FALSE)","v":{"$error":"#REF!"}},null,"BAXS142395","S142395 ISOLANT CORPS HTE GAZ"]
["BAXJJJ005687510",null,"POMPE UP 15-60 AO AVEC CONNECTEUR 3V (ANC. BAXSX5687510)",null,null,{"$f":"LEFT(Catalogue[[#This Row],[Référence]],3)","v":"BAX"},{"$f":"VLOOKUP(Catalogue[[#This Row],[Alias]],#REF!,2,FALSE)","v":{"$error":"#REF!"}},null,"BAXS17000602","BOITIER ALLUMAGE S4565 C 1025B FF"]
["BAXJJJ008435280",null,"CAPTEUR DE HALL (ANC. BAXSX8435280)",null,null,{"$f":"LEFT(Catalogue[[#This Row],[Référence]],3)","v":"BAX"},{"$f":"VLOOKUP(Catalogue[[#This Row],[Alias]],#REF!,2,FALSE)","v":{"$error":"#REF!"}},null,"BAXS17006955","THERMOST.SECURITE TG 400971 = 17006940"]
["BAXS134720",null,"S134720 MODULE DE BASE FMG",null,null,{"$f":"LEFT(Catalogue[[#This Row],[Référence]],3)","v":"BAX"},{"$f":"VLOOKUP(Catalogue[[#This Row],[Alias]],#REF!,2,FALSE)","v":{"$error":"#REF!"}},null,"BAXS17201782","MODULE  D AMBIANCE QAA 75"]
["BAXS138992",null,"VEILLEUSE INTERMITTENTE LE 131070",null,null,{"$f":"LEFT(Catalogue[[#This Row],[Référence]],3)","v":"BAX"},{"$f":"VLOOKUP(Catalogue[[#This Row],[Alias]],#REF!,2,FALSE)","v":{"$error":"#REF!"}},null,"BAXS17509651","VASE EXPANSION MOD.CHAUF."]
["BAXS17000037",null,"POMPE CP53/130/4/4 - POS 6 = 17000037",null,null,{"$f":"LEFT(Catalogue[[#This Row],[Référence]],3)","v":"BAX"},{"$f":"VLOOKUP(Catalogue[[#This Row],[Alias]],#REF!,2,FALSE)","v":{"$error":"#REF!"}},null,"BAXS3000439","ORGANE D ETANCHEITE  5124I - 5130I - 512"]
["BAXS17003618",null,"INTERRUPTEUR ALLUMAGE SIT",null,null,{"$f":"LEFT(Catalogue[[#This Row],[Référence]],3)","v":"BAX"},{"$f":"VLOOKUP(Catalogue[[#This Row],[Alias]],#REF!,2,FALSE)","v":{"$error":"#REF!"}},null,"BAXS40000044","KIT VIS D ARCHIMEDE KI1022510"]
["BAXS17007709",null,"VANNE GAZ SIT NOVA 820010 - 2000 TS+NUT",null,null,{"$f":"LEFT(Catalogue[[#This Row],[Référence]],3)","v":"BAX"},{"$f":"VLOOKUP(Catalogue[[#This Row],[Alias]],#REF!,2,FALSE)","v":{"$error":"#REF!"}},null,"BAXS505055","BLANKET 607 EN 64-25 AU METRE"]
["BAXS17071467",null,"CONDENSATEUR BAF POUR FF",null,null,{"$f":"LEFT(Catalogue[[#This Row],[Référence]],3)","v":"BAX"},{"$f":"VLOOKUP(Catalogue[[#This Row],[Alias]],#REF!,2,FALSE)","v":{"$error":"#REF!"}},null,"BAXS507451","LMU 74 AVEC BOITIER FAREA"]
["BAXS19999818",null,{"$f":"VLOOKUP(A7298,I:J,2,0)","v":"SONDE TEMPERATURE FRP6 BALLO"},null,null,{"$f":"LEFT(Catalogue[[#This Row],[Référence]],3)","v":"BAX"},{"$f":"VLOOKUP(Catalogue[[#This Row],[Alias]],#REF!,2,FALSE)","v":{"$error":"#REF!"}},null,"BAXS58366626","FLEXIBLE PARIGI LG.1M.CF.500-BORA"]
["BAXS40000009",null,"MOTEUR DEVIAT.EAU   KI1002512",null,null,{"$f":"LEFT(Catalogue[[#This Row],[Référence]],3)","v":"BAX"},{"$f":"VLOOKUP(Catalogue[[#This Row],[Alias]],#REF!,2,FALSE)","v":{"$error":"#REF!"}},null,"BAXS58539758","CELLULE QRB1A A048B70B"]
["BAXS50036783",null,"S50036783 ACCOUPLEMENT COTE TURBINE",null,null,{"$f":"LEFT(Catalogue[[#This Row],[Référence]],3)","v":"BAX"},{"$f":"VLOOKUP(Catalogue[[#This Row],[Alias]],#REF!,2,FALSE)","v":{"$error":"#REF!"}},null,"BAXS71410801","INTERFACE I.S"]
["BAXS502437",null,"SACHET INTERRUPTEURS EDENA PROGRESS",null,null,{"$f":"LEFT(Catalogue[[#This Row],[Référence]],3)","v":"BAX"},{"$f":"VLOOKUP(Catalogue[[#This Row],[Alias]],#REF!,2,FALSE)","v":{"$error":"#REF!"}},null,"BAXSF8000315","DISCONNECTEUR"]
["BAXS58084857",null,"FIL H. T.",null,null,{"$f":"LEFT(Catalogue[[#This Row],[Référence]],3)","v":"BAX"},{"$f":"VLOOKUP(Catalogue[[#This Row],[Alias]],#REF!,2,FALSE)","v":{"$error":"#REF!"}},null,"BAXSPAC9900860","REGULATEUR POUR PHR8"]
["BAXS58209817",null,"MOTEUR LS 370W M2800T E56 * 58209817 SPA",null,null,{"$f":"LEFT(Catalogue[[#This Row],[Référence]],3)","v":"BAX"},{"$f":"VLOOKUP(Catalogue[[#This Row],[Alias]],#REF!,2,FALSE)","v":{"$error":"#REF!"}},null,"BAXSRN663199","VENTILATEUR BBS/BBK WGB"]
["BAXS58528418",null,"BLOC ELECTRODE",null,null,{"$f":"LEFT(Catalogue[[#This Row],[Référence]],3)","v":"BAX"},{"$f":"VLOOKUP(Catalogue[[#This Row],[Alias]],#REF!,2,FALSE)","v":{"$error":"#REF!"}},null,"BAXSRN991292","SRN991292 VANNE GAZ P/WGB2 50/70KW"]
["BAXSA0032808",null,"THERMOCOUPLE VEIL R SH1   SPARE A0032808 CA622",null,null,{"$f":"LEFT(Catalogue[[#This Row],[Référence]],3)","v":"BAX"},{"$f":"VLOOKUP(Catalogue[[#This Row],[Alias]],#REF!,2,FALSE)","v":{"$error":"#REF!"}},null,"BAXSX3619970","ENS.BRIDE/ANODE P/80L MODULO"]
["BAXSF8430153",null,"SF8430153 ROBINET DEPART",null,null,{"$f":"LEFT(Catalogue[[#This Row],[Référence]],3)","v":"BAX"},{"$f":"VLOOKUP(Catalogue[[#This Row],[Alias]],#REF!,2,FALSE)","v":{"$error":"#REF!"}},null,"BAXSX5626810","GROUPE ROBINET ENTR.SANIT.G1"]
["BAXSRN536004",null,"UNITE DE CABLAGE P/LU17-25   #",null,null,{"$f":"LEFT(Catalogue[[#This Row],[Référence]],3)","v":"BAX"},{"$f":"VLOOKUP(Catalogue[[#This Row],[Alias]],#REF!,2,FALSE)","v":{"$error":"#REF!"}},null,"BAXSX5652130","PRESSOSTAT SANITAIRE"]
["BAXSRN957267",null,"UNITE CARTE L6M 11",null,null,{"$f":"LEFT(Catalogue[[#This Row],[Référence]],3)","v":"BAX"},{"$f":"VLOOKUP(Catalogue[[#This Row],[Alias]],#REF!,2,FALSE)","v":{"$error":"#REF!"}},null,"BAXSX5658690","VANNE 3 VOIES"]
["BAXSX0400080",null,"MEMBRANE PRESSOSTAT SANIT. X3",null,null,{"$f":"LEFT(Catalogue[[#This Row],[Référence]],3)","v":"BAX"},{"$f":"VLOOKUP(Catalogue[[#This Row],[Alias]],#REF!,2,FALSE)","v":{"$error":"#REF!"}},null,"BAXSX5667120","INTERFACE SIEMENS AGU2.500"]
["BAXSX0620340",null,"GROUPE FILTRE",null,null,{"$f":"LEFT(Catalogue[[#This Row],[Référence]],3)","v":"BAX"},{"$f":"VLOOKUP(Catalogue[[#This Row],[Alias]],#REF!,2,FALSE)","v":{"$error":"#REF!"}},null,"BAXSX5682150","EXTRACTEUR"]
["BAXSX5626810",null,"GROUPE ROBINET ENTR.SANIT.G1",null,null,{"$f":"LEFT(Catalogue[[#This Row],[Référence]],3)","v":"BAX"},{"$f":"VLOOKUP(Catalogue[[#This Row],[Alias]],#REF!,2,FALSE)","v":{"$error":"#REF!"}},null,"BAXSX710220000","ELECTRODE D ALLUMAGE HT"]
["BAXSX5653890",null,"CIRCUIT IMPRIME IONIS. INECO",null,null,{"$f":"LEFT(Catalogue[[#This Row],[Référence]],3)","v":"BAX"},{"$f":"VLOOKUP(Catalogue[[#This Row],[Alias]],#REF!,2,FALSE)","v":{"$error":"#REF!"}},null,"BAXSX8435260","ALLUMEUR ANSTOS-ZAG 2XV01"]
["BAXSX5661570",null,"ANTIREFOULEUR 3.28 FR",null,null,{"$f":"LEFT(Catalogue[[#This Row],[Référence]],3)","v":"BAX"},{"$f":"VLOOKUP(Catalogue[[#This Row],[Alias]],#REF!,2,FALSE)","v":{"$error":"#REF!"}},null,"BAXSX9950640","SOUPAPE DE SECURITE"]
["BAXSX5669090",null,"CIRCUIT IMPRIME DISPLAY LUNA HTE",null,null,{"$f":"LEFT(Catalogue[[#This Row],[Référence]],3)","v":"BAX"},{"$f":"VLOOKUP(Catalogue[[#This Row],[Alias]],#REF!,2,FALSE)","v":{"$error":"#REF!"}},null,"BDR0284359","VENTILATEUR 24V G1G 126-AC11+ FAIS.ADAPT"]
["BAXSX5687280",null,"POMPE UP 15-50 AO AV.CONN.2V",null,null,{"$f":"LEFT(Catalogue[[#This Row],[Référence]],3)","v":"BAX"},{"$f":"VLOOKUP(Catalogue[[#This Row],[Alias]],#REF!,2,FALSE)","v":{"$error":"#REF!"}},null,"BDR0295190","SOUPAPE DE SECURITE 3 BAR 1/2"]
["BAXSX5696680",null,"ROBINET CHAUFFAGE",null,null,{"$f":"LEFT(Catalogue[[#This Row],[Référence]],3)","v":"BAX"},{"$f":"VLOOKUP(Catalogue[[#This Row],[Alias]],#REF!,2,FALSE)","v":{"$error":"#REF!"}},null,"BDR0301555","TUBE DE RACCORDEMENT ECS/BALLON"]
["BAXSX8435360",null,"SONDE ITS",null,null,{"$f":"LEFT(Catalogue[[#This Row],[Référence]],3)","v":"BAX"},{"$f":"VLOOKUP(Catalogue[[#This Row],[Alias]],#REF!,2,FALSE)","v":{"$error":"#REF!"}},null,"BDR144697","SONDE ECS"]
["BAXSX9951690",null,"PRESSOSTAT CHAUFF LUNA 3 MAX FF HTE =566",null,null,{"$f":"LEFT(Catalogue[[#This Row],[Référence]],3)","v":"BAX"},{"$f":"VLOOKUP(Catalogue[[#This Row],[Alias]],#REF!,2,FALSE)","v":{"$error":"#REF!"}},null,"BDR200001170","TUBE SILICONE -KIT-"]
["BDR0284359S","Non concerné",{"$error":"#N/A"},60,2000007346154,{"$f":"LEFT(Catalogue[[#This Row],[Référence]],3)","v":"BDR"},{"$f":"VLOOKUP(Catalogue[[#This Row],[Alias]],#REF!,2,FALSE)","v":{"$error":"#REF!"}},null,"BDR200002325","SACHET VISSERIE CHAUDIERE MC"]
["BDR0295169",null,"COLLECTEUR DE CONDENSATS",null,null,{"$f":"LEFT(Catalogue[[#This Row],[Référence]],3)","v":"BDR"},{"$f":"VLOOKUP(Catalogue[[#This Row],[Alias]],#REF!,2,FALSE)","v":{"$error":"#REF!"}},null,"BDR200004444","TUBE INTERMED.BRIDE SOUDEE MB800 + JOINT"]
["BDR0295220",null,"KIT MAINT.JOINTS+ELECTRODE",null,null,{"$f":"LEFT(Catalogue[[#This Row],[Référence]],3)","v":"BDR"},{"$f":"VLOOKUP(Catalogue[[#This Row],[Alias]],#REF!,2,FALSE)","v":{"$error":"#REF!"}},null,"BDR200006562","CARTE INTERFACE OTH-CDC + V3V"]
["BDR0304811",null,"TUBE EVAC CONDENSAT LG 640 MODULE 15/25",null,null,{"$f":"LEFT(Catalogue[[#This Row],[Référence]],3)","v":"BDR"},{"$f":"VLOOKUP(Catalogue[[#This Row],[Alias]],#REF!,2,FALSE)","v":{"$error":"#REF!"}},null,"BDR200008220","ELEMENT CHAUF 4500W PRS"]
["BDR200000393",null,"TABL CDE 1.24/II FF CPLT SIT",null,null,{"$f":"LEFT(Catalogue[[#This Row],[Référence]],3)","v":"BDR"},{"$f":"VLOOKUP(Catalogue[[#This Row],[Alias]],#REF!,2,FALSE)","v":{"$error":"#REF!"}},null,"BDR200018713","SCU-S 191 -ACI +RESOL-"]
["BDR200002051",null,"LIMANDE PICOFLEX 26PTS LG. 430MM CLIP",null,null,{"$f":"LEFT(Catalogue[[#This Row],[Référence]],3)","v":"BDR"},{"$f":"VLOOKUP(Catalogue[[#This Row],[Alias]],#REF!,2,FALSE)","v":{"$error":"#REF!"}},null,"BDR200021826","JOINT TORIQUE 20.3X2.62 -X10-"]
["BDR200004160",null,"VASE EXPANSION RN8 + SUPPORT",null,null,{"$f":"LEFT(Catalogue[[#This Row],[Référence]],3)","v":"BDR"},{"$f":"VLOOKUP(Catalogue[[#This Row],[Alias]],#REF!,2,FALSE)","v":{"$error":"#REF!"}},null,"BDR300000504","SACHET ACCESSOIR FLEX DN20 A COUPER"]
["BDR200005240",null,"CARTE UC AFF. DIEM3 BRUL MODU",null,null,{"$f":"LEFT(Catalogue[[#This Row],[Référence]],3)","v":"BDR"},{"$f":"VLOOKUP(Catalogue[[#This Row],[Alias]],#REF!,2,FALSE)","v":{"$error":"#REF!"}},null,"BDR300002002","COUDE 90 RACCORD A VISSER 12 X 12"]
["BDR200007759",null,"FAISCEAU DE BASE CITADINE 2.24",null,null,{"$f":"LEFT(Catalogue[[#This Row],[Référence]],3)","v":"BDR"},{"$f":"VLOOKUP(Catalogue[[#This Row],[Alias]],#REF!,2,FALSE)","v":{"$error":"#REF!"}},null,"BDR300003144","MOTEUR DE VANNE D INVERSION HO VC4013ZZ0"]
["BDR200011220",null,"COFFRET BLACK BOX+CABLAGE NON RECHAUFFE",null,null,{"$f":"LEFT(Catalogue[[#This Row],[Référence]],3)","v":"BDR"},{"$f":"VLOOKUP(Catalogue[[#This Row],[Alias]],#REF!,2,FALSE)","v":{"$error":"#REF!"}},null,"BDR300007501","CARTE DE PUISSANCE TRI"]
["BDR200018815",null,"KIT T-STAT COTHERM BSDP 0002 + SERINGUE",null,null,{"$f":"LEFT(Catalogue[[#This Row],[Référence]],3)","v":"BDR"},{"$f":"VLOOKUP(Catalogue[[#This Row],[Alias]],#REF!,2,FALSE)","v":{"$error":"#REF!"}},null,"BDR300010123","TUBE RETOUR COMMUN"]
["BDR200023091",null,"COFFRET DE SECURITE DMG 972-N MOD.03",null,null,{"$f":"LEFT(Catalogue[[#This Row],[Référence]],3)","v":"BDR"},{"$f":"VLOOKUP(Catalogue[[#This Row],[Alias]],#REF!,2,FALSE)","v":{"$error":"#REF!"}},null,"BDR300012270","TUBE EVACUATION CONDENSATS"]
["BDR300001420",null,"TETE COMBUST.FKS10 NLLE",null,null,{"$f":"LEFT(Catalogue[[#This Row],[Référence]],3)","v":"BDR"},{"$f":"VLOOKUP(Catalogue[[#This Row],[Alias]],#REF!,2,FALSE)","v":{"$error":"#REF!"}},null,"BDR300013348","FAISCEAU MICROCONNECTIQUE"]
["BDR300002172",null,"VANNE GAZ SIT 0.848.080",null,null,{"$f":"LEFT(Catalogue[[#This Row],[Référence]],3)","v":"BDR"},{"$f":"VLOOKUP(Catalogue[[#This Row],[Alias]],#REF!,2,FALSE)","v":{"$error":"#REF!"}},null,"BDR300017426","MOTEUR ESBE ARA641 3 POINTS 230V"]
["BDR300007520",null,"PRESSOSTAT HP AUTO 41.5B/30B",null,null,{"$f":"LEFT(Catalogue[[#This Row],[Référence]],3)","v":"BDR"},{"$f":"VLOOKUP(Catalogue[[#This Row],[Alias]],#REF!,2,FALSE)","v":{"$error":"#REF!"}},null,"BDR300020100","CARTE PUISSANCE TRI ROE 13TH"]
["BDR300007860",null,{"$f":"VLOOKUP(A8066,I:J,2,0)","v":"MOTEUR VENTILAT AXIAL D.150+JOINT BRIDE"},null,null,{"$f":"LEFT(Catalogue[[#This Row],[Référence]],3)","v":"BDR"},{"$f":"VLOOKUP(Catalogue[[#This Row],[Alias]],#REF!,2,FALSE)","v":{"$error":"#REF!"}},null,"BDR300021788","CIRCULATEUR UPS 25-55 180"]
["BDR300011707",null,"ECHANGEUR CBG-II 16",null,null,{"$f":"LEFT(Catalogue[[#This Row],[Référence]],3)","v":"BDR"},{"$f":"VLOOKUP(Catalogue[[#This Row],[Alias]],#REF!,2,FALSE)","v":{"$error":"#REF!"}},null,"BDR300024886","CABLE NAPPE 26 POINTS LG620"]
["BDR300013121",null,"MANOMETRE TG 330.70X5.51A",null,null,{"$f":"LEFT(Catalogue[[#This Row],[Référence]],3)","v":"BDR"},{"$f":"VLOOKUP(Catalogue[[#This Row],[Alias]],#REF!,2,FALSE)","v":{"$error":"#REF!"}},null,"BDR300025274","TUBE DEPART RACCORDEMENT HWT COMPLET"]
["BDR300015656",null,"TUBE RACC EFS/MITIGEUR",null,null,{"$f":"LEFT(Catalogue[[#This Row],[Référence]],3)","v":"BDR"},{"$f":"VLOOKUP(Catalogue[[#This Row],[Alias]],#REF!,2,FALSE)","v":{"$error":"#REF!"}},null,"BDR300025846","CELLULE BST KLC 2002 BLANCHE"]
["BDR300018123",null,"PRESSOSTAT H.P. 41.5 BAR",null,null,{"$f":"LEFT(Catalogue[[#This Row],[Référence]],3)","v":"BDR"},{"$f":"VLOOKUP(Catalogue[[#This Row],[Alias]],#REF!,2,FALSE)","v":{"$error":"#REF!"}},null,"BDR300027133","CABLE TESTEUR D ANODE 870MM"]
["BDR300019352",null,"REGULATEUR CROUZET ALEZIO PROGRAMME",null,null,{"$f":"LEFT(Catalogue[[#This Row],[Référence]],3)","v":"BDR"},{"$f":"VLOOKUP(Catalogue[[#This Row],[Alias]],#REF!,2,FALSE)","v":{"$error":"#REF!"}},null,"BDR300028716","GRILLE"]
["BDR300022981",null,"DOUILLE RACCORD RAPIDE 1",null,null,{"$f":"LEFT(Catalogue[[#This Row],[Référence]],3)","v":"BDR"},{"$f":"VLOOKUP(Catalogue[[#This Row],[Alias]],#REF!,2,FALSE)","v":{"$error":"#REF!"}},null,"BDR300028865","SONDE DE TEMPERATURE FOYER POINT BAS"]
["BDR300024509",null,"JONCTION 1/2",null,null,{"$f":"LEFT(Catalogue[[#This Row],[Référence]],3)","v":"BDR"},{"$f":"VLOOKUP(Catalogue[[#This Row],[Alias]],#REF!,2,FALSE)","v":{"$error":"#REF!"}},null,"BDR59135","CLIP EPINGLE D0036DM"]
["BDR300025396",null,"TETE DETECTEUR HUBA",null,null,{"$f":"LEFT(Catalogue[[#This Row],[Référence]],3)","v":"BDR"},{"$f":"VLOOKUP(Catalogue[[#This Row],[Alias]],#REF!,2,FALSE)","v":{"$error":"#REF!"}},null,"BDR710338900","ENSEMBLE TUBE SORTIE SERPENTIN"]
["BDR300026381",null,"TUBE RETOUR ECHANGEUR COMPLET",null,null,{"$f":"LEFT(Catalogue[[#This Row],[Référence]],3)","v":"BDR"},{"$f":"VLOOKUP(Catalogue[[#This Row],[Alias]],#REF!,2,FALSE)","v":{"$error":"#REF!"}},null,"BDR710674700","CAB.COMPOSANTES BASSE TENS"]
["BDR300027487",null,"TESTEUR D ANODE",null,null,{"$f":"LEFT(Catalogue[[#This Row],[Référence]],3)","v":"BDR"},{"$f":"VLOOKUP(Catalogue[[#This Row],[Alias]],#REF!,2,FALSE)","v":{"$error":"#REF!"}},null,"BDR710827600","GROUPE HYDRAUL. COMPLET 24KW"]
["BDR300028730",null,"BRIQUE REFRACTAIRE GRILLE AV-AR260X64X30",null,null,{"$f":"LEFT(Catalogue[[#This Row],[Référence]],3)","v":"BDR"},{"$f":"VLOOKUP(Catalogue[[#This Row],[Alias]],#REF!,2,FALSE)","v":{"$error":"#REF!"}},null,"BDR711134000","GR. ENT SANIT.10L/RET CHAUFF"]
["BDR300029844",null,"CIRCULATEUR SANITAIRE ZRS 15/4-3 KU",null,null,{"$f":"LEFT(Catalogue[[#This Row],[Référence]],3)","v":"BDR"},{"$f":"VLOOKUP(Catalogue[[#This Row],[Alias]],#REF!,2,FALSE)","v":{"$error":"#REF!"}},null,"BDR711500100","EXCHANGER HEATING"]
["BDR710022000",null,"FLEXIBLE GAZ",null,null,{"$f":"LEFT(Catalogue[[#This Row],[Référence]],3)","v":"BDR"},{"$f":"VLOOKUP(Catalogue[[#This Row],[Alias]],#REF!,2,FALSE)","v":{"$error":"#REF!"}},null,"BDR711613000","ECHANGEUR SANIT 14 PLAQUES"]
["BDR710283700",null,"PANNEAU ISOLANT ARRIERE",null,null,{"$f":"LEFT(Catalogue[[#This Row],[Référence]],3)","v":"BDR"},{"$f":"VLOOKUP(Catalogue[[#This Row],[Alias]],#REF!,2,FALSE)","v":{"$error":"#REF!"}},null,"BDR7222139","CIRCUIT IMPRIME LMS14 85-100KW"]
["BDR7107541",null,"VENTILATEUR RG 148/1200-3633",null,null,{"$f":"LEFT(Catalogue[[#This Row],[Référence]],3)","v":"BDR"},{"$f":"VLOOKUP(Catalogue[[#This Row],[Alias]],#REF!,2,FALSE)","v":{"$error":"#REF!"}},null,"BDR7600498","TABLEAU DE COMMANDE - E NOIR"]
["BDR710968000",null,"CABLE X11-X13/V3V-POMP-VENT",null,null,{"$f":"LEFT(Catalogue[[#This Row],[Référence]],3)","v":"BDR"},{"$f":"VLOOKUP(Catalogue[[#This Row],[Alias]],#REF!,2,FALSE)","v":{"$error":"#REF!"}},null,"BDR7602629","PRESSOSTAT HP"]
["BDR711107600",null,"ENS.VANNE 3 VOIES",null,null,{"$f":"LEFT(Catalogue[[#This Row],[Référence]],3)","v":"BDR"},{"$f":"VLOOKUP(Catalogue[[#This Row],[Alias]],#REF!,2,FALSE)","v":{"$error":"#REF!"}},null,"BDR7604155","CARTE UNITE CENTRALE"]
["BDR7115703",null,"BRULEUR 5 E",null,null,{"$f":"LEFT(Catalogue[[#This Row],[Référence]],3)","v":"BDR"},{"$f":"VLOOKUP(Catalogue[[#This Row],[Alias]],#REF!,2,FALSE)","v":{"$error":"#REF!"}},null,"BDR7609231","CABLE BRULEUR ECOIL"]
["BDR711613200S","Non concerné","ECHANGEUR SANIT 20 PLAQUES",12,2000007349100,{"$f":"LEFT(Catalogue[[#This Row],[Référence]],3)","v":"BDR"},{"$f":"VLOOKUP(Catalogue[[#This Row],[Alias]],#REF!,2,FALSE)","v":{"$error":"#REF!"}},null,"BDR7613298S","CDC"]
["BDR721986700",null,"EXPANSION VESSEL 7L",null,null,{"$f":"LEFT(Catalogue[[#This Row],[Référence]],3)","v":"BDR"},{"$f":"VLOOKUP(Catalogue[[#This Row],[Alias]],#REF!,2,FALSE)","v":{"$error":"#REF!"}},null,"BDR7615512","LIGNE GICLEUR FPHE3 030N5091"]
["BDR7311751",null,"ENS JOINT + COUVERCLE BRULEUR",null,null,{"$f":"LEFT(Catalogue[[#This Row],[Référence]],3)","v":"BDR"},{"$f":"VLOOKUP(Catalogue[[#This Row],[Alias]],#REF!,2,FALSE)","v":{"$error":"#REF!"}},null,"BDR7623008","INSERT COMAP THERMOSTATIQUE M28"]
["BDR7602629",null,"PRESSOSTAT HP",null,null,{"$f":"LEFT(Catalogue[[#This Row],[Référence]],3)","v":"BDR"},{"$f":"VLOOKUP(Catalogue[[#This Row],[Alias]],#REF!,2,FALSE)","v":{"$error":"#REF!"}},null,"BDR7626836","PLAQUE REGLAGE VOLET AIR"]
["BDR7605159",null,"ISOLATION ECHANGEUR CPL",null,null,{"$f":"LEFT(Catalogue[[#This Row],[Référence]],3)","v":"BDR"},{"$f":"VLOOKUP(Catalogue[[#This Row],[Alias]],#REF!,2,FALSE)","v":{"$error":"#REF!"}},null,"BDR7631936","TUYAU EVACUATION FUMEE D.100MM"]
["BDR7609577",null,"CABLE HMI MK2",null,null,{"$f":"LEFT(Catalogue[[#This Row],[Référence]],3)","v":"BDR"},{"$f":"VLOOKUP(Catalogue[[#This Row],[Alias]],#REF!,2,FALSE)","v":{"$error":"#REF!"}},null,"BDR7635883","KIT JOINTS TRAPPE CONDENSEUR 314KV"]
["BDR7614245",null,"VANNE ARRET 5/8",null,null,{"$f":"LEFT(Catalogue[[#This Row],[Référence]],3)","v":"BDR"},{"$f":"VLOOKUP(Catalogue[[#This Row],[Alias]],#REF!,2,FALSE)","v":{"$error":"#REF!"}},null,"BDR7641431","CIRCULATEUR ALPHA 2L 25-60"]
["BDR7615505",null,"LIGNE GICLEUR FPHE3 030N5092",null,null,{"$f":"LEFT(Catalogue[[#This Row],[Référence]],3)","v":"BDR"},{"$f":"VLOOKUP(Catalogue[[#This Row],[Alias]],#REF!,2,FALSE)","v":{"$error":"#REF!"}},null,"BDR7648104","KIT DE RACCORDS POUR DUO FLEX DN16"]
["BDR7626774",null,"COFFRET DE SECURITE MO535 RBL 60 S.",null,null,{"$f":"LEFT(Catalogue[[#This Row],[Référence]],3)","v":"BDR"},{"$f":"VLOOKUP(Catalogue[[#This Row],[Alias]],#REF!,2,FALSE)","v":{"$error":"#REF!"}},null,"BDR7657028","TUBE DEPART CHAUFFAGE"]
["BDR7626824",null,"PROTECTION",null,null,{"$f":"LEFT(Catalogue[[#This Row],[Référence]],3)","v":"BDR"},{"$f":"VLOOKUP(Catalogue[[#This Row],[Alias]],#REF!,2,FALSE)","v":{"$error":"#REF!"}},null,"BDR7659603","CIRCULATEUR YONOS PARA MS 7B (A)"]
["BDR7631168",null,"SOUPAPE DE SECURITE 6 BARS",null,null,{"$f":"LEFT(Catalogue[[#This Row],[Référence]],3)","v":"BDR"},{"$f":"VLOOKUP(Catalogue[[#This Row],[Alias]],#REF!,2,FALSE)","v":{"$error":"#REF!"}},null,"BDR7667937","PANNEAU ISOLANT AVANT"]
["BDR7636253",null,"ELEMENT BLINDE 3300W TRI",null,null,{"$f":"LEFT(Catalogue[[#This Row],[Référence]],3)","v":"BDR"},{"$f":"VLOOKUP(Catalogue[[#This Row],[Alias]],#REF!,2,FALSE)","v":{"$error":"#REF!"}},null,"BDR7672680","TUBE VASE D EXPANSION"]
["BDR7641131",null,"CARTE ELECTRONIQUE PCU-195",null,null,{"$f":"LEFT(Catalogue[[#This Row],[Référence]],3)","v":"BDR"},{"$f":"VLOOKUP(Catalogue[[#This Row],[Alias]],#REF!,2,FALSE)","v":{"$error":"#REF!"}},null,"BDR7673315","HELICE"]
["BDR7650436",null,"DESHYDRATEUR BIFLOW",null,null,{"$f":"LEFT(Catalogue[[#This Row],[Référence]],3)","v":"BDR"},{"$f":"VLOOKUP(Catalogue[[#This Row],[Alias]],#REF!,2,FALSE)","v":{"$error":"#REF!"}},null,"BDR7680047","FAISCEAU SONDES"]
["BDR7653994",null,"BOL DE RECIRCULATION 25",null,null,{"$f":"LEFT(Catalogue[[#This Row],[Référence]],3)","v":"BDR"},{"$f":"VLOOKUP(Catalogue[[#This Row],[Alias]],#REF!,2,FALSE)","v":{"$error":"#REF!"}},null,"BDR7682521","CABLAGE LMS14 X13"]
["BDR7659158",null,"POMPE FIOUL MODULANTE",null,null,{"$f":"LEFT(Catalogue[[#This Row],[Référence]],3)","v":"BDR"},{"$f":"VLOOKUP(Catalogue[[#This Row],[Alias]],#REF!,2,FALSE)","v":{"$error":"#REF!"}},null,"BDR7693998","VANNE GAZ 28KW"]
["BDR7665951",null,"KIT PRESSOSTAT 270PA MY498",null,null,{"$f":"LEFT(Catalogue[[#This Row],[Référence]],3)","v":"BDR"},{"$f":"VLOOKUP(Catalogue[[#This Row],[Alias]],#REF!,2,FALSE)","v":{"$error":"#REF!"}},null,"BDR7696757","SIPHON + JOINT D ETANCHEITE"]
["BDR7672687",null,"ECHANGEUR SANITAIRE 14 PLAQUES -24/28MI-",null,null,{"$f":"LEFT(Catalogue[[#This Row],[Référence]],3)","v":"BDR"},{"$f":"VLOOKUP(Catalogue[[#This Row],[Alias]],#REF!,2,FALSE)","v":{"$error":"#REF!"}},null,"BDR7705058","COFFRET BLACK BOX NON RECHAUFFE B-B LE-P"]
["BDR7672705",null,"TUBE GAZ FLEXIBLE",null,null,{"$f":"LEFT(Catalogue[[#This Row],[Référence]],3)","v":"BDR"},{"$f":"VLOOKUP(Catalogue[[#This Row],[Alias]],#REF!,2,FALSE)","v":{"$error":"#REF!"}},null,"BDR7706739","MODULE AIR-GAS 40KW"]
["BDR7675592",null,"CARTOUCHE V3V",null,null,{"$f":"LEFT(Catalogue[[#This Row],[Référence]],3)","v":"BDR"},{"$f":"VLOOKUP(Catalogue[[#This Row],[Alias]],#REF!,2,FALSE)","v":{"$error":"#REF!"}},null,"BDR7721704","COLIS ACCESSOIRES SPM DD MY522"]
["BDR7680622",null,"VENTILATEUR NRG118 6 TROUS",null,null,{"$f":"LEFT(Catalogue[[#This Row],[Référence]],3)","v":"BDR"},{"$f":"VLOOKUP(Catalogue[[#This Row],[Alias]],#REF!,2,FALSE)","v":{"$error":"#REF!"}},null,"BDR7730256","MANOMETRE"]
["BDR7693819",null,"SOUPAPE DE SECURITE 3 BARS",null,null,{"$f":"LEFT(Catalogue[[#This Row],[Référence]],3)","v":"BDR"},{"$f":"VLOOKUP(Catalogue[[#This Row],[Alias]],#REF!,2,FALSE)","v":{"$error":"#REF!"}},null,"BDR7766891","CARTE EHC-08"]
["BDR7695570",null,"CIRCUIT IMPRIME/EXTRACTEUR",null,null,{"$f":"LEFT(Catalogue[[#This Row],[Référence]],3)","v":"BDR"},{"$f":"VLOOKUP(Catalogue[[#This Row],[Alias]],#REF!,2,FALSE)","v":{"$error":"#REF!"}},null,"BDR7776771","CARTE UNITE CENTRALE"]
["BDR7700776",null,"KIT ELECTRODES MODULANT CL VERTE",null,null,{"$f":"LEFT(Catalogue[[#This Row],[Référence]],3)","v":"BDR"},{"$f":"VLOOKUP(Catalogue[[#This Row],[Alias]],#REF!,2,FALSE)","v":{"$error":"#REF!"}},null,"BDR7792997","POMPE WILO PARA 15-130/7-50/SC-3"]
["BDR7702138",null,"ELECTRODE ALLUMAGE",null,null,{"$f":"LEFT(Catalogue[[#This Row],[Référence]],3)","v":"BDR"},{"$f":"VLOOKUP(Catalogue[[#This Row],[Alias]],#REF!,2,FALSE)","v":{"$error":"#REF!"}},null,"BDR7796314","THERMOSTAT BIMETALLIQUE"]
["BDR7708660",null,"GROUPE ROBINET DE REMPLISSAGE",null,null,{"$f":"LEFT(Catalogue[[#This Row],[Référence]],3)","v":"BDR"},{"$f":"VLOOKUP(Catalogue[[#This Row],[Alias]],#REF!,2,FALSE)","v":{"$error":"#REF!"}},null,"BDR7798660","CABLE ALLUMAGE LG.420MM"]
["BDR7721704",null,"COLIS ACCESSOIRES SPM DD MY522",null,null,{"$f":"LEFT(Catalogue[[#This Row],[Référence]],3)","v":"BDR"},{"$f":"VLOOKUP(Catalogue[[#This Row],[Alias]],#REF!,2,FALSE)","v":{"$error":"#REF!"}},null,"BDR7801497","ROBINET RETOUR CHAUFFAGE"]
["BDR7730256",null,"MANOMETRE",null,null,{"$f":"LEFT(Catalogue[[#This Row],[Référence]],3)","v":"BDR"},{"$f":"VLOOKUP(Catalogue[[#This Row],[Alias]],#REF!,2,FALSE)","v":{"$error":"#REF!"}},null,"BDR7814294","CIRCUL. PARA 15-130/6-50/SCA-9H"]
["BDR7766811",null,"CARTE LMS 14",null,null,{"$f":"LEFT(Catalogue[[#This Row],[Référence]],3)","v":"BDR"},{"$f":"VLOOKUP(Catalogue[[#This Row],[Alias]],#REF!,2,FALSE)","v":{"$error":"#REF!"}},null,"BDR7843623","KIT CLIP MALE (X10)"]
["BDR7776728",null,"SONDE-H TH3",null,null,{"$f":"LEFT(Catalogue[[#This Row],[Référence]],3)","v":"BDR"},{"$f":"VLOOKUP(Catalogue[[#This Row],[Alias]],#REF!,2,FALSE)","v":{"$error":"#REF!"}},null,"BDR81995526","PORTE FOY.GT110 CPL PEINT"]
["BDR7793509S","DDI86665577S","CDC CITY",76,2000001512548,{"$f":"LEFT(Catalogue[[#This Row],[Référence]],3)","v":"BDR"},{"$f":"VLOOKUP(Catalogue[[#This Row],[Alias]],#REF!,2,FALSE)","v":{"$error":"#REF!"}},null,"BDR83688793","ELECTRODE D ALLUMAGE CPLT"]
["BDR7798045",null,"JOINT TORIQUE BRULEUR",null,null,{"$f":"LEFT(Catalogue[[#This Row],[Référence]],3)","v":"BDR"},{"$f":"VLOOKUP(Catalogue[[#This Row],[Alias]],#REF!,2,FALSE)","v":{"$error":"#REF!"}},null,"BDR83878513","ISOLATION CPLTE SBK5"]
["BDR7798698",null,"CIRCULAT. PARA 15-130/7-50/SC-12 OR SCU",null,null,{"$f":"LEFT(Catalogue[[#This Row],[Référence]],3)","v":"BDR"},{"$f":"VLOOKUP(Catalogue[[#This Row],[Alias]],#REF!,2,FALSE)","v":{"$error":"#REF!"}},null,"BDR83884907","CIRCUIT ELEC SONDE IONI"]
["BDR7801498",null,"ROBINET DEPART CHAUFFAGE",null,null,{"$f":"LEFT(Catalogue[[#This Row],[Référence]],3)","v":"BDR"},{"$f":"VLOOKUP(Catalogue[[#This Row],[Alias]],#REF!,2,FALSE)","v":{"$error":"#REF!"}},null,"BDR83885636","KIT ISOL TIROIR BRUL F-W4"]
["BDR7822585",null,"ELECTRODE CPLT 4/7/12KG.BLI.40",null,null,{"$f":"LEFT(Catalogue[[#This Row],[Référence]],3)","v":"BDR"},{"$f":"VLOOKUP(Catalogue[[#This Row],[Alias]],#REF!,2,FALSE)","v":{"$error":"#REF!"}},null,"BDR85024923","CIRCUIT ELEC VGAZ 220/II"]
["BDR7824693",null,"PANNEAU AVANT 2 ADV COMPLET",null,null,{"$f":"LEFT(Catalogue[[#This Row],[Référence]],3)","v":"BDR"},{"$f":"VLOOKUP(Catalogue[[#This Row],[Alias]],#REF!,2,FALSE)","v":{"$error":"#REF!"}},null,"BDR85185516","VANNE SIT SIGMA 840"]
["BDR81994926",null,"CONN 3PT MONTE TS",null,null,{"$f":"LEFT(Catalogue[[#This Row],[Référence]],3)","v":"BDR"},{"$f":"VLOOKUP(Catalogue[[#This Row],[Alias]],#REF!,2,FALSE)","v":{"$error":"#REF!"}},null,"BDR86665507","FOND DE FOYER CPL"]
["BDR83504700",null,"T-COUPLE SIT LG 600 + ECR",null,null,{"$f":"LEFT(Catalogue[[#This Row],[Référence]],3)","v":"BDR"},{"$f":"VLOOKUP(Catalogue[[#This Row],[Alias]],#REF!,2,FALSE)","v":{"$error":"#REF!"}},null,"BDR86665538","JOINT COUVERCLE-CAISSON"]
["BDR83874921",null,"CIRCUIT ELEC VENTILATEUR",null,null,{"$f":"LEFT(Catalogue[[#This Row],[Référence]],3)","v":"BDR"},{"$f":"VLOOKUP(Catalogue[[#This Row],[Alias]],#REF!,2,FALSE)","v":{"$error":"#REF!"}},null,"BDR86665598","VASE D EXPANSION CPL"]
["BDR83878533",null,"PRESSOSTAT AIR CPLT SBK",null,null,{"$f":"LEFT(Catalogue[[#This Row],[Référence]],3)","v":"BDR"},{"$f":"VLOOKUP(Catalogue[[#This Row],[Alias]],#REF!,2,FALSE)","v":{"$error":"#REF!"}},null,"BDR86665671","EMBASE GRUNDFOS + JOINT"]
["BDR84064820",null,"ALLUMEUR ANSTOSS COMPLET",null,null,{"$f":"LEFT(Catalogue[[#This Row],[Référence]],3)","v":"BDR"},{"$f":"VLOOKUP(Catalogue[[#This Row],[Alias]],#REF!,2,FALSE)","v":{"$error":"#REF!"}},null,"BDR88055151","CARTE PUISS.DIEMAT.AP.11.93 / DIEMAT.M"]
["BDR85021522",null,"ANTIREF ASSEMBLE EOX 11",null,null,{"$f":"LEFT(Catalogue[[#This Row],[Référence]],3)","v":"BDR"},{"$f":"VLOOKUP(Catalogue[[#This Row],[Alias]],#REF!,2,FALSE)","v":{"$error":"#REF!"}},null,"BDR88065535","CARTE OPT V3V DIEM 3 TEST"]
["BDR85188519",null,"ANTIREF CPLT DTG 138",null,null,{"$f":"LEFT(Catalogue[[#This Row],[Référence]],3)","v":"BDR"},{"$f":"VLOOKUP(Catalogue[[#This Row],[Alias]],#REF!,2,FALSE)","v":{"$error":"#REF!"}},null,"BDR88065584","CARTE SONDE ECONOX + PR"]
["BDR86664980",null,"CABLE D ALIM. CS CH",null,null,{"$f":"LEFT(Catalogue[[#This Row],[Référence]],3)","v":"BDR"},{"$f":"VLOOKUP(Catalogue[[#This Row],[Alias]],#REF!,2,FALSE)","v":{"$error":"#REF!"}},null,"BDR89555505","TAMPON SUP. D112 AVEC ANODE -1X33X330-"]
["BDR86665526",null,"DIAPHRAGME D.4.2 BP CPL",null,null,{"$f":"LEFT(Catalogue[[#This Row],[Référence]],3)","v":"BDR"},{"$f":"VLOOKUP(Catalogue[[#This Row],[Alias]],#REF!,2,FALSE)","v":{"$error":"#REF!"}},null,"BDR89708901","ANODE COMPL D33MM L330 MM TAMPON LAT/SUP"]
["BDR86665567",null,"JOINTS CHAUDIERE -SACHET-",null,null,{"$f":"LEFT(Catalogue[[#This Row],[Référence]],3)","v":"BDR"},{"$f":"VLOOKUP(Catalogue[[#This Row],[Alias]],#REF!,2,FALSE)","v":{"$error":"#REF!"}},null,"BDR94914292","CLAPET ANTIRET EQ 1 M3/4"]
["BDR86665714",null,"TAMPON+JOINT+ANODE",null,null,{"$f":"LEFT(Catalogue[[#This Row],[Référence]],3)","v":"BDR"},{"$f":"VLOOKUP(Catalogue[[#This Row],[Alias]],#REF!,2,FALSE)","v":{"$error":"#REF!"}},null,"BDR95106110","TRANSFO ALLUM SATRO ZT812"]
["BDR86668761S","Non concerné",{"$error":"#N/A"},275,2000007351745,{"$f":"LEFT(Catalogue[[#This Row],[Référence]],3)","v":"BDR"},{"$f":"VLOOKUP(Catalogue[[#This Row],[Alias]],#REF!,2,FALSE)","v":{"$error":"#REF!"}},null,"BDR95340285","DISJONCTEUR 6A TS710/6A"]
["BDR88055602",null,"CARTE UC M DELTA TESTEE",null,null,{"$f":"LEFT(Catalogue[[#This Row],[Référence]],3)","v":"BDR"},{"$f":"VLOOKUP(Catalogue[[#This Row],[Alias]],#REF!,2,FALSE)","v":{"$error":"#REF!"}},null,"BDR95362449","SONDE DEPART VF 60 2.5M"]
["BDR88065531",null,"CARTE RELAIS DOMO +3 TEST",null,null,{"$f":"LEFT(Catalogue[[#This Row],[Référence]],3)","v":"BDR"},{"$f":"VLOOKUP(Catalogue[[#This Row],[Alias]],#REF!,2,FALSE)","v":{"$error":"#REF!"}},null,"BDR95363327","T-STAT COTHERM BTS70080"]
["BDR89530517",null,"TAMPON EMAILLE ST 75",null,null,{"$f":"LEFT(Catalogue[[#This Row],[Référence]],3)","v":"BDR"},{"$f":"VLOOKUP(Catalogue[[#This Row],[Alias]],#REF!,2,FALSE)","v":{"$error":"#REF!"}},null,"BDR95365584","T-STAT REGLAGE 30-90C"]
["BDR89628562",null,"ANODE CPLT D33 MM L450 MM TAMPON SUP",null,null,{"$f":"LEFT(Catalogue[[#This Row],[Référence]],3)","v":"BDR"},{"$f":"VLOOKUP(Catalogue[[#This Row],[Alias]],#REF!,2,FALSE)","v":{"$error":"#REF!"}},null,"BDR97549224","BRIDE COUDEE SIT 1/2"]
["BDR94994106",null,"FLEXIBLE INOX DN20 F1 L400",null,null,{"$f":"LEFT(Catalogue[[#This Row],[Référence]],3)","v":"BDR"},{"$f":"VLOOKUP(Catalogue[[#This Row],[Alias]],#REF!,2,FALSE)","v":{"$error":"#REF!"}},null,"BDR97864038","ENS FACADE STANDARD + PEAU"]
["BDR94994129",null,"FLEX DR RTP 3/8  DN8 L300",null,null,{"$f":"LEFT(Catalogue[[#This Row],[Référence]],3)","v":"BDR"},{"$f":"VLOOKUP(Catalogue[[#This Row],[Alias]],#REF!,2,FALSE)","v":{"$error":"#REF!"}},null,"BDR97869918","ELEMENT 2200T EPDM+BRIDE+JOINT"]
["BDR95325027",null,"INTERRUPTEUR BIPOL LUMINEUX VERT M/A",null,null,{"$f":"LEFT(Catalogue[[#This Row],[Référence]],3)","v":"BDR"},{"$f":"VLOOKUP(Catalogue[[#This Row],[Alias]],#REF!,2,FALSE)","v":{"$error":"#REF!"}},null,"BDR97903412","GICLEUR DANFOSS- 0.55 - 60SR"]
["BDR95360216",null,"SOUPAPE SECU ISO 3B TUV",null,null,{"$f":"LEFT(Catalogue[[#This Row],[Référence]],3)","v":"BDR"},{"$f":"VLOOKUP(Catalogue[[#This Row],[Alias]],#REF!,2,FALSE)","v":{"$error":"#REF!"}},null,"BDR97904866","TURBINE VENTILATEUR 160 X 32"]
["BDR95363038",null,"P-STAT AIR HUBA SERIE 605",null,null,{"$f":"LEFT(Catalogue[[#This Row],[Référence]],3)","v":"BDR"},{"$f":"VLOOKUP(Catalogue[[#This Row],[Alias]],#REF!,2,FALSE)","v":{"$error":"#REF!"}},null,"BDR97909074","ELECTROVANNE VE 131"]
["BDR95365366",null,"INTER RACCORD SIT 0974411",null,null,{"$f":"LEFT(Catalogue[[#This Row],[Référence]],3)","v":"BDR"},{"$f":"VLOOKUP(Catalogue[[#This Row],[Alias]],#REF!,2,FALSE)","v":{"$error":"#REF!"}},null,"BDR97932521","ECHANGEUR CBG 10"]
["BDR97570027",null,"BRIDE DU REGARD",null,null,{"$f":"LEFT(Catalogue[[#This Row],[Référence]],3)","v":"BDR"},{"$f":"VLOOKUP(Catalogue[[#This Row],[Alias]],#REF!,2,FALSE)","v":{"$error":"#REF!"}},null,"BDR97955016","GICLEUR DELAVAN - 0.50 - 80W"]
["BDR97860024",null,"ENS CAPOT ACI TRI HZ/SS",null,null,{"$f":"LEFT(Catalogue[[#This Row],[Référence]],3)","v":"BDR"},{"$f":"VLOOKUP(Catalogue[[#This Row],[Alias]],#REF!,2,FALSE)","v":{"$error":"#REF!"}},null,"BDR97955508","SET RESSORT -X5-"]
["BDR97869021",null,"THERMOMETRE RETOUR",null,null,{"$f":"LEFT(Catalogue[[#This Row],[Référence]],3)","v":"BDR"},{"$f":"VLOOKUP(Catalogue[[#This Row],[Alias]],#REF!,2,FALSE)","v":{"$error":"#REF!"}},null,"BDR97955960","ELECTRODE D ALLUMAGE+IONISATION COURBEE"]
["BDR97902364S","Non concerné","ECHANGEUR 1 SERVICE 871",140,2000007345157,{"$f":"LEFT(Catalogue[[#This Row],[Référence]],3)","v":"BDR"},{"$f":"VLOOKUP(Catalogue[[#This Row],[Alias]],#REF!,2,FALSE)","v":{"$error":"#REF!"}},null,"BDRJJD000606930","SECURITE DE DEBORDEMENT 60"]
["BDR97903436",null,"GICLEUR DANFOSS - 0.50 - 45S",null,null,{"$f":"LEFT(Catalogue[[#This Row],[Référence]],3)","v":"BDR"},{"$f":"VLOOKUP(Catalogue[[#This Row],[Alias]],#REF!,2,FALSE)","v":{"$error":"#REF!"}},null,"BDRJJD005115820","COUVERCLE INFERIEUR"]
["BDR97905735",null,"POMPE FIOUL BFP21 L3L",null,null,{"$f":"LEFT(Catalogue[[#This Row],[Référence]],3)","v":"BDR"},{"$f":"VLOOKUP(Catalogue[[#This Row],[Alias]],#REF!,2,FALSE)","v":{"$error":"#REF!"}},null,"BDRJJD005633310","ANTIREFOULEUR BIC"]
["BDR97931116",null,"VALVE EAU CBG SOUTIRAGE DIRECT",null,null,{"$f":"LEFT(Catalogue[[#This Row],[Référence]],3)","v":"BDR"},{"$f":"VLOOKUP(Catalogue[[#This Row],[Alias]],#REF!,2,FALSE)","v":{"$error":"#REF!"}},null,"BDRJJD005686670S","ECHANGEUR 12 PLAQUES"]
["BDR97948458",null,"CABLE ALLUMAGE -X2-",null,null,{"$f":"LEFT(Catalogue[[#This Row],[Référence]],3)","v":"BDR"},{"$f":"VLOOKUP(Catalogue[[#This Row],[Alias]],#REF!,2,FALSE)","v":{"$error":"#REF!"}},null,"BDRJJD008435270","SONDE NTC"]
["BDR97955379",null,"POMPE FIOUL A2L 95B",null,null,{"$f":"LEFT(Catalogue[[#This Row],[Référence]],3)","v":"BDR"},{"$f":"VLOOKUP(Catalogue[[#This Row],[Alias]],#REF!,2,FALSE)","v":{"$error":"#REF!"}},null,"BDRJJD009951650","MANOMETRE AVEC SUPPORT"]
["BDR97955516",null,"SACHET VISSERIE BRULEUR",null,null,{"$f":"LEFT(Catalogue[[#This Row],[Référence]],3)","v":"BDR"},{"$f":"VLOOKUP(Catalogue[[#This Row],[Alias]],#REF!,2,FALSE)","v":{"$error":"#REF!"}},null,"BDRJJD710296700","CIRCULATEUR GRUNDFOS UPS015-60 CIL2"]
["BDR97960071",null,"ALLUMEUR PIEZO",null,null,{"$f":"LEFT(Catalogue[[#This Row],[Référence]],3)","v":"BDR"},{"$f":"VLOOKUP(Catalogue[[#This Row],[Alias]],#REF!,2,FALSE)","v":{"$error":"#REF!"}},null,"BDRJJD710706200","PANNEAU AVANT CAISSON"]
["BDRJJD000606930",null,"SECURITE DE DEBORDEMENT 60",null,null,{"$f":"LEFT(Catalogue[[#This Row],[Référence]],3)","v":"BDR"},{"$f":"VLOOKUP(Catalogue[[#This Row],[Alias]],#REF!,2,FALSE)","v":{"$error":"#REF!"}},null,"BDRJJD721403800","INSERT VALVE 3 VOIES"]
["BDRJJD005115810",null,"COUVERCLE SUP. AV/TROU INSPECTION",null,null,{"$f":"LEFT(Catalogue[[#This Row],[Référence]],3)","v":"BDR"},{"$f":"VLOOKUP(Catalogue[[#This Row],[Alias]],#REF!,2,FALSE)","v":{"$error":"#REF!"}},null,"BDRJJJ000613090","SECURITE DE DEBORDEMENT 48"]
["BDRJJD005646410S",null,"CDC LUNA DUO",null,null,{"$f":"LEFT(Catalogue[[#This Row],[Référence]],3)","v":"BDR"},{"$f":"VLOOKUP(Catalogue[[#This Row],[Alias]],#REF!,2,FALSE)","v":{"$error":"#REF!"}},null,"BDRJJJ003621240","VANNE GAZ SIT SIGMA822 NOVAMIX"]
["BDRJJD005681090",null,"PLAQUE SUPPORT VENTILATEUR",null,null,{"$f":"LEFT(Catalogue[[#This Row],[Référence]],3)","v":"BDR"},{"$f":"VLOOKUP(Catalogue[[#This Row],[Alias]],#REF!,2,FALSE)","v":{"$error":"#REF!"}},null,"BDRJJJ005408080","TUBE PRESSOSTAT 4.8X8 L=270 (X4)"]
["BDRJJD005693900S","Non concerné","VASE EXPANSION",20,2000007353862,{"$f":"LEFT(Catalogue[[#This Row],[Référence]],3)","v":"BDR"},{"$f":"VLOOKUP(Catalogue[[#This Row],[Alias]],#REF!,2,FALSE)","v":{"$error":"#REF!"}},null,"BDRJJJ005410900","JOINT VENTILATEUR"]
["BDRJJD008510910",null,"ALLUMEUR ANSTOSS",null,null,{"$f":"LEFT(Catalogue[[#This Row],[Référence]],3)","v":"BDR"},{"$f":"VLOOKUP(Catalogue[[#This Row],[Alias]],#REF!,2,FALSE)","v":{"$error":"#REF!"}},null,"BDRJJJ005629240","LIMITEUR DEBIT SANIT.8L/MN"]
["BDRJJD710046300",null,"TUBE BY-PASS MI",null,null,{"$f":"LEFT(Catalogue[[#This Row],[Référence]],3)","v":"BDR"},{"$f":"VLOOKUP(Catalogue[[#This Row],[Alias]],#REF!,2,FALSE)","v":{"$error":"#REF!"}},null,"BDRJJJ005634820","BOUCHON AVANT LUNA 3 DUO FF HTE"]
["BDRJJD710227300",null,"ROBINET ENTREE SANITAIRE G1/2",null,null,{"$f":"LEFT(Catalogue[[#This Row],[Référence]],3)","v":"BDR"},{"$f":"VLOOKUP(Catalogue[[#This Row],[Alias]],#REF!,2,FALSE)","v":{"$error":"#REF!"}},null,"BDRJJJ005646190","BOUCHON PRESSOSTAT SANITAIRE"]
["BDRJJD710605800",null,"TUBE SORTIE BALLON",null,null,{"$f":"LEFT(Catalogue[[#This Row],[Référence]],3)","v":"BDR"},{"$f":"VLOOKUP(Catalogue[[#This Row],[Alias]],#REF!,2,FALSE)","v":{"$error":"#REF!"}},null,"BDRJJJ005653760","CHAMBRE DE COMBUSTION (ATM)  = CL618840"]
["BDRJJJ000619370",null,"GROUPE FILTRE LIMITEUR 8L",null,null,{"$f":"LEFT(Catalogue[[#This Row],[Référence]],3)","v":"BDR"},{"$f":"VLOOKUP(Catalogue[[#This Row],[Alias]],#REF!,2,FALSE)","v":{"$error":"#REF!"}},null,"BDRJJJ005662620","VASE D EXPANSION 8 L RECT."]
["BDRJJJ003619380",null,"TUBE BALLON",null,null,{"$f":"LEFT(Catalogue[[#This Row],[Référence]],3)","v":"BDR"},{"$f":"VLOOKUP(Catalogue[[#This Row],[Alias]],#REF!,2,FALSE)","v":{"$error":"#REF!"}},null,"BDRJJJ005663510S","ECHANGEUR PRINCIPAL"]
["BDRJJJ005211790",null,"BRIDE DE RACCORD ECHANGEUR",null,null,{"$f":"LEFT(Catalogue[[#This Row],[Référence]],3)","v":"BDR"},{"$f":"VLOOKUP(Catalogue[[#This Row],[Alias]],#REF!,2,FALSE)","v":{"$error":"#REF!"}},null,"BDRJJJ005668540S","BALLON"]
["BDRJJJ005407730",null,"BOUTON POTENTIOMETRE ECO 2000",null,null,{"$f":"LEFT(Catalogue[[#This Row],[Référence]],3)","v":"BDR"},{"$f":"VLOOKUP(Catalogue[[#This Row],[Alias]],#REF!,2,FALSE)","v":{"$error":"#REF!"}},null,"BDRJJJ005670750","SP.ECHANGEUR PRINCIPAL 65KW"]
["BDRJJJ005410680",null,"RACCORD SEPARATEUR DE FUMEES",null,null,{"$f":"LEFT(Catalogue[[#This Row],[Référence]],3)","v":"BDR"},{"$f":"VLOOKUP(Catalogue[[#This Row],[Alias]],#REF!,2,FALSE)","v":{"$error":"#REF!"}},null,"BDRJJJ005677910","SIPHON HYDRAULIQUE"]
["BDRJJJ005626050",null,"VANNE GAZ SIT TANDEM",null,null,{"$f":"LEFT(Catalogue[[#This Row],[Référence]],3)","v":"BDR"},{"$f":"VLOOKUP(Catalogue[[#This Row],[Alias]],#REF!,2,FALSE)","v":{"$error":"#REF!"}},null,"BDRJJJ005687380","FACADE TABLEAU BORD INITIA 3"]
["BDRJJJ005645730",null,"TUBE DISCONNECTEUR",null,null,{"$f":"LEFT(Catalogue[[#This Row],[Référence]],3)","v":"BDR"},{"$f":"VLOOKUP(Catalogue[[#This Row],[Alias]],#REF!,2,FALSE)","v":{"$error":"#REF!"}},null,"BDRJJJ005702450","ENSEMBLE CIRCUIT IMPRIME -EXPORT-"]
["BDRJJJ005653610",null,"VANNE GAZ SIGMA 845048",null,null,{"$f":"LEFT(Catalogue[[#This Row],[Référence]],3)","v":"BDR"},{"$f":"VLOOKUP(Catalogue[[#This Row],[Alias]],#REF!,2,FALSE)","v":{"$error":"#REF!"}},null,"BDRJJJ008434860","CAPTEUR DE HALL"]
["BDRJJJ005654110",null,"CABLE M2 CTN-PRESS-SECU",null,null,{"$f":"LEFT(Catalogue[[#This Row],[Référence]],3)","v":"BDR"},{"$f":"VLOOKUP(Catalogue[[#This Row],[Alias]],#REF!,2,FALSE)","v":{"$error":"#REF!"}},null,"BDRJJJ008435330","THERMOSTAT SECURITE DEBORD.85"]
["BDRJJJ005661580",null,"ECHANGEUR A PLAQUES",null,null,{"$f":"LEFT(Catalogue[[#This Row],[Référence]],3)","v":"BDR"},{"$f":"VLOOKUP(Catalogue[[#This Row],[Alias]],#REF!,2,FALSE)","v":{"$error":"#REF!"}},null,"BDRJJJ008630390","THERMOSTAT SECURITE 95"]
["BDRJJJ005663300S","Non concerné","ECHANGEUR PRINCIPAL .6E56633",125,2000007347205,{"$f":"LEFT(Catalogue[[#This Row],[Référence]],3)","v":"BDR"},{"$f":"VLOOKUP(Catalogue[[#This Row],[Alias]],#REF!,2,FALSE)","v":{"$error":"#REF!"}},null,"BDRJJJ009951700","ELECTROVANNE REMPLISSAGE EAU"]
["BDRJJJ005664270S",null,"ECHANGEUR PRINCIPALE  4 E",null,null,{"$f":"LEFT(Catalogue[[#This Row],[Référence]],3)","v":"BDR"},{"$f":"VLOOKUP(Catalogue[[#This Row],[Alias]],#REF!,2,FALSE)","v":{"$error":"#REF!"}},null,"BDRPR7108497","REGUL D AMBIANCE SS FIL PROGR"]
["BDRJJJ005670600",null,"TUBE DEPART CHAUFFAGE",null,null,{"$f":"LEFT(Catalogue[[#This Row],[Référence]],3)","v":"BDR"},{"$f":"VLOOKUP(Catalogue[[#This Row],[Alias]],#REF!,2,FALSE)","v":{"$error":"#REF!"}},null,"BDRPRS58286","OUTIL DE NETTOYAGE L460 HC247"]
["BDRJJJ005685240",null,"TUBE DEGAZEUR LUNA 3 MAX FF HTE",null,null,{"$f":"LEFT(Catalogue[[#This Row],[Référence]],3)","v":"BDR"},{"$f":"VLOOKUP(Catalogue[[#This Row],[Alias]],#REF!,2,FALSE)","v":{"$error":"#REF!"}},null,"BDRS100234","VANNE D ARRET 1/2  M10X1"]
["BDRJJJ005688020",null,"PLASTRON SERIGRAPHIE PT BOIT",null,null,{"$f":"LEFT(Catalogue[[#This Row],[Référence]],3)","v":"BDR"},{"$f":"VLOOKUP(Catalogue[[#This Row],[Alias]],#REF!,2,FALSE)","v":{"$error":"#REF!"}},null,"BDRS100519","ROBINET EFS 3/4 -1/2  X M10 + JOINT"]
["BDRJJJ005691840S",null,"VENTILATEUR",null,null,{"$f":"LEFT(Catalogue[[#This Row],[Référence]],3)","v":"BDR"},{"$f":"VLOOKUP(Catalogue[[#This Row],[Alias]],#REF!,2,FALSE)","v":{"$error":"#REF!"}},null,"BDRS100703S","CIRCUTLATEUR CLASSE A"]
["BDRJJJ005697900",null,"COLLECTEUR FUMEES",null,null,{"$f":"LEFT(Catalogue[[#This Row],[Référence]],3)","v":"BDR"},{"$f":"VLOOKUP(Catalogue[[#This Row],[Alias]],#REF!,2,FALSE)","v":{"$error":"#REF!"}},null,"BDRS100797","SOUPAPE SECURITE 3 BAR 1/2"]
["BDRJJJ008434550",null,"SELECTEUR",null,null,{"$f":"LEFT(Catalogue[[#This Row],[Référence]],3)","v":"BDR"},{"$f":"VLOOKUP(Catalogue[[#This Row],[Alias]],#REF!,2,FALSE)","v":{"$error":"#REF!"}},null,"BDRS100831","ECHANGEUR A PLAQUES 37MM"]
["BDRJJJ008511130",null,{"$f":"VLOOKUP(A10562,I:J,2,0)","v":"CABLE ELECTRODE D IONISATION =8419910"},null,null,{"$f":"LEFT(Catalogue[[#This Row],[Référence]],3)","v":"BDR"},{"$f":"VLOOKUP(Catalogue[[#This Row],[Alias]],#REF!,2,FALSE)","v":{"$error":"#REF!"}},null,"BDRS100878S","VENTILATEUR RG 118- R19.5X1 (25 KW)"]
["BDRJJJ009950840",null,"ROBINET CHAUFFAGE G3/4  M.M",null,null,{"$f":"LEFT(Catalogue[[#This Row],[Référence]],3)","v":"BDR"},{"$f":"VLOOKUP(Catalogue[[#This Row],[Alias]],#REF!,2,FALSE)","v":{"$error":"#REF!"}},null,"BDRS101164","JOINT PLAQUE BRULEUR (SET 1)"]
["BDRPR7606393",null,"VANNE GAZ S MCA90 PROPANE",null,null,{"$f":"LEFT(Catalogue[[#This Row],[Référence]],3)","v":"BDR"},{"$f":"VLOOKUP(Catalogue[[#This Row],[Alias]],#REF!,2,FALSE)","v":{"$error":"#REF!"}},null,"BDRS101318","BLOC HYDRAULIQUE + SOUPAPE 7BAR"]
["BDRPR85757741",null,"COLIS OPT SONDE EXT FM46",null,null,{"$f":"LEFT(Catalogue[[#This Row],[Référence]],3)","v":"BDR"},{"$f":"VLOOKUP(Catalogue[[#This Row],[Alias]],#REF!,2,FALSE)","v":{"$error":"#REF!"}},null,"BDRS101507","VANNE GAZ VK4115V E1054 4"]
["BDRS100014S","Non concerné","ECHANGEUR CONDENSATION 4+1 30/35",140,2000007346024,{"$f":"LEFT(Catalogue[[#This Row],[Référence]],3)","v":"BDR"},{"$f":"VLOOKUP(Catalogue[[#This Row],[Alias]],#REF!,2,FALSE)","v":{"$error":"#REF!"}},null,"BDRS101620","CARTE PSU-01"]
["BDRS100110",null,"ROBINET GAZ",null,null,{"$f":"LEFT(Catalogue[[#This Row],[Référence]],3)","v":"BDR"},{"$f":"VLOOKUP(Catalogue[[#This Row],[Alias]],#REF!,2,FALSE)","v":{"$error":"#REF!"}},null,"BDRS101734","TUBE EVACUATION FUMEE"]
["BDRS100372",null,"COFFRET SECURITE DD/OE MCBA 5461 115KW",null,null,{"$f":"LEFT(Catalogue[[#This Row],[Référence]],3)","v":"BDR"},{"$f":"VLOOKUP(Catalogue[[#This Row],[Alias]],#REF!,2,FALSE)","v":{"$error":"#REF!"}},null,"BDRS101765S","VANNE 3 VOIES + MOTEUR"]
["BDRS100627",null,"FAISCEAU 230V BLOC GAZ-VENT-TRANSFO 5/6E",null,null,{"$f":"LEFT(Catalogue[[#This Row],[Référence]],3)","v":"BDR"},{"$f":"VLOOKUP(Catalogue[[#This Row],[Alias]],#REF!,2,FALSE)","v":{"$error":"#REF!"}},null,"BDRS12000209","MOTEUR VANNE A/SONDE DEPART"]
["BDRS100803",null,"TUBE ARRIVEE GAZ",null,null,{"$f":"LEFT(Catalogue[[#This Row],[Référence]],3)","v":"BDR"},{"$f":"VLOOKUP(Catalogue[[#This Row],[Alias]],#REF!,2,FALSE)","v":{"$error":"#REF!"}},null,"BDRS137972","FLEXIBLE COUDE 3/4 F-DROIT 1 F"]
["BDRS100847",null,"CABLE BUS INTERFACE  X11 LONG.1400",null,null,{"$f":"LEFT(Catalogue[[#This Row],[Référence]],3)","v":"BDR"},{"$f":"VLOOKUP(Catalogue[[#This Row],[Alias]],#REF!,2,FALSE)","v":{"$error":"#REF!"}},null,"BDRS143085","AGU 2.530"]
["BDRS100895",null,"EMBOUT M7X1",null,null,{"$f":"LEFT(Catalogue[[#This Row],[Référence]],3)","v":"BDR"},{"$f":"VLOOKUP(Catalogue[[#This Row],[Alias]],#REF!,2,FALSE)","v":{"$error":"#REF!"}},null,"BDRS17000601","BOITIER ALLUMAGE S4565BF.1062 LE"]
["BDRS100978",null,"CAPOT AVANT OERTLI",null,null,{"$f":"LEFT(Catalogue[[#This Row],[Référence]],3)","v":"BDR"},{"$f":"VLOOKUP(Catalogue[[#This Row],[Alias]],#REF!,2,FALSE)","v":{"$error":"#REF!"}},null,"BDRS17003667","ISOLANT EXT.PORTE FOYER R3"]
["BDRS101311",null,"SONDE ECS",null,null,{"$f":"LEFT(Catalogue[[#This Row],[Référence]],3)","v":"BDR"},{"$f":"VLOOKUP(Catalogue[[#This Row],[Alias]],#REF!,2,FALSE)","v":{"$error":"#REF!"}},null,"BDRS17007179","TUBE SOUPLE RAC.PRESSOSTAT - LE M"]
["BDRS101350S","Non concerné",{"$error":"#N/A"},5,2000007352421,{"$f":"LEFT(Catalogue[[#This Row],[Référence]],3)","v":"BDR"},{"$f":"VLOOKUP(Catalogue[[#This Row],[Alias]],#REF!,2,FALSE)","v":{"$error":"#REF!"}},null,"BDRS17020091","ANODE"]
["BDRS101663",null,{"$f":"VLOOKUP(A10882,I:J,2,0)","v":"BRETELLES RACCORDEMENT HMI"},null,null,{"$f":"LEFT(Catalogue[[#This Row],[Référence]],3)","v":"BDR"},{"$f":"VLOOKUP(Catalogue[[#This Row],[Alias]],#REF!,2,FALSE)","v":{"$error":"#REF!"}},null,"BDRS17880187","SACHET JOINTS BAF EDENA FF - 32 KW"]
["BDRS101756",null,"KIT JOINTS",null,null,{"$f":"LEFT(Catalogue[[#This Row],[Référence]],3)","v":"BDR"},{"$f":"VLOOKUP(Catalogue[[#This Row],[Alias]],#REF!,2,FALSE)","v":{"$error":"#REF!"}},null,"BDRS19999452","MANOMETRE D-50 RADIAL 4B MR0"]
["BDRS101772S","Non concerné",{"$error":"#N/A"},6,2000007353046,{"$f":"LEFT(Catalogue[[#This Row],[Référence]],3)","v":"BDR"},{"$f":"VLOOKUP(Catalogue[[#This Row],[Alias]],#REF!,2,FALSE)","v":{"$error":"#REF!"}},null,"BDRS20018645","GROUPE ACCROCHE FLAMME"]
["BDRS103360",null,"FAISCEAU CABLES",null,null,{"$f":"LEFT(Catalogue[[#This Row],[Référence]],3)","v":"BDR"},{"$f":"VLOOKUP(Catalogue[[#This Row],[Alias]],#REF!,2,FALSE)","v":{"$error":"#REF!"}},null,"BDRS20026386","VOLET D AIR"]
["BDRS136236",null,"ISOLATION INTERIEURE PORTE",null,null,{"$f":"LEFT(Catalogue[[#This Row],[Référence]],3)","v":"BDR"},{"$f":"VLOOKUP(Catalogue[[#This Row],[Alias]],#REF!,2,FALSE)","v":{"$error":"#REF!"}},null,"BDRS3008503","DISTRIBUTEUR"]
["BDRS143085",null,"AGU 2.530",null,null,{"$f":"LEFT(Catalogue[[#This Row],[Référence]],3)","v":"BDR"},{"$f":"VLOOKUP(Catalogue[[#This Row],[Alias]],#REF!,2,FALSE)","v":{"$error":"#REF!"}},null,"BDRS50035102","BOBINE 220V P/BFP -DANFOSS-"]
["BDRS17000602",null,"24ITIER ALLUMAGE S4565 C 1025B FF",null,null,{"$f":"LEFT(Catalogue[[#This Row],[Référence]],3)","v":"BDR"},{"$f":"VLOOKUP(Catalogue[[#This Row],[Alias]],#REF!,2,FALSE)","v":{"$error":"#REF!"}},null,"BDRS500764","CABLAGE VANNE EDENA LE"]
["BDRS17004901",null,"ALLUMEUR PIEZZO RV.1174 -EX-RV1071-",null,null,{"$f":"LEFT(Catalogue[[#This Row],[Référence]],3)","v":"BDR"},{"$f":"VLOOKUP(Catalogue[[#This Row],[Alias]],#REF!,2,FALSE)","v":{"$error":"#REF!"}},null,"BDRS505980","SACHET DE VISSERIE HTE GAZ"]
["BDRS17007036",null,"THERMOSTAT LIMITEUR TUA 5C 118",null,null,{"$f":"LEFT(Catalogue[[#This Row],[Référence]],3)","v":"BDR"},{"$f":"VLOOKUP(Catalogue[[#This Row],[Alias]],#REF!,2,FALSE)","v":{"$error":"#REF!"}},null,"BDRS53144","JOINT TRAPPE VISITE W40 (POCHETTE)"]
["BDRS17007761",null,"VASE D EXPANSION 10 LITRES - 3/8",null,null,{"$f":"LEFT(Catalogue[[#This Row],[Référence]],3)","v":"BDR"},{"$f":"VLOOKUP(Catalogue[[#This Row],[Alias]],#REF!,2,FALSE)","v":{"$error":"#REF!"}},null,"BDRS54761","SIPHON 35-45-65"]
["BDRS17076140",null,"POCHETTE JOINTS BRUL.32KW FF",null,null,{"$f":"LEFT(Catalogue[[#This Row],[Référence]],3)","v":"BDR"},{"$f":"VLOOKUP(Catalogue[[#This Row],[Alias]],#REF!,2,FALSE)","v":{"$error":"#REF!"}},null,"BDRS58082893","KIT ELECTRODES CF 4 COUGAR"]
["BDRS17863835",null,"MANCHETTE DE FUMEES D 130-139",null,null,{"$f":"LEFT(Catalogue[[#This Row],[Référence]],3)","v":"BDR"},{"$f":"VLOOKUP(Catalogue[[#This Row],[Alias]],#REF!,2,FALSE)","v":{"$error":"#REF!"}},null,"BDRS58084817","OEUILLARD TURBO 730-735-745 I"]
["BDRS20018546",null,"PULVERISATEUR/",null,null,{"$f":"LEFT(Catalogue[[#This Row],[Référence]],3)","v":"BDR"},{"$f":"VLOOKUP(Catalogue[[#This Row],[Alias]],#REF!,2,FALSE)","v":{"$error":"#REF!"}},null,"BDRS58209918","VENTILATEUR RG 128 FAREA"]
["BDRS20018693",null,"ELECTRODE",null,null,{"$f":"LEFT(Catalogue[[#This Row],[Référence]],3)","v":"BDR"},{"$f":"VLOOKUP(Catalogue[[#This Row],[Alias]],#REF!,2,FALSE)","v":{"$error":"#REF!"}},null,"BDRS58254414","ELECTRODE ALLUMAGE DROITE"]
["BDRS3007513",null,"GROUPE ELECTRODES",null,null,{"$f":"LEFT(Catalogue[[#This Row],[Référence]],3)","v":"BDR"},{"$f":"VLOOKUP(Catalogue[[#This Row],[Alias]],#REF!,2,FALSE)","v":{"$error":"#REF!"}},null,"BDRS58518490","CABLE H.T. BRUL.INT.SEMPRA"]
["BDRS44644",null,"VENTILATEUR EBM G1 G160 W60",null,null,{"$f":"LEFT(Catalogue[[#This Row],[Référence]],3)","v":"BDR"},{"$f":"VLOOKUP(Catalogue[[#This Row],[Alias]],#REF!,2,FALSE)","v":{"$error":"#REF!"}},null,"BDRS58539862","CELLULE 8209C BR.500"]
["BDRS50036440",null,"BLOC ACTIF TFI 812 MOD.5S - GAZ",null,null,{"$f":"LEFT(Catalogue[[#This Row],[Référence]],3)","v":"BDR"},{"$f":"VLOOKUP(Catalogue[[#This Row],[Alias]],#REF!,2,FALSE)","v":{"$error":"#REF!"}},null,"BDRS58757","RESSORT 17MM (X10)"]
["BDRS500543",null,"THERMOSTAT FUMEE GA POTTERTON -17071459",null,null,{"$f":"LEFT(Catalogue[[#This Row],[Référence]],3)","v":"BDR"},{"$f":"VLOOKUP(Catalogue[[#This Row],[Alias]],#REF!,2,FALSE)","v":{"$error":"#REF!"}},null,"BDRS59596","JOINT PLAQUE FOYERE ( X10)"]
["BDRS52735",null,"SONDE IONISATION GAS 2000 ET 3000",null,null,{"$f":"LEFT(Catalogue[[#This Row],[Référence]],3)","v":"BDR"},{"$f":"VLOOKUP(Catalogue[[#This Row],[Alias]],#REF!,2,FALSE)","v":{"$error":"#REF!"}},null,"BDRS62767","SILENCIEUX"]
["BDRS55562",null,"CIRCULATEUR ALPHA1.1 25-60 130",null,null,{"$f":"LEFT(Catalogue[[#This Row],[Référence]],3)","v":"BDR"},{"$f":"VLOOKUP(Catalogue[[#This Row],[Alias]],#REF!,2,FALSE)","v":{"$error":"#REF!"}},null,"BDRS80944386","ANODE+JOINTS+ECROUS L-570 250"]
["BDRS58083213",null,"FIL H. T. L380",null,null,{"$f":"LEFT(Catalogue[[#This Row],[Référence]],3)","v":"BDR"},{"$f":"VLOOKUP(Catalogue[[#This Row],[Alias]],#REF!,2,FALSE)","v":{"$error":"#REF!"}},null,"BDRSN9020400","BRULEUR LOW NOX 120/70-LGR.416"]
["BDRS58084519",null,"ENS.DISTRIBUTEUR AIR CF.500",null,null,{"$f":"LEFT(Catalogue[[#This Row],[Référence]],3)","v":"BDR"},{"$f":"VLOOKUP(Catalogue[[#This Row],[Alias]],#REF!,2,FALSE)","v":{"$error":"#REF!"}},null,"BDRSPAC9901000","SONDE TEMPERATURE D EAU"]
["BDRS58090041",null,"FIL D IONISATION HT FAREA",null,null,{"$f":"LEFT(Catalogue[[#This Row],[Référence]],3)","v":"BDR"},{"$f":"VLOOKUP(Catalogue[[#This Row],[Alias]],#REF!,2,FALSE)","v":{"$error":"#REF!"}},null,"BDRSRN610636","BOL RECYCL.D-100 L-120"]
["BDRS58169824",null,"TETE DE COMBUSTION MEKU CI 40 HTE",null,null,{"$f":"LEFT(Catalogue[[#This Row],[Référence]],3)","v":"BDR"},{"$f":"VLOOKUP(Catalogue[[#This Row],[Alias]],#REF!,2,FALSE)","v":{"$error":"#REF!"}},null,"BDRSRN638272","KIT REPL VANNE 3 VOIES 230V"]
["BDRS58329172",null,"POMPE BFP21 L3 L 071N1200",null,null,{"$f":"LEFT(Catalogue[[#This Row],[Référence]],3)","v":"BDR"},{"$f":"VLOOKUP(Catalogue[[#This Row],[Alias]],#REF!,2,FALSE)","v":{"$error":"#REF!"}},null,"BDRSRN665964","UNITE D ALLUMAGE ET D IONISAT."]
["BDRS58539796",null,"CELLULE MZ.770 SANS CABLE",null,null,{"$f":"LEFT(Catalogue[[#This Row],[Référence]],3)","v":"BDR"},{"$f":"VLOOKUP(Catalogue[[#This Row],[Alias]],#REF!,2,FALSE)","v":{"$error":"#REF!"}},null,"BDRSRN936545","JOINT CANAL MELANGE SGB 120K"]
["BDRS58611",null,"SIPHON CPLT",null,null,{"$f":"LEFT(Catalogue[[#This Row],[Référence]],3)","v":"BDR"},{"$f":"VLOOKUP(Catalogue[[#This Row],[Alias]],#REF!,2,FALSE)","v":{"$error":"#REF!"}},null,"BDRSRN956710","UNITE ALLUMAGE PROPANE"]
["BDRS59132",null,"MOTEUR VANNE 3 VOIES",null,null,{"$f":"LEFT(Catalogue[[#This Row],[Référence]],3)","v":"BDR"},{"$f":"VLOOKUP(Catalogue[[#This Row],[Alias]],#REF!,2,FALSE)","v":{"$error":"#REF!"}},null,"BDRSRN986168","JEU DE JOINTS ECHANGEUR/BRUL"]
["BDRS62719",null,"JOINT (X10)",null,null,{"$f":"LEFT(Catalogue[[#This Row],[Référence]],3)","v":"BDR"},{"$f":"VLOOKUP(Catalogue[[#This Row],[Alias]],#REF!,2,FALSE)","v":{"$error":"#REF!"}},null,"BDRSRN991094","BAC COLLECTEUR CONDESATION 50"]
["BDRS62751",null,"COUVERCLE CHAMBRE PREMELANGE",null,null,{"$f":"LEFT(Catalogue[[#This Row],[Référence]],3)","v":"BDR"},{"$f":"VLOOKUP(Catalogue[[#This Row],[Alias]],#REF!,2,FALSE)","v":{"$error":"#REF!"}},null,"BDRSRN997102","VENTILATEUR P/SGB 2.160/250"]
["BDRS62775S",null,"ECHANGEUR  24/28PLAQUES",null,null,{"$f":"LEFT(Catalogue[[#This Row],[Référence]],3)","v":"BDR"},{"$f":"VLOOKUP(Catalogue[[#This Row],[Alias]],#REF!,2,FALSE)","v":{"$error":"#REF!"}},null,"BDRV133965","ELECTRODE D IONISATION"]
["BDRSF8929501S",null,"EXTRACTEUR SIMPLY",null,null,{"$f":"LEFT(Catalogue[[#This Row],[Référence]],3)","v":"BDR"},{"$f":"VLOOKUP(Catalogue[[#This Row],[Alias]],#REF!,2,FALSE)","v":{"$error":"#REF!"}},null,"BEN11534703","SONDE IONISATION BG200"]
["BDRSRN533461",null,"POMPE FIOUL",null,null,{"$f":"LEFT(Catalogue[[#This Row],[Référence]],3)","v":"BDR"},{"$f":"VLOOKUP(Catalogue[[#This Row],[Alias]],#REF!,2,FALSE)","v":{"$error":"#REF!"}},null,"BOS5176616","KIT COFFRET AUTOMATIQUE LANDS LGA COMPLET"]
["BDRSRN619820",null,"MOTEUR VOLET D AIR",null,null,{"$f":"LEFT(Catalogue[[#This Row],[Référence]],3)","v":"BDR"},{"$f":"VLOOKUP(Catalogue[[#This Row],[Alias]],#REF!,2,FALSE)","v":{"$error":"#REF!"}},null,"BOS5802355","VEILLEUSE V4400C.4600C.CE423"]
["BDRSRN643221",null,"PLATINE LMU SGB.90C",null,null,{"$f":"LEFT(Catalogue[[#This Row],[Référence]],3)","v":"BDR"},{"$f":"VLOOKUP(Catalogue[[#This Row],[Alias]],#REF!,2,FALSE)","v":{"$error":"#REF!"}},null,"BOS63002236","POMPE FIOUL BFP52EL DANFOSS"]
["BDRSRN688246",null,"SONDE CHAUDIERE P/DOIGT GANT",null,null,{"$f":"LEFT(Catalogue[[#This Row],[Référence]],3)","v":"BDR"},{"$f":"VLOOKUP(Catalogue[[#This Row],[Alias]],#REF!,2,FALSE)","v":{"$error":"#REF!"}},null,"BOS63020965","CORDON D ETANCHEITE GP 14X1650MM"]
["BDRSRN698443",null,{"$f":"VLOOKUP(A11650,I:J,2,0)","v":"POCHETTE DE JOINTS CORPS WGB50"},null,null,{"$f":"LEFT(Catalogue[[#This Row],[Référence]],3)","v":"BDR"},{"$f":"VLOOKUP(Catalogue[[#This Row],[Alias]],#REF!,2,FALSE)","v":{"$error":"#REF!"}},null,"BOS63030728","TUYERE GB125 BE 125 35 KW"]
["BDRSRN965323",null,"ACCELERATEUR ECS P/BBS",null,null,{"$f":"LEFT(Catalogue[[#This Row],[Référence]],3)","v":"BDR"},{"$f":"VLOOKUP(Catalogue[[#This Row],[Alias]],#REF!,2,FALSE)","v":{"$error":"#REF!"}},null,"BOS7098282","ROBINET DE REMPLISSAGE ET DE VIDANGE"]
["BDRSRN965347S","Non concerné",{"$error":"#N/A"},75,2000007346215,{"$f":"LEFT(Catalogue[[#This Row],[Référence]],3)","v":"BDR"},{"$f":"VLOOKUP(Catalogue[[#This Row],[Alias]],#REF!,2,FALSE)","v":{"$error":"#REF!"}},null,"BOS7098311","THERMOMANOMETRE RD 52"]
["BDRSRN991155",null,"COUVERCLE BRULEUR",null,null,{"$f":"LEFT(Catalogue[[#This Row],[Référence]],3)","v":"BDR"},{"$f":"VLOOKUP(Catalogue[[#This Row],[Alias]],#REF!,2,FALSE)","v":{"$error":"#REF!"}},null,"BOS7099021","LOT DE JOINTS PLATS (2X5X)"]
["BDRSX3614840",null,"CIRCUIT IMPRIME DE IONISATION",null,null,{"$f":"LEFT(Catalogue[[#This Row],[Référence]],3)","v":"BDR"},{"$f":"VLOOKUP(Catalogue[[#This Row],[Alias]],#REF!,2,FALSE)","v":{"$error":"#REF!"}},null,"BOS7099201","FAISCEAU ELECTRIQUE GB112 43/60KW"]
["BDRV134494",null,"BALLON 120L + SOCLE + PALETTE",null,null,{"$f":"LEFT(Catalogue[[#This Row],[Référence]],3)","v":"BDR"},{"$f":"VLOOKUP(Catalogue[[#This Row],[Alias]],#REF!,2,FALSE)","v":{"$error":"#REF!"}},null,"BOS7099544","JOINT DE BRULEUR SMARTLINE"]
["BDRV17004909",null,"SERVO MOTEUR 230V SME130",null,null,{"$f":"LEFT(Catalogue[[#This Row],[Référence]],3)","v":"BDR"},{"$f":"VLOOKUP(Catalogue[[#This Row],[Alias]],#REF!,2,FALSE)","v":{"$error":"#REF!"}},null,"BOS7099636","HABILLAGE ARRIERE ECHANGEUR GB122/GB132T"]
["BIABI1001101",null,"ECHANGEUR INOX SANITAIRE MLB24",null,null,{"$f":"LEFT(Catalogue[[#This Row],[Référence]],3)","v":"BIA"},{"$f":"VLOOKUP(Catalogue[[#This Row],[Alias]],#REF!,2,FALSE)","v":{"$error":"#REF!"}},null,"BOS7099788","POMPE WILO RSL 15/5 1PR-9 130MM"]
["BOS5868830",null,"APPAREIL DE REGULATION 2107 SANS CM222",null,null,{"$f":"LEFT(Catalogue[[#This Row],[Référence]],3)","v":"BOS"},{"$f":"VLOOKUP(Catalogue[[#This Row],[Alias]],#REF!,2,FALSE)","v":{"$error":"#REF!"}},null,"BOS7101588","JOINT TORIQUE 73X5"]
["BOS63003768",null,"MOTEUR HG 150W SANS EMBRAYAGE",null,null,{"$f":"LEFT(Catalogue[[#This Row],[Référence]],3)","v":"BOS"},{"$f":"VLOOKUP(Catalogue[[#This Row],[Alias]],#REF!,2,FALSE)","v":{"$error":"#REF!"}},null,"BOS73924","VENTILATEUR (50-70KW) GB202 62KW"]
["BOS63009740",null,"ELECTROVANNE COMBINEE GAZ V4600C  R3/4",null,null,{"$f":"LEFT(Catalogue[[#This Row],[Référence]],3)","v":"BOS"},{"$f":"VLOOKUP(Catalogue[[#This Row],[Alias]],#REF!,2,FALSE)","v":{"$error":"#REF!"}},null,"BOS7716780437","PACK EASYCONTROL NOIR PACKAGE ACCESSOIRE POUR REGULATION CONNECTEE SANS FIL"]
["BOS63030729",null,"TUYERE D83/L224/5.7/5.4 SIC",null,null,{"$f":"LEFT(Catalogue[[#This Row],[Référence]],3)","v":"BOS"},{"$f":"VLOOKUP(Catalogue[[#This Row],[Alias]],#REF!,2,FALSE)","v":{"$error":"#REF!"}},null,"BOS7733701737","ENSEMBLE MONO-SPLIT (GROUPE+UNITE) - CLIMATE 3000I 5.3KW R32"]
["BOS67900522",null,"JOINT COLLECTEUR CONDENS GB112 60KW",null,null,{"$f":"LEFT(Catalogue[[#This Row],[Référence]],3)","v":"BOS"},{"$f":"VLOOKUP(Catalogue[[#This Row],[Alias]],#REF!,2,FALSE)","v":{"$error":"#REF!"}},null,"BOS7733701997","PAC AIR/AIR - U.INT. MURALE - CLIMATE 5000IM - CL3000IUW20E - 2KW - R32"]
["BOS7098834",null,"JOINT SIPHON ECHANGEUR CONDENS GB112",null,null,{"$f":"LEFT(Catalogue[[#This Row],[Référence]],3)","v":"BOS"},{"$f":"VLOOKUP(Catalogue[[#This Row],[Alias]],#REF!,2,FALSE)","v":{"$error":"#REF!"}},null,"BOS7736701654","EASYCONTROL ADAPTER"]
["BOS7099022",null,{"$f":"VLOOKUP(A11970,I:J,2,0)","v":"VENTILATEUR 230V"},null,null,{"$f":"LEFT(Catalogue[[#This Row],[Référence]],3)","v":"BOS"},{"$f":"VLOOKUP(Catalogue[[#This Row],[Alias]],#REF!,2,FALSE)","v":{"$error":"#REF!"}},null,"BOS7738112664","COUDE CONCENTRIQUE DIAM80/125. 30DEG . FC-CE80-30"]
["BOS7099201",null,"FAISCEAU ELECTRIQUE GB112 43/60KW",null,null,{"$f":"LEFT(Catalogue[[#This Row],[Référence]],3)","v":"BOS"},{"$f":"VLOOKUP(Catalogue[[#This Row],[Alias]],#REF!,2,FALSE)","v":{"$error":"#REF!"}},null,"BOS7746700062","SIPHON AVEC T POUR GB112-GB142 V2"]
["BOS7099544",null,"JOINT DE BRULEUR SMARTLINE",null,null,{"$f":"LEFT(Catalogue[[#This Row],[Référence]],3)","v":"BOS"},{"$f":"VLOOKUP(Catalogue[[#This Row],[Alias]],#REF!,2,FALSE)","v":{"$error":"#REF!"}},null,"BOS7747001399","SUPPORT D EXTENSION DE TUYAU BE_.3 RLU V2"]
["BOS7099684",null,"JOINT D ALIMENTATION POUR ELECTRODES D IONISATION",null,null,{"$f":"LEFT(Catalogue[[#This Row],[Référence]],3)","v":"BOS"},{"$f":"VLOOKUP(Catalogue[[#This Row],[Alias]],#REF!,2,FALSE)","v":{"$error":"#REF!"}},null,"BOS7747028926","GICLEUR FIOUL 1.35GPH 80DEG  NS MONARCH"]
["BOS7099780",null,"INJECTEUR GAZ NATUREL EG G20 D6.50",null,null,{"$f":"LEFT(Catalogue[[#This Row],[Référence]],3)","v":"BOS"},{"$f":"VLOOKUP(Catalogue[[#This Row],[Alias]],#REF!,2,FALSE)","v":{"$error":"#REF!"}},null,"BOS87007154690","TUBE EAU CHAUDE"]
["BOS7100238",null,"ELECTRODE D IONISATION",null,null,{"$f":"LEFT(Catalogue[[#This Row],[Référence]],3)","v":"BOS"},{"$f":"VLOOKUP(Catalogue[[#This Row],[Alias]],#REF!,2,FALSE)","v":{"$error":"#REF!"}},null,"BOS87072072720","UNITE D ALLUMAGE"]
["BOS7101532",null,"SONDE NTC SECURITEE (611248A)",null,null,{"$f":"LEFT(Catalogue[[#This Row],[Référence]],3)","v":"BOS"},{"$f":"VLOOKUP(Catalogue[[#This Row],[Alias]],#REF!,2,FALSE)","v":{"$error":"#REF!"}},null,"BOS87154061770","ECHANGEUR DE CHALEUR"]
["BOS7716842134",null,"REGULATION D AMBIANCE PROGRAMMATION HEBDOMADAIRE REG 74-1",null,null,{"$f":"LEFT(Catalogue[[#This Row],[Référence]],3)","v":"BOS"},{"$f":"VLOOKUP(Catalogue[[#This Row],[Alias]],#REF!,2,FALSE)","v":{"$error":"#REF!"}},null,"BOS87167603280","DISPOSITIF DE SECURITE DES GAZ DE COMBUSTION"]
["BOS7733701570",null,"UNITE INTERIEURE MURALE MONO/MULTI-SPLIT - CLIMATE 3000I 7KW",null,null,{"$f":"LEFT(Catalogue[[#This Row],[Référence]],3)","v":"BOS"},{"$f":"VLOOKUP(Catalogue[[#This Row],[Alias]],#REF!,2,FALSE)","v":{"$error":"#REF!"}},null,"BOS8716765894","ALLUMAGE"]
["BOS7733701938",null,"PAC AIR/AIR - U.EXT. PENTASPLIT - CLIMATE 5000M - CL5000M 125/5 E - 12.5KW - R32",null,null,{"$f":"LEFT(Catalogue[[#This Row],[Référence]],3)","v":"BOS"},{"$f":"VLOOKUP(Catalogue[[#This Row],[Alias]],#REF!,2,FALSE)","v":{"$error":"#REF!"}},null,"BOS87168010380","ELECTRODE ALLUMAGE"]
["BOS7736604321",null,"KIT DE SERVICE BE 22KW",null,null,{"$f":"LEFT(Catalogue[[#This Row],[Référence]],3)","v":"BOS"},{"$f":"VLOOKUP(Catalogue[[#This Row],[Alias]],#REF!,2,FALSE)","v":{"$error":"#REF!"}},null,"BOS87168065830","RECHAUFFEUR LIGNE B10 FUV/F FUV/FC 3"]
["BOS7738100866",null,"CHAUDIERE GAZ MURALE CONDENS 8300I W 35/40 C. MIXTE 35KW. 19.5L/MN -THPE",null,null,{"$f":"LEFT(Catalogue[[#This Row],[Référence]],3)","v":"BOS"},{"$f":"VLOOKUP(Catalogue[[#This Row],[Alias]],#REF!,2,FALSE)","v":{"$error":"#REF!"}},null,"BOS87168085310","POT DE COMBUSTION"]
["BOS7738112614",null,"ALLONGE CONCENTRIQUE DIAM60/100. 0.5M. FC-C60-500",null,null,{"$f":"LEFT(Catalogue[[#This Row],[Référence]],3)","v":"BOS"},{"$f":"VLOOKUP(Catalogue[[#This Row],[Alias]],#REF!,2,FALSE)","v":{"$error":"#REF!"}},null,"BOS87168108550","PRESSOSTAT D AIR MZ 25KW"]
["BOS7746900531",null,"FAISCEAU ELECTRIQUE 230V GB202",null,null,{"$f":"LEFT(Catalogue[[#This Row],[Référence]],3)","v":"BOS"},{"$f":"VLOOKUP(Catalogue[[#This Row],[Alias]],#REF!,2,FALSE)","v":{"$error":"#REF!"}},null,"BOS87168153570","PRESSOSTAT D AIR MZ - GN"]
["BOS7747010612",null,"CONTROLEUR DE BASE BC10",null,null,{"$f":"LEFT(Catalogue[[#This Row],[Référence]],3)","v":"BOS"},{"$f":"VLOOKUP(Catalogue[[#This Row],[Alias]],#REF!,2,FALSE)","v":{"$error":"#REF!"}},null,"BOS87168179550","RELAIS TEMPO 230V"]
["BOS78174",null,"JOINT CAISSON GB022",null,null,{"$f":"LEFT(Catalogue[[#This Row],[Référence]],3)","v":"BOS"},{"$f":"VLOOKUP(Catalogue[[#This Row],[Alias]],#REF!,2,FALSE)","v":{"$error":"#REF!"}},null,"BOS87168209330","VANNE NOVAMIX PREREGLEE"]
["BOS87074052330",null,"VANNE D EAU CHAUDE",null,null,{"$f":"LEFT(Catalogue[[#This Row],[Référence]],3)","v":"BOS"},{"$f":"VLOOKUP(Catalogue[[#This Row],[Alias]],#REF!,2,FALSE)","v":{"$error":"#REF!"}},null,"BOS87168234810","KIT BRULEUR 5-25 GP"]
["BOS87145000870",null,"SONDE DE TEMPERATURE",null,null,{"$f":"LEFT(Catalogue[[#This Row],[Référence]],3)","v":"BOS"},{"$f":"VLOOKUP(Catalogue[[#This Row],[Alias]],#REF!,2,FALSE)","v":{"$error":"#REF!"}},null,"BOS87168242780","KIT BRULEUR GN/GP"]
["BOS8716119360",null,{"$f":"VLOOKUP(A12354,I:J,2,0)","v":"JOINT TORIQUE POUR FILTRE"},null,null,{"$f":"LEFT(Catalogue[[#This Row],[Référence]],3)","v":"BOS"},{"$f":"VLOOKUP(Catalogue[[#This Row],[Alias]],#REF!,2,FALSE)","v":{"$error":"#REF!"}},null,"BOS87168260760","VANNE GAZ REGLEE"]
["BOS87167454860",null,"DISCONNECTEUR",null,null,{"$f":"LEFT(Catalogue[[#This Row],[Référence]],3)","v":"BOS"},{"$f":"VLOOKUP(Catalogue[[#This Row],[Alias]],#REF!,2,FALSE)","v":{"$error":"#REF!"}},null,"BOS87168268270","JOINT BRIDE CONDENSEUR"]
["BOS8716774201",null,"BUSE COLLECTEUR GAZ LOW NOX",null,null,{"$f":"LEFT(Catalogue[[#This Row],[Référence]],3)","v":"BOS"},{"$f":"VLOOKUP(Catalogue[[#This Row],[Alias]],#REF!,2,FALSE)","v":{"$error":"#REF!"}},null,"BOS87168310270","CORPS DE CHAUFFE TL20C DOUBLE CIRCUIT"]
["BOS87168072820",null,"GICLEUR 0.75 A 60DEG S",null,null,{"$f":"LEFT(Catalogue[[#This Row],[Référence]],3)","v":"BOS"},{"$f":"VLOOKUP(Catalogue[[#This Row],[Alias]],#REF!,2,FALSE)","v":{"$error":"#REF!"}},null,"BOS87168317040","MOTEUR VANNE SELECTIVE CABLE"]
["BOS87168082040",null,"SUPPORT ELECTRODES COMPLET",null,null,{"$f":"LEFT(Catalogue[[#This Row],[Référence]],3)","v":"BOS"},{"$f":"VLOOKUP(Catalogue[[#This Row],[Alias]],#REF!,2,FALSE)","v":{"$error":"#REF!"}},null,"BOS87168329590","CIRCUIT IMPRIME THRI/THI10-50C"]
["BOS87168103940",null,"REGLAGE AIR VENTILATEUR",null,null,{"$f":"LEFT(Catalogue[[#This Row],[Référence]],3)","v":"BOS"},{"$f":"VLOOKUP(Catalogue[[#This Row],[Alias]],#REF!,2,FALSE)","v":{"$error":"#REF!"}},null,"BOS87168340540","ECHANGEUR A PLAQUES 28KW"]
["BOS87168122680",null,"FLEXIBLE ACIER GALVANISE  L1020",null,null,{"$f":"LEFT(Catalogue[[#This Row],[Référence]],3)","v":"BOS"},{"$f":"VLOOKUP(Catalogue[[#This Row],[Alias]],#REF!,2,FALSE)","v":{"$error":"#REF!"}},null,"BOS87168356060","ELECTRODE D ALLUMAGE"]
["BOS87168150220",null,"SONDE CHAUDIERE QAK23.122(C.C)",null,null,{"$f":"LEFT(Catalogue[[#This Row],[Référence]],3)","v":"BOS"},{"$f":"VLOOKUP(Catalogue[[#This Row],[Alias]],#REF!,2,FALSE)","v":{"$error":"#REF!"}},null,"BOS87168363420","JOINT ETANCHEITE COUVERCLE CONDENSEUR"]
["BOS87168203660",null,"COUDE D80 45DEG",null,null,{"$f":"LEFT(Catalogue[[#This Row],[Référence]],3)","v":"BOS"},{"$f":"VLOOKUP(Catalogue[[#This Row],[Alias]],#REF!,2,FALSE)","v":{"$error":"#REF!"}},null,"BOS87168394870","ACCROCHE FLAMME EOS"]
["BOS87168234730",null,"SONDE DEPART FAS1 KROM/SHRODER",null,null,{"$f":"LEFT(Catalogue[[#This Row],[Référence]],3)","v":"BOS"},{"$f":"VLOOKUP(Catalogue[[#This Row],[Alias]],#REF!,2,FALSE)","v":{"$error":"#REF!"}},null,"BOS87168400430","VANNE LAITON MUT 3 VOIES"]
["BOS87168240730",null,"BLOC ALLUMAGE / DETECTION",null,null,{"$f":"LEFT(Catalogue[[#This Row],[Référence]],3)","v":"BOS"},{"$f":"VLOOKUP(Catalogue[[#This Row],[Alias]],#REF!,2,FALSE)","v":{"$error":"#REF!"}},null,"BOS87168413690","ANODE D=22X230. 3/4"]
["BOS87168247480",null,"ELECTRODE D IONISATION",null,null,{"$f":"LEFT(Catalogue[[#This Row],[Référence]],3)","v":"BOS"},{"$f":"VLOOKUP(Catalogue[[#This Row],[Alias]],#REF!,2,FALSE)","v":{"$error":"#REF!"}},null,"BOS87168443580","LMU 34 - CONDENS 4500"]
["BOS87168264730",null,"KIT BRULEUR 5-25 GN",null,null,{"$f":"LEFT(Catalogue[[#This Row],[Référence]],3)","v":"BOS"},{"$f":"VLOOKUP(Catalogue[[#This Row],[Alias]],#REF!,2,FALSE)","v":{"$error":"#REF!"}},null,"BOS87168517500","VASE D EXPANSION 18 L"]
["BOS87168294770",null,"BRIDE DE TRAPPE VISITE",null,null,{"$f":"LEFT(Catalogue[[#This Row],[Référence]],3)","v":"BOS"},{"$f":"VLOOKUP(Catalogue[[#This Row],[Alias]],#REF!,2,FALSE)","v":{"$error":"#REF!"}},null,"BOS87168538820","FLEXIBLE FUEL F/F G1/4 -LG=1500"]
["BOS87168314640S","Non concerné","VENTILATEUR MVL RG 128",60,2000007348233,{"$f":"LEFT(Catalogue[[#This Row],[Référence]],3)","v":"BOS"},{"$f":"VLOOKUP(Catalogue[[#This Row],[Alias]],#REF!,2,FALSE)","v":{"$error":"#REF!"}},null,"BOS87172043750","POMPE"]
["BOS87168323030",null,"KIT SONDE EXTERIEURE QAC34/101",null,null,{"$f":"LEFT(Catalogue[[#This Row],[Référence]],3)","v":"BOS"},{"$f":"VLOOKUP(Catalogue[[#This Row],[Alias]],#REF!,2,FALSE)","v":{"$error":"#REF!"}},null,"BOS87183115200","VENTILATEUR R11R-45"]
["BOS87168335540",null,"VANNE 4 VOIES LAITON 2XG1 1/4-1XG1 1/2-1",null,null,{"$f":"LEFT(Catalogue[[#This Row],[Référence]],3)","v":"BOS"},{"$f":"VLOOKUP(Catalogue[[#This Row],[Alias]],#REF!,2,FALSE)","v":{"$error":"#REF!"}},null,"BOS8718573622","THERMOMETRE HORIZ. 0-120DEG 3000WS"]
["BOS87168347340",null,"KIT REMPLISSAGE THERMOSTAT IMIT/EGO",null,null,{"$f":"LEFT(Catalogue[[#This Row],[Référence]],3)","v":"BOS"},{"$f":"VLOOKUP(Catalogue[[#This Row],[Alias]],#REF!,2,FALSE)","v":{"$error":"#REF!"}},null,"BOS8718578602","PRECHAUFFEUR FIOUL FPHB5-LE PTC50 B10"]
["BOS87168363080S",null,"VENTIL.RG128/1300-3612",null,null,{"$f":"LEFT(Catalogue[[#This Row],[Référence]],3)","v":"BOS"},{"$f":"VLOOKUP(Catalogue[[#This Row],[Alias]],#REF!,2,FALSE)","v":{"$error":"#REF!"}},null,"BOS8718585355","SONDE EXTERNE"]
["BOS87168366880",null,"SONDE D APPLIQUE CTN 5K",null,null,{"$f":"LEFT(Catalogue[[#This Row],[Référence]],3)","v":"BOS"},{"$f":"VLOOKUP(Catalogue[[#This Row],[Alias]],#REF!,2,FALSE)","v":{"$error":"#REF!"}},null,"BOS8718590774","MODULE ZM424 S17 NOIR"]
["BOS87168396180",null,"FILTRE POMPE + JOINT",null,null,{"$f":"LEFT(Catalogue[[#This Row],[Référence]],3)","v":"BOS"},{"$f":"VLOOKUP(Catalogue[[#This Row],[Alias]],#REF!,2,FALSE)","v":{"$error":"#REF!"}},null,"BOS8718663941","PRESSOSTAT 1.5BAR"]
["BOS87168407710",null,"CABLE D ALLUMAGE",null,null,{"$f":"LEFT(Catalogue[[#This Row],[Référence]],3)","v":"BOS"},{"$f":"VLOOKUP(Catalogue[[#This Row],[Alias]],#REF!,2,FALSE)","v":{"$error":"#REF!"}},null,"BOS87215743270","ELECTRODE IONISATION U012K"]
["BOS87168443500",null,"LMU 64-WBC25H/CC75 RD-FBGC25CC120RD",null,null,{"$f":"LEFT(Catalogue[[#This Row],[Référence]],3)","v":"BOS"},{"$f":"VLOOKUP(Catalogue[[#This Row],[Alias]],#REF!,2,FALSE)","v":{"$error":"#REF!"}},null,"BOS87215744410","FAISCEAU SECURITE NIVEAU EAU U012-28T60"]
["BOS8716850379",null,"TRANSFO ANTIPARASITE SIT",null,null,{"$f":"LEFT(Catalogue[[#This Row],[Référence]],3)","v":"BOS"},{"$f":"VLOOKUP(Catalogue[[#This Row],[Alias]],#REF!,2,FALSE)","v":{"$error":"#REF!"}},null,"BOS8733500812","CLIMATISEUR MULTISPLIT CLIMATE 5000 MS 27 OUE - UNITE EXTERIEURE"]
["BOS87168522250",null,"JOINT TRESSE CAPOT",null,null,{"$f":"LEFT(Catalogue[[#This Row],[Référence]],3)","v":"BOS"},{"$f":"VLOOKUP(Catalogue[[#This Row],[Alias]],#REF!,2,FALSE)","v":{"$error":"#REF!"}},null,"BOS8737602757","TABLEAU ELECTRIQUE SKIN MID RATIO ROW RA"]
["BOS87168542380",null,"TUYAUTERIE",null,null,{"$f":"LEFT(Catalogue[[#This Row],[Référence]],3)","v":"BOS"},{"$f":"VLOOKUP(Catalogue[[#This Row],[Alias]],#REF!,2,FALSE)","v":{"$error":"#REF!"}},null,"BOS8737712171","ECHANGEUR THERMIQUE WB5-II PLUS"]
["BOS87183100450",null,"MOTEUR VANNE SELECTIVE CENTRALE AWM",null,null,{"$f":"LEFT(Catalogue[[#This Row],[Référence]],3)","v":"BOS"},{"$f":"VLOOKUP(Catalogue[[#This Row],[Alias]],#REF!,2,FALSE)","v":{"$error":"#REF!"}},null,"BOS8738710127","ROBINET D EAU (MEMBRANE OVALE)"]
["BOS87185713480",null,"ANODE MAGNESIUM G1 D26X550MM 1",null,null,{"$f":"LEFT(Catalogue[[#This Row],[Référence]],3)","v":"BOS"},{"$f":"VLOOKUP(Catalogue[[#This Row],[Alias]],#REF!,2,FALSE)","v":{"$error":"#REF!"}},null,"BOS8738728064","ROBINET DEAU (MEMBRANE OVALE) (NOIR)"]
["BOS87185760080",null,"ELECTRODE IONISATION ZE14-12-125 G424(X2",null,null,{"$f":"LEFT(Catalogue[[#This Row],[Référence]],3)","v":"BOS"},{"$f":"VLOOKUP(Catalogue[[#This Row],[Alias]],#REF!,2,FALSE)","v":{"$error":"#REF!"}},null,"BOS8738901566","POMPE PARA 7M RS 3H"]
["BOS8718581096",null,"Y-CABLE ADAPTATEUR",null,null,{"$f":"LEFT(Catalogue[[#This Row],[Référence]],3)","v":"BOS"},{"$f":"VLOOKUP(Catalogue[[#This Row],[Alias]],#REF!,2,FALSE)","v":{"$error":"#REF!"}},null,"BOS8750742716","CLE DE CONNEXION K30 RF POUR CHAUDIERES CONDENSATION"]
["BOS8718585342",null,"KIT D ENTRETIEN VEILLEUSE AE BRULEUR G124-234-334-43",null,null,{"$f":"LEFT(Catalogue[[#This Row],[Référence]],3)","v":"BOS"},{"$f":"VLOOKUP(Catalogue[[#This Row],[Alias]],#REF!,2,FALSE)","v":{"$error":"#REF!"}},null,"BRO1070085","TUY INOX304 L500  D139       650139"]
["BOS8718600018",null,"CAPTEUR PRESSION GB142/132/132T",null,null,{"$f":"LEFT(Catalogue[[#This Row],[Référence]],3)","v":"BOS"},{"$f":"VLOOKUP(Catalogue[[#This Row],[Alias]],#REF!,2,FALSE)","v":{"$error":"#REF!"}},null,"BRO3695411","FLEX PLOMB M3/4XF3/4 L500    426608"]
["BOS8718600306",null,"BLOC GAZ V7335A2257U LPG 8-50MBAR",null,null,{"$f":"LEFT(Catalogue[[#This Row],[Référence]],3)","v":"BOS"},{"$f":"VLOOKUP(Catalogue[[#This Row],[Alias]],#REF!,2,FALSE)","v":{"$error":"#REF!"}},null,"BRO924168","COUDE PLISSE 90D ALUMINIUM D.111"]
["BOS87215743270",null,"ELECTRODE IONISATION U012K",null,null,{"$f":"LEFT(Catalogue[[#This Row],[Référence]],3)","v":"BOS"},{"$f":"VLOOKUP(Catalogue[[#This Row],[Alias]],#REF!,2,FALSE)","v":{"$error":"#REF!"}},null,"BUD5176988","THERMOCOUPLE 30Q309 BUD"]
["BOS87215744040",null,"THERMOMANOMETRE U012/U014",null,null,{"$f":"LEFT(Catalogue[[#This Row],[Référence]],3)","v":"BOS"},{"$f":"VLOOKUP(Catalogue[[#This Row],[Alias]],#REF!,2,FALSE)","v":{"$error":"#REF!"}},null,"BUD63006625","SONDE CAPTEUR SOLAIRE FSK RD 6.0"]
["BOS8733701138",null,"VANNE 3 VOIES",null,null,{"$f":"LEFT(Catalogue[[#This Row],[Référence]],3)","v":"BOS"},{"$f":"VLOOKUP(Catalogue[[#This Row],[Alias]],#REF!,2,FALSE)","v":{"$error":"#REF!"}},null,"BUD67903022","LIGNE RECHAUFFEUR DE1 JAUNE          67903022"]
["BOS8737709172",null,"TABLEAU ELECTRIQUE ACU 8300",null,null,{"$f":"LEFT(Catalogue[[#This Row],[Référence]],3)","v":"BOS"},{"$f":"VLOOKUP(Catalogue[[#This Row],[Alias]],#REF!,2,FALSE)","v":{"$error":"#REF!"}},null,"BUD78137","SONDE DE DETECTION ECS GB022K"]
["BOS8737711079",null,"LIMITEUR DE DEBIT",null,null,{"$f":"LEFT(Catalogue[[#This Row],[Référence]],3)","v":"BOS"},{"$f":"VLOOKUP(Catalogue[[#This Row],[Alias]],#REF!,2,FALSE)","v":{"$error":"#REF!"}},null,"BUD87215743610","JOINT DE TRAPPE                   87215743610"]
["BOS8738204486",null,"LIMITEUR DE CIRCUIT CG",null,null,{"$f":"LEFT(Catalogue[[#This Row],[Référence]],3)","v":"BOS"},{"$f":"VLOOKUP(Catalogue[[#This Row],[Alias]],#REF!,2,FALSE)","v":{"$error":"#REF!"}},null,"BWT125553885","CARTOUCHE BWT ANTITARTRE ANTICORROSION"]
["BOS8738729561",null,"UNITE DE COMMANDE",null,null,{"$f":"LEFT(Catalogue[[#This Row],[Référence]],3)","v":"BOS"},{"$f":"VLOOKUP(Catalogue[[#This Row],[Alias]],#REF!,2,FALSE)","v":{"$error":"#REF!"}},null,"BWTP0014854B","S/E REGUL.SAUMURE1/4 BEIGE-SAV"]
["BOS8738804558",null,"POMPE UPM3 AUTO L 15-70 9H BL130",null,null,{"$f":"LEFT(Catalogue[[#This Row],[Référence]],3)","v":"BOS"},{"$f":"VLOOKUP(Catalogue[[#This Row],[Alias]],#REF!,2,FALSE)","v":{"$error":"#REF!"}},null,"BWTP0020962","PERLA SILK L"]
["BOSL00.39613",null,"CONDENSATEUR 4UF",null,null,{"$f":"LEFT(Catalogue[[#This Row],[Référence]],3)","v":"BOS"},{"$f":"VLOOKUP(Catalogue[[#This Row],[Alias]],#REF!,2,FALSE)","v":{"$error":"#REF!"}},null,"CAR43T21393","MOTOVENTILATEUR"]
["BRO1070502",null,"SOUPAPE SANIT 10B GS 15X21  S15GS10",null,null,{"$f":"LEFT(Catalogue[[#This Row],[Référence]],3)","v":"BRO"},{"$f":"VLOOKUP(Catalogue[[#This Row],[Alias]],#REF!,2,FALSE)","v":{"$error":"#REF!"}},null,"CED1018121","PAR BAIG RELEV 1V-1/2 CONCERTO"]
["BRO3723232",null,"EUROFLEX EUROJAUGE 2410331 3M 3M20  8/10_CA405_324434",null,null,{"$f":"LEFT(Catalogue[[#This Row],[Référence]],3)","v":"BRO"},{"$f":"VLOOKUP(Catalogue[[#This Row],[Alias]],#REF!,2,FALSE)","v":{"$error":"#REF!"}},null,"CED1035246","JOINT VERT 15X21 BT 100      298058"]
["BRO929025",null,"GRILLE AERAT RONDE MACON A.MOUST GATM140",null,null,{"$f":"LEFT(Catalogue[[#This Row],[Référence]],3)","v":"BRO"},{"$f":"VLOOKUP(Catalogue[[#This Row],[Alias]],#REF!,2,FALSE)","v":{"$error":"#REF!"}},null,"CED1039477","ROB ARR DBLE FEM A PUR 20X27  91-8G"]
["BRU82207064",null,"RAD COMP 4CON 22H700 16EL640/1226 FC 07/2015",null,null,{"$f":"LEFT(Catalogue[[#This Row],[Référence]],3)","v":"BRU"},{"$f":"VLOOKUP(Catalogue[[#This Row],[Alias]],#REF!,2,FALSE)","v":{"$error":"#REF!"}},null,"CED1048315","VANNE SECT 4V TARAUD PN10  VCI31.32"]
["BUD63006903",null,"SYSTEME MELANGEUR BE-A 1.0 28KW      63006903",null,null,{"$f":"LEFT(Catalogue[[#This Row],[Référence]],3)","v":"BUD"},{"$f":"VLOOKUP(Catalogue[[#This Row],[Alias]],#REF!,2,FALSE)","v":{"$error":"#REF!"}},null,"CED1256968","VAS EXP MEMBR 12L 1,5B         MB12"]
["BUD63037931",null,"JOINT DE TUYERE BE 1.0/1.1/2.0/2     63037931",null,null,{"$f":"LEFT(Catalogue[[#This Row],[Référence]],3)","v":"BUD"},{"$f":"VLOOKUP(Catalogue[[#This Row],[Alias]],#REF!,2,FALSE)","v":{"$error":"#REF!"}},null,"CED1273047","ROB EQ SCHELL CHR 1/2 S/R 049030699"]
["BUD7746700133",null,"SONDE IONISATION                   7746700133",null,null,{"$f":"LEFT(Catalogue[[#This Row],[Référence]],3)","v":"BUD"},{"$f":"VLOOKUP(Catalogue[[#This Row],[Alias]],#REF!,2,FALSE)","v":{"$error":"#REF!"}},null,"CED1342876","TE EGAL T130 TECTITE 14     4750563"]
["BUD87215743900",null,"PURGEUR AUTOMATIQUE U012/U014 V2",null,null,{"$f":"LEFT(Catalogue[[#This Row],[Référence]],3)","v":"BUD"},{"$f":"VLOOKUP(Catalogue[[#This Row],[Alias]],#REF!,2,FALSE)","v":{"$error":"#REF!"}},null,"CED1392623","MANCH T243G TECTITE MF 18-20X27"]
["BWT125553885",null,"CARTOUCHE BWT ANTITARTRE ANTICORROSION",null,null,{"$f":"LEFT(Catalogue[[#This Row],[Référence]],3)","v":"BWT"},{"$f":"VLOOKUP(Catalogue[[#This Row],[Alias]],#REF!,2,FALSE)","v":{"$error":"#REF!"}},null,"CED1535975","MEL DCHE PRIMEO2 CHR      26206HESG"]
["BWTP0012730",null,"MITIGEAGE TH",null,null,{"$f":"LEFT(Catalogue[[#This Row],[Référence]],3)","v":"BWT"},{"$f":"VLOOKUP(Catalogue[[#This Row],[Alias]],#REF!,2,FALSE)","v":{"$error":"#REF!"}},null,"CED1707293","RACC LAITON BOUT GAZ 08X13 MALE"]
["BWTPERLA10017",null,"ADOUCISSEUR AQAPERLA10 avec accessoires",null,null,{"$f":"LEFT(Catalogue[[#This Row],[Référence]],3)","v":"BWT"},{"$f":"VLOOKUP(Catalogue[[#This Row],[Alias]],#REF!,2,FALSE)","v":{"$error":"#REF!"}},null,"CED1822724","UNION 8341GCU 3P DRT M 50X60-54(1)"]
["CARB032774H01",null,"MOTEUR",null,null,{"$f":"LEFT(Catalogue[[#This Row],[Référence]],3)","v":"CAR"},{"$f":"VLOOKUP(Catalogue[[#This Row],[Alias]],#REF!,2,FALSE)","v":{"$error":"#REF!"}},null,"CED1976492","RBS LAITON ASTER ACS PN40 FF  33-42"]
["CED1032208",null,"SOUPAPE SECU 14BISHP M/F 15X21 7095",null,null,{"$f":"LEFT(Catalogue[[#This Row],[Référence]],3)","v":"CED"},{"$f":"VLOOKUP(Catalogue[[#This Row],[Alias]],#REF!,2,FALSE)","v":{"$error":"#REF!"}},null,"CED1976515","VAN SPH PN40 ACS MM 40X49"]
["CED1037691",null,"RACC RETIGRIPP F20X27-16     006529",null,null,{"$f":"LEFT(Catalogue[[#This Row],[Référence]],3)","v":"CED"},{"$f":"VLOOKUP(Catalogue[[#This Row],[Alias]],#REF!,2,FALSE)","v":{"$error":"#REF!"}},null,"CED3156805","0630011 BLOC GAZ 630 EUROSIT13-38DEG C"]
["CED1039631",null,"DOUIL PURG    20X27-20X27   125-8GG",null,null,{"$f":"LEFT(Catalogue[[#This Row],[Référence]],3)","v":"CED"},{"$f":"VLOOKUP(Catalogue[[#This Row],[Alias]],#REF!,2,FALSE)","v":{"$error":"#REF!"}},null,"CED3234773","NEUTRALISEUR CONDENS MUR GAZ <24KW"]
["CED1048315",null,"VANNE SECT 4V TARAUD PN10  VCI31.32",null,null,{"$f":"LEFT(Catalogue[[#This Row],[Référence]],3)","v":"CED"},{"$f":"VLOOKUP(Catalogue[[#This Row],[Alias]],#REF!,2,FALSE)","v":{"$error":"#REF!"}},null,"CED3337575","GRP HYDRAUL REGUL CRC GRC111"]
["CED1070797",null,"CLAP THERMOSTOP RU 40X49       CT26",null,null,{"$f":"LEFT(Catalogue[[#This Row],[Référence]],3)","v":"CED"},{"$f":"VLOOKUP(Catalogue[[#This Row],[Alias]],#REF!,2,FALSE)","v":{"$error":"#REF!"}},null,"CED3497996","SOUPAP PRESCOR B 7B 20X27     28233"]
["CED1277602",null,"SOUPAPE PRESCOR 1/2 3B 125KW  27609",null,null,{"$f":"LEFT(Catalogue[[#This Row],[Référence]],3)","v":"CED"},{"$f":"VLOOKUP(Catalogue[[#This Row],[Alias]],#REF!,2,FALSE)","v":{"$error":"#REF!"}},null,"CED3695612","MEL DOUCHE RENOV 437745"]
["CED1342876",null,"TE EGAL T130 TECTITE 14     4750563",null,null,{"$f":"LEFT(Catalogue[[#This Row],[Référence]],3)","v":"CED"},{"$f":"VLOOKUP(Catalogue[[#This Row],[Alias]],#REF!,2,FALSE)","v":{"$error":"#REF!"}},null,"CED3730366","TUY. TRICOCLAIR AL D.10X16 COUR 25M"]
["CED1419576",null,"1419576_POT A BOUE FLAMCOCLEAN 20X27  28030",null,null,{"$f":"LEFT(Catalogue[[#This Row],[Référence]],3)","v":"CED"},{"$f":"VLOOKUP(Catalogue[[#This Row],[Alias]],#REF!,2,FALSE)","v":{"$error":"#REF!"}},null,"CED4024108","PACK WC AU SOL PRIMEO 4"]
["CED1540387",null,{"$f":"VLOOKUP(A13698,I:J,2,0)","v":"GOULOT 80X60 2M IVOIRE      0812BCF"},null,null,{"$f":"LEFT(Catalogue[[#This Row],[Référence]],3)","v":"CED"},{"$f":"VLOOKUP(Catalogue[[#This Row],[Alias]],#REF!,2,FALSE)","v":{"$error":"#REF!"}},null,"CED4476405","BOITIER +RESISTANCE DIGITALE 750W BLANC ALTERNA"]
["CED1636764",null,"1636764_POMPE VERTE ARTIPLASTIC      FP3315",null,null,{"$f":"LEFT(Catalogue[[#This Row],[Référence]],3)","v":"CED"},{"$f":"VLOOKUP(Catalogue[[#This Row],[Alias]],#REF!,2,FALSE)","v":{"$error":"#REF!"}},null,"CED6205143","COUDE SERT GAZ 90DEG MF D18    6673964"]
["CED1711266",null,"RELAIS HYDRAULIQUE HDS 6,5A  433500",null,null,{"$f":"LEFT(Catalogue[[#This Row],[Référence]],3)","v":"CED"},{"$f":"VLOOKUP(Catalogue[[#This Row],[Alias]],#REF!,2,FALSE)","v":{"$error":"#REF!"}},null,"CED6265974","ABAT UNIFORM BLC 2CHAR INO"]
["CED1976492",null,"RBS LAITON ASTER ACS PN40 FF  33-42",null,null,{"$f":"LEFT(Catalogue[[#This Row],[Référence]],3)","v":"CED"},{"$f":"VLOOKUP(Catalogue[[#This Row],[Alias]],#REF!,2,FALSE)","v":{"$error":"#REF!"}},null,"CED6688543","DALL MOUSS EXP VIBROMAT 167BB00662V"]
["CED1976515",null,"VAN SPH PN40 ACS MM 40X49",null,null,{"$f":"LEFT(Catalogue[[#This Row],[Référence]],3)","v":"CED"},{"$f":"VLOOKUP(Catalogue[[#This Row],[Alias]],#REF!,2,FALSE)","v":{"$error":"#REF!"}},null,"CED6895665","SUPP SOL RUBBERFOOT 400 167BB00085V"]
["CED3115904",null,"THERMOSTAT AMB HEBDO S/FIL ALTHC014",null,null,{"$f":"LEFT(Catalogue[[#This Row],[Référence]],3)","v":"CED"},{"$f":"VLOOKUP(Catalogue[[#This Row],[Alias]],#REF!,2,FALSE)","v":{"$error":"#REF!"}},null,"CED7204128","MIT EV MEZZO C2"]
["CED3234773",null,"NEUTRALISEUR CONDENS MUR GAZ <24KW",null,null,{"$f":"LEFT(Catalogue[[#This Row],[Référence]],3)","v":"CED"},{"$f":"VLOOKUP(Catalogue[[#This Row],[Alias]],#REF!,2,FALSE)","v":{"$error":"#REF!"}},null,"CED7434879","RAD ALU STREET+ 1931W  PLUSEVO80012"]
["CED3495141",null,"PAR DTE CONCERTO WALK 80 DPW6701ASP",null,null,{"$f":"LEFT(Catalogue[[#This Row],[Référence]],3)","v":"CED"},{"$f":"VLOOKUP(Catalogue[[#This Row],[Alias]],#REF!,2,FALSE)","v":{"$error":"#REF!"}},null,"CHA7217328","LUNA ST+ FLIRT 2.24 CF CORPS 2"]
["CED3497598",null,"3497598_AUV47L98576P0500 POMPE",null,null,{"$f":"LEFT(Catalogue[[#This Row],[Référence]],3)","v":"CED"},{"$f":"VLOOKUP(Catalogue[[#This Row],[Alias]],#REF!,2,FALSE)","v":{"$error":"#REF!"}},null,"CHA7217441","LUNA ST+ COMPACT 2.24 CF CORPS"]
["CED3695612",null,"MEL DOUCHE RENOV 437745",null,null,{"$f":"LEFT(Catalogue[[#This Row],[Référence]],3)","v":"CED"},{"$f":"VLOOKUP(Catalogue[[#This Row],[Alias]],#REF!,2,FALSE)","v":{"$error":"#REF!"}},null,"CHA7767942","CHAUDIERE MURALE CONDENS ACCEA 2.25 - THPE"]
["CED3858516",null,"SUPP SOL SUMO 1000MM A/PT RAIL X2",null,null,{"$f":"LEFT(Catalogue[[#This Row],[Référence]],3)","v":"CED"},{"$f":"VLOOKUP(Catalogue[[#This Row],[Alias]],#REF!,2,FALSE)","v":{"$error":"#REF!"}},null,"CHAC20C6H454","RAD SAMBA PROGRESS 20V H1800 6EL"]
["CED3919287",null,"COUD 90D ECR 20-20X27 F 11691371001",null,null,{"$f":"LEFT(Catalogue[[#This Row],[Référence]],3)","v":"CED"},{"$f":"VLOOKUP(Catalogue[[#This Row],[Alias]],#REF!,2,FALSE)","v":{"$error":"#REF!"}},null,"CHAC21C6H645","RAD SAMBA PROGRESS 21V H1500 9EL"]
["CED6032808",null,"POT BOUE FLAMCO-CL SM 20X27   30021",null,null,{"$f":"LEFT(Catalogue[[#This Row],[Référence]],3)","v":"CED"},{"$f":"VLOOKUP(Catalogue[[#This Row],[Alias]],#REF!,2,FALSE)","v":{"$error":"#REF!"}},null,"CHAC89091635","INSERT PK1 M28+TETE THERM C89091635"]
["CED6205172",null,"COUD SERT GAZ 45DEG FF D16     6674197",null,null,{"$f":"LEFT(Catalogue[[#This Row],[Référence]],3)","v":"CED"},{"$f":"VLOOKUP(Catalogue[[#This Row],[Alias]],#REF!,2,FALSE)","v":{"$error":"#REF!"}},null,"CHACC1050927","RADIAT SAMBA C10 H  900     27 ELEM"]
["CED6265974",null,"ABAT UNIFORM BLC 2CHAR INO",null,null,{"$f":"LEFT(Catalogue[[#This Row],[Référence]],3)","v":"CED"},{"$f":"VLOOKUP(Catalogue[[#This Row],[Alias]],#REF!,2,FALSE)","v":{"$error":"#REF!"}},null,"CHACC135H633","RAD SAMBA C11 H  600 HAB 33 ELEM"]
["CED6454556",null,"MINI POMP BAC SUBMERSIBL   FP1056/2",null,null,{"$f":"LEFT(Catalogue[[#This Row],[Référence]],3)","v":"CED"},{"$f":"VLOOKUP(Catalogue[[#This Row],[Alias]],#REF!,2,FALSE)","v":{"$error":"#REF!"}},null,"CHACC215H433","RADIAT SAMBA C21 H 400 HAB 33 ELEM"]
["CED6949680",null,"FILTRE VORTEX 300ML 3/4   M",null,null,{"$f":"LEFT(Catalogue[[#This Row],[Référence]],3)","v":"CED"},{"$f":"VLOOKUP(Catalogue[[#This Row],[Alias]],#REF!,2,FALSE)","v":{"$error":"#REF!"}},null,"CHACC215H927","RAD SAMBA C21 H  900 HAB    27 ELEM"]
["CED7204128",null,"MIT EV MEZZO C2",null,null,{"$f":"LEFT(Catalogue[[#This Row],[Référence]],3)","v":"CED"},{"$f":"VLOOKUP(Catalogue[[#This Row],[Alias]],#REF!,2,FALSE)","v":{"$error":"#REF!"}},null,"CHACC235H518","RAD SAMBA C22 H  500 HAB    18 ELEM"]
["CED7475045",null,"TE SERT EGAL 16-16-16       1070560",null,null,{"$f":"LEFT(Catalogue[[#This Row],[Référence]],3)","v":"CED"},{"$f":"VLOOKUP(Catalogue[[#This Row],[Alias]],#REF!,2,FALSE)","v":{"$error":"#REF!"}},null,"CHACC235H718","RAD SAMBA C22 H  700 HAB    18 ELEM"]
["CED7674156",null,"VAS EXP FLEXCON PREM 50/1,5 6 16959",null,null,{"$f":"LEFT(Catalogue[[#This Row],[Référence]],3)","v":"CED"},{"$f":"VLOOKUP(Catalogue[[#This Row],[Alias]],#REF!,2,FALSE)","v":{"$error":"#REF!"}},null,"CHACC235H936","RAD SAMBA C22 H  900 HAB    36 ELEM"]
["CHA7218583",null,"INITIA + COMPACT 2.28 HTE CORP THPE",null,null,{"$f":"LEFT(Catalogue[[#This Row],[Référence]],3)","v":"CHA"},{"$f":"VLOOKUP(Catalogue[[#This Row],[Alias]],#REF!,2,FALSE)","v":{"$error":"#REF!"}},null,"CHACFF000024","THERMOSTAT AMBIANCE RC07_CC209_371451"]
["CHA7649713",null,{"$f":"VLOOKUP(A14146,I:J,2,0)","v":"KLISTA + HTE C 32 - THPE"},null,null,{"$f":"LEFT(Catalogue[[#This Row],[Référence]],3)","v":"CHA"},{"$f":"VLOOKUP(Catalogue[[#This Row],[Alias]],#REF!,2,FALSE)","v":{"$error":"#REF!"}},null,"CHACZ135C736","RAD 11 HAB 6T CENTRE H700 36EL1265W"]
["CHAC17201801",null,"KIT DE RACCORDEMENT POUR BALLON SL-SSL",null,null,{"$f":"LEFT(Catalogue[[#This Row],[Référence]],3)","v":"CHA"},{"$f":"VLOOKUP(Catalogue[[#This Row],[Alias]],#REF!,2,FALSE)","v":{"$error":"#REF!"}},null,"CHACZ215U924","SAMBA 21HB 6T REVERS. 900  24E"]
["CHAC2MC18006",null,"SECH S EC MAELINE2 36TUB  C2MC18006",null,null,{"$f":"LEFT(Catalogue[[#This Row],[Référence]],3)","v":"CHA"},{"$f":"VLOOKUP(Catalogue[[#This Row],[Alias]],#REF!,2,FALSE)","v":{"$error":"#REF!"}},null,"CHAD1703AA","1280809_MEL LAV ULYSSE MONO BT DISQ D1703AA"]
["CHAC89091635",null,"INSERT PK1 M28+TETE THERM C89091635",null,null,{"$f":"LEFT(Catalogue[[#This Row],[Référence]],3)","v":"CHA"},{"$f":"VLOOKUP(Catalogue[[#This Row],[Alias]],#REF!,2,FALSE)","v":{"$error":"#REF!"}},null,"CIA3272061","PRESSOSTAT DIFFERENTIEL SFS 10"]
["CHACC135H421",null,"PAN.SAMBA  11  400 10B 21E HAB",null,null,{"$f":"LEFT(Catalogue[[#This Row],[Référence]],3)","v":"CHA"},{"$f":"VLOOKUP(Catalogue[[#This Row],[Alias]],#REF!,2,FALSE)","v":{"$error":"#REF!"}},null,"CIA7186198","POMPE AND FLOTTEUR MELODY"]
["CHACC135H933",null,"RADIAT SAMBA C11 H 900 HAB 33 ELEM",null,null,{"$f":"LEFT(Catalogue[[#This Row],[Référence]],3)","v":"CHA"},{"$f":"VLOOKUP(Catalogue[[#This Row],[Alias]],#REF!,2,FALSE)","v":{"$error":"#REF!"}},null,"CLE3820001","ROB ROAI D12                3820001"]
["CHACC215H412",null,"RADIAT SAMBA C21 H 400 HAB 12 ELEM",null,null,{"$f":"LEFT(Catalogue[[#This Row],[Référence]],3)","v":"CHA"},{"$f":"VLOOKUP(Catalogue[[#This Row],[Alias]],#REF!,2,FALSE)","v":{"$error":"#REF!"}},null,"CLE4416000","ABAISSEUR R24R                     5127R24R"]
["CHACC235H324",null,"RADIAT SAMBA C22 H  300 HAB 24 ELEM",null,null,{"$f":"LEFT(Catalogue[[#This Row],[Référence]],3)","v":"CHA"},{"$f":"VLOOKUP(Catalogue[[#This Row],[Alias]],#REF!,2,FALSE)","v":{"$error":"#REF!"}},null,"CLEP010860","FLEX INOX FLEXITURN 2,00 BP P010860"]
["CHACC235H421",null,"RADIAT SAMBA C22 H  400 HAB 21 ELEM",null,null,{"$f":"LEFT(Catalogue[[#This Row],[Référence]],3)","v":"CHA"},{"$f":"VLOOKUP(Catalogue[[#This Row],[Alias]],#REF!,2,FALSE)","v":{"$error":"#REF!"}},null,"CMA1017922","TUILE 25-45DEG  DIAM130 NOIR"]
["CHACC235H712",null,"RAD SAMBA C22 H  700 HAB    12 ELEM",null,null,{"$f":"LEFT(Catalogue[[#This Row],[Référence]],3)","v":"CHA"},{"$f":"VLOOKUP(Catalogue[[#This Row],[Alias]],#REF!,2,FALSE)","v":{"$error":"#REF!"}},null,"CMA3300720","PHAROS GREEN 25 EU THPE"]
["CHACC335H524",null,"RADIAT SAMBA C33 H  500 HAB 24 ELEM",null,null,{"$f":"LEFT(Catalogue[[#This Row],[Référence]],3)","v":"CHA"},{"$f":"VLOOKUP(Catalogue[[#This Row],[Alias]],#REF!,2,FALSE)","v":{"$error":"#REF!"}},null,"CMA3310591","URBIA GREEN ULTRA 25 FR - THPE"]
["CHACFF000024",null,"THERMOSTAT AMBIANCE RC07_CC209_371451",null,null,{"$f":"LEFT(Catalogue[[#This Row],[Référence]],3)","v":"CHA"},{"$f":"VLOOKUP(Catalogue[[#This Row],[Alias]],#REF!,2,FALSE)","v":{"$error":"#REF!"}},null,"CMA3318006","RALLONGE 50 CENTIMETRES DIAM60-100"]
["CHACZ135K727",null,"RAD REV SAMBA 6CNX C11 HB H700 G 27",null,null,{"$f":"LEFT(Catalogue[[#This Row],[Référence]],3)","v":"CHA"},{"$f":"VLOOKUP(Catalogue[[#This Row],[Alias]],#REF!,2,FALSE)","v":{"$error":"#REF!"}},null,"CMA3318601","THERMOSTAT PROG. AVEC FILS -EASY CONTROL"]
["CHACZ235U527",null,"SAMBA 22HB 6T REVERS. 500  27E",null,null,{"$f":"LEFT(Catalogue[[#This Row],[Référence]],3)","v":"CHA"},{"$f":"VLOOKUP(Catalogue[[#This Row],[Alias]],#REF!,2,FALSE)","v":{"$error":"#REF!"}},null,"CMA3319221","CHAFFOLINK GPRS/LAN + EXPERT CONTROL"]
["CHAD1703AA",null,{"$f":"VLOOKUP(A14466,I:J,2,0)","v":"1280809_MEL LAV ULYSSE MONO BT DISQ D1703AA"},null,null,{"$f":"LEFT(Catalogue[[#This Row],[Référence]],3)","v":"CHA"},{"$f":"VLOOKUP(Catalogue[[#This Row],[Alias]],#REF!,2,FALSE)","v":{"$error":"#REF!"}},null,"CMA3632447","AVENIR PLUS LNX 16 GN EU"]
["CIA7043494",null,"CAPTEUR PRESSION 2CP50-1 R410A",null,null,{"$f":"LEFT(Catalogue[[#This Row],[Référence]],3)","v":"CIA"},{"$f":"VLOOKUP(Catalogue[[#This Row],[Alias]],#REF!,2,FALSE)","v":{"$error":"#REF!"}},null,"CMA685525","CELECTIC 80 CHX"]
["CIA7177253",null,"SERVOMOTEUR THERMIQUE 24V",null,null,{"$f":"LEFT(Catalogue[[#This Row],[Référence]],3)","v":"CIA"},{"$f":"VLOOKUP(Catalogue[[#This Row],[Alias]],#REF!,2,FALSE)","v":{"$error":"#REF!"}},null,"CMP418204B","418U RM SR EURO-SAR 1/2 2JT"]
["CIA7511597",null,"COMPRESSEUR ZP54 PFJ BRAZ",null,null,{"$f":"LEFT(Catalogue[[#This Row],[Référence]],3)","v":"CIA"},{"$f":"VLOOKUP(Catalogue[[#This Row],[Alias]],#REF!,2,FALSE)","v":{"$error":"#REF!"}},null,"CMP445422","ROB THERM 4V VERT 15X21 M22 445422"]
["CLE6200180",null,"ROB 620EN SPHERIQ FF26X34   6200180",null,null,{"$f":"LEFT(Catalogue[[#This Row],[Référence]],3)","v":"CLE"},{"$f":"VLOOKUP(Catalogue[[#This Row],[Alias]],#REF!,2,FALSE)","v":{"$error":"#REF!"}},null,"CMP7130GW201220","TE F VIS 20X2 1/2 20X2 7130GW  (X2)"]
["CLEP010550",null,"FLEXIGAZ INOX RES GN 1,50M  P010550",null,null,{"$f":"LEFT(Catalogue[[#This Row],[Référence]],3)","v":"CLE"},{"$f":"VLOOKUP(Catalogue[[#This Row],[Alias]],#REF!,2,FALSE)","v":{"$error":"#REF!"}},null,"CMP889006-01","GROUPE SECU V  20X27      889006-01"]
["CMA3000602",null,"CHA 300 STAB 570 STEA TM EU",null,null,{"$f":"LEFT(Catalogue[[#This Row],[Référence]],3)","v":"CMA"},{"$f":"VLOOKUP(Catalogue[[#This Row],[Alias]],#REF!,2,FALSE)","v":{"$error":"#REF!"}},null,"CMPQ516012001","BYPASS SOFTEO"]
["CMA3300720",null,"PHAROS GREEN 25 EU THPE",null,null,{"$f":"LEFT(Catalogue[[#This Row],[Référence]],3)","v":"CMA"},{"$f":"VLOOKUP(Catalogue[[#This Row],[Alias]],#REF!,2,FALSE)","v":{"$error":"#REF!"}},null,"CMPR807604Q","R807Q 1/2 ANG INV M28 GD KV R807604Q COM"]
["CMA3310570",null,"NIAGARA C NOX 25 CF FR THPE",null,null,{"$f":"LEFT(Catalogue[[#This Row],[Référence]],3)","v":"CMA"},{"$f":"VLOOKUP(Catalogue[[#This Row],[Alias]],#REF!,2,FALSE)","v":{"$error":"#REF!"}},null,"CMPRK8076042","COMBINE THERM. MONOTUBE  1/2 807"]
["CMA3310629",null,"URBIA NOX 25 CF FR THPE",null,null,{"$f":"LEFT(Catalogue[[#This Row],[Référence]],3)","v":"CMA"},{"$f":"VLOOKUP(Catalogue[[#This Row],[Alias]],#REF!,2,FALSE)","v":{"$error":"#REF!"}},null,"CMPRK859424","KIT SENSITY M30 R859 1/2   RK859424"]
["CMA3318355",null,"CACHE ROBINETTERIE 40 CENTIMETRES POUR MIRA C",null,null,{"$f":"LEFT(Catalogue[[#This Row],[Référence]],3)","v":"CMA"},{"$f":"VLOOKUP(Catalogue[[#This Row],[Alias]],#REF!,2,FALSE)","v":{"$error":"#REF!"}},null,"COM890506","GROUPE SECU REVERSO 20X27 890506"]
["CMA3318860",null,"RALLONGE DE 2M DIAM80-125",null,null,{"$f":"LEFT(Catalogue[[#This Row],[Référence]],3)","v":"CMA"},{"$f":"VLOOKUP(Catalogue[[#This Row],[Alias]],#REF!,2,FALSE)","v":{"$error":"#REF!"}},null,"COME_C41229","DANFOSS 0.55 G 60 DEG S                 213088"]
["CMA3632447",null,"AVENIR PLUS LNX 16 GN EU",null,null,{"$f":"LEFT(Catalogue[[#This Row],[Référence]],3)","v":"CMA"},{"$f":"VLOOKUP(Catalogue[[#This Row],[Alias]],#REF!,2,FALSE)","v":{"$error":"#REF!"}},null,"COME_F26033","ROBINET DE COMMANDE DN12 - G1/2 - 2M3/H - 500MB"]
["CMA3678033",null,"COUDE 20DEG  DIAM60/100",null,null,{"$f":"LEFT(Catalogue[[#This Row],[Référence]],3)","v":"CMA"},{"$f":"VLOOKUP(Catalogue[[#This Row],[Alias]],#REF!,2,FALSE)","v":{"$error":"#REF!"}},null,"COME_R24130","ABATTANT LAGUNE DOUBLE BLANC       7LA000101   SAH"]
["CMP418204",null,"ROBINET EQUERRE SIMPLE REGLAGE 1/2",null,null,{"$f":"LEFT(Catalogue[[#This Row],[Référence]],3)","v":"CMP"},{"$f":"VLOOKUP(Catalogue[[#This Row],[Alias]],#REF!,2,FALSE)","v":{"$error":"#REF!"}},null,"COS60504246","CABLE PLATINE ELECTRONIQUE"]
["CMP432004",null,"COMB MONOTUB THERM DT+COUD 15X21M22",null,null,{"$f":"LEFT(Catalogue[[#This Row],[Référence]],3)","v":"CMP"},{"$f":"VLOOKUP(Catalogue[[#This Row],[Alias]],#REF!,2,FALSE)","v":{"$error":"#REF!"}},null,"COS60510021","GENERATEUR D ETINCELLES SANS F"]
["CMP7130RW201616",null,"TE RED 20X2-16X2-16X2  7130RW  (X2)",null,null,{"$f":"LEFT(Catalogue[[#This Row],[Référence]],3)","v":"CMP"},{"$f":"VLOOKUP(Catalogue[[#This Row],[Alias]],#REF!,2,FALSE)","v":{"$error":"#REF!"}},null,"COS61204028","ROBINET SPHERE 3/8P"]
["CMP7871W1616",null,"RAC CU16 SKIN 16X2  7871W1616  (X2)",null,null,{"$f":"LEFT(Catalogue[[#This Row],[Référence]],3)","v":"CMP"},{"$f":"VLOOKUP(Catalogue[[#This Row],[Alias]],#REF!,2,FALSE)","v":{"$error":"#REF!"}},null,"COS61212011","REGULATEUR DE CIRCUIT SANITAIRE 14L"]
["CMPQ412005001",null,"TRAITEMENT DE L EAU",null,null,{"$f":"LEFT(Catalogue[[#This Row],[Référence]],3)","v":"CMP"},{"$f":"VLOOKUP(Catalogue[[#This Row],[Alias]],#REF!,2,FALSE)","v":{"$error":"#REF!"}},null,"COS62113044S","PRESSOSTAT ANALOG HAUTE PRES"]
["CMPR807604Q",null,"R807Q 1/2 ANG INV M28 GD KV R807604Q COM",null,null,{"$f":"LEFT(Catalogue[[#This Row],[Référence]],3)","v":"CMP"},{"$f":"VLOOKUP(Catalogue[[#This Row],[Alias]],#REF!,2,FALSE)","v":{"$error":"#REF!"}},null,"COS62629825","GRP RACC 2ROB.90DEG  RACC 2X3/4P 1X1/2P"]
["CMPRK8076042",null,"COMBINE THERM. MONOTUBE  1/2 807",null,null,{"$f":"LEFT(Catalogue[[#This Row],[Référence]],3)","v":"CMP"},{"$f":"VLOOKUP(Catalogue[[#This Row],[Alias]],#REF!,2,FALSE)","v":{"$error":"#REF!"}},null,"COS62632069","CIRCUIT ELECTRONIQUE ET AFFICHEUR"]
["CMPT243G1238",null,"RACCORD TECTITE INSTANTANE MANCHON A VISSER M 12X17 12",null,null,{"$f":"LEFT(Catalogue[[#This Row],[Référence]],3)","v":"CMP"},{"$f":"VLOOKUP(Catalogue[[#This Row],[Alias]],#REF!,2,FALSE)","v":{"$error":"#REF!"}},null,"COS63501065","CAPTEUR CLIP 2 POLES DIAM18MM"]
["COM890506",null,"GROUPE SECU REVERSO 20X27 890506",null,null,{"$f":"LEFT(Catalogue[[#This Row],[Référence]],3)","v":"COM"},{"$f":"VLOOKUP(Catalogue[[#This Row],[Alias]],#REF!,2,FALSE)","v":{"$error":"#REF!"}},null,"COS63505095","KIT JOINT ¿ 170 F90 SP.2-REMPLACEM."]
["COME_C30101",null,"RAD 22-700-600  COMPACT TYPE 22 H 700  L 600  1144",null,null,{"$f":"LEFT(Catalogue[[#This Row],[Référence]],3)","v":"COM"},{"$f":"VLOOKUP(Catalogue[[#This Row],[Alias]],#REF!,2,FALSE)","v":{"$error":"#REF!"}},null,"CUE13007665","FLEXIBLE DN6 G3/8F G1/4M 90DEG  L1000"]
["COME_F23648",null,"CANNE SOUPLE ASPIRATION 3110",null,null,{"$f":"LEFT(Catalogue[[#This Row],[Référence]],3)","v":"COM"},{"$f":"VLOOKUP(Catalogue[[#This Row],[Alias]],#REF!,2,FALSE)","v":{"$error":"#REF!"}},null,"CUE13010101","TURBINE D133X42 D10"]
["COO62240",null,"FILTRE TF1 TOTAL 28MM+F9 500ML",null,null,{"$f":"LEFT(Catalogue[[#This Row],[Référence]],3)","v":"COO"},{"$f":"VLOOKUP(Catalogue[[#This Row],[Alias]],#REF!,2,FALSE)","v":{"$error":"#REF!"}},null,"CUE13011099","COFFRET SG 513 C2"]
["COS60504241",null,"CABLE GAZ AIR VALVE",null,null,{"$f":"LEFT(Catalogue[[#This Row],[Référence]],3)","v":"COS"},{"$f":"VLOOKUP(Catalogue[[#This Row],[Alias]],#REF!,2,FALSE)","v":{"$error":"#REF!"}},null,"CUE13012002","POMPE FIOUL AT2 45 D 9538 6P 0500"]
["COS60504248S",null,{"$f":"VLOOKUP(A15042,I:J,2,0)","v":"CABLE CAPTEUR"},null,null,{"$f":"LEFT(Catalogue[[#This Row],[Référence]],3)","v":"COS"},{"$f":"VLOOKUP(Catalogue[[#This Row],[Alias]],#REF!,2,FALSE)","v":{"$error":"#REF!"}},null,"CUE13013029","ELECTRODE ALLU. D62X55 D64 D2X20 45DEG  R"]
["COS60703030S",null,"GARNIT.SILIC.COLLECT.VENTIL.",null,null,{"$f":"LEFT(Catalogue[[#This Row],[Référence]],3)","v":"COS"},{"$f":"VLOOKUP(Catalogue[[#This Row],[Alias]],#REF!,2,FALSE)","v":{"$error":"#REF!"}},null,"CUE13015538","13015538 ADAPTATEUR LF17/LGB21-22"]
["COS61204004",null,"ROBINET SF 3/8P A TOURNEVIS",null,null,{"$f":"LEFT(Catalogue[[#This Row],[Référence]],3)","v":"COS"},{"$f":"VLOOKUP(Catalogue[[#This Row],[Alias]],#REF!,2,FALSE)","v":{"$error":"#REF!"}},null,"CUE13015697","COFFRET FUEL SH113   CUE13015697"]
["COS61405254",null,"GOMME INTERRUPTEUR 6 BOUTONS",null,null,{"$f":"LEFT(Catalogue[[#This Row],[Référence]],3)","v":"COS"},{"$f":"VLOOKUP(Catalogue[[#This Row],[Alias]],#REF!,2,FALSE)","v":{"$error":"#REF!"}},null,"CUE13015852","ELECTRODE ALLU. D8X80 D6.4 D2X25 78DEG  R+L"]
["COS62110085",null,"PLATINE ELECTRONIQUE 901LB",null,null,{"$f":"LEFT(Catalogue[[#This Row],[Référence]],3)","v":"COS"},{"$f":"VLOOKUP(Catalogue[[#This Row],[Alias]],#REF!,2,FALSE)","v":{"$error":"#REF!"}},null,"CUE13016579","SONDE IONISATION D15X60 D6.4 D4X54 40DEG"]
["COS62617187",null,"COUDE DE SORTIE CHAUDIERE 60/1",null,null,{"$f":"LEFT(Catalogue[[#This Row],[Référence]],3)","v":"COS"},{"$f":"VLOOKUP(Catalogue[[#This Row],[Alias]],#REF!,2,FALSE)","v":{"$error":"#REF!"}},null,"CUE13021666","GICLEUR DAN 0,50 GPH 60DEG S"]
["COS62632008",null,"GROUPE BOUGIE D ALLUMAGE",null,null,{"$f":"LEFT(Catalogue[[#This Row],[Référence]],3)","v":"COS"},{"$f":"VLOOKUP(Catalogue[[#This Row],[Alias]],#REF!,2,FALSE)","v":{"$error":"#REF!"}},null,"CUE3832028","CB-NC9 H101A"]
["COS62632087S","Non concerné",{"$error":"#N/A"},11,2000007354227,{"$f":"LEFT(Catalogue[[#This Row],[Référence]],3)","v":"COS"},{"$f":"VLOOKUP(Catalogue[[#This Row],[Alias]],#REF!,2,FALSE)","v":{"$error":"#REF!"}},null,"CUE65074086","PASSE-CABLE AGK 66"]
["COS63502005",null,"ECHANGEUR 12 PLAQUES + O RING",null,null,{"$f":"LEFT(Catalogue[[#This Row],[Référence]],3)","v":"COS"},{"$f":"VLOOKUP(Catalogue[[#This Row],[Alias]],#REF!,2,FALSE)","v":{"$error":"#REF!"}},null,"CUE65300738","BLOC-ELECTRODES 12X46 D4 D1.2X10"]
["COS63505095",null,{"$f":"VLOOKUP(A15234,I:J,2,0)","v":"KIT JOINT ¿ 170 F90 SP.2-REMPLACEM."},null,null,{"$f":"LEFT(Catalogue[[#This Row],[Référence]],3)","v":"COS"},{"$f":"VLOOKUP(Catalogue[[#This Row],[Alias]],#REF!,2,FALSE)","v":{"$error":"#REF!"}},null,"CUE65322345","RECYCLAGE AIR D135+AILETTE 91X60 50DEG"]
["CUE13009780",null,"SOCLE SAT S98 TF-MM-DK-DM",null,null,{"$f":"LEFT(Catalogue[[#This Row],[Référence]],3)","v":"CUE"},{"$f":"VLOOKUP(Catalogue[[#This Row],[Alias]],#REF!,2,FALSE)","v":{"$error":"#REF!"}},null,"DAI066963J","RESISTANCE CONFIG T. 20  J22  68.0KOHM"]
["CUE13010472",null,"BOITIER COM.VOLET ASS.+TUBE CELL./FIOUL",null,null,{"$f":"LEFT(Catalogue[[#This Row],[Référence]],3)","v":"CUE"},{"$f":"VLOOKUP(Catalogue[[#This Row],[Alias]],#REF!,2,FALSE)","v":{"$error":"#REF!"}},null,"DAI130524J","BOBINE DETENDEUR 2/3/4MX(K)S*E"]
["CUE13011093",null,"CABLE CELL.MZ+PRISE 2P/RAST2P L200",null,null,{"$f":"LEFT(Catalogue[[#This Row],[Référence]],3)","v":"CUE"},{"$f":"VLOOKUP(Catalogue[[#This Row],[Alias]],#REF!,2,FALSE)","v":{"$error":"#REF!"}},null,"DAI1396425","VOLET SOUFFLAGE VERTICAL 2P097716-1"]
["CUE13012262",null,"SERVOMOTEUR SQN 75.244 A26",null,null,{"$f":"LEFT(Catalogue[[#This Row],[Référence]],3)","v":"CUE"},{"$f":"VLOOKUP(Catalogue[[#This Row],[Alias]],#REF!,2,FALSE)","v":{"$error":"#REF!"}},null,"DAI150909J","PALIER F(A)TXG25-35CV"]
["CUE13013081",null,"FLEXIBLE DN6 G3/8F G1/8M L900",null,null,{"$f":"LEFT(Catalogue[[#This Row],[Référence]],3)","v":"CUE"},{"$f":"VLOOKUP(Catalogue[[#This Row],[Alias]],#REF!,2,FALSE)","v":{"$error":"#REF!"}},null,"DAI161607J","LOQUET DE FACADE FTXG25-35E/ATXG25-50E"]
["CUE13015692",null,"13015692 CELLULE/SH 113et213 MZ 770S",null,null,{"$f":"LEFT(Catalogue[[#This Row],[Référence]],3)","v":"CUE"},{"$f":"VLOOKUP(Catalogue[[#This Row],[Alias]],#REF!,2,FALSE)","v":{"$error":"#REF!"}},null,"DAI1749151","VANNE D ARRET LIGNE LIQUIDE"]
["CUE13015700",null,"BOITE SATRONIC SG513",null,null,{"$f":"LEFT(Catalogue[[#This Row],[Référence]],3)","v":"CUE"},{"$f":"VLOOKUP(Catalogue[[#This Row],[Alias]],#REF!,2,FALSE)","v":{"$error":"#REF!"}},null,"DAI1758821","PLATINE  EC0562  3P187671-3"]
["CUE13016472",null,"CABLE RACCORDEMENT MOTEUR     CUENOD 13016472",null,null,{"$f":"LEFT(Catalogue[[#This Row],[Référence]],3)","v":"CUE"},{"$f":"VLOOKUP(Catalogue[[#This Row],[Alias]],#REF!,2,FALSE)","v":{"$error":"#REF!"}},null,"DAI1975998","BOBINE DETENDEUR 3SB45633-1"]
["CUE13018031",null,"SONDE IONISATION EPAULEE 6/8",null,null,{"$f":"LEFT(Catalogue[[#This Row],[Référence]],3)","v":"CUE"},{"$f":"VLOOKUP(Catalogue[[#This Row],[Alias]],#REF!,2,FALSE)","v":{"$error":"#REF!"}},null,"DAI2MXM50A","UNITE EXTERIEUR MULTI-SPLIT 2 SORTIES 5 KW R32"]
["CUE13018547",null,"SONDE IONISATION D8X120 D6.4 D4X80 45DEG",null,null,{"$f":"LEFT(Catalogue[[#This Row],[Référence]],3)","v":"CUE"},{"$f":"VLOOKUP(Catalogue[[#This Row],[Alias]],#REF!,2,FALSE)","v":{"$error":"#REF!"}},null,"DAI300268P","PLATINE  CONTROLE  EC0419-1  3P145116-1"]
["CUE3832019",null,"CB-NC4 RX101A",null,null,{"$f":"LEFT(Catalogue[[#This Row],[Référence]],3)","v":"CUE"},{"$f":"VLOOKUP(Catalogue[[#This Row],[Alias]],#REF!,2,FALSE)","v":{"$error":"#REF!"}},null,"DAI301153P","VASE EXPANSION  RP250-10L CONN 3/8"]
["CUE65074633",null,"GICLEUR DAN 0.55 GPH 80DEG  EH",null,null,{"$f":"LEFT(Catalogue[[#This Row],[Référence]],3)","v":"CUE"},{"$f":"VLOOKUP(Catalogue[[#This Row],[Alias]],#REF!,2,FALSE)","v":{"$error":"#REF!"}},null,"DAI301614P","VASE EXPENSION 35L  4SW01146-3"]
["CUE65300880",null,"COFFRET TCG 211.00",null,null,{"$f":"LEFT(Catalogue[[#This Row],[Référence]],3)","v":"CUE"},{"$f":"VLOOKUP(Catalogue[[#This Row],[Alias]],#REF!,2,FALSE)","v":{"$error":"#REF!"}},null,"DAI302901P","ELEMENT CHAUFFANT ELECTRIQUE"]
["CUE65327817",null,{"$f":"VLOOKUP(A15554,I:J,2,0)","v":"ELECTRODE ALLUM.D10X100 D6.4 D3.5X59 45DEG"},null,null,{"$f":"LEFT(Catalogue[[#This Row],[Référence]],3)","v":"CUE"},{"$f":"VLOOKUP(Catalogue[[#This Row],[Alias]],#REF!,2,FALSE)","v":{"$error":"#REF!"}},null,"DAI5001249","FLOTTEUR POMPE 4P204515-3"]
["DAI066966J",null,"RESISTANCE CONFIG T. 200  (J224)  33.0KO",null,null,{"$f":"LEFT(Catalogue[[#This Row],[Référence]],3)","v":"DAI"},{"$f":"VLOOKUP(Catalogue[[#This Row],[Alias]],#REF!,2,FALSE)","v":{"$error":"#REF!"}},null,"DAI5002064","PLATINE A1P 3P231781-3"]
["DAI130522J",null,"BOBINE DETENDEUR 3/4MX(K)S*E",null,null,{"$f":"LEFT(Catalogue[[#This Row],[Référence]],3)","v":"DAI"},{"$f":"VLOOKUP(Catalogue[[#This Row],[Alias]],#REF!,2,FALSE)","v":{"$error":"#REF!"}},null,"DAI5002556","MANOMETRE 0/4 BAR 4SW04196-4"]
["DAI141993J",null,"HELICE RZQ71>125B /RXYSQ4-6M EX1419931",null,null,{"$f":"LEFT(Catalogue[[#This Row],[Référence]],3)","v":"DAI"},{"$f":"VLOOKUP(Catalogue[[#This Row],[Alias]],#REF!,2,FALSE)","v":{"$error":"#REF!"}},null,"DAI5004416","TURBINE 2P115193-2   QD13A1BH"]
["DAI150302J",null,"TURBINE DE VENTILATION FTXG25-35E",null,null,{"$f":"LEFT(Catalogue[[#This Row],[Référence]],3)","v":"DAI"},{"$f":"VLOOKUP(Catalogue[[#This Row],[Alias]],#REF!,2,FALSE)","v":{"$error":"#REF!"}},null,"DAI5004963","ELECTROVANNE GAZ  >GSU/GCU<"]
["DAI160629J",null,"MOTEUR VENTIL  KFD380-51-8B      4MXS80*",null,null,{"$f":"LEFT(Catalogue[[#This Row],[Référence]],3)","v":"DAI"},{"$f":"VLOOKUP(Catalogue[[#This Row],[Alias]],#REF!,2,FALSE)","v":{"$error":"#REF!"}},null,"DAI5006075","FLEXIBLE LW DEPART D EAU 3PW54481-2"]
["DAI1688302",null,"COUVERCLE VANNE ARRET 3P083458-9",null,null,{"$f":"LEFT(Catalogue[[#This Row],[Référence]],3)","v":"DAI"},{"$f":"VLOOKUP(Catalogue[[#This Row],[Alias]],#REF!,2,FALSE)","v":{"$error":"#REF!"}},null,"DAI5007030","PLATINE 2F011943-5"]
["DAI1839960",null,"TURBINE DE VENTILATION 2P204933-1",null,null,{"$f":"LEFT(Catalogue[[#This Row],[Référence]],3)","v":"DAI"},{"$f":"VLOOKUP(Catalogue[[#This Row],[Alias]],#REF!,2,FALSE)","v":{"$error":"#REF!"}},null,"DAI5008601","SONDE LIQUIDE   4P283731-1  R6T"]
["DAI2024189",null,"MOTEUR VENTIL 70W 3P123189-1",null,null,{"$f":"LEFT(Catalogue[[#This Row],[Référence]],3)","v":"DAI"},{"$f":"VLOOKUP(Catalogue[[#This Row],[Alias]],#REF!,2,FALSE)","v":{"$error":"#REF!"}},null,"DAI5009347","ISOLATION THERMIQUE 4P318238-1"]
["DAI2MXM40A9",null,"UNITÉ EXTÉRIEURE MULTI 2 SORTIES 4 KW R32",null,null,{"$f":"LEFT(Catalogue[[#This Row],[Référence]],3)","v":"DAI"},{"$f":"VLOOKUP(Catalogue[[#This Row],[Alias]],#REF!,2,FALSE)","v":{"$error":"#REF!"}},null,"DAI5009957","ENSEMBLE SONDE 3P317850-1"]
["DAI300351P",null,"PLATINE   EC0615  2P106686-4",null,null,{"$f":"LEFT(Catalogue[[#This Row],[Référence]],3)","v":"DAI"},{"$f":"VLOOKUP(Catalogue[[#This Row],[Alias]],#REF!,2,FALSE)","v":{"$error":"#REF!"}},null,"DAI5011011","POMPE DE VIDANGE"]
["DAI301163P",null,"POMPE  RS25/7 PL 130 3",null,null,{"$f":"LEFT(Catalogue[[#This Row],[Référence]],3)","v":"DAI"},{"$f":"VLOOKUP(Catalogue[[#This Row],[Alias]],#REF!,2,FALSE)","v":{"$error":"#REF!"}},null,"DAI5012149","PLATINE  PC0509-1 (C)  2P164907-1 N"]
["DAI301476P",null,"ENSEMBLE DE SONDES R6-R8T  3P188405-1",null,null,{"$f":"LEFT(Catalogue[[#This Row],[Référence]],3)","v":"DAI"},{"$f":"VLOOKUP(Catalogue[[#This Row],[Alias]],#REF!,2,FALSE)","v":{"$error":"#REF!"}},null,"DAI5013359","CONTROLEUR DE DEBIT 4P317950-1"]
["DAI4005841",null,"GRILLE AVANT 1P103032-10",null,null,{"$f":"LEFT(Catalogue[[#This Row],[Référence]],3)","v":"DAI"},{"$f":"VLOOKUP(Catalogue[[#This Row],[Alias]],#REF!,2,FALSE)","v":{"$error":"#REF!"}},null,"DAI5015539","CABLE M1P 1~ 3P402508-1 RI-014A-19"]
["DAI412073",null,"FAN HOUSING (1)       FH1..P/B 2PA04115-",null,null,{"$f":"LEFT(Catalogue[[#This Row],[Référence]],3)","v":"DAI"},{"$f":"VLOOKUP(Catalogue[[#This Row],[Alias]],#REF!,2,FALSE)","v":{"$error":"#REF!"}},null,"DAI5015679","PCB PRENDRE SUB. 5038452 SI PAS 5015679"]
["DAI5002048",null,"PLATINE SERVICE A9P 2P193801-3",null,null,{"$f":"LEFT(Catalogue[[#This Row],[Référence]],3)","v":"DAI"},{"$f":"VLOOKUP(Catalogue[[#This Row],[Alias]],#REF!,2,FALSE)","v":{"$error":"#REF!"}},null,"DAI5016912","PANNEAU 3P417689-2"]
["DAI5002563",null,"BALLON 10L  4SW08956-1",null,null,{"$f":"LEFT(Catalogue[[#This Row],[Référence]],3)","v":"DAI"},{"$f":"VLOOKUP(Catalogue[[#This Row],[Alias]],#REF!,2,FALSE)","v":{"$error":"#REF!"}},null,"DAI5017790","ISOLATION PHONIQUE MANCHETTE"]
["DAI5004225",null,"SONDE BALLON TS  RPS3 E1600106",null,null,{"$f":"LEFT(Catalogue[[#This Row],[Référence]],3)","v":"DAI"},{"$f":"VLOOKUP(Catalogue[[#This Row],[Alias]],#REF!,2,FALSE)","v":{"$error":"#REF!"}},null,"DAI5018905","PLATINE DE CONTROLE 3F016739-2F"]
["DAI5005043",null,"IONISATION ELECTRODE BG",null,null,{"$f":"LEFT(Catalogue[[#This Row],[Référence]],3)","v":"DAI"},{"$f":"VLOOKUP(Catalogue[[#This Row],[Alias]],#REF!,2,FALSE)","v":{"$error":"#REF!"}},null,"DAI5020374","H_PLATINE SELECTION 4P482347-1"]
["DAI5007509",null,"PLATINE CONTROLE  3F013899-2",null,null,{"$f":"LEFT(Catalogue[[#This Row],[Référence]],3)","v":"DAI"},{"$f":"VLOOKUP(Catalogue[[#This Row],[Alias]],#REF!,2,FALSE)","v":{"$error":"#REF!"}},null,"DAI5022184","H_BAC A CONDENSAT 1P534309-1"]
["DAI5008417",null,"THERMOSTAT SURCHAUFFE R134A 3PW70906-2",null,null,{"$f":"LEFT(Catalogue[[#This Row],[Référence]],3)","v":"DAI"},{"$f":"VLOOKUP(Catalogue[[#This Row],[Alias]],#REF!,2,FALSE)","v":{"$error":"#REF!"}},null,"DAI5023691","PLATINE (DAIKIN EYE) 4P482343-1"]
["DAI5008944",null,"CIRCLIP (100PCS)",null,null,{"$f":"LEFT(Catalogue[[#This Row],[Référence]],3)","v":"DAI"},{"$f":"VLOOKUP(Catalogue[[#This Row],[Alias]],#REF!,2,FALSE)","v":{"$error":"#REF!"}},null,"DAI5035698","MODULE LAN FTXM25R2V1B /2P571184-2"]
["DAI5009341",null,"VANNE DE SECURITE 4P317397-1",null,null,{"$f":"LEFT(Catalogue[[#This Row],[Référence]],3)","v":"DAI"},{"$f":"VLOOKUP(Catalogue[[#This Row],[Alias]],#REF!,2,FALSE)","v":{"$error":"#REF!"}},null,"DAI5036900","PCB (HYDRO) EQ17001-1A (C) /2P490342-4 X"]
["DAI5009734",null,"H_JEU D ELECTRODES ALLUMAGE DIAM3.5 15-27KW",null,null,{"$f":"LEFT(Catalogue[[#This Row],[Référence]],3)","v":"DAI"},{"$f":"VLOOKUP(Catalogue[[#This Row],[Alias]],#REF!,2,FALSE)","v":{"$error":"#REF!"}},null,"DAI5038428","PCB ASSY (CONTROL) EX19003-8D"]
["DAI5011189",null,"BOBINE DETENTEUR K2E 4P348492-2",null,null,{"$f":"LEFT(Catalogue[[#This Row],[Référence]],3)","v":"DAI"},{"$f":"VLOOKUP(Catalogue[[#This Row],[Alias]],#REF!,2,FALSE)","v":{"$error":"#REF!"}},null,"DAI5041440","DISCHARGE GRILLE ASSY"]
["DAI5013638",null,"CONTROLEUR DE DEBIT SIKA VVX15",null,null,{"$f":"LEFT(Catalogue[[#This Row],[Référence]],3)","v":"DAI"},{"$f":"VLOOKUP(Catalogue[[#This Row],[Alias]],#REF!,2,FALSE)","v":{"$error":"#REF!"}},null,"DAIBRC1H52W","TELECOMMANDE MADOKA - TELECOMMANDE CABLEE DESIGN BLANCHE"]
["DAI5014590",null,"POMPE YONOS 15/7 + CABLE 4P318021-5",null,null,{"$f":"LEFT(Catalogue[[#This Row],[Référence]],3)","v":"DAI"},{"$f":"VLOOKUP(Catalogue[[#This Row],[Alias]],#REF!,2,FALSE)","v":{"$error":"#REF!"}},null,"DAIEHVH08S18E6V","UNITE AU SOL DAIKIN ALTHERMA 3 R F TAILLE V180 L 1 ZONE"]
["DAI5015547",null,"TUBE FLEXIBLE 3P395188-1 RI-014A-19",null,null,{"$f":"LEFT(Catalogue[[#This Row],[Référence]],3)","v":"DAI"},{"$f":"VLOOKUP(Catalogue[[#This Row],[Alias]],#REF!,2,FALSE)","v":{"$error":"#REF!"}},null,"DAIERGA06DV","GROUPE EXTERIEUR MONOPHASE R32 TAILLE 6"]
["DAI5016280",null,"CARTE ROCON BM1 POUR HPSU  E1400088",null,null,{"$f":"LEFT(Catalogue[[#This Row],[Référence]],3)","v":"DAI"},{"$f":"VLOOKUP(Catalogue[[#This Row],[Alias]],#REF!,2,FALSE)","v":{"$error":"#REF!"}},null,"DAIFTXA20AW","MURAL STYLISH BLANC 2 KW - R32"]
["DAI5016885",null,"VOLET LARGE 3P417695-1",null,null,{"$f":"LEFT(Catalogue[[#This Row],[Référence]],3)","v":"DAI"},{"$f":"VLOOKUP(Catalogue[[#This Row],[Alias]],#REF!,2,FALSE)","v":{"$error":"#REF!"}},null,"DAIFTXJ42AB","MURAL EMURA 3 4.2 KW R32 COLORIS NOIR"]
["DAI5017652",null,"MOTEUR VENTIL 70W + SILENT BLOCS",null,null,{"$f":"LEFT(Catalogue[[#This Row],[Référence]],3)","v":"DAI"},{"$f":"VLOOKUP(Catalogue[[#This Row],[Alias]],#REF!,2,FALSE)","v":{"$error":"#REF!"}},null,"DAIFVXM50F","CONSOLE DOUBLE FLUX 5 KW R32"]
["DAI5020298",null,"H_PLATINE 4P489901-1",null,null,{"$f":"LEFT(Catalogue[[#This Row],[Référence]],3)","v":"DAI"},{"$f":"VLOOKUP(Catalogue[[#This Row],[Alias]],#REF!,2,FALSE)","v":{"$error":"#REF!"}},null,"DAN003Z4001","VANNE EQUILI MANUELLE 1/2"]
["DAI5020583",null,"BAC A CONDENSAT   1P491709-1",null,null,{"$f":"LEFT(Catalogue[[#This Row],[Référence]],3)","v":"DAI"},{"$f":"VLOOKUP(Catalogue[[#This Row],[Alias]],#REF!,2,FALSE)","v":{"$error":"#REF!"}},null,"DAN013G0028","RA-N 25 DROIT 1  REGLABLE"]
["DAI5022088",null,"BOBINE VANNE 4 VOIES   4P516381-1",null,null,{"$f":"LEFT(Catalogue[[#This Row],[Référence]],3)","v":"DAI"},{"$f":"VLOOKUP(Catalogue[[#This Row],[Alias]],#REF!,2,FALSE)","v":{"$error":"#REF!"}},null,"DAN013G2990","TETE DANFOSS BULBE INCORPORE BLC RA2990"]
["DAI5023342",null,"CORPS V3V(SIEMENS)  VBI60.25-16T",null,null,{"$f":"LEFT(Catalogue[[#This Row],[Référence]],3)","v":"DAI"},{"$f":"VLOOKUP(Catalogue[[#This Row],[Alias]],#REF!,2,FALSE)","v":{"$error":"#REF!"}},null,"DAN013G7270","INSERT D +1 BOUCHON"]
["DAI5035503",null,"CAPTEUR DEBIT 4P502094-2",null,null,{"$f":"LEFT(Catalogue[[#This Row],[Référence]],3)","v":"DAI"},{"$f":"VLOOKUP(Catalogue[[#This Row],[Alias]],#REF!,2,FALSE)","v":{"$error":"#REF!"}},null,"DAN030B0067","GICLEUR DANFOSS 3.00G 45DEG  B"]
["DAI5037481",null,"DISCHARGE GRILLE",null,null,{"$f":"LEFT(Catalogue[[#This Row],[Référence]],3)","v":"DAI"},{"$f":"VLOOKUP(Catalogue[[#This Row],[Alias]],#REF!,2,FALSE)","v":{"$error":"#REF!"}},null,"DAN030F5912","GICLEUR DANFOSS 0.60G 45DEG  SR"]
["DAI5038462",null,"PCB ASSY (POWER) EX20037-6",null,null,{"$f":"LEFT(Catalogue[[#This Row],[Référence]],3)","v":"DAI"},{"$f":"VLOOKUP(Catalogue[[#This Row],[Alias]],#REF!,2,FALSE)","v":{"$error":"#REF!"}},null,"DAN030F6706","GICLEUR DANFOSS 0.45G 60DEG  LES"]
["DAI5760072",null,"PUMP CONNECTION WP400/WWS STORAGE",null,null,{"$f":"LEFT(Catalogue[[#This Row],[Référence]],3)","v":"DAI"},{"$f":"VLOOKUP(Catalogue[[#This Row],[Alias]],#REF!,2,FALSE)","v":{"$error":"#REF!"}},null,"DAN030F8924","GICLEUR DANFOSS 1.25G 80DEG  S"]
["DAIBRC1D52",null,"CDE FIL HORLOGE VRV SKY AIR",null,null,{"$f":"LEFT(Catalogue[[#This Row],[Référence]],3)","v":"DAI"},{"$f":"VLOOKUP(Catalogue[[#This Row],[Alias]],#REF!,2,FALSE)","v":{"$error":"#REF!"}},null,"DAN030H8004","GICLEUR DANFOSS 0.40G 80DEG  HFD"]
["DAIEKHTS260AC6W1",null,"BALLON ECS PRESSURISE 260L",null,null,{"$f":"LEFT(Catalogue[[#This Row],[Référence]],3)","v":"DAI"},{"$f":"VLOOKUP(Catalogue[[#This Row],[Alias]],#REF!,2,FALSE)","v":{"$error":"#REF!"}},null,"DAN065F0020","VMV 3/4II VANNE SIEGE 3 VOIES"]
["DAIEPRA16DV37",null,"UNITE EXTERIEURE DAIKIN ALTHERMA 3H HT TAILLE 16 MONOPHASEE",null,null,{"$f":"LEFT(Catalogue[[#This Row],[Référence]],3)","v":"DAI"},{"$f":"VLOOKUP(Catalogue[[#This Row],[Alias]],#REF!,2,FALSE)","v":{"$error":"#REF!"}},null,"DAN071N0137","POMPE DANFOSS BFP41R3 FC 28/03/2018"]
["DAIFTXA35AW",null,"MURAL STYLISH BLANC 3,5 KW - R32",null,null,{"$f":"LEFT(Catalogue[[#This Row],[Référence]],3)","v":"DAI"},{"$f":"VLOOKUP(Catalogue[[#This Row],[Alias]],#REF!,2,FALSE)","v":{"$error":"#REF!"}},null,"DAN082F0001","ABV 230 NO MOTEUR THERMIQUE"]
["DAIFTXM25R",null,"MURAL PERFERA 2,5 KW R32",null,null,{"$f":"LEFT(Catalogue[[#This Row],[Référence]],3)","v":"DAI"},{"$f":"VLOOKUP(Catalogue[[#This Row],[Alias]],#REF!,2,FALSE)","v":{"$error":"#REF!"}},null,"DAN149B3107","COMBIFUEL 3/8 100TH/H             1363107"]
["DAIRXM42R",null,"U.E. MONOSPLIT 4,2 KW R32",null,null,{"$f":"LEFT(Catalogue[[#This Row],[Référence]],3)","v":"DAI"},{"$f":"VLOOKUP(Catalogue[[#This Row],[Alias]],#REF!,2,FALSE)","v":{"$error":"#REF!"}},null,"DAN8063","BULBE FIXE DANFOSS RA2990"]
["DAN013G0002",null,"RA-N 10 CORPS DROIT 3/8 REGLABLE",null,null,{"$f":"LEFT(Catalogue[[#This Row],[Référence]],3)","v":"DAN"},{"$f":"VLOOKUP(Catalogue[[#This Row],[Alias]],#REF!,2,FALSE)","v":{"$error":"#REF!"}},null,"DANDA060D60LES","DANFOSS 0.60G 60 DEG LE S"]
["DAN013G0234",null,"RA-N 15 CORPS ANGLE GAUCHE 1/2. REGLABLE",null,null,{"$f":"LEFT(Catalogue[[#This Row],[Référence]],3)","v":"DAN"},{"$f":"VLOOKUP(Catalogue[[#This Row],[Alias]],#REF!,2,FALSE)","v":{"$error":"#REF!"}},null,"DDI0284309","ELECTRODE D ALLUM+IONISAT."]
["DAN013G2920",null,"TETE THERMOSTATIQUE RENFORCEE",null,null,{"$f":"LEFT(Catalogue[[#This Row],[Référence]],3)","v":"DAN"},{"$f":"VLOOKUP(Catalogue[[#This Row],[Alias]],#REF!,2,FALSE)","v":{"$error":"#REF!"}},null,"DDI0295165","ELECTRODE ALLUMA.+ SONDE IONISAT.+JOINT"]
["DAN013G7370",null,"MECANISME REGLABLE INSERT D NDEG 1 LIVRE SEUL",null,null,{"$f":"LEFT(Catalogue[[#This Row],[Référence]],3)","v":"DAN"},{"$f":"VLOOKUP(Catalogue[[#This Row],[Alias]],#REF!,2,FALSE)","v":{"$error":"#REF!"}},null,"DDI100000030","OPTION SONDE ECS DTG 130 AD212 FC 07/08/17"]
["DAN030B0063",null,"GICLEUR DANFOSS 2.00G 45DEG  B",null,null,{"$f":"LEFT(Catalogue[[#This Row],[Référence]],3)","v":"DAN"},{"$f":"VLOOKUP(Catalogue[[#This Row],[Alias]],#REF!,2,FALSE)","v":{"$error":"#REF!"}},null,"DDI100013304","PLATINE + SONDE V3V DIEM ISYS AD249"]
["DAN030F6014",null,"GICLEUR DANFOSS 0.65G 60DEG  SFD",null,null,{"$f":"LEFT(Catalogue[[#This Row],[Référence]],3)","v":"DAN"},{"$f":"VLOOKUP(Catalogue[[#This Row],[Alias]],#REF!,2,FALSE)","v":{"$error":"#REF!"}},null,"DDI100016888","RAD ARTIS HAB H700 L500 728W 21HR"]
["DAN030F8006",null,"GICLEUR DANFOSS 0.45G 80DEG  SFD",null,null,{"$f":"LEFT(Catalogue[[#This Row],[Référence]],3)","v":"DAN"},{"$f":"VLOOKUP(Catalogue[[#This Row],[Alias]],#REF!,2,FALSE)","v":{"$error":"#REF!"}},null,"DDI100018095","PREPA"]
["DAN030F8910",null,"GICLEUR DANFOSS 0.55G 80DEG  S",null,null,{"$f":"LEFT(Catalogue[[#This Row],[Référence]],3)","v":"DAN"},{"$f":"VLOOKUP(Catalogue[[#This Row],[Alias]],#REF!,2,FALSE)","v":{"$error":"#REF!"}},null,"DDI200000243","CARTE UC BASE GT120 ACI TESTEE"]
["DAN030H8008",null,"GICLEUR DANFOSS 0.50G 80DEG  HFD",null,null,{"$f":"LEFT(Catalogue[[#This Row],[Référence]],3)","v":"DAN"},{"$f":"VLOOKUP(Catalogue[[#This Row],[Alias]],#REF!,2,FALSE)","v":{"$error":"#REF!"}},null,"DDI200008102","CARTE UC AFFICHAGE ECO 210 /II"]
["DAN065Z0411",null,"VANNE HRB 4 VOIES 15X21    065Z0411",null,null,{"$f":"LEFT(Catalogue[[#This Row],[Référence]],3)","v":"DAN"},{"$f":"VLOOKUP(Catalogue[[#This Row],[Alias]],#REF!,2,FALSE)","v":{"$error":"#REF!"}},null,"DDI200022863","TAMPON+ANODE+JOINT+VIS 100SL"]
["DAN071N0064",null,"KIT FILTRE BFP (071N0064)",null,null,{"$f":"LEFT(Catalogue[[#This Row],[Référence]],3)","v":"DAN"},{"$f":"VLOOKUP(Catalogue[[#This Row],[Alias]],#REF!,2,FALSE)","v":{"$error":"#REF!"}},null,"DDI300001177","VANNE 3 VOIES AVEC BYPASS"]
["DAN071N7172",null,"POMPE BFP21L5 071N7172",null,null,{"$f":"LEFT(Catalogue[[#This Row],[Référence]],3)","v":"DAN"},{"$f":"VLOOKUP(Catalogue[[#This Row],[Alias]],#REF!,2,FALSE)","v":{"$error":"#REF!"}},null,"DDI300007449","VANNE 4 V INVERSION STF 0413G3"]
["DAN149B7540",null,"D et EN. DESBORDES MULTI-RACCORD 3/4MULTI 7",null,null,{"$f":"LEFT(Catalogue[[#This Row],[Référence]],3)","v":"DAN"},{"$f":"VLOOKUP(Catalogue[[#This Row],[Alias]],#REF!,2,FALSE)","v":{"$error":"#REF!"}},null,"DDI300024956","ECHANGEUR A PLAQUE E6TH X 18 G3/4"]
["DAN149H001455",null,"POIGNEE FONTE SYLAX DN200          602149H001455",null,null,{"$f":"LEFT(Catalogue[[#This Row],[Référence]],3)","v":"DAN"},{"$f":"VLOOKUP(Catalogue[[#This Row],[Alias]],#REF!,2,FALSE)","v":{"$error":"#REF!"}},null,"DDI300025675","MITIGEUR THERMOSTATIQUE MMF1"]
["DANDA055D45S",null,"DANFOSS 0.55 G 45 DEG S",null,null,{"$f":"LEFT(Catalogue[[#This Row],[Référence]],3)","v":"DAN"},{"$f":"VLOOKUP(Catalogue[[#This Row],[Alias]],#REF!,2,FALSE)","v":{"$error":"#REF!"}},null,"DDI7609763","THERMOSTAT AMBIANCE MODULANT FILAIRE AD 304"]
["DDI0283633",null,"SOUPAPE DIFFERENTIEL 3/4  AVEC JOINT",null,null,{"$f":"LEFT(Catalogue[[#This Row],[Référence]],3)","v":"DDI"},{"$f":"VLOOKUP(Catalogue[[#This Row],[Alias]],#REF!,2,FALSE)","v":{"$error":"#REF!"}},null,"DDI7625480","VIVADENS MCR 24/28 MI PLUS  HG129 THPE"]
["DDI0295190",null,"SOUPAPE DE SECURITE 3 BAR 1/2",null,null,{"$f":"LEFT(Catalogue[[#This Row],[Référence]],3)","v":"DDI"},{"$f":"VLOOKUP(Catalogue[[#This Row],[Alias]],#REF!,2,FALSE)","v":{"$error":"#REF!"}},null,"DDI7641131","CARTE ELECTRONIQUE PCU-195"]
["DDI0306369",null,"JOINTS BRULEUR",null,null,{"$f":"LEFT(Catalogue[[#This Row],[Référence]],3)","v":"DDI"},{"$f":"VLOOKUP(Catalogue[[#This Row],[Alias]],#REF!,2,FALSE)","v":{"$error":"#REF!"}},null,"DDI7668016","AWHP 6 MR-3 EH672"]
["DDI100013306",null,"SONDE EXT RADIO DIM ISYS AD251",null,null,{"$f":"LEFT(Catalogue[[#This Row],[Référence]],3)","v":"DDI"},{"$f":"VLOOKUP(Catalogue[[#This Row],[Alias]],#REF!,2,FALSE)","v":{"$error":"#REF!"}},null,"DDI7692771","MOSE 35 EH865"]
["DDI100017029",null,"RAD. DD ARTIS    L 400 P22H H500",null,null,{"$f":"LEFT(Catalogue[[#This Row],[Référence]],3)","v":"DDI"},{"$f":"VLOOKUP(Catalogue[[#This Row],[Alias]],#REF!,2,FALSE)","v":{"$error":"#REF!"}},null,"DDI81208953","CARTE-RELAIS-CPL-"]
["DDI100017360",null,"RAD. DD ARTIS    L 700 P33H H700",null,null,{"$f":"LEFT(Catalogue[[#This Row],[Référence]],3)","v":"DDI"},{"$f":"VLOOKUP(Catalogue[[#This Row],[Alias]],#REF!,2,FALSE)","v":{"$error":"#REF!"}},null,"DDI82188927","BANDEAU DIEMATIC NEUF AVANT 11/93"]
["DDI200000455",null,"VENTIL RLH 108 AVEC TROUS PERCES",null,null,{"$f":"LEFT(Catalogue[[#This Row],[Référence]],3)","v":"DDI"},{"$f":"VLOOKUP(Catalogue[[#This Row],[Alias]],#REF!,2,FALSE)","v":{"$error":"#REF!"}},null,"DDI83875543","ELECTRODE INCAN.CPLTE 5-7-9"]
["DDI200006740",null,"CARTE RELAIS ECONOX +  (VI)",null,null,{"$f":"LEFT(Catalogue[[#This Row],[Référence]],3)","v":"DDI"},{"$f":"VLOOKUP(Catalogue[[#This Row],[Alias]],#REF!,2,FALSE)","v":{"$error":"#REF!"}},null,"DDI83886532","ELECTRODE D ALLUMAGE 120FF-130FF"]
["DDI200015937",null,"COFFRET LME 21.350 A2 + NOTICE",null,null,{"$f":"LEFT(Catalogue[[#This Row],[Référence]],3)","v":"DDI"},{"$f":"VLOOKUP(Catalogue[[#This Row],[Alias]],#REF!,2,FALSE)","v":{"$error":"#REF!"}},null,"DDI84091544","TIROIR BRULEUR WORGAS 8EL"]
["DDI300003453",null,"CIRCULATEUR CITY 2.24 CONDENS",null,null,{"$f":"LEFT(Catalogue[[#This Row],[Référence]],3)","v":"DDI"},{"$f":"VLOOKUP(Catalogue[[#This Row],[Alias]],#REF!,2,FALSE)","v":{"$error":"#REF!"}},null,"DDI85757747","CDE A DIST A/SONDE AMBIANCE FM52"]
["DDI300012986",null,"RELAIS 65.31.8.230.0300",null,null,{"$f":"LEFT(Catalogue[[#This Row],[Référence]],3)","v":"DDI"},{"$f":"VLOOKUP(Catalogue[[#This Row],[Alias]],#REF!,2,FALSE)","v":{"$error":"#REF!"}},null,"DDI86665557","DISCONNECTEUR"]
["DDI300024956",null,"ECHANGEUR A PLAQUE E6TH X 18 G3/4",null,null,{"$f":"LEFT(Catalogue[[#This Row],[Référence]],3)","v":"DDI"},{"$f":"VLOOKUP(Catalogue[[#This Row],[Alias]],#REF!,2,FALSE)","v":{"$error":"#REF!"}},null,"DDI86665716","TUBE RACC.BY-PASS CPL"]
["DDI7602372",null,"CARTE STORAGE UNIT PARAMETER PSU-01 40KW",null,null,{"$f":"LEFT(Catalogue[[#This Row],[Référence]],3)","v":"DDI"},{"$f":"VLOOKUP(Catalogue[[#This Row],[Alias]],#REF!,2,FALSE)","v":{"$error":"#REF!"}},null,"DDI88055562","BANDEAU DIEM.DELTA"]
["DDI7605159",null,"ISOLATION ECHANGEUR CPL",null,null,{"$f":"LEFT(Catalogue[[#This Row],[Référence]],3)","v":"DDI"},{"$f":"VLOOKUP(Catalogue[[#This Row],[Alias]],#REF!,2,FALSE)","v":{"$error":"#REF!"}},null,"DDI88065521","CARTE UC MURALE VMC TESTE"]
["DDI7625480",null,"VIVADENS MCR 24/28 MI PLUS  HG129 THPE",null,null,{"$f":"LEFT(Catalogue[[#This Row],[Référence]],3)","v":"DDI"},{"$f":"VLOOKUP(Catalogue[[#This Row],[Alias]],#REF!,2,FALSE)","v":{"$error":"#REF!"}},null,"DDI89599021","CEE DD BLOC  30L SR/EV. 89599021"]
["DDI7631146",null,"CIRCULATEUR UPM3",null,null,{"$f":"LEFT(Catalogue[[#This Row],[Référence]],3)","v":"DDI"},{"$f":"VLOOKUP(Catalogue[[#This Row],[Alias]],#REF!,2,FALSE)","v":{"$error":"#REF!"}},null,"DDI94960052","PIQUAGE DR 1/4  1050613"]
["DDI7661779",null,"ALLUMEUR CERAMIQUE",null,null,{"$f":"LEFT(Catalogue[[#This Row],[Référence]],3)","v":"DDI"},{"$f":"VLOOKUP(Catalogue[[#This Row],[Alias]],#REF!,2,FALSE)","v":{"$error":"#REF!"}},null,"DDI95318417","COFFRET HO S4570BS1036"]
["DDI7728106",null,"PLATINE PCU 01 / SU 01",null,null,{"$f":"LEFT(Catalogue[[#This Row],[Référence]],3)","v":"DDI"},{"$f":"VLOOKUP(Catalogue[[#This Row],[Alias]],#REF!,2,FALSE)","v":{"$error":"#REF!"}},null,"DDI95365107","MANOMETRE ELECTRONIQUE"]
["DDI7821499",null,"C230 EVO-170 ECO+TABLEAU DIEMATIC-M 3 THPE",null,null,{"$f":"LEFT(Catalogue[[#This Row],[Référence]],3)","v":"DDI"},{"$f":"VLOOKUP(Catalogue[[#This Row],[Alias]],#REF!,2,FALSE)","v":{"$error":"#REF!"}},null,"DDI97525054","CAPOT SUP. BLANC (D45)"]
["DDI82218950",null,"BRIDE A EMBOUT + JOINT",null,null,{"$f":"LEFT(Catalogue[[#This Row],[Référence]],3)","v":"DDI"},{"$f":"VLOOKUP(Catalogue[[#This Row],[Alias]],#REF!,2,FALSE)","v":{"$error":"#REF!"}},null,"DDI97581611","ISOL PLAQUE8116-4020"]
["DDI83758668",null,"ENS TIROIR BRUL PO 4EL",null,null,{"$f":"LEFT(Catalogue[[#This Row],[Référence]],3)","v":"DDI"},{"$f":"VLOOKUP(Catalogue[[#This Row],[Alias]],#REF!,2,FALSE)","v":{"$error":"#REF!"}},null,"DDI97900150","ALLUMEUR PIEZZO  874"]
["DDI83885504",null,"VEILLEUSE 3 A 10EL",null,null,{"$f":"LEFT(Catalogue[[#This Row],[Référence]],3)","v":"DDI"},{"$f":"VLOOKUP(Catalogue[[#This Row],[Alias]],#REF!,2,FALSE)","v":{"$error":"#REF!"}},null,"DDI97903412","GICLEUR DANFOSS- 0,55 - 60DEG SR"]
["DDI84068957",null,"TUBE ALIM VEILL ELET",null,null,{"$f":"LEFT(Catalogue[[#This Row],[Référence]],3)","v":"DDI"},{"$f":"VLOOKUP(Catalogue[[#This Row],[Alias]],#REF!,2,FALSE)","v":{"$error":"#REF!"}},null,"DDI97907000","SECURITE THERMIQ 871"]
["DDI85757745",null,"CDE A DISTANCE COMMUNICANTE CDC2 FM50",null,null,{"$f":"LEFT(Catalogue[[#This Row],[Référence]],3)","v":"DDI"},{"$f":"VLOOKUP(Catalogue[[#This Row],[Alias]],#REF!,2,FALSE)","v":{"$error":"#REF!"}},null,"DDI979200S","CDC DDI 223"]
["DDI86665550",null,"CARTE SECU. R.V. FF CPL",null,null,{"$f":"LEFT(Catalogue[[#This Row],[Référence]],3)","v":"DDI"},{"$f":"VLOOKUP(Catalogue[[#This Row],[Alias]],#REF!,2,FALSE)","v":{"$error":"#REF!"}},null,"DDI97940210","DISPOSITIF D ALLUMAGE OE-"]
["DDI86665598",null,"VASE D EXPANSION CPL",null,null,{"$f":"LEFT(Catalogue[[#This Row],[Référence]],3)","v":"DDI"},{"$f":"VLOOKUP(Catalogue[[#This Row],[Alias]],#REF!,2,FALSE)","v":{"$error":"#REF!"}},null,"DDI97951087","ROBINET ENTREE EFS G1/2"]
["DDI86668609",null,"ENS ALLUMEUR HONEYWELL FC 28/01/2019",null,null,{"$f":"LEFT(Catalogue[[#This Row],[Référence]],3)","v":"DDI"},{"$f":"VLOOKUP(Catalogue[[#This Row],[Alias]],#REF!,2,FALSE)","v":{"$error":"#REF!"}},null,"DDI97960044","THERMOSTAT DE SECURITE  100DEG C 710FS1871"]
["DDI88065544",null,"CARTE UC AFF DOMO +3 TEST",null,null,{"$f":"LEFT(Catalogue[[#This Row],[Référence]],3)","v":"DDI"},{"$f":"VLOOKUP(Catalogue[[#This Row],[Alias]],#REF!,2,FALSE)","v":{"$error":"#REF!"}},null,"DDIJJD710877800","DISCONNECTEUR+JTS+TUBES MS24MI+BIC"]
["DDI88065584",null,"CARTE SONDE ECONOX + PR",null,null,{"$f":"LEFT(Catalogue[[#This Row],[Référence]],3)","v":"DDI"},{"$f":"VLOOKUP(Catalogue[[#This Row],[Alias]],#REF!,2,FALSE)","v":{"$error":"#REF!"}},null,"DDIJJD721946800","PRESSOSTAT FUMEES"]
["DDI95132254",null,"CIRCUL UPS 15-50 130 3H",null,null,{"$f":"LEFT(Catalogue[[#This Row],[Référence]],3)","v":"DDI"},{"$f":"VLOOKUP(Catalogue[[#This Row],[Alias]],#REF!,2,FALSE)","v":{"$error":"#REF!"}},null,"DDIS100797","SOUPAPE SECURITE 3 BAR 1/2"]
["DDI95361542",null,"COFFRET HO S4565BF1088B",null,null,{"$f":"LEFT(Catalogue[[#This Row],[Référence]],3)","v":"DDI"},{"$f":"VLOOKUP(Catalogue[[#This Row],[Alias]],#REF!,2,FALSE)","v":{"$error":"#REF!"}},null,"DDIS100888","JOINT ECHANG-COLLECT. COND.219MM 15-25KW"]
["DDI95365107",null,"MANOMETRE ELECTRONIQUE",null,null,{"$f":"LEFT(Catalogue[[#This Row],[Référence]],3)","v":"DDI"},{"$f":"VLOOKUP(Catalogue[[#This Row],[Alias]],#REF!,2,FALSE)","v":{"$error":"#REF!"}},null,"DDIS101350","CAPTEUR DE PRESSION"]
["DDI960035",null,"ELECTRODE IONISATION NAF 50",null,null,{"$f":"LEFT(Catalogue[[#This Row],[Référence]],3)","v":"DDI"},{"$f":"VLOOKUP(Catalogue[[#This Row],[Alias]],#REF!,2,FALSE)","v":{"$error":"#REF!"}},null,"DDIS101729","TUBES EAU-GAZ"]
["DDI97580451",null,"SONDE D IONI 90 COUD-CABL",null,null,{"$f":"LEFT(Catalogue[[#This Row],[Référence]],3)","v":"DDI"},{"$f":"VLOOKUP(Catalogue[[#This Row],[Alias]],#REF!,2,FALSE)","v":{"$error":"#REF!"}},null,"DDIS101769","CAPTEUR EFFET HALL"]
["DDI97869022",null,"TUBE LG.260 M/F 1-1/2",null,null,{"$f":"LEFT(Catalogue[[#This Row],[Référence]],3)","v":"DDI"},{"$f":"VLOOKUP(Catalogue[[#This Row],[Alias]],#REF!,2,FALSE)","v":{"$error":"#REF!"}},null,"DDIS55562","CIRCULATEUR GRUNDFOS ALPHA 2L 25-60-130"]
["DDI97906800",null,"ROBINET D/R CHAUF871",null,null,{"$f":"LEFT(Catalogue[[#This Row],[Référence]],3)","v":"DDI"},{"$f":"VLOOKUP(Catalogue[[#This Row],[Alias]],#REF!,2,FALSE)","v":{"$error":"#REF!"}},null,"DDIS62775","ECHANGEUR A PLAQUE 24/28"]
["DDI97909190",null,"VENTURI          871",null,null,{"$f":"LEFT(Catalogue[[#This Row],[Référence]],3)","v":"DDI"},{"$f":"VLOOKUP(Catalogue[[#This Row],[Alias]],#REF!,2,FALSE)","v":{"$error":"#REF!"}},null,"DDO6050465","THERMO. TYBOX 713 THERMOSTAT"]
["DDI979200S",null,"CDC DDI 223",null,null,{"$f":"LEFT(Catalogue[[#This Row],[Référence]],3)","v":"DDI"},{"$f":"VLOOKUP(Catalogue[[#This Row],[Alias]],#REF!,2,FALSE)","v":{"$error":"#REF!"}},null,"DDO6051089","TC 51089"]
["DDI97934590",null,"KIT VEILLEUSE CPL",null,null,{"$f":"LEFT(Catalogue[[#This Row],[Référence]],3)","v":"DDI"},{"$f":"VLOOKUP(Catalogue[[#This Row],[Alias]],#REF!,2,FALSE)","v":{"$error":"#REF!"}},null,"DDO6053021","TYBOX 157"]
["DDI97943475",null,"SONDE IONISATION",null,null,{"$f":"LEFT(Catalogue[[#This Row],[Référence]],3)","v":"DDI"},{"$f":"VLOOKUP(Catalogue[[#This Row],[Alias]],#REF!,2,FALSE)","v":{"$error":"#REF!"}},null,"DDO6100023","GP 40"]
["DDI97955626",null,"SOCLE CABLE BRUL. RECHAUFFE (2 ALLURES)",null,null,{"$f":"LEFT(Catalogue[[#This Row],[Référence]],3)","v":"DDI"},{"$f":"VLOOKUP(Catalogue[[#This Row],[Alias]],#REF!,2,FALSE)","v":{"$error":"#REF!"}},null,"DDO6351301","TYXIA ERX 1000"]
["DDIJJD710795500",null,"TUBE DISCONNECTEUR / CHAUFFAGE",null,null,{"$f":"LEFT(Catalogue[[#This Row],[Référence]],3)","v":"DDI"},{"$f":"VLOOKUP(Catalogue[[#This Row],[Alias]],#REF!,2,FALSE)","v":{"$error":"#REF!"}},null,"DEL845415.2P","RACCORD SANITAIRE DROIT DELABIE A/ROSACE MF 2P CHR 15X15X40"]
["DDIS100017",null,"BRULEUR 30/35",null,null,{"$f":"LEFT(Catalogue[[#This Row],[Référence]],3)","v":"DDI"},{"$f":"VLOOKUP(Catalogue[[#This Row],[Alias]],#REF!,2,FALSE)","v":{"$error":"#REF!"}},null,"DEL965202","BEC EVIER DELABIE COL DE CYGNE STD 20X27 200"]
["DDIS100627",null,"FAISCEAU 230V BLOC GAZ-VENT-TRANSFO 5/6E",null,null,{"$f":"LEFT(Catalogue[[#This Row],[Référence]],3)","v":"DDI"},{"$f":"VLOOKUP(Catalogue[[#This Row],[Alias]],#REF!,2,FALSE)","v":{"$error":"#REF!"}},null,"DEV24029LA","MOTEUR CIRCULATEUR 24029LA voir 24046la"]
["DDIS100829",null,"SOUPAPE DE SECURITE 3.5BAR",null,null,{"$f":"LEFT(Catalogue[[#This Row],[Référence]],3)","v":"DDI"},{"$f":"VLOOKUP(Catalogue[[#This Row],[Alias]],#REF!,2,FALSE)","v":{"$error":"#REF!"}},null,"DEV26053LP","KIT COLLECTEUR POMPE"]
["DDIS100890",null,"ELECTRODE ALLUMAGE / IONISATION",null,null,{"$f":"LEFT(Catalogue[[#This Row],[Référence]],3)","v":"DDI"},{"$f":"VLOOKUP(Catalogue[[#This Row],[Alias]],#REF!,2,FALSE)","v":{"$error":"#REF!"}},null,"DEV31054LA","CABLE ELECTRODE ALLUMAGE ELECT. Q128005"]
["DDIS101451",null,"KIT TUBULURES",null,null,{"$f":"LEFT(Catalogue[[#This Row],[Référence]],3)","v":"DDI"},{"$f":"VLOOKUP(Catalogue[[#This Row],[Alias]],#REF!,2,FALSE)","v":{"$error":"#REF!"}},null,"DEV36067LP","KIT VANNE GAS COND.VK4115V1006B"]
["DDIS28157",null,"Set pour veilleuse 10-20 elements",null,null,{"$f":"LEFT(Catalogue[[#This Row],[Référence]],3)","v":"DDI"},{"$f":"VLOOKUP(Catalogue[[#This Row],[Alias]],#REF!,2,FALSE)","v":{"$error":"#REF!"}},null,"DEV532000180","JOINT VENTILATEUR CONDENSATION"]
["DDIS59167",null,"VENTILATEUR RG148/1200-3633",null,null,{"$f":"LEFT(Catalogue[[#This Row],[Référence]],3)","v":"DDI"},{"$f":"VLOOKUP(Catalogue[[#This Row],[Alias]],#REF!,2,FALSE)","v":{"$error":"#REF!"}},null,"DEV65-00329","JEU ECHANGEUR BITHERMIQUE"]
["DDIS59928",null,"PANNEAU AVANT",null,null,{"$f":"LEFT(Catalogue[[#This Row],[Référence]],3)","v":"DDI"},{"$f":"VLOOKUP(Catalogue[[#This Row],[Alias]],#REF!,2,FALSE)","v":{"$error":"#REF!"}},null,"DEV65100514","KIT TRANSFORMATEUR D ALLUMAGE + CABLE"]
["DDO6050243",null,"TYBOX 110 230V THERMOSTAT",null,null,{"$f":"LEFT(Catalogue[[#This Row],[Référence]],3)","v":"DDO"},{"$f":"VLOOKUP(Catalogue[[#This Row],[Alias]],#REF!,2,FALSE)","v":{"$error":"#REF!"}},null,"DEV76658LA","CARTE MODULATION VENTILATEUR"]
["DDO6050602",null,"TYBOX 1010 WT",null,null,{"$f":"LEFT(Catalogue[[#This Row],[Référence]],3)","v":"DDO"},{"$f":"VLOOKUP(Catalogue[[#This Row],[Alias]],#REF!,2,FALSE)","v":{"$error":"#REF!"}},null,"DEV96008LP","KIT FLUSSOSTAT  ELECTRONIQUE RACCORD 1/2"]
["DDO6053001",null,"TYBOX 31",null,null,{"$f":"LEFT(Catalogue[[#This Row],[Référence]],3)","v":"DDO"},{"$f":"VLOOKUP(Catalogue[[#This Row],[Alias]],#REF!,2,FALSE)","v":{"$error":"#REF!"}},null,"DEVB0040146","ECHANGEUR 14 PLAQUES"]
["DDO6053056",null,"TYBOX BUS OPENTHERM",null,null,{"$f":"LEFT(Catalogue[[#This Row],[Référence]],3)","v":"DDO"},{"$f":"VLOOKUP(Catalogue[[#This Row],[Alias]],#REF!,2,FALSE)","v":{"$error":"#REF!"}},null,"DEVB0040434","CAPTEUR"]
["DDO6700116",null,"TYDOM HOME",null,null,{"$f":"LEFT(Catalogue[[#This Row],[Référence]],3)","v":"DDO"},{"$f":"VLOOKUP(Catalogue[[#This Row],[Alias]],#REF!,2,FALSE)","v":{"$error":"#REF!"}},null,"DEVD0039107","CIRCUIT IMPRIME"]
["DEL490006",null,{"$f":"VLOOKUP(A18050,I:J,2,0)","v":"MITIGEUR TEMPOMATIC LAVABO MIX 4 AVEC ROBINETS D ARRET"},null,null,{"$f":"LEFT(Catalogue[[#This Row],[Référence]],3)","v":"DEL"},{"$f":"VLOOKUP(Catalogue[[#This Row],[Alias]],#REF!,2,FALSE)","v":{"$error":"#REF!"}},null,"DEVD0039657","PLAQUE AV. CHAMBRE COMBUSTION"]
["DEL960152",null,"BEC LAVABO DELABIE COL DE CYGNE 15X21 150",null,null,{"$f":"LEFT(Catalogue[[#This Row],[Référence]],3)","v":"DEL"},{"$f":"VLOOKUP(Catalogue[[#This Row],[Alias]],#REF!,2,FALSE)","v":{"$error":"#REF!"}},null,"DEVD0039782","CHAMBRE DE COMBUSTION"]
["DEV1092560",null,"LIGNE GICLEUR AVEC RECHAUFFEUR",null,null,{"$f":"LEFT(Catalogue[[#This Row],[Référence]],3)","v":"DEV"},{"$f":"VLOOKUP(Catalogue[[#This Row],[Alias]],#REF!,2,FALSE)","v":{"$error":"#REF!"}},null,"DEVD0039862","PLATEAU"]
["DEV243016",null,"THERMOSTAT DE SURCHAUFFE",null,null,{"$f":"LEFT(Catalogue[[#This Row],[Référence]],3)","v":"DEV"},{"$f":"VLOOKUP(Catalogue[[#This Row],[Alias]],#REF!,2,FALSE)","v":{"$error":"#REF!"}},null,"DEVD0039959","MOTEUR VANNE 3 VOIE"]
["DEV291086",null,"ANODE MAGNESIE 21.3 X 800 M8",null,null,{"$f":"LEFT(Catalogue[[#This Row],[Référence]],3)","v":"DEV"},{"$f":"VLOOKUP(Catalogue[[#This Row],[Alias]],#REF!,2,FALSE)","v":{"$error":"#REF!"}},null,"DEVP0033151","KIT DE REPARATION DE DETECTEUR DE DEBIT"]
["DEV36076LA",null,"VANNE GAZ ELECTRONIQUE COND.1/2 M - VK4115V1378B",null,null,{"$f":"LEFT(Catalogue[[#This Row],[Référence]],3)","v":"DEV"},{"$f":"VLOOKUP(Catalogue[[#This Row],[Alias]],#REF!,2,FALSE)","v":{"$error":"#REF!"}},null,"DIT358852","THERM.AMBIANCE THEBEN RAM782R BLIST."]
["DEV43164LP",null,"VANNE 3 VOIES MOTORISEE 43164LP",null,null,{"$f":"LEFT(Catalogue[[#This Row],[Référence]],3)","v":"DEV"},{"$f":"VLOOKUP(Catalogue[[#This Row],[Alias]],#REF!,2,FALSE)","v":{"$error":"#REF!"}},null,"DIT610095","BOITE DE CONTROLE MMI 811-35"]
["DEV54762004",null,"RELAIS FINDER 628282300308",null,null,{"$f":"LEFT(Catalogue[[#This Row],[Référence]],3)","v":"DEV"},{"$f":"VLOOKUP(Catalogue[[#This Row],[Alias]],#REF!,2,FALSE)","v":{"$error":"#REF!"}},null,"DIT631730","BOUGIE ALLUMAGE 17000697"]
["DEV65-00112",null,"JEU CIRCULATEUR RSL 15/5 WG WILO",null,null,{"$f":"LEFT(Catalogue[[#This Row],[Référence]],3)","v":"DEV"},{"$f":"VLOOKUP(Catalogue[[#This Row],[Alias]],#REF!,2,FALSE)","v":{"$error":"#REF!"}},null,"DIT632105","DISCONNECTEUR SF8000315"]
["DEV73516LA",null,"SONDE CHAUFFAGE A CLIP POUR TUBE 17/18MM. BLUE",null,null,{"$f":"LEFT(Catalogue[[#This Row],[Référence]],3)","v":"DEV"},{"$f":"VLOOKUP(Catalogue[[#This Row],[Alias]],#REF!,2,FALSE)","v":{"$error":"#REF!"}},null,"DIT635130","SONDE CTNCH ET SN SX8435400"]
["DEV76658LA",null,"CARTE MODULATION VENTILATEUR",null,null,{"$f":"LEFT(Catalogue[[#This Row],[Référence]],3)","v":"DEV"},{"$f":"VLOOKUP(Catalogue[[#This Row],[Alias]],#REF!,2,FALSE)","v":{"$error":"#REF!"}},null,"DIT635137","THERMOSTAT SECUR. 105D SX9950570"]
["DEV96008LP",null,"KIT FLUSSOSTAT  ELECTRONIQUE RACCORD 1/2",null,null,{"$f":"LEFT(Catalogue[[#This Row],[Référence]],3)","v":"DEV"},{"$f":"VLOOKUP(Catalogue[[#This Row],[Alias]],#REF!,2,FALSE)","v":{"$error":"#REF!"}},null,"DIT635294","VASE EXPANSION 2L SX5661600"]
["DEVB0040325",null,"VANNE 3 VOIES",null,null,{"$f":"LEFT(Catalogue[[#This Row],[Référence]],3)","v":"DEV"},{"$f":"VLOOKUP(Catalogue[[#This Row],[Alias]],#REF!,2,FALSE)","v":{"$error":"#REF!"}},null,"DITS136741","POMPE CP53 130 1 POS.4 A/CONN"]
["DEVD0023637",null,"ELECTRODE DIONISATION",null,null,{"$f":"LEFT(Catalogue[[#This Row],[Référence]],3)","v":"DEV"},{"$f":"VLOOKUP(Catalogue[[#This Row],[Alias]],#REF!,2,FALSE)","v":{"$error":"#REF!"}},null,"DITS17070809","CALORIFUGE BRULEUR 4 ELTS SE"]
["DEVD0039093",null,"STUC D. 8",null,null,{"$f":"LEFT(Catalogue[[#This Row],[Référence]],3)","v":"DEV"},{"$f":"VLOOKUP(Catalogue[[#This Row],[Alias]],#REF!,2,FALSE)","v":{"$error":"#REF!"}},null,"DITS500390","SACHET INTERRUPTEURS"]
["DEVD0039656",null,"PANNEAU ISOLANT AVANT",null,null,{"$f":"LEFT(Catalogue[[#This Row],[Référence]],3)","v":"DEV"},{"$f":"VLOOKUP(Catalogue[[#This Row],[Alias]],#REF!,2,FALSE)","v":{"$error":"#REF!"}},null,"DITS58539774","BLOC ACTIF MA55 H"]
["DEVD0039783",null,"ISOLANT LATERAL",null,null,{"$f":"LEFT(Catalogue[[#This Row],[Référence]],3)","v":"DEV"},{"$f":"VLOOKUP(Catalogue[[#This Row],[Alias]],#REF!,2,FALSE)","v":{"$error":"#REF!"}},null,"DITSF8000514","THERMOMANOMETRE"]
["DEVD0039839",null,"ENSEMBLE VANNE 3 VOIES",null,null,{"$f":"LEFT(Catalogue[[#This Row],[Référence]],3)","v":"DEV"},{"$f":"VLOOKUP(Catalogue[[#This Row],[Alias]],#REF!,2,FALSE)","v":{"$error":"#REF!"}},null,"DITSFF000011","THERMOSTAT AMBIANCE P/ECO.OB"]
["DEVP0030614A",null,"VASE EXPANSION RACCORDEMENT 3/4 M",null,null,{"$f":"LEFT(Catalogue[[#This Row],[Référence]],3)","v":"DEV"},{"$f":"VLOOKUP(Catalogue[[#This Row],[Alias]],#REF!,2,FALSE)","v":{"$error":"#REF!"}},null,"DITSX5660650","ROBINET CHAUFFAGE"]
["DEVP37029LS",null,"EXTRACTEUR",null,null,{"$f":"LEFT(Catalogue[[#This Row],[Référence]],3)","v":"DEV"},{"$f":"VLOOKUP(Catalogue[[#This Row],[Alias]],#REF!,2,FALSE)","v":{"$error":"#REF!"}},null,"DITSX9951020","MANOMETRE AVEC SUPPORT"]
["DIT347580",null,"MOTEUR VANNE 3PTS 230V SQK34.00",null,null,{"$f":"LEFT(Catalogue[[#This Row],[Référence]],3)","v":"DIT"},{"$f":"VLOOKUP(Catalogue[[#This Row],[Alias]],#REF!,2,FALSE)","v":{"$error":"#REF!"}},null,"DMM29158","KIT INJECTEURS + JOINT"]
["DIT601952",null,"CELLULE 8207 CEM",null,null,{"$f":"LEFT(Catalogue[[#This Row],[Référence]],3)","v":"DIT"},{"$f":"VLOOKUP(Catalogue[[#This Row],[Alias]],#REF!,2,FALSE)","v":{"$error":"#REF!"}},null,"DMM-TAMPA-5800-SXT-VO-22","ADOUCISSEUR ENGIE VANNE VOLUMETRIQUE ELECTRONIQUE 5800. TAMPA 22 LITRES + ACCESSOIRES"]
["DIT620152",null,"AQUASTAT BULBE/CAPILLAIRE TR2 0-90DEG C LG 1.00M",null,null,{"$f":"LEFT(Catalogue[[#This Row],[Référence]],3)","v":"DIT"},{"$f":"VLOOKUP(Catalogue[[#This Row],[Alias]],#REF!,2,FALSE)","v":{"$error":"#REF!"}},null,"DOMCEVT000051","COLLECTEUR DE FUMEE EVOL TOP MIC"]
["DIT632387",null,"KIT REPL VANNE 3 VOIES 230V SRN638289",null,null,{"$f":"LEFT(Catalogue[[#This Row],[Référence]],3)","v":"DIT"},{"$f":"VLOOKUP(Catalogue[[#This Row],[Alias]],#REF!,2,FALSE)","v":{"$error":"#REF!"}},null,"DOMCGAS000049","ELECTRODE D ALLUMAGE EV GAS"]
["DIT633085",null,"BLOC ELECTRODE ALLUM. BE TYPE4  63018295",null,null,{"$f":"LEFT(Catalogue[[#This Row],[Référence]],3)","v":"DIT"},{"$f":"VLOOKUP(Catalogue[[#This Row],[Alias]],#REF!,2,FALSE)","v":{"$error":"#REF!"}},null,"DOMCGAS000127","BLOC GAZ 0.840.035"]
["DIT635187",null,"GROUPE FILTRE/VENTURI SANIT.SX5652270",null,null,{"$f":"LEFT(Catalogue[[#This Row],[Référence]],3)","v":"DIT"},{"$f":"VLOOKUP(Catalogue[[#This Row],[Alias]],#REF!,2,FALSE)","v":{"$error":"#REF!"}},null,"DOMSOPE000085","BRIDE FIXATION"]
["DIT637321",null,"CIRCUIT ELECTRONIQ KI1006126 S40000024",null,null,{"$f":"LEFT(Catalogue[[#This Row],[Référence]],3)","v":"DIT"},{"$f":"VLOOKUP(Catalogue[[#This Row],[Alias]],#REF!,2,FALSE)","v":{"$error":"#REF!"}},null,"EHS62617254","ADAPTATEUR COAXIAL VENTOUSE 60/100 DEPART HORIZONTAL"]
["DITS133965",null,"ELECTRODE IONISAT.BG50 PREST.",null,null,{"$f":"LEFT(Catalogue[[#This Row],[Référence]],3)","v":"DIT"},{"$f":"VLOOKUP(Catalogue[[#This Row],[Alias]],#REF!,2,FALSE)","v":{"$error":"#REF!"}},null,"EIEEI650F-0AFR","DAAF DETECTEUR DE FUMEE PILE LITHIUM SCELLEE"]
["DITS17007061",null,"THERMOMETRE RECT.20DIAMA120DIAM",null,null,{"$f":"LEFT(Catalogue[[#This Row],[Référence]],3)","v":"DIT"},{"$f":"VLOOKUP(Catalogue[[#This Row],[Alias]],#REF!,2,FALSE)","v":{"$error":"#REF!"}},null,"ELM7700331982","LM5 AR N - ONDEA LM5 AR NAT"]
["DITS19900661",null,"BOBINE 220V POUR SIT NOVA",null,null,{"$f":"LEFT(Catalogue[[#This Row],[Référence]],3)","v":"DIT"},{"$f":"VLOOKUP(Catalogue[[#This Row],[Alias]],#REF!,2,FALSE)","v":{"$error":"#REF!"}},null,"ELM7716701400","CHAUDIERE MURALE A CONDENSATION EGALIS BALLON CONDENS GVBC 24-1HN THPE"]
["DITS58254187",null,"BLOC ELECTRODE 18/28 2A",null,null,{"$f":"LEFT(Catalogue[[#This Row],[Référence]],3)","v":"DIT"},{"$f":"VLOOKUP(Catalogue[[#This Row],[Alias]],#REF!,2,FALSE)","v":{"$error":"#REF!"}},null,"ELM7716704734","MEGALIS ICONDENS N GVA IC 22-30 - THPE"]
["DITS99909154",null,"SERVOMOTEUR SME 130 (230V)",null,null,{"$f":"LEFT(Catalogue[[#This Row],[Référence]],3)","v":"DIT"},{"$f":"VLOOKUP(Catalogue[[#This Row],[Alias]],#REF!,2,FALSE)","v":{"$error":"#REF!"}},null,"ELM7716780171","KIT DE PRE-INSTALLATION POUR EGALIS BALLON CONDENS NGLB 1446"]
["DITSX5632410",null,"CIRCUIT IMPRIME MODULATION FF",null,null,{"$f":"LEFT(Catalogue[[#This Row],[Référence]],3)","v":"DIT"},{"$f":"VLOOKUP(Catalogue[[#This Row],[Alias]],#REF!,2,FALSE)","v":{"$error":"#REF!"}},null,"ELM7716780467","DOSSERET DOS GB5/1 NF 1ERE INSTALLATION ECS EGALIS BAS NOX PLUS. CONDENS ET PLUS"]
["DITSX5653930",null,"CIRCUIT IMPRIME IONIS.A/CABLE",null,null,{"$f":"LEFT(Catalogue[[#This Row],[Référence]],3)","v":"DIT"},{"$f":"VLOOKUP(Catalogue[[#This Row],[Alias]],#REF!,2,FALSE)","v":{"$error":"#REF!"}},null,"ELM7719002007","ROBINET VIDANGE/REMPLI SM"]
["DITSX8419130",null,"GROUPE CABLE COMMUTATEUR-POMPE",null,null,{"$f":"LEFT(Catalogue[[#This Row],[Référence]],3)","v":"DIT"},{"$f":"VLOOKUP(Catalogue[[#This Row],[Alias]],#REF!,2,FALSE)","v":{"$error":"#REF!"}},null,"ELM7736502437","LC15 HFP N - HYDROSMART LC15 HFP NAT"]
["DMM24078-2",null,"PIECE EVACUATION + COUDE",null,null,{"$f":"LEFT(Catalogue[[#This Row],[Référence]],3)","v":"DMM"},{"$f":"VLOOKUP(Catalogue[[#This Row],[Alias]],#REF!,2,FALSE)","v":{"$error":"#REF!"}},null,"ELM7736506273","CHAUFFE-BAINS A TIRAGE NATUREL ONDEA HYDROPOWER BAS NOX LC 14-4 PVHYN. 14 LITRES. 23.6KW"]
["DMMBR61835",null,{"$f":"VLOOKUP(A18818,I:J,2,0)","v":"MOTEUR + CAPTEUR 5800"},null,null,{"$f":"LEFT(Catalogue[[#This Row],[Référence]],3)","v":"DMM"},{"$f":"VLOOKUP(Catalogue[[#This Row],[Alias]],#REF!,2,FALSE)","v":{"$error":"#REF!"}},null,"ELM7738101014","N SVB iC 24/120-1M - THPE"]
["DOMCELC000146",null,"THERMOMETRE",null,null,{"$f":"LEFT(Catalogue[[#This Row],[Référence]],3)","v":"DOM"},{"$f":"VLOOKUP(Catalogue[[#This Row],[Alias]],#REF!,2,FALSE)","v":{"$error":"#REF!"}},null,"ELM87004000140","SONDE DE TEMPERATURE"]
["DOMCGAS000017",null,"ENSEMBLE MELANGEUR SIT EV GAS",null,null,{"$f":"LEFT(Catalogue[[#This Row],[Référence]],3)","v":"DOM"},{"$f":"VLOOKUP(Catalogue[[#This Row],[Alias]],#REF!,2,FALSE)","v":{"$error":"#REF!"}},null,"ELM87010003790","PLAQUE DE GUIDAGE"]
["DOMCQUE000053",null,"GICLEUR DANFOSS 0,65-60DEG S",null,null,{"$f":"LEFT(Catalogue[[#This Row],[Référence]],3)","v":"DOM"},{"$f":"VLOOKUP(Catalogue[[#This Row],[Alias]],#REF!,2,FALSE)","v":{"$error":"#REF!"}},null,"ELM87044040350","FAISCEAU D ELECTRODES"]
["DOMMPQR0033",null,"JOINT DE BRIDE DOMESTIC D4",null,null,{"$f":"LEFT(Catalogue[[#This Row],[Référence]],3)","v":"DOM"},{"$f":"VLOOKUP(Catalogue[[#This Row],[Alias]],#REF!,2,FALSE)","v":{"$error":"#REF!"}},null,"ELM87054062520","CORPS DE CHAUFFE"]
["EFE401900400",null,"THERMCPLE 600TYP EFEL",null,null,{"$f":"LEFT(Catalogue[[#This Row],[Référence]],3)","v":"EFE"},{"$f":"VLOOKUP(Catalogue[[#This Row],[Alias]],#REF!,2,FALSE)","v":{"$error":"#REF!"}},null,"ELM87054064280","ECHANGEUR DE CHALEUR"]
["ELC13013638",null,"BLOC ELECTRODE ELCO 13013638",null,null,{"$f":"LEFT(Catalogue[[#This Row],[Référence]],3)","v":"ELC"},{"$f":"VLOOKUP(Catalogue[[#This Row],[Alias]],#REF!,2,FALSE)","v":{"$error":"#REF!"}},null,"ELM87070026370","ROBINET DEAU"]
["ELCELE006428",null,"3 BLOCS ELECTRODES ELCO",null,null,{"$f":"LEFT(Catalogue[[#This Row],[Référence]],3)","v":"ELC"},{"$f":"VLOOKUP(Catalogue[[#This Row],[Alias]],#REF!,2,FALSE)","v":{"$error":"#REF!"}},null,"ELM87070026850S","VALVE EAU LM10 PV"]
["ELM7716704667",null,"CHAUDIERE GAZ MURALE MEGALIA CONDENS AGVA C 21-5MN. MIXTE 22KW. 14L/MN - RENO -THPE",null,null,{"$f":"LEFT(Catalogue[[#This Row],[Référence]],3)","v":"ELM"},{"$f":"VLOOKUP(Catalogue[[#This Row],[Alias]],#REF!,2,FALSE)","v":{"$error":"#REF!"}},null,"ELM87070119110","BLOC GAZ"]
["ELM7716704740",null,"CHAUDIERE GAZ MURALE MEGALIA CONDENS R AGVA C R 21-6RN. MIXTE 22KW. 14L/MN -THPE",null,null,{"$f":"LEFT(Catalogue[[#This Row],[Référence]],3)","v":"ELM"},{"$f":"VLOOKUP(Catalogue[[#This Row],[Alias]],#REF!,2,FALSE)","v":{"$error":"#REF!"}},null,"ELM87070212560","BLOC GAZ"]
["ELM7716780211",null,"ACCESSOIRE CHAUDIERE MURALE - DOSSERET DOSGA18",null,null,{"$f":"LEFT(Catalogue[[#This Row],[Référence]],3)","v":"ELM"},{"$f":"VLOOKUP(Catalogue[[#This Row],[Alias]],#REF!,2,FALSE)","v":{"$error":"#REF!"}},null,"ELM87072061190","CONTROLE DEVACUATION DES GAZ BRULES"]
["ELM7716780374",null,"REGULATION SANS FIL CE NSC RF",null,null,{"$f":"LEFT(Catalogue[[#This Row],[Référence]],3)","v":"ELM"},{"$f":"VLOOKUP(Catalogue[[#This Row],[Alias]],#REF!,2,FALSE)","v":{"$error":"#REF!"}},null,"ELM87072064640","CONTROLE DEVACUATION DES GAZ BRULES"]
["ELM7716780580",null,"DOSSERET XDOS GA 6 DE REMPLACEMENT ELM.LEBLANC  ANCIENS MODELES",null,null,{"$f":"LEFT(Catalogue[[#This Row],[Référence]],3)","v":"ELM"},{"$f":"VLOOKUP(Catalogue[[#This Row],[Alias]],#REF!,2,FALSE)","v":{"$error":"#REF!"}},null,"ELM87072073270","UNITE D ALLUMAGE"]
["ELM7731600036",null,"CHAUDIERE GAZ SOL SOLTIS CONDENS ELSC 30. SEUL 30KW -THPE",null,null,{"$f":"LEFT(Catalogue[[#This Row],[Référence]],3)","v":"ELM"},{"$f":"VLOOKUP(Catalogue[[#This Row],[Alias]],#REF!,2,FALSE)","v":{"$error":"#REF!"}},null,"ELM87081056400","VEILLEUSE (30)"]
["ELM7736901554",null,{"$f":"VLOOKUP(A19138,I:J,2,0)","v":"CHAUDIERE GAZ MURALE MELIA ICONDENS CN GVA IC 22-30. MIXTE 22KW. 14L/MN -THPE"},null,null,{"$f":"LEFT(Catalogue[[#This Row],[Référence]],3)","v":"ELM"},{"$f":"VLOOKUP(Catalogue[[#This Row],[Alias]],#REF!,2,FALSE)","v":{"$error":"#REF!"}},null,"ELM87085002850","VIS DE REGLAGE"]
["ELM7738112636",null,"ADAPTATEUR CONCENTRIQUE DIAM60/100 AVEC PRISE DE MESURE. FC-CA60",null,null,{"$f":"LEFT(Catalogue[[#This Row],[Référence]],3)","v":"ELM"},{"$f":"VLOOKUP(Catalogue[[#This Row],[Alias]],#REF!,2,FALSE)","v":{"$error":"#REF!"}},null,"ELM87085050240","VALVE EAU AVEC MOTEUR"]
["ELM87005030750",null,"MEMBRANE (F)",null,null,{"$f":"LEFT(Catalogue[[#This Row],[Référence]],3)","v":"ELM"},{"$f":"VLOOKUP(Catalogue[[#This Row],[Alias]],#REF!,2,FALSE)","v":{"$error":"#REF!"}},null,"ELM87107257610","TUBE GAZ"]
["ELM87007154020",null,"ECHANGEUR TUBULAIRE A LAMELLES",null,null,{"$f":"LEFT(Catalogue[[#This Row],[Référence]],3)","v":"ELM"},{"$f":"VLOOKUP(Catalogue[[#This Row],[Alias]],#REF!,2,FALSE)","v":{"$error":"#REF!"}},null,"ELM87120001110","BOUTONS DE REGLAGE BLANCS"]
["ELM87044011060",null,"CONDUITE DALLUMAGE",null,null,{"$f":"LEFT(Catalogue[[#This Row],[Référence]],3)","v":"ELM"},{"$f":"VLOOKUP(Catalogue[[#This Row],[Alias]],#REF!,2,FALSE)","v":{"$error":"#REF!"}},null,"ELM87144020870","FAISCEAU CABLES"]
["ELM87052090140",null,"RACCORD",null,null,{"$f":"LEFT(Catalogue[[#This Row],[Référence]],3)","v":"ELM"},{"$f":"VLOOKUP(Catalogue[[#This Row],[Alias]],#REF!,2,FALSE)","v":{"$error":"#REF!"}},null,"ELM87145000920","SONDE DE TEMPERATURE BALLON CTN"]
["ELM87054063850",null,"CORPS DE CHAUFFE",null,null,{"$f":"LEFT(Catalogue[[#This Row],[Référence]],3)","v":"ELM"},{"$f":"VLOOKUP(Catalogue[[#This Row],[Alias]],#REF!,2,FALSE)","v":{"$error":"#REF!"}},null,"ELM87160108540","JEU DE GARNITURES"]
["ELM87055020670",null,"CORPS DE LIMITEUR DE DEBIT",null,null,{"$f":"LEFT(Catalogue[[#This Row],[Référence]],3)","v":"ELM"},{"$f":"VLOOKUP(Catalogue[[#This Row],[Alias]],#REF!,2,FALSE)","v":{"$error":"#REF!"}},null,"ELM87160113490","PARTIE SUPERIEURE"]
["ELM87070025820S","Non concerné",{"$error":"#N/A"},20,2000007350762,{"$f":"LEFT(Catalogue[[#This Row],[Référence]],3)","v":"ELM"},{"$f":"VLOOKUP(Catalogue[[#This Row],[Alias]],#REF!,2,FALSE)","v":{"$error":"#REF!"}},null,"ELM87160124850","BLOC GAZ"]
["ELM87070026890S","Non concerné","VALVE EAU LM13 PVH",40,2000007346123,{"$f":"LEFT(Catalogue[[#This Row],[Référence]],3)","v":"ELM"},{"$f":"VLOOKUP(Catalogue[[#This Row],[Alias]],#REF!,2,FALSE)","v":{"$error":"#REF!"}},null,"ELM87161064420","DISPOSITIF DE RETOUR"]
["ELM87070114020",null,"BLOC GAZ W135",null,null,{"$f":"LEFT(Catalogue[[#This Row],[Référence]],3)","v":"ELM"},{"$f":"VLOOKUP(Catalogue[[#This Row],[Alias]],#REF!,2,FALSE)","v":{"$error":"#REF!"}},null,"ELM8716119320","COUPE TIRAGE ANTIREFOULEUR"]
["ELM87070115070",null,"BLOC GAZ",null,null,{"$f":"LEFT(Catalogue[[#This Row],[Référence]],3)","v":"ELM"},{"$f":"VLOOKUP(Catalogue[[#This Row],[Alias]],#REF!,2,FALSE)","v":{"$error":"#REF!"}},null,"ELM8716121320","SUPPORT"]
["ELM87072040380",null,"EXTRACTEUR",null,null,{"$f":"LEFT(Catalogue[[#This Row],[Référence]],3)","v":"ELM"},{"$f":"VLOOKUP(Catalogue[[#This Row],[Alias]],#REF!,2,FALSE)","v":{"$error":"#REF!"}},null,"ELM87167077720","TETE MAGNETIQUE"]
["ELM87072062820",null,"CONTROLE DEVACUATION DES GAZ BRULES",null,null,{"$f":"LEFT(Catalogue[[#This Row],[Référence]],3)","v":"ELM"},{"$f":"VLOOKUP(Catalogue[[#This Row],[Alias]],#REF!,2,FALSE)","v":{"$error":"#REF!"}},null,"ELM87167085800","TABLEAU ELECTRIQUE BIL5/20 SAV"]
["ELM87072064640",null,"CONTROLE DEVACUATION DES GAZ BRULES",null,null,{"$f":"LEFT(Catalogue[[#This Row],[Référence]],3)","v":"ELM"},{"$f":"VLOOKUP(Catalogue[[#This Row],[Alias]],#REF!,2,FALSE)","v":{"$error":"#REF!"}},null,"ELM87167087810","POMPE"]
["ELM87074052200",null,"ROBINET DE GAZ",null,null,{"$f":"LEFT(Catalogue[[#This Row],[Référence]],3)","v":"ELM"},{"$f":"VLOOKUP(Catalogue[[#This Row],[Alias]],#REF!,2,FALSE)","v":{"$error":"#REF!"}},null,"ELM87167245810","TUBE RETOUR CHAUFFAGE"]
["ELM87081057170",null,"VEILLEUSE",null,null,{"$f":"LEFT(Catalogue[[#This Row],[Référence]],3)","v":"ELM"},{"$f":"VLOOKUP(Catalogue[[#This Row],[Alias]],#REF!,2,FALSE)","v":{"$error":"#REF!"}},null,"ELM87167272260","VEILLEUSE LM9 V"]
["ELM87083002120",null,"CIRCUIT IMPRIME",null,null,{"$f":"LEFT(Catalogue[[#This Row],[Référence]],3)","v":"ELM"},{"$f":"VLOOKUP(Catalogue[[#This Row],[Alias]],#REF!,2,FALSE)","v":{"$error":"#REF!"}},null,"ELM87167283480","THERMOSTAT LIMITEUR 70DEG C"]
["ELM87105052120",null,"LIMITEUR D AIR",null,null,{"$f":"LEFT(Catalogue[[#This Row],[Référence]],3)","v":"ELM"},{"$f":"VLOOKUP(Catalogue[[#This Row],[Alias]],#REF!,2,FALSE)","v":{"$error":"#REF!"}},null,"ELM87167291580","RACCORD THERMOMANO 5/30"]
["ELM87107353380",null,"TUBE",null,null,{"$f":"LEFT(Catalogue[[#This Row],[Référence]],3)","v":"ELM"},{"$f":"VLOOKUP(Catalogue[[#This Row],[Alias]],#REF!,2,FALSE)","v":{"$error":"#REF!"}},null,"ELM87167298400","DOUILLE DE VIDANGE GL5/GTX"]
["ELM87133056100",null,"RACCORD",null,null,{"$f":"LEFT(Catalogue[[#This Row],[Référence]],3)","v":"ELM"},{"$f":"VLOOKUP(Catalogue[[#This Row],[Alias]],#REF!,2,FALSE)","v":{"$error":"#REF!"}},null,"ELM87167335750","RACCORD RETOUR CHAUFFAGE GVM5 SAV"]
["ELM87145000550",null,"SONDE DE TEMPERATURE",null,null,{"$f":"LEFT(Catalogue[[#This Row],[Référence]],3)","v":"ELM"},{"$f":"VLOOKUP(Catalogue[[#This Row],[Alias]],#REF!,2,FALSE)","v":{"$error":"#REF!"}},null,"ELM87167360430","SIPHON"]
["ELM87154051970",null,"CORPS DE DEPLACEMENT",null,null,{"$f":"LEFT(Catalogue[[#This Row],[Référence]],3)","v":"ELM"},{"$f":"VLOOKUP(Catalogue[[#This Row],[Alias]],#REF!,2,FALSE)","v":{"$error":"#REF!"}},null,"ELM87167393210","KIT CB VMC==>VMC COLLECTIF"]
["ELM87154072540",null,"VASE D EXPANSION SOLAIRE - SAG",null,null,{"$f":"LEFT(Catalogue[[#This Row],[Référence]],3)","v":"ELM"},{"$f":"VLOOKUP(Catalogue[[#This Row],[Alias]],#REF!,2,FALSE)","v":{"$error":"#REF!"}},null,"ELM87167407550","TABLEAU ELECTRIQUE"]
["ELM87156000240",null,"KIT DE MIROIRS",null,null,{"$f":"LEFT(Catalogue[[#This Row],[Référence]],3)","v":"ELM"},{"$f":"VLOOKUP(Catalogue[[#This Row],[Alias]],#REF!,2,FALSE)","v":{"$error":"#REF!"}},null,"ELM87167409540","40954 POCH PREVENT LM S/BLISTER- FC 03/2015"]
["ELM87160117090",null,"BRULEUR",null,null,{"$f":"LEFT(Catalogue[[#This Row],[Référence]],3)","v":"ELM"},{"$f":"VLOOKUP(Catalogue[[#This Row],[Alias]],#REF!,2,FALSE)","v":{"$error":"#REF!"}},null,"ELM87167454870","OBTURATEUR WATTS P.DISCONNECT."]
["ELM87160128480",null,"BRULEUR",null,null,{"$f":"LEFT(Catalogue[[#This Row],[Référence]],3)","v":"ELM"},{"$f":"VLOOKUP(Catalogue[[#This Row],[Alias]],#REF!,2,FALSE)","v":{"$error":"#REF!"}},null,"ELM87167462750","JOINT AZ315 102X116X2"]
["ELM87161068440",null,"DISPOSITIF DE RETOUR",null,null,{"$f":"LEFT(Catalogue[[#This Row],[Référence]],3)","v":"ELM"},{"$f":"VLOOKUP(Catalogue[[#This Row],[Alias]],#REF!,2,FALSE)","v":{"$error":"#REF!"}},null,"ELM87167468750","ANODE"]
["ELM8716117050",null,"CLAPET DE VALVE",null,null,{"$f":"LEFT(Catalogue[[#This Row],[Référence]],3)","v":"ELM"},{"$f":"VLOOKUP(Catalogue[[#This Row],[Alias]],#REF!,2,FALSE)","v":{"$error":"#REF!"}},null,"ELM8716747333","VASE D EXPANSION SANITAIRE 2L"]
["ELM8716121498",null,"PANNEAU LATERAL DROIT",null,null,{"$f":"LEFT(Catalogue[[#This Row],[Référence]],3)","v":"ELM"},{"$f":"VLOOKUP(Catalogue[[#This Row],[Alias]],#REF!,2,FALSE)","v":{"$error":"#REF!"}},null,"ELM87167554970","NEZ DE VENTOUSE TYPE 7"]
["ELM87167045300",null,"THERMOSTAT",null,null,{"$f":"LEFT(Catalogue[[#This Row],[Référence]],3)","v":"ELM"},{"$f":"VLOOKUP(Catalogue[[#This Row],[Alias]],#REF!,2,FALSE)","v":{"$error":"#REF!"}},null,"ELM87167562390","FAISC.SIGNAL LM37"]
["ELM87167085770S","Non concerné","CIRCULATEUR 30 W",40,2000007347540,{"$f":"LEFT(Catalogue[[#This Row],[Référence]],3)","v":"ELM"},{"$f":"VLOOKUP(Catalogue[[#This Row],[Alias]],#REF!,2,FALSE)","v":{"$error":"#REF!"}},null,"ELM87167570760","CALANDRE GLM 7.23"]
["ELM87167085800S",null,"TAB ELECT BIL 5.20",null,null,{"$f":"LEFT(Catalogue[[#This Row],[Référence]],3)","v":"ELM"},{"$f":"VLOOKUP(Catalogue[[#This Row],[Alias]],#REF!,2,FALSE)","v":{"$error":"#REF!"}},null,"ELM87167576340","FAISCEAU SIGNAL GVM7H"]
["ELM87167211340",null,"ROBINET EAU CHAUFFE-BAIN A/M",null,null,{"$f":"LEFT(Catalogue[[#This Row],[Référence]],3)","v":"ELM"},{"$f":"VLOOKUP(Catalogue[[#This Row],[Alias]],#REF!,2,FALSE)","v":{"$error":"#REF!"}},null,"ELM87167586100","TAB.ELEC.GLM7H K BLANC"]
["ELM87167251580",null,"VALVE EAU LM34 PN",null,null,{"$f":"LEFT(Catalogue[[#This Row],[Référence]],3)","v":"ELM"},{"$f":"VLOOKUP(Catalogue[[#This Row],[Alias]],#REF!,2,FALSE)","v":{"$error":"#REF!"}},null,"ELM87167600790","TUBE VASE D EXPANSION CHAUFFAGE GB7"]
["ELM87167272600",null,"RACCORDEMENT ETANCHE LM9 P/N SAV",null,null,{"$f":"LEFT(Catalogue[[#This Row],[Référence]],3)","v":"ELM"},{"$f":"VLOOKUP(Catalogue[[#This Row],[Alias]],#REF!,2,FALSE)","v":{"$error":"#REF!"}},null,"ELM87167604090","POMPE"]
["ELM87167283500",null,"THERMOSTAT LIMITEUR 120DEG C",null,null,{"$f":"LEFT(Catalogue[[#This Row],[Référence]],3)","v":"ELM"},{"$f":"VLOOKUP(Catalogue[[#This Row],[Alias]],#REF!,2,FALSE)","v":{"$error":"#REF!"}},null,"ELM87167605660","DISPOSITIF DE DEPART"]
["ELM87167287850",null,"VEILLEUSE AP TYPE 5",null,null,{"$f":"LEFT(Catalogue[[#This Row],[Référence]],3)","v":"ELM"},{"$f":"VLOOKUP(Catalogue[[#This Row],[Alias]],#REF!,2,FALSE)","v":{"$error":"#REF!"}},null,"ELM87167610220","TUBE DE RACCORDEMENT CHAUFFAGE"]
["ELM87167302600",null,"ALLUMEUR PIEZO COMPLET",null,null,{"$f":"LEFT(Catalogue[[#This Row],[Référence]],3)","v":"ELM"},{"$f":"VLOOKUP(Catalogue[[#This Row],[Alias]],#REF!,2,FALSE)","v":{"$error":"#REF!"}},null,"ELM87167620230","EXTRACTEUR WSC E15-98 G"]
["ELM87167339770",null,"THERMOSTAT LIMITEUR 47DEG C",null,null,{"$f":"LEFT(Catalogue[[#This Row],[Référence]],3)","v":"ELM"},{"$f":"VLOOKUP(Catalogue[[#This Row],[Alias]],#REF!,2,FALSE)","v":{"$error":"#REF!"}},null,"ELM87167621760","ISOLANT THERMIQUE DE CTN"]
["ELM87167349260",null,"TRANSFORMATEUR",null,null,{"$f":"LEFT(Catalogue[[#This Row],[Référence]],3)","v":"ELM"},{"$f":"VLOOKUP(Catalogue[[#This Row],[Alias]],#REF!,2,FALSE)","v":{"$error":"#REF!"}},null,"ELM87167624720","RACCORD ENTREE SANITAIRE"]
["ELM87167393210",null,"KIT CB VMC==>VMC COLLECTIF",null,null,{"$f":"LEFT(Catalogue[[#This Row],[Référence]],3)","v":"ELM"},{"$f":"VLOOKUP(Catalogue[[#This Row],[Alias]],#REF!,2,FALSE)","v":{"$error":"#REF!"}},null,"ELM87167631990","VANNE HYDRAULIQUE 3 VOIES"]
["ELM87167407550S","Non concerné","TAB ELECT GVM5/GVMC/GLMC",60,2000007346406,{"$f":"LEFT(Catalogue[[#This Row],[Référence]],3)","v":"ELM"},{"$f":"VLOOKUP(Catalogue[[#This Row],[Alias]],#REF!,2,FALSE)","v":{"$error":"#REF!"}},null,"ELM87167638490","ROBINET SORTIE SANITAIRE 1/2"]
["ELM87167409400",null,"ROBINET",null,null,{"$f":"LEFT(Catalogue[[#This Row],[Référence]],3)","v":"ELM"},{"$f":"VLOOKUP(Catalogue[[#This Row],[Alias]],#REF!,2,FALSE)","v":{"$error":"#REF!"}},null,"ELM87167639620","MANOMETRE"]
["ELM87167454050",null,"SOUPAPE DE SECURITE 3BAR",null,null,{"$f":"LEFT(Catalogue[[#This Row],[Référence]],3)","v":"ELM"},{"$f":"VLOOKUP(Catalogue[[#This Row],[Alias]],#REF!,2,FALSE)","v":{"$error":"#REF!"}},null,"ELM87167650340","TUBE ENTREE GAZ"]
["ELM87167460350",null,"KIT EXTRACTEUR ITT -> WSC",null,null,{"$f":"LEFT(Catalogue[[#This Row],[Référence]],3)","v":"ELM"},{"$f":"VLOOKUP(Catalogue[[#This Row],[Alias]],#REF!,2,FALSE)","v":{"$error":"#REF!"}},null,"ELM8716766628","PLAQUE D ACCROCHAGE"]
["ELM87167466490",null,"INJECTEUR DE VEILLEUSE",null,null,{"$f":"LEFT(Catalogue[[#This Row],[Référence]],3)","v":"ELM"},{"$f":"VLOOKUP(Catalogue[[#This Row],[Alias]],#REF!,2,FALSE)","v":{"$error":"#REF!"}},null,"ELM87167700610","BRULEUR"]
["ELM87167468870",null,"SET",null,null,{"$f":"LEFT(Catalogue[[#This Row],[Référence]],3)","v":"ELM"},{"$f":"VLOOKUP(Catalogue[[#This Row],[Alias]],#REF!,2,FALSE)","v":{"$error":"#REF!"}},null,"ELM87167702230","COUVERCLE CAISS.23 COMPL"]
["ELM87167553160",null,"TUBE",null,null,{"$f":"LEFT(Catalogue[[#This Row],[Référence]],3)","v":"ELM"},{"$f":"VLOOKUP(Catalogue[[#This Row],[Alias]],#REF!,2,FALSE)","v":{"$error":"#REF!"}},null,"ELM87167705340","DETECTEUR DE DEBIT AIRINDEX"]
["ELM87167556250",null,"TAB.ELEC.LM37 COMPLET",null,null,{"$f":"LEFT(Catalogue[[#This Row],[Référence]],3)","v":"ELM"},{"$f":"VLOOKUP(Catalogue[[#This Row],[Alias]],#REF!,2,FALSE)","v":{"$error":"#REF!"}},null,"ELM87167710030","JOINT 18MM (X10)"]
["ELM87167564570",null,"VASE D EXPANSION 6 LITRES GVB7",null,null,{"$f":"LEFT(Catalogue[[#This Row],[Référence]],3)","v":"ELM"},{"$f":"VLOOKUP(Catalogue[[#This Row],[Alias]],#REF!,2,FALSE)","v":{"$error":"#REF!"}},null,"ELM87167712950","LIMITEUR DE DEBIT"]
["ELM87167571380",null,"DEGAZEUR",null,null,{"$f":"LEFT(Catalogue[[#This Row],[Référence]],3)","v":"ELM"},{"$f":"VLOOKUP(Catalogue[[#This Row],[Alias]],#REF!,2,FALSE)","v":{"$error":"#REF!"}},null,"ELM87167718880","TRANSF.NGVA24-2H N-->B"]
["ELM87167577230S",null,"THERMO-MANOMETRE A BULBE",null,null,{"$f":"LEFT(Catalogue[[#This Row],[Référence]],3)","v":"ELM"},{"$f":"VLOOKUP(Catalogue[[#This Row],[Alias]],#REF!,2,FALSE)","v":{"$error":"#REF!"}},null,"ELM87167722170","RACCORD TUYAU FLEXIBLE DE VASE"]
["ELM87167585770",null,"TABLEAU ELECTRIQUE GVM7E BLANC",null,null,{"$f":"LEFT(Catalogue[[#This Row],[Référence]],3)","v":"ELM"},{"$f":"VLOOKUP(Catalogue[[#This Row],[Alias]],#REF!,2,FALSE)","v":{"$error":"#REF!"}},null,"ELM87167724000S","TURBINE"]
["ELM87167600870",null,"TUBE ROBINET GAZ / BLOC GAZ GB7",null,null,{"$f":"LEFT(Catalogue[[#This Row],[Référence]],3)","v":"ELM"},{"$f":"VLOOKUP(Catalogue[[#This Row],[Alias]],#REF!,2,FALSE)","v":{"$error":"#REF!"}},null,"ELM87167727340","CACHE"]
["ELM87167603030",null,"FAISCEAU ELECTRODES GVM",null,null,{"$f":"LEFT(Catalogue[[#This Row],[Référence]],3)","v":"ELM"},{"$f":"VLOOKUP(Catalogue[[#This Row],[Alias]],#REF!,2,FALSE)","v":{"$error":"#REF!"}},null,"ELM87167728810","FAISCEAU PRINCIPAL"]
["ELM87167604670",null,"BRULEUR GLM28H",null,null,{"$f":"LEFT(Catalogue[[#This Row],[Référence]],3)","v":"ELM"},{"$f":"VLOOKUP(Catalogue[[#This Row],[Alias]],#REF!,2,FALSE)","v":{"$error":"#REF!"}},null,"ELM87167730870S","ECHANGEUR 12 PLAQUES"]
["ELM87167614130",null,"TUBE",null,null,{"$f":"LEFT(Catalogue[[#This Row],[Référence]],3)","v":"ELM"},{"$f":"VLOOKUP(Catalogue[[#This Row],[Alias]],#REF!,2,FALSE)","v":{"$error":"#REF!"}},null,"ELM87167800130","G7A21 VASE D EXPANSION SANITAIRE GB/J"]
["ELM87167618670",null,"SONDE NTC BALLON",null,null,{"$f":"LEFT(Catalogue[[#This Row],[Référence]],3)","v":"ELM"},{"$f":"VLOOKUP(Catalogue[[#This Row],[Alias]],#REF!,2,FALSE)","v":{"$error":"#REF!"}},null,"ELM87168319350","VOLUTE DE POMPE 3/4-1"]
["ELM87167620250",null,"CANNE DE PUISAGE EGB RPP",null,null,{"$f":"LEFT(Catalogue[[#This Row],[Référence]],3)","v":"ELM"},{"$f":"VLOOKUP(Catalogue[[#This Row],[Alias]],#REF!,2,FALSE)","v":{"$error":"#REF!"}},null,"ELM87168349510","BOITIER ELECTRONIQUE"]
["ELM87167621580",null,"CANNE DE PUISAGE EMAILLEE",null,null,{"$f":"LEFT(Catalogue[[#This Row],[Référence]],3)","v":"ELM"},{"$f":"VLOOKUP(Catalogue[[#This Row],[Alias]],#REF!,2,FALSE)","v":{"$error":"#REF!"}},null,"ELM87172043730","VENTILATEUR"]
["ELM87167624630",null,"JEU DE TUBES CDC",null,null,{"$f":"LEFT(Catalogue[[#This Row],[Référence]],3)","v":"ELM"},{"$f":"VLOOKUP(Catalogue[[#This Row],[Alias]],#REF!,2,FALSE)","v":{"$error":"#REF!"}},null,"ELM87172074570S","TAB.ELEC."]
["ELM87167631810",null,"TUBE FLEXIBLE DE RACCORDEMENT SANITAIRE",null,null,{"$f":"LEFT(Catalogue[[#This Row],[Référence]],3)","v":"ELM"},{"$f":"VLOOKUP(Catalogue[[#This Row],[Alias]],#REF!,2,FALSE)","v":{"$error":"#REF!"}},null,"ELM87172080790","MANOMETRE"]
["ELM87167637000",null,"CHAMBRE DE MELANGE",null,null,{"$f":"LEFT(Catalogue[[#This Row],[Référence]],3)","v":"ELM"},{"$f":"VLOOKUP(Catalogue[[#This Row],[Alias]],#REF!,2,FALSE)","v":{"$error":"#REF!"}},null,"ELM87181205650","BRULEUR"]
["ELM87167641930S",null,"Extracteur",null,null,{"$f":"LEFT(Catalogue[[#This Row],[Référence]],3)","v":"ELM"},{"$f":"VLOOKUP(Catalogue[[#This Row],[Alias]],#REF!,2,FALSE)","v":{"$error":"#REF!"}},null,"ELM87183105090","EVAPORATEUR WPT"]
["ELM87167644380S","Non concerné","POMPE",40,2000007350588,{"$f":"LEFT(Catalogue[[#This Row],[Référence]],3)","v":"ELM"},{"$f":"VLOOKUP(Catalogue[[#This Row],[Alias]],#REF!,2,FALSE)","v":{"$error":"#REF!"}},null,"ELM87183105540","ANODE 3/4  WPT"]
["ELM87167654200",null,"CANNE DE PUISAGE EMAIL",null,null,{"$f":"LEFT(Catalogue[[#This Row],[Référence]],3)","v":"ELM"},{"$f":"VLOOKUP(Catalogue[[#This Row],[Alias]],#REF!,2,FALSE)","v":{"$error":"#REF!"}},null,"ELM87186429480S","ECHANGEUR A PLAQUE"]
["ELM87167700040",null,"VANNE DE REMPLISSAGE ZWSE 25-5 MFA CERACLA",null,null,{"$f":"LEFT(Catalogue[[#This Row],[Référence]],3)","v":"ELM"},{"$f":"VLOOKUP(Catalogue[[#This Row],[Alias]],#REF!,2,FALSE)","v":{"$error":"#REF!"}},null,"ELM87186450520","SOUPAPE DE SECURITE 15BAR"]
["ELM87167701670",null,"ELECTROVANNE AVEC TUBE GVM NAT",null,null,{"$f":"LEFT(Catalogue[[#This Row],[Référence]],3)","v":"ELM"},{"$f":"VLOOKUP(Catalogue[[#This Row],[Alias]],#REF!,2,FALSE)","v":{"$error":"#REF!"}},null,"ELM87186517840","VENTILATEUR"]
["ELM87167705120",null,"RACCORDEMENT DETECTEUR DE DEBIT ACLEIS",null,null,{"$f":"LEFT(Catalogue[[#This Row],[Référence]],3)","v":"ELM"},{"$f":"VLOOKUP(Catalogue[[#This Row],[Alias]],#REF!,2,FALSE)","v":{"$error":"#REF!"}},null,"ELM87199056470","ECHANGEUR DE CHALEUR"]
["ELM87167710270",null,"TUBE",null,null,{"$f":"LEFT(Catalogue[[#This Row],[Référence]],3)","v":"ELM"},{"$f":"VLOOKUP(Catalogue[[#This Row],[Alias]],#REF!,2,FALSE)","v":{"$error":"#REF!"}},null,"ELM87228801870","ARMATURE EAU"]
["ELM87167712140",null,"COUVERCLE",null,null,{"$f":"LEFT(Catalogue[[#This Row],[Référence]],3)","v":"ELM"},{"$f":"VLOOKUP(Catalogue[[#This Row],[Alias]],#REF!,2,FALSE)","v":{"$error":"#REF!"}},null,"ELM87229160210","CIRCUIT IMPRIME"]
["ELM87167714270",null,"MOTEUR DE CIRCULATEUR ZWSE24-5MFA",null,null,{"$f":"LEFT(Catalogue[[#This Row],[Référence]],3)","v":"ELM"},{"$f":"VLOOKUP(Catalogue[[#This Row],[Alias]],#REF!,2,FALSE)","v":{"$error":"#REF!"}},null,"ELM87229662020","POMPE RARS 25-6-1 130MM G1 1/2 230V"]
["ELM87167716300S",null,"PLAQUE CONNECT.ECHANG.EQ",null,null,{"$f":"LEFT(Catalogue[[#This Row],[Référence]],3)","v":"ELM"},{"$f":"VLOOKUP(Catalogue[[#This Row],[Alias]],#REF!,2,FALSE)","v":{"$error":"#REF!"}},null,"ELM87229665750","VANNE 3 VOIES"]
["ELM87167721140",null,"FAISCEAU PRINCIPAL NGLA",null,null,{"$f":"LEFT(Catalogue[[#This Row],[Référence]],3)","v":"ELM"},{"$f":"VLOOKUP(Catalogue[[#This Row],[Alias]],#REF!,2,FALSE)","v":{"$error":"#REF!"}},null,"ELM8737602343","SONDE DE TEMPERATURE NTC"]
["ELM87167723610",null,"FLEXIBLE BY-PASS",null,null,{"$f":"LEFT(Catalogue[[#This Row],[Référence]],3)","v":"ELM"},{"$f":"VLOOKUP(Catalogue[[#This Row],[Alias]],#REF!,2,FALSE)","v":{"$error":"#REF!"}},null,"ELM87377027210","ROBINET"]
["ELM87167725930",null,"JEU DELECTRODES",null,null,{"$f":"LEFT(Catalogue[[#This Row],[Référence]],3)","v":"ELM"},{"$f":"VLOOKUP(Catalogue[[#This Row],[Alias]],#REF!,2,FALSE)","v":{"$error":"#REF!"}},null,"ELM873790495A0","CACHE"]
["ELM87167729830",null,"KIT DE CONVERSION GAZ POUR MEGALIS XGVA24-5RN",null,null,{"$f":"LEFT(Catalogue[[#This Row],[Référence]],3)","v":"ELM"},{"$f":"VLOOKUP(Catalogue[[#This Row],[Alias]],#REF!,2,FALSE)","v":{"$error":"#REF!"}},null,"ELM8738709728","CABLES / 24V"]
["ELM87167732200",null,"CAPOT HABILLAGE AVANT",null,null,{"$f":"LEFT(Catalogue[[#This Row],[Référence]],3)","v":"ELM"},{"$f":"VLOOKUP(Catalogue[[#This Row],[Alias]],#REF!,2,FALSE)","v":{"$error":"#REF!"}},null,"ELM8738713220","VENTILATEUR"]
["ELM87167738490",null,"TABLEAU DE COMMANDE",null,null,{"$f":"LEFT(Catalogue[[#This Row],[Référence]],3)","v":"ELM"},{"$f":"VLOOKUP(Catalogue[[#This Row],[Alias]],#REF!,2,FALSE)","v":{"$error":"#REF!"}},null,"ELM8738717458","BLOC GAZ"]
["ELM87168005930",null,"RESISTANCE BLINDEE INOX MODELE A REF 117",null,null,{"$f":"LEFT(Catalogue[[#This Row],[Référence]],3)","v":"ELM"},{"$f":"VLOOKUP(Catalogue[[#This Row],[Alias]],#REF!,2,FALSE)","v":{"$error":"#REF!"}},null,"ELM8738722344","CORPS DE CHAUFFE"]
["ELM87168326240",null,"ECHANGEUR CHALEUR ALUMINIUM EHLE 17",null,null,{"$f":"LEFT(Catalogue[[#This Row],[Référence]],3)","v":"ELM"},{"$f":"VLOOKUP(Catalogue[[#This Row],[Alias]],#REF!,2,FALSE)","v":{"$error":"#REF!"}},null,"ELM8738724162","BLOC GAZ"]
["ELM87172045290",null,"VENTILATEUR",null,null,{"$f":"LEFT(Catalogue[[#This Row],[Référence]],3)","v":"ELM"},{"$f":"VLOOKUP(Catalogue[[#This Row],[Alias]],#REF!,2,FALSE)","v":{"$error":"#REF!"}},null,"ELM87483007100","CIRCUIT IMPRIME"]
["ELM87172074240",null,"TABLEAU ELECTRIQUE.AGLM23",null,null,{"$f":"LEFT(Catalogue[[#This Row],[Référence]],3)","v":"ELM"},{"$f":"VLOOKUP(Catalogue[[#This Row],[Alias]],#REF!,2,FALSE)","v":{"$error":"#REF!"}},null,"ELMMT290139","JT BRIDE D110 6 TROUS     MT290139_LP240"]
["ELM87172081120",null,"THERMOMETRE",null,null,{"$f":"LEFT(Catalogue[[#This Row],[Référence]],3)","v":"ELM"},{"$f":"VLOOKUP(Catalogue[[#This Row],[Alias]],#REF!,2,FALSE)","v":{"$error":"#REF!"}},null,"EST1C001-0065","CI NIAGARA DELTA Indice 31-32 Avant 04/04"]
["ELM87181070780",null,"JEU DELECTRODES",null,null,{"$f":"LEFT(Catalogue[[#This Row],[Référence]],3)","v":"ELM"},{"$f":"VLOOKUP(Catalogue[[#This Row],[Alias]],#REF!,2,FALSE)","v":{"$error":"#REF!"}},null,"EST1C01-00025","CI CELTIC TIG 30"]
["ELM87182223050",null,"RACCORD",null,null,{"$f":"LEFT(Catalogue[[#This Row],[Référence]],3)","v":"ELM"},{"$f":"VLOOKUP(Catalogue[[#This Row],[Alias]],#REF!,2,FALSE)","v":{"$error":"#REF!"}},null,"EST1C01-00046","CI IONISATION NIAGARA 1996-1998"]
["ELM87183105150",null,"CONDENSATEUR 10 MF",null,null,{"$f":"LEFT(Catalogue[[#This Row],[Référence]],3)","v":"ELM"},{"$f":"VLOOKUP(Catalogue[[#This Row],[Alias]],#REF!,2,FALSE)","v":{"$error":"#REF!"}},null,"EST1C01-00102","TABLEAU GVM 7H BLANC"]
["ELM87186413340",null,"TRANSFORMATEUR",null,null,{"$f":"LEFT(Catalogue[[#This Row],[Référence]],3)","v":"ELM"},{"$f":"VLOOKUP(Catalogue[[#This Row],[Alias]],#REF!,2,FALSE)","v":{"$error":"#REF!"}},null,"EST1C01-00162","CI ALLUMEUR 623 E"]
["ELM87186445590",null,"COLLECTEUR DHW",null,null,{"$f":"LEFT(Catalogue[[#This Row],[Référence]],3)","v":"ELM"},{"$f":"VLOOKUP(Catalogue[[#This Row],[Alias]],#REF!,2,FALSE)","v":{"$error":"#REF!"}},null,"EST1C01-00188","CI THEMIS 23"]
["ELM87186508060",null,"TUYAU D ASPIRATION",null,null,{"$f":"LEFT(Catalogue[[#This Row],[Référence]],3)","v":"ELM"},{"$f":"VLOOKUP(Catalogue[[#This Row],[Alias]],#REF!,2,FALSE)","v":{"$error":"#REF!"}},null,"EST1C01-00214","CI DUA C/RTFS W4115B-1192"]
["ELM87186872270",null,"TAB.ELEC.",null,null,{"$f":"LEFT(Catalogue[[#This Row],[Référence]],3)","v":"ELM"},{"$f":"VLOOKUP(Catalogue[[#This Row],[Alias]],#REF!,2,FALSE)","v":{"$error":"#REF!"}},null,"EST1C01-00253","TABLEAU VITOPEND 100 WHKB"]
["ELM87199056390S",null,"CDC EGALIS BALLON",null,null,{"$f":"LEFT(Catalogue[[#This Row],[Référence]],3)","v":"ELM"},{"$f":"VLOOKUP(Catalogue[[#This Row],[Alias]],#REF!,2,FALSE)","v":{"$error":"#REF!"}},null,"EST1C01-00279","CI LUNA 3 DIMS28"]
["ELM87221333200",null,"MITIGEUR COMPLET NOX HR28",null,null,{"$f":"LEFT(Catalogue[[#This Row],[Référence]],3)","v":"ELM"},{"$f":"VLOOKUP(Catalogue[[#This Row],[Alias]],#REF!,2,FALSE)","v":{"$error":"#REF!"}},null,"EST1C01-00353","INTERFACE MIRA URBIA EVO TRADITIONNELLE"]
["ELM87229000080",null,"THERMO-MANOMETRE",null,null,{"$f":"LEFT(Catalogue[[#This Row],[Référence]],3)","v":"ELM"},{"$f":"VLOOKUP(Catalogue[[#This Row],[Alias]],#REF!,2,FALSE)","v":{"$error":"#REF!"}},null,"EURNATURE DUO200","ROAI + FLEXIBLE INOX 2ML GAZ NATUREL NF - 2 M"]
["ELM87229661660",null,"VANNE TROIS VOIES",null,null,{"$f":"LEFT(Catalogue[[#This Row],[Référence]],3)","v":"ELM"},{"$f":"VLOOKUP(Catalogue[[#This Row],[Alias]],#REF!,2,FALSE)","v":{"$error":"#REF!"}},null,"FBE188165","VANNE ARRET IDRA3000"]
["ELM87229861180",null,"CABLE",null,null,{"$f":"LEFT(Catalogue[[#This Row],[Référence]],3)","v":"ELM"},{"$f":"VLOOKUP(Catalogue[[#This Row],[Alias]],#REF!,2,FALSE)","v":{"$error":"#REF!"}},null,"FER36400060","PRESSOSTAT AIR VOIR 39805630"]
["ELM8737602655",null,"CACHE ECO",null,null,{"$f":"LEFT(Catalogue[[#This Row],[Référence]],3)","v":"ELM"},{"$f":"VLOOKUP(Catalogue[[#This Row],[Alias]],#REF!,2,FALSE)","v":{"$error":"#REF!"}},null,"FER36601080","POMPE WSC RS 25/5-3 PR9 39819860"]
["ELM87377029830",null,"SOUPAPE DE SECURITE",null,null,{"$f":"LEFT(Catalogue[[#This Row],[Référence]],3)","v":"ELM"},{"$f":"VLOOKUP(Catalogue[[#This Row],[Alias]],#REF!,2,FALSE)","v":{"$error":"#REF!"}},null,"FER36802540","MODUREG POUR V4600 N ET VR4605 N"]
["ELM8737714734",null,"TABLEAU ELECTRIQUE ACU MHP-23",null,null,{"$f":"LEFT(Catalogue[[#This Row],[Référence]],3)","v":"ELM"},{"$f":"VLOOKUP(Catalogue[[#This Row],[Alias]],#REF!,2,FALSE)","v":{"$error":"#REF!"}},null,"FER37402710","CHAMB,COMBUSTION DOMINA/TOP T."]
["ELM87387025010",null,"CAPTEUR CABLE",null,null,{"$f":"LEFT(Catalogue[[#This Row],[Référence]],3)","v":"ELM"},{"$f":"VLOOKUP(Catalogue[[#This Row],[Alias]],#REF!,2,FALSE)","v":{"$error":"#REF!"}},null,"FER38408974","TUBE SANITAIRE DOMINA"]
["ELM8738713220",null,"VENTILATEUR",null,null,{"$f":"LEFT(Catalogue[[#This Row],[Référence]],3)","v":"ELM"},{"$f":"VLOOKUP(Catalogue[[#This Row],[Alias]],#REF!,2,FALSE)","v":{"$error":"#REF!"}},null,"FER39800450S","CDC NEF"]
["ELM8738714906",null,"UNITE DE COMMANDE",null,null,{"$f":"LEFT(Catalogue[[#This Row],[Référence]],3)","v":"ELM"},{"$f":"VLOOKUP(Catalogue[[#This Row],[Alias]],#REF!,2,FALSE)","v":{"$error":"#REF!"}},null,"FER39801140","CONTACT THERMOCOUPLE"]
["ELM8738722390",null,"MANETTE",null,null,{"$f":"LEFT(Catalogue[[#This Row],[Référence]],3)","v":"ELM"},{"$f":"VLOOKUP(Catalogue[[#This Row],[Alias]],#REF!,2,FALSE)","v":{"$error":"#REF!"}},null,"FER39802430S","VENTILATEUR NEF VENT"]
["ELM8738724162",null,"BLOC GAZ",null,null,{"$f":"LEFT(Catalogue[[#This Row],[Référence]],3)","v":"ELM"},{"$f":"VLOOKUP(Catalogue[[#This Row],[Alias]],#REF!,2,FALSE)","v":{"$error":"#REF!"}},null,"FER39803770","KIT 5 JOINTS LEVRE D.80"]
["ELM87472071010",null,"SONDE DE TEMPERATURE EXTERIEURE",null,null,{"$f":"LEFT(Catalogue[[#This Row],[Référence]],3)","v":"ELM"},{"$f":"VLOOKUP(Catalogue[[#This Row],[Alias]],#REF!,2,FALSE)","v":{"$error":"#REF!"}},null,"FER39805631","PRESSOSTAT DAIR P=1.65MBAR"]
["ELM87483004490",null,"CIRCUIT IMPRIMEGZT2CAE",null,null,{"$f":"LEFT(Catalogue[[#This Row],[Référence]],3)","v":"ELM"},{"$f":"VLOOKUP(Catalogue[[#This Row],[Alias]],#REF!,2,FALSE)","v":{"$error":"#REF!"}},null,"FER39805750","BOUTON SELEC DOMINA/OASI"]
["EPI-GEL",null,"Gel hydroalcoolique Kleengel 300ml",null,null,{"$f":"LEFT(Catalogue[[#This Row],[Référence]],3)","v":"EPI"},{"$f":"VLOOKUP(Catalogue[[#This Row],[Alias]],#REF!,2,FALSE)","v":{"$error":"#REF!"}},null,"FER39807910","BRULEUR ECONCEPT 25/ TECH"]
["EST1C01-00023",null,"CI Bayard 13 VE FF",null,null,{"$f":"LEFT(Catalogue[[#This Row],[Référence]],3)","v":"EST"},{"$f":"VLOOKUP(Catalogue[[#This Row],[Alias]],#REF!,2,FALSE)","v":{"$error":"#REF!"}},null,"FER39808970","PURGEUR AUTOMATIQUE 3/8"]
["EST1C01-00050",null,"CI CELTIC TURBO 2-20 FF ACS",null,null,{"$f":"LEFT(Catalogue[[#This Row],[Référence]],3)","v":"EST"},{"$f":"VLOOKUP(Catalogue[[#This Row],[Alias]],#REF!,2,FALSE)","v":{"$error":"#REF!"}},null,"FER39809750","MANOMETRE NE 24/DIVATOP 60F/KO"]
["EST1C01-00066",null,"CI PRIMAXIA 1ERE GENERATION",null,null,{"$f":"LEFT(Catalogue[[#This Row],[Référence]],3)","v":"EST"},{"$f":"VLOOKUP(Catalogue[[#This Row],[Alias]],#REF!,2,FALSE)","v":{"$error":"#REF!"}},null,"FER3980F240","KIT POMPE UNIVERSELLE 5 MT 1"]
["EST1C01-00107",null,"TABLEAU GVB 7H BLANC",null,null,{"$f":"LEFT(Catalogue[[#This Row],[Référence]],3)","v":"EST"},{"$f":"VLOOKUP(Catalogue[[#This Row],[Alias]],#REF!,2,FALSE)","v":{"$error":"#REF!"}},null,"FER39810380","C.I. DIGITAL ECONCEPT 35 C 383"]
["EST1C01-00153",null,"CI THEMIS AS23",null,null,{"$f":"LEFT(Catalogue[[#This Row],[Référence]],3)","v":"EST"},{"$f":"VLOOKUP(Catalogue[[#This Row],[Alias]],#REF!,2,FALSE)","v":{"$error":"#REF!"}},null,"FER39811490","COUV. TABLEAU DOMITOP 39808210- FC 10/2014"]
["EST1C01-00185",null,"CI THELIA 23 (G.96)",null,null,{"$f":"LEFT(Catalogue[[#This Row],[Référence]],3)","v":"EST"},{"$f":"VLOOKUP(Catalogue[[#This Row],[Alias]],#REF!,2,FALSE)","v":{"$error":"#REF!"}},null,"FER39813030","GROUPE EAU DOMICOMPACT"]
["EST1C01-00243",null,"CI ARISTON GENUS ALIM E A FFI/P",null,null,{"$f":"LEFT(Catalogue[[#This Row],[Référence]],3)","v":"EST"},{"$f":"VLOOKUP(Catalogue[[#This Row],[Alias]],#REF!,2,FALSE)","v":{"$error":"#REF!"}},null,"FER39818210","MANO DOMIMICRO/PROJECTF24"]
["EST1C01-00264",null,{"$f":"VLOOKUP(A21634,I:J,2,0)","v":"CI LMU 34"},null,null,{"$f":"LEFT(Catalogue[[#This Row],[Référence]],3)","v":"EST"},{"$f":"VLOOKUP(Catalogue[[#This Row],[Alias]],#REF!,2,FALSE)","v":{"$error":"#REF!"}},null,"FER39819431","ELECTRODE ALLUMAGE/IONISATION"]
["EST1C01-00345",null,"GENUS B PLUS",null,null,{"$f":"LEFT(Catalogue[[#This Row],[Référence]],3)","v":"EST"},{"$f":"VLOOKUP(Catalogue[[#This Row],[Alias]],#REF!,2,FALSE)","v":{"$error":"#REF!"}},null,"FER39819870","VASE 6L"]
["EURBIJONC100KY71",null,"FLEXIBLE INOX A JONCTION TOURNANTE 1ML BUTANE PROPANE NF - 1 M",null,null,{"$f":"LEFT(Catalogue[[#This Row],[Référence]],3)","v":"EUR"},{"$f":"VLOOKUP(Catalogue[[#This Row],[Alias]],#REF!,2,FALSE)","v":{"$error":"#REF!"}},null,"FER39820660","C,I, PRINCIPAL DIVATECH/MICRO- FC 12/2014"]
["EVBE3321-A1502-11.2",null,"ELVI WIFI + COMPTEUR + 3G - BLANC(Conforme à la norme IEC 62196-2)",null,null,{"$f":"LEFT(Catalogue[[#This Row],[Référence]],3)","v":"EVB"},{"$f":"VLOOKUP(Catalogue[[#This Row],[Alias]],#REF!,2,FALSE)","v":{"$error":"#REF!"}},null,"FER39821940","BOUTON POTENTIOMETRE NE420 /VA"]
["FBE159715",null,"PRESSOSTAT FUMEE IDRA 23 SV",null,null,{"$f":"LEFT(Catalogue[[#This Row],[Référence]],3)","v":"FBE"},{"$f":"VLOOKUP(Catalogue[[#This Row],[Alias]],#REF!,2,FALSE)","v":{"$error":"#REF!"}},null,"FER39822650","VANNE DEP/RET CHAU TOPAP02 369"]
["FER36400740",null,"THERMOMANO VOIR 39802620",null,null,{"$f":"LEFT(Catalogue[[#This Row],[Référence]],3)","v":"FER"},{"$f":"VLOOKUP(Catalogue[[#This Row],[Alias]],#REF!,2,FALSE)","v":{"$error":"#REF!"}},null,"FER39829093","CI DBM05 ECON ST KOMBI 3982909"]
["FER36702581",null,"ELECTRODE ALLUMAGE",null,null,{"$f":"LEFT(Catalogue[[#This Row],[Référence]],3)","v":"FER"},{"$f":"VLOOKUP(Catalogue[[#This Row],[Alias]],#REF!,2,FALSE)","v":{"$error":"#REF!"}},null,"FER39838370","KIT BRIDE COMP. NE60/DIVATOP 6"]
["FER36901610",null,"VANNE 3/4 DEPART RETOUR",null,null,{"$f":"LEFT(Catalogue[[#This Row],[Référence]],3)","v":"FER"},{"$f":"VLOOKUP(Catalogue[[#This Row],[Alias]],#REF!,2,FALSE)","v":{"$error":"#REF!"}},null,"FER39843450","KIT JOINTS BALLON DOMINA OASI"]
["FER37515350",null,"ANTIREFOULEUR",null,null,{"$f":"LEFT(Catalogue[[#This Row],[Référence]],3)","v":"FER"},{"$f":"VLOOKUP(Catalogue[[#This Row],[Alias]],#REF!,2,FALSE)","v":{"$error":"#REF!"}},null,"FER39846880","DETECT ECS TECH C>0944L/TOP398"]
["FER38449570S","Non concerné","EXTRACTEUR OASI DOMINA",40,2000001510216,{"$f":"LEFT(Catalogue[[#This Row],[Référence]],3)","v":"FER"},{"$f":"VLOOKUP(Catalogue[[#This Row],[Alias]],#REF!,2,FALSE)","v":{"$error":"#REF!"}},null,"FIL-ADT-STICKERSDBTKRN-EN","FILITUP - MODE OP DBT KEREN ENGIE VIANEO V2 EN"]
["FER39800040",null,"CIRCUIT MF2 NEF A,M,(VOIR 39800070)",null,null,{"$f":"LEFT(Catalogue[[#This Row],[Référence]],3)","v":"FER"},{"$f":"VLOOKUP(Catalogue[[#This Row],[Alias]],#REF!,2,FALSE)","v":{"$error":"#REF!"}},null,"FIL-BVE.205W36-B0NF","FILITUP-WALLBOX BE-WRC T2S7NF"]
["FER39800440S",null,"EXTRACTEUR",null,null,{"$f":"LEFT(Catalogue[[#This Row],[Référence]],3)","v":"FER"},{"$f":"VLOOKUP(Catalogue[[#This Row],[Alias]],#REF!,2,FALSE)","v":{"$error":"#REF!"}},null,"FIL-EVX290124","FILITUP-SUPPORT DE CABLE SIMPLE POUR PIED INOX T2/T2"]
["FER39801390",null,"FUSIBLE 125 MA X 10",null,null,{"$f":"LEFT(Catalogue[[#This Row],[Référence]],3)","v":"FER"},{"$f":"VLOOKUP(Catalogue[[#This Row],[Alias]],#REF!,2,FALSE)","v":{"$error":"#REF!"}},null,"FIL-EVXC3328-T2T2-10","FILITUP - CABLE DE RECHARGE 22Kw T2-8M (SLP)"]
["FER39803640",null,"C.I. ALL. S4561B1039 PEGASUS F",null,null,{"$f":"LEFT(Catalogue[[#This Row],[Référence]],3)","v":"FER"},{"$f":"VLOOKUP(Catalogue[[#This Row],[Alias]],#REF!,2,FALSE)","v":{"$error":"#REF!"}},null,"FIN11K900 0400","REGGANE 3010 COMPACT 11K 900X400"]
["FER39804831",null,"PLATINE MF02",null,null,{"$f":"LEFT(Catalogue[[#This Row],[Référence]],3)","v":"FER"},{"$f":"VLOOKUP(Catalogue[[#This Row],[Alias]],#REF!,2,FALSE)","v":{"$error":"#REF!"}},null,"FIN11KV900 0800 G","REGGANE 3010 INTEGRE 11KV H900 0800 RACC GAUCHE"]
["FER39805630",null,"PRESSOSTAT D AIR P1.65MBAR FC 19/09/2018",null,null,{"$f":"LEFT(Catalogue[[#This Row],[Référence]],3)","v":"FER"},{"$f":"VLOOKUP(Catalogue[[#This Row],[Alias]],#REF!,2,FALSE)","v":{"$error":"#REF!"}},null,"FIN21K500 1320","REGGANE 3010 COMPACT 21K H500xL1320"]
["FER39806080",null,"CORPS DOMINA F24E 39808730",null,null,{"$f":"LEFT(Catalogue[[#This Row],[Référence]],3)","v":"FER"},{"$f":"VLOOKUP(Catalogue[[#This Row],[Alias]],#REF!,2,FALSE)","v":{"$error":"#REF!"}},null,"FIN21KD600 0400","RAD EC REGG 3010 DECO 21KD  600X400"]
["FER39806885",null,"EXTRACTEUR NEW ELITE",null,null,{"$f":"LEFT(Catalogue[[#This Row],[Référence]],3)","v":"FER"},{"$f":"VLOOKUP(Catalogue[[#This Row],[Alias]],#REF!,2,FALSE)","v":{"$error":"#REF!"}},null,"FIN21VM600 0400","RAD EC T6 3010 21VM         600X400"]
["FER39808960",null,"2 CLAPET ANTI RETOUR",null,null,{"$f":"LEFT(Catalogue[[#This Row],[Référence]],3)","v":"FER"},{"$f":"VLOOKUP(Catalogue[[#This Row],[Alias]],#REF!,2,FALSE)","v":{"$error":"#REF!"}},null,"FIN22K9000600","REGG. 3010 COMP. 22K 900X600"]
["FER39809680",null,"BALLON MIC, ACCU. C/F 24 NEW E",null,null,{"$f":"LEFT(Catalogue[[#This Row],[Référence]],3)","v":"FER"},{"$f":"VLOOKUP(Catalogue[[#This Row],[Alias]],#REF!,2,FALSE)","v":{"$error":"#REF!"}},null,"FIN33K750 0720","REGGANE 3010 COMPACT 33K 750X720"]
["FER39809950S","Non concerné","SOUPAPE SANITAIRE 9 BARS 1/2",7,2000007349094,{"$f":"LEFT(Catalogue[[#This Row],[Référence]],3)","v":"FER"},{"$f":"VLOOKUP(Catalogue[[#This Row],[Alias]],#REF!,2,FALSE)","v":{"$error":"#REF!"}},null,"FINF101106012010B00","Radiateur REGGANE 11H 600 1200 RAL9016"]
["FER39810230",null,"SONDE DE TEMPERATURE SANITAIRE",null,null,{"$f":"LEFT(Catalogue[[#This Row],[Référence]],3)","v":"FER"},{"$f":"VLOOKUP(Catalogue[[#This Row],[Alias]],#REF!,2,FALSE)","v":{"$error":"#REF!"}},null,"FINF37K00860500HB50","SECH S TAHITI MX BLC 17E 500W"]
["FER39811270",null,"CLAPET ANTIRET CHAUF   SANIT",null,null,{"$f":"LEFT(Catalogue[[#This Row],[Référence]],3)","v":"FER"},{"$f":"VLOOKUP(Catalogue[[#This Row],[Alias]],#REF!,2,FALSE)","v":{"$error":"#REF!"}},null,"FLA56513","TAP ANALOGIQUE 230V 24H 1 CONSIGNE"]
["FER39814080",null,"ELECT ALL + ION PEGASUS",null,null,{"$f":"LEFT(Catalogue[[#This Row],[Référence]],3)","v":"FER"},{"$f":"VLOOKUP(Catalogue[[#This Row],[Alias]],#REF!,2,FALSE)","v":{"$error":"#REF!"}},null,"FRA61030926","TOURELLE DE TOITURE SIMOUN 2000 6T"]
["FER39815831",null,"KIT POMPA PARA KU 15(36601482)",null,null,{"$f":"LEFT(Catalogue[[#This Row],[Référence]],3)","v":"FER"},{"$f":"VLOOKUP(Catalogue[[#This Row],[Alias]],#REF!,2,FALSE)","v":{"$error":"#REF!"}},null,"FRA721135","MANCHETTE CIRC. D 315"]
["FER39818650",null,"THERMOSTAT 85DIAM SUN P7-P12",null,null,{"$f":"LEFT(Catalogue[[#This Row],[Référence]],3)","v":"FER"},{"$f":"VLOOKUP(Catalogue[[#This Row],[Alias]],#REF!,2,FALSE)","v":{"$error":"#REF!"}},null,"FRI250127","CABL.EV/B.ALLUM HC96.03->00.08"]
["FER39819540S",null,"CDC DOMINO",null,null,{"$f":"LEFT(Catalogue[[#This Row],[Référence]],3)","v":"FER"},{"$f":"VLOOKUP(Catalogue[[#This Row],[Alias]],#REF!,2,FALSE)","v":{"$error":"#REF!"}},null,"FRI400560","CHICANE CONDENSEUR CD25 07->"]
["FER39820442",null,"VANNE SELECTIVE ECONCEPT ST/TE",null,null,{"$f":"LEFT(Catalogue[[#This Row],[Référence]],3)","v":"FER"},{"$f":"VLOOKUP(Catalogue[[#This Row],[Alias]],#REF!,2,FALSE)","v":{"$error":"#REF!"}},null,"FRI410046","VASE RECTANGULAIRE 16L 1B"]
["FER39820661",null,"CI PRINCIPAL DIVATECH / MICRO",null,null,{"$f":"LEFT(Catalogue[[#This Row],[Référence]],3)","v":"FER"},{"$f":"VLOOKUP(Catalogue[[#This Row],[Alias]],#REF!,2,FALSE)","v":{"$error":"#REF!"}},null,"FRI410066","VASE RECTANGULAIRE 1OL 0.8B"]
["FER39821780",null,"JOINT VENTOUSE 35101450",null,null,{"$f":"LEFT(Catalogue[[#This Row],[Référence]],3)","v":"FER"},{"$f":"VLOOKUP(Catalogue[[#This Row],[Alias]],#REF!,2,FALSE)","v":{"$error":"#REF!"}},null,"FRI415090","TUBE CPT RET CH GL23 90->00.04"]
["FER39822630",null,"DISCONNECTEUR",null,null,{"$f":"LEFT(Catalogue[[#This Row],[Référence]],3)","v":"FER"},{"$f":"VLOOKUP(Catalogue[[#This Row],[Alias]],#REF!,2,FALSE)","v":{"$error":"#REF!"}},null,"FRI415209","TUBE CPT DPT CHF HC  96.28->07"]
["FER39826690",null,"SONDE CHAUFFAGE ATLAS/PEGASUS",null,null,{"$f":"LEFT(Catalogue[[#This Row],[Référence]],3)","v":"FER"},{"$f":"VLOOKUP(Catalogue[[#This Row],[Alias]],#REF!,2,FALSE)","v":{"$error":"#REF!"}},null,"FRI415283","TUBE CPLT EF UPEC120 00->03.39"]
["FER39837660",null,"CDCPS DOMIPROJECT D F24",null,null,{"$f":"LEFT(Catalogue[[#This Row],[Référence]],3)","v":"FER"},{"$f":"VLOOKUP(Catalogue[[#This Row],[Alias]],#REF!,2,FALSE)","v":{"$error":"#REF!"}},null,"FRI415484","TUBE CPT RET CIR/TE PISC.HCCD"]
["FER39841880",null,"CABLE TRESSE D2XD4 (=41232)",null,null,{"$f":"LEFT(Catalogue[[#This Row],[Référence]],3)","v":"FER"},{"$f":"VLOOKUP(Catalogue[[#This Row],[Alias]],#REF!,2,FALSE)","v":{"$error":"#REF!"}},null,"FRI415643","TUBE CPT RET CHF PCD25  19->"]
["FER39846130",null,"KIT FLUXOMETRE BLUEHELIX PRO C",null,null,{"$f":"LEFT(Catalogue[[#This Row],[Référence]],3)","v":"FER"},{"$f":"VLOOKUP(Catalogue[[#This Row],[Alias]],#REF!,2,FALSE)","v":{"$error":"#REF!"}},null,"FRI425235","TUBE CPT GAZ CD20 AVL 10.35->"]
["FIL-205.W36-D0",null,"FILITUP - WALLBOX 1 PRISE TYPE 2 22kW EM+RFID",null,null,{"$f":"LEFT(Catalogue[[#This Row],[Référence]],3)","v":"FIL"},{"$f":"VLOOKUP(Catalogue[[#This Row],[Alias]],#REF!,2,FALSE)","v":{"$error":"#REF!"}},null,"FRI440356","SONDE EXTERIEURE SC31"]
["FIL-ADT-STICKERSDBTKRN-FR",null,{"$f":"VLOOKUP(A22402,I:J,2,0)","v":"FILITUP -  MODE OP DBT KEREN ENGIE VIANEO V2 FR"},null,null,{"$f":"LEFT(Catalogue[[#This Row],[Référence]],3)","v":"FIL"},{"$f":"VLOOKUP(Catalogue[[#This Row],[Alias]],#REF!,2,FALSE)","v":{"$error":"#REF!"}},null,"FRI450073","CALORIFUGE PREST23 2000->"]
["FIL-EVXB3321-5003-7016",null,"FILITUP - BLine 22kW 1x UMTS-E T2SE  GRISE",null,null,{"$f":"LEFT(Catalogue[[#This Row],[Référence]],3)","v":"FIL"},{"$f":"VLOOKUP(Catalogue[[#This Row],[Alias]],#REF!,2,FALSE)","v":{"$error":"#REF!"}},null,"FRIF3AA40046","VEILLEUSE 829 GN - fin de commercialisation 01 2014"]
["FIL-T800P40C5AS",null,"FILITUP - EV Charger 800V/40kW/CCS2/5m",null,null,{"$f":"LEFT(Catalogue[[#This Row],[Référence]],3)","v":"FIL"},{"$f":"VLOOKUP(Catalogue[[#This Row],[Alias]],#REF!,2,FALSE)","v":{"$error":"#REF!"}},null,"FRIF3AA40080","ROBINET SANITAIRE 15X21 78->91"]
["FIN11K750 0720",null,"REGGANE 3010 COMPACT 11K H750xL720",null,null,{"$f":"LEFT(Catalogue[[#This Row],[Référence]],3)","v":"FIN"},{"$f":"VLOOKUP(Catalogue[[#This Row],[Alias]],#REF!,2,FALSE)","v":{"$error":"#REF!"}},null,"FRIF3AA40142","SECURITE VMC(SECU+FIL)  90->94"]
["FIN11KV750 0400 G",null,"REGGANE 3010 INTEGRE 11KV H750 0400 RACC GAUCHE",null,null,{"$f":"LEFT(Catalogue[[#This Row],[Référence]],3)","v":"FIN"},{"$f":"VLOOKUP(Catalogue[[#This Row],[Alias]],#REF!,2,FALSE)","v":{"$error":"#REF!"}},null,"FRIF3AA40248","CDE CPLT V3V GL 90.7->94"]
["FIN21K400 0720",null,"REGGANE 3010 COMPACT 21K H400xL720",null,null,{"$f":"LEFT(Catalogue[[#This Row],[Référence]],3)","v":"FIN"},{"$f":"VLOOKUP(Catalogue[[#This Row],[Alias]],#REF!,2,FALSE)","v":{"$error":"#REF!"}},null,"FRIF3AA40289","CIRCULATEUR 11/4 50W/CABLE"]
["FIN21KD750 0720",null,"RAD EC REGG 3010 DECO 21KD  750X720",null,null,{"$f":"LEFT(Catalogue[[#This Row],[Référence]],3)","v":"FIN"},{"$f":"VLOOKUP(Catalogue[[#This Row],[Alias]],#REF!,2,FALSE)","v":{"$error":"#REF!"}},null,"FRIF3AA40441","SUPPORT VENTIL.EQP 97.23-08.06"]
["FIN22K600 0720",null,"REGGANE 3010 COMPACT 22K H600xL720",null,null,{"$f":"LEFT(Catalogue[[#This Row],[Référence]],3)","v":"FIN"},{"$f":"VLOOKUP(Catalogue[[#This Row],[Alias]],#REF!,2,FALSE)","v":{"$error":"#REF!"}},null,"FRIF3AA40522","FLEXIBLE TR.LG1210F3/4COU-SPE"]
["FIN22K900 0600",null,"REGGANE 3010 COMPACT 22K H900xL600",null,null,{"$f":"LEFT(Catalogue[[#This Row],[Référence]],3)","v":"FIN"},{"$f":"VLOOKUP(Catalogue[[#This Row],[Alias]],#REF!,2,FALSE)","v":{"$error":"#REF!"}},null,"FRIF3AA40541","POCH.JTS 00.09-08.06 TRAD08-15"]
["FIN22KV600 0600",null,"RAD EC REGG 3010 INT 22KV   600X600",null,null,{"$f":"LEFT(Catalogue[[#This Row],[Référence]],3)","v":"FIN"},{"$f":"VLOOKUP(Catalogue[[#This Row],[Alias]],#REF!,2,FALSE)","v":{"$error":"#REF!"}},null,"FRIF3AA40644","VENTILATEUR HV32  00.36->08.06"]
["FINF0V2207504010B00",null,"RADIATEUR REGGANE 3010 DECO COMPACT 22KD 750x400",null,null,{"$f":"LEFT(Catalogue[[#This Row],[Référence]],3)","v":"FIN"},{"$f":"VLOOKUP(Catalogue[[#This Row],[Alias]],#REF!,2,FALSE)","v":{"$error":"#REF!"}},null,"FRIF3AA40712","TR.GAZ HMCL/HCCL  GN 02->08.05"]
["FINF252121006011B00",null,"REGGANE 3000 21V H2100 LG600 12EL BLANC 2160W+ CCL",null,null,{"$f":"LEFT(Catalogue[[#This Row],[Référence]],3)","v":"FIN"},{"$f":"VLOOKUP(Catalogue[[#This Row],[Alias]],#REF!,2,FALSE)","v":{"$error":"#REF!"}},null,"FRIF3AA40750","KIT MOTEUR RIF2000 94.02-99.52"]
["FLA54183",null,"THERMOSTAT MEMBRANE 1T",null,null,{"$f":"LEFT(Catalogue[[#This Row],[Référence]],3)","v":"FLA"},{"$f":"VLOOKUP(Catalogue[[#This Row],[Alias]],#REF!,2,FALSE)","v":{"$error":"#REF!"}},null,"FRIF3AA40818","CABL.BOITIER ELEC.BIC 01-09.05"]
["FRA60016562",null,"FILTRE YZENTIS",null,null,{"$f":"LEFT(Catalogue[[#This Row],[Référence]],3)","v":"FRA"},{"$f":"VLOOKUP(Catalogue[[#This Row],[Alias]],#REF!,2,FALSE)","v":{"$error":"#REF!"}},null,"FRIF3AA40851","POCH.JTS CD/EVO   05.37->"]
["FRI220347",null,"FLEXIBLE TR.LG120 F3/8-F3/8COU",null,null,{"$f":"LEFT(Catalogue[[#This Row],[Référence]],3)","v":"FRI"},{"$f":"VLOOKUP(Catalogue[[#This Row],[Alias]],#REF!,2,FALSE)","v":{"$error":"#REF!"}},null,"FRIF3AA40944","ELECTRODE AL+ION CD25/32 07->"]
["FRI225045",null,"COUDE DEPART/PURGE CD 05-12.24",null,null,{"$f":"LEFT(Catalogue[[#This Row],[Référence]],3)","v":"FRI"},{"$f":"VLOOKUP(Catalogue[[#This Row],[Alias]],#REF!,2,FALSE)","v":{"$error":"#REF!"}},null,"FRIF3AA40989","KIT MAINTIEN CHAMBRE HV 94->15"]
["FRI250285",null,"CONDENSATEUR TME 11 MONO 08-15",null,null,{"$f":"LEFT(Catalogue[[#This Row],[Référence]],3)","v":"FRI"},{"$f":"VLOOKUP(Catalogue[[#This Row],[Alias]],#REF!,2,FALSE)","v":{"$error":"#REF!"}},null,"FRIF3AA41025","CABL.GENERAL HMEVO25 08->12.28"]
["FRI405264",null,"CDC HCV23 96-00 CL02.21->07.05",null,null,{"$f":"LEFT(Catalogue[[#This Row],[Référence]],3)","v":"FRI"},{"$f":"VLOOKUP(Catalogue[[#This Row],[Alias]],#REF!,2,FALSE)","v":{"$error":"#REF!"}},null,"FRIF3AA41096","GRILLE DIFFUSEUR"]
["FRI405373",null,"CDC CD32 M        07.20->",null,null,{"$f":"LEFT(Catalogue[[#This Row],[Référence]],3)","v":"FRI"},{"$f":"VLOOKUP(Catalogue[[#This Row],[Alias]],#REF!,2,FALSE)","v":{"$error":"#REF!"}},null,"FRIF3AA41149","CONDENSEUR CPT CD45 EQP 10->"]
["FRI415125",null,"TUBE CPT DPT CHF HV23 90-00.05",null,null,{"$f":"LEFT(Catalogue[[#This Row],[Référence]],3)","v":"FRI"},{"$f":"VLOOKUP(Catalogue[[#This Row],[Alias]],#REF!,2,FALSE)","v":{"$error":"#REF!"}},null,"FRIF3AA41262","CAPOT MOD.HYD.VISIO"]
["FRI415199",null,"TUBE CPT EC TGPS23 95.10-98.18",null,null,{"$f":"LEFT(Catalogue[[#This Row],[Référence]],3)","v":"FRI"},{"$f":"VLOOKUP(Catalogue[[#This Row],[Alias]],#REF!,2,FALSE)","v":{"$error":"#REF!"}},null,"FRIF3AA41313","SIMULATEUR CTN 10K-MFIT"]
["FRI415268",null,"TUBE CPLT EF HC   00.09->08.04",null,null,{"$f":"LEFT(Catalogue[[#This Row],[Référence]],3)","v":"FRI"},{"$f":"VLOOKUP(Catalogue[[#This Row],[Alias]],#REF!,2,FALSE)","v":{"$error":"#REF!"}},null,"FRIF3AA41445","CABL.GENERAL HCCD120V 15-17.44"]
["FRI415400",null,"TUBE CPLT EF CD32    07->",null,null,{"$f":"LEFT(Catalogue[[#This Row],[Référence]],3)","v":"FRI"},{"$f":"VLOOKUP(Catalogue[[#This Row],[Alias]],#REF!,2,FALSE)","v":{"$error":"#REF!"}},null,"FRIF3AA41502","CIRCUIT IMP.RIF 5000 00->11.52"]
["FRI415457",null,"TUBE CPT VASE CD32 08.14->",null,null,{"$f":"LEFT(Catalogue[[#This Row],[Référence]],3)","v":"FRI"},{"$f":"VLOOKUP(Catalogue[[#This Row],[Alias]],#REF!,2,FALSE)","v":{"$error":"#REF!"}},null,"FRIF3AA41559","KIT AMB VLED 20KW      ->10.35"]
["FRI425033",null,"RAMPE GAZ HM17/32 82-87",null,null,{"$f":"LEFT(Catalogue[[#This Row],[Référence]],3)","v":"FRI"},{"$f":"VLOOKUP(Catalogue[[#This Row],[Alias]],#REF!,2,FALSE)","v":{"$error":"#REF!"}},null,"FRIF3AA41680","CDC CD20          10.35->12.24"]
["FRI425234",null,"TUBE CPT GAZ PCD45   10->",null,null,{"$f":"LEFT(Catalogue[[#This Row],[Référence]],3)","v":"FRI"},{"$f":"VLOOKUP(Catalogue[[#This Row],[Alias]],#REF!,2,FALSE)","v":{"$error":"#REF!"}},null,"FRIF3AA70023","TABLEAU DE BORD 4D 08.30-15.39"]
["FRI450088",null,"CALORIFUGE CD32      07->",null,null,{"$f":"LEFT(Catalogue[[#This Row],[Référence]],3)","v":"FRI"},{"$f":"VLOOKUP(Catalogue[[#This Row],[Alias]],#REF!,2,FALSE)","v":{"$error":"#REF!"}},null,"GBR240.700.00.1","ROB FLOTT IMPULS380       240700001"]
["FRIA4AL25050",null,"PRESTIGE CONDENSATION VISIO 25KW CS - THPE",null,null,{"$f":"LEFT(Catalogue[[#This Row],[Référence]],3)","v":"FRI"},{"$f":"VLOOKUP(Catalogue[[#This Row],[Alias]],#REF!,2,FALSE)","v":{"$error":"#REF!"}},null,"GEB861033","BOUCLIER THERM LGUE DUREE    861033"]
["FRIB4AB30020",null,"HYDROMOTRIX EVOLUTION VISIO 30KW MIXTE RAC",null,null,{"$f":"LEFT(Catalogue[[#This Row],[Référence]],3)","v":"FRI"},{"$f":"VLOOKUP(Catalogue[[#This Row],[Alias]],#REF!,2,FALSE)","v":{"$error":"#REF!"}},null,"GEMC60.17955","RELAIS FINDER                       C60.17955"]
["FRIF3AA40080",null,"ROBINET SANITAIRE 15X21 78->91",null,null,{"$f":"LEFT(Catalogue[[#This Row],[Référence]],3)","v":"FRI"},{"$f":"VLOOKUP(Catalogue[[#This Row],[Alias]],#REF!,2,FALSE)","v":{"$error":"#REF!"}},null,"GEML20.31470","L2031470 SONDE NTC SENSOR M5- FC 05/2015"]
["FRIF3AA40144",null,"VANNE ISOL.3/4 MM CARRE 00.10-",null,null,{"$f":"LEFT(Catalogue[[#This Row],[Référence]],3)","v":"FRI"},{"$f":"VLOOKUP(Catalogue[[#This Row],[Alias]],#REF!,2,FALSE)","v":{"$error":"#REF!"}},null,"GEML72.01023","SECURITE THERMIQUE GWR18            L72.01023"]
["FRIF3AA40251",null,"CDE CPT V3V HC/TGP 91.24-94.01",null,null,{"$f":"LEFT(Catalogue[[#This Row],[Référence]],3)","v":"FRI"},{"$f":"VLOOKUP(Catalogue[[#This Row],[Alias]],#REF!,2,FALSE)","v":{"$error":"#REF!"}},null,"GEMV07.35479","VASE EXPANSION 18L            -KIT- V07.35479"]
["FRIF3AA40365",null,"ADAPTATEUR 80/125 VENTOUSE",null,null,{"$f":"LEFT(Catalogue[[#This Row],[Référence]],3)","v":"FRI"},{"$f":"VLOOKUP(Catalogue[[#This Row],[Alias]],#REF!,2,FALSE)","v":{"$error":"#REF!"}},null,"GIIK373Y301","AQUASTAT DE SECURITE POUR PLANCHER CHAUFFANT"]
["FRIF3AA40475",null,"TR.GAZ PREST/TGP23 PR 00-08.06",null,null,{"$f":"LEFT(Catalogue[[#This Row],[Référence]],3)","v":"FRI"},{"$f":"VLOOKUP(Catalogue[[#This Row],[Alias]],#REF!,2,FALSE)","v":{"$error":"#REF!"}},null,"GIIR29 X 032","COUDE REGLAGE R29 TG 3/8"]
["FRIF3AA40518",null,"CTN POUR DGT GANT UPEC 00->",null,null,{"$f":"LEFT(Catalogue[[#This Row],[Référence]],3)","v":"FRI"},{"$f":"VLOOKUP(Catalogue[[#This Row],[Alias]],#REF!,2,FALSE)","v":{"$error":"#REF!"}},null,"GIIR402VTL33","ROB THERM 1/2 DR M30X1,5  R402VTL33"]
["FRIF3AA40541",null,"POCH.JTS 00.09-08.06 TRAD08-15",null,null,{"$f":"LEFT(Catalogue[[#This Row],[Référence]],3)","v":"FRI"},{"$f":"VLOOKUP(Catalogue[[#This Row],[Alias]],#REF!,2,FALSE)","v":{"$error":"#REF!"}},null,"GIIR435X053","ROB. EQUERRE R435TG 1/2"]
["FRIF3AA40659",null,"BOBINE VANNE AUTO ZERO  01->",null,null,{"$f":"LEFT(Catalogue[[#This Row],[Référence]],3)","v":"FRI"},{"$f":"VLOOKUP(Catalogue[[#This Row],[Alias]],#REF!,2,FALSE)","v":{"$error":"#REF!"}},null,"GIIR438IX052","ROBICOUDE 2V 15X21-16     R438IX052"]
["FRIF3AA40690",null,"BRULEUR CPLT BIC  01.17->09.05",null,null,{"$f":"LEFT(Catalogue[[#This Row],[Référence]],3)","v":"FRI"},{"$f":"VLOOKUP(Catalogue[[#This Row],[Alias]],#REF!,2,FALSE)","v":{"$error":"#REF!"}},null,"GIIR6X034","ROBINET SR DROIT 20X27 R6TG R6X034"]
["FRIF3AA40747",null,"CABL.GENERAL HV   00.06->08.06",null,null,{"$f":"LEFT(Catalogue[[#This Row],[Référence]],3)","v":"FRI"},{"$f":"VLOOKUP(Catalogue[[#This Row],[Alias]],#REF!,2,FALSE)","v":{"$error":"#REF!"}},null,"GRO13072000","BEC COL DE CYGNE CHROME 145MM P/MELANGEUR"]
["FRIF3AA40839",null,"ELECTRODE AL+ION CD20 05->",null,null,{"$f":"LEFT(Catalogue[[#This Row],[Référence]],3)","v":"FRI"},{"$f":"VLOOKUP(Catalogue[[#This Row],[Alias]],#REF!,2,FALSE)","v":{"$error":"#REF!"}},null,"GRO32926002","MITIGEUR LAVABO EUROSMART TAILLE S 5L CH3 ES"]
["FRIF3AA40898",null,"KIT B23P POUR CD25/32",null,null,{"$f":"LEFT(Catalogue[[#This Row],[Référence]],3)","v":"FRI"},{"$f":"VLOOKUP(Catalogue[[#This Row],[Alias]],#REF!,2,FALSE)","v":{"$error":"#REF!"}},null,"GRO46007000","BOUTON INVERSEUR EUROMIX    GROHE F. 46007000"]
["FRIF3AA40936",null,"BRULEUR CPLT CD/EVO32-45 07->",null,null,{"$f":"LEFT(Catalogue[[#This Row],[Référence]],3)","v":"FRI"},{"$f":"VLOOKUP(Catalogue[[#This Row],[Alias]],#REF!,2,FALSE)","v":{"$error":"#REF!"}},null,"GRU529924","UNION CIRCULATEUR GRUNDFOS CHAUFFAGE 2P FM 40X49 - 33X42"]
["FRIF3AA40945",null,"JOINT COUVERCLE FUMEE CD25/32",null,null,{"$f":"LEFT(Catalogue[[#This Row],[Référence]],3)","v":"FRI"},{"$f":"VLOOKUP(Catalogue[[#This Row],[Alias]],#REF!,2,FALSE)","v":{"$error":"#REF!"}},null,"GRU95047561","CIRC ALPHA2L 25-40 130 95047561"]
["FRIF3AA41014",null,"MOTOVENT.EVO25    08.07->18.52",null,null,{"$f":"LEFT(Catalogue[[#This Row],[Référence]],3)","v":"FRI"},{"$f":"VLOOKUP(Catalogue[[#This Row],[Alias]],#REF!,2,FALSE)","v":{"$error":"#REF!"}},null,"GRU97691270","CIRC MAGNA 32-80 MONO      97691270"]
["FRIF3AA41053S","Non concerné",{"$error":"#N/A"},220,2000007352537,{"$f":"LEFT(Catalogue[[#This Row],[Référence]],3)","v":"FRI"},{"$f":"VLOOKUP(Catalogue[[#This Row],[Alias]],#REF!,2,FALSE)","v":{"$error":"#REF!"}},null,"GRU97993192","CIRCULATEUR GRUNDFOS CHAUF INDIVIDUEL PREMIUM ALPHA2 CIC 15-40 MONO 130 S/RACC"]
["FRIF3AA41181",null,"SILENCIEUX AIR CPT CD20 10.35-",null,null,{"$f":"LEFT(Catalogue[[#This Row],[Référence]],3)","v":"FRI"},{"$f":"VLOOKUP(Catalogue[[#This Row],[Alias]],#REF!,2,FALSE)","v":{"$error":"#REF!"}},null,"GRU99160583","ALPHA1 L 25-60  130  1X230 50HZ 6H"]
["FRIF3AA41202",null,"CHICANES CDC H+B CD20 05->",null,null,{"$f":"LEFT(Catalogue[[#This Row],[Référence]],3)","v":"FRI"},{"$f":"VLOOKUP(Catalogue[[#This Row],[Alias]],#REF!,2,FALSE)","v":{"$error":"#REF!"}},null,"GRU99221213","MAGNA1 25-80 180 1X230V PN10"]
["FRIF3AA41280",null,"CABL.GENERAL CD45 VISIO 11->17",null,null,{"$f":"LEFT(Catalogue[[#This Row],[Référence]],3)","v":"FRI"},{"$f":"VLOOKUP(Catalogue[[#This Row],[Alias]],#REF!,2,FALSE)","v":{"$error":"#REF!"}},null,"GRU99411150","ALPHA2 25-60 130 1X230V 50HZ 6H"]
["FRIF3AA41432",null,"CIRCULATEUR EQU 1 5 HR CON SS",null,null,{"$f":"LEFT(Catalogue[[#This Row],[Référence]],3)","v":"FRI"},{"$f":"VLOOKUP(Catalogue[[#This Row],[Alias]],#REF!,2,FALSE)","v":{"$error":"#REF!"}},null,"GRUGF2776","KIT B1 BRIDES OVALES 40X49   GF2776"]
["FRIF3AA41466",null,"BRULEUR CPT TRAVI 15.40->",null,null,{"$f":"LEFT(Catalogue[[#This Row],[Référence]],3)","v":"FRI"},{"$f":"VLOOKUP(Catalogue[[#This Row],[Alias]],#REF!,2,FALSE)","v":{"$error":"#REF!"}},null,"GUI070308","ELECTRODE IONISATION DIA. 11X130"]
["FRIF3AA41533",null,"CABL.GENERAL CD25 VISIO 17->",null,null,{"$f":"LEFT(Catalogue[[#This Row],[Référence]],3)","v":"FRI"},{"$f":"VLOOKUP(Catalogue[[#This Row],[Alias]],#REF!,2,FALSE)","v":{"$error":"#REF!"}},null,"GUI165615","SONDE O2 COMPLETE (AVEC DOIGT DE GANT)"]
["FRIF3AA41610",null,"CORPS BRUL TRAV16.04>EVO25 19>",null,null,{"$f":"LEFT(Catalogue[[#This Row],[Référence]],3)","v":"FRI"},{"$f":"VLOOKUP(Catalogue[[#This Row],[Alias]],#REF!,2,FALSE)","v":{"$error":"#REF!"}},null,"HAM104010217","RDP MEMB PRONORM FF 20/27 AVEC MANO"]
["FRIF7AD30100",null,"TEAMAO 4 SWELL 10 KW",null,null,{"$f":"LEFT(Catalogue[[#This Row],[Référence]],3)","v":"FRI"},{"$f":"VLOOKUP(Catalogue[[#This Row],[Alias]],#REF!,2,FALSE)","v":{"$error":"#REF!"}},null,"HAM12918","MIT LAVABO BEC HAUT ACCESS O"]
["GBR140.027.11.1",null,"RESERVOIR  GEBERIT     10L",null,null,{"$f":"LEFT(Catalogue[[#This Row],[Référence]],3)","v":"GBR"},{"$f":"VLOOKUP(Catalogue[[#This Row],[Alias]],#REF!,2,FALSE)","v":{"$error":"#REF!"}},null,"HAM14191-15","REDUCTEUR PRESSION F/F PRONORM 15/21"]
["GBR281.214.00.1",null,"ROBINET FLOTTEUR WC GEBERIT ALIMENTATION BASSE",null,null,{"$f":"LEFT(Catalogue[[#This Row],[Référence]],3)","v":"GBR"},{"$f":"VLOOKUP(Catalogue[[#This Row],[Alias]],#REF!,2,FALSE)","v":{"$error":"#REF!"}},null,"HAM1901-15","BLOC SOUPAPE MANO 1/2"]
["GEMC50.36565",null,"C5036565 MOTEUR VAN SELECTIVE 230V",null,null,{"$f":"LEFT(Catalogue[[#This Row],[Référence]],3)","v":"GEM"},{"$f":"VLOOKUP(Catalogue[[#This Row],[Alias]],#REF!,2,FALSE)","v":{"$error":"#REF!"}},null,"HAM205234","CARTOUCHE POLYPHOSPHATE 12 MOIS 700 G"]
["GEML10.26616",null,"COFFRET SECURITE CHEM.      GEMINOX L10.26616",null,null,{"$f":"LEFT(Catalogue[[#This Row],[Référence]],3)","v":"GEM"},{"$f":"VLOOKUP(Catalogue[[#This Row],[Alias]],#REF!,2,FALSE)","v":{"$error":"#REF!"}},null,"HAM2472-15H","ROB THERM EQ 1/2 RH JOINT COMPR"]
["GEML80.07583",null,"MITIGEUR THER. CALOSAT              L80.07583",null,null,{"$f":"LEFT(Catalogue[[#This Row],[Référence]],3)","v":"GEM"},{"$f":"VLOOKUP(Catalogue[[#This Row],[Alias]],#REF!,2,FALSE)","v":{"$error":"#REF!"}},null,"HAM2798-82","BEC UNIVERSEL CROSSE 200-15/21"]
["GEMV07.35479",null,"VASE EXPANSION 18L            -KIT- V07.35479",null,null,{"$f":"LEFT(Catalogue[[#This Row],[Référence]],3)","v":"GEM"},{"$f":"VLOOKUP(Catalogue[[#This Row],[Alias]],#REF!,2,FALSE)","v":{"$error":"#REF!"}},null,"HAM378-25","TETE UNIV. JACOB DEL   21/150"]
["GIAN1UY012",null,"FILTRE FUEL BITUBE MF3/8",null,null,{"$f":"LEFT(Catalogue[[#This Row],[Référence]],3)","v":"GIA"},{"$f":"VLOOKUP(Catalogue[[#This Row],[Alias]],#REF!,2,FALSE)","v":{"$error":"#REF!"}},null,"HAM3868-1","MELANGEUR LAVABO BEC TUBE TETE CERAMIQUE"]
["GIIR146CKX004",null,"KIT FILTRE MAGNETIQUE DE BOUE 3/4 M",null,null,{"$f":"LEFT(Catalogue[[#This Row],[Référence]],3)","v":"GII"},{"$f":"VLOOKUP(Catalogue[[#This Row],[Alias]],#REF!,2,FALSE)","v":{"$error":"#REF!"}},null,"HAM4405","RESERVOIR DE CHASSE ECO RH MODELE HAUT"]
["GIIR384X011",null,"ROBINET ENS.EQ.   MONO-BITUBE 1/2X18 R384X011",null,null,{"$f":"LEFT(Catalogue[[#This Row],[Référence]],3)","v":"GII"},{"$f":"VLOOKUP(Catalogue[[#This Row],[Alias]],#REF!,2,FALSE)","v":{"$error":"#REF!"}},null,"HAM501011107","MIT LAVABO NORM'O C2"]
["GIIR415LX033",null,"ROB THERM 1/2 EQ INV      R415LX033",null,null,{"$f":"LEFT(Catalogue[[#This Row],[Référence]],3)","v":"GII"},{"$f":"VLOOKUP(Catalogue[[#This Row],[Alias]],#REF!,2,FALSE)","v":{"$error":"#REF!"}},null,"HAM501011206","MIT B/D MONO PRIM O"]
["GIIR435X053",null,"ROB. EQUERRE R435TG 1/2",null,null,{"$f":"LEFT(Catalogue[[#This Row],[Référence]],3)","v":"GII"},{"$f":"VLOOKUP(Catalogue[[#This Row],[Alias]],#REF!,2,FALSE)","v":{"$error":"#REF!"}},null,"HAM501016504","MITIGEUR THERM. BAIN DOUCHE C2"]
["GIIR553FY006",null,"COLLECTEUR R553F 6 DEPARTS 1 X18_CR806_385910",null,null,{"$f":"LEFT(Catalogue[[#This Row],[Référence]],3)","v":"GII"},{"$f":"VLOOKUP(Catalogue[[#This Row],[Alias]],#REF!,2,FALSE)","v":{"$error":"#REF!"}},null,"HAM5411","Thermostatique de B/D therm KUBICK"]
["GRO13937000",null,"MOUSSEUR LAVABO     M16,5X1 GROHE F. 13937000",null,null,{"$f":"LEFT(Catalogue[[#This Row],[Référence]],3)","v":"GRO"},{"$f":"VLOOKUP(Catalogue[[#This Row],[Alias]],#REF!,2,FALSE)","v":{"$error":"#REF!"}},null,"HAM601013302","KIT GDS TRIPLE SECURITE INOX 3/4"]
["GRO28409001",null,"FLEXIBLE ROTAFLEX 1500MM   28409001",null,null,{"$f":"LEFT(Catalogue[[#This Row],[Référence]],3)","v":"GRO"},{"$f":"VLOOKUP(Catalogue[[#This Row],[Alias]],#REF!,2,FALSE)","v":{"$error":"#REF!"}},null,"HAM662-26","ROB GAZ D/MALE A/PATTES1P"]
["GRO37093000",null,"ROBINET FLOT.ALIMENT.BASSE GROHEDAL  37093000",null,null,{"$f":"LEFT(Catalogue[[#This Row],[Référence]],3)","v":"GRO"},{"$f":"VLOOKUP(Catalogue[[#This Row],[Alias]],#REF!,2,FALSE)","v":{"$error":"#REF!"}},null,"HAM7450-15","ROB. THERM  EQ.  F15/21+ TETE  4611"]
["GRO7146000",null,"07146000 TÊTE CLAP 1/2",null,null,{"$f":"LEFT(Catalogue[[#This Row],[Référence]],3)","v":"GRO"},{"$f":"VLOOKUP(Catalogue[[#This Row],[Alias]],#REF!,2,FALSE)","v":{"$error":"#REF!"}},null,"HAM814-40","MANCHON DILATATION MP  40"]
["GRU59640506",null,"CIRCULATEUR GRUNDFOS ECS UP 20-07N MONO 150MM S/RACC",null,null,{"$f":"LEFT(Catalogue[[#This Row],[Référence]],3)","v":"GRU"},{"$f":"VLOOKUP(Catalogue[[#This Row],[Alias]],#REF!,2,FALSE)","v":{"$error":"#REF!"}},null,"HAM91096","MITIGEUR LAVABO SS VIDAGE/TIRET PRIMA O"]
["GRU95906489",null,"UPS32-100 N 180 1X230V 50HZ 9H",null,null,{"$f":"LEFT(Catalogue[[#This Row],[Référence]],3)","v":"GRU"},{"$f":"VLOOKUP(Catalogue[[#This Row],[Alias]],#REF!,2,FALSE)","v":{"$error":"#REF!"}},null,"HAMCC5-120","CIRCULATEUR A BRIDES (NU) UPS 21-50/120"]
["GRU98243667",null,"CIRCULATEUR GRUNDFOS CHAUF.SIMPLE UPS2 15-40/50/60 ENTRAXE 130MM",null,null,{"$f":"LEFT(Catalogue[[#This Row],[Référence]],3)","v":"GRU"},{"$f":"VLOOKUP(Catalogue[[#This Row],[Alias]],#REF!,2,FALSE)","v":{"$error":"#REF!"}},null,"HITATI0972B952","FAN MOTOR RRMB3725 UPPER 25W"]
["GRU98562862",null,"SCALA2 3-45 AKCCDE 1X200-240V 50/60HZ",null,null,{"$f":"LEFT(Catalogue[[#This Row],[Référence]],3)","v":"GRU"},{"$f":"VLOOKUP(Catalogue[[#This Row],[Alias]],#REF!,2,FALSE)","v":{"$error":"#REF!"}},null,"HITDHWT-200S-3.0H2E","BALLON ECS 200 L YUTAKI S 80"]
["GRU99165123",null,"ALPHA1 L 15-65 130 1X230 50HZ 6H",null,null,{"$f":"LEFT(Catalogue[[#This Row],[Référence]],3)","v":"GRU"},{"$f":"VLOOKUP(Catalogue[[#This Row],[Alias]],#REF!,2,FALSE)","v":{"$error":"#REF!"}},null,"HITE05444","MIXING VALVE ASSY"]
["GRU99221303",null,"MAGNA1 40-80 F 220 1X230V PN6/10",null,null,{"$f":"LEFT(Catalogue[[#This Row],[Référence]],3)","v":"GRU"},{"$f":"VLOOKUP(Catalogue[[#This Row],[Alias]],#REF!,2,FALSE)","v":{"$error":"#REF!"}},null,"HITHWRAC50WEDA10","FAN MOTOR"]
["GRU99411165",null,"ALPHA2 25-40 180 1X230V 50HZ 6H",null,null,{"$f":"LEFT(Catalogue[[#This Row],[Référence]],3)","v":"GRU"},{"$f":"VLOOKUP(Catalogue[[#This Row],[Alias]],#REF!,2,FALSE)","v":{"$error":"#REF!"}},null,"HITHWRAS25WX8A16","DRAIN PAN ASSEMBLY (W)"]
["GRUGF2776",null,"KIT B1 BRIDES OVALES 40X49   GF2776",null,null,{"$f":"LEFT(Catalogue[[#This Row],[Référence]],3)","v":"GRU"},{"$f":"VLOOKUP(Catalogue[[#This Row],[Alias]],#REF!,2,FALSE)","v":{"$error":"#REF!"}},null,"HITPMRAC70YHAS18","NOISE FILTER BOARD"]
["GUI511968",null,"MCBA 1496D HR6H 5.12",null,null,{"$f":"LEFT(Catalogue[[#This Row],[Référence]],3)","v":"GUI"},{"$f":"VLOOKUP(Catalogue[[#This Row],[Alias]],#REF!,2,FALSE)","v":{"$error":"#REF!"}},null,"HITPMRAS25YH4S22","PWB IR RECEIVER (12PIN)(ROHS)"]
["HAM105437",null,"BOITE DE 6 DOSES POUR AQUACAL CLICK BP E",null,null,{"$f":"LEFT(Catalogue[[#This Row],[Référence]],3)","v":"HAM"},{"$f":"VLOOKUP(Catalogue[[#This Row],[Alias]],#REF!,2,FALSE)","v":{"$error":"#REF!"}},null,"HITRAC-DJ25PHAE","GE-MURAL AIRHOME 400-2.5KW-R32-230V"]
["HAM1095H",null,"Mitigeur BD monotrou PRIMEA",null,null,{"$f":"LEFT(Catalogue[[#This Row],[Référence]],3)","v":"HAM"},{"$f":"VLOOKUP(Catalogue[[#This Row],[Alias]],#REF!,2,FALSE)","v":{"$error":"#REF!"}},null,"HITRAF25RXBW27","FRONT COVER ASSY (W)"]
["HAM12930",null,"MIT EVIER MURAL ACCESS O",null,null,{"$f":"LEFT(Catalogue[[#This Row],[Référence]],3)","v":"HAM"},{"$f":"VLOOKUP(Catalogue[[#This Row],[Alias]],#REF!,2,FALSE)","v":{"$error":"#REF!"}},null,"HITRAM80QH5953","FAN MOTOR RRMB3928 50W (ROHS)*"]
["HAM1461",null,"MITIGEUR 55-155MM",null,null,{"$f":"LEFT(Catalogue[[#This Row],[Référence]],3)","v":"HAM"},{"$f":"VLOOKUP(Catalogue[[#This Row],[Alias]],#REF!,2,FALSE)","v":{"$error":"#REF!"}},null,"HITRASM-6NE","GE-YUTAKI-M-16KW-R410A-400V"]
["HAM1956",null,"POMPE A MAZOUT (7538)",null,null,{"$f":"LEFT(Catalogue[[#This Row],[Référence]],3)","v":"HAM"},{"$f":"VLOOKUP(Catalogue[[#This Row],[Alias]],#REF!,2,FALSE)","v":{"$error":"#REF!"}},null,"HITRWM-3.0NRE","UI R32 YutakiS 7,5kW 230/1"]
["HAM2508-20",null,"CIRCULATEUR SANITAIRE UP20-30N RU 3/4",null,null,{"$f":"LEFT(Catalogue[[#This Row],[Référence]],3)","v":"HAM"},{"$f":"VLOOKUP(Catalogue[[#This Row],[Alias]],#REF!,2,FALSE)","v":{"$error":"#REF!"}},null,"HON02602U","TFI 812.10"]
["HAM2703-3",null,"MELANGEUR B/D NF PRIMO 1000 TETE CLASSIQ",null,null,{"$f":"LEFT(Catalogue[[#This Row],[Référence]],3)","v":"HAM"},{"$f":"VLOOKUP(Catalogue[[#This Row],[Alias]],#REF!,2,FALSE)","v":{"$error":"#REF!"}},null,"HON2102B0511","DETECTEUR DE MONOXYDE DE CARBONE 230VAC AVEC RELAIS"]
["HAM3018",null,"Barre de douche diam. 18mm",null,null,{"$f":"LEFT(Catalogue[[#This Row],[Référence]],3)","v":"HAM"},{"$f":"VLOOKUP(Catalogue[[#This Row],[Alias]],#REF!,2,FALSE)","v":{"$error":"#REF!"}},null,"HONATP921R3100","PACK EVOHOME WIFI"]
["HAM3805-1",null,"MELANGEUR MURAL BAIN-DOUCHE TETE CLASSIQ",null,null,{"$f":"LEFT(Catalogue[[#This Row],[Référence]],3)","v":"HAM"},{"$f":"VLOOKUP(Catalogue[[#This Row],[Alias]],#REF!,2,FALSE)","v":{"$error":"#REF!"}},null,"HOND05F-3/4EF","REGULATEUR DE PRESSION 3/4"]
["HAM3864",null,"ROBINET LAVE-MAIN SENSO 2001",null,null,{"$f":"LEFT(Catalogue[[#This Row],[Référence]],3)","v":"HAM"},{"$f":"VLOOKUP(Catalogue[[#This Row],[Alias]],#REF!,2,FALSE)","v":{"$error":"#REF!"}},null,"HONEA122-AA","PURGEUR AUTOMATIQUE 1/8 + 3/8"]
["HAM44300",null,"DETEND-DECLENC. PROP. 1.3KG/H CLASSE1 NF",null,null,{"$f":"LEFT(Catalogue[[#This Row],[Référence]],3)","v":"HAM"},{"$f":"VLOOKUP(Catalogue[[#This Row],[Alias]],#REF!,2,FALSE)","v":{"$error":"#REF!"}},null,"HONMT4-230-NC","MOTEUR THERMIQUE 230VAC. 4MM. NF"]
["HAM501011606",null,"MITIGEUR DOUCHE NAM O C2",null,null,{"$f":"LEFT(Catalogue[[#This Row],[Référence]],3)","v":"HAM"},{"$f":"VLOOKUP(Catalogue[[#This Row],[Alias]],#REF!,2,FALSE)","v":{"$error":"#REF!"}},null,"HONT3H110A0050","T3. THERMOSTAT PROGRAMMABLE FILAIRE"]
["HAM501511503",null,"PIPE COURTE PVC",null,null,{"$f":"LEFT(Catalogue[[#This Row],[Référence]],3)","v":"HAM"},{"$f":"VLOOKUP(Catalogue[[#This Row],[Alias]],#REF!,2,FALSE)","v":{"$error":"#REF!"}},null,"HONV2000ASX10","CORPS ROBINET THERMOSTATIQUE EQUERRE INVERSE 3/8"]
["HAM5306-200",null,"INV COMPLET PIEL AZUR D - CERAZUR",null,null,{"$f":"LEFT(Catalogue[[#This Row],[Référence]],3)","v":"HAM"},{"$f":"VLOOKUP(Catalogue[[#This Row],[Alias]],#REF!,2,FALSE)","v":{"$error":"#REF!"}},null,"HONV320DSLGB10","CORPS THERMOSTATIQUE DROIT TAR"]
["HAM5614",null,"MECANISME DE CHASSE HYDRA FC 18/06/2018",null,null,{"$f":"LEFT(Catalogue[[#This Row],[Référence]],3)","v":"HAM"},{"$f":"VLOOKUP(Catalogue[[#This Row],[Alias]],#REF!,2,FALSE)","v":{"$error":"#REF!"}},null,"HONV4600N2030U","V 4600 N 2030"]
["HAM601013201",null,"GDS TRIPLE SECURITE TEFLON 3/4",null,null,{"$f":"LEFT(Catalogue[[#This Row],[Référence]],3)","v":"HAM"},{"$f":"VLOOKUP(Catalogue[[#This Row],[Alias]],#REF!,2,FALSE)","v":{"$error":"#REF!"}},null,"HONVK4100C1042U","BLOC VK 4100 C 1042"]
["HAM70121-15",null,"CORPS DROIT RH 15/21",null,null,{"$f":"LEFT(Catalogue[[#This Row],[Référence]],3)","v":"HAM"},{"$f":"VLOOKUP(Catalogue[[#This Row],[Alias]],#REF!,2,FALSE)","v":{"$error":"#REF!"}},null,"HONVTL3030ES10","KIT POUR EQUIPEMENT DE RADIATEUR (3/8  EQUERRE)"]
["HAM81-20-20",null,"ROB AVANT COMPTEUR     3/4",null,null,{"$f":"LEFT(Catalogue[[#This Row],[Référence]],3)","v":"HAM"},{"$f":"VLOOKUP(Catalogue[[#This Row],[Alias]],#REF!,2,FALSE)","v":{"$error":"#REF!"}},null,"ISTD2490AA","MITIGEUR LAVABO OLYOS II C2"]
["HAM9180",null,"CIRCULATEUR SOMATHERM AUTO 25-60/180",null,null,{"$f":"LEFT(Catalogue[[#This Row],[Référence]],3)","v":"HAM"},{"$f":"VLOOKUP(Catalogue[[#This Row],[Alias]],#REF!,2,FALSE)","v":{"$error":"#REF!"}},null,"ISTH8549NU","MIT.TH.COLLECT.ERAM H8549NU  63LM 20/27_SR531_441016"]
["HAM9601-50",null,"VBS NF P. ETOUPE MM 50/60",null,null,{"$f":"LEFT(Catalogue[[#This Row],[Référence]],3)","v":"HAM"},{"$f":"VLOOKUP(Catalogue[[#This Row],[Alias]],#REF!,2,FALSE)","v":{"$error":"#REF!"}},null,"JDEE1286-00","LAV BRIVE 60X48 BLC           E1286"]
["HGR31815000",null,"MITIGEUR EVIER FOCUS BEC HAUT MOBILE AVEC DOUCHETTE EXTRACTIBLE 2 JETS CHROME (31 815 000)",null,null,{"$f":"LEFT(Catalogue[[#This Row],[Référence]],3)","v":"HGR"},{"$f":"VLOOKUP(Catalogue[[#This Row],[Alias]],#REF!,2,FALSE)","v":{"$error":"#REF!"}},null,"JOA204155","SUP+DEFL+ELECT AZ3 PR"]
["HITATW-2TK-02",null,"COLLECTEUR DECOUPLAGE 2 ZONES",null,null,{"$f":"LEFT(Catalogue[[#This Row],[Référence]],3)","v":"HIT"},{"$f":"VLOOKUP(Catalogue[[#This Row],[Alias]],#REF!,2,FALSE)","v":{"$error":"#REF!"}},null,"JUNCR 630 302","BLOC CR 630.302"]
["HITDHWS200S-2.7H2E",null,"BALLON ECS YUTAKI S80 200L",null,null,{"$f":"LEFT(Catalogue[[#This Row],[Référence]],3)","v":"HIT"},{"$f":"VLOOKUP(Catalogue[[#This Row],[Alias]],#REF!,2,FALSE)","v":{"$error":"#REF!"}},null,"LGE4681A20172Q","MOTOR ASSEMBLY DC INDOOR"]
["HITHWRAC35WPBA13",null,"SOUND PROOF COVER ASS Y",null,null,{"$f":"LEFT(Catalogue[[#This Row],[Référence]],3)","v":"HIT"},{"$f":"VLOOKUP(Catalogue[[#This Row],[Alias]],#REF!,2,FALSE)","v":{"$error":"#REF!"}},null,"LGEMU3R19.U22","R32 UE MULTI-SPLIT 3 SORTIES MONOPHASE PF 5.3 KW / PC 6.3 KW A+++ / A+"]
["HITP30843",null,"CARTE ISPM",null,null,{"$f":"LEFT(Catalogue[[#This Row],[Référence]],3)","v":"HIT"},{"$f":"VLOOKUP(Catalogue[[#This Row],[Alias]],#REF!,2,FALSE)","v":{"$error":"#REF!"}},null,"LOR61120002","MITIGEUR LAVABO WALLIS-REMPLACEE PAR LA REF LOR61121000"]
["HITPMRAK18NH6005",null,"FILTER AIR LEFT",null,null,{"$f":"LEFT(Catalogue[[#This Row],[Référence]],3)","v":"HIT"},{"$f":"VLOOKUP(Catalogue[[#This Row],[Alias]],#REF!,2,FALSE)","v":{"$error":"#REF!"}},null,"MASCJTY6-4","Combinaison jet. prot. chim. TYVEK CLASSIC+ CHA6a + chaussettes - Taille 1 = XL"]
["HITPMRAM70NP4BS02",null,"P.W.B. (INVERTER)",null,null,{"$f":"LEFT(Catalogue[[#This Row],[Référence]],3)","v":"HIT"},{"$f":"VLOOKUP(Catalogue[[#This Row],[Alias]],#REF!,2,FALSE)","v":{"$error":"#REF!"}},null,"MITMUZ-AP50VG-E1","UNITE EXTERIEURE MONOSPLIT R32"]
["HITPMRAS25YH4908",null,"P-BEARING ASSY",null,null,{"$f":"LEFT(Catalogue[[#This Row],[Référence]],3)","v":"HIT"},{"$f":"VLOOKUP(Catalogue[[#This Row],[Alias]],#REF!,2,FALSE)","v":{"$error":"#REF!"}},null,"MITPCA505A323JF","PWB ASSY"]
["HITRAC-DJ50PHAE",null,"GE-MURAL AIRHOME 400-5.0KW-R32-230V",null,null,{"$f":"LEFT(Catalogue[[#This Row],[Référence]],3)","v":"HIT"},{"$f":"VLOOKUP(Catalogue[[#This Row],[Alias]],#REF!,2,FALSE)","v":{"$error":"#REF!"}},null,"MITT7WE97315","CONTROLLER CIRCUIT BOARD"]
["HITRAK-25RPE",null,"UI-MOKAI-MURAL-+-TELECOMMANDE-IR-2.5KW-R32-230V",null,null,{"$f":"LEFT(Catalogue[[#This Row],[Référence]],3)","v":"HIT"},{"$f":"VLOOKUP(Catalogue[[#This Row],[Alias]],#REF!,2,FALSE)","v":{"$error":"#REF!"}},null,"MTS12039772","KIT RACCORD  / TUBE SOUS VIDE EDF"]
["HITRASM-7R1E",null,"GE-YUTAKI-M-16KW-R32-400V",null,null,{"$f":"LEFT(Catalogue[[#This Row],[Référence]],3)","v":"HIT"},{"$f":"VLOOKUP(Catalogue[[#This Row],[Alias]],#REF!,2,FALSE)","v":{"$error":"#REF!"}},null,"MTS243005","INTERRUPTEUR THERMOCOUPLE"]
["HITRWM-2.0R1E",null,"UI-YUTAKI-S-2.0-+-TELECOMMANDE-4.3KW-R32-230V",null,null,{"$f":"LEFT(Catalogue[[#This Row],[Référence]],3)","v":"HIT"},{"$f":"VLOOKUP(Catalogue[[#This Row],[Alias]],#REF!,2,FALSE)","v":{"$error":"#REF!"}},null,"MTS290642","BRULEUR PRINCIPAL"]
["HITXRASM-5NE",null,"YUTAKI M5 INVERTER 400V SANS APPOINT ELECTRIQUE (composé de HITRASM-5NE - YutakiM R410A 14kW 400/3 ss control + HITPC-ARFHE - CONTROLEUR -TELECOMMANDE FILAIRE YUTAKI)",null,null,{"$f":"LEFT(Catalogue[[#This Row],[Référence]],3)","v":"HIT"},{"$f":"VLOOKUP(Catalogue[[#This Row],[Alias]],#REF!,2,FALSE)","v":{"$error":"#REF!"}},null,"MTS335009","RESISTANCE STEATITE 2000W 230V D.38"]
["HON0432010U",null,"DKG 972",null,null,{"$f":"LEFT(Catalogue[[#This Row],[Référence]],3)","v":"HON"},{"$f":"VLOOKUP(Catalogue[[#This Row],[Alias]],#REF!,2,FALSE)","v":{"$error":"#REF!"}},null,"MTS340015","VANNE GAZ NAT 03/2016"]
["HON1506-15",null,"REDUCTEUR DE PRESSION A JAUGE RH 3/4",null,null,{"$f":"LEFT(Catalogue[[#This Row],[Référence]],3)","v":"HON"},{"$f":"VLOOKUP(Catalogue[[#This Row],[Alias]],#REF!,2,FALSE)","v":{"$error":"#REF!"}},null,"MTS340358","THERMOSTAT DE SECURITE 97DEG"]
["HONATP921G1034",null,"Kit evohome avec socle mobile",null,null,{"$f":"LEFT(Catalogue[[#This Row],[Référence]],3)","v":"HON"},{"$f":"VLOOKUP(Catalogue[[#This Row],[Alias]],#REF!,2,FALSE)","v":{"$error":"#REF!"}},null,"MTS343477","JOINT BRULEUR"]
["HOND05F-1/2",null,"REDUCTEUR D05F 1/2 EF",null,null,{"$f":"LEFT(Catalogue[[#This Row],[Référence]],3)","v":"HON"},{"$f":"VLOOKUP(Catalogue[[#This Row],[Alias]],#REF!,2,FALSE)","v":{"$error":"#REF!"}},null,"MTS397381","ANODE D:22 L:1000+BOUCHON"]
["HONM6063L1009",null,"MOTEUR 230 VAC - 3 POINTS POUR VANNE V5433/V5442",null,null,{"$f":"LEFT(Catalogue[[#This Row],[Référence]],3)","v":"HON"},{"$f":"VLOOKUP(Catalogue[[#This Row],[Alias]],#REF!,2,FALSE)","v":{"$error":"#REF!"}},null,"MTS569560","ELECTRODE ALLUMAGE DROITE"]
["HONS4565C1025V01U",null,"S4565C 1025 BOITE HONEYWELL",null,null,{"$f":"LEFT(Catalogue[[#This Row],[Référence]],3)","v":"HON"},{"$f":"VLOOKUP(Catalogue[[#This Row],[Alias]],#REF!,2,FALSE)","v":{"$error":"#REF!"}},null,"MTS571639","PURGEUR AUTOMATIQUE 3/8"]
["HONT4H110A1023",null,"THERMOSTAT FILAIRE PROGRAMMABLE T4",null,null,{"$f":"LEFT(Catalogue[[#This Row],[Référence]],3)","v":"HON"},{"$f":"VLOOKUP(Catalogue[[#This Row],[Alias]],#REF!,2,FALSE)","v":{"$error":"#REF!"}},null,"MTS572242","DISCONNECTEUR"]
["HONV2000AFS15",null,"ROBINET THERMOSTATIQUE EQUERRE",null,null,{"$f":"LEFT(Catalogue[[#This Row],[Référence]],3)","v":"HON"},{"$f":"VLOOKUP(Catalogue[[#This Row],[Alias]],#REF!,2,FALSE)","v":{"$error":"#REF!"}},null,"MTS573015","SONDE DE REGULATION DU BALLON"]
["HONV4600C 1185U",null,"V 4600 C 1185 B 220V 34",null,null,{"$f":"LEFT(Catalogue[[#This Row],[Référence]],3)","v":"HON"},{"$f":"VLOOKUP(Catalogue[[#This Row],[Alias]],#REF!,2,FALSE)","v":{"$error":"#REF!"}},null,"MTS573344","PANNEAU AVANT CHAMBRE ETANCHE"]
["HONV4700C 4030U",null,"V 4700 C 4030 B 220V  A BRIDE",null,null,{"$f":"LEFT(Catalogue[[#This Row],[Référence]],3)","v":"HON"},{"$f":"VLOOKUP(Catalogue[[#This Row],[Alias]],#REF!,2,FALSE)","v":{"$error":"#REF!"}},null,"MTS573449","GROUPE HYDRAULIQUE (REF OBSOLETE INFO FOURNISSEUR LE 17.04.2013)FC 03/2016"]
["HONY3H710RF0067",null,"T3R. THERMOSTAT PROGRAMMABLE SANS FIL",null,null,{"$f":"LEFT(Catalogue[[#This Row],[Référence]],3)","v":"HON"},{"$f":"VLOOKUP(Catalogue[[#This Row],[Alias]],#REF!,2,FALSE)","v":{"$error":"#REF!"}},null,"MTS60000073","RACCORD G 2"]
["ISTB964575NU",null,"SET JOINTS",null,null,{"$f":"LEFT(Catalogue[[#This Row],[Référence]],3)","v":"IST"},{"$f":"VLOOKUP(Catalogue[[#This Row],[Alias]],#REF!,2,FALSE)","v":{"$error":"#REF!"}},null,"MTS60000183","FAISCEAU DE CABLES"]
["ISTD2503AA",null,"MITIGEUR B/D OLYOS II MONOTROU",null,null,{"$f":"LEFT(Catalogue[[#This Row],[Référence]],3)","v":"IST"},{"$f":"VLOOKUP(Catalogue[[#This Row],[Alias]],#REF!,2,FALSE)","v":{"$error":"#REF!"}},null,"MTS60000246","FAISCEAU DE CABLES"]
["ISTH8549NU",null,"MIT.TH.COLLECT.ERAM H8549NU  63LM 20/27_SR531_441016",null,null,{"$f":"LEFT(Catalogue[[#This Row],[Référence]],3)","v":"IST"},{"$f":"VLOOKUP(Catalogue[[#This Row],[Alias]],#REF!,2,FALSE)","v":{"$error":"#REF!"}},null,"MTS60000275","EQT TRANSF NAT > BUT/PROP"]
["JDEE62486-F-00",null,"REC FLIGHT 1400X700 AD  E62486-F-00",null,null,{"$f":"LEFT(Catalogue[[#This Row],[Référence]],3)","v":"JDE"},{"$f":"VLOOKUP(Catalogue[[#This Row],[Alias]],#REF!,2,FALSE)","v":{"$error":"#REF!"}},null,"MTS60000293S","ECHANGEUR CONDENSATION 30 KW"]
["JOA203508+203509",null,"1 PAIRE ELECTRODES AZ4/20",null,null,{"$f":"LEFT(Catalogue[[#This Row],[Référence]],3)","v":"JOA"},{"$f":"VLOOKUP(Catalogue[[#This Row],[Alias]],#REF!,2,FALSE)","v":{"$error":"#REF!"}},null,"MTS60000316","JOINT A LEVRE"]
["JUN87481070700",null,"ELECTRODE",null,null,{"$f":"LEFT(Catalogue[[#This Row],[Référence]],3)","v":"JUN"},{"$f":"VLOOKUP(Catalogue[[#This Row],[Alias]],#REF!,2,FALSE)","v":{"$error":"#REF!"}},null,"MTS60000397","SONDE CAPTEUR"]
["LGEEBR50644601",null,"CARTE ELECTRONIQUE PCB MAIN",null,null,{"$f":"LEFT(Catalogue[[#This Row],[Référence]],3)","v":"LGE"},{"$f":"VLOOKUP(Catalogue[[#This Row],[Alias]],#REF!,2,FALSE)","v":{"$error":"#REF!"}},null,"MTS60000492","TUBE ENTREE DISCONNECTEUR"]
["LGEPC09SK.UA3",null,{"$f":"VLOOKUP(A25218,I:J,2,0)","v":"R32 UE MONO-SPLIT RESIDENTIEL STANDARD PLUS PF 2.5 KW / PC 3.3 KW A++ / A+"},null,null,{"$f":"LEFT(Catalogue[[#This Row],[Référence]],3)","v":"LGE"},{"$f":"VLOOKUP(Catalogue[[#This Row],[Alias]],#REF!,2,FALSE)","v":{"$error":"#REF!"}},null,"MTS60000526","DEGAZEUR"]
["LGEPREMTB100ENC",null,"TELECOMMANDE LG FILAIRE BLANCHE RS3",null,null,{"$f":"LEFT(Catalogue[[#This Row],[Référence]],3)","v":"LGE"},{"$f":"VLOOKUP(Catalogue[[#This Row],[Alias]],#REF!,2,FALSE)","v":{"$error":"#REF!"}},null,"MTS60000565","FAISCEAU DE CABLES"]
["MAB46252177",null,"EUROFLEX 3M 2m10         2410301 FC 01/09/2016",null,null,{"$f":"LEFT(Catalogue[[#This Row],[Référence]],3)","v":"MAB"},{"$f":"VLOOKUP(Catalogue[[#This Row],[Alias]],#REF!,2,FALSE)","v":{"$error":"#REF!"}},null,"MTS60000597","FAISCEAU DE CABLES"]
["MITMSZ-AP15VF",null,"SPLIT MURAL INVERTER",null,null,{"$f":"LEFT(Catalogue[[#This Row],[Référence]],3)","v":"MIT"},{"$f":"VLOOKUP(Catalogue[[#This Row],[Alias]],#REF!,2,FALSE)","v":{"$error":"#REF!"}},null,"MTS60000628S","CIRCUIT IMPRIME"]
["MITPAC-TH011-E",null,"ACCESSOIRE - ECODAN - SONDES DE TEMPERATURE ECODAN HYDROBOX (X2)",null,null,{"$f":"LEFT(Catalogue[[#This Row],[Référence]],3)","v":"MIT"},{"$f":"VLOOKUP(Catalogue[[#This Row],[Alias]],#REF!,2,FALSE)","v":{"$error":"#REF!"}},null,"MTS60000681","VIS DE FIXATION EMBASE M 8-14 (6 ST.)"]
["MITT97415767",null,"COMPRESSEUR",null,null,{"$f":"LEFT(Catalogue[[#This Row],[Référence]],3)","v":"MIT"},{"$f":"VLOOKUP(Catalogue[[#This Row],[Alias]],#REF!,2,FALSE)","v":{"$error":"#REF!"}},null,"MTS60000738","DIAPHRAGMES / AIR D:77 KIT"]
["MTS200253",null,"ELECTRODE ALLUMAGE",null,null,{"$f":"LEFT(Catalogue[[#This Row],[Référence]],3)","v":"MTS"},{"$f":"VLOOKUP(Catalogue[[#This Row],[Alias]],#REF!,2,FALSE)","v":{"$error":"#REF!"}},null,"MTS60000832","BALLON 15L"]
["MTS230261",null,"GROUPE VANNE MINISIT",null,null,{"$f":"LEFT(Catalogue[[#This Row],[Référence]],3)","v":"MTS"},{"$f":"VLOOKUP(Catalogue[[#This Row],[Alias]],#REF!,2,FALSE)","v":{"$error":"#REF!"}},null,"MTS60000857","TUBE RETOUR CHAUFFAGE"]
["MTS290595",null,"INJECTEUR BRULEUR",null,null,{"$f":"LEFT(Catalogue[[#This Row],[Référence]],3)","v":"MTS"},{"$f":"VLOOKUP(Catalogue[[#This Row],[Alias]],#REF!,2,FALSE)","v":{"$error":"#REF!"}},null,"MTS60000887","ROBINET DEPART CHAUFFAGE"]
["MTS3087285S","Non concerné","ECHANGEUR A PLAQUES CHAUFFERIE",1180,2000007346222,{"$f":"LEFT(Catalogue[[#This Row],[Référence]],3)","v":"MTS"},{"$f":"VLOOKUP(Catalogue[[#This Row],[Alias]],#REF!,2,FALSE)","v":{"$error":"#REF!"}},null,"MTS60000909","TUBE EAU FROIDE"]
["MTS338328",null,"GAINE DE THERMOSTAT L:150MM",null,null,{"$f":"LEFT(Catalogue[[#This Row],[Référence]],3)","v":"MTS"},{"$f":"VLOOKUP(Catalogue[[#This Row],[Alias]],#REF!,2,FALSE)","v":{"$error":"#REF!"}},null,"MTS60000954","THERMOSTAT A BULBES"]
["MTS340258",null,"SOUPAPE DE SECURITE 1  1/2 7 BARS",null,null,{"$f":"LEFT(Catalogue[[#This Row],[Référence]],3)","v":"MTS"},{"$f":"VLOOKUP(Catalogue[[#This Row],[Alias]],#REF!,2,FALSE)","v":{"$error":"#REF!"}},null,"MTS60001020","ARMATURE EAU"]
["MTS396120",null,"EMBASE + ANODE",null,null,{"$f":"LEFT(Catalogue[[#This Row],[Référence]],3)","v":"MTS"},{"$f":"VLOOKUP(Catalogue[[#This Row],[Alias]],#REF!,2,FALSE)","v":{"$error":"#REF!"}},null,"MTS60001177","BOITIER ELECTRIQUE"]
["MTS469002",null,"ANODE L:450 M6 POUR BDS 100",null,null,{"$f":"LEFT(Catalogue[[#This Row],[Référence]],3)","v":"MTS"},{"$f":"VLOOKUP(Catalogue[[#This Row],[Alias]],#REF!,2,FALSE)","v":{"$error":"#REF!"}},null,"MTS60001248","TUBE VASE D EXPANSION SANITAIRE"]
["MTS569434",null,"COLLIER DE RACCORDEMENT",null,null,{"$f":"LEFT(Catalogue[[#This Row],[Référence]],3)","v":"MTS"},{"$f":"VLOOKUP(Catalogue[[#This Row],[Alias]],#REF!,2,FALSE)","v":{"$error":"#REF!"}},null,"MTS60001308","VANNE GAZ B/P"]
["MTS570714",null,"KIT REFECTION GROUPE DISTRIB.",null,null,{"$f":"LEFT(Catalogue[[#This Row],[Référence]],3)","v":"MTS"},{"$f":"VLOOKUP(Catalogue[[#This Row],[Alias]],#REF!,2,FALSE)","v":{"$error":"#REF!"}},null,"MTS60001329","RACCORD EAU CHAUDE"]
["MTS571652",null,"PRESSOSTAT AIR",null,null,{"$f":"LEFT(Catalogue[[#This Row],[Référence]],3)","v":"MTS"},{"$f":"VLOOKUP(Catalogue[[#This Row],[Alias]],#REF!,2,FALSE)","v":{"$error":"#REF!"}},null,"MTS60001367","RACCORD  3/4-1/2"]
["MTS572399",null,"TUBE VANNE 3V/GROUPE HYDRAU",null,null,{"$f":"LEFT(Catalogue[[#This Row],[Référence]],3)","v":"MTS"},{"$f":"VLOOKUP(Catalogue[[#This Row],[Alias]],#REF!,2,FALSE)","v":{"$error":"#REF!"}},null,"MTS60001499","FAISCEAU DE CABLES"]
["MTS573302",null,"KIT SELECTEUR ETE/HIVER",null,null,{"$f":"LEFT(Catalogue[[#This Row],[Référence]],3)","v":"MTS"},{"$f":"VLOOKUP(Catalogue[[#This Row],[Alias]],#REF!,2,FALSE)","v":{"$error":"#REF!"}},null,"MTS60001710","CIRCUIT IMPRIME COMMUNICATION"]
["MTS573442",null,"DEBISTAT DE SECURITE FC 03/2016",null,null,{"$f":"LEFT(Catalogue[[#This Row],[Référence]],3)","v":"MTS"},{"$f":"VLOOKUP(Catalogue[[#This Row],[Alias]],#REF!,2,FALSE)","v":{"$error":"#REF!"}},null,"MTS60001808","CIRCUIT IMPRIME DE PUISSANCE"]
["MTS574306",null,"ANODE D:15 L:274 M5",null,null,{"$f":"LEFT(Catalogue[[#This Row],[Référence]],3)","v":"MTS"},{"$f":"VLOOKUP(Catalogue[[#This Row],[Alias]],#REF!,2,FALSE)","v":{"$error":"#REF!"}},null,"MTS60001868-01","RACCORD DEPART CHAUFFAGE"]
["MTS60000048",null,"TUBE GAZ",null,null,{"$f":"LEFT(Catalogue[[#This Row],[Référence]],3)","v":"MTS"},{"$f":"VLOOKUP(Catalogue[[#This Row],[Alias]],#REF!,2,FALSE)","v":{"$error":"#REF!"}},null,"MTS60001894","CABLAGE ALLUMEUR"]
["MTS60000175",null,"CIRCUIT IMPRIME PRINCIPAL",null,null,{"$f":"LEFT(Catalogue[[#This Row],[Référence]],3)","v":"MTS"},{"$f":"VLOOKUP(Catalogue[[#This Row],[Alias]],#REF!,2,FALSE)","v":{"$error":"#REF!"}},null,"MTS60001906","CIRCUIT IMPRIME AFFICHAGE"]
["MTS60000247",null,"CIRCUIT IMPRIME PRINCIPAL",null,null,{"$f":"LEFT(Catalogue[[#This Row],[Référence]],3)","v":"MTS"},{"$f":"VLOOKUP(Catalogue[[#This Row],[Alias]],#REF!,2,FALSE)","v":{"$error":"#REF!"}},null,"MTS60001947-02","POMPE 5M PWM ENER+"]
["MTS60000290",null,"CONDUIT DE MELANGE",null,null,{"$f":"LEFT(Catalogue[[#This Row],[Référence]],3)","v":"MTS"},{"$f":"VLOOKUP(Catalogue[[#This Row],[Alias]],#REF!,2,FALSE)","v":{"$error":"#REF!"}},null,"MTS60002293","EMBASE + ANODE PROTECH"]
["MTS60000303",null,"TUBE DEPART CHAUFFAGE",null,null,{"$f":"LEFT(Catalogue[[#This Row],[Référence]],3)","v":"MTS"},{"$f":"VLOOKUP(Catalogue[[#This Row],[Alias]],#REF!,2,FALSE)","v":{"$error":"#REF!"}},null,"MTS60002524","BALLON 40L"]
["MTS60000344",null,"CABLAGE ELECTRODE",null,null,{"$f":"LEFT(Catalogue[[#This Row],[Référence]],3)","v":"MTS"},{"$f":"VLOOKUP(Catalogue[[#This Row],[Alias]],#REF!,2,FALSE)","v":{"$error":"#REF!"}},null,"MTS60002696-01","EMBASE STEATITE D.105"]
["MTS60000443",null,"BATTERIE AA",null,null,{"$f":"LEFT(Catalogue[[#This Row],[Référence]],3)","v":"MTS"},{"$f":"VLOOKUP(Catalogue[[#This Row],[Alias]],#REF!,2,FALSE)","v":{"$error":"#REF!"}},null,"MTS60002839-03","CIRCUIT IMPRIME D AFFICHAGE"]
["MTS60000471",null,"RESISTANCE STEATITE 3000W",null,null,{"$f":"LEFT(Catalogue[[#This Row],[Référence]],3)","v":"MTS"},{"$f":"VLOOKUP(Catalogue[[#This Row],[Alias]],#REF!,2,FALSE)","v":{"$error":"#REF!"}},null,"MTS60003008","CIRCUIT IMPRIME D AFFICHAGE"]
["MTS60000502",null,"TUBE GAZ",null,null,{"$f":"LEFT(Catalogue[[#This Row],[Référence]],3)","v":"MTS"},{"$f":"VLOOKUP(Catalogue[[#This Row],[Alias]],#REF!,2,FALSE)","v":{"$error":"#REF!"}},null,"MTS60003235","VENTILATEUR"]
["MTS60000539S","Non concerné","SILENCIEUX",5,2000007353251,{"$f":"LEFT(Catalogue[[#This Row],[Référence]],3)","v":"MTS"},{"$f":"VLOOKUP(Catalogue[[#This Row],[Alias]],#REF!,2,FALSE)","v":{"$error":"#REF!"}},null,"MTS60003334","CIRCUITS IMPRIMES"]
["MTS60000595",null,"FAISCEAU DE CABLES",null,null,{"$f":"LEFT(Catalogue[[#This Row],[Référence]],3)","v":"MTS"},{"$f":"VLOOKUP(Catalogue[[#This Row],[Alias]],#REF!,2,FALSE)","v":{"$error":"#REF!"}},null,"MTS60028653","MOTEUR REDUCTEUR"]
["MTS60000622S",null,"VENTILATEUR",null,null,{"$f":"LEFT(Catalogue[[#This Row],[Référence]],3)","v":"MTS"},{"$f":"VLOOKUP(Catalogue[[#This Row],[Alias]],#REF!,2,FALSE)","v":{"$error":"#REF!"}},null,"MTS60031243","THERMOCOUPLE"]
["MTS60000672",null,"JOINT DE PORTE",null,null,{"$f":"LEFT(Catalogue[[#This Row],[Référence]],3)","v":"MTS"},{"$f":"VLOOKUP(Catalogue[[#This Row],[Alias]],#REF!,2,FALSE)","v":{"$error":"#REF!"}},null,"MTS60034040","BOUTON GAZ"]
["MTS60000696",null,"BARRETTE (X2) + ETOILE (X3) (Pochette)",null,null,{"$f":"LEFT(Catalogue[[#This Row],[Référence]],3)","v":"MTS"},{"$f":"VLOOKUP(Catalogue[[#This Row],[Alias]],#REF!,2,FALSE)","v":{"$error":"#REF!"}},null,"MTS60036899","ELECTRODE ALLUMAGE"]
["MTS60000760",null,"CIRCUIT IMPRIME AFFICHAGE",null,null,{"$f":"LEFT(Catalogue[[#This Row],[Référence]],3)","v":"MTS"},{"$f":"VLOOKUP(Catalogue[[#This Row],[Alias]],#REF!,2,FALSE)","v":{"$error":"#REF!"}},null,"MTS60041191-08","TUBE VEILLEUSE"]
["MTS60000845",null,"GROUPE RETOUR (REMPL. MANUEL)",null,null,{"$f":"LEFT(Catalogue[[#This Row],[Référence]],3)","v":"MTS"},{"$f":"VLOOKUP(Catalogue[[#This Row],[Alias]],#REF!,2,FALSE)","v":{"$error":"#REF!"}},null,"MTS60045469","SYSTEME ACCELERATION"]
["MTS60000870",null,"CARTOUCHE DEBIMETRE KIT",null,null,{"$f":"LEFT(Catalogue[[#This Row],[Référence]],3)","v":"MTS"},{"$f":"VLOOKUP(Catalogue[[#This Row],[Alias]],#REF!,2,FALSE)","v":{"$error":"#REF!"}},null,"MTS60046899","VALVE DISTRIBUTRICE ENS"]
["MTS60000881",null,"DISCONNECTEUR",null,null,{"$f":"LEFT(Catalogue[[#This Row],[Référence]],3)","v":"MTS"},{"$f":"VLOOKUP(Catalogue[[#This Row],[Alias]],#REF!,2,FALSE)","v":{"$error":"#REF!"}},null,"MTS60049771","DURIT REFOULEMENT-CIRCULATEUR"]
["MTS60000920",null,"JOINT A LEVRE GRIS D:106-100-12",null,null,{"$f":"LEFT(Catalogue[[#This Row],[Référence]],3)","v":"MTS"},{"$f":"VLOOKUP(Catalogue[[#This Row],[Alias]],#REF!,2,FALSE)","v":{"$error":"#REF!"}},null,"MTS60055819","JOINT FC 03/2016"]
["MTS60000988",null,"CABLAGE THERMOSTATS AMBIANCE",null,null,{"$f":"LEFT(Catalogue[[#This Row],[Référence]],3)","v":"MTS"},{"$f":"VLOOKUP(Catalogue[[#This Row],[Alias]],#REF!,2,FALSE)","v":{"$error":"#REF!"}},null,"MTS60058179","BOITIER ELECTRIQUE"]
["MTS60001078",null,"TUBE DE REMPLISSAGE",null,null,{"$f":"LEFT(Catalogue[[#This Row],[Référence]],3)","v":"MTS"},{"$f":"VLOOKUP(Catalogue[[#This Row],[Alias]],#REF!,2,FALSE)","v":{"$error":"#REF!"}},null,"MTS60060869","ARMATURE EAU 2F PN FC 03/2016"]
["MTS60001174",null,"FAISCEAU DE CABLES + MICRORUPTEUR",null,null,{"$f":"LEFT(Catalogue[[#This Row],[Référence]],3)","v":"MTS"},{"$f":"VLOOKUP(Catalogue[[#This Row],[Alias]],#REF!,2,FALSE)","v":{"$error":"#REF!"}},null,"MTS60064696","JOINT DE FORME (/Extracteur)"]
["MTS60001252",null,"BOITIER RACCORDEMENT",null,null,{"$f":"LEFT(Catalogue[[#This Row],[Référence]],3)","v":"MTS"},{"$f":"VLOOKUP(Catalogue[[#This Row],[Alias]],#REF!,2,FALSE)","v":{"$error":"#REF!"}},null,"MTS60069117","CIRCUIT IMPRIME"]
["MTS60001307",null,"VANNE GAZ NAT",null,null,{"$f":"LEFT(Catalogue[[#This Row],[Référence]],3)","v":"MTS"},{"$f":"VLOOKUP(Catalogue[[#This Row],[Alias]],#REF!,2,FALSE)","v":{"$error":"#REF!"}},null,"MTS60073393","RESISTANCE THERMOPLONG. 600W"]
["MTS60001317",null,"TUBE LIAISON BALLONS",null,null,{"$f":"LEFT(Catalogue[[#This Row],[Référence]],3)","v":"MTS"},{"$f":"VLOOKUP(Catalogue[[#This Row],[Alias]],#REF!,2,FALSE)","v":{"$error":"#REF!"}},null,"MTS60073887-20","POMPE 1 VITESSE (S)"]
["MTS60001364",null,"KIT CONDENSING S AIR DIAPHRAGMS",null,null,{"$f":"LEFT(Catalogue[[#This Row],[Référence]],3)","v":"MTS"},{"$f":"VLOOKUP(Catalogue[[#This Row],[Alias]],#REF!,2,FALSE)","v":{"$error":"#REF!"}},null,"MTS60075765S","CDC BAYARD 13 FF BRITONY"]
["MTS60001436",null,"CIRCUIT IMPRIME INVERTER",null,null,{"$f":"LEFT(Catalogue[[#This Row],[Référence]],3)","v":"MTS"},{"$f":"VLOOKUP(Catalogue[[#This Row],[Alias]],#REF!,2,FALSE)","v":{"$error":"#REF!"}},null,"MTS60078182","FOND DE VD EQUIPE (Pochette)"]
["MTS60001584S",null,"CIRCULATEUR 4M 1V",null,null,{"$f":"LEFT(Catalogue[[#This Row],[Référence]],3)","v":"MTS"},{"$f":"VLOOKUP(Catalogue[[#This Row],[Alias]],#REF!,2,FALSE)","v":{"$error":"#REF!"}},null,"MTS60078960","KIT CIRCUIT IMPRIME"]
["MTS60001641",null,"SONDE TEMPERATURE EVAPORATION",null,null,{"$f":"LEFT(Catalogue[[#This Row],[Référence]],3)","v":"MTS"},{"$f":"VLOOKUP(Catalogue[[#This Row],[Alias]],#REF!,2,FALSE)","v":{"$error":"#REF!"}},null,"MTS60079464","CABLAGE EXTRACTEUR"]
["MTS60001862",null,"RACCORD GAZ",null,null,{"$f":"LEFT(Catalogue[[#This Row],[Référence]],3)","v":"MTS"},{"$f":"VLOOKUP(Catalogue[[#This Row],[Alias]],#REF!,2,FALSE)","v":{"$error":"#REF!"}},null,"MTS60081036","ARMEMENT GAZ"]
["MTS60001889",null,"CABLAGE NTC - PRESSOSTAT",null,null,{"$f":"LEFT(Catalogue[[#This Row],[Référence]],3)","v":"MTS"},{"$f":"VLOOKUP(Catalogue[[#This Row],[Alias]],#REF!,2,FALSE)","v":{"$error":"#REF!"}},null,"MTS60081081","NOURRICE NAT (POCHETTE)"]
["MTS60001898S","Non concerné","CIRCUIT IMPRIME PRINCIPAL",45,2000007351622,{"$f":"LEFT(Catalogue[[#This Row],[Référence]],3)","v":"MTS"},{"$f":"VLOOKUP(Catalogue[[#This Row],[Alias]],#REF!,2,FALSE)","v":{"$error":"#REF!"}},null,"MTS60081160","EMBASE BRULEUR (POCHETTE)"]
["MTS60001908",null,"BANDEAU SERIGRAPHIE KIT",null,null,{"$f":"LEFT(Catalogue[[#This Row],[Référence]],3)","v":"MTS"},{"$f":"VLOOKUP(Catalogue[[#This Row],[Alias]],#REF!,2,FALSE)","v":{"$error":"#REF!"}},null,"MTS60081237","CLAPET CHAUFFAGE (Pochette)"]
["MTS60001939",null,"TUBE GAZ 35 KW",null,null,{"$f":"LEFT(Catalogue[[#This Row],[Référence]],3)","v":"MTS"},{"$f":"VLOOKUP(Catalogue[[#This Row],[Alias]],#REF!,2,FALSE)","v":{"$error":"#REF!"}},null,"MTS60081279","JOINTS VALVE DISTRIBUT (Poch.)"]
["MTS60002293",null,"EMBASE + ANODE PROTECH",null,null,{"$f":"LEFT(Catalogue[[#This Row],[Référence]],3)","v":"MTS"},{"$f":"VLOOKUP(Catalogue[[#This Row],[Alias]],#REF!,2,FALSE)","v":{"$error":"#REF!"}},null,"MTS60081448","TUBE VEILLEUSE (Pochette)"]
["MTS60002516",null,"TUBE SANITAIRE -  BALLON TIEDE 25/30KW",null,null,{"$f":"LEFT(Catalogue[[#This Row],[Référence]],3)","v":"MTS"},{"$f":"VLOOKUP(Catalogue[[#This Row],[Alias]],#REF!,2,FALSE)","v":{"$error":"#REF!"}},null,"MTS60081509","SECURITE GAZ (POCHETTE) FC 03/2016"]
["MTS60002698",null,"RESISTANCE BLINDEE 2000W  + ANODE",null,null,{"$f":"LEFT(Catalogue[[#This Row],[Référence]],3)","v":"MTS"},{"$f":"VLOOKUP(Catalogue[[#This Row],[Alias]],#REF!,2,FALSE)","v":{"$error":"#REF!"}},null,"MTS60081583","ROBINET DEPART CHAUFF. (Poch.)"]
["MTS60002830",null,"CIRCUIT IMPRIME DE PUISSANCE",null,null,{"$f":"LEFT(Catalogue[[#This Row],[Référence]],3)","v":"MTS"},{"$f":"VLOOKUP(Catalogue[[#This Row],[Alias]],#REF!,2,FALSE)","v":{"$error":"#REF!"}},null,"MTS60081724","SIEGES DE CLAPETS (Pochette)"]
["MTS60003007",null,"BANDEAU SERIGRAPHIE KIT",null,null,{"$f":"LEFT(Catalogue[[#This Row],[Référence]],3)","v":"MTS"},{"$f":"VLOOKUP(Catalogue[[#This Row],[Alias]],#REF!,2,FALSE)","v":{"$error":"#REF!"}},null,"MTS60081824","DURIT (Pochette)"]
["MTS60003250S","Non concerné","CIRCUITS IMPRIMES",50,2000007352001,{"$f":"LEFT(Catalogue[[#This Row],[Référence]],3)","v":"MTS"},{"$f":"VLOOKUP(Catalogue[[#This Row],[Alias]],#REF!,2,FALSE)","v":{"$error":"#REF!"}},null,"MTS60081914","ROBINET ET MANETTE E.C. (POCH)"]
["MTS60003274-01",null,"CABLAGE PUISSANCE",null,null,{"$f":"LEFT(Catalogue[[#This Row],[Référence]],3)","v":"MTS"},{"$f":"VLOOKUP(Catalogue[[#This Row],[Alias]],#REF!,2,FALSE)","v":{"$error":"#REF!"}},null,"MTS60081931","CLAPET GAZ PROGRESSIF (Poch.)"]
["MTS60025133S","Non concerné",{"$error":"#N/A"},78,2000002867487,{"$f":"LEFT(Catalogue[[#This Row],[Référence]],3)","v":"MTS"},{"$f":"VLOOKUP(Catalogue[[#This Row],[Alias]],#REF!,2,FALSE)","v":{"$error":"#REF!"}},null,"MTS60083183","RACCORD GAZ"]
["MTS60026881-06S",null,"CDC G30 G35",null,null,{"$f":"LEFT(Catalogue[[#This Row],[Référence]],3)","v":"MTS"},{"$f":"VLOOKUP(Catalogue[[#This Row],[Alias]],#REF!,2,FALSE)","v":{"$error":"#REF!"}},null,"MTS60084009S","SOUPAPES"]
["MTS60031087",null,"BOUCHON MAGNETIQUE",null,null,{"$f":"LEFT(Catalogue[[#This Row],[Référence]],3)","v":"MTS"},{"$f":"VLOOKUP(Catalogue[[#This Row],[Alias]],#REF!,2,FALSE)","v":{"$error":"#REF!"}},null,"MTS60084104","BY-PASS"]
["MTS60032119",null,"BOUTON EAU FROIDE",null,null,{"$f":"LEFT(Catalogue[[#This Row],[Référence]],3)","v":"MTS"},{"$f":"VLOOKUP(Catalogue[[#This Row],[Alias]],#REF!,2,FALSE)","v":{"$error":"#REF!"}},null,"MTS60084158","BOUTONS (Pochette) FC 14/12/2018"]
["MTS60036899",null,"ELECTRODE ALLUMAGE",null,null,{"$f":"LEFT(Catalogue[[#This Row],[Référence]],3)","v":"MTS"},{"$f":"VLOOKUP(Catalogue[[#This Row],[Alias]],#REF!,2,FALSE)","v":{"$error":"#REF!"}},null,"MTS60084252","ROBINET GAZ (Pochette)"]
["MTS60039147-10",null,"INJECTEUR DE VEILLEUSE D: 0.26",null,null,{"$f":"LEFT(Catalogue[[#This Row],[Référence]],3)","v":"MTS"},{"$f":"VLOOKUP(Catalogue[[#This Row],[Alias]],#REF!,2,FALSE)","v":{"$error":"#REF!"}},null,"MTS60084319","DIAPHRAGME GAZ D: 3.30"]
["MTS60044333",null,"THERMOMETRE",null,null,{"$f":"LEFT(Catalogue[[#This Row],[Référence]],3)","v":"MTS"},{"$f":"VLOOKUP(Catalogue[[#This Row],[Alias]],#REF!,2,FALSE)","v":{"$error":"#REF!"}},null,"MTS60084577","MANCHON"]
["MTS60045350",null,"MOTEUR REDUCTEUR",null,null,{"$f":"LEFT(Catalogue[[#This Row],[Référence]],3)","v":"MTS"},{"$f":"VLOOKUP(Catalogue[[#This Row],[Alias]],#REF!,2,FALSE)","v":{"$error":"#REF!"}},null,"MTS60084617","DISCONNECTEUR (Pochette)"]
["MTS60045630",null,"CLAPET GAZ A CLIQUET",null,null,{"$f":"LEFT(Catalogue[[#This Row],[Référence]],3)","v":"MTS"},{"$f":"VLOOKUP(Catalogue[[#This Row],[Alias]],#REF!,2,FALSE)","v":{"$error":"#REF!"}},null,"MTS60100040-10","BOUTONS (POCHETTE) FC 03/2016"]
["MTS60048660",null,"TUBE EAU FROIDE",null,null,{"$f":"LEFT(Catalogue[[#This Row],[Référence]],3)","v":"MTS"},{"$f":"VLOOKUP(Catalogue[[#This Row],[Alias]],#REF!,2,FALSE)","v":{"$error":"#REF!"}},null,"MTS60100147-20","REFECTION VALVE EAU (Pochette)"]
["MTS60053957S","Non concerné","VD 2.30 RSC",66,2000002868057,{"$f":"LEFT(Catalogue[[#This Row],[Référence]],3)","v":"MTS"},{"$f":"VLOOKUP(Catalogue[[#This Row],[Alias]],#REF!,2,FALSE)","v":{"$error":"#REF!"}},null,"MTS60100600-30","ELEMENT DE MANOEUVRE (Poch.)"]
["MTS60055985",null,"TUBE DE SURPRESSION",null,null,{"$f":"LEFT(Catalogue[[#This Row],[Référence]],3)","v":"MTS"},{"$f":"VLOOKUP(Catalogue[[#This Row],[Alias]],#REF!,2,FALSE)","v":{"$error":"#REF!"}},null,"MTS61000429","DURIT"]
["MTS60059034",null,"SIEGE DE CLAPET 2/3 D.37       60059034_LP136",null,null,{"$f":"LEFT(Catalogue[[#This Row],[Référence]],3)","v":"MTS"},{"$f":"VLOOKUP(Catalogue[[#This Row],[Alias]],#REF!,2,FALSE)","v":{"$error":"#REF!"}},null,"MTS61001591","CONDENSATEUR"]
["MTS60061084",null,"GAINE INTERIEURE",null,null,{"$f":"LEFT(Catalogue[[#This Row],[Référence]],3)","v":"MTS"},{"$f":"VLOOKUP(Catalogue[[#This Row],[Alias]],#REF!,2,FALSE)","v":{"$error":"#REF!"}},null,"MTS61001974","ECHANGEUR SANITAIRE 24 C KIT FC 26/12/2018"]
["MTS60063775-10",null,"THERMOCOUPLE ALUMINIE",null,null,{"$f":"LEFT(Catalogue[[#This Row],[Référence]],3)","v":"MTS"},{"$f":"VLOOKUP(Catalogue[[#This Row],[Alias]],#REF!,2,FALSE)","v":{"$error":"#REF!"}},null,"MTS61002380","CHAMBRE DE COMBUSTION (ENS.)"]
["MTS60067080",null,"SELECTEUR DE TEMPERATURE ENS",null,null,{"$f":"LEFT(Catalogue[[#This Row],[Référence]],3)","v":"MTS"},{"$f":"VLOOKUP(Catalogue[[#This Row],[Alias]],#REF!,2,FALSE)","v":{"$error":"#REF!"}},null,"MTS61002775-12","LIMIT. DEBIT 12L (ROUGE)"]
["MTS60073061",null,"BRIDE FIXATION",null,null,{"$f":"LEFT(Catalogue[[#This Row],[Référence]],3)","v":"MTS"},{"$f":"VLOOKUP(Catalogue[[#This Row],[Alias]],#REF!,2,FALSE)","v":{"$error":"#REF!"}},null,"MTS61004313","ECHANGEUR SANITAIRE 24 C FC 03/2016"]
["MTS60073887-20",null,"POMPE 1 VITESSE (S)",null,null,{"$f":"LEFT(Catalogue[[#This Row],[Référence]],3)","v":"MTS"},{"$f":"VLOOKUP(Catalogue[[#This Row],[Alias]],#REF!,2,FALSE)","v":{"$error":"#REF!"}},null,"MTS61004632","SOUPAPE DE SECURITE (Pochette)"]
["MTS60074521",null,"BOUTON GAZ",null,null,{"$f":"LEFT(Catalogue[[#This Row],[Référence]],3)","v":"MTS"},{"$f":"VLOOKUP(Catalogue[[#This Row],[Alias]],#REF!,2,FALSE)","v":{"$error":"#REF!"}},null,"MTS61004884","EQT TRANSF NAT > BUT/PROP"]
["MTS60078218S","Non concerné","CIRCUIT IMPRIME",45,2000007347731,{"$f":"LEFT(Catalogue[[#This Row],[Référence]],3)","v":"MTS"},{"$f":"VLOOKUP(Catalogue[[#This Row],[Alias]],#REF!,2,FALSE)","v":{"$error":"#REF!"}},null,"MTS61007264","TUBE DISCONNECTEUR"]
["MTS60078243-06S","Non concerné","CDC 2.24 RSC B",58,2000002868392,{"$f":"LEFT(Catalogue[[#This Row],[Référence]],3)","v":"MTS"},{"$f":"VLOOKUP(Catalogue[[#This Row],[Alias]],#REF!,2,FALSE)","v":{"$error":"#REF!"}},null,"MTS61007725","ECHANGEUR CORPS DE CHAUFFE"]
["MTS60079350",null,"KIT GARNITURE CERAPLAQUE",null,null,{"$f":"LEFT(Catalogue[[#This Row],[Référence]],3)","v":"MTS"},{"$f":"VLOOKUP(Catalogue[[#This Row],[Alias]],#REF!,2,FALSE)","v":{"$error":"#REF!"}},null,"MTS61009832","EQT TRANSF BUT/PROP > NAT"]
["MTS60079932",null,"CIRCUIT IMPRIME",null,null,{"$f":"LEFT(Catalogue[[#This Row],[Référence]],3)","v":"MTS"},{"$f":"VLOOKUP(Catalogue[[#This Row],[Alias]],#REF!,2,FALSE)","v":{"$error":"#REF!"}},null,"MTS61010044","TUBE BY-PASS"]
["MTS60081029",null,"VOLUTE (CIRCULATEUR D)",null,null,{"$f":"LEFT(Catalogue[[#This Row],[Référence]],3)","v":"MTS"},{"$f":"VLOOKUP(Catalogue[[#This Row],[Alias]],#REF!,2,FALSE)","v":{"$error":"#REF!"}},null,"MTS61010142S","ARMATURE GAZ NAT"]
["MTS60081056",null,{"$f":"VLOOKUP(A27074,I:J,2,0)","v":"PRISE DE PRESSION (Pochette)"},null,null,{"$f":"LEFT(Catalogue[[#This Row],[Référence]],3)","v":"MTS"},{"$f":"VLOOKUP(Catalogue[[#This Row],[Alias]],#REF!,2,FALSE)","v":{"$error":"#REF!"}},null,"MTS61010256","MANOMETRE"]
["MTS60081103",null,"BOUCHON (Pochette)",null,null,{"$f":"LEFT(Catalogue[[#This Row],[Référence]],3)","v":"MTS"},{"$f":"VLOOKUP(Catalogue[[#This Row],[Alias]],#REF!,2,FALSE)","v":{"$error":"#REF!"}},null,"MTS61010415S","BLOC DE BECS"]
["MTS60081266-02",null,"TUBE PVC D: 13x17 L: 1M",null,null,{"$f":"LEFT(Catalogue[[#This Row],[Référence]],3)","v":"MTS"},{"$f":"VLOOKUP(Catalogue[[#This Row],[Alias]],#REF!,2,FALSE)","v":{"$error":"#REF!"}},null,"MTS61011241","CABLAGE VD-AQ-TTB-MANOSTAT"]
["MTS60081313",null,"KIT MOTEUR 50 W FC 03/2016",null,null,{"$f":"LEFT(Catalogue[[#This Row],[Référence]],3)","v":"MTS"},{"$f":"VLOOKUP(Catalogue[[#This Row],[Alias]],#REF!,2,FALSE)","v":{"$error":"#REF!"}},null,"MTS61012369","TE DE RACCORDEMENT FC 03/2016"]
["MTS60081426",null,"THERMOSTAT REGLABLE (Pochette)",null,null,{"$f":"LEFT(Catalogue[[#This Row],[Référence]],3)","v":"MTS"},{"$f":"VLOOKUP(Catalogue[[#This Row],[Alias]],#REF!,2,FALSE)","v":{"$error":"#REF!"}},null,"MTS61012758","TUBE EAU FROIDE SUR PARTIE EAU"]
["MTS60081486",null,"DISCONNECTEUR (Pochette)",null,null,{"$f":"LEFT(Catalogue[[#This Row],[Référence]],3)","v":"MTS"},{"$f":"VLOOKUP(Catalogue[[#This Row],[Alias]],#REF!,2,FALSE)","v":{"$error":"#REF!"}},null,"MTS61013091","CABLAGE PROGRAMMATEUR"]
["MTS60081529",null,"INJECTEUR DE VEILLEUSE (Poch.)",null,null,{"$f":"LEFT(Catalogue[[#This Row],[Référence]],3)","v":"MTS"},{"$f":"VLOOKUP(Catalogue[[#This Row],[Alias]],#REF!,2,FALSE)","v":{"$error":"#REF!"}},null,"MTS61014420-09","CLAPET D: 2.00"]
["MTS60081725",null,"PRESSOSTAT AIR (Pochette)",null,null,{"$f":"LEFT(Catalogue[[#This Row],[Référence]],3)","v":"MTS"},{"$f":"VLOOKUP(Catalogue[[#This Row],[Alias]],#REF!,2,FALSE)","v":{"$error":"#REF!"}},null,"MTS61016276","TUBE EAU FROIDE"]
["MTS60081839S","Non concerné","V3V CALYDRA",40,2000002868415,{"$f":"LEFT(Catalogue[[#This Row],[Référence]],3)","v":"MTS"},{"$f":"VLOOKUP(Catalogue[[#This Row],[Alias]],#REF!,2,FALSE)","v":{"$error":"#REF!"}},null,"MTS61017389","MANOMETRE"]
["MTS60081903",null,"REFECTION VANNE 3 VOIES",null,null,{"$f":"LEFT(Catalogue[[#This Row],[Référence]],3)","v":"MTS"},{"$f":"VLOOKUP(Catalogue[[#This Row],[Alias]],#REF!,2,FALSE)","v":{"$error":"#REF!"}},null,"MTS61018713","BANDEAU SERIG. (SANS PROG.)"]
["MTS60081915",null,"MANETTE (POCHETTE)",null,null,{"$f":"LEFT(Catalogue[[#This Row],[Référence]],3)","v":"MTS"},{"$f":"VLOOKUP(Catalogue[[#This Row],[Alias]],#REF!,2,FALSE)","v":{"$error":"#REF!"}},null,"MTS61019201","RESISTANCE STEATITE 2400W 380V"]
["MTS60081973",null,"EMBASE BRULEUR (POCHETTE)",null,null,{"$f":"LEFT(Catalogue[[#This Row],[Référence]],3)","v":"MTS"},{"$f":"VLOOKUP(Catalogue[[#This Row],[Alias]],#REF!,2,FALSE)","v":{"$error":"#REF!"}},null,"MTS61020935","TUBE EAU FROIDE SUR PARTIE EAU"]
["MTS60083138",null,"SECURITE DEBORDEMENT 100DEG C",null,null,{"$f":"LEFT(Catalogue[[#This Row],[Référence]],3)","v":"MTS"},{"$f":"VLOOKUP(Catalogue[[#This Row],[Alias]],#REF!,2,FALSE)","v":{"$error":"#REF!"}},null,"MTS61301960","BY-PASS"]
["MTS60084013S","Non concerné","CIRCUIT IMPRIME IONISATION FF",45,2000007348431,{"$f":"LEFT(Catalogue[[#This Row],[Référence]],3)","v":"MTS"},{"$f":"VLOOKUP(Catalogue[[#This Row],[Alias]],#REF!,2,FALSE)","v":{"$error":"#REF!"}},null,"MTS61302409","ECHANGEUR SANITAIRE 14 PLAQUES"]
["MTS60084088",null,"TUBE (Vanne > Ballon)",null,null,{"$f":"LEFT(Catalogue[[#This Row],[Référence]],3)","v":"MTS"},{"$f":"VLOOKUP(Catalogue[[#This Row],[Alias]],#REF!,2,FALSE)","v":{"$error":"#REF!"}},null,"MTS61303159S","MANOMETRE"]
["MTS60084204",null,"JOINT DE FORME EXTERIEUR",null,null,{"$f":"LEFT(Catalogue[[#This Row],[Référence]],3)","v":"MTS"},{"$f":"VLOOKUP(Catalogue[[#This Row],[Alias]],#REF!,2,FALSE)","v":{"$error":"#REF!"}},null,"MTS61303825","JOINT DE FORME"]
["MTS60084282",null,"ELECTRODE IONISATION",null,null,{"$f":"LEFT(Catalogue[[#This Row],[Référence]],3)","v":"MTS"},{"$f":"VLOOKUP(Catalogue[[#This Row],[Alias]],#REF!,2,FALSE)","v":{"$error":"#REF!"}},null,"MTS61304576","FAISCEAU DE CABLES"]
["MTS60084325",null,"BOUTON DE MANOEUVRE",null,null,{"$f":"LEFT(Catalogue[[#This Row],[Référence]],3)","v":"MTS"},{"$f":"VLOOKUP(Catalogue[[#This Row],[Alias]],#REF!,2,FALSE)","v":{"$error":"#REF!"}},null,"MTS61305089","BANDEAU SERIG. (SANS PROG.)"]
["MTS60084520",null,"CIRCUIT REARMEMENT CF-VMC",null,null,{"$f":"LEFT(Catalogue[[#This Row],[Référence]],3)","v":"MTS"},{"$f":"VLOOKUP(Catalogue[[#This Row],[Alias]],#REF!,2,FALSE)","v":{"$error":"#REF!"}},null,"MTS61305725","VANNE 3 VOIES"]
["MTS60084573",null,"CONDUIT DE FUMEE",null,null,{"$f":"LEFT(Catalogue[[#This Row],[Référence]],3)","v":"MTS"},{"$f":"VLOOKUP(Catalogue[[#This Row],[Alias]],#REF!,2,FALSE)","v":{"$error":"#REF!"}},null,"MTS61306314","FAISCEAU DE CABLES"]
["MTS60084662",null,"ELECTRODE IONISATION",null,null,{"$f":"LEFT(Catalogue[[#This Row],[Référence]],3)","v":"MTS"},{"$f":"VLOOKUP(Catalogue[[#This Row],[Alias]],#REF!,2,FALSE)","v":{"$error":"#REF!"}},null,"MTS61307585S","VENTILATEUR"]
["MTS60100115",null,"REFECTION DE PARTIE EAU",null,null,{"$f":"LEFT(Catalogue[[#This Row],[Référence]],3)","v":"MTS"},{"$f":"VLOOKUP(Catalogue[[#This Row],[Alias]],#REF!,2,FALSE)","v":{"$error":"#REF!"}},null,"MTS61308442","TUBE RETOUR CHAUFFAGE"]
["MTS60100346-30",null,"SECURITE 110DEG C",null,null,{"$f":"LEFT(Catalogue[[#This Row],[Référence]],3)","v":"MTS"},{"$f":"VLOOKUP(Catalogue[[#This Row],[Alias]],#REF!,2,FALSE)","v":{"$error":"#REF!"}},null,"MTS61309837","CABLAGE VENTILATEUR-ALLUMEUR"]
["MTS61000098S","Non concerné",{"$error":"#N/A"},9,2000007347403,{"$f":"LEFT(Catalogue[[#This Row],[Référence]],3)","v":"MTS"},{"$f":"VLOOKUP(Catalogue[[#This Row],[Alias]],#REF!,2,FALSE)","v":{"$error":"#REF!"}},null,"MTS61310422","ECHANGEUR CORPS DE CHAUFFE 24CF"]
["MTS61000731",null,"CABLAGE SECURITE DEBIT EAU",null,null,{"$f":"LEFT(Catalogue[[#This Row],[Référence]],3)","v":"MTS"},{"$f":"VLOOKUP(Catalogue[[#This Row],[Alias]],#REF!,2,FALSE)","v":{"$error":"#REF!"}},null,"MTS61311034","NOURRICE 14 INJ. D:0.82"]
["MTS61001663S","Non concerné","CDC BAYARD STAR 10 A CLIPS",36,2000002866961,{"$f":"LEFT(Catalogue[[#This Row],[Référence]],3)","v":"MTS"},{"$f":"VLOOKUP(Catalogue[[#This Row],[Alias]],#REF!,2,FALSE)","v":{"$error":"#REF!"}},null,"MTS61312495S","EXTRACTEUR"]
["MTS61001974BS","Non concerné","ECH. SAN. RSCB",42,2000002866992,{"$f":"LEFT(Catalogue[[#This Row],[Référence]],3)","v":"MTS"},{"$f":"VLOOKUP(Catalogue[[#This Row],[Alias]],#REF!,2,FALSE)","v":{"$error":"#REF!"}},null,"MTS61313095","ARMATURE EAU LAITON"]
["MTS61002356S","Non concerné","EXTRACTEUR SIAM",40,2000002867043,{"$f":"LEFT(Catalogue[[#This Row],[Référence]],3)","v":"MTS"},{"$f":"VLOOKUP(Catalogue[[#This Row],[Alias]],#REF!,2,FALSE)","v":{"$error":"#REF!"}},null,"MTS61313367","ROBINET DC-RC CHAUFFAGE"]
["MTS61002697",null,"SECURITE THERMIQUE 105DEG C FC 03/2016",null,null,{"$f":"LEFT(Catalogue[[#This Row],[Référence]],3)","v":"MTS"},{"$f":"VLOOKUP(Catalogue[[#This Row],[Alias]],#REF!,2,FALSE)","v":{"$error":"#REF!"}},null,"MTS61313763","ECHANGEUR CORPS DE CHAUFFE 30KW"]
["MTS61003859",null,"CAPACITE EAU COMPOSITE 10L",null,null,{"$f":"LEFT(Catalogue[[#This Row],[Référence]],3)","v":"MTS"},{"$f":"VLOOKUP(Catalogue[[#This Row],[Alias]],#REF!,2,FALSE)","v":{"$error":"#REF!"}},null,"MTS61314330","PLATINE BOITIER ELECTRIQUE"]
["MTS61004309",null,"TUBE EAU CHAUDE",null,null,{"$f":"LEFT(Catalogue[[#This Row],[Référence]],3)","v":"MTS"},{"$f":"VLOOKUP(Catalogue[[#This Row],[Alias]],#REF!,2,FALSE)","v":{"$error":"#REF!"}},null,"MTS61314513","CIRCUIT IMPRIME PRINCIPAL STD"]
["MTS61004712",null,"SUPPORT VEILLEUSE",null,null,{"$f":"LEFT(Catalogue[[#This Row],[Référence]],3)","v":"MTS"},{"$f":"VLOOKUP(Catalogue[[#This Row],[Alias]],#REF!,2,FALSE)","v":{"$error":"#REF!"}},null,"MTS61314880","TUBE RETOUR CHAUFFAGE"]
["MTS61005449",null,"CAPOT LATERAL",null,null,{"$f":"LEFT(Catalogue[[#This Row],[Référence]],3)","v":"MTS"},{"$f":"VLOOKUP(Catalogue[[#This Row],[Alias]],#REF!,2,FALSE)","v":{"$error":"#REF!"}},null,"MTS61316013","BY-PASS D:20"]
["MTS61007725S","Non concerné","CDC NIAGARA",36,2000002867142,{"$f":"LEFT(Catalogue[[#This Row],[Référence]],3)","v":"MTS"},{"$f":"VLOOKUP(Catalogue[[#This Row],[Alias]],#REF!,2,FALSE)","v":{"$error":"#REF!"}},null,"MTS61317432","ELECTRODE ALLUMAGE"]
["MTS61008962",null,"PROGRAMMATEUR DIGITAL",null,null,{"$f":"LEFT(Catalogue[[#This Row],[Référence]],3)","v":"MTS"},{"$f":"VLOOKUP(Catalogue[[#This Row],[Alias]],#REF!,2,FALSE)","v":{"$error":"#REF!"}},null,"MTS61400263","CORPS DE CHAUFFE"]
["MTS61010000S",null,"V3V NECTRA",null,null,{"$f":"LEFT(Catalogue[[#This Row],[Référence]],3)","v":"MTS"},{"$f":"VLOOKUP(Catalogue[[#This Row],[Alias]],#REF!,2,FALSE)","v":{"$error":"#REF!"}},null,"MTS61400319","VANNE GAZ"]
["MTS61010044",null,"TUBE BY-PASS",null,null,{"$f":"LEFT(Catalogue[[#This Row],[Référence]],3)","v":"MTS"},{"$f":"VLOOKUP(Catalogue[[#This Row],[Alias]],#REF!,2,FALSE)","v":{"$error":"#REF!"}},null,"MTS61401779","CABLAGE (BRUN)"]
["MTS61010067",null,"ROBINET EAU FROIDE",null,null,{"$f":"LEFT(Catalogue[[#This Row],[Référence]],3)","v":"MTS"},{"$f":"VLOOKUP(Catalogue[[#This Row],[Alias]],#REF!,2,FALSE)","v":{"$error":"#REF!"}},null,"MTS61401861S","EXTRACTEUR"]
["MTS61010212S","Non concerné","EXT. NECTRA 2.23",40,2000002867197,{"$f":"LEFT(Catalogue[[#This Row],[Référence]],3)","v":"MTS"},{"$f":"VLOOKUP(Catalogue[[#This Row],[Alias]],#REF!,2,FALSE)","v":{"$error":"#REF!"}},null,"MTS64201666","POMPE WILO RSG25/8-2 230V"]
["MTS61010592S",null,"CI PUISSANCE NECTRA ELEXIA",null,null,{"$f":"LEFT(Catalogue[[#This Row],[Référence]],3)","v":"MTS"},{"$f":"VLOOKUP(Catalogue[[#This Row],[Alias]],#REF!,2,FALSE)","v":{"$error":"#REF!"}},null,"MTS65100391","ANODE TITANE L:260"]
["MTS61010857",null,"TUBE GAZ AMONT",null,null,{"$f":"LEFT(Catalogue[[#This Row],[Référence]],3)","v":"MTS"},{"$f":"VLOOKUP(Catalogue[[#This Row],[Alias]],#REF!,2,FALSE)","v":{"$error":"#REF!"}},null,"MTS65100692","ELECTRODE IONISATION"]
["MTS61011246",null,"TETE DEBISTAT",null,null,{"$f":"LEFT(Catalogue[[#This Row],[Référence]],3)","v":"MTS"},{"$f":"VLOOKUP(Catalogue[[#This Row],[Alias]],#REF!,2,FALSE)","v":{"$error":"#REF!"}},null,"MTS65101423","TUYAU RACCORDEMENT"]
["MTS61012412",null,"CABLAGE BRULEUR (rearmement- CI-pompe)",null,null,{"$f":"LEFT(Catalogue[[#This Row],[Référence]],3)","v":"MTS"},{"$f":"VLOOKUP(Catalogue[[#This Row],[Alias]],#REF!,2,FALSE)","v":{"$error":"#REF!"}},null,"MTS65102080","THERMOSTAT"]
["MTS61012743S","Non concerné","CORPS DE DEBISTAT",3,2000007348783,{"$f":"LEFT(Catalogue[[#This Row],[Référence]],3)","v":"MTS"},{"$f":"VLOOKUP(Catalogue[[#This Row],[Alias]],#REF!,2,FALSE)","v":{"$error":"#REF!"}},null,"MTS65102319","TUBE DE RETOUR BALLON"]
["MTS61012958",null,"THERMISTANCE",null,null,{"$f":"LEFT(Catalogue[[#This Row],[Référence]],3)","v":"MTS"},{"$f":"VLOOKUP(Catalogue[[#This Row],[Alias]],#REF!,2,FALSE)","v":{"$error":"#REF!"}},null,"MTS65102822","VALVE GAZ"]
["MTS61014984",null,"CLAPET DECHARGE (7.5-->9bars)",null,null,{"$f":"LEFT(Catalogue[[#This Row],[Référence]],3)","v":"MTS"},{"$f":"VLOOKUP(Catalogue[[#This Row],[Alias]],#REF!,2,FALSE)","v":{"$error":"#REF!"}},null,"MTS65103489","SUPPORT PANNEAU AVANT"]
["MTS61016274",null,"TUBE EAU FROIDE",null,null,{"$f":"LEFT(Catalogue[[#This Row],[Référence]],3)","v":"MTS"},{"$f":"VLOOKUP(Catalogue[[#This Row],[Alias]],#REF!,2,FALSE)","v":{"$error":"#REF!"}},null,"MTS65104164","ANODE D:16 L:195 M4"]
["MTS61016315",null,{"$f":"VLOOKUP(A28098,I:J,2,0)","v":"FAISCEAU DE CABLES"},null,null,{"$f":"LEFT(Catalogue[[#This Row],[Référence]],3)","v":"MTS"},{"$f":"VLOOKUP(Catalogue[[#This Row],[Alias]],#REF!,2,FALSE)","v":{"$error":"#REF!"}},null,"MTS65104226","NOURRICE 13 INJ. D:1.32"]
["MTS61018121-02",null,"CIRCUIT IMPRIME DE PUISSANCE-AIR PROPANE",null,null,{"$f":"LEFT(Catalogue[[#This Row],[Référence]],3)","v":"MTS"},{"$f":"VLOOKUP(Catalogue[[#This Row],[Alias]],#REF!,2,FALSE)","v":{"$error":"#REF!"}},null,"MTS65104317","CARTOUCHE DEBIMETRE KIT"]
["MTS61018940S","Non concerné","CIRCUIT IMPRIME DE REGULATION",45,2000007346628,{"$f":"LEFT(Catalogue[[#This Row],[Référence]],3)","v":"MTS"},{"$f":"VLOOKUP(Catalogue[[#This Row],[Alias]],#REF!,2,FALSE)","v":{"$error":"#REF!"}},null,"MTS65104338","SONDE NTC"]
["MTS61020648",null,"COMMANDE EAU ENS",null,null,{"$f":"LEFT(Catalogue[[#This Row],[Référence]],3)","v":"MTS"},{"$f":"VLOOKUP(Catalogue[[#This Row],[Alias]],#REF!,2,FALSE)","v":{"$error":"#REF!"}},null,"MTS65104523","CABLAGE VANNE 3 VOIES"]
["MTS61301172",null,"KIT INTERFACE DEBISTAT",null,null,{"$f":"LEFT(Catalogue[[#This Row],[Référence]],3)","v":"MTS"},{"$f":"VLOOKUP(Catalogue[[#This Row],[Alias]],#REF!,2,FALSE)","v":{"$error":"#REF!"}},null,"MTS65104733","THERMOSTAT A REARMEMENT"]
["MTS61302409S","Non concerné","ECH SAN. CALYDRA/HYXIA",21,2000002867272,{"$f":"LEFT(Catalogue[[#This Row],[Référence]],3)","v":"MTS"},{"$f":"VLOOKUP(Catalogue[[#This Row],[Alias]],#REF!,2,FALSE)","v":{"$error":"#REF!"}},null,"MTS65105371","JOINT VITRE VISEUR DE FLAMME"]
["MTS61303032",null,"ROBINET GAZ",null,null,{"$f":"LEFT(Catalogue[[#This Row],[Référence]],3)","v":"MTS"},{"$f":"VLOOKUP(Catalogue[[#This Row],[Alias]],#REF!,2,FALSE)","v":{"$error":"#REF!"}},null,"MTS65105753","TUBE SORTIE SANITAIRE"]
["MTS61303305",null,"VANNE GAZ NAT",null,null,{"$f":"LEFT(Catalogue[[#This Row],[Référence]],3)","v":"MTS"},{"$f":"VLOOKUP(Catalogue[[#This Row],[Alias]],#REF!,2,FALSE)","v":{"$error":"#REF!"}},null,"MTS65105846","TUBE DEPART CHAUFFAGE"]
["MTS61303532",null,"RACCORD EAU CHAUDE",null,null,{"$f":"LEFT(Catalogue[[#This Row],[Référence]],3)","v":"MTS"},{"$f":"VLOOKUP(Catalogue[[#This Row],[Alias]],#REF!,2,FALSE)","v":{"$error":"#REF!"}},null,"MTS65105890","KIT BY-PASS CIRCUIT PRIMAIRE"]
["MTS61304376",null,"PANNEAU AVANT",null,null,{"$f":"LEFT(Catalogue[[#This Row],[Référence]],3)","v":"MTS"},{"$f":"VLOOKUP(Catalogue[[#This Row],[Alias]],#REF!,2,FALSE)","v":{"$error":"#REF!"}},null,"MTS65106296","PANNEAU CHAMBRE DE COMBUSTION"]
["MTS61304721S",null,"EXTRACTEUR 1 V 30 FF",null,null,{"$f":"LEFT(Catalogue[[#This Row],[Référence]],3)","v":"MTS"},{"$f":"VLOOKUP(Catalogue[[#This Row],[Alias]],#REF!,2,FALSE)","v":{"$error":"#REF!"}},null,"MTS65106843","CABLAGE DE CIRCULATEUR"]
["MTS61305725S","Non concerné",{"$error":"#N/A"},40,2000005700569,{"$f":"LEFT(Catalogue[[#This Row],[Référence]],3)","v":"MTS"},{"$f":"VLOOKUP(Catalogue[[#This Row],[Alias]],#REF!,2,FALSE)","v":{"$error":"#REF!"}},null,"MTS65108515","CIRCUIT IMPRIME PRINCIPAL"]
["MTS61306547S","Non concerné","CDC NIAGARA DELTA",60,2000002867302,{"$f":"LEFT(Catalogue[[#This Row],[Référence]],3)","v":"MTS"},{"$f":"VLOOKUP(Catalogue[[#This Row],[Alias]],#REF!,2,FALSE)","v":{"$error":"#REF!"}},null,"MTS65109281","BRIDE (ANC. MTS60002826)"]
["MTS61306697-01",null,"PRESSOSTAT AIR 87 Pa",null,null,{"$f":"LEFT(Catalogue[[#This Row],[Référence]],3)","v":"MTS"},{"$f":"VLOOKUP(Catalogue[[#This Row],[Alias]],#REF!,2,FALSE)","v":{"$error":"#REF!"}},null,"MTS65109749-01","ANODE PROTECH"]
["MTS61307585",null,"VENTILATEUR",null,null,{"$f":"LEFT(Catalogue[[#This Row],[Référence]],3)","v":"MTS"},{"$f":"VLOOKUP(Catalogue[[#This Row],[Alias]],#REF!,2,FALSE)","v":{"$error":"#REF!"}},null,"MTS65110091","BRIDE"]
["MTS61307958",null,"FAISCEAU DE CABLES FC 03/2016",null,null,{"$f":"LEFT(Catalogue[[#This Row],[Référence]],3)","v":"MTS"},{"$f":"VLOOKUP(Catalogue[[#This Row],[Alias]],#REF!,2,FALSE)","v":{"$error":"#REF!"}},null,"MTS65110732","ISOLATION POUR RACCORD A T"]
["MTS61309658",null,"JOINT D:110-75-2",null,null,{"$f":"LEFT(Catalogue[[#This Row],[Référence]],3)","v":"MTS"},{"$f":"VLOOKUP(Catalogue[[#This Row],[Alias]],#REF!,2,FALSE)","v":{"$error":"#REF!"}},null,"MTS65111050","SACHET DE DIAPHRAGME 76,78,80,83,86"]
["MTS61310142",null,"SECURITE THERMIQUE 52DEG C",null,null,{"$f":"LEFT(Catalogue[[#This Row],[Référence]],3)","v":"MTS"},{"$f":"VLOOKUP(Catalogue[[#This Row],[Alias]],#REF!,2,FALSE)","v":{"$error":"#REF!"}},null,"MTS65111377","EQT TRANSF BUT/PROP > NAT"]
["MTS61310977",null,"CABLAGE EXTRACTEUR-V3V-ALLUM.",null,null,{"$f":"LEFT(Catalogue[[#This Row],[Référence]],3)","v":"MTS"},{"$f":"VLOOKUP(Catalogue[[#This Row],[Alias]],#REF!,2,FALSE)","v":{"$error":"#REF!"}},null,"MTS65112042","CONNECTEUR INTERFACE EXPERT CONTROL"]
["MTS61311907S","Non concerné","VASE D EXPANSION  5L EP:59CM",25,2000007352636,{"$f":"LEFT(Catalogue[[#This Row],[Référence]],3)","v":"MTS"},{"$f":"VLOOKUP(Catalogue[[#This Row],[Alias]],#REF!,2,FALSE)","v":{"$error":"#REF!"}},null,"MTS65112214","SONDE D AMBIANCE MODULANTE"]
["MTS61312603",null,"TUBE GAZ",null,null,{"$f":"LEFT(Catalogue[[#This Row],[Référence]],3)","v":"MTS"},{"$f":"VLOOKUP(Catalogue[[#This Row],[Alias]],#REF!,2,FALSE)","v":{"$error":"#REF!"}},null,"MTS65112744","PURGEUR D AIR"]
["MTS61313094S","Non concerné","ARMATURE EAU",21,2000004917159,{"$f":"LEFT(Catalogue[[#This Row],[Référence]],3)","v":"MTS"},{"$f":"VLOOKUP(Catalogue[[#This Row],[Alias]],#REF!,2,FALSE)","v":{"$error":"#REF!"}},null,"MTS65113050","ROBINET (POMMEAU BLEU)"]
["MTS61313378",null,"BALLON 20L",null,null,{"$f":"LEFT(Catalogue[[#This Row],[Référence]],3)","v":"MTS"},{"$f":"VLOOKUP(Catalogue[[#This Row],[Alias]],#REF!,2,FALSE)","v":{"$error":"#REF!"}},null,"MTS65113203","TUYAU (RECYCLAGE SANITAIRE)"]
["MTS61313614",null,"PORTE EQUIPEE",null,null,{"$f":"LEFT(Catalogue[[#This Row],[Référence]],3)","v":"MTS"},{"$f":"VLOOKUP(Catalogue[[#This Row],[Alias]],#REF!,2,FALSE)","v":{"$error":"#REF!"}},null,"MTS65113369","CIRCUIT IMPRIME PRINCIPAL"]
["MTS61314366",null,"FAISCEAU DE CABLES",null,null,{"$f":"LEFT(Catalogue[[#This Row],[Référence]],3)","v":"MTS"},{"$f":"VLOOKUP(Catalogue[[#This Row],[Alias]],#REF!,2,FALSE)","v":{"$error":"#REF!"}},null,"MTS65114234","VENTILATEUR"]
["MTS61314831",null,"TUBE DEPART CHAUFFAGE",null,null,{"$f":"LEFT(Catalogue[[#This Row],[Référence]],3)","v":"MTS"},{"$f":"VLOOKUP(Catalogue[[#This Row],[Alias]],#REF!,2,FALSE)","v":{"$error":"#REF!"}},null,"MTS65114948","CIRCUIT ENERGY MANAGER HEA+COOL"]
["MTS61315410",null,"VANNE GAZ NAT",null,null,{"$f":"LEFT(Catalogue[[#This Row],[Référence]],3)","v":"MTS"},{"$f":"VLOOKUP(Catalogue[[#This Row],[Alias]],#REF!,2,FALSE)","v":{"$error":"#REF!"}},null,"MTS65115211","CARTE LOGIQUE"]
["MTS61316028",null,"ROBINET EAU FROIDE",null,null,{"$f":"LEFT(Catalogue[[#This Row],[Référence]],3)","v":"MTS"},{"$f":"VLOOKUP(Catalogue[[#This Row],[Alias]],#REF!,2,FALSE)","v":{"$error":"#REF!"}},null,"MTS65115783-02","CIRCUIT IMPRIME PRINCIPAL"]
["MTS61316921",null,"VASE D EXPANSION 2L",null,null,{"$f":"LEFT(Catalogue[[#This Row],[Référence]],3)","v":"MTS"},{"$f":"VLOOKUP(Catalogue[[#This Row],[Alias]],#REF!,2,FALSE)","v":{"$error":"#REF!"}},null,"MTS65115933","GROUPE DEPART CHAUFFAGE"]
["MTS61400263S",null,"CORPS DE CHAUFFE FLUENDO",null,null,{"$f":"LEFT(Catalogue[[#This Row],[Référence]],3)","v":"MTS"},{"$f":"VLOOKUP(Catalogue[[#This Row],[Alias]],#REF!,2,FALSE)","v":{"$error":"#REF!"}},null,"MTS65116314","ECHANGEUR SANITAIRE 12 PLAQUES"]
["MTS61400265",null,"BLOC DE BECS",null,null,{"$f":"LEFT(Catalogue[[#This Row],[Référence]],3)","v":"MTS"},{"$f":"VLOOKUP(Catalogue[[#This Row],[Alias]],#REF!,2,FALSE)","v":{"$error":"#REF!"}},null,"MTS65116314S","ECHANGEUR 12 PLAQUES"]
["MTS61401779",null,"CABLAGE (BRUN)",null,null,{"$f":"LEFT(Catalogue[[#This Row],[Référence]],3)","v":"MTS"},{"$f":"VLOOKUP(Catalogue[[#This Row],[Alias]],#REF!,2,FALSE)","v":{"$error":"#REF!"}},null,"MTS65116557S","VANNE GAZ"]
["MTS61401863",null,{"$f":"VLOOKUP(A28802,I:J,2,0)","v":"ANODE PROTECH"},null,null,{"$f":"LEFT(Catalogue[[#This Row],[Référence]],3)","v":"MTS"},{"$f":"VLOOKUP(Catalogue[[#This Row],[Alias]],#REF!,2,FALSE)","v":{"$error":"#REF!"}},null,"MTS65116585-05","CIRCUIT IMPRIME PRINCIPAL (ANC. MTS65116585-04)"]
["MTS64201332",null,"SIPHON",null,null,{"$f":"LEFT(Catalogue[[#This Row],[Référence]],3)","v":"MTS"},{"$f":"VLOOKUP(Catalogue[[#This Row],[Alias]],#REF!,2,FALSE)","v":{"$error":"#REF!"}},null,"MTS65116684-03","CIRCUIT IMPRIME PRINCIPAL"]
["MTS65000261",null,"VANNE GAZ",null,null,{"$f":"LEFT(Catalogue[[#This Row],[Référence]],3)","v":"MTS"},{"$f":"VLOOKUP(Catalogue[[#This Row],[Alias]],#REF!,2,FALSE)","v":{"$error":"#REF!"}},null,"MTS65116816-01","SILENCIEUX 12 KW"]
["MTS65100296",null,"DEBISTAT BITRON 1/2 M-M",null,null,{"$f":"LEFT(Catalogue[[#This Row],[Référence]],3)","v":"MTS"},{"$f":"VLOOKUP(Catalogue[[#This Row],[Alias]],#REF!,2,FALSE)","v":{"$error":"#REF!"}},null,"MTS65117092","TUBE CONDENSE EN PLASTIQUE"]
["MTS65100686",null,"COUVERCLE",null,null,{"$f":"LEFT(Catalogue[[#This Row],[Référence]],3)","v":"MTS"},{"$f":"VLOOKUP(Catalogue[[#This Row],[Alias]],#REF!,2,FALSE)","v":{"$error":"#REF!"}},null,"MTS65117395","TUBE GAZ 24KW"]
["MTS65101435",null,"SONDE NTC",null,null,{"$f":"LEFT(Catalogue[[#This Row],[Référence]],3)","v":"MTS"},{"$f":"VLOOKUP(Catalogue[[#This Row],[Alias]],#REF!,2,FALSE)","v":{"$error":"#REF!"}},null,"MTS65117623","BRULEUR 14 BECS"]
["MTS65102331",null,"CIRCUIT RECEPTEUR",null,null,{"$f":"LEFT(Catalogue[[#This Row],[Référence]],3)","v":"MTS"},{"$f":"VLOOKUP(Catalogue[[#This Row],[Alias]],#REF!,2,FALSE)","v":{"$error":"#REF!"}},null,"MTS65118093","TAPS DE GROUPE DE DEBIT"]
["MTS65102543",null,"SONDE",null,null,{"$f":"LEFT(Catalogue[[#This Row],[Référence]],3)","v":"MTS"},{"$f":"VLOOKUP(Catalogue[[#This Row],[Alias]],#REF!,2,FALSE)","v":{"$error":"#REF!"}},null,"MTS65118608","BRULEUR CERAMAT 30KW (ANC. MTS60001289)"]
["MTS65103378",null,"BAC SIPHON",null,null,{"$f":"LEFT(Catalogue[[#This Row],[Référence]],3)","v":"MTS"},{"$f":"VLOOKUP(Catalogue[[#This Row],[Alias]],#REF!,2,FALSE)","v":{"$error":"#REF!"}},null,"MTS65119771","ROBINET DE REMPLISSAGE"]
["MTS65103425",null,"GROUPE RETOUR CHAUFFAGE",null,null,{"$f":"LEFT(Catalogue[[#This Row],[Référence]],3)","v":"MTS"},{"$f":"VLOOKUP(Catalogue[[#This Row],[Alias]],#REF!,2,FALSE)","v":{"$error":"#REF!"}},null,"MTS65119997","CIRCUITS IMPRIMES (ANC. MTS61316920)"]
["MTS65103797",null,"ANTIREFOULEUR",null,null,{"$f":"LEFT(Catalogue[[#This Row],[Référence]],3)","v":"MTS"},{"$f":"VLOOKUP(Catalogue[[#This Row],[Alias]],#REF!,2,FALSE)","v":{"$error":"#REF!"}},null,"MTS65120791","CARTE TDM"]
["MTS65104274",null,"ECHANGEUR",null,null,{"$f":"LEFT(Catalogue[[#This Row],[Référence]],3)","v":"MTS"},{"$f":"VLOOKUP(Catalogue[[#This Row],[Alias]],#REF!,2,FALSE)","v":{"$error":"#REF!"}},null,"MTS65151229","SONDE NTC CABLE (CHAUDIERE SORTIE)"]
["MTS65104323",null,"AMPOULE REED",null,null,{"$f":"LEFT(Catalogue[[#This Row],[Référence]],3)","v":"MTS"},{"$f":"VLOOKUP(Catalogue[[#This Row],[Alias]],#REF!,2,FALSE)","v":{"$error":"#REF!"}},null,"MTS65151798","SONDE TEMPERATURE AIR, EVAPORATEUR"]
["MTS65104357",null,"EXTRACTEUR DES FUMEES",null,null,{"$f":"LEFT(Catalogue[[#This Row],[Référence]],3)","v":"MTS"},{"$f":"VLOOKUP(Catalogue[[#This Row],[Alias]],#REF!,2,FALSE)","v":{"$error":"#REF!"}},null,"MTS65152198","CABLE"]
["MTS65104559",null,"POMPE",null,null,{"$f":"LEFT(Catalogue[[#This Row],[Référence]],3)","v":"MTS"},{"$f":"VLOOKUP(Catalogue[[#This Row],[Alias]],#REF!,2,FALSE)","v":{"$error":"#REF!"}},null,"MTS65152684","CIRCUIT IMPRIME PRINCIPAL CE"]
["MTS65104703S",null,"DEGAZEUR",null,null,{"$f":"LEFT(Catalogue[[#This Row],[Référence]],3)","v":"MTS"},{"$f":"VLOOKUP(Catalogue[[#This Row],[Alias]],#REF!,2,FALSE)","v":{"$error":"#REF!"}},null,"MTS65152935","BOBINE VALVE 4 VOIES"]
["MTS65105042S","Non concerné",{"$error":"#N/A"},30,2000007249158,{"$f":"LEFT(Catalogue[[#This Row],[Référence]],3)","v":"MTS"},{"$f":"VLOOKUP(Catalogue[[#This Row],[Alias]],#REF!,2,FALSE)","v":{"$error":"#REF!"}},null,"MTS65153059","DETENDEUR ELECTRONIQUE"]
["MTS65105735",null,"TUBE DEPART CHAUFFAGE",null,null,{"$f":"LEFT(Catalogue[[#This Row],[Référence]],3)","v":"MTS"},{"$f":"VLOOKUP(Catalogue[[#This Row],[Alias]],#REF!,2,FALSE)","v":{"$error":"#REF!"}},null,"MTS65153780","CABLE EVO B"]
["MTS65105836",null,"VALVE DE SECURITE (3 BAR)",null,null,{"$f":"LEFT(Catalogue[[#This Row],[Référence]],3)","v":"MTS"},{"$f":"VLOOKUP(Catalogue[[#This Row],[Alias]],#REF!,2,FALSE)","v":{"$error":"#REF!"}},null,"MTS65154226","CARTE INVERTER"]
["MTS65105859",null,"TUBE (CIRCULATEUR SANITAIR)",null,null,{"$f":"LEFT(Catalogue[[#This Row],[Référence]],3)","v":"MTS"},{"$f":"VLOOKUP(Catalogue[[#This Row],[Alias]],#REF!,2,FALSE)","v":{"$error":"#REF!"}},null,"MTS65154758","AFFICHEUR"]
["MTS65106156",null,"CABLAGE  VANNE 3 VOIES",null,null,{"$f":"LEFT(Catalogue[[#This Row],[Référence]],3)","v":"MTS"},{"$f":"VLOOKUP(Catalogue[[#This Row],[Alias]],#REF!,2,FALSE)","v":{"$error":"#REF!"}},null,"MTS65155804","ELECTRODE D ALLUMAGE"]
["MTS65106662",null,"MELANGEUR THERMOSTATIQUE",null,null,{"$f":"LEFT(Catalogue[[#This Row],[Référence]],3)","v":"MTS"},{"$f":"VLOOKUP(Catalogue[[#This Row],[Alias]],#REF!,2,FALSE)","v":{"$error":"#REF!"}},null,"MTS691214","THERMOSTAT TBS2"]
["MTS65107039",null,"SONDE (BALLON - INFERIEUR)",null,null,{"$f":"LEFT(Catalogue[[#This Row],[Référence]],3)","v":"MTS"},{"$f":"VLOOKUP(Catalogue[[#This Row],[Alias]],#REF!,2,FALSE)","v":{"$error":"#REF!"}},null,"MTS816098","RESISTANCE BLINDEE 2500W 230V"]
["MTS65108549",null,"CIRCUIT IMPRIME",null,null,{"$f":"LEFT(Catalogue[[#This Row],[Référence]],3)","v":"MTS"},{"$f":"VLOOKUP(Catalogue[[#This Row],[Alias]],#REF!,2,FALSE)","v":{"$error":"#REF!"}},null,"MTS925347","CIRCUIT IMPRIME"]
["MTS65109585",null,"CABLAGE  POMPE 2V 6M WILO",null,null,{"$f":"LEFT(Catalogue[[#This Row],[Référence]],3)","v":"MTS"},{"$f":"VLOOKUP(Catalogue[[#This Row],[Alias]],#REF!,2,FALSE)","v":{"$error":"#REF!"}},null,"MTS976749","RESISTANCE 2000W 230V"]
["MTS65110068",null,"SONDE TEMPERATURE AIR, EVAPORATEUR",null,null,{"$f":"LEFT(Catalogue[[#This Row],[Référence]],3)","v":"MTS"},{"$f":"VLOOKUP(Catalogue[[#This Row],[Alias]],#REF!,2,FALSE)","v":{"$error":"#REF!"}},null,"MTS990760","CABLAGE ANODE"]
["MTS65110561",null,"MELANGEUR THERMOSTATIQUE",null,null,{"$f":"LEFT(Catalogue[[#This Row],[Référence]],3)","v":"MTS"},{"$f":"VLOOKUP(Catalogue[[#This Row],[Alias]],#REF!,2,FALSE)","v":{"$error":"#REF!"}},null,"MTS992172","POT DE BRULEUR + PIEDS"]
["MTS65111038",null,"FUSIBLE T1,25A",null,null,{"$f":"LEFT(Catalogue[[#This Row],[Référence]],3)","v":"MTS"},{"$f":"VLOOKUP(Catalogue[[#This Row],[Alias]],#REF!,2,FALSE)","v":{"$error":"#REF!"}},null,"MTS996597","THERMOSTAT DE SECURITE 92DEG C"]
["MTS65111070",null,"BRULEUR GN",null,null,{"$f":"LEFT(Catalogue[[#This Row],[Référence]],3)","v":"MTS"},{"$f":"VLOOKUP(Catalogue[[#This Row],[Alias]],#REF!,2,FALSE)","v":{"$error":"#REF!"}},null,"MTS997230","ROBINET 3/4 FC 03/2016"]
["MTS65111608S","Non concerné","ECHANGEUR CONDENSATION 18-24 KW",100,2000007345966,{"$f":"LEFT(Catalogue[[#This Row],[Référence]],3)","v":"MTS"},{"$f":"VLOOKUP(Catalogue[[#This Row],[Alias]],#REF!,2,FALSE)","v":{"$error":"#REF!"}},null,"MTS998106","CABLAGE PRESSOSTAT/EXTRACTEUR"]
["MTS65112035-01",null,{"$f":"VLOOKUP(A29442,I:J,2,0)","v":"CIRCUIT IMPRIME SOLAR MANAGER EVO LOW"},null,null,{"$f":"LEFT(Catalogue[[#This Row],[Référence]],3)","v":"MTS"},{"$f":"VLOOKUP(Catalogue[[#This Row],[Alias]],#REF!,2,FALSE)","v":{"$error":"#REF!"}},null,"MTS998404","FIXATION GAUCHE SUPPORT GP HYD"]
["MTS65112218",null,"THERMOSTAT PROGR. BUS",null,null,{"$f":"LEFT(Catalogue[[#This Row],[Référence]],3)","v":"MTS"},{"$f":"VLOOKUP(Catalogue[[#This Row],[Alias]],#REF!,2,FALSE)","v":{"$error":"#REF!"}},null,"MTS999059","PORTILLON FRONTAL"]
["MTS65112751",null,"SONDE D  ASPIRATION TS",null,null,{"$f":"LEFT(Catalogue[[#This Row],[Référence]],3)","v":"MTS"},{"$f":"VLOOKUP(Catalogue[[#This Row],[Alias]],#REF!,2,FALSE)","v":{"$error":"#REF!"}},null,"MTS999604","PORTE INSTRUMENTS"]
["MTS65113054S","Non concerné",{"$error":"#N/A"},100,2000007354265,{"$f":"LEFT(Catalogue[[#This Row],[Référence]],3)","v":"MTS"},{"$f":"VLOOKUP(Catalogue[[#This Row],[Alias]],#REF!,2,FALSE)","v":{"$error":"#REF!"}},null,"NEST3010FD","THERMOSTAT CONNECTE NEST (PILES - RADIO)"]
["MTS65113172",null,"SONDE (BALLON)",null,null,{"$f":"LEFT(Catalogue[[#This Row],[Référence]],3)","v":"MTS"},{"$f":"VLOOKUP(Catalogue[[#This Row],[Alias]],#REF!,2,FALSE)","v":{"$error":"#REF!"}},null,"NIC0201022","SIPHON LAVAB 45 A 85 SORTIE 40"]
["MTS65113465",null,"GRILLE AVANT",null,null,{"$f":"LEFT(Catalogue[[#This Row],[Référence]],3)","v":"MTS"},{"$f":"VLOOKUP(Catalogue[[#This Row],[Alias]],#REF!,2,FALSE)","v":{"$error":"#REF!"}},null,"NIC0702111","MECANISME DOUBLE VOLUME A ETRIER      3V301    SAS"]
["MTS65114235",null,"ELECTRODE ALLUMAGE",null,null,{"$f":"LEFT(Catalogue[[#This Row],[Référence]],3)","v":"MTS"},{"$f":"VLOOKUP(Catalogue[[#This Row],[Alias]],#REF!,2,FALSE)","v":{"$error":"#REF!"}},null,"NICCARF","CLAPET ANTI-RETOUR D32 CARF"]
["MTS65114949",null,"BOUTEILLE DE DECOUPLAGE",null,null,{"$f":"LEFT(Catalogue[[#This Row],[Référence]],3)","v":"MTS"},{"$f":"VLOOKUP(Catalogue[[#This Row],[Alias]],#REF!,2,FALSE)","v":{"$error":"#REF!"}},null,"NICGDT125S","GRIL DESIGN VE D125 GAZ SAB GDT125S"]
["MTS65115128",null,"PRESSOSTAT AIR 120 / 135 PA",null,null,{"$f":"LEFT(Catalogue[[#This Row],[Référence]],3)","v":"MTS"},{"$f":"VLOOKUP(Catalogue[[#This Row],[Alias]],#REF!,2,FALSE)","v":{"$error":"#REF!"}},null,"NICQW3340","SORTIE DROITE D100 85/107 QW3340"]
["MTS65115782-04",null,"CIRCUIT IMPRIME PRINCIPAL",null,null,{"$f":"LEFT(Catalogue[[#This Row],[Référence]],3)","v":"MTS"},{"$f":"VLOOKUP(Catalogue[[#This Row],[Alias]],#REF!,2,FALSE)","v":{"$error":"#REF!"}},null,"ONE002237","DETECTEUR DE FUMEE NF ELEGANCE EXPERT 10"]
["MTS65115950",null,"CARTE INVERTER",null,null,{"$f":"LEFT(Catalogue[[#This Row],[Référence]],3)","v":"MTS"},{"$f":"VLOOKUP(Catalogue[[#This Row],[Alias]],#REF!,2,FALSE)","v":{"$error":"#REF!"}},null,"OVT1011665","TETE THERMOSTATIQUE UNI LH AVE"]
["MTS65116241",null,"CIRCUIT VULCANO 77",null,null,{"$f":"LEFT(Catalogue[[#This Row],[Référence]],3)","v":"MTS"},{"$f":"VLOOKUP(Catalogue[[#This Row],[Alias]],#REF!,2,FALSE)","v":{"$error":"#REF!"}},null,"OVT1085208","SOUPAPE ECHELLE GRAD 26X34  1085208"]
["MTS65116314S",null,"ECHANGEUR 12 PLAQUES",null,null,{"$f":"LEFT(Catalogue[[#This Row],[Référence]],3)","v":"MTS"},{"$f":"VLOOKUP(Catalogue[[#This Row],[Alias]],#REF!,2,FALSE)","v":{"$error":"#REF!"}},null,"OVT1091162","25 TES DE REGLAGE AVEC PREREGL"]
["MTS65116556-02",null,"ELECTRODE ALLUMAGE ET IONISATION",null,null,{"$f":"LEFT(Catalogue[[#This Row],[Référence]],3)","v":"MTS"},{"$f":"VLOOKUP(Catalogue[[#This Row],[Alias]],#REF!,2,FALSE)","v":{"$error":"#REF!"}},null,"OVT1187106","CORPS ROB.THERMOS.3/4 DROIT OV 1171187106"]
["MTS65116583",null,"CABLAGE ELECTRODE ALLUMAGE",null,null,{"$f":"LEFT(Catalogue[[#This Row],[Référence]],3)","v":"MTS"},{"$f":"VLOOKUP(Catalogue[[#This Row],[Alias]],#REF!,2,FALSE)","v":{"$error":"#REF!"}},null,"OVT2051","FLEXOBLOC SC A FLOTTEUR"]
["MTS65116695-01S",null,"Echangeur 24KW",null,null,{"$f":"LEFT(Catalogue[[#This Row],[Référence]],3)","v":"MTS"},{"$f":"VLOOKUP(Catalogue[[#This Row],[Alias]],#REF!,2,FALSE)","v":{"$error":"#REF!"}},null,"OVT2123261","FILTRE FOD SPLE CONDUIT.FF3/8     1362123261"]
["MTS65116779-01",null,"CABLAGE D'ALIMENTATION 2Z",null,null,{"$f":"LEFT(Catalogue[[#This Row],[Référence]],3)","v":"MTS"},{"$f":"VLOOKUP(Catalogue[[#This Row],[Alias]],#REF!,2,FALSE)","v":{"$error":"#REF!"}},null,"PAC060186","RESIST.EMB.1600W MONO TPS"]
["MTS65116858",null,"SONDES DE ZONES DE CABLAGE FSP",null,null,{"$f":"LEFT(Catalogue[[#This Row],[Référence]],3)","v":"MTS"},{"$f":"VLOOKUP(Catalogue[[#This Row],[Alias]],#REF!,2,FALSE)","v":{"$error":"#REF!"}},null,"PAL895700660","RESISTENZA 350W 230V (00 253 501 0)  resistence"]
["MTS65117308",null,"GROUPE RETOUR (SANS. REMPLIS.)",null,null,{"$f":"LEFT(Catalogue[[#This Row],[Référence]],3)","v":"MTS"},{"$f":"VLOOKUP(Catalogue[[#This Row],[Alias]],#REF!,2,FALSE)","v":{"$error":"#REF!"}},null,"PAL895722870","GRUPPO MICRO SICUREZZA PORTA  MICRO INTERRUPTEUR (COMPLETE)"]
["MTS65117628",null,"ANTIREFOULEUR 24 CF VMC",null,null,{"$f":"LEFT(Catalogue[[#This Row],[Référence]],3)","v":"MTS"},{"$f":"VLOOKUP(Catalogue[[#This Row],[Alias]],#REF!,2,FALSE)","v":{"$error":"#REF!"}},null,"PANACXA43C06110X","V-COIL COMPLETE WITH O-RING"]
["MTS65117895",null,"THERMOSTAT DE SURCHAUFFE 92DEG C",null,null,{"$f":"LEFT(Catalogue[[#This Row],[Référence]],3)","v":"MTS"},{"$f":"VLOOKUP(Catalogue[[#This Row],[Alias]],#REF!,2,FALSE)","v":{"$error":"#REF!"}},null,"PANACXA73C50171R","ELECTRONIC CONTROLLER-MAIN"]
["MTS65118169-02",null,"CIRCUIT EBUS2 DECOUPLEUR",null,null,{"$f":"LEFT(Catalogue[[#This Row],[Référence]],3)","v":"MTS"},{"$f":"VLOOKUP(Catalogue[[#This Row],[Alias]],#REF!,2,FALSE)","v":{"$error":"#REF!"}},null,"PANACXB53-00370","WATER PUMP (ZONE 2)"]
["MTS65118649-01",null,"CIRCUIT IMPRIME REM 3",null,null,{"$f":"LEFT(Catalogue[[#This Row],[Référence]],3)","v":"MTS"},{"$f":"VLOOKUP(Catalogue[[#This Row],[Alias]],#REF!,2,FALSE)","v":{"$error":"#REF!"}},null,"PANACXE20C00660","DISCHARGE GRILLE COMPLETE"]
["MTS65119744",null,"PORTE INSTRUMENTS",null,null,{"$f":"LEFT(Catalogue[[#This Row],[Référence]],3)","v":"MTS"},{"$f":"VLOOKUP(Catalogue[[#This Row],[Alias]],#REF!,2,FALSE)","v":{"$error":"#REF!"}},null,"PANCS-Z20VKEW","UNITE INTERIEURE GAMME Z BLANC MAT 2 KW - COMPATIBLE EN MULTI"]
["MTS65120199",null,"SONDE DE FUMEES 39-25°C",null,null,{"$f":"LEFT(Catalogue[[#This Row],[Référence]],3)","v":"MTS"},{"$f":"VLOOKUP(Catalogue[[#This Row],[Alias]],#REF!,2,FALSE)","v":{"$error":"#REF!"}},null,"PANCU-5Z90TBE","UNITE EXTERIEURE GAMME MULTI SPLIT Z DELUXE 5X1 DE 10KW - R32"]
["MTS65120993",null,"OUT. COPPER PIPE D18-0.9 + INOX FLEXIBLE",null,null,{"$f":"LEFT(Catalogue[[#This Row],[Référence]],3)","v":"MTS"},{"$f":"VLOOKUP(Catalogue[[#This Row],[Alias]],#REF!,2,FALSE)","v":{"$error":"#REF!"}},null,"PANCWA50C2816","SENSOR COMPLETE"]
["MTS65122287",null,"GROUPE DEPART CHAUFFAGE",null,null,{"$f":"LEFT(Catalogue[[#This Row],[Référence]],3)","v":"MTS"},{"$f":"VLOOKUP(Catalogue[[#This Row],[Alias]],#REF!,2,FALSE)","v":{"$error":"#REF!"}},null,"PANCWA75C4681","REMOTE CONTROL COMPLETE"]
["MTS65152047",null,"CARTE ELECTRONIQUE",null,null,{"$f":"LEFT(Catalogue[[#This Row],[Référence]],3)","v":"MTS"},{"$f":"VLOOKUP(Catalogue[[#This Row],[Alias]],#REF!,2,FALSE)","v":{"$error":"#REF!"}},null,"PANCZ-TAW1","AQUAREA SMART CLOUD - CONTROLE INTERNET PAR WIFI OU LAN FILAIRE POUR AQUAREA GENERATION H"]
["MTS65152643",null,"CARTE ELECTRONIQUE (CHX)",null,null,{"$f":"LEFT(Catalogue[[#This Row],[Référence]],3)","v":"MTS"},{"$f":"VLOOKUP(Catalogue[[#This Row],[Alias]],#REF!,2,FALSE)","v":{"$error":"#REF!"}},null,"PANPAW-TA20C1E5STD","BALLON EAU CHAUDE SANITAIRE 200L EN EMAIL - VANNE 3 VOIES NON INCLUSE"]
["MTS65152682",null,"EXTRACTEUR CE 40 MM",null,null,{"$f":"LEFT(Catalogue[[#This Row],[Référence]],3)","v":"MTS"},{"$f":"VLOOKUP(Catalogue[[#This Row],[Alias]],#REF!,2,FALSE)","v":{"$error":"#REF!"}},null,"PANWH-ADC0309K3E5B","MODULE HYDRAULIQUE AVEC ECS INTEGREE  ALL IN ONE  AVEC KIT 2 ZONES INSTALLE DE SERIE - 3 A 9 KW - MONOPHASE - COMPATIBLE GENERATION K R32"]
["MTS65152962",null,"CARTE ELECTRONIQUE",null,null,{"$f":"LEFT(Catalogue[[#This Row],[Référence]],3)","v":"MTS"},{"$f":"VLOOKUP(Catalogue[[#This Row],[Alias]],#REF!,2,FALSE)","v":{"$error":"#REF!"}},null,"PANWH-UD09JE5-1","UNITE EXTERIEURE GAMME HAUTE PERFORMANCE R32 9 KW MONOPHASE"]
["MTS65153060",null,"COMPRESSEUR ATQ360 (GMCC)",null,null,{"$f":"LEFT(Catalogue[[#This Row],[Référence]],3)","v":"MTS"},{"$f":"VLOOKUP(Catalogue[[#This Row],[Alias]],#REF!,2,FALSE)","v":{"$error":"#REF!"}},null,"PANWH-WDG07LE5","GAMME HAUTE PERFORMANCE - GENERATION L R290 - UNITE EXTERIEURE - 7 KW - MONOPHASE"]
["MTS65153777",null,"HMI",null,null,{"$f":"LEFT(Catalogue[[#This Row],[Référence]],3)","v":"MTS"},{"$f":"VLOOKUP(Catalogue[[#This Row],[Alias]],#REF!,2,FALSE)","v":{"$error":"#REF!"}},null,"PRE31001","ROB POUSSOIR PRESTO  1/2"]
["MTS65153801-03",null,"CARTE PRINCIPAL",null,null,{"$f":"LEFT(Catalogue[[#This Row],[Référence]],3)","v":"MTS"},{"$f":"VLOOKUP(Catalogue[[#This Row],[Alias]],#REF!,2,FALSE)","v":{"$error":"#REF!"}},null,"PRO1041","ASPIRATEUR NESO 250 25L 1041"]
["MTS65154774",null,"VENTILATEUR+VIS",null,null,{"$f":"LEFT(Catalogue[[#This Row],[Référence]],3)","v":"MTS"},{"$f":"VLOOKUP(Catalogue[[#This Row],[Alias]],#REF!,2,FALSE)","v":{"$error":"#REF!"}},null,"RASF201106004510300","RAD EC COMPACT 11 600 450 446W"]
["MTS65155469",null,"CABLAGE COMPRESSEUR",null,null,{"$f":"LEFT(Catalogue[[#This Row],[Référence]],3)","v":"MTS"},{"$f":"VLOOKUP(Catalogue[[#This Row],[Alias]],#REF!,2,FALSE)","v":{"$error":"#REF!"}},null,"RASF203305009010300","RAD EC COMPACT 33 500 900 2075W"]
["MTS691216",null,"THERMOSTAT A CANNE L:300",null,null,{"$f":"LEFT(Catalogue[[#This Row],[Référence]],3)","v":"MTS"},{"$f":"VLOOKUP(Catalogue[[#This Row],[Alias]],#REF!,2,FALSE)","v":{"$error":"#REF!"}},null,"RASF252219507511300","RAD EC VERTICAL 22 1950 750 2980W"]
["MTS816095",null,"RESISTANCE BLINDEE 1500W INOX",null,null,{"$f":"LEFT(Catalogue[[#This Row],[Référence]],3)","v":"MTS"},{"$f":"VLOOKUP(Catalogue[[#This Row],[Alias]],#REF!,2,FALSE)","v":{"$error":"#REF!"}},null,"RBM111026","KIT MGF 3/4 BLANC+AEROSOL CT01"]
["MTS935200",null,"KIT PRECABLAGE BAL-BRIO 150",null,null,{"$f":"LEFT(Catalogue[[#This Row],[Référence]],3)","v":"MTS"},{"$f":"VLOOKUP(Catalogue[[#This Row],[Alias]],#REF!,2,FALSE)","v":{"$error":"#REF!"}},null,"RBM310500","CORPS EQUERRE THERMOSTATIABLE"]
["MTS953770",null,"CIRCUIT IMPRIME REG ASIC EX C-MI/MFF",null,null,{"$f":"LEFT(Catalogue[[#This Row],[Référence]],3)","v":"MTS"},{"$f":"VLOOKUP(Catalogue[[#This Row],[Alias]],#REF!,2,FALSE)","v":{"$error":"#REF!"}},null,"RBM480400","ROBINET RADIATEUR THERMOSTATIS. RBM EQ RB48 PAS RBM 15X21"]
["MTS990686-01S","Non concerné","SONDE NTC+CLIP",3,2000007352452,{"$f":"LEFT(Catalogue[[#This Row],[Référence]],3)","v":"MTS"},{"$f":"VLOOKUP(Catalogue[[#This Row],[Alias]],#REF!,2,FALSE)","v":{"$error":"#REF!"}},null,"RET134K1170070100","RAD 11-700-700  COMPACT TYPE 11 H 700  L 700   744"]
["MTS992025",null,"CIRCUIT ACCES BALIXIA CANDM",null,null,{"$f":"LEFT(Catalogue[[#This Row],[Référence]],3)","v":"MTS"},{"$f":"VLOOKUP(Catalogue[[#This Row],[Alias]],#REF!,2,FALSE)","v":{"$error":"#REF!"}},null,"RET7411075090019010","RAD REGGANE 11C75 0900 G  1039W     18EL_CR385"]
["MTS995932",null,"BRIDE RETOUR",null,null,{"$f":"LEFT(Catalogue[[#This Row],[Référence]],3)","v":"MTS"},{"$f":"VLOOKUP(Catalogue[[#This Row],[Alias]],#REF!,2,FALSE)","v":{"$error":"#REF!"}},null,"REXBLL3178644","PLENUM ACIER REPRISE ARRIERE 500X400 MM"]
["MTS997089",null,"VANNE GAZ SIT845 SIGMA",null,null,{"$f":"LEFT(Catalogue[[#This Row],[Référence]],3)","v":"MTS"},{"$f":"VLOOKUP(Catalogue[[#This Row],[Alias]],#REF!,2,FALSE)","v":{"$error":"#REF!"}},null,"REXEI209TIB1412M1","COURONNE TUBE CU 1/4-1/2 ISOLE PE BLANC BLS2D0 (M1) 09M"]
["MTS998138S",null,"ECHANGEUR PRIMAIRE",null,null,{"$f":"LEFT(Catalogue[[#This Row],[Référence]],3)","v":"MTS"},{"$f":"VLOOKUP(Catalogue[[#This Row],[Alias]],#REF!,2,FALSE)","v":{"$error":"#REF!"}},null,"REXEI2AP01","POMPE DE 15L/H POUR APPAREIL JUSQU A 10 KW (35000BTU) AVEC A"]
["MTS998490",null,"KIT BYPASS CIRCUIT PRIMAIRE",null,null,{"$f":"LEFT(Catalogue[[#This Row],[Référence]],3)","v":"MTS"},{"$f":"VLOOKUP(Catalogue[[#This Row],[Alias]],#REF!,2,FALSE)","v":{"$error":"#REF!"}},null,"REXERI563900","BD-80-100A"]
["MTS998807S","Non concerné","VENTILATEUR",30,2000003686315,{"$f":"LEFT(Catalogue[[#This Row],[Référence]],3)","v":"MTS"},{"$f":"VLOOKUP(Catalogue[[#This Row],[Alias]],#REF!,2,FALSE)","v":{"$error":"#REF!"}},null,"REXGUR24000","ROBINET D ARRET DN15 POIGNEEJ MALE G3/4  - 500MB SANS PATTE"]
["MTS999242",null,"ROBINET 1/2",null,null,{"$f":"LEFT(Catalogue[[#This Row],[Référence]],3)","v":"MTS"},{"$f":"VLOOKUP(Catalogue[[#This Row],[Alias]],#REF!,2,FALSE)","v":{"$error":"#REF!"}},null,"REXHAGEG203P","PROG MOD ELEC FP 2 ZONES 7J 2M PAR1"]
["NAT999209",null,"AERATEUR CONDUITS LONGS TT EXPERT 100",null,null,{"$f":"LEFT(Catalogue[[#This Row],[Référence]],3)","v":"NAT"},{"$f":"VLOOKUP(Catalogue[[#This Row],[Alias]],#REF!,2,FALSE)","v":{"$error":"#REF!"}},null,"REXHAGKF83B","BORNE DE RAC.1P LANG. 2X25MM²"]
["NIC0103001",null,"TETE RENOV UNIVERSELLE 12X17",null,null,{"$f":"LEFT(Catalogue[[#This Row],[Référence]],3)","v":"NIC"},{"$f":"VLOOKUP(Catalogue[[#This Row],[Alias]],#REF!,2,FALSE)","v":{"$error":"#REF!"}},null,"REXHAGMFS720","DISJ. 1P+N 3KA C20A SANVIS 1M"]
["NIC0205110",null,"BONDE DOUCHE DROITE SAS PVC DIA.90 JC40",null,null,{"$f":"LEFT(Catalogue[[#This Row],[Référence]],3)","v":"NIC"},{"$f":"VLOOKUP(Catalogue[[#This Row],[Alias]],#REF!,2,FALSE)","v":{"$error":"#REF!"}},null,"REXHAGNGT732","DISJ.1P+N 6-10KA D-32A 1M"]
["NIC1M114",null,"GRILLE SPLE CARREE AM PVC BLC  NICOLL   1M114",null,null,{"$f":"LEFT(Catalogue[[#This Row],[Référence]],3)","v":"NIC"},{"$f":"VLOOKUP(Catalogue[[#This Row],[Alias]],#REF!,2,FALSE)","v":{"$error":"#REF!"}},null,"REXLEG004816","BORNIER PHASE 2X35MM2+4X25MM2                G"]
["NICGATM110",null,"GRILLE NICOLL RONDE A.M. GATM110",null,null,{"$f":"LEFT(Catalogue[[#This Row],[Référence]],3)","v":"NIC"},{"$f":"VLOOKUP(Catalogue[[#This Row],[Alias]],#REF!,2,FALSE)","v":{"$error":"#REF!"}},null,"REXLEG042856","TRANSFO.EQUIP.24V 63VA UNI"]
["NICIX4",null,"REDUC MF EXT EXC D125/ 80 IX4",null,null,{"$f":"LEFT(Catalogue[[#This Row],[Référence]],3)","v":"NIC"},{"$f":"VLOOKUP(Catalogue[[#This Row],[Alias]],#REF!,2,FALSE)","v":{"$error":"#REF!"}},null,"REXLEG067345","RJ45 DATA/TEL FTP CELIANE                    G"]
["NOI164073585",null,"CONVECTEUR NOIROT SPOT II 1500W",null,null,{"$f":"LEFT(Catalogue[[#This Row],[Référence]],3)","v":"NOI"},{"$f":"VLOOKUP(Catalogue[[#This Row],[Alias]],#REF!,2,FALSE)","v":{"$error":"#REF!"}},null,"REXLEG086040","PRISE TV SAILLIE                             G"]
["ONEEVA033534",null,"DETECTEUR DE FUMEE NF PILE 9 V - AUTONOMIE 5 ANS CERTIFIEE.GARANTIE 3 ANS",null,null,{"$f":"LEFT(Catalogue[[#This Row],[Référence]],3)","v":"ONE"},{"$f":"VLOOKUP(Catalogue[[#This Row],[Alias]],#REF!,2,FALSE)","v":{"$error":"#REF!"}},null,"REXLEG406776","DNX3 1P+NG C25 4500A/6KA                     G"]
["OVT1012295",null,{"$f":"VLOOKUP(A30658,I:J,2,0)","v":"TETE THERMO.CDE A DIST.Uni LH      5171012295"},null,null,{"$f":"LEFT(Catalogue[[#This Row],[Référence]],3)","v":"OVT"},{"$f":"VLOOKUP(Catalogue[[#This Row],[Alias]],#REF!,2,FALSE)","v":{"$error":"#REF!"}},null,"REXLEG406910","DX3 4P C16 4500A/6KA 3M                      G"]
["OVT1180704",null,"CORPS DE ROBINET THERMOSTATIQUE 1/2 DRO",null,null,{"$f":"LEFT(Catalogue[[#This Row],[Référence]],3)","v":"OVT"},{"$f":"VLOOKUP(Catalogue[[#This Row],[Alias]],#REF!,2,FALSE)","v":{"$error":"#REF!"}},null,"REXMER15381","CT 2NO 40A PAR1  FC 11/2015"]
["OVT1183864",null,"CORPS ROB DR 15X21 DN15 AV6 1183864",null,null,{"$f":"LEFT(Catalogue[[#This Row],[Référence]],3)","v":"OVT"},{"$f":"VLOOKUP(Catalogue[[#This Row],[Alias]],#REF!,2,FALSE)","v":{"$error":"#REF!"}},null,"REXPLW16280","VIADIS 40X25 BA"]
["OVT1190503",null,"ROB MANUEL SR EQ 12X17      1190503",null,null,{"$f":"LEFT(Catalogue[[#This Row],[Référence]],3)","v":"OVT"},{"$f":"VLOOKUP(Catalogue[[#This Row],[Alias]],#REF!,2,FALSE)","v":{"$error":"#REF!"}},null,"REXSCHXB4BD33","BOUTON TOURNANT NOIR DIAM 02"]
["OVT2064751",null,"OVENTROP-COMPLET MAZOUT SPECIAL TOC DUO N",null,null,{"$f":"LEFT(Catalogue[[#This Row],[Référence]],3)","v":"OVT"},{"$f":"VLOOKUP(Catalogue[[#This Row],[Alias]],#REF!,2,FALSE)","v":{"$error":"#REF!"}},null,"REXUNE600095","DOMEO 210 FL"]
["OVT2123104",null,"FILTRE MAZOUT MONOTUBE 15X21 2123104",null,null,{"$f":"LEFT(Catalogue[[#This Row],[Référence]],3)","v":"OVT"},{"$f":"VLOOKUP(Catalogue[[#This Row],[Alias]],#REF!,2,FALSE)","v":{"$error":"#REF!"}},null,"REXUNE673317","TLS 603 T"]
["PAL892605890",null,"PRESSOSTATO T.605 10/20 PA+STAFFA  pressostat",null,null,{"$f":"LEFT(Catalogue[[#This Row],[Référence]],3)","v":"PAL"},{"$f":"VLOOKUP(Catalogue[[#This Row],[Alias]],#REF!,2,FALSE)","v":{"$error":"#REF!"}},null,"REXUNE975617","MSF-250MANCHETTE SOUPLE 400DEGC"]
["PAL895725682",null,"VENTILATORE TANGENZIALE DX  ventilateur tangentiel",null,null,{"$f":"LEFT(Catalogue[[#This Row],[Référence]],3)","v":"PAL"},{"$f":"VLOOKUP(Catalogue[[#This Row],[Alias]],#REF!,2,FALSE)","v":{"$error":"#REF!"}},null,"RGS100021","SOUPAPE DIFFERENTIELLE EQUERRE MF 3/4"]
["PAN9231718319",null,"BEARING HOUSING ASSEMBLY",null,null,{"$f":"LEFT(Catalogue[[#This Row],[Référence]],3)","v":"PAN"},{"$f":"VLOOKUP(Catalogue[[#This Row],[Alias]],#REF!,2,FALSE)","v":{"$error":"#REF!"}},null,"RGS100078","VASE EXPANSION CHAUFFAGE 35L 3"]
["PANACXA73C08120R",null,"ELECTRONIC CONTROLLER. MAIN",null,null,{"$f":"LEFT(Catalogue[[#This Row],[Référence]],3)","v":"PAN"},{"$f":"VLOOKUP(Catalogue[[#This Row],[Alias]],#REF!,2,FALSE)","v":{"$error":"#REF!"}},null,"RGS100176","GROUPE SECURITENF SOUP.TEFLON"]
["PANACXB14-00610",null,"RECEIVER WH ADXX/WH SDXX",null,null,{"$f":"LEFT(Catalogue[[#This Row],[Référence]],3)","v":"PAN"},{"$f":"VLOOKUP(Catalogue[[#This Row],[Alias]],#REF!,2,FALSE)","v":{"$error":"#REF!"}},null,"RGS100289","MITIGEUR THERMOSTATIQUE COMPACT MMM3/4  CALEFFI"]
["PANACXB62-00910",null,"FLOW SENSOR",null,null,{"$f":"LEFT(Catalogue[[#This Row],[Référence]],3)","v":"PAN"},{"$f":"VLOOKUP(Catalogue[[#This Row],[Alias]],#REF!,2,FALSE)","v":{"$error":"#REF!"}},null,"RGS100317","AQUASTAT SECURITE REARM 90/110"]
["PANCS-TZ20TKEW",null,"UNITE INTERIEURE",null,null,{"$f":"LEFT(Catalogue[[#This Row],[Référence]],3)","v":"PAN"},{"$f":"VLOOKUP(Catalogue[[#This Row],[Alias]],#REF!,2,FALSE)","v":{"$error":"#REF!"}},null,"RGS10118","FAISCEAU DE POMPE SD 10300"]
["PANCU-TZ42ZKE",null,"UNITE EXTERIEURE GAMME TZ 4.2KW R32",null,null,{"$f":"LEFT(Catalogue[[#This Row],[Référence]],3)","v":"PAN"},{"$f":"VLOOKUP(Catalogue[[#This Row],[Alias]],#REF!,2,FALSE)","v":{"$error":"#REF!"}},null,"RGS105200","BOBINE DUNGS NDEG 100 220V"]
["PANCU-Z35TKE",null,"UNITE EXTERIEURE DESIGN ETHEREA Z 3,5KW R32",null,null,{"$f":"LEFT(Catalogue[[#This Row],[Référence]],3)","v":"PAN"},{"$f":"VLOOKUP(Catalogue[[#This Row],[Alias]],#REF!,2,FALSE)","v":{"$error":"#REF!"}},null,"RGS10543","SELECTEUR ETE/HIVER"]
["PANCWA747838",null,"ELECTRONIC CONTROLLER-NF",null,null,{"$f":"LEFT(Catalogue[[#This Row],[Référence]],3)","v":"PAN"},{"$f":"VLOOKUP(Catalogue[[#This Row],[Alias]],#REF!,2,FALSE)","v":{"$error":"#REF!"}},null,"RGS106737","DERIVATION 4500217001 HONEY"]
["PANCWB90C1090",null,"HOT WATER COIL-COMPLETE",null,null,{"$f":"LEFT(Catalogue[[#This Row],[Référence]],3)","v":"PAN"},{"$f":"VLOOKUP(Catalogue[[#This Row],[Alias]],#REF!,2,FALSE)","v":{"$error":"#REF!"}},null,"RGS106937","BLOC GAZ SIT - BLOC COMBINE 0.830.022"]
["PANL6CAYYYL0064",null,"FAN MOTOR",null,null,{"$f":"LEFT(Catalogue[[#This Row],[Référence]],3)","v":"PAN"},{"$f":"VLOOKUP(Catalogue[[#This Row],[Alias]],#REF!,2,FALSE)","v":{"$error":"#REF!"}},null,"RGS1091062/OV","COUDE DE REGLAGE COMBI 2 1/2 NICKELE"]
["PANPAW-TS2",null,"SONDE DE TEMPERATURE SANITAIRE AVEC CABLE",null,null,{"$f":"LEFT(Catalogue[[#This Row],[Référence]],3)","v":"PAN"},{"$f":"VLOOKUP(Catalogue[[#This Row],[Alias]],#REF!,2,FALSE)","v":{"$error":"#REF!"}},null,"RGS109456","GROUPE REMPLISSAGE AUTOMATIQUE AVEC MANO"]
["PANWH-MDC09J3E5",null,"GAMME HAUTE PERFORMANCE GENERATION J / MONOBLOC / 9 KW / MONOPHASE",null,null,{"$f":"LEFT(Catalogue[[#This Row],[Référence]],3)","v":"PAN"},{"$f":"VLOOKUP(Catalogue[[#This Row],[Alias]],#REF!,2,FALSE)","v":{"$error":"#REF!"}},null,"RGS110246","CLAPET DE NON RETOUR OBTURATEUR LAITON F1"]
["PER990688",null,"ROBINET REMPLISSAGE OPTITHERM",null,null,{"$f":"LEFT(Catalogue[[#This Row],[Référence]],3)","v":"PER"},{"$f":"VLOOKUP(Catalogue[[#This Row],[Alias]],#REF!,2,FALSE)","v":{"$error":"#REF!"}},null,"RGS110496/ATF","CORPS GROUPE SANIT"]
["POU17060704",null,"ELEMENT DROIT L 500 60/100 E.P",null,null,{"$f":"LEFT(Catalogue[[#This Row],[Référence]],3)","v":"POU"},{"$f":"VLOOKUP(Catalogue[[#This Row],[Alias]],#REF!,2,FALSE)","v":{"$error":"#REF!"}},null,"RGS110534","BALLON 100L 8 PIQUAGES MURAL OU SOL"]
["PRO3020",null,"PAT 710 NETTOYANT CDC ALUMINIUM SILICIUM",null,null,{"$f":"LEFT(Catalogue[[#This Row],[Référence]],3)","v":"PRO"},{"$f":"VLOOKUP(Catalogue[[#This Row],[Alias]],#REF!,2,FALSE)","v":{"$error":"#REF!"}},null,"RGS110705","DISCONNECTEUR CONTROLABLE BA2860 M3/4"]
["RAM571602S",null,"MITIGEUR BAIN-DOUCHE MONOTROU",null,null,{"$f":"LEFT(Catalogue[[#This Row],[Référence]],3)","v":"RAM"},{"$f":"VLOOKUP(Catalogue[[#This Row],[Alias]],#REF!,2,FALSE)","v":{"$error":"#REF!"}},null,"RGS110920","SOUPAPE CHAUFFAGE 3B MOLETTE F1/2"]
["RASF202106006030300",null,"RAD EC COMPACT 21S 600 600 809W",null,null,{"$f":"LEFT(Catalogue[[#This Row],[Référence]],3)","v":"RAS"},{"$f":"VLOOKUP(Catalogue[[#This Row],[Alias]],#REF!,2,FALSE)","v":{"$error":"#REF!"}},null,"RGS1589051221/EB","POMPE DWM 100A"]
["RASF252219504511300",null,"RAD EC VERTICAL 22 1950 450 1788W",null,null,{"$f":"LEFT(Catalogue[[#This Row],[Référence]],3)","v":"RAS"},{"$f":"VLOOKUP(Catalogue[[#This Row],[Alias]],#REF!,2,FALSE)","v":{"$error":"#REF!"}},null,"RGS20250","SOUPAPE DE SECURITE 3 BARS"]
["RBM20780300",null,"KIT THERMOSTATIQUE EQUERRE 3/8",null,null,{"$f":"LEFT(Catalogue[[#This Row],[Référence]],3)","v":"RBM"},{"$f":"VLOOKUP(Catalogue[[#This Row],[Alias]],#REF!,2,FALSE)","v":{"$error":"#REF!"}},null,"RGS208050","TRESSE AVEC PTFE 4MM/6.5 METRE"]
["RBM28480500",null,"RED PRESS RINOX+ & FILTRE 3/4",null,null,{"$f":"LEFT(Catalogue[[#This Row],[Référence]],3)","v":"RBM"},{"$f":"VLOOKUP(Catalogue[[#This Row],[Alias]],#REF!,2,FALSE)","v":{"$error":"#REF!"}},null,"RGS215008","GICLEUR FLUIDICS 0.60G 45DEG  SF"]
["RBM3010580T",null,"REPARTITEUR DROIT 20X27 EXPERT",null,null,{"$f":"LEFT(Catalogue[[#This Row],[Référence]],3)","v":"RBM"},{"$f":"VLOOKUP(Catalogue[[#This Row],[Alias]],#REF!,2,FALSE)","v":{"$error":"#REF!"}},null,"RGS215017","GICLEUR FLUIDICS 1.65G 45DEG  S"]
["RBM5900000",null,"TETE THERMOSTATIQUE RBM LIQUIDE FIXE TL10 5900000",null,null,{"$f":"LEFT(Catalogue[[#This Row],[Référence]],3)","v":"RBM"},{"$f":"VLOOKUP(Catalogue[[#This Row],[Alias]],#REF!,2,FALSE)","v":{"$error":"#REF!"}},null,"RGS215068","GICLEUR FLUIDICS 0.60G 45DEG  HF"]
["RET136U2690060000",null,"UNI-6 HABILLE 6 CONNEXIONS 21S 900 600   1105W",null,null,{"$f":"LEFT(Catalogue[[#This Row],[Référence]],3)","v":"RET"},{"$f":"VLOOKUP(Catalogue[[#This Row],[Alias]],#REF!,2,FALSE)","v":{"$error":"#REF!"}},null,"RGS217404","GICLEUR DANFOSS 0.50G 80DEG  LES"]
["REXAF7XG13X015A",null,"ARMAFLEX XG AUTO ADHESIF-EP 13MM-DIAM 15MM",null,null,{"$f":"LEFT(Catalogue[[#This Row],[Référence]],3)","v":"REX"},{"$f":"VLOOKUP(Catalogue[[#This Row],[Alias]],#REF!,2,FALSE)","v":{"$error":"#REF!"}},null,"RGS30048","THERMOSTAT LIMITEUR DE 75DEG C"]
["REXEH3Q22708KD",null,"RADIATEUR ACIER QUINN Q22 700 800",null,null,{"$f":"LEFT(Catalogue[[#This Row],[Référence]],3)","v":"REX"},{"$f":"VLOOKUP(Catalogue[[#This Row],[Alias]],#REF!,2,FALSE)","v":{"$error":"#REF!"}},null,"RGS301079","POMPE AS 47 D 1596 6P 0500"]
["REXEI230TIB3858",null,"COURONNE CUIVRE 08-1MM 3/8-5/8 ISOLE PE BLANC 30M CARTON",null,null,{"$f":"LEFT(Catalogue[[#This Row],[Référence]],3)","v":"REX"},{"$f":"VLOOKUP(Catalogue[[#This Row],[Alias]],#REF!,2,FALSE)","v":{"$error":"#REF!"}},null,"RGS30178","THERMOSTAT 88DEG C"]
["REXEI2AS465BTE",null,"SUPPORT PRE-MONTE MURAL ACIER 450MM BARRE NIVEAU LG 800 MM A",null,null,{"$f":"LEFT(Catalogue[[#This Row],[Référence]],3)","v":"REX"},{"$f":"VLOOKUP(Catalogue[[#This Row],[Alias]],#REF!,2,FALSE)","v":{"$error":"#REF!"}},null,"RGS301932","POMPE AS 47 C 1538 6P 0200"]
["REXFFX16917",null,"FLEXCON PREMIUM 18 / 1,0 BAR",null,null,{"$f":"LEFT(Catalogue[[#This Row],[Référence]],3)","v":"REX"},{"$f":"VLOOKUP(Catalogue[[#This Row],[Alias]],#REF!,2,FALSE)","v":{"$error":"#REF!"}},null,"RGS303433","POMPE BFP 20 L5 71N0126"]
["REXHAGBDH425F",null,"BLOC DIF 3P+N 25A 30MA HI",null,null,{"$f":"LEFT(Catalogue[[#This Row],[Référence]],3)","v":"REX"},{"$f":"VLOOKUP(Catalogue[[#This Row],[Alias]],#REF!,2,FALSE)","v":{"$error":"#REF!"}},null,"RGS309318","POMPE GOTEC KD10"]
["REXHAGEN175",null,"RELAIS DSC VMC GAZ",null,null,{"$f":"LEFT(Catalogue[[#This Row],[Référence]],3)","v":"REX"},{"$f":"VLOOKUP(Catalogue[[#This Row],[Alias]],#REF!,2,FALSE)","v":{"$error":"#REF!"}},null,"RGS401030","BLOC ELECTRODE GAZ"]
["REXHAGKBN863A",null,"BARRES PONTAGE 3P+N 12 MOD",null,null,{"$f":"LEFT(Catalogue[[#This Row],[Référence]],3)","v":"REX"},{"$f":"VLOOKUP(Catalogue[[#This Row],[Alias]],#REF!,2,FALSE)","v":{"$error":"#REF!"}},null,"RGS402381","MOTEUR ELCO EL1 EB 95 C"]
["REXIBO00888",null,"GAN 120 W0 JOINT COUV TA-E/G",null,null,{"$f":"LEFT(Catalogue[[#This Row],[Référence]],3)","v":"REX"},{"$f":"VLOOKUP(Catalogue[[#This Row],[Alias]],#REF!,2,FALSE)","v":{"$error":"#REF!"}},null,"RGS404076","ELECTRODE ALLUMAGE RG1"]
["REXLEG001904",null,"COFFRET PLEXO3 IP65 4MOD                    G",null,null,{"$f":"LEFT(Catalogue[[#This Row],[Référence]],3)","v":"REX"},{"$f":"VLOOKUP(Catalogue[[#This Row],[Alias]],#REF!,2,FALSE)","v":{"$error":"#REF!"}},null,"RGS40493","CIRCUIT IMPRIME INECO MAX UN"]
["REXLEG004884",null,"REPARTTETRA100A   4MOD                    G",null,null,{"$f":"LEFT(Catalogue[[#This Row],[Référence]],3)","v":"REX"},{"$f":"VLOOKUP(Catalogue[[#This Row],[Alias]],#REF!,2,FALSE)","v":{"$error":"#REF!"}},null,"RGS40545","CIRCULATEUR DE CHAUFFAGE"]
["REXLEG042842",null,"TRANSFO.EQUIP.2X12V 100VA PAR 1  FC 07/2015",null,null,{"$f":"LEFT(Catalogue[[#This Row],[Référence]],3)","v":"REX"},{"$f":"VLOOKUP(Catalogue[[#This Row],[Alias]],#REF!,2,FALSE)","v":{"$error":"#REF!"}},null,"RGS406004","TRANSFO EBI 52F4058 CUENOD"]
["REXLEG086038",null,"CONJONCTEUR T SAILLIE                        G",null,null,{"$f":"LEFT(Catalogue[[#This Row],[Référence]],3)","v":"REX"},{"$f":"VLOOKUP(Catalogue[[#This Row],[Alias]],#REF!,2,FALSE)","v":{"$error":"#REF!"}},null,"RGS407211","1 PAIRE ELEC.WG1/2MONARCH"]
["REXLEG08690",null,"INTER DIFFERENTIEL RCD 40A   30 MA  FC 06/2015",null,null,{"$f":"LEFT(Catalogue[[#This Row],[Référence]],3)","v":"REX"},{"$f":"VLOOKUP(Catalogue[[#This Row],[Alias]],#REF!,2,FALSE)","v":{"$error":"#REF!"}},null,"RGS40750","JONCTION POUR BLOC SIT"]
["REXLEG406783",null,"DNX3 1P+NG C16 4500A/6KA AUTO                G",null,null,{"$f":"LEFT(Catalogue[[#This Row],[Référence]],3)","v":"REX"},{"$f":"VLOOKUP(Catalogue[[#This Row],[Alias]],#REF!,2,FALSE)","v":{"$error":"#REF!"}},null,"RGS40954","TRANSF. ALL. IDRA 3224B"]
["REXLEG411662",null,"DX3-ID 4PG 63A AC 30MA",null,null,{"$f":"LEFT(Catalogue[[#This Row],[Référence]],3)","v":"REX"},{"$f":"VLOOKUP(Catalogue[[#This Row],[Alias]],#REF!,2,FALSE)","v":{"$error":"#REF!"}},null,"RGS415114","JOINT 6 TROUS DIA.110"]
["REXLEG412501",null,"CX3 CT HC 230V 2F 25A                        G",null,null,{"$f":"LEFT(Catalogue[[#This Row],[Référence]],3)","v":"REX"},{"$f":"VLOOKUP(Catalogue[[#This Row],[Alias]],#REF!,2,FALSE)","v":{"$error":"#REF!"}},null,"RGS41526","DISCONNECTEUR 1/4  15.05.300"]
["REXSCHGV2ME05",null,"DISJ.MOT.MTH 0,63-1 02",null,null,{"$f":"LEFT(Catalogue[[#This Row],[Référence]],3)","v":"REX"},{"$f":"VLOOKUP(Catalogue[[#This Row],[Alias]],#REF!,2,FALSE)","v":{"$error":"#REF!"}},null,"RGS425202","RAC.FIL.1/8M RAC.F1/8 TOU"]
["REXTEE034309",null,"DISJ.MOT.MTH 2,5-4",null,null,{"$f":"LEFT(Catalogue[[#This Row],[Référence]],3)","v":"REX"},{"$f":"VLOOKUP(Catalogue[[#This Row],[Alias]],#REF!,2,FALSE)","v":{"$error":"#REF!"}},null,"RGS431064","BLOC GAZ HONEY VK4105Q2010"]
["REXUNE604140",null,"DECO 2 N",null,null,{"$f":"LEFT(Catalogue[[#This Row],[Référence]],3)","v":"REX"},{"$f":"VLOOKUP(Catalogue[[#This Row],[Alias]],#REF!,2,FALSE)","v":{"$error":"#REF!"}},null,"RGS432136","LIGNE GICLEUR NON RECH ARES"]
["REXUNE820194",null,"GA 160",null,null,{"$f":"LEFT(Catalogue[[#This Row],[Référence]],3)","v":"REX"},{"$f":"VLOOKUP(Catalogue[[#This Row],[Alias]],#REF!,2,FALSE)","v":{"$error":"#REF!"}},null,"RGS439096","AQUAST. BULB. TUA 3C112"]
["RGS100012",null,"VASE D EXPANSION A MEMBRANE 80L",null,null,{"$f":"LEFT(Catalogue[[#This Row],[Référence]],3)","v":"RGS"},{"$f":"VLOOKUP(Catalogue[[#This Row],[Alias]],#REF!,2,FALSE)","v":{"$error":"#REF!"}},null,"RGS459193","NTC 1 -2"]
["RGS100054",null,"PURGEUR ROBOCAL PR M3/8",null,null,{"$f":"LEFT(Catalogue[[#This Row],[Référence]],3)","v":"RGS"},{"$f":"VLOOKUP(Catalogue[[#This Row],[Alias]],#REF!,2,FALSE)","v":{"$error":"#REF!"}},null,"RGS470011","LIGNE GICLEUR"]
["RGS100104",null,"POMPE NXL 53 - 32 P",null,null,{"$f":"LEFT(Catalogue[[#This Row],[Référence]],3)","v":"RGS"},{"$f":"VLOOKUP(Catalogue[[#This Row],[Alias]],#REF!,2,FALSE)","v":{"$error":"#REF!"}},null,"RGS501220","CELLULE 8205"]
["RGS10018",null,"DIFF IT - COUVERCLE MICROSWITCH",null,null,{"$f":"LEFT(Catalogue[[#This Row],[Référence]],3)","v":"RGS"},{"$f":"VLOOKUP(Catalogue[[#This Row],[Alias]],#REF!,2,FALSE)","v":{"$error":"#REF!"}},null,"RGS501520","CELLULE 8212"]
["RGS100286",null,"RACCORD DIELECTRIQUE MF1/2",null,null,{"$f":"LEFT(Catalogue[[#This Row],[Référence]],3)","v":"RGS"},{"$f":"VLOOKUP(Catalogue[[#This Row],[Alias]],#REF!,2,FALSE)","v":{"$error":"#REF!"}},null,"RGS50218","BOUCHE POUR VMC GAZ 45/135M3/H"]
["RGS10035",null,"MOTEUR TURBINE D EXTRACTEUR",null,null,{"$f":"LEFT(Catalogue[[#This Row],[Référence]],3)","v":"RGS"},{"$f":"VLOOKUP(Catalogue[[#This Row],[Alias]],#REF!,2,FALSE)","v":{"$error":"#REF!"}},null,"RGS50242","GAINE VMC DIAM125MM (L20M)"]
["RGS103039",null,"ELECTROVANNE 3/4  BSOD 230VAC NO PDNN",null,null,{"$f":"LEFT(Catalogue[[#This Row],[Référence]],3)","v":"RGS"},{"$f":"VLOOKUP(Catalogue[[#This Row],[Alias]],#REF!,2,FALSE)","v":{"$error":"#REF!"}},null,"RGS504043","BOITE DE CONTROLE BRAHMA TM31"]
["RGS106501",null,"BCT 881 GN BLOC COMBINE",null,null,{"$f":"LEFT(Catalogue[[#This Row],[Référence]],3)","v":"RGS"},{"$f":"VLOOKUP(Catalogue[[#This Row],[Alias]],#REF!,2,FALSE)","v":{"$error":"#REF!"}},null,"RGS507041","TFI 812.5"]
["RGS106642",null,"BOB ELECTROV SIT NOVA 24V",null,null,{"$f":"LEFT(Catalogue[[#This Row],[Référence]],3)","v":"RGS"},{"$f":"VLOOKUP(Catalogue[[#This Row],[Alias]],#REF!,2,FALSE)","v":{"$error":"#REF!"}},null,"RGS508043","S4565BF1112 RELAIS HONEYWELL"]
["RGS106731",null,"KIT VEILLEUSE Q 385 A 2010 B",null,null,{"$f":"LEFT(Catalogue[[#This Row],[Référence]],3)","v":"RGS"},{"$f":"VLOOKUP(Catalogue[[#This Row],[Alias]],#REF!,2,FALSE)","v":{"$error":"#REF!"}},null,"RGS51014","REGULATEUR GN SORTIE 2.5`20MB"]
["RGS106955",null,"BLOC VR 4605 NA 2007",null,null,{"$f":"LEFT(Catalogue[[#This Row],[Référence]],3)","v":"RGS"},{"$f":"VLOOKUP(Catalogue[[#This Row],[Alias]],#REF!,2,FALSE)","v":{"$error":"#REF!"}},null,"RGS6019801/SIM","ISOLATION PORTE ANTERIEUR CH. COMB."]
["RGS109121",null,"VANNE DE ZONE 3 VOIES TYPE SF 20",null,null,{"$f":"LEFT(Catalogue[[#This Row],[Référence]],3)","v":"RGS"},{"$f":"VLOOKUP(Catalogue[[#This Row],[Alias]],#REF!,2,FALSE)","v":{"$error":"#REF!"}},null,"RGS602161","FLEXIBLE FIOUL COUDE 1000MM AVEC 2 RACCORDS"]
["RGS109969",null,"COMPENSATEUR DILATATION 3/4",null,null,{"$f":"LEFT(Catalogue[[#This Row],[Référence]],3)","v":"RGS"},{"$f":"VLOOKUP(Catalogue[[#This Row],[Alias]],#REF!,2,FALSE)","v":{"$error":"#REF!"}},null,"RGS606043","THERMOMETRE ROND 0DEG  A 120DEG C DIAM43MM CAP 1500 GAINE"]
["RGS110451",null,"SOUPAPE CHAUFFAGE SORTIE MAJOREE 3B",null,null,{"$f":"LEFT(Catalogue[[#This Row],[Référence]],3)","v":"RGS"},{"$f":"VLOOKUP(Catalogue[[#This Row],[Alias]],#REF!,2,FALSE)","v":{"$error":"#REF!"}},null,"RGS6230669/SIM","CARTE ELECTRONIQUE 24V"]
["RGS110523",null,"SOUPAPE CHAUFFAGE 3B MOLETTE F1  GROS DEBITS",null,null,{"$f":"LEFT(Catalogue[[#This Row],[Référence]],3)","v":"RGS"},{"$f":"VLOOKUP(Catalogue[[#This Row],[Alias]],#REF!,2,FALSE)","v":{"$error":"#REF!"}},null,"RGS683847","VANNE 4 VOIES F1 VCI31.25"]
["RGS110574",null,"FLEX MF 3/4 COUDE L 500MM DN20",null,null,{"$f":"LEFT(Catalogue[[#This Row],[Référence]],3)","v":"RGS"},{"$f":"VLOOKUP(Catalogue[[#This Row],[Alias]],#REF!,2,FALSE)","v":{"$error":"#REF!"}},null,"RGS701556","CONDENSATEUR PERMANENT 20MICRO F DIAM40X97(HORS TOUS 120)"]
["RGS110728",null,"KIT MGF ET TREECLEAN 500ML",null,null,{"$f":"LEFT(Catalogue[[#This Row],[Référence]],3)","v":"RGS"},{"$f":"VLOOKUP(Catalogue[[#This Row],[Alias]],#REF!,2,FALSE)","v":{"$error":"#REF!"}},null,"RGS703429","AQUASTAT REGULTION A BULBE IMIT TR2"]
["RGS111048",null,"BALLON TAMPON STA PUFFER 8 PIQUAGES 50L MURAL",null,null,{"$f":"LEFT(Catalogue[[#This Row],[Référence]],3)","v":"RGS"},{"$f":"VLOOKUP(Catalogue[[#This Row],[Alias]],#REF!,2,FALSE)","v":{"$error":"#REF!"}},null,"RGS703543","THERMOSTAT A CANNE TSE 270 A AXE"]
["RGS20009",null,"KIT POMPE 1V+CONDENS. - FC 022015",null,null,{"$f":"LEFT(Catalogue[[#This Row],[Référence]],3)","v":"RGS"},{"$f":"VLOOKUP(Catalogue[[#This Row],[Alias]],#REF!,2,FALSE)","v":{"$error":"#REF!"}},null,"RGS703610","THERMOST CE TAS 450"]
["RGS20370",null,"POMPE + DEGAZEUR 15/50",null,null,{"$f":"LEFT(Catalogue[[#This Row],[Référence]],3)","v":"RGS"},{"$f":"VLOOKUP(Catalogue[[#This Row],[Alias]],#REF!,2,FALSE)","v":{"$error":"#REF!"}},null,"RGS704477","DERIVATION DE THERMOCOUPLE SIT M9 X F9 COSSE MALE 6.35"]
["RGS212033",null,"GICLEUR STEINEN 0.40G 45DEG  ST",null,null,{"$f":"LEFT(Catalogue[[#This Row],[Référence]],3)","v":"RGS"},{"$f":"VLOOKUP(Catalogue[[#This Row],[Alias]],#REF!,2,FALSE)","v":{"$error":"#REF!"}},null,"RGS705632","RAC. DROIT LAITON 3/4"]
["RGS215010",null,"GICLEUR FLUIDICS 0.75G 45DEG  SF",null,null,{"$f":"LEFT(Catalogue[[#This Row],[Référence]],3)","v":"RGS"},{"$f":"VLOOKUP(Catalogue[[#This Row],[Alias]],#REF!,2,FALSE)","v":{"$error":"#REF!"}},null,"RGS708579","PRESSOSTAT HUBA 80PA"]
["RGS215043",null,"GICLEUR FLUIDICS 2.25G 60DEG  S",null,null,{"$f":"LEFT(Catalogue[[#This Row],[Référence]],3)","v":"RGS"},{"$f":"VLOOKUP(Catalogue[[#This Row],[Alias]],#REF!,2,FALSE)","v":{"$error":"#REF!"}},null,"RGS801505","1ELEC.IO.8X60TG300 DN6.35"]
["RGS215085",null,"GICLEUR FLUIDICS 0.45G 60DEG  HF",null,null,{"$f":"LEFT(Catalogue[[#This Row],[Référence]],3)","v":"RGS"},{"$f":"VLOOKUP(Catalogue[[#This Row],[Alias]],#REF!,2,FALSE)","v":{"$error":"#REF!"}},null,"RGS802200","NECESSAIRE DE DEPANNAGE"]
["RGS30064",null,"TETE SOUPAPE CHAUFFAGE 3B",null,null,{"$f":"LEFT(Catalogue[[#This Row],[Référence]],3)","v":"RGS"},{"$f":"VLOOKUP(Catalogue[[#This Row],[Alias]],#REF!,2,FALSE)","v":{"$error":"#REF!"}},null,"RGS806016","BAC CONDENSAT PVC 940X420MM"]
["RGS301084",null,"POMPE AS 47 B 1537 6P 0500",null,null,{"$f":"LEFT(Catalogue[[#This Row],[Référence]],3)","v":"RGS"},{"$f":"VLOOKUP(Catalogue[[#This Row],[Alias]],#REF!,2,FALSE)","v":{"$error":"#REF!"}},null,"RGS806607","FILTRE DESHYDRATEUR COMPACT REVERSIBLE"]
["RGS301540",null,"FILTRE DE POMPE",null,null,{"$f":"LEFT(Catalogue[[#This Row],[Référence]],3)","v":"RGS"},{"$f":"VLOOKUP(Catalogue[[#This Row],[Alias]],#REF!,2,FALSE)","v":{"$error":"#REF!"}},null,"RGS807040","RESISTANCE STEATITE DIAM52MM MONOBLOC STANDARD 2400"]
["RGS301815",null,{"$f":"VLOOKUP(A32386,I:J,2,0)","v":"POMPE AS 47 A 1602 6P 0500"},null,null,{"$f":"LEFT(Catalogue[[#This Row],[Référence]],3)","v":"RGS"},{"$f":"VLOOKUP(Catalogue[[#This Row],[Alias]],#REF!,2,FALSE)","v":{"$error":"#REF!"}},null,"RGS807240","RESISTANCE STEATITE DIAM47MM A BARILLET STANDARD 1200"]
["RGS30190",null,"RACCORD ENTREE SANITAIRE COMPLET",null,null,{"$f":"LEFT(Catalogue[[#This Row],[Référence]],3)","v":"RGS"},{"$f":"VLOOKUP(Catalogue[[#This Row],[Alias]],#REF!,2,FALSE)","v":{"$error":"#REF!"}},null,"RGS807290","ANODE 1 - DIAM26MM L500"]
["RGS30506",null,"RACCORD D ETANCHEITE LM 26 PV",null,null,{"$f":"LEFT(Catalogue[[#This Row],[Référence]],3)","v":"RGS"},{"$f":"VLOOKUP(Catalogue[[#This Row],[Alias]],#REF!,2,FALSE)","v":{"$error":"#REF!"}},null,"RGS853032","UP20-45 N 150 1x230V 50Hz 9H"]
["RGS40033",null,"DISCONNECTEUR",null,null,{"$f":"LEFT(Catalogue[[#This Row],[Référence]],3)","v":"RGS"},{"$f":"VLOOKUP(Catalogue[[#This Row],[Alias]],#REF!,2,FALSE)","v":{"$error":"#REF!"}},null,"RGS901406","MANOMETRE GLYCERINE 0-10B D100"]
["RGS401705",null,"VEILLEUSE COMPL.POLID.6071F/292",null,null,{"$f":"LEFT(Catalogue[[#This Row],[Référence]],3)","v":"RGS"},{"$f":"VLOOKUP(Catalogue[[#This Row],[Alias]],#REF!,2,FALSE)","v":{"$error":"#REF!"}},null,"RGS903461","FILTRE LAITON 1/2 A  et R"]
["RGS40329",null,"COFFRET CONTROL S4565C1025",null,null,{"$f":"LEFT(Catalogue[[#This Row],[Référence]],3)","v":"RGS"},{"$f":"VLOOKUP(Catalogue[[#This Row],[Alias]],#REF!,2,FALSE)","v":{"$error":"#REF!"}},null,"RGS904886","FILTRE MAGNETIQUE VORTEX300 M3/4"]
["RGS404307",null,"THERMO-MANOMETRE",null,null,{"$f":"LEFT(Catalogue[[#This Row],[Référence]],3)","v":"RGS"},{"$f":"VLOOKUP(Catalogue[[#This Row],[Alias]],#REF!,2,FALSE)","v":{"$error":"#REF!"}},null,"RGS906405","POMPE PERISTALTIQUE PE 5100"]
["RGS40502",null,"PLATINE MF02",null,null,{"$f":"LEFT(Catalogue[[#This Row],[Référence]],3)","v":"RGS"},{"$f":"VLOOKUP(Catalogue[[#This Row],[Alias]],#REF!,2,FALSE)","v":{"$error":"#REF!"}},null,"RGS908009","CARTOUCHE 50MICRO  ANTIMICROBIENNE"]
["RGS40573",null,"ELECTRODE D ALLUMAGE",null,null,{"$f":"LEFT(Catalogue[[#This Row],[Référence]],3)","v":"RGS"},{"$f":"VLOOKUP(Catalogue[[#This Row],[Alias]],#REF!,2,FALSE)","v":{"$error":"#REF!"}},null,"RGS98109","ROBINET DE VIDANGE A BOISSEAU FONCE M3/4"]
["RGS40613",null,"CIRCULATEUR VAILLANT",null,null,{"$f":"LEFT(Catalogue[[#This Row],[Référence]],3)","v":"RGS"},{"$f":"VLOOKUP(Catalogue[[#This Row],[Alias]],#REF!,2,FALSE)","v":{"$error":"#REF!"}},null,"RGS99001","MELANGEUR BAIN/DOUCHE"]
["RGS40840",null,"FLOTTEUR MAGNETIQUE R/RS",null,null,{"$f":"LEFT(Catalogue[[#This Row],[Référence]],3)","v":"RGS"},{"$f":"VLOOKUP(Catalogue[[#This Row],[Alias]],#REF!,2,FALSE)","v":{"$error":"#REF!"}},null,"RGSS50032731/BA","GICL.DELAVAN 050G 80DEG CT W"]
["RGS410600",null,"2 ELECTRODES ZH A6 033",null,null,{"$f":"LEFT(Catalogue[[#This Row],[Référence]],3)","v":"RGS"},{"$f":"VLOOKUP(Catalogue[[#This Row],[Alias]],#REF!,2,FALSE)","v":{"$error":"#REF!"}},null,"RIE101918","THERMOMETRE/ROND R103634"]
["RGS414092",null,"PIEZO PR OPTIMA ZH(PLUS DISPO)",null,null,{"$f":"LEFT(Catalogue[[#This Row],[Référence]],3)","v":"RGS"},{"$f":"VLOOKUP(Catalogue[[#This Row],[Alias]],#REF!,2,FALSE)","v":{"$error":"#REF!"}},null,"RIE20087038","CONDENSATEUR"]
["RGS41515",null,"PRESSOSTAT SANITAIRE",null,null,{"$f":"LEFT(Catalogue[[#This Row],[Référence]],3)","v":"RGS"},{"$f":"VLOOKUP(Catalogue[[#This Row],[Alias]],#REF!,2,FALSE)","v":{"$error":"#REF!"}},null,"RIE24004","24004 THERMOSTAT ECS"]
["RGS420007",null,"2 ELECTRODES LONGUE",null,null,{"$f":"LEFT(Catalogue[[#This Row],[Référence]],3)","v":"RGS"},{"$f":"VLOOKUP(Catalogue[[#This Row],[Alias]],#REF!,2,FALSE)","v":{"$error":"#REF!"}},null,"RIE3002437","GROUPE RECHAUFFEUR"]
["RGS425190",null,"ELECTRODE SPECIFIQUE 110 DV",null,null,{"$f":"LEFT(Catalogue[[#This Row],[Référence]],3)","v":"RGS"},{"$f":"VLOOKUP(Catalogue[[#This Row],[Alias]],#REF!,2,FALSE)","v":{"$error":"#REF!"}},null,"RIE3003779","CELLULE RL"]
["RGS431177",null,"PRESSOSTAT EAU CLIMAT",null,null,{"$f":"LEFT(Catalogue[[#This Row],[Référence]],3)","v":"RGS"},{"$f":"VLOOKUP(Catalogue[[#This Row],[Alias]],#REF!,2,FALSE)","v":{"$error":"#REF!"}},null,"RIE3005758","CONDENSTEUR"]
["RGS441052",null,"AQUAST. TG200 35/90DEG",null,null,{"$f":"LEFT(Catalogue[[#This Row],[Référence]],3)","v":"RGS"},{"$f":"VLOOKUP(Catalogue[[#This Row],[Alias]],#REF!,2,FALSE)","v":{"$error":"#REF!"}},null,"RIE3007565","BOBINE POMPE 404264"]
["RGS454046",null,"ELECTR.ALLUM.PACTROL X-PV",null,null,{"$f":"LEFT(Catalogue[[#This Row],[Référence]],3)","v":"RGS"},{"$f":"VLOOKUP(Catalogue[[#This Row],[Alias]],#REF!,2,FALSE)","v":{"$error":"#REF!"}},null,"RIE3007988","SONDE IONISATION BS2/BS3"]
["RGS459115",null,"RELAIS",null,null,{"$f":"LEFT(Catalogue[[#This Row],[Référence]],3)","v":"RGS"},{"$f":"VLOOKUP(Catalogue[[#This Row],[Alias]],#REF!,2,FALSE)","v":{"$error":"#REF!"}},null,"RIE3008652","BOITE CONTROL RIELLO 535RSE/LD"]
["RGS473005",null,"AQUAST.SECU STB83 COSMOGAS",null,null,{"$f":"LEFT(Catalogue[[#This Row],[Référence]],3)","v":"RGS"},{"$f":"VLOOKUP(Catalogue[[#This Row],[Alias]],#REF!,2,FALSE)","v":{"$error":"#REF!"}},null,"RIE3012129","ELECTRODES ALLUM RS 50 TC"]
["RGS50133",null,"230V.25A PUISSANCE NOMINALE 4KW",null,null,{"$f":"LEFT(Catalogue[[#This Row],[Référence]],3)","v":"RGS"},{"$f":"VLOOKUP(Catalogue[[#This Row],[Alias]],#REF!,2,FALSE)","v":{"$error":"#REF!"}},null,"RIE4034427","THERMOSTAT REGUL  INSIEME 2001"]
["RGS502006",null,"BOITE LANDIS LMO14 111A2/B2",null,null,{"$f":"LEFT(Catalogue[[#This Row],[Référence]],3)","v":"RGS"},{"$f":"VLOOKUP(Catalogue[[#This Row],[Alias]],#REF!,2,FALSE)","v":{"$error":"#REF!"}},null,"RIE4035862","ELECTRODE ALLUMAGE"]
["RGS50233",null,"BOUCHE THERMOGAZ 45/135/100 M3/H DIAM125/118",null,null,{"$f":"LEFT(Catalogue[[#This Row],[Référence]],3)","v":"RGS"},{"$f":"VLOOKUP(Catalogue[[#This Row],[Alias]],#REF!,2,FALSE)","v":{"$error":"#REF!"}},null,"RIE4048775","SOUPAPE DE SECURITE 3 BARS"]
["RGS504028",null,"BOITE DE CONTROLE SR3/02",null,null,{"$f":"LEFT(Catalogue[[#This Row],[Référence]],3)","v":"RGS"},{"$f":"VLOOKUP(Catalogue[[#This Row],[Alias]],#REF!,2,FALSE)","v":{"$error":"#REF!"}},null,"RIE4050653","4050653 THERMOSTAT SECURITE 24019 (fin de commercialisation au 18.10.2013)"]
["RGS504207",null,"CELLULE PHOTORESISTANTE ET UV BRAHMA FC7/R",null,null,{"$f":"LEFT(Catalogue[[#This Row],[Référence]],3)","v":"RGS"},{"$f":"VLOOKUP(Catalogue[[#This Row],[Alias]],#REF!,2,FALSE)","v":{"$error":"#REF!"}},null,"RIE4051012","VASE CIRCULAIRE 12 LITRES"]
["RGS507100",null,"CELLULE FZ 711",null,null,{"$f":"LEFT(Catalogue[[#This Row],[Référence]],3)","v":"RGS"},{"$f":"VLOOKUP(Catalogue[[#This Row],[Alias]],#REF!,2,FALSE)","v":{"$error":"#REF!"}},null,"RIE4051499","BRULEUR PILOTE"]
["RGS508073",null,"BOITE CONTRL HONEY S4565BD2021",null,null,{"$f":"LEFT(Catalogue[[#This Row],[Référence]],3)","v":"RGS"},{"$f":"VLOOKUP(Catalogue[[#This Row],[Alias]],#REF!,2,FALSE)","v":{"$error":"#REF!"}},null,"RIE4363572","ISOLANT LATERAL RESIDENCE"]
["RGS53008",null,"BLOC ELECTROSIT 810171",null,null,{"$f":"LEFT(Catalogue[[#This Row],[Référence]],3)","v":"RGS"},{"$f":"VLOOKUP(Catalogue[[#This Row],[Alias]],#REF!,2,FALSE)","v":{"$error":"#REF!"}},null,"RIE4363983","PLATEAU SALVASPAZZIO"]
["RGS602028",null,"KIT LIAISON POUR LIGNE GICLEUR",null,null,{"$f":"LEFT(Catalogue[[#This Row],[Référence]],3)","v":"RGS"},{"$f":"VLOOKUP(Catalogue[[#This Row],[Alias]],#REF!,2,FALSE)","v":{"$error":"#REF!"}},null,"RIE4364336","CARTE COMMANDE BENESSERRE KI"]
["RGS606135",null,"MANO STAND. D100 0/10 B",null,null,{"$f":"LEFT(Catalogue[[#This Row],[Référence]],3)","v":"RGS"},{"$f":"VLOOKUP(Catalogue[[#This Row],[Alias]],#REF!,2,FALSE)","v":{"$error":"#REF!"}},null,"RIE4364847","CARTE ELECTRONIQUE STUDETTE"]
["RGS6217007/SIM",null,"THERMOMANOMETRE",null,null,{"$f":"LEFT(Catalogue[[#This Row],[Référence]],3)","v":"RGS"},{"$f":"VLOOKUP(Catalogue[[#This Row],[Alias]],#REF!,2,FALSE)","v":{"$error":"#REF!"}},null,"RIE4365002","PROTECTION CIRCUIT IMPRIME"]
["RGS654185",null,"THERMOSTAT SIMPLE A MEMBRANE 54185",null,null,{"$f":"LEFT(Catalogue[[#This Row],[Référence]],3)","v":"RGS"},{"$f":"VLOOKUP(Catalogue[[#This Row],[Alias]],#REF!,2,FALSE)","v":{"$error":"#REF!"}},null,"RIE4365318","PLAQUE ISOLANT"]
["RGS701541",null,"CONDENSATEUR PERMANENT 1MICRO F DIAM32X57(HORS TOUS 76)",null,null,{"$f":"LEFT(Catalogue[[#This Row],[Référence]],3)","v":"RGS"},{"$f":"VLOOKUP(Catalogue[[#This Row],[Alias]],#REF!,2,FALSE)","v":{"$error":"#REF!"}},null,"RIE4365425","ISOLATION FOYER CONDEXA"]
["RGS703431",null,"AQUASTAT REGULATION A BULBE TYPE AB 200",null,null,{"$f":"LEFT(Catalogue[[#This Row],[Référence]],3)","v":"RGS"},{"$f":"VLOOKUP(Catalogue[[#This Row],[Alias]],#REF!,2,FALSE)","v":{"$error":"#REF!"}},null,"RIE4365856","PURGEUR AUTOMATIQUE FAMILY"]
["RGS703496",null,"KIT DOIGT DE GANT DIAM1/2 X190MM INT10MM",null,null,{"$f":"LEFT(Catalogue[[#This Row],[Référence]],3)","v":"RGS"},{"$f":"VLOOKUP(Catalogue[[#This Row],[Alias]],#REF!,2,FALSE)","v":{"$error":"#REF!"}},null,"RIE4365869","RAMPE GAZ"]
["RGS704023",null,"AQUASTAT DE REGULATION A BULBE TYPE GTLH0075",null,null,{"$f":"LEFT(Catalogue[[#This Row],[Référence]],3)","v":"RGS"},{"$f":"VLOOKUP(Catalogue[[#This Row],[Alias]],#REF!,2,FALSE)","v":{"$error":"#REF!"}},null,"RIE4366463","SONDE RESIDENCE CONDENS"]
["RGS704221",null,"DERIVATION DE THERMOCOUPLE UNIVERSELLE SANS CABLE",null,null,{"$f":"LEFT(Catalogue[[#This Row],[Référence]],3)","v":"RGS"},{"$f":"VLOOKUP(Catalogue[[#This Row],[Alias]],#REF!,2,FALSE)","v":{"$error":"#REF!"}},null,"RIE4366717","GROUPE HYDR CHAUFF"]
["RGS705111",null,"THERMOSTT AMBIANCE FLASH 54185",null,null,{"$f":"LEFT(Catalogue[[#This Row],[Référence]],3)","v":"RGS"},{"$f":"VLOOKUP(Catalogue[[#This Row],[Alias]],#REF!,2,FALSE)","v":{"$error":"#REF!"}},null,"RIE4367085","RICAMBIO PANNELLO COMA"]
["RGS708510",null,"GW50 A6 2.5A50 MB",null,null,{"$f":"LEFT(Catalogue[[#This Row],[Référence]],3)","v":"RGS"},{"$f":"VLOOKUP(Catalogue[[#This Row],[Alias]],#REF!,2,FALSE)","v":{"$error":"#REF!"}},null,"RIE4R100477","FLUSSOSTAT SANITAIRE"]
["RGS709073",null,"AQUASTAT LIMITEUR A BULBE TYPE IMIT TR2",null,null,{"$f":"LEFT(Catalogue[[#This Row],[Référence]],3)","v":"RGS"},{"$f":"VLOOKUP(Catalogue[[#This Row],[Alias]],#REF!,2,FALSE)","v":{"$error":"#REF!"}},null,"RIER01005214","KIT TRANSFORMATION GPL"]
["RGS802019",null,"KIT FIL HT PVC",null,null,{"$f":"LEFT(Catalogue[[#This Row],[Référence]],3)","v":"RGS"},{"$f":"VLOOKUP(Catalogue[[#This Row],[Alias]],#REF!,2,FALSE)","v":{"$error":"#REF!"}},null,"RIER10021388","ECHANGEUR PRONTAQUA- FC 02/2015"]
["RGS803001",null,"CONNECTEUR MONTE MALE 6 POLES",null,null,{"$f":"LEFT(Catalogue[[#This Row],[Référence]],3)","v":"RGS"},{"$f":"VLOOKUP(Catalogue[[#This Row],[Alias]],#REF!,2,FALSE)","v":{"$error":"#REF!"}},null,"RIER10022556","PRESOSTAT CONDENSAT"]
["RGS806352",null,"GOULOTTE 60 X 80 2M BLANC PUR 9010 FILMEE",null,null,{"$f":"LEFT(Catalogue[[#This Row],[Référence]],3)","v":"RGS"},{"$f":"VLOOKUP(Catalogue[[#This Row],[Alias]],#REF!,2,FALSE)","v":{"$error":"#REF!"}},null,"RIER10027351","SONDE CTN RESIDENCE FAMILY"]
["RGS806613",null,"FILTRE DESHYDRATEUR COMPACT REVERSIBLE",null,null,{"$f":"LEFT(Catalogue[[#This Row],[Référence]],3)","v":"RGS"},{"$f":"VLOOKUP(Catalogue[[#This Row],[Alias]],#REF!,2,FALSE)","v":{"$error":"#REF!"}},null,"RIER100595","PRESSOSTAT DOMUS R100595 REMPLACE 4050587"]
["RGS807132",null,"RESISTANCE STEATITE DIAM36MM MONOBLOC STANDARD 2400",null,null,{"$f":"LEFT(Catalogue[[#This Row],[Référence]],3)","v":"RGS"},{"$f":"VLOOKUP(Catalogue[[#This Row],[Alias]],#REF!,2,FALSE)","v":{"$error":"#REF!"}},null,"RIER102166","VASE EXPANSION 102166_LP170_630476"]
["RGS807260",null,"ANODE M8 DN26  LONG 400",null,null,{"$f":"LEFT(Catalogue[[#This Row],[Référence]],3)","v":"RGS"},{"$f":"VLOOKUP(Catalogue[[#This Row],[Alias]],#REF!,2,FALSE)","v":{"$error":"#REF!"}},null,"RIER103331","SONDE ION.COUDEE DOMUS 2EME       103331_LP170_630071"]
["RGS807424",null,"JOINT P/EMBASE CUMULUS",null,null,{"$f":"LEFT(Catalogue[[#This Row],[Référence]],3)","v":"RGS"},{"$f":"VLOOKUP(Catalogue[[#This Row],[Alias]],#REF!,2,FALSE)","v":{"$error":"#REF!"}},null,"RIER1806","SOUPAPE 3 bars"]
["RGS88017",null,"ELEMENT BLINDE KREB0018",null,null,{"$f":"LEFT(Catalogue[[#This Row],[Référence]],3)","v":"RGS"},{"$f":"VLOOKUP(Catalogue[[#This Row],[Alias]],#REF!,2,FALSE)","v":{"$error":"#REF!"}},null,"RIER2682","PLATINE COMMANDE N BENESSERRE"]
["RGS903454",null,"FILTRE FUEL BITUBE MF3/8",null,null,{"$f":"LEFT(Catalogue[[#This Row],[Référence]],3)","v":"RGS"},{"$f":"VLOOKUP(Catalogue[[#This Row],[Alias]],#REF!,2,FALSE)","v":{"$error":"#REF!"}},null,"RIER8444","JOINT"]
["RGS904403",null,"FILTRE PRIMAIRE COTON COLLERETTE",null,null,{"$f":"LEFT(Catalogue[[#This Row],[Référence]],3)","v":"RGS"},{"$f":"VLOOKUP(Catalogue[[#This Row],[Alias]],#REF!,2,FALSE)","v":{"$error":"#REF!"}},null,"RIER9962","C.I ALL RESIDENCE"]
["RGS905114",null,"CINTREUSE ABS 4 EN 1 3/16  A 3/8",null,null,{"$f":"LEFT(Catalogue[[#This Row],[Référence]],3)","v":"RGS"},{"$f":"VLOOKUP(Catalogue[[#This Row],[Alias]],#REF!,2,FALSE)","v":{"$error":"#REF!"}},null,"ROC122040250","PANNEAU REFRACTAIRE LT R/RS"]
["RGS906403",null,"POMPE DE RELEVAGE SI-10 AVEC DSD",null,null,{"$f":"LEFT(Catalogue[[#This Row],[Référence]],3)","v":"RGS"},{"$f":"VLOOKUP(Catalogue[[#This Row],[Alias]],#REF!,2,FALSE)","v":{"$error":"#REF!"}},null,"ROC122080320","CORPS FLOW-SWITCH"]
["RGS909406",null,"MECADIFF FC 08/02/2018",null,null,{"$f":"LEFT(Catalogue[[#This Row],[Référence]],3)","v":"RGS"},{"$f":"VLOOKUP(Catalogue[[#This Row],[Alias]],#REF!,2,FALSE)","v":{"$error":"#REF!"}},null,"ROC122155350","MANOMETRE DIGITAL"]
["RGS98015",null,"ROBINET EQUERRE SIMPLE REGLAGE",null,null,{"$f":"LEFT(Catalogue[[#This Row],[Référence]],3)","v":"RGS"},{"$f":"VLOOKUP(Catalogue[[#This Row],[Alias]],#REF!,2,FALSE)","v":{"$error":"#REF!"}},null,"ROC122450050","PRESSOSTAT LAURA"]
["RGS99458",null,"MEC. A CABLE DOUBLE DEBIT",null,null,{"$f":"LEFT(Catalogue[[#This Row],[Référence]],3)","v":"RGS"},{"$f":"VLOOKUP(Catalogue[[#This Row],[Alias]],#REF!,2,FALSE)","v":{"$error":"#REF!"}},null,"ROT1401000311","CUVE ROTHALEN+1500L A/ENV.SEC.PE  FC 09/2015"]
["RGSS100879/DD",null,"BRULEUR 15-25KW 198MM",null,null,{"$f":"LEFT(Catalogue[[#This Row],[Référence]],3)","v":"RGS"},{"$f":"VLOOKUP(Catalogue[[#This Row],[Alias]],#REF!,2,FALSE)","v":{"$error":"#REF!"}},null,"SAL2091532","CIRCULATEUR SALMSON COLLECTIF SIMPLE SIRIUX 50-60"]
["RIE101918",null,"THERMOMETRE/ROND R103634",null,null,{"$f":"LEFT(Catalogue[[#This Row],[Référence]],3)","v":"RIE"},{"$f":"VLOOKUP(Catalogue[[#This Row],[Alias]],#REF!,2,FALSE)","v":{"$error":"#REF!"}},null,"SAL4027982","CIRCULATEUR SALMSON ECS NSB25-20B MONO S/RACC"]
["RIE20137657",null,"BOITIER DE CONTROLE",null,null,{"$f":"LEFT(Catalogue[[#This Row],[Référence]],3)","v":"RIE"},{"$f":"VLOOKUP(Catalogue[[#This Row],[Alias]],#REF!,2,FALSE)","v":{"$error":"#REF!"}},null,"SAL4177690","CIRCULATEUR SALMSON CHAUF. DOUBLE PRIUX HOME D60-32"]
["RIE3001175",null,"BTE 553SE GULLIVER",null,null,{"$f":"LEFT(Catalogue[[#This Row],[Référence]],3)","v":"RIE"},{"$f":"VLOOKUP(Catalogue[[#This Row],[Alias]],#REF!,2,FALSE)","v":{"$error":"#REF!"}},null,"SCE13962","COFFRET KAEDRA 12M 02"]
["RIE3002437",null,"GROUPE RECHAUFFEUR",null,null,{"$f":"LEFT(Catalogue[[#This Row],[Référence]],3)","v":"RIE"},{"$f":"VLOOKUP(Catalogue[[#This Row],[Alias]],#REF!,2,FALSE)","v":{"$error":"#REF!"}},null,"SCEA9DK1616","IDDT40 1PN C 16A 30MA AC 4,5KA                    02"]
["RIE3003895",null,"ELECT ALL/TL RS28/1-38/1",null,null,{"$f":"LEFT(Catalogue[[#This Row],[Référence]],3)","v":"RIE"},{"$f":"VLOOKUP(Catalogue[[#This Row],[Alias]],#REF!,2,FALSE)","v":{"$error":"#REF!"}},null,"SCEA9N21105","DT40K 4,5KA 1P+N C 20A 02"]
["RIE3006907",null,"1ELECT.IONISATION GS 3C",null,null,{"$f":"LEFT(Catalogue[[#This Row],[Référence]],3)","v":"RIE"},{"$f":"VLOOKUP(Catalogue[[#This Row],[Alias]],#REF!,2,FALSE)","v":{"$error":"#REF!"}},null,"SCEA9R11263","IID 2P 63A 30MA AC 02"]
["RIE3007771",null,"POMPE GULLIVER RG1",null,null,{"$f":"LEFT(Catalogue[[#This Row],[Référence]],3)","v":"RIE"},{"$f":"VLOOKUP(Catalogue[[#This Row],[Alias]],#REF!,2,FALSE)","v":{"$error":"#REF!"}},null,"SCEATV320U07M2C","ATV320 0,75KW 200V 1PH CP TIC 22"]
["RIE3008491",null,"CABLE HT (5PCS)",null,null,{"$f":"LEFT(Catalogue[[#This Row],[Référence]],3)","v":"RIE"},{"$f":"VLOOKUP(Catalogue[[#This Row],[Alias]],#REF!,2,FALSE)","v":{"$error":"#REF!"}},null,"SCELC1D09P7","CONT 9A 1F 1O 230V 50 60 02"]
["RIE3008815",null,"CLAPET AIR RG/1",null,null,{"$f":"LEFT(Catalogue[[#This Row],[Référence]],3)","v":"RIE"},{"$f":"VLOOKUP(Catalogue[[#This Row],[Alias]],#REF!,2,FALSE)","v":{"$error":"#REF!"}},null,"SCER9EFD620","DISJONCTEUR XE 1P+N 20A D 02"]
["RIE3013071",null,"BOITE CONTROLE RMO*88/53",null,null,{"$f":"LEFT(Catalogue[[#This Row],[Référence]],3)","v":"RIE"},{"$f":"VLOOKUP(Catalogue[[#This Row],[Alias]],#REF!,2,FALSE)","v":{"$error":"#REF!"}},null,"SCER9PFC720","RESI9 XP - DISJONCTEUR MODULAIRE - 3P+N - 20A - COURBE C - PEIGNABLE"]
["RIE4038147",null,"PRESSOSTAT EAU",null,null,{"$f":"LEFT(Catalogue[[#This Row],[Référence]],3)","v":"RIE"},{"$f":"VLOOKUP(Catalogue[[#This Row],[Alias]],#REF!,2,FALSE)","v":{"$error":"#REF!"}},null,"SDU0010015960","BALLON SOL FE 150 BA"]
["RIE4048765",null,"THERMOSTAT REG.",null,null,{"$f":"LEFT(Catalogue[[#This Row],[Référence]],3)","v":"RIE"},{"$f":"VLOOKUP(Catalogue[[#This Row],[Alias]],#REF!,2,FALSE)","v":{"$error":"#REF!"}},null,"SDU0010020425","Kit de remplacement GLM,GVM, Melia, Aclea / ThemaFast SD"]
["RIE4050301",null,"VANNE GAZ DOMUS",null,null,{"$f":"LEFT(Catalogue[[#This Row],[Référence]],3)","v":"RIE"},{"$f":"VLOOKUP(Catalogue[[#This Row],[Alias]],#REF!,2,FALSE)","v":{"$error":"#REF!"}},null,"SDU0010022540","OPALIA C 14 VMC COL BAS-NOX GN"]
["RIE4050442",null,"JOINT BRULEUR DOMUS I-IC 4494",null,null,{"$f":"LEFT(Catalogue[[#This Row],[Référence]],3)","v":"RIE"},{"$f":"VLOOKUP(Catalogue[[#This Row],[Alias]],#REF!,2,FALSE)","v":{"$error":"#REF!"}},null,"SDU0010023173","GENIASET SPLIT 10-12 COL. HYD."]
["RIE4051128",null,"VEILLEUSE R104104",null,null,{"$f":"LEFT(Catalogue[[#This Row],[Référence]],3)","v":"RIE"},{"$f":"VLOOKUP(Catalogue[[#This Row],[Alias]],#REF!,2,FALSE)","v":{"$error":"#REF!"}},null,"SDU0010025102","THEMAFAST CONDENS 26 GN/P - THPE"]
["RIE4051498",null,"COFFRET DE CONTROL S4565BF1112",null,null,{"$f":"LEFT(Catalogue[[#This Row],[Référence]],3)","v":"RIE"},{"$f":"VLOOKUP(Catalogue[[#This Row],[Alias]],#REF!,2,FALSE)","v":{"$error":"#REF!"}},null,"SDU0010026220","CHAMBRE DE COMBUSTION"]
["RIE4363572",null,"ISOLANT LATERAL RESIDENCE",null,null,{"$f":"LEFT(Catalogue[[#This Row],[Référence]],3)","v":"RIE"},{"$f":"VLOOKUP(Catalogue[[#This Row],[Alias]],#REF!,2,FALSE)","v":{"$error":"#REF!"}},null,"SDU0010026315","VANNE GAZ. G31"]
["RIE4364284",null,"MICROSWITCH",null,null,{"$f":"LEFT(Catalogue[[#This Row],[Référence]],3)","v":"RIE"},{"$f":"VLOOKUP(Catalogue[[#This Row],[Alias]],#REF!,2,FALSE)","v":{"$error":"#REF!"}},null,"SDU0010027121","SACHET DE JOINTS"]
["RIE4364628",null,"CARTE COMMANDE PRONTAQUA",null,null,{"$f":"LEFT(Catalogue[[#This Row],[Référence]],3)","v":"RIE"},{"$f":"VLOOKUP(Catalogue[[#This Row],[Alias]],#REF!,2,FALSE)","v":{"$error":"#REF!"}},null,"SDU0010028087","CIRCUIT IMPRIME"]
["RIE4364854",null,"EXTRACTEUR 20 KW",null,null,{"$f":"LEFT(Catalogue[[#This Row],[Référence]],3)","v":"RIE"},{"$f":"VLOOKUP(Catalogue[[#This Row],[Alias]],#REF!,2,FALSE)","v":{"$error":"#REF!"}},null,"SDU0010030642S","POMPE HAUTE EFFICACITE"]
["RIE4365009",null,"ECHANGEUR RESIDENCE CONDENS",null,null,{"$f":"LEFT(Catalogue[[#This Row],[Référence]],3)","v":"RIE"},{"$f":"VLOOKUP(Catalogue[[#This Row],[Alias]],#REF!,2,FALSE)","v":{"$error":"#REF!"}},null,"SDU0010031699","GENIAAIR MAX 15 - 400 V"]
["RIE4365341",null,"VENTILATEUR",null,null,{"$f":"LEFT(Catalogue[[#This Row],[Référence]],3)","v":"RIE"},{"$f":"VLOOKUP(Catalogue[[#This Row],[Alias]],#REF!,2,FALSE)","v":{"$error":"#REF!"}},null,"SDU0010032800","POMPE HAUTE EFFICACITE"]
["RIE4365421",null,"CONVOYEUR AIR/GAZ",null,null,{"$f":"LEFT(Catalogue[[#This Row],[Référence]],3)","v":"RIE"},{"$f":"VLOOKUP(Catalogue[[#This Row],[Alias]],#REF!,2,FALSE)","v":{"$error":"#REF!"}},null,"SDU0010034366","TUBE"]
["RIE4365868",null,"ELECTRODE RESIDENCE CONDENS",null,null,{"$f":"LEFT(Catalogue[[#This Row],[Référence]],3)","v":"RIE"},{"$f":"VLOOKUP(Catalogue[[#This Row],[Alias]],#REF!,2,FALSE)","v":{"$error":"#REF!"}},null,"SDU0010036502","BRIDE DE FIXATION DU BRULEUR"]
["RIE4366193",null,"PURGEUR AUTOMATIQUE",null,null,{"$f":"LEFT(Catalogue[[#This Row],[Référence]],3)","v":"RIE"},{"$f":"VLOOKUP(Catalogue[[#This Row],[Alias]],#REF!,2,FALSE)","v":{"$error":"#REF!"}},null,"SDU0010036768","CABLE"]
["RIE4366441",null,"CABLAGE D ALLUMAGE",null,null,{"$f":"LEFT(Catalogue[[#This Row],[Référence]],3)","v":"RIE"},{"$f":"VLOOKUP(Catalogue[[#This Row],[Alias]],#REF!,2,FALSE)","v":{"$error":"#REF!"}},null,"SDU0010038400","KIT CHANGEMENT DE GAZ"]
["RIE4366717",null,"GROUPE HYDR CHAUFF",null,null,{"$f":"LEFT(Catalogue[[#This Row],[Référence]],3)","v":"RIE"},{"$f":"VLOOKUP(Catalogue[[#This Row],[Alias]],#REF!,2,FALSE)","v":{"$error":"#REF!"}},null,"SDU0010040211","PLAQUE DE RACCORDMNT HELIOTWIN"]
["RIE4366966",null,"ELECTRODE AL/IO RESIDENCE COND",null,null,{"$f":"LEFT(Catalogue[[#This Row],[Référence]],3)","v":"RIE"},{"$f":"VLOOKUP(Catalogue[[#This Row],[Alias]],#REF!,2,FALSE)","v":{"$error":"#REF!"}},null,"SDU0010043796","KIT CHANGEMENT DE GAZ. G30 VERS G20"]
["RIE4R002007",null,"CORPS DE CHAUFFE 28 KW",null,null,{"$f":"LEFT(Catalogue[[#This Row],[Référence]],3)","v":"RIE"},{"$f":"VLOOKUP(Catalogue[[#This Row],[Alias]],#REF!,2,FALSE)","v":{"$error":"#REF!"}},null,"SDU0020017835","REGUL.EXACONTROL 7  20017835 - FC 02 2014"]
["RIER0980",null,"MICRO INTERR",null,null,{"$f":"LEFT(Catalogue[[#This Row],[Référence]],3)","v":"RIE"},{"$f":"VLOOKUP(Catalogue[[#This Row],[Alias]],#REF!,2,FALSE)","v":{"$error":"#REF!"}},null,"SDU0020018569S","PURGEUR DEGAZEUR"]
["RIER10022027",null,"ELECTRODE ALL / IONISATION",null,null,{"$f":"LEFT(Catalogue[[#This Row],[Référence]],3)","v":"RIE"},{"$f":"VLOOKUP(Catalogue[[#This Row],[Alias]],#REF!,2,FALSE)","v":{"$error":"#REF!"}},null,"SDU0020031937","Kit transformation Opalia C10 en C10 VS"]
["RIER10023365",null,"CIRCULATEUR",null,null,{"$f":"LEFT(Catalogue[[#This Row],[Référence]],3)","v":"RIE"},{"$f":"VLOOKUP(Catalogue[[#This Row],[Alias]],#REF!,2,FALSE)","v":{"$error":"#REF!"}},null,"SDU0020039185","MECANISME GAZ. GASTEP 3 -SR 12MM G20"]
["RIER10025071",null,"SOUPAPE SECU 7B",null,null,{"$f":"LEFT(Catalogue[[#This Row],[Référence]],3)","v":"RIE"},{"$f":"VLOOKUP(Catalogue[[#This Row],[Alias]],#REF!,2,FALSE)","v":{"$error":"#REF!"}},null,"SDU0020046918","RACCORD COUDE"]
["RIER10027892",null,"THERMOSTAT LIMITE A REARMEMENT POUR BAG",null,null,{"$f":"LEFT(Catalogue[[#This Row],[Référence]],3)","v":"RIE"},{"$f":"VLOOKUP(Catalogue[[#This Row],[Alias]],#REF!,2,FALSE)","v":{"$error":"#REF!"}},null,"SDU0020048229","FACADE"]
["RIER100718",null,"VASE EXPANSION",null,null,{"$f":"LEFT(Catalogue[[#This Row],[Référence]],3)","v":"RIE"},{"$f":"VLOOKUP(Catalogue[[#This Row],[Alias]],#REF!,2,FALSE)","v":{"$error":"#REF!"}},null,"SDU0020048266","FLEXIBLE EAU SANITAIRE"]
["RIER103331",null,"SONDE ION.COUDEE DOMUS 2EME       103331_LP170_630071",null,null,{"$f":"LEFT(Catalogue[[#This Row],[Référence]],3)","v":"RIE"},{"$f":"VLOOKUP(Catalogue[[#This Row],[Alias]],#REF!,2,FALSE)","v":{"$error":"#REF!"}},null,"SDU0020052398","Robinet de servize 3/4"]
["RIER2255",null,"ELECTRODE ALL IONIS",null,null,{"$f":"LEFT(Catalogue[[#This Row],[Référence]],3)","v":"RIE"},{"$f":"VLOOKUP(Catalogue[[#This Row],[Alias]],#REF!,2,FALSE)","v":{"$error":"#REF!"}},null,"SDU0020063687","Moteur"]
["RIER2907",null,"SOUPAPE 3BAR R2907 IDEM R1806",null,null,{"$f":"LEFT(Catalogue[[#This Row],[Référence]],3)","v":"RIE"},{"$f":"VLOOKUP(Catalogue[[#This Row],[Alias]],#REF!,2,FALSE)","v":{"$error":"#REF!"}},null,"SDU0020069023","SOUPAPE DE SECURITE. 3 BAR"]
["RIER7134",null,"ANNEAU",null,null,{"$f":"LEFT(Catalogue[[#This Row],[Référence]],3)","v":"RIE"},{"$f":"VLOOKUP(Catalogue[[#This Row],[Alias]],#REF!,2,FALSE)","v":{"$error":"#REF!"}},null,"SDU0020075718","CAPTEUR CTN"]
["RIER8746",null,"ELECTRODE ALL.PRONTA BI",null,null,{"$f":"LEFT(Catalogue[[#This Row],[Référence]],3)","v":"RIE"},{"$f":"VLOOKUP(Catalogue[[#This Row],[Alias]],#REF!,2,FALSE)","v":{"$error":"#REF!"}},null,"SDU0020084491","SUPPORT ECHANGEUR (X2)"]
["RIERPZZ2250",null,"VASE SANITAIRE INSIEME",null,null,{"$f":"LEFT(Catalogue[[#This Row],[Référence]],3)","v":"RIE"},{"$f":"VLOOKUP(Catalogue[[#This Row],[Alias]],#REF!,2,FALSE)","v":{"$error":"#REF!"}},null,"SDU0020084501S","EXTRACTEUR 55 W"]
["ROC122030510S","Non concerné","ECHANGEUR MONOTHERMIQUE",78,2000007350748,{"$f":"LEFT(Catalogue[[#This Row],[Référence]],3)","v":"ROC"},{"$f":"VLOOKUP(Catalogue[[#This Row],[Alias]],#REF!,2,FALSE)","v":{"$error":"#REF!"}},null,"SDU0020084527","PLAQUE COUVERCLE POUR TYPE AS"]
["ROC122152490",null,"SOUPAPE SECU VICTORIA",null,null,{"$f":"LEFT(Catalogue[[#This Row],[Référence]],3)","v":"ROC"},{"$f":"VLOOKUP(Catalogue[[#This Row],[Alias]],#REF!,2,FALSE)","v":{"$error":"#REF!"}},null,"SDU0020086521","CONDUITE. (KIT DE 2)"]
["ROC122155210",null,"MANOMETRE DIAM 42",null,null,{"$f":"LEFT(Catalogue[[#This Row],[Référence]],3)","v":"ROC"},{"$f":"VLOOKUP(Catalogue[[#This Row],[Alias]],#REF!,2,FALSE)","v":{"$error":"#REF!"}},null,"SDU0020086531","CONNECTEUR CABLE"]
["ROC141041200",null,"VASE RECT 10L GAVINA",null,null,{"$f":"LEFT(Catalogue[[#This Row],[Référence]],3)","v":"ROC"},{"$f":"VLOOKUP(Catalogue[[#This Row],[Alias]],#REF!,2,FALSE)","v":{"$error":"#REF!"}},null,"SDU0020100073","CARTE ELECTRONIQUE AVEC BOITIER PLASTIQU"]
["ROCA5A8425C0F",null,"MITIGEUR EVIER ROCA VICTORIA",null,null,{"$f":"LEFT(Catalogue[[#This Row],[Référence]],3)","v":"ROC"},{"$f":"VLOOKUP(Catalogue[[#This Row],[Alias]],#REF!,2,FALSE)","v":{"$error":"#REF!"}},null,"SDU0020105934","FAISCEAU ELECTRIQUE G20 ET RESISTANCE"]
["SAL2091532",null,"CIRCULATEUR SALMSON COLLECTIF SIMPLE SIRIUX 50-60",null,null,{"$f":"LEFT(Catalogue[[#This Row],[Référence]],3)","v":"SAL"},{"$f":"VLOOKUP(Catalogue[[#This Row],[Alias]],#REF!,2,FALSE)","v":{"$error":"#REF!"}},null,"SDU0020105962","CABLE D ALIM. AVEC INTERRUPTEUR ON/OFF"]
["SAL30923900S",null,"BLOC MOT+HYD BMCXL2080-T4 30923900S",null,null,{"$f":"LEFT(Catalogue[[#This Row],[Référence]],3)","v":"SAL"},{"$f":"VLOOKUP(Catalogue[[#This Row],[Alias]],#REF!,2,FALSE)","v":{"$error":"#REF!"}},null,"SDU0020123860","MOTEUR ACTIONNEUR"]
["SAL4058478",null,"CIRC ECS ZEN O HOME 26X34   4168713",null,null,{"$f":"LEFT(Catalogue[[#This Row],[Référence]],3)","v":"SAL"},{"$f":"VLOOKUP(Catalogue[[#This Row],[Alias]],#REF!,2,FALSE)","v":{"$error":"#REF!"}},null,"SDU0020127308","POMPE"]
["SCEA9C25732",null,"ICT CDE MAN 25A 2NO 240V 02",null,null,{"$f":"LEFT(Catalogue[[#This Row],[Référence]],3)","v":"SCE"},{"$f":"VLOOKUP(Catalogue[[#This Row],[Alias]],#REF!,2,FALSE)","v":{"$error":"#REF!"}},null,"SDU0020146481","MOTEUR PAS A PAS G20"]
["SCEA9F75232",null,"IC60N DISJ 2P 32A COURB D 02",null,null,{"$f":"LEFT(Catalogue[[#This Row],[Référence]],3)","v":"SCE"},{"$f":"VLOOKUP(Catalogue[[#This Row],[Alias]],#REF!,2,FALSE)","v":{"$error":"#REF!"}},null,"SDU0020161208","CAPTEUR"]
["SCEA9P22720",null,"IDT40 DISJ 3PN 20A C 6KA                          02",null,null,{"$f":"LEFT(Catalogue[[#This Row],[Référence]],3)","v":"SCE"},{"$f":"VLOOKUP(Catalogue[[#This Row],[Alias]],#REF!,2,FALSE)","v":{"$error":"#REF!"}},null,"SDU0020171120","AFFICHEUR"]
["SCEA9P71610",null,"IDT40 DISJ 1PN 10A C 4,5KA                        02",null,null,{"$f":"LEFT(Catalogue[[#This Row],[Référence]],3)","v":"SCE"},{"$f":"VLOOKUP(Catalogue[[#This Row],[Alias]],#REF!,2,FALSE)","v":{"$error":"#REF!"}},null,"SDU0020185533","ANODE. A COURANT EXTERNE"]
["SCEA9XPH424",null,"PEIGNE RACC 4P 100A 24MOD 02",null,null,{"$f":"LEFT(Catalogue[[#This Row],[Référence]],3)","v":"SCE"},{"$f":"VLOOKUP(Catalogue[[#This Row],[Alias]],#REF!,2,FALSE)","v":{"$error":"#REF!"}},null,"SDU0020186863","FAISCEAU. HYDRAULIQUE"]
["SCELE1D09Q7",null,"DEM COFF 1S 9A 380V 50 60 02",null,null,{"$f":"LEFT(Catalogue[[#This Row],[Référence]],3)","v":"SCE"},{"$f":"VLOOKUP(Catalogue[[#This Row],[Alias]],#REF!,2,FALSE)","v":{"$error":"#REF!"}},null,"SDU0020193800","SOUPAPE DE SECURITE"]
["SCER9PDCF20",null,"DISJ DIFF XP 1P+N 20A 30MA FSI 02",null,null,{"$f":"LEFT(Catalogue[[#This Row],[Référence]],3)","v":"SCE"},{"$f":"VLOOKUP(Catalogue[[#This Row],[Alias]],#REF!,2,FALSE)","v":{"$error":"#REF!"}},null,"SDU0020195517","TUBE FUMEE"]
["SCER9PRC463",null,"INT DIFF XP 4P 63A 30MA AC 02",null,null,{"$f":"LEFT(Catalogue[[#This Row],[Référence]],3)","v":"SCE"},{"$f":"VLOOKUP(Catalogue[[#This Row],[Alias]],#REF!,2,FALSE)","v":{"$error":"#REF!"}},null,"SDU0020198269","ADAPTATEUR"]
["SDU0010015960",null,"BALLON SOL FE 150 BA",null,null,{"$f":"LEFT(Catalogue[[#This Row],[Référence]],3)","v":"SDU"},{"$f":"VLOOKUP(Catalogue[[#This Row],[Alias]],#REF!,2,FALSE)","v":{"$error":"#REF!"}},null,"SDU0020198401","THERMOMETRE ROUGE"]
["SDU0010017417",null,"THEMAFAST CONDENS F 30 GN/P - THPE",null,null,{"$f":"LEFT(Catalogue[[#This Row],[Référence]],3)","v":"SDU"},{"$f":"VLOOKUP(Catalogue[[#This Row],[Alias]],#REF!,2,FALSE)","v":{"$error":"#REF!"}},null,"SDU0020199418","3 COLLIERS MAINTIEN 80/125"]
["SDU0010021498",null,"THEMAFAST CONDENS F 25 GN/P - THPE",null,null,{"$f":"LEFT(Catalogue[[#This Row],[Référence]],3)","v":"SDU"},{"$f":"VLOOKUP(Catalogue[[#This Row],[Alias]],#REF!,2,FALSE)","v":{"$error":"#REF!"}},null,"SDU0020200673","PORTE DE BRULEUR"]
["SDU0010022697",null,"UI VIVAIR SDH20-025NWI",null,null,{"$f":"LEFT(Catalogue[[#This Row],[Référence]],3)","v":"SDU"},{"$f":"VLOOKUP(Catalogue[[#This Row],[Alias]],#REF!,2,FALSE)","v":{"$error":"#REF!"}},null,"SDU0020204430","CAPTEUR DE DEBIT"]
["SDU0010024782",null,"MODUZONE Z11 RADIO MIPRO (CHAUDIÈRE, GENIA AIR, GENIAAIR SPLIT)",null,null,{"$f":"LEFT(Catalogue[[#This Row],[Référence]],3)","v":"SDU"},{"$f":"VLOOKUP(Catalogue[[#This Row],[Alias]],#REF!,2,FALSE)","v":{"$error":"#REF!"}},null,"SDU0020205962","TUBE GAZ. VEILLEUSE"]
["SDU0010026308",null,"VALVE A EAU",null,null,{"$f":"LEFT(Catalogue[[#This Row],[Référence]],3)","v":"SDU"},{"$f":"VLOOKUP(Catalogue[[#This Row],[Alias]],#REF!,2,FALSE)","v":{"$error":"#REF!"}},null,"SDU0020206026","VALVE"]
["SDU0010026339",null,"THERMOCOUPLE",null,null,{"$f":"LEFT(Catalogue[[#This Row],[Référence]],3)","v":"SDU"},{"$f":"VLOOKUP(Catalogue[[#This Row],[Alias]],#REF!,2,FALSE)","v":{"$error":"#REF!"}},null,"SDU0020208830","BOITIER"]
["SDU0010027117",null,"EXTRACTEUR / VENTILATEUR",null,null,{"$f":"LEFT(Catalogue[[#This Row],[Référence]],3)","v":"SDU"},{"$f":"VLOOKUP(Catalogue[[#This Row],[Alias]],#REF!,2,FALSE)","v":{"$error":"#REF!"}},null,"SDU0020211646","FAISCEAU. MECANISME GAZ"]
["SDU0010027351",null,"CAPTEUR",null,null,{"$f":"LEFT(Catalogue[[#This Row],[Référence]],3)","v":"SDU"},{"$f":"VLOOKUP(Catalogue[[#This Row],[Alias]],#REF!,2,FALSE)","v":{"$error":"#REF!"}},null,"SDU0020217280","TUBE"]
["SDU0010028365",null,"ANODE. 90MM",null,null,{"$f":"LEFT(Catalogue[[#This Row],[Référence]],3)","v":"SDU"},{"$f":"VLOOKUP(Catalogue[[#This Row],[Alias]],#REF!,2,FALSE)","v":{"$error":"#REF!"}},null,"SDU0020220087","CACHE TUBULURE THEMA CDS"]
["SDU0010030684",null,"CONNECTEUR ELECTRIQUE",null,null,{"$f":"LEFT(Catalogue[[#This Row],[Référence]],3)","v":"SDU"},{"$f":"VLOOKUP(Catalogue[[#This Row],[Alias]],#REF!,2,FALSE)","v":{"$error":"#REF!"}},null,"SDU0020232366","BANDEAU. SAUNIER DUVAL"]
["SDU0010032776",null,"CABLE",null,null,{"$f":"LEFT(Catalogue[[#This Row],[Référence]],3)","v":"SDU"},{"$f":"VLOOKUP(Catalogue[[#This Row],[Alias]],#REF!,2,FALSE)","v":{"$error":"#REF!"}},null,"SDU0020238832","COUVERCLE"]
["SDU0010034934",null,"FAISCEAU. 24V",null,null,{"$f":"LEFT(Catalogue[[#This Row],[Référence]],3)","v":"SDU"},{"$f":"VLOOKUP(Catalogue[[#This Row],[Alias]],#REF!,2,FALSE)","v":{"$error":"#REF!"}},null,"SDU0020257010","COUDES RALL. CDS 45DEG  60/100 X2"]
["SDU0010035601",null,"SIPHON",null,null,{"$f":"LEFT(Catalogue[[#This Row],[Référence]],3)","v":"SDU"},{"$f":"VLOOKUP(Catalogue[[#This Row],[Alias]],#REF!,2,FALSE)","v":{"$error":"#REF!"}},null,"SDU0020260979","MIPRO SENSE RADIO"]
["SDU0010036501",null,"KIT DE MAINTENANCE II",null,null,{"$f":"LEFT(Catalogue[[#This Row],[Référence]],3)","v":"SDU"},{"$f":"VLOOKUP(Catalogue[[#This Row],[Alias]],#REF!,2,FALSE)","v":{"$error":"#REF!"}},null,"SDU0020266464","CAPTEUR. HAUTE PRESSION"]
["SDU0010037586",null,"FAISCEAU",null,null,{"$f":"LEFT(Catalogue[[#This Row],[Référence]],3)","v":"SDU"},{"$f":"VLOOKUP(Catalogue[[#This Row],[Alias]],#REF!,2,FALSE)","v":{"$error":"#REF!"}},null,"SDU0020273368","BOITE. BOITIER ELECTRIQUE"]
["SDU0010038073S",null,"CIRCUIT",null,null,{"$f":"LEFT(Catalogue[[#This Row],[Référence]],3)","v":"SDU"},{"$f":"VLOOKUP(Catalogue[[#This Row],[Alias]],#REF!,2,FALSE)","v":{"$error":"#REF!"}},null,"SDU0020273395","AFFICHEUR"]
["SDU0010040209",null,"PLAQUE DE RACCORD THEMA/SEMIA",null,null,{"$f":"LEFT(Catalogue[[#This Row],[Référence]],3)","v":"SDU"},{"$f":"VLOOKUP(Catalogue[[#This Row],[Alias]],#REF!,2,FALSE)","v":{"$error":"#REF!"}},null,"SDU05111300S","CDC THELIA AS 23"]
["SDU0020017835",null,"REGUL.EXACONTROL 7  20017835 - FC 02 2014",null,null,{"$f":"LEFT(Catalogue[[#This Row],[Référence]],3)","v":"SDU"},{"$f":"VLOOKUP(Catalogue[[#This Row],[Alias]],#REF!,2,FALSE)","v":{"$error":"#REF!"}},null,"SDU05120400","BANDEAU"]
["SDU0020018451S",null,"VASE EXPANSION 8 L",null,null,{"$f":"LEFT(Catalogue[[#This Row],[Référence]],3)","v":"SDU"},{"$f":"VLOOKUP(Catalogue[[#This Row],[Alias]],#REF!,2,FALSE)","v":{"$error":"#REF!"}},null,"SDU05127800","SECURITE DE SURCHAUFFE"]
["SDU0020018473",null,"AFFICHEUR. THEMAPLUS",null,null,{"$f":"LEFT(Catalogue[[#This Row],[Référence]],3)","v":"SDU"},{"$f":"VLOOKUP(Catalogue[[#This Row],[Alias]],#REF!,2,FALSE)","v":{"$error":"#REF!"}},null,"SDU05134500","TRANSFORMATEUR"]
["SDU0020026776",null,"CARTE INTERFACE AS",null,null,{"$f":"LEFT(Catalogue[[#This Row],[Référence]],3)","v":"SDU"},{"$f":"VLOOKUP(Catalogue[[#This Row],[Alias]],#REF!,2,FALSE)","v":{"$error":"#REF!"}},null,"SDU05143600","TUBULURE KIT BALLON"]
["SDU0020037988",null,"BLOC POMPE PLASTIQUE",null,null,{"$f":"LEFT(Catalogue[[#This Row],[Référence]],3)","v":"SDU"},{"$f":"VLOOKUP(Catalogue[[#This Row],[Alias]],#REF!,2,FALSE)","v":{"$error":"#REF!"}},null,"SDU05150800","TUBE LIAISON VASE"]
["SDU0020039566",null,"CANNE EC BALLON (L = 597 MM. D = 18 MM)",null,null,{"$f":"LEFT(Catalogue[[#This Row],[Référence]],3)","v":"SDU"},{"$f":"VLOOKUP(Catalogue[[#This Row],[Alias]],#REF!,2,FALSE)","v":{"$error":"#REF!"}},null,"SDU05158600","BRIDE BY-PASS"]
["SDU0020048243S",null,"CDC 30 KW",null,null,{"$f":"LEFT(Catalogue[[#This Row],[Référence]],3)","v":"SDU"},{"$f":"VLOOKUP(Catalogue[[#This Row],[Alias]],#REF!,2,FALSE)","v":{"$error":"#REF!"}},null,"SDU05171600","KIT ENTRETIEN DETECTEUR BALLON"]
["SDU0020048274",null,"CORPS DE CAPTEUR VORTEX AVEC BOUCHON",null,null,{"$f":"LEFT(Catalogue[[#This Row],[Référence]],3)","v":"SDU"},{"$f":"VLOOKUP(Catalogue[[#This Row],[Alias]],#REF!,2,FALSE)","v":{"$error":"#REF!"}},null,"SDU05198300","Disjoncteur thermique"]
["SDU0020048304",null,"SACHET DE JOINTS + LIMITEUR 12 L",null,null,{"$f":"LEFT(Catalogue[[#This Row],[Référence]],3)","v":"SDU"},{"$f":"VLOOKUP(Catalogue[[#This Row],[Alias]],#REF!,2,FALSE)","v":{"$error":"#REF!"}},null,"SDU05210600","ALLUMEUR RECURRENT"]
["SDU0020055782",null,"CIRCUIT IMPRIME FILTRE",null,null,{"$f":"LEFT(Catalogue[[#This Row],[Référence]],3)","v":"SDU"},{"$f":"VLOOKUP(Catalogue[[#This Row],[Alias]],#REF!,2,FALSE)","v":{"$error":"#REF!"}},null,"SDU05231800S","CDC 220 F-223C-2020/0"]
["SDU0020063616",null,"BOUTON (KIT)",null,null,{"$f":"LEFT(Catalogue[[#This Row],[Référence]],3)","v":"SDU"},{"$f":"VLOOKUP(Catalogue[[#This Row],[Alias]],#REF!,2,FALSE)","v":{"$error":"#REF!"}},null,"SDU05235400","Tube eau chaude"]
["SDU0020068872",null,"CIRCUIT IMPRIME",null,null,{"$f":"LEFT(Catalogue[[#This Row],[Référence]],3)","v":"SDU"},{"$f":"VLOOKUP(Catalogue[[#This Row],[Alias]],#REF!,2,FALSE)","v":{"$error":"#REF!"}},null,"SDU05239100","MECANISME GAZ G30"]
["SDU0020077366",null,"AFFICHEUR. AVEC CABLE INTERFACE",null,null,{"$f":"LEFT(Catalogue[[#This Row],[Référence]],3)","v":"SDU"},{"$f":"VLOOKUP(Catalogue[[#This Row],[Alias]],#REF!,2,FALSE)","v":{"$error":"#REF!"}},null,"SDU05254600","SECURITE SRC - FC 01092015"]
["SDU0020084497",null,"TUBE D AMENEE D AIR FRAIS",null,null,{"$f":"LEFT(Catalogue[[#This Row],[Référence]],3)","v":"SDU"},{"$f":"VLOOKUP(Catalogue[[#This Row],[Alias]],#REF!,2,FALSE)","v":{"$error":"#REF!"}},null,"SDU05267500","CIRCUIT IMPRIME"]
["SDU0020084511",null,"BANDEAU",null,null,{"$f":"LEFT(Catalogue[[#This Row],[Référence]],3)","v":"SDU"},{"$f":"VLOOKUP(Catalogue[[#This Row],[Alias]],#REF!,2,FALSE)","v":{"$error":"#REF!"}},null,"SDU05293300","RESISTANCE POMPE"]
["SDU0020084530",null,"TUBE ENTREE",null,null,{"$f":"LEFT(Catalogue[[#This Row],[Référence]],3)","v":"SDU"},{"$f":"VLOOKUP(Catalogue[[#This Row],[Alias]],#REF!,2,FALSE)","v":{"$error":"#REF!"}},null,"SDU05304500","SELECTEUR TEMPERATURE"]
["SDU0020085120",null,"RESISTANCE. 3.6 KW",null,null,{"$f":"LEFT(Catalogue[[#This Row],[Référence]],3)","v":"SDU"},{"$f":"VLOOKUP(Catalogue[[#This Row],[Alias]],#REF!,2,FALSE)","v":{"$error":"#REF!"}},null,"SDU05323400","BOUTON POUSSOIR"]
["SDU0020086531",null,"CONNECTEUR CABLE",null,null,{"$f":"LEFT(Catalogue[[#This Row],[Référence]],3)","v":"SDU"},{"$f":"VLOOKUP(Catalogue[[#This Row],[Alias]],#REF!,2,FALSE)","v":{"$error":"#REF!"}},null,"SDU05335600","EMBOUT MAGNETIQUE"]
["SDU0020100093",null,"DISCONNECTEUR",null,null,{"$f":"LEFT(Catalogue[[#This Row],[Référence]],3)","v":"SDU"},{"$f":"VLOOKUP(Catalogue[[#This Row],[Alias]],#REF!,2,FALSE)","v":{"$error":"#REF!"}},null,"SDU05449600","MANETTE. BLEU + ROUGE (KIT)"]
["SDU0020102151",null,"MANETTE. ROUGE",null,null,{"$f":"LEFT(Catalogue[[#This Row],[Référence]],3)","v":"SDU"},{"$f":"VLOOKUP(Catalogue[[#This Row],[Alias]],#REF!,2,FALSE)","v":{"$error":"#REF!"}},null,"SDU05454700","RESISTANCE POMPE  FC 21/02/2019"]
["SDU0020105962",null,"CABLE D ALIM. AVEC INTERRUPTEUR ON/OFF",null,null,{"$f":"LEFT(Catalogue[[#This Row],[Référence]],3)","v":"SDU"},{"$f":"VLOOKUP(Catalogue[[#This Row],[Alias]],#REF!,2,FALSE)","v":{"$error":"#REF!"}},null,"SDU05601700","PURGEUR"]
["SDU0020118071",null,"EXACCONTROL E7 C",null,null,{"$f":"LEFT(Catalogue[[#This Row],[Référence]],3)","v":"SDU"},{"$f":"VLOOKUP(Catalogue[[#This Row],[Alias]],#REF!,2,FALSE)","v":{"$error":"#REF!"}},null,"SDU05604200","Faisceau allumage"]
["SDU0020127095S",null,"Ventilateur",null,null,{"$f":"LEFT(Catalogue[[#This Row],[Référence]],3)","v":"SDU"},{"$f":"VLOOKUP(Catalogue[[#This Row],[Alias]],#REF!,2,FALSE)","v":{"$error":"#REF!"}},null,"SDU05609500","Microswitch"]
["SDU0020133624",null,"THERMOSTAT DE SECURITE 130C",null,null,{"$f":"LEFT(Catalogue[[#This Row],[Référence]],3)","v":"SDU"},{"$f":"VLOOKUP(Catalogue[[#This Row],[Alias]],#REF!,2,FALSE)","v":{"$error":"#REF!"}},null,"SDU05614800","Aquastat"]
["SDU0020161207",null,"POMPE",null,null,{"$f":"LEFT(Catalogue[[#This Row],[Référence]],3)","v":"SDU"},{"$f":"VLOOKUP(Catalogue[[#This Row],[Alias]],#REF!,2,FALSE)","v":{"$error":"#REF!"}},null,"SDU05639500","JOINT BRIDE BALLON"]
["SDU0020171104",null,"CAPTEUR TEMPERATURE DE L AIR",null,null,{"$f":"LEFT(Catalogue[[#This Row],[Référence]],3)","v":"SDU"},{"$f":"VLOOKUP(Catalogue[[#This Row],[Alias]],#REF!,2,FALSE)","v":{"$error":"#REF!"}},null,"SDU05641900","RESERVOIR BALLON FC 19/02/19"]
["SDU0020173980",null,"CIRCUIT IMPRIME",null,null,{"$f":"LEFT(Catalogue[[#This Row],[Référence]],3)","v":"SDU"},{"$f":"VLOOKUP(Catalogue[[#This Row],[Alias]],#REF!,2,FALSE)","v":{"$error":"#REF!"}},null,"SDU05645900","TETE ROBINETTERIE MELANGEUSE"]
["SDU0020186153S",null,"ECHANGEUR SANITAIRE 14 PLAQUES",null,null,{"$f":"LEFT(Catalogue[[#This Row],[Référence]],3)","v":"SDU"},{"$f":"VLOOKUP(Catalogue[[#This Row],[Alias]],#REF!,2,FALSE)","v":{"$error":"#REF!"}},null,"SDU05703500","VEILLEUSE G30"]
["SDU0020186886",null,"SIPHON",null,null,{"$f":"LEFT(Catalogue[[#This Row],[Référence]],3)","v":"SDU"},{"$f":"VLOOKUP(Catalogue[[#This Row],[Alias]],#REF!,2,FALSE)","v":{"$error":"#REF!"}},null,"SDU05707000","SECURITE SRC"]
["SDU0020192842",null,"CONDENSEUR. 5K",null,null,{"$f":"LEFT(Catalogue[[#This Row],[Référence]],3)","v":"SDU"},{"$f":"VLOOKUP(Catalogue[[#This Row],[Alias]],#REF!,2,FALSE)","v":{"$error":"#REF!"}},null,"SDU05711200","THERMOSTAT VMC"]
["SDU0020195507",null,"EXTRACTEUR. PORTE DE BRULEUR",null,null,{"$f":"LEFT(Catalogue[[#This Row],[Référence]],3)","v":"SDU"},{"$f":"VLOOKUP(Catalogue[[#This Row],[Alias]],#REF!,2,FALSE)","v":{"$error":"#REF!"}},null,"SDU05720600S","MOTEUR VANNE 3 VOIES"]
["SDU0020197555S",null,"CAPTEUR DE DEBIT",null,null,{"$f":"LEFT(Catalogue[[#This Row],[Référence]],3)","v":"SDU"},{"$f":"VLOOKUP(Catalogue[[#This Row],[Alias]],#REF!,2,FALSE)","v":{"$error":"#REF!"}},null,"SDU05724300","Faisceau"]
["SDU0020198322",null,"CIRCUIT IMPRIME",null,null,{"$f":"LEFT(Catalogue[[#This Row],[Référence]],3)","v":"SDU"},{"$f":"VLOOKUP(Catalogue[[#This Row],[Alias]],#REF!,2,FALSE)","v":{"$error":"#REF!"}},null,"SDU05727800","MANOMETRE"]
["SDU0020199928",null,"KIT CHGMT GAZ. THEMAFAST25 THEMAAS10->BP",null,null,{"$f":"LEFT(Catalogue[[#This Row],[Référence]],3)","v":"SDU"},{"$f":"VLOOKUP(Catalogue[[#This Row],[Alias]],#REF!,2,FALSE)","v":{"$error":"#REF!"}},null,"SDU05732500","POMPE"]
["SDU0020202562",null,"Afficheur",null,null,{"$f":"LEFT(Catalogue[[#This Row],[Référence]],3)","v":"SDU"},{"$f":"VLOOKUP(Catalogue[[#This Row],[Alias]],#REF!,2,FALSE)","v":{"$error":"#REF!"}},null,"SDU05738300","POMPE SANITAIRE"]
["SDU0020203978",null,"COUDE",null,null,{"$f":"LEFT(Catalogue[[#This Row],[Référence]],3)","v":"SDU"},{"$f":"VLOOKUP(Catalogue[[#This Row],[Alias]],#REF!,2,FALSE)","v":{"$error":"#REF!"}},null,"SDU05738900","PANNEAU LATERAL DROIT"]
["SDU0020205933S","Non concerné","ECHANGEUR DE CHALEUR",56,2000007349148,{"$f":"LEFT(Catalogue[[#This Row],[Référence]],3)","v":"SDU"},{"$f":"VLOOKUP(Catalogue[[#This Row],[Alias]],#REF!,2,FALSE)","v":{"$error":"#REF!"}},null,"SDU05742800","MECANISME GAZ. G20"]
["SDU0020205983",null,"MOTEUR. SERVO GAZ. BP",null,null,{"$f":"LEFT(Catalogue[[#This Row],[Référence]],3)","v":"SDU"},{"$f":"VLOOKUP(Catalogue[[#This Row],[Alias]],#REF!,2,FALSE)","v":{"$error":"#REF!"}},null,"SDU05747400","TUBULURE"]
["SDU0020207130",null,"MOTEUR DE POMPE",null,null,{"$f":"LEFT(Catalogue[[#This Row],[Référence]],3)","v":"SDU"},{"$f":"VLOOKUP(Catalogue[[#This Row],[Alias]],#REF!,2,FALSE)","v":{"$error":"#REF!"}},null,"SDU05901300","SELECTEUR"]
["SDU0020211590",null,"BOITIER COUPE TIRAGE",null,null,{"$f":"LEFT(Catalogue[[#This Row],[Référence]],3)","v":"SDU"},{"$f":"VLOOKUP(Catalogue[[#This Row],[Alias]],#REF!,2,FALSE)","v":{"$error":"#REF!"}},null,"SDU05910800","MECANISME GAZ G30"]
["SDU0020212696",null,"CARTE PRINCIPALE",null,null,{"$f":"LEFT(Catalogue[[#This Row],[Référence]],3)","v":"SDU"},{"$f":"VLOOKUP(Catalogue[[#This Row],[Alias]],#REF!,2,FALSE)","v":{"$error":"#REF!"}},null,"SDU05914200","MECANISME GAZ G30 FC 04/07/2017"]
["SDU0020218373",null,"MIPRO",null,null,{"$f":"LEFT(Catalogue[[#This Row],[Référence]],3)","v":"SDU"},{"$f":"VLOOKUP(Catalogue[[#This Row],[Alias]],#REF!,2,FALSE)","v":{"$error":"#REF!"}},null,"SDU05918900","VANNE D ARRET  GAZ"]
["SDU0020222695",null,"CIRCUIT IMPRIME  HMU",null,null,{"$f":"LEFT(Catalogue[[#This Row],[Référence]],3)","v":"SDU"},{"$f":"VLOOKUP(Catalogue[[#This Row],[Alias]],#REF!,2,FALSE)","v":{"$error":"#REF!"}},null,"SDU07929700","KIT SECURITE DEBORDEMENT"]
["SDU0020238059",null,"FAISCEAU. 24V PNEUMATIQUE",null,null,{"$f":"LEFT(Catalogue[[#This Row],[Référence]],3)","v":"SDU"},{"$f":"VLOOKUP(Catalogue[[#This Row],[Alias]],#REF!,2,FALSE)","v":{"$error":"#REF!"}},null,"SDU5210600","ALLUMEUR RECCURRENT 625M        05210600_LP230"]
["SDU0020254167",null,"PANNEAU LATERAL. GAUCHE",null,null,{"$f":"LEFT(Catalogue[[#This Row],[Référence]],3)","v":"SDU"},{"$f":"VLOOKUP(Catalogue[[#This Row],[Alias]],#REF!,2,FALSE)","v":{"$error":"#REF!"}},null,"SDU5706600","ALLUMEUR PIEZO                  05706600_LP230"]
["SDU0020257014",null,"COUDE RALLONGE CDS 15DEG  60/100",null,null,{"$f":"LEFT(Catalogue[[#This Row],[Référence]],3)","v":"SDU"},{"$f":"VLOOKUP(Catalogue[[#This Row],[Alias]],#REF!,2,FALSE)","v":{"$error":"#REF!"}},null,"SDU57304S","CI CONTRELE THEMA C/AS"]
["SDU0020260994",null,"MISET",null,null,{"$f":"LEFT(Catalogue[[#This Row],[Référence]],3)","v":"SDU"},{"$f":"VLOOKUP(Catalogue[[#This Row],[Alias]],#REF!,2,FALSE)","v":{"$error":"#REF!"}},null,"SDU8000021226","CIRCUIT IMPRIME"]
["SDU0020266482",null,"ISOLANT (KIT)",null,null,{"$f":"LEFT(Catalogue[[#This Row],[Référence]],3)","v":"SDU"},{"$f":"VLOOKUP(Catalogue[[#This Row],[Alias]],#REF!,2,FALSE)","v":{"$error":"#REF!"}},null,"SDUA2039900","KIT CHANGEMENT GAZ G20 -> G30/G31"]
["SDU0020273852",null,"FAISCEAU",null,null,{"$f":"LEFT(Catalogue[[#This Row],[Référence]],3)","v":"SDU"},{"$f":"VLOOKUP(Catalogue[[#This Row],[Alias]],#REF!,2,FALSE)","v":{"$error":"#REF!"}},null,"SDUS1005600S","PURGEUR DEGAZEUR"]
["SDU0020275016S",null,"SOUPAPE SECURITE 3 BARS",null,null,{"$f":"LEFT(Catalogue[[#This Row],[Référence]],3)","v":"SDU"},{"$f":"VLOOKUP(Catalogue[[#This Row],[Alias]],#REF!,2,FALSE)","v":{"$error":"#REF!"}},null,"SDUS1006200","VASE D EXPANSION 8 L"]
["SDU05118100",null,"MECANISME GAZ",null,null,{"$f":"LEFT(Catalogue[[#This Row],[Référence]],3)","v":"SDU"},{"$f":"VLOOKUP(Catalogue[[#This Row],[Alias]],#REF!,2,FALSE)","v":{"$error":"#REF!"}},null,"SDUS1013500","FAISCEAU D ALIMENTATION"]
["SDU05119800S","Non concerné","CDC THEMIS AS",72,2000002868941,{"$f":"LEFT(Catalogue[[#This Row],[Référence]],3)","v":"SDU"},{"$f":"VLOOKUP(Catalogue[[#This Row],[Alias]],#REF!,2,FALSE)","v":{"$error":"#REF!"}},null,"SDUS1016700S","VASE EXPANSION 6.5 L"]
["SDU05121900",null,"Liaision SRC",null,null,{"$f":"LEFT(Catalogue[[#This Row],[Référence]],3)","v":"SDU"},{"$f":"VLOOKUP(Catalogue[[#This Row],[Alias]],#REF!,2,FALSE)","v":{"$error":"#REF!"}},null,"SDUS1019000S","CIRCUIT PRINCIPAL"]
["SDU05133500",null,"MOTEUR VANNE 3 VOIES",null,null,{"$f":"LEFT(Catalogue[[#This Row],[Référence]],3)","v":"SDU"},{"$f":"VLOOKUP(Catalogue[[#This Row],[Alias]],#REF!,2,FALSE)","v":{"$error":"#REF!"}},null,"SDUS1024500","PURGEUR DEGAZEUR"]
["SDU05142700",null,"JOINT DE BRIDE KIT BALLON",null,null,{"$f":"LEFT(Catalogue[[#This Row],[Référence]],3)","v":"SDU"},{"$f":"VLOOKUP(Catalogue[[#This Row],[Alias]],#REF!,2,FALSE)","v":{"$error":"#REF!"}},null,"SDUS1026400","COUVERCLE. BOITIER ELECTRIQUE"]
["SDU05148200S","Non concerné","SOUPAPE 223C",20,2000004587239,{"$f":"LEFT(Catalogue[[#This Row],[Référence]],3)","v":"SDU"},{"$f":"VLOOKUP(Catalogue[[#This Row],[Alias]],#REF!,2,FALSE)","v":{"$error":"#REF!"}},null,"SDUS1029600","VITRE D INSPECTION + JOINT"]
["SDU05157900S","Non concerné","DISCONNECTEUR",25,2000007347427,{"$f":"LEFT(Catalogue[[#This Row],[Référence]],3)","v":"SDU"},{"$f":"VLOOKUP(Catalogue[[#This Row],[Alias]],#REF!,2,FALSE)","v":{"$error":"#REF!"}},null,"SDUS1040000S","CARTE PRINCIPALE"]
["SDU05169100",null,"RESISTANCE EXTRACTEUR",null,null,{"$f":"LEFT(Catalogue[[#This Row],[Référence]],3)","v":"SDU"},{"$f":"VLOOKUP(Catalogue[[#This Row],[Alias]],#REF!,2,FALSE)","v":{"$error":"#REF!"}},null,"SDUS1047600","GROUPE DE SECURITE"]
["SDU05175400",null,"05175400 DURITE",null,null,{"$f":"LEFT(Catalogue[[#This Row],[Référence]],3)","v":"SDU"},{"$f":"VLOOKUP(Catalogue[[#This Row],[Alias]],#REF!,2,FALSE)","v":{"$error":"#REF!"}},null,"SDUS1054700","ALLUMEUR RECURRENT"]
["SDU05198500",null,"Clapet gaz",null,null,{"$f":"LEFT(Catalogue[[#This Row],[Référence]],3)","v":"SDU"},{"$f":"VLOOKUP(Catalogue[[#This Row],[Alias]],#REF!,2,FALSE)","v":{"$error":"#REF!"}},null,"SDUS1061400","FAISCEAU PRINCIPAL"]
["SDU05212600",null,"VEILLEUSE",null,null,{"$f":"LEFT(Catalogue[[#This Row],[Référence]],3)","v":"SDU"},{"$f":"VLOOKUP(Catalogue[[#This Row],[Alias]],#REF!,2,FALSE)","v":{"$error":"#REF!"}},null,"SDUS1065500","MANO-THERMOMETRE"]
["SDU05232000",null,"Deflecteur",null,null,{"$f":"LEFT(Catalogue[[#This Row],[Référence]],3)","v":"SDU"},{"$f":"VLOOKUP(Catalogue[[#This Row],[Alias]],#REF!,2,FALSE)","v":{"$error":"#REF!"}},null,"SDUS1071000","RAMPE BRULEUR G20"]
["SDU05235500",null,"TUBE MECANISME GAZ / BRÛLEUR",null,null,{"$f":"LEFT(Catalogue[[#This Row],[Référence]],3)","v":"SDU"},{"$f":"VLOOKUP(Catalogue[[#This Row],[Alias]],#REF!,2,FALSE)","v":{"$error":"#REF!"}},null,"SDUS1074200","TUBE SOUPAPE EVACUATION"]
["SDU05246500S",null,"CDC",null,null,{"$f":"LEFT(Catalogue[[#This Row],[Référence]],3)","v":"SDU"},{"$f":"VLOOKUP(Catalogue[[#This Row],[Alias]],#REF!,2,FALSE)","v":{"$error":"#REF!"}},null,"SDUS1079200","ROBINET MITIGEUR KIT SOLAIRE"]
["SDU05253400S","Non concerné","EXT.",40,2000002869122,{"$f":"LEFT(Catalogue[[#This Row],[Référence]],3)","v":"SDU"},{"$f":"VLOOKUP(Catalogue[[#This Row],[Alias]],#REF!,2,FALSE)","v":{"$error":"#REF!"}},null,"SDUS1083600","TUBE DEPART GAZ"]
["SDU05266200",null,"LIAISON THERMOCOUPLE",null,null,{"$f":"LEFT(Catalogue[[#This Row],[Référence]],3)","v":"SDU"},{"$f":"VLOOKUP(Catalogue[[#This Row],[Alias]],#REF!,2,FALSE)","v":{"$error":"#REF!"}},null,"SDUS1090300","SONDE (L=1700MM)"]
["SDU05277600S","Non concerné",{"$error":"#N/A"},60,2000007280779,{"$f":"LEFT(Catalogue[[#This Row],[Référence]],3)","v":"SDU"},{"$f":"VLOOKUP(Catalogue[[#This Row],[Alias]],#REF!,2,FALSE)","v":{"$error":"#REF!"}},null,"SDUS1201900","RACCORD"]
["SDU05306400",null,"DOUILLE ARRIVEE D EAU",null,null,{"$f":"LEFT(Catalogue[[#This Row],[Référence]],3)","v":"SDU"},{"$f":"VLOOKUP(Catalogue[[#This Row],[Alias]],#REF!,2,FALSE)","v":{"$error":"#REF!"}},null,"SDUS1210400","FACADE CHAMBRE DE COMBUSTION"]
["SDU05311600",null,"VOUTE MEMBRANE (AVANT 1991)",null,null,{"$f":"LEFT(Catalogue[[#This Row],[Référence]],3)","v":"SDU"},{"$f":"VLOOKUP(Catalogue[[#This Row],[Alias]],#REF!,2,FALSE)","v":{"$error":"#REF!"}},null,"SDUS1211600","Extracteur"]
["SDU05345000",null,"Liaison SRC",null,null,{"$f":"LEFT(Catalogue[[#This Row],[Référence]],3)","v":"SDU"},{"$f":"VLOOKUP(Catalogue[[#This Row],[Alias]],#REF!,2,FALSE)","v":{"$error":"#REF!"}},null,"SDUS1218500","MECANISME GAZ G30"]
["SDU05350000",null,"Themocontact",null,null,{"$f":"LEFT(Catalogue[[#This Row],[Référence]],3)","v":"SDU"},{"$f":"VLOOKUP(Catalogue[[#This Row],[Alias]],#REF!,2,FALSE)","v":{"$error":"#REF!"}},null,"SDUS1220000","ENJOLIVEUR (LED)"]
["SDU05405500",null,"TETE ROBINETTERIE MELANGEUSE FC 02/2016",null,null,{"$f":"LEFT(Catalogue[[#This Row],[Référence]],3)","v":"SDU"},{"$f":"VLOOKUP(Catalogue[[#This Row],[Alias]],#REF!,2,FALSE)","v":{"$error":"#REF!"}},null,"SDUS1225900","TUBE SORTIE MICROACCUMULATION"]
["SDU05483500",null,"RALENTISSEUR BILLE, (X3)",null,null,{"$f":"LEFT(Catalogue[[#This Row],[Référence]],3)","v":"SDU"},{"$f":"VLOOKUP(Catalogue[[#This Row],[Alias]],#REF!,2,FALSE)","v":{"$error":"#REF!"}},null,"SDUS5299200","INJECTEUR BRULEUR 0.77 G30/31 (X20)"]
["SDU05601200",null,"SECURITE DE SURCHAUFFE FC 15/10/2018",null,null,{"$f":"LEFT(Catalogue[[#This Row],[Référence]],3)","v":"SDU"},{"$f":"VLOOKUP(Catalogue[[#This Row],[Alias]],#REF!,2,FALSE)","v":{"$error":"#REF!"}},null,"SDUYI43TN00","Opalia C 14 PV GN"]
["SDU05603600S","Non concerné","EXTRACTEUR THELIA TWIN",40,2000002869382,{"$f":"LEFT(Catalogue[[#This Row],[Référence]],3)","v":"SDU"},{"$f":"VLOOKUP(Catalogue[[#This Row],[Alias]],#REF!,2,FALSE)","v":{"$error":"#REF!"}},null,"SFE1501080","MANCHON ANTIVIBRATILE BRIDES GN 16 80"]
["SDU05608000",null,"VALVE A EAU",null,null,{"$f":"LEFT(Catalogue[[#This Row],[Référence]],3)","v":"SDU"},{"$f":"VLOOKUP(Catalogue[[#This Row],[Alias]],#REF!,2,FALSE)","v":{"$error":"#REF!"}},null,"SFE206007","FILTRE TAMIS EN Y LAITON 11/4"]
["SDU05617700",null,"MANOMETRE",null,null,{"$f":"LEFT(Catalogue[[#This Row],[Référence]],3)","v":"SDU"},{"$f":"VLOOKUP(Catalogue[[#This Row],[Alias]],#REF!,2,FALSE)","v":{"$error":"#REF!"}},null,"SFE585008","VANNE FF A PURGE 1 1/2"]
["SDU05625800",null,"THERMOSTAT VMC",null,null,{"$f":"LEFT(Catalogue[[#This Row],[Référence]],3)","v":"SDU"},{"$f":"VLOOKUP(Catalogue[[#This Row],[Alias]],#REF!,2,FALSE)","v":{"$error":"#REF!"}},null,"SIA10006261","BATI-SUPPORT CALU10030"]
["SDU05640700",null,"BRULEUR G20",null,null,{"$f":"LEFT(Catalogue[[#This Row],[Référence]],3)","v":"SDU"},{"$f":"VLOOKUP(Catalogue[[#This Row],[Alias]],#REF!,2,FALSE)","v":{"$error":"#REF!"}},null,"SIA31520010","KIT TRANSFORMATION ANCO RESERVOIR BAS"]
["SDU05642600",null,"FAISCEAU REGULATION",null,null,{"$f":"LEFT(Catalogue[[#This Row],[Référence]],3)","v":"SDU"},{"$f":"VLOOKUP(Catalogue[[#This Row],[Alias]],#REF!,2,FALSE)","v":{"$error":"#REF!"}},null,"SIA32335010","MECANISM A POUSSOIR 33A 32335010"]
["SDU05646200",null,"PURGEUR DEGAZEUR",null,null,{"$f":"LEFT(Catalogue[[#This Row],[Référence]],3)","v":"SDU"},{"$f":"VLOOKUP(Catalogue[[#This Row],[Alias]],#REF!,2,FALSE)","v":{"$error":"#REF!"}},null,"SIA34512507","COUVERCLE RONDO DV"]
["SDU05707200",null,"THERMOELEMENT+EMBOUT MAGNETIQUE+LIAISON",null,null,{"$f":"LEFT(Catalogue[[#This Row],[Référence]],3)","v":"SDU"},{"$f":"VLOOKUP(Catalogue[[#This Row],[Alias]],#REF!,2,FALSE)","v":{"$error":"#REF!"}},null,"SIE7467601750","CD MAN VBI-VCI TTDIAM VBF:DN40et50"]
["SDU05714400",null,"VASE D EXPANSION CHAUFFAGE 5 L",null,null,{"$f":"LEFT(Catalogue[[#This Row],[Référence]],3)","v":"SDU"},{"$f":"VLOOKUP(Catalogue[[#This Row],[Alias]],#REF!,2,FALSE)","v":{"$error":"#REF!"}},null,"SIEAUZ 3.7","HORLOGE HEBDOMADAIRE AUZ 3.7"]
["SDU05719500",null,"BOUGIE DE CONTROLE",null,null,{"$f":"LEFT(Catalogue[[#This Row],[Référence]],3)","v":"SDU"},{"$f":"VLOOKUP(Catalogue[[#This Row],[Alias]],#REF!,2,FALSE)","v":{"$error":"#REF!"}},null,"SIEBPZ:VBI31.25","VANNE LANDIS A SECTEUR PN10 3VOIES FFF VBI31.25"]
["SDU05720800S","Non concerné","VANNE 3 VOIES ISOFAST",20,2000007346703,{"$f":"LEFT(Catalogue[[#This Row],[Référence]],3)","v":"SDU"},{"$f":"VLOOKUP(Catalogue[[#This Row],[Alias]],#REF!,2,FALSE)","v":{"$error":"#REF!"}},null,"SIEGLB331.9E","SERVOM 10NM 230V~ 3PTS VA/BI61"]
["SDU05724900",null,"RESISTANCE MICRO ACCU",null,null,{"$f":"LEFT(Catalogue[[#This Row],[Référence]],3)","v":"SDU"},{"$f":"VLOOKUP(Catalogue[[#This Row],[Alias]],#REF!,2,FALSE)","v":{"$error":"#REF!"}},null,"SIELME21.330C2","3157850_LME21.330C2 BOITE DE CONTROLE"]
["SDU05726400S",null,"MANOMETRE",null,null,{"$f":"LEFT(Catalogue[[#This Row],[Référence]],3)","v":"SDU"},{"$f":"VLOOKUP(Catalogue[[#This Row],[Alias]],#REF!,2,FALSE)","v":{"$error":"#REF!"}},null,"SIELMO14 111C2","BOITE LANDIS LMO14 111A2/B2"]
["SDU05729800",null,"BOITIER COUPE TIRAGE",null,null,{"$f":"LEFT(Catalogue[[#This Row],[Référence]],3)","v":"SDU"},{"$f":"VLOOKUP(Catalogue[[#This Row],[Alias]],#REF!,2,FALSE)","v":{"$error":"#REF!"}},null,"SIEQAA24","SONDE TEMPERATURE AMBIANTE LG-"]
["SDU05738000S","Non concerné","CDC ISOMAX F 28 E",55,2000002869528,{"$f":"LEFT(Catalogue[[#This Row],[Référence]],3)","v":"SDU"},{"$f":"VLOOKUP(Catalogue[[#This Row],[Alias]],#REF!,2,FALSE)","v":{"$error":"#REF!"}},null,"SIERAB11","THERMOSTAT AMBIANCE VC 2T CHAU"]
["SDU05738300S","Non concerné","POMPE SANITAIRE",47,2000007350595,{"$f":"LEFT(Catalogue[[#This Row],[Référence]],3)","v":"SDU"},{"$f":"VLOOKUP(Catalogue[[#This Row],[Alias]],#REF!,2,FALSE)","v":{"$error":"#REF!"}},null,"SIERAK-TR.1000B-H","THERMOSTAT REGLAGE 15..95DEG C IP"]
["SDU05742400",null,"FAISCEAU BASSE TENSION",null,null,{"$f":"LEFT(Catalogue[[#This Row],[Référence]],3)","v":"SDU"},{"$f":"VLOOKUP(Catalogue[[#This Row],[Alias]],#REF!,2,FALSE)","v":{"$error":"#REF!"}},null,"SIERVP201.0","REGULATEUR CHAUFFAGE FONCTION"]
["SDU05746200",null,"FAISCEAU. PRINCIPAL",null,null,{"$f":"LEFT(Catalogue[[#This Row],[Référence]],3)","v":"SDU"},{"$f":"VLOOKUP(Catalogue[[#This Row],[Alias]],#REF!,2,FALSE)","v":{"$error":"#REF!"}},null,"SIES55772-T100","THERMOST AMB LCD KIT RF      RDS110"]
["SDU05749500",null,"TUBULURE",null,null,{"$f":"LEFT(Catalogue[[#This Row],[Référence]],3)","v":"SDU"},{"$f":"VLOOKUP(Catalogue[[#This Row],[Alias]],#REF!,2,FALSE)","v":{"$error":"#REF!"}},null,"SIESSB31","SERVOM 200N 5,5MM 3PTS 230V 15"]
["SDU05900600",null,"MECANISME GAZ G20",null,null,{"$f":"LEFT(Catalogue[[#This Row],[Référence]],3)","v":"SDU"},{"$f":"VLOOKUP(Catalogue[[#This Row],[Alias]],#REF!,2,FALSE)","v":{"$error":"#REF!"}},null,"SIEVBI31.40","VANNES A SECTEUR 3 VOIES TARA FC 11/05/2018"]
["SDU05914100",null,"MECANISME GAZ G20",null,null,{"$f":"LEFT(Catalogue[[#This Row],[Référence]],3)","v":"SDU"},{"$f":"VLOOKUP(Catalogue[[#This Row],[Alias]],#REF!,2,FALSE)","v":{"$error":"#REF!"}},null,"SIM6235931A","ELECTRODE ALLUMAGE-IONISATION"]
["SDU05917200",null,"MEMBRANE + DISQUE",null,null,{"$f":"LEFT(Catalogue[[#This Row],[Référence]],3)","v":"SDU"},{"$f":"VLOOKUP(Catalogue[[#This Row],[Alias]],#REF!,2,FALSE)","v":{"$error":"#REF!"}},null,"SOF004110","SERVOMOT 0-10V / 24V POUR VXG      109NRDVX24SRTSI"]
["SDU05920500",null,"VEILLEUSE",null,null,{"$f":"LEFT(Catalogue[[#This Row],[Référence]],3)","v":"SDU"},{"$f":"VLOOKUP(Catalogue[[#This Row],[Alias]],#REF!,2,FALSE)","v":{"$error":"#REF!"}},null,"SOF007516","10  AZOTE  200X50 1208522"]
["SDU08663200",null,"Kit changement gaz G20 -> G30",null,null,{"$f":"LEFT(Catalogue[[#This Row],[Référence]],3)","v":"SDU"},{"$f":"VLOOKUP(Catalogue[[#This Row],[Alias]],#REF!,2,FALSE)","v":{"$error":"#REF!"}},null,"SOF008163","REGUL.DE PRESS.B6n 37mB            127B6N37"]
["SDU5138000",null,"DISJONCTEUR THERM.              05138000_LP230",null,null,{"$f":"LEFT(Catalogue[[#This Row],[Référence]],3)","v":"SDU"},{"$f":"VLOOKUP(Catalogue[[#This Row],[Alias]],#REF!,2,FALSE)","v":{"$error":"#REF!"}},null,"SOF008995","TH.DN63.PL40.T0/120 C DISTRILABO"]
["SDU5292000",null,"ALLUMEUR PIEZO TS APPAREILS     05292000_LP230",null,null,{"$f":"LEFT(Catalogue[[#This Row],[Référence]],3)","v":"SDU"},{"$f":"VLOOKUP(Catalogue[[#This Row],[Alias]],#REF!,2,FALSE)","v":{"$error":"#REF!"}},null,"SOF009340","POT A BOUE DN50x60  ACIER          132437D60"]
["SDU5900900",null,"VALVE EAU                       05900900_LP230",null,null,{"$f":"LEFT(Catalogue[[#This Row],[Référence]],3)","v":"SDU"},{"$f":"VLOOKUP(Catalogue[[#This Row],[Alias]],#REF!,2,FALSE)","v":{"$error":"#REF!"}},null,"SOF012940","241 - MANCHON MF REDUIT GALVA 3 X1 1/2"]
["SDUA2014000",null,"EXACONTROL 1 ALIMENTATION 230V   S.D A2014000",null,null,{"$f":"LEFT(Catalogue[[#This Row],[Référence]],3)","v":"SDU"},{"$f":"VLOOKUP(Catalogue[[#This Row],[Alias]],#REF!,2,FALSE)","v":{"$error":"#REF!"}},null,"SOF014185","245G - MAMELON MM 2 -1 1/2 LAITON A VISSER"]
["SDUH052003398",null,"CIRCUIT IMPRIME",null,null,{"$f":"LEFT(Catalogue[[#This Row],[Référence]],3)","v":"SDU"},{"$f":"VLOOKUP(Catalogue[[#This Row],[Alias]],#REF!,2,FALSE)","v":{"$error":"#REF!"}},null,"SOF014629","DISCONNECTEUR CA-296 15/21 2885"]
["SDUS1003600",null,"ISOLANTS JUPE CHAUDE",null,null,{"$f":"LEFT(Catalogue[[#This Row],[Référence]],3)","v":"SDU"},{"$f":"VLOOKUP(Catalogue[[#This Row],[Alias]],#REF!,2,FALSE)","v":{"$error":"#REF!"}},null,"SOF015060","FLEXIBLE EAU DROIT FF 1  DN25 LG1000MM"]
["SDUS1006400",null,"CLAPET VANNE 3 VOIES",null,null,{"$f":"LEFT(Catalogue[[#This Row],[Référence]],3)","v":"SDU"},{"$f":"VLOOKUP(Catalogue[[#This Row],[Alias]],#REF!,2,FALSE)","v":{"$error":"#REF!"}},null,"SOF041564","MITIGEUR THERMOSTATIQUE 521715 1/2  THERMADOR"]
["SDUS1007700",null,"RACCORD EAU CHAUDE",null,null,{"$f":"LEFT(Catalogue[[#This Row],[Référence]],3)","v":"SDU"},{"$f":"VLOOKUP(Catalogue[[#This Row],[Alias]],#REF!,2,FALSE)","v":{"$error":"#REF!"}},null,"SOF051951","5130RCU - TE FFF 54x35x54 CUIVRE A SOUDER"]
["SDUS1016400",null,"RAMPE EQUIPEE G20",null,null,{"$f":"LEFT(Catalogue[[#This Row],[Référence]],3)","v":"SDU"},{"$f":"VLOOKUP(Catalogue[[#This Row],[Alias]],#REF!,2,FALSE)","v":{"$error":"#REF!"}},null,"SOF080623","VASE MEMBRANE N 18 GRIS 4B 8204301"]
["SDUS1017000",null,"FAISCEAU. PRINCIPAL",null,null,{"$f":"LEFT(Catalogue[[#This Row],[Référence]],3)","v":"SDU"},{"$f":"VLOOKUP(Catalogue[[#This Row],[Alias]],#REF!,2,FALSE)","v":{"$error":"#REF!"}},null,"SOM022501 NF (*10P)","ROB GAZ D/MALE A/PATTES1/2"]
["SDUS1022700",null,"FACADE",null,null,{"$f":"LEFT(Catalogue[[#This Row],[Référence]],3)","v":"SDU"},{"$f":"VLOOKUP(Catalogue[[#This Row],[Alias]],#REF!,2,FALSE)","v":{"$error":"#REF!"}},null,"SOM1406-70","MELANGEUR B/D ENTRAXE 70"]
["SDUS1024700S",null,"PURGEUR CHAUFFAGE",null,null,{"$f":"LEFT(Catalogue[[#This Row],[Référence]],3)","v":"SDU"},{"$f":"VLOOKUP(Catalogue[[#This Row],[Alias]],#REF!,2,FALSE)","v":{"$error":"#REF!"}},null,"SOM1878","POTENCE ORIENTABLE MONTEE"]
["SDUS1025700",null,"ROBINET EAU FROIDE",null,null,{"$f":"LEFT(Catalogue[[#This Row],[Référence]],3)","v":"SDU"},{"$f":"VLOOKUP(Catalogue[[#This Row],[Alias]],#REF!,2,FALSE)","v":{"$error":"#REF!"}},null,"SOM1985-18","FLEXIBLE COUDE 500 M/M FF 1/2"]
["SDUS1029700",null,"RACCORD EAU CHAUDE",null,null,{"$f":"LEFT(Catalogue[[#This Row],[Référence]],3)","v":"SDU"},{"$f":"VLOOKUP(Catalogue[[#This Row],[Alias]],#REF!,2,FALSE)","v":{"$error":"#REF!"}},null,"SOM220","TETE THERMOSTATIQUE SEULE"]
["SDUS1036200",null,"SACHET DE JOINTS PLAQUE",null,null,{"$f":"LEFT(Catalogue[[#This Row],[Référence]],3)","v":"SDU"},{"$f":"VLOOKUP(Catalogue[[#This Row],[Alias]],#REF!,2,FALSE)","v":{"$error":"#REF!"}},null,"SOM25-08","VASE D EXPANSION       8L"]
["SDUS1044300",null,"RAMPE EXTRACTEUR",null,null,{"$f":"LEFT(Catalogue[[#This Row],[Référence]],3)","v":"SDU"},{"$f":"VLOOKUP(Catalogue[[#This Row],[Alias]],#REF!,2,FALSE)","v":{"$error":"#REF!"}},null,"SOM295-10","HYDROMETRE 0 A 10 M    3/8"]
["SDUS1048500",null,"COLLIER  D100X70MM",null,null,{"$f":"LEFT(Catalogue[[#This Row],[Référence]],3)","v":"SDU"},{"$f":"VLOOKUP(Catalogue[[#This Row],[Alias]],#REF!,2,FALSE)","v":{"$error":"#REF!"}},null,"SOM35-30R","ROB MAL ORIENTABLE SANS RACCORD 1/2-3/4."]
["SDUS1059900",null,"ECHANGEUR",null,null,{"$f":"LEFT(Catalogue[[#This Row],[Référence]],3)","v":"SDU"},{"$f":"VLOOKUP(Catalogue[[#This Row],[Alias]],#REF!,2,FALSE)","v":{"$error":"#REF!"}},null,"SOM44535","LYRE B/P NF 350 MM"]
["SDUS1061800",null,"MOTEUR POMPE",null,null,{"$f":"LEFT(Catalogue[[#This Row],[Référence]],3)","v":"SDU"},{"$f":"VLOOKUP(Catalogue[[#This Row],[Alias]],#REF!,2,FALSE)","v":{"$error":"#REF!"}},null,"SOM490-33","VBS ACS A JOINT TORIQUE FF 33/42"]
["SDUS1066100S","Non concerné","ECHANGEUR 23 KW",36,2000007344648,{"$f":"LEFT(Catalogue[[#This Row],[Référence]],3)","v":"SDU"},{"$f":"VLOOKUP(Catalogue[[#This Row],[Alias]],#REF!,2,FALSE)","v":{"$error":"#REF!"}},null,"SOM5090-14","COUDE 90 PR AS FF     14"]
["SDUS1070500",null,"ECHANGEUR",null,null,{"$f":"LEFT(Catalogue[[#This Row],[Référence]],3)","v":"SDU"},{"$f":"VLOOKUP(Catalogue[[#This Row],[Alias]],#REF!,2,FALSE)","v":{"$error":"#REF!"}},null,"SOM5306-201","INV COMPLET PIEL PANGAUD"]
["SDUS1076000S",null,"POMPE SANITAIRE",null,null,{"$f":"LEFT(Catalogue[[#This Row],[Référence]],3)","v":"SDU"},{"$f":"VLOOKUP(Catalogue[[#This Row],[Alias]],#REF!,2,FALSE)","v":{"$error":"#REF!"}},null,"SOM7117","MELANGEUR B/D ENTRAXE 130"]
["SDUS1078500S",null,"BALLON MICRO-ACCUMULATION",null,null,{"$f":"LEFT(Catalogue[[#This Row],[Référence]],3)","v":"SDU"},{"$f":"VLOOKUP(Catalogue[[#This Row],[Alias]],#REF!,2,FALSE)","v":{"$error":"#REF!"}},null,"SOM7450-15","ROB. THERM  EQ.  F15/21+ TETE  4611"]
["SDUS1081500",null,"BRIDE BALLON VISSEE",null,null,{"$f":"LEFT(Catalogue[[#This Row],[Référence]],3)","v":"SDU"},{"$f":"VLOOKUP(Catalogue[[#This Row],[Alias]],#REF!,2,FALSE)","v":{"$error":"#REF!"}},null,"SOM795-60","BEC AV. AERATEUR TYPE S300-1/2"]
["SDUS1083600",null,"TUBE DEPART GAZ",null,null,{"$f":"LEFT(Catalogue[[#This Row],[Référence]],3)","v":"SDU"},{"$f":"VLOOKUP(Catalogue[[#This Row],[Alias]],#REF!,2,FALSE)","v":{"$error":"#REF!"}},null,"SOM802-40","3E PIED DE BICHE 87 30 40 MF"]
["SDUS1090700",null,"AFFICHEUR. AVEC CABLE INTERFACE",null,null,{"$f":"LEFT(Catalogue[[#This Row],[Référence]],3)","v":"SDU"},{"$f":"VLOOKUP(Catalogue[[#This Row],[Alias]],#REF!,2,FALSE)","v":{"$error":"#REF!"}},null,"SOMACPF 0030 CS","ROB MAL AUTO PERCEUR   1/2-3/4"]
["SDUS1202500",null,"BOUTON POUSSOIR",null,null,{"$f":"LEFT(Catalogue[[#This Row],[Référence]],3)","v":"SDU"},{"$f":"VLOOKUP(Catalogue[[#This Row],[Alias]],#REF!,2,FALSE)","v":{"$error":"#REF!"}},null,"SOMFLU05034","GICLEUR FLUIDICS 60 - 0,55G"]
["SDUS1209700",null,"BANDEAU",null,null,{"$f":"LEFT(Catalogue[[#This Row],[Référence]],3)","v":"SDU"},{"$f":"VLOOKUP(Catalogue[[#This Row],[Alias]],#REF!,2,FALSE)","v":{"$error":"#REF!"}},null,"SOMZUD 25","DESEMBOUEUR LAITON 1"]
["SDUS1215200",null,"REGULATEUR EAU",null,null,{"$f":"LEFT(Catalogue[[#This Row],[Référence]],3)","v":"SDU"},{"$f":"VLOOKUP(Catalogue[[#This Row],[Alias]],#REF!,2,FALSE)","v":{"$error":"#REF!"}},null,"TEC6704000148","CARTE ELECTRO. FTMRV124EH"]
["SDUS1217200",null,"JOINT COUVERCLE MECANISME GAZ",null,null,{"$f":"LEFT(Catalogue[[#This Row],[Référence]],3)","v":"SDU"},{"$f":"VLOOKUP(Catalogue[[#This Row],[Alias]],#REF!,2,FALSE)","v":{"$error":"#REF!"}},null,"TEC6706000132","MOTEUR VENTIL Y7S623B54"]
["SDUS1220300S","Non concerné","CDC",51,2000004265687,{"$f":"LEFT(Catalogue[[#This Row],[Référence]],3)","v":"SDU"},{"$f":"VLOOKUP(Catalogue[[#This Row],[Alias]],#REF!,2,FALSE)","v":{"$error":"#REF!"}},null,"TEC6780000110","CARTE ELECTRONIQUE  HP/3HP"]
["SDUS1225100",null,"ROBINET ARRIVEE EAU",null,null,{"$f":"LEFT(Catalogue[[#This Row],[Référence]],3)","v":"SDU"},{"$f":"VLOOKUP(Catalogue[[#This Row],[Alias]],#REF!,2,FALSE)","v":{"$error":"#REF!"}},null,"TEC9900572","HP 30,5/22,7b RA FASTON BRASE"]
["SDUS122700S",null,"VALVE EAU",null,null,{"$f":"LEFT(Catalogue[[#This Row],[Référence]],3)","v":"SDU"},{"$f":"VLOOKUP(Catalogue[[#This Row],[Alias]],#REF!,2,FALSE)","v":{"$error":"#REF!"}},null,"TEC9900759","BOUTEILLE 0.7L 1X1/2 ODF"]
["SDUS5720500S","Non concerné","CAPTEUR DE PRESSION",10,2000007349780,{"$f":"LEFT(Catalogue[[#This Row],[Référence]],3)","v":"SDU"},{"$f":"VLOOKUP(Catalogue[[#This Row],[Alias]],#REF!,2,FALSE)","v":{"$error":"#REF!"}},null,"TEC9900987","COMPRESSEUR C-9RVN273HOM"]
["SFE1501080",null,"MANCHON ANTIVIBRATILE BRIDES GN 16 80",null,null,{"$f":"LEFT(Catalogue[[#This Row],[Référence]],3)","v":"SFE"},{"$f":"VLOOKUP(Catalogue[[#This Row],[Alias]],#REF!,2,FALSE)","v":{"$error":"#REF!"}},null,"TECSJ6231708098","SONDE KTEC 35 S99 1"]
["SFE305004",null,"CLAP TOUTE POS FF 15X21 LAIT 305004",null,null,{"$f":"LEFT(Catalogue[[#This Row],[Référence]],3)","v":"SFE"},{"$f":"VLOOKUP(Catalogue[[#This Row],[Alias]],#REF!,2,FALSE)","v":{"$error":"#REF!"}},null,"TER1168805","DISJ P+N 20A 4,5KA C 1M MJT720"]
["SFE528007",null,"VANNE A SPHERE MF 1 1/4 NF",null,null,{"$f":"LEFT(Catalogue[[#This Row],[Référence]],3)","v":"SFE"},{"$f":"VLOOKUP(Catalogue[[#This Row],[Alias]],#REF!,2,FALSE)","v":{"$error":"#REF!"}},null,"TER2863415","RSS EC DROIT 878W H1732 X600 BLANC RAL9016"]
["SFE585009",null,"VANNE FF A PURGE 2",null,null,{"$f":"LEFT(Catalogue[[#This Row],[Référence]],3)","v":"SFE"},{"$f":"VLOOKUP(Catalogue[[#This Row],[Alias]],#REF!,2,FALSE)","v":{"$error":"#REF!"}},null,"TER374814E","FILTRE TAMIS   LAITON 33X42"]
["SIA1831",null,"ROB. FLOTTEUR SIAMP EMBOUT LAITON",null,null,{"$f":"LEFT(Catalogue[[#This Row],[Référence]],3)","v":"SIA"},{"$f":"VLOOKUP(Catalogue[[#This Row],[Alias]],#REF!,2,FALSE)","v":{"$error":"#REF!"}},null,"TER528270W","RADIATEUR ACIER 4T 21H600X600"]
["SIA31505010",null,"RESERVOIR RONDO MV BLANC 31505010",null,null,{"$f":"LEFT(Catalogue[[#This Row],[Référence]],3)","v":"SIA"},{"$f":"VLOOKUP(Catalogue[[#This Row],[Alias]],#REF!,2,FALSE)","v":{"$error":"#REF!"}},null,"TER528369T","RADIATEUR ACIER 4T 22H600X1100"]
["SIA324544-07",null,"MECANISME POUR BATI CHASSE",null,null,{"$f":"LEFT(Catalogue[[#This Row],[Référence]],3)","v":"SIA"},{"$f":"VLOOKUP(Catalogue[[#This Row],[Alias]],#REF!,2,FALSE)","v":{"$error":"#REF!"}},null,"TER528455D","RADIATEUR ACIER 4T 33H900X800"]
["SID155520",null,"SOUPAPE SURETE 140KW/H",null,null,{"$f":"LEFT(Catalogue[[#This Row],[Référence]],3)","v":"SID"},{"$f":"VLOOKUP(Catalogue[[#This Row],[Alias]],#REF!,2,FALSE)","v":{"$error":"#REF!"}},null,"THD132522","VANNE DEBILITRE 20X27-A 28 L/MM"]
["SIE0.042.519.9",null,"ATG74B 1X6000 TRANSFO 220V",null,null,{"$f":"LEFT(Catalogue[[#This Row],[Référence]],3)","v":"SIE"},{"$f":"VLOOKUP(Catalogue[[#This Row],[Alias]],#REF!,2,FALSE)","v":{"$error":"#REF!"}},null,"THD80314","MANCHON EGAL 14 15X21         80314"]
["SIEBPZ:QAA24",null,"SONDE LANDIS AMBIANCE STD QAA24",null,null,{"$f":"LEFT(Catalogue[[#This Row],[Référence]],3)","v":"SIE"},{"$f":"VLOOKUP(Catalogue[[#This Row],[Alias]],#REF!,2,FALSE)","v":{"$error":"#REF!"}},null,"THDCT33","CLAP THERMOSTOP RU 50X60       CT33"]
["SIEBPZ:VBI61.15-1.6",null,"VAN BOISS SPH 3V DN15 1,6 VBI611516",null,null,{"$f":"LEFT(Catalogue[[#This Row],[Référence]],3)","v":"SIE"},{"$f":"VLOOKUP(Catalogue[[#This Row],[Alias]],#REF!,2,FALSE)","v":{"$error":"#REF!"}},null,"THDGSI","GS 526152 20X27 NF SIEGE INOX   GSI"]
["SIELFL1.133",null,"LFL 1.133",null,null,{"$f":"LEFT(Catalogue[[#This Row],[Référence]],3)","v":"SIE"},{"$f":"VLOOKUP(Catalogue[[#This Row],[Alias]],#REF!,2,FALSE)","v":{"$error":"#REF!"}},null,"THDPR2","PURG FLOTT R2    A/CLAP 12X17   PR2"]
["SIELGB21 350A27",null,"LGB21350A27",null,null,{"$f":"LEFT(Catalogue[[#This Row],[Référence]],3)","v":"SIE"},{"$f":"VLOOKUP(Catalogue[[#This Row],[Alias]],#REF!,2,FALSE)","v":{"$error":"#REF!"}},null,"THDR53320","REDUCTEUR DE PRESSION 533 3/4 SANS MANO"]
["SIEQAD21/201",null,"SONDE DEPART QAD 21",null,null,{"$f":"LEFT(Catalogue[[#This Row],[Référence]],3)","v":"SIE"},{"$f":"VLOOKUP(Catalogue[[#This Row],[Alias]],#REF!,2,FALSE)","v":{"$error":"#REF!"}},null,"THDVC3V26","VANNE MELANGEUSE SECTEUR 3 VOIES LAITON 1  KVS8"]
["SIEQRB1B A033B40B",null,"CELLULE QRB 1 B",null,null,{"$f":"LEFT(Catalogue[[#This Row],[Référence]],3)","v":"SIE"},{"$f":"VLOOKUP(Catalogue[[#This Row],[Alias]],#REF!,2,FALSE)","v":{"$error":"#REF!"}},null,"THDZSMC","SUPPORT MURAL EQUIPE+ ACCESSOIRES MONTES AVEC SOUPAPE NF"]
["SIERAK-TW.1000HB",null,"THERMOSTAT LIMITEUR 15..95DEG C I",null,null,{"$f":"LEFT(Catalogue[[#This Row],[Référence]],3)","v":"SIE"},{"$f":"VLOOKUP(Catalogue[[#This Row],[Alias]],#REF!,2,FALSE)","v":{"$error":"#REF!"}},null,"THE026255","FILERIE VENTILATEUR (3 CONDENSATEURS)"]
["SIERDJ100",null,"THERMOSTAT AMB.",null,null,{"$f":"LEFT(Catalogue[[#This Row],[Référence]],3)","v":"SIE"},{"$f":"VLOOKUP(Catalogue[[#This Row],[Alias]],#REF!,2,FALSE)","v":{"$error":"#REF!"}},null,"THE029059","LIMITEUR DE TEMPERATURE (BLOC HYDR.)"]
["SIES55158-A100",null,"SERVOM ELEC 24V SAS61.03 S55158A100",null,null,{"$f":"LEFT(Catalogue[[#This Row],[Référence]],3)","v":"SIE"},{"$f":"VLOOKUP(Catalogue[[#This Row],[Alias]],#REF!,2,FALSE)","v":{"$error":"#REF!"}},null,"THE029451","KIT COMPRESSEUR VERTICAL +REGUL+CAPOT"]
["SIESAL31.00T10",null,"SAL31.00T10",null,null,{"$f":"LEFT(Catalogue[[#This Row],[Référence]],3)","v":"SIE"},{"$f":"VLOOKUP(Catalogue[[#This Row],[Alias]],#REF!,2,FALSE)","v":{"$error":"#REF!"}},null,"THE029675","CARTE REGULATION PROG VMC4"]
["SIESSB31",null,"SERVOM 200N 5,5MM 3PTS 230V 15",null,null,{"$f":"LEFT(Catalogue[[#This Row],[Référence]],3)","v":"SIE"},{"$f":"VLOOKUP(Catalogue[[#This Row],[Alias]],#REF!,2,FALSE)","v":{"$error":"#REF!"}},null,"THE040181","CORPS DE CHAUFFE + JOINT"]
["SIEVXP47.15-2.5",null,"VANNE SIEGE STD PN16 3V DN15 K",null,null,{"$f":"LEFT(Catalogue[[#This Row],[Référence]],3)","v":"SIE"},{"$f":"VLOOKUP(Catalogue[[#This Row],[Alias]],#REF!,2,FALSE)","v":{"$error":"#REF!"}},null,"THE070224","THERMOSTAT ELECTRO NON KITABLE ACI+ 230"]
["SKU-00000016",null,"THERMOSTAT CONNECTE DOLCE VITA",null,null,{"$f":"LEFT(Catalogue[[#This Row],[Référence]],3)","v":"SKU"},{"$f":"VLOOKUP(Catalogue[[#This Row],[Alias]],#REF!,2,FALSE)","v":{"$error":"#REF!"}},null,"THE099025","RESISTANCE STEATITE 2200W MONO"]
["SOF004390",null,"RAC.LAITON MALE 1/2 POUR P77L     109RAC15P77L",null,null,{"$f":"LEFT(Catalogue[[#This Row],[Référence]],3)","v":"SOF"},{"$f":"VLOOKUP(Catalogue[[#This Row],[Alias]],#REF!,2,FALSE)","v":{"$error":"#REF!"}},null,"THE241039","CHAUFFE-EAU ELECTRIQUE BLINDE 50L ETROIT VERTICAL MURAL"]
["SOF007363",null,"ETIQ.CONSIGNES INCEND. 297X420     120215448",null,null,{"$f":"LEFT(Catalogue[[#This Row],[Référence]],3)","v":"SOF"},{"$f":"VLOOKUP(Catalogue[[#This Row],[Alias]],#REF!,2,FALSE)","v":{"$error":"#REF!"}},null,"THE261128","CEE BLINDE 100L VERTICAL MURAL STANDARD"]
["SOF008176",null,"DET.D50 300-20mB 3m3/H MF1/2  127D50-20MM15",null,null,{"$f":"LEFT(Catalogue[[#This Row],[Référence]],3)","v":"SOF"},{"$f":"VLOOKUP(Catalogue[[#This Row],[Alias]],#REF!,2,FALSE)","v":{"$error":"#REF!"}},null,"THE292039","CHAUFFE-EAU ELECTRIQUE BLINDE 300L STABLE"]
["SOF009212",null,"SOUPAPE PRESCOR 320 1  4B 13227040",null,null,{"$f":"LEFT(Catalogue[[#This Row],[Référence]],3)","v":"SOF"},{"$f":"VLOOKUP(Catalogue[[#This Row],[Alias]],#REF!,2,FALSE)","v":{"$error":"#REF!"}},null,"THE551298","THERMOSTAT"]
["SOF009644",null,"VASE EXPANS .500L.REFLEX N 6B      133N500",null,null,{"$f":"LEFT(Catalogue[[#This Row],[Référence]],3)","v":"SOF"},{"$f":"VLOOKUP(Catalogue[[#This Row],[Alias]],#REF!,2,FALSE)","v":{"$error":"#REF!"}},null,"TOS43158190","REACTOR"]
["SOF014095",null,"3 RAC.JRG.40 BRze F.1 1/2 203JRGRACBVD40",null,null,{"$f":"LEFT(Catalogue[[#This Row],[Référence]],3)","v":"SOF"},{"$f":"VLOOKUP(Catalogue[[#This Row],[Alias]],#REF!,2,FALSE)","v":{"$error":"#REF!"}},null,"TOS43T21393","MOTEUR VENTILATEUR AFS-220-20=4AR"]
["SOF014243",null,"280G - MAMELON MM 2  LAITON A VISSER",null,null,{"$f":"LEFT(Catalogue[[#This Row],[Référence]],3)","v":"SOF"},{"$f":"VLOOKUP(Catalogue[[#This Row],[Alias]],#REF!,2,FALSE)","v":{"$error":"#REF!"}},null,"TOS43T50360","SONDE TEMPERATURE TC"]
["SOF014650",null,"COMPTEUR E.F.CAL15 MM3/4 x110 207ETKCAL15",null,null,{"$f":"LEFT(Catalogue[[#This Row],[Référence]],3)","v":"SOF"},{"$f":"VLOOKUP(Catalogue[[#This Row],[Alias]],#REF!,2,FALSE)","v":{"$error":"#REF!"}},null,"TOS43T6V683","CARTE ELECTRONIQUE"]
["SOF032701",null,"TRANSFO EBILAT 052F0030",null,null,{"$f":"LEFT(Catalogue[[#This Row],[Référence]],3)","v":"SOF"},{"$f":"VLOOKUP(Catalogue[[#This Row],[Alias]],#REF!,2,FALSE)","v":{"$error":"#REF!"}},null,"TOSRAS-18E2KVG-E","UNITE MURALE YUKAI 5.0/5.4KW"]
["SOF043267",null,"MITIGEUR THERMOSTATIQUE ESBE VTA322 35-60DIAMC G3/4",null,null,{"$f":"LEFT(Catalogue[[#This Row],[Référence]],3)","v":"SOF"},{"$f":"VLOOKUP(Catalogue[[#This Row],[Alias]],#REF!,2,FALSE)","v":{"$error":"#REF!"}},null,"TOSRAS-2M10G3AVG-E","UNITE EXTERIEURE MULTISPLIT 2 SORTIES R32 3.3/4.0KW"]
["SOF063751",null,"CADDY ECROU PREMONTE TMN 41 10X40 ERICO REF590090 - REF. FAB : 590090 - REF. FNS : 063751",null,null,{"$f":"LEFT(Catalogue[[#This Row],[Référence]],3)","v":"SOF"},{"$f":"VLOOKUP(Catalogue[[#This Row],[Alias]],#REF!,2,FALSE)","v":{"$error":"#REF!"}},null,"TOSRAS-M05J2KVSG-E","UNITE MURALE SHORAI+ 1.5/2.0KW"]
["SOF064976",null,"CENT.DEGAZ.PAR DEPRESSION SERVITEC 60",null,null,{"$f":"LEFT(Catalogue[[#This Row],[Référence]],3)","v":"SOF"},{"$f":"VLOOKUP(Catalogue[[#This Row],[Alias]],#REF!,2,FALSE)","v":{"$error":"#REF!"}},null,"TOSRAS-M07N4KVRG-E","UNITE MURALE DESIGN HAORI 2.0/2.5KW (GRIS CLAIR ET GRIS ANTHRACITE INCLUS)"]
["SOM11300201500",null,"RALLONGE THERMOCOUPLE 1500 MM",null,null,{"$f":"LEFT(Catalogue[[#This Row],[Référence]],3)","v":"SOM"},{"$f":"VLOOKUP(Catalogue[[#This Row],[Alias]],#REF!,2,FALSE)","v":{"$error":"#REF!"}},null,"UBB189900","SOLIN  UBIFLEX 5-25DEG  D80/125 N"]
["SOM14-15",null,"ROB ARROSAGE SPHERE  1/2-3/4 (MAN. PAPIL",null,null,{"$f":"LEFT(Catalogue[[#This Row],[Référence]],3)","v":"SOM"},{"$f":"VLOOKUP(Catalogue[[#This Row],[Alias]],#REF!,2,FALSE)","v":{"$error":"#REF!"}},null,"UBB229301","conduit 60/100 250"]
["SOM1878",null,"POTENCE ORIENTABLE MONTEE",null,null,{"$f":"LEFT(Catalogue[[#This Row],[Référence]],3)","v":"SOM"},{"$f":"VLOOKUP(Catalogue[[#This Row],[Alias]],#REF!,2,FALSE)","v":{"$error":"#REF!"}},null,"UBB330054","Flexible PPTL D 80 longueur 1 mètre"]
["SOM1985-55",null,"FLEXIBLE SANITAIRE F.F 3/4 L700",null,null,{"$f":"LEFT(Catalogue[[#This Row],[Référence]],3)","v":"SOM"},{"$f":"VLOOKUP(Catalogue[[#This Row],[Alias]],#REF!,2,FALSE)","v":{"$error":"#REF!"}},null,"UNI01643S","CLAPET ANTIRETOUR DUA / GEA(L) / AXA(L) B / ALKON PLUS 35 B"]
["SOM25-25",null,"VASE D EXPANSION       25L",null,null,{"$f":"LEFT(Catalogue[[#This Row],[Référence]],3)","v":"SOM"},{"$f":"VLOOKUP(Catalogue[[#This Row],[Alias]],#REF!,2,FALSE)","v":{"$error":"#REF!"}},null,"UNI02580RS","CIRCUIT IMPRIME"]
["SOM2795-60",null,"BEC UNIVERSEL EN S 300-15/21",null,null,{"$f":"LEFT(Catalogue[[#This Row],[Référence]],3)","v":"SOM"},{"$f":"VLOOKUP(Catalogue[[#This Row],[Alias]],#REF!,2,FALSE)","v":{"$error":"#REF!"}},null,"UNI02855K","CARTOUCHE THERMOSTATIQUE SANIT"]
["SOM298531",null,"FLEX SANI DN10 INOX L1000 FF3/4",null,null,{"$f":"LEFT(Catalogue[[#This Row],[Référence]],3)","v":"SOM"},{"$f":"VLOOKUP(Catalogue[[#This Row],[Alias]],#REF!,2,FALSE)","v":{"$error":"#REF!"}},null,"UNI03325U","VASE EXPANSION CHAUFFAGE 10L GEAL RPV / BCELL 20 - DUA C 30"]
["SOM34600",null,"GROUPE DE SECURITE  DROIT TEFLON",null,null,{"$f":"LEFT(Catalogue[[#This Row],[Référence]],3)","v":"SOM"},{"$f":"VLOOKUP(Catalogue[[#This Row],[Alias]],#REF!,2,FALSE)","v":{"$error":"#REF!"}},null,"UNI03463A","CONDENSATEUR 4 UF BRULEUR UNIJET 2004/2005/3/4/6/10/3004/3005"]
["SOM44535",null,"LYRE B/P NF 350 MM",null,null,{"$f":"LEFT(Catalogue[[#This Row],[Référence]],3)","v":"SOM"},{"$f":"VLOOKUP(Catalogue[[#This Row],[Alias]],#REF!,2,FALSE)","v":{"$error":"#REF!"}},null,"UNI03803E","VASE EXPANSION SANITAIRE 8L DUA CARGO 24 / CHAUFFAGE 8L STILE 27"]
["SOM5002-18",null,"COUDE 90 GR AS FF     18",null,null,{"$f":"LEFT(Catalogue[[#This Row],[Référence]],3)","v":"SOM"},{"$f":"VLOOKUP(Catalogue[[#This Row],[Alias]],#REF!,2,FALSE)","v":{"$error":"#REF!"}},null,"UNI04138P","VASE EXPANSION CHAUFFAGE  8L ESTER C / ALKON 28C / ALKON CLIPPER 28"]
["SOM5306-201",null,"INV COMPLET PIEL PANGAUD",null,null,{"$f":"LEFT(Catalogue[[#This Row],[Référence]],3)","v":"SOM"},{"$f":"VLOOKUP(Catalogue[[#This Row],[Alias]],#REF!,2,FALSE)","v":{"$error":"#REF!"}},null,"UNI04471G","PANNEAU FRONTAL JAQUETTE DUA BTN 2028"]
["SOM656-20",null,"FLEXIBLE G/N 10 ANS 200CM",null,null,{"$f":"LEFT(Catalogue[[#This Row],[Référence]],3)","v":"SOM"},{"$f":"VLOOKUP(Catalogue[[#This Row],[Alias]],#REF!,2,FALSE)","v":{"$error":"#REF!"}},null,"UNI04974S","PLATINE MODULANTE + ALLUMAGE DUA PLUS B"]
["SOM7142",null,"MELANGEUR DOUCHE ENTRAXE 80",null,null,{"$f":"LEFT(Catalogue[[#This Row],[Référence]],3)","v":"SOM"},{"$f":"VLOOKUP(Catalogue[[#This Row],[Alias]],#REF!,2,FALSE)","v":{"$error":"#REF!"}},null,"UNI05376","ENSEMBLE ISOLATION CHAMBRE COMBUSTION DUA PLUS C/R"]
["SOM7450-15",null,"ROB. THERM  EQ.  F15/21+ TETE  4611",null,null,{"$f":"LEFT(Catalogue[[#This Row],[Référence]],3)","v":"SOM"},{"$f":"VLOOKUP(Catalogue[[#This Row],[Alias]],#REF!,2,FALSE)","v":{"$error":"#REF!"}},null,"UNI05627","PLATINE D INTERFACE CHAUFFAGE OSTRAL / CARGOMAX 3Z - KOND 3Z"]
["SOM802-40",null,"3E PIED DE BICHE 87 30 40 MF",null,null,{"$f":"LEFT(Catalogue[[#This Row],[Référence]],3)","v":"SOM"},{"$f":"VLOOKUP(Catalogue[[#This Row],[Alias]],#REF!,2,FALSE)","v":{"$error":"#REF!"}},null,"UNI06680","VENTILATEUR ALKON 18/28/35 - ALKON CLIPPER 28 - ALKON 24/35 B"]
["SOM851-25-15S",null,"Applique murale PE25 - F15/21",null,null,{"$f":"LEFT(Catalogue[[#This Row],[Référence]],3)","v":"SOM"},{"$f":"VLOOKUP(Catalogue[[#This Row],[Alias]],#REF!,2,FALSE)","v":{"$error":"#REF!"}},null,"UNI08498","VANNE D ARRET BLEUE PLAQUE DE RACCORD. ESTER C/DUA+ C/KOND C/IDEA C/ALKON 28C"]
["SOMFLU05048",null,"GICLEUR FLUIDICS 80 - 0,65G",null,null,{"$f":"LEFT(Catalogue[[#This Row],[Référence]],3)","v":"SOM"},{"$f":"VLOOKUP(Catalogue[[#This Row],[Alias]],#REF!,2,FALSE)","v":{"$error":"#REF!"}},null,"VAI0010024577","ECOTEC PLUS SYSTEMES 35 KW - THPE"]
["SOMSLA1420",null,"BEC UNIVERSEL EN S 200-15/21",null,null,{"$f":"LEFT(Catalogue[[#This Row],[Référence]],3)","v":"SOM"},{"$f":"VLOOKUP(Catalogue[[#This Row],[Alias]],#REF!,2,FALSE)","v":{"$error":"#REF!"}},null,"VAI0010028577","DOUILLE. LIMITEUR DE DEBIT"]
["TAD103113",null,"TETE THERMOSTATIQUE INTELLIGENTE - PACK DUO",null,null,{"$f":"LEFT(Catalogue[[#This Row],[Référence]],3)","v":"TAD"},{"$f":"VLOOKUP(Catalogue[[#This Row],[Alias]],#REF!,2,FALSE)","v":{"$error":"#REF!"}},null,"VAI0010030685","CONNECTEUR ELECTRIQUE"]
["TEC6706000059",null,"POMPA ACQUA SXM32-55-6H 230V",null,null,{"$f":"LEFT(Catalogue[[#This Row],[Référence]],3)","v":"TEC"},{"$f":"VLOOKUP(Catalogue[[#This Row],[Alias]],#REF!,2,FALSE)","v":{"$error":"#REF!"}},null,"VAI0010032791","POMPE HAUTE EFFICACITE"]
["TEC6706000447",null,"KIT TRANSFO GR9FI110BA EN BB",null,null,{"$f":"LEFT(Catalogue[[#This Row],[Référence]],3)","v":"TEC"},{"$f":"VLOOKUP(Catalogue[[#This Row],[Alias]],#REF!,2,FALSE)","v":{"$error":"#REF!"}},null,"VAI0010037393","POMPE"]
["TEC70250065",null,"SONDE AMBIANCE DEPORTEE ZONE 1",null,null,{"$f":"LEFT(Catalogue[[#This Row],[Référence]],3)","v":"TEC"},{"$f":"VLOOKUP(Catalogue[[#This Row],[Alias]],#REF!,2,FALSE)","v":{"$error":"#REF!"}},null,"VAI0020010868","ADAPTATEUR"]
["TEC9900460",null,"RELAIS 230Vac 5A-2contacts inv",null,null,{"$f":"LEFT(Catalogue[[#This Row],[Référence]],3)","v":"TEC"},{"$f":"VLOOKUP(Catalogue[[#This Row],[Alias]],#REF!,2,FALSE)","v":{"$error":"#REF!"}},null,"VAI0020020008S","EXTRACTEUR"]
["TEC9901093",null,"DETENDEUR UKV 18D",null,null,{"$f":"LEFT(Catalogue[[#This Row],[Référence]],3)","v":"TEC"},{"$f":"VLOOKUP(Catalogue[[#This Row],[Alias]],#REF!,2,FALSE)","v":{"$error":"#REF!"}},null,"VAI0020038758","MOTEUR. DECLENCHEUR"]
["TECB4993072",null,"KIT SONDE LG 90mm",null,null,{"$f":"LEFT(Catalogue[[#This Row],[Référence]],3)","v":"TEC"},{"$f":"VLOOKUP(Catalogue[[#This Row],[Alias]],#REF!,2,FALSE)","v":{"$error":"#REF!"}},null,"VAI0020041941","VIS (LONGUE)"]
["TECSJ6231708098",null,"SONDE KTEC 35 S99 1",null,null,{"$f":"LEFT(Catalogue[[#This Row],[Référence]],3)","v":"TEC"},{"$f":"VLOOKUP(Catalogue[[#This Row],[Alias]],#REF!,2,FALSE)","v":{"$error":"#REF!"}},null,"VAI0020051993","FAISCEAU"]
["TER1168800",null,"DISJ 1P+N 16A 6KA C 1M MJT716",null,null,{"$f":"LEFT(Catalogue[[#This Row],[Référence]],3)","v":"TER"},{"$f":"VLOOKUP(Catalogue[[#This Row],[Alias]],#REF!,2,FALSE)","v":{"$error":"#REF!"}},null,"VAI0020061732","LIMITEUR DE TEMPERATURE DE SECURITE"]
["TER2923167",null,"SET DE DOUCHE 3 JETS KALI44506",null,null,{"$f":"LEFT(Catalogue[[#This Row],[Référence]],3)","v":"TER"},{"$f":"VLOOKUP(Catalogue[[#This Row],[Alias]],#REF!,2,FALSE)","v":{"$error":"#REF!"}},null,"VAI0020078912","THERMOMETRE"]
["TER528212I",null,"RADIATEUR ACIER 4T 11H600X400",null,null,{"$f":"LEFT(Catalogue[[#This Row],[Référence]],3)","v":"TER"},{"$f":"VLOOKUP(Catalogue[[#This Row],[Alias]],#REF!,2,FALSE)","v":{"$error":"#REF!"}},null,"VAI0020088029","ISOLANT (BRIDE)"]
["TER528360Y",null,"RADIATEUR ACIER 4T 22H600X600",null,null,{"$f":"LEFT(Catalogue[[#This Row],[Référence]],3)","v":"TER"},{"$f":"VLOOKUP(Catalogue[[#This Row],[Alias]],#REF!,2,FALSE)","v":{"$error":"#REF!"}},null,"VAI0020118051","KIT CHANGEMENT DE GAZ. AU L (LL)"]
["TER528628I",null,"RADIATEUR ACIER 4T 21H700X500",null,null,{"$f":"LEFT(Catalogue[[#This Row],[Référence]],3)","v":"TER"},{"$f":"VLOOKUP(Catalogue[[#This Row],[Alias]],#REF!,2,FALSE)","v":{"$error":"#REF!"}},null,"VAI0020133816","BOUGIE D ALLUMAGE"]
["TER561084S",null,"DISJ PH/N 10A           MFN710",null,null,{"$f":"LEFT(Catalogue[[#This Row],[Référence]],3)","v":"TER"},{"$f":"VLOOKUP(Catalogue[[#This Row],[Alias]],#REF!,2,FALSE)","v":{"$error":"#REF!"}},null,"VAI0020135144","VANNE GAZ"]
["TER746812Y",null,"COFF GAMMA SAILL.1R 13M GD113A",null,null,{"$f":"LEFT(Catalogue[[#This Row],[Référence]],3)","v":"TER"},{"$f":"VLOOKUP(Catalogue[[#This Row],[Alias]],#REF!,2,FALSE)","v":{"$error":"#REF!"}},null,"VAI0020136629","AFFICHEUR"]
["THDBMEL100SKM",null,"BALLON TAMPON 100L JAQUETTE SKAI MURAL BMEL100SKM",null,null,{"$f":"LEFT(Catalogue[[#This Row],[Référence]],3)","v":"THD"},{"$f":"VLOOKUP(Catalogue[[#This Row],[Alias]],#REF!,2,FALSE)","v":{"$error":"#REF!"}},null,"VAI0020166542","POMPE"]
["THDCT33",null,"CLAP THERMOSTOP RU 50X60       CT33",null,null,{"$f":"LEFT(Catalogue[[#This Row],[Référence]],3)","v":"THD"},{"$f":"VLOOKUP(Catalogue[[#This Row],[Alias]],#REF!,2,FALSE)","v":{"$error":"#REF!"}},null,"VAI0020183478","MOTEUR POMPE. E.C.S. (E1)"]
["THDMIX153048",null,"MIT THERMOST MIXCAL 15X21 MIX153048",null,null,{"$f":"LEFT(Catalogue[[#This Row],[Référence]],3)","v":"THD"},{"$f":"VLOOKUP(Catalogue[[#This Row],[Alias]],#REF!,2,FALSE)","v":{"$error":"#REF!"}},null,"VAI0020188019","VOLET. BOITIER"]
["THDPD54626",null,"POT DE DECANTATION DIRTCAL 1 FF CODE USINE 546206",null,null,{"$f":"LEFT(Catalogue[[#This Row],[Référence]],3)","v":"THD"},{"$f":"VLOOKUP(Catalogue[[#This Row],[Alias]],#REF!,2,FALSE)","v":{"$error":"#REF!"}},null,"VAI0020198234","CAPTEUR"]
["THDSD20",null,"SOUPAPE DIFF REGL 519 20X27    SD20",null,null,{"$f":"LEFT(Catalogue[[#This Row],[Référence]],3)","v":"THD"},{"$f":"VLOOKUP(Catalogue[[#This Row],[Alias]],#REF!,2,FALSE)","v":{"$error":"#REF!"}},null,"VAI0020216847","EXTRACTEUR / VENTILATEUR"]
["THDVDB3V26M",null,"VANNE DIRECTIONNELLE 3 VOIES 1M Y58025000MR",null,null,{"$f":"LEFT(Catalogue[[#This Row],[Référence]],3)","v":"THD"},{"$f":"VLOOKUP(Catalogue[[#This Row],[Alias]],#REF!,2,FALSE)","v":{"$error":"#REF!"}},null,"VAI0020232031","BOUGIE DE CONTROLE"]
["THDZSMC",null,"SUPPORT MURAL EQUIPE+ ACCESSOIRES MONTES AVEC SOUPAPE NF",null,null,{"$f":"LEFT(Catalogue[[#This Row],[Référence]],3)","v":"THD"},{"$f":"VLOOKUP(Catalogue[[#This Row],[Alias]],#REF!,2,FALSE)","v":{"$error":"#REF!"}},null,"VAI0020247170","DISPOSITIF DE PROTECTION CONTRE LE VENT"]
["THE026253",null,"SONDE BAS / HAUT BALLON",null,null,{"$f":"LEFT(Catalogue[[#This Row],[Référence]],3)","v":"THE"},{"$f":"VLOOKUP(Catalogue[[#This Row],[Alias]],#REF!,2,FALSE)","v":{"$error":"#REF!"}},null,"VAI0020272056","SACHET DE JOINTS. 100/120 KW"]
["THE029216",null,"SONDE PT1000 LG 1,5M (CAPTEUR)",null,null,{"$f":"LEFT(Catalogue[[#This Row],[Référence]],3)","v":"THE"},{"$f":"VLOOKUP(Catalogue[[#This Row],[Alias]],#REF!,2,FALSE)","v":{"$error":"#REF!"}},null,"VAI010718","AXE VCW T3"]
["THE029761",null,"BOITIER DE COMMANDE DIGITAL CV4",null,null,{"$f":"LEFT(Catalogue[[#This Row],[Référence]],3)","v":"THE"},{"$f":"VLOOKUP(Catalogue[[#This Row],[Alias]],#REF!,2,FALSE)","v":{"$error":"#REF!"}},null,"VAI013512","VALVE A EAU. PARTIE DESSOUS"]
["THE040168",null,"ANODE D33 L315/286",null,null,{"$f":"LEFT(Catalogue[[#This Row],[Référence]],3)","v":"THE"},{"$f":"VLOOKUP(Catalogue[[#This Row],[Alias]],#REF!,2,FALSE)","v":{"$error":"#REF!"}},null,"VAI014731","SOUPAPE"]
["THE060311",null,"ELEMENT STEATITE D.50 3000W 3X230 L.550",null,null,{"$f":"LEFT(Catalogue[[#This Row],[Référence]],3)","v":"THE"},{"$f":"VLOOKUP(Catalogue[[#This Row],[Alias]],#REF!,2,FALSE)","v":{"$error":"#REF!"}},null,"VAI023100","GENERATEUR"]
["THE070262",null,"ENS. THERMOSTAT ELECTRONIQUE MONO",null,null,{"$f":"LEFT(Catalogue[[#This Row],[Référence]],3)","v":"THE"},{"$f":"VLOOKUP(Catalogue[[#This Row],[Alias]],#REF!,2,FALSE)","v":{"$error":"#REF!"}},null,"VAI042684","Veilleuse"]
["THE099060",null,"JOINT A LEVRE D.82MM",null,null,{"$f":"LEFT(Catalogue[[#This Row],[Référence]],3)","v":"THE"},{"$f":"VLOOKUP(Catalogue[[#This Row],[Alias]],#REF!,2,FALSE)","v":{"$error":"#REF!"}},null,"VAI050174","OPERATEUR BLOC GAZ  FC 01/2016"]
["THE253023",null,"TH BLINDE HM 200L 2200M",null,null,{"$f":"LEFT(Catalogue[[#This Row],[Référence]],3)","v":"THE"},{"$f":"VLOOKUP(Catalogue[[#This Row],[Alias]],#REF!,2,FALSE)","v":{"$error":"#REF!"}},null,"VAI061031S","Corps de chauffe"]
["THE271083",null,"CHAUFFE-EAU ELECTRIQUE DURALIS ACI HYBRIDE 150L VERTICAL MURAL STANDARD",null,null,{"$f":"LEFT(Catalogue[[#This Row],[Référence]],3)","v":"THE"},{"$f":"VLOOKUP(Catalogue[[#This Row],[Alias]],#REF!,2,FALSE)","v":{"$error":"#REF!"}},null,"VAI061612","ECHANGEUR DE CHALEUR"]
["THE861512",null,"TH BLINDE COMP VM 150L 1600M",null,null,{"$f":"LEFT(Catalogue[[#This Row],[Référence]],3)","v":"THE"},{"$f":"VLOOKUP(Catalogue[[#This Row],[Alias]],#REF!,2,FALSE)","v":{"$error":"#REF!"}},null,"VAI065034S","ECHANGEUR A PLAQUES"]
["TOS43050424",null,"SONDE TD",null,null,{"$f":"LEFT(Catalogue[[#This Row],[Référence]],3)","v":"TOS"},{"$f":"VLOOKUP(Catalogue[[#This Row],[Alias]],#REF!,2,FALSE)","v":{"$error":"#REF!"}},null,"VAI065132S","ECHANGEUR 40 PLAQUES"]
["TOS43T09326",null,"GRILLE REPRISE",null,null,{"$f":"LEFT(Catalogue[[#This Row],[Référence]],3)","v":"TOS"},{"$f":"VLOOKUP(Catalogue[[#This Row],[Alias]],#REF!,2,FALSE)","v":{"$error":"#REF!"}},null,"VAI080387","TUYAU FLEXIBLE"]
["TOS43T21371",null,"MOTEUR VENTILATEUR ICF-340-30-2",null,null,{"$f":"LEFT(Catalogue[[#This Row],[Référence]],3)","v":"TOS"},{"$f":"VLOOKUP(Catalogue[[#This Row],[Alias]],#REF!,2,FALSE)","v":{"$error":"#REF!"}},null,"VAI082244","ROBINET DE VIDANGE"]
["TOS43T50400",null,"SONDE TEMPERATURE",null,null,{"$f":"LEFT(Catalogue[[#This Row],[Référence]],3)","v":"TOS"},{"$f":"VLOOKUP(Catalogue[[#This Row],[Alias]],#REF!,2,FALSE)","v":{"$error":"#REF!"}},null,"VAI086514","Support"]
["TOS43T77301",null,"POMPE DE VIDANGE",null,null,{"$f":"LEFT(Catalogue[[#This Row],[Référence]],3)","v":"TOS"},{"$f":"VLOOKUP(Catalogue[[#This Row],[Alias]],#REF!,2,FALSE)","v":{"$error":"#REF!"}},null,"VAI090684","ELECTRODE D ALLUMAGE DOUBLE"]
["TOSRAS-2M18G3AVG-E",null,"UNITE EXTERIEURE MULTISPLIT 2 SORTIES R32 5.2/5.6KW",null,null,{"$f":"LEFT(Catalogue[[#This Row],[Référence]],3)","v":"TOS"},{"$f":"VLOOKUP(Catalogue[[#This Row],[Alias]],#REF!,2,FALSE)","v":{"$error":"#REF!"}},null,"VAI093903","TUBE DE RACCORDEMENT"]
["TOSRAS-B13E2KVG-E",null,"UNITE MURALE YUKAI 3.5/4.2KW",null,null,{"$f":"LEFT(Catalogue[[#This Row],[Référence]],3)","v":"TOS"},{"$f":"VLOOKUP(Catalogue[[#This Row],[Alias]],#REF!,2,FALSE)","v":{"$error":"#REF!"}},null,"VAI101122","LIMITEUR DE TEMPERATURE"]
["TOSRAS-M05G3KVSG-E",null,"UNITE MURALE SHORAI EDGE 1.5/2.0KW - BLANC MAT",null,null,{"$f":"LEFT(Catalogue[[#This Row],[Référence]],3)","v":"TOS"},{"$f":"VLOOKUP(Catalogue[[#This Row],[Alias]],#REF!,2,FALSE)","v":{"$error":"#REF!"}},null,"VAI101656","Aquastat sanitaire"]
["TRE629190",null,"CARTE ELECTRONIQUE OPT 170 TANEO",null,null,{"$f":"LEFT(Catalogue[[#This Row],[Référence]],3)","v":"TRE"},{"$f":"VLOOKUP(Catalogue[[#This Row],[Alias]],#REF!,2,FALSE)","v":{"$error":"#REF!"}},null,"VAI110647","RACCORD R 1/2 X G 3/4"]
["UBB189910",null,"SOLIN PLOMB OCRE 5",null,null,{"$f":"LEFT(Catalogue[[#This Row],[Référence]],3)","v":"UBB"},{"$f":"VLOOKUP(Catalogue[[#This Row],[Alias]],#REF!,2,FALSE)","v":{"$error":"#REF!"}},null,"VAI115257","SECURITE D ALLUMAGE"]
["UBB229239",null,"COUDE MF 87DEG  60/100",null,null,{"$f":"LEFT(Catalogue[[#This Row],[Référence]],3)","v":"UBB"},{"$f":"VLOOKUP(Catalogue[[#This Row],[Alias]],#REF!,2,FALSE)","v":{"$error":"#REF!"}},null,"VAI117546","CHAMBRE DE COMBUSTION"]
["UBB702690",null,"COLLIER UBBINK CLAMP 125MM POUR SD",null,null,{"$f":"LEFT(Catalogue[[#This Row],[Référence]],3)","v":"UBB"},{"$f":"VLOOKUP(Catalogue[[#This Row],[Alias]],#REF!,2,FALSE)","v":{"$error":"#REF!"}},null,"VAI130312","CIRCUIT IMPRIME FACADE"]
["UNI02378B",null,"PRESSOSTAT DE SECURITE FUMEES DUA/ESTER B/DUA PLUS BTFS/TG 80-120",null,null,{"$f":"LEFT(Catalogue[[#This Row],[Référence]],3)","v":"UNI"},{"$f":"VLOOKUP(Catalogue[[#This Row],[Alias]],#REF!,2,FALSE)","v":{"$error":"#REF!"}},null,"VAI132743","ACCROCHE FLAMME"]
["UNI02575O",null,"MEMBRANE PRESSOSTAT SANITAIRE DUA C",null,null,{"$f":"LEFT(Catalogue[[#This Row],[Référence]],3)","v":"UNI"},{"$f":"VLOOKUP(Catalogue[[#This Row],[Alias]],#REF!,2,FALSE)","v":{"$error":"#REF!"}},null,"VAI151017","SECURITE MANQUE D EAU"]
["UNI02855K",null,"CARTOUCHE THERMOSTATIQUE SANIT",null,null,{"$f":"LEFT(Catalogue[[#This Row],[Référence]],3)","v":"UNI"},{"$f":"VLOOKUP(Catalogue[[#This Row],[Alias]],#REF!,2,FALSE)","v":{"$error":"#REF!"}},null,"VAI170030","THERMOCOUPLE"]
["UNI03380B",null,"PURGEUR D AIR AUTOMATIQUE DUA B / CLIPPER / DUA CARGO / ESTER B",null,null,{"$f":"LEFT(Catalogue[[#This Row],[Référence]],3)","v":"UNI"},{"$f":"VLOOKUP(Catalogue[[#This Row],[Alias]],#REF!,2,FALSE)","v":{"$error":"#REF!"}},null,"VAI178988","ENSEMBLE DEBISTAT"]
["UNI03514W",null,"PLATINE D ALLUMAGE CORVETT / CARGOMAX 31 / CLIPPER 2028 (2004)",null,null,{"$f":"LEFT(Catalogue[[#This Row],[Référence]],3)","v":"UNI"},{"$f":"VLOOKUP(Catalogue[[#This Row],[Alias]],#REF!,2,FALSE)","v":{"$error":"#REF!"}},null,"VAI179048","VASE D EXPANSION. 15 L"]
["UNI03728FS",null,"CDC DUA 30/3030",null,null,{"$f":"LEFT(Catalogue[[#This Row],[Référence]],3)","v":"UNI"},{"$f":"VLOOKUP(Catalogue[[#This Row],[Alias]],#REF!,2,FALSE)","v":{"$error":"#REF!"}},null,"VAI181045","VASE D EXPANSION"]
["UNI04179B",null,"FACADE AVANT TABLEAU ESTER B",null,null,{"$f":"LEFT(Catalogue[[#This Row],[Référence]],3)","v":"UNI"},{"$f":"VLOOKUP(Catalogue[[#This Row],[Alias]],#REF!,2,FALSE)","v":{"$error":"#REF!"}},null,"VAI193592","SONDE CTN"]
["UNI04257H",null,"JOINT TRAPPE VISITE BALLON ESTER B / DUA B 2028 / DUA+ B (EMAILLE) / KOND B",null,null,{"$f":"LEFT(Catalogue[[#This Row],[Référence]],3)","v":"UNI"},{"$f":"VLOOKUP(Catalogue[[#This Row],[Alias]],#REF!,2,FALSE)","v":{"$error":"#REF!"}},null,"VAI194839","ENSEMBLE DEBISTAT"]
["UNI04875F",null,"ELECTRODE D IONISATION KONDENSAL",null,null,{"$f":"LEFT(Catalogue[[#This Row],[Référence]],3)","v":"UNI"},{"$f":"VLOOKUP(Catalogue[[#This Row],[Alias]],#REF!,2,FALSE)","v":{"$error":"#REF!"}},null,"VAI252814","SONDE CTN"]
["UNI05335",null,"ROBINET DE VIDANGE MODULEX",null,null,{"$f":"LEFT(Catalogue[[#This Row],[Référence]],3)","v":"UNI"},{"$f":"VLOOKUP(Catalogue[[#This Row],[Alias]],#REF!,2,FALSE)","v":{"$error":"#REF!"}},null,"VAI254009","SECURITE DEBORDEMENT SPOT"]
["UNI05587",null,"CABLAGE E.RIL-VM(A)-TRANSF.ACC  OSTRAL 31",null,null,{"$f":"LEFT(Catalogue[[#This Row],[Référence]],3)","v":"UNI"},{"$f":"VLOOKUP(Catalogue[[#This Row],[Alias]],#REF!,2,FALSE)","v":{"$error":"#REF!"}},null,"VAI257932","INTERRUPTEUR"]
["UNI06619",null,"SONDE SANITAIRE A CONTACT ALKON PLUS C - EVE 05",null,null,{"$f":"LEFT(Catalogue[[#This Row],[Référence]],3)","v":"UNI"},{"$f":"VLOOKUP(Catalogue[[#This Row],[Alias]],#REF!,2,FALSE)","v":{"$error":"#REF!"}},null,"VAI303202","RALL. CONCENT. 0.5M DIAM80/125PPS"]
["UNI14104",null,"MOTEUR POMPE MODULANTE + TURBINE UNIKE - UNIK B 28",null,null,{"$f":"LEFT(Catalogue[[#This Row],[Référence]],3)","v":"UNI"},{"$f":"VLOOKUP(Catalogue[[#This Row],[Alias]],#REF!,2,FALSE)","v":{"$error":"#REF!"}},null,"VER121010-0039","ME1 24.24 GN"]
["VAI0010021864",null,"ECOTEC PLUS VCI - VUI FR 306/5-5 E GN THPE",null,null,{"$f":"LEFT(Catalogue[[#This Row],[Référence]],3)","v":"VAI"},{"$f":"VLOOKUP(Catalogue[[#This Row],[Alias]],#REF!,2,FALSE)","v":{"$error":"#REF!"}},null,"VER121092-0120","VANNE GAZ"]
["VAI0010026285",null,"THERMOCOUPLE",null,null,{"$f":"LEFT(Catalogue[[#This Row],[Référence]],3)","v":"VAI"},{"$f":"VLOOKUP(Catalogue[[#This Row],[Alias]],#REF!,2,FALSE)","v":{"$error":"#REF!"}},null,"VER121092-0480","CIRCUIT IMPRIME"]
["VAI0010029308",null,"PANNEAU LATERAL",null,null,{"$f":"LEFT(Catalogue[[#This Row],[Référence]],3)","v":"VAI"},{"$f":"VLOOKUP(Catalogue[[#This Row],[Alias]],#REF!,2,FALSE)","v":{"$error":"#REF!"}},null,"VIE7141709","VITOTROL 100 RT"]
["VAI0010032757",null,"CABLE",null,null,{"$f":"LEFT(Catalogue[[#This Row],[Référence]],3)","v":"VAI"},{"$f":"VLOOKUP(Catalogue[[#This Row],[Alias]],#REF!,2,FALSE)","v":{"$error":"#REF!"}},null,"VIE7178995","EQUIPEMENT DE MOTORISATION"]
["VAI0010034126",null,"BALLON TAMPON DE 45 LITRES",null,null,{"$f":"LEFT(Catalogue[[#This Row],[Référence]],3)","v":"VAI"},{"$f":"VLOOKUP(Catalogue[[#This Row],[Alias]],#REF!,2,FALSE)","v":{"$error":"#REF!"}},null,"VIE7194837","COUDE COAXIAL 45DEG , D=60/100 MM(2 UNITES)"]
["VAI0020018183",null,"ECHANGEUR",null,null,{"$f":"LEFT(Catalogue[[#This Row],[Référence]],3)","v":"VAI"},{"$f":"VLOOKUP(Catalogue[[#This Row],[Alias]],#REF!,2,FALSE)","v":{"$error":"#REF!"}},null,"VIE7329833","NOURRICE GAZ"]
["VAI0020021181",null,"TRANSFORMATEUR",null,null,{"$f":"LEFT(Catalogue[[#This Row],[Référence]],3)","v":"VAI"},{"$f":"VLOOKUP(Catalogue[[#This Row],[Alias]],#REF!,2,FALSE)","v":{"$error":"#REF!"}},null,"VIE7370458","BOITIER DE CONTROLE BRULEUR ATM17-29"]
["VAI0020038571",null,"SIPHON",null,null,{"$f":"LEFT(Catalogue[[#This Row],[Référence]],3)","v":"VAI"},{"$f":"VLOOKUP(Catalogue[[#This Row],[Alias]],#REF!,2,FALSE)","v":{"$error":"#REF!"}},null,"VIE7373240","ADAPTATEUR COAXIAL D=60/100 - D=80/125MM"]
["VAI0020039083",null,"CAPTEUR DE SORTIE FUMEES",null,null,{"$f":"LEFT(Catalogue[[#This Row],[Référence]],3)","v":"VAI"},{"$f":"VLOOKUP(Catalogue[[#This Row],[Alias]],#REF!,2,FALSE)","v":{"$error":"#REF!"}},null,"VIE7404359","FUSIBLE 0.2A/250V (10 PIECES)"]
["VAI0020051993",null,"FAISCEAU",null,null,{"$f":"LEFT(Catalogue[[#This Row],[Référence]],3)","v":"VAI"},{"$f":"VLOOKUP(Catalogue[[#This Row],[Alias]],#REF!,2,FALSE)","v":{"$error":"#REF!"}},null,"VIE7450023","THERMOSTAT HORLOGE F"]
["VAI0020057242",null,"DOUILLE",null,null,{"$f":"LEFT(Catalogue[[#This Row],[Référence]],3)","v":"VAI"},{"$f":"VLOOKUP(Catalogue[[#This Row],[Alias]],#REF!,2,FALSE)","v":{"$error":"#REF!"}},null,"VIE7450633","SONDE D EAU CHAUDE SANITAIRE"]
["VAI0020082193",null,"ISOLANT (SET)",null,null,{"$f":"LEFT(Catalogue[[#This Row],[Référence]],3)","v":"VAI"},{"$f":"VLOOKUP(Catalogue[[#This Row],[Alias]],#REF!,2,FALSE)","v":{"$error":"#REF!"}},null,"VIE7631877","BALLON ECS PAC B200WP/E 200 L SILVER"]
["VAI0020086374",null,"FAISCEAU (ECOVIT EBUS)",null,null,{"$f":"LEFT(Catalogue[[#This Row],[Référence]],3)","v":"VAI"},{"$f":"VLOOKUP(Catalogue[[#This Row],[Alias]],#REF!,2,FALSE)","v":{"$error":"#REF!"}},null,"VIE7740469","BOUTEILLE DE DECOUPLAGE AU SOL 100 LITRES 2X4 PIQUAGES"]
["VAI0020112593",null,"REGULATEUR. VRC 470",null,null,{"$f":"LEFT(Catalogue[[#This Row],[Référence]],3)","v":"VAI"},{"$f":"VLOOKUP(Catalogue[[#This Row],[Alias]],#REF!,2,FALSE)","v":{"$error":"#REF!"}},null,"VIE7810964","ELECTRODE D IONISATION"]
["VAI0020130930",null,"COLLECTEUR",null,null,{"$f":"LEFT(Catalogue[[#This Row],[Référence]],3)","v":"VAI"},{"$f":"VLOOKUP(Catalogue[[#This Row],[Alias]],#REF!,2,FALSE)","v":{"$error":"#REF!"}},null,"VIE7811924","POT COMBUSTION VITOLA 22 KW"]
["VAI0020135123",null,"VENTURI",null,null,{"$f":"LEFT(Catalogue[[#This Row],[Référence]],3)","v":"VAI"},{"$f":"VLOOKUP(Catalogue[[#This Row],[Alias]],#REF!,2,FALSE)","v":{"$error":"#REF!"}},null,"VIE7812742","BLOC GAZ"]
["VAI0020135162",null,"FAISCEAU",null,null,{"$f":"LEFT(Catalogue[[#This Row],[Référence]],3)","v":"VAI"},{"$f":"VLOOKUP(Catalogue[[#This Row],[Alias]],#REF!,2,FALSE)","v":{"$error":"#REF!"}},null,"VIE7813548","PRESSOSTAT AIR VG"]
["VAI0020166576",null,"THERMOMETRE. ROUGE",null,null,{"$f":"LEFT(Catalogue[[#This Row],[Référence]],3)","v":"VAI"},{"$f":"VLOOKUP(Catalogue[[#This Row],[Alias]],#REF!,2,FALSE)","v":{"$error":"#REF!"}},null,"VIE7814509","PLATINE DE BASE HK1"]
["VAI0020185056",null,"CAPTEUR. DEGIVREUR 900 MM",null,null,{"$f":"LEFT(Catalogue[[#This Row],[Référence]],3)","v":"VAI"},{"$f":"VLOOKUP(Catalogue[[#This Row],[Alias]],#REF!,2,FALSE)","v":{"$error":"#REF!"}},null,"VIE7815027","BOUCHON FUSIBLE"]
["VAI0020188636",null,"FAISCEAU",null,null,{"$f":"LEFT(Catalogue[[#This Row],[Référence]],3)","v":"VAI"},{"$f":"VLOOKUP(Catalogue[[#This Row],[Alias]],#REF!,2,FALSE)","v":{"$error":"#REF!"}},null,"VIE7815390","CABLES TRANSFO BRULEUR (X2)"]
["VAI0020198225",null,"TUBE",null,null,{"$f":"LEFT(Catalogue[[#This Row],[Référence]],3)","v":"VAI"},{"$f":"VLOOKUP(Catalogue[[#This Row],[Alias]],#REF!,2,FALSE)","v":{"$error":"#REF!"}},null,"VIE7815636","VENTILATEUR BRULEUR D = 170 X 34 MM"]
["VAI0020206053",null,"ECHANGEUR DE CHALEUR",null,null,{"$f":"LEFT(Catalogue[[#This Row],[Référence]],3)","v":"VAI"},{"$f":"VLOOKUP(Catalogue[[#This Row],[Alias]],#REF!,2,FALSE)","v":{"$error":"#REF!"}},null,"VIE7816034","AQUASTAT A ENCASTRER"]
["VAI0020213911",null,"BRULEUR",null,null,{"$f":"LEFT(Catalogue[[#This Row],[Référence]],3)","v":"VAI"},{"$f":"VLOOKUP(Catalogue[[#This Row],[Alias]],#REF!,2,FALSE)","v":{"$error":"#REF!"}},null,"VIE7816501","AQUASTAT DE REGLAGE 30-100DEG C"]
["VAI0020246710",null,"ECHANGEUR DE CHALEUR",null,null,{"$f":"LEFT(Catalogue[[#This Row],[Référence]],3)","v":"VAI"},{"$f":"VLOOKUP(Catalogue[[#This Row],[Alias]],#REF!,2,FALSE)","v":{"$error":"#REF!"}},null,"VIE7817524","ROBINET 1/2  REMPLISSAGE/VIDANGE"]
["VAI0020266791",null,"SONDE EXT AF EBUS VR 693",null,null,{"$f":"LEFT(Catalogue[[#This Row],[Référence]],3)","v":"VAI"},{"$f":"VLOOKUP(Catalogue[[#This Row],[Alias]],#REF!,2,FALSE)","v":{"$error":"#REF!"}},null,"VIE7817821","BRIDE BORGNE AVEC JOINT"]
["VAI011159",null,"VALVE A EAU",null,null,{"$f":"LEFT(Catalogue[[#This Row],[Référence]],3)","v":"VAI"},{"$f":"VLOOKUP(Catalogue[[#This Row],[Alias]],#REF!,2,FALSE)","v":{"$error":"#REF!"}},null,"VIE7818065","LIGNE GICLEUR"]
["VAI011289S","Non concerné","VALVE EAU CPL(VANNE 3 VOIES)",50,2000001513903,{"$f":"LEFT(Catalogue[[#This Row],[Référence]],3)","v":"VAI"},{"$f":"VLOOKUP(Catalogue[[#This Row],[Alias]],#REF!,2,FALSE)","v":{"$error":"#REF!"}},null,"VIE7818177","FAISCEAU DE CABLES X14 (163)"]
["VAI012648",null,"SECURITE MANQUE D EAU",null,null,{"$f":"LEFT(Catalogue[[#This Row],[Référence]],3)","v":"VAI"},{"$f":"VLOOKUP(Catalogue[[#This Row],[Alias]],#REF!,2,FALSE)","v":{"$error":"#REF!"}},null,"VIE7818364","ELECTRODE D IONISATION"]
["VAI014714",null,"VALVE",null,null,{"$f":"LEFT(Catalogue[[#This Row],[Référence]],3)","v":"VAI"},{"$f":"VLOOKUP(Catalogue[[#This Row],[Alias]],#REF!,2,FALSE)","v":{"$error":"#REF!"}},null,"VIE7818914","FICHE DE CODAGE FO"]
["VAI022596",null,"TUBE (G 1/4)",null,null,{"$f":"LEFT(Catalogue[[#This Row],[Référence]],3)","v":"VAI"},{"$f":"VLOOKUP(Catalogue[[#This Row],[Alias]],#REF!,2,FALSE)","v":{"$error":"#REF!"}},null,"VIE7819180","BLOC ISOLANT 27/33 KW AVEC TRESSE"]
["VAI043928",null,"TUBE DE VEILLEUSE",null,null,{"$f":"LEFT(Catalogue[[#This Row],[Référence]],3)","v":"VAI"},{"$f":"VLOOKUP(Catalogue[[#This Row],[Alias]],#REF!,2,FALSE)","v":{"$error":"#REF!"}},null,"VIE7819628","ELECTRODE D IONISATION"]
["VAI050223",null,"OPERATEUR BLOC GAZ",null,null,{"$f":"LEFT(Catalogue[[#This Row],[Référence]],3)","v":"VAI"},{"$f":"VLOOKUP(Catalogue[[#This Row],[Alias]],#REF!,2,FALSE)","v":{"$error":"#REF!"}},null,"VIE7819666","JOINT HORICELL/VERTICELL/VITOCELL 300"]
["VAI061031S","Non concerné","Corps de chauffe",48,2000007345713,{"$f":"LEFT(Catalogue[[#This Row],[Référence]],3)","v":"VAI"},{"$f":"VLOOKUP(Catalogue[[#This Row],[Alias]],#REF!,2,FALSE)","v":{"$error":"#REF!"}},null,"VIE7819820","BLOC GAZ"]
["VAI061637S","Non concerné","CDC MAG 19/2",36,2000001513996,{"$f":"LEFT(Catalogue[[#This Row],[Référence]],3)","v":"VAI"},{"$f":"VLOOKUP(Catalogue[[#This Row],[Alias]],#REF!,2,FALSE)","v":{"$error":"#REF!"}},null,"VIE7819873","ECHANGEUR DE CHALEUR (79 LAMELLES)"]
["VAI064073S",null,"Ballon 20 litres",null,null,{"$f":"LEFT(Catalogue[[#This Row],[Référence]],3)","v":"VAI"},{"$f":"VLOOKUP(Catalogue[[#This Row],[Alias]],#REF!,2,FALSE)","v":{"$error":"#REF!"}},null,"VIE7819959","THERMO-SWITCH"]
["VAI064884S",null,"ECHANGEUR A PLAQUES",null,null,{"$f":"LEFT(Catalogue[[#This Row],[Référence]],3)","v":"VAI"},{"$f":"VLOOKUP(Catalogue[[#This Row],[Alias]],#REF!,2,FALSE)","v":{"$error":"#REF!"}},null,"VIE7819991","ELECTRODE D IONISATION"]
["VAI065053",null,"ECHANGEUR SANITAIRE",null,null,{"$f":"LEFT(Catalogue[[#This Row],[Référence]],3)","v":"VAI"},{"$f":"VLOOKUP(Catalogue[[#This Row],[Alias]],#REF!,2,FALSE)","v":{"$error":"#REF!"}},null,"VIE7820131","ACCESSOIRE VANNE 1/2"]
["VAI075875",null,"ISOLANT. AVANT/ARRIERE",null,null,{"$f":"LEFT(Catalogue[[#This Row],[Référence]],3)","v":"VAI"},{"$f":"VLOOKUP(Catalogue[[#This Row],[Alias]],#REF!,2,FALSE)","v":{"$error":"#REF!"}},null,"VIE7820883","JOINT CERAMIQUE 20 X 15 L=1000 (1 PIECE)"]
["VAI080291",null,"TUBE INTERMEDIAIRE",null,null,{"$f":"LEFT(Catalogue[[#This Row],[Référence]],3)","v":"VAI"},{"$f":"VLOOKUP(Catalogue[[#This Row],[Alias]],#REF!,2,FALSE)","v":{"$error":"#REF!"}},null,"VIE7821027","SONDE ECS SF 20"]
["VAI084139",null,"TUBE SOUPLE",null,null,{"$f":"LEFT(Catalogue[[#This Row],[Référence]],3)","v":"VAI"},{"$f":"VLOOKUP(Catalogue[[#This Row],[Alias]],#REF!,2,FALSE)","v":{"$error":"#REF!"}},null,"VIE7822307","GICLEUR 0.40 GPH 80DEG  S LE DANFOSS"]
["VAI088848",null,"TUBE DE COMMANDE",null,null,{"$f":"LEFT(Catalogue[[#This Row],[Référence]],3)","v":"VAI"},{"$f":"VLOOKUP(Catalogue[[#This Row],[Alias]],#REF!,2,FALSE)","v":{"$error":"#REF!"}},null,"VIE7822378","BOITIER DE CDE LGM 29.22 B1010/C1030"]
["VAI090726",null,"ELECTRODE D ALLUMAGE",null,null,{"$f":"LEFT(Catalogue[[#This Row],[Référence]],3)","v":"VAI"},{"$f":"VLOOKUP(Catalogue[[#This Row],[Alias]],#REF!,2,FALSE)","v":{"$error":"#REF!"}},null,"VIE7822554","BOITIER DE CONTROLE LGM29.55A6201"]
["VAI100376",null,{"$f":"VLOOKUP(A41410,I:J,2,0)","v":"LIMITEUR DE TEMPERATURE"},null,null,{"$f":"LEFT(Catalogue[[#This Row],[Référence]],3)","v":"VAI"},{"$f":"VLOOKUP(Catalogue[[#This Row],[Alias]],#REF!,2,FALSE)","v":{"$error":"#REF!"}},null,"VIE7822761","ECHANGEUR DE CHALEUR A PLAQUES-CONFORT"]
["VAI101353",null,"LIMITEUR DE TEMPERATURE",null,null,{"$f":"LEFT(Catalogue[[#This Row],[Référence]],3)","v":"VAI"},{"$f":"VLOOKUP(Catalogue[[#This Row],[Alias]],#REF!,2,FALSE)","v":{"$error":"#REF!"}},null,"VIE7822801","TUBE RETOUR"]
["VAI106482",null,"ANODE MAGNESIUM (CHAINE)",null,null,{"$f":"LEFT(Catalogue[[#This Row],[Référence]],3)","v":"VAI"},{"$f":"VLOOKUP(Catalogue[[#This Row],[Alias]],#REF!,2,FALSE)","v":{"$error":"#REF!"}},null,"VIE7822896","JOINT PROFILE POUR VITOPEND"]
["VAI110672",null,"ROBINET D ARRET 3/4",null,null,{"$f":"LEFT(Catalogue[[#This Row],[Référence]],3)","v":"VAI"},{"$f":"VLOOKUP(Catalogue[[#This Row],[Alias]],#REF!,2,FALSE)","v":{"$error":"#REF!"}},null,"VIE7822926","TUBE DE RACCORDEMENT EAU CHAUDE"]
["VAI117229",null,"BALLON",null,null,{"$f":"LEFT(Catalogue[[#This Row],[Référence]],3)","v":"VAI"},{"$f":"VLOOKUP(Catalogue[[#This Row],[Alias]],#REF!,2,FALSE)","v":{"$error":"#REF!"}},null,"VIE7823042","FAISCEAU DE CABLES 100/35/54"]
["VAI126262",null,"MICRO-CONTACT",null,null,{"$f":"LEFT(Catalogue[[#This Row],[Référence]],3)","v":"VAI"},{"$f":"VLOOKUP(Catalogue[[#This Row],[Alias]],#REF!,2,FALSE)","v":{"$error":"#REF!"}},null,"VIE7823106","CONDUITE DE RACCORDEMENT VASE D EXPANS."]
["VAI130327",null,"CIRCUIT IMPRIME",null,null,{"$f":"LEFT(Catalogue[[#This Row],[Référence]],3)","v":"VAI"},{"$f":"VLOOKUP(Catalogue[[#This Row],[Alias]],#REF!,2,FALSE)","v":{"$error":"#REF!"}},null,"VIE7823336","ECHANGEUR DE CHALEUR"]
["VAI132743",null,"ACCROCHE FLAMME",null,null,{"$f":"LEFT(Catalogue[[#This Row],[Référence]],3)","v":"VAI"},{"$f":"VLOOKUP(Catalogue[[#This Row],[Alias]],#REF!,2,FALSE)","v":{"$error":"#REF!"}},null,"VIE7823557","FICHE DE CODAGE 2033:0303"]
["VAI160954",null,"POMPE",null,null,{"$f":"LEFT(Catalogue[[#This Row],[Référence]],3)","v":"VAI"},{"$f":"VLOOKUP(Catalogue[[#This Row],[Alias]],#REF!,2,FALSE)","v":{"$error":"#REF!"}},null,"VIE7823984","PLATINE G-LP2 VITOTRONIC 300 KW3"]
["VAI170327",null,"EMBOUT MAGNETIQUE",null,null,{"$f":"LEFT(Catalogue[[#This Row],[Référence]],3)","v":"VAI"},{"$f":"VLOOKUP(Catalogue[[#This Row],[Alias]],#REF!,2,FALSE)","v":{"$error":"#REF!"}},null,"VIE7824474","NOURRICE GAZ NAT VENTOUSE"]
["VAI178973S","Non concerné","ECHANGEUR SANITAIRE 20 PLAQUES",30,2000002180265,{"$f":"LEFT(Catalogue[[#This Row],[Référence]],3)","v":"VAI"},{"$f":"VLOOKUP(Catalogue[[#This Row],[Alias]],#REF!,2,FALSE)","v":{"$error":"#REF!"}},null,"VIE7824517","RESERVOIR VITOPEND 222 50 L"]
["VAI180940",null,"COUVERCLE",null,null,{"$f":"LEFT(Catalogue[[#This Row],[Référence]],3)","v":"VAI"},{"$f":"VLOOKUP(Catalogue[[#This Row],[Alias]],#REF!,2,FALSE)","v":{"$error":"#REF!"}},null,"VIE7824698S","CIRCULATEUR CHAUFFAGE"]
["VAI181081",null,"VASE D EXPANSION. 1 L",null,null,{"$f":"LEFT(Catalogue[[#This Row],[Référence]],3)","v":"VAI"},{"$f":"VLOOKUP(Catalogue[[#This Row],[Alias]],#REF!,2,FALSE)","v":{"$error":"#REF!"}},null,"VIE7824830","BLOC ISOLANT BV32/1"]
["VAI190215S","Non concerné","EXTRACTEUR",40,2000001943496,{"$f":"LEFT(Catalogue[[#This Row],[Référence]],3)","v":"VAI"},{"$f":"VLOOKUP(Catalogue[[#This Row],[Alias]],#REF!,2,FALSE)","v":{"$error":"#REF!"}},null,"VIE7825120","FICHE DE CODAGE 20A2:02F1"]
["VAI201386",null,"KIT D ADAPTATION",null,null,{"$f":"LEFT(Catalogue[[#This Row],[Référence]],3)","v":"VAI"},{"$f":"VLOOKUP(Catalogue[[#This Row],[Alias]],#REF!,2,FALSE)","v":{"$error":"#REF!"}},null,"VIE7825500","VASE D EXPANSION A MEMBRANE DGN10"]
["VAI252457",null,"VANNE 3 VOIES",null,null,{"$f":"LEFT(Catalogue[[#This Row],[Référence]],3)","v":"VAI"},{"$f":"VLOOKUP(Catalogue[[#This Row],[Alias]],#REF!,2,FALSE)","v":{"$error":"#REF!"}},null,"VIE7825534","ECHANGEUR A PLAQUES 14 PLAQUES WH1B"]
["VAI253552",null,"CAPTEUR DE TEMPERATURE",null,null,{"$f":"LEFT(Catalogue[[#This Row],[Référence]],3)","v":"VAI"},{"$f":"VLOOKUP(Catalogue[[#This Row],[Alias]],#REF!,2,FALSE)","v":{"$error":"#REF!"}},null,"VIE7825615","GRILLE DE BRULEUR"]
["VAI256161",null,"FAISCEAU DE CABLES",null,null,{"$f":"LEFT(Catalogue[[#This Row],[Référence]],3)","v":"VAI"},{"$f":"VLOOKUP(Catalogue[[#This Row],[Alias]],#REF!,2,FALSE)","v":{"$error":"#REF!"}},null,"VIE7825715","SUPPORT REGULATION 24KW"]
["VAI287442",null,"TRANSFORMATEUR VUW 242.282 E",null,null,{"$f":"LEFT(Catalogue[[#This Row],[Référence]],3)","v":"VAI"},{"$f":"VLOOKUP(Catalogue[[#This Row],[Alias]],#REF!,2,FALSE)","v":{"$error":"#REF!"}},null,"VIE7826094","ADAPTATEUR TRANSMETTEUR DE PRESSION"]
["VAI306257",null,"SONDE SANITAIRE POUR BALLON",null,null,{"$f":"LEFT(Catalogue[[#This Row],[Référence]],3)","v":"VAI"},{"$f":"VLOOKUP(Catalogue[[#This Row],[Alias]],#REF!,2,FALSE)","v":{"$error":"#REF!"}},null,"VIE7826296","BOITIER DE CONTROLE BRULEUR LME21.350A2V"]
["VAI980936",null,"JOINT TRAPPE VGH/4 VIH/3          980936_SS519",null,null,{"$f":"LEFT(Catalogue[[#This Row],[Référence]],3)","v":"VAI"},{"$f":"VLOOKUP(Catalogue[[#This Row],[Alias]],#REF!,2,FALSE)","v":{"$error":"#REF!"}},null,"VIE7826458","MOTEUR DE CIRCULATEUR 7M"]
["VER121092-0408",null,"ELECTRODE DE IONISATION",null,null,{"$f":"LEFT(Catalogue[[#This Row],[Référence]],3)","v":"VER"},{"$f":"VLOOKUP(Catalogue[[#This Row],[Alias]],#REF!,2,FALSE)","v":{"$error":"#REF!"}},null,"VIE7826530","PORTE BRULEUR WB2B 45-100"]
["VER121092-0554",null,"DEBIMETRE CHAUFFAGE",null,null,{"$f":"LEFT(Catalogue[[#This Row],[Référence]],3)","v":"VER"},{"$f":"VLOOKUP(Catalogue[[#This Row],[Alias]],#REF!,2,FALSE)","v":{"$error":"#REF!"}},null,"VIE7826541","JOINT SORTIE DE FUMEE (1 PIECE)"]
["VIE7170149",null,"VITOTROL 100 (TYPE UTA)",null,null,{"$f":"LEFT(Catalogue[[#This Row],[Référence]],3)","v":"VIE"},{"$f":"VLOOKUP(Catalogue[[#This Row],[Alias]],#REF!,2,FALSE)","v":{"$error":"#REF!"}},null,"VIE7826755","MOTEUR DE CIRCULATEUR"]
["VIE7193952",null,"VITOTRONIC 200 HO1",null,null,{"$f":"LEFT(Catalogue[[#This Row],[Référence]],3)","v":"VIE"},{"$f":"VLOOKUP(Catalogue[[#This Row],[Alias]],#REF!,2,FALSE)","v":{"$error":"#REF!"}},null,"VIE7827478","KIT DE RECHANGE FLEXIBLE FIOUL 1000 MM"]
["VIE7252565",null,"SONDE DE SURVEILLANCE",null,null,{"$f":"LEFT(Catalogue[[#This Row],[Référence]],3)","v":"VIE"},{"$f":"VLOOKUP(Catalogue[[#This Row],[Alias]],#REF!,2,FALSE)","v":{"$error":"#REF!"}},null,"VIE7827898","TETE DE BRULEUR 12/18 + 15/22KW"]
["VIE7282852",null,"CONSOLE POUR REGULATION DE REMPLACEMENT",null,null,{"$f":"LEFT(Catalogue[[#This Row],[Référence]],3)","v":"VIE"},{"$f":"VLOOKUP(Catalogue[[#This Row],[Alias]],#REF!,2,FALSE)","v":{"$error":"#REF!"}},null,"VIE7827924S","VASE EXPANSION"]
["VIE7370477",null,"BOUTON FERMETURE TOLE ATM17/29",null,null,{"$f":"LEFT(Catalogue[[#This Row],[Référence]],3)","v":"VIE"},{"$f":"VLOOKUP(Catalogue[[#This Row],[Alias]],#REF!,2,FALSE)","v":{"$error":"#REF!"}},null,"VIE7828010","CONDUITE DE RACC.VASE D EXPANS. 3/8 X 60"]
["VIE7383249",null,"BRULEUR A ETUVAGE LITOLA LVC",null,null,{"$f":"LEFT(Catalogue[[#This Row],[Référence]],3)","v":"VIE"},{"$f":"VLOOKUP(Catalogue[[#This Row],[Alias]],#REF!,2,FALSE)","v":{"$error":"#REF!"}},null,"VIE7828042","BOUCHON D=8/ D=10"]
["VIE7426463",null,"SONDE DE TEMPERATURE DEPART NTC AND CABLE",null,null,{"$f":"LEFT(Catalogue[[#This Row],[Référence]],3)","v":"VIE"},{"$f":"VLOOKUP(Catalogue[[#This Row],[Alias]],#REF!,2,FALSE)","v":{"$error":"#REF!"}},null,"VIE7828216","VASE D EXPANSION A MEMBRANE 18L"]
["VIE7441802",null,"VITOTRONIC 200 KO2B",null,null,{"$f":"LEFT(Catalogue[[#This Row],[Référence]],3)","v":"VIE"},{"$f":"VLOOKUP(Catalogue[[#This Row],[Alias]],#REF!,2,FALSE)","v":{"$error":"#REF!"}},null,"VIE7828374","ELECTRO-AIMANT"]
["VIE7459103",null,"MANOMETRE SOLAIRE",null,null,{"$f":"LEFT(Catalogue[[#This Row],[Référence]],3)","v":"VIE"},{"$f":"VLOOKUP(Catalogue[[#This Row],[Alias]],#REF!,2,FALSE)","v":{"$error":"#REF!"}},null,"VIE7828637","FLEXIBLE RETOUR CHAUFFAGE"]
["VIE7516134",null,"BRIDE DE POMPE GRUNDFOS",null,null,{"$f":"LEFT(Catalogue[[#This Row],[Référence]],3)","v":"VIE"},{"$f":"VLOOKUP(Catalogue[[#This Row],[Alias]],#REF!,2,FALSE)","v":{"$error":"#REF!"}},null,"VIE7828730","FAISCEAU DE CABLES CLAPET D AIR PRIM/SEC"]
["VIE7810627",null,"ELECTRODE D ALLUMAGE",null,null,{"$f":"LEFT(Catalogue[[#This Row],[Référence]],3)","v":"VIE"},{"$f":"VLOOKUP(Catalogue[[#This Row],[Alias]],#REF!,2,FALSE)","v":{"$error":"#REF!"}},null,"VIE7829137","REGULATION VITOPEND 100"]
["VIE7811606",null,"NEUTRE BPC",null,null,{"$f":"LEFT(Catalogue[[#This Row],[Référence]],3)","v":"VIE"},{"$f":"VLOOKUP(Catalogue[[#This Row],[Alias]],#REF!,2,FALSE)","v":{"$error":"#REF!"}},null,"VIE7829796","JOINT SORTIE VENTILATEUR"]
["VIE7812207",null,"ISOLATION BV 19 ET 33 AVEC TRESSE",null,null,{"$f":"LEFT(Catalogue[[#This Row],[Référence]],3)","v":"VIE"},{"$f":"VLOOKUP(Catalogue[[#This Row],[Alias]],#REF!,2,FALSE)","v":{"$error":"#REF!"}},null,"VIE7830250","PLATINE E6.3"]
["VIE7812878",null,"BLOC COMBINE GAZ 1/2  U7000",null,null,{"$f":"LEFT(Catalogue[[#This Row],[Référence]],3)","v":"VIE"},{"$f":"VLOOKUP(Catalogue[[#This Row],[Alias]],#REF!,2,FALSE)","v":{"$error":"#REF!"}},null,"VIE7830834","PETITES FOURNITURES MONTAGE REGULATION"]
["VIE7813913",null,"ECHANGEUR DE CHALEUR DE FUMEES 24KW PEND",null,null,{"$f":"LEFT(Catalogue[[#This Row],[Référence]],3)","v":"VIE"},{"$f":"VLOOKUP(Catalogue[[#This Row],[Alias]],#REF!,2,FALSE)","v":{"$error":"#REF!"}},null,"VIE7831036","ENTREE D AIR RLS154 WS3A 35KW"]
["VIE7814433",null,"PLATINE DE BASE TRIMATIK MC",null,null,{"$f":"LEFT(Catalogue[[#This Row],[Référence]],3)","v":"VIE"},{"$f":"VLOOKUP(Catalogue[[#This Row],[Alias]],#REF!,2,FALSE)","v":{"$error":"#REF!"}},null,"VIE7831381","TUBE DE RACCORDEMENT WW"]
["VIE7815283",null,"TURBINE D = 160 X 52 MM",null,null,{"$f":"LEFT(Catalogue[[#This Row],[Référence]],3)","v":"VIE"},{"$f":"VLOOKUP(Catalogue[[#This Row],[Alias]],#REF!,2,FALSE)","v":{"$error":"#REF!"}},null,"VIE7831684","POMPE CHAUFF. VIUPM 15-70 KM CIL2 PA66"]
["VIE7815325",null,"BOITIER DE CONTR. BRULEUR GAZ LGB 21.33",null,null,{"$f":"LEFT(Catalogue[[#This Row],[Référence]],3)","v":"VIE"},{"$f":"VLOOKUP(Catalogue[[#This Row],[Alias]],#REF!,2,FALSE)","v":{"$error":"#REF!"}},null,"VIE7831736","FLEXIBLE D EVACUATION CONDENSATS 26/35KW"]
["VIE7815825",null,"JOINTS A 86 X 76 X 2",null,null,{"$f":"LEFT(Catalogue[[#This Row],[Référence]],3)","v":"VIE"},{"$f":"VLOOKUP(Catalogue[[#This Row],[Alias]],#REF!,2,FALSE)","v":{"$error":"#REF!"}},null,"VIE7831935","ELECTRODE D IONISATION WB3C 26/35KW"]
["VIE7816133",null,"ALLUMEUR PIEZZO RV 1071",null,null,{"$f":"LEFT(Catalogue[[#This Row],[Référence]],3)","v":"VIE"},{"$f":"VLOOKUP(Catalogue[[#This Row],[Alias]],#REF!,2,FALSE)","v":{"$error":"#REF!"}},null,"VIE7832226","TUBE DE RACCORDEMMENT WW"]
["VIE7817285",null,"SURVEILLANCE DE FLAMME QRB1C-A050Y25I",null,null,{"$f":"LEFT(Catalogue[[#This Row],[Référence]],3)","v":"VIE"},{"$f":"VLOOKUP(Catalogue[[#This Row],[Alias]],#REF!,2,FALSE)","v":{"$error":"#REF!"}},null,"VIE7832516","REGULATION VBC112-A01.100 WB1B"]
["VIE7817495",null,"POCHETTE JOINTS D ETANCHEITE",null,null,{"$f":"LEFT(Catalogue[[#This Row],[Référence]],3)","v":"VIE"},{"$f":"VLOOKUP(Catalogue[[#This Row],[Alias]],#REF!,2,FALSE)","v":{"$error":"#REF!"}},null,"VIE7833150","TUYAU DE RACCORDEMENT AU GAZ"]
["VIE7817900",null,"ECHANGEUR DE CHALEUR WB2 11/24 KW",null,null,{"$f":"LEFT(Catalogue[[#This Row],[Référence]],3)","v":"VIE"},{"$f":"VLOOKUP(Catalogue[[#This Row],[Alias]],#REF!,2,FALSE)","v":{"$error":"#REF!"}},null,"VIE7833256","FICHE DE CODAGE 2062:0102"]
["VIE7818081",null,"TURBINE D=133 X 62 VEK",null,null,{"$f":"LEFT(Catalogue[[#This Row],[Référence]],3)","v":"VIE"},{"$f":"VLOOKUP(Catalogue[[#This Row],[Alias]],#REF!,2,FALSE)","v":{"$error":"#REF!"}},null,"VIE7833551","BLOC D ISOLATION 27/33 VHG"]
["VIE7818304",null,"FLEXIBLE DE RACCORDEMENT",null,null,{"$f":"LEFT(Catalogue[[#This Row],[Référence]],3)","v":"VIE"},{"$f":"VLOOKUP(Catalogue[[#This Row],[Alias]],#REF!,2,FALSE)","v":{"$error":"#REF!"}},null,"VIE7833696","CONDUITE GAZ"]
["VIE7818575",null,"FAISCEAU DE CABLES ION/PE",null,null,{"$f":"LEFT(Catalogue[[#This Row],[Référence]],3)","v":"VIE"},{"$f":"VLOOKUP(Catalogue[[#This Row],[Alias]],#REF!,2,FALSE)","v":{"$error":"#REF!"}},null,"VIE7833877","FICHE DE CODAGE 231E:0101"]
["VIE7818916",null,"FICHE DE CODAGE F1",null,null,{"$f":"LEFT(Catalogue[[#This Row],[Référence]],3)","v":"VIE"},{"$f":"VLOOKUP(Catalogue[[#This Row],[Alias]],#REF!,2,FALSE)","v":{"$error":"#REF!"}},null,"VIE7833979","INJECTEUR GAZ 09 GRIS (2 PIECES)"]
["VIE7819190",null,"PRESSOSTAT 40 PA",null,null,{"$f":"LEFT(Catalogue[[#This Row],[Référence]],3)","v":"VIE"},{"$f":"VLOOKUP(Catalogue[[#This Row],[Alias]],#REF!,2,FALSE)","v":{"$error":"#REF!"}},null,"VIE7834165","TOLE DE PROTECTION BRULEUR"]
["VIE7819628",null,"ELECTRODE D IONISATION",null,null,{"$f":"LEFT(Catalogue[[#This Row],[Référence]],3)","v":"VIE"},{"$f":"VLOOKUP(Catalogue[[#This Row],[Alias]],#REF!,2,FALSE)","v":{"$error":"#REF!"}},null,"VIE7834392","ELECTRODE D IONISATION D=146"]
["VIE7819774",null,"MANOMETRE AXIAL 0-4 BARS",null,null,{"$f":"LEFT(Catalogue[[#This Row],[Référence]],3)","v":"VIE"},{"$f":"VLOOKUP(Catalogue[[#This Row],[Alias]],#REF!,2,FALSE)","v":{"$error":"#REF!"}},null,"VIE7834766","CIRCULATEUR VIUP15-30 CIL2"]
["VIE7819823",null,"COUVERCLE CHAMBRE DE COMBUSTION 24 KW",null,null,{"$f":"LEFT(Catalogue[[#This Row],[Référence]],3)","v":"VIE"},{"$f":"VLOOKUP(Catalogue[[#This Row],[Alias]],#REF!,2,FALSE)","v":{"$error":"#REF!"}},null,"VIE7834987","BLOC ISOLANT (PORTE)"]
["VIE7819873",null,"ECHANGEUR DE CHALEUR (79 LAMELLES)",null,null,{"$f":"LEFT(Catalogue[[#This Row],[Référence]],3)","v":"VIE"},{"$f":"VLOOKUP(Catalogue[[#This Row],[Alias]],#REF!,2,FALSE)","v":{"$error":"#REF!"}},null,"VIE7835437","CONDUITE CIRCUIT DE CHAUFFAGE"]
["VIE7819898",null,"FAISCEAU DE CABLES X 13",null,null,{"$f":"LEFT(Catalogue[[#This Row],[Référence]],3)","v":"VIE"},{"$f":"VLOOKUP(Catalogue[[#This Row],[Alias]],#REF!,2,FALSE)","v":{"$error":"#REF!"}},null,"VIE7835727","FOURREAU"]
["VIE7819975",null,"UNITE ALLUMAGE DCZ 2/24",null,null,{"$f":"LEFT(Catalogue[[#This Row],[Référence]],3)","v":"VIE"},{"$f":"VLOOKUP(Catalogue[[#This Row],[Alias]],#REF!,2,FALSE)","v":{"$error":"#REF!"}},null,"VIE7836177","JOINT BRULEUR D=187 (1 PIECE)"]
["VIE7820059",null,"ENTREE DE CABLES MPA51",null,null,{"$f":"LEFT(Catalogue[[#This Row],[Référence]],3)","v":"VIE"},{"$f":"VLOOKUP(Catalogue[[#This Row],[Alias]],#REF!,2,FALSE)","v":{"$error":"#REF!"}},null,"VIE7836339","POMPE VIUPS0 15-70 CIAO"]
["VIE7820366",null,"INTERRUPTEUR D ALIMENTATION ELECTRIQUE",null,null,{"$f":"LEFT(Catalogue[[#This Row],[Référence]],3)","v":"VIE"},{"$f":"VLOOKUP(Catalogue[[#This Row],[Alias]],#REF!,2,FALSE)","v":{"$error":"#REF!"}},null,"VIE7836850","ACCOUPLEMENT VEK JUSQU A 63 KW"]
["VIE7821011",null,"SONDE DE DEPART VF 20",null,null,{"$f":"LEFT(Catalogue[[#This Row],[Référence]],3)","v":"VIE"},{"$f":"VLOOKUP(Catalogue[[#This Row],[Alias]],#REF!,2,FALSE)","v":{"$error":"#REF!"}},null,"VIE7837231S","VASE D EXPANSION 8L"]
["VIE7822278",null,"JEU DIAPHRAGME FUMEE WH0",null,null,{"$f":"LEFT(Catalogue[[#This Row],[Référence]],3)","v":"VIE"},{"$f":"VLOOKUP(Catalogue[[#This Row],[Alias]],#REF!,2,FALSE)","v":{"$error":"#REF!"}},null,"VIE7837335","PANNEAU DE COMMANDE VITOTROL 200-RF"]
["VIE7822353",null,"ROBINET DE PURGE D AIR G 3/8",null,null,{"$f":"LEFT(Catalogue[[#This Row],[Référence]],3)","v":"VIE"},{"$f":"VLOOKUP(Catalogue[[#This Row],[Alias]],#REF!,2,FALSE)","v":{"$error":"#REF!"}},null,"VIE7837648","PLATINE DE BASE 230 V"]
["VIE7822554",null,{"$f":"VLOOKUP(A42754,I:J,2,0)","v":"BOITIER DE CONTROLE LGM29.55A6201"},null,null,{"$f":"LEFT(Catalogue[[#This Row],[Référence]],3)","v":"VIE"},{"$f":"VLOOKUP(Catalogue[[#This Row],[Alias]],#REF!,2,FALSE)","v":{"$error":"#REF!"}},null,"VIE7838351","CONDUITE DE LIAISON EAU SANITAIRE"]
["VIE7822691",null,"MOTEUR DE POMPE VI RLE-40/60",null,null,{"$f":"LEFT(Catalogue[[#This Row],[Référence]],3)","v":"VIE"},{"$f":"VLOOKUP(Catalogue[[#This Row],[Alias]],#REF!,2,FALSE)","v":{"$error":"#REF!"}},null,"VIE7838386","REGULATION WB2B-80/105"]
["VIE7822788",null,"FLEXIBLES DU PRESSOSTAT GAZ",null,null,{"$f":"LEFT(Catalogue[[#This Row],[Référence]],3)","v":"VIE"},{"$f":"VLOOKUP(Catalogue[[#This Row],[Alias]],#REF!,2,FALSE)","v":{"$error":"#REF!"}},null,"VIE7839453","TORON DE CABLES X8/X9/IONISATION"]
["VIE7822851",null,"SACHET DE JOINTS",null,null,{"$f":"LEFT(Catalogue[[#This Row],[Référence]],3)","v":"VIE"},{"$f":"VLOOKUP(Catalogue[[#This Row],[Alias]],#REF!,2,FALSE)","v":{"$error":"#REF!"}},null,"VIE7839749","VANNE DE REMPLISSAGE(1P)"]
["VIE7822923",null,"TUBE DE RACCORDEMENT",null,null,{"$f":"LEFT(Catalogue[[#This Row],[Référence]],3)","v":"VIE"},{"$f":"VLOOKUP(Catalogue[[#This Row],[Alias]],#REF!,2,FALSE)","v":{"$error":"#REF!"}},null,"VIE7840438","DISPOSITIF DE MELANGE 27KW VHG"]
["VIE7822951",null,"FAISCEAU DE CABLES",null,null,{"$f":"LEFT(Catalogue[[#This Row],[Référence]],3)","v":"VIE"},{"$f":"VLOOKUP(Catalogue[[#This Row],[Alias]],#REF!,2,FALSE)","v":{"$error":"#REF!"}},null,"VIE7841067","ISOLATION POUR DIVICON DN20/25"]
["VIE7823045",null,"FAISCEAU CABLES ION/PE /VENTIL",null,null,{"$f":"LEFT(Catalogue[[#This Row],[Référence]],3)","v":"VIE"},{"$f":"VLOOKUP(Catalogue[[#This Row],[Alias]],#REF!,2,FALSE)","v":{"$error":"#REF!"}},null,"VIE7841229","FICHE DE CODAGE 2466:0101"]
["VIE7823161",null,"MANCHETTE DE RACCORDEMENT L=60/100",null,null,{"$f":"LEFT(Catalogue[[#This Row],[Référence]],3)","v":"VIE"},{"$f":"VLOOKUP(Catalogue[[#This Row],[Alias]],#REF!,2,FALSE)","v":{"$error":"#REF!"}},null,"VIE7841748","REGULATION VBC113-C10.001"]
["VIE7823351",null,"ELECTRODE D IONISATION",null,null,{"$f":"LEFT(Catalogue[[#This Row],[Référence]],3)","v":"VIE"},{"$f":"VLOOKUP(Catalogue[[#This Row],[Alias]],#REF!,2,FALSE)","v":{"$error":"#REF!"}},null,"VIE7841855","BRULEUR CYLINDRIQUE G20 ET G31"]
["VIE7823849",null,"SET DE FIXATION CORPS DE CHAUFFE",null,null,{"$f":"LEFT(Catalogue[[#This Row],[Référence]],3)","v":"VIE"},{"$f":"VLOOKUP(Catalogue[[#This Row],[Alias]],#REF!,2,FALSE)","v":{"$error":"#REF!"}},null,"VIE7843296","NAPPE DE CABLE X20"]
["VIE7824044S","Non concerné",{"$error":"#N/A"},150,2000007344228,{"$f":"LEFT(Catalogue[[#This Row],[Référence]],3)","v":"VIE"},{"$f":"VLOOKUP(Catalogue[[#This Row],[Alias]],#REF!,2,FALSE)","v":{"$error":"#REF!"}},null,"VIE7844282","JOINT EXTRACTEUR FUMEES (PIECE D USURE)"]
["VIE7824472",null,"COMMUTATEUR THERMIQUE",null,null,{"$f":"LEFT(Catalogue[[#This Row],[Référence]],3)","v":"VIE"},{"$f":"VLOOKUP(Catalogue[[#This Row],[Alias]],#REF!,2,FALSE)","v":{"$error":"#REF!"}},null,"VIE7844804","COUDE DE RACCORDEMENT RETOUR CHAUFFAGE"]
["VIE7824508",null,"CONDUITE DE DEPART VITOPEND 222",null,null,{"$f":"LEFT(Catalogue[[#This Row],[Référence]],3)","v":"VIE"},{"$f":"VLOOKUP(Catalogue[[#This Row],[Alias]],#REF!,2,FALSE)","v":{"$error":"#REF!"}},null,"VIE7855059","VANNE COUDEE G3/4XG1/4"]
["VIE7824697",null,"PURGEUR D AIR INSTANTANE",null,null,{"$f":"LEFT(Catalogue[[#This Row],[Référence]],3)","v":"VIE"},{"$f":"VLOOKUP(Catalogue[[#This Row],[Alias]],#REF!,2,FALSE)","v":{"$error":"#REF!"}},null,"VIE7855455","SIPHON"]
["VIE7824779",null,"BLOC COMBINE GAZ VK4115V WB2A",null,null,{"$f":"LEFT(Catalogue[[#This Row],[Référence]],3)","v":"VIE"},{"$f":"VLOOKUP(Catalogue[[#This Row],[Alias]],#REF!,2,FALSE)","v":{"$error":"#REF!"}},null,"VIE7855772","BOBINE T85"]
["VIE7825149",null,"CIRCULATEUR HU 15/6-3",null,null,{"$f":"LEFT(Catalogue[[#This Row],[Référence]],3)","v":"VIE"},{"$f":"VLOOKUP(Catalogue[[#This Row],[Alias]],#REF!,2,FALSE)","v":{"$error":"#REF!"}},null,"VIE7858282","HYDRAULIQUE DOUBLE SERVICE CONFORT 24KW"]
["VIE7825499",null,"VASE D EXPANSION A MEMBRANE DUK6",null,null,{"$f":"LEFT(Catalogue[[#This Row],[Référence]],3)","v":"VIE"},{"$f":"VLOOKUP(Catalogue[[#This Row],[Alias]],#REF!,2,FALSE)","v":{"$error":"#REF!"}},null,"VIE7859142","T G1/4XG3/8XG1/4 MALE"]
["VIE7825515",null,"JOINTS WH1B",null,null,{"$f":"LEFT(Catalogue[[#This Row],[Référence]],3)","v":"VIE"},{"$f":"VLOOKUP(Catalogue[[#This Row],[Alias]],#REF!,2,FALSE)","v":{"$error":"#REF!"}},null,"VIE7861484","BLOC GAZ GB-ND 055 E01 19/26 G20"]
["VIE7825615",null,"GRILLE DE BRULEUR",null,null,{"$f":"LEFT(Catalogue[[#This Row],[Référence]],3)","v":"VIE"},{"$f":"VLOOKUP(Catalogue[[#This Row],[Alias]],#REF!,2,FALSE)","v":{"$error":"#REF!"}},null,"VIE7862800","REGULATION VBC113-E20"]
["VIE7825651",null,"VANNE COUDEE",null,null,{"$f":"LEFT(Catalogue[[#This Row],[Référence]],3)","v":"VIE"},{"$f":"VLOOKUP(Catalogue[[#This Row],[Alias]],#REF!,2,FALSE)","v":{"$error":"#REF!"}},null,"VIE7863519","FICHE DE CODAGE 2A10:0203"]
["VIE7825776",null,"MATELAS ISOLANT ARRIERE",null,null,{"$f":"LEFT(Catalogue[[#This Row],[Référence]],3)","v":"VIE"},{"$f":"VLOOKUP(Catalogue[[#This Row],[Alias]],#REF!,2,FALSE)","v":{"$error":"#REF!"}},null,"VIE7865798","SONDE DE DEBIT VOLUMIQUE 1-80L/MIN SW1.1"]
["VIE7826238",null,"JOINT RESISTANCE CHAUFF. ELEC. (1 PIECE)",null,null,{"$f":"LEFT(Catalogue[[#This Row],[Référence]],3)","v":"VIE"},{"$f":"VLOOKUP(Catalogue[[#This Row],[Alias]],#REF!,2,FALSE)","v":{"$error":"#REF!"}},null,"VIE7867381","PRESSOSTAT MANQUE D EAU PSW-M4"]
["VIE7826465",null,"ECHANGEUR DE CHALEUR A PLAQUES",null,null,{"$f":"LEFT(Catalogue[[#This Row],[Référence]],3)","v":"VIE"},{"$f":"VLOOKUP(Catalogue[[#This Row],[Alias]],#REF!,2,FALSE)","v":{"$error":"#REF!"}},null,"VIE7870768","REGULATION VBC113-F12.001"]
["VIE7826485",null,"ECHANGEUR",null,null,{"$f":"LEFT(Catalogue[[#This Row],[Référence]],3)","v":"VIE"},{"$f":"VLOOKUP(Catalogue[[#This Row],[Alias]],#REF!,2,FALSE)","v":{"$error":"#REF!"}},null,"VIE7871992","KIT D ENTRETIEN VD 200-W B2HA 45-60KW"]
["VIE7826530",null,"PORTE BRULEUR WB2B 45-100",null,null,{"$f":"LEFT(Catalogue[[#This Row],[Référence]],3)","v":"VIE"},{"$f":"VLOOKUP(Catalogue[[#This Row],[Alias]],#REF!,2,FALSE)","v":{"$error":"#REF!"}},null,"VIE7874951","TUYAU MOULE HR 19-25KW"]
["VIE7826603",null,"ANODE MAGNESIUM D=40 X 270 / 240",null,null,{"$f":"LEFT(Catalogue[[#This Row],[Référence]],3)","v":"VIE"},{"$f":"VLOOKUP(Catalogue[[#This Row],[Alias]],#REF!,2,FALSE)","v":{"$error":"#REF!"}},null,"VIE7875413","ECHANGEUR DE CHALEUR"]
["VIE7826743",null,"CLIPS TUBE D=28 H=48 M6. SIMPLE",null,null,{"$f":"LEFT(Catalogue[[#This Row],[Référence]],3)","v":"VIE"},{"$f":"VLOOKUP(Catalogue[[#This Row],[Alias]],#REF!,2,FALSE)","v":{"$error":"#REF!"}},null,"VIE7879327","ROBINET DE REMPLISSAGE DS"]
["VIE7827432",null,"ACCESSOIRES ISOLATION",null,null,{"$f":"LEFT(Catalogue[[#This Row],[Référence]],3)","v":"VIE"},{"$f":"VLOOKUP(Catalogue[[#This Row],[Alias]],#REF!,2,FALSE)","v":{"$error":"#REF!"}},null,"VIE9507363","GICLEUR 0.75 GPH 45DEG  S STEINEN"]
["VIE7827925",null,"MANOMETRE 0/4BAR 0-120DEG C AVEC CAPILAIRE",null,null,{"$f":"LEFT(Catalogue[[#This Row],[Référence]],3)","v":"VIE"},{"$f":"VLOOKUP(Catalogue[[#This Row],[Alias]],#REF!,2,FALSE)","v":{"$error":"#REF!"}},null,"VIEZ008341","VITOTROL 200-A"]
["VIE7827950",null,"ECHANGEUR A PLAQUES",null,null,{"$f":"LEFT(Catalogue[[#This Row],[Référence]],3)","v":"VIE"},{"$f":"VLOOKUP(Catalogue[[#This Row],[Alias]],#REF!,2,FALSE)","v":{"$error":"#REF!"}},null,"VIEZ017411","EXTENSION EM-P1"]
["VIE7828000",null,"MANOMETRE AVEC CAPILLAIRE 0-4 BARS",null,null,{"$f":"LEFT(Catalogue[[#This Row],[Référence]],3)","v":"VIE"},{"$f":"VLOOKUP(Catalogue[[#This Row],[Alias]],#REF!,2,FALSE)","v":{"$error":"#REF!"}},null,"VIEZ020631","VITODENS 100-W 25 KW B1KF BOOST 32 - THPE"]
["VIE7828036",null,"ENSEMBLE DEPART",null,null,{"$f":"LEFT(Catalogue[[#This Row],[Référence]],3)","v":"VIE"},{"$f":"VLOOKUP(Catalogue[[#This Row],[Alias]],#REF!,2,FALSE)","v":{"$error":"#REF!"}},null,"VIEZK02486","POMPE DE RELEVAGE DES CONDENSATS SI1800"]
["VIE7828154",null,"FAISCEAU DE CABLES 100/35/54/TERRE",null,null,{"$f":"LEFT(Catalogue[[#This Row],[Référence]],3)","v":"VIE"},{"$f":"VLOOKUP(Catalogue[[#This Row],[Alias]],#REF!,2,FALSE)","v":{"$error":"#REF!"}},null,"VIEZK04921","DOSSERET DE MONTAGE SIMPLE SERVICE BXHF"]
["VIE7828421",null,"REGLAGE LIGNE DE GICLEUR",null,null,{"$f":"LEFT(Catalogue[[#This Row],[Référence]],3)","v":"VIE"},{"$f":"VLOOKUP(Catalogue[[#This Row],[Alias]],#REF!,2,FALSE)","v":{"$error":"#REF!"}},null,"VIM0000035204","PFIX 1G SPA DP 150 MA1610 POULIE FIXE"]
["VIE7828557",null,"CARTOUCHE DE PURGEUR D AIR INSTANTANE",null,null,{"$f":"LEFT(Catalogue[[#This Row],[Référence]],3)","v":"VIE"},{"$f":"VLOOKUP(Catalogue[[#This Row],[Alias]],#REF!,2,FALSE)","v":{"$error":"#REF!"}},null,"VIM0000036028","COTR SPZ LP 1250 COURROIE TRAPEZOIDALE"]
["VIE7828747",null,"KIT JOINT ECHANGEUR A PLAQUES",null,null,{"$f":"LEFT(Catalogue[[#This Row],[Référence]],3)","v":"VIE"},{"$f":"VLOOKUP(Catalogue[[#This Row],[Alias]],#REF!,2,FALSE)","v":{"$error":"#REF!"}},null,"VIM002977","MSDZ M1 630 MANCHETTE SOUPLE STANDARD CIRCULAIRE"]
["VIE7828787",null,"TENDEUR PORTE CENDRIER",null,null,{"$f":"LEFT(Catalogue[[#This Row],[Référence]],3)","v":"VIE"},{"$f":"VLOOKUP(Catalogue[[#This Row],[Alias]],#REF!,2,FALSE)","v":{"$error":"#REF!"}},null,"VIM009060","MOHZ 10 MOTOVENTILATEUR DE SECOURS POUR JBHB ECO 10"]
["VIE7829304S",null,"ECHANGEUR 14 PLAQUES VITODENS 100 WB1B",null,null,{"$f":"LEFT(Catalogue[[#This Row],[Référence]],3)","v":"VIE"},{"$f":"VLOOKUP(Catalogue[[#This Row],[Alias]],#REF!,2,FALSE)","v":{"$error":"#REF!"}},null,"VIM240453N","HUCF ECO PR 080 D IE3 TRI INTZ BDEZ CAISSON C4 P CONSTANTE"]
["VIE7829772",null,"ELECTRODE D ALLUMAGE ET IONISATION WH1B",null,null,{"$f":"LEFT(Catalogue[[#This Row],[Référence]],3)","v":"VIE"},{"$f":"VLOOKUP(Catalogue[[#This Row],[Alias]],#REF!,2,FALSE)","v":{"$error":"#REF!"}},null,"VIM261334","JBHB ECO ECM PR 21 D NU INTZ BDEZ MONO C4 PRESSION CONSTANTE"]
["VIE7830016",null,"BLOC ISOLANT (FOND CDC)",null,null,{"$f":"LEFT(Catalogue[[#This Row],[Référence]],3)","v":"VIE"},{"$f":"VLOOKUP(Catalogue[[#This Row],[Alias]],#REF!,2,FALSE)","v":{"$error":"#REF!"}},null,"VIM300595","ISOLA 2 39 45+RA+CE2A BLANC EA AUTO+RALLONGE+CAPUCHON"]
["VIE7830871",null,"VENTILATEUR VITOCAL 160-A",null,null,{"$f":"LEFT(Catalogue[[#This Row],[Référence]],3)","v":"VIE"},{"$f":"VLOOKUP(Catalogue[[#This Row],[Alias]],#REF!,2,FALSE)","v":{"$error":"#REF!"}},null,"VIM5144261400","MOYA 1610 ALESAGE 20 MOYEU AMOVIBLE"]
["VIE7831306",null,"TUBE RACCORDEMENT VASE D EXPANSION 24KW",null,null,{"$f":"LEFT(Catalogue[[#This Row],[Référence]],3)","v":"VIE"},{"$f":"VLOOKUP(Catalogue[[#This Row],[Alias]],#REF!,2,FALSE)","v":{"$error":"#REF!"}},null,"VIM866465","REDV M/M GALVA JOINT 355/250 REDUCTION CONIQUE CENTRE"]
["VIE7831530S","Non concerné","ADAPTATEUR",7,2000007348912,{"$f":"LEFT(Catalogue[[#This Row],[Référence]],3)","v":"VIE"},{"$f":"VLOOKUP(Catalogue[[#This Row],[Alias]],#REF!,2,FALSE)","v":{"$error":"#REF!"}},null,"WAT0206099N","SOUP MSL 100 MF1/2-10 BAR  0206099N"]
["VIE7831644",null,"TUBE EAU FROIDE",null,null,{"$f":"LEFT(Catalogue[[#This Row],[Référence]],3)","v":"VIE"},{"$f":"VLOOKUP(Catalogue[[#This Row],[Alias]],#REF!,2,FALSE)","v":{"$error":"#REF!"}},null,"WAT2224110","CLAPET ANTI POLLUTION NF LAITON ECROU/M 20X27"]
["VIE7831727",null,"RESERVOIR 130L",null,null,{"$f":"LEFT(Catalogue[[#This Row],[Référence]],3)","v":"VIE"},{"$f":"VLOOKUP(Catalogue[[#This Row],[Alias]],#REF!,2,FALSE)","v":{"$error":"#REF!"}},null,"WAT2230225","DISCONNECTEUR MM 3/4 ZDP NON CONTROLABLE WATTS"]
["VIE7831808",null,"BLOC GAZ GB055 S40 LPG+GW",null,null,{"$f":"LEFT(Catalogue[[#This Row],[Référence]],3)","v":"VIE"},{"$f":"VLOOKUP(Catalogue[[#This Row],[Alias]],#REF!,2,FALSE)","v":{"$error":"#REF!"}},null,"WAT2282901","REDUCTEUR REDUBLOC 3.1 AVEC MANOMETRE DE CONTROLE"]
["VIE7832170",null,"SOUPAPE DE SECURITE",null,null,{"$f":"LEFT(Catalogue[[#This Row],[Référence]],3)","v":"VIE"},{"$f":"VLOOKUP(Catalogue[[#This Row],[Alias]],#REF!,2,FALSE)","v":{"$error":"#REF!"}},null,"WAT22L0103102","JAUGE A FLOTTEUR M200V"]
["VIE7832919",null,"JEU DE CABLES CN7 CHEMINEE DOUBLE SERV.",null,null,{"$f":"LEFT(Catalogue[[#This Row],[Référence]],3)","v":"VIE"},{"$f":"VLOOKUP(Catalogue[[#This Row],[Alias]],#REF!,2,FALSE)","v":{"$error":"#REF!"}},null,"WAT22L0250115","PURG MINIVENT 15X21 MV15R 22L0250"]
["VIE7833037",null,"SOUPAPE DE SECURITE 3 BARS D=19.9 X G1/2",null,null,{"$f":"LEFT(Catalogue[[#This Row],[Référence]],3)","v":"VIE"},{"$f":"VLOOKUP(Catalogue[[#This Row],[Alias]],#REF!,2,FALSE)","v":{"$error":"#REF!"}},null,"WAT22L0265232","SOUPAP DIFFERENTIELLE USVR 22L0265"]
["VIE7833210",null,"FICHE DE CODAGE 201A:0205",null,null,{"$f":"LEFT(Catalogue[[#This Row],[Référence]],3)","v":"VIE"},{"$f":"VLOOKUP(Catalogue[[#This Row],[Alias]],#REF!,2,FALSE)","v":{"$error":"#REF!"}},null,"WAT23001129","BARETTE 10 RACCORDS S2 18-3/4"]
["VIE7833281",null,"TUBE DE RACCORDEMENT KW RESERVOIR",null,null,{"$f":"LEFT(Catalogue[[#This Row],[Référence]],3)","v":"VIE"},{"$f":"VLOOKUP(Catalogue[[#This Row],[Alias]],#REF!,2,FALSE)","v":{"$error":"#REF!"}},null,"WATL0265225","SOUPAPE DIFFERENTIELLE SFR        USRV25_CA801_347184"]
["VIE7833681",null,"MODULE MOTEUR",null,null,{"$f":"LEFT(Catalogue[[#This Row],[Référence]],3)","v":"VIE"},{"$f":"VLOOKUP(Catalogue[[#This Row],[Alias]],#REF!,2,FALSE)","v":{"$error":"#REF!"}},null,"WEI15133626732","BRULEUR TEST POUR DMV A BRIDES"]
["VIE7833696",null,"CONDUITE GAZ",null,null,{"$f":"LEFT(Catalogue[[#This Row],[Référence]],3)","v":"VIE"},{"$f":"VLOOKUP(Catalogue[[#This Row],[Alias]],#REF!,2,FALSE)","v":{"$error":"#REF!"}},null,"WEI21730411012","CABLE D ALLUMAGE 650 MM"]
["VIE7834001",null,"CABLE DE POMPE SIGNAL PWM",null,null,{"$f":"LEFT(Catalogue[[#This Row],[Référence]],3)","v":"VIE"},{"$f":"VLOOKUP(Catalogue[[#This Row],[Alias]],#REF!,2,FALSE)","v":{"$error":"#REF!"}},null,"WEI24110014072","DEFLECTEUR W10/4 COMPLET + VIS M4"]
["VIE7834168",null,"ELECTRODE D IONISATION",null,null,{"$f":"LEFT(Catalogue[[#This Row],[Référence]],3)","v":"VIE"},{"$f":"VLOOKUP(Catalogue[[#This Row],[Alias]],#REF!,2,FALSE)","v":{"$error":"#REF!"}},null,"WEI24131002162","VOLET AIR COMPLET W30C. WGL30"]
["VIE7834198",null,"GRILLE 20KW",null,null,{"$f":"LEFT(Catalogue[[#This Row],[Référence]],3)","v":"VIE"},{"$f":"VLOOKUP(Catalogue[[#This Row],[Alias]],#REF!,2,FALSE)","v":{"$error":"#REF!"}},null,"WEI24140002012","VOLET D AIR POUR WL40"]
["VIE7834392",null,"ELECTRODE D IONISATION D=146",null,null,{"$f":"LEFT(Catalogue[[#This Row],[Référence]],3)","v":"VIE"},{"$f":"VLOOKUP(Catalogue[[#This Row],[Alias]],#REF!,2,FALSE)","v":{"$error":"#REF!"}},null,"WEI48000006862","ELEMENT FIXATION TUBE FLEXIBLE DN 80"]
["VIE7834621",null,"SONDE TEMPERATURE OCT 4KW",null,null,{"$f":"LEFT(Catalogue[[#This Row],[Référence]],3)","v":"VIE"},{"$f":"VLOOKUP(Catalogue[[#This Row],[Alias]],#REF!,2,FALSE)","v":{"$error":"#REF!"}},null,"WEI48101122112","FICHE DE CODAGE BCC WTC15-A EXE  H/H-O/W"]
["VIE7834985S","Non concerné","MANOMETRE",6,2000007353190,{"$f":"LEFT(Catalogue[[#This Row],[Référence]],3)","v":"VIE"},{"$f":"VLOOKUP(Catalogue[[#This Row],[Alias]],#REF!,2,FALSE)","v":{"$error":"#REF!"}},null,"WEI48111100172","SET D ENTRETIEN WTC 25/32-A"]
["VIE7835286",null,"ECROU G1 1/2 D2= 42.4",null,null,{"$f":"LEFT(Catalogue[[#This Row],[Référence]],3)","v":"VIE"},{"$f":"VLOOKUP(Catalogue[[#This Row],[Alias]],#REF!,2,FALSE)","v":{"$error":"#REF!"}},null,"WEI48130130222","BLOC GAZ WTC32-A"]
["VIE7836177",null,"JOINT BRULEUR D=187 (1 PIECE)",null,null,{"$f":"LEFT(Catalogue[[#This Row],[Référence]],3)","v":"VIE"},{"$f":"VLOOKUP(Catalogue[[#This Row],[Alias]],#REF!,2,FALSE)","v":{"$error":"#REF!"}},null,"WEI51141002152","VENTILATEUR RADIAL DIAM 225MM WWP T 300"]
["VIE7836324",null,"BLOC COMBINE GAZ CES10",null,null,{"$f":"LEFT(Catalogue[[#This Row],[Référence]],3)","v":"VIE"},{"$f":"VLOOKUP(Catalogue[[#This Row],[Alias]],#REF!,2,FALSE)","v":{"$error":"#REF!"}},null,"WEI600532","SOCLE BOITE AGK86.10A27 WG30A"]
["VIE7836489",null,"ELECTRODE D IONISATION 45-100KW",null,null,{"$f":"LEFT(Catalogue[[#This Row],[Référence]],3)","v":"VIE"},{"$f":"VLOOKUP(Catalogue[[#This Row],[Alias]],#REF!,2,FALSE)","v":{"$error":"#REF!"}},null,"WEI604429","BOBINE SUNTEC 185-254V 50-60HZ"]
["VIE7836994S","Non concerné","VASE D EXPANSION A MEMBRANE",25,2000007351875,{"$f":"LEFT(Catalogue[[#This Row],[Référence]],3)","v":"VIE"},{"$f":"VLOOKUP(Catalogue[[#This Row],[Alias]],#REF!,2,FALSE)","v":{"$error":"#REF!"}},null,"WEI652252","VENTILATEUR AVEC MOTEUR EC. POUR WTC-OB"]
["VIE7837110",null,"CABLE D ALLUMAGE ET D IONISATION",null,null,{"$f":"LEFT(Catalogue[[#This Row],[Référence]],3)","v":"VIE"},{"$f":"VLOOKUP(Catalogue[[#This Row],[Alias]],#REF!,2,FALSE)","v":{"$error":"#REF!"}},null,"WEI713124","CONDENSATEUR MAB-MKP 5 MICRO F/500II/332 420V"]
["VIE7837252",null,"MOTEUR CIRCULATEUR UP 15-40",null,null,{"$f":"LEFT(Catalogue[[#This Row],[Référence]],3)","v":"VIE"},{"$f":"VLOOKUP(Catalogue[[#This Row],[Alias]],#REF!,2,FALSE)","v":{"$error":"#REF!"}},null,"WIL112047195","RACCORD UNION Z25"]
["VIE7837831",null,"CABLE X8/X9/IONISATION",null,null,{"$f":"LEFT(Catalogue[[#This Row],[Référence]],3)","v":"VIE"},{"$f":"VLOOKUP(Catalogue[[#This Row],[Alias]],#REF!,2,FALSE)","v":{"$error":"#REF!"}},null,"WIL2120647","Yonos MAXO 40/0,5-12 PN6/10"]
["VIE7838345",null,"CONDUITE GAZ 26 KW",null,null,{"$f":"LEFT(Catalogue[[#This Row],[Référence]],3)","v":"VIE"},{"$f":"VLOOKUP(Catalogue[[#This Row],[Alias]],#REF!,2,FALSE)","v":{"$error":"#REF!"}},null,"WIL2164569","STRATOS MAXO 25/05-8 PN10"]
["VIE7838537",null,"COMMANDE DE BRULEUR GLZ 2 ALLURES MOD.2",null,null,{"$f":"LEFT(Catalogue[[#This Row],[Référence]],3)","v":"VIE"},{"$f":"VLOOKUP(Catalogue[[#This Row],[Alias]],#REF!,2,FALSE)","v":{"$error":"#REF!"}},null,"WIL4029062","Star-Z 25/2 Mono"]
["VIE7839168",null,"BRULEUR CYLINDRIQUE CM2 500 AVEC JOINT",null,null,{"$f":"LEFT(Catalogue[[#This Row],[Référence]],3)","v":"VIE"},{"$f":"VLOOKUP(Catalogue[[#This Row],[Alias]],#REF!,2,FALSE)","v":{"$error":"#REF!"}},null,"WIL4132460","Stratos PICO 15/1-4"]
["VIE7839568",null,"ROBINET A BILLE DEPART DN15",null,null,{"$f":"LEFT(Catalogue[[#This Row],[Référence]],3)","v":"VIE"},{"$f":"VLOOKUP(Catalogue[[#This Row],[Alias]],#REF!,2,FALSE)","v":{"$error":"#REF!"}},null,"WIL4215519","YONOS PICO 30/1-4-(ROW)"]
["VIE7839905",null,"Vormontage Leitung Sole Aus",null,null,{"$f":"LEFT(Catalogue[[#This Row],[Référence]],3)","v":"VIE"},{"$f":"VLOOKUP(Catalogue[[#This Row],[Alias]],#REF!,2,FALSE)","v":{"$error":"#REF!"}},null,"WIL4216614","STRATOS-PICO-30/1-4-(ROW)"]
["VIE7841177",null,"MODULE DE COMMANDE HI201-B02.002 + LED",null,null,{"$f":"LEFT(Catalogue[[#This Row],[Référence]],3)","v":"VIE"},{"$f":"VLOOKUP(Catalogue[[#This Row],[Alias]],#REF!,2,FALSE)","v":{"$error":"#REF!"}},null,"WOL2980005","echangeur sanitaire"]
["VIE7841209",null,"FICHE DE CODAGE 241E:0101",null,null,{"$f":"LEFT(Catalogue[[#This Row],[Référence]],3)","v":"VIE"},{"$f":"VLOOKUP(Catalogue[[#This Row],[Alias]],#REF!,2,FALSE)","v":{"$error":"#REF!"}},null,"WOL8603043","ECHANGEUR CORPS DE CHAUFFE"]
["VIE7841764",null,"TETE DE BRULEUR",null,null,{"$f":"LEFT(Catalogue[[#This Row],[Référence]],3)","v":"VIE"},{"$f":"VLOOKUP(Catalogue[[#This Row],[Alias]],#REF!,2,FALSE)","v":{"$error":"#REF!"}},null,"ZPCWTC03815","PRESSOSTAT BP"]
["VIE7841876",null,"FLEXIBLE ONDULE 19X155 AV. MANCHON/COUDE",null,null,{"$f":"LEFT(Catalogue[[#This Row],[Référence]],3)","v":"VIE"},{"$f":"VLOOKUP(Catalogue[[#This Row],[Alias]],#REF!,2,FALSE)","v":{"$error":"#REF!"}},null,"ZYY99948","MIT B/D C2 SANS ACCESSOIRESS NF S12 URBAN (ex98801)"]
["VIE7842354",null,"TURBINE RADIAL NRG 118 35KW",null,null,{"$f":"LEFT(Catalogue[[#This Row],[Référence]],3)","v":"VIE"},{"$f":"VLOOKUP(Catalogue[[#This Row],[Alias]],#REF!,2,FALSE)","v":{"$error":"#REF!"}},null,"ZYYKT-1607-NHC-TN3-GSPX","KINEMAGIC 7 SERENITE+ NICHE COULISSANT HAUTE TRANSPARENT THERMOSTATIQUE"]
["VIE7843299",null,"FLEXIBLE MOULE DEPART CHAUFFAGE",null,null,{"$f":"LEFT(Catalogue[[#This Row],[Référence]],3)","v":"VIE"},{"$f":"VLOOKUP(Catalogue[[#This Row],[Alias]],#REF!,2,FALSE)","v":{"$error":"#REF!"}},null,"ZZZAGMOT1.8KW","MOTEUR ELEC. TRI 1.8 KW 1500TR/MN B3"]
["VIE7844821",null,"ECHANGEUR DE CHALEUR A PLAQUES",null,null,{"$f":"LEFT(Catalogue[[#This Row],[Référence]],3)","v":"VIE"},{"$f":"VLOOKUP(Catalogue[[#This Row],[Alias]],#REF!,2,FALSE)","v":{"$error":"#REF!"}},null,"ZZZROC122123000","TABLEAU RS 20/20 ANALOGIQ"]
["VIE7855038",null,"RALLONGE VENTURI",null,null,{"$f":"LEFT(Catalogue[[#This Row],[Référence]],3)","v":"VIE"},{"$f":"VLOOKUP(Catalogue[[#This Row],[Alias]],#REF!,2,FALSE)","v":{"$error":"#REF!"}}]
["VIE7855358",null,"BOITIER CONTROLE BRULEUR LMO64.301C2",null,null,{"$f":"LEFT(Catalogue[[#This Row],[Référence]],3)","v":"VIE"},{"$f":"VLOOKUP(Catalogue[[#This Row],[Alias]],#REF!,2,FALSE)","v":{"$error":"#REF!"}}]
["VIE7855624",null,"CABLE DE RACCORDEMENT DE LA VANNE GAZ 35",null,null,{"$f":"LEFT(Catalogue[[#This Row],[Référence]],3)","v":"VIE"},{"$f":"VLOOKUP(Catalogue[[#This Row],[Alias]],#REF!,2,FALSE)","v":{"$error":"#REF!"}}]
["VIE7856720",null,"SONDE NTC 50 KOHM. L 750 MM ECS",null,null,{"$f":"LEFT(Catalogue[[#This Row],[Référence]],3)","v":"VIE"},{"$f":"VLOOKUP(Catalogue[[#This Row],[Alias]],#REF!,2,FALSE)","v":{"$error":"#REF!"}}]
["VIE7858291S","Non concerné","VENTILATEUR FIME",20,2000007347946,{"$f":"LEFT(Catalogue[[#This Row],[Référence]],3)","v":"VIE"},{"$f":"VLOOKUP(Catalogue[[#This Row],[Alias]],#REF!,2,FALSE)","v":{"$error":"#REF!"}}]
["VIE7859559",null,"INCLUSION DU REGLEMENT",null,null,{"$f":"LEFT(Catalogue[[#This Row],[Référence]],3)","v":"VIE"},{"$f":"VLOOKUP(Catalogue[[#This Row],[Alias]],#REF!,2,FALSE)","v":{"$error":"#REF!"}}]
["VIE7861606",null,"TURBINE RADIAL NRG 118 19/26",null,null,{"$f":"LEFT(Catalogue[[#This Row],[Référence]],3)","v":"VIE"},{"$f":"VLOOKUP(Catalogue[[#This Row],[Alias]],#REF!,2,FALSE)","v":{"$error":"#REF!"}}]
["VIE7862894",null,"REGULATION VBC113-E10",null,null,{"$f":"LEFT(Catalogue[[#This Row],[Référence]],3)","v":"VIE"},{"$f":"VLOOKUP(Catalogue[[#This Row],[Alias]],#REF!,2,FALSE)","v":{"$error":"#REF!"}}]
["VIE7865437",null,"VENTILATEUR RADIAL AVEC VANNE GAZ",null,null,{"$f":"LEFT(Catalogue[[#This Row],[Référence]],3)","v":"VIE"},{"$f":"VLOOKUP(Catalogue[[#This Row],[Alias]],#REF!,2,FALSE)","v":{"$error":"#REF!"}}]
["VIE7867233",null,"LAGERUNG SCHLITTEN USE",null,null,{"$f":"LEFT(Catalogue[[#This Row],[Référence]],3)","v":"VIE"},{"$f":"VLOOKUP(Catalogue[[#This Row],[Alias]],#REF!,2,FALSE)","v":{"$error":"#REF!"}}]
["VIE7868499",null,"ROBINET COUDE G3/4-G3/4",null,null,{"$f":"LEFT(Catalogue[[#This Row],[Référence]],3)","v":"VIE"},{"$f":"VLOOKUP(Catalogue[[#This Row],[Alias]],#REF!,2,FALSE)","v":{"$error":"#REF!"}}]
["VIE7869893",null,"BOITIER DE CONTROLE DU BRULEUR",null,null,{"$f":"LEFT(Catalogue[[#This Row],[Référence]],3)","v":"VIE"},{"$f":"VLOOKUP(Catalogue[[#This Row],[Alias]],#REF!,2,FALSE)","v":{"$error":"#REF!"}}]
["VIE7874391",null,"ALLUMEUR",null,null,{"$f":"LEFT(Catalogue[[#This Row],[Référence]],3)","v":"VIE"},{"$f":"VLOOKUP(Catalogue[[#This Row],[Alias]],#REF!,2,FALSE)","v":{"$error":"#REF!"}}]
["VIE7874668",null,"MOTEUR CIRCULATEUR UPMO-70 PH",null,null,{"$f":"LEFT(Catalogue[[#This Row],[Référence]],3)","v":"VIE"},{"$f":"VLOOKUP(Catalogue[[#This Row],[Alias]],#REF!,2,FALSE)","v":{"$error":"#REF!"}}]
["VIE7876065",null,"CONTROLEUR DE DEBIT AVEC TAMIS",null,null,{"$f":"LEFT(Catalogue[[#This Row],[Référence]],3)","v":"VIE"},{"$f":"VLOOKUP(Catalogue[[#This Row],[Alias]],#REF!,2,FALSE)","v":{"$error":"#REF!"}}]
["VIE7883462",null,"RACCORD COUDE",null,null,{"$f":"LEFT(Catalogue[[#This Row],[Référence]],3)","v":"VIE"},{"$f":"VLOOKUP(Catalogue[[#This Row],[Alias]],#REF!,2,FALSE)","v":{"$error":"#REF!"}}]
["VIE95888370",null,"PIEZO  VIESSMANN",null,null,{"$f":"LEFT(Catalogue[[#This Row],[Référence]],3)","v":"VIE"},{"$f":"VLOOKUP(Catalogue[[#This Row],[Alias]],#REF!,2,FALSE)","v":{"$error":"#REF!"}}]
["VIEB2HA461",null,"VITODENS 200-W B2HA 26KW DOSSERET MURAL VIESSMANN B2HA461 THPE",null,null,{"$f":"LEFT(Catalogue[[#This Row],[Référence]],3)","v":"VIE"},{"$f":"VLOOKUP(Catalogue[[#This Row],[Alias]],#REF!,2,FALSE)","v":{"$error":"#REF!"}}]
["VIEZ011244",null,"VITOTROL 100 UTDB-RF2",null,null,{"$f":"LEFT(Catalogue[[#This Row],[Référence]],3)","v":"VIE"},{"$f":"VLOOKUP(Catalogue[[#This Row],[Alias]],#REF!,2,FALSE)","v":{"$error":"#REF!"}}]
["VIEZ021843",null,"VITODENS 111-F 3.2 - 19 KW B1SF - THPE",null,null,{"$f":"LEFT(Catalogue[[#This Row],[Référence]],3)","v":"VIE"},{"$f":"VLOOKUP(Catalogue[[#This Row],[Alias]],#REF!,2,FALSE)","v":{"$error":"#REF!"}}]
["VIEZK02941",null,"PLATINE MURALE SANS SERVO-MOTEUR",null,null,{"$f":"LEFT(Catalogue[[#This Row],[Référence]],3)","v":"VIE"},{"$f":"VLOOKUP(Catalogue[[#This Row],[Alias]],#REF!,2,FALSE)","v":{"$error":"#REF!"}}]
["VIEZK04937",null,"VASE D EXPANSION ECS.2 L",null,null,{"$f":"LEFT(Catalogue[[#This Row],[Référence]],3)","v":"VIE"},{"$f":"VLOOKUP(Catalogue[[#This Row],[Alias]],#REF!,2,FALSE)","v":{"$error":"#REF!"}}]
["VIL5661V101",null,"PACK WC O.NOVO   SV    BC 5661V1",null,null,{"$f":"LEFT(Catalogue[[#This Row],[Référence]],3)","v":"VIL"},{"$f":"VLOOKUP(Catalogue[[#This Row],[Alias]],#REF!,2,FALSE)","v":{"$error":"#REF!"}}]
["VIM0000036077",null,"COTR SPA LP 1082 COURROIE TRAPEZOIDALE",null,null,{"$f":"LEFT(Catalogue[[#This Row],[Référence]],3)","v":"VIM"},{"$f":"VLOOKUP(Catalogue[[#This Row],[Alias]],#REF!,2,FALSE)","v":{"$error":"#REF!"}}]
["VIM002423",null,"MSDZ M0 450 MANCHETTE SOUPLE M0 CIRCULAIRE",null,null,{"$f":"LEFT(Catalogue[[#This Row],[Référence]],3)","v":"VIM"},{"$f":"VLOOKUP(Catalogue[[#This Row],[Alias]],#REF!,2,FALSE)","v":{"$error":"#REF!"}}]
["VIM009070",null,"MOHZ 12 MOTO-TURBINE DE SECOURS POUR JBHB ECO 12",null,null,{"$f":"LEFT(Catalogue[[#This Row],[Référence]],3)","v":"VIM"},{"$f":"VLOOKUP(Catalogue[[#This Row],[Alias]],#REF!,2,FALSE)","v":{"$error":"#REF!"}}]
["VIM240451",null,"HUCF ECO PR 045 D IE3 TRI INTZ BDEZ CAISSON C4 P CONSTANTE - ARRET COURANT 2021",null,null,{"$f":"LEFT(Catalogue[[#This Row],[Référence]],3)","v":"VIM"},{"$f":"VLOOKUP(Catalogue[[#This Row],[Alias]],#REF!,2,FALSE)","v":{"$error":"#REF!"}}]
["VIM260243",null,"JBEZ 01 07/12/15/21/27 CHAPEAU PARE-PLUIE POUR JBHB ECO ECM",null,null,{"$f":"LEFT(Catalogue[[#This Row],[Référence]],3)","v":"VIM"},{"$f":"VLOOKUP(Catalogue[[#This Row],[Alias]],#REF!,2,FALSE)","v":{"$error":"#REF!"}}]
["VIM301544",null,"ALIZE HYGRO TEMPO R 10/45/120 D125 PILE BOUCHE HYGRO",null,null,{"$f":"LEFT(Catalogue[[#This Row],[Référence]],3)","v":"VIM"},{"$f":"VLOOKUP(Catalogue[[#This Row],[Alias]],#REF!,2,FALSE)","v":{"$error":"#REF!"}}]
["VIM5144240800",null,"MOYA 1610 ALESAGE 19 MOYEU AMOVIBLE",null,null,{"$f":"LEFT(Catalogue[[#This Row],[Référence]],3)","v":"VIM"},{"$f":"VLOOKUP(Catalogue[[#This Row],[Alias]],#REF!,2,FALSE)","v":{"$error":"#REF!"}}]
["VIM860172",null,"RED F/M GALVA 630/500 REDUCTION CONIQUE CENTRE",null,null,{"$f":"LEFT(Catalogue[[#This Row],[Référence]],3)","v":"VIM"},{"$f":"VLOOKUP(Catalogue[[#This Row],[Alias]],#REF!,2,FALSE)","v":{"$error":"#REF!"}}]
["VIM867784",null,"TEV 90DEG  GALVA JOINT 315/315 TE EQUERRE",null,null,{"$f":"LEFT(Catalogue[[#This Row],[Référence]],3)","v":"VIM"},{"$f":"VLOOKUP(Catalogue[[#This Row],[Alias]],#REF!,2,FALSE)","v":{"$error":"#REF!"}}]
["WAT2224129",null,"CLAPET ANTIPOLLUTION FXF 209 50x60",null,null,{"$f":"LEFT(Catalogue[[#This Row],[Référence]],3)","v":"WAT"},{"$f":"VLOOKUP(Catalogue[[#This Row],[Alias]],#REF!,2,FALSE)","v":{"$error":"#REF!"}}]
["WAT2231150",null,"DISCONNECTEUR HYDRAULIQUE BA-BM M/F1/2 - M3 31150",null,null,{"$f":"LEFT(Catalogue[[#This Row],[Référence]],3)","v":"WAT"},{"$f":"VLOOKUP(Catalogue[[#This Row],[Alias]],#REF!,2,FALSE)","v":{"$error":"#REF!"}}]
["WAT2286300",null,"REDUCTEUR PRECISIO M2 FF 3/4 LIVR\u0090 SANS RACCORDS",null,null,{"$f":"LEFT(Catalogue[[#This Row],[Référence]],3)","v":"WAT"},{"$f":"VLOOKUP(Catalogue[[#This Row],[Alias]],#REF!,2,FALSE)","v":{"$error":"#REF!"}}]
["WAT22L0108204",null,"COMBINE MULTIBLOC MBS220 R  22L0108",null,null,{"$f":"LEFT(Catalogue[[#This Row],[Référence]],3)","v":"WAT"},{"$f":"VLOOKUP(Catalogue[[#This Row],[Alias]],#REF!,2,FALSE)","v":{"$error":"#REF!"}}]
["WAT22L0207199",null,"SOUPAPE SANITAIRE FF 1/2 10 BAR L02.07.199",null,null,{"$f":"LEFT(Catalogue[[#This Row],[Référence]],3)","v":"WAT"},{"$f":"VLOOKUP(Catalogue[[#This Row],[Alias]],#REF!,2,FALSE)","v":{"$error":"#REF!"}}]
["WAT22L0240200",null,"ALIM AUTO ALOM 22L0240200",null,null,{"$f":"LEFT(Catalogue[[#This Row],[Référence]],3)","v":"WAT"},{"$f":"VLOOKUP(Catalogue[[#This Row],[Alias]],#REF!,2,FALSE)","v":{"$error":"#REF!"}}]
["WAT23001129",null,"BARETTE 10 RACCORDS S2 18-3/4",null,null,{"$f":"LEFT(Catalogue[[#This Row],[Référence]],3)","v":"WAT"},{"$f":"VLOOKUP(Catalogue[[#This Row],[Alias]],#REF!,2,FALSE)","v":{"$error":"#REF!"}}]
["WEI11050000142",null,"SERVO-MOTEUR 1055/80 230V 50-60HZ  E",null,null,{"$f":"LEFT(Catalogue[[#This Row],[Référence]],3)","v":"WEI"},{"$f":"VLOOKUP(Catalogue[[#This Row],[Alias]],#REF!,2,FALSE)","v":{"$error":"#REF!"}}]
["WEI15110125087",null,"RESSORT 0.8 X 10 POUR CLAPET DN25-150",null,null,{"$f":"LEFT(Catalogue[[#This Row],[Référence]],3)","v":"WEI"},{"$f":"VLOOKUP(Catalogue[[#This Row],[Alias]],#REF!,2,FALSE)","v":{"$error":"#REF!"}}]
["WEI23021100060",null,"KIT FRS510 POUR RAMPE R1  > 150 MBAR",null,null,{"$f":"LEFT(Catalogue[[#This Row],[Référence]],3)","v":"WEI"},{"$f":"VLOOKUP(Catalogue[[#This Row],[Alias]],#REF!,2,FALSE)","v":{"$error":"#REF!"}}]
["WEI24105012042",null,"CELLULE QRB1C POUR WL5 LN",null,null,{"$f":"LEFT(Catalogue[[#This Row],[Référence]],3)","v":"WEI"},{"$f":"VLOOKUP(Catalogue[[#This Row],[Alias]],#REF!,2,FALSE)","v":{"$error":"#REF!"}}]
["WEI24105170",null,"WL5/1-B TETE W5/1 SANS SERVO-MOTEUR   FR",null,null,{"$f":"LEFT(Catalogue[[#This Row],[Référence]],3)","v":"WEI"},{"$f":"VLOOKUP(Catalogue[[#This Row],[Alias]],#REF!,2,FALSE)","v":{"$error":"#REF!"}}]
["WEI45011030507",null,"ELECTRODE D ALLUMAGE WTG  9 - 34",null,null,{"$f":"LEFT(Catalogue[[#This Row],[Référence]],3)","v":"WEI"},{"$f":"VLOOKUP(Catalogue[[#This Row],[Alias]],#REF!,2,FALSE)","v":{"$error":"#REF!"}}]
["WEI48000007482",null,"SET DE LIAISON WHA 4 4",null,null,{"$f":"LEFT(Catalogue[[#This Row],[Référence]],3)","v":"WEI"},{"$f":"VLOOKUP(Catalogue[[#This Row],[Alias]],#REF!,2,FALSE)","v":{"$error":"#REF!"}}]
["WEI48000011777",null,"COLLECTEUR LONG PP DN 200 X 1230",null,null,{"$f":"LEFT(Catalogue[[#This Row],[Référence]],3)","v":"WEI"},{"$f":"VLOOKUP(Catalogue[[#This Row],[Alias]],#REF!,2,FALSE)","v":{"$error":"#REF!"}}]
["WEI48000013162",null,"TUBE BLANC DN100/60  0.44M",null,null,{"$f":"LEFT(Catalogue[[#This Row],[Référence]],3)","v":"WEI"},{"$f":"VLOOKUP(Catalogue[[#This Row],[Alias]],#REF!,2,FALSE)","v":{"$error":"#REF!"}}]
["WEI48001003102",null,"VASE D EXPANSION WEGSOL 18 AVEC SUPPORT",null,null,{"$f":"LEFT(Catalogue[[#This Row],[Référence]],3)","v":"WEI"},{"$f":"VLOOKUP(Catalogue[[#This Row],[Alias]],#REF!,2,FALSE)","v":{"$error":"#REF!"}}]
["WEI48040122022",null,"KIT TRANSFORMATEUR EXTERIEUR ZAG 1",null,null,{"$f":"LEFT(Catalogue[[#This Row],[Référence]],3)","v":"WEI"},{"$f":"VLOOKUP(Catalogue[[#This Row],[Alias]],#REF!,2,FALSE)","v":{"$error":"#REF!"}}]
["WEI48100000572",null,"SET DE NETTOYAGE ECHANGEUR WTC-A",null,null,{"$f":"LEFT(Catalogue[[#This Row],[Référence]],3)","v":"WEI"},{"$f":"VLOOKUP(Catalogue[[#This Row],[Alias]],#REF!,2,FALSE)","v":{"$error":"#REF!"}}]
["WEI48100000902",null,"SONDE EXTERIEURE NTC 600 COMPL  WTC/WRS",null,null,{"$f":"LEFT(Catalogue[[#This Row],[Référence]],3)","v":"WEI"},{"$f":"VLOOKUP(Catalogue[[#This Row],[Alias]],#REF!,2,FALSE)","v":{"$error":"#REF!"}}]
["WEI48100000912",null,"COMMANDE A DISTANCE WCM-FS 2 0",null,null,{"$f":"LEFT(Catalogue[[#This Row],[Référence]],3)","v":"WEI"},{"$f":"VLOOKUP(Catalogue[[#This Row],[Alias]],#REF!,2,FALSE)","v":{"$error":"#REF!"}}]
["WEI48101122052",null,"FAISCEAU ST18 VENTILATEUR-SONDE DEPART",null,null,{"$f":"LEFT(Catalogue[[#This Row],[Référence]],3)","v":"WEI"},{"$f":"VLOOKUP(Catalogue[[#This Row],[Alias]],#REF!,2,FALSE)","v":{"$error":"#REF!"}}]
["WEI48101122062",null,"FAISCEAU ST19B VANNE GAZ WTC 15/25-A-H",null,null,{"$f":"LEFT(Catalogue[[#This Row],[Référence]],3)","v":"WEI"},{"$f":"VLOOKUP(Catalogue[[#This Row],[Alias]],#REF!,2,FALSE)","v":{"$error":"#REF!"}}]
["WEI48101122112",null,"FICHE DE CODAGE BCC WTC15-A EXE  H/H-O/W",null,null,{"$f":"LEFT(Catalogue[[#This Row],[Référence]],3)","v":"WEI"},{"$f":"VLOOKUP(Catalogue[[#This Row],[Alias]],#REF!,2,FALSE)","v":{"$error":"#REF!"}}]
["WEI48101130062",null,"VENTILATEUR WTC15/25-A",null,null,{"$f":"LEFT(Catalogue[[#This Row],[Référence]],3)","v":"WEI"},{"$f":"VLOOKUP(Catalogue[[#This Row],[Alias]],#REF!,2,FALSE)","v":{"$error":"#REF!"}}]
["WEI48101130112",null,"ELECTRODE D IONISATION WTC-A",null,null,{"$f":"LEFT(Catalogue[[#This Row],[Référence]],3)","v":"WEI"},{"$f":"VLOOKUP(Catalogue[[#This Row],[Alias]],#REF!,2,FALSE)","v":{"$error":"#REF!"}}]
["WEI48101130157",null,"BRULEUR SURFACIQUE WTC 15-A",null,null,{"$f":"LEFT(Catalogue[[#This Row],[Référence]],3)","v":"WEI"},{"$f":"VLOOKUP(Catalogue[[#This Row],[Alias]],#REF!,2,FALSE)","v":{"$error":"#REF!"}}]
["WEI48101130162",null,"ELECTRODE D IONISATION WTC15/25/32-A",null,null,{"$f":"LEFT(Catalogue[[#This Row],[Référence]],3)","v":"WEI"},{"$f":"VLOOKUP(Catalogue[[#This Row],[Alias]],#REF!,2,FALSE)","v":{"$error":"#REF!"}}]
["WEI48101130172",null,"ELECTRODE D ALLUMAGE WTC15 A 32-A",null,null,{"$f":"LEFT(Catalogue[[#This Row],[Référence]],3)","v":"WEI"},{"$f":"VLOOKUP(Catalogue[[#This Row],[Alias]],#REF!,2,FALSE)","v":{"$error":"#REF!"}}]
["WEI48101130212",null,"VENTILATEUR WTC15/25-A",null,null,{"$f":"LEFT(Catalogue[[#This Row],[Référence]],3)","v":"WEI"},{"$f":"VLOOKUP(Catalogue[[#This Row],[Alias]],#REF!,2,FALSE)","v":{"$error":"#REF!"}}]
["WEI48101130222",null,"BLOC GAZ WTC15-A",null,null,{"$f":"LEFT(Catalogue[[#This Row],[Référence]],3)","v":"WEI"},{"$f":"VLOOKUP(Catalogue[[#This Row],[Alias]],#REF!,2,FALSE)","v":{"$error":"#REF!"}}]
["WEI48101130227",null,"ELECTRODE D ALLUMAGE WTC 15/25-A",null,null,{"$f":"LEFT(Catalogue[[#This Row],[Référence]],3)","v":"WEI"},{"$f":"VLOOKUP(Catalogue[[#This Row],[Alias]],#REF!,2,FALSE)","v":{"$error":"#REF!"}}]
["WEI48101130232",null,"FOURNITURES DIVERSES ECHANGEUR WTC15-A",null,null,{"$f":"LEFT(Catalogue[[#This Row],[Référence]],3)","v":"WEI"},{"$f":"VLOOKUP(Catalogue[[#This Row],[Alias]],#REF!,2,FALSE)","v":{"$error":"#REF!"}}]
["WEI48101130267",null,"SONDE DE FUMEES NTC WTC 15/25-A",null,null,{"$f":"LEFT(Catalogue[[#This Row],[Référence]],3)","v":"WEI"},{"$f":"VLOOKUP(Catalogue[[#This Row],[Alias]],#REF!,2,FALSE)","v":{"$error":"#REF!"}}]
["WEI48101140027",null,"VASE D EXPANSION POUR WTC - CRF 10",null,null,{"$f":"LEFT(Catalogue[[#This Row],[Référence]],3)","v":"WEI"},{"$f":"VLOOKUP(Catalogue[[#This Row],[Alias]],#REF!,2,FALSE)","v":{"$error":"#REF!"}}]
["WEI48101140162",null,"SIPHON WTC 15/25/32-A",null,null,{"$f":"LEFT(Catalogue[[#This Row],[Référence]],3)","v":"WEI"},{"$f":"VLOOKUP(Catalogue[[#This Row],[Alias]],#REF!,2,FALSE)","v":{"$error":"#REF!"}}]
["WEI48101140232",null,"CANAL DE DEGAZAGE AVEC EVENT",null,null,{"$f":"LEFT(Catalogue[[#This Row],[Référence]],3)","v":"WEI"},{"$f":"VLOOKUP(Catalogue[[#This Row],[Alias]],#REF!,2,FALSE)","v":{"$error":"#REF!"}}]
["WEI48101140252",null,"CIRCULATEUR UPM3 15-70 GGMBP3 AZA",null,null,{"$f":"LEFT(Catalogue[[#This Row],[Référence]],3)","v":"WEI"},{"$f":"VLOOKUP(Catalogue[[#This Row],[Alias]],#REF!,2,FALSE)","v":{"$error":"#REF!"}}]
["WEI48101140267",null,"SONDE DE DEPART NTC RP1/8",null,null,{"$f":"LEFT(Catalogue[[#This Row],[Référence]],3)","v":"WEI"},{"$f":"VLOOKUP(Catalogue[[#This Row],[Alias]],#REF!,2,FALSE)","v":{"$error":"#REF!"}}]
["WEI48101222062",null,"FAISCEAU ST19A VANNE GAZ WTC 15/25-A-W/C",null,null,{"$f":"LEFT(Catalogue[[#This Row],[Référence]],3)","v":"WEI"},{"$f":"VLOOKUP(Catalogue[[#This Row],[Alias]],#REF!,2,FALSE)","v":{"$error":"#REF!"}}]
["WEI48101240037",null,"SERVO-MOTEUR VC6012ZZ00E 230V",null,null,{"$f":"LEFT(Catalogue[[#This Row],[Référence]],3)","v":"WEI"},{"$f":"VLOOKUP(Catalogue[[#This Row],[Alias]],#REF!,2,FALSE)","v":{"$error":"#REF!"}}]
["WEI48101522072",null,"WCM-CPU-R. PLATINE DE RECH  AC EMBALLAGE",null,null,{"$f":"LEFT(Catalogue[[#This Row],[Référence]],3)","v":"WEI"},{"$f":"VLOOKUP(Catalogue[[#This Row],[Alias]],#REF!,2,FALSE)","v":{"$error":"#REF!"}}]
["WEI48101540017",null,"VASE D EXPANSION WTC15/25-A-K",null,null,{"$f":"LEFT(Catalogue[[#This Row],[Référence]],3)","v":"WEI"},{"$f":"VLOOKUP(Catalogue[[#This Row],[Alias]],#REF!,2,FALSE)","v":{"$error":"#REF!"}}]
["WEI48101540067",null,"SOUPAPE DE SECURITE 3BAR 1/2 EMBROCHABLE",null,null,{"$f":"LEFT(Catalogue[[#This Row],[Référence]],3)","v":"WEI"},{"$f":"VLOOKUP(Catalogue[[#This Row],[Alias]],#REF!,2,FALSE)","v":{"$error":"#REF!"}}]
["WEI48111100172",null,"SET D ENTRETIEN WTC 25/32-A",null,null,{"$f":"LEFT(Catalogue[[#This Row],[Référence]],3)","v":"WEI"},{"$f":"VLOOKUP(Catalogue[[#This Row],[Alias]],#REF!,2,FALSE)","v":{"$error":"#REF!"}}]
["WEI48111122112",null,"FICHE DE CODAGE BCC WTC25-A EXE  H/H-O/W",null,null,{"$f":"LEFT(Catalogue[[#This Row],[Référence]],3)","v":"WEI"},{"$f":"VLOOKUP(Catalogue[[#This Row],[Alias]],#REF!,2,FALSE)","v":{"$error":"#REF!"}}]
["WEI48111130027",null,"COUVERCLE D ENTRETIEN WTC 25-A",null,null,{"$f":"LEFT(Catalogue[[#This Row],[Référence]],3)","v":"WEI"},{"$f":"VLOOKUP(Catalogue[[#This Row],[Alias]],#REF!,2,FALSE)","v":{"$error":"#REF!"}}]
["WEI48111130052",null,"CORPS DE CHAUFFE WTC25-A H. H-O. W. K",null,null,{"$f":"LEFT(Catalogue[[#This Row],[Référence]],3)","v":"WEI"},{"$f":"VLOOKUP(Catalogue[[#This Row],[Alias]],#REF!,2,FALSE)","v":{"$error":"#REF!"}}]
["WEI48111130077",null,"CAPOT BRULEUR WTC 25-A   GD-ALSIMG (CU)",null,null,{"$f":"LEFT(Catalogue[[#This Row],[Référence]],3)","v":"WEI"},{"$f":"VLOOKUP(Catalogue[[#This Row],[Alias]],#REF!,2,FALSE)","v":{"$error":"#REF!"}}]
["WEI48111130147",null,"JOINT DE BRULEUR WTC 25-A",null,null,{"$f":"LEFT(Catalogue[[#This Row],[Référence]],3)","v":"WEI"},{"$f":"VLOOKUP(Catalogue[[#This Row],[Alias]],#REF!,2,FALSE)","v":{"$error":"#REF!"}}]
["WEI48111130157",null,"BRULEUR SURFACIQUE WTC 25-A",null,null,{"$f":"LEFT(Catalogue[[#This Row],[Référence]],3)","v":"WEI"},{"$f":"VLOOKUP(Catalogue[[#This Row],[Alias]],#REF!,2,FALSE)","v":{"$error":"#REF!"}}]
["WEI48111130222",null,"BLOC GAZ WTC 25-A",null,null,{"$f":"LEFT(Catalogue[[#This Row],[Référence]],3)","v":"WEI"},{"$f":"VLOOKUP(Catalogue[[#This Row],[Alias]],#REF!,2,FALSE)","v":{"$error":"#REF!"}}]
["WEI48111322152",null,"WCM-CPU PLATINE DE RECHANGE AVEC EMBALL",null,null,{"$f":"LEFT(Catalogue[[#This Row],[Référence]],3)","v":"WEI"},{"$f":"VLOOKUP(Catalogue[[#This Row],[Alias]],#REF!,2,FALSE)","v":{"$error":"#REF!"}}]
["WEI48111322172",null,"PLATINE DE RECHANGE WCM-CPU-R",null,null,{"$f":"LEFT(Catalogue[[#This Row],[Référence]],3)","v":"WEI"},{"$f":"VLOOKUP(Catalogue[[#This Row],[Alias]],#REF!,2,FALSE)","v":{"$error":"#REF!"}}]
["WEI48111340037S","Non concerné","ECHANGEUR A PLAQUES WTC25-A EXEC. C",37,2000001970744,{"$f":"LEFT(Catalogue[[#This Row],[Référence]],3)","v":"WEI"},{"$f":"VLOOKUP(Catalogue[[#This Row],[Alias]],#REF!,2,FALSE)","v":{"$error":"#REF!"}}]
["WEI48111340037S",null,"ECHANGEUR A PLAQUES WTC25-A EXEC. C",null,null,{"$f":"LEFT(Catalogue[[#This Row],[Référence]],3)","v":"WEI"},{"$f":"VLOOKUP(Catalogue[[#This Row],[Alias]],#REF!,2,FALSE)","v":{"$error":"#REF!"}}]
["WEI48111340042",null,"ECHANGEUR A PLAQUES WTC 25-A EXEC  C",null,null,{"$f":"LEFT(Catalogue[[#This Row],[Référence]],3)","v":"WEI"},{"$f":"VLOOKUP(Catalogue[[#This Row],[Alias]],#REF!,2,FALSE)","v":{"$error":"#REF!"}}]
["WEI48111340042S","Non concerné","ECHANGEUR A PLAQUES WTC 25-A EXEC.C",36,2000007348523,{"$f":"LEFT(Catalogue[[#This Row],[Référence]],3)","v":"WEI"},{"$f":"VLOOKUP(Catalogue[[#This Row],[Alias]],#REF!,2,FALSE)","v":{"$error":"#REF!"}}]
["WEI48111340042S",null,"ECHANGEUR A PLAQUES WTC 25-A EXEC.C",null,null,{"$f":"LEFT(Catalogue[[#This Row],[Référence]],3)","v":"WEI"},{"$f":"VLOOKUP(Catalogue[[#This Row],[Alias]],#REF!,2,FALSE)","v":{"$error":"#REF!"}}]
["WEI48111340047",null,"BRIDE DROITE ECHANGEUR WTC25-A EXEC C",null,null,{"$f":"LEFT(Catalogue[[#This Row],[Référence]],3)","v":"WEI"},{"$f":"VLOOKUP(Catalogue[[#This Row],[Alias]],#REF!,2,FALSE)","v":{"$error":"#REF!"}}]
["WEI48111340057",null,"BRIDE GAUCHE ECHANGEUR WTC25-A EXEC C",null,null,{"$f":"LEFT(Catalogue[[#This Row],[Référence]],3)","v":"WEI"},{"$f":"VLOOKUP(Catalogue[[#This Row],[Alias]],#REF!,2,FALSE)","v":{"$error":"#REF!"}}]
["WEI48111340122",null,"DETECTEUR DE DEBIT EAU C7195A2 + CABLE",null,null,{"$f":"LEFT(Catalogue[[#This Row],[Référence]],3)","v":"WEI"},{"$f":"VLOOKUP(Catalogue[[#This Row],[Alias]],#REF!,2,FALSE)","v":{"$error":"#REF!"}}]
["WEI48111522112",null,"FICHE DE CODAGE BCC WTC25-A EXE  K",null,null,{"$f":"LEFT(Catalogue[[#This Row],[Référence]],3)","v":"WEI"},{"$f":"VLOOKUP(Catalogue[[#This Row],[Alias]],#REF!,2,FALSE)","v":{"$error":"#REF!"}}]
["WEI48121130577",null,"JOINT BRULEUR 4 MM",null,null,{"$f":"LEFT(Catalogue[[#This Row],[Référence]],3)","v":"WEI"},{"$f":"VLOOKUP(Catalogue[[#This Row],[Alias]],#REF!,2,FALSE)","v":{"$error":"#REF!"}}]
["WEI48130130062",null,"VENTILATEUR WTC32-A",null,null,{"$f":"LEFT(Catalogue[[#This Row],[Référence]],3)","v":"WEI"},{"$f":"VLOOKUP(Catalogue[[#This Row],[Alias]],#REF!,2,FALSE)","v":{"$error":"#REF!"}}]
["WEI48130130222",null,{"$f":"VLOOKUP(A45506,I:J,2,0)","v":"BLOC GAZ WTC32-A"},null,null,{"$f":"LEFT(Catalogue[[#This Row],[Référence]],3)","v":"WEI"},{"$f":"VLOOKUP(Catalogue[[#This Row],[Alias]],#REF!,2,FALSE)","v":{"$error":"#REF!"}}]
["WEI48140130062",null,"VENTILATEUR WTC 45-A",null,null,{"$f":"LEFT(Catalogue[[#This Row],[Référence]],3)","v":"WEI"},{"$f":"VLOOKUP(Catalogue[[#This Row],[Alias]],#REF!,2,FALSE)","v":{"$error":"#REF!"}}]
["WEI48140130082",null,"ELECTRODE D IONISATION WTC45-60-A",null,null,{"$f":"LEFT(Catalogue[[#This Row],[Référence]],3)","v":"WEI"},{"$f":"VLOOKUP(Catalogue[[#This Row],[Alias]],#REF!,2,FALSE)","v":{"$error":"#REF!"}}]
["WEI48140130162",null,"ELECTRODE D ALLUMAGE WTC45/60-A",null,null,{"$f":"LEFT(Catalogue[[#This Row],[Référence]],3)","v":"WEI"},{"$f":"VLOOKUP(Catalogue[[#This Row],[Alias]],#REF!,2,FALSE)","v":{"$error":"#REF!"}}]
["WEI48140130167",null,"SONDE DE DEPART NTC 5 KOHM G1/4",null,null,{"$f":"LEFT(Catalogue[[#This Row],[Référence]],3)","v":"WEI"},{"$f":"VLOOKUP(Catalogue[[#This Row],[Alias]],#REF!,2,FALSE)","v":{"$error":"#REF!"}}]
["WEI48140130267",null,"SONDE DE FUMEES NTC WTC 45/60-A",null,null,{"$f":"LEFT(Catalogue[[#This Row],[Référence]],3)","v":"WEI"},{"$f":"VLOOKUP(Catalogue[[#This Row],[Alias]],#REF!,2,FALSE)","v":{"$error":"#REF!"}}]
["WEI48140130337",null,"ELECTRODE D ALLUMAGE WTC 45/60-A",null,null,{"$f":"LEFT(Catalogue[[#This Row],[Référence]],3)","v":"WEI"},{"$f":"VLOOKUP(Catalogue[[#This Row],[Alias]],#REF!,2,FALSE)","v":{"$error":"#REF!"}}]
["WEI48140140132",null,"CIRCULATEUR UPM2 15-70ES-PEA WTC45/60-A",null,null,{"$f":"LEFT(Catalogue[[#This Row],[Référence]],3)","v":"WEI"},{"$f":"VLOOKUP(Catalogue[[#This Row],[Alias]],#REF!,2,FALSE)","v":{"$error":"#REF!"}}]
["WEI48141130027",null,"PLAQUE REPARTITION D AIR WTC45/60-A",null,null,{"$f":"LEFT(Catalogue[[#This Row],[Référence]],3)","v":"WEI"},{"$f":"VLOOKUP(Catalogue[[#This Row],[Alias]],#REF!,2,FALSE)","v":{"$error":"#REF!"}}]
["WEI48141130037",null,"JOINT CAPOT BRULEUR WTC45/60-A",null,null,{"$f":"LEFT(Catalogue[[#This Row],[Référence]],3)","v":"WEI"},{"$f":"VLOOKUP(Catalogue[[#This Row],[Alias]],#REF!,2,FALSE)","v":{"$error":"#REF!"}}]
["WEI48141130347",null,"TUBE DE FUMEES DN100XDN80  PP",null,null,{"$f":"LEFT(Catalogue[[#This Row],[Référence]],3)","v":"WEI"},{"$f":"VLOOKUP(Catalogue[[#This Row],[Alias]],#REF!,2,FALSE)","v":{"$error":"#REF!"}}]
["WEI48141130357",null,"ELECTRODE D ALLUMAGE WTC45/60",null,null,{"$f":"LEFT(Catalogue[[#This Row],[Référence]],3)","v":"WEI"},{"$f":"VLOOKUP(Catalogue[[#This Row],[Alias]],#REF!,2,FALSE)","v":{"$error":"#REF!"}}]
["WEI48141130657",null,"JOINT CAPOT BRULEUR",null,null,{"$f":"LEFT(Catalogue[[#This Row],[Référence]],3)","v":"WEI"},{"$f":"VLOOKUP(Catalogue[[#This Row],[Alias]],#REF!,2,FALSE)","v":{"$error":"#REF!"}}]
["WEI48141140067",null,"INTERRUPTEUR MANQUE D EAU 1/4  WTC45/60",null,null,{"$f":"LEFT(Catalogue[[#This Row],[Référence]],3)","v":"WEI"},{"$f":"VLOOKUP(Catalogue[[#This Row],[Alias]],#REF!,2,FALSE)","v":{"$error":"#REF!"}}]
["WEI48160100172",null,"SET D ENTRETIEN WTC 60-A",null,null,{"$f":"LEFT(Catalogue[[#This Row],[Référence]],3)","v":"WEI"},{"$f":"VLOOKUP(Catalogue[[#This Row],[Alias]],#REF!,2,FALSE)","v":{"$error":"#REF!"}}]
["WEI48160130062",null,"VENTILATEUR WTC60-A AVEC JOINTS",null,null,{"$f":"LEFT(Catalogue[[#This Row],[Référence]],3)","v":"WEI"},{"$f":"VLOOKUP(Catalogue[[#This Row],[Alias]],#REF!,2,FALSE)","v":{"$error":"#REF!"}}]
["WEI48160130222",null,"BLOC GAZ WTC 60-A",null,null,{"$f":"LEFT(Catalogue[[#This Row],[Référence]],3)","v":"WEI"},{"$f":"VLOOKUP(Catalogue[[#This Row],[Alias]],#REF!,2,FALSE)","v":{"$error":"#REF!"}}]
["WEI48210140052",null,"PRESSOSTAT MANQUE D EAU 1/4 +CONNECTION",null,null,{"$f":"LEFT(Catalogue[[#This Row],[Référence]],3)","v":"WEI"},{"$f":"VLOOKUP(Catalogue[[#This Row],[Alias]],#REF!,2,FALSE)","v":{"$error":"#REF!"}}]
["WEI48300000392",null,"SET DE NETTOYAGE ECHANGEUR WTC-B",null,null,{"$f":"LEFT(Catalogue[[#This Row],[Référence]],3)","v":"WEI"},{"$f":"VLOOKUP(Catalogue[[#This Row],[Alias]],#REF!,2,FALSE)","v":{"$error":"#REF!"}}]
["WEI48300000432",null,"APPAREIL D AMBIANCE WEM-RG2 2 1 WTC-G-B",null,null,{"$f":"LEFT(Catalogue[[#This Row],[Référence]],3)","v":"WEI"},{"$f":"VLOOKUP(Catalogue[[#This Row],[Alias]],#REF!,2,FALSE)","v":{"$error":"#REF!"}}]
["WEI48300001727",null,"GROUPE DE SECURITE 3/4    10 BAR",null,null,{"$f":"LEFT(Catalogue[[#This Row],[Référence]],3)","v":"WEI"},{"$f":"VLOOKUP(Catalogue[[#This Row],[Alias]],#REF!,2,FALSE)","v":{"$error":"#REF!"}}]
["WEI48301130057",null,"JOINT BRULEUR WTC-GW 15-B",null,null,{"$f":"LEFT(Catalogue[[#This Row],[Référence]],3)","v":"WEI"},{"$f":"VLOOKUP(Catalogue[[#This Row],[Alias]],#REF!,2,FALSE)","v":{"$error":"#REF!"}}]
["WEI48301130152",null,"ELECTRODE D ALLUMAGE WTC-GW 15-25-B",null,null,{"$f":"LEFT(Catalogue[[#This Row],[Référence]],3)","v":"WEI"},{"$f":"VLOOKUP(Catalogue[[#This Row],[Alias]],#REF!,2,FALSE)","v":{"$error":"#REF!"}}]
["WEI48301130162",null,"ELECTRODE D IONISATION WTC-GW 15-25-B",null,null,{"$f":"LEFT(Catalogue[[#This Row],[Référence]],3)","v":"WEI"},{"$f":"VLOOKUP(Catalogue[[#This Row],[Alias]],#REF!,2,FALSE)","v":{"$error":"#REF!"}}]
["WEI48360140032",null,"CIRCULATEUR UPM3L 25-75 130 PWM",null,null,{"$f":"LEFT(Catalogue[[#This Row],[Référence]],3)","v":"WEI"},{"$f":"VLOOKUP(Catalogue[[#This Row],[Alias]],#REF!,2,FALSE)","v":{"$error":"#REF!"}}]
["WEI491046",null,"2 FLEX 1M MONARC W3/8 12",null,null,{"$f":"LEFT(Catalogue[[#This Row],[Référence]],3)","v":"WEI"},{"$f":"VLOOKUP(Catalogue[[#This Row],[Alias]],#REF!,2,FALSE)","v":{"$error":"#REF!"}}]
["WEI491123",null,"2 FLEX 1M MONAR WL 3/8 10",null,null,{"$f":"LEFT(Catalogue[[#This Row],[Référence]],3)","v":"WEI"},{"$f":"VLOOKUP(Catalogue[[#This Row],[Alias]],#REF!,2,FALSE)","v":{"$error":"#REF!"}}]
["WEI491125",null,"2 FLEX.0.90M 3/8X10/100",null,null,{"$f":"LEFT(Catalogue[[#This Row],[Référence]],3)","v":"WEI"},{"$f":"VLOOKUP(Catalogue[[#This Row],[Alias]],#REF!,2,FALSE)","v":{"$error":"#REF!"}}]
["WEI491126",null,"FLEXIBLE FIOUL DN 4 1200 MM. D UN COTE",null,null,{"$f":"LEFT(Catalogue[[#This Row],[Référence]],3)","v":"WEI"},{"$f":"VLOOKUP(Catalogue[[#This Row],[Alias]],#REF!,2,FALSE)","v":{"$error":"#REF!"}}]
["WEI491128",null,"FLEXIBLE DN 8  1200LG REPERE NOIR",null,null,{"$f":"LEFT(Catalogue[[#This Row],[Référence]],3)","v":"WEI"},{"$f":"VLOOKUP(Catalogue[[#This Row],[Alias]],#REF!,2,FALSE)","v":{"$error":"#REF!"}}]
["WEI491131",null,"FLEXIBLE FIOUL DN4  1200LG RENFORCE",null,null,{"$f":"LEFT(Catalogue[[#This Row],[Référence]],3)","v":"WEI"},{"$f":"VLOOKUP(Catalogue[[#This Row],[Alias]],#REF!,2,FALSE)","v":{"$error":"#REF!"}}]
["WEI493370",null,"FILTRE V500 SI G3/8 MONO-TUBE",null,null,{"$f":"LEFT(Catalogue[[#This Row],[Référence]],3)","v":"WEI"},{"$f":"VLOOKUP(Catalogue[[#This Row],[Alias]],#REF!,2,FALSE)","v":{"$error":"#REF!"}}]
["WEI493388",null,"FILTRE Z 500 ST G3/8 BI-TUBES",null,null,{"$f":"LEFT(Catalogue[[#This Row],[Référence]],3)","v":"WEI"},{"$f":"VLOOKUP(Catalogue[[#This Row],[Alias]],#REF!,2,FALSE)","v":{"$error":"#REF!"}}]
["WEI499225",null,"CORDON ETANCHEITE 15MM FIBRES CERAMIQUES",null,null,{"$f":"LEFT(Catalogue[[#This Row],[Référence]],3)","v":"WEI"},{"$f":"VLOOKUP(Catalogue[[#This Row],[Alias]],#REF!,2,FALSE)","v":{"$error":"#REF!"}}]
["WEI50300103102",null,"RESISTANCE DE CARTER 59/70W",null,null,{"$f":"LEFT(Catalogue[[#This Row],[Référence]],3)","v":"WEI"},{"$f":"VLOOKUP(Catalogue[[#This Row],[Alias]],#REF!,2,FALSE)","v":{"$error":"#REF!"}}]
["WEI50300112152",null,"SONDE DE SECURITE ANTIGEL",null,null,{"$f":"LEFT(Catalogue[[#This Row],[Référence]],3)","v":"WEI"},{"$f":"VLOOKUP(Catalogue[[#This Row],[Alias]],#REF!,2,FALSE)","v":{"$error":"#REF!"}}]
["WEI50300200602",null,"BOITIER DE CONTROLE P.WWP L 10/13 230V",null,null,{"$f":"LEFT(Catalogue[[#This Row],[Référence]],3)","v":"WEI"},{"$f":"VLOOKUP(Catalogue[[#This Row],[Alias]],#REF!,2,FALSE)","v":{"$error":"#REF!"}}]
["WEI50900000412",null,"SONDE DE DOIGT DE GANT F 3128",null,null,{"$f":"LEFT(Catalogue[[#This Row],[Référence]],3)","v":"WEI"},{"$f":"VLOOKUP(Catalogue[[#This Row],[Alias]],#REF!,2,FALSE)","v":{"$error":"#REF!"}}]
["WEI50900100702",null,"POTENCE EQUIPEE POUR SUPPORT MURALE VASE",null,null,{"$f":"LEFT(Catalogue[[#This Row],[Référence]],3)","v":"WEI"},{"$f":"VLOOKUP(Catalogue[[#This Row],[Alias]],#REF!,2,FALSE)","v":{"$error":"#REF!"}}]
["WEI50900102372",null,"POTENCE EQUIPEE POUR SUPPORT MURALE VASE",null,null,{"$f":"LEFT(Catalogue[[#This Row],[Référence]],3)","v":"WEI"},{"$f":"VLOOKUP(Catalogue[[#This Row],[Alias]],#REF!,2,FALSE)","v":{"$error":"#REF!"}}]
["WEI51141002152",null,"VENTILATEUR RADIAL DIAM 225MM WWP T 300",null,null,{"$f":"LEFT(Catalogue[[#This Row],[Référence]],3)","v":"WEI"},{"$f":"VLOOKUP(Catalogue[[#This Row],[Alias]],#REF!,2,FALSE)","v":{"$error":"#REF!"}}]
["WEI51150160417",null,"SONDE TEMPERATURE EVAPORATEUR WWP L 7",null,null,{"$f":"LEFT(Catalogue[[#This Row],[Référence]],3)","v":"WEI"},{"$f":"VLOOKUP(Catalogue[[#This Row],[Alias]],#REF!,2,FALSE)","v":{"$error":"#REF!"}}]
["WEI51150202282",null,"CIRCULATEUR AVEC CONNECTEUR COMPLET CIRC",null,null,{"$f":"LEFT(Catalogue[[#This Row],[Référence]],3)","v":"WEI"},{"$f":"VLOOKUP(Catalogue[[#This Row],[Alias]],#REF!,2,FALSE)","v":{"$error":"#REF!"}}]
["WEI51150202292",null,"CIRCULATEUR AVEC PRISE COMPLET (CHARGE E",null,null,{"$f":"LEFT(Catalogue[[#This Row],[Référence]],3)","v":"WEI"},{"$f":"VLOOKUP(Catalogue[[#This Row],[Alias]],#REF!,2,FALSE)","v":{"$error":"#REF!"}}]
["WEI600206",null,"COFFRET DE SECURITE LOA24.171 220-240V",null,null,{"$f":"LEFT(Catalogue[[#This Row],[Référence]],3)","v":"WEI"},{"$f":"VLOOKUP(Catalogue[[#This Row],[Alias]],#REF!,2,FALSE)","v":{"$error":"#REF!"}}]
["WEI600215",null,"COFF DE SECURITE LGB22 330A270 220-240V",null,null,{"$f":"LEFT(Catalogue[[#This Row],[Référence]],3)","v":"WEI"},{"$f":"VLOOKUP(Catalogue[[#This Row],[Alias]],#REF!,2,FALSE)","v":{"$error":"#REF!"}}]
["WEI600216",null,"COFFRET DE SECURITE LOA26 171 220-240V",null,null,{"$f":"LEFT(Catalogue[[#This Row],[Référence]],3)","v":"WEI"},{"$f":"VLOOKUP(Catalogue[[#This Row],[Alias]],#REF!,2,FALSE)","v":{"$error":"#REF!"}}]
["WEI600241",null,"COFF DE SECURITE MOD 23 MMI962 1",null,null,{"$f":"LEFT(Catalogue[[#This Row],[Référence]],3)","v":"WEI"},{"$f":"VLOOKUP(Catalogue[[#This Row],[Alias]],#REF!,2,FALSE)","v":{"$error":"#REF!"}}]
["WEI600255",null,"COFFRET DE SECURITE LFL 1 333 220-240V",null,null,{"$f":"LEFT(Catalogue[[#This Row],[Référence]],3)","v":"WEI"},{"$f":"VLOOKUP(Catalogue[[#This Row],[Alias]],#REF!,2,FALSE)","v":{"$error":"#REF!"}}]
["WEI600259",null,"COFFRET DE SECURITE LMO24 111 C2 230V",null,null,{"$f":"LEFT(Catalogue[[#This Row],[Référence]],3)","v":"WEI"},{"$f":"VLOOKUP(Catalogue[[#This Row],[Alias]],#REF!,2,FALSE)","v":{"$error":"#REF!"}}]
["WEI600305",null,"MANAGER W-FM20 VERSION 1.10 230V",null,null,{"$f":"LEFT(Catalogue[[#This Row],[Référence]],3)","v":"WEI"},{"$f":"VLOOKUP(Catalogue[[#This Row],[Alias]],#REF!,2,FALSE)","v":{"$error":"#REF!"}}]
["WEI600307",null,"MANAGER DE COMB. W-FM05 230V 50-60HZ",null,null,{"$f":"LEFT(Catalogue[[#This Row],[Référence]],3)","v":"WEI"},{"$f":"VLOOKUP(Catalogue[[#This Row],[Alias]],#REF!,2,FALSE)","v":{"$error":"#REF!"}}]
["WEI600333",null,"MANAGER DE COMB. W-FM05 230V 50-60HZ FC 01/2016",null,null,{"$f":"LEFT(Catalogue[[#This Row],[Référence]],3)","v":"WEI"},{"$f":"VLOOKUP(Catalogue[[#This Row],[Alias]],#REF!,2,FALSE)","v":{"$error":"#REF!"}}]
["WEI600470",null,"MANAGER DE COMBUSTION W-FM 05 - 230V",null,null,{"$f":"LEFT(Catalogue[[#This Row],[Référence]],3)","v":"WEI"},{"$f":"VLOOKUP(Catalogue[[#This Row],[Alias]],#REF!,2,FALSE)","v":{"$error":"#REF!"}}]
["WEI600472",null,"MANAGER DE COMB  W-FM 05 - 113 230V PB",null,null,{"$f":"LEFT(Catalogue[[#This Row],[Référence]],3)","v":"WEI"},{"$f":"VLOOKUP(Catalogue[[#This Row],[Alias]],#REF!,2,FALSE)","v":{"$error":"#REF!"}}]
["WEI600475",null,"MANAGER W-FM10 -230V SERIE C",null,null,{"$f":"LEFT(Catalogue[[#This Row],[Référence]],3)","v":"WEI"},{"$f":"VLOOKUP(Catalogue[[#This Row],[Alias]],#REF!,2,FALSE)","v":{"$error":"#REF!"}}]
["WEI600517",null,"SOCLE LAL2 AGM 410490500",null,null,{"$f":"LEFT(Catalogue[[#This Row],[Référence]],3)","v":"WEI"},{"$f":"VLOOKUP(Catalogue[[#This Row],[Alias]],#REF!,2,FALSE)","v":{"$error":"#REF!"}}]
["WEI600532",null,"SOCLE BOITE AGK86.10A27 WG30A",null,null,{"$f":"LEFT(Catalogue[[#This Row],[Référence]],3)","v":"WEI"},{"$f":"VLOOKUP(Catalogue[[#This Row],[Alias]],#REF!,2,FALSE)","v":{"$error":"#REF!"}}]
["WEI600536",null,"CONSOLE AGK85.30 DEVERROUILLAGE DISTANCE",null,null,{"$f":"LEFT(Catalogue[[#This Row],[Référence]],3)","v":"WEI"},{"$f":"VLOOKUP(Catalogue[[#This Row],[Alias]],#REF!,2,FALSE)","v":{"$error":"#REF!"}}]
["WEI600588",null,"CELLULE DE FLAMME QRC1 A1 1623 C27",null,null,{"$f":"LEFT(Catalogue[[#This Row],[Référence]],3)","v":"WEI"},{"$f":"VLOOKUP(Catalogue[[#This Row],[Alias]],#REF!,2,FALSE)","v":{"$error":"#REF!"}}]
["WEI601737",null,"POMPE ALEV30C 9300 4P0500R 4-18 BAR",null,null,{"$f":"LEFT(Catalogue[[#This Row],[Référence]],3)","v":"WEI"},{"$f":"VLOOKUP(Catalogue[[#This Row],[Alias]],#REF!,2,FALSE)","v":{"$error":"#REF!"}}]
["WEI601751",null,"POMPE AJV 6 CE 1013 4P",null,null,{"$f":"LEFT(Catalogue[[#This Row],[Référence]],3)","v":"WEI"},{"$f":"VLOOKUP(Catalogue[[#This Row],[Alias]],#REF!,2,FALSE)","v":{"$error":"#REF!"}}]
["WEI601752",null,"POMPE AEV 47 C 1700 6M/FTUAE47C SUNTEC",null,null,{"$f":"LEFT(Catalogue[[#This Row],[Référence]],3)","v":"WEI"},{"$f":"VLOOKUP(Catalogue[[#This Row],[Alias]],#REF!,2,FALSE)","v":{"$error":"#REF!"}}]
["WEI601857",null,"POMPE ALEV30C 9300 4P0700R 4-18 BAR",null,null,{"$f":"LEFT(Catalogue[[#This Row],[Référence]],3)","v":"WEI"},{"$f":"VLOOKUP(Catalogue[[#This Row],[Alias]],#REF!,2,FALSE)","v":{"$error":"#REF!"}}]
["WEI602130",null,{"$f":"VLOOKUP(A45570,I:J,2,0)","v":"GICLEUR SR 80 80 0.40 GPH DANFOSS"},null,null,{"$f":"LEFT(Catalogue[[#This Row],[Référence]],3)","v":"WEI"},{"$f":"VLOOKUP(Catalogue[[#This Row],[Alias]],#REF!,2,FALSE)","v":{"$error":"#REF!"}}]
["WEI602225",null,"GICLEUR PLP 60 9.50 GPH MONARCH",null,null,{"$f":"LEFT(Catalogue[[#This Row],[Référence]],3)","v":"WEI"},{"$f":"VLOOKUP(Catalogue[[#This Row],[Alias]],#REF!,2,FALSE)","v":{"$error":"#REF!"}}]
["WEI603096",null,"TRANSFO WG 603096 MONARCH",null,null,{"$f":"LEFT(Catalogue[[#This Row],[Référence]],3)","v":"WEI"},{"$f":"VLOOKUP(Catalogue[[#This Row],[Alias]],#REF!,2,FALSE)","v":{"$error":"#REF!"}}]
["WEI603126",null,"TRANSFO 603126 MONARCH",null,null,{"$f":"LEFT(Catalogue[[#This Row],[Référence]],3)","v":"WEI"},{"$f":"VLOOKUP(Catalogue[[#This Row],[Alias]],#REF!,2,FALSE)","v":{"$error":"#REF!"}}]
["WEI603189",null,"ALLUMEUR ZAG 1 220-240V 50-60HZ 10VA",null,null,{"$f":"LEFT(Catalogue[[#This Row],[Référence]],3)","v":"WEI"},{"$f":"VLOOKUP(Catalogue[[#This Row],[Alias]],#REF!,2,FALSE)","v":{"$error":"#REF!"}}]
["WEI603194",null,"ALLUMEUR TYPE W-ZG01/V 230V BERU 100VA  FC 01/2016",null,null,{"$f":"LEFT(Catalogue[[#This Row],[Référence]],3)","v":"WEI"},{"$f":"VLOOKUP(Catalogue[[#This Row],[Alias]],#REF!,2,FALSE)","v":{"$error":"#REF!"}}]
["WEI603221",null,"TRANSFO D ALLUMAGE SUR BRULEUR WL5",null,null,{"$f":"LEFT(Catalogue[[#This Row],[Référence]],3)","v":"WEI"},{"$f":"VLOOKUP(Catalogue[[#This Row],[Alias]],#REF!,2,FALSE)","v":{"$error":"#REF!"}}]
["WEI603229",null,"ALLUMEUR TYPE W-ZG01V 230V 100VA",null,null,{"$f":"LEFT(Catalogue[[#This Row],[Référence]],3)","v":"WEI"},{"$f":"VLOOKUP(Catalogue[[#This Row],[Alias]],#REF!,2,FALSE)","v":{"$error":"#REF!"}}]
["WEI604429",null,"BOBINE SUNTEC 185-254V 50-60HZ",null,null,{"$f":"LEFT(Catalogue[[#This Row],[Référence]],3)","v":"WEI"},{"$f":"VLOOKUP(Catalogue[[#This Row],[Alias]],#REF!,2,FALSE)","v":{"$error":"#REF!"}}]
["WEI604434",null,"BOBINE PR POMPE UNI 185-254V 50-60HZ",null,null,{"$f":"LEFT(Catalogue[[#This Row],[Référence]],3)","v":"WEI"},{"$f":"VLOOKUP(Catalogue[[#This Row],[Alias]],#REF!,2,FALSE)","v":{"$error":"#REF!"}}]
["WEI604495",null,"BOBINE T80 SUNTEC 220-240V 50-60HZ T80",null,null,{"$f":"LEFT(Catalogue[[#This Row],[Référence]],3)","v":"WEI"},{"$f":"VLOOKUP(Catalogue[[#This Row],[Alias]],#REF!,2,FALSE)","v":{"$error":"#REF!"}}]
["WEI605206",null,"ELECTROVANNE DMV-D  512/11  220-240V",null,null,{"$f":"LEFT(Catalogue[[#This Row],[Référence]],3)","v":"WEI"},{"$f":"VLOOKUP(Catalogue[[#This Row],[Alias]],#REF!,2,FALSE)","v":{"$error":"#REF!"}}]
["WEI605237",null,"FREIN HYDRAULIQUE H12/6 SET",null,null,{"$f":"LEFT(Catalogue[[#This Row],[Référence]],3)","v":"WEI"},{"$f":"VLOOKUP(Catalogue[[#This Row],[Alias]],#REF!,2,FALSE)","v":{"$error":"#REF!"}}]
["WEI605255",null,"BOBINE W-MF 507 NDEG  032P 230V",null,null,{"$f":"LEFT(Catalogue[[#This Row],[Référence]],3)","v":"WEI"},{"$f":"VLOOKUP(Catalogue[[#This Row],[Alias]],#REF!,2,FALSE)","v":{"$error":"#REF!"}}]
["WEI605320",null,"MULTIBLOC W-MF SE507 230V GW50",null,null,{"$f":"LEFT(Catalogue[[#This Row],[Référence]],3)","v":"WEI"},{"$f":"VLOOKUP(Catalogue[[#This Row],[Alias]],#REF!,2,FALSE)","v":{"$error":"#REF!"}}]
["WEI605564",null,"MULTIBLOC VR 4605C 1169 B",null,null,{"$f":"LEFT(Catalogue[[#This Row],[Référence]],3)","v":"WEI"},{"$f":"VLOOKUP(Catalogue[[#This Row],[Alias]],#REF!,2,FALSE)","v":{"$error":"#REF!"}}]
["WEI605861",null,"BOBINE NR 1100  220V 50-60HZ",null,null,{"$f":"LEFT(Catalogue[[#This Row],[Référence]],3)","v":"WEI"},{"$f":"VLOOKUP(Catalogue[[#This Row],[Alias]],#REF!,2,FALSE)","v":{"$error":"#REF!"}}]
["WEI605941",null,"BOBINE 507/11  NDEG  1111 220-240V AC",null,null,{"$f":"LEFT(Catalogue[[#This Row],[Référence]],3)","v":"WEI"},{"$f":"VLOOKUP(Catalogue[[#This Row],[Alias]],#REF!,2,FALSE)","v":{"$error":"#REF!"}}]
["WEI605981",null,"MULTIBLOC MBLE 405 B01 RP 1/2 220/230V FC 26/09/16",null,null,{"$f":"LEFT(Catalogue[[#This Row],[Référence]],3)","v":"WEI"},{"$f":"VLOOKUP(Catalogue[[#This Row],[Alias]],#REF!,2,FALSE)","v":{"$error":"#REF!"}}]
["WEI612200",null,"GICLEUR ST 60 0.50 GPH STEINEN",null,null,{"$f":"LEFT(Catalogue[[#This Row],[Référence]],3)","v":"WEI"},{"$f":"VLOOKUP(Catalogue[[#This Row],[Alias]],#REF!,2,FALSE)","v":{"$error":"#REF!"}}]
["WEI612202",null,"GICLEUR ST 60 0.55 GPH STEINEN",null,null,{"$f":"LEFT(Catalogue[[#This Row],[Référence]],3)","v":"WEI"},{"$f":"VLOOKUP(Catalogue[[#This Row],[Alias]],#REF!,2,FALSE)","v":{"$error":"#REF!"}}]
["WEI612400",null,"GICLEUR ST 80 0.50 GPH STEINEN",null,null,{"$f":"LEFT(Catalogue[[#This Row],[Référence]],3)","v":"WEI"},{"$f":"VLOOKUP(Catalogue[[#This Row],[Alias]],#REF!,2,FALSE)","v":{"$error":"#REF!"}}]
["WEI612509",null,"GICLEUR H60 0.60GPH STEINEN",null,null,{"$f":"LEFT(Catalogue[[#This Row],[Référence]],3)","v":"WEI"},{"$f":"VLOOKUP(Catalogue[[#This Row],[Alias]],#REF!,2,FALSE)","v":{"$error":"#REF!"}}]
["WEI651026",null,"SERVO-MOTEUR W-ST01/4  220-230V  50HZ",null,null,{"$f":"LEFT(Catalogue[[#This Row],[Référence]],3)","v":"WEI"},{"$f":"VLOOKUP(Catalogue[[#This Row],[Alias]],#REF!,2,FALSE)","v":{"$error":"#REF!"}}]
["WEI651047",null,"SERVO-MOTEUR W-ST02/1 220-240V 50HZ",null,null,{"$f":"LEFT(Catalogue[[#This Row],[Référence]],3)","v":"WEI"},{"$f":"VLOOKUP(Catalogue[[#This Row],[Alias]],#REF!,2,FALSE)","v":{"$error":"#REF!"}}]
["WEI651049",null,"SERVO-MOTEUR W-ST02/2 220-240V 50HZ",null,null,{"$f":"LEFT(Catalogue[[#This Row],[Référence]],3)","v":"WEI"},{"$f":"VLOOKUP(Catalogue[[#This Row],[Alias]],#REF!,2,FALSE)","v":{"$error":"#REF!"}}]
["WEI651101",null,"MOTEUR PAS A PAS GAZ STE 4.5 24V",null,null,{"$f":"LEFT(Catalogue[[#This Row],[Référence]],3)","v":"WEI"},{"$f":"VLOOKUP(Catalogue[[#This Row],[Alias]],#REF!,2,FALSE)","v":{"$error":"#REF!"}}]
["WEI651102",null,"MOTEUR PAS A PAS STD 4.5 24V",null,null,{"$f":"LEFT(Catalogue[[#This Row],[Référence]],3)","v":"WEI"},{"$f":"VLOOKUP(Catalogue[[#This Row],[Alias]],#REF!,2,FALSE)","v":{"$error":"#REF!"}}]
["WEI651103",null,"MOTEUR PAS A PAS AIR STE 4.5 24V",null,null,{"$f":"LEFT(Catalogue[[#This Row],[Référence]],3)","v":"WEI"},{"$f":"VLOOKUP(Catalogue[[#This Row],[Alias]],#REF!,2,FALSE)","v":{"$error":"#REF!"}}]
["WEI652093",null,"MOTEUR ECK02/H-2/1 230V 50HZ WG5 40W",null,null,{"$f":"LEFT(Catalogue[[#This Row],[Référence]],3)","v":"WEI"},{"$f":"VLOOKUP(Catalogue[[#This Row],[Alias]],#REF!,2,FALSE)","v":{"$error":"#REF!"}}]
["WEI652252",null,"VENTILATEUR AVEC MOTEUR EC. POUR WTC-OB",null,null,{"$f":"LEFT(Catalogue[[#This Row],[Référence]],3)","v":"WEI"},{"$f":"VLOOKUP(Catalogue[[#This Row],[Alias]],#REF!,2,FALSE)","v":{"$error":"#REF!"}}]
["WEI660232",null,"SONDEQAZ 21 5260/320",null,null,{"$f":"LEFT(Catalogue[[#This Row],[Référence]],3)","v":"WEI"},{"$f":"VLOOKUP(Catalogue[[#This Row],[Alias]],#REF!,2,FALSE)","v":{"$error":"#REF!"}}]
["WEI660305",null,"MODULE DE BASE WRS-CPU B3",null,null,{"$f":"LEFT(Catalogue[[#This Row],[Référence]],3)","v":"WEI"},{"$f":"VLOOKUP(Catalogue[[#This Row],[Alias]],#REF!,2,FALSE)","v":{"$error":"#REF!"}}]
["WEI660311",null,"REGULATION DIGITALE RVA53/WRD0 2 230V 50",null,null,{"$f":"LEFT(Catalogue[[#This Row],[Référence]],3)","v":"WEI"},{"$f":"VLOOKUP(Catalogue[[#This Row],[Alias]],#REF!,2,FALSE)","v":{"$error":"#REF!"}}]
["WEI660362",null,"SONDE D AMBIANCE THETA RSC",null,null,{"$f":"LEFT(Catalogue[[#This Row],[Référence]],3)","v":"WEI"},{"$f":"VLOOKUP(Catalogue[[#This Row],[Alias]],#REF!,2,FALSE)","v":{"$error":"#REF!"}}]
["WEI662032",null,"DEGAZEUR G3/8 SANS VANNE D ISOLEMENT",null,null,{"$f":"LEFT(Catalogue[[#This Row],[Référence]],3)","v":"WEI"},{"$f":"VLOOKUP(Catalogue[[#This Row],[Alias]],#REF!,2,FALSE)","v":{"$error":"#REF!"}}]
["WEI662038",null,"VANNE DE SECURITE 10 BAR COMPLETE",null,null,{"$f":"LEFT(Catalogue[[#This Row],[Référence]],3)","v":"WEI"},{"$f":"VLOOKUP(Catalogue[[#This Row],[Alias]],#REF!,2,FALSE)","v":{"$error":"#REF!"}}]
["WEI669125",null,"ANODE MAGNESIUM WAT140 M8X26X800",null,null,{"$f":"LEFT(Catalogue[[#This Row],[Référence]],3)","v":"WEI"},{"$f":"VLOOKUP(Catalogue[[#This Row],[Alias]],#REF!,2,FALSE)","v":{"$error":"#REF!"}}]
["WEI691343",null,"PRESSOSTAT LGW 3 A1 1.2 MBAR",null,null,{"$f":"LEFT(Catalogue[[#This Row],[Référence]],3)","v":"WEI"},{"$f":"VLOOKUP(Catalogue[[#This Row],[Alias]],#REF!,2,FALSE)","v":{"$error":"#REF!"}}]
["WEI691370",null,"PRESSOSTAT LGW  10 A2  1  -  10 MBAR",null,null,{"$f":"LEFT(Catalogue[[#This Row],[Référence]],3)","v":"WEI"},{"$f":"VLOOKUP(Catalogue[[#This Row],[Alias]],#REF!,2,FALSE)","v":{"$error":"#REF!"}}]
["WEI691371",null,"PRESSOSTAT LGW  50 A2 2.5 - 50 MBAR AL",null,null,{"$f":"LEFT(Catalogue[[#This Row],[Référence]],3)","v":"WEI"},{"$f":"VLOOKUP(Catalogue[[#This Row],[Alias]],#REF!,2,FALSE)","v":{"$error":"#REF!"}}]
["WEI691378",null,"PRESSOSTAT GW  50 A5/1 5.0 - 50 MBAR",null,null,{"$f":"LEFT(Catalogue[[#This Row],[Référence]],3)","v":"WEI"},{"$f":"VLOOKUP(Catalogue[[#This Row],[Alias]],#REF!,2,FALSE)","v":{"$error":"#REF!"}}]
["WEI691379",null,"PRESSOSTAT GW  150 A5/1  10 - 150 MBAR",null,null,{"$f":"LEFT(Catalogue[[#This Row],[Référence]],3)","v":"WEI"},{"$f":"VLOOKUP(Catalogue[[#This Row],[Alias]],#REF!,2,FALSE)","v":{"$error":"#REF!"}}]
["WEI691393",null,"CAPTEUR DE PRESSION D AIR TYPE 400  0-10",null,null,{"$f":"LEFT(Catalogue[[#This Row],[Référence]],3)","v":"WEI"},{"$f":"VLOOKUP(Catalogue[[#This Row],[Alias]],#REF!,2,FALSE)","v":{"$error":"#REF!"}}]
["WEI713028",null,"CONDENSATEUR MP 4 UF 400V.AC.DB HPFMS",null,null,{"$f":"LEFT(Catalogue[[#This Row],[Référence]],3)","v":"WEI"},{"$f":"VLOOKUP(Catalogue[[#This Row],[Alias]],#REF!,2,FALSE)","v":{"$error":"#REF!"}}]
["WEI713119",null,"CONDENSATEUR MAB-MKP4 MICRO F/500/332 420V AC",null,null,{"$f":"LEFT(Catalogue[[#This Row],[Référence]],3)","v":"WEI"},{"$f":"VLOOKUP(Catalogue[[#This Row],[Alias]],#REF!,2,FALSE)","v":{"$error":"#REF!"}}]
["WEI713121",null,"CONDENSATEUR MABMKP 12 MICRO F/500I/2 420V AC",null,null,{"$f":"LEFT(Catalogue[[#This Row],[Référence]],3)","v":"WEI"},{"$f":"VLOOKUP(Catalogue[[#This Row],[Alias]],#REF!,2,FALSE)","v":{"$error":"#REF!"}}]
["WEI713124",null,"CONDENSATEUR MAB-MKP 5 MICRO F/500II/332 420V",null,null,{"$f":"LEFT(Catalogue[[#This Row],[Référence]],3)","v":"WEI"},{"$f":"VLOOKUP(Catalogue[[#This Row],[Alias]],#REF!,2,FALSE)","v":{"$error":"#REF!"}}]
["WEI713472",null,"CONDENSATEUR 3.0 UF 420 V. AC. DB",null,null,{"$f":"LEFT(Catalogue[[#This Row],[Référence]],3)","v":"WEI"},{"$f":"VLOOKUP(Catalogue[[#This Row],[Alias]],#REF!,2,FALSE)","v":{"$error":"#REF!"}}]
["WEI713473",null,"CONDENSATEUR 4.0 UF  420V. AC. DB",null,null,{"$f":"LEFT(Catalogue[[#This Row],[Référence]],3)","v":"WEI"},{"$f":"VLOOKUP(Catalogue[[#This Row],[Alias]],#REF!,2,FALSE)","v":{"$error":"#REF!"}}]
["WEI716500",null,"FICHE MALE D ALLUMAGE GR 1-70. WM",null,null,{"$f":"LEFT(Catalogue[[#This Row],[Référence]],3)","v":"WEI"},{"$f":"VLOOKUP(Catalogue[[#This Row],[Alias]],#REF!,2,FALSE)","v":{"$error":"#REF!"}}]
["WEI716501",null,"PRISE FEMELLE GR  1-70. BRULEURS WM",null,null,{"$f":"LEFT(Catalogue[[#This Row],[Référence]],3)","v":"WEI"},{"$f":"VLOOKUP(Catalogue[[#This Row],[Alias]],#REF!,2,FALSE)","v":{"$error":"#REF!"}}]
["WEI743105",null,"CABLE H07RN-F4G1.5 SW DIN57282",null,null,{"$f":"LEFT(Catalogue[[#This Row],[Référence]],3)","v":"WEI"},{"$f":"VLOOKUP(Catalogue[[#This Row],[Alias]],#REF!,2,FALSE)","v":{"$error":"#REF!"}}]
["WEI743202",null,"CABLE ALL SILICONE FZL 2G 1.0 ROUGE/BRUN",null,null,{"$f":"LEFT(Catalogue[[#This Row],[Référence]],3)","v":"WEI"},{"$f":"VLOOKUP(Catalogue[[#This Row],[Alias]],#REF!,2,FALSE)","v":{"$error":"#REF!"}}]
["WEI952450101",null,"JEU DE RACCORDS UNION 33/42 POUR CIRCULA",null,null,{"$f":"LEFT(Catalogue[[#This Row],[Référence]],3)","v":"WEI"},{"$f":"VLOOKUP(Catalogue[[#This Row],[Alias]],#REF!,2,FALSE)","v":{"$error":"#REF!"}}]
["WEI952496214",null,"PLAQUE DE FACADE WL/WG5. DIMENS.",null,null,{"$f":"LEFT(Catalogue[[#This Row],[Référence]],3)","v":"WEI"},{"$f":"VLOOKUP(Catalogue[[#This Row],[Alias]],#REF!,2,FALSE)","v":{"$error":"#REF!"}}]
["WEI952601614",null,"CIRCULATEUR WILO-STAR Z NOVA (ROW) 230V",null,null,{"$f":"LEFT(Catalogue[[#This Row],[Référence]],3)","v":"WEI"},{"$f":"VLOOKUP(Catalogue[[#This Row],[Alias]],#REF!,2,FALSE)","v":{"$error":"#REF!"}}]
["WEI952601615",null,"CIRCULATEUR WILO YONOS PICO 25/1-4",null,null,{"$f":"LEFT(Catalogue[[#This Row],[Référence]],3)","v":"WEI"},{"$f":"VLOOKUP(Catalogue[[#This Row],[Alias]],#REF!,2,FALSE)","v":{"$error":"#REF!"}}]
["WEI952601616",null,"CIRCULATEUR WILO YONOS PICO 25/1-6",null,null,{"$f":"LEFT(Catalogue[[#This Row],[Référence]],3)","v":"WEI"},{"$f":"VLOOKUP(Catalogue[[#This Row],[Alias]],#REF!,2,FALSE)","v":{"$error":"#REF!"}}]
["WEI952690623",null,"THERMOSTAT RAK-TB.1400S-M. 45-60DEG C",null,null,{"$f":"LEFT(Catalogue[[#This Row],[Référence]],3)","v":"WEI"},{"$f":"VLOOKUP(Catalogue[[#This Row],[Alias]],#REF!,2,FALSE)","v":{"$error":"#REF!"}}]
["WEI952699113",null,"VASE D EXPANSION CHAUFFAGE ZILMET 18 L",null,null,{"$f":"LEFT(Catalogue[[#This Row],[Référence]],3)","v":"WEI"},{"$f":"VLOOKUP(Catalogue[[#This Row],[Alias]],#REF!,2,FALSE)","v":{"$error":"#REF!"}}]
["WEI952699114",null,"VASE D EXPANSION CHAUFFAGE ZILMET 25 L",null,null,{"$f":"LEFT(Catalogue[[#This Row],[Référence]],3)","v":"WEI"},{"$f":"VLOOKUP(Catalogue[[#This Row],[Alias]],#REF!,2,FALSE)","v":{"$error":"#REF!"}}]
["WEI952702003",null,"LC1D25P7",null,null,{"$f":"LEFT(Catalogue[[#This Row],[Référence]],3)","v":"WEI"},{"$f":"VLOOKUP(Catalogue[[#This Row],[Alias]],#REF!,2,FALSE)","v":{"$error":"#REF!"}}]
["WEIAGK8522A27",null,"CONSOLE LANDIS AGK85.22A27",null,null,{"$f":"LEFT(Catalogue[[#This Row],[Référence]],3)","v":"WEI"},{"$f":"VLOOKUP(Catalogue[[#This Row],[Alias]],#REF!,2,FALSE)","v":{"$error":"#REF!"}}]
["WIL110586696",null,{"$f":"VLOOKUP(A45634,I:J,2,0)","v":"CALE F 1 PN 10/16"},null,null,{"$f":"LEFT(Catalogue[[#This Row],[Référence]],3)","v":"WIL"},{"$f":"VLOOKUP(Catalogue[[#This Row],[Alias]],#REF!,2,FALSE)","v":{"$error":"#REF!"}}]
["WIL110623098",null,"CALE F 3 PN 6",null,null,{"$f":"LEFT(Catalogue[[#This Row],[Référence]],3)","v":"WIL"},{"$f":"VLOOKUP(Catalogue[[#This Row],[Alias]],#REF!,2,FALSE)","v":{"$error":"#REF!"}}]
["WIL110623190",null,"CALE F 3 PN 10/16",null,null,{"$f":"LEFT(Catalogue[[#This Row],[Référence]],3)","v":"WIL"},{"$f":"VLOOKUP(Catalogue[[#This Row],[Alias]],#REF!,2,FALSE)","v":{"$error":"#REF!"}}]
["WIL110624390",null,"CALE F 11 PN 10/16",null,null,{"$f":"LEFT(Catalogue[[#This Row],[Référence]],3)","v":"WIL"},{"$f":"VLOOKUP(Catalogue[[#This Row],[Alias]],#REF!,2,FALSE)","v":{"$error":"#REF!"}}]
["WIL112047195",null,"RACCORD UNION Z25",null,null,{"$f":"LEFT(Catalogue[[#This Row],[Référence]],3)","v":"WIL"},{"$f":"VLOOKUP(Catalogue[[#This Row],[Alias]],#REF!,2,FALSE)","v":{"$error":"#REF!"}}]
["WIL2040622",null,"CIRCULATEUR NSB-S25-20      2040622",null,null,{"$f":"LEFT(Catalogue[[#This Row],[Référence]],3)","v":"WIL"},{"$f":"VLOOKUP(Catalogue[[#This Row],[Alias]],#REF!,2,FALSE)","v":{"$error":"#REF!"}}]
["WIL2045521",null,"TOP-Z 25/6 Mono PN6/10",null,null,{"$f":"LEFT(Catalogue[[#This Row],[Référence]],3)","v":"WIL"},{"$f":"VLOOKUP(Catalogue[[#This Row],[Alias]],#REF!,2,FALSE)","v":{"$error":"#REF!"}}]
["WIL2045522",null,"TOP-Z 25/6 Tri PN6/10",null,null,{"$f":"LEFT(Catalogue[[#This Row],[Référence]],3)","v":"WIL"},{"$f":"VLOOKUP(Catalogue[[#This Row],[Alias]],#REF!,2,FALSE)","v":{"$error":"#REF!"}}]
["WIL2046468",null,"VANNE A FLOTTEUR G3/4 AUK - R",null,null,{"$f":"LEFT(Catalogue[[#This Row],[Référence]],3)","v":"WIL"},{"$f":"VLOOKUP(Catalogue[[#This Row],[Alias]],#REF!,2,FALSE)","v":{"$error":"#REF!"}}]
["WIL2046637",null,"TOP-Z 40/7 RG MONO",null,null,{"$f":"LEFT(Catalogue[[#This Row],[Référence]],3)","v":"WIL"},{"$f":"VLOOKUP(Catalogue[[#This Row],[Alias]],#REF!,2,FALSE)","v":{"$error":"#REF!"}}]
["WIL2046667",null,"MOTEUR WILO TOP S/SD 40/10     002046667_CA105_331191",null,null,{"$f":"LEFT(Catalogue[[#This Row],[Référence]],3)","v":"WIL"},{"$f":"VLOOKUP(Catalogue[[#This Row],[Alias]],#REF!,2,FALSE)","v":{"$error":"#REF!"}}]
["WIL2046696",null,"BLOC-MOTEUR TOP-D 65 TRI       002046696_CA105_890156",null,null,{"$f":"LEFT(Catalogue[[#This Row],[Référence]],3)","v":"WIL"},{"$f":"VLOOKUP(Catalogue[[#This Row],[Alias]],#REF!,2,FALSE)","v":{"$error":"#REF!"}}]
["WIL2048336",null,"MOTEUR WILO TOP-S 30-7 MONO 2048336_CA105_380457",null,null,{"$f":"LEFT(Catalogue[[#This Row],[Référence]],3)","v":"WIL"},{"$f":"VLOOKUP(Catalogue[[#This Row],[Alias]],#REF!,2,FALSE)","v":{"$error":"#REF!"}}]
["WIL2048340",null,"TOP-Z 30/7 RG MONO",null,null,{"$f":"LEFT(Catalogue[[#This Row],[Référence]],3)","v":"WIL"},{"$f":"VLOOKUP(Catalogue[[#This Row],[Alias]],#REF!,2,FALSE)","v":{"$error":"#REF!"}}]
["WIL2058520",null,"MODULE IF SIRIUX EXT ARRET  2058520",null,null,{"$f":"LEFT(Catalogue[[#This Row],[Référence]],3)","v":"WIL"},{"$f":"VLOOKUP(Catalogue[[#This Row],[Alias]],#REF!,2,FALSE)","v":{"$error":"#REF!"}}]
["WIL2059857",null,"TOP Z 30/10 RG MONO 2059857",null,null,{"$f":"LEFT(Catalogue[[#This Row],[Référence]],3)","v":"WIL"},{"$f":"VLOOKUP(Catalogue[[#This Row],[Alias]],#REF!,2,FALSE)","v":{"$error":"#REF!"}}]
["WIL2084867",null,"MODULE IF Ext Off / SBM Strato",null,null,{"$f":"LEFT(Catalogue[[#This Row],[Référence]],3)","v":"WIL"},{"$f":"VLOOKUP(Catalogue[[#This Row],[Alias]],#REF!,2,FALSE)","v":{"$error":"#REF!"}}]
["WIL2090448",null,"Stratos 25/1-8",null,null,{"$f":"LEFT(Catalogue[[#This Row],[Référence]],3)","v":"WIL"},{"$f":"VLOOKUP(Catalogue[[#This Row],[Alias]],#REF!,2,FALSE)","v":{"$error":"#REF!"}}]
["WIL2090449",null,"Stratos 30/1-6",null,null,{"$f":"LEFT(Catalogue[[#This Row],[Référence]],3)","v":"WIL"},{"$f":"VLOOKUP(Catalogue[[#This Row],[Alias]],#REF!,2,FALSE)","v":{"$error":"#REF!"}}]
["WIL2090450",null,"STRATOS 30/1-8",null,null,{"$f":"LEFT(Catalogue[[#This Row],[Référence]],3)","v":"WIL"},{"$f":"VLOOKUP(Catalogue[[#This Row],[Alias]],#REF!,2,FALSE)","v":{"$error":"#REF!"}}]
["WIL2090451",null,"Stratos 30/1-12",null,null,{"$f":"LEFT(Catalogue[[#This Row],[Référence]],3)","v":"WIL"},{"$f":"VLOOKUP(Catalogue[[#This Row],[Alias]],#REF!,2,FALSE)","v":{"$error":"#REF!"}}]
["WIL2091532",null,"CIRC SIRIUX 50-60   MONO    2091532",null,null,{"$f":"LEFT(Catalogue[[#This Row],[Référence]],3)","v":"WIL"},{"$f":"VLOOKUP(Catalogue[[#This Row],[Alias]],#REF!,2,FALSE)","v":{"$error":"#REF!"}}]
["WIL2091535",null,"CIRC SIRIUX 65-80   MONO    2091535",null,null,{"$f":"LEFT(Catalogue[[#This Row],[Référence]],3)","v":"WIL"},{"$f":"VLOOKUP(Catalogue[[#This Row],[Alias]],#REF!,2,FALSE)","v":{"$error":"#REF!"}}]
["WIL2091539",null,"CIRC SIRIUX-D 40-60 MONO    2091539",null,null,{"$f":"LEFT(Catalogue[[#This Row],[Référence]],3)","v":"WIL"},{"$f":"VLOOKUP(Catalogue[[#This Row],[Alias]],#REF!,2,FALSE)","v":{"$error":"#REF!"}}]
["WIL2092253",null,"BLOC MOT+HYD SIRIUX32-60    2092253",null,null,{"$f":"LEFT(Catalogue[[#This Row],[Référence]],3)","v":"WIL"},{"$f":"VLOOKUP(Catalogue[[#This Row],[Alias]],#REF!,2,FALSE)","v":{"$error":"#REF!"}}]
["WIL2092255",null,"BM SIRIUX 32-70    2092255",null,null,{"$f":"LEFT(Catalogue[[#This Row],[Référence]],3)","v":"WIL"},{"$f":"VLOOKUP(Catalogue[[#This Row],[Alias]],#REF!,2,FALSE)","v":{"$error":"#REF!"}}]
["WIL2103615",null,"Stratos 25/1-10",null,null,{"$f":"LEFT(Catalogue[[#This Row],[Référence]],3)","v":"WIL"},{"$f":"VLOOKUP(Catalogue[[#This Row],[Alias]],#REF!,2,FALSE)","v":{"$error":"#REF!"}}]
["WIL2105373",null,"MODULE IF OFF/SBM/DP SIRIUX 2105373",null,null,{"$f":"LEFT(Catalogue[[#This Row],[Référence]],3)","v":"WIL"},{"$f":"VLOOKUP(Catalogue[[#This Row],[Alias]],#REF!,2,FALSE)","v":{"$error":"#REF!"}}]
["WIL2105579",null,"CONTRE BRIDE KIT DN40 PN10",null,null,{"$f":"LEFT(Catalogue[[#This Row],[Référence]],3)","v":"WIL"},{"$f":"VLOOKUP(Catalogue[[#This Row],[Alias]],#REF!,2,FALSE)","v":{"$error":"#REF!"}}]
["WIL2120639",null,"Yonos MAXO 25/0,5-7 PN10",null,null,{"$f":"LEFT(Catalogue[[#This Row],[Référence]],3)","v":"WIL"},{"$f":"VLOOKUP(Catalogue[[#This Row],[Alias]],#REF!,2,FALSE)","v":{"$error":"#REF!"}}]
["WIL2120640",null,"Yonos MAXO 25/0,5-10 PN10",null,null,{"$f":"LEFT(Catalogue[[#This Row],[Référence]],3)","v":"WIL"},{"$f":"VLOOKUP(Catalogue[[#This Row],[Alias]],#REF!,2,FALSE)","v":{"$error":"#REF!"}}]
["WIL2120642",null,"Yonos MAXO 30/0,5-7 PN10",null,null,{"$f":"LEFT(Catalogue[[#This Row],[Référence]],3)","v":"WIL"},{"$f":"VLOOKUP(Catalogue[[#This Row],[Alias]],#REF!,2,FALSE)","v":{"$error":"#REF!"}}]
["WIL2120643",null,"Yonos MAXO 30/0,5-10 PN10",null,null,{"$f":"LEFT(Catalogue[[#This Row],[Référence]],3)","v":"WIL"},{"$f":"VLOOKUP(Catalogue[[#This Row],[Alias]],#REF!,2,FALSE)","v":{"$error":"#REF!"}}]
["WIL2120644",null,"Yonos MAXO 30/0,5-12 PN10",null,null,{"$f":"LEFT(Catalogue[[#This Row],[Référence]],3)","v":"WIL"},{"$f":"VLOOKUP(Catalogue[[#This Row],[Alias]],#REF!,2,FALSE)","v":{"$error":"#REF!"}}]
["WIL2120645",null,"Yonos MAXO 40/0,5-4 PN6/10",null,null,{"$f":"LEFT(Catalogue[[#This Row],[Référence]],3)","v":"WIL"},{"$f":"VLOOKUP(Catalogue[[#This Row],[Alias]],#REF!,2,FALSE)","v":{"$error":"#REF!"}}]
["WIL2120646",null,"Yonos MAXO 40/0,5-8 PN6/10",null,null,{"$f":"LEFT(Catalogue[[#This Row],[Référence]],3)","v":"WIL"},{"$f":"VLOOKUP(Catalogue[[#This Row],[Alias]],#REF!,2,FALSE)","v":{"$error":"#REF!"}}]
["WIL2120647",null,"Yonos MAXO 40/0,5-12 PN6/10",null,null,{"$f":"LEFT(Catalogue[[#This Row],[Référence]],3)","v":"WIL"},{"$f":"VLOOKUP(Catalogue[[#This Row],[Alias]],#REF!,2,FALSE)","v":{"$error":"#REF!"}}]
["WIL2120649",null,"Yonos MAXO 50/0,5-8 PN6/10",null,null,{"$f":"LEFT(Catalogue[[#This Row],[Référence]],3)","v":"WIL"},{"$f":"VLOOKUP(Catalogue[[#This Row],[Alias]],#REF!,2,FALSE)","v":{"$error":"#REF!"}}]
["WIL2120650",null,"Yonos MAXO 50/0,5-9 PN6/10",null,null,{"$f":"LEFT(Catalogue[[#This Row],[Référence]],3)","v":"WIL"},{"$f":"VLOOKUP(Catalogue[[#This Row],[Alias]],#REF!,2,FALSE)","v":{"$error":"#REF!"}}]
["WIL2120651",null,"Yonos MAXO 50/0,5-12 PN6/10",null,null,{"$f":"LEFT(Catalogue[[#This Row],[Référence]],3)","v":"WIL"},{"$f":"VLOOKUP(Catalogue[[#This Row],[Alias]],#REF!,2,FALSE)","v":{"$error":"#REF!"}}]
["WIL2120654",null,"Yonos MAXO 65/0,5-12",null,null,{"$f":"LEFT(Catalogue[[#This Row],[Référence]],3)","v":"WIL"},{"$f":"VLOOKUP(Catalogue[[#This Row],[Alias]],#REF!,2,FALSE)","v":{"$error":"#REF!"}}]
["WIL2120663",null,"Yonos MAXO-D 32/0,5-12 PN6/10",null,null,{"$f":"LEFT(Catalogue[[#This Row],[Référence]],3)","v":"WIL"},{"$f":"VLOOKUP(Catalogue[[#This Row],[Alias]],#REF!,2,FALSE)","v":{"$error":"#REF!"}}]
["WIL2120664",null,"Yonos MAXO-D 40/0,5-8 PN6/10",null,null,{"$f":"LEFT(Catalogue[[#This Row],[Référence]],3)","v":"WIL"},{"$f":"VLOOKUP(Catalogue[[#This Row],[Alias]],#REF!,2,FALSE)","v":{"$error":"#REF!"}}]
["WIL2120665",null,"Yonos MAXO-D 40/0,5-12 PN6/10",null,null,{"$f":"LEFT(Catalogue[[#This Row],[Référence]],3)","v":"WIL"},{"$f":"VLOOKUP(Catalogue[[#This Row],[Alias]],#REF!,2,FALSE)","v":{"$error":"#REF!"}}]
["WIL2120667",null,"Yonos MAXO-D 50/0,5-9 PN6/10",null,null,{"$f":"LEFT(Catalogue[[#This Row],[Référence]],3)","v":"WIL"},{"$f":"VLOOKUP(Catalogue[[#This Row],[Alias]],#REF!,2,FALSE)","v":{"$error":"#REF!"}}]
["WIL2120668",null,"Yonos MAXO-D 50/0,5-12 PN6/10",null,null,{"$f":"LEFT(Catalogue[[#This Row],[Référence]],3)","v":"WIL"},{"$f":"VLOOKUP(Catalogue[[#This Row],[Alias]],#REF!,2,FALSE)","v":{"$error":"#REF!"}}]
["WIL2120669",null,"Yonos MAXO-D 50/0,5-16",null,null,{"$f":"LEFT(Catalogue[[#This Row],[Référence]],3)","v":"WIL"},{"$f":"VLOOKUP(Catalogue[[#This Row],[Alias]],#REF!,2,FALSE)","v":{"$error":"#REF!"}}]
["WIL2120681",null,"CIRC PRIUX MASTER 32-55/180 2120681",null,null,{"$f":"LEFT(Catalogue[[#This Row],[Référence]],3)","v":"WIL"},{"$f":"VLOOKUP(Catalogue[[#This Row],[Alias]],#REF!,2,FALSE)","v":{"$error":"#REF!"}}]
["WIL2120682",null,"CIRC PRIUX MASTER 32-65/180 2120682",null,null,{"$f":"LEFT(Catalogue[[#This Row],[Référence]],3)","v":"WIL"},{"$f":"VLOOKUP(Catalogue[[#This Row],[Alias]],#REF!,2,FALSE)","v":{"$error":"#REF!"}}]
["WIL2120683",null,"CIRC PRIUX MASTER 32-90/180 2120683",null,null,{"$f":"LEFT(Catalogue[[#This Row],[Référence]],3)","v":"WIL"},{"$f":"VLOOKUP(Catalogue[[#This Row],[Alias]],#REF!,2,FALSE)","v":{"$error":"#REF!"}}]
["WIL2120690",null,"CIRC PRIUX MASTER 50-80/280 2120690",null,null,{"$f":"LEFT(Catalogue[[#This Row],[Référence]],3)","v":"WIL"},{"$f":"VLOOKUP(Catalogue[[#This Row],[Alias]],#REF!,2,FALSE)","v":{"$error":"#REF!"}}]
["WIL2120692",null,"PRIUX MASTER 65-80   2120692",null,null,{"$f":"LEFT(Catalogue[[#This Row],[Référence]],3)","v":"WIL"},{"$f":"VLOOKUP(Catalogue[[#This Row],[Alias]],#REF!,2,FALSE)","v":{"$error":"#REF!"}}]
["WIL2120700",null,"CIRC PRIUX MAST D 40-60/220 2120700",null,null,{"$f":"LEFT(Catalogue[[#This Row],[Référence]],3)","v":"WIL"},{"$f":"VLOOKUP(Catalogue[[#This Row],[Alias]],#REF!,2,FALSE)","v":{"$error":"#REF!"}}]
["WIL2120701",null,"CIRC PRIUX MAST D 40-80/250 2120701",null,null,{"$f":"LEFT(Catalogue[[#This Row],[Référence]],3)","v":"WIL"},{"$f":"VLOOKUP(Catalogue[[#This Row],[Alias]],#REF!,2,FALSE)","v":{"$error":"#REF!"}}]
["WIL2133591",null,"STATOR 80W 1~230V KIT",null,null,{"$f":"LEFT(Catalogue[[#This Row],[Référence]],3)","v":"WIL"},{"$f":"VLOOKUP(Catalogue[[#This Row],[Alias]],#REF!,2,FALSE)","v":{"$error":"#REF!"}}]
["WIL2133611",null,"CARTOUCHE 32-50 1~/3~",null,null,{"$f":"LEFT(Catalogue[[#This Row],[Référence]],3)","v":"WIL"},{"$f":"VLOOKUP(Catalogue[[#This Row],[Alias]],#REF!,2,FALSE)","v":{"$error":"#REF!"}}]
["WIL2146988",null,"BM PRIUX MASTER 32-55",null,null,{"$f":"LEFT(Catalogue[[#This Row],[Référence]],3)","v":"WIL"},{"$f":"VLOOKUP(Catalogue[[#This Row],[Alias]],#REF!,2,FALSE)","v":{"$error":"#REF!"}}]
["WIL2160585",null,"YONOS MAXO-D 32/0,5-7",null,null,{"$f":"LEFT(Catalogue[[#This Row],[Référence]],3)","v":"WIL"},{"$f":"VLOOKUP(Catalogue[[#This Row],[Alias]],#REF!,2,FALSE)","v":{"$error":"#REF!"}}]
["WIL2164568",null,"STRATOS MAXO 25/05-6 PN10",null,null,{"$f":"LEFT(Catalogue[[#This Row],[Référence]],3)","v":"WIL"},{"$f":"VLOOKUP(Catalogue[[#This Row],[Alias]],#REF!,2,FALSE)","v":{"$error":"#REF!"}}]
["WIL2164569",null,"STRATOS MAXO 25/05-8 PN10",null,null,{"$f":"LEFT(Catalogue[[#This Row],[Référence]],3)","v":"WIL"},{"$f":"VLOOKUP(Catalogue[[#This Row],[Alias]],#REF!,2,FALSE)","v":{"$error":"#REF!"}}]
["WIL2164571",null,"STRATOS MAXO 25/05-12 PN10",null,null,{"$f":"LEFT(Catalogue[[#This Row],[Référence]],3)","v":"WIL"},{"$f":"VLOOKUP(Catalogue[[#This Row],[Alias]],#REF!,2,FALSE)","v":{"$error":"#REF!"}}]
["WIL2164646",null,"STRATOS MAXO-D 30/05-10 PN10",null,null,{"$f":"LEFT(Catalogue[[#This Row],[Référence]],3)","v":"WIL"},{"$f":"VLOOKUP(Catalogue[[#This Row],[Alias]],#REF!,2,FALSE)","v":{"$error":"#REF!"}}]
["WIL2175512",null,"TOP-Z30/10 DM PN6/10 RG",null,null,{"$f":"LEFT(Catalogue[[#This Row],[Référence]],3)","v":"WIL"},{"$f":"VLOOKUP(Catalogue[[#This Row],[Alias]],#REF!,2,FALSE)","v":{"$error":"#REF!"}}]
["WIL2175516",null,"TOP-Z40/7 DM PN6/10 RG",null,null,{"$f":"LEFT(Catalogue[[#This Row],[Référence]],3)","v":"WIL"},{"$f":"VLOOKUP(Catalogue[[#This Row],[Alias]],#REF!,2,FALSE)","v":{"$error":"#REF!"}}]
["WIL2175522",null,{"$f":"VLOOKUP(A45698,I:J,2,0)","v":"TOP-Z50/7 DM PN6/10 RG"},null,null,{"$f":"LEFT(Catalogue[[#This Row],[Référence]],3)","v":"WIL"},{"$f":"VLOOKUP(Catalogue[[#This Row],[Alias]],#REF!,2,FALSE)","v":{"$error":"#REF!"}}]
["WIL2193422",null,"IMMERSION SENSOR PT 1000 AA",null,null,{"$f":"LEFT(Catalogue[[#This Row],[Référence]],3)","v":"WIL"},{"$f":"VLOOKUP(Catalogue[[#This Row],[Alias]],#REF!,2,FALSE)","v":{"$error":"#REF!"}}]
["WIL2210108",null,"WILO CONNECT MODULE YONOS MAXO",null,null,{"$f":"LEFT(Catalogue[[#This Row],[Référence]],3)","v":"WIL"},{"$f":"VLOOKUP(Catalogue[[#This Row],[Alias]],#REF!,2,FALSE)","v":{"$error":"#REF!"}}]
["WIL2217899",null,"CIRCULATEUR INTELLIGENT WILO-STRATOS MAXO 30/0 5-8-R7 A ROTOR NOYE ET ADAPTATION ELECTRONIQUE DES PERFORMANCES HYDRAULIQUES POUR LES SYSTEMES DE CHAUFFAGE  CLIMATISATION. SECURITE INTEGREE PAR ARRET DU CIRCULATEUR A DEBIT NUL. (2217899)",null,null,{"$f":"LEFT(Catalogue[[#This Row],[Référence]],3)","v":"WIL"},{"$f":"VLOOKUP(Catalogue[[#This Row],[Alias]],#REF!,2,FALSE)","v":{"$error":"#REF!"}}]
["WIL2217904",null,"WILO-STRATOS MAXO-D 30/0,5-10-R7 (2217904)",null,null,{"$f":"LEFT(Catalogue[[#This Row],[Référence]],3)","v":"WIL"},{"$f":"VLOOKUP(Catalogue[[#This Row],[Alias]],#REF!,2,FALSE)","v":{"$error":"#REF!"}}]
["WIL2217973",null,"CIRCULATEUR DOUBLE INTELLIGENT WILO-STRATOS MAXO D 32/0,5-8-R7 À ROTOR NOYÉ AVEC MOTEUR EC ET ADAPTATION ÉLECTRONIQUE RÉF. 2217973",null,null,{"$f":"LEFT(Catalogue[[#This Row],[Référence]],3)","v":"WIL"},{"$f":"VLOOKUP(Catalogue[[#This Row],[Alias]],#REF!,2,FALSE)","v":{"$error":"#REF!"}}]
["WIL2217976",null,"STRATOS MAXO-D 40/0,5-12 PN6",null,null,{"$f":"LEFT(Catalogue[[#This Row],[Référence]],3)","v":"WIL"},{"$f":"VLOOKUP(Catalogue[[#This Row],[Alias]],#REF!,2,FALSE)","v":{"$error":"#REF!"}}]
["WIL2217977",null,"STRATOS MAXO-D 40/0,5-16 PN6",null,null,{"$f":"LEFT(Catalogue[[#This Row],[Référence]],3)","v":"WIL"},{"$f":"VLOOKUP(Catalogue[[#This Row],[Alias]],#REF!,2,FALSE)","v":{"$error":"#REF!"}}]
["WIL2217981",null,"STRATOS MAXO-D 50/0,5-12 PN6",null,null,{"$f":"LEFT(Catalogue[[#This Row],[Référence]],3)","v":"WIL"},{"$f":"VLOOKUP(Catalogue[[#This Row],[Alias]],#REF!,2,FALSE)","v":{"$error":"#REF!"}}]
["WIL2549379",null,"HWJ-202-EM-2",null,null,{"$f":"LEFT(Catalogue[[#This Row],[Référence]],3)","v":"WIL"},{"$f":"VLOOKUP(Catalogue[[#This Row],[Alias]],#REF!,2,FALSE)","v":{"$error":"#REF!"}}]
["WIL2549384",null,"HWJ-204-EM-50/2",null,null,{"$f":"LEFT(Catalogue[[#This Row],[Référence]],3)","v":"WIL"},{"$f":"VLOOKUP(Catalogue[[#This Row],[Alias]],#REF!,2,FALSE)","v":{"$error":"#REF!"}}]
["WIL2808507",null,"POLY-WILO 25/6 M 120 A 245MM       102PW256M",null,null,{"$f":"LEFT(Catalogue[[#This Row],[Référence]],3)","v":"WIL"},{"$f":"VLOOKUP(Catalogue[[#This Row],[Alias]],#REF!,2,FALSE)","v":{"$error":"#REF!"}}]
["WIL30921020M",null,"BRIDE TELESCOPIQUE M76 30921020M",null,null,{"$f":"LEFT(Catalogue[[#This Row],[Référence]],3)","v":"WIL"},{"$f":"VLOOKUP(Catalogue[[#This Row],[Alias]],#REF!,2,FALSE)","v":{"$error":"#REF!"}}]
["WIL30921021W",null,"BRIDE M126 P/CIRC ZOOM    30921021W",null,null,{"$f":"LEFT(Catalogue[[#This Row],[Référence]],3)","v":"WIL"},{"$f":"VLOOKUP(Catalogue[[#This Row],[Alias]],#REF!,2,FALSE)","v":{"$error":"#REF!"}}]
["WIL4027980",null,"CIRCULATEUR NSB15-15B         SALMSON 4027980",null,null,{"$f":"LEFT(Catalogue[[#This Row],[Référence]],3)","v":"WIL"},{"$f":"VLOOKUP(Catalogue[[#This Row],[Alias]],#REF!,2,FALSE)","v":{"$error":"#REF!"}}]
["WIL4028111",null,"Star-Z 20/1",null,null,{"$f":"LEFT(Catalogue[[#This Row],[Référence]],3)","v":"WIL"},{"$f":"VLOOKUP(Catalogue[[#This Row],[Alias]],#REF!,2,FALSE)","v":{"$error":"#REF!"}}]
["WIL4029062",null,"Star-Z 25/2 Mono",null,null,{"$f":"LEFT(Catalogue[[#This Row],[Référence]],3)","v":"WIL"},{"$f":"VLOOKUP(Catalogue[[#This Row],[Alias]],#REF!,2,FALSE)","v":{"$error":"#REF!"}}]
["WIL4047573",null,"Star-Z 25/6 Mono",null,null,{"$f":"LEFT(Catalogue[[#This Row],[Référence]],3)","v":"WIL"},{"$f":"VLOOKUP(Catalogue[[#This Row],[Alias]],#REF!,2,FALSE)","v":{"$error":"#REF!"}}]
["WIL4048412",null,"TM 32/7",null,null,{"$f":"LEFT(Catalogue[[#This Row],[Référence]],3)","v":"WIL"},{"$f":"VLOOKUP(Catalogue[[#This Row],[Alias]],#REF!,2,FALSE)","v":{"$error":"#REF!"}}]
["WIL4048413",null,"TMW 32/8",null,null,{"$f":"LEFT(Catalogue[[#This Row],[Référence]],3)","v":"WIL"},{"$f":"VLOOKUP(Catalogue[[#This Row],[Alias]],#REF!,2,FALSE)","v":{"$error":"#REF!"}}]
["WIL4051849",null,"BLOC MOT+HY BMDSB33-25B     4051849",null,null,{"$f":"LEFT(Catalogue[[#This Row],[Référence]],3)","v":"WIL"},{"$f":"VLOOKUP(Catalogue[[#This Row],[Alias]],#REF!,2,FALSE)","v":{"$error":"#REF!"}}]
["WIL4061389",null,"ENS.BLOC MOTEUR+TURBINE",null,null,{"$f":"LEFT(Catalogue[[#This Row],[Référence]],3)","v":"WIL"},{"$f":"VLOOKUP(Catalogue[[#This Row],[Alias]],#REF!,2,FALSE)","v":{"$error":"#REF!"}}]
["WIL4081198",null,"STAR-Z 20/5-3",null,null,{"$f":"LEFT(Catalogue[[#This Row],[Référence]],3)","v":"WIL"},{"$f":"VLOOKUP(Catalogue[[#This Row],[Alias]],#REF!,2,FALSE)","v":{"$error":"#REF!"}}]
["WIL4090294",null,"IP-Z 25/6 TRI",null,null,{"$f":"LEFT(Catalogue[[#This Row],[Référence]],3)","v":"WIL"},{"$f":"VLOOKUP(Catalogue[[#This Row],[Alias]],#REF!,2,FALSE)","v":{"$error":"#REF!"}}]
["WIL4090295",null,"IP-Z 25/6 MONO",null,null,{"$f":"LEFT(Catalogue[[#This Row],[Référence]],3)","v":"WIL"},{"$f":"VLOOKUP(Catalogue[[#This Row],[Alias]],#REF!,2,FALSE)","v":{"$error":"#REF!"}}]
["WIL4092741",null,"POCH-RU-2634-G11/2>G1",null,null,{"$f":"LEFT(Catalogue[[#This Row],[Référence]],3)","v":"WIL"},{"$f":"VLOOKUP(Catalogue[[#This Row],[Alias]],#REF!,2,FALSE)","v":{"$error":"#REF!"}}]
["WIL4092742",null,"POCH-RU-3342-G2>G11/4-FTM-CH",null,null,{"$f":"LEFT(Catalogue[[#This Row],[Référence]],3)","v":"WIL"},{"$f":"VLOOKUP(Catalogue[[#This Row],[Alias]],#REF!,2,FALSE)","v":{"$error":"#REF!"}}]
["WIL4092743",null,"RACCORD UNION Z15 /  Z20",null,null,{"$f":"LEFT(Catalogue[[#This Row],[Référence]],3)","v":"WIL"},{"$f":"VLOOKUP(Catalogue[[#This Row],[Alias]],#REF!,2,FALSE)","v":{"$error":"#REF!"}}]
["WIL4104727",null,"POCH-RU-2634-G1 1/2>G1 -SAL-FTM-CHR-JAU  4104727",null,null,{"$f":"LEFT(Catalogue[[#This Row],[Référence]],3)","v":"WIL"},{"$f":"VLOOKUP(Catalogue[[#This Row],[Alias]],#REF!,2,FALSE)","v":{"$error":"#REF!"}}]
["WIL4104728",null,"POCH CHAUF RU-3342 (X2)     4104728",null,null,{"$f":"LEFT(Catalogue[[#This Row],[Référence]],3)","v":"WIL"},{"$f":"VLOOKUP(Catalogue[[#This Row],[Alias]],#REF!,2,FALSE)","v":{"$error":"#REF!"}}]
["WIL4104737",null,"RAC POCHE RU-2634 (15)      4104737",null,null,{"$f":"LEFT(Catalogue[[#This Row],[Référence]],3)","v":"WIL"},{"$f":"VLOOKUP(Catalogue[[#This Row],[Alias]],#REF!,2,FALSE)","v":{"$error":"#REF!"}}]
["WIL4110919",null,"Star-Z 15 TT ACS",null,null,{"$f":"LEFT(Catalogue[[#This Row],[Référence]],3)","v":"WIL"},{"$f":"VLOOKUP(Catalogue[[#This Row],[Alias]],#REF!,2,FALSE)","v":{"$error":"#REF!"}}]
["WIL4111288",null,"STAR ZD25/6",null,null,{"$f":"LEFT(Catalogue[[#This Row],[Référence]],3)","v":"WIL"},{"$f":"VLOOKUP(Catalogue[[#This Row],[Alias]],#REF!,2,FALSE)","v":{"$error":"#REF!"}}]
["WIL4132460",null,"Stratos PICO 15/1-4",null,null,{"$f":"LEFT(Catalogue[[#This Row],[Référence]],3)","v":"WIL"},{"$f":"VLOOKUP(Catalogue[[#This Row],[Alias]],#REF!,2,FALSE)","v":{"$error":"#REF!"}}]
["WIL4132760",null,"Star-Z 15 NOVA",null,null,{"$f":"LEFT(Catalogue[[#This Row],[Référence]],3)","v":"WIL"},{"$f":"VLOOKUP(Catalogue[[#This Row],[Alias]],#REF!,2,FALSE)","v":{"$error":"#REF!"}}]
["WIL4132761",null,"Star-Z NOVA - A",null,null,{"$f":"LEFT(Catalogue[[#This Row],[Référence]],3)","v":"WIL"},{"$f":"VLOOKUP(Catalogue[[#This Row],[Alias]],#REF!,2,FALSE)","v":{"$error":"#REF!"}}]
["WIL4147294",null,"CIRC SIRIUX HOME 40-25 MONO 4147294",null,null,{"$f":"LEFT(Catalogue[[#This Row],[Référence]],3)","v":"WIL"},{"$f":"VLOOKUP(Catalogue[[#This Row],[Alias]],#REF!,2,FALSE)","v":{"$error":"#REF!"}}]
["WIL4147297",null,"CIRC SIRIUX HOME 60-32 MONO 4147297",null,null,{"$f":"LEFT(Catalogue[[#This Row],[Référence]],3)","v":"WIL"},{"$f":"VLOOKUP(Catalogue[[#This Row],[Alias]],#REF!,2,FALSE)","v":{"$error":"#REF!"}}]
["WIL4147298",null,"CIRC SIRIUX HOME 40-15 MONO 4147298",null,null,{"$f":"LEFT(Catalogue[[#This Row],[Référence]],3)","v":"WIL"},{"$f":"VLOOKUP(Catalogue[[#This Row],[Alias]],#REF!,2,FALSE)","v":{"$error":"#REF!"}}]
["WIL4147300",null,"CIRC SIRIUX HOME 40-25 MONO 4147300",null,null,{"$f":"LEFT(Catalogue[[#This Row],[Référence]],3)","v":"WIL"},{"$f":"VLOOKUP(Catalogue[[#This Row],[Alias]],#REF!,2,FALSE)","v":{"$error":"#REF!"}}]
["WIL4147301",null,"CIRC SIRIUX HOME 60-25 MONO 4147301",null,null,{"$f":"LEFT(Catalogue[[#This Row],[Référence]],3)","v":"WIL"},{"$f":"VLOOKUP(Catalogue[[#This Row],[Alias]],#REF!,2,FALSE)","v":{"$error":"#REF!"}}]
["WIL4164025",null,"Yonos PICO 25/1-4",null,null,{"$f":"LEFT(Catalogue[[#This Row],[Référence]],3)","v":"WIL"},{"$f":"VLOOKUP(Catalogue[[#This Row],[Alias]],#REF!,2,FALSE)","v":{"$error":"#REF!"}}]
["WIL4168528",null,"CALE RATTRAPAGE DN40X30     4168528",null,null,{"$f":"LEFT(Catalogue[[#This Row],[Référence]],3)","v":"WIL"},{"$f":"VLOOKUP(Catalogue[[#This Row],[Alias]],#REF!,2,FALSE)","v":{"$error":"#REF!"}}]
["WIL4170234",null,"CIRC PRIUX HOME 60-32/180   4170234",null,null,{"$f":"LEFT(Catalogue[[#This Row],[Référence]],3)","v":"WIL"},{"$f":"VLOOKUP(Catalogue[[#This Row],[Alias]],#REF!,2,FALSE)","v":{"$error":"#REF!"}}]
["WIL4170236",null,"CIRC PRIUX HOME 40-25/130   4170236",null,null,{"$f":"LEFT(Catalogue[[#This Row],[Référence]],3)","v":"WIL"},{"$f":"VLOOKUP(Catalogue[[#This Row],[Alias]],#REF!,2,FALSE)","v":{"$error":"#REF!"}}]
["WIL4176458",null,"PRIUX HOME ZOOM 60 130 A 225MM  4176458",null,null,{"$f":"LEFT(Catalogue[[#This Row],[Référence]],3)","v":"WIL"},{"$f":"VLOOKUP(Catalogue[[#This Row],[Alias]],#REF!,2,FALSE)","v":{"$error":"#REF!"}}]
["WIL4177663",null,"BRIDE M76 130-175MM",null,null,{"$f":"LEFT(Catalogue[[#This Row],[Référence]],3)","v":"WIL"},{"$f":"VLOOKUP(Catalogue[[#This Row],[Alias]],#REF!,2,FALSE)","v":{"$error":"#REF!"}}]
["WIL4177664",null,"BRIDE M76 180-225MM",null,null,{"$f":"LEFT(Catalogue[[#This Row],[Référence]],3)","v":"WIL"},{"$f":"VLOOKUP(Catalogue[[#This Row],[Alias]],#REF!,2,FALSE)","v":{"$error":"#REF!"}}]
["WIL4177689",null,"PRIUX HOME B 60-40/120 MM 4177689",null,null,{"$f":"LEFT(Catalogue[[#This Row],[Référence]],3)","v":"WIL"},{"$f":"VLOOKUP(Catalogue[[#This Row],[Alias]],#REF!,2,FALSE)","v":{"$error":"#REF!"}}]
["WIL4190896",null,"HiControl 1",null,null,{"$f":"LEFT(Catalogue[[#This Row],[Référence]],3)","v":"WIL"},{"$f":"VLOOKUP(Catalogue[[#This Row],[Alias]],#REF!,2,FALSE)","v":{"$error":"#REF!"}}]
["WIL4198188",null,"YONOS PICO-I 15-6 130MM",null,null,{"$f":"LEFT(Catalogue[[#This Row],[Référence]],3)","v":"WIL"},{"$f":"VLOOKUP(Catalogue[[#This Row],[Alias]],#REF!,2,FALSE)","v":{"$error":"#REF!"}}]
["WIL4198299",null,"YONOS PICO-D 30/1-6",null,null,{"$f":"LEFT(Catalogue[[#This Row],[Référence]],3)","v":"WIL"},{"$f":"VLOOKUP(Catalogue[[#This Row],[Alias]],#REF!,2,FALSE)","v":{"$error":"#REF!"}}]
["WIL4215511",null,"YONOS PICO 15/1-4-(ROW)",null,null,{"$f":"LEFT(Catalogue[[#This Row],[Référence]],3)","v":"WIL"},{"$f":"VLOOKUP(Catalogue[[#This Row],[Alias]],#REF!,2,FALSE)","v":{"$error":"#REF!"}}]
["WIL4215512",null,"YONOS PICO 15/1-6-(ROW)",null,null,{"$f":"LEFT(Catalogue[[#This Row],[Référence]],3)","v":"WIL"},{"$f":"VLOOKUP(Catalogue[[#This Row],[Alias]],#REF!,2,FALSE)","v":{"$error":"#REF!"}}]
["WIL4215513",null,"YONOS PICO 25/1-4-(ROW)",null,null,{"$f":"LEFT(Catalogue[[#This Row],[Référence]],3)","v":"WIL"},{"$f":"VLOOKUP(Catalogue[[#This Row],[Alias]],#REF!,2,FALSE)","v":{"$error":"#REF!"}}]
["WIL4215514",null,"YONOS PICO 25/1-4-130-(ROW)",null,null,{"$f":"LEFT(Catalogue[[#This Row],[Référence]],3)","v":"WIL"},{"$f":"VLOOKUP(Catalogue[[#This Row],[Alias]],#REF!,2,FALSE)","v":{"$error":"#REF!"}}]
["WIL4215515",null,"YONOS PICO 25/1-6-(ROW)",null,null,{"$f":"LEFT(Catalogue[[#This Row],[Référence]],3)","v":"WIL"},{"$f":"VLOOKUP(Catalogue[[#This Row],[Alias]],#REF!,2,FALSE)","v":{"$error":"#REF!"}}]
["WIL4215516",null,"YONOS PICO 25/1-6-130-(ROW)",null,null,{"$f":"LEFT(Catalogue[[#This Row],[Référence]],3)","v":"WIL"},{"$f":"VLOOKUP(Catalogue[[#This Row],[Alias]],#REF!,2,FALSE)","v":{"$error":"#REF!"}}]
["WIL4215517",null,"YONOS PICO 25/1-8-(ROW)",null,null,{"$f":"LEFT(Catalogue[[#This Row],[Référence]],3)","v":"WIL"},{"$f":"VLOOKUP(Catalogue[[#This Row],[Alias]],#REF!,2,FALSE)","v":{"$error":"#REF!"}}]
["WIL4215518",null,"YONOS PICO 25/1-8-130-(ROW)",null,null,{"$f":"LEFT(Catalogue[[#This Row],[Référence]],3)","v":"WIL"},{"$f":"VLOOKUP(Catalogue[[#This Row],[Alias]],#REF!,2,FALSE)","v":{"$error":"#REF!"}}]
["WIL4215519",null,"YONOS PICO 30/1-4-(ROW)",null,null,{"$f":"LEFT(Catalogue[[#This Row],[Référence]],3)","v":"WIL"},{"$f":"VLOOKUP(Catalogue[[#This Row],[Alias]],#REF!,2,FALSE)","v":{"$error":"#REF!"}}]
["WIL4215520",null,"YONOS PICO 30/1-6-(ROW)",null,null,{"$f":"LEFT(Catalogue[[#This Row],[Référence]],3)","v":"WIL"},{"$f":"VLOOKUP(Catalogue[[#This Row],[Alias]],#REF!,2,FALSE)","v":{"$error":"#REF!"}}]
["WIL4215521",null,"YONOS PICO 30/1-8-(ROW)",null,null,{"$f":"LEFT(Catalogue[[#This Row],[Référence]],3)","v":"WIL"},{"$f":"VLOOKUP(Catalogue[[#This Row],[Alias]],#REF!,2,FALSE)","v":{"$error":"#REF!"}}]
["WIL4215540",null,"VARIOS PICO 15/1-7",null,null,{"$f":"LEFT(Catalogue[[#This Row],[Référence]],3)","v":"WIL"},{"$f":"VLOOKUP(Catalogue[[#This Row],[Alias]],#REF!,2,FALSE)","v":{"$error":"#REF!"}}]
["WIL4215542",null,{"$f":"VLOOKUP(A45762,I:J,2,0)","v":"VARIOS PICO 25/1-7"},null,null,{"$f":"LEFT(Catalogue[[#This Row],[Référence]],3)","v":"WIL"},{"$f":"VLOOKUP(Catalogue[[#This Row],[Alias]],#REF!,2,FALSE)","v":{"$error":"#REF!"}}]
["WIL4216470",null,"STRATOS PICO-Z-20/1-4",null,null,{"$f":"LEFT(Catalogue[[#This Row],[Référence]],3)","v":"WIL"},{"$f":"VLOOKUP(Catalogue[[#This Row],[Alias]],#REF!,2,FALSE)","v":{"$error":"#REF!"}}]
["WIL4216472",null,"STRATOS PICO-Z-25/1-4",null,null,{"$f":"LEFT(Catalogue[[#This Row],[Référence]],3)","v":"WIL"},{"$f":"VLOOKUP(Catalogue[[#This Row],[Alias]],#REF!,2,FALSE)","v":{"$error":"#REF!"}}]
["WIL4216610",null,"STRATOS-PICO-15/1-4-((ROW)",null,null,{"$f":"LEFT(Catalogue[[#This Row],[Référence]],3)","v":"WIL"},{"$f":"VLOOKUP(Catalogue[[#This Row],[Alias]],#REF!,2,FALSE)","v":{"$error":"#REF!"}}]
["WIL4216612",null,"STRATOS-PICO-25/1-4-(ROW)",null,null,{"$f":"LEFT(Catalogue[[#This Row],[Référence]],3)","v":"WIL"},{"$f":"VLOOKUP(Catalogue[[#This Row],[Alias]],#REF!,2,FALSE)","v":{"$error":"#REF!"}}]
["WIL4216613",null,"STRATOS PICO 25/1-6",null,null,{"$f":"LEFT(Catalogue[[#This Row],[Référence]],3)","v":"WIL"},{"$f":"VLOOKUP(Catalogue[[#This Row],[Alias]],#REF!,2,FALSE)","v":{"$error":"#REF!"}}]
["WIL4216614",null,"STRATOS-PICO-30/1-4-(ROW)",null,null,{"$f":"LEFT(Catalogue[[#This Row],[Référence]],3)","v":"WIL"},{"$f":"VLOOKUP(Catalogue[[#This Row],[Alias]],#REF!,2,FALSE)","v":{"$error":"#REF!"}}]
["WIL4216615",null,"STRATOS-PICO-30/1-6-(ROW)",null,null,{"$f":"LEFT(Catalogue[[#This Row],[Référence]],3)","v":"WIL"},{"$f":"VLOOKUP(Catalogue[[#This Row],[Alias]],#REF!,2,FALSE)","v":{"$error":"#REF!"}}]
["WIL4216616",null,"STRATOS-PICO-25/1-4-130-(ROW)",null,null,{"$f":"LEFT(Catalogue[[#This Row],[Référence]],3)","v":"WIL"},{"$f":"VLOOKUP(Catalogue[[#This Row],[Alias]],#REF!,2,FALSE)","v":{"$error":"#REF!"}}]
["WIL4218917",null,"PRIUX HOME M40-25/180MM",null,null,{"$f":"LEFT(Catalogue[[#This Row],[Référence]],3)","v":"WIL"},{"$f":"VLOOKUP(Catalogue[[#This Row],[Alias]],#REF!,2,FALSE)","v":{"$error":"#REF!"}}]
["WIL4218918",null,"PRIUX HOME M40-32/180MM",null,null,{"$f":"LEFT(Catalogue[[#This Row],[Référence]],3)","v":"WIL"},{"$f":"VLOOKUP(Catalogue[[#This Row],[Alias]],#REF!,2,FALSE)","v":{"$error":"#REF!"}}]
["WIL4218921",null,"PRIUX HOME M60-25/180MM                4218921",null,null,{"$f":"LEFT(Catalogue[[#This Row],[Référence]],3)","v":"WIL"},{"$f":"VLOOKUP(Catalogue[[#This Row],[Alias]],#REF!,2,FALSE)","v":{"$error":"#REF!"}}]
["WIL4218924",null,"PRIUX HOME M80-25/180MM",null,null,{"$f":"LEFT(Catalogue[[#This Row],[Référence]],3)","v":"WIL"},{"$f":"VLOOKUP(Catalogue[[#This Row],[Alias]],#REF!,2,FALSE)","v":{"$error":"#REF!"}}]
["WIL4222650",null,"STAR-Z NOVA T (ROW)",null,null,{"$f":"LEFT(Catalogue[[#This Row],[Référence]],3)","v":"WIL"},{"$f":"VLOOKUP(Catalogue[[#This Row],[Alias]],#REF!,2,FALSE)","v":{"$error":"#REF!"}}]
["WIL4223305",null,"RESV-SUR-50L-16B-VT-V-G1”",null,null,{"$f":"LEFT(Catalogue[[#This Row],[Référence]],3)","v":"WIL"},{"$f":"VLOOKUP(Catalogue[[#This Row],[Alias]],#REF!,2,FALSE)","v":{"$error":"#REF!"}}]
["WIL4230947",null,"YONOS PICO 25/6-F-120",null,null,{"$f":"LEFT(Catalogue[[#This Row],[Référence]],3)","v":"WIL"},{"$f":"VLOOKUP(Catalogue[[#This Row],[Alias]],#REF!,2,FALSE)","v":{"$error":"#REF!"}}]
["WIL4230949",null,"YONOS PICO-D 30/1-8",null,null,{"$f":"LEFT(Catalogue[[#This Row],[Référence]],3)","v":"WIL"},{"$f":"VLOOKUP(Catalogue[[#This Row],[Alias]],#REF!,2,FALSE)","v":{"$error":"#REF!"}}]
["WIL4230952",null,"POMPE POLY-YONOS PICO 25/1-6",null,null,{"$f":"LEFT(Catalogue[[#This Row],[Référence]],3)","v":"WIL"},{"$f":"VLOOKUP(Catalogue[[#This Row],[Alias]],#REF!,2,FALSE)","v":{"$error":"#REF!"}}]
["WIL4232172",null,"STAR-Z20/1(15-130)",null,null,{"$f":"LEFT(Catalogue[[#This Row],[Référence]],3)","v":"WIL"},{"$f":"VLOOKUP(Catalogue[[#This Row],[Alias]],#REF!,2,FALSE)","v":{"$error":"#REF!"}}]
["WIL4232178",null,"CIRC ECS STAR-Z20/1-3       4232178",null,null,{"$f":"LEFT(Catalogue[[#This Row],[Référence]],3)","v":"WIL"},{"$f":"VLOOKUP(Catalogue[[#This Row],[Alias]],#REF!,2,FALSE)","v":{"$error":"#REF!"}}]
["WIL4232196",null,"CIRCULATEUR 4232196 STAR-Z20/2-3(15-30)",null,null,{"$f":"LEFT(Catalogue[[#This Row],[Référence]],3)","v":"WIL"},{"$f":"VLOOKUP(Catalogue[[#This Row],[Alias]],#REF!,2,FALSE)","v":{"$error":"#REF!"}}]
["WIL4232265",null,"STAR-Z20/5-3",null,null,{"$f":"LEFT(Catalogue[[#This Row],[Référence]],3)","v":"WIL"},{"$f":"VLOOKUP(Catalogue[[#This Row],[Alias]],#REF!,2,FALSE)","v":{"$error":"#REF!"}}]
["WIL4232742",null,"VARIOS PICO-STG 15/1-8",null,null,{"$f":"LEFT(Catalogue[[#This Row],[Référence]],3)","v":"WIL"},{"$f":"VLOOKUP(Catalogue[[#This Row],[Alias]],#REF!,2,FALSE)","v":{"$error":"#REF!"}}]
["WIL4232744",null,"VARIOS PICO-STG 25/1-8-130",null,null,{"$f":"LEFT(Catalogue[[#This Row],[Référence]],3)","v":"WIL"},{"$f":"VLOOKUP(Catalogue[[#This Row],[Alias]],#REF!,2,FALSE)","v":{"$error":"#REF!"}}]
["WIL4233259",null,"POCH - RU - 2634 A 1521 - G1  A G1/2  -",null,null,{"$f":"LEFT(Catalogue[[#This Row],[Référence]],3)","v":"WIL"},{"$f":"VLOOKUP(Catalogue[[#This Row],[Alias]],#REF!,2,FALSE)","v":{"$error":"#REF!"}}]
["WIL4233263",null,"POCH - RU - 5060 A 3342 - G2  A G1 1/4",null,null,{"$f":"LEFT(Catalogue[[#This Row],[Référence]],3)","v":"WIL"},{"$f":"VLOOKUP(Catalogue[[#This Row],[Alias]],#REF!,2,FALSE)","v":{"$error":"#REF!"}}]
["WIL4233269",null,"POCH - RU - RED - 4049 A 2027 - G1 1/2 A",null,null,{"$f":"LEFT(Catalogue[[#This Row],[Référence]],3)","v":"WIL"},{"$f":"VLOOKUP(Catalogue[[#This Row],[Alias]],#REF!,2,FALSE)","v":{"$error":"#REF!"}}]
["WIL4244390",null,"CIRCULATEUR STRATOS PICO 15/0,5-4",null,null,{"$f":"LEFT(Catalogue[[#This Row],[Référence]],3)","v":"WIL"},{"$f":"VLOOKUP(Catalogue[[#This Row],[Alias]],#REF!,2,FALSE)","v":{"$error":"#REF!"}}]
["WIL4244394",null,"CIRCULATEUR STRATOS PICO 25/0,5-4-130",null,null,{"$f":"LEFT(Catalogue[[#This Row],[Référence]],3)","v":"WIL"},{"$f":"VLOOKUP(Catalogue[[#This Row],[Alias]],#REF!,2,FALSE)","v":{"$error":"#REF!"}}]
["WIL4244395",null,"CIRCULATEUR STRATOS PICO 25/0,5-6",null,null,{"$f":"LEFT(Catalogue[[#This Row],[Référence]],3)","v":"WIL"},{"$f":"VLOOKUP(Catalogue[[#This Row],[Alias]],#REF!,2,FALSE)","v":{"$error":"#REF!"}}]
["WIL503211390",null,"WA 65 CONTACT. A FLOTTEUR 5M C",null,null,{"$f":"LEFT(Catalogue[[#This Row],[Référence]],3)","v":"WIL"},{"$f":"VLOOKUP(Catalogue[[#This Row],[Alias]],#REF!,2,FALSE)","v":{"$error":"#REF!"}}]
["WIL6001126",null,"TROUSSE JONCTION DE CABLES GR.0 KIT",null,null,{"$f":"LEFT(Catalogue[[#This Row],[Référence]],3)","v":"WIL"},{"$f":"VLOOKUP(Catalogue[[#This Row],[Alias]],#REF!,2,FALSE)","v":{"$error":"#REF!"}}]
["WIL6001128",null,"TROUSSE JONCTION DE CABLES GR. 1B KIT",null,null,{"$f":"LEFT(Catalogue[[#This Row],[Référence]],3)","v":"WIL"},{"$f":"VLOOKUP(Catalogue[[#This Row],[Alias]],#REF!,2,FALSE)","v":{"$error":"#REF!"}}]
["WIL6063145",null,"CHAINE PCS 800KG 1.4401 6M CE",null,null,{"$f":"LEFT(Catalogue[[#This Row],[Référence]],3)","v":"WIL"},{"$f":"VLOOKUP(Catalogue[[#This Row],[Alias]],#REF!,2,FALSE)","v":{"$error":"#REF!"}}]
["WIL6087340",null,"KIT REFOUL 1''/4 DRAIN TM   6087340",null,null,{"$f":"LEFT(Catalogue[[#This Row],[Référence]],3)","v":"WIL"},{"$f":"VLOOKUP(Catalogue[[#This Row],[Alias]],#REF!,2,FALSE)","v":{"$error":"#REF!"}}]
["WOL173102299",null,"POT DE COMBUSTION",null,null,{"$f":"LEFT(Catalogue[[#This Row],[Référence]],3)","v":"WOL"},{"$f":"VLOOKUP(Catalogue[[#This Row],[Alias]],#REF!,2,FALSE)","v":{"$error":"#REF!"}}]
["WOL2792004",null,"SONDE SURCHAUFFE",null,null,{"$f":"LEFT(Catalogue[[#This Row],[Référence]],3)","v":"WOL"},{"$f":"VLOOKUP(Catalogue[[#This Row],[Alias]],#REF!,2,FALSE)","v":{"$error":"#REF!"}}]
["WOL2799045",null,"CABLAGE",null,null,{"$f":"LEFT(Catalogue[[#This Row],[Référence]],3)","v":"WOL"},{"$f":"VLOOKUP(Catalogue[[#This Row],[Alias]],#REF!,2,FALSE)","v":{"$error":"#REF!"}}]
["WOL2799100",null,"CI ALLUMAGE",null,null,{"$f":"LEFT(Catalogue[[#This Row],[Référence]],3)","v":"WOL"},{"$f":"VLOOKUP(Catalogue[[#This Row],[Alias]],#REF!,2,FALSE)","v":{"$error":"#REF!"}}]
["WOL2799112",null,"CI REGULATION",null,null,{"$f":"LEFT(Catalogue[[#This Row],[Référence]],3)","v":"WOL"},{"$f":"VLOOKUP(Catalogue[[#This Row],[Alias]],#REF!,2,FALSE)","v":{"$error":"#REF!"}}]
["WOL2799112S",null,"CIRCUIT IMPRIME",null,null,{"$f":"LEFT(Catalogue[[#This Row],[Référence]],3)","v":"WOL"},{"$f":"VLOOKUP(Catalogue[[#This Row],[Alias]],#REF!,2,FALSE)","v":{"$error":"#REF!"}}]
["WOL279925099",null,"PLATINE",null,null,{"$f":"LEFT(Catalogue[[#This Row],[Référence]],3)","v":"WOL"},{"$f":"VLOOKUP(Catalogue[[#This Row],[Alias]],#REF!,2,FALSE)","v":{"$error":"#REF!"}}]
["WOL2799250999",null,"CIRCUIT IMPRIME",null,null,{"$f":"LEFT(Catalogue[[#This Row],[Référence]],3)","v":"WOL"},{"$f":"VLOOKUP(Catalogue[[#This Row],[Alias]],#REF!,2,FALSE)","v":{"$error":"#REF!"}}]
["WOL2900024S","Non concerné","CDC WOLF",90,2000001943632,{"$f":"LEFT(Catalogue[[#This Row],[Référence]],3)","v":"WOL"},{"$f":"VLOOKUP(Catalogue[[#This Row],[Alias]],#REF!,2,FALSE)","v":{"$error":"#REF!"}}]
["WOL2900024S",null,"CDC WOLF",null,null,{"$f":"LEFT(Catalogue[[#This Row],[Référence]],3)","v":"WOL"},{"$f":"VLOOKUP(Catalogue[[#This Row],[Alias]],#REF!,2,FALSE)","v":{"$error":"#REF!"}}]
["WOL2900105S","Non concerné","ECHANGEUR SANITAIRE",30,2000001943649,{"$f":"LEFT(Catalogue[[#This Row],[Référence]],3)","v":"WOL"},{"$f":"VLOOKUP(Catalogue[[#This Row],[Alias]],#REF!,2,FALSE)","v":{"$error":"#REF!"}}]
["WOL2900105S",null,"ECHANGEUR SANITAIRE",null,null,{"$f":"LEFT(Catalogue[[#This Row],[Référence]],3)","v":"WOL"},{"$f":"VLOOKUP(Catalogue[[#This Row],[Alias]],#REF!,2,FALSE)","v":{"$error":"#REF!"}}]
["WOL2980005",null,"echangeur sanitaire",null,null,{"$f":"LEFT(Catalogue[[#This Row],[Référence]],3)","v":"WOL"},{"$f":"VLOOKUP(Catalogue[[#This Row],[Alias]],#REF!,2,FALSE)","v":{"$error":"#REF!"}}]
["WOL298000599",null,"ECHANGEUR SANITAIRE A PLAQUE",null,null,{"$f":"LEFT(Catalogue[[#This Row],[Référence]],3)","v":"WOL"},{"$f":"VLOOKUP(Catalogue[[#This Row],[Alias]],#REF!,2,FALSE)","v":{"$error":"#REF!"}}]
["WOL298000599S","Non concerné","ECHANGEUR SANITAIRE A PLAQUE",21,2000007351462,{"$f":"LEFT(Catalogue[[#This Row],[Référence]],3)","v":"WOL"},{"$f":"VLOOKUP(Catalogue[[#This Row],[Alias]],#REF!,2,FALSE)","v":{"$error":"#REF!"}}]
["WOL298000599S",null,"ECHANGEUR SANITAIRE A PLAQUE",null,null,{"$f":"LEFT(Catalogue[[#This Row],[Référence]],3)","v":"WOL"},{"$f":"VLOOKUP(Catalogue[[#This Row],[Alias]],#REF!,2,FALSE)","v":{"$error":"#REF!"}}]
["WOL2980005S","Non concerné","ECHANGEUR SANITAIRE",24,2000007344921,{"$f":"LEFT(Catalogue[[#This Row],[Référence]],3)","v":"WOL"},{"$f":"VLOOKUP(Catalogue[[#This Row],[Alias]],#REF!,2,FALSE)","v":{"$error":"#REF!"}}]
["WOL2980005S",null,"ECHANGEUR SANITAIRE",null,null,{"$f":"LEFT(Catalogue[[#This Row],[Référence]],3)","v":"WOL"},{"$f":"VLOOKUP(Catalogue[[#This Row],[Alias]],#REF!,2,FALSE)","v":{"$error":"#REF!"}}]
["WOL390316499",null,"Pochette de joints corps de chauffe",null,null,{"$f":"LEFT(Catalogue[[#This Row],[Référence]],3)","v":"WOL"},{"$f":"VLOOKUP(Catalogue[[#This Row],[Alias]],#REF!,2,FALSE)","v":{"$error":"#REF!"}}]
["WOL8602545S","Non concerné","EXTRACTEUR WOLF",40,2000001943656,{"$f":"LEFT(Catalogue[[#This Row],[Référence]],3)","v":"WOL"},{"$f":"VLOOKUP(Catalogue[[#This Row],[Alias]],#REF!,2,FALSE)","v":{"$error":"#REF!"}}]
["WOL8602545S",null,"EXTRACTEUR WOLF",null,null,{"$f":"LEFT(Catalogue[[#This Row],[Référence]],3)","v":"WOL"},{"$f":"VLOOKUP(Catalogue[[#This Row],[Alias]],#REF!,2,FALSE)","v":{"$error":"#REF!"}}]
["WOL8603043",null,"ECHANGEUR CORPS DE CHAUFFE",null,null,{"$f":"LEFT(Catalogue[[#This Row],[Référence]],3)","v":"WOL"},{"$f":"VLOOKUP(Catalogue[[#This Row],[Alias]],#REF!,2,FALSE)","v":{"$error":"#REF!"}}]
["WOL8603043S",null,"ECHANGEUR CORPS DE CHAUFFE",null,null,{"$f":"LEFT(Catalogue[[#This Row],[Référence]],3)","v":"WOL"},{"$f":"VLOOKUP(Catalogue[[#This Row],[Alias]],#REF!,2,FALSE)","v":{"$error":"#REF!"}}]
["WOL8603061",null,"ELECTRODE ALLUMAGE",null,null,{"$f":"LEFT(Catalogue[[#This Row],[Référence]],3)","v":"WOL"},{"$f":"VLOOKUP(Catalogue[[#This Row],[Alias]],#REF!,2,FALSE)","v":{"$error":"#REF!"}}]
["WOL8603194",null,"SET DE NETTOYAGE",null,null,{"$f":"LEFT(Catalogue[[#This Row],[Référence]],3)","v":"WOL"},{"$f":"VLOOKUP(Catalogue[[#This Row],[Alias]],#REF!,2,FALSE)","v":{"$error":"#REF!"}}]
["WOL8611170S","Non concerné",{"$error":"#N/A"},120,2000007347762,{"$f":"LEFT(Catalogue[[#This Row],[Référence]],3)","v":"WOL"},{"$f":"VLOOKUP(Catalogue[[#This Row],[Alias]],#REF!,2,FALSE)","v":{"$error":"#REF!"}}]
["WOL8905253",null,"REGULATION DE PORTE",null,null,{"$f":"LEFT(Catalogue[[#This Row],[Référence]],3)","v":"WOL"},{"$f":"VLOOKUP(Catalogue[[#This Row],[Alias]],#REF!,2,FALSE)","v":{"$error":"#REF!"}}]
["YACPCA504A242AG",null,"WIRING COMPRESSOR (U)",null,null,{"$f":"LEFT(Catalogue[[#This Row],[Référence]],3)","v":"YAC"},{"$f":"VLOOKUP(Catalogue[[#This Row],[Alias]],#REF!,2,FALSE)","v":{"$error":"#REF!"}}]
["YACPCA504A242AH",null,"WIRING COMPRESSOR (V)",null,null,{"$f":"LEFT(Catalogue[[#This Row],[Référence]],3)","v":"YAC"},{"$f":"VLOOKUP(Catalogue[[#This Row],[Alias]],#REF!,2,FALSE)","v":{"$error":"#REF!"}}]
["YACPCA504A242AJ",null,{"$f":"VLOOKUP(A45826,I:J,2,0)","v":"WIRING COMPRESSOR (W)"},null,null,{"$f":"LEFT(Catalogue[[#This Row],[Référence]],3)","v":"YAC"},{"$f":"VLOOKUP(Catalogue[[#This Row],[Alias]],#REF!,2,FALSE)","v":{"$error":"#REF!"}}]
["YACPCA505A123JR",null,"PWB ASSY",null,null,{"$f":"LEFT(Catalogue[[#This Row],[Référence]],3)","v":"YAC"},{"$f":"VLOOKUP(Catalogue[[#This Row],[Alias]],#REF!,2,FALSE)","v":{"$error":"#REF!"}}]
["ZHEA 60807835",null,"THERMOST CE TAS TRI 450VT",null,null,{"$f":"LEFT(Catalogue[[#This Row],[Référence]],3)","v":"ZHE"},{"$f":"VLOOKUP(Catalogue[[#This Row],[Alias]],#REF!,2,FALSE)","v":{"$error":"#REF!"}}]
["ZHEA60807834",null,"THERMOST CE TAS 450",null,null,{"$f":"LEFT(Catalogue[[#This Row],[Référence]],3)","v":"ZHE"},{"$f":"VLOOKUP(Catalogue[[#This Row],[Alias]],#REF!,2,FALSE)","v":{"$error":"#REF!"}}]
["ZHEA60811700",null,"AQUAST BULB TR2 30/90DEG",null,null,{"$f":"LEFT(Catalogue[[#This Row],[Référence]],3)","v":"ZHE"},{"$f":"VLOOKUP(Catalogue[[#This Row],[Alias]],#REF!,2,FALSE)","v":{"$error":"#REF!"}}]
["ZHEA684239",null,"VEILLEUSE POLIDRO+JOINT ZH",null,null,{"$f":"LEFT(Catalogue[[#This Row],[Référence]],3)","v":"ZHE"},{"$f":"VLOOKUP(Catalogue[[#This Row],[Alias]],#REF!,2,FALSE)","v":{"$error":"#REF!"}}]
["ZHEA79819095",null,"THERMCPLE 660TYP ZH",null,null,{"$f":"LEFT(Catalogue[[#This Row],[Référence]],3)","v":"ZHE"},{"$f":"VLOOKUP(Catalogue[[#This Row],[Alias]],#REF!,2,FALSE)","v":{"$error":"#REF!"}}]
["ZHEA814342",null,"INTERRUPTEUR GFC VOYANT VERT",null,null,{"$f":"LEFT(Catalogue[[#This Row],[Référence]],3)","v":"ZHE"},{"$f":"VLOOKUP(Catalogue[[#This Row],[Alias]],#REF!,2,FALSE)","v":{"$error":"#REF!"}}]
["ZHEA814398",null,"INTERRUPTEUR M-A LUMINEUX",null,null,{"$f":"LEFT(Catalogue[[#This Row],[Référence]],3)","v":"ZHE"},{"$f":"VLOOKUP(Catalogue[[#This Row],[Alias]],#REF!,2,FALSE)","v":{"$error":"#REF!"}}]
["ZHEA814402",null,"INTER ET INVERS",null,null,{"$f":"LEFT(Catalogue[[#This Row],[Référence]],3)","v":"ZHE"},{"$f":"VLOOKUP(Catalogue[[#This Row],[Alias]],#REF!,2,FALSE)","v":{"$error":"#REF!"}}]
["ZHEA814445",null,"1 BLOC ELEC. CX ZH",null,null,{"$f":"LEFT(Catalogue[[#This Row],[Référence]],3)","v":"ZHE"},{"$f":"VLOOKUP(Catalogue[[#This Row],[Alias]],#REF!,2,FALSE)","v":{"$error":"#REF!"}}]
["ZHEA814555",null,"DERIVATION ECO SPLIT WIRE ZH",null,null,{"$f":"LEFT(Catalogue[[#This Row],[Référence]],3)","v":"ZHE"},{"$f":"VLOOKUP(Catalogue[[#This Row],[Alias]],#REF!,2,FALSE)","v":{"$error":"#REF!"}}]
["ZHEA814567",null,"2 ELECTRODES P/CHAUD.LG",null,null,{"$f":"LEFT(Catalogue[[#This Row],[Référence]],3)","v":"ZHE"},{"$f":"VLOOKUP(Catalogue[[#This Row],[Alias]],#REF!,2,FALSE)","v":{"$error":"#REF!"}}]
["ZHEZ62803801",null,"INTER.16A BIP.NOIR 0/1",null,null,{"$f":"LEFT(Catalogue[[#This Row],[Référence]],3)","v":"ZHE"},{"$f":"VLOOKUP(Catalogue[[#This Row],[Alias]],#REF!,2,FALSE)","v":{"$error":"#REF!"}}]
["ZPCWCE03553",null,"PLATINE EUROALPHA FK",null,null,{"$f":"LEFT(Catalogue[[#This Row],[Référence]],3)","v":"ZPC"},{"$f":"VLOOKUP(Catalogue[[#This Row],[Alias]],#REF!,2,FALSE)","v":{"$error":"#REF!"}}]
["ZPCWCE03687",null,"REGULATEUR EUROALFA FK NU MAP6",null,null,{"$f":"LEFT(Catalogue[[#This Row],[Référence]],3)","v":"ZPC"},{"$f":"VLOOKUP(Catalogue[[#This Row],[Alias]],#REF!,2,FALSE)","v":{"$error":"#REF!"}}]
["ZPCWCE03688",null,"REGULATEUR EUROALFA FK NU MAP 1",null,null,{"$f":"LEFT(Catalogue[[#This Row],[Référence]],3)","v":"ZPC"},{"$f":"VLOOKUP(Catalogue[[#This Row],[Alias]],#REF!,2,FALSE)","v":{"$error":"#REF!"}}]
["ZPCWCE03698",null,"PLATINE CONNECTION EDENPAC",null,null,{"$f":"LEFT(Catalogue[[#This Row],[Référence]],3)","v":"ZPC"},{"$f":"VLOOKUP(Catalogue[[#This Row],[Alias]],#REF!,2,FALSE)","v":{"$error":"#REF!"}}]
["ZPCWCE03712",null,"PLATINE REGUL POWERPAC  MP45",null,null,{"$f":"LEFT(Catalogue[[#This Row],[Référence]],3)","v":"ZPC"},{"$f":"VLOOKUP(Catalogue[[#This Row],[Alias]],#REF!,2,FALSE)","v":{"$error":"#REF!"}}]
["ZPCWCE03823",null,"AFFICHEUR EVK",null,null,{"$f":"LEFT(Catalogue[[#This Row],[Référence]],3)","v":"ZPC"},{"$f":"VLOOKUP(Catalogue[[#This Row],[Alias]],#REF!,2,FALSE)","v":{"$error":"#REF!"}}]
["ZPCWCE03850",null,"SONDE NTC UNIQUE DE DEGIVRAGE",null,null,{"$f":"LEFT(Catalogue[[#This Row],[Référence]],3)","v":"ZPC"},{"$f":"VLOOKUP(Catalogue[[#This Row],[Alias]],#REF!,2,FALSE)","v":{"$error":"#REF!"}}]
["ZPCWH000208",null,"PAC PISCINE PM3051",null,null,{"$f":"LEFT(Catalogue[[#This Row],[Référence]],3)","v":"ZPC"},{"$f":"VLOOKUP(Catalogue[[#This Row],[Alias]],#REF!,2,FALSE)","v":{"$error":"#REF!"}}]
["ZPCWH000213",null,"PAC PISCINE PM3076 REVERSIBME TRI 21KW",null,null,{"$f":"LEFT(Catalogue[[#This Row],[Référence]],3)","v":"ZPC"},{"$f":"VLOOKUP(Catalogue[[#This Row],[Alias]],#REF!,2,FALSE)","v":{"$error":"#REF!"}}]
["ZPCWSK02022",null,"INTER DEBIT VKL05M-07 AV.CABLE",null,null,{"$f":"LEFT(Catalogue[[#This Row],[Référence]],3)","v":"ZPC"},{"$f":"VLOOKUP(Catalogue[[#This Row],[Alias]],#REF!,2,FALSE)","v":{"$error":"#REF!"}}]
["ZPCWTC03815",null,"PRESSOSTAT BP",null,null,{"$f":"LEFT(Catalogue[[#This Row],[Référence]],3)","v":"ZPC"},{"$f":"VLOOKUP(Catalogue[[#This Row],[Alias]],#REF!,2,FALSE)","v":{"$error":"#REF!"}}]
["ZPCWTC03939D",null,"CARTE A2 AFFICHEUR Z300 PFORCE",null,null,{"$f":"LEFT(Catalogue[[#This Row],[Référence]],3)","v":"ZPC"},{"$f":"VLOOKUP(Catalogue[[#This Row],[Alias]],#REF!,2,FALSE)","v":{"$error":"#REF!"}}]
["ZYY1300204",null,"MOTO-TURBINE EXTB 30 - MVN",null,null,{"$f":"LEFT(Catalogue[[#This Row],[Référence]],3)","v":"ZYY"},{"$f":"VLOOKUP(Catalogue[[#This Row],[Alias]],#REF!,2,FALSE)","v":{"$error":"#REF!"}}]
["ZYY1TTL1BB89001",null,"RESISTANCE THERMOPLONGEE 12KW 400V 1  1/2  // ZOPPAS/RICA",null,null,{"$f":"LEFT(Catalogue[[#This Row],[Référence]],3)","v":"ZYY"},{"$f":"VLOOKUP(Catalogue[[#This Row],[Alias]],#REF!,2,FALSE)","v":{"$error":"#REF!"}}]
["ZYY23900.02",null,"ENSEMBLE TWO-INOX - NF (2m) - GURTNER",null,null,{"$f":"LEFT(Catalogue[[#This Row],[Référence]],3)","v":"ZYY"},{"$f":"VLOOKUP(Catalogue[[#This Row],[Alias]],#REF!,2,FALSE)","v":{"$error":"#REF!"}}]
["ZYY4205133210",null,"MIGNON 4L AQUACLEAN02",null,null,{"$f":"LEFT(Catalogue[[#This Row],[Référence]],3)","v":"ZYY"},{"$f":"VLOOKUP(Catalogue[[#This Row],[Alias]],#REF!,2,FALSE)","v":{"$error":"#REF!"}}]
["ZYY4205155889",null,"DIGITS 12,5l AQUACLEAN02",null,null,{"$f":"LEFT(Catalogue[[#This Row],[Référence]],3)","v":"ZYY"},{"$f":"VLOOKUP(Catalogue[[#This Row],[Alias]],#REF!,2,FALSE)","v":{"$error":"#REF!"}}]
["ZYY60908C",null,"ONE+ MITIGEUR EVIER BEC TUBE C3 NF ECAU",null,null,{"$f":"LEFT(Catalogue[[#This Row],[Référence]],3)","v":"ZYY"},{"$f":"VLOOKUP(Catalogue[[#This Row],[Alias]],#REF!,2,FALSE)","v":{"$error":"#REF!"}}]
["ZYY68568382",null,"PACK ADOUCISSEUR ELO 18 - CR2J",null,null,{"$f":"LEFT(Catalogue[[#This Row],[Référence]],3)","v":"ZYY"},{"$f":"VLOOKUP(Catalogue[[#This Row],[Alias]],#REF!,2,FALSE)","v":{"$error":"#REF!"}}]
["ZYY98331",null,"MIT BIDET N S12 URBAN",null,null,{"$f":"LEFT(Catalogue[[#This Row],[Référence]],3)","v":"ZYY"},{"$f":"VLOOKUP(Catalogue[[#This Row],[Alias]],#REF!,2,FALSE)","v":{"$error":"#REF!"}}]
["ZYY98801",null,"MITIGEUR BAIN DOUCHE MURAL 1/2 12L/MN SS KIT DOUCHE",null,null,{"$f":"LEFT(Catalogue[[#This Row],[Référence]],3)","v":"ZYY"},{"$f":"VLOOKUP(Catalogue[[#This Row],[Alias]],#REF!,2,FALSE)","v":{"$error":"#REF!"}}]
["ZYY98805C",null,"ONE+ MITIGEUR LAVABO 60 C3 NF ECAU VIDAGE SYNTHETIQUE",null,null,{"$f":"LEFT(Catalogue[[#This Row],[Référence]],3)","v":"ZYY"},{"$f":"VLOOKUP(Catalogue[[#This Row],[Alias]],#REF!,2,FALSE)","v":{"$error":"#REF!"}}]
["ZYY99161",null,"MIT LAVABO 60 C2 NF S12 URBAN (ex 99158)",null,null,{"$f":"LEFT(Catalogue[[#This Row],[Référence]],3)","v":"ZYY"},{"$f":"VLOOKUP(Catalogue[[#This Row],[Alias]],#REF!,2,FALSE)","v":{"$error":"#REF!"}}]
["ZYY99162",null,"MIT LAVABO 60 C2 VIDAGE SYNT NF S12 URBAN (ex 99159)",null,null,{"$f":"LEFT(Catalogue[[#This Row],[Référence]],3)","v":"ZYY"},{"$f":"VLOOKUP(Catalogue[[#This Row],[Alias]],#REF!,2,FALSE)","v":{"$error":"#REF!"}}]
["ZYY99787",null,"ROBINET SIMPLE G180 - CLEVER",null,null,{"$f":"LEFT(Catalogue[[#This Row],[Référence]],3)","v":"ZYY"},{"$f":"VLOOKUP(Catalogue[[#This Row],[Alias]],#REF!,2,FALSE)","v":{"$error":"#REF!"}}]
["ZYY99947",null,"MIT EVIER HORIZONTAL C3 NF S12 URBAN",null,null,{"$f":"LEFT(Catalogue[[#This Row],[Référence]],3)","v":"ZYY"},{"$f":"VLOOKUP(Catalogue[[#This Row],[Alias]],#REF!,2,FALSE)","v":{"$error":"#REF!"}}]
["ZYY99947C",null,"ONE+ MITIGEUR EVIER HORIZONTAL C3 NF ECAU",null,null,{"$f":"LEFT(Catalogue[[#This Row],[Référence]],3)","v":"ZYY"},{"$f":"VLOOKUP(Catalogue[[#This Row],[Alias]],#REF!,2,FALSE)","v":{"$error":"#REF!"}}]
["ZYY99948",null,"MIT B/D C2 SANS ACCESSOIRESS NF S12 URBAN (ex98801)",null,null,{"$f":"LEFT(Catalogue[[#This Row],[Référence]],3)","v":"ZYY"},{"$f":"VLOOKUP(Catalogue[[#This Row],[Alias]],#REF!,2,FALSE)","v":{"$error":"#REF!"}}]
["ZYY99948C",null,"ONE+ MITIGEUR BAIN-DOUCHE C2 NF ECAU",null,null,{"$f":"LEFT(Catalogue[[#This Row],[Référence]],3)","v":"ZYY"},{"$f":"VLOOKUP(Catalogue[[#This Row],[Alias]],#REF!,2,FALSE)","v":{"$error":"#REF!"}}]
["ZYY99949",null,"MIT DOUCHE C2 SANS ACCESSOIRESS NF S12 URBAN (ex 99178)",null,null,{"$f":"LEFT(Catalogue[[#This Row],[Référence]],3)","v":"ZYY"},{"$f":"VLOOKUP(Catalogue[[#This Row],[Alias]],#REF!,2,FALSE)","v":{"$error":"#REF!"}}]
["ZYY99949C",null,"ONE+ MITIGEUR DOUCHE C2 NF ECAU",null,null,{"$f":"LEFT(Catalogue[[#This Row],[Référence]],3)","v":"ZYY"},{"$f":"VLOOKUP(Catalogue[[#This Row],[Alias]],#REF!,2,FALSE)","v":{"$error":"#REF!"}}]
["ZYY99950",null,"MIT B/D MONOTROU C2 SANS ACCESSOIRESS NF S12 URBAN (ex 99802)",null,null,{"$f":"LEFT(Catalogue[[#This Row],[Référence]],3)","v":"ZYY"},{"$f":"VLOOKUP(Catalogue[[#This Row],[Alias]],#REF!,2,FALSE)","v":{"$error":"#REF!"}}]
["ZYY99950C",null,"ONE+ MITIGEUR BAIN-DOUCHE MONOTROUC2 NF ECAU",null,null,{"$f":"LEFT(Catalogue[[#This Row],[Référence]],3)","v":"ZYY"},{"$f":"VLOOKUP(Catalogue[[#This Row],[Alias]],#REF!,2,FALSE)","v":{"$error":"#REF!"}}]
["ZYYA0000201",null,"KIT PRESSOSTAT POUR MONTAGE - ASTATO",null,null,{"$f":"LEFT(Catalogue[[#This Row],[Référence]],3)","v":"ZYY"},{"$f":"VLOOKUP(Catalogue[[#This Row],[Alias]],#REF!,2,FALSE)","v":{"$error":"#REF!"}}]
["ZYYA0001111",null,"MOTEUR DYN25 FEVRIER 2008 - ASTATO",null,null,{"$f":"LEFT(Catalogue[[#This Row],[Référence]],3)","v":"ZYY"},{"$f":"VLOOKUP(Catalogue[[#This Row],[Alias]],#REF!,2,FALSE)","v":{"$error":"#REF!"}}]
["ZYYA0001324",null,"MOTEUR DYN32 FEVRIER 2008/2017 - ASTATO",null,null,{"$f":"LEFT(Catalogue[[#This Row],[Référence]],3)","v":"ZYY"},{"$f":"VLOOKUP(Catalogue[[#This Row],[Alias]],#REF!,2,FALSE)","v":{"$error":"#REF!"}}]
["ZYYCOURKITCE705",null,"SOUPAPE DD MECA + EMBASE + PLATINE DE COMMANDE",null,null,{"$f":"LEFT(Catalogue[[#This Row],[Référence]],3)","v":"ZYY"},{"$f":"VLOOKUP(Catalogue[[#This Row],[Alias]],#REF!,2,FALSE)","v":{"$error":"#REF!"}}]
["ZYYDETCO13NF",null,"DETECTEUR DE CO  NF  7ANS Pile Lithium",null,null,{"$f":"LEFT(Catalogue[[#This Row],[Référence]],3)","v":"ZYY"},{"$f":"VLOOKUP(Catalogue[[#This Row],[Alias]],#REF!,2,FALSE)","v":{"$error":"#REF!"}}]
["ZYYFL1-03-01689",null,"MAGNACLEAN MICRO2 - BSP FILETE 1",null,null,{"$f":"LEFT(Catalogue[[#This Row],[Référence]],3)","v":"ZYY"},{"$f":"VLOOKUP(Catalogue[[#This Row],[Alias]],#REF!,2,FALSE)","v":{"$error":"#REF!"}}]
["ZYYIDK0658",null,"POMPE DE RELEVAGE ASPEN MINI AQUA BLEUE SILENT + - IDK",null,null,{"$f":"LEFT(Catalogue[[#This Row],[Référence]],3)","v":"ZYY"},{"$f":"VLOOKUP(Catalogue[[#This Row],[Alias]],#REF!,2,FALSE)","v":{"$error":"#REF!"}}]
["ZYYIDK0669",null,"POMPE ASPEN MINI VERTE SILENT+OPTIMAL BLANCHE 80X60 - IDK",null,null,{"$f":"LEFT(Catalogue[[#This Row],[Référence]],3)","v":"ZYY"},{"$f":"VLOOKUP(Catalogue[[#This Row],[Alias]],#REF!,2,FALSE)","v":{"$error":"#REF!"}}]
["ZYYJOL10100001",null,"JOINT DE PORTE JOLLYMEC",null,null,{"$f":"LEFT(Catalogue[[#This Row],[Référence]],3)","v":"ZYY"},{"$f":"VLOOKUP(Catalogue[[#This Row],[Alias]],#REF!,2,FALSE)","v":{"$error":"#REF!"}}]
["ZYYJOL10501000",null,"SONDE TEMPERATUE AMBIANTE",null,null,{"$f":"LEFT(Catalogue[[#This Row],[Référence]],3)","v":"ZYY"},{"$f":"VLOOKUP(Catalogue[[#This Row],[Alias]],#REF!,2,FALSE)","v":{"$error":"#REF!"}}]
["ZYYJOL10780001",null,"KIT FIREFLECTOR 10 KW",null,null,{"$f":"LEFT(Catalogue[[#This Row],[Référence]],3)","v":"ZYY"},{"$f":"VLOOKUP(Catalogue[[#This Row],[Alias]],#REF!,2,FALSE)","v":{"$error":"#REF!"}}]
["ZYYJOL33301000",null,"MOTOREDUCTEUR 5 RPM",null,null,{"$f":"LEFT(Catalogue[[#This Row],[Référence]],3)","v":"ZYY"},{"$f":"VLOOKUP(Catalogue[[#This Row],[Alias]],#REF!,2,FALSE)","v":{"$error":"#REF!"}}]
["ZYYJOL38351000",null,"EXTRACTEUR FUMEE ARTE",null,null,{"$f":"LEFT(Catalogue[[#This Row],[Référence]],3)","v":"ZYY"},{"$f":"VLOOKUP(Catalogue[[#This Row],[Alias]],#REF!,2,FALSE)","v":{"$error":"#REF!"}}]
["ZYYJOL84501000",null,"SONDE TEMPERATURE FUMEE",null,null,{"$f":"LEFT(Catalogue[[#This Row],[Référence]],3)","v":"ZYY"},{"$f":"VLOOKUP(Catalogue[[#This Row],[Alias]],#REF!,2,FALSE)","v":{"$error":"#REF!"}}]
["ZYYKME5034664",null,"TUBE CUIVRE SANCO DEMI DUR D.22MM EP.1MM",null,null,{"$f":"LEFT(Catalogue[[#This Row],[Référence]],3)","v":"ZYY"},{"$f":"VLOOKUP(Catalogue[[#This Row],[Alias]],#REF!,2,FALSE)","v":{"$error":"#REF!"}}]
["ZYYKT-1607-NHC-TN3-GSPX",null,"KINEMAGIC 7 SERENITE+ NICHE COULISSANT HAUTE TRANSPARENT THERMOSTATIQUE",null,null,{"$f":"LEFT(Catalogue[[#This Row],[Référence]],3)","v":"ZYY"},{"$f":"VLOOKUP(Catalogue[[#This Row],[Alias]],#REF!,2,FALSE)","v":{"$error":"#REF!"}}]
["ZYYLADD22",null,"LADDOMAT 22-72 DEG KIT RECYCLAGE - ATMOS",null,null,{"$f":"LEFT(Catalogue[[#This Row],[Référence]],3)","v":"ZYY"},{"$f":"VLOOKUP(Catalogue[[#This Row],[Alias]],#REF!,2,FALSE)","v":{"$error":"#REF!"}}]
["ZYYLINDAB546212",null,{"$f":"VLOOKUP(A45890,I:J,2,0)","v":"LINCO 2600 PA-EC"},null,null,{"$f":"LEFT(Catalogue[[#This Row],[Référence]],3)","v":"ZYY"},{"$f":"VLOOKUP(Catalogue[[#This Row],[Alias]],#REF!,2,FALSE)","v":{"$error":"#REF!"}}]
["ZYYM132217",null,"ARIOS DS AVEC BARRE PORTE-SERVIETTES SOUFFLANT 2000W BLANC-MULLER",null,null,{"$f":"LEFT(Catalogue[[#This Row],[Référence]],3)","v":"ZYY"},{"$f":"VLOOKUP(Catalogue[[#This Row],[Alias]],#REF!,2,FALSE)","v":{"$error":"#REF!"}}]
["ZYYM145113",null,"RCDM-3EO RADIATEUR HORIZONTAL - 1000W - BLANC SATINE-MULLER",null,null,{"$f":"LEFT(Catalogue[[#This Row],[Référence]],3)","v":"ZYY"},{"$f":"VLOOKUP(Catalogue[[#This Row],[Alias]],#REF!,2,FALSE)","v":{"$error":"#REF!"}}]
["ZYYM145114",null,"RCDM-3EO RADIATEUR HORIZONTAL - 1250W - BLANC SATINE-MULLER",null,null,{"$f":"LEFT(Catalogue[[#This Row],[Référence]],3)","v":"ZYY"},{"$f":"VLOOKUP(Catalogue[[#This Row],[Alias]],#REF!,2,FALSE)","v":{"$error":"#REF!"}}]
["ZYYMV4_ ClassicComplet",null,"MAXIVENT 4 CLASSIC COMPLET",null,null,{"$f":"LEFT(Catalogue[[#This Row],[Référence]],3)","v":"ZYY"},{"$f":"VLOOKUP(Catalogue[[#This Row],[Alias]],#REF!,2,FALSE)","v":{"$error":"#REF!"}}]
["ZYYMVN1300102",null,"MOTO-TURBINE EXTH 30 - MVN",null,null,{"$f":"LEFT(Catalogue[[#This Row],[Référence]],3)","v":"ZYY"},{"$f":"VLOOKUP(Catalogue[[#This Row],[Alias]],#REF!,2,FALSE)","v":{"$error":"#REF!"}}]
["ZYYNEVADA2",null,"KIT ADOUCISSEUR NEVADA2 + FILTRATION - CR2J",null,null,{"$f":"LEFT(Catalogue[[#This Row],[Référence]],3)","v":"ZYY"},{"$f":"VLOOKUP(Catalogue[[#This Row],[Alias]],#REF!,2,FALSE)","v":{"$error":"#REF!"}}]
["ZYYNKE50-09-080",null,"SIGFOX CAPTEUR VENTILATION VMC GAZ/SANITAIRE 868MHZ",null,null,{"$f":"LEFT(Catalogue[[#This Row],[Référence]],3)","v":"ZYY"},{"$f":"VLOOKUP(Catalogue[[#This Row],[Alias]],#REF!,2,FALSE)","v":{"$error":"#REF!"}}]
["ZYYPUM23-55433",null,"STE LIZAIGNE ROBTT AV COMPTEUR INVIOLABLE 15",null,null,{"$f":"LEFT(Catalogue[[#This Row],[Référence]],3)","v":"ZYY"},{"$f":"VLOOKUP(Catalogue[[#This Row],[Alias]],#REF!,2,FALSE)","v":{"$error":"#REF!"}}]
["ZYYPUM23-55434",null,"STE LIZAIGNE PAPILLON MANŒUVRE IMP D15",null,null,{"$f":"LEFT(Catalogue[[#This Row],[Référence]],3)","v":"ZYY"},{"$f":"VLOOKUP(Catalogue[[#This Row],[Alias]],#REF!,2,FALSE)","v":{"$error":"#REF!"}}]
["ZYYRED337817",null,"MOTOREDUCTEUR T3 1,5RPM TOLES F.25MM AL",null,null,{"$f":"LEFT(Catalogue[[#This Row],[Référence]],3)","v":"ZYY"},{"$f":"VLOOKUP(Catalogue[[#This Row],[Alias]],#REF!,2,FALSE)","v":{"$error":"#REF!"}}]
["ZYYRESISTSH3",null,"RESISTANCE ELEC SH3",null,null,{"$f":"LEFT(Catalogue[[#This Row],[Référence]],3)","v":"ZYY"},{"$f":"VLOOKUP(Catalogue[[#This Row],[Alias]],#REF!,2,FALSE)","v":{"$error":"#REF!"}}]
["ZYYSRX",null,"SECURIMAX - VTI",null,null,{"$f":"LEFT(Catalogue[[#This Row],[Référence]],3)","v":"ZYY"},{"$f":"VLOOKUP(Catalogue[[#This Row],[Alias]],#REF!,2,FALSE)","v":{"$error":"#REF!"}}]
["ZYYSTRW0.0208010.001",null,"RADIATEUR STRADA H20 L80 T10 GRIS SABLE 001 - JAGA",null,null,{"$f":"LEFT(Catalogue[[#This Row],[Référence]],3)","v":"ZYY"},{"$f":"VLOOKUP(Catalogue[[#This Row],[Alias]],#REF!,2,FALSE)","v":{"$error":"#REF!"}}]
["ZZZ30800515",null,"ELECT ALL FL01B40",null,null,{"$f":"LEFT(Catalogue[[#This Row],[Référence]],3)","v":"ZZZ"},{"$f":"VLOOKUP(Catalogue[[#This Row],[Alias]],#REF!,2,FALSE)","v":{"$error":"#REF!"}}]
["ZZZ58554",null,"RELAIS MANG DSC",null,null,{"$f":"LEFT(Catalogue[[#This Row],[Référence]],3)","v":"ZZZ"},{"$f":"VLOOKUP(Catalogue[[#This Row],[Alias]],#REF!,2,FALSE)","v":{"$error":"#REF!"}}]
["ZZZAGMOT0.55KW",null,"MOTEUR ELECTRIQUE 0.55KW 1500TS/MN B3",null,null,{"$f":"LEFT(Catalogue[[#This Row],[Référence]],3)","v":"ZZZ"},{"$f":"VLOOKUP(Catalogue[[#This Row],[Alias]],#REF!,2,FALSE)","v":{"$error":"#REF!"}}]
["ZZZAGMOT1.8KW",null,"MOTEUR ELEC. TRI 1.8 KW 1500TR/MN B3",null,null,{"$f":"LEFT(Catalogue[[#This Row],[Référence]],3)","v":"ZZZ"},{"$f":"VLOOKUP(Catalogue[[#This Row],[Alias]],#REF!,2,FALSE)","v":{"$error":"#REF!"}}]
["ZZZBI1885101",null,"CIRCUIT SAVIO",null,null,{"$f":"LEFT(Catalogue[[#This Row],[Référence]],3)","v":"ZZZ"},{"$f":"VLOOKUP(Catalogue[[#This Row],[Alias]],#REF!,2,FALSE)","v":{"$error":"#REF!"}}]
["ZZZCR48230",null,"RELAI STATIQUE",null,null,{"$f":"LEFT(Catalogue[[#This Row],[Référence]],3)","v":"ZZZ"},{"$f":"VLOOKUP(Catalogue[[#This Row],[Alias]],#REF!,2,FALSE)","v":{"$error":"#REF!"}}]
["ZZZCRTAR1-220V",null,"TEMPO CH",null,null,{"$f":"LEFT(Catalogue[[#This Row],[Référence]],3)","v":"ZZZ"},{"$f":"VLOOKUP(Catalogue[[#This Row],[Alias]],#REF!,2,FALSE)","v":{"$error":"#REF!"}}]
["ZZZDDI97920019",null,"VALVE ENTREE",null,null,{"$f":"LEFT(Catalogue[[#This Row],[Référence]],3)","v":"ZZZ"},{"$f":"VLOOKUP(Catalogue[[#This Row],[Alias]],#REF!,2,FALSE)","v":{"$error":"#REF!"}}]
["ZZZDE557706",null,"PRESSOSTAT MINI",null,null,{"$f":"LEFT(Catalogue[[#This Row],[Référence]],3)","v":"ZZZ"},{"$f":"VLOOKUP(Catalogue[[#This Row],[Alias]],#REF!,2,FALSE)","v":{"$error":"#REF!"}}]
["ZZZDIT25003",null,"GICLEUR",null,null,{"$f":"LEFT(Catalogue[[#This Row],[Référence]],3)","v":"ZZZ"},{"$f":"VLOOKUP(Catalogue[[#This Row],[Alias]],#REF!,2,FALSE)","v":{"$error":"#REF!"}}]
["ZZZDIT50036516",null,"CELLULE QRB1-S EMBOUT ROUG",null,null,{"$f":"LEFT(Catalogue[[#This Row],[Référence]],3)","v":"ZZZ"},{"$f":"VLOOKUP(Catalogue[[#This Row],[Alias]],#REF!,2,FALSE)","v":{"$error":"#REF!"}}]
["ZZZDITSX9999999",null,"VALISE DE DEPANNAGE CHAPP",null,null,{"$f":"LEFT(Catalogue[[#This Row],[Référence]],3)","v":"ZZZ"},{"$f":"VLOOKUP(Catalogue[[#This Row],[Alias]],#REF!,2,FALSE)","v":{"$error":"#REF!"}}]
["ZZZELM567110",null,"TAB.ELEC.GLM7/23H/28H COM",null,null,{"$f":"LEFT(Catalogue[[#This Row],[Référence]],3)","v":"ZZZ"},{"$f":"VLOOKUP(Catalogue[[#This Row],[Alias]],#REF!,2,FALSE)","v":{"$error":"#REF!"}}]
["ZZZELM87054062660",null,"CORPS DE CHAUFFE",null,null,{"$f":"LEFT(Catalogue[[#This Row],[Référence]],3)","v":"ZZZ"},{"$f":"VLOOKUP(Catalogue[[#This Row],[Alias]],#REF!,2,FALSE)","v":{"$error":"#REF!"}}]
["ZZZELM87083001890",null,"CIRCUIT IMPRIME",null,null,{"$f":"LEFT(Catalogue[[#This Row],[Référence]],3)","v":"ZZZ"},{"$f":"VLOOKUP(Catalogue[[#This Row],[Alias]],#REF!,2,FALSE)","v":{"$error":"#REF!"}}]
["ZZZELM87167338610",null,"EXTRACTEUR DR ASS. AV",null,null,{"$f":"LEFT(Catalogue[[#This Row],[Référence]],3)","v":"ZZZ"},{"$f":"VLOOKUP(Catalogue[[#This Row],[Alias]],#REF!,2,FALSE)","v":{"$error":"#REF!"}}]
["ZZZELM87167360150",null,"VOLET SECUR.GVMC SAV",null,null,{"$f":"LEFT(Catalogue[[#This Row],[Référence]],3)","v":"ZZZ"},{"$f":"VLOOKUP(Catalogue[[#This Row],[Alias]],#REF!,2,FALSE)","v":{"$error":"#REF!"}}]
["ZZZELM87167433590",null,"THERMOCOUPLE AGL",null,null,{"$f":"LEFT(Catalogue[[#This Row],[Référence]],3)","v":"ZZZ"},{"$f":"VLOOKUP(Catalogue[[#This Row],[Alias]],#REF!,2,FALSE)","v":{"$error":"#REF!"}}]
["ZZZET7545",null,"GICLEUR",null,null,{"$f":"LEFT(Catalogue[[#This Row],[Référence]],3)","v":"ZZZ"},{"$f":"VLOOKUP(Catalogue[[#This Row],[Alias]],#REF!,2,FALSE)","v":{"$error":"#REF!"}}]
["ZZZFRIF3AA40031",null,"SECURITE SURCHAUF 94+PATT",null,null,{"$f":"LEFT(Catalogue[[#This Row],[Référence]],3)","v":"ZZZ"},{"$f":"VLOOKUP(Catalogue[[#This Row],[Alias]],#REF!,2,FALSE)","v":{"$error":"#REF!"}}]
["ZZZFRIF3AA420229",null,"BRULEUR EXTERIEUR",null,null,{"$f":"LEFT(Catalogue[[#This Row],[Référence]],3)","v":"ZZZ"},{"$f":"VLOOKUP(Catalogue[[#This Row],[Alias]],#REF!,2,FALSE)","v":{"$error":"#REF!"}}]
["ZZZHGMJ702",null,"DISJ BIPOLAIRE 2A remplace le NF102",null,null,{"$f":"LEFT(Catalogue[[#This Row],[Référence]],3)","v":"ZZZ"},{"$f":"VLOOKUP(Catalogue[[#This Row],[Alias]],#REF!,2,FALSE)","v":{"$error":"#REF!"}}]
["ZZZHGNG225",null,"DISJONCTEUR CH",null,null,{"$f":"LEFT(Catalogue[[#This Row],[Référence]],3)","v":"ZZZ"},{"$f":"VLOOKUP(Catalogue[[#This Row],[Alias]],#REF!,2,FALSE)","v":{"$error":"#REF!"}}]
["ZZZME59787",null,"RELAI TEMPO   MANG 230 V",null,null,{"$f":"LEFT(Catalogue[[#This Row],[Référence]],3)","v":"ZZZ"},{"$f":"VLOOKUP(Catalogue[[#This Row],[Alias]],#REF!,2,FALSE)","v":{"$error":"#REF!"}}]
["ZZZMONS848",null,"TUBE VEILLEUSE",null,null,{"$f":"LEFT(Catalogue[[#This Row],[Référence]],3)","v":"ZZZ"},{"$f":"VLOOKUP(Catalogue[[#This Row],[Alias]],#REF!,2,FALSE)","v":{"$error":"#REF!"}}]
["ZZZMT399013",null,"VALISE KIT CHAUDIERE S.A.T",null,null,{"$f":"LEFT(Catalogue[[#This Row],[Référence]],3)","v":"ZZZ"},{"$f":"VLOOKUP(Catalogue[[#This Row],[Alias]],#REF!,2,FALSE)","v":{"$error":"#REF!"}}]
["ZZZMTS49586",null,"CLAPET GAZ AP",null,null,{"$f":"LEFT(Catalogue[[#This Row],[Référence]],3)","v":"ZZZ"},{"$f":"VLOOKUP(Catalogue[[#This Row],[Alias]],#REF!,2,FALSE)","v":{"$error":"#REF!"}}]
["ZZZMTS60049784",null,"ELECTROVANNES",null,null,{"$f":"LEFT(Catalogue[[#This Row],[Référence]],3)","v":"ZZZ"},{"$f":"VLOOKUP(Catalogue[[#This Row],[Alias]],#REF!,2,FALSE)","v":{"$error":"#REF!"}}]
["ZZZMTS60077166",null,"RESISTANCE THERMOPLONG. 1200W",null,null,{"$f":"LEFT(Catalogue[[#This Row],[Référence]],3)","v":"ZZZ"},{"$f":"VLOOKUP(Catalogue[[#This Row],[Alias]],#REF!,2,FALSE)","v":{"$error":"#REF!"}}]
["ZZZMTS61007324",null,"SOUPAPE DE SECURITE",null,null,{"$f":"LEFT(Catalogue[[#This Row],[Référence]],3)","v":"ZZZ"},{"$f":"VLOOKUP(Catalogue[[#This Row],[Alias]],#REF!,2,FALSE)","v":{"$error":"#REF!"}}]
["ZZZMTS77879",null,"PRESSOSTAT",null,null,{"$f":"LEFT(Catalogue[[#This Row],[Référence]],3)","v":"ZZZ"},{"$f":"VLOOKUP(Catalogue[[#This Row],[Alias]],#REF!,2,FALSE)","v":{"$error":"#REF!"}}]
["ZZZNE000150",null,"MANO 0/6 BARS A CAPILAIRE  1ML  D 1/4GAZ",null,null,{"$f":"LEFT(Catalogue[[#This Row],[Référence]],3)","v":"ZZZ"},{"$f":"VLOOKUP(Catalogue[[#This Row],[Alias]],#REF!,2,FALSE)","v":{"$error":"#REF!"}}]
["ZZZNE005547",null,"SONDE D EAU",null,null,{"$f":"LEFT(Catalogue[[#This Row],[Référence]],3)","v":"ZZZ"},{"$f":"VLOOKUP(Catalogue[[#This Row],[Alias]],#REF!,2,FALSE)","v":{"$error":"#REF!"}}]
["ZZZPAC631210",null,"CORPS CHAUF+JT SD1801200W",null,null,{"$f":"LEFT(Catalogue[[#This Row],[Référence]],3)","v":"ZZZ"},{"$f":"VLOOKUP(Catalogue[[#This Row],[Alias]],#REF!,2,FALSE)","v":{"$error":"#REF!"}}]
["ZZZPNE5371030",null,"SOUP SEC DSV 15-3,0H",null,null,{"$f":"LEFT(Catalogue[[#This Row],[Référence]],3)","v":"ZZZ"},{"$f":"VLOOKUP(Catalogue[[#This Row],[Alias]],#REF!,2,FALSE)","v":{"$error":"#REF!"}}]
["ZZZRA20035LA",null,"ECHANGEUR",null,null,{"$f":"LEFT(Catalogue[[#This Row],[Référence]],3)","v":"ZZZ"},{"$f":"VLOOKUP(Catalogue[[#This Row],[Alias]],#REF!,2,FALSE)","v":{"$error":"#REF!"}}]
["ZZZRE2RT8A220V",null,"RELAIS FINDER 220V",null,null,{"$f":"LEFT(Catalogue[[#This Row],[Référence]],3)","v":"ZZZ"},{"$f":"VLOOKUP(Catalogue[[#This Row],[Alias]],#REF!,2,FALSE)","v":{"$error":"#REF!"}}]
["ZZZRE4RT-24V",null,"RELAIS",null,null,{"$f":"LEFT(Catalogue[[#This Row],[Référence]],3)","v":"ZZZ"},{"$f":"VLOOKUP(Catalogue[[#This Row],[Alias]],#REF!,2,FALSE)","v":{"$error":"#REF!"}}]
["ZZZREPT718704",null,"EMBASE RELAI SHRACK",null,null,{"$f":"LEFT(Catalogue[[#This Row],[Référence]],3)","v":"ZZZ"},{"$f":"VLOOKUP(Catalogue[[#This Row],[Alias]],#REF!,2,FALSE)","v":{"$error":"#REF!"}}]
["ZZZROC122123000",null,"TABLEAU RS 20/20 ANALOGIQ",null,null,{"$f":"LEFT(Catalogue[[#This Row],[Référence]],3)","v":"ZZZ"},{"$f":"VLOOKUP(Catalogue[[#This Row],[Alias]],#REF!,2,FALSE)","v":{"$error":"#REF!"}}]
["ZZZROC122155600",null,"KIT IONISATION",null,null,{"$f":"LEFT(Catalogue[[#This Row],[Référence]],3)","v":"ZZZ"},{"$f":"VLOOKUP(Catalogue[[#This Row],[Alias]],#REF!,2,FALSE)","v":{"$error":"#REF!"}}]
["ZZZRVLEG44253",null,"TRANSFO D ISOLEMENT 100VA",null,null,{"$f":"LEFT(Catalogue[[#This Row],[Référence]],3)","v":"ZZZ"},{"$f":"VLOOKUP(Catalogue[[#This Row],[Alias]],#REF!,2,FALSE)","v":{"$error":"#REF!"}}]
["ZZZTL2220071",null,"CARTE CDE VENTIL MICROSCHILLER 2A",null,null,{"$f":"LEFT(Catalogue[[#This Row],[Référence]],3)","v":"ZZZ"},{"$f":"VLOOKUP(Catalogue[[#This Row],[Alias]],#REF!,2,FALSE)","v":{"$error":"#REF!"}}]
["ZZZTL6706000068",null,"SONDE EXTERIEURE",null,null,{"$f":"LEFT(Catalogue[[#This Row],[Référence]],3)","v":"ZZZ"},{"$f":"VLOOKUP(Catalogue[[#This Row],[Alias]],#REF!,2,FALSE)","v":{"$error":"#REF!"}}]
["ZZZTL6706000069",null,"BOBINE",null,null,{"$f":"LEFT(Catalogue[[#This Row],[Référence]],3)","v":"ZZZ"},{"$f":"VLOOKUP(Catalogue[[#This Row],[Alias]],#REF!,2,FALSE)","v":{"$error":"#REF!"}}]
["ZZZTL9900453",null,"SONDE D EAU",null,null,{"$f":"LEFT(Catalogue[[#This Row],[Référence]],3)","v":"ZZZ"},{"$f":"VLOOKUP(Catalogue[[#This Row],[Alias]],#REF!,2,FALSE)","v":{"$error":"#REF!"}}]
["ZZZVIM156032",null,"MOTEUR MONO 0,55KW",null,null,{"$f":"LEFT(Catalogue[[#This Row],[Référence]],3)","v":"ZZZ"},{"$f":"VLOOKUP(Catalogue[[#This Row],[Alias]],#REF!,2,FALSE)","v":{"$error":"#REF!"}}]
["ZZZVIM156037",null,"MOTEUR MONO 1,1KW",null,null,{"$f":"LEFT(Catalogue[[#This Row],[Référence]],3)","v":"ZZZ"},{"$f":"VLOOKUP(Catalogue[[#This Row],[Alias]],#REF!,2,FALSE)","v":{"$error":"#REF!"}}]
["ZZZWES51125392W",null,"KIT DE RENOVATION D 125  FC 06/2015",null,null,{"$f":"LEFT(Catalogue[[#This Row],[Référence]],3)","v":"ZZZ"},{"$f":"VLOOKUP(Catalogue[[#This Row],[Alias]],#REF!,2,FALSE)","v":{"$error":"#REF!"}}]
["ZZZWOL2799112",null,"PLATINE DE REGULATION",null,null,{"$f":"LEFT(Catalogue[[#This Row],[Référence]],3)","v":"ZZZ"},{"$f":"VLOOKUP(Catalogue[[#This Row],[Alias]],#REF!,2,FALSE)","v":{"$error":"#REF!"}}]
["ZZZWOL8601909",null,"PLATINE D ALLUMAGE",null,null,{"$f":"LEFT(Catalogue[[#This Row],[Référence]],3)","v":"ZZZ"},{"$f":"VLOOKUP(Catalogue[[#This Row],[Alias]],#REF!,2,FALSE)","v":{"$error":"#REF!"}}]

{"sheet":"FICHE NAVETTE","index":1,"n_rows":121,"n_cols":6,"rows_kept":121,"cut":false,"hidden":false,"merged":[[11,0,11,1],[4,1,5,1],[7,3,9,5],[7,2,9,2],[5,3,6,5],[5,2,6,2]]}
[]
["ENGIE HOMESERVICES - CENTRE DE RENOVATION DE REIMS --- 03-83-45-84-66"]
["N° AGENCE SUR 3 CHIFFRES :",815]
[null,"ENGIE HOME SERVICES","CA :",{"$f":"IF(VLOOKUP(B3,'ANNUAIRE AGENCES'!A:L,12,0)=\"\",\"\",CONCATENATE(VLOOKUP(B3,'ANNUAIRE AGENCES'!A:L,12,0),\" - \",TEXT(VLOOKUP(B3,'ANNUAIRE AGENCES'!A:M,13,0),\"0000000000\"),\" - \",VLOOKUP(B3,'ANNUAIRE AGENCES'!A:N,14,0)))","v":"Johan GAILLET - 0672275707 - johan.gaillet@engie.com"}]
[null,{"$f":"VLOOKUP(B3,'ANNUAIRE AGENCES'!A:F,5,0)","v":"10, rue Silas Goulet\n62800 LIEVIN"}]
[null,null,"MAGASIN :",{"$f":"IF(VLOOKUP(B3,'ANNUAIRE AGENCES'!A:F,6,0)=\"\",\"\",CONCATENATE(VLOOKUP(B3,'ANNUAIRE AGENCES'!A:L,6,0),\" - \",TEXT(VLOOKUP(B3,'ANNUAIRE AGENCES'!A:M,7,0),\"0000000000\"),\" - \",VLOOKUP(B3,'ANNUAIRE AGENCES'!A:N,8,0)))","v":"Thierry GALAND / Jean Claude DHAYNAULT - 06 22 99 93 27 / 06 18 70 02 80 - thierry.galand@engie.com / jean-claude.dhaynaut@engie.com"}]
[]
[null,null,"CE :",{"$f":"IF(VLOOKUP(B3,'ANNUAIRE AGENCES'!A:L,9,0)=\"\",\"\",CONCATENATE(VLOOKUP(B3,'ANNUAIRE AGENCES'!A:L,9,0),\" - \",TEXT(VLOOKUP(B3,'ANNUAIRE AGENCES'!A:M,10,0),\"0000000000\"),\" - \",VLOOKUP(B3,'ANNUAIRE AGENCES'!A:N,11,0)))","v":"Sylvain MONNIER / Mickael BEAUVEZ / Jean Claude DHAYNAUT - 06 22 99 93 62 /06 72 27 59 30 / 06 18 70 02 80 - sylvain.monnier@engie.com / mickael.beauvez@engie.com"}]
[]
[]
[]
["PIECES RENVOYEES DANS 1 ROLL LE ",null,null,"REEXPEDIE LE ",null,"W .................... C7"]
[]
["REF","DESIGNATION","QUANTITE RENVOYEE","TYPE","QTE DESIREE","QTE EXPEDIEE"]
["ABB6AGC081282",{"$f":"IF(ISERROR(VLOOKUP(A15,'Catalogue ATR 2023'!A:C,3,0)),\"\",VLOOKUP(A15,'Catalogue ATR 2023'!A:C,3,0))","v":"Terra AC Wallbox 7/22 kW LAN/WIFI/BLUETOOTH/GSM/RFID Compteur MID Afficheur LCD"},null,{"$f":"IF(ISERROR(VLOOKUP(A15,'Catalogue ATR 2023'!M:O,3,0)),\"\",VLOOKUP(A15,'Catalogue ATR 2023'!M:O,3,0))","v":""}]
["PANWH-SDC0305J3E5",{"$f":"IF(ISERROR(VLOOKUP(A16,'Catalogue ATR 2023'!A:C,3,0)),\"\",VLOOKUP(A16,'Catalogue ATR 2023'!A:C,3,0))","v":"PAC BI-BLOC HAUTE PERFORMANCE - BLOQUE EN MODE CHAUD - 3 KW - MONOPHASE - MODULE HYDRAULIQUE POUR UNITES EXTERIEURES"},null,{"$f":"IF(ISERROR(VLOOKUP(A16,'Catalogue ATR 2023'!M:O,3,0)),\"\",VLOOKUP(A16,'Catalogue ATR 2023'!M:O,3,0))","v":""},null,2]
["ACL022597",{"$f":"IF(ISERROR(VLOOKUP(A17,'Catalogue ATR 2023'!A:C,3,0)),\"\",VLOOKUP(A17,'Catalogue ATR 2023'!A:C,3,0))","v":"VIROLE GAUCHE HABILLAGE PAC"},null,{"$f":"IF(ISERROR(VLOOKUP(A17,'Catalogue ATR 2023'!M:O,3,0)),\"\",VLOOKUP(A17,'Catalogue ATR 2023'!M:O,3,0))","v":""}]
["ABB6AGC082536",{"$f":"IF(ISERROR(VLOOKUP(A18,'Catalogue ATR 2023'!A:C,3,0)),\"\",VLOOKUP(A18,'Catalogue ATR 2023'!A:C,3,0))","v":"CABLE T2-T2 7M 3P 16A"},null,{"$f":"IF(ISERROR(VLOOKUP(A18,'Catalogue ATR 2023'!M:O,3,0)),\"\",VLOOKUP(A18,'Catalogue ATR 2023'!M:O,3,0))","v":""}]
["RGS446001",{"$f":"IF(ISERROR(VLOOKUP(A19,'Catalogue ATR 2023'!A:C,3,0)),\"\",VLOOKUP(A19,'Catalogue ATR 2023'!A:C,3,0))","v":"1 BLOC ELECTR. P/GOR-THLS"},null,{"$f":"IF(ISERROR(VLOOKUP(A19,'Catalogue ATR 2023'!M:O,3,0)),\"\",VLOOKUP(A19,'Catalogue ATR 2023'!M:O,3,0))","v":""},null,5]
[null,{"$f":"IF(ISERROR(VLOOKUP(A20,'Catalogue ATR 2023'!A:C,3,0)),\"\",VLOOKUP(A20,'Catalogue ATR 2023'!A:C,3,0))","v":""},null,{"$f":"IF(ISERROR(VLOOKUP(A20,'Catalogue ATR 2023'!M:O,3,0)),\"\",VLOOKUP(A20,'Catalogue ATR 2023'!M:O,3,0))","v":""}]
[null,{"$f":"IF(ISERROR(VLOOKUP(A21,'Catalogue ATR 2023'!A:C,3,0)),\"\",VLOOKUP(A21,'Catalogue ATR 2023'!A:C,3,0))","v":""},null,{"$f":"IF(ISERROR(VLOOKUP(A21,'Catalogue ATR 2023'!M:O,3,0)),\"\",VLOOKUP(A21,'Catalogue ATR 2023'!M:O,3,0))","v":""}]
[null,{"$f":"IF(ISERROR(VLOOKUP(A22,'Catalogue ATR 2023'!A:C,3,0)),\"\",VLOOKUP(A22,'Catalogue ATR 2023'!A:C,3,0))","v":""},null,{"$f":"IF(ISERROR(VLOOKUP(A22,'Catalogue ATR 2023'!M:O,3,0)),\"\",VLOOKUP(A22,'Catalogue ATR 2023'!M:O,3,0))","v":""}]
[null,{"$f":"IF(ISERROR(VLOOKUP(A23,'Catalogue ATR 2023'!A:C,3,0)),\"\",VLOOKUP(A23,'Catalogue ATR 2023'!A:C,3,0))","v":""},null,{"$f":"IF(ISERROR(VLOOKUP(A23,'Catalogue ATR 2023'!M:O,3,0)),\"\",VLOOKUP(A23,'Catalogue ATR 2023'!M:O,3,0))","v":""}]
[null,{"$f":"IF(ISERROR(VLOOKUP(A24,'Catalogue ATR 2023'!A:C,3,0)),\"\",VLOOKUP(A24,'Catalogue ATR 2023'!A:C,3,0))","v":""},null,{"$f":"IF(ISERROR(VLOOKUP(A24,'Catalogue ATR 2023'!M:O,3,0)),\"\",VLOOKUP(A24,'Catalogue ATR 2023'!M:O,3,0))","v":""}]
[null,{"$f":"IF(ISERROR(VLOOKUP(A25,'Catalogue ATR 2023'!A:C,3,0)),\"\",VLOOKUP(A25,'Catalogue ATR 2023'!A:C,3,0))","v":""},null,{"$f":"IF(ISERROR(VLOOKUP(A25,'Catalogue ATR 2023'!M:O,3,0)),\"\",VLOOKUP(A25,'Catalogue ATR 2023'!M:O,3,0))","v":""}]
[null,{"$f":"IF(ISERROR(VLOOKUP(A26,'Catalogue ATR 2023'!A:C,3,0)),\"\",VLOOKUP(A26,'Catalogue ATR 2023'!A:C,3,0))","v":""},null,{"$f":"IF(ISERROR(VLOOKUP(A26,'Catalogue ATR 2023'!M:O,3,0)),\"\",VLOOKUP(A26,'Catalogue ATR 2023'!M:O,3,0))","v":""}]
[null,{"$f":"IF(ISERROR(VLOOKUP(A27,'Catalogue ATR 2023'!A:C,3,0)),\"\",VLOOKUP(A27,'Catalogue ATR 2023'!A:C,3,0))","v":""},null,{"$f":"IF(ISERROR(VLOOKUP(A27,'Catalogue ATR 2023'!M:O,3,0)),\"\",VLOOKUP(A27,'Catalogue ATR 2023'!M:O,3,0))","v":""}]
[null,{"$f":"IF(ISERROR(VLOOKUP(A28,'Catalogue ATR 2023'!A:C,3,0)),\"\",VLOOKUP(A28,'Catalogue ATR 2023'!A:C,3,0))","v":""},null,{"$f":"IF(ISERROR(VLOOKUP(A28,'Catalogue ATR 2023'!M:O,3,0)),\"\",VLOOKUP(A28,'Catalogue ATR 2023'!M:O,3,0))","v":""}]
[null,{"$f":"IF(ISERROR(VLOOKUP(A29,'Catalogue ATR 2023'!A:C,3,0)),\"\",VLOOKUP(A29,'Catalogue ATR 2023'!A:C,3,0))","v":""},null,{"$f":"IF(ISERROR(VLOOKUP(A29,'Catalogue ATR 2023'!M:O,3,0)),\"\",VLOOKUP(A29,'Catalogue ATR 2023'!M:O,3,0))","v":""}]
[null,{"$f":"IF(ISERROR(VLOOKUP(A30,'Catalogue ATR 2023'!A:C,3,0)),\"\",VLOOKUP(A30,'Catalogue ATR 2023'!A:C,3,0))","v":""},null,{"$f":"IF(ISERROR(VLOOKUP(A30,'Catalogue ATR 2023'!M:O,3,0)),\"\",VLOOKUP(A30,'Catalogue ATR 2023'!M:O,3,0))","v":""}]
[null,{"$f":"IF(ISERROR(VLOOKUP(A31,'Catalogue ATR 2023'!A:C,3,0)),\"\",VLOOKUP(A31,'Catalogue ATR 2023'!A:C,3,0))","v":""},null,{"$f":"IF(ISERROR(VLOOKUP(A31,'Catalogue ATR 2023'!M:O,3,0)),\"\",VLOOKUP(A31,'Catalogue ATR 2023'!M:O,3,0))","v":""}]
[null,{"$f":"IF(ISERROR(VLOOKUP(A32,'Catalogue ATR 2023'!A:C,3,0)),\"\",VLOOKUP(A32,'Catalogue ATR 2023'!A:C,3,0))","v":""},null,{"$f":"IF(ISERROR(VLOOKUP(A32,'Catalogue ATR 2023'!M:O,3,0)),\"\",VLOOKUP(A32,'Catalogue ATR 2023'!M:O,3,0))","v":""}]
[null,{"$f":"IF(ISERROR(VLOOKUP(A33,'Catalogue ATR 2023'!A:C,3,0)),\"\",VLOOKUP(A33,'Catalogue ATR 2023'!A:C,3,0))","v":""},null,{"$f":"IF(ISERROR(VLOOKUP(A33,'Catalogue ATR 2023'!M:O,3,0)),\"\",VLOOKUP(A33,'Catalogue ATR 2023'!M:O,3,0))","v":""}]
[null,{"$f":"IF(ISERROR(VLOOKUP(A34,'Catalogue ATR 2023'!A:C,3,0)),\"\",VLOOKUP(A34,'Catalogue ATR 2023'!A:C,3,0))","v":""},null,{"$f":"IF(ISERROR(VLOOKUP(A34,'Catalogue ATR 2023'!M:O,3,0)),\"\",VLOOKUP(A34,'Catalogue ATR 2023'!M:O,3,0))","v":""}]
[null,{"$f":"IF(ISERROR(VLOOKUP(A35,'Catalogue ATR 2023'!A:C,3,0)),\"\",VLOOKUP(A35,'Catalogue ATR 2023'!A:C,3,0))","v":""},null,{"$f":"IF(ISERROR(VLOOKUP(A35,'Catalogue ATR 2023'!M:O,3,0)),\"\",VLOOKUP(A35,'Catalogue ATR 2023'!M:O,3,0))","v":""}]
[null,{"$f":"IF(ISERROR(VLOOKUP(A36,'Catalogue ATR 2023'!A:C,3,0)),\"\",VLOOKUP(A36,'Catalogue ATR 2023'!A:C,3,0))","v":""},null,{"$f":"IF(ISERROR(VLOOKUP(A36,'Catalogue ATR 2023'!M:O,3,0)),\"\",VLOOKUP(A36,'Catalogue ATR 2023'!M:O,3,0))","v":""}]
[null,{"$f":"IF(ISERROR(VLOOKUP(A37,'Catalogue ATR 2023'!A:C,3,0)),\"\",VLOOKUP(A37,'Catalogue ATR 2023'!A:C,3,0))","v":""},null,{"$f":"IF(ISERROR(VLOOKUP(A37,'Catalogue ATR 2023'!M:O,3,0)),\"\",VLOOKUP(A37,'Catalogue ATR 2023'!M:O,3,0))","v":""}]
[null,{"$f":"IF(ISERROR(VLOOKUP(A38,'Catalogue ATR 2023'!A:C,3,0)),\"\",VLOOKUP(A38,'Catalogue ATR 2023'!A:C,3,0))","v":""},null,{"$f":"IF(ISERROR(VLOOKUP(A38,'Catalogue ATR 2023'!M:O,3,0)),\"\",VLOOKUP(A38,'Catalogue ATR 2023'!M:O,3,0))","v":""}]
[null,{"$f":"IF(ISERROR(VLOOKUP(A39,'Catalogue ATR 2023'!A:C,3,0)),\"\",VLOOKUP(A39,'Catalogue ATR 2023'!A:C,3,0))","v":""},null,{"$f":"IF(ISERROR(VLOOKUP(A39,'Catalogue ATR 2023'!M:O,3,0)),\"\",VLOOKUP(A39,'Catalogue ATR 2023'!M:O,3,0))","v":""}]
[null,{"$f":"IF(ISERROR(VLOOKUP(A40,'Catalogue ATR 2023'!A:C,3,0)),\"\",VLOOKUP(A40,'Catalogue ATR 2023'!A:C,3,0))","v":""},null,{"$f":"IF(ISERROR(VLOOKUP(A40,'Catalogue ATR 2023'!M:O,3,0)),\"\",VLOOKUP(A40,'Catalogue ATR 2023'!M:O,3,0))","v":""}]
[null,{"$f":"IF(ISERROR(VLOOKUP(A41,'Catalogue ATR 2023'!A:C,3,0)),\"\",VLOOKUP(A41,'Catalogue ATR 2023'!A:C,3,0))","v":""},null,{"$f":"IF(ISERROR(VLOOKUP(A41,'Catalogue ATR 2023'!M:O,3,0)),\"\",VLOOKUP(A41,'Catalogue ATR 2023'!M:O,3,0))","v":""}]
[null,{"$f":"IF(ISERROR(VLOOKUP(A42,'Catalogue ATR 2023'!A:C,3,0)),\"\",VLOOKUP(A42,'Catalogue ATR 2023'!A:C,3,0))","v":""},null,{"$f":"IF(ISERROR(VLOOKUP(A42,'Catalogue ATR 2023'!M:O,3,0)),\"\",VLOOKUP(A42,'Catalogue ATR 2023'!M:O,3,0))","v":""}]
[null,{"$f":"IF(ISERROR(VLOOKUP(A43,'Catalogue ATR 2023'!A:C,3,0)),\"\",VLOOKUP(A43,'Catalogue ATR 2023'!A:C,3,0))","v":""},null,{"$f":"IF(ISERROR(VLOOKUP(A43,'Catalogue ATR 2023'!M:O,3,0)),\"\",VLOOKUP(A43,'Catalogue ATR 2023'!M:O,3,0))","v":""}]
[null,{"$f":"IF(ISERROR(VLOOKUP(A44,'Catalogue ATR 2023'!A:C,3,0)),\"\",VLOOKUP(A44,'Catalogue ATR 2023'!A:C,3,0))","v":""},null,{"$f":"IF(ISERROR(VLOOKUP(A44,'Catalogue ATR 2023'!M:O,3,0)),\"\",VLOOKUP(A44,'Catalogue ATR 2023'!M:O,3,0))","v":""}]
[null,{"$f":"IF(ISERROR(VLOOKUP(A45,'Catalogue ATR 2023'!A:C,3,0)),\"\",VLOOKUP(A45,'Catalogue ATR 2023'!A:C,3,0))","v":""},null,{"$f":"IF(ISERROR(VLOOKUP(A45,'Catalogue ATR 2023'!M:O,3,0)),\"\",VLOOKUP(A45,'Catalogue ATR 2023'!M:O,3,0))","v":""}]
[null,{"$f":"IF(ISERROR(VLOOKUP(A46,'Catalogue ATR 2023'!A:C,3,0)),\"\",VLOOKUP(A46,'Catalogue ATR 2023'!A:C,3,0))","v":""},null,{"$f":"IF(ISERROR(VLOOKUP(A46,'Catalogue ATR 2023'!M:O,3,0)),\"\",VLOOKUP(A46,'Catalogue ATR 2023'!M:O,3,0))","v":""}]
[null,{"$f":"IF(ISERROR(VLOOKUP(A47,'Catalogue ATR 2023'!A:C,3,0)),\"\",VLOOKUP(A47,'Catalogue ATR 2023'!A:C,3,0))","v":""},null,{"$f":"IF(ISERROR(VLOOKUP(A47,'Catalogue ATR 2023'!M:O,3,0)),\"\",VLOOKUP(A47,'Catalogue ATR 2023'!M:O,3,0))","v":""}]
[null,{"$f":"IF(ISERROR(VLOOKUP(A48,'Catalogue ATR 2023'!A:C,3,0)),\"\",VLOOKUP(A48,'Catalogue ATR 2023'!A:C,3,0))","v":""},null,{"$f":"IF(ISERROR(VLOOKUP(A48,'Catalogue ATR 2023'!M:O,3,0)),\"\",VLOOKUP(A48,'Catalogue ATR 2023'!M:O,3,0))","v":""}]
[null,{"$f":"IF(ISERROR(VLOOKUP(A49,'Catalogue ATR 2023'!A:C,3,0)),\"\",VLOOKUP(A49,'Catalogue ATR 2023'!A:C,3,0))","v":""},null,{"$f":"IF(ISERROR(VLOOKUP(A49,'Catalogue ATR 2023'!M:O,3,0)),\"\",VLOOKUP(A49,'Catalogue ATR 2023'!M:O,3,0))","v":""}]
[null,{"$f":"IF(ISERROR(VLOOKUP(A50,'Catalogue ATR 2023'!A:C,3,0)),\"\",VLOOKUP(A50,'Catalogue ATR 2023'!A:C,3,0))","v":""},null,{"$f":"IF(ISERROR(VLOOKUP(A50,'Catalogue ATR 2023'!M:O,3,0)),\"\",VLOOKUP(A50,'Catalogue ATR 2023'!M:O,3,0))","v":""}]
[null,{"$f":"IF(ISERROR(VLOOKUP(A51,'Catalogue ATR 2023'!A:C,3,0)),\"\",VLOOKUP(A51,'Catalogue ATR 2023'!A:C,3,0))","v":""},null,{"$f":"IF(ISERROR(VLOOKUP(A51,'Catalogue ATR 2023'!M:O,3,0)),\"\",VLOOKUP(A51,'Catalogue ATR 2023'!M:O,3,0))","v":""}]
[null,{"$f":"IF(ISERROR(VLOOKUP(A52,'Catalogue ATR 2023'!A:C,3,0)),\"\",VLOOKUP(A52,'Catalogue ATR 2023'!A:C,3,0))","v":""},null,{"$f":"IF(ISERROR(VLOOKUP(A52,'Catalogue ATR 2023'!M:O,3,0)),\"\",VLOOKUP(A52,'Catalogue ATR 2023'!M:O,3,0))","v":""}]
[null,{"$f":"IF(ISERROR(VLOOKUP(A53,'Catalogue ATR 2023'!A:C,3,0)),\"\",VLOOKUP(A53,'Catalogue ATR 2023'!A:C,3,0))","v":""},null,{"$f":"IF(ISERROR(VLOOKUP(A53,'Catalogue ATR 2023'!M:O,3,0)),\"\",VLOOKUP(A53,'Catalogue ATR 2023'!M:O,3,0))","v":""}]
[null,{"$f":"IF(ISERROR(VLOOKUP(A54,'Catalogue ATR 2023'!A:C,3,0)),\"\",VLOOKUP(A54,'Catalogue ATR 2023'!A:C,3,0))","v":""},null,{"$f":"IF(ISERROR(VLOOKUP(A54,'Catalogue ATR 2023'!M:O,3,0)),\"\",VLOOKUP(A54,'Catalogue ATR 2023'!M:O,3,0))","v":""}]
[null,{"$f":"IF(ISERROR(VLOOKUP(A55,'Catalogue ATR 2023'!A:C,3,0)),\"\",VLOOKUP(A55,'Catalogue ATR 2023'!A:C,3,0))","v":""},null,{"$f":"IF(ISERROR(VLOOKUP(A55,'Catalogue ATR 2023'!M:O,3,0)),\"\",VLOOKUP(A55,'Catalogue ATR 2023'!M:O,3,0))","v":""}]
[null,{"$f":"IF(ISERROR(VLOOKUP(A56,'Catalogue ATR 2023'!A:C,3,0)),\"\",VLOOKUP(A56,'Catalogue ATR 2023'!A:C,3,0))","v":""},null,{"$f":"IF(ISERROR(VLOOKUP(A56,'Catalogue ATR 2023'!M:O,3,0)),\"\",VLOOKUP(A56,'Catalogue ATR 2023'!M:O,3,0))","v":""}]
[null,{"$f":"IF(ISERROR(VLOOKUP(A57,'Catalogue ATR 2023'!A:C,3,0)),\"\",VLOOKUP(A57,'Catalogue ATR 2023'!A:C,3,0))","v":""},null,{"$f":"IF(ISERROR(VLOOKUP(A57,'Catalogue ATR 2023'!M:O,3,0)),\"\",VLOOKUP(A57,'Catalogue ATR 2023'!M:O,3,0))","v":""}]
[null,{"$f":"IF(ISERROR(VLOOKUP(A58,'Catalogue ATR 2023'!A:C,3,0)),\"\",VLOOKUP(A58,'Catalogue ATR 2023'!A:C,3,0))","v":""},null,{"$f":"IF(ISERROR(VLOOKUP(A58,'Catalogue ATR 2023'!M:O,3,0)),\"\",VLOOKUP(A58,'Catalogue ATR 2023'!M:O,3,0))","v":""}]
[null,{"$f":"IF(ISERROR(VLOOKUP(A59,'Catalogue ATR 2023'!A:C,3,0)),\"\",VLOOKUP(A59,'Catalogue ATR 2023'!A:C,3,0))","v":""},null,{"$f":"IF(ISERROR(VLOOKUP(A59,'Catalogue ATR 2023'!M:O,3,0)),\"\",VLOOKUP(A59,'Catalogue ATR 2023'!M:O,3,0))","v":""}]
[null,{"$f":"IF(ISERROR(VLOOKUP(A60,'Catalogue ATR 2023'!A:C,3,0)),\"\",VLOOKUP(A60,'Catalogue ATR 2023'!A:C,3,0))","v":""},null,{"$f":"IF(ISERROR(VLOOKUP(A60,'Catalogue ATR 2023'!M:O,3,0)),\"\",VLOOKUP(A60,'Catalogue ATR 2023'!M:O,3,0))","v":""}]
[null,{"$f":"IF(ISERROR(VLOOKUP(A61,'Catalogue ATR 2023'!A:C,3,0)),\"\",VLOOKUP(A61,'Catalogue ATR 2023'!A:C,3,0))","v":""},null,{"$f":"IF(ISERROR(VLOOKUP(A61,'Catalogue ATR 2023'!M:O,3,0)),\"\",VLOOKUP(A61,'Catalogue ATR 2023'!M:O,3,0))","v":""}]
[null,{"$f":"IF(ISERROR(VLOOKUP(A62,'Catalogue ATR 2023'!A:C,3,0)),\"\",VLOOKUP(A62,'Catalogue ATR 2023'!A:C,3,0))","v":""},null,{"$f":"IF(ISERROR(VLOOKUP(A62,'Catalogue ATR 2023'!M:O,3,0)),\"\",VLOOKUP(A62,'Catalogue ATR 2023'!M:O,3,0))","v":""}]
[null,{"$f":"IF(ISERROR(VLOOKUP(A63,'Catalogue ATR 2023'!A:C,3,0)),\"\",VLOOKUP(A63,'Catalogue ATR 2023'!A:C,3,0))","v":""},null,{"$f":"IF(ISERROR(VLOOKUP(A63,'Catalogue ATR 2023'!M:O,3,0)),\"\",VLOOKUP(A63,'Catalogue ATR 2023'!M:O,3,0))","v":""}]
[null,{"$f":"IF(ISERROR(VLOOKUP(A64,'Catalogue ATR 2023'!A:C,3,0)),\"\",VLOOKUP(A64,'Catalogue ATR 2023'!A:C,3,0))","v":""},null,{"$f":"IF(ISERROR(VLOOKUP(A64,'Catalogue ATR 2023'!M:O,3,0)),\"\",VLOOKUP(A64,'Catalogue ATR 2023'!M:O,3,0))","v":""}]
[null,{"$f":"IF(ISERROR(VLOOKUP(A65,'Catalogue ATR 2023'!A:C,3,0)),\"\",VLOOKUP(A65,'Catalogue ATR 2023'!A:C,3,0))","v":""},null,{"$f":"IF(ISERROR(VLOOKUP(A65,'Catalogue ATR 2023'!M:O,3,0)),\"\",VLOOKUP(A65,'Catalogue ATR 2023'!M:O,3,0))","v":""}]
[null,{"$f":"IF(ISERROR(VLOOKUP(A66,'Catalogue ATR 2023'!A:C,3,0)),\"\",VLOOKUP(A66,'Catalogue ATR 2023'!A:C,3,0))","v":""},null,{"$f":"IF(ISERROR(VLOOKUP(A66,'Catalogue ATR 2023'!M:O,3,0)),\"\",VLOOKUP(A66,'Catalogue ATR 2023'!M:O,3,0))","v":""}]
[null,{"$f":"IF(ISERROR(VLOOKUP(A67,'Catalogue ATR 2023'!A:C,3,0)),\"\",VLOOKUP(A67,'Catalogue ATR 2023'!A:C,3,0))","v":""},null,{"$f":"IF(ISERROR(VLOOKUP(A67,'Catalogue ATR 2023'!M:O,3,0)),\"\",VLOOKUP(A67,'Catalogue ATR 2023'!M:O,3,0))","v":""}]
[null,{"$f":"IF(ISERROR(VLOOKUP(A68,'Catalogue ATR 2023'!A:C,3,0)),\"\",VLOOKUP(A68,'Catalogue ATR 2023'!A:C,3,0))","v":""},null,{"$f":"IF(ISERROR(VLOOKUP(A68,'Catalogue ATR 2023'!M:O,3,0)),\"\",VLOOKUP(A68,'Catalogue ATR 2023'!M:O,3,0))","v":""}]
[null,{"$f":"IF(ISERROR(VLOOKUP(A69,'Catalogue ATR 2023'!A:C,3,0)),\"\",VLOOKUP(A69,'Catalogue ATR 2023'!A:C,3,0))","v":""},null,{"$f":"IF(ISERROR(VLOOKUP(A69,'Catalogue ATR 2023'!M:O,3,0)),\"\",VLOOKUP(A69,'Catalogue ATR 2023'!M:O,3,0))","v":""}]
[null,{"$f":"IF(ISERROR(VLOOKUP(A70,'Catalogue ATR 2023'!A:C,3,0)),\"\",VLOOKUP(A70,'Catalogue ATR 2023'!A:C,3,0))","v":""},null,{"$f":"IF(ISERROR(VLOOKUP(A70,'Catalogue ATR 2023'!M:O,3,0)),\"\",VLOOKUP(A70,'Catalogue ATR 2023'!M:O,3,0))","v":""}]
[null,{"$f":"IF(ISERROR(VLOOKUP(A71,'Catalogue ATR 2023'!A:C,3,0)),\"\",VLOOKUP(A71,'Catalogue ATR 2023'!A:C,3,0))","v":""},null,{"$f":"IF(ISERROR(VLOOKUP(A71,'Catalogue ATR 2023'!M:O,3,0)),\"\",VLOOKUP(A71,'Catalogue ATR 2023'!M:O,3,0))","v":""}]
[null,{"$f":"IF(ISERROR(VLOOKUP(A72,'Catalogue ATR 2023'!A:C,3,0)),\"\",VLOOKUP(A72,'Catalogue ATR 2023'!A:C,3,0))","v":""},null,{"$f":"IF(ISERROR(VLOOKUP(A72,'Catalogue ATR 2023'!M:O,3,0)),\"\",VLOOKUP(A72,'Catalogue ATR 2023'!M:O,3,0))","v":""}]
[null,{"$f":"IF(ISERROR(VLOOKUP(A73,'Catalogue ATR 2023'!A:C,3,0)),\"\",VLOOKUP(A73,'Catalogue ATR 2023'!A:C,3,0))","v":""},null,{"$f":"IF(ISERROR(VLOOKUP(A73,'Catalogue ATR 2023'!M:O,3,0)),\"\",VLOOKUP(A73,'Catalogue ATR 2023'!M:O,3,0))","v":""}]
[null,{"$f":"IF(ISERROR(VLOOKUP(A74,'Catalogue ATR 2023'!A:C,3,0)),\"\",VLOOKUP(A74,'Catalogue ATR 2023'!A:C,3,0))","v":""},null,{"$f":"IF(ISERROR(VLOOKUP(A74,'Catalogue ATR 2023'!M:O,3,0)),\"\",VLOOKUP(A74,'Catalogue ATR 2023'!M:O,3,0))","v":""}]
[null,{"$f":"IF(ISERROR(VLOOKUP(A75,'Catalogue ATR 2023'!A:C,3,0)),\"\",VLOOKUP(A75,'Catalogue ATR 2023'!A:C,3,0))","v":""},null,{"$f":"IF(ISERROR(VLOOKUP(A75,'Catalogue ATR 2023'!M:O,3,0)),\"\",VLOOKUP(A75,'Catalogue ATR 2023'!M:O,3,0))","v":""}]
[null,{"$f":"IF(ISERROR(VLOOKUP(A76,'Catalogue ATR 2023'!A:C,3,0)),\"\",VLOOKUP(A76,'Catalogue ATR 2023'!A:C,3,0))","v":""},null,{"$f":"IF(ISERROR(VLOOKUP(A76,'Catalogue ATR 2023'!M:O,3,0)),\"\",VLOOKUP(A76,'Catalogue ATR 2023'!M:O,3,0))","v":""}]
[null,{"$f":"IF(ISERROR(VLOOKUP(A77,'Catalogue ATR 2023'!A:C,3,0)),\"\",VLOOKUP(A77,'Catalogue ATR 2023'!A:C,3,0))","v":""},null,{"$f":"IF(ISERROR(VLOOKUP(A77,'Catalogue ATR 2023'!M:O,3,0)),\"\",VLOOKUP(A77,'Catalogue ATR 2023'!M:O,3,0))","v":""}]
[null,{"$f":"IF(ISERROR(VLOOKUP(A78,'Catalogue ATR 2023'!A:C,3,0)),\"\",VLOOKUP(A78,'Catalogue ATR 2023'!A:C,3,0))","v":""},null,{"$f":"IF(ISERROR(VLOOKUP(A78,'Catalogue ATR 2023'!M:O,3,0)),\"\",VLOOKUP(A78,'Catalogue ATR 2023'!M:O,3,0))","v":""}]
[null,{"$f":"IF(ISERROR(VLOOKUP(A79,'Catalogue ATR 2023'!A:C,3,0)),\"\",VLOOKUP(A79,'Catalogue ATR 2023'!A:C,3,0))","v":""},null,{"$f":"IF(ISERROR(VLOOKUP(A79,'Catalogue ATR 2023'!M:O,3,0)),\"\",VLOOKUP(A79,'Catalogue ATR 2023'!M:O,3,0))","v":""}]
[null,{"$f":"IF(ISERROR(VLOOKUP(A80,'Catalogue ATR 2023'!A:C,3,0)),\"\",VLOOKUP(A80,'Catalogue ATR 2023'!A:C,3,0))","v":""},null,{"$f":"IF(ISERROR(VLOOKUP(A80,'Catalogue ATR 2023'!M:O,3,0)),\"\",VLOOKUP(A80,'Catalogue ATR 2023'!M:O,3,0))","v":""}]
[null,{"$f":"IF(ISERROR(VLOOKUP(A81,'Catalogue ATR 2023'!A:C,3,0)),\"\",VLOOKUP(A81,'Catalogue ATR 2023'!A:C,3,0))","v":""},null,{"$f":"IF(ISERROR(VLOOKUP(A81,'Catalogue ATR 2023'!M:O,3,0)),\"\",VLOOKUP(A81,'Catalogue ATR 2023'!M:O,3,0))","v":""}]
[null,{"$f":"IF(ISERROR(VLOOKUP(A82,'Catalogue ATR 2023'!A:C,3,0)),\"\",VLOOKUP(A82,'Catalogue ATR 2023'!A:C,3,0))","v":""},null,{"$f":"IF(ISERROR(VLOOKUP(A82,'Catalogue ATR 2023'!M:O,3,0)),\"\",VLOOKUP(A82,'Catalogue ATR 2023'!M:O,3,0))","v":""}]
[null,{"$f":"IF(ISERROR(VLOOKUP(A83,'Catalogue ATR 2023'!A:C,3,0)),\"\",VLOOKUP(A83,'Catalogue ATR 2023'!A:C,3,0))","v":""},null,{"$f":"IF(ISERROR(VLOOKUP(A83,'Catalogue ATR 2023'!M:O,3,0)),\"\",VLOOKUP(A83,'Catalogue ATR 2023'!M:O,3,0))","v":""}]
[null,{"$f":"IF(ISERROR(VLOOKUP(A84,'Catalogue ATR 2023'!A:C,3,0)),\"\",VLOOKUP(A84,'Catalogue ATR 2023'!A:C,3,0))","v":""},null,{"$f":"IF(ISERROR(VLOOKUP(A84,'Catalogue ATR 2023'!M:O,3,0)),\"\",VLOOKUP(A84,'Catalogue ATR 2023'!M:O,3,0))","v":""}]
[null,{"$f":"IF(ISERROR(VLOOKUP(A85,'Catalogue ATR 2023'!A:C,3,0)),\"\",VLOOKUP(A85,'Catalogue ATR 2023'!A:C,3,0))","v":""},null,{"$f":"IF(ISERROR(VLOOKUP(A85,'Catalogue ATR 2023'!M:O,3,0)),\"\",VLOOKUP(A85,'Catalogue ATR 2023'!M:O,3,0))","v":""}]
[null,{"$f":"IF(ISERROR(VLOOKUP(A86,'Catalogue ATR 2023'!A:C,3,0)),\"\",VLOOKUP(A86,'Catalogue ATR 2023'!A:C,3,0))","v":""},null,{"$f":"IF(ISERROR(VLOOKUP(A86,'Catalogue ATR 2023'!M:O,3,0)),\"\",VLOOKUP(A86,'Catalogue ATR 2023'!M:O,3,0))","v":""}]
[null,{"$f":"IF(ISERROR(VLOOKUP(A87,'Catalogue ATR 2023'!A:C,3,0)),\"\",VLOOKUP(A87,'Catalogue ATR 2023'!A:C,3,0))","v":""},null,{"$f":"IF(ISERROR(VLOOKUP(A87,'Catalogue ATR 2023'!M:O,3,0)),\"\",VLOOKUP(A87,'Catalogue ATR 2023'!M:O,3,0))","v":""}]
[null,{"$f":"IF(ISERROR(VLOOKUP(A88,'Catalogue ATR 2023'!A:C,3,0)),\"\",VLOOKUP(A88,'Catalogue ATR 2023'!A:C,3,0))","v":""},null,{"$f":"IF(ISERROR(VLOOKUP(A88,'Catalogue ATR 2023'!M:O,3,0)),\"\",VLOOKUP(A88,'Catalogue ATR 2023'!M:O,3,0))","v":""}]
[null,{"$f":"IF(ISERROR(VLOOKUP(A89,'Catalogue ATR 2023'!A:C,3,0)),\"\",VLOOKUP(A89,'Catalogue ATR 2023'!A:C,3,0))","v":""},null,{"$f":"IF(ISERROR(VLOOKUP(A89,'Catalogue ATR 2023'!M:O,3,0)),\"\",VLOOKUP(A89,'Catalogue ATR 2023'!M:O,3,0))","v":""}]
[null,{"$f":"IF(ISERROR(VLOOKUP(A90,'Catalogue ATR 2023'!A:C,3,0)),\"\",VLOOKUP(A90,'Catalogue ATR 2023'!A:C,3,0))","v":""},null,{"$f":"IF(ISERROR(VLOOKUP(A90,'Catalogue ATR 2023'!M:O,3,0)),\"\",VLOOKUP(A90,'Catalogue ATR 2023'!M:O,3,0))","v":""}]
[null,{"$f":"IF(ISERROR(VLOOKUP(A91,'Catalogue ATR 2023'!A:C,3,0)),\"\",VLOOKUP(A91,'Catalogue ATR 2023'!A:C,3,0))","v":""},null,{"$f":"IF(ISERROR(VLOOKUP(A91,'Catalogue ATR 2023'!M:O,3,0)),\"\",VLOOKUP(A91,'Catalogue ATR 2023'!M:O,3,0))","v":""}]
[null,{"$f":"IF(ISERROR(VLOOKUP(A92,'Catalogue ATR 2023'!A:C,3,0)),\"\",VLOOKUP(A92,'Catalogue ATR 2023'!A:C,3,0))","v":""},null,{"$f":"IF(ISERROR(VLOOKUP(A92,'Catalogue ATR 2023'!M:O,3,0)),\"\",VLOOKUP(A92,'Catalogue ATR 2023'!M:O,3,0))","v":""}]
[null,{"$f":"IF(ISERROR(VLOOKUP(A93,'Catalogue ATR 2023'!A:C,3,0)),\"\",VLOOKUP(A93,'Catalogue ATR 2023'!A:C,3,0))","v":""},null,{"$f":"IF(ISERROR(VLOOKUP(A93,'Catalogue ATR 2023'!M:O,3,0)),\"\",VLOOKUP(A93,'Catalogue ATR 2023'!M:O,3,0))","v":""}]
[null,{"$f":"IF(ISERROR(VLOOKUP(A94,'Catalogue ATR 2023'!A:C,3,0)),\"\",VLOOKUP(A94,'Catalogue ATR 2023'!A:C,3,0))","v":""},null,{"$f":"IF(ISERROR(VLOOKUP(A94,'Catalogue ATR 2023'!M:O,3,0)),\"\",VLOOKUP(A94,'Catalogue ATR 2023'!M:O,3,0))","v":""}]
[null,{"$f":"IF(ISERROR(VLOOKUP(A95,'Catalogue ATR 2023'!A:C,3,0)),\"\",VLOOKUP(A95,'Catalogue ATR 2023'!A:C,3,0))","v":""},null,{"$f":"IF(ISERROR(VLOOKUP(A95,'Catalogue ATR 2023'!M:O,3,0)),\"\",VLOOKUP(A95,'Catalogue ATR 2023'!M:O,3,0))","v":""}]
[null,{"$f":"IF(ISERROR(VLOOKUP(A96,'Catalogue ATR 2023'!A:C,3,0)),\"\",VLOOKUP(A96,'Catalogue ATR 2023'!A:C,3,0))","v":""},null,{"$f":"IF(ISERROR(VLOOKUP(A96,'Catalogue ATR 2023'!M:O,3,0)),\"\",VLOOKUP(A96,'Catalogue ATR 2023'!M:O,3,0))","v":""}]
[null,{"$f":"IF(ISERROR(VLOOKUP(A97,'Catalogue ATR 2023'!A:C,3,0)),\"\",VLOOKUP(A97,'Catalogue ATR 2023'!A:C,3,0))","v":""},null,{"$f":"IF(ISERROR(VLOOKUP(A97,'Catalogue ATR 2023'!M:O,3,0)),\"\",VLOOKUP(A97,'Catalogue ATR 2023'!M:O,3,0))","v":""}]
[null,{"$f":"IF(ISERROR(VLOOKUP(A98,'Catalogue ATR 2023'!A:C,3,0)),\"\",VLOOKUP(A98,'Catalogue ATR 2023'!A:C,3,0))","v":""},null,{"$f":"IF(ISERROR(VLOOKUP(A98,'Catalogue ATR 2023'!M:O,3,0)),\"\",VLOOKUP(A98,'Catalogue ATR 2023'!M:O,3,0))","v":""}]
[null,{"$f":"IF(ISERROR(VLOOKUP(A99,'Catalogue ATR 2023'!A:C,3,0)),\"\",VLOOKUP(A99,'Catalogue ATR 2023'!A:C,3,0))","v":""},null,{"$f":"IF(ISERROR(VLOOKUP(A99,'Catalogue ATR 2023'!M:O,3,0)),\"\",VLOOKUP(A99,'Catalogue ATR 2023'!M:O,3,0))","v":""}]
[null,{"$f":"IF(ISERROR(VLOOKUP(A100,'Catalogue ATR 2023'!A:C,3,0)),\"\",VLOOKUP(A100,'Catalogue ATR 2023'!A:C,3,0))","v":""},null,{"$f":"IF(ISERROR(VLOOKUP(A100,'Catalogue ATR 2023'!M:O,3,0)),\"\",VLOOKUP(A100,'Catalogue ATR 2023'!M:O,3,0))","v":""}]
[null,{"$f":"IF(ISERROR(VLOOKUP(A101,'Catalogue ATR 2023'!A:C,3,0)),\"\",VLOOKUP(A101,'Catalogue ATR 2023'!A:C,3,0))","v":""},null,{"$f":"IF(ISERROR(VLOOKUP(A101,'Catalogue ATR 2023'!M:O,3,0)),\"\",VLOOKUP(A101,'Catalogue ATR 2023'!M:O,3,0))","v":""}]
[null,{"$f":"IF(ISERROR(VLOOKUP(A102,'Catalogue ATR 2023'!A:C,3,0)),\"\",VLOOKUP(A102,'Catalogue ATR 2023'!A:C,3,0))","v":""},null,{"$f":"IF(ISERROR(VLOOKUP(A102,'Catalogue ATR 2023'!M:O,3,0)),\"\",VLOOKUP(A102,'Catalogue ATR 2023'!M:O,3,0))","v":""}]
[null,{"$f":"IF(ISERROR(VLOOKUP(A103,'Catalogue ATR 2023'!A:C,3,0)),\"\",VLOOKUP(A103,'Catalogue ATR 2023'!A:C,3,0))","v":""},null,{"$f":"IF(ISERROR(VLOOKUP(A103,'Catalogue ATR 2023'!M:O,3,0)),\"\",VLOOKUP(A103,'Catalogue ATR 2023'!M:O,3,0))","v":""}]
[null,{"$f":"IF(ISERROR(VLOOKUP(A104,'Catalogue ATR 2023'!A:C,3,0)),\"\",VLOOKUP(A104,'Catalogue ATR 2023'!A:C,3,0))","v":""},null,{"$f":"IF(ISERROR(VLOOKUP(A104,'Catalogue ATR 2023'!M:O,3,0)),\"\",VLOOKUP(A104,'Catalogue ATR 2023'!M:O,3,0))","v":""}]
[null,{"$f":"IF(ISERROR(VLOOKUP(A105,'Catalogue ATR 2023'!A:C,3,0)),\"\",VLOOKUP(A105,'Catalogue ATR 2023'!A:C,3,0))","v":""},null,{"$f":"IF(ISERROR(VLOOKUP(A105,'Catalogue ATR 2023'!M:O,3,0)),\"\",VLOOKUP(A105,'Catalogue ATR 2023'!M:O,3,0))","v":""}]
[null,{"$f":"IF(ISERROR(VLOOKUP(A106,'Catalogue ATR 2023'!A:C,3,0)),\"\",VLOOKUP(A106,'Catalogue ATR 2023'!A:C,3,0))","v":""},null,{"$f":"IF(ISERROR(VLOOKUP(A106,'Catalogue ATR 2023'!M:O,3,0)),\"\",VLOOKUP(A106,'Catalogue ATR 2023'!M:O,3,0))","v":""}]
[null,{"$f":"IF(ISERROR(VLOOKUP(A107,'Catalogue ATR 2023'!A:C,3,0)),\"\",VLOOKUP(A107,'Catalogue ATR 2023'!A:C,3,0))","v":""},null,{"$f":"IF(ISERROR(VLOOKUP(A107,'Catalogue ATR 2023'!M:O,3,0)),\"\",VLOOKUP(A107,'Catalogue ATR 2023'!M:O,3,0))","v":""}]
[null,{"$f":"IF(ISERROR(VLOOKUP(A108,'Catalogue ATR 2023'!A:C,3,0)),\"\",VLOOKUP(A108,'Catalogue ATR 2023'!A:C,3,0))","v":""},null,{"$f":"IF(ISERROR(VLOOKUP(A108,'Catalogue ATR 2023'!M:O,3,0)),\"\",VLOOKUP(A108,'Catalogue ATR 2023'!M:O,3,0))","v":""}]
[null,{"$f":"IF(ISERROR(VLOOKUP(A109,'Catalogue ATR 2023'!A:C,3,0)),\"\",VLOOKUP(A109,'Catalogue ATR 2023'!A:C,3,0))","v":""},null,{"$f":"IF(ISERROR(VLOOKUP(A109,'Catalogue ATR 2023'!M:O,3,0)),\"\",VLOOKUP(A109,'Catalogue ATR 2023'!M:O,3,0))","v":""}]
[null,{"$f":"IF(ISERROR(VLOOKUP(A110,'Catalogue ATR 2023'!A:C,3,0)),\"\",VLOOKUP(A110,'Catalogue ATR 2023'!A:C,3,0))","v":""},null,{"$f":"IF(ISERROR(VLOOKUP(A110,'Catalogue ATR 2023'!M:O,3,0)),\"\",VLOOKUP(A110,'Catalogue ATR 2023'!M:O,3,0))","v":""}]
[null,{"$f":"IF(ISERROR(VLOOKUP(A111,'Catalogue ATR 2023'!A:C,3,0)),\"\",VLOOKUP(A111,'Catalogue ATR 2023'!A:C,3,0))","v":""},null,{"$f":"IF(ISERROR(VLOOKUP(A111,'Catalogue ATR 2023'!M:O,3,0)),\"\",VLOOKUP(A111,'Catalogue ATR 2023'!M:O,3,0))","v":""}]
[null,{"$f":"IF(ISERROR(VLOOKUP(A112,'Catalogue ATR 2023'!A:C,3,0)),\"\",VLOOKUP(A112,'Catalogue ATR 2023'!A:C,3,0))","v":""},null,{"$f":"IF(ISERROR(VLOOKUP(A112,'Catalogue ATR 2023'!M:O,3,0)),\"\",VLOOKUP(A112,'Catalogue ATR 2023'!M:O,3,0))","v":""}]
[null,{"$f":"IF(ISERROR(VLOOKUP(A113,'Catalogue ATR 2023'!A:C,3,0)),\"\",VLOOKUP(A113,'Catalogue ATR 2023'!A:C,3,0))","v":""},null,{"$f":"IF(ISERROR(VLOOKUP(A113,'Catalogue ATR 2023'!M:O,3,0)),\"\",VLOOKUP(A113,'Catalogue ATR 2023'!M:O,3,0))","v":""}]
[null,{"$f":"IF(ISERROR(VLOOKUP(A114,'Catalogue ATR 2023'!A:C,3,0)),\"\",VLOOKUP(A114,'Catalogue ATR 2023'!A:C,3,0))","v":""},null,{"$f":"IF(ISERROR(VLOOKUP(A114,'Catalogue ATR 2023'!M:O,3,0)),\"\",VLOOKUP(A114,'Catalogue ATR 2023'!M:O,3,0))","v":""}]
[null,{"$f":"IF(ISERROR(VLOOKUP(A115,'Catalogue ATR 2023'!A:C,3,0)),\"\",VLOOKUP(A115,'Catalogue ATR 2023'!A:C,3,0))","v":""},null,{"$f":"IF(ISERROR(VLOOKUP(A115,'Catalogue ATR 2023'!M:O,3,0)),\"\",VLOOKUP(A115,'Catalogue ATR 2023'!M:O,3,0))","v":""}]
[null,{"$f":"IF(ISERROR(VLOOKUP(A116,'Catalogue ATR 2023'!A:C,3,0)),\"\",VLOOKUP(A116,'Catalogue ATR 2023'!A:C,3,0))","v":""},null,{"$f":"IF(ISERROR(VLOOKUP(A116,'Catalogue ATR 2023'!M:O,3,0)),\"\",VLOOKUP(A116,'Catalogue ATR 2023'!M:O,3,0))","v":""}]
[null,{"$f":"IF(ISERROR(VLOOKUP(A117,'Catalogue ATR 2023'!A:C,3,0)),\"\",VLOOKUP(A117,'Catalogue ATR 2023'!A:C,3,0))","v":""},null,{"$f":"IF(ISERROR(VLOOKUP(A117,'Catalogue ATR 2023'!M:O,3,0)),\"\",VLOOKUP(A117,'Catalogue ATR 2023'!M:O,3,0))","v":""}]
[null,{"$f":"IF(ISERROR(VLOOKUP(A118,'Catalogue ATR 2023'!A:C,3,0)),\"\",VLOOKUP(A118,'Catalogue ATR 2023'!A:C,3,0))","v":""},null,{"$f":"IF(ISERROR(VLOOKUP(A118,'Catalogue ATR 2023'!M:O,3,0)),\"\",VLOOKUP(A118,'Catalogue ATR 2023'!M:O,3,0))","v":""}]
[null,{"$f":"IF(ISERROR(VLOOKUP(A119,'Catalogue ATR 2023'!A:C,3,0)),\"\",VLOOKUP(A119,'Catalogue ATR 2023'!A:C,3,0))","v":""},null,{"$f":"IF(ISERROR(VLOOKUP(A119,'Catalogue ATR 2023'!M:O,3,0)),\"\",VLOOKUP(A119,'Catalogue ATR 2023'!M:O,3,0))","v":""}]
[null,{"$f":"IF(ISERROR(VLOOKUP(A120,'Catalogue ATR 2023'!A:C,3,0)),\"\",VLOOKUP(A120,'Catalogue ATR 2023'!A:C,3,0))","v":""},null,{"$f":"IF(ISERROR(VLOOKUP(A120,'Catalogue ATR 2023'!M:O,3,0)),\"\",VLOOKUP(A120,'Catalogue ATR 2023'!M:O,3,0))","v":""}]
[null,{"$f":"IF(ISERROR(VLOOKUP(A121,'Catalogue ATR 2023'!A:C,3,0)),\"\",VLOOKUP(A121,'Catalogue ATR 2023'!A:C,3,0))","v":""},null,{"$f":"IF(ISERROR(VLOOKUP(A121,'Catalogue ATR 2023'!M:O,3,0)),\"\",VLOOKUP(A121,'Catalogue ATR 2023'!M:O,3,0))","v":""}]

{"sheet":"DATA LOAD","index":2,"n_rows":47,"n_cols":10,"rows_kept":47,"cut":false,"hidden":true,"merged":[]}
[]
[{"$f":"IF(I2=0,\"\",'FICHE NAVETTE'!A15)","v":""},"TAB","MAGASIN901","TAB",{"$f":"CONCATENATE(\"MAGASIN\",'FICHE NAVETTE'!$B$3)","v":"MAGASIN815"},"TAB","UN","TAB",{"$f":"'FICHE NAVETTE'!F15","v":0},"*DN"]
[{"$f":"IF(I3=0,\"\",'FICHE NAVETTE'!A16)","v":"PANWH-SDC0305J3E5"},"TAB","MAGASIN901","TAB",{"$f":"CONCATENATE(\"MAGASIN\",'FICHE NAVETTE'!$B$3)","v":"MAGASIN815"},"TAB","UN","TAB",{"$f":"'FICHE NAVETTE'!F16","v":2},"*DN"]
[{"$f":"IF(I4=0,\"\",'FICHE NAVETTE'!A17)","v":""},"TAB","MAGASIN901","TAB",{"$f":"CONCATENATE(\"MAGASIN\",'FICHE NAVETTE'!$B$3)","v":"MAGASIN815"},"TAB","UN","TAB",{"$f":"'FICHE NAVETTE'!F17","v":0},"*DN"]
[{"$f":"IF(I5=0,\"\",'FICHE NAVETTE'!A18)","v":""},"TAB","MAGASIN901","TAB",{"$f":"CONCATENATE(\"MAGASIN\",'FICHE NAVETTE'!$B$3)","v":"MAGASIN815"},"TAB","UN","TAB",{"$f":"'FICHE NAVETTE'!F18","v":0},"*DN"]
[{"$f":"IF(I6=0,\"\",'FICHE NAVETTE'!A19)","v":"RGS446001"},"TAB","MAGASIN901","TAB",{"$f":"CONCATENATE(\"MAGASIN\",'FICHE NAVETTE'!$B$3)","v":"MAGASIN815"},"TAB","UN","TAB",{"$f":"'FICHE NAVETTE'!F19","v":5},"*DN"]
[{"$f":"IF(I7=0,\"\",'FICHE NAVETTE'!A20)","v":""},"TAB","MAGASIN901","TAB",{"$f":"CONCATENATE(\"MAGASIN\",'FICHE NAVETTE'!$B$3)","v":"MAGASIN815"},"TAB","UN","TAB",{"$f":"'FICHE NAVETTE'!F20","v":0},"*DN"]
[{"$f":"IF(I8=0,\"\",'FICHE NAVETTE'!A21)","v":""},"TAB","MAGASIN901","TAB",{"$f":"CONCATENATE(\"MAGASIN\",'FICHE NAVETTE'!$B$3)","v":"MAGASIN815"},"TAB","UN","TAB",{"$f":"'FICHE NAVETTE'!F21","v":0},"*DN"]
[{"$f":"IF(I9=0,\"\",'FICHE NAVETTE'!A22)","v":""},"TAB","MAGASIN901","TAB",{"$f":"CONCATENATE(\"MAGASIN\",'FICHE NAVETTE'!$B$3)","v":"MAGASIN815"},"TAB","UN","TAB",{"$f":"'FICHE NAVETTE'!F22","v":0},"*DN"]
[{"$f":"IF(I10=0,\"\",'FICHE NAVETTE'!A23)","v":""},"TAB","MAGASIN901","TAB",{"$f":"CONCATENATE(\"MAGASIN\",'FICHE NAVETTE'!$B$3)","v":"MAGASIN815"},"TAB","UN","TAB",{"$f":"'FICHE NAVETTE'!F23","v":0},"*DN"]
[{"$f":"IF(I11=0,\"\",'FICHE NAVETTE'!A24)","v":""},"TAB","MAGASIN901","TAB",{"$f":"CONCATENATE(\"MAGASIN\",'FICHE NAVETTE'!$B$3)","v":"MAGASIN815"},"TAB","UN","TAB",{"$f":"'FICHE NAVETTE'!F24","v":0},"*DN"]
[{"$f":"IF(I12=0,\"\",'FICHE NAVETTE'!A25)","v":""},"TAB","MAGASIN901","TAB",{"$f":"CONCATENATE(\"MAGASIN\",'FICHE NAVETTE'!$B$3)","v":"MAGASIN815"},"TAB","UN","TAB",{"$f":"'FICHE NAVETTE'!F25","v":0},"*DN"]
[{"$f":"IF(I13=0,\"\",'FICHE NAVETTE'!A26)","v":""},"TAB","MAGASIN901","TAB",{"$f":"CONCATENATE(\"MAGASIN\",'FICHE NAVETTE'!$B$3)","v":"MAGASIN815"},"TAB","UN","TAB",{"$f":"'FICHE NAVETTE'!F26","v":0},"*DN"]
[{"$f":"IF(I14=0,\"\",'FICHE NAVETTE'!A27)","v":""},"TAB","MAGASIN901","TAB",{"$f":"CONCATENATE(\"MAGASIN\",'FICHE NAVETTE'!$B$3)","v":"MAGASIN815"},"TAB","UN","TAB",{"$f":"'FICHE NAVETTE'!F27","v":0},"*DN"]
[{"$f":"IF(I15=0,\"\",'FICHE NAVETTE'!A28)","v":""},"TAB","MAGASIN901","TAB",{"$f":"CONCATENATE(\"MAGASIN\",'FICHE NAVETTE'!$B$3)","v":"MAGASIN815"},"TAB","UN","TAB",{"$f":"'FICHE NAVETTE'!F28","v":0},"*DN"]
[{"$f":"IF(I16=0,\"\",'FICHE NAVETTE'!A29)","v":""},"TAB","MAGASIN901","TAB",{"$f":"CONCATENATE(\"MAGASIN\",'FICHE NAVETTE'!$B$3)","v":"MAGASIN815"},"TAB","UN","TAB",{"$f":"'FICHE NAVETTE'!F29","v":0},"*DN"]
[{"$f":"IF(I17=0,\"\",'FICHE NAVETTE'!A30)","v":""},"TAB","MAGASIN901","TAB",{"$f":"CONCATENATE(\"MAGASIN\",'FICHE NAVETTE'!$B$3)","v":"MAGASIN815"},"TAB","UN","TAB",{"$f":"'FICHE NAVETTE'!F30","v":0},"*DN"]
[{"$f":"IF(I18=0,\"\",'FICHE NAVETTE'!A31)","v":""},"TAB","MAGASIN901","TAB",{"$f":"CONCATENATE(\"MAGASIN\",'FICHE NAVETTE'!$B$3)","v":"MAGASIN815"},"TAB","UN","TAB",{"$f":"'FICHE NAVETTE'!F31","v":0},"*DN"]
[{"$f":"IF(I19=0,\"\",'FICHE NAVETTE'!A32)","v":""},"TAB","MAGASIN901","TAB",{"$f":"CONCATENATE(\"MAGASIN\",'FICHE NAVETTE'!$B$3)","v":"MAGASIN815"},"TAB","UN","TAB",{"$f":"'FICHE NAVETTE'!F32","v":0},"*DN"]
[{"$f":"IF(I20=0,\"\",'FICHE NAVETTE'!A33)","v":""},"TAB","MAGASIN901","TAB",{"$f":"CONCATENATE(\"MAGASIN\",'FICHE NAVETTE'!$B$3)","v":"MAGASIN815"},"TAB","UN","TAB",{"$f":"'FICHE NAVETTE'!F33","v":0},"*DN"]
[{"$f":"IF(I21=0,\"\",'FICHE NAVETTE'!A34)","v":""},"TAB","MAGASIN901","TAB",{"$f":"CONCATENATE(\"MAGASIN\",'FICHE NAVETTE'!$B$3)","v":"MAGASIN815"},"TAB","UN","TAB",{"$f":"'FICHE NAVETTE'!F34","v":0},"*DN"]
[{"$f":"IF(I22=0,\"\",'FICHE NAVETTE'!A35)","v":""},"TAB","MAGASIN901","TAB",{"$f":"CONCATENATE(\"MAGASIN\",'FICHE NAVETTE'!$B$3)","v":"MAGASIN815"},"TAB","UN","TAB",{"$f":"'FICHE NAVETTE'!F35","v":0},"*DN"]
[{"$f":"IF(I23=0,\"\",'FICHE NAVETTE'!A36)","v":""},"TAB","MAGASIN901","TAB",{"$f":"CONCATENATE(\"MAGASIN\",'FICHE NAVETTE'!$B$3)","v":"MAGASIN815"},"TAB","UN","TAB",{"$f":"'FICHE NAVETTE'!F36","v":0},"*DN"]
[{"$f":"IF(I24=0,\"\",'FICHE NAVETTE'!A37)","v":""},"TAB","MAGASIN901","TAB",{"$f":"CONCATENATE(\"MAGASIN\",'FICHE NAVETTE'!$B$3)","v":"MAGASIN815"},"TAB","UN","TAB",{"$f":"'FICHE NAVETTE'!F37","v":0},"*DN"]
[{"$f":"IF(I25=0,\"\",'FICHE NAVETTE'!A38)","v":""},"TAB","MAGASIN901","TAB",{"$f":"CONCATENATE(\"MAGASIN\",'FICHE NAVETTE'!$B$3)","v":"MAGASIN815"},"TAB","UN","TAB",{"$f":"'FICHE NAVETTE'!F38","v":0},"*DN"]
[{"$f":"IF(I26=0,\"\",'FICHE NAVETTE'!A39)","v":""},"TAB","MAGASIN901","TAB",{"$f":"CONCATENATE(\"MAGASIN\",'FICHE NAVETTE'!$B$3)","v":"MAGASIN815"},"TAB","UN","TAB",{"$f":"'FICHE NAVETTE'!F39","v":0},"*DN"]
[{"$f":"IF(I27=0,\"\",'FICHE NAVETTE'!A40)","v":""},"TAB","MAGASIN901","TAB",{"$f":"CONCATENATE(\"MAGASIN\",'FICHE NAVETTE'!$B$3)","v":"MAGASIN815"},"TAB","UN","TAB",{"$f":"'FICHE NAVETTE'!F40","v":0},"*DN"]
[{"$f":"IF(I28=0,\"\",'FICHE NAVETTE'!A41)","v":""},"TAB","MAGASIN901","TAB",{"$f":"CONCATENATE(\"MAGASIN\",'FICHE NAVETTE'!$B$3)","v":"MAGASIN815"},"TAB","UN","TAB",{"$f":"'FICHE NAVETTE'!F41","v":0},"*DN"]
[{"$f":"IF(I29=0,\"\",'FICHE NAVETTE'!A42)","v":""},"TAB","MAGASIN901","TAB",{"$f":"CONCATENATE(\"MAGASIN\",'FICHE NAVETTE'!$B$3)","v":"MAGASIN815"},"TAB","UN","TAB",{"$f":"'FICHE NAVETTE'!F42","v":0},"*DN"]
[{"$f":"IF(I30=0,\"\",'FICHE NAVETTE'!A43)","v":""},"TAB","MAGASIN901","TAB",{"$f":"CONCATENATE(\"MAGASIN\",'FICHE NAVETTE'!$B$3)","v":"MAGASIN815"},"TAB","UN","TAB",{"$f":"'FICHE NAVETTE'!F43","v":0},"*DN"]
[{"$f":"IF(I31=0,\"\",'FICHE NAVETTE'!A44)","v":""},"TAB","MAGASIN901","TAB",{"$f":"CONCATENATE(\"MAGASIN\",'FICHE NAVETTE'!$B$3)","v":"MAGASIN815"},"TAB","UN","TAB",{"$f":"'FICHE NAVETTE'!F44","v":0},"*DN"]
[{"$f":"IF(I32=0,\"\",'FICHE NAVETTE'!A45)","v":""},"TAB","MAGASIN901","TAB",{"$f":"CONCATENATE(\"MAGASIN\",'FICHE NAVETTE'!$B$3)","v":"MAGASIN815"},"TAB","UN","TAB",{"$f":"'FICHE NAVETTE'!F45","v":0},"*DN"]
[{"$f":"IF(I33=0,\"\",'FICHE NAVETTE'!A46)","v":""},"TAB","MAGASIN901","TAB",{"$f":"CONCATENATE(\"MAGASIN\",'FICHE NAVETTE'!$B$3)","v":"MAGASIN815"},"TAB","UN","TAB",{"$f":"'FICHE NAVETTE'!F46","v":0},"*DN"]
[{"$f":"IF(I34=0,\"\",'FICHE NAVETTE'!A47)","v":""},"TAB","MAGASIN901","TAB",{"$f":"CONCATENATE(\"MAGASIN\",'FICHE NAVETTE'!$B$3)","v":"MAGASIN815"},"TAB","UN","TAB",{"$f":"'FICHE NAVETTE'!F47","v":0},"*DN"]
[{"$f":"IF(I35=0,\"\",'FICHE NAVETTE'!A48)","v":""},"TAB","MAGASIN901","TAB",{"$f":"CONCATENATE(\"MAGASIN\",'FICHE NAVETTE'!$B$3)","v":"MAGASIN815"},"TAB","UN","TAB",{"$f":"'FICHE NAVETTE'!F48","v":0},"*DN"]
[{"$f":"IF(I36=0,\"\",'FICHE NAVETTE'!A49)","v":""},"TAB","MAGASIN901","TAB",{"$f":"CONCATENATE(\"MAGASIN\",'FICHE NAVETTE'!$B$3)","v":"MAGASIN815"},"TAB","UN","TAB",{"$f":"'FICHE NAVETTE'!F49","v":0},"*DN"]
[{"$f":"IF(I37=0,\"\",'FICHE NAVETTE'!A50)","v":""},"TAB","MAGASIN901","TAB",{"$f":"CONCATENATE(\"MAGASIN\",'FICHE NAVETTE'!$B$3)","v":"MAGASIN815"},"TAB","UN","TAB",{"$f":"'FICHE NAVETTE'!F50","v":0},"*DN"]
[{"$f":"IF(I38=0,\"\",'FICHE NAVETTE'!A51)","v":""},"TAB","MAGASIN901","TAB",{"$f":"CONCATENATE(\"MAGASIN\",'FICHE NAVETTE'!$B$3)","v":"MAGASIN815"},"TAB","UN","TAB",{"$f":"'FICHE NAVETTE'!F51","v":0},"*DN"]
[{"$f":"IF(I39=0,\"\",'FICHE NAVETTE'!A52)","v":""},"TAB","MAGASIN901","TAB",{"$f":"CONCATENATE(\"MAGASIN\",'FICHE NAVETTE'!$B$3)","v":"MAGASIN815"},"TAB","UN","TAB",{"$f":"'FICHE NAVETTE'!F52","v":0},"*DN"]
[{"$f":"IF(I40=0,\"\",'FICHE NAVETTE'!A53)","v":""},"TAB","MAGASIN901","TAB",{"$f":"CONCATENATE(\"MAGASIN\",'FICHE NAVETTE'!$B$3)","v":"MAGASIN815"},"TAB","UN","TAB",{"$f":"'FICHE NAVETTE'!F53","v":0},"*DN"]
[{"$f":"IF(I41=0,\"\",'FICHE NAVETTE'!A54)","v":""},"TAB","MAGASIN901","TAB",{"$f":"CONCATENATE(\"MAGASIN\",'FICHE NAVETTE'!$B$3)","v":"MAGASIN815"},"TAB","UN","TAB",{"$f":"'FICHE NAVETTE'!F54","v":0},"*DN"]
[{"$f":"IF(I42=0,\"\",'FICHE NAVETTE'!A55)","v":""},"TAB","MAGASIN901","TAB",{"$f":"CONCATENATE(\"MAGASIN\",'FICHE NAVETTE'!$B$3)","v":"MAGASIN815"},"TAB","UN","TAB",{"$f":"'FICHE NAVETTE'!F55","v":0},"*DN"]
[{"$f":"IF(I43=0,\"\",'FICHE NAVETTE'!A56)","v":""},"TAB","MAGASIN901","TAB",{"$f":"CONCATENATE(\"MAGASIN\",'FICHE NAVETTE'!$B$3)","v":"MAGASIN815"},"TAB","UN","TAB",{"$f":"'FICHE NAVETTE'!F56","v":0},"*DN"]
[{"$f":"IF(I44=0,\"\",'FICHE NAVETTE'!A57)","v":""},"TAB","MAGASIN901","TAB",{"$f":"CONCATENATE(\"MAGASIN\",'FICHE NAVETTE'!$B$3)","v":"MAGASIN815"},"TAB","UN","TAB",{"$f":"'FICHE NAVETTE'!F57","v":0},"*DN"]
[{"$f":"IF(I45=0,\"\",'FICHE NAVETTE'!A58)","v":""},"TAB","MAGASIN901","TAB",{"$f":"CONCATENATE(\"MAGASIN\",'FICHE NAVETTE'!$B$3)","v":"MAGASIN815"},"TAB","UN","TAB",{"$f":"'FICHE NAVETTE'!F58","v":0},"*DN"]
[{"$f":"IF(I46=0,\"\",'FICHE NAVETTE'!A59)","v":""},"TAB","MAGASIN901","TAB",{"$f":"CONCATENATE(\"MAGASIN\",'FICHE NAVETTE'!$B$3)","v":"MAGASIN815"},"TAB","UN","TAB",{"$f":"'FICHE NAVETTE'!F59","v":0},"*DN"]
[{"$f":"IF(I47=0,\"\",'FICHE NAVETTE'!A60)","v":""},"TAB","MAGASIN901","TAB",{"$f":"CONCATENATE(\"MAGASIN\",'FICHE NAVETTE'!$B$3)","v":"MAGASIN815"},"TAB","UN","TAB",{"$f":"'FICHE NAVETTE'!F60","v":0},"*DN"]

{"sheet":"ANNUAIRE AGENCES","index":3,"n_rows":161,"n_cols":15,"rows_kept":161,"cut":false,"hidden":true,"merged":[[186,2,186,5]]}
[null,null,null,null,null,"MAGASIN",null,null,"CHEF D'EQUIPE",null,null,"CHEF D'AGENCE / D'ANTENNE"]
["CIA","Région","TYPE","Nom du site","Adresse","Responsable magasin","TEL magasin","Mail","Chefs d'équipe","TEL Chefs d'Equipe","Mail","Nom","Tel Chef d'Agence","Mail","COMMUNICATION A ENVOYER A "]
[112,"T1","Agence","AVIGNON","135 Avenue Pierre Sémard \nCentre M.I.N. Bât D2\n84000 AVIGNON","Emmanuel LENNE",689571687,"emmanuel.lenne@engie.com","Emmanuel LENNE",689571687,"emmanuel.lenne@engie.com","Delphine BOUSQUET","06 71 04 71 59","delphine.bousquet@engie.com","emmanuel.lenne@engie.com;alexis.kozlowski@engie.com;alexandre.paoli@engie.com;thierry.belmont@engie.com"]
[114,"T1","Agence","GRAND MARSEILLE","48 AVENUE DU TEMPLIERS\n13400 AUBAGNE","David MARCELINE ",764259686,"david.marceline@engie.com","Michael SEGHAIR - HIVERT Nicolas",698213560,"nicolas.hivert@engie.com; michael.seghair@engie.com","Jean CALAPPI / Arnaud Aubry (adj)","06 66 46 56 49 / 06 10 16 37 59","jean.calappi@engie.com / arnaud.aubry@engie.com","nicolas.hivert@engie.com;michael.seghair@engie.com;alexandre.paoli@engie.com;thierry.belmont@engie.com"]
[118,"T1","Agence","AIX EN PROVENCE","30 Avenue H. MALACRIDA\nBât D Le Métropole \n13100 AIX EN PROVENCE",null,null,null,"David BELLONE / Sébastien RICHAUD (VMC) / Jean-Guillaume CHABAS","06 23 10 85 11 / 06 69 16 47 43 / 07 64 76 70 87","david.bellone@engie.com;sebastien.richaud@engie.com;jean.chabas@engie.com","Vincent LALUC",614346019,"vincent.laluc@engie.com","provence-metropole.homeservices@engie.com; christian.parlato@engie.com; ; romain.braem@engie.com; david.bellone@engie.com;alexandre.paoli@engie.com;jean.chabas@engie.com;thierry.belmont@engie.com"]
[119,"T1","Agence","MARSEILLE PLOMBERIE","48 AVENUE DU TEMPLIERS\n13400 AUBAGNE","David MARCELINE ",764259686,"david.marceline@engie.com","ARQUIER Aurélie ",699114655,"aurelie.arquier@engie.com","Jean CALAPPI / Arnaud Aubry (adj)","06 66 46 56 49 / 06 10 16 37 59","jean.calappi@engie.com / arnaud.aubry@engie.com","aurelie.arquier@engie.com;alexandre.paoli@engie.com;thierry.belmont@engie.com"]
[120,"T1","Agence","TOULON ","41 Avenue des Frères Lumieres\n83160 LA VALETTE DU VAR","Sébastien BRUYERE","06 71 04 70 47","magasin.toulon-lafarlede.homeservices@engie.com","Christophe QUERUEL / BOUDAUD Jérôme / Pierre MERLY","06 71 04 70 46 / 06 71 60 61 60 / 06 71 04 70 53","christophe.queruel@engie.com / jerome.boudaud@engie.com / Pierre.MERLY@engie.com","Patrick FERNANDEZ","06 14 36 73 82","patrick.fernandez@engie.com","franck.bendamoun@engie.com; magasin.toulon-lafarlede.homeservices@engie.com; christophe.queruel@engie.com;Sebastien.BRUYERE@engie.com;alexandre.paoli@engie.com;thierry.belmont@engie.com"]
[121,"T1","Agence","LE CANNET","Place Vila Do Conde\n06110 LE CANNET","Massimo DI MEGLIO","06 03 15 39 51","massimo.di-meglio@engie.com","Philippe SAUNIER / Marc DELANGLEZ / Julien HINGUE","06 72 75 85 66 /  06 16 08 86 90 / 06 99 62 04 81"," philippe.saunier1@engie.com;marc.delanglez@engie.com;julien.hingue@engie.com","Franck SOULARD / Denis MANCEAU (Adj)","06 16 08 67 08 / 06 71 04 71 35","franck.soulard@engie.com ; denis.manceau@engie.com","massimo.di-meglio@engie.com;alexandre.paoli@engie.com;thierry.belmont@engie.com"]
[122,"T1","Agence","TOULON LA FARLEDE","43 Avenue des Frères Lumieres\n83160 LA VALETTE DU VAR","LOMBARDI Jason",623108515,"jason.lombardi@engie.com",null,null,null,"JUNGO Stéphane",682685074,"stephane.jungo@engie.com","jason.lombardi@engie.com;alexandre.paoli@engie.com"]
[124,"T1","Agence",null,"Z.I de Furiani - 145 Rue Pierre Cahusac",null,null,null,"Jason LOMBARDI",623108515,"Jason.LOMBARDI@engie.com","Stéphane JUNGO","06 88 92 30 29","stephane.jungo@engie.com","stephane.jungo@engie.com;Jason.LOMBARDI@engie.com;alexandre.paoli@engie.com;thierry.belmont@engie.com"]
[145,"T1","Agence","AGENCE CORSE","Rue Martin Borgomano\nRésidence des Golfes, Quartier Pietralba\n20090 AJACCIO",null,null,null,"Valentin RIGOLET","06 71 04 70 38","valentin.rigolet@engie.com","Stéphane JUNGO","06 88 92 30 29","stephane.jungo@engie.com","valentin.rigolet@engie.com;Stephane.jungo@engie.com;alexandre.paoli@engie.com;thierry.belmont@engie.com"]
[147,"T1","Agence","ALES","441 Rue André Boulle\n30100 ALES",null,null,null,"Abdel Akim IKARIONEN","06 71 04 71 49","akim.ikarionen@engie.com ","Thierry PACHECO",610109274,"thierry.pacheco@engie.com","akim.ikarionen@engie.com;alexandre.paoli@engie.com;thierry.belmont@engie.com"]
[148,"T6","Agence","NARBONNE","3 Allée Bosque du Somail\n11120 ST NAZAIRE D'AUDE",null,null,null,"Julien FONTANILLAS / Sophian BOUZAR-ESSAIDI ","06 81 20 02 62 / 06 27 02 69 71","julien.fontanillas@engie.com ; sophian.bouzar-essaidi@engie.com","Fabrice LEGER","06 81 20 02 62","fabrice.leger@engie.com","julien.fontanillas@engie.com; sophian.bouzar-essaidi@engie.com;  jerome.degeilh@engie.com"]
[151,"T6","Agence","MONTPELLIER SUD","101 Impasse Jean Cocteau\nZAC de Tournezy - Bât B12\n34070 MONTPELLIER","Morgan SORIANO",614208953,"morgan.soriano@engie.com ","Bastien HOCHART / Julien DEMARETZ","06 71 04 70 37 / 06 71 04 70 18 / 06 71 60 61 59","bastien.hochart@engie.com ; julien.demaretz@engie.com ","Thierry PACHECO / Youkis MATAIX (Adj)","06 10 10 92 74 / 06 71 04 70 19","thierry.pacheco@engie.com ; youkis.mataix@engie.com","youkis.mataix-thao@engie.com;julien.demaretz@engie.com;morgan.soriano@engie.com;  jerome.degeilh@engie.com"]
[155,"T1","Agence","FREJUS","17 Chemin du jas neuf\n83480 PUGET SUR ARGENS",null,null,null," Romain SCHNEIDER / Loris FABRE / Marion BILLO","06 67 15 01 85 / 06 10 04 92 81 / 06 59 38 06 17","romain.schneider@engie.com;loris.fabre@engie.com;Marion.BILLO@engie.com","Roderick BAILET",671047002,"roderick.bailet@engie.com","Romain.SCHNEIDER@engie.com;loris.fabre@engie.com;alexandre.paoli@engie.com;thierry.belmont@engie.com"]
[158,"T1","Agence","MARSEILLE CHANTIER","LD LA SUPIERE\nBAT BOURBON RUE DE LA VALLEE VERTE\n13011 MARSEILLE",null,null,null,"Céline LEGOUEZ (Conductrice de travaux)","06 59 70 69 20 / 04 91 19 51 24","celine.legouez@engie.com","Fabrice CHAUVET",611560394,"fabrice.chauvet@engie.com","celine.legouez@engie.com;alexandre.paoli@engie.com"]
[165,"T1","hochart","NIMES","125 Rue de l'Hostellerie\nParc Acti plus Bât B - Entrée AB\n30900 NIMES",null,null,null," Emilie ARLAC / MERABET Mohamed  / Christophe MAFFEI","04 72 64 81 09 / 06 99 79 12 88 / 06 71 60 41 05 / 06 71 04 71 53"," emilie.arlac@engie.com;christophe.maffei@engie.com;mohamed.merabet@engie.com ","Thierry PACHECO",610109274,"thierry.pacheco@engie.com","mohamed.merabet@engie.com; emilie.arlac@engie.com ;christophe.maffei@engie.com;alexandre.paoli@engie.com;thierry.belmont@engie.com"]
[166,"t6","Antenne VMC","NIMES VMC","125 Rue de l'Hostellerie\nParc Acti plus Bât B - Entrée AB\n30900 NIMES",null,null,null,"Bastien HOCHART / Julien DEMARETZ","06 71 04 70 37 / 06 71 04 70 18 / 06 71 60 61 59","bastien.hochart@engie.com ; julien.demaretz@engie.com ","Thierry PACHECO / Youkis MATAIX (Adj)","06 10 10 92 74 / 06 71 04 70 19","thierry.pacheco@engie.com ; youkis.mataix@engie.com","bastien.hochart@engie.com ; julien.demaretz@engie.com ;morgan.soriano@engie.com;  jerome.degeilh@engie.com"]
[167,"T1","Antenne VMC","AIX EN PROVENCE VMC","30 Avenue Malacrida\n13100 AIX EN PROVENCE",null,null,null,"Jean-Guillaume CHABAS",764767087,"jean.chabas@engie.com","Vincent LALUC",614346019,"vincent.laluc@engie.com","sebastien.richaud@engie.com;alexandre.paoli@engie.com;thierry.belmont@engie.com"]
[168,"T1","Antenne VMC","TOULON VMC","41 Avenue Des frères Lumieres\n83160 LA VALETTE DU VAR",null,null,null,"Franck BENDAMOUN","06 16 08 46 91","franck.bendamoun@engie.com","Patrick FERNANDEZ","06 14 36 73 82","patrick.fernandez@engie.com","franck.bendamoun@engie.com ; romain.braem@engie.com; magasin.toulon-lafarlede.homeservices@engie.com; christophe.queruel@engie.com;alexandre.paoli@engie.com;thierry.belmont@engie.com"]
[169,"T1","Antenne VMC","CANNES VMC","Place Vila Do Conde\n06110 LE CANNET","Massimo DI MEGLIO","06 03 15 39 51","massimo.di-meglio@engie.com","Stephan PIAT",671047160,"stephan.piat@engie.com","Franck SOULARD ","06 16 08 67 08","franck.soulard@engie.com ","massimo.di-meglio@engie.com;alexandre.paoli@engie.com;thierry.belmont@engie.com"]
[170,"T6","Antenne","PERPIGNAN CABESTANY","14 Avenue André Ampère\n66330 CABESTANY",null,null,null,"Jérôme BASTARDY",689571643,"jerome.bastardy@engie.com","Fabrice LEGER","06 81 20 02 62","fabrice.leger@engie.com","jerome.bastardy@engie.com;  jerome.degeilh@engie.com"]
[175,"T1","Agence","MARSEILLE GEMENOS","30 Avenue du Château de Jouque\nLes Espaces de la Sainte Baume\n13420 GEMENOS",null,null,null,"Michael SEGHAIR",698213560,"michael.seghair@engie.com","François BRINIS","06 18 73 16 57","francois.brinis@engie.com","michael.seghair@engie.com;alexandre.paoli@engie.com"]
[180,"T1","Antenne ENR","AIX EN PROVENCE ENR","30 Avenue Malacrida\n13100 AIX EN PROVENCE",null,null,null,"Christian PARLATO ",null,"christian.parlato@engie.com","Vincent LALUC",614346019,"vincent.laluc@engie.com","christian.parlato@engie.com,;alexandre.paoli@engie.com"]
[181,"T1","Agence","LES MEES","17 Boulevard des Tilleuls\nRésidence les Pénitents n°1\n04190 LES MEES",null,null,null,"DUPIN Xavier",665225309,"xavier.dupin@engie.com","Franck BARDIOT","06 30 27 83 17","franck.bardiot@engie.com","Franck.BARDIOT@engie.com; xavier.dupin@engie.com;alexandre.paoli@engie.com;thierry.belmont@engie.com"]
[187,"T1","Agence","NICE ","116 B Avenue Henri Dunant\n06100 NICE","Jonathan CORSINI","07 64 45 18 10","jonathan.corsini@engie.com","Thierry LUQUET / Valentin CENCINI (ENR) / Xavier LEININGER"," 06 72 75 86 05 / 07 62 88 76 31 / 06 18 57 84 16","thierry.luquet@engie.com ;valentin.cencini@engie.com;xavier.leininger@engie.com","Dimitri PERAUD",616086709,"dimitri.peraud@engie.com","dimitri.peraud@engie.com;jonathan.corsini@engie.com;alexandre.paoli@engie.com;thierry.belmont@engie.com"]
[201,"T7","Agence","BOURGES","41 Allée Evariste Galois\n18000 BOURGES","Arnaud DROLLON (arrêt maladie longue durée) / David LEFEBVRE (en renfort jusqu'à cet été normalement sur AG 234)","02 48 20 02 39 / 06 16 46 45 64","loic.nion@engie.com/david.lefebvre@engie.com","Arnaud DROLLON / Karen ANDRE","06 98 65 78 31 / 06 98 65 78 32","arnaud.drollon@engie.com;karen.andre@engie.com","Loic NION",null,"loic.nion@engie.com","cecile.loze@engie.com;karen.andre@engie.com; david.lefebvre@engie.com"]
[226,"T7","Agence","NEVERS","26 Route de Lyon \n58000 SERMOISE SUR LOIRE","Eric LANDWERLIN","03 86 90 92 38 / 06 23 06 48 67","eric.landwerlin@engie.com","Eric LANDWERLIN / Fabien MARION","06 23 06 48 67","eric.landwerlin@engie.com","David SAUVIGNE",612726870,"david.sauvigne@engie.com","eric.landwerlin@engie.com; cecile.loze@engie.com"]
[228,"T4","Agence","CAEN","61 Rue Charles Coulomb\n14120 MONDEVILLE","Estelle MARGUERITE /AIDE Virginie ARSENE","02 99 42 77 53","magasin.caen-carpiquet.homeservices@engie.com; estelle.marguerite@engie.com","Stéphane LERENDU / Luc BARBEY / Alban LUCAS / Frédéric FOUBERT / Romain BAZIRE","06 22 02 37 42 / 06 72 27 49 72","stephane.lerendu@engie.com;alban.lucas@engie.com ; frederic.foubert@engie.com","Yoann PINCHARD ","06 77 66 04 26","yoann.pinchard@engie.com","magasin.caen-carpiquet.homeservices@engie.com; armelle.lales@engie.com"]
[230,"T7","Agence","TOURS ","25 Rue Albert Einstein\n37000 TOURS","Olivier DUVAL","06 85 67 57 16","olivier.duval1@engie.com","Jérémy GRELLIER / David LETENDRE / Valérian SOLNAIS / Laurent CLEMENT","06 60 08 47 23 / 06 72 27 53 62 / 06 71 60 90 72 / 06 88 05 06 87","jeremy.grellier@engie.com;david.letendre@engie.com;valerian.solnais@engie.com;laurent.clement@engie.com","Noël PELTIER ","06 15 55 67 16",null,"olivier.duval1@engie.com;jeremy.grellier@engie.com;david.letendre@engie.com;valerian.solnais@engie.com;laurent.clement@engie.com;cecile.loze@engie.com"]
[231,"T7","Antenne","MONTARGIS","26 Rue Nicephore Niepce\n45700 VILLEMANDEUR","Julien HAUGUEL","02 38 85 79 54 / 06 19 05 32 47","amaury.wallez@engie.com ; jonathan.lepretre@engie.com","Amaury WALLEZ","02 38 07 41 06 / 06 12 72 68 87","amaury.wallez@engie.com","Patrick DEGOSSE","06 68 09 99 62","patrick.degosse@engie.com","patrick.degosse@engie.com; amaury.wallez@engie.com; cecile.loze@engie.com"]
[234,"T7","Agence","ORLEANS LES MONTEES","11 Rue de l'Industrie\n45073 ORLEANS CEDEX 2","Jonathan Lepretre / David LEFEBVRE (sur Bourges jusqu'à juin)","02 38 88 77 22/06 16 46 45 64","david.lefebvre1@engie.com; jonathan.lepretre@engie.com","Jonathan Lepretre / David LEFEBVRE (sur Bourges jusqu'à juin)","06 24 51 92 22 / 06 16 46 45 64","david.lefebvre@engie.com; jonathan.lepretre@engie.com","Cyril LUTTON","06 15 55 67 16","cyril.lutton@engie.com","jonathan.lepretre@engie.com; cecile.loze@engie.com"]
[239,"T7","Agence","ORLEANS ST JEAN DE LA RUELLE","15 Rue de la Bâtardière\n45140 ST JEAN DE LA RUELLE","Antoine ROCHETEAU","02 38 84 89 95 / 06 16 54 11 06","antoine.rocheteau@engie.com","Eric DESHAYE / Anthony SALGUEIRO / Franck BRAVO","06 14 39 55 17 / 06 24 33 04 24","eric.deshaye@engie.com ; Anthony.SALGUEIRO@engie.com","Stéphane MOLINEAU","06 16 54 66 96","stephane.molineau@engie.com","antoine.rocheteau@engie.com; cecile.loze@engie.com"]
[244,"T7","Agence","ROMORANTIN","Rue de Plaisance\n41200 ROMORANTIN","Franck BONSIGNE","02 54 88 86 71 / 06 23 06 48 66 ","franck.bonsigne@engie.com","Sebastien GRANGER / Samuel MARCHAIS"," 06 22 61 32 02 / 06 15 07 80 23","sebastien.granger@engie.com","José JIMENEZ ","06 72 27 50 07","benoit.dauloir@engie.com","franck.bonsigne@engie.com; cecile.loze@engie.com"]
[248,"T4","Agence","CHERBOURG","4 Rue du Caporal Maupas - St Jean des Carrières\n50100 CHERBOURG","Isabelle MESLIN","02 33 20 63 10 / 06 65 51 82 47","magasin.cherbourg.homeservices@engie.com","Sebastien LELERRE","06 72 27 48 56","sebastien.lelerre@engie.com","Patrick HENNION","06 16 24 41 18","patrick.hennion@engie.com","magasin.cherbourg.homeservices@engie.com; armelle.lales@engie.com"]
[249,"T7","Agence","BLOIS","28 Avenue Robert Schumann\n41000 BLOIS","Michel TAVENIER / Franck DUTEILLE",null,"franck.duteille@engie.com","Franck DUTEILLE / Michel TAVENIER","07 60 17 98 66 / 06 03 44 27 21 (laisser des msg vocaux ou envoyer des emails)","franck.duteille@engie.com;","Steeve VANUXEM","07 61 01 75 04","steeve.vanuxem@engie.com","franck.duteille@engie.com; cecile.loze@engie.com"]
[250,"T4","Agence","ALENCON","21 Rue de la Charité\n61250 CONDE SUR SARTHE","Thierry GASDON","06 16 37 31 99","thierry.gasdon@engie.com","Thierry GASDON / Pierre LEVESQUE / Cédric BARE","06 16 37 31 99 / 06 16 37 14 43","thierry.gasdon@engie.com;pierre.levesque@engie.com;cedric.bare@engie.com","Eric GALLOT","06 72 27 49 67","eric.gallot@engie.com"," thierry.gasdon@engie.com; pierre.levesque@engie.com; magasin.alencon.homeservices@engie.com;cedric.bare@engie.com; armelle.lales@engie.com"]
[251,"T7","Agence","CHATEAUROUX","551 Rue Georges Clemenceau\nZone Aéroportuaire\n36130 DEOLS","Julien HALLARY",672275277,"julien.hallary@engie.com","Yohan MARILLEAU / Julien HALLARY","06 23 06 48 74 / 06 72 27 52 77","yohann.marilleau@engie.com;julien.hallary@engie.com","Frédéric NION","06 16 54 66 96","frederic.nion@engie.com","julien.hallary@engie.com; cecile.loze@engie.com"]
[252,"T8","Agence","EVREUX","2 Rue d’Aqueduc - Route National 13\n27930 LE VIEIL EVREUX","Christophe DOSSANG","02 32 78 24 00 / 06 16 46 52 25","christophe.dossang@engie.com","Julien PARSHAD","06 21 22 76 17","julien.parshad@engie.com","LE ROUX Sébastien",610902275,"sebastien.leroux@engie.com","christophe.dossang@engie.com ; julien.parshad@engie.com ; karine.felix@engie.com"]
[255,"T4","Agence","L'AIGLE","4 Rue Louis Pasteur\n61300 L'AIGLE","Thierry GASDON","06 16 37 31 99","thierry.gasdon@engie.com","Thierry GASDON","06 16 37 31 99","thierry.gasdon@engie.com","Eric GALLOT","06 72 27 49 67","eric.gallot@engie.com"," thierry.gasdon@engie.com; armelle.lales@engie.com"]
[264,"T7","Agence","CHARTRES","26 Avenue Louis Pasteur\n28630 GELLAINVILLE","Julien BOURIETTE / Louis JEANNETEAU (en arrêt jusqu'à janvier)","06 45 73 39 54 / 06 99 11 86 14","julien.bouriette@engie.com; louis-michel.jeanneteau@engie.com","Maxime PELLETIER / Olivier SAILLARD (en arrêt) / Patrick DUBESSAY","06 09 89 60 31 / 06 72 27 55 81 / 06 07 59 02 83","maxime.pelletier@engie.com; olivier.saillard@engie.com;patrick.dubessay@engie.com","Pascal MARIN","06 65 50 37 19","pascal.marin1@engie.com","pascal.marin1@engie.com; olivier.saillard@engie.com; cecile.loze@engie.com"]
[288,"T7","Agence","AUXERRE","Rue du Bas de Jonches\nZI Plaine des Isles\n89000 AUXERRE","Thomas GERMAIN","06 99 62 19 87","thomas.germain@engie.com","Didier SUTER / Olivier RAFFESTIN / David MOLINA ","06 72 27 55 80 / 06 88 05 07 02 / 06 89 77 02 54","didier.suter@engie.com;olivier.raffestin@engie.com; david.molina@engie.com","Nicolas DELAUNAY",665099575,null,"didier.suter@engie.com; david.molina@engie.com; olivier.raffestin@engie.com; thomas.germain@engie.com; cecile.loze@engie.com"]
[289,"T7","Antenne","SENS","29 Rue des Seigles\n89100 COURTOIS","Davy SAILLANT / Wilfrid DELCOURT","06 73 87 44 88 / 06 85 67 57 45","davy.saillant@engie.com;Jeremy.blanc@engie.com","Davy SAILLANT / Wilfrid DELCOURT","06 73 87 44 88 / 06 85 67 57 45","davy.saillant@engie.com;Jeremy.blanc@engie.com","Davy SAILLANT",673874488,"pascal.betems@engie.com","davy.saillant@engie.com; cecile.loze@engie.com"]
[302,"T1","Agence","VICHY","15 Boulevard du Bicentenaire\n03300 CUSSET","Patrice HIDA / Denis BUISSONNIER","06 58 56 52 59 / 07 63 15 00 80","patrice.hida@engie.com;denis.buissonnier@engie.com","Jean-Paul FOREST / Eric MECHIN / Denis BUISSONIER / Frédéric GATTOLIN"," 06 23 17 10 05 / 06 20 71 58 37 /  07 63 15 00 80 / 06 99 18 38 57","Jean-paul.forest@engie.com;Eric.MECHIN@engie.com;denis.buissonnier@engie.com;frederic.gattolin@engie.com","Claude Maridet / Guillaume MACEL (adj)","07 63 44 37 46 / 06 10 14 43 37","claude.maridet@engie.com / guillaume.macel@engie.com","patrice.hida@engie.com; guillaume.macel@engie.com; thierry.belmont@engie.com; alexandre.paoli@engie.com"]
[303,"T1","Agence","CLERMONT- FERRAND","15 bis rue Elisée Reclus\n63100 CLERMONT-FERRAND","Marie-Pierre AUDRAS","04 73 55 58 58 / 06 20 71 86 92 ","marie-pierre.audras@engie.com;William.BESSERVE@engie.com;Ludovic.BRECHARD@engie.com","Marie-Pierre AUDRAS / Ludovic BRECHARD / William BESSERVE / Julio TERRANOVA","06 20 71 86 92 / 06 18 00 85 65 / 06 23 76 27 35 / 06 60 70 11 23","marie-pierre.audras@engie.com;Ludovic.BRECHARD@engie.com;William.BESSERVE@engie.com;Julio.TERRANOVA@engie.com","Stéphane COSENZA ",698306229,"stephane.cosenza@engie.com","marie-pierre.audras@engie.com;thierry.belmont@engie.com;CLERMONT-FERRAND.HOMESERVICES@ENGIE.COM;alexandre.paoli@engie.com"]
[305,"T1","Agence","LYON EST","11 Allée des Sorbiers\n69500  BRON","Kevin COQUEL ",620665278,"Kevin.coquel@engie.com","Dimitri FELIX / David LOUREIRO / Anthony CASELLA","06 98 99 62 94 / 06 24 33 78 87 / 06 60 71 20 08","Dimitri.felix@engie.com;David.LOUREIRO@engie.com;Anthony.CASELLA@engie.com","Olivier GEILLE",666889072,"olivier.geille@engie.com","magasin.lyon-est.homeservices@engie.com; thierry.belmont@engie.com ; dimitri.felix@engie.com ; kevin.coquel@engie.com; alexandre.paoli@engie.com"]
[306,"T1","Agence","SAINT ETIENNE ALLIES","22 Rue du Vercors\n42100 ST ETIENNE","Attia ANOUAR",null,"mustafa.arik@engie.com; murat.han@engie.com","Mustapha ARIK / Athmane BENAI","06 20 66 52 86 / 07 64 46 67 22","mustafa.arik@engie.com;athmane.benai@engie.com","Murat HAN","06 24 54 31 88","murat.han@engie.com","Mustafa.ARIK@engie.com;thierry.belmont@engie.com;dounia.ouaziz@engie.com;mathieu.merulla@engie.com;alexandre.paoli@engie.com"]
[309,"T1","Agence","GRENOBLE","27 Rue de Glairaux\n38120  SAINT EGREVE","Raphael JAMBON","04 76 48 53 13 / 06 20 80 34 38","raphael.jambon@engie.com","Morgan DEBOURBIAUX / Michael OZTURK","06 89 41 93 06 / 06 61 80 05 76","morgan.debourbiaux@engie.com;michael.ozturk@engie.com","Adrien SANCHEZ",619311235,"adrien.sanchez@engie.com","Adrien.SANCHEZ@engie.com;Raphael.JAMBON@engie.com;thierry.belmont@engie.com;alexandre.paoli@engie.com"]
[310,"T1","Agence","VALENCE","85 Allée du Merle\nImmeuble la Rotonde \n26500 BOURG LES VALENCE","Raphael FERRATIER","04 75 60 49 44 / 06 99 05 42 42","Raphael.FERRATIER@engie.com","Eric FEREZ / Jean-Christophe SARRAZIN","06 19 19 47 83 / 06 21 87 34 52","eric.ferez@engie.com;jean-christophe.sarrazin@engie.com","Thierry GAILLARD",620630432,"raphael.ferratier@engie.com","magasin.valence.homeservices@engie.com; thierry.belmont@engie.com; alexandre.paoli@engie.com"]
[312,"T1","Antenne","MOULINS","2 Rue Robert Pomarede\nRésidence Les Jardins du Petit Panteloup\n03400 YZEURE","Frédéric GATTOLIN","04 70 44 55 13 / 06 99 18 38 57 ","frederic.gattolin@engie.com","Frédéric GATTOLIN","06 99 18 38 57","frederic.gattolin@engie.com","Guillaume MACEL / Claude MARIDET","06 50 85 32 28 / 07 63 44 37 46","guillaume.macel@engie.com; claude.maridet@engie.com","frederic.gattolin@engie.com; thierry.belmont@engie.com ; guillaume.macel@engie.com; claude.maridet@engie.com; alexandre.paoli@engie.com"]
[319,"T1","Agence","CHAMBERY LA RAVOIRE","370 Chemin du Clapet\nZI de la Villette\n73490 LA RAVOIRE","Eddy CAZZARO","06 21 35 01 81","eddy.cazzaro@engie.com","Eddy CAZZARO","06 21 35 01 81","eddy.cazzaro@engie.com","Jean-Luc MOINE","06 71 04 70 00","Jean-luc.moine@engie.com","jean-luc.moine@engie.com;thierry.belmont@engie.com;eddy.cazzaro@engie.com;alexandre.paoli@engie.com"]
[330,"T1","Agence","LYON BRIGNAIS","21 Rue de l'industrie\nWest-Park\n69530 BRIGNAIS","Lionel MANDON / Etienne MIRANDE-GARAT","06 10 14 05 11","lionel.mandon@engie.com; etienne.mirande-garat@engie.com","Eric ZAMMIT / Carole PHMANIVANH / Alper DUYGU / Etienne MIRANDE GARAT / Francisco MONTEIRO","06 71 04 69 49 / 07 60 60 99 88 / 06 98 42 78 80 / 06 62 19 85 82 / 07 61 80 65 97","Eric.ZAMMIT@engie.com;carole.phamanivanh@engie.com;alper.duygu@engie.com;etienne.mirande-garat@engie.com;francisco.monteiro@engie.com","Kamel HASSAINE",610163759,"kamel.hassaine@engie.com","thierry.belmont@engie.com;lionel.mandon@engie.com ;etienne.mirande-garat@engie.com;alexandre.paoli@engie.com"]
[332,"T1","Agence","MONTELIMAR","10 Rue Paul Loubet\n26200 MONTELIMAR","Etienne LOCHE","04 75 01 36 69 / 06 16 31 48 26","magasin.montelimar.homeservices@engie.com","Julien MOTOS / Etienne LOCHE","06 20 95 71 02 / 06 16 31 48 26","julien.motos@engie.com;Etienne.LOCHE@engie.com;","Gilles LORINQUER","06 67 00 43 48","gilles.lorinquer@engie.com","Etienne.LOCHE@engie.com; thierry.belmont@engie.com; julien.motos@engie.com; alexandre.paoli@engie.com;"]
[343,"T1","Agence","MONTBRISON","46 Rue des Grands Chênes\nZA des Granges\n42600 MONTBRISON","Jean-Luc LAURENT","04 77 72 23 70 / 06 07 73 66 90 (joignable de préférnce le matin)","magasin.roanne.homeservices@engie.com","Jean-Luc LAURENT / Cyril FAURE","06 07 73 66 90 / 06 24 33 71 22","jean-luc.laurent1@engie.com;","Eric VIOLLET","06 20 66 53 05","eric.viollet@engie.com","magasin.roanne.homeservices@engie.com;thierry.belmont@engie.com;alexandre.paoli@engie.com"]
[344,"T1","Agence","ANNECY CRAN GEVRIER","8 Route de Nanfray\nParc du Levray\n74960 CRAN GEVRIER","Marc LAMBERT","06 69 17 45 79 ","marc.lambert@engie.com","Marc LAMBERT / Jose DA COSTA DIAS","06 69 17 45 79 / 06 98 18 04 24","marc.lambert@engie.com; jose.dacostadias@engie.com","José Da Costa Dias"," 06 98 18 04 24","jose.dacostadias@engie.com","marc.lambert@engie.com;jose.dacostadias@engie.com;thierry.belmont@engie.com;alexandre.paoli@engie.com"]
[352,"T1","Agence","VIENNE","12 Rue Maugiron\n38200 VIENNE","Mathieu DELABIE",761879418,"vienne.homeservices@engie.com ; mathieu.delabie@engie.com","Stéphane DE BORRAS",659727521,"stephane.de-borras@engie.com","Choukri ASSOUL","06 72 20 89 17","choukri.assoul@engie.com","vienne.homeservices@engie.com;thierry.belmont@engie.com;alexandre.paoli@engie.com"]
[356,"T1","Agence","BOURG EN BRESSE ST DENIS","13 Rue de Presle\n01310 POLLIAT","Agnès CHRETIN","06 09 18 33 97","agnes.chretin@engie.com","François DUBOIS / Julien GAILLARD / Agnès CHRETIN / Gérald GUICHARD / Romain DRAPIER ","06 20 63 04 34 / 06 60 70 98 43 / 06 09 18 33 97 / 06 20 66 53 64 / 06 23 76 42 03"," françois.Dubois1@engie.com;julien.gaillard2@engie.com;agnes.chretin@engie.com;gerald.guichard@engie.com;romain.drapier@engie.com","Romain LANARET",660250732,"romain.lanaret@engie.com","agnes.chretin@engie.com; thierry.belmont@engie.com; alexandre.paoli@engie.com"]
[357,"T1","Agence","CHALON SUR SAONE THALIE","16 Rue des Varennes\n71880 CHATENOY LE ROYAL","Thierry JALLET","03 85 48 22 88 / 06 03 82 72 96","magasin.chalonsursaone-thalie.homeservices@engie.com","Serge DISCONTIGNY / Thierry JALLET / Raouf BEN NEJMA","06 25 77 07 59 / 06 03 82 72 96 / 06 72 27 55 48","serge.discontigny@engie.com;thierry.jallet@engie.com;raouf.bennejma@engie.com","Philippe FAVEREAU","06 21 01 61 69","philippe.favereau@engie.com","magasin.chalonsursaone-thalie.homeservices@engie.com;serge.discontigny@engie.com;thierry.belmont@engie.com;raouf.bennejma@engie.com;alexandre.paoli@engie.com"]
[358,"T1","Agence","VILLEFRANCHE SUR SAONE","60 Rue Ronsard\n69400 VILLEFRANCHE SUR SAONE","Laurent GIRAUD","04 74 68 22 29 / 06 20 63 04 30","magasin.villefranchesursaone.homeservices@engie.com","Laurent GIRAUD / Audrey JUNQUA","06 20 63 04 30 / 06 98 46 45 61","Laurent.GIRAUD@engie.com;Audrey.JUNQUA@engie.com","Pascal RUEDA","06 13 56 11 25","pascal.rueda@engie.com","magasin.villefranchesursaone.homeservices@engie.com; thierry.belmont@engie.com; alexandre.paoli@engie.com"]
[359,"T1","Agence","BOURGOIN JALLIEU","ZA Le Perelly \n38300 RUY-MONTCEAU","Sylvie ROQUE / Cédric CORSALE","06 98 51 48 98 / 06 99 20 85 76","sylvie.roque@engie.com / cedric.corsale@engie.com","Sylvie ROQUE / Cédric CORSALE","06 98 51 48 98 / 06 99 20 85 76","sylvie.roque@engie.com;cedric.corsale@engie.com","Adrien BOUVET","06 99 86 51 03","adrien.bouvet@engie.com","sylvie.roque@engie.com; cedric.corsale@engie.com; thierry.belmont@engie.com; alexandre.paoli@engie.com"]
[377,"T1","Agence","BOURG DE PEAGE","305 Allée du Languedoc\nZA Bourg de Péage \n26300 BOURG DE PEAGE","Chloe DAULNY",472813228,"chloe.daulny@engie.com","Didier ACHARD / Anthony LEVEQUE / Jean-Christophe SARRAZIN / Pierre JANVIER","06 19 19 47 91 / 06 24 54 25 39 / 06 21 87 34 52 / 06 16 31 48 23","didier.achard@engie.com;Anthony.LEVEQUE1@engie.com;jean-christophe.sarrazin@engie.com;Pierre.JANVIER@engie.com","Sébastien DURAND ","06 71 04 69 57","Sebastien.DURAND@engie.com","magasin.bourgdepeage.homeservices@engie.com;thierry.belmont@engie.com;chloe.labrouve@engie.com;alexandre.paoli@engie.com"]
[393,"T1","Agence","MACON CHARNAY","83 Chemin du Bois d'Alier\n71850 CHARNAY LES MACON"," ",null,"Francois.dubois1@engie.com","François DUBOIS","06 20 63 04 34 ","Francois.dubois1@engie.com","Olivier GEILLE ","06 66 88 90 72","olivier.geille@engie.com","Francois.dubois1@engie.com; thierry.belmont@engie.com; alexandre.paoli@engie.com"]
[397,"T1","Antenne","ANNONAY","54 Rue Gaston Duclos\n07100 ANNONAY","Aurelie PALLISSE","04 75 33 30 30","annonay.homeservices@engie.com","Mathieu DELABIE","06 62 10 88 22","annonay.homeservices@engie.com;mathieu.delabie@engie.com","Choukri ASSOUL","06 72 20 89 17","choukri.assoul@engie.com","Aurelie.PALISSE@engie.com;thierry.belmont@engie.com;alexandre.paoli@engie.com"]
[412,"T4","Agence","FOUGERES","73C rue de Bretagne\n35133 BEAUCE","Jean-Philippe PARIS","02 99 94 38 67","jean-philippe.paris@engie.com",null,null,null,"Jean Phillipe PARIS","02 99 94 32 09","jean-philippe.paris@engie.com","fougeres.homeservices@engie.com;jean-philippe.paris@engie.com; armelle.lales@engie.com"]
[424,"T4","Agence","NANTES SUD BOURGUENAIS","Rue Gutenberg\nParc de la Bouvre\n44340 BOUGUENAIS","Fabrice MARIANNEAU / Romuald LUCAS","06 83 83 33 07 / 06 17 70 25 37","magasin.nantes-bouguenais.homeservices@engie.com","Fabrice MARIANNEAU / Anthony LEROUX / Yohan BROCHARD","06 83 83 33 07 / 06 16 17 59 29","Fabrice.MARIANNEAU@engie.com;Romuald.lucas@engie.com;yohan.brochard@engie.com","Laurent VILLETTE","02 51 70 77 26","laurent.villette@engie.com","magasin.nantes-bouguenais.homeservices@engie.com; armelle.lales@engie.com; Fabrice.marianneau@engie.com"]
[434,"T4","Agence","RENNES ACIGNE","2 ZA le Boulais\n35690 ACIGNE","Philippe DE CRUZ","02 99 22 82 85 / 06 43 44 82 33","rennes-acigne.homeservices@engie.com","Philippe DE CRUZ / Mickael CROIZIER / Sylvain TUAL / Grégory CHAUSSE / François MARET","06 98 24 68 41 / 06 16 17 73 05","philippe.decruz@engie.com;mickael.croizier@engie.com","Laurent PORTOLLEAU","06 16 17 73 25","laurent.portolleau@engie.com","rennes-acigne.homeservices@engie.com; philippe.decruz@engie.com; armelle.lales@engie.com; laurent.portolleau@engie.com;jean-luc.bertrand@engie.com"]
[435,"T4","Agence","QUIMPER ","462 Route de Rosporden\nEntrée 5\n29000 QUIMPER","Jean-Marc LE GALLIC","02 98 53 09 53 / 06 72 27 46 83","magasin.quimper.homeservices@engie.com","Gérald HENRY / Jean-Marc LE GALLIC / Fabrice ERASTE","06 13 50 12 50 / 06 72 27 46 83","Jean-Marc.LEGALLIC@engie.com;fabrice.eraste@engie.com;gerald.henri@engie.com","Céline LE BRIS",613501242,null,"magasin.quimper.homeservices@engie.com; armelle.lales@engie.com"]
[436,"T4","Agence","VANNES","8 bis Rue Camille Claudel\n56890 PLESCOP","Jennifer JOURY","06 59 36 83 60","magasin.vannes.homeservices@engie.com","Yvan MOREAU / Richard PEDRON / Hélène FRETIN","06 16 48 72 19 / 06 89 49 52 59","yvan.moreau@engie.com;richard.pedron@engie.com;helene.fretin@engie.com","Claude NICOLLE ","02 97 40 20 90","claude.nicolle@engie.com","magasin.vannes.homeservices@engie.com; armelle.lales@engie.com; jennifer.joury@engie.com"]
[437,"T4","Agence","LORIENT","595 Rue Jacques Ange Gabriel\n56850 CAUDAN","Loic LE SAUX","07 61 12 45 87  ","magasin.lorient.homeservices@engie.com","Sandra HACHET / Laurent AUDEGOND",null,"laurent.audegond@engie.com;sandra.hachet@engie.com","Coraline STEPHAN","02 97 83 42 44","coraline.stephan@engie.com","magasin.lorient.homeservices@engie.com; loic.le-saux@engie.com; armelle.lales@engie.com"]
[438,"T4","Agence","ANGERS","4 Rue Richard Lenoir \n49100 ANGERS","Jérémy SOCHELEAU","06 23 19 46 14 / 06 72 27 53 11","jeremy.socheleau@engie.com        ","Jérémy SOCHELEAU / Anthony BRIBARD","06 23 19 46 14 / 06 72 27 53 11","jeremy.socheleau@engie.com;anthony.bribard@engie.com","Frédéric ROBERT","02 41 66 69 66",null,"jeremy.socheleau@engie.com; armelle.lales@engie.com;anthony.bribard@engie.com"]
[439,"T4","Agence","RENNES ","19 Rue Des Petits Champs\n35760 SAINT GREGOIRE","Tiphaine LETENDRE","06 69 10 54 10","magasin.rennes-doneliere.homeservices@engie.com","Gilles GUY / Antoine D'ALEO / Nicolas BAUBRY / Yann BUSSON","06 69 10 54 10 / 06 16 17 73 24 / 06 16 17 73 34","gilles.guy@engie.com;Antoine.DALEO@engie.com;Nicolas.BAUBRY@engie.com;yann.busson@engie.com","Thierry GRIEU","02 99 84 59 50","thierry.grieu@engie.com","magasin.rennes-doneliere.homeservices@engie.com; armelle.lales@engie.com"]
[440,"T4","Agence","LE MANS ","37 Rue Ettore Bugatti \n72650 LA CHAPELLE SAINT AUBIN","Gérald POUSSIN",618932782,"magasin.lemans.homeservices@engie.com","Frédéric LE CORNEC / Eric LAUNAY","06 16 18 52 96 / 06 18 93 27 79","frederic.lecornec@engie.com;eric.launay@engie.com","Yann MESSAGER","06 07 59 02 08","yann.messager@engie.com","magasin.lemans.homeservices@engie.com; armelle.lales@engie.com"]
[441,"T4","Agence","NANTES NORD","1 Rue de l’Allemagne\n44300 NANTES","Laurent VERONNEAU Remplacant : Nicolas Moreau","02 40 30 51 68 / 06 98 30 88 83","magasin.nantes-marchecommun.homeservices@engie.com","Nicolas MOREAU / Steven GOARVOT","06 11 72 06 19 / 06 58 00 64 13","nicolas.moreau@engie.com;steven.goarvot@engie.com","Ludovic BOURRY","02 40 30 5 64","ludovic.bourry@engie.com","magasin.nantes-marchecommun.homeservices@engie.com; armelle.lales@engie.com; nicolas.moreau@engie.com"]
[443,"T4","Agence","SAINT NAZAIRE TRIGNAC","20 Rue Jacques Daguerre \nZI De Brais \n44600 SAINT NAZAIRE","Isabelle GOURMAUD / Julie NICOLAS","02 51 76 03 35 / 06 13 50 12 63 / 06 13 50 12 61","magasin.saintnazaire-trignac.homeservices@engie.com; julie.nicolas@engie.com","Cedric LE SEIGLE / Jean-Pierre GAUTHIER / Stéphane BARROT","06 16 17 58 00 / 06 62 25 89 96 / 06 62 27 05 58","stephane.barrot@engie.com;cedric.leseigle@engie.com","Thierry COURRILLAUD","02 51 76 03 30","thierry.courrillaud@engie.com","magasin.saintnazaire-trignac.homeservices@engie.com;julie.nicolas@engie.com; armelle.lales@engie.com"]
[444,"T4","Agence","ANGERS BEAUCOUZE","5 Rue de la Claie\n49070 BEAUCOUZE","Nicolas BLANCHARD / Guillaume JACQUET ","02 41 22 99 79 / 06 98 24 68 59 / 06 63 13 01 16","magasin.angers-beaucouze.homeservices@engie.com","Guillaume JACQUET / Nicolas MERCIER / Idriss BOUGHATTAS","06 18 93 25 98 / 06 18 93 25 83","nicolas.mercier2@engie.com;guillaume.jacquet@engie.com","Maud BOURGEAIS","02 41 22 99 76","maud.bourgeais@engie.com","magasin.angers-beaucouze.homeservices@engie.com; armelle.lales@engie.com"]
[447,"T4","Agence","COUERON CHAUFFERIES NANTES","7 Rue des Imprimeurs \n44200 COUERON","Dominique PAILLUSSON",228034083,"magasin.nantes-collectifs.homeservices@engie.com","Stéphane MAINGUY / Olivier GUINEHEUX / Mathieu ROBERT","06 16 17 60 57 / 06 68 86 15 08","stephane.mainguy@engie.com;","Christophe PERIO","02 28 00 29 13","christophe.perio@engie.com","magasin.nantes-collectifs.homeservices@engie.com; armelle.lales@engie.com"]
[454,"T4","Agence","CHOLET","3 Square du Champ Blanc\n49300 CHOLET","Yann RENOU","02 51 84 54 84 / 07 61 20 12 86","magasin.cholet.homeservices@engie.com","Julien ROUSSEAU / Arnaud BELLANGER","06 18 42 31 09 / 02 51 83 68 51","arnaud.bellanger@engie.com/julien.rousseau1@engie.com","Jean-Pierre JUDITH","02 41 62 31 77","jean-pierre.judith@engie.com","magasin.cholet.homeservices@engie.com; armelle.lales@engie.com"]
[455,"T4","Agence","BREST","49 Avenue du Baron Lacrosse\n29850 GOUESNOU","Philippe SERRANO","02 98 41 05 14 / 06 67 84 49 78 / 06 98 65 62 51 (technicien)","magasin.brest.homeservices@engie.com","Patrice L’HARIDON / Elizabeth LE GOASTER / Kévin NONENT / Pierre LE STANC","06 23 19 45 39","patrice.lharidon@engie.com;elizabeth.legoaster@engie.com; kevin.nonent@engie.com","Benjamin MATHIVON","02 98 41 05 15","benjamin.mathivon@engie.com","magasin.brest.homeservices@engie.com; armelle.lales@engie.com"]
[460,"T4","Agence","LAVAL","78 Rue de Berlin\n53000 LAVAL","Christophe LEROUGE","07 61 42 16 55          ","christophe.lerouge@engie.com","Michel PINEAU / Laurent RABEC / Cyril CANET","06 09 74 70 56 / 06 22 05 13 20 (Cyril)","michel.pineau@engie.com;cyril.canet@engie.com;laurent.rabec@engie.com","Frederic MAUGER","06 59 93 80 31","Frederic.MAUGER@engie.com","christophe.lerouge@engie.com;michel.pineau@engie.com; armelle.lales@engie.com"]
[484,"T4","Agence","SAINT BRIEUC PLERIN","21 B Rue Léquier\n22190 PLERIN","Franck QUENOUAULT"," 02 96 78 74 83 / 06 23 19 45 18 ","franck.quenouault@engie.com","Franck QUENOUAULT / Patrick BOISARD / Romain CALVEZ","06 23 19 45 18 / 07 63 78 75 28","franck.quenouault@engie.com;patrick.boisard@engie.com;romain.calvez@engie.com","Nicolas VINCENT","02 96 78 74 79","nicolas.vincent@engie.com","franck.quenouault@engie.com;magasin.saintbrieuc-plerin.homeservices@engie.com; armelle.lales@engie.com"]
[491,"T4","Agence","SAUMUR","7 allée de la Gagnerie\n49400 DISTRE","Grégory BOUDAULT",698656771,"magasin.saumur.homeservices@engie.com","Pierre-Edouard ROBINEAU / Joachim PORTET / Cyril BEAUMONT / Miloud GHEZAILI","06 19 55 13 25 / 06 18 93 26 93 / 06 19 55 13 46","pierre-edouard.robineau@engie.com; joachim.portet@engie.com; miloud.ghezaili@engie.com","Anne-Lise CADOT","06 19 55 13 25","anne-lise.cadot@engie.com","magasin.saumur.homeservices@engie.com; armelle.lales@engie.com"]
[494,"T4","Agence","SAINT MALO","14 Rue du Bois Aurant\n35400 ST MALO","Leslie ARRIBARD","06 16 17 60 55","magasin.saintmalo-armoricaine.homeservices@engie.com","Michel NOGUES / Christophe PERRIN / Julien KROENER GUILHOU / Jean-Yves MAIGNEN","06 72 27 53 67 / 06 68 08 73 01 / 06 16 17 60 49 / 06 72 27 56 35","michel.nogues@engie.com; christophe.perrin2@engie.com; julien.kroener-guilhou@engie.com; jean-yves.maignen@engie.com","Olivier NIETTO","02 99 82 46 80","olivier.nietto@engie.com","magasin.saintmalo-armoricaine.homeservices@engie.com;armelle.lales@engie.com"]
[495,"T4","Agence","LANNION","Boulevard La Fayette\nAccès Rue Maryse Bastié\n22300 LANNION","Gérald KERLO","02 96 37 02 82 / 07 60 99 02 85","lannion.homeservices@engie.com","Gérald KERLO / Marianne RAZAVET","07 60 99 02 85 / 02 96 37 02 82 standard","Gerald.KERLO@engie.com","Nicolas VINCENT","02 96 78 74 83","nicolas.vincent@engie.com","lannion.homeservices@engie.com; Gerald.KERLO@engie.com; armelle.lales@engie.com"]
[503,"T8","Antenne","VESOUL","10 Rue Bas de Varraux\nZAC du Tacot\n70000 ANDELARROT","Arnaud GENET","06 72 27 55 53","arnaud.genet@engie.com","Arnaud GENET","06 72 27 55 53","arnaud.genet@engie.com","LEGOUPIL Remy",null,"remy.legoupil@engie.com","arnaud.genet@engie.com;  karine.felix@engie.com"]
[520,"T8","Agence","REIMS ","8 Rue André Huet\n51100 REIMS","Vincent HUON","03 26 50 53 53 / 06 71 04 74 82","vincent.huon@engie.com","Olivier RABATE",null,"olivier.rabate@engie.com","Fabrice BOUSSERT","06 64 40 48 22","fabrice.boussert@engie.com","vincent.huon@engie.com; karine.felix@engie.com"]
[521,"T8","Agence","CHALONS EN CHAMPAGNE","Rue Raoul Follereau\n51520 SAINT MARTIN SUR LE PRE","Christele RIBEIRO (Que le matin)","03 26 64 05 71 / 06 71 60 61 49 ","christele.ribeiro@engie.com","Benoit RAQUILLET",699871505,"benoit.raquillet@engie.com","Corinne CASSAN","06 20 79 28 53","corinne.cassan@engie.com","christele.ribeiro@engie.com;  karine.felix@engie.com"]
[524,"T8","Agence","TROYES","8 Rue du Président Coty\n10600 LA CHAPELLE SAINT LUC","Brice CLAVIER","06 13 30 29 43","brice.clavier@engie.com","Amélie CALLAUD","06 98 99 14 02 / 06 64 39 18 38","amelie.callaud@engie.com","Richard NAIN ","06 71 60 61 48 ","richard.nain1@engie.com","brice.clavier@engie.com ; karine.felix@engie.com"]
[525,"T8","Agence","NANCY EST","Rue Mendès France\nLa Porte Verte\n54425 PULNOY","Eric BAGARD",671047510,"eric.bagard@engie.com","Régis PIERRAT","06 64 77 35 67","regis.pierrat@engie.com","Romuald ARCHIEN","06 81 93 50 01","romuald.archien@engie.com","eric.bagard@engie.com;karine.felix@engie.com"]
[526,"T8","Agence","STRASBOURG ","6 Rue Jean Perrin\n67201 ECKBOLSHEIM","Fabrice BOLLINGER","03 88 77 34 44 / 06 10 66 45 89","fabrice.bollinger@engie.com","Olivier MAECHLING / Nourredine KOUBAA","06 72 27 54 36 / 06 72 27 54 44","olivier.maechling@engie.com;Nourredine.Koubaa@engie.com","Christophe ROMBOUTS","06 79 38 48 59","christophe.rombouts@engie.com","fabrice.bollinger@engie.com;  karine.felix@engie.com"]
[531,"T8","Antenne","CHAUMONT","6 sens rue du Lieutenant Didier\n52200 SAINT GEOSMES","Stéphane BERARDIER","06 07 17 64 09","stephane.berardier@engie.com",null,null,null,"Stéphane BERARDIER",null,null,"stephane.berardier@engie.com; karine.felix@engie.com"]
[532,"T8","Agence","MATHAY","68 rue des Mines\n25400 EXINCOURT","André XARRIE","06 68 22 48 52","Andre.XARRIE@engie.com","Fabien SAILLET / Virginie ZARA","06 74 22 23 66 / 06 71 04 73 39","fabien.saillet@engie.com ; virginie.zara@engie.com","Alain MAGAUD",632630593,"alain.magaud@engie.com","Andre.XARRIE@engie.com;  karine.felix@engie.com"]
[535,"T8","Agence","THIONVILLE","Boulevard Bellevue \nZAC de Bellevue\n57310 GUENANGE","Stéphane PHILIPPE","03 82 56 69 69 / 06 72 27 55 04 ","Stephane.Philippe1@engie.com","Lorenzo VALENTINI / Arnaud LEICK","06 72 27 54 15 / 06 71 04 75 35","Lorenzo.Valentini@engie.com ; arnaud.leick@engie.com","Christophe MOSCHEL","06 72 27 54 32","Christophe.MOSCHEL@engie.com","Stephane.Philippe1@engie.com;  karine.felix@engie.com"]
[543,"T8","Antenne","EPERNAY","54 rue du Champ Reton\n51200 EPERNAY","Coralie MERET","06 10 56 23 24 ","coralie.meret@engie.com",null,null,null,"Coralie Meret ",null,null,"coralie.meret@engie.com; karine.felix@engie.com"]
[566,"T8","Agence","MULHOUSE","3 Rue Alcide de Gasperi\n68390 SAUSHEIM","Grégory HEINE","06 72 27 55 07","gregory.heine@engie.com","Loïc ZEN ","06 21 32 44 45","loic.zen@engie.com","Raphaël GULLI",763832393,"raphael.gulli@engie.com","gregory.heine@engie.com;  karine.felix@engie.com"]
[567,"T8","Agence","DIJON","20 Rue des Ardennes\n21000 DIJON","Alain TRIVIER","06 71 04 75 01 (Préférence joindre le matin)","alain.trivier@engie.com","Hervé GUELAUD","06 16 42 58 84 ","herve.guelaud@engie.com","Sullivan LOUIS",608808811,"sullivan.louis@engie.com","alain.trivier@engie.com;  karine.felix@engie.com"]
[573,"T8","Agence","LONGWY / MONT ST MARTIN","Rue Maréchal Joffre\nZAC Les Quemenes\n54720 LEXY","Eliane POULET","03 82 23 10 09 / 06 98 85 86 94","eliane.poulet@engie.com","Mathieu WEBER",null,"mathieu.weber@engie.com","Karim EL IDRISSI","06 99 40 18 23","karim.el-idrissi@engie.com","eliane.poulet@engie.com;  karine.felix@engie.com"]
[578,"T8","Antenne","VERDUN","14 ter Avenue Jules Ferry\n55100 VERDUN","Mickael LEQUY",699104446,"mickael.lequy@engie.com","Mickael LEQUY ","06 99 10 44 46","mickael.lequy@engie.com","Mickael LEQUY","06 99 10 44 46","mickael.lequy@engie.com","mickael.lequy@engie.com;  karine.felix@engie.com"]
[580,"T8","Antenne","COLMAR","3 Rue Alcide de Gasperi\n68390 SAUSHEIM","Jean-Marie HANAUER","06 20 04 67 83","jean-marie.hanauer@engie.com","Jean-Marie HANAUER","06 20 04 67 83",null,"Raphaël GULLI",763832393,"raphael.gulli@engie.com","jean-marie.hanauer@engie.com;  karine.felix@engie.com"]
[581,"T8","Agence","BELFORT MONTBELIARD","Rue Albert Camus\nParc d'Activité des Hauts de Belfort\n90000 BELFORT","Jean-Marc NARDIN","06 72 27 54 87","magasin.belfort-montbeliard.homeservices@engie.com","Jérôme GELLE","06 07 90 39 18","jerome.gelle@engie.com","Nachida AIROUD","03 20 87 15 07","nachida.airoud@engie.com","jean-marc.nardin@engie.com ; karine.felix@engie.com"]
[582,"T8","Agence","NANCY OUEST","4 Allée d'Enghien\n54600 VILLERS LES NANCY","Sergio DE CARVALHO VILELA",699055042,"sergio.de-carvalho-vilela@engie.com","François COLLIGNON",622045965,"francois.collignon@engie.com","Fabrice HUGUES","06 23 26 47 46","fabrice.hugues@engie.com","sergio.de-carvalho-vilela@engie.com;francois.collignon@engie.com;karine.felix@engie.com"]
[584,"T8","Agence","METZ NORD","3 Rue du Champ Tonnin\n57140 NORROY LE VENEUR","Barthélémy AMATO",669929180,"barthelemy.amato@engie.com","Pierre-Olivier RICHERT / Vincent BRAUN","06 16 31 09 29 / 06 13 30 30 94","pierre-olivier.richert@engie.com; vincent.braun1@engie.com","Arnaud L’HOMME ","06 68 70 47 15","arnaud.lhomme@engie.com","barthelemy.amato@engie.com;  karine.felix@engie.com"]
[589,"T8","Agence","BESANCON","1 Rue du Valset\n25220 CHALEZEULE","Christophe DOUARD","03 81 50 76 76 / 06 50 37 83 55","christophe.douard@engie.com","Bertrand METTEY","06 13 30 31 59","bertrand.mettey@engie.com","Alain MAGAUD","06 32 63 05 93","alain.magaud@engie.com","christophe.douard@engie.com;  karine.felix@engie.com"]
[590,"T8","Agence","METZ SUD","2 Rue des Vanneaux\n57155 MARLY","Jérémy CLAVEL","03 87 66 48 40 / 06 71 60 61 57","Jeremy.CLAVEL@engie.com","Christophe CANI / Saïd NAIR","06 72 27 53 93","christophe.cani@engie.com ; Said.nair@engie.com","Christophe CANI","06 71 04 75 46","christophe.cani@engie.com","Jeremy.CLAVEL@engie.com;  karine.felix@engie.com"]
[601,"T6","Agence","BORDEAUX RIVE DROITE","23 Avenue des Mondaults\n33270 FLOIRAC",null,null,null,"Jean GARRIDO / David FEUILLET","06 77 05 79 88","jean.garrido@engie.com ; david.feuillet@engie.com","Didier FORT-SIGNORET","06 62 73 02 00","didier.fort-signoret@engie.com","jean.garrido@engie.com; david.feuillet@engie.com; jerome.degeilh@engie.com"]
[605,"T6","Antenne","PERIGUEUX","1 Boulevard de l'Horizon\n24430 MARSAC-SUR-L'ISLE","Sandra BABULE",556468430,"magasin.perigueux.homeservices@engie.com;sandra.babule@engie.com","James BROWN",null,"james.brown3@engie.com","Fabrice FOURNIER","06 98 84 27 29","fabrice.fournier@engie.com","magasin.perigueux.homeservices@engie.com; jerome.degeilh@engie.com"]
[608,"T6","Agence","PAU","10 Rue Alessandro Volta\n64000 PAU","Jean-François GASTOU",556468400,"magasin.pau.homeservices@engie.com","Christian LARRIEU / José SILVERIO","06 98 33 40 41 / 06 15 42 60 38","christian.larrieu@engie.com ; jose.silverio@engie.com","Hugues COUSTHAM",699258013,"hugues.coustham@engie.com","magasin.pau.homeservices@engie.com; jerome.degeilh@engie.com"]
[610,"T6","Agence","MONT DE MARSAN","87 Avenue John Kennedy\n40000 MONT DE MARSAN",null,null,"magasin.montdemarsan.homeservices@engie.com","Alexandre RAMON","06 99 73 68 17","alexandre.ramon@engie.com","Gilles LEOST","06 20 25 61 34","gilles.leost@engie.com","magasin.montdemarsan.homeservices@engie.com; jerome.degeilh@engie.com; alexandre.ramon@engie.com"]
[611,"T6","Agence","TARBES","111 Avenue Aristide Briand\n65310 ODOS","Abdelmonime LHAMDI",761421616,"magasin.tarbes.homeservices@engie.com",null,"06 03 32 70 01",null,"David ROUVRAIS","06 71 04 72 74","david.rouvrais@engie.com","magasin.tarbes.homeservices@engie.com; jerome.degeilh@engie.com"]
[612,"T6","Agence","TOULOUSE OCCITANE","11 Rue Marius Terce\nBP 13077 \n31025 TOULOUSE OCCITANE","Nathalie GORIUS","07 64 47 10 92","nathalie.gorius@engie.com","Mohamed BOUMERDASSI / Dimitri DOYHAMBOURE","06 15 42 59 73 / 06 59 84 08 24","mohamed.boumerdassi@engie.com ; dimitri.doyhamboure@engie.com","Jérome DUROSIER","06 71 04 72 01","jerome.durosier@engie.com","magasin.toulouse-occitane.homeservices@engie.com; jerome.degeilh@engie.com"]
[615,"T6","Agence","LA ROCHE SUR YON","33 Rue Képler\n85000 LA ROCHE SUR YON","Joffrey HAGEGE","06 71 04 72 31","joffrey.hagege@engie.com","Joffrey HAGEGE","06 71 04 72 31","joffrey.hagege@engie.com",null,null,null,"joffrey.hagege@engie.com; jerome.degeilh@engie.com"]
[616,"T6","Agence","TOULOUSE L'UNION","5 Rue Helios\n31240 L'UNION","Anthony COURS","06 71 04 72 45","magasin.toulouse-lunion.homeservices@engie.com","Nelson SARAIVA","06 09 12 86 98","nelson.saraiva@engie.com","Sebastien GODEFROY","06 21 05 90 59","sebastien.godefroy@engie.com","magasin.toulouse-lunion.homeservices@engie.com; jerome.degeilh@engie.com; nelson.saraiva@engie.com"]
[628,"T6","Agence","NIORT","451 Avenue de Paris\n79000 NIORT","Marie-Line FAREAUD",534362200,"magasin.niort.homeservices@engie.com;marie-line.fareaud@engie.com","Annabelle MOUSSAVOU",615425976,"annabelle.moussavou@engie.com","Sylvain DEMENOIS",624428018,"sylvain.demenois@engie.com","magasin.niort.homeservices@engie.com; jerome.degeilh@engie.com"]
[629,"T6","Agence","POITIERS","142 bis Rue de la Grange Saint Pierre\n86000 POITIERS","Thibault MARTIN","06 62 88 02 08","magasin.poitiers.homeservices@engie.com","Mathieu GRANDEMANGE",621059055,"mathieu.grandemange@engie.com","David MOREAU","06 16 40 44 09","david.moreau@engie.com","magasin.poitiers.homeservices@engie.com; jerome.degeilh@engie.com"]
[630,"T6","Agence","BERGERAC 2023","52 Rue du Docteur Roux\n24100 BERGERAC","Patricia ZAMBUDIO / Christophe ROBY / Quentin BONNET","05 53 57 38 42","patricia.zambudio@engie.com; christophe.roby@engie.com; quentin.bonnet@engie.com","Christophe ROBY","06 85 43 26 45","christophe.roby@engie.com","Fabrice FOURNIER","05 53 57 38 42","fabrice.fournier@engie.com","patricia.zambudio@engie.com; christophe.roby@engie.com; jerome.degeilh@engie.com; quentin.bonnet@engie.com"]
[652,"T6","Agence","RODEZ","34 Rue de la Solidarité\n12850 ONET LE CHÂTEAU","Adrien JOUSSEAUME","06 09 12 86 79","adrien.jousseaume@engie.com","Adrien JOUSSEAUME","06 09 12 86 79","adrien.jousseaume@engie.com","Adrien JOUSSEAUME","06 09 12 86 79","adrien.jousseaume@engie.com","adrien.jousseaume@engie.com; jerome.degeilh@engie.com"]
[653,"T6","Agence","CASTRES","72 ter Avenue Jean Jaurès\n81090 LAGARRIGUE",null,null,null,null,null,null,"Nicolas LEMAIRE",671047209,"nicolas.lemaire@engie.com","magasin.castres.homeservices@engie.com; jerome.degeilh@engie.com"]
[655,"T6","Agence","ROYAN","7 Allée de la Briqueterie\n17110 SAINT GEORGES DE DIDONNE","Stanislas VASHON (technicien)",603326995,"stanislas.vashon@engie.com",null,null,null,"Loïc RAYMOND","06 21 77 36 26","loic.raymond@engie.com","stanislas.vashon@engie.com ; jerome.degeilh@engie.com; loic.raymond@engie.com"]
[661,"T6","Agence","BORDEAUX OUEST","11 Rue Alessandro Volta\nZI du Phare\n33700 MERIGNAC","Lionel LHERITIER","05 56 13 11 17 (Privilégier les appels TEAMS)","magasin.bordeaux-ouest.homeservices@engie.com","Fabrice DROUET / Philippe PORETTI","06 15 42 60 01 / 06 09 12 40 29","fabrice.drouet@engie.com ; philippe.poretti@engie.com","Stéphane DARRY",534628372,"stephane.darry@engie.com","magasin.bordeaux-ouest.homeservices@engie.com; jerome.degeilh@engie.com"]
[692,"T6","Agence","AGEN","Allée des Mousquetaires\nZA La Plaine\n47520 LE PASSAGE","Fabrice PERRIER-GUIBERT","06 20 25 61 29","magasin.agen.homeservices@engie.com",null,null,null,"En attente de recrutement, placé sous la responsabilité de Stéphane FERRET",620256132,"stephane.ferret@engie.com","magasin.agen.homeservices@engie.com; jerome.degeilh@engie.com"]
[695,"T6","Antenne","LIMOGES","23 Rue du Crucifix\n87100 LIMOGES","Jessie BRUNO","06 03 32 56 30","jessie.bruno@engie.com","Djamaldine SAID ALI BACAR","06 09 12 48 54","djamaldine.saidalibacar@engie.com","Julien DROUHAUD ","06 09 12 42 10","julien.drouhaud@engie.com","jessie.bruno@engie.com ; julien.drouhaud@engie.com; jerome.degeilh@engie.com ; djamaldine.saidalibacar@engie.com"]
[696,"T6","Agence","ANGOULEME","126 Avenue de Bretagne\n16000 ANGOULEME","Aadel MAFTOUH",671047196,"magasin.angouleme.homeservices@engie.com","Alan HAUMONT",662070371,"alan.haumont@engie.com","Julien DROUHAUD ","06 09 12 42 10","julien.drouhaud@engie.com","magasin.angouleme.homeservices@engie.com; jerome.degeilh@engie.com;julien.drouhaud@engie.com"]
[698,"T6","Agence","LA ROCHELLE","44 Avenue Joliot Curie\n17180 PERIGNY","Jerome QUINCHARD","06 16 40 61 20","jerome.quinchard@engie.com","Jerome QUINCHARD / Alexandre MORVAN","06 16 40 61 20 / 06 99 48 12 73","jerome.quinchard@engie.com ; alexandre.morvan@engie.com","Nicolas FAYET / Stéphane CHASTENET","07 64 80 34 62 / 06 12 88 96 37","nicolas.fayet@engie.com ; stephane.chastenet@engie.com","jerome.quinchard@engie.com; alexandre.morvan@engie.com; jerome.degeilh@engie.com"]
[699,"T6","Agence","ANGLET","27 bis Rue de Pitoys\nZac de Maigron\n64600 ANGLET","Arnaud JACQUEMIN","06 71 04 72 77","arnaud.jacquemin@engie.com","Arnaud JACQUEMIN / Pierre BARBEAU","06 71 04 72 77 / 06 20 25 61 26","arnaud.jacquemin@engie.com ; pierre.barbeau@engie.com","Gilles LEOST","06 20 25 61 34","gilles.leost@engie.com","arnaud.jacquemin@engie.com; jerome.degeilh@engie.com"]
[701,"T7","Agence","PARIS NORD RIVE DROITE","54-56 Rue de la Folie Regnault\n75011 PARIS","Daniel OUDJHANI ","06 71 04 73 90","magasin.paris-rivedroite.homeservices@engie.com","Pascal BURY / Driss NOUNTANE","06 72 27 50 22 / 06 03 81 80 57","Pascal.Bury@engie.com;driss.nountane@engie.com","Antonio VIEITAS","06 24 26 38 82","antonio.vietas@engie.com","magasin.paris-rivedroite.homeservices@engie.com; cecile.loze@engie.com"]
[703,"T7","Agence","PARIS SUD RIVE GAUCHE","7 Rue Charles Fourier\n75013 PARIS","Fabrice BENTEO (Resp Tech)","01 53 62 00 68 / 06 72 27 54 30","fabrice.benteo@engie.com","Fabrice BENTEO (Resp Tech)","06 72 27 54 30","fabrice.benteo@engie.com","Stéphanie BARBOTIN ",699906895,"stephanie.barbotin@engie.com","fabrice.benteo@engie.com; cecile.loze@engie.com"]
[704,"T7","Agence","SEINE ET MARNE SUD / CESSON","1 Rue Altiero Spinelli\n77240 VERT SAINT DENIS","Eric CARLY",160681689,"eric.carly@engie.com","Frederic MILHAU",671609063,"frederic.milhau@engie.com","Thierry TARO-LE-PRINCE / Eric BOUVET (adjoint)","06 09 02 69 77 / 06 71 04 73 93","thierry.tarotleprince@engie.com / eric.bouvet@engie.com","eric.carly@engie.com; frederic.milhau@engie.com; thierry.tarotleprince@engie.com; cecile.loze@engie.com"]
[705,"T7","Agence","HAUTS DE SEINE NORD","151-153 Rue du 1er Mai\n92000 NANTERRE","Jorge FERRAO","06 19 81 00 45","jorge.ferrao@engie.com","Patrick PARON / Patrick AULAIRE / Pascal ZAMBRANO / Jorge FERRAO","06 60 09 49 56 / 06 72 27 53 90 / 06 72 27 50 26 / 06 19 81 00 45","patrick.paron@engie.com;patrick.aulaire@engie.com;Pascal.ZAMBRANO@engie.com;Jorge.Ferrao@engie.com","Franck NICOLETTO ",668177417,null,"patrick.paron@engie.com; jorge.ferrao@engie.com; cecile.loze@engie.com"]
[707,"T7","Agence","SEINE SAINT DENIS","32 Avenue Amilcar Cabral\nZAC de la Montjoie \n93217 ST DENIS LA PLAINE","Nassim KHECHINE","01 39 83 93 55 / 06 33 92 03 32","nassim.khechine@engie.com","José MENDES","06 71 60 90 46 / 01 49 17 59 93",null,"Cristel POUTEAU","06 67 22 58 76","cristel.pouteau@engie.com","nassim.khechine@engie.com; cecile.loze@engie.com"]
[708,"T7","Agence","VAL D'OISE","18 Boulevard de la Paix\nBât 2\n95808 CERGY PONTOISE","Guillaume BOUCHER / Pascal JACTEL","magasin joignable que sur portable 06 10 11 47 87 / 06 20 71 42 76 (tte la journée)","Guillaume.BOUCHER@engie.com; pascal.jactel@engie.com","Sophie MARZIN / Tahar ID MOULOUD","06 19 81 00 50 / 06 72 27 54 96","sophie.marzin@engie.com; tahar.id-mouloud@engie.com\n","Sandrine PEYRATOUT",658796556,"sandrine.peyratout@engie.com","Guillaume.BOUCHER@engie.com; pascal.jactel@engie.com; cecile.loze@engie.com"]
[709,"T7","Agence","YVELINES NORD","3 Rue Langevin\n78130 LES MUREAUX","Tony MARTINS",672275521,"magasin.yvelines-nord.homeservices@engie.com","Emile CASTRO / Philippe SHAW","06 72 27 54 52 / 06 20 71 42 70","philippe.shaw@engie.com","Jean Jacques CWIK",672275285,"jean-jacques.cwik@engie.com","magasin.yvelines-nord.homeservices@engie.com; cecile.loze@engie.com"]
[711,"T7","Agence","YVELINES SUD","Route National 10\nImmoparc Bât Loire \n78190 TRAPPES","Sylvain LEGUET / Sylvain SZWEDKOWSKI ","06 72 27 52 94 / 06 72 27 54 90","Sylvain.Leguet@engie.com ; sylvain.szwedkowski@engie.com","Eric DANY / Goncalo ANTUNES PROENCA / Quentin FAUGIER (71N)","06 20 71 42 59 / 06 65 45 56 70 / 06 48 92 56 49","eric.dany@engie.com / quentin.faugier@engie.com","Yann HUTIN",761350070,"yann.hutin@engie.com","sylvain.leguet@engie.com; sylvain.szwedkowski@engie.com; cecile.loze@engie.com"]
[712,"T7","Agence","VAL DE MARNE NORD","35 Avenue de Lugo\n94600 CHOISY LE ROI","Vincent CHOTARD (arrêt long maladie)","06 72 27 50 38",null,"Vincent CHOTARD","06 72 27 50 38","vincent.chotard@engie.com","Eric POISSON",672275267,"eric.poisson@engie.com","eric.poisson@engie.com; cecile.loze@engie.com"]
[719,"T7","Agence","SEINE ET MARNE NORD","4 Avenue du Prieuré\n77700 BAILLY ROMAINVILLIERS","Ludovic FAURE","06 71 04 73 84","ludovic.faure@engie.com","Ludovic FAURE / Elodie NOEL","06 71 04 73 84 / 06 72 27 56 01",null,"Victor LAMEGO","06 03 81 80 59",null,"ludovic.faure@engie.com; elodie.noel@engie.com; cecile.loze@engie.com"]
[720,"T7","Agence","HAUTS DE SEINE SUD","1 Rue De L'Egalité\nBât C - Lot. 131 et 132\n92220 BAGNEUX","Stéphane LESON LARIVEE / Rui PIRES","06 61 02 68 23 / 06 07 08 02 60 ","rui.pires@engie.com","Matthieu BARANGER / Saadi HAOUCHE","06 13 03 50 48 / 06 20 60 79 69","matthieu.baranger@engie.com;saadi.haouche@engie.com","Rui PIRES","06 07 08 02 60","rui.pires@engie.com","rui.pires@engie.com; cecile.loze@engie.com"]
[721,"T7","Agence","VAL D'OISE SUD","26 Rue Piscop \n95350 SAINT BRICE SOUS FORET","RANCE Francis","06 20 71 42 58","francis.rance@engie.com","Fabrice Maugendre / Abderrahim SKALLI BOUAZIZA","06 20 74 44 63 / 06 10 11 47 90","fabrice.maugendre@engie.com; ","Jackson SINNADURAI ","06 20 60 79 70 / 01 49 21 48 75","jackson.sinnadurai@engie.com","francis.rance@engie.com; cecile.loze@engie.com"]
[730,"T7","Antenne","CONFLANS STE HONORINE","16 Rue Désiré Clément\n78700 CONFLANS STE HONORINE",null,null,null,"Vincent BAZIN / Svetoslav BESOV","06 20 71 42 69 / 06 19 89 65 23","vincent.bazin@engie.com / svetoslav.bezov@engie.com","Jean Jacques CWIK",672275285,"jean-jacques.cwik@engie.com","vincent.bazin@engie.com; svetoslav.bezov@engie.com; jean-jacques.cwik@engie.com; cecile.loze@engie.com"]
[762,"T7","Agence","PARIS EST","7 Rue Louis Ganne\n75020 PARIS","Pedro ROCHA DE CASTRO / Moustapha EL MOUTTAKI","06 14 31 71 16 / 06 75 66 67 01","pedro.rocha-de-castro@engie.com / mustapha.elmouttaki@engie.com",null,null,null,"Olivier HERVE",615224002,"olivier.herve@engie.com","mustapha.elmouttaki@engie.com;pedro.rocha-de-castro@engie.com; cecile.loze@engie.com"]
[763,"T7","Agence","ESSONNE","7 Avenue du Général de Gaulle\nParc de la Croix aux Bergers\n91090 LISSES","Florien FILLATRE / Jennifer LE MOING","06 09 02 61 31 ","florian.fillatre@engie.com","Jessy VIGNE / Jean-Luc MENNEGLIER / Cédric CASSIER","06 09 02 61 60 / 06 09 02 62 21","jessy.vigne@engie.com;Pascal.Alexandre@engie.com;jean-luc.meneglier@engie.com","Tonny LANCEZEUX",699378511,"tonny.lancezeux@engie.com","florian.fillatre@engie.com; jean-luc.meneglier@engie.com; cecile.loze@engie.com"]
[767,"T7","Agence","CHAUFFERIES IDF","32 Avenue Amilcar Cabral\nZAC de la Montjoie \n93217 ST DENIS LA PLAINE","Pierre CHAMPION","01 49 17 59 97 / 06 72 27 54 41","denis.sergeant@engie.com;pierre.champion@engie.com;eric.levieux@engie.com","Denis SERGEANT / Pierre CHAMPION / Eric LEVIEUX","06 69 72 65 69","denis.sergeant@engie.com;pierre.champion@engie.com;eric.levieux@engie.com;abdelouabe.chentouf@engie.com","Eric LEVIEUX","06 12 01 59 46","jean-luc.bentivegna@engie.com","denis.sergeant@engie.com;pierre.champion@engie.com; eric.levieux@engie.com; cecile.loze@engie.com"]
[814,"T8","Agence","LILLE VILLENEUVE D'ASCQ","11 A Rue des Champs\n59650 VILLENEUVE D'ASCQ","Jean Michel MAURER","06 73 87 10 34 ","Jean-Michel.MAURER@engie.com",null,null,null,"Stéphanie VASSE","07 61 00 71 07","Stephanie.derambure@engie.com","Jean-Michel.MAURER@engie.com ; Stephanie.derambure@engie.com ; karine.felix@engie.com"]
[815,"T8","Agence","LIEVIN","10, rue Silas Goulet\n62800 LIEVIN","Thierry GALAND / Jean Claude DHAYNAULT","06 22 99 93 27 / 06 18 70 02 80","thierry.galand@engie.com / jean-claude.dhaynaut@engie.com","Sylvain MONNIER / Mickael BEAUVEZ / Jean Claude DHAYNAUT","06 22 99 93 62 /06 72 27 59 30 / 06 18 70 02 80","sylvain.monnier@engie.com / mickael.beauvez@engie.com","Johan GAILLET",672275707,"johan.gaillet@engie.com","thierry.galand@engie.com ; sylvain.monnier@engie.com ; jean-claude.dhaynaut@engie.com ; mickael.beauvez@engie.com ; karine.felix@engie.com"]
[818,"T7","Agence","CREIL","5 Avenue Parc Alata\n60100 CREIL","William BOISSAT",673846124,"william.boissat@engie.com","Olivier LECENNE",630103981,"olivier.lecenne@engie.com","Jeremy LESTUVEE",673846193,"jeremy.lestuvee@engie.com","william.boissat@engie.com ; olivier.lecenne@engie.com ; cecile.loze@engie.com"]
[825,"T8","Agence","BOULOGNE","7 Rue du Chat NOIR\n62230 OUTREAU","Laurent BIGAND","06 72 27 49 65","magasin.boulogne.homeservices@engie.com;laurent.bigand@engie.com","Gregory FLAHAUT / Renan BRACHET / Jérôme TINTILLIER","06 98 08 75 82 / 07 64 56 67 40 / 06 99 84 65 01","Gregory.Flahaut@engie.com ; renan.brachet@engie.com; jerome.tintillier@engie.com","Christophe DERAM ","06 22 99 92 33","christophe.deram@engie.com","magasin.boulogne.homeservices@engie.com ; Gregory.Flahaut@engie.com ; renan.brachet@engie.com ; jerome.tintillier@engie.com; karine.felix@engie.com"]
[840,"T8","Agence","AMIENS","8/10 Allée de Maître Zacharius\n80440 GLISY","Franck PECQUET",671047305,"Franck.PECQUET@engie.com","Christophe WARGNIER","06 72 27 55 62","christophe.wargnier@engie.com","Jérôme ROCHETTE ","06 85 06 99 23 / 06 72 27 56 84","jerome.rochette@engie.com","christophe.wargnier@engie.com ; karine.felix@engie.com"]
[842,"T4","Agence","ROUEN GRAND QUEVILLY","2 Rue Paul Vaillant Couturier\n76120 GRAND QUEVILLY","Rudy LEBOUCHER","06 17 17 47 01","Rudy.LEBOUCHER@engie.com","Michael LECOQ / Jérôme BARCELO","06 68 48 55 59 / 06 72 27 50 27","Michael.LECOQ@engie.com","Stéphane FOURNEAUX","06 10 90 22 74","stephane.fourneaux@engie.com","Rudy.LEBOUCHER@engie.com ; Michael.LECOQ@engie.com ; jerome.barcelo@engie.com ; armelle.lales@engie.com"]
[846,"T4","Agence","LE HAVRE MONTIVILLIERS","80 Rue Alfred Sisley\n76620 LE HAVRE","Flavien ETRILLARD / François TOUTAIN"," 06 17 25 86 50 / 06 72 27 52 70","francois.toutain@engie.com","Yanick BRUBAN / Tristant GESTIN","06 16 46 54 09 / 07 65 15 48 91","yanick.bruban@engie.com;tristan.gestin@engie.com","Mohamed MEZOUAR ",null,"mohamed.mezouar@engie.com","francois.toutain@engie.com; armelle.lales@engie.com; armelle.lales@engie.com"]
[851,"T4","Agence","ROUEN DEVILLE LES ROUENS","1 Rue Valentin Rawle\nZone du Petit Aulnay\n76250 DEVILLE LES ROUEN","Richard DELAUNAY","02 35 07 97 07 / 06 10 90 22 82","richard.delaunay@engie.com","Tom RUDY","06 73 87 13 12","tom.rudy@engie.com","Sébastien DESILE",672275683,"sébastien.desile@engie.com","richard.delaunay@engie.com ; tom.rudy@engie.com ; armelle.lales@engie.com"]
[852,null,"Agence","LE HAVRE DAHER","140 Voie Jean Mermoz\nZI Aérodrome \n76430 SAINT ROMAIN DE COLBOSC","David","02 32 79 78 75","service.savelys@daher.com","Marcel MOREL","06 72 27 50 39","marcel.morel@engie.com","Mohamed MEZOUAR ",null,"mohamed.mezouar@engie.com","magasin.lehavre-montivilliers.homeservices@engie.com ; marcel.morel@engie.com ; emilie.rossi@engie.com"]
[856,"T8","Agence","CALAIS","809 Route de Saint Omer\n62100 CALAIS",null,null,null,"Jean-Pierre ROUGEMONT / Teddy SUCARRAT / Kévin BECUWE","06 71 04 73 06 / 06 72 27 49 58 / 06 63 08 18 85","Jean-Pierre.rougemont@engie.com; teddy.sucarrat@engie.com; kevin.becuwe@engie.com","Claire OGEZ","06 82 57 77 78","claire.ogez@engie.com","Jean-Pierre.rougemont@engie.com; teddy.sucarrat@engie.com; kevin.becuwe@engie.com; karine.felix@engie.com"]
[858,"T8","Agence","SOISSONS","11 Rue Henri Matisse\nZI Les Etomelles\n02200 VILLENEUVE ST GERMAIN","François BERENGER","03 23 73 08 40 / 06 71 04 74 64","francois.berenger@engie.com","Stephane BOULANGER","06 71 60 61 44","stephane.boulanger1@engie.com ","Sylvain LEROY","06 03 35 14 94","sylvain.leroy@engie.com","francois.berenger@engie.com ; stephane.boulanger1@engie.com  ; karine.felix@engie.com"]
[867,"T4","Agence","DIEPPE ","17 Rue Jacques Monod\n76370  NEUVILLE LES DIEPPE",null,null,null,"Anthony CHIRADE","06 23 06 71 09 ","anthony.chirade@engie.com","Aude TOUSTOU","03 22 53 38 52","aude.toustou@engie.com","anthony.chirade@engie.com ; armelle.lales@engie.com"]
[869,"T8","Agence","DOUAI","123 Rue Françoise Sagan\n59450 SIN LE NOBLE","Adrien RAUSA","07 65 18 18 30","adrien.rausa@engie.com","Ludovic PASBECQ / Yves DELANNOY","06 98 08 74 57 / 06 20 79 28 52","Ludovic.PASBECQ@engie.com ; yves.delannoy@engie.com","David BRANDT","06 22 99 92 35","david.brandt@engie.com","Ludovic.PASBECQ@engie.com; adrien.rausa@engie.com; yves.delannoy@engie.com; karine.felix@engie.com"]
[870,"T8","Agence","DUNKERQUE GRANDE SYNTHE 1","1 Rue du Commerce\n59180 CAPPELLE LA GRANDE","Quentin STROSBERG","07 64 39 40 44","quentin.strosberg@engie.com","Christophe STROSBERG / Kevin CHERUELE","06 98 08 76 07 / 07 63 71 52 99","christophe.strosberg@engie.com / kevin.cheruele@engie.com","Virginie CODRON",763631047,"virginie.codron@engie.com","quentin.strosberg@engie.com ; christophe.strosberg@engie.com ; kevin.cheruele@engie.com ; karine.felix@engie.com"]
[871,"T8","Agence","LILLE LESQUIN","78 Rue Gustave Delory\n59810 LESQUIN","Loic PASTOR / Marvin DESCARPENTRIES","06 70 58 17 88 / 06 38 81 47 03","loic.pastor@engie.com / marvin.descarpentries@engie.com","Marc DELBECQUE / Mehdi ZEHAR  / Christine LECERF","06 72 27 57 25 / 06 65 43 69 21 / 06 73 87 10 32","marc.delbecque@engie.com ; medhi.zehar@engie.com ; christine.lecerf@engie.com","Maxence VERHAEGHE","07 63 57 10 28","maxence.verhaeghe@engie.com","loic.pastor@engie.com ; marc.delbecque@engie.com ; christine.lecerf@engie.com ; medhi.zehar@engie.com ; marvin.descarpentries@engie.com ; karine.felix@engie.com"]
[872,"T8","Agence","VALENCIENNES","36 Rue Pierre Mathieu\n59410 ANZIN","Frédéric REMY","06 17 17 45 58","frederic.remy3@engie.com","Yoann DURIEUX ","06 17 17 45 29","yoann.durieux@engie.com","Alexandre FERREIRA","06 69 01 73 36","alexandre.ferreira2@engie.com","frederic.remy3@engie.com ; yoann.durieux@engie.com ; karine.felix@engie.com"]
[876,"T8","Agence","LAON BRUYERES","Route de Laon\n02860 BRUYERES MONTBERAULT","David MAIZY","06 03 35 26 14","david.maizy@engie.com","Thierry LE CLAIR","07 63 09 20 26","thierry.le-clair@engie.com","Antoine LAUMONIER","06 72 27 57 06","antoine.laumonier@engie.com","david.maizy@engie.com ; thierry.le-clair@engie.com ; karine.felix@engie.com"]
[877,"T8","Agence","CHARLEVILLE","Allée de l’Angélique\n08000 LA FRANCHEVILLE","Miguel MARTIN","06 26 66 77 58","miguel.martin1@engie.com","Ludovic SCHOEFFRE ","06 11 89 13 71","ludovic.schoeffre@engie.com","Eric BLAVEAU","06 85 06 99 26","eric.blaveau@engie.com","miguel.martin1@engie.com ; ludovic.schoeffre@engie.com ; karine.felix@engie.com"]
[878,"T8","Agence","MAUBEUGE","70 Rue Lesaffre\nZone du Bois Castiau\n59680 FERRIERE LA GRANDE","Corentin DESNOYELLES",682792454,"corentin.desnoyelle@engie.com","Emmanuel AUQUIERT","06 03 89 75 66","emmanuel.auquiert@engie.com","Antoine LAUMONIER","06 72 27 57 06","antoine.laumonier@engie.com","corentin.desnoyelle@engie.com ; emmanuel.auquiert@engie.com ; karine.felix@engie.com"]
[879,"T8","Agence","SAINT QUENTIN","Avenue Archimède\nZA Bois de la Choque\n02100 ST QUENTIN",null,null,null,"Damien DUEZ","06 69 90 27 05","damien.duez@engie.com","Manuel DELACOUR","06 17 17 46 97","manuel.delacourt@engie.com","damien.duez@engie.com ; karine.felix@engie.com"]
[882,"T8","Agence","BRUAY","Rue des Dames\nSecteurs des Hallots\n62620 RUITZ","Arnaud DALONGEVILLE ","06 61 22 84 51","arnaud.dalongeville@engie.com"," Gérard DELANNOY / Marine SCHMITTER / Julie ROMMELAERE","06 10 65 09 53 / 06 65 40 96 24 / 06 69 26 06 23","gerard.delannoy@engie.com / Marine.SCHMITTER@engie.com / julie.rommelaere@engie.com","David BRANDT ","06 22 99 92 35","david.brandt@engie.com","arnaud.dalongeville@engie.com ; julie.rommelaere@engie.com ; gerard.delannoy@engie.com ; Marine.SCHMITTER@engie.com ; karine.felix@engie.com"]
[894,"T8","Agence","LENS","10, rue Silas Goulet\n62800 LIEVIN","Jean Claude DHAYNAULT","06 18 70 02 80","jean-claude.dhaynaut@engie.com","Mickael BEAUVEZ / Jean Claude DHAYNAUT","06 72 27 59 30 / 06 18 70 02 80","mickael.beauvez@engie.com","Johan GAILLET",672275707,"johan.gaillet@engie.com","jean-claude.dhaynaut@engie.com ; mickael.beauvez@engie.com ; karine.felix@engie.com"]