{"text_format":"1","workbook":"xlsx","n_sheets":9,"sheets":["Dashboard","Demande","Ajout","Demandes en cours","Stock en cours","Ecart stock","ToDoList","TCDD","BDD"],"not_rendered":{"charts":0,"images":6,"macros":1,"external_links":0,"defined_names":11,"comments":0,"pivot_tables":11},"unopened":[],"bounds":{"document_bytes":16777216,"sheet_cells":100000,"rows_first":2000,"rows_last":500,"rows_between":2000,"halvings":0,"cell_chars":16384,"cell_head_chars":4096},"cells_cut":0,"cells_raw":0,"read":"whole","date_system":"1900"}

{"sheet":"Dashboard","index":0,"n_rows":10,"n_cols":4,"rows_kept":10,"cut":false,"hidden":false,"merged":[[0,0,1,2],[8,1,8,3],[0,3,1,8]]}
[{"$f":"TODAY()","v":"2023-11-28"},null,null,"DASHBOARD"]
[]
[]
[]
[]
[]
[]
[]
[null,"PC A CANNIBALISER"]
[null,"Log ID","Modèles","Colis"]

{"sheet":"Demande","index":1,"n_rows":278,"n_cols":16,"rows_kept":278,"cut":false,"hidden":false,"merged":[[0,0,1,1],[0,5,1,15],[1,2,1,4],[0,2,0,4]]}
[{"$f":"TODAY()","v":"2023-11-28"},null,{"$f":"_xlfn.CONCAT(A21,\" \",A19,\" \",A22)","v":"Il reste 27 dodos avant Noël"},null,null,"DEMANDE DE PIECES DETACHEES"]
[null,null,{"$f":"_xlfn.CONCAT(A21,\" \",A20,\" \",A23)","v":"Il reste 34 dodos avant le jour de l'an"}]
[]
[null,null,null,"Log ID","Modèle","Batterie","Clavier","Dalle","Touchpad","Top Cover","Back Cover","Chassis","Bezel","Ventilateur","Cache Charnière","Colis de destination"]
[null,null,null,209834486,"233226-RE 745 G6 AMD HP",0,1,0,1,0,1,0,0,0,0,1166319]
[null,null,null,208670568,"233549-RE ZBOOK 15 G6 WSTAT HP",0,0,1,0,0,1,1,0,0,0,1166319]
[null,null,null,209338786,"233549-RE ZBOOK 15 G6 WSTAT HP",0,0,0,0,1,1,1,0,0,0,1166319]
[null,null,null,208655731,"231927-RE 850 G6 256 HP",0,0,1,0,1,1,1,0,0,0,1166319]
[null,null,null,208407994,"231927-RE 850 G6 256 HP",0,1,1,0,0,1,0,0,0,0,1166319]
[null,null,null,209351396,"231927-RE 850 G6 256 HP",1,1,1,1,0,0,0,0,0,0,1166319]
[null,null,null,209029439,"231927-RE 850 G6 256 HP",0,0,1,0,1,1,1,0,0,0,1166319]
[null,null,null,209056371,"231927-RE 850 G6 256 HP",0,0,1,0,1,1,1,0,0,0,1166319]
[null,null,null,209029588,"231927-RE 850 G6 256 HP",0,0,1,0,1,0,1,0,0,0,1166319]
[null,null,null,209204234,"236411-RE 850 INTEL G7 ESN HP ",0,0,0,1,1,1,1,1,0,0,1166319]
[null,null,null,209347180,"236411-RE 850 INTEL G7 ESN HP ",0,0,0,0,1,1,0,1,0,0,1166319]
[null,null,null,208532226,"236411-RE 850 INTEL G7 ESN HP ",0,0,1,0,1,1,1,0,0,0,1166319]
[null,null,null,208802480,"236411-RE 850 INTEL G7 ESN HP ",0,0,1,0,1,1,1,1,0,0,1166319]
[null,null,null,208757405,"236411-RE 850 INTEL G7 ESN HP ",0,1,0,0,1,0,0,0,0,0,1166319]
[{"$f":"DATEDIF(A1,BDD!E2,\"d\")","v":27},null,null,209144847,"235703-RE 850 INTEL G8 HP",0,1,1,0,0,0,0,1,0,0,1166319]
[{"$f":"DATEDIF(A1,BDD!E3,\"d\")","v":34},null,null,209351427,"235758-RE 845 AMD G8 HP",0,1,0,0,1,1,1,0,0,0,1166319]
["Il reste",null,null,209355687,"235758-RE 845 AMD G8 HP",0,0,1,1,1,1,1,0,0,0,1166319]
["dodos avant Noël",null,null,209351397,"235040-RE 845 AMD G7 HP",0,0,0,0,1,1,1,0,0,0,1166319]
["dodos avant le jour de l'an",null,null,209154212,"235040-RE 845 AMD G7 HP",0,0,1,0,1,1,1,1,0,0,1166319]
[null,null,null,209338776,"237925-RE 645 AMD G9 HP",0,0,0,0,1,1,1,0,0,0,1166319]
[null,null,null,209351394,"231926-RE 830 G6 256 HP",1,0,1,0,1,1,0,1,0,0,1166319]
[null,null,null,209349538,"231926-RE 830 G6 256 HP",0,0,0,0,1,0,0,1,0,0,1166319]
[null,null,null,208830039,"231926-RE 830 G6 256 HP",0,0,1,1,0,1,1,0,0,0,1166319]
[null,null,null,209052283,"231926-RE 830 G6 256 HP",0,0,1,0,1,1,1,0,0,0,1166319]
[null,null,null,209347182,"231926-RE 830 G6 256 HP",0,0,1,1,1,1,1,1,0,0,1166319]
[null,null,null,208586590,"233226-RE 745 G6 AMD HP",0,0,1,0,1,0,1,0,0,0,1166319]
[null,null,null,208896898,"233226-RE 745 G6 AMD HP",0,0,1,0,0,0,0,1,0,0,1166319]
[null,null,null,208839738,"233226-RE 745 G6 AMD HP",0,0,1,1,1,1,1,0,0,0,1166319]
[null,null,null,208676682,"233226-RE 745 G6 AMD HP",0,0,1,0,1,1,1,1,0,0,1166319]
[null,null,null,208532193,"233226-RE 745 G6 AMD HP",0,0,1,0,1,0,1,0,0,0,1166319]
[null,null,null,208602987,"233226-RE 745 G6 AMD HP",0,1,1,0,1,1,1,1,0,0,1166319]
[null,null,null,208666233,"233226-RE 745 G6 AMD HP",0,0,1,0,1,1,1,0,0,0,1166319]
[null,null,null,208747318,"233226-RE 745 G6 AMD HP",0,0,1,0,1,1,1,1,0,0,1166319]
[null,null,null,208839156,"233226-RE 745 G6 AMD HP",0,0,1,0,1,1,1,0,0,0,1166319]
[null,null,null,208368398,"233226-RE 745 G6 AMD HP",0,1,1,0,1,1,1,1,0,0,1166319]
[null,null,null,208816505,"233226-RE 745 G6 AMD HP",0,1,1,0,1,1,0,0,0,0,1166319]
[null,null,null,209338740,"233226-RE 745 G6 AMD HP",0,0,1,0,1,1,1,1,0,0,1166319]
[null,null,null,209338744,"233226-RE 745 G6 AMD HP",0,0,1,0,1,1,1,1,0,0,1166319]
[null,null,null,208823160,"233226-RE 745 G6 AMD HP",0,0,1,0,1,1,1,0,0,0,1166319]
[null,null,null,208775177,"233226-RE 745 G6 AMD HP",0,0,1,0,0,0,0,1,0,0,1166319]
[null,null,null,209834608,"235758-RE 845 AMD G8 HP",0,0,1,0,1,1,1,0,0,0,1166319]
[null,null,null,209834607,"231926-RE 830 G6 256 HP",0,0,1,0,1,1,0,0,0,0,1166319]
[null,null,null,209830892,"233226-RE 745 G6 AMD HP",0,1,0,0,0,0,0,0,0,0,1166319]
[null,null,null,209830893,"233226-RE 745 G6 AMD HP",0,0,0,0,1,0,0,0,0,0,1166319]
[null,null,null,209747945,"233226-RE 745 G6 AMD HP",0,0,1,0,1,0,0,0,0,0,1166319]
[null,null,null,209352069,"233226-RE 745 G6 AMD HP",0,0,1,0,0,0,1,0,0,0,1166319]
[null,null,null,209370297,"233226-RE 745 G6 AMD HP",0,0,1,0,0,0,1,0,0,0,1166319]
[null,null,null,209351935,"233226-RE 745 G6 AMD HP",0,0,1,1,0,0,0,0,0,0,1166319]
[null,null,null,209352066,"233226-RE 745 G6 AMD HP",0,0,1,0,1,1,1,1,0,0,1166319]
[null,null,null,209351612,"233226-RE 745 G6 AMD HP",0,1,1,1,1,0,0,1,0,0,1166319]
[null,null,null,209351588,"233226-RE 745 G6 AMD HP",0,1,1,0,1,0,0,1,0,0,1166319]
[null,null,null,209351905,"231926-RE 830 G6 256 HP",0,0,0,0,1,0,0,1,0,0,1166319]
[null,null,null,209370467,"231926-RE 830 G6 256 HP",0,0,1,0,0,0,1,1,0,0,1166319]
[null,null,null,209370315,"231926-RE 830 G6 256 HP",0,0,0,0,0,0,0,1,0,0,1166319]
[null,null,null,209363176,"231926-RE 830 G6 256 HP",0,0,1,0,1,0,1,0,0,0,1166319]
[null,null,null,209352002,"231927-RE 850 G6 256 HP",1,0,0,0,0,1,1,0,0,0,1166319]
[null,null,null,209351975,"231927-RE 850 G6 256 HP",0,0,0,0,1,1,1,1,0,0,1166319]
[null,null,null,209351693,"231927-RE 850 G6 256 HP",0,1,1,1,0,0,1,0,0,0,1166319]
[null,null,null,209370404,"231927-RE 850 G6 256 HP",0,1,1,0,1,1,0,0,0,0,1166319]
[null,null,null,209370293,"231927-RE 850 G6 256 HP",0,0,1,0,0,0,1,0,0,0,1166319]
[null,null,null,209370249,"235758-RE 845 AMD G8 HP",0,1,0,0,1,0,1,1,0,0,1166319]
[null,null,null,209358115,"235758-RE 845 AMD G8 HP",0,0,1,0,0,0,1,1,0,0,1166319]
[null,null,null,209351613,"235758-RE 845 AMD G8 HP",0,1,1,0,0,0,0,1,0,0,1166319]
[null,null,null,209338750,"235758-RE 845 AMD G8 HP",0,1,1,0,0,0,1,0,0,0,1166319]
[null,null,null,209370300,"235758-RE 845 AMD G8 HP",0,1,0,0,0,0,0,0,0,0,1166319]
[null,null,null,209352072,"235758-RE 845 AMD G8 HP",0,1,1,0,1,1,1,1,0,0,1166319]
[null,null,null,209370254,"235758-RE 845 AMD G8 HP",0,0,1,1,1,0,0,1,0,0,1166319]
[null,null,null,209859320,"233226-RE 745 G6 AMD HP",0,0,1,0,1,0,1,0,0,0,1166319]
[null,null,null,209352073,"237925-RE 645 AMD G9 HP",0,0,1,0,1,1,0,0,0,0,1166319]
[null,null,null,209351610,"235040-RE 845 AMD G7 HP",0,0,1,0,0,1,1,1,0,0,1166319]
[null,null,null,209352074,"235040-RE 845 AMD G7 HP",0,1,1,0,1,1,1,1,0,0,1166319]
[null,null,null,209858998,"233226-RE 745 G6 AMD HP",0,1,1,0,0,0,0,1,0,0,1166319]
[null,null,null,209807233,"235040-RE 845 AMD G7 HP",0,0,1,0,0,0,1,0,0,0,1166319]
[null,null,null,209793000,"235758-RE 845 AMD G8 HP",0,0,1,0,0,0,1,0,0,0,1166319]
[null,null,null,209684371,"233226-RE 745 G6 AMD HP",0,0,1,0,1,0,0,0,0,0,1166319]
[null,null,null,209706341,"233226-RE 745 G6 AMD HP",0,0,1,0,1,0,0,0,0,0,1166319]
[null,null,null,209859161,"233226-RE 745 G6 AMD HP",0,0,1,1,0,1,0,0,0,0,1166319]
[null,null,null,209718560,"233226-RE 745 G6 AMD HP",0,0,1,0,0,0,1,0,0,0,1166319]
[null,null,null,209860672,"233226-RE 745 G6 AMD HP",0,0,1,0,0,0,1,0,0,0,1166319]
[null,null,null,209378643,"233226-RE 745 G6 AMD HP",0,0,0,0,0,0,0,1,0,0,1166319]
[null,null,null,209386390,"231927-RE 850 G6 256 HP",0,0,0,0,0,0,1,0,0,0,1166319]
[null,null,null,209386500,"233226-RE 745 G6 AMD HP",0,1,1,1,1,1,1,1,0,0,1166319]
[null,null,null,209405551,"233226-RE 745 G6 AMD HP",0,0,1,0,1,1,1,0,0,0,1166319]
[null,null,null,209405817,"233226-RE 745 G6 AMD HP",0,0,1,0,0,1,1,0,0,0,1166319]
[null,null,null,209391424,"233226-RE 745 G6 AMD HP",0,0,1,0,1,1,1,0,0,0,1166319]
[null,null,null,209405852,"233226-RE 745 G6 AMD HP",0,0,1,1,1,0,1,0,0,0,1166319]
[null,null,null,209405891,"231926-RE 830 G6 256 HP",1,0,0,1,0,0,0,1,0,0,1166319]
[null,null,null,209859323,"235758-RE 845 AMD G8 HP",0,1,1,0,1,1,1,0,0,0,1166319]
[null,null,null,209855912,"235758-RE 845 AMD G8 HP",0,0,1,0,1,1,0,0,0,0,1166319]
[null,null,null,209859321,"237925-RE 645 AMD G9 HP",0,1,1,0,0,1,0,0,0,0,1166319]
[null,null,null,209859318,"235758-RE 845 AMD G8 HP",0,1,1,0,0,0,1,0,0,0,1166319]
[null,null,null,209850183,"231926-RE 830 G6 256 HP",0,0,1,0,1,1,1,1,0,0,1166319]
[null,null,null,209859328,"235758-RE 845 AMD G8 HP",0,0,1,0,0,0,0,1,0,0,1166319]
[null,null,null,209858997,"233226-RE 745 G6 AMD HP",0,0,1,0,1,1,1,0,0,0,1166319]
[null,null,null,209819167,"235758-RE 845 AMD G8 HP",0,0,1,0,1,0,0,0,0,0,1166319]
[null,null,null,209860730,"238183-RE 655 AMD G9 DEV HP",0,0,0,0,1,0,0,0,0,0,1166319]
[null,null,null,209757912,"235758-RE 845 AMD G8 HP",0,0,0,0,0,1,0,0,0,0,1166319]
[null,null,null,209762136,"233549-RE ZBOOK 15 G6 WSTAT HP",0,0,1,0,1,0,0,0,0,0,1166319]
[null,null,null,209860670,"237925-RE 645 AMD G9 HP",0,0,1,0,0,1,1,0,0,0,1166319]
[null,null,null,209860516,"231927-RE 850 G6 256 HP",0,0,1,0,1,0,1,0,0,0,1166319]
[null,null,null,209807531,"233226-RE 745 G6 AMD HP",0,0,1,1,0,0,0,0,0,0,1164475]
[null,null,null,209809528,"233226-RE 745 G6 AMD HP",1,0,0,1,0,0,0,0,0,0,1164475]
[null,null,null,209706339,"233226-RE 745 G6 AMD HP",0,0,1,0,0,0,0,0,0,0,1164475]
[null,null,null,209647804,"233226-RE 745 G6 AMD HP",0,0,1,0,0,0,0,0,0,0,1164475]
[null,null,null,209825241,"233226-RE 745 G6 AMD HP",0,1,1,1,0,0,0,0,0,0,1164475]
[null,null,null,209684470,"233226-RE 745 G6 AMD HP",0,1,1,0,0,0,0,0,0,0,1164475]
[null,null,null,209819207,"233226-RE 745 G6 AMD HP",0,1,1,0,0,0,0,0,0,0,1164475]
[null,null,null,209807529,"233226-RE 745 G6 AMD HP",1,0,0,0,0,0,0,0,0,0,1164475]
[null,null,null,209729171,"233226-RE 745 G6 AMD HP",0,0,1,0,0,0,0,0,0,0,1164475]
[null,null,null,209819397,"233226-RE 745 G6 AMD HP",0,0,1,0,0,0,0,0,0,0,1164475]
[null,null,null,209819168,"233226-RE 745 G6 AMD HP",0,0,0,0,0,0,0,0,0,0,1164475]
[null,null,null,209807435,"233226-RE 745 G6 AMD HP",0,1,1,0,0,0,0,0,0,0,1164475]
[null,null,null,209819205,"231926-RE 830 G6 256 HP",1,0,1,0,0,0,0,0,0,0,1164475]
[null,null,null,209809464,"231926-RE 830 G6 256 HP",0,0,1,0,0,0,0,0,0,0,1164475]
[null,null,null,209809420,"231926-RE 830 G6 256 HP",0,0,0,0,0,0,0,0,0,0,1164475]
[null,null,null,209807436,"231926-RE 830 G6 256 HP",0,1,1,0,0,0,0,0,0,0,1164475]
[null,null,null,209807541,"236411-RE 850 INTEL G7 ESN HP ",0,0,1,0,0,0,0,0,0,0,1164475]
[null,null,null,209809433,"231927-RE 850 G6 256 HP",0,0,0,0,0,0,0,0,0,0,1164475]
[null,null,null,209809358,"231927-RE 850 G6 256 HP",0,0,0,0,0,0,0,0,0,0,1164475]
[null,null,null,209807540,"231927-RE 850 G6 256 HP",0,1,0,0,0,0,0,0,0,0,1164475]
[null,null,null,209819200,"231927-RE 850 G6 256 HP",0,0,1,0,0,0,0,0,0,0,1164475]
[null,null,null,209807649,"231927-RE 850 G6 256 HP",0,0,1,0,0,0,0,0,0,0,1164475]
[null,null,null,209809432,"231927-RE 850 G6 256 HP",0,0,1,0,0,0,0,0,0,0,1164475]
[null,null,null,209819301,"231927-RE 850 G6 256 HP",0,0,1,0,0,0,0,0,0,0,1164475]
[null,null,null,209809418,"235758-RE 845 AMD G8 HP",0,0,0,0,0,0,0,0,0,0,1164475]
[null,null,null,209793045,"235758-RE 845 AMD G8 HP",0,1,0,1,0,0,0,0,0,0,1164475]
[null,null,null,209809465,"235758-RE 845 AMD G8 HP",0,0,1,0,0,0,0,0,0,0,1164475]
[null,null,null,209807522,"235758-RE 845 AMD G8 HP",0,0,1,0,0,0,0,0,0,0,1164475]
[null,null,null,209807433,"235758-RE 845 AMD G8 HP",0,0,1,1,0,0,0,0,0,0,1164475]
[null,null,null,209819169,"235758-RE 845 AMD G8 HP",0,1,0,0,0,0,0,0,0,0,1164475]
[null,null,null,209781191,"235758-RE 845 AMD G8 HP",0,0,1,0,0,0,0,0,0,0,1164475]
[null,null,null,209819238,"235758-RE 845 AMD G8 HP",0,0,1,0,0,0,0,0,0,0,1164475]
[null,null,null,209824830,"235758-RE 845 AMD G8 HP",0,0,1,0,0,0,0,0,0,0,1164475]
[null,null,null,209819395,"235758-RE 845 AMD G8 HP",0,1,0,0,0,0,0,0,0,0,1164475]
[null,null,null,209807513,"235758-RE 845 AMD G8 HP",0,1,1,0,0,0,0,0,0,0,1164475]
[null,null,null,209807521,"235758-RE 845 AMD G8 HP",0,0,1,0,0,0,0,0,0,0,1164475]
[null,null,null,209819240,"237925-RE 645 AMD G9 HP",0,0,1,0,0,0,0,0,0,0,1164475]
[null,null,null,209809513,"237925-RE 645 AMD G9 HP",0,0,0,0,0,0,0,0,0,0,1164475]
[null,null,null,209819204,"239266-RE L14 AMD LEN",0,1,1,1,0,0,0,0,0,0,1164475]
[null,null,null,209809534,"233549-RE ZBOOK 15 G6 WSTAT HP",0,0,1,0,0,0,0,0,0,0,1164475]
[null,null,null,209793037,"235758-RE 845 AMD G8 HP",0,0,1,0,0,0,0,0,0,0,1164475]
[null,null,null,209747748,"235758-RE 845 AMD G8 HP",0,0,1,0,0,0,0,0,0,0,1164475]
[null,null,null,209781249,"237925-RE 645 AMD G9 HP",0,0,1,0,0,0,0,0,0,0,1164475]
[null,null,null,209781232,"237925-RE 645 AMD G9 HP",0,0,1,0,0,0,0,0,0,0,1164475]
[null,null,null,209819267,"235758-RE 845 AMD G8 HP",0,1,1,0,0,0,0,0,0,0,1164475]
[null,null,null,209819284,"235758-RE 845 AMD G8 HP",0,0,1,1,0,0,0,0,0,0,1164475]
[null,null,null,209718295,"233226-RE 745 G6 AMD HP",0,0,1,0,0,0,0,0,0,0,1164475]
[null,null,null,209267316,"233226-RE 745 G6 AMD HP",0,0,1,0,0,0,0,0,0,0,1164475]
[null,null,null,209306681,"233226-RE 745 G6 AMD HP",0,0,1,0,0,0,0,0,0,0,1164475]
[null,null,null,209180208,"237925-RE 645 AMD G9 HP",0,0,0,0,0,0,0,0,0,0,1164475]
[null,null,null,209306647,"237925-RE 645 AMD G9 HP",0,0,1,0,0,0,0,0,0,0,1164475]
[null,null,null,209306761,"236411-RE 850 INTEL G7 ESN HP ",0,0,0,0,0,0,0,0,0,0,1164475]
[null,null,null,209306656,"236411-RE 850 INTEL G7 ESN HP ",0,1,1,0,0,0,0,0,0,0,1164475]
[null,null,null,209306676,"235758-RE 845 AMD G8 HP",0,1,0,0,0,0,0,0,0,0,1164475]
[null,null,null,209338665,"235758-RE 845 AMD G8 HP",0,1,0,0,0,0,0,0,0,0,1164475]
[null,null,null,209300954,"235758-RE 845 AMD G8 HP",0,0,0,0,0,0,0,0,0,0,1164475]
[null,null,null,209324141,"235758-RE 845 AMD G8 HP",0,0,0,0,0,0,0,0,0,0,1164475]
[null,null,null,209319656,"235758-RE 845 AMD G8 HP",0,0,0,0,0,0,0,0,0,0,1164475]
[null,null,null,209301629,"235758-RE 845 AMD G8 HP",0,0,0,0,0,0,0,0,0,0,1164475]
[null,null,null,209328544,"235758-RE 845 AMD G8 HP",0,0,0,0,0,0,0,0,0,0,1164475]
[null,null,null,209306673,"235758-RE 845 AMD G8 HP",0,0,0,0,0,0,0,0,0,0,1164475]
[null,null,null,209338666,"231926-RE 830 G6 256 HP",0,0,1,0,0,0,0,0,0,0,1164475]
[null,null,null,209306683,"231926-RE 830 G6 256 HP",0,1,1,0,0,0,0,0,0,0,1164475]
[null,null,null,209338747,"231926-RE 830 G6 256 HP",1,1,1,0,0,0,0,0,0,0,1164475]
[null,null,null,209258963,"231926-RE 830 G6 256 HP",0,0,1,0,0,0,0,0,0,0,1164475]
[null,null,null,209338745,"231926-RE 830 G6 256 HP",0,0,0,0,0,0,0,0,0,0,1164475]
[null,null,null,209338748,"231926-RE 830 G6 256 HP",0,0,1,0,0,0,0,0,0,0,1164475]
[null,null,null,209324144,"231927-RE 850 G6 256 HP",0,0,1,0,0,0,0,0,0,0,1164475]
[null,null,null,209338753,"231927-RE 850 G6 256 HP",0,0,1,0,0,0,0,0,0,0,1164475]
[null,null,null,209328547,"231927-RE 850 G6 256 HP",0,0,1,0,0,0,0,0,0,0,1164475]
[null,null,null,209306671,"233226-RE 745 G6 AMD HP",0,1,1,0,0,0,0,0,0,0,1164475]
[null,null,null,209306659,"233226-RE 745 G6 AMD HP",0,1,1,0,0,0,0,0,0,0,1164475]
[null,null,null,209689596,"233226-RE 745 G6 AMD HP",0,0,1,0,0,0,0,0,0,0,1164475]
[null,null,null,209803813,"233226-RE 745 G6 AMD HP",0,1,1,0,0,0,0,0,0,0,1164475]
[null,null,null,209860684,"236411-RE 850 INTEL G7 ESN HP ",0,0,1,0,1,1,1,0,0,0,1167201]
[null,null,null,209737428,"237925-RE 645 AMD G9 HP",0,0,0,0,1,0,0,0,0,0,1167201]
[null,null,null,209474190,"235040-RE 845 AMD G7 HP",0,1,1,0,0,0,1,1,0,0,1167201]
[null,null,null,209484648,"235758-RE 845 AMD G8 HP",0,0,1,0,1,0,0,0,0,0,1167201]
[null,null,null,209432610,"233226-RE 745 G6 AMD HP",0,1,1,0,0,0,0,0,0,0,1167201]
[null,null,null,209432643,"231926-RE 830 G6 256 HP",0,0,1,0,1,0,0,0,0,0,1167201]
[null,null,null,209454037,"233226-RE 745 G6 AMD HP",0,1,1,1,0,0,1,0,0,0,1167201]
[null,null,null,209306706,"239266-RE L14 AMD LEN",0,0,0,1,0,0,0,0,0,0,1167201]
[null,null,null,209458799,"233226-RE 745 G6 AMD HP",0,0,1,0,0,1,1,0,0,0,1167201]
[null,null,null,209454026,"235758-RE 845 AMD G8 HP",0,0,0,0,0,0,0,1,0,0,1167201]
[null,null,null,209432606,"239266-RE L14 AMD LEN",0,0,0,0,1,0,0,0,0,0,1167201]
[null,null,null,209260175,"233549-RE ZBOOK 15 G6 WSTAT HP",0,0,0,0,0,0,1,0,0,0,1167201]
[null,null,null,209473486,"235758-RE 845 AMD G8 HP",0,0,0,0,0,1,1,0,0,0,1167201]
[null,null,null,209386713,"235040-RE 845 AMD G7 HP",0,0,1,0,1,0,1,0,0,0,1167201]
[null,null,null,209272417,"235758-RE 845 AMD G8 HP",0,0,1,0,0,0,0,1,0,0,1167201]
[null,null,null,209474192,"235040-RE 845 AMD G7 HP",0,0,1,0,0,0,1,0,0,0,1167201]
[null,null,null,209473616,"233226-RE 745 G6 AMD HP",0,0,0,0,1,0,1,0,0,0,1167201]
[null,null,null,209447623,"231926-RE 830 G6 256 HP",0,0,1,0,0,1,1,0,0,0,1167201]
[null,null,null,209484638,"231926-RE 830 G6 256 HP",0,0,1,0,1,0,1,0,0,0,1167201]
[null,null,null,209459100,"231926-RE 830 G6 256 HP",0,0,0,0,0,0,1,0,0,0,1167201]
[null,null,null,209455448,"231926-RE 830 G6 256 HP",0,0,0,1,0,0,0,0,0,0,1167201]
[null,null,null,209391464,"231926-RE 830 G6 256 HP",0,0,0,0,0,1,1,0,0,0,1167201]
[null,null,null,209363171,"231926-RE 830 G6 256 HP",0,1,0,0,0,0,0,0,0,0,1167201]
[null,null,null,209378613,"231926-RE 830 G6 256 HP",0,0,1,0,0,1,1,1,0,0,1167201]
[null,null,null,209363111,"231926-RE 830 G6 256 HP",0,0,1,1,1,1,1,0,0,0,1167201]
[null,null,null,209378642,"231926-RE 830 G6 256 HP",0,0,1,0,1,1,1,0,0,0,1167201]
[null,null,null,209396764,"231926-RE 830 G6 256 HP",0,1,1,0,0,0,0,0,0,0,1167201]
[null,null,null,209386402,"231926-RE 830 G6 256 HP",0,1,0,0,0,0,0,1,0,0,1167201]
[null,null,null,209405853,"231926-RE 830 G6 256 HP",0,0,0,0,1,0,0,1,0,0,1167201]
[null,null,null,209413222,"231926-RE 830 G6 256 HP",1,0,1,0,1,1,1,0,0,0,1167201]
[null,null,null,209386936,"233226-RE 745 G6 AMD HP",0,1,1,0,1,0,0,0,0,0,1167201]
[null,null,null,209386403,"233226-RE 745 G6 AMD HP",0,0,1,0,1,0,0,1,0,0,1167201]
[null,null,null,209386417,"233226-RE 745 G6 AMD HP",0,0,1,0,1,1,1,0,0,0,1167201]
[null,null,null,209376718,"233226-RE 745 G6 AMD HP",0,0,1,0,1,0,0,1,0,0,1167201]
[null,null,null,209405886,"233226-RE 745 G6 AMD HP",0,1,1,0,0,0,1,0,0,0,1167201]
[null,null,null,209378632,"233226-RE 745 G6 AMD HP",0,0,1,0,1,1,0,0,0,0,1167201]
[null,null,null,209376716,"231927-RE 850 G6 256 HP",0,0,1,0,1,1,1,0,0,0,1167201]
[null,null,null,209377079,"231927-RE 850 G6 256 HP",0,1,1,0,0,0,0,0,0,0,1167201]
[null,null,null,209396611,"231927-RE 850 G6 256 HP",0,1,1,1,1,1,1,0,0,0,1167201]
[null,null,null,209386388,"231927-RE 850 G6 256 HP",0,1,1,0,1,1,1,1,0,0,1167201]
[null,null,null,209370265,"231927-RE 850 G6 256 HP",0,1,0,1,1,0,1,0,0,0,1167201]
[null,null,null,209363153,"237925-RE 645 AMD G9 HP",0,0,0,0,1,0,1,0,0,0,1167201]
[null,null,null,209405578,"237925-RE 645 AMD G9 HP",0,0,1,0,1,0,0,0,0,0,1167201]
[null,null,null,209405548,"235040-RE 845 AMD G7 HP",0,0,1,0,1,0,1,0,0,0,1167201]
[null,null,null,209405816,"235040-RE 845 AMD G7 HP",0,0,1,0,1,1,1,0,0,0,1167201]
[null,null,null,209391461,"235040-RE 845 AMD G7 HP",0,0,1,0,1,1,1,0,0,0,1167201]
[null,null,null,209391423,"231927-RE 850 G6 256 HP",0,1,1,0,0,0,0,0,0,0,1167201]
[null,null,null,209378638,"233226-RE 745 G6 AMD HP",0,0,1,0,1,0,0,0,0,0,1167201]
[null,null,null,209391385,"231927-RE 850 G6 256 HP",0,1,0,0,1,1,1,0,0,0,1167201]
[null,null,null,209391440,"233226-RE 745 G6 AMD HP",0,0,1,0,1,0,0,0,0,0,1167201]
[null,null,null,209378639,"236411-RE 850 INTEL G7 ESN HP ",0,1,1,0,0,0,0,0,0,0,1167201]
[null,null,null,209377084,"233549-RE ZBOOK 15 G6 WSTAT HP",0,0,1,0,1,1,1,1,0,0,1167201]
[null,null,null,209860683,"235758-RE 845 AMD G8 HP",0,0,0,0,0,1,1,0,0,0,1167201]
[null,null,null,209860678,"233226-RE 745 G6 AMD HP",0,1,1,0,0,0,0,1,0,0,1167201]
[null,null,null,209447640,"231926-RE 830 G6 256 HP",1,1,0,0,1,0,1,0,0,0,1167201]
[null,null,null,209442213,"231926-RE 830 G6 256 HP",0,1,1,0,0,0,0,1,0,0,1167201]
[null,null,null,209447644,"231926-RE 830 G6 256 HP",0,0,1,0,1,1,0,1,0,0,1167201]
[null,null,null,209468638,"231926-RE 830 G6 256 HP",0,0,1,0,1,1,1,0,0,0,1167201]
[null,null,null,209468637,"231926-RE 830 G6 256 HP",0,1,1,0,0,0,0,1,0,0,1167201]
[null,null,null,209386711,"235758-RE 845 AMD G8 HP",0,0,1,0,0,0,0,1,0,0,1167201]
[null,null,null,209229565,"235758-RE 845 AMD G8 HP",0,0,1,0,1,0,0,1,0,0,1167201]
[null,null,null,208757473,"235758-RE 845 AMD G8 HP",0,0,1,0,1,0,0,1,0,0,1167201]
[null,null,null,209469504,"235758-RE 845 AMD G8 HP",0,0,1,0,1,0,1,1,0,0,1167201]
[null,null,null,209306651,"235758-RE 845 AMD G8 HP",0,0,1,0,1,1,0,1,0,0,1167201]
[null,null,null,209465765,"233226-RE 745 G6 AMD HP",0,0,0,0,1,1,0,0,0,0,1167201]
[null,null,null,209442211,"233226-RE 745 G6 AMD HP",0,1,1,0,1,0,0,0,0,0,1167201]
[null,null,null,209458804,"233226-RE 745 G6 AMD HP",0,0,1,0,1,0,0,0,0,0,1167201]
[null,null,null,209432611,"233226-RE 745 G6 AMD HP",0,1,1,0,0,0,0,1,0,0,1167201]
[null,null,null,209442163,"233226-RE 745 G6 AMD HP",0,1,1,0,0,0,0,1,0,0,1167201]
[null,null,null,209363155,"236411-RE 850 INTEL G7 ESN HP ",0,0,1,1,0,1,0,0,0,0,1167201]
[null,null,null,209454041,"231927-RE 850 G6 256 HP",0,1,1,0,0,0,1,0,0,0,1167201]
[null,null,null,209473418,"231927-RE 850 G6 256 HP",0,1,1,0,1,0,0,0,0,0,1167201]
[null,null,null,209484658,"231927-RE 850 G6 256 HP",0,1,0,0,1,0,0,0,0,0,1167201]
[null,null,null,209453950,"231927-RE 850 G6 256 HP",0,0,1,0,1,0,1,1,0,0,1167201]
[null,null,null,209442217,"237925-RE 645 AMD G9 HP",0,0,1,0,1,1,1,0,0,0,1167201]
[null,null,null,209381852,"237925-RE 645 AMD G9 HP",0,0,1,0,0,0,0,1,0,0,1167201]
[null,null,null,209421619,"231926-RE 830 G6 256 HP",0,1,0,0,1,0,0,1,0,0,1167201]
[null,null,null,209432624,"237925-RE 645 AMD G9 HP",0,0,1,0,1,1,0,0,0,0,1167201]
[null,null,null,209458771,"237925-RE 645 AMD G9 HP",0,0,1,0,1,0,1,0,0,0,1167201]
[null,null,null,209465773,"235040-RE 845 AMD G7 HP",0,0,1,0,1,0,0,0,0,0,1167201]
[null,null,null,209454036,"235040-RE 845 AMD G7 HP",0,1,1,0,0,1,1,1,0,0,1167201]
[null,null,null,209432625,"235758-RE 845 AMD G8 HP",0,1,1,0,0,1,0,1,0,0,1167201]
[null,null,null,209473422,"235758-RE 845 AMD G8 HP",0,0,0,0,1,0,0,0,0,0,1167201]
[null,null,null,209484633,"235703-RE 850 INTEL G8 HP",0,1,0,0,1,1,0,1,0,0,1167201]
[null,null,null,209432653,"235703-RE 850 INTEL G8 HP",0,0,0,0,1,0,1,0,0,0,1167201]
[null,null,null,209454027,"236411-RE 850 INTEL G7 ESN HP ",0,1,0,0,0,1,1,0,0,0,1167201]
[null,null,null,209421617,"231927-RE 850 G6 256 HP",1,1,1,0,1,1,1,0,0,0,1167201]
[null,null,null,209442189,"231927-RE 850 G6 256 HP",0,1,0,0,0,0,0,1,0,0,1167201]
[null,null,null,209442201,"231927-RE 850 G6 256 HP",1,1,1,0,1,1,1,0,0,0,1167201]
[null,null,null,209473542,"233226-RE 745 G6 AMD HP",0,1,0,0,1,1,1,1,0,0,1167201]
[null,null,null,209473554,"233226-RE 745 G6 AMD HP",0,1,1,0,1,0,0,0,0,0,1167201]
[null,null,null,209469498,"237925-RE 645 AMD G9 HP",0,0,1,0,1,0,1,0,0,0,1167201]
[null,null,null,209458732,"233226-RE 745 G6 AMD HP",0,1,0,0,1,0,1,1,0,0,1167201]
[null,null,null,209231665,"235758-RE 845 AMD G8 HP",0,0,1,0,1,1,1,0,0,0,1167201]
[null,null,null,209306662,"233226-RE 745 G6 AMD HP",0,1,1,0,1,0,0,0,0,0,1167201]
[null,null,null,209306653,"235040-RE 845 AMD G7 HP",0,0,1,0,1,0,0,0,0,0,1167201]
[null,null,null,209267323,"231926-RE 830 G6 256 HP",0,0,1,0,1,1,0,1,0,0,1167201]
[null,null,null,209306664,"235758-RE 845 AMD G8 HP",0,0,1,0,1,0,0,0,0,0,1167201]
[null,null,null,209473482,"233226-RE 745 G6 AMD HP",0,0,1,0,1,1,1,0,0,0,1167201]
[null,null,null,209428345,"233226-RE 745 G6 AMD HP",0,0,1,0,1,1,1,0,0,0,1167201]

{"sheet":"Ajout","index":2,"n_rows":23,"n_cols":16,"rows_kept":23,"cut":false,"hidden":false,"merged":[[0,3,1,12],[0,0,1,1]]}
[{"$f":"TODAY()","v":"2023-11-28"},null,null,"AJOUT DE PIECES DETACHEES"]
[]
[]
[null,null,null,"Log ID / Commande","Modèle","Batterie","Clavier","Dalle","Touchpad","Top Cover","Back Cover","Chassis","Bezel","Ventilateur","Cache charnière","Colis"]
[]
[]
[]
[]
[]
[]
[]
[]
[]
[]
[]
[]
[]
[]
[{"$f":"DATEDIF(A1,BDD!E2,\"d\")","v":27}]
[{"$f":"DATEDIF(A1,BDD!E3,\"d\")","v":34}]
["Il reste"]
["dodos avant Noël"]
["dodos avant le jour de l'an"]

{"sheet":"Demandes en cours","index":3,"n_rows":27,"n_cols":15,"rows_kept":27,"cut":false,"hidden":false,"merged":[[0,0,1,1],[0,3,1,11]]}
[{"$f":"TODAY()","v":"2023-11-28"},null,null,"Demandes en cours"]
[]
[]
[null,null,null,"Modèle","Batterie","Clavier","Dalle","Touchpad","Top Cover","Back Cover","Chassis","Bezel","Ventilateur","Cache Charnière","Totaux"]
[null,null,null,"227835-RE TAB X360 1030 G2 HP",{"$f":"SUMIF(Demande!E$5:E$13000,'Demandes en cours'!D5,Demande!F$5:F$13000)","v":0},{"$f":"SUMIF(Demande!E$5:E$13000,'Demandes en cours'!D5,Demande!G$5:G$13000)","v":0},{"$f":"SUMIF(Demande!E$5:E$13000,'Demandes en cours'!D5,Demande!H$5:H$13000)","v":0},{"$f":"SUMIF(Demande!E$5:E$13000,'Demandes en cours'!D5,Demande!I$5:I$13000)","v":0},{"$f":"SUMIF(Demande!E$5:E$13000,'Demandes en cours'!D5,Demande!J$5:J$13000)","v":0},{"$f":"SUMIF(Demande!E$5:E$13000,'Demandes en cours'!D5,Demande!K$5:K$13000)","v":0},{"$f":"SUMIF(Demande!E$5:E$13000,'Demandes en cours'!D5,Demande!L$5:L$13000)","v":0},{"$f":"SUMIF(Demande!E$5:E$13000,'Demandes en cours'!D5,Demande!M$5:M$13000)","v":0},{"$f":"SUMIF(Demande!E$5:E$13000,'Demandes en cours'!D5,Demande!N$5:N$13000)","v":0},{"$f":"SUMIF(Demande!E$5:E$13000,'Demandes en cours'!D5,Demande!O$5:O$13000)","v":0},{"$f":"SUM(E5:L5)","v":0}]
[null,null,null,"231926-RE 830 G6 256 HP",{"$f":"SUMIF(Demande!E$5:E$13000,'Demandes en cours'!D6,Demande!F$5:F$13000)","v":6},{"$f":"SUMIF(Demande!E$5:E$13000,'Demandes en cours'!D6,Demande!G$5:G$13000)","v":10},{"$f":"SUMIF(Demande!E$5:E$13000,'Demandes en cours'!D6,Demande!H$5:H$13000)","v":29},{"$f":"SUMIF(Demande!E$5:E$13000,'Demandes en cours'!D6,Demande!I$5:I$13000)","v":5},{"$f":"SUMIF(Demande!E$5:E$13000,'Demandes en cours'!D6,Demande!J$5:J$13000)","v":19},{"$f":"SUMIF(Demande!E$5:E$13000,'Demandes en cours'!D6,Demande!K$5:K$13000)","v":15},{"$f":"SUMIF(Demande!E$5:E$13000,'Demandes en cours'!D6,Demande!L$5:L$13000)","v":16},{"$f":"SUMIF(Demande!E$5:E$13000,'Demandes en cours'!D6,Demande!M$5:M$13000)","v":16},{"$f":"SUMIF(Demande!E$5:E$13000,'Demandes en cours'!D6,Demande!N$5:N$13000)","v":0},{"$f":"SUMIF(Demande!E$5:E$13000,'Demandes en cours'!D6,Demande!O$5:O$13000)","v":0},{"$f":"SUM(E6:L6)","v":116}]
[null,null,null,"231927-RE 850 G6 256 HP",{"$f":"SUMIF(Demande!E$5:E$13000,'Demandes en cours'!D7,Demande!F$5:F$13000)","v":4},{"$f":"SUMIF(Demande!E$5:E$13000,'Demandes en cours'!D7,Demande!G$5:G$13000)","v":17},{"$f":"SUMIF(Demande!E$5:E$13000,'Demandes en cours'!D7,Demande!H$5:H$13000)","v":27},{"$f":"SUMIF(Demande!E$5:E$13000,'Demandes en cours'!D7,Demande!I$5:I$13000)","v":4},{"$f":"SUMIF(Demande!E$5:E$13000,'Demandes en cours'!D7,Demande!J$5:J$13000)","v":17},{"$f":"SUMIF(Demande!E$5:E$13000,'Demandes en cours'!D7,Demande!K$5:K$13000)","v":13},{"$f":"SUMIF(Demande!E$5:E$13000,'Demandes en cours'!D7,Demande!L$5:L$13000)","v":19},{"$f":"SUMIF(Demande!E$5:E$13000,'Demandes en cours'!D7,Demande!M$5:M$13000)","v":4},{"$f":"SUMIF(Demande!E$5:E$13000,'Demandes en cours'!D7,Demande!N$5:N$13000)","v":0},{"$f":"SUMIF(Demande!E$5:E$13000,'Demandes en cours'!D7,Demande!O$5:O$13000)","v":0},105]
[null,null,null,"233226-RE 745 G6 AMD HP",{"$f":"SUMIF(Demande!E$5:E$13000,'Demandes en cours'!D8,Demande!F$5:F$13000)","v":2},{"$f":"SUMIF(Demande!E$5:E$13000,'Demandes en cours'!D8,Demande!G$5:G$13000)","v":28},{"$f":"SUMIF(Demande!E$5:E$13000,'Demandes en cours'!D8,Demande!H$5:H$13000)","v":71},{"$f":"SUMIF(Demande!E$5:E$13000,'Demandes en cours'!D8,Demande!I$5:I$13000)","v":11},{"$f":"SUMIF(Demande!E$5:E$13000,'Demandes en cours'!D8,Demande!J$5:J$13000)","v":43},{"$f":"SUMIF(Demande!E$5:E$13000,'Demandes en cours'!D8,Demande!K$5:K$13000)","v":26},{"$f":"SUMIF(Demande!E$5:E$13000,'Demandes en cours'!D8,Demande!L$5:L$13000)","v":33},{"$f":"SUMIF(Demande!E$5:E$13000,'Demandes en cours'!D8,Demande!M$5:M$13000)","v":21},{"$f":"SUMIF(Demande!E$5:E$13000,'Demandes en cours'!D8,Demande!N$5:N$13000)","v":0},{"$f":"SUMIF(Demande!E$5:E$13000,'Demandes en cours'!D8,Demande!O$5:O$13000)","v":0},235]
[null,null,null,"233549-RE ZBOOK 15 G6 WSTAT HP",{"$f":"SUMIF(Demande!E$5:E$13000,'Demandes en cours'!D9,Demande!F$5:F$13000)","v":0},{"$f":"SUMIF(Demande!E$5:E$13000,'Demandes en cours'!D9,Demande!G$5:G$13000)","v":0},{"$f":"SUMIF(Demande!E$5:E$13000,'Demandes en cours'!D9,Demande!H$5:H$13000)","v":4},{"$f":"SUMIF(Demande!E$5:E$13000,'Demandes en cours'!D9,Demande!I$5:I$13000)","v":0},{"$f":"SUMIF(Demande!E$5:E$13000,'Demandes en cours'!D9,Demande!J$5:J$13000)","v":3},{"$f":"SUMIF(Demande!E$5:E$13000,'Demandes en cours'!D9,Demande!K$5:K$13000)","v":3},{"$f":"SUMIF(Demande!E$5:E$13000,'Demandes en cours'!D9,Demande!L$5:L$13000)","v":4},{"$f":"SUMIF(Demande!E$5:E$13000,'Demandes en cours'!D9,Demande!M$5:M$13000)","v":1},{"$f":"SUMIF(Demande!E$5:E$13000,'Demandes en cours'!D9,Demande!N$5:N$13000)","v":0},{"$f":"SUMIF(Demande!E$5:E$13000,'Demandes en cours'!D9,Demande!O$5:O$13000)","v":0},15]
[null,null,null,"234766-RE T14S AMD LEN",{"$f":"SUMIF(Demande!E$5:E$13000,'Demandes en cours'!D10,Demande!F$5:F$13000)","v":0},{"$f":"SUMIF(Demande!E$5:E$13000,'Demandes en cours'!D10,Demande!G$5:G$13000)","v":0},{"$f":"SUMIF(Demande!E$5:E$13000,'Demandes en cours'!D10,Demande!H$5:H$13000)","v":0},{"$f":"SUMIF(Demande!E$5:E$13000,'Demandes en cours'!D10,Demande!I$5:I$13000)","v":0},{"$f":"SUMIF(Demande!E$5:E$13000,'Demandes en cours'!D10,Demande!J$5:J$13000)","v":0},{"$f":"SUMIF(Demande!E$5:E$13000,'Demandes en cours'!D10,Demande!K$5:K$13000)","v":0},{"$f":"SUMIF(Demande!E$5:E$13000,'Demandes en cours'!D10,Demande!L$5:L$13000)","v":0},{"$f":"SUMIF(Demande!E$5:E$13000,'Demandes en cours'!D10,Demande!M$5:M$13000)","v":0},{"$f":"SUMIF(Demande!E$5:E$13000,'Demandes en cours'!D10,Demande!N$5:N$13000)","v":0},{"$f":"SUMIF(Demande!E$5:E$13000,'Demandes en cours'!D10,Demande!O$5:O$13000)","v":0},0]
[null,null,null,"235040-RE 845 AMD G7 HP",{"$f":"SUMIF(Demande!E$5:E$13000,'Demandes en cours'!D11,Demande!F$5:F$13000)","v":0},{"$f":"SUMIF(Demande!E$5:E$13000,'Demandes en cours'!D11,Demande!G$5:G$13000)","v":3},{"$f":"SUMIF(Demande!E$5:E$13000,'Demandes en cours'!D11,Demande!H$5:H$13000)","v":13},{"$f":"SUMIF(Demande!E$5:E$13000,'Demandes en cours'!D11,Demande!I$5:I$13000)","v":0},{"$f":"SUMIF(Demande!E$5:E$13000,'Demandes en cours'!D11,Demande!J$5:J$13000)","v":9},{"$f":"SUMIF(Demande!E$5:E$13000,'Demandes en cours'!D11,Demande!K$5:K$13000)","v":7},{"$f":"SUMIF(Demande!E$5:E$13000,'Demandes en cours'!D11,Demande!L$5:L$13000)","v":12},{"$f":"SUMIF(Demande!E$5:E$13000,'Demandes en cours'!D11,Demande!M$5:M$13000)","v":5},{"$f":"SUMIF(Demande!E$5:E$13000,'Demandes en cours'!D11,Demande!N$5:N$13000)","v":0},{"$f":"SUMIF(Demande!E$5:E$13000,'Demandes en cours'!D11,Demande!O$5:O$13000)","v":0},49]
[null,null,null,"235703-RE 850 INTEL G8 HP",{"$f":"SUMIF(Demande!E$5:E$13000,'Demandes en cours'!D12,Demande!F$5:F$13000)","v":0},{"$f":"SUMIF(Demande!E$5:E$13000,'Demandes en cours'!D12,Demande!G$5:G$13000)","v":2},{"$f":"SUMIF(Demande!E$5:E$13000,'Demandes en cours'!D12,Demande!H$5:H$13000)","v":1},{"$f":"SUMIF(Demande!E$5:E$13000,'Demandes en cours'!D12,Demande!I$5:I$13000)","v":0},{"$f":"SUMIF(Demande!E$5:E$13000,'Demandes en cours'!D12,Demande!J$5:J$13000)","v":2},{"$f":"SUMIF(Demande!E$5:E$13000,'Demandes en cours'!D12,Demande!K$5:K$13000)","v":1},{"$f":"SUMIF(Demande!E$5:E$13000,'Demandes en cours'!D12,Demande!L$5:L$13000)","v":1},{"$f":"SUMIF(Demande!E$5:E$13000,'Demandes en cours'!D12,Demande!M$5:M$13000)","v":2},{"$f":"SUMIF(Demande!E$5:E$13000,'Demandes en cours'!D12,Demande!N$5:N$13000)","v":0},{"$f":"SUMIF(Demande!E$5:E$13000,'Demandes en cours'!D12,Demande!O$5:O$13000)","v":0},9]
[null,null,null,"235758-RE 845 AMD G8 HP",{"$f":"SUMIF(Demande!E$5:E$13000,'Demandes en cours'!D13,Demande!F$5:F$13000)","v":0},{"$f":"SUMIF(Demande!E$5:E$13000,'Demandes en cours'!D13,Demande!G$5:G$13000)","v":16},{"$f":"SUMIF(Demande!E$5:E$13000,'Demandes en cours'!D13,Demande!H$5:H$13000)","v":35},{"$f":"SUMIF(Demande!E$5:E$13000,'Demandes en cours'!D13,Demande!I$5:I$13000)","v":5},{"$f":"SUMIF(Demande!E$5:E$13000,'Demandes en cours'!D13,Demande!J$5:J$13000)","v":17},{"$f":"SUMIF(Demande!E$5:E$13000,'Demandes en cours'!D13,Demande!K$5:K$13000)","v":12},{"$f":"SUMIF(Demande!E$5:E$13000,'Demandes en cours'!D13,Demande!L$5:L$13000)","v":14},{"$f":"SUMIF(Demande!E$5:E$13000,'Demandes en cours'!D13,Demande!M$5:M$13000)","v":14},{"$f":"SUMIF(Demande!E$5:E$13000,'Demandes en cours'!D13,Demande!N$5:N$13000)","v":0},{"$f":"SUMIF(Demande!E$5:E$13000,'Demandes en cours'!D13,Demande!O$5:O$13000)","v":0},113]
[null,null,null,"235832-RE ZBOOK 17 G7 HP",{"$f":"SUMIF(Demande!E$5:E$13000,'Demandes en cours'!D14,Demande!F$5:F$13000)","v":0},{"$f":"SUMIF(Demande!E$5:E$13000,'Demandes en cours'!D14,Demande!G$5:G$13000)","v":0},{"$f":"SUMIF(Demande!E$5:E$13000,'Demandes en cours'!D14,Demande!H$5:H$13000)","v":0},{"$f":"SUMIF(Demande!E$5:E$13000,'Demandes en cours'!D14,Demande!I$5:I$13000)","v":0},{"$f":"SUMIF(Demande!E$5:E$13000,'Demandes en cours'!D14,Demande!J$5:J$13000)","v":0},{"$f":"SUMIF(Demande!E$5:E$13000,'Demandes en cours'!D14,Demande!K$5:K$13000)","v":0},{"$f":"SUMIF(Demande!E$5:E$13000,'Demandes en cours'!D14,Demande!L$5:L$13000)","v":0},{"$f":"SUMIF(Demande!E$5:E$13000,'Demandes en cours'!D14,Demande!M$5:M$13000)","v":0},{"$f":"SUMIF(Demande!E$5:E$13000,'Demandes en cours'!D14,Demande!N$5:N$13000)","v":0},{"$f":"SUMIF(Demande!E$5:E$13000,'Demandes en cours'!D14,Demande!O$5:O$13000)","v":0},0]
[null,null,null,"236411-RE 850 INTEL G7 ESN HP ",{"$f":"SUMIF(Demande!E$5:E$13000,'Demandes en cours'!D15,Demande!F$5:F$13000)","v":0},{"$f":"SUMIF(Demande!E$5:E$13000,'Demandes en cours'!D15,Demande!G$5:G$13000)","v":4},{"$f":"SUMIF(Demande!E$5:E$13000,'Demandes en cours'!D15,Demande!H$5:H$13000)","v":7},{"$f":"SUMIF(Demande!E$5:E$13000,'Demandes en cours'!D15,Demande!I$5:I$13000)","v":2},{"$f":"SUMIF(Demande!E$5:E$13000,'Demandes en cours'!D15,Demande!J$5:J$13000)","v":6},{"$f":"SUMIF(Demande!E$5:E$13000,'Demandes en cours'!D15,Demande!K$5:K$13000)","v":7},{"$f":"SUMIF(Demande!E$5:E$13000,'Demandes en cours'!D15,Demande!L$5:L$13000)","v":5},{"$f":"SUMIF(Demande!E$5:E$13000,'Demandes en cours'!D15,Demande!M$5:M$13000)","v":3},{"$f":"SUMIF(Demande!E$5:E$13000,'Demandes en cours'!D15,Demande!N$5:N$13000)","v":0},{"$f":"SUMIF(Demande!E$5:E$13000,'Demandes en cours'!D15,Demande!O$5:O$13000)","v":0},34]
[null,null,null,"236760-RE ZBOOK 15 G8 WSTAT HP",{"$f":"SUMIF(Demande!E$5:E$13000,'Demandes en cours'!D16,Demande!F$5:F$13000)","v":0},{"$f":"SUMIF(Demande!E$5:E$13000,'Demandes en cours'!D16,Demande!G$5:G$13000)","v":0},{"$f":"SUMIF(Demande!E$5:E$13000,'Demandes en cours'!D16,Demande!H$5:H$13000)","v":0},{"$f":"SUMIF(Demande!E$5:E$13000,'Demandes en cours'!D16,Demande!I$5:I$13000)","v":0},{"$f":"SUMIF(Demande!E$5:E$13000,'Demandes en cours'!D16,Demande!J$5:J$13000)","v":0},{"$f":"SUMIF(Demande!E$5:E$13000,'Demandes en cours'!D16,Demande!K$5:K$13000)","v":0},{"$f":"SUMIF(Demande!E$5:E$13000,'Demandes en cours'!D16,Demande!L$5:L$13000)","v":0},{"$f":"SUMIF(Demande!E$5:E$13000,'Demandes en cours'!D16,Demande!M$5:M$13000)","v":0},{"$f":"SUMIF(Demande!E$5:E$13000,'Demandes en cours'!D16,Demande!N$5:N$13000)","v":0},{"$f":"SUMIF(Demande!E$5:E$13000,'Demandes en cours'!D16,Demande!O$5:O$13000)","v":0},0]
[null,null,null,"236762-RE ZBOOK 17 G8 HP",{"$f":"SUMIF(Demande!E$5:E$13000,'Demandes en cours'!D17,Demande!F$5:F$13000)","v":0},{"$f":"SUMIF(Demande!E$5:E$13000,'Demandes en cours'!D17,Demande!G$5:G$13000)","v":0},{"$f":"SUMIF(Demande!E$5:E$13000,'Demandes en cours'!D17,Demande!H$5:H$13000)","v":0},{"$f":"SUMIF(Demande!E$5:E$13000,'Demandes en cours'!D17,Demande!I$5:I$13000)","v":0},{"$f":"SUMIF(Demande!E$5:E$13000,'Demandes en cours'!D17,Demande!J$5:J$13000)","v":0},{"$f":"SUMIF(Demande!E$5:E$13000,'Demandes en cours'!D17,Demande!K$5:K$13000)","v":0},{"$f":"SUMIF(Demande!E$5:E$13000,'Demandes en cours'!D17,Demande!L$5:L$13000)","v":0},{"$f":"SUMIF(Demande!E$5:E$13000,'Demandes en cours'!D17,Demande!M$5:M$13000)","v":0},{"$f":"SUMIF(Demande!E$5:E$13000,'Demandes en cours'!D17,Demande!N$5:N$13000)","v":0},{"$f":"SUMIF(Demande!E$5:E$13000,'Demandes en cours'!D17,Demande!O$5:O$13000)","v":0},0]
[null,null,null,"237925-RE 645 AMD G9 HP",{"$f":"SUMIF(Demande!E$5:E$13000,'Demandes en cours'!D18,Demande!F$5:F$13000)","v":0},{"$f":"SUMIF(Demande!E$5:E$13000,'Demandes en cours'!D18,Demande!G$5:G$13000)","v":1},{"$f":"SUMIF(Demande!E$5:E$13000,'Demandes en cours'!D18,Demande!H$5:H$13000)","v":13},{"$f":"SUMIF(Demande!E$5:E$13000,'Demandes en cours'!D18,Demande!I$5:I$13000)","v":0},{"$f":"SUMIF(Demande!E$5:E$13000,'Demandes en cours'!D18,Demande!J$5:J$13000)","v":9},{"$f":"SUMIF(Demande!E$5:E$13000,'Demandes en cours'!D18,Demande!K$5:K$13000)","v":6},{"$f":"SUMIF(Demande!E$5:E$13000,'Demandes en cours'!D18,Demande!L$5:L$13000)","v":6},{"$f":"SUMIF(Demande!E$5:E$13000,'Demandes en cours'!D18,Demande!M$5:M$13000)","v":1},{"$f":"SUMIF(Demande!E$5:E$13000,'Demandes en cours'!D18,Demande!N$5:N$13000)","v":0},{"$f":"SUMIF(Demande!E$5:E$13000,'Demandes en cours'!D18,Demande!O$5:O$13000)","v":0},36]
[{"$f":"DATEDIF(A1,BDD!E2,\"d\")","v":27},null,null,"238183-RE 655 AMD G9 DEV HP",{"$f":"SUMIF(Demande!E$5:E$13000,'Demandes en cours'!D19,Demande!F$5:F$13000)","v":0},{"$f":"SUMIF(Demande!E$5:E$13000,'Demandes en cours'!D19,Demande!G$5:G$13000)","v":0},{"$f":"SUMIF(Demande!E$5:E$13000,'Demandes en cours'!D19,Demande!H$5:H$13000)","v":0},{"$f":"SUMIF(Demande!E$5:E$13000,'Demandes en cours'!D19,Demande!I$5:I$13000)","v":0},{"$f":"SUMIF(Demande!E$5:E$13000,'Demandes en cours'!D19,Demande!J$5:J$13000)","v":1},{"$f":"SUMIF(Demande!E$5:E$13000,'Demandes en cours'!D19,Demande!K$5:K$13000)","v":0},{"$f":"SUMIF(Demande!E$5:E$13000,'Demandes en cours'!D19,Demande!L$5:L$13000)","v":0},{"$f":"SUMIF(Demande!E$5:E$13000,'Demandes en cours'!D19,Demande!M$5:M$13000)","v":0},{"$f":"SUMIF(Demande!E$5:E$13000,'Demandes en cours'!D19,Demande!N$5:N$13000)","v":0},{"$f":"SUMIF(Demande!E$5:E$13000,'Demandes en cours'!D19,Demande!O$5:O$13000)","v":0},1]
[{"$f":"DATEDIF(A1,BDD!E3,\"d\")","v":34},null,null,"239171-RE ZBOOK 16 G9 HP",{"$f":"SUMIF(Demande!E$5:E$13000,'Demandes en cours'!D20,Demande!F$5:F$13000)","v":0},{"$f":"SUMIF(Demande!E$5:E$13000,'Demandes en cours'!D20,Demande!G$5:G$13000)","v":0},{"$f":"SUMIF(Demande!E$5:E$13000,'Demandes en cours'!D20,Demande!H$5:H$13000)","v":0},{"$f":"SUMIF(Demande!E$5:E$13000,'Demandes en cours'!D20,Demande!I$5:I$13000)","v":0},{"$f":"SUMIF(Demande!E$5:E$13000,'Demandes en cours'!D20,Demande!J$5:J$13000)","v":0},{"$f":"SUMIF(Demande!E$5:E$13000,'Demandes en cours'!D20,Demande!K$5:K$13000)","v":0},{"$f":"SUMIF(Demande!E$5:E$13000,'Demandes en cours'!D20,Demande!L$5:L$13000)","v":0},{"$f":"SUMIF(Demande!E$5:E$13000,'Demandes en cours'!D20,Demande!M$5:M$13000)","v":0},{"$f":"SUMIF(Demande!E$5:E$13000,'Demandes en cours'!D20,Demande!N$5:N$13000)","v":0},{"$f":"SUMIF(Demande!E$5:E$13000,'Demandes en cours'!D20,Demande!O$5:O$13000)","v":0},0]
["Il reste",null,null,"239174-RE X360 830 G9 HP",{"$f":"SUMIF(Demande!E$5:E$13000,'Demandes en cours'!D21,Demande!F$5:F$13000)","v":0},{"$f":"SUMIF(Demande!E$5:E$13000,'Demandes en cours'!D21,Demande!G$5:G$13000)","v":0},{"$f":"SUMIF(Demande!E$5:E$13000,'Demandes en cours'!D21,Demande!H$5:H$13000)","v":0},{"$f":"SUMIF(Demande!E$5:E$13000,'Demandes en cours'!D21,Demande!I$5:I$13000)","v":0},{"$f":"SUMIF(Demande!E$5:E$13000,'Demandes en cours'!D21,Demande!J$5:J$13000)","v":0},{"$f":"SUMIF(Demande!E$5:E$13000,'Demandes en cours'!D21,Demande!K$5:K$13000)","v":0},{"$f":"SUMIF(Demande!E$5:E$13000,'Demandes en cours'!D21,Demande!L$5:L$13000)","v":0},{"$f":"SUMIF(Demande!E$5:E$13000,'Demandes en cours'!D21,Demande!M$5:M$13000)","v":0},{"$f":"SUMIF(Demande!E$5:E$13000,'Demandes en cours'!D21,Demande!N$5:N$13000)","v":0},{"$f":"SUMIF(Demande!E$5:E$13000,'Demandes en cours'!D21,Demande!O$5:O$13000)","v":0},0]
["dodos avant Noël",null,null,"239266-RE L14 AMD LEN",{"$f":"SUMIF(Demande!E$5:E$13000,'Demandes en cours'!D22,Demande!F$5:F$13000)","v":0},{"$f":"SUMIF(Demande!E$5:E$13000,'Demandes en cours'!D22,Demande!G$5:G$13000)","v":1},{"$f":"SUMIF(Demande!E$5:E$13000,'Demandes en cours'!D22,Demande!H$5:H$13000)","v":1},{"$f":"SUMIF(Demande!E$5:E$13000,'Demandes en cours'!D22,Demande!I$5:I$13000)","v":2},{"$f":"SUMIF(Demande!E$5:E$13000,'Demandes en cours'!D22,Demande!J$5:J$13000)","v":1},{"$f":"SUMIF(Demande!E$5:E$13000,'Demandes en cours'!D22,Demande!K$5:K$13000)","v":0},{"$f":"SUMIF(Demande!E$5:E$13000,'Demandes en cours'!D22,Demande!L$5:L$13000)","v":0},{"$f":"SUMIF(Demande!E$5:E$13000,'Demandes en cours'!D22,Demande!M$5:M$13000)","v":0},{"$f":"SUMIF(Demande!E$5:E$13000,'Demandes en cours'!D22,Demande!N$5:N$13000)","v":0},{"$f":"SUMIF(Demande!E$5:E$13000,'Demandes en cours'!D22,Demande!O$5:O$13000)","v":0},5]
["dodos avant le jour de l'an",null,null,"240109-RE 645 AMD G10 HP",{"$f":"SUMIF(Demande!E$5:E$13000,'Demandes en cours'!D23,Demande!F$5:F$13000)","v":0},{"$f":"SUMIF(Demande!E$5:E$13000,'Demandes en cours'!D23,Demande!G$5:G$13000)","v":0},{"$f":"SUMIF(Demande!E$5:E$13000,'Demandes en cours'!D23,Demande!H$5:H$13000)","v":0},{"$f":"SUMIF(Demande!E$5:E$13000,'Demandes en cours'!D23,Demande!I$5:I$13000)","v":0},{"$f":"SUMIF(Demande!E$5:E$13000,'Demandes en cours'!D23,Demande!J$5:J$13000)","v":0},{"$f":"SUMIF(Demande!E$5:E$13000,'Demandes en cours'!D23,Demande!K$5:K$13000)","v":0},{"$f":"SUMIF(Demande!E$5:E$13000,'Demandes en cours'!D23,Demande!L$5:L$13000)","v":0},{"$f":"SUMIF(Demande!E$5:E$13000,'Demandes en cours'!D23,Demande!M$5:M$13000)","v":0},{"$f":"SUMIF(Demande!E$5:E$13000,'Demandes en cours'!D23,Demande!N$5:N$13000)","v":0},{"$f":"SUMIF(Demande!E$5:E$13000,'Demandes en cours'!D23,Demande!O$5:O$13000)","v":0},0]
[null,null,null,"240111-RE 655 G10 DEV HP",{"$f":"SUMIF(Demande!E$5:E$13000,'Demandes en cours'!D24,Demande!F$5:F$13000)","v":0},{"$f":"SUMIF(Demande!E$5:E$13000,'Demandes en cours'!D24,Demande!G$5:G$13000)","v":0},{"$f":"SUMIF(Demande!E$5:E$13000,'Demandes en cours'!D24,Demande!H$5:H$13000)","v":0},{"$f":"SUMIF(Demande!E$5:E$13000,'Demandes en cours'!D24,Demande!I$5:I$13000)","v":0},{"$f":"SUMIF(Demande!E$5:E$13000,'Demandes en cours'!D24,Demande!J$5:J$13000)","v":0},{"$f":"SUMIF(Demande!E$5:E$13000,'Demandes en cours'!D24,Demande!K$5:K$13000)","v":0},{"$f":"SUMIF(Demande!E$5:E$13000,'Demandes en cours'!D24,Demande!L$5:L$13000)","v":0},{"$f":"SUMIF(Demande!E$5:E$13000,'Demandes en cours'!D24,Demande!M$5:M$13000)","v":0},{"$f":"SUMIF(Demande!E$5:E$13000,'Demandes en cours'!D24,Demande!N$5:N$13000)","v":0},{"$f":"SUMIF(Demande!E$5:E$13000,'Demandes en cours'!D24,Demande!O$5:O$13000)","v":0},0]
[null,null,null,"240454-RE X360 830 G10 HP",{"$f":"SUMIF(Demande!E$5:E$13000,'Demandes en cours'!D25,Demande!F$5:F$13000)","v":0},{"$f":"SUMIF(Demande!E$5:E$13000,'Demandes en cours'!D25,Demande!G$5:G$13000)","v":0},{"$f":"SUMIF(Demande!E$5:E$13000,'Demandes en cours'!D25,Demande!H$5:H$13000)","v":0},{"$f":"SUMIF(Demande!E$5:E$13000,'Demandes en cours'!D25,Demande!I$5:I$13000)","v":0},{"$f":"SUMIF(Demande!E$5:E$13000,'Demandes en cours'!D25,Demande!J$5:J$13000)","v":0},{"$f":"SUMIF(Demande!E$5:E$13000,'Demandes en cours'!D25,Demande!K$5:K$13000)","v":0},{"$f":"SUMIF(Demande!E$5:E$13000,'Demandes en cours'!D25,Demande!L$5:L$13000)","v":0},{"$f":"SUMIF(Demande!E$5:E$13000,'Demandes en cours'!D25,Demande!M$5:M$13000)","v":0},{"$f":"SUMIF(Demande!E$5:E$13000,'Demandes en cours'!D25,Demande!N$5:N$13000)","v":0},{"$f":"SUMIF(Demande!E$5:E$13000,'Demandes en cours'!D25,Demande!O$5:O$13000)","v":0},0]
[null,null,null,"241035-RE 655 AMD G10 SI HP",{"$f":"SUMIF(Demande!E$5:E$13000,'Demandes en cours'!D26,Demande!F$5:F$13000)","v":0},{"$f":"SUMIF(Demande!E$5:E$13000,'Demandes en cours'!D26,Demande!G$5:G$13000)","v":0},{"$f":"SUMIF(Demande!E$5:E$13000,'Demandes en cours'!D26,Demande!H$5:H$13000)","v":0},{"$f":"SUMIF(Demande!E$5:E$13000,'Demandes en cours'!D26,Demande!I$5:I$13000)","v":0},{"$f":"SUMIF(Demande!E$5:E$13000,'Demandes en cours'!D26,Demande!J$5:J$13000)","v":0},{"$f":"SUMIF(Demande!E$5:E$13000,'Demandes en cours'!D26,Demande!K$5:K$13000)","v":0},{"$f":"SUMIF(Demande!E$5:E$13000,'Demandes en cours'!D26,Demande!L$5:L$13000)","v":0},{"$f":"SUMIF(Demande!E$5:E$13000,'Demandes en cours'!D26,Demande!M$5:M$13000)","v":0},{"$f":"SUMIF(Demande!E$5:E$13000,'Demandes en cours'!D26,Demande!N$5:N$13000)","v":0},{"$f":"SUMIF(Demande!E$5:E$13000,'Demandes en cours'!D26,Demande!O$5:O$13000)","v":0},0]
[null,null,null,"Totaux",{"$f":"SUM(E5:E26)","v":12},{"$f":"SUM(F5:F26)","v":82},201,29,127,90,110,67,0,0,{"$f":"SUM(E27:N27)","v":718}]

{"sheet":"Stock en cours","index":4,"n_rows":27,"n_cols":15,"rows_kept":27,"cut":false,"hidden":false,"merged":[[0,3,1,11],[0,0,1,1]]}
[{"$f":"TODAY()","v":"2023-11-28"},null,null,"Stock en cours"]
[]
[]
[null,null,null,"Modèle","Batterie","Clavier","Dalle","Touchpad","Top Cover","Back Cover","Chassis","Bezel","Ventilateur","Cache Charnière","Totaux"]
[null,null,null,"227835-RE TAB X360 1030 G2 HP",{"$f":"SUMIF(Ajout!E$5:E$13000,'Stock en cours'!D5,Ajout!F$5:F$13000)","v":0},{"$f":"SUMIF(Ajout!E$5:E$13000,'Stock en cours'!D5,Ajout!G$5:G$13000)","v":0},{"$f":"SUMIF(Ajout!E$5:E$13000,'Stock en cours'!D5,Ajout!H$5:H$13000)","v":0},{"$f":"SUMIF(Ajout!E$5:E$13000,'Stock en cours'!D5,Ajout!I$5:I$13000)","v":0},{"$f":"SUMIF(Ajout!E$5:E$13000,'Stock en cours'!D5,Ajout!J$5:J$13000)","v":0},{"$f":"SUMIF(Ajout!E$5:E$13000,'Stock en cours'!D5,Ajout!K$5:K$13000)","v":0},{"$f":"SUMIF(Ajout!E$5:E$13000,'Stock en cours'!D5,Ajout!L$5:L$13000)","v":0},{"$f":"SUMIF(Ajout!E$5:E$13000,'Stock en cours'!D5,Ajout!M$5:M$13000)","v":0},{"$f":"SUMIF(Ajout!E$5:E$13000,'Stock en cours'!D5,Ajout!N$5:N$13000)","v":0},{"$f":"SUMIF(Ajout!E$5:E$13000,'Stock en cours'!D5,Ajout!O$5:O$13000)","v":0},{"$f":"SUM(E5:N5)","v":0}]
[null,null,null,"231926-RE 830 G6 256 HP",{"$f":"SUMIF(Ajout!E$5:E$13000,'Stock en cours'!D6,Ajout!F$5:F$13000)","v":0},{"$f":"SUMIF(Ajout!E$5:E$13000,'Stock en cours'!D6,Ajout!G$5:G$13000)","v":0},{"$f":"SUMIF(Ajout!E$5:E$13000,'Stock en cours'!D6,Ajout!H$5:H$13000)","v":0},{"$f":"SUMIF(Ajout!E$5:E$13000,'Stock en cours'!D6,Ajout!I$5:I$13000)","v":0},{"$f":"SUMIF(Ajout!E$5:E$13000,'Stock en cours'!D6,Ajout!J$5:J$13000)","v":0},{"$f":"SUMIF(Ajout!E$5:E$13000,'Stock en cours'!D6,Ajout!K$5:K$13000)","v":0},{"$f":"SUMIF(Ajout!E$5:E$13000,'Stock en cours'!D6,Ajout!L$5:L$13000)","v":0},{"$f":"SUMIF(Ajout!E$5:E$13000,'Stock en cours'!D6,Ajout!M$5:M$13000)","v":0},{"$f":"SUMIF(Ajout!E$5:E$13000,'Stock en cours'!D6,Ajout!N$5:N$13000)","v":0},{"$f":"SUMIF(Ajout!E$5:E$13000,'Stock en cours'!D6,Ajout!O$5:O$13000)","v":0},{"$f":"SUM(E6:N6)","v":0}]
[null,null,null,"231927-RE 850 G6 256 HP",{"$f":"SUMIF(Ajout!E$5:E$13000,'Stock en cours'!D7,Ajout!F$5:F$13000)","v":0},{"$f":"SUMIF(Ajout!E$5:E$13000,'Stock en cours'!D7,Ajout!G$5:G$13000)","v":0},{"$f":"SUMIF(Ajout!E$5:E$13000,'Stock en cours'!D7,Ajout!H$5:H$13000)","v":0},{"$f":"SUMIF(Ajout!E$5:E$13000,'Stock en cours'!D7,Ajout!I$5:I$13000)","v":0},{"$f":"SUMIF(Ajout!E$5:E$13000,'Stock en cours'!D7,Ajout!J$5:J$13000)","v":0},{"$f":"SUMIF(Ajout!E$5:E$13000,'Stock en cours'!D7,Ajout!K$5:K$13000)","v":0},{"$f":"SUMIF(Ajout!E$5:E$13000,'Stock en cours'!D7,Ajout!L$5:L$13000)","v":0},{"$f":"SUMIF(Ajout!E$5:E$13000,'Stock en cours'!D7,Ajout!M$5:M$13000)","v":0},{"$f":"SUMIF(Ajout!E$5:E$13000,'Stock en cours'!D7,Ajout!N$5:N$13000)","v":0},{"$f":"SUMIF(Ajout!E$5:E$13000,'Stock en cours'!D7,Ajout!O$5:O$13000)","v":0},0]
[null,null,null,"233226-RE 745 G6 AMD HP",{"$f":"SUMIF(Ajout!E$5:E$13000,'Stock en cours'!D8,Ajout!F$5:F$13000)","v":0},{"$f":"SUMIF(Ajout!E$5:E$13000,'Stock en cours'!D8,Ajout!G$5:G$13000)","v":0},{"$f":"SUMIF(Ajout!E$5:E$13000,'Stock en cours'!D8,Ajout!H$5:H$13000)","v":0},{"$f":"SUMIF(Ajout!E$5:E$13000,'Stock en cours'!D8,Ajout!I$5:I$13000)","v":0},{"$f":"SUMIF(Ajout!E$5:E$13000,'Stock en cours'!D8,Ajout!J$5:J$13000)","v":0},{"$f":"SUMIF(Ajout!E$5:E$13000,'Stock en cours'!D8,Ajout!K$5:K$13000)","v":0},{"$f":"SUMIF(Ajout!E$5:E$13000,'Stock en cours'!D8,Ajout!L$5:L$13000)","v":0},{"$f":"SUMIF(Ajout!E$5:E$13000,'Stock en cours'!D8,Ajout!M$5:M$13000)","v":0},{"$f":"SUMIF(Ajout!E$5:E$13000,'Stock en cours'!D8,Ajout!N$5:N$13000)","v":0},{"$f":"SUMIF(Ajout!E$5:E$13000,'Stock en cours'!D8,Ajout!O$5:O$13000)","v":0},0]
[null,null,null,"233549-RE ZBOOK 15 G6 WSTAT HP",{"$f":"SUMIF(Ajout!E$5:E$13000,'Stock en cours'!D9,Ajout!F$5:F$13000)","v":0},{"$f":"SUMIF(Ajout!E$5:E$13000,'Stock en cours'!D9,Ajout!G$5:G$13000)","v":0},{"$f":"SUMIF(Ajout!E$5:E$13000,'Stock en cours'!D9,Ajout!H$5:H$13000)","v":0},{"$f":"SUMIF(Ajout!E$5:E$13000,'Stock en cours'!D9,Ajout!I$5:I$13000)","v":0},{"$f":"SUMIF(Ajout!E$5:E$13000,'Stock en cours'!D9,Ajout!J$5:J$13000)","v":0},{"$f":"SUMIF(Ajout!E$5:E$13000,'Stock en cours'!D9,Ajout!K$5:K$13000)","v":0},{"$f":"SUMIF(Ajout!E$5:E$13000,'Stock en cours'!D9,Ajout!L$5:L$13000)","v":0},{"$f":"SUMIF(Ajout!E$5:E$13000,'Stock en cours'!D9,Ajout!M$5:M$13000)","v":0},{"$f":"SUMIF(Ajout!E$5:E$13000,'Stock en cours'!D9,Ajout!N$5:N$13000)","v":0},{"$f":"SUMIF(Ajout!E$5:E$13000,'Stock en cours'!D9,Ajout!O$5:O$13000)","v":0},0]
[null,null,null,"234766-RE T14S AMD LEN",{"$f":"SUMIF(Ajout!E$5:E$13000,'Stock en cours'!D10,Ajout!F$5:F$13000)","v":0},{"$f":"SUMIF(Ajout!E$5:E$13000,'Stock en cours'!D10,Ajout!G$5:G$13000)","v":0},{"$f":"SUMIF(Ajout!E$5:E$13000,'Stock en cours'!D10,Ajout!H$5:H$13000)","v":0},{"$f":"SUMIF(Ajout!E$5:E$13000,'Stock en cours'!D10,Ajout!I$5:I$13000)","v":0},{"$f":"SUMIF(Ajout!E$5:E$13000,'Stock en cours'!D10,Ajout!J$5:J$13000)","v":0},{"$f":"SUMIF(Ajout!E$5:E$13000,'Stock en cours'!D10,Ajout!K$5:K$13000)","v":0},{"$f":"SUMIF(Ajout!E$5:E$13000,'Stock en cours'!D10,Ajout!L$5:L$13000)","v":0},{"$f":"SUMIF(Ajout!E$5:E$13000,'Stock en cours'!D10,Ajout!M$5:M$13000)","v":0},{"$f":"SUMIF(Ajout!E$5:E$13000,'Stock en cours'!D10,Ajout!N$5:N$13000)","v":0},{"$f":"SUMIF(Ajout!E$5:E$13000,'Stock en cours'!D10,Ajout!O$5:O$13000)","v":0},0]
[null,null,null,"235040-RE 845 AMD G7 HP",{"$f":"SUMIF(Ajout!E$5:E$13000,'Stock en cours'!D11,Ajout!F$5:F$13000)","v":0},{"$f":"SUMIF(Ajout!E$5:E$13000,'Stock en cours'!D11,Ajout!G$5:G$13000)","v":0},{"$f":"SUMIF(Ajout!E$5:E$13000,'Stock en cours'!D11,Ajout!H$5:H$13000)","v":0},{"$f":"SUMIF(Ajout!E$5:E$13000,'Stock en cours'!D11,Ajout!I$5:I$13000)","v":0},{"$f":"SUMIF(Ajout!E$5:E$13000,'Stock en cours'!D11,Ajout!J$5:J$13000)","v":0},{"$f":"SUMIF(Ajout!E$5:E$13000,'Stock en cours'!D11,Ajout!K$5:K$13000)","v":0},{"$f":"SUMIF(Ajout!E$5:E$13000,'Stock en cours'!D11,Ajout!L$5:L$13000)","v":0},{"$f":"SUMIF(Ajout!E$5:E$13000,'Stock en cours'!D11,Ajout!M$5:M$13000)","v":0},{"$f":"SUMIF(Ajout!E$5:E$13000,'Stock en cours'!D11,Ajout!N$5:N$13000)","v":0},{"$f":"SUMIF(Ajout!E$5:E$13000,'Stock en cours'!D11,Ajout!O$5:O$13000)","v":0},0]
[null,null,null,"235703-RE 850 INTEL G8 HP",{"$f":"SUMIF(Ajout!E$5:E$13000,'Stock en cours'!D12,Ajout!F$5:F$13000)","v":0},{"$f":"SUMIF(Ajout!E$5:E$13000,'Stock en cours'!D12,Ajout!G$5:G$13000)","v":0},{"$f":"SUMIF(Ajout!E$5:E$13000,'Stock en cours'!D12,Ajout!H$5:H$13000)","v":0},{"$f":"SUMIF(Ajout!E$5:E$13000,'Stock en cours'!D12,Ajout!I$5:I$13000)","v":0},{"$f":"SUMIF(Ajout!E$5:E$13000,'Stock en cours'!D12,Ajout!J$5:J$13000)","v":0},{"$f":"SUMIF(Ajout!E$5:E$13000,'Stock en cours'!D12,Ajout!K$5:K$13000)","v":0},{"$f":"SUMIF(Ajout!E$5:E$13000,'Stock en cours'!D12,Ajout!L$5:L$13000)","v":0},{"$f":"SUMIF(Ajout!E$5:E$13000,'Stock en cours'!D12,Ajout!M$5:M$13000)","v":0},{"$f":"SUMIF(Ajout!E$5:E$13000,'Stock en cours'!D12,Ajout!N$5:N$13000)","v":0},{"$f":"SUMIF(Ajout!E$5:E$13000,'Stock en cours'!D12,Ajout!O$5:O$13000)","v":0},0]
[null,null,null,"235758-RE 845 AMD G8 HP",{"$f":"SUMIF(Ajout!E$5:E$13000,'Stock en cours'!D13,Ajout!F$5:F$13000)","v":0},{"$f":"SUMIF(Ajout!E$5:E$13000,'Stock en cours'!D13,Ajout!G$5:G$13000)","v":0},{"$f":"SUMIF(Ajout!E$5:E$13000,'Stock en cours'!D13,Ajout!H$5:H$13000)","v":0},{"$f":"SUMIF(Ajout!E$5:E$13000,'Stock en cours'!D13,Ajout!I$5:I$13000)","v":0},{"$f":"SUMIF(Ajout!E$5:E$13000,'Stock en cours'!D13,Ajout!J$5:J$13000)","v":0},{"$f":"SUMIF(Ajout!E$5:E$13000,'Stock en cours'!D13,Ajout!K$5:K$13000)","v":0},{"$f":"SUMIF(Ajout!E$5:E$13000,'Stock en cours'!D13,Ajout!L$5:L$13000)","v":0},{"$f":"SUMIF(Ajout!E$5:E$13000,'Stock en cours'!D13,Ajout!M$5:M$13000)","v":0},{"$f":"SUMIF(Ajout!E$5:E$13000,'Stock en cours'!D13,Ajout!N$5:N$13000)","v":0},{"$f":"SUMIF(Ajout!E$5:E$13000,'Stock en cours'!D13,Ajout!O$5:O$13000)","v":0},0]
[null,null,null,"235832-RE ZBOOK 17 G7 HP",{"$f":"SUMIF(Ajout!E$5:E$13000,'Stock en cours'!D14,Ajout!F$5:F$13000)","v":0},{"$f":"SUMIF(Ajout!E$5:E$13000,'Stock en cours'!D14,Ajout!G$5:G$13000)","v":0},{"$f":"SUMIF(Ajout!E$5:E$13000,'Stock en cours'!D14,Ajout!H$5:H$13000)","v":0},{"$f":"SUMIF(Ajout!E$5:E$13000,'Stock en cours'!D14,Ajout!I$5:I$13000)","v":0},{"$f":"SUMIF(Ajout!E$5:E$13000,'Stock en cours'!D14,Ajout!J$5:J$13000)","v":0},{"$f":"SUMIF(Ajout!E$5:E$13000,'Stock en cours'!D14,Ajout!K$5:K$13000)","v":0},{"$f":"SUMIF(Ajout!E$5:E$13000,'Stock en cours'!D14,Ajout!L$5:L$13000)","v":0},{"$f":"SUMIF(Ajout!E$5:E$13000,'Stock en cours'!D14,Ajout!M$5:M$13000)","v":0},{"$f":"SUMIF(Ajout!E$5:E$13000,'Stock en cours'!D14,Ajout!N$5:N$13000)","v":0},{"$f":"SUMIF(Ajout!E$5:E$13000,'Stock en cours'!D14,Ajout!O$5:O$13000)","v":0},0]
[null,null,null,"236411-RE 850 INTEL G7 ESN HP ",{"$f":"SUMIF(Ajout!E$5:E$13000,'Stock en cours'!D15,Ajout!F$5:F$13000)","v":0},{"$f":"SUMIF(Ajout!E$5:E$13000,'Stock en cours'!D15,Ajout!G$5:G$13000)","v":0},{"$f":"SUMIF(Ajout!E$5:E$13000,'Stock en cours'!D15,Ajout!H$5:H$13000)","v":0},{"$f":"SUMIF(Ajout!E$5:E$13000,'Stock en cours'!D15,Ajout!I$5:I$13000)","v":0},{"$f":"SUMIF(Ajout!E$5:E$13000,'Stock en cours'!D15,Ajout!J$5:J$13000)","v":0},{"$f":"SUMIF(Ajout!E$5:E$13000,'Stock en cours'!D15,Ajout!K$5:K$13000)","v":0},{"$f":"SUMIF(Ajout!E$5:E$13000,'Stock en cours'!D15,Ajout!L$5:L$13000)","v":0},{"$f":"SUMIF(Ajout!E$5:E$13000,'Stock en cours'!D15,Ajout!M$5:M$13000)","v":0},{"$f":"SUMIF(Ajout!E$5:E$13000,'Stock en cours'!D15,Ajout!N$5:N$13000)","v":0},{"$f":"SUMIF(Ajout!E$5:E$13000,'Stock en cours'!D15,Ajout!O$5:O$13000)","v":0},0]
[null,null,null,"236760-RE ZBOOK 15 G8 WSTAT HP",{"$f":"SUMIF(Ajout!E$5:E$13000,'Stock en cours'!D16,Ajout!F$5:F$13000)","v":0},{"$f":"SUMIF(Ajout!E$5:E$13000,'Stock en cours'!D16,Ajout!G$5:G$13000)","v":0},{"$f":"SUMIF(Ajout!E$5:E$13000,'Stock en cours'!D16,Ajout!H$5:H$13000)","v":0},{"$f":"SUMIF(Ajout!E$5:E$13000,'Stock en cours'!D16,Ajout!I$5:I$13000)","v":0},{"$f":"SUMIF(Ajout!E$5:E$13000,'Stock en cours'!D16,Ajout!J$5:J$13000)","v":0},{"$f":"SUMIF(Ajout!E$5:E$13000,'Stock en cours'!D16,Ajout!K$5:K$13000)","v":0},{"$f":"SUMIF(Ajout!E$5:E$13000,'Stock en cours'!D16,Ajout!L$5:L$13000)","v":0},{"$f":"SUMIF(Ajout!E$5:E$13000,'Stock en cours'!D16,Ajout!M$5:M$13000)","v":0},{"$f":"SUMIF(Ajout!E$5:E$13000,'Stock en cours'!D16,Ajout!N$5:N$13000)","v":0},{"$f":"SUMIF(Ajout!E$5:E$13000,'Stock en cours'!D16,Ajout!O$5:O$13000)","v":0},0]
[null,null,null,"236762-RE ZBOOK 17 G8 HP",{"$f":"SUMIF(Ajout!E$5:E$13000,'Stock en cours'!D17,Ajout!F$5:F$13000)","v":0},{"$f":"SUMIF(Ajout!E$5:E$13000,'Stock en cours'!D17,Ajout!G$5:G$13000)","v":0},{"$f":"SUMIF(Ajout!E$5:E$13000,'Stock en cours'!D17,Ajout!H$5:H$13000)","v":0},{"$f":"SUMIF(Ajout!E$5:E$13000,'Stock en cours'!D17,Ajout!I$5:I$13000)","v":0},{"$f":"SUMIF(Ajout!E$5:E$13000,'Stock en cours'!D17,Ajout!J$5:J$13000)","v":0},{"$f":"SUMIF(Ajout!E$5:E$13000,'Stock en cours'!D17,Ajout!K$5:K$13000)","v":0},{"$f":"SUMIF(Ajout!E$5:E$13000,'Stock en cours'!D17,Ajout!L$5:L$13000)","v":0},{"$f":"SUMIF(Ajout!E$5:E$13000,'Stock en cours'!D17,Ajout!M$5:M$13000)","v":0},{"$f":"SUMIF(Ajout!E$5:E$13000,'Stock en cours'!D17,Ajout!N$5:N$13000)","v":0},{"$f":"SUMIF(Ajout!E$5:E$13000,'Stock en cours'!D17,Ajout!O$5:O$13000)","v":0},0]
[null,null,null,"237925-RE 645 AMD G9 HP",{"$f":"SUMIF(Ajout!E$5:E$13000,'Stock en cours'!D18,Ajout!F$5:F$13000)","v":0},{"$f":"SUMIF(Ajout!E$5:E$13000,'Stock en cours'!D18,Ajout!G$5:G$13000)","v":0},{"$f":"SUMIF(Ajout!E$5:E$13000,'Stock en cours'!D18,Ajout!H$5:H$13000)","v":0},{"$f":"SUMIF(Ajout!E$5:E$13000,'Stock en cours'!D18,Ajout!I$5:I$13000)","v":0},{"$f":"SUMIF(Ajout!E$5:E$13000,'Stock en cours'!D18,Ajout!J$5:J$13000)","v":0},{"$f":"SUMIF(Ajout!E$5:E$13000,'Stock en cours'!D18,Ajout!K$5:K$13000)","v":0},{"$f":"SUMIF(Ajout!E$5:E$13000,'Stock en cours'!D18,Ajout!L$5:L$13000)","v":0},{"$f":"SUMIF(Ajout!E$5:E$13000,'Stock en cours'!D18,Ajout!M$5:M$13000)","v":0},{"$f":"SUMIF(Ajout!E$5:E$13000,'Stock en cours'!D18,Ajout!N$5:N$13000)","v":0},{"$f":"SUMIF(Ajout!E$5:E$13000,'Stock en cours'!D18,Ajout!O$5:O$13000)","v":0},0]
[{"$f":"DATEDIF(A1,BDD!E2,\"d\")","v":27},null,null,"238183-RE 655 AMD G9 DEV HP",{"$f":"SUMIF(Ajout!E$5:E$13000,'Stock en cours'!D19,Ajout!F$5:F$13000)","v":0},{"$f":"SUMIF(Ajout!E$5:E$13000,'Stock en cours'!D19,Ajout!G$5:G$13000)","v":0},{"$f":"SUMIF(Ajout!E$5:E$13000,'Stock en cours'!D19,Ajout!H$5:H$13000)","v":0},{"$f":"SUMIF(Ajout!E$5:E$13000,'Stock en cours'!D19,Ajout!I$5:I$13000)","v":0},{"$f":"SUMIF(Ajout!E$5:E$13000,'Stock en cours'!D19,Ajout!J$5:J$13000)","v":0},{"$f":"SUMIF(Ajout!E$5:E$13000,'Stock en cours'!D19,Ajout!K$5:K$13000)","v":0},{"$f":"SUMIF(Ajout!E$5:E$13000,'Stock en cours'!D19,Ajout!L$5:L$13000)","v":0},{"$f":"SUMIF(Ajout!E$5:E$13000,'Stock en cours'!D19,Ajout!M$5:M$13000)","v":0},{"$f":"SUMIF(Ajout!E$5:E$13000,'Stock en cours'!D19,Ajout!N$5:N$13000)","v":0},{"$f":"SUMIF(Ajout!E$5:E$13000,'Stock en cours'!D19,Ajout!O$5:O$13000)","v":0},0]
[{"$f":"DATEDIF(A1,BDD!E3,\"d\")","v":34},null,null,"239171-RE ZBOOK 16 G9 HP",{"$f":"SUMIF(Ajout!E$5:E$13000,'Stock en cours'!D20,Ajout!F$5:F$13000)","v":0},{"$f":"SUMIF(Ajout!E$5:E$13000,'Stock en cours'!D20,Ajout!G$5:G$13000)","v":0},{"$f":"SUMIF(Ajout!E$5:E$13000,'Stock en cours'!D20,Ajout!H$5:H$13000)","v":0},{"$f":"SUMIF(Ajout!E$5:E$13000,'Stock en cours'!D20,Ajout!I$5:I$13000)","v":0},{"$f":"SUMIF(Ajout!E$5:E$13000,'Stock en cours'!D20,Ajout!J$5:J$13000)","v":0},{"$f":"SUMIF(Ajout!E$5:E$13000,'Stock en cours'!D20,Ajout!K$5:K$13000)","v":0},{"$f":"SUMIF(Ajout!E$5:E$13000,'Stock en cours'!D20,Ajout!L$5:L$13000)","v":0},{"$f":"SUMIF(Ajout!E$5:E$13000,'Stock en cours'!D20,Ajout!M$5:M$13000)","v":0},{"$f":"SUMIF(Ajout!E$5:E$13000,'Stock en cours'!D20,Ajout!N$5:N$13000)","v":0},{"$f":"SUMIF(Ajout!E$5:E$13000,'Stock en cours'!D20,Ajout!O$5:O$13000)","v":0},0]
["Il reste",null,null,"239174-RE X360 830 G9 HP",{"$f":"SUMIF(Ajout!E$5:E$13000,'Stock en cours'!D21,Ajout!F$5:F$13000)","v":0},{"$f":"SUMIF(Ajout!E$5:E$13000,'Stock en cours'!D21,Ajout!G$5:G$13000)","v":0},{"$f":"SUMIF(Ajout!E$5:E$13000,'Stock en cours'!D21,Ajout!H$5:H$13000)","v":0},{"$f":"SUMIF(Ajout!E$5:E$13000,'Stock en cours'!D21,Ajout!I$5:I$13000)","v":0},{"$f":"SUMIF(Ajout!E$5:E$13000,'Stock en cours'!D21,Ajout!J$5:J$13000)","v":0},{"$f":"SUMIF(Ajout!E$5:E$13000,'Stock en cours'!D21,Ajout!K$5:K$13000)","v":0},{"$f":"SUMIF(Ajout!E$5:E$13000,'Stock en cours'!D21,Ajout!L$5:L$13000)","v":0},{"$f":"SUMIF(Ajout!E$5:E$13000,'Stock en cours'!D21,Ajout!M$5:M$13000)","v":0},{"$f":"SUMIF(Ajout!E$5:E$13000,'Stock en cours'!D21,Ajout!N$5:N$13000)","v":0},{"$f":"SUMIF(Ajout!E$5:E$13000,'Stock en cours'!D21,Ajout!O$5:O$13000)","v":0},0]
["dodos avant Noël",null,null,"239266-RE L14 AMD LEN",{"$f":"SUMIF(Ajout!E$5:E$13000,'Stock en cours'!D22,Ajout!F$5:F$13000)","v":0},{"$f":"SUMIF(Ajout!E$5:E$13000,'Stock en cours'!D22,Ajout!G$5:G$13000)","v":0},{"$f":"SUMIF(Ajout!E$5:E$13000,'Stock en cours'!D22,Ajout!H$5:H$13000)","v":0},{"$f":"SUMIF(Ajout!E$5:E$13000,'Stock en cours'!D22,Ajout!I$5:I$13000)","v":0},{"$f":"SUMIF(Ajout!E$5:E$13000,'Stock en cours'!D22,Ajout!J$5:J$13000)","v":0},{"$f":"SUMIF(Ajout!E$5:E$13000,'Stock en cours'!D22,Ajout!K$5:K$13000)","v":0},{"$f":"SUMIF(Ajout!E$5:E$13000,'Stock en cours'!D22,Ajout!L$5:L$13000)","v":0},{"$f":"SUMIF(Ajout!E$5:E$13000,'Stock en cours'!D22,Ajout!M$5:M$13000)","v":0},{"$f":"SUMIF(Ajout!E$5:E$13000,'Stock en cours'!D22,Ajout!N$5:N$13000)","v":0},{"$f":"SUMIF(Ajout!E$5:E$13000,'Stock en cours'!D22,Ajout!O$5:O$13000)","v":0},0]
["dodos avant le jour de l'an",null,null,"240109-RE 645 AMD G10 HP",{"$f":"SUMIF(Ajout!E$5:E$13000,'Stock en cours'!D23,Ajout!F$5:F$13000)","v":0},{"$f":"SUMIF(Ajout!E$5:E$13000,'Stock en cours'!D23,Ajout!G$5:G$13000)","v":0},{"$f":"SUMIF(Ajout!E$5:E$13000,'Stock en cours'!D23,Ajout!H$5:H$13000)","v":0},{"$f":"SUMIF(Ajout!E$5:E$13000,'Stock en cours'!D23,Ajout!I$5:I$13000)","v":0},{"$f":"SUMIF(Ajout!E$5:E$13000,'Stock en cours'!D23,Ajout!J$5:J$13000)","v":0},{"$f":"SUMIF(Ajout!E$5:E$13000,'Stock en cours'!D23,Ajout!K$5:K$13000)","v":0},{"$f":"SUMIF(Ajout!E$5:E$13000,'Stock en cours'!D23,Ajout!L$5:L$13000)","v":0},{"$f":"SUMIF(Ajout!E$5:E$13000,'Stock en cours'!D23,Ajout!M$5:M$13000)","v":0},{"$f":"SUMIF(Ajout!E$5:E$13000,'Stock en cours'!D23,Ajout!N$5:N$13000)","v":0},{"$f":"SUMIF(Ajout!E$5:E$13000,'Stock en cours'!D23,Ajout!O$5:O$13000)","v":0},0]
[null,null,null,"240111-RE 655 G10 DEV HP",{"$f":"SUMIF(Ajout!E$5:E$13000,'Stock en cours'!D24,Ajout!F$5:F$13000)","v":0},{"$f":"SUMIF(Ajout!E$5:E$13000,'Stock en cours'!D24,Ajout!G$5:G$13000)","v":0},{"$f":"SUMIF(Ajout!E$5:E$13000,'Stock en cours'!D24,Ajout!H$5:H$13000)","v":0},{"$f":"SUMIF(Ajout!E$5:E$13000,'Stock en cours'!D24,Ajout!I$5:I$13000)","v":0},{"$f":"SUMIF(Ajout!E$5:E$13000,'Stock en cours'!D24,Ajout!J$5:J$13000)","v":0},{"$f":"SUMIF(Ajout!E$5:E$13000,'Stock en cours'!D24,Ajout!K$5:K$13000)","v":0},{"$f":"SUMIF(Ajout!E$5:E$13000,'Stock en cours'!D24,Ajout!L$5:L$13000)","v":0},{"$f":"SUMIF(Ajout!E$5:E$13000,'Stock en cours'!D24,Ajout!M$5:M$13000)","v":0},{"$f":"SUMIF(Ajout!E$5:E$13000,'Stock en cours'!D24,Ajout!N$5:N$13000)","v":0},{"$f":"SUMIF(Ajout!E$5:E$13000,'Stock en cours'!D24,Ajout!O$5:O$13000)","v":0},0]
[null,null,null,"240454-RE X360 830 G10 HP",{"$f":"SUMIF(Ajout!E$5:E$13000,'Stock en cours'!D25,Ajout!F$5:F$13000)","v":0},{"$f":"SUMIF(Ajout!E$5:E$13000,'Stock en cours'!D25,Ajout!G$5:G$13000)","v":0},{"$f":"SUMIF(Ajout!E$5:E$13000,'Stock en cours'!D25,Ajout!H$5:H$13000)","v":0},{"$f":"SUMIF(Ajout!E$5:E$13000,'Stock en cours'!D25,Ajout!I$5:I$13000)","v":0},{"$f":"SUMIF(Ajout!E$5:E$13000,'Stock en cours'!D25,Ajout!J$5:J$13000)","v":0},{"$f":"SUMIF(Ajout!E$5:E$13000,'Stock en cours'!D25,Ajout!K$5:K$13000)","v":0},{"$f":"SUMIF(Ajout!E$5:E$13000,'Stock en cours'!D25,Ajout!L$5:L$13000)","v":0},{"$f":"SUMIF(Ajout!E$5:E$13000,'Stock en cours'!D25,Ajout!M$5:M$13000)","v":0},{"$f":"SUMIF(Ajout!E$5:E$13000,'Stock en cours'!D25,Ajout!N$5:N$13000)","v":0},{"$f":"SUMIF(Ajout!E$5:E$13000,'Stock en cours'!D25,Ajout!O$5:O$13000)","v":0},0]
[null,null,null,"241035-RE 655 AMD G10 SI HP",{"$f":"SUMIF(Ajout!E$5:E$13000,'Stock en cours'!D26,Ajout!F$5:F$13000)","v":0},{"$f":"SUMIF(Ajout!E$5:E$13000,'Stock en cours'!D26,Ajout!G$5:G$13000)","v":0},{"$f":"SUMIF(Ajout!E$5:E$13000,'Stock en cours'!D26,Ajout!H$5:H$13000)","v":0},{"$f":"SUMIF(Ajout!E$5:E$13000,'Stock en cours'!D26,Ajout!I$5:I$13000)","v":0},{"$f":"SUMIF(Ajout!E$5:E$13000,'Stock en cours'!D26,Ajout!J$5:J$13000)","v":0},{"$f":"SUMIF(Ajout!E$5:E$13000,'Stock en cours'!D26,Ajout!K$5:K$13000)","v":0},{"$f":"SUMIF(Ajout!E$5:E$13000,'Stock en cours'!D26,Ajout!L$5:L$13000)","v":0},{"$f":"SUMIF(Ajout!E$5:E$13000,'Stock en cours'!D26,Ajout!M$5:M$13000)","v":0},{"$f":"SUMIF(Ajout!E$5:E$13000,'Stock en cours'!D26,Ajout!N$5:N$13000)","v":0},{"$f":"SUMIF(Ajout!E$5:E$13000,'Stock en cours'!D26,Ajout!O$5:O$13000)","v":0},0]
[null,null,null,"Totaux",{"$f":"SUM(E5:E26)","v":0},{"$f":"SUM(F5:F26)","v":0},0,0,0,0,0,0,0,0,0]

{"sheet":"Ecart stock","index":5,"n_rows":27,"n_cols":15,"rows_kept":27,"cut":false,"hidden":false,"merged":[[0,0,1,1],[0,3,1,11]]}
[{"$f":"TODAY()","v":"2023-11-28"},null,null,"Ecart stock"]
[]
[]
[null,null,null,"Modèle","Batterie","Clavier","Dalle","Touchpad","Top Cover","Back Cover","Chassis","Bezel","Ventilateur","Cache Charnière","Totaux"]
[null,null,null,"227835-RE TAB X360 1030 G2 HP",{"$f":"'Demandes en cours'!E5-'Stock en cours'!E5","v":0},{"$f":"'Demandes en cours'!F$5-'Stock en cours'!F$5","v":0},{"$f":"'Demandes en cours'!G$5-'Stock en cours'!G$5","v":0},{"$f":"'Demandes en cours'!H$5-'Stock en cours'!H$5","v":0},{"$f":"'Demandes en cours'!I$5-'Stock en cours'!I$5","v":0},{"$f":"'Demandes en cours'!J$5-'Stock en cours'!J$5","v":0},{"$f":"'Demandes en cours'!K$5-'Stock en cours'!K$5","v":0},{"$f":"'Demandes en cours'!L$5-'Stock en cours'!L$5","v":0},{"$f":"'Demandes en cours'!M$5-'Stock en cours'!M$5","v":0},{"$f":"'Demandes en cours'!N$5-'Stock en cours'!N$5","v":0},{"$f":"SUM(E5:N5)","v":0}]
[null,null,null,"231926-RE 830 G6 256 HP",{"$f":"'Demandes en cours'!E$6-'Stock en cours'!E$6","v":6},{"$f":"'Demandes en cours'!F$6-'Stock en cours'!F$6","v":10},{"$f":"'Demandes en cours'!G$6-'Stock en cours'!G$6","v":29},{"$f":"'Demandes en cours'!H$6-'Stock en cours'!H$6","v":5},{"$f":"'Demandes en cours'!I$6-'Stock en cours'!I$6","v":19},{"$f":"'Demandes en cours'!J$6-'Stock en cours'!J$6","v":15},{"$f":"'Demandes en cours'!K$6-'Stock en cours'!K$6","v":16},{"$f":"'Demandes en cours'!L$6-'Stock en cours'!L$6","v":16},{"$f":"'Demandes en cours'!M$6-'Stock en cours'!M$6","v":0},{"$f":"'Demandes en cours'!N$6-'Stock en cours'!N$6","v":0},{"$f":"SUM(E6:N6)","v":116}]
[null,null,null,"231927-RE 850 G6 256 HP",{"$f":"'Demandes en cours'!E$7-'Stock en cours'!E$7","v":4},{"$f":"'Demandes en cours'!F$7-'Stock en cours'!F$7","v":17},{"$f":"'Demandes en cours'!G$7-'Stock en cours'!G$7","v":27},{"$f":"'Demandes en cours'!H$7-'Stock en cours'!H$7","v":4},{"$f":"'Demandes en cours'!I$7-'Stock en cours'!I$7","v":17},{"$f":"'Demandes en cours'!J$7-'Stock en cours'!J$7","v":13},{"$f":"'Demandes en cours'!K$7-'Stock en cours'!K$7","v":19},{"$f":"'Demandes en cours'!L$7-'Stock en cours'!L$7","v":4},{"$f":"'Demandes en cours'!M$7-'Stock en cours'!M$7","v":0},{"$f":"'Demandes en cours'!N$7-'Stock en cours'!N$7","v":0},105]
[null,null,null,"233226-RE 745 G6 AMD HP",{"$f":"'Demandes en cours'!E$8-'Stock en cours'!E$8","v":2},{"$f":"'Demandes en cours'!F$8-'Stock en cours'!F$8","v":28},{"$f":"'Demandes en cours'!G$8-'Stock en cours'!G$8","v":71},{"$f":"'Demandes en cours'!H$8-'Stock en cours'!H$8","v":11},{"$f":"'Demandes en cours'!I$8-'Stock en cours'!I$8","v":43},{"$f":"'Demandes en cours'!J$8-'Stock en cours'!J$8","v":26},{"$f":"'Demandes en cours'!K$8-'Stock en cours'!K$8","v":33},{"$f":"'Demandes en cours'!L$8-'Stock en cours'!L$8","v":21},{"$f":"'Demandes en cours'!M$8-'Stock en cours'!M$8","v":0},{"$f":"'Demandes en cours'!N$8-'Stock en cours'!N$8","v":0},235]
[null,null,null,"233549-RE ZBOOK 15 G6 WSTAT HP",{"$f":"'Demandes en cours'!E$9-'Stock en cours'!E$9","v":0},{"$f":"'Demandes en cours'!F$9-'Stock en cours'!F$9","v":0},{"$f":"'Demandes en cours'!G$9-'Stock en cours'!G$9","v":4},{"$f":"'Demandes en cours'!H$9-'Stock en cours'!H$9","v":0},{"$f":"'Demandes en cours'!I$9-'Stock en cours'!I$9","v":3},{"$f":"'Demandes en cours'!J$9-'Stock en cours'!J$9","v":3},{"$f":"'Demandes en cours'!K$9-'Stock en cours'!K$9","v":4},{"$f":"'Demandes en cours'!L$9-'Stock en cours'!L$9","v":1},{"$f":"'Demandes en cours'!M$9-'Stock en cours'!M$9","v":0},{"$f":"'Demandes en cours'!N$9-'Stock en cours'!N$9","v":0},15]
[null,null,null,"234766-RE T14S AMD LEN",{"$f":"'Demandes en cours'!E$10-'Stock en cours'!E$10","v":0},{"$f":"'Demandes en cours'!F$10-'Stock en cours'!F$10","v":0},{"$f":"'Demandes en cours'!G$10-'Stock en cours'!G$10","v":0},{"$f":"'Demandes en cours'!H$10-'Stock en cours'!H$10","v":0},{"$f":"'Demandes en cours'!I$10-'Stock en cours'!I$10","v":0},{"$f":"'Demandes en cours'!J$10-'Stock en cours'!J$10","v":0},{"$f":"'Demandes en cours'!K$10-'Stock en cours'!K$10","v":0},{"$f":"'Demandes en cours'!L$10-'Stock en cours'!L$10","v":0},{"$f":"'Demandes en cours'!M$10-'Stock en cours'!M$10","v":0},{"$f":"'Demandes en cours'!N$10-'Stock en cours'!N$10","v":0},0]
[null,null,null,"235040-RE 845 AMD G7 HP",{"$f":"'Demandes en cours'!E$11-'Stock en cours'!E$11","v":0},{"$f":"'Demandes en cours'!F$11-'Stock en cours'!F$11","v":3},{"$f":"'Demandes en cours'!G$11-'Stock en cours'!G$11","v":13},{"$f":"'Demandes en cours'!H$11-'Stock en cours'!H$11","v":0},{"$f":"'Demandes en cours'!I$11-'Stock en cours'!I$11","v":9},{"$f":"'Demandes en cours'!J$11-'Stock en cours'!J$11","v":7},{"$f":"'Demandes en cours'!K$11-'Stock en cours'!K$11","v":12},{"$f":"'Demandes en cours'!L$11-'Stock en cours'!L$11","v":5},{"$f":"'Demandes en cours'!M$11-'Stock en cours'!M$11","v":0},{"$f":"'Demandes en cours'!N$11-'Stock en cours'!N$11","v":0},49]
[null,null,null,"235703-RE 850 INTEL G8 HP",{"$f":"'Demandes en cours'!E$12-'Stock en cours'!E$12","v":0},{"$f":"'Demandes en cours'!F$12-'Stock en cours'!F$12","v":2},{"$f":"'Demandes en cours'!G$12-'Stock en cours'!G$12","v":1},{"$f":"'Demandes en cours'!H$12-'Stock en cours'!H$12","v":0},{"$f":"'Demandes en cours'!I$12-'Stock en cours'!I$12","v":2},{"$f":"'Demandes en cours'!J$12-'Stock en cours'!J$12","v":1},{"$f":"'Demandes en cours'!K$12-'Stock en cours'!K$12","v":1},{"$f":"'Demandes en cours'!L$12-'Stock en cours'!L$12","v":2},{"$f":"'Demandes en cours'!M$12-'Stock en cours'!M$12","v":0},{"$f":"'Demandes en cours'!N$12-'Stock en cours'!N$12","v":0},9]
[null,null,null,"235758-RE 845 AMD G8 HP",{"$f":"'Demandes en cours'!E$13-'Stock en cours'!E$13","v":0},{"$f":"'Demandes en cours'!F$13-'Stock en cours'!F$13","v":16},{"$f":"'Demandes en cours'!G$13-'Stock en cours'!G$13","v":35},{"$f":"'Demandes en cours'!H$13-'Stock en cours'!H$13","v":5},{"$f":"'Demandes en cours'!I$13-'Stock en cours'!I$13","v":17},{"$f":"'Demandes en cours'!J$13-'Stock en cours'!J$13","v":12},{"$f":"'Demandes en cours'!K$13-'Stock en cours'!K$13","v":14},{"$f":"'Demandes en cours'!L$13-'Stock en cours'!L$13","v":14},{"$f":"'Demandes en cours'!M$13-'Stock en cours'!M$13","v":0},{"$f":"'Demandes en cours'!N$13-'Stock en cours'!N$13","v":0},113]
[null,null,null,"235832-RE ZBOOK 17 G7 HP",{"$f":"'Demandes en cours'!E$14-'Stock en cours'!E$14","v":0},{"$f":"'Demandes en cours'!F$14-'Stock en cours'!F$14","v":0},{"$f":"'Demandes en cours'!G$14-'Stock en cours'!G$14","v":0},{"$f":"'Demandes en cours'!H$14-'Stock en cours'!H$14","v":0},{"$f":"'Demandes en cours'!I$14-'Stock en cours'!I$14","v":0},{"$f":"'Demandes en cours'!J$14-'Stock en cours'!J$14","v":0},{"$f":"'Demandes en cours'!K$14-'Stock en cours'!K$14","v":0},{"$f":"'Demandes en cours'!L$14-'Stock en cours'!L$14","v":0},{"$f":"'Demandes en cours'!M$14-'Stock en cours'!M$14","v":0},{"$f":"'Demandes en cours'!N$14-'Stock en cours'!N$14","v":0},0]
[null,null,null,"236411-RE 850 INTEL G7 ESN HP ",{"$f":"'Demandes en cours'!E$15-'Stock en cours'!E$15","v":0},{"$f":"'Demandes en cours'!F$15-'Stock en cours'!F$15","v":4},{"$f":"'Demandes en cours'!G$15-'Stock en cours'!G$15","v":7},{"$f":"'Demandes en cours'!H$15-'Stock en cours'!H$15","v":2},{"$f":"'Demandes en cours'!I$15-'Stock en cours'!I$15","v":6},{"$f":"'Demandes en cours'!J$15-'Stock en cours'!J$15","v":7},{"$f":"'Demandes en cours'!K$15-'Stock en cours'!K$15","v":5},{"$f":"'Demandes en cours'!L$15-'Stock en cours'!L$15","v":3},{"$f":"'Demandes en cours'!M$15-'Stock en cours'!M$15","v":0},{"$f":"'Demandes en cours'!N$15-'Stock en cours'!N$15","v":0},34]
[null,null,null,"236760-RE ZBOOK 15 G8 WSTAT HP",{"$f":"'Demandes en cours'!E$16-'Stock en cours'!E$16","v":0},{"$f":"'Demandes en cours'!F$16-'Stock en cours'!F$16","v":0},{"$f":"'Demandes en cours'!G$16-'Stock en cours'!G$16","v":0},{"$f":"'Demandes en cours'!H$16-'Stock en cours'!H$16","v":0},{"$f":"'Demandes en cours'!I$16-'Stock en cours'!I$16","v":0},{"$f":"'Demandes en cours'!J$16-'Stock en cours'!J$16","v":0},{"$f":"'Demandes en cours'!K$16-'Stock en cours'!K$16","v":0},{"$f":"'Demandes en cours'!L$16-'Stock en cours'!L$16","v":0},{"$f":"'Demandes en cours'!M$16-'Stock en cours'!M$16","v":0},{"$f":"'Demandes en cours'!N$16-'Stock en cours'!N$16","v":0},0]
[null,null,null,"236762-RE ZBOOK 17 G8 HP",{"$f":"'Demandes en cours'!E$17-'Stock en cours'!E$17","v":0},{"$f":"'Demandes en cours'!F$17-'Stock en cours'!F$17","v":0},{"$f":"'Demandes en cours'!G$17-'Stock en cours'!G$17","v":0},{"$f":"'Demandes en cours'!H$17-'Stock en cours'!H$17","v":0},{"$f":"'Demandes en cours'!I$17-'Stock en cours'!I$17","v":0},{"$f":"'Demandes en cours'!J$17-'Stock en cours'!J$17","v":0},{"$f":"'Demandes en cours'!K$17-'Stock en cours'!K$17","v":0},{"$f":"'Demandes en cours'!L$17-'Stock en cours'!L$17","v":0},{"$f":"'Demandes en cours'!M$17-'Stock en cours'!M$17","v":0},{"$f":"'Demandes en cours'!N$17-'Stock en cours'!N$17","v":0},0]
[null,null,null,"237925-RE 645 AMD G9 HP",{"$f":"'Demandes en cours'!E$18-'Stock en cours'!E$18","v":0},{"$f":"'Demandes en cours'!F$18-'Stock en cours'!F$18","v":1},{"$f":"'Demandes en cours'!G$18-'Stock en cours'!G$18","v":13},{"$f":"'Demandes en cours'!H$18-'Stock en cours'!H$18","v":0},{"$f":"'Demandes en cours'!I$18-'Stock en cours'!I$18","v":9},{"$f":"'Demandes en cours'!J$18-'Stock en cours'!J$18","v":6},{"$f":"'Demandes en cours'!K$18-'Stock en cours'!K$18","v":6},{"$f":"'Demandes en cours'!L$18-'Stock en cours'!L$18","v":1},{"$f":"'Demandes en cours'!M$18-'Stock en cours'!M$18","v":0},{"$f":"'Demandes en cours'!N$18-'Stock en cours'!N$18","v":0},36]
[{"$f":"DATEDIF(A1,BDD!E2,\"d\")","v":27},null,null,"238183-RE 655 AMD G9 DEV HP",{"$f":"'Demandes en cours'!E$19-'Stock en cours'!E$19","v":0},{"$f":"'Demandes en cours'!F$19-'Stock en cours'!F$19","v":0},{"$f":"'Demandes en cours'!G$19-'Stock en cours'!G$19","v":0},{"$f":"'Demandes en cours'!H$19-'Stock en cours'!H$19","v":0},{"$f":"'Demandes en cours'!I$19-'Stock en cours'!I$19","v":1},{"$f":"'Demandes en cours'!J$19-'Stock en cours'!J$19","v":0},{"$f":"'Demandes en cours'!K$19-'Stock en cours'!K$19","v":0},{"$f":"'Demandes en cours'!L$19-'Stock en cours'!L$19","v":0},{"$f":"'Demandes en cours'!M$19-'Stock en cours'!M$19","v":0},{"$f":"'Demandes en cours'!N$19-'Stock en cours'!N$19","v":0},1]
[{"$f":"DATEDIF(A1,BDD!E3,\"d\")","v":34},null,null,"239171-RE ZBOOK 16 G9 HP",{"$f":"'Demandes en cours'!E$20-'Stock en cours'!E$20","v":0},{"$f":"'Demandes en cours'!F$20-'Stock en cours'!F$20","v":0},{"$f":"'Demandes en cours'!G$20-'Stock en cours'!G$20","v":0},{"$f":"'Demandes en cours'!H$20-'Stock en cours'!H$20","v":0},{"$f":"'Demandes en cours'!I$20-'Stock en cours'!I$20","v":0},{"$f":"'Demandes en cours'!J$20-'Stock en cours'!J$20","v":0},{"$f":"'Demandes en cours'!K$20-'Stock en cours'!K$20","v":0},{"$f":"'Demandes en cours'!L$20-'Stock en cours'!L$20","v":0},{"$f":"'Demandes en cours'!M$20-'Stock en cours'!M$20","v":0},{"$f":"'Demandes en cours'!N$20-'Stock en cours'!N$20","v":0},0]
["Il reste",null,null,"239174-RE X360 830 G9 HP",{"$f":"'Demandes en cours'!E$21-'Stock en cours'!E$21","v":0},{"$f":"'Demandes en cours'!F$21-'Stock en cours'!F$21","v":0},{"$f":"'Demandes en cours'!G$21-'Stock en cours'!G$21","v":0},{"$f":"'Demandes en cours'!H$21-'Stock en cours'!H$21","v":0},{"$f":"'Demandes en cours'!I$21-'Stock en cours'!I$21","v":0},{"$f":"'Demandes en cours'!J$21-'Stock en cours'!J$21","v":0},{"$f":"'Demandes en cours'!K$21-'Stock en cours'!K$21","v":0},{"$f":"'Demandes en cours'!L$21-'Stock en cours'!L$21","v":0},{"$f":"'Demandes en cours'!M$21-'Stock en cours'!M$21","v":0},{"$f":"'Demandes en cours'!N$21-'Stock en cours'!N$21","v":0},0]
["dodos avant Noël",null,null,"239266-RE L14 AMD LEN",{"$f":"'Demandes en cours'!E$22-'Stock en cours'!E$22","v":0},{"$f":"'Demandes en cours'!F$22-'Stock en cours'!F$22","v":1},{"$f":"'Demandes en cours'!G$22-'Stock en cours'!G$22","v":1},{"$f":"'Demandes en cours'!H$22-'Stock en cours'!H$22","v":2},{"$f":"'Demandes en cours'!I$22-'Stock en cours'!I$22","v":1},{"$f":"'Demandes en cours'!J$22-'Stock en cours'!J$22","v":0},{"$f":"'Demandes en cours'!K$22-'Stock en cours'!K$22","v":0},{"$f":"'Demandes en cours'!L$22-'Stock en cours'!L$22","v":0},{"$f":"'Demandes en cours'!M$22-'Stock en cours'!M$22","v":0},{"$f":"'Demandes en cours'!N$22-'Stock en cours'!N$22","v":0},5]
["dodos avant le jour de l'an",null,null,"240109-RE 645 AMD G10 HP",{"$f":"'Demandes en cours'!E$23-'Stock en cours'!E$23","v":0},{"$f":"'Demandes en cours'!F$23-'Stock en cours'!F$23","v":0},{"$f":"'Demandes en cours'!G$23-'Stock en cours'!G$23","v":0},{"$f":"'Demandes en cours'!H$23-'Stock en cours'!H$23","v":0},{"$f":"'Demandes en cours'!I$23-'Stock en cours'!I$23","v":0},{"$f":"'Demandes en cours'!J$23-'Stock en cours'!J$23","v":0},{"$f":"'Demandes en cours'!K$23-'Stock en cours'!K$23","v":0},{"$f":"'Demandes en cours'!L$23-'Stock en cours'!L$23","v":0},{"$f":"'Demandes en cours'!M$23-'Stock en cours'!M$23","v":0},{"$f":"'Demandes en cours'!N$23-'Stock en cours'!N$23","v":0},0]
[null,null,null,"240111-RE 655 G10 DEV HP",{"$f":"'Demandes en cours'!E$24-'Stock en cours'!E$24","v":0},{"$f":"'Demandes en cours'!F$24-'Stock en cours'!F$24","v":0},{"$f":"'Demandes en cours'!G$24-'Stock en cours'!G$24","v":0},{"$f":"'Demandes en cours'!H$24-'Stock en cours'!H$24","v":0},{"$f":"'Demandes en cours'!I$24-'Stock en cours'!I$24","v":0},{"$f":"'Demandes en cours'!J$24-'Stock en cours'!J$24","v":0},{"$f":"'Demandes en cours'!K$24-'Stock en cours'!K$24","v":0},{"$f":"'Demandes en cours'!L$24-'Stock en cours'!L$24","v":0},{"$f":"'Demandes en cours'!M$24-'Stock en cours'!M$24","v":0},{"$f":"'Demandes en cours'!N$24-'Stock en cours'!N$24","v":0},0]
[null,null,null,"240454-RE X360 830 G10 HP",{"$f":"'Demandes en cours'!E$25-'Stock en cours'!E$25","v":0},{"$f":"'Demandes en cours'!F$25-'Stock en cours'!F$25","v":0},{"$f":"'Demandes en cours'!G$25-'Stock en cours'!G$25","v":0},{"$f":"'Demandes en cours'!H$25-'Stock en cours'!H$25","v":0},{"$f":"'Demandes en cours'!I$25-'Stock en cours'!I$25","v":0},{"$f":"'Demandes en cours'!J$25-'Stock en cours'!J$25","v":0},{"$f":"'Demandes en cours'!K$25-'Stock en cours'!K$25","v":0},{"$f":"'Demandes en cours'!L$25-'Stock en cours'!L$25","v":0},{"$f":"'Demandes en cours'!M$25-'Stock en cours'!M$25","v":0},{"$f":"'Demandes en cours'!N$25-'Stock en cours'!N$25","v":0},0]
[null,null,null,"241035-RE 655 AMD G10 SI HP",{"$f":"'Demandes en cours'!E$26-'Stock en cours'!E$26","v":0},{"$f":"'Demandes en cours'!F$26-'Stock en cours'!F$26","v":0},{"$f":"'Demandes en cours'!G$26-'Stock en cours'!G$26","v":0},{"$f":"'Demandes en cours'!H$26-'Stock en cours'!H$26","v":0},{"$f":"'Demandes en cours'!I$26-'Stock en cours'!I$26","v":0},{"$f":"'Demandes en cours'!J$26-'Stock en cours'!J$26","v":0},{"$f":"'Demandes en cours'!K$26-'Stock en cours'!K$26","v":0},{"$f":"'Demandes en cours'!L$26-'Stock en cours'!L$26","v":0},{"$f":"'Demandes en cours'!M$26-'Stock en cours'!M$26","v":0},{"$f":"'Demandes en cours'!N$26-'Stock en cours'!N$26","v":0},0]
[null,null,null,"Totaux",{"$f":"SUM(E5:E26)","v":12},{"$f":"SUM(F5:F26)","v":82},201,29,127,90,110,67,0,0,{"$f":"SUM(O5:O26)","v":718}]

{"sheet":"ToDoList","index":6,"n_rows":0,"n_cols":0,"rows_kept":0,"cut":false,"hidden":false,"merged":[]}

{"sheet":"TCDD","index":7,"n_rows":108,"n_cols":8,"rows_kept":108,"cut":false,"hidden":false,"merged":[]}
[]
["Total pièces demandées :",{"$f":"GETPIVOTDATA(\"Totaux\",$A$4)","v":718},null,"Total dalles demandées :",{"$f":"GETPIVOTDATA(\"Dalle\",$D$4)","v":201},null,"Total batteries demandées :",{"$f":"GETPIVOTDATA(\"Batterie\",$G$4)","v":12}]
[]
["Modèles","Total besoins de pièces",null,"Modèles","Besoins de dalles",null,"Modèles","Besoins de batteries"]
["227835-RE TAB X360 1030 G2 HP",0,null,"227835-RE TAB X360 1030 G2 HP",0,null,"227835-RE TAB X360 1030 G2 HP",0]
["231926-RE 830 G6 256 HP",116,null,"231926-RE 830 G6 256 HP",29,null,"231926-RE 830 G6 256 HP",6]
["231927-RE 850 G6 256 HP",105,null,"231927-RE 850 G6 256 HP",27,null,"231927-RE 850 G6 256 HP",4]
["233226-RE 745 G6 AMD HP",235,null,"233226-RE 745 G6 AMD HP",71,null,"233226-RE 745 G6 AMD HP",2]
["233549-RE ZBOOK 15 G6 WSTAT HP",15,null,"233549-RE ZBOOK 15 G6 WSTAT HP",4,null,"233549-RE ZBOOK 15 G6 WSTAT HP",0]
["234766-RE T14S AMD LEN",0,null,"234766-RE T14S AMD LEN",0,null,"234766-RE T14S AMD LEN",0]
["235040-RE 845 AMD G7 HP",49,null,"235040-RE 845 AMD G7 HP",13,null,"235040-RE 845 AMD G7 HP",0]
["235703-RE 850 INTEL G8 HP",9,null,"235703-RE 850 INTEL G8 HP",1,null,"235703-RE 850 INTEL G8 HP",0]
["235758-RE 845 AMD G8 HP",113,null,"235758-RE 845 AMD G8 HP",35,null,"235758-RE 845 AMD G8 HP",0]
["235832-RE ZBOOK 17 G7 HP",0,null,"235832-RE ZBOOK 17 G7 HP",0,null,"235832-RE ZBOOK 17 G7 HP",0]
["236411-RE 850 INTEL G7 ESN HP ",34,null,"236411-RE 850 INTEL G7 ESN HP ",7,null,"236411-RE 850 INTEL G7 ESN HP ",0]
["236760-RE ZBOOK 15 G8 WSTAT HP",0,null,"236760-RE ZBOOK 15 G8 WSTAT HP",0,null,"236760-RE ZBOOK 15 G8 WSTAT HP",0]
["236762-RE ZBOOK 17 G8 HP",0,null,"236762-RE ZBOOK 17 G8 HP",0,null,"236762-RE ZBOOK 17 G8 HP",0]
["237925-RE 645 AMD G9 HP",36,null,"237925-RE 645 AMD G9 HP",13,null,"237925-RE 645 AMD G9 HP",0]
["238183-RE 655 AMD G9 DEV HP",1,null,"238183-RE 655 AMD G9 DEV HP",0,null,"238183-RE 655 AMD G9 DEV HP",0]
["239171-RE ZBOOK 16 G9 HP",0,null,"239171-RE ZBOOK 16 G9 HP",0,null,"239171-RE ZBOOK 16 G9 HP",0]
["239174-RE X360 830 G9 HP",0,null,"239174-RE X360 830 G9 HP",0,null,"239174-RE X360 830 G9 HP",0]
["239266-RE L14 AMD LEN",5,null,"239266-RE L14 AMD LEN",1,null,"239266-RE L14 AMD LEN",0]
["240109-RE 645 AMD G10 HP",0,null,"240109-RE 645 AMD G10 HP",0,null,"240109-RE 645 AMD G10 HP",0]
["240111-RE 655 G10 DEV HP",0,null,"240111-RE 655 G10 DEV HP",0,null,"240111-RE 655 G10 DEV HP",0]
["240454-RE X360 830 G10 HP",0,null,"240454-RE X360 830 G10 HP",0,null,"240454-RE X360 830 G10 HP",0]
["241035-RE 655 AMD G10 SI HP",0,null,"241035-RE 655 AMD G10 SI HP",0,null,"241035-RE 655 AMD G10 SI HP",0]
["Total général",718,null,"Total général",201,null,"Total général",12]
[]
["Total claviers demandés :",{"$f":"GETPIVOTDATA(\"Clavier\",$A$31)","v":82},null,"Total touchpad demandés :",{"$f":"GETPIVOTDATA(\"Touchpad\",$D$31)","v":29},null,"Total top cover demandés :",{"$f":"GETPIVOTDATA(\"Top Cover\",$G$31)","v":127}]
[]
["Modèles","Besoins de claviers",null,"Modèles","Besoins de touchpad",null,"Modèles","Besoins de Top Cover"]
["227835-RE TAB X360 1030 G2 HP",0,null,"227835-RE TAB X360 1030 G2 HP",0,null,"227835-RE TAB X360 1030 G2 HP",0]
["231926-RE 830 G6 256 HP",10,null,"231926-RE 830 G6 256 HP",5,null,"231926-RE 830 G6 256 HP",19]
["231927-RE 850 G6 256 HP",17,null,"231927-RE 850 G6 256 HP",4,null,"231927-RE 850 G6 256 HP",17]
["233226-RE 745 G6 AMD HP",28,null,"233226-RE 745 G6 AMD HP",11,null,"233226-RE 745 G6 AMD HP",43]
["233549-RE ZBOOK 15 G6 WSTAT HP",0,null,"233549-RE ZBOOK 15 G6 WSTAT HP",0,null,"233549-RE ZBOOK 15 G6 WSTAT HP",3]
["234766-RE T14S AMD LEN",0,null,"234766-RE T14S AMD LEN",0,null,"234766-RE T14S AMD LEN",0]
["235040-RE 845 AMD G7 HP",3,null,"235040-RE 845 AMD G7 HP",0,null,"235040-RE 845 AMD G7 HP",9]
["235703-RE 850 INTEL G8 HP",2,null,"235703-RE 850 INTEL G8 HP",0,null,"235703-RE 850 INTEL G8 HP",2]
["235758-RE 845 AMD G8 HP",16,null,"235758-RE 845 AMD G8 HP",5,null,"235758-RE 845 AMD G8 HP",17]
["235832-RE ZBOOK 17 G7 HP",0,null,"235832-RE ZBOOK 17 G7 HP",0,null,"235832-RE ZBOOK 17 G7 HP",0]
["236411-RE 850 INTEL G7 ESN HP ",4,null,"236411-RE 850 INTEL G7 ESN HP ",2,null,"236411-RE 850 INTEL G7 ESN HP ",6]
["236760-RE ZBOOK 15 G8 WSTAT HP",0,null,"236760-RE ZBOOK 15 G8 WSTAT HP",0,null,"236760-RE ZBOOK 15 G8 WSTAT HP",0]
["236762-RE ZBOOK 17 G8 HP",0,null,"236762-RE ZBOOK 17 G8 HP",0,null,"236762-RE ZBOOK 17 G8 HP",0]
["237925-RE 645 AMD G9 HP",1,null,"237925-RE 645 AMD G9 HP",0,null,"237925-RE 645 AMD G9 HP",9]
["238183-RE 655 AMD G9 DEV HP",0,null,"238183-RE 655 AMD G9 DEV HP",0,null,"238183-RE 655 AMD G9 DEV HP",1]
["239171-RE ZBOOK 16 G9 HP",0,null,"239171-RE ZBOOK 16 G9 HP",0,null,"239171-RE ZBOOK 16 G9 HP",0]
["239174-RE X360 830 G9 HP",0,null,"239174-RE X360 830 G9 HP",0,null,"239174-RE X360 830 G9 HP",0]
["239266-RE L14 AMD LEN",1,null,"239266-RE L14 AMD LEN",2,null,"239266-RE L14 AMD LEN",1]
["240109-RE 645 AMD G10 HP",0,null,"240109-RE 645 AMD G10 HP",0,null,"240109-RE 645 AMD G10 HP",0]
["240111-RE 655 G10 DEV HP",0,null,"240111-RE 655 G10 DEV HP",0,null,"240111-RE 655 G10 DEV HP",0]
["240454-RE X360 830 G10 HP",0,null,"240454-RE X360 830 G10 HP",0,null,"240454-RE X360 830 G10 HP",0]
["241035-RE 655 AMD G10 SI HP",0,null,"241035-RE 655 AMD G10 SI HP",0,null,"241035-RE 655 AMD G10 SI HP",0]
["Total général",82,null,"Total général",29,null,"Total général",127]
[]
["Total back cover demandés :",{"$f":"GETPIVOTDATA(\"Back Cover\",$A$58)","v":90},null,"Total chassis demandés :",{"$f":"GETPIVOTDATA(\"Chassis\",$D$58)","v":110},null,"Total bezels demandés :",{"$f":"GETPIVOTDATA(\"Bezel\",$G$58)","v":67}]
[]
["Modèles","Besoins de Back Cover",null,"Modèles","Besoins de chassis",null,"Modèles","Besoins de bezels"]
["227835-RE TAB X360 1030 G2 HP",0,null,"227835-RE TAB X360 1030 G2 HP",0,null,"227835-RE TAB X360 1030 G2 HP",0]
["231926-RE 830 G6 256 HP",15,null,"231926-RE 830 G6 256 HP",16,null,"231926-RE 830 G6 256 HP",16]
["231927-RE 850 G6 256 HP",13,null,"231927-RE 850 G6 256 HP",19,null,"231927-RE 850 G6 256 HP",4]
["233226-RE 745 G6 AMD HP",26,null,"233226-RE 745 G6 AMD HP",33,null,"233226-RE 745 G6 AMD HP",21]
["233549-RE ZBOOK 15 G6 WSTAT HP",3,null,"233549-RE ZBOOK 15 G6 WSTAT HP",4,null,"233549-RE ZBOOK 15 G6 WSTAT HP",1]
["234766-RE T14S AMD LEN",0,null,"234766-RE T14S AMD LEN",0,null,"234766-RE T14S AMD LEN",0]
["235040-RE 845 AMD G7 HP",7,null,"235040-RE 845 AMD G7 HP",12,null,"235040-RE 845 AMD G7 HP",5]
["235703-RE 850 INTEL G8 HP",1,null,"235703-RE 850 INTEL G8 HP",1,null,"235703-RE 850 INTEL G8 HP",2]
["235758-RE 845 AMD G8 HP",12,null,"235758-RE 845 AMD G8 HP",14,null,"235758-RE 845 AMD G8 HP",14]
["235832-RE ZBOOK 17 G7 HP",0,null,"235832-RE ZBOOK 17 G7 HP",0,null,"235832-RE ZBOOK 17 G7 HP",0]
["236411-RE 850 INTEL G7 ESN HP ",7,null,"236411-RE 850 INTEL G7 ESN HP ",5,null,"236411-RE 850 INTEL G7 ESN HP ",3]
["236760-RE ZBOOK 15 G8 WSTAT HP",0,null,"236760-RE ZBOOK 15 G8 WSTAT HP",0,null,"236760-RE ZBOOK 15 G8 WSTAT HP",0]
["236762-RE ZBOOK 17 G8 HP",0,null,"236762-RE ZBOOK 17 G8 HP",0,null,"236762-RE ZBOOK 17 G8 HP",0]
["237925-RE 645 AMD G9 HP",6,null,"237925-RE 645 AMD G9 HP",6,null,"237925-RE 645 AMD G9 HP",1]
["238183-RE 655 AMD G9 DEV HP",0,null,"238183-RE 655 AMD G9 DEV HP",0,null,"238183-RE 655 AMD G9 DEV HP",0]
["239171-RE ZBOOK 16 G9 HP",0,null,"239171-RE ZBOOK 16 G9 HP",0,null,"239171-RE ZBOOK 16 G9 HP",0]
["239174-RE X360 830 G9 HP",0,null,"239174-RE X360 830 G9 HP",0,null,"239174-RE X360 830 G9 HP",0]
["239266-RE L14 AMD LEN",0,null,"239266-RE L14 AMD LEN",0,null,"239266-RE L14 AMD LEN",0]
["240109-RE 645 AMD G10 HP",0,null,"240109-RE 645 AMD G10 HP",0,null,"240109-RE 645 AMD G10 HP",0]
["240111-RE 655 G10 DEV HP",0,null,"240111-RE 655 G10 DEV HP",0,null,"240111-RE 655 G10 DEV HP",0]
["240454-RE X360 830 G10 HP",0,null,"240454-RE X360 830 G10 HP",0,null,"240454-RE X360 830 G10 HP",0]
["241035-RE 655 AMD G10 SI HP",0,null,"241035-RE 655 AMD G10 SI HP",0,null,"241035-RE 655 AMD G10 SI HP",0]
["Total général",90,null,"Total général",110,null,"Total général",67]
[]
["Total ventilateurs demandés :",{"$f":"GETPIVOTDATA(\"Ventilateur\",$A$85)","v":0},null,"Total caches charnières demandés :",{"$f":"GETPIVOTDATA(\"Cache Charnière\",$D$85)","v":0}]
[]
["Modèles","Besoins de ventilateurs",null,"Modèles","Besoins de cache charnière"]
["227835-RE TAB X360 1030 G2 HP",0,null,"227835-RE TAB X360 1030 G2 HP",0]
["231926-RE 830 G6 256 HP",0,null,"231926-RE 830 G6 256 HP",0]
["231927-RE 850 G6 256 HP",0,null,"231927-RE 850 G6 256 HP",0]
["233226-RE 745 G6 AMD HP",0,null,"233226-RE 745 G6 AMD HP",0]
["233549-RE ZBOOK 15 G6 WSTAT HP",0,null,"233549-RE ZBOOK 15 G6 WSTAT HP",0]
["234766-RE T14S AMD LEN",0,null,"234766-RE T14S AMD LEN",0]
["235040-RE 845 AMD G7 HP",0,null,"235040-RE 845 AMD G7 HP",0]
["235703-RE 850 INTEL G8 HP",0,null,"235703-RE 850 INTEL G8 HP",0]
["235758-RE 845 AMD G8 HP",0,null,"235758-RE 845 AMD G8 HP",0]
["235832-RE ZBOOK 17 G7 HP",0,null,"235832-RE ZBOOK 17 G7 HP",0]
["236411-RE 850 INTEL G7 ESN HP ",0,null,"236411-RE 850 INTEL G7 ESN HP ",0]
["236760-RE ZBOOK 15 G8 WSTAT HP",0,null,"236760-RE ZBOOK 15 G8 WSTAT HP",0]
["236762-RE ZBOOK 17 G8 HP",0,null,"236762-RE ZBOOK 17 G8 HP",0]
["237925-RE 645 AMD G9 HP",0,null,"237925-RE 645 AMD G9 HP",0]
["238183-RE 655 AMD G9 DEV HP",0,null,"238183-RE 655 AMD G9 DEV HP",0]
["239171-RE ZBOOK 16 G9 HP",0,null,"239171-RE ZBOOK 16 G9 HP",0]
["239174-RE X360 830 G9 HP",0,null,"239174-RE X360 830 G9 HP",0]
["239266-RE L14 AMD LEN",0,null,"239266-RE L14 AMD LEN",0]
["240109-RE 645 AMD G10 HP",0,null,"240109-RE 645 AMD G10 HP",0]
["240111-RE 655 G10 DEV HP",0,null,"240111-RE 655 G10 DEV HP",0]
["240454-RE X360 830 G10 HP",0,null,"240454-RE X360 830 G10 HP",0]
["241035-RE 655 AMD G10 SI HP",0,null,"241035-RE 655 AMD G10 SI HP",0]
["Total général",0,null,"Total général",0]

{"sheet":"BDD","index":8,"n_rows":23,"n_cols":5,"rows_kept":23,"cut":false,"hidden":true,"merged":[]}
["Modèles",null,"Colonne1"]
["227835-RE TAB X360 1030 G2 HP",null,0,null,"2023-12-25"]
["231926-RE 830 G6 256 HP",null,1,null,"2024-01-01"]
["231927-RE 850 G6 256 HP"]
["233226-RE 745 G6 AMD HP"]
["233549-RE ZBOOK 15 G6 WSTAT HP"]
["234766-RE T14S AMD LEN"]
["235040-RE 845 AMD G7 HP"]
["235703-RE 850 INTEL G8 HP"]
["235758-RE 845 AMD G8 HP"]
["235832-RE ZBOOK 17 G7 HP"]
["236411-RE 850 INTEL G7 ESN HP "]
["236760-RE ZBOOK 15 G8 WSTAT HP"]
["236762-RE ZBOOK 17 G8 HP"]
["237925-RE 645 AMD G9 HP"]
["238183-RE 655 AMD G9 DEV HP"]
["239171-RE ZBOOK 16 G9 HP"]
["239174-RE X360 830 G9 HP"]
["239266-RE L14 AMD LEN"]
["240109-RE 645 AMD G10 HP"]
["240111-RE 655 G10 DEV HP"]
["240454-RE X360 830 G10 HP"]
["241035-RE 655 AMD G10 SI HP"]