{"text_format":"1","workbook":"xlsx","n_sheets":3,"sheets":["Liste","Formation","CT"],"not_rendered":{"charts":0,"images":0,"macros":1,"external_links":0,"defined_names":0,"comments":0,"pivot_tables":0},"unopened":[],"bounds":{"document_bytes":16777216,"sheet_cells":100000,"rows_first":2000,"rows_last":500,"rows_between":2000,"halvings":0,"cell_chars":16384,"cell_head_chars":4096},"cells_cut":0,"cells_raw":0,"read":"whole","date_system":"1900"}

{"sheet":"Liste","index":0,"n_rows":180,"n_cols":4,"rows_kept":180,"cut":false,"hidden":false,"merged":[]}
["NIVEAU","NOM","stage : OUI/NON","Concerné CT"]
["SDT","aa",null,{"$f":"IF(OR(A2=\"1CL\",A2=\"SDT\",A2=\"BRI\",A2=\"BCH\",A2=\"BC1\",(AND(A2=\"MDL\",C2=\"NON\"))), \"CT\", \"\")","v":"CT"}]
["SDT","toto","NON",{"$f":"IF(OR(A3=\"1CL\",A3=\"SDT\",A3=\"BRI\",A3=\"BCH\",A3=\"BC1\",(AND(A3=\"MDL\",C3=\"NON\"))), \"CT\", \"\")","v":"CT"}]
["SDT","yyg","NON","CT"]
["1CL","momo","NON","CT"]
["1CL",null,null,"CT"]
["BRI","jkb","OUI","CT"]
["BRI","jkb","NON","CT"]
["BRI","mkf","NON","CT"]
["BCH","fdb","NON","CT"]
["MDL","dbfb","NON","CT"]
["MDL","fbd","OUI",""]
["MCH","jnlkj","OUI",""]
[null,null,null,""]
[null,null,null,""]
[null,null,null,""]
[null,null,null,""]
[null,null,null,""]
[null,null,null,""]
[null,null,null,""]
[null,null,null,""]
[null,null,null,""]
[null,null,null,""]
[null,null,null,""]
[null,null,null,""]
[null,null,null,""]
[null,null,null,""]
[null,null,null,""]
[null,null,null,""]
[null,null,null,""]
[null,null,null,""]
[null,null,null,""]
[null,null,null,""]
[null,null,null,""]
[null,null,null,""]
[null,null,null,""]
[null,null,null,""]
[null,null,null,""]
[null,null,null,""]
[null,null,null,""]
[null,null,null,""]
[null,null,null,""]
[null,null,null,""]
[null,null,null,""]
[null,null,null,""]
[null,null,null,""]
[null,null,null,""]
[null,null,null,""]
[null,null,null,""]
[null,null,null,""]
[null,null,null,""]
[null,null,null,""]
[null,null,null,""]
[null,null,null,""]
[null,null,null,""]
[null,null,null,""]
[null,null,null,""]
[null,null,null,""]
[null,null,null,""]
[null,null,null,""]
[null,null,null,""]
[null,null,null,""]
[null,null,null,""]
[null,null,null,""]
[null,null,null,""]
[null,null,null,""]
[null,null,null,{"$f":"IF(OR(A67=\"1CL\",A67=\"SDT\",A67=\"BRI\",A67=\"BCH\",A67=\"BC1\",(AND(A67=\"MDL\",C67=\"NON\"))), \"CT\", \"\")","v":""}]
[null,null,null,""]
[null,null,null,""]
[null,null,null,""]
[null,null,null,""]
[null,null,null,""]
[null,null,null,""]
[null,null,null,""]
[null,null,null,""]
[null,null,null,""]
[null,null,null,""]
[null,null,null,""]
[null,null,null,""]
[null,null,null,""]
[null,null,null,""]
[null,null,null,""]
[null,null,null,""]
[null,null,null,""]
[null,null,null,""]
[null,null,null,""]
[null,null,null,""]
[null,null,null,""]
[null,null,null,""]
[null,null,null,""]
[null,null,null,""]
[null,null,null,""]
[null,null,null,""]
[null,null,null,""]
[null,null,null,""]
[null,null,null,""]
[null,null,null,""]
[null,null,null,""]
[null,null,null,""]
[null,null,null,""]
[null,null,null,""]
[null,null,null,""]
[null,null,null,""]
[null,null,null,""]
[null,null,null,""]
[null,null,null,""]
[null,null,null,""]
[null,null,null,""]
[null,null,null,""]
[null,null,null,""]
[null,null,null,""]
[null,null,null,""]
[null,null,null,""]
[null,null,null,""]
[null,null,null,""]
[null,null,null,""]
[null,null,null,""]
[null,null,null,""]
[null,null,null,""]
[null,null,null,""]
[null,null,null,""]
[null,null,null,""]
[null,null,null,""]
[null,null,null,""]
[null,null,null,""]
[null,null,null,""]
[null,null,null,""]
[null,null,null,""]
[null,null,null,""]
[null,null,null,""]
[null,null,null,{"$f":"IF(OR(A131=\"1CL\",A131=\"SDT\",A131=\"BRI\",A131=\"BCH\",A131=\"BC1\",(AND(A131=\"MDL\",C131=\"NON\"))), \"CT\", \"\")","v":""}]
[null,null,null,""]
[null,null,null,""]
[null,null,null,""]
[null,null,null,""]
[null,null,null,""]
[null,null,null,""]
[null,null,null,""]
[null,null,null,""]
[null,null,null,""]
[null,null,null,""]
[null,null,null,""]
[null,null,null,""]
[null,null,null,""]
[null,null,null,""]
[null,null,null,""]
[null,null,null,""]
[null,null,null,""]
[null,null,null,""]
[null,null,null,""]
[null,null,null,""]
[null,null,null,""]
[null,null,null,""]
[null,null,null,""]
[null,null,null,""]
[null,null,null,""]
[null,null,null,""]
[null,null,null,""]
[null,null,null,""]
[null,null,null,""]
[null,null,null,""]
[null,null,null,""]
[null,null,null,""]
[null,null,null,""]
[null,null,null,""]
[null,null,null,""]
[null,null,null,""]
[null,null,null,""]
[null,null,null,""]
[null,null,null,""]
[null,null,null,""]
[null,null,null,""]
[null,null,null,""]
[null,null,null,""]
[null,null,null,""]
[null,null,null,""]
[null,null,null,""]
[null,null,null,""]
[null,null,null,""]
[null,null,null,""]

{"sheet":"Formation","index":1,"n_rows":180,"n_cols":3,"rows_kept":180,"cut":false,"hidden":false,"merged":[]}
[{"$f":"Liste!A1","v":"NIVEAU"},{"$f":"Liste!B1","v":"NOM"},"date"]
[{"$f":"Liste!A2","v":"SDT"},{"$f":"Liste!B2","v":"aa"},"2023-07-14"]
[{"$f":"Liste!A3","v":"SDT"},{"$f":"Liste!B3","v":"toto"}]
[{"$f":"Liste!A4","v":"SDT"},{"$f":"Liste!B4","v":"yyg"}]
[{"$f":"Liste!A5","v":"1CL"},{"$f":"Liste!B5","v":"momo"}]
[{"$f":"Liste!A6","v":"1CL"},{"$f":"Liste!B6","v":0}]
[{"$f":"Liste!A7","v":"BRI"},{"$f":"Liste!B7","v":"jkb"}]
[{"$f":"Liste!A8","v":"BRI"},{"$f":"Liste!B8","v":"jkb"}]
[{"$f":"Liste!A9","v":"BRI"},{"$f":"Liste!B9","v":"mkf"}]
[{"$f":"Liste!A10","v":"BCH"},{"$f":"Liste!B10","v":"fdb"}]
[{"$f":"Liste!A11","v":"MDL"},{"$f":"Liste!B11","v":"dbfb"}]
[{"$f":"Liste!A12","v":"MDL"},{"$f":"Liste!B12","v":"fbd"}]
[{"$f":"Liste!A13","v":"MCH"},{"$f":"Liste!B13","v":"jnlkj"}]
[{"$f":"Liste!A14","v":0},{"$f":"Liste!B14","v":0}]
[{"$f":"Liste!A15","v":0},{"$f":"Liste!B15","v":0}]
[{"$f":"Liste!A16","v":0},{"$f":"Liste!B16","v":0}]
[{"$f":"Liste!A17","v":0},{"$f":"Liste!B17","v":0}]
[{"$f":"Liste!A18","v":0},{"$f":"Liste!B18","v":0}]
[{"$f":"Liste!A19","v":0},{"$f":"Liste!B19","v":0}]
[{"$f":"Liste!A20","v":0},{"$f":"Liste!B20","v":0}]
[{"$f":"Liste!A21","v":0},{"$f":"Liste!B21","v":0}]
[{"$f":"Liste!A22","v":0},{"$f":"Liste!B22","v":0}]
[{"$f":"Liste!A23","v":0},{"$f":"Liste!B23","v":0}]
[{"$f":"Liste!A24","v":0},{"$f":"Liste!B24","v":0}]
[{"$f":"Liste!A25","v":0},{"$f":"Liste!B25","v":0}]
[{"$f":"Liste!A26","v":0},{"$f":"Liste!B26","v":0}]
[{"$f":"Liste!A27","v":0},{"$f":"Liste!B27","v":0}]
[{"$f":"Liste!A28","v":0},{"$f":"Liste!B28","v":0}]
[{"$f":"Liste!A29","v":0},{"$f":"Liste!B29","v":0}]
[{"$f":"Liste!A30","v":0},{"$f":"Liste!B30","v":0}]
[{"$f":"Liste!A31","v":0},{"$f":"Liste!B31","v":0}]
[{"$f":"Liste!A32","v":0},{"$f":"Liste!B32","v":0}]
[{"$f":"Liste!A33","v":0},{"$f":"Liste!B33","v":0}]
[{"$f":"Liste!A34","v":0},{"$f":"Liste!B34","v":0}]
[{"$f":"Liste!A35","v":0},{"$f":"Liste!B35","v":0}]
[{"$f":"Liste!A36","v":0},{"$f":"Liste!B36","v":0}]
[{"$f":"Liste!A37","v":0},{"$f":"Liste!B37","v":0}]
[{"$f":"Liste!A38","v":0},{"$f":"Liste!B38","v":0}]
[{"$f":"Liste!A39","v":0},{"$f":"Liste!B39","v":0}]
[{"$f":"Liste!A40","v":0},{"$f":"Liste!B40","v":0}]
[{"$f":"Liste!A41","v":0},{"$f":"Liste!B41","v":0}]
[{"$f":"Liste!A42","v":0},{"$f":"Liste!B42","v":0}]
[{"$f":"Liste!A43","v":0},{"$f":"Liste!B43","v":0}]
[{"$f":"Liste!A44","v":0},{"$f":"Liste!B44","v":0}]
[{"$f":"Liste!A45","v":0},{"$f":"Liste!B45","v":0}]
[{"$f":"Liste!A46","v":0},{"$f":"Liste!B46","v":0}]
[{"$f":"Liste!A47","v":0},{"$f":"Liste!B47","v":0}]
[{"$f":"Liste!A48","v":0},{"$f":"Liste!B48","v":0}]
[{"$f":"Liste!A49","v":0},{"$f":"Liste!B49","v":0}]
[{"$f":"Liste!A50","v":0},{"$f":"Liste!B50","v":0}]
[{"$f":"Liste!A51","v":0},{"$f":"Liste!B51","v":0}]
[{"$f":"Liste!A52","v":0},{"$f":"Liste!B52","v":0}]
[{"$f":"Liste!A53","v":0},{"$f":"Liste!B53","v":0}]
[{"$f":"Liste!A54","v":0},{"$f":"Liste!B54","v":0}]
[{"$f":"Liste!A55","v":0},{"$f":"Liste!B55","v":0}]
[{"$f":"Liste!A56","v":0},{"$f":"Liste!B56","v":0}]
[{"$f":"Liste!A57","v":0},{"$f":"Liste!B57","v":0}]
[{"$f":"Liste!A58","v":0},{"$f":"Liste!B58","v":0}]
[{"$f":"Liste!A59","v":0},{"$f":"Liste!B59","v":0}]
[{"$f":"Liste!A60","v":0},{"$f":"Liste!B60","v":0}]
[{"$f":"Liste!A61","v":0},{"$f":"Liste!B61","v":0}]
[{"$f":"Liste!A62","v":0},{"$f":"Liste!B62","v":0}]
[{"$f":"Liste!A63","v":0},{"$f":"Liste!B63","v":0}]
[{"$f":"Liste!A64","v":0},{"$f":"Liste!B64","v":0}]
[{"$f":"Liste!A65","v":0},{"$f":"Liste!B65","v":0}]
[{"$f":"Liste!A66","v":0},{"$f":"Liste!B66","v":0}]
[{"$f":"Liste!A67","v":0},{"$f":"Liste!B67","v":0}]
[{"$f":"Liste!A68","v":0},{"$f":"Liste!B68","v":0}]
[{"$f":"Liste!A69","v":0},{"$f":"Liste!B69","v":0}]
[{"$f":"Liste!A70","v":0},{"$f":"Liste!B70","v":0}]
[{"$f":"Liste!A71","v":0},{"$f":"Liste!B71","v":0}]
[{"$f":"Liste!A72","v":0},{"$f":"Liste!B72","v":0}]
[{"$f":"Liste!A73","v":0},{"$f":"Liste!B73","v":0}]
[{"$f":"Liste!A74","v":0},{"$f":"Liste!B74","v":0}]
[{"$f":"Liste!A75","v":0},{"$f":"Liste!B75","v":0}]
[{"$f":"Liste!A76","v":0},{"$f":"Liste!B76","v":0}]
[{"$f":"Liste!A77","v":0},{"$f":"Liste!B77","v":0}]
[{"$f":"Liste!A78","v":0},{"$f":"Liste!B78","v":0}]
[{"$f":"Liste!A79","v":0},{"$f":"Liste!B79","v":0}]
[{"$f":"Liste!A80","v":0},{"$f":"Liste!B80","v":0}]
[{"$f":"Liste!A81","v":0},{"$f":"Liste!B81","v":0}]
[{"$f":"Liste!A82","v":0},{"$f":"Liste!B82","v":0}]
[{"$f":"Liste!A83","v":0},{"$f":"Liste!B83","v":0}]
[{"$f":"Liste!A84","v":0},{"$f":"Liste!B84","v":0}]
[{"$f":"Liste!A85","v":0},{"$f":"Liste!B85","v":0}]
[{"$f":"Liste!A86","v":0},{"$f":"Liste!B86","v":0}]
[{"$f":"Liste!A87","v":0},{"$f":"Liste!B87","v":0}]
[{"$f":"Liste!A88","v":0},{"$f":"Liste!B88","v":0}]
[{"$f":"Liste!A89","v":0},{"$f":"Liste!B89","v":0}]
[{"$f":"Liste!A90","v":0},{"$f":"Liste!B90","v":0}]
[{"$f":"Liste!A91","v":0},{"$f":"Liste!B91","v":0}]
[{"$f":"Liste!A92","v":0},{"$f":"Liste!B92","v":0}]
[{"$f":"Liste!A93","v":0},{"$f":"Liste!B93","v":0}]
[{"$f":"Liste!A94","v":0},{"$f":"Liste!B94","v":0}]
[{"$f":"Liste!A95","v":0},{"$f":"Liste!B95","v":0}]
[{"$f":"Liste!A96","v":0},{"$f":"Liste!B96","v":0}]
[{"$f":"Liste!A97","v":0},{"$f":"Liste!B97","v":0}]
[{"$f":"Liste!A98","v":0},{"$f":"Liste!B98","v":0}]
[{"$f":"Liste!A99","v":0},{"$f":"Liste!B99","v":0}]
[{"$f":"Liste!A100","v":0},{"$f":"Liste!B100","v":0}]
[{"$f":"Liste!A101","v":0},{"$f":"Liste!B101","v":0}]
[{"$f":"Liste!A102","v":0},{"$f":"Liste!B102","v":0}]
[{"$f":"Liste!A103","v":0},{"$f":"Liste!B103","v":0}]
[{"$f":"Liste!A104","v":0},{"$f":"Liste!B104","v":0}]
[{"$f":"Liste!A105","v":0},{"$f":"Liste!B105","v":0}]
[{"$f":"Liste!A106","v":0},{"$f":"Liste!B106","v":0}]
[{"$f":"Liste!A107","v":0},{"$f":"Liste!B107","v":0}]
[{"$f":"Liste!A108","v":0},{"$f":"Liste!B108","v":0}]
[{"$f":"Liste!A109","v":0},{"$f":"Liste!B109","v":0}]
[{"$f":"Liste!A110","v":0},{"$f":"Liste!B110","v":0}]
[{"$f":"Liste!A111","v":0},{"$f":"Liste!B111","v":0}]
[{"$f":"Liste!A112","v":0},{"$f":"Liste!B112","v":0}]
[{"$f":"Liste!A113","v":0},{"$f":"Liste!B113","v":0}]
[{"$f":"Liste!A114","v":0},{"$f":"Liste!B114","v":0}]
[{"$f":"Liste!A115","v":0},{"$f":"Liste!B115","v":0}]
[{"$f":"Liste!A116","v":0},{"$f":"Liste!B116","v":0}]
[{"$f":"Liste!A117","v":0},{"$f":"Liste!B117","v":0}]
[{"$f":"Liste!A118","v":0},{"$f":"Liste!B118","v":0}]
[{"$f":"Liste!A119","v":0},{"$f":"Liste!B119","v":0}]
[{"$f":"Liste!A120","v":0},{"$f":"Liste!B120","v":0}]
[{"$f":"Liste!A121","v":0},{"$f":"Liste!B121","v":0}]
[{"$f":"Liste!A122","v":0},{"$f":"Liste!B122","v":0}]
[{"$f":"Liste!A123","v":0},{"$f":"Liste!B123","v":0}]
[{"$f":"Liste!A124","v":0},{"$f":"Liste!B124","v":0}]
[{"$f":"Liste!A125","v":0},{"$f":"Liste!B125","v":0}]
[{"$f":"Liste!A126","v":0},{"$f":"Liste!B126","v":0}]
[{"$f":"Liste!A127","v":0},{"$f":"Liste!B127","v":0}]
[{"$f":"Liste!A128","v":0},{"$f":"Liste!B128","v":0}]
[{"$f":"Liste!A129","v":0},{"$f":"Liste!B129","v":0}]
[{"$f":"Liste!A130","v":0},{"$f":"Liste!B130","v":0}]
[{"$f":"Liste!A131","v":0},{"$f":"Liste!B131","v":0}]
[{"$f":"Liste!A132","v":0},{"$f":"Liste!B132","v":0}]
[{"$f":"Liste!A133","v":0},{"$f":"Liste!B133","v":0}]
[{"$f":"Liste!A134","v":0},{"$f":"Liste!B134","v":0}]
[{"$f":"Liste!A135","v":0},{"$f":"Liste!B135","v":0}]
[{"$f":"Liste!A136","v":0},{"$f":"Liste!B136","v":0}]
[{"$f":"Liste!A137","v":0},{"$f":"Liste!B137","v":0}]
[{"$f":"Liste!A138","v":0},{"$f":"Liste!B138","v":0}]
[{"$f":"Liste!A139","v":0},{"$f":"Liste!B139","v":0}]
[{"$f":"Liste!A140","v":0},{"$f":"Liste!B140","v":0}]
[{"$f":"Liste!A141","v":0},{"$f":"Liste!B141","v":0}]
[{"$f":"Liste!A142","v":0},{"$f":"Liste!B142","v":0}]
[{"$f":"Liste!A143","v":0},{"$f":"Liste!B143","v":0}]
[{"$f":"Liste!A144","v":0},{"$f":"Liste!B144","v":0}]
[{"$f":"Liste!A145","v":0},{"$f":"Liste!B145","v":0}]
[{"$f":"Liste!A146","v":0},{"$f":"Liste!B146","v":0}]
[{"$f":"Liste!A147","v":0},{"$f":"Liste!B147","v":0}]
[{"$f":"Liste!A148","v":0},{"$f":"Liste!B148","v":0}]
[{"$f":"Liste!A149","v":0},{"$f":"Liste!B149","v":0}]
[{"$f":"Liste!A150","v":0},{"$f":"Liste!B150","v":0}]
[{"$f":"Liste!A151","v":0},{"$f":"Liste!B151","v":0}]
[{"$f":"Liste!A152","v":0},{"$f":"Liste!B152","v":0}]
[{"$f":"Liste!A153","v":0},{"$f":"Liste!B153","v":0}]
[{"$f":"Liste!A154","v":0},{"$f":"Liste!B154","v":0}]
[{"$f":"Liste!A155","v":0},{"$f":"Liste!B155","v":0}]
[{"$f":"Liste!A156","v":0},{"$f":"Liste!B156","v":0}]
[{"$f":"Liste!A157","v":0},{"$f":"Liste!B157","v":0}]
[{"$f":"Liste!A158","v":0},{"$f":"Liste!B158","v":0}]
[{"$f":"Liste!A159","v":0},{"$f":"Liste!B159","v":0}]
[{"$f":"Liste!A160","v":0},{"$f":"Liste!B160","v":0}]
[{"$f":"Liste!A161","v":0},{"$f":"Liste!B161","v":0}]
[{"$f":"Liste!A162","v":0},{"$f":"Liste!B162","v":0}]
[{"$f":"Liste!A163","v":0},{"$f":"Liste!B163","v":0}]
[{"$f":"Liste!A164","v":0},{"$f":"Liste!B164","v":0}]
[{"$f":"Liste!A165","v":0},{"$f":"Liste!B165","v":0}]
[{"$f":"Liste!A166","v":0},{"$f":"Liste!B166","v":0}]
[{"$f":"Liste!A167","v":0},{"$f":"Liste!B167","v":0}]
[{"$f":"Liste!A168","v":0},{"$f":"Liste!B168","v":0}]
[{"$f":"Liste!A169","v":0},{"$f":"Liste!B169","v":0}]
[{"$f":"Liste!A170","v":0},{"$f":"Liste!B170","v":0}]
[{"$f":"Liste!A171","v":0},{"$f":"Liste!B171","v":0}]
[{"$f":"Liste!A172","v":0},{"$f":"Liste!B172","v":0}]
[{"$f":"Liste!A173","v":0},{"$f":"Liste!B173","v":0}]
[{"$f":"Liste!A174","v":0},{"$f":"Liste!B174","v":0}]
[{"$f":"Liste!A175","v":0},{"$f":"Liste!B175","v":0}]
[{"$f":"Liste!A176","v":0},{"$f":"Liste!B176","v":0}]
[{"$f":"Liste!A177","v":0},{"$f":"Liste!B177","v":0}]
[{"$f":"Liste!A178","v":0},{"$f":"Liste!B178","v":0}]
[{"$f":"Liste!A179","v":0},{"$f":"Liste!B179","v":0}]
[{"$f":"Liste!A180","v":0},{"$f":"Liste!B180","v":0}]

{"sheet":"CT","index":2,"n_rows":180,"n_cols":2,"rows_kept":180,"cut":false,"hidden":false,"merged":[]}
[{"$f":"Liste!A1","v":"NIVEAU"},{"$f":"Liste!B1","v":"NOM"}]
[{"$f":"Liste!A2","v":"SDT"},{"$f":"Liste!B2","v":"aa"}]
[{"$f":"Liste!A3","v":"SDT"},{"$f":"Liste!B3","v":"toto"}]
[{"$f":"Liste!A4","v":"SDT"},{"$f":"Liste!B4","v":"yyg"}]
[{"$f":"Liste!A5","v":"1CL"},{"$f":"Liste!B5","v":"momo"}]
[{"$f":"Liste!A6","v":"1CL"},{"$f":"Liste!B6","v":0}]
[{"$f":"Liste!A7","v":"BRI"},{"$f":"Liste!B7","v":"jkb"}]
[{"$f":"Liste!A8","v":"BRI"},{"$f":"Liste!B8","v":"jkb"}]
[{"$f":"Liste!A9","v":"BRI"},{"$f":"Liste!B9","v":"mkf"}]
[{"$f":"Liste!A10","v":"BCH"},{"$f":"Liste!B10","v":"fdb"}]
[{"$f":"Liste!A11","v":"MDL"},{"$f":"Liste!B11","v":"dbfb"}]
[{"$f":"Liste!A12","v":"MDL"},{"$f":"Liste!B12","v":"fbd"}]
[{"$f":"Liste!A13","v":"MCH"},{"$f":"Liste!B13","v":"jnlkj"}]
[{"$f":"Liste!A14","v":0},{"$f":"Liste!B14","v":0}]
[{"$f":"Liste!A15","v":0},{"$f":"Liste!B15","v":0}]
[{"$f":"Liste!A16","v":0},{"$f":"Liste!B16","v":0}]
[{"$f":"Liste!A17","v":0},{"$f":"Liste!B17","v":0}]
[{"$f":"Liste!A18","v":0},{"$f":"Liste!B18","v":0}]
[{"$f":"Liste!A19","v":0},{"$f":"Liste!B19","v":0}]
[{"$f":"Liste!A20","v":0},{"$f":"Liste!B20","v":0}]
[{"$f":"Liste!A21","v":0},{"$f":"Liste!B21","v":0}]
[{"$f":"Liste!A22","v":0},{"$f":"Liste!B22","v":0}]
[{"$f":"Liste!A23","v":0},{"$f":"Liste!B23","v":0}]
[{"$f":"Liste!A24","v":0},{"$f":"Liste!B24","v":0}]
[{"$f":"Liste!A25","v":0},{"$f":"Liste!B25","v":0}]
[{"$f":"Liste!A26","v":0},{"$f":"Liste!B26","v":0}]
[{"$f":"Liste!A27","v":0},{"$f":"Liste!B27","v":0}]
[{"$f":"Liste!A28","v":0},{"$f":"Liste!B28","v":0}]
[{"$f":"Liste!A29","v":0},{"$f":"Liste!B29","v":0}]
[{"$f":"Liste!A30","v":0},{"$f":"Liste!B30","v":0}]
[{"$f":"Liste!A31","v":0},{"$f":"Liste!B31","v":0}]
[{"$f":"Liste!A32","v":0},{"$f":"Liste!B32","v":0}]
[{"$f":"Liste!A33","v":0},{"$f":"Liste!B33","v":0}]
[{"$f":"Liste!A34","v":0},{"$f":"Liste!B34","v":0}]
[{"$f":"Liste!A35","v":0},{"$f":"Liste!B35","v":0}]
[{"$f":"Liste!A36","v":0},{"$f":"Liste!B36","v":0}]
[{"$f":"Liste!A37","v":0},{"$f":"Liste!B37","v":0}]
[{"$f":"Liste!A38","v":0},{"$f":"Liste!B38","v":0}]
[{"$f":"Liste!A39","v":0},{"$f":"Liste!B39","v":0}]
[{"$f":"Liste!A40","v":0},{"$f":"Liste!B40","v":0}]
[{"$f":"Liste!A41","v":0},{"$f":"Liste!B41","v":0}]
[{"$f":"Liste!A42","v":0},{"$f":"Liste!B42","v":0}]
[{"$f":"Liste!A43","v":0},{"$f":"Liste!B43","v":0}]
[{"$f":"Liste!A44","v":0},{"$f":"Liste!B44","v":0}]
[{"$f":"Liste!A45","v":0},{"$f":"Liste!B45","v":0}]
[{"$f":"Liste!A46","v":0},{"$f":"Liste!B46","v":0}]
[{"$f":"Liste!A47","v":0},{"$f":"Liste!B47","v":0}]
[{"$f":"Liste!A48","v":0},{"$f":"Liste!B48","v":0}]
[{"$f":"Liste!A49","v":0},{"$f":"Liste!B49","v":0}]
[{"$f":"Liste!A50","v":0},{"$f":"Liste!B50","v":0}]
[{"$f":"Liste!A51","v":0},{"$f":"Liste!B51","v":0}]
[{"$f":"Liste!A52","v":0},{"$f":"Liste!B52","v":0}]
[{"$f":"Liste!A53","v":0},{"$f":"Liste!B53","v":0}]
[{"$f":"Liste!A54","v":0},{"$f":"Liste!B54","v":0}]
[{"$f":"Liste!A55","v":0},{"$f":"Liste!B55","v":0}]
[{"$f":"Liste!A56","v":0},{"$f":"Liste!B56","v":0}]
[{"$f":"Liste!A57","v":0},{"$f":"Liste!B57","v":0}]
[{"$f":"Liste!A58","v":0},{"$f":"Liste!B58","v":0}]
[{"$f":"Liste!A59","v":0},{"$f":"Liste!B59","v":0}]
[{"$f":"Liste!A60","v":0},{"$f":"Liste!B60","v":0}]
[{"$f":"Liste!A61","v":0},{"$f":"Liste!B61","v":0}]
[{"$f":"Liste!A62","v":0},{"$f":"Liste!B62","v":0}]
[{"$f":"Liste!A63","v":0},{"$f":"Liste!B63","v":0}]
[{"$f":"Liste!A64","v":0},{"$f":"Liste!B64","v":0}]
[{"$f":"Liste!A65","v":0},{"$f":"Liste!B65","v":0}]
[{"$f":"Liste!A66","v":0},{"$f":"Liste!B66","v":0}]
[{"$f":"Liste!A67","v":0},{"$f":"Liste!B67","v":0}]
[{"$f":"Liste!A68","v":0},{"$f":"Liste!B68","v":0}]
[{"$f":"Liste!A69","v":0},{"$f":"Liste!B69","v":0}]
[{"$f":"Liste!A70","v":0},{"$f":"Liste!B70","v":0}]
[{"$f":"Liste!A71","v":0},{"$f":"Liste!B71","v":0}]
[{"$f":"Liste!A72","v":0},{"$f":"Liste!B72","v":0}]
[{"$f":"Liste!A73","v":0},{"$f":"Liste!B73","v":0}]
[{"$f":"Liste!A74","v":0},{"$f":"Liste!B74","v":0}]
[{"$f":"Liste!A75","v":0},{"$f":"Liste!B75","v":0}]
[{"$f":"Liste!A76","v":0},{"$f":"Liste!B76","v":0}]
[{"$f":"Liste!A77","v":0},{"$f":"Liste!B77","v":0}]
[{"$f":"Liste!A78","v":0},{"$f":"Liste!B78","v":0}]
[{"$f":"Liste!A79","v":0},{"$f":"Liste!B79","v":0}]
[{"$f":"Liste!A80","v":0},{"$f":"Liste!B80","v":0}]
[{"$f":"Liste!A81","v":0},{"$f":"Liste!B81","v":0}]
[{"$f":"Liste!A82","v":0},{"$f":"Liste!B82","v":0}]
[{"$f":"Liste!A83","v":0},{"$f":"Liste!B83","v":0}]
[{"$f":"Liste!A84","v":0},{"$f":"Liste!B84","v":0}]
[{"$f":"Liste!A85","v":0},{"$f":"Liste!B85","v":0}]
[{"$f":"Liste!A86","v":0},{"$f":"Liste!B86","v":0}]
[{"$f":"Liste!A87","v":0},{"$f":"Liste!B87","v":0}]
[{"$f":"Liste!A88","v":0},{"$f":"Liste!B88","v":0}]
[{"$f":"Liste!A89","v":0},{"$f":"Liste!B89","v":0}]
[{"$f":"Liste!A90","v":0},{"$f":"Liste!B90","v":0}]
[{"$f":"Liste!A91","v":0},{"$f":"Liste!B91","v":0}]
[{"$f":"Liste!A92","v":0},{"$f":"Liste!B92","v":0}]
[{"$f":"Liste!A93","v":0},{"$f":"Liste!B93","v":0}]
[{"$f":"Liste!A94","v":0},{"$f":"Liste!B94","v":0}]
[{"$f":"Liste!A95","v":0},{"$f":"Liste!B95","v":0}]
[{"$f":"Liste!A96","v":0},{"$f":"Liste!B96","v":0}]
[{"$f":"Liste!A97","v":0},{"$f":"Liste!B97","v":0}]
[{"$f":"Liste!A98","v":0},{"$f":"Liste!B98","v":0}]
[{"$f":"Liste!A99","v":0},{"$f":"Liste!B99","v":0}]
[{"$f":"Liste!A100","v":0},{"$f":"Liste!B100","v":0}]
[{"$f":"Liste!A101","v":0},{"$f":"Liste!B101","v":0}]
[{"$f":"Liste!A102","v":0},{"$f":"Liste!B102","v":0}]
[{"$f":"Liste!A103","v":0},{"$f":"Liste!B103","v":0}]
[{"$f":"Liste!A104","v":0},{"$f":"Liste!B104","v":0}]
[{"$f":"Liste!A105","v":0},{"$f":"Liste!B105","v":0}]
[{"$f":"Liste!A106","v":0},{"$f":"Liste!B106","v":0}]
[{"$f":"Liste!A107","v":0},{"$f":"Liste!B107","v":0}]
[{"$f":"Liste!A108","v":0},{"$f":"Liste!B108","v":0}]
[{"$f":"Liste!A109","v":0},{"$f":"Liste!B109","v":0}]
[{"$f":"Liste!A110","v":0},{"$f":"Liste!B110","v":0}]
[{"$f":"Liste!A111","v":0},{"$f":"Liste!B111","v":0}]
[{"$f":"Liste!A112","v":0},{"$f":"Liste!B112","v":0}]
[{"$f":"Liste!A113","v":0},{"$f":"Liste!B113","v":0}]
[{"$f":"Liste!A114","v":0},{"$f":"Liste!B114","v":0}]
[{"$f":"Liste!A115","v":0},{"$f":"Liste!B115","v":0}]
[{"$f":"Liste!A116","v":0},{"$f":"Liste!B116","v":0}]
[{"$f":"Liste!A117","v":0},{"$f":"Liste!B117","v":0}]
[{"$f":"Liste!A118","v":0},{"$f":"Liste!B118","v":0}]
[{"$f":"Liste!A119","v":0},{"$f":"Liste!B119","v":0}]
[{"$f":"Liste!A120","v":0},{"$f":"Liste!B120","v":0}]
[{"$f":"Liste!A121","v":0},{"$f":"Liste!B121","v":0}]
[{"$f":"Liste!A122","v":0},{"$f":"Liste!B122","v":0}]
[{"$f":"Liste!A123","v":0},{"$f":"Liste!B123","v":0}]
[{"$f":"Liste!A124","v":0},{"$f":"Liste!B124","v":0}]
[{"$f":"Liste!A125","v":0},{"$f":"Liste!B125","v":0}]
[{"$f":"Liste!A126","v":0},{"$f":"Liste!B126","v":0}]
[{"$f":"Liste!A127","v":0},{"$f":"Liste!B127","v":0}]
[{"$f":"Liste!A128","v":0},{"$f":"Liste!B128","v":0}]
[{"$f":"Liste!A129","v":0},{"$f":"Liste!B129","v":0}]
[{"$f":"Liste!A130","v":0},{"$f":"Liste!B130","v":0}]
[{"$f":"Liste!A131","v":0},{"$f":"Liste!B131","v":0}]
[{"$f":"Liste!A132","v":0},{"$f":"Liste!B132","v":0}]
[{"$f":"Liste!A133","v":0},{"$f":"Liste!B133","v":0}]
[{"$f":"Liste!A134","v":0},{"$f":"Liste!B134","v":0}]
[{"$f":"Liste!A135","v":0},{"$f":"Liste!B135","v":0}]
[{"$f":"Liste!A136","v":0},{"$f":"Liste!B136","v":0}]
[{"$f":"Liste!A137","v":0},{"$f":"Liste!B137","v":0}]
[{"$f":"Liste!A138","v":0},{"$f":"Liste!B138","v":0}]
[{"$f":"Liste!A139","v":0},{"$f":"Liste!B139","v":0}]
[{"$f":"Liste!A140","v":0},{"$f":"Liste!B140","v":0}]
[{"$f":"Liste!A141","v":0},{"$f":"Liste!B141","v":0}]
[{"$f":"Liste!A142","v":0},{"$f":"Liste!B142","v":0}]
[{"$f":"Liste!A143","v":0},{"$f":"Liste!B143","v":0}]
[{"$f":"Liste!A144","v":0},{"$f":"Liste!B144","v":0}]
[{"$f":"Liste!A145","v":0},{"$f":"Liste!B145","v":0}]
[{"$f":"Liste!A146","v":0},{"$f":"Liste!B146","v":0}]
[{"$f":"Liste!A147","v":0},{"$f":"Liste!B147","v":0}]
[{"$f":"Liste!A148","v":0},{"$f":"Liste!B148","v":0}]
[{"$f":"Liste!A149","v":0},{"$f":"Liste!B149","v":0}]
[{"$f":"Liste!A150","v":0},{"$f":"Liste!B150","v":0}]
[{"$f":"Liste!A151","v":0},{"$f":"Liste!B151","v":0}]
[{"$f":"Liste!A152","v":0},{"$f":"Liste!B152","v":0}]
[{"$f":"Liste!A153","v":0},{"$f":"Liste!B153","v":0}]
[{"$f":"Liste!A154","v":0},{"$f":"Liste!B154","v":0}]
[{"$f":"Liste!A155","v":0},{"$f":"Liste!B155","v":0}]
[{"$f":"Liste!A156","v":0},{"$f":"Liste!B156","v":0}]
[{"$f":"Liste!A157","v":0},{"$f":"Liste!B157","v":0}]
[{"$f":"Liste!A158","v":0},{"$f":"Liste!B158","v":0}]
[{"$f":"Liste!A159","v":0},{"$f":"Liste!B159","v":0}]
[{"$f":"Liste!A160","v":0},{"$f":"Liste!B160","v":0}]
[{"$f":"Liste!A161","v":0},{"$f":"Liste!B161","v":0}]
[{"$f":"Liste!A162","v":0},{"$f":"Liste!B162","v":0}]
[{"$f":"Liste!A163","v":0},{"$f":"Liste!B163","v":0}]
[{"$f":"Liste!A164","v":0},{"$f":"Liste!B164","v":0}]
[{"$f":"Liste!A165","v":0},{"$f":"Liste!B165","v":0}]
[{"$f":"Liste!A166","v":0},{"$f":"Liste!B166","v":0}]
[{"$f":"Liste!A167","v":0},{"$f":"Liste!B167","v":0}]
[{"$f":"Liste!A168","v":0},{"$f":"Liste!B168","v":0}]
[{"$f":"Liste!A169","v":0},{"$f":"Liste!B169","v":0}]
[{"$f":"Liste!A170","v":0},{"$f":"Liste!B170","v":0}]
[{"$f":"Liste!A171","v":0},{"$f":"Liste!B171","v":0}]
[{"$f":"Liste!A172","v":0},{"$f":"Liste!B172","v":0}]
[{"$f":"Liste!A173","v":0},{"$f":"Liste!B173","v":0}]
[{"$f":"Liste!A174","v":0},{"$f":"Liste!B174","v":0}]
[{"$f":"Liste!A175","v":0},{"$f":"Liste!B175","v":0}]
[{"$f":"Liste!A176","v":0},{"$f":"Liste!B176","v":0}]
[{"$f":"Liste!A177","v":0},{"$f":"Liste!B177","v":0}]
[{"$f":"Liste!A178","v":0},{"$f":"Liste!B178","v":0}]
[{"$f":"Liste!A179","v":0},{"$f":"Liste!B179","v":0}]
[{"$f":"Liste!A180","v":0},{"$f":"Liste!B180","v":0}]