{"text_format":"1","workbook":"xlsx","n_sheets":9,"sheets":["Liste","Partie 1","Partie 2","Partie 3","Partie 4","Partie 5","Recap","Classement Joueurs","Paiement"],"not_rendered":{"charts":0,"images":0,"macros":1,"external_links":3,"defined_names":88,"comments":0,"pivot_tables":0},"unopened":[],"bounds":{"document_bytes":16777216,"sheet_cells":100000,"rows_first":2000,"rows_last":500,"rows_between":2000,"halvings":0,"cell_chars":16384,"cell_head_chars":4096},"cells_cut":0,"cells_raw":0,"read":"whole","date_system":"1900"}

{"sheet":"Liste","index":0,"n_rows":200,"n_cols":68,"rows_kept":200,"cut":false,"hidden":false,"merged":[[5,63,5,65],[10,0,10,4],[5,56,5,58],[5,35,5,37],[5,42,5,44],[5,49,5,51],[8,0,8,4],[0,6,0,9],[1,6,1,9],[2,6,2,9],[3,6,3,9],[4,6,4,9]]}
[null,null,null,null,null,null,"Tournoi du :"]
[null,null,"Nombre de Licenciés",null,{"$f":"COUNTA(I7:I198)","v":192},null,"P91"]
[null,null,"Nombre de joueurs inscrits ",null,{"$f":"COUNTA(J7:J198)","v":192},null,"P48"]
[null,null,"Nombre de doublettes possibles",null,{"$f":"QUOTIENT(E3,2)","v":96},null,"T48"]
[null,null,"Répartition :",{"$f":"COUNTA(J7:J102)","v":96},{"$f":"COUNTA(J103:J198)","v":96},null,"JC BILLOMOIS"]
[null,null,"Report joueurs inscrits ",null,{"$f":"COUNTA(J7:J198)","v":192},null,"CLUBS","Présents","Liste des inscrits","N° equipe",null,null,null,null,"N° Equipe","Tireur","Pointeur ","Pointeur 2",null,"Tireur","Pointeur ","Pointeur 2",null,"Tireur","Pointeur ","Pointeur 2",null,"Tireur","Pointeur ","Pointeur 2",null,"Tireur","Pointeur ","Pointeur 2",null,"Partie 1",null,null,"G","P",null,null,"Partie 2",null,null,"G","P",null,null,"Partie 3",null,null,"G","P",null,null,"Partie 4",null,null,"G","P",null,null,"Partie 5",null,null,"G","P"]
[null,null,null,null,null,null,"ST",null,"T1",1,{"$f":"J7&\"/\"&COUNTIF(J$7:J7,J7)","v":"1/1"},{"$f":"COUNTIF($J$7:J7,\">0\")","v":1},null,null,1,{"$f":"IFERROR(INDEX($I$7:$I$198,MATCH($O7&\"/1\",$K$7:$K$198,0)),\"\")","v":"T1"},{"$f":"IFERROR(INDEX($I$7:$I$198,MATCH($O7&\"/2\",$K$7:$K$198,0)),\"\")","v":"P1"},{"$f":"IFERROR(INDEX($I$7:$I$198,MATCH($O7&\"/3\",$K$7:$K$198,0)),\"\")","v":""},1,{"$f":"P7","v":"T1"},{"$f":"Q7","v":"P1"},"",1,{"$f":"T7","v":"T1"},{"$f":"U7","v":"P1"},"",1,{"$f":"X7","v":"T1"},{"$f":"Y7","v":"P1"},{"$f":"Z7","v":""},1,{"$f":"AB7","v":"T1"},{"$f":"AC7","v":"P1"},{"$f":"AD7","v":""},1,{"$f":"IF(E3>0,1,\"\")","v":1},{"$f":"IF(AJ7=\"\",\"\",\"vs\")","v":"vs"},{"$f":"IF(E3>1,2,\"\")","v":2},{"$f":"IF('Partie 1'!$E$3=\"\",\"\",IFERROR(IF(VLOOKUP(AJ7,'Partie 1'!$A$3:$E$28,5,0)=13,AJ7,AL7),IFERROR(IF(INDEX('Partie 1'!$G$3:$G$28,MATCH(AJ7,'Partie 1'!$K$3:$K$28,0))=13,AJ7,AL7),IFERROR(IF(VLOOKUP(AJ7,'Partie 1'!$M$3:$Q$28,5,0)=13,AJ7,AL7),IFERROR(IF(INDEX('Partie 1'!$S$3:$S$28,MATCH(AJ7,'Partie 1'!$W$3:$W$28,0))=13,AJ7,AL7),\"\")))))","v":1},{"$f":"IF(AM7=\"\",\"\",IF(AM7=AJ7,AL7,AJ7))","v":2},1,{"$f":"MAX(AO:AO)+1","v":73},{"$f":"IF(AM7=\"\",\"\",IFERROR(INDEX(AM:AM,MATCH(ROW()-6,AO:AO,0)),INDEX(AN:AN,MATCH(ROW()-6,AP:AP,0))))","v":1},{"$f":"IF(AQ7=\"\",\"\",\"vs\")","v":"vs"},{"$f":"IF(AM7=\"\",\"\",IFERROR(INDEX(AM:AM,MATCH(ROW()-6+$D$5/2,AO:AO,0)),INDEX(AN:AN,MATCH(ROW()-6+$D$5/2,AP:AP,0))))","v":3},{"$f":"IFERROR(IF(VLOOKUP(AQ7,'Partie 2'!$A$3:$E$28,5,0)=13,AQ7,AS7),IFERROR(IF(INDEX('Partie 2'!$G$3:$G$28,MATCH(AQ7,'Partie 2'!$K$3:$K$28,0))=13,AQ7,AS7),IFERROR(IF(VLOOKUP(AQ7,'Partie 2'!$M$3:$Q$28,5,0)=13,AQ7,AS7),IFERROR(IF(INDEX('Partie 2'!$S$3:$S$28,MATCH(AQ7,'Partie 2'!$W$3:$W$28,0))=13,AQ7,AS7),\"\"))))","v":1},{"$f":"IF(AT7=AQ7,AS7,AQ7)","v":3},{"$f":"AO7","v":1},{"$f":"AP7","v":73},{"$f":"IF(AT7=\"\",\"\",IFERROR(INDEX(AT:AT,MATCH(ROW()-6,AV:AV,0)),INDEX(AU:AU,MATCH(ROW()-6,AW:AW,0))))","v":1},{"$f":"IF(AX7=\"\",\"\",\"vs\")","v":"vs"},{"$f":"IF(AT7=\"\",\"\",IFERROR(INDEX(AT:AT,MATCH(ROW()-6+$D$5/2,AV:AV,0)),INDEX(AU:AU,MATCH(ROW()-6+$D$5/2,AW:AW,0))))","v":5},{"$f":"IFERROR(IF(VLOOKUP(AX7,'Partie 3'!$A$3:$E$28,5,0)=13,AX7,AZ7),IFERROR(IF(INDEX('Partie 3'!$G$3:$G$28,MATCH(AX7,'Partie 3'!$K$3:$K$28,0))=13,AX7,AZ7),IFERROR(IF(VLOOKUP(AX7,'Partie 3'!$M$3:$Q$28,5,0)=13,AX7,AZ7),IFERROR(IF(INDEX('Partie 3'!$S$3:$S$28,MATCH(AX7,'Partie 3'!$W$3:$W$28,0))=13,AX7,AZ7),\"\"))))","v":1},{"$f":"IF(BA7=AX7,AZ7,AX7)","v":5},{"$f":"AV7","v":1},{"$f":"AW7","v":73},{"$f":"IF(BA7=\"\",\"\",IFERROR(INDEX(BA:BA,MATCH(ROW()-6,BC:BC,0)),INDEX(BB:BB,MATCH(ROW()-6,BD:BD,0))))","v":1},{"$f":"IF(BE7=\"\",\"\",\"vs\")","v":"vs"},{"$f":"IF(BA7=\"\",\"\",IFERROR(INDEX(BA:BA,MATCH(ROW()-6+$D$5/2,BC:BC,0)),INDEX(BB:BB,MATCH(ROW()-6+$D$5/2,BD:BD,0))))","v":9},{"$f":"IFERROR(IF(VLOOKUP(BE7,'Partie 4'!$A$3:$E$28,5,0)=13,BE7,BG7),IFERROR(IF(INDEX('Partie 4'!$G$3:$G$28,MATCH(BE7,'Partie 4'!$K$3:$K$28,0))=13,BE7,BG7),IFERROR(IF(VLOOKUP(BE7,'Partie 4'!$M$3:$Q$28,5,0)=13,BE7,BG7),IFERROR(IF(INDEX('Partie 4'!$S$3:$S$28,MATCH(BE7,'Partie 4'!$W$3:$W$28,0))=13,BE7,BG7),\"\"))))","v":1},{"$f":"IF(BH7=BE7,BG7,BE7)","v":9},{"$f":"BC7","v":1},{"$f":"BD7","v":73},{"$f":"IF(BH7=\"\",\"\",IFERROR(INDEX(BH:BH,MATCH(ROW()-6,BJ:BJ,0)),INDEX(BI:BI,MATCH(ROW()-6,BK:BK,0))))","v":1},{"$f":"IF(BL7=\"\",\"\",\"vs\")","v":"vs"},{"$f":"IF(BH7=\"\",\"\",IFERROR(INDEX(BH:BH,MATCH(ROW()-6+$D$5/2,BJ:BJ,0)),INDEX(BI:BI,MATCH(ROW()-6+$D$5/2,BK:BK,0))))","v":17},{"$f":"IFERROR(IF(VLOOKUP(BL7,'Partie 4'!$A$3:$E$28,5,0)=13,BL7,BN7),IFERROR(IF(INDEX('Partie 4'!$G$3:$G$28,MATCH(BL7,'Partie 4'!$K$3:$K$28,0))=13,BL7,BN7),IFERROR(IF(VLOOKUP(BL7,'Partie 4'!$M$3:$Q$28,5,0)=13,BL7,BN7),IFERROR(IF(INDEX('Partie 4'!$S$3:$S$28,MATCH(BL7,'Partie 4'!$W$3:$W$28,0))=13,BL7,BN7),\"\"))))","v":1},{"$f":"IF(BO7=BL7,BN7,BL7)","v":17}]
[null,null,null,null,null,null,"ST",null,"T2",2,{"$f":"J8&\"/\"&COUNTIF(J$7:J8,J8)","v":"2/1"},{"$f":"COUNTIF($J$7:J8,\">0\")","v":2},null,null,2,{"$f":"IFERROR(INDEX($I$7:$I$198,MATCH($O8&\"/1\",$K$7:$K$198,0)),\"\")","v":"T2"},{"$f":"IFERROR(INDEX($I$7:$I$198,MATCH($O8&\"/2\",$K$7:$K$198,0)),\"\")","v":"P2"},{"$f":"IFERROR(INDEX($I$7:$I$198,MATCH($O8&\"/3\",$K$7:$K$198,0)),\"\")","v":""},2,{"$f":"P8","v":"T2"},{"$f":"Q8","v":"P2"},{"$f":"R8","v":""},2,{"$f":"T8","v":"T2"},{"$f":"U8","v":"P2"},{"$f":"V8","v":""},2,{"$f":"X8","v":"T2"},{"$f":"Y8","v":"P2"},{"$f":"Z8","v":""},2,{"$f":"AB8","v":"T2"},{"$f":"AC8","v":"P2"},{"$f":"AD8","v":""},2,{"$f":"IF(E3>2,3,\"\")","v":3},"vs",{"$f":"IF(E3>3,4,\"\")","v":4},{"$f":"IF('Partie 1'!$E$3=\"\",\"\",IFERROR(IF(VLOOKUP(AJ8,'Partie 1'!$A$3:$E$28,5,0)=13,AJ8,AL8),IFERROR(IF(INDEX('Partie 1'!$G$3:$G$28,MATCH(AJ8,'Partie 1'!$K$3:$K$28,0))=13,AJ8,AL8),IFERROR(IF(VLOOKUP(AJ8,'Partie 1'!$M$3:$Q$28,5,0)=13,AJ8,AL8),IFERROR(IF(INDEX('Partie 1'!$S$3:$S$28,MATCH(AJ8,'Partie 1'!$W$3:$W$28,0))=13,AJ8,AL8),\"\")))))","v":3},{"$f":"IF(AM8=\"\",\"\",IF(AM8=AJ8,AL8,AJ8))","v":4},{"$f":"AO7+$D$5/2","v":49},{"$f":"IF(AO8=\"\",\"\",ROUNDUP($D$5/4,0)+1)","v":25},{"$f":"IF(AM8=\"\",\"\",IFERROR(INDEX(AM:AM,MATCH(ROW()-6,AO:AO,0)),INDEX(AN:AN,MATCH(ROW()-6,AP:AP,0))))","v":5},"vs",7,{"$f":"IFERROR(IF(VLOOKUP(AQ8,'Partie 2'!$A$3:$E$28,5,0)=13,AQ8,AS8),IFERROR(IF(INDEX('Partie 2'!$G$3:$G$28,MATCH(AQ8,'Partie 2'!$K$3:$K$28,0))=13,AQ8,AS8),IFERROR(IF(VLOOKUP(AQ8,'Partie 2'!$M$3:$Q$28,5,0)=13,AQ8,AS8),IFERROR(IF(INDEX('Partie 2'!$S$3:$S$28,MATCH(AQ8,'Partie 2'!$W$3:$W$28,0))=13,AQ8,AS8),\"\"))))","v":5},7,{"$f":"AO8","v":49},25,{"$f":"IF(AT8=\"\",\"\",IFERROR(INDEX(AT:AT,MATCH(ROW()-6,AV:AV,0)),INDEX(AU:AU,MATCH(ROW()-6,AW:AW,0))))","v":9},"vs",13,{"$f":"IFERROR(IF(VLOOKUP(AX8,'Partie 3'!$A$3:$E$28,5,0)=13,AX8,AZ8),IFERROR(IF(INDEX('Partie 3'!$G$3:$G$28,MATCH(AX8,'Partie 3'!$K$3:$K$28,0))=13,AX8,AZ8),IFERROR(IF(VLOOKUP(AX8,'Partie 3'!$M$3:$Q$28,5,0)=13,AX8,AZ8),IFERROR(IF(INDEX('Partie 3'!$S$3:$S$28,MATCH(AX8,'Partie 3'!$W$3:$W$28,0))=13,AX8,AZ8),\"\"))))","v":9},13,{"$f":"AV8","v":49},25,{"$f":"IF(BA8=\"\",\"\",IFERROR(INDEX(BA:BA,MATCH(ROW()-6,BC:BC,0)),INDEX(BB:BB,MATCH(ROW()-6,BD:BD,0))))","v":17},"vs",25,{"$f":"IFERROR(IF(VLOOKUP(BE8,'Partie 4'!$A$3:$E$28,5,0)=13,BE8,BG8),IFERROR(IF(INDEX('Partie 4'!$G$3:$G$28,MATCH(BE8,'Partie 4'!$K$3:$K$28,0))=13,BE8,BG8),IFERROR(IF(VLOOKUP(BE8,'Partie 4'!$M$3:$Q$28,5,0)=13,BE8,BG8),IFERROR(IF(INDEX('Partie 4'!$S$3:$S$28,MATCH(BE8,'Partie 4'!$W$3:$W$28,0))=13,BE8,BG8),\"\"))))","v":17},{"$f":"IF(BH8=BE8,BG8,BE8)","v":25},{"$f":"BC8","v":49},{"$f":"BD8","v":25},{"$f":"IF(BH8=\"\",\"\",IFERROR(INDEX(BH:BH,MATCH(ROW()-6,BJ:BJ,0)),INDEX(BI:BI,MATCH(ROW()-6,BK:BK,0))))","v":34},"vs",49,{"$f":"IFERROR(IF(VLOOKUP(BL8,'Partie 4'!$A$3:$E$28,5,0)=13,BL8,BN8),IFERROR(IF(INDEX('Partie 4'!$G$3:$G$28,MATCH(BL8,'Partie 4'!$K$3:$K$28,0))=13,BL8,BN8),IFERROR(IF(VLOOKUP(BL8,'Partie 4'!$M$3:$Q$28,5,0)=13,BL8,BN8),IFERROR(IF(INDEX('Partie 4'!$S$3:$S$28,MATCH(BL8,'Partie 4'!$W$3:$W$28,0))=13,BL8,BN8),\"\"))))","v":34},{"$f":"IF(BO8=BL8,BN8,BL8)","v":49}]
["Cocher les présents est facultaif",null,null,null,null,null,"ST",null,"T3",3,{"$f":"J9&\"/\"&COUNTIF(J$7:J9,J9)","v":"3/1"},{"$f":"COUNTIF($J$7:J9,\">0\")","v":3},null,null,3,"T3","P3","",3,"T3","P3","",3,"T3","P3","",3,"T3","P3","",3,"T3","P3","",3,{"$f":"IF(ROW()-6<=$E$4/2,AJ8+2,\"\")","v":5},{"$f":"IF(AJ9=\"\",\"\",\"vs\")","v":"vs"},{"$f":"IF(AJ9=\"\",\"\",AJ9+1)","v":6},{"$f":"IF('Partie 1'!$E$3=\"\",\"\",IFERROR(IF(VLOOKUP(AJ9,'Partie 1'!$A$3:$E$28,5,0)=13,AJ9,AL9),IFERROR(IF(INDEX('Partie 1'!$G$3:$G$28,MATCH(AJ9,'Partie 1'!$K$3:$K$28,0))=13,AJ9,AL9),IFERROR(IF(VLOOKUP(AJ9,'Partie 1'!$M$3:$Q$28,5,0)=13,AJ9,AL9),IFERROR(IF(INDEX('Partie 1'!$S$3:$S$28,MATCH(AJ9,'Partie 1'!$W$3:$W$28,0))=13,AJ9,AL9),\"\")))))","v":5},6,{"$f":"IF(AJ9=\"\",\"\",AO7+1)","v":2},{"$f":"IF(AO9=\"\",\"\",AP7+1)","v":74},9,{"$f":"IF(AQ9=\"\",\"\",\"vs\")","v":"vs"},11,{"$f":"IFERROR(IF(VLOOKUP(AQ9,'Partie 2'!$A$3:$E$28,5,0)=13,AQ9,AS9),IFERROR(IF(INDEX('Partie 2'!$G$3:$G$28,MATCH(AQ9,'Partie 2'!$K$3:$K$28,0))=13,AQ9,AS9),IFERROR(IF(VLOOKUP(AQ9,'Partie 2'!$M$3:$Q$28,5,0)=13,AQ9,AS9),IFERROR(IF(INDEX('Partie 2'!$S$3:$S$28,MATCH(AQ9,'Partie 2'!$W$3:$W$28,0))=13,AQ9,AS9),\"\"))))","v":9},11,2,74,17,{"$f":"IF(AX9=\"\",\"\",\"vs\")","v":"vs"},21,{"$f":"IFERROR(IF(VLOOKUP(AX9,'Partie 3'!$A$3:$E$28,5,0)=13,AX9,AZ9),IFERROR(IF(INDEX('Partie 3'!$G$3:$G$28,MATCH(AX9,'Partie 3'!$K$3:$K$28,0))=13,AX9,AZ9),IFERROR(IF(VLOOKUP(AX9,'Partie 3'!$M$3:$Q$28,5,0)=13,AX9,AZ9),IFERROR(IF(INDEX('Partie 3'!$S$3:$S$28,MATCH(AX9,'Partie 3'!$W$3:$W$28,0))=13,AX9,AZ9),\"\"))))","v":17},21,2,74,34,"vs",42,{"$f":"IFERROR(IF(VLOOKUP(BE9,'Partie 4'!$A$3:$E$28,5,0)=13,BE9,BG9),IFERROR(IF(INDEX('Partie 4'!$G$3:$G$28,MATCH(BE9,'Partie 4'!$K$3:$K$28,0))=13,BE9,BG9),IFERROR(IF(VLOOKUP(BE9,'Partie 4'!$M$3:$Q$28,5,0)=13,BE9,BG9),IFERROR(IF(INDEX('Partie 4'!$S$3:$S$28,MATCH(BE9,'Partie 4'!$W$3:$W$28,0))=13,BE9,BG9),\"\"))))","v":34},42,2,74,68,"vs",83,{"$f":"IFERROR(IF(VLOOKUP(BL9,'Partie 4'!$A$3:$E$28,5,0)=13,BL9,BN9),IFERROR(IF(INDEX('Partie 4'!$G$3:$G$28,MATCH(BL9,'Partie 4'!$K$3:$K$28,0))=13,BL9,BN9),IFERROR(IF(VLOOKUP(BL9,'Partie 4'!$M$3:$Q$28,5,0)=13,BL9,BN9),IFERROR(IF(INDEX('Partie 4'!$S$3:$S$28,MATCH(BL9,'Partie 4'!$W$3:$W$28,0))=13,BL9,BN9),\"\"))))","v":68},83]
["C'est le n° d'équipe en J qui permet de former",null,null,null,null,null,"ST",null,"T4",4,{"$f":"J10&\"/\"&COUNTIF(J$7:J10,J10)","v":"4/1"},{"$f":"COUNTIF($J$7:J10,\">0\")","v":4},null,null,4,"T4","P4","",4,"T4","P4","",4,"T4","P4","",4,"T4","P4","",4,"T4","P4","",4,{"$f":"IF(ROW()-6<=$E$4/2,AJ9+2,\"\")","v":7},{"$f":"IF(AJ10=\"\",\"\",\"vs\")","v":"vs"},8,{"$f":"IF('Partie 1'!$E$3=\"\",\"\",IFERROR(IF(VLOOKUP(AJ10,'Partie 1'!$A$3:$E$28,5,0)=13,AJ10,AL10),IFERROR(IF(INDEX('Partie 1'!$G$3:$G$28,MATCH(AJ10,'Partie 1'!$K$3:$K$28,0))=13,AJ10,AL10),IFERROR(IF(VLOOKUP(AJ10,'Partie 1'!$M$3:$Q$28,5,0)=13,AJ10,AL10),IFERROR(IF(INDEX('Partie 1'!$S$3:$S$28,MATCH(AJ10,'Partie 1'!$W$3:$W$28,0))=13,AJ10,AL10),\"\")))))","v":7},8,{"$f":"IF(AJ10=\"\",\"\",AO9+$D$5/2)","v":50},{"$f":"IF(AO10=\"\",\"\",AP8+1)","v":26},13,{"$f":"IF(AQ10=\"\",\"\",\"vs\")","v":"vs"},15,{"$f":"IFERROR(IF(VLOOKUP(AQ10,'Partie 2'!$A$3:$E$28,5,0)=13,AQ10,AS10),IFERROR(IF(INDEX('Partie 2'!$G$3:$G$28,MATCH(AQ10,'Partie 2'!$K$3:$K$28,0))=13,AQ10,AS10),IFERROR(IF(VLOOKUP(AQ10,'Partie 2'!$M$3:$Q$28,5,0)=13,AQ10,AS10),IFERROR(IF(INDEX('Partie 2'!$S$3:$S$28,MATCH(AQ10,'Partie 2'!$W$3:$W$28,0))=13,AQ10,AS10),\"\"))))","v":13},15,50,26,25,{"$f":"IF(AX10=\"\",\"\",\"vs\")","v":"vs"},29,{"$f":"IFERROR(IF(VLOOKUP(AX10,'Partie 3'!$A$3:$E$28,5,0)=13,AX10,AZ10),IFERROR(IF(INDEX('Partie 3'!$G$3:$G$28,MATCH(AX10,'Partie 3'!$K$3:$K$28,0))=13,AX10,AZ10),IFERROR(IF(VLOOKUP(AX10,'Partie 3'!$M$3:$Q$28,5,0)=13,AX10,AZ10),IFERROR(IF(INDEX('Partie 3'!$S$3:$S$28,MATCH(AX10,'Partie 3'!$W$3:$W$28,0))=13,AX10,AZ10),\"\"))))","v":25},29,50,26,49,"vs",57,{"$f":"IFERROR(IF(VLOOKUP(BE10,'Partie 4'!$A$3:$E$28,5,0)=13,BE10,BG10),IFERROR(IF(INDEX('Partie 4'!$G$3:$G$28,MATCH(BE10,'Partie 4'!$K$3:$K$28,0))=13,BE10,BG10),IFERROR(IF(VLOOKUP(BE10,'Partie 4'!$M$3:$Q$28,5,0)=13,BE10,BG10),IFERROR(IF(INDEX('Partie 4'!$S$3:$S$28,MATCH(BE10,'Partie 4'!$W$3:$W$28,0))=13,BE10,BG10),\"\"))))","v":49},57,50,26,4,"vs",20,{"$f":"IFERROR(IF(VLOOKUP(BL10,'Partie 4'!$A$3:$E$28,5,0)=13,BL10,BN10),IFERROR(IF(INDEX('Partie 4'!$G$3:$G$28,MATCH(BL10,'Partie 4'!$K$3:$K$28,0))=13,BL10,BN10),IFERROR(IF(VLOOKUP(BL10,'Partie 4'!$M$3:$Q$28,5,0)=13,BL10,BN10),IFERROR(IF(INDEX('Partie 4'!$S$3:$S$28,MATCH(BL10,'Partie 4'!$W$3:$W$28,0))=13,BL10,BN10),\"\"))))","v":4},20]
["les équipes dans les tableaux",null,null,null,null,null,"ST",null,"T5",5,{"$f":"J11&\"/\"&COUNTIF(J$7:J11,J11)","v":"5/1"},{"$f":"COUNTIF($J$7:J11,\">0\")","v":5},null,null,5,"T5","P5","",5,"T5","P5","",5,"T5","P5","",5,"T5","P5","",5,"T5","P5","",5,9,"vs",10,{"$f":"IF('Partie 1'!$E$3=\"\",\"\",IFERROR(IF(VLOOKUP(AJ11,'Partie 1'!$A$3:$E$28,5,0)=13,AJ11,AL11),IFERROR(IF(INDEX('Partie 1'!$G$3:$G$28,MATCH(AJ11,'Partie 1'!$K$3:$K$28,0))=13,AJ11,AL11),IFERROR(IF(VLOOKUP(AJ11,'Partie 1'!$M$3:$Q$28,5,0)=13,AJ11,AL11),IFERROR(IF(INDEX('Partie 1'!$S$3:$S$28,MATCH(AJ11,'Partie 1'!$W$3:$W$28,0))=13,AJ11,AL11),\"\")))))","v":9},10,{"$f":"IF(AJ11=\"\",\"\",AO9+1)","v":3},75,17,"vs",19,{"$f":"IFERROR(IF(VLOOKUP(AQ11,'Partie 2'!$A$3:$E$28,5,0)=13,AQ11,AS11),IFERROR(IF(INDEX('Partie 2'!$G$3:$G$28,MATCH(AQ11,'Partie 2'!$K$3:$K$28,0))=13,AQ11,AS11),IFERROR(IF(VLOOKUP(AQ11,'Partie 2'!$M$3:$Q$28,5,0)=13,AQ11,AS11),IFERROR(IF(INDEX('Partie 2'!$S$3:$S$28,MATCH(AQ11,'Partie 2'!$W$3:$W$28,0))=13,AQ11,AS11),\"\"))))","v":17},19,3,75,34,"vs",37,{"$f":"IFERROR(IF(VLOOKUP(AX11,'Partie 3'!$A$3:$E$28,5,0)=13,AX11,AZ11),IFERROR(IF(INDEX('Partie 3'!$G$3:$G$28,MATCH(AX11,'Partie 3'!$K$3:$K$28,0))=13,AX11,AZ11),IFERROR(IF(VLOOKUP(AX11,'Partie 3'!$M$3:$Q$28,5,0)=13,AX11,AZ11),IFERROR(IF(INDEX('Partie 3'!$S$3:$S$28,MATCH(AX11,'Partie 3'!$W$3:$W$28,0))=13,AX11,AZ11),\"\"))))","v":34},37,3,75,68,"vs",74,{"$f":"IFERROR(IF(VLOOKUP(BE11,'Partie 4'!$A$3:$E$28,5,0)=13,BE11,BG11),IFERROR(IF(INDEX('Partie 4'!$G$3:$G$28,MATCH(BE11,'Partie 4'!$K$3:$K$28,0))=13,BE11,BG11),IFERROR(IF(VLOOKUP(BE11,'Partie 4'!$M$3:$Q$28,5,0)=13,BE11,BG11),IFERROR(IF(INDEX('Partie 4'!$S$3:$S$28,MATCH(BE11,'Partie 4'!$W$3:$W$28,0))=13,BE11,BG11),\"\"))))","v":68},74,3,75,38,"vs",50,{"$f":"IFERROR(IF(VLOOKUP(BL11,'Partie 4'!$A$3:$E$28,5,0)=13,BL11,BN11),IFERROR(IF(INDEX('Partie 4'!$G$3:$G$28,MATCH(BL11,'Partie 4'!$K$3:$K$28,0))=13,BL11,BN11),IFERROR(IF(VLOOKUP(BL11,'Partie 4'!$M$3:$Q$28,5,0)=13,BL11,BN11),IFERROR(IF(INDEX('Partie 4'!$S$3:$S$28,MATCH(BL11,'Partie 4'!$W$3:$W$28,0))=13,BL11,BN11),\"\"))))","v":38},50]
[null,null,null,null,null,null,"ST",null,"T6",6,{"$f":"J12&\"/\"&COUNTIF(J$7:J12,J12)","v":"6/1"},{"$f":"COUNTIF($J$7:J12,\">0\")","v":6},null,null,6,"T6","P6","",6,"T6","P6","",6,"T6","P6","",6,"T6","P6","",6,"T6","P6","",6,11,"vs",12,{"$f":"IF('Partie 1'!$E$3=\"\",\"\",IFERROR(IF(VLOOKUP(AJ12,'Partie 1'!$A$3:$E$28,5,0)=13,AJ12,AL12),IFERROR(IF(INDEX('Partie 1'!$G$3:$G$28,MATCH(AJ12,'Partie 1'!$K$3:$K$28,0))=13,AJ12,AL12),IFERROR(IF(VLOOKUP(AJ12,'Partie 1'!$M$3:$Q$28,5,0)=13,AJ12,AL12),IFERROR(IF(INDEX('Partie 1'!$S$3:$S$28,MATCH(AJ12,'Partie 1'!$W$3:$W$28,0))=13,AJ12,AL12),\"\")))))","v":11},12,{"$f":"IF(AJ12=\"\",\"\",AO11+$D$5/2)","v":51},27,21,"vs",23,{"$f":"IFERROR(IF(VLOOKUP(AQ12,'Partie 2'!$A$3:$E$28,5,0)=13,AQ12,AS12),IFERROR(IF(INDEX('Partie 2'!$G$3:$G$28,MATCH(AQ12,'Partie 2'!$K$3:$K$28,0))=13,AQ12,AS12),IFERROR(IF(VLOOKUP(AQ12,'Partie 2'!$M$3:$Q$28,5,0)=13,AQ12,AS12),IFERROR(IF(INDEX('Partie 2'!$S$3:$S$28,MATCH(AQ12,'Partie 2'!$W$3:$W$28,0))=13,AQ12,AS12),\"\"))))","v":21},23,51,27,42,"vs",45,{"$f":"IFERROR(IF(VLOOKUP(AX12,'Partie 3'!$A$3:$E$28,5,0)=13,AX12,AZ12),IFERROR(IF(INDEX('Partie 3'!$G$3:$G$28,MATCH(AX12,'Partie 3'!$K$3:$K$28,0))=13,AX12,AZ12),IFERROR(IF(VLOOKUP(AX12,'Partie 3'!$M$3:$Q$28,5,0)=13,AX12,AZ12),IFERROR(IF(INDEX('Partie 3'!$S$3:$S$28,MATCH(AX12,'Partie 3'!$W$3:$W$28,0))=13,AX12,AZ12),\"\"))))","v":42},45,51,27,83,"vs",89,{"$f":"IFERROR(IF(VLOOKUP(BE12,'Partie 4'!$A$3:$E$28,5,0)=13,BE12,BG12),IFERROR(IF(INDEX('Partie 4'!$G$3:$G$28,MATCH(BE12,'Partie 4'!$K$3:$K$28,0))=13,BE12,BG12),IFERROR(IF(VLOOKUP(BE12,'Partie 4'!$M$3:$Q$28,5,0)=13,BE12,BG12),IFERROR(IF(INDEX('Partie 4'!$S$3:$S$28,MATCH(BE12,'Partie 4'!$W$3:$W$28,0))=13,BE12,BG12),\"\"))))","v":83},89,51,27,72,"vs",84,{"$f":"IFERROR(IF(VLOOKUP(BL12,'Partie 4'!$A$3:$E$28,5,0)=13,BL12,BN12),IFERROR(IF(INDEX('Partie 4'!$G$3:$G$28,MATCH(BL12,'Partie 4'!$K$3:$K$28,0))=13,BL12,BN12),IFERROR(IF(VLOOKUP(BL12,'Partie 4'!$M$3:$Q$28,5,0)=13,BL12,BN12),IFERROR(IF(INDEX('Partie 4'!$S$3:$S$28,MATCH(BL12,'Partie 4'!$W$3:$W$28,0))=13,BL12,BN12),\"\"))))","v":72},84]
[null,null,null,null,null,null,"ST",null,"T7",7,{"$f":"J13&\"/\"&COUNTIF(J$7:J13,J13)","v":"7/1"},{"$f":"COUNTIF($J$7:J13,\">0\")","v":7},null,null,7,"T7","P7","",7,"T7","P7","",7,"T7","P7","",7,"T7","P7","",7,"T7","P7","",7,13,"vs",14,{"$f":"IF('Partie 1'!$E$3=\"\",\"\",IFERROR(IF(VLOOKUP(AJ13,'Partie 1'!$A$3:$E$28,5,0)=13,AJ13,AL13),IFERROR(IF(INDEX('Partie 1'!$G$3:$G$28,MATCH(AJ13,'Partie 1'!$K$3:$K$28,0))=13,AJ13,AL13),IFERROR(IF(VLOOKUP(AJ13,'Partie 1'!$M$3:$Q$28,5,0)=13,AJ13,AL13),IFERROR(IF(INDEX('Partie 1'!$S$3:$S$28,MATCH(AJ13,'Partie 1'!$W$3:$W$28,0))=13,AJ13,AL13),\"\")))))","v":13},14,{"$f":"IF(AJ13=\"\",\"\",AO11+1)","v":4},76,25,"vs",27,{"$f":"IFERROR(IF(VLOOKUP(AQ13,'Partie 2'!$A$3:$E$28,5,0)=13,AQ13,AS13),IFERROR(IF(INDEX('Partie 2'!$G$3:$G$28,MATCH(AQ13,'Partie 2'!$K$3:$K$28,0))=13,AQ13,AS13),IFERROR(IF(VLOOKUP(AQ13,'Partie 2'!$M$3:$Q$28,5,0)=13,AQ13,AS13),IFERROR(IF(INDEX('Partie 2'!$S$3:$S$28,MATCH(AQ13,'Partie 2'!$W$3:$W$28,0))=13,AQ13,AS13),\"\"))))","v":25},27,4,76,49,"vs",54,{"$f":"IFERROR(IF(VLOOKUP(AX13,'Partie 3'!$A$3:$E$28,5,0)=13,AX13,AZ13),IFERROR(IF(INDEX('Partie 3'!$G$3:$G$28,MATCH(AX13,'Partie 3'!$K$3:$K$28,0))=13,AX13,AZ13),IFERROR(IF(VLOOKUP(AX13,'Partie 3'!$M$3:$Q$28,5,0)=13,AX13,AZ13),IFERROR(IF(INDEX('Partie 3'!$S$3:$S$28,MATCH(AX13,'Partie 3'!$W$3:$W$28,0))=13,AX13,AZ13),\"\"))))","v":49},54,4,76,4,"vs",10,{"$f":"IFERROR(IF(VLOOKUP(BE13,'Partie 4'!$A$3:$E$28,5,0)=13,BE13,BG13),IFERROR(IF(INDEX('Partie 4'!$G$3:$G$28,MATCH(BE13,'Partie 4'!$K$3:$K$28,0))=13,BE13,BG13),IFERROR(IF(VLOOKUP(BE13,'Partie 4'!$M$3:$Q$28,5,0)=13,BE13,BG13),IFERROR(IF(INDEX('Partie 4'!$S$3:$S$28,MATCH(BE13,'Partie 4'!$W$3:$W$28,0))=13,BE13,BG13),\"\"))))","v":4},10,4,76,7,"vs",19,{"$f":"IFERROR(IF(VLOOKUP(BL13,'Partie 4'!$A$3:$E$28,5,0)=13,BL13,BN13),IFERROR(IF(INDEX('Partie 4'!$G$3:$G$28,MATCH(BL13,'Partie 4'!$K$3:$K$28,0))=13,BL13,BN13),IFERROR(IF(VLOOKUP(BL13,'Partie 4'!$M$3:$Q$28,5,0)=13,BL13,BN13),IFERROR(IF(INDEX('Partie 4'!$S$3:$S$28,MATCH(BL13,'Partie 4'!$W$3:$W$28,0))=13,BL13,BN13),\"\"))))","v":7},19]
[null,null,null,null,null,null,"ST",null,"T8",8,{"$f":"J14&\"/\"&COUNTIF(J$7:J14,J14)","v":"8/1"},{"$f":"COUNTIF($J$7:J14,\">0\")","v":8},null,null,8,"T8","P8","",8,"T8","P8","",8,"T8","P8","",8,"T8","P8","",8,"T8","P8","",8,15,"vs",16,{"$f":"IF('Partie 1'!$E$3=\"\",\"\",IFERROR(IF(VLOOKUP(AJ14,'Partie 1'!$A$3:$E$28,5,0)=13,AJ14,AL14),IFERROR(IF(INDEX('Partie 1'!$G$3:$G$28,MATCH(AJ14,'Partie 1'!$K$3:$K$28,0))=13,AJ14,AL14),IFERROR(IF(VLOOKUP(AJ14,'Partie 1'!$M$3:$Q$28,5,0)=13,AJ14,AL14),IFERROR(IF(INDEX('Partie 1'!$S$3:$S$28,MATCH(AJ14,'Partie 1'!$W$3:$W$28,0))=13,AJ14,AL14),\"\")))))","v":15},16,{"$f":"IF(AJ14=\"\",\"\",AO13+$D$5/2)","v":52},28,29,"vs",31,{"$f":"IFERROR(IF(VLOOKUP(AQ14,'Partie 2'!$A$3:$E$28,5,0)=13,AQ14,AS14),IFERROR(IF(INDEX('Partie 2'!$G$3:$G$28,MATCH(AQ14,'Partie 2'!$K$3:$K$28,0))=13,AQ14,AS14),IFERROR(IF(VLOOKUP(AQ14,'Partie 2'!$M$3:$Q$28,5,0)=13,AQ14,AS14),IFERROR(IF(INDEX('Partie 2'!$S$3:$S$28,MATCH(AQ14,'Partie 2'!$W$3:$W$28,0))=13,AQ14,AS14),\"\"))))","v":29},31,52,28,57,"vs",62,{"$f":"IFERROR(IF(VLOOKUP(AX14,'Partie 3'!$A$3:$E$28,5,0)=13,AX14,AZ14),IFERROR(IF(INDEX('Partie 3'!$G$3:$G$28,MATCH(AX14,'Partie 3'!$K$3:$K$28,0))=13,AX14,AZ14),IFERROR(IF(VLOOKUP(AX14,'Partie 3'!$M$3:$Q$28,5,0)=13,AX14,AZ14),IFERROR(IF(INDEX('Partie 3'!$S$3:$S$28,MATCH(AX14,'Partie 3'!$W$3:$W$28,0))=13,AX14,AZ14),\"\"))))","v":57},62,52,28,20,"vs",26,{"$f":"IFERROR(IF(VLOOKUP(BE14,'Partie 4'!$A$3:$E$28,5,0)=13,BE14,BG14),IFERROR(IF(INDEX('Partie 4'!$G$3:$G$28,MATCH(BE14,'Partie 4'!$K$3:$K$28,0))=13,BE14,BG14),IFERROR(IF(VLOOKUP(BE14,'Partie 4'!$M$3:$Q$28,5,0)=13,BE14,BG14),IFERROR(IF(INDEX('Partie 4'!$S$3:$S$28,MATCH(BE14,'Partie 4'!$W$3:$W$28,0))=13,BE14,BG14),\"\"))))","v":20},26,52,28,39,"vs",51,{"$f":"IFERROR(IF(VLOOKUP(BL14,'Partie 4'!$A$3:$E$28,5,0)=13,BL14,BN14),IFERROR(IF(INDEX('Partie 4'!$G$3:$G$28,MATCH(BL14,'Partie 4'!$K$3:$K$28,0))=13,BL14,BN14),IFERROR(IF(VLOOKUP(BL14,'Partie 4'!$M$3:$Q$28,5,0)=13,BL14,BN14),IFERROR(IF(INDEX('Partie 4'!$S$3:$S$28,MATCH(BL14,'Partie 4'!$W$3:$W$28,0))=13,BL14,BN14),\"\"))))","v":39},51]
[null,null,null,null,null,null,"ST",null,"T9",9,{"$f":"J15&\"/\"&COUNTIF(J$7:J15,J15)","v":"9/1"},{"$f":"COUNTIF($J$7:J15,\">0\")","v":9},null,null,9,"T9","P9","",9,"T9","P9","",9,"T9","P9","",9,"T9","P9","",9,"T9","P9","",9,17,"vs",18,{"$f":"IF('Partie 1'!$E$3=\"\",\"\",IFERROR(IF(VLOOKUP(AJ15,'Partie 1'!$A$3:$E$28,5,0)=13,AJ15,AL15),IFERROR(IF(INDEX('Partie 1'!$G$3:$G$28,MATCH(AJ15,'Partie 1'!$K$3:$K$28,0))=13,AJ15,AL15),IFERROR(IF(VLOOKUP(AJ15,'Partie 1'!$M$3:$Q$28,5,0)=13,AJ15,AL15),IFERROR(IF(INDEX('Partie 1'!$S$3:$S$28,MATCH(AJ15,'Partie 1'!$W$3:$W$28,0))=13,AJ15,AL15),\"\")))))","v":17},18,{"$f":"IF(AJ15=\"\",\"\",AO13+1)","v":5},77,34,"vs",36,{"$f":"IFERROR(IF(VLOOKUP(AQ15,'Partie 2'!$A$3:$E$28,5,0)=13,AQ15,AS15),IFERROR(IF(INDEX('Partie 2'!$G$3:$G$28,MATCH(AQ15,'Partie 2'!$K$3:$K$28,0))=13,AQ15,AS15),IFERROR(IF(VLOOKUP(AQ15,'Partie 2'!$M$3:$Q$28,5,0)=13,AQ15,AS15),IFERROR(IF(INDEX('Partie 2'!$S$3:$S$28,MATCH(AQ15,'Partie 2'!$W$3:$W$28,0))=13,AQ15,AS15),\"\"))))","v":34},36,5,77,68,"vs",71,{"$f":"IFERROR(IF(VLOOKUP(AX15,'Partie 3'!$A$3:$E$28,5,0)=13,AX15,AZ15),IFERROR(IF(INDEX('Partie 3'!$G$3:$G$28,MATCH(AX15,'Partie 3'!$K$3:$K$28,0))=13,AX15,AZ15),IFERROR(IF(VLOOKUP(AX15,'Partie 3'!$M$3:$Q$28,5,0)=13,AX15,AZ15),IFERROR(IF(INDEX('Partie 3'!$S$3:$S$28,MATCH(AX15,'Partie 3'!$W$3:$W$28,0))=13,AX15,AZ15),\"\"))))","v":68},71,5,77,38,"vs",47,{"$f":"IFERROR(IF(VLOOKUP(BE15,'Partie 4'!$A$3:$E$28,5,0)=13,BE15,BG15),IFERROR(IF(INDEX('Partie 4'!$G$3:$G$28,MATCH(BE15,'Partie 4'!$K$3:$K$28,0))=13,BE15,BG15),IFERROR(IF(VLOOKUP(BE15,'Partie 4'!$M$3:$Q$28,5,0)=13,BE15,BG15),IFERROR(IF(INDEX('Partie 4'!$S$3:$S$28,MATCH(BE15,'Partie 4'!$W$3:$W$28,0))=13,BE15,BG15),\"\"))))","v":38},47,5,77,76,"vs",94,{"$f":"IFERROR(IF(VLOOKUP(BL15,'Partie 4'!$A$3:$E$28,5,0)=13,BL15,BN15),IFERROR(IF(INDEX('Partie 4'!$G$3:$G$28,MATCH(BL15,'Partie 4'!$K$3:$K$28,0))=13,BL15,BN15),IFERROR(IF(VLOOKUP(BL15,'Partie 4'!$M$3:$Q$28,5,0)=13,BL15,BN15),IFERROR(IF(INDEX('Partie 4'!$S$3:$S$28,MATCH(BL15,'Partie 4'!$W$3:$W$28,0))=13,BL15,BN15),\"\"))))","v":76},94]
[null,null,null,null,null,null,"ST",null,"T10",10,{"$f":"J16&\"/\"&COUNTIF(J$7:J16,J16)","v":"10/1"},{"$f":"COUNTIF($J$7:J16,\">0\")","v":10},null,null,10,"T10","P10","",10,"T10","P10","",10,"T10","P10","",10,"T10","P10","",10,"T10","P10","",10,19,"vs",20,{"$f":"IF('Partie 1'!$E$3=\"\",\"\",IFERROR(IF(VLOOKUP(AJ16,'Partie 1'!$A$3:$E$28,5,0)=13,AJ16,AL16),IFERROR(IF(INDEX('Partie 1'!$G$3:$G$28,MATCH(AJ16,'Partie 1'!$K$3:$K$28,0))=13,AJ16,AL16),IFERROR(IF(VLOOKUP(AJ16,'Partie 1'!$M$3:$Q$28,5,0)=13,AJ16,AL16),IFERROR(IF(INDEX('Partie 1'!$S$3:$S$28,MATCH(AJ16,'Partie 1'!$W$3:$W$28,0))=13,AJ16,AL16),\"\")))))","v":19},20,{"$f":"IF(AJ16=\"\",\"\",AO15+$D$5/2)","v":53},29,37,"vs",39,{"$f":"IFERROR(IF(VLOOKUP(AQ16,'Partie 2'!$A$3:$E$28,5,0)=13,AQ16,AS16),IFERROR(IF(INDEX('Partie 2'!$G$3:$G$28,MATCH(AQ16,'Partie 2'!$K$3:$K$28,0))=13,AQ16,AS16),IFERROR(IF(VLOOKUP(AQ16,'Partie 2'!$M$3:$Q$28,5,0)=13,AQ16,AS16),IFERROR(IF(INDEX('Partie 2'!$S$3:$S$28,MATCH(AQ16,'Partie 2'!$W$3:$W$28,0))=13,AQ16,AS16),\"\"))))","v":37},39,53,29,74,"vs",77,{"$f":"IFERROR(IF(VLOOKUP(AX16,'Partie 3'!$A$3:$E$28,5,0)=13,AX16,AZ16),IFERROR(IF(INDEX('Partie 3'!$G$3:$G$28,MATCH(AX16,'Partie 3'!$K$3:$K$28,0))=13,AX16,AZ16),IFERROR(IF(VLOOKUP(AX16,'Partie 3'!$M$3:$Q$28,5,0)=13,AX16,AZ16),IFERROR(IF(INDEX('Partie 3'!$S$3:$S$28,MATCH(AX16,'Partie 3'!$W$3:$W$28,0))=13,AX16,AZ16),\"\"))))","v":74},77,53,29,50,"vs",60,{"$f":"IFERROR(IF(VLOOKUP(BE16,'Partie 4'!$A$3:$E$28,5,0)=13,BE16,BG16),IFERROR(IF(INDEX('Partie 4'!$G$3:$G$28,MATCH(BE16,'Partie 4'!$K$3:$K$28,0))=13,BE16,BG16),IFERROR(IF(VLOOKUP(BE16,'Partie 4'!$M$3:$Q$28,5,0)=13,BE16,BG16),IFERROR(IF(INDEX('Partie 4'!$S$3:$S$28,MATCH(BE16,'Partie 4'!$W$3:$W$28,0))=13,BE16,BG16),\"\"))))","v":50},60,53,29,2,"vs",22,{"$f":"IFERROR(IF(VLOOKUP(BL16,'Partie 4'!$A$3:$E$28,5,0)=13,BL16,BN16),IFERROR(IF(INDEX('Partie 4'!$G$3:$G$28,MATCH(BL16,'Partie 4'!$K$3:$K$28,0))=13,BL16,BN16),IFERROR(IF(VLOOKUP(BL16,'Partie 4'!$M$3:$Q$28,5,0)=13,BL16,BN16),IFERROR(IF(INDEX('Partie 4'!$S$3:$S$28,MATCH(BL16,'Partie 4'!$W$3:$W$28,0))=13,BL16,BN16),\"\"))))","v":2},22]
[null,null,null,null,null,null,"ST",null,"T11",11,{"$f":"J17&\"/\"&COUNTIF(J$7:J17,J17)","v":"11/1"},{"$f":"COUNTIF($J$7:J17,\">0\")","v":11},null,null,11,"T11","P11","",11,"T11","P11","",11,"T11","P11","",11,"T11","P11","",11,"T11","P11","",11,21,"vs",22,{"$f":"IF('Partie 1'!$E$3=\"\",\"\",IFERROR(IF(VLOOKUP(AJ17,'Partie 1'!$A$3:$E$28,5,0)=13,AJ17,AL17),IFERROR(IF(INDEX('Partie 1'!$G$3:$G$28,MATCH(AJ17,'Partie 1'!$K$3:$K$28,0))=13,AJ17,AL17),IFERROR(IF(VLOOKUP(AJ17,'Partie 1'!$M$3:$Q$28,5,0)=13,AJ17,AL17),IFERROR(IF(INDEX('Partie 1'!$S$3:$S$28,MATCH(AJ17,'Partie 1'!$W$3:$W$28,0))=13,AJ17,AL17),\"\")))))","v":21},22,{"$f":"IF(AJ17=\"\",\"\",AO15+1)","v":6},78,{"$f":"IF(AM17=\"\",\"\",IFERROR(INDEX(AM:AM,MATCH(ROW()-6,AO:AO,0)),INDEX(AN:AN,MATCH(ROW()-6,AP:AP,0))))","v":42},"vs",44,{"$f":"IFERROR(IF(VLOOKUP(AQ17,'Partie 2'!$A$3:$E$28,5,0)=13,AQ17,AS17),IFERROR(IF(INDEX('Partie 2'!$G$3:$G$28,MATCH(AQ17,'Partie 2'!$K$3:$K$28,0))=13,AQ17,AS17),IFERROR(IF(VLOOKUP(AQ17,'Partie 2'!$M$3:$Q$28,5,0)=13,AQ17,AS17),IFERROR(IF(INDEX('Partie 2'!$S$3:$S$28,MATCH(AQ17,'Partie 2'!$W$3:$W$28,0))=13,AQ17,AS17),\"\"))))","v":42},44,6,78,83,"vs",88,{"$f":"IFERROR(IF(VLOOKUP(AX17,'Partie 3'!$A$3:$E$28,5,0)=13,AX17,AZ17),IFERROR(IF(INDEX('Partie 3'!$G$3:$G$28,MATCH(AX17,'Partie 3'!$K$3:$K$28,0))=13,AX17,AZ17),IFERROR(IF(VLOOKUP(AX17,'Partie 3'!$M$3:$Q$28,5,0)=13,AX17,AZ17),IFERROR(IF(INDEX('Partie 3'!$S$3:$S$28,MATCH(AX17,'Partie 3'!$W$3:$W$28,0))=13,AX17,AZ17),\"\"))))","v":83},88,6,78,72,"vs",78,{"$f":"IFERROR(IF(VLOOKUP(BE17,'Partie 4'!$A$3:$E$28,5,0)=13,BE17,BG17),IFERROR(IF(INDEX('Partie 4'!$G$3:$G$28,MATCH(BE17,'Partie 4'!$K$3:$K$28,0))=13,BE17,BG17),IFERROR(IF(VLOOKUP(BE17,'Partie 4'!$M$3:$Q$28,5,0)=13,BE17,BG17),IFERROR(IF(INDEX('Partie 4'!$S$3:$S$28,MATCH(BE17,'Partie 4'!$W$3:$W$28,0))=13,BE17,BG17),\"\"))))","v":72},78,6,78,46,"vs",58,{"$f":"IFERROR(IF(VLOOKUP(BL17,'Partie 4'!$A$3:$E$28,5,0)=13,BL17,BN17),IFERROR(IF(INDEX('Partie 4'!$G$3:$G$28,MATCH(BL17,'Partie 4'!$K$3:$K$28,0))=13,BL17,BN17),IFERROR(IF(VLOOKUP(BL17,'Partie 4'!$M$3:$Q$28,5,0)=13,BL17,BN17),IFERROR(IF(INDEX('Partie 4'!$S$3:$S$28,MATCH(BL17,'Partie 4'!$W$3:$W$28,0))=13,BL17,BN17),\"\"))))","v":46},58]
[null,null,null,null,null,null,"ST",null,"T12",12,{"$f":"J18&\"/\"&COUNTIF(J$7:J18,J18)","v":"12/1"},{"$f":"COUNTIF($J$7:J18,\">0\")","v":12},null,null,12,"T12","P12","",12,"T12","P12","",12,"T12","P12","",12,"T12","P12","",12,"T12","P12","",12,23,"vs",24,{"$f":"IF('Partie 1'!$E$3=\"\",\"\",IFERROR(IF(VLOOKUP(AJ18,'Partie 1'!$A$3:$E$28,5,0)=13,AJ18,AL18),IFERROR(IF(INDEX('Partie 1'!$G$3:$G$28,MATCH(AJ18,'Partie 1'!$K$3:$K$28,0))=13,AJ18,AL18),IFERROR(IF(VLOOKUP(AJ18,'Partie 1'!$M$3:$Q$28,5,0)=13,AJ18,AL18),IFERROR(IF(INDEX('Partie 1'!$S$3:$S$28,MATCH(AJ18,'Partie 1'!$W$3:$W$28,0))=13,AJ18,AL18),\"\")))))","v":23},24,{"$f":"IF(AJ18=\"\",\"\",AO17+$D$5/2)","v":54},30,45,"vs",48,{"$f":"IFERROR(IF(VLOOKUP(AQ18,'Partie 2'!$A$3:$E$28,5,0)=13,AQ18,AS18),IFERROR(IF(INDEX('Partie 2'!$G$3:$G$28,MATCH(AQ18,'Partie 2'!$K$3:$K$28,0))=13,AQ18,AS18),IFERROR(IF(VLOOKUP(AQ18,'Partie 2'!$M$3:$Q$28,5,0)=13,AQ18,AS18),IFERROR(IF(INDEX('Partie 2'!$S$3:$S$28,MATCH(AQ18,'Partie 2'!$W$3:$W$28,0))=13,AQ18,AS18),\"\"))))","v":45},48,54,30,89,"vs",95,{"$f":"IFERROR(IF(VLOOKUP(AX18,'Partie 3'!$A$3:$E$28,5,0)=13,AX18,AZ18),IFERROR(IF(INDEX('Partie 3'!$G$3:$G$28,MATCH(AX18,'Partie 3'!$K$3:$K$28,0))=13,AX18,AZ18),IFERROR(IF(VLOOKUP(AX18,'Partie 3'!$M$3:$Q$28,5,0)=13,AX18,AZ18),IFERROR(IF(INDEX('Partie 3'!$S$3:$S$28,MATCH(AX18,'Partie 3'!$W$3:$W$28,0))=13,AX18,AZ18),\"\"))))","v":89},95,54,30,84,"vs",96,{"$f":"IFERROR(IF(VLOOKUP(BE18,'Partie 4'!$A$3:$E$28,5,0)=13,BE18,BG18),IFERROR(IF(INDEX('Partie 4'!$G$3:$G$28,MATCH(BE18,'Partie 4'!$K$3:$K$28,0))=13,BE18,BG18),IFERROR(IF(VLOOKUP(BE18,'Partie 4'!$M$3:$Q$28,5,0)=13,BE18,BG18),IFERROR(IF(INDEX('Partie 4'!$S$3:$S$28,MATCH(BE18,'Partie 4'!$W$3:$W$28,0))=13,BE18,BG18),\"\"))))","v":84},96,54,30,70,"vs",93,{"$f":"IFERROR(IF(VLOOKUP(BL18,'Partie 4'!$A$3:$E$28,5,0)=13,BL18,BN18),IFERROR(IF(INDEX('Partie 4'!$G$3:$G$28,MATCH(BL18,'Partie 4'!$K$3:$K$28,0))=13,BL18,BN18),IFERROR(IF(VLOOKUP(BL18,'Partie 4'!$M$3:$Q$28,5,0)=13,BL18,BN18),IFERROR(IF(INDEX('Partie 4'!$S$3:$S$28,MATCH(BL18,'Partie 4'!$W$3:$W$28,0))=13,BL18,BN18),\"\"))))","v":70},93]
[null,null,null,null,null,null,"ST",null,"T13",13,{"$f":"J19&\"/\"&COUNTIF(J$7:J19,J19)","v":"13/1"},{"$f":"COUNTIF($J$7:J19,\">0\")","v":13},null,null,13,"T13","P13","",13,"T13","P13","",13,"T13","P13","",13,"T13","P13","",13,"T13","P13","",13,25,"vs",26,{"$f":"IF('Partie 1'!$E$3=\"\",\"\",IFERROR(IF(VLOOKUP(AJ19,'Partie 1'!$A$3:$E$28,5,0)=13,AJ19,AL19),IFERROR(IF(INDEX('Partie 1'!$G$3:$G$28,MATCH(AJ19,'Partie 1'!$K$3:$K$28,0))=13,AJ19,AL19),IFERROR(IF(VLOOKUP(AJ19,'Partie 1'!$M$3:$Q$28,5,0)=13,AJ19,AL19),IFERROR(IF(INDEX('Partie 1'!$S$3:$S$28,MATCH(AJ19,'Partie 1'!$W$3:$W$28,0))=13,AJ19,AL19),\"\")))))","v":25},26,{"$f":"IF(AJ19=\"\",\"\",AO17+1)","v":7},79,49,"vs",51,{"$f":"IFERROR(IF(VLOOKUP(AQ19,'Partie 2'!$A$3:$E$28,5,0)=13,AQ19,AS19),IFERROR(IF(INDEX('Partie 2'!$G$3:$G$28,MATCH(AQ19,'Partie 2'!$K$3:$K$28,0))=13,AQ19,AS19),IFERROR(IF(VLOOKUP(AQ19,'Partie 2'!$M$3:$Q$28,5,0)=13,AQ19,AS19),IFERROR(IF(INDEX('Partie 2'!$S$3:$S$28,MATCH(AQ19,'Partie 2'!$W$3:$W$28,0))=13,AQ19,AS19),\"\"))))","v":49},51,7,79,4,"vs",8,{"$f":"IFERROR(IF(VLOOKUP(AX19,'Partie 3'!$A$3:$E$28,5,0)=13,AX19,AZ19),IFERROR(IF(INDEX('Partie 3'!$G$3:$G$28,MATCH(AX19,'Partie 3'!$K$3:$K$28,0))=13,AX19,AZ19),IFERROR(IF(VLOOKUP(AX19,'Partie 3'!$M$3:$Q$28,5,0)=13,AX19,AZ19),IFERROR(IF(INDEX('Partie 3'!$S$3:$S$28,MATCH(AX19,'Partie 3'!$W$3:$W$28,0))=13,AX19,AZ19),\"\"))))","v":4},8,7,79,7,"vs",15,{"$f":"IFERROR(IF(VLOOKUP(BE19,'Partie 4'!$A$3:$E$28,5,0)=13,BE19,BG19),IFERROR(IF(INDEX('Partie 4'!$G$3:$G$28,MATCH(BE19,'Partie 4'!$K$3:$K$28,0))=13,BE19,BG19),IFERROR(IF(VLOOKUP(BE19,'Partie 4'!$M$3:$Q$28,5,0)=13,BE19,BG19),IFERROR(IF(INDEX('Partie 4'!$S$3:$S$28,MATCH(BE19,'Partie 4'!$W$3:$W$28,0))=13,BE19,BG19),\"\"))))","v":7},15,7,79,13,"vs",29,{"$f":"IFERROR(IF(VLOOKUP(BL19,'Partie 4'!$A$3:$E$28,5,0)=13,BL19,BN19),IFERROR(IF(INDEX('Partie 4'!$G$3:$G$28,MATCH(BL19,'Partie 4'!$K$3:$K$28,0))=13,BL19,BN19),IFERROR(IF(VLOOKUP(BL19,'Partie 4'!$M$3:$Q$28,5,0)=13,BL19,BN19),IFERROR(IF(INDEX('Partie 4'!$S$3:$S$28,MATCH(BL19,'Partie 4'!$W$3:$W$28,0))=13,BL19,BN19),\"\"))))","v":13},29]
[null,null,null,null,null,null,"ST",null,"T14",14,{"$f":"J20&\"/\"&COUNTIF(J$7:J20,J20)","v":"14/1"},{"$f":"COUNTIF($J$7:J20,\">0\")","v":14},null,null,14,"T14","P14","",14,"T14","P14","",14,"T14","P14","",14,"T14","P14","",14,"T14","P14","",14,27,"vs",28,{"$f":"IF('Partie 1'!$E$3=\"\",\"\",IFERROR(IF(VLOOKUP(AJ20,'Partie 1'!$A$3:$E$28,5,0)=13,AJ20,AL20),IFERROR(IF(INDEX('Partie 1'!$G$3:$G$28,MATCH(AJ20,'Partie 1'!$K$3:$K$28,0))=13,AJ20,AL20),IFERROR(IF(VLOOKUP(AJ20,'Partie 1'!$M$3:$Q$28,5,0)=13,AJ20,AL20),IFERROR(IF(INDEX('Partie 1'!$S$3:$S$28,MATCH(AJ20,'Partie 1'!$W$3:$W$28,0))=13,AJ20,AL20),\"\")))))","v":27},28,{"$f":"IF(AJ20=\"\",\"\",AO19+$D$5/2)","v":55},31,54,"vs",56,{"$f":"IFERROR(IF(VLOOKUP(AQ20,'Partie 2'!$A$3:$E$28,5,0)=13,AQ20,AS20),IFERROR(IF(INDEX('Partie 2'!$G$3:$G$28,MATCH(AQ20,'Partie 2'!$K$3:$K$28,0))=13,AQ20,AS20),IFERROR(IF(VLOOKUP(AQ20,'Partie 2'!$M$3:$Q$28,5,0)=13,AQ20,AS20),IFERROR(IF(INDEX('Partie 2'!$S$3:$S$28,MATCH(AQ20,'Partie 2'!$W$3:$W$28,0))=13,AQ20,AS20),\"\"))))","v":54},56,55,31,10,"vs",14,{"$f":"IFERROR(IF(VLOOKUP(AX20,'Partie 3'!$A$3:$E$28,5,0)=13,AX20,AZ20),IFERROR(IF(INDEX('Partie 3'!$G$3:$G$28,MATCH(AX20,'Partie 3'!$K$3:$K$28,0))=13,AX20,AZ20),IFERROR(IF(VLOOKUP(AX20,'Partie 3'!$M$3:$Q$28,5,0)=13,AX20,AZ20),IFERROR(IF(INDEX('Partie 3'!$S$3:$S$28,MATCH(AX20,'Partie 3'!$W$3:$W$28,0))=13,AX20,AZ20),\"\"))))","v":10},14,55,31,19,"vs",27,{"$f":"IFERROR(IF(VLOOKUP(BE20,'Partie 4'!$A$3:$E$28,5,0)=13,BE20,BG20),IFERROR(IF(INDEX('Partie 4'!$G$3:$G$28,MATCH(BE20,'Partie 4'!$K$3:$K$28,0))=13,BE20,BG20),IFERROR(IF(VLOOKUP(BE20,'Partie 4'!$M$3:$Q$28,5,0)=13,BE20,BG20),IFERROR(IF(INDEX('Partie 4'!$S$3:$S$28,MATCH(BE20,'Partie 4'!$W$3:$W$28,0))=13,BE20,BG20),\"\"))))","v":19},27,55,31,37,"vs",54,{"$f":"IFERROR(IF(VLOOKUP(BL20,'Partie 4'!$A$3:$E$28,5,0)=13,BL20,BN20),IFERROR(IF(INDEX('Partie 4'!$G$3:$G$28,MATCH(BL20,'Partie 4'!$K$3:$K$28,0))=13,BL20,BN20),IFERROR(IF(VLOOKUP(BL20,'Partie 4'!$M$3:$Q$28,5,0)=13,BL20,BN20),IFERROR(IF(INDEX('Partie 4'!$S$3:$S$28,MATCH(BL20,'Partie 4'!$W$3:$W$28,0))=13,BL20,BN20),\"\"))))","v":37},54]
[null,null,null,null,null,null,"ST",null,"T15",15,{"$f":"J21&\"/\"&COUNTIF(J$7:J21,J21)","v":"15/1"},{"$f":"COUNTIF($J$7:J21,\">0\")","v":15},null,null,15,"T15","P15","",15,"T15","P15","",15,"T15","P15","",15,"T15","P15","",15,"T15","P15","",15,29,"vs",30,{"$f":"IF('Partie 1'!$E$3=\"\",\"\",IFERROR(IF(VLOOKUP(AJ21,'Partie 1'!$A$3:$E$28,5,0)=13,AJ21,AL21),IFERROR(IF(INDEX('Partie 1'!$G$3:$G$28,MATCH(AJ21,'Partie 1'!$K$3:$K$28,0))=13,AJ21,AL21),IFERROR(IF(VLOOKUP(AJ21,'Partie 1'!$M$3:$Q$28,5,0)=13,AJ21,AL21),IFERROR(IF(INDEX('Partie 1'!$S$3:$S$28,MATCH(AJ21,'Partie 1'!$W$3:$W$28,0))=13,AJ21,AL21),\"\")))))","v":29},30,{"$f":"IF(AJ21=\"\",\"\",AO19+1)","v":8},80,57,"vs",59,{"$f":"IFERROR(IF(VLOOKUP(AQ21,'Partie 2'!$A$3:$E$28,5,0)=13,AQ21,AS21),IFERROR(IF(INDEX('Partie 2'!$G$3:$G$28,MATCH(AQ21,'Partie 2'!$K$3:$K$28,0))=13,AQ21,AS21),IFERROR(IF(VLOOKUP(AQ21,'Partie 2'!$M$3:$Q$28,5,0)=13,AQ21,AS21),IFERROR(IF(INDEX('Partie 2'!$S$3:$S$28,MATCH(AQ21,'Partie 2'!$W$3:$W$28,0))=13,AQ21,AS21),\"\"))))","v":57},59,8,80,20,"vs",24,{"$f":"IFERROR(IF(VLOOKUP(AX21,'Partie 3'!$A$3:$E$28,5,0)=13,AX21,AZ21),IFERROR(IF(INDEX('Partie 3'!$G$3:$G$28,MATCH(AX21,'Partie 3'!$K$3:$K$28,0))=13,AX21,AZ21),IFERROR(IF(VLOOKUP(AX21,'Partie 3'!$M$3:$Q$28,5,0)=13,AX21,AZ21),IFERROR(IF(INDEX('Partie 3'!$S$3:$S$28,MATCH(AX21,'Partie 3'!$W$3:$W$28,0))=13,AX21,AZ21),\"\"))))","v":20},24,8,80,39,"vs",48,{"$f":"IFERROR(IF(VLOOKUP(BE21,'Partie 4'!$A$3:$E$28,5,0)=13,BE21,BG21),IFERROR(IF(INDEX('Partie 4'!$G$3:$G$28,MATCH(BE21,'Partie 4'!$K$3:$K$28,0))=13,BE21,BG21),IFERROR(IF(VLOOKUP(BE21,'Partie 4'!$M$3:$Q$28,5,0)=13,BE21,BG21),IFERROR(IF(INDEX('Partie 4'!$S$3:$S$28,MATCH(BE21,'Partie 4'!$W$3:$W$28,0))=13,BE21,BG21),\"\"))))","v":39},48,8,80,77,"vs",95,{"$f":"IFERROR(IF(VLOOKUP(BL21,'Partie 4'!$A$3:$E$28,5,0)=13,BL21,BN21),IFERROR(IF(INDEX('Partie 4'!$G$3:$G$28,MATCH(BL21,'Partie 4'!$K$3:$K$28,0))=13,BL21,BN21),IFERROR(IF(VLOOKUP(BL21,'Partie 4'!$M$3:$Q$28,5,0)=13,BL21,BN21),IFERROR(IF(INDEX('Partie 4'!$S$3:$S$28,MATCH(BL21,'Partie 4'!$W$3:$W$28,0))=13,BL21,BN21),\"\"))))","v":77},95]
[null,null,null,null,null,null,"ST",null,"T16",16,{"$f":"J22&\"/\"&COUNTIF(J$7:J22,J22)","v":"16/1"},{"$f":"COUNTIF($J$7:J22,\">0\")","v":16},null,null,16,"T16","P16","",16,"T16","P16","",16,"T16","P16","",16,"T16","P16","",16,"T16","P16","",16,31,"vs",32,{"$f":"IF('Partie 1'!$E$3=\"\",\"\",IFERROR(IF(VLOOKUP(AJ22,'Partie 1'!$A$3:$E$28,5,0)=13,AJ22,AL22),IFERROR(IF(INDEX('Partie 1'!$G$3:$G$28,MATCH(AJ22,'Partie 1'!$K$3:$K$28,0))=13,AJ22,AL22),IFERROR(IF(VLOOKUP(AJ22,'Partie 1'!$M$3:$Q$28,5,0)=13,AJ22,AL22),IFERROR(IF(INDEX('Partie 1'!$S$3:$S$28,MATCH(AJ22,'Partie 1'!$W$3:$W$28,0))=13,AJ22,AL22),\"\")))))","v":31},32,{"$f":"IF(AJ22=\"\",\"\",AO21+$D$5/2)","v":56},32,62,"vs",63,{"$f":"IFERROR(IF(VLOOKUP(AQ22,'Partie 2'!$A$3:$E$28,5,0)=13,AQ22,AS22),IFERROR(IF(INDEX('Partie 2'!$G$3:$G$28,MATCH(AQ22,'Partie 2'!$K$3:$K$28,0))=13,AQ22,AS22),IFERROR(IF(VLOOKUP(AQ22,'Partie 2'!$M$3:$Q$28,5,0)=13,AQ22,AS22),IFERROR(IF(INDEX('Partie 2'!$S$3:$S$28,MATCH(AQ22,'Partie 2'!$W$3:$W$28,0))=13,AQ22,AS22),\"\"))))","v":62},63,56,32,26,"vs",32,{"$f":"IFERROR(IF(VLOOKUP(AX22,'Partie 3'!$A$3:$E$28,5,0)=13,AX22,AZ22),IFERROR(IF(INDEX('Partie 3'!$G$3:$G$28,MATCH(AX22,'Partie 3'!$K$3:$K$28,0))=13,AX22,AZ22),IFERROR(IF(VLOOKUP(AX22,'Partie 3'!$M$3:$Q$28,5,0)=13,AX22,AZ22),IFERROR(IF(INDEX('Partie 3'!$S$3:$S$28,MATCH(AX22,'Partie 3'!$W$3:$W$28,0))=13,AX22,AZ22),\"\"))))","v":26},32,56,32,51,"vs",63,{"$f":"IFERROR(IF(VLOOKUP(BE22,'Partie 4'!$A$3:$E$28,5,0)=13,BE22,BG22),IFERROR(IF(INDEX('Partie 4'!$G$3:$G$28,MATCH(BE22,'Partie 4'!$K$3:$K$28,0))=13,BE22,BG22),IFERROR(IF(VLOOKUP(BE22,'Partie 4'!$M$3:$Q$28,5,0)=13,BE22,BG22),IFERROR(IF(INDEX('Partie 4'!$S$3:$S$28,MATCH(BE22,'Partie 4'!$W$3:$W$28,0))=13,BE22,BG22),\"\"))))","v":51},63,56,32,8,"vs",32,{"$f":"IFERROR(IF(VLOOKUP(BL22,'Partie 4'!$A$3:$E$28,5,0)=13,BL22,BN22),IFERROR(IF(INDEX('Partie 4'!$G$3:$G$28,MATCH(BL22,'Partie 4'!$K$3:$K$28,0))=13,BL22,BN22),IFERROR(IF(VLOOKUP(BL22,'Partie 4'!$M$3:$Q$28,5,0)=13,BL22,BN22),IFERROR(IF(INDEX('Partie 4'!$S$3:$S$28,MATCH(BL22,'Partie 4'!$W$3:$W$28,0))=13,BL22,BN22),\"\"))))","v":8},32]
[null,null,null,null,null,null,"E",null,"T17",17,{"$f":"J23&\"/\"&COUNTIF(J$7:J23,J23)","v":"17/1"},{"$f":"COUNTIF($J$7:J23,\">0\")","v":17},null,null,17,"T17","P17","",17,"T17","P17","",17,"T17","P17","",17,"T17","P17","",17,"T17","P17","",17,33,"vs",34,{"$f":"IF('Partie 1'!$E$3=\"\",\"\",IFERROR(IF(VLOOKUP(AJ23,'Partie 1'!$A$3:$E$28,5,0)=13,AJ23,AL23),IFERROR(IF(INDEX('Partie 1'!$G$3:$G$28,MATCH(AJ23,'Partie 1'!$K$3:$K$28,0))=13,AJ23,AL23),IFERROR(IF(VLOOKUP(AJ23,'Partie 1'!$M$3:$Q$28,5,0)=13,AJ23,AL23),IFERROR(IF(INDEX('Partie 1'!$S$3:$S$28,MATCH(AJ23,'Partie 1'!$W$3:$W$28,0))=13,AJ23,AL23),\"\")))))","v":34},33,{"$f":"IF(AJ23=\"\",\"\",AO21+1)","v":9},81,66,"vs",68,{"$f":"IFERROR(IF(VLOOKUP(AQ23,'Partie 2'!$A$3:$E$28,5,0)=13,AQ23,AS23),IFERROR(IF(INDEX('Partie 2'!$G$3:$G$28,MATCH(AQ23,'Partie 2'!$K$3:$K$28,0))=13,AQ23,AS23),IFERROR(IF(VLOOKUP(AQ23,'Partie 2'!$M$3:$Q$28,5,0)=13,AQ23,AS23),IFERROR(IF(INDEX('Partie 2'!$S$3:$S$28,MATCH(AQ23,'Partie 2'!$W$3:$W$28,0))=13,AQ23,AS23),\"\"))))","v":68},66,9,81,33,"vs",38,{"$f":"IFERROR(IF(VLOOKUP(AX23,'Partie 3'!$A$3:$E$28,5,0)=13,AX23,AZ23),IFERROR(IF(INDEX('Partie 3'!$G$3:$G$28,MATCH(AX23,'Partie 3'!$K$3:$K$28,0))=13,AX23,AZ23),IFERROR(IF(VLOOKUP(AX23,'Partie 3'!$M$3:$Q$28,5,0)=13,AX23,AZ23),IFERROR(IF(INDEX('Partie 3'!$S$3:$S$28,MATCH(AX23,'Partie 3'!$W$3:$W$28,0))=13,AX23,AZ23),\"\"))))","v":38},33,9,81,66,"vs",76,{"$f":"IFERROR(IF(VLOOKUP(BE23,'Partie 4'!$A$3:$E$28,5,0)=13,BE23,BG23),IFERROR(IF(INDEX('Partie 4'!$G$3:$G$28,MATCH(BE23,'Partie 4'!$K$3:$K$28,0))=13,BE23,BG23),IFERROR(IF(VLOOKUP(BE23,'Partie 4'!$M$3:$Q$28,5,0)=13,BE23,BG23),IFERROR(IF(INDEX('Partie 4'!$S$3:$S$28,MATCH(BE23,'Partie 4'!$W$3:$W$28,0))=13,BE23,BG23),\"\"))))","v":76},66,9,81,33,"vs",53,{"$f":"IFERROR(IF(VLOOKUP(BL23,'Partie 4'!$A$3:$E$28,5,0)=13,BL23,BN23),IFERROR(IF(INDEX('Partie 4'!$G$3:$G$28,MATCH(BL23,'Partie 4'!$K$3:$K$28,0))=13,BL23,BN23),IFERROR(IF(VLOOKUP(BL23,'Partie 4'!$M$3:$Q$28,5,0)=13,BL23,BN23),IFERROR(IF(INDEX('Partie 4'!$S$3:$S$28,MATCH(BL23,'Partie 4'!$W$3:$W$28,0))=13,BL23,BN23),\"\"))))","v":33},53]
[null,null,null,null,null,null,"E",null,"T18",18,{"$f":"J24&\"/\"&COUNTIF(J$7:J24,J24)","v":"18/1"},{"$f":"COUNTIF($J$7:J24,\">0\")","v":18},null,null,18,"T18","P18","",18,"T18","P18","",18,"T18","P18","",18,"T18","P18","",18,"T18","P18","",18,35,"vs",36,{"$f":"IF('Partie 1'!$E$3=\"\",\"\",IFERROR(IF(VLOOKUP(AJ24,'Partie 1'!$A$3:$E$28,5,0)=13,AJ24,AL24),IFERROR(IF(INDEX('Partie 1'!$G$3:$G$28,MATCH(AJ24,'Partie 1'!$K$3:$K$28,0))=13,AJ24,AL24),IFERROR(IF(VLOOKUP(AJ24,'Partie 1'!$M$3:$Q$28,5,0)=13,AJ24,AL24),IFERROR(IF(INDEX('Partie 1'!$S$3:$S$28,MATCH(AJ24,'Partie 1'!$W$3:$W$28,0))=13,AJ24,AL24),\"\")))))","v":36},35,{"$f":"IF(AJ24=\"\",\"\",AO23+$D$5/2)","v":57},33,69,"vs",71,{"$f":"IFERROR(IF(VLOOKUP(AQ24,'Partie 2'!$A$3:$E$28,5,0)=13,AQ24,AS24),IFERROR(IF(INDEX('Partie 2'!$G$3:$G$28,MATCH(AQ24,'Partie 2'!$K$3:$K$28,0))=13,AQ24,AS24),IFERROR(IF(VLOOKUP(AQ24,'Partie 2'!$M$3:$Q$28,5,0)=13,AQ24,AS24),IFERROR(IF(INDEX('Partie 2'!$S$3:$S$28,MATCH(AQ24,'Partie 2'!$W$3:$W$28,0))=13,AQ24,AS24),\"\"))))","v":71},69,57,33,43,"vs",47,{"$f":"IFERROR(IF(VLOOKUP(AX24,'Partie 3'!$A$3:$E$28,5,0)=13,AX24,AZ24),IFERROR(IF(INDEX('Partie 3'!$G$3:$G$28,MATCH(AX24,'Partie 3'!$K$3:$K$28,0))=13,AX24,AZ24),IFERROR(IF(VLOOKUP(AX24,'Partie 3'!$M$3:$Q$28,5,0)=13,AX24,AZ24),IFERROR(IF(INDEX('Partie 3'!$S$3:$S$28,MATCH(AX24,'Partie 3'!$W$3:$W$28,0))=13,AX24,AZ24),\"\"))))","v":47},43,57,33,86,"vs",94,{"$f":"IFERROR(IF(VLOOKUP(BE24,'Partie 4'!$A$3:$E$28,5,0)=13,BE24,BG24),IFERROR(IF(INDEX('Partie 4'!$G$3:$G$28,MATCH(BE24,'Partie 4'!$K$3:$K$28,0))=13,BE24,BG24),IFERROR(IF(VLOOKUP(BE24,'Partie 4'!$M$3:$Q$28,5,0)=13,BE24,BG24),IFERROR(IF(INDEX('Partie 4'!$S$3:$S$28,MATCH(BE24,'Partie 4'!$W$3:$W$28,0))=13,BE24,BG24),\"\"))))","v":94},86,57,33,73,"vs",90,{"$f":"IFERROR(IF(VLOOKUP(BL24,'Partie 4'!$A$3:$E$28,5,0)=13,BL24,BN24),IFERROR(IF(INDEX('Partie 4'!$G$3:$G$28,MATCH(BL24,'Partie 4'!$K$3:$K$28,0))=13,BL24,BN24),IFERROR(IF(VLOOKUP(BL24,'Partie 4'!$M$3:$Q$28,5,0)=13,BL24,BN24),IFERROR(IF(INDEX('Partie 4'!$S$3:$S$28,MATCH(BL24,'Partie 4'!$W$3:$W$28,0))=13,BL24,BN24),\"\"))))","v":73},90]
[null,null,null,null,null,null,"E",null,"T19",19,{"$f":"J25&\"/\"&COUNTIF(J$7:J25,J25)","v":"19/1"},{"$f":"COUNTIF($J$7:J25,\">0\")","v":19},null,null,19,"T19","P19","",19,"T19","P19","",19,"T19","P19","",19,"T19","P19","",19,"T19","P19","",19,37,"vs",38,{"$f":"IF('Partie 1'!$E$3=\"\",\"\",IFERROR(IF(VLOOKUP(AJ25,'Partie 1'!$A$3:$E$28,5,0)=13,AJ25,AL25),IFERROR(IF(INDEX('Partie 1'!$G$3:$G$28,MATCH(AJ25,'Partie 1'!$K$3:$K$28,0))=13,AJ25,AL25),IFERROR(IF(VLOOKUP(AJ25,'Partie 1'!$M$3:$Q$28,5,0)=13,AJ25,AL25),IFERROR(IF(INDEX('Partie 1'!$S$3:$S$28,MATCH(AJ25,'Partie 1'!$W$3:$W$28,0))=13,AJ25,AL25),\"\")))))","v":37},38,{"$f":"IF(AJ25=\"\",\"\",AO23+1)","v":10},82,74,"vs",76,{"$f":"IFERROR(IF(VLOOKUP(AQ25,'Partie 2'!$A$3:$E$28,5,0)=13,AQ25,AS25),IFERROR(IF(INDEX('Partie 2'!$G$3:$G$28,MATCH(AQ25,'Partie 2'!$K$3:$K$28,0))=13,AQ25,AS25),IFERROR(IF(VLOOKUP(AQ25,'Partie 2'!$M$3:$Q$28,5,0)=13,AQ25,AS25),IFERROR(IF(INDEX('Partie 2'!$S$3:$S$28,MATCH(AQ25,'Partie 2'!$W$3:$W$28,0))=13,AQ25,AS25),\"\"))))","v":74},76,10,82,50,"vs",53,{"$f":"IFERROR(IF(VLOOKUP(AX25,'Partie 3'!$A$3:$E$28,5,0)=13,AX25,AZ25),IFERROR(IF(INDEX('Partie 3'!$G$3:$G$28,MATCH(AX25,'Partie 3'!$K$3:$K$28,0))=13,AX25,AZ25),IFERROR(IF(VLOOKUP(AX25,'Partie 3'!$M$3:$Q$28,5,0)=13,AX25,AZ25),IFERROR(IF(INDEX('Partie 3'!$S$3:$S$28,MATCH(AX25,'Partie 3'!$W$3:$W$28,0))=13,AX25,AZ25),\"\"))))","v":50},53,10,82,2,"vs",12,{"$f":"IFERROR(IF(VLOOKUP(BE25,'Partie 4'!$A$3:$E$28,5,0)=13,BE25,BG25),IFERROR(IF(INDEX('Partie 4'!$G$3:$G$28,MATCH(BE25,'Partie 4'!$K$3:$K$28,0))=13,BE25,BG25),IFERROR(IF(VLOOKUP(BE25,'Partie 4'!$M$3:$Q$28,5,0)=13,BE25,BG25),IFERROR(IF(INDEX('Partie 4'!$S$3:$S$28,MATCH(BE25,'Partie 4'!$W$3:$W$28,0))=13,BE25,BG25),\"\"))))","v":2},12,10,82,3,"vs",23,{"$f":"IFERROR(IF(VLOOKUP(BL25,'Partie 4'!$A$3:$E$28,5,0)=13,BL25,BN25),IFERROR(IF(INDEX('Partie 4'!$G$3:$G$28,MATCH(BL25,'Partie 4'!$K$3:$K$28,0))=13,BL25,BN25),IFERROR(IF(VLOOKUP(BL25,'Partie 4'!$M$3:$Q$28,5,0)=13,BL25,BN25),IFERROR(IF(INDEX('Partie 4'!$S$3:$S$28,MATCH(BL25,'Partie 4'!$W$3:$W$28,0))=13,BL25,BN25),\"\"))))","v":3},23]
[null,null,null,null,null,null,"E",null,"T20",20,{"$f":"J26&\"/\"&COUNTIF(J$7:J26,J26)","v":"20/1"},{"$f":"COUNTIF($J$7:J26,\">0\")","v":20},null,null,20,"T20","P20","",20,"T20","P20","",20,"T20","P20","",20,"T20","P20","",20,"T20","P20","",20,39,"vs",40,{"$f":"IF('Partie 1'!$E$3=\"\",\"\",IFERROR(IF(VLOOKUP(AJ26,'Partie 1'!$A$3:$E$28,5,0)=13,AJ26,AL26),IFERROR(IF(INDEX('Partie 1'!$G$3:$G$28,MATCH(AJ26,'Partie 1'!$K$3:$K$28,0))=13,AJ26,AL26),IFERROR(IF(VLOOKUP(AJ26,'Partie 1'!$M$3:$Q$28,5,0)=13,AJ26,AL26),IFERROR(IF(INDEX('Partie 1'!$S$3:$S$28,MATCH(AJ26,'Partie 1'!$W$3:$W$28,0))=13,AJ26,AL26),\"\")))))","v":39},40,{"$f":"IF(AJ26=\"\",\"\",AO25+$D$5/2)","v":58},34,77,"vs",80,{"$f":"IFERROR(IF(VLOOKUP(AQ26,'Partie 2'!$A$3:$E$28,5,0)=13,AQ26,AS26),IFERROR(IF(INDEX('Partie 2'!$G$3:$G$28,MATCH(AQ26,'Partie 2'!$K$3:$K$28,0))=13,AQ26,AS26),IFERROR(IF(VLOOKUP(AQ26,'Partie 2'!$M$3:$Q$28,5,0)=13,AQ26,AS26),IFERROR(IF(INDEX('Partie 2'!$S$3:$S$28,MATCH(AQ26,'Partie 2'!$W$3:$W$28,0))=13,AQ26,AS26),\"\"))))","v":77},80,58,34,60,"vs",61,{"$f":"IFERROR(IF(VLOOKUP(AX26,'Partie 3'!$A$3:$E$28,5,0)=13,AX26,AZ26),IFERROR(IF(INDEX('Partie 3'!$G$3:$G$28,MATCH(AX26,'Partie 3'!$K$3:$K$28,0))=13,AX26,AZ26),IFERROR(IF(VLOOKUP(AX26,'Partie 3'!$M$3:$Q$28,5,0)=13,AX26,AZ26),IFERROR(IF(INDEX('Partie 3'!$S$3:$S$28,MATCH(AX26,'Partie 3'!$W$3:$W$28,0))=13,AX26,AZ26),\"\"))))","v":60},61,58,34,22,"vs",28,{"$f":"IFERROR(IF(VLOOKUP(BE26,'Partie 4'!$A$3:$E$28,5,0)=13,BE26,BG26),IFERROR(IF(INDEX('Partie 4'!$G$3:$G$28,MATCH(BE26,'Partie 4'!$K$3:$K$28,0))=13,BE26,BG26),IFERROR(IF(VLOOKUP(BE26,'Partie 4'!$M$3:$Q$28,5,0)=13,BE26,BG26),IFERROR(IF(INDEX('Partie 4'!$S$3:$S$28,MATCH(BE26,'Partie 4'!$W$3:$W$28,0))=13,BE26,BG26),\"\"))))","v":22},28,58,34,44,"vs",56,{"$f":"IFERROR(IF(VLOOKUP(BL26,'Partie 4'!$A$3:$E$28,5,0)=13,BL26,BN26),IFERROR(IF(INDEX('Partie 4'!$G$3:$G$28,MATCH(BL26,'Partie 4'!$K$3:$K$28,0))=13,BL26,BN26),IFERROR(IF(VLOOKUP(BL26,'Partie 4'!$M$3:$Q$28,5,0)=13,BL26,BN26),IFERROR(IF(INDEX('Partie 4'!$S$3:$S$28,MATCH(BL26,'Partie 4'!$W$3:$W$28,0))=13,BL26,BN26),\"\"))))","v":44},56]
[null,null,null,null,null,null,"E",null,"T21",21,{"$f":"J27&\"/\"&COUNTIF(J$7:J27,J27)","v":"21/1"},{"$f":"COUNTIF($J$7:J27,\">0\")","v":21},null,null,21,"T21","P21","",21,"T21","P21","",21,"T21","P21","",21,"T21","P21","",21,"T21","P21","",21,41,"vs",42,{"$f":"IF('Partie 1'!$E$3=\"\",\"\",IFERROR(IF(VLOOKUP(AJ27,'Partie 1'!$A$3:$E$28,5,0)=13,AJ27,AL27),IFERROR(IF(INDEX('Partie 1'!$G$3:$G$28,MATCH(AJ27,'Partie 1'!$K$3:$K$28,0))=13,AJ27,AL27),IFERROR(IF(VLOOKUP(AJ27,'Partie 1'!$M$3:$Q$28,5,0)=13,AJ27,AL27),IFERROR(IF(INDEX('Partie 1'!$S$3:$S$28,MATCH(AJ27,'Partie 1'!$W$3:$W$28,0))=13,AJ27,AL27),\"\")))))","v":42},41,{"$f":"IF(AJ27=\"\",\"\",AO25+1)","v":11},83,81,"vs",83,{"$f":"IFERROR(IF(VLOOKUP(AQ27,'Partie 2'!$A$3:$E$28,5,0)=13,AQ27,AS27),IFERROR(IF(INDEX('Partie 2'!$G$3:$G$28,MATCH(AQ27,'Partie 2'!$K$3:$K$28,0))=13,AQ27,AS27),IFERROR(IF(VLOOKUP(AQ27,'Partie 2'!$M$3:$Q$28,5,0)=13,AQ27,AS27),IFERROR(IF(INDEX('Partie 2'!$S$3:$S$28,MATCH(AQ27,'Partie 2'!$W$3:$W$28,0))=13,AQ27,AS27),\"\"))))","v":83},81,11,83,67,"vs",72,{"$f":"IFERROR(IF(VLOOKUP(AX27,'Partie 3'!$A$3:$E$28,5,0)=13,AX27,AZ27),IFERROR(IF(INDEX('Partie 3'!$G$3:$G$28,MATCH(AX27,'Partie 3'!$K$3:$K$28,0))=13,AX27,AZ27),IFERROR(IF(VLOOKUP(AX27,'Partie 3'!$M$3:$Q$28,5,0)=13,AX27,AZ27),IFERROR(IF(INDEX('Partie 3'!$S$3:$S$28,MATCH(AX27,'Partie 3'!$W$3:$W$28,0))=13,AX27,AZ27),\"\"))))","v":72},67,11,83,40,"vs",46,{"$f":"IFERROR(IF(VLOOKUP(BE27,'Partie 4'!$A$3:$E$28,5,0)=13,BE27,BG27),IFERROR(IF(INDEX('Partie 4'!$G$3:$G$28,MATCH(BE27,'Partie 4'!$K$3:$K$28,0))=13,BE27,BG27),IFERROR(IF(VLOOKUP(BE27,'Partie 4'!$M$3:$Q$28,5,0)=13,BE27,BG27),IFERROR(IF(INDEX('Partie 4'!$S$3:$S$28,MATCH(BE27,'Partie 4'!$W$3:$W$28,0))=13,BE27,BG27),\"\"))))","v":46},40,11,83,80,"vs",91,{"$f":"IFERROR(IF(VLOOKUP(BL27,'Partie 4'!$A$3:$E$28,5,0)=13,BL27,BN27),IFERROR(IF(INDEX('Partie 4'!$G$3:$G$28,MATCH(BL27,'Partie 4'!$K$3:$K$28,0))=13,BL27,BN27),IFERROR(IF(VLOOKUP(BL27,'Partie 4'!$M$3:$Q$28,5,0)=13,BL27,BN27),IFERROR(IF(INDEX('Partie 4'!$S$3:$S$28,MATCH(BL27,'Partie 4'!$W$3:$W$28,0))=13,BL27,BN27),\"\"))))","v":80},91]
[null,null,null,null,null,null,"E",null,"T22",22,{"$f":"J28&\"/\"&COUNTIF(J$7:J28,J28)","v":"22/1"},{"$f":"COUNTIF($J$7:J28,\">0\")","v":22},null,null,22,"T22","P22","",22,"T22","P22","",22,"T22","P22","",22,"T22","P22","",22,"T22","P22","",22,43,"vs",44,{"$f":"IF('Partie 1'!$E$3=\"\",\"\",IFERROR(IF(VLOOKUP(AJ28,'Partie 1'!$A$3:$E$28,5,0)=13,AJ28,AL28),IFERROR(IF(INDEX('Partie 1'!$G$3:$G$28,MATCH(AJ28,'Partie 1'!$K$3:$K$28,0))=13,AJ28,AL28),IFERROR(IF(VLOOKUP(AJ28,'Partie 1'!$M$3:$Q$28,5,0)=13,AJ28,AL28),IFERROR(IF(INDEX('Partie 1'!$S$3:$S$28,MATCH(AJ28,'Partie 1'!$W$3:$W$28,0))=13,AJ28,AL28),\"\")))))","v":44},43,{"$f":"IF(AJ28=\"\",\"\",AO27+$D$5/2)","v":59},35,86,"vs",88,{"$f":"IFERROR(IF(VLOOKUP(AQ28,'Partie 2'!$A$3:$E$28,5,0)=13,AQ28,AS28),IFERROR(IF(INDEX('Partie 2'!$G$3:$G$28,MATCH(AQ28,'Partie 2'!$K$3:$K$28,0))=13,AQ28,AS28),IFERROR(IF(VLOOKUP(AQ28,'Partie 2'!$M$3:$Q$28,5,0)=13,AQ28,AS28),IFERROR(IF(INDEX('Partie 2'!$S$3:$S$28,MATCH(AQ28,'Partie 2'!$W$3:$W$28,0))=13,AQ28,AS28),\"\"))))","v":88},86,59,35,73,"vs",78,{"$f":"IFERROR(IF(VLOOKUP(AX28,'Partie 3'!$A$3:$E$28,5,0)=13,AX28,AZ28),IFERROR(IF(INDEX('Partie 3'!$G$3:$G$28,MATCH(AX28,'Partie 3'!$K$3:$K$28,0))=13,AX28,AZ28),IFERROR(IF(VLOOKUP(AX28,'Partie 3'!$M$3:$Q$28,5,0)=13,AX28,AZ28),IFERROR(IF(INDEX('Partie 3'!$S$3:$S$28,MATCH(AX28,'Partie 3'!$W$3:$W$28,0))=13,AX28,AZ28),\"\"))))","v":78},73,59,35,52,"vs",58,{"$f":"IFERROR(IF(VLOOKUP(BE28,'Partie 4'!$A$3:$E$28,5,0)=13,BE28,BG28),IFERROR(IF(INDEX('Partie 4'!$G$3:$G$28,MATCH(BE28,'Partie 4'!$K$3:$K$28,0))=13,BE28,BG28),IFERROR(IF(VLOOKUP(BE28,'Partie 4'!$M$3:$Q$28,5,0)=13,BE28,BG28),IFERROR(IF(INDEX('Partie 4'!$S$3:$S$28,MATCH(BE28,'Partie 4'!$W$3:$W$28,0))=13,BE28,BG28),\"\"))))","v":58},52,59,35,6,"vs",18,{"$f":"IFERROR(IF(VLOOKUP(BL28,'Partie 4'!$A$3:$E$28,5,0)=13,BL28,BN28),IFERROR(IF(INDEX('Partie 4'!$G$3:$G$28,MATCH(BL28,'Partie 4'!$K$3:$K$28,0))=13,BL28,BN28),IFERROR(IF(VLOOKUP(BL28,'Partie 4'!$M$3:$Q$28,5,0)=13,BL28,BN28),IFERROR(IF(INDEX('Partie 4'!$S$3:$S$28,MATCH(BL28,'Partie 4'!$W$3:$W$28,0))=13,BL28,BN28),\"\"))))","v":6},18]
[null,null,null,null,null,null,"E",null,"T23",23,{"$f":"J29&\"/\"&COUNTIF(J$7:J29,J29)","v":"23/1"},{"$f":"COUNTIF($J$7:J29,\">0\")","v":23},null,null,23,"T23","P23","",23,"T23","P23","",23,"T23","P23","",23,"T23","P23","",23,"T23","P23","",23,45,"vs",46,{"$f":"IF('Partie 1'!$E$3=\"\",\"\",IFERROR(IF(VLOOKUP(AJ29,'Partie 1'!$A$3:$E$28,5,0)=13,AJ29,AL29),IFERROR(IF(INDEX('Partie 1'!$G$3:$G$28,MATCH(AJ29,'Partie 1'!$K$3:$K$28,0))=13,AJ29,AL29),IFERROR(IF(VLOOKUP(AJ29,'Partie 1'!$M$3:$Q$28,5,0)=13,AJ29,AL29),IFERROR(IF(INDEX('Partie 1'!$S$3:$S$28,MATCH(AJ29,'Partie 1'!$W$3:$W$28,0))=13,AJ29,AL29),\"\")))))","v":45},46,{"$f":"IF(AJ29=\"\",\"\",AO27+1)","v":12},84,89,"vs",91,{"$f":"IFERROR(IF(VLOOKUP(AQ29,'Partie 2'!$A$3:$E$28,5,0)=13,AQ29,AS29),IFERROR(IF(INDEX('Partie 2'!$G$3:$G$28,MATCH(AQ29,'Partie 2'!$K$3:$K$28,0))=13,AQ29,AS29),IFERROR(IF(VLOOKUP(AQ29,'Partie 2'!$M$3:$Q$28,5,0)=13,AQ29,AS29),IFERROR(IF(INDEX('Partie 2'!$S$3:$S$28,MATCH(AQ29,'Partie 2'!$W$3:$W$28,0))=13,AQ29,AS29),\"\"))))","v":89},91,12,84,84,"vs",87,{"$f":"IFERROR(IF(VLOOKUP(AX29,'Partie 3'!$A$3:$E$28,5,0)=13,AX29,AZ29),IFERROR(IF(INDEX('Partie 3'!$G$3:$G$28,MATCH(AX29,'Partie 3'!$K$3:$K$28,0))=13,AX29,AZ29),IFERROR(IF(VLOOKUP(AX29,'Partie 3'!$M$3:$Q$28,5,0)=13,AX29,AZ29),IFERROR(IF(INDEX('Partie 3'!$S$3:$S$28,MATCH(AX29,'Partie 3'!$W$3:$W$28,0))=13,AX29,AZ29),\"\"))))","v":84},87,12,84,70,"vs",79,{"$f":"IFERROR(IF(VLOOKUP(BE29,'Partie 4'!$A$3:$E$28,5,0)=13,BE29,BG29),IFERROR(IF(INDEX('Partie 4'!$G$3:$G$28,MATCH(BE29,'Partie 4'!$K$3:$K$28,0))=13,BE29,BG29),IFERROR(IF(VLOOKUP(BE29,'Partie 4'!$M$3:$Q$28,5,0)=13,BE29,BG29),IFERROR(IF(INDEX('Partie 4'!$S$3:$S$28,MATCH(BE29,'Partie 4'!$W$3:$W$28,0))=13,BE29,BG29),\"\"))))","v":70},79,12,84,41,"vs",64,{"$f":"IFERROR(IF(VLOOKUP(BL29,'Partie 4'!$A$3:$E$28,5,0)=13,BL29,BN29),IFERROR(IF(INDEX('Partie 4'!$G$3:$G$28,MATCH(BL29,'Partie 4'!$K$3:$K$28,0))=13,BL29,BN29),IFERROR(IF(VLOOKUP(BL29,'Partie 4'!$M$3:$Q$28,5,0)=13,BL29,BN29),IFERROR(IF(INDEX('Partie 4'!$S$3:$S$28,MATCH(BL29,'Partie 4'!$W$3:$W$28,0))=13,BL29,BN29),\"\"))))","v":41},64]
[null,null,null,null,null,null,"E",null,"T24",24,{"$f":"J30&\"/\"&COUNTIF(J$7:J30,J30)","v":"24/1"},{"$f":"COUNTIF($J$7:J30,\">0\")","v":24},null,null,24,"T24","P24","",24,"T24","P24","",24,"T24","P24","",24,"T24","P24","",24,"T24","P24","",24,47,"vs",48,{"$f":"IF('Partie 1'!$E$3=\"\",\"\",IFERROR(IF(VLOOKUP(AJ30,'Partie 1'!$A$3:$E$28,5,0)=13,AJ30,AL30),IFERROR(IF(INDEX('Partie 1'!$G$3:$G$28,MATCH(AJ30,'Partie 1'!$K$3:$K$28,0))=13,AJ30,AL30),IFERROR(IF(VLOOKUP(AJ30,'Partie 1'!$M$3:$Q$28,5,0)=13,AJ30,AL30),IFERROR(IF(INDEX('Partie 1'!$S$3:$S$28,MATCH(AJ30,'Partie 1'!$W$3:$W$28,0))=13,AJ30,AL30),\"\")))))","v":48},47,{"$f":"IF(AJ30=\"\",\"\",AO29+$D$5/2)","v":60},36,94,"vs",95,{"$f":"IFERROR(IF(VLOOKUP(AQ30,'Partie 2'!$A$3:$E$28,5,0)=13,AQ30,AS30),IFERROR(IF(INDEX('Partie 2'!$G$3:$G$28,MATCH(AQ30,'Partie 2'!$K$3:$K$28,0))=13,AQ30,AS30),IFERROR(IF(VLOOKUP(AQ30,'Partie 2'!$M$3:$Q$28,5,0)=13,AQ30,AS30),IFERROR(IF(INDEX('Partie 2'!$S$3:$S$28,MATCH(AQ30,'Partie 2'!$W$3:$W$28,0))=13,AQ30,AS30),\"\"))))","v":95},94,60,36,90,"vs",96,{"$f":"IFERROR(IF(VLOOKUP(AX30,'Partie 3'!$A$3:$E$28,5,0)=13,AX30,AZ30),IFERROR(IF(INDEX('Partie 3'!$G$3:$G$28,MATCH(AX30,'Partie 3'!$K$3:$K$28,0))=13,AX30,AZ30),IFERROR(IF(VLOOKUP(AX30,'Partie 3'!$M$3:$Q$28,5,0)=13,AX30,AZ30),IFERROR(IF(INDEX('Partie 3'!$S$3:$S$28,MATCH(AX30,'Partie 3'!$W$3:$W$28,0))=13,AX30,AZ30),\"\"))))","v":96},90,60,36,82,"vs",93,{"$f":"IFERROR(IF(VLOOKUP(BE30,'Partie 4'!$A$3:$E$28,5,0)=13,BE30,BG30),IFERROR(IF(INDEX('Partie 4'!$G$3:$G$28,MATCH(BE30,'Partie 4'!$K$3:$K$28,0))=13,BE30,BG30),IFERROR(IF(VLOOKUP(BE30,'Partie 4'!$M$3:$Q$28,5,0)=13,BE30,BG30),IFERROR(IF(INDEX('Partie 4'!$S$3:$S$28,MATCH(BE30,'Partie 4'!$W$3:$W$28,0))=13,BE30,BG30),\"\"))))","v":93},82,60,36,65,"vs",92,{"$f":"IFERROR(IF(VLOOKUP(BL30,'Partie 4'!$A$3:$E$28,5,0)=13,BL30,BN30),IFERROR(IF(INDEX('Partie 4'!$G$3:$G$28,MATCH(BL30,'Partie 4'!$K$3:$K$28,0))=13,BL30,BN30),IFERROR(IF(VLOOKUP(BL30,'Partie 4'!$M$3:$Q$28,5,0)=13,BL30,BN30),IFERROR(IF(INDEX('Partie 4'!$S$3:$S$28,MATCH(BL30,'Partie 4'!$W$3:$W$28,0))=13,BL30,BN30),\"\"))))","v":65},92]
[null,null,null,null,null,null,"E",null,"T25",25,{"$f":"J31&\"/\"&COUNTIF(J$7:J31,J31)","v":"25/1"},{"$f":"COUNTIF($J$7:J31,\">0\")","v":25},null,null,25,"T25","P25","",25,"T25","P25","",25,"T25","P25","",25,"T25","P25","",25,"T25","P25","",25,49,"vs",50,{"$f":"IF('Partie 1'!$E$3=\"\",\"\",IFERROR(IF(VLOOKUP(AJ31,'Partie 1'!$A$3:$E$28,5,0)=13,AJ31,AL31),IFERROR(IF(INDEX('Partie 1'!$G$3:$G$28,MATCH(AJ31,'Partie 1'!$K$3:$K$28,0))=13,AJ31,AL31),IFERROR(IF(VLOOKUP(AJ31,'Partie 1'!$M$3:$Q$28,5,0)=13,AJ31,AL31),IFERROR(IF(INDEX('Partie 1'!$S$3:$S$28,MATCH(AJ31,'Partie 1'!$W$3:$W$28,0))=13,AJ31,AL31),\"\")))))","v":49},50,{"$f":"IF(AJ31=\"\",\"\",AO29+1)","v":13},85,4,"vs",2,{"$f":"IFERROR(IF(VLOOKUP(AQ31,'Partie 2'!$A$3:$E$28,5,0)=13,AQ31,AS31),IFERROR(IF(INDEX('Partie 2'!$G$3:$G$28,MATCH(AQ31,'Partie 2'!$K$3:$K$28,0))=13,AQ31,AS31),IFERROR(IF(VLOOKUP(AQ31,'Partie 2'!$M$3:$Q$28,5,0)=13,AQ31,AS31),IFERROR(IF(INDEX('Partie 2'!$S$3:$S$28,MATCH(AQ31,'Partie 2'!$W$3:$W$28,0))=13,AQ31,AS31),\"\"))))","v":4},2,13,85,7,"vs",3,{"$f":"IFERROR(IF(VLOOKUP(AX31,'Partie 3'!$A$3:$E$28,5,0)=13,AX31,AZ31),IFERROR(IF(INDEX('Partie 3'!$G$3:$G$28,MATCH(AX31,'Partie 3'!$K$3:$K$28,0))=13,AX31,AZ31),IFERROR(IF(VLOOKUP(AX31,'Partie 3'!$M$3:$Q$28,5,0)=13,AX31,AZ31),IFERROR(IF(INDEX('Partie 3'!$S$3:$S$28,MATCH(AX31,'Partie 3'!$W$3:$W$28,0))=13,AX31,AZ31),\"\"))))","v":7},3,13,85,13,"vs",5,{"$f":"IFERROR(IF(VLOOKUP(BE31,'Partie 4'!$A$3:$E$28,5,0)=13,BE31,BG31),IFERROR(IF(INDEX('Partie 4'!$G$3:$G$28,MATCH(BE31,'Partie 4'!$K$3:$K$28,0))=13,BE31,BG31),IFERROR(IF(VLOOKUP(BE31,'Partie 4'!$M$3:$Q$28,5,0)=13,BE31,BG31),IFERROR(IF(INDEX('Partie 4'!$S$3:$S$28,MATCH(BE31,'Partie 4'!$W$3:$W$28,0))=13,BE31,BG31),\"\"))))","v":13},5,13,85,25,"vs",9,{"$f":"IFERROR(IF(VLOOKUP(BL31,'Partie 4'!$A$3:$E$28,5,0)=13,BL31,BN31),IFERROR(IF(INDEX('Partie 4'!$G$3:$G$28,MATCH(BL31,'Partie 4'!$K$3:$K$28,0))=13,BL31,BN31),IFERROR(IF(VLOOKUP(BL31,'Partie 4'!$M$3:$Q$28,5,0)=13,BL31,BN31),IFERROR(IF(INDEX('Partie 4'!$S$3:$S$28,MATCH(BL31,'Partie 4'!$W$3:$W$28,0))=13,BL31,BN31),\"\"))))","v":9},25]
[null,null,null,null,null,null,"E",null,"T26",26,{"$f":"J32&\"/\"&COUNTIF(J$7:J32,J32)","v":"26/1"},{"$f":"COUNTIF($J$7:J32,\">0\")","v":26},null,null,26,"T26","P26","",26,"T26","P26","",26,"T26","P26","",26,"T26","P26","",26,"T26","P26","",26,51,"vs",52,{"$f":"IF('Partie 1'!$E$3=\"\",\"\",IFERROR(IF(VLOOKUP(AJ32,'Partie 1'!$A$3:$E$28,5,0)=13,AJ32,AL32),IFERROR(IF(INDEX('Partie 1'!$G$3:$G$28,MATCH(AJ32,'Partie 1'!$K$3:$K$28,0))=13,AJ32,AL32),IFERROR(IF(VLOOKUP(AJ32,'Partie 1'!$M$3:$Q$28,5,0)=13,AJ32,AL32),IFERROR(IF(INDEX('Partie 1'!$S$3:$S$28,MATCH(AJ32,'Partie 1'!$W$3:$W$28,0))=13,AJ32,AL32),\"\")))))","v":51},52,{"$f":"IF(AJ32=\"\",\"\",AO31+$D$5/2)","v":61},37,8,"vs",6,{"$f":"IFERROR(IF(VLOOKUP(AQ32,'Partie 2'!$A$3:$E$28,5,0)=13,AQ32,AS32),IFERROR(IF(INDEX('Partie 2'!$G$3:$G$28,MATCH(AQ32,'Partie 2'!$K$3:$K$28,0))=13,AQ32,AS32),IFERROR(IF(VLOOKUP(AQ32,'Partie 2'!$M$3:$Q$28,5,0)=13,AQ32,AS32),IFERROR(IF(INDEX('Partie 2'!$S$3:$S$28,MATCH(AQ32,'Partie 2'!$W$3:$W$28,0))=13,AQ32,AS32),\"\"))))","v":8},6,61,37,15,"vs",11,{"$f":"IFERROR(IF(VLOOKUP(AX32,'Partie 3'!$A$3:$E$28,5,0)=13,AX32,AZ32),IFERROR(IF(INDEX('Partie 3'!$G$3:$G$28,MATCH(AX32,'Partie 3'!$K$3:$K$28,0))=13,AX32,AZ32),IFERROR(IF(VLOOKUP(AX32,'Partie 3'!$M$3:$Q$28,5,0)=13,AX32,AZ32),IFERROR(IF(INDEX('Partie 3'!$S$3:$S$28,MATCH(AX32,'Partie 3'!$W$3:$W$28,0))=13,AX32,AZ32),\"\"))))","v":15},11,61,37,29,"vs",21,{"$f":"IFERROR(IF(VLOOKUP(BE32,'Partie 4'!$A$3:$E$28,5,0)=13,BE32,BG32),IFERROR(IF(INDEX('Partie 4'!$G$3:$G$28,MATCH(BE32,'Partie 4'!$K$3:$K$28,0))=13,BE32,BG32),IFERROR(IF(VLOOKUP(BE32,'Partie 4'!$M$3:$Q$28,5,0)=13,BE32,BG32),IFERROR(IF(INDEX('Partie 4'!$S$3:$S$28,MATCH(BE32,'Partie 4'!$W$3:$W$28,0))=13,BE32,BG32),\"\"))))","v":29},21,61,37,57,"vs",42,{"$f":"IFERROR(IF(VLOOKUP(BL32,'Partie 4'!$A$3:$E$28,5,0)=13,BL32,BN32),IFERROR(IF(INDEX('Partie 4'!$G$3:$G$28,MATCH(BL32,'Partie 4'!$K$3:$K$28,0))=13,BL32,BN32),IFERROR(IF(VLOOKUP(BL32,'Partie 4'!$M$3:$Q$28,5,0)=13,BL32,BN32),IFERROR(IF(INDEX('Partie 4'!$S$3:$S$28,MATCH(BL32,'Partie 4'!$W$3:$W$28,0))=13,BL32,BN32),\"\"))))","v":42},57]
[null,null,null,null,null,null,"E",null,"T27",27,{"$f":"J33&\"/\"&COUNTIF(J$7:J33,J33)","v":"27/1"},{"$f":"COUNTIF($J$7:J33,\">0\")","v":27},null,null,27,"T27","P27","",27,"T27","P27","",27,"T27","P27","",27,"T27","P27","",27,"T27","P27","",27,53,"vs",54,{"$f":"IF('Partie 1'!$E$3=\"\",\"\",IFERROR(IF(VLOOKUP(AJ33,'Partie 1'!$A$3:$E$28,5,0)=13,AJ33,AL33),IFERROR(IF(INDEX('Partie 1'!$G$3:$G$28,MATCH(AJ33,'Partie 1'!$K$3:$K$28,0))=13,AJ33,AL33),IFERROR(IF(VLOOKUP(AJ33,'Partie 1'!$M$3:$Q$28,5,0)=13,AJ33,AL33),IFERROR(IF(INDEX('Partie 1'!$S$3:$S$28,MATCH(AJ33,'Partie 1'!$W$3:$W$28,0))=13,AJ33,AL33),\"\")))))","v":54},53,{"$f":"IF(AJ33=\"\",\"\",AO31+1)","v":14},86,12,"vs",10,{"$f":"IFERROR(IF(VLOOKUP(AQ33,'Partie 2'!$A$3:$E$28,5,0)=13,AQ33,AS33),IFERROR(IF(INDEX('Partie 2'!$G$3:$G$28,MATCH(AQ33,'Partie 2'!$K$3:$K$28,0))=13,AQ33,AS33),IFERROR(IF(VLOOKUP(AQ33,'Partie 2'!$M$3:$Q$28,5,0)=13,AQ33,AS33),IFERROR(IF(INDEX('Partie 2'!$S$3:$S$28,MATCH(AQ33,'Partie 2'!$W$3:$W$28,0))=13,AQ33,AS33),\"\"))))","v":10},12,14,86,23,"vs",19,{"$f":"IFERROR(IF(VLOOKUP(AX33,'Partie 3'!$A$3:$E$28,5,0)=13,AX33,AZ33),IFERROR(IF(INDEX('Partie 3'!$G$3:$G$28,MATCH(AX33,'Partie 3'!$K$3:$K$28,0))=13,AX33,AZ33),IFERROR(IF(VLOOKUP(AX33,'Partie 3'!$M$3:$Q$28,5,0)=13,AX33,AZ33),IFERROR(IF(INDEX('Partie 3'!$S$3:$S$28,MATCH(AX33,'Partie 3'!$W$3:$W$28,0))=13,AX33,AZ33),\"\"))))","v":19},23,14,86,45,"vs",37,{"$f":"IFERROR(IF(VLOOKUP(BE33,'Partie 4'!$A$3:$E$28,5,0)=13,BE33,BG33),IFERROR(IF(INDEX('Partie 4'!$G$3:$G$28,MATCH(BE33,'Partie 4'!$K$3:$K$28,0))=13,BE33,BG33),IFERROR(IF(VLOOKUP(BE33,'Partie 4'!$M$3:$Q$28,5,0)=13,BE33,BG33),IFERROR(IF(INDEX('Partie 4'!$S$3:$S$28,MATCH(BE33,'Partie 4'!$W$3:$W$28,0))=13,BE33,BG33),\"\"))))","v":37},45,14,86,89,"vs",74,{"$f":"IFERROR(IF(VLOOKUP(BL33,'Partie 4'!$A$3:$E$28,5,0)=13,BL33,BN33),IFERROR(IF(INDEX('Partie 4'!$G$3:$G$28,MATCH(BL33,'Partie 4'!$K$3:$K$28,0))=13,BL33,BN33),IFERROR(IF(VLOOKUP(BL33,'Partie 4'!$M$3:$Q$28,5,0)=13,BL33,BN33),IFERROR(IF(INDEX('Partie 4'!$S$3:$S$28,MATCH(BL33,'Partie 4'!$W$3:$W$28,0))=13,BL33,BN33),\"\"))))","v":74},89]
[null,null,null,null,null,null,"E",null,"T28",28,{"$f":"J34&\"/\"&COUNTIF(J$7:J34,J34)","v":"28/1"},{"$f":"COUNTIF($J$7:J34,\">0\")","v":28},null,null,28,"T28","P28","",28,"T28","P28","",28,"T28","P28","",28,"T28","P28","",28,"T28","P28","",28,55,"vs",56,{"$f":"IF('Partie 1'!$E$3=\"\",\"\",IFERROR(IF(VLOOKUP(AJ34,'Partie 1'!$A$3:$E$28,5,0)=13,AJ34,AL34),IFERROR(IF(INDEX('Partie 1'!$G$3:$G$28,MATCH(AJ34,'Partie 1'!$K$3:$K$28,0))=13,AJ34,AL34),IFERROR(IF(VLOOKUP(AJ34,'Partie 1'!$M$3:$Q$28,5,0)=13,AJ34,AL34),IFERROR(IF(INDEX('Partie 1'!$S$3:$S$28,MATCH(AJ34,'Partie 1'!$W$3:$W$28,0))=13,AJ34,AL34),\"\")))))","v":56},55,{"$f":"IF(AJ34=\"\",\"\",AO33+$D$5/2)","v":62},38,16,"vs",14,{"$f":"IFERROR(IF(VLOOKUP(AQ34,'Partie 2'!$A$3:$E$28,5,0)=13,AQ34,AS34),IFERROR(IF(INDEX('Partie 2'!$G$3:$G$28,MATCH(AQ34,'Partie 2'!$K$3:$K$28,0))=13,AQ34,AS34),IFERROR(IF(VLOOKUP(AQ34,'Partie 2'!$M$3:$Q$28,5,0)=13,AQ34,AS34),IFERROR(IF(INDEX('Partie 2'!$S$3:$S$28,MATCH(AQ34,'Partie 2'!$W$3:$W$28,0))=13,AQ34,AS34),\"\"))))","v":14},16,62,38,31,"vs",27,{"$f":"IFERROR(IF(VLOOKUP(AX34,'Partie 3'!$A$3:$E$28,5,0)=13,AX34,AZ34),IFERROR(IF(INDEX('Partie 3'!$G$3:$G$28,MATCH(AX34,'Partie 3'!$K$3:$K$28,0))=13,AX34,AZ34),IFERROR(IF(VLOOKUP(AX34,'Partie 3'!$M$3:$Q$28,5,0)=13,AX34,AZ34),IFERROR(IF(INDEX('Partie 3'!$S$3:$S$28,MATCH(AX34,'Partie 3'!$W$3:$W$28,0))=13,AX34,AZ34),\"\"))))","v":27},31,62,38,62,"vs",54,{"$f":"IFERROR(IF(VLOOKUP(BE34,'Partie 4'!$A$3:$E$28,5,0)=13,BE34,BG34),IFERROR(IF(INDEX('Partie 4'!$G$3:$G$28,MATCH(BE34,'Partie 4'!$K$3:$K$28,0))=13,BE34,BG34),IFERROR(IF(VLOOKUP(BE34,'Partie 4'!$M$3:$Q$28,5,0)=13,BE34,BG34),IFERROR(IF(INDEX('Partie 4'!$S$3:$S$28,MATCH(BE34,'Partie 4'!$W$3:$W$28,0))=13,BE34,BG34),\"\"))))","v":54},62,62,38,26,"vs",10,{"$f":"IFERROR(IF(VLOOKUP(BL34,'Partie 4'!$A$3:$E$28,5,0)=13,BL34,BN34),IFERROR(IF(INDEX('Partie 4'!$G$3:$G$28,MATCH(BL34,'Partie 4'!$K$3:$K$28,0))=13,BL34,BN34),IFERROR(IF(VLOOKUP(BL34,'Partie 4'!$M$3:$Q$28,5,0)=13,BL34,BN34),IFERROR(IF(INDEX('Partie 4'!$S$3:$S$28,MATCH(BL34,'Partie 4'!$W$3:$W$28,0))=13,BL34,BN34),\"\"))))","v":10},26]
[null,null,null,null,null,null,"E",null,"T29",29,{"$f":"J35&\"/\"&COUNTIF(J$7:J35,J35)","v":"29/1"},{"$f":"COUNTIF($J$7:J35,\">0\")","v":29},null,null,29,"T29","P29","",29,"T29","P29","",29,"T29","P29","",29,"T29","P29","",29,"T29","P29","",29,57,"vs",58,{"$f":"IF('Partie 1'!$E$3=\"\",\"\",IFERROR(IF(VLOOKUP(AJ35,'Partie 1'!$A$3:$E$28,5,0)=13,AJ35,AL35),IFERROR(IF(INDEX('Partie 1'!$G$3:$G$28,MATCH(AJ35,'Partie 1'!$K$3:$K$28,0))=13,AJ35,AL35),IFERROR(IF(VLOOKUP(AJ35,'Partie 1'!$M$3:$Q$28,5,0)=13,AJ35,AL35),IFERROR(IF(INDEX('Partie 1'!$S$3:$S$28,MATCH(AJ35,'Partie 1'!$W$3:$W$28,0))=13,AJ35,AL35),\"\")))))","v":57},58,{"$f":"IF(AJ35=\"\",\"\",AO33+1)","v":15},87,20,"vs",18,{"$f":"IFERROR(IF(VLOOKUP(AQ35,'Partie 2'!$A$3:$E$28,5,0)=13,AQ35,AS35),IFERROR(IF(INDEX('Partie 2'!$G$3:$G$28,MATCH(AQ35,'Partie 2'!$K$3:$K$28,0))=13,AQ35,AS35),IFERROR(IF(VLOOKUP(AQ35,'Partie 2'!$M$3:$Q$28,5,0)=13,AQ35,AS35),IFERROR(IF(INDEX('Partie 2'!$S$3:$S$28,MATCH(AQ35,'Partie 2'!$W$3:$W$28,0))=13,AQ35,AS35),\"\"))))","v":20},18,15,87,39,"vs",36,{"$f":"IFERROR(IF(VLOOKUP(AX35,'Partie 3'!$A$3:$E$28,5,0)=13,AX35,AZ35),IFERROR(IF(INDEX('Partie 3'!$G$3:$G$28,MATCH(AX35,'Partie 3'!$K$3:$K$28,0))=13,AX35,AZ35),IFERROR(IF(VLOOKUP(AX35,'Partie 3'!$M$3:$Q$28,5,0)=13,AX35,AZ35),IFERROR(IF(INDEX('Partie 3'!$S$3:$S$28,MATCH(AX35,'Partie 3'!$W$3:$W$28,0))=13,AX35,AZ35),\"\"))))","v":39},36,15,87,77,"vs",71,{"$f":"IFERROR(IF(VLOOKUP(BE35,'Partie 4'!$A$3:$E$28,5,0)=13,BE35,BG35),IFERROR(IF(INDEX('Partie 4'!$G$3:$G$28,MATCH(BE35,'Partie 4'!$K$3:$K$28,0))=13,BE35,BG35),IFERROR(IF(VLOOKUP(BE35,'Partie 4'!$M$3:$Q$28,5,0)=13,BE35,BG35),IFERROR(IF(INDEX('Partie 4'!$S$3:$S$28,MATCH(BE35,'Partie 4'!$W$3:$W$28,0))=13,BE35,BG35),\"\"))))","v":77},71,15,87,60,"vs",47,{"$f":"IFERROR(IF(VLOOKUP(BL35,'Partie 4'!$A$3:$E$28,5,0)=13,BL35,BN35),IFERROR(IF(INDEX('Partie 4'!$G$3:$G$28,MATCH(BL35,'Partie 4'!$K$3:$K$28,0))=13,BL35,BN35),IFERROR(IF(VLOOKUP(BL35,'Partie 4'!$M$3:$Q$28,5,0)=13,BL35,BN35),IFERROR(IF(INDEX('Partie 4'!$S$3:$S$28,MATCH(BL35,'Partie 4'!$W$3:$W$28,0))=13,BL35,BN35),\"\"))))","v":47},60]
[null,null,null,null,null,null,"E",null,"T30",30,{"$f":"J36&\"/\"&COUNTIF(J$7:J36,J36)","v":"30/1"},{"$f":"COUNTIF($J$7:J36,\">0\")","v":30},null,null,30,"T30","P30","",30,"T30","P30","",30,"T30","P30","",30,"T30","P30","",30,"T30","P30","",30,59,"vs",60,{"$f":"IF('Partie 1'!$E$3=\"\",\"\",IFERROR(IF(VLOOKUP(AJ36,'Partie 1'!$A$3:$E$28,5,0)=13,AJ36,AL36),IFERROR(IF(INDEX('Partie 1'!$G$3:$G$28,MATCH(AJ36,'Partie 1'!$K$3:$K$28,0))=13,AJ36,AL36),IFERROR(IF(VLOOKUP(AJ36,'Partie 1'!$M$3:$Q$28,5,0)=13,AJ36,AL36),IFERROR(IF(INDEX('Partie 1'!$S$3:$S$28,MATCH(AJ36,'Partie 1'!$W$3:$W$28,0))=13,AJ36,AL36),\"\")))))","v":59},60,{"$f":"IF(AJ36=\"\",\"\",AO35+$D$5/2)","v":63},39,24,"vs",22,{"$f":"IFERROR(IF(VLOOKUP(AQ36,'Partie 2'!$A$3:$E$28,5,0)=13,AQ36,AS36),IFERROR(IF(INDEX('Partie 2'!$G$3:$G$28,MATCH(AQ36,'Partie 2'!$K$3:$K$28,0))=13,AQ36,AS36),IFERROR(IF(VLOOKUP(AQ36,'Partie 2'!$M$3:$Q$28,5,0)=13,AQ36,AS36),IFERROR(IF(INDEX('Partie 2'!$S$3:$S$28,MATCH(AQ36,'Partie 2'!$W$3:$W$28,0))=13,AQ36,AS36),\"\"))))","v":24},22,63,39,48,"vs",44,{"$f":"IFERROR(IF(VLOOKUP(AX36,'Partie 3'!$A$3:$E$28,5,0)=13,AX36,AZ36),IFERROR(IF(INDEX('Partie 3'!$G$3:$G$28,MATCH(AX36,'Partie 3'!$K$3:$K$28,0))=13,AX36,AZ36),IFERROR(IF(VLOOKUP(AX36,'Partie 3'!$M$3:$Q$28,5,0)=13,AX36,AZ36),IFERROR(IF(INDEX('Partie 3'!$S$3:$S$28,MATCH(AX36,'Partie 3'!$W$3:$W$28,0))=13,AX36,AZ36),\"\"))))","v":48},44,63,39,95,"vs",88,{"$f":"IFERROR(IF(VLOOKUP(BE36,'Partie 4'!$A$3:$E$28,5,0)=13,BE36,BG36),IFERROR(IF(INDEX('Partie 4'!$G$3:$G$28,MATCH(BE36,'Partie 4'!$K$3:$K$28,0))=13,BE36,BG36),IFERROR(IF(VLOOKUP(BE36,'Partie 4'!$M$3:$Q$28,5,0)=13,BE36,BG36),IFERROR(IF(INDEX('Partie 4'!$S$3:$S$28,MATCH(BE36,'Partie 4'!$W$3:$W$28,0))=13,BE36,BG36),\"\"))))","v":95},88,63,39,96,"vs",78,{"$f":"IFERROR(IF(VLOOKUP(BL36,'Partie 4'!$A$3:$E$28,5,0)=13,BL36,BN36),IFERROR(IF(INDEX('Partie 4'!$G$3:$G$28,MATCH(BL36,'Partie 4'!$K$3:$K$28,0))=13,BL36,BN36),IFERROR(IF(VLOOKUP(BL36,'Partie 4'!$M$3:$Q$28,5,0)=13,BL36,BN36),IFERROR(IF(INDEX('Partie 4'!$S$3:$S$28,MATCH(BL36,'Partie 4'!$W$3:$W$28,0))=13,BL36,BN36),\"\"))))","v":78},96]
[null,null,null,null,null,null,"A",null,"T31",31,{"$f":"J37&\"/\"&COUNTIF(J$7:J37,J37)","v":"31/1"},{"$f":"COUNTIF($J$7:J37,\">0\")","v":31},null,null,31,"T31","P31","",31,"T31","P31","",31,"T31","P31","",31,"T31","P31","",31,"T31","P31","",31,61,"vs",62,{"$f":"IF('Partie 1'!$E$3=\"\",\"\",IFERROR(IF(VLOOKUP(AJ37,'Partie 1'!$A$3:$E$28,5,0)=13,AJ37,AL37),IFERROR(IF(INDEX('Partie 1'!$G$3:$G$28,MATCH(AJ37,'Partie 1'!$K$3:$K$28,0))=13,AJ37,AL37),IFERROR(IF(VLOOKUP(AJ37,'Partie 1'!$M$3:$Q$28,5,0)=13,AJ37,AL37),IFERROR(IF(INDEX('Partie 1'!$S$3:$S$28,MATCH(AJ37,'Partie 1'!$W$3:$W$28,0))=13,AJ37,AL37),\"\")))))","v":62},61,{"$f":"IF(AJ37=\"\",\"\",AO35+1)","v":16},88,28,"vs",26,{"$f":"IFERROR(IF(VLOOKUP(AQ37,'Partie 2'!$A$3:$E$28,5,0)=13,AQ37,AS37),IFERROR(IF(INDEX('Partie 2'!$G$3:$G$28,MATCH(AQ37,'Partie 2'!$K$3:$K$28,0))=13,AQ37,AS37),IFERROR(IF(VLOOKUP(AQ37,'Partie 2'!$M$3:$Q$28,5,0)=13,AQ37,AS37),IFERROR(IF(INDEX('Partie 2'!$S$3:$S$28,MATCH(AQ37,'Partie 2'!$W$3:$W$28,0))=13,AQ37,AS37),\"\"))))","v":26},28,16,88,56,"vs",51,{"$f":"IFERROR(IF(VLOOKUP(AX37,'Partie 3'!$A$3:$E$28,5,0)=13,AX37,AZ37),IFERROR(IF(INDEX('Partie 3'!$G$3:$G$28,MATCH(AX37,'Partie 3'!$K$3:$K$28,0))=13,AX37,AZ37),IFERROR(IF(VLOOKUP(AX37,'Partie 3'!$M$3:$Q$28,5,0)=13,AX37,AZ37),IFERROR(IF(INDEX('Partie 3'!$S$3:$S$28,MATCH(AX37,'Partie 3'!$W$3:$W$28,0))=13,AX37,AZ37),\"\"))))","v":51},56,16,88,14,"vs",8,{"$f":"IFERROR(IF(VLOOKUP(BE37,'Partie 4'!$A$3:$E$28,5,0)=13,BE37,BG37),IFERROR(IF(INDEX('Partie 4'!$G$3:$G$28,MATCH(BE37,'Partie 4'!$K$3:$K$28,0))=13,BE37,BG37),IFERROR(IF(VLOOKUP(BE37,'Partie 4'!$M$3:$Q$28,5,0)=13,BE37,BG37),IFERROR(IF(INDEX('Partie 4'!$S$3:$S$28,MATCH(BE37,'Partie 4'!$W$3:$W$28,0))=13,BE37,BG37),\"\"))))","v":8},14,16,88,27,"vs",15,{"$f":"IFERROR(IF(VLOOKUP(BL37,'Partie 4'!$A$3:$E$28,5,0)=13,BL37,BN37),IFERROR(IF(INDEX('Partie 4'!$G$3:$G$28,MATCH(BL37,'Partie 4'!$K$3:$K$28,0))=13,BL37,BN37),IFERROR(IF(VLOOKUP(BL37,'Partie 4'!$M$3:$Q$28,5,0)=13,BL37,BN37),IFERROR(IF(INDEX('Partie 4'!$S$3:$S$28,MATCH(BL37,'Partie 4'!$W$3:$W$28,0))=13,BL37,BN37),\"\"))))","v":15},27]
[null,null,null,null,null,null,"A",null,"T32",32,{"$f":"J38&\"/\"&COUNTIF(J$7:J38,J38)","v":"32/1"},{"$f":"COUNTIF($J$7:J38,\">0\")","v":32},null,null,32,"T32","P32","",32,"T32","P32","",32,"T32","P32","",32,"T32","P32","",32,"T32","P32","",32,63,"vs",64,{"$f":"IF('Partie 1'!$E$3=\"\",\"\",IFERROR(IF(VLOOKUP(AJ38,'Partie 1'!$A$3:$E$28,5,0)=13,AJ38,AL38),IFERROR(IF(INDEX('Partie 1'!$G$3:$G$28,MATCH(AJ38,'Partie 1'!$K$3:$K$28,0))=13,AJ38,AL38),IFERROR(IF(VLOOKUP(AJ38,'Partie 1'!$M$3:$Q$28,5,0)=13,AJ38,AL38),IFERROR(IF(INDEX('Partie 1'!$S$3:$S$28,MATCH(AJ38,'Partie 1'!$W$3:$W$28,0))=13,AJ38,AL38),\"\")))))","v":63},64,{"$f":"IF(AJ38=\"\",\"\",AO37+$D$5/2)","v":64},40,32,"vs",30,{"$f":"IFERROR(IF(VLOOKUP(AQ38,'Partie 2'!$A$3:$E$28,5,0)=13,AQ38,AS38),IFERROR(IF(INDEX('Partie 2'!$G$3:$G$28,MATCH(AQ38,'Partie 2'!$K$3:$K$28,0))=13,AQ38,AS38),IFERROR(IF(VLOOKUP(AQ38,'Partie 2'!$M$3:$Q$28,5,0)=13,AQ38,AS38),IFERROR(IF(INDEX('Partie 2'!$S$3:$S$28,MATCH(AQ38,'Partie 2'!$W$3:$W$28,0))=13,AQ38,AS38),\"\"))))","v":32},30,64,40,63,"vs",59,{"$f":"IFERROR(IF(VLOOKUP(AX38,'Partie 3'!$A$3:$E$28,5,0)=13,AX38,AZ38),IFERROR(IF(INDEX('Partie 3'!$G$3:$G$28,MATCH(AX38,'Partie 3'!$K$3:$K$28,0))=13,AX38,AZ38),IFERROR(IF(VLOOKUP(AX38,'Partie 3'!$M$3:$Q$28,5,0)=13,AX38,AZ38),IFERROR(IF(INDEX('Partie 3'!$S$3:$S$28,MATCH(AX38,'Partie 3'!$W$3:$W$28,0))=13,AX38,AZ38),\"\"))))","v":63},59,64,40,32,"vs",24,{"$f":"IFERROR(IF(VLOOKUP(BE38,'Partie 4'!$A$3:$E$28,5,0)=13,BE38,BG38),IFERROR(IF(INDEX('Partie 4'!$G$3:$G$28,MATCH(BE38,'Partie 4'!$K$3:$K$28,0))=13,BE38,BG38),IFERROR(IF(VLOOKUP(BE38,'Partie 4'!$M$3:$Q$28,5,0)=13,BE38,BG38),IFERROR(IF(INDEX('Partie 4'!$S$3:$S$28,MATCH(BE38,'Partie 4'!$W$3:$W$28,0))=13,BE38,BG38),\"\"))))","v":32},24,64,40,63,"vs",48,{"$f":"IFERROR(IF(VLOOKUP(BL38,'Partie 4'!$A$3:$E$28,5,0)=13,BL38,BN38),IFERROR(IF(INDEX('Partie 4'!$G$3:$G$28,MATCH(BL38,'Partie 4'!$K$3:$K$28,0))=13,BL38,BN38),IFERROR(IF(VLOOKUP(BL38,'Partie 4'!$M$3:$Q$28,5,0)=13,BL38,BN38),IFERROR(IF(INDEX('Partie 4'!$S$3:$S$28,MATCH(BL38,'Partie 4'!$W$3:$W$28,0))=13,BL38,BN38),\"\"))))","v":48},63]
[null,null,null,null,null,null,"A",null,"T33",33,{"$f":"J39&\"/\"&COUNTIF(J$7:J39,J39)","v":"33/1"},{"$f":"COUNTIF($J$7:J39,\">0\")","v":33},null,null,33,"T33","P33","",33,"T33","P33","",33,"T33","P33","",33,"T33","P33","",33,"T33","P33","",33,{"$f":"IF(ROW()-6<=$E$4/2,AJ38+2,\"\")","v":65},{"$f":"IF(AJ39=\"\",\"\",\"vs\")","v":"vs"},{"$f":"IF(ROW()-6<=$E$4/2,AL38+2,\"\")","v":66},{"$f":"IF('Partie 1'!$E$3=\"\",\"\",IFERROR(IF(VLOOKUP(AJ39,'Partie 1'!$A$3:$E$28,5,0)=13,AJ39,AL39),IFERROR(IF(INDEX('Partie 1'!$G$3:$G$28,MATCH(AJ39,'Partie 1'!$K$3:$K$28,0))=13,AJ39,AL39),IFERROR(IF(VLOOKUP(AJ39,'Partie 1'!$M$3:$Q$28,5,0)=13,AJ39,AL39),IFERROR(IF(INDEX('Partie 1'!$S$3:$S$28,MATCH(AJ39,'Partie 1'!$W$3:$W$28,0))=13,AJ39,AL39),\"\")))))","v":66},65,{"$f":"IF(AJ39=\"\",\"\",AO37+1)","v":17},{"$f":"IF(AO39=\"\",\"\",AP37+1)","v":89},35,{"$f":"IF(AQ39=\"\",\"\",\"vs\")","v":"vs"},33,{"$f":"IFERROR(IF(VLOOKUP(AQ39,'Partie 2'!$A$3:$E$28,5,0)=13,AQ39,AS39),IFERROR(IF(INDEX('Partie 2'!$G$3:$G$28,MATCH(AQ39,'Partie 2'!$K$3:$K$28,0))=13,AQ39,AS39),IFERROR(IF(VLOOKUP(AQ39,'Partie 2'!$M$3:$Q$28,5,0)=13,AQ39,AS39),IFERROR(IF(INDEX('Partie 2'!$S$3:$S$28,MATCH(AQ39,'Partie 2'!$W$3:$W$28,0))=13,AQ39,AS39),\"\"))))","v":33},35,{"$f":"AO39","v":17},{"$f":"AP39","v":89},{"$f":"IF(AT39=\"\",\"\",IFERROR(INDEX(AT:AT,MATCH(ROW()-6,AV:AV,0)),INDEX(AU:AU,MATCH(ROW()-6,AW:AW,0))))","v":69},{"$f":"IF(AX39=\"\",\"\",\"vs\")","v":"vs"},66,{"$f":"IFERROR(IF(VLOOKUP(AX39,'Partie 3'!$A$3:$E$28,5,0)=13,AX39,AZ39),IFERROR(IF(INDEX('Partie 3'!$G$3:$G$28,MATCH(AX39,'Partie 3'!$K$3:$K$28,0))=13,AX39,AZ39),IFERROR(IF(VLOOKUP(AX39,'Partie 3'!$M$3:$Q$28,5,0)=13,AX39,AZ39),IFERROR(IF(INDEX('Partie 3'!$S$3:$S$28,MATCH(AX39,'Partie 3'!$W$3:$W$28,0))=13,AX39,AZ39),\"\"))))","v":66},{"$f":"IF(BA39=AX39,AZ39,AX39)","v":69},{"$f":"AV39","v":17},{"$f":"AW39","v":89},{"$f":"IF(BA39=\"\",\"\",IFERROR(INDEX(BA:BA,MATCH(ROW()-6,BC:BC,0)),INDEX(BB:BB,MATCH(ROW()-6,BD:BD,0))))","v":43},{"$f":"IF(BE39=\"\",\"\",\"vs\")","v":"vs"},33,{"$f":"IFERROR(IF(VLOOKUP(BE39,'Partie 4'!$A$3:$E$28,5,0)=13,BE39,BG39),IFERROR(IF(INDEX('Partie 4'!$G$3:$G$28,MATCH(BE39,'Partie 4'!$K$3:$K$28,0))=13,BE39,BG39),IFERROR(IF(VLOOKUP(BE39,'Partie 4'!$M$3:$Q$28,5,0)=13,BE39,BG39),IFERROR(IF(INDEX('Partie 4'!$S$3:$S$28,MATCH(BE39,'Partie 4'!$W$3:$W$28,0))=13,BE39,BG39),\"\"))))","v":33},{"$f":"IF(BH39=BE39,BG39,BE39)","v":43},17,89,86,"vs",66,{"$f":"IFERROR(IF(VLOOKUP(BL39,'Partie 4'!$A$3:$E$28,5,0)=13,BL39,BN39),IFERROR(IF(INDEX('Partie 4'!$G$3:$G$28,MATCH(BL39,'Partie 4'!$K$3:$K$28,0))=13,BL39,BN39),IFERROR(IF(VLOOKUP(BL39,'Partie 4'!$M$3:$Q$28,5,0)=13,BL39,BN39),IFERROR(IF(INDEX('Partie 4'!$S$3:$S$28,MATCH(BL39,'Partie 4'!$W$3:$W$28,0))=13,BL39,BN39),\"\"))))","v":66},86]
[null,null,null,null,null,null,"A",null,"T34",34,{"$f":"J40&\"/\"&COUNTIF(J$7:J40,J40)","v":"34/1"},{"$f":"COUNTIF($J$7:J40,\">0\")","v":34},null,null,34,"T34","P34","",34,"T34","P34","",34,"T34","P34","",34,"T34","P34","",34,"T34","P34","",34,{"$f":"IF(ROW()-6<=$E$4/2,AJ39+2,\"\")","v":67},"vs",{"$f":"IF(ROW()-6<=$E$4/2,AL39+2,\"\")","v":68},{"$f":"IF('Partie 1'!$E$3=\"\",\"\",IFERROR(IF(VLOOKUP(AJ40,'Partie 1'!$A$3:$E$28,5,0)=13,AJ40,AL40),IFERROR(IF(INDEX('Partie 1'!$G$3:$G$28,MATCH(AJ40,'Partie 1'!$K$3:$K$28,0))=13,AJ40,AL40),IFERROR(IF(VLOOKUP(AJ40,'Partie 1'!$M$3:$Q$28,5,0)=13,AJ40,AL40),IFERROR(IF(INDEX('Partie 1'!$S$3:$S$28,MATCH(AJ40,'Partie 1'!$W$3:$W$28,0))=13,AJ40,AL40),\"\")))))","v":68},67,{"$f":"IF(AJ40=\"\",\"\",AO39+$D$5/2)","v":65},41,40,"vs",38,{"$f":"IFERROR(IF(VLOOKUP(AQ40,'Partie 2'!$A$3:$E$28,5,0)=13,AQ40,AS40),IFERROR(IF(INDEX('Partie 2'!$G$3:$G$28,MATCH(AQ40,'Partie 2'!$K$3:$K$28,0))=13,AQ40,AS40),IFERROR(IF(VLOOKUP(AQ40,'Partie 2'!$M$3:$Q$28,5,0)=13,AQ40,AS40),IFERROR(IF(INDEX('Partie 2'!$S$3:$S$28,MATCH(AQ40,'Partie 2'!$W$3:$W$28,0))=13,AQ40,AS40),\"\"))))","v":38},40,65,41,80,"vs",76,{"$f":"IFERROR(IF(VLOOKUP(AX40,'Partie 3'!$A$3:$E$28,5,0)=13,AX40,AZ40),IFERROR(IF(INDEX('Partie 3'!$G$3:$G$28,MATCH(AX40,'Partie 3'!$K$3:$K$28,0))=13,AX40,AZ40),IFERROR(IF(VLOOKUP(AX40,'Partie 3'!$M$3:$Q$28,5,0)=13,AX40,AZ40),IFERROR(IF(INDEX('Partie 3'!$S$3:$S$28,MATCH(AX40,'Partie 3'!$W$3:$W$28,0))=13,AX40,AZ40),\"\"))))","v":76},80,65,41,61,"vs",53,{"$f":"IFERROR(IF(VLOOKUP(BE40,'Partie 4'!$A$3:$E$28,5,0)=13,BE40,BG40),IFERROR(IF(INDEX('Partie 4'!$G$3:$G$28,MATCH(BE40,'Partie 4'!$K$3:$K$28,0))=13,BE40,BG40),IFERROR(IF(VLOOKUP(BE40,'Partie 4'!$M$3:$Q$28,5,0)=13,BE40,BG40),IFERROR(IF(INDEX('Partie 4'!$S$3:$S$28,MATCH(BE40,'Partie 4'!$W$3:$W$28,0))=13,BE40,BG40),\"\"))))","v":53},61,65,41,28,"vs",12,{"$f":"IFERROR(IF(VLOOKUP(BL40,'Partie 4'!$A$3:$E$28,5,0)=13,BL40,BN40),IFERROR(IF(INDEX('Partie 4'!$G$3:$G$28,MATCH(BL40,'Partie 4'!$K$3:$K$28,0))=13,BL40,BN40),IFERROR(IF(VLOOKUP(BL40,'Partie 4'!$M$3:$Q$28,5,0)=13,BL40,BN40),IFERROR(IF(INDEX('Partie 4'!$S$3:$S$28,MATCH(BL40,'Partie 4'!$W$3:$W$28,0))=13,BL40,BN40),\"\"))))","v":12},28]
[null,null,null,null,null,null,"A",null,"T35",35,{"$f":"J41&\"/\"&COUNTIF(J$7:J41,J41)","v":"35/1"},{"$f":"COUNTIF($J$7:J41,\">0\")","v":35},null,null,35,"T35","P35","",35,"T35","P35","",35,"T35","P35","",35,"T35","P35","",35,"T35","P35","",35,{"$f":"IF(ROW()-6<=$E$4/2,AJ40+2,\"\")","v":69},"vs",{"$f":"IF(ROW()-6<=$E$4/2,AL40+2,\"\")","v":70},{"$f":"IF('Partie 1'!$E$3=\"\",\"\",IFERROR(IF(VLOOKUP(AJ41,'Partie 1'!$A$3:$E$28,5,0)=13,AJ41,AL41),IFERROR(IF(INDEX('Partie 1'!$G$3:$G$28,MATCH(AJ41,'Partie 1'!$K$3:$K$28,0))=13,AJ41,AL41),IFERROR(IF(VLOOKUP(AJ41,'Partie 1'!$M$3:$Q$28,5,0)=13,AJ41,AL41),IFERROR(IF(INDEX('Partie 1'!$S$3:$S$28,MATCH(AJ41,'Partie 1'!$W$3:$W$28,0))=13,AJ41,AL41),\"\")))))","v":69},70,{"$f":"IF(AJ41=\"\",\"\",AO39+1)","v":18},90,43,"vs",41,{"$f":"IFERROR(IF(VLOOKUP(AQ41,'Partie 2'!$A$3:$E$28,5,0)=13,AQ41,AS41),IFERROR(IF(INDEX('Partie 2'!$G$3:$G$28,MATCH(AQ41,'Partie 2'!$K$3:$K$28,0))=13,AQ41,AS41),IFERROR(IF(VLOOKUP(AQ41,'Partie 2'!$M$3:$Q$28,5,0)=13,AQ41,AS41),IFERROR(IF(INDEX('Partie 2'!$S$3:$S$28,MATCH(AQ41,'Partie 2'!$W$3:$W$28,0))=13,AQ41,AS41),\"\"))))","v":43},41,18,90,86,"vs",81,{"$f":"IFERROR(IF(VLOOKUP(AX41,'Partie 3'!$A$3:$E$28,5,0)=13,AX41,AZ41),IFERROR(IF(INDEX('Partie 3'!$G$3:$G$28,MATCH(AX41,'Partie 3'!$K$3:$K$28,0))=13,AX41,AZ41),IFERROR(IF(VLOOKUP(AX41,'Partie 3'!$M$3:$Q$28,5,0)=13,AX41,AZ41),IFERROR(IF(INDEX('Partie 3'!$S$3:$S$28,MATCH(AX41,'Partie 3'!$W$3:$W$28,0))=13,AX41,AZ41),\"\"))))","v":86},81,18,90,73,"vs",67,{"$f":"IFERROR(IF(VLOOKUP(BE41,'Partie 4'!$A$3:$E$28,5,0)=13,BE41,BG41),IFERROR(IF(INDEX('Partie 4'!$G$3:$G$28,MATCH(BE41,'Partie 4'!$K$3:$K$28,0))=13,BE41,BG41),IFERROR(IF(VLOOKUP(BE41,'Partie 4'!$M$3:$Q$28,5,0)=13,BE41,BG41),IFERROR(IF(INDEX('Partie 4'!$S$3:$S$28,MATCH(BE41,'Partie 4'!$W$3:$W$28,0))=13,BE41,BG41),\"\"))))","v":73},67,18,90,52,"vs",40,{"$f":"IFERROR(IF(VLOOKUP(BL41,'Partie 4'!$A$3:$E$28,5,0)=13,BL41,BN41),IFERROR(IF(INDEX('Partie 4'!$G$3:$G$28,MATCH(BL41,'Partie 4'!$K$3:$K$28,0))=13,BL41,BN41),IFERROR(IF(VLOOKUP(BL41,'Partie 4'!$M$3:$Q$28,5,0)=13,BL41,BN41),IFERROR(IF(INDEX('Partie 4'!$S$3:$S$28,MATCH(BL41,'Partie 4'!$W$3:$W$28,0))=13,BL41,BN41),\"\"))))","v":40},52]
[null,null,null,null,null,null,"A",null,"T36",36,{"$f":"J42&\"/\"&COUNTIF(J$7:J42,J42)","v":"36/1"},{"$f":"COUNTIF($J$7:J42,\">0\")","v":36},null,null,36,"T36","P36","",36,"T36","P36","",36,"T36","P36","",36,"T36","P36","",36,"T36","P36","",36,{"$f":"IF(ROW()-6<=$E$4/2,AJ41+2,\"\")","v":71},"vs",{"$f":"IF(ROW()-6<=$E$4/2,AL41+2,\"\")","v":72},{"$f":"IF('Partie 1'!$E$3=\"\",\"\",IFERROR(IF(VLOOKUP(AJ42,'Partie 1'!$A$3:$E$28,5,0)=13,AJ42,AL42),IFERROR(IF(INDEX('Partie 1'!$G$3:$G$28,MATCH(AJ42,'Partie 1'!$K$3:$K$28,0))=13,AJ42,AL42),IFERROR(IF(VLOOKUP(AJ42,'Partie 1'!$M$3:$Q$28,5,0)=13,AJ42,AL42),IFERROR(IF(INDEX('Partie 1'!$S$3:$S$28,MATCH(AJ42,'Partie 1'!$W$3:$W$28,0))=13,AJ42,AL42),\"\")))))","v":71},72,{"$f":"IF(AJ42=\"\",\"\",AO41+$D$5/2)","v":66},42,47,"vs",46,{"$f":"IFERROR(IF(VLOOKUP(AQ42,'Partie 2'!$A$3:$E$28,5,0)=13,AQ42,AS42),IFERROR(IF(INDEX('Partie 2'!$G$3:$G$28,MATCH(AQ42,'Partie 2'!$K$3:$K$28,0))=13,AQ42,AS42),IFERROR(IF(VLOOKUP(AQ42,'Partie 2'!$M$3:$Q$28,5,0)=13,AQ42,AS42),IFERROR(IF(INDEX('Partie 2'!$S$3:$S$28,MATCH(AQ42,'Partie 2'!$W$3:$W$28,0))=13,AQ42,AS42),\"\"))))","v":47},46,66,42,94,"vs",91,{"$f":"IFERROR(IF(VLOOKUP(AX42,'Partie 3'!$A$3:$E$28,5,0)=13,AX42,AZ42),IFERROR(IF(INDEX('Partie 3'!$G$3:$G$28,MATCH(AX42,'Partie 3'!$K$3:$K$28,0))=13,AX42,AZ42),IFERROR(IF(VLOOKUP(AX42,'Partie 3'!$M$3:$Q$28,5,0)=13,AX42,AZ42),IFERROR(IF(INDEX('Partie 3'!$S$3:$S$28,MATCH(AX42,'Partie 3'!$W$3:$W$28,0))=13,AX42,AZ42),\"\"))))","v":94},91,66,42,90,"vs",87,{"$f":"IFERROR(IF(VLOOKUP(BE42,'Partie 4'!$A$3:$E$28,5,0)=13,BE42,BG42),IFERROR(IF(INDEX('Partie 4'!$G$3:$G$28,MATCH(BE42,'Partie 4'!$K$3:$K$28,0))=13,BE42,BG42),IFERROR(IF(VLOOKUP(BE42,'Partie 4'!$M$3:$Q$28,5,0)=13,BE42,BG42),IFERROR(IF(INDEX('Partie 4'!$S$3:$S$28,MATCH(BE42,'Partie 4'!$W$3:$W$28,0))=13,BE42,BG42),\"\"))))","v":90},87,66,42,82,"vs",79,{"$f":"IFERROR(IF(VLOOKUP(BL42,'Partie 4'!$A$3:$E$28,5,0)=13,BL42,BN42),IFERROR(IF(INDEX('Partie 4'!$G$3:$G$28,MATCH(BL42,'Partie 4'!$K$3:$K$28,0))=13,BL42,BN42),IFERROR(IF(VLOOKUP(BL42,'Partie 4'!$M$3:$Q$28,5,0)=13,BL42,BN42),IFERROR(IF(INDEX('Partie 4'!$S$3:$S$28,MATCH(BL42,'Partie 4'!$W$3:$W$28,0))=13,BL42,BN42),\"\"))))","v":79},82]
[null,null,null,null,null,null,"A",null,"T37",37,{"$f":"J43&\"/\"&COUNTIF(J$7:J43,J43)","v":"37/1"},{"$f":"COUNTIF($J$7:J43,\">0\")","v":37},null,null,37,"T37","P37","",37,"T37","P37","",37,"T37","P37","",37,"T37","P37","",37,"T37","P37","",37,{"$f":"IF(ROW()-6<=$E$4/2,AJ42+2,\"\")","v":73},"vs",{"$f":"IF(ROW()-6<=$E$4/2,AL42+2,\"\")","v":74},{"$f":"IF('Partie 1'!$E$3=\"\",\"\",IFERROR(IF(VLOOKUP(AJ43,'Partie 1'!$A$3:$E$28,5,0)=13,AJ43,AL43),IFERROR(IF(INDEX('Partie 1'!$G$3:$G$28,MATCH(AJ43,'Partie 1'!$K$3:$K$28,0))=13,AJ43,AL43),IFERROR(IF(VLOOKUP(AJ43,'Partie 1'!$M$3:$Q$28,5,0)=13,AJ43,AL43),IFERROR(IF(INDEX('Partie 1'!$S$3:$S$28,MATCH(AJ43,'Partie 1'!$W$3:$W$28,0))=13,AJ43,AL43),\"\")))))","v":74},73,{"$f":"IF(AJ43=\"\",\"\",AO41+1)","v":19},91,52,"vs",50,{"$f":"IFERROR(IF(VLOOKUP(AQ43,'Partie 2'!$A$3:$E$28,5,0)=13,AQ43,AS43),IFERROR(IF(INDEX('Partie 2'!$G$3:$G$28,MATCH(AQ43,'Partie 2'!$K$3:$K$28,0))=13,AQ43,AS43),IFERROR(IF(VLOOKUP(AQ43,'Partie 2'!$M$3:$Q$28,5,0)=13,AQ43,AS43),IFERROR(IF(INDEX('Partie 2'!$S$3:$S$28,MATCH(AQ43,'Partie 2'!$W$3:$W$28,0))=13,AQ43,AS43),\"\"))))","v":50},52,19,91,6,"vs",2,{"$f":"IFERROR(IF(VLOOKUP(AX43,'Partie 3'!$A$3:$E$28,5,0)=13,AX43,AZ43),IFERROR(IF(INDEX('Partie 3'!$G$3:$G$28,MATCH(AX43,'Partie 3'!$K$3:$K$28,0))=13,AX43,AZ43),IFERROR(IF(VLOOKUP(AX43,'Partie 3'!$M$3:$Q$28,5,0)=13,AX43,AZ43),IFERROR(IF(INDEX('Partie 3'!$S$3:$S$28,MATCH(AX43,'Partie 3'!$W$3:$W$28,0))=13,AX43,AZ43),\"\"))))","v":2},6,19,91,11,"vs",3,{"$f":"IFERROR(IF(VLOOKUP(BE43,'Partie 4'!$A$3:$E$28,5,0)=13,BE43,BG43),IFERROR(IF(INDEX('Partie 4'!$G$3:$G$28,MATCH(BE43,'Partie 4'!$K$3:$K$28,0))=13,BE43,BG43),IFERROR(IF(VLOOKUP(BE43,'Partie 4'!$M$3:$Q$28,5,0)=13,BE43,BG43),IFERROR(IF(INDEX('Partie 4'!$S$3:$S$28,MATCH(BE43,'Partie 4'!$W$3:$W$28,0))=13,BE43,BG43),\"\"))))","v":3},11,19,91,21,"vs",5,{"$f":"IFERROR(IF(VLOOKUP(BL43,'Partie 4'!$A$3:$E$28,5,0)=13,BL43,BN43),IFERROR(IF(INDEX('Partie 4'!$G$3:$G$28,MATCH(BL43,'Partie 4'!$K$3:$K$28,0))=13,BL43,BN43),IFERROR(IF(VLOOKUP(BL43,'Partie 4'!$M$3:$Q$28,5,0)=13,BL43,BN43),IFERROR(IF(INDEX('Partie 4'!$S$3:$S$28,MATCH(BL43,'Partie 4'!$W$3:$W$28,0))=13,BL43,BN43),\"\"))))","v":5},21]
[null,null,null,null,null,null,"A",null,"T38",38,{"$f":"J44&\"/\"&COUNTIF(J$7:J44,J44)","v":"38/1"},{"$f":"COUNTIF($J$7:J44,\">0\")","v":38},null,null,38,"T38","P38","",38,"T38","P38","",38,"T38","P38","",38,"T38","P38","",38,"T38","P38","",38,{"$f":"IF(ROW()-6<=$E$4/2,AJ43+2,\"\")","v":75},"vs",{"$f":"IF(ROW()-6<=$E$4/2,AL43+2,\"\")","v":76},{"$f":"IF('Partie 1'!$E$3=\"\",\"\",IFERROR(IF(VLOOKUP(AJ44,'Partie 1'!$A$3:$E$28,5,0)=13,AJ44,AL44),IFERROR(IF(INDEX('Partie 1'!$G$3:$G$28,MATCH(AJ44,'Partie 1'!$K$3:$K$28,0))=13,AJ44,AL44),IFERROR(IF(VLOOKUP(AJ44,'Partie 1'!$M$3:$Q$28,5,0)=13,AJ44,AL44),IFERROR(IF(INDEX('Partie 1'!$S$3:$S$28,MATCH(AJ44,'Partie 1'!$W$3:$W$28,0))=13,AJ44,AL44),\"\")))))","v":76},75,{"$f":"IF(AJ44=\"\",\"\",AO43+$D$5/2)","v":67},43,55,"vs",53,{"$f":"IFERROR(IF(VLOOKUP(AQ44,'Partie 2'!$A$3:$E$28,5,0)=13,AQ44,AS44),IFERROR(IF(INDEX('Partie 2'!$G$3:$G$28,MATCH(AQ44,'Partie 2'!$K$3:$K$28,0))=13,AQ44,AS44),IFERROR(IF(VLOOKUP(AQ44,'Partie 2'!$M$3:$Q$28,5,0)=13,AQ44,AS44),IFERROR(IF(INDEX('Partie 2'!$S$3:$S$28,MATCH(AQ44,'Partie 2'!$W$3:$W$28,0))=13,AQ44,AS44),\"\"))))","v":53},55,67,43,16,"vs",12,{"$f":"IFERROR(IF(VLOOKUP(AX44,'Partie 3'!$A$3:$E$28,5,0)=13,AX44,AZ44),IFERROR(IF(INDEX('Partie 3'!$G$3:$G$28,MATCH(AX44,'Partie 3'!$K$3:$K$28,0))=13,AX44,AZ44),IFERROR(IF(VLOOKUP(AX44,'Partie 3'!$M$3:$Q$28,5,0)=13,AX44,AZ44),IFERROR(IF(INDEX('Partie 3'!$S$3:$S$28,MATCH(AX44,'Partie 3'!$W$3:$W$28,0))=13,AX44,AZ44),\"\"))))","v":12},16,67,43,31,"vs",23,{"$f":"IFERROR(IF(VLOOKUP(BE44,'Partie 4'!$A$3:$E$28,5,0)=13,BE44,BG44),IFERROR(IF(INDEX('Partie 4'!$G$3:$G$28,MATCH(BE44,'Partie 4'!$K$3:$K$28,0))=13,BE44,BG44),IFERROR(IF(VLOOKUP(BE44,'Partie 4'!$M$3:$Q$28,5,0)=13,BE44,BG44),IFERROR(IF(INDEX('Partie 4'!$S$3:$S$28,MATCH(BE44,'Partie 4'!$W$3:$W$28,0))=13,BE44,BG44),\"\"))))","v":23},31,67,43,62,"vs",45,{"$f":"IFERROR(IF(VLOOKUP(BL44,'Partie 4'!$A$3:$E$28,5,0)=13,BL44,BN44),IFERROR(IF(INDEX('Partie 4'!$G$3:$G$28,MATCH(BL44,'Partie 4'!$K$3:$K$28,0))=13,BL44,BN44),IFERROR(IF(VLOOKUP(BL44,'Partie 4'!$M$3:$Q$28,5,0)=13,BL44,BN44),IFERROR(IF(INDEX('Partie 4'!$S$3:$S$28,MATCH(BL44,'Partie 4'!$W$3:$W$28,0))=13,BL44,BN44),\"\"))))","v":45},62]
[null,null,null,null,null,null,"A",null,"T39",39,{"$f":"J45&\"/\"&COUNTIF(J$7:J45,J45)","v":"39/1"},{"$f":"COUNTIF($J$7:J45,\">0\")","v":39},null,null,39,"T39","P39","",39,"T39","P39","",39,"T39","P39","",39,"T39","P39","",39,"T39","P39","",39,{"$f":"IF(ROW()-6<=$E$4/2,AJ44+2,\"\")","v":77},"vs",{"$f":"IF(ROW()-6<=$E$4/2,AL44+2,\"\")","v":78},{"$f":"IF('Partie 1'!$E$3=\"\",\"\",IFERROR(IF(VLOOKUP(AJ45,'Partie 1'!$A$3:$E$28,5,0)=13,AJ45,AL45),IFERROR(IF(INDEX('Partie 1'!$G$3:$G$28,MATCH(AJ45,'Partie 1'!$K$3:$K$28,0))=13,AJ45,AL45),IFERROR(IF(VLOOKUP(AJ45,'Partie 1'!$M$3:$Q$28,5,0)=13,AJ45,AL45),IFERROR(IF(INDEX('Partie 1'!$S$3:$S$28,MATCH(AJ45,'Partie 1'!$W$3:$W$28,0))=13,AJ45,AL45),\"\")))))","v":77},78,{"$f":"IF(AJ45=\"\",\"\",AO43+1)","v":20},92,60,"vs",58,{"$f":"IFERROR(IF(VLOOKUP(AQ45,'Partie 2'!$A$3:$E$28,5,0)=13,AQ45,AS45),IFERROR(IF(INDEX('Partie 2'!$G$3:$G$28,MATCH(AQ45,'Partie 2'!$K$3:$K$28,0))=13,AQ45,AS45),IFERROR(IF(VLOOKUP(AQ45,'Partie 2'!$M$3:$Q$28,5,0)=13,AQ45,AS45),IFERROR(IF(INDEX('Partie 2'!$S$3:$S$28,MATCH(AQ45,'Partie 2'!$W$3:$W$28,0))=13,AQ45,AS45),\"\"))))","v":60},58,20,92,22,"vs",18,{"$f":"IFERROR(IF(VLOOKUP(AX45,'Partie 3'!$A$3:$E$28,5,0)=13,AX45,AZ45),IFERROR(IF(INDEX('Partie 3'!$G$3:$G$28,MATCH(AX45,'Partie 3'!$K$3:$K$28,0))=13,AX45,AZ45),IFERROR(IF(VLOOKUP(AX45,'Partie 3'!$M$3:$Q$28,5,0)=13,AX45,AZ45),IFERROR(IF(INDEX('Partie 3'!$S$3:$S$28,MATCH(AX45,'Partie 3'!$W$3:$W$28,0))=13,AX45,AZ45),\"\"))))","v":22},18,20,92,44,"vs",36,{"$f":"IFERROR(IF(VLOOKUP(BE45,'Partie 4'!$A$3:$E$28,5,0)=13,BE45,BG45),IFERROR(IF(INDEX('Partie 4'!$G$3:$G$28,MATCH(BE45,'Partie 4'!$K$3:$K$28,0))=13,BE45,BG45),IFERROR(IF(VLOOKUP(BE45,'Partie 4'!$M$3:$Q$28,5,0)=13,BE45,BG45),IFERROR(IF(INDEX('Partie 4'!$S$3:$S$28,MATCH(BE45,'Partie 4'!$W$3:$W$28,0))=13,BE45,BG45),\"\"))))","v":44},36,20,92,88,"vs",71,{"$f":"IFERROR(IF(VLOOKUP(BL45,'Partie 4'!$A$3:$E$28,5,0)=13,BL45,BN45),IFERROR(IF(INDEX('Partie 4'!$G$3:$G$28,MATCH(BL45,'Partie 4'!$K$3:$K$28,0))=13,BL45,BN45),IFERROR(IF(VLOOKUP(BL45,'Partie 4'!$M$3:$Q$28,5,0)=13,BL45,BN45),IFERROR(IF(INDEX('Partie 4'!$S$3:$S$28,MATCH(BL45,'Partie 4'!$W$3:$W$28,0))=13,BL45,BN45),\"\"))))","v":71},88]
[null,null,null,null,null,null,"A",null,"T40",40,{"$f":"J46&\"/\"&COUNTIF(J$7:J46,J46)","v":"40/1"},{"$f":"COUNTIF($J$7:J46,\">0\")","v":40},null,null,40,"T40","P40","",40,"T40","P40","",40,"T40","P40","",40,"T40","P40","",40,"T40","P40","",40,{"$f":"IF(ROW()-6<=$E$4/2,AJ45+2,\"\")","v":79},"vs",{"$f":"IF(ROW()-6<=$E$4/2,AL45+2,\"\")","v":80},{"$f":"IF('Partie 1'!$E$3=\"\",\"\",IFERROR(IF(VLOOKUP(AJ46,'Partie 1'!$A$3:$E$28,5,0)=13,AJ46,AL46),IFERROR(IF(INDEX('Partie 1'!$G$3:$G$28,MATCH(AJ46,'Partie 1'!$K$3:$K$28,0))=13,AJ46,AL46),IFERROR(IF(VLOOKUP(AJ46,'Partie 1'!$M$3:$Q$28,5,0)=13,AJ46,AL46),IFERROR(IF(INDEX('Partie 1'!$S$3:$S$28,MATCH(AJ46,'Partie 1'!$W$3:$W$28,0))=13,AJ46,AL46),\"\")))))","v":80},79,{"$f":"IF(AJ46=\"\",\"\",AO45+$D$5/2)","v":68},44,64,"vs",61,{"$f":"IFERROR(IF(VLOOKUP(AQ46,'Partie 2'!$A$3:$E$28,5,0)=13,AQ46,AS46),IFERROR(IF(INDEX('Partie 2'!$G$3:$G$28,MATCH(AQ46,'Partie 2'!$K$3:$K$28,0))=13,AQ46,AS46),IFERROR(IF(VLOOKUP(AQ46,'Partie 2'!$M$3:$Q$28,5,0)=13,AQ46,AS46),IFERROR(IF(INDEX('Partie 2'!$S$3:$S$28,MATCH(AQ46,'Partie 2'!$W$3:$W$28,0))=13,AQ46,AS46),\"\"))))","v":61},64,68,44,30,"vs",28,{"$f":"IFERROR(IF(VLOOKUP(AX46,'Partie 3'!$A$3:$E$28,5,0)=13,AX46,AZ46),IFERROR(IF(INDEX('Partie 3'!$G$3:$G$28,MATCH(AX46,'Partie 3'!$K$3:$K$28,0))=13,AX46,AZ46),IFERROR(IF(VLOOKUP(AX46,'Partie 3'!$M$3:$Q$28,5,0)=13,AX46,AZ46),IFERROR(IF(INDEX('Partie 3'!$S$3:$S$28,MATCH(AX46,'Partie 3'!$W$3:$W$28,0))=13,AX46,AZ46),\"\"))))","v":28},30,68,44,59,"vs",56,{"$f":"IFERROR(IF(VLOOKUP(BE46,'Partie 4'!$A$3:$E$28,5,0)=13,BE46,BG46),IFERROR(IF(INDEX('Partie 4'!$G$3:$G$28,MATCH(BE46,'Partie 4'!$K$3:$K$28,0))=13,BE46,BG46),IFERROR(IF(VLOOKUP(BE46,'Partie 4'!$M$3:$Q$28,5,0)=13,BE46,BG46),IFERROR(IF(INDEX('Partie 4'!$S$3:$S$28,MATCH(BE46,'Partie 4'!$W$3:$W$28,0))=13,BE46,BG46),\"\"))))","v":56},59,68,44,24,"vs",14,{"$f":"IFERROR(IF(VLOOKUP(BL46,'Partie 4'!$A$3:$E$28,5,0)=13,BL46,BN46),IFERROR(IF(INDEX('Partie 4'!$G$3:$G$28,MATCH(BL46,'Partie 4'!$K$3:$K$28,0))=13,BL46,BN46),IFERROR(IF(VLOOKUP(BL46,'Partie 4'!$M$3:$Q$28,5,0)=13,BL46,BN46),IFERROR(IF(INDEX('Partie 4'!$S$3:$S$28,MATCH(BL46,'Partie 4'!$W$3:$W$28,0))=13,BL46,BN46),\"\"))))","v":14},24]
[null,null,null,null,null,null,"A",null,"T41",41,{"$f":"J47&\"/\"&COUNTIF(J$7:J47,J47)","v":"41/1"},{"$f":"COUNTIF($J$7:J47,\">0\")","v":41},null,null,41,"T41","P41","",41,"T41","P41","",41,"T41","P41","",41,"T41","P41","",41,"T41","P41","",41,{"$f":"IF(ROW()-6<=$E$4/2,AJ46+2,\"\")","v":81},"vs",{"$f":"IF(ROW()-6<=$E$4/2,AL46+2,\"\")","v":82},{"$f":"IF('Partie 1'!$E$3=\"\",\"\",IFERROR(IF(VLOOKUP(AJ47,'Partie 1'!$A$3:$E$28,5,0)=13,AJ47,AL47),IFERROR(IF(INDEX('Partie 1'!$G$3:$G$28,MATCH(AJ47,'Partie 1'!$K$3:$K$28,0))=13,AJ47,AL47),IFERROR(IF(VLOOKUP(AJ47,'Partie 1'!$M$3:$Q$28,5,0)=13,AJ47,AL47),IFERROR(IF(INDEX('Partie 1'!$S$3:$S$28,MATCH(AJ47,'Partie 1'!$W$3:$W$28,0))=13,AJ47,AL47),\"\")))))","v":81},82,{"$f":"IF(AJ47=\"\",\"\",AO45+1)","v":21},93,67,"vs",65,{"$f":"IFERROR(IF(VLOOKUP(AQ47,'Partie 2'!$A$3:$E$28,5,0)=13,AQ47,AS47),IFERROR(IF(INDEX('Partie 2'!$G$3:$G$28,MATCH(AQ47,'Partie 2'!$K$3:$K$28,0))=13,AQ47,AS47),IFERROR(IF(VLOOKUP(AQ47,'Partie 2'!$M$3:$Q$28,5,0)=13,AQ47,AS47),IFERROR(IF(INDEX('Partie 2'!$S$3:$S$28,MATCH(AQ47,'Partie 2'!$W$3:$W$28,0))=13,AQ47,AS47),\"\"))))","v":67},65,21,93,40,"vs",35,{"$f":"IFERROR(IF(VLOOKUP(AX47,'Partie 3'!$A$3:$E$28,5,0)=13,AX47,AZ47),IFERROR(IF(INDEX('Partie 3'!$G$3:$G$28,MATCH(AX47,'Partie 3'!$K$3:$K$28,0))=13,AX47,AZ47),IFERROR(IF(VLOOKUP(AX47,'Partie 3'!$M$3:$Q$28,5,0)=13,AX47,AZ47),IFERROR(IF(INDEX('Partie 3'!$S$3:$S$28,MATCH(AX47,'Partie 3'!$W$3:$W$28,0))=13,AX47,AZ47),\"\"))))","v":40},35,21,93,80,"vs",69,{"$f":"IFERROR(IF(VLOOKUP(BE47,'Partie 4'!$A$3:$E$28,5,0)=13,BE47,BG47),IFERROR(IF(INDEX('Partie 4'!$G$3:$G$28,MATCH(BE47,'Partie 4'!$K$3:$K$28,0))=13,BE47,BG47),IFERROR(IF(VLOOKUP(BE47,'Partie 4'!$M$3:$Q$28,5,0)=13,BE47,BG47),IFERROR(IF(INDEX('Partie 4'!$S$3:$S$28,MATCH(BE47,'Partie 4'!$W$3:$W$28,0))=13,BE47,BG47),\"\"))))","v":80},69,21,93,61,"vs",43,{"$f":"IFERROR(IF(VLOOKUP(BL47,'Partie 4'!$A$3:$E$28,5,0)=13,BL47,BN47),IFERROR(IF(INDEX('Partie 4'!$G$3:$G$28,MATCH(BL47,'Partie 4'!$K$3:$K$28,0))=13,BL47,BN47),IFERROR(IF(VLOOKUP(BL47,'Partie 4'!$M$3:$Q$28,5,0)=13,BL47,BN47),IFERROR(IF(INDEX('Partie 4'!$S$3:$S$28,MATCH(BL47,'Partie 4'!$W$3:$W$28,0))=13,BL47,BN47),\"\"))))","v":43},61]
[null,null,null,null,null,null,"A",null,"T42",42,{"$f":"J48&\"/\"&COUNTIF(J$7:J48,J48)","v":"42/1"},{"$f":"COUNTIF($J$7:J48,\">0\")","v":42},null,null,42,"T42","P42","",42,"T42","P42","",42,"T42","P42","",42,"T42","P42","",42,"T42","P42","",42,{"$f":"IF(ROW()-6<=$E$4/2,AJ47+2,\"\")","v":83},"vs",{"$f":"IF(ROW()-6<=$E$4/2,AL47+2,\"\")","v":84},{"$f":"IF('Partie 1'!$E$3=\"\",\"\",IFERROR(IF(VLOOKUP(AJ48,'Partie 1'!$A$3:$E$28,5,0)=13,AJ48,AL48),IFERROR(IF(INDEX('Partie 1'!$G$3:$G$28,MATCH(AJ48,'Partie 1'!$K$3:$K$28,0))=13,AJ48,AL48),IFERROR(IF(VLOOKUP(AJ48,'Partie 1'!$M$3:$Q$28,5,0)=13,AJ48,AL48),IFERROR(IF(INDEX('Partie 1'!$S$3:$S$28,MATCH(AJ48,'Partie 1'!$W$3:$W$28,0))=13,AJ48,AL48),\"\")))))","v":83},84,{"$f":"IF(AJ48=\"\",\"\",AO47+$D$5/2)","v":69},45,72,"vs",70,{"$f":"IFERROR(IF(VLOOKUP(AQ48,'Partie 2'!$A$3:$E$28,5,0)=13,AQ48,AS48),IFERROR(IF(INDEX('Partie 2'!$G$3:$G$28,MATCH(AQ48,'Partie 2'!$K$3:$K$28,0))=13,AQ48,AS48),IFERROR(IF(VLOOKUP(AQ48,'Partie 2'!$M$3:$Q$28,5,0)=13,AQ48,AS48),IFERROR(IF(INDEX('Partie 2'!$S$3:$S$28,MATCH(AQ48,'Partie 2'!$W$3:$W$28,0))=13,AQ48,AS48),\"\"))))","v":72},70,69,45,46,"vs",41,{"$f":"IFERROR(IF(VLOOKUP(AX48,'Partie 3'!$A$3:$E$28,5,0)=13,AX48,AZ48),IFERROR(IF(INDEX('Partie 3'!$G$3:$G$28,MATCH(AX48,'Partie 3'!$K$3:$K$28,0))=13,AX48,AZ48),IFERROR(IF(VLOOKUP(AX48,'Partie 3'!$M$3:$Q$28,5,0)=13,AX48,AZ48),IFERROR(IF(INDEX('Partie 3'!$S$3:$S$28,MATCH(AX48,'Partie 3'!$W$3:$W$28,0))=13,AX48,AZ48),\"\"))))","v":46},41,69,45,91,"vs",81,{"$f":"IFERROR(IF(VLOOKUP(BE48,'Partie 4'!$A$3:$E$28,5,0)=13,BE48,BG48),IFERROR(IF(INDEX('Partie 4'!$G$3:$G$28,MATCH(BE48,'Partie 4'!$K$3:$K$28,0))=13,BE48,BG48),IFERROR(IF(VLOOKUP(BE48,'Partie 4'!$M$3:$Q$28,5,0)=13,BE48,BG48),IFERROR(IF(INDEX('Partie 4'!$S$3:$S$28,MATCH(BE48,'Partie 4'!$W$3:$W$28,0))=13,BE48,BG48),\"\"))))","v":91},81,69,45,87,"vs",67,{"$f":"IFERROR(IF(VLOOKUP(BL48,'Partie 4'!$A$3:$E$28,5,0)=13,BL48,BN48),IFERROR(IF(INDEX('Partie 4'!$G$3:$G$28,MATCH(BL48,'Partie 4'!$K$3:$K$28,0))=13,BL48,BN48),IFERROR(IF(VLOOKUP(BL48,'Partie 4'!$M$3:$Q$28,5,0)=13,BL48,BN48),IFERROR(IF(INDEX('Partie 4'!$S$3:$S$28,MATCH(BL48,'Partie 4'!$W$3:$W$28,0))=13,BL48,BN48),\"\"))))","v":67},87]
[null,null,null,null,null,null,"A",null,"T43",43,{"$f":"J49&\"/\"&COUNTIF(J$7:J49,J49)","v":"43/1"},{"$f":"COUNTIF($J$7:J49,\">0\")","v":43},null,null,43,"T43","P43","",43,"T43","P43","",43,"T43","P43","",43,"T43","P43","",43,"T43","P43","",43,{"$f":"IF(ROW()-6<=$E$4/2,AJ48+2,\"\")","v":85},"vs",{"$f":"IF(ROW()-6<=$E$4/2,AL48+2,\"\")","v":86},{"$f":"IF('Partie 1'!$E$3=\"\",\"\",IFERROR(IF(VLOOKUP(AJ49,'Partie 1'!$A$3:$E$28,5,0)=13,AJ49,AL49),IFERROR(IF(INDEX('Partie 1'!$G$3:$G$28,MATCH(AJ49,'Partie 1'!$K$3:$K$28,0))=13,AJ49,AL49),IFERROR(IF(VLOOKUP(AJ49,'Partie 1'!$M$3:$Q$28,5,0)=13,AJ49,AL49),IFERROR(IF(INDEX('Partie 1'!$S$3:$S$28,MATCH(AJ49,'Partie 1'!$W$3:$W$28,0))=13,AJ49,AL49),\"\")))))","v":86},85,{"$f":"IF(AJ49=\"\",\"\",AO47+1)","v":22},94,75,"vs",73,{"$f":"IFERROR(IF(VLOOKUP(AQ49,'Partie 2'!$A$3:$E$28,5,0)=13,AQ49,AS49),IFERROR(IF(INDEX('Partie 2'!$G$3:$G$28,MATCH(AQ49,'Partie 2'!$K$3:$K$28,0))=13,AQ49,AS49),IFERROR(IF(VLOOKUP(AQ49,'Partie 2'!$M$3:$Q$28,5,0)=13,AQ49,AS49),IFERROR(IF(INDEX('Partie 2'!$S$3:$S$28,MATCH(AQ49,'Partie 2'!$W$3:$W$28,0))=13,AQ49,AS49),\"\"))))","v":73},75,22,94,55,"vs",52,{"$f":"IFERROR(IF(VLOOKUP(AX49,'Partie 3'!$A$3:$E$28,5,0)=13,AX49,AZ49),IFERROR(IF(INDEX('Partie 3'!$G$3:$G$28,MATCH(AX49,'Partie 3'!$K$3:$K$28,0))=13,AX49,AZ49),IFERROR(IF(VLOOKUP(AX49,'Partie 3'!$M$3:$Q$28,5,0)=13,AX49,AZ49),IFERROR(IF(INDEX('Partie 3'!$S$3:$S$28,MATCH(AX49,'Partie 3'!$W$3:$W$28,0))=13,AX49,AZ49),\"\"))))","v":52},55,22,94,16,"vs",6,{"$f":"IFERROR(IF(VLOOKUP(BE49,'Partie 4'!$A$3:$E$28,5,0)=13,BE49,BG49),IFERROR(IF(INDEX('Partie 4'!$G$3:$G$28,MATCH(BE49,'Partie 4'!$K$3:$K$28,0))=13,BE49,BG49),IFERROR(IF(VLOOKUP(BE49,'Partie 4'!$M$3:$Q$28,5,0)=13,BE49,BG49),IFERROR(IF(INDEX('Partie 4'!$S$3:$S$28,MATCH(BE49,'Partie 4'!$W$3:$W$28,0))=13,BE49,BG49),\"\"))))","v":6},16,22,94,31,"vs",11,{"$f":"IFERROR(IF(VLOOKUP(BL49,'Partie 4'!$A$3:$E$28,5,0)=13,BL49,BN49),IFERROR(IF(INDEX('Partie 4'!$G$3:$G$28,MATCH(BL49,'Partie 4'!$K$3:$K$28,0))=13,BL49,BN49),IFERROR(IF(VLOOKUP(BL49,'Partie 4'!$M$3:$Q$28,5,0)=13,BL49,BN49),IFERROR(IF(INDEX('Partie 4'!$S$3:$S$28,MATCH(BL49,'Partie 4'!$W$3:$W$28,0))=13,BL49,BN49),\"\"))))","v":11},31]
[null,null,null,null,null,null,"A",null,"T44",44,{"$f":"J50&\"/\"&COUNTIF(J$7:J50,J50)","v":"44/1"},{"$f":"COUNTIF($J$7:J50,\">0\")","v":44},null,null,44,"T44","P44","",44,"T44","P44","",44,"T44","P44","",44,"T44","P44","",44,"T44","P44","",44,{"$f":"IF(ROW()-6<=$E$4/2,AJ49+2,\"\")","v":87},"vs",{"$f":"IF(ROW()-6<=$E$4/2,AL49+2,\"\")","v":88},{"$f":"IF('Partie 1'!$E$3=\"\",\"\",IFERROR(IF(VLOOKUP(AJ50,'Partie 1'!$A$3:$E$28,5,0)=13,AJ50,AL50),IFERROR(IF(INDEX('Partie 1'!$G$3:$G$28,MATCH(AJ50,'Partie 1'!$K$3:$K$28,0))=13,AJ50,AL50),IFERROR(IF(VLOOKUP(AJ50,'Partie 1'!$M$3:$Q$28,5,0)=13,AJ50,AL50),IFERROR(IF(INDEX('Partie 1'!$S$3:$S$28,MATCH(AJ50,'Partie 1'!$W$3:$W$28,0))=13,AJ50,AL50),\"\")))))","v":88},87,{"$f":"IF(AJ50=\"\",\"\",AO49+$D$5/2)","v":70},46,79,"vs",78,{"$f":"IFERROR(IF(VLOOKUP(AQ50,'Partie 2'!$A$3:$E$28,5,0)=13,AQ50,AS50),IFERROR(IF(INDEX('Partie 2'!$G$3:$G$28,MATCH(AQ50,'Partie 2'!$K$3:$K$28,0))=13,AQ50,AS50),IFERROR(IF(VLOOKUP(AQ50,'Partie 2'!$M$3:$Q$28,5,0)=13,AQ50,AS50),IFERROR(IF(INDEX('Partie 2'!$S$3:$S$28,MATCH(AQ50,'Partie 2'!$W$3:$W$28,0))=13,AQ50,AS50),\"\"))))","v":78},79,70,46,64,"vs",58,{"$f":"IFERROR(IF(VLOOKUP(AX50,'Partie 3'!$A$3:$E$28,5,0)=13,AX50,AZ50),IFERROR(IF(INDEX('Partie 3'!$G$3:$G$28,MATCH(AX50,'Partie 3'!$K$3:$K$28,0))=13,AX50,AZ50),IFERROR(IF(VLOOKUP(AX50,'Partie 3'!$M$3:$Q$28,5,0)=13,AX50,AZ50),IFERROR(IF(INDEX('Partie 3'!$S$3:$S$28,MATCH(AX50,'Partie 3'!$W$3:$W$28,0))=13,AX50,AZ50),\"\"))))","v":58},64,70,46,30,"vs",18,{"$f":"IFERROR(IF(VLOOKUP(BE50,'Partie 4'!$A$3:$E$28,5,0)=13,BE50,BG50),IFERROR(IF(INDEX('Partie 4'!$G$3:$G$28,MATCH(BE50,'Partie 4'!$K$3:$K$28,0))=13,BE50,BG50),IFERROR(IF(VLOOKUP(BE50,'Partie 4'!$M$3:$Q$28,5,0)=13,BE50,BG50),IFERROR(IF(INDEX('Partie 4'!$S$3:$S$28,MATCH(BE50,'Partie 4'!$W$3:$W$28,0))=13,BE50,BG50),\"\"))))","v":18},30,70,46,59,"vs",36,{"$f":"IFERROR(IF(VLOOKUP(BL50,'Partie 4'!$A$3:$E$28,5,0)=13,BL50,BN50),IFERROR(IF(INDEX('Partie 4'!$G$3:$G$28,MATCH(BL50,'Partie 4'!$K$3:$K$28,0))=13,BL50,BN50),IFERROR(IF(VLOOKUP(BL50,'Partie 4'!$M$3:$Q$28,5,0)=13,BL50,BN50),IFERROR(IF(INDEX('Partie 4'!$S$3:$S$28,MATCH(BL50,'Partie 4'!$W$3:$W$28,0))=13,BL50,BN50),\"\"))))","v":36},59]
[null,null,null,null,null,null,"A",null,"T45",45,{"$f":"J51&\"/\"&COUNTIF(J$7:J51,J51)","v":"45/1"},{"$f":"COUNTIF($J$7:J51,\">0\")","v":45},null,null,45,"T45","P45","",45,"T45","P45","",45,"T45","P45","",45,"T45","P45","",45,"T45","P45","",45,{"$f":"IF(ROW()-6<=$E$4/2,AJ50+2,\"\")","v":89},"vs",{"$f":"IF(ROW()-6<=$E$4/2,AL50+2,\"\")","v":90},{"$f":"IF('Partie 1'!$E$3=\"\",\"\",IFERROR(IF(VLOOKUP(AJ51,'Partie 1'!$A$3:$E$28,5,0)=13,AJ51,AL51),IFERROR(IF(INDEX('Partie 1'!$G$3:$G$28,MATCH(AJ51,'Partie 1'!$K$3:$K$28,0))=13,AJ51,AL51),IFERROR(IF(VLOOKUP(AJ51,'Partie 1'!$M$3:$Q$28,5,0)=13,AJ51,AL51),IFERROR(IF(INDEX('Partie 1'!$S$3:$S$28,MATCH(AJ51,'Partie 1'!$W$3:$W$28,0))=13,AJ51,AL51),\"\")))))","v":89},90,{"$f":"IF(AJ51=\"\",\"\",AO49+1)","v":23},95,84,"vs",82,{"$f":"IFERROR(IF(VLOOKUP(AQ51,'Partie 2'!$A$3:$E$28,5,0)=13,AQ51,AS51),IFERROR(IF(INDEX('Partie 2'!$G$3:$G$28,MATCH(AQ51,'Partie 2'!$K$3:$K$28,0))=13,AQ51,AS51),IFERROR(IF(VLOOKUP(AQ51,'Partie 2'!$M$3:$Q$28,5,0)=13,AQ51,AS51),IFERROR(IF(INDEX('Partie 2'!$S$3:$S$28,MATCH(AQ51,'Partie 2'!$W$3:$W$28,0))=13,AQ51,AS51),\"\"))))","v":84},82,23,95,70,"vs",65,{"$f":"IFERROR(IF(VLOOKUP(AX51,'Partie 3'!$A$3:$E$28,5,0)=13,AX51,AZ51),IFERROR(IF(INDEX('Partie 3'!$G$3:$G$28,MATCH(AX51,'Partie 3'!$K$3:$K$28,0))=13,AX51,AZ51),IFERROR(IF(VLOOKUP(AX51,'Partie 3'!$M$3:$Q$28,5,0)=13,AX51,AZ51),IFERROR(IF(INDEX('Partie 3'!$S$3:$S$28,MATCH(AX51,'Partie 3'!$W$3:$W$28,0))=13,AX51,AZ51),\"\"))))","v":70},65,23,95,41,"vs",35,{"$f":"IFERROR(IF(VLOOKUP(BE51,'Partie 4'!$A$3:$E$28,5,0)=13,BE51,BG51),IFERROR(IF(INDEX('Partie 4'!$G$3:$G$28,MATCH(BE51,'Partie 4'!$K$3:$K$28,0))=13,BE51,BG51),IFERROR(IF(VLOOKUP(BE51,'Partie 4'!$M$3:$Q$28,5,0)=13,BE51,BG51),IFERROR(IF(INDEX('Partie 4'!$S$3:$S$28,MATCH(BE51,'Partie 4'!$W$3:$W$28,0))=13,BE51,BG51),\"\"))))","v":41},35,23,95,81,"vs",69,{"$f":"IFERROR(IF(VLOOKUP(BL51,'Partie 4'!$A$3:$E$28,5,0)=13,BL51,BN51),IFERROR(IF(INDEX('Partie 4'!$G$3:$G$28,MATCH(BL51,'Partie 4'!$K$3:$K$28,0))=13,BL51,BN51),IFERROR(IF(VLOOKUP(BL51,'Partie 4'!$M$3:$Q$28,5,0)=13,BL51,BN51),IFERROR(IF(INDEX('Partie 4'!$S$3:$S$28,MATCH(BL51,'Partie 4'!$W$3:$W$28,0))=13,BL51,BN51),\"\"))))","v":69},81]
[null,null,null,null,null,null,"A",null,"T46",46,{"$f":"J52&\"/\"&COUNTIF(J$7:J52,J52)","v":"46/1"},{"$f":"COUNTIF($J$7:J52,\">0\")","v":46},null,null,46,"T46","P46","",46,"T46","P46","",46,"T46","P46","",46,"T46","P46","",46,"T46","P46","",46,{"$f":"IF(ROW()-6<=$E$4/2,AJ51+2,\"\")","v":91},"vs",{"$f":"IF(ROW()-6<=$E$4/2,AL51+2,\"\")","v":92},{"$f":"IF('Partie 1'!$E$3=\"\",\"\",IFERROR(IF(VLOOKUP(AJ52,'Partie 1'!$A$3:$E$28,5,0)=13,AJ52,AL52),IFERROR(IF(INDEX('Partie 1'!$G$3:$G$28,MATCH(AJ52,'Partie 1'!$K$3:$K$28,0))=13,AJ52,AL52),IFERROR(IF(VLOOKUP(AJ52,'Partie 1'!$M$3:$Q$28,5,0)=13,AJ52,AL52),IFERROR(IF(INDEX('Partie 1'!$S$3:$S$28,MATCH(AJ52,'Partie 1'!$W$3:$W$28,0))=13,AJ52,AL52),\"\")))))","v":91},92,{"$f":"IF(AJ52=\"\",\"\",AO51+$D$5/2)","v":71},47,87,"vs",85,{"$f":"IFERROR(IF(VLOOKUP(AQ52,'Partie 2'!$A$3:$E$28,5,0)=13,AQ52,AS52),IFERROR(IF(INDEX('Partie 2'!$G$3:$G$28,MATCH(AQ52,'Partie 2'!$K$3:$K$28,0))=13,AQ52,AS52),IFERROR(IF(VLOOKUP(AQ52,'Partie 2'!$M$3:$Q$28,5,0)=13,AQ52,AS52),IFERROR(IF(INDEX('Partie 2'!$S$3:$S$28,MATCH(AQ52,'Partie 2'!$W$3:$W$28,0))=13,AQ52,AS52),\"\"))))","v":87},85,71,47,79,"vs",75,{"$f":"IFERROR(IF(VLOOKUP(AX52,'Partie 3'!$A$3:$E$28,5,0)=13,AX52,AZ52),IFERROR(IF(INDEX('Partie 3'!$G$3:$G$28,MATCH(AX52,'Partie 3'!$K$3:$K$28,0))=13,AX52,AZ52),IFERROR(IF(VLOOKUP(AX52,'Partie 3'!$M$3:$Q$28,5,0)=13,AX52,AZ52),IFERROR(IF(INDEX('Partie 3'!$S$3:$S$28,MATCH(AX52,'Partie 3'!$W$3:$W$28,0))=13,AX52,AZ52),\"\"))))","v":79},75,71,47,64,"vs",55,{"$f":"IFERROR(IF(VLOOKUP(BE52,'Partie 4'!$A$3:$E$28,5,0)=13,BE52,BG52),IFERROR(IF(INDEX('Partie 4'!$G$3:$G$28,MATCH(BE52,'Partie 4'!$K$3:$K$28,0))=13,BE52,BG52),IFERROR(IF(VLOOKUP(BE52,'Partie 4'!$M$3:$Q$28,5,0)=13,BE52,BG52),IFERROR(IF(INDEX('Partie 4'!$S$3:$S$28,MATCH(BE52,'Partie 4'!$W$3:$W$28,0))=13,BE52,BG52),\"\"))))","v":64},55,71,47,30,"vs",16,{"$f":"IFERROR(IF(VLOOKUP(BL52,'Partie 4'!$A$3:$E$28,5,0)=13,BL52,BN52),IFERROR(IF(INDEX('Partie 4'!$G$3:$G$28,MATCH(BL52,'Partie 4'!$K$3:$K$28,0))=13,BL52,BN52),IFERROR(IF(VLOOKUP(BL52,'Partie 4'!$M$3:$Q$28,5,0)=13,BL52,BN52),IFERROR(IF(INDEX('Partie 4'!$S$3:$S$28,MATCH(BL52,'Partie 4'!$W$3:$W$28,0))=13,BL52,BN52),\"\"))))","v":16},30]
[null,null,null,null,null,null,"A",null,"T47",47,{"$f":"J53&\"/\"&COUNTIF(J$7:J53,J53)","v":"47/1"},{"$f":"COUNTIF($J$7:J53,\">0\")","v":47},null,null,47,"T47","P47","",47,"T47","P47","",47,"T47","P47","",47,"T47","P47","",47,"T47","P47","",47,{"$f":"IF(ROW()-6<=$E$4/2,AJ52+2,\"\")","v":93},"vs",{"$f":"IF(ROW()-6<=$E$4/2,AL52+2,\"\")","v":94},{"$f":"IF('Partie 1'!$E$3=\"\",\"\",IFERROR(IF(VLOOKUP(AJ53,'Partie 1'!$A$3:$E$28,5,0)=13,AJ53,AL53),IFERROR(IF(INDEX('Partie 1'!$G$3:$G$28,MATCH(AJ53,'Partie 1'!$K$3:$K$28,0))=13,AJ53,AL53),IFERROR(IF(VLOOKUP(AJ53,'Partie 1'!$M$3:$Q$28,5,0)=13,AJ53,AL53),IFERROR(IF(INDEX('Partie 1'!$S$3:$S$28,MATCH(AJ53,'Partie 1'!$W$3:$W$28,0))=13,AJ53,AL53),\"\")))))","v":94},93,{"$f":"IF(AJ53=\"\",\"\",AO51+1)","v":24},96,92,"vs",90,{"$f":"IFERROR(IF(VLOOKUP(AQ53,'Partie 2'!$A$3:$E$28,5,0)=13,AQ53,AS53),IFERROR(IF(INDEX('Partie 2'!$G$3:$G$28,MATCH(AQ53,'Partie 2'!$K$3:$K$28,0))=13,AQ53,AS53),IFERROR(IF(VLOOKUP(AQ53,'Partie 2'!$M$3:$Q$28,5,0)=13,AQ53,AS53),IFERROR(IF(INDEX('Partie 2'!$S$3:$S$28,MATCH(AQ53,'Partie 2'!$W$3:$W$28,0))=13,AQ53,AS53),\"\"))))","v":90},92,24,96,85,"vs",82,{"$f":"IFERROR(IF(VLOOKUP(AX53,'Partie 3'!$A$3:$E$28,5,0)=13,AX53,AZ53),IFERROR(IF(INDEX('Partie 3'!$G$3:$G$28,MATCH(AX53,'Partie 3'!$K$3:$K$28,0))=13,AX53,AZ53),IFERROR(IF(VLOOKUP(AX53,'Partie 3'!$M$3:$Q$28,5,0)=13,AX53,AZ53),IFERROR(IF(INDEX('Partie 3'!$S$3:$S$28,MATCH(AX53,'Partie 3'!$W$3:$W$28,0))=13,AX53,AZ53),\"\"))))","v":82},85,24,96,75,"vs",65,{"$f":"IFERROR(IF(VLOOKUP(BE53,'Partie 4'!$A$3:$E$28,5,0)=13,BE53,BG53),IFERROR(IF(INDEX('Partie 4'!$G$3:$G$28,MATCH(BE53,'Partie 4'!$K$3:$K$28,0))=13,BE53,BG53),IFERROR(IF(VLOOKUP(BE53,'Partie 4'!$M$3:$Q$28,5,0)=13,BE53,BG53),IFERROR(IF(INDEX('Partie 4'!$S$3:$S$28,MATCH(BE53,'Partie 4'!$W$3:$W$28,0))=13,BE53,BG53),\"\"))))","v":65},75,24,96,55,"vs",35,{"$f":"IFERROR(IF(VLOOKUP(BL53,'Partie 4'!$A$3:$E$28,5,0)=13,BL53,BN53),IFERROR(IF(INDEX('Partie 4'!$G$3:$G$28,MATCH(BL53,'Partie 4'!$K$3:$K$28,0))=13,BL53,BN53),IFERROR(IF(VLOOKUP(BL53,'Partie 4'!$M$3:$Q$28,5,0)=13,BL53,BN53),IFERROR(IF(INDEX('Partie 4'!$S$3:$S$28,MATCH(BL53,'Partie 4'!$W$3:$W$28,0))=13,BL53,BN53),\"\"))))","v":35},55]
[null,null,null,null,null,null,"A",null,"T48",48,{"$f":"J54&\"/\"&COUNTIF(J$7:J54,J54)","v":"48/1"},{"$f":"COUNTIF($J$7:J54,\">0\")","v":48},null,null,48,"T48","P48","",48,"T48","P48","",48,"T48","P48","",48,"T48","P48","",48,"T48","P48","",48,{"$f":"IF(ROW()-6<=$E$4/2,AJ53+2,\"\")","v":95},"vs",{"$f":"IF(ROW()-6<=$E$4/2,AL53+2,\"\")","v":96},{"$f":"IF('Partie 1'!$E$3=\"\",\"\",IFERROR(IF(VLOOKUP(AJ54,'Partie 1'!$A$3:$E$28,5,0)=13,AJ54,AL54),IFERROR(IF(INDEX('Partie 1'!$G$3:$G$28,MATCH(AJ54,'Partie 1'!$K$3:$K$28,0))=13,AJ54,AL54),IFERROR(IF(VLOOKUP(AJ54,'Partie 1'!$M$3:$Q$28,5,0)=13,AJ54,AL54),IFERROR(IF(INDEX('Partie 1'!$S$3:$S$28,MATCH(AJ54,'Partie 1'!$W$3:$W$28,0))=13,AJ54,AL54),\"\")))))","v":95},96,{"$f":"IF(AJ54=\"\",\"\",AO53+$D$5/2)","v":72},48,96,"vs",93,{"$f":"IFERROR(IF(VLOOKUP(AQ54,'Partie 2'!$A$3:$E$28,5,0)=13,AQ54,AS54),IFERROR(IF(INDEX('Partie 2'!$G$3:$G$28,MATCH(AQ54,'Partie 2'!$K$3:$K$28,0))=13,AQ54,AS54),IFERROR(IF(VLOOKUP(AQ54,'Partie 2'!$M$3:$Q$28,5,0)=13,AQ54,AS54),IFERROR(IF(INDEX('Partie 2'!$S$3:$S$28,MATCH(AQ54,'Partie 2'!$W$3:$W$28,0))=13,AQ54,AS54),\"\"))))","v":96},93,72,48,93,"vs",92,{"$f":"IFERROR(IF(VLOOKUP(AX54,'Partie 3'!$A$3:$E$28,5,0)=13,AX54,AZ54),IFERROR(IF(INDEX('Partie 3'!$G$3:$G$28,MATCH(AX54,'Partie 3'!$K$3:$K$28,0))=13,AX54,AZ54),IFERROR(IF(VLOOKUP(AX54,'Partie 3'!$M$3:$Q$28,5,0)=13,AX54,AZ54),IFERROR(IF(INDEX('Partie 3'!$S$3:$S$28,MATCH(AX54,'Partie 3'!$W$3:$W$28,0))=13,AX54,AZ54),\"\"))))","v":93},92,72,48,92,"vs",85,{"$f":"IFERROR(IF(VLOOKUP(BE54,'Partie 4'!$A$3:$E$28,5,0)=13,BE54,BG54),IFERROR(IF(INDEX('Partie 4'!$G$3:$G$28,MATCH(BE54,'Partie 4'!$K$3:$K$28,0))=13,BE54,BG54),IFERROR(IF(VLOOKUP(BE54,'Partie 4'!$M$3:$Q$28,5,0)=13,BE54,BG54),IFERROR(IF(INDEX('Partie 4'!$S$3:$S$28,MATCH(BE54,'Partie 4'!$W$3:$W$28,0))=13,BE54,BG54),\"\"))))","v":92},85,72,48,85,"vs",75,{"$f":"IFERROR(IF(VLOOKUP(BL54,'Partie 4'!$A$3:$E$28,5,0)=13,BL54,BN54),IFERROR(IF(INDEX('Partie 4'!$G$3:$G$28,MATCH(BL54,'Partie 4'!$K$3:$K$28,0))=13,BL54,BN54),IFERROR(IF(VLOOKUP(BL54,'Partie 4'!$M$3:$Q$28,5,0)=13,BL54,BN54),IFERROR(IF(INDEX('Partie 4'!$S$3:$S$28,MATCH(BL54,'Partie 4'!$W$3:$W$28,0))=13,BL54,BN54),\"\"))))","v":75},85]
[null,null,null,null,null,null,"A",null,"T49",49,{"$f":"J55&\"/\"&COUNTIF(J$7:J55,J55)","v":"49/1"},{"$f":"COUNTIF($J$7:J55,\">0\")","v":49},null,null,49,"T49","P49","",49,"T49","P49","",49,"T49","P49","",49,"T49","P49","",49,"T49","P49","",49]
[null,null,null,null,null,null,"C",null,"T50",50,{"$f":"J56&\"/\"&COUNTIF(J$7:J56,J56)","v":"50/1"},{"$f":"COUNTIF($J$7:J56,\">0\")","v":50},null,null,50,"T50","P50","",50,"T50","P50","",50,"T50","P50","",50,"T50","P50","",50,"T50","P50","",50]
[null,null,null,null,null,null,"C",null,"T51",51,{"$f":"J57&\"/\"&COUNTIF(J$7:J57,J57)","v":"51/1"},{"$f":"COUNTIF($J$7:J57,\">0\")","v":51},null,null,51,"T51","P51","",51,"T51","P51","",51,"T51","P51","",51,"T51","P51","",51,"T51","P51","",51]
[null,null,null,null,null,null,"C",null,"T52",52,{"$f":"J58&\"/\"&COUNTIF(J$7:J58,J58)","v":"52/1"},{"$f":"COUNTIF($J$7:J58,\">0\")","v":52},null,null,52,"T52","P52","",52,"T52","P52","",52,"T52","P52","",52,"T52","P52","",52,"T52","P52","",52]
[null,null,null,null,null,null,"C",null,"T53",53,{"$f":"J59&\"/\"&COUNTIF(J$7:J59,J59)","v":"53/1"},{"$f":"COUNTIF($J$7:J59,\">0\")","v":53},null,null,53,"T53","P53","",53,"T53","P53","",53,"T53","P53","",53,"T53","P53","",53,"T53","P53","",53]
[null,null,null,null,null,null,"C",null,"T54",54,{"$f":"J60&\"/\"&COUNTIF(J$7:J60,J60)","v":"54/1"},{"$f":"COUNTIF($J$7:J60,\">0\")","v":54},null,null,54,"T54","P54","",54,"T54","P54","",54,"T54","P54","",54,"T54","P54","",54,"T54","P54","",54]
[null,null,null,null,null,null,"C",null,"T55",55,{"$f":"J61&\"/\"&COUNTIF(J$7:J61,J61)","v":"55/1"},{"$f":"COUNTIF($J$7:J61,\">0\")","v":55},null,null,55,"T55","P55","",55,"T55","P55","",55,"T55","P55","",55,"T55","P55","",55,"T55","P55","",55]
[null,null,null,null,null,null,"C",null,"T56",56,{"$f":"J62&\"/\"&COUNTIF(J$7:J62,J62)","v":"56/1"},{"$f":"COUNTIF($J$7:J62,\">0\")","v":56},null,null,56,"T56","P56","",56,"T56","P56","",56,"T56","P56","",56,"T56","P56","",56,"T56","P56","",56]
[null,null,null,null,null,null,"C",null,"T57",57,{"$f":"J63&\"/\"&COUNTIF(J$7:J63,J63)","v":"57/1"},{"$f":"COUNTIF($J$7:J63,\">0\")","v":57},null,null,57,"T57","P57","",57,"T57","P57","",57,"T57","P57","",57,"T57","P57","",57,"T57","P57","",57]
[null,null,null,null,null,null,"C",null,"T58",58,{"$f":"J64&\"/\"&COUNTIF(J$7:J64,J64)","v":"58/1"},{"$f":"COUNTIF($J$7:J64,\">0\")","v":58},null,null,58,"T58","P58","",58,"T58","P58","",58,"T58","P58","",58,"T58","P58","",58,"T58","P58","",58]
[null,null,null,null,null,null,"C",null,"T59",59,{"$f":"J65&\"/\"&COUNTIF(J$7:J65,J65)","v":"59/1"},{"$f":"COUNTIF($J$7:J65,\">0\")","v":59},null,null,59,"T59","P59","",59,"T59","P59","",59,"T59","P59","",59,"T59","P59","",59,"T59","P59","",59]
[null,null,null,null,null,null,"C",null,"T60",60,{"$f":"J66&\"/\"&COUNTIF(J$7:J66,J66)","v":"60/1"},{"$f":"COUNTIF($J$7:J66,\">0\")","v":60},null,null,60,"T60","P60","",60,"T60","P60","",60,"T60","P60","",60,"T60","P60","",60,"T60","P60","",60]
[null,null,null,null,null,null,"C",null,"T61",61,{"$f":"J67&\"/\"&COUNTIF(J$7:J67,J67)","v":"61/1"},{"$f":"COUNTIF($J$7:J67,\">0\")","v":61},null,null,61,"T61","P61","",61,"T61","P61","",61,"T61","P61","",61,"T61","P61","",61,"T61","P61","",61]
[null,null,null,null,null,null,"C",null,"T62",62,{"$f":"J68&\"/\"&COUNTIF(J$7:J68,J68)","v":"62/1"},{"$f":"COUNTIF($J$7:J68,\">0\")","v":62},null,null,62,"T62","P62","",62,"T62","P62","",62,"T62","P62","",62,"T62","P62","",62,"T62","P62","",62]
[null,null,null,null,null,null,"C",null,"T63",63,{"$f":"J69&\"/\"&COUNTIF(J$7:J69,J69)","v":"63/1"},{"$f":"COUNTIF($J$7:J69,\">0\")","v":63},null,null,63,"T63","P63","",63,"T63","P63","",63,"T63","P63","",63,"T63","P63","",63,"T63","P63","",63]
[null,null,null,null,null,null,"C",null,"T64",64,{"$f":"J70&\"/\"&COUNTIF(J$7:J70,J70)","v":"64/1"},{"$f":"COUNTIF($J$7:J70,\">0\")","v":64},null,null,64,"T64","P64","",64,"T64","P64","",64,"T64","P64","",64,"T64","P64","",64,"T64","P64","",64]
[null,null,null,null,null,null,"C",null,"T65",65,{"$f":"J71&\"/\"&COUNTIF(J$7:J71,J71)","v":"65/1"},{"$f":"COUNTIF($J$7:J71,\">0\")","v":65},null,null,65,"T65","P65",null,65,{"$f":"P71","v":"T65"},{"$f":"Q71","v":"P65"},{"$f":"R71","v":0},65,{"$f":"T71","v":"T65"},{"$f":"U71","v":"P65"},{"$f":"V71","v":0},65,{"$f":"X71","v":"T65"},{"$f":"Y71","v":"P65"},null,65,"T65","P65",0,65]
[null,null,null,null,null,null,"C",null,"T66",66,{"$f":"J72&\"/\"&COUNTIF(J$7:J72,J72)","v":"66/1"},{"$f":"COUNTIF($J$7:J72,\">0\")","v":66},null,null,66,{"$f":"IFERROR(INDEX($I$7:$I$198,MATCH($O72&\"/1\",$K$7:$K$198,0)),\"\")","v":"T66"},{"$f":"IFERROR(INDEX($I$7:$I$198,MATCH($O72&\"/2\",$K$7:$K$198,0)),\"\")","v":"P66"},null,66,"T66","P66",0,66,"T66","P66",0,66,"T66","P66",null,66,{"$f":"AB72","v":"T66"},{"$f":"AC72","v":"P66"},{"$f":"AD72","v":0},66]
[null,null,null,null,null,null,"C",null,"T67",67,{"$f":"J73&\"/\"&COUNTIF(J$7:J73,J73)","v":"67/1"},{"$f":"COUNTIF($J$7:J73,\">0\")","v":67},null,null,67,"T67","P67",null,67,"T67","P67",0,67,"T67","P67",0,67,"T67","P67",null,67,"T67","P67",0,67]
[null,null,null,null,null,null,"ST",null,"T68",68,{"$f":"J74&\"/\"&COUNTIF(J$7:J74,J74)","v":"68/1"},{"$f":"COUNTIF($J$7:J74,\">0\")","v":68},null,null,68,"T68","P68",null,68,"T68","P68",0,68,"T68","P68",0,68,"T68","P68",null,68,"T68","P68",0,68]
[null,null,null,null,null,null,"CE",null,"T69",69,{"$f":"J75&\"/\"&COUNTIF(J$7:J75,J75)","v":"69/1"},{"$f":"COUNTIF($J$7:J75,\">0\")","v":69},null,null,69,"T69","P69",null,69,"T69","P69",0,69,"T69","P69",0,69,"T69","P69",null,69,"T69","P69",0,69]
[null,null,null,null,null,null,"CE",null,"T70",70,{"$f":"J76&\"/\"&COUNTIF(J$7:J76,J76)","v":"70/1"},{"$f":"COUNTIF($J$7:J76,\">0\")","v":70},null,null,70,"T70","P70",null,70,"T70","P70",0,70,"T70","P70",0,70,"T70","P70",null,70,"T70","P70",0,70]
[null,null,null,null,null,null,"CE",null,"T71",71,{"$f":"J77&\"/\"&COUNTIF(J$7:J77,J77)","v":"71/1"},{"$f":"COUNTIF($J$7:J77,\">0\")","v":71},null,null,71,"T71","P71",null,71,"T71","P71",0,71,"T71","P71",0,71,"T71","P71",null,71,"T71","P71",0,71]
[null,null,null,null,null,null,"CE",null,"T72",72,{"$f":"J78&\"/\"&COUNTIF(J$7:J78,J78)","v":"72/1"},{"$f":"COUNTIF($J$7:J78,\">0\")","v":72},null,null,72,"T72","P72",null,72,"T72","P72",0,72,"T72","P72",0,72,"T72","P72",null,72,"T72","P72",0,72]
[null,null,null,null,null,null,"CE",null,"T73",73,{"$f":"J79&\"/\"&COUNTIF(J$7:J79,J79)","v":"73/1"},{"$f":"COUNTIF($J$7:J79,\">0\")","v":73},null,null,73,"T73","P73",null,73,"T73","P73",0,73,"T73","P73",0,73,"T73","P73",null,73,"T73","P73",0,73]
[null,null,null,null,null,null,"CE",null,"T74",74,{"$f":"J80&\"/\"&COUNTIF(J$7:J80,J80)","v":"74/1"},{"$f":"COUNTIF($J$7:J80,\">0\")","v":74},null,null,74,"T74","P74",null,74,"T74","P74",0,74,"T74","P74",0,74,"T74","P74",null,74,"T74","P74",0,74]
[null,null,null,null,null,null,"CE",null,"T75",75,{"$f":"J81&\"/\"&COUNTIF(J$7:J81,J81)","v":"75/1"},{"$f":"COUNTIF($J$7:J81,\">0\")","v":75},null,null,75,"T75","P75",null,75,"T75","P75",0,75,"T75","P75",0,75,"T75","P75",null,75,"T75","P75",0,75]
[null,null,null,null,null,null,"CE",null,"T76",76,{"$f":"J82&\"/\"&COUNTIF(J$7:J82,J82)","v":"76/1"},{"$f":"COUNTIF($J$7:J82,\">0\")","v":76},null,null,76,"T76","P76",null,76,"T76","P76",0,76,"T76","P76",0,76,"T76","P76",null,76,"T76","P76",0,76]
[null,null,null,null,null,null,"CE",null,"T77",77,{"$f":"J83&\"/\"&COUNTIF(J$7:J83,J83)","v":"77/1"},{"$f":"COUNTIF($J$7:J83,\">0\")","v":77},null,null,77,"T77","P77",null,77,"T77","P77",0,77,"T77","P77",0,77,"T77","P77",null,77,"T77","P77",0,77]
[null,null,null,null,null,null,"CE",null,"T78",78,{"$f":"J84&\"/\"&COUNTIF(J$7:J84,J84)","v":"78/1"},{"$f":"COUNTIF($J$7:J84,\">0\")","v":78},null,null,78,"T78","P78",null,78,"T78","P78",0,78,"T78","P78",0,78,"T78","P78",null,78,"T78","P78",0,78]
[null,null,null,null,null,null,"CE",null,"T79",79,{"$f":"J85&\"/\"&COUNTIF(J$7:J85,J85)","v":"79/1"},{"$f":"COUNTIF($J$7:J85,\">0\")","v":79},null,null,79,"T79","P79",null,79,"T79","P79",0,79,"T79","P79",0,79,"T79","P79",null,79,"T79","P79",0,79]
[null,null,null,null,null,null,"CE",null,"T80",80,{"$f":"J86&\"/\"&COUNTIF(J$7:J86,J86)","v":"80/1"},{"$f":"COUNTIF($J$7:J86,\">0\")","v":80},null,null,80,"T80","P80",null,80,"T80","P80",0,80,"T80","P80",0,80,"T80","P80",null,80,"T80","P80",0,80]
[null,null,null,null,null,null,"CE",null,"T81",81,{"$f":"J87&\"/\"&COUNTIF(J$7:J87,J87)","v":"81/1"},{"$f":"COUNTIF($J$7:J87,\">0\")","v":81},null,null,81,"T81","P81",null,81,"T81","P81",0,81,"T81","P81",0,81,"T81","P81",null,81,"T81","P81",0,81]
[null,null,null,null,null,null,"CE",null,"T82",82,{"$f":"J88&\"/\"&COUNTIF(J$7:J88,J88)","v":"82/1"},{"$f":"COUNTIF($J$7:J88,\">0\")","v":82},null,null,82,"T82","P82",null,82,"T82","P82",0,82,"T82","P82",0,82,"T82","P82",null,82,"T82","P82",0,82]
[null,null,null,null,null,null,"CE",null,"T83",83,{"$f":"J89&\"/\"&COUNTIF(J$7:J89,J89)","v":"83/1"},{"$f":"COUNTIF($J$7:J89,\">0\")","v":83},null,null,83,"T83","P83",null,83,"T83","P83",0,83,"T83","P83",0,83,"T83","P83",null,83,"T83","P83",0,83]
[null,null,null,null,null,null,"CE",null,"T84",84,{"$f":"J90&\"/\"&COUNTIF(J$7:J90,J90)","v":"84/1"},{"$f":"COUNTIF($J$7:J90,\">0\")","v":84},null,null,84,"T84","P84",null,84,"T84","P84",0,84,"T84","P84",0,84,"T84","P84",null,84,"T84","P84",0,84]
[null,null,null,null,null,null,"CE",null,"T85",85,{"$f":"J91&\"/\"&COUNTIF(J$7:J91,J91)","v":"85/1"},{"$f":"COUNTIF($J$7:J91,\">0\")","v":85},null,null,85,"T85","P85",null,85,"T85","P85",0,85,"T85","P85",0,85,"T85","P85",null,85,"T85","P85",0,85]
[null,null,null,null,null,null,"CE",null,"T86",86,{"$f":"J92&\"/\"&COUNTIF(J$7:J92,J92)","v":"86/1"},{"$f":"COUNTIF($J$7:J92,\">0\")","v":86},null,null,86,"T86","P86",null,86,"T86","P86",0,86,"T86","P86",0,86,"T86","P86",null,86,"T86","P86",0,86]
[null,null,null,null,null,null,"CE",null,"T87",87,{"$f":"J93&\"/\"&COUNTIF(J$7:J93,J93)","v":"87/1"},{"$f":"COUNTIF($J$7:J93,\">0\")","v":87},null,null,87,"T87","P87",null,87,"T87","P87",0,87,"T87","P87",0,87,"T87","P87",null,87,"T87","P87",0,87]
[null,null,null,null,null,null,"CE",null,"T88",88,{"$f":"J94&\"/\"&COUNTIF(J$7:J94,J94)","v":"88/1"},{"$f":"COUNTIF($J$7:J94,\">0\")","v":88},null,null,88,"T88","P88",null,88,"T88","P88",0,88,"T88","P88",0,88,"T88","P88",null,88,"T88","P88",0,88]
[null,null,null,null,null,null,"CE",null,"T89",89,{"$f":"J95&\"/\"&COUNTIF(J$7:J95,J95)","v":"89/1"},{"$f":"COUNTIF($J$7:J95,\">0\")","v":89},null,null,89,"T89","P89",null,89,"T89","P89",0,89,"T89","P89",0,89,"T89","P89",null,89,"T89","P89",0,89]
[null,null,null,null,null,null,"CE",null,"T90",90,{"$f":"J96&\"/\"&COUNTIF(J$7:J96,J96)","v":"90/1"},{"$f":"COUNTIF($J$7:J96,\">0\")","v":90},null,null,90,"T90","P90",null,90,"T90","P90",0,90,"T90","P90",0,90,"T90","P90",null,90,"T90","P90",0,90]
[null,null,null,null,null,null,"CE",null,"T91",91,{"$f":"J97&\"/\"&COUNTIF(J$7:J97,J97)","v":"91/1"},{"$f":"COUNTIF($J$7:J97,\">0\")","v":91},null,null,91,"T91","P91",null,91,"T91","P91",0,91,"T91","P91",0,91,"T91","P91",null,91,"T91","P91",0,91]
[null,null,null,null,null,null,"CE",null,"T92",92,{"$f":"J98&\"/\"&COUNTIF(J$7:J98,J98)","v":"92/1"},{"$f":"COUNTIF($J$7:J98,\">0\")","v":92},null,null,92,"T92","P92",null,92,"T92","P92",0,92,"T92","P92",0,92,"T92","P92",null,92,"T92","P92",0,92]
[null,null,null,null,null,null,"CE",null,"T93",93,{"$f":"J99&\"/\"&COUNTIF(J$7:J99,J99)","v":"93/1"},{"$f":"COUNTIF($J$7:J99,\">0\")","v":93},null,null,93,"T93","P93",null,93,"T93","P93",0,93,"T93","P93",0,93,"T93","P93",null,93,"T93","P93",0,93]
[null,null,null,null,null,null,"CE",null,"T94",94,{"$f":"J100&\"/\"&COUNTIF(J$7:J100,J100)","v":"94/1"},{"$f":"COUNTIF($J$7:J100,\">0\")","v":94},null,null,94,"T94","P94",null,94,"T94","P94",0,94,"T94","P94",0,94,"T94","P94",null,94,"T94","P94",0,94]
[null,null,null,null,null,null,"CE",null,"T95",95,{"$f":"J101&\"/\"&COUNTIF(J$7:J101,J101)","v":"95/1"},{"$f":"COUNTIF($J$7:J101,\">0\")","v":95},null,null,95,"T95","P95",null,95,"T95","P95",0,95,"T95","P95",0,95,"T95","P95",null,95,"T95","P95",0,95]
[null,null,null,null,null,null,"CE",null,"T96",96,{"$f":"J102&\"/\"&COUNTIF(J$7:J102,J102)","v":"96/1"},{"$f":"COUNTIF($J$7:J102,\">0\")","v":96},null,null,96,"T96","P96",null,96,"T96","P96",0,96,"T96","P96",0,96,"T96","P96",null,96,"T96","P96",0,96]
[null,null,null,null,null,null,"ST",null,"P1",1,{"$f":"J103&\"/\"&COUNTIF(J$7:J103,J103)","v":"1/2"},{"$f":"COUNTIF($J$7:J103,\">0\")","v":97}]
[null,null,null,null,null,null,"ST",null,"P2",2,{"$f":"J104&\"/\"&COUNTIF(J$7:J104,J104)","v":"2/2"},{"$f":"COUNTIF($J$7:J104,\">0\")","v":98}]
[null,null,null,null,null,null,"ST",null,"P3",3,{"$f":"J105&\"/\"&COUNTIF(J$7:J105,J105)","v":"3/2"},{"$f":"COUNTIF($J$7:J105,\">0\")","v":99}]
[null,null,null,null,null,null,"ST",null,"P4",4,{"$f":"J106&\"/\"&COUNTIF(J$7:J106,J106)","v":"4/2"},{"$f":"COUNTIF($J$7:J106,\">0\")","v":100}]
[null,null,null,null,null,null,"ST",null,"P5",5,{"$f":"J107&\"/\"&COUNTIF(J$7:J107,J107)","v":"5/2"},{"$f":"COUNTIF($J$7:J107,\">0\")","v":101}]
[null,null,null,null,null,null,"ST",null,"P6",6,{"$f":"J108&\"/\"&COUNTIF(J$7:J108,J108)","v":"6/2"},{"$f":"COUNTIF($J$7:J108,\">0\")","v":102}]
[null,null,null,null,null,null,"ST",null,"P7",7,{"$f":"J109&\"/\"&COUNTIF(J$7:J109,J109)","v":"7/2"},{"$f":"COUNTIF($J$7:J109,\">0\")","v":103}]
[null,null,null,null,null,null,"ST",null,"P8",8,{"$f":"J110&\"/\"&COUNTIF(J$7:J110,J110)","v":"8/2"},{"$f":"COUNTIF($J$7:J110,\">0\")","v":104}]
[null,null,null,null,null,null,"ST",null,"P9",9,{"$f":"J111&\"/\"&COUNTIF(J$7:J111,J111)","v":"9/2"},{"$f":"COUNTIF($J$7:J111,\">0\")","v":105}]
[null,null,null,null,null,null,"ST",null,"P10",10,{"$f":"J112&\"/\"&COUNTIF(J$7:J112,J112)","v":"10/2"},{"$f":"COUNTIF($J$7:J112,\">0\")","v":106}]
[null,null,null,null,null,null,"ST",null,"P11",11,{"$f":"J113&\"/\"&COUNTIF(J$7:J113,J113)","v":"11/2"},{"$f":"COUNTIF($J$7:J113,\">0\")","v":107}]
[null,null,null,null,null,null,"ST",null,"P12",12,{"$f":"J114&\"/\"&COUNTIF(J$7:J114,J114)","v":"12/2"},{"$f":"COUNTIF($J$7:J114,\">0\")","v":108}]
[null,null,null,null,null,null,"ST",null,"P13",13,{"$f":"J115&\"/\"&COUNTIF(J$7:J115,J115)","v":"13/2"},{"$f":"COUNTIF($J$7:J115,\">0\")","v":109}]
[null,null,null,null,null,null,"ST",null,"P14",14,{"$f":"J116&\"/\"&COUNTIF(J$7:J116,J116)","v":"14/2"},{"$f":"COUNTIF($J$7:J116,\">0\")","v":110}]
[null,null,null,null,null,null,"ST",null,"P15",15,{"$f":"J117&\"/\"&COUNTIF(J$7:J117,J117)","v":"15/2"},{"$f":"COUNTIF($J$7:J117,\">0\")","v":111}]
[null,null,null,null,null,null,"ST",null,"P16",16,{"$f":"J118&\"/\"&COUNTIF(J$7:J118,J118)","v":"16/2"},{"$f":"COUNTIF($J$7:J118,\">0\")","v":112}]
[null,null,null,null,null,null,"E",null,"P17",17,{"$f":"J119&\"/\"&COUNTIF(J$7:J119,J119)","v":"17/2"},{"$f":"COUNTIF($J$7:J119,\">0\")","v":113}]
[null,null,null,null,null,null,"E",null,"P18",18,{"$f":"J120&\"/\"&COUNTIF(J$7:J120,J120)","v":"18/2"},{"$f":"COUNTIF($J$7:J120,\">0\")","v":114}]
[null,null,null,null,null,null,"E",null,"P19",19,{"$f":"J121&\"/\"&COUNTIF(J$7:J121,J121)","v":"19/2"},{"$f":"COUNTIF($J$7:J121,\">0\")","v":115}]
[null,null,null,null,null,null,"E",null,"P20",20,{"$f":"J122&\"/\"&COUNTIF(J$7:J122,J122)","v":"20/2"},{"$f":"COUNTIF($J$7:J122,\">0\")","v":116}]
[null,null,null,null,null,null,"E",null,"P21",21,{"$f":"J123&\"/\"&COUNTIF(J$7:J123,J123)","v":"21/2"},{"$f":"COUNTIF($J$7:J123,\">0\")","v":117}]
[null,null,null,null,null,null,"E",null,"P22",22,{"$f":"J124&\"/\"&COUNTIF(J$7:J124,J124)","v":"22/2"},{"$f":"COUNTIF($J$7:J124,\">0\")","v":118}]
[null,null,null,null,null,null,"E",null,"P23",23,{"$f":"J125&\"/\"&COUNTIF(J$7:J125,J125)","v":"23/2"},{"$f":"COUNTIF($J$7:J125,\">0\")","v":119}]
[null,null,null,null,null,null,"E",null,"P24",24,{"$f":"J126&\"/\"&COUNTIF(J$7:J126,J126)","v":"24/2"},{"$f":"COUNTIF($J$7:J126,\">0\")","v":120}]
[null,null,null,null,null,null,"E",null,"P25",25,{"$f":"J127&\"/\"&COUNTIF(J$7:J127,J127)","v":"25/2"},{"$f":"COUNTIF($J$7:J127,\">0\")","v":121}]
[null,null,null,null,null,null,"E",null,"P26",26,{"$f":"J128&\"/\"&COUNTIF(J$7:J128,J128)","v":"26/2"},{"$f":"COUNTIF($J$7:J128,\">0\")","v":122}]
[null,null,null,null,null,null,"E",null,"P27",27,{"$f":"J129&\"/\"&COUNTIF(J$7:J129,J129)","v":"27/2"},{"$f":"COUNTIF($J$7:J129,\">0\")","v":123}]
[null,null,null,null,null,null,"E",null,"P28",28,{"$f":"J130&\"/\"&COUNTIF(J$7:J130,J130)","v":"28/2"},{"$f":"COUNTIF($J$7:J130,\">0\")","v":124}]
[null,null,null,null,null,null,"E",null,"P29",29,{"$f":"J131&\"/\"&COUNTIF(J$7:J131,J131)","v":"29/2"},{"$f":"COUNTIF($J$7:J131,\">0\")","v":125}]
[null,null,null,null,null,null,"E",null,"P30",30,{"$f":"J132&\"/\"&COUNTIF(J$7:J132,J132)","v":"30/2"},{"$f":"COUNTIF($J$7:J132,\">0\")","v":126}]
[null,null,null,null,null,null,"A",null,"P31",31,{"$f":"J133&\"/\"&COUNTIF(J$7:J133,J133)","v":"31/2"},{"$f":"COUNTIF($J$7:J133,\">0\")","v":127}]
[null,null,null,null,null,null,"A",null,"P32",32,{"$f":"J134&\"/\"&COUNTIF(J$7:J134,J134)","v":"32/2"},{"$f":"COUNTIF($J$7:J134,\">0\")","v":128}]
[null,null,null,null,null,null,"A",null,"P33",33,{"$f":"J135&\"/\"&COUNTIF(J$7:J135,J135)","v":"33/2"},{"$f":"COUNTIF($J$7:J135,\">0\")","v":129}]
[null,null,null,null,null,null,"A",null,"P34",34,{"$f":"J136&\"/\"&COUNTIF(J$7:J136,J136)","v":"34/2"},{"$f":"COUNTIF($J$7:J136,\">0\")","v":130}]
[null,null,null,null,null,null,"A",null,"P35",35,{"$f":"J137&\"/\"&COUNTIF(J$7:J137,J137)","v":"35/2"},{"$f":"COUNTIF($J$7:J137,\">0\")","v":131}]
[null,null,null,null,null,null,"A",null,"P36",36,{"$f":"J138&\"/\"&COUNTIF(J$7:J138,J138)","v":"36/2"},{"$f":"COUNTIF($J$7:J138,\">0\")","v":132}]
[null,null,null,null,null,null,"A",null,"P37",37,{"$f":"J139&\"/\"&COUNTIF(J$7:J139,J139)","v":"37/2"},{"$f":"COUNTIF($J$7:J139,\">0\")","v":133}]
[null,null,null,null,null,null,"A",null,"P38",38,{"$f":"J140&\"/\"&COUNTIF(J$7:J140,J140)","v":"38/2"},{"$f":"COUNTIF($J$7:J140,\">0\")","v":134}]
[null,null,null,null,null,null,"A",null,"P39",39,{"$f":"J141&\"/\"&COUNTIF(J$7:J141,J141)","v":"39/2"},{"$f":"COUNTIF($J$7:J141,\">0\")","v":135}]
[null,null,null,null,null,null,"A",null,"P40",40,{"$f":"J142&\"/\"&COUNTIF(J$7:J142,J142)","v":"40/2"},{"$f":"COUNTIF($J$7:J142,\">0\")","v":136}]
[null,null,null,null,null,null,"A",null,"P41",41,{"$f":"J143&\"/\"&COUNTIF(J$7:J143,J143)","v":"41/2"},{"$f":"COUNTIF($J$7:J143,\">0\")","v":137}]
[null,null,null,null,null,null,"A",null,"P42",42,{"$f":"J144&\"/\"&COUNTIF(J$7:J144,J144)","v":"42/2"},{"$f":"COUNTIF($J$7:J144,\">0\")","v":138}]
[null,null,null,null,null,null,"A",null,"P43",43,{"$f":"J145&\"/\"&COUNTIF(J$7:J145,J145)","v":"43/2"},{"$f":"COUNTIF($J$7:J145,\">0\")","v":139}]
[null,null,null,null,null,null,"A",null,"P44",44,{"$f":"J146&\"/\"&COUNTIF(J$7:J146,J146)","v":"44/2"},{"$f":"COUNTIF($J$7:J146,\">0\")","v":140}]
[null,null,null,null,null,null,"A",null,"P45",45,{"$f":"J147&\"/\"&COUNTIF(J$7:J147,J147)","v":"45/2"},{"$f":"COUNTIF($J$7:J147,\">0\")","v":141}]
[null,null,null,null,null,null,"A",null,"P46",46,{"$f":"J148&\"/\"&COUNTIF(J$7:J148,J148)","v":"46/2"},{"$f":"COUNTIF($J$7:J148,\">0\")","v":142}]
[null,null,null,null,null,null,"A",null,"P47",47,{"$f":"J149&\"/\"&COUNTIF(J$7:J149,J149)","v":"47/2"},{"$f":"COUNTIF($J$7:J149,\">0\")","v":143}]
[null,null,null,null,null,null,"A",null,"P48",48,{"$f":"J150&\"/\"&COUNTIF(J$7:J150,J150)","v":"48/2"},{"$f":"COUNTIF($J$7:J150,\">0\")","v":144}]
[null,null,null,null,null,null,"A",null,"P49",49,{"$f":"J151&\"/\"&COUNTIF(J$7:J151,J151)","v":"49/2"},{"$f":"COUNTIF($J$7:J151,\">0\")","v":145}]
[null,null,null,null,null,null,"C",null,"P50",50,{"$f":"J152&\"/\"&COUNTIF(J$7:J152,J152)","v":"50/2"},{"$f":"COUNTIF($J$7:J152,\">0\")","v":146}]
[null,null,null,null,null,null,"C",null,"P51",51,{"$f":"J153&\"/\"&COUNTIF(J$7:J153,J153)","v":"51/2"},{"$f":"COUNTIF($J$7:J153,\">0\")","v":147}]
[null,null,null,null,null,null,"C",null,"P52",52,{"$f":"J154&\"/\"&COUNTIF(J$7:J154,J154)","v":"52/2"},{"$f":"COUNTIF($J$7:J154,\">0\")","v":148}]
[null,null,null,null,null,null,"C",null,"P53",53,{"$f":"J155&\"/\"&COUNTIF(J$7:J155,J155)","v":"53/2"},{"$f":"COUNTIF($J$7:J155,\">0\")","v":149}]
[null,null,null,null,null,null,"C",null,"P54",54,{"$f":"J156&\"/\"&COUNTIF(J$7:J156,J156)","v":"54/2"},{"$f":"COUNTIF($J$7:J156,\">0\")","v":150}]
[null,null,null,null,null,null,"C",null,"P55",55,{"$f":"J157&\"/\"&COUNTIF(J$7:J157,J157)","v":"55/2"},{"$f":"COUNTIF($J$7:J157,\">0\")","v":151}]
[null,null,null,null,null,null,"C",null,"P56",56,{"$f":"J158&\"/\"&COUNTIF(J$7:J158,J158)","v":"56/2"},{"$f":"COUNTIF($J$7:J158,\">0\")","v":152}]
[null,null,null,null,null,null,"C",null,"P57",57,{"$f":"J159&\"/\"&COUNTIF(J$7:J159,J159)","v":"57/2"},{"$f":"COUNTIF($J$7:J159,\">0\")","v":153}]
[null,null,null,null,null,null,"C",null,"P58",58,{"$f":"J160&\"/\"&COUNTIF(J$7:J160,J160)","v":"58/2"},{"$f":"COUNTIF($J$7:J160,\">0\")","v":154}]
[null,null,null,null,null,null,"C",null,"P59",59,{"$f":"J161&\"/\"&COUNTIF(J$7:J161,J161)","v":"59/2"},{"$f":"COUNTIF($J$7:J161,\">0\")","v":155}]
[null,null,null,null,null,null,"C",null,"P60",60,{"$f":"J162&\"/\"&COUNTIF(J$7:J162,J162)","v":"60/2"},{"$f":"COUNTIF($J$7:J162,\">0\")","v":156}]
[null,null,null,null,null,null,"C",null,"P61",61,{"$f":"J163&\"/\"&COUNTIF(J$7:J163,J163)","v":"61/2"},{"$f":"COUNTIF($J$7:J163,\">0\")","v":157}]
[null,null,null,null,null,null,"C",null,"P62",62,{"$f":"J164&\"/\"&COUNTIF(J$7:J164,J164)","v":"62/2"},{"$f":"COUNTIF($J$7:J164,\">0\")","v":158}]
[null,null,null,null,null,null,"C",null,"P63",63,{"$f":"J165&\"/\"&COUNTIF(J$7:J165,J165)","v":"63/2"},{"$f":"COUNTIF($J$7:J165,\">0\")","v":159}]
[null,null,null,null,null,null,"C",null,"P64",64,{"$f":"J166&\"/\"&COUNTIF(J$7:J166,J166)","v":"64/2"},{"$f":"COUNTIF($J$7:J166,\">0\")","v":160}]
[null,null,null,null,null,null,"C",null,"P65",65,{"$f":"J167&\"/\"&COUNTIF(J$7:J167,J167)","v":"65/2"},{"$f":"COUNTIF($J$7:J167,\">0\")","v":161}]
[null,null,null,null,null,null,"C",null,"P66",66,{"$f":"J168&\"/\"&COUNTIF(J$7:J168,J168)","v":"66/2"},{"$f":"COUNTIF($J$7:J168,\">0\")","v":162}]
[null,null,null,null,null,null,"C",null,"P67",67,{"$f":"J169&\"/\"&COUNTIF(J$7:J169,J169)","v":"67/2"},{"$f":"COUNTIF($J$7:J169,\">0\")","v":163}]
[null,null,null,null,null,null,"ST",null,"P68",68,{"$f":"J170&\"/\"&COUNTIF(J$7:J170,J170)","v":"68/2"},{"$f":"COUNTIF($J$7:J170,\">0\")","v":164}]
[null,null,null,null,null,null,"CE",null,"P69",69,{"$f":"J171&\"/\"&COUNTIF(J$7:J171,J171)","v":"69/2"},{"$f":"COUNTIF($J$7:J171,\">0\")","v":165}]
[null,null,null,null,null,null,"CE",null,"P70",70,{"$f":"J172&\"/\"&COUNTIF(J$7:J172,J172)","v":"70/2"},{"$f":"COUNTIF($J$7:J172,\">0\")","v":166}]
[null,null,null,null,null,null,"CE",null,"P71",71,{"$f":"J173&\"/\"&COUNTIF(J$7:J173,J173)","v":"71/2"},{"$f":"COUNTIF($J$7:J173,\">0\")","v":167}]
[null,null,null,null,null,null,"CE",null,"P72",72,{"$f":"J174&\"/\"&COUNTIF(J$7:J174,J174)","v":"72/2"},{"$f":"COUNTIF($J$7:J174,\">0\")","v":168}]
[null,null,null,null,null,null,"CE",null,"P73",73,{"$f":"J175&\"/\"&COUNTIF(J$7:J175,J175)","v":"73/2"},{"$f":"COUNTIF($J$7:J175,\">0\")","v":169}]
[null,null,null,null,null,null,"CE",null,"P74",74,{"$f":"J176&\"/\"&COUNTIF(J$7:J176,J176)","v":"74/2"},{"$f":"COUNTIF($J$7:J176,\">0\")","v":170}]
[null,null,null,null,null,null,"CE",null,"P75",75,{"$f":"J177&\"/\"&COUNTIF(J$7:J177,J177)","v":"75/2"},{"$f":"COUNTIF($J$7:J177,\">0\")","v":171}]
[null,null,null,null,null,null,"CE",null,"P76",76,{"$f":"J178&\"/\"&COUNTIF(J$7:J178,J178)","v":"76/2"},{"$f":"COUNTIF($J$7:J178,\">0\")","v":172}]
[null,null,null,null,null,null,"CE",null,"P77",77,{"$f":"J179&\"/\"&COUNTIF(J$7:J179,J179)","v":"77/2"},{"$f":"COUNTIF($J$7:J179,\">0\")","v":173}]
[null,null,null,null,null,null,"CE",null,"P78",78,{"$f":"J180&\"/\"&COUNTIF(J$7:J180,J180)","v":"78/2"},{"$f":"COUNTIF($J$7:J180,\">0\")","v":174}]
[null,null,null,null,null,null,"CE",null,"P79",79,{"$f":"J181&\"/\"&COUNTIF(J$7:J181,J181)","v":"79/2"},{"$f":"COUNTIF($J$7:J181,\">0\")","v":175}]
[null,null,null,null,null,null,"CE",null,"P80",80,{"$f":"J182&\"/\"&COUNTIF(J$7:J182,J182)","v":"80/2"},{"$f":"COUNTIF($J$7:J182,\">0\")","v":176}]
[null,null,null,null,null,null,"CE",null,"P81",81,{"$f":"J183&\"/\"&COUNTIF(J$7:J183,J183)","v":"81/2"},{"$f":"COUNTIF($J$7:J183,\">0\")","v":177}]
[null,null,null,null,null,null,"CE",null,"P82",82,{"$f":"J184&\"/\"&COUNTIF(J$7:J184,J184)","v":"82/2"},{"$f":"COUNTIF($J$7:J184,\">0\")","v":178}]
[null,null,null,null,null,null,"CE",null,"P83",83,{"$f":"J185&\"/\"&COUNTIF(J$7:J185,J185)","v":"83/2"},{"$f":"COUNTIF($J$7:J185,\">0\")","v":179}]
[null,null,null,null,null,null,"CE",null,"P84",84,{"$f":"J186&\"/\"&COUNTIF(J$7:J186,J186)","v":"84/2"},{"$f":"COUNTIF($J$7:J186,\">0\")","v":180}]
[null,null,null,null,null,null,"CE",null,"P85",85,{"$f":"J187&\"/\"&COUNTIF(J$7:J187,J187)","v":"85/2"},{"$f":"COUNTIF($J$7:J187,\">0\")","v":181}]
[null,null,null,null,null,null,"CE",null,"P86",86,{"$f":"J188&\"/\"&COUNTIF(J$7:J188,J188)","v":"86/2"},{"$f":"COUNTIF($J$7:J188,\">0\")","v":182}]
[null,null,null,null,null,null,"CE",null,"P87",87,{"$f":"J189&\"/\"&COUNTIF(J$7:J189,J189)","v":"87/2"},{"$f":"COUNTIF($J$7:J189,\">0\")","v":183}]
[null,null,null,null,null,null,"CE",null,"P88",88,{"$f":"J190&\"/\"&COUNTIF(J$7:J190,J190)","v":"88/2"},{"$f":"COUNTIF($J$7:J190,\">0\")","v":184}]
[null,null,null,null,null,null,"CE",null,"P89",89,{"$f":"J191&\"/\"&COUNTIF(J$7:J191,J191)","v":"89/2"},{"$f":"COUNTIF($J$7:J191,\">0\")","v":185}]
[null,null,null,null,null,null,"CE",null,"P90",90,{"$f":"J192&\"/\"&COUNTIF(J$7:J192,J192)","v":"90/2"},{"$f":"COUNTIF($J$7:J192,\">0\")","v":186}]
[null,null,null,null,null,null,"CE",null,"P91",91,{"$f":"J193&\"/\"&COUNTIF(J$7:J193,J193)","v":"91/2"},{"$f":"COUNTIF($J$7:J193,\">0\")","v":187}]
[null,null,null,null,null,null,"CE",null,"P92",92,{"$f":"J194&\"/\"&COUNTIF(J$7:J194,J194)","v":"92/2"},{"$f":"COUNTIF($J$7:J194,\">0\")","v":188}]
[null,null,null,null,null,null,"CE",null,"P93",93,{"$f":"J195&\"/\"&COUNTIF(J$7:J195,J195)","v":"93/2"},{"$f":"COUNTIF($J$7:J195,\">0\")","v":189}]
[null,null,null,null,null,null,"CE",null,"P94",94,{"$f":"J196&\"/\"&COUNTIF(J$7:J196,J196)","v":"94/2"},{"$f":"COUNTIF($J$7:J196,\">0\")","v":190}]
[null,null,null,null,null,null,"CE",null,"P95",95,{"$f":"J197&\"/\"&COUNTIF(J$7:J197,J197)","v":"95/2"},{"$f":"COUNTIF($J$7:J197,\">0\")","v":191}]
[null,null,null,null,null,null,"CE",null,"P96",96,{"$f":"J198&\"/\"&COUNTIF(J$7:J198,J198)","v":"96/2"},{"$f":"COUNTIF($J$7:J198,\">0\")","v":192}]
[]
[null,null,null,null,null,null,null,{"$f":"COUNTIF(H7:H198,1)","v":0}]

{"sheet":"Partie 1","index":1,"n_rows":223,"n_cols":23,"rows_kept":223,"cut":false,"hidden":false,"merged":[[19,0,19,3],[19,7,19,10],[19,12,19,15],[19,19,19,22],[1,19,1,22],[10,12,10,15],[10,19,10,22],[0,0,0,22],[1,0,1,3],[10,0,10,3],[1,7,1,10],[10,7,10,10],[1,12,1,15]]}
["DOUBLETTES "]
["Equipes ",null,null,null,"PTS     EQ 1",null,"PTS     EQ 2","Equipes ",null,null,null,null,"Equipes ",null,null,null,"PTS     EQ 1",null,"PTS     EQ 2","Equipes "]
[1,{"$f":"VLOOKUP($A3,Liste!$O$7:$R$70,COLUMN(),0)","v":"T1"},{"$f":"VLOOKUP($A3,Liste!$O$7:$R$70,COLUMN(),0)","v":"P1"},{"$f":"VLOOKUP($A3,Liste!$O$7:$R$70,COLUMN(),0)","v":""},13,null,10,{"$f":"VLOOKUP($K3,Liste!$O$7:$R$70,COLUMN()-6,0)","v":"T2"},{"$f":"VLOOKUP($K3,Liste!$O$7:$R$70,COLUMN()-6,0)","v":"P2"},{"$f":"VLOOKUP($K3,Liste!$O$7:$R$70,COLUMN()-6,0)","v":""},2,null,49,{"$f":"VLOOKUP($M3,Liste!$O$7:$R$70,COLUMN()-12,0)","v":"T49"},{"$f":"VLOOKUP($M3,Liste!$O$7:$R$70,COLUMN()-12,0)","v":"P49"},{"$f":"VLOOKUP(#REF!,Liste!$O$7:$R$70,COLUMN()-12,0)","v":{"$error":"#REF!"}},13,null,12,{"$f":"VLOOKUP($W3,Liste!$O$7:$R$70,COLUMN()-18,0)","v":"T50"},{"$f":"VLOOKUP($W3,Liste!$O$7:$R$70,COLUMN()-18,0)","v":"P50"},{"$f":"VLOOKUP($W3,Liste!$O$7:$R$70,COLUMN()-18,0)","v":""},50]
[3,{"$f":"VLOOKUP($A4,Liste!$O$7:$R$70,COLUMN(),0)","v":"T3"},{"$f":"VLOOKUP($A4,Liste!$O$7:$R$70,COLUMN(),0)","v":"P3"},{"$f":"VLOOKUP($A4,Liste!$O$7:$R$70,COLUMN(),0)","v":""},13,null,10,{"$f":"VLOOKUP($K4,Liste!$O$7:$R$70,COLUMN()-6,0)","v":"T4"},{"$f":"VLOOKUP($K4,Liste!$O$7:$R$70,COLUMN()-6,0)","v":"P4"},{"$f":"VLOOKUP($K4,Liste!$O$7:$R$70,COLUMN()-6,0)","v":""},4,null,51,{"$f":"VLOOKUP($M4,Liste!$O$7:$R$70,COLUMN()-12,0)","v":"T51"},{"$f":"VLOOKUP($M4,Liste!$O$7:$R$70,COLUMN()-12,0)","v":"P51"},{"$f":"VLOOKUP(#REF!,Liste!$O$7:$R$70,COLUMN()-12,0)","v":{"$error":"#REF!"}},13,null,2,{"$f":"VLOOKUP($W4,Liste!$O$7:$R$70,COLUMN()-18,0)","v":"T52"},{"$f":"VLOOKUP($W4,Liste!$O$7:$R$70,COLUMN()-18,0)","v":"P52"},{"$f":"VLOOKUP($W4,Liste!$O$7:$R$70,COLUMN()-18,0)","v":""},52]
[5,{"$f":"VLOOKUP($A5,Liste!$O$7:$R$70,COLUMN(),0)","v":"T5"},{"$f":"VLOOKUP($A5,Liste!$O$7:$R$70,COLUMN(),0)","v":"P5"},{"$f":"VLOOKUP($A5,Liste!$O$7:$R$70,COLUMN(),0)","v":""},13,null,10,{"$f":"VLOOKUP($K5,Liste!$O$7:$R$70,COLUMN()-6,0)","v":"T6"},{"$f":"VLOOKUP($K5,Liste!$O$7:$R$70,COLUMN()-6,0)","v":"P6"},{"$f":"VLOOKUP($K5,Liste!$O$7:$R$70,COLUMN()-6,0)","v":""},6,null,53,{"$f":"VLOOKUP($M5,Liste!$O$7:$R$70,COLUMN()-12,0)","v":"T53"},{"$f":"VLOOKUP($M5,Liste!$O$7:$R$70,COLUMN()-12,0)","v":"P53"},{"$f":"VLOOKUP(#REF!,Liste!$O$7:$R$70,COLUMN()-12,0)","v":{"$error":"#REF!"}},4,null,13,{"$f":"VLOOKUP($W5,Liste!$O$7:$R$70,COLUMN()-18,0)","v":"T54"},{"$f":"VLOOKUP($W5,Liste!$O$7:$R$70,COLUMN()-18,0)","v":"P54"},{"$f":"VLOOKUP($W5,Liste!$O$7:$R$70,COLUMN()-18,0)","v":""},54]
[7,{"$f":"VLOOKUP($A6,Liste!$O$7:$R$70,COLUMN(),0)","v":"T7"},{"$f":"VLOOKUP($A6,Liste!$O$7:$R$70,COLUMN(),0)","v":"P7"},{"$f":"VLOOKUP($A6,Liste!$O$7:$R$70,COLUMN(),0)","v":""},13,null,10,{"$f":"VLOOKUP($K6,Liste!$O$7:$R$70,COLUMN()-6,0)","v":"T8"},{"$f":"VLOOKUP($K6,Liste!$O$7:$R$70,COLUMN()-6,0)","v":"P8"},{"$f":"VLOOKUP($K6,Liste!$O$7:$R$70,COLUMN()-6,0)","v":""},8,null,55,{"$f":"VLOOKUP($M6,Liste!$O$7:$R$70,COLUMN()-12,0)","v":"T55"},{"$f":"VLOOKUP($M6,Liste!$O$7:$R$70,COLUMN()-12,0)","v":"P55"},{"$f":"VLOOKUP(#REF!,Liste!$O$7:$R$70,COLUMN()-12,0)","v":{"$error":"#REF!"}},10,null,13,{"$f":"VLOOKUP($W6,Liste!$O$7:$R$70,COLUMN()-18,0)","v":"T56"},{"$f":"VLOOKUP($W6,Liste!$O$7:$R$70,COLUMN()-18,0)","v":"P56"},{"$f":"VLOOKUP($W6,Liste!$O$7:$R$70,COLUMN()-18,0)","v":""},56]
[9,{"$f":"VLOOKUP($A7,Liste!$O$7:$R$70,COLUMN(),0)","v":"T9"},{"$f":"VLOOKUP($A7,Liste!$O$7:$R$70,COLUMN(),0)","v":"P9"},{"$f":"VLOOKUP($A7,Liste!$O$7:$R$70,COLUMN(),0)","v":""},13,null,10,{"$f":"VLOOKUP($K7,Liste!$O$7:$R$70,COLUMN()-6,0)","v":"T10"},{"$f":"VLOOKUP($K7,Liste!$O$7:$R$70,COLUMN()-6,0)","v":"P10"},{"$f":"VLOOKUP($K7,Liste!$O$7:$R$70,COLUMN()-6,0)","v":""},10,null,57,{"$f":"VLOOKUP($M7,Liste!$O$7:$R$70,COLUMN()-12,0)","v":"T57"},{"$f":"VLOOKUP($M7,Liste!$O$7:$R$70,COLUMN()-12,0)","v":"P57"},{"$f":"VLOOKUP(#REF!,Liste!$O$7:$R$70,COLUMN()-12,0)","v":{"$error":"#REF!"}},13,null,7,{"$f":"VLOOKUP($W7,Liste!$O$7:$R$70,COLUMN()-18,0)","v":"T58"},{"$f":"VLOOKUP($W7,Liste!$O$7:$R$70,COLUMN()-18,0)","v":"P58"},{"$f":"VLOOKUP($W7,Liste!$O$7:$R$70,COLUMN()-18,0)","v":""},58]
[11,{"$f":"VLOOKUP($A8,Liste!$O$7:$R$70,COLUMN(),0)","v":"T11"},{"$f":"VLOOKUP($A8,Liste!$O$7:$R$70,COLUMN(),0)","v":"P11"},{"$f":"VLOOKUP($A8,Liste!$O$7:$R$70,COLUMN(),0)","v":""},13,null,10,{"$f":"VLOOKUP($K8,Liste!$O$7:$R$70,COLUMN()-6,0)","v":"T12"},{"$f":"VLOOKUP($K8,Liste!$O$7:$R$70,COLUMN()-6,0)","v":"P12"},{"$f":"VLOOKUP($K8,Liste!$O$7:$R$70,COLUMN()-6,0)","v":""},12,null,59,{"$f":"VLOOKUP($M8,Liste!$O$7:$R$70,COLUMN()-12,0)","v":"T59"},{"$f":"VLOOKUP($M8,Liste!$O$7:$R$70,COLUMN()-12,0)","v":"P59"},{"$f":"VLOOKUP(#REF!,Liste!$O$7:$R$70,COLUMN()-12,0)","v":{"$error":"#REF!"}},13,null,5,{"$f":"VLOOKUP($W8,Liste!$O$7:$R$70,COLUMN()-18,0)","v":"T60"},{"$f":"VLOOKUP($W8,Liste!$O$7:$R$70,COLUMN()-18,0)","v":"P60"},{"$f":"VLOOKUP($W8,Liste!$O$7:$R$70,COLUMN()-18,0)","v":""},60]
[13,{"$f":"VLOOKUP($A9,Liste!$O$7:$R$70,COLUMN(),0)","v":"T13"},{"$f":"VLOOKUP($A9,Liste!$O$7:$R$70,COLUMN(),0)","v":"P13"},{"$f":"VLOOKUP($A9,Liste!$O$7:$R$70,COLUMN(),0)","v":""},13,null,10,{"$f":"VLOOKUP($K9,Liste!$O$7:$R$70,COLUMN()-6,0)","v":"T14"},{"$f":"VLOOKUP($K9,Liste!$O$7:$R$70,COLUMN()-6,0)","v":"P14"},{"$f":"VLOOKUP($K9,Liste!$O$7:$R$70,COLUMN()-6,0)","v":""},14,null,61,{"$f":"VLOOKUP($M9,Liste!$O$7:$R$70,COLUMN()-12,0)","v":"T61"},{"$f":"VLOOKUP($M9,Liste!$O$7:$R$70,COLUMN()-12,0)","v":"P61"},{"$f":"VLOOKUP(#REF!,Liste!$O$7:$R$70,COLUMN()-12,0)","v":{"$error":"#REF!"}},9,null,13,{"$f":"VLOOKUP($W9,Liste!$O$7:$R$70,COLUMN()-18,0)","v":"T62"},{"$f":"VLOOKUP($W9,Liste!$O$7:$R$70,COLUMN()-18,0)","v":"P62"},{"$f":"VLOOKUP($W9,Liste!$O$7:$R$70,COLUMN()-18,0)","v":""},62]
[15,{"$f":"VLOOKUP($A10,Liste!$O$7:$R$70,COLUMN(),0)","v":"T15"},{"$f":"VLOOKUP($A10,Liste!$O$7:$R$70,COLUMN(),0)","v":"P15"},{"$f":"VLOOKUP($A10,Liste!$O$7:$R$70,COLUMN(),0)","v":""},13,null,10,{"$f":"VLOOKUP($K10,Liste!$O$7:$R$70,COLUMN()-6,0)","v":"T16"},{"$f":"VLOOKUP($K10,Liste!$O$7:$R$70,COLUMN()-6,0)","v":"P16"},{"$f":"VLOOKUP($K10,Liste!$O$7:$R$70,COLUMN()-6,0)","v":""},16,null,63,{"$f":"VLOOKUP($M10,Liste!$O$7:$R$70,COLUMN()-12,0)","v":"T63"},{"$f":"VLOOKUP($M10,Liste!$O$7:$R$70,COLUMN()-12,0)","v":"P63"},{"$f":"VLOOKUP(#REF!,Liste!$O$7:$R$70,COLUMN()-12,0)","v":{"$error":"#REF!"}},13,null,11,{"$f":"VLOOKUP($W10,Liste!$O$7:$R$70,COLUMN()-18,0)","v":"T64"},{"$f":"VLOOKUP($W10,Liste!$O$7:$R$70,COLUMN()-18,0)","v":"P64"},{"$f":"VLOOKUP($W10,Liste!$O$7:$R$70,COLUMN()-18,0)","v":""},64]
["Equipes ",null,null,null,"PTS     EQ 1",null,"PTS     EQ 2","Equipes ",null,null,null,null,"Equipes ",null,null,null,"PTS     EQ 1",null,"PTS     EQ 2","Equipes "]
[17,{"$f":"VLOOKUP($A12,Liste!$O$7:$R$70,COLUMN(),0)","v":"T17"},{"$f":"VLOOKUP($A12,Liste!$O$7:$R$70,COLUMN(),0)","v":"P17"},{"$f":"VLOOKUP($A12,Liste!$O$7:$R$70,COLUMN(),0)","v":""},13,null,10,{"$f":"VLOOKUP($K12,Liste!$O$7:$R$70,COLUMN()-6,0)","v":"T18"},{"$f":"VLOOKUP($K12,Liste!$O$7:$R$70,COLUMN()-6,0)","v":"P18"},{"$f":"VLOOKUP($K12,Liste!$O$7:$R$70,COLUMN()-6,0)","v":""},18,null,65,{"$f":"VLOOKUP($M12,Liste!$O$7:$R$103,COLUMN()-12,0)","v":"T65"},{"$f":"VLOOKUP($M12,Liste!$O$7:$R$103,COLUMN()-12,0)","v":"P65"},{"$f":"VLOOKUP($M12,Liste!$O$7:$R$103,COLUMN()-12,0)","v":0},12,null,13,{"$f":"VLOOKUP($W12,Liste!$O$7:$R$103,COLUMN()-18,0)","v":"T66"},{"$f":"VLOOKUP($W12,Liste!$O$7:$R$103,COLUMN()-18,0)","v":"P66"},{"$f":"VLOOKUP($W12,Liste!$O$7:$R$70,COLUMN()-18,0)","v":{"$error":"#N/A"}},66]
[19,{"$f":"VLOOKUP($A13,Liste!$O$7:$R$70,COLUMN(),0)","v":"T19"},{"$f":"VLOOKUP($A13,Liste!$O$7:$R$70,COLUMN(),0)","v":"P19"},{"$f":"VLOOKUP($A13,Liste!$O$7:$R$70,COLUMN(),0)","v":""},13,null,10,{"$f":"VLOOKUP($K13,Liste!$O$7:$R$70,COLUMN()-6,0)","v":"T20"},{"$f":"VLOOKUP($K13,Liste!$O$7:$R$70,COLUMN()-6,0)","v":"P20"},{"$f":"VLOOKUP($K13,Liste!$O$7:$R$70,COLUMN()-6,0)","v":""},20,null,{"$f":"M12+2","v":67},{"$f":"VLOOKUP($M13,Liste!$O$7:$R$103,COLUMN()-12,0)","v":"T67"},{"$f":"VLOOKUP($M13,Liste!$O$7:$R$103,COLUMN()-12,0)","v":"P67"},{"$f":"VLOOKUP($M13,Liste!$O$7:$R$103,COLUMN()-12,0)","v":0},2,null,13,{"$f":"VLOOKUP($W13,Liste!$O$7:$R$103,COLUMN()-18,0)","v":"T68"},{"$f":"VLOOKUP($W13,Liste!$O$7:$R$103,COLUMN()-18,0)","v":"P68"},{"$f":"VLOOKUP($W13,Liste!$O$7:$R$70,COLUMN()-18,0)","v":{"$error":"#N/A"}},{"$f":"W12+2","v":68}]
[21,{"$f":"VLOOKUP($A14,Liste!$O$7:$R$70,COLUMN(),0)","v":"T21"},{"$f":"VLOOKUP($A14,Liste!$O$7:$R$70,COLUMN(),0)","v":"P21"},{"$f":"VLOOKUP($A14,Liste!$O$7:$R$70,COLUMN(),0)","v":""},13,null,10,{"$f":"VLOOKUP($K14,Liste!$O$7:$R$70,COLUMN()-6,0)","v":"T22"},{"$f":"VLOOKUP($K14,Liste!$O$7:$R$70,COLUMN()-6,0)","v":"P22"},{"$f":"VLOOKUP($K14,Liste!$O$7:$R$70,COLUMN()-6,0)","v":""},22,null,{"$f":"M13+2","v":69},{"$f":"VLOOKUP($M14,Liste!$O$7:$R$103,COLUMN()-12,0)","v":"T69"},{"$f":"VLOOKUP($M14,Liste!$O$7:$R$103,COLUMN()-12,0)","v":"P69"},{"$f":"VLOOKUP($M14,Liste!$O$7:$R$103,COLUMN()-12,0)","v":0},13,null,4,{"$f":"VLOOKUP($W14,Liste!$O$7:$R$103,COLUMN()-18,0)","v":"T70"},{"$f":"VLOOKUP($W14,Liste!$O$7:$R$103,COLUMN()-18,0)","v":"P70"},{"$f":"VLOOKUP($W14,Liste!$O$7:$R$70,COLUMN()-18,0)","v":{"$error":"#N/A"}},{"$f":"W13+2","v":70}]
[23,{"$f":"VLOOKUP($A15,Liste!$O$7:$R$70,COLUMN(),0)","v":"T23"},{"$f":"VLOOKUP($A15,Liste!$O$7:$R$70,COLUMN(),0)","v":"P23"},{"$f":"VLOOKUP($A15,Liste!$O$7:$R$70,COLUMN(),0)","v":""},13,null,10,{"$f":"VLOOKUP($K15,Liste!$O$7:$R$70,COLUMN()-6,0)","v":"T24"},{"$f":"VLOOKUP($K15,Liste!$O$7:$R$70,COLUMN()-6,0)","v":"P24"},{"$f":"VLOOKUP($K15,Liste!$O$7:$R$70,COLUMN()-6,0)","v":""},24,null,71,{"$f":"VLOOKUP($M15,Liste!$O$7:$R$103,COLUMN()-12,0)","v":"T71"},{"$f":"VLOOKUP($M15,Liste!$O$7:$R$103,COLUMN()-12,0)","v":"P71"},{"$f":"VLOOKUP($M15,Liste!$O$7:$R$103,COLUMN()-12,0)","v":0},13,null,10,{"$f":"VLOOKUP($W15,Liste!$O$7:$R$103,COLUMN()-18,0)","v":"T72"},{"$f":"VLOOKUP($W15,Liste!$O$7:$R$103,COLUMN()-18,0)","v":"P72"},{"$f":"VLOOKUP($W15,Liste!$O$7:$R$70,COLUMN()-18,0)","v":{"$error":"#N/A"}},72]
[25,{"$f":"VLOOKUP($A16,Liste!$O$7:$R$70,COLUMN(),0)","v":"T25"},{"$f":"VLOOKUP($A16,Liste!$O$7:$R$70,COLUMN(),0)","v":"P25"},{"$f":"VLOOKUP($A16,Liste!$O$7:$R$70,COLUMN(),0)","v":""},13,null,10,{"$f":"VLOOKUP($K16,Liste!$O$7:$R$70,COLUMN()-6,0)","v":"T26"},{"$f":"VLOOKUP($K16,Liste!$O$7:$R$70,COLUMN()-6,0)","v":"P26"},{"$f":"VLOOKUP($K16,Liste!$O$7:$R$70,COLUMN()-6,0)","v":""},26,null,73,{"$f":"VLOOKUP($M16,Liste!$O$7:$R$103,COLUMN()-12,0)","v":"T73"},{"$f":"VLOOKUP($M16,Liste!$O$7:$R$103,COLUMN()-12,0)","v":"P73"},{"$f":"VLOOKUP($M16,Liste!$O$7:$R$103,COLUMN()-12,0)","v":0},7,null,13,{"$f":"VLOOKUP($W16,Liste!$O$7:$R$103,COLUMN()-18,0)","v":"T74"},{"$f":"VLOOKUP($W16,Liste!$O$7:$R$103,COLUMN()-18,0)","v":"P74"},{"$f":"VLOOKUP($W16,Liste!$O$7:$R$70,COLUMN()-18,0)","v":{"$error":"#N/A"}},74]
[27,{"$f":"VLOOKUP($A17,Liste!$O$7:$R$70,COLUMN(),0)","v":"T27"},{"$f":"VLOOKUP($A17,Liste!$O$7:$R$70,COLUMN(),0)","v":"P27"},{"$f":"VLOOKUP($A17,Liste!$O$7:$R$70,COLUMN(),0)","v":""},13,null,10,{"$f":"VLOOKUP($K17,Liste!$O$7:$R$70,COLUMN()-6,0)","v":"T28"},{"$f":"VLOOKUP($K17,Liste!$O$7:$R$70,COLUMN()-6,0)","v":"P28"},{"$f":"VLOOKUP($K17,Liste!$O$7:$R$70,COLUMN()-6,0)","v":""},28,null,75,{"$f":"VLOOKUP($M17,Liste!$O$7:$R$103,COLUMN()-12,0)","v":"T75"},{"$f":"VLOOKUP($M17,Liste!$O$7:$R$103,COLUMN()-12,0)","v":"P75"},{"$f":"VLOOKUP($M17,Liste!$O$7:$R$103,COLUMN()-12,0)","v":0},5,null,13,{"$f":"VLOOKUP($W17,Liste!$O$7:$R$103,COLUMN()-18,0)","v":"T76"},{"$f":"VLOOKUP($W17,Liste!$O$7:$R$103,COLUMN()-18,0)","v":"P76"},{"$f":"VLOOKUP($W17,Liste!$O$7:$R$70,COLUMN()-18,0)","v":{"$error":"#N/A"}},76]
[29,{"$f":"VLOOKUP($A18,Liste!$O$7:$R$70,COLUMN(),0)","v":"T29"},{"$f":"VLOOKUP($A18,Liste!$O$7:$R$70,COLUMN(),0)","v":"P29"},{"$f":"VLOOKUP($A18,Liste!$O$7:$R$70,COLUMN(),0)","v":""},13,null,10,{"$f":"VLOOKUP($K18,Liste!$O$7:$R$70,COLUMN()-6,0)","v":"T30"},{"$f":"VLOOKUP($K18,Liste!$O$7:$R$70,COLUMN()-6,0)","v":"P30"},{"$f":"VLOOKUP($K18,Liste!$O$7:$R$70,COLUMN()-6,0)","v":""},30,null,77,{"$f":"VLOOKUP($M18,Liste!$O$7:$R$103,COLUMN()-12,0)","v":"T77"},{"$f":"VLOOKUP($M18,Liste!$O$7:$R$103,COLUMN()-12,0)","v":"P77"},{"$f":"VLOOKUP($M18,Liste!$O$7:$R$103,COLUMN()-12,0)","v":0},13,null,9,{"$f":"VLOOKUP($W18,Liste!$O$7:$R$103,COLUMN()-18,0)","v":"T78"},{"$f":"VLOOKUP($W18,Liste!$O$7:$R$103,COLUMN()-18,0)","v":"P78"},{"$f":"VLOOKUP($W18,Liste!$O$7:$R$70,COLUMN()-18,0)","v":{"$error":"#N/A"}},78]
[31,{"$f":"VLOOKUP($A19,Liste!$O$7:$R$70,COLUMN(),0)","v":"T31"},{"$f":"VLOOKUP($A19,Liste!$O$7:$R$70,COLUMN(),0)","v":"P31"},{"$f":"VLOOKUP($A19,Liste!$O$7:$R$70,COLUMN(),0)","v":""},13,null,10,{"$f":"VLOOKUP($K19,Liste!$O$7:$R$70,COLUMN()-6,0)","v":"T32"},{"$f":"VLOOKUP($K19,Liste!$O$7:$R$70,COLUMN()-6,0)","v":"P32"},{"$f":"VLOOKUP($K19,Liste!$O$7:$R$70,COLUMN()-6,0)","v":""},32,null,79,{"$f":"VLOOKUP($M19,Liste!$O$7:$R$103,COLUMN()-12,0)","v":"T79"},{"$f":"VLOOKUP($M19,Liste!$O$7:$R$103,COLUMN()-12,0)","v":"P79"},{"$f":"VLOOKUP($M19,Liste!$O$7:$R$103,COLUMN()-12,0)","v":0},11,null,13,{"$f":"VLOOKUP($W19,Liste!$O$7:$R$103,COLUMN()-18,0)","v":"T80"},{"$f":"VLOOKUP($W19,Liste!$O$7:$R$103,COLUMN()-18,0)","v":"P80"},{"$f":"VLOOKUP($W19,Liste!$O$7:$R$70,COLUMN()-18,0)","v":{"$error":"#N/A"}},80]
["Equipes ",null,null,null,"PTS     EQ 1",null,"PTS     EQ 2","Equipes ",null,null,null,null,"Equipes ",null,null,null,"PTS     EQ 1",null,"PTS     EQ 2","Equipes "]
[33,{"$f":"VLOOKUP($A21,Liste!$O$7:$R$70,COLUMN(),0)","v":"T33"},{"$f":"VLOOKUP($A21,Liste!$O$7:$R$70,COLUMN(),0)","v":"P33"},{"$f":"VLOOKUP($A21,Liste!$O$7:$R$70,COLUMN(),0)","v":""},12,null,13,{"$f":"VLOOKUP($K21,Liste!$O$7:$R$70,COLUMN()-6,0)","v":"T34"},{"$f":"VLOOKUP($K21,Liste!$O$7:$R$70,COLUMN()-6,0)","v":"P34"},{"$f":"VLOOKUP($K21,Liste!$O$7:$R$70,COLUMN()-6,0)","v":""},34,null,81,{"$f":"VLOOKUP($M21,Liste!$O$7:$R$103,COLUMN()-12,0)","v":"T81"},{"$f":"VLOOKUP($M21,Liste!$O$7:$R$103,COLUMN()-12,0)","v":"P81"},{"$f":"VLOOKUP($M21,Liste!$O$7:$R$103,COLUMN()-12,0)","v":0},13,null,12,{"$f":"VLOOKUP($W21,Liste!$O$7:$R$103,COLUMN()-18,0)","v":"T82"},{"$f":"VLOOKUP($W21,Liste!$O$7:$R$103,COLUMN()-18,0)","v":"P82"},{"$f":"VLOOKUP($W21,Liste!$O$7:$R$70,COLUMN()-18,0)","v":{"$error":"#N/A"}},82]
[35,{"$f":"VLOOKUP($A22,Liste!$O$7:$R$70,COLUMN(),0)","v":"T35"},{"$f":"VLOOKUP($A22,Liste!$O$7:$R$70,COLUMN(),0)","v":"P35"},{"$f":"VLOOKUP($A22,Liste!$O$7:$R$70,COLUMN(),0)","v":""},2,null,13,{"$f":"VLOOKUP($K22,Liste!$O$7:$R$70,COLUMN()-6,0)","v":"T36"},{"$f":"VLOOKUP($K22,Liste!$O$7:$R$70,COLUMN()-6,0)","v":"P36"},{"$f":"VLOOKUP($K22,Liste!$O$7:$R$70,COLUMN()-6,0)","v":""},36,null,{"$f":"M21+2","v":83},{"$f":"VLOOKUP($M22,Liste!$O$7:$R$103,COLUMN()-12,0)","v":"T83"},{"$f":"VLOOKUP($M22,Liste!$O$7:$R$103,COLUMN()-12,0)","v":"P83"},{"$f":"VLOOKUP($M22,Liste!$O$7:$R$103,COLUMN()-12,0)","v":0},13,null,2,{"$f":"VLOOKUP($W22,Liste!$O$7:$R$103,COLUMN()-18,0)","v":"T84"},{"$f":"VLOOKUP($W22,Liste!$O$7:$R$103,COLUMN()-18,0)","v":"P84"},{"$f":"VLOOKUP($W22,Liste!$O$7:$R$70,COLUMN()-18,0)","v":{"$error":"#N/A"}},{"$f":"W21+2","v":84}]
[37,{"$f":"VLOOKUP($A23,Liste!$O$7:$R$70,COLUMN(),0)","v":"T37"},{"$f":"VLOOKUP($A23,Liste!$O$7:$R$70,COLUMN(),0)","v":"P37"},{"$f":"VLOOKUP($A23,Liste!$O$7:$R$70,COLUMN(),0)","v":""},13,null,4,{"$f":"VLOOKUP($K23,Liste!$O$7:$R$70,COLUMN()-6,0)","v":"T38"},{"$f":"VLOOKUP($K23,Liste!$O$7:$R$70,COLUMN()-6,0)","v":"P38"},{"$f":"VLOOKUP($K23,Liste!$O$7:$R$70,COLUMN()-6,0)","v":""},38,null,{"$f":"M22+2","v":85},{"$f":"VLOOKUP($M23,Liste!$O$7:$R$103,COLUMN()-12,0)","v":"T85"},{"$f":"VLOOKUP($M23,Liste!$O$7:$R$103,COLUMN()-12,0)","v":"P85"},{"$f":"VLOOKUP($M23,Liste!$O$7:$R$103,COLUMN()-12,0)","v":0},4,null,13,{"$f":"VLOOKUP($W23,Liste!$O$7:$R$103,COLUMN()-18,0)","v":"T86"},{"$f":"VLOOKUP($W23,Liste!$O$7:$R$103,COLUMN()-18,0)","v":"P86"},{"$f":"VLOOKUP($W23,Liste!$O$7:$R$70,COLUMN()-18,0)","v":{"$error":"#N/A"}},{"$f":"W22+2","v":86}]
[39,{"$f":"VLOOKUP($A24,Liste!$O$7:$R$70,COLUMN(),0)","v":"T39"},{"$f":"VLOOKUP($A24,Liste!$O$7:$R$70,COLUMN(),0)","v":"P39"},{"$f":"VLOOKUP($A24,Liste!$O$7:$R$70,COLUMN(),0)","v":""},13,null,10,{"$f":"VLOOKUP($K24,Liste!$O$7:$R$70,COLUMN()-6,0)","v":"T40"},{"$f":"VLOOKUP($K24,Liste!$O$7:$R$70,COLUMN()-6,0)","v":"P40"},{"$f":"VLOOKUP($K24,Liste!$O$7:$R$70,COLUMN()-6,0)","v":""},40,null,87,{"$f":"VLOOKUP($M24,Liste!$O$7:$R$103,COLUMN()-12,0)","v":"T87"},{"$f":"VLOOKUP($M24,Liste!$O$7:$R$103,COLUMN()-12,0)","v":"P87"},{"$f":"VLOOKUP($M24,Liste!$O$7:$R$103,COLUMN()-12,0)","v":0},10,null,13,{"$f":"VLOOKUP($W24,Liste!$O$7:$R$103,COLUMN()-18,0)","v":"T88"},{"$f":"VLOOKUP($W24,Liste!$O$7:$R$103,COLUMN()-18,0)","v":"P88"},{"$f":"VLOOKUP($W24,Liste!$O$7:$R$70,COLUMN()-18,0)","v":{"$error":"#N/A"}},88]
[41,{"$f":"VLOOKUP($A25,Liste!$O$7:$R$70,COLUMN(),0)","v":"T41"},{"$f":"VLOOKUP($A25,Liste!$O$7:$R$70,COLUMN(),0)","v":"P41"},{"$f":"VLOOKUP($A25,Liste!$O$7:$R$70,COLUMN(),0)","v":""},7,null,13,{"$f":"VLOOKUP($K25,Liste!$O$7:$R$70,COLUMN()-6,0)","v":"T42"},{"$f":"VLOOKUP($K25,Liste!$O$7:$R$70,COLUMN()-6,0)","v":"P42"},{"$f":"VLOOKUP($K25,Liste!$O$7:$R$70,COLUMN()-6,0)","v":""},42,null,89,{"$f":"VLOOKUP($M25,Liste!$O$7:$R$103,COLUMN()-12,0)","v":"T89"},{"$f":"VLOOKUP($M25,Liste!$O$7:$R$103,COLUMN()-12,0)","v":"P89"},{"$f":"VLOOKUP($M25,Liste!$O$7:$R$103,COLUMN()-12,0)","v":0},13,null,7,{"$f":"VLOOKUP($W25,Liste!$O$7:$R$103,COLUMN()-18,0)","v":"T90"},{"$f":"VLOOKUP($W25,Liste!$O$7:$R$103,COLUMN()-18,0)","v":"P90"},{"$f":"VLOOKUP($W25,Liste!$O$7:$R$70,COLUMN()-18,0)","v":{"$error":"#N/A"}},90]
[43,{"$f":"VLOOKUP($A26,Liste!$O$7:$R$70,COLUMN(),0)","v":"T43"},{"$f":"VLOOKUP($A26,Liste!$O$7:$R$70,COLUMN(),0)","v":"P43"},{"$f":"VLOOKUP($A26,Liste!$O$7:$R$70,COLUMN(),0)","v":""},5,null,13,{"$f":"VLOOKUP($K26,Liste!$O$7:$R$70,COLUMN()-6,0)","v":"T44"},{"$f":"VLOOKUP($K26,Liste!$O$7:$R$70,COLUMN()-6,0)","v":"P44"},{"$f":"VLOOKUP($K26,Liste!$O$7:$R$70,COLUMN()-6,0)","v":""},44,null,91,{"$f":"VLOOKUP($M26,Liste!$O$7:$R$103,COLUMN()-12,0)","v":"T91"},{"$f":"VLOOKUP($M26,Liste!$O$7:$R$103,COLUMN()-12,0)","v":"P91"},{"$f":"VLOOKUP($M26,Liste!$O$7:$R$103,COLUMN()-12,0)","v":0},13,null,5,{"$f":"VLOOKUP($W26,Liste!$O$7:$R$103,COLUMN()-18,0)","v":"T92"},{"$f":"VLOOKUP($W26,Liste!$O$7:$R$103,COLUMN()-18,0)","v":"P92"},{"$f":"VLOOKUP($W26,Liste!$O$7:$R$70,COLUMN()-18,0)","v":{"$error":"#N/A"}},92]
[45,{"$f":"VLOOKUP($A27,Liste!$O$7:$R$70,COLUMN(),0)","v":"T45"},{"$f":"VLOOKUP($A27,Liste!$O$7:$R$70,COLUMN(),0)","v":"P45"},{"$f":"VLOOKUP($A27,Liste!$O$7:$R$70,COLUMN(),0)","v":""},13,null,9,{"$f":"VLOOKUP($K27,Liste!$O$7:$R$70,COLUMN()-6,0)","v":"T46"},{"$f":"VLOOKUP($K27,Liste!$O$7:$R$70,COLUMN()-6,0)","v":"P46"},{"$f":"VLOOKUP($K27,Liste!$O$7:$R$70,COLUMN()-6,0)","v":""},46,null,93,{"$f":"VLOOKUP($M27,Liste!$O$7:$R$103,COLUMN()-12,0)","v":"T93"},{"$f":"VLOOKUP($M27,Liste!$O$7:$R$103,COLUMN()-12,0)","v":"P93"},{"$f":"VLOOKUP($M27,Liste!$O$7:$R$103,COLUMN()-12,0)","v":0},9,null,13,{"$f":"VLOOKUP($W27,Liste!$O$7:$R$103,COLUMN()-18,0)","v":"T94"},{"$f":"VLOOKUP($W27,Liste!$O$7:$R$103,COLUMN()-18,0)","v":"P94"},{"$f":"VLOOKUP($W27,Liste!$O$7:$R$70,COLUMN()-18,0)","v":{"$error":"#N/A"}},94]
[47,{"$f":"VLOOKUP($A28,Liste!$O$7:$R$70,COLUMN(),0)","v":"T47"},{"$f":"VLOOKUP($A28,Liste!$O$7:$R$70,COLUMN(),0)","v":"P47"},{"$f":"VLOOKUP($A28,Liste!$O$7:$R$70,COLUMN(),0)","v":""},11,null,13,{"$f":"VLOOKUP($K28,Liste!$O$7:$R$70,COLUMN()-6,0)","v":"T48"},{"$f":"VLOOKUP($K28,Liste!$O$7:$R$70,COLUMN()-6,0)","v":"P48"},{"$f":"VLOOKUP($K28,Liste!$O$7:$R$70,COLUMN()-6,0)","v":""},48,null,95,{"$f":"VLOOKUP($M28,Liste!$O$7:$R$103,COLUMN()-12,0)","v":"T95"},{"$f":"VLOOKUP($M28,Liste!$O$7:$R$103,COLUMN()-12,0)","v":"P95"},{"$f":"VLOOKUP($M28,Liste!$O$7:$R$103,COLUMN()-12,0)","v":0},13,null,11,{"$f":"VLOOKUP($W28,Liste!$O$7:$R$103,COLUMN()-18,0)","v":"T96"},{"$f":"VLOOKUP($W28,Liste!$O$7:$R$103,COLUMN()-18,0)","v":"P96"},{"$f":"VLOOKUP($W28,Liste!$O$7:$R$70,COLUMN()-18,0)","v":{"$error":"#N/A"}},96]
[]
[]
[]
[null,{"$f":"B3","v":"T1"},{"$f":"E3","v":13},null,{"$f":"G3","v":10}]
[null,{"$f":"B4","v":"T3"},{"$f":"E4","v":13},null,{"$f":"G4","v":10}]
[null,"T5",13,null,10]
[null,"T7",13,null,10]
[null,"T9",13,null,10]
[null,"T11",13,null,10]
[null,"T13",13,null,10]
[null,"T15",13,null,10]
[null,{"$f":"B12","v":"T17"},{"$f":"E12","v":13},null,{"$f":"G12","v":10}]
[null,"T19",13,null,{"$f":"G13","v":10}]
[null,"T21",13,null,10]
[null,"T23",13,null,10]
[null,"T25",13,null,10]
[null,"T27",13,null,10]
[null,"T29",13,null,10]
[null,"T31",13,null,10]
[null,{"$f":"B21","v":"T33"},{"$f":"E21","v":12},null,{"$f":"G21","v":13}]
[null,"T35",2,null,{"$f":"G22","v":13}]
[null,"T37",13,null,4]
[null,"T39",13,null,10]
[null,"T41",7,null,13]
[null,"T43",5,null,13]
[null,"T45",13,null,9]
[null,"T47",11,null,13]
[null,{"$f":"H3","v":"T2"},{"$f":"G3","v":10},null,{"$f":"E3","v":13}]
[null,{"$f":"H4","v":"T4"},{"$f":"G4","v":10},null,{"$f":"E4","v":13}]
[null,"T6",10,null,13]
[null,"T8",10,null,13]
[null,"T10",10,null,13]
[null,"T12",10,null,13]
[null,"T14",10,null,13]
[null,"T16",10,null,13]
[null,{"$f":"H12","v":"T18"},{"$f":"G12","v":10},null,{"$f":"E12","v":13}]
[null,"T20",10,null,{"$f":"E13","v":13}]
[null,"T22",10,null,13]
[null,"T24",10,null,13]
[null,"T26",10,null,13]
[null,"T28",10,null,13]
[null,"T30",10,null,13]
[null,"T32",10,null,13]
[null,{"$f":"H21","v":"T34"},{"$f":"G21","v":13},null,{"$f":"E21","v":12}]
[null,"T36",13,null,{"$f":"E22","v":2}]
[null,"T38",4,null,13]
[null,"T40",10,null,13]
[null,"T42",13,null,7]
[null,"T44",13,null,5]
[null,"T46",9,null,13]
[null,{"$f":"H28","v":"T48"},{"$f":"G28","v":13},null,11]
[null,{"$f":"N3","v":"T49"},{"$f":"Q3","v":13},null,{"$f":"S3","v":12}]
[null,{"$f":"N4","v":"T51"},{"$f":"Q4","v":13},null,{"$f":"S4","v":2}]
[null,"T53",4,null,13]
[null,"T55",10,null,13]
[null,"T57",13,null,7]
[null,"T59",13,null,5]
[null,"T61",9,null,13]
[null,"T63",13,null,11]
[null,{"$f":"N12","v":"T65"},{"$f":"Q12","v":12},null,{"$f":"S12","v":13}]
[null,"T67",2,null,{"$f":"S13","v":13}]
[null,"T69",13,null,4]
[null,"T71",13,null,10]
[null,"T73",7,null,13]
[null,"T75",5,null,13]
[null,"T77",13,null,9]
[null,"T79",11,null,13]
[null,{"$f":"N21","v":"T81"},{"$f":"Q21","v":13},null,{"$f":"S21","v":12}]
[null,"T83",13,null,{"$f":"S22","v":2}]
[null,"T85",4,null,13]
[null,"T87",10,null,13]
[null,"T89",13,null,7]
[null,"T91",13,null,5]
[null,"T93",9,null,13]
[null,"T95",13,null,11]
[null,{"$f":"T3","v":"T50"},{"$f":"S3","v":12},null,{"$f":"Q3","v":13}]
[null,{"$f":"T4","v":"T52"},{"$f":"S4","v":2},null,13]
[null,"T54",13,null,4]
[null,"T56",13,null,10]
[null,"T58",7,null,13]
[null,"T60",5,null,13]
[null,"T62",13,null,9]
[null,"T64",11,null,13]
[null,{"$f":"T12","v":"T66"},{"$f":"S12","v":13},null,{"$f":"Q12","v":12}]
[null,"T68",13,null,2]
[null,"T70",4,null,13]
[null,"T72",10,null,13]
[null,"T74",13,null,7]
[null,"T76",13,null,5]
[null,"T78",9,null,13]
[null,"T80",13,null,11]
[null,{"$f":"T21","v":"T82"},{"$f":"S21","v":12},null,{"$f":"Q21","v":13}]
[null,"T84",2,null,13]
[null,"T86",13,null,4]
[null,"T88",13,null,10]
[null,"T90",7,null,13]
[null,"T92",5,null,13]
[null,"T94",13,null,9]
[null,{"$f":"T28","v":"T96"},{"$f":"S28","v":11},null,13]
[null,{"$f":"C3","v":"P1"},{"$f":"E3","v":13},null,{"$f":"E32","v":10}]
[null,{"$f":"C4","v":"P3"},{"$f":"E4","v":13},null,{"$f":"E33","v":10}]
[null,"P5",13,null,10]
[null,"P7",13,null,10]
[null,"P9",13,null,10]
[null,"P11",13,null,10]
[null,"P13",13,null,10]
[null,"P15",13,null,10]
[null,{"$f":"C12","v":"P17"},{"$f":"E12","v":13},null,10]
[null,"P19",13,null,10]
[null,"P21",13,null,10]
[null,"P23",13,null,10]
[null,"P25",13,null,10]
[null,"P27",13,null,10]
[null,"P29",13,null,10]
[null,"P31",13,null,10]
[null,{"$f":"C21","v":"P33"},{"$f":"E21","v":12},null,13]
[null,"P35",2,null,13]
[null,"P37",13,null,4]
[null,"P39",13,null,10]
[null,"P41",7,null,13]
[null,"P43",5,null,13]
[null,"P45",13,null,9]
[null,"P47",11,null,13]
[null,{"$f":"I3","v":"P2"},{"$f":"G3","v":10},null,13]
[null,{"$f":"I4","v":"P4"},{"$f":"G4","v":10},null,13]
[null,"P6",10,null,13]
[null,"P8",10,null,13]
[null,"P10",10,null,13]
[null,"P12",10,null,13]
[null,"P14",10,null,13]
[null,"P16",10,null,13]
[null,{"$f":"I12","v":"P18"},{"$f":"G12","v":10},null,13]
[null,"P20",10,null,13]
[null,"P22",10,null,13]
[null,"P24",10,null,13]
[null,"P26",10,null,13]
[null,"P28",10,null,13]
[null,"P30",10,null,13]
[null,"P32",10,null,13]
[null,{"$f":"I21","v":"P34"},{"$f":"G21","v":13},null,12]
[null,"P36",13,null,2]
[null,"P38",4,null,13]
[null,"P40",10,null,13]
[null,"P42",13,null,7]
[null,"P44",13,null,5]
[null,"P46",9,null,13]
[null,"P48",13,null,11]
[null,{"$f":"O3","v":"P49"},{"$f":"Q3","v":13},null,12]
[null,{"$f":"O4","v":"P51"},{"$f":"Q4","v":13},null,2]
[null,"P53",4,null,13]
[null,"P55",10,null,13]
[null,"P57",13,null,7]
[null,"P59",13,null,5]
[null,"P61",9,null,13]
[null,"P63",13,null,11]
[null,{"$f":"O12","v":"P65"},{"$f":"Q12","v":12},null,{"$f":"E87","v":11}]
[null,"P67",2,null,{"$f":"E88","v":13}]
[null,"P69",13,null,4]
[null,"P71",13,null,10]
[null,"P73",7,null,13]
[null,"P75",5,null,13]
[null,"P77",13,null,9]
[null,"P79",11,null,13]
[null,{"$f":"O21","v":"P81"},{"$f":"Q21","v":13},null,12]
[null,"P83",13,null,{"$f":"E97","v":2}]
[null,"P85",4,null,13]
[null,"P87",10,null,13]
[null,"P89",13,null,7]
[null,"P91",13,null,5]
[null,"P93",9,null,13]
[null,"P95",13,null,11]
[null,{"$f":"U3","v":"P50"},{"$f":"S3","v":12},null,13]
[null,{"$f":"U4","v":"P52"},{"$f":"S4","v":2},null,13]
[null,"P54",13,null,4]
[null,"P56",13,null,10]
[null,"P58",7,null,13]
[null,"P60",5,null,13]
[null,"P62",13,null,9]
[null,"P64",11,null,13]
[null,{"$f":"U12","v":"P66"},{"$f":"S12","v":13},null,12]
[null,"P68",13,null,2]
[null,"P70",4,null,13]
[null,"P72",10,null,13]
[null,"P74",13,null,7]
[null,"P76",13,null,5]
[null,"P78",9,null,13]
[null,"P80",13,null,11]
[null,{"$f":"U21","v":"P82"},{"$f":"S21","v":12},null,13]
[null,"P84",2,null,13]
[null,"P86",13,null,4]
[null,"P88",13,null,10]
[null,"P90",7,null,13]
[null,"P92",5,null,13]
[null,"P94",13,null,9]
[null,"P96",11,null,13]

{"sheet":"Partie 2","index":2,"n_rows":223,"n_cols":23,"rows_kept":223,"cut":false,"hidden":false,"merged":[[19,0,19,3],[19,7,19,10],[19,12,19,15],[19,19,19,22],[0,0,0,22],[10,0,10,3],[10,7,10,10],[10,12,10,15],[10,19,10,22],[1,0,1,3],[1,7,1,10],[1,12,1,15],[1,19,1,22]]}
["DOUBLETTES "]
["Equipes ",null,null,null,"PTS     EQ 1",null,"PTS     EQ 2","Equipes ",null,null,null,null,"Equipes ",null,null,null,"PTS     EQ 1",null,"PTS     EQ 2","Equipes "]
[{"$f":"Liste!AQ7","v":1},{"$f":"IFERROR(VLOOKUP($A3,Liste!$S$7:$V$103,COLUMN(),0),\"\")","v":"T1"},{"$f":"IFERROR(VLOOKUP($A3,Liste!$S$7:$V$103,COLUMN(),0),\"\")","v":"P1"},{"$f":"IFERROR(VLOOKUP($A3,Liste!$S$7:$V$103,COLUMN(),0),\"\")","v":""},13,null,6,{"$f":"IFERROR(VLOOKUP($K3,Liste!$S$7:$V$103,COLUMN()-6,0),\"\")","v":"T3"},{"$f":"IFERROR(VLOOKUP($K3,Liste!$S$7:$V$103,COLUMN()-6,0),\"\")","v":"P3"},{"$f":"IFERROR(VLOOKUP($K3,Liste!$S$7:$V$103,COLUMN()-6,0),\"\")","v":""},{"$f":"Liste!AS7","v":3},null,{"$f":"Liste!AQ31","v":4},{"$f":"IFERROR(VLOOKUP($M3,Liste!$S$7:$V$103,COLUMN()-12,0),\"\")","v":"T4"},{"$f":"IFERROR(VLOOKUP($M3,Liste!$S$7:$V$103,COLUMN()-12,0),\"\")","v":"P4"},{"$f":"IFERROR(VLOOKUP($M3,Liste!$S$7:$V$103,COLUMN()-12,0),\"\")","v":""},13,null,12,{"$f":"IFERROR(VLOOKUP($W3,Liste!$S$7:$V$103,COLUMN()-18,0),\"\")","v":"T2"},{"$f":"IFERROR(VLOOKUP($W3,Liste!$S$7:$V$103,COLUMN()-18,0),\"\")","v":"P2"},{"$f":"IFERROR(VLOOKUP($W3,Liste!$S$7:$V$103,COLUMN()-18,0),\"\")","v":""},{"$f":"Liste!AS31","v":2}]
[{"$f":"Liste!AQ8","v":5},{"$f":"IFERROR(VLOOKUP($A4,Liste!$S$7:$V$103,COLUMN(),0),\"\")","v":"T5"},{"$f":"IFERROR(VLOOKUP($A4,Liste!$S$7:$V$103,COLUMN(),0),\"\")","v":"P5"},{"$f":"IFERROR(VLOOKUP($A4,Liste!$S$7:$V$103,COLUMN(),0),\"\")","v":""},13,null,6,{"$f":"IFERROR(VLOOKUP($K4,Liste!$S$7:$V$103,COLUMN()-6,0),\"\")","v":"T7"},{"$f":"IFERROR(VLOOKUP($K4,Liste!$S$7:$V$103,COLUMN()-6,0),\"\")","v":"P7"},{"$f":"IFERROR(VLOOKUP($K4,Liste!$S$7:$V$103,COLUMN()-6,0),\"\")","v":""},{"$f":"Liste!AS8","v":7},null,{"$f":"Liste!AQ32","v":8},{"$f":"IFERROR(VLOOKUP($M4,Liste!$S$7:$V$103,COLUMN()-12,0),\"\")","v":"T8"},{"$f":"IFERROR(VLOOKUP($M4,Liste!$S$7:$V$103,COLUMN()-12,0),\"\")","v":"P8"},{"$f":"IFERROR(VLOOKUP($M4,Liste!$S$7:$V$103,COLUMN()-12,0),\"\")","v":""},13,null,2,{"$f":"IFERROR(VLOOKUP($W4,Liste!$S$7:$V$103,COLUMN()-18,0),\"\")","v":"T6"},{"$f":"IFERROR(VLOOKUP($W4,Liste!$S$7:$V$103,COLUMN()-18,0),\"\")","v":"P6"},{"$f":"IFERROR(VLOOKUP($W4,Liste!$S$7:$V$103,COLUMN()-18,0),\"\")","v":""},{"$f":"Liste!AS32","v":6}]
[{"$f":"Liste!AQ9","v":9},{"$f":"IFERROR(VLOOKUP($A5,Liste!$S$7:$V$103,COLUMN(),0),\"\")","v":"T9"},{"$f":"IFERROR(VLOOKUP($A5,Liste!$S$7:$V$103,COLUMN(),0),\"\")","v":"P9"},{"$f":"IFERROR(VLOOKUP($A5,Liste!$S$7:$V$103,COLUMN(),0),\"\")","v":""},13,null,6,{"$f":"IFERROR(VLOOKUP($K5,Liste!$S$7:$V$103,COLUMN()-6,0),\"\")","v":"T11"},{"$f":"IFERROR(VLOOKUP($K5,Liste!$S$7:$V$103,COLUMN()-6,0),\"\")","v":"P11"},{"$f":"IFERROR(VLOOKUP($K5,Liste!$S$7:$V$103,COLUMN()-6,0),\"\")","v":""},{"$f":"Liste!AS9","v":11},null,{"$f":"Liste!AQ33","v":12},{"$f":"IFERROR(VLOOKUP($M5,Liste!$S$7:$V$103,COLUMN()-12,0),\"\")","v":"T12"},{"$f":"IFERROR(VLOOKUP($M5,Liste!$S$7:$V$103,COLUMN()-12,0),\"\")","v":"P12"},{"$f":"IFERROR(VLOOKUP($M5,Liste!$S$7:$V$103,COLUMN()-12,0),\"\")","v":""},4,null,13,{"$f":"IFERROR(VLOOKUP($W5,Liste!$S$7:$V$103,COLUMN()-18,0),\"\")","v":"T10"},{"$f":"IFERROR(VLOOKUP($W5,Liste!$S$7:$V$103,COLUMN()-18,0),\"\")","v":"P10"},{"$f":"IFERROR(VLOOKUP($W5,Liste!$S$7:$V$103,COLUMN()-18,0),\"\")","v":""},{"$f":"Liste!AS33","v":10}]
[{"$f":"Liste!AQ10","v":13},{"$f":"IFERROR(VLOOKUP($A6,Liste!$S$7:$V$103,COLUMN(),0),\"\")","v":"T13"},{"$f":"IFERROR(VLOOKUP($A6,Liste!$S$7:$V$103,COLUMN(),0),\"\")","v":"P13"},{"$f":"IFERROR(VLOOKUP($A6,Liste!$S$7:$V$103,COLUMN(),0),\"\")","v":""},13,null,6,{"$f":"IFERROR(VLOOKUP($K6,Liste!$S$7:$V$103,COLUMN()-6,0),\"\")","v":"T15"},{"$f":"IFERROR(VLOOKUP($K6,Liste!$S$7:$V$103,COLUMN()-6,0),\"\")","v":"P15"},{"$f":"IFERROR(VLOOKUP($K6,Liste!$S$7:$V$103,COLUMN()-6,0),\"\")","v":""},{"$f":"Liste!AS10","v":15},null,{"$f":"Liste!AQ34","v":16},{"$f":"IFERROR(VLOOKUP($M6,Liste!$S$7:$V$103,COLUMN()-12,0),\"\")","v":"T16"},{"$f":"IFERROR(VLOOKUP($M6,Liste!$S$7:$V$103,COLUMN()-12,0),\"\")","v":"P16"},{"$f":"IFERROR(VLOOKUP($M6,Liste!$S$7:$V$103,COLUMN()-12,0),\"\")","v":""},10,null,13,{"$f":"IFERROR(VLOOKUP($W6,Liste!$S$7:$V$103,COLUMN()-18,0),\"\")","v":"T14"},{"$f":"IFERROR(VLOOKUP($W6,Liste!$S$7:$V$103,COLUMN()-18,0),\"\")","v":"P14"},{"$f":"IFERROR(VLOOKUP($W6,Liste!$S$7:$V$103,COLUMN()-18,0),\"\")","v":""},{"$f":"Liste!AS34","v":14}]
[{"$f":"Liste!AQ11","v":17},{"$f":"IFERROR(VLOOKUP($A7,Liste!$S$7:$V$103,COLUMN(),0),\"\")","v":"T17"},{"$f":"IFERROR(VLOOKUP($A7,Liste!$S$7:$V$103,COLUMN(),0),\"\")","v":"P17"},{"$f":"IFERROR(VLOOKUP($A7,Liste!$S$7:$V$103,COLUMN(),0),\"\")","v":""},13,null,6,{"$f":"IFERROR(VLOOKUP($K7,Liste!$S$7:$V$103,COLUMN()-6,0),\"\")","v":"T19"},{"$f":"IFERROR(VLOOKUP($K7,Liste!$S$7:$V$103,COLUMN()-6,0),\"\")","v":"P19"},{"$f":"IFERROR(VLOOKUP($K7,Liste!$S$7:$V$103,COLUMN()-6,0),\"\")","v":""},{"$f":"Liste!AS11","v":19},null,{"$f":"Liste!AQ35","v":20},{"$f":"IFERROR(VLOOKUP($M7,Liste!$S$7:$V$103,COLUMN()-12,0),\"\")","v":"T20"},{"$f":"IFERROR(VLOOKUP($M7,Liste!$S$7:$V$103,COLUMN()-12,0),\"\")","v":"P20"},{"$f":"IFERROR(VLOOKUP($M7,Liste!$S$7:$V$103,COLUMN()-12,0),\"\")","v":""},13,null,7,{"$f":"IFERROR(VLOOKUP($W7,Liste!$S$7:$V$103,COLUMN()-18,0),\"\")","v":"T18"},{"$f":"IFERROR(VLOOKUP($W7,Liste!$S$7:$V$103,COLUMN()-18,0),\"\")","v":"P18"},{"$f":"IFERROR(VLOOKUP($W7,Liste!$S$7:$V$103,COLUMN()-18,0),\"\")","v":""},{"$f":"Liste!AS35","v":18}]
[{"$f":"Liste!AQ12","v":21},{"$f":"IFERROR(VLOOKUP($A8,Liste!$S$7:$V$103,COLUMN(),0),\"\")","v":"T21"},{"$f":"IFERROR(VLOOKUP($A8,Liste!$S$7:$V$103,COLUMN(),0),\"\")","v":"P21"},{"$f":"IFERROR(VLOOKUP($A8,Liste!$S$7:$V$103,COLUMN(),0),\"\")","v":""},13,null,6,{"$f":"IFERROR(VLOOKUP($K8,Liste!$S$7:$V$103,COLUMN()-6,0),\"\")","v":"T23"},{"$f":"IFERROR(VLOOKUP($K8,Liste!$S$7:$V$103,COLUMN()-6,0),\"\")","v":"P23"},{"$f":"IFERROR(VLOOKUP($K8,Liste!$S$7:$V$103,COLUMN()-6,0),\"\")","v":""},{"$f":"Liste!AS12","v":23},null,{"$f":"Liste!AQ36","v":24},{"$f":"IFERROR(VLOOKUP($M8,Liste!$S$7:$V$103,COLUMN()-12,0),\"\")","v":"T24"},{"$f":"IFERROR(VLOOKUP($M8,Liste!$S$7:$V$103,COLUMN()-12,0),\"\")","v":"P24"},{"$f":"IFERROR(VLOOKUP($M8,Liste!$S$7:$V$103,COLUMN()-12,0),\"\")","v":""},13,null,5,{"$f":"IFERROR(VLOOKUP($W8,Liste!$S$7:$V$103,COLUMN()-18,0),\"\")","v":"T22"},{"$f":"IFERROR(VLOOKUP($W8,Liste!$S$7:$V$103,COLUMN()-18,0),\"\")","v":"P22"},{"$f":"IFERROR(VLOOKUP($W8,Liste!$S$7:$V$103,COLUMN()-18,0),\"\")","v":""},{"$f":"Liste!AS36","v":22}]
[{"$f":"Liste!AQ13","v":25},{"$f":"IFERROR(VLOOKUP($A9,Liste!$S$7:$V$103,COLUMN(),0),\"\")","v":"T25"},{"$f":"IFERROR(VLOOKUP($A9,Liste!$S$7:$V$103,COLUMN(),0),\"\")","v":"P25"},{"$f":"IFERROR(VLOOKUP($A9,Liste!$S$7:$V$103,COLUMN(),0),\"\")","v":""},13,null,6,{"$f":"IFERROR(VLOOKUP($K9,Liste!$S$7:$V$103,COLUMN()-6,0),\"\")","v":"T27"},{"$f":"IFERROR(VLOOKUP($K9,Liste!$S$7:$V$103,COLUMN()-6,0),\"\")","v":"P27"},{"$f":"IFERROR(VLOOKUP($K9,Liste!$S$7:$V$103,COLUMN()-6,0),\"\")","v":""},{"$f":"Liste!AS13","v":27},null,{"$f":"Liste!AQ37","v":28},{"$f":"IFERROR(VLOOKUP($M9,Liste!$S$7:$V$103,COLUMN()-12,0),\"\")","v":"T28"},{"$f":"IFERROR(VLOOKUP($M9,Liste!$S$7:$V$103,COLUMN()-12,0),\"\")","v":"P28"},{"$f":"IFERROR(VLOOKUP($M9,Liste!$S$7:$V$103,COLUMN()-12,0),\"\")","v":""},9,null,13,{"$f":"IFERROR(VLOOKUP($W9,Liste!$S$7:$V$103,COLUMN()-18,0),\"\")","v":"T26"},{"$f":"IFERROR(VLOOKUP($W9,Liste!$S$7:$V$103,COLUMN()-18,0),\"\")","v":"P26"},{"$f":"IFERROR(VLOOKUP($W9,Liste!$S$7:$V$103,COLUMN()-18,0),\"\")","v":""},{"$f":"Liste!AS37","v":26}]
[{"$f":"Liste!AQ14","v":29},{"$f":"IFERROR(VLOOKUP($A10,Liste!$S$7:$V$103,COLUMN(),0),\"\")","v":"T29"},{"$f":"IFERROR(VLOOKUP($A10,Liste!$S$7:$V$103,COLUMN(),0),\"\")","v":"P29"},{"$f":"IFERROR(VLOOKUP($A10,Liste!$S$7:$V$103,COLUMN(),0),\"\")","v":""},13,null,6,{"$f":"IFERROR(VLOOKUP($K10,Liste!$S$7:$V$103,COLUMN()-6,0),\"\")","v":"T31"},{"$f":"IFERROR(VLOOKUP($K10,Liste!$S$7:$V$103,COLUMN()-6,0),\"\")","v":"P31"},{"$f":"IFERROR(VLOOKUP($K10,Liste!$S$7:$V$103,COLUMN()-6,0),\"\")","v":""},{"$f":"Liste!AS14","v":31},null,{"$f":"Liste!AQ38","v":32},{"$f":"IFERROR(VLOOKUP($M10,Liste!$S$7:$V$103,COLUMN()-12,0),\"\")","v":"T32"},{"$f":"IFERROR(VLOOKUP($M10,Liste!$S$7:$V$103,COLUMN()-12,0),\"\")","v":"P32"},{"$f":"IFERROR(VLOOKUP($M10,Liste!$S$7:$V$103,COLUMN()-12,0),\"\")","v":""},13,null,11,{"$f":"IFERROR(VLOOKUP($W10,Liste!$S$7:$V$103,COLUMN()-18,0),\"\")","v":"T30"},{"$f":"IFERROR(VLOOKUP($W10,Liste!$S$7:$V$103,COLUMN()-18,0),\"\")","v":"P30"},{"$f":"IFERROR(VLOOKUP($W10,Liste!$S$7:$V$103,COLUMN()-18,0),\"\")","v":""},{"$f":"Liste!AS38","v":30}]
["Equipes ",null,null,null,"PTS     EQ 1",null,"PTS     EQ 2","Equipes ",null,null,null,null,"Equipes ",null,null,null,"PTS     EQ 1",null,"PTS     EQ 2","Equipes "]
[{"$f":"Liste!AQ15","v":34},{"$f":"IFERROR(VLOOKUP($A12,Liste!$S$7:$V$103,COLUMN(),0),\"\")","v":"T34"},{"$f":"IFERROR(VLOOKUP($A12,Liste!$S$7:$V$103,COLUMN(),0),\"\")","v":"P34"},{"$f":"IFERROR(VLOOKUP($A12,Liste!$S$7:$V$103,COLUMN(),0),\"\")","v":""},13,null,6,{"$f":"IFERROR(VLOOKUP($K12,Liste!$S$7:$V$103,COLUMN()-6,0),\"\")","v":"T36"},{"$f":"IFERROR(VLOOKUP($K12,Liste!$S$7:$V$103,COLUMN()-6,0),\"\")","v":"P36"},{"$f":"IFERROR(VLOOKUP($K12,Liste!$S$7:$V$103,COLUMN()-6,0),\"\")","v":""},{"$f":"Liste!AS15","v":36},null,{"$f":"Liste!AQ39","v":35},{"$f":"IFERROR(VLOOKUP($M12,Liste!$S$7:$V$103,COLUMN()-12,0),\"\")","v":"T35"},{"$f":"IFERROR(VLOOKUP($M12,Liste!$S$7:$V$103,COLUMN()-12,0),\"\")","v":"P35"},{"$f":"IFERROR(VLOOKUP($M12,Liste!$S$7:$V$103,COLUMN()-12,0),\"\")","v":""},12,null,13,{"$f":"IFERROR(VLOOKUP($W12,Liste!$S$7:$V$103,COLUMN()-18,0),\"\")","v":"T33"},{"$f":"IFERROR(VLOOKUP($W12,Liste!$S$7:$V$103,COLUMN()-18,0),\"\")","v":"P33"},{"$f":"IFERROR(VLOOKUP($W12,Liste!$S$7:$V$103,COLUMN()-18,0),\"\")","v":""},{"$f":"Liste!AS39","v":33}]
[{"$f":"Liste!AQ16","v":37},{"$f":"IFERROR(VLOOKUP($A13,Liste!$S$7:$V$103,COLUMN(),0),\"\")","v":"T37"},{"$f":"IFERROR(VLOOKUP($A13,Liste!$S$7:$V$103,COLUMN(),0),\"\")","v":"P37"},{"$f":"IFERROR(VLOOKUP($A13,Liste!$S$7:$V$103,COLUMN(),0),\"\")","v":""},13,null,6,{"$f":"IFERROR(VLOOKUP($K13,Liste!$S$7:$V$103,COLUMN()-6,0),\"\")","v":"T39"},{"$f":"IFERROR(VLOOKUP($K13,Liste!$S$7:$V$103,COLUMN()-6,0),\"\")","v":"P39"},{"$f":"IFERROR(VLOOKUP($K13,Liste!$S$7:$V$103,COLUMN()-6,0),\"\")","v":""},{"$f":"Liste!AS16","v":39},null,{"$f":"Liste!AQ40","v":40},{"$f":"IFERROR(VLOOKUP($M13,Liste!$S$7:$V$103,COLUMN()-12,0),\"\")","v":"T40"},{"$f":"IFERROR(VLOOKUP($M13,Liste!$S$7:$V$103,COLUMN()-12,0),\"\")","v":"P40"},{"$f":"IFERROR(VLOOKUP($M13,Liste!$S$7:$V$103,COLUMN()-12,0),\"\")","v":""},2,null,13,{"$f":"IFERROR(VLOOKUP($W13,Liste!$S$7:$V$103,COLUMN()-18,0),\"\")","v":"T38"},{"$f":"IFERROR(VLOOKUP($W13,Liste!$S$7:$V$103,COLUMN()-18,0),\"\")","v":"P38"},{"$f":"IFERROR(VLOOKUP($W13,Liste!$S$7:$V$103,COLUMN()-18,0),\"\")","v":""},{"$f":"Liste!AS40","v":38}]
[{"$f":"Liste!AQ17","v":42},{"$f":"IFERROR(VLOOKUP($A14,Liste!$S$7:$V$103,COLUMN(),0),\"\")","v":"T42"},{"$f":"IFERROR(VLOOKUP($A14,Liste!$S$7:$V$103,COLUMN(),0),\"\")","v":"P42"},{"$f":"IFERROR(VLOOKUP($A14,Liste!$S$7:$V$103,COLUMN(),0),\"\")","v":""},13,null,6,{"$f":"IFERROR(VLOOKUP($K14,Liste!$S$7:$V$103,COLUMN()-6,0),\"\")","v":"T44"},{"$f":"IFERROR(VLOOKUP($K14,Liste!$S$7:$V$103,COLUMN()-6,0),\"\")","v":"P44"},{"$f":"IFERROR(VLOOKUP($K14,Liste!$S$7:$V$103,COLUMN()-6,0),\"\")","v":""},{"$f":"Liste!AS17","v":44},null,{"$f":"Liste!AQ41","v":43},{"$f":"IFERROR(VLOOKUP($M14,Liste!$S$7:$V$103,COLUMN()-12,0),\"\")","v":"T43"},{"$f":"IFERROR(VLOOKUP($M14,Liste!$S$7:$V$103,COLUMN()-12,0),\"\")","v":"P43"},{"$f":"IFERROR(VLOOKUP($M14,Liste!$S$7:$V$103,COLUMN()-12,0),\"\")","v":""},13,null,4,{"$f":"IFERROR(VLOOKUP($W14,Liste!$S$7:$V$103,COLUMN()-18,0),\"\")","v":"T41"},{"$f":"IFERROR(VLOOKUP($W14,Liste!$S$7:$V$103,COLUMN()-18,0),\"\")","v":"P41"},{"$f":"IFERROR(VLOOKUP($W14,Liste!$S$7:$V$103,COLUMN()-18,0),\"\")","v":""},{"$f":"Liste!AS41","v":41}]
[{"$f":"Liste!AQ18","v":45},{"$f":"IFERROR(VLOOKUP($A15,Liste!$S$7:$V$103,COLUMN(),0),\"\")","v":"T45"},{"$f":"IFERROR(VLOOKUP($A15,Liste!$S$7:$V$103,COLUMN(),0),\"\")","v":"P45"},{"$f":"IFERROR(VLOOKUP($A15,Liste!$S$7:$V$103,COLUMN(),0),\"\")","v":""},13,null,6,{"$f":"IFERROR(VLOOKUP($K15,Liste!$S$7:$V$103,COLUMN()-6,0),\"\")","v":"T48"},{"$f":"IFERROR(VLOOKUP($K15,Liste!$S$7:$V$103,COLUMN()-6,0),\"\")","v":"P48"},{"$f":"IFERROR(VLOOKUP($K15,Liste!$S$7:$V$103,COLUMN()-6,0),\"\")","v":""},{"$f":"Liste!AS18","v":48},null,{"$f":"Liste!AQ42","v":47},{"$f":"IFERROR(VLOOKUP($M15,Liste!$S$7:$V$103,COLUMN()-12,0),\"\")","v":"T47"},{"$f":"IFERROR(VLOOKUP($M15,Liste!$S$7:$V$103,COLUMN()-12,0),\"\")","v":"P47"},{"$f":"IFERROR(VLOOKUP($M15,Liste!$S$7:$V$103,COLUMN()-12,0),\"\")","v":""},13,null,10,{"$f":"IFERROR(VLOOKUP($W15,Liste!$S$7:$V$103,COLUMN()-18,0),\"\")","v":"T46"},{"$f":"IFERROR(VLOOKUP($W15,Liste!$S$7:$V$103,COLUMN()-18,0),\"\")","v":"P46"},{"$f":"IFERROR(VLOOKUP($W15,Liste!$S$7:$V$103,COLUMN()-18,0),\"\")","v":""},{"$f":"Liste!AS42","v":46}]
[{"$f":"Liste!AQ19","v":49},{"$f":"IFERROR(VLOOKUP($A16,Liste!$S$7:$V$103,COLUMN(),0),\"\")","v":"T49"},{"$f":"IFERROR(VLOOKUP($A16,Liste!$S$7:$V$103,COLUMN(),0),\"\")","v":"P49"},{"$f":"IFERROR(VLOOKUP($A16,Liste!$S$7:$V$103,COLUMN(),0),\"\")","v":""},13,null,6,{"$f":"IFERROR(VLOOKUP($K16,Liste!$S$7:$V$103,COLUMN()-6,0),\"\")","v":"T51"},{"$f":"IFERROR(VLOOKUP($K16,Liste!$S$7:$V$103,COLUMN()-6,0),\"\")","v":"P51"},{"$f":"IFERROR(VLOOKUP($K16,Liste!$S$7:$V$103,COLUMN()-6,0),\"\")","v":""},{"$f":"Liste!AS19","v":51},null,{"$f":"Liste!AQ43","v":52},{"$f":"IFERROR(VLOOKUP($M16,Liste!$S$7:$V$103,COLUMN()-12,0),\"\")","v":"T52"},{"$f":"IFERROR(VLOOKUP($M16,Liste!$S$7:$V$103,COLUMN()-12,0),\"\")","v":"P52"},{"$f":"IFERROR(VLOOKUP($M16,Liste!$S$7:$V$103,COLUMN()-12,0),\"\")","v":""},7,null,13,{"$f":"IFERROR(VLOOKUP($W16,Liste!$S$7:$V$103,COLUMN()-18,0),\"\")","v":"T50"},{"$f":"IFERROR(VLOOKUP($W16,Liste!$S$7:$V$103,COLUMN()-18,0),\"\")","v":"P50"},{"$f":"IFERROR(VLOOKUP($W16,Liste!$S$7:$V$103,COLUMN()-18,0),\"\")","v":""},{"$f":"Liste!AS43","v":50}]
[{"$f":"Liste!AQ20","v":54},{"$f":"IFERROR(VLOOKUP($A17,Liste!$S$7:$V$103,COLUMN(),0),\"\")","v":"T54"},{"$f":"IFERROR(VLOOKUP($A17,Liste!$S$7:$V$103,COLUMN(),0),\"\")","v":"P54"},{"$f":"IFERROR(VLOOKUP($A17,Liste!$S$7:$V$103,COLUMN(),0),\"\")","v":""},13,null,6,{"$f":"IFERROR(VLOOKUP($K17,Liste!$S$7:$V$103,COLUMN()-6,0),\"\")","v":"T56"},{"$f":"IFERROR(VLOOKUP($K17,Liste!$S$7:$V$103,COLUMN()-6,0),\"\")","v":"P56"},{"$f":"IFERROR(VLOOKUP($K17,Liste!$S$7:$V$103,COLUMN()-6,0),\"\")","v":""},{"$f":"Liste!AS20","v":56},null,{"$f":"Liste!AQ44","v":55},{"$f":"IFERROR(VLOOKUP($M17,Liste!$S$7:$V$103,COLUMN()-12,0),\"\")","v":"T55"},{"$f":"IFERROR(VLOOKUP($M17,Liste!$S$7:$V$103,COLUMN()-12,0),\"\")","v":"P55"},{"$f":"IFERROR(VLOOKUP($M17,Liste!$S$7:$V$103,COLUMN()-12,0),\"\")","v":""},5,null,13,{"$f":"IFERROR(VLOOKUP($W17,Liste!$S$7:$V$103,COLUMN()-18,0),\"\")","v":"T53"},{"$f":"IFERROR(VLOOKUP($W17,Liste!$S$7:$V$103,COLUMN()-18,0),\"\")","v":"P53"},{"$f":"IFERROR(VLOOKUP($W17,Liste!$S$7:$V$103,COLUMN()-18,0),\"\")","v":""},{"$f":"Liste!AS44","v":53}]
[{"$f":"Liste!AQ21","v":57},{"$f":"IFERROR(VLOOKUP($A18,Liste!$S$7:$V$103,COLUMN(),0),\"\")","v":"T57"},{"$f":"IFERROR(VLOOKUP($A18,Liste!$S$7:$V$103,COLUMN(),0),\"\")","v":"P57"},{"$f":"IFERROR(VLOOKUP($A18,Liste!$S$7:$V$103,COLUMN(),0),\"\")","v":""},13,null,6,{"$f":"IFERROR(VLOOKUP($K18,Liste!$S$7:$V$103,COLUMN()-6,0),\"\")","v":"T59"},{"$f":"IFERROR(VLOOKUP($K18,Liste!$S$7:$V$103,COLUMN()-6,0),\"\")","v":"P59"},{"$f":"IFERROR(VLOOKUP($K18,Liste!$S$7:$V$103,COLUMN()-6,0),\"\")","v":""},{"$f":"Liste!AS21","v":59},null,{"$f":"Liste!AQ45","v":60},{"$f":"IFERROR(VLOOKUP($M18,Liste!$S$7:$V$103,COLUMN()-12,0),\"\")","v":"T60"},{"$f":"IFERROR(VLOOKUP($M18,Liste!$S$7:$V$103,COLUMN()-12,0),\"\")","v":"P60"},{"$f":"IFERROR(VLOOKUP($M18,Liste!$S$7:$V$103,COLUMN()-12,0),\"\")","v":""},13,null,9,{"$f":"IFERROR(VLOOKUP($W18,Liste!$S$7:$V$103,COLUMN()-18,0),\"\")","v":"T58"},{"$f":"IFERROR(VLOOKUP($W18,Liste!$S$7:$V$103,COLUMN()-18,0),\"\")","v":"P58"},{"$f":"IFERROR(VLOOKUP($W18,Liste!$S$7:$V$103,COLUMN()-18,0),\"\")","v":""},{"$f":"Liste!AS45","v":58}]
[{"$f":"Liste!AQ22","v":62},{"$f":"IFERROR(VLOOKUP($A19,Liste!$S$7:$V$103,COLUMN(),0),\"\")","v":"T62"},{"$f":"IFERROR(VLOOKUP($A19,Liste!$S$7:$V$103,COLUMN(),0),\"\")","v":"P62"},{"$f":"IFERROR(VLOOKUP($A19,Liste!$S$7:$V$103,COLUMN(),0),\"\")","v":""},13,null,6,{"$f":"IFERROR(VLOOKUP($K19,Liste!$S$7:$V$103,COLUMN()-6,0),\"\")","v":"T63"},{"$f":"IFERROR(VLOOKUP($K19,Liste!$S$7:$V$103,COLUMN()-6,0),\"\")","v":"P63"},{"$f":"IFERROR(VLOOKUP($K19,Liste!$S$7:$V$103,COLUMN()-6,0),\"\")","v":""},{"$f":"Liste!AS22","v":63},null,{"$f":"Liste!AQ46","v":64},{"$f":"IFERROR(VLOOKUP($M19,Liste!$S$7:$V$103,COLUMN()-12,0),\"\")","v":"T64"},{"$f":"IFERROR(VLOOKUP($M19,Liste!$S$7:$V$103,COLUMN()-12,0),\"\")","v":"P64"},{"$f":"IFERROR(VLOOKUP($M19,Liste!$S$7:$V$103,COLUMN()-12,0),\"\")","v":""},11,null,13,{"$f":"IFERROR(VLOOKUP($W19,Liste!$S$7:$V$103,COLUMN()-18,0),\"\")","v":"T61"},{"$f":"IFERROR(VLOOKUP($W19,Liste!$S$7:$V$103,COLUMN()-18,0),\"\")","v":"P61"},{"$f":"IFERROR(VLOOKUP($W19,Liste!$S$7:$V$103,COLUMN()-18,0),\"\")","v":""},{"$f":"Liste!AS46","v":61}]
["Equipes ",null,null,null,"PTS     EQ 1",null,"PTS     EQ 2","Equipes ",null,null,null,null,"Equipes ",null,null,null,"PTS     EQ 1",null,"PTS     EQ 2","Equipes "]
[{"$f":"Liste!AQ23","v":66},{"$f":"IFERROR(VLOOKUP($A21,Liste!$S$7:$V$103,COLUMN(),0),\"\")","v":"T66"},{"$f":"IFERROR(VLOOKUP($A21,Liste!$S$7:$V$103,COLUMN(),0),\"\")","v":"P66"},{"$f":"IFERROR(VLOOKUP($A21,Liste!$S$7:$V$103,COLUMN(),0),\"\")","v":0},12,null,13,{"$f":"IFERROR(VLOOKUP($K21,Liste!$S$7:$V$103,COLUMN()-6,0),\"\")","v":"T68"},{"$f":"IFERROR(VLOOKUP($K21,Liste!$S$7:$V$103,COLUMN()-6,0),\"\")","v":"P68"},{"$f":"IFERROR(VLOOKUP($K21,Liste!$S$7:$V$103,COLUMN()-6,0),\"\")","v":0},{"$f":"Liste!AS23","v":68},null,{"$f":"Liste!AQ47","v":67},{"$f":"IFERROR(VLOOKUP($M21,Liste!$S$7:$V$103,COLUMN()-12,0),\"\")","v":"T67"},{"$f":"IFERROR(VLOOKUP($M21,Liste!$S$7:$V$103,COLUMN()-12,0),\"\")","v":"P67"},{"$f":"IFERROR(VLOOKUP($M21,Liste!$S$7:$V$103,COLUMN()-12,0),\"\")","v":0},13,null,12,{"$f":"IFERROR(VLOOKUP($W21,Liste!$S$7:$V$103,COLUMN()-18,0),\"\")","v":"T65"},{"$f":"IFERROR(VLOOKUP($W21,Liste!$S$7:$V$103,COLUMN()-18,0),\"\")","v":"P65"},{"$f":"IFERROR(VLOOKUP($W21,Liste!$S$7:$V$103,COLUMN()-18,0),\"\")","v":0},{"$f":"Liste!AS47","v":65}]
[{"$f":"Liste!AQ24","v":69},{"$f":"IFERROR(VLOOKUP($A22,Liste!$S$7:$V$103,COLUMN(),0),\"\")","v":"T69"},{"$f":"IFERROR(VLOOKUP($A22,Liste!$S$7:$V$103,COLUMN(),0),\"\")","v":"P69"},{"$f":"IFERROR(VLOOKUP($A22,Liste!$S$7:$V$103,COLUMN(),0),\"\")","v":0},2,null,13,{"$f":"IFERROR(VLOOKUP($K22,Liste!$S$7:$V$103,COLUMN()-6,0),\"\")","v":"T71"},{"$f":"IFERROR(VLOOKUP($K22,Liste!$S$7:$V$103,COLUMN()-6,0),\"\")","v":"P71"},{"$f":"IFERROR(VLOOKUP($K22,Liste!$S$7:$V$103,COLUMN()-6,0),\"\")","v":0},{"$f":"Liste!AS24","v":71},null,{"$f":"Liste!AQ48","v":72},{"$f":"IFERROR(VLOOKUP($M22,Liste!$S$7:$V$103,COLUMN()-12,0),\"\")","v":"T72"},{"$f":"IFERROR(VLOOKUP($M22,Liste!$S$7:$V$103,COLUMN()-12,0),\"\")","v":"P72"},{"$f":"IFERROR(VLOOKUP($M22,Liste!$S$7:$V$103,COLUMN()-12,0),\"\")","v":0},13,null,2,{"$f":"IFERROR(VLOOKUP($W22,Liste!$S$7:$V$103,COLUMN()-18,0),\"\")","v":"T70"},{"$f":"IFERROR(VLOOKUP($W22,Liste!$S$7:$V$103,COLUMN()-18,0),\"\")","v":"P70"},{"$f":"IFERROR(VLOOKUP($W22,Liste!$S$7:$V$103,COLUMN()-18,0),\"\")","v":0},{"$f":"Liste!AS48","v":70}]
[{"$f":"Liste!AQ25","v":74},{"$f":"IFERROR(VLOOKUP($A23,Liste!$S$7:$V$103,COLUMN(),0),\"\")","v":"T74"},{"$f":"IFERROR(VLOOKUP($A23,Liste!$S$7:$V$103,COLUMN(),0),\"\")","v":"P74"},{"$f":"IFERROR(VLOOKUP($A23,Liste!$S$7:$V$103,COLUMN(),0),\"\")","v":0},13,null,4,{"$f":"IFERROR(VLOOKUP($K23,Liste!$S$7:$V$103,COLUMN()-6,0),\"\")","v":"T76"},{"$f":"IFERROR(VLOOKUP($K23,Liste!$S$7:$V$103,COLUMN()-6,0),\"\")","v":"P76"},{"$f":"IFERROR(VLOOKUP($K23,Liste!$S$7:$V$103,COLUMN()-6,0),\"\")","v":0},{"$f":"Liste!AS25","v":76},null,{"$f":"Liste!AQ49","v":75},{"$f":"IFERROR(VLOOKUP($M23,Liste!$S$7:$V$103,COLUMN()-12,0),\"\")","v":"T75"},{"$f":"IFERROR(VLOOKUP($M23,Liste!$S$7:$V$103,COLUMN()-12,0),\"\")","v":"P75"},{"$f":"IFERROR(VLOOKUP($M23,Liste!$S$7:$V$103,COLUMN()-12,0),\"\")","v":0},4,null,13,{"$f":"IFERROR(VLOOKUP($W23,Liste!$S$7:$V$103,COLUMN()-18,0),\"\")","v":"T73"},{"$f":"IFERROR(VLOOKUP($W23,Liste!$S$7:$V$103,COLUMN()-18,0),\"\")","v":"P73"},{"$f":"IFERROR(VLOOKUP($W23,Liste!$S$7:$V$103,COLUMN()-18,0),\"\")","v":0},{"$f":"Liste!AS49","v":73}]
[{"$f":"Liste!AQ26","v":77},{"$f":"IFERROR(VLOOKUP($A24,Liste!$S$7:$V$103,COLUMN(),0),\"\")","v":"T77"},{"$f":"IFERROR(VLOOKUP($A24,Liste!$S$7:$V$103,COLUMN(),0),\"\")","v":"P77"},{"$f":"IFERROR(VLOOKUP($A24,Liste!$S$7:$V$103,COLUMN(),0),\"\")","v":0},13,null,10,{"$f":"IFERROR(VLOOKUP($K24,Liste!$S$7:$V$103,COLUMN()-6,0),\"\")","v":"T80"},{"$f":"IFERROR(VLOOKUP($K24,Liste!$S$7:$V$103,COLUMN()-6,0),\"\")","v":"P80"},{"$f":"IFERROR(VLOOKUP($K24,Liste!$S$7:$V$103,COLUMN()-6,0),\"\")","v":0},{"$f":"Liste!AS26","v":80},null,{"$f":"Liste!AQ50","v":79},{"$f":"IFERROR(VLOOKUP($M24,Liste!$S$7:$V$103,COLUMN()-12,0),\"\")","v":"T79"},{"$f":"IFERROR(VLOOKUP($M24,Liste!$S$7:$V$103,COLUMN()-12,0),\"\")","v":"P79"},{"$f":"IFERROR(VLOOKUP($M24,Liste!$S$7:$V$103,COLUMN()-12,0),\"\")","v":0},10,null,13,{"$f":"IFERROR(VLOOKUP($W24,Liste!$S$7:$V$103,COLUMN()-18,0),\"\")","v":"T78"},{"$f":"IFERROR(VLOOKUP($W24,Liste!$S$7:$V$103,COLUMN()-18,0),\"\")","v":"P78"},{"$f":"IFERROR(VLOOKUP($W24,Liste!$S$7:$V$103,COLUMN()-18,0),\"\")","v":0},{"$f":"Liste!AS50","v":78}]
[{"$f":"Liste!AQ27","v":81},{"$f":"IFERROR(VLOOKUP($A25,Liste!$S$7:$V$103,COLUMN(),0),\"\")","v":"T81"},{"$f":"IFERROR(VLOOKUP($A25,Liste!$S$7:$V$103,COLUMN(),0),\"\")","v":"P81"},{"$f":"IFERROR(VLOOKUP($A25,Liste!$S$7:$V$103,COLUMN(),0),\"\")","v":0},7,null,13,{"$f":"IFERROR(VLOOKUP($K25,Liste!$S$7:$V$103,COLUMN()-6,0),\"\")","v":"T83"},{"$f":"IFERROR(VLOOKUP($K25,Liste!$S$7:$V$103,COLUMN()-6,0),\"\")","v":"P83"},{"$f":"IFERROR(VLOOKUP($K25,Liste!$S$7:$V$103,COLUMN()-6,0),\"\")","v":0},{"$f":"Liste!AS27","v":83},null,{"$f":"Liste!AQ51","v":84},{"$f":"IFERROR(VLOOKUP($M25,Liste!$S$7:$V$103,COLUMN()-12,0),\"\")","v":"T84"},{"$f":"IFERROR(VLOOKUP($M25,Liste!$S$7:$V$103,COLUMN()-12,0),\"\")","v":"P84"},{"$f":"IFERROR(VLOOKUP($M25,Liste!$S$7:$V$103,COLUMN()-12,0),\"\")","v":0},13,null,7,{"$f":"IFERROR(VLOOKUP($W25,Liste!$S$7:$V$103,COLUMN()-18,0),\"\")","v":"T82"},{"$f":"IFERROR(VLOOKUP($W25,Liste!$S$7:$V$103,COLUMN()-18,0),\"\")","v":"P82"},{"$f":"IFERROR(VLOOKUP($W25,Liste!$S$7:$V$103,COLUMN()-18,0),\"\")","v":0},{"$f":"Liste!AS51","v":82}]
[{"$f":"Liste!AQ28","v":86},{"$f":"IFERROR(VLOOKUP($A26,Liste!$S$7:$V$103,COLUMN(),0),\"\")","v":"T86"},{"$f":"IFERROR(VLOOKUP($A26,Liste!$S$7:$V$103,COLUMN(),0),\"\")","v":"P86"},{"$f":"IFERROR(VLOOKUP($A26,Liste!$S$7:$V$103,COLUMN(),0),\"\")","v":0},5,null,13,{"$f":"IFERROR(VLOOKUP($K26,Liste!$S$7:$V$103,COLUMN()-6,0),\"\")","v":"T88"},{"$f":"IFERROR(VLOOKUP($K26,Liste!$S$7:$V$103,COLUMN()-6,0),\"\")","v":"P88"},{"$f":"IFERROR(VLOOKUP($K26,Liste!$S$7:$V$103,COLUMN()-6,0),\"\")","v":0},{"$f":"Liste!AS28","v":88},null,{"$f":"Liste!AQ52","v":87},{"$f":"IFERROR(VLOOKUP($M26,Liste!$S$7:$V$103,COLUMN()-12,0),\"\")","v":"T87"},{"$f":"IFERROR(VLOOKUP($M26,Liste!$S$7:$V$103,COLUMN()-12,0),\"\")","v":"P87"},{"$f":"IFERROR(VLOOKUP($M26,Liste!$S$7:$V$103,COLUMN()-12,0),\"\")","v":0},13,null,5,{"$f":"IFERROR(VLOOKUP($W26,Liste!$S$7:$V$103,COLUMN()-18,0),\"\")","v":"T85"},{"$f":"IFERROR(VLOOKUP($W26,Liste!$S$7:$V$103,COLUMN()-18,0),\"\")","v":"P85"},{"$f":"IFERROR(VLOOKUP($W26,Liste!$S$7:$V$103,COLUMN()-18,0),\"\")","v":0},{"$f":"Liste!AS52","v":85}]
[{"$f":"Liste!AQ29","v":89},{"$f":"IFERROR(VLOOKUP($A27,Liste!$S$7:$V$103,COLUMN(),0),\"\")","v":"T89"},{"$f":"IFERROR(VLOOKUP($A27,Liste!$S$7:$V$103,COLUMN(),0),\"\")","v":"P89"},{"$f":"IFERROR(VLOOKUP($A27,Liste!$S$7:$V$103,COLUMN(),0),\"\")","v":0},13,null,9,{"$f":"IFERROR(VLOOKUP($K27,Liste!$S$7:$V$103,COLUMN()-6,0),\"\")","v":"T91"},{"$f":"IFERROR(VLOOKUP($K27,Liste!$S$7:$V$103,COLUMN()-6,0),\"\")","v":"P91"},{"$f":"IFERROR(VLOOKUP($K27,Liste!$S$7:$V$103,COLUMN()-6,0),\"\")","v":0},{"$f":"Liste!AS29","v":91},null,{"$f":"Liste!AQ53","v":92},{"$f":"IFERROR(VLOOKUP($M27,Liste!$S$7:$V$103,COLUMN()-12,0),\"\")","v":"T92"},{"$f":"IFERROR(VLOOKUP($M27,Liste!$S$7:$V$103,COLUMN()-12,0),\"\")","v":"P92"},{"$f":"IFERROR(VLOOKUP($M27,Liste!$S$7:$V$103,COLUMN()-12,0),\"\")","v":0},9,null,13,{"$f":"IFERROR(VLOOKUP($W27,Liste!$S$7:$V$103,COLUMN()-18,0),\"\")","v":"T90"},{"$f":"IFERROR(VLOOKUP($W27,Liste!$S$7:$V$103,COLUMN()-18,0),\"\")","v":"P90"},{"$f":"IFERROR(VLOOKUP($W27,Liste!$S$7:$V$103,COLUMN()-18,0),\"\")","v":0},{"$f":"Liste!AS53","v":90}]
[{"$f":"Liste!AQ30","v":94},{"$f":"IFERROR(VLOOKUP($A28,Liste!$S$7:$V$103,COLUMN(),0),\"\")","v":"T94"},{"$f":"IFERROR(VLOOKUP($A28,Liste!$S$7:$V$103,COLUMN(),0),\"\")","v":"P94"},{"$f":"IFERROR(VLOOKUP($A28,Liste!$S$7:$V$103,COLUMN(),0),\"\")","v":0},11,null,13,{"$f":"IFERROR(VLOOKUP($K28,Liste!$S$7:$V$103,COLUMN()-6,0),\"\")","v":"T95"},{"$f":"IFERROR(VLOOKUP($K28,Liste!$S$7:$V$103,COLUMN()-6,0),\"\")","v":"P95"},{"$f":"IFERROR(VLOOKUP($K28,Liste!$S$7:$V$103,COLUMN()-6,0),\"\")","v":0},{"$f":"Liste!AS30","v":95},null,{"$f":"Liste!AQ54","v":96},{"$f":"IFERROR(VLOOKUP($M28,Liste!$S$7:$V$103,COLUMN()-12,0),\"\")","v":"T96"},{"$f":"IFERROR(VLOOKUP($M28,Liste!$S$7:$V$103,COLUMN()-12,0),\"\")","v":"P96"},{"$f":"IFERROR(VLOOKUP($M28,Liste!$S$7:$V$103,COLUMN()-12,0),\"\")","v":0},13,null,11,{"$f":"IFERROR(VLOOKUP($W28,Liste!$S$7:$V$103,COLUMN()-18,0),\"\")","v":"T93"},{"$f":"IFERROR(VLOOKUP($W28,Liste!$S$7:$V$103,COLUMN()-18,0),\"\")","v":"P93"},{"$f":"IFERROR(VLOOKUP($W28,Liste!$S$7:$V$103,COLUMN()-18,0),\"\")","v":0},{"$f":"Liste!AS54","v":93}]
[]
[]
[]
[null,{"$f":"B3","v":"T1"},{"$f":"E3","v":13},null,{"$f":"G3","v":6}]
[null,{"$f":"B4","v":"T5"},{"$f":"E4","v":13},null,{"$f":"G4","v":6}]
[null,"T9",13,null,6]
[null,"T13",13,null,6]
[null,"T17",13,null,6]
[null,"T21",13,null,6]
[null,"T25",13,null,6]
[null,"T29",13,null,6]
[null,{"$f":"B12","v":"T34"},{"$f":"E12","v":13},null,{"$f":"G12","v":6}]
[null,"T37",13,null,{"$f":"G13","v":6}]
[null,"T42",13,null,6]
[null,"T45",13,null,6]
[null,"T49",13,null,6]
[null,"T54",13,null,6]
[null,"T57",13,null,6]
[null,"T62",13,null,6]
[null,{"$f":"B21","v":"T66"},{"$f":"E21","v":12},null,{"$f":"G21","v":13}]
[null,"T69",2,null,{"$f":"G22","v":13}]
[null,"T74",13,null,4]
[null,"T77",13,null,10]
[null,"T81",7,null,13]
[null,"T86",5,null,13]
[null,"T89",13,null,9]
[null,"T94",11,null,13]
[null,{"$f":"H3","v":"T3"},{"$f":"G3","v":6},null,{"$f":"E3","v":13}]
[null,{"$f":"H4","v":"T7"},{"$f":"G4","v":6},null,{"$f":"E4","v":13}]
[null,"T11",6,null,13]
[null,"T15",6,null,13]
[null,"T19",6,null,13]
[null,"T23",6,null,13]
[null,"T27",6,null,13]
[null,"T31",6,null,13]
[null,{"$f":"H12","v":"T36"},{"$f":"G12","v":6},null,{"$f":"E12","v":13}]
[null,"T39",6,null,{"$f":"E13","v":13}]
[null,"T44",6,null,13]
[null,"T48",6,null,13]
[null,"T51",6,null,13]
[null,"T56",6,null,13]
[null,"T59",6,null,13]
[null,"T63",6,null,13]
[null,{"$f":"H21","v":"T68"},{"$f":"G21","v":13},null,{"$f":"E21","v":12}]
[null,"T71",13,null,{"$f":"E22","v":2}]
[null,"T76",4,null,13]
[null,"T80",10,null,13]
[null,"T83",13,null,7]
[null,"T88",13,null,5]
[null,"T91",9,null,13]
[null,{"$f":"H28","v":"T95"},{"$f":"G28","v":13},null,11]
[null,{"$f":"N3","v":"T4"},{"$f":"Q3","v":13},null,{"$f":"S3","v":12}]
[null,{"$f":"N4","v":"T8"},{"$f":"Q4","v":13},null,{"$f":"S4","v":2}]
[null,"T12",4,null,13]
[null,"T16",10,null,13]
[null,"T20",13,null,7]
[null,"T24",13,null,5]
[null,"T28",9,null,13]
[null,"T32",13,null,11]
[null,{"$f":"N12","v":"T35"},{"$f":"Q12","v":12},null,{"$f":"S12","v":13}]
[null,"T40",2,null,{"$f":"S13","v":13}]
[null,"T43",13,null,4]
[null,"T47",13,null,10]
[null,"T52",7,null,13]
[null,"T55",5,null,13]
[null,"T60",13,null,9]
[null,"T64",11,null,13]
[null,{"$f":"N21","v":"T67"},{"$f":"Q21","v":13},null,{"$f":"S21","v":12}]
[null,"T72",13,null,{"$f":"S22","v":2}]
[null,"T75",4,null,13]
[null,"T79",10,null,13]
[null,"T84",13,null,7]
[null,"T87",13,null,5]
[null,"T92",9,null,13]
[null,"T96",13,null,11]
[null,{"$f":"T3","v":"T2"},{"$f":"S3","v":12},null,{"$f":"Q3","v":13}]
[null,{"$f":"T4","v":"T6"},{"$f":"S4","v":2},null,13]
[null,"T10",13,null,4]
[null,"T14",13,null,10]
[null,"T18",7,null,13]
[null,"T22",5,null,13]
[null,"T26",13,null,9]
[null,"T30",11,null,13]
[null,{"$f":"T12","v":"T33"},{"$f":"S12","v":13},null,{"$f":"Q12","v":12}]
[null,"T38",13,null,2]
[null,"T41",4,null,13]
[null,"T46",10,null,13]
[null,"T50",13,null,7]
[null,"T53",13,null,5]
[null,"T58",9,null,13]
[null,"T61",13,null,11]
[null,{"$f":"T21","v":"T65"},{"$f":"S21","v":12},null,{"$f":"Q21","v":13}]
[null,"T70",2,null,13]
[null,"T73",13,null,4]
[null,"T78",13,null,10]
[null,"T82",7,null,13]
[null,"T85",5,null,13]
[null,"T90",13,null,9]
[null,{"$f":"T28","v":"T93"},{"$f":"S28","v":11},null,13]
[null,{"$f":"C3","v":"P1"},{"$f":"E3","v":13},null,{"$f":"E32","v":6}]
[null,{"$f":"C4","v":"P5"},{"$f":"E4","v":13},null,{"$f":"E33","v":6}]
[null,"P9",13,null,6]
[null,"P13",13,null,6]
[null,"P17",13,null,6]
[null,"P21",13,null,6]
[null,"P25",13,null,6]
[null,"P29",13,null,6]
[null,{"$f":"C12","v":"P34"},{"$f":"E12","v":13},null,6]
[null,"P37",13,null,6]
[null,"P42",13,null,6]
[null,"P45",13,null,6]
[null,"P49",13,null,6]
[null,"P54",13,null,6]
[null,"P57",13,null,6]
[null,"P62",13,null,6]
[null,{"$f":"C21","v":"P66"},{"$f":"E21","v":12},null,13]
[null,"P69",2,null,13]
[null,"P74",13,null,4]
[null,"P77",13,null,10]
[null,"P81",7,null,13]
[null,"P86",5,null,13]
[null,"P89",13,null,9]
[null,"P94",11,null,13]
[null,{"$f":"I3","v":"P3"},{"$f":"G3","v":6},null,13]
[null,{"$f":"I4","v":"P7"},{"$f":"G4","v":6},null,13]
[null,"P11",6,null,13]
[null,"P15",6,null,13]
[null,"P19",6,null,13]
[null,"P23",6,null,13]
[null,"P27",6,null,13]
[null,"P31",6,null,13]
[null,{"$f":"I12","v":"P36"},{"$f":"G12","v":6},null,13]
[null,"P39",6,null,13]
[null,"P44",6,null,13]
[null,"P48",6,null,13]
[null,"P51",6,null,13]
[null,"P56",6,null,13]
[null,"P59",6,null,13]
[null,"P63",6,null,13]
[null,{"$f":"I21","v":"P68"},{"$f":"G21","v":13},null,12]
[null,"P71",13,null,2]
[null,"P76",4,null,13]
[null,"P80",10,null,13]
[null,"P83",13,null,7]
[null,"P88",13,null,5]
[null,"P91",9,null,13]
[null,"P95",13,null,11]
[null,{"$f":"O3","v":"P4"},{"$f":"Q3","v":13},null,12]
[null,{"$f":"O4","v":"P8"},{"$f":"Q4","v":13},null,2]
[null,"P12",4,null,13]
[null,"P16",10,null,13]
[null,"P20",13,null,7]
[null,"P24",13,null,5]
[null,"P28",9,null,13]
[null,"P32",13,null,11]
[null,{"$f":"O12","v":"P35"},{"$f":"Q12","v":12},null,{"$f":"E87","v":11}]
[null,"P40",2,null,{"$f":"E88","v":13}]
[null,"P43",13,null,4]
[null,"P47",13,null,10]
[null,"P52",7,null,13]
[null,"P55",5,null,13]
[null,"P60",13,null,9]
[null,"P64",11,null,13]
[null,{"$f":"O21","v":"P67"},{"$f":"Q21","v":13},null,12]
[null,"P72",13,null,{"$f":"E97","v":2}]
[null,"P75",4,null,13]
[null,"P79",10,null,13]
[null,"P84",13,null,7]
[null,"P87",13,null,5]
[null,"P92",9,null,13]
[null,"P96",13,null,11]
[null,{"$f":"U3","v":"P2"},{"$f":"S3","v":12},null,13]
[null,{"$f":"U4","v":"P6"},{"$f":"S4","v":2},null,13]
[null,"P10",13,null,4]
[null,"P14",13,null,10]
[null,"P18",7,null,13]
[null,"P22",5,null,13]
[null,"P26",13,null,9]
[null,"P30",11,null,13]
[null,{"$f":"U12","v":"P33"},{"$f":"S12","v":13},null,12]
[null,"P38",13,null,2]
[null,"P41",4,null,13]
[null,"P46",10,null,13]
[null,"P50",13,null,7]
[null,"P53",13,null,5]
[null,"P58",9,null,13]
[null,"P61",13,null,11]
[null,{"$f":"U21","v":"P65"},{"$f":"S21","v":12},null,13]
[null,"P70",2,null,13]
[null,"P73",13,null,4]
[null,"P78",13,null,10]
[null,"P82",7,null,13]
[null,"P85",5,null,13]
[null,"P90",13,null,9]
[null,"P93",11,null,13]

{"sheet":"Partie 3","index":3,"n_rows":223,"n_cols":23,"rows_kept":223,"cut":false,"hidden":false,"merged":[[19,0,19,3],[19,7,19,10],[19,12,19,15],[19,19,19,22],[0,0,0,22],[1,0,1,3],[1,7,1,10],[1,12,1,15],[1,19,1,22],[10,0,10,3],[10,7,10,10],[10,12,10,15],[10,19,10,22]]}
["DOUBLETTES "]
["Equipes ",null,null,null,"PTS     EQ 1",null,"PTS     EQ 2","Equipes ",null,null,null,null,"Equipes ",null,null,null,"PTS     EQ 1",null,"PTS     EQ 2","Equipes "]
[{"$f":"Liste!AX7","v":1},{"$f":"IFERROR(VLOOKUP($A3,Liste!$S$7:$V$103,COLUMN(),0),\"\")","v":"T1"},{"$f":"IFERROR(VLOOKUP($A3,Liste!$S$7:$V$103,COLUMN(),0),\"\")","v":"P1"},{"$f":"IFERROR(VLOOKUP($A3,Liste!$S$7:$V$103,COLUMN(),0),\"\")","v":""},13,null,6,{"$f":"IFERROR(VLOOKUP($K3,Liste!$S$7:$V$103,COLUMN()-6,0),\"\")","v":"T5"},{"$f":"IFERROR(VLOOKUP($K3,Liste!$S$7:$V$103,COLUMN()-6,0),\"\")","v":"P5"},{"$f":"IFERROR(VLOOKUP($K3,Liste!$S$7:$V$103,COLUMN()-6,0),\"\")","v":""},{"$f":"Liste!AZ7","v":5},null,{"$f":"Liste!AX31","v":7},{"$f":"IFERROR(VLOOKUP($M3,Liste!$S$7:$V$103,COLUMN()-12,0),\"\")","v":"T7"},{"$f":"IFERROR(VLOOKUP($M3,Liste!$S$7:$V$103,COLUMN()-12,0),\"\")","v":"P7"},{"$f":"IFERROR(VLOOKUP($M3,Liste!$S$7:$V$103,COLUMN()-12,0),\"\")","v":""},13,null,12,{"$f":"IFERROR(VLOOKUP($W3,Liste!$S$7:$V$103,COLUMN()-18,0),\"\")","v":"T3"},{"$f":"IFERROR(VLOOKUP($W3,Liste!$S$7:$V$103,COLUMN()-18,0),\"\")","v":"P3"},{"$f":"IFERROR(VLOOKUP($W3,Liste!$S$7:$V$103,COLUMN()-18,0),\"\")","v":""},{"$f":"Liste!AZ31","v":3}]
[{"$f":"Liste!AX8","v":9},{"$f":"IFERROR(VLOOKUP($A4,Liste!$S$7:$V$103,COLUMN(),0),\"\")","v":"T9"},{"$f":"IFERROR(VLOOKUP($A4,Liste!$S$7:$V$103,COLUMN(),0),\"\")","v":"P9"},{"$f":"IFERROR(VLOOKUP($A4,Liste!$S$7:$V$103,COLUMN(),0),\"\")","v":""},13,null,6,{"$f":"IFERROR(VLOOKUP($K4,Liste!$S$7:$V$103,COLUMN()-6,0),\"\")","v":"T13"},{"$f":"IFERROR(VLOOKUP($K4,Liste!$S$7:$V$103,COLUMN()-6,0),\"\")","v":"P13"},{"$f":"IFERROR(VLOOKUP($K4,Liste!$S$7:$V$103,COLUMN()-6,0),\"\")","v":""},{"$f":"Liste!AZ8","v":13},null,{"$f":"Liste!AX32","v":15},{"$f":"IFERROR(VLOOKUP($M4,Liste!$S$7:$V$103,COLUMN()-12,0),\"\")","v":"T15"},{"$f":"IFERROR(VLOOKUP($M4,Liste!$S$7:$V$103,COLUMN()-12,0),\"\")","v":"P15"},{"$f":"IFERROR(VLOOKUP($M4,Liste!$S$7:$V$103,COLUMN()-12,0),\"\")","v":""},13,null,2,{"$f":"IFERROR(VLOOKUP($W4,Liste!$S$7:$V$103,COLUMN()-18,0),\"\")","v":"T11"},{"$f":"IFERROR(VLOOKUP($W4,Liste!$S$7:$V$103,COLUMN()-18,0),\"\")","v":"P11"},{"$f":"IFERROR(VLOOKUP($W4,Liste!$S$7:$V$103,COLUMN()-18,0),\"\")","v":""},{"$f":"Liste!AZ32","v":11}]
[{"$f":"Liste!AX9","v":17},{"$f":"IFERROR(VLOOKUP($A5,Liste!$S$7:$V$103,COLUMN(),0),\"\")","v":"T17"},{"$f":"IFERROR(VLOOKUP($A5,Liste!$S$7:$V$103,COLUMN(),0),\"\")","v":"P17"},{"$f":"IFERROR(VLOOKUP($A5,Liste!$S$7:$V$103,COLUMN(),0),\"\")","v":""},13,null,6,{"$f":"IFERROR(VLOOKUP($K5,Liste!$S$7:$V$103,COLUMN()-6,0),\"\")","v":"T21"},{"$f":"IFERROR(VLOOKUP($K5,Liste!$S$7:$V$103,COLUMN()-6,0),\"\")","v":"P21"},{"$f":"IFERROR(VLOOKUP($K5,Liste!$S$7:$V$103,COLUMN()-6,0),\"\")","v":""},{"$f":"Liste!AZ9","v":21},null,{"$f":"Liste!AX33","v":23},{"$f":"IFERROR(VLOOKUP($M5,Liste!$S$7:$V$103,COLUMN()-12,0),\"\")","v":"T23"},{"$f":"IFERROR(VLOOKUP($M5,Liste!$S$7:$V$103,COLUMN()-12,0),\"\")","v":"P23"},{"$f":"IFERROR(VLOOKUP($M5,Liste!$S$7:$V$103,COLUMN()-12,0),\"\")","v":""},4,null,13,{"$f":"IFERROR(VLOOKUP($W5,Liste!$S$7:$V$103,COLUMN()-18,0),\"\")","v":"T19"},{"$f":"IFERROR(VLOOKUP($W5,Liste!$S$7:$V$103,COLUMN()-18,0),\"\")","v":"P19"},{"$f":"IFERROR(VLOOKUP($W5,Liste!$S$7:$V$103,COLUMN()-18,0),\"\")","v":""},{"$f":"Liste!AZ33","v":19}]
[{"$f":"Liste!AX10","v":25},{"$f":"IFERROR(VLOOKUP($A6,Liste!$S$7:$V$103,COLUMN(),0),\"\")","v":"T25"},{"$f":"IFERROR(VLOOKUP($A6,Liste!$S$7:$V$103,COLUMN(),0),\"\")","v":"P25"},{"$f":"IFERROR(VLOOKUP($A6,Liste!$S$7:$V$103,COLUMN(),0),\"\")","v":""},13,null,6,{"$f":"IFERROR(VLOOKUP($K6,Liste!$S$7:$V$103,COLUMN()-6,0),\"\")","v":"T29"},{"$f":"IFERROR(VLOOKUP($K6,Liste!$S$7:$V$103,COLUMN()-6,0),\"\")","v":"P29"},{"$f":"IFERROR(VLOOKUP($K6,Liste!$S$7:$V$103,COLUMN()-6,0),\"\")","v":""},{"$f":"Liste!AZ10","v":29},null,{"$f":"Liste!AX34","v":31},{"$f":"IFERROR(VLOOKUP($M6,Liste!$S$7:$V$103,COLUMN()-12,0),\"\")","v":"T31"},{"$f":"IFERROR(VLOOKUP($M6,Liste!$S$7:$V$103,COLUMN()-12,0),\"\")","v":"P31"},{"$f":"IFERROR(VLOOKUP($M6,Liste!$S$7:$V$103,COLUMN()-12,0),\"\")","v":""},10,null,13,{"$f":"IFERROR(VLOOKUP($W6,Liste!$S$7:$V$103,COLUMN()-18,0),\"\")","v":"T27"},{"$f":"IFERROR(VLOOKUP($W6,Liste!$S$7:$V$103,COLUMN()-18,0),\"\")","v":"P27"},{"$f":"IFERROR(VLOOKUP($W6,Liste!$S$7:$V$103,COLUMN()-18,0),\"\")","v":""},{"$f":"Liste!AZ34","v":27}]
[{"$f":"Liste!AX11","v":34},{"$f":"IFERROR(VLOOKUP($A7,Liste!$S$7:$V$103,COLUMN(),0),\"\")","v":"T34"},{"$f":"IFERROR(VLOOKUP($A7,Liste!$S$7:$V$103,COLUMN(),0),\"\")","v":"P34"},{"$f":"IFERROR(VLOOKUP($A7,Liste!$S$7:$V$103,COLUMN(),0),\"\")","v":""},13,null,6,{"$f":"IFERROR(VLOOKUP($K7,Liste!$S$7:$V$103,COLUMN()-6,0),\"\")","v":"T37"},{"$f":"IFERROR(VLOOKUP($K7,Liste!$S$7:$V$103,COLUMN()-6,0),\"\")","v":"P37"},{"$f":"IFERROR(VLOOKUP($K7,Liste!$S$7:$V$103,COLUMN()-6,0),\"\")","v":""},{"$f":"Liste!AZ11","v":37},null,{"$f":"Liste!AX35","v":39},{"$f":"IFERROR(VLOOKUP($M7,Liste!$S$7:$V$103,COLUMN()-12,0),\"\")","v":"T39"},{"$f":"IFERROR(VLOOKUP($M7,Liste!$S$7:$V$103,COLUMN()-12,0),\"\")","v":"P39"},{"$f":"IFERROR(VLOOKUP($M7,Liste!$S$7:$V$103,COLUMN()-12,0),\"\")","v":""},13,null,7,{"$f":"IFERROR(VLOOKUP($W7,Liste!$S$7:$V$103,COLUMN()-18,0),\"\")","v":"T36"},{"$f":"IFERROR(VLOOKUP($W7,Liste!$S$7:$V$103,COLUMN()-18,0),\"\")","v":"P36"},{"$f":"IFERROR(VLOOKUP($W7,Liste!$S$7:$V$103,COLUMN()-18,0),\"\")","v":""},{"$f":"Liste!AZ35","v":36}]
[{"$f":"Liste!AX12","v":42},{"$f":"IFERROR(VLOOKUP($A8,Liste!$S$7:$V$103,COLUMN(),0),\"\")","v":"T42"},{"$f":"IFERROR(VLOOKUP($A8,Liste!$S$7:$V$103,COLUMN(),0),\"\")","v":"P42"},{"$f":"IFERROR(VLOOKUP($A8,Liste!$S$7:$V$103,COLUMN(),0),\"\")","v":""},13,null,6,{"$f":"IFERROR(VLOOKUP($K8,Liste!$S$7:$V$103,COLUMN()-6,0),\"\")","v":"T45"},{"$f":"IFERROR(VLOOKUP($K8,Liste!$S$7:$V$103,COLUMN()-6,0),\"\")","v":"P45"},{"$f":"IFERROR(VLOOKUP($K8,Liste!$S$7:$V$103,COLUMN()-6,0),\"\")","v":""},{"$f":"Liste!AZ12","v":45},null,{"$f":"Liste!AX36","v":48},{"$f":"IFERROR(VLOOKUP($M8,Liste!$S$7:$V$103,COLUMN()-12,0),\"\")","v":"T48"},{"$f":"IFERROR(VLOOKUP($M8,Liste!$S$7:$V$103,COLUMN()-12,0),\"\")","v":"P48"},{"$f":"IFERROR(VLOOKUP($M8,Liste!$S$7:$V$103,COLUMN()-12,0),\"\")","v":""},13,null,5,{"$f":"IFERROR(VLOOKUP($W8,Liste!$S$7:$V$103,COLUMN()-18,0),\"\")","v":"T44"},{"$f":"IFERROR(VLOOKUP($W8,Liste!$S$7:$V$103,COLUMN()-18,0),\"\")","v":"P44"},{"$f":"IFERROR(VLOOKUP($W8,Liste!$S$7:$V$103,COLUMN()-18,0),\"\")","v":""},{"$f":"Liste!AZ36","v":44}]
[{"$f":"Liste!AX13","v":49},{"$f":"IFERROR(VLOOKUP($A9,Liste!$S$7:$V$103,COLUMN(),0),\"\")","v":"T49"},{"$f":"IFERROR(VLOOKUP($A9,Liste!$S$7:$V$103,COLUMN(),0),\"\")","v":"P49"},{"$f":"IFERROR(VLOOKUP($A9,Liste!$S$7:$V$103,COLUMN(),0),\"\")","v":""},13,null,6,{"$f":"IFERROR(VLOOKUP($K9,Liste!$S$7:$V$103,COLUMN()-6,0),\"\")","v":"T54"},{"$f":"IFERROR(VLOOKUP($K9,Liste!$S$7:$V$103,COLUMN()-6,0),\"\")","v":"P54"},{"$f":"IFERROR(VLOOKUP($K9,Liste!$S$7:$V$103,COLUMN()-6,0),\"\")","v":""},{"$f":"Liste!AZ13","v":54},null,{"$f":"Liste!AX37","v":56},{"$f":"IFERROR(VLOOKUP($M9,Liste!$S$7:$V$103,COLUMN()-12,0),\"\")","v":"T56"},{"$f":"IFERROR(VLOOKUP($M9,Liste!$S$7:$V$103,COLUMN()-12,0),\"\")","v":"P56"},{"$f":"IFERROR(VLOOKUP($M9,Liste!$S$7:$V$103,COLUMN()-12,0),\"\")","v":""},9,null,13,{"$f":"IFERROR(VLOOKUP($W9,Liste!$S$7:$V$103,COLUMN()-18,0),\"\")","v":"T51"},{"$f":"IFERROR(VLOOKUP($W9,Liste!$S$7:$V$103,COLUMN()-18,0),\"\")","v":"P51"},{"$f":"IFERROR(VLOOKUP($W9,Liste!$S$7:$V$103,COLUMN()-18,0),\"\")","v":""},{"$f":"Liste!AZ37","v":51}]
[{"$f":"Liste!AX14","v":57},{"$f":"IFERROR(VLOOKUP($A10,Liste!$S$7:$V$103,COLUMN(),0),\"\")","v":"T57"},{"$f":"IFERROR(VLOOKUP($A10,Liste!$S$7:$V$103,COLUMN(),0),\"\")","v":"P57"},{"$f":"IFERROR(VLOOKUP($A10,Liste!$S$7:$V$103,COLUMN(),0),\"\")","v":""},13,null,6,{"$f":"IFERROR(VLOOKUP($K10,Liste!$S$7:$V$103,COLUMN()-6,0),\"\")","v":"T62"},{"$f":"IFERROR(VLOOKUP($K10,Liste!$S$7:$V$103,COLUMN()-6,0),\"\")","v":"P62"},{"$f":"IFERROR(VLOOKUP($K10,Liste!$S$7:$V$103,COLUMN()-6,0),\"\")","v":""},{"$f":"Liste!AZ14","v":62},null,{"$f":"Liste!AX38","v":63},{"$f":"IFERROR(VLOOKUP($M10,Liste!$S$7:$V$103,COLUMN()-12,0),\"\")","v":"T63"},{"$f":"IFERROR(VLOOKUP($M10,Liste!$S$7:$V$103,COLUMN()-12,0),\"\")","v":"P63"},{"$f":"IFERROR(VLOOKUP($M10,Liste!$S$7:$V$103,COLUMN()-12,0),\"\")","v":""},13,null,11,{"$f":"IFERROR(VLOOKUP($W10,Liste!$S$7:$V$103,COLUMN()-18,0),\"\")","v":"T59"},{"$f":"IFERROR(VLOOKUP($W10,Liste!$S$7:$V$103,COLUMN()-18,0),\"\")","v":"P59"},{"$f":"IFERROR(VLOOKUP($W10,Liste!$S$7:$V$103,COLUMN()-18,0),\"\")","v":""},{"$f":"Liste!AZ38","v":59}]
["Equipes ",null,null,null,"PTS     EQ 1",null,"PTS     EQ 2","Equipes ",null,null,null,null,"Equipes ",null,null,null,"PTS     EQ 1",null,"PTS     EQ 2","Equipes "]
[{"$f":"Liste!AX15","v":68},{"$f":"IFERROR(VLOOKUP($A12,Liste!$S$7:$V$103,COLUMN(),0),\"\")","v":"T68"},{"$f":"IFERROR(VLOOKUP($A12,Liste!$S$7:$V$103,COLUMN(),0),\"\")","v":"P68"},{"$f":"IFERROR(VLOOKUP($A12,Liste!$S$7:$V$103,COLUMN(),0),\"\")","v":0},13,null,6,{"$f":"IFERROR(VLOOKUP($K12,Liste!$S$7:$V$103,COLUMN()-6,0),\"\")","v":"T71"},{"$f":"IFERROR(VLOOKUP($K12,Liste!$S$7:$V$103,COLUMN()-6,0),\"\")","v":"P71"},{"$f":"IFERROR(VLOOKUP($K12,Liste!$S$7:$V$103,COLUMN()-6,0),\"\")","v":0},{"$f":"Liste!AZ15","v":71},null,{"$f":"Liste!AX39","v":69},{"$f":"IFERROR(VLOOKUP($M12,Liste!$S$7:$V$103,COLUMN()-12,0),\"\")","v":"T69"},{"$f":"IFERROR(VLOOKUP($M12,Liste!$S$7:$V$103,COLUMN()-12,0),\"\")","v":"P69"},{"$f":"IFERROR(VLOOKUP($M12,Liste!$S$7:$V$103,COLUMN()-12,0),\"\")","v":0},12,null,13,{"$f":"IFERROR(VLOOKUP($W12,Liste!$S$7:$V$103,COLUMN()-18,0),\"\")","v":"T66"},{"$f":"IFERROR(VLOOKUP($W12,Liste!$S$7:$V$103,COLUMN()-18,0),\"\")","v":"P66"},{"$f":"IFERROR(VLOOKUP($W12,Liste!$S$7:$V$103,COLUMN()-18,0),\"\")","v":0},{"$f":"Liste!AZ39","v":66}]
[{"$f":"Liste!AX16","v":74},{"$f":"IFERROR(VLOOKUP($A13,Liste!$S$7:$V$103,COLUMN(),0),\"\")","v":"T74"},{"$f":"IFERROR(VLOOKUP($A13,Liste!$S$7:$V$103,COLUMN(),0),\"\")","v":"P74"},{"$f":"IFERROR(VLOOKUP($A13,Liste!$S$7:$V$103,COLUMN(),0),\"\")","v":0},13,null,6,{"$f":"IFERROR(VLOOKUP($K13,Liste!$S$7:$V$103,COLUMN()-6,0),\"\")","v":"T77"},{"$f":"IFERROR(VLOOKUP($K13,Liste!$S$7:$V$103,COLUMN()-6,0),\"\")","v":"P77"},{"$f":"IFERROR(VLOOKUP($K13,Liste!$S$7:$V$103,COLUMN()-6,0),\"\")","v":0},{"$f":"Liste!AZ16","v":77},null,{"$f":"Liste!AX40","v":80},{"$f":"IFERROR(VLOOKUP($M13,Liste!$S$7:$V$103,COLUMN()-12,0),\"\")","v":"T80"},{"$f":"IFERROR(VLOOKUP($M13,Liste!$S$7:$V$103,COLUMN()-12,0),\"\")","v":"P80"},{"$f":"IFERROR(VLOOKUP($M13,Liste!$S$7:$V$103,COLUMN()-12,0),\"\")","v":0},2,null,13,{"$f":"IFERROR(VLOOKUP($W13,Liste!$S$7:$V$103,COLUMN()-18,0),\"\")","v":"T76"},{"$f":"IFERROR(VLOOKUP($W13,Liste!$S$7:$V$103,COLUMN()-18,0),\"\")","v":"P76"},{"$f":"IFERROR(VLOOKUP($W13,Liste!$S$7:$V$103,COLUMN()-18,0),\"\")","v":0},{"$f":"Liste!AZ40","v":76}]
[{"$f":"Liste!AX17","v":83},{"$f":"IFERROR(VLOOKUP($A14,Liste!$S$7:$V$103,COLUMN(),0),\"\")","v":"T83"},{"$f":"IFERROR(VLOOKUP($A14,Liste!$S$7:$V$103,COLUMN(),0),\"\")","v":"P83"},{"$f":"IFERROR(VLOOKUP($A14,Liste!$S$7:$V$103,COLUMN(),0),\"\")","v":0},13,null,6,{"$f":"IFERROR(VLOOKUP($K14,Liste!$S$7:$V$103,COLUMN()-6,0),\"\")","v":"T88"},{"$f":"IFERROR(VLOOKUP($K14,Liste!$S$7:$V$103,COLUMN()-6,0),\"\")","v":"P88"},{"$f":"IFERROR(VLOOKUP($K14,Liste!$S$7:$V$103,COLUMN()-6,0),\"\")","v":0},{"$f":"Liste!AZ17","v":88},null,{"$f":"Liste!AX41","v":86},{"$f":"IFERROR(VLOOKUP($M14,Liste!$S$7:$V$103,COLUMN()-12,0),\"\")","v":"T86"},{"$f":"IFERROR(VLOOKUP($M14,Liste!$S$7:$V$103,COLUMN()-12,0),\"\")","v":"P86"},{"$f":"IFERROR(VLOOKUP($M14,Liste!$S$7:$V$103,COLUMN()-12,0),\"\")","v":0},13,null,4,{"$f":"IFERROR(VLOOKUP($W14,Liste!$S$7:$V$103,COLUMN()-18,0),\"\")","v":"T81"},{"$f":"IFERROR(VLOOKUP($W14,Liste!$S$7:$V$103,COLUMN()-18,0),\"\")","v":"P81"},{"$f":"IFERROR(VLOOKUP($W14,Liste!$S$7:$V$103,COLUMN()-18,0),\"\")","v":0},{"$f":"Liste!AZ41","v":81}]
[{"$f":"Liste!AX18","v":89},{"$f":"IFERROR(VLOOKUP($A15,Liste!$S$7:$V$103,COLUMN(),0),\"\")","v":"T89"},{"$f":"IFERROR(VLOOKUP($A15,Liste!$S$7:$V$103,COLUMN(),0),\"\")","v":"P89"},{"$f":"IFERROR(VLOOKUP($A15,Liste!$S$7:$V$103,COLUMN(),0),\"\")","v":0},13,null,6,{"$f":"IFERROR(VLOOKUP($K15,Liste!$S$7:$V$103,COLUMN()-6,0),\"\")","v":"T95"},{"$f":"IFERROR(VLOOKUP($K15,Liste!$S$7:$V$103,COLUMN()-6,0),\"\")","v":"P95"},{"$f":"IFERROR(VLOOKUP($K15,Liste!$S$7:$V$103,COLUMN()-6,0),\"\")","v":0},{"$f":"Liste!AZ18","v":95},null,{"$f":"Liste!AX42","v":94},{"$f":"IFERROR(VLOOKUP($M15,Liste!$S$7:$V$103,COLUMN()-12,0),\"\")","v":"T94"},{"$f":"IFERROR(VLOOKUP($M15,Liste!$S$7:$V$103,COLUMN()-12,0),\"\")","v":"P94"},{"$f":"IFERROR(VLOOKUP($M15,Liste!$S$7:$V$103,COLUMN()-12,0),\"\")","v":0},13,null,10,{"$f":"IFERROR(VLOOKUP($W15,Liste!$S$7:$V$103,COLUMN()-18,0),\"\")","v":"T91"},{"$f":"IFERROR(VLOOKUP($W15,Liste!$S$7:$V$103,COLUMN()-18,0),\"\")","v":"P91"},{"$f":"IFERROR(VLOOKUP($W15,Liste!$S$7:$V$103,COLUMN()-18,0),\"\")","v":0},{"$f":"Liste!AZ42","v":91}]
[{"$f":"Liste!AX19","v":4},{"$f":"IFERROR(VLOOKUP($A16,Liste!$S$7:$V$103,COLUMN(),0),\"\")","v":"T4"},{"$f":"IFERROR(VLOOKUP($A16,Liste!$S$7:$V$103,COLUMN(),0),\"\")","v":"P4"},{"$f":"IFERROR(VLOOKUP($A16,Liste!$S$7:$V$103,COLUMN(),0),\"\")","v":""},13,null,6,{"$f":"IFERROR(VLOOKUP($K16,Liste!$S$7:$V$103,COLUMN()-6,0),\"\")","v":"T8"},{"$f":"IFERROR(VLOOKUP($K16,Liste!$S$7:$V$103,COLUMN()-6,0),\"\")","v":"P8"},{"$f":"IFERROR(VLOOKUP($K16,Liste!$S$7:$V$103,COLUMN()-6,0),\"\")","v":""},{"$f":"Liste!AZ19","v":8},null,{"$f":"Liste!AX43","v":6},{"$f":"IFERROR(VLOOKUP($M16,Liste!$S$7:$V$103,COLUMN()-12,0),\"\")","v":"T6"},{"$f":"IFERROR(VLOOKUP($M16,Liste!$S$7:$V$103,COLUMN()-12,0),\"\")","v":"P6"},{"$f":"IFERROR(VLOOKUP($M16,Liste!$S$7:$V$103,COLUMN()-12,0),\"\")","v":""},7,null,13,{"$f":"IFERROR(VLOOKUP($W16,Liste!$S$7:$V$103,COLUMN()-18,0),\"\")","v":"T2"},{"$f":"IFERROR(VLOOKUP($W16,Liste!$S$7:$V$103,COLUMN()-18,0),\"\")","v":"P2"},{"$f":"IFERROR(VLOOKUP($W16,Liste!$S$7:$V$103,COLUMN()-18,0),\"\")","v":""},{"$f":"Liste!AZ43","v":2}]
[{"$f":"Liste!AX20","v":10},{"$f":"IFERROR(VLOOKUP($A17,Liste!$S$7:$V$103,COLUMN(),0),\"\")","v":"T10"},{"$f":"IFERROR(VLOOKUP($A17,Liste!$S$7:$V$103,COLUMN(),0),\"\")","v":"P10"},{"$f":"IFERROR(VLOOKUP($A17,Liste!$S$7:$V$103,COLUMN(),0),\"\")","v":""},13,null,6,{"$f":"IFERROR(VLOOKUP($K17,Liste!$S$7:$V$103,COLUMN()-6,0),\"\")","v":"T14"},{"$f":"IFERROR(VLOOKUP($K17,Liste!$S$7:$V$103,COLUMN()-6,0),\"\")","v":"P14"},{"$f":"IFERROR(VLOOKUP($K17,Liste!$S$7:$V$103,COLUMN()-6,0),\"\")","v":""},{"$f":"Liste!AZ20","v":14},null,{"$f":"Liste!AX44","v":16},{"$f":"IFERROR(VLOOKUP($M17,Liste!$S$7:$V$103,COLUMN()-12,0),\"\")","v":"T16"},{"$f":"IFERROR(VLOOKUP($M17,Liste!$S$7:$V$103,COLUMN()-12,0),\"\")","v":"P16"},{"$f":"IFERROR(VLOOKUP($M17,Liste!$S$7:$V$103,COLUMN()-12,0),\"\")","v":""},5,null,13,{"$f":"IFERROR(VLOOKUP($W17,Liste!$S$7:$V$103,COLUMN()-18,0),\"\")","v":"T12"},{"$f":"IFERROR(VLOOKUP($W17,Liste!$S$7:$V$103,COLUMN()-18,0),\"\")","v":"P12"},{"$f":"IFERROR(VLOOKUP($W17,Liste!$S$7:$V$103,COLUMN()-18,0),\"\")","v":""},{"$f":"Liste!AZ44","v":12}]
[{"$f":"Liste!AX21","v":20},{"$f":"IFERROR(VLOOKUP($A18,Liste!$S$7:$V$103,COLUMN(),0),\"\")","v":"T20"},{"$f":"IFERROR(VLOOKUP($A18,Liste!$S$7:$V$103,COLUMN(),0),\"\")","v":"P20"},{"$f":"IFERROR(VLOOKUP($A18,Liste!$S$7:$V$103,COLUMN(),0),\"\")","v":""},13,null,6,{"$f":"IFERROR(VLOOKUP($K18,Liste!$S$7:$V$103,COLUMN()-6,0),\"\")","v":"T24"},{"$f":"IFERROR(VLOOKUP($K18,Liste!$S$7:$V$103,COLUMN()-6,0),\"\")","v":"P24"},{"$f":"IFERROR(VLOOKUP($K18,Liste!$S$7:$V$103,COLUMN()-6,0),\"\")","v":""},{"$f":"Liste!AZ21","v":24},null,{"$f":"Liste!AX45","v":22},{"$f":"IFERROR(VLOOKUP($M18,Liste!$S$7:$V$103,COLUMN()-12,0),\"\")","v":"T22"},{"$f":"IFERROR(VLOOKUP($M18,Liste!$S$7:$V$103,COLUMN()-12,0),\"\")","v":"P22"},{"$f":"IFERROR(VLOOKUP($M18,Liste!$S$7:$V$103,COLUMN()-12,0),\"\")","v":""},13,null,9,{"$f":"IFERROR(VLOOKUP($W18,Liste!$S$7:$V$103,COLUMN()-18,0),\"\")","v":"T18"},{"$f":"IFERROR(VLOOKUP($W18,Liste!$S$7:$V$103,COLUMN()-18,0),\"\")","v":"P18"},{"$f":"IFERROR(VLOOKUP($W18,Liste!$S$7:$V$103,COLUMN()-18,0),\"\")","v":""},{"$f":"Liste!AZ45","v":18}]
[{"$f":"Liste!AX22","v":26},{"$f":"IFERROR(VLOOKUP($A19,Liste!$S$7:$V$103,COLUMN(),0),\"\")","v":"T26"},{"$f":"IFERROR(VLOOKUP($A19,Liste!$S$7:$V$103,COLUMN(),0),\"\")","v":"P26"},{"$f":"IFERROR(VLOOKUP($A19,Liste!$S$7:$V$103,COLUMN(),0),\"\")","v":""},13,null,6,{"$f":"IFERROR(VLOOKUP($K19,Liste!$S$7:$V$103,COLUMN()-6,0),\"\")","v":"T32"},{"$f":"IFERROR(VLOOKUP($K19,Liste!$S$7:$V$103,COLUMN()-6,0),\"\")","v":"P32"},{"$f":"IFERROR(VLOOKUP($K19,Liste!$S$7:$V$103,COLUMN()-6,0),\"\")","v":""},{"$f":"Liste!AZ22","v":32},null,{"$f":"Liste!AX46","v":30},{"$f":"IFERROR(VLOOKUP($M19,Liste!$S$7:$V$103,COLUMN()-12,0),\"\")","v":"T30"},{"$f":"IFERROR(VLOOKUP($M19,Liste!$S$7:$V$103,COLUMN()-12,0),\"\")","v":"P30"},{"$f":"IFERROR(VLOOKUP($M19,Liste!$S$7:$V$103,COLUMN()-12,0),\"\")","v":""},11,null,13,{"$f":"IFERROR(VLOOKUP($W19,Liste!$S$7:$V$103,COLUMN()-18,0),\"\")","v":"T28"},{"$f":"IFERROR(VLOOKUP($W19,Liste!$S$7:$V$103,COLUMN()-18,0),\"\")","v":"P28"},{"$f":"IFERROR(VLOOKUP($W19,Liste!$S$7:$V$103,COLUMN()-18,0),\"\")","v":""},{"$f":"Liste!AZ46","v":28}]
["Equipes ",null,null,null,"PTS     EQ 1",null,"PTS     EQ 2","Equipes ",null,null,null,null,"Equipes ",null,null,null,"PTS     EQ 1",null,"PTS     EQ 2","Equipes "]
[{"$f":"Liste!AX23","v":33},{"$f":"IFERROR(VLOOKUP($A21,Liste!$S$7:$V$103,COLUMN(),0),\"\")","v":"T33"},{"$f":"IFERROR(VLOOKUP($A21,Liste!$S$7:$V$103,COLUMN(),0),\"\")","v":"P33"},{"$f":"IFERROR(VLOOKUP($A21,Liste!$S$7:$V$103,COLUMN(),0),\"\")","v":""},12,null,13,{"$f":"IFERROR(VLOOKUP($K21,Liste!$S$7:$V$103,COLUMN()-6,0),\"\")","v":"T38"},{"$f":"IFERROR(VLOOKUP($K21,Liste!$S$7:$V$103,COLUMN()-6,0),\"\")","v":"P38"},{"$f":"IFERROR(VLOOKUP($K21,Liste!$S$7:$V$103,COLUMN()-6,0),\"\")","v":""},{"$f":"Liste!AZ23","v":38},null,{"$f":"Liste!AX47","v":40},{"$f":"IFERROR(VLOOKUP($M21,Liste!$S$7:$V$103,COLUMN()-12,0),\"\")","v":"T40"},{"$f":"IFERROR(VLOOKUP($M21,Liste!$S$7:$V$103,COLUMN()-12,0),\"\")","v":"P40"},{"$f":"IFERROR(VLOOKUP($M21,Liste!$S$7:$V$103,COLUMN()-12,0),\"\")","v":""},13,null,12,{"$f":"IFERROR(VLOOKUP($W21,Liste!$S$7:$V$103,COLUMN()-18,0),\"\")","v":"T35"},{"$f":"IFERROR(VLOOKUP($W21,Liste!$S$7:$V$103,COLUMN()-18,0),\"\")","v":"P35"},{"$f":"IFERROR(VLOOKUP($W21,Liste!$S$7:$V$103,COLUMN()-18,0),\"\")","v":""},{"$f":"Liste!AZ47","v":35}]
[{"$f":"Liste!AX24","v":43},{"$f":"IFERROR(VLOOKUP($A22,Liste!$S$7:$V$103,COLUMN(),0),\"\")","v":"T43"},{"$f":"IFERROR(VLOOKUP($A22,Liste!$S$7:$V$103,COLUMN(),0),\"\")","v":"P43"},{"$f":"IFERROR(VLOOKUP($A22,Liste!$S$7:$V$103,COLUMN(),0),\"\")","v":""},2,null,13,{"$f":"IFERROR(VLOOKUP($K22,Liste!$S$7:$V$103,COLUMN()-6,0),\"\")","v":"T47"},{"$f":"IFERROR(VLOOKUP($K22,Liste!$S$7:$V$103,COLUMN()-6,0),\"\")","v":"P47"},{"$f":"IFERROR(VLOOKUP($K22,Liste!$S$7:$V$103,COLUMN()-6,0),\"\")","v":""},{"$f":"Liste!AZ24","v":47},null,{"$f":"Liste!AX48","v":46},{"$f":"IFERROR(VLOOKUP($M22,Liste!$S$7:$V$103,COLUMN()-12,0),\"\")","v":"T46"},{"$f":"IFERROR(VLOOKUP($M22,Liste!$S$7:$V$103,COLUMN()-12,0),\"\")","v":"P46"},{"$f":"IFERROR(VLOOKUP($M22,Liste!$S$7:$V$103,COLUMN()-12,0),\"\")","v":""},13,null,2,{"$f":"IFERROR(VLOOKUP($W22,Liste!$S$7:$V$103,COLUMN()-18,0),\"\")","v":"T41"},{"$f":"IFERROR(VLOOKUP($W22,Liste!$S$7:$V$103,COLUMN()-18,0),\"\")","v":"P41"},{"$f":"IFERROR(VLOOKUP($W22,Liste!$S$7:$V$103,COLUMN()-18,0),\"\")","v":""},{"$f":"Liste!AZ48","v":41}]
[{"$f":"Liste!AX25","v":50},{"$f":"IFERROR(VLOOKUP($A23,Liste!$S$7:$V$103,COLUMN(),0),\"\")","v":"T50"},{"$f":"IFERROR(VLOOKUP($A23,Liste!$S$7:$V$103,COLUMN(),0),\"\")","v":"P50"},{"$f":"IFERROR(VLOOKUP($A23,Liste!$S$7:$V$103,COLUMN(),0),\"\")","v":""},13,null,4,{"$f":"IFERROR(VLOOKUP($K23,Liste!$S$7:$V$103,COLUMN()-6,0),\"\")","v":"T53"},{"$f":"IFERROR(VLOOKUP($K23,Liste!$S$7:$V$103,COLUMN()-6,0),\"\")","v":"P53"},{"$f":"IFERROR(VLOOKUP($K23,Liste!$S$7:$V$103,COLUMN()-6,0),\"\")","v":""},{"$f":"Liste!AZ25","v":53},null,{"$f":"Liste!AX49","v":55},{"$f":"IFERROR(VLOOKUP($M23,Liste!$S$7:$V$103,COLUMN()-12,0),\"\")","v":"T55"},{"$f":"IFERROR(VLOOKUP($M23,Liste!$S$7:$V$103,COLUMN()-12,0),\"\")","v":"P55"},{"$f":"IFERROR(VLOOKUP($M23,Liste!$S$7:$V$103,COLUMN()-12,0),\"\")","v":""},4,null,13,{"$f":"IFERROR(VLOOKUP($W23,Liste!$S$7:$V$103,COLUMN()-18,0),\"\")","v":"T52"},{"$f":"IFERROR(VLOOKUP($W23,Liste!$S$7:$V$103,COLUMN()-18,0),\"\")","v":"P52"},{"$f":"IFERROR(VLOOKUP($W23,Liste!$S$7:$V$103,COLUMN()-18,0),\"\")","v":""},{"$f":"Liste!AZ49","v":52}]
[{"$f":"Liste!AX26","v":60},{"$f":"IFERROR(VLOOKUP($A24,Liste!$S$7:$V$103,COLUMN(),0),\"\")","v":"T60"},{"$f":"IFERROR(VLOOKUP($A24,Liste!$S$7:$V$103,COLUMN(),0),\"\")","v":"P60"},{"$f":"IFERROR(VLOOKUP($A24,Liste!$S$7:$V$103,COLUMN(),0),\"\")","v":""},13,null,10,{"$f":"IFERROR(VLOOKUP($K24,Liste!$S$7:$V$103,COLUMN()-6,0),\"\")","v":"T61"},{"$f":"IFERROR(VLOOKUP($K24,Liste!$S$7:$V$103,COLUMN()-6,0),\"\")","v":"P61"},{"$f":"IFERROR(VLOOKUP($K24,Liste!$S$7:$V$103,COLUMN()-6,0),\"\")","v":""},{"$f":"Liste!AZ26","v":61},null,{"$f":"Liste!AX50","v":64},{"$f":"IFERROR(VLOOKUP($M24,Liste!$S$7:$V$103,COLUMN()-12,0),\"\")","v":"T64"},{"$f":"IFERROR(VLOOKUP($M24,Liste!$S$7:$V$103,COLUMN()-12,0),\"\")","v":"P64"},{"$f":"IFERROR(VLOOKUP($M24,Liste!$S$7:$V$103,COLUMN()-12,0),\"\")","v":""},10,null,13,{"$f":"IFERROR(VLOOKUP($W24,Liste!$S$7:$V$103,COLUMN()-18,0),\"\")","v":"T58"},{"$f":"IFERROR(VLOOKUP($W24,Liste!$S$7:$V$103,COLUMN()-18,0),\"\")","v":"P58"},{"$f":"IFERROR(VLOOKUP($W24,Liste!$S$7:$V$103,COLUMN()-18,0),\"\")","v":""},{"$f":"Liste!AZ50","v":58}]
[{"$f":"Liste!AX27","v":67},{"$f":"IFERROR(VLOOKUP($A25,Liste!$S$7:$V$103,COLUMN(),0),\"\")","v":"T67"},{"$f":"IFERROR(VLOOKUP($A25,Liste!$S$7:$V$103,COLUMN(),0),\"\")","v":"P67"},{"$f":"IFERROR(VLOOKUP($A25,Liste!$S$7:$V$103,COLUMN(),0),\"\")","v":0},7,null,13,{"$f":"IFERROR(VLOOKUP($K25,Liste!$S$7:$V$103,COLUMN()-6,0),\"\")","v":"T72"},{"$f":"IFERROR(VLOOKUP($K25,Liste!$S$7:$V$103,COLUMN()-6,0),\"\")","v":"P72"},{"$f":"IFERROR(VLOOKUP($K25,Liste!$S$7:$V$103,COLUMN()-6,0),\"\")","v":0},{"$f":"Liste!AZ27","v":72},null,{"$f":"Liste!AX51","v":70},{"$f":"IFERROR(VLOOKUP($M25,Liste!$S$7:$V$103,COLUMN()-12,0),\"\")","v":"T70"},{"$f":"IFERROR(VLOOKUP($M25,Liste!$S$7:$V$103,COLUMN()-12,0),\"\")","v":"P70"},{"$f":"IFERROR(VLOOKUP($M25,Liste!$S$7:$V$103,COLUMN()-12,0),\"\")","v":0},13,null,7,{"$f":"IFERROR(VLOOKUP($W25,Liste!$S$7:$V$103,COLUMN()-18,0),\"\")","v":"T65"},{"$f":"IFERROR(VLOOKUP($W25,Liste!$S$7:$V$103,COLUMN()-18,0),\"\")","v":"P65"},{"$f":"IFERROR(VLOOKUP($W25,Liste!$S$7:$V$103,COLUMN()-18,0),\"\")","v":0},{"$f":"Liste!AZ51","v":65}]
[{"$f":"Liste!AX28","v":73},{"$f":"IFERROR(VLOOKUP($A26,Liste!$S$7:$V$103,COLUMN(),0),\"\")","v":"T73"},{"$f":"IFERROR(VLOOKUP($A26,Liste!$S$7:$V$103,COLUMN(),0),\"\")","v":"P73"},{"$f":"IFERROR(VLOOKUP($A26,Liste!$S$7:$V$103,COLUMN(),0),\"\")","v":0},5,null,13,{"$f":"IFERROR(VLOOKUP($K26,Liste!$S$7:$V$103,COLUMN()-6,0),\"\")","v":"T78"},{"$f":"IFERROR(VLOOKUP($K26,Liste!$S$7:$V$103,COLUMN()-6,0),\"\")","v":"P78"},{"$f":"IFERROR(VLOOKUP($K26,Liste!$S$7:$V$103,COLUMN()-6,0),\"\")","v":0},{"$f":"Liste!AZ28","v":78},null,{"$f":"Liste!AX52","v":79},{"$f":"IFERROR(VLOOKUP($M26,Liste!$S$7:$V$103,COLUMN()-12,0),\"\")","v":"T79"},{"$f":"IFERROR(VLOOKUP($M26,Liste!$S$7:$V$103,COLUMN()-12,0),\"\")","v":"P79"},{"$f":"IFERROR(VLOOKUP($M26,Liste!$S$7:$V$103,COLUMN()-12,0),\"\")","v":0},13,null,5,{"$f":"IFERROR(VLOOKUP($W26,Liste!$S$7:$V$103,COLUMN()-18,0),\"\")","v":"T75"},{"$f":"IFERROR(VLOOKUP($W26,Liste!$S$7:$V$103,COLUMN()-18,0),\"\")","v":"P75"},{"$f":"IFERROR(VLOOKUP($W26,Liste!$S$7:$V$103,COLUMN()-18,0),\"\")","v":0},{"$f":"Liste!AZ52","v":75}]
[{"$f":"Liste!AX29","v":84},{"$f":"IFERROR(VLOOKUP($A27,Liste!$S$7:$V$103,COLUMN(),0),\"\")","v":"T84"},{"$f":"IFERROR(VLOOKUP($A27,Liste!$S$7:$V$103,COLUMN(),0),\"\")","v":"P84"},{"$f":"IFERROR(VLOOKUP($A27,Liste!$S$7:$V$103,COLUMN(),0),\"\")","v":0},13,null,9,{"$f":"IFERROR(VLOOKUP($K27,Liste!$S$7:$V$103,COLUMN()-6,0),\"\")","v":"T87"},{"$f":"IFERROR(VLOOKUP($K27,Liste!$S$7:$V$103,COLUMN()-6,0),\"\")","v":"P87"},{"$f":"IFERROR(VLOOKUP($K27,Liste!$S$7:$V$103,COLUMN()-6,0),\"\")","v":0},{"$f":"Liste!AZ29","v":87},null,{"$f":"Liste!AX53","v":85},{"$f":"IFERROR(VLOOKUP($M27,Liste!$S$7:$V$103,COLUMN()-12,0),\"\")","v":"T85"},{"$f":"IFERROR(VLOOKUP($M27,Liste!$S$7:$V$103,COLUMN()-12,0),\"\")","v":"P85"},{"$f":"IFERROR(VLOOKUP($M27,Liste!$S$7:$V$103,COLUMN()-12,0),\"\")","v":0},9,null,13,{"$f":"IFERROR(VLOOKUP($W27,Liste!$S$7:$V$103,COLUMN()-18,0),\"\")","v":"T82"},{"$f":"IFERROR(VLOOKUP($W27,Liste!$S$7:$V$103,COLUMN()-18,0),\"\")","v":"P82"},{"$f":"IFERROR(VLOOKUP($W27,Liste!$S$7:$V$103,COLUMN()-18,0),\"\")","v":0},{"$f":"Liste!AZ53","v":82}]
[{"$f":"Liste!AX30","v":90},{"$f":"IFERROR(VLOOKUP($A28,Liste!$S$7:$V$103,COLUMN(),0),\"\")","v":"T90"},{"$f":"IFERROR(VLOOKUP($A28,Liste!$S$7:$V$103,COLUMN(),0),\"\")","v":"P90"},{"$f":"IFERROR(VLOOKUP($A28,Liste!$S$7:$V$103,COLUMN(),0),\"\")","v":0},11,null,13,{"$f":"IFERROR(VLOOKUP($K28,Liste!$S$7:$V$103,COLUMN()-6,0),\"\")","v":"T96"},{"$f":"IFERROR(VLOOKUP($K28,Liste!$S$7:$V$103,COLUMN()-6,0),\"\")","v":"P96"},{"$f":"IFERROR(VLOOKUP($K28,Liste!$S$7:$V$103,COLUMN()-6,0),\"\")","v":0},{"$f":"Liste!AZ30","v":96},null,{"$f":"Liste!AX54","v":93},{"$f":"IFERROR(VLOOKUP($M28,Liste!$S$7:$V$103,COLUMN()-12,0),\"\")","v":"T93"},{"$f":"IFERROR(VLOOKUP($M28,Liste!$S$7:$V$103,COLUMN()-12,0),\"\")","v":"P93"},{"$f":"IFERROR(VLOOKUP($M28,Liste!$S$7:$V$103,COLUMN()-12,0),\"\")","v":0},13,null,11,{"$f":"IFERROR(VLOOKUP($W28,Liste!$S$7:$V$103,COLUMN()-18,0),\"\")","v":"T92"},{"$f":"IFERROR(VLOOKUP($W28,Liste!$S$7:$V$103,COLUMN()-18,0),\"\")","v":"P92"},{"$f":"IFERROR(VLOOKUP($W28,Liste!$S$7:$V$103,COLUMN()-18,0),\"\")","v":0},{"$f":"Liste!AZ54","v":92}]
[]
[]
[]
[null,{"$f":"B3","v":"T1"},{"$f":"E3","v":13},null,{"$f":"G3","v":6}]
[null,{"$f":"B4","v":"T9"},{"$f":"E4","v":13},null,{"$f":"G4","v":6}]
[null,"T17",13,null,6]
[null,"T25",13,null,6]
[null,"T34",13,null,6]
[null,"T42",13,null,6]
[null,"T49",13,null,6]
[null,"T57",13,null,6]
[null,{"$f":"B12","v":"T68"},{"$f":"E12","v":13},null,{"$f":"G12","v":6}]
[null,"T74",13,null,{"$f":"G13","v":6}]
[null,"T83",13,null,6]
[null,"T89",13,null,6]
[null,"T4",13,null,6]
[null,"T10",13,null,6]
[null,"T20",13,null,6]
[null,"T26",13,null,6]
[null,{"$f":"B21","v":"T33"},{"$f":"E21","v":12},null,{"$f":"G21","v":13}]
[null,"T43",2,null,{"$f":"G22","v":13}]
[null,"T50",13,null,4]
[null,"T60",13,null,10]
[null,"T67",7,null,13]
[null,"T73",5,null,13]
[null,"T84",13,null,9]
[null,"T90",11,null,13]
[null,{"$f":"H3","v":"T5"},{"$f":"G3","v":6},null,{"$f":"E3","v":13}]
[null,{"$f":"H4","v":"T13"},{"$f":"G4","v":6},null,{"$f":"E4","v":13}]
[null,"T21",6,null,13]
[null,"T29",6,null,13]
[null,"T37",6,null,13]
[null,"T45",6,null,13]
[null,"T54",6,null,13]
[null,"T62",6,null,13]
[null,{"$f":"H12","v":"T71"},{"$f":"G12","v":6},null,{"$f":"E12","v":13}]
[null,"T77",6,null,{"$f":"E13","v":13}]
[null,"T88",6,null,13]
[null,"T95",6,null,13]
[null,"T8",6,null,13]
[null,"T14",6,null,13]
[null,"T24",6,null,13]
[null,"T32",6,null,13]
[null,{"$f":"H21","v":"T38"},{"$f":"G21","v":13},null,{"$f":"E21","v":12}]
[null,"T47",13,null,{"$f":"E22","v":2}]
[null,"T53",4,null,13]
[null,"T61",10,null,13]
[null,"T72",13,null,7]
[null,"T78",13,null,5]
[null,"T87",9,null,13]
[null,{"$f":"H28","v":"T96"},{"$f":"G28","v":13},null,11]
[null,{"$f":"N3","v":"T7"},{"$f":"Q3","v":13},null,{"$f":"S3","v":12}]
[null,{"$f":"N4","v":"T15"},{"$f":"Q4","v":13},null,{"$f":"S4","v":2}]
[null,"T23",4,null,13]
[null,"T31",10,null,13]
[null,"T39",13,null,7]
[null,"T48",13,null,5]
[null,"T56",9,null,13]
[null,"T63",13,null,11]
[null,{"$f":"N12","v":"T69"},{"$f":"Q12","v":12},null,{"$f":"S12","v":13}]
[null,"T80",2,null,{"$f":"S13","v":13}]
[null,"T86",13,null,4]
[null,"T94",13,null,10]
[null,"T6",7,null,13]
[null,"T16",5,null,13]
[null,"T22",13,null,9]
[null,"T30",11,null,13]
[null,{"$f":"N21","v":"T40"},{"$f":"Q21","v":13},null,{"$f":"S21","v":12}]
[null,"T46",13,null,{"$f":"S22","v":2}]
[null,"T55",4,null,13]
[null,"T64",10,null,13]
[null,"T70",13,null,7]
[null,"T79",13,null,5]
[null,"T85",9,null,13]
[null,"T93",13,null,11]
[null,{"$f":"T3","v":"T3"},{"$f":"S3","v":12},null,{"$f":"Q3","v":13}]
[null,{"$f":"T4","v":"T11"},{"$f":"S4","v":2},null,13]
[null,"T19",13,null,4]
[null,"T27",13,null,10]
[null,"T36",7,null,13]
[null,"T44",5,null,13]
[null,"T51",13,null,9]
[null,"T59",11,null,13]
[null,{"$f":"T12","v":"T66"},{"$f":"S12","v":13},null,{"$f":"Q12","v":12}]
[null,"T76",13,null,2]
[null,"T81",4,null,13]
[null,"T91",10,null,13]
[null,"T2",13,null,7]
[null,"T12",13,null,5]
[null,"T18",9,null,13]
[null,"T28",13,null,11]
[null,{"$f":"T21","v":"T35"},{"$f":"S21","v":12},null,{"$f":"Q21","v":13}]
[null,"T41",2,null,13]
[null,"T52",13,null,4]
[null,"T58",13,null,10]
[null,"T65",7,null,13]
[null,"T75",5,null,13]
[null,"T82",13,null,9]
[null,{"$f":"T28","v":"T92"},{"$f":"S28","v":11},null,13]
[null,{"$f":"C3","v":"P1"},{"$f":"E3","v":13},null,{"$f":"E32","v":6}]
[null,{"$f":"C4","v":"P9"},{"$f":"E4","v":13},null,{"$f":"E33","v":6}]
[null,"P17",13,null,6]
[null,"P25",13,null,6]
[null,"P34",13,null,6]
[null,"P42",13,null,6]
[null,"P49",13,null,6]
[null,"P57",13,null,6]
[null,{"$f":"C12","v":"P68"},{"$f":"E12","v":13},null,6]
[null,"P74",13,null,6]
[null,"P83",13,null,6]
[null,"P89",13,null,6]
[null,"P4",13,null,6]
[null,"P10",13,null,6]
[null,"P20",13,null,6]
[null,"P26",13,null,6]
[null,{"$f":"C21","v":"P33"},{"$f":"E21","v":12},null,13]
[null,"P43",2,null,13]
[null,"P50",13,null,4]
[null,"P60",13,null,10]
[null,"P67",7,null,13]
[null,"P73",5,null,13]
[null,"P84",13,null,9]
[null,"P90",11,null,13]
[null,{"$f":"I3","v":"P5"},{"$f":"G3","v":6},null,13]
[null,{"$f":"I4","v":"P13"},{"$f":"G4","v":6},null,13]
[null,"P21",6,null,13]
[null,"P29",6,null,13]
[null,"P37",6,null,13]
[null,"P45",6,null,13]
[null,"P54",6,null,13]
[null,"P62",6,null,13]
[null,{"$f":"I12","v":"P71"},{"$f":"G12","v":6},null,13]
[null,"P77",6,null,13]
[null,"P88",6,null,13]
[null,"P95",6,null,13]
[null,"P8",6,null,13]
[null,"P14",6,null,13]
[null,"P24",6,null,13]
[null,"P32",6,null,13]
[null,{"$f":"I21","v":"P38"},{"$f":"G21","v":13},null,12]
[null,"P47",13,null,2]
[null,"P53",4,null,13]
[null,"P61",10,null,13]
[null,"P72",13,null,7]
[null,"P78",13,null,5]
[null,"P87",9,null,13]
[null,"P96",13,null,11]
[null,{"$f":"O3","v":"P7"},{"$f":"Q3","v":13},null,12]
[null,{"$f":"O4","v":"P15"},{"$f":"Q4","v":13},null,2]
[null,"P23",4,null,13]
[null,"P31",10,null,13]
[null,"P39",13,null,7]
[null,"P48",13,null,5]
[null,"P56",9,null,13]
[null,"P63",13,null,11]
[null,{"$f":"O12","v":"P69"},{"$f":"Q12","v":12},null,{"$f":"E87","v":11}]
[null,"P80",2,null,{"$f":"E88","v":13}]
[null,"P86",13,null,4]
[null,"P94",13,null,10]
[null,"P6",7,null,13]
[null,"P16",5,null,13]
[null,"P22",13,null,9]
[null,"P30",11,null,13]
[null,{"$f":"O21","v":"P40"},{"$f":"Q21","v":13},null,12]
[null,"P46",13,null,{"$f":"E97","v":2}]
[null,"P55",4,null,13]
[null,"P64",10,null,13]
[null,"P70",13,null,7]
[null,"P79",13,null,5]
[null,"P85",9,null,13]
[null,"P93",13,null,11]
[null,{"$f":"U3","v":"P3"},{"$f":"S3","v":12},null,13]
[null,{"$f":"U4","v":"P11"},{"$f":"S4","v":2},null,13]
[null,"P19",13,null,4]
[null,"P27",13,null,10]
[null,"P36",7,null,13]
[null,"P44",5,null,13]
[null,"P51",13,null,9]
[null,"P59",11,null,13]
[null,{"$f":"U12","v":"P66"},{"$f":"S12","v":13},null,12]
[null,"P76",13,null,2]
[null,"P81",4,null,13]
[null,"P91",10,null,13]
[null,"P2",13,null,7]
[null,"P12",13,null,5]
[null,"P18",9,null,13]
[null,"P28",13,null,11]
[null,{"$f":"U21","v":"P35"},{"$f":"S21","v":12},null,13]
[null,"P41",2,null,13]
[null,"P52",13,null,4]
[null,"P58",13,null,10]
[null,"P65",7,null,13]
[null,"P75",5,null,13]
[null,"P82",13,null,9]
[null,"P92",11,null,13]

{"sheet":"Partie 4","index":4,"n_rows":223,"n_cols":23,"rows_kept":223,"cut":false,"hidden":false,"merged":[[19,0,19,3],[19,7,19,10],[19,12,19,15],[19,19,19,22],[0,0,0,22],[1,0,1,3],[1,7,1,10],[1,12,1,15],[1,19,1,22],[10,0,10,3],[10,7,10,10],[10,12,10,15],[10,19,10,22]]}
["DOUBLETTES "]
["Equipes ",null,null,null,"PTS     EQ 1",null,"PTS     EQ 2","Equipes ",null,null,null,null,"Equipes ",null,null,null,"PTS     EQ 1",null,"PTS     EQ 2","Equipes "]
[{"$f":"Liste!BE7","v":1},{"$f":"IFERROR(VLOOKUP($A3,Liste!$S$7:$V$103,COLUMN(),0),\"\")","v":"T1"},{"$f":"IFERROR(VLOOKUP($A3,Liste!$S$7:$V$103,COLUMN(),0),\"\")","v":"P1"},{"$f":"IFERROR(VLOOKUP($A3,Liste!$S$7:$V$103,COLUMN(),0),\"\")","v":""},13,null,6,{"$f":"IFERROR(VLOOKUP($K3,Liste!$S$7:$V$103,COLUMN()-6,0),\"\")","v":"T9"},{"$f":"IFERROR(VLOOKUP($K3,Liste!$S$7:$V$103,COLUMN()-6,0),\"\")","v":"P9"},{"$f":"IFERROR(VLOOKUP($K3,Liste!$S$7:$V$103,COLUMN()-6,0),\"\")","v":""},{"$f":"Liste!BG7","v":9},null,{"$f":"Liste!BE31","v":13},{"$f":"IFERROR(VLOOKUP($M3,Liste!$S$7:$V$103,COLUMN()-12,0),\"\")","v":"T13"},{"$f":"IFERROR(VLOOKUP($M3,Liste!$S$7:$V$103,COLUMN()-12,0),\"\")","v":"P13"},{"$f":"IFERROR(VLOOKUP($M3,Liste!$S$7:$V$103,COLUMN()-12,0),\"\")","v":""},13,null,12,{"$f":"IFERROR(VLOOKUP($W3,Liste!$S$7:$V$103,COLUMN()-18,0),\"\")","v":"T5"},{"$f":"IFERROR(VLOOKUP($W3,Liste!$S$7:$V$103,COLUMN()-18,0),\"\")","v":"P5"},{"$f":"IFERROR(VLOOKUP($W3,Liste!$S$7:$V$103,COLUMN()-18,0),\"\")","v":""},{"$f":"Liste!BG31","v":5}]
[{"$f":"Liste!BE8","v":17},{"$f":"IFERROR(VLOOKUP($A4,Liste!$S$7:$V$103,COLUMN(),0),\"\")","v":"T17"},{"$f":"IFERROR(VLOOKUP($A4,Liste!$S$7:$V$103,COLUMN(),0),\"\")","v":"P17"},{"$f":"IFERROR(VLOOKUP($A4,Liste!$S$7:$V$103,COLUMN(),0),\"\")","v":""},13,null,6,{"$f":"IFERROR(VLOOKUP($K4,Liste!$S$7:$V$103,COLUMN()-6,0),\"\")","v":"T25"},{"$f":"IFERROR(VLOOKUP($K4,Liste!$S$7:$V$103,COLUMN()-6,0),\"\")","v":"P25"},{"$f":"IFERROR(VLOOKUP($K4,Liste!$S$7:$V$103,COLUMN()-6,0),\"\")","v":""},{"$f":"Liste!BG8","v":25},null,{"$f":"Liste!BE32","v":29},{"$f":"IFERROR(VLOOKUP($M4,Liste!$S$7:$V$103,COLUMN()-12,0),\"\")","v":"T29"},{"$f":"IFERROR(VLOOKUP($M4,Liste!$S$7:$V$103,COLUMN()-12,0),\"\")","v":"P29"},{"$f":"IFERROR(VLOOKUP($M4,Liste!$S$7:$V$103,COLUMN()-12,0),\"\")","v":""},13,null,2,{"$f":"IFERROR(VLOOKUP($W4,Liste!$S$7:$V$103,COLUMN()-18,0),\"\")","v":"T21"},{"$f":"IFERROR(VLOOKUP($W4,Liste!$S$7:$V$103,COLUMN()-18,0),\"\")","v":"P21"},{"$f":"IFERROR(VLOOKUP($W4,Liste!$S$7:$V$103,COLUMN()-18,0),\"\")","v":""},{"$f":"Liste!BG32","v":21}]
[{"$f":"Liste!BE9","v":34},{"$f":"IFERROR(VLOOKUP($A5,Liste!$S$7:$V$103,COLUMN(),0),\"\")","v":"T34"},{"$f":"IFERROR(VLOOKUP($A5,Liste!$S$7:$V$103,COLUMN(),0),\"\")","v":"P34"},{"$f":"IFERROR(VLOOKUP($A5,Liste!$S$7:$V$103,COLUMN(),0),\"\")","v":""},13,null,6,{"$f":"IFERROR(VLOOKUP($K5,Liste!$S$7:$V$103,COLUMN()-6,0),\"\")","v":"T42"},{"$f":"IFERROR(VLOOKUP($K5,Liste!$S$7:$V$103,COLUMN()-6,0),\"\")","v":"P42"},{"$f":"IFERROR(VLOOKUP($K5,Liste!$S$7:$V$103,COLUMN()-6,0),\"\")","v":""},{"$f":"Liste!BG9","v":42},null,{"$f":"Liste!BE33","v":45},{"$f":"IFERROR(VLOOKUP($M5,Liste!$S$7:$V$103,COLUMN()-12,0),\"\")","v":"T45"},{"$f":"IFERROR(VLOOKUP($M5,Liste!$S$7:$V$103,COLUMN()-12,0),\"\")","v":"P45"},{"$f":"IFERROR(VLOOKUP($M5,Liste!$S$7:$V$103,COLUMN()-12,0),\"\")","v":""},4,null,13,{"$f":"IFERROR(VLOOKUP($W5,Liste!$S$7:$V$103,COLUMN()-18,0),\"\")","v":"T37"},{"$f":"IFERROR(VLOOKUP($W5,Liste!$S$7:$V$103,COLUMN()-18,0),\"\")","v":"P37"},{"$f":"IFERROR(VLOOKUP($W5,Liste!$S$7:$V$103,COLUMN()-18,0),\"\")","v":""},{"$f":"Liste!BG33","v":37}]
[{"$f":"Liste!BE10","v":49},{"$f":"IFERROR(VLOOKUP($A6,Liste!$S$7:$V$103,COLUMN(),0),\"\")","v":"T49"},{"$f":"IFERROR(VLOOKUP($A6,Liste!$S$7:$V$103,COLUMN(),0),\"\")","v":"P49"},{"$f":"IFERROR(VLOOKUP($A6,Liste!$S$7:$V$103,COLUMN(),0),\"\")","v":""},13,null,6,{"$f":"IFERROR(VLOOKUP($K6,Liste!$S$7:$V$103,COLUMN()-6,0),\"\")","v":"T57"},{"$f":"IFERROR(VLOOKUP($K6,Liste!$S$7:$V$103,COLUMN()-6,0),\"\")","v":"P57"},{"$f":"IFERROR(VLOOKUP($K6,Liste!$S$7:$V$103,COLUMN()-6,0),\"\")","v":""},{"$f":"Liste!BG10","v":57},null,{"$f":"Liste!BE34","v":62},{"$f":"IFERROR(VLOOKUP($M6,Liste!$S$7:$V$103,COLUMN()-12,0),\"\")","v":"T62"},{"$f":"IFERROR(VLOOKUP($M6,Liste!$S$7:$V$103,COLUMN()-12,0),\"\")","v":"P62"},{"$f":"IFERROR(VLOOKUP($M6,Liste!$S$7:$V$103,COLUMN()-12,0),\"\")","v":""},10,null,13,{"$f":"IFERROR(VLOOKUP($W6,Liste!$S$7:$V$103,COLUMN()-18,0),\"\")","v":"T54"},{"$f":"IFERROR(VLOOKUP($W6,Liste!$S$7:$V$103,COLUMN()-18,0),\"\")","v":"P54"},{"$f":"IFERROR(VLOOKUP($W6,Liste!$S$7:$V$103,COLUMN()-18,0),\"\")","v":""},{"$f":"Liste!BG34","v":54}]
[{"$f":"Liste!BE11","v":68},{"$f":"IFERROR(VLOOKUP($A7,Liste!$S$7:$V$103,COLUMN(),0),\"\")","v":"T68"},{"$f":"IFERROR(VLOOKUP($A7,Liste!$S$7:$V$103,COLUMN(),0),\"\")","v":"P68"},{"$f":"IFERROR(VLOOKUP($A7,Liste!$S$7:$V$103,COLUMN(),0),\"\")","v":0},13,null,6,{"$f":"IFERROR(VLOOKUP($K7,Liste!$S$7:$V$103,COLUMN()-6,0),\"\")","v":"T74"},{"$f":"IFERROR(VLOOKUP($K7,Liste!$S$7:$V$103,COLUMN()-6,0),\"\")","v":"P74"},{"$f":"IFERROR(VLOOKUP($K7,Liste!$S$7:$V$103,COLUMN()-6,0),\"\")","v":0},{"$f":"Liste!BG11","v":74},null,{"$f":"Liste!BE35","v":77},{"$f":"IFERROR(VLOOKUP($M7,Liste!$S$7:$V$103,COLUMN()-12,0),\"\")","v":"T77"},{"$f":"IFERROR(VLOOKUP($M7,Liste!$S$7:$V$103,COLUMN()-12,0),\"\")","v":"P77"},{"$f":"IFERROR(VLOOKUP($M7,Liste!$S$7:$V$103,COLUMN()-12,0),\"\")","v":0},13,null,7,{"$f":"IFERROR(VLOOKUP($W7,Liste!$S$7:$V$103,COLUMN()-18,0),\"\")","v":"T71"},{"$f":"IFERROR(VLOOKUP($W7,Liste!$S$7:$V$103,COLUMN()-18,0),\"\")","v":"P71"},{"$f":"IFERROR(VLOOKUP($W7,Liste!$S$7:$V$103,COLUMN()-18,0),\"\")","v":0},{"$f":"Liste!BG35","v":71}]
[{"$f":"Liste!BE12","v":83},{"$f":"IFERROR(VLOOKUP($A8,Liste!$S$7:$V$103,COLUMN(),0),\"\")","v":"T83"},{"$f":"IFERROR(VLOOKUP($A8,Liste!$S$7:$V$103,COLUMN(),0),\"\")","v":"P83"},{"$f":"IFERROR(VLOOKUP($A8,Liste!$S$7:$V$103,COLUMN(),0),\"\")","v":0},13,null,6,{"$f":"IFERROR(VLOOKUP($K8,Liste!$S$7:$V$103,COLUMN()-6,0),\"\")","v":"T89"},{"$f":"IFERROR(VLOOKUP($K8,Liste!$S$7:$V$103,COLUMN()-6,0),\"\")","v":"P89"},{"$f":"IFERROR(VLOOKUP($K8,Liste!$S$7:$V$103,COLUMN()-6,0),\"\")","v":0},{"$f":"Liste!BG12","v":89},null,{"$f":"Liste!BE36","v":95},{"$f":"IFERROR(VLOOKUP($M8,Liste!$S$7:$V$103,COLUMN()-12,0),\"\")","v":"T95"},{"$f":"IFERROR(VLOOKUP($M8,Liste!$S$7:$V$103,COLUMN()-12,0),\"\")","v":"P95"},{"$f":"IFERROR(VLOOKUP($M8,Liste!$S$7:$V$103,COLUMN()-12,0),\"\")","v":0},13,null,5,{"$f":"IFERROR(VLOOKUP($W8,Liste!$S$7:$V$103,COLUMN()-18,0),\"\")","v":"T88"},{"$f":"IFERROR(VLOOKUP($W8,Liste!$S$7:$V$103,COLUMN()-18,0),\"\")","v":"P88"},{"$f":"IFERROR(VLOOKUP($W8,Liste!$S$7:$V$103,COLUMN()-18,0),\"\")","v":0},{"$f":"Liste!BG36","v":88}]
[{"$f":"Liste!BE13","v":4},{"$f":"IFERROR(VLOOKUP($A9,Liste!$S$7:$V$103,COLUMN(),0),\"\")","v":"T4"},{"$f":"IFERROR(VLOOKUP($A9,Liste!$S$7:$V$103,COLUMN(),0),\"\")","v":"P4"},{"$f":"IFERROR(VLOOKUP($A9,Liste!$S$7:$V$103,COLUMN(),0),\"\")","v":""},13,null,6,{"$f":"IFERROR(VLOOKUP($K9,Liste!$S$7:$V$103,COLUMN()-6,0),\"\")","v":"T10"},{"$f":"IFERROR(VLOOKUP($K9,Liste!$S$7:$V$103,COLUMN()-6,0),\"\")","v":"P10"},{"$f":"IFERROR(VLOOKUP($K9,Liste!$S$7:$V$103,COLUMN()-6,0),\"\")","v":""},{"$f":"Liste!BG13","v":10},null,{"$f":"Liste!BE37","v":14},{"$f":"IFERROR(VLOOKUP($M9,Liste!$S$7:$V$103,COLUMN()-12,0),\"\")","v":"T14"},{"$f":"IFERROR(VLOOKUP($M9,Liste!$S$7:$V$103,COLUMN()-12,0),\"\")","v":"P14"},{"$f":"IFERROR(VLOOKUP($M9,Liste!$S$7:$V$103,COLUMN()-12,0),\"\")","v":""},9,null,13,{"$f":"IFERROR(VLOOKUP($W9,Liste!$S$7:$V$103,COLUMN()-18,0),\"\")","v":"T8"},{"$f":"IFERROR(VLOOKUP($W9,Liste!$S$7:$V$103,COLUMN()-18,0),\"\")","v":"P8"},{"$f":"IFERROR(VLOOKUP($W9,Liste!$S$7:$V$103,COLUMN()-18,0),\"\")","v":""},{"$f":"Liste!BG37","v":8}]
[{"$f":"Liste!BE14","v":20},{"$f":"IFERROR(VLOOKUP($A10,Liste!$S$7:$V$103,COLUMN(),0),\"\")","v":"T20"},{"$f":"IFERROR(VLOOKUP($A10,Liste!$S$7:$V$103,COLUMN(),0),\"\")","v":"P20"},{"$f":"IFERROR(VLOOKUP($A10,Liste!$S$7:$V$103,COLUMN(),0),\"\")","v":""},13,null,6,{"$f":"IFERROR(VLOOKUP($K10,Liste!$S$7:$V$103,COLUMN()-6,0),\"\")","v":"T26"},{"$f":"IFERROR(VLOOKUP($K10,Liste!$S$7:$V$103,COLUMN()-6,0),\"\")","v":"P26"},{"$f":"IFERROR(VLOOKUP($K10,Liste!$S$7:$V$103,COLUMN()-6,0),\"\")","v":""},{"$f":"Liste!BG14","v":26},null,{"$f":"Liste!BE38","v":32},{"$f":"IFERROR(VLOOKUP($M10,Liste!$S$7:$V$103,COLUMN()-12,0),\"\")","v":"T32"},{"$f":"IFERROR(VLOOKUP($M10,Liste!$S$7:$V$103,COLUMN()-12,0),\"\")","v":"P32"},{"$f":"IFERROR(VLOOKUP($M10,Liste!$S$7:$V$103,COLUMN()-12,0),\"\")","v":""},13,null,11,{"$f":"IFERROR(VLOOKUP($W10,Liste!$S$7:$V$103,COLUMN()-18,0),\"\")","v":"T24"},{"$f":"IFERROR(VLOOKUP($W10,Liste!$S$7:$V$103,COLUMN()-18,0),\"\")","v":"P24"},{"$f":"IFERROR(VLOOKUP($W10,Liste!$S$7:$V$103,COLUMN()-18,0),\"\")","v":""},{"$f":"Liste!BG38","v":24}]
["Equipes ",null,null,null,"PTS     EQ 1",null,"PTS     EQ 2","Equipes ",null,null,null,null,"Equipes ",null,null,null,"PTS     EQ 1",null,"PTS     EQ 2","Equipes "]
[{"$f":"Liste!BE15","v":38},{"$f":"IFERROR(VLOOKUP($A12,Liste!$S$7:$V$103,COLUMN(),0),\"\")","v":"T38"},{"$f":"IFERROR(VLOOKUP($A12,Liste!$S$7:$V$103,COLUMN(),0),\"\")","v":"P38"},{"$f":"IFERROR(VLOOKUP($A12,Liste!$S$7:$V$103,COLUMN(),0),\"\")","v":""},13,null,6,{"$f":"IFERROR(VLOOKUP($K12,Liste!$S$7:$V$103,COLUMN()-6,0),\"\")","v":"T47"},{"$f":"IFERROR(VLOOKUP($K12,Liste!$S$7:$V$103,COLUMN()-6,0),\"\")","v":"P47"},{"$f":"IFERROR(VLOOKUP($K12,Liste!$S$7:$V$103,COLUMN()-6,0),\"\")","v":""},{"$f":"Liste!BG15","v":47},null,{"$f":"Liste!BE39","v":43},{"$f":"IFERROR(VLOOKUP($M12,Liste!$S$7:$V$103,COLUMN()-12,0),\"\")","v":"T43"},{"$f":"IFERROR(VLOOKUP($M12,Liste!$S$7:$V$103,COLUMN()-12,0),\"\")","v":"P43"},{"$f":"IFERROR(VLOOKUP($M12,Liste!$S$7:$V$103,COLUMN()-12,0),\"\")","v":""},12,null,13,{"$f":"IFERROR(VLOOKUP($W12,Liste!$S$7:$V$103,COLUMN()-18,0),\"\")","v":"T33"},{"$f":"IFERROR(VLOOKUP($W12,Liste!$S$7:$V$103,COLUMN()-18,0),\"\")","v":"P33"},{"$f":"IFERROR(VLOOKUP($W12,Liste!$S$7:$V$103,COLUMN()-18,0),\"\")","v":""},{"$f":"Liste!BG39","v":33}]
[{"$f":"Liste!BE16","v":50},{"$f":"IFERROR(VLOOKUP($A13,Liste!$S$7:$V$103,COLUMN(),0),\"\")","v":"T50"},{"$f":"IFERROR(VLOOKUP($A13,Liste!$S$7:$V$103,COLUMN(),0),\"\")","v":"P50"},{"$f":"IFERROR(VLOOKUP($A13,Liste!$S$7:$V$103,COLUMN(),0),\"\")","v":""},13,null,6,{"$f":"IFERROR(VLOOKUP($K13,Liste!$S$7:$V$103,COLUMN()-6,0),\"\")","v":"T60"},{"$f":"IFERROR(VLOOKUP($K13,Liste!$S$7:$V$103,COLUMN()-6,0),\"\")","v":"P60"},{"$f":"IFERROR(VLOOKUP($K13,Liste!$S$7:$V$103,COLUMN()-6,0),\"\")","v":""},{"$f":"Liste!BG16","v":60},null,{"$f":"Liste!BE40","v":61},{"$f":"IFERROR(VLOOKUP($M13,Liste!$S$7:$V$103,COLUMN()-12,0),\"\")","v":"T61"},{"$f":"IFERROR(VLOOKUP($M13,Liste!$S$7:$V$103,COLUMN()-12,0),\"\")","v":"P61"},{"$f":"IFERROR(VLOOKUP($M13,Liste!$S$7:$V$103,COLUMN()-12,0),\"\")","v":""},2,null,13,{"$f":"IFERROR(VLOOKUP($W13,Liste!$S$7:$V$103,COLUMN()-18,0),\"\")","v":"T53"},{"$f":"IFERROR(VLOOKUP($W13,Liste!$S$7:$V$103,COLUMN()-18,0),\"\")","v":"P53"},{"$f":"IFERROR(VLOOKUP($W13,Liste!$S$7:$V$103,COLUMN()-18,0),\"\")","v":""},{"$f":"Liste!BG40","v":53}]
[{"$f":"Liste!BE17","v":72},{"$f":"IFERROR(VLOOKUP($A14,Liste!$S$7:$V$103,COLUMN(),0),\"\")","v":"T72"},{"$f":"IFERROR(VLOOKUP($A14,Liste!$S$7:$V$103,COLUMN(),0),\"\")","v":"P72"},{"$f":"IFERROR(VLOOKUP($A14,Liste!$S$7:$V$103,COLUMN(),0),\"\")","v":0},13,null,6,{"$f":"IFERROR(VLOOKUP($K14,Liste!$S$7:$V$103,COLUMN()-6,0),\"\")","v":"T78"},{"$f":"IFERROR(VLOOKUP($K14,Liste!$S$7:$V$103,COLUMN()-6,0),\"\")","v":"P78"},{"$f":"IFERROR(VLOOKUP($K14,Liste!$S$7:$V$103,COLUMN()-6,0),\"\")","v":0},{"$f":"Liste!BG17","v":78},null,{"$f":"Liste!BE41","v":73},{"$f":"IFERROR(VLOOKUP($M14,Liste!$S$7:$V$103,COLUMN()-12,0),\"\")","v":"T73"},{"$f":"IFERROR(VLOOKUP($M14,Liste!$S$7:$V$103,COLUMN()-12,0),\"\")","v":"P73"},{"$f":"IFERROR(VLOOKUP($M14,Liste!$S$7:$V$103,COLUMN()-12,0),\"\")","v":0},13,null,4,{"$f":"IFERROR(VLOOKUP($W14,Liste!$S$7:$V$103,COLUMN()-18,0),\"\")","v":"T67"},{"$f":"IFERROR(VLOOKUP($W14,Liste!$S$7:$V$103,COLUMN()-18,0),\"\")","v":"P67"},{"$f":"IFERROR(VLOOKUP($W14,Liste!$S$7:$V$103,COLUMN()-18,0),\"\")","v":0},{"$f":"Liste!BG41","v":67}]
[{"$f":"Liste!BE18","v":84},{"$f":"IFERROR(VLOOKUP($A15,Liste!$S$7:$V$103,COLUMN(),0),\"\")","v":"T84"},{"$f":"IFERROR(VLOOKUP($A15,Liste!$S$7:$V$103,COLUMN(),0),\"\")","v":"P84"},{"$f":"IFERROR(VLOOKUP($A15,Liste!$S$7:$V$103,COLUMN(),0),\"\")","v":0},13,null,6,{"$f":"IFERROR(VLOOKUP($K15,Liste!$S$7:$V$103,COLUMN()-6,0),\"\")","v":"T96"},{"$f":"IFERROR(VLOOKUP($K15,Liste!$S$7:$V$103,COLUMN()-6,0),\"\")","v":"P96"},{"$f":"IFERROR(VLOOKUP($K15,Liste!$S$7:$V$103,COLUMN()-6,0),\"\")","v":0},{"$f":"Liste!BG18","v":96},null,{"$f":"Liste!BE42","v":90},{"$f":"IFERROR(VLOOKUP($M15,Liste!$S$7:$V$103,COLUMN()-12,0),\"\")","v":"T90"},{"$f":"IFERROR(VLOOKUP($M15,Liste!$S$7:$V$103,COLUMN()-12,0),\"\")","v":"P90"},{"$f":"IFERROR(VLOOKUP($M15,Liste!$S$7:$V$103,COLUMN()-12,0),\"\")","v":0},13,null,10,{"$f":"IFERROR(VLOOKUP($W15,Liste!$S$7:$V$103,COLUMN()-18,0),\"\")","v":"T87"},{"$f":"IFERROR(VLOOKUP($W15,Liste!$S$7:$V$103,COLUMN()-18,0),\"\")","v":"P87"},{"$f":"IFERROR(VLOOKUP($W15,Liste!$S$7:$V$103,COLUMN()-18,0),\"\")","v":0},{"$f":"Liste!BG42","v":87}]
[{"$f":"Liste!BE19","v":7},{"$f":"IFERROR(VLOOKUP($A16,Liste!$S$7:$V$103,COLUMN(),0),\"\")","v":"T7"},{"$f":"IFERROR(VLOOKUP($A16,Liste!$S$7:$V$103,COLUMN(),0),\"\")","v":"P7"},{"$f":"IFERROR(VLOOKUP($A16,Liste!$S$7:$V$103,COLUMN(),0),\"\")","v":""},13,null,6,{"$f":"IFERROR(VLOOKUP($K16,Liste!$S$7:$V$103,COLUMN()-6,0),\"\")","v":"T15"},{"$f":"IFERROR(VLOOKUP($K16,Liste!$S$7:$V$103,COLUMN()-6,0),\"\")","v":"P15"},{"$f":"IFERROR(VLOOKUP($K16,Liste!$S$7:$V$103,COLUMN()-6,0),\"\")","v":""},{"$f":"Liste!BG19","v":15},null,{"$f":"Liste!BE43","v":11},{"$f":"IFERROR(VLOOKUP($M16,Liste!$S$7:$V$103,COLUMN()-12,0),\"\")","v":"T11"},{"$f":"IFERROR(VLOOKUP($M16,Liste!$S$7:$V$103,COLUMN()-12,0),\"\")","v":"P11"},{"$f":"IFERROR(VLOOKUP($M16,Liste!$S$7:$V$103,COLUMN()-12,0),\"\")","v":""},7,null,13,{"$f":"IFERROR(VLOOKUP($W16,Liste!$S$7:$V$103,COLUMN()-18,0),\"\")","v":"T3"},{"$f":"IFERROR(VLOOKUP($W16,Liste!$S$7:$V$103,COLUMN()-18,0),\"\")","v":"P3"},{"$f":"IFERROR(VLOOKUP($W16,Liste!$S$7:$V$103,COLUMN()-18,0),\"\")","v":""},{"$f":"Liste!BG43","v":3}]
[{"$f":"Liste!BE20","v":19},{"$f":"IFERROR(VLOOKUP($A17,Liste!$S$7:$V$103,COLUMN(),0),\"\")","v":"T19"},{"$f":"IFERROR(VLOOKUP($A17,Liste!$S$7:$V$103,COLUMN(),0),\"\")","v":"P19"},{"$f":"IFERROR(VLOOKUP($A17,Liste!$S$7:$V$103,COLUMN(),0),\"\")","v":""},13,null,6,{"$f":"IFERROR(VLOOKUP($K17,Liste!$S$7:$V$103,COLUMN()-6,0),\"\")","v":"T27"},{"$f":"IFERROR(VLOOKUP($K17,Liste!$S$7:$V$103,COLUMN()-6,0),\"\")","v":"P27"},{"$f":"IFERROR(VLOOKUP($K17,Liste!$S$7:$V$103,COLUMN()-6,0),\"\")","v":""},{"$f":"Liste!BG20","v":27},null,{"$f":"Liste!BE44","v":31},{"$f":"IFERROR(VLOOKUP($M17,Liste!$S$7:$V$103,COLUMN()-12,0),\"\")","v":"T31"},{"$f":"IFERROR(VLOOKUP($M17,Liste!$S$7:$V$103,COLUMN()-12,0),\"\")","v":"P31"},{"$f":"IFERROR(VLOOKUP($M17,Liste!$S$7:$V$103,COLUMN()-12,0),\"\")","v":""},5,null,13,{"$f":"IFERROR(VLOOKUP($W17,Liste!$S$7:$V$103,COLUMN()-18,0),\"\")","v":"T23"},{"$f":"IFERROR(VLOOKUP($W17,Liste!$S$7:$V$103,COLUMN()-18,0),\"\")","v":"P23"},{"$f":"IFERROR(VLOOKUP($W17,Liste!$S$7:$V$103,COLUMN()-18,0),\"\")","v":""},{"$f":"Liste!BG44","v":23}]
[{"$f":"Liste!BE21","v":39},{"$f":"IFERROR(VLOOKUP($A18,Liste!$S$7:$V$103,COLUMN(),0),\"\")","v":"T39"},{"$f":"IFERROR(VLOOKUP($A18,Liste!$S$7:$V$103,COLUMN(),0),\"\")","v":"P39"},{"$f":"IFERROR(VLOOKUP($A18,Liste!$S$7:$V$103,COLUMN(),0),\"\")","v":""},13,null,6,{"$f":"IFERROR(VLOOKUP($K18,Liste!$S$7:$V$103,COLUMN()-6,0),\"\")","v":"T48"},{"$f":"IFERROR(VLOOKUP($K18,Liste!$S$7:$V$103,COLUMN()-6,0),\"\")","v":"P48"},{"$f":"IFERROR(VLOOKUP($K18,Liste!$S$7:$V$103,COLUMN()-6,0),\"\")","v":""},{"$f":"Liste!BG21","v":48},null,{"$f":"Liste!BE45","v":44},{"$f":"IFERROR(VLOOKUP($M18,Liste!$S$7:$V$103,COLUMN()-12,0),\"\")","v":"T44"},{"$f":"IFERROR(VLOOKUP($M18,Liste!$S$7:$V$103,COLUMN()-12,0),\"\")","v":"P44"},{"$f":"IFERROR(VLOOKUP($M18,Liste!$S$7:$V$103,COLUMN()-12,0),\"\")","v":""},13,null,9,{"$f":"IFERROR(VLOOKUP($W18,Liste!$S$7:$V$103,COLUMN()-18,0),\"\")","v":"T36"},{"$f":"IFERROR(VLOOKUP($W18,Liste!$S$7:$V$103,COLUMN()-18,0),\"\")","v":"P36"},{"$f":"IFERROR(VLOOKUP($W18,Liste!$S$7:$V$103,COLUMN()-18,0),\"\")","v":""},{"$f":"Liste!BG45","v":36}]
[{"$f":"Liste!BE22","v":51},{"$f":"IFERROR(VLOOKUP($A19,Liste!$S$7:$V$103,COLUMN(),0),\"\")","v":"T51"},{"$f":"IFERROR(VLOOKUP($A19,Liste!$S$7:$V$103,COLUMN(),0),\"\")","v":"P51"},{"$f":"IFERROR(VLOOKUP($A19,Liste!$S$7:$V$103,COLUMN(),0),\"\")","v":""},13,null,6,{"$f":"IFERROR(VLOOKUP($K19,Liste!$S$7:$V$103,COLUMN()-6,0),\"\")","v":"T63"},{"$f":"IFERROR(VLOOKUP($K19,Liste!$S$7:$V$103,COLUMN()-6,0),\"\")","v":"P63"},{"$f":"IFERROR(VLOOKUP($K19,Liste!$S$7:$V$103,COLUMN()-6,0),\"\")","v":""},{"$f":"Liste!BG22","v":63},null,{"$f":"Liste!BE46","v":59},{"$f":"IFERROR(VLOOKUP($M19,Liste!$S$7:$V$103,COLUMN()-12,0),\"\")","v":"T59"},{"$f":"IFERROR(VLOOKUP($M19,Liste!$S$7:$V$103,COLUMN()-12,0),\"\")","v":"P59"},{"$f":"IFERROR(VLOOKUP($M19,Liste!$S$7:$V$103,COLUMN()-12,0),\"\")","v":""},11,null,13,{"$f":"IFERROR(VLOOKUP($W19,Liste!$S$7:$V$103,COLUMN()-18,0),\"\")","v":"T56"},{"$f":"IFERROR(VLOOKUP($W19,Liste!$S$7:$V$103,COLUMN()-18,0),\"\")","v":"P56"},{"$f":"IFERROR(VLOOKUP($W19,Liste!$S$7:$V$103,COLUMN()-18,0),\"\")","v":""},{"$f":"Liste!BG46","v":56}]
["Equipes ",null,null,null,"PTS     EQ 1",null,"PTS     EQ 2","Equipes ",null,null,null,null,"Equipes ",null,null,null,"PTS     EQ 1",null,"PTS     EQ 2","Equipes "]
[{"$f":"Liste!BE23","v":66},{"$f":"IFERROR(VLOOKUP($A21,Liste!$S$7:$V$103,COLUMN(),0),\"\")","v":"T66"},{"$f":"IFERROR(VLOOKUP($A21,Liste!$S$7:$V$103,COLUMN(),0),\"\")","v":"P66"},{"$f":"IFERROR(VLOOKUP($A21,Liste!$S$7:$V$103,COLUMN(),0),\"\")","v":0},12,null,13,{"$f":"IFERROR(VLOOKUP($K21,Liste!$S$7:$V$103,COLUMN()-6,0),\"\")","v":"T76"},{"$f":"IFERROR(VLOOKUP($K21,Liste!$S$7:$V$103,COLUMN()-6,0),\"\")","v":"P76"},{"$f":"IFERROR(VLOOKUP($K21,Liste!$S$7:$V$103,COLUMN()-6,0),\"\")","v":0},{"$f":"Liste!BG23","v":76},null,{"$f":"Liste!BE47","v":80},{"$f":"IFERROR(VLOOKUP($M21,Liste!$S$7:$V$103,COLUMN()-12,0),\"\")","v":"T80"},{"$f":"IFERROR(VLOOKUP($M21,Liste!$S$7:$V$103,COLUMN()-12,0),\"\")","v":"P80"},{"$f":"IFERROR(VLOOKUP($M21,Liste!$S$7:$V$103,COLUMN()-12,0),\"\")","v":0},13,null,12,{"$f":"IFERROR(VLOOKUP($W21,Liste!$S$7:$V$103,COLUMN()-18,0),\"\")","v":"T69"},{"$f":"IFERROR(VLOOKUP($W21,Liste!$S$7:$V$103,COLUMN()-18,0),\"\")","v":"P69"},{"$f":"IFERROR(VLOOKUP($W21,Liste!$S$7:$V$103,COLUMN()-18,0),\"\")","v":0},{"$f":"Liste!BG47","v":69}]
[{"$f":"Liste!BE24","v":86},{"$f":"IFERROR(VLOOKUP($A22,Liste!$S$7:$V$103,COLUMN(),0),\"\")","v":"T86"},{"$f":"IFERROR(VLOOKUP($A22,Liste!$S$7:$V$103,COLUMN(),0),\"\")","v":"P86"},{"$f":"IFERROR(VLOOKUP($A22,Liste!$S$7:$V$103,COLUMN(),0),\"\")","v":0},2,null,13,{"$f":"IFERROR(VLOOKUP($K22,Liste!$S$7:$V$103,COLUMN()-6,0),\"\")","v":"T94"},{"$f":"IFERROR(VLOOKUP($K22,Liste!$S$7:$V$103,COLUMN()-6,0),\"\")","v":"P94"},{"$f":"IFERROR(VLOOKUP($K22,Liste!$S$7:$V$103,COLUMN()-6,0),\"\")","v":0},{"$f":"Liste!BG24","v":94},null,{"$f":"Liste!BE48","v":91},{"$f":"IFERROR(VLOOKUP($M22,Liste!$S$7:$V$103,COLUMN()-12,0),\"\")","v":"T91"},{"$f":"IFERROR(VLOOKUP($M22,Liste!$S$7:$V$103,COLUMN()-12,0),\"\")","v":"P91"},{"$f":"IFERROR(VLOOKUP($M22,Liste!$S$7:$V$103,COLUMN()-12,0),\"\")","v":0},13,null,2,{"$f":"IFERROR(VLOOKUP($W22,Liste!$S$7:$V$103,COLUMN()-18,0),\"\")","v":"T81"},{"$f":"IFERROR(VLOOKUP($W22,Liste!$S$7:$V$103,COLUMN()-18,0),\"\")","v":"P81"},{"$f":"IFERROR(VLOOKUP($W22,Liste!$S$7:$V$103,COLUMN()-18,0),\"\")","v":0},{"$f":"Liste!BG48","v":81}]
[{"$f":"Liste!BE25","v":2},{"$f":"IFERROR(VLOOKUP($A23,Liste!$S$7:$V$103,COLUMN(),0),\"\")","v":"T2"},{"$f":"IFERROR(VLOOKUP($A23,Liste!$S$7:$V$103,COLUMN(),0),\"\")","v":"P2"},{"$f":"IFERROR(VLOOKUP($A23,Liste!$S$7:$V$103,COLUMN(),0),\"\")","v":""},13,null,4,{"$f":"IFERROR(VLOOKUP($K23,Liste!$S$7:$V$103,COLUMN()-6,0),\"\")","v":"T12"},{"$f":"IFERROR(VLOOKUP($K23,Liste!$S$7:$V$103,COLUMN()-6,0),\"\")","v":"P12"},{"$f":"IFERROR(VLOOKUP($K23,Liste!$S$7:$V$103,COLUMN()-6,0),\"\")","v":""},{"$f":"Liste!BG25","v":12},null,{"$f":"Liste!BE49","v":16},{"$f":"IFERROR(VLOOKUP($M23,Liste!$S$7:$V$103,COLUMN()-12,0),\"\")","v":"T16"},{"$f":"IFERROR(VLOOKUP($M23,Liste!$S$7:$V$103,COLUMN()-12,0),\"\")","v":"P16"},{"$f":"IFERROR(VLOOKUP($M23,Liste!$S$7:$V$103,COLUMN()-12,0),\"\")","v":""},4,null,13,{"$f":"IFERROR(VLOOKUP($W23,Liste!$S$7:$V$103,COLUMN()-18,0),\"\")","v":"T6"},{"$f":"IFERROR(VLOOKUP($W23,Liste!$S$7:$V$103,COLUMN()-18,0),\"\")","v":"P6"},{"$f":"IFERROR(VLOOKUP($W23,Liste!$S$7:$V$103,COLUMN()-18,0),\"\")","v":""},{"$f":"Liste!BG49","v":6}]
[{"$f":"Liste!BE26","v":22},{"$f":"IFERROR(VLOOKUP($A24,Liste!$S$7:$V$103,COLUMN(),0),\"\")","v":"T22"},{"$f":"IFERROR(VLOOKUP($A24,Liste!$S$7:$V$103,COLUMN(),0),\"\")","v":"P22"},{"$f":"IFERROR(VLOOKUP($A24,Liste!$S$7:$V$103,COLUMN(),0),\"\")","v":""},13,null,10,{"$f":"IFERROR(VLOOKUP($K24,Liste!$S$7:$V$103,COLUMN()-6,0),\"\")","v":"T28"},{"$f":"IFERROR(VLOOKUP($K24,Liste!$S$7:$V$103,COLUMN()-6,0),\"\")","v":"P28"},{"$f":"IFERROR(VLOOKUP($K24,Liste!$S$7:$V$103,COLUMN()-6,0),\"\")","v":""},{"$f":"Liste!BG26","v":28},null,{"$f":"Liste!BE50","v":30},{"$f":"IFERROR(VLOOKUP($M24,Liste!$S$7:$V$103,COLUMN()-12,0),\"\")","v":"T30"},{"$f":"IFERROR(VLOOKUP($M24,Liste!$S$7:$V$103,COLUMN()-12,0),\"\")","v":"P30"},{"$f":"IFERROR(VLOOKUP($M24,Liste!$S$7:$V$103,COLUMN()-12,0),\"\")","v":""},10,null,13,{"$f":"IFERROR(VLOOKUP($W24,Liste!$S$7:$V$103,COLUMN()-18,0),\"\")","v":"T18"},{"$f":"IFERROR(VLOOKUP($W24,Liste!$S$7:$V$103,COLUMN()-18,0),\"\")","v":"P18"},{"$f":"IFERROR(VLOOKUP($W24,Liste!$S$7:$V$103,COLUMN()-18,0),\"\")","v":""},{"$f":"Liste!BG50","v":18}]
[{"$f":"Liste!BE27","v":40},{"$f":"IFERROR(VLOOKUP($A25,Liste!$S$7:$V$103,COLUMN(),0),\"\")","v":"T40"},{"$f":"IFERROR(VLOOKUP($A25,Liste!$S$7:$V$103,COLUMN(),0),\"\")","v":"P40"},{"$f":"IFERROR(VLOOKUP($A25,Liste!$S$7:$V$103,COLUMN(),0),\"\")","v":""},7,null,13,{"$f":"IFERROR(VLOOKUP($K25,Liste!$S$7:$V$103,COLUMN()-6,0),\"\")","v":"T46"},{"$f":"IFERROR(VLOOKUP($K25,Liste!$S$7:$V$103,COLUMN()-6,0),\"\")","v":"P46"},{"$f":"IFERROR(VLOOKUP($K25,Liste!$S$7:$V$103,COLUMN()-6,0),\"\")","v":""},{"$f":"Liste!BG27","v":46},null,{"$f":"Liste!BE51","v":41},{"$f":"IFERROR(VLOOKUP($M25,Liste!$S$7:$V$103,COLUMN()-12,0),\"\")","v":"T41"},{"$f":"IFERROR(VLOOKUP($M25,Liste!$S$7:$V$103,COLUMN()-12,0),\"\")","v":"P41"},{"$f":"IFERROR(VLOOKUP($M25,Liste!$S$7:$V$103,COLUMN()-12,0),\"\")","v":""},13,null,7,{"$f":"IFERROR(VLOOKUP($W25,Liste!$S$7:$V$103,COLUMN()-18,0),\"\")","v":"T35"},{"$f":"IFERROR(VLOOKUP($W25,Liste!$S$7:$V$103,COLUMN()-18,0),\"\")","v":"P35"},{"$f":"IFERROR(VLOOKUP($W25,Liste!$S$7:$V$103,COLUMN()-18,0),\"\")","v":""},{"$f":"Liste!BG51","v":35}]
[{"$f":"Liste!BE28","v":52},{"$f":"IFERROR(VLOOKUP($A26,Liste!$S$7:$V$103,COLUMN(),0),\"\")","v":"T52"},{"$f":"IFERROR(VLOOKUP($A26,Liste!$S$7:$V$103,COLUMN(),0),\"\")","v":"P52"},{"$f":"IFERROR(VLOOKUP($A26,Liste!$S$7:$V$103,COLUMN(),0),\"\")","v":""},5,null,13,{"$f":"IFERROR(VLOOKUP($K26,Liste!$S$7:$V$103,COLUMN()-6,0),\"\")","v":"T58"},{"$f":"IFERROR(VLOOKUP($K26,Liste!$S$7:$V$103,COLUMN()-6,0),\"\")","v":"P58"},{"$f":"IFERROR(VLOOKUP($K26,Liste!$S$7:$V$103,COLUMN()-6,0),\"\")","v":""},{"$f":"Liste!BG28","v":58},null,{"$f":"Liste!BE52","v":64},{"$f":"IFERROR(VLOOKUP($M26,Liste!$S$7:$V$103,COLUMN()-12,0),\"\")","v":"T64"},{"$f":"IFERROR(VLOOKUP($M26,Liste!$S$7:$V$103,COLUMN()-12,0),\"\")","v":"P64"},{"$f":"IFERROR(VLOOKUP($M26,Liste!$S$7:$V$103,COLUMN()-12,0),\"\")","v":""},13,null,5,{"$f":"IFERROR(VLOOKUP($W26,Liste!$S$7:$V$103,COLUMN()-18,0),\"\")","v":"T55"},{"$f":"IFERROR(VLOOKUP($W26,Liste!$S$7:$V$103,COLUMN()-18,0),\"\")","v":"P55"},{"$f":"IFERROR(VLOOKUP($W26,Liste!$S$7:$V$103,COLUMN()-18,0),\"\")","v":""},{"$f":"Liste!BG52","v":55}]
[{"$f":"Liste!BE29","v":70},{"$f":"IFERROR(VLOOKUP($A27,Liste!$S$7:$V$103,COLUMN(),0),\"\")","v":"T70"},{"$f":"IFERROR(VLOOKUP($A27,Liste!$S$7:$V$103,COLUMN(),0),\"\")","v":"P70"},{"$f":"IFERROR(VLOOKUP($A27,Liste!$S$7:$V$103,COLUMN(),0),\"\")","v":0},13,null,9,{"$f":"IFERROR(VLOOKUP($K27,Liste!$S$7:$V$103,COLUMN()-6,0),\"\")","v":"T79"},{"$f":"IFERROR(VLOOKUP($K27,Liste!$S$7:$V$103,COLUMN()-6,0),\"\")","v":"P79"},{"$f":"IFERROR(VLOOKUP($K27,Liste!$S$7:$V$103,COLUMN()-6,0),\"\")","v":0},{"$f":"Liste!BG29","v":79},null,{"$f":"Liste!BE53","v":75},{"$f":"IFERROR(VLOOKUP($M27,Liste!$S$7:$V$103,COLUMN()-12,0),\"\")","v":"T75"},{"$f":"IFERROR(VLOOKUP($M27,Liste!$S$7:$V$103,COLUMN()-12,0),\"\")","v":"P75"},{"$f":"IFERROR(VLOOKUP($M27,Liste!$S$7:$V$103,COLUMN()-12,0),\"\")","v":0},9,null,13,{"$f":"IFERROR(VLOOKUP($W27,Liste!$S$7:$V$103,COLUMN()-18,0),\"\")","v":"T65"},{"$f":"IFERROR(VLOOKUP($W27,Liste!$S$7:$V$103,COLUMN()-18,0),\"\")","v":"P65"},{"$f":"IFERROR(VLOOKUP($W27,Liste!$S$7:$V$103,COLUMN()-18,0),\"\")","v":0},{"$f":"Liste!BG53","v":65}]
[{"$f":"Liste!BE30","v":82},{"$f":"IFERROR(VLOOKUP($A28,Liste!$S$7:$V$103,COLUMN(),0),\"\")","v":"T82"},{"$f":"IFERROR(VLOOKUP($A28,Liste!$S$7:$V$103,COLUMN(),0),\"\")","v":"P82"},{"$f":"IFERROR(VLOOKUP($A28,Liste!$S$7:$V$103,COLUMN(),0),\"\")","v":0},11,null,13,{"$f":"IFERROR(VLOOKUP($K28,Liste!$S$7:$V$103,COLUMN()-6,0),\"\")","v":"T93"},{"$f":"IFERROR(VLOOKUP($K28,Liste!$S$7:$V$103,COLUMN()-6,0),\"\")","v":"P93"},{"$f":"IFERROR(VLOOKUP($K28,Liste!$S$7:$V$103,COLUMN()-6,0),\"\")","v":0},{"$f":"Liste!BG30","v":93},null,{"$f":"Liste!BE54","v":92},{"$f":"IFERROR(VLOOKUP($M28,Liste!$S$7:$V$103,COLUMN()-12,0),\"\")","v":"T92"},{"$f":"IFERROR(VLOOKUP($M28,Liste!$S$7:$V$103,COLUMN()-12,0),\"\")","v":"P92"},{"$f":"IFERROR(VLOOKUP($M28,Liste!$S$7:$V$103,COLUMN()-12,0),\"\")","v":0},13,null,11,{"$f":"IFERROR(VLOOKUP($W28,Liste!$S$7:$V$103,COLUMN()-18,0),\"\")","v":"T85"},{"$f":"IFERROR(VLOOKUP($W28,Liste!$S$7:$V$103,COLUMN()-18,0),\"\")","v":"P85"},{"$f":"IFERROR(VLOOKUP($W28,Liste!$S$7:$V$103,COLUMN()-18,0),\"\")","v":0},{"$f":"Liste!BG54","v":85}]
[]
[]
[]
[null,{"$f":"B3","v":"T1"},{"$f":"E3","v":13},null,{"$f":"G3","v":6}]
[null,{"$f":"B4","v":"T17"},{"$f":"E4","v":13},null,{"$f":"G4","v":6}]
[null,"T34",13,null,6]
[null,"T49",13,null,6]
[null,"T68",13,null,6]
[null,"T83",13,null,6]
[null,"T4",13,null,6]
[null,"T20",13,null,6]
[null,{"$f":"B12","v":"T38"},{"$f":"E12","v":13},null,{"$f":"G12","v":6}]
[null,"T50",13,null,{"$f":"G13","v":6}]
[null,"T72",13,null,6]
[null,"T84",13,null,6]
[null,"T7",13,null,6]
[null,"T19",13,null,6]
[null,"T39",13,null,6]
[null,"T51",13,null,6]
[null,{"$f":"B21","v":"T66"},{"$f":"E21","v":12},null,{"$f":"G21","v":13}]
[null,"T86",2,null,{"$f":"G22","v":13}]
[null,"T2",13,null,4]
[null,"T22",13,null,10]
[null,"T40",7,null,13]
[null,"T52",5,null,13]
[null,"T70",13,null,9]
[null,"T82",11,null,13]
[null,{"$f":"H3","v":"T9"},{"$f":"G3","v":6},null,{"$f":"E3","v":13}]
[null,{"$f":"H4","v":"T25"},{"$f":"G4","v":6},null,{"$f":"E4","v":13}]
[null,"T42",6,null,13]
[null,"T57",6,null,13]
[null,"T74",6,null,13]
[null,"T89",6,null,13]
[null,"T10",6,null,13]
[null,"T26",6,null,13]
[null,{"$f":"H12","v":"T47"},{"$f":"G12","v":6},null,{"$f":"E12","v":13}]
[null,"T60",6,null,{"$f":"E13","v":13}]
[null,"T78",6,null,13]
[null,"T96",6,null,13]
[null,"T15",6,null,13]
[null,"T27",6,null,13]
[null,"T48",6,null,13]
[null,"T63",6,null,13]
[null,{"$f":"H21","v":"T76"},{"$f":"G21","v":13},null,{"$f":"E21","v":12}]
[null,"T94",13,null,{"$f":"E22","v":2}]
[null,"T12",4,null,13]
[null,"T28",10,null,13]
[null,"T46",13,null,7]
[null,"T58",13,null,5]
[null,"T79",9,null,13]
[null,{"$f":"H28","v":"T93"},{"$f":"G28","v":13},null,11]
[null,{"$f":"N3","v":"T13"},{"$f":"Q3","v":13},null,{"$f":"S3","v":12}]
[null,{"$f":"N4","v":"T29"},{"$f":"Q4","v":13},null,{"$f":"S4","v":2}]
[null,"T45",4,null,13]
[null,"T62",10,null,13]
[null,"T77",13,null,7]
[null,"T95",13,null,5]
[null,"T14",9,null,13]
[null,"T32",13,null,11]
[null,{"$f":"N12","v":"T43"},{"$f":"Q12","v":12},null,{"$f":"S12","v":13}]
[null,"T61",2,null,{"$f":"S13","v":13}]
[null,"T73",13,null,4]
[null,"T90",13,null,10]
[null,"T11",7,null,13]
[null,"T31",5,null,13]
[null,"T44",13,null,9]
[null,"T59",11,null,13]
[null,{"$f":"N21","v":"T80"},{"$f":"Q21","v":13},null,{"$f":"S21","v":12}]
[null,"T91",13,null,{"$f":"S22","v":2}]
[null,"T16",4,null,13]
[null,"T30",10,null,13]
[null,"T41",13,null,7]
[null,"T64",13,null,5]
[null,"T75",9,null,13]
[null,"T92",13,null,11]
[null,{"$f":"T3","v":"T5"},{"$f":"S3","v":12},null,{"$f":"Q3","v":13}]
[null,{"$f":"T4","v":"T21"},{"$f":"S4","v":2},null,13]
[null,"T37",13,null,4]
[null,"T54",13,null,10]
[null,"T71",7,null,13]
[null,"T88",5,null,13]
[null,"T8",13,null,9]
[null,"T24",11,null,13]
[null,{"$f":"T12","v":"T33"},{"$f":"S12","v":13},null,{"$f":"Q12","v":12}]
[null,"T53",13,null,2]
[null,"T67",4,null,13]
[null,"T87",10,null,13]
[null,"T3",13,null,7]
[null,"T23",13,null,5]
[null,"T36",9,null,13]
[null,"T56",13,null,11]
[null,{"$f":"T21","v":"T69"},{"$f":"S21","v":12},null,{"$f":"Q21","v":13}]
[null,"T81",2,null,13]
[null,"T6",13,null,4]
[null,"T18",13,null,10]
[null,"T35",7,null,13]
[null,"T55",5,null,13]
[null,"T65",13,null,9]
[null,{"$f":"T28","v":"T85"},{"$f":"S28","v":11},null,13]
[null,{"$f":"C3","v":"P1"},{"$f":"E3","v":13},null,{"$f":"E32","v":6}]
[null,{"$f":"C4","v":"P17"},{"$f":"E4","v":13},null,{"$f":"E33","v":6}]
[null,"P34",13,null,6]
[null,"P49",13,null,6]
[null,"P68",13,null,6]
[null,"P83",13,null,6]
[null,"P4",13,null,6]
[null,"P20",13,null,6]
[null,{"$f":"C12","v":"P38"},{"$f":"E12","v":13},null,6]
[null,"P50",13,null,6]
[null,"P72",13,null,6]
[null,"P84",13,null,6]
[null,"P7",13,null,6]
[null,"P19",13,null,6]
[null,"P39",13,null,6]
[null,"P51",13,null,6]
[null,{"$f":"C21","v":"P66"},{"$f":"E21","v":12},null,13]
[null,"P86",2,null,13]
[null,"P2",13,null,4]
[null,"P22",13,null,10]
[null,"P40",7,null,13]
[null,"P52",5,null,13]
[null,"P70",13,null,9]
[null,"P82",11,null,13]
[null,{"$f":"I3","v":"P9"},{"$f":"G3","v":6},null,13]
[null,{"$f":"I4","v":"P25"},{"$f":"G4","v":6},null,13]
[null,"P42",6,null,13]
[null,"P57",6,null,13]
[null,"P74",6,null,13]
[null,"P89",6,null,13]
[null,"P10",6,null,13]
[null,"P26",6,null,13]
[null,{"$f":"I12","v":"P47"},{"$f":"G12","v":6},null,13]
[null,"P60",6,null,13]
[null,"P78",6,null,13]
[null,"P96",6,null,13]
[null,"P15",6,null,13]
[null,"P27",6,null,13]
[null,"P48",6,null,13]
[null,"P63",6,null,13]
[null,{"$f":"I21","v":"P76"},{"$f":"G21","v":13},null,12]
[null,"P94",13,null,2]
[null,"P12",4,null,13]
[null,"P28",10,null,13]
[null,"P46",13,null,7]
[null,"P58",13,null,5]
[null,"P79",9,null,13]
[null,"P93",13,null,11]
[null,{"$f":"O3","v":"P13"},{"$f":"Q3","v":13},null,12]
[null,{"$f":"O4","v":"P29"},{"$f":"Q4","v":13},null,2]
[null,"P45",4,null,13]
[null,"P62",10,null,13]
[null,"P77",13,null,7]
[null,"P95",13,null,5]
[null,"P14",9,null,13]
[null,"P32",13,null,11]
[null,{"$f":"O12","v":"P43"},{"$f":"Q12","v":12},null,{"$f":"E87","v":11}]
[null,"P61",2,null,{"$f":"E88","v":13}]
[null,"P73",13,null,4]
[null,"P90",13,null,10]
[null,"P11",7,null,13]
[null,"P31",5,null,13]
[null,"P44",13,null,9]
[null,"P59",11,null,13]
[null,{"$f":"O21","v":"P80"},{"$f":"Q21","v":13},null,12]
[null,"P91",13,null,{"$f":"E97","v":2}]
[null,"P16",4,null,13]
[null,"P30",10,null,13]
[null,"P41",13,null,7]
[null,"P64",13,null,5]
[null,"P75",9,null,13]
[null,"P92",13,null,11]
[null,{"$f":"U3","v":"P5"},{"$f":"S3","v":12},null,13]
[null,{"$f":"U4","v":"P21"},{"$f":"S4","v":2},null,13]
[null,"P37",13,null,4]
[null,"P54",13,null,10]
[null,"P71",7,null,13]
[null,"P88",5,null,13]
[null,"P8",13,null,9]
[null,"P24",11,null,13]
[null,{"$f":"U12","v":"P33"},{"$f":"S12","v":13},null,12]
[null,"P53",13,null,2]
[null,"P67",4,null,13]
[null,"P87",10,null,13]
[null,"P3",13,null,7]
[null,"P23",13,null,5]
[null,"P36",9,null,13]
[null,"P56",13,null,11]
[null,{"$f":"U21","v":"P69"},{"$f":"S21","v":12},null,13]
[null,"P81",2,null,13]
[null,"P6",13,null,4]
[null,"P18",13,null,10]
[null,"P35",7,null,13]
[null,"P55",5,null,13]
[null,"P65",13,null,9]
[null,"P85",11,null,13]

{"sheet":"Partie 5","index":5,"n_rows":223,"n_cols":23,"rows_kept":223,"cut":false,"hidden":false,"merged":[[19,0,19,3],[19,7,19,10],[19,12,19,15],[19,19,19,22],[0,0,0,22],[1,0,1,3],[1,7,1,10],[1,12,1,15],[1,19,1,22],[10,0,10,3],[10,7,10,10],[10,12,10,15],[10,19,10,22]]}
["DOUBLETTES "]
["Equipes ",null,null,null,"PTS     EQ 1",null,"PTS     EQ 2","Equipes ",null,null,null,null,"Equipes ",null,null,null,"PTS     EQ 1",null,"PTS     EQ 2","Equipes "]
[{"$f":"Liste!BL7","v":1},{"$f":"IFERROR(VLOOKUP($A3,Liste!$S$7:$V$103,COLUMN(),0),\"\")","v":"T1"},{"$f":"IFERROR(VLOOKUP($A3,Liste!$S$7:$V$103,COLUMN(),0),\"\")","v":"P1"},{"$f":"IFERROR(VLOOKUP($A3,Liste!$S$7:$V$103,COLUMN(),0),\"\")","v":""},13,null,6,{"$f":"IFERROR(VLOOKUP($K3,Liste!$S$7:$V$103,COLUMN()-6,0),\"\")","v":"T17"},{"$f":"IFERROR(VLOOKUP($K3,Liste!$S$7:$V$103,COLUMN()-6,0),\"\")","v":"P17"},{"$f":"IFERROR(VLOOKUP($K3,Liste!$S$7:$V$103,COLUMN()-6,0),\"\")","v":""},{"$f":"Liste!BN7","v":17},null,{"$f":"Liste!BL31","v":25},{"$f":"IFERROR(VLOOKUP($M3,Liste!$S$7:$V$103,COLUMN()-12,0),\"\")","v":"T25"},{"$f":"IFERROR(VLOOKUP($M3,Liste!$S$7:$V$103,COLUMN()-12,0),\"\")","v":"P25"},{"$f":"IFERROR(VLOOKUP($M3,Liste!$S$7:$V$103,COLUMN()-12,0),\"\")","v":""},13,null,12,{"$f":"IFERROR(VLOOKUP($W3,Liste!$S$7:$V$103,COLUMN()-18,0),\"\")","v":"T9"},{"$f":"IFERROR(VLOOKUP($W3,Liste!$S$7:$V$103,COLUMN()-18,0),\"\")","v":"P9"},{"$f":"IFERROR(VLOOKUP($W3,Liste!$S$7:$V$103,COLUMN()-18,0),\"\")","v":""},{"$f":"Liste!BN31","v":9}]
[{"$f":"Liste!BL8","v":34},{"$f":"IFERROR(VLOOKUP($A4,Liste!$S$7:$V$103,COLUMN(),0),\"\")","v":"T34"},{"$f":"IFERROR(VLOOKUP($A4,Liste!$S$7:$V$103,COLUMN(),0),\"\")","v":"P34"},{"$f":"IFERROR(VLOOKUP($A4,Liste!$S$7:$V$103,COLUMN(),0),\"\")","v":""},13,null,6,{"$f":"IFERROR(VLOOKUP($K4,Liste!$S$7:$V$103,COLUMN()-6,0),\"\")","v":"T49"},{"$f":"IFERROR(VLOOKUP($K4,Liste!$S$7:$V$103,COLUMN()-6,0),\"\")","v":"P49"},{"$f":"IFERROR(VLOOKUP($K4,Liste!$S$7:$V$103,COLUMN()-6,0),\"\")","v":""},{"$f":"Liste!BN8","v":49},null,{"$f":"Liste!BL32","v":57},{"$f":"IFERROR(VLOOKUP($M4,Liste!$S$7:$V$103,COLUMN()-12,0),\"\")","v":"T57"},{"$f":"IFERROR(VLOOKUP($M4,Liste!$S$7:$V$103,COLUMN()-12,0),\"\")","v":"P57"},{"$f":"IFERROR(VLOOKUP($M4,Liste!$S$7:$V$103,COLUMN()-12,0),\"\")","v":""},13,null,2,{"$f":"IFERROR(VLOOKUP($W4,Liste!$S$7:$V$103,COLUMN()-18,0),\"\")","v":"T42"},{"$f":"IFERROR(VLOOKUP($W4,Liste!$S$7:$V$103,COLUMN()-18,0),\"\")","v":"P42"},{"$f":"IFERROR(VLOOKUP($W4,Liste!$S$7:$V$103,COLUMN()-18,0),\"\")","v":""},{"$f":"Liste!BN32","v":42}]
[{"$f":"Liste!BL9","v":68},{"$f":"IFERROR(VLOOKUP($A5,Liste!$S$7:$V$103,COLUMN(),0),\"\")","v":"T68"},{"$f":"IFERROR(VLOOKUP($A5,Liste!$S$7:$V$103,COLUMN(),0),\"\")","v":"P68"},{"$f":"IFERROR(VLOOKUP($A5,Liste!$S$7:$V$103,COLUMN(),0),\"\")","v":0},13,null,6,{"$f":"IFERROR(VLOOKUP($K5,Liste!$S$7:$V$103,COLUMN()-6,0),\"\")","v":"T83"},{"$f":"IFERROR(VLOOKUP($K5,Liste!$S$7:$V$103,COLUMN()-6,0),\"\")","v":"P83"},{"$f":"IFERROR(VLOOKUP($K5,Liste!$S$7:$V$103,COLUMN()-6,0),\"\")","v":0},{"$f":"Liste!BN9","v":83},null,{"$f":"Liste!BL33","v":89},{"$f":"IFERROR(VLOOKUP($M5,Liste!$S$7:$V$103,COLUMN()-12,0),\"\")","v":"T89"},{"$f":"IFERROR(VLOOKUP($M5,Liste!$S$7:$V$103,COLUMN()-12,0),\"\")","v":"P89"},{"$f":"IFERROR(VLOOKUP($M5,Liste!$S$7:$V$103,COLUMN()-12,0),\"\")","v":0},4,null,13,{"$f":"IFERROR(VLOOKUP($W5,Liste!$S$7:$V$103,COLUMN()-18,0),\"\")","v":"T74"},{"$f":"IFERROR(VLOOKUP($W5,Liste!$S$7:$V$103,COLUMN()-18,0),\"\")","v":"P74"},{"$f":"IFERROR(VLOOKUP($W5,Liste!$S$7:$V$103,COLUMN()-18,0),\"\")","v":0},{"$f":"Liste!BN33","v":74}]
[{"$f":"Liste!BL10","v":4},{"$f":"IFERROR(VLOOKUP($A6,Liste!$S$7:$V$103,COLUMN(),0),\"\")","v":"T4"},{"$f":"IFERROR(VLOOKUP($A6,Liste!$S$7:$V$103,COLUMN(),0),\"\")","v":"P4"},{"$f":"IFERROR(VLOOKUP($A6,Liste!$S$7:$V$103,COLUMN(),0),\"\")","v":""},13,null,6,{"$f":"IFERROR(VLOOKUP($K6,Liste!$S$7:$V$103,COLUMN()-6,0),\"\")","v":"T20"},{"$f":"IFERROR(VLOOKUP($K6,Liste!$S$7:$V$103,COLUMN()-6,0),\"\")","v":"P20"},{"$f":"IFERROR(VLOOKUP($K6,Liste!$S$7:$V$103,COLUMN()-6,0),\"\")","v":""},{"$f":"Liste!BN10","v":20},null,{"$f":"Liste!BL34","v":26},{"$f":"IFERROR(VLOOKUP($M6,Liste!$S$7:$V$103,COLUMN()-12,0),\"\")","v":"T26"},{"$f":"IFERROR(VLOOKUP($M6,Liste!$S$7:$V$103,COLUMN()-12,0),\"\")","v":"P26"},{"$f":"IFERROR(VLOOKUP($M6,Liste!$S$7:$V$103,COLUMN()-12,0),\"\")","v":""},10,null,13,{"$f":"IFERROR(VLOOKUP($W6,Liste!$S$7:$V$103,COLUMN()-18,0),\"\")","v":"T10"},{"$f":"IFERROR(VLOOKUP($W6,Liste!$S$7:$V$103,COLUMN()-18,0),\"\")","v":"P10"},{"$f":"IFERROR(VLOOKUP($W6,Liste!$S$7:$V$103,COLUMN()-18,0),\"\")","v":""},{"$f":"Liste!BN34","v":10}]
[{"$f":"Liste!BL11","v":38},{"$f":"IFERROR(VLOOKUP($A7,Liste!$S$7:$V$103,COLUMN(),0),\"\")","v":"T38"},{"$f":"IFERROR(VLOOKUP($A7,Liste!$S$7:$V$103,COLUMN(),0),\"\")","v":"P38"},{"$f":"IFERROR(VLOOKUP($A7,Liste!$S$7:$V$103,COLUMN(),0),\"\")","v":""},13,null,6,{"$f":"IFERROR(VLOOKUP($K7,Liste!$S$7:$V$103,COLUMN()-6,0),\"\")","v":"T50"},{"$f":"IFERROR(VLOOKUP($K7,Liste!$S$7:$V$103,COLUMN()-6,0),\"\")","v":"P50"},{"$f":"IFERROR(VLOOKUP($K7,Liste!$S$7:$V$103,COLUMN()-6,0),\"\")","v":""},{"$f":"Liste!BN11","v":50},null,{"$f":"Liste!BL35","v":60},{"$f":"IFERROR(VLOOKUP($M7,Liste!$S$7:$V$103,COLUMN()-12,0),\"\")","v":"T60"},{"$f":"IFERROR(VLOOKUP($M7,Liste!$S$7:$V$103,COLUMN()-12,0),\"\")","v":"P60"},{"$f":"IFERROR(VLOOKUP($M7,Liste!$S$7:$V$103,COLUMN()-12,0),\"\")","v":""},13,null,7,{"$f":"IFERROR(VLOOKUP($W7,Liste!$S$7:$V$103,COLUMN()-18,0),\"\")","v":"T47"},{"$f":"IFERROR(VLOOKUP($W7,Liste!$S$7:$V$103,COLUMN()-18,0),\"\")","v":"P47"},{"$f":"IFERROR(VLOOKUP($W7,Liste!$S$7:$V$103,COLUMN()-18,0),\"\")","v":""},{"$f":"Liste!BN35","v":47}]
[{"$f":"Liste!BL12","v":72},{"$f":"IFERROR(VLOOKUP($A8,Liste!$S$7:$V$103,COLUMN(),0),\"\")","v":"T72"},{"$f":"IFERROR(VLOOKUP($A8,Liste!$S$7:$V$103,COLUMN(),0),\"\")","v":"P72"},{"$f":"IFERROR(VLOOKUP($A8,Liste!$S$7:$V$103,COLUMN(),0),\"\")","v":0},13,null,6,{"$f":"IFERROR(VLOOKUP($K8,Liste!$S$7:$V$103,COLUMN()-6,0),\"\")","v":"T84"},{"$f":"IFERROR(VLOOKUP($K8,Liste!$S$7:$V$103,COLUMN()-6,0),\"\")","v":"P84"},{"$f":"IFERROR(VLOOKUP($K8,Liste!$S$7:$V$103,COLUMN()-6,0),\"\")","v":0},{"$f":"Liste!BN12","v":84},null,{"$f":"Liste!BL36","v":96},{"$f":"IFERROR(VLOOKUP($M8,Liste!$S$7:$V$103,COLUMN()-12,0),\"\")","v":"T96"},{"$f":"IFERROR(VLOOKUP($M8,Liste!$S$7:$V$103,COLUMN()-12,0),\"\")","v":"P96"},{"$f":"IFERROR(VLOOKUP($M8,Liste!$S$7:$V$103,COLUMN()-12,0),\"\")","v":0},13,null,5,{"$f":"IFERROR(VLOOKUP($W8,Liste!$S$7:$V$103,COLUMN()-18,0),\"\")","v":"T78"},{"$f":"IFERROR(VLOOKUP($W8,Liste!$S$7:$V$103,COLUMN()-18,0),\"\")","v":"P78"},{"$f":"IFERROR(VLOOKUP($W8,Liste!$S$7:$V$103,COLUMN()-18,0),\"\")","v":0},{"$f":"Liste!BN36","v":78}]
[{"$f":"Liste!BL13","v":7},{"$f":"IFERROR(VLOOKUP($A9,Liste!$S$7:$V$103,COLUMN(),0),\"\")","v":"T7"},{"$f":"IFERROR(VLOOKUP($A9,Liste!$S$7:$V$103,COLUMN(),0),\"\")","v":"P7"},{"$f":"IFERROR(VLOOKUP($A9,Liste!$S$7:$V$103,COLUMN(),0),\"\")","v":""},13,null,6,{"$f":"IFERROR(VLOOKUP($K9,Liste!$S$7:$V$103,COLUMN()-6,0),\"\")","v":"T19"},{"$f":"IFERROR(VLOOKUP($K9,Liste!$S$7:$V$103,COLUMN()-6,0),\"\")","v":"P19"},{"$f":"IFERROR(VLOOKUP($K9,Liste!$S$7:$V$103,COLUMN()-6,0),\"\")","v":""},{"$f":"Liste!BN13","v":19},null,{"$f":"Liste!BL37","v":27},{"$f":"IFERROR(VLOOKUP($M9,Liste!$S$7:$V$103,COLUMN()-12,0),\"\")","v":"T27"},{"$f":"IFERROR(VLOOKUP($M9,Liste!$S$7:$V$103,COLUMN()-12,0),\"\")","v":"P27"},{"$f":"IFERROR(VLOOKUP($M9,Liste!$S$7:$V$103,COLUMN()-12,0),\"\")","v":""},9,null,13,{"$f":"IFERROR(VLOOKUP($W9,Liste!$S$7:$V$103,COLUMN()-18,0),\"\")","v":"T15"},{"$f":"IFERROR(VLOOKUP($W9,Liste!$S$7:$V$103,COLUMN()-18,0),\"\")","v":"P15"},{"$f":"IFERROR(VLOOKUP($W9,Liste!$S$7:$V$103,COLUMN()-18,0),\"\")","v":""},{"$f":"Liste!BN37","v":15}]
[{"$f":"Liste!BL14","v":39},{"$f":"IFERROR(VLOOKUP($A10,Liste!$S$7:$V$103,COLUMN(),0),\"\")","v":"T39"},{"$f":"IFERROR(VLOOKUP($A10,Liste!$S$7:$V$103,COLUMN(),0),\"\")","v":"P39"},{"$f":"IFERROR(VLOOKUP($A10,Liste!$S$7:$V$103,COLUMN(),0),\"\")","v":""},13,null,6,{"$f":"IFERROR(VLOOKUP($K10,Liste!$S$7:$V$103,COLUMN()-6,0),\"\")","v":"T51"},{"$f":"IFERROR(VLOOKUP($K10,Liste!$S$7:$V$103,COLUMN()-6,0),\"\")","v":"P51"},{"$f":"IFERROR(VLOOKUP($K10,Liste!$S$7:$V$103,COLUMN()-6,0),\"\")","v":""},{"$f":"Liste!BN14","v":51},null,{"$f":"Liste!BL38","v":63},{"$f":"IFERROR(VLOOKUP($M10,Liste!$S$7:$V$103,COLUMN()-12,0),\"\")","v":"T63"},{"$f":"IFERROR(VLOOKUP($M10,Liste!$S$7:$V$103,COLUMN()-12,0),\"\")","v":"P63"},{"$f":"IFERROR(VLOOKUP($M10,Liste!$S$7:$V$103,COLUMN()-12,0),\"\")","v":""},13,null,11,{"$f":"IFERROR(VLOOKUP($W10,Liste!$S$7:$V$103,COLUMN()-18,0),\"\")","v":"T48"},{"$f":"IFERROR(VLOOKUP($W10,Liste!$S$7:$V$103,COLUMN()-18,0),\"\")","v":"P48"},{"$f":"IFERROR(VLOOKUP($W10,Liste!$S$7:$V$103,COLUMN()-18,0),\"\")","v":""},{"$f":"Liste!BN38","v":48}]
["Equipes ",null,null,null,"PTS     EQ 1",null,"PTS     EQ 2","Equipes ",null,null,null,null,"Equipes ",null,null,null,"PTS     EQ 1",null,"PTS     EQ 2","Equipes "]
[{"$f":"Liste!BL15","v":76},{"$f":"IFERROR(VLOOKUP($A12,Liste!$S$7:$V$103,COLUMN(),0),\"\")","v":"T76"},{"$f":"IFERROR(VLOOKUP($A12,Liste!$S$7:$V$103,COLUMN(),0),\"\")","v":"P76"},{"$f":"IFERROR(VLOOKUP($A12,Liste!$S$7:$V$103,COLUMN(),0),\"\")","v":0},13,null,6,{"$f":"IFERROR(VLOOKUP($K12,Liste!$S$7:$V$103,COLUMN()-6,0),\"\")","v":"T94"},{"$f":"IFERROR(VLOOKUP($K12,Liste!$S$7:$V$103,COLUMN()-6,0),\"\")","v":"P94"},{"$f":"IFERROR(VLOOKUP($K12,Liste!$S$7:$V$103,COLUMN()-6,0),\"\")","v":0},{"$f":"Liste!BN15","v":94},null,{"$f":"Liste!BL39","v":86},{"$f":"IFERROR(VLOOKUP($M12,Liste!$S$7:$V$103,COLUMN()-12,0),\"\")","v":"T86"},{"$f":"IFERROR(VLOOKUP($M12,Liste!$S$7:$V$103,COLUMN()-12,0),\"\")","v":"P86"},{"$f":"IFERROR(VLOOKUP($M12,Liste!$S$7:$V$103,COLUMN()-12,0),\"\")","v":0},12,null,13,{"$f":"IFERROR(VLOOKUP($W12,Liste!$S$7:$V$103,COLUMN()-18,0),\"\")","v":"T66"},{"$f":"IFERROR(VLOOKUP($W12,Liste!$S$7:$V$103,COLUMN()-18,0),\"\")","v":"P66"},{"$f":"IFERROR(VLOOKUP($W12,Liste!$S$7:$V$103,COLUMN()-18,0),\"\")","v":0},{"$f":"Liste!BN39","v":66}]
[{"$f":"Liste!BL16","v":2},{"$f":"IFERROR(VLOOKUP($A13,Liste!$S$7:$V$103,COLUMN(),0),\"\")","v":"T2"},{"$f":"IFERROR(VLOOKUP($A13,Liste!$S$7:$V$103,COLUMN(),0),\"\")","v":"P2"},{"$f":"IFERROR(VLOOKUP($A13,Liste!$S$7:$V$103,COLUMN(),0),\"\")","v":""},13,null,6,{"$f":"IFERROR(VLOOKUP($K13,Liste!$S$7:$V$103,COLUMN()-6,0),\"\")","v":"T22"},{"$f":"IFERROR(VLOOKUP($K13,Liste!$S$7:$V$103,COLUMN()-6,0),\"\")","v":"P22"},{"$f":"IFERROR(VLOOKUP($K13,Liste!$S$7:$V$103,COLUMN()-6,0),\"\")","v":""},{"$f":"Liste!BN16","v":22},null,{"$f":"Liste!BL40","v":28},{"$f":"IFERROR(VLOOKUP($M13,Liste!$S$7:$V$103,COLUMN()-12,0),\"\")","v":"T28"},{"$f":"IFERROR(VLOOKUP($M13,Liste!$S$7:$V$103,COLUMN()-12,0),\"\")","v":"P28"},{"$f":"IFERROR(VLOOKUP($M13,Liste!$S$7:$V$103,COLUMN()-12,0),\"\")","v":""},2,null,13,{"$f":"IFERROR(VLOOKUP($W13,Liste!$S$7:$V$103,COLUMN()-18,0),\"\")","v":"T12"},{"$f":"IFERROR(VLOOKUP($W13,Liste!$S$7:$V$103,COLUMN()-18,0),\"\")","v":"P12"},{"$f":"IFERROR(VLOOKUP($W13,Liste!$S$7:$V$103,COLUMN()-18,0),\"\")","v":""},{"$f":"Liste!BN40","v":12}]
[{"$f":"Liste!BL17","v":46},{"$f":"IFERROR(VLOOKUP($A14,Liste!$S$7:$V$103,COLUMN(),0),\"\")","v":"T46"},{"$f":"IFERROR(VLOOKUP($A14,Liste!$S$7:$V$103,COLUMN(),0),\"\")","v":"P46"},{"$f":"IFERROR(VLOOKUP($A14,Liste!$S$7:$V$103,COLUMN(),0),\"\")","v":""},13,null,6,{"$f":"IFERROR(VLOOKUP($K14,Liste!$S$7:$V$103,COLUMN()-6,0),\"\")","v":"T58"},{"$f":"IFERROR(VLOOKUP($K14,Liste!$S$7:$V$103,COLUMN()-6,0),\"\")","v":"P58"},{"$f":"IFERROR(VLOOKUP($K14,Liste!$S$7:$V$103,COLUMN()-6,0),\"\")","v":""},{"$f":"Liste!BN17","v":58},null,{"$f":"Liste!BL41","v":52},{"$f":"IFERROR(VLOOKUP($M14,Liste!$S$7:$V$103,COLUMN()-12,0),\"\")","v":"T52"},{"$f":"IFERROR(VLOOKUP($M14,Liste!$S$7:$V$103,COLUMN()-12,0),\"\")","v":"P52"},{"$f":"IFERROR(VLOOKUP($M14,Liste!$S$7:$V$103,COLUMN()-12,0),\"\")","v":""},13,null,4,{"$f":"IFERROR(VLOOKUP($W14,Liste!$S$7:$V$103,COLUMN()-18,0),\"\")","v":"T40"},{"$f":"IFERROR(VLOOKUP($W14,Liste!$S$7:$V$103,COLUMN()-18,0),\"\")","v":"P40"},{"$f":"IFERROR(VLOOKUP($W14,Liste!$S$7:$V$103,COLUMN()-18,0),\"\")","v":""},{"$f":"Liste!BN41","v":40}]
[{"$f":"Liste!BL18","v":70},{"$f":"IFERROR(VLOOKUP($A15,Liste!$S$7:$V$103,COLUMN(),0),\"\")","v":"T70"},{"$f":"IFERROR(VLOOKUP($A15,Liste!$S$7:$V$103,COLUMN(),0),\"\")","v":"P70"},{"$f":"IFERROR(VLOOKUP($A15,Liste!$S$7:$V$103,COLUMN(),0),\"\")","v":0},13,null,6,{"$f":"IFERROR(VLOOKUP($K15,Liste!$S$7:$V$103,COLUMN()-6,0),\"\")","v":"T93"},{"$f":"IFERROR(VLOOKUP($K15,Liste!$S$7:$V$103,COLUMN()-6,0),\"\")","v":"P93"},{"$f":"IFERROR(VLOOKUP($K15,Liste!$S$7:$V$103,COLUMN()-6,0),\"\")","v":0},{"$f":"Liste!BN18","v":93},null,{"$f":"Liste!BL42","v":82},{"$f":"IFERROR(VLOOKUP($M15,Liste!$S$7:$V$103,COLUMN()-12,0),\"\")","v":"T82"},{"$f":"IFERROR(VLOOKUP($M15,Liste!$S$7:$V$103,COLUMN()-12,0),\"\")","v":"P82"},{"$f":"IFERROR(VLOOKUP($M15,Liste!$S$7:$V$103,COLUMN()-12,0),\"\")","v":0},13,null,10,{"$f":"IFERROR(VLOOKUP($W15,Liste!$S$7:$V$103,COLUMN()-18,0),\"\")","v":"T79"},{"$f":"IFERROR(VLOOKUP($W15,Liste!$S$7:$V$103,COLUMN()-18,0),\"\")","v":"P79"},{"$f":"IFERROR(VLOOKUP($W15,Liste!$S$7:$V$103,COLUMN()-18,0),\"\")","v":0},{"$f":"Liste!BN42","v":79}]
[{"$f":"Liste!BL19","v":13},{"$f":"IFERROR(VLOOKUP($A16,Liste!$S$7:$V$103,COLUMN(),0),\"\")","v":"T13"},{"$f":"IFERROR(VLOOKUP($A16,Liste!$S$7:$V$103,COLUMN(),0),\"\")","v":"P13"},{"$f":"IFERROR(VLOOKUP($A16,Liste!$S$7:$V$103,COLUMN(),0),\"\")","v":""},13,null,6,{"$f":"IFERROR(VLOOKUP($K16,Liste!$S$7:$V$103,COLUMN()-6,0),\"\")","v":"T29"},{"$f":"IFERROR(VLOOKUP($K16,Liste!$S$7:$V$103,COLUMN()-6,0),\"\")","v":"P29"},{"$f":"IFERROR(VLOOKUP($K16,Liste!$S$7:$V$103,COLUMN()-6,0),\"\")","v":""},{"$f":"Liste!BN19","v":29},null,{"$f":"Liste!BL43","v":21},{"$f":"IFERROR(VLOOKUP($M16,Liste!$S$7:$V$103,COLUMN()-12,0),\"\")","v":"T21"},{"$f":"IFERROR(VLOOKUP($M16,Liste!$S$7:$V$103,COLUMN()-12,0),\"\")","v":"P21"},{"$f":"IFERROR(VLOOKUP($M16,Liste!$S$7:$V$103,COLUMN()-12,0),\"\")","v":""},7,null,13,{"$f":"IFERROR(VLOOKUP($W16,Liste!$S$7:$V$103,COLUMN()-18,0),\"\")","v":"T5"},{"$f":"IFERROR(VLOOKUP($W16,Liste!$S$7:$V$103,COLUMN()-18,0),\"\")","v":"P5"},{"$f":"IFERROR(VLOOKUP($W16,Liste!$S$7:$V$103,COLUMN()-18,0),\"\")","v":""},{"$f":"Liste!BN43","v":5}]
[{"$f":"Liste!BL20","v":37},{"$f":"IFERROR(VLOOKUP($A17,Liste!$S$7:$V$103,COLUMN(),0),\"\")","v":"T37"},{"$f":"IFERROR(VLOOKUP($A17,Liste!$S$7:$V$103,COLUMN(),0),\"\")","v":"P37"},{"$f":"IFERROR(VLOOKUP($A17,Liste!$S$7:$V$103,COLUMN(),0),\"\")","v":""},13,null,6,{"$f":"IFERROR(VLOOKUP($K17,Liste!$S$7:$V$103,COLUMN()-6,0),\"\")","v":"T54"},{"$f":"IFERROR(VLOOKUP($K17,Liste!$S$7:$V$103,COLUMN()-6,0),\"\")","v":"P54"},{"$f":"IFERROR(VLOOKUP($K17,Liste!$S$7:$V$103,COLUMN()-6,0),\"\")","v":""},{"$f":"Liste!BN20","v":54},null,{"$f":"Liste!BL44","v":62},{"$f":"IFERROR(VLOOKUP($M17,Liste!$S$7:$V$103,COLUMN()-12,0),\"\")","v":"T62"},{"$f":"IFERROR(VLOOKUP($M17,Liste!$S$7:$V$103,COLUMN()-12,0),\"\")","v":"P62"},{"$f":"IFERROR(VLOOKUP($M17,Liste!$S$7:$V$103,COLUMN()-12,0),\"\")","v":""},5,null,13,{"$f":"IFERROR(VLOOKUP($W17,Liste!$S$7:$V$103,COLUMN()-18,0),\"\")","v":"T45"},{"$f":"IFERROR(VLOOKUP($W17,Liste!$S$7:$V$103,COLUMN()-18,0),\"\")","v":"P45"},{"$f":"IFERROR(VLOOKUP($W17,Liste!$S$7:$V$103,COLUMN()-18,0),\"\")","v":""},{"$f":"Liste!BN44","v":45}]
[{"$f":"Liste!BL21","v":77},{"$f":"IFERROR(VLOOKUP($A18,Liste!$S$7:$V$103,COLUMN(),0),\"\")","v":"T77"},{"$f":"IFERROR(VLOOKUP($A18,Liste!$S$7:$V$103,COLUMN(),0),\"\")","v":"P77"},{"$f":"IFERROR(VLOOKUP($A18,Liste!$S$7:$V$103,COLUMN(),0),\"\")","v":0},13,null,6,{"$f":"IFERROR(VLOOKUP($K18,Liste!$S$7:$V$103,COLUMN()-6,0),\"\")","v":"T95"},{"$f":"IFERROR(VLOOKUP($K18,Liste!$S$7:$V$103,COLUMN()-6,0),\"\")","v":"P95"},{"$f":"IFERROR(VLOOKUP($K18,Liste!$S$7:$V$103,COLUMN()-6,0),\"\")","v":0},{"$f":"Liste!BN21","v":95},null,{"$f":"Liste!BL45","v":88},{"$f":"IFERROR(VLOOKUP($M18,Liste!$S$7:$V$103,COLUMN()-12,0),\"\")","v":"T88"},{"$f":"IFERROR(VLOOKUP($M18,Liste!$S$7:$V$103,COLUMN()-12,0),\"\")","v":"P88"},{"$f":"IFERROR(VLOOKUP($M18,Liste!$S$7:$V$103,COLUMN()-12,0),\"\")","v":0},13,null,9,{"$f":"IFERROR(VLOOKUP($W18,Liste!$S$7:$V$103,COLUMN()-18,0),\"\")","v":"T71"},{"$f":"IFERROR(VLOOKUP($W18,Liste!$S$7:$V$103,COLUMN()-18,0),\"\")","v":"P71"},{"$f":"IFERROR(VLOOKUP($W18,Liste!$S$7:$V$103,COLUMN()-18,0),\"\")","v":0},{"$f":"Liste!BN45","v":71}]
[{"$f":"Liste!BL22","v":8},{"$f":"IFERROR(VLOOKUP($A19,Liste!$S$7:$V$103,COLUMN(),0),\"\")","v":"T8"},{"$f":"IFERROR(VLOOKUP($A19,Liste!$S$7:$V$103,COLUMN(),0),\"\")","v":"P8"},{"$f":"IFERROR(VLOOKUP($A19,Liste!$S$7:$V$103,COLUMN(),0),\"\")","v":""},13,null,6,{"$f":"IFERROR(VLOOKUP($K19,Liste!$S$7:$V$103,COLUMN()-6,0),\"\")","v":"T32"},{"$f":"IFERROR(VLOOKUP($K19,Liste!$S$7:$V$103,COLUMN()-6,0),\"\")","v":"P32"},{"$f":"IFERROR(VLOOKUP($K19,Liste!$S$7:$V$103,COLUMN()-6,0),\"\")","v":""},{"$f":"Liste!BN22","v":32},null,{"$f":"Liste!BL46","v":24},{"$f":"IFERROR(VLOOKUP($M19,Liste!$S$7:$V$103,COLUMN()-12,0),\"\")","v":"T24"},{"$f":"IFERROR(VLOOKUP($M19,Liste!$S$7:$V$103,COLUMN()-12,0),\"\")","v":"P24"},{"$f":"IFERROR(VLOOKUP($M19,Liste!$S$7:$V$103,COLUMN()-12,0),\"\")","v":""},11,null,13,{"$f":"IFERROR(VLOOKUP($W19,Liste!$S$7:$V$103,COLUMN()-18,0),\"\")","v":"T14"},{"$f":"IFERROR(VLOOKUP($W19,Liste!$S$7:$V$103,COLUMN()-18,0),\"\")","v":"P14"},{"$f":"IFERROR(VLOOKUP($W19,Liste!$S$7:$V$103,COLUMN()-18,0),\"\")","v":""},{"$f":"Liste!BN46","v":14}]
["Equipes ",null,null,null,"PTS     EQ 1",null,"PTS     EQ 2","Equipes ",null,null,null,null,"Equipes ",null,null,null,"PTS     EQ 1",null,"PTS     EQ 2","Equipes "]
[{"$f":"Liste!BL23","v":33},{"$f":"IFERROR(VLOOKUP($A21,Liste!$S$7:$V$103,COLUMN(),0),\"\")","v":"T33"},{"$f":"IFERROR(VLOOKUP($A21,Liste!$S$7:$V$103,COLUMN(),0),\"\")","v":"P33"},{"$f":"IFERROR(VLOOKUP($A21,Liste!$S$7:$V$103,COLUMN(),0),\"\")","v":""},12,null,13,{"$f":"IFERROR(VLOOKUP($K21,Liste!$S$7:$V$103,COLUMN()-6,0),\"\")","v":"T53"},{"$f":"IFERROR(VLOOKUP($K21,Liste!$S$7:$V$103,COLUMN()-6,0),\"\")","v":"P53"},{"$f":"IFERROR(VLOOKUP($K21,Liste!$S$7:$V$103,COLUMN()-6,0),\"\")","v":""},{"$f":"Liste!BN23","v":53},null,{"$f":"Liste!BL47","v":61},{"$f":"IFERROR(VLOOKUP($M21,Liste!$S$7:$V$103,COLUMN()-12,0),\"\")","v":"T61"},{"$f":"IFERROR(VLOOKUP($M21,Liste!$S$7:$V$103,COLUMN()-12,0),\"\")","v":"P61"},{"$f":"IFERROR(VLOOKUP($M21,Liste!$S$7:$V$103,COLUMN()-12,0),\"\")","v":""},13,null,12,{"$f":"IFERROR(VLOOKUP($W21,Liste!$S$7:$V$103,COLUMN()-18,0),\"\")","v":"T43"},{"$f":"IFERROR(VLOOKUP($W21,Liste!$S$7:$V$103,COLUMN()-18,0),\"\")","v":"P43"},{"$f":"IFERROR(VLOOKUP($W21,Liste!$S$7:$V$103,COLUMN()-18,0),\"\")","v":""},{"$f":"Liste!BN47","v":43}]
[{"$f":"Liste!BL24","v":73},{"$f":"IFERROR(VLOOKUP($A22,Liste!$S$7:$V$103,COLUMN(),0),\"\")","v":"T73"},{"$f":"IFERROR(VLOOKUP($A22,Liste!$S$7:$V$103,COLUMN(),0),\"\")","v":"P73"},{"$f":"IFERROR(VLOOKUP($A22,Liste!$S$7:$V$103,COLUMN(),0),\"\")","v":0},2,null,13,{"$f":"IFERROR(VLOOKUP($K22,Liste!$S$7:$V$103,COLUMN()-6,0),\"\")","v":"T90"},{"$f":"IFERROR(VLOOKUP($K22,Liste!$S$7:$V$103,COLUMN()-6,0),\"\")","v":"P90"},{"$f":"IFERROR(VLOOKUP($K22,Liste!$S$7:$V$103,COLUMN()-6,0),\"\")","v":0},{"$f":"Liste!BN24","v":90},null,{"$f":"Liste!BL48","v":87},{"$f":"IFERROR(VLOOKUP($M22,Liste!$S$7:$V$103,COLUMN()-12,0),\"\")","v":"T87"},{"$f":"IFERROR(VLOOKUP($M22,Liste!$S$7:$V$103,COLUMN()-12,0),\"\")","v":"P87"},{"$f":"IFERROR(VLOOKUP($M22,Liste!$S$7:$V$103,COLUMN()-12,0),\"\")","v":0},13,null,2,{"$f":"IFERROR(VLOOKUP($W22,Liste!$S$7:$V$103,COLUMN()-18,0),\"\")","v":"T67"},{"$f":"IFERROR(VLOOKUP($W22,Liste!$S$7:$V$103,COLUMN()-18,0),\"\")","v":"P67"},{"$f":"IFERROR(VLOOKUP($W22,Liste!$S$7:$V$103,COLUMN()-18,0),\"\")","v":0},{"$f":"Liste!BN48","v":67}]
[{"$f":"Liste!BL25","v":3},{"$f":"IFERROR(VLOOKUP($A23,Liste!$S$7:$V$103,COLUMN(),0),\"\")","v":"T3"},{"$f":"IFERROR(VLOOKUP($A23,Liste!$S$7:$V$103,COLUMN(),0),\"\")","v":"P3"},{"$f":"IFERROR(VLOOKUP($A23,Liste!$S$7:$V$103,COLUMN(),0),\"\")","v":""},13,null,4,{"$f":"IFERROR(VLOOKUP($K23,Liste!$S$7:$V$103,COLUMN()-6,0),\"\")","v":"T23"},{"$f":"IFERROR(VLOOKUP($K23,Liste!$S$7:$V$103,COLUMN()-6,0),\"\")","v":"P23"},{"$f":"IFERROR(VLOOKUP($K23,Liste!$S$7:$V$103,COLUMN()-6,0),\"\")","v":""},{"$f":"Liste!BN25","v":23},null,{"$f":"Liste!BL49","v":31},{"$f":"IFERROR(VLOOKUP($M23,Liste!$S$7:$V$103,COLUMN()-12,0),\"\")","v":"T31"},{"$f":"IFERROR(VLOOKUP($M23,Liste!$S$7:$V$103,COLUMN()-12,0),\"\")","v":"P31"},{"$f":"IFERROR(VLOOKUP($M23,Liste!$S$7:$V$103,COLUMN()-12,0),\"\")","v":""},4,null,13,{"$f":"IFERROR(VLOOKUP($W23,Liste!$S$7:$V$103,COLUMN()-18,0),\"\")","v":"T11"},{"$f":"IFERROR(VLOOKUP($W23,Liste!$S$7:$V$103,COLUMN()-18,0),\"\")","v":"P11"},{"$f":"IFERROR(VLOOKUP($W23,Liste!$S$7:$V$103,COLUMN()-18,0),\"\")","v":""},{"$f":"Liste!BN49","v":11}]
[{"$f":"Liste!BL26","v":44},{"$f":"IFERROR(VLOOKUP($A24,Liste!$S$7:$V$103,COLUMN(),0),\"\")","v":"T44"},{"$f":"IFERROR(VLOOKUP($A24,Liste!$S$7:$V$103,COLUMN(),0),\"\")","v":"P44"},{"$f":"IFERROR(VLOOKUP($A24,Liste!$S$7:$V$103,COLUMN(),0),\"\")","v":""},13,null,10,{"$f":"IFERROR(VLOOKUP($K24,Liste!$S$7:$V$103,COLUMN()-6,0),\"\")","v":"T56"},{"$f":"IFERROR(VLOOKUP($K24,Liste!$S$7:$V$103,COLUMN()-6,0),\"\")","v":"P56"},{"$f":"IFERROR(VLOOKUP($K24,Liste!$S$7:$V$103,COLUMN()-6,0),\"\")","v":""},{"$f":"Liste!BN26","v":56},null,{"$f":"Liste!BL50","v":59},{"$f":"IFERROR(VLOOKUP($M24,Liste!$S$7:$V$103,COLUMN()-12,0),\"\")","v":"T59"},{"$f":"IFERROR(VLOOKUP($M24,Liste!$S$7:$V$103,COLUMN()-12,0),\"\")","v":"P59"},{"$f":"IFERROR(VLOOKUP($M24,Liste!$S$7:$V$103,COLUMN()-12,0),\"\")","v":""},10,null,13,{"$f":"IFERROR(VLOOKUP($W24,Liste!$S$7:$V$103,COLUMN()-18,0),\"\")","v":"T36"},{"$f":"IFERROR(VLOOKUP($W24,Liste!$S$7:$V$103,COLUMN()-18,0),\"\")","v":"P36"},{"$f":"IFERROR(VLOOKUP($W24,Liste!$S$7:$V$103,COLUMN()-18,0),\"\")","v":""},{"$f":"Liste!BN50","v":36}]
[{"$f":"Liste!BL27","v":80},{"$f":"IFERROR(VLOOKUP($A25,Liste!$S$7:$V$103,COLUMN(),0),\"\")","v":"T80"},{"$f":"IFERROR(VLOOKUP($A25,Liste!$S$7:$V$103,COLUMN(),0),\"\")","v":"P80"},{"$f":"IFERROR(VLOOKUP($A25,Liste!$S$7:$V$103,COLUMN(),0),\"\")","v":0},7,null,13,{"$f":"IFERROR(VLOOKUP($K25,Liste!$S$7:$V$103,COLUMN()-6,0),\"\")","v":"T91"},{"$f":"IFERROR(VLOOKUP($K25,Liste!$S$7:$V$103,COLUMN()-6,0),\"\")","v":"P91"},{"$f":"IFERROR(VLOOKUP($K25,Liste!$S$7:$V$103,COLUMN()-6,0),\"\")","v":0},{"$f":"Liste!BN27","v":91},null,{"$f":"Liste!BL51","v":81},{"$f":"IFERROR(VLOOKUP($M25,Liste!$S$7:$V$103,COLUMN()-12,0),\"\")","v":"T81"},{"$f":"IFERROR(VLOOKUP($M25,Liste!$S$7:$V$103,COLUMN()-12,0),\"\")","v":"P81"},{"$f":"IFERROR(VLOOKUP($M25,Liste!$S$7:$V$103,COLUMN()-12,0),\"\")","v":0},13,null,7,{"$f":"IFERROR(VLOOKUP($W25,Liste!$S$7:$V$103,COLUMN()-18,0),\"\")","v":"T69"},{"$f":"IFERROR(VLOOKUP($W25,Liste!$S$7:$V$103,COLUMN()-18,0),\"\")","v":"P69"},{"$f":"IFERROR(VLOOKUP($W25,Liste!$S$7:$V$103,COLUMN()-18,0),\"\")","v":0},{"$f":"Liste!BN51","v":69}]
[{"$f":"Liste!BL28","v":6},{"$f":"IFERROR(VLOOKUP($A26,Liste!$S$7:$V$103,COLUMN(),0),\"\")","v":"T6"},{"$f":"IFERROR(VLOOKUP($A26,Liste!$S$7:$V$103,COLUMN(),0),\"\")","v":"P6"},{"$f":"IFERROR(VLOOKUP($A26,Liste!$S$7:$V$103,COLUMN(),0),\"\")","v":""},5,null,13,{"$f":"IFERROR(VLOOKUP($K26,Liste!$S$7:$V$103,COLUMN()-6,0),\"\")","v":"T18"},{"$f":"IFERROR(VLOOKUP($K26,Liste!$S$7:$V$103,COLUMN()-6,0),\"\")","v":"P18"},{"$f":"IFERROR(VLOOKUP($K26,Liste!$S$7:$V$103,COLUMN()-6,0),\"\")","v":""},{"$f":"Liste!BN28","v":18},null,{"$f":"Liste!BL52","v":30},{"$f":"IFERROR(VLOOKUP($M26,Liste!$S$7:$V$103,COLUMN()-12,0),\"\")","v":"T30"},{"$f":"IFERROR(VLOOKUP($M26,Liste!$S$7:$V$103,COLUMN()-12,0),\"\")","v":"P30"},{"$f":"IFERROR(VLOOKUP($M26,Liste!$S$7:$V$103,COLUMN()-12,0),\"\")","v":""},13,null,5,{"$f":"IFERROR(VLOOKUP($W26,Liste!$S$7:$V$103,COLUMN()-18,0),\"\")","v":"T16"},{"$f":"IFERROR(VLOOKUP($W26,Liste!$S$7:$V$103,COLUMN()-18,0),\"\")","v":"P16"},{"$f":"IFERROR(VLOOKUP($W26,Liste!$S$7:$V$103,COLUMN()-18,0),\"\")","v":""},{"$f":"Liste!BN52","v":16}]
[{"$f":"Liste!BL29","v":41},{"$f":"IFERROR(VLOOKUP($A27,Liste!$S$7:$V$103,COLUMN(),0),\"\")","v":"T41"},{"$f":"IFERROR(VLOOKUP($A27,Liste!$S$7:$V$103,COLUMN(),0),\"\")","v":"P41"},{"$f":"IFERROR(VLOOKUP($A27,Liste!$S$7:$V$103,COLUMN(),0),\"\")","v":""},13,null,9,{"$f":"IFERROR(VLOOKUP($K27,Liste!$S$7:$V$103,COLUMN()-6,0),\"\")","v":"T64"},{"$f":"IFERROR(VLOOKUP($K27,Liste!$S$7:$V$103,COLUMN()-6,0),\"\")","v":"P64"},{"$f":"IFERROR(VLOOKUP($K27,Liste!$S$7:$V$103,COLUMN()-6,0),\"\")","v":""},{"$f":"Liste!BN29","v":64},null,{"$f":"Liste!BL53","v":55},{"$f":"IFERROR(VLOOKUP($M27,Liste!$S$7:$V$103,COLUMN()-12,0),\"\")","v":"T55"},{"$f":"IFERROR(VLOOKUP($M27,Liste!$S$7:$V$103,COLUMN()-12,0),\"\")","v":"P55"},{"$f":"IFERROR(VLOOKUP($M27,Liste!$S$7:$V$103,COLUMN()-12,0),\"\")","v":""},9,null,13,{"$f":"IFERROR(VLOOKUP($W27,Liste!$S$7:$V$103,COLUMN()-18,0),\"\")","v":"T35"},{"$f":"IFERROR(VLOOKUP($W27,Liste!$S$7:$V$103,COLUMN()-18,0),\"\")","v":"P35"},{"$f":"IFERROR(VLOOKUP($W27,Liste!$S$7:$V$103,COLUMN()-18,0),\"\")","v":""},{"$f":"Liste!BN53","v":35}]
[{"$f":"Liste!BL30","v":65},{"$f":"IFERROR(VLOOKUP($A28,Liste!$S$7:$V$103,COLUMN(),0),\"\")","v":"T65"},{"$f":"IFERROR(VLOOKUP($A28,Liste!$S$7:$V$103,COLUMN(),0),\"\")","v":"P65"},{"$f":"IFERROR(VLOOKUP($A28,Liste!$S$7:$V$103,COLUMN(),0),\"\")","v":0},11,null,13,{"$f":"IFERROR(VLOOKUP($K28,Liste!$S$7:$V$103,COLUMN()-6,0),\"\")","v":"T92"},{"$f":"IFERROR(VLOOKUP($K28,Liste!$S$7:$V$103,COLUMN()-6,0),\"\")","v":"P92"},{"$f":"IFERROR(VLOOKUP($K28,Liste!$S$7:$V$103,COLUMN()-6,0),\"\")","v":0},{"$f":"Liste!BN30","v":92},null,{"$f":"Liste!BL54","v":85},{"$f":"IFERROR(VLOOKUP($M28,Liste!$S$7:$V$103,COLUMN()-12,0),\"\")","v":"T85"},{"$f":"IFERROR(VLOOKUP($M28,Liste!$S$7:$V$103,COLUMN()-12,0),\"\")","v":"P85"},{"$f":"IFERROR(VLOOKUP($M28,Liste!$S$7:$V$103,COLUMN()-12,0),\"\")","v":0},13,null,11,{"$f":"IFERROR(VLOOKUP($W28,Liste!$S$7:$V$103,COLUMN()-18,0),\"\")","v":"T75"},{"$f":"IFERROR(VLOOKUP($W28,Liste!$S$7:$V$103,COLUMN()-18,0),\"\")","v":"P75"},{"$f":"IFERROR(VLOOKUP($W28,Liste!$S$7:$V$103,COLUMN()-18,0),\"\")","v":0},{"$f":"Liste!BN54","v":75}]
[]
[]
[]
[null,{"$f":"B3","v":"T1"},{"$f":"E3","v":13},null,{"$f":"G3","v":6}]
[null,{"$f":"B4","v":"T34"},{"$f":"E4","v":13},null,{"$f":"G4","v":6}]
[null,"T68",13,null,6]
[null,"T4",13,null,6]
[null,"T38",13,null,6]
[null,"T72",13,null,6]
[null,"T7",13,null,6]
[null,"T39",13,null,6]
[null,{"$f":"B12","v":"T76"},{"$f":"E12","v":13},null,{"$f":"G12","v":6}]
[null,"T2",13,null,{"$f":"G13","v":6}]
[null,"T46",13,null,6]
[null,"T70",13,null,6]
[null,"T13",13,null,6]
[null,"T37",13,null,6]
[null,"T77",13,null,6]
[null,"T8",13,null,6]
[null,{"$f":"B21","v":"T33"},{"$f":"E21","v":12},null,{"$f":"G21","v":13}]
[null,"T73",2,null,{"$f":"G22","v":13}]
[null,"T3",13,null,4]
[null,"T44",13,null,10]
[null,"T80",7,null,13]
[null,"T6",5,null,13]
[null,"T41",13,null,9]
[null,"T65",11,null,13]
[null,{"$f":"H3","v":"T17"},{"$f":"G3","v":6},null,{"$f":"E3","v":13}]
[null,{"$f":"H4","v":"T49"},{"$f":"G4","v":6},null,{"$f":"E4","v":13}]
[null,"T83",6,null,13]
[null,"T20",6,null,13]
[null,"T50",6,null,13]
[null,"T84",6,null,13]
[null,"T19",6,null,13]
[null,"T51",6,null,13]
[null,{"$f":"H12","v":"T94"},{"$f":"G12","v":6},null,{"$f":"E12","v":13}]
[null,"T22",6,null,{"$f":"E13","v":13}]
[null,"T58",6,null,13]
[null,"T93",6,null,13]
[null,"T29",6,null,13]
[null,"T54",6,null,13]
[null,"T95",6,null,13]
[null,"T32",6,null,13]
[null,{"$f":"H21","v":"T53"},{"$f":"G21","v":13},null,{"$f":"E21","v":12}]
[null,"T90",13,null,{"$f":"E22","v":2}]
[null,"T23",4,null,13]
[null,"T56",10,null,13]
[null,"T91",13,null,7]
[null,"T18",13,null,5]
[null,"T64",9,null,13]
[null,"T92",13,null,11]
[null,{"$f":"N3","v":"T25"},{"$f":"Q3","v":13},null,{"$f":"S3","v":12}]
[null,{"$f":"N4","v":"T57"},{"$f":"Q4","v":13},null,{"$f":"S4","v":2}]
[null,"T89",4,null,13]
[null,"T26",10,null,13]
[null,"T60",13,null,7]
[null,"T96",13,null,5]
[null,"T27",9,null,13]
[null,"T63",13,null,11]
[null,{"$f":"N12","v":"T86"},{"$f":"Q12","v":12},null,{"$f":"S12","v":13}]
[null,"T28",2,null,{"$f":"S13","v":13}]
[null,"T52",13,null,4]
[null,"T82",13,null,10]
[null,"T21",7,null,13]
[null,"T62",5,null,13]
[null,"T88",13,null,9]
[null,"T24",11,null,13]
[null,{"$f":"N21","v":"T61"},{"$f":"Q21","v":13},null,{"$f":"S21","v":12}]
[null,"T87",13,null,{"$f":"S22","v":2}]
[null,"T31",4,null,13]
[null,"T59",10,null,13]
[null,"T81",13,null,7]
[null,"T30",13,null,5]
[null,"T55",9,null,13]
[null,"T85",13,null,11]
[null,{"$f":"T3","v":"T9"},{"$f":"S3","v":12},null,{"$f":"Q3","v":13}]
[null,{"$f":"T4","v":"T42"},{"$f":"S4","v":2},null,13]
[null,"T74",13,null,4]
[null,"T10",13,null,10]
[null,"T47",7,null,13]
[null,"T78",5,null,13]
[null,"T15",13,null,9]
[null,"T48",11,null,13]
[null,{"$f":"T12","v":"T66"},{"$f":"S12","v":13},null,{"$f":"Q12","v":12}]
[null,"T12",13,null,2]
[null,"T40",4,null,13]
[null,"T79",10,null,13]
[null,"T5",13,null,7]
[null,"T45",13,null,5]
[null,"T71",9,null,13]
[null,"T14",13,null,11]
[null,{"$f":"T21","v":"T43"},{"$f":"S21","v":12},null,{"$f":"Q21","v":13}]
[null,"T67",2,null,13]
[null,"T11",13,null,4]
[null,"T36",13,null,10]
[null,"T69",7,null,13]
[null,"T16",5,null,13]
[null,"T35",13,null,9]
[null,{"$f":"T28","v":"T75"},{"$f":"S28","v":11},null,13]
[null,{"$f":"C3","v":"P1"},{"$f":"E3","v":13},null,{"$f":"E32","v":6}]
[null,{"$f":"C4","v":"P34"},{"$f":"E4","v":13},null,{"$f":"E33","v":6}]
[null,"P68",13,null,6]
[null,"P4",13,null,6]
[null,"P38",13,null,6]
[null,"P72",13,null,6]
[null,"P7",13,null,6]
[null,"P39",13,null,6]
[null,{"$f":"C12","v":"P76"},{"$f":"E12","v":13},null,6]
[null,"P2",13,null,6]
[null,"P46",13,null,6]
[null,"P70",13,null,6]
[null,"P13",13,null,6]
[null,"P37",13,null,6]
[null,"P77",13,null,6]
[null,"P8",13,null,6]
[null,{"$f":"C21","v":"P33"},{"$f":"E21","v":12},null,13]
[null,"P73",2,null,13]
[null,"P3",13,null,4]
[null,"P44",13,null,10]
[null,"P80",7,null,13]
[null,"P6",5,null,13]
[null,"P41",13,null,9]
[null,"P65",11,null,13]
[null,{"$f":"I3","v":"P17"},{"$f":"G3","v":6},null,13]
[null,{"$f":"I4","v":"P49"},{"$f":"G4","v":6},null,13]
[null,"P83",6,null,13]
[null,"P20",6,null,13]
[null,"P50",6,null,13]
[null,"P84",6,null,13]
[null,"P19",6,null,13]
[null,"P51",6,null,13]
[null,{"$f":"I12","v":"P94"},{"$f":"G12","v":6},null,13]
[null,"P22",6,null,13]
[null,"P58",6,null,13]
[null,"P93",6,null,13]
[null,"P29",6,null,13]
[null,"P54",6,null,13]
[null,"P95",6,null,13]
[null,"P32",6,null,13]
[null,{"$f":"I21","v":"P53"},{"$f":"G21","v":13},null,12]
[null,"P90",13,null,2]
[null,"P23",4,null,13]
[null,"P56",10,null,13]
[null,"P91",13,null,7]
[null,"P18",13,null,5]
[null,"P64",9,null,13]
[null,"P92",13,null,11]
[null,{"$f":"O3","v":"P25"},{"$f":"Q3","v":13},null,12]
[null,{"$f":"O4","v":"P57"},{"$f":"Q4","v":13},null,2]
[null,"P89",4,null,13]
[null,"P26",10,null,13]
[null,"P60",13,null,7]
[null,"P96",13,null,5]
[null,"P27",9,null,13]
[null,"P63",13,null,11]
[null,{"$f":"O12","v":"P86"},{"$f":"Q12","v":12},null,{"$f":"E87","v":11}]
[null,"P28",2,null,{"$f":"E88","v":13}]
[null,"P52",13,null,4]
[null,"P82",13,null,10]
[null,"P21",7,null,13]
[null,"P62",5,null,13]
[null,"P88",13,null,9]
[null,"P24",11,null,13]
[null,{"$f":"O21","v":"P61"},{"$f":"Q21","v":13},null,12]
[null,"P87",13,null,{"$f":"E97","v":2}]
[null,"P31",4,null,13]
[null,"P59",10,null,13]
[null,"P81",13,null,7]
[null,"P30",13,null,5]
[null,"P55",9,null,13]
[null,"P85",13,null,11]
[null,{"$f":"U3","v":"P9"},{"$f":"S3","v":12},null,13]
[null,{"$f":"U4","v":"P42"},{"$f":"S4","v":2},null,13]
[null,"P74",13,null,4]
[null,"P10",13,null,10]
[null,"P47",7,null,13]
[null,"P78",5,null,13]
[null,"P15",13,null,9]
[null,"P48",11,null,13]
[null,{"$f":"U12","v":"P66"},{"$f":"S12","v":13},null,12]
[null,"P12",13,null,2]
[null,"P40",4,null,13]
[null,"P79",10,null,13]
[null,"P5",13,null,7]
[null,"P45",13,null,5]
[null,"P71",9,null,13]
[null,"P14",13,null,11]
[null,{"$f":"U21","v":"P43"},{"$f":"S21","v":12},null,13]
[null,"P67",2,null,13]
[null,"P11",13,null,4]
[null,"P36",13,null,10]
[null,"P69",7,null,13]
[null,"P16",5,null,13]
[null,"P35",13,null,9]
[null,"P75",11,null,13]

{"sheet":"Recap","index":6,"n_rows":194,"n_cols":25,"rows_kept":194,"cut":false,"hidden":false,"merged":[[1,3,1,4],[1,5,1,6],[1,7,1,8],[1,9,1,10],[1,11,1,12]]}
["Liste des joueurs",null,null,null,null,null,null,null,null,null,null,null,null,null,null,null,null,null,"Liste des joueurs"]
["N° \n","Noms Prénoms",null,"P1",null,"P2",null,"P3",null,"P4",null,"P5",null,"Nom Prénoms","Total Points réalisés","Points Concédés","Parties Gagnées",null,"Cub","Nom Prénoms","Total Points réalisés","Points Concédés","Parties gagnées"]
[{"$f":"ROW()-2","v":1},{"$f":"IFERROR(INDEX(Liste!$I$7:$I$198,MATCH(Recap!A3,Liste!$L$7:$L$198,0)),\"\")","v":"T1"},null,{"$f":"IFERROR(VLOOKUP($B3,'Partie 1'!$B$32:$D$223,2,0),\"\")","v":13},{"$f":"IFERROR(VLOOKUP($B3,'Partie 1'!$B$32:$E$223,4,0),\"\")","v":10},{"$f":"IFERROR(VLOOKUP($B3,'Partie 2'!$B$32:$D$223,2,0),\"\")","v":13},{"$f":"IFERROR(VLOOKUP($B3,'Partie 2'!$B$32:$E$223,4,0),\"\")","v":6},{"$f":"IFERROR(VLOOKUP($B3,'Partie 3'!$B$32:$D$223,2,0),\"\")","v":13},{"$f":"IFERROR(VLOOKUP($B3,'Partie 3'!$B$32:$E$223,4,0),\"\")","v":6},{"$f":"IFERROR(VLOOKUP($B3,'Partie 4'!$B$32:$D$223,2,0),\"\")","v":13},{"$f":"IFERROR(VLOOKUP($B3,'Partie 4'!$B$32:$E$223,4,0),\"\")","v":6},{"$f":"IFERROR(VLOOKUP($B3,'Partie 5'!$B$32:$D$223,2,0),\"\")","v":13},{"$f":"IFERROR(VLOOKUP($B3,'Partie 5'!$B$32:$E$223,4,0),\"\")","v":6},{"$f":"IF(ISBLANK(B3),\"\",B3)","v":"T1"},{"$f":"SUMIF($D$2:$M$2,\"P*\",D3:M3)","v":65},{"$f":"SUMIF($D$2:$M$2,\"\",D3:M3)","v":34},{"$f":"COUNTIFS($D$2:$M$2,\"P*\",D3:M3,13)","v":5},null,{"$f":"IFERROR(INDEX(Liste!$G$7:$G$198,MATCH(B3,Liste!$I$7:$I$198,0)),\"\")","v":"ST"},{"$f":"B3","v":"T1"},{"$f":"O3","v":65},{"$f":"P3","v":34},5]
[2,{"$f":"IFERROR(INDEX(Liste!$I$7:$I$198,MATCH(Recap!A4,Liste!$L$7:$L$198,0)),\"\")","v":"T2"},null,{"$f":"IFERROR(VLOOKUP($B4,'Partie 1'!$B$32:$D$223,2,0),\"\")","v":10},{"$f":"IFERROR(VLOOKUP($B4,'Partie 1'!$B$32:$E$223,4,0),\"\")","v":13},{"$f":"IFERROR(VLOOKUP($B4,'Partie 2'!$B$32:$D$223,2,0),\"\")","v":12},{"$f":"IFERROR(VLOOKUP($B4,'Partie 2'!$B$32:$E$223,4,0),\"\")","v":13},{"$f":"IFERROR(VLOOKUP($B4,'Partie 3'!$B$32:$D$223,2,0),\"\")","v":13},{"$f":"IFERROR(VLOOKUP($B4,'Partie 3'!$B$32:$E$223,4,0),\"\")","v":7},{"$f":"IFERROR(VLOOKUP($B4,'Partie 4'!$B$32:$D$223,2,0),\"\")","v":13},{"$f":"IFERROR(VLOOKUP($B4,'Partie 4'!$B$32:$E$223,4,0),\"\")","v":4},{"$f":"IFERROR(VLOOKUP($B4,'Partie 5'!$B$32:$D$223,2,0),\"\")","v":13},{"$f":"IFERROR(VLOOKUP($B4,'Partie 5'!$B$32:$E$223,4,0),\"\")","v":6},{"$f":"IF(ISBLANK(B4),\"\",B4)","v":"T2"},{"$f":"SUMIF($D$2:$M$2,\"P*\",D4:M4)","v":61},{"$f":"SUMIF($D$2:$M$2,\"\",D4:M4)","v":43},{"$f":"COUNTIFS($D$2:$M$2,\"P*\",D4:M4,13)","v":3},null,{"$f":"IFERROR(INDEX(Liste!$G$7:$G$198,MATCH(B4,Liste!$I$7:$I$198,0)),\"\")","v":"ST"},{"$f":"B4","v":"T2"},{"$f":"O4","v":61},{"$f":"P4","v":43},{"$f":"Q4","v":3}]
[3,{"$f":"IFERROR(INDEX(Liste!$I$7:$I$198,MATCH(Recap!A5,Liste!$L$7:$L$198,0)),\"\")","v":"T3"},null,{"$f":"IFERROR(VLOOKUP($B5,'Partie 1'!$B$32:$D$223,2,0),\"\")","v":13},{"$f":"IFERROR(VLOOKUP($B5,'Partie 1'!$B$32:$E$223,4,0),\"\")","v":10},{"$f":"IFERROR(VLOOKUP($B5,'Partie 2'!$B$32:$D$223,2,0),\"\")","v":6},{"$f":"IFERROR(VLOOKUP($B5,'Partie 2'!$B$32:$E$223,4,0),\"\")","v":13},{"$f":"IFERROR(VLOOKUP($B5,'Partie 3'!$B$32:$D$223,2,0),\"\")","v":12},{"$f":"IFERROR(VLOOKUP($B5,'Partie 3'!$B$32:$E$223,4,0),\"\")","v":13},{"$f":"IFERROR(VLOOKUP($B5,'Partie 4'!$B$32:$D$223,2,0),\"\")","v":13},{"$f":"IFERROR(VLOOKUP($B5,'Partie 4'!$B$32:$E$223,4,0),\"\")","v":7},{"$f":"IFERROR(VLOOKUP($B5,'Partie 5'!$B$32:$D$223,2,0),\"\")","v":13},{"$f":"IFERROR(VLOOKUP($B5,'Partie 5'!$B$32:$E$223,4,0),\"\")","v":4},"T3",57,47,3,null,{"$f":"IFERROR(INDEX(Liste!$G$7:$G$198,MATCH(B5,Liste!$I$7:$I$198,0)),\"\")","v":"ST"},"T3",57,47,3]
[4,{"$f":"IFERROR(INDEX(Liste!$I$7:$I$198,MATCH(Recap!A6,Liste!$L$7:$L$198,0)),\"\")","v":"T4"},null,{"$f":"IFERROR(VLOOKUP($B6,'Partie 1'!$B$32:$D$223,2,0),\"\")","v":10},{"$f":"IFERROR(VLOOKUP($B6,'Partie 1'!$B$32:$E$223,4,0),\"\")","v":13},{"$f":"IFERROR(VLOOKUP($B6,'Partie 2'!$B$32:$D$223,2,0),\"\")","v":13},{"$f":"IFERROR(VLOOKUP($B6,'Partie 2'!$B$32:$E$223,4,0),\"\")","v":12},{"$f":"IFERROR(VLOOKUP($B6,'Partie 3'!$B$32:$D$223,2,0),\"\")","v":13},{"$f":"IFERROR(VLOOKUP($B6,'Partie 3'!$B$32:$E$223,4,0),\"\")","v":6},{"$f":"IFERROR(VLOOKUP($B6,'Partie 4'!$B$32:$D$223,2,0),\"\")","v":13},{"$f":"IFERROR(VLOOKUP($B6,'Partie 4'!$B$32:$E$223,4,0),\"\")","v":6},{"$f":"IFERROR(VLOOKUP($B6,'Partie 5'!$B$32:$D$223,2,0),\"\")","v":13},{"$f":"IFERROR(VLOOKUP($B6,'Partie 5'!$B$32:$E$223,4,0),\"\")","v":6},"T4",62,43,4,null,{"$f":"IFERROR(INDEX(Liste!$G$7:$G$198,MATCH(B6,Liste!$I$7:$I$198,0)),\"\")","v":"ST"},"T4",62,43,4]
[5,{"$f":"IFERROR(INDEX(Liste!$I$7:$I$198,MATCH(Recap!A7,Liste!$L$7:$L$198,0)),\"\")","v":"T5"},null,{"$f":"IFERROR(VLOOKUP($B7,'Partie 1'!$B$32:$D$223,2,0),\"\")","v":13},{"$f":"IFERROR(VLOOKUP($B7,'Partie 1'!$B$32:$E$223,4,0),\"\")","v":10},{"$f":"IFERROR(VLOOKUP($B7,'Partie 2'!$B$32:$D$223,2,0),\"\")","v":13},{"$f":"IFERROR(VLOOKUP($B7,'Partie 2'!$B$32:$E$223,4,0),\"\")","v":6},{"$f":"IFERROR(VLOOKUP($B7,'Partie 3'!$B$32:$D$223,2,0),\"\")","v":6},{"$f":"IFERROR(VLOOKUP($B7,'Partie 3'!$B$32:$E$223,4,0),\"\")","v":13},{"$f":"IFERROR(VLOOKUP($B7,'Partie 4'!$B$32:$D$223,2,0),\"\")","v":12},{"$f":"IFERROR(VLOOKUP($B7,'Partie 4'!$B$32:$E$223,4,0),\"\")","v":13},{"$f":"IFERROR(VLOOKUP($B7,'Partie 5'!$B$32:$D$223,2,0),\"\")","v":13},{"$f":"IFERROR(VLOOKUP($B7,'Partie 5'!$B$32:$E$223,4,0),\"\")","v":7},"T5",57,49,3,null,{"$f":"IFERROR(INDEX(Liste!$G$7:$G$198,MATCH(B7,Liste!$I$7:$I$198,0)),\"\")","v":"ST"},"T5",57,49,3]
[6,{"$f":"IFERROR(INDEX(Liste!$I$7:$I$198,MATCH(Recap!A8,Liste!$L$7:$L$198,0)),\"\")","v":"T6"},null,{"$f":"IFERROR(VLOOKUP($B8,'Partie 1'!$B$32:$D$223,2,0),\"\")","v":10},{"$f":"IFERROR(VLOOKUP($B8,'Partie 1'!$B$32:$E$223,4,0),\"\")","v":13},{"$f":"IFERROR(VLOOKUP($B8,'Partie 2'!$B$32:$D$223,2,0),\"\")","v":2},{"$f":"IFERROR(VLOOKUP($B8,'Partie 2'!$B$32:$E$223,4,0),\"\")","v":13},{"$f":"IFERROR(VLOOKUP($B8,'Partie 3'!$B$32:$D$223,2,0),\"\")","v":7},{"$f":"IFERROR(VLOOKUP($B8,'Partie 3'!$B$32:$E$223,4,0),\"\")","v":13},{"$f":"IFERROR(VLOOKUP($B8,'Partie 4'!$B$32:$D$223,2,0),\"\")","v":13},{"$f":"IFERROR(VLOOKUP($B8,'Partie 4'!$B$32:$E$223,4,0),\"\")","v":4},{"$f":"IFERROR(VLOOKUP($B8,'Partie 5'!$B$32:$D$223,2,0),\"\")","v":5},{"$f":"IFERROR(VLOOKUP($B8,'Partie 5'!$B$32:$E$223,4,0),\"\")","v":13},"T6",37,56,1,null,{"$f":"IFERROR(INDEX(Liste!$G$7:$G$198,MATCH(B8,Liste!$I$7:$I$198,0)),\"\")","v":"ST"},"T6",37,56,1]
[7,{"$f":"IFERROR(INDEX(Liste!$I$7:$I$198,MATCH(Recap!A9,Liste!$L$7:$L$198,0)),\"\")","v":"T7"},null,{"$f":"IFERROR(VLOOKUP($B9,'Partie 1'!$B$32:$D$223,2,0),\"\")","v":13},{"$f":"IFERROR(VLOOKUP($B9,'Partie 1'!$B$32:$E$223,4,0),\"\")","v":10},{"$f":"IFERROR(VLOOKUP($B9,'Partie 2'!$B$32:$D$223,2,0),\"\")","v":6},{"$f":"IFERROR(VLOOKUP($B9,'Partie 2'!$B$32:$E$223,4,0),\"\")","v":13},{"$f":"IFERROR(VLOOKUP($B9,'Partie 3'!$B$32:$D$223,2,0),\"\")","v":13},{"$f":"IFERROR(VLOOKUP($B9,'Partie 3'!$B$32:$E$223,4,0),\"\")","v":12},{"$f":"IFERROR(VLOOKUP($B9,'Partie 4'!$B$32:$D$223,2,0),\"\")","v":13},{"$f":"IFERROR(VLOOKUP($B9,'Partie 4'!$B$32:$E$223,4,0),\"\")","v":6},{"$f":"IFERROR(VLOOKUP($B9,'Partie 5'!$B$32:$D$223,2,0),\"\")","v":13},{"$f":"IFERROR(VLOOKUP($B9,'Partie 5'!$B$32:$E$223,4,0),\"\")","v":6},"T7",58,47,4,null,{"$f":"IFERROR(INDEX(Liste!$G$7:$G$198,MATCH(B9,Liste!$I$7:$I$198,0)),\"\")","v":"ST"},"T7",58,47,4]
[8,{"$f":"IFERROR(INDEX(Liste!$I$7:$I$198,MATCH(Recap!A10,Liste!$L$7:$L$198,0)),\"\")","v":"T8"},null,{"$f":"IFERROR(VLOOKUP($B10,'Partie 1'!$B$32:$D$223,2,0),\"\")","v":10},{"$f":"IFERROR(VLOOKUP($B10,'Partie 1'!$B$32:$E$223,4,0),\"\")","v":13},{"$f":"IFERROR(VLOOKUP($B10,'Partie 2'!$B$32:$D$223,2,0),\"\")","v":13},{"$f":"IFERROR(VLOOKUP($B10,'Partie 2'!$B$32:$E$223,4,0),\"\")","v":2},{"$f":"IFERROR(VLOOKUP($B10,'Partie 3'!$B$32:$D$223,2,0),\"\")","v":6},{"$f":"IFERROR(VLOOKUP($B10,'Partie 3'!$B$32:$E$223,4,0),\"\")","v":13},{"$f":"IFERROR(VLOOKUP($B10,'Partie 4'!$B$32:$D$223,2,0),\"\")","v":13},{"$f":"IFERROR(VLOOKUP($B10,'Partie 4'!$B$32:$E$223,4,0),\"\")","v":9},{"$f":"IFERROR(VLOOKUP($B10,'Partie 5'!$B$32:$D$223,2,0),\"\")","v":13},{"$f":"IFERROR(VLOOKUP($B10,'Partie 5'!$B$32:$E$223,4,0),\"\")","v":6},"T8",55,43,3,null,{"$f":"IFERROR(INDEX(Liste!$G$7:$G$198,MATCH(B10,Liste!$I$7:$I$198,0)),\"\")","v":"ST"},"T8",55,43,3]
[9,{"$f":"IFERROR(INDEX(Liste!$I$7:$I$198,MATCH(Recap!A11,Liste!$L$7:$L$198,0)),\"\")","v":"T9"},null,{"$f":"IFERROR(VLOOKUP($B11,'Partie 1'!$B$32:$D$223,2,0),\"\")","v":13},{"$f":"IFERROR(VLOOKUP($B11,'Partie 1'!$B$32:$E$223,4,0),\"\")","v":10},{"$f":"IFERROR(VLOOKUP($B11,'Partie 2'!$B$32:$D$223,2,0),\"\")","v":13},{"$f":"IFERROR(VLOOKUP($B11,'Partie 2'!$B$32:$E$223,4,0),\"\")","v":6},{"$f":"IFERROR(VLOOKUP($B11,'Partie 3'!$B$32:$D$223,2,0),\"\")","v":13},{"$f":"IFERROR(VLOOKUP($B11,'Partie 3'!$B$32:$E$223,4,0),\"\")","v":6},{"$f":"IFERROR(VLOOKUP($B11,'Partie 4'!$B$32:$D$223,2,0),\"\")","v":6},{"$f":"IFERROR(VLOOKUP($B11,'Partie 4'!$B$32:$E$223,4,0),\"\")","v":13},{"$f":"IFERROR(VLOOKUP($B11,'Partie 5'!$B$32:$D$223,2,0),\"\")","v":12},{"$f":"IFERROR(VLOOKUP($B11,'Partie 5'!$B$32:$E$223,4,0),\"\")","v":13},"T9",57,48,3,null,{"$f":"IFERROR(INDEX(Liste!$G$7:$G$198,MATCH(B11,Liste!$I$7:$I$198,0)),\"\")","v":"ST"},"T9",57,48,3]
[10,{"$f":"IFERROR(INDEX(Liste!$I$7:$I$198,MATCH(Recap!A12,Liste!$L$7:$L$198,0)),\"\")","v":"T10"},null,{"$f":"IFERROR(VLOOKUP($B12,'Partie 1'!$B$32:$D$223,2,0),\"\")","v":10},{"$f":"IFERROR(VLOOKUP($B12,'Partie 1'!$B$32:$E$223,4,0),\"\")","v":13},{"$f":"IFERROR(VLOOKUP($B12,'Partie 2'!$B$32:$D$223,2,0),\"\")","v":13},{"$f":"IFERROR(VLOOKUP($B12,'Partie 2'!$B$32:$E$223,4,0),\"\")","v":4},{"$f":"IFERROR(VLOOKUP($B12,'Partie 3'!$B$32:$D$223,2,0),\"\")","v":13},{"$f":"IFERROR(VLOOKUP($B12,'Partie 3'!$B$32:$E$223,4,0),\"\")","v":6},{"$f":"IFERROR(VLOOKUP($B12,'Partie 4'!$B$32:$D$223,2,0),\"\")","v":6},{"$f":"IFERROR(VLOOKUP($B12,'Partie 4'!$B$32:$E$223,4,0),\"\")","v":13},{"$f":"IFERROR(VLOOKUP($B12,'Partie 5'!$B$32:$D$223,2,0),\"\")","v":13},{"$f":"IFERROR(VLOOKUP($B12,'Partie 5'!$B$32:$E$223,4,0),\"\")","v":10},"T10",55,46,3,null,{"$f":"IFERROR(INDEX(Liste!$G$7:$G$198,MATCH(B12,Liste!$I$7:$I$198,0)),\"\")","v":"ST"},"T10",55,46,3]
[11,{"$f":"IFERROR(INDEX(Liste!$I$7:$I$198,MATCH(Recap!A13,Liste!$L$7:$L$198,0)),\"\")","v":"T11"},null,{"$f":"IFERROR(VLOOKUP($B13,'Partie 1'!$B$32:$D$223,2,0),\"\")","v":13},{"$f":"IFERROR(VLOOKUP($B13,'Partie 1'!$B$32:$E$223,4,0),\"\")","v":10},{"$f":"IFERROR(VLOOKUP($B13,'Partie 2'!$B$32:$D$223,2,0),\"\")","v":6},{"$f":"IFERROR(VLOOKUP($B13,'Partie 2'!$B$32:$E$223,4,0),\"\")","v":13},{"$f":"IFERROR(VLOOKUP($B13,'Partie 3'!$B$32:$D$223,2,0),\"\")","v":2},{"$f":"IFERROR(VLOOKUP($B13,'Partie 3'!$B$32:$E$223,4,0),\"\")","v":13},{"$f":"IFERROR(VLOOKUP($B13,'Partie 4'!$B$32:$D$223,2,0),\"\")","v":7},{"$f":"IFERROR(VLOOKUP($B13,'Partie 4'!$B$32:$E$223,4,0),\"\")","v":13},{"$f":"IFERROR(VLOOKUP($B13,'Partie 5'!$B$32:$D$223,2,0),\"\")","v":13},{"$f":"IFERROR(VLOOKUP($B13,'Partie 5'!$B$32:$E$223,4,0),\"\")","v":4},"T11",41,53,2,null,{"$f":"IFERROR(INDEX(Liste!$G$7:$G$198,MATCH(B13,Liste!$I$7:$I$198,0)),\"\")","v":"ST"},"T11",41,53,2]
[12,{"$f":"IFERROR(INDEX(Liste!$I$7:$I$198,MATCH(Recap!A14,Liste!$L$7:$L$198,0)),\"\")","v":"T12"},null,{"$f":"IFERROR(VLOOKUP($B14,'Partie 1'!$B$32:$D$223,2,0),\"\")","v":10},{"$f":"IFERROR(VLOOKUP($B14,'Partie 1'!$B$32:$E$223,4,0),\"\")","v":13},{"$f":"IFERROR(VLOOKUP($B14,'Partie 2'!$B$32:$D$223,2,0),\"\")","v":4},{"$f":"IFERROR(VLOOKUP($B14,'Partie 2'!$B$32:$E$223,4,0),\"\")","v":13},{"$f":"IFERROR(VLOOKUP($B14,'Partie 3'!$B$32:$D$223,2,0),\"\")","v":13},{"$f":"IFERROR(VLOOKUP($B14,'Partie 3'!$B$32:$E$223,4,0),\"\")","v":5},{"$f":"IFERROR(VLOOKUP($B14,'Partie 4'!$B$32:$D$223,2,0),\"\")","v":4},{"$f":"IFERROR(VLOOKUP($B14,'Partie 4'!$B$32:$E$223,4,0),\"\")","v":13},{"$f":"IFERROR(VLOOKUP($B14,'Partie 5'!$B$32:$D$223,2,0),\"\")","v":13},{"$f":"IFERROR(VLOOKUP($B14,'Partie 5'!$B$32:$E$223,4,0),\"\")","v":2},"T12",44,46,2,null,{"$f":"IFERROR(INDEX(Liste!$G$7:$G$198,MATCH(B14,Liste!$I$7:$I$198,0)),\"\")","v":"ST"},"T12",44,46,2]
[13,{"$f":"IFERROR(INDEX(Liste!$I$7:$I$198,MATCH(Recap!A15,Liste!$L$7:$L$198,0)),\"\")","v":"T13"},null,{"$f":"IFERROR(VLOOKUP($B15,'Partie 1'!$B$32:$D$223,2,0),\"\")","v":13},{"$f":"IFERROR(VLOOKUP($B15,'Partie 1'!$B$32:$E$223,4,0),\"\")","v":10},{"$f":"IFERROR(VLOOKUP($B15,'Partie 2'!$B$32:$D$223,2,0),\"\")","v":13},{"$f":"IFERROR(VLOOKUP($B15,'Partie 2'!$B$32:$E$223,4,0),\"\")","v":6},{"$f":"IFERROR(VLOOKUP($B15,'Partie 3'!$B$32:$D$223,2,0),\"\")","v":6},{"$f":"IFERROR(VLOOKUP($B15,'Partie 3'!$B$32:$E$223,4,0),\"\")","v":13},{"$f":"IFERROR(VLOOKUP($B15,'Partie 4'!$B$32:$D$223,2,0),\"\")","v":13},{"$f":"IFERROR(VLOOKUP($B15,'Partie 4'!$B$32:$E$223,4,0),\"\")","v":12},{"$f":"IFERROR(VLOOKUP($B15,'Partie 5'!$B$32:$D$223,2,0),\"\")","v":13},{"$f":"IFERROR(VLOOKUP($B15,'Partie 5'!$B$32:$E$223,4,0),\"\")","v":6},"T13",58,47,4,null,{"$f":"IFERROR(INDEX(Liste!$G$7:$G$198,MATCH(B15,Liste!$I$7:$I$198,0)),\"\")","v":"ST"},"T13",58,47,4]
[14,{"$f":"IFERROR(INDEX(Liste!$I$7:$I$198,MATCH(Recap!A16,Liste!$L$7:$L$198,0)),\"\")","v":"T14"},null,{"$f":"IFERROR(VLOOKUP($B16,'Partie 1'!$B$32:$D$223,2,0),\"\")","v":10},{"$f":"IFERROR(VLOOKUP($B16,'Partie 1'!$B$32:$E$223,4,0),\"\")","v":13},{"$f":"IFERROR(VLOOKUP($B16,'Partie 2'!$B$32:$D$223,2,0),\"\")","v":13},{"$f":"IFERROR(VLOOKUP($B16,'Partie 2'!$B$32:$E$223,4,0),\"\")","v":10},{"$f":"IFERROR(VLOOKUP($B16,'Partie 3'!$B$32:$D$223,2,0),\"\")","v":6},{"$f":"IFERROR(VLOOKUP($B16,'Partie 3'!$B$32:$E$223,4,0),\"\")","v":13},{"$f":"IFERROR(VLOOKUP($B16,'Partie 4'!$B$32:$D$223,2,0),\"\")","v":9},{"$f":"IFERROR(VLOOKUP($B16,'Partie 4'!$B$32:$E$223,4,0),\"\")","v":13},{"$f":"IFERROR(VLOOKUP($B16,'Partie 5'!$B$32:$D$223,2,0),\"\")","v":13},{"$f":"IFERROR(VLOOKUP($B16,'Partie 5'!$B$32:$E$223,4,0),\"\")","v":11},"T14",51,60,2,null,{"$f":"IFERROR(INDEX(Liste!$G$7:$G$198,MATCH(B16,Liste!$I$7:$I$198,0)),\"\")","v":"ST"},"T14",51,60,2]
[15,{"$f":"IFERROR(INDEX(Liste!$I$7:$I$198,MATCH(Recap!A17,Liste!$L$7:$L$198,0)),\"\")","v":"T15"},null,{"$f":"IFERROR(VLOOKUP($B17,'Partie 1'!$B$32:$D$223,2,0),\"\")","v":13},{"$f":"IFERROR(VLOOKUP($B17,'Partie 1'!$B$32:$E$223,4,0),\"\")","v":10},{"$f":"IFERROR(VLOOKUP($B17,'Partie 2'!$B$32:$D$223,2,0),\"\")","v":6},{"$f":"IFERROR(VLOOKUP($B17,'Partie 2'!$B$32:$E$223,4,0),\"\")","v":13},{"$f":"IFERROR(VLOOKUP($B17,'Partie 3'!$B$32:$D$223,2,0),\"\")","v":13},{"$f":"IFERROR(VLOOKUP($B17,'Partie 3'!$B$32:$E$223,4,0),\"\")","v":2},{"$f":"IFERROR(VLOOKUP($B17,'Partie 4'!$B$32:$D$223,2,0),\"\")","v":6},{"$f":"IFERROR(VLOOKUP($B17,'Partie 4'!$B$32:$E$223,4,0),\"\")","v":13},{"$f":"IFERROR(VLOOKUP($B17,'Partie 5'!$B$32:$D$223,2,0),\"\")","v":13},{"$f":"IFERROR(VLOOKUP($B17,'Partie 5'!$B$32:$E$223,4,0),\"\")","v":9},"T15",51,47,3,null,{"$f":"IFERROR(INDEX(Liste!$G$7:$G$198,MATCH(B17,Liste!$I$7:$I$198,0)),\"\")","v":"ST"},"T15",51,47,3]
[16,{"$f":"IFERROR(INDEX(Liste!$I$7:$I$198,MATCH(Recap!A18,Liste!$L$7:$L$198,0)),\"\")","v":"T16"},null,{"$f":"IFERROR(VLOOKUP($B18,'Partie 1'!$B$32:$D$223,2,0),\"\")","v":10},{"$f":"IFERROR(VLOOKUP($B18,'Partie 1'!$B$32:$E$223,4,0),\"\")","v":13},{"$f":"IFERROR(VLOOKUP($B18,'Partie 2'!$B$32:$D$223,2,0),\"\")","v":10},{"$f":"IFERROR(VLOOKUP($B18,'Partie 2'!$B$32:$E$223,4,0),\"\")","v":13},{"$f":"IFERROR(VLOOKUP($B18,'Partie 3'!$B$32:$D$223,2,0),\"\")","v":5},{"$f":"IFERROR(VLOOKUP($B18,'Partie 3'!$B$32:$E$223,4,0),\"\")","v":13},{"$f":"IFERROR(VLOOKUP($B18,'Partie 4'!$B$32:$D$223,2,0),\"\")","v":4},{"$f":"IFERROR(VLOOKUP($B18,'Partie 4'!$B$32:$E$223,4,0),\"\")","v":13},{"$f":"IFERROR(VLOOKUP($B18,'Partie 5'!$B$32:$D$223,2,0),\"\")","v":5},{"$f":"IFERROR(VLOOKUP($B18,'Partie 5'!$B$32:$E$223,4,0),\"\")","v":13},"T16",34,65,0,null,{"$f":"IFERROR(INDEX(Liste!$G$7:$G$198,MATCH(B18,Liste!$I$7:$I$198,0)),\"\")","v":"ST"},"T16",34,65,0]
[17,{"$f":"IFERROR(INDEX(Liste!$I$7:$I$198,MATCH(Recap!A19,Liste!$L$7:$L$198,0)),\"\")","v":"T17"},null,{"$f":"IFERROR(VLOOKUP($B19,'Partie 1'!$B$32:$D$223,2,0),\"\")","v":13},{"$f":"IFERROR(VLOOKUP($B19,'Partie 1'!$B$32:$E$223,4,0),\"\")","v":10},{"$f":"IFERROR(VLOOKUP($B19,'Partie 2'!$B$32:$D$223,2,0),\"\")","v":13},{"$f":"IFERROR(VLOOKUP($B19,'Partie 2'!$B$32:$E$223,4,0),\"\")","v":6},{"$f":"IFERROR(VLOOKUP($B19,'Partie 3'!$B$32:$D$223,2,0),\"\")","v":13},{"$f":"IFERROR(VLOOKUP($B19,'Partie 3'!$B$32:$E$223,4,0),\"\")","v":6},{"$f":"IFERROR(VLOOKUP($B19,'Partie 4'!$B$32:$D$223,2,0),\"\")","v":13},{"$f":"IFERROR(VLOOKUP($B19,'Partie 4'!$B$32:$E$223,4,0),\"\")","v":6},{"$f":"IFERROR(VLOOKUP($B19,'Partie 5'!$B$32:$D$223,2,0),\"\")","v":6},{"$f":"IFERROR(VLOOKUP($B19,'Partie 5'!$B$32:$E$223,4,0),\"\")","v":13},"T17",58,41,4,null,{"$f":"IFERROR(INDEX(Liste!$G$7:$G$198,MATCH(B19,Liste!$I$7:$I$198,0)),\"\")","v":"E"},"T17",58,41,4]
[18,{"$f":"IFERROR(INDEX(Liste!$I$7:$I$198,MATCH(Recap!A20,Liste!$L$7:$L$198,0)),\"\")","v":"T18"},null,{"$f":"IFERROR(VLOOKUP($B20,'Partie 1'!$B$32:$D$223,2,0),\"\")","v":10},{"$f":"IFERROR(VLOOKUP($B20,'Partie 1'!$B$32:$E$223,4,0),\"\")","v":13},{"$f":"IFERROR(VLOOKUP($B20,'Partie 2'!$B$32:$D$223,2,0),\"\")","v":7},{"$f":"IFERROR(VLOOKUP($B20,'Partie 2'!$B$32:$E$223,4,0),\"\")","v":13},{"$f":"IFERROR(VLOOKUP($B20,'Partie 3'!$B$32:$D$223,2,0),\"\")","v":9},{"$f":"IFERROR(VLOOKUP($B20,'Partie 3'!$B$32:$E$223,4,0),\"\")","v":13},{"$f":"IFERROR(VLOOKUP($B20,'Partie 4'!$B$32:$D$223,2,0),\"\")","v":13},{"$f":"IFERROR(VLOOKUP($B20,'Partie 4'!$B$32:$E$223,4,0),\"\")","v":10},{"$f":"IFERROR(VLOOKUP($B20,'Partie 5'!$B$32:$D$223,2,0),\"\")","v":13},{"$f":"IFERROR(VLOOKUP($B20,'Partie 5'!$B$32:$E$223,4,0),\"\")","v":5},"T18",52,54,2,null,{"$f":"IFERROR(INDEX(Liste!$G$7:$G$198,MATCH(B20,Liste!$I$7:$I$198,0)),\"\")","v":"E"},"T18",52,54,2]
[19,{"$f":"IFERROR(INDEX(Liste!$I$7:$I$198,MATCH(Recap!A21,Liste!$L$7:$L$198,0)),\"\")","v":"T19"},null,{"$f":"IFERROR(VLOOKUP($B21,'Partie 1'!$B$32:$D$223,2,0),\"\")","v":13},{"$f":"IFERROR(VLOOKUP($B21,'Partie 1'!$B$32:$E$223,4,0),\"\")","v":10},{"$f":"IFERROR(VLOOKUP($B21,'Partie 2'!$B$32:$D$223,2,0),\"\")","v":6},{"$f":"IFERROR(VLOOKUP($B21,'Partie 2'!$B$32:$E$223,4,0),\"\")","v":13},{"$f":"IFERROR(VLOOKUP($B21,'Partie 3'!$B$32:$D$223,2,0),\"\")","v":13},{"$f":"IFERROR(VLOOKUP($B21,'Partie 3'!$B$32:$E$223,4,0),\"\")","v":4},{"$f":"IFERROR(VLOOKUP($B21,'Partie 4'!$B$32:$D$223,2,0),\"\")","v":13},{"$f":"IFERROR(VLOOKUP($B21,'Partie 4'!$B$32:$E$223,4,0),\"\")","v":6},{"$f":"IFERROR(VLOOKUP($B21,'Partie 5'!$B$32:$D$223,2,0),\"\")","v":6},{"$f":"IFERROR(VLOOKUP($B21,'Partie 5'!$B$32:$E$223,4,0),\"\")","v":13},"T19",51,46,3,null,{"$f":"IFERROR(INDEX(Liste!$G$7:$G$198,MATCH(B21,Liste!$I$7:$I$198,0)),\"\")","v":"E"},"T19",51,46,3]
[20,{"$f":"IFERROR(INDEX(Liste!$I$7:$I$198,MATCH(Recap!A22,Liste!$L$7:$L$198,0)),\"\")","v":"T20"},null,{"$f":"IFERROR(VLOOKUP($B22,'Partie 1'!$B$32:$D$223,2,0),\"\")","v":10},{"$f":"IFERROR(VLOOKUP($B22,'Partie 1'!$B$32:$E$223,4,0),\"\")","v":13},{"$f":"IFERROR(VLOOKUP($B22,'Partie 2'!$B$32:$D$223,2,0),\"\")","v":13},{"$f":"IFERROR(VLOOKUP($B22,'Partie 2'!$B$32:$E$223,4,0),\"\")","v":7},{"$f":"IFERROR(VLOOKUP($B22,'Partie 3'!$B$32:$D$223,2,0),\"\")","v":13},{"$f":"IFERROR(VLOOKUP($B22,'Partie 3'!$B$32:$E$223,4,0),\"\")","v":6},{"$f":"IFERROR(VLOOKUP($B22,'Partie 4'!$B$32:$D$223,2,0),\"\")","v":13},{"$f":"IFERROR(VLOOKUP($B22,'Partie 4'!$B$32:$E$223,4,0),\"\")","v":6},{"$f":"IFERROR(VLOOKUP($B22,'Partie 5'!$B$32:$D$223,2,0),\"\")","v":6},{"$f":"IFERROR(VLOOKUP($B22,'Partie 5'!$B$32:$E$223,4,0),\"\")","v":13},"T20",55,45,3,null,{"$f":"IFERROR(INDEX(Liste!$G$7:$G$198,MATCH(B22,Liste!$I$7:$I$198,0)),\"\")","v":"E"},"T20",55,45,3]
[21,{"$f":"IFERROR(INDEX(Liste!$I$7:$I$198,MATCH(Recap!A23,Liste!$L$7:$L$198,0)),\"\")","v":"T21"},null,{"$f":"IFERROR(VLOOKUP($B23,'Partie 1'!$B$32:$D$223,2,0),\"\")","v":13},{"$f":"IFERROR(VLOOKUP($B23,'Partie 1'!$B$32:$E$223,4,0),\"\")","v":10},{"$f":"IFERROR(VLOOKUP($B23,'Partie 2'!$B$32:$D$223,2,0),\"\")","v":13},{"$f":"IFERROR(VLOOKUP($B23,'Partie 2'!$B$32:$E$223,4,0),\"\")","v":6},{"$f":"IFERROR(VLOOKUP($B23,'Partie 3'!$B$32:$D$223,2,0),\"\")","v":6},{"$f":"IFERROR(VLOOKUP($B23,'Partie 3'!$B$32:$E$223,4,0),\"\")","v":13},{"$f":"IFERROR(VLOOKUP($B23,'Partie 4'!$B$32:$D$223,2,0),\"\")","v":2},{"$f":"IFERROR(VLOOKUP($B23,'Partie 4'!$B$32:$E$223,4,0),\"\")","v":13},{"$f":"IFERROR(VLOOKUP($B23,'Partie 5'!$B$32:$D$223,2,0),\"\")","v":7},{"$f":"IFERROR(VLOOKUP($B23,'Partie 5'!$B$32:$E$223,4,0),\"\")","v":13},"T21",41,55,2,null,{"$f":"IFERROR(INDEX(Liste!$G$7:$G$198,MATCH(B23,Liste!$I$7:$I$198,0)),\"\")","v":"E"},"T21",41,55,2]
[22,{"$f":"IFERROR(INDEX(Liste!$I$7:$I$198,MATCH(Recap!A24,Liste!$L$7:$L$198,0)),\"\")","v":"T22"},null,{"$f":"IFERROR(VLOOKUP($B24,'Partie 1'!$B$32:$D$223,2,0),\"\")","v":10},{"$f":"IFERROR(VLOOKUP($B24,'Partie 1'!$B$32:$E$223,4,0),\"\")","v":13},{"$f":"IFERROR(VLOOKUP($B24,'Partie 2'!$B$32:$D$223,2,0),\"\")","v":5},{"$f":"IFERROR(VLOOKUP($B24,'Partie 2'!$B$32:$E$223,4,0),\"\")","v":13},{"$f":"IFERROR(VLOOKUP($B24,'Partie 3'!$B$32:$D$223,2,0),\"\")","v":13},{"$f":"IFERROR(VLOOKUP($B24,'Partie 3'!$B$32:$E$223,4,0),\"\")","v":9},{"$f":"IFERROR(VLOOKUP($B24,'Partie 4'!$B$32:$D$223,2,0),\"\")","v":13},{"$f":"IFERROR(VLOOKUP($B24,'Partie 4'!$B$32:$E$223,4,0),\"\")","v":10},{"$f":"IFERROR(VLOOKUP($B24,'Partie 5'!$B$32:$D$223,2,0),\"\")","v":6},{"$f":"IFERROR(VLOOKUP($B24,'Partie 5'!$B$32:$E$223,4,0),\"\")","v":13},"T22",47,58,2,null,{"$f":"IFERROR(INDEX(Liste!$G$7:$G$198,MATCH(B24,Liste!$I$7:$I$198,0)),\"\")","v":"E"},"T22",47,58,2]
[23,{"$f":"IFERROR(INDEX(Liste!$I$7:$I$198,MATCH(Recap!A25,Liste!$L$7:$L$198,0)),\"\")","v":"T23"},null,{"$f":"IFERROR(VLOOKUP($B25,'Partie 1'!$B$32:$D$223,2,0),\"\")","v":13},{"$f":"IFERROR(VLOOKUP($B25,'Partie 1'!$B$32:$E$223,4,0),\"\")","v":10},{"$f":"IFERROR(VLOOKUP($B25,'Partie 2'!$B$32:$D$223,2,0),\"\")","v":6},{"$f":"IFERROR(VLOOKUP($B25,'Partie 2'!$B$32:$E$223,4,0),\"\")","v":13},{"$f":"IFERROR(VLOOKUP($B25,'Partie 3'!$B$32:$D$223,2,0),\"\")","v":4},{"$f":"IFERROR(VLOOKUP($B25,'Partie 3'!$B$32:$E$223,4,0),\"\")","v":13},{"$f":"IFERROR(VLOOKUP($B25,'Partie 4'!$B$32:$D$223,2,0),\"\")","v":13},{"$f":"IFERROR(VLOOKUP($B25,'Partie 4'!$B$32:$E$223,4,0),\"\")","v":5},{"$f":"IFERROR(VLOOKUP($B25,'Partie 5'!$B$32:$D$223,2,0),\"\")","v":4},{"$f":"IFERROR(VLOOKUP($B25,'Partie 5'!$B$32:$E$223,4,0),\"\")","v":13},"T23",40,54,2,null,{"$f":"IFERROR(INDEX(Liste!$G$7:$G$198,MATCH(B25,Liste!$I$7:$I$198,0)),\"\")","v":"E"},"T23",40,54,2]
[24,{"$f":"IFERROR(INDEX(Liste!$I$7:$I$198,MATCH(Recap!A26,Liste!$L$7:$L$198,0)),\"\")","v":"T24"},null,{"$f":"IFERROR(VLOOKUP($B26,'Partie 1'!$B$32:$D$223,2,0),\"\")","v":10},{"$f":"IFERROR(VLOOKUP($B26,'Partie 1'!$B$32:$E$223,4,0),\"\")","v":13},{"$f":"IFERROR(VLOOKUP($B26,'Partie 2'!$B$32:$D$223,2,0),\"\")","v":13},{"$f":"IFERROR(VLOOKUP($B26,'Partie 2'!$B$32:$E$223,4,0),\"\")","v":5},{"$f":"IFERROR(VLOOKUP($B26,'Partie 3'!$B$32:$D$223,2,0),\"\")","v":6},{"$f":"IFERROR(VLOOKUP($B26,'Partie 3'!$B$32:$E$223,4,0),\"\")","v":13},{"$f":"IFERROR(VLOOKUP($B26,'Partie 4'!$B$32:$D$223,2,0),\"\")","v":11},{"$f":"IFERROR(VLOOKUP($B26,'Partie 4'!$B$32:$E$223,4,0),\"\")","v":13},{"$f":"IFERROR(VLOOKUP($B26,'Partie 5'!$B$32:$D$223,2,0),\"\")","v":11},{"$f":"IFERROR(VLOOKUP($B26,'Partie 5'!$B$32:$E$223,4,0),\"\")","v":13},"T24",51,57,1,null,{"$f":"IFERROR(INDEX(Liste!$G$7:$G$198,MATCH(B26,Liste!$I$7:$I$198,0)),\"\")","v":"E"},"T24",51,57,1]
[25,{"$f":"IFERROR(INDEX(Liste!$I$7:$I$198,MATCH(Recap!A27,Liste!$L$7:$L$198,0)),\"\")","v":"T25"},null,{"$f":"IFERROR(VLOOKUP($B27,'Partie 1'!$B$32:$D$223,2,0),\"\")","v":13},{"$f":"IFERROR(VLOOKUP($B27,'Partie 1'!$B$32:$E$223,4,0),\"\")","v":10},{"$f":"IFERROR(VLOOKUP($B27,'Partie 2'!$B$32:$D$223,2,0),\"\")","v":13},{"$f":"IFERROR(VLOOKUP($B27,'Partie 2'!$B$32:$E$223,4,0),\"\")","v":6},{"$f":"IFERROR(VLOOKUP($B27,'Partie 3'!$B$32:$D$223,2,0),\"\")","v":13},{"$f":"IFERROR(VLOOKUP($B27,'Partie 3'!$B$32:$E$223,4,0),\"\")","v":6},{"$f":"IFERROR(VLOOKUP($B27,'Partie 4'!$B$32:$D$223,2,0),\"\")","v":6},{"$f":"IFERROR(VLOOKUP($B27,'Partie 4'!$B$32:$E$223,4,0),\"\")","v":13},{"$f":"IFERROR(VLOOKUP($B27,'Partie 5'!$B$32:$D$223,2,0),\"\")","v":13},{"$f":"IFERROR(VLOOKUP($B27,'Partie 5'!$B$32:$E$223,4,0),\"\")","v":12},"T25",58,47,4,null,{"$f":"IFERROR(INDEX(Liste!$G$7:$G$198,MATCH(B27,Liste!$I$7:$I$198,0)),\"\")","v":"E"},"T25",58,47,4]
[26,{"$f":"IFERROR(INDEX(Liste!$I$7:$I$198,MATCH(Recap!A28,Liste!$L$7:$L$198,0)),\"\")","v":"T26"},null,{"$f":"IFERROR(VLOOKUP($B28,'Partie 1'!$B$32:$D$223,2,0),\"\")","v":10},{"$f":"IFERROR(VLOOKUP($B28,'Partie 1'!$B$32:$E$223,4,0),\"\")","v":13},{"$f":"IFERROR(VLOOKUP($B28,'Partie 2'!$B$32:$D$223,2,0),\"\")","v":13},{"$f":"IFERROR(VLOOKUP($B28,'Partie 2'!$B$32:$E$223,4,0),\"\")","v":9},{"$f":"IFERROR(VLOOKUP($B28,'Partie 3'!$B$32:$D$223,2,0),\"\")","v":13},{"$f":"IFERROR(VLOOKUP($B28,'Partie 3'!$B$32:$E$223,4,0),\"\")","v":6},{"$f":"IFERROR(VLOOKUP($B28,'Partie 4'!$B$32:$D$223,2,0),\"\")","v":6},{"$f":"IFERROR(VLOOKUP($B28,'Partie 4'!$B$32:$E$223,4,0),\"\")","v":13},{"$f":"IFERROR(VLOOKUP($B28,'Partie 5'!$B$32:$D$223,2,0),\"\")","v":10},{"$f":"IFERROR(VLOOKUP($B28,'Partie 5'!$B$32:$E$223,4,0),\"\")","v":13},"T26",52,54,2,null,{"$f":"IFERROR(INDEX(Liste!$G$7:$G$198,MATCH(B28,Liste!$I$7:$I$198,0)),\"\")","v":"E"},"T26",52,54,2]
[27,{"$f":"IFERROR(INDEX(Liste!$I$7:$I$198,MATCH(Recap!A29,Liste!$L$7:$L$198,0)),\"\")","v":"T27"},null,{"$f":"IFERROR(VLOOKUP($B29,'Partie 1'!$B$32:$D$223,2,0),\"\")","v":13},{"$f":"IFERROR(VLOOKUP($B29,'Partie 1'!$B$32:$E$223,4,0),\"\")","v":10},{"$f":"IFERROR(VLOOKUP($B29,'Partie 2'!$B$32:$D$223,2,0),\"\")","v":6},{"$f":"IFERROR(VLOOKUP($B29,'Partie 2'!$B$32:$E$223,4,0),\"\")","v":13},{"$f":"IFERROR(VLOOKUP($B29,'Partie 3'!$B$32:$D$223,2,0),\"\")","v":13},{"$f":"IFERROR(VLOOKUP($B29,'Partie 3'!$B$32:$E$223,4,0),\"\")","v":10},{"$f":"IFERROR(VLOOKUP($B29,'Partie 4'!$B$32:$D$223,2,0),\"\")","v":6},{"$f":"IFERROR(VLOOKUP($B29,'Partie 4'!$B$32:$E$223,4,0),\"\")","v":13},{"$f":"IFERROR(VLOOKUP($B29,'Partie 5'!$B$32:$D$223,2,0),\"\")","v":9},{"$f":"IFERROR(VLOOKUP($B29,'Partie 5'!$B$32:$E$223,4,0),\"\")","v":13},"T27",47,59,2,null,{"$f":"IFERROR(INDEX(Liste!$G$7:$G$198,MATCH(B29,Liste!$I$7:$I$198,0)),\"\")","v":"E"},"T27",47,59,2]
[28,{"$f":"IFERROR(INDEX(Liste!$I$7:$I$198,MATCH(Recap!A30,Liste!$L$7:$L$198,0)),\"\")","v":"T28"},null,{"$f":"IFERROR(VLOOKUP($B30,'Partie 1'!$B$32:$D$223,2,0),\"\")","v":10},{"$f":"IFERROR(VLOOKUP($B30,'Partie 1'!$B$32:$E$223,4,0),\"\")","v":13},{"$f":"IFERROR(VLOOKUP($B30,'Partie 2'!$B$32:$D$223,2,0),\"\")","v":9},{"$f":"IFERROR(VLOOKUP($B30,'Partie 2'!$B$32:$E$223,4,0),\"\")","v":13},{"$f":"IFERROR(VLOOKUP($B30,'Partie 3'!$B$32:$D$223,2,0),\"\")","v":13},{"$f":"IFERROR(VLOOKUP($B30,'Partie 3'!$B$32:$E$223,4,0),\"\")","v":11},{"$f":"IFERROR(VLOOKUP($B30,'Partie 4'!$B$32:$D$223,2,0),\"\")","v":10},{"$f":"IFERROR(VLOOKUP($B30,'Partie 4'!$B$32:$E$223,4,0),\"\")","v":13},{"$f":"IFERROR(VLOOKUP($B30,'Partie 5'!$B$32:$D$223,2,0),\"\")","v":2},{"$f":"IFERROR(VLOOKUP($B30,'Partie 5'!$B$32:$E$223,4,0),\"\")","v":13},"T28",44,63,1,null,{"$f":"IFERROR(INDEX(Liste!$G$7:$G$198,MATCH(B30,Liste!$I$7:$I$198,0)),\"\")","v":"E"},"T28",44,63,1]
[29,{"$f":"IFERROR(INDEX(Liste!$I$7:$I$198,MATCH(Recap!A31,Liste!$L$7:$L$198,0)),\"\")","v":"T29"},null,{"$f":"IFERROR(VLOOKUP($B31,'Partie 1'!$B$32:$D$223,2,0),\"\")","v":13},{"$f":"IFERROR(VLOOKUP($B31,'Partie 1'!$B$32:$E$223,4,0),\"\")","v":10},{"$f":"IFERROR(VLOOKUP($B31,'Partie 2'!$B$32:$D$223,2,0),\"\")","v":13},{"$f":"IFERROR(VLOOKUP($B31,'Partie 2'!$B$32:$E$223,4,0),\"\")","v":6},{"$f":"IFERROR(VLOOKUP($B31,'Partie 3'!$B$32:$D$223,2,0),\"\")","v":6},{"$f":"IFERROR(VLOOKUP($B31,'Partie 3'!$B$32:$E$223,4,0),\"\")","v":13},{"$f":"IFERROR(VLOOKUP($B31,'Partie 4'!$B$32:$D$223,2,0),\"\")","v":13},{"$f":"IFERROR(VLOOKUP($B31,'Partie 4'!$B$32:$E$223,4,0),\"\")","v":2},{"$f":"IFERROR(VLOOKUP($B31,'Partie 5'!$B$32:$D$223,2,0),\"\")","v":6},{"$f":"IFERROR(VLOOKUP($B31,'Partie 5'!$B$32:$E$223,4,0),\"\")","v":13},"T29",51,44,3,null,{"$f":"IFERROR(INDEX(Liste!$G$7:$G$198,MATCH(B31,Liste!$I$7:$I$198,0)),\"\")","v":"E"},"T29",51,44,3]
[30,{"$f":"IFERROR(INDEX(Liste!$I$7:$I$198,MATCH(Recap!A32,Liste!$L$7:$L$198,0)),\"\")","v":"T30"},null,{"$f":"IFERROR(VLOOKUP($B32,'Partie 1'!$B$32:$D$223,2,0),\"\")","v":10},{"$f":"IFERROR(VLOOKUP($B32,'Partie 1'!$B$32:$E$223,4,0),\"\")","v":13},{"$f":"IFERROR(VLOOKUP($B32,'Partie 2'!$B$32:$D$223,2,0),\"\")","v":11},{"$f":"IFERROR(VLOOKUP($B32,'Partie 2'!$B$32:$E$223,4,0),\"\")","v":13},{"$f":"IFERROR(VLOOKUP($B32,'Partie 3'!$B$32:$D$223,2,0),\"\")","v":11},{"$f":"IFERROR(VLOOKUP($B32,'Partie 3'!$B$32:$E$223,4,0),\"\")","v":13},{"$f":"IFERROR(VLOOKUP($B32,'Partie 4'!$B$32:$D$223,2,0),\"\")","v":10},{"$f":"IFERROR(VLOOKUP($B32,'Partie 4'!$B$32:$E$223,4,0),\"\")","v":13},{"$f":"IFERROR(VLOOKUP($B32,'Partie 5'!$B$32:$D$223,2,0),\"\")","v":13},{"$f":"IFERROR(VLOOKUP($B32,'Partie 5'!$B$32:$E$223,4,0),\"\")","v":5},"T30",55,57,1,null,{"$f":"IFERROR(INDEX(Liste!$G$7:$G$198,MATCH(B32,Liste!$I$7:$I$198,0)),\"\")","v":"E"},"T30",55,57,1]
[31,{"$f":"IFERROR(INDEX(Liste!$I$7:$I$198,MATCH(Recap!A33,Liste!$L$7:$L$198,0)),\"\")","v":"T31"},null,{"$f":"IFERROR(VLOOKUP($B33,'Partie 1'!$B$32:$D$223,2,0),\"\")","v":13},{"$f":"IFERROR(VLOOKUP($B33,'Partie 1'!$B$32:$E$223,4,0),\"\")","v":10},{"$f":"IFERROR(VLOOKUP($B33,'Partie 2'!$B$32:$D$223,2,0),\"\")","v":6},{"$f":"IFERROR(VLOOKUP($B33,'Partie 2'!$B$32:$E$223,4,0),\"\")","v":13},{"$f":"IFERROR(VLOOKUP($B33,'Partie 3'!$B$32:$D$223,2,0),\"\")","v":10},{"$f":"IFERROR(VLOOKUP($B33,'Partie 3'!$B$32:$E$223,4,0),\"\")","v":13},{"$f":"IFERROR(VLOOKUP($B33,'Partie 4'!$B$32:$D$223,2,0),\"\")","v":5},{"$f":"IFERROR(VLOOKUP($B33,'Partie 4'!$B$32:$E$223,4,0),\"\")","v":13},{"$f":"IFERROR(VLOOKUP($B33,'Partie 5'!$B$32:$D$223,2,0),\"\")","v":4},{"$f":"IFERROR(VLOOKUP($B33,'Partie 5'!$B$32:$E$223,4,0),\"\")","v":13},"T31",38,62,1,null,{"$f":"IFERROR(INDEX(Liste!$G$7:$G$198,MATCH(B33,Liste!$I$7:$I$198,0)),\"\")","v":"A"},"T31",38,62,1]
[32,{"$f":"IFERROR(INDEX(Liste!$I$7:$I$198,MATCH(Recap!A34,Liste!$L$7:$L$198,0)),\"\")","v":"T32"},null,{"$f":"IFERROR(VLOOKUP($B34,'Partie 1'!$B$32:$D$223,2,0),\"\")","v":10},{"$f":"IFERROR(VLOOKUP($B34,'Partie 1'!$B$32:$E$223,4,0),\"\")","v":13},{"$f":"IFERROR(VLOOKUP($B34,'Partie 2'!$B$32:$D$223,2,0),\"\")","v":13},{"$f":"IFERROR(VLOOKUP($B34,'Partie 2'!$B$32:$E$223,4,0),\"\")","v":11},{"$f":"IFERROR(VLOOKUP($B34,'Partie 3'!$B$32:$D$223,2,0),\"\")","v":6},{"$f":"IFERROR(VLOOKUP($B34,'Partie 3'!$B$32:$E$223,4,0),\"\")","v":13},{"$f":"IFERROR(VLOOKUP($B34,'Partie 4'!$B$32:$D$223,2,0),\"\")","v":13},{"$f":"IFERROR(VLOOKUP($B34,'Partie 4'!$B$32:$E$223,4,0),\"\")","v":11},{"$f":"IFERROR(VLOOKUP($B34,'Partie 5'!$B$32:$D$223,2,0),\"\")","v":6},{"$f":"IFERROR(VLOOKUP($B34,'Partie 5'!$B$32:$E$223,4,0),\"\")","v":13},"T32",48,61,2,null,{"$f":"IFERROR(INDEX(Liste!$G$7:$G$198,MATCH(B34,Liste!$I$7:$I$198,0)),\"\")","v":"A"},"T32",48,61,2]
[33,{"$f":"IFERROR(INDEX(Liste!$I$7:$I$198,MATCH(Recap!A35,Liste!$L$7:$L$198,0)),\"\")","v":"T33"},null,{"$f":"IFERROR(VLOOKUP($B35,'Partie 1'!$B$32:$D$223,2,0),\"\")","v":12},{"$f":"IFERROR(VLOOKUP($B35,'Partie 1'!$B$32:$E$223,4,0),\"\")","v":13},{"$f":"IFERROR(VLOOKUP($B35,'Partie 2'!$B$32:$D$223,2,0),\"\")","v":13},{"$f":"IFERROR(VLOOKUP($B35,'Partie 2'!$B$32:$E$223,4,0),\"\")","v":12},{"$f":"IFERROR(VLOOKUP($B35,'Partie 3'!$B$32:$D$223,2,0),\"\")","v":12},{"$f":"IFERROR(VLOOKUP($B35,'Partie 3'!$B$32:$E$223,4,0),\"\")","v":13},{"$f":"IFERROR(VLOOKUP($B35,'Partie 4'!$B$32:$D$223,2,0),\"\")","v":13},{"$f":"IFERROR(VLOOKUP($B35,'Partie 4'!$B$32:$E$223,4,0),\"\")","v":12},{"$f":"IFERROR(VLOOKUP($B35,'Partie 5'!$B$32:$D$223,2,0),\"\")","v":12},{"$f":"IFERROR(VLOOKUP($B35,'Partie 5'!$B$32:$E$223,4,0),\"\")","v":13},"T33",62,63,2,null,{"$f":"IFERROR(INDEX(Liste!$G$7:$G$198,MATCH(B35,Liste!$I$7:$I$198,0)),\"\")","v":"A"},"T33",62,63,2]
[34,{"$f":"IFERROR(INDEX(Liste!$I$7:$I$198,MATCH(Recap!A36,Liste!$L$7:$L$198,0)),\"\")","v":"T34"},null,{"$f":"IFERROR(VLOOKUP($B36,'Partie 1'!$B$32:$D$223,2,0),\"\")","v":13},{"$f":"IFERROR(VLOOKUP($B36,'Partie 1'!$B$32:$E$223,4,0),\"\")","v":12},{"$f":"IFERROR(VLOOKUP($B36,'Partie 2'!$B$32:$D$223,2,0),\"\")","v":13},{"$f":"IFERROR(VLOOKUP($B36,'Partie 2'!$B$32:$E$223,4,0),\"\")","v":6},{"$f":"IFERROR(VLOOKUP($B36,'Partie 3'!$B$32:$D$223,2,0),\"\")","v":13},{"$f":"IFERROR(VLOOKUP($B36,'Partie 3'!$B$32:$E$223,4,0),\"\")","v":6},{"$f":"IFERROR(VLOOKUP($B36,'Partie 4'!$B$32:$D$223,2,0),\"\")","v":13},{"$f":"IFERROR(VLOOKUP($B36,'Partie 4'!$B$32:$E$223,4,0),\"\")","v":6},{"$f":"IFERROR(VLOOKUP($B36,'Partie 5'!$B$32:$D$223,2,0),\"\")","v":13},{"$f":"IFERROR(VLOOKUP($B36,'Partie 5'!$B$32:$E$223,4,0),\"\")","v":6},"T34",65,36,5,null,{"$f":"IFERROR(INDEX(Liste!$G$7:$G$198,MATCH(B36,Liste!$I$7:$I$198,0)),\"\")","v":"A"},"T34",65,36,5]
[35,{"$f":"IFERROR(INDEX(Liste!$I$7:$I$198,MATCH(Recap!A37,Liste!$L$7:$L$198,0)),\"\")","v":"T35"},null,{"$f":"IFERROR(VLOOKUP($B37,'Partie 1'!$B$32:$D$223,2,0),\"\")","v":2},{"$f":"IFERROR(VLOOKUP($B37,'Partie 1'!$B$32:$E$223,4,0),\"\")","v":13},{"$f":"IFERROR(VLOOKUP($B37,'Partie 2'!$B$32:$D$223,2,0),\"\")","v":12},{"$f":"IFERROR(VLOOKUP($B37,'Partie 2'!$B$32:$E$223,4,0),\"\")","v":13},{"$f":"IFERROR(VLOOKUP($B37,'Partie 3'!$B$32:$D$223,2,0),\"\")","v":12},{"$f":"IFERROR(VLOOKUP($B37,'Partie 3'!$B$32:$E$223,4,0),\"\")","v":13},{"$f":"IFERROR(VLOOKUP($B37,'Partie 4'!$B$32:$D$223,2,0),\"\")","v":7},{"$f":"IFERROR(VLOOKUP($B37,'Partie 4'!$B$32:$E$223,4,0),\"\")","v":13},{"$f":"IFERROR(VLOOKUP($B37,'Partie 5'!$B$32:$D$223,2,0),\"\")","v":13},{"$f":"IFERROR(VLOOKUP($B37,'Partie 5'!$B$32:$E$223,4,0),\"\")","v":9},"T35",46,61,1,null,{"$f":"IFERROR(INDEX(Liste!$G$7:$G$198,MATCH(B37,Liste!$I$7:$I$198,0)),\"\")","v":"A"},"T35",46,61,1]
[36,{"$f":"IFERROR(INDEX(Liste!$I$7:$I$198,MATCH(Recap!A38,Liste!$L$7:$L$198,0)),\"\")","v":"T36"},null,{"$f":"IFERROR(VLOOKUP($B38,'Partie 1'!$B$32:$D$223,2,0),\"\")","v":13},{"$f":"IFERROR(VLOOKUP($B38,'Partie 1'!$B$32:$E$223,4,0),\"\")","v":2},{"$f":"IFERROR(VLOOKUP($B38,'Partie 2'!$B$32:$D$223,2,0),\"\")","v":6},{"$f":"IFERROR(VLOOKUP($B38,'Partie 2'!$B$32:$E$223,4,0),\"\")","v":13},{"$f":"IFERROR(VLOOKUP($B38,'Partie 3'!$B$32:$D$223,2,0),\"\")","v":7},{"$f":"IFERROR(VLOOKUP($B38,'Partie 3'!$B$32:$E$223,4,0),\"\")","v":13},{"$f":"IFERROR(VLOOKUP($B38,'Partie 4'!$B$32:$D$223,2,0),\"\")","v":9},{"$f":"IFERROR(VLOOKUP($B38,'Partie 4'!$B$32:$E$223,4,0),\"\")","v":13},{"$f":"IFERROR(VLOOKUP($B38,'Partie 5'!$B$32:$D$223,2,0),\"\")","v":13},{"$f":"IFERROR(VLOOKUP($B38,'Partie 5'!$B$32:$E$223,4,0),\"\")","v":10},"T36",48,51,2,null,{"$f":"IFERROR(INDEX(Liste!$G$7:$G$198,MATCH(B38,Liste!$I$7:$I$198,0)),\"\")","v":"A"},"T36",48,51,2]
[37,{"$f":"IFERROR(INDEX(Liste!$I$7:$I$198,MATCH(Recap!A39,Liste!$L$7:$L$198,0)),\"\")","v":"T37"},null,{"$f":"IFERROR(VLOOKUP($B39,'Partie 1'!$B$32:$D$223,2,0),\"\")","v":13},{"$f":"IFERROR(VLOOKUP($B39,'Partie 1'!$B$32:$E$223,4,0),\"\")","v":4},{"$f":"IFERROR(VLOOKUP($B39,'Partie 2'!$B$32:$D$223,2,0),\"\")","v":13},{"$f":"IFERROR(VLOOKUP($B39,'Partie 2'!$B$32:$E$223,4,0),\"\")","v":6},{"$f":"IFERROR(VLOOKUP($B39,'Partie 3'!$B$32:$D$223,2,0),\"\")","v":6},{"$f":"IFERROR(VLOOKUP($B39,'Partie 3'!$B$32:$E$223,4,0),\"\")","v":13},{"$f":"IFERROR(VLOOKUP($B39,'Partie 4'!$B$32:$D$223,2,0),\"\")","v":13},{"$f":"IFERROR(VLOOKUP($B39,'Partie 4'!$B$32:$E$223,4,0),\"\")","v":4},{"$f":"IFERROR(VLOOKUP($B39,'Partie 5'!$B$32:$D$223,2,0),\"\")","v":13},{"$f":"IFERROR(VLOOKUP($B39,'Partie 5'!$B$32:$E$223,4,0),\"\")","v":6},"T37",58,33,4,null,{"$f":"IFERROR(INDEX(Liste!$G$7:$G$198,MATCH(B39,Liste!$I$7:$I$198,0)),\"\")","v":"A"},"T37",58,33,4]
[38,{"$f":"IFERROR(INDEX(Liste!$I$7:$I$198,MATCH(Recap!A40,Liste!$L$7:$L$198,0)),\"\")","v":"T38"},null,{"$f":"IFERROR(VLOOKUP($B40,'Partie 1'!$B$32:$D$223,2,0),\"\")","v":4},{"$f":"IFERROR(VLOOKUP($B40,'Partie 1'!$B$32:$E$223,4,0),\"\")","v":13},{"$f":"IFERROR(VLOOKUP($B40,'Partie 2'!$B$32:$D$223,2,0),\"\")","v":13},{"$f":"IFERROR(VLOOKUP($B40,'Partie 2'!$B$32:$E$223,4,0),\"\")","v":2},{"$f":"IFERROR(VLOOKUP($B40,'Partie 3'!$B$32:$D$223,2,0),\"\")","v":13},{"$f":"IFERROR(VLOOKUP($B40,'Partie 3'!$B$32:$E$223,4,0),\"\")","v":12},{"$f":"IFERROR(VLOOKUP($B40,'Partie 4'!$B$32:$D$223,2,0),\"\")","v":13},{"$f":"IFERROR(VLOOKUP($B40,'Partie 4'!$B$32:$E$223,4,0),\"\")","v":6},{"$f":"IFERROR(VLOOKUP($B40,'Partie 5'!$B$32:$D$223,2,0),\"\")","v":13},{"$f":"IFERROR(VLOOKUP($B40,'Partie 5'!$B$32:$E$223,4,0),\"\")","v":6},"T38",56,39,4,null,{"$f":"IFERROR(INDEX(Liste!$G$7:$G$198,MATCH(B40,Liste!$I$7:$I$198,0)),\"\")","v":"A"},"T38",56,39,4]
[39,{"$f":"IFERROR(INDEX(Liste!$I$7:$I$198,MATCH(Recap!A41,Liste!$L$7:$L$198,0)),\"\")","v":"T39"},null,{"$f":"IFERROR(VLOOKUP($B41,'Partie 1'!$B$32:$D$223,2,0),\"\")","v":13},{"$f":"IFERROR(VLOOKUP($B41,'Partie 1'!$B$32:$E$223,4,0),\"\")","v":10},{"$f":"IFERROR(VLOOKUP($B41,'Partie 2'!$B$32:$D$223,2,0),\"\")","v":6},{"$f":"IFERROR(VLOOKUP($B41,'Partie 2'!$B$32:$E$223,4,0),\"\")","v":13},{"$f":"IFERROR(VLOOKUP($B41,'Partie 3'!$B$32:$D$223,2,0),\"\")","v":13},{"$f":"IFERROR(VLOOKUP($B41,'Partie 3'!$B$32:$E$223,4,0),\"\")","v":7},{"$f":"IFERROR(VLOOKUP($B41,'Partie 4'!$B$32:$D$223,2,0),\"\")","v":13},{"$f":"IFERROR(VLOOKUP($B41,'Partie 4'!$B$32:$E$223,4,0),\"\")","v":6},{"$f":"IFERROR(VLOOKUP($B41,'Partie 5'!$B$32:$D$223,2,0),\"\")","v":13},{"$f":"IFERROR(VLOOKUP($B41,'Partie 5'!$B$32:$E$223,4,0),\"\")","v":6},"T39",58,42,4,null,{"$f":"IFERROR(INDEX(Liste!$G$7:$G$198,MATCH(B41,Liste!$I$7:$I$198,0)),\"\")","v":"A"},"T39",58,42,4]
[40,{"$f":"IFERROR(INDEX(Liste!$I$7:$I$198,MATCH(Recap!A42,Liste!$L$7:$L$198,0)),\"\")","v":"T40"},null,{"$f":"IFERROR(VLOOKUP($B42,'Partie 1'!$B$32:$D$223,2,0),\"\")","v":10},{"$f":"IFERROR(VLOOKUP($B42,'Partie 1'!$B$32:$E$223,4,0),\"\")","v":13},{"$f":"IFERROR(VLOOKUP($B42,'Partie 2'!$B$32:$D$223,2,0),\"\")","v":2},{"$f":"IFERROR(VLOOKUP($B42,'Partie 2'!$B$32:$E$223,4,0),\"\")","v":13},{"$f":"IFERROR(VLOOKUP($B42,'Partie 3'!$B$32:$D$223,2,0),\"\")","v":13},{"$f":"IFERROR(VLOOKUP($B42,'Partie 3'!$B$32:$E$223,4,0),\"\")","v":12},{"$f":"IFERROR(VLOOKUP($B42,'Partie 4'!$B$32:$D$223,2,0),\"\")","v":7},{"$f":"IFERROR(VLOOKUP($B42,'Partie 4'!$B$32:$E$223,4,0),\"\")","v":13},{"$f":"IFERROR(VLOOKUP($B42,'Partie 5'!$B$32:$D$223,2,0),\"\")","v":4},{"$f":"IFERROR(VLOOKUP($B42,'Partie 5'!$B$32:$E$223,4,0),\"\")","v":13},"T40",36,64,1,null,{"$f":"IFERROR(INDEX(Liste!$G$7:$G$198,MATCH(B42,Liste!$I$7:$I$198,0)),\"\")","v":"A"},"T40",36,64,1]
[41,{"$f":"IFERROR(INDEX(Liste!$I$7:$I$198,MATCH(Recap!A43,Liste!$L$7:$L$198,0)),\"\")","v":"T41"},null,{"$f":"IFERROR(VLOOKUP($B43,'Partie 1'!$B$32:$D$223,2,0),\"\")","v":7},{"$f":"IFERROR(VLOOKUP($B43,'Partie 1'!$B$32:$E$223,4,0),\"\")","v":13},{"$f":"IFERROR(VLOOKUP($B43,'Partie 2'!$B$32:$D$223,2,0),\"\")","v":4},{"$f":"IFERROR(VLOOKUP($B43,'Partie 2'!$B$32:$E$223,4,0),\"\")","v":13},{"$f":"IFERROR(VLOOKUP($B43,'Partie 3'!$B$32:$D$223,2,0),\"\")","v":2},{"$f":"IFERROR(VLOOKUP($B43,'Partie 3'!$B$32:$E$223,4,0),\"\")","v":13},{"$f":"IFERROR(VLOOKUP($B43,'Partie 4'!$B$32:$D$223,2,0),\"\")","v":13},{"$f":"IFERROR(VLOOKUP($B43,'Partie 4'!$B$32:$E$223,4,0),\"\")","v":7},{"$f":"IFERROR(VLOOKUP($B43,'Partie 5'!$B$32:$D$223,2,0),\"\")","v":13},{"$f":"IFERROR(VLOOKUP($B43,'Partie 5'!$B$32:$E$223,4,0),\"\")","v":9},"T41",39,55,2,null,{"$f":"IFERROR(INDEX(Liste!$G$7:$G$198,MATCH(B43,Liste!$I$7:$I$198,0)),\"\")","v":"A"},"T41",39,55,2]
[42,{"$f":"IFERROR(INDEX(Liste!$I$7:$I$198,MATCH(Recap!A44,Liste!$L$7:$L$198,0)),\"\")","v":"T42"},null,{"$f":"IFERROR(VLOOKUP($B44,'Partie 1'!$B$32:$D$223,2,0),\"\")","v":13},{"$f":"IFERROR(VLOOKUP($B44,'Partie 1'!$B$32:$E$223,4,0),\"\")","v":7},{"$f":"IFERROR(VLOOKUP($B44,'Partie 2'!$B$32:$D$223,2,0),\"\")","v":13},{"$f":"IFERROR(VLOOKUP($B44,'Partie 2'!$B$32:$E$223,4,0),\"\")","v":6},{"$f":"IFERROR(VLOOKUP($B44,'Partie 3'!$B$32:$D$223,2,0),\"\")","v":13},{"$f":"IFERROR(VLOOKUP($B44,'Partie 3'!$B$32:$E$223,4,0),\"\")","v":6},{"$f":"IFERROR(VLOOKUP($B44,'Partie 4'!$B$32:$D$223,2,0),\"\")","v":6},{"$f":"IFERROR(VLOOKUP($B44,'Partie 4'!$B$32:$E$223,4,0),\"\")","v":13},{"$f":"IFERROR(VLOOKUP($B44,'Partie 5'!$B$32:$D$223,2,0),\"\")","v":2},{"$f":"IFERROR(VLOOKUP($B44,'Partie 5'!$B$32:$E$223,4,0),\"\")","v":13},"T42",47,45,3,null,{"$f":"IFERROR(INDEX(Liste!$G$7:$G$198,MATCH(B44,Liste!$I$7:$I$198,0)),\"\")","v":"A"},"T42",47,45,3]
[43,{"$f":"IFERROR(INDEX(Liste!$I$7:$I$198,MATCH(Recap!A45,Liste!$L$7:$L$198,0)),\"\")","v":"T43"},null,{"$f":"IFERROR(VLOOKUP($B45,'Partie 1'!$B$32:$D$223,2,0),\"\")","v":5},{"$f":"IFERROR(VLOOKUP($B45,'Partie 1'!$B$32:$E$223,4,0),\"\")","v":13},{"$f":"IFERROR(VLOOKUP($B45,'Partie 2'!$B$32:$D$223,2,0),\"\")","v":13},{"$f":"IFERROR(VLOOKUP($B45,'Partie 2'!$B$32:$E$223,4,0),\"\")","v":4},{"$f":"IFERROR(VLOOKUP($B45,'Partie 3'!$B$32:$D$223,2,0),\"\")","v":2},{"$f":"IFERROR(VLOOKUP($B45,'Partie 3'!$B$32:$E$223,4,0),\"\")","v":13},{"$f":"IFERROR(VLOOKUP($B45,'Partie 4'!$B$32:$D$223,2,0),\"\")","v":12},{"$f":"IFERROR(VLOOKUP($B45,'Partie 4'!$B$32:$E$223,4,0),\"\")","v":13},{"$f":"IFERROR(VLOOKUP($B45,'Partie 5'!$B$32:$D$223,2,0),\"\")","v":12},{"$f":"IFERROR(VLOOKUP($B45,'Partie 5'!$B$32:$E$223,4,0),\"\")","v":13},"T43",44,56,1,null,{"$f":"IFERROR(INDEX(Liste!$G$7:$G$198,MATCH(B45,Liste!$I$7:$I$198,0)),\"\")","v":"A"},"T43",44,56,1]
[44,{"$f":"IFERROR(INDEX(Liste!$I$7:$I$198,MATCH(Recap!A46,Liste!$L$7:$L$198,0)),\"\")","v":"T44"},null,{"$f":"IFERROR(VLOOKUP($B46,'Partie 1'!$B$32:$D$223,2,0),\"\")","v":13},{"$f":"IFERROR(VLOOKUP($B46,'Partie 1'!$B$32:$E$223,4,0),\"\")","v":5},{"$f":"IFERROR(VLOOKUP($B46,'Partie 2'!$B$32:$D$223,2,0),\"\")","v":6},{"$f":"IFERROR(VLOOKUP($B46,'Partie 2'!$B$32:$E$223,4,0),\"\")","v":13},{"$f":"IFERROR(VLOOKUP($B46,'Partie 3'!$B$32:$D$223,2,0),\"\")","v":5},{"$f":"IFERROR(VLOOKUP($B46,'Partie 3'!$B$32:$E$223,4,0),\"\")","v":13},{"$f":"IFERROR(VLOOKUP($B46,'Partie 4'!$B$32:$D$223,2,0),\"\")","v":13},{"$f":"IFERROR(VLOOKUP($B46,'Partie 4'!$B$32:$E$223,4,0),\"\")","v":9},{"$f":"IFERROR(VLOOKUP($B46,'Partie 5'!$B$32:$D$223,2,0),\"\")","v":13},{"$f":"IFERROR(VLOOKUP($B46,'Partie 5'!$B$32:$E$223,4,0),\"\")","v":10},"T44",50,50,3,null,{"$f":"IFERROR(INDEX(Liste!$G$7:$G$198,MATCH(B46,Liste!$I$7:$I$198,0)),\"\")","v":"A"},"T44",50,50,3]
[45,{"$f":"IFERROR(INDEX(Liste!$I$7:$I$198,MATCH(Recap!A47,Liste!$L$7:$L$198,0)),\"\")","v":"T45"},null,{"$f":"IFERROR(VLOOKUP($B47,'Partie 1'!$B$32:$D$223,2,0),\"\")","v":13},{"$f":"IFERROR(VLOOKUP($B47,'Partie 1'!$B$32:$E$223,4,0),\"\")","v":9},{"$f":"IFERROR(VLOOKUP($B47,'Partie 2'!$B$32:$D$223,2,0),\"\")","v":13},{"$f":"IFERROR(VLOOKUP($B47,'Partie 2'!$B$32:$E$223,4,0),\"\")","v":6},{"$f":"IFERROR(VLOOKUP($B47,'Partie 3'!$B$32:$D$223,2,0),\"\")","v":6},{"$f":"IFERROR(VLOOKUP($B47,'Partie 3'!$B$32:$E$223,4,0),\"\")","v":13},{"$f":"IFERROR(VLOOKUP($B47,'Partie 4'!$B$32:$D$223,2,0),\"\")","v":4},{"$f":"IFERROR(VLOOKUP($B47,'Partie 4'!$B$32:$E$223,4,0),\"\")","v":13},{"$f":"IFERROR(VLOOKUP($B47,'Partie 5'!$B$32:$D$223,2,0),\"\")","v":13},{"$f":"IFERROR(VLOOKUP($B47,'Partie 5'!$B$32:$E$223,4,0),\"\")","v":5},"T45",49,46,3,null,{"$f":"IFERROR(INDEX(Liste!$G$7:$G$198,MATCH(B47,Liste!$I$7:$I$198,0)),\"\")","v":"A"},"T45",49,46,3]
[46,{"$f":"IFERROR(INDEX(Liste!$I$7:$I$198,MATCH(Recap!A48,Liste!$L$7:$L$198,0)),\"\")","v":"T46"},null,{"$f":"IFERROR(VLOOKUP($B48,'Partie 1'!$B$32:$D$223,2,0),\"\")","v":9},{"$f":"IFERROR(VLOOKUP($B48,'Partie 1'!$B$32:$E$223,4,0),\"\")","v":13},{"$f":"IFERROR(VLOOKUP($B48,'Partie 2'!$B$32:$D$223,2,0),\"\")","v":10},{"$f":"IFERROR(VLOOKUP($B48,'Partie 2'!$B$32:$E$223,4,0),\"\")","v":13},{"$f":"IFERROR(VLOOKUP($B48,'Partie 3'!$B$32:$D$223,2,0),\"\")","v":13},{"$f":"IFERROR(VLOOKUP($B48,'Partie 3'!$B$32:$E$223,4,0),\"\")","v":2},{"$f":"IFERROR(VLOOKUP($B48,'Partie 4'!$B$32:$D$223,2,0),\"\")","v":13},{"$f":"IFERROR(VLOOKUP($B48,'Partie 4'!$B$32:$E$223,4,0),\"\")","v":7},{"$f":"IFERROR(VLOOKUP($B48,'Partie 5'!$B$32:$D$223,2,0),\"\")","v":13},{"$f":"IFERROR(VLOOKUP($B48,'Partie 5'!$B$32:$E$223,4,0),\"\")","v":6},"T46",58,41,3,null,{"$f":"IFERROR(INDEX(Liste!$G$7:$G$198,MATCH(B48,Liste!$I$7:$I$198,0)),\"\")","v":"A"},"T46",58,41,3]
[47,{"$f":"IFERROR(INDEX(Liste!$I$7:$I$198,MATCH(Recap!A49,Liste!$L$7:$L$198,0)),\"\")","v":"T47"},null,{"$f":"IFERROR(VLOOKUP($B49,'Partie 1'!$B$32:$D$223,2,0),\"\")","v":11},{"$f":"IFERROR(VLOOKUP($B49,'Partie 1'!$B$32:$E$223,4,0),\"\")","v":13},{"$f":"IFERROR(VLOOKUP($B49,'Partie 2'!$B$32:$D$223,2,0),\"\")","v":13},{"$f":"IFERROR(VLOOKUP($B49,'Partie 2'!$B$32:$E$223,4,0),\"\")","v":10},{"$f":"IFERROR(VLOOKUP($B49,'Partie 3'!$B$32:$D$223,2,0),\"\")","v":13},{"$f":"IFERROR(VLOOKUP($B49,'Partie 3'!$B$32:$E$223,4,0),\"\")","v":2},{"$f":"IFERROR(VLOOKUP($B49,'Partie 4'!$B$32:$D$223,2,0),\"\")","v":6},{"$f":"IFERROR(VLOOKUP($B49,'Partie 4'!$B$32:$E$223,4,0),\"\")","v":13},{"$f":"IFERROR(VLOOKUP($B49,'Partie 5'!$B$32:$D$223,2,0),\"\")","v":7},{"$f":"IFERROR(VLOOKUP($B49,'Partie 5'!$B$32:$E$223,4,0),\"\")","v":13},"T47",50,51,2,null,{"$f":"IFERROR(INDEX(Liste!$G$7:$G$198,MATCH(B49,Liste!$I$7:$I$198,0)),\"\")","v":"A"},"T47",50,51,2]
[48,{"$f":"IFERROR(INDEX(Liste!$I$7:$I$198,MATCH(Recap!A50,Liste!$L$7:$L$198,0)),\"\")","v":"T48"},null,{"$f":"IFERROR(VLOOKUP($B50,'Partie 1'!$B$32:$D$223,2,0),\"\")","v":13},{"$f":"IFERROR(VLOOKUP($B50,'Partie 1'!$B$32:$E$223,4,0),\"\")","v":11},{"$f":"IFERROR(VLOOKUP($B50,'Partie 2'!$B$32:$D$223,2,0),\"\")","v":6},{"$f":"IFERROR(VLOOKUP($B50,'Partie 2'!$B$32:$E$223,4,0),\"\")","v":13},{"$f":"IFERROR(VLOOKUP($B50,'Partie 3'!$B$32:$D$223,2,0),\"\")","v":13},{"$f":"IFERROR(VLOOKUP($B50,'Partie 3'!$B$32:$E$223,4,0),\"\")","v":5},{"$f":"IFERROR(VLOOKUP($B50,'Partie 4'!$B$32:$D$223,2,0),\"\")","v":6},{"$f":"IFERROR(VLOOKUP($B50,'Partie 4'!$B$32:$E$223,4,0),\"\")","v":13},{"$f":"IFERROR(VLOOKUP($B50,'Partie 5'!$B$32:$D$223,2,0),\"\")","v":11},{"$f":"IFERROR(VLOOKUP($B50,'Partie 5'!$B$32:$E$223,4,0),\"\")","v":13},"T48",49,55,2,null,{"$f":"IFERROR(INDEX(Liste!$G$7:$G$198,MATCH(B50,Liste!$I$7:$I$198,0)),\"\")","v":"A"},"T48",49,55,2]
[49,{"$f":"IFERROR(INDEX(Liste!$I$7:$I$198,MATCH(Recap!A51,Liste!$L$7:$L$198,0)),\"\")","v":"T49"},null,{"$f":"IFERROR(VLOOKUP($B51,'Partie 1'!$B$32:$D$223,2,0),\"\")","v":13},{"$f":"IFERROR(VLOOKUP($B51,'Partie 1'!$B$32:$E$223,4,0),\"\")","v":12},{"$f":"IFERROR(VLOOKUP($B51,'Partie 2'!$B$32:$D$223,2,0),\"\")","v":13},{"$f":"IFERROR(VLOOKUP($B51,'Partie 2'!$B$32:$E$223,4,0),\"\")","v":6},{"$f":"IFERROR(VLOOKUP($B51,'Partie 3'!$B$32:$D$223,2,0),\"\")","v":13},{"$f":"IFERROR(VLOOKUP($B51,'Partie 3'!$B$32:$E$223,4,0),\"\")","v":6},{"$f":"IFERROR(VLOOKUP($B51,'Partie 4'!$B$32:$D$223,2,0),\"\")","v":13},{"$f":"IFERROR(VLOOKUP($B51,'Partie 4'!$B$32:$E$223,4,0),\"\")","v":6},{"$f":"IFERROR(VLOOKUP($B51,'Partie 5'!$B$32:$D$223,2,0),\"\")","v":6},{"$f":"IFERROR(VLOOKUP($B51,'Partie 5'!$B$32:$E$223,4,0),\"\")","v":13},"T49",58,43,4,null,{"$f":"IFERROR(INDEX(Liste!$G$7:$G$198,MATCH(B51,Liste!$I$7:$I$198,0)),\"\")","v":"A"},"T49",58,43,4]
[50,{"$f":"IFERROR(INDEX(Liste!$I$7:$I$198,MATCH(Recap!A52,Liste!$L$7:$L$198,0)),\"\")","v":"T50"},null,{"$f":"IFERROR(VLOOKUP($B52,'Partie 1'!$B$32:$D$223,2,0),\"\")","v":12},{"$f":"IFERROR(VLOOKUP($B52,'Partie 1'!$B$32:$E$223,4,0),\"\")","v":13},{"$f":"IFERROR(VLOOKUP($B52,'Partie 2'!$B$32:$D$223,2,0),\"\")","v":13},{"$f":"IFERROR(VLOOKUP($B52,'Partie 2'!$B$32:$E$223,4,0),\"\")","v":7},{"$f":"IFERROR(VLOOKUP($B52,'Partie 3'!$B$32:$D$223,2,0),\"\")","v":13},{"$f":"IFERROR(VLOOKUP($B52,'Partie 3'!$B$32:$E$223,4,0),\"\")","v":4},{"$f":"IFERROR(VLOOKUP($B52,'Partie 4'!$B$32:$D$223,2,0),\"\")","v":13},{"$f":"IFERROR(VLOOKUP($B52,'Partie 4'!$B$32:$E$223,4,0),\"\")","v":6},{"$f":"IFERROR(VLOOKUP($B52,'Partie 5'!$B$32:$D$223,2,0),\"\")","v":6},{"$f":"IFERROR(VLOOKUP($B52,'Partie 5'!$B$32:$E$223,4,0),\"\")","v":13},"T50",57,43,3,null,{"$f":"IFERROR(INDEX(Liste!$G$7:$G$198,MATCH(B52,Liste!$I$7:$I$198,0)),\"\")","v":"C"},"T50",57,43,3]
[51,{"$f":"IFERROR(INDEX(Liste!$I$7:$I$198,MATCH(Recap!A53,Liste!$L$7:$L$198,0)),\"\")","v":"T51"},null,{"$f":"IFERROR(VLOOKUP($B53,'Partie 1'!$B$32:$D$223,2,0),\"\")","v":13},{"$f":"IFERROR(VLOOKUP($B53,'Partie 1'!$B$32:$E$223,4,0),\"\")","v":2},{"$f":"IFERROR(VLOOKUP($B53,'Partie 2'!$B$32:$D$223,2,0),\"\")","v":6},{"$f":"IFERROR(VLOOKUP($B53,'Partie 2'!$B$32:$E$223,4,0),\"\")","v":13},{"$f":"IFERROR(VLOOKUP($B53,'Partie 3'!$B$32:$D$223,2,0),\"\")","v":13},{"$f":"IFERROR(VLOOKUP($B53,'Partie 3'!$B$32:$E$223,4,0),\"\")","v":9},{"$f":"IFERROR(VLOOKUP($B53,'Partie 4'!$B$32:$D$223,2,0),\"\")","v":13},{"$f":"IFERROR(VLOOKUP($B53,'Partie 4'!$B$32:$E$223,4,0),\"\")","v":6},{"$f":"IFERROR(VLOOKUP($B53,'Partie 5'!$B$32:$D$223,2,0),\"\")","v":6},{"$f":"IFERROR(VLOOKUP($B53,'Partie 5'!$B$32:$E$223,4,0),\"\")","v":13},"T51",51,43,3,null,{"$f":"IFERROR(INDEX(Liste!$G$7:$G$198,MATCH(B53,Liste!$I$7:$I$198,0)),\"\")","v":"C"},"T51",51,43,3]
[52,{"$f":"IFERROR(INDEX(Liste!$I$7:$I$198,MATCH(Recap!A54,Liste!$L$7:$L$198,0)),\"\")","v":"T52"},null,{"$f":"IFERROR(VLOOKUP($B54,'Partie 1'!$B$32:$D$223,2,0),\"\")","v":2},{"$f":"IFERROR(VLOOKUP($B54,'Partie 1'!$B$32:$E$223,4,0),\"\")","v":13},{"$f":"IFERROR(VLOOKUP($B54,'Partie 2'!$B$32:$D$223,2,0),\"\")","v":7},{"$f":"IFERROR(VLOOKUP($B54,'Partie 2'!$B$32:$E$223,4,0),\"\")","v":13},{"$f":"IFERROR(VLOOKUP($B54,'Partie 3'!$B$32:$D$223,2,0),\"\")","v":13},{"$f":"IFERROR(VLOOKUP($B54,'Partie 3'!$B$32:$E$223,4,0),\"\")","v":4},{"$f":"IFERROR(VLOOKUP($B54,'Partie 4'!$B$32:$D$223,2,0),\"\")","v":5},{"$f":"IFERROR(VLOOKUP($B54,'Partie 4'!$B$32:$E$223,4,0),\"\")","v":13},{"$f":"IFERROR(VLOOKUP($B54,'Partie 5'!$B$32:$D$223,2,0),\"\")","v":13},{"$f":"IFERROR(VLOOKUP($B54,'Partie 5'!$B$32:$E$223,4,0),\"\")","v":4},"T52",40,47,2,null,{"$f":"IFERROR(INDEX(Liste!$G$7:$G$198,MATCH(B54,Liste!$I$7:$I$198,0)),\"\")","v":"C"},"T52",40,47,2]
[53,{"$f":"IFERROR(INDEX(Liste!$I$7:$I$198,MATCH(Recap!A55,Liste!$L$7:$L$198,0)),\"\")","v":"T53"},null,{"$f":"IFERROR(VLOOKUP($B55,'Partie 1'!$B$32:$D$223,2,0),\"\")","v":4},{"$f":"IFERROR(VLOOKUP($B55,'Partie 1'!$B$32:$E$223,4,0),\"\")","v":13},{"$f":"IFERROR(VLOOKUP($B55,'Partie 2'!$B$32:$D$223,2,0),\"\")","v":13},{"$f":"IFERROR(VLOOKUP($B55,'Partie 2'!$B$32:$E$223,4,0),\"\")","v":5},{"$f":"IFERROR(VLOOKUP($B55,'Partie 3'!$B$32:$D$223,2,0),\"\")","v":4},{"$f":"IFERROR(VLOOKUP($B55,'Partie 3'!$B$32:$E$223,4,0),\"\")","v":13},{"$f":"IFERROR(VLOOKUP($B55,'Partie 4'!$B$32:$D$223,2,0),\"\")","v":13},{"$f":"IFERROR(VLOOKUP($B55,'Partie 4'!$B$32:$E$223,4,0),\"\")","v":2},{"$f":"IFERROR(VLOOKUP($B55,'Partie 5'!$B$32:$D$223,2,0),\"\")","v":13},{"$f":"IFERROR(VLOOKUP($B55,'Partie 5'!$B$32:$E$223,4,0),\"\")","v":12},"T53",47,45,3,null,{"$f":"IFERROR(INDEX(Liste!$G$7:$G$198,MATCH(B55,Liste!$I$7:$I$198,0)),\"\")","v":"C"},"T53",47,45,3]
[54,{"$f":"IFERROR(INDEX(Liste!$I$7:$I$198,MATCH(Recap!A56,Liste!$L$7:$L$198,0)),\"\")","v":"T54"},null,{"$f":"IFERROR(VLOOKUP($B56,'Partie 1'!$B$32:$D$223,2,0),\"\")","v":13},{"$f":"IFERROR(VLOOKUP($B56,'Partie 1'!$B$32:$E$223,4,0),\"\")","v":4},{"$f":"IFERROR(VLOOKUP($B56,'Partie 2'!$B$32:$D$223,2,0),\"\")","v":13},{"$f":"IFERROR(VLOOKUP($B56,'Partie 2'!$B$32:$E$223,4,0),\"\")","v":6},{"$f":"IFERROR(VLOOKUP($B56,'Partie 3'!$B$32:$D$223,2,0),\"\")","v":6},{"$f":"IFERROR(VLOOKUP($B56,'Partie 3'!$B$32:$E$223,4,0),\"\")","v":13},{"$f":"IFERROR(VLOOKUP($B56,'Partie 4'!$B$32:$D$223,2,0),\"\")","v":13},{"$f":"IFERROR(VLOOKUP($B56,'Partie 4'!$B$32:$E$223,4,0),\"\")","v":10},{"$f":"IFERROR(VLOOKUP($B56,'Partie 5'!$B$32:$D$223,2,0),\"\")","v":6},{"$f":"IFERROR(VLOOKUP($B56,'Partie 5'!$B$32:$E$223,4,0),\"\")","v":13},"T54",51,46,3,null,{"$f":"IFERROR(INDEX(Liste!$G$7:$G$198,MATCH(B56,Liste!$I$7:$I$198,0)),\"\")","v":"C"},"T54",51,46,3]
[55,{"$f":"IFERROR(INDEX(Liste!$I$7:$I$198,MATCH(Recap!A57,Liste!$L$7:$L$198,0)),\"\")","v":"T55"},null,{"$f":"IFERROR(VLOOKUP($B57,'Partie 1'!$B$32:$D$223,2,0),\"\")","v":10},{"$f":"IFERROR(VLOOKUP($B57,'Partie 1'!$B$32:$E$223,4,0),\"\")","v":13},{"$f":"IFERROR(VLOOKUP($B57,'Partie 2'!$B$32:$D$223,2,0),\"\")","v":5},{"$f":"IFERROR(VLOOKUP($B57,'Partie 2'!$B$32:$E$223,4,0),\"\")","v":13},{"$f":"IFERROR(VLOOKUP($B57,'Partie 3'!$B$32:$D$223,2,0),\"\")","v":4},{"$f":"IFERROR(VLOOKUP($B57,'Partie 3'!$B$32:$E$223,4,0),\"\")","v":13},{"$f":"IFERROR(VLOOKUP($B57,'Partie 4'!$B$32:$D$223,2,0),\"\")","v":5},{"$f":"IFERROR(VLOOKUP($B57,'Partie 4'!$B$32:$E$223,4,0),\"\")","v":13},{"$f":"IFERROR(VLOOKUP($B57,'Partie 5'!$B$32:$D$223,2,0),\"\")","v":9},{"$f":"IFERROR(VLOOKUP($B57,'Partie 5'!$B$32:$E$223,4,0),\"\")","v":13},"T55",33,65,0,null,{"$f":"IFERROR(INDEX(Liste!$G$7:$G$198,MATCH(B57,Liste!$I$7:$I$198,0)),\"\")","v":"C"},"T55",33,65,0]
[56,{"$f":"IFERROR(INDEX(Liste!$I$7:$I$198,MATCH(Recap!A58,Liste!$L$7:$L$198,0)),\"\")","v":"T56"},null,{"$f":"IFERROR(VLOOKUP($B58,'Partie 1'!$B$32:$D$223,2,0),\"\")","v":13},{"$f":"IFERROR(VLOOKUP($B58,'Partie 1'!$B$32:$E$223,4,0),\"\")","v":10},{"$f":"IFERROR(VLOOKUP($B58,'Partie 2'!$B$32:$D$223,2,0),\"\")","v":6},{"$f":"IFERROR(VLOOKUP($B58,'Partie 2'!$B$32:$E$223,4,0),\"\")","v":13},{"$f":"IFERROR(VLOOKUP($B58,'Partie 3'!$B$32:$D$223,2,0),\"\")","v":9},{"$f":"IFERROR(VLOOKUP($B58,'Partie 3'!$B$32:$E$223,4,0),\"\")","v":13},{"$f":"IFERROR(VLOOKUP($B58,'Partie 4'!$B$32:$D$223,2,0),\"\")","v":13},{"$f":"IFERROR(VLOOKUP($B58,'Partie 4'!$B$32:$E$223,4,0),\"\")","v":11},{"$f":"IFERROR(VLOOKUP($B58,'Partie 5'!$B$32:$D$223,2,0),\"\")","v":10},{"$f":"IFERROR(VLOOKUP($B58,'Partie 5'!$B$32:$E$223,4,0),\"\")","v":13},"T56",51,60,2,null,{"$f":"IFERROR(INDEX(Liste!$G$7:$G$198,MATCH(B58,Liste!$I$7:$I$198,0)),\"\")","v":"C"},"T56",51,60,2]
[57,{"$f":"IFERROR(INDEX(Liste!$I$7:$I$198,MATCH(Recap!A59,Liste!$L$7:$L$198,0)),\"\")","v":"T57"},null,{"$f":"IFERROR(VLOOKUP($B59,'Partie 1'!$B$32:$D$223,2,0),\"\")","v":13},{"$f":"IFERROR(VLOOKUP($B59,'Partie 1'!$B$32:$E$223,4,0),\"\")","v":7},{"$f":"IFERROR(VLOOKUP($B59,'Partie 2'!$B$32:$D$223,2,0),\"\")","v":13},{"$f":"IFERROR(VLOOKUP($B59,'Partie 2'!$B$32:$E$223,4,0),\"\")","v":6},{"$f":"IFERROR(VLOOKUP($B59,'Partie 3'!$B$32:$D$223,2,0),\"\")","v":13},{"$f":"IFERROR(VLOOKUP($B59,'Partie 3'!$B$32:$E$223,4,0),\"\")","v":6},{"$f":"IFERROR(VLOOKUP($B59,'Partie 4'!$B$32:$D$223,2,0),\"\")","v":6},{"$f":"IFERROR(VLOOKUP($B59,'Partie 4'!$B$32:$E$223,4,0),\"\")","v":13},{"$f":"IFERROR(VLOOKUP($B59,'Partie 5'!$B$32:$D$223,2,0),\"\")","v":13},{"$f":"IFERROR(VLOOKUP($B59,'Partie 5'!$B$32:$E$223,4,0),\"\")","v":2},"T57",58,34,4,null,{"$f":"IFERROR(INDEX(Liste!$G$7:$G$198,MATCH(B59,Liste!$I$7:$I$198,0)),\"\")","v":"C"},"T57",58,34,4]
[58,{"$f":"IFERROR(INDEX(Liste!$I$7:$I$198,MATCH(Recap!A60,Liste!$L$7:$L$198,0)),\"\")","v":"T58"},null,{"$f":"IFERROR(VLOOKUP($B60,'Partie 1'!$B$32:$D$223,2,0),\"\")","v":7},{"$f":"IFERROR(VLOOKUP($B60,'Partie 1'!$B$32:$E$223,4,0),\"\")","v":13},{"$f":"IFERROR(VLOOKUP($B60,'Partie 2'!$B$32:$D$223,2,0),\"\")","v":9},{"$f":"IFERROR(VLOOKUP($B60,'Partie 2'!$B$32:$E$223,4,0),\"\")","v":13},{"$f":"IFERROR(VLOOKUP($B60,'Partie 3'!$B$32:$D$223,2,0),\"\")","v":13},{"$f":"IFERROR(VLOOKUP($B60,'Partie 3'!$B$32:$E$223,4,0),\"\")","v":10},{"$f":"IFERROR(VLOOKUP($B60,'Partie 4'!$B$32:$D$223,2,0),\"\")","v":13},{"$f":"IFERROR(VLOOKUP($B60,'Partie 4'!$B$32:$E$223,4,0),\"\")","v":5},{"$f":"IFERROR(VLOOKUP($B60,'Partie 5'!$B$32:$D$223,2,0),\"\")","v":6},{"$f":"IFERROR(VLOOKUP($B60,'Partie 5'!$B$32:$E$223,4,0),\"\")","v":13},"T58",48,54,2,null,{"$f":"IFERROR(INDEX(Liste!$G$7:$G$198,MATCH(B60,Liste!$I$7:$I$198,0)),\"\")","v":"C"},"T58",48,54,2]
[59,{"$f":"IFERROR(INDEX(Liste!$I$7:$I$198,MATCH(Recap!A61,Liste!$L$7:$L$198,0)),\"\")","v":"T59"},null,{"$f":"IFERROR(VLOOKUP($B61,'Partie 1'!$B$32:$D$223,2,0),\"\")","v":13},{"$f":"IFERROR(VLOOKUP($B61,'Partie 1'!$B$32:$E$223,4,0),\"\")","v":5},{"$f":"IFERROR(VLOOKUP($B61,'Partie 2'!$B$32:$D$223,2,0),\"\")","v":6},{"$f":"IFERROR(VLOOKUP($B61,'Partie 2'!$B$32:$E$223,4,0),\"\")","v":13},{"$f":"IFERROR(VLOOKUP($B61,'Partie 3'!$B$32:$D$223,2,0),\"\")","v":11},{"$f":"IFERROR(VLOOKUP($B61,'Partie 3'!$B$32:$E$223,4,0),\"\")","v":13},{"$f":"IFERROR(VLOOKUP($B61,'Partie 4'!$B$32:$D$223,2,0),\"\")","v":11},{"$f":"IFERROR(VLOOKUP($B61,'Partie 4'!$B$32:$E$223,4,0),\"\")","v":13},{"$f":"IFERROR(VLOOKUP($B61,'Partie 5'!$B$32:$D$223,2,0),\"\")","v":10},{"$f":"IFERROR(VLOOKUP($B61,'Partie 5'!$B$32:$E$223,4,0),\"\")","v":13},"T59",51,57,1,null,{"$f":"IFERROR(INDEX(Liste!$G$7:$G$198,MATCH(B61,Liste!$I$7:$I$198,0)),\"\")","v":"C"},"T59",51,57,1]
[60,{"$f":"IFERROR(INDEX(Liste!$I$7:$I$198,MATCH(Recap!A62,Liste!$L$7:$L$198,0)),\"\")","v":"T60"},null,{"$f":"IFERROR(VLOOKUP($B62,'Partie 1'!$B$32:$D$223,2,0),\"\")","v":5},{"$f":"IFERROR(VLOOKUP($B62,'Partie 1'!$B$32:$E$223,4,0),\"\")","v":13},{"$f":"IFERROR(VLOOKUP($B62,'Partie 2'!$B$32:$D$223,2,0),\"\")","v":13},{"$f":"IFERROR(VLOOKUP($B62,'Partie 2'!$B$32:$E$223,4,0),\"\")","v":9},{"$f":"IFERROR(VLOOKUP($B62,'Partie 3'!$B$32:$D$223,2,0),\"\")","v":13},{"$f":"IFERROR(VLOOKUP($B62,'Partie 3'!$B$32:$E$223,4,0),\"\")","v":10},{"$f":"IFERROR(VLOOKUP($B62,'Partie 4'!$B$32:$D$223,2,0),\"\")","v":6},{"$f":"IFERROR(VLOOKUP($B62,'Partie 4'!$B$32:$E$223,4,0),\"\")","v":13},{"$f":"IFERROR(VLOOKUP($B62,'Partie 5'!$B$32:$D$223,2,0),\"\")","v":13},{"$f":"IFERROR(VLOOKUP($B62,'Partie 5'!$B$32:$E$223,4,0),\"\")","v":7},"T60",50,52,3,null,{"$f":"IFERROR(INDEX(Liste!$G$7:$G$198,MATCH(B62,Liste!$I$7:$I$198,0)),\"\")","v":"C"},"T60",50,52,3]
[61,{"$f":"IFERROR(INDEX(Liste!$I$7:$I$198,MATCH(Recap!A63,Liste!$L$7:$L$198,0)),\"\")","v":"T61"},null,{"$f":"IFERROR(VLOOKUP($B63,'Partie 1'!$B$32:$D$223,2,0),\"\")","v":9},{"$f":"IFERROR(VLOOKUP($B63,'Partie 1'!$B$32:$E$223,4,0),\"\")","v":13},{"$f":"IFERROR(VLOOKUP($B63,'Partie 2'!$B$32:$D$223,2,0),\"\")","v":13},{"$f":"IFERROR(VLOOKUP($B63,'Partie 2'!$B$32:$E$223,4,0),\"\")","v":11},{"$f":"IFERROR(VLOOKUP($B63,'Partie 3'!$B$32:$D$223,2,0),\"\")","v":10},{"$f":"IFERROR(VLOOKUP($B63,'Partie 3'!$B$32:$E$223,4,0),\"\")","v":13},{"$f":"IFERROR(VLOOKUP($B63,'Partie 4'!$B$32:$D$223,2,0),\"\")","v":2},{"$f":"IFERROR(VLOOKUP($B63,'Partie 4'!$B$32:$E$223,4,0),\"\")","v":13},{"$f":"IFERROR(VLOOKUP($B63,'Partie 5'!$B$32:$D$223,2,0),\"\")","v":13},{"$f":"IFERROR(VLOOKUP($B63,'Partie 5'!$B$32:$E$223,4,0),\"\")","v":12},"T61",47,62,2,null,{"$f":"IFERROR(INDEX(Liste!$G$7:$G$198,MATCH(B63,Liste!$I$7:$I$198,0)),\"\")","v":"C"},"T61",47,62,2]
[62,{"$f":"IFERROR(INDEX(Liste!$I$7:$I$198,MATCH(Recap!A64,Liste!$L$7:$L$198,0)),\"\")","v":"T62"},null,{"$f":"IFERROR(VLOOKUP($B64,'Partie 1'!$B$32:$D$223,2,0),\"\")","v":13},{"$f":"IFERROR(VLOOKUP($B64,'Partie 1'!$B$32:$E$223,4,0),\"\")","v":9},{"$f":"IFERROR(VLOOKUP($B64,'Partie 2'!$B$32:$D$223,2,0),\"\")","v":13},{"$f":"IFERROR(VLOOKUP($B64,'Partie 2'!$B$32:$E$223,4,0),\"\")","v":6},{"$f":"IFERROR(VLOOKUP($B64,'Partie 3'!$B$32:$D$223,2,0),\"\")","v":6},{"$f":"IFERROR(VLOOKUP($B64,'Partie 3'!$B$32:$E$223,4,0),\"\")","v":13},{"$f":"IFERROR(VLOOKUP($B64,'Partie 4'!$B$32:$D$223,2,0),\"\")","v":10},{"$f":"IFERROR(VLOOKUP($B64,'Partie 4'!$B$32:$E$223,4,0),\"\")","v":13},{"$f":"IFERROR(VLOOKUP($B64,'Partie 5'!$B$32:$D$223,2,0),\"\")","v":5},{"$f":"IFERROR(VLOOKUP($B64,'Partie 5'!$B$32:$E$223,4,0),\"\")","v":13},"T62",47,54,2,null,{"$f":"IFERROR(INDEX(Liste!$G$7:$G$198,MATCH(B64,Liste!$I$7:$I$198,0)),\"\")","v":"C"},"T62",47,54,2]
[63,{"$f":"IFERROR(INDEX(Liste!$I$7:$I$198,MATCH(Recap!A65,Liste!$L$7:$L$198,0)),\"\")","v":"T63"},null,{"$f":"IFERROR(VLOOKUP($B65,'Partie 1'!$B$32:$D$223,2,0),\"\")","v":13},{"$f":"IFERROR(VLOOKUP($B65,'Partie 1'!$B$32:$E$223,4,0),\"\")","v":11},{"$f":"IFERROR(VLOOKUP($B65,'Partie 2'!$B$32:$D$223,2,0),\"\")","v":6},{"$f":"IFERROR(VLOOKUP($B65,'Partie 2'!$B$32:$E$223,4,0),\"\")","v":13},{"$f":"IFERROR(VLOOKUP($B65,'Partie 3'!$B$32:$D$223,2,0),\"\")","v":13},{"$f":"IFERROR(VLOOKUP($B65,'Partie 3'!$B$32:$E$223,4,0),\"\")","v":11},{"$f":"IFERROR(VLOOKUP($B65,'Partie 4'!$B$32:$D$223,2,0),\"\")","v":6},{"$f":"IFERROR(VLOOKUP($B65,'Partie 4'!$B$32:$E$223,4,0),\"\")","v":13},{"$f":"IFERROR(VLOOKUP($B65,'Partie 5'!$B$32:$D$223,2,0),\"\")","v":13},{"$f":"IFERROR(VLOOKUP($B65,'Partie 5'!$B$32:$E$223,4,0),\"\")","v":11},"T63",51,59,3,null,{"$f":"IFERROR(INDEX(Liste!$G$7:$G$198,MATCH(B65,Liste!$I$7:$I$198,0)),\"\")","v":"C"},"T63",51,59,3]
[64,{"$f":"IFERROR(INDEX(Liste!$I$7:$I$198,MATCH(Recap!A66,Liste!$L$7:$L$198,0)),\"\")","v":"T64"},null,{"$f":"IFERROR(VLOOKUP($B66,'Partie 1'!$B$32:$D$223,2,0),\"\")","v":11},{"$f":"IFERROR(VLOOKUP($B66,'Partie 1'!$B$32:$E$223,4,0),\"\")","v":13},{"$f":"IFERROR(VLOOKUP($B66,'Partie 2'!$B$32:$D$223,2,0),\"\")","v":11},{"$f":"IFERROR(VLOOKUP($B66,'Partie 2'!$B$32:$E$223,4,0),\"\")","v":13},{"$f":"IFERROR(VLOOKUP($B66,'Partie 3'!$B$32:$D$223,2,0),\"\")","v":10},{"$f":"IFERROR(VLOOKUP($B66,'Partie 3'!$B$32:$E$223,4,0),\"\")","v":13},{"$f":"IFERROR(VLOOKUP($B66,'Partie 4'!$B$32:$D$223,2,0),\"\")","v":13},{"$f":"IFERROR(VLOOKUP($B66,'Partie 4'!$B$32:$E$223,4,0),\"\")","v":5},{"$f":"IFERROR(VLOOKUP($B66,'Partie 5'!$B$32:$D$223,2,0),\"\")","v":9},{"$f":"IFERROR(VLOOKUP($B66,'Partie 5'!$B$32:$E$223,4,0),\"\")","v":13},"T64",54,57,1,null,{"$f":"IFERROR(INDEX(Liste!$G$7:$G$198,MATCH(B66,Liste!$I$7:$I$198,0)),\"\")","v":"C"},"T64",54,57,1]
[65,{"$f":"IFERROR(INDEX(Liste!$I$7:$I$198,MATCH(Recap!A67,Liste!$L$7:$L$198,0)),\"\")","v":"T65"},null,{"$f":"IFERROR(VLOOKUP($B67,'Partie 1'!$B$32:$D$223,2,0),\"\")","v":12},{"$f":"IFERROR(VLOOKUP($B67,'Partie 1'!$B$32:$E$223,4,0),\"\")","v":13},{"$f":"IFERROR(VLOOKUP($B67,'Partie 2'!$B$32:$D$223,2,0),\"\")","v":12},{"$f":"IFERROR(VLOOKUP($B67,'Partie 2'!$B$32:$E$223,4,0),\"\")","v":13},{"$f":"IFERROR(VLOOKUP($B67,'Partie 3'!$B$32:$D$223,2,0),\"\")","v":7},{"$f":"IFERROR(VLOOKUP($B67,'Partie 3'!$B$32:$E$223,4,0),\"\")","v":13},{"$f":"IFERROR(VLOOKUP($B67,'Partie 4'!$B$32:$D$223,2,0),\"\")","v":13},{"$f":"IFERROR(VLOOKUP($B67,'Partie 4'!$B$32:$E$223,4,0),\"\")","v":9},{"$f":"IFERROR(VLOOKUP($B67,'Partie 5'!$B$32:$D$223,2,0),\"\")","v":11},{"$f":"IFERROR(VLOOKUP($B67,'Partie 5'!$B$32:$E$223,4,0),\"\")","v":13},{"$f":"IF(ISBLANK(B67),\"\",B67)","v":"T65"},55,61,1,null,{"$f":"IFERROR(INDEX(Liste!$G$7:$G$198,MATCH(B67,Liste!$I$7:$I$198,0)),\"\")","v":"C"},"T65",55,61,1]
[{"$f":"ROW()-2","v":66},{"$f":"IFERROR(INDEX(Liste!$I$7:$I$198,MATCH(Recap!A68,Liste!$L$7:$L$198,0)),\"\")","v":"T66"},null,{"$f":"IFERROR(VLOOKUP($B68,'Partie 1'!$B$32:$D$223,2,0),\"\")","v":13},{"$f":"IFERROR(VLOOKUP($B68,'Partie 1'!$B$32:$E$223,4,0),\"\")","v":12},{"$f":"IFERROR(VLOOKUP($B68,'Partie 2'!$B$32:$D$223,2,0),\"\")","v":12},{"$f":"IFERROR(VLOOKUP($B68,'Partie 2'!$B$32:$E$223,4,0),\"\")","v":13},{"$f":"IFERROR(VLOOKUP($B68,'Partie 3'!$B$32:$D$223,2,0),\"\")","v":13},{"$f":"IFERROR(VLOOKUP($B68,'Partie 3'!$B$32:$E$223,4,0),\"\")","v":12},{"$f":"IFERROR(VLOOKUP($B68,'Partie 4'!$B$32:$D$223,2,0),\"\")","v":12},{"$f":"IFERROR(VLOOKUP($B68,'Partie 4'!$B$32:$E$223,4,0),\"\")","v":13},{"$f":"IFERROR(VLOOKUP($B68,'Partie 5'!$B$32:$D$223,2,0),\"\")","v":13},{"$f":"IFERROR(VLOOKUP($B68,'Partie 5'!$B$32:$E$223,4,0),\"\")","v":12},"T66",{"$f":"SUMIF($D$2:$M$2,\"P*\",D68:M68)","v":63},{"$f":"SUMIF($D$2:$M$2,\"\",D68:M68)","v":62},{"$f":"COUNTIFS($D$2:$M$2,\"P*\",D68:M68,13)","v":3},null,{"$f":"IFERROR(INDEX(Liste!$G$7:$G$198,MATCH(B68,Liste!$I$7:$I$198,0)),\"\")","v":"C"},{"$f":"B68","v":"T66"},{"$f":"O68","v":63},{"$f":"P68","v":62},{"$f":"Q68","v":3}]
[67,{"$f":"IFERROR(INDEX(Liste!$I$7:$I$198,MATCH(Recap!A69,Liste!$L$7:$L$198,0)),\"\")","v":"T67"},null,{"$f":"IFERROR(VLOOKUP($B69,'Partie 1'!$B$32:$D$223,2,0),\"\")","v":2},{"$f":"IFERROR(VLOOKUP($B69,'Partie 1'!$B$32:$E$223,4,0),\"\")","v":13},{"$f":"IFERROR(VLOOKUP($B69,'Partie 2'!$B$32:$D$223,2,0),\"\")","v":13},{"$f":"IFERROR(VLOOKUP($B69,'Partie 2'!$B$32:$E$223,4,0),\"\")","v":12},{"$f":"IFERROR(VLOOKUP($B69,'Partie 3'!$B$32:$D$223,2,0),\"\")","v":7},{"$f":"IFERROR(VLOOKUP($B69,'Partie 3'!$B$32:$E$223,4,0),\"\")","v":13},{"$f":"IFERROR(VLOOKUP($B69,'Partie 4'!$B$32:$D$223,2,0),\"\")","v":4},{"$f":"IFERROR(VLOOKUP($B69,'Partie 4'!$B$32:$E$223,4,0),\"\")","v":13},{"$f":"IFERROR(VLOOKUP($B69,'Partie 5'!$B$32:$D$223,2,0),\"\")","v":2},{"$f":"IFERROR(VLOOKUP($B69,'Partie 5'!$B$32:$E$223,4,0),\"\")","v":13},"T67",28,64,1,null,{"$f":"IFERROR(INDEX(Liste!$G$7:$G$198,MATCH(B69,Liste!$I$7:$I$198,0)),\"\")","v":"C"},"T67",28,64,1]
[68,{"$f":"IFERROR(INDEX(Liste!$I$7:$I$198,MATCH(Recap!A70,Liste!$L$7:$L$198,0)),\"\")","v":"T68"},null,{"$f":"IFERROR(VLOOKUP($B70,'Partie 1'!$B$32:$D$223,2,0),\"\")","v":13},{"$f":"IFERROR(VLOOKUP($B70,'Partie 1'!$B$32:$E$223,4,0),\"\")","v":2},{"$f":"IFERROR(VLOOKUP($B70,'Partie 2'!$B$32:$D$223,2,0),\"\")","v":13},{"$f":"IFERROR(VLOOKUP($B70,'Partie 2'!$B$32:$E$223,4,0),\"\")","v":12},{"$f":"IFERROR(VLOOKUP($B70,'Partie 3'!$B$32:$D$223,2,0),\"\")","v":13},{"$f":"IFERROR(VLOOKUP($B70,'Partie 3'!$B$32:$E$223,4,0),\"\")","v":6},{"$f":"IFERROR(VLOOKUP($B70,'Partie 4'!$B$32:$D$223,2,0),\"\")","v":13},{"$f":"IFERROR(VLOOKUP($B70,'Partie 4'!$B$32:$E$223,4,0),\"\")","v":6},{"$f":"IFERROR(VLOOKUP($B70,'Partie 5'!$B$32:$D$223,2,0),\"\")","v":13},{"$f":"IFERROR(VLOOKUP($B70,'Partie 5'!$B$32:$E$223,4,0),\"\")","v":6},"T68",65,32,5,null,{"$f":"IFERROR(INDEX(Liste!$G$7:$G$198,MATCH(B70,Liste!$I$7:$I$198,0)),\"\")","v":"ST"},"T68",65,32,5]
[69,{"$f":"IFERROR(INDEX(Liste!$I$7:$I$198,MATCH(Recap!A71,Liste!$L$7:$L$198,0)),\"\")","v":"T69"},null,{"$f":"IFERROR(VLOOKUP($B71,'Partie 1'!$B$32:$D$223,2,0),\"\")","v":13},{"$f":"IFERROR(VLOOKUP($B71,'Partie 1'!$B$32:$E$223,4,0),\"\")","v":4},{"$f":"IFERROR(VLOOKUP($B71,'Partie 2'!$B$32:$D$223,2,0),\"\")","v":2},{"$f":"IFERROR(VLOOKUP($B71,'Partie 2'!$B$32:$E$223,4,0),\"\")","v":13},{"$f":"IFERROR(VLOOKUP($B71,'Partie 3'!$B$32:$D$223,2,0),\"\")","v":12},{"$f":"IFERROR(VLOOKUP($B71,'Partie 3'!$B$32:$E$223,4,0),\"\")","v":13},{"$f":"IFERROR(VLOOKUP($B71,'Partie 4'!$B$32:$D$223,2,0),\"\")","v":12},{"$f":"IFERROR(VLOOKUP($B71,'Partie 4'!$B$32:$E$223,4,0),\"\")","v":13},{"$f":"IFERROR(VLOOKUP($B71,'Partie 5'!$B$32:$D$223,2,0),\"\")","v":7},{"$f":"IFERROR(VLOOKUP($B71,'Partie 5'!$B$32:$E$223,4,0),\"\")","v":13},"T69",46,56,1,null,{"$f":"IFERROR(INDEX(Liste!$G$7:$G$198,MATCH(B71,Liste!$I$7:$I$198,0)),\"\")","v":"CE"},"T69",46,56,1]
[70,{"$f":"IFERROR(INDEX(Liste!$I$7:$I$198,MATCH(Recap!A72,Liste!$L$7:$L$198,0)),\"\")","v":"T70"},null,{"$f":"IFERROR(VLOOKUP($B72,'Partie 1'!$B$32:$D$223,2,0),\"\")","v":4},{"$f":"IFERROR(VLOOKUP($B72,'Partie 1'!$B$32:$E$223,4,0),\"\")","v":13},{"$f":"IFERROR(VLOOKUP($B72,'Partie 2'!$B$32:$D$223,2,0),\"\")","v":2},{"$f":"IFERROR(VLOOKUP($B72,'Partie 2'!$B$32:$E$223,4,0),\"\")","v":13},{"$f":"IFERROR(VLOOKUP($B72,'Partie 3'!$B$32:$D$223,2,0),\"\")","v":13},{"$f":"IFERROR(VLOOKUP($B72,'Partie 3'!$B$32:$E$223,4,0),\"\")","v":7},{"$f":"IFERROR(VLOOKUP($B72,'Partie 4'!$B$32:$D$223,2,0),\"\")","v":13},{"$f":"IFERROR(VLOOKUP($B72,'Partie 4'!$B$32:$E$223,4,0),\"\")","v":9},{"$f":"IFERROR(VLOOKUP($B72,'Partie 5'!$B$32:$D$223,2,0),\"\")","v":13},{"$f":"IFERROR(VLOOKUP($B72,'Partie 5'!$B$32:$E$223,4,0),\"\")","v":6},"T70",45,48,3,null,{"$f":"IFERROR(INDEX(Liste!$G$7:$G$198,MATCH(B72,Liste!$I$7:$I$198,0)),\"\")","v":"CE"},"T70",45,48,3]
[71,{"$f":"IFERROR(INDEX(Liste!$I$7:$I$198,MATCH(Recap!A73,Liste!$L$7:$L$198,0)),\"\")","v":"T71"},null,{"$f":"IFERROR(VLOOKUP($B73,'Partie 1'!$B$32:$D$223,2,0),\"\")","v":13},{"$f":"IFERROR(VLOOKUP($B73,'Partie 1'!$B$32:$E$223,4,0),\"\")","v":10},{"$f":"IFERROR(VLOOKUP($B73,'Partie 2'!$B$32:$D$223,2,0),\"\")","v":13},{"$f":"IFERROR(VLOOKUP($B73,'Partie 2'!$B$32:$E$223,4,0),\"\")","v":2},{"$f":"IFERROR(VLOOKUP($B73,'Partie 3'!$B$32:$D$223,2,0),\"\")","v":6},{"$f":"IFERROR(VLOOKUP($B73,'Partie 3'!$B$32:$E$223,4,0),\"\")","v":13},{"$f":"IFERROR(VLOOKUP($B73,'Partie 4'!$B$32:$D$223,2,0),\"\")","v":7},{"$f":"IFERROR(VLOOKUP($B73,'Partie 4'!$B$32:$E$223,4,0),\"\")","v":13},{"$f":"IFERROR(VLOOKUP($B73,'Partie 5'!$B$32:$D$223,2,0),\"\")","v":9},{"$f":"IFERROR(VLOOKUP($B73,'Partie 5'!$B$32:$E$223,4,0),\"\")","v":13},"T71",48,51,2,null,{"$f":"IFERROR(INDEX(Liste!$G$7:$G$198,MATCH(B73,Liste!$I$7:$I$198,0)),\"\")","v":"CE"},"T71",48,51,2]
[72,{"$f":"IFERROR(INDEX(Liste!$I$7:$I$198,MATCH(Recap!A74,Liste!$L$7:$L$198,0)),\"\")","v":"T72"},null,{"$f":"IFERROR(VLOOKUP($B74,'Partie 1'!$B$32:$D$223,2,0),\"\")","v":10},{"$f":"IFERROR(VLOOKUP($B74,'Partie 1'!$B$32:$E$223,4,0),\"\")","v":13},{"$f":"IFERROR(VLOOKUP($B74,'Partie 2'!$B$32:$D$223,2,0),\"\")","v":13},{"$f":"IFERROR(VLOOKUP($B74,'Partie 2'!$B$32:$E$223,4,0),\"\")","v":2},{"$f":"IFERROR(VLOOKUP($B74,'Partie 3'!$B$32:$D$223,2,0),\"\")","v":13},{"$f":"IFERROR(VLOOKUP($B74,'Partie 3'!$B$32:$E$223,4,0),\"\")","v":7},{"$f":"IFERROR(VLOOKUP($B74,'Partie 4'!$B$32:$D$223,2,0),\"\")","v":13},{"$f":"IFERROR(VLOOKUP($B74,'Partie 4'!$B$32:$E$223,4,0),\"\")","v":6},{"$f":"IFERROR(VLOOKUP($B74,'Partie 5'!$B$32:$D$223,2,0),\"\")","v":13},{"$f":"IFERROR(VLOOKUP($B74,'Partie 5'!$B$32:$E$223,4,0),\"\")","v":6},"T72",62,34,4,null,{"$f":"IFERROR(INDEX(Liste!$G$7:$G$198,MATCH(B74,Liste!$I$7:$I$198,0)),\"\")","v":"CE"},"T72",62,34,4]
[73,{"$f":"IFERROR(INDEX(Liste!$I$7:$I$198,MATCH(Recap!A75,Liste!$L$7:$L$198,0)),\"\")","v":"T73"},null,{"$f":"IFERROR(VLOOKUP($B75,'Partie 1'!$B$32:$D$223,2,0),\"\")","v":7},{"$f":"IFERROR(VLOOKUP($B75,'Partie 1'!$B$32:$E$223,4,0),\"\")","v":13},{"$f":"IFERROR(VLOOKUP($B75,'Partie 2'!$B$32:$D$223,2,0),\"\")","v":13},{"$f":"IFERROR(VLOOKUP($B75,'Partie 2'!$B$32:$E$223,4,0),\"\")","v":4},{"$f":"IFERROR(VLOOKUP($B75,'Partie 3'!$B$32:$D$223,2,0),\"\")","v":5},{"$f":"IFERROR(VLOOKUP($B75,'Partie 3'!$B$32:$E$223,4,0),\"\")","v":13},{"$f":"IFERROR(VLOOKUP($B75,'Partie 4'!$B$32:$D$223,2,0),\"\")","v":13},{"$f":"IFERROR(VLOOKUP($B75,'Partie 4'!$B$32:$E$223,4,0),\"\")","v":4},{"$f":"IFERROR(VLOOKUP($B75,'Partie 5'!$B$32:$D$223,2,0),\"\")","v":2},{"$f":"IFERROR(VLOOKUP($B75,'Partie 5'!$B$32:$E$223,4,0),\"\")","v":13},"T73",40,47,2,null,{"$f":"IFERROR(INDEX(Liste!$G$7:$G$198,MATCH(B75,Liste!$I$7:$I$198,0)),\"\")","v":"CE"},"T73",40,47,2]
[74,{"$f":"IFERROR(INDEX(Liste!$I$7:$I$198,MATCH(Recap!A76,Liste!$L$7:$L$198,0)),\"\")","v":"T74"},null,{"$f":"IFERROR(VLOOKUP($B76,'Partie 1'!$B$32:$D$223,2,0),\"\")","v":13},{"$f":"IFERROR(VLOOKUP($B76,'Partie 1'!$B$32:$E$223,4,0),\"\")","v":7},{"$f":"IFERROR(VLOOKUP($B76,'Partie 2'!$B$32:$D$223,2,0),\"\")","v":13},{"$f":"IFERROR(VLOOKUP($B76,'Partie 2'!$B$32:$E$223,4,0),\"\")","v":4},{"$f":"IFERROR(VLOOKUP($B76,'Partie 3'!$B$32:$D$223,2,0),\"\")","v":13},{"$f":"IFERROR(VLOOKUP($B76,'Partie 3'!$B$32:$E$223,4,0),\"\")","v":6},{"$f":"IFERROR(VLOOKUP($B76,'Partie 4'!$B$32:$D$223,2,0),\"\")","v":6},{"$f":"IFERROR(VLOOKUP($B76,'Partie 4'!$B$32:$E$223,4,0),\"\")","v":13},{"$f":"IFERROR(VLOOKUP($B76,'Partie 5'!$B$32:$D$223,2,0),\"\")","v":13},{"$f":"IFERROR(VLOOKUP($B76,'Partie 5'!$B$32:$E$223,4,0),\"\")","v":4},"T74",58,34,4,null,{"$f":"IFERROR(INDEX(Liste!$G$7:$G$198,MATCH(B76,Liste!$I$7:$I$198,0)),\"\")","v":"CE"},"T74",58,34,4]
[75,{"$f":"IFERROR(INDEX(Liste!$I$7:$I$198,MATCH(Recap!A77,Liste!$L$7:$L$198,0)),\"\")","v":"T75"},null,{"$f":"IFERROR(VLOOKUP($B77,'Partie 1'!$B$32:$D$223,2,0),\"\")","v":5},{"$f":"IFERROR(VLOOKUP($B77,'Partie 1'!$B$32:$E$223,4,0),\"\")","v":13},{"$f":"IFERROR(VLOOKUP($B77,'Partie 2'!$B$32:$D$223,2,0),\"\")","v":4},{"$f":"IFERROR(VLOOKUP($B77,'Partie 2'!$B$32:$E$223,4,0),\"\")","v":13},{"$f":"IFERROR(VLOOKUP($B77,'Partie 3'!$B$32:$D$223,2,0),\"\")","v":5},{"$f":"IFERROR(VLOOKUP($B77,'Partie 3'!$B$32:$E$223,4,0),\"\")","v":13},{"$f":"IFERROR(VLOOKUP($B77,'Partie 4'!$B$32:$D$223,2,0),\"\")","v":9},{"$f":"IFERROR(VLOOKUP($B77,'Partie 4'!$B$32:$E$223,4,0),\"\")","v":13},{"$f":"IFERROR(VLOOKUP($B77,'Partie 5'!$B$32:$D$223,2,0),\"\")","v":11},{"$f":"IFERROR(VLOOKUP($B77,'Partie 5'!$B$32:$E$223,4,0),\"\")","v":13},"T75",34,65,0,null,{"$f":"IFERROR(INDEX(Liste!$G$7:$G$198,MATCH(B77,Liste!$I$7:$I$198,0)),\"\")","v":"CE"},"T75",34,65,0]
[76,{"$f":"IFERROR(INDEX(Liste!$I$7:$I$198,MATCH(Recap!A78,Liste!$L$7:$L$198,0)),\"\")","v":"T76"},null,{"$f":"IFERROR(VLOOKUP($B78,'Partie 1'!$B$32:$D$223,2,0),\"\")","v":13},{"$f":"IFERROR(VLOOKUP($B78,'Partie 1'!$B$32:$E$223,4,0),\"\")","v":5},{"$f":"IFERROR(VLOOKUP($B78,'Partie 2'!$B$32:$D$223,2,0),\"\")","v":4},{"$f":"IFERROR(VLOOKUP($B78,'Partie 2'!$B$32:$E$223,4,0),\"\")","v":13},{"$f":"IFERROR(VLOOKUP($B78,'Partie 3'!$B$32:$D$223,2,0),\"\")","v":13},{"$f":"IFERROR(VLOOKUP($B78,'Partie 3'!$B$32:$E$223,4,0),\"\")","v":2},{"$f":"IFERROR(VLOOKUP($B78,'Partie 4'!$B$32:$D$223,2,0),\"\")","v":13},{"$f":"IFERROR(VLOOKUP($B78,'Partie 4'!$B$32:$E$223,4,0),\"\")","v":12},{"$f":"IFERROR(VLOOKUP($B78,'Partie 5'!$B$32:$D$223,2,0),\"\")","v":13},{"$f":"IFERROR(VLOOKUP($B78,'Partie 5'!$B$32:$E$223,4,0),\"\")","v":6},"T76",56,38,4,null,{"$f":"IFERROR(INDEX(Liste!$G$7:$G$198,MATCH(B78,Liste!$I$7:$I$198,0)),\"\")","v":"CE"},"T76",56,38,4]
[77,{"$f":"IFERROR(INDEX(Liste!$I$7:$I$198,MATCH(Recap!A79,Liste!$L$7:$L$198,0)),\"\")","v":"T77"},null,{"$f":"IFERROR(VLOOKUP($B79,'Partie 1'!$B$32:$D$223,2,0),\"\")","v":13},{"$f":"IFERROR(VLOOKUP($B79,'Partie 1'!$B$32:$E$223,4,0),\"\")","v":9},{"$f":"IFERROR(VLOOKUP($B79,'Partie 2'!$B$32:$D$223,2,0),\"\")","v":13},{"$f":"IFERROR(VLOOKUP($B79,'Partie 2'!$B$32:$E$223,4,0),\"\")","v":10},{"$f":"IFERROR(VLOOKUP($B79,'Partie 3'!$B$32:$D$223,2,0),\"\")","v":6},{"$f":"IFERROR(VLOOKUP($B79,'Partie 3'!$B$32:$E$223,4,0),\"\")","v":13},{"$f":"IFERROR(VLOOKUP($B79,'Partie 4'!$B$32:$D$223,2,0),\"\")","v":13},{"$f":"IFERROR(VLOOKUP($B79,'Partie 4'!$B$32:$E$223,4,0),\"\")","v":7},{"$f":"IFERROR(VLOOKUP($B79,'Partie 5'!$B$32:$D$223,2,0),\"\")","v":13},{"$f":"IFERROR(VLOOKUP($B79,'Partie 5'!$B$32:$E$223,4,0),\"\")","v":6},"T77",58,45,4,null,{"$f":"IFERROR(INDEX(Liste!$G$7:$G$198,MATCH(B79,Liste!$I$7:$I$198,0)),\"\")","v":"CE"},"T77",58,45,4]
[78,{"$f":"IFERROR(INDEX(Liste!$I$7:$I$198,MATCH(Recap!A80,Liste!$L$7:$L$198,0)),\"\")","v":"T78"},null,{"$f":"IFERROR(VLOOKUP($B80,'Partie 1'!$B$32:$D$223,2,0),\"\")","v":9},{"$f":"IFERROR(VLOOKUP($B80,'Partie 1'!$B$32:$E$223,4,0),\"\")","v":13},{"$f":"IFERROR(VLOOKUP($B80,'Partie 2'!$B$32:$D$223,2,0),\"\")","v":13},{"$f":"IFERROR(VLOOKUP($B80,'Partie 2'!$B$32:$E$223,4,0),\"\")","v":10},{"$f":"IFERROR(VLOOKUP($B80,'Partie 3'!$B$32:$D$223,2,0),\"\")","v":13},{"$f":"IFERROR(VLOOKUP($B80,'Partie 3'!$B$32:$E$223,4,0),\"\")","v":5},{"$f":"IFERROR(VLOOKUP($B80,'Partie 4'!$B$32:$D$223,2,0),\"\")","v":6},{"$f":"IFERROR(VLOOKUP($B80,'Partie 4'!$B$32:$E$223,4,0),\"\")","v":13},{"$f":"IFERROR(VLOOKUP($B80,'Partie 5'!$B$32:$D$223,2,0),\"\")","v":5},{"$f":"IFERROR(VLOOKUP($B80,'Partie 5'!$B$32:$E$223,4,0),\"\")","v":13},"T78",46,54,2,null,{"$f":"IFERROR(INDEX(Liste!$G$7:$G$198,MATCH(B80,Liste!$I$7:$I$198,0)),\"\")","v":"CE"},"T78",46,54,2]
[79,{"$f":"IFERROR(INDEX(Liste!$I$7:$I$198,MATCH(Recap!A81,Liste!$L$7:$L$198,0)),\"\")","v":"T79"},null,{"$f":"IFERROR(VLOOKUP($B81,'Partie 1'!$B$32:$D$223,2,0),\"\")","v":11},{"$f":"IFERROR(VLOOKUP($B81,'Partie 1'!$B$32:$E$223,4,0),\"\")","v":13},{"$f":"IFERROR(VLOOKUP($B81,'Partie 2'!$B$32:$D$223,2,0),\"\")","v":10},{"$f":"IFERROR(VLOOKUP($B81,'Partie 2'!$B$32:$E$223,4,0),\"\")","v":13},{"$f":"IFERROR(VLOOKUP($B81,'Partie 3'!$B$32:$D$223,2,0),\"\")","v":13},{"$f":"IFERROR(VLOOKUP($B81,'Partie 3'!$B$32:$E$223,4,0),\"\")","v":5},{"$f":"IFERROR(VLOOKUP($B81,'Partie 4'!$B$32:$D$223,2,0),\"\")","v":9},{"$f":"IFERROR(VLOOKUP($B81,'Partie 4'!$B$32:$E$223,4,0),\"\")","v":13},{"$f":"IFERROR(VLOOKUP($B81,'Partie 5'!$B$32:$D$223,2,0),\"\")","v":10},{"$f":"IFERROR(VLOOKUP($B81,'Partie 5'!$B$32:$E$223,4,0),\"\")","v":13},"T79",53,57,1,null,{"$f":"IFERROR(INDEX(Liste!$G$7:$G$198,MATCH(B81,Liste!$I$7:$I$198,0)),\"\")","v":"CE"},"T79",53,57,1]
[80,{"$f":"IFERROR(INDEX(Liste!$I$7:$I$198,MATCH(Recap!A82,Liste!$L$7:$L$198,0)),\"\")","v":"T80"},null,{"$f":"IFERROR(VLOOKUP($B82,'Partie 1'!$B$32:$D$223,2,0),\"\")","v":13},{"$f":"IFERROR(VLOOKUP($B82,'Partie 1'!$B$32:$E$223,4,0),\"\")","v":11},{"$f":"IFERROR(VLOOKUP($B82,'Partie 2'!$B$32:$D$223,2,0),\"\")","v":10},{"$f":"IFERROR(VLOOKUP($B82,'Partie 2'!$B$32:$E$223,4,0),\"\")","v":13},{"$f":"IFERROR(VLOOKUP($B82,'Partie 3'!$B$32:$D$223,2,0),\"\")","v":2},{"$f":"IFERROR(VLOOKUP($B82,'Partie 3'!$B$32:$E$223,4,0),\"\")","v":13},{"$f":"IFERROR(VLOOKUP($B82,'Partie 4'!$B$32:$D$223,2,0),\"\")","v":13},{"$f":"IFERROR(VLOOKUP($B82,'Partie 4'!$B$32:$E$223,4,0),\"\")","v":12},{"$f":"IFERROR(VLOOKUP($B82,'Partie 5'!$B$32:$D$223,2,0),\"\")","v":7},{"$f":"IFERROR(VLOOKUP($B82,'Partie 5'!$B$32:$E$223,4,0),\"\")","v":13},"T80",45,62,2,null,{"$f":"IFERROR(INDEX(Liste!$G$7:$G$198,MATCH(B82,Liste!$I$7:$I$198,0)),\"\")","v":"CE"},"T80",45,62,2]
[81,{"$f":"IFERROR(INDEX(Liste!$I$7:$I$198,MATCH(Recap!A83,Liste!$L$7:$L$198,0)),\"\")","v":"T81"},null,{"$f":"IFERROR(VLOOKUP($B83,'Partie 1'!$B$32:$D$223,2,0),\"\")","v":13},{"$f":"IFERROR(VLOOKUP($B83,'Partie 1'!$B$32:$E$223,4,0),\"\")","v":12},{"$f":"IFERROR(VLOOKUP($B83,'Partie 2'!$B$32:$D$223,2,0),\"\")","v":7},{"$f":"IFERROR(VLOOKUP($B83,'Partie 2'!$B$32:$E$223,4,0),\"\")","v":13},{"$f":"IFERROR(VLOOKUP($B83,'Partie 3'!$B$32:$D$223,2,0),\"\")","v":4},{"$f":"IFERROR(VLOOKUP($B83,'Partie 3'!$B$32:$E$223,4,0),\"\")","v":13},{"$f":"IFERROR(VLOOKUP($B83,'Partie 4'!$B$32:$D$223,2,0),\"\")","v":2},{"$f":"IFERROR(VLOOKUP($B83,'Partie 4'!$B$32:$E$223,4,0),\"\")","v":13},{"$f":"IFERROR(VLOOKUP($B83,'Partie 5'!$B$32:$D$223,2,0),\"\")","v":13},{"$f":"IFERROR(VLOOKUP($B83,'Partie 5'!$B$32:$E$223,4,0),\"\")","v":7},"T81",39,58,2,null,{"$f":"IFERROR(INDEX(Liste!$G$7:$G$198,MATCH(B83,Liste!$I$7:$I$198,0)),\"\")","v":"CE"},"T81",39,58,2]
[82,{"$f":"IFERROR(INDEX(Liste!$I$7:$I$198,MATCH(Recap!A84,Liste!$L$7:$L$198,0)),\"\")","v":"T82"},null,{"$f":"IFERROR(VLOOKUP($B84,'Partie 1'!$B$32:$D$223,2,0),\"\")","v":12},{"$f":"IFERROR(VLOOKUP($B84,'Partie 1'!$B$32:$E$223,4,0),\"\")","v":13},{"$f":"IFERROR(VLOOKUP($B84,'Partie 2'!$B$32:$D$223,2,0),\"\")","v":7},{"$f":"IFERROR(VLOOKUP($B84,'Partie 2'!$B$32:$E$223,4,0),\"\")","v":13},{"$f":"IFERROR(VLOOKUP($B84,'Partie 3'!$B$32:$D$223,2,0),\"\")","v":13},{"$f":"IFERROR(VLOOKUP($B84,'Partie 3'!$B$32:$E$223,4,0),\"\")","v":9},{"$f":"IFERROR(VLOOKUP($B84,'Partie 4'!$B$32:$D$223,2,0),\"\")","v":11},{"$f":"IFERROR(VLOOKUP($B84,'Partie 4'!$B$32:$E$223,4,0),\"\")","v":13},{"$f":"IFERROR(VLOOKUP($B84,'Partie 5'!$B$32:$D$223,2,0),\"\")","v":13},{"$f":"IFERROR(VLOOKUP($B84,'Partie 5'!$B$32:$E$223,4,0),\"\")","v":10},"T82",56,58,2,null,{"$f":"IFERROR(INDEX(Liste!$G$7:$G$198,MATCH(B84,Liste!$I$7:$I$198,0)),\"\")","v":"CE"},"T82",56,58,2]
[83,{"$f":"IFERROR(INDEX(Liste!$I$7:$I$198,MATCH(Recap!A85,Liste!$L$7:$L$198,0)),\"\")","v":"T83"},null,{"$f":"IFERROR(VLOOKUP($B85,'Partie 1'!$B$32:$D$223,2,0),\"\")","v":13},{"$f":"IFERROR(VLOOKUP($B85,'Partie 1'!$B$32:$E$223,4,0),\"\")","v":2},{"$f":"IFERROR(VLOOKUP($B85,'Partie 2'!$B$32:$D$223,2,0),\"\")","v":13},{"$f":"IFERROR(VLOOKUP($B85,'Partie 2'!$B$32:$E$223,4,0),\"\")","v":7},{"$f":"IFERROR(VLOOKUP($B85,'Partie 3'!$B$32:$D$223,2,0),\"\")","v":13},{"$f":"IFERROR(VLOOKUP($B85,'Partie 3'!$B$32:$E$223,4,0),\"\")","v":6},{"$f":"IFERROR(VLOOKUP($B85,'Partie 4'!$B$32:$D$223,2,0),\"\")","v":13},{"$f":"IFERROR(VLOOKUP($B85,'Partie 4'!$B$32:$E$223,4,0),\"\")","v":6},{"$f":"IFERROR(VLOOKUP($B85,'Partie 5'!$B$32:$D$223,2,0),\"\")","v":6},{"$f":"IFERROR(VLOOKUP($B85,'Partie 5'!$B$32:$E$223,4,0),\"\")","v":13},"T83",58,34,4,null,{"$f":"IFERROR(INDEX(Liste!$G$7:$G$198,MATCH(B85,Liste!$I$7:$I$198,0)),\"\")","v":"CE"},"T83",58,34,4]
[84,{"$f":"IFERROR(INDEX(Liste!$I$7:$I$198,MATCH(Recap!A86,Liste!$L$7:$L$198,0)),\"\")","v":"T84"},null,{"$f":"IFERROR(VLOOKUP($B86,'Partie 1'!$B$32:$D$223,2,0),\"\")","v":2},{"$f":"IFERROR(VLOOKUP($B86,'Partie 1'!$B$32:$E$223,4,0),\"\")","v":13},{"$f":"IFERROR(VLOOKUP($B86,'Partie 2'!$B$32:$D$223,2,0),\"\")","v":13},{"$f":"IFERROR(VLOOKUP($B86,'Partie 2'!$B$32:$E$223,4,0),\"\")","v":7},{"$f":"IFERROR(VLOOKUP($B86,'Partie 3'!$B$32:$D$223,2,0),\"\")","v":13},{"$f":"IFERROR(VLOOKUP($B86,'Partie 3'!$B$32:$E$223,4,0),\"\")","v":9},{"$f":"IFERROR(VLOOKUP($B86,'Partie 4'!$B$32:$D$223,2,0),\"\")","v":13},{"$f":"IFERROR(VLOOKUP($B86,'Partie 4'!$B$32:$E$223,4,0),\"\")","v":6},{"$f":"IFERROR(VLOOKUP($B86,'Partie 5'!$B$32:$D$223,2,0),\"\")","v":6},{"$f":"IFERROR(VLOOKUP($B86,'Partie 5'!$B$32:$E$223,4,0),\"\")","v":13},"T84",47,48,3,null,{"$f":"IFERROR(INDEX(Liste!$G$7:$G$198,MATCH(B86,Liste!$I$7:$I$198,0)),\"\")","v":"CE"},"T84",47,48,3]
[85,{"$f":"IFERROR(INDEX(Liste!$I$7:$I$198,MATCH(Recap!A87,Liste!$L$7:$L$198,0)),\"\")","v":"T85"},null,{"$f":"IFERROR(VLOOKUP($B87,'Partie 1'!$B$32:$D$223,2,0),\"\")","v":4},{"$f":"IFERROR(VLOOKUP($B87,'Partie 1'!$B$32:$E$223,4,0),\"\")","v":13},{"$f":"IFERROR(VLOOKUP($B87,'Partie 2'!$B$32:$D$223,2,0),\"\")","v":5},{"$f":"IFERROR(VLOOKUP($B87,'Partie 2'!$B$32:$E$223,4,0),\"\")","v":13},{"$f":"IFERROR(VLOOKUP($B87,'Partie 3'!$B$32:$D$223,2,0),\"\")","v":9},{"$f":"IFERROR(VLOOKUP($B87,'Partie 3'!$B$32:$E$223,4,0),\"\")","v":13},{"$f":"IFERROR(VLOOKUP($B87,'Partie 4'!$B$32:$D$223,2,0),\"\")","v":11},{"$f":"IFERROR(VLOOKUP($B87,'Partie 4'!$B$32:$E$223,4,0),\"\")","v":13},{"$f":"IFERROR(VLOOKUP($B87,'Partie 5'!$B$32:$D$223,2,0),\"\")","v":13},{"$f":"IFERROR(VLOOKUP($B87,'Partie 5'!$B$32:$E$223,4,0),\"\")","v":11},"T85",42,63,1,null,{"$f":"IFERROR(INDEX(Liste!$G$7:$G$198,MATCH(B87,Liste!$I$7:$I$198,0)),\"\")","v":"CE"},"T85",42,63,1]
[86,{"$f":"IFERROR(INDEX(Liste!$I$7:$I$198,MATCH(Recap!A88,Liste!$L$7:$L$198,0)),\"\")","v":"T86"},null,{"$f":"IFERROR(VLOOKUP($B88,'Partie 1'!$B$32:$D$223,2,0),\"\")","v":13},{"$f":"IFERROR(VLOOKUP($B88,'Partie 1'!$B$32:$E$223,4,0),\"\")","v":4},{"$f":"IFERROR(VLOOKUP($B88,'Partie 2'!$B$32:$D$223,2,0),\"\")","v":5},{"$f":"IFERROR(VLOOKUP($B88,'Partie 2'!$B$32:$E$223,4,0),\"\")","v":13},{"$f":"IFERROR(VLOOKUP($B88,'Partie 3'!$B$32:$D$223,2,0),\"\")","v":13},{"$f":"IFERROR(VLOOKUP($B88,'Partie 3'!$B$32:$E$223,4,0),\"\")","v":4},{"$f":"IFERROR(VLOOKUP($B88,'Partie 4'!$B$32:$D$223,2,0),\"\")","v":2},{"$f":"IFERROR(VLOOKUP($B88,'Partie 4'!$B$32:$E$223,4,0),\"\")","v":13},{"$f":"IFERROR(VLOOKUP($B88,'Partie 5'!$B$32:$D$223,2,0),\"\")","v":12},{"$f":"IFERROR(VLOOKUP($B88,'Partie 5'!$B$32:$E$223,4,0),\"\")","v":13},"T86",45,47,2,null,{"$f":"IFERROR(INDEX(Liste!$G$7:$G$198,MATCH(B88,Liste!$I$7:$I$198,0)),\"\")","v":"CE"},"T86",45,47,2]
[87,{"$f":"IFERROR(INDEX(Liste!$I$7:$I$198,MATCH(Recap!A89,Liste!$L$7:$L$198,0)),\"\")","v":"T87"},null,{"$f":"IFERROR(VLOOKUP($B89,'Partie 1'!$B$32:$D$223,2,0),\"\")","v":10},{"$f":"IFERROR(VLOOKUP($B89,'Partie 1'!$B$32:$E$223,4,0),\"\")","v":13},{"$f":"IFERROR(VLOOKUP($B89,'Partie 2'!$B$32:$D$223,2,0),\"\")","v":13},{"$f":"IFERROR(VLOOKUP($B89,'Partie 2'!$B$32:$E$223,4,0),\"\")","v":5},{"$f":"IFERROR(VLOOKUP($B89,'Partie 3'!$B$32:$D$223,2,0),\"\")","v":9},{"$f":"IFERROR(VLOOKUP($B89,'Partie 3'!$B$32:$E$223,4,0),\"\")","v":13},{"$f":"IFERROR(VLOOKUP($B89,'Partie 4'!$B$32:$D$223,2,0),\"\")","v":10},{"$f":"IFERROR(VLOOKUP($B89,'Partie 4'!$B$32:$E$223,4,0),\"\")","v":13},{"$f":"IFERROR(VLOOKUP($B89,'Partie 5'!$B$32:$D$223,2,0),\"\")","v":13},{"$f":"IFERROR(VLOOKUP($B89,'Partie 5'!$B$32:$E$223,4,0),\"\")","v":2},"T87",55,46,2,null,{"$f":"IFERROR(INDEX(Liste!$G$7:$G$198,MATCH(B89,Liste!$I$7:$I$198,0)),\"\")","v":"CE"},"T87",55,46,2,null,{"$f":"COUNTIF(W3:W194,4)","v":30}]
[88,{"$f":"IFERROR(INDEX(Liste!$I$7:$I$198,MATCH(Recap!A90,Liste!$L$7:$L$198,0)),\"\")","v":"T88"},null,{"$f":"IFERROR(VLOOKUP($B90,'Partie 1'!$B$32:$D$223,2,0),\"\")","v":13},{"$f":"IFERROR(VLOOKUP($B90,'Partie 1'!$B$32:$E$223,4,0),\"\")","v":10},{"$f":"IFERROR(VLOOKUP($B90,'Partie 2'!$B$32:$D$223,2,0),\"\")","v":13},{"$f":"IFERROR(VLOOKUP($B90,'Partie 2'!$B$32:$E$223,4,0),\"\")","v":5},{"$f":"IFERROR(VLOOKUP($B90,'Partie 3'!$B$32:$D$223,2,0),\"\")","v":6},{"$f":"IFERROR(VLOOKUP($B90,'Partie 3'!$B$32:$E$223,4,0),\"\")","v":13},{"$f":"IFERROR(VLOOKUP($B90,'Partie 4'!$B$32:$D$223,2,0),\"\")","v":5},{"$f":"IFERROR(VLOOKUP($B90,'Partie 4'!$B$32:$E$223,4,0),\"\")","v":13},{"$f":"IFERROR(VLOOKUP($B90,'Partie 5'!$B$32:$D$223,2,0),\"\")","v":13},{"$f":"IFERROR(VLOOKUP($B90,'Partie 5'!$B$32:$E$223,4,0),\"\")","v":9},"T88",50,50,3,null,{"$f":"IFERROR(INDEX(Liste!$G$7:$G$198,MATCH(B90,Liste!$I$7:$I$198,0)),\"\")","v":"CE"},"T88",50,50,3]
[89,{"$f":"IFERROR(INDEX(Liste!$I$7:$I$198,MATCH(Recap!A91,Liste!$L$7:$L$198,0)),\"\")","v":"T89"},null,{"$f":"IFERROR(VLOOKUP($B91,'Partie 1'!$B$32:$D$223,2,0),\"\")","v":13},{"$f":"IFERROR(VLOOKUP($B91,'Partie 1'!$B$32:$E$223,4,0),\"\")","v":7},{"$f":"IFERROR(VLOOKUP($B91,'Partie 2'!$B$32:$D$223,2,0),\"\")","v":13},{"$f":"IFERROR(VLOOKUP($B91,'Partie 2'!$B$32:$E$223,4,0),\"\")","v":9},{"$f":"IFERROR(VLOOKUP($B91,'Partie 3'!$B$32:$D$223,2,0),\"\")","v":13},{"$f":"IFERROR(VLOOKUP($B91,'Partie 3'!$B$32:$E$223,4,0),\"\")","v":6},{"$f":"IFERROR(VLOOKUP($B91,'Partie 4'!$B$32:$D$223,2,0),\"\")","v":6},{"$f":"IFERROR(VLOOKUP($B91,'Partie 4'!$B$32:$E$223,4,0),\"\")","v":13},{"$f":"IFERROR(VLOOKUP($B91,'Partie 5'!$B$32:$D$223,2,0),\"\")","v":4},{"$f":"IFERROR(VLOOKUP($B91,'Partie 5'!$B$32:$E$223,4,0),\"\")","v":13},"T89",49,48,3,null,{"$f":"IFERROR(INDEX(Liste!$G$7:$G$198,MATCH(B91,Liste!$I$7:$I$198,0)),\"\")","v":"CE"},"T89",49,48,3]
[90,{"$f":"IFERROR(INDEX(Liste!$I$7:$I$198,MATCH(Recap!A92,Liste!$L$7:$L$198,0)),\"\")","v":"T90"},null,{"$f":"IFERROR(VLOOKUP($B92,'Partie 1'!$B$32:$D$223,2,0),\"\")","v":7},{"$f":"IFERROR(VLOOKUP($B92,'Partie 1'!$B$32:$E$223,4,0),\"\")","v":13},{"$f":"IFERROR(VLOOKUP($B92,'Partie 2'!$B$32:$D$223,2,0),\"\")","v":13},{"$f":"IFERROR(VLOOKUP($B92,'Partie 2'!$B$32:$E$223,4,0),\"\")","v":9},{"$f":"IFERROR(VLOOKUP($B92,'Partie 3'!$B$32:$D$223,2,0),\"\")","v":11},{"$f":"IFERROR(VLOOKUP($B92,'Partie 3'!$B$32:$E$223,4,0),\"\")","v":13},{"$f":"IFERROR(VLOOKUP($B92,'Partie 4'!$B$32:$D$223,2,0),\"\")","v":13},{"$f":"IFERROR(VLOOKUP($B92,'Partie 4'!$B$32:$E$223,4,0),\"\")","v":10},{"$f":"IFERROR(VLOOKUP($B92,'Partie 5'!$B$32:$D$223,2,0),\"\")","v":13},{"$f":"IFERROR(VLOOKUP($B92,'Partie 5'!$B$32:$E$223,4,0),\"\")","v":2},"T90",57,47,3,null,{"$f":"IFERROR(INDEX(Liste!$G$7:$G$198,MATCH(B92,Liste!$I$7:$I$198,0)),\"\")","v":"CE"},"T90",57,47,3]
[91,{"$f":"IFERROR(INDEX(Liste!$I$7:$I$198,MATCH(Recap!A93,Liste!$L$7:$L$198,0)),\"\")","v":"T91"},null,{"$f":"IFERROR(VLOOKUP($B93,'Partie 1'!$B$32:$D$223,2,0),\"\")","v":13},{"$f":"IFERROR(VLOOKUP($B93,'Partie 1'!$B$32:$E$223,4,0),\"\")","v":5},{"$f":"IFERROR(VLOOKUP($B93,'Partie 2'!$B$32:$D$223,2,0),\"\")","v":9},{"$f":"IFERROR(VLOOKUP($B93,'Partie 2'!$B$32:$E$223,4,0),\"\")","v":13},{"$f":"IFERROR(VLOOKUP($B93,'Partie 3'!$B$32:$D$223,2,0),\"\")","v":10},{"$f":"IFERROR(VLOOKUP($B93,'Partie 3'!$B$32:$E$223,4,0),\"\")","v":13},{"$f":"IFERROR(VLOOKUP($B93,'Partie 4'!$B$32:$D$223,2,0),\"\")","v":13},{"$f":"IFERROR(VLOOKUP($B93,'Partie 4'!$B$32:$E$223,4,0),\"\")","v":2},{"$f":"IFERROR(VLOOKUP($B93,'Partie 5'!$B$32:$D$223,2,0),\"\")","v":13},{"$f":"IFERROR(VLOOKUP($B93,'Partie 5'!$B$32:$E$223,4,0),\"\")","v":7},"T91",58,40,3,null,{"$f":"IFERROR(INDEX(Liste!$G$7:$G$198,MATCH(B93,Liste!$I$7:$I$198,0)),\"\")","v":"CE"},"T91",58,40,3]
[92,{"$f":"IFERROR(INDEX(Liste!$I$7:$I$198,MATCH(Recap!A94,Liste!$L$7:$L$198,0)),\"\")","v":"T92"},null,{"$f":"IFERROR(VLOOKUP($B94,'Partie 1'!$B$32:$D$223,2,0),\"\")","v":5},{"$f":"IFERROR(VLOOKUP($B94,'Partie 1'!$B$32:$E$223,4,0),\"\")","v":13},{"$f":"IFERROR(VLOOKUP($B94,'Partie 2'!$B$32:$D$223,2,0),\"\")","v":9},{"$f":"IFERROR(VLOOKUP($B94,'Partie 2'!$B$32:$E$223,4,0),\"\")","v":13},{"$f":"IFERROR(VLOOKUP($B94,'Partie 3'!$B$32:$D$223,2,0),\"\")","v":11},{"$f":"IFERROR(VLOOKUP($B94,'Partie 3'!$B$32:$E$223,4,0),\"\")","v":13},{"$f":"IFERROR(VLOOKUP($B94,'Partie 4'!$B$32:$D$223,2,0),\"\")","v":13},{"$f":"IFERROR(VLOOKUP($B94,'Partie 4'!$B$32:$E$223,4,0),\"\")","v":11},{"$f":"IFERROR(VLOOKUP($B94,'Partie 5'!$B$32:$D$223,2,0),\"\")","v":13},{"$f":"IFERROR(VLOOKUP($B94,'Partie 5'!$B$32:$E$223,4,0),\"\")","v":11},"T92",51,61,2,null,{"$f":"IFERROR(INDEX(Liste!$G$7:$G$198,MATCH(B94,Liste!$I$7:$I$198,0)),\"\")","v":"CE"},"T92",51,61,2]
[93,{"$f":"IFERROR(INDEX(Liste!$I$7:$I$198,MATCH(Recap!A95,Liste!$L$7:$L$198,0)),\"\")","v":"T93"},null,{"$f":"IFERROR(VLOOKUP($B95,'Partie 1'!$B$32:$D$223,2,0),\"\")","v":9},{"$f":"IFERROR(VLOOKUP($B95,'Partie 1'!$B$32:$E$223,4,0),\"\")","v":13},{"$f":"IFERROR(VLOOKUP($B95,'Partie 2'!$B$32:$D$223,2,0),\"\")","v":11},{"$f":"IFERROR(VLOOKUP($B95,'Partie 2'!$B$32:$E$223,4,0),\"\")","v":13},{"$f":"IFERROR(VLOOKUP($B95,'Partie 3'!$B$32:$D$223,2,0),\"\")","v":13},{"$f":"IFERROR(VLOOKUP($B95,'Partie 3'!$B$32:$E$223,4,0),\"\")","v":11},{"$f":"IFERROR(VLOOKUP($B95,'Partie 4'!$B$32:$D$223,2,0),\"\")","v":13},{"$f":"IFERROR(VLOOKUP($B95,'Partie 4'!$B$32:$E$223,4,0),\"\")","v":11},{"$f":"IFERROR(VLOOKUP($B95,'Partie 5'!$B$32:$D$223,2,0),\"\")","v":6},{"$f":"IFERROR(VLOOKUP($B95,'Partie 5'!$B$32:$E$223,4,0),\"\")","v":13},"T93",52,61,2,null,{"$f":"IFERROR(INDEX(Liste!$G$7:$G$198,MATCH(B95,Liste!$I$7:$I$198,0)),\"\")","v":"CE"},"T93",52,61,2]
[94,{"$f":"IFERROR(INDEX(Liste!$I$7:$I$198,MATCH(Recap!A96,Liste!$L$7:$L$198,0)),\"\")","v":"T94"},null,{"$f":"IFERROR(VLOOKUP($B96,'Partie 1'!$B$32:$D$223,2,0),\"\")","v":13},{"$f":"IFERROR(VLOOKUP($B96,'Partie 1'!$B$32:$E$223,4,0),\"\")","v":9},{"$f":"IFERROR(VLOOKUP($B96,'Partie 2'!$B$32:$D$223,2,0),\"\")","v":11},{"$f":"IFERROR(VLOOKUP($B96,'Partie 2'!$B$32:$E$223,4,0),\"\")","v":13},{"$f":"IFERROR(VLOOKUP($B96,'Partie 3'!$B$32:$D$223,2,0),\"\")","v":13},{"$f":"IFERROR(VLOOKUP($B96,'Partie 3'!$B$32:$E$223,4,0),\"\")","v":10},{"$f":"IFERROR(VLOOKUP($B96,'Partie 4'!$B$32:$D$223,2,0),\"\")","v":13},{"$f":"IFERROR(VLOOKUP($B96,'Partie 4'!$B$32:$E$223,4,0),\"\")","v":2},{"$f":"IFERROR(VLOOKUP($B96,'Partie 5'!$B$32:$D$223,2,0),\"\")","v":6},{"$f":"IFERROR(VLOOKUP($B96,'Partie 5'!$B$32:$E$223,4,0),\"\")","v":13},"T94",56,47,3,null,{"$f":"IFERROR(INDEX(Liste!$G$7:$G$198,MATCH(B96,Liste!$I$7:$I$198,0)),\"\")","v":"CE"},"T94",56,47,3]
[95,{"$f":"IFERROR(INDEX(Liste!$I$7:$I$198,MATCH(Recap!A97,Liste!$L$7:$L$198,0)),\"\")","v":"T95"},null,{"$f":"IFERROR(VLOOKUP($B97,'Partie 1'!$B$32:$D$223,2,0),\"\")","v":13},{"$f":"IFERROR(VLOOKUP($B97,'Partie 1'!$B$32:$E$223,4,0),\"\")","v":11},{"$f":"IFERROR(VLOOKUP($B97,'Partie 2'!$B$32:$D$223,2,0),\"\")","v":13},{"$f":"IFERROR(VLOOKUP($B97,'Partie 2'!$B$32:$E$223,4,0),\"\")","v":11},{"$f":"IFERROR(VLOOKUP($B97,'Partie 3'!$B$32:$D$223,2,0),\"\")","v":6},{"$f":"IFERROR(VLOOKUP($B97,'Partie 3'!$B$32:$E$223,4,0),\"\")","v":13},{"$f":"IFERROR(VLOOKUP($B97,'Partie 4'!$B$32:$D$223,2,0),\"\")","v":13},{"$f":"IFERROR(VLOOKUP($B97,'Partie 4'!$B$32:$E$223,4,0),\"\")","v":5},{"$f":"IFERROR(VLOOKUP($B97,'Partie 5'!$B$32:$D$223,2,0),\"\")","v":6},{"$f":"IFERROR(VLOOKUP($B97,'Partie 5'!$B$32:$E$223,4,0),\"\")","v":13},"T95",51,53,3,null,{"$f":"IFERROR(INDEX(Liste!$G$7:$G$198,MATCH(B97,Liste!$I$7:$I$198,0)),\"\")","v":"CE"},"T95",51,53,3]
[96,{"$f":"IFERROR(INDEX(Liste!$I$7:$I$198,MATCH(Recap!A98,Liste!$L$7:$L$198,0)),\"\")","v":"T96"},null,{"$f":"IFERROR(VLOOKUP($B98,'Partie 1'!$B$32:$D$223,2,0),\"\")","v":11},{"$f":"IFERROR(VLOOKUP($B98,'Partie 1'!$B$32:$E$223,4,0),\"\")","v":13},{"$f":"IFERROR(VLOOKUP($B98,'Partie 2'!$B$32:$D$223,2,0),\"\")","v":13},{"$f":"IFERROR(VLOOKUP($B98,'Partie 2'!$B$32:$E$223,4,0),\"\")","v":11},{"$f":"IFERROR(VLOOKUP($B98,'Partie 3'!$B$32:$D$223,2,0),\"\")","v":13},{"$f":"IFERROR(VLOOKUP($B98,'Partie 3'!$B$32:$E$223,4,0),\"\")","v":11},{"$f":"IFERROR(VLOOKUP($B98,'Partie 4'!$B$32:$D$223,2,0),\"\")","v":6},{"$f":"IFERROR(VLOOKUP($B98,'Partie 4'!$B$32:$E$223,4,0),\"\")","v":13},{"$f":"IFERROR(VLOOKUP($B98,'Partie 5'!$B$32:$D$223,2,0),\"\")","v":13},{"$f":"IFERROR(VLOOKUP($B98,'Partie 5'!$B$32:$E$223,4,0),\"\")","v":5},"T96",56,53,3,null,{"$f":"IFERROR(INDEX(Liste!$G$7:$G$198,MATCH(B98,Liste!$I$7:$I$198,0)),\"\")","v":"CE"},"T96",56,53,3]
[97,{"$f":"IFERROR(INDEX(Liste!$I$7:$I$198,MATCH(Recap!A99,Liste!$L$7:$L$198,0)),\"\")","v":"P1"},null,{"$f":"IFERROR(VLOOKUP($B99,'Partie 1'!$B$32:$D$223,2,0),\"\")","v":13},{"$f":"IFERROR(VLOOKUP($B99,'Partie 1'!$B$32:$E$223,4,0),\"\")","v":10},{"$f":"IFERROR(VLOOKUP($B99,'Partie 2'!$B$32:$D$223,2,0),\"\")","v":13},{"$f":"IFERROR(VLOOKUP($B99,'Partie 2'!$B$32:$E$223,4,0),\"\")","v":6},{"$f":"IFERROR(VLOOKUP($B99,'Partie 3'!$B$32:$D$223,2,0),\"\")","v":13},{"$f":"IFERROR(VLOOKUP($B99,'Partie 3'!$B$32:$E$223,4,0),\"\")","v":6},{"$f":"IFERROR(VLOOKUP($B99,'Partie 4'!$B$32:$D$223,2,0),\"\")","v":13},{"$f":"IFERROR(VLOOKUP($B99,'Partie 4'!$B$32:$E$223,4,0),\"\")","v":6},{"$f":"IFERROR(VLOOKUP($B99,'Partie 5'!$B$32:$D$223,2,0),\"\")","v":13},{"$f":"IFERROR(VLOOKUP($B99,'Partie 5'!$B$32:$E$223,4,0),\"\")","v":6},"P1",65,34,5,null,{"$f":"IFERROR(INDEX(Liste!$G$7:$G$198,MATCH(B99,Liste!$I$7:$I$198,0)),\"\")","v":"ST"},"P1",65,34,5]
[98,{"$f":"IFERROR(INDEX(Liste!$I$7:$I$198,MATCH(Recap!A100,Liste!$L$7:$L$198,0)),\"\")","v":"P2"},null,{"$f":"IFERROR(VLOOKUP($B100,'Partie 1'!$B$32:$D$223,2,0),\"\")","v":10},{"$f":"IFERROR(VLOOKUP($B100,'Partie 1'!$B$32:$E$223,4,0),\"\")","v":13},{"$f":"IFERROR(VLOOKUP($B100,'Partie 2'!$B$32:$D$223,2,0),\"\")","v":12},{"$f":"IFERROR(VLOOKUP($B100,'Partie 2'!$B$32:$E$223,4,0),\"\")","v":13},{"$f":"IFERROR(VLOOKUP($B100,'Partie 3'!$B$32:$D$223,2,0),\"\")","v":13},{"$f":"IFERROR(VLOOKUP($B100,'Partie 3'!$B$32:$E$223,4,0),\"\")","v":7},{"$f":"IFERROR(VLOOKUP($B100,'Partie 4'!$B$32:$D$223,2,0),\"\")","v":13},{"$f":"IFERROR(VLOOKUP($B100,'Partie 4'!$B$32:$E$223,4,0),\"\")","v":4},{"$f":"IFERROR(VLOOKUP($B100,'Partie 5'!$B$32:$D$223,2,0),\"\")","v":13},{"$f":"IFERROR(VLOOKUP($B100,'Partie 5'!$B$32:$E$223,4,0),\"\")","v":6},"P2",61,43,3,null,{"$f":"IFERROR(INDEX(Liste!$G$7:$G$198,MATCH(B100,Liste!$I$7:$I$198,0)),\"\")","v":"ST"},"P2",61,43,3]
[99,{"$f":"IFERROR(INDEX(Liste!$I$7:$I$198,MATCH(Recap!A101,Liste!$L$7:$L$198,0)),\"\")","v":"P3"},null,{"$f":"IFERROR(VLOOKUP($B101,'Partie 1'!$B$32:$D$223,2,0),\"\")","v":13},{"$f":"IFERROR(VLOOKUP($B101,'Partie 1'!$B$32:$E$223,4,0),\"\")","v":10},{"$f":"IFERROR(VLOOKUP($B101,'Partie 2'!$B$32:$D$223,2,0),\"\")","v":6},{"$f":"IFERROR(VLOOKUP($B101,'Partie 2'!$B$32:$E$223,4,0),\"\")","v":13},{"$f":"IFERROR(VLOOKUP($B101,'Partie 3'!$B$32:$D$223,2,0),\"\")","v":12},{"$f":"IFERROR(VLOOKUP($B101,'Partie 3'!$B$32:$E$223,4,0),\"\")","v":13},{"$f":"IFERROR(VLOOKUP($B101,'Partie 4'!$B$32:$D$223,2,0),\"\")","v":13},{"$f":"IFERROR(VLOOKUP($B101,'Partie 4'!$B$32:$E$223,4,0),\"\")","v":7},{"$f":"IFERROR(VLOOKUP($B101,'Partie 5'!$B$32:$D$223,2,0),\"\")","v":13},{"$f":"IFERROR(VLOOKUP($B101,'Partie 5'!$B$32:$E$223,4,0),\"\")","v":4},"P3",57,47,3,null,{"$f":"IFERROR(INDEX(Liste!$G$7:$G$198,MATCH(B101,Liste!$I$7:$I$198,0)),\"\")","v":"ST"},"P3",57,47,3]
[100,{"$f":"IFERROR(INDEX(Liste!$I$7:$I$198,MATCH(Recap!A102,Liste!$L$7:$L$198,0)),\"\")","v":"P4"},null,{"$f":"IFERROR(VLOOKUP($B102,'Partie 1'!$B$32:$D$223,2,0),\"\")","v":10},{"$f":"IFERROR(VLOOKUP($B102,'Partie 1'!$B$32:$E$223,4,0),\"\")","v":13},{"$f":"IFERROR(VLOOKUP($B102,'Partie 2'!$B$32:$D$223,2,0),\"\")","v":13},{"$f":"IFERROR(VLOOKUP($B102,'Partie 2'!$B$32:$E$223,4,0),\"\")","v":12},{"$f":"IFERROR(VLOOKUP($B102,'Partie 3'!$B$32:$D$223,2,0),\"\")","v":13},{"$f":"IFERROR(VLOOKUP($B102,'Partie 3'!$B$32:$E$223,4,0),\"\")","v":6},{"$f":"IFERROR(VLOOKUP($B102,'Partie 4'!$B$32:$D$223,2,0),\"\")","v":13},{"$f":"IFERROR(VLOOKUP($B102,'Partie 4'!$B$32:$E$223,4,0),\"\")","v":6},{"$f":"IFERROR(VLOOKUP($B102,'Partie 5'!$B$32:$D$223,2,0),\"\")","v":13},{"$f":"IFERROR(VLOOKUP($B102,'Partie 5'!$B$32:$E$223,4,0),\"\")","v":6},"P4",62,43,4,null,{"$f":"IFERROR(INDEX(Liste!$G$7:$G$198,MATCH(B102,Liste!$I$7:$I$198,0)),\"\")","v":"ST"},"P4",62,43,4]
[101,{"$f":"IFERROR(INDEX(Liste!$I$7:$I$198,MATCH(Recap!A103,Liste!$L$7:$L$198,0)),\"\")","v":"P5"},null,{"$f":"IFERROR(VLOOKUP($B103,'Partie 1'!$B$32:$D$223,2,0),\"\")","v":13},{"$f":"IFERROR(VLOOKUP($B103,'Partie 1'!$B$32:$E$223,4,0),\"\")","v":10},{"$f":"IFERROR(VLOOKUP($B103,'Partie 2'!$B$32:$D$223,2,0),\"\")","v":13},{"$f":"IFERROR(VLOOKUP($B103,'Partie 2'!$B$32:$E$223,4,0),\"\")","v":6},{"$f":"IFERROR(VLOOKUP($B103,'Partie 3'!$B$32:$D$223,2,0),\"\")","v":6},{"$f":"IFERROR(VLOOKUP($B103,'Partie 3'!$B$32:$E$223,4,0),\"\")","v":13},{"$f":"IFERROR(VLOOKUP($B103,'Partie 4'!$B$32:$D$223,2,0),\"\")","v":12},{"$f":"IFERROR(VLOOKUP($B103,'Partie 4'!$B$32:$E$223,4,0),\"\")","v":13},{"$f":"IFERROR(VLOOKUP($B103,'Partie 5'!$B$32:$D$223,2,0),\"\")","v":13},{"$f":"IFERROR(VLOOKUP($B103,'Partie 5'!$B$32:$E$223,4,0),\"\")","v":7},"P5",57,49,3,null,{"$f":"IFERROR(INDEX(Liste!$G$7:$G$198,MATCH(B103,Liste!$I$7:$I$198,0)),\"\")","v":"ST"},"P5",57,49,3]
[102,{"$f":"IFERROR(INDEX(Liste!$I$7:$I$198,MATCH(Recap!A104,Liste!$L$7:$L$198,0)),\"\")","v":"P6"},null,{"$f":"IFERROR(VLOOKUP($B104,'Partie 1'!$B$32:$D$223,2,0),\"\")","v":10},{"$f":"IFERROR(VLOOKUP($B104,'Partie 1'!$B$32:$E$223,4,0),\"\")","v":13},{"$f":"IFERROR(VLOOKUP($B104,'Partie 2'!$B$32:$D$223,2,0),\"\")","v":2},{"$f":"IFERROR(VLOOKUP($B104,'Partie 2'!$B$32:$E$223,4,0),\"\")","v":13},{"$f":"IFERROR(VLOOKUP($B104,'Partie 3'!$B$32:$D$223,2,0),\"\")","v":7},{"$f":"IFERROR(VLOOKUP($B104,'Partie 3'!$B$32:$E$223,4,0),\"\")","v":13},{"$f":"IFERROR(VLOOKUP($B104,'Partie 4'!$B$32:$D$223,2,0),\"\")","v":13},{"$f":"IFERROR(VLOOKUP($B104,'Partie 4'!$B$32:$E$223,4,0),\"\")","v":4},{"$f":"IFERROR(VLOOKUP($B104,'Partie 5'!$B$32:$D$223,2,0),\"\")","v":5},{"$f":"IFERROR(VLOOKUP($B104,'Partie 5'!$B$32:$E$223,4,0),\"\")","v":13},"P6",37,56,1,null,{"$f":"IFERROR(INDEX(Liste!$G$7:$G$198,MATCH(B104,Liste!$I$7:$I$198,0)),\"\")","v":"ST"},"P6",37,56,1]
[103,{"$f":"IFERROR(INDEX(Liste!$I$7:$I$198,MATCH(Recap!A105,Liste!$L$7:$L$198,0)),\"\")","v":"P7"},null,{"$f":"IFERROR(VLOOKUP($B105,'Partie 1'!$B$32:$D$223,2,0),\"\")","v":13},{"$f":"IFERROR(VLOOKUP($B105,'Partie 1'!$B$32:$E$223,4,0),\"\")","v":10},{"$f":"IFERROR(VLOOKUP($B105,'Partie 2'!$B$32:$D$223,2,0),\"\")","v":6},{"$f":"IFERROR(VLOOKUP($B105,'Partie 2'!$B$32:$E$223,4,0),\"\")","v":13},{"$f":"IFERROR(VLOOKUP($B105,'Partie 3'!$B$32:$D$223,2,0),\"\")","v":13},{"$f":"IFERROR(VLOOKUP($B105,'Partie 3'!$B$32:$E$223,4,0),\"\")","v":12},{"$f":"IFERROR(VLOOKUP($B105,'Partie 4'!$B$32:$D$223,2,0),\"\")","v":13},{"$f":"IFERROR(VLOOKUP($B105,'Partie 4'!$B$32:$E$223,4,0),\"\")","v":6},{"$f":"IFERROR(VLOOKUP($B105,'Partie 5'!$B$32:$D$223,2,0),\"\")","v":13},{"$f":"IFERROR(VLOOKUP($B105,'Partie 5'!$B$32:$E$223,4,0),\"\")","v":6},"P7",58,47,4,null,{"$f":"IFERROR(INDEX(Liste!$G$7:$G$198,MATCH(B105,Liste!$I$7:$I$198,0)),\"\")","v":"ST"},"P7",58,47,4]
[104,{"$f":"IFERROR(INDEX(Liste!$I$7:$I$198,MATCH(Recap!A106,Liste!$L$7:$L$198,0)),\"\")","v":"P8"},null,{"$f":"IFERROR(VLOOKUP($B106,'Partie 1'!$B$32:$D$223,2,0),\"\")","v":10},{"$f":"IFERROR(VLOOKUP($B106,'Partie 1'!$B$32:$E$223,4,0),\"\")","v":13},{"$f":"IFERROR(VLOOKUP($B106,'Partie 2'!$B$32:$D$223,2,0),\"\")","v":13},{"$f":"IFERROR(VLOOKUP($B106,'Partie 2'!$B$32:$E$223,4,0),\"\")","v":2},{"$f":"IFERROR(VLOOKUP($B106,'Partie 3'!$B$32:$D$223,2,0),\"\")","v":6},{"$f":"IFERROR(VLOOKUP($B106,'Partie 3'!$B$32:$E$223,4,0),\"\")","v":13},{"$f":"IFERROR(VLOOKUP($B106,'Partie 4'!$B$32:$D$223,2,0),\"\")","v":13},{"$f":"IFERROR(VLOOKUP($B106,'Partie 4'!$B$32:$E$223,4,0),\"\")","v":9},{"$f":"IFERROR(VLOOKUP($B106,'Partie 5'!$B$32:$D$223,2,0),\"\")","v":13},{"$f":"IFERROR(VLOOKUP($B106,'Partie 5'!$B$32:$E$223,4,0),\"\")","v":6},"P8",55,43,3,null,{"$f":"IFERROR(INDEX(Liste!$G$7:$G$198,MATCH(B106,Liste!$I$7:$I$198,0)),\"\")","v":"ST"},"P8",55,43,3]
[105,{"$f":"IFERROR(INDEX(Liste!$I$7:$I$198,MATCH(Recap!A107,Liste!$L$7:$L$198,0)),\"\")","v":"P9"},null,{"$f":"IFERROR(VLOOKUP($B107,'Partie 1'!$B$32:$D$223,2,0),\"\")","v":13},{"$f":"IFERROR(VLOOKUP($B107,'Partie 1'!$B$32:$E$223,4,0),\"\")","v":10},{"$f":"IFERROR(VLOOKUP($B107,'Partie 2'!$B$32:$D$223,2,0),\"\")","v":13},{"$f":"IFERROR(VLOOKUP($B107,'Partie 2'!$B$32:$E$223,4,0),\"\")","v":6},{"$f":"IFERROR(VLOOKUP($B107,'Partie 3'!$B$32:$D$223,2,0),\"\")","v":13},{"$f":"IFERROR(VLOOKUP($B107,'Partie 3'!$B$32:$E$223,4,0),\"\")","v":6},{"$f":"IFERROR(VLOOKUP($B107,'Partie 4'!$B$32:$D$223,2,0),\"\")","v":6},{"$f":"IFERROR(VLOOKUP($B107,'Partie 4'!$B$32:$E$223,4,0),\"\")","v":13},{"$f":"IFERROR(VLOOKUP($B107,'Partie 5'!$B$32:$D$223,2,0),\"\")","v":12},{"$f":"IFERROR(VLOOKUP($B107,'Partie 5'!$B$32:$E$223,4,0),\"\")","v":13},"P9",57,48,3,null,{"$f":"IFERROR(INDEX(Liste!$G$7:$G$198,MATCH(B107,Liste!$I$7:$I$198,0)),\"\")","v":"ST"},"P9",57,48,3]
[106,{"$f":"IFERROR(INDEX(Liste!$I$7:$I$198,MATCH(Recap!A108,Liste!$L$7:$L$198,0)),\"\")","v":"P10"},null,{"$f":"IFERROR(VLOOKUP($B108,'Partie 1'!$B$32:$D$223,2,0),\"\")","v":10},{"$f":"IFERROR(VLOOKUP($B108,'Partie 1'!$B$32:$E$223,4,0),\"\")","v":13},{"$f":"IFERROR(VLOOKUP($B108,'Partie 2'!$B$32:$D$223,2,0),\"\")","v":13},{"$f":"IFERROR(VLOOKUP($B108,'Partie 2'!$B$32:$E$223,4,0),\"\")","v":4},{"$f":"IFERROR(VLOOKUP($B108,'Partie 3'!$B$32:$D$223,2,0),\"\")","v":13},{"$f":"IFERROR(VLOOKUP($B108,'Partie 3'!$B$32:$E$223,4,0),\"\")","v":6},{"$f":"IFERROR(VLOOKUP($B108,'Partie 4'!$B$32:$D$223,2,0),\"\")","v":6},{"$f":"IFERROR(VLOOKUP($B108,'Partie 4'!$B$32:$E$223,4,0),\"\")","v":13},{"$f":"IFERROR(VLOOKUP($B108,'Partie 5'!$B$32:$D$223,2,0),\"\")","v":13},{"$f":"IFERROR(VLOOKUP($B108,'Partie 5'!$B$32:$E$223,4,0),\"\")","v":10},"P10",55,46,3,null,{"$f":"IFERROR(INDEX(Liste!$G$7:$G$198,MATCH(B108,Liste!$I$7:$I$198,0)),\"\")","v":"ST"},"P10",55,46,3]
[107,{"$f":"IFERROR(INDEX(Liste!$I$7:$I$198,MATCH(Recap!A109,Liste!$L$7:$L$198,0)),\"\")","v":"P11"},null,{"$f":"IFERROR(VLOOKUP($B109,'Partie 1'!$B$32:$D$223,2,0),\"\")","v":13},{"$f":"IFERROR(VLOOKUP($B109,'Partie 1'!$B$32:$E$223,4,0),\"\")","v":10},{"$f":"IFERROR(VLOOKUP($B109,'Partie 2'!$B$32:$D$223,2,0),\"\")","v":6},{"$f":"IFERROR(VLOOKUP($B109,'Partie 2'!$B$32:$E$223,4,0),\"\")","v":13},{"$f":"IFERROR(VLOOKUP($B109,'Partie 3'!$B$32:$D$223,2,0),\"\")","v":2},{"$f":"IFERROR(VLOOKUP($B109,'Partie 3'!$B$32:$E$223,4,0),\"\")","v":13},{"$f":"IFERROR(VLOOKUP($B109,'Partie 4'!$B$32:$D$223,2,0),\"\")","v":7},{"$f":"IFERROR(VLOOKUP($B109,'Partie 4'!$B$32:$E$223,4,0),\"\")","v":13},{"$f":"IFERROR(VLOOKUP($B109,'Partie 5'!$B$32:$D$223,2,0),\"\")","v":13},{"$f":"IFERROR(VLOOKUP($B109,'Partie 5'!$B$32:$E$223,4,0),\"\")","v":4},"P11",41,53,2,null,{"$f":"IFERROR(INDEX(Liste!$G$7:$G$198,MATCH(B109,Liste!$I$7:$I$198,0)),\"\")","v":"ST"},"P11",41,53,2]
[108,{"$f":"IFERROR(INDEX(Liste!$I$7:$I$198,MATCH(Recap!A110,Liste!$L$7:$L$198,0)),\"\")","v":"P12"},null,{"$f":"IFERROR(VLOOKUP($B110,'Partie 1'!$B$32:$D$223,2,0),\"\")","v":10},{"$f":"IFERROR(VLOOKUP($B110,'Partie 1'!$B$32:$E$223,4,0),\"\")","v":13},{"$f":"IFERROR(VLOOKUP($B110,'Partie 2'!$B$32:$D$223,2,0),\"\")","v":4},{"$f":"IFERROR(VLOOKUP($B110,'Partie 2'!$B$32:$E$223,4,0),\"\")","v":13},{"$f":"IFERROR(VLOOKUP($B110,'Partie 3'!$B$32:$D$223,2,0),\"\")","v":13},{"$f":"IFERROR(VLOOKUP($B110,'Partie 3'!$B$32:$E$223,4,0),\"\")","v":5},{"$f":"IFERROR(VLOOKUP($B110,'Partie 4'!$B$32:$D$223,2,0),\"\")","v":4},{"$f":"IFERROR(VLOOKUP($B110,'Partie 4'!$B$32:$E$223,4,0),\"\")","v":13},{"$f":"IFERROR(VLOOKUP($B110,'Partie 5'!$B$32:$D$223,2,0),\"\")","v":13},{"$f":"IFERROR(VLOOKUP($B110,'Partie 5'!$B$32:$E$223,4,0),\"\")","v":2},"P12",44,46,2,null,{"$f":"IFERROR(INDEX(Liste!$G$7:$G$198,MATCH(B110,Liste!$I$7:$I$198,0)),\"\")","v":"ST"},"P12",44,46,2]
[109,{"$f":"IFERROR(INDEX(Liste!$I$7:$I$198,MATCH(Recap!A111,Liste!$L$7:$L$198,0)),\"\")","v":"P13"},null,{"$f":"IFERROR(VLOOKUP($B111,'Partie 1'!$B$32:$D$223,2,0),\"\")","v":13},{"$f":"IFERROR(VLOOKUP($B111,'Partie 1'!$B$32:$E$223,4,0),\"\")","v":10},{"$f":"IFERROR(VLOOKUP($B111,'Partie 2'!$B$32:$D$223,2,0),\"\")","v":13},{"$f":"IFERROR(VLOOKUP($B111,'Partie 2'!$B$32:$E$223,4,0),\"\")","v":6},{"$f":"IFERROR(VLOOKUP($B111,'Partie 3'!$B$32:$D$223,2,0),\"\")","v":6},{"$f":"IFERROR(VLOOKUP($B111,'Partie 3'!$B$32:$E$223,4,0),\"\")","v":13},{"$f":"IFERROR(VLOOKUP($B111,'Partie 4'!$B$32:$D$223,2,0),\"\")","v":13},{"$f":"IFERROR(VLOOKUP($B111,'Partie 4'!$B$32:$E$223,4,0),\"\")","v":12},{"$f":"IFERROR(VLOOKUP($B111,'Partie 5'!$B$32:$D$223,2,0),\"\")","v":13},{"$f":"IFERROR(VLOOKUP($B111,'Partie 5'!$B$32:$E$223,4,0),\"\")","v":6},"P13",58,47,4,null,{"$f":"IFERROR(INDEX(Liste!$G$7:$G$198,MATCH(B111,Liste!$I$7:$I$198,0)),\"\")","v":"ST"},"P13",58,47,4]
[110,{"$f":"IFERROR(INDEX(Liste!$I$7:$I$198,MATCH(Recap!A112,Liste!$L$7:$L$198,0)),\"\")","v":"P14"},null,{"$f":"IFERROR(VLOOKUP($B112,'Partie 1'!$B$32:$D$223,2,0),\"\")","v":10},{"$f":"IFERROR(VLOOKUP($B112,'Partie 1'!$B$32:$E$223,4,0),\"\")","v":13},{"$f":"IFERROR(VLOOKUP($B112,'Partie 2'!$B$32:$D$223,2,0),\"\")","v":13},{"$f":"IFERROR(VLOOKUP($B112,'Partie 2'!$B$32:$E$223,4,0),\"\")","v":10},{"$f":"IFERROR(VLOOKUP($B112,'Partie 3'!$B$32:$D$223,2,0),\"\")","v":6},{"$f":"IFERROR(VLOOKUP($B112,'Partie 3'!$B$32:$E$223,4,0),\"\")","v":13},{"$f":"IFERROR(VLOOKUP($B112,'Partie 4'!$B$32:$D$223,2,0),\"\")","v":9},{"$f":"IFERROR(VLOOKUP($B112,'Partie 4'!$B$32:$E$223,4,0),\"\")","v":13},{"$f":"IFERROR(VLOOKUP($B112,'Partie 5'!$B$32:$D$223,2,0),\"\")","v":13},{"$f":"IFERROR(VLOOKUP($B112,'Partie 5'!$B$32:$E$223,4,0),\"\")","v":11},"P14",51,60,2,null,{"$f":"IFERROR(INDEX(Liste!$G$7:$G$198,MATCH(B112,Liste!$I$7:$I$198,0)),\"\")","v":"ST"},"P14",51,60,2]
[111,{"$f":"IFERROR(INDEX(Liste!$I$7:$I$198,MATCH(Recap!A113,Liste!$L$7:$L$198,0)),\"\")","v":"P15"},null,{"$f":"IFERROR(VLOOKUP($B113,'Partie 1'!$B$32:$D$223,2,0),\"\")","v":13},{"$f":"IFERROR(VLOOKUP($B113,'Partie 1'!$B$32:$E$223,4,0),\"\")","v":10},{"$f":"IFERROR(VLOOKUP($B113,'Partie 2'!$B$32:$D$223,2,0),\"\")","v":6},{"$f":"IFERROR(VLOOKUP($B113,'Partie 2'!$B$32:$E$223,4,0),\"\")","v":13},{"$f":"IFERROR(VLOOKUP($B113,'Partie 3'!$B$32:$D$223,2,0),\"\")","v":13},{"$f":"IFERROR(VLOOKUP($B113,'Partie 3'!$B$32:$E$223,4,0),\"\")","v":2},{"$f":"IFERROR(VLOOKUP($B113,'Partie 4'!$B$32:$D$223,2,0),\"\")","v":6},{"$f":"IFERROR(VLOOKUP($B113,'Partie 4'!$B$32:$E$223,4,0),\"\")","v":13},{"$f":"IFERROR(VLOOKUP($B113,'Partie 5'!$B$32:$D$223,2,0),\"\")","v":13},{"$f":"IFERROR(VLOOKUP($B113,'Partie 5'!$B$32:$E$223,4,0),\"\")","v":9},"P15",51,47,3,null,{"$f":"IFERROR(INDEX(Liste!$G$7:$G$198,MATCH(B113,Liste!$I$7:$I$198,0)),\"\")","v":"ST"},"P15",51,47,3]
[112,{"$f":"IFERROR(INDEX(Liste!$I$7:$I$198,MATCH(Recap!A114,Liste!$L$7:$L$198,0)),\"\")","v":"P16"},null,{"$f":"IFERROR(VLOOKUP($B114,'Partie 1'!$B$32:$D$223,2,0),\"\")","v":10},{"$f":"IFERROR(VLOOKUP($B114,'Partie 1'!$B$32:$E$223,4,0),\"\")","v":13},{"$f":"IFERROR(VLOOKUP($B114,'Partie 2'!$B$32:$D$223,2,0),\"\")","v":10},{"$f":"IFERROR(VLOOKUP($B114,'Partie 2'!$B$32:$E$223,4,0),\"\")","v":13},{"$f":"IFERROR(VLOOKUP($B114,'Partie 3'!$B$32:$D$223,2,0),\"\")","v":5},{"$f":"IFERROR(VLOOKUP($B114,'Partie 3'!$B$32:$E$223,4,0),\"\")","v":13},{"$f":"IFERROR(VLOOKUP($B114,'Partie 4'!$B$32:$D$223,2,0),\"\")","v":4},{"$f":"IFERROR(VLOOKUP($B114,'Partie 4'!$B$32:$E$223,4,0),\"\")","v":13},{"$f":"IFERROR(VLOOKUP($B114,'Partie 5'!$B$32:$D$223,2,0),\"\")","v":5},{"$f":"IFERROR(VLOOKUP($B114,'Partie 5'!$B$32:$E$223,4,0),\"\")","v":13},"P16",34,65,0,null,{"$f":"IFERROR(INDEX(Liste!$G$7:$G$198,MATCH(B114,Liste!$I$7:$I$198,0)),\"\")","v":"ST"},"P16",34,65,0]
[113,{"$f":"IFERROR(INDEX(Liste!$I$7:$I$198,MATCH(Recap!A115,Liste!$L$7:$L$198,0)),\"\")","v":"P17"},null,{"$f":"IFERROR(VLOOKUP($B115,'Partie 1'!$B$32:$D$223,2,0),\"\")","v":13},{"$f":"IFERROR(VLOOKUP($B115,'Partie 1'!$B$32:$E$223,4,0),\"\")","v":10},{"$f":"IFERROR(VLOOKUP($B115,'Partie 2'!$B$32:$D$223,2,0),\"\")","v":13},{"$f":"IFERROR(VLOOKUP($B115,'Partie 2'!$B$32:$E$223,4,0),\"\")","v":6},{"$f":"IFERROR(VLOOKUP($B115,'Partie 3'!$B$32:$D$223,2,0),\"\")","v":13},{"$f":"IFERROR(VLOOKUP($B115,'Partie 3'!$B$32:$E$223,4,0),\"\")","v":6},{"$f":"IFERROR(VLOOKUP($B115,'Partie 4'!$B$32:$D$223,2,0),\"\")","v":13},{"$f":"IFERROR(VLOOKUP($B115,'Partie 4'!$B$32:$E$223,4,0),\"\")","v":6},{"$f":"IFERROR(VLOOKUP($B115,'Partie 5'!$B$32:$D$223,2,0),\"\")","v":6},{"$f":"IFERROR(VLOOKUP($B115,'Partie 5'!$B$32:$E$223,4,0),\"\")","v":13},"P17",58,41,4,null,{"$f":"IFERROR(INDEX(Liste!$G$7:$G$198,MATCH(B115,Liste!$I$7:$I$198,0)),\"\")","v":"E"},"P17",58,41,4]
[114,{"$f":"IFERROR(INDEX(Liste!$I$7:$I$198,MATCH(Recap!A116,Liste!$L$7:$L$198,0)),\"\")","v":"P18"},null,{"$f":"IFERROR(VLOOKUP($B116,'Partie 1'!$B$32:$D$223,2,0),\"\")","v":10},{"$f":"IFERROR(VLOOKUP($B116,'Partie 1'!$B$32:$E$223,4,0),\"\")","v":13},{"$f":"IFERROR(VLOOKUP($B116,'Partie 2'!$B$32:$D$223,2,0),\"\")","v":7},{"$f":"IFERROR(VLOOKUP($B116,'Partie 2'!$B$32:$E$223,4,0),\"\")","v":13},{"$f":"IFERROR(VLOOKUP($B116,'Partie 3'!$B$32:$D$223,2,0),\"\")","v":9},{"$f":"IFERROR(VLOOKUP($B116,'Partie 3'!$B$32:$E$223,4,0),\"\")","v":13},{"$f":"IFERROR(VLOOKUP($B116,'Partie 4'!$B$32:$D$223,2,0),\"\")","v":13},{"$f":"IFERROR(VLOOKUP($B116,'Partie 4'!$B$32:$E$223,4,0),\"\")","v":10},{"$f":"IFERROR(VLOOKUP($B116,'Partie 5'!$B$32:$D$223,2,0),\"\")","v":13},{"$f":"IFERROR(VLOOKUP($B116,'Partie 5'!$B$32:$E$223,4,0),\"\")","v":5},"P18",52,54,2,null,{"$f":"IFERROR(INDEX(Liste!$G$7:$G$198,MATCH(B116,Liste!$I$7:$I$198,0)),\"\")","v":"E"},"P18",52,54,2]
[115,{"$f":"IFERROR(INDEX(Liste!$I$7:$I$198,MATCH(Recap!A117,Liste!$L$7:$L$198,0)),\"\")","v":"P19"},null,{"$f":"IFERROR(VLOOKUP($B117,'Partie 1'!$B$32:$D$223,2,0),\"\")","v":13},{"$f":"IFERROR(VLOOKUP($B117,'Partie 1'!$B$32:$E$223,4,0),\"\")","v":10},{"$f":"IFERROR(VLOOKUP($B117,'Partie 2'!$B$32:$D$223,2,0),\"\")","v":6},{"$f":"IFERROR(VLOOKUP($B117,'Partie 2'!$B$32:$E$223,4,0),\"\")","v":13},{"$f":"IFERROR(VLOOKUP($B117,'Partie 3'!$B$32:$D$223,2,0),\"\")","v":13},{"$f":"IFERROR(VLOOKUP($B117,'Partie 3'!$B$32:$E$223,4,0),\"\")","v":4},{"$f":"IFERROR(VLOOKUP($B117,'Partie 4'!$B$32:$D$223,2,0),\"\")","v":13},{"$f":"IFERROR(VLOOKUP($B117,'Partie 4'!$B$32:$E$223,4,0),\"\")","v":6},{"$f":"IFERROR(VLOOKUP($B117,'Partie 5'!$B$32:$D$223,2,0),\"\")","v":6},{"$f":"IFERROR(VLOOKUP($B117,'Partie 5'!$B$32:$E$223,4,0),\"\")","v":13},"P19",51,46,3,null,{"$f":"IFERROR(INDEX(Liste!$G$7:$G$198,MATCH(B117,Liste!$I$7:$I$198,0)),\"\")","v":"E"},"P19",51,46,3]
[116,{"$f":"IFERROR(INDEX(Liste!$I$7:$I$198,MATCH(Recap!A118,Liste!$L$7:$L$198,0)),\"\")","v":"P20"},null,{"$f":"IFERROR(VLOOKUP($B118,'Partie 1'!$B$32:$D$223,2,0),\"\")","v":10},{"$f":"IFERROR(VLOOKUP($B118,'Partie 1'!$B$32:$E$223,4,0),\"\")","v":13},{"$f":"IFERROR(VLOOKUP($B118,'Partie 2'!$B$32:$D$223,2,0),\"\")","v":13},{"$f":"IFERROR(VLOOKUP($B118,'Partie 2'!$B$32:$E$223,4,0),\"\")","v":7},{"$f":"IFERROR(VLOOKUP($B118,'Partie 3'!$B$32:$D$223,2,0),\"\")","v":13},{"$f":"IFERROR(VLOOKUP($B118,'Partie 3'!$B$32:$E$223,4,0),\"\")","v":6},{"$f":"IFERROR(VLOOKUP($B118,'Partie 4'!$B$32:$D$223,2,0),\"\")","v":13},{"$f":"IFERROR(VLOOKUP($B118,'Partie 4'!$B$32:$E$223,4,0),\"\")","v":6},{"$f":"IFERROR(VLOOKUP($B118,'Partie 5'!$B$32:$D$223,2,0),\"\")","v":6},{"$f":"IFERROR(VLOOKUP($B118,'Partie 5'!$B$32:$E$223,4,0),\"\")","v":13},"P20",55,45,3,null,{"$f":"IFERROR(INDEX(Liste!$G$7:$G$198,MATCH(B118,Liste!$I$7:$I$198,0)),\"\")","v":"E"},"P20",55,45,3]
[117,{"$f":"IFERROR(INDEX(Liste!$I$7:$I$198,MATCH(Recap!A119,Liste!$L$7:$L$198,0)),\"\")","v":"P21"},null,{"$f":"IFERROR(VLOOKUP($B119,'Partie 1'!$B$32:$D$223,2,0),\"\")","v":13},{"$f":"IFERROR(VLOOKUP($B119,'Partie 1'!$B$32:$E$223,4,0),\"\")","v":10},{"$f":"IFERROR(VLOOKUP($B119,'Partie 2'!$B$32:$D$223,2,0),\"\")","v":13},{"$f":"IFERROR(VLOOKUP($B119,'Partie 2'!$B$32:$E$223,4,0),\"\")","v":6},{"$f":"IFERROR(VLOOKUP($B119,'Partie 3'!$B$32:$D$223,2,0),\"\")","v":6},{"$f":"IFERROR(VLOOKUP($B119,'Partie 3'!$B$32:$E$223,4,0),\"\")","v":13},{"$f":"IFERROR(VLOOKUP($B119,'Partie 4'!$B$32:$D$223,2,0),\"\")","v":2},{"$f":"IFERROR(VLOOKUP($B119,'Partie 4'!$B$32:$E$223,4,0),\"\")","v":13},{"$f":"IFERROR(VLOOKUP($B119,'Partie 5'!$B$32:$D$223,2,0),\"\")","v":7},{"$f":"IFERROR(VLOOKUP($B119,'Partie 5'!$B$32:$E$223,4,0),\"\")","v":13},"P21",41,55,2,null,{"$f":"IFERROR(INDEX(Liste!$G$7:$G$198,MATCH(B119,Liste!$I$7:$I$198,0)),\"\")","v":"E"},"P21",41,55,2]
[118,{"$f":"IFERROR(INDEX(Liste!$I$7:$I$198,MATCH(Recap!A120,Liste!$L$7:$L$198,0)),\"\")","v":"P22"},null,{"$f":"IFERROR(VLOOKUP($B120,'Partie 1'!$B$32:$D$223,2,0),\"\")","v":10},{"$f":"IFERROR(VLOOKUP($B120,'Partie 1'!$B$32:$E$223,4,0),\"\")","v":13},{"$f":"IFERROR(VLOOKUP($B120,'Partie 2'!$B$32:$D$223,2,0),\"\")","v":5},{"$f":"IFERROR(VLOOKUP($B120,'Partie 2'!$B$32:$E$223,4,0),\"\")","v":13},{"$f":"IFERROR(VLOOKUP($B120,'Partie 3'!$B$32:$D$223,2,0),\"\")","v":13},{"$f":"IFERROR(VLOOKUP($B120,'Partie 3'!$B$32:$E$223,4,0),\"\")","v":9},{"$f":"IFERROR(VLOOKUP($B120,'Partie 4'!$B$32:$D$223,2,0),\"\")","v":13},{"$f":"IFERROR(VLOOKUP($B120,'Partie 4'!$B$32:$E$223,4,0),\"\")","v":10},{"$f":"IFERROR(VLOOKUP($B120,'Partie 5'!$B$32:$D$223,2,0),\"\")","v":6},{"$f":"IFERROR(VLOOKUP($B120,'Partie 5'!$B$32:$E$223,4,0),\"\")","v":13},"P22",47,58,2,null,{"$f":"IFERROR(INDEX(Liste!$G$7:$G$198,MATCH(B120,Liste!$I$7:$I$198,0)),\"\")","v":"E"},"P22",47,58,2]
[119,{"$f":"IFERROR(INDEX(Liste!$I$7:$I$198,MATCH(Recap!A121,Liste!$L$7:$L$198,0)),\"\")","v":"P23"},null,{"$f":"IFERROR(VLOOKUP($B121,'Partie 1'!$B$32:$D$223,2,0),\"\")","v":13},{"$f":"IFERROR(VLOOKUP($B121,'Partie 1'!$B$32:$E$223,4,0),\"\")","v":10},{"$f":"IFERROR(VLOOKUP($B121,'Partie 2'!$B$32:$D$223,2,0),\"\")","v":6},{"$f":"IFERROR(VLOOKUP($B121,'Partie 2'!$B$32:$E$223,4,0),\"\")","v":13},{"$f":"IFERROR(VLOOKUP($B121,'Partie 3'!$B$32:$D$223,2,0),\"\")","v":4},{"$f":"IFERROR(VLOOKUP($B121,'Partie 3'!$B$32:$E$223,4,0),\"\")","v":13},{"$f":"IFERROR(VLOOKUP($B121,'Partie 4'!$B$32:$D$223,2,0),\"\")","v":13},{"$f":"IFERROR(VLOOKUP($B121,'Partie 4'!$B$32:$E$223,4,0),\"\")","v":5},{"$f":"IFERROR(VLOOKUP($B121,'Partie 5'!$B$32:$D$223,2,0),\"\")","v":4},{"$f":"IFERROR(VLOOKUP($B121,'Partie 5'!$B$32:$E$223,4,0),\"\")","v":13},"P23",40,54,2,null,{"$f":"IFERROR(INDEX(Liste!$G$7:$G$198,MATCH(B121,Liste!$I$7:$I$198,0)),\"\")","v":"E"},"P23",40,54,2]
[120,{"$f":"IFERROR(INDEX(Liste!$I$7:$I$198,MATCH(Recap!A122,Liste!$L$7:$L$198,0)),\"\")","v":"P24"},null,{"$f":"IFERROR(VLOOKUP($B122,'Partie 1'!$B$32:$D$223,2,0),\"\")","v":10},{"$f":"IFERROR(VLOOKUP($B122,'Partie 1'!$B$32:$E$223,4,0),\"\")","v":13},{"$f":"IFERROR(VLOOKUP($B122,'Partie 2'!$B$32:$D$223,2,0),\"\")","v":13},{"$f":"IFERROR(VLOOKUP($B122,'Partie 2'!$B$32:$E$223,4,0),\"\")","v":5},{"$f":"IFERROR(VLOOKUP($B122,'Partie 3'!$B$32:$D$223,2,0),\"\")","v":6},{"$f":"IFERROR(VLOOKUP($B122,'Partie 3'!$B$32:$E$223,4,0),\"\")","v":13},{"$f":"IFERROR(VLOOKUP($B122,'Partie 4'!$B$32:$D$223,2,0),\"\")","v":11},{"$f":"IFERROR(VLOOKUP($B122,'Partie 4'!$B$32:$E$223,4,0),\"\")","v":13},{"$f":"IFERROR(VLOOKUP($B122,'Partie 5'!$B$32:$D$223,2,0),\"\")","v":11},{"$f":"IFERROR(VLOOKUP($B122,'Partie 5'!$B$32:$E$223,4,0),\"\")","v":13},"P24",51,57,1,null,{"$f":"IFERROR(INDEX(Liste!$G$7:$G$198,MATCH(B122,Liste!$I$7:$I$198,0)),\"\")","v":"E"},"P24",51,57,1]
[121,{"$f":"IFERROR(INDEX(Liste!$I$7:$I$198,MATCH(Recap!A123,Liste!$L$7:$L$198,0)),\"\")","v":"P25"},null,{"$f":"IFERROR(VLOOKUP($B123,'Partie 1'!$B$32:$D$223,2,0),\"\")","v":13},{"$f":"IFERROR(VLOOKUP($B123,'Partie 1'!$B$32:$E$223,4,0),\"\")","v":10},{"$f":"IFERROR(VLOOKUP($B123,'Partie 2'!$B$32:$D$223,2,0),\"\")","v":13},{"$f":"IFERROR(VLOOKUP($B123,'Partie 2'!$B$32:$E$223,4,0),\"\")","v":6},{"$f":"IFERROR(VLOOKUP($B123,'Partie 3'!$B$32:$D$223,2,0),\"\")","v":13},{"$f":"IFERROR(VLOOKUP($B123,'Partie 3'!$B$32:$E$223,4,0),\"\")","v":6},{"$f":"IFERROR(VLOOKUP($B123,'Partie 4'!$B$32:$D$223,2,0),\"\")","v":6},{"$f":"IFERROR(VLOOKUP($B123,'Partie 4'!$B$32:$E$223,4,0),\"\")","v":13},{"$f":"IFERROR(VLOOKUP($B123,'Partie 5'!$B$32:$D$223,2,0),\"\")","v":13},{"$f":"IFERROR(VLOOKUP($B123,'Partie 5'!$B$32:$E$223,4,0),\"\")","v":12},"P25",58,47,4,null,{"$f":"IFERROR(INDEX(Liste!$G$7:$G$198,MATCH(B123,Liste!$I$7:$I$198,0)),\"\")","v":"E"},"P25",58,47,4]
[122,{"$f":"IFERROR(INDEX(Liste!$I$7:$I$198,MATCH(Recap!A124,Liste!$L$7:$L$198,0)),\"\")","v":"P26"},null,{"$f":"IFERROR(VLOOKUP($B124,'Partie 1'!$B$32:$D$223,2,0),\"\")","v":10},{"$f":"IFERROR(VLOOKUP($B124,'Partie 1'!$B$32:$E$223,4,0),\"\")","v":13},{"$f":"IFERROR(VLOOKUP($B124,'Partie 2'!$B$32:$D$223,2,0),\"\")","v":13},{"$f":"IFERROR(VLOOKUP($B124,'Partie 2'!$B$32:$E$223,4,0),\"\")","v":9},{"$f":"IFERROR(VLOOKUP($B124,'Partie 3'!$B$32:$D$223,2,0),\"\")","v":13},{"$f":"IFERROR(VLOOKUP($B124,'Partie 3'!$B$32:$E$223,4,0),\"\")","v":6},{"$f":"IFERROR(VLOOKUP($B124,'Partie 4'!$B$32:$D$223,2,0),\"\")","v":6},{"$f":"IFERROR(VLOOKUP($B124,'Partie 4'!$B$32:$E$223,4,0),\"\")","v":13},{"$f":"IFERROR(VLOOKUP($B124,'Partie 5'!$B$32:$D$223,2,0),\"\")","v":10},{"$f":"IFERROR(VLOOKUP($B124,'Partie 5'!$B$32:$E$223,4,0),\"\")","v":13},"P26",52,54,2,null,{"$f":"IFERROR(INDEX(Liste!$G$7:$G$198,MATCH(B124,Liste!$I$7:$I$198,0)),\"\")","v":"E"},"P26",52,54,2]
[123,{"$f":"IFERROR(INDEX(Liste!$I$7:$I$198,MATCH(Recap!A125,Liste!$L$7:$L$198,0)),\"\")","v":"P27"},null,{"$f":"IFERROR(VLOOKUP($B125,'Partie 1'!$B$32:$D$223,2,0),\"\")","v":13},{"$f":"IFERROR(VLOOKUP($B125,'Partie 1'!$B$32:$E$223,4,0),\"\")","v":10},{"$f":"IFERROR(VLOOKUP($B125,'Partie 2'!$B$32:$D$223,2,0),\"\")","v":6},{"$f":"IFERROR(VLOOKUP($B125,'Partie 2'!$B$32:$E$223,4,0),\"\")","v":13},{"$f":"IFERROR(VLOOKUP($B125,'Partie 3'!$B$32:$D$223,2,0),\"\")","v":13},{"$f":"IFERROR(VLOOKUP($B125,'Partie 3'!$B$32:$E$223,4,0),\"\")","v":10},{"$f":"IFERROR(VLOOKUP($B125,'Partie 4'!$B$32:$D$223,2,0),\"\")","v":6},{"$f":"IFERROR(VLOOKUP($B125,'Partie 4'!$B$32:$E$223,4,0),\"\")","v":13},{"$f":"IFERROR(VLOOKUP($B125,'Partie 5'!$B$32:$D$223,2,0),\"\")","v":9},{"$f":"IFERROR(VLOOKUP($B125,'Partie 5'!$B$32:$E$223,4,0),\"\")","v":13},"P27",47,59,2,null,{"$f":"IFERROR(INDEX(Liste!$G$7:$G$198,MATCH(B125,Liste!$I$7:$I$198,0)),\"\")","v":"E"},"P27",47,59,2]
[124,{"$f":"IFERROR(INDEX(Liste!$I$7:$I$198,MATCH(Recap!A126,Liste!$L$7:$L$198,0)),\"\")","v":"P28"},null,{"$f":"IFERROR(VLOOKUP($B126,'Partie 1'!$B$32:$D$223,2,0),\"\")","v":10},{"$f":"IFERROR(VLOOKUP($B126,'Partie 1'!$B$32:$E$223,4,0),\"\")","v":13},{"$f":"IFERROR(VLOOKUP($B126,'Partie 2'!$B$32:$D$223,2,0),\"\")","v":9},{"$f":"IFERROR(VLOOKUP($B126,'Partie 2'!$B$32:$E$223,4,0),\"\")","v":13},{"$f":"IFERROR(VLOOKUP($B126,'Partie 3'!$B$32:$D$223,2,0),\"\")","v":13},{"$f":"IFERROR(VLOOKUP($B126,'Partie 3'!$B$32:$E$223,4,0),\"\")","v":11},{"$f":"IFERROR(VLOOKUP($B126,'Partie 4'!$B$32:$D$223,2,0),\"\")","v":10},{"$f":"IFERROR(VLOOKUP($B126,'Partie 4'!$B$32:$E$223,4,0),\"\")","v":13},{"$f":"IFERROR(VLOOKUP($B126,'Partie 5'!$B$32:$D$223,2,0),\"\")","v":2},{"$f":"IFERROR(VLOOKUP($B126,'Partie 5'!$B$32:$E$223,4,0),\"\")","v":13},"P28",44,63,1,null,{"$f":"IFERROR(INDEX(Liste!$G$7:$G$198,MATCH(B126,Liste!$I$7:$I$198,0)),\"\")","v":"E"},"P28",44,63,1]
[125,{"$f":"IFERROR(INDEX(Liste!$I$7:$I$198,MATCH(Recap!A127,Liste!$L$7:$L$198,0)),\"\")","v":"P29"},null,{"$f":"IFERROR(VLOOKUP($B127,'Partie 1'!$B$32:$D$223,2,0),\"\")","v":13},{"$f":"IFERROR(VLOOKUP($B127,'Partie 1'!$B$32:$E$223,4,0),\"\")","v":10},{"$f":"IFERROR(VLOOKUP($B127,'Partie 2'!$B$32:$D$223,2,0),\"\")","v":13},{"$f":"IFERROR(VLOOKUP($B127,'Partie 2'!$B$32:$E$223,4,0),\"\")","v":6},{"$f":"IFERROR(VLOOKUP($B127,'Partie 3'!$B$32:$D$223,2,0),\"\")","v":6},{"$f":"IFERROR(VLOOKUP($B127,'Partie 3'!$B$32:$E$223,4,0),\"\")","v":13},{"$f":"IFERROR(VLOOKUP($B127,'Partie 4'!$B$32:$D$223,2,0),\"\")","v":13},{"$f":"IFERROR(VLOOKUP($B127,'Partie 4'!$B$32:$E$223,4,0),\"\")","v":2},{"$f":"IFERROR(VLOOKUP($B127,'Partie 5'!$B$32:$D$223,2,0),\"\")","v":6},{"$f":"IFERROR(VLOOKUP($B127,'Partie 5'!$B$32:$E$223,4,0),\"\")","v":13},"P29",51,44,3,null,{"$f":"IFERROR(INDEX(Liste!$G$7:$G$198,MATCH(B127,Liste!$I$7:$I$198,0)),\"\")","v":"E"},"P29",51,44,3]
[126,{"$f":"IFERROR(INDEX(Liste!$I$7:$I$198,MATCH(Recap!A128,Liste!$L$7:$L$198,0)),\"\")","v":"P30"},null,{"$f":"IFERROR(VLOOKUP($B128,'Partie 1'!$B$32:$D$223,2,0),\"\")","v":10},{"$f":"IFERROR(VLOOKUP($B128,'Partie 1'!$B$32:$E$223,4,0),\"\")","v":13},{"$f":"IFERROR(VLOOKUP($B128,'Partie 2'!$B$32:$D$223,2,0),\"\")","v":11},{"$f":"IFERROR(VLOOKUP($B128,'Partie 2'!$B$32:$E$223,4,0),\"\")","v":13},{"$f":"IFERROR(VLOOKUP($B128,'Partie 3'!$B$32:$D$223,2,0),\"\")","v":11},{"$f":"IFERROR(VLOOKUP($B128,'Partie 3'!$B$32:$E$223,4,0),\"\")","v":13},{"$f":"IFERROR(VLOOKUP($B128,'Partie 4'!$B$32:$D$223,2,0),\"\")","v":10},{"$f":"IFERROR(VLOOKUP($B128,'Partie 4'!$B$32:$E$223,4,0),\"\")","v":13},{"$f":"IFERROR(VLOOKUP($B128,'Partie 5'!$B$32:$D$223,2,0),\"\")","v":13},{"$f":"IFERROR(VLOOKUP($B128,'Partie 5'!$B$32:$E$223,4,0),\"\")","v":5},"P30",55,57,1,null,{"$f":"IFERROR(INDEX(Liste!$G$7:$G$198,MATCH(B128,Liste!$I$7:$I$198,0)),\"\")","v":"E"},"P30",55,57,1]
[127,{"$f":"IFERROR(INDEX(Liste!$I$7:$I$198,MATCH(Recap!A129,Liste!$L$7:$L$198,0)),\"\")","v":"P31"},null,{"$f":"IFERROR(VLOOKUP($B129,'Partie 1'!$B$32:$D$223,2,0),\"\")","v":13},{"$f":"IFERROR(VLOOKUP($B129,'Partie 1'!$B$32:$E$223,4,0),\"\")","v":10},{"$f":"IFERROR(VLOOKUP($B129,'Partie 2'!$B$32:$D$223,2,0),\"\")","v":6},{"$f":"IFERROR(VLOOKUP($B129,'Partie 2'!$B$32:$E$223,4,0),\"\")","v":13},{"$f":"IFERROR(VLOOKUP($B129,'Partie 3'!$B$32:$D$223,2,0),\"\")","v":10},{"$f":"IFERROR(VLOOKUP($B129,'Partie 3'!$B$32:$E$223,4,0),\"\")","v":13},{"$f":"IFERROR(VLOOKUP($B129,'Partie 4'!$B$32:$D$223,2,0),\"\")","v":5},{"$f":"IFERROR(VLOOKUP($B129,'Partie 4'!$B$32:$E$223,4,0),\"\")","v":13},{"$f":"IFERROR(VLOOKUP($B129,'Partie 5'!$B$32:$D$223,2,0),\"\")","v":4},{"$f":"IFERROR(VLOOKUP($B129,'Partie 5'!$B$32:$E$223,4,0),\"\")","v":13},"P31",38,62,1,null,{"$f":"IFERROR(INDEX(Liste!$G$7:$G$198,MATCH(B129,Liste!$I$7:$I$198,0)),\"\")","v":"A"},"P31",38,62,1]
[128,{"$f":"IFERROR(INDEX(Liste!$I$7:$I$198,MATCH(Recap!A130,Liste!$L$7:$L$198,0)),\"\")","v":"P32"},null,{"$f":"IFERROR(VLOOKUP($B130,'Partie 1'!$B$32:$D$223,2,0),\"\")","v":10},{"$f":"IFERROR(VLOOKUP($B130,'Partie 1'!$B$32:$E$223,4,0),\"\")","v":13},{"$f":"IFERROR(VLOOKUP($B130,'Partie 2'!$B$32:$D$223,2,0),\"\")","v":13},{"$f":"IFERROR(VLOOKUP($B130,'Partie 2'!$B$32:$E$223,4,0),\"\")","v":11},{"$f":"IFERROR(VLOOKUP($B130,'Partie 3'!$B$32:$D$223,2,0),\"\")","v":6},{"$f":"IFERROR(VLOOKUP($B130,'Partie 3'!$B$32:$E$223,4,0),\"\")","v":13},{"$f":"IFERROR(VLOOKUP($B130,'Partie 4'!$B$32:$D$223,2,0),\"\")","v":13},{"$f":"IFERROR(VLOOKUP($B130,'Partie 4'!$B$32:$E$223,4,0),\"\")","v":11},{"$f":"IFERROR(VLOOKUP($B130,'Partie 5'!$B$32:$D$223,2,0),\"\")","v":6},{"$f":"IFERROR(VLOOKUP($B130,'Partie 5'!$B$32:$E$223,4,0),\"\")","v":13},"P32",48,61,2,null,{"$f":"IFERROR(INDEX(Liste!$G$7:$G$198,MATCH(B130,Liste!$I$7:$I$198,0)),\"\")","v":"A"},"P32",48,61,2]
[129,{"$f":"IFERROR(INDEX(Liste!$I$7:$I$198,MATCH(Recap!A131,Liste!$L$7:$L$198,0)),\"\")","v":"P33"},null,{"$f":"IFERROR(VLOOKUP($B131,'Partie 1'!$B$32:$D$223,2,0),\"\")","v":12},{"$f":"IFERROR(VLOOKUP($B131,'Partie 1'!$B$32:$E$223,4,0),\"\")","v":13},{"$f":"IFERROR(VLOOKUP($B131,'Partie 2'!$B$32:$D$223,2,0),\"\")","v":13},{"$f":"IFERROR(VLOOKUP($B131,'Partie 2'!$B$32:$E$223,4,0),\"\")","v":12},{"$f":"IFERROR(VLOOKUP($B131,'Partie 3'!$B$32:$D$223,2,0),\"\")","v":12},{"$f":"IFERROR(VLOOKUP($B131,'Partie 3'!$B$32:$E$223,4,0),\"\")","v":13},{"$f":"IFERROR(VLOOKUP($B131,'Partie 4'!$B$32:$D$223,2,0),\"\")","v":13},{"$f":"IFERROR(VLOOKUP($B131,'Partie 4'!$B$32:$E$223,4,0),\"\")","v":12},{"$f":"IFERROR(VLOOKUP($B131,'Partie 5'!$B$32:$D$223,2,0),\"\")","v":12},{"$f":"IFERROR(VLOOKUP($B131,'Partie 5'!$B$32:$E$223,4,0),\"\")","v":13},{"$f":"IF(ISBLANK(B131),\"\",B131)","v":"P33"},62,63,2,null,{"$f":"IFERROR(INDEX(Liste!$G$7:$G$198,MATCH(B131,Liste!$I$7:$I$198,0)),\"\")","v":"A"},"P33",62,63,2]
[{"$f":"ROW()-2","v":130},{"$f":"IFERROR(INDEX(Liste!$I$7:$I$198,MATCH(Recap!A132,Liste!$L$7:$L$198,0)),\"\")","v":"P34"},null,{"$f":"IFERROR(VLOOKUP($B132,'Partie 1'!$B$32:$D$223,2,0),\"\")","v":13},{"$f":"IFERROR(VLOOKUP($B132,'Partie 1'!$B$32:$E$223,4,0),\"\")","v":12},{"$f":"IFERROR(VLOOKUP($B132,'Partie 2'!$B$32:$D$223,2,0),\"\")","v":13},{"$f":"IFERROR(VLOOKUP($B132,'Partie 2'!$B$32:$E$223,4,0),\"\")","v":6},{"$f":"IFERROR(VLOOKUP($B132,'Partie 3'!$B$32:$D$223,2,0),\"\")","v":13},{"$f":"IFERROR(VLOOKUP($B132,'Partie 3'!$B$32:$E$223,4,0),\"\")","v":6},{"$f":"IFERROR(VLOOKUP($B132,'Partie 4'!$B$32:$D$223,2,0),\"\")","v":13},{"$f":"IFERROR(VLOOKUP($B132,'Partie 4'!$B$32:$E$223,4,0),\"\")","v":6},{"$f":"IFERROR(VLOOKUP($B132,'Partie 5'!$B$32:$D$223,2,0),\"\")","v":13},{"$f":"IFERROR(VLOOKUP($B132,'Partie 5'!$B$32:$E$223,4,0),\"\")","v":6},"P34",{"$f":"SUMIF($D$2:$M$2,\"P*\",D132:M132)","v":65},{"$f":"SUMIF($D$2:$M$2,\"\",D132:M132)","v":36},{"$f":"COUNTIFS($D$2:$M$2,\"P*\",D132:M132,13)","v":5},null,{"$f":"IFERROR(INDEX(Liste!$G$7:$G$198,MATCH(B132,Liste!$I$7:$I$198,0)),\"\")","v":"A"},{"$f":"B132","v":"P34"},{"$f":"O132","v":65},{"$f":"P132","v":36},{"$f":"Q132","v":5}]
[131,{"$f":"IFERROR(INDEX(Liste!$I$7:$I$198,MATCH(Recap!A133,Liste!$L$7:$L$198,0)),\"\")","v":"P35"},null,{"$f":"IFERROR(VLOOKUP($B133,'Partie 1'!$B$32:$D$223,2,0),\"\")","v":2},{"$f":"IFERROR(VLOOKUP($B133,'Partie 1'!$B$32:$E$223,4,0),\"\")","v":13},{"$f":"IFERROR(VLOOKUP($B133,'Partie 2'!$B$32:$D$223,2,0),\"\")","v":12},{"$f":"IFERROR(VLOOKUP($B133,'Partie 2'!$B$32:$E$223,4,0),\"\")","v":11},{"$f":"IFERROR(VLOOKUP($B133,'Partie 3'!$B$32:$D$223,2,0),\"\")","v":12},{"$f":"IFERROR(VLOOKUP($B133,'Partie 3'!$B$32:$E$223,4,0),\"\")","v":13},{"$f":"IFERROR(VLOOKUP($B133,'Partie 4'!$B$32:$D$223,2,0),\"\")","v":7},{"$f":"IFERROR(VLOOKUP($B133,'Partie 4'!$B$32:$E$223,4,0),\"\")","v":13},{"$f":"IFERROR(VLOOKUP($B133,'Partie 5'!$B$32:$D$223,2,0),\"\")","v":13},{"$f":"IFERROR(VLOOKUP($B133,'Partie 5'!$B$32:$E$223,4,0),\"\")","v":9},"P35",46,59,1,null,{"$f":"IFERROR(INDEX(Liste!$G$7:$G$198,MATCH(B133,Liste!$I$7:$I$198,0)),\"\")","v":"A"},"P35",46,59,1]
[132,{"$f":"IFERROR(INDEX(Liste!$I$7:$I$198,MATCH(Recap!A134,Liste!$L$7:$L$198,0)),\"\")","v":"P36"},null,{"$f":"IFERROR(VLOOKUP($B134,'Partie 1'!$B$32:$D$223,2,0),\"\")","v":13},{"$f":"IFERROR(VLOOKUP($B134,'Partie 1'!$B$32:$E$223,4,0),\"\")","v":2},{"$f":"IFERROR(VLOOKUP($B134,'Partie 2'!$B$32:$D$223,2,0),\"\")","v":6},{"$f":"IFERROR(VLOOKUP($B134,'Partie 2'!$B$32:$E$223,4,0),\"\")","v":13},{"$f":"IFERROR(VLOOKUP($B134,'Partie 3'!$B$32:$D$223,2,0),\"\")","v":7},{"$f":"IFERROR(VLOOKUP($B134,'Partie 3'!$B$32:$E$223,4,0),\"\")","v":13},{"$f":"IFERROR(VLOOKUP($B134,'Partie 4'!$B$32:$D$223,2,0),\"\")","v":9},{"$f":"IFERROR(VLOOKUP($B134,'Partie 4'!$B$32:$E$223,4,0),\"\")","v":13},{"$f":"IFERROR(VLOOKUP($B134,'Partie 5'!$B$32:$D$223,2,0),\"\")","v":13},{"$f":"IFERROR(VLOOKUP($B134,'Partie 5'!$B$32:$E$223,4,0),\"\")","v":10},"P36",48,51,2,null,{"$f":"IFERROR(INDEX(Liste!$G$7:$G$198,MATCH(B134,Liste!$I$7:$I$198,0)),\"\")","v":"A"},"P36",48,51,2]
[133,{"$f":"IFERROR(INDEX(Liste!$I$7:$I$198,MATCH(Recap!A135,Liste!$L$7:$L$198,0)),\"\")","v":"P37"},null,{"$f":"IFERROR(VLOOKUP($B135,'Partie 1'!$B$32:$D$223,2,0),\"\")","v":13},{"$f":"IFERROR(VLOOKUP($B135,'Partie 1'!$B$32:$E$223,4,0),\"\")","v":4},{"$f":"IFERROR(VLOOKUP($B135,'Partie 2'!$B$32:$D$223,2,0),\"\")","v":13},{"$f":"IFERROR(VLOOKUP($B135,'Partie 2'!$B$32:$E$223,4,0),\"\")","v":6},{"$f":"IFERROR(VLOOKUP($B135,'Partie 3'!$B$32:$D$223,2,0),\"\")","v":6},{"$f":"IFERROR(VLOOKUP($B135,'Partie 3'!$B$32:$E$223,4,0),\"\")","v":13},{"$f":"IFERROR(VLOOKUP($B135,'Partie 4'!$B$32:$D$223,2,0),\"\")","v":13},{"$f":"IFERROR(VLOOKUP($B135,'Partie 4'!$B$32:$E$223,4,0),\"\")","v":4},{"$f":"IFERROR(VLOOKUP($B135,'Partie 5'!$B$32:$D$223,2,0),\"\")","v":13},{"$f":"IFERROR(VLOOKUP($B135,'Partie 5'!$B$32:$E$223,4,0),\"\")","v":6},"P37",58,33,4,null,{"$f":"IFERROR(INDEX(Liste!$G$7:$G$198,MATCH(B135,Liste!$I$7:$I$198,0)),\"\")","v":"A"},"P37",58,33,4]
[134,{"$f":"IFERROR(INDEX(Liste!$I$7:$I$198,MATCH(Recap!A136,Liste!$L$7:$L$198,0)),\"\")","v":"P38"},null,{"$f":"IFERROR(VLOOKUP($B136,'Partie 1'!$B$32:$D$223,2,0),\"\")","v":4},{"$f":"IFERROR(VLOOKUP($B136,'Partie 1'!$B$32:$E$223,4,0),\"\")","v":13},{"$f":"IFERROR(VLOOKUP($B136,'Partie 2'!$B$32:$D$223,2,0),\"\")","v":13},{"$f":"IFERROR(VLOOKUP($B136,'Partie 2'!$B$32:$E$223,4,0),\"\")","v":2},{"$f":"IFERROR(VLOOKUP($B136,'Partie 3'!$B$32:$D$223,2,0),\"\")","v":13},{"$f":"IFERROR(VLOOKUP($B136,'Partie 3'!$B$32:$E$223,4,0),\"\")","v":12},{"$f":"IFERROR(VLOOKUP($B136,'Partie 4'!$B$32:$D$223,2,0),\"\")","v":13},{"$f":"IFERROR(VLOOKUP($B136,'Partie 4'!$B$32:$E$223,4,0),\"\")","v":6},{"$f":"IFERROR(VLOOKUP($B136,'Partie 5'!$B$32:$D$223,2,0),\"\")","v":13},{"$f":"IFERROR(VLOOKUP($B136,'Partie 5'!$B$32:$E$223,4,0),\"\")","v":6},"P38",56,39,4,null,{"$f":"IFERROR(INDEX(Liste!$G$7:$G$198,MATCH(B136,Liste!$I$7:$I$198,0)),\"\")","v":"A"},"P38",56,39,4]
[135,{"$f":"IFERROR(INDEX(Liste!$I$7:$I$198,MATCH(Recap!A137,Liste!$L$7:$L$198,0)),\"\")","v":"P39"},null,{"$f":"IFERROR(VLOOKUP($B137,'Partie 1'!$B$32:$D$223,2,0),\"\")","v":13},{"$f":"IFERROR(VLOOKUP($B137,'Partie 1'!$B$32:$E$223,4,0),\"\")","v":10},{"$f":"IFERROR(VLOOKUP($B137,'Partie 2'!$B$32:$D$223,2,0),\"\")","v":6},{"$f":"IFERROR(VLOOKUP($B137,'Partie 2'!$B$32:$E$223,4,0),\"\")","v":13},{"$f":"IFERROR(VLOOKUP($B137,'Partie 3'!$B$32:$D$223,2,0),\"\")","v":13},{"$f":"IFERROR(VLOOKUP($B137,'Partie 3'!$B$32:$E$223,4,0),\"\")","v":7},{"$f":"IFERROR(VLOOKUP($B137,'Partie 4'!$B$32:$D$223,2,0),\"\")","v":13},{"$f":"IFERROR(VLOOKUP($B137,'Partie 4'!$B$32:$E$223,4,0),\"\")","v":6},{"$f":"IFERROR(VLOOKUP($B137,'Partie 5'!$B$32:$D$223,2,0),\"\")","v":13},{"$f":"IFERROR(VLOOKUP($B137,'Partie 5'!$B$32:$E$223,4,0),\"\")","v":6},"P39",58,42,4,null,{"$f":"IFERROR(INDEX(Liste!$G$7:$G$198,MATCH(B137,Liste!$I$7:$I$198,0)),\"\")","v":"A"},"P39",58,42,4]
[136,{"$f":"IFERROR(INDEX(Liste!$I$7:$I$198,MATCH(Recap!A138,Liste!$L$7:$L$198,0)),\"\")","v":"P40"},null,{"$f":"IFERROR(VLOOKUP($B138,'Partie 1'!$B$32:$D$223,2,0),\"\")","v":10},{"$f":"IFERROR(VLOOKUP($B138,'Partie 1'!$B$32:$E$223,4,0),\"\")","v":13},{"$f":"IFERROR(VLOOKUP($B138,'Partie 2'!$B$32:$D$223,2,0),\"\")","v":2},{"$f":"IFERROR(VLOOKUP($B138,'Partie 2'!$B$32:$E$223,4,0),\"\")","v":13},{"$f":"IFERROR(VLOOKUP($B138,'Partie 3'!$B$32:$D$223,2,0),\"\")","v":13},{"$f":"IFERROR(VLOOKUP($B138,'Partie 3'!$B$32:$E$223,4,0),\"\")","v":12},{"$f":"IFERROR(VLOOKUP($B138,'Partie 4'!$B$32:$D$223,2,0),\"\")","v":7},{"$f":"IFERROR(VLOOKUP($B138,'Partie 4'!$B$32:$E$223,4,0),\"\")","v":13},{"$f":"IFERROR(VLOOKUP($B138,'Partie 5'!$B$32:$D$223,2,0),\"\")","v":4},{"$f":"IFERROR(VLOOKUP($B138,'Partie 5'!$B$32:$E$223,4,0),\"\")","v":13},"P40",36,64,1,null,{"$f":"IFERROR(INDEX(Liste!$G$7:$G$198,MATCH(B138,Liste!$I$7:$I$198,0)),\"\")","v":"A"},"P40",36,64,1]
[137,{"$f":"IFERROR(INDEX(Liste!$I$7:$I$198,MATCH(Recap!A139,Liste!$L$7:$L$198,0)),\"\")","v":"P41"},null,{"$f":"IFERROR(VLOOKUP($B139,'Partie 1'!$B$32:$D$223,2,0),\"\")","v":7},{"$f":"IFERROR(VLOOKUP($B139,'Partie 1'!$B$32:$E$223,4,0),\"\")","v":13},{"$f":"IFERROR(VLOOKUP($B139,'Partie 2'!$B$32:$D$223,2,0),\"\")","v":4},{"$f":"IFERROR(VLOOKUP($B139,'Partie 2'!$B$32:$E$223,4,0),\"\")","v":13},{"$f":"IFERROR(VLOOKUP($B139,'Partie 3'!$B$32:$D$223,2,0),\"\")","v":2},{"$f":"IFERROR(VLOOKUP($B139,'Partie 3'!$B$32:$E$223,4,0),\"\")","v":13},{"$f":"IFERROR(VLOOKUP($B139,'Partie 4'!$B$32:$D$223,2,0),\"\")","v":13},{"$f":"IFERROR(VLOOKUP($B139,'Partie 4'!$B$32:$E$223,4,0),\"\")","v":7},{"$f":"IFERROR(VLOOKUP($B139,'Partie 5'!$B$32:$D$223,2,0),\"\")","v":13},{"$f":"IFERROR(VLOOKUP($B139,'Partie 5'!$B$32:$E$223,4,0),\"\")","v":9},"P41",39,55,2,null,{"$f":"IFERROR(INDEX(Liste!$G$7:$G$198,MATCH(B139,Liste!$I$7:$I$198,0)),\"\")","v":"A"},"P41",39,55,2]
[138,{"$f":"IFERROR(INDEX(Liste!$I$7:$I$198,MATCH(Recap!A140,Liste!$L$7:$L$198,0)),\"\")","v":"P42"},null,{"$f":"IFERROR(VLOOKUP($B140,'Partie 1'!$B$32:$D$223,2,0),\"\")","v":13},{"$f":"IFERROR(VLOOKUP($B140,'Partie 1'!$B$32:$E$223,4,0),\"\")","v":7},{"$f":"IFERROR(VLOOKUP($B140,'Partie 2'!$B$32:$D$223,2,0),\"\")","v":13},{"$f":"IFERROR(VLOOKUP($B140,'Partie 2'!$B$32:$E$223,4,0),\"\")","v":6},{"$f":"IFERROR(VLOOKUP($B140,'Partie 3'!$B$32:$D$223,2,0),\"\")","v":13},{"$f":"IFERROR(VLOOKUP($B140,'Partie 3'!$B$32:$E$223,4,0),\"\")","v":6},{"$f":"IFERROR(VLOOKUP($B140,'Partie 4'!$B$32:$D$223,2,0),\"\")","v":6},{"$f":"IFERROR(VLOOKUP($B140,'Partie 4'!$B$32:$E$223,4,0),\"\")","v":13},{"$f":"IFERROR(VLOOKUP($B140,'Partie 5'!$B$32:$D$223,2,0),\"\")","v":2},{"$f":"IFERROR(VLOOKUP($B140,'Partie 5'!$B$32:$E$223,4,0),\"\")","v":13},"P42",47,45,3,null,{"$f":"IFERROR(INDEX(Liste!$G$7:$G$198,MATCH(B140,Liste!$I$7:$I$198,0)),\"\")","v":"A"},"P42",47,45,3]
[139,{"$f":"IFERROR(INDEX(Liste!$I$7:$I$198,MATCH(Recap!A141,Liste!$L$7:$L$198,0)),\"\")","v":"P43"},null,{"$f":"IFERROR(VLOOKUP($B141,'Partie 1'!$B$32:$D$223,2,0),\"\")","v":5},{"$f":"IFERROR(VLOOKUP($B141,'Partie 1'!$B$32:$E$223,4,0),\"\")","v":13},{"$f":"IFERROR(VLOOKUP($B141,'Partie 2'!$B$32:$D$223,2,0),\"\")","v":13},{"$f":"IFERROR(VLOOKUP($B141,'Partie 2'!$B$32:$E$223,4,0),\"\")","v":4},{"$f":"IFERROR(VLOOKUP($B141,'Partie 3'!$B$32:$D$223,2,0),\"\")","v":2},{"$f":"IFERROR(VLOOKUP($B141,'Partie 3'!$B$32:$E$223,4,0),\"\")","v":13},{"$f":"IFERROR(VLOOKUP($B141,'Partie 4'!$B$32:$D$223,2,0),\"\")","v":12},{"$f":"IFERROR(VLOOKUP($B141,'Partie 4'!$B$32:$E$223,4,0),\"\")","v":11},{"$f":"IFERROR(VLOOKUP($B141,'Partie 5'!$B$32:$D$223,2,0),\"\")","v":12},{"$f":"IFERROR(VLOOKUP($B141,'Partie 5'!$B$32:$E$223,4,0),\"\")","v":13},"P43",44,54,1,null,{"$f":"IFERROR(INDEX(Liste!$G$7:$G$198,MATCH(B141,Liste!$I$7:$I$198,0)),\"\")","v":"A"},"P43",44,54,1]
[140,{"$f":"IFERROR(INDEX(Liste!$I$7:$I$198,MATCH(Recap!A142,Liste!$L$7:$L$198,0)),\"\")","v":"P44"},null,{"$f":"IFERROR(VLOOKUP($B142,'Partie 1'!$B$32:$D$223,2,0),\"\")","v":13},{"$f":"IFERROR(VLOOKUP($B142,'Partie 1'!$B$32:$E$223,4,0),\"\")","v":5},{"$f":"IFERROR(VLOOKUP($B142,'Partie 2'!$B$32:$D$223,2,0),\"\")","v":6},{"$f":"IFERROR(VLOOKUP($B142,'Partie 2'!$B$32:$E$223,4,0),\"\")","v":13},{"$f":"IFERROR(VLOOKUP($B142,'Partie 3'!$B$32:$D$223,2,0),\"\")","v":5},{"$f":"IFERROR(VLOOKUP($B142,'Partie 3'!$B$32:$E$223,4,0),\"\")","v":13},{"$f":"IFERROR(VLOOKUP($B142,'Partie 4'!$B$32:$D$223,2,0),\"\")","v":13},{"$f":"IFERROR(VLOOKUP($B142,'Partie 4'!$B$32:$E$223,4,0),\"\")","v":9},{"$f":"IFERROR(VLOOKUP($B142,'Partie 5'!$B$32:$D$223,2,0),\"\")","v":13},{"$f":"IFERROR(VLOOKUP($B142,'Partie 5'!$B$32:$E$223,4,0),\"\")","v":10},"P44",50,50,3,null,{"$f":"IFERROR(INDEX(Liste!$G$7:$G$198,MATCH(B142,Liste!$I$7:$I$198,0)),\"\")","v":"A"},"P44",50,50,3]
[141,{"$f":"IFERROR(INDEX(Liste!$I$7:$I$198,MATCH(Recap!A143,Liste!$L$7:$L$198,0)),\"\")","v":"P45"},null,{"$f":"IFERROR(VLOOKUP($B143,'Partie 1'!$B$32:$D$223,2,0),\"\")","v":13},{"$f":"IFERROR(VLOOKUP($B143,'Partie 1'!$B$32:$E$223,4,0),\"\")","v":9},{"$f":"IFERROR(VLOOKUP($B143,'Partie 2'!$B$32:$D$223,2,0),\"\")","v":13},{"$f":"IFERROR(VLOOKUP($B143,'Partie 2'!$B$32:$E$223,4,0),\"\")","v":6},{"$f":"IFERROR(VLOOKUP($B143,'Partie 3'!$B$32:$D$223,2,0),\"\")","v":6},{"$f":"IFERROR(VLOOKUP($B143,'Partie 3'!$B$32:$E$223,4,0),\"\")","v":13},{"$f":"IFERROR(VLOOKUP($B143,'Partie 4'!$B$32:$D$223,2,0),\"\")","v":4},{"$f":"IFERROR(VLOOKUP($B143,'Partie 4'!$B$32:$E$223,4,0),\"\")","v":13},{"$f":"IFERROR(VLOOKUP($B143,'Partie 5'!$B$32:$D$223,2,0),\"\")","v":13},{"$f":"IFERROR(VLOOKUP($B143,'Partie 5'!$B$32:$E$223,4,0),\"\")","v":5},"P45",49,46,3,null,{"$f":"IFERROR(INDEX(Liste!$G$7:$G$198,MATCH(B143,Liste!$I$7:$I$198,0)),\"\")","v":"A"},"P45",49,46,3]
[142,{"$f":"IFERROR(INDEX(Liste!$I$7:$I$198,MATCH(Recap!A144,Liste!$L$7:$L$198,0)),\"\")","v":"P46"},null,{"$f":"IFERROR(VLOOKUP($B144,'Partie 1'!$B$32:$D$223,2,0),\"\")","v":9},{"$f":"IFERROR(VLOOKUP($B144,'Partie 1'!$B$32:$E$223,4,0),\"\")","v":13},{"$f":"IFERROR(VLOOKUP($B144,'Partie 2'!$B$32:$D$223,2,0),\"\")","v":10},{"$f":"IFERROR(VLOOKUP($B144,'Partie 2'!$B$32:$E$223,4,0),\"\")","v":13},{"$f":"IFERROR(VLOOKUP($B144,'Partie 3'!$B$32:$D$223,2,0),\"\")","v":13},{"$f":"IFERROR(VLOOKUP($B144,'Partie 3'!$B$32:$E$223,4,0),\"\")","v":2},{"$f":"IFERROR(VLOOKUP($B144,'Partie 4'!$B$32:$D$223,2,0),\"\")","v":13},{"$f":"IFERROR(VLOOKUP($B144,'Partie 4'!$B$32:$E$223,4,0),\"\")","v":7},{"$f":"IFERROR(VLOOKUP($B144,'Partie 5'!$B$32:$D$223,2,0),\"\")","v":13},{"$f":"IFERROR(VLOOKUP($B144,'Partie 5'!$B$32:$E$223,4,0),\"\")","v":6},"P46",58,41,3,null,{"$f":"IFERROR(INDEX(Liste!$G$7:$G$198,MATCH(B144,Liste!$I$7:$I$198,0)),\"\")","v":"A"},"P46",58,41,3]
[143,{"$f":"IFERROR(INDEX(Liste!$I$7:$I$198,MATCH(Recap!A145,Liste!$L$7:$L$198,0)),\"\")","v":"P47"},null,{"$f":"IFERROR(VLOOKUP($B145,'Partie 1'!$B$32:$D$223,2,0),\"\")","v":11},{"$f":"IFERROR(VLOOKUP($B145,'Partie 1'!$B$32:$E$223,4,0),\"\")","v":13},{"$f":"IFERROR(VLOOKUP($B145,'Partie 2'!$B$32:$D$223,2,0),\"\")","v":13},{"$f":"IFERROR(VLOOKUP($B145,'Partie 2'!$B$32:$E$223,4,0),\"\")","v":10},{"$f":"IFERROR(VLOOKUP($B145,'Partie 3'!$B$32:$D$223,2,0),\"\")","v":13},{"$f":"IFERROR(VLOOKUP($B145,'Partie 3'!$B$32:$E$223,4,0),\"\")","v":2},{"$f":"IFERROR(VLOOKUP($B145,'Partie 4'!$B$32:$D$223,2,0),\"\")","v":6},{"$f":"IFERROR(VLOOKUP($B145,'Partie 4'!$B$32:$E$223,4,0),\"\")","v":13},{"$f":"IFERROR(VLOOKUP($B145,'Partie 5'!$B$32:$D$223,2,0),\"\")","v":7},{"$f":"IFERROR(VLOOKUP($B145,'Partie 5'!$B$32:$E$223,4,0),\"\")","v":13},"P47",50,51,2,null,{"$f":"IFERROR(INDEX(Liste!$G$7:$G$198,MATCH(B145,Liste!$I$7:$I$198,0)),\"\")","v":"A"},"P47",50,51,2]
[144,{"$f":"IFERROR(INDEX(Liste!$I$7:$I$198,MATCH(Recap!A146,Liste!$L$7:$L$198,0)),\"\")","v":"P48"},null,{"$f":"IFERROR(VLOOKUP($B146,'Partie 1'!$B$32:$D$223,2,0),\"\")","v":13},{"$f":"IFERROR(VLOOKUP($B146,'Partie 1'!$B$32:$E$223,4,0),\"\")","v":11},{"$f":"IFERROR(VLOOKUP($B146,'Partie 2'!$B$32:$D$223,2,0),\"\")","v":6},{"$f":"IFERROR(VLOOKUP($B146,'Partie 2'!$B$32:$E$223,4,0),\"\")","v":13},{"$f":"IFERROR(VLOOKUP($B146,'Partie 3'!$B$32:$D$223,2,0),\"\")","v":13},{"$f":"IFERROR(VLOOKUP($B146,'Partie 3'!$B$32:$E$223,4,0),\"\")","v":5},{"$f":"IFERROR(VLOOKUP($B146,'Partie 4'!$B$32:$D$223,2,0),\"\")","v":6},{"$f":"IFERROR(VLOOKUP($B146,'Partie 4'!$B$32:$E$223,4,0),\"\")","v":13},{"$f":"IFERROR(VLOOKUP($B146,'Partie 5'!$B$32:$D$223,2,0),\"\")","v":11},{"$f":"IFERROR(VLOOKUP($B146,'Partie 5'!$B$32:$E$223,4,0),\"\")","v":13},"P48",49,55,2,null,{"$f":"IFERROR(INDEX(Liste!$G$7:$G$198,MATCH(B146,Liste!$I$7:$I$198,0)),\"\")","v":"A"},"P48",49,55,2]
[145,{"$f":"IFERROR(INDEX(Liste!$I$7:$I$198,MATCH(Recap!A147,Liste!$L$7:$L$198,0)),\"\")","v":"P49"},null,{"$f":"IFERROR(VLOOKUP($B147,'Partie 1'!$B$32:$D$223,2,0),\"\")","v":13},{"$f":"IFERROR(VLOOKUP($B147,'Partie 1'!$B$32:$E$223,4,0),\"\")","v":12},{"$f":"IFERROR(VLOOKUP($B147,'Partie 2'!$B$32:$D$223,2,0),\"\")","v":13},{"$f":"IFERROR(VLOOKUP($B147,'Partie 2'!$B$32:$E$223,4,0),\"\")","v":6},{"$f":"IFERROR(VLOOKUP($B147,'Partie 3'!$B$32:$D$223,2,0),\"\")","v":13},{"$f":"IFERROR(VLOOKUP($B147,'Partie 3'!$B$32:$E$223,4,0),\"\")","v":6},{"$f":"IFERROR(VLOOKUP($B147,'Partie 4'!$B$32:$D$223,2,0),\"\")","v":13},{"$f":"IFERROR(VLOOKUP($B147,'Partie 4'!$B$32:$E$223,4,0),\"\")","v":6},{"$f":"IFERROR(VLOOKUP($B147,'Partie 5'!$B$32:$D$223,2,0),\"\")","v":6},{"$f":"IFERROR(VLOOKUP($B147,'Partie 5'!$B$32:$E$223,4,0),\"\")","v":13},"P49",58,43,4,null,{"$f":"IFERROR(INDEX(Liste!$G$7:$G$198,MATCH(B147,Liste!$I$7:$I$198,0)),\"\")","v":"A"},"P49",58,43,4]
[146,{"$f":"IFERROR(INDEX(Liste!$I$7:$I$198,MATCH(Recap!A148,Liste!$L$7:$L$198,0)),\"\")","v":"P50"},null,{"$f":"IFERROR(VLOOKUP($B148,'Partie 1'!$B$32:$D$223,2,0),\"\")","v":12},{"$f":"IFERROR(VLOOKUP($B148,'Partie 1'!$B$32:$E$223,4,0),\"\")","v":13},{"$f":"IFERROR(VLOOKUP($B148,'Partie 2'!$B$32:$D$223,2,0),\"\")","v":13},{"$f":"IFERROR(VLOOKUP($B148,'Partie 2'!$B$32:$E$223,4,0),\"\")","v":7},{"$f":"IFERROR(VLOOKUP($B148,'Partie 3'!$B$32:$D$223,2,0),\"\")","v":13},{"$f":"IFERROR(VLOOKUP($B148,'Partie 3'!$B$32:$E$223,4,0),\"\")","v":4},{"$f":"IFERROR(VLOOKUP($B148,'Partie 4'!$B$32:$D$223,2,0),\"\")","v":13},{"$f":"IFERROR(VLOOKUP($B148,'Partie 4'!$B$32:$E$223,4,0),\"\")","v":6},{"$f":"IFERROR(VLOOKUP($B148,'Partie 5'!$B$32:$D$223,2,0),\"\")","v":6},{"$f":"IFERROR(VLOOKUP($B148,'Partie 5'!$B$32:$E$223,4,0),\"\")","v":13},"P50",57,43,3,null,{"$f":"IFERROR(INDEX(Liste!$G$7:$G$198,MATCH(B148,Liste!$I$7:$I$198,0)),\"\")","v":"C"},"P50",57,43,3]
[147,{"$f":"IFERROR(INDEX(Liste!$I$7:$I$198,MATCH(Recap!A149,Liste!$L$7:$L$198,0)),\"\")","v":"P51"},null,{"$f":"IFERROR(VLOOKUP($B149,'Partie 1'!$B$32:$D$223,2,0),\"\")","v":13},{"$f":"IFERROR(VLOOKUP($B149,'Partie 1'!$B$32:$E$223,4,0),\"\")","v":2},{"$f":"IFERROR(VLOOKUP($B149,'Partie 2'!$B$32:$D$223,2,0),\"\")","v":6},{"$f":"IFERROR(VLOOKUP($B149,'Partie 2'!$B$32:$E$223,4,0),\"\")","v":13},{"$f":"IFERROR(VLOOKUP($B149,'Partie 3'!$B$32:$D$223,2,0),\"\")","v":13},{"$f":"IFERROR(VLOOKUP($B149,'Partie 3'!$B$32:$E$223,4,0),\"\")","v":9},{"$f":"IFERROR(VLOOKUP($B149,'Partie 4'!$B$32:$D$223,2,0),\"\")","v":13},{"$f":"IFERROR(VLOOKUP($B149,'Partie 4'!$B$32:$E$223,4,0),\"\")","v":6},{"$f":"IFERROR(VLOOKUP($B149,'Partie 5'!$B$32:$D$223,2,0),\"\")","v":6},{"$f":"IFERROR(VLOOKUP($B149,'Partie 5'!$B$32:$E$223,4,0),\"\")","v":13},"P51",51,43,3,null,{"$f":"IFERROR(INDEX(Liste!$G$7:$G$198,MATCH(B149,Liste!$I$7:$I$198,0)),\"\")","v":"C"},"P51",51,43,3]
[148,{"$f":"IFERROR(INDEX(Liste!$I$7:$I$198,MATCH(Recap!A150,Liste!$L$7:$L$198,0)),\"\")","v":"P52"},null,{"$f":"IFERROR(VLOOKUP($B150,'Partie 1'!$B$32:$D$223,2,0),\"\")","v":2},{"$f":"IFERROR(VLOOKUP($B150,'Partie 1'!$B$32:$E$223,4,0),\"\")","v":13},{"$f":"IFERROR(VLOOKUP($B150,'Partie 2'!$B$32:$D$223,2,0),\"\")","v":7},{"$f":"IFERROR(VLOOKUP($B150,'Partie 2'!$B$32:$E$223,4,0),\"\")","v":13},{"$f":"IFERROR(VLOOKUP($B150,'Partie 3'!$B$32:$D$223,2,0),\"\")","v":13},{"$f":"IFERROR(VLOOKUP($B150,'Partie 3'!$B$32:$E$223,4,0),\"\")","v":4},{"$f":"IFERROR(VLOOKUP($B150,'Partie 4'!$B$32:$D$223,2,0),\"\")","v":5},{"$f":"IFERROR(VLOOKUP($B150,'Partie 4'!$B$32:$E$223,4,0),\"\")","v":13},{"$f":"IFERROR(VLOOKUP($B150,'Partie 5'!$B$32:$D$223,2,0),\"\")","v":13},{"$f":"IFERROR(VLOOKUP($B150,'Partie 5'!$B$32:$E$223,4,0),\"\")","v":4},"P52",40,47,2,null,{"$f":"IFERROR(INDEX(Liste!$G$7:$G$198,MATCH(B150,Liste!$I$7:$I$198,0)),\"\")","v":"C"},"P52",40,47,2]
[149,{"$f":"IFERROR(INDEX(Liste!$I$7:$I$198,MATCH(Recap!A151,Liste!$L$7:$L$198,0)),\"\")","v":"P53"},null,{"$f":"IFERROR(VLOOKUP($B151,'Partie 1'!$B$32:$D$223,2,0),\"\")","v":4},{"$f":"IFERROR(VLOOKUP($B151,'Partie 1'!$B$32:$E$223,4,0),\"\")","v":13},{"$f":"IFERROR(VLOOKUP($B151,'Partie 2'!$B$32:$D$223,2,0),\"\")","v":13},{"$f":"IFERROR(VLOOKUP($B151,'Partie 2'!$B$32:$E$223,4,0),\"\")","v":5},{"$f":"IFERROR(VLOOKUP($B151,'Partie 3'!$B$32:$D$223,2,0),\"\")","v":4},{"$f":"IFERROR(VLOOKUP($B151,'Partie 3'!$B$32:$E$223,4,0),\"\")","v":13},{"$f":"IFERROR(VLOOKUP($B151,'Partie 4'!$B$32:$D$223,2,0),\"\")","v":13},{"$f":"IFERROR(VLOOKUP($B151,'Partie 4'!$B$32:$E$223,4,0),\"\")","v":2},{"$f":"IFERROR(VLOOKUP($B151,'Partie 5'!$B$32:$D$223,2,0),\"\")","v":13},{"$f":"IFERROR(VLOOKUP($B151,'Partie 5'!$B$32:$E$223,4,0),\"\")","v":12},"P53",47,45,3,null,{"$f":"IFERROR(INDEX(Liste!$G$7:$G$198,MATCH(B151,Liste!$I$7:$I$198,0)),\"\")","v":"C"},"P53",47,45,3]
[150,{"$f":"IFERROR(INDEX(Liste!$I$7:$I$198,MATCH(Recap!A152,Liste!$L$7:$L$198,0)),\"\")","v":"P54"},null,{"$f":"IFERROR(VLOOKUP($B152,'Partie 1'!$B$32:$D$223,2,0),\"\")","v":13},{"$f":"IFERROR(VLOOKUP($B152,'Partie 1'!$B$32:$E$223,4,0),\"\")","v":4},{"$f":"IFERROR(VLOOKUP($B152,'Partie 2'!$B$32:$D$223,2,0),\"\")","v":13},{"$f":"IFERROR(VLOOKUP($B152,'Partie 2'!$B$32:$E$223,4,0),\"\")","v":6},{"$f":"IFERROR(VLOOKUP($B152,'Partie 3'!$B$32:$D$223,2,0),\"\")","v":6},{"$f":"IFERROR(VLOOKUP($B152,'Partie 3'!$B$32:$E$223,4,0),\"\")","v":13},{"$f":"IFERROR(VLOOKUP($B152,'Partie 4'!$B$32:$D$223,2,0),\"\")","v":13},{"$f":"IFERROR(VLOOKUP($B152,'Partie 4'!$B$32:$E$223,4,0),\"\")","v":10},{"$f":"IFERROR(VLOOKUP($B152,'Partie 5'!$B$32:$D$223,2,0),\"\")","v":6},{"$f":"IFERROR(VLOOKUP($B152,'Partie 5'!$B$32:$E$223,4,0),\"\")","v":13},"P54",51,46,3,null,{"$f":"IFERROR(INDEX(Liste!$G$7:$G$198,MATCH(B152,Liste!$I$7:$I$198,0)),\"\")","v":"C"},"P54",51,46,3]
[151,{"$f":"IFERROR(INDEX(Liste!$I$7:$I$198,MATCH(Recap!A153,Liste!$L$7:$L$198,0)),\"\")","v":"P55"},null,{"$f":"IFERROR(VLOOKUP($B153,'Partie 1'!$B$32:$D$223,2,0),\"\")","v":10},{"$f":"IFERROR(VLOOKUP($B153,'Partie 1'!$B$32:$E$223,4,0),\"\")","v":13},{"$f":"IFERROR(VLOOKUP($B153,'Partie 2'!$B$32:$D$223,2,0),\"\")","v":5},{"$f":"IFERROR(VLOOKUP($B153,'Partie 2'!$B$32:$E$223,4,0),\"\")","v":13},{"$f":"IFERROR(VLOOKUP($B153,'Partie 3'!$B$32:$D$223,2,0),\"\")","v":4},{"$f":"IFERROR(VLOOKUP($B153,'Partie 3'!$B$32:$E$223,4,0),\"\")","v":13},{"$f":"IFERROR(VLOOKUP($B153,'Partie 4'!$B$32:$D$223,2,0),\"\")","v":5},{"$f":"IFERROR(VLOOKUP($B153,'Partie 4'!$B$32:$E$223,4,0),\"\")","v":13},{"$f":"IFERROR(VLOOKUP($B153,'Partie 5'!$B$32:$D$223,2,0),\"\")","v":9},{"$f":"IFERROR(VLOOKUP($B153,'Partie 5'!$B$32:$E$223,4,0),\"\")","v":13},"P55",33,65,0,null,{"$f":"IFERROR(INDEX(Liste!$G$7:$G$198,MATCH(B153,Liste!$I$7:$I$198,0)),\"\")","v":"C"},"P55",33,65,0]
[152,{"$f":"IFERROR(INDEX(Liste!$I$7:$I$198,MATCH(Recap!A154,Liste!$L$7:$L$198,0)),\"\")","v":"P56"},null,{"$f":"IFERROR(VLOOKUP($B154,'Partie 1'!$B$32:$D$223,2,0),\"\")","v":13},{"$f":"IFERROR(VLOOKUP($B154,'Partie 1'!$B$32:$E$223,4,0),\"\")","v":10},{"$f":"IFERROR(VLOOKUP($B154,'Partie 2'!$B$32:$D$223,2,0),\"\")","v":6},{"$f":"IFERROR(VLOOKUP($B154,'Partie 2'!$B$32:$E$223,4,0),\"\")","v":13},{"$f":"IFERROR(VLOOKUP($B154,'Partie 3'!$B$32:$D$223,2,0),\"\")","v":9},{"$f":"IFERROR(VLOOKUP($B154,'Partie 3'!$B$32:$E$223,4,0),\"\")","v":13},{"$f":"IFERROR(VLOOKUP($B154,'Partie 4'!$B$32:$D$223,2,0),\"\")","v":13},{"$f":"IFERROR(VLOOKUP($B154,'Partie 4'!$B$32:$E$223,4,0),\"\")","v":11},{"$f":"IFERROR(VLOOKUP($B154,'Partie 5'!$B$32:$D$223,2,0),\"\")","v":10},{"$f":"IFERROR(VLOOKUP($B154,'Partie 5'!$B$32:$E$223,4,0),\"\")","v":13},"P56",51,60,2,null,{"$f":"IFERROR(INDEX(Liste!$G$7:$G$198,MATCH(B154,Liste!$I$7:$I$198,0)),\"\")","v":"C"},"P56",51,60,2]
[153,{"$f":"IFERROR(INDEX(Liste!$I$7:$I$198,MATCH(Recap!A155,Liste!$L$7:$L$198,0)),\"\")","v":"P57"},null,{"$f":"IFERROR(VLOOKUP($B155,'Partie 1'!$B$32:$D$223,2,0),\"\")","v":13},{"$f":"IFERROR(VLOOKUP($B155,'Partie 1'!$B$32:$E$223,4,0),\"\")","v":7},{"$f":"IFERROR(VLOOKUP($B155,'Partie 2'!$B$32:$D$223,2,0),\"\")","v":13},{"$f":"IFERROR(VLOOKUP($B155,'Partie 2'!$B$32:$E$223,4,0),\"\")","v":6},{"$f":"IFERROR(VLOOKUP($B155,'Partie 3'!$B$32:$D$223,2,0),\"\")","v":13},{"$f":"IFERROR(VLOOKUP($B155,'Partie 3'!$B$32:$E$223,4,0),\"\")","v":6},{"$f":"IFERROR(VLOOKUP($B155,'Partie 4'!$B$32:$D$223,2,0),\"\")","v":6},{"$f":"IFERROR(VLOOKUP($B155,'Partie 4'!$B$32:$E$223,4,0),\"\")","v":13},{"$f":"IFERROR(VLOOKUP($B155,'Partie 5'!$B$32:$D$223,2,0),\"\")","v":13},{"$f":"IFERROR(VLOOKUP($B155,'Partie 5'!$B$32:$E$223,4,0),\"\")","v":2},"P57",58,34,4,null,{"$f":"IFERROR(INDEX(Liste!$G$7:$G$198,MATCH(B155,Liste!$I$7:$I$198,0)),\"\")","v":"C"},"P57",58,34,4]
[154,{"$f":"IFERROR(INDEX(Liste!$I$7:$I$198,MATCH(Recap!A156,Liste!$L$7:$L$198,0)),\"\")","v":"P58"},null,{"$f":"IFERROR(VLOOKUP($B156,'Partie 1'!$B$32:$D$223,2,0),\"\")","v":7},{"$f":"IFERROR(VLOOKUP($B156,'Partie 1'!$B$32:$E$223,4,0),\"\")","v":13},{"$f":"IFERROR(VLOOKUP($B156,'Partie 2'!$B$32:$D$223,2,0),\"\")","v":9},{"$f":"IFERROR(VLOOKUP($B156,'Partie 2'!$B$32:$E$223,4,0),\"\")","v":13},{"$f":"IFERROR(VLOOKUP($B156,'Partie 3'!$B$32:$D$223,2,0),\"\")","v":13},{"$f":"IFERROR(VLOOKUP($B156,'Partie 3'!$B$32:$E$223,4,0),\"\")","v":10},{"$f":"IFERROR(VLOOKUP($B156,'Partie 4'!$B$32:$D$223,2,0),\"\")","v":13},{"$f":"IFERROR(VLOOKUP($B156,'Partie 4'!$B$32:$E$223,4,0),\"\")","v":5},{"$f":"IFERROR(VLOOKUP($B156,'Partie 5'!$B$32:$D$223,2,0),\"\")","v":6},{"$f":"IFERROR(VLOOKUP($B156,'Partie 5'!$B$32:$E$223,4,0),\"\")","v":13},"P58",48,54,2,null,{"$f":"IFERROR(INDEX(Liste!$G$7:$G$198,MATCH(B156,Liste!$I$7:$I$198,0)),\"\")","v":"C"},"P58",48,54,2]
[155,{"$f":"IFERROR(INDEX(Liste!$I$7:$I$198,MATCH(Recap!A157,Liste!$L$7:$L$198,0)),\"\")","v":"P59"},null,{"$f":"IFERROR(VLOOKUP($B157,'Partie 1'!$B$32:$D$223,2,0),\"\")","v":13},{"$f":"IFERROR(VLOOKUP($B157,'Partie 1'!$B$32:$E$223,4,0),\"\")","v":5},{"$f":"IFERROR(VLOOKUP($B157,'Partie 2'!$B$32:$D$223,2,0),\"\")","v":6},{"$f":"IFERROR(VLOOKUP($B157,'Partie 2'!$B$32:$E$223,4,0),\"\")","v":13},{"$f":"IFERROR(VLOOKUP($B157,'Partie 3'!$B$32:$D$223,2,0),\"\")","v":11},{"$f":"IFERROR(VLOOKUP($B157,'Partie 3'!$B$32:$E$223,4,0),\"\")","v":13},{"$f":"IFERROR(VLOOKUP($B157,'Partie 4'!$B$32:$D$223,2,0),\"\")","v":11},{"$f":"IFERROR(VLOOKUP($B157,'Partie 4'!$B$32:$E$223,4,0),\"\")","v":13},{"$f":"IFERROR(VLOOKUP($B157,'Partie 5'!$B$32:$D$223,2,0),\"\")","v":10},{"$f":"IFERROR(VLOOKUP($B157,'Partie 5'!$B$32:$E$223,4,0),\"\")","v":13},"P59",51,57,1,null,{"$f":"IFERROR(INDEX(Liste!$G$7:$G$198,MATCH(B157,Liste!$I$7:$I$198,0)),\"\")","v":"C"},"P59",51,57,1]
[156,{"$f":"IFERROR(INDEX(Liste!$I$7:$I$198,MATCH(Recap!A158,Liste!$L$7:$L$198,0)),\"\")","v":"P60"},null,{"$f":"IFERROR(VLOOKUP($B158,'Partie 1'!$B$32:$D$223,2,0),\"\")","v":5},{"$f":"IFERROR(VLOOKUP($B158,'Partie 1'!$B$32:$E$223,4,0),\"\")","v":13},{"$f":"IFERROR(VLOOKUP($B158,'Partie 2'!$B$32:$D$223,2,0),\"\")","v":13},{"$f":"IFERROR(VLOOKUP($B158,'Partie 2'!$B$32:$E$223,4,0),\"\")","v":9},{"$f":"IFERROR(VLOOKUP($B158,'Partie 3'!$B$32:$D$223,2,0),\"\")","v":13},{"$f":"IFERROR(VLOOKUP($B158,'Partie 3'!$B$32:$E$223,4,0),\"\")","v":10},{"$f":"IFERROR(VLOOKUP($B158,'Partie 4'!$B$32:$D$223,2,0),\"\")","v":6},{"$f":"IFERROR(VLOOKUP($B158,'Partie 4'!$B$32:$E$223,4,0),\"\")","v":13},{"$f":"IFERROR(VLOOKUP($B158,'Partie 5'!$B$32:$D$223,2,0),\"\")","v":13},{"$f":"IFERROR(VLOOKUP($B158,'Partie 5'!$B$32:$E$223,4,0),\"\")","v":7},"P60",50,52,3,null,{"$f":"IFERROR(INDEX(Liste!$G$7:$G$198,MATCH(B158,Liste!$I$7:$I$198,0)),\"\")","v":"C"},"P60",50,52,3]
[157,{"$f":"IFERROR(INDEX(Liste!$I$7:$I$198,MATCH(Recap!A159,Liste!$L$7:$L$198,0)),\"\")","v":"P61"},null,{"$f":"IFERROR(VLOOKUP($B159,'Partie 1'!$B$32:$D$223,2,0),\"\")","v":9},{"$f":"IFERROR(VLOOKUP($B159,'Partie 1'!$B$32:$E$223,4,0),\"\")","v":13},{"$f":"IFERROR(VLOOKUP($B159,'Partie 2'!$B$32:$D$223,2,0),\"\")","v":13},{"$f":"IFERROR(VLOOKUP($B159,'Partie 2'!$B$32:$E$223,4,0),\"\")","v":11},{"$f":"IFERROR(VLOOKUP($B159,'Partie 3'!$B$32:$D$223,2,0),\"\")","v":10},{"$f":"IFERROR(VLOOKUP($B159,'Partie 3'!$B$32:$E$223,4,0),\"\")","v":13},{"$f":"IFERROR(VLOOKUP($B159,'Partie 4'!$B$32:$D$223,2,0),\"\")","v":2},{"$f":"IFERROR(VLOOKUP($B159,'Partie 4'!$B$32:$E$223,4,0),\"\")","v":13},{"$f":"IFERROR(VLOOKUP($B159,'Partie 5'!$B$32:$D$223,2,0),\"\")","v":13},{"$f":"IFERROR(VLOOKUP($B159,'Partie 5'!$B$32:$E$223,4,0),\"\")","v":12},"P61",47,62,2,null,{"$f":"IFERROR(INDEX(Liste!$G$7:$G$198,MATCH(B159,Liste!$I$7:$I$198,0)),\"\")","v":"C"},"P61",47,62,2]
[158,{"$f":"IFERROR(INDEX(Liste!$I$7:$I$198,MATCH(Recap!A160,Liste!$L$7:$L$198,0)),\"\")","v":"P62"},null,{"$f":"IFERROR(VLOOKUP($B160,'Partie 1'!$B$32:$D$223,2,0),\"\")","v":13},{"$f":"IFERROR(VLOOKUP($B160,'Partie 1'!$B$32:$E$223,4,0),\"\")","v":9},{"$f":"IFERROR(VLOOKUP($B160,'Partie 2'!$B$32:$D$223,2,0),\"\")","v":13},{"$f":"IFERROR(VLOOKUP($B160,'Partie 2'!$B$32:$E$223,4,0),\"\")","v":6},{"$f":"IFERROR(VLOOKUP($B160,'Partie 3'!$B$32:$D$223,2,0),\"\")","v":6},{"$f":"IFERROR(VLOOKUP($B160,'Partie 3'!$B$32:$E$223,4,0),\"\")","v":13},{"$f":"IFERROR(VLOOKUP($B160,'Partie 4'!$B$32:$D$223,2,0),\"\")","v":10},{"$f":"IFERROR(VLOOKUP($B160,'Partie 4'!$B$32:$E$223,4,0),\"\")","v":13},{"$f":"IFERROR(VLOOKUP($B160,'Partie 5'!$B$32:$D$223,2,0),\"\")","v":5},{"$f":"IFERROR(VLOOKUP($B160,'Partie 5'!$B$32:$E$223,4,0),\"\")","v":13},"P62",47,54,2,null,{"$f":"IFERROR(INDEX(Liste!$G$7:$G$198,MATCH(B160,Liste!$I$7:$I$198,0)),\"\")","v":"C"},"P62",47,54,2]
[159,{"$f":"IFERROR(INDEX(Liste!$I$7:$I$198,MATCH(Recap!A161,Liste!$L$7:$L$198,0)),\"\")","v":"P63"},null,{"$f":"IFERROR(VLOOKUP($B161,'Partie 1'!$B$32:$D$223,2,0),\"\")","v":13},{"$f":"IFERROR(VLOOKUP($B161,'Partie 1'!$B$32:$E$223,4,0),\"\")","v":11},{"$f":"IFERROR(VLOOKUP($B161,'Partie 2'!$B$32:$D$223,2,0),\"\")","v":6},{"$f":"IFERROR(VLOOKUP($B161,'Partie 2'!$B$32:$E$223,4,0),\"\")","v":13},{"$f":"IFERROR(VLOOKUP($B161,'Partie 3'!$B$32:$D$223,2,0),\"\")","v":13},{"$f":"IFERROR(VLOOKUP($B161,'Partie 3'!$B$32:$E$223,4,0),\"\")","v":11},{"$f":"IFERROR(VLOOKUP($B161,'Partie 4'!$B$32:$D$223,2,0),\"\")","v":6},{"$f":"IFERROR(VLOOKUP($B161,'Partie 4'!$B$32:$E$223,4,0),\"\")","v":13},{"$f":"IFERROR(VLOOKUP($B161,'Partie 5'!$B$32:$D$223,2,0),\"\")","v":13},{"$f":"IFERROR(VLOOKUP($B161,'Partie 5'!$B$32:$E$223,4,0),\"\")","v":11},"P63",51,59,3,null,{"$f":"IFERROR(INDEX(Liste!$G$7:$G$198,MATCH(B161,Liste!$I$7:$I$198,0)),\"\")","v":"C"},"P63",51,59,3]
[160,{"$f":"IFERROR(INDEX(Liste!$I$7:$I$198,MATCH(Recap!A162,Liste!$L$7:$L$198,0)),\"\")","v":"P64"},null,{"$f":"IFERROR(VLOOKUP($B162,'Partie 1'!$B$32:$D$223,2,0),\"\")","v":11},{"$f":"IFERROR(VLOOKUP($B162,'Partie 1'!$B$32:$E$223,4,0),\"\")","v":13},{"$f":"IFERROR(VLOOKUP($B162,'Partie 2'!$B$32:$D$223,2,0),\"\")","v":11},{"$f":"IFERROR(VLOOKUP($B162,'Partie 2'!$B$32:$E$223,4,0),\"\")","v":13},{"$f":"IFERROR(VLOOKUP($B162,'Partie 3'!$B$32:$D$223,2,0),\"\")","v":10},{"$f":"IFERROR(VLOOKUP($B162,'Partie 3'!$B$32:$E$223,4,0),\"\")","v":13},{"$f":"IFERROR(VLOOKUP($B162,'Partie 4'!$B$32:$D$223,2,0),\"\")","v":13},{"$f":"IFERROR(VLOOKUP($B162,'Partie 4'!$B$32:$E$223,4,0),\"\")","v":5},{"$f":"IFERROR(VLOOKUP($B162,'Partie 5'!$B$32:$D$223,2,0),\"\")","v":9},{"$f":"IFERROR(VLOOKUP($B162,'Partie 5'!$B$32:$E$223,4,0),\"\")","v":13},"P64",54,57,1,null,{"$f":"IFERROR(INDEX(Liste!$G$7:$G$198,MATCH(B162,Liste!$I$7:$I$198,0)),\"\")","v":"C"},"P64",54,57,1]
[161,{"$f":"IFERROR(INDEX(Liste!$I$7:$I$198,MATCH(Recap!A163,Liste!$L$7:$L$198,0)),\"\")","v":"P65"},null,{"$f":"IFERROR(VLOOKUP($B163,'Partie 1'!$B$32:$D$223,2,0),\"\")","v":12},{"$f":"IFERROR(VLOOKUP($B163,'Partie 1'!$B$32:$E$223,4,0),\"\")","v":11},{"$f":"IFERROR(VLOOKUP($B163,'Partie 2'!$B$32:$D$223,2,0),\"\")","v":12},{"$f":"IFERROR(VLOOKUP($B163,'Partie 2'!$B$32:$E$223,4,0),\"\")","v":13},{"$f":"IFERROR(VLOOKUP($B163,'Partie 3'!$B$32:$D$223,2,0),\"\")","v":7},{"$f":"IFERROR(VLOOKUP($B163,'Partie 3'!$B$32:$E$223,4,0),\"\")","v":13},{"$f":"IFERROR(VLOOKUP($B163,'Partie 4'!$B$32:$D$223,2,0),\"\")","v":13},{"$f":"IFERROR(VLOOKUP($B163,'Partie 4'!$B$32:$E$223,4,0),\"\")","v":9},{"$f":"IFERROR(VLOOKUP($B163,'Partie 5'!$B$32:$D$223,2,0),\"\")","v":11},{"$f":"IFERROR(VLOOKUP($B163,'Partie 5'!$B$32:$E$223,4,0),\"\")","v":13},"P65",55,59,1,null,{"$f":"IFERROR(INDEX(Liste!$G$7:$G$198,MATCH(B163,Liste!$I$7:$I$198,0)),\"\")","v":"C"},"P65",55,59,1]
[162,{"$f":"IFERROR(INDEX(Liste!$I$7:$I$198,MATCH(Recap!A164,Liste!$L$7:$L$198,0)),\"\")","v":"P66"},null,{"$f":"IFERROR(VLOOKUP($B164,'Partie 1'!$B$32:$D$223,2,0),\"\")","v":13},{"$f":"IFERROR(VLOOKUP($B164,'Partie 1'!$B$32:$E$223,4,0),\"\")","v":12},{"$f":"IFERROR(VLOOKUP($B164,'Partie 2'!$B$32:$D$223,2,0),\"\")","v":12},{"$f":"IFERROR(VLOOKUP($B164,'Partie 2'!$B$32:$E$223,4,0),\"\")","v":13},{"$f":"IFERROR(VLOOKUP($B164,'Partie 3'!$B$32:$D$223,2,0),\"\")","v":13},{"$f":"IFERROR(VLOOKUP($B164,'Partie 3'!$B$32:$E$223,4,0),\"\")","v":12},{"$f":"IFERROR(VLOOKUP($B164,'Partie 4'!$B$32:$D$223,2,0),\"\")","v":12},{"$f":"IFERROR(VLOOKUP($B164,'Partie 4'!$B$32:$E$223,4,0),\"\")","v":13},{"$f":"IFERROR(VLOOKUP($B164,'Partie 5'!$B$32:$D$223,2,0),\"\")","v":13},{"$f":"IFERROR(VLOOKUP($B164,'Partie 5'!$B$32:$E$223,4,0),\"\")","v":12},"P66",63,62,3,null,{"$f":"IFERROR(INDEX(Liste!$G$7:$G$198,MATCH(B164,Liste!$I$7:$I$198,0)),\"\")","v":"C"},"P66",63,62,3]
[163,{"$f":"IFERROR(INDEX(Liste!$I$7:$I$198,MATCH(Recap!A165,Liste!$L$7:$L$198,0)),\"\")","v":"P67"},null,{"$f":"IFERROR(VLOOKUP($B165,'Partie 1'!$B$32:$D$223,2,0),\"\")","v":2},{"$f":"IFERROR(VLOOKUP($B165,'Partie 1'!$B$32:$E$223,4,0),\"\")","v":13},{"$f":"IFERROR(VLOOKUP($B165,'Partie 2'!$B$32:$D$223,2,0),\"\")","v":13},{"$f":"IFERROR(VLOOKUP($B165,'Partie 2'!$B$32:$E$223,4,0),\"\")","v":12},{"$f":"IFERROR(VLOOKUP($B165,'Partie 3'!$B$32:$D$223,2,0),\"\")","v":7},{"$f":"IFERROR(VLOOKUP($B165,'Partie 3'!$B$32:$E$223,4,0),\"\")","v":13},{"$f":"IFERROR(VLOOKUP($B165,'Partie 4'!$B$32:$D$223,2,0),\"\")","v":4},{"$f":"IFERROR(VLOOKUP($B165,'Partie 4'!$B$32:$E$223,4,0),\"\")","v":13},{"$f":"IFERROR(VLOOKUP($B165,'Partie 5'!$B$32:$D$223,2,0),\"\")","v":2},{"$f":"IFERROR(VLOOKUP($B165,'Partie 5'!$B$32:$E$223,4,0),\"\")","v":13},"P67",28,64,1,null,{"$f":"IFERROR(INDEX(Liste!$G$7:$G$198,MATCH(B165,Liste!$I$7:$I$198,0)),\"\")","v":"C"},"P67",28,64,1]
[164,{"$f":"IFERROR(INDEX(Liste!$I$7:$I$198,MATCH(Recap!A166,Liste!$L$7:$L$198,0)),\"\")","v":"P68"},null,{"$f":"IFERROR(VLOOKUP($B166,'Partie 1'!$B$32:$D$223,2,0),\"\")","v":13},{"$f":"IFERROR(VLOOKUP($B166,'Partie 1'!$B$32:$E$223,4,0),\"\")","v":2},{"$f":"IFERROR(VLOOKUP($B166,'Partie 2'!$B$32:$D$223,2,0),\"\")","v":13},{"$f":"IFERROR(VLOOKUP($B166,'Partie 2'!$B$32:$E$223,4,0),\"\")","v":12},{"$f":"IFERROR(VLOOKUP($B166,'Partie 3'!$B$32:$D$223,2,0),\"\")","v":13},{"$f":"IFERROR(VLOOKUP($B166,'Partie 3'!$B$32:$E$223,4,0),\"\")","v":6},{"$f":"IFERROR(VLOOKUP($B166,'Partie 4'!$B$32:$D$223,2,0),\"\")","v":13},{"$f":"IFERROR(VLOOKUP($B166,'Partie 4'!$B$32:$E$223,4,0),\"\")","v":6},{"$f":"IFERROR(VLOOKUP($B166,'Partie 5'!$B$32:$D$223,2,0),\"\")","v":13},{"$f":"IFERROR(VLOOKUP($B166,'Partie 5'!$B$32:$E$223,4,0),\"\")","v":6},"P68",65,32,5,null,{"$f":"IFERROR(INDEX(Liste!$G$7:$G$198,MATCH(B166,Liste!$I$7:$I$198,0)),\"\")","v":"ST"},"P68",65,32,5]
[165,{"$f":"IFERROR(INDEX(Liste!$I$7:$I$198,MATCH(Recap!A167,Liste!$L$7:$L$198,0)),\"\")","v":"P69"},null,{"$f":"IFERROR(VLOOKUP($B167,'Partie 1'!$B$32:$D$223,2,0),\"\")","v":13},{"$f":"IFERROR(VLOOKUP($B167,'Partie 1'!$B$32:$E$223,4,0),\"\")","v":4},{"$f":"IFERROR(VLOOKUP($B167,'Partie 2'!$B$32:$D$223,2,0),\"\")","v":2},{"$f":"IFERROR(VLOOKUP($B167,'Partie 2'!$B$32:$E$223,4,0),\"\")","v":13},{"$f":"IFERROR(VLOOKUP($B167,'Partie 3'!$B$32:$D$223,2,0),\"\")","v":12},{"$f":"IFERROR(VLOOKUP($B167,'Partie 3'!$B$32:$E$223,4,0),\"\")","v":11},{"$f":"IFERROR(VLOOKUP($B167,'Partie 4'!$B$32:$D$223,2,0),\"\")","v":12},{"$f":"IFERROR(VLOOKUP($B167,'Partie 4'!$B$32:$E$223,4,0),\"\")","v":13},{"$f":"IFERROR(VLOOKUP($B167,'Partie 5'!$B$32:$D$223,2,0),\"\")","v":7},{"$f":"IFERROR(VLOOKUP($B167,'Partie 5'!$B$32:$E$223,4,0),\"\")","v":13},"P69",46,54,1,null,{"$f":"IFERROR(INDEX(Liste!$G$7:$G$198,MATCH(B167,Liste!$I$7:$I$198,0)),\"\")","v":"CE"},"P69",46,54,1]
[166,{"$f":"IFERROR(INDEX(Liste!$I$7:$I$198,MATCH(Recap!A168,Liste!$L$7:$L$198,0)),\"\")","v":"P70"},null,{"$f":"IFERROR(VLOOKUP($B168,'Partie 1'!$B$32:$D$223,2,0),\"\")","v":4},{"$f":"IFERROR(VLOOKUP($B168,'Partie 1'!$B$32:$E$223,4,0),\"\")","v":13},{"$f":"IFERROR(VLOOKUP($B168,'Partie 2'!$B$32:$D$223,2,0),\"\")","v":2},{"$f":"IFERROR(VLOOKUP($B168,'Partie 2'!$B$32:$E$223,4,0),\"\")","v":13},{"$f":"IFERROR(VLOOKUP($B168,'Partie 3'!$B$32:$D$223,2,0),\"\")","v":13},{"$f":"IFERROR(VLOOKUP($B168,'Partie 3'!$B$32:$E$223,4,0),\"\")","v":7},{"$f":"IFERROR(VLOOKUP($B168,'Partie 4'!$B$32:$D$223,2,0),\"\")","v":13},{"$f":"IFERROR(VLOOKUP($B168,'Partie 4'!$B$32:$E$223,4,0),\"\")","v":9},{"$f":"IFERROR(VLOOKUP($B168,'Partie 5'!$B$32:$D$223,2,0),\"\")","v":13},{"$f":"IFERROR(VLOOKUP($B168,'Partie 5'!$B$32:$E$223,4,0),\"\")","v":6},"P70",45,48,3,null,{"$f":"IFERROR(INDEX(Liste!$G$7:$G$198,MATCH(B168,Liste!$I$7:$I$198,0)),\"\")","v":"CE"},"P70",45,48,3]
[167,{"$f":"IFERROR(INDEX(Liste!$I$7:$I$198,MATCH(Recap!A169,Liste!$L$7:$L$198,0)),\"\")","v":"P71"},null,{"$f":"IFERROR(VLOOKUP($B169,'Partie 1'!$B$32:$D$223,2,0),\"\")","v":13},{"$f":"IFERROR(VLOOKUP($B169,'Partie 1'!$B$32:$E$223,4,0),\"\")","v":10},{"$f":"IFERROR(VLOOKUP($B169,'Partie 2'!$B$32:$D$223,2,0),\"\")","v":13},{"$f":"IFERROR(VLOOKUP($B169,'Partie 2'!$B$32:$E$223,4,0),\"\")","v":2},{"$f":"IFERROR(VLOOKUP($B169,'Partie 3'!$B$32:$D$223,2,0),\"\")","v":6},{"$f":"IFERROR(VLOOKUP($B169,'Partie 3'!$B$32:$E$223,4,0),\"\")","v":13},{"$f":"IFERROR(VLOOKUP($B169,'Partie 4'!$B$32:$D$223,2,0),\"\")","v":7},{"$f":"IFERROR(VLOOKUP($B169,'Partie 4'!$B$32:$E$223,4,0),\"\")","v":13},{"$f":"IFERROR(VLOOKUP($B169,'Partie 5'!$B$32:$D$223,2,0),\"\")","v":9},{"$f":"IFERROR(VLOOKUP($B169,'Partie 5'!$B$32:$E$223,4,0),\"\")","v":13},"P71",48,51,2,null,{"$f":"IFERROR(INDEX(Liste!$G$7:$G$198,MATCH(B169,Liste!$I$7:$I$198,0)),\"\")","v":"CE"},"P71",48,51,2]
[168,{"$f":"IFERROR(INDEX(Liste!$I$7:$I$198,MATCH(Recap!A170,Liste!$L$7:$L$198,0)),\"\")","v":"P72"},null,{"$f":"IFERROR(VLOOKUP($B170,'Partie 1'!$B$32:$D$223,2,0),\"\")","v":10},{"$f":"IFERROR(VLOOKUP($B170,'Partie 1'!$B$32:$E$223,4,0),\"\")","v":13},{"$f":"IFERROR(VLOOKUP($B170,'Partie 2'!$B$32:$D$223,2,0),\"\")","v":13},{"$f":"IFERROR(VLOOKUP($B170,'Partie 2'!$B$32:$E$223,4,0),\"\")","v":2},{"$f":"IFERROR(VLOOKUP($B170,'Partie 3'!$B$32:$D$223,2,0),\"\")","v":13},{"$f":"IFERROR(VLOOKUP($B170,'Partie 3'!$B$32:$E$223,4,0),\"\")","v":7},{"$f":"IFERROR(VLOOKUP($B170,'Partie 4'!$B$32:$D$223,2,0),\"\")","v":13},{"$f":"IFERROR(VLOOKUP($B170,'Partie 4'!$B$32:$E$223,4,0),\"\")","v":6},{"$f":"IFERROR(VLOOKUP($B170,'Partie 5'!$B$32:$D$223,2,0),\"\")","v":13},{"$f":"IFERROR(VLOOKUP($B170,'Partie 5'!$B$32:$E$223,4,0),\"\")","v":6},"P72",62,34,4,null,{"$f":"IFERROR(INDEX(Liste!$G$7:$G$198,MATCH(B170,Liste!$I$7:$I$198,0)),\"\")","v":"CE"},"P72",62,34,4]
[169,{"$f":"IFERROR(INDEX(Liste!$I$7:$I$198,MATCH(Recap!A171,Liste!$L$7:$L$198,0)),\"\")","v":"P73"},null,{"$f":"IFERROR(VLOOKUP($B171,'Partie 1'!$B$32:$D$223,2,0),\"\")","v":7},{"$f":"IFERROR(VLOOKUP($B171,'Partie 1'!$B$32:$E$223,4,0),\"\")","v":13},{"$f":"IFERROR(VLOOKUP($B171,'Partie 2'!$B$32:$D$223,2,0),\"\")","v":13},{"$f":"IFERROR(VLOOKUP($B171,'Partie 2'!$B$32:$E$223,4,0),\"\")","v":4},{"$f":"IFERROR(VLOOKUP($B171,'Partie 3'!$B$32:$D$223,2,0),\"\")","v":5},{"$f":"IFERROR(VLOOKUP($B171,'Partie 3'!$B$32:$E$223,4,0),\"\")","v":13},{"$f":"IFERROR(VLOOKUP($B171,'Partie 4'!$B$32:$D$223,2,0),\"\")","v":13},{"$f":"IFERROR(VLOOKUP($B171,'Partie 4'!$B$32:$E$223,4,0),\"\")","v":4},{"$f":"IFERROR(VLOOKUP($B171,'Partie 5'!$B$32:$D$223,2,0),\"\")","v":2},{"$f":"IFERROR(VLOOKUP($B171,'Partie 5'!$B$32:$E$223,4,0),\"\")","v":13},"P73",40,47,2,null,{"$f":"IFERROR(INDEX(Liste!$G$7:$G$198,MATCH(B171,Liste!$I$7:$I$198,0)),\"\")","v":"CE"},"P73",40,47,2]
[170,{"$f":"IFERROR(INDEX(Liste!$I$7:$I$198,MATCH(Recap!A172,Liste!$L$7:$L$198,0)),\"\")","v":"P74"},null,{"$f":"IFERROR(VLOOKUP($B172,'Partie 1'!$B$32:$D$223,2,0),\"\")","v":13},{"$f":"IFERROR(VLOOKUP($B172,'Partie 1'!$B$32:$E$223,4,0),\"\")","v":7},{"$f":"IFERROR(VLOOKUP($B172,'Partie 2'!$B$32:$D$223,2,0),\"\")","v":13},{"$f":"IFERROR(VLOOKUP($B172,'Partie 2'!$B$32:$E$223,4,0),\"\")","v":4},{"$f":"IFERROR(VLOOKUP($B172,'Partie 3'!$B$32:$D$223,2,0),\"\")","v":13},{"$f":"IFERROR(VLOOKUP($B172,'Partie 3'!$B$32:$E$223,4,0),\"\")","v":6},{"$f":"IFERROR(VLOOKUP($B172,'Partie 4'!$B$32:$D$223,2,0),\"\")","v":6},{"$f":"IFERROR(VLOOKUP($B172,'Partie 4'!$B$32:$E$223,4,0),\"\")","v":13},{"$f":"IFERROR(VLOOKUP($B172,'Partie 5'!$B$32:$D$223,2,0),\"\")","v":13},{"$f":"IFERROR(VLOOKUP($B172,'Partie 5'!$B$32:$E$223,4,0),\"\")","v":4},"P74",58,34,4,null,{"$f":"IFERROR(INDEX(Liste!$G$7:$G$198,MATCH(B172,Liste!$I$7:$I$198,0)),\"\")","v":"CE"},"P74",58,34,4]
[171,{"$f":"IFERROR(INDEX(Liste!$I$7:$I$198,MATCH(Recap!A173,Liste!$L$7:$L$198,0)),\"\")","v":"P75"},null,{"$f":"IFERROR(VLOOKUP($B173,'Partie 1'!$B$32:$D$223,2,0),\"\")","v":5},{"$f":"IFERROR(VLOOKUP($B173,'Partie 1'!$B$32:$E$223,4,0),\"\")","v":13},{"$f":"IFERROR(VLOOKUP($B173,'Partie 2'!$B$32:$D$223,2,0),\"\")","v":4},{"$f":"IFERROR(VLOOKUP($B173,'Partie 2'!$B$32:$E$223,4,0),\"\")","v":13},{"$f":"IFERROR(VLOOKUP($B173,'Partie 3'!$B$32:$D$223,2,0),\"\")","v":5},{"$f":"IFERROR(VLOOKUP($B173,'Partie 3'!$B$32:$E$223,4,0),\"\")","v":13},{"$f":"IFERROR(VLOOKUP($B173,'Partie 4'!$B$32:$D$223,2,0),\"\")","v":9},{"$f":"IFERROR(VLOOKUP($B173,'Partie 4'!$B$32:$E$223,4,0),\"\")","v":13},{"$f":"IFERROR(VLOOKUP($B173,'Partie 5'!$B$32:$D$223,2,0),\"\")","v":11},{"$f":"IFERROR(VLOOKUP($B173,'Partie 5'!$B$32:$E$223,4,0),\"\")","v":13},"P75",34,65,0,null,{"$f":"IFERROR(INDEX(Liste!$G$7:$G$198,MATCH(B173,Liste!$I$7:$I$198,0)),\"\")","v":"CE"},"P75",34,65,0]
[172,{"$f":"IFERROR(INDEX(Liste!$I$7:$I$198,MATCH(Recap!A174,Liste!$L$7:$L$198,0)),\"\")","v":"P76"},null,{"$f":"IFERROR(VLOOKUP($B174,'Partie 1'!$B$32:$D$223,2,0),\"\")","v":13},{"$f":"IFERROR(VLOOKUP($B174,'Partie 1'!$B$32:$E$223,4,0),\"\")","v":5},{"$f":"IFERROR(VLOOKUP($B174,'Partie 2'!$B$32:$D$223,2,0),\"\")","v":4},{"$f":"IFERROR(VLOOKUP($B174,'Partie 2'!$B$32:$E$223,4,0),\"\")","v":13},{"$f":"IFERROR(VLOOKUP($B174,'Partie 3'!$B$32:$D$223,2,0),\"\")","v":13},{"$f":"IFERROR(VLOOKUP($B174,'Partie 3'!$B$32:$E$223,4,0),\"\")","v":2},{"$f":"IFERROR(VLOOKUP($B174,'Partie 4'!$B$32:$D$223,2,0),\"\")","v":13},{"$f":"IFERROR(VLOOKUP($B174,'Partie 4'!$B$32:$E$223,4,0),\"\")","v":12},{"$f":"IFERROR(VLOOKUP($B174,'Partie 5'!$B$32:$D$223,2,0),\"\")","v":13},{"$f":"IFERROR(VLOOKUP($B174,'Partie 5'!$B$32:$E$223,4,0),\"\")","v":6},"P76",56,38,4,null,{"$f":"IFERROR(INDEX(Liste!$G$7:$G$198,MATCH(B174,Liste!$I$7:$I$198,0)),\"\")","v":"CE"},"P76",56,38,4]
[173,{"$f":"IFERROR(INDEX(Liste!$I$7:$I$198,MATCH(Recap!A175,Liste!$L$7:$L$198,0)),\"\")","v":"P77"},null,{"$f":"IFERROR(VLOOKUP($B175,'Partie 1'!$B$32:$D$223,2,0),\"\")","v":13},{"$f":"IFERROR(VLOOKUP($B175,'Partie 1'!$B$32:$E$223,4,0),\"\")","v":9},{"$f":"IFERROR(VLOOKUP($B175,'Partie 2'!$B$32:$D$223,2,0),\"\")","v":13},{"$f":"IFERROR(VLOOKUP($B175,'Partie 2'!$B$32:$E$223,4,0),\"\")","v":10},{"$f":"IFERROR(VLOOKUP($B175,'Partie 3'!$B$32:$D$223,2,0),\"\")","v":6},{"$f":"IFERROR(VLOOKUP($B175,'Partie 3'!$B$32:$E$223,4,0),\"\")","v":13},{"$f":"IFERROR(VLOOKUP($B175,'Partie 4'!$B$32:$D$223,2,0),\"\")","v":13},{"$f":"IFERROR(VLOOKUP($B175,'Partie 4'!$B$32:$E$223,4,0),\"\")","v":7},{"$f":"IFERROR(VLOOKUP($B175,'Partie 5'!$B$32:$D$223,2,0),\"\")","v":13},{"$f":"IFERROR(VLOOKUP($B175,'Partie 5'!$B$32:$E$223,4,0),\"\")","v":6},"P77",58,45,4,null,{"$f":"IFERROR(INDEX(Liste!$G$7:$G$198,MATCH(B175,Liste!$I$7:$I$198,0)),\"\")","v":"CE"},"P77",58,45,4]
[174,{"$f":"IFERROR(INDEX(Liste!$I$7:$I$198,MATCH(Recap!A176,Liste!$L$7:$L$198,0)),\"\")","v":"P78"},null,{"$f":"IFERROR(VLOOKUP($B176,'Partie 1'!$B$32:$D$223,2,0),\"\")","v":9},{"$f":"IFERROR(VLOOKUP($B176,'Partie 1'!$B$32:$E$223,4,0),\"\")","v":13},{"$f":"IFERROR(VLOOKUP($B176,'Partie 2'!$B$32:$D$223,2,0),\"\")","v":13},{"$f":"IFERROR(VLOOKUP($B176,'Partie 2'!$B$32:$E$223,4,0),\"\")","v":10},{"$f":"IFERROR(VLOOKUP($B176,'Partie 3'!$B$32:$D$223,2,0),\"\")","v":13},{"$f":"IFERROR(VLOOKUP($B176,'Partie 3'!$B$32:$E$223,4,0),\"\")","v":5},{"$f":"IFERROR(VLOOKUP($B176,'Partie 4'!$B$32:$D$223,2,0),\"\")","v":6},{"$f":"IFERROR(VLOOKUP($B176,'Partie 4'!$B$32:$E$223,4,0),\"\")","v":13},{"$f":"IFERROR(VLOOKUP($B176,'Partie 5'!$B$32:$D$223,2,0),\"\")","v":5},{"$f":"IFERROR(VLOOKUP($B176,'Partie 5'!$B$32:$E$223,4,0),\"\")","v":13},"P78",46,54,2,null,{"$f":"IFERROR(INDEX(Liste!$G$7:$G$198,MATCH(B176,Liste!$I$7:$I$198,0)),\"\")","v":"CE"},"P78",46,54,2]
[175,{"$f":"IFERROR(INDEX(Liste!$I$7:$I$198,MATCH(Recap!A177,Liste!$L$7:$L$198,0)),\"\")","v":"P79"},null,{"$f":"IFERROR(VLOOKUP($B177,'Partie 1'!$B$32:$D$223,2,0),\"\")","v":11},{"$f":"IFERROR(VLOOKUP($B177,'Partie 1'!$B$32:$E$223,4,0),\"\")","v":13},{"$f":"IFERROR(VLOOKUP($B177,'Partie 2'!$B$32:$D$223,2,0),\"\")","v":10},{"$f":"IFERROR(VLOOKUP($B177,'Partie 2'!$B$32:$E$223,4,0),\"\")","v":13},{"$f":"IFERROR(VLOOKUP($B177,'Partie 3'!$B$32:$D$223,2,0),\"\")","v":13},{"$f":"IFERROR(VLOOKUP($B177,'Partie 3'!$B$32:$E$223,4,0),\"\")","v":5},{"$f":"IFERROR(VLOOKUP($B177,'Partie 4'!$B$32:$D$223,2,0),\"\")","v":9},{"$f":"IFERROR(VLOOKUP($B177,'Partie 4'!$B$32:$E$223,4,0),\"\")","v":13},{"$f":"IFERROR(VLOOKUP($B177,'Partie 5'!$B$32:$D$223,2,0),\"\")","v":10},{"$f":"IFERROR(VLOOKUP($B177,'Partie 5'!$B$32:$E$223,4,0),\"\")","v":13},"P79",53,57,1,null,{"$f":"IFERROR(INDEX(Liste!$G$7:$G$198,MATCH(B177,Liste!$I$7:$I$198,0)),\"\")","v":"CE"},"P79",53,57,1]
[176,{"$f":"IFERROR(INDEX(Liste!$I$7:$I$198,MATCH(Recap!A178,Liste!$L$7:$L$198,0)),\"\")","v":"P80"},null,{"$f":"IFERROR(VLOOKUP($B178,'Partie 1'!$B$32:$D$223,2,0),\"\")","v":13},{"$f":"IFERROR(VLOOKUP($B178,'Partie 1'!$B$32:$E$223,4,0),\"\")","v":11},{"$f":"IFERROR(VLOOKUP($B178,'Partie 2'!$B$32:$D$223,2,0),\"\")","v":10},{"$f":"IFERROR(VLOOKUP($B178,'Partie 2'!$B$32:$E$223,4,0),\"\")","v":13},{"$f":"IFERROR(VLOOKUP($B178,'Partie 3'!$B$32:$D$223,2,0),\"\")","v":2},{"$f":"IFERROR(VLOOKUP($B178,'Partie 3'!$B$32:$E$223,4,0),\"\")","v":13},{"$f":"IFERROR(VLOOKUP($B178,'Partie 4'!$B$32:$D$223,2,0),\"\")","v":13},{"$f":"IFERROR(VLOOKUP($B178,'Partie 4'!$B$32:$E$223,4,0),\"\")","v":12},{"$f":"IFERROR(VLOOKUP($B178,'Partie 5'!$B$32:$D$223,2,0),\"\")","v":7},{"$f":"IFERROR(VLOOKUP($B178,'Partie 5'!$B$32:$E$223,4,0),\"\")","v":13},"P80",45,62,2,null,{"$f":"IFERROR(INDEX(Liste!$G$7:$G$198,MATCH(B178,Liste!$I$7:$I$198,0)),\"\")","v":"CE"},"P80",45,62,2]
[177,{"$f":"IFERROR(INDEX(Liste!$I$7:$I$198,MATCH(Recap!A179,Liste!$L$7:$L$198,0)),\"\")","v":"P81"},null,{"$f":"IFERROR(VLOOKUP($B179,'Partie 1'!$B$32:$D$223,2,0),\"\")","v":13},{"$f":"IFERROR(VLOOKUP($B179,'Partie 1'!$B$32:$E$223,4,0),\"\")","v":12},{"$f":"IFERROR(VLOOKUP($B179,'Partie 2'!$B$32:$D$223,2,0),\"\")","v":7},{"$f":"IFERROR(VLOOKUP($B179,'Partie 2'!$B$32:$E$223,4,0),\"\")","v":13},{"$f":"IFERROR(VLOOKUP($B179,'Partie 3'!$B$32:$D$223,2,0),\"\")","v":4},{"$f":"IFERROR(VLOOKUP($B179,'Partie 3'!$B$32:$E$223,4,0),\"\")","v":13},{"$f":"IFERROR(VLOOKUP($B179,'Partie 4'!$B$32:$D$223,2,0),\"\")","v":2},{"$f":"IFERROR(VLOOKUP($B179,'Partie 4'!$B$32:$E$223,4,0),\"\")","v":13},{"$f":"IFERROR(VLOOKUP($B179,'Partie 5'!$B$32:$D$223,2,0),\"\")","v":13},{"$f":"IFERROR(VLOOKUP($B179,'Partie 5'!$B$32:$E$223,4,0),\"\")","v":7},"P81",39,58,2,null,{"$f":"IFERROR(INDEX(Liste!$G$7:$G$198,MATCH(B179,Liste!$I$7:$I$198,0)),\"\")","v":"CE"},"P81",39,58,2]
[178,{"$f":"IFERROR(INDEX(Liste!$I$7:$I$198,MATCH(Recap!A180,Liste!$L$7:$L$198,0)),\"\")","v":"P82"},null,{"$f":"IFERROR(VLOOKUP($B180,'Partie 1'!$B$32:$D$223,2,0),\"\")","v":12},{"$f":"IFERROR(VLOOKUP($B180,'Partie 1'!$B$32:$E$223,4,0),\"\")","v":13},{"$f":"IFERROR(VLOOKUP($B180,'Partie 2'!$B$32:$D$223,2,0),\"\")","v":7},{"$f":"IFERROR(VLOOKUP($B180,'Partie 2'!$B$32:$E$223,4,0),\"\")","v":13},{"$f":"IFERROR(VLOOKUP($B180,'Partie 3'!$B$32:$D$223,2,0),\"\")","v":13},{"$f":"IFERROR(VLOOKUP($B180,'Partie 3'!$B$32:$E$223,4,0),\"\")","v":9},{"$f":"IFERROR(VLOOKUP($B180,'Partie 4'!$B$32:$D$223,2,0),\"\")","v":11},{"$f":"IFERROR(VLOOKUP($B180,'Partie 4'!$B$32:$E$223,4,0),\"\")","v":13},{"$f":"IFERROR(VLOOKUP($B180,'Partie 5'!$B$32:$D$223,2,0),\"\")","v":13},{"$f":"IFERROR(VLOOKUP($B180,'Partie 5'!$B$32:$E$223,4,0),\"\")","v":10},"P82",56,58,2,null,{"$f":"IFERROR(INDEX(Liste!$G$7:$G$198,MATCH(B180,Liste!$I$7:$I$198,0)),\"\")","v":"CE"},"P82",56,58,2]
[179,{"$f":"IFERROR(INDEX(Liste!$I$7:$I$198,MATCH(Recap!A181,Liste!$L$7:$L$198,0)),\"\")","v":"P83"},null,{"$f":"IFERROR(VLOOKUP($B181,'Partie 1'!$B$32:$D$223,2,0),\"\")","v":13},{"$f":"IFERROR(VLOOKUP($B181,'Partie 1'!$B$32:$E$223,4,0),\"\")","v":2},{"$f":"IFERROR(VLOOKUP($B181,'Partie 2'!$B$32:$D$223,2,0),\"\")","v":13},{"$f":"IFERROR(VLOOKUP($B181,'Partie 2'!$B$32:$E$223,4,0),\"\")","v":7},{"$f":"IFERROR(VLOOKUP($B181,'Partie 3'!$B$32:$D$223,2,0),\"\")","v":13},{"$f":"IFERROR(VLOOKUP($B181,'Partie 3'!$B$32:$E$223,4,0),\"\")","v":6},{"$f":"IFERROR(VLOOKUP($B181,'Partie 4'!$B$32:$D$223,2,0),\"\")","v":13},{"$f":"IFERROR(VLOOKUP($B181,'Partie 4'!$B$32:$E$223,4,0),\"\")","v":6},{"$f":"IFERROR(VLOOKUP($B181,'Partie 5'!$B$32:$D$223,2,0),\"\")","v":6},{"$f":"IFERROR(VLOOKUP($B181,'Partie 5'!$B$32:$E$223,4,0),\"\")","v":13},"P83",58,34,4,null,{"$f":"IFERROR(INDEX(Liste!$G$7:$G$198,MATCH(B181,Liste!$I$7:$I$198,0)),\"\")","v":"CE"},"P83",58,34,4]
[180,{"$f":"IFERROR(INDEX(Liste!$I$7:$I$198,MATCH(Recap!A182,Liste!$L$7:$L$198,0)),\"\")","v":"P84"},null,{"$f":"IFERROR(VLOOKUP($B182,'Partie 1'!$B$32:$D$223,2,0),\"\")","v":2},{"$f":"IFERROR(VLOOKUP($B182,'Partie 1'!$B$32:$E$223,4,0),\"\")","v":13},{"$f":"IFERROR(VLOOKUP($B182,'Partie 2'!$B$32:$D$223,2,0),\"\")","v":13},{"$f":"IFERROR(VLOOKUP($B182,'Partie 2'!$B$32:$E$223,4,0),\"\")","v":7},{"$f":"IFERROR(VLOOKUP($B182,'Partie 3'!$B$32:$D$223,2,0),\"\")","v":13},{"$f":"IFERROR(VLOOKUP($B182,'Partie 3'!$B$32:$E$223,4,0),\"\")","v":9},{"$f":"IFERROR(VLOOKUP($B182,'Partie 4'!$B$32:$D$223,2,0),\"\")","v":13},{"$f":"IFERROR(VLOOKUP($B182,'Partie 4'!$B$32:$E$223,4,0),\"\")","v":6},{"$f":"IFERROR(VLOOKUP($B182,'Partie 5'!$B$32:$D$223,2,0),\"\")","v":6},{"$f":"IFERROR(VLOOKUP($B182,'Partie 5'!$B$32:$E$223,4,0),\"\")","v":13},"P84",47,48,3,null,{"$f":"IFERROR(INDEX(Liste!$G$7:$G$198,MATCH(B182,Liste!$I$7:$I$198,0)),\"\")","v":"CE"},"P84",47,48,3]
[181,{"$f":"IFERROR(INDEX(Liste!$I$7:$I$198,MATCH(Recap!A183,Liste!$L$7:$L$198,0)),\"\")","v":"P85"},null,{"$f":"IFERROR(VLOOKUP($B183,'Partie 1'!$B$32:$D$223,2,0),\"\")","v":4},{"$f":"IFERROR(VLOOKUP($B183,'Partie 1'!$B$32:$E$223,4,0),\"\")","v":13},{"$f":"IFERROR(VLOOKUP($B183,'Partie 2'!$B$32:$D$223,2,0),\"\")","v":5},{"$f":"IFERROR(VLOOKUP($B183,'Partie 2'!$B$32:$E$223,4,0),\"\")","v":13},{"$f":"IFERROR(VLOOKUP($B183,'Partie 3'!$B$32:$D$223,2,0),\"\")","v":9},{"$f":"IFERROR(VLOOKUP($B183,'Partie 3'!$B$32:$E$223,4,0),\"\")","v":13},{"$f":"IFERROR(VLOOKUP($B183,'Partie 4'!$B$32:$D$223,2,0),\"\")","v":11},{"$f":"IFERROR(VLOOKUP($B183,'Partie 4'!$B$32:$E$223,4,0),\"\")","v":13},{"$f":"IFERROR(VLOOKUP($B183,'Partie 5'!$B$32:$D$223,2,0),\"\")","v":13},{"$f":"IFERROR(VLOOKUP($B183,'Partie 5'!$B$32:$E$223,4,0),\"\")","v":11},"P85",42,63,1,null,{"$f":"IFERROR(INDEX(Liste!$G$7:$G$198,MATCH(B183,Liste!$I$7:$I$198,0)),\"\")","v":"CE"},"P85",42,63,1]
[182,{"$f":"IFERROR(INDEX(Liste!$I$7:$I$198,MATCH(Recap!A184,Liste!$L$7:$L$198,0)),\"\")","v":"P86"},null,{"$f":"IFERROR(VLOOKUP($B184,'Partie 1'!$B$32:$D$223,2,0),\"\")","v":13},{"$f":"IFERROR(VLOOKUP($B184,'Partie 1'!$B$32:$E$223,4,0),\"\")","v":4},{"$f":"IFERROR(VLOOKUP($B184,'Partie 2'!$B$32:$D$223,2,0),\"\")","v":5},{"$f":"IFERROR(VLOOKUP($B184,'Partie 2'!$B$32:$E$223,4,0),\"\")","v":13},{"$f":"IFERROR(VLOOKUP($B184,'Partie 3'!$B$32:$D$223,2,0),\"\")","v":13},{"$f":"IFERROR(VLOOKUP($B184,'Partie 3'!$B$32:$E$223,4,0),\"\")","v":4},{"$f":"IFERROR(VLOOKUP($B184,'Partie 4'!$B$32:$D$223,2,0),\"\")","v":2},{"$f":"IFERROR(VLOOKUP($B184,'Partie 4'!$B$32:$E$223,4,0),\"\")","v":13},{"$f":"IFERROR(VLOOKUP($B184,'Partie 5'!$B$32:$D$223,2,0),\"\")","v":12},{"$f":"IFERROR(VLOOKUP($B184,'Partie 5'!$B$32:$E$223,4,0),\"\")","v":11},"P86",45,45,2,null,{"$f":"IFERROR(INDEX(Liste!$G$7:$G$198,MATCH(B184,Liste!$I$7:$I$198,0)),\"\")","v":"CE"},"P86",45,45,2]
[183,{"$f":"IFERROR(INDEX(Liste!$I$7:$I$198,MATCH(Recap!A185,Liste!$L$7:$L$198,0)),\"\")","v":"P87"},null,{"$f":"IFERROR(VLOOKUP($B185,'Partie 1'!$B$32:$D$223,2,0),\"\")","v":10},{"$f":"IFERROR(VLOOKUP($B185,'Partie 1'!$B$32:$E$223,4,0),\"\")","v":13},{"$f":"IFERROR(VLOOKUP($B185,'Partie 2'!$B$32:$D$223,2,0),\"\")","v":13},{"$f":"IFERROR(VLOOKUP($B185,'Partie 2'!$B$32:$E$223,4,0),\"\")","v":5},{"$f":"IFERROR(VLOOKUP($B185,'Partie 3'!$B$32:$D$223,2,0),\"\")","v":9},{"$f":"IFERROR(VLOOKUP($B185,'Partie 3'!$B$32:$E$223,4,0),\"\")","v":13},{"$f":"IFERROR(VLOOKUP($B185,'Partie 4'!$B$32:$D$223,2,0),\"\")","v":10},{"$f":"IFERROR(VLOOKUP($B185,'Partie 4'!$B$32:$E$223,4,0),\"\")","v":13},{"$f":"IFERROR(VLOOKUP($B185,'Partie 5'!$B$32:$D$223,2,0),\"\")","v":13},{"$f":"IFERROR(VLOOKUP($B185,'Partie 5'!$B$32:$E$223,4,0),\"\")","v":2},"P87",55,46,2,null,{"$f":"IFERROR(INDEX(Liste!$G$7:$G$198,MATCH(B185,Liste!$I$7:$I$198,0)),\"\")","v":"CE"},"P87",55,46,2]
[184,{"$f":"IFERROR(INDEX(Liste!$I$7:$I$198,MATCH(Recap!A186,Liste!$L$7:$L$198,0)),\"\")","v":"P88"},null,{"$f":"IFERROR(VLOOKUP($B186,'Partie 1'!$B$32:$D$223,2,0),\"\")","v":13},{"$f":"IFERROR(VLOOKUP($B186,'Partie 1'!$B$32:$E$223,4,0),\"\")","v":10},{"$f":"IFERROR(VLOOKUP($B186,'Partie 2'!$B$32:$D$223,2,0),\"\")","v":13},{"$f":"IFERROR(VLOOKUP($B186,'Partie 2'!$B$32:$E$223,4,0),\"\")","v":5},{"$f":"IFERROR(VLOOKUP($B186,'Partie 3'!$B$32:$D$223,2,0),\"\")","v":6},{"$f":"IFERROR(VLOOKUP($B186,'Partie 3'!$B$32:$E$223,4,0),\"\")","v":13},{"$f":"IFERROR(VLOOKUP($B186,'Partie 4'!$B$32:$D$223,2,0),\"\")","v":5},{"$f":"IFERROR(VLOOKUP($B186,'Partie 4'!$B$32:$E$223,4,0),\"\")","v":13},{"$f":"IFERROR(VLOOKUP($B186,'Partie 5'!$B$32:$D$223,2,0),\"\")","v":13},{"$f":"IFERROR(VLOOKUP($B186,'Partie 5'!$B$32:$E$223,4,0),\"\")","v":9},"P88",50,50,3,null,{"$f":"IFERROR(INDEX(Liste!$G$7:$G$198,MATCH(B186,Liste!$I$7:$I$198,0)),\"\")","v":"CE"},"P88",50,50,3]
[185,{"$f":"IFERROR(INDEX(Liste!$I$7:$I$198,MATCH(Recap!A187,Liste!$L$7:$L$198,0)),\"\")","v":"P89"},null,{"$f":"IFERROR(VLOOKUP($B187,'Partie 1'!$B$32:$D$223,2,0),\"\")","v":13},{"$f":"IFERROR(VLOOKUP($B187,'Partie 1'!$B$32:$E$223,4,0),\"\")","v":7},{"$f":"IFERROR(VLOOKUP($B187,'Partie 2'!$B$32:$D$223,2,0),\"\")","v":13},{"$f":"IFERROR(VLOOKUP($B187,'Partie 2'!$B$32:$E$223,4,0),\"\")","v":9},{"$f":"IFERROR(VLOOKUP($B187,'Partie 3'!$B$32:$D$223,2,0),\"\")","v":13},{"$f":"IFERROR(VLOOKUP($B187,'Partie 3'!$B$32:$E$223,4,0),\"\")","v":6},{"$f":"IFERROR(VLOOKUP($B187,'Partie 4'!$B$32:$D$223,2,0),\"\")","v":6},{"$f":"IFERROR(VLOOKUP($B187,'Partie 4'!$B$32:$E$223,4,0),\"\")","v":13},{"$f":"IFERROR(VLOOKUP($B187,'Partie 5'!$B$32:$D$223,2,0),\"\")","v":4},{"$f":"IFERROR(VLOOKUP($B187,'Partie 5'!$B$32:$E$223,4,0),\"\")","v":13},"P89",49,48,3,null,{"$f":"IFERROR(INDEX(Liste!$G$7:$G$198,MATCH(B187,Liste!$I$7:$I$198,0)),\"\")","v":"CE"},"P89",49,48,3]
[186,{"$f":"IFERROR(INDEX(Liste!$I$7:$I$198,MATCH(Recap!A188,Liste!$L$7:$L$198,0)),\"\")","v":"P90"},null,{"$f":"IFERROR(VLOOKUP($B188,'Partie 1'!$B$32:$D$223,2,0),\"\")","v":7},{"$f":"IFERROR(VLOOKUP($B188,'Partie 1'!$B$32:$E$223,4,0),\"\")","v":13},{"$f":"IFERROR(VLOOKUP($B188,'Partie 2'!$B$32:$D$223,2,0),\"\")","v":13},{"$f":"IFERROR(VLOOKUP($B188,'Partie 2'!$B$32:$E$223,4,0),\"\")","v":9},{"$f":"IFERROR(VLOOKUP($B188,'Partie 3'!$B$32:$D$223,2,0),\"\")","v":11},{"$f":"IFERROR(VLOOKUP($B188,'Partie 3'!$B$32:$E$223,4,0),\"\")","v":13},{"$f":"IFERROR(VLOOKUP($B188,'Partie 4'!$B$32:$D$223,2,0),\"\")","v":13},{"$f":"IFERROR(VLOOKUP($B188,'Partie 4'!$B$32:$E$223,4,0),\"\")","v":10},{"$f":"IFERROR(VLOOKUP($B188,'Partie 5'!$B$32:$D$223,2,0),\"\")","v":13},{"$f":"IFERROR(VLOOKUP($B188,'Partie 5'!$B$32:$E$223,4,0),\"\")","v":2},"P90",57,47,3,null,{"$f":"IFERROR(INDEX(Liste!$G$7:$G$198,MATCH(B188,Liste!$I$7:$I$198,0)),\"\")","v":"CE"},"P90",57,47,3]
[187,{"$f":"IFERROR(INDEX(Liste!$I$7:$I$198,MATCH(Recap!A189,Liste!$L$7:$L$198,0)),\"\")","v":"P91"},null,{"$f":"IFERROR(VLOOKUP($B189,'Partie 1'!$B$32:$D$223,2,0),\"\")","v":13},{"$f":"IFERROR(VLOOKUP($B189,'Partie 1'!$B$32:$E$223,4,0),\"\")","v":5},{"$f":"IFERROR(VLOOKUP($B189,'Partie 2'!$B$32:$D$223,2,0),\"\")","v":9},{"$f":"IFERROR(VLOOKUP($B189,'Partie 2'!$B$32:$E$223,4,0),\"\")","v":13},{"$f":"IFERROR(VLOOKUP($B189,'Partie 3'!$B$32:$D$223,2,0),\"\")","v":10},{"$f":"IFERROR(VLOOKUP($B189,'Partie 3'!$B$32:$E$223,4,0),\"\")","v":13},{"$f":"IFERROR(VLOOKUP($B189,'Partie 4'!$B$32:$D$223,2,0),\"\")","v":13},{"$f":"IFERROR(VLOOKUP($B189,'Partie 4'!$B$32:$E$223,4,0),\"\")","v":2},{"$f":"IFERROR(VLOOKUP($B189,'Partie 5'!$B$32:$D$223,2,0),\"\")","v":13},{"$f":"IFERROR(VLOOKUP($B189,'Partie 5'!$B$32:$E$223,4,0),\"\")","v":7},"P91",58,40,3,null,{"$f":"IFERROR(INDEX(Liste!$G$7:$G$198,MATCH(B189,Liste!$I$7:$I$198,0)),\"\")","v":"CE"},"P91",58,40,3]
[188,{"$f":"IFERROR(INDEX(Liste!$I$7:$I$198,MATCH(Recap!A190,Liste!$L$7:$L$198,0)),\"\")","v":"P92"},null,{"$f":"IFERROR(VLOOKUP($B190,'Partie 1'!$B$32:$D$223,2,0),\"\")","v":5},{"$f":"IFERROR(VLOOKUP($B190,'Partie 1'!$B$32:$E$223,4,0),\"\")","v":13},{"$f":"IFERROR(VLOOKUP($B190,'Partie 2'!$B$32:$D$223,2,0),\"\")","v":9},{"$f":"IFERROR(VLOOKUP($B190,'Partie 2'!$B$32:$E$223,4,0),\"\")","v":13},{"$f":"IFERROR(VLOOKUP($B190,'Partie 3'!$B$32:$D$223,2,0),\"\")","v":11},{"$f":"IFERROR(VLOOKUP($B190,'Partie 3'!$B$32:$E$223,4,0),\"\")","v":13},{"$f":"IFERROR(VLOOKUP($B190,'Partie 4'!$B$32:$D$223,2,0),\"\")","v":13},{"$f":"IFERROR(VLOOKUP($B190,'Partie 4'!$B$32:$E$223,4,0),\"\")","v":11},{"$f":"IFERROR(VLOOKUP($B190,'Partie 5'!$B$32:$D$223,2,0),\"\")","v":13},{"$f":"IFERROR(VLOOKUP($B190,'Partie 5'!$B$32:$E$223,4,0),\"\")","v":11},"P92",51,61,2,null,{"$f":"IFERROR(INDEX(Liste!$G$7:$G$198,MATCH(B190,Liste!$I$7:$I$198,0)),\"\")","v":"CE"},"P92",51,61,2]
[189,{"$f":"IFERROR(INDEX(Liste!$I$7:$I$198,MATCH(Recap!A191,Liste!$L$7:$L$198,0)),\"\")","v":"P93"},null,{"$f":"IFERROR(VLOOKUP($B191,'Partie 1'!$B$32:$D$223,2,0),\"\")","v":9},{"$f":"IFERROR(VLOOKUP($B191,'Partie 1'!$B$32:$E$223,4,0),\"\")","v":13},{"$f":"IFERROR(VLOOKUP($B191,'Partie 2'!$B$32:$D$223,2,0),\"\")","v":11},{"$f":"IFERROR(VLOOKUP($B191,'Partie 2'!$B$32:$E$223,4,0),\"\")","v":13},{"$f":"IFERROR(VLOOKUP($B191,'Partie 3'!$B$32:$D$223,2,0),\"\")","v":13},{"$f":"IFERROR(VLOOKUP($B191,'Partie 3'!$B$32:$E$223,4,0),\"\")","v":11},{"$f":"IFERROR(VLOOKUP($B191,'Partie 4'!$B$32:$D$223,2,0),\"\")","v":13},{"$f":"IFERROR(VLOOKUP($B191,'Partie 4'!$B$32:$E$223,4,0),\"\")","v":11},{"$f":"IFERROR(VLOOKUP($B191,'Partie 5'!$B$32:$D$223,2,0),\"\")","v":6},{"$f":"IFERROR(VLOOKUP($B191,'Partie 5'!$B$32:$E$223,4,0),\"\")","v":13},"P93",52,61,2,null,{"$f":"IFERROR(INDEX(Liste!$G$7:$G$198,MATCH(B191,Liste!$I$7:$I$198,0)),\"\")","v":"CE"},"P93",52,61,2]
[190,{"$f":"IFERROR(INDEX(Liste!$I$7:$I$198,MATCH(Recap!A192,Liste!$L$7:$L$198,0)),\"\")","v":"P94"},null,{"$f":"IFERROR(VLOOKUP($B192,'Partie 1'!$B$32:$D$223,2,0),\"\")","v":13},{"$f":"IFERROR(VLOOKUP($B192,'Partie 1'!$B$32:$E$223,4,0),\"\")","v":9},{"$f":"IFERROR(VLOOKUP($B192,'Partie 2'!$B$32:$D$223,2,0),\"\")","v":11},{"$f":"IFERROR(VLOOKUP($B192,'Partie 2'!$B$32:$E$223,4,0),\"\")","v":13},{"$f":"IFERROR(VLOOKUP($B192,'Partie 3'!$B$32:$D$223,2,0),\"\")","v":13},{"$f":"IFERROR(VLOOKUP($B192,'Partie 3'!$B$32:$E$223,4,0),\"\")","v":10},{"$f":"IFERROR(VLOOKUP($B192,'Partie 4'!$B$32:$D$223,2,0),\"\")","v":13},{"$f":"IFERROR(VLOOKUP($B192,'Partie 4'!$B$32:$E$223,4,0),\"\")","v":2},{"$f":"IFERROR(VLOOKUP($B192,'Partie 5'!$B$32:$D$223,2,0),\"\")","v":6},{"$f":"IFERROR(VLOOKUP($B192,'Partie 5'!$B$32:$E$223,4,0),\"\")","v":13},"P94",56,47,3,null,{"$f":"IFERROR(INDEX(Liste!$G$7:$G$198,MATCH(B192,Liste!$I$7:$I$198,0)),\"\")","v":"CE"},"P94",56,47,3]
[191,{"$f":"IFERROR(INDEX(Liste!$I$7:$I$198,MATCH(Recap!A193,Liste!$L$7:$L$198,0)),\"\")","v":"P95"},null,{"$f":"IFERROR(VLOOKUP($B193,'Partie 1'!$B$32:$D$223,2,0),\"\")","v":13},{"$f":"IFERROR(VLOOKUP($B193,'Partie 1'!$B$32:$E$223,4,0),\"\")","v":11},{"$f":"IFERROR(VLOOKUP($B193,'Partie 2'!$B$32:$D$223,2,0),\"\")","v":13},{"$f":"IFERROR(VLOOKUP($B193,'Partie 2'!$B$32:$E$223,4,0),\"\")","v":11},{"$f":"IFERROR(VLOOKUP($B193,'Partie 3'!$B$32:$D$223,2,0),\"\")","v":6},{"$f":"IFERROR(VLOOKUP($B193,'Partie 3'!$B$32:$E$223,4,0),\"\")","v":13},{"$f":"IFERROR(VLOOKUP($B193,'Partie 4'!$B$32:$D$223,2,0),\"\")","v":13},{"$f":"IFERROR(VLOOKUP($B193,'Partie 4'!$B$32:$E$223,4,0),\"\")","v":5},{"$f":"IFERROR(VLOOKUP($B193,'Partie 5'!$B$32:$D$223,2,0),\"\")","v":6},{"$f":"IFERROR(VLOOKUP($B193,'Partie 5'!$B$32:$E$223,4,0),\"\")","v":13},"P95",51,53,3,null,{"$f":"IFERROR(INDEX(Liste!$G$7:$G$198,MATCH(B193,Liste!$I$7:$I$198,0)),\"\")","v":"CE"},"P95",51,53,3]
[192,{"$f":"IFERROR(INDEX(Liste!$I$7:$I$198,MATCH(Recap!A194,Liste!$L$7:$L$198,0)),\"\")","v":"P96"},null,{"$f":"IFERROR(VLOOKUP($B194,'Partie 1'!$B$32:$D$223,2,0),\"\")","v":11},{"$f":"IFERROR(VLOOKUP($B194,'Partie 1'!$B$32:$E$223,4,0),\"\")","v":13},{"$f":"IFERROR(VLOOKUP($B194,'Partie 2'!$B$32:$D$223,2,0),\"\")","v":13},{"$f":"IFERROR(VLOOKUP($B194,'Partie 2'!$B$32:$E$223,4,0),\"\")","v":11},{"$f":"IFERROR(VLOOKUP($B194,'Partie 3'!$B$32:$D$223,2,0),\"\")","v":13},{"$f":"IFERROR(VLOOKUP($B194,'Partie 3'!$B$32:$E$223,4,0),\"\")","v":11},{"$f":"IFERROR(VLOOKUP($B194,'Partie 4'!$B$32:$D$223,2,0),\"\")","v":6},{"$f":"IFERROR(VLOOKUP($B194,'Partie 4'!$B$32:$E$223,4,0),\"\")","v":13},{"$f":"IFERROR(VLOOKUP($B194,'Partie 5'!$B$32:$D$223,2,0),\"\")","v":13},{"$f":"IFERROR(VLOOKUP($B194,'Partie 5'!$B$32:$E$223,4,0),\"\")","v":5},"P96",56,53,3,null,{"$f":"IFERROR(INDEX(Liste!$G$7:$G$198,MATCH(B194,Liste!$I$7:$I$198,0)),\"\")","v":"CE"},"P96",56,53,3]

{"sheet":"Classement Joueurs","index":7,"n_rows":194,"n_cols":37,"rows_kept":194,"cut":false,"hidden":false,"merged":[[192,30,193,30],[182,30,183,30],[184,30,185,30],[186,30,187,30],[188,30,189,30],[190,30,191,30],[172,30,173,30],[174,30,175,30],[176,30,177,30],[178,30,179,30],[180,30,181,30],[162,30,163,30],[164,30,165,30],[166,30,167,30],[168,30,169,30],[170,30,171,30],[152,30,153,30],[154,30,155,30],[156,30,157,30],[158,30,159,30],[160,30,161,30],[142,30,143,30],[144,30,145,30],[146,30,147,30],[148,30,149,30],[150,30,151,30],[132,30,133,30],[134,30,135,30],[136,30,137,30],[138,30,139,30],[140,30,141,30],[122,30,123,30],[124,30,125,30],[126,30,127,30],[128,30,129,30],[130,30,131,30],[112,30,113,30],[114,30,115,30],[116,30,117,30],[118,30,119,30],[120,30,121,30],[102,30,103,30],[104,30,105,30],[106,30,107,30],[108,30,109,30],[110,30,111,30],[92,30,93,30],[94,30,95,30],[96,30,97,30],[98,30,99,30],[100,30,101,30],[82,30,83,30],[84,30,85,30],[86,30,87,30],[88,30,89,30],[90,30,91,30],[72,30,73,30],[74,30,75,30],[76,30,77,30],[78,30,79,30],[80,30,81,30],[62,30,63,30],[64,30,65,30],[66,30,67,30],[68,30,69,30],[70,30,71,30],[52,30,53,30],[54,30,55,30],[56,30,57,30],[58,30,59,30],[60,30,61,30],[42,30,43,30],[44,30,45,30],[46,30,47,30],[48,30,49,30],[50,30,51,30],[32,30,33,30],[34,30,35,30],[36,30,37,30],[38,30,39,30],[40,30,41,30],[22,30,23,30],[24,30,25,30],[26,30,27,30],[28,30,29,30],[30,30,31,30],[12,30,13,30],[14,30,15,30],[16,30,17,30],[18,30,19,30],[20,30,21,30],[2,30,3,30],[4,30,5,30],[6,30,7,30],[8,30,9,30],[10,30,11,30],[0,0,0,4],[0,32,0,36],[0,8,0,10],[0,18,0,20],[0,27,1,27]]}
["Classement du tournoi",null,null,null,null,null,null,null,"Classement joueurs 1",null,null,"CRITERE 2","CRITERE 1","CRITERE 3",null,null,null,null,"Classement joueurs\nGoal average",null,null,"CRITERE 3","CRITERE 1","CRITERE 4",null,null,"CRITERE 2","Gagné * 10 000 + (goal + val absolue goal mini) * 100 +  points+ (100-concédés)/100",null,null,null,null,"CLASSEMENT CLUBS"]
["Prénoms/Noms","Points","Parties Gagnées","Concédés","Ordre","Gagné * 100 + points+ (100-concédés)/100","Rang","Rang sans exaequo","Club","Classt","Prénoms/Noms","Points","Parties Gagnées","Points concédés","N° ",null,"GOAL AVERAGE",null,"Club","Classt","Prénoms/Noms","Points","Parties Gagnées","Points concédés","N° ",null,"GOAL AVERAGE",null,"Rang","Rang sans exaequo",null,null,"ST","A","CE","C","E"]
[{"$f":" Recap!B3","v":"T1"},{"$f":"Recap!O3","v":65},{"$f":"Recap!Q3","v":5},{"$f":"Recap!P3","v":34},{"$f":"ROW()-2","v":1},{"$f":"100*C3+B3+(100-D3)/100","v":565.66},{"$f":"RANK(F3,$F$3:$F$194,0)","v":3},{"$f":"RANK(G3,$G$3:$G$194,1)+COUNTIF(G$3:G3,G3)-1","v":3},{"$f":"IFERROR(INDEX(Liste!$G$7:$G$198,MATCH(K3,Liste!$I$7:$I$198,0)),\"\")","v":"ST"},{"$f":"INDEX(G:G,MATCH(ROW()-2,H:H,0))","v":1},{"$f":"INDEX(A:A,MATCH(ROW()-2,H:H,0))","v":"T68"},{"$f":"INDEX(B:B,MATCH(ROW()-2,H:H,0))","v":65},{"$f":"INDEX(C:C,MATCH(K3,A:A,0))","v":5},{"$f":"INDEX(D:D,MATCH(ROW()-2,H:H,0))","v":32},{"$f":"INDEX(E:E,MATCH(ROW()-2,H:H,0))","v":68},null,{"$f":"IF(SUM(M3:N3)=0,-1000,L3-N3)","v":33},null,{"$f":"INDEX(I:I,MATCH(U3,K:K,0))","v":"ST"},{"$f":"INDEX(AC:AC,MATCH(ROW()-2,AD:AD,0))","v":1},{"$f":"INDEX(K:K,MATCH(ROW()-2,$AD:$AD,0))","v":"T68"},{"$f":"INDEX(L:L,MATCH(ROW()-2,$AD:$AD,0))","v":65},{"$f":"INDEX(M:M,MATCH(ROW()-2,$AD:$AD,0))","v":5},{"$f":"INDEX(N:N,MATCH(ROW()-2,$AD:$AD,0))","v":32},{"$f":"INDEX(O:O,MATCH(ROW()-2,$AD:$AD,0))","v":68},null,{"$f":"V3-X3","v":33},{"$f":"$M3*10000+($Q3+ABS(MIN($Q:$Q)))*100+$L3+(100-$N3)/100","v":56965.68},{"$f":"RANK(AB3,$AB$3:$AB$194,0)","v":1},{"$f":"RANK(AC3,$AC$3:$AC$194,1)+COUNTIF(AC$3:AC3,AC3)-1","v":1},1,{"$f":"S3&COUNTIF(S$3:S3,S3)","v":"ST1"},{"$f":"IFERROR(INDEX($T$3:$T$194,MATCH(AG$2&ROW()-2,$AF$3:$AF$194,0)),\"\")","v":1},5,7,11,21]
[{"$f":" Recap!B4","v":"T2"},{"$f":"Recap!O4","v":61},{"$f":"Recap!Q4","v":3},{"$f":"Recap!P4","v":43},2,{"$f":"100*C4+B4+(100-D4)/100","v":361.57},{"$f":"RANK(F4,$F$3:$F$194,0)","v":39},{"$f":"RANK(G4,$G$3:$G$194,1)+COUNTIF(G$3:G4,G4)-1","v":39},{"$f":"IFERROR(INDEX(Liste!$G$7:$G$198,MATCH(K4,Liste!$I$7:$I$198,0)),\"\")","v":"ST"},1,"P68",65,{"$f":"INDEX(C:C,MATCH(K4,A:A,0))","v":5},32,164,null,33,null,"ST",{"$f":"INDEX(AC:AC,MATCH(ROW()-2,AD:AD,0))","v":1},"P68",65,5,32,164,null,{"$f":"V4-X4","v":33},{"$f":"$M4*10000+($Q4+ABS(MIN($Q:$Q)))*100+$L4+(100-$N4)/100","v":56965.68},{"$f":"RANK(AB4,$AB$3:$AB$194,0)","v":1},{"$f":"RANK(AC4,$AC$3:$AC$194,1)+COUNTIF(AC$3:AC4,AC4)-1","v":2},null,{"$f":"S4&COUNTIF(S$3:S4,S4)","v":"ST2"},1,5,7,11,21]
[{"$f":" Recap!B5","v":"T3"},{"$f":"Recap!O5","v":57},{"$f":"Recap!Q5","v":3},{"$f":"Recap!P5","v":47},3,357.53,47,{"$f":"RANK(G5,$G$3:$G$194,1)+COUNTIF(G$3:G5,G5)-1","v":47},{"$f":"IFERROR(INDEX(Liste!$G$7:$G$198,MATCH(K5,Liste!$I$7:$I$198,0)),\"\")","v":"ST"},3,"T1",65,5,34,1,null,31,null,"ST",3,"T1",65,5,34,1,null,31,56765.66,3,{"$f":"RANK(AC5,$AC$3:$AC$194,1)+COUNTIF(AC$3:AC5,AC5)-1","v":3},2,{"$f":"S5&COUNTIF(S$3:S5,S5)","v":"ST3"}]
[{"$f":" Recap!B6","v":"T4"},{"$f":"Recap!O6","v":62},{"$f":"Recap!Q6","v":4},{"$f":"Recap!P6","v":43},4,462.57,9,{"$f":"RANK(G6,$G$3:$G$194,1)+COUNTIF(G$3:G6,G6)-1","v":9},{"$f":"IFERROR(INDEX(Liste!$G$7:$G$198,MATCH(K6,Liste!$I$7:$I$198,0)),\"\")","v":"ST"},3,"P1",65,5,34,97,null,31,null,"ST",3,"P1",65,5,34,97,null,31,56765.66,3,{"$f":"RANK(AC6,$AC$3:$AC$194,1)+COUNTIF(AC$3:AC6,AC6)-1","v":4},null,{"$f":"S6&COUNTIF(S$3:S6,S6)","v":"ST4"},{"$f":"IFERROR(INDEX($T$3:$T$194,MATCH(AG$2&ROW()-2,$AF$3:$AF$194,0)),\"\")","v":3},{"$f":"IFERROR(INDEX($T$3:$T$194,MATCH(AH$2&ROW()-2,$AF$3:$AF$194,0)),\"\")","v":9},{"$f":"IFERROR(INDEX($T$3:$T$194,MATCH(AI$2&ROW()-2,$AF$3:$AF$194,0)),\"\")","v":11},{"$f":"IFERROR(INDEX($T$3:$T$194,MATCH(AJ$2&ROW()-2,$AF$3:$AF$194,0)),\"\")","v":43},{"$f":"IFERROR(INDEX($T$3:$T$194,MATCH(AK$2&ROW()-2,$AF$3:$AF$194,0)),\"\")","v":31}]
[{"$f":" Recap!B7","v":"T5"},{"$f":"Recap!O7","v":57},{"$f":"Recap!Q7","v":3},{"$f":"Recap!P7","v":49},5,357.51,53,{"$f":"RANK(G7,$G$3:$G$194,1)+COUNTIF(G$3:G7,G7)-1","v":53},{"$f":"IFERROR(INDEX(Liste!$G$7:$G$198,MATCH(K7,Liste!$I$7:$I$198,0)),\"\")","v":"A"},5,"T34",65,5,36,34,null,29,null,"A",5,"T34",65,5,36,34,null,29,56565.64,5,{"$f":"RANK(AC7,$AC$3:$AC$194,1)+COUNTIF(AC$3:AC7,AC7)-1","v":5},3,{"$f":"S7&COUNTIF(S$3:S7,S7)","v":"A1"},{"$f":"IFERROR(INDEX($T$3:$T$194,MATCH(AG$2&ROW()-2,$AF$3:$AF$194,0)),\"\")","v":17},{"$f":"IFERROR(INDEX($T$3:$T$194,MATCH(AH$2&ROW()-2,$AF$3:$AF$194,0)),\"\")","v":23},{"$f":"IFERROR(INDEX($T$3:$T$194,MATCH(AI$2&ROW()-2,$AF$3:$AF$194,0)),\"\")","v":11},{"$f":"IFERROR(INDEX($T$3:$T$194,MATCH(AJ$2&ROW()-2,$AF$3:$AF$194,0)),\"\")","v":61},{"$f":"IFERROR(INDEX($T$3:$T$194,MATCH(AK$2&ROW()-2,$AF$3:$AF$194,0)),\"\")","v":51}]
[{"$f":" Recap!B8","v":"T6"},{"$f":"Recap!O8","v":37},{"$f":"Recap!Q8","v":1},{"$f":"Recap!P8","v":56},6,137.44,181,{"$f":"RANK(G8,$G$3:$G$194,1)+COUNTIF(G$3:G8,G8)-1","v":181},{"$f":"IFERROR(INDEX(Liste!$G$7:$G$198,MATCH(K8,Liste!$I$7:$I$198,0)),\"\")","v":"A"},5,"P34",65,5,36,130,null,29,null,"A",5,"P34",65,5,36,130,null,29,56565.64,5,{"$f":"RANK(AC8,$AC$3:$AC$194,1)+COUNTIF(AC$3:AC8,AC8)-1","v":6},null,{"$f":"S8&COUNTIF(S$3:S8,S8)","v":"A2"}]
[{"$f":" Recap!B9","v":"T7"},{"$f":"Recap!O9","v":58},{"$f":"Recap!Q9","v":4},{"$f":"Recap!P9","v":47},7,458.53,27,{"$f":"RANK(G9,$G$3:$G$194,1)+COUNTIF(G$3:G9,G9)-1","v":27},{"$f":"IFERROR(INDEX(Liste!$G$7:$G$198,MATCH(K9,Liste!$I$7:$I$198,0)),\"\")","v":"CE"},7,"T72",62,4,34,72,null,28,null,"CE",7,"T72",62,4,34,72,null,28,46462.66,7,{"$f":"RANK(AC9,$AC$3:$AC$194,1)+COUNTIF(AC$3:AC9,AC9)-1","v":7},4,{"$f":"S9&COUNTIF(S$3:S9,S9)","v":"CE1"},{"$f":"IFERROR(INDEX($T$3:$T$194,MATCH(AG$2&ROW()-2,$AF$3:$AF$194,0)),\"\")","v":31},{"$f":"IFERROR(INDEX($T$3:$T$194,MATCH(AH$2&ROW()-2,$AF$3:$AF$194,0)),\"\")","v":25},{"$f":"IFERROR(INDEX($T$3:$T$194,MATCH(AI$2&ROW()-2,$AF$3:$AF$194,0)),\"\")","v":19},{"$f":"IFERROR(INDEX($T$3:$T$194,MATCH(AJ$2&ROW()-2,$AF$3:$AF$194,0)),\"\")","v":65},{"$f":"IFERROR(INDEX($T$3:$T$194,MATCH(AK$2&ROW()-2,$AF$3:$AF$194,0)),\"\")","v":63}]
[{"$f":" Recap!B10","v":"T8"},{"$f":"Recap!O10","v":55},{"$f":"Recap!Q10","v":3},{"$f":"Recap!P10","v":43},8,355.57,59,{"$f":"RANK(G10,$G$3:$G$194,1)+COUNTIF(G$3:G10,G10)-1","v":59},{"$f":"IFERROR(INDEX(Liste!$G$7:$G$198,MATCH(K10,Liste!$I$7:$I$198,0)),\"\")","v":"CE"},7,"P72",62,4,34,168,null,28,null,"CE",7,"P72",62,4,34,168,null,28,46462.66,7,{"$f":"RANK(AC10,$AC$3:$AC$194,1)+COUNTIF(AC$3:AC10,AC10)-1","v":8},null,{"$f":"S10&COUNTIF(S$3:S10,S10)","v":"CE2"},{"$f":"IFERROR(INDEX($T$3:$T$194,MATCH(AG$2&ROW()-2,$AF$3:$AF$194,0)),\"\")","v":31},{"$f":"IFERROR(INDEX($T$3:$T$194,MATCH(AH$2&ROW()-2,$AF$3:$AF$194,0)),\"\")","v":25},{"$f":"IFERROR(INDEX($T$3:$T$194,MATCH(AI$2&ROW()-2,$AF$3:$AF$194,0)),\"\")","v":19},{"$f":"IFERROR(INDEX($T$3:$T$194,MATCH(AJ$2&ROW()-2,$AF$3:$AF$194,0)),\"\")","v":65},{"$f":"IFERROR(INDEX($T$3:$T$194,MATCH(AK$2&ROW()-2,$AF$3:$AF$194,0)),\"\")","v":63}]
[{"$f":" Recap!B11","v":"T9"},{"$f":"Recap!O11","v":57},{"$f":"Recap!Q11","v":3},{"$f":"Recap!P11","v":48},9,357.52,51,{"$f":"RANK(G11,$G$3:$G$194,1)+COUNTIF(G$3:G11,G11)-1","v":51},{"$f":"IFERROR(INDEX(Liste!$G$7:$G$198,MATCH(K11,Liste!$I$7:$I$198,0)),\"\")","v":"ST"},9,"T4",62,4,43,4,null,19,null,"A",9,"T37",58,4,33,37,null,25,45562.57,17,{"$f":"RANK(AC11,$AC$3:$AC$194,1)+COUNTIF(AC$3:AC11,AC11)-1","v":17},5,{"$f":"S11&COUNTIF(S$3:S11,S11)","v":"A3"}]
[{"$f":" Recap!B12","v":"T10"},{"$f":"Recap!O12","v":55},{"$f":"Recap!Q12","v":3},{"$f":"Recap!P12","v":46},10,355.54,63,{"$f":"RANK(G12,$G$3:$G$194,1)+COUNTIF(G$3:G12,G12)-1","v":63},{"$f":"IFERROR(INDEX(Liste!$G$7:$G$198,MATCH(K12,Liste!$I$7:$I$198,0)),\"\")","v":"ST"},9,"P4",62,4,43,100,null,19,null,"A",9,"P37",58,4,33,133,null,25,45562.57,17,{"$f":"RANK(AC12,$AC$3:$AC$194,1)+COUNTIF(AC$3:AC12,AC12)-1","v":18},null,{"$f":"S12&COUNTIF(S$3:S12,S12)","v":"A4"},{"$f":"IFERROR(INDEX($T$3:$T$194,MATCH(AG$2&ROW()-2,$AF$3:$AF$194,0)),\"\")","v":31},{"$f":"IFERROR(INDEX($T$3:$T$194,MATCH(AH$2&ROW()-2,$AF$3:$AF$194,0)),\"\")","v":27},{"$f":"IFERROR(INDEX($T$3:$T$194,MATCH(AI$2&ROW()-2,$AF$3:$AF$194,0)),\"\")","v":29},{"$f":"IFERROR(INDEX($T$3:$T$194,MATCH(AJ$2&ROW()-2,$AF$3:$AF$194,0)),\"\")","v":75},{"$f":"IFERROR(INDEX($T$3:$T$194,MATCH(AK$2&ROW()-2,$AF$3:$AF$194,0)),\"\")","v":65}]
[{"$f":" Recap!B13","v":"T11"},{"$f":"Recap!O13","v":41},{"$f":"Recap!Q13","v":2},{"$f":"Recap!P13","v":53},11,241.47,143,{"$f":"RANK(G13,$G$3:$G$194,1)+COUNTIF(G$3:G13,G13)-1","v":143},{"$f":"IFERROR(INDEX(Liste!$G$7:$G$198,MATCH(K13,Liste!$I$7:$I$198,0)),\"\")","v":"A"},11,"T37",58,4,33,37,null,25,null,"C",11,"T57",58,4,34,57,null,24,46158.67,9,{"$f":"RANK(AC13,$AC$3:$AC$194,1)+COUNTIF(AC$3:AC13,AC13)-1","v":9},6,{"$f":"S13&COUNTIF(S$3:S13,S13)","v":"C1"},{"$f":"IFERROR(INDEX($T$3:$T$194,MATCH(AG$2&ROW()-2,$AF$3:$AF$194,0)),\"\")","v":37},{"$f":"IFERROR(INDEX($T$3:$T$194,MATCH(AH$2&ROW()-2,$AF$3:$AF$194,0)),\"\")","v":41},{"$f":"IFERROR(INDEX($T$3:$T$194,MATCH(AI$2&ROW()-2,$AF$3:$AF$194,0)),\"\")","v":39},{"$f":"IFERROR(INDEX($T$3:$T$194,MATCH(AJ$2&ROW()-2,$AF$3:$AF$194,0)),\"\")","v":79},{"$f":"IFERROR(INDEX($T$3:$T$194,MATCH(AK$2&ROW()-2,$AF$3:$AF$194,0)),\"\")","v":106}]
[{"$f":" Recap!B14","v":"T12"},{"$f":"Recap!O14","v":44},{"$f":"Recap!Q14","v":2},{"$f":"Recap!P14","v":46},12,244.54,141,{"$f":"RANK(G14,$G$3:$G$194,1)+COUNTIF(G$3:G14,G14)-1","v":141},{"$f":"IFERROR(INDEX(Liste!$G$7:$G$198,MATCH(K14,Liste!$I$7:$I$198,0)),\"\")","v":"A"},11,"P37",58,4,33,133,null,25,null,"CE",11,"T74",58,4,34,74,null,24,46158.67,9,{"$f":"RANK(AC14,$AC$3:$AC$194,1)+COUNTIF(AC$3:AC14,AC14)-1","v":10},null,{"$f":"S14&COUNTIF(S$3:S14,S14)","v":"CE3"}]
[{"$f":" Recap!B15","v":"T13"},{"$f":"Recap!O15","v":58},{"$f":"Recap!Q15","v":4},{"$f":"Recap!P15","v":47},13,458.53,27,{"$f":"RANK(G15,$G$3:$G$194,1)+COUNTIF(G$3:G15,G15)-1","v":28},{"$f":"IFERROR(INDEX(Liste!$G$7:$G$198,MATCH(K15,Liste!$I$7:$I$198,0)),\"\")","v":"C"},13,"T57",58,4,34,57,null,24,null,"CE",11,"T83",58,4,34,83,null,24,46058.66,11,{"$f":"RANK(AC15,$AC$3:$AC$194,1)+COUNTIF(AC$3:AC15,AC15)-1","v":11},7,{"$f":"S15&COUNTIF(S$3:S15,S15)","v":"CE4"},{"$f":"SUM(AG3:AG13)","v":152},{"$f":"SUM(AH3:AH13)","v":160},{"$f":"SUM(AI3:AI13)","v":142},{"$f":"SUM(AJ3:AJ13)","v":410},{"$f":"SUM(AK3:AK13)","v":421}]
[{"$f":" Recap!B16","v":"T14"},{"$f":"Recap!O16","v":51},{"$f":"Recap!Q16","v":2},{"$f":"Recap!P16","v":60},14,251.4,109,{"$f":"RANK(G16,$G$3:$G$194,1)+COUNTIF(G$3:G16,G16)-1","v":109},{"$f":"IFERROR(INDEX(Liste!$G$7:$G$198,MATCH(K16,Liste!$I$7:$I$198,0)),\"\")","v":"CE"},13,"T74",58,4,34,74,null,24,null,"C",11,"P57",58,4,34,153,null,24,46058.66,11,{"$f":"RANK(AC16,$AC$3:$AC$194,1)+COUNTIF(AC$3:AC16,AC16)-1","v":12},null,{"$f":"S16&COUNTIF(S$3:S16,S16)","v":"C2"},{"$f":"RANK(AG15,$AG$15:$AK$15,1)","v":2},{"$f":"RANK(AH15,$AG$15:$AK$15,1)","v":3},{"$f":"RANK(AI15,$AG$15:$AK$15,1)","v":1},{"$f":"RANK(AJ15,$AG$15:$AK$15,1)","v":4},{"$f":"RANK(AK15,$AG$15:$AK$15,1)","v":5}]
[{"$f":" Recap!B17","v":"T15"},{"$f":"Recap!O17","v":51},{"$f":"Recap!Q17","v":3},{"$f":"Recap!P17","v":47},15,351.53,73,{"$f":"RANK(G17,$G$3:$G$194,1)+COUNTIF(G$3:G17,G17)-1","v":73},{"$f":"IFERROR(INDEX(Liste!$G$7:$G$198,MATCH(K17,Liste!$I$7:$I$198,0)),\"\")","v":"CE"},13,"T83",58,4,34,83,null,24,null,"CE",11,"P74",58,4,34,170,null,24,46058.66,11,{"$f":"RANK(AC17,$AC$3:$AC$194,1)+COUNTIF(AC$3:AC17,AC17)-1","v":13},8,{"$f":"S17&COUNTIF(S$3:S17,S17)","v":"CE5"}]
[{"$f":" Recap!B18","v":"T16"},{"$f":"Recap!O18","v":34},{"$f":"Recap!Q18","v":0},{"$f":"Recap!P18","v":65},16,34.35,187,{"$f":"RANK(G18,$G$3:$G$194,1)+COUNTIF(G$3:G18,G18)-1","v":187},{"$f":"IFERROR(INDEX(Liste!$G$7:$G$198,MATCH(K18,Liste!$I$7:$I$198,0)),\"\")","v":"C"},13,"P57",58,4,34,153,null,24,null,"CE",11,"P83",58,4,34,179,null,24,46058.66,11,{"$f":"RANK(AC18,$AC$3:$AC$194,1)+COUNTIF(AC$3:AC18,AC18)-1","v":14},null,{"$f":"S18&COUNTIF(S$3:S18,S18)","v":"CE6"}]
[{"$f":" Recap!B19","v":"T17"},{"$f":"Recap!O19","v":58},{"$f":"Recap!Q19","v":4},{"$f":"Recap!P19","v":41},17,458.59,19,{"$f":"RANK(G19,$G$3:$G$194,1)+COUNTIF(G$3:G19,G19)-1","v":19},{"$f":"IFERROR(INDEX(Liste!$G$7:$G$198,MATCH(K19,Liste!$I$7:$I$198,0)),\"\")","v":"CE"},13,"P74",58,4,34,170,null,24,null,"ST",17,"T4",62,4,43,4,null,19,46058.66,11,{"$f":"RANK(AC19,$AC$3:$AC$194,1)+COUNTIF(AC$3:AC19,AC19)-1","v":15},9,{"$f":"S19&COUNTIF(S$3:S19,S19)","v":"ST5"}]
[{"$f":" Recap!B20","v":"T18"},{"$f":"Recap!O20","v":52},{"$f":"Recap!Q20","v":2},{"$f":"Recap!P20","v":54},18,252.46,103,{"$f":"RANK(G20,$G$3:$G$194,1)+COUNTIF(G$3:G20,G20)-1","v":103},{"$f":"IFERROR(INDEX(Liste!$G$7:$G$198,MATCH(K20,Liste!$I$7:$I$198,0)),\"\")","v":"CE"},13,"P83",58,4,34,179,null,24,null,"ST",17,"P4",62,4,43,100,null,19,46058.66,11,{"$f":"RANK(AC20,$AC$3:$AC$194,1)+COUNTIF(AC$3:AC20,AC20)-1","v":16},null,{"$f":"S20&COUNTIF(S$3:S20,S20)","v":"ST6"}]
[{"$f":" Recap!B21","v":"T19"},{"$f":"Recap!O21","v":51},{"$f":"Recap!Q21","v":3},{"$f":"Recap!P21","v":46},19,351.54,69,{"$f":"RANK(G21,$G$3:$G$194,1)+COUNTIF(G$3:G21,G21)-1","v":69},{"$f":"IFERROR(INDEX(Liste!$G$7:$G$198,MATCH(K21,Liste!$I$7:$I$198,0)),\"\")","v":"E"},19,"T17",58,4,41,17,null,17,null,"CE",19,"T76",56,4,38,76,null,18,45358.59,21,{"$f":"RANK(AC21,$AC$3:$AC$194,1)+COUNTIF(AC$3:AC21,AC21)-1","v":21},10,{"$f":"S21&COUNTIF(S$3:S21,S21)","v":"CE7"}]
[{"$f":" Recap!B22","v":"T20"},{"$f":"Recap!O22","v":55},{"$f":"Recap!Q22","v":3},{"$f":"Recap!P22","v":45},20,355.55,61,{"$f":"RANK(G22,$G$3:$G$194,1)+COUNTIF(G$3:G22,G22)-1","v":61},{"$f":"IFERROR(INDEX(Liste!$G$7:$G$198,MATCH(K22,Liste!$I$7:$I$198,0)),\"\")","v":"E"},19,"P17",58,4,41,113,null,17,null,"CE",19,"P76",56,4,38,172,null,18,45358.59,21,{"$f":"RANK(AC22,$AC$3:$AC$194,1)+COUNTIF(AC$3:AC22,AC22)-1","v":22},null,{"$f":"S22&COUNTIF(S$3:S22,S22)","v":"CE8"}]
[{"$f":" Recap!B23","v":"T21"},{"$f":"Recap!O23","v":41},{"$f":"Recap!Q23","v":2},{"$f":"Recap!P23","v":55},21,241.45,145,{"$f":"RANK(G23,$G$3:$G$194,1)+COUNTIF(G$3:G23,G23)-1","v":145},{"$f":"IFERROR(INDEX(Liste!$G$7:$G$198,MATCH(K23,Liste!$I$7:$I$198,0)),\"\")","v":"A"},21,"T39",58,4,42,39,null,16,null,"E",21,"T17",58,4,41,17,null,17,45258.58,25,{"$f":"RANK(AC23,$AC$3:$AC$194,1)+COUNTIF(AC$3:AC23,AC23)-1","v":25},11,{"$f":"S23&COUNTIF(S$3:S23,S23)","v":"E1"}]
[{"$f":" Recap!B24","v":"T22"},{"$f":"Recap!O24","v":47},{"$f":"Recap!Q24","v":2},{"$f":"Recap!P24","v":58},22,247.42,129,{"$f":"RANK(G24,$G$3:$G$194,1)+COUNTIF(G$3:G24,G24)-1","v":129},{"$f":"IFERROR(INDEX(Liste!$G$7:$G$198,MATCH(K24,Liste!$I$7:$I$198,0)),\"\")","v":"A"},21,"P39",58,4,42,135,null,16,null,"E",21,"P17",58,4,41,113,null,17,45258.58,25,{"$f":"RANK(AC24,$AC$3:$AC$194,1)+COUNTIF(AC$3:AC24,AC24)-1","v":26},null,{"$f":"S24&COUNTIF(S$3:S24,S24)","v":"E2"}]
[{"$f":" Recap!B25","v":"T23"},{"$f":"Recap!O25","v":40},{"$f":"Recap!Q25","v":2},{"$f":"Recap!P25","v":54},23,240.46,151,{"$f":"RANK(G25,$G$3:$G$194,1)+COUNTIF(G$3:G25,G25)-1","v":151},{"$f":"IFERROR(INDEX(Liste!$G$7:$G$198,MATCH(K25,Liste!$I$7:$I$198,0)),\"\")","v":"A"},23,"T49",58,4,43,49,null,15,null,"A",23,"T38",56,4,39,38,null,17,45158.57,27,{"$f":"RANK(AC25,$AC$3:$AC$194,1)+COUNTIF(AC$3:AC25,AC25)-1","v":27},12,{"$f":"S25&COUNTIF(S$3:S25,S25)","v":"A5"}]
[{"$f":" Recap!B26","v":"T24"},{"$f":"Recap!O26","v":51},{"$f":"Recap!Q26","v":1},{"$f":"Recap!P26","v":57},24,151.43,165,{"$f":"RANK(G26,$G$3:$G$194,1)+COUNTIF(G$3:G26,G26)-1","v":165},{"$f":"IFERROR(INDEX(Liste!$G$7:$G$198,MATCH(K26,Liste!$I$7:$I$198,0)),\"\")","v":"A"},23,"P49",58,4,43,145,null,15,null,"A",23,"P38",56,4,39,134,null,17,45158.57,27,{"$f":"RANK(AC26,$AC$3:$AC$194,1)+COUNTIF(AC$3:AC26,AC26)-1","v":28},null,{"$f":"S26&COUNTIF(S$3:S26,S26)","v":"A6"}]
[{"$f":" Recap!B27","v":"T25"},{"$f":"Recap!O27","v":58},{"$f":"Recap!Q27","v":4},{"$f":"Recap!P27","v":47},25,458.53,27,{"$f":"RANK(G27,$G$3:$G$194,1)+COUNTIF(G$3:G27,G27)-1","v":29},{"$f":"IFERROR(INDEX(Liste!$G$7:$G$198,MATCH(K27,Liste!$I$7:$I$198,0)),\"\")","v":"CE"},25,"T77",58,4,45,77,null,13,null,"A",25,"T39",58,4,42,39,null,16,44958.55,29,{"$f":"RANK(AC27,$AC$3:$AC$194,1)+COUNTIF(AC$3:AC27,AC27)-1","v":29},13,{"$f":"S27&COUNTIF(S$3:S27,S27)","v":"A7"}]
[{"$f":" Recap!B28","v":"T26"},{"$f":"Recap!O28","v":52},{"$f":"Recap!Q28","v":2},{"$f":"Recap!P28","v":54},26,252.46,103,{"$f":"RANK(G28,$G$3:$G$194,1)+COUNTIF(G$3:G28,G28)-1","v":104},{"$f":"IFERROR(INDEX(Liste!$G$7:$G$198,MATCH(K28,Liste!$I$7:$I$198,0)),\"\")","v":"CE"},25,"P77",58,4,45,173,null,13,null,"A",25,"P39",58,4,42,135,null,16,44958.55,29,{"$f":"RANK(AC28,$AC$3:$AC$194,1)+COUNTIF(AC$3:AC28,AC28)-1","v":30},null,{"$f":"S28&COUNTIF(S$3:S28,S28)","v":"A8"}]
[{"$f":" Recap!B29","v":"T27"},{"$f":"Recap!O29","v":47},{"$f":"Recap!Q29","v":2},{"$f":"Recap!P29","v":59},27,247.41,131,{"$f":"RANK(G29,$G$3:$G$194,1)+COUNTIF(G$3:G29,G29)-1","v":131},{"$f":"IFERROR(INDEX(Liste!$G$7:$G$198,MATCH(K29,Liste!$I$7:$I$198,0)),\"\")","v":"ST"},27,"T7",58,4,47,7,null,11,null,"A",27,"T49",58,4,43,49,null,15,44758.53,31,{"$f":"RANK(AC29,$AC$3:$AC$194,1)+COUNTIF(AC$3:AC29,AC29)-1","v":31},14,{"$f":"S29&COUNTIF(S$3:S29,S29)","v":"A9"}]
[{"$f":" Recap!B30","v":"T28"},{"$f":"Recap!O30","v":44},{"$f":"Recap!Q30","v":1},{"$f":"Recap!P30","v":63},28,144.37,175,{"$f":"RANK(G30,$G$3:$G$194,1)+COUNTIF(G$3:G30,G30)-1","v":175},{"$f":"IFERROR(INDEX(Liste!$G$7:$G$198,MATCH(K30,Liste!$I$7:$I$198,0)),\"\")","v":"ST"},27,"T13",58,4,47,13,null,11,null,"A",27,"P49",58,4,43,145,null,15,44758.53,31,{"$f":"RANK(AC30,$AC$3:$AC$194,1)+COUNTIF(AC$3:AC30,AC30)-1","v":32},null,{"$f":"S30&COUNTIF(S$3:S30,S30)","v":"A10"}]
[{"$f":" Recap!B31","v":"T29"},{"$f":"Recap!O31","v":51},{"$f":"Recap!Q31","v":3},{"$f":"Recap!P31","v":44},29,351.56,67,{"$f":"RANK(G31,$G$3:$G$194,1)+COUNTIF(G$3:G31,G31)-1","v":67},{"$f":"IFERROR(INDEX(Liste!$G$7:$G$198,MATCH(K31,Liste!$I$7:$I$198,0)),\"\")","v":"E"},27,"T25",58,4,47,25,null,11,null,"CE",29,"T77",58,4,45,77,null,13,44758.53,31,{"$f":"RANK(AC31,$AC$3:$AC$194,1)+COUNTIF(AC$3:AC31,AC31)-1","v":33},15,{"$f":"S31&COUNTIF(S$3:S31,S31)","v":"CE9"}]
[{"$f":" Recap!B32","v":"T30"},{"$f":"Recap!O32","v":55},{"$f":"Recap!Q32","v":1},{"$f":"Recap!P32","v":57},30,155.43,157,{"$f":"RANK(G32,$G$3:$G$194,1)+COUNTIF(G$3:G32,G32)-1","v":157},{"$f":"IFERROR(INDEX(Liste!$G$7:$G$198,MATCH(K32,Liste!$I$7:$I$198,0)),\"\")","v":"ST"},27,"P7",58,4,47,103,null,11,null,"CE",29,"P77",58,4,45,173,null,13,44758.53,31,{"$f":"RANK(AC32,$AC$3:$AC$194,1)+COUNTIF(AC$3:AC32,AC32)-1","v":34},null,{"$f":"S32&COUNTIF(S$3:S32,S32)","v":"CE10"}]
[{"$f":" Recap!B33","v":"T31"},{"$f":"Recap!O33","v":38},{"$f":"Recap!Q33","v":1},{"$f":"Recap!P33","v":62},31,138.38,179,{"$f":"RANK(G33,$G$3:$G$194,1)+COUNTIF(G$3:G33,G33)-1","v":179},{"$f":"IFERROR(INDEX(Liste!$G$7:$G$198,MATCH(K33,Liste!$I$7:$I$198,0)),\"\")","v":"ST"},27,"P13",58,4,47,109,null,11,null,"ST",31,"T7",58,4,47,7,null,11,44758.53,31,{"$f":"RANK(AC33,$AC$3:$AC$194,1)+COUNTIF(AC$3:AC33,AC33)-1","v":35},16,{"$f":"S33&COUNTIF(S$3:S33,S33)","v":"ST7"}]
[{"$f":" Recap!B34","v":"T32"},{"$f":"Recap!O34","v":48},{"$f":"Recap!Q34","v":2},{"$f":"Recap!P34","v":61},32,248.39,125,{"$f":"RANK(G34,$G$3:$G$194,1)+COUNTIF(G$3:G34,G34)-1","v":125},{"$f":"IFERROR(INDEX(Liste!$G$7:$G$198,MATCH(K34,Liste!$I$7:$I$198,0)),\"\")","v":"E"},27,"P25",58,4,47,121,null,11,null,"ST",31,"T13",58,4,47,13,null,11,44758.53,31,{"$f":"RANK(AC34,$AC$3:$AC$194,1)+COUNTIF(AC$3:AC34,AC34)-1","v":36},null,{"$f":"S34&COUNTIF(S$3:S34,S34)","v":"ST8"}]
[{"$f":" Recap!B35","v":"T33"},{"$f":"Recap!O35","v":62},{"$f":"Recap!Q35","v":2},{"$f":"Recap!P35","v":63},33,262.37,97,{"$f":"RANK(G35,$G$3:$G$194,1)+COUNTIF(G$3:G35,G35)-1","v":97},{"$f":"IFERROR(INDEX(Liste!$G$7:$G$198,MATCH(K35,Liste!$I$7:$I$198,0)),\"\")","v":"CE"},{"$f":"INDEX(G:G,MATCH(ROW()-2,H:H,0))","v":33},{"$f":"INDEX(A:A,MATCH(ROW()-2,H:H,0))","v":"T76"},{"$f":"INDEX(B:B,MATCH(ROW()-2,H:H,0))","v":56},4,{"$f":"INDEX(D:D,MATCH(ROW()-2,H:H,0))","v":38},{"$f":"INDEX(E:E,MATCH(ROW()-2,H:H,0))","v":76},null,{"$f":"IF(SUM(M35:N35)=0,-1000,L35-N35)","v":18},null,{"$f":"INDEX(I:I,MATCH(U35,K:K,0))","v":"E"},31,{"$f":"INDEX(K:K,MATCH(ROW()-2,$AD:$AD,0))","v":"T25"},{"$f":"INDEX(L:L,MATCH(ROW()-2,$AD:$AD,0))","v":58},{"$f":"INDEX(M:M,MATCH(ROW()-2,$AD:$AD,0))","v":4},{"$f":"INDEX(N:N,MATCH(ROW()-2,$AD:$AD,0))","v":47},{"$f":"INDEX(O:O,MATCH(ROW()-2,$AD:$AD,0))","v":25},null,11,45456.62,19,{"$f":"RANK(AC35,$AC$3:$AC$194,1)+COUNTIF(AC$3:AC35,AC35)-1","v":19},17,{"$f":"S35&COUNTIF(S$3:S35,S35)","v":"E3"}]
[{"$f":" Recap!B36","v":"T34"},{"$f":"Recap!O36","v":65},{"$f":"Recap!Q36","v":5},{"$f":"Recap!P36","v":36},34,565.64,5,{"$f":"RANK(G36,$G$3:$G$194,1)+COUNTIF(G$3:G36,G36)-1","v":5},{"$f":"IFERROR(INDEX(Liste!$G$7:$G$198,MATCH(K36,Liste!$I$7:$I$198,0)),\"\")","v":"CE"},33,"P76",56,4,38,172,null,18,null,"ST",31,"P7",58,4,47,103,null,11,45456.62,19,{"$f":"RANK(AC36,$AC$3:$AC$194,1)+COUNTIF(AC$3:AC36,AC36)-1","v":20},null,{"$f":"S36&COUNTIF(S$3:S36,S36)","v":"ST9"}]
[{"$f":" Recap!B37","v":"T35"},{"$f":"Recap!O37","v":46},{"$f":"Recap!Q37","v":1},{"$f":"Recap!P37","v":61},35,146.38999999999999,172,{"$f":"RANK(G37,$G$3:$G$194,1)+COUNTIF(G$3:G37,G37)-1","v":172},{"$f":"IFERROR(INDEX(Liste!$G$7:$G$198,MATCH(K37,Liste!$I$7:$I$198,0)),\"\")","v":"A"},35,"T38",56,4,39,38,null,17,null,"ST",31,"P13",58,4,47,109,null,11,45356.61,23,{"$f":"RANK(AC37,$AC$3:$AC$194,1)+COUNTIF(AC$3:AC37,AC37)-1","v":23},18,{"$f":"S37&COUNTIF(S$3:S37,S37)","v":"ST10"}]
[{"$f":" Recap!B38","v":"T36"},{"$f":"Recap!O38","v":48},{"$f":"Recap!Q38","v":2},{"$f":"Recap!P38","v":51},36,248.49,119,{"$f":"RANK(G38,$G$3:$G$194,1)+COUNTIF(G$3:G38,G38)-1","v":119},{"$f":"IFERROR(INDEX(Liste!$G$7:$G$198,MATCH(K38,Liste!$I$7:$I$198,0)),\"\")","v":"A"},35,"P38",56,4,39,134,null,17,null,"E",31,"P25",58,4,47,121,null,11,45356.61,23,{"$f":"RANK(AC38,$AC$3:$AC$194,1)+COUNTIF(AC$3:AC38,AC38)-1","v":24},null,{"$f":"S38&COUNTIF(S$3:S38,S38)","v":"E4"}]
[{"$f":" Recap!B39","v":"T37"},{"$f":"Recap!O39","v":58},{"$f":"Recap!Q39","v":4},{"$f":"Recap!P39","v":33},37,458.67,11,{"$f":"RANK(G39,$G$3:$G$194,1)+COUNTIF(G$3:G39,G39)-1","v":11},{"$f":"IFERROR(INDEX(Liste!$G$7:$G$198,MATCH(K39,Liste!$I$7:$I$198,0)),\"\")","v":"C"},37,"T66",63,3,62,66,null,1,null,"ST",37,"T2",61,3,43,2,null,18,33763.379999999997,79,{"$f":"RANK(AC39,$AC$3:$AC$194,1)+COUNTIF(AC$3:AC39,AC39)-1","v":79},19,{"$f":"S39&COUNTIF(S$3:S39,S39)","v":"ST11"}]
[{"$f":" Recap!B40","v":"T38"},{"$f":"Recap!O40","v":56},{"$f":"Recap!Q40","v":4},{"$f":"Recap!P40","v":39},38,456.61,35,{"$f":"RANK(G40,$G$3:$G$194,1)+COUNTIF(G$3:G40,G40)-1","v":35},{"$f":"IFERROR(INDEX(Liste!$G$7:$G$198,MATCH(K40,Liste!$I$7:$I$198,0)),\"\")","v":"C"},37,"P66",63,3,62,162,null,1,null,"ST",37,"P2",61,3,43,98,null,18,33763.379999999997,79,{"$f":"RANK(AC40,$AC$3:$AC$194,1)+COUNTIF(AC$3:AC40,AC40)-1","v":80},null,{"$f":"S40&COUNTIF(S$3:S40,S40)","v":"ST12"}]
[{"$f":" Recap!B41","v":"T39"},{"$f":"Recap!O41","v":58},{"$f":"Recap!Q41","v":4},{"$f":"Recap!P41","v":42},39,458.58,21,{"$f":"RANK(G41,$G$3:$G$194,1)+COUNTIF(G$3:G41,G41)-1","v":21},{"$f":"IFERROR(INDEX(Liste!$G$7:$G$198,MATCH(K41,Liste!$I$7:$I$198,0)),\"\")","v":"ST"},39,"T2",61,3,43,2,null,18,null,"CE",39,"T91",58,3,40,91,null,18,35461.57,37,{"$f":"RANK(AC41,$AC$3:$AC$194,1)+COUNTIF(AC$3:AC41,AC41)-1","v":37},20,{"$f":"S41&COUNTIF(S$3:S41,S41)","v":"CE11"}]
[{"$f":" Recap!B42","v":"T40"},{"$f":"Recap!O42","v":36},{"$f":"Recap!Q42","v":1},{"$f":"Recap!P42","v":64},40,136.36000000000001,183,{"$f":"RANK(G42,$G$3:$G$194,1)+COUNTIF(G$3:G42,G42)-1","v":183},{"$f":"IFERROR(INDEX(Liste!$G$7:$G$198,MATCH(K42,Liste!$I$7:$I$198,0)),\"\")","v":"ST"},39,"P2",61,3,43,98,null,18,null,"CE",39,"P91",58,3,40,187,null,18,35461.57,37,{"$f":"RANK(AC42,$AC$3:$AC$194,1)+COUNTIF(AC$3:AC42,AC42)-1","v":38},null,{"$f":"S42&COUNTIF(S$3:S42,S42)","v":"CE12"}]
[{"$f":" Recap!B43","v":"T41"},{"$f":"Recap!O43","v":39},{"$f":"Recap!Q43","v":2},{"$f":"Recap!P43","v":55},41,239.45,153,{"$f":"RANK(G43,$G$3:$G$194,1)+COUNTIF(G$3:G43,G43)-1","v":153},{"$f":"IFERROR(INDEX(Liste!$G$7:$G$198,MATCH(K43,Liste!$I$7:$I$198,0)),\"\")","v":"CE"},41,"T91",58,3,40,91,null,18,null,"A",41,"T46",58,3,41,46,null,17,35458.6,39,{"$f":"RANK(AC43,$AC$3:$AC$194,1)+COUNTIF(AC$3:AC43,AC43)-1","v":39},21,{"$f":"S43&COUNTIF(S$3:S43,S43)","v":"A11"}]
[{"$f":" Recap!B44","v":"T42"},{"$f":"Recap!O44","v":47},{"$f":"Recap!Q44","v":3},{"$f":"Recap!P44","v":45},42,347.55,89,{"$f":"RANK(G44,$G$3:$G$194,1)+COUNTIF(G$3:G44,G44)-1","v":89},{"$f":"IFERROR(INDEX(Liste!$G$7:$G$198,MATCH(K44,Liste!$I$7:$I$198,0)),\"\")","v":"CE"},41,"P91",58,3,40,187,null,18,null,"A",41,"P46",58,3,41,142,null,17,35458.6,39,{"$f":"RANK(AC44,$AC$3:$AC$194,1)+COUNTIF(AC$3:AC44,AC44)-1","v":40},null,{"$f":"S44&COUNTIF(S$3:S44,S44)","v":"A12"}]
[{"$f":" Recap!B45","v":"T43"},{"$f":"Recap!O45","v":44},{"$f":"Recap!Q45","v":1},{"$f":"Recap!P45","v":56},43,144.44,174,{"$f":"RANK(G45,$G$3:$G$194,1)+COUNTIF(G$3:G45,G45)-1","v":174},{"$f":"IFERROR(INDEX(Liste!$G$7:$G$198,MATCH(K45,Liste!$I$7:$I$198,0)),\"\")","v":"A"},43,"T46",58,3,41,46,null,17,null,"C",43,"T50",57,3,43,50,null,14,35358.589999999997,41,{"$f":"RANK(AC45,$AC$3:$AC$194,1)+COUNTIF(AC$3:AC45,AC45)-1","v":41},22,{"$f":"S45&COUNTIF(S$3:S45,S45)","v":"C3"}]
[{"$f":" Recap!B46","v":"T44"},{"$f":"Recap!O46","v":50},{"$f":"Recap!Q46","v":3},{"$f":"Recap!P46","v":50},44,350.5,79,{"$f":"RANK(G46,$G$3:$G$194,1)+COUNTIF(G$3:G46,G46)-1","v":79},{"$f":"IFERROR(INDEX(Liste!$G$7:$G$198,MATCH(K46,Liste!$I$7:$I$198,0)),\"\")","v":"A"},43,"P46",58,3,41,142,null,17,null,"C",43,"P50",57,3,43,146,null,14,35358.589999999997,41,{"$f":"RANK(AC46,$AC$3:$AC$194,1)+COUNTIF(AC$3:AC46,AC46)-1","v":42},null,{"$f":"S46&COUNTIF(S$3:S46,S46)","v":"C4"}]
[{"$f":" Recap!B47","v":"T45"},{"$f":"Recap!O47","v":49},{"$f":"Recap!Q47","v":3},{"$f":"Recap!P47","v":46},45,349.54,85,{"$f":"RANK(G47,$G$3:$G$194,1)+COUNTIF(G$3:G47,G47)-1","v":85},{"$f":"IFERROR(INDEX(Liste!$G$7:$G$198,MATCH(K47,Liste!$I$7:$I$198,0)),\"\")","v":"C"},45,"T50",57,3,43,50,null,14,null,"ST",45,"T8",55,3,43,8,null,12,35057.57,43,{"$f":"RANK(AC47,$AC$3:$AC$194,1)+COUNTIF(AC$3:AC47,AC47)-1","v":43},23,{"$f":"S47&COUNTIF(S$3:S47,S47)","v":"ST13"}]
[{"$f":" Recap!B48","v":"T46"},{"$f":"Recap!O48","v":58},{"$f":"Recap!Q48","v":3},{"$f":"Recap!P48","v":41},46,358.59,43,{"$f":"RANK(G48,$G$3:$G$194,1)+COUNTIF(G$3:G48,G48)-1","v":43},{"$f":"IFERROR(INDEX(Liste!$G$7:$G$198,MATCH(K48,Liste!$I$7:$I$198,0)),\"\")","v":"C"},45,"P50",57,3,43,146,null,14,null,"ST",45,"P8",55,3,43,104,null,12,35057.57,43,{"$f":"RANK(AC48,$AC$3:$AC$194,1)+COUNTIF(AC$3:AC48,AC48)-1","v":44},null,{"$f":"S48&COUNTIF(S$3:S48,S48)","v":"ST14"}]
[{"$f":" Recap!B49","v":"T47"},{"$f":"Recap!O49","v":50},{"$f":"Recap!Q49","v":2},{"$f":"Recap!P49","v":51},47,250.49,115,{"$f":"RANK(G49,$G$3:$G$194,1)+COUNTIF(G$3:G49,G49)-1","v":115},{"$f":"IFERROR(INDEX(Liste!$G$7:$G$198,MATCH(K49,Liste!$I$7:$I$198,0)),\"\")","v":"ST"},47,"T3",57,3,47,3,null,10,null,"ST",47,"T3",57,3,47,3,null,10,34657.53,47,{"$f":"RANK(AC49,$AC$3:$AC$194,1)+COUNTIF(AC$3:AC49,AC49)-1","v":47},24,{"$f":"S49&COUNTIF(S$3:S49,S49)","v":"ST15"}]
[{"$f":" Recap!B50","v":"T48"},{"$f":"Recap!O50","v":49},{"$f":"Recap!Q50","v":2},{"$f":"Recap!P50","v":55},48,249.45,117,{"$f":"RANK(G50,$G$3:$G$194,1)+COUNTIF(G$3:G50,G50)-1","v":117},{"$f":"IFERROR(INDEX(Liste!$G$7:$G$198,MATCH(K50,Liste!$I$7:$I$198,0)),\"\")","v":"CE"},47,"T90",57,3,47,90,null,10,null,"CE",47,"T90",57,3,47,90,null,10,34657.53,47,{"$f":"RANK(AC50,$AC$3:$AC$194,1)+COUNTIF(AC$3:AC50,AC50)-1","v":48},null,{"$f":"S50&COUNTIF(S$3:S50,S50)","v":"CE13"}]
[{"$f":" Recap!B51","v":"T49"},{"$f":"Recap!O51","v":58},{"$f":"Recap!Q51","v":4},{"$f":"Recap!P51","v":43},49,458.57,23,{"$f":"RANK(G51,$G$3:$G$194,1)+COUNTIF(G$3:G51,G51)-1","v":23},{"$f":"IFERROR(INDEX(Liste!$G$7:$G$198,MATCH(K51,Liste!$I$7:$I$198,0)),\"\")","v":"ST"},47,"P3",57,3,47,99,null,10,null,"ST",47,"P3",57,3,47,99,null,10,34657.53,47,{"$f":"RANK(AC51,$AC$3:$AC$194,1)+COUNTIF(AC$3:AC51,AC51)-1","v":49},25,{"$f":"S51&COUNTIF(S$3:S51,S51)","v":"ST16"}]
[{"$f":" Recap!B52","v":"T50"},{"$f":"Recap!O52","v":57},{"$f":"Recap!Q52","v":3},{"$f":"Recap!P52","v":43},50,357.57,45,{"$f":"RANK(G52,$G$3:$G$194,1)+COUNTIF(G$3:G52,G52)-1","v":45},{"$f":"IFERROR(INDEX(Liste!$G$7:$G$198,MATCH(K52,Liste!$I$7:$I$198,0)),\"\")","v":"CE"},47,"P90",57,3,47,186,null,10,null,"CE",47,"P90",57,3,47,186,null,10,34657.53,47,{"$f":"RANK(AC52,$AC$3:$AC$194,1)+COUNTIF(AC$3:AC52,AC52)-1","v":50},null,{"$f":"S52&COUNTIF(S$3:S52,S52)","v":"CE14"}]
[{"$f":" Recap!B53","v":"T51"},{"$f":"Recap!O53","v":51},{"$f":"Recap!Q53","v":3},{"$f":"Recap!P53","v":43},51,351.57,65,{"$f":"RANK(G53,$G$3:$G$194,1)+COUNTIF(G$3:G53,G53)-1","v":65},{"$f":"IFERROR(INDEX(Liste!$G$7:$G$198,MATCH(K53,Liste!$I$7:$I$198,0)),\"\")","v":"ST"},51,"T9",57,3,48,9,null,9,null,"E",51,"T20",55,3,45,20,null,10,34557.519999999997,53,{"$f":"RANK(AC53,$AC$3:$AC$194,1)+COUNTIF(AC$3:AC53,AC53)-1","v":53},26,{"$f":"S53&COUNTIF(S$3:S53,S53)","v":"E5"}]
[{"$f":" Recap!B54","v":"T52"},{"$f":"Recap!O54","v":40},{"$f":"Recap!Q54","v":2},{"$f":"Recap!P54","v":47},52,240.53,147,{"$f":"RANK(G54,$G$3:$G$194,1)+COUNTIF(G$3:G54,G54)-1","v":147},{"$f":"IFERROR(INDEX(Liste!$G$7:$G$198,MATCH(K54,Liste!$I$7:$I$198,0)),\"\")","v":"ST"},51,"P9",57,3,48,105,null,9,null,"E",51,"P20",55,3,45,116,null,10,34557.519999999997,53,{"$f":"RANK(AC54,$AC$3:$AC$194,1)+COUNTIF(AC$3:AC54,AC54)-1","v":54},null,{"$f":"S54&COUNTIF(S$3:S54,S54)","v":"E6"}]
[{"$f":" Recap!B55","v":"T53"},{"$f":"Recap!O55","v":47},{"$f":"Recap!Q55","v":3},{"$f":"Recap!P55","v":45},53,347.55,89,{"$f":"RANK(G55,$G$3:$G$194,1)+COUNTIF(G$3:G55,G55)-1","v":90},{"$f":"IFERROR(INDEX(Liste!$G$7:$G$198,MATCH(K55,Liste!$I$7:$I$198,0)),\"\")","v":"ST"},53,"T5",57,3,49,5,null,8,null,"ST",53,"T9",57,3,48,9,null,9,34457.51,59,{"$f":"RANK(AC55,$AC$3:$AC$194,1)+COUNTIF(AC$3:AC55,AC55)-1","v":59},27,{"$f":"S55&COUNTIF(S$3:S55,S55)","v":"ST17"}]
[{"$f":" Recap!B56","v":"T54"},{"$f":"Recap!O56","v":51},{"$f":"Recap!Q56","v":3},{"$f":"Recap!P56","v":46},54,351.54,69,{"$f":"RANK(G56,$G$3:$G$194,1)+COUNTIF(G$3:G56,G56)-1","v":70},{"$f":"IFERROR(INDEX(Liste!$G$7:$G$198,MATCH(K56,Liste!$I$7:$I$198,0)),\"\")","v":"ST"},53,"P5",57,3,49,101,null,8,null,"ST",53,"P9",57,3,48,105,null,9,34457.51,59,{"$f":"RANK(AC56,$AC$3:$AC$194,1)+COUNTIF(AC$3:AC56,AC56)-1","v":60},null,{"$f":"S56&COUNTIF(S$3:S56,S56)","v":"ST18"}]
[{"$f":" Recap!B57","v":"T55"},{"$f":"Recap!O57","v":33},{"$f":"Recap!Q57","v":0},{"$f":"Recap!P57","v":65},55,33.35,191,{"$f":"RANK(G57,$G$3:$G$194,1)+COUNTIF(G$3:G57,G57)-1","v":191},{"$f":"IFERROR(INDEX(Liste!$G$7:$G$198,MATCH(K57,Liste!$I$7:$I$198,0)),\"\")","v":"CE"},55,"T94",56,3,47,94,null,9,null,"CE",55,"T94",56,3,47,94,null,9,34556.53,55,{"$f":"RANK(AC57,$AC$3:$AC$194,1)+COUNTIF(AC$3:AC57,AC57)-1","v":55},28,{"$f":"S57&COUNTIF(S$3:S57,S57)","v":"CE15"}]
[{"$f":" Recap!B58","v":"T56"},{"$f":"Recap!O58","v":51},{"$f":"Recap!Q58","v":2},{"$f":"Recap!P58","v":60},56,251.4,109,{"$f":"RANK(G58,$G$3:$G$194,1)+COUNTIF(G$3:G58,G58)-1","v":110},{"$f":"IFERROR(INDEX(Liste!$G$7:$G$198,MATCH(K58,Liste!$I$7:$I$198,0)),\"\")","v":"CE"},55,"P94",56,3,47,190,null,9,null,"CE",55,"P94",56,3,47,190,null,9,34556.53,55,{"$f":"RANK(AC58,$AC$3:$AC$194,1)+COUNTIF(AC$3:AC58,AC58)-1","v":56},null,{"$f":"S58&COUNTIF(S$3:S58,S58)","v":"CE16"}]
[{"$f":" Recap!B59","v":"T57"},{"$f":"Recap!O59","v":58},{"$f":"Recap!Q59","v":4},{"$f":"Recap!P59","v":34},57,458.66,13,{"$f":"RANK(G59,$G$3:$G$194,1)+COUNTIF(G$3:G59,G59)-1","v":13},{"$f":"IFERROR(INDEX(Liste!$G$7:$G$198,MATCH(K59,Liste!$I$7:$I$198,0)),\"\")","v":"CE"},57,"T96",56,3,53,96,null,3,null,"ST",57,"T10",55,3,46,10,null,9,33956.47,71,{"$f":"RANK(AC59,$AC$3:$AC$194,1)+COUNTIF(AC$3:AC59,AC59)-1","v":71},29,{"$f":"S59&COUNTIF(S$3:S59,S59)","v":"ST19"}]
[{"$f":" Recap!B60","v":"T58"},{"$f":"Recap!O60","v":48},{"$f":"Recap!Q60","v":2},{"$f":"Recap!P60","v":54},58,248.46,123,{"$f":"RANK(G60,$G$3:$G$194,1)+COUNTIF(G$3:G60,G60)-1","v":123},{"$f":"IFERROR(INDEX(Liste!$G$7:$G$198,MATCH(K60,Liste!$I$7:$I$198,0)),\"\")","v":"CE"},57,"P96",56,3,53,192,null,3,null,"ST",57,"P10",55,3,46,106,null,9,33956.47,71,{"$f":"RANK(AC60,$AC$3:$AC$194,1)+COUNTIF(AC$3:AC60,AC60)-1","v":72},null,{"$f":"S60&COUNTIF(S$3:S60,S60)","v":"ST20"}]
[{"$f":" Recap!B61","v":"T59"},{"$f":"Recap!O61","v":51},{"$f":"Recap!Q61","v":1},{"$f":"Recap!P61","v":57},59,151.43,165,{"$f":"RANK(G61,$G$3:$G$194,1)+COUNTIF(G$3:G61,G61)-1","v":166},{"$f":"IFERROR(INDEX(Liste!$G$7:$G$198,MATCH(K61,Liste!$I$7:$I$198,0)),\"\")","v":"ST"},59,"T8",55,3,43,8,null,12,null,"ST",59,"T5",57,3,49,5,null,8,34855.57,45,{"$f":"RANK(AC61,$AC$3:$AC$194,1)+COUNTIF(AC$3:AC61,AC61)-1","v":45},30,{"$f":"S61&COUNTIF(S$3:S61,S61)","v":"ST21"}]
[{"$f":" Recap!B62","v":"T60"},{"$f":"Recap!O62","v":50},{"$f":"Recap!Q62","v":3},{"$f":"Recap!P62","v":52},60,350.48,83,{"$f":"RANK(G62,$G$3:$G$194,1)+COUNTIF(G$3:G62,G62)-1","v":83},{"$f":"IFERROR(INDEX(Liste!$G$7:$G$198,MATCH(K62,Liste!$I$7:$I$198,0)),\"\")","v":"ST"},59,"P8",55,3,43,104,null,12,null,"ST",59,"P5",57,3,49,101,null,8,34855.57,45,{"$f":"RANK(AC62,$AC$3:$AC$194,1)+COUNTIF(AC$3:AC62,AC62)-1","v":46},null,{"$f":"S62&COUNTIF(S$3:S62,S62)","v":"ST22"}]
[{"$f":" Recap!B63","v":"T61"},{"$f":"Recap!O63","v":47},{"$f":"Recap!Q63","v":2},{"$f":"Recap!P63","v":62},61,247.38,133,{"$f":"RANK(G63,$G$3:$G$194,1)+COUNTIF(G$3:G63,G63)-1","v":133},{"$f":"IFERROR(INDEX(Liste!$G$7:$G$198,MATCH(K63,Liste!$I$7:$I$198,0)),\"\")","v":"E"},61,"T20",55,3,45,20,null,10,null,"C",61,"T51",51,3,43,51,null,8,34655.550000000003,51,{"$f":"RANK(AC63,$AC$3:$AC$194,1)+COUNTIF(AC$3:AC63,AC63)-1","v":51},31,{"$f":"S63&COUNTIF(S$3:S63,S63)","v":"C5"}]
[{"$f":" Recap!B64","v":"T62"},{"$f":"Recap!O64","v":47},{"$f":"Recap!Q64","v":2},{"$f":"Recap!P64","v":54},62,247.46,127,{"$f":"RANK(G64,$G$3:$G$194,1)+COUNTIF(G$3:G64,G64)-1","v":127},{"$f":"IFERROR(INDEX(Liste!$G$7:$G$198,MATCH(K64,Liste!$I$7:$I$198,0)),\"\")","v":"E"},61,"P20",55,3,45,116,null,10,null,"C",61,"P51",51,3,43,147,null,8,34655.550000000003,51,{"$f":"RANK(AC64,$AC$3:$AC$194,1)+COUNTIF(AC$3:AC64,AC64)-1","v":52},null,{"$f":"S64&COUNTIF(S$3:S64,S64)","v":"C6"}]
[{"$f":" Recap!B65","v":"T63"},{"$f":"Recap!O65","v":51},{"$f":"Recap!Q65","v":3},{"$f":"Recap!P65","v":59},63,351.41,77,{"$f":"RANK(G65,$G$3:$G$194,1)+COUNTIF(G$3:G65,G65)-1","v":77},{"$f":"IFERROR(INDEX(Liste!$G$7:$G$198,MATCH(K65,Liste!$I$7:$I$198,0)),\"\")","v":"ST"},63,"T10",55,3,46,10,null,9,null,"E",63,"T29",51,3,44,29,null,7,34555.54,57,{"$f":"RANK(AC65,$AC$3:$AC$194,1)+COUNTIF(AC$3:AC65,AC65)-1","v":57},32,{"$f":"S65&COUNTIF(S$3:S65,S65)","v":"E7"}]
[{"$f":" Recap!B66","v":"T64"},{"$f":"Recap!O66","v":54},{"$f":"Recap!Q66","v":1},{"$f":"Recap!P66","v":57},64,154.43,161,{"$f":"RANK(G66,$G$3:$G$194,1)+COUNTIF(G$3:G66,G66)-1","v":161},{"$f":"IFERROR(INDEX(Liste!$G$7:$G$198,MATCH(K66,Liste!$I$7:$I$198,0)),\"\")","v":"ST"},63,"P10",55,3,46,106,null,9,null,"E",63,"P29",51,3,44,125,null,7,34555.54,57,{"$f":"RANK(AC66,$AC$3:$AC$194,1)+COUNTIF(AC$3:AC66,AC66)-1","v":58},null,{"$f":"S66&COUNTIF(S$3:S66,S66)","v":"E8"}]
[{"$f":" Recap!B67","v":"T65"},{"$f":"Recap!O67","v":55},{"$f":"Recap!Q67","v":1},{"$f":"Recap!P67","v":61},65,{"$f":"100*C67+B67+(100-D67)/100","v":155.38999999999999},160,{"$f":"RANK(G67,$G$3:$G$194,1)+COUNTIF(G$3:G67,G67)-1","v":160},{"$f":"IFERROR(INDEX(Liste!$G$7:$G$198,MATCH(K67,Liste!$I$7:$I$198,0)),\"\")","v":"C"},{"$f":"INDEX(G:G,MATCH(ROW()-2,H:H,0))","v":65},{"$f":"INDEX(A:A,MATCH(ROW()-2,H:H,0))","v":"T51"},{"$f":"INDEX(B:B,MATCH(ROW()-2,H:H,0))","v":51},{"$f":"INDEX(C:C,MATCH(K67,A:A,0))","v":3},{"$f":"INDEX(D:D,MATCH(ROW()-2,H:H,0))","v":43},{"$f":"INDEX(E:E,MATCH(ROW()-2,H:H,0))","v":51},null,{"$f":"IF(SUM(M67:N67)=0,-1000,L67-N67)","v":8},null,{"$f":"INDEX(I:I,MATCH(U67,K:K,0))","v":"E"},65,{"$f":"INDEX(K:K,MATCH(ROW()-2,$AD:$AD,0))","v":"T19"},{"$f":"INDEX(L:L,MATCH(ROW()-2,$AD:$AD,0))","v":51},{"$f":"INDEX(M:M,MATCH(ROW()-2,$AD:$AD,0))","v":3},{"$f":"INDEX(N:N,MATCH(ROW()-2,$AD:$AD,0))","v":46},{"$f":"INDEX(O:O,MATCH(ROW()-2,$AD:$AD,0))","v":19},null,5,34451.57,61,{"$f":"RANK(AC67,$AC$3:$AC$194,1)+COUNTIF(AC$3:AC67,AC67)-1","v":61},33,{"$f":"S67&COUNTIF(S$3:S67,S67)","v":"E9"}]
[{"$f":" Recap!B68","v":"T66"},{"$f":"Recap!O68","v":63},{"$f":"Recap!Q68","v":3},{"$f":"Recap!P68","v":62},{"$f":"ROW()-2","v":66},363.38,{"$f":"RANK(F68,$F$3:$F$194,0)","v":37},{"$f":"RANK(G68,$G$3:$G$194,1)+COUNTIF(G$3:G68,G68)-1","v":37},{"$f":"IFERROR(INDEX(Liste!$G$7:$G$198,MATCH(K68,Liste!$I$7:$I$198,0)),\"\")","v":"C"},65,"P51",51,3,43,147,null,8,null,"C",{"$f":"INDEX(AC:AC,MATCH(ROW()-2,AD:AD,0))","v":65},"T54",51,3,46,54,null,{"$f":"V68-X68","v":5},{"$f":"$M68*10000+($Q68+ABS(MIN($Q:$Q)))*100+$L68+(100-$N68)/100","v":34451.57},{"$f":"RANK(AB68,$AB$3:$AB$194,0)","v":61},{"$f":"RANK(AC68,$AC$3:$AC$194,1)+COUNTIF(AC$3:AC68,AC68)-1","v":62},null,{"$f":"S68&COUNTIF(S$3:S68,S68)","v":"C7"}]
[{"$f":" Recap!B69","v":"T67"},{"$f":"Recap!O69","v":28},{"$f":"Recap!Q69","v":1},{"$f":"Recap!P69","v":64},67,128.36000000000001,185,{"$f":"RANK(G69,$G$3:$G$194,1)+COUNTIF(G$3:G69,G69)-1","v":185},{"$f":"IFERROR(INDEX(Liste!$G$7:$G$198,MATCH(K69,Liste!$I$7:$I$198,0)),\"\")","v":"E"},67,"T29",51,3,44,29,null,7,null,"E",65,"P19",51,3,46,115,null,5,34351.56,63,{"$f":"RANK(AC69,$AC$3:$AC$194,1)+COUNTIF(AC$3:AC69,AC69)-1","v":63},34,{"$f":"S69&COUNTIF(S$3:S69,S69)","v":"E10"}]
[{"$f":" Recap!B70","v":"T68"},{"$f":"Recap!O70","v":65},{"$f":"Recap!Q70","v":5},{"$f":"Recap!P70","v":32},68,565.67999999999995,1,{"$f":"RANK(G70,$G$3:$G$194,1)+COUNTIF(G$3:G70,G70)-1","v":1},{"$f":"IFERROR(INDEX(Liste!$G$7:$G$198,MATCH(K70,Liste!$I$7:$I$198,0)),\"\")","v":"E"},67,"P29",51,3,44,125,null,7,null,"C",65,"P54",51,3,46,150,null,5,34351.56,63,{"$f":"RANK(AC70,$AC$3:$AC$194,1)+COUNTIF(AC$3:AC70,AC70)-1","v":64},null,{"$f":"S70&COUNTIF(S$3:S70,S70)","v":"C8"}]
[{"$f":" Recap!B71","v":"T69"},{"$f":"Recap!O71","v":46},{"$f":"Recap!Q71","v":1},{"$f":"Recap!P71","v":56},69,146.44,170,{"$f":"RANK(G71,$G$3:$G$194,1)+COUNTIF(G$3:G71,G71)-1","v":170},{"$f":"IFERROR(INDEX(Liste!$G$7:$G$198,MATCH(K71,Liste!$I$7:$I$198,0)),\"\")","v":"E"},69,"T19",51,3,46,19,null,5,null,"ST",69,"T15",51,3,47,15,null,4,34151.54,65,{"$f":"RANK(AC71,$AC$3:$AC$194,1)+COUNTIF(AC$3:AC71,AC71)-1","v":65},35,{"$f":"S71&COUNTIF(S$3:S71,S71)","v":"ST23"}]
[{"$f":" Recap!B72","v":"T70"},{"$f":"Recap!O72","v":45},{"$f":"Recap!Q72","v":3},{"$f":"Recap!P72","v":48},70,345.52,95,{"$f":"RANK(G72,$G$3:$G$194,1)+COUNTIF(G$3:G72,G72)-1","v":95},{"$f":"IFERROR(INDEX(Liste!$G$7:$G$198,MATCH(K72,Liste!$I$7:$I$198,0)),\"\")","v":"C"},69,"T54",51,3,46,54,null,5,null,"ST",69,"P15",51,3,47,111,null,4,34151.54,65,{"$f":"RANK(AC72,$AC$3:$AC$194,1)+COUNTIF(AC$3:AC72,AC72)-1","v":66},null,{"$f":"S72&COUNTIF(S$3:S72,S72)","v":"ST24"}]
[{"$f":" Recap!B73","v":"T71"},{"$f":"Recap!O73","v":48},{"$f":"Recap!Q73","v":2},{"$f":"Recap!P73","v":51},71,248.49,119,{"$f":"RANK(G73,$G$3:$G$194,1)+COUNTIF(G$3:G73,G73)-1","v":120},{"$f":"IFERROR(INDEX(Liste!$G$7:$G$198,MATCH(K73,Liste!$I$7:$I$198,0)),\"\")","v":"E"},69,"P19",51,3,46,115,null,5,null,"CE",71,"T96",56,3,53,96,null,3,34151.54,65,{"$f":"RANK(AC73,$AC$3:$AC$194,1)+COUNTIF(AC$3:AC73,AC73)-1","v":67},36,{"$f":"S73&COUNTIF(S$3:S73,S73)","v":"CE17"}]
[{"$f":" Recap!B74","v":"T72"},{"$f":"Recap!O74","v":62},{"$f":"Recap!Q74","v":4},{"$f":"Recap!P74","v":34},72,462.66,7,{"$f":"RANK(G74,$G$3:$G$194,1)+COUNTIF(G$3:G74,G74)-1","v":7},{"$f":"IFERROR(INDEX(Liste!$G$7:$G$198,MATCH(K74,Liste!$I$7:$I$198,0)),\"\")","v":"C"},69,"P54",51,3,46,150,null,5,null,"CE",71,"P96",56,3,53,192,null,3,34151.54,65,{"$f":"RANK(AC74,$AC$3:$AC$194,1)+COUNTIF(AC$3:AC74,AC74)-1","v":68},null,{"$f":"S74&COUNTIF(S$3:S74,S74)","v":"CE18"}]
[{"$f":" Recap!B75","v":"T73"},{"$f":"Recap!O75","v":40},{"$f":"Recap!Q75","v":2},{"$f":"Recap!P75","v":47},73,240.53,147,{"$f":"RANK(G75,$G$3:$G$194,1)+COUNTIF(G$3:G75,G75)-1","v":148},{"$f":"IFERROR(INDEX(Liste!$G$7:$G$198,MATCH(K75,Liste!$I$7:$I$198,0)),\"\")","v":"ST"},73,"T15",51,3,47,15,null,4,null,"A",73,"T45",49,3,46,45,null,3,34051.53,69,{"$f":"RANK(AC75,$AC$3:$AC$194,1)+COUNTIF(AC$3:AC75,AC75)-1","v":69},37,{"$f":"S75&COUNTIF(S$3:S75,S75)","v":"A13"}]
[{"$f":" Recap!B76","v":"T74"},{"$f":"Recap!O76","v":58},{"$f":"Recap!Q76","v":4},{"$f":"Recap!P76","v":34},74,458.66,13,{"$f":"RANK(G76,$G$3:$G$194,1)+COUNTIF(G$3:G76,G76)-1","v":14},{"$f":"IFERROR(INDEX(Liste!$G$7:$G$198,MATCH(K76,Liste!$I$7:$I$198,0)),\"\")","v":"ST"},73,"P15",51,3,47,111,null,4,null,"A",73,"P45",49,3,46,141,null,3,34051.53,69,{"$f":"RANK(AC76,$AC$3:$AC$194,1)+COUNTIF(AC$3:AC76,AC76)-1","v":70},null,{"$f":"S76&COUNTIF(S$3:S76,S76)","v":"A14"}]
[{"$f":" Recap!B77","v":"T75"},{"$f":"Recap!O77","v":34},{"$f":"Recap!Q77","v":0},{"$f":"Recap!P77","v":65},75,34.35,187,{"$f":"RANK(G77,$G$3:$G$194,1)+COUNTIF(G$3:G77,G77)-1","v":188},{"$f":"IFERROR(INDEX(Liste!$G$7:$G$198,MATCH(K77,Liste!$I$7:$I$198,0)),\"\")","v":"CE"},75,"T95",51,3,53,95,null,-2,null,"A",75,"T42",47,3,45,42,null,2,33451.47,89,{"$f":"RANK(AC77,$AC$3:$AC$194,1)+COUNTIF(AC$3:AC77,AC77)-1","v":89},38,{"$f":"S77&COUNTIF(S$3:S77,S77)","v":"A15"}]
[{"$f":" Recap!B78","v":"T76"},{"$f":"Recap!O78","v":56},{"$f":"Recap!Q78","v":4},{"$f":"Recap!P78","v":38},76,456.62,33,{"$f":"RANK(G78,$G$3:$G$194,1)+COUNTIF(G$3:G78,G78)-1","v":33},{"$f":"IFERROR(INDEX(Liste!$G$7:$G$198,MATCH(K78,Liste!$I$7:$I$198,0)),\"\")","v":"CE"},75,"P95",51,3,53,191,null,-2,null,"C",75,"T53",47,3,45,53,null,2,33451.47,89,{"$f":"RANK(AC78,$AC$3:$AC$194,1)+COUNTIF(AC$3:AC78,AC78)-1","v":90},null,{"$f":"S78&COUNTIF(S$3:S78,S78)","v":"C9"}]
[{"$f":" Recap!B79","v":"T77"},{"$f":"Recap!O79","v":58},{"$f":"Recap!Q79","v":4},{"$f":"Recap!P79","v":45},77,458.55,25,{"$f":"RANK(G79,$G$3:$G$194,1)+COUNTIF(G$3:G79,G79)-1","v":25},{"$f":"IFERROR(INDEX(Liste!$G$7:$G$198,MATCH(K79,Liste!$I$7:$I$198,0)),\"\")","v":"C"},77,"T63",51,3,59,63,null,-8,null,"A",75,"P42",47,3,45,138,null,2,32851.410000000003,95,{"$f":"RANK(AC79,$AC$3:$AC$194,1)+COUNTIF(AC$3:AC79,AC79)-1","v":95},39,{"$f":"S79&COUNTIF(S$3:S79,S79)","v":"A16"}]
[{"$f":" Recap!B80","v":"T78"},{"$f":"Recap!O80","v":46},{"$f":"Recap!Q80","v":2},{"$f":"Recap!P80","v":54},78,246.46,135,{"$f":"RANK(G80,$G$3:$G$194,1)+COUNTIF(G$3:G80,G80)-1","v":135},{"$f":"IFERROR(INDEX(Liste!$G$7:$G$198,MATCH(K80,Liste!$I$7:$I$198,0)),\"\")","v":"C"},77,"P63",51,3,59,159,null,-8,null,"C",75,"P53",47,3,45,149,null,2,32851.410000000003,95,{"$f":"RANK(AC80,$AC$3:$AC$194,1)+COUNTIF(AC$3:AC80,AC80)-1","v":96},null,{"$f":"S80&COUNTIF(S$3:S80,S80)","v":"C10"}]
[{"$f":" Recap!B81","v":"T79"},{"$f":"Recap!O81","v":53},{"$f":"Recap!Q81","v":1},{"$f":"Recap!P81","v":57},79,153.43,163,{"$f":"RANK(G81,$G$3:$G$194,1)+COUNTIF(G$3:G81,G81)-1","v":163},{"$f":"IFERROR(INDEX(Liste!$G$7:$G$198,MATCH(K81,Liste!$I$7:$I$198,0)),\"\")","v":"A"},79,"T44",50,3,50,44,null,0,null,"C",79,"T66",63,3,62,66,null,1,33650.5,83,{"$f":"RANK(AC81,$AC$3:$AC$194,1)+COUNTIF(AC$3:AC81,AC81)-1","v":83},40,{"$f":"S81&COUNTIF(S$3:S81,S81)","v":"C11"}]
[{"$f":" Recap!B82","v":"T80"},{"$f":"Recap!O82","v":45},{"$f":"Recap!Q82","v":2},{"$f":"Recap!P82","v":62},80,245.38,139,{"$f":"RANK(G82,$G$3:$G$194,1)+COUNTIF(G$3:G82,G82)-1","v":139},{"$f":"IFERROR(INDEX(Liste!$G$7:$G$198,MATCH(K82,Liste!$I$7:$I$198,0)),\"\")","v":"CE"},79,"T88",50,3,50,88,null,0,null,"C",79,"P66",63,3,62,162,null,1,33650.5,83,{"$f":"RANK(AC82,$AC$3:$AC$194,1)+COUNTIF(AC$3:AC82,AC82)-1","v":84},null,{"$f":"S82&COUNTIF(S$3:S82,S82)","v":"C12"}]
[{"$f":" Recap!B83","v":"T81"},{"$f":"Recap!O83","v":39},{"$f":"Recap!Q83","v":2},{"$f":"Recap!P83","v":58},81,239.42,155,{"$f":"RANK(G83,$G$3:$G$194,1)+COUNTIF(G$3:G83,G83)-1","v":155},{"$f":"IFERROR(INDEX(Liste!$G$7:$G$198,MATCH(K83,Liste!$I$7:$I$198,0)),\"\")","v":"A"},79,"P44",50,3,50,140,null,0,null,"CE",81,"T89",49,3,48,89,null,1,33650.5,83,{"$f":"RANK(AC83,$AC$3:$AC$194,1)+COUNTIF(AC$3:AC83,AC83)-1","v":85},41,{"$f":"S83&COUNTIF(S$3:S83,S83)","v":"CE19"}]
[{"$f":" Recap!B84","v":"T82"},{"$f":"Recap!O84","v":56},{"$f":"Recap!Q84","v":2},{"$f":"Recap!P84","v":58},82,256.42,99,{"$f":"RANK(G84,$G$3:$G$194,1)+COUNTIF(G$3:G84,G84)-1","v":99},{"$f":"IFERROR(INDEX(Liste!$G$7:$G$198,MATCH(K84,Liste!$I$7:$I$198,0)),\"\")","v":"CE"},79,"P88",50,3,50,184,null,0,null,"CE",81,"P89",49,3,48,185,null,1,33650.5,83,{"$f":"RANK(AC84,$AC$3:$AC$194,1)+COUNTIF(AC$3:AC84,AC84)-1","v":86},null,{"$f":"S84&COUNTIF(S$3:S84,S84)","v":"CE20"}]
[{"$f":" Recap!B85","v":"T83"},{"$f":"Recap!O85","v":58},{"$f":"Recap!Q85","v":4},{"$f":"Recap!P85","v":34},83,458.66,13,{"$f":"RANK(G85,$G$3:$G$194,1)+COUNTIF(G$3:G85,G85)-1","v":15},{"$f":"IFERROR(INDEX(Liste!$G$7:$G$198,MATCH(K85,Liste!$I$7:$I$198,0)),\"\")","v":"C"},83,"T60",50,3,52,60,null,-2,null,"A",83,"T44",50,3,50,44,null,0,33450.480000000003,91,{"$f":"RANK(AC85,$AC$3:$AC$194,1)+COUNTIF(AC$3:AC85,AC85)-1","v":91},42,{"$f":"S85&COUNTIF(S$3:S85,S85)","v":"A17"}]
[{"$f":" Recap!B86","v":"T84"},{"$f":"Recap!O86","v":47},{"$f":"Recap!Q86","v":3},{"$f":"Recap!P86","v":48},84,347.52,93,{"$f":"RANK(G86,$G$3:$G$194,1)+COUNTIF(G$3:G86,G86)-1","v":93},{"$f":"IFERROR(INDEX(Liste!$G$7:$G$198,MATCH(K86,Liste!$I$7:$I$198,0)),\"\")","v":"C"},83,"P60",50,3,52,156,null,-2,null,"CE",83,"T88",50,3,50,88,null,0,33450.480000000003,91,{"$f":"RANK(AC86,$AC$3:$AC$194,1)+COUNTIF(AC$3:AC86,AC86)-1","v":92},null,{"$f":"S86&COUNTIF(S$3:S86,S86)","v":"CE21"}]
[{"$f":" Recap!B87","v":"T85"},{"$f":"Recap!O87","v":42},{"$f":"Recap!Q87","v":1},{"$f":"Recap!P87","v":63},85,142.37,177,{"$f":"RANK(G87,$G$3:$G$194,1)+COUNTIF(G$3:G87,G87)-1","v":177},{"$f":"IFERROR(INDEX(Liste!$G$7:$G$198,MATCH(K87,Liste!$I$7:$I$198,0)),\"\")","v":"A"},85,"T45",49,3,46,45,null,3,null,"A",83,"P44",50,3,50,140,null,0,33949.54,73,{"$f":"RANK(AC87,$AC$3:$AC$194,1)+COUNTIF(AC$3:AC87,AC87)-1","v":73},43,{"$f":"S87&COUNTIF(S$3:S87,S87)","v":"A18"}]
[{"$f":" Recap!B88","v":"T86"},{"$f":"Recap!O88","v":45},{"$f":"Recap!Q88","v":2},{"$f":"Recap!P88","v":47},86,245.53,138,{"$f":"RANK(G88,$G$3:$G$194,1)+COUNTIF(G$3:G88,G88)-1","v":138},{"$f":"IFERROR(INDEX(Liste!$G$7:$G$198,MATCH(K88,Liste!$I$7:$I$198,0)),\"\")","v":"A"},85,"P45",49,3,46,141,null,3,null,"CE",83,"P88",50,3,50,184,null,0,33949.54,73,{"$f":"RANK(AC88,$AC$3:$AC$194,1)+COUNTIF(AC$3:AC88,AC88)-1","v":74},null,{"$f":"S88&COUNTIF(S$3:S88,S88)","v":"CE22"}]
[{"$f":" Recap!B89","v":"T87"},{"$f":"Recap!O89","v":55},{"$f":"Recap!Q89","v":2},{"$f":"Recap!P89","v":46},87,255.54,101,{"$f":"RANK(G89,$G$3:$G$194,1)+COUNTIF(G$3:G89,G89)-1","v":101},{"$f":"IFERROR(INDEX(Liste!$G$7:$G$198,MATCH(K89,Liste!$I$7:$I$198,0)),\"\")","v":"CE"},87,"T89",49,3,48,89,null,1,null,"CE",87,"T84",47,3,48,84,null,-1,33749.519999999997,81,{"$f":"RANK(AC89,$AC$3:$AC$194,1)+COUNTIF(AC$3:AC89,AC89)-1","v":81},44,{"$f":"S89&COUNTIF(S$3:S89,S89)","v":"CE23"}]
[{"$f":" Recap!B90","v":"T88"},{"$f":"Recap!O90","v":50},{"$f":"Recap!Q90","v":3},{"$f":"Recap!P90","v":50},88,350.5,79,{"$f":"RANK(G90,$G$3:$G$194,1)+COUNTIF(G$3:G90,G90)-1","v":80},{"$f":"IFERROR(INDEX(Liste!$G$7:$G$198,MATCH(K90,Liste!$I$7:$I$198,0)),\"\")","v":"CE"},87,"P89",49,3,48,185,null,1,null,"CE",87,"P84",47,3,48,180,null,-1,33749.519999999997,81,{"$f":"RANK(AC90,$AC$3:$AC$194,1)+COUNTIF(AC$3:AC90,AC90)-1","v":82},null,{"$f":"S90&COUNTIF(S$3:S90,S90)","v":"CE24"}]
[{"$f":" Recap!B91","v":"T89"},{"$f":"Recap!O91","v":49},{"$f":"Recap!Q91","v":3},{"$f":"Recap!P91","v":48},89,349.52,87,{"$f":"RANK(G91,$G$3:$G$194,1)+COUNTIF(G$3:G91,G91)-1","v":87},{"$f":"IFERROR(INDEX(Liste!$G$7:$G$198,MATCH(K91,Liste!$I$7:$I$198,0)),\"\")","v":"A"},89,"T42",47,3,45,42,null,2,null,"CE",89,"T95",51,3,53,95,null,-2,33847.550000000003,75,{"$f":"RANK(AC91,$AC$3:$AC$194,1)+COUNTIF(AC$3:AC91,AC91)-1","v":75},45,{"$f":"S91&COUNTIF(S$3:S91,S91)","v":"CE25"}]
[{"$f":" Recap!B92","v":"T90"},{"$f":"Recap!O92","v":57},{"$f":"Recap!Q92","v":3},{"$f":"Recap!P92","v":47},90,357.53,47,{"$f":"RANK(G92,$G$3:$G$194,1)+COUNTIF(G$3:G92,G92)-1","v":48},{"$f":"IFERROR(INDEX(Liste!$G$7:$G$198,MATCH(K92,Liste!$I$7:$I$198,0)),\"\")","v":"C"},89,"T53",47,3,45,53,null,2,null,"CE",89,"P95",51,3,53,191,null,-2,33847.550000000003,75,{"$f":"RANK(AC92,$AC$3:$AC$194,1)+COUNTIF(AC$3:AC92,AC92)-1","v":76},null,{"$f":"S92&COUNTIF(S$3:S92,S92)","v":"CE26"}]
[{"$f":" Recap!B93","v":"T91"},{"$f":"Recap!O93","v":58},{"$f":"Recap!Q93","v":3},{"$f":"Recap!P93","v":40},91,358.6,41,{"$f":"RANK(G93,$G$3:$G$194,1)+COUNTIF(G$3:G93,G93)-1","v":41},{"$f":"IFERROR(INDEX(Liste!$G$7:$G$198,MATCH(K93,Liste!$I$7:$I$198,0)),\"\")","v":"A"},89,"P42",47,3,45,138,null,2,null,"C",91,"T60",50,3,52,60,null,-2,33847.550000000003,75,{"$f":"RANK(AC93,$AC$3:$AC$194,1)+COUNTIF(AC$3:AC93,AC93)-1","v":77},46,{"$f":"S93&COUNTIF(S$3:S93,S93)","v":"C13"}]
[{"$f":" Recap!B94","v":"T92"},{"$f":"Recap!O94","v":51},{"$f":"Recap!Q94","v":2},{"$f":"Recap!P94","v":61},92,251.39,113,{"$f":"RANK(G94,$G$3:$G$194,1)+COUNTIF(G$3:G94,G94)-1","v":113},{"$f":"IFERROR(INDEX(Liste!$G$7:$G$198,MATCH(K94,Liste!$I$7:$I$198,0)),\"\")","v":"C"},89,"P53",47,3,45,149,null,2,null,"C",91,"P60",50,3,52,156,null,-2,33847.550000000003,75,{"$f":"RANK(AC94,$AC$3:$AC$194,1)+COUNTIF(AC$3:AC94,AC94)-1","v":78},null,{"$f":"S94&COUNTIF(S$3:S94,S94)","v":"C14"}]
[{"$f":" Recap!B95","v":"T93"},{"$f":"Recap!O95","v":52},{"$f":"Recap!Q95","v":2},{"$f":"Recap!P95","v":61},93,252.39,107,{"$f":"RANK(G95,$G$3:$G$194,1)+COUNTIF(G$3:G95,G95)-1","v":107},{"$f":"IFERROR(INDEX(Liste!$G$7:$G$198,MATCH(K95,Liste!$I$7:$I$198,0)),\"\")","v":"CE"},93,"T84",47,3,48,84,null,-1,null,"CE",93,"T70",45,3,48,70,null,-3,33547.519999999997,87,{"$f":"RANK(AC95,$AC$3:$AC$194,1)+COUNTIF(AC$3:AC95,AC95)-1","v":87},47,{"$f":"S95&COUNTIF(S$3:S95,S95)","v":"CE27"}]
[{"$f":" Recap!B96","v":"T94"},{"$f":"Recap!O96","v":56},{"$f":"Recap!Q96","v":3},{"$f":"Recap!P96","v":47},94,356.53,55,{"$f":"RANK(G96,$G$3:$G$194,1)+COUNTIF(G$3:G96,G96)-1","v":55},{"$f":"IFERROR(INDEX(Liste!$G$7:$G$198,MATCH(K96,Liste!$I$7:$I$198,0)),\"\")","v":"CE"},93,"P84",47,3,48,180,null,-1,null,"CE",93,"P70",45,3,48,166,null,-3,33547.519999999997,87,{"$f":"RANK(AC96,$AC$3:$AC$194,1)+COUNTIF(AC$3:AC96,AC96)-1","v":88},null,{"$f":"S96&COUNTIF(S$3:S96,S96)","v":"CE28"}]
[{"$f":" Recap!B97","v":"T95"},{"$f":"Recap!O97","v":51},{"$f":"Recap!Q97","v":3},{"$f":"Recap!P97","v":53},95,351.47,75,{"$f":"RANK(G97,$G$3:$G$194,1)+COUNTIF(G$3:G97,G97)-1","v":75},{"$f":"IFERROR(INDEX(Liste!$G$7:$G$198,MATCH(K97,Liste!$I$7:$I$198,0)),\"\")","v":"CE"},95,"T70",45,3,48,70,null,-3,null,"C",95,"T63",51,3,59,63,null,-8,33345.519999999997,93,{"$f":"RANK(AC97,$AC$3:$AC$194,1)+COUNTIF(AC$3:AC97,AC97)-1","v":93},48,{"$f":"S97&COUNTIF(S$3:S97,S97)","v":"C15"}]
[{"$f":" Recap!B98","v":"T96"},{"$f":"Recap!O98","v":56},{"$f":"Recap!Q98","v":3},{"$f":"Recap!P98","v":53},96,356.47,57,{"$f":"RANK(G98,$G$3:$G$194,1)+COUNTIF(G$3:G98,G98)-1","v":57},{"$f":"IFERROR(INDEX(Liste!$G$7:$G$198,MATCH(K98,Liste!$I$7:$I$198,0)),\"\")","v":"CE"},95,"P70",45,3,48,166,null,-3,null,"C",95,"P63",51,3,59,159,null,-8,33345.519999999997,93,{"$f":"RANK(AC98,$AC$3:$AC$194,1)+COUNTIF(AC$3:AC98,AC98)-1","v":94},null,{"$f":"S98&COUNTIF(S$3:S98,S98)","v":"C16"}]
[{"$f":" Recap!B99","v":"P1"},{"$f":"Recap!O99","v":65},{"$f":"Recap!Q99","v":5},{"$f":"Recap!P99","v":34},97,565.66,3,{"$f":"RANK(G99,$G$3:$G$194,1)+COUNTIF(G$3:G99,G99)-1","v":4},{"$f":"IFERROR(INDEX(Liste!$G$7:$G$198,MATCH(K99,Liste!$I$7:$I$198,0)),\"\")","v":"A"},{"$f":"INDEX(G:G,MATCH(ROW()-2,H:H,0))","v":97},{"$f":"INDEX(A:A,MATCH(ROW()-2,H:H,0))","v":"T33"},{"$f":"INDEX(B:B,MATCH(ROW()-2,H:H,0))","v":62},2,{"$f":"INDEX(D:D,MATCH(ROW()-2,H:H,0))","v":63},{"$f":"INDEX(E:E,MATCH(ROW()-2,H:H,0))","v":33},null,-1,null,{"$f":"INDEX(I:I,MATCH(U99,K:K,0))","v":"CE"},97,{"$f":"INDEX(K:K,MATCH(ROW()-2,$AD:$AD,0))","v":"T87"},{"$f":"INDEX(L:L,MATCH(ROW()-2,$AD:$AD,0))","v":55},{"$f":"INDEX(M:M,MATCH(ROW()-2,$AD:$AD,0))","v":2},{"$f":"INDEX(N:N,MATCH(ROW()-2,$AD:$AD,0))","v":46},{"$f":"INDEX(O:O,MATCH(ROW()-2,$AD:$AD,0))","v":87},null,9,23562.37,100,{"$f":"RANK(AC99,$AC$3:$AC$194,1)+COUNTIF(AC$3:AC99,AC99)-1","v":100},49,{"$f":"S99&COUNTIF(S$3:S99,S99)","v":"CE29"}]
[{"$f":" Recap!B100","v":"P2"},{"$f":"Recap!O100","v":61},{"$f":"Recap!Q100","v":3},{"$f":"Recap!P100","v":43},98,361.57,39,{"$f":"RANK(G100,$G$3:$G$194,1)+COUNTIF(G$3:G100,G100)-1","v":40},{"$f":"IFERROR(INDEX(Liste!$G$7:$G$198,MATCH(K100,Liste!$I$7:$I$198,0)),\"\")","v":"A"},97,"P33",62,2,63,129,null,-1,null,"CE",97,"P87",55,2,46,183,null,9,23562.37,100,{"$f":"RANK(AC100,$AC$3:$AC$194,1)+COUNTIF(AC$3:AC100,AC100)-1","v":101},null,{"$f":"S100&COUNTIF(S$3:S100,S100)","v":"CE30"}]
[{"$f":" Recap!B101","v":"P3"},{"$f":"Recap!O101","v":57},{"$f":"Recap!Q101","v":3},{"$f":"Recap!P101","v":47},99,357.53,47,{"$f":"RANK(G101,$G$3:$G$194,1)+COUNTIF(G$3:G101,G101)-1","v":49},{"$f":"IFERROR(INDEX(Liste!$G$7:$G$198,MATCH(K101,Liste!$I$7:$I$198,0)),\"\")","v":"CE"},99,"T82",56,2,58,82,null,-2,null,"CE",99,"P86",45,2,45,182,null,0,23456.42,104,{"$f":"RANK(AC101,$AC$3:$AC$194,1)+COUNTIF(AC$3:AC101,AC101)-1","v":104},50,{"$f":"S101&COUNTIF(S$3:S101,S101)","v":"CE31"}]
[{"$f":" Recap!B102","v":"P4"},{"$f":"Recap!O102","v":62},{"$f":"Recap!Q102","v":4},{"$f":"Recap!P102","v":43},100,462.57,9,{"$f":"RANK(G102,$G$3:$G$194,1)+COUNTIF(G$3:G102,G102)-1","v":10},{"$f":"IFERROR(INDEX(Liste!$G$7:$G$198,MATCH(K102,Liste!$I$7:$I$198,0)),\"\")","v":"CE"},99,"P82",56,2,58,178,null,-2,null,"A",100,"T33",62,2,63,33,null,-1,23456.42,104,{"$f":"RANK(AC102,$AC$3:$AC$194,1)+COUNTIF(AC$3:AC102,AC102)-1","v":105},null,{"$f":"S102&COUNTIF(S$3:S102,S102)","v":"A19"}]
[{"$f":" Recap!B103","v":"P5"},{"$f":"Recap!O103","v":57},{"$f":"Recap!Q103","v":3},{"$f":"Recap!P103","v":49},101,357.51,53,{"$f":"RANK(G103,$G$3:$G$194,1)+COUNTIF(G$3:G103,G103)-1","v":54},{"$f":"IFERROR(INDEX(Liste!$G$7:$G$198,MATCH(K103,Liste!$I$7:$I$198,0)),\"\")","v":"CE"},101,"T87",55,2,46,87,null,9,null,"A",100,"P33",62,2,63,129,null,-1,24555.54,97,{"$f":"RANK(AC103,$AC$3:$AC$194,1)+COUNTIF(AC$3:AC103,AC103)-1","v":97},51,{"$f":"S103&COUNTIF(S$3:S103,S103)","v":"A20"}]
[{"$f":" Recap!B104","v":"P6"},{"$f":"Recap!O104","v":37},{"$f":"Recap!Q104","v":1},{"$f":"Recap!P104","v":56},102,137.44,181,{"$f":"RANK(G104,$G$3:$G$194,1)+COUNTIF(G$3:G104,G104)-1","v":182},{"$f":"IFERROR(INDEX(Liste!$G$7:$G$198,MATCH(K104,Liste!$I$7:$I$198,0)),\"\")","v":"CE"},101,"P87",55,2,46,183,null,9,null,"A",102,"T47",50,2,51,47,null,-1,24555.54,97,{"$f":"RANK(AC104,$AC$3:$AC$194,1)+COUNTIF(AC$3:AC104,AC104)-1","v":98},null,{"$f":"S104&COUNTIF(S$3:S104,S104)","v":"A21"}]
[{"$f":" Recap!B105","v":"P7"},{"$f":"Recap!O105","v":58},{"$f":"Recap!Q105","v":4},{"$f":"Recap!P105","v":47},103,458.53,27,{"$f":"RANK(G105,$G$3:$G$194,1)+COUNTIF(G$3:G105,G105)-1","v":30},{"$f":"IFERROR(INDEX(Liste!$G$7:$G$198,MATCH(K105,Liste!$I$7:$I$198,0)),\"\")","v":"E"},103,"T18",52,2,54,18,null,-2,null,"A",102,"P47",50,2,51,143,null,-1,23452.46,106,{"$f":"RANK(AC105,$AC$3:$AC$194,1)+COUNTIF(AC$3:AC105,AC105)-1","v":106},52,{"$f":"S105&COUNTIF(S$3:S105,S105)","v":"A22"}]
[{"$f":" Recap!B106","v":"P8"},{"$f":"Recap!O106","v":55},{"$f":"Recap!Q106","v":3},{"$f":"Recap!P106","v":43},104,355.57,59,{"$f":"RANK(G106,$G$3:$G$194,1)+COUNTIF(G$3:G106,G106)-1","v":60},{"$f":"IFERROR(INDEX(Liste!$G$7:$G$198,MATCH(K106,Liste!$I$7:$I$198,0)),\"\")","v":"E"},103,"T26",52,2,54,26,null,-2,null,"CE",104,"T82",56,2,58,82,null,-2,23452.46,106,{"$f":"RANK(AC106,$AC$3:$AC$194,1)+COUNTIF(AC$3:AC106,AC106)-1","v":107},null,{"$f":"S106&COUNTIF(S$3:S106,S106)","v":"CE32"}]
[{"$f":" Recap!B107","v":"P9"},{"$f":"Recap!O107","v":57},{"$f":"Recap!Q107","v":3},{"$f":"Recap!P107","v":48},105,357.52,51,{"$f":"RANK(G107,$G$3:$G$194,1)+COUNTIF(G$3:G107,G107)-1","v":52},{"$f":"IFERROR(INDEX(Liste!$G$7:$G$198,MATCH(K107,Liste!$I$7:$I$198,0)),\"\")","v":"E"},103,"P18",52,2,54,114,null,-2,null,"CE",104,"P82",56,2,58,178,null,-2,23452.46,106,{"$f":"RANK(AC107,$AC$3:$AC$194,1)+COUNTIF(AC$3:AC107,AC107)-1","v":108},53,{"$f":"S107&COUNTIF(S$3:S107,S107)","v":"CE33"}]
[{"$f":" Recap!B108","v":"P10"},{"$f":"Recap!O108","v":55},{"$f":"Recap!Q108","v":3},{"$f":"Recap!P108","v":46},106,355.54,63,{"$f":"RANK(G108,$G$3:$G$194,1)+COUNTIF(G$3:G108,G108)-1","v":64},{"$f":"IFERROR(INDEX(Liste!$G$7:$G$198,MATCH(K108,Liste!$I$7:$I$198,0)),\"\")","v":"E"},103,"P26",52,2,54,122,null,-2,null,"E",106,"T18",52,2,54,18,null,-2,23452.46,106,{"$f":"RANK(AC108,$AC$3:$AC$194,1)+COUNTIF(AC$3:AC108,AC108)-1","v":109},null,{"$f":"S108&COUNTIF(S$3:S108,S108)","v":"E11"}]
[{"$f":" Recap!B109","v":"P11"},{"$f":"Recap!O109","v":41},{"$f":"Recap!Q109","v":2},{"$f":"Recap!P109","v":53},107,241.47,143,{"$f":"RANK(G109,$G$3:$G$194,1)+COUNTIF(G$3:G109,G109)-1","v":144},{"$f":"IFERROR(INDEX(Liste!$G$7:$G$198,MATCH(K109,Liste!$I$7:$I$198,0)),\"\")","v":"CE"},107,"T93",52,2,61,93,null,-9,null,"E",106,"T26",52,2,54,26,null,-2,22752.39,129,{"$f":"RANK(AC109,$AC$3:$AC$194,1)+COUNTIF(AC$3:AC109,AC109)-1","v":129},54,{"$f":"S109&COUNTIF(S$3:S109,S109)","v":"E12"}]
[{"$f":" Recap!B110","v":"P12"},{"$f":"Recap!O110","v":44},{"$f":"Recap!Q110","v":2},{"$f":"Recap!P110","v":46},108,244.54,141,{"$f":"RANK(G110,$G$3:$G$194,1)+COUNTIF(G$3:G110,G110)-1","v":142},{"$f":"IFERROR(INDEX(Liste!$G$7:$G$198,MATCH(K110,Liste!$I$7:$I$198,0)),\"\")","v":"CE"},107,"P93",52,2,61,189,null,-9,null,"E",106,"P18",52,2,54,114,null,-2,22752.39,129,{"$f":"RANK(AC110,$AC$3:$AC$194,1)+COUNTIF(AC$3:AC110,AC110)-1","v":130},null,{"$f":"S110&COUNTIF(S$3:S110,S110)","v":"E13"}]
[{"$f":" Recap!B111","v":"P13"},{"$f":"Recap!O111","v":58},{"$f":"Recap!Q111","v":4},{"$f":"Recap!P111","v":47},109,458.53,27,{"$f":"RANK(G111,$G$3:$G$194,1)+COUNTIF(G$3:G111,G111)-1","v":31},{"$f":"IFERROR(INDEX(Liste!$G$7:$G$198,MATCH(K111,Liste!$I$7:$I$198,0)),\"\")","v":"ST"},109,"T14",51,2,60,14,null,-9,null,"E",106,"P26",52,2,54,122,null,-2,22751.4,131,{"$f":"RANK(AC111,$AC$3:$AC$194,1)+COUNTIF(AC$3:AC111,AC111)-1","v":131},55,{"$f":"S111&COUNTIF(S$3:S111,S111)","v":"E14"}]
[{"$f":" Recap!B112","v":"P14"},{"$f":"Recap!O112","v":51},{"$f":"Recap!Q112","v":2},{"$f":"Recap!P112","v":60},110,251.4,109,{"$f":"RANK(G112,$G$3:$G$194,1)+COUNTIF(G$3:G112,G112)-1","v":111},{"$f":"IFERROR(INDEX(Liste!$G$7:$G$198,MATCH(K112,Liste!$I$7:$I$198,0)),\"\")","v":"C"},109,"T56",51,2,60,56,null,-9,null,"CE",110,"T86",45,2,47,86,null,-2,22751.4,131,{"$f":"RANK(AC112,$AC$3:$AC$194,1)+COUNTIF(AC$3:AC112,AC112)-1","v":132},null,{"$f":"S112&COUNTIF(S$3:S112,S112)","v":"CE34"}]
[{"$f":" Recap!B113","v":"P15"},{"$f":"Recap!O113","v":51},{"$f":"Recap!Q113","v":3},{"$f":"Recap!P113","v":47},111,351.53,73,{"$f":"RANK(G113,$G$3:$G$194,1)+COUNTIF(G$3:G113,G113)-1","v":74},{"$f":"IFERROR(INDEX(Liste!$G$7:$G$198,MATCH(K113,Liste!$I$7:$I$198,0)),\"\")","v":"ST"},109,"P14",51,2,60,110,null,-9,null,"ST",111,"T12",44,2,46,12,null,-2,22751.4,131,{"$f":"RANK(AC113,$AC$3:$AC$194,1)+COUNTIF(AC$3:AC113,AC113)-1","v":133},56,{"$f":"S113&COUNTIF(S$3:S113,S113)","v":"ST25"}]
[{"$f":" Recap!B114","v":"P16"},{"$f":"Recap!O114","v":34},{"$f":"Recap!Q114","v":0},{"$f":"Recap!P114","v":65},112,34.35,187,{"$f":"RANK(G114,$G$3:$G$194,1)+COUNTIF(G$3:G114,G114)-1","v":189},{"$f":"IFERROR(INDEX(Liste!$G$7:$G$198,MATCH(K114,Liste!$I$7:$I$198,0)),\"\")","v":"C"},109,"P56",51,2,60,152,null,-9,null,"ST",111,"P12",44,2,46,108,null,-2,22751.4,131,{"$f":"RANK(AC114,$AC$3:$AC$194,1)+COUNTIF(AC$3:AC114,AC114)-1","v":134},null,{"$f":"S114&COUNTIF(S$3:S114,S114)","v":"ST26"}]
[{"$f":" Recap!B115","v":"P17"},{"$f":"Recap!O115","v":58},{"$f":"Recap!Q115","v":4},{"$f":"Recap!P115","v":41},113,458.59,19,{"$f":"RANK(G115,$G$3:$G$194,1)+COUNTIF(G$3:G115,G115)-1","v":20},{"$f":"IFERROR(INDEX(Liste!$G$7:$G$198,MATCH(K115,Liste!$I$7:$I$198,0)),\"\")","v":"CE"},113,"T92",51,2,61,92,null,-10,null,"A",113,"T36",48,2,51,36,null,-3,22651.39,135,{"$f":"RANK(AC115,$AC$3:$AC$194,1)+COUNTIF(AC$3:AC115,AC115)-1","v":135},57,{"$f":"S115&COUNTIF(S$3:S115,S115)","v":"A23"}]
[{"$f":" Recap!B116","v":"P18"},{"$f":"Recap!O116","v":52},{"$f":"Recap!Q116","v":2},{"$f":"Recap!P116","v":54},114,252.46,103,{"$f":"RANK(G116,$G$3:$G$194,1)+COUNTIF(G$3:G116,G116)-1","v":105},{"$f":"IFERROR(INDEX(Liste!$G$7:$G$198,MATCH(K116,Liste!$I$7:$I$198,0)),\"\")","v":"CE"},113,"P92",51,2,61,188,null,-10,null,"CE",113,"T71",48,2,51,71,null,-3,22651.39,135,{"$f":"RANK(AC116,$AC$3:$AC$194,1)+COUNTIF(AC$3:AC116,AC116)-1","v":136},null,{"$f":"S116&COUNTIF(S$3:S116,S116)","v":"CE35"}]
[{"$f":" Recap!B117","v":"P19"},{"$f":"Recap!O117","v":51},{"$f":"Recap!Q117","v":3},{"$f":"Recap!P117","v":46},115,351.54,69,{"$f":"RANK(G117,$G$3:$G$194,1)+COUNTIF(G$3:G117,G117)-1","v":71},{"$f":"IFERROR(INDEX(Liste!$G$7:$G$198,MATCH(K117,Liste!$I$7:$I$198,0)),\"\")","v":"A"},115,"T47",50,2,51,47,null,-1,null,"A",113,"P36",48,2,51,132,null,-3,23550.49,102,{"$f":"RANK(AC117,$AC$3:$AC$194,1)+COUNTIF(AC$3:AC117,AC117)-1","v":102},58,{"$f":"S117&COUNTIF(S$3:S117,S117)","v":"A24"}]
[{"$f":" Recap!B118","v":"P20"},{"$f":"Recap!O118","v":55},{"$f":"Recap!Q118","v":3},{"$f":"Recap!P118","v":45},116,355.55,61,{"$f":"RANK(G118,$G$3:$G$194,1)+COUNTIF(G$3:G118,G118)-1","v":62},{"$f":"IFERROR(INDEX(Liste!$G$7:$G$198,MATCH(K118,Liste!$I$7:$I$198,0)),\"\")","v":"A"},115,"P47",50,2,51,143,null,-1,null,"CE",113,"P71",48,2,51,167,null,-3,23550.49,102,{"$f":"RANK(AC118,$AC$3:$AC$194,1)+COUNTIF(AC$3:AC118,AC118)-1","v":103},null,{"$f":"S118&COUNTIF(S$3:S118,S118)","v":"CE36"}]
[{"$f":" Recap!B119","v":"P21"},{"$f":"Recap!O119","v":41},{"$f":"Recap!Q119","v":2},{"$f":"Recap!P119","v":55},117,241.45,145,{"$f":"RANK(G119,$G$3:$G$194,1)+COUNTIF(G$3:G119,G119)-1","v":146},{"$f":"IFERROR(INDEX(Liste!$G$7:$G$198,MATCH(K119,Liste!$I$7:$I$198,0)),\"\")","v":"A"},117,"T48",49,2,55,48,null,-6,null,"A",117,"T48",49,2,55,48,null,-6,23049.45,117,{"$f":"RANK(AC119,$AC$3:$AC$194,1)+COUNTIF(AC$3:AC119,AC119)-1","v":117},59,{"$f":"S119&COUNTIF(S$3:S119,S119)","v":"A25"}]
[{"$f":" Recap!B120","v":"P22"},{"$f":"Recap!O120","v":47},{"$f":"Recap!Q120","v":2},{"$f":"Recap!P120","v":58},118,247.42,129,{"$f":"RANK(G120,$G$3:$G$194,1)+COUNTIF(G$3:G120,G120)-1","v":130},{"$f":"IFERROR(INDEX(Liste!$G$7:$G$198,MATCH(K120,Liste!$I$7:$I$198,0)),\"\")","v":"A"},117,"P48",49,2,55,144,null,-6,null,"A",117,"P48",49,2,55,144,null,-6,23049.45,117,{"$f":"RANK(AC120,$AC$3:$AC$194,1)+COUNTIF(AC$3:AC120,AC120)-1","v":118},null,{"$f":"S120&COUNTIF(S$3:S120,S120)","v":"A26"}]
[{"$f":" Recap!B121","v":"P23"},{"$f":"Recap!O121","v":40},{"$f":"Recap!Q121","v":2},{"$f":"Recap!P121","v":54},119,240.46,151,{"$f":"RANK(G121,$G$3:$G$194,1)+COUNTIF(G$3:G121,G121)-1","v":152},{"$f":"IFERROR(INDEX(Liste!$G$7:$G$198,MATCH(K121,Liste!$I$7:$I$198,0)),\"\")","v":"A"},119,"T36",48,2,51,36,null,-3,null,"C",119,"T58",48,2,54,58,null,-6,23348.49,113,{"$f":"RANK(AC121,$AC$3:$AC$194,1)+COUNTIF(AC$3:AC121,AC121)-1","v":113},60,{"$f":"S121&COUNTIF(S$3:S121,S121)","v":"C17"}]
[{"$f":" Recap!B122","v":"P24"},{"$f":"Recap!O122","v":51},{"$f":"Recap!Q122","v":1},{"$f":"Recap!P122","v":57},120,151.43,165,{"$f":"RANK(G122,$G$3:$G$194,1)+COUNTIF(G$3:G122,G122)-1","v":167},{"$f":"IFERROR(INDEX(Liste!$G$7:$G$198,MATCH(K122,Liste!$I$7:$I$198,0)),\"\")","v":"CE"},119,"T71",48,2,51,71,null,-3,null,"C",119,"P58",48,2,54,154,null,-6,23348.49,113,{"$f":"RANK(AC122,$AC$3:$AC$194,1)+COUNTIF(AC$3:AC122,AC122)-1","v":114},null,{"$f":"S122&COUNTIF(S$3:S122,S122)","v":"C18"}]
[{"$f":" Recap!B123","v":"P25"},{"$f":"Recap!O123","v":58},{"$f":"Recap!Q123","v":4},{"$f":"Recap!P123","v":47},121,458.53,27,{"$f":"RANK(G123,$G$3:$G$194,1)+COUNTIF(G$3:G123,G123)-1","v":32},{"$f":"IFERROR(INDEX(Liste!$G$7:$G$198,MATCH(K123,Liste!$I$7:$I$198,0)),\"\")","v":"A"},119,"P36",48,2,51,132,null,-3,null,"C",121,"T62",47,2,54,62,null,-7,23348.49,113,{"$f":"RANK(AC123,$AC$3:$AC$194,1)+COUNTIF(AC$3:AC123,AC123)-1","v":115},61,{"$f":"S123&COUNTIF(S$3:S123,S123)","v":"C19"}]
[{"$f":" Recap!B124","v":"P26"},{"$f":"Recap!O124","v":52},{"$f":"Recap!Q124","v":2},{"$f":"Recap!P124","v":54},122,252.46,103,{"$f":"RANK(G124,$G$3:$G$194,1)+COUNTIF(G$3:G124,G124)-1","v":106},{"$f":"IFERROR(INDEX(Liste!$G$7:$G$198,MATCH(K124,Liste!$I$7:$I$198,0)),\"\")","v":"CE"},119,"P71",48,2,51,167,null,-3,null,"C",121,"P62",47,2,54,158,null,-7,23348.49,113,{"$f":"RANK(AC124,$AC$3:$AC$194,1)+COUNTIF(AC$3:AC124,AC124)-1","v":116},null,{"$f":"S124&COUNTIF(S$3:S124,S124)","v":"C20"}]
[{"$f":" Recap!B125","v":"P27"},{"$f":"Recap!O125","v":47},{"$f":"Recap!Q125","v":2},{"$f":"Recap!P125","v":59},123,247.41,131,{"$f":"RANK(G125,$G$3:$G$194,1)+COUNTIF(G$3:G125,G125)-1","v":132},{"$f":"IFERROR(INDEX(Liste!$G$7:$G$198,MATCH(K125,Liste!$I$7:$I$198,0)),\"\")","v":"C"},123,"T58",48,2,54,58,null,-6,null,"C",123,"T52",40,2,47,52,null,-7,23048.46,119,{"$f":"RANK(AC125,$AC$3:$AC$194,1)+COUNTIF(AC$3:AC125,AC125)-1","v":119},62,{"$f":"S125&COUNTIF(S$3:S125,S125)","v":"C21"}]
[{"$f":" Recap!B126","v":"P28"},{"$f":"Recap!O126","v":44},{"$f":"Recap!Q126","v":1},{"$f":"Recap!P126","v":63},124,144.37,175,{"$f":"RANK(G126,$G$3:$G$194,1)+COUNTIF(G$3:G126,G126)-1","v":176},{"$f":"IFERROR(INDEX(Liste!$G$7:$G$198,MATCH(K126,Liste!$I$7:$I$198,0)),\"\")","v":"C"},123,"P58",48,2,54,154,null,-6,null,"CE",123,"T73",40,2,47,73,null,-7,23048.46,119,{"$f":"RANK(AC126,$AC$3:$AC$194,1)+COUNTIF(AC$3:AC126,AC126)-1","v":120},null,{"$f":"S126&COUNTIF(S$3:S126,S126)","v":"CE37"}]
[{"$f":" Recap!B127","v":"P29"},{"$f":"Recap!O127","v":51},{"$f":"Recap!Q127","v":3},{"$f":"Recap!P127","v":44},125,351.56,67,{"$f":"RANK(G127,$G$3:$G$194,1)+COUNTIF(G$3:G127,G127)-1","v":68},{"$f":"IFERROR(INDEX(Liste!$G$7:$G$198,MATCH(K127,Liste!$I$7:$I$198,0)),\"\")","v":"A"},125,"T32",48,2,61,32,null,-13,null,"C",123,"P52",40,2,47,148,null,-7,22348.39,143,{"$f":"RANK(AC127,$AC$3:$AC$194,1)+COUNTIF(AC$3:AC127,AC127)-1","v":143},63,{"$f":"S127&COUNTIF(S$3:S127,S127)","v":"C22"}]
[{"$f":" Recap!B128","v":"P30"},{"$f":"Recap!O128","v":55},{"$f":"Recap!Q128","v":1},{"$f":"Recap!P128","v":57},126,155.43,157,{"$f":"RANK(G128,$G$3:$G$194,1)+COUNTIF(G$3:G128,G128)-1","v":158},{"$f":"IFERROR(INDEX(Liste!$G$7:$G$198,MATCH(K128,Liste!$I$7:$I$198,0)),\"\")","v":"A"},125,"P32",48,2,61,128,null,-13,null,"CE",123,"P73",40,2,47,169,null,-7,22348.39,143,{"$f":"RANK(AC128,$AC$3:$AC$194,1)+COUNTIF(AC$3:AC128,AC128)-1","v":144},null,{"$f":"S128&COUNTIF(S$3:S128,S128)","v":"CE38"}]
[{"$f":" Recap!B129","v":"P31"},{"$f":"Recap!O129","v":38},{"$f":"Recap!Q129","v":1},{"$f":"Recap!P129","v":62},127,138.38,179,{"$f":"RANK(G129,$G$3:$G$194,1)+COUNTIF(G$3:G129,G129)-1","v":180},{"$f":"IFERROR(INDEX(Liste!$G$7:$G$198,MATCH(K129,Liste!$I$7:$I$198,0)),\"\")","v":"C"},127,"T62",47,2,54,62,null,-7,null,"CE",127,"T78",46,2,54,78,null,-8,22947.46,121,{"$f":"RANK(AC129,$AC$3:$AC$194,1)+COUNTIF(AC$3:AC129,AC129)-1","v":121},64,{"$f":"S129&COUNTIF(S$3:S129,S129)","v":"CE39"}]
[{"$f":" Recap!B130","v":"P32"},{"$f":"Recap!O130","v":48},{"$f":"Recap!Q130","v":2},{"$f":"Recap!P130","v":61},128,248.39,125,{"$f":"RANK(G130,$G$3:$G$194,1)+COUNTIF(G$3:G130,G130)-1","v":126},{"$f":"IFERROR(INDEX(Liste!$G$7:$G$198,MATCH(K130,Liste!$I$7:$I$198,0)),\"\")","v":"C"},127,"P62",47,2,54,158,null,-7,null,"CE",127,"P78",46,2,54,174,null,-8,22947.46,121,{"$f":"RANK(AC130,$AC$3:$AC$194,1)+COUNTIF(AC$3:AC130,AC130)-1","v":122},null,{"$f":"S130&COUNTIF(S$3:S130,S130)","v":"CE40"}]
[{"$f":" Recap!B131","v":"P33"},{"$f":"Recap!O131","v":62},{"$f":"Recap!Q131","v":2},{"$f":"Recap!P131","v":63},129,{"$f":"100*C131+B131+(100-D131)/100","v":262.37},97,{"$f":"RANK(G131,$G$3:$G$194,1)+COUNTIF(G$3:G131,G131)-1","v":98},{"$f":"IFERROR(INDEX(Liste!$G$7:$G$198,MATCH(K131,Liste!$I$7:$I$198,0)),\"\")","v":"E"},{"$f":"INDEX(G:G,MATCH(ROW()-2,H:H,0))","v":129},{"$f":"INDEX(A:A,MATCH(ROW()-2,H:H,0))","v":"T22"},{"$f":"INDEX(B:B,MATCH(ROW()-2,H:H,0))","v":47},{"$f":"INDEX(C:C,MATCH(K131,A:A,0))","v":2},{"$f":"INDEX(D:D,MATCH(ROW()-2,H:H,0))","v":58},{"$f":"INDEX(E:E,MATCH(ROW()-2,H:H,0))","v":22},null,{"$f":"IF(SUM(M131:N131)=0,-1000,L131-N131)","v":-11},null,{"$f":"INDEX(I:I,MATCH(U131,K:K,0))","v":"CE"},129,{"$f":"INDEX(K:K,MATCH(ROW()-2,$AD:$AD,0))","v":"T93"},{"$f":"INDEX(L:L,MATCH(ROW()-2,$AD:$AD,0))","v":52},{"$f":"INDEX(M:M,MATCH(ROW()-2,$AD:$AD,0))","v":2},{"$f":"INDEX(N:N,MATCH(ROW()-2,$AD:$AD,0))","v":61},{"$f":"INDEX(O:O,MATCH(ROW()-2,$AD:$AD,0))","v":93},null,-9,22547.42,137,{"$f":"RANK(AC131,$AC$3:$AC$194,1)+COUNTIF(AC$3:AC131,AC131)-1","v":137},65,{"$f":"S131&COUNTIF(S$3:S131,S131)","v":"CE41"}]
[{"$f":" Recap!B132","v":"P34"},{"$f":"Recap!O132","v":65},{"$f":"Recap!Q132","v":5},{"$f":"Recap!P132","v":36},{"$f":"ROW()-2","v":130},565.64,{"$f":"RANK(F132,$F$3:$F$194,0)","v":5},{"$f":"RANK(G132,$G$3:$G$194,1)+COUNTIF(G$3:G132,G132)-1","v":6},{"$f":"IFERROR(INDEX(Liste!$G$7:$G$198,MATCH(K132,Liste!$I$7:$I$198,0)),\"\")","v":"E"},129,"P22",47,2,58,118,null,-11,null,"CE",{"$f":"INDEX(AC:AC,MATCH(ROW()-2,AD:AD,0))","v":129},"P93",52,2,61,189,null,{"$f":"V132-X132","v":-9},{"$f":"$M132*10000+($Q132+ABS(MIN($Q:$Q)))*100+$L132+(100-$N132)/100","v":22547.42},{"$f":"RANK(AB132,$AB$3:$AB$194,0)","v":137},{"$f":"RANK(AC132,$AC$3:$AC$194,1)+COUNTIF(AC$3:AC132,AC132)-1","v":138},null,{"$f":"S132&COUNTIF(S$3:S132,S132)","v":"CE42"}]
[{"$f":" Recap!B133","v":"P35"},{"$f":"Recap!O133","v":46},{"$f":"Recap!Q133","v":1},{"$f":"Recap!P133","v":59},131,146.41,171,{"$f":"RANK(G133,$G$3:$G$194,1)+COUNTIF(G$3:G133,G133)-1","v":171},{"$f":"IFERROR(INDEX(Liste!$G$7:$G$198,MATCH(K133,Liste!$I$7:$I$198,0)),\"\")","v":"E"},131,"T27",47,2,59,27,null,-12,null,"ST",131,"T14",51,2,60,14,null,-9,22447.41,139,{"$f":"RANK(AC133,$AC$3:$AC$194,1)+COUNTIF(AC$3:AC133,AC133)-1","v":139},66,{"$f":"S133&COUNTIF(S$3:S133,S133)","v":"ST27"}]
[{"$f":" Recap!B134","v":"P36"},{"$f":"Recap!O134","v":48},{"$f":"Recap!Q134","v":2},{"$f":"Recap!P134","v":51},132,248.49,119,{"$f":"RANK(G134,$G$3:$G$194,1)+COUNTIF(G$3:G134,G134)-1","v":121},{"$f":"IFERROR(INDEX(Liste!$G$7:$G$198,MATCH(K134,Liste!$I$7:$I$198,0)),\"\")","v":"E"},131,"P27",47,2,59,123,null,-12,null,"C",131,"T56",51,2,60,56,null,-9,22447.41,139,{"$f":"RANK(AC134,$AC$3:$AC$194,1)+COUNTIF(AC$3:AC134,AC134)-1","v":140},null,{"$f":"S134&COUNTIF(S$3:S134,S134)","v":"C23"}]
[{"$f":" Recap!B135","v":"P37"},{"$f":"Recap!O135","v":58},{"$f":"Recap!Q135","v":4},{"$f":"Recap!P135","v":33},133,458.67,11,{"$f":"RANK(G135,$G$3:$G$194,1)+COUNTIF(G$3:G135,G135)-1","v":12},{"$f":"IFERROR(INDEX(Liste!$G$7:$G$198,MATCH(K135,Liste!$I$7:$I$198,0)),\"\")","v":"C"},133,"T61",47,2,62,61,null,-15,null,"ST",131,"P14",51,2,60,110,null,-9,22147.38,149,{"$f":"RANK(AC135,$AC$3:$AC$194,1)+COUNTIF(AC$3:AC135,AC135)-1","v":149},67,{"$f":"S135&COUNTIF(S$3:S135,S135)","v":"ST28"}]
[{"$f":" Recap!B136","v":"P38"},{"$f":"Recap!O136","v":56},{"$f":"Recap!Q136","v":4},{"$f":"Recap!P136","v":39},134,456.61,35,{"$f":"RANK(G136,$G$3:$G$194,1)+COUNTIF(G$3:G136,G136)-1","v":36},{"$f":"IFERROR(INDEX(Liste!$G$7:$G$198,MATCH(K136,Liste!$I$7:$I$198,0)),\"\")","v":"C"},133,"P61",47,2,62,157,null,-15,null,"C",131,"P56",51,2,60,152,null,-9,22147.38,149,{"$f":"RANK(AC136,$AC$3:$AC$194,1)+COUNTIF(AC$3:AC136,AC136)-1","v":150},null,{"$f":"S136&COUNTIF(S$3:S136,S136)","v":"C24"}]
[{"$f":" Recap!B137","v":"P39"},{"$f":"Recap!O137","v":58},{"$f":"Recap!Q137","v":4},{"$f":"Recap!P137","v":42},135,458.58,21,{"$f":"RANK(G137,$G$3:$G$194,1)+COUNTIF(G$3:G137,G137)-1","v":22},{"$f":"IFERROR(INDEX(Liste!$G$7:$G$198,MATCH(K137,Liste!$I$7:$I$198,0)),\"\")","v":"CE"},135,"T78",46,2,54,78,null,-8,null,"CE",135,"T92",51,2,61,92,null,-10,22846.46,127,{"$f":"RANK(AC137,$AC$3:$AC$194,1)+COUNTIF(AC$3:AC137,AC137)-1","v":127},68,{"$f":"S137&COUNTIF(S$3:S137,S137)","v":"CE43"}]
[{"$f":" Recap!B138","v":"P40"},{"$f":"Recap!O138","v":36},{"$f":"Recap!Q138","v":1},{"$f":"Recap!P138","v":64},136,136.36000000000001,183,{"$f":"RANK(G138,$G$3:$G$194,1)+COUNTIF(G$3:G138,G138)-1","v":184},{"$f":"IFERROR(INDEX(Liste!$G$7:$G$198,MATCH(K138,Liste!$I$7:$I$198,0)),\"\")","v":"CE"},135,"P78",46,2,54,174,null,-8,null,"CE",135,"P92",51,2,61,188,null,-10,22846.46,127,{"$f":"RANK(AC138,$AC$3:$AC$194,1)+COUNTIF(AC$3:AC138,AC138)-1","v":128},null,{"$f":"S138&COUNTIF(S$3:S138,S138)","v":"CE44"}]
[{"$f":" Recap!B139","v":"P41"},{"$f":"Recap!O139","v":39},{"$f":"Recap!Q139","v":2},{"$f":"Recap!P139","v":55},137,239.45,153,{"$f":"RANK(G139,$G$3:$G$194,1)+COUNTIF(G$3:G139,G139)-1","v":154},{"$f":"IFERROR(INDEX(Liste!$G$7:$G$198,MATCH(K139,Liste!$I$7:$I$198,0)),\"\")","v":"CE"},137,"P86",45,2,45,182,null,0,null,"E",137,"T22",47,2,58,22,null,-11,23645.55,99,{"$f":"RANK(AC139,$AC$3:$AC$194,1)+COUNTIF(AC$3:AC139,AC139)-1","v":99},69,{"$f":"S139&COUNTIF(S$3:S139,S139)","v":"E15"}]
[{"$f":" Recap!B140","v":"P42"},{"$f":"Recap!O140","v":47},{"$f":"Recap!Q140","v":3},{"$f":"Recap!P140","v":45},138,347.55,89,{"$f":"RANK(G140,$G$3:$G$194,1)+COUNTIF(G$3:G140,G140)-1","v":91},{"$f":"IFERROR(INDEX(Liste!$G$7:$G$198,MATCH(K140,Liste!$I$7:$I$198,0)),\"\")","v":"CE"},138,"T86",45,2,47,86,null,-2,null,"E",137,"P22",47,2,58,118,null,-11,23445.53,110,{"$f":"RANK(AC140,$AC$3:$AC$194,1)+COUNTIF(AC$3:AC140,AC140)-1","v":110},null,{"$f":"S140&COUNTIF(S$3:S140,S140)","v":"E16"}]
[{"$f":" Recap!B141","v":"P43"},{"$f":"Recap!O141","v":44},{"$f":"Recap!Q141","v":1},{"$f":"Recap!P141","v":54},139,144.46,173,{"$f":"RANK(G141,$G$3:$G$194,1)+COUNTIF(G$3:G141,G141)-1","v":173},{"$f":"IFERROR(INDEX(Liste!$G$7:$G$198,MATCH(K141,Liste!$I$7:$I$198,0)),\"\")","v":"CE"},139,"T80",45,2,62,80,null,-17,null,"E",139,"T27",47,2,59,27,null,-12,21945.38,153,{"$f":"RANK(AC141,$AC$3:$AC$194,1)+COUNTIF(AC$3:AC141,AC141)-1","v":153},70,{"$f":"S141&COUNTIF(S$3:S141,S141)","v":"E17"}]
[{"$f":" Recap!B142","v":"P44"},{"$f":"Recap!O142","v":50},{"$f":"Recap!Q142","v":3},{"$f":"Recap!P142","v":50},140,350.5,79,{"$f":"RANK(G142,$G$3:$G$194,1)+COUNTIF(G$3:G142,G142)-1","v":81},{"$f":"IFERROR(INDEX(Liste!$G$7:$G$198,MATCH(K142,Liste!$I$7:$I$198,0)),\"\")","v":"CE"},139,"P80",45,2,62,176,null,-17,null,"E",139,"P27",47,2,59,123,null,-12,21945.38,153,{"$f":"RANK(AC142,$AC$3:$AC$194,1)+COUNTIF(AC$3:AC142,AC142)-1","v":154},null,{"$f":"S142&COUNTIF(S$3:S142,S142)","v":"E18"}]
[{"$f":" Recap!B143","v":"P45"},{"$f":"Recap!O143","v":49},{"$f":"Recap!Q143","v":3},{"$f":"Recap!P143","v":46},141,349.54,85,{"$f":"RANK(G143,$G$3:$G$194,1)+COUNTIF(G$3:G143,G143)-1","v":86},{"$f":"IFERROR(INDEX(Liste!$G$7:$G$198,MATCH(K143,Liste!$I$7:$I$198,0)),\"\")","v":"ST"},141,"T12",44,2,46,12,null,-2,null,"ST",141,"T11",41,2,53,11,null,-12,23444.54,111,{"$f":"RANK(AC143,$AC$3:$AC$194,1)+COUNTIF(AC$3:AC143,AC143)-1","v":111},71,{"$f":"S143&COUNTIF(S$3:S143,S143)","v":"ST29"}]
[{"$f":" Recap!B144","v":"P46"},{"$f":"Recap!O144","v":58},{"$f":"Recap!Q144","v":3},{"$f":"Recap!P144","v":41},142,358.59,43,{"$f":"RANK(G144,$G$3:$G$194,1)+COUNTIF(G$3:G144,G144)-1","v":44},{"$f":"IFERROR(INDEX(Liste!$G$7:$G$198,MATCH(K144,Liste!$I$7:$I$198,0)),\"\")","v":"ST"},141,"P12",44,2,46,108,null,-2,null,"ST",141,"P11",41,2,53,107,null,-12,23444.54,111,{"$f":"RANK(AC144,$AC$3:$AC$194,1)+COUNTIF(AC$3:AC144,AC144)-1","v":112},null,{"$f":"S144&COUNTIF(S$3:S144,S144)","v":"ST30"}]
[{"$f":" Recap!B145","v":"P47"},{"$f":"Recap!O145","v":50},{"$f":"Recap!Q145","v":2},{"$f":"Recap!P145","v":51},143,250.49,115,{"$f":"RANK(G145,$G$3:$G$194,1)+COUNTIF(G$3:G145,G145)-1","v":116},{"$f":"IFERROR(INDEX(Liste!$G$7:$G$198,MATCH(K145,Liste!$I$7:$I$198,0)),\"\")","v":"ST"},143,"T11",41,2,53,11,null,-12,null,"A",143,"T32",48,2,61,32,null,-13,22441.47,141,{"$f":"RANK(AC145,$AC$3:$AC$194,1)+COUNTIF(AC$3:AC145,AC145)-1","v":141},72,{"$f":"S145&COUNTIF(S$3:S145,S145)","v":"A27"}]
[{"$f":" Recap!B146","v":"P48"},{"$f":"Recap!O146","v":49},{"$f":"Recap!Q146","v":2},{"$f":"Recap!P146","v":55},144,249.45,117,{"$f":"RANK(G146,$G$3:$G$194,1)+COUNTIF(G$3:G146,G146)-1","v":118},{"$f":"IFERROR(INDEX(Liste!$G$7:$G$198,MATCH(K146,Liste!$I$7:$I$198,0)),\"\")","v":"ST"},143,"P11",41,2,53,107,null,-12,null,"A",143,"P32",48,2,61,128,null,-13,22441.47,141,{"$f":"RANK(AC146,$AC$3:$AC$194,1)+COUNTIF(AC$3:AC146,AC146)-1","v":142},null,{"$f":"S146&COUNTIF(S$3:S146,S146)","v":"A28"}]
[{"$f":" Recap!B147","v":"P49"},{"$f":"Recap!O147","v":58},{"$f":"Recap!Q147","v":4},{"$f":"Recap!P147","v":43},145,458.57,23,{"$f":"RANK(G147,$G$3:$G$194,1)+COUNTIF(G$3:G147,G147)-1","v":24},{"$f":"IFERROR(INDEX(Liste!$G$7:$G$198,MATCH(K147,Liste!$I$7:$I$198,0)),\"\")","v":"E"},145,"T21",41,2,55,21,null,-14,null,"E",145,"T21",41,2,55,21,null,-14,22241.45,145,{"$f":"RANK(AC147,$AC$3:$AC$194,1)+COUNTIF(AC$3:AC147,AC147)-1","v":145},73,{"$f":"S147&COUNTIF(S$3:S147,S147)","v":"E19"}]
[{"$f":" Recap!B148","v":"P50"},{"$f":"Recap!O148","v":57},{"$f":"Recap!Q148","v":3},{"$f":"Recap!P148","v":43},146,357.57,45,{"$f":"RANK(G148,$G$3:$G$194,1)+COUNTIF(G$3:G148,G148)-1","v":46},{"$f":"IFERROR(INDEX(Liste!$G$7:$G$198,MATCH(K148,Liste!$I$7:$I$198,0)),\"\")","v":"E"},145,"P21",41,2,55,117,null,-14,null,"E",145,"P21",41,2,55,117,null,-14,22241.45,145,{"$f":"RANK(AC148,$AC$3:$AC$194,1)+COUNTIF(AC$3:AC148,AC148)-1","v":146},null,{"$f":"S148&COUNTIF(S$3:S148,S148)","v":"E20"}]
[{"$f":" Recap!B149","v":"P51"},{"$f":"Recap!O149","v":51},{"$f":"Recap!Q149","v":3},{"$f":"Recap!P149","v":43},147,351.57,65,{"$f":"RANK(G149,$G$3:$G$194,1)+COUNTIF(G$3:G149,G149)-1","v":66},{"$f":"IFERROR(INDEX(Liste!$G$7:$G$198,MATCH(K149,Liste!$I$7:$I$198,0)),\"\")","v":"C"},147,"T52",40,2,47,52,null,-7,null,"E",147,"T23",40,2,54,23,null,-14,22940.53,123,{"$f":"RANK(AC149,$AC$3:$AC$194,1)+COUNTIF(AC$3:AC149,AC149)-1","v":123},74,{"$f":"S149&COUNTIF(S$3:S149,S149)","v":"E21"}]
[{"$f":" Recap!B150","v":"P52"},{"$f":"Recap!O150","v":40},{"$f":"Recap!Q150","v":2},{"$f":"Recap!P150","v":47},148,240.53,147,{"$f":"RANK(G150,$G$3:$G$194,1)+COUNTIF(G$3:G150,G150)-1","v":149},{"$f":"IFERROR(INDEX(Liste!$G$7:$G$198,MATCH(K150,Liste!$I$7:$I$198,0)),\"\")","v":"CE"},147,"T73",40,2,47,73,null,-7,null,"E",147,"P23",40,2,54,119,null,-14,22940.53,123,{"$f":"RANK(AC150,$AC$3:$AC$194,1)+COUNTIF(AC$3:AC150,AC150)-1","v":124},null,{"$f":"S150&COUNTIF(S$3:S150,S150)","v":"E22"}]
[{"$f":" Recap!B151","v":"P53"},{"$f":"Recap!O151","v":47},{"$f":"Recap!Q151","v":3},{"$f":"Recap!P151","v":45},149,347.55,89,{"$f":"RANK(G151,$G$3:$G$194,1)+COUNTIF(G$3:G151,G151)-1","v":92},{"$f":"IFERROR(INDEX(Liste!$G$7:$G$198,MATCH(K151,Liste!$I$7:$I$198,0)),\"\")","v":"C"},147,"P52",40,2,47,148,null,-7,null,"C",149,"T61",47,2,62,61,null,-15,22940.53,123,{"$f":"RANK(AC151,$AC$3:$AC$194,1)+COUNTIF(AC$3:AC151,AC151)-1","v":125},75,{"$f":"S151&COUNTIF(S$3:S151,S151)","v":"C25"}]
[{"$f":" Recap!B152","v":"P54"},{"$f":"Recap!O152","v":51},{"$f":"Recap!Q152","v":3},{"$f":"Recap!P152","v":46},150,351.54,69,{"$f":"RANK(G152,$G$3:$G$194,1)+COUNTIF(G$3:G152,G152)-1","v":72},{"$f":"IFERROR(INDEX(Liste!$G$7:$G$198,MATCH(K152,Liste!$I$7:$I$198,0)),\"\")","v":"CE"},147,"P73",40,2,47,169,null,-7,null,"C",149,"P61",47,2,62,157,null,-15,22940.53,123,{"$f":"RANK(AC152,$AC$3:$AC$194,1)+COUNTIF(AC$3:AC152,AC152)-1","v":126},null,{"$f":"S152&COUNTIF(S$3:S152,S152)","v":"C26"}]
[{"$f":" Recap!B153","v":"P55"},{"$f":"Recap!O153","v":33},{"$f":"Recap!Q153","v":0},{"$f":"Recap!P153","v":65},151,33.35,191,{"$f":"RANK(G153,$G$3:$G$194,1)+COUNTIF(G$3:G153,G153)-1","v":192},{"$f":"IFERROR(INDEX(Liste!$G$7:$G$198,MATCH(K153,Liste!$I$7:$I$198,0)),\"\")","v":"E"},151,"T23",40,2,54,23,null,-14,null,"A",151,"T41",39,2,55,41,null,-16,22240.46,147,{"$f":"RANK(AC153,$AC$3:$AC$194,1)+COUNTIF(AC$3:AC153,AC153)-1","v":147},76,{"$f":"S153&COUNTIF(S$3:S153,S153)","v":"A29"}]
[{"$f":" Recap!B154","v":"P56"},{"$f":"Recap!O154","v":51},{"$f":"Recap!Q154","v":2},{"$f":"Recap!P154","v":60},152,251.4,109,{"$f":"RANK(G154,$G$3:$G$194,1)+COUNTIF(G$3:G154,G154)-1","v":112},{"$f":"IFERROR(INDEX(Liste!$G$7:$G$198,MATCH(K154,Liste!$I$7:$I$198,0)),\"\")","v":"E"},151,"P23",40,2,54,119,null,-14,null,"A",151,"P41",39,2,55,137,null,-16,22240.46,147,{"$f":"RANK(AC154,$AC$3:$AC$194,1)+COUNTIF(AC$3:AC154,AC154)-1","v":148},null,{"$f":"S154&COUNTIF(S$3:S154,S154)","v":"A30"}]
[{"$f":" Recap!B155","v":"P57"},{"$f":"Recap!O155","v":58},{"$f":"Recap!Q155","v":4},{"$f":"Recap!P155","v":34},153,458.66,13,{"$f":"RANK(G155,$G$3:$G$194,1)+COUNTIF(G$3:G155,G155)-1","v":16},{"$f":"IFERROR(INDEX(Liste!$G$7:$G$198,MATCH(K155,Liste!$I$7:$I$198,0)),\"\")","v":"A"},153,"T41",39,2,55,41,null,-16,null,"CE",153,"T80",45,2,62,80,null,-17,22039.45,151,{"$f":"RANK(AC155,$AC$3:$AC$194,1)+COUNTIF(AC$3:AC155,AC155)-1","v":151},77,{"$f":"S155&COUNTIF(S$3:S155,S155)","v":"CE45"}]
[{"$f":" Recap!B156","v":"P58"},{"$f":"Recap!O156","v":48},{"$f":"Recap!Q156","v":2},{"$f":"Recap!P156","v":54},154,248.46,123,{"$f":"RANK(G156,$G$3:$G$194,1)+COUNTIF(G$3:G156,G156)-1","v":124},{"$f":"IFERROR(INDEX(Liste!$G$7:$G$198,MATCH(K156,Liste!$I$7:$I$198,0)),\"\")","v":"A"},153,"P41",39,2,55,137,null,-16,null,"CE",153,"P80",45,2,62,176,null,-17,22039.45,151,{"$f":"RANK(AC156,$AC$3:$AC$194,1)+COUNTIF(AC$3:AC156,AC156)-1","v":152},null,{"$f":"S156&COUNTIF(S$3:S156,S156)","v":"CE46"}]
[{"$f":" Recap!B157","v":"P59"},{"$f":"Recap!O157","v":51},{"$f":"Recap!Q157","v":1},{"$f":"Recap!P157","v":57},155,151.43,165,{"$f":"RANK(G157,$G$3:$G$194,1)+COUNTIF(G$3:G157,G157)-1","v":168},{"$f":"IFERROR(INDEX(Liste!$G$7:$G$198,MATCH(K157,Liste!$I$7:$I$198,0)),\"\")","v":"CE"},155,"T81",39,2,58,81,null,-19,null,"CE",155,"T81",39,2,58,81,null,-19,21739.42,155,{"$f":"RANK(AC157,$AC$3:$AC$194,1)+COUNTIF(AC$3:AC157,AC157)-1","v":155},78,{"$f":"S157&COUNTIF(S$3:S157,S157)","v":"CE47"}]
[{"$f":" Recap!B158","v":"P60"},{"$f":"Recap!O158","v":50},{"$f":"Recap!Q158","v":3},{"$f":"Recap!P158","v":52},156,350.48,83,{"$f":"RANK(G158,$G$3:$G$194,1)+COUNTIF(G$3:G158,G158)-1","v":84},{"$f":"IFERROR(INDEX(Liste!$G$7:$G$198,MATCH(K158,Liste!$I$7:$I$198,0)),\"\")","v":"CE"},155,"P81",39,2,58,177,null,-19,null,"CE",155,"P81",39,2,58,177,null,-19,21739.42,155,{"$f":"RANK(AC158,$AC$3:$AC$194,1)+COUNTIF(AC$3:AC158,AC158)-1","v":156},null,{"$f":"S158&COUNTIF(S$3:S158,S158)","v":"CE48"}]
[{"$f":" Recap!B159","v":"P61"},{"$f":"Recap!O159","v":47},{"$f":"Recap!Q159","v":2},{"$f":"Recap!P159","v":62},157,247.38,133,{"$f":"RANK(G159,$G$3:$G$194,1)+COUNTIF(G$3:G159,G159)-1","v":134},{"$f":"IFERROR(INDEX(Liste!$G$7:$G$198,MATCH(K159,Liste!$I$7:$I$198,0)),\"\")","v":"E"},157,"T30",55,1,57,30,null,-2,null,"E",157,"T30",55,1,57,30,null,-2,13455.43,157,{"$f":"RANK(AC159,$AC$3:$AC$194,1)+COUNTIF(AC$3:AC159,AC159)-1","v":157},79,{"$f":"S159&COUNTIF(S$3:S159,S159)","v":"E23"}]
[{"$f":" Recap!B160","v":"P62"},{"$f":"Recap!O160","v":47},{"$f":"Recap!Q160","v":2},{"$f":"Recap!P160","v":54},158,247.46,127,{"$f":"RANK(G160,$G$3:$G$194,1)+COUNTIF(G$3:G160,G160)-1","v":128},{"$f":"IFERROR(INDEX(Liste!$G$7:$G$198,MATCH(K160,Liste!$I$7:$I$198,0)),\"\")","v":"E"},157,"P30",55,1,57,126,null,-2,null,"E",157,"P30",55,1,57,126,null,-2,13455.43,157,{"$f":"RANK(AC160,$AC$3:$AC$194,1)+COUNTIF(AC$3:AC160,AC160)-1","v":158},null,{"$f":"S160&COUNTIF(S$3:S160,S160)","v":"E24"}]
[{"$f":" Recap!B161","v":"P63"},{"$f":"Recap!O161","v":51},{"$f":"Recap!Q161","v":3},{"$f":"Recap!P161","v":59},159,351.41,77,{"$f":"RANK(G161,$G$3:$G$194,1)+COUNTIF(G$3:G161,G161)-1","v":78},{"$f":"IFERROR(INDEX(Liste!$G$7:$G$198,MATCH(K161,Liste!$I$7:$I$198,0)),\"\")","v":"C"},159,"P65",55,1,59,161,null,-4,null,"C",159,"T64",54,1,57,64,null,-3,13255.41,161,{"$f":"RANK(AC161,$AC$3:$AC$194,1)+COUNTIF(AC$3:AC161,AC161)-1","v":161},80,{"$f":"S161&COUNTIF(S$3:S161,S161)","v":"C27"}]
[{"$f":" Recap!B162","v":"P64"},{"$f":"Recap!O162","v":54},{"$f":"Recap!Q162","v":1},{"$f":"Recap!P162","v":57},160,154.43,161,{"$f":"RANK(G162,$G$3:$G$194,1)+COUNTIF(G$3:G162,G162)-1","v":162},{"$f":"IFERROR(INDEX(Liste!$G$7:$G$198,MATCH(K162,Liste!$I$7:$I$198,0)),\"\")","v":"C"},160,"T65",55,1,61,65,null,-6,null,"C",159,"P64",54,1,57,160,null,-3,13055.39,164,{"$f":"RANK(AC162,$AC$3:$AC$194,1)+COUNTIF(AC$3:AC162,AC162)-1","v":164},null,{"$f":"S162&COUNTIF(S$3:S162,S162)","v":"C28"}]
[{"$f":" Recap!B163","v":"P65"},{"$f":"Recap!O163","v":55},{"$f":"Recap!Q163","v":1},{"$f":"Recap!P163","v":59},161,155.41,159,{"$f":"RANK(G163,$G$3:$G$194,1)+COUNTIF(G$3:G163,G163)-1","v":159},{"$f":"IFERROR(INDEX(Liste!$G$7:$G$198,MATCH(K163,Liste!$I$7:$I$198,0)),\"\")","v":"C"},{"$f":"INDEX(G:G,MATCH(ROW()-2,H:H,0))","v":161},{"$f":"INDEX(A:A,MATCH(ROW()-2,H:H,0))","v":"T64"},{"$f":"INDEX(B:B,MATCH(ROW()-2,H:H,0))","v":54},1,{"$f":"INDEX(D:D,MATCH(ROW()-2,H:H,0))","v":57},{"$f":"INDEX(E:E,MATCH(ROW()-2,H:H,0))","v":64},null,-3,null,{"$f":"INDEX(I:I,MATCH(U163,K:K,0))","v":"C"},161,{"$f":"INDEX(K:K,MATCH(ROW()-2,$AD:$AD,0))","v":"P65"},{"$f":"INDEX(L:L,MATCH(ROW()-2,$AD:$AD,0))","v":55},{"$f":"INDEX(M:M,MATCH(ROW()-2,$AD:$AD,0))","v":1},{"$f":"INDEX(N:N,MATCH(ROW()-2,$AD:$AD,0))","v":59},{"$f":"INDEX(O:O,MATCH(ROW()-2,$AD:$AD,0))","v":161},null,-4,13354.43,159,{"$f":"RANK(AC163,$AC$3:$AC$194,1)+COUNTIF(AC$3:AC163,AC163)-1","v":159},81,{"$f":"S163&COUNTIF(S$3:S163,S163)","v":"C29"}]
[{"$f":" Recap!B164","v":"P66"},{"$f":"Recap!O164","v":63},{"$f":"Recap!Q164","v":3},{"$f":"Recap!P164","v":62},162,363.38,37,{"$f":"RANK(G164,$G$3:$G$194,1)+COUNTIF(G$3:G164,G164)-1","v":38},{"$f":"IFERROR(INDEX(Liste!$G$7:$G$198,MATCH(K164,Liste!$I$7:$I$198,0)),\"\")","v":"C"},161,"P64",54,1,57,160,null,-3,null,"CE",162,"T79",53,1,57,79,null,-4,13354.43,159,{"$f":"RANK(AC164,$AC$3:$AC$194,1)+COUNTIF(AC$3:AC164,AC164)-1","v":160},null,{"$f":"S164&COUNTIF(S$3:S164,S164)","v":"CE49"}]
[{"$f":" Recap!B165","v":"P67"},{"$f":"Recap!O165","v":28},{"$f":"Recap!Q165","v":1},{"$f":"Recap!P165","v":64},163,128.36000000000001,185,{"$f":"RANK(G165,$G$3:$G$194,1)+COUNTIF(G$3:G165,G165)-1","v":186},{"$f":"IFERROR(INDEX(Liste!$G$7:$G$198,MATCH(K165,Liste!$I$7:$I$198,0)),\"\")","v":"CE"},163,"T79",53,1,57,79,null,-4,null,"CE",162,"P79",53,1,57,175,null,-4,13253.43,162,{"$f":"RANK(AC165,$AC$3:$AC$194,1)+COUNTIF(AC$3:AC165,AC165)-1","v":162},82,{"$f":"S165&COUNTIF(S$3:S165,S165)","v":"CE50"}]
[{"$f":" Recap!B166","v":"P68"},{"$f":"Recap!O166","v":65},{"$f":"Recap!Q166","v":5},{"$f":"Recap!P166","v":32},164,565.67999999999995,1,{"$f":"RANK(G166,$G$3:$G$194,1)+COUNTIF(G$3:G166,G166)-1","v":2},{"$f":"IFERROR(INDEX(Liste!$G$7:$G$198,MATCH(K166,Liste!$I$7:$I$198,0)),\"\")","v":"CE"},163,"P79",53,1,57,175,null,-4,null,"C",164,"T65",55,1,61,65,null,-6,13253.43,162,{"$f":"RANK(AC166,$AC$3:$AC$194,1)+COUNTIF(AC$3:AC166,AC166)-1","v":163},null,{"$f":"S166&COUNTIF(S$3:S166,S166)","v":"C30"}]
[{"$f":" Recap!B167","v":"P69"},{"$f":"Recap!O167","v":46},{"$f":"Recap!Q167","v":1},{"$f":"Recap!P167","v":54},165,146.46,169,{"$f":"RANK(G167,$G$3:$G$194,1)+COUNTIF(G$3:G167,G167)-1","v":169},{"$f":"IFERROR(INDEX(Liste!$G$7:$G$198,MATCH(K167,Liste!$I$7:$I$198,0)),\"\")","v":"E"},165,"T24",51,1,57,24,null,-6,null,"E",165,"T24",51,1,57,24,null,-6,13051.43,165,{"$f":"RANK(AC167,$AC$3:$AC$194,1)+COUNTIF(AC$3:AC167,AC167)-1","v":165},83,{"$f":"S167&COUNTIF(S$3:S167,S167)","v":"E25"}]
[{"$f":" Recap!B168","v":"P70"},{"$f":"Recap!O168","v":45},{"$f":"Recap!Q168","v":3},{"$f":"Recap!P168","v":48},166,345.52,95,{"$f":"RANK(G168,$G$3:$G$194,1)+COUNTIF(G$3:G168,G168)-1","v":96},{"$f":"IFERROR(INDEX(Liste!$G$7:$G$198,MATCH(K168,Liste!$I$7:$I$198,0)),\"\")","v":"C"},165,"T59",51,1,57,59,null,-6,null,"C",165,"T59",51,1,57,59,null,-6,13051.43,165,{"$f":"RANK(AC168,$AC$3:$AC$194,1)+COUNTIF(AC$3:AC168,AC168)-1","v":166},null,{"$f":"S168&COUNTIF(S$3:S168,S168)","v":"C31"}]
[{"$f":" Recap!B169","v":"P71"},{"$f":"Recap!O169","v":48},{"$f":"Recap!Q169","v":2},{"$f":"Recap!P169","v":51},167,248.49,119,{"$f":"RANK(G169,$G$3:$G$194,1)+COUNTIF(G$3:G169,G169)-1","v":122},{"$f":"IFERROR(INDEX(Liste!$G$7:$G$198,MATCH(K169,Liste!$I$7:$I$198,0)),\"\")","v":"E"},165,"P24",51,1,57,120,null,-6,null,"E",165,"P24",51,1,57,120,null,-6,13051.43,165,{"$f":"RANK(AC169,$AC$3:$AC$194,1)+COUNTIF(AC$3:AC169,AC169)-1","v":167},84,{"$f":"S169&COUNTIF(S$3:S169,S169)","v":"E26"}]
[{"$f":" Recap!B170","v":"P72"},{"$f":"Recap!O170","v":62},{"$f":"Recap!Q170","v":4},{"$f":"Recap!P170","v":34},168,462.66,7,{"$f":"RANK(G170,$G$3:$G$194,1)+COUNTIF(G$3:G170,G170)-1","v":8},{"$f":"IFERROR(INDEX(Liste!$G$7:$G$198,MATCH(K170,Liste!$I$7:$I$198,0)),\"\")","v":"C"},165,"P59",51,1,57,155,null,-6,null,"C",165,"P59",51,1,57,155,null,-6,13051.43,165,{"$f":"RANK(AC170,$AC$3:$AC$194,1)+COUNTIF(AC$3:AC170,AC170)-1","v":168},null,{"$f":"S170&COUNTIF(S$3:S170,S170)","v":"C32"}]
[{"$f":" Recap!B171","v":"P73"},{"$f":"Recap!O171","v":40},{"$f":"Recap!Q171","v":2},{"$f":"Recap!P171","v":47},169,240.53,147,{"$f":"RANK(G171,$G$3:$G$194,1)+COUNTIF(G$3:G171,G171)-1","v":150},{"$f":"IFERROR(INDEX(Liste!$G$7:$G$198,MATCH(K171,Liste!$I$7:$I$198,0)),\"\")","v":"CE"},169,"P69",46,1,54,165,null,-8,null,"CE",169,"P69",46,1,54,165,null,-8,12846.46,169,{"$f":"RANK(AC171,$AC$3:$AC$194,1)+COUNTIF(AC$3:AC171,AC171)-1","v":169},85,{"$f":"S171&COUNTIF(S$3:S171,S171)","v":"CE51"}]
[{"$f":" Recap!B172","v":"P74"},{"$f":"Recap!O172","v":58},{"$f":"Recap!Q172","v":4},{"$f":"Recap!P172","v":34},170,458.66,13,{"$f":"RANK(G172,$G$3:$G$194,1)+COUNTIF(G$3:G172,G172)-1","v":17},{"$f":"IFERROR(INDEX(Liste!$G$7:$G$198,MATCH(K172,Liste!$I$7:$I$198,0)),\"\")","v":"CE"},170,"T69",46,1,56,69,null,-10,null,"CE",170,"T69",46,1,56,69,null,-10,12646.44,170,{"$f":"RANK(AC172,$AC$3:$AC$194,1)+COUNTIF(AC$3:AC172,AC172)-1","v":170},null,{"$f":"S172&COUNTIF(S$3:S172,S172)","v":"CE52"}]
[{"$f":" Recap!B173","v":"P75"},{"$f":"Recap!O173","v":34},{"$f":"Recap!Q173","v":0},{"$f":"Recap!P173","v":65},171,34.35,187,{"$f":"RANK(G173,$G$3:$G$194,1)+COUNTIF(G$3:G173,G173)-1","v":190},{"$f":"IFERROR(INDEX(Liste!$G$7:$G$198,MATCH(K173,Liste!$I$7:$I$198,0)),\"\")","v":"A"},171,"P35",46,1,59,131,null,-13,null,"A",171,"P43",44,1,54,139,null,-10,12346.41,173,{"$f":"RANK(AC173,$AC$3:$AC$194,1)+COUNTIF(AC$3:AC173,AC173)-1","v":173},86,{"$f":"S173&COUNTIF(S$3:S173,S173)","v":"A31"}]
[{"$f":" Recap!B174","v":"P76"},{"$f":"Recap!O174","v":56},{"$f":"Recap!Q174","v":4},{"$f":"Recap!P174","v":38},172,456.62,33,{"$f":"RANK(G174,$G$3:$G$194,1)+COUNTIF(G$3:G174,G174)-1","v":34},{"$f":"IFERROR(INDEX(Liste!$G$7:$G$198,MATCH(K174,Liste!$I$7:$I$198,0)),\"\")","v":"A"},172,"T35",46,1,61,35,null,-15,null,"A",172,"T43",44,1,56,43,null,-12,12146.39,174,{"$f":"RANK(AC174,$AC$3:$AC$194,1)+COUNTIF(AC$3:AC174,AC174)-1","v":174},null,{"$f":"S174&COUNTIF(S$3:S174,S174)","v":"A32"}]
[{"$f":" Recap!B175","v":"P77"},{"$f":"Recap!O175","v":58},{"$f":"Recap!Q175","v":4},{"$f":"Recap!P175","v":45},173,458.55,25,{"$f":"RANK(G175,$G$3:$G$194,1)+COUNTIF(G$3:G175,G175)-1","v":26},{"$f":"IFERROR(INDEX(Liste!$G$7:$G$198,MATCH(K175,Liste!$I$7:$I$198,0)),\"\")","v":"A"},173,"P43",44,1,54,139,null,-10,null,"A",173,"P35",46,1,59,131,null,-13,12644.46,171,{"$f":"RANK(AC175,$AC$3:$AC$194,1)+COUNTIF(AC$3:AC175,AC175)-1","v":171},87,{"$f":"S175&COUNTIF(S$3:S175,S175)","v":"A33"}]
[{"$f":" Recap!B176","v":"P78"},{"$f":"Recap!O176","v":46},{"$f":"Recap!Q176","v":2},{"$f":"Recap!P176","v":54},174,246.46,135,{"$f":"RANK(G176,$G$3:$G$194,1)+COUNTIF(G$3:G176,G176)-1","v":136},{"$f":"IFERROR(INDEX(Liste!$G$7:$G$198,MATCH(K176,Liste!$I$7:$I$198,0)),\"\")","v":"A"},174,"T43",44,1,56,43,null,-12,null,"A",174,"T35",46,1,61,35,null,-15,12444.44,172,{"$f":"RANK(AC176,$AC$3:$AC$194,1)+COUNTIF(AC$3:AC176,AC176)-1","v":172},null,{"$f":"S176&COUNTIF(S$3:S176,S176)","v":"A34"}]
[{"$f":" Recap!B177","v":"P79"},{"$f":"Recap!O177","v":53},{"$f":"Recap!Q177","v":1},{"$f":"Recap!P177","v":57},175,153.43,163,{"$f":"RANK(G177,$G$3:$G$194,1)+COUNTIF(G$3:G177,G177)-1","v":164},{"$f":"IFERROR(INDEX(Liste!$G$7:$G$198,MATCH(K177,Liste!$I$7:$I$198,0)),\"\")","v":"E"},175,"T28",44,1,63,28,null,-19,null,"E",175,"T28",44,1,63,28,null,-19,11744.37,175,{"$f":"RANK(AC177,$AC$3:$AC$194,1)+COUNTIF(AC$3:AC177,AC177)-1","v":175},88,{"$f":"S177&COUNTIF(S$3:S177,S177)","v":"E27"}]
[{"$f":" Recap!B178","v":"P80"},{"$f":"Recap!O178","v":45},{"$f":"Recap!Q178","v":2},{"$f":"Recap!P178","v":62},176,245.38,139,{"$f":"RANK(G178,$G$3:$G$194,1)+COUNTIF(G$3:G178,G178)-1","v":140},{"$f":"IFERROR(INDEX(Liste!$G$7:$G$198,MATCH(K178,Liste!$I$7:$I$198,0)),\"\")","v":"E"},175,"P28",44,1,63,124,null,-19,null,"E",175,"P28",44,1,63,124,null,-19,11744.37,175,{"$f":"RANK(AC178,$AC$3:$AC$194,1)+COUNTIF(AC$3:AC178,AC178)-1","v":176},null,{"$f":"S178&COUNTIF(S$3:S178,S178)","v":"E28"}]
[{"$f":" Recap!B179","v":"P81"},{"$f":"Recap!O179","v":39},{"$f":"Recap!Q179","v":2},{"$f":"Recap!P179","v":58},177,239.42,155,{"$f":"RANK(G179,$G$3:$G$194,1)+COUNTIF(G$3:G179,G179)-1","v":156},{"$f":"IFERROR(INDEX(Liste!$G$7:$G$198,MATCH(K179,Liste!$I$7:$I$198,0)),\"\")","v":"CE"},177,"T85",42,1,63,85,null,-21,null,"ST",177,"T6",37,1,56,6,null,-19,11542.37,179,{"$f":"RANK(AC179,$AC$3:$AC$194,1)+COUNTIF(AC$3:AC179,AC179)-1","v":179},89,{"$f":"S179&COUNTIF(S$3:S179,S179)","v":"ST31"}]
[{"$f":" Recap!B180","v":"P82"},{"$f":"Recap!O180","v":56},{"$f":"Recap!Q180","v":2},{"$f":"Recap!P180","v":58},178,256.42,99,{"$f":"RANK(G180,$G$3:$G$194,1)+COUNTIF(G$3:G180,G180)-1","v":100},{"$f":"IFERROR(INDEX(Liste!$G$7:$G$198,MATCH(K180,Liste!$I$7:$I$198,0)),\"\")","v":"CE"},177,"P85",42,1,63,181,null,-21,null,"ST",177,"P6",37,1,56,102,null,-19,11542.37,179,{"$f":"RANK(AC180,$AC$3:$AC$194,1)+COUNTIF(AC$3:AC180,AC180)-1","v":180},null,{"$f":"S180&COUNTIF(S$3:S180,S180)","v":"ST32"}]
[{"$f":" Recap!B181","v":"P83"},{"$f":"Recap!O181","v":58},{"$f":"Recap!Q181","v":4},{"$f":"Recap!P181","v":34},179,458.66,13,{"$f":"RANK(G181,$G$3:$G$194,1)+COUNTIF(G$3:G181,G181)-1","v":18},{"$f":"IFERROR(INDEX(Liste!$G$7:$G$198,MATCH(K181,Liste!$I$7:$I$198,0)),\"\")","v":"A"},179,"T31",38,1,62,31,null,-24,null,"CE",179,"T85",42,1,63,85,null,-21,11238.38,181,{"$f":"RANK(AC181,$AC$3:$AC$194,1)+COUNTIF(AC$3:AC181,AC181)-1","v":181},90,{"$f":"S181&COUNTIF(S$3:S181,S181)","v":"CE53"}]
[{"$f":" Recap!B182","v":"P84"},{"$f":"Recap!O182","v":47},{"$f":"Recap!Q182","v":3},{"$f":"Recap!P182","v":48},180,347.52,93,{"$f":"RANK(G182,$G$3:$G$194,1)+COUNTIF(G$3:G182,G182)-1","v":94},{"$f":"IFERROR(INDEX(Liste!$G$7:$G$198,MATCH(K182,Liste!$I$7:$I$198,0)),\"\")","v":"A"},179,"P31",38,1,62,127,null,-24,null,"CE",179,"P85",42,1,63,181,null,-21,11238.38,181,{"$f":"RANK(AC182,$AC$3:$AC$194,1)+COUNTIF(AC$3:AC182,AC182)-1","v":182},null,{"$f":"S182&COUNTIF(S$3:S182,S182)","v":"CE54"}]
[{"$f":" Recap!B183","v":"P85"},{"$f":"Recap!O183","v":42},{"$f":"Recap!Q183","v":1},{"$f":"Recap!P183","v":63},181,142.37,177,{"$f":"RANK(G183,$G$3:$G$194,1)+COUNTIF(G$3:G183,G183)-1","v":178},{"$f":"IFERROR(INDEX(Liste!$G$7:$G$198,MATCH(K183,Liste!$I$7:$I$198,0)),\"\")","v":"ST"},181,"T6",37,1,56,6,null,-19,null,"A",181,"T31",38,1,62,31,null,-24,11737.44,177,{"$f":"RANK(AC183,$AC$3:$AC$194,1)+COUNTIF(AC$3:AC183,AC183)-1","v":177},91,{"$f":"S183&COUNTIF(S$3:S183,S183)","v":"A35"}]
[{"$f":" Recap!B184","v":"P86"},{"$f":"Recap!O184","v":45},{"$f":"Recap!Q184","v":2},{"$f":"Recap!P184","v":45},182,245.55,137,{"$f":"RANK(G184,$G$3:$G$194,1)+COUNTIF(G$3:G184,G184)-1","v":137},{"$f":"IFERROR(INDEX(Liste!$G$7:$G$198,MATCH(K184,Liste!$I$7:$I$198,0)),\"\")","v":"ST"},181,"P6",37,1,56,102,null,-19,null,"A",181,"P31",38,1,62,127,null,-24,11737.44,177,{"$f":"RANK(AC184,$AC$3:$AC$194,1)+COUNTIF(AC$3:AC184,AC184)-1","v":178},null,{"$f":"S184&COUNTIF(S$3:S184,S184)","v":"A36"}]
[{"$f":" Recap!B185","v":"P87"},{"$f":"Recap!O185","v":55},{"$f":"Recap!Q185","v":2},{"$f":"Recap!P185","v":46},183,255.54,101,{"$f":"RANK(G185,$G$3:$G$194,1)+COUNTIF(G$3:G185,G185)-1","v":102},{"$f":"IFERROR(INDEX(Liste!$G$7:$G$198,MATCH(K185,Liste!$I$7:$I$198,0)),\"\")","v":"A"},183,"T40",36,1,64,40,null,-28,null,"A",183,"T40",36,1,64,40,null,-28,10836.36,183,{"$f":"RANK(AC185,$AC$3:$AC$194,1)+COUNTIF(AC$3:AC185,AC185)-1","v":183},92,{"$f":"S185&COUNTIF(S$3:S185,S185)","v":"A37"}]
[{"$f":" Recap!B186","v":"P88"},{"$f":"Recap!O186","v":50},{"$f":"Recap!Q186","v":3},{"$f":"Recap!P186","v":50},184,350.5,79,{"$f":"RANK(G186,$G$3:$G$194,1)+COUNTIF(G$3:G186,G186)-1","v":82},{"$f":"IFERROR(INDEX(Liste!$G$7:$G$198,MATCH(K186,Liste!$I$7:$I$198,0)),\"\")","v":"A"},183,"P40",36,1,64,136,null,-28,null,"A",183,"P40",36,1,64,136,null,-28,10836.36,183,{"$f":"RANK(AC186,$AC$3:$AC$194,1)+COUNTIF(AC$3:AC186,AC186)-1","v":184},null,{"$f":"S186&COUNTIF(S$3:S186,S186)","v":"A38"}]
[{"$f":" Recap!B187","v":"P89"},{"$f":"Recap!O187","v":49},{"$f":"Recap!Q187","v":3},{"$f":"Recap!P187","v":48},185,349.52,87,{"$f":"RANK(G187,$G$3:$G$194,1)+COUNTIF(G$3:G187,G187)-1","v":88},{"$f":"IFERROR(INDEX(Liste!$G$7:$G$198,MATCH(K187,Liste!$I$7:$I$198,0)),\"\")","v":"C"},185,"T67",28,1,64,67,null,-36,null,"C",185,"T67",28,1,64,67,null,-36,10028.36,185,{"$f":"RANK(AC187,$AC$3:$AC$194,1)+COUNTIF(AC$3:AC187,AC187)-1","v":185},93,{"$f":"S187&COUNTIF(S$3:S187,S187)","v":"C33"}]
[{"$f":" Recap!B188","v":"P90"},{"$f":"Recap!O188","v":57},{"$f":"Recap!Q188","v":3},{"$f":"Recap!P188","v":47},186,357.53,47,{"$f":"RANK(G188,$G$3:$G$194,1)+COUNTIF(G$3:G188,G188)-1","v":50},{"$f":"IFERROR(INDEX(Liste!$G$7:$G$198,MATCH(K188,Liste!$I$7:$I$198,0)),\"\")","v":"C"},185,"P67",28,1,64,163,null,-36,null,"C",185,"P67",28,1,64,163,null,-36,10028.36,185,{"$f":"RANK(AC188,$AC$3:$AC$194,1)+COUNTIF(AC$3:AC188,AC188)-1","v":186},null,{"$f":"S188&COUNTIF(S$3:S188,S188)","v":"C34"}]
[{"$f":" Recap!B189","v":"P91"},{"$f":"Recap!O189","v":58},{"$f":"Recap!Q189","v":3},{"$f":"Recap!P189","v":40},187,358.6,41,{"$f":"RANK(G189,$G$3:$G$194,1)+COUNTIF(G$3:G189,G189)-1","v":42},{"$f":"IFERROR(INDEX(Liste!$G$7:$G$198,MATCH(K189,Liste!$I$7:$I$198,0)),\"\")","v":"ST"},187,"T16",34,0,65,16,null,-31,null,"ST",187,"T16",34,0,65,16,null,-31,534.35,187,{"$f":"RANK(AC189,$AC$3:$AC$194,1)+COUNTIF(AC$3:AC189,AC189)-1","v":187},94,{"$f":"S189&COUNTIF(S$3:S189,S189)","v":"ST33"}]
[{"$f":" Recap!B190","v":"P92"},{"$f":"Recap!O190","v":51},{"$f":"Recap!Q190","v":2},{"$f":"Recap!P190","v":61},188,251.39,113,{"$f":"RANK(G190,$G$3:$G$194,1)+COUNTIF(G$3:G190,G190)-1","v":114},{"$f":"IFERROR(INDEX(Liste!$G$7:$G$198,MATCH(K190,Liste!$I$7:$I$198,0)),\"\")","v":"CE"},187,"T75",34,0,65,75,null,-31,null,"CE",187,"T75",34,0,65,75,null,-31,534.35,187,{"$f":"RANK(AC190,$AC$3:$AC$194,1)+COUNTIF(AC$3:AC190,AC190)-1","v":188},null,{"$f":"S190&COUNTIF(S$3:S190,S190)","v":"CE55"}]
[{"$f":" Recap!B191","v":"P93"},{"$f":"Recap!O191","v":52},{"$f":"Recap!Q191","v":2},{"$f":"Recap!P191","v":61},189,252.39,107,{"$f":"RANK(G191,$G$3:$G$194,1)+COUNTIF(G$3:G191,G191)-1","v":108},{"$f":"IFERROR(INDEX(Liste!$G$7:$G$198,MATCH(K191,Liste!$I$7:$I$198,0)),\"\")","v":"ST"},187,"P16",34,0,65,112,null,-31,null,"ST",187,"P16",34,0,65,112,null,-31,534.35,187,{"$f":"RANK(AC191,$AC$3:$AC$194,1)+COUNTIF(AC$3:AC191,AC191)-1","v":189},95,{"$f":"S191&COUNTIF(S$3:S191,S191)","v":"ST34"}]
[{"$f":" Recap!B192","v":"P94"},{"$f":"Recap!O192","v":56},{"$f":"Recap!Q192","v":3},{"$f":"Recap!P192","v":47},190,356.53,55,{"$f":"RANK(G192,$G$3:$G$194,1)+COUNTIF(G$3:G192,G192)-1","v":56},{"$f":"IFERROR(INDEX(Liste!$G$7:$G$198,MATCH(K192,Liste!$I$7:$I$198,0)),\"\")","v":"CE"},187,"P75",34,0,65,171,null,-31,null,"CE",187,"P75",34,0,65,171,null,-31,534.35,187,{"$f":"RANK(AC192,$AC$3:$AC$194,1)+COUNTIF(AC$3:AC192,AC192)-1","v":190},null,{"$f":"S192&COUNTIF(S$3:S192,S192)","v":"CE56"}]
[{"$f":" Recap!B193","v":"P95"},{"$f":"Recap!O193","v":51},{"$f":"Recap!Q193","v":3},{"$f":"Recap!P193","v":53},191,351.47,75,{"$f":"RANK(G193,$G$3:$G$194,1)+COUNTIF(G$3:G193,G193)-1","v":76},{"$f":"IFERROR(INDEX(Liste!$G$7:$G$198,MATCH(K193,Liste!$I$7:$I$198,0)),\"\")","v":"C"},191,"T55",33,0,65,55,null,-32,null,"C",191,"T55",33,0,65,55,null,-32,433.35,191,{"$f":"RANK(AC193,$AC$3:$AC$194,1)+COUNTIF(AC$3:AC193,AC193)-1","v":191},96,{"$f":"S193&COUNTIF(S$3:S193,S193)","v":"C35"}]
[{"$f":" Recap!B194","v":"P96"},{"$f":"Recap!O194","v":56},{"$f":"Recap!Q194","v":3},{"$f":"Recap!P194","v":53},192,356.47,57,{"$f":"RANK(G194,$G$3:$G$194,1)+COUNTIF(G$3:G194,G194)-1","v":58},{"$f":"IFERROR(INDEX(Liste!$G$7:$G$198,MATCH(K194,Liste!$I$7:$I$198,0)),\"\")","v":"C"},191,"P55",33,0,65,151,null,-32,null,"C",191,"P55",33,0,65,151,null,-32,433.35,191,{"$f":"RANK(AC194,$AC$3:$AC$194,1)+COUNTIF(AC$3:AC194,AC194)-1","v":192},null,{"$f":"S194&COUNTIF(S$3:S194,S194)","v":"C36"}]

{"sheet":"Paiement","index":8,"n_rows":63,"n_cols":9,"rows_kept":63,"cut":false,"hidden":false,"merged":[]}
[]
[null,null,null,null,null,"JOUEURS(ES)","PAIEMENT",null,"TOTAL"]
[null,null,null,null,null,{"$f":"Liste!I7","v":"T1"},null,null,{"$f":"COUNTIF(G3:G194,\"P\")*5","v":0}]
[null,null,null,null,null,{"$f":"Liste!I8","v":"T2"}]
[null,null,null,null,null,{"$f":"Liste!I9","v":"T3"}]
[null,null,null,null,null,{"$f":"Liste!I10","v":"T4"}]
[null,null,null,null,null,{"$f":"Liste!I11","v":"T5"}]
[null,null,null,null,null,{"$f":"Liste!I12","v":"T6"}]
[null,null,null,null,null,{"$f":"Liste!I13","v":"T7"}]
[null,null,null,null,null,{"$f":"Liste!I14","v":"T8"}]
[null,null,null,null,null,{"$f":"Liste!I15","v":"T9"}]
[null,null,null,null,null,{"$f":"Liste!I16","v":"T10"}]
[null,null,null,null,null,{"$f":"Liste!I17","v":"T11"}]
[null,null,null,null,null,{"$f":"Liste!I18","v":"T12"}]
[null,null,null,null,null,{"$f":"Liste!I19","v":"T13"}]
[null,null,null,null,null,{"$f":"Liste!I20","v":"T14"}]
[null,null,null,null,null,{"$f":"Liste!I21","v":"T15"}]
[null,null,null,null,null,{"$f":"Liste!I22","v":"T16"}]
[null,null,null,null,null,{"$f":"Liste!I23","v":"T17"}]
[null,null,null,null,null,{"$f":"Liste!I24","v":"T18"}]
[null,null,null,null,null,{"$f":"Liste!I25","v":"T19"}]
[null,null,null,null,null,{"$f":"Liste!I26","v":"T20"}]
[null,null,null,null,null,{"$f":"Liste!I27","v":"T21"}]
[null,null,null,null,null,{"$f":"Liste!I28","v":"T22"}]
[null,null,null,null,null,{"$f":"Liste!I29","v":"T23"}]
[null,null,null,null,null,{"$f":"Liste!I30","v":"T24"}]
[null,null,null,null,null,{"$f":"Liste!I31","v":"T25"}]
[null,null,null,null,null,{"$f":"Liste!I32","v":"T26"}]
[null,null,null,null,null,{"$f":"Liste!I33","v":"T27"}]
[null,null,null,null,null,{"$f":"Liste!I34","v":"T28"}]
[null,null,null,null,null,{"$f":"Liste!I35","v":"T29"}]
[null,null,null,null,null,{"$f":"Liste!I36","v":"T30"}]
[null,null,null,null,null,{"$f":"Liste!I37","v":"T31"}]
[null,null,null,null,null,{"$f":"Liste!I38","v":"T32"}]
[null,null,null,null,null,{"$f":"Liste!I39","v":"T33"}]
[null,null,null,null,null,{"$f":"Liste!I40","v":"T34"}]
[null,null,null,null,null,{"$f":"Liste!I41","v":"T35"}]
[null,null,null,null,null,{"$f":"Liste!I42","v":"T36"}]
[null,null,null,null,null,{"$f":"Liste!I43","v":"T37"}]
[null,null,null,null,null,{"$f":"Liste!I44","v":"T38"}]
[null,null,null,null,null,{"$f":"Liste!I45","v":"T39"}]
[null,null,null,null,null,{"$f":"Liste!I46","v":"T40"}]
[null,null,null,null,null,{"$f":"Liste!I47","v":"T41"}]
[null,null,null,null,null,{"$f":"Liste!I48","v":"T42"}]
[null,null,null,null,null,{"$f":"Liste!I49","v":"T43"}]
[null,null,null,null,null,{"$f":"Liste!I50","v":"T44"}]
[null,null,null,null,null,{"$f":"Liste!I51","v":"T45"}]
[null,null,null,null,null,{"$f":"Liste!I52","v":"T46"}]
[null,null,null,null,null,{"$f":"Liste!I53","v":"T47"}]
[null,null,null,null,null,{"$f":"Liste!I54","v":"T48"}]
[null,null,null,null,null,{"$f":"Liste!I55","v":"T49"}]
[null,null,null,null,null,{"$f":"Liste!I56","v":"T50"}]
[null,null,null,null,null,{"$f":"Liste!I57","v":"T51"}]
[null,null,null,null,null,{"$f":"Liste!I58","v":"T52"}]
[null,null,null,null,null,{"$f":"Liste!I59","v":"T53"}]
[null,null,null,null,null,{"$f":"Liste!I60","v":"T54"}]
[null,null,null,null,null,{"$f":"Liste!I61","v":"T55"}]
[null,null,null,null,null,{"$f":"Liste!I62","v":"T56"}]
[null,null,null,null,null,{"$f":"Liste!I63","v":"T57"}]
[null,null,null,null,null,{"$f":"Liste!I64","v":"T58"}]
[null,null,null,null,null,{"$f":"Liste!I65","v":"T59"}]
[null,null,null,null,null,{"$f":"Liste!I66","v":"T60"}]
[null,null,null,null,null,{"$f":"Liste!I67","v":"T61"}]