{"text_format":"1","workbook":"xlsx","n_sheets":4,"sheets":["Gantt","Settings","Param","RàF"],"not_rendered":{"charts":0,"images":0,"macros":1,"external_links":0,"defined_names":7,"comments":0,"pivot_tables":0},"unopened":[],"bounds":{"document_bytes":16777216,"sheet_cells":100000,"rows_first":2000,"rows_last":500,"rows_between":2000,"halvings":0,"cell_chars":16384,"cell_head_chars":4096},"cells_cut":0,"cells_raw":0,"read":"whole","date_system":"1900"}

{"sheet":"Gantt","index":0,"n_rows":57,"n_cols":101,"rows_kept":57,"cut":false,"hidden":false,"merged":[[3,5,3,6],[3,1,3,4],[2,4,2,5],[1,2,1,5]]}
["Create a Gantt Chart in this worksheet.\nEnter title of this project in cell B1. \nInformation about how to use this worksheet, including instructions for screen readers and the author of this workbook is in the About worksheet.\nContinue navigating down column A to hear further instructions.","PROJET"]
["Enter Company Name in cell B2.\nEnter the Project Start date in cell E2 or allow the sample formula to find the smallest date value from the Gantt Data table.  Project Start Date: label is in cell C2.","EDF COMMERCE","Début de la période :  ",null,null,null,"2022-08-03"]
["Enter the name of the Project Lead in cell B3. \nA Scrolling Increment is in cell E3. Scrollbar is in cells H3 through M3. Increasing the scrolling increment or using the scrollbar will increment the Gantt chart timeline. \nAn input of 0 in cell E3 resets the charting to the start of the project.",null,null,null,"Scrolling :  ",null,20]
["To modify the default Milestone Marker type, enter a 0, 1, or 2, in cell E5. The corresponding marker will appear in cell F5. To change the markers, modify the conditional format for that cell and the table below.\nMonths for the dates in row 5 are displayed starting in cells H4 through cell BK4.\nDo not modify these cells. They are auto updated based on the project start date and scrollbar increment.\nScrolling Increment: label is in cell C4.","CSC Composition et Envois multicanaux ",null,null,null,null,null,null,null,null,null,{"$f":"TEXT(L6,\"mmmm\")","v":"août"},null,null,null,null,null,null,{"$f":"IF(TEXT(S6,\"mmmm\")=L4,\"\",TEXT(S6,\"mmmm\"))","v":"septembre"},null,null,null,null,null,null,{"$f":"IF(OR(TEXT(Z6,\"mmmm\")=S4,TEXT(Z6,\"mmmm\")=L4),\"\",TEXT(Z6,\"mmmm\"))","v":""},null,null,null,null,null,null,{"$f":"IF(OR(TEXT(AG6,\"mmmm\")=Z4,TEXT(AG6,\"mmmm\")=S4,TEXT(AG6,\"mmmm\")=L4),\"\",TEXT(AG6,\"mmmm\"))","v":""},null,null,null,null,null,null,{"$f":"IF(OR(TEXT(AN6,\"mmmm\")=AG4,TEXT(AN6,\"mmmm\")=Z4,TEXT(AN6,\"mmmm\")=S4,TEXT(AN6,\"mmmm\")=L4),\"\",TEXT(AN6,\"mmmm\"))","v":""},null,null,null,null,null,null,{"$f":"IF(OR(TEXT(AU6,\"mmmm\")=AN4,TEXT(AU6,\"mmmm\")=AG4,TEXT(AU6,\"mmmm\")=Z4,TEXT(AU6,\"mmmm\")=S4),\"\",TEXT(AU6,\"mmmm\"))","v":"octobre"},null,null,null,null,null,null,{"$f":"IF(OR(TEXT(BB6,\"mmmm\")=AU4,TEXT(BB6,\"mmmm\")=AN4,TEXT(BB6,\"mmmm\")=AG4,TEXT(BB6,\"mmmm\")=Z4),\"\",TEXT(BB6,\"mmmm\"))","v":""},null,null,null,null,null,null,{"$f":"IF(OR(TEXT(BI6,\"mmmm\")=BB4,TEXT(BI6,\"mmmm\")=AU4,TEXT(BI6,\"mmmm\")=AN4,TEXT(BI6,\"mmmm\")=AG4),\"\",TEXT(BI6,\"mmmm\"))","v":""},null,null,null,null,null,null,null,null,null,null,null,null,null,null,null,null,{"$f":"IF(OR(TEXT(BZ6,\"mmmm\")=BS4,TEXT(BZ6,\"mmmm\")=BL4,TEXT(BZ6,\"mmmm\")=BE4,TEXT(BZ6,\"mmmm\")=AX4),\"\",TEXT(BZ6,\"mmmm\"))","v":"novembre"},null,null,null,null,null,null,null,null,null,null,null,null,null,null,null,null,null,null,null,{"$f":"IF(OR(TEXT(CT6,\"mmmm\")=CM4,TEXT(CT6,\"mmmm\")=CF4,TEXT(CT6,\"mmmm\")=BY4,TEXT(CT6,\"mmmm\")=BR4),\"\",TEXT(CT6,\"mmmm\"))","v":"décembre"}]
[null," ",null,null,null,null,null,null,null,null,null,{"$f":"IF(L$7=\"L\",\"S\"&WEEKNUM(L$6,2),\"\")","v":""},{"$f":"IF(M$7=\"L\",\"S\"&WEEKNUM(M$6,2),\"\")","v":""},"","","S36","","","","","S37","","","","","S38","","","","","S39","","","","","S40","","","","","S41","","","","","S42","","","","","S43","","","","","S44","","","","","S45","","","","","S46","","","","","S47","",{"$f":"IF(BU$7=\"L\",\"S\"&WEEKNUM(BU$6,2),\"\")","v":""},{"$f":"IF(BV$7=\"L\",\"S\"&WEEKNUM(BV$6,2),\"\")","v":""},{"$f":"IF(BW$7=\"L\",\"S\"&WEEKNUM(BW$6,2),\"\")","v":""},{"$f":"IF(BX$7=\"L\",\"S\"&WEEKNUM(BX$6,2),\"\")","v":"S48"},{"$f":"IF(BY$7=\"L\",\"S\"&WEEKNUM(BY$6,2),\"\")","v":""},"","","","S49","","","","","S50","","","","","S51","","","","","S52","","","","","S53"]
["Cells H5 through BK5 contain the day number of the month for the Month represented in the cell block above each date cell and are auto calculated.\nDo not modify these cells.\nDates leading up to Today are shaded.",null,null,null,null,null,null,null,null,null,null,{"$f":"IFERROR(IF(WEEKDAY(Date_Déb+Scrolling,2)=7,Date_Déb+Scrolling+1,Date_Déb+Scrolling),TODAY())","v":"2022-08-23"},{"$f":"IF(WEEKDAY(L$6+1)=7,L$6+3,L$6+1)","v":"2022-08-24"},"2022-08-25","2022-08-26","2022-08-29","2022-08-30","2022-08-31","2022-09-01","2022-09-02",{"$f":"IF(WEEKDAY(T$6+1)=7,T$6+3,T$6+1)","v":"2022-09-05"},{"$f":"IF(WEEKDAY(U$6+1)=7,U$6+3,U$6+1)","v":"2022-09-06"},"2022-09-07","2022-09-08","2022-09-09","2022-09-12","2022-09-13","2022-09-14","2022-09-15","2022-09-16","2022-09-19","2022-09-20","2022-09-21","2022-09-22","2022-09-23","2022-09-26","2022-09-27","2022-09-28","2022-09-29","2022-09-30","2022-10-03","2022-10-04","2022-10-05","2022-10-06","2022-10-07","2022-10-10","2022-10-11","2022-10-12","2022-10-13","2022-10-14","2022-10-17","2022-10-18","2022-10-19","2022-10-20","2022-10-21","2022-10-24","2022-10-25","2022-10-26","2022-10-27","2022-10-28","2022-10-31","2022-11-01","2022-11-02","2022-11-03","2022-11-04","2022-11-07","2022-11-08",{"$f":"IF(WEEKDAY(BO$6+1)=7,BO$6+3,BO$6+1)","v":"2022-11-09"},{"$f":"IF(WEEKDAY(BP$6+1)=7,BP$6+3,BP$6+1)","v":"2022-11-10"},{"$f":"IF(WEEKDAY(BQ$6+1)=7,BQ$6+3,BQ$6+1)","v":"2022-11-11"},{"$f":"IF(WEEKDAY(BR$6+1)=7,BR$6+3,BR$6+1)","v":"2022-11-14"},{"$f":"IF(WEEKDAY(BS$6+1)=7,BS$6+3,BS$6+1)","v":"2022-11-15"},{"$f":"IF(WEEKDAY(BT$6+1)=7,BT$6+3,BT$6+1)","v":"2022-11-16"},{"$f":"IF(WEEKDAY(BU$6+1)=7,BU$6+3,BU$6+1)","v":"2022-11-17"},{"$f":"IF(WEEKDAY(BV$6+1)=7,BV$6+3,BV$6+1)","v":"2022-11-18"},{"$f":"IF(WEEKDAY(BW$6+1)=7,BW$6+3,BW$6+1)","v":"2022-11-21"},{"$f":"IF(WEEKDAY(BX$6+1)=7,BX$6+3,BX$6+1)","v":"2022-11-22"},"2022-11-23","2022-11-24",{"$f":"IF(WEEKDAY(CA$6+1)=7,CA$6+3,CA$6+1)","v":"2022-11-25"},"2022-11-28",{"$f":"IF(WEEKDAY(CC$6+1)=7,CC$6+3,CC$6+1)","v":"2022-11-29"},"2022-11-30","2022-12-01","2022-12-02","2022-12-05",{"$f":"IF(WEEKDAY(CH$6+1)=7,CH$6+3,CH$6+1)","v":"2022-12-06"},"2022-12-07","2022-12-08","2022-12-09",{"$f":"IF(WEEKDAY(CL$6+1)=7,CL$6+3,CL$6+1)","v":"2022-12-12"},"2022-12-13","2022-12-14","2022-12-15","2022-12-16","2022-12-19","2022-12-20",{"$f":"IF(WEEKDAY(CS$6+1)=7,CS$6+3,CS$6+1)","v":"2022-12-21"},"2022-12-22","2022-12-23",{"$f":"IF(WEEKDAY(CV$6+1)=7,CV$6+3,CV$6+1)","v":"2022-12-26"}]
["This row contains headers for the project schedule that follows below them. \nNavigate from B7 through BK7 to hear the content. The first letter of each day of the week for the date above that heading, starts in cell H7 and continues through cell BK7.\nAll project timeline charting is auto generated based on the category, start date and number of days entered in the Milestones table.\nFormulas in these cells help create the look of the Gantt Chart. Do not modify these cells.","Activité","Statut","Ressource","Progress","Start","Planned","Add","End","Réalisé",null,{"$f":"VLOOKUP(WEEKDAY(L$6,2),Jrs,2,FALSE)","v":"M"},"M","J","V","L","M","M","J","V","L","M","M","J","V","L","M","M","J","V","L","M","M","J","V","L","M","M","J","V","L","M","M",{"$f":"VLOOKUP(WEEKDAY(AR$6,2),Jrs,2,FALSE)","v":"J"},"V","L","M","M","J","V","L","M","M","J","V","L","M","M","J","V","L","M","M","J","V","L","M","M","J","V","L","M",{"$f":"VLOOKUP(WEEKDAY(BU$6,2),Jrs,2,FALSE)","v":"M"},"J","V","L","M","M","J","V","L","M","M","J","V","L","M","M","J","V","L","M","M","J","V","L","M","M","J","V","L"]
["Do not delete this row. This row is hidden to preserve a formula that is used to highlight the current day within the project schedule. ",null,null,null,null,null,null,null,{"$f":"IF(Etapes[[#This Row],[Start]]<>\"\",WORKDAY(Etapes[[#This Row],[Start]],IF(WEEKDAY(Etapes[[#This Row],[Start]],1)>=6,Etapes[[#This Row],[Planned]]+Etapes[[#This Row],[Add]],Etapes[[#This Row],[Planned]]+Etapes[[#This Row],[Add]]-1),Férié),\"\")","v":""},{"$f":"IF(Etapes[[#This Row],[Start]]<>\"\",WORKDAY(Etapes[[#This Row],[Start]],IF(WEEKDAY(Etapes[[#This Row],[Start]],1)>=6,Etapes[[#This Row],[Progress]]*Etapes[[#This Row],[Planned]]+Etapes[[#This Row],[Add]],(Etapes[[#This Row],[Progress]]*Etapes[[#This Row],[Planned]]+Etapes[[#This Row],[Add]])-1),Férié),\"\")","v":""}]
[null,"Chantiers",null,null,null,null,null,null,{"$f":"IF(Etapes[[#This Row],[Start]]<>\"\",WORKDAY(Etapes[[#This Row],[Start]],IF(WEEKDAY(Etapes[[#This Row],[Start]],1)>=6,Etapes[[#This Row],[Planned]]+Etapes[[#This Row],[Add]],Etapes[[#This Row],[Planned]]+Etapes[[#This Row],[Add]]-1),Férié),\"\")","v":""},{"$f":"IF(Etapes[[#This Row],[Start]]<>\"\",WORKDAY(Etapes[[#This Row],[Start]],IF(WEEKDAY(Etapes[[#This Row],[Start]],1)>=6,Etapes[[#This Row],[Progress]]*Etapes[[#This Row],[Planned]]+Etapes[[#This Row],[Add]],(Etapes[[#This Row],[Progress]]*Etapes[[#This Row],[Planned]]+Etapes[[#This Row],[Add]])-1),Férié),\"\")","v":""},null,{"$f":"IFERROR(IF(LEN(Etapes[[#This Row],[Planned]])=0,\"\",IF(AND($C9=\"MER\",L$6=$F9,$G9=1),1,IF(AND($C9=\"MEP\",L$6=$F9,$G9=1),2,IF(AND(L$6=$F9,$G9=1),0,\"\")))),\"\")","v":""},{"$f":"IFERROR(IF(LEN(Etapes[[#This Row],[Planned]])=0,\"\",IF(AND($C9=\"MER\",M$6=$F9,$G9=1),1,IF(AND($C9=\"MEP\",M$6=$F9,$G9=1),2,IF(AND(M$6=$F9,$G9=1),0,\"\")))),\"\")","v":""},{"$f":"IFERROR(IF(LEN(Etapes[[#This Row],[Planned]])=0,\"\",IF(AND($C9=\"MER\",N$6=$F9,$G9=1),1,IF(AND($C9=\"MEP\",N$6=$F9,$G9=1),2,IF(AND(N$6=$F9,$G9=1),0,\"\")))),\"\")","v":""},{"$f":"IFERROR(IF(LEN(Etapes[[#This Row],[Planned]])=0,\"\",IF(AND($C9=\"MER\",O$6=$F9,$G9=1),1,IF(AND($C9=\"MEP\",O$6=$F9,$G9=1),2,IF(AND(O$6=$F9,$G9=1),0,\"\")))),\"\")","v":""},{"$f":"IFERROR(IF(LEN(Etapes[[#This Row],[Planned]])=0,\"\",IF(AND($C9=\"MER\",P$6=$F9,$G9=1),1,IF(AND($C9=\"MEP\",P$6=$F9,$G9=1),2,IF(AND(P$6=$F9,$G9=1),0,\"\")))),\"\")","v":""},{"$f":"IFERROR(IF(LEN(Etapes[[#This Row],[Planned]])=0,\"\",IF(AND($C9=\"MER\",Q$6=$F9,$G9=1),1,IF(AND($C9=\"MEP\",Q$6=$F9,$G9=1),2,IF(AND(Q$6=$F9,$G9=1),0,\"\")))),\"\")","v":""},{"$f":"IFERROR(IF(LEN(Etapes[[#This Row],[Planned]])=0,\"\",IF(AND($C9=\"MER\",R$6=$F9,$G9=1),1,IF(AND($C9=\"MEP\",R$6=$F9,$G9=1),2,IF(AND(R$6=$F9,$G9=1),0,\"\")))),\"\")","v":""},{"$f":"IFERROR(IF(LEN(Etapes[[#This Row],[Planned]])=0,\"\",IF(AND($C9=\"MER\",S$6=$F9,$G9=1),1,IF(AND($C9=\"MEP\",S$6=$F9,$G9=1),2,IF(AND(S$6=$F9,$G9=1),0,\"\")))),\"\")","v":""},{"$f":"IFERROR(IF(LEN(Etapes[[#This Row],[Planned]])=0,\"\",IF(AND($C9=\"MER\",T$6=$F9,$G9=1),1,IF(AND($C9=\"MEP\",T$6=$F9,$G9=1),2,IF(AND(T$6=$F9,$G9=1),0,\"\")))),\"\")","v":""},{"$f":"IFERROR(IF(LEN(Etapes[[#This Row],[Planned]])=0,\"\",IF(AND($C9=\"MER\",U$6=$F9,$G9=1),1,IF(AND($C9=\"MEP\",U$6=$F9,$G9=1),2,IF(AND(U$6=$F9,$G9=1),0,\"\")))),\"\")","v":""},{"$f":"IFERROR(IF(LEN(Etapes[[#This Row],[Planned]])=0,\"\",IF(AND($C9=\"MER\",V$6=$F9,$G9=1),1,IF(AND($C9=\"MEP\",V$6=$F9,$G9=1),2,IF(AND(V$6=$F9,$G9=1),0,\"\")))),\"\")","v":""},{"$f":"IFERROR(IF(LEN(Etapes[[#This Row],[Planned]])=0,\"\",IF(AND($C9=\"MER\",W$6=$F9,$G9=1),1,IF(AND($C9=\"MEP\",W$6=$F9,$G9=1),2,IF(AND(W$6=$F9,$G9=1),0,\"\")))),\"\")","v":""},{"$f":"IFERROR(IF(LEN(Etapes[[#This Row],[Planned]])=0,\"\",IF(AND($C9=\"MER\",X$6=$F9,$G9=1),1,IF(AND($C9=\"MEP\",X$6=$F9,$G9=1),2,IF(AND(X$6=$F9,$G9=1),0,\"\")))),\"\")","v":""},{"$f":"IFERROR(IF(LEN(Etapes[[#This Row],[Planned]])=0,\"\",IF(AND($C9=\"MER\",Y$6=$F9,$G9=1),1,IF(AND($C9=\"MEP\",Y$6=$F9,$G9=1),2,IF(AND(Y$6=$F9,$G9=1),0,\"\")))),\"\")","v":""},{"$f":"IFERROR(IF(LEN(Etapes[[#This Row],[Planned]])=0,\"\",IF(AND($C9=\"MER\",Z$6=$F9,$G9=1),1,IF(AND($C9=\"MEP\",Z$6=$F9,$G9=1),2,IF(AND(Z$6=$F9,$G9=1),0,\"\")))),\"\")","v":""},{"$f":"IFERROR(IF(LEN(Etapes[[#This Row],[Planned]])=0,\"\",IF(AND($C9=\"MER\",AA$6=$F9,$G9=1),1,IF(AND($C9=\"MEP\",AA$6=$F9,$G9=1),2,IF(AND(AA$6=$F9,$G9=1),0,\"\")))),\"\")","v":""},{"$f":"IFERROR(IF(LEN(Etapes[[#This Row],[Planned]])=0,\"\",IF(AND($C9=\"MER\",AB$6=$F9,$G9=1),1,IF(AND($C9=\"MEP\",AB$6=$F9,$G9=1),2,IF(AND(AB$6=$F9,$G9=1),0,\"\")))),\"\")","v":""},{"$f":"IFERROR(IF(LEN(Etapes[[#This Row],[Planned]])=0,\"\",IF(AND($C9=\"MER\",AC$6=$F9,$G9=1),1,IF(AND($C9=\"MEP\",AC$6=$F9,$G9=1),2,IF(AND(AC$6=$F9,$G9=1),0,\"\")))),\"\")","v":""},{"$f":"IFERROR(IF(LEN(Etapes[[#This Row],[Planned]])=0,\"\",IF(AND($C9=\"MER\",AD$6=$F9,$G9=1),1,IF(AND($C9=\"MEP\",AD$6=$F9,$G9=1),2,IF(AND(AD$6=$F9,$G9=1),0,\"\")))),\"\")","v":""},{"$f":"IFERROR(IF(LEN(Etapes[[#This Row],[Planned]])=0,\"\",IF(AND($C9=\"MER\",AE$6=$F9,$G9=1),1,IF(AND($C9=\"MEP\",AE$6=$F9,$G9=1),2,IF(AND(AE$6=$F9,$G9=1),0,\"\")))),\"\")","v":""},{"$f":"IFERROR(IF(LEN(Etapes[[#This Row],[Planned]])=0,\"\",IF(AND($C9=\"MER\",AF$6=$F9,$G9=1),1,IF(AND($C9=\"MEP\",AF$6=$F9,$G9=1),2,IF(AND(AF$6=$F9,$G9=1),0,\"\")))),\"\")","v":""},{"$f":"IFERROR(IF(LEN(Etapes[[#This Row],[Planned]])=0,\"\",IF(AND($C9=\"MER\",AG$6=$F9,$G9=1),1,IF(AND($C9=\"MEP\",AG$6=$F9,$G9=1),2,IF(AND(AG$6=$F9,$G9=1),0,\"\")))),\"\")","v":""},{"$f":"IFERROR(IF(LEN(Etapes[[#This Row],[Planned]])=0,\"\",IF(AND($C9=\"MER\",AH$6=$F9,$G9=1),1,IF(AND($C9=\"MEP\",AH$6=$F9,$G9=1),2,IF(AND(AH$6=$F9,$G9=1),0,\"\")))),\"\")","v":""},{"$f":"IFERROR(IF(LEN(Etapes[[#This Row],[Planned]])=0,\"\",IF(AND($C9=\"MER\",AI$6=$F9,$G9=1),1,IF(AND($C9=\"MEP\",AI$6=$F9,$G9=1),2,IF(AND(AI$6=$F9,$G9=1),0,\"\")))),\"\")","v":""},{"$f":"IFERROR(IF(LEN(Etapes[[#This Row],[Planned]])=0,\"\",IF(AND($C9=\"MER\",AJ$6=$F9,$G9=1),1,IF(AND($C9=\"MEP\",AJ$6=$F9,$G9=1),2,IF(AND(AJ$6=$F9,$G9=1),0,\"\")))),\"\")","v":""},{"$f":"IFERROR(IF(LEN(Etapes[[#This Row],[Planned]])=0,\"\",IF(AND($C9=\"MER\",AK$6=$F9,$G9=1),1,IF(AND($C9=\"MEP\",AK$6=$F9,$G9=1),2,IF(AND(AK$6=$F9,$G9=1),0,\"\")))),\"\")","v":""},{"$f":"IFERROR(IF(LEN(Etapes[[#This Row],[Planned]])=0,\"\",IF(AND($C9=\"MER\",AL$6=$F9,$G9=1),1,IF(AND($C9=\"MEP\",AL$6=$F9,$G9=1),2,IF(AND(AL$6=$F9,$G9=1),0,\"\")))),\"\")","v":""},{"$f":"IFERROR(IF(LEN(Etapes[[#This Row],[Planned]])=0,\"\",IF(AND($C9=\"MER\",AM$6=$F9,$G9=1),1,IF(AND($C9=\"MEP\",AM$6=$F9,$G9=1),2,IF(AND(AM$6=$F9,$G9=1),0,\"\")))),\"\")","v":""},{"$f":"IFERROR(IF(LEN(Etapes[[#This Row],[Planned]])=0,\"\",IF(AND($C9=\"MER\",AN$6=$F9,$G9=1),1,IF(AND($C9=\"MEP\",AN$6=$F9,$G9=1),2,IF(AND(AN$6=$F9,$G9=1),0,\"\")))),\"\")","v":""},{"$f":"IFERROR(IF(LEN(Etapes[[#This Row],[Planned]])=0,\"\",IF(AND($C9=\"MER\",AO$6=$F9,$G9=1),1,IF(AND($C9=\"MEP\",AO$6=$F9,$G9=1),2,IF(AND(AO$6=$F9,$G9=1),0,\"\")))),\"\")","v":""},{"$f":"IFERROR(IF(LEN(Etapes[[#This Row],[Planned]])=0,\"\",IF(AND($C9=\"MER\",AP$6=$F9,$G9=1),1,IF(AND($C9=\"MEP\",AP$6=$F9,$G9=1),2,IF(AND(AP$6=$F9,$G9=1),0,\"\")))),\"\")","v":""},{"$f":"IFERROR(IF(LEN(Etapes[[#This Row],[Planned]])=0,\"\",IF(AND($C9=\"MER\",AQ$6=$F9,$G9=1),1,IF(AND($C9=\"MEP\",AQ$6=$F9,$G9=1),2,IF(AND(AQ$6=$F9,$G9=1),0,\"\")))),\"\")","v":""},{"$f":"IFERROR(IF(LEN(Etapes[[#This Row],[Planned]])=0,\"\",IF(AND($C9=\"MER\",AR$6=$F9,$G9=1),1,IF(AND($C9=\"MEP\",AR$6=$F9,$G9=1),2,IF(AND(AR$6=$F9,$G9=1),0,\"\")))),\"\")","v":""},{"$f":"IFERROR(IF(LEN(Etapes[[#This Row],[Planned]])=0,\"\",IF(AND($C9=\"MER\",AS$6=$F9,$G9=1),1,IF(AND($C9=\"MEP\",AS$6=$F9,$G9=1),2,IF(AND(AS$6=$F9,$G9=1),0,\"\")))),\"\")","v":""},{"$f":"IFERROR(IF(LEN(Etapes[[#This Row],[Planned]])=0,\"\",IF(AND($C9=\"MER\",AT$6=$F9,$G9=1),1,IF(AND($C9=\"MEP\",AT$6=$F9,$G9=1),2,IF(AND(AT$6=$F9,$G9=1),0,\"\")))),\"\")","v":""},{"$f":"IFERROR(IF(LEN(Etapes[[#This Row],[Planned]])=0,\"\",IF(AND($C9=\"MER\",AU$6=$F9,$G9=1),1,IF(AND($C9=\"MEP\",AU$6=$F9,$G9=1),2,IF(AND(AU$6=$F9,$G9=1),0,\"\")))),\"\")","v":""},{"$f":"IFERROR(IF(LEN(Etapes[[#This Row],[Planned]])=0,\"\",IF(AND($C9=\"MER\",AV$6=$F9,$G9=1),1,IF(AND($C9=\"MEP\",AV$6=$F9,$G9=1),2,IF(AND(AV$6=$F9,$G9=1),0,\"\")))),\"\")","v":""},{"$f":"IFERROR(IF(LEN(Etapes[[#This Row],[Planned]])=0,\"\",IF(AND($C9=\"MER\",AW$6=$F9,$G9=1),1,IF(AND($C9=\"MEP\",AW$6=$F9,$G9=1),2,IF(AND(AW$6=$F9,$G9=1),0,\"\")))),\"\")","v":""},{"$f":"IFERROR(IF(LEN(Etapes[[#This Row],[Planned]])=0,\"\",IF(AND($C9=\"MER\",AX$6=$F9,$G9=1),1,IF(AND($C9=\"MEP\",AX$6=$F9,$G9=1),2,IF(AND(AX$6=$F9,$G9=1),0,\"\")))),\"\")","v":""},{"$f":"IFERROR(IF(LEN(Etapes[[#This Row],[Planned]])=0,\"\",IF(AND($C9=\"MER\",AY$6=$F9,$G9=1),1,IF(AND($C9=\"MEP\",AY$6=$F9,$G9=1),2,IF(AND(AY$6=$F9,$G9=1),0,\"\")))),\"\")","v":""},{"$f":"IFERROR(IF(LEN(Etapes[[#This Row],[Planned]])=0,\"\",IF(AND($C9=\"MER\",AZ$6=$F9,$G9=1),1,IF(AND($C9=\"MEP\",AZ$6=$F9,$G9=1),2,IF(AND(AZ$6=$F9,$G9=1),0,\"\")))),\"\")","v":""},{"$f":"IFERROR(IF(LEN(Etapes[[#This Row],[Planned]])=0,\"\",IF(AND($C9=\"MER\",BA$6=$F9,$G9=1),1,IF(AND($C9=\"MEP\",BA$6=$F9,$G9=1),2,IF(AND(BA$6=$F9,$G9=1),0,\"\")))),\"\")","v":""},{"$f":"IFERROR(IF(LEN(Etapes[[#This Row],[Planned]])=0,\"\",IF(AND($C9=\"MER\",BB$6=$F9,$G9=1),1,IF(AND($C9=\"MEP\",BB$6=$F9,$G9=1),2,IF(AND(BB$6=$F9,$G9=1),0,\"\")))),\"\")","v":""},{"$f":"IFERROR(IF(LEN(Etapes[[#This Row],[Planned]])=0,\"\",IF(AND($C9=\"MER\",BC$6=$F9,$G9=1),1,IF(AND($C9=\"MEP\",BC$6=$F9,$G9=1),2,IF(AND(BC$6=$F9,$G9=1),0,\"\")))),\"\")","v":""},{"$f":"IFERROR(IF(LEN(Etapes[[#This Row],[Planned]])=0,\"\",IF(AND($C9=\"MER\",BD$6=$F9,$G9=1),1,IF(AND($C9=\"MEP\",BD$6=$F9,$G9=1),2,IF(AND(BD$6=$F9,$G9=1),0,\"\")))),\"\")","v":""},{"$f":"IFERROR(IF(LEN(Etapes[[#This Row],[Planned]])=0,\"\",IF(AND($C9=\"MER\",BE$6=$F9,$G9=1),1,IF(AND($C9=\"MEP\",BE$6=$F9,$G9=1),2,IF(AND(BE$6=$F9,$G9=1),0,\"\")))),\"\")","v":""},{"$f":"IFERROR(IF(LEN(Etapes[[#This Row],[Planned]])=0,\"\",IF(AND($C9=\"MER\",BF$6=$F9,$G9=1),1,IF(AND($C9=\"MEP\",BF$6=$F9,$G9=1),2,IF(AND(BF$6=$F9,$G9=1),0,\"\")))),\"\")","v":""},{"$f":"IFERROR(IF(LEN(Etapes[[#This Row],[Planned]])=0,\"\",IF(AND($C9=\"MER\",BG$6=$F9,$G9=1),1,IF(AND($C9=\"MEP\",BG$6=$F9,$G9=1),2,IF(AND(BG$6=$F9,$G9=1),0,\"\")))),\"\")","v":""},{"$f":"IFERROR(IF(LEN(Etapes[[#This Row],[Planned]])=0,\"\",IF(AND($C9=\"MER\",BH$6=$F9,$G9=1),1,IF(AND($C9=\"MEP\",BH$6=$F9,$G9=1),2,IF(AND(BH$6=$F9,$G9=1),0,\"\")))),\"\")","v":""},{"$f":"IFERROR(IF(LEN(Etapes[[#This Row],[Planned]])=0,\"\",IF(AND($C9=\"MER\",BI$6=$F9,$G9=1),1,IF(AND($C9=\"MEP\",BI$6=$F9,$G9=1),2,IF(AND(BI$6=$F9,$G9=1),0,\"\")))),\"\")","v":""},{"$f":"IFERROR(IF(LEN(Etapes[[#This Row],[Planned]])=0,\"\",IF(AND($C9=\"MER\",BJ$6=$F9,$G9=1),1,IF(AND($C9=\"MEP\",BJ$6=$F9,$G9=1),2,IF(AND(BJ$6=$F9,$G9=1),0,\"\")))),\"\")","v":""},{"$f":"IFERROR(IF(LEN(Etapes[[#This Row],[Planned]])=0,\"\",IF(AND($C9=\"MER\",BK$6=$F9,$G9=1),1,IF(AND($C9=\"MEP\",BK$6=$F9,$G9=1),2,IF(AND(BK$6=$F9,$G9=1),0,\"\")))),\"\")","v":""},{"$f":"IFERROR(IF(LEN(Etapes[[#This Row],[Planned]])=0,\"\",IF(AND($C9=\"MER\",BL$6=$F9,$G9=1),1,IF(AND($C9=\"MEP\",BL$6=$F9,$G9=1),2,IF(AND(BL$6=$F9,$G9=1),0,\"\")))),\"\")","v":""},{"$f":"IFERROR(IF(LEN(Etapes[[#This Row],[Planned]])=0,\"\",IF(AND($C9=\"MER\",BM$6=$F9,$G9=1),1,IF(AND($C9=\"MEP\",BM$6=$F9,$G9=1),2,IF(AND(BM$6=$F9,$G9=1),0,\"\")))),\"\")","v":""},{"$f":"IFERROR(IF(LEN(Etapes[[#This Row],[Planned]])=0,\"\",IF(AND($C9=\"MER\",BN$6=$F9,$G9=1),1,IF(AND($C9=\"MEP\",BN$6=$F9,$G9=1),2,IF(AND(BN$6=$F9,$G9=1),0,\"\")))),\"\")","v":""},{"$f":"IFERROR(IF(LEN(Etapes[[#This Row],[Planned]])=0,\"\",IF(AND($C9=\"MER\",BO$6=$F9,$G9=1),1,IF(AND($C9=\"MEP\",BO$6=$F9,$G9=1),2,IF(AND(BO$6=$F9,$G9=1),0,\"\")))),\"\")","v":""},{"$f":"IFERROR(IF(LEN(Etapes[[#This Row],[Add]])=0,\"\",IF(AND($C9=\"MER\",BP$6=$F9,$G9=1),1,IF(AND($C9=\"MEP\",BP$6=$F9,$G9=1),2,IF(AND(BP$6=$F9,$G9=1),0,\"\")))),\"\")","v":""},{"$f":"IFERROR(IF(LEN(Etapes[[#This Row],[End]])=0,\"\",IF(AND($C9=\"MER\",BQ$6=$F9,$G9=1),1,IF(AND($C9=\"MEP\",BQ$6=$F9,$G9=1),2,IF(AND(BQ$6=$F9,$G9=1),0,\"\")))),\"\")","v":""},{"$f":"IFERROR(IF(LEN(Etapes[[#This Row],[Réalisé]])=0,\"\",IF(AND($C9=\"MER\",BR$6=$F9,$G9=1),1,IF(AND($C9=\"MEP\",BR$6=$F9,$G9=1),2,IF(AND(BR$6=$F9,$G9=1),0,\"\")))),\"\")","v":""},{"$f":"IFERROR(IF(LEN(Etapes[[#This Row],[Activité]])=0,\"\",IF(AND($C9=\"MER\",BS$6=$F9,$G9=1),1,IF(AND($C9=\"MEP\",BS$6=$F9,$G9=1),2,IF(AND(BS$6=$F9,$G9=1),0,\"\")))),\"\")","v":""},{"$f":"IFERROR(IF(LEN(Etapes[[#This Row],[Statut]])=0,\"\",IF(AND($C9=\"MER\",BT$6=$F9,$G9=1),1,IF(AND($C9=\"MEP\",BT$6=$F9,$G9=1),2,IF(AND(BT$6=$F9,$G9=1),0,\"\")))),\"\")","v":""},{"$f":"IFERROR(IF(LEN(Etapes[[#This Row],[Progress]])=0,\"\",IF(AND($C9=\"MER\",BU$6=$F9,$G9=1),1,IF(AND($C9=\"MEP\",BU$6=$F9,$G9=1),2,IF(AND(BU$6=$F9,$G9=1),0,\"\")))),\"\")","v":""},{"$f":"IFERROR(IF(LEN(Etapes[[#This Row],[Start]])=0,\"\",IF(AND($C9=\"MER\",BV$6=$F9,$G9=1),1,IF(AND($C9=\"MEP\",BV$6=$F9,$G9=1),2,IF(AND(BV$6=$F9,$G9=1),0,\"\")))),\"\")","v":""},{"$f":"IFERROR(IF(LEN(Etapes[[#This Row],[Planned]])=0,\"\",IF(AND($C9=\"MER\",BW$6=$F9,$G9=1),1,IF(AND($C9=\"MEP\",BW$6=$F9,$G9=1),2,IF(AND(BW$6=$F9,$G9=1),0,\"\")))),\"\")","v":""},{"$f":"IFERROR(IF(LEN(Etapes[[#This Row],[Add]])=0,\"\",IF(AND($C9=\"MER\",BX$6=$F9,$G9=1),1,IF(AND($C9=\"MEP\",BX$6=$F9,$G9=1),2,IF(AND(BX$6=$F9,$G9=1),0,\"\")))),\"\")","v":""},{"$f":"IFERROR(IF(LEN(Etapes[[#This Row],[End]])=0,\"\",IF(AND($C9=\"MER\",BY$6=$F9,$G9=1),1,IF(AND($C9=\"MEP\",BY$6=$F9,$G9=1),2,IF(AND(BY$6=$F9,$G9=1),0,\"\")))),\"\")","v":""},{"$f":"IFERROR(IF(LEN(Etapes[[#This Row],[Réalisé]])=0,\"\",IF(AND($C9=\"MER\",BZ$6=$F9,$G9=1),1,IF(AND($C9=\"MEP\",BZ$6=$F9,$G9=1),2,IF(AND(BZ$6=$F9,$G9=1),0,\"\")))),\"\")","v":""},{"$f":"IFERROR(IF(LEN(Etapes[[#This Row],[Activité]])=0,\"\",IF(AND($C9=\"MER\",CA$6=$F9,$G9=1),1,IF(AND($C9=\"MEP\",CA$6=$F9,$G9=1),2,IF(AND(CA$6=$F9,$G9=1),0,\"\")))),\"\")","v":""},{"$f":"IFERROR(IF(LEN(Etapes[[#This Row],[Statut]])=0,\"\",IF(AND($C9=\"MER\",CB$6=$F9,$G9=1),1,IF(AND($C9=\"MEP\",CB$6=$F9,$G9=1),2,IF(AND(CB$6=$F9,$G9=1),0,\"\")))),\"\")","v":""},{"$f":"IFERROR(IF(LEN(Etapes[[#This Row],[Progress]])=0,\"\",IF(AND($C9=\"MER\",CC$6=$F9,$G9=1),1,IF(AND($C9=\"MEP\",CC$6=$F9,$G9=1),2,IF(AND(CC$6=$F9,$G9=1),0,\"\")))),\"\")","v":""},{"$f":"IFERROR(IF(LEN(Etapes[[#This Row],[Start]])=0,\"\",IF(AND($C9=\"MER\",CD$6=$F9,$G9=1),1,IF(AND($C9=\"MEP\",CD$6=$F9,$G9=1),2,IF(AND(CD$6=$F9,$G9=1),0,\"\")))),\"\")","v":""},{"$f":"IFERROR(IF(LEN(Etapes[[#This Row],[Planned]])=0,\"\",IF(AND($C9=\"MER\",CE$6=$F9,$G9=1),1,IF(AND($C9=\"MEP\",CE$6=$F9,$G9=1),2,IF(AND(CE$6=$F9,$G9=1),0,\"\")))),\"\")","v":""},{"$f":"IFERROR(IF(LEN(Etapes[[#This Row],[Add]])=0,\"\",IF(AND($C9=\"MER\",CF$6=$F9,$G9=1),1,IF(AND($C9=\"MEP\",CF$6=$F9,$G9=1),2,IF(AND(CF$6=$F9,$G9=1),0,\"\")))),\"\")","v":""},{"$f":"IFERROR(IF(LEN(Etapes[[#This Row],[End]])=0,\"\",IF(AND($C9=\"MER\",CG$6=$F9,$G9=1),1,IF(AND($C9=\"MEP\",CG$6=$F9,$G9=1),2,IF(AND(CG$6=$F9,$G9=1),0,\"\")))),\"\")","v":""},{"$f":"IFERROR(IF(LEN(Etapes[[#This Row],[Réalisé]])=0,\"\",IF(AND($C9=\"MER\",CH$6=$F9,$G9=1),1,IF(AND($C9=\"MEP\",CH$6=$F9,$G9=1),2,IF(AND(CH$6=$F9,$G9=1),0,\"\")))),\"\")","v":""},{"$f":"IFERROR(IF(LEN(Etapes[[#This Row],[Activité]])=0,\"\",IF(AND($C9=\"MER\",CI$6=$F9,$G9=1),1,IF(AND($C9=\"MEP\",CI$6=$F9,$G9=1),2,IF(AND(CI$6=$F9,$G9=1),0,\"\")))),\"\")","v":""},{"$f":"IFERROR(IF(LEN(Etapes[[#This Row],[Statut]])=0,\"\",IF(AND($C9=\"MER\",CJ$6=$F9,$G9=1),1,IF(AND($C9=\"MEP\",CJ$6=$F9,$G9=1),2,IF(AND(CJ$6=$F9,$G9=1),0,\"\")))),\"\")","v":""},{"$f":"IFERROR(IF(LEN(Etapes[[#This Row],[Progress]])=0,\"\",IF(AND($C9=\"MER\",CK$6=$F9,$G9=1),1,IF(AND($C9=\"MEP\",CK$6=$F9,$G9=1),2,IF(AND(CK$6=$F9,$G9=1),0,\"\")))),\"\")","v":""},{"$f":"IFERROR(IF(LEN(Etapes[[#This Row],[Start]])=0,\"\",IF(AND($C9=\"MER\",CL$6=$F9,$G9=1),1,IF(AND($C9=\"MEP\",CL$6=$F9,$G9=1),2,IF(AND(CL$6=$F9,$G9=1),0,\"\")))),\"\")","v":""},{"$f":"IFERROR(IF(LEN(Etapes[[#This Row],[Planned]])=0,\"\",IF(AND($C9=\"MER\",CM$6=$F9,$G9=1),1,IF(AND($C9=\"MEP\",CM$6=$F9,$G9=1),2,IF(AND(CM$6=$F9,$G9=1),0,\"\")))),\"\")","v":""},{"$f":"IFERROR(IF(LEN(Etapes[[#This Row],[Add]])=0,\"\",IF(AND($C9=\"MER\",CN$6=$F9,$G9=1),1,IF(AND($C9=\"MEP\",CN$6=$F9,$G9=1),2,IF(AND(CN$6=$F9,$G9=1),0,\"\")))),\"\")","v":""},{"$f":"IFERROR(IF(LEN(Etapes[[#This Row],[End]])=0,\"\",IF(AND($C9=\"MER\",CO$6=$F9,$G9=1),1,IF(AND($C9=\"MEP\",CO$6=$F9,$G9=1),2,IF(AND(CO$6=$F9,$G9=1),0,\"\")))),\"\")","v":""},{"$f":"IFERROR(IF(LEN(Etapes[[#This Row],[Réalisé]])=0,\"\",IF(AND($C9=\"MER\",CP$6=$F9,$G9=1),1,IF(AND($C9=\"MEP\",CP$6=$F9,$G9=1),2,IF(AND(CP$6=$F9,$G9=1),0,\"\")))),\"\")","v":""},{"$f":"IFERROR(IF(LEN(Etapes[[#This Row],[Activité]])=0,\"\",IF(AND($C9=\"MER\",CQ$6=$F9,$G9=1),1,IF(AND($C9=\"MEP\",CQ$6=$F9,$G9=1),2,IF(AND(CQ$6=$F9,$G9=1),0,\"\")))),\"\")","v":""},{"$f":"IFERROR(IF(LEN(Etapes[[#This Row],[Statut]])=0,\"\",IF(AND($C9=\"MER\",CR$6=$F9,$G9=1),1,IF(AND($C9=\"MEP\",CR$6=$F9,$G9=1),2,IF(AND(CR$6=$F9,$G9=1),0,\"\")))),\"\")","v":""},{"$f":"IFERROR(IF(LEN(Etapes[[#This Row],[Progress]])=0,\"\",IF(AND($C9=\"MER\",CS$6=$F9,$G9=1),1,IF(AND($C9=\"MEP\",CS$6=$F9,$G9=1),2,IF(AND(CS$6=$F9,$G9=1),0,\"\")))),\"\")","v":""},{"$f":"IFERROR(IF(LEN(Etapes[[#This Row],[Start]])=0,\"\",IF(AND($C9=\"MER\",CT$6=$F9,$G9=1),1,IF(AND($C9=\"MEP\",CT$6=$F9,$G9=1),2,IF(AND(CT$6=$F9,$G9=1),0,\"\")))),\"\")","v":""},{"$f":"IFERROR(IF(LEN(Etapes[[#This Row],[Planned]])=0,\"\",IF(AND($C9=\"MER\",CU$6=$F9,$G9=1),1,IF(AND($C9=\"MEP\",CU$6=$F9,$G9=1),2,IF(AND(CU$6=$F9,$G9=1),0,\"\")))),\"\")","v":""},{"$f":"IFERROR(IF(LEN(Etapes[[#This Row],[Add]])=0,\"\",IF(AND($C9=\"MER\",CV$6=$F9,$G9=1),1,IF(AND($C9=\"MEP\",CV$6=$F9,$G9=1),2,IF(AND(CV$6=$F9,$G9=1),0,\"\")))),\"\")","v":""},{"$f":"IFERROR(IF(LEN(Etapes[[#This Row],[End]])=0,\"\",IF(AND($C9=\"MER\",CW$6=$F9,$G9=1),1,IF(AND($C9=\"MEP\",CW$6=$F9,$G9=1),2,IF(AND(CW$6=$F9,$G9=1),0,\"\")))),\"\")","v":""}]
[1,{"$f":"RàF!A4","v":"E1.3.1"},null,null,null,{"$f":"TODAY()+20","v":"2022-08-31"},null,null,{"$f":"IF(Etapes[[#This Row],[Start]]<>\"\",WORKDAY(Etapes[[#This Row],[Start]],IF(WEEKDAY(Etapes[[#This Row],[Start]],1)>=6,Etapes[[#This Row],[Planned]]+Etapes[[#This Row],[Add]],Etapes[[#This Row],[Planned]]+Etapes[[#This Row],[Add]]-1),Férié),\"\")","v":"2022-08-30"},{"$f":"IF(Etapes[[#This Row],[Start]]<>\"\",WORKDAY(Etapes[[#This Row],[Start]],IF(WEEKDAY(Etapes[[#This Row],[Start]],1)>=6,Etapes[[#This Row],[Progress]]*Etapes[[#This Row],[Planned]]+Etapes[[#This Row],[Add]],(Etapes[[#This Row],[Progress]]*Etapes[[#This Row],[Planned]]+Etapes[[#This Row],[Add]])-1),Férié),\"\")","v":"2022-08-30"},null,{"$f":"IFERROR(IF(LEN(Etapes[[#This Row],[Planned]])=0,\"\",IF(AND($C10=\"MER\",L$6=$F10,$G10=1),1,IF(AND($C10=\"MEP\",L$6=$F10,$G10=1),2,IF(AND(L$6=$F10,$G10=1),0,\"\")))),\"\")","v":""},{"$f":"IFERROR(IF(LEN(Etapes[[#This Row],[Planned]])=0,\"\",IF(AND($C10=\"MER\",M$6=$F10,$G10=1),1,IF(AND($C10=\"MEP\",M$6=$F10,$G10=1),2,IF(AND(M$6=$F10,$G10=1),0,\"\")))),\"\")","v":""},{"$f":"IFERROR(IF(LEN(Etapes[[#This Row],[Planned]])=0,\"\",IF(AND($C10=\"MER\",N$6=$F10,$G10=1),1,IF(AND($C10=\"MEP\",N$6=$F10,$G10=1),2,IF(AND(N$6=$F10,$G10=1),0,\"\")))),\"\")","v":""},{"$f":"IFERROR(IF(LEN(Etapes[[#This Row],[Planned]])=0,\"\",IF(AND($C10=\"MER\",O$6=$F10,$G10=1),1,IF(AND($C10=\"MEP\",O$6=$F10,$G10=1),2,IF(AND(O$6=$F10,$G10=1),0,\"\")))),\"\")","v":""},{"$f":"IFERROR(IF(LEN(Etapes[[#This Row],[Planned]])=0,\"\",IF(AND($C10=\"MER\",P$6=$F10,$G10=1),1,IF(AND($C10=\"MEP\",P$6=$F10,$G10=1),2,IF(AND(P$6=$F10,$G10=1),0,\"\")))),\"\")","v":""},{"$f":"IFERROR(IF(LEN(Etapes[[#This Row],[Planned]])=0,\"\",IF(AND($C10=\"MER\",Q$6=$F10,$G10=1),1,IF(AND($C10=\"MEP\",Q$6=$F10,$G10=1),2,IF(AND(Q$6=$F10,$G10=1),0,\"\")))),\"\")","v":""},{"$f":"IFERROR(IF(LEN(Etapes[[#This Row],[Planned]])=0,\"\",IF(AND($C10=\"MER\",R$6=$F10,$G10=1),1,IF(AND($C10=\"MEP\",R$6=$F10,$G10=1),2,IF(AND(R$6=$F10,$G10=1),0,\"\")))),\"\")","v":""},{"$f":"IFERROR(IF(LEN(Etapes[[#This Row],[Planned]])=0,\"\",IF(AND($C10=\"MER\",S$6=$F10,$G10=1),1,IF(AND($C10=\"MEP\",S$6=$F10,$G10=1),2,IF(AND(S$6=$F10,$G10=1),0,\"\")))),\"\")","v":""},{"$f":"IFERROR(IF(LEN(Etapes[[#This Row],[Planned]])=0,\"\",IF(AND($C10=\"MER\",T$6=$F10,$G10=1),1,IF(AND($C10=\"MEP\",T$6=$F10,$G10=1),2,IF(AND(T$6=$F10,$G10=1),0,\"\")))),\"\")","v":""},{"$f":"IFERROR(IF(LEN(Etapes[[#This Row],[Planned]])=0,\"\",IF(AND($C10=\"MER\",U$6=$F10,$G10=1),1,IF(AND($C10=\"MEP\",U$6=$F10,$G10=1),2,IF(AND(U$6=$F10,$G10=1),0,\"\")))),\"\")","v":""},{"$f":"IFERROR(IF(LEN(Etapes[[#This Row],[Planned]])=0,\"\",IF(AND($C10=\"MER\",V$6=$F10,$G10=1),1,IF(AND($C10=\"MEP\",V$6=$F10,$G10=1),2,IF(AND(V$6=$F10,$G10=1),0,\"\")))),\"\")","v":""},{"$f":"IFERROR(IF(LEN(Etapes[[#This Row],[Planned]])=0,\"\",IF(AND($C10=\"MER\",W$6=$F10,$G10=1),1,IF(AND($C10=\"MEP\",W$6=$F10,$G10=1),2,IF(AND(W$6=$F10,$G10=1),0,\"\")))),\"\")","v":""},{"$f":"IFERROR(IF(LEN(Etapes[[#This Row],[Planned]])=0,\"\",IF(AND($C10=\"MER\",X$6=$F10,$G10=1),1,IF(AND($C10=\"MEP\",X$6=$F10,$G10=1),2,IF(AND(X$6=$F10,$G10=1),0,\"\")))),\"\")","v":""},{"$f":"IFERROR(IF(LEN(Etapes[[#This Row],[Planned]])=0,\"\",IF(AND($C10=\"MER\",Y$6=$F10,$G10=1),1,IF(AND($C10=\"MEP\",Y$6=$F10,$G10=1),2,IF(AND(Y$6=$F10,$G10=1),0,\"\")))),\"\")","v":""},{"$f":"IFERROR(IF(LEN(Etapes[[#This Row],[Planned]])=0,\"\",IF(AND($C10=\"MER\",Z$6=$F10,$G10=1),1,IF(AND($C10=\"MEP\",Z$6=$F10,$G10=1),2,IF(AND(Z$6=$F10,$G10=1),0,\"\")))),\"\")","v":""},{"$f":"IFERROR(IF(LEN(Etapes[[#This Row],[Planned]])=0,\"\",IF(AND($C10=\"MER\",AA$6=$F10,$G10=1),1,IF(AND($C10=\"MEP\",AA$6=$F10,$G10=1),2,IF(AND(AA$6=$F10,$G10=1),0,\"\")))),\"\")","v":""},{"$f":"IFERROR(IF(LEN(Etapes[[#This Row],[Planned]])=0,\"\",IF(AND($C10=\"MER\",AB$6=$F10,$G10=1),1,IF(AND($C10=\"MEP\",AB$6=$F10,$G10=1),2,IF(AND(AB$6=$F10,$G10=1),0,\"\")))),\"\")","v":""},{"$f":"IFERROR(IF(LEN(Etapes[[#This Row],[Planned]])=0,\"\",IF(AND($C10=\"MER\",AC$6=$F10,$G10=1),1,IF(AND($C10=\"MEP\",AC$6=$F10,$G10=1),2,IF(AND(AC$6=$F10,$G10=1),0,\"\")))),\"\")","v":""},{"$f":"IFERROR(IF(LEN(Etapes[[#This Row],[Planned]])=0,\"\",IF(AND($C10=\"MER\",AD$6=$F10,$G10=1),1,IF(AND($C10=\"MEP\",AD$6=$F10,$G10=1),2,IF(AND(AD$6=$F10,$G10=1),0,\"\")))),\"\")","v":""},{"$f":"IFERROR(IF(LEN(Etapes[[#This Row],[Planned]])=0,\"\",IF(AND($C10=\"MER\",AE$6=$F10,$G10=1),1,IF(AND($C10=\"MEP\",AE$6=$F10,$G10=1),2,IF(AND(AE$6=$F10,$G10=1),0,\"\")))),\"\")","v":""},{"$f":"IFERROR(IF(LEN(Etapes[[#This Row],[Planned]])=0,\"\",IF(AND($C10=\"MER\",AF$6=$F10,$G10=1),1,IF(AND($C10=\"MEP\",AF$6=$F10,$G10=1),2,IF(AND(AF$6=$F10,$G10=1),0,\"\")))),\"\")","v":""},{"$f":"IFERROR(IF(LEN(Etapes[[#This Row],[Planned]])=0,\"\",IF(AND($C10=\"MER\",AG$6=$F10,$G10=1),1,IF(AND($C10=\"MEP\",AG$6=$F10,$G10=1),2,IF(AND(AG$6=$F10,$G10=1),0,\"\")))),\"\")","v":""},{"$f":"IFERROR(IF(LEN(Etapes[[#This Row],[Planned]])=0,\"\",IF(AND($C10=\"MER\",AH$6=$F10,$G10=1),1,IF(AND($C10=\"MEP\",AH$6=$F10,$G10=1),2,IF(AND(AH$6=$F10,$G10=1),0,\"\")))),\"\")","v":""},{"$f":"IFERROR(IF(LEN(Etapes[[#This Row],[Planned]])=0,\"\",IF(AND($C10=\"MER\",AI$6=$F10,$G10=1),1,IF(AND($C10=\"MEP\",AI$6=$F10,$G10=1),2,IF(AND(AI$6=$F10,$G10=1),0,\"\")))),\"\")","v":""},{"$f":"IFERROR(IF(LEN(Etapes[[#This Row],[Planned]])=0,\"\",IF(AND($C10=\"MER\",AJ$6=$F10,$G10=1),1,IF(AND($C10=\"MEP\",AJ$6=$F10,$G10=1),2,IF(AND(AJ$6=$F10,$G10=1),0,\"\")))),\"\")","v":""},{"$f":"IFERROR(IF(LEN(Etapes[[#This Row],[Planned]])=0,\"\",IF(AND($C10=\"MER\",AK$6=$F10,$G10=1),1,IF(AND($C10=\"MEP\",AK$6=$F10,$G10=1),2,IF(AND(AK$6=$F10,$G10=1),0,\"\")))),\"\")","v":""},{"$f":"IFERROR(IF(LEN(Etapes[[#This Row],[Planned]])=0,\"\",IF(AND($C10=\"MER\",AL$6=$F10,$G10=1),1,IF(AND($C10=\"MEP\",AL$6=$F10,$G10=1),2,IF(AND(AL$6=$F10,$G10=1),0,\"\")))),\"\")","v":""},{"$f":"IFERROR(IF(LEN(Etapes[[#This Row],[Planned]])=0,\"\",IF(AND($C10=\"MER\",AM$6=$F10,$G10=1),1,IF(AND($C10=\"MEP\",AM$6=$F10,$G10=1),2,IF(AND(AM$6=$F10,$G10=1),0,\"\")))),\"\")","v":""},{"$f":"IFERROR(IF(LEN(Etapes[[#This Row],[Planned]])=0,\"\",IF(AND($C10=\"MER\",AN$6=$F10,$G10=1),1,IF(AND($C10=\"MEP\",AN$6=$F10,$G10=1),2,IF(AND(AN$6=$F10,$G10=1),0,\"\")))),\"\")","v":""},{"$f":"IFERROR(IF(LEN(Etapes[[#This Row],[Planned]])=0,\"\",IF(AND($C10=\"MER\",AO$6=$F10,$G10=1),1,IF(AND($C10=\"MEP\",AO$6=$F10,$G10=1),2,IF(AND(AO$6=$F10,$G10=1),0,\"\")))),\"\")","v":""},{"$f":"IFERROR(IF(LEN(Etapes[[#This Row],[Planned]])=0,\"\",IF(AND($C10=\"MER\",AP$6=$F10,$G10=1),1,IF(AND($C10=\"MEP\",AP$6=$F10,$G10=1),2,IF(AND(AP$6=$F10,$G10=1),0,\"\")))),\"\")","v":""},{"$f":"IFERROR(IF(LEN(Etapes[[#This Row],[Planned]])=0,\"\",IF(AND($C10=\"MER\",AQ$6=$F10,$G10=1),1,IF(AND($C10=\"MEP\",AQ$6=$F10,$G10=1),2,IF(AND(AQ$6=$F10,$G10=1),0,\"\")))),\"\")","v":""},{"$f":"IFERROR(IF(LEN(Etapes[[#This Row],[Planned]])=0,\"\",IF(AND($C10=\"MER\",AR$6=$F10,$G10=1),1,IF(AND($C10=\"MEP\",AR$6=$F10,$G10=1),2,IF(AND(AR$6=$F10,$G10=1),0,\"\")))),\"\")","v":""},{"$f":"IFERROR(IF(LEN(Etapes[[#This Row],[Planned]])=0,\"\",IF(AND($C10=\"MER\",AS$6=$F10,$G10=1),1,IF(AND($C10=\"MEP\",AS$6=$F10,$G10=1),2,IF(AND(AS$6=$F10,$G10=1),0,\"\")))),\"\")","v":""},{"$f":"IFERROR(IF(LEN(Etapes[[#This Row],[Planned]])=0,\"\",IF(AND($C10=\"MER\",AT$6=$F10,$G10=1),1,IF(AND($C10=\"MEP\",AT$6=$F10,$G10=1),2,IF(AND(AT$6=$F10,$G10=1),0,\"\")))),\"\")","v":""},{"$f":"IFERROR(IF(LEN(Etapes[[#This Row],[Planned]])=0,\"\",IF(AND($C10=\"MER\",AU$6=$F10,$G10=1),1,IF(AND($C10=\"MEP\",AU$6=$F10,$G10=1),2,IF(AND(AU$6=$F10,$G10=1),0,\"\")))),\"\")","v":""},{"$f":"IFERROR(IF(LEN(Etapes[[#This Row],[Planned]])=0,\"\",IF(AND($C10=\"MER\",AV$6=$F10,$G10=1),1,IF(AND($C10=\"MEP\",AV$6=$F10,$G10=1),2,IF(AND(AV$6=$F10,$G10=1),0,\"\")))),\"\")","v":""},{"$f":"IFERROR(IF(LEN(Etapes[[#This Row],[Planned]])=0,\"\",IF(AND($C10=\"MER\",AW$6=$F10,$G10=1),1,IF(AND($C10=\"MEP\",AW$6=$F10,$G10=1),2,IF(AND(AW$6=$F10,$G10=1),0,\"\")))),\"\")","v":""},{"$f":"IFERROR(IF(LEN(Etapes[[#This Row],[Planned]])=0,\"\",IF(AND($C10=\"MER\",AX$6=$F10,$G10=1),1,IF(AND($C10=\"MEP\",AX$6=$F10,$G10=1),2,IF(AND(AX$6=$F10,$G10=1),0,\"\")))),\"\")","v":""},{"$f":"IFERROR(IF(LEN(Etapes[[#This Row],[Planned]])=0,\"\",IF(AND($C10=\"MER\",AY$6=$F10,$G10=1),1,IF(AND($C10=\"MEP\",AY$6=$F10,$G10=1),2,IF(AND(AY$6=$F10,$G10=1),0,\"\")))),\"\")","v":""},{"$f":"IFERROR(IF(LEN(Etapes[[#This Row],[Planned]])=0,\"\",IF(AND($C10=\"MER\",AZ$6=$F10,$G10=1),1,IF(AND($C10=\"MEP\",AZ$6=$F10,$G10=1),2,IF(AND(AZ$6=$F10,$G10=1),0,\"\")))),\"\")","v":""},{"$f":"IFERROR(IF(LEN(Etapes[[#This Row],[Planned]])=0,\"\",IF(AND($C10=\"MER\",BA$6=$F10,$G10=1),1,IF(AND($C10=\"MEP\",BA$6=$F10,$G10=1),2,IF(AND(BA$6=$F10,$G10=1),0,\"\")))),\"\")","v":""},{"$f":"IFERROR(IF(LEN(Etapes[[#This Row],[Planned]])=0,\"\",IF(AND($C10=\"MER\",BB$6=$F10,$G10=1),1,IF(AND($C10=\"MEP\",BB$6=$F10,$G10=1),2,IF(AND(BB$6=$F10,$G10=1),0,\"\")))),\"\")","v":""},{"$f":"IFERROR(IF(LEN(Etapes[[#This Row],[Planned]])=0,\"\",IF(AND($C10=\"MER\",BC$6=$F10,$G10=1),1,IF(AND($C10=\"MEP\",BC$6=$F10,$G10=1),2,IF(AND(BC$6=$F10,$G10=1),0,\"\")))),\"\")","v":""},{"$f":"IFERROR(IF(LEN(Etapes[[#This Row],[Planned]])=0,\"\",IF(AND($C10=\"MER\",BD$6=$F10,$G10=1),1,IF(AND($C10=\"MEP\",BD$6=$F10,$G10=1),2,IF(AND(BD$6=$F10,$G10=1),0,\"\")))),\"\")","v":""},{"$f":"IFERROR(IF(LEN(Etapes[[#This Row],[Planned]])=0,\"\",IF(AND($C10=\"MER\",BE$6=$F10,$G10=1),1,IF(AND($C10=\"MEP\",BE$6=$F10,$G10=1),2,IF(AND(BE$6=$F10,$G10=1),0,\"\")))),\"\")","v":""},{"$f":"IFERROR(IF(LEN(Etapes[[#This Row],[Planned]])=0,\"\",IF(AND($C10=\"MER\",BF$6=$F10,$G10=1),1,IF(AND($C10=\"MEP\",BF$6=$F10,$G10=1),2,IF(AND(BF$6=$F10,$G10=1),0,\"\")))),\"\")","v":""},{"$f":"IFERROR(IF(LEN(Etapes[[#This Row],[Planned]])=0,\"\",IF(AND($C10=\"MER\",BG$6=$F10,$G10=1),1,IF(AND($C10=\"MEP\",BG$6=$F10,$G10=1),2,IF(AND(BG$6=$F10,$G10=1),0,\"\")))),\"\")","v":""},{"$f":"IFERROR(IF(LEN(Etapes[[#This Row],[Planned]])=0,\"\",IF(AND($C10=\"MER\",BH$6=$F10,$G10=1),1,IF(AND($C10=\"MEP\",BH$6=$F10,$G10=1),2,IF(AND(BH$6=$F10,$G10=1),0,\"\")))),\"\")","v":""},{"$f":"IFERROR(IF(LEN(Etapes[[#This Row],[Planned]])=0,\"\",IF(AND($C10=\"MER\",BI$6=$F10,$G10=1),1,IF(AND($C10=\"MEP\",BI$6=$F10,$G10=1),2,IF(AND(BI$6=$F10,$G10=1),0,\"\")))),\"\")","v":""},{"$f":"IFERROR(IF(LEN(Etapes[[#This Row],[Planned]])=0,\"\",IF(AND($C10=\"MER\",BJ$6=$F10,$G10=1),1,IF(AND($C10=\"MEP\",BJ$6=$F10,$G10=1),2,IF(AND(BJ$6=$F10,$G10=1),0,\"\")))),\"\")","v":""},{"$f":"IFERROR(IF(LEN(Etapes[[#This Row],[Planned]])=0,\"\",IF(AND($C10=\"MER\",BK$6=$F10,$G10=1),1,IF(AND($C10=\"MEP\",BK$6=$F10,$G10=1),2,IF(AND(BK$6=$F10,$G10=1),0,\"\")))),\"\")","v":""},{"$f":"IFERROR(IF(LEN(Etapes[[#This Row],[Planned]])=0,\"\",IF(AND($C10=\"MER\",BL$6=$F10,$G10=1),1,IF(AND($C10=\"MEP\",BL$6=$F10,$G10=1),2,IF(AND(BL$6=$F10,$G10=1),0,\"\")))),\"\")","v":""},{"$f":"IFERROR(IF(LEN(Etapes[[#This Row],[Planned]])=0,\"\",IF(AND($C10=\"MER\",BM$6=$F10,$G10=1),1,IF(AND($C10=\"MEP\",BM$6=$F10,$G10=1),2,IF(AND(BM$6=$F10,$G10=1),0,\"\")))),\"\")","v":""},{"$f":"IFERROR(IF(LEN(Etapes[[#This Row],[Planned]])=0,\"\",IF(AND($C10=\"MER\",BN$6=$F10,$G10=1),1,IF(AND($C10=\"MEP\",BN$6=$F10,$G10=1),2,IF(AND(BN$6=$F10,$G10=1),0,\"\")))),\"\")","v":""},{"$f":"IFERROR(IF(LEN(Etapes[[#This Row],[Planned]])=0,\"\",IF(AND($C10=\"MER\",BO$6=$F10,$G10=1),1,IF(AND($C10=\"MEP\",BO$6=$F10,$G10=1),2,IF(AND(BO$6=$F10,$G10=1),0,\"\")))),\"\")","v":""},{"$f":"IFERROR(IF(LEN(Etapes[[#This Row],[Add]])=0,\"\",IF(AND($C10=\"MER\",BP$6=$F10,$G10=1),1,IF(AND($C10=\"MEP\",BP$6=$F10,$G10=1),2,IF(AND(BP$6=$F10,$G10=1),0,\"\")))),\"\")","v":""},{"$f":"IFERROR(IF(LEN(Etapes[[#This Row],[End]])=0,\"\",IF(AND($C10=\"MER\",BQ$6=$F10,$G10=1),1,IF(AND($C10=\"MEP\",BQ$6=$F10,$G10=1),2,IF(AND(BQ$6=$F10,$G10=1),0,\"\")))),\"\")","v":""},{"$f":"IFERROR(IF(LEN(Etapes[[#This Row],[Réalisé]])=0,\"\",IF(AND($C10=\"MER\",BR$6=$F10,$G10=1),1,IF(AND($C10=\"MEP\",BR$6=$F10,$G10=1),2,IF(AND(BR$6=$F10,$G10=1),0,\"\")))),\"\")","v":""},{"$f":"IFERROR(IF(LEN(Etapes[[#This Row],[Activité]])=0,\"\",IF(AND($C10=\"MER\",BS$6=$F10,$G10=1),1,IF(AND($C10=\"MEP\",BS$6=$F10,$G10=1),2,IF(AND(BS$6=$F10,$G10=1),0,\"\")))),\"\")","v":""},{"$f":"IFERROR(IF(LEN(Etapes[[#This Row],[Statut]])=0,\"\",IF(AND($C10=\"MER\",BT$6=$F10,$G10=1),1,IF(AND($C10=\"MEP\",BT$6=$F10,$G10=1),2,IF(AND(BT$6=$F10,$G10=1),0,\"\")))),\"\")","v":""},{"$f":"IFERROR(IF(LEN(Etapes[[#This Row],[Progress]])=0,\"\",IF(AND($C10=\"MER\",BU$6=$F10,$G10=1),1,IF(AND($C10=\"MEP\",BU$6=$F10,$G10=1),2,IF(AND(BU$6=$F10,$G10=1),0,\"\")))),\"\")","v":""},{"$f":"IFERROR(IF(LEN(Etapes[[#This Row],[Start]])=0,\"\",IF(AND($C10=\"MER\",BV$6=$F10,$G10=1),1,IF(AND($C10=\"MEP\",BV$6=$F10,$G10=1),2,IF(AND(BV$6=$F10,$G10=1),0,\"\")))),\"\")","v":""},{"$f":"IFERROR(IF(LEN(Etapes[[#This Row],[Planned]])=0,\"\",IF(AND($C10=\"MER\",BW$6=$F10,$G10=1),1,IF(AND($C10=\"MEP\",BW$6=$F10,$G10=1),2,IF(AND(BW$6=$F10,$G10=1),0,\"\")))),\"\")","v":""},{"$f":"IFERROR(IF(LEN(Etapes[[#This Row],[Add]])=0,\"\",IF(AND($C10=\"MER\",BX$6=$F10,$G10=1),1,IF(AND($C10=\"MEP\",BX$6=$F10,$G10=1),2,IF(AND(BX$6=$F10,$G10=1),0,\"\")))),\"\")","v":""},{"$f":"IFERROR(IF(LEN(Etapes[[#This Row],[End]])=0,\"\",IF(AND($C10=\"MER\",BY$6=$F10,$G10=1),1,IF(AND($C10=\"MEP\",BY$6=$F10,$G10=1),2,IF(AND(BY$6=$F10,$G10=1),0,\"\")))),\"\")","v":""},{"$f":"IFERROR(IF(LEN(Etapes[[#This Row],[Réalisé]])=0,\"\",IF(AND($C10=\"MER\",BZ$6=$F10,$G10=1),1,IF(AND($C10=\"MEP\",BZ$6=$F10,$G10=1),2,IF(AND(BZ$6=$F10,$G10=1),0,\"\")))),\"\")","v":""},{"$f":"IFERROR(IF(LEN(Etapes[[#This Row],[Activité]])=0,\"\",IF(AND($C10=\"MER\",CA$6=$F10,$G10=1),1,IF(AND($C10=\"MEP\",CA$6=$F10,$G10=1),2,IF(AND(CA$6=$F10,$G10=1),0,\"\")))),\"\")","v":""},{"$f":"IFERROR(IF(LEN(Etapes[[#This Row],[Statut]])=0,\"\",IF(AND($C10=\"MER\",CB$6=$F10,$G10=1),1,IF(AND($C10=\"MEP\",CB$6=$F10,$G10=1),2,IF(AND(CB$6=$F10,$G10=1),0,\"\")))),\"\")","v":""},{"$f":"IFERROR(IF(LEN(Etapes[[#This Row],[Progress]])=0,\"\",IF(AND($C10=\"MER\",CC$6=$F10,$G10=1),1,IF(AND($C10=\"MEP\",CC$6=$F10,$G10=1),2,IF(AND(CC$6=$F10,$G10=1),0,\"\")))),\"\")","v":""},{"$f":"IFERROR(IF(LEN(Etapes[[#This Row],[Start]])=0,\"\",IF(AND($C10=\"MER\",CD$6=$F10,$G10=1),1,IF(AND($C10=\"MEP\",CD$6=$F10,$G10=1),2,IF(AND(CD$6=$F10,$G10=1),0,\"\")))),\"\")","v":""},{"$f":"IFERROR(IF(LEN(Etapes[[#This Row],[Planned]])=0,\"\",IF(AND($C10=\"MER\",CE$6=$F10,$G10=1),1,IF(AND($C10=\"MEP\",CE$6=$F10,$G10=1),2,IF(AND(CE$6=$F10,$G10=1),0,\"\")))),\"\")","v":""},{"$f":"IFERROR(IF(LEN(Etapes[[#This Row],[Add]])=0,\"\",IF(AND($C10=\"MER\",CF$6=$F10,$G10=1),1,IF(AND($C10=\"MEP\",CF$6=$F10,$G10=1),2,IF(AND(CF$6=$F10,$G10=1),0,\"\")))),\"\")","v":""},{"$f":"IFERROR(IF(LEN(Etapes[[#This Row],[End]])=0,\"\",IF(AND($C10=\"MER\",CG$6=$F10,$G10=1),1,IF(AND($C10=\"MEP\",CG$6=$F10,$G10=1),2,IF(AND(CG$6=$F10,$G10=1),0,\"\")))),\"\")","v":""},{"$f":"IFERROR(IF(LEN(Etapes[[#This Row],[Réalisé]])=0,\"\",IF(AND($C10=\"MER\",CH$6=$F10,$G10=1),1,IF(AND($C10=\"MEP\",CH$6=$F10,$G10=1),2,IF(AND(CH$6=$F10,$G10=1),0,\"\")))),\"\")","v":""},{"$f":"IFERROR(IF(LEN(Etapes[[#This Row],[Activité]])=0,\"\",IF(AND($C10=\"MER\",CI$6=$F10,$G10=1),1,IF(AND($C10=\"MEP\",CI$6=$F10,$G10=1),2,IF(AND(CI$6=$F10,$G10=1),0,\"\")))),\"\")","v":""},{"$f":"IFERROR(IF(LEN(Etapes[[#This Row],[Statut]])=0,\"\",IF(AND($C10=\"MER\",CJ$6=$F10,$G10=1),1,IF(AND($C10=\"MEP\",CJ$6=$F10,$G10=1),2,IF(AND(CJ$6=$F10,$G10=1),0,\"\")))),\"\")","v":""},{"$f":"IFERROR(IF(LEN(Etapes[[#This Row],[Progress]])=0,\"\",IF(AND($C10=\"MER\",CK$6=$F10,$G10=1),1,IF(AND($C10=\"MEP\",CK$6=$F10,$G10=1),2,IF(AND(CK$6=$F10,$G10=1),0,\"\")))),\"\")","v":""},{"$f":"IFERROR(IF(LEN(Etapes[[#This Row],[Start]])=0,\"\",IF(AND($C10=\"MER\",CL$6=$F10,$G10=1),1,IF(AND($C10=\"MEP\",CL$6=$F10,$G10=1),2,IF(AND(CL$6=$F10,$G10=1),0,\"\")))),\"\")","v":""},{"$f":"IFERROR(IF(LEN(Etapes[[#This Row],[Planned]])=0,\"\",IF(AND($C10=\"MER\",CM$6=$F10,$G10=1),1,IF(AND($C10=\"MEP\",CM$6=$F10,$G10=1),2,IF(AND(CM$6=$F10,$G10=1),0,\"\")))),\"\")","v":""},{"$f":"IFERROR(IF(LEN(Etapes[[#This Row],[Add]])=0,\"\",IF(AND($C10=\"MER\",CN$6=$F10,$G10=1),1,IF(AND($C10=\"MEP\",CN$6=$F10,$G10=1),2,IF(AND(CN$6=$F10,$G10=1),0,\"\")))),\"\")","v":""},{"$f":"IFERROR(IF(LEN(Etapes[[#This Row],[End]])=0,\"\",IF(AND($C10=\"MER\",CO$6=$F10,$G10=1),1,IF(AND($C10=\"MEP\",CO$6=$F10,$G10=1),2,IF(AND(CO$6=$F10,$G10=1),0,\"\")))),\"\")","v":""},{"$f":"IFERROR(IF(LEN(Etapes[[#This Row],[Réalisé]])=0,\"\",IF(AND($C10=\"MER\",CP$6=$F10,$G10=1),1,IF(AND($C10=\"MEP\",CP$6=$F10,$G10=1),2,IF(AND(CP$6=$F10,$G10=1),0,\"\")))),\"\")","v":""},{"$f":"IFERROR(IF(LEN(Etapes[[#This Row],[Activité]])=0,\"\",IF(AND($C10=\"MER\",CQ$6=$F10,$G10=1),1,IF(AND($C10=\"MEP\",CQ$6=$F10,$G10=1),2,IF(AND(CQ$6=$F10,$G10=1),0,\"\")))),\"\")","v":""},{"$f":"IFERROR(IF(LEN(Etapes[[#This Row],[Statut]])=0,\"\",IF(AND($C10=\"MER\",CR$6=$F10,$G10=1),1,IF(AND($C10=\"MEP\",CR$6=$F10,$G10=1),2,IF(AND(CR$6=$F10,$G10=1),0,\"\")))),\"\")","v":""},{"$f":"IFERROR(IF(LEN(Etapes[[#This Row],[Progress]])=0,\"\",IF(AND($C10=\"MER\",CS$6=$F10,$G10=1),1,IF(AND($C10=\"MEP\",CS$6=$F10,$G10=1),2,IF(AND(CS$6=$F10,$G10=1),0,\"\")))),\"\")","v":""},{"$f":"IFERROR(IF(LEN(Etapes[[#This Row],[Start]])=0,\"\",IF(AND($C10=\"MER\",CT$6=$F10,$G10=1),1,IF(AND($C10=\"MEP\",CT$6=$F10,$G10=1),2,IF(AND(CT$6=$F10,$G10=1),0,\"\")))),\"\")","v":""},{"$f":"IFERROR(IF(LEN(Etapes[[#This Row],[Planned]])=0,\"\",IF(AND($C10=\"MER\",CU$6=$F10,$G10=1),1,IF(AND($C10=\"MEP\",CU$6=$F10,$G10=1),2,IF(AND(CU$6=$F10,$G10=1),0,\"\")))),\"\")","v":""},{"$f":"IFERROR(IF(LEN(Etapes[[#This Row],[Add]])=0,\"\",IF(AND($C10=\"MER\",CV$6=$F10,$G10=1),1,IF(AND($C10=\"MEP\",CV$6=$F10,$G10=1),2,IF(AND(CV$6=$F10,$G10=1),0,\"\")))),\"\")","v":""},{"$f":"IFERROR(IF(LEN(Etapes[[#This Row],[End]])=0,\"\",IF(AND($C10=\"MER\",CW$6=$F10,$G10=1),1,IF(AND($C10=\"MEP\",CW$6=$F10,$G10=1),2,IF(AND(CW$6=$F10,$G10=1),0,\"\")))),\"\")","v":""}]
["1.1","Instruction ","Launched",{"$f":"Settings!B44","v":"NAN"},1,{"$f":"Date_Déb","v":"2022-08-03"},null,null,{"$f":"IF(Etapes[[#This Row],[Start]]<>\"\",WORKDAY(Etapes[[#This Row],[Start]],IF(WEEKDAY(Etapes[[#This Row],[Start]],1)>=6,Etapes[[#This Row],[Planned]]+Etapes[[#This Row],[Add]],Etapes[[#This Row],[Planned]]+Etapes[[#This Row],[Add]]-1),Férié),\"\")","v":"2022-08-02"},{"$f":"IF(Etapes[[#This Row],[Start]]<>\"\",WORKDAY(Etapes[[#This Row],[Start]],IF(WEEKDAY(Etapes[[#This Row],[Start]],1)>=6,Etapes[[#This Row],[Progress]]*Etapes[[#This Row],[Planned]]+Etapes[[#This Row],[Add]],(Etapes[[#This Row],[Progress]]*Etapes[[#This Row],[Planned]]+Etapes[[#This Row],[Add]])-1),Férié),\"\")","v":"2022-08-02"},null,{"$f":"IFERROR(IF(LEN(Etapes[[#This Row],[Planned]])=0,\"\",IF(AND($C11=\"MER\",L$6=$F11,$G20=1),1,IF(AND($C11=\"MEP\",L$6=$F11,$G20=1),2,IF(AND(L$6=$F11,$G20=1),0,\"\")))),\"\")","v":""},{"$f":"IFERROR(IF(LEN(Etapes[[#This Row],[Planned]])=0,\"\",IF(AND($C11=\"MER\",M$6=$F11,$G20=1),1,IF(AND($C11=\"MEP\",M$6=$F11,$G20=1),2,IF(AND(M$6=$F11,$G20=1),0,\"\")))),\"\")","v":""},{"$f":"IFERROR(IF(LEN(Etapes[[#This Row],[Planned]])=0,\"\",IF(AND($C11=\"MER\",N$6=$F11,$G20=1),1,IF(AND($C11=\"MEP\",N$6=$F11,$G20=1),2,IF(AND(N$6=$F11,$G20=1),0,\"\")))),\"\")","v":""},{"$f":"IFERROR(IF(LEN(Etapes[[#This Row],[Planned]])=0,\"\",IF(AND($C11=\"MER\",O$6=$F11,$G20=1),1,IF(AND($C11=\"MEP\",O$6=$F11,$G20=1),2,IF(AND(O$6=$F11,$G20=1),0,\"\")))),\"\")","v":""},{"$f":"IFERROR(IF(LEN(Etapes[[#This Row],[Planned]])=0,\"\",IF(AND($C11=\"MER\",P$6=$F11,$G20=1),1,IF(AND($C11=\"MEP\",P$6=$F11,$G20=1),2,IF(AND(P$6=$F11,$G20=1),0,\"\")))),\"\")","v":""},{"$f":"IFERROR(IF(LEN(Etapes[[#This Row],[Planned]])=0,\"\",IF(AND($C11=\"MER\",Q$6=$F11,$G20=1),1,IF(AND($C11=\"MEP\",Q$6=$F11,$G20=1),2,IF(AND(Q$6=$F11,$G20=1),0,\"\")))),\"\")","v":""},{"$f":"IFERROR(IF(LEN(Etapes[[#This Row],[Planned]])=0,\"\",IF(AND($C11=\"MER\",R$6=$F11,$G20=1),1,IF(AND($C11=\"MEP\",R$6=$F11,$G20=1),2,IF(AND(R$6=$F11,$G20=1),0,\"\")))),\"\")","v":""},{"$f":"IFERROR(IF(LEN(Etapes[[#This Row],[Planned]])=0,\"\",IF(AND($C11=\"MER\",S$6=$F11,$G20=1),1,IF(AND($C11=\"MEP\",S$6=$F11,$G20=1),2,IF(AND(S$6=$F11,$G20=1),0,\"\")))),\"\")","v":""},{"$f":"IFERROR(IF(LEN(Etapes[[#This Row],[Planned]])=0,\"\",IF(AND($C11=\"MER\",T$6=$F11,$G20=1),1,IF(AND($C11=\"MEP\",T$6=$F11,$G20=1),2,IF(AND(T$6=$F11,$G20=1),0,\"\")))),\"\")","v":""},{"$f":"IFERROR(IF(LEN(Etapes[[#This Row],[Planned]])=0,\"\",IF(AND($C11=\"MER\",U$6=$F11,$G20=1),1,IF(AND($C11=\"MEP\",U$6=$F11,$G20=1),2,IF(AND(U$6=$F11,$G20=1),0,\"\")))),\"\")","v":""},{"$f":"IFERROR(IF(LEN(Etapes[[#This Row],[Planned]])=0,\"\",IF(AND($C11=\"MER\",V$6=$F11,$G20=1),1,IF(AND($C11=\"MEP\",V$6=$F11,$G20=1),2,IF(AND(V$6=$F11,$G20=1),0,\"\")))),\"\")","v":""},{"$f":"IFERROR(IF(LEN(Etapes[[#This Row],[Planned]])=0,\"\",IF(AND($C11=\"MER\",W$6=$F11,$G20=1),1,IF(AND($C11=\"MEP\",W$6=$F11,$G20=1),2,IF(AND(W$6=$F11,$G20=1),0,\"\")))),\"\")","v":""},{"$f":"IFERROR(IF(LEN(Etapes[[#This Row],[Planned]])=0,\"\",IF(AND($C11=\"MER\",X$6=$F11,$G20=1),1,IF(AND($C11=\"MEP\",X$6=$F11,$G20=1),2,IF(AND(X$6=$F11,$G20=1),0,\"\")))),\"\")","v":""},{"$f":"IFERROR(IF(LEN(Etapes[[#This Row],[Planned]])=0,\"\",IF(AND($C11=\"MER\",Y$6=$F11,$G20=1),1,IF(AND($C11=\"MEP\",Y$6=$F11,$G20=1),2,IF(AND(Y$6=$F11,$G20=1),0,\"\")))),\"\")","v":""},{"$f":"IFERROR(IF(LEN(Etapes[[#This Row],[Planned]])=0,\"\",IF(AND($C11=\"MER\",Z$6=$F11,$G20=1),1,IF(AND($C11=\"MEP\",Z$6=$F11,$G20=1),2,IF(AND(Z$6=$F11,$G20=1),0,\"\")))),\"\")","v":""},{"$f":"IFERROR(IF(LEN(Etapes[[#This Row],[Planned]])=0,\"\",IF(AND($C11=\"MER\",AA$6=$F11,$G20=1),1,IF(AND($C11=\"MEP\",AA$6=$F11,$G20=1),2,IF(AND(AA$6=$F11,$G20=1),0,\"\")))),\"\")","v":""},{"$f":"IFERROR(IF(LEN(Etapes[[#This Row],[Planned]])=0,\"\",IF(AND($C11=\"MER\",AB$6=$F11,$G20=1),1,IF(AND($C11=\"MEP\",AB$6=$F11,$G20=1),2,IF(AND(AB$6=$F11,$G20=1),0,\"\")))),\"\")","v":""},{"$f":"IFERROR(IF(LEN(Etapes[[#This Row],[Planned]])=0,\"\",IF(AND($C11=\"MER\",AC$6=$F11,$G20=1),1,IF(AND($C11=\"MEP\",AC$6=$F11,$G20=1),2,IF(AND(AC$6=$F11,$G20=1),0,\"\")))),\"\")","v":""},{"$f":"IFERROR(IF(LEN(Etapes[[#This Row],[Planned]])=0,\"\",IF(AND($C11=\"MER\",AD$6=$F11,$G20=1),1,IF(AND($C11=\"MEP\",AD$6=$F11,$G20=1),2,IF(AND(AD$6=$F11,$G20=1),0,\"\")))),\"\")","v":""},{"$f":"IFERROR(IF(LEN(Etapes[[#This Row],[Planned]])=0,\"\",IF(AND($C11=\"MER\",AE$6=$F11,$G20=1),1,IF(AND($C11=\"MEP\",AE$6=$F11,$G20=1),2,IF(AND(AE$6=$F11,$G20=1),0,\"\")))),\"\")","v":""},{"$f":"IFERROR(IF(LEN(Etapes[[#This Row],[Planned]])=0,\"\",IF(AND($C11=\"MER\",AF$6=$F11,$G20=1),1,IF(AND($C11=\"MEP\",AF$6=$F11,$G20=1),2,IF(AND(AF$6=$F11,$G20=1),0,\"\")))),\"\")","v":""},{"$f":"IFERROR(IF(LEN(Etapes[[#This Row],[Planned]])=0,\"\",IF(AND($C11=\"MER\",AG$6=$F11,$G20=1),1,IF(AND($C11=\"MEP\",AG$6=$F11,$G20=1),2,IF(AND(AG$6=$F11,$G20=1),0,\"\")))),\"\")","v":""},{"$f":"IFERROR(IF(LEN(Etapes[[#This Row],[Planned]])=0,\"\",IF(AND($C11=\"MER\",AH$6=$F11,$G20=1),1,IF(AND($C11=\"MEP\",AH$6=$F11,$G20=1),2,IF(AND(AH$6=$F11,$G20=1),0,\"\")))),\"\")","v":""},{"$f":"IFERROR(IF(LEN(Etapes[[#This Row],[Planned]])=0,\"\",IF(AND($C11=\"MER\",AI$6=$F11,$G20=1),1,IF(AND($C11=\"MEP\",AI$6=$F11,$G20=1),2,IF(AND(AI$6=$F11,$G20=1),0,\"\")))),\"\")","v":""},{"$f":"IFERROR(IF(LEN(Etapes[[#This Row],[Planned]])=0,\"\",IF(AND($C11=\"MER\",AJ$6=$F11,$G20=1),1,IF(AND($C11=\"MEP\",AJ$6=$F11,$G20=1),2,IF(AND(AJ$6=$F11,$G20=1),0,\"\")))),\"\")","v":""},{"$f":"IFERROR(IF(LEN(Etapes[[#This Row],[Planned]])=0,\"\",IF(AND($C11=\"MER\",AK$6=$F11,$G20=1),1,IF(AND($C11=\"MEP\",AK$6=$F11,$G20=1),2,IF(AND(AK$6=$F11,$G20=1),0,\"\")))),\"\")","v":""},{"$f":"IFERROR(IF(LEN(Etapes[[#This Row],[Planned]])=0,\"\",IF(AND($C11=\"MER\",AL$6=$F11,$G20=1),1,IF(AND($C11=\"MEP\",AL$6=$F11,$G20=1),2,IF(AND(AL$6=$F11,$G20=1),0,\"\")))),\"\")","v":""},{"$f":"IFERROR(IF(LEN(Etapes[[#This Row],[Planned]])=0,\"\",IF(AND($C11=\"MER\",AM$6=$F11,$G20=1),1,IF(AND($C11=\"MEP\",AM$6=$F11,$G20=1),2,IF(AND(AM$6=$F11,$G20=1),0,\"\")))),\"\")","v":""},{"$f":"IFERROR(IF(LEN(Etapes[[#This Row],[Planned]])=0,\"\",IF(AND($C11=\"MER\",AN$6=$F11,$G20=1),1,IF(AND($C11=\"MEP\",AN$6=$F11,$G20=1),2,IF(AND(AN$6=$F11,$G20=1),0,\"\")))),\"\")","v":""},{"$f":"IFERROR(IF(LEN(Etapes[[#This Row],[Planned]])=0,\"\",IF(AND($C11=\"MER\",AO$6=$F11,$G20=1),1,IF(AND($C11=\"MEP\",AO$6=$F11,$G20=1),2,IF(AND(AO$6=$F11,$G20=1),0,\"\")))),\"\")","v":""},{"$f":"IFERROR(IF(LEN(Etapes[[#This Row],[Planned]])=0,\"\",IF(AND($C11=\"MER\",AP$6=$F11,$G20=1),1,IF(AND($C11=\"MEP\",AP$6=$F11,$G20=1),2,IF(AND(AP$6=$F11,$G20=1),0,\"\")))),\"\")","v":""},{"$f":"IFERROR(IF(LEN(Etapes[[#This Row],[Planned]])=0,\"\",IF(AND($C11=\"MER\",AQ$6=$F11,$G20=1),1,IF(AND($C11=\"MEP\",AQ$6=$F11,$G20=1),2,IF(AND(AQ$6=$F11,$G20=1),0,\"\")))),\"\")","v":""},{"$f":"IFERROR(IF(LEN(Etapes[[#This Row],[Planned]])=0,\"\",IF(AND($C11=\"MER\",AR$6=$F11,$G20=1),1,IF(AND($C11=\"MEP\",AR$6=$F11,$G20=1),2,IF(AND(AR$6=$F11,$G20=1),0,\"\")))),\"\")","v":""},{"$f":"IFERROR(IF(LEN(Etapes[[#This Row],[Planned]])=0,\"\",IF(AND($C11=\"MER\",AS$6=$F11,$G20=1),1,IF(AND($C11=\"MEP\",AS$6=$F11,$G20=1),2,IF(AND(AS$6=$F11,$G20=1),0,\"\")))),\"\")","v":""},{"$f":"IFERROR(IF(LEN(Etapes[[#This Row],[Planned]])=0,\"\",IF(AND($C11=\"MER\",AT$6=$F11,$G20=1),1,IF(AND($C11=\"MEP\",AT$6=$F11,$G20=1),2,IF(AND(AT$6=$F11,$G20=1),0,\"\")))),\"\")","v":""},{"$f":"IFERROR(IF(LEN(Etapes[[#This Row],[Planned]])=0,\"\",IF(AND($C11=\"MER\",AU$6=$F11,$G20=1),1,IF(AND($C11=\"MEP\",AU$6=$F11,$G20=1),2,IF(AND(AU$6=$F11,$G20=1),0,\"\")))),\"\")","v":""},{"$f":"IFERROR(IF(LEN(Etapes[[#This Row],[Planned]])=0,\"\",IF(AND($C11=\"MER\",AV$6=$F11,$G20=1),1,IF(AND($C11=\"MEP\",AV$6=$F11,$G20=1),2,IF(AND(AV$6=$F11,$G20=1),0,\"\")))),\"\")","v":""},{"$f":"IFERROR(IF(LEN(Etapes[[#This Row],[Planned]])=0,\"\",IF(AND($C11=\"MER\",AW$6=$F11,$G20=1),1,IF(AND($C11=\"MEP\",AW$6=$F11,$G20=1),2,IF(AND(AW$6=$F11,$G20=1),0,\"\")))),\"\")","v":""},{"$f":"IFERROR(IF(LEN(Etapes[[#This Row],[Planned]])=0,\"\",IF(AND($C11=\"MER\",AX$6=$F11,$G20=1),1,IF(AND($C11=\"MEP\",AX$6=$F11,$G20=1),2,IF(AND(AX$6=$F11,$G20=1),0,\"\")))),\"\")","v":""},{"$f":"IFERROR(IF(LEN(Etapes[[#This Row],[Planned]])=0,\"\",IF(AND($C11=\"MER\",AY$6=$F11,$G20=1),1,IF(AND($C11=\"MEP\",AY$6=$F11,$G20=1),2,IF(AND(AY$6=$F11,$G20=1),0,\"\")))),\"\")","v":""},{"$f":"IFERROR(IF(LEN(Etapes[[#This Row],[Planned]])=0,\"\",IF(AND($C11=\"MER\",AZ$6=$F11,$G20=1),1,IF(AND($C11=\"MEP\",AZ$6=$F11,$G20=1),2,IF(AND(AZ$6=$F11,$G20=1),0,\"\")))),\"\")","v":""},{"$f":"IFERROR(IF(LEN(Etapes[[#This Row],[Planned]])=0,\"\",IF(AND($C11=\"MER\",BA$6=$F11,$G20=1),1,IF(AND($C11=\"MEP\",BA$6=$F11,$G20=1),2,IF(AND(BA$6=$F11,$G20=1),0,\"\")))),\"\")","v":""},{"$f":"IFERROR(IF(LEN(Etapes[[#This Row],[Planned]])=0,\"\",IF(AND($C11=\"MER\",BB$6=$F11,$G20=1),1,IF(AND($C11=\"MEP\",BB$6=$F11,$G20=1),2,IF(AND(BB$6=$F11,$G20=1),0,\"\")))),\"\")","v":""},{"$f":"IFERROR(IF(LEN(Etapes[[#This Row],[Planned]])=0,\"\",IF(AND($C11=\"MER\",BC$6=$F11,$G20=1),1,IF(AND($C11=\"MEP\",BC$6=$F11,$G20=1),2,IF(AND(BC$6=$F11,$G20=1),0,\"\")))),\"\")","v":""},{"$f":"IFERROR(IF(LEN(Etapes[[#This Row],[Planned]])=0,\"\",IF(AND($C11=\"MER\",BD$6=$F11,$G20=1),1,IF(AND($C11=\"MEP\",BD$6=$F11,$G20=1),2,IF(AND(BD$6=$F11,$G20=1),0,\"\")))),\"\")","v":""},{"$f":"IFERROR(IF(LEN(Etapes[[#This Row],[Planned]])=0,\"\",IF(AND($C11=\"MER\",BE$6=$F11,$G20=1),1,IF(AND($C11=\"MEP\",BE$6=$F11,$G20=1),2,IF(AND(BE$6=$F11,$G20=1),0,\"\")))),\"\")","v":""},{"$f":"IFERROR(IF(LEN(Etapes[[#This Row],[Planned]])=0,\"\",IF(AND($C11=\"MER\",BF$6=$F11,$G20=1),1,IF(AND($C11=\"MEP\",BF$6=$F11,$G20=1),2,IF(AND(BF$6=$F11,$G20=1),0,\"\")))),\"\")","v":""},{"$f":"IFERROR(IF(LEN(Etapes[[#This Row],[Planned]])=0,\"\",IF(AND($C11=\"MER\",BG$6=$F11,$G20=1),1,IF(AND($C11=\"MEP\",BG$6=$F11,$G20=1),2,IF(AND(BG$6=$F11,$G20=1),0,\"\")))),\"\")","v":""},{"$f":"IFERROR(IF(LEN(Etapes[[#This Row],[Planned]])=0,\"\",IF(AND($C11=\"MER\",BH$6=$F11,$G20=1),1,IF(AND($C11=\"MEP\",BH$6=$F11,$G20=1),2,IF(AND(BH$6=$F11,$G20=1),0,\"\")))),\"\")","v":""},{"$f":"IFERROR(IF(LEN(Etapes[[#This Row],[Planned]])=0,\"\",IF(AND($C11=\"MER\",BI$6=$F11,$G20=1),1,IF(AND($C11=\"MEP\",BI$6=$F11,$G20=1),2,IF(AND(BI$6=$F11,$G20=1),0,\"\")))),\"\")","v":""},{"$f":"IFERROR(IF(LEN(Etapes[[#This Row],[Planned]])=0,\"\",IF(AND($C11=\"MER\",BJ$6=$F11,$G20=1),1,IF(AND($C11=\"MEP\",BJ$6=$F11,$G20=1),2,IF(AND(BJ$6=$F11,$G20=1),0,\"\")))),\"\")","v":""},{"$f":"IFERROR(IF(LEN(Etapes[[#This Row],[Planned]])=0,\"\",IF(AND($C11=\"MER\",BK$6=$F11,$G20=1),1,IF(AND($C11=\"MEP\",BK$6=$F11,$G20=1),2,IF(AND(BK$6=$F11,$G20=1),0,\"\")))),\"\")","v":""},{"$f":"IFERROR(IF(LEN(Etapes[[#This Row],[Planned]])=0,\"\",IF(AND($C11=\"MER\",BL$6=$F11,$G20=1),1,IF(AND($C11=\"MEP\",BL$6=$F11,$G20=1),2,IF(AND(BL$6=$F11,$G20=1),0,\"\")))),\"\")","v":""},{"$f":"IFERROR(IF(LEN(Etapes[[#This Row],[Planned]])=0,\"\",IF(AND($C11=\"MER\",BM$6=$F11,$G20=1),1,IF(AND($C11=\"MEP\",BM$6=$F11,$G20=1),2,IF(AND(BM$6=$F11,$G20=1),0,\"\")))),\"\")","v":""},{"$f":"IFERROR(IF(LEN(Etapes[[#This Row],[Planned]])=0,\"\",IF(AND($C11=\"MER\",BN$6=$F11,$G20=1),1,IF(AND($C11=\"MEP\",BN$6=$F11,$G20=1),2,IF(AND(BN$6=$F11,$G20=1),0,\"\")))),\"\")","v":""},{"$f":"IFERROR(IF(LEN(Etapes[[#This Row],[Planned]])=0,\"\",IF(AND($C11=\"MER\",BO$6=$F11,$G20=1),1,IF(AND($C11=\"MEP\",BO$6=$F11,$G20=1),2,IF(AND(BO$6=$F11,$G20=1),0,\"\")))),\"\")","v":""},{"$f":"IFERROR(IF(LEN(Etapes[[#This Row],[Add]])=0,\"\",IF(AND($C11=\"MER\",BP$6=$F11,$G20=1),1,IF(AND($C11=\"MEP\",BP$6=$F11,$G20=1),2,IF(AND(BP$6=$F11,$G20=1),0,\"\")))),\"\")","v":""},{"$f":"IFERROR(IF(LEN(Etapes[[#This Row],[End]])=0,\"\",IF(AND($C11=\"MER\",BQ$6=$F11,$G20=1),1,IF(AND($C11=\"MEP\",BQ$6=$F11,$G20=1),2,IF(AND(BQ$6=$F11,$G20=1),0,\"\")))),\"\")","v":""},{"$f":"IFERROR(IF(LEN(Etapes[[#This Row],[Réalisé]])=0,\"\",IF(AND($C11=\"MER\",BR$6=$F11,$G20=1),1,IF(AND($C11=\"MEP\",BR$6=$F11,$G20=1),2,IF(AND(BR$6=$F11,$G20=1),0,\"\")))),\"\")","v":""},{"$f":"IFERROR(IF(LEN(Etapes[[#This Row],[Activité]])=0,\"\",IF(AND($C11=\"MER\",BS$6=$F11,$G20=1),1,IF(AND($C11=\"MEP\",BS$6=$F11,$G20=1),2,IF(AND(BS$6=$F11,$G20=1),0,\"\")))),\"\")","v":""},{"$f":"IFERROR(IF(LEN(Etapes[[#This Row],[Statut]])=0,\"\",IF(AND($C11=\"MER\",BT$6=$F11,$G20=1),1,IF(AND($C11=\"MEP\",BT$6=$F11,$G20=1),2,IF(AND(BT$6=$F11,$G20=1),0,\"\")))),\"\")","v":""},{"$f":"IFERROR(IF(LEN(Etapes[[#This Row],[Progress]])=0,\"\",IF(AND($C11=\"MER\",BU$6=$F11,$G20=1),1,IF(AND($C11=\"MEP\",BU$6=$F11,$G20=1),2,IF(AND(BU$6=$F11,$G20=1),0,\"\")))),\"\")","v":""},{"$f":"IFERROR(IF(LEN(Etapes[[#This Row],[Start]])=0,\"\",IF(AND($C11=\"MER\",BV$6=$F11,$G20=1),1,IF(AND($C11=\"MEP\",BV$6=$F11,$G20=1),2,IF(AND(BV$6=$F11,$G20=1),0,\"\")))),\"\")","v":""},{"$f":"IFERROR(IF(LEN(Etapes[[#This Row],[Planned]])=0,\"\",IF(AND($C11=\"MER\",BW$6=$F11,$G20=1),1,IF(AND($C11=\"MEP\",BW$6=$F11,$G20=1),2,IF(AND(BW$6=$F11,$G20=1),0,\"\")))),\"\")","v":""},{"$f":"IFERROR(IF(LEN(Etapes[[#This Row],[Add]])=0,\"\",IF(AND($C11=\"MER\",BX$6=$F11,$G20=1),1,IF(AND($C11=\"MEP\",BX$6=$F11,$G20=1),2,IF(AND(BX$6=$F11,$G20=1),0,\"\")))),\"\")","v":""},{"$f":"IFERROR(IF(LEN(Etapes[[#This Row],[End]])=0,\"\",IF(AND($C11=\"MER\",BY$6=$F11,$G20=1),1,IF(AND($C11=\"MEP\",BY$6=$F11,$G20=1),2,IF(AND(BY$6=$F11,$G20=1),0,\"\")))),\"\")","v":""},{"$f":"IFERROR(IF(LEN(Etapes[[#This Row],[Réalisé]])=0,\"\",IF(AND($C11=\"MER\",BZ$6=$F11,$G20=1),1,IF(AND($C11=\"MEP\",BZ$6=$F11,$G20=1),2,IF(AND(BZ$6=$F11,$G20=1),0,\"\")))),\"\")","v":""},{"$f":"IFERROR(IF(LEN(Etapes[[#This Row],[Activité]])=0,\"\",IF(AND($C11=\"MER\",CA$6=$F11,$G20=1),1,IF(AND($C11=\"MEP\",CA$6=$F11,$G20=1),2,IF(AND(CA$6=$F11,$G20=1),0,\"\")))),\"\")","v":""},{"$f":"IFERROR(IF(LEN(Etapes[[#This Row],[Statut]])=0,\"\",IF(AND($C11=\"MER\",CB$6=$F11,$G20=1),1,IF(AND($C11=\"MEP\",CB$6=$F11,$G20=1),2,IF(AND(CB$6=$F11,$G20=1),0,\"\")))),\"\")","v":""},{"$f":"IFERROR(IF(LEN(Etapes[[#This Row],[Progress]])=0,\"\",IF(AND($C11=\"MER\",CC$6=$F11,$G20=1),1,IF(AND($C11=\"MEP\",CC$6=$F11,$G20=1),2,IF(AND(CC$6=$F11,$G20=1),0,\"\")))),\"\")","v":""},{"$f":"IFERROR(IF(LEN(Etapes[[#This Row],[Start]])=0,\"\",IF(AND($C11=\"MER\",CD$6=$F11,$G20=1),1,IF(AND($C11=\"MEP\",CD$6=$F11,$G20=1),2,IF(AND(CD$6=$F11,$G20=1),0,\"\")))),\"\")","v":""},{"$f":"IFERROR(IF(LEN(Etapes[[#This Row],[Planned]])=0,\"\",IF(AND($C11=\"MER\",CE$6=$F11,$G20=1),1,IF(AND($C11=\"MEP\",CE$6=$F11,$G20=1),2,IF(AND(CE$6=$F11,$G20=1),0,\"\")))),\"\")","v":""},{"$f":"IFERROR(IF(LEN(Etapes[[#This Row],[Add]])=0,\"\",IF(AND($C11=\"MER\",CF$6=$F11,$G20=1),1,IF(AND($C11=\"MEP\",CF$6=$F11,$G20=1),2,IF(AND(CF$6=$F11,$G20=1),0,\"\")))),\"\")","v":""},{"$f":"IFERROR(IF(LEN(Etapes[[#This Row],[End]])=0,\"\",IF(AND($C11=\"MER\",CG$6=$F11,$G20=1),1,IF(AND($C11=\"MEP\",CG$6=$F11,$G20=1),2,IF(AND(CG$6=$F11,$G20=1),0,\"\")))),\"\")","v":""},{"$f":"IFERROR(IF(LEN(Etapes[[#This Row],[Réalisé]])=0,\"\",IF(AND($C11=\"MER\",CH$6=$F11,$G20=1),1,IF(AND($C11=\"MEP\",CH$6=$F11,$G20=1),2,IF(AND(CH$6=$F11,$G20=1),0,\"\")))),\"\")","v":""},{"$f":"IFERROR(IF(LEN(Etapes[[#This Row],[Activité]])=0,\"\",IF(AND($C11=\"MER\",CI$6=$F11,$G20=1),1,IF(AND($C11=\"MEP\",CI$6=$F11,$G20=1),2,IF(AND(CI$6=$F11,$G20=1),0,\"\")))),\"\")","v":""},{"$f":"IFERROR(IF(LEN(Etapes[[#This Row],[Statut]])=0,\"\",IF(AND($C11=\"MER\",CJ$6=$F11,$G20=1),1,IF(AND($C11=\"MEP\",CJ$6=$F11,$G20=1),2,IF(AND(CJ$6=$F11,$G20=1),0,\"\")))),\"\")","v":""},{"$f":"IFERROR(IF(LEN(Etapes[[#This Row],[Progress]])=0,\"\",IF(AND($C11=\"MER\",CK$6=$F11,$G20=1),1,IF(AND($C11=\"MEP\",CK$6=$F11,$G20=1),2,IF(AND(CK$6=$F11,$G20=1),0,\"\")))),\"\")","v":""},{"$f":"IFERROR(IF(LEN(Etapes[[#This Row],[Start]])=0,\"\",IF(AND($C11=\"MER\",CL$6=$F11,$G20=1),1,IF(AND($C11=\"MEP\",CL$6=$F11,$G20=1),2,IF(AND(CL$6=$F11,$G20=1),0,\"\")))),\"\")","v":""},{"$f":"IFERROR(IF(LEN(Etapes[[#This Row],[Planned]])=0,\"\",IF(AND($C11=\"MER\",CM$6=$F11,$G20=1),1,IF(AND($C11=\"MEP\",CM$6=$F11,$G20=1),2,IF(AND(CM$6=$F11,$G20=1),0,\"\")))),\"\")","v":""},{"$f":"IFERROR(IF(LEN(Etapes[[#This Row],[Add]])=0,\"\",IF(AND($C11=\"MER\",CN$6=$F11,$G20=1),1,IF(AND($C11=\"MEP\",CN$6=$F11,$G20=1),2,IF(AND(CN$6=$F11,$G20=1),0,\"\")))),\"\")","v":""},{"$f":"IFERROR(IF(LEN(Etapes[[#This Row],[End]])=0,\"\",IF(AND($C11=\"MER\",CO$6=$F11,$G20=1),1,IF(AND($C11=\"MEP\",CO$6=$F11,$G20=1),2,IF(AND(CO$6=$F11,$G20=1),0,\"\")))),\"\")","v":""},{"$f":"IFERROR(IF(LEN(Etapes[[#This Row],[Réalisé]])=0,\"\",IF(AND($C11=\"MER\",CP$6=$F11,$G20=1),1,IF(AND($C11=\"MEP\",CP$6=$F11,$G20=1),2,IF(AND(CP$6=$F11,$G20=1),0,\"\")))),\"\")","v":""},{"$f":"IFERROR(IF(LEN(Etapes[[#This Row],[Activité]])=0,\"\",IF(AND($C11=\"MER\",CQ$6=$F11,$G20=1),1,IF(AND($C11=\"MEP\",CQ$6=$F11,$G20=1),2,IF(AND(CQ$6=$F11,$G20=1),0,\"\")))),\"\")","v":""},{"$f":"IFERROR(IF(LEN(Etapes[[#This Row],[Statut]])=0,\"\",IF(AND($C11=\"MER\",CR$6=$F11,$G20=1),1,IF(AND($C11=\"MEP\",CR$6=$F11,$G20=1),2,IF(AND(CR$6=$F11,$G20=1),0,\"\")))),\"\")","v":""},{"$f":"IFERROR(IF(LEN(Etapes[[#This Row],[Progress]])=0,\"\",IF(AND($C11=\"MER\",CS$6=$F11,$G20=1),1,IF(AND($C11=\"MEP\",CS$6=$F11,$G20=1),2,IF(AND(CS$6=$F11,$G20=1),0,\"\")))),\"\")","v":""},{"$f":"IFERROR(IF(LEN(Etapes[[#This Row],[Start]])=0,\"\",IF(AND($C11=\"MER\",CT$6=$F11,$G20=1),1,IF(AND($C11=\"MEP\",CT$6=$F11,$G20=1),2,IF(AND(CT$6=$F11,$G20=1),0,\"\")))),\"\")","v":""},{"$f":"IFERROR(IF(LEN(Etapes[[#This Row],[Planned]])=0,\"\",IF(AND($C11=\"MER\",CU$6=$F11,$G20=1),1,IF(AND($C11=\"MEP\",CU$6=$F11,$G20=1),2,IF(AND(CU$6=$F11,$G20=1),0,\"\")))),\"\")","v":""},{"$f":"IFERROR(IF(LEN(Etapes[[#This Row],[Add]])=0,\"\",IF(AND($C11=\"MER\",CV$6=$F11,$G20=1),1,IF(AND($C11=\"MEP\",CV$6=$F11,$G20=1),2,IF(AND(CV$6=$F11,$G20=1),0,\"\")))),\"\")","v":""},{"$f":"IFERROR(IF(LEN(Etapes[[#This Row],[End]])=0,\"\",IF(AND($C11=\"MER\",CW$6=$F11,$G20=1),1,IF(AND($C11=\"MEP\",CW$6=$F11,$G20=1),2,IF(AND(CW$6=$F11,$G20=1),0,\"\")))),\"\")","v":""}]
["1.2","Conception","Launched",{"$f":"Settings!C44","v":"NAN"},1,"2022-08-03",null,null,{"$f":"IF(Etapes[[#This Row],[Start]]<>\"\",WORKDAY(Etapes[[#This Row],[Start]],IF(WEEKDAY(Etapes[[#This Row],[Start]],1)>=6,Etapes[[#This Row],[Planned]]+Etapes[[#This Row],[Add]],Etapes[[#This Row],[Planned]]+Etapes[[#This Row],[Add]]-1),Férié),\"\")","v":"2022-08-02"},{"$f":"IF(Etapes[[#This Row],[Start]]<>\"\",WORKDAY(Etapes[[#This Row],[Start]],IF(WEEKDAY(Etapes[[#This Row],[Start]],1)>=6,Etapes[[#This Row],[Progress]]*Etapes[[#This Row],[Planned]]+Etapes[[#This Row],[Add]],(Etapes[[#This Row],[Progress]]*Etapes[[#This Row],[Planned]]+Etapes[[#This Row],[Add]])-1),Férié),\"\")","v":"2022-08-02"},null,{"$f":"IFERROR(IF(LEN(Etapes[[#This Row],[Planned]])=0,\"\",IF(AND($C12=\"MER\",L$6=$F12,$G12=1),1,IF(AND($C12=\"MEP\",L$6=$F12,$G12=1),2,IF(AND(L$6=$F12,$G12=1),0,\"\")))),\"\")","v":""},{"$f":"IFERROR(IF(LEN(Etapes[[#This Row],[Planned]])=0,\"\",IF(AND($C12=\"MER\",M$6=$F12,$G12=1),1,IF(AND($C12=\"MEP\",M$6=$F12,$G12=1),2,IF(AND(M$6=$F12,$G12=1),0,\"\")))),\"\")","v":""},{"$f":"IFERROR(IF(LEN(Etapes[[#This Row],[Planned]])=0,\"\",IF(AND($C12=\"MER\",N$6=$F12,$G12=1),1,IF(AND($C12=\"MEP\",N$6=$F12,$G12=1),2,IF(AND(N$6=$F12,$G12=1),0,\"\")))),\"\")","v":""},{"$f":"IFERROR(IF(LEN(Etapes[[#This Row],[Planned]])=0,\"\",IF(AND($C12=\"MER\",O$6=$F12,$G12=1),1,IF(AND($C12=\"MEP\",O$6=$F12,$G12=1),2,IF(AND(O$6=$F12,$G12=1),0,\"\")))),\"\")","v":""},{"$f":"IFERROR(IF(LEN(Etapes[[#This Row],[Planned]])=0,\"\",IF(AND($C12=\"MER\",P$6=$F12,$G12=1),1,IF(AND($C12=\"MEP\",P$6=$F12,$G12=1),2,IF(AND(P$6=$F12,$G12=1),0,\"\")))),\"\")","v":""},{"$f":"IFERROR(IF(LEN(Etapes[[#This Row],[Planned]])=0,\"\",IF(AND($C12=\"MER\",Q$6=$F12,$G12=1),1,IF(AND($C12=\"MEP\",Q$6=$F12,$G12=1),2,IF(AND(Q$6=$F12,$G12=1),0,\"\")))),\"\")","v":""},{"$f":"IFERROR(IF(LEN(Etapes[[#This Row],[Planned]])=0,\"\",IF(AND($C12=\"MER\",R$6=$F12,$G12=1),1,IF(AND($C12=\"MEP\",R$6=$F12,$G12=1),2,IF(AND(R$6=$F12,$G12=1),0,\"\")))),\"\")","v":""},{"$f":"IFERROR(IF(LEN(Etapes[[#This Row],[Planned]])=0,\"\",IF(AND($C12=\"MER\",S$6=$F12,$G12=1),1,IF(AND($C12=\"MEP\",S$6=$F12,$G12=1),2,IF(AND(S$6=$F12,$G12=1),0,\"\")))),\"\")","v":""},{"$f":"IFERROR(IF(LEN(Etapes[[#This Row],[Planned]])=0,\"\",IF(AND($C12=\"MER\",T$6=$F12,$G12=1),1,IF(AND($C12=\"MEP\",T$6=$F12,$G12=1),2,IF(AND(T$6=$F12,$G12=1),0,\"\")))),\"\")","v":""},{"$f":"IFERROR(IF(LEN(Etapes[[#This Row],[Planned]])=0,\"\",IF(AND($C12=\"MER\",U$6=$F12,$G12=1),1,IF(AND($C12=\"MEP\",U$6=$F12,$G12=1),2,IF(AND(U$6=$F12,$G12=1),0,\"\")))),\"\")","v":""},{"$f":"IFERROR(IF(LEN(Etapes[[#This Row],[Planned]])=0,\"\",IF(AND($C12=\"MER\",V$6=$F12,$G12=1),1,IF(AND($C12=\"MEP\",V$6=$F12,$G12=1),2,IF(AND(V$6=$F12,$G12=1),0,\"\")))),\"\")","v":""},{"$f":"IFERROR(IF(LEN(Etapes[[#This Row],[Planned]])=0,\"\",IF(AND($C12=\"MER\",W$6=$F12,$G12=1),1,IF(AND($C12=\"MEP\",W$6=$F12,$G12=1),2,IF(AND(W$6=$F12,$G12=1),0,\"\")))),\"\")","v":""},{"$f":"IFERROR(IF(LEN(Etapes[[#This Row],[Planned]])=0,\"\",IF(AND($C12=\"MER\",X$6=$F12,$G12=1),1,IF(AND($C12=\"MEP\",X$6=$F12,$G12=1),2,IF(AND(X$6=$F12,$G12=1),0,\"\")))),\"\")","v":""},{"$f":"IFERROR(IF(LEN(Etapes[[#This Row],[Planned]])=0,\"\",IF(AND($C12=\"MER\",Y$6=$F12,$G12=1),1,IF(AND($C12=\"MEP\",Y$6=$F12,$G12=1),2,IF(AND(Y$6=$F12,$G12=1),0,\"\")))),\"\")","v":""},{"$f":"IFERROR(IF(LEN(Etapes[[#This Row],[Planned]])=0,\"\",IF(AND($C12=\"MER\",Z$6=$F12,$G12=1),1,IF(AND($C12=\"MEP\",Z$6=$F12,$G12=1),2,IF(AND(Z$6=$F12,$G12=1),0,\"\")))),\"\")","v":""},{"$f":"IFERROR(IF(LEN(Etapes[[#This Row],[Planned]])=0,\"\",IF(AND($C12=\"MER\",AA$6=$F12,$G12=1),1,IF(AND($C12=\"MEP\",AA$6=$F12,$G12=1),2,IF(AND(AA$6=$F12,$G12=1),0,\"\")))),\"\")","v":""},{"$f":"IFERROR(IF(LEN(Etapes[[#This Row],[Planned]])=0,\"\",IF(AND($C12=\"MER\",AB$6=$F12,$G12=1),1,IF(AND($C12=\"MEP\",AB$6=$F12,$G12=1),2,IF(AND(AB$6=$F12,$G12=1),0,\"\")))),\"\")","v":""},{"$f":"IFERROR(IF(LEN(Etapes[[#This Row],[Planned]])=0,\"\",IF(AND($C12=\"MER\",AC$6=$F12,$G12=1),1,IF(AND($C12=\"MEP\",AC$6=$F12,$G12=1),2,IF(AND(AC$6=$F12,$G12=1),0,\"\")))),\"\")","v":""},{"$f":"IFERROR(IF(LEN(Etapes[[#This Row],[Planned]])=0,\"\",IF(AND($C12=\"MER\",AD$6=$F12,$G12=1),1,IF(AND($C12=\"MEP\",AD$6=$F12,$G12=1),2,IF(AND(AD$6=$F12,$G12=1),0,\"\")))),\"\")","v":""},{"$f":"IFERROR(IF(LEN(Etapes[[#This Row],[Planned]])=0,\"\",IF(AND($C12=\"MER\",AE$6=$F12,$G12=1),1,IF(AND($C12=\"MEP\",AE$6=$F12,$G12=1),2,IF(AND(AE$6=$F12,$G12=1),0,\"\")))),\"\")","v":""},{"$f":"IFERROR(IF(LEN(Etapes[[#This Row],[Planned]])=0,\"\",IF(AND($C12=\"MER\",AF$6=$F12,$G12=1),1,IF(AND($C12=\"MEP\",AF$6=$F12,$G12=1),2,IF(AND(AF$6=$F12,$G12=1),0,\"\")))),\"\")","v":""},{"$f":"IFERROR(IF(LEN(Etapes[[#This Row],[Planned]])=0,\"\",IF(AND($C12=\"MER\",AG$6=$F12,$G12=1),1,IF(AND($C12=\"MEP\",AG$6=$F12,$G12=1),2,IF(AND(AG$6=$F12,$G12=1),0,\"\")))),\"\")","v":""},{"$f":"IFERROR(IF(LEN(Etapes[[#This Row],[Planned]])=0,\"\",IF(AND($C12=\"MER\",AH$6=$F12,$G12=1),1,IF(AND($C12=\"MEP\",AH$6=$F12,$G12=1),2,IF(AND(AH$6=$F12,$G12=1),0,\"\")))),\"\")","v":""},{"$f":"IFERROR(IF(LEN(Etapes[[#This Row],[Planned]])=0,\"\",IF(AND($C12=\"MER\",AI$6=$F12,$G12=1),1,IF(AND($C12=\"MEP\",AI$6=$F12,$G12=1),2,IF(AND(AI$6=$F12,$G12=1),0,\"\")))),\"\")","v":""},{"$f":"IFERROR(IF(LEN(Etapes[[#This Row],[Planned]])=0,\"\",IF(AND($C12=\"MER\",AJ$6=$F12,$G12=1),1,IF(AND($C12=\"MEP\",AJ$6=$F12,$G12=1),2,IF(AND(AJ$6=$F12,$G12=1),0,\"\")))),\"\")","v":""},{"$f":"IFERROR(IF(LEN(Etapes[[#This Row],[Planned]])=0,\"\",IF(AND($C12=\"MER\",AK$6=$F12,$G12=1),1,IF(AND($C12=\"MEP\",AK$6=$F12,$G12=1),2,IF(AND(AK$6=$F12,$G12=1),0,\"\")))),\"\")","v":""},{"$f":"IFERROR(IF(LEN(Etapes[[#This Row],[Planned]])=0,\"\",IF(AND($C12=\"MER\",AL$6=$F12,$G12=1),1,IF(AND($C12=\"MEP\",AL$6=$F12,$G12=1),2,IF(AND(AL$6=$F12,$G12=1),0,\"\")))),\"\")","v":""},{"$f":"IFERROR(IF(LEN(Etapes[[#This Row],[Planned]])=0,\"\",IF(AND($C12=\"MER\",AM$6=$F12,$G12=1),1,IF(AND($C12=\"MEP\",AM$6=$F12,$G12=1),2,IF(AND(AM$6=$F12,$G12=1),0,\"\")))),\"\")","v":""},{"$f":"IFERROR(IF(LEN(Etapes[[#This Row],[Planned]])=0,\"\",IF(AND($C12=\"MER\",AN$6=$F12,$G12=1),1,IF(AND($C12=\"MEP\",AN$6=$F12,$G12=1),2,IF(AND(AN$6=$F12,$G12=1),0,\"\")))),\"\")","v":""},{"$f":"IFERROR(IF(LEN(Etapes[[#This Row],[Planned]])=0,\"\",IF(AND($C12=\"MER\",AO$6=$F12,$G12=1),1,IF(AND($C12=\"MEP\",AO$6=$F12,$G12=1),2,IF(AND(AO$6=$F12,$G12=1),0,\"\")))),\"\")","v":""},{"$f":"IFERROR(IF(LEN(Etapes[[#This Row],[Planned]])=0,\"\",IF(AND($C12=\"MER\",AP$6=$F12,$G12=1),1,IF(AND($C12=\"MEP\",AP$6=$F12,$G12=1),2,IF(AND(AP$6=$F12,$G12=1),0,\"\")))),\"\")","v":""},{"$f":"IFERROR(IF(LEN(Etapes[[#This Row],[Planned]])=0,\"\",IF(AND($C12=\"MER\",AQ$6=$F12,$G12=1),1,IF(AND($C12=\"MEP\",AQ$6=$F12,$G12=1),2,IF(AND(AQ$6=$F12,$G12=1),0,\"\")))),\"\")","v":""},{"$f":"IFERROR(IF(LEN(Etapes[[#This Row],[Planned]])=0,\"\",IF(AND($C12=\"MER\",AR$6=$F12,$G12=1),1,IF(AND($C12=\"MEP\",AR$6=$F12,$G12=1),2,IF(AND(AR$6=$F12,$G12=1),0,\"\")))),\"\")","v":""},{"$f":"IFERROR(IF(LEN(Etapes[[#This Row],[Planned]])=0,\"\",IF(AND($C12=\"MER\",AS$6=$F12,$G12=1),1,IF(AND($C12=\"MEP\",AS$6=$F12,$G12=1),2,IF(AND(AS$6=$F12,$G12=1),0,\"\")))),\"\")","v":""},{"$f":"IFERROR(IF(LEN(Etapes[[#This Row],[Planned]])=0,\"\",IF(AND($C12=\"MER\",AT$6=$F12,$G12=1),1,IF(AND($C12=\"MEP\",AT$6=$F12,$G12=1),2,IF(AND(AT$6=$F12,$G12=1),0,\"\")))),\"\")","v":""},{"$f":"IFERROR(IF(LEN(Etapes[[#This Row],[Planned]])=0,\"\",IF(AND($C12=\"MER\",AU$6=$F12,$G12=1),1,IF(AND($C12=\"MEP\",AU$6=$F12,$G12=1),2,IF(AND(AU$6=$F12,$G12=1),0,\"\")))),\"\")","v":""},{"$f":"IFERROR(IF(LEN(Etapes[[#This Row],[Planned]])=0,\"\",IF(AND($C12=\"MER\",AV$6=$F12,$G12=1),1,IF(AND($C12=\"MEP\",AV$6=$F12,$G12=1),2,IF(AND(AV$6=$F12,$G12=1),0,\"\")))),\"\")","v":""},{"$f":"IFERROR(IF(LEN(Etapes[[#This Row],[Planned]])=0,\"\",IF(AND($C12=\"MER\",AW$6=$F12,$G12=1),1,IF(AND($C12=\"MEP\",AW$6=$F12,$G12=1),2,IF(AND(AW$6=$F12,$G12=1),0,\"\")))),\"\")","v":""},{"$f":"IFERROR(IF(LEN(Etapes[[#This Row],[Planned]])=0,\"\",IF(AND($C12=\"MER\",AX$6=$F12,$G12=1),1,IF(AND($C12=\"MEP\",AX$6=$F12,$G12=1),2,IF(AND(AX$6=$F12,$G12=1),0,\"\")))),\"\")","v":""},{"$f":"IFERROR(IF(LEN(Etapes[[#This Row],[Planned]])=0,\"\",IF(AND($C12=\"MER\",AY$6=$F12,$G12=1),1,IF(AND($C12=\"MEP\",AY$6=$F12,$G12=1),2,IF(AND(AY$6=$F12,$G12=1),0,\"\")))),\"\")","v":""},{"$f":"IFERROR(IF(LEN(Etapes[[#This Row],[Planned]])=0,\"\",IF(AND($C12=\"MER\",AZ$6=$F12,$G12=1),1,IF(AND($C12=\"MEP\",AZ$6=$F12,$G12=1),2,IF(AND(AZ$6=$F12,$G12=1),0,\"\")))),\"\")","v":""},{"$f":"IFERROR(IF(LEN(Etapes[[#This Row],[Planned]])=0,\"\",IF(AND($C12=\"MER\",BA$6=$F12,$G12=1),1,IF(AND($C12=\"MEP\",BA$6=$F12,$G12=1),2,IF(AND(BA$6=$F12,$G12=1),0,\"\")))),\"\")","v":""},{"$f":"IFERROR(IF(LEN(Etapes[[#This Row],[Planned]])=0,\"\",IF(AND($C12=\"MER\",BB$6=$F12,$G12=1),1,IF(AND($C12=\"MEP\",BB$6=$F12,$G12=1),2,IF(AND(BB$6=$F12,$G12=1),0,\"\")))),\"\")","v":""},{"$f":"IFERROR(IF(LEN(Etapes[[#This Row],[Planned]])=0,\"\",IF(AND($C12=\"MER\",BC$6=$F12,$G12=1),1,IF(AND($C12=\"MEP\",BC$6=$F12,$G12=1),2,IF(AND(BC$6=$F12,$G12=1),0,\"\")))),\"\")","v":""},{"$f":"IFERROR(IF(LEN(Etapes[[#This Row],[Planned]])=0,\"\",IF(AND($C12=\"MER\",BD$6=$F12,$G12=1),1,IF(AND($C12=\"MEP\",BD$6=$F12,$G12=1),2,IF(AND(BD$6=$F12,$G12=1),0,\"\")))),\"\")","v":""},{"$f":"IFERROR(IF(LEN(Etapes[[#This Row],[Planned]])=0,\"\",IF(AND($C12=\"MER\",BE$6=$F12,$G12=1),1,IF(AND($C12=\"MEP\",BE$6=$F12,$G12=1),2,IF(AND(BE$6=$F12,$G12=1),0,\"\")))),\"\")","v":""},{"$f":"IFERROR(IF(LEN(Etapes[[#This Row],[Planned]])=0,\"\",IF(AND($C12=\"MER\",BF$6=$F12,$G12=1),1,IF(AND($C12=\"MEP\",BF$6=$F12,$G12=1),2,IF(AND(BF$6=$F12,$G12=1),0,\"\")))),\"\")","v":""},{"$f":"IFERROR(IF(LEN(Etapes[[#This Row],[Planned]])=0,\"\",IF(AND($C12=\"MER\",BG$6=$F12,$G12=1),1,IF(AND($C12=\"MEP\",BG$6=$F12,$G12=1),2,IF(AND(BG$6=$F12,$G12=1),0,\"\")))),\"\")","v":""},{"$f":"IFERROR(IF(LEN(Etapes[[#This Row],[Planned]])=0,\"\",IF(AND($C12=\"MER\",BH$6=$F12,$G12=1),1,IF(AND($C12=\"MEP\",BH$6=$F12,$G12=1),2,IF(AND(BH$6=$F12,$G12=1),0,\"\")))),\"\")","v":""},{"$f":"IFERROR(IF(LEN(Etapes[[#This Row],[Planned]])=0,\"\",IF(AND($C12=\"MER\",BI$6=$F12,$G12=1),1,IF(AND($C12=\"MEP\",BI$6=$F12,$G12=1),2,IF(AND(BI$6=$F12,$G12=1),0,\"\")))),\"\")","v":""},{"$f":"IFERROR(IF(LEN(Etapes[[#This Row],[Planned]])=0,\"\",IF(AND($C12=\"MER\",BJ$6=$F12,$G12=1),1,IF(AND($C12=\"MEP\",BJ$6=$F12,$G12=1),2,IF(AND(BJ$6=$F12,$G12=1),0,\"\")))),\"\")","v":""},{"$f":"IFERROR(IF(LEN(Etapes[[#This Row],[Planned]])=0,\"\",IF(AND($C12=\"MER\",BK$6=$F12,$G12=1),1,IF(AND($C12=\"MEP\",BK$6=$F12,$G12=1),2,IF(AND(BK$6=$F12,$G12=1),0,\"\")))),\"\")","v":""},{"$f":"IFERROR(IF(LEN(Etapes[[#This Row],[Planned]])=0,\"\",IF(AND($C12=\"MER\",BL$6=$F12,$G12=1),1,IF(AND($C12=\"MEP\",BL$6=$F12,$G12=1),2,IF(AND(BL$6=$F12,$G12=1),0,\"\")))),\"\")","v":""},{"$f":"IFERROR(IF(LEN(Etapes[[#This Row],[Planned]])=0,\"\",IF(AND($C12=\"MER\",BM$6=$F12,$G12=1),1,IF(AND($C12=\"MEP\",BM$6=$F12,$G12=1),2,IF(AND(BM$6=$F12,$G12=1),0,\"\")))),\"\")","v":""},{"$f":"IFERROR(IF(LEN(Etapes[[#This Row],[Planned]])=0,\"\",IF(AND($C12=\"MER\",BN$6=$F12,$G12=1),1,IF(AND($C12=\"MEP\",BN$6=$F12,$G12=1),2,IF(AND(BN$6=$F12,$G12=1),0,\"\")))),\"\")","v":""},{"$f":"IFERROR(IF(LEN(Etapes[[#This Row],[Planned]])=0,\"\",IF(AND($C12=\"MER\",BO$6=$F12,$G12=1),1,IF(AND($C12=\"MEP\",BO$6=$F12,$G12=1),2,IF(AND(BO$6=$F12,$G12=1),0,\"\")))),\"\")","v":""},{"$f":"IFERROR(IF(LEN(Etapes[[#This Row],[Add]])=0,\"\",IF(AND($C12=\"MER\",BP$6=$F12,$G12=1),1,IF(AND($C12=\"MEP\",BP$6=$F12,$G12=1),2,IF(AND(BP$6=$F12,$G12=1),0,\"\")))),\"\")","v":""},{"$f":"IFERROR(IF(LEN(Etapes[[#This Row],[End]])=0,\"\",IF(AND($C12=\"MER\",BQ$6=$F12,$G12=1),1,IF(AND($C12=\"MEP\",BQ$6=$F12,$G12=1),2,IF(AND(BQ$6=$F12,$G12=1),0,\"\")))),\"\")","v":""},{"$f":"IFERROR(IF(LEN(Etapes[[#This Row],[Réalisé]])=0,\"\",IF(AND($C12=\"MER\",BR$6=$F12,$G12=1),1,IF(AND($C12=\"MEP\",BR$6=$F12,$G12=1),2,IF(AND(BR$6=$F12,$G12=1),0,\"\")))),\"\")","v":""},{"$f":"IFERROR(IF(LEN(Etapes[[#This Row],[Activité]])=0,\"\",IF(AND($C12=\"MER\",BS$6=$F12,$G12=1),1,IF(AND($C12=\"MEP\",BS$6=$F12,$G12=1),2,IF(AND(BS$6=$F12,$G12=1),0,\"\")))),\"\")","v":""},{"$f":"IFERROR(IF(LEN(Etapes[[#This Row],[Statut]])=0,\"\",IF(AND($C12=\"MER\",BT$6=$F12,$G12=1),1,IF(AND($C12=\"MEP\",BT$6=$F12,$G12=1),2,IF(AND(BT$6=$F12,$G12=1),0,\"\")))),\"\")","v":""},{"$f":"IFERROR(IF(LEN(Etapes[[#This Row],[Progress]])=0,\"\",IF(AND($C12=\"MER\",BU$6=$F12,$G12=1),1,IF(AND($C12=\"MEP\",BU$6=$F12,$G12=1),2,IF(AND(BU$6=$F12,$G12=1),0,\"\")))),\"\")","v":""},{"$f":"IFERROR(IF(LEN(Etapes[[#This Row],[Start]])=0,\"\",IF(AND($C12=\"MER\",BV$6=$F12,$G12=1),1,IF(AND($C12=\"MEP\",BV$6=$F12,$G12=1),2,IF(AND(BV$6=$F12,$G12=1),0,\"\")))),\"\")","v":""},{"$f":"IFERROR(IF(LEN(Etapes[[#This Row],[Planned]])=0,\"\",IF(AND($C12=\"MER\",BW$6=$F12,$G12=1),1,IF(AND($C12=\"MEP\",BW$6=$F12,$G12=1),2,IF(AND(BW$6=$F12,$G12=1),0,\"\")))),\"\")","v":""},{"$f":"IFERROR(IF(LEN(Etapes[[#This Row],[Add]])=0,\"\",IF(AND($C12=\"MER\",BX$6=$F12,$G12=1),1,IF(AND($C12=\"MEP\",BX$6=$F12,$G12=1),2,IF(AND(BX$6=$F12,$G12=1),0,\"\")))),\"\")","v":""},{"$f":"IFERROR(IF(LEN(Etapes[[#This Row],[End]])=0,\"\",IF(AND($C12=\"MER\",BY$6=$F12,$G12=1),1,IF(AND($C12=\"MEP\",BY$6=$F12,$G12=1),2,IF(AND(BY$6=$F12,$G12=1),0,\"\")))),\"\")","v":""},{"$f":"IFERROR(IF(LEN(Etapes[[#This Row],[Réalisé]])=0,\"\",IF(AND($C12=\"MER\",BZ$6=$F12,$G12=1),1,IF(AND($C12=\"MEP\",BZ$6=$F12,$G12=1),2,IF(AND(BZ$6=$F12,$G12=1),0,\"\")))),\"\")","v":""},{"$f":"IFERROR(IF(LEN(Etapes[[#This Row],[Activité]])=0,\"\",IF(AND($C12=\"MER\",CA$6=$F12,$G12=1),1,IF(AND($C12=\"MEP\",CA$6=$F12,$G12=1),2,IF(AND(CA$6=$F12,$G12=1),0,\"\")))),\"\")","v":""},{"$f":"IFERROR(IF(LEN(Etapes[[#This Row],[Statut]])=0,\"\",IF(AND($C12=\"MER\",CB$6=$F12,$G12=1),1,IF(AND($C12=\"MEP\",CB$6=$F12,$G12=1),2,IF(AND(CB$6=$F12,$G12=1),0,\"\")))),\"\")","v":""},{"$f":"IFERROR(IF(LEN(Etapes[[#This Row],[Progress]])=0,\"\",IF(AND($C12=\"MER\",CC$6=$F12,$G12=1),1,IF(AND($C12=\"MEP\",CC$6=$F12,$G12=1),2,IF(AND(CC$6=$F12,$G12=1),0,\"\")))),\"\")","v":""},{"$f":"IFERROR(IF(LEN(Etapes[[#This Row],[Start]])=0,\"\",IF(AND($C12=\"MER\",CD$6=$F12,$G12=1),1,IF(AND($C12=\"MEP\",CD$6=$F12,$G12=1),2,IF(AND(CD$6=$F12,$G12=1),0,\"\")))),\"\")","v":""},{"$f":"IFERROR(IF(LEN(Etapes[[#This Row],[Planned]])=0,\"\",IF(AND($C12=\"MER\",CE$6=$F12,$G12=1),1,IF(AND($C12=\"MEP\",CE$6=$F12,$G12=1),2,IF(AND(CE$6=$F12,$G12=1),0,\"\")))),\"\")","v":""},{"$f":"IFERROR(IF(LEN(Etapes[[#This Row],[Add]])=0,\"\",IF(AND($C12=\"MER\",CF$6=$F12,$G12=1),1,IF(AND($C12=\"MEP\",CF$6=$F12,$G12=1),2,IF(AND(CF$6=$F12,$G12=1),0,\"\")))),\"\")","v":""},{"$f":"IFERROR(IF(LEN(Etapes[[#This Row],[End]])=0,\"\",IF(AND($C12=\"MER\",CG$6=$F12,$G12=1),1,IF(AND($C12=\"MEP\",CG$6=$F12,$G12=1),2,IF(AND(CG$6=$F12,$G12=1),0,\"\")))),\"\")","v":""},{"$f":"IFERROR(IF(LEN(Etapes[[#This Row],[Réalisé]])=0,\"\",IF(AND($C12=\"MER\",CH$6=$F12,$G12=1),1,IF(AND($C12=\"MEP\",CH$6=$F12,$G12=1),2,IF(AND(CH$6=$F12,$G12=1),0,\"\")))),\"\")","v":""},{"$f":"IFERROR(IF(LEN(Etapes[[#This Row],[Activité]])=0,\"\",IF(AND($C12=\"MER\",CI$6=$F12,$G12=1),1,IF(AND($C12=\"MEP\",CI$6=$F12,$G12=1),2,IF(AND(CI$6=$F12,$G12=1),0,\"\")))),\"\")","v":""},{"$f":"IFERROR(IF(LEN(Etapes[[#This Row],[Statut]])=0,\"\",IF(AND($C12=\"MER\",CJ$6=$F12,$G12=1),1,IF(AND($C12=\"MEP\",CJ$6=$F12,$G12=1),2,IF(AND(CJ$6=$F12,$G12=1),0,\"\")))),\"\")","v":""},{"$f":"IFERROR(IF(LEN(Etapes[[#This Row],[Progress]])=0,\"\",IF(AND($C12=\"MER\",CK$6=$F12,$G12=1),1,IF(AND($C12=\"MEP\",CK$6=$F12,$G12=1),2,IF(AND(CK$6=$F12,$G12=1),0,\"\")))),\"\")","v":""},{"$f":"IFERROR(IF(LEN(Etapes[[#This Row],[Start]])=0,\"\",IF(AND($C12=\"MER\",CL$6=$F12,$G12=1),1,IF(AND($C12=\"MEP\",CL$6=$F12,$G12=1),2,IF(AND(CL$6=$F12,$G12=1),0,\"\")))),\"\")","v":""},{"$f":"IFERROR(IF(LEN(Etapes[[#This Row],[Planned]])=0,\"\",IF(AND($C12=\"MER\",CM$6=$F12,$G12=1),1,IF(AND($C12=\"MEP\",CM$6=$F12,$G12=1),2,IF(AND(CM$6=$F12,$G12=1),0,\"\")))),\"\")","v":""},{"$f":"IFERROR(IF(LEN(Etapes[[#This Row],[Add]])=0,\"\",IF(AND($C12=\"MER\",CN$6=$F12,$G12=1),1,IF(AND($C12=\"MEP\",CN$6=$F12,$G12=1),2,IF(AND(CN$6=$F12,$G12=1),0,\"\")))),\"\")","v":""},{"$f":"IFERROR(IF(LEN(Etapes[[#This Row],[End]])=0,\"\",IF(AND($C12=\"MER\",CO$6=$F12,$G12=1),1,IF(AND($C12=\"MEP\",CO$6=$F12,$G12=1),2,IF(AND(CO$6=$F12,$G12=1),0,\"\")))),\"\")","v":""},{"$f":"IFERROR(IF(LEN(Etapes[[#This Row],[Réalisé]])=0,\"\",IF(AND($C12=\"MER\",CP$6=$F12,$G12=1),1,IF(AND($C12=\"MEP\",CP$6=$F12,$G12=1),2,IF(AND(CP$6=$F12,$G12=1),0,\"\")))),\"\")","v":""},{"$f":"IFERROR(IF(LEN(Etapes[[#This Row],[Activité]])=0,\"\",IF(AND($C12=\"MER\",CQ$6=$F12,$G12=1),1,IF(AND($C12=\"MEP\",CQ$6=$F12,$G12=1),2,IF(AND(CQ$6=$F12,$G12=1),0,\"\")))),\"\")","v":""},{"$f":"IFERROR(IF(LEN(Etapes[[#This Row],[Statut]])=0,\"\",IF(AND($C12=\"MER\",CR$6=$F12,$G12=1),1,IF(AND($C12=\"MEP\",CR$6=$F12,$G12=1),2,IF(AND(CR$6=$F12,$G12=1),0,\"\")))),\"\")","v":""},{"$f":"IFERROR(IF(LEN(Etapes[[#This Row],[Progress]])=0,\"\",IF(AND($C12=\"MER\",CS$6=$F12,$G12=1),1,IF(AND($C12=\"MEP\",CS$6=$F12,$G12=1),2,IF(AND(CS$6=$F12,$G12=1),0,\"\")))),\"\")","v":""},{"$f":"IFERROR(IF(LEN(Etapes[[#This Row],[Start]])=0,\"\",IF(AND($C12=\"MER\",CT$6=$F12,$G12=1),1,IF(AND($C12=\"MEP\",CT$6=$F12,$G12=1),2,IF(AND(CT$6=$F12,$G12=1),0,\"\")))),\"\")","v":""},{"$f":"IFERROR(IF(LEN(Etapes[[#This Row],[Planned]])=0,\"\",IF(AND($C12=\"MER\",CU$6=$F12,$G12=1),1,IF(AND($C12=\"MEP\",CU$6=$F12,$G12=1),2,IF(AND(CU$6=$F12,$G12=1),0,\"\")))),\"\")","v":""},{"$f":"IFERROR(IF(LEN(Etapes[[#This Row],[Add]])=0,\"\",IF(AND($C12=\"MER\",CV$6=$F12,$G12=1),1,IF(AND($C12=\"MEP\",CV$6=$F12,$G12=1),2,IF(AND(CV$6=$F12,$G12=1),0,\"\")))),\"\")","v":""},{"$f":"IFERROR(IF(LEN(Etapes[[#This Row],[End]])=0,\"\",IF(AND($C12=\"MER\",CW$6=$F12,$G12=1),1,IF(AND($C12=\"MEP\",CW$6=$F12,$G12=1),2,IF(AND(CW$6=$F12,$G12=1),0,\"\")))),\"\")","v":""}]
["1.3","Préparation RE7 ","Launched",{"$f":"Settings!D44","v":"NAN"},1,"2022-08-03",null,null,{"$f":"IF(Etapes[[#This Row],[Start]]<>\"\",WORKDAY(Etapes[[#This Row],[Start]],IF(WEEKDAY(Etapes[[#This Row],[Start]],1)>=6,Etapes[[#This Row],[Planned]]+Etapes[[#This Row],[Add]],Etapes[[#This Row],[Planned]]+Etapes[[#This Row],[Add]]-1),Férié),\"\")","v":"2022-08-02"},{"$f":"IF(Etapes[[#This Row],[Start]]<>\"\",WORKDAY(Etapes[[#This Row],[Start]],IF(WEEKDAY(Etapes[[#This Row],[Start]],1)>=6,Etapes[[#This Row],[Progress]]*Etapes[[#This Row],[Planned]]+Etapes[[#This Row],[Add]],(Etapes[[#This Row],[Progress]]*Etapes[[#This Row],[Planned]]+Etapes[[#This Row],[Add]])-1),Férié),\"\")","v":"2022-08-02"},null,{"$f":"IFERROR(IF(LEN(Etapes[[#This Row],[Planned]])=0,\"\",IF(AND($C13=\"MER\",L$6=$F13,$G13=1),1,IF(AND($C13=\"MEP\",L$6=$F13,$G13=1),2,IF(AND(L$6=$F13,$G13=1),0,\"\")))),\"\")","v":""},{"$f":"IFERROR(IF(LEN(Etapes[[#This Row],[Planned]])=0,\"\",IF(AND($C13=\"MER\",M$6=$F13,$G13=1),1,IF(AND($C13=\"MEP\",M$6=$F13,$G13=1),2,IF(AND(M$6=$F13,$G13=1),0,\"\")))),\"\")","v":""},{"$f":"IFERROR(IF(LEN(Etapes[[#This Row],[Planned]])=0,\"\",IF(AND($C13=\"MER\",N$6=$F13,$G13=1),1,IF(AND($C13=\"MEP\",N$6=$F13,$G13=1),2,IF(AND(N$6=$F13,$G13=1),0,\"\")))),\"\")","v":""},{"$f":"IFERROR(IF(LEN(Etapes[[#This Row],[Planned]])=0,\"\",IF(AND($C13=\"MER\",O$6=$F13,$G13=1),1,IF(AND($C13=\"MEP\",O$6=$F13,$G13=1),2,IF(AND(O$6=$F13,$G13=1),0,\"\")))),\"\")","v":""},{"$f":"IFERROR(IF(LEN(Etapes[[#This Row],[Planned]])=0,\"\",IF(AND($C13=\"MER\",P$6=$F13,$G13=1),1,IF(AND($C13=\"MEP\",P$6=$F13,$G13=1),2,IF(AND(P$6=$F13,$G13=1),0,\"\")))),\"\")","v":""},{"$f":"IFERROR(IF(LEN(Etapes[[#This Row],[Planned]])=0,\"\",IF(AND($C13=\"MER\",Q$6=$F13,$G13=1),1,IF(AND($C13=\"MEP\",Q$6=$F13,$G13=1),2,IF(AND(Q$6=$F13,$G13=1),0,\"\")))),\"\")","v":""},{"$f":"IFERROR(IF(LEN(Etapes[[#This Row],[Planned]])=0,\"\",IF(AND($C13=\"MER\",R$6=$F13,$G13=1),1,IF(AND($C13=\"MEP\",R$6=$F13,$G13=1),2,IF(AND(R$6=$F13,$G13=1),0,\"\")))),\"\")","v":""},{"$f":"IFERROR(IF(LEN(Etapes[[#This Row],[Planned]])=0,\"\",IF(AND($C13=\"MER\",S$6=$F13,$G13=1),1,IF(AND($C13=\"MEP\",S$6=$F13,$G13=1),2,IF(AND(S$6=$F13,$G13=1),0,\"\")))),\"\")","v":""},{"$f":"IFERROR(IF(LEN(Etapes[[#This Row],[Planned]])=0,\"\",IF(AND($C13=\"MER\",T$6=$F13,$G13=1),1,IF(AND($C13=\"MEP\",T$6=$F13,$G13=1),2,IF(AND(T$6=$F13,$G13=1),0,\"\")))),\"\")","v":""},{"$f":"IFERROR(IF(LEN(Etapes[[#This Row],[Planned]])=0,\"\",IF(AND($C13=\"MER\",U$6=$F13,$G13=1),1,IF(AND($C13=\"MEP\",U$6=$F13,$G13=1),2,IF(AND(U$6=$F13,$G13=1),0,\"\")))),\"\")","v":""},{"$f":"IFERROR(IF(LEN(Etapes[[#This Row],[Planned]])=0,\"\",IF(AND($C13=\"MER\",V$6=$F13,$G13=1),1,IF(AND($C13=\"MEP\",V$6=$F13,$G13=1),2,IF(AND(V$6=$F13,$G13=1),0,\"\")))),\"\")","v":""},{"$f":"IFERROR(IF(LEN(Etapes[[#This Row],[Planned]])=0,\"\",IF(AND($C13=\"MER\",W$6=$F13,$G13=1),1,IF(AND($C13=\"MEP\",W$6=$F13,$G13=1),2,IF(AND(W$6=$F13,$G13=1),0,\"\")))),\"\")","v":""},{"$f":"IFERROR(IF(LEN(Etapes[[#This Row],[Planned]])=0,\"\",IF(AND($C13=\"MER\",X$6=$F13,$G13=1),1,IF(AND($C13=\"MEP\",X$6=$F13,$G13=1),2,IF(AND(X$6=$F13,$G13=1),0,\"\")))),\"\")","v":""},{"$f":"IFERROR(IF(LEN(Etapes[[#This Row],[Planned]])=0,\"\",IF(AND($C13=\"MER\",Y$6=$F13,$G13=1),1,IF(AND($C13=\"MEP\",Y$6=$F13,$G13=1),2,IF(AND(Y$6=$F13,$G13=1),0,\"\")))),\"\")","v":""},{"$f":"IFERROR(IF(LEN(Etapes[[#This Row],[Planned]])=0,\"\",IF(AND($C13=\"MER\",Z$6=$F13,$G13=1),1,IF(AND($C13=\"MEP\",Z$6=$F13,$G13=1),2,IF(AND(Z$6=$F13,$G13=1),0,\"\")))),\"\")","v":""},{"$f":"IFERROR(IF(LEN(Etapes[[#This Row],[Planned]])=0,\"\",IF(AND($C13=\"MER\",AA$6=$F13,$G13=1),1,IF(AND($C13=\"MEP\",AA$6=$F13,$G13=1),2,IF(AND(AA$6=$F13,$G13=1),0,\"\")))),\"\")","v":""},{"$f":"IFERROR(IF(LEN(Etapes[[#This Row],[Planned]])=0,\"\",IF(AND($C13=\"MER\",AB$6=$F13,$G13=1),1,IF(AND($C13=\"MEP\",AB$6=$F13,$G13=1),2,IF(AND(AB$6=$F13,$G13=1),0,\"\")))),\"\")","v":""},{"$f":"IFERROR(IF(LEN(Etapes[[#This Row],[Planned]])=0,\"\",IF(AND($C13=\"MER\",AC$6=$F13,$G13=1),1,IF(AND($C13=\"MEP\",AC$6=$F13,$G13=1),2,IF(AND(AC$6=$F13,$G13=1),0,\"\")))),\"\")","v":""},{"$f":"IFERROR(IF(LEN(Etapes[[#This Row],[Planned]])=0,\"\",IF(AND($C13=\"MER\",AD$6=$F13,$G13=1),1,IF(AND($C13=\"MEP\",AD$6=$F13,$G13=1),2,IF(AND(AD$6=$F13,$G13=1),0,\"\")))),\"\")","v":""},{"$f":"IFERROR(IF(LEN(Etapes[[#This Row],[Planned]])=0,\"\",IF(AND($C13=\"MER\",AE$6=$F13,$G13=1),1,IF(AND($C13=\"MEP\",AE$6=$F13,$G13=1),2,IF(AND(AE$6=$F13,$G13=1),0,\"\")))),\"\")","v":""},{"$f":"IFERROR(IF(LEN(Etapes[[#This Row],[Planned]])=0,\"\",IF(AND($C13=\"MER\",AF$6=$F13,$G13=1),1,IF(AND($C13=\"MEP\",AF$6=$F13,$G13=1),2,IF(AND(AF$6=$F13,$G13=1),0,\"\")))),\"\")","v":""},{"$f":"IFERROR(IF(LEN(Etapes[[#This Row],[Planned]])=0,\"\",IF(AND($C13=\"MER\",AG$6=$F13,$G13=1),1,IF(AND($C13=\"MEP\",AG$6=$F13,$G13=1),2,IF(AND(AG$6=$F13,$G13=1),0,\"\")))),\"\")","v":""},{"$f":"IFERROR(IF(LEN(Etapes[[#This Row],[Planned]])=0,\"\",IF(AND($C13=\"MER\",AH$6=$F13,$G13=1),1,IF(AND($C13=\"MEP\",AH$6=$F13,$G13=1),2,IF(AND(AH$6=$F13,$G13=1),0,\"\")))),\"\")","v":""},{"$f":"IFERROR(IF(LEN(Etapes[[#This Row],[Planned]])=0,\"\",IF(AND($C13=\"MER\",AI$6=$F13,$G13=1),1,IF(AND($C13=\"MEP\",AI$6=$F13,$G13=1),2,IF(AND(AI$6=$F13,$G13=1),0,\"\")))),\"\")","v":""},{"$f":"IFERROR(IF(LEN(Etapes[[#This Row],[Planned]])=0,\"\",IF(AND($C13=\"MER\",AJ$6=$F13,$G13=1),1,IF(AND($C13=\"MEP\",AJ$6=$F13,$G13=1),2,IF(AND(AJ$6=$F13,$G13=1),0,\"\")))),\"\")","v":""},{"$f":"IFERROR(IF(LEN(Etapes[[#This Row],[Planned]])=0,\"\",IF(AND($C13=\"MER\",AK$6=$F13,$G13=1),1,IF(AND($C13=\"MEP\",AK$6=$F13,$G13=1),2,IF(AND(AK$6=$F13,$G13=1),0,\"\")))),\"\")","v":""},{"$f":"IFERROR(IF(LEN(Etapes[[#This Row],[Planned]])=0,\"\",IF(AND($C13=\"MER\",AL$6=$F13,$G13=1),1,IF(AND($C13=\"MEP\",AL$6=$F13,$G13=1),2,IF(AND(AL$6=$F13,$G13=1),0,\"\")))),\"\")","v":""},{"$f":"IFERROR(IF(LEN(Etapes[[#This Row],[Planned]])=0,\"\",IF(AND($C13=\"MER\",AM$6=$F13,$G13=1),1,IF(AND($C13=\"MEP\",AM$6=$F13,$G13=1),2,IF(AND(AM$6=$F13,$G13=1),0,\"\")))),\"\")","v":""},{"$f":"IFERROR(IF(LEN(Etapes[[#This Row],[Planned]])=0,\"\",IF(AND($C13=\"MER\",AN$6=$F13,$G13=1),1,IF(AND($C13=\"MEP\",AN$6=$F13,$G13=1),2,IF(AND(AN$6=$F13,$G13=1),0,\"\")))),\"\")","v":""},{"$f":"IFERROR(IF(LEN(Etapes[[#This Row],[Planned]])=0,\"\",IF(AND($C13=\"MER\",AO$6=$F13,$G13=1),1,IF(AND($C13=\"MEP\",AO$6=$F13,$G13=1),2,IF(AND(AO$6=$F13,$G13=1),0,\"\")))),\"\")","v":""},{"$f":"IFERROR(IF(LEN(Etapes[[#This Row],[Planned]])=0,\"\",IF(AND($C13=\"MER\",AP$6=$F13,$G13=1),1,IF(AND($C13=\"MEP\",AP$6=$F13,$G13=1),2,IF(AND(AP$6=$F13,$G13=1),0,\"\")))),\"\")","v":""},{"$f":"IFERROR(IF(LEN(Etapes[[#This Row],[Planned]])=0,\"\",IF(AND($C13=\"MER\",AQ$6=$F13,$G13=1),1,IF(AND($C13=\"MEP\",AQ$6=$F13,$G13=1),2,IF(AND(AQ$6=$F13,$G13=1),0,\"\")))),\"\")","v":""},{"$f":"IFERROR(IF(LEN(Etapes[[#This Row],[Planned]])=0,\"\",IF(AND($C13=\"MER\",AR$6=$F13,$G13=1),1,IF(AND($C13=\"MEP\",AR$6=$F13,$G13=1),2,IF(AND(AR$6=$F13,$G13=1),0,\"\")))),\"\")","v":""},{"$f":"IFERROR(IF(LEN(Etapes[[#This Row],[Planned]])=0,\"\",IF(AND($C13=\"MER\",AS$6=$F13,$G13=1),1,IF(AND($C13=\"MEP\",AS$6=$F13,$G13=1),2,IF(AND(AS$6=$F13,$G13=1),0,\"\")))),\"\")","v":""},{"$f":"IFERROR(IF(LEN(Etapes[[#This Row],[Planned]])=0,\"\",IF(AND($C13=\"MER\",AT$6=$F13,$G13=1),1,IF(AND($C13=\"MEP\",AT$6=$F13,$G13=1),2,IF(AND(AT$6=$F13,$G13=1),0,\"\")))),\"\")","v":""},{"$f":"IFERROR(IF(LEN(Etapes[[#This Row],[Planned]])=0,\"\",IF(AND($C13=\"MER\",AU$6=$F13,$G13=1),1,IF(AND($C13=\"MEP\",AU$6=$F13,$G13=1),2,IF(AND(AU$6=$F13,$G13=1),0,\"\")))),\"\")","v":""},{"$f":"IFERROR(IF(LEN(Etapes[[#This Row],[Planned]])=0,\"\",IF(AND($C13=\"MER\",AV$6=$F13,$G13=1),1,IF(AND($C13=\"MEP\",AV$6=$F13,$G13=1),2,IF(AND(AV$6=$F13,$G13=1),0,\"\")))),\"\")","v":""},{"$f":"IFERROR(IF(LEN(Etapes[[#This Row],[Planned]])=0,\"\",IF(AND($C13=\"MER\",AW$6=$F13,$G13=1),1,IF(AND($C13=\"MEP\",AW$6=$F13,$G13=1),2,IF(AND(AW$6=$F13,$G13=1),0,\"\")))),\"\")","v":""},{"$f":"IFERROR(IF(LEN(Etapes[[#This Row],[Planned]])=0,\"\",IF(AND($C13=\"MER\",AX$6=$F13,$G13=1),1,IF(AND($C13=\"MEP\",AX$6=$F13,$G13=1),2,IF(AND(AX$6=$F13,$G13=1),0,\"\")))),\"\")","v":""},{"$f":"IFERROR(IF(LEN(Etapes[[#This Row],[Planned]])=0,\"\",IF(AND($C13=\"MER\",AY$6=$F13,$G13=1),1,IF(AND($C13=\"MEP\",AY$6=$F13,$G13=1),2,IF(AND(AY$6=$F13,$G13=1),0,\"\")))),\"\")","v":""},{"$f":"IFERROR(IF(LEN(Etapes[[#This Row],[Planned]])=0,\"\",IF(AND($C13=\"MER\",AZ$6=$F13,$G13=1),1,IF(AND($C13=\"MEP\",AZ$6=$F13,$G13=1),2,IF(AND(AZ$6=$F13,$G13=1),0,\"\")))),\"\")","v":""},{"$f":"IFERROR(IF(LEN(Etapes[[#This Row],[Planned]])=0,\"\",IF(AND($C13=\"MER\",BA$6=$F13,$G13=1),1,IF(AND($C13=\"MEP\",BA$6=$F13,$G13=1),2,IF(AND(BA$6=$F13,$G13=1),0,\"\")))),\"\")","v":""},{"$f":"IFERROR(IF(LEN(Etapes[[#This Row],[Planned]])=0,\"\",IF(AND($C13=\"MER\",BB$6=$F13,$G13=1),1,IF(AND($C13=\"MEP\",BB$6=$F13,$G13=1),2,IF(AND(BB$6=$F13,$G13=1),0,\"\")))),\"\")","v":""},{"$f":"IFERROR(IF(LEN(Etapes[[#This Row],[Planned]])=0,\"\",IF(AND($C13=\"MER\",BC$6=$F13,$G13=1),1,IF(AND($C13=\"MEP\",BC$6=$F13,$G13=1),2,IF(AND(BC$6=$F13,$G13=1),0,\"\")))),\"\")","v":""},{"$f":"IFERROR(IF(LEN(Etapes[[#This Row],[Planned]])=0,\"\",IF(AND($C13=\"MER\",BD$6=$F13,$G13=1),1,IF(AND($C13=\"MEP\",BD$6=$F13,$G13=1),2,IF(AND(BD$6=$F13,$G13=1),0,\"\")))),\"\")","v":""},{"$f":"IFERROR(IF(LEN(Etapes[[#This Row],[Planned]])=0,\"\",IF(AND($C13=\"MER\",BE$6=$F13,$G13=1),1,IF(AND($C13=\"MEP\",BE$6=$F13,$G13=1),2,IF(AND(BE$6=$F13,$G13=1),0,\"\")))),\"\")","v":""},{"$f":"IFERROR(IF(LEN(Etapes[[#This Row],[Planned]])=0,\"\",IF(AND($C13=\"MER\",BF$6=$F13,$G13=1),1,IF(AND($C13=\"MEP\",BF$6=$F13,$G13=1),2,IF(AND(BF$6=$F13,$G13=1),0,\"\")))),\"\")","v":""},{"$f":"IFERROR(IF(LEN(Etapes[[#This Row],[Planned]])=0,\"\",IF(AND($C13=\"MER\",BG$6=$F13,$G13=1),1,IF(AND($C13=\"MEP\",BG$6=$F13,$G13=1),2,IF(AND(BG$6=$F13,$G13=1),0,\"\")))),\"\")","v":""},{"$f":"IFERROR(IF(LEN(Etapes[[#This Row],[Planned]])=0,\"\",IF(AND($C13=\"MER\",BH$6=$F13,$G13=1),1,IF(AND($C13=\"MEP\",BH$6=$F13,$G13=1),2,IF(AND(BH$6=$F13,$G13=1),0,\"\")))),\"\")","v":""},{"$f":"IFERROR(IF(LEN(Etapes[[#This Row],[Planned]])=0,\"\",IF(AND($C13=\"MER\",BI$6=$F13,$G13=1),1,IF(AND($C13=\"MEP\",BI$6=$F13,$G13=1),2,IF(AND(BI$6=$F13,$G13=1),0,\"\")))),\"\")","v":""},{"$f":"IFERROR(IF(LEN(Etapes[[#This Row],[Planned]])=0,\"\",IF(AND($C13=\"MER\",BJ$6=$F13,$G13=1),1,IF(AND($C13=\"MEP\",BJ$6=$F13,$G13=1),2,IF(AND(BJ$6=$F13,$G13=1),0,\"\")))),\"\")","v":""},{"$f":"IFERROR(IF(LEN(Etapes[[#This Row],[Planned]])=0,\"\",IF(AND($C13=\"MER\",BK$6=$F13,$G13=1),1,IF(AND($C13=\"MEP\",BK$6=$F13,$G13=1),2,IF(AND(BK$6=$F13,$G13=1),0,\"\")))),\"\")","v":""},{"$f":"IFERROR(IF(LEN(Etapes[[#This Row],[Planned]])=0,\"\",IF(AND($C13=\"MER\",BL$6=$F13,$G13=1),1,IF(AND($C13=\"MEP\",BL$6=$F13,$G13=1),2,IF(AND(BL$6=$F13,$G13=1),0,\"\")))),\"\")","v":""},{"$f":"IFERROR(IF(LEN(Etapes[[#This Row],[Planned]])=0,\"\",IF(AND($C13=\"MER\",BM$6=$F13,$G13=1),1,IF(AND($C13=\"MEP\",BM$6=$F13,$G13=1),2,IF(AND(BM$6=$F13,$G13=1),0,\"\")))),\"\")","v":""},{"$f":"IFERROR(IF(LEN(Etapes[[#This Row],[Planned]])=0,\"\",IF(AND($C13=\"MER\",BN$6=$F13,$G13=1),1,IF(AND($C13=\"MEP\",BN$6=$F13,$G13=1),2,IF(AND(BN$6=$F13,$G13=1),0,\"\")))),\"\")","v":""},{"$f":"IFERROR(IF(LEN(Etapes[[#This Row],[Planned]])=0,\"\",IF(AND($C13=\"MER\",BO$6=$F13,$G13=1),1,IF(AND($C13=\"MEP\",BO$6=$F13,$G13=1),2,IF(AND(BO$6=$F13,$G13=1),0,\"\")))),\"\")","v":""},{"$f":"IFERROR(IF(LEN(Etapes[[#This Row],[Add]])=0,\"\",IF(AND($C13=\"MER\",BP$6=$F13,$G13=1),1,IF(AND($C13=\"MEP\",BP$6=$F13,$G13=1),2,IF(AND(BP$6=$F13,$G13=1),0,\"\")))),\"\")","v":""},{"$f":"IFERROR(IF(LEN(Etapes[[#This Row],[End]])=0,\"\",IF(AND($C13=\"MER\",BQ$6=$F13,$G13=1),1,IF(AND($C13=\"MEP\",BQ$6=$F13,$G13=1),2,IF(AND(BQ$6=$F13,$G13=1),0,\"\")))),\"\")","v":""},{"$f":"IFERROR(IF(LEN(Etapes[[#This Row],[Réalisé]])=0,\"\",IF(AND($C13=\"MER\",BR$6=$F13,$G13=1),1,IF(AND($C13=\"MEP\",BR$6=$F13,$G13=1),2,IF(AND(BR$6=$F13,$G13=1),0,\"\")))),\"\")","v":""},{"$f":"IFERROR(IF(LEN(Etapes[[#This Row],[Activité]])=0,\"\",IF(AND($C13=\"MER\",BS$6=$F13,$G13=1),1,IF(AND($C13=\"MEP\",BS$6=$F13,$G13=1),2,IF(AND(BS$6=$F13,$G13=1),0,\"\")))),\"\")","v":""},{"$f":"IFERROR(IF(LEN(Etapes[[#This Row],[Statut]])=0,\"\",IF(AND($C13=\"MER\",BT$6=$F13,$G13=1),1,IF(AND($C13=\"MEP\",BT$6=$F13,$G13=1),2,IF(AND(BT$6=$F13,$G13=1),0,\"\")))),\"\")","v":""},{"$f":"IFERROR(IF(LEN(Etapes[[#This Row],[Progress]])=0,\"\",IF(AND($C13=\"MER\",BU$6=$F13,$G13=1),1,IF(AND($C13=\"MEP\",BU$6=$F13,$G13=1),2,IF(AND(BU$6=$F13,$G13=1),0,\"\")))),\"\")","v":""},{"$f":"IFERROR(IF(LEN(Etapes[[#This Row],[Start]])=0,\"\",IF(AND($C13=\"MER\",BV$6=$F13,$G13=1),1,IF(AND($C13=\"MEP\",BV$6=$F13,$G13=1),2,IF(AND(BV$6=$F13,$G13=1),0,\"\")))),\"\")","v":""},{"$f":"IFERROR(IF(LEN(Etapes[[#This Row],[Planned]])=0,\"\",IF(AND($C13=\"MER\",BW$6=$F13,$G13=1),1,IF(AND($C13=\"MEP\",BW$6=$F13,$G13=1),2,IF(AND(BW$6=$F13,$G13=1),0,\"\")))),\"\")","v":""},{"$f":"IFERROR(IF(LEN(Etapes[[#This Row],[Add]])=0,\"\",IF(AND($C13=\"MER\",BX$6=$F13,$G13=1),1,IF(AND($C13=\"MEP\",BX$6=$F13,$G13=1),2,IF(AND(BX$6=$F13,$G13=1),0,\"\")))),\"\")","v":""},{"$f":"IFERROR(IF(LEN(Etapes[[#This Row],[End]])=0,\"\",IF(AND($C13=\"MER\",BY$6=$F13,$G13=1),1,IF(AND($C13=\"MEP\",BY$6=$F13,$G13=1),2,IF(AND(BY$6=$F13,$G13=1),0,\"\")))),\"\")","v":""},{"$f":"IFERROR(IF(LEN(Etapes[[#This Row],[Réalisé]])=0,\"\",IF(AND($C13=\"MER\",BZ$6=$F13,$G13=1),1,IF(AND($C13=\"MEP\",BZ$6=$F13,$G13=1),2,IF(AND(BZ$6=$F13,$G13=1),0,\"\")))),\"\")","v":""},{"$f":"IFERROR(IF(LEN(Etapes[[#This Row],[Activité]])=0,\"\",IF(AND($C13=\"MER\",CA$6=$F13,$G13=1),1,IF(AND($C13=\"MEP\",CA$6=$F13,$G13=1),2,IF(AND(CA$6=$F13,$G13=1),0,\"\")))),\"\")","v":""},{"$f":"IFERROR(IF(LEN(Etapes[[#This Row],[Statut]])=0,\"\",IF(AND($C13=\"MER\",CB$6=$F13,$G13=1),1,IF(AND($C13=\"MEP\",CB$6=$F13,$G13=1),2,IF(AND(CB$6=$F13,$G13=1),0,\"\")))),\"\")","v":""},{"$f":"IFERROR(IF(LEN(Etapes[[#This Row],[Progress]])=0,\"\",IF(AND($C13=\"MER\",CC$6=$F13,$G13=1),1,IF(AND($C13=\"MEP\",CC$6=$F13,$G13=1),2,IF(AND(CC$6=$F13,$G13=1),0,\"\")))),\"\")","v":""},{"$f":"IFERROR(IF(LEN(Etapes[[#This Row],[Start]])=0,\"\",IF(AND($C13=\"MER\",CD$6=$F13,$G13=1),1,IF(AND($C13=\"MEP\",CD$6=$F13,$G13=1),2,IF(AND(CD$6=$F13,$G13=1),0,\"\")))),\"\")","v":""},{"$f":"IFERROR(IF(LEN(Etapes[[#This Row],[Planned]])=0,\"\",IF(AND($C13=\"MER\",CE$6=$F13,$G13=1),1,IF(AND($C13=\"MEP\",CE$6=$F13,$G13=1),2,IF(AND(CE$6=$F13,$G13=1),0,\"\")))),\"\")","v":""},{"$f":"IFERROR(IF(LEN(Etapes[[#This Row],[Add]])=0,\"\",IF(AND($C13=\"MER\",CF$6=$F13,$G13=1),1,IF(AND($C13=\"MEP\",CF$6=$F13,$G13=1),2,IF(AND(CF$6=$F13,$G13=1),0,\"\")))),\"\")","v":""},{"$f":"IFERROR(IF(LEN(Etapes[[#This Row],[End]])=0,\"\",IF(AND($C13=\"MER\",CG$6=$F13,$G13=1),1,IF(AND($C13=\"MEP\",CG$6=$F13,$G13=1),2,IF(AND(CG$6=$F13,$G13=1),0,\"\")))),\"\")","v":""},{"$f":"IFERROR(IF(LEN(Etapes[[#This Row],[Réalisé]])=0,\"\",IF(AND($C13=\"MER\",CH$6=$F13,$G13=1),1,IF(AND($C13=\"MEP\",CH$6=$F13,$G13=1),2,IF(AND(CH$6=$F13,$G13=1),0,\"\")))),\"\")","v":""},{"$f":"IFERROR(IF(LEN(Etapes[[#This Row],[Activité]])=0,\"\",IF(AND($C13=\"MER\",CI$6=$F13,$G13=1),1,IF(AND($C13=\"MEP\",CI$6=$F13,$G13=1),2,IF(AND(CI$6=$F13,$G13=1),0,\"\")))),\"\")","v":""},{"$f":"IFERROR(IF(LEN(Etapes[[#This Row],[Statut]])=0,\"\",IF(AND($C13=\"MER\",CJ$6=$F13,$G13=1),1,IF(AND($C13=\"MEP\",CJ$6=$F13,$G13=1),2,IF(AND(CJ$6=$F13,$G13=1),0,\"\")))),\"\")","v":""},{"$f":"IFERROR(IF(LEN(Etapes[[#This Row],[Progress]])=0,\"\",IF(AND($C13=\"MER\",CK$6=$F13,$G13=1),1,IF(AND($C13=\"MEP\",CK$6=$F13,$G13=1),2,IF(AND(CK$6=$F13,$G13=1),0,\"\")))),\"\")","v":""},{"$f":"IFERROR(IF(LEN(Etapes[[#This Row],[Start]])=0,\"\",IF(AND($C13=\"MER\",CL$6=$F13,$G13=1),1,IF(AND($C13=\"MEP\",CL$6=$F13,$G13=1),2,IF(AND(CL$6=$F13,$G13=1),0,\"\")))),\"\")","v":""},{"$f":"IFERROR(IF(LEN(Etapes[[#This Row],[Planned]])=0,\"\",IF(AND($C13=\"MER\",CM$6=$F13,$G13=1),1,IF(AND($C13=\"MEP\",CM$6=$F13,$G13=1),2,IF(AND(CM$6=$F13,$G13=1),0,\"\")))),\"\")","v":""},{"$f":"IFERROR(IF(LEN(Etapes[[#This Row],[Add]])=0,\"\",IF(AND($C13=\"MER\",CN$6=$F13,$G13=1),1,IF(AND($C13=\"MEP\",CN$6=$F13,$G13=1),2,IF(AND(CN$6=$F13,$G13=1),0,\"\")))),\"\")","v":""},{"$f":"IFERROR(IF(LEN(Etapes[[#This Row],[End]])=0,\"\",IF(AND($C13=\"MER\",CO$6=$F13,$G13=1),1,IF(AND($C13=\"MEP\",CO$6=$F13,$G13=1),2,IF(AND(CO$6=$F13,$G13=1),0,\"\")))),\"\")","v":""},{"$f":"IFERROR(IF(LEN(Etapes[[#This Row],[Réalisé]])=0,\"\",IF(AND($C13=\"MER\",CP$6=$F13,$G13=1),1,IF(AND($C13=\"MEP\",CP$6=$F13,$G13=1),2,IF(AND(CP$6=$F13,$G13=1),0,\"\")))),\"\")","v":""},{"$f":"IFERROR(IF(LEN(Etapes[[#This Row],[Activité]])=0,\"\",IF(AND($C13=\"MER\",CQ$6=$F13,$G13=1),1,IF(AND($C13=\"MEP\",CQ$6=$F13,$G13=1),2,IF(AND(CQ$6=$F13,$G13=1),0,\"\")))),\"\")","v":""},{"$f":"IFERROR(IF(LEN(Etapes[[#This Row],[Statut]])=0,\"\",IF(AND($C13=\"MER\",CR$6=$F13,$G13=1),1,IF(AND($C13=\"MEP\",CR$6=$F13,$G13=1),2,IF(AND(CR$6=$F13,$G13=1),0,\"\")))),\"\")","v":""},{"$f":"IFERROR(IF(LEN(Etapes[[#This Row],[Progress]])=0,\"\",IF(AND($C13=\"MER\",CS$6=$F13,$G13=1),1,IF(AND($C13=\"MEP\",CS$6=$F13,$G13=1),2,IF(AND(CS$6=$F13,$G13=1),0,\"\")))),\"\")","v":""},{"$f":"IFERROR(IF(LEN(Etapes[[#This Row],[Start]])=0,\"\",IF(AND($C13=\"MER\",CT$6=$F13,$G13=1),1,IF(AND($C13=\"MEP\",CT$6=$F13,$G13=1),2,IF(AND(CT$6=$F13,$G13=1),0,\"\")))),\"\")","v":""},{"$f":"IFERROR(IF(LEN(Etapes[[#This Row],[Planned]])=0,\"\",IF(AND($C13=\"MER\",CU$6=$F13,$G13=1),1,IF(AND($C13=\"MEP\",CU$6=$F13,$G13=1),2,IF(AND(CU$6=$F13,$G13=1),0,\"\")))),\"\")","v":""},{"$f":"IFERROR(IF(LEN(Etapes[[#This Row],[Add]])=0,\"\",IF(AND($C13=\"MER\",CV$6=$F13,$G13=1),1,IF(AND($C13=\"MEP\",CV$6=$F13,$G13=1),2,IF(AND(CV$6=$F13,$G13=1),0,\"\")))),\"\")","v":""},{"$f":"IFERROR(IF(LEN(Etapes[[#This Row],[End]])=0,\"\",IF(AND($C13=\"MER\",CW$6=$F13,$G13=1),1,IF(AND($C13=\"MEP\",CW$6=$F13,$G13=1),2,IF(AND(CW$6=$F13,$G13=1),0,\"\")))),\"\")","v":""}]
["1.4","Exécution tests","Launched",{"$f":"Settings!E44","v":"NAN"},1,"2022-08-03",null,null,{"$f":"IF(Etapes[[#This Row],[Start]]<>\"\",WORKDAY(Etapes[[#This Row],[Start]],IF(WEEKDAY(Etapes[[#This Row],[Start]],1)>=6,Etapes[[#This Row],[Planned]]+Etapes[[#This Row],[Add]],Etapes[[#This Row],[Planned]]+Etapes[[#This Row],[Add]]-1),Férié),\"\")","v":"2022-08-02"},{"$f":"IF(Etapes[[#This Row],[Start]]<>\"\",WORKDAY(Etapes[[#This Row],[Start]],IF(WEEKDAY(Etapes[[#This Row],[Start]],1)>=6,Etapes[[#This Row],[Progress]]*Etapes[[#This Row],[Planned]]+Etapes[[#This Row],[Add]],(Etapes[[#This Row],[Progress]]*Etapes[[#This Row],[Planned]]+Etapes[[#This Row],[Add]])-1),Férié),\"\")","v":"2022-08-02"},null,{"$f":"IFERROR(IF(LEN(Etapes[[#This Row],[Planned]])=0,\"\",IF(AND($C14=\"MER\",L$6=$F14,$G14=1),1,IF(AND($C14=\"MEP\",L$6=$F14,$G14=1),2,IF(AND(L$6=$F14,$G14=1),0,\"\")))),\"\")","v":""},{"$f":"IFERROR(IF(LEN(Etapes[[#This Row],[Planned]])=0,\"\",IF(AND($C14=\"MER\",M$6=$F14,$G14=1),1,IF(AND($C14=\"MEP\",M$6=$F14,$G14=1),2,IF(AND(M$6=$F14,$G14=1),0,\"\")))),\"\")","v":""},{"$f":"IFERROR(IF(LEN(Etapes[[#This Row],[Planned]])=0,\"\",IF(AND($C14=\"MER\",N$6=$F14,$G14=1),1,IF(AND($C14=\"MEP\",N$6=$F14,$G14=1),2,IF(AND(N$6=$F14,$G14=1),0,\"\")))),\"\")","v":""},{"$f":"IFERROR(IF(LEN(Etapes[[#This Row],[Planned]])=0,\"\",IF(AND($C14=\"MER\",O$6=$F14,$G14=1),1,IF(AND($C14=\"MEP\",O$6=$F14,$G14=1),2,IF(AND(O$6=$F14,$G14=1),0,\"\")))),\"\")","v":""},{"$f":"IFERROR(IF(LEN(Etapes[[#This Row],[Planned]])=0,\"\",IF(AND($C14=\"MER\",P$6=$F14,$G14=1),1,IF(AND($C14=\"MEP\",P$6=$F14,$G14=1),2,IF(AND(P$6=$F14,$G14=1),0,\"\")))),\"\")","v":""},{"$f":"IFERROR(IF(LEN(Etapes[[#This Row],[Planned]])=0,\"\",IF(AND($C14=\"MER\",Q$6=$F14,$G14=1),1,IF(AND($C14=\"MEP\",Q$6=$F14,$G14=1),2,IF(AND(Q$6=$F14,$G14=1),0,\"\")))),\"\")","v":""},{"$f":"IFERROR(IF(LEN(Etapes[[#This Row],[Planned]])=0,\"\",IF(AND($C14=\"MER\",R$6=$F14,$G14=1),1,IF(AND($C14=\"MEP\",R$6=$F14,$G14=1),2,IF(AND(R$6=$F14,$G14=1),0,\"\")))),\"\")","v":""},{"$f":"IFERROR(IF(LEN(Etapes[[#This Row],[Planned]])=0,\"\",IF(AND($C14=\"MER\",S$6=$F14,$G14=1),1,IF(AND($C14=\"MEP\",S$6=$F14,$G14=1),2,IF(AND(S$6=$F14,$G14=1),0,\"\")))),\"\")","v":""},{"$f":"IFERROR(IF(LEN(Etapes[[#This Row],[Planned]])=0,\"\",IF(AND($C14=\"MER\",T$6=$F14,$G14=1),1,IF(AND($C14=\"MEP\",T$6=$F14,$G14=1),2,IF(AND(T$6=$F14,$G14=1),0,\"\")))),\"\")","v":""},{"$f":"IFERROR(IF(LEN(Etapes[[#This Row],[Planned]])=0,\"\",IF(AND($C14=\"MER\",U$6=$F14,$G14=1),1,IF(AND($C14=\"MEP\",U$6=$F14,$G14=1),2,IF(AND(U$6=$F14,$G14=1),0,\"\")))),\"\")","v":""},{"$f":"IFERROR(IF(LEN(Etapes[[#This Row],[Planned]])=0,\"\",IF(AND($C14=\"MER\",V$6=$F14,$G14=1),1,IF(AND($C14=\"MEP\",V$6=$F14,$G14=1),2,IF(AND(V$6=$F14,$G14=1),0,\"\")))),\"\")","v":""},{"$f":"IFERROR(IF(LEN(Etapes[[#This Row],[Planned]])=0,\"\",IF(AND($C14=\"MER\",W$6=$F14,$G14=1),1,IF(AND($C14=\"MEP\",W$6=$F14,$G14=1),2,IF(AND(W$6=$F14,$G14=1),0,\"\")))),\"\")","v":""},{"$f":"IFERROR(IF(LEN(Etapes[[#This Row],[Planned]])=0,\"\",IF(AND($C14=\"MER\",X$6=$F14,$G14=1),1,IF(AND($C14=\"MEP\",X$6=$F14,$G14=1),2,IF(AND(X$6=$F14,$G14=1),0,\"\")))),\"\")","v":""},{"$f":"IFERROR(IF(LEN(Etapes[[#This Row],[Planned]])=0,\"\",IF(AND($C14=\"MER\",Y$6=$F14,$G14=1),1,IF(AND($C14=\"MEP\",Y$6=$F14,$G14=1),2,IF(AND(Y$6=$F14,$G14=1),0,\"\")))),\"\")","v":""},{"$f":"IFERROR(IF(LEN(Etapes[[#This Row],[Planned]])=0,\"\",IF(AND($C14=\"MER\",Z$6=$F14,$G14=1),1,IF(AND($C14=\"MEP\",Z$6=$F14,$G14=1),2,IF(AND(Z$6=$F14,$G14=1),0,\"\")))),\"\")","v":""},{"$f":"IFERROR(IF(LEN(Etapes[[#This Row],[Planned]])=0,\"\",IF(AND($C14=\"MER\",AA$6=$F14,$G14=1),1,IF(AND($C14=\"MEP\",AA$6=$F14,$G14=1),2,IF(AND(AA$6=$F14,$G14=1),0,\"\")))),\"\")","v":""},{"$f":"IFERROR(IF(LEN(Etapes[[#This Row],[Planned]])=0,\"\",IF(AND($C14=\"MER\",AB$6=$F14,$G14=1),1,IF(AND($C14=\"MEP\",AB$6=$F14,$G14=1),2,IF(AND(AB$6=$F14,$G14=1),0,\"\")))),\"\")","v":""},{"$f":"IFERROR(IF(LEN(Etapes[[#This Row],[Planned]])=0,\"\",IF(AND($C14=\"MER\",AC$6=$F14,$G14=1),1,IF(AND($C14=\"MEP\",AC$6=$F14,$G14=1),2,IF(AND(AC$6=$F14,$G14=1),0,\"\")))),\"\")","v":""},{"$f":"IFERROR(IF(LEN(Etapes[[#This Row],[Planned]])=0,\"\",IF(AND($C14=\"MER\",AD$6=$F14,$G14=1),1,IF(AND($C14=\"MEP\",AD$6=$F14,$G14=1),2,IF(AND(AD$6=$F14,$G14=1),0,\"\")))),\"\")","v":""},{"$f":"IFERROR(IF(LEN(Etapes[[#This Row],[Planned]])=0,\"\",IF(AND($C14=\"MER\",AE$6=$F14,$G14=1),1,IF(AND($C14=\"MEP\",AE$6=$F14,$G14=1),2,IF(AND(AE$6=$F14,$G14=1),0,\"\")))),\"\")","v":""},{"$f":"IFERROR(IF(LEN(Etapes[[#This Row],[Planned]])=0,\"\",IF(AND($C14=\"MER\",AF$6=$F14,$G14=1),1,IF(AND($C14=\"MEP\",AF$6=$F14,$G14=1),2,IF(AND(AF$6=$F14,$G14=1),0,\"\")))),\"\")","v":""},{"$f":"IFERROR(IF(LEN(Etapes[[#This Row],[Planned]])=0,\"\",IF(AND($C14=\"MER\",AG$6=$F14,$G14=1),1,IF(AND($C14=\"MEP\",AG$6=$F14,$G14=1),2,IF(AND(AG$6=$F14,$G14=1),0,\"\")))),\"\")","v":""},{"$f":"IFERROR(IF(LEN(Etapes[[#This Row],[Planned]])=0,\"\",IF(AND($C14=\"MER\",AH$6=$F14,$G14=1),1,IF(AND($C14=\"MEP\",AH$6=$F14,$G14=1),2,IF(AND(AH$6=$F14,$G14=1),0,\"\")))),\"\")","v":""},{"$f":"IFERROR(IF(LEN(Etapes[[#This Row],[Planned]])=0,\"\",IF(AND($C14=\"MER\",AI$6=$F14,$G14=1),1,IF(AND($C14=\"MEP\",AI$6=$F14,$G14=1),2,IF(AND(AI$6=$F14,$G14=1),0,\"\")))),\"\")","v":""},{"$f":"IFERROR(IF(LEN(Etapes[[#This Row],[Planned]])=0,\"\",IF(AND($C14=\"MER\",AJ$6=$F14,$G14=1),1,IF(AND($C14=\"MEP\",AJ$6=$F14,$G14=1),2,IF(AND(AJ$6=$F14,$G14=1),0,\"\")))),\"\")","v":""},{"$f":"IFERROR(IF(LEN(Etapes[[#This Row],[Planned]])=0,\"\",IF(AND($C14=\"MER\",AK$6=$F14,$G14=1),1,IF(AND($C14=\"MEP\",AK$6=$F14,$G14=1),2,IF(AND(AK$6=$F14,$G14=1),0,\"\")))),\"\")","v":""},{"$f":"IFERROR(IF(LEN(Etapes[[#This Row],[Planned]])=0,\"\",IF(AND($C14=\"MER\",AL$6=$F14,$G14=1),1,IF(AND($C14=\"MEP\",AL$6=$F14,$G14=1),2,IF(AND(AL$6=$F14,$G14=1),0,\"\")))),\"\")","v":""},{"$f":"IFERROR(IF(LEN(Etapes[[#This Row],[Planned]])=0,\"\",IF(AND($C14=\"MER\",AM$6=$F14,$G14=1),1,IF(AND($C14=\"MEP\",AM$6=$F14,$G14=1),2,IF(AND(AM$6=$F14,$G14=1),0,\"\")))),\"\")","v":""},{"$f":"IFERROR(IF(LEN(Etapes[[#This Row],[Planned]])=0,\"\",IF(AND($C14=\"MER\",AN$6=$F14,$G14=1),1,IF(AND($C14=\"MEP\",AN$6=$F14,$G14=1),2,IF(AND(AN$6=$F14,$G14=1),0,\"\")))),\"\")","v":""},{"$f":"IFERROR(IF(LEN(Etapes[[#This Row],[Planned]])=0,\"\",IF(AND($C14=\"MER\",AO$6=$F14,$G14=1),1,IF(AND($C14=\"MEP\",AO$6=$F14,$G14=1),2,IF(AND(AO$6=$F14,$G14=1),0,\"\")))),\"\")","v":""},{"$f":"IFERROR(IF(LEN(Etapes[[#This Row],[Planned]])=0,\"\",IF(AND($C14=\"MER\",AP$6=$F14,$G14=1),1,IF(AND($C14=\"MEP\",AP$6=$F14,$G14=1),2,IF(AND(AP$6=$F14,$G14=1),0,\"\")))),\"\")","v":""},{"$f":"IFERROR(IF(LEN(Etapes[[#This Row],[Planned]])=0,\"\",IF(AND($C14=\"MER\",AQ$6=$F14,$G14=1),1,IF(AND($C14=\"MEP\",AQ$6=$F14,$G14=1),2,IF(AND(AQ$6=$F14,$G14=1),0,\"\")))),\"\")","v":""},{"$f":"IFERROR(IF(LEN(Etapes[[#This Row],[Planned]])=0,\"\",IF(AND($C14=\"MER\",AR$6=$F14,$G14=1),1,IF(AND($C14=\"MEP\",AR$6=$F14,$G14=1),2,IF(AND(AR$6=$F14,$G14=1),0,\"\")))),\"\")","v":""},{"$f":"IFERROR(IF(LEN(Etapes[[#This Row],[Planned]])=0,\"\",IF(AND($C14=\"MER\",AS$6=$F14,$G14=1),1,IF(AND($C14=\"MEP\",AS$6=$F14,$G14=1),2,IF(AND(AS$6=$F14,$G14=1),0,\"\")))),\"\")","v":""},{"$f":"IFERROR(IF(LEN(Etapes[[#This Row],[Planned]])=0,\"\",IF(AND($C14=\"MER\",AT$6=$F14,$G14=1),1,IF(AND($C14=\"MEP\",AT$6=$F14,$G14=1),2,IF(AND(AT$6=$F14,$G14=1),0,\"\")))),\"\")","v":""},{"$f":"IFERROR(IF(LEN(Etapes[[#This Row],[Planned]])=0,\"\",IF(AND($C14=\"MER\",AU$6=$F14,$G14=1),1,IF(AND($C14=\"MEP\",AU$6=$F14,$G14=1),2,IF(AND(AU$6=$F14,$G14=1),0,\"\")))),\"\")","v":""},{"$f":"IFERROR(IF(LEN(Etapes[[#This Row],[Planned]])=0,\"\",IF(AND($C14=\"MER\",AV$6=$F14,$G14=1),1,IF(AND($C14=\"MEP\",AV$6=$F14,$G14=1),2,IF(AND(AV$6=$F14,$G14=1),0,\"\")))),\"\")","v":""},{"$f":"IFERROR(IF(LEN(Etapes[[#This Row],[Planned]])=0,\"\",IF(AND($C14=\"MER\",AW$6=$F14,$G14=1),1,IF(AND($C14=\"MEP\",AW$6=$F14,$G14=1),2,IF(AND(AW$6=$F14,$G14=1),0,\"\")))),\"\")","v":""},{"$f":"IFERROR(IF(LEN(Etapes[[#This Row],[Planned]])=0,\"\",IF(AND($C14=\"MER\",AX$6=$F14,$G14=1),1,IF(AND($C14=\"MEP\",AX$6=$F14,$G14=1),2,IF(AND(AX$6=$F14,$G14=1),0,\"\")))),\"\")","v":""},{"$f":"IFERROR(IF(LEN(Etapes[[#This Row],[Planned]])=0,\"\",IF(AND($C14=\"MER\",AY$6=$F14,$G14=1),1,IF(AND($C14=\"MEP\",AY$6=$F14,$G14=1),2,IF(AND(AY$6=$F14,$G14=1),0,\"\")))),\"\")","v":""},{"$f":"IFERROR(IF(LEN(Etapes[[#This Row],[Planned]])=0,\"\",IF(AND($C14=\"MER\",AZ$6=$F14,$G14=1),1,IF(AND($C14=\"MEP\",AZ$6=$F14,$G14=1),2,IF(AND(AZ$6=$F14,$G14=1),0,\"\")))),\"\")","v":""},{"$f":"IFERROR(IF(LEN(Etapes[[#This Row],[Planned]])=0,\"\",IF(AND($C14=\"MER\",BA$6=$F14,$G14=1),1,IF(AND($C14=\"MEP\",BA$6=$F14,$G14=1),2,IF(AND(BA$6=$F14,$G14=1),0,\"\")))),\"\")","v":""},{"$f":"IFERROR(IF(LEN(Etapes[[#This Row],[Planned]])=0,\"\",IF(AND($C14=\"MER\",BB$6=$F14,$G14=1),1,IF(AND($C14=\"MEP\",BB$6=$F14,$G14=1),2,IF(AND(BB$6=$F14,$G14=1),0,\"\")))),\"\")","v":""},{"$f":"IFERROR(IF(LEN(Etapes[[#This Row],[Planned]])=0,\"\",IF(AND($C14=\"MER\",BC$6=$F14,$G14=1),1,IF(AND($C14=\"MEP\",BC$6=$F14,$G14=1),2,IF(AND(BC$6=$F14,$G14=1),0,\"\")))),\"\")","v":""},{"$f":"IFERROR(IF(LEN(Etapes[[#This Row],[Planned]])=0,\"\",IF(AND($C14=\"MER\",BD$6=$F14,$G14=1),1,IF(AND($C14=\"MEP\",BD$6=$F14,$G14=1),2,IF(AND(BD$6=$F14,$G14=1),0,\"\")))),\"\")","v":""},{"$f":"IFERROR(IF(LEN(Etapes[[#This Row],[Planned]])=0,\"\",IF(AND($C14=\"MER\",BE$6=$F14,$G14=1),1,IF(AND($C14=\"MEP\",BE$6=$F14,$G14=1),2,IF(AND(BE$6=$F14,$G14=1),0,\"\")))),\"\")","v":""},{"$f":"IFERROR(IF(LEN(Etapes[[#This Row],[Planned]])=0,\"\",IF(AND($C14=\"MER\",BF$6=$F14,$G14=1),1,IF(AND($C14=\"MEP\",BF$6=$F14,$G14=1),2,IF(AND(BF$6=$F14,$G14=1),0,\"\")))),\"\")","v":""},{"$f":"IFERROR(IF(LEN(Etapes[[#This Row],[Planned]])=0,\"\",IF(AND($C14=\"MER\",BG$6=$F14,$G14=1),1,IF(AND($C14=\"MEP\",BG$6=$F14,$G14=1),2,IF(AND(BG$6=$F14,$G14=1),0,\"\")))),\"\")","v":""},{"$f":"IFERROR(IF(LEN(Etapes[[#This Row],[Planned]])=0,\"\",IF(AND($C14=\"MER\",BH$6=$F14,$G14=1),1,IF(AND($C14=\"MEP\",BH$6=$F14,$G14=1),2,IF(AND(BH$6=$F14,$G14=1),0,\"\")))),\"\")","v":""},{"$f":"IFERROR(IF(LEN(Etapes[[#This Row],[Planned]])=0,\"\",IF(AND($C14=\"MER\",BI$6=$F14,$G14=1),1,IF(AND($C14=\"MEP\",BI$6=$F14,$G14=1),2,IF(AND(BI$6=$F14,$G14=1),0,\"\")))),\"\")","v":""},{"$f":"IFERROR(IF(LEN(Etapes[[#This Row],[Planned]])=0,\"\",IF(AND($C14=\"MER\",BJ$6=$F14,$G14=1),1,IF(AND($C14=\"MEP\",BJ$6=$F14,$G14=1),2,IF(AND(BJ$6=$F14,$G14=1),0,\"\")))),\"\")","v":""},{"$f":"IFERROR(IF(LEN(Etapes[[#This Row],[Planned]])=0,\"\",IF(AND($C14=\"MER\",BK$6=$F14,$G14=1),1,IF(AND($C14=\"MEP\",BK$6=$F14,$G14=1),2,IF(AND(BK$6=$F14,$G14=1),0,\"\")))),\"\")","v":""},{"$f":"IFERROR(IF(LEN(Etapes[[#This Row],[Planned]])=0,\"\",IF(AND($C14=\"MER\",BL$6=$F14,$G14=1),1,IF(AND($C14=\"MEP\",BL$6=$F14,$G14=1),2,IF(AND(BL$6=$F14,$G14=1),0,\"\")))),\"\")","v":""},{"$f":"IFERROR(IF(LEN(Etapes[[#This Row],[Planned]])=0,\"\",IF(AND($C14=\"MER\",BM$6=$F14,$G14=1),1,IF(AND($C14=\"MEP\",BM$6=$F14,$G14=1),2,IF(AND(BM$6=$F14,$G14=1),0,\"\")))),\"\")","v":""},{"$f":"IFERROR(IF(LEN(Etapes[[#This Row],[Planned]])=0,\"\",IF(AND($C14=\"MER\",BN$6=$F14,$G14=1),1,IF(AND($C14=\"MEP\",BN$6=$F14,$G14=1),2,IF(AND(BN$6=$F14,$G14=1),0,\"\")))),\"\")","v":""},{"$f":"IFERROR(IF(LEN(Etapes[[#This Row],[Planned]])=0,\"\",IF(AND($C14=\"MER\",BO$6=$F14,$G14=1),1,IF(AND($C14=\"MEP\",BO$6=$F14,$G14=1),2,IF(AND(BO$6=$F14,$G14=1),0,\"\")))),\"\")","v":""},{"$f":"IFERROR(IF(LEN(Etapes[[#This Row],[Add]])=0,\"\",IF(AND($C14=\"MER\",BP$6=$F14,$G14=1),1,IF(AND($C14=\"MEP\",BP$6=$F14,$G14=1),2,IF(AND(BP$6=$F14,$G14=1),0,\"\")))),\"\")","v":""},{"$f":"IFERROR(IF(LEN(Etapes[[#This Row],[End]])=0,\"\",IF(AND($C14=\"MER\",BQ$6=$F14,$G14=1),1,IF(AND($C14=\"MEP\",BQ$6=$F14,$G14=1),2,IF(AND(BQ$6=$F14,$G14=1),0,\"\")))),\"\")","v":""},{"$f":"IFERROR(IF(LEN(Etapes[[#This Row],[Réalisé]])=0,\"\",IF(AND($C14=\"MER\",BR$6=$F14,$G14=1),1,IF(AND($C14=\"MEP\",BR$6=$F14,$G14=1),2,IF(AND(BR$6=$F14,$G14=1),0,\"\")))),\"\")","v":""},{"$f":"IFERROR(IF(LEN(Etapes[[#This Row],[Activité]])=0,\"\",IF(AND($C14=\"MER\",BS$6=$F14,$G14=1),1,IF(AND($C14=\"MEP\",BS$6=$F14,$G14=1),2,IF(AND(BS$6=$F14,$G14=1),0,\"\")))),\"\")","v":""},{"$f":"IFERROR(IF(LEN(Etapes[[#This Row],[Statut]])=0,\"\",IF(AND($C14=\"MER\",BT$6=$F14,$G14=1),1,IF(AND($C14=\"MEP\",BT$6=$F14,$G14=1),2,IF(AND(BT$6=$F14,$G14=1),0,\"\")))),\"\")","v":""},{"$f":"IFERROR(IF(LEN(Etapes[[#This Row],[Progress]])=0,\"\",IF(AND($C14=\"MER\",BU$6=$F14,$G14=1),1,IF(AND($C14=\"MEP\",BU$6=$F14,$G14=1),2,IF(AND(BU$6=$F14,$G14=1),0,\"\")))),\"\")","v":""},{"$f":"IFERROR(IF(LEN(Etapes[[#This Row],[Start]])=0,\"\",IF(AND($C14=\"MER\",BV$6=$F14,$G14=1),1,IF(AND($C14=\"MEP\",BV$6=$F14,$G14=1),2,IF(AND(BV$6=$F14,$G14=1),0,\"\")))),\"\")","v":""},{"$f":"IFERROR(IF(LEN(Etapes[[#This Row],[Planned]])=0,\"\",IF(AND($C14=\"MER\",BW$6=$F14,$G14=1),1,IF(AND($C14=\"MEP\",BW$6=$F14,$G14=1),2,IF(AND(BW$6=$F14,$G14=1),0,\"\")))),\"\")","v":""},{"$f":"IFERROR(IF(LEN(Etapes[[#This Row],[Add]])=0,\"\",IF(AND($C14=\"MER\",BX$6=$F14,$G14=1),1,IF(AND($C14=\"MEP\",BX$6=$F14,$G14=1),2,IF(AND(BX$6=$F14,$G14=1),0,\"\")))),\"\")","v":""},{"$f":"IFERROR(IF(LEN(Etapes[[#This Row],[End]])=0,\"\",IF(AND($C14=\"MER\",BY$6=$F14,$G14=1),1,IF(AND($C14=\"MEP\",BY$6=$F14,$G14=1),2,IF(AND(BY$6=$F14,$G14=1),0,\"\")))),\"\")","v":""},{"$f":"IFERROR(IF(LEN(Etapes[[#This Row],[Réalisé]])=0,\"\",IF(AND($C14=\"MER\",BZ$6=$F14,$G14=1),1,IF(AND($C14=\"MEP\",BZ$6=$F14,$G14=1),2,IF(AND(BZ$6=$F14,$G14=1),0,\"\")))),\"\")","v":""},{"$f":"IFERROR(IF(LEN(Etapes[[#This Row],[Activité]])=0,\"\",IF(AND($C14=\"MER\",CA$6=$F14,$G14=1),1,IF(AND($C14=\"MEP\",CA$6=$F14,$G14=1),2,IF(AND(CA$6=$F14,$G14=1),0,\"\")))),\"\")","v":""},{"$f":"IFERROR(IF(LEN(Etapes[[#This Row],[Statut]])=0,\"\",IF(AND($C14=\"MER\",CB$6=$F14,$G14=1),1,IF(AND($C14=\"MEP\",CB$6=$F14,$G14=1),2,IF(AND(CB$6=$F14,$G14=1),0,\"\")))),\"\")","v":""},{"$f":"IFERROR(IF(LEN(Etapes[[#This Row],[Progress]])=0,\"\",IF(AND($C14=\"MER\",CC$6=$F14,$G14=1),1,IF(AND($C14=\"MEP\",CC$6=$F14,$G14=1),2,IF(AND(CC$6=$F14,$G14=1),0,\"\")))),\"\")","v":""},{"$f":"IFERROR(IF(LEN(Etapes[[#This Row],[Start]])=0,\"\",IF(AND($C14=\"MER\",CD$6=$F14,$G14=1),1,IF(AND($C14=\"MEP\",CD$6=$F14,$G14=1),2,IF(AND(CD$6=$F14,$G14=1),0,\"\")))),\"\")","v":""},{"$f":"IFERROR(IF(LEN(Etapes[[#This Row],[Planned]])=0,\"\",IF(AND($C14=\"MER\",CE$6=$F14,$G14=1),1,IF(AND($C14=\"MEP\",CE$6=$F14,$G14=1),2,IF(AND(CE$6=$F14,$G14=1),0,\"\")))),\"\")","v":""},{"$f":"IFERROR(IF(LEN(Etapes[[#This Row],[Add]])=0,\"\",IF(AND($C14=\"MER\",CF$6=$F14,$G14=1),1,IF(AND($C14=\"MEP\",CF$6=$F14,$G14=1),2,IF(AND(CF$6=$F14,$G14=1),0,\"\")))),\"\")","v":""},{"$f":"IFERROR(IF(LEN(Etapes[[#This Row],[End]])=0,\"\",IF(AND($C14=\"MER\",CG$6=$F14,$G14=1),1,IF(AND($C14=\"MEP\",CG$6=$F14,$G14=1),2,IF(AND(CG$6=$F14,$G14=1),0,\"\")))),\"\")","v":""},{"$f":"IFERROR(IF(LEN(Etapes[[#This Row],[Réalisé]])=0,\"\",IF(AND($C14=\"MER\",CH$6=$F14,$G14=1),1,IF(AND($C14=\"MEP\",CH$6=$F14,$G14=1),2,IF(AND(CH$6=$F14,$G14=1),0,\"\")))),\"\")","v":""},{"$f":"IFERROR(IF(LEN(Etapes[[#This Row],[Activité]])=0,\"\",IF(AND($C14=\"MER\",CI$6=$F14,$G14=1),1,IF(AND($C14=\"MEP\",CI$6=$F14,$G14=1),2,IF(AND(CI$6=$F14,$G14=1),0,\"\")))),\"\")","v":""},{"$f":"IFERROR(IF(LEN(Etapes[[#This Row],[Statut]])=0,\"\",IF(AND($C14=\"MER\",CJ$6=$F14,$G14=1),1,IF(AND($C14=\"MEP\",CJ$6=$F14,$G14=1),2,IF(AND(CJ$6=$F14,$G14=1),0,\"\")))),\"\")","v":""},{"$f":"IFERROR(IF(LEN(Etapes[[#This Row],[Progress]])=0,\"\",IF(AND($C14=\"MER\",CK$6=$F14,$G14=1),1,IF(AND($C14=\"MEP\",CK$6=$F14,$G14=1),2,IF(AND(CK$6=$F14,$G14=1),0,\"\")))),\"\")","v":""},{"$f":"IFERROR(IF(LEN(Etapes[[#This Row],[Start]])=0,\"\",IF(AND($C14=\"MER\",CL$6=$F14,$G14=1),1,IF(AND($C14=\"MEP\",CL$6=$F14,$G14=1),2,IF(AND(CL$6=$F14,$G14=1),0,\"\")))),\"\")","v":""},{"$f":"IFERROR(IF(LEN(Etapes[[#This Row],[Planned]])=0,\"\",IF(AND($C14=\"MER\",CM$6=$F14,$G14=1),1,IF(AND($C14=\"MEP\",CM$6=$F14,$G14=1),2,IF(AND(CM$6=$F14,$G14=1),0,\"\")))),\"\")","v":""},{"$f":"IFERROR(IF(LEN(Etapes[[#This Row],[Add]])=0,\"\",IF(AND($C14=\"MER\",CN$6=$F14,$G14=1),1,IF(AND($C14=\"MEP\",CN$6=$F14,$G14=1),2,IF(AND(CN$6=$F14,$G14=1),0,\"\")))),\"\")","v":""},{"$f":"IFERROR(IF(LEN(Etapes[[#This Row],[End]])=0,\"\",IF(AND($C14=\"MER\",CO$6=$F14,$G14=1),1,IF(AND($C14=\"MEP\",CO$6=$F14,$G14=1),2,IF(AND(CO$6=$F14,$G14=1),0,\"\")))),\"\")","v":""},{"$f":"IFERROR(IF(LEN(Etapes[[#This Row],[Réalisé]])=0,\"\",IF(AND($C14=\"MER\",CP$6=$F14,$G14=1),1,IF(AND($C14=\"MEP\",CP$6=$F14,$G14=1),2,IF(AND(CP$6=$F14,$G14=1),0,\"\")))),\"\")","v":""},{"$f":"IFERROR(IF(LEN(Etapes[[#This Row],[Activité]])=0,\"\",IF(AND($C14=\"MER\",CQ$6=$F14,$G14=1),1,IF(AND($C14=\"MEP\",CQ$6=$F14,$G14=1),2,IF(AND(CQ$6=$F14,$G14=1),0,\"\")))),\"\")","v":""},{"$f":"IFERROR(IF(LEN(Etapes[[#This Row],[Statut]])=0,\"\",IF(AND($C14=\"MER\",CR$6=$F14,$G14=1),1,IF(AND($C14=\"MEP\",CR$6=$F14,$G14=1),2,IF(AND(CR$6=$F14,$G14=1),0,\"\")))),\"\")","v":""},{"$f":"IFERROR(IF(LEN(Etapes[[#This Row],[Progress]])=0,\"\",IF(AND($C14=\"MER\",CS$6=$F14,$G14=1),1,IF(AND($C14=\"MEP\",CS$6=$F14,$G14=1),2,IF(AND(CS$6=$F14,$G14=1),0,\"\")))),\"\")","v":""},{"$f":"IFERROR(IF(LEN(Etapes[[#This Row],[Start]])=0,\"\",IF(AND($C14=\"MER\",CT$6=$F14,$G14=1),1,IF(AND($C14=\"MEP\",CT$6=$F14,$G14=1),2,IF(AND(CT$6=$F14,$G14=1),0,\"\")))),\"\")","v":""},{"$f":"IFERROR(IF(LEN(Etapes[[#This Row],[Planned]])=0,\"\",IF(AND($C14=\"MER\",CU$6=$F14,$G14=1),1,IF(AND($C14=\"MEP\",CU$6=$F14,$G14=1),2,IF(AND(CU$6=$F14,$G14=1),0,\"\")))),\"\")","v":""},{"$f":"IFERROR(IF(LEN(Etapes[[#This Row],[Add]])=0,\"\",IF(AND($C14=\"MER\",CV$6=$F14,$G14=1),1,IF(AND($C14=\"MEP\",CV$6=$F14,$G14=1),2,IF(AND(CV$6=$F14,$G14=1),0,\"\")))),\"\")","v":""},{"$f":"IFERROR(IF(LEN(Etapes[[#This Row],[End]])=0,\"\",IF(AND($C14=\"MER\",CW$6=$F14,$G14=1),1,IF(AND($C14=\"MEP\",CW$6=$F14,$G14=1),2,IF(AND(CW$6=$F14,$G14=1),0,\"\")))),\"\")","v":""}]
[2,{"$f":"RàF!A8","v":"E1.3.2"},"Launched",null,null,"2022-08-03",null,null,{"$f":"IF(Etapes[[#This Row],[Start]]<>\"\",WORKDAY(Etapes[[#This Row],[Start]],IF(WEEKDAY(Etapes[[#This Row],[Start]],1)>=6,Etapes[[#This Row],[Planned]]+Etapes[[#This Row],[Add]],Etapes[[#This Row],[Planned]]+Etapes[[#This Row],[Add]]-1),Férié),\"\")","v":"2022-08-02"},{"$f":"IF(Etapes[[#This Row],[Start]]<>\"\",WORKDAY(Etapes[[#This Row],[Start]],IF(WEEKDAY(Etapes[[#This Row],[Start]],1)>=6,Etapes[[#This Row],[Progress]]*Etapes[[#This Row],[Planned]]+Etapes[[#This Row],[Add]],(Etapes[[#This Row],[Progress]]*Etapes[[#This Row],[Planned]]+Etapes[[#This Row],[Add]])-1),Férié),\"\")","v":"2022-08-02"},null,{"$f":"IFERROR(IF(LEN(Etapes[[#This Row],[Planned]])=0,\"\",IF(AND($C15=\"MER\",L$6=$F15,$G15=1),1,IF(AND($C15=\"MEP\",L$6=$F15,$G15=1),2,IF(AND(L$6=$F15,$G15=1),0,\"\")))),\"\")","v":""},{"$f":"IFERROR(IF(LEN(Etapes[[#This Row],[Planned]])=0,\"\",IF(AND($C15=\"MER\",M$6=$F15,$G15=1),1,IF(AND($C15=\"MEP\",M$6=$F15,$G15=1),2,IF(AND(M$6=$F15,$G15=1),0,\"\")))),\"\")","v":""},{"$f":"IFERROR(IF(LEN(Etapes[[#This Row],[Planned]])=0,\"\",IF(AND($C15=\"MER\",N$6=$F15,$G15=1),1,IF(AND($C15=\"MEP\",N$6=$F15,$G15=1),2,IF(AND(N$6=$F15,$G15=1),0,\"\")))),\"\")","v":""},{"$f":"IFERROR(IF(LEN(Etapes[[#This Row],[Planned]])=0,\"\",IF(AND($C15=\"MER\",O$6=$F15,$G15=1),1,IF(AND($C15=\"MEP\",O$6=$F15,$G15=1),2,IF(AND(O$6=$F15,$G15=1),0,\"\")))),\"\")","v":""},{"$f":"IFERROR(IF(LEN(Etapes[[#This Row],[Planned]])=0,\"\",IF(AND($C15=\"MER\",P$6=$F15,$G15=1),1,IF(AND($C15=\"MEP\",P$6=$F15,$G15=1),2,IF(AND(P$6=$F15,$G15=1),0,\"\")))),\"\")","v":""},{"$f":"IFERROR(IF(LEN(Etapes[[#This Row],[Planned]])=0,\"\",IF(AND($C15=\"MER\",Q$6=$F15,$G15=1),1,IF(AND($C15=\"MEP\",Q$6=$F15,$G15=1),2,IF(AND(Q$6=$F15,$G15=1),0,\"\")))),\"\")","v":""},{"$f":"IFERROR(IF(LEN(Etapes[[#This Row],[Planned]])=0,\"\",IF(AND($C15=\"MER\",R$6=$F15,$G15=1),1,IF(AND($C15=\"MEP\",R$6=$F15,$G15=1),2,IF(AND(R$6=$F15,$G15=1),0,\"\")))),\"\")","v":""},{"$f":"IFERROR(IF(LEN(Etapes[[#This Row],[Planned]])=0,\"\",IF(AND($C15=\"MER\",S$6=$F15,$G15=1),1,IF(AND($C15=\"MEP\",S$6=$F15,$G15=1),2,IF(AND(S$6=$F15,$G15=1),0,\"\")))),\"\")","v":""},{"$f":"IFERROR(IF(LEN(Etapes[[#This Row],[Planned]])=0,\"\",IF(AND($C15=\"MER\",T$6=$F15,$G15=1),1,IF(AND($C15=\"MEP\",T$6=$F15,$G15=1),2,IF(AND(T$6=$F15,$G15=1),0,\"\")))),\"\")","v":""},{"$f":"IFERROR(IF(LEN(Etapes[[#This Row],[Planned]])=0,\"\",IF(AND($C15=\"MER\",U$6=$F15,$G15=1),1,IF(AND($C15=\"MEP\",U$6=$F15,$G15=1),2,IF(AND(U$6=$F15,$G15=1),0,\"\")))),\"\")","v":""},{"$f":"IFERROR(IF(LEN(Etapes[[#This Row],[Planned]])=0,\"\",IF(AND($C15=\"MER\",V$6=$F15,$G15=1),1,IF(AND($C15=\"MEP\",V$6=$F15,$G15=1),2,IF(AND(V$6=$F15,$G15=1),0,\"\")))),\"\")","v":""},{"$f":"IFERROR(IF(LEN(Etapes[[#This Row],[Planned]])=0,\"\",IF(AND($C15=\"MER\",W$6=$F15,$G15=1),1,IF(AND($C15=\"MEP\",W$6=$F15,$G15=1),2,IF(AND(W$6=$F15,$G15=1),0,\"\")))),\"\")","v":""},{"$f":"IFERROR(IF(LEN(Etapes[[#This Row],[Planned]])=0,\"\",IF(AND($C15=\"MER\",X$6=$F15,$G15=1),1,IF(AND($C15=\"MEP\",X$6=$F15,$G15=1),2,IF(AND(X$6=$F15,$G15=1),0,\"\")))),\"\")","v":""},{"$f":"IFERROR(IF(LEN(Etapes[[#This Row],[Planned]])=0,\"\",IF(AND($C15=\"MER\",Y$6=$F15,$G15=1),1,IF(AND($C15=\"MEP\",Y$6=$F15,$G15=1),2,IF(AND(Y$6=$F15,$G15=1),0,\"\")))),\"\")","v":""},{"$f":"IFERROR(IF(LEN(Etapes[[#This Row],[Planned]])=0,\"\",IF(AND($C15=\"MER\",Z$6=$F15,$G15=1),1,IF(AND($C15=\"MEP\",Z$6=$F15,$G15=1),2,IF(AND(Z$6=$F15,$G15=1),0,\"\")))),\"\")","v":""},{"$f":"IFERROR(IF(LEN(Etapes[[#This Row],[Planned]])=0,\"\",IF(AND($C15=\"MER\",AA$6=$F15,$G15=1),1,IF(AND($C15=\"MEP\",AA$6=$F15,$G15=1),2,IF(AND(AA$6=$F15,$G15=1),0,\"\")))),\"\")","v":""},{"$f":"IFERROR(IF(LEN(Etapes[[#This Row],[Planned]])=0,\"\",IF(AND($C15=\"MER\",AB$6=$F15,$G15=1),1,IF(AND($C15=\"MEP\",AB$6=$F15,$G15=1),2,IF(AND(AB$6=$F15,$G15=1),0,\"\")))),\"\")","v":""},{"$f":"IFERROR(IF(LEN(Etapes[[#This Row],[Planned]])=0,\"\",IF(AND($C15=\"MER\",AC$6=$F15,$G15=1),1,IF(AND($C15=\"MEP\",AC$6=$F15,$G15=1),2,IF(AND(AC$6=$F15,$G15=1),0,\"\")))),\"\")","v":""},{"$f":"IFERROR(IF(LEN(Etapes[[#This Row],[Planned]])=0,\"\",IF(AND($C15=\"MER\",AD$6=$F15,$G15=1),1,IF(AND($C15=\"MEP\",AD$6=$F15,$G15=1),2,IF(AND(AD$6=$F15,$G15=1),0,\"\")))),\"\")","v":""},{"$f":"IFERROR(IF(LEN(Etapes[[#This Row],[Planned]])=0,\"\",IF(AND($C15=\"MER\",AE$6=$F15,$G15=1),1,IF(AND($C15=\"MEP\",AE$6=$F15,$G15=1),2,IF(AND(AE$6=$F15,$G15=1),0,\"\")))),\"\")","v":""},{"$f":"IFERROR(IF(LEN(Etapes[[#This Row],[Planned]])=0,\"\",IF(AND($C15=\"MER\",AF$6=$F15,$G15=1),1,IF(AND($C15=\"MEP\",AF$6=$F15,$G15=1),2,IF(AND(AF$6=$F15,$G15=1),0,\"\")))),\"\")","v":""},{"$f":"IFERROR(IF(LEN(Etapes[[#This Row],[Planned]])=0,\"\",IF(AND($C15=\"MER\",AG$6=$F15,$G15=1),1,IF(AND($C15=\"MEP\",AG$6=$F15,$G15=1),2,IF(AND(AG$6=$F15,$G15=1),0,\"\")))),\"\")","v":""},{"$f":"IFERROR(IF(LEN(Etapes[[#This Row],[Planned]])=0,\"\",IF(AND($C15=\"MER\",AH$6=$F15,$G15=1),1,IF(AND($C15=\"MEP\",AH$6=$F15,$G15=1),2,IF(AND(AH$6=$F15,$G15=1),0,\"\")))),\"\")","v":""},{"$f":"IFERROR(IF(LEN(Etapes[[#This Row],[Planned]])=0,\"\",IF(AND($C15=\"MER\",AI$6=$F15,$G15=1),1,IF(AND($C15=\"MEP\",AI$6=$F15,$G15=1),2,IF(AND(AI$6=$F15,$G15=1),0,\"\")))),\"\")","v":""},{"$f":"IFERROR(IF(LEN(Etapes[[#This Row],[Planned]])=0,\"\",IF(AND($C15=\"MER\",AJ$6=$F15,$G15=1),1,IF(AND($C15=\"MEP\",AJ$6=$F15,$G15=1),2,IF(AND(AJ$6=$F15,$G15=1),0,\"\")))),\"\")","v":""},{"$f":"IFERROR(IF(LEN(Etapes[[#This Row],[Planned]])=0,\"\",IF(AND($C15=\"MER\",AK$6=$F15,$G15=1),1,IF(AND($C15=\"MEP\",AK$6=$F15,$G15=1),2,IF(AND(AK$6=$F15,$G15=1),0,\"\")))),\"\")","v":""},{"$f":"IFERROR(IF(LEN(Etapes[[#This Row],[Planned]])=0,\"\",IF(AND($C15=\"MER\",AL$6=$F15,$G15=1),1,IF(AND($C15=\"MEP\",AL$6=$F15,$G15=1),2,IF(AND(AL$6=$F15,$G15=1),0,\"\")))),\"\")","v":""},{"$f":"IFERROR(IF(LEN(Etapes[[#This Row],[Planned]])=0,\"\",IF(AND($C15=\"MER\",AM$6=$F15,$G15=1),1,IF(AND($C15=\"MEP\",AM$6=$F15,$G15=1),2,IF(AND(AM$6=$F15,$G15=1),0,\"\")))),\"\")","v":""},{"$f":"IFERROR(IF(LEN(Etapes[[#This Row],[Planned]])=0,\"\",IF(AND($C15=\"MER\",AN$6=$F15,$G15=1),1,IF(AND($C15=\"MEP\",AN$6=$F15,$G15=1),2,IF(AND(AN$6=$F15,$G15=1),0,\"\")))),\"\")","v":""},{"$f":"IFERROR(IF(LEN(Etapes[[#This Row],[Planned]])=0,\"\",IF(AND($C15=\"MER\",AO$6=$F15,$G15=1),1,IF(AND($C15=\"MEP\",AO$6=$F15,$G15=1),2,IF(AND(AO$6=$F15,$G15=1),0,\"\")))),\"\")","v":""},{"$f":"IFERROR(IF(LEN(Etapes[[#This Row],[Planned]])=0,\"\",IF(AND($C15=\"MER\",AP$6=$F15,$G15=1),1,IF(AND($C15=\"MEP\",AP$6=$F15,$G15=1),2,IF(AND(AP$6=$F15,$G15=1),0,\"\")))),\"\")","v":""},{"$f":"IFERROR(IF(LEN(Etapes[[#This Row],[Planned]])=0,\"\",IF(AND($C15=\"MER\",AQ$6=$F15,$G15=1),1,IF(AND($C15=\"MEP\",AQ$6=$F15,$G15=1),2,IF(AND(AQ$6=$F15,$G15=1),0,\"\")))),\"\")","v":""},{"$f":"IFERROR(IF(LEN(Etapes[[#This Row],[Planned]])=0,\"\",IF(AND($C15=\"MER\",AR$6=$F15,$G15=1),1,IF(AND($C15=\"MEP\",AR$6=$F15,$G15=1),2,IF(AND(AR$6=$F15,$G15=1),0,\"\")))),\"\")","v":""},{"$f":"IFERROR(IF(LEN(Etapes[[#This Row],[Planned]])=0,\"\",IF(AND($C15=\"MER\",AS$6=$F15,$G15=1),1,IF(AND($C15=\"MEP\",AS$6=$F15,$G15=1),2,IF(AND(AS$6=$F15,$G15=1),0,\"\")))),\"\")","v":""},{"$f":"IFERROR(IF(LEN(Etapes[[#This Row],[Planned]])=0,\"\",IF(AND($C15=\"MER\",AT$6=$F15,$G15=1),1,IF(AND($C15=\"MEP\",AT$6=$F15,$G15=1),2,IF(AND(AT$6=$F15,$G15=1),0,\"\")))),\"\")","v":""},{"$f":"IFERROR(IF(LEN(Etapes[[#This Row],[Planned]])=0,\"\",IF(AND($C15=\"MER\",AU$6=$F15,$G15=1),1,IF(AND($C15=\"MEP\",AU$6=$F15,$G15=1),2,IF(AND(AU$6=$F15,$G15=1),0,\"\")))),\"\")","v":""},{"$f":"IFERROR(IF(LEN(Etapes[[#This Row],[Planned]])=0,\"\",IF(AND($C15=\"MER\",AV$6=$F15,$G15=1),1,IF(AND($C15=\"MEP\",AV$6=$F15,$G15=1),2,IF(AND(AV$6=$F15,$G15=1),0,\"\")))),\"\")","v":""},{"$f":"IFERROR(IF(LEN(Etapes[[#This Row],[Planned]])=0,\"\",IF(AND($C15=\"MER\",AW$6=$F15,$G15=1),1,IF(AND($C15=\"MEP\",AW$6=$F15,$G15=1),2,IF(AND(AW$6=$F15,$G15=1),0,\"\")))),\"\")","v":""},{"$f":"IFERROR(IF(LEN(Etapes[[#This Row],[Planned]])=0,\"\",IF(AND($C15=\"MER\",AX$6=$F15,$G15=1),1,IF(AND($C15=\"MEP\",AX$6=$F15,$G15=1),2,IF(AND(AX$6=$F15,$G15=1),0,\"\")))),\"\")","v":""},{"$f":"IFERROR(IF(LEN(Etapes[[#This Row],[Planned]])=0,\"\",IF(AND($C15=\"MER\",AY$6=$F15,$G15=1),1,IF(AND($C15=\"MEP\",AY$6=$F15,$G15=1),2,IF(AND(AY$6=$F15,$G15=1),0,\"\")))),\"\")","v":""},{"$f":"IFERROR(IF(LEN(Etapes[[#This Row],[Planned]])=0,\"\",IF(AND($C15=\"MER\",AZ$6=$F15,$G15=1),1,IF(AND($C15=\"MEP\",AZ$6=$F15,$G15=1),2,IF(AND(AZ$6=$F15,$G15=1),0,\"\")))),\"\")","v":""},{"$f":"IFERROR(IF(LEN(Etapes[[#This Row],[Planned]])=0,\"\",IF(AND($C15=\"MER\",BA$6=$F15,$G15=1),1,IF(AND($C15=\"MEP\",BA$6=$F15,$G15=1),2,IF(AND(BA$6=$F15,$G15=1),0,\"\")))),\"\")","v":""},{"$f":"IFERROR(IF(LEN(Etapes[[#This Row],[Planned]])=0,\"\",IF(AND($C15=\"MER\",BB$6=$F15,$G15=1),1,IF(AND($C15=\"MEP\",BB$6=$F15,$G15=1),2,IF(AND(BB$6=$F15,$G15=1),0,\"\")))),\"\")","v":""},{"$f":"IFERROR(IF(LEN(Etapes[[#This Row],[Planned]])=0,\"\",IF(AND($C15=\"MER\",BC$6=$F15,$G15=1),1,IF(AND($C15=\"MEP\",BC$6=$F15,$G15=1),2,IF(AND(BC$6=$F15,$G15=1),0,\"\")))),\"\")","v":""},{"$f":"IFERROR(IF(LEN(Etapes[[#This Row],[Planned]])=0,\"\",IF(AND($C15=\"MER\",BD$6=$F15,$G15=1),1,IF(AND($C15=\"MEP\",BD$6=$F15,$G15=1),2,IF(AND(BD$6=$F15,$G15=1),0,\"\")))),\"\")","v":""},{"$f":"IFERROR(IF(LEN(Etapes[[#This Row],[Planned]])=0,\"\",IF(AND($C15=\"MER\",BE$6=$F15,$G15=1),1,IF(AND($C15=\"MEP\",BE$6=$F15,$G15=1),2,IF(AND(BE$6=$F15,$G15=1),0,\"\")))),\"\")","v":""},{"$f":"IFERROR(IF(LEN(Etapes[[#This Row],[Planned]])=0,\"\",IF(AND($C15=\"MER\",BF$6=$F15,$G15=1),1,IF(AND($C15=\"MEP\",BF$6=$F15,$G15=1),2,IF(AND(BF$6=$F15,$G15=1),0,\"\")))),\"\")","v":""},{"$f":"IFERROR(IF(LEN(Etapes[[#This Row],[Planned]])=0,\"\",IF(AND($C15=\"MER\",BG$6=$F15,$G15=1),1,IF(AND($C15=\"MEP\",BG$6=$F15,$G15=1),2,IF(AND(BG$6=$F15,$G15=1),0,\"\")))),\"\")","v":""},{"$f":"IFERROR(IF(LEN(Etapes[[#This Row],[Planned]])=0,\"\",IF(AND($C15=\"MER\",BH$6=$F15,$G15=1),1,IF(AND($C15=\"MEP\",BH$6=$F15,$G15=1),2,IF(AND(BH$6=$F15,$G15=1),0,\"\")))),\"\")","v":""},{"$f":"IFERROR(IF(LEN(Etapes[[#This Row],[Planned]])=0,\"\",IF(AND($C15=\"MER\",BI$6=$F15,$G15=1),1,IF(AND($C15=\"MEP\",BI$6=$F15,$G15=1),2,IF(AND(BI$6=$F15,$G15=1),0,\"\")))),\"\")","v":""},{"$f":"IFERROR(IF(LEN(Etapes[[#This Row],[Planned]])=0,\"\",IF(AND($C15=\"MER\",BJ$6=$F15,$G15=1),1,IF(AND($C15=\"MEP\",BJ$6=$F15,$G15=1),2,IF(AND(BJ$6=$F15,$G15=1),0,\"\")))),\"\")","v":""},{"$f":"IFERROR(IF(LEN(Etapes[[#This Row],[Planned]])=0,\"\",IF(AND($C15=\"MER\",BK$6=$F15,$G15=1),1,IF(AND($C15=\"MEP\",BK$6=$F15,$G15=1),2,IF(AND(BK$6=$F15,$G15=1),0,\"\")))),\"\")","v":""},{"$f":"IFERROR(IF(LEN(Etapes[[#This Row],[Planned]])=0,\"\",IF(AND($C15=\"MER\",BL$6=$F15,$G15=1),1,IF(AND($C15=\"MEP\",BL$6=$F15,$G15=1),2,IF(AND(BL$6=$F15,$G15=1),0,\"\")))),\"\")","v":""},{"$f":"IFERROR(IF(LEN(Etapes[[#This Row],[Planned]])=0,\"\",IF(AND($C15=\"MER\",BM$6=$F15,$G15=1),1,IF(AND($C15=\"MEP\",BM$6=$F15,$G15=1),2,IF(AND(BM$6=$F15,$G15=1),0,\"\")))),\"\")","v":""},{"$f":"IFERROR(IF(LEN(Etapes[[#This Row],[Planned]])=0,\"\",IF(AND($C15=\"MER\",BN$6=$F15,$G15=1),1,IF(AND($C15=\"MEP\",BN$6=$F15,$G15=1),2,IF(AND(BN$6=$F15,$G15=1),0,\"\")))),\"\")","v":""},{"$f":"IFERROR(IF(LEN(Etapes[[#This Row],[Planned]])=0,\"\",IF(AND($C15=\"MER\",BO$6=$F15,$G15=1),1,IF(AND($C15=\"MEP\",BO$6=$F15,$G15=1),2,IF(AND(BO$6=$F15,$G15=1),0,\"\")))),\"\")","v":""},{"$f":"IFERROR(IF(LEN(Etapes[[#This Row],[Add]])=0,\"\",IF(AND($C15=\"MER\",BP$6=$F15,$G15=1),1,IF(AND($C15=\"MEP\",BP$6=$F15,$G15=1),2,IF(AND(BP$6=$F15,$G15=1),0,\"\")))),\"\")","v":""},{"$f":"IFERROR(IF(LEN(Etapes[[#This Row],[End]])=0,\"\",IF(AND($C15=\"MER\",BQ$6=$F15,$G15=1),1,IF(AND($C15=\"MEP\",BQ$6=$F15,$G15=1),2,IF(AND(BQ$6=$F15,$G15=1),0,\"\")))),\"\")","v":""},{"$f":"IFERROR(IF(LEN(Etapes[[#This Row],[Réalisé]])=0,\"\",IF(AND($C15=\"MER\",BR$6=$F15,$G15=1),1,IF(AND($C15=\"MEP\",BR$6=$F15,$G15=1),2,IF(AND(BR$6=$F15,$G15=1),0,\"\")))),\"\")","v":""},{"$f":"IFERROR(IF(LEN(Etapes[[#This Row],[Activité]])=0,\"\",IF(AND($C15=\"MER\",BS$6=$F15,$G15=1),1,IF(AND($C15=\"MEP\",BS$6=$F15,$G15=1),2,IF(AND(BS$6=$F15,$G15=1),0,\"\")))),\"\")","v":""},{"$f":"IFERROR(IF(LEN(Etapes[[#This Row],[Statut]])=0,\"\",IF(AND($C15=\"MER\",BT$6=$F15,$G15=1),1,IF(AND($C15=\"MEP\",BT$6=$F15,$G15=1),2,IF(AND(BT$6=$F15,$G15=1),0,\"\")))),\"\")","v":""},{"$f":"IFERROR(IF(LEN(Etapes[[#This Row],[Progress]])=0,\"\",IF(AND($C15=\"MER\",BU$6=$F15,$G15=1),1,IF(AND($C15=\"MEP\",BU$6=$F15,$G15=1),2,IF(AND(BU$6=$F15,$G15=1),0,\"\")))),\"\")","v":""},{"$f":"IFERROR(IF(LEN(Etapes[[#This Row],[Start]])=0,\"\",IF(AND($C15=\"MER\",BV$6=$F15,$G15=1),1,IF(AND($C15=\"MEP\",BV$6=$F15,$G15=1),2,IF(AND(BV$6=$F15,$G15=1),0,\"\")))),\"\")","v":""},{"$f":"IFERROR(IF(LEN(Etapes[[#This Row],[Planned]])=0,\"\",IF(AND($C15=\"MER\",BW$6=$F15,$G15=1),1,IF(AND($C15=\"MEP\",BW$6=$F15,$G15=1),2,IF(AND(BW$6=$F15,$G15=1),0,\"\")))),\"\")","v":""},{"$f":"IFERROR(IF(LEN(Etapes[[#This Row],[Add]])=0,\"\",IF(AND($C15=\"MER\",BX$6=$F15,$G15=1),1,IF(AND($C15=\"MEP\",BX$6=$F15,$G15=1),2,IF(AND(BX$6=$F15,$G15=1),0,\"\")))),\"\")","v":""},{"$f":"IFERROR(IF(LEN(Etapes[[#This Row],[End]])=0,\"\",IF(AND($C15=\"MER\",BY$6=$F15,$G15=1),1,IF(AND($C15=\"MEP\",BY$6=$F15,$G15=1),2,IF(AND(BY$6=$F15,$G15=1),0,\"\")))),\"\")","v":""},{"$f":"IFERROR(IF(LEN(Etapes[[#This Row],[Réalisé]])=0,\"\",IF(AND($C15=\"MER\",BZ$6=$F15,$G15=1),1,IF(AND($C15=\"MEP\",BZ$6=$F15,$G15=1),2,IF(AND(BZ$6=$F15,$G15=1),0,\"\")))),\"\")","v":""},{"$f":"IFERROR(IF(LEN(Etapes[[#This Row],[Activité]])=0,\"\",IF(AND($C15=\"MER\",CA$6=$F15,$G15=1),1,IF(AND($C15=\"MEP\",CA$6=$F15,$G15=1),2,IF(AND(CA$6=$F15,$G15=1),0,\"\")))),\"\")","v":""},{"$f":"IFERROR(IF(LEN(Etapes[[#This Row],[Statut]])=0,\"\",IF(AND($C15=\"MER\",CB$6=$F15,$G15=1),1,IF(AND($C15=\"MEP\",CB$6=$F15,$G15=1),2,IF(AND(CB$6=$F15,$G15=1),0,\"\")))),\"\")","v":""},{"$f":"IFERROR(IF(LEN(Etapes[[#This Row],[Progress]])=0,\"\",IF(AND($C15=\"MER\",CC$6=$F15,$G15=1),1,IF(AND($C15=\"MEP\",CC$6=$F15,$G15=1),2,IF(AND(CC$6=$F15,$G15=1),0,\"\")))),\"\")","v":""},{"$f":"IFERROR(IF(LEN(Etapes[[#This Row],[Start]])=0,\"\",IF(AND($C15=\"MER\",CD$6=$F15,$G15=1),1,IF(AND($C15=\"MEP\",CD$6=$F15,$G15=1),2,IF(AND(CD$6=$F15,$G15=1),0,\"\")))),\"\")","v":""},{"$f":"IFERROR(IF(LEN(Etapes[[#This Row],[Planned]])=0,\"\",IF(AND($C15=\"MER\",CE$6=$F15,$G15=1),1,IF(AND($C15=\"MEP\",CE$6=$F15,$G15=1),2,IF(AND(CE$6=$F15,$G15=1),0,\"\")))),\"\")","v":""},{"$f":"IFERROR(IF(LEN(Etapes[[#This Row],[Add]])=0,\"\",IF(AND($C15=\"MER\",CF$6=$F15,$G15=1),1,IF(AND($C15=\"MEP\",CF$6=$F15,$G15=1),2,IF(AND(CF$6=$F15,$G15=1),0,\"\")))),\"\")","v":""},{"$f":"IFERROR(IF(LEN(Etapes[[#This Row],[End]])=0,\"\",IF(AND($C15=\"MER\",CG$6=$F15,$G15=1),1,IF(AND($C15=\"MEP\",CG$6=$F15,$G15=1),2,IF(AND(CG$6=$F15,$G15=1),0,\"\")))),\"\")","v":""},{"$f":"IFERROR(IF(LEN(Etapes[[#This Row],[Réalisé]])=0,\"\",IF(AND($C15=\"MER\",CH$6=$F15,$G15=1),1,IF(AND($C15=\"MEP\",CH$6=$F15,$G15=1),2,IF(AND(CH$6=$F15,$G15=1),0,\"\")))),\"\")","v":""},{"$f":"IFERROR(IF(LEN(Etapes[[#This Row],[Activité]])=0,\"\",IF(AND($C15=\"MER\",CI$6=$F15,$G15=1),1,IF(AND($C15=\"MEP\",CI$6=$F15,$G15=1),2,IF(AND(CI$6=$F15,$G15=1),0,\"\")))),\"\")","v":""},{"$f":"IFERROR(IF(LEN(Etapes[[#This Row],[Statut]])=0,\"\",IF(AND($C15=\"MER\",CJ$6=$F15,$G15=1),1,IF(AND($C15=\"MEP\",CJ$6=$F15,$G15=1),2,IF(AND(CJ$6=$F15,$G15=1),0,\"\")))),\"\")","v":""},{"$f":"IFERROR(IF(LEN(Etapes[[#This Row],[Progress]])=0,\"\",IF(AND($C15=\"MER\",CK$6=$F15,$G15=1),1,IF(AND($C15=\"MEP\",CK$6=$F15,$G15=1),2,IF(AND(CK$6=$F15,$G15=1),0,\"\")))),\"\")","v":""},{"$f":"IFERROR(IF(LEN(Etapes[[#This Row],[Start]])=0,\"\",IF(AND($C15=\"MER\",CL$6=$F15,$G15=1),1,IF(AND($C15=\"MEP\",CL$6=$F15,$G15=1),2,IF(AND(CL$6=$F15,$G15=1),0,\"\")))),\"\")","v":""},{"$f":"IFERROR(IF(LEN(Etapes[[#This Row],[Planned]])=0,\"\",IF(AND($C15=\"MER\",CM$6=$F15,$G15=1),1,IF(AND($C15=\"MEP\",CM$6=$F15,$G15=1),2,IF(AND(CM$6=$F15,$G15=1),0,\"\")))),\"\")","v":""},{"$f":"IFERROR(IF(LEN(Etapes[[#This Row],[Add]])=0,\"\",IF(AND($C15=\"MER\",CN$6=$F15,$G15=1),1,IF(AND($C15=\"MEP\",CN$6=$F15,$G15=1),2,IF(AND(CN$6=$F15,$G15=1),0,\"\")))),\"\")","v":""},{"$f":"IFERROR(IF(LEN(Etapes[[#This Row],[End]])=0,\"\",IF(AND($C15=\"MER\",CO$6=$F15,$G15=1),1,IF(AND($C15=\"MEP\",CO$6=$F15,$G15=1),2,IF(AND(CO$6=$F15,$G15=1),0,\"\")))),\"\")","v":""},{"$f":"IFERROR(IF(LEN(Etapes[[#This Row],[Réalisé]])=0,\"\",IF(AND($C15=\"MER\",CP$6=$F15,$G15=1),1,IF(AND($C15=\"MEP\",CP$6=$F15,$G15=1),2,IF(AND(CP$6=$F15,$G15=1),0,\"\")))),\"\")","v":""},{"$f":"IFERROR(IF(LEN(Etapes[[#This Row],[Activité]])=0,\"\",IF(AND($C15=\"MER\",CQ$6=$F15,$G15=1),1,IF(AND($C15=\"MEP\",CQ$6=$F15,$G15=1),2,IF(AND(CQ$6=$F15,$G15=1),0,\"\")))),\"\")","v":""},{"$f":"IFERROR(IF(LEN(Etapes[[#This Row],[Statut]])=0,\"\",IF(AND($C15=\"MER\",CR$6=$F15,$G15=1),1,IF(AND($C15=\"MEP\",CR$6=$F15,$G15=1),2,IF(AND(CR$6=$F15,$G15=1),0,\"\")))),\"\")","v":""},{"$f":"IFERROR(IF(LEN(Etapes[[#This Row],[Progress]])=0,\"\",IF(AND($C15=\"MER\",CS$6=$F15,$G15=1),1,IF(AND($C15=\"MEP\",CS$6=$F15,$G15=1),2,IF(AND(CS$6=$F15,$G15=1),0,\"\")))),\"\")","v":""},{"$f":"IFERROR(IF(LEN(Etapes[[#This Row],[Start]])=0,\"\",IF(AND($C15=\"MER\",CT$6=$F15,$G15=1),1,IF(AND($C15=\"MEP\",CT$6=$F15,$G15=1),2,IF(AND(CT$6=$F15,$G15=1),0,\"\")))),\"\")","v":""},{"$f":"IFERROR(IF(LEN(Etapes[[#This Row],[Planned]])=0,\"\",IF(AND($C15=\"MER\",CU$6=$F15,$G15=1),1,IF(AND($C15=\"MEP\",CU$6=$F15,$G15=1),2,IF(AND(CU$6=$F15,$G15=1),0,\"\")))),\"\")","v":""},{"$f":"IFERROR(IF(LEN(Etapes[[#This Row],[Add]])=0,\"\",IF(AND($C15=\"MER\",CV$6=$F15,$G15=1),1,IF(AND($C15=\"MEP\",CV$6=$F15,$G15=1),2,IF(AND(CV$6=$F15,$G15=1),0,\"\")))),\"\")","v":""},{"$f":"IFERROR(IF(LEN(Etapes[[#This Row],[End]])=0,\"\",IF(AND($C15=\"MER\",CW$6=$F15,$G15=1),1,IF(AND($C15=\"MEP\",CW$6=$F15,$G15=1),2,IF(AND(CW$6=$F15,$G15=1),0,\"\")))),\"\")","v":""}]
["2.1","Instruction ","Launched",{"$f":"Settings!B45","v":"NAN"},0.5,"2022-08-03",null,3,{"$f":"IF(Etapes[[#This Row],[Start]]<>\"\",WORKDAY(Etapes[[#This Row],[Start]],IF(WEEKDAY(Etapes[[#This Row],[Start]],1)>=6,Etapes[[#This Row],[Planned]]+Etapes[[#This Row],[Add]],Etapes[[#This Row],[Planned]]+Etapes[[#This Row],[Add]]-1),Férié),\"\")","v":"2022-08-05"},{"$f":"IF(Etapes[[#This Row],[Start]]<>\"\",WORKDAY(Etapes[[#This Row],[Start]],IF(WEEKDAY(Etapes[[#This Row],[Start]],1)>=6,Etapes[[#This Row],[Progress]]*Etapes[[#This Row],[Planned]]+Etapes[[#This Row],[Add]],(Etapes[[#This Row],[Progress]]*Etapes[[#This Row],[Planned]]+Etapes[[#This Row],[Add]])-1),Férié),\"\")","v":"2022-08-05"},null,{"$f":"IFERROR(IF(LEN(Etapes[[#This Row],[Planned]])=0,\"\",IF(AND($C16=\"MER\",L$6=$F16,$G16=1),1,IF(AND($C16=\"MEP\",L$6=$F16,$G16=1),2,IF(AND(L$6=$F16,$G16=1),0,\"\")))),\"\")","v":""},{"$f":"IFERROR(IF(LEN(Etapes[[#This Row],[Planned]])=0,\"\",IF(AND($C16=\"MER\",M$6=$F16,$G16=1),1,IF(AND($C16=\"MEP\",M$6=$F16,$G16=1),2,IF(AND(M$6=$F16,$G16=1),0,\"\")))),\"\")","v":""},{"$f":"IFERROR(IF(LEN(Etapes[[#This Row],[Planned]])=0,\"\",IF(AND($C16=\"MER\",N$6=$F16,$G16=1),1,IF(AND($C16=\"MEP\",N$6=$F16,$G16=1),2,IF(AND(N$6=$F16,$G16=1),0,\"\")))),\"\")","v":""},{"$f":"IFERROR(IF(LEN(Etapes[[#This Row],[Planned]])=0,\"\",IF(AND($C16=\"MER\",O$6=$F16,$G16=1),1,IF(AND($C16=\"MEP\",O$6=$F16,$G16=1),2,IF(AND(O$6=$F16,$G16=1),0,\"\")))),\"\")","v":""},{"$f":"IFERROR(IF(LEN(Etapes[[#This Row],[Planned]])=0,\"\",IF(AND($C16=\"MER\",P$6=$F16,$G16=1),1,IF(AND($C16=\"MEP\",P$6=$F16,$G16=1),2,IF(AND(P$6=$F16,$G16=1),0,\"\")))),\"\")","v":""},{"$f":"IFERROR(IF(LEN(Etapes[[#This Row],[Planned]])=0,\"\",IF(AND($C16=\"MER\",Q$6=$F16,$G16=1),1,IF(AND($C16=\"MEP\",Q$6=$F16,$G16=1),2,IF(AND(Q$6=$F16,$G16=1),0,\"\")))),\"\")","v":""},{"$f":"IFERROR(IF(LEN(Etapes[[#This Row],[Planned]])=0,\"\",IF(AND($C16=\"MER\",R$6=$F16,$G16=1),1,IF(AND($C16=\"MEP\",R$6=$F16,$G16=1),2,IF(AND(R$6=$F16,$G16=1),0,\"\")))),\"\")","v":""},{"$f":"IFERROR(IF(LEN(Etapes[[#This Row],[Planned]])=0,\"\",IF(AND($C16=\"MER\",S$6=$F16,$G16=1),1,IF(AND($C16=\"MEP\",S$6=$F16,$G16=1),2,IF(AND(S$6=$F16,$G16=1),0,\"\")))),\"\")","v":""},{"$f":"IFERROR(IF(LEN(Etapes[[#This Row],[Planned]])=0,\"\",IF(AND($C16=\"MER\",T$6=$F16,$G16=1),1,IF(AND($C16=\"MEP\",T$6=$F16,$G16=1),2,IF(AND(T$6=$F16,$G16=1),0,\"\")))),\"\")","v":""},{"$f":"IFERROR(IF(LEN(Etapes[[#This Row],[Planned]])=0,\"\",IF(AND($C16=\"MER\",U$6=$F16,$G16=1),1,IF(AND($C16=\"MEP\",U$6=$F16,$G16=1),2,IF(AND(U$6=$F16,$G16=1),0,\"\")))),\"\")","v":""},{"$f":"IFERROR(IF(LEN(Etapes[[#This Row],[Planned]])=0,\"\",IF(AND($C16=\"MER\",V$6=$F16,$G16=1),1,IF(AND($C16=\"MEP\",V$6=$F16,$G16=1),2,IF(AND(V$6=$F16,$G16=1),0,\"\")))),\"\")","v":""},{"$f":"IFERROR(IF(LEN(Etapes[[#This Row],[Planned]])=0,\"\",IF(AND($C16=\"MER\",W$6=$F16,$G16=1),1,IF(AND($C16=\"MEP\",W$6=$F16,$G16=1),2,IF(AND(W$6=$F16,$G16=1),0,\"\")))),\"\")","v":""},{"$f":"IFERROR(IF(LEN(Etapes[[#This Row],[Planned]])=0,\"\",IF(AND($C16=\"MER\",X$6=$F16,$G16=1),1,IF(AND($C16=\"MEP\",X$6=$F16,$G16=1),2,IF(AND(X$6=$F16,$G16=1),0,\"\")))),\"\")","v":""},{"$f":"IFERROR(IF(LEN(Etapes[[#This Row],[Planned]])=0,\"\",IF(AND($C16=\"MER\",Y$6=$F16,$G16=1),1,IF(AND($C16=\"MEP\",Y$6=$F16,$G16=1),2,IF(AND(Y$6=$F16,$G16=1),0,\"\")))),\"\")","v":""},{"$f":"IFERROR(IF(LEN(Etapes[[#This Row],[Planned]])=0,\"\",IF(AND($C16=\"MER\",Z$6=$F16,$G16=1),1,IF(AND($C16=\"MEP\",Z$6=$F16,$G16=1),2,IF(AND(Z$6=$F16,$G16=1),0,\"\")))),\"\")","v":""},{"$f":"IFERROR(IF(LEN(Etapes[[#This Row],[Planned]])=0,\"\",IF(AND($C16=\"MER\",AA$6=$F16,$G16=1),1,IF(AND($C16=\"MEP\",AA$6=$F16,$G16=1),2,IF(AND(AA$6=$F16,$G16=1),0,\"\")))),\"\")","v":""},{"$f":"IFERROR(IF(LEN(Etapes[[#This Row],[Planned]])=0,\"\",IF(AND($C16=\"MER\",AB$6=$F16,$G16=1),1,IF(AND($C16=\"MEP\",AB$6=$F16,$G16=1),2,IF(AND(AB$6=$F16,$G16=1),0,\"\")))),\"\")","v":""},{"$f":"IFERROR(IF(LEN(Etapes[[#This Row],[Planned]])=0,\"\",IF(AND($C16=\"MER\",AC$6=$F16,$G16=1),1,IF(AND($C16=\"MEP\",AC$6=$F16,$G16=1),2,IF(AND(AC$6=$F16,$G16=1),0,\"\")))),\"\")","v":""},{"$f":"IFERROR(IF(LEN(Etapes[[#This Row],[Planned]])=0,\"\",IF(AND($C16=\"MER\",AD$6=$F16,$G16=1),1,IF(AND($C16=\"MEP\",AD$6=$F16,$G16=1),2,IF(AND(AD$6=$F16,$G16=1),0,\"\")))),\"\")","v":""},{"$f":"IFERROR(IF(LEN(Etapes[[#This Row],[Planned]])=0,\"\",IF(AND($C16=\"MER\",AE$6=$F16,$G16=1),1,IF(AND($C16=\"MEP\",AE$6=$F16,$G16=1),2,IF(AND(AE$6=$F16,$G16=1),0,\"\")))),\"\")","v":""},{"$f":"IFERROR(IF(LEN(Etapes[[#This Row],[Planned]])=0,\"\",IF(AND($C16=\"MER\",AF$6=$F16,$G16=1),1,IF(AND($C16=\"MEP\",AF$6=$F16,$G16=1),2,IF(AND(AF$6=$F16,$G16=1),0,\"\")))),\"\")","v":""},{"$f":"IFERROR(IF(LEN(Etapes[[#This Row],[Planned]])=0,\"\",IF(AND($C16=\"MER\",AG$6=$F16,$G16=1),1,IF(AND($C16=\"MEP\",AG$6=$F16,$G16=1),2,IF(AND(AG$6=$F16,$G16=1),0,\"\")))),\"\")","v":""},{"$f":"IFERROR(IF(LEN(Etapes[[#This Row],[Planned]])=0,\"\",IF(AND($C16=\"MER\",AH$6=$F16,$G16=1),1,IF(AND($C16=\"MEP\",AH$6=$F16,$G16=1),2,IF(AND(AH$6=$F16,$G16=1),0,\"\")))),\"\")","v":""},{"$f":"IFERROR(IF(LEN(Etapes[[#This Row],[Planned]])=0,\"\",IF(AND($C16=\"MER\",AI$6=$F16,$G16=1),1,IF(AND($C16=\"MEP\",AI$6=$F16,$G16=1),2,IF(AND(AI$6=$F16,$G16=1),0,\"\")))),\"\")","v":""},{"$f":"IFERROR(IF(LEN(Etapes[[#This Row],[Planned]])=0,\"\",IF(AND($C16=\"MER\",AJ$6=$F16,$G16=1),1,IF(AND($C16=\"MEP\",AJ$6=$F16,$G16=1),2,IF(AND(AJ$6=$F16,$G16=1),0,\"\")))),\"\")","v":""},{"$f":"IFERROR(IF(LEN(Etapes[[#This Row],[Planned]])=0,\"\",IF(AND($C16=\"MER\",AK$6=$F16,$G16=1),1,IF(AND($C16=\"MEP\",AK$6=$F16,$G16=1),2,IF(AND(AK$6=$F16,$G16=1),0,\"\")))),\"\")","v":""},{"$f":"IFERROR(IF(LEN(Etapes[[#This Row],[Planned]])=0,\"\",IF(AND($C16=\"MER\",AL$6=$F16,$G16=1),1,IF(AND($C16=\"MEP\",AL$6=$F16,$G16=1),2,IF(AND(AL$6=$F16,$G16=1),0,\"\")))),\"\")","v":""},{"$f":"IFERROR(IF(LEN(Etapes[[#This Row],[Planned]])=0,\"\",IF(AND($C16=\"MER\",AM$6=$F16,$G16=1),1,IF(AND($C16=\"MEP\",AM$6=$F16,$G16=1),2,IF(AND(AM$6=$F16,$G16=1),0,\"\")))),\"\")","v":""},{"$f":"IFERROR(IF(LEN(Etapes[[#This Row],[Planned]])=0,\"\",IF(AND($C16=\"MER\",AN$6=$F16,$G16=1),1,IF(AND($C16=\"MEP\",AN$6=$F16,$G16=1),2,IF(AND(AN$6=$F16,$G16=1),0,\"\")))),\"\")","v":""},{"$f":"IFERROR(IF(LEN(Etapes[[#This Row],[Planned]])=0,\"\",IF(AND($C16=\"MER\",AO$6=$F16,$G16=1),1,IF(AND($C16=\"MEP\",AO$6=$F16,$G16=1),2,IF(AND(AO$6=$F16,$G16=1),0,\"\")))),\"\")","v":""},{"$f":"IFERROR(IF(LEN(Etapes[[#This Row],[Planned]])=0,\"\",IF(AND($C16=\"MER\",AP$6=$F16,$G16=1),1,IF(AND($C16=\"MEP\",AP$6=$F16,$G16=1),2,IF(AND(AP$6=$F16,$G16=1),0,\"\")))),\"\")","v":""},{"$f":"IFERROR(IF(LEN(Etapes[[#This Row],[Planned]])=0,\"\",IF(AND($C16=\"MER\",AQ$6=$F16,$G16=1),1,IF(AND($C16=\"MEP\",AQ$6=$F16,$G16=1),2,IF(AND(AQ$6=$F16,$G16=1),0,\"\")))),\"\")","v":""},{"$f":"IFERROR(IF(LEN(Etapes[[#This Row],[Planned]])=0,\"\",IF(AND($C16=\"MER\",AR$6=$F16,$G16=1),1,IF(AND($C16=\"MEP\",AR$6=$F16,$G16=1),2,IF(AND(AR$6=$F16,$G16=1),0,\"\")))),\"\")","v":""},{"$f":"IFERROR(IF(LEN(Etapes[[#This Row],[Planned]])=0,\"\",IF(AND($C16=\"MER\",AS$6=$F16,$G16=1),1,IF(AND($C16=\"MEP\",AS$6=$F16,$G16=1),2,IF(AND(AS$6=$F16,$G16=1),0,\"\")))),\"\")","v":""},{"$f":"IFERROR(IF(LEN(Etapes[[#This Row],[Planned]])=0,\"\",IF(AND($C16=\"MER\",AT$6=$F16,$G16=1),1,IF(AND($C16=\"MEP\",AT$6=$F16,$G16=1),2,IF(AND(AT$6=$F16,$G16=1),0,\"\")))),\"\")","v":""},{"$f":"IFERROR(IF(LEN(Etapes[[#This Row],[Planned]])=0,\"\",IF(AND($C16=\"MER\",AU$6=$F16,$G16=1),1,IF(AND($C16=\"MEP\",AU$6=$F16,$G16=1),2,IF(AND(AU$6=$F16,$G16=1),0,\"\")))),\"\")","v":""},{"$f":"IFERROR(IF(LEN(Etapes[[#This Row],[Planned]])=0,\"\",IF(AND($C16=\"MER\",AV$6=$F16,$G16=1),1,IF(AND($C16=\"MEP\",AV$6=$F16,$G16=1),2,IF(AND(AV$6=$F16,$G16=1),0,\"\")))),\"\")","v":""},{"$f":"IFERROR(IF(LEN(Etapes[[#This Row],[Planned]])=0,\"\",IF(AND($C16=\"MER\",AW$6=$F16,$G16=1),1,IF(AND($C16=\"MEP\",AW$6=$F16,$G16=1),2,IF(AND(AW$6=$F16,$G16=1),0,\"\")))),\"\")","v":""},{"$f":"IFERROR(IF(LEN(Etapes[[#This Row],[Planned]])=0,\"\",IF(AND($C16=\"MER\",AX$6=$F16,$G16=1),1,IF(AND($C16=\"MEP\",AX$6=$F16,$G16=1),2,IF(AND(AX$6=$F16,$G16=1),0,\"\")))),\"\")","v":""},{"$f":"IFERROR(IF(LEN(Etapes[[#This Row],[Planned]])=0,\"\",IF(AND($C16=\"MER\",AY$6=$F16,$G16=1),1,IF(AND($C16=\"MEP\",AY$6=$F16,$G16=1),2,IF(AND(AY$6=$F16,$G16=1),0,\"\")))),\"\")","v":""},{"$f":"IFERROR(IF(LEN(Etapes[[#This Row],[Planned]])=0,\"\",IF(AND($C16=\"MER\",AZ$6=$F16,$G16=1),1,IF(AND($C16=\"MEP\",AZ$6=$F16,$G16=1),2,IF(AND(AZ$6=$F16,$G16=1),0,\"\")))),\"\")","v":""},{"$f":"IFERROR(IF(LEN(Etapes[[#This Row],[Planned]])=0,\"\",IF(AND($C16=\"MER\",BA$6=$F16,$G16=1),1,IF(AND($C16=\"MEP\",BA$6=$F16,$G16=1),2,IF(AND(BA$6=$F16,$G16=1),0,\"\")))),\"\")","v":""},{"$f":"IFERROR(IF(LEN(Etapes[[#This Row],[Planned]])=0,\"\",IF(AND($C16=\"MER\",BB$6=$F16,$G16=1),1,IF(AND($C16=\"MEP\",BB$6=$F16,$G16=1),2,IF(AND(BB$6=$F16,$G16=1),0,\"\")))),\"\")","v":""},{"$f":"IFERROR(IF(LEN(Etapes[[#This Row],[Planned]])=0,\"\",IF(AND($C16=\"MER\",BC$6=$F16,$G16=1),1,IF(AND($C16=\"MEP\",BC$6=$F16,$G16=1),2,IF(AND(BC$6=$F16,$G16=1),0,\"\")))),\"\")","v":""},{"$f":"IFERROR(IF(LEN(Etapes[[#This Row],[Planned]])=0,\"\",IF(AND($C16=\"MER\",BD$6=$F16,$G16=1),1,IF(AND($C16=\"MEP\",BD$6=$F16,$G16=1),2,IF(AND(BD$6=$F16,$G16=1),0,\"\")))),\"\")","v":""},{"$f":"IFERROR(IF(LEN(Etapes[[#This Row],[Planned]])=0,\"\",IF(AND($C16=\"MER\",BE$6=$F16,$G16=1),1,IF(AND($C16=\"MEP\",BE$6=$F16,$G16=1),2,IF(AND(BE$6=$F16,$G16=1),0,\"\")))),\"\")","v":""},{"$f":"IFERROR(IF(LEN(Etapes[[#This Row],[Planned]])=0,\"\",IF(AND($C16=\"MER\",BF$6=$F16,$G16=1),1,IF(AND($C16=\"MEP\",BF$6=$F16,$G16=1),2,IF(AND(BF$6=$F16,$G16=1),0,\"\")))),\"\")","v":""},{"$f":"IFERROR(IF(LEN(Etapes[[#This Row],[Planned]])=0,\"\",IF(AND($C16=\"MER\",BG$6=$F16,$G16=1),1,IF(AND($C16=\"MEP\",BG$6=$F16,$G16=1),2,IF(AND(BG$6=$F16,$G16=1),0,\"\")))),\"\")","v":""},{"$f":"IFERROR(IF(LEN(Etapes[[#This Row],[Planned]])=0,\"\",IF(AND($C16=\"MER\",BH$6=$F16,$G16=1),1,IF(AND($C16=\"MEP\",BH$6=$F16,$G16=1),2,IF(AND(BH$6=$F16,$G16=1),0,\"\")))),\"\")","v":""},{"$f":"IFERROR(IF(LEN(Etapes[[#This Row],[Planned]])=0,\"\",IF(AND($C16=\"MER\",BI$6=$F16,$G16=1),1,IF(AND($C16=\"MEP\",BI$6=$F16,$G16=1),2,IF(AND(BI$6=$F16,$G16=1),0,\"\")))),\"\")","v":""},{"$f":"IFERROR(IF(LEN(Etapes[[#This Row],[Planned]])=0,\"\",IF(AND($C16=\"MER\",BJ$6=$F16,$G16=1),1,IF(AND($C16=\"MEP\",BJ$6=$F16,$G16=1),2,IF(AND(BJ$6=$F16,$G16=1),0,\"\")))),\"\")","v":""},{"$f":"IFERROR(IF(LEN(Etapes[[#This Row],[Planned]])=0,\"\",IF(AND($C16=\"MER\",BK$6=$F16,$G16=1),1,IF(AND($C16=\"MEP\",BK$6=$F16,$G16=1),2,IF(AND(BK$6=$F16,$G16=1),0,\"\")))),\"\")","v":""},{"$f":"IFERROR(IF(LEN(Etapes[[#This Row],[Planned]])=0,\"\",IF(AND($C16=\"MER\",BL$6=$F16,$G16=1),1,IF(AND($C16=\"MEP\",BL$6=$F16,$G16=1),2,IF(AND(BL$6=$F16,$G16=1),0,\"\")))),\"\")","v":""},{"$f":"IFERROR(IF(LEN(Etapes[[#This Row],[Planned]])=0,\"\",IF(AND($C16=\"MER\",BM$6=$F16,$G16=1),1,IF(AND($C16=\"MEP\",BM$6=$F16,$G16=1),2,IF(AND(BM$6=$F16,$G16=1),0,\"\")))),\"\")","v":""},{"$f":"IFERROR(IF(LEN(Etapes[[#This Row],[Planned]])=0,\"\",IF(AND($C16=\"MER\",BN$6=$F16,$G16=1),1,IF(AND($C16=\"MEP\",BN$6=$F16,$G16=1),2,IF(AND(BN$6=$F16,$G16=1),0,\"\")))),\"\")","v":""},{"$f":"IFERROR(IF(LEN(Etapes[[#This Row],[Planned]])=0,\"\",IF(AND($C16=\"MER\",BO$6=$F16,$G16=1),1,IF(AND($C16=\"MEP\",BO$6=$F16,$G16=1),2,IF(AND(BO$6=$F16,$G16=1),0,\"\")))),\"\")","v":""},{"$f":"IFERROR(IF(LEN(Etapes[[#This Row],[Add]])=0,\"\",IF(AND($C16=\"MER\",BP$6=$F16,$G16=1),1,IF(AND($C16=\"MEP\",BP$6=$F16,$G16=1),2,IF(AND(BP$6=$F16,$G16=1),0,\"\")))),\"\")","v":""},{"$f":"IFERROR(IF(LEN(Etapes[[#This Row],[End]])=0,\"\",IF(AND($C16=\"MER\",BQ$6=$F16,$G16=1),1,IF(AND($C16=\"MEP\",BQ$6=$F16,$G16=1),2,IF(AND(BQ$6=$F16,$G16=1),0,\"\")))),\"\")","v":""},{"$f":"IFERROR(IF(LEN(Etapes[[#This Row],[Réalisé]])=0,\"\",IF(AND($C16=\"MER\",BR$6=$F16,$G16=1),1,IF(AND($C16=\"MEP\",BR$6=$F16,$G16=1),2,IF(AND(BR$6=$F16,$G16=1),0,\"\")))),\"\")","v":""},{"$f":"IFERROR(IF(LEN(Etapes[[#This Row],[Activité]])=0,\"\",IF(AND($C16=\"MER\",BS$6=$F16,$G16=1),1,IF(AND($C16=\"MEP\",BS$6=$F16,$G16=1),2,IF(AND(BS$6=$F16,$G16=1),0,\"\")))),\"\")","v":""},{"$f":"IFERROR(IF(LEN(Etapes[[#This Row],[Statut]])=0,\"\",IF(AND($C16=\"MER\",BT$6=$F16,$G16=1),1,IF(AND($C16=\"MEP\",BT$6=$F16,$G16=1),2,IF(AND(BT$6=$F16,$G16=1),0,\"\")))),\"\")","v":""},{"$f":"IFERROR(IF(LEN(Etapes[[#This Row],[Progress]])=0,\"\",IF(AND($C16=\"MER\",BU$6=$F16,$G16=1),1,IF(AND($C16=\"MEP\",BU$6=$F16,$G16=1),2,IF(AND(BU$6=$F16,$G16=1),0,\"\")))),\"\")","v":""},{"$f":"IFERROR(IF(LEN(Etapes[[#This Row],[Start]])=0,\"\",IF(AND($C16=\"MER\",BV$6=$F16,$G16=1),1,IF(AND($C16=\"MEP\",BV$6=$F16,$G16=1),2,IF(AND(BV$6=$F16,$G16=1),0,\"\")))),\"\")","v":""},{"$f":"IFERROR(IF(LEN(Etapes[[#This Row],[Planned]])=0,\"\",IF(AND($C16=\"MER\",BW$6=$F16,$G16=1),1,IF(AND($C16=\"MEP\",BW$6=$F16,$G16=1),2,IF(AND(BW$6=$F16,$G16=1),0,\"\")))),\"\")","v":""},{"$f":"IFERROR(IF(LEN(Etapes[[#This Row],[Add]])=0,\"\",IF(AND($C16=\"MER\",BX$6=$F16,$G16=1),1,IF(AND($C16=\"MEP\",BX$6=$F16,$G16=1),2,IF(AND(BX$6=$F16,$G16=1),0,\"\")))),\"\")","v":""},{"$f":"IFERROR(IF(LEN(Etapes[[#This Row],[End]])=0,\"\",IF(AND($C16=\"MER\",BY$6=$F16,$G16=1),1,IF(AND($C16=\"MEP\",BY$6=$F16,$G16=1),2,IF(AND(BY$6=$F16,$G16=1),0,\"\")))),\"\")","v":""},{"$f":"IFERROR(IF(LEN(Etapes[[#This Row],[Réalisé]])=0,\"\",IF(AND($C16=\"MER\",BZ$6=$F16,$G16=1),1,IF(AND($C16=\"MEP\",BZ$6=$F16,$G16=1),2,IF(AND(BZ$6=$F16,$G16=1),0,\"\")))),\"\")","v":""},{"$f":"IFERROR(IF(LEN(Etapes[[#This Row],[Activité]])=0,\"\",IF(AND($C16=\"MER\",CA$6=$F16,$G16=1),1,IF(AND($C16=\"MEP\",CA$6=$F16,$G16=1),2,IF(AND(CA$6=$F16,$G16=1),0,\"\")))),\"\")","v":""},{"$f":"IFERROR(IF(LEN(Etapes[[#This Row],[Statut]])=0,\"\",IF(AND($C16=\"MER\",CB$6=$F16,$G16=1),1,IF(AND($C16=\"MEP\",CB$6=$F16,$G16=1),2,IF(AND(CB$6=$F16,$G16=1),0,\"\")))),\"\")","v":""},{"$f":"IFERROR(IF(LEN(Etapes[[#This Row],[Progress]])=0,\"\",IF(AND($C16=\"MER\",CC$6=$F16,$G16=1),1,IF(AND($C16=\"MEP\",CC$6=$F16,$G16=1),2,IF(AND(CC$6=$F16,$G16=1),0,\"\")))),\"\")","v":""},{"$f":"IFERROR(IF(LEN(Etapes[[#This Row],[Start]])=0,\"\",IF(AND($C16=\"MER\",CD$6=$F16,$G16=1),1,IF(AND($C16=\"MEP\",CD$6=$F16,$G16=1),2,IF(AND(CD$6=$F16,$G16=1),0,\"\")))),\"\")","v":""},{"$f":"IFERROR(IF(LEN(Etapes[[#This Row],[Planned]])=0,\"\",IF(AND($C16=\"MER\",CE$6=$F16,$G16=1),1,IF(AND($C16=\"MEP\",CE$6=$F16,$G16=1),2,IF(AND(CE$6=$F16,$G16=1),0,\"\")))),\"\")","v":""},{"$f":"IFERROR(IF(LEN(Etapes[[#This Row],[Add]])=0,\"\",IF(AND($C16=\"MER\",CF$6=$F16,$G16=1),1,IF(AND($C16=\"MEP\",CF$6=$F16,$G16=1),2,IF(AND(CF$6=$F16,$G16=1),0,\"\")))),\"\")","v":""},{"$f":"IFERROR(IF(LEN(Etapes[[#This Row],[End]])=0,\"\",IF(AND($C16=\"MER\",CG$6=$F16,$G16=1),1,IF(AND($C16=\"MEP\",CG$6=$F16,$G16=1),2,IF(AND(CG$6=$F16,$G16=1),0,\"\")))),\"\")","v":""},{"$f":"IFERROR(IF(LEN(Etapes[[#This Row],[Réalisé]])=0,\"\",IF(AND($C16=\"MER\",CH$6=$F16,$G16=1),1,IF(AND($C16=\"MEP\",CH$6=$F16,$G16=1),2,IF(AND(CH$6=$F16,$G16=1),0,\"\")))),\"\")","v":""},{"$f":"IFERROR(IF(LEN(Etapes[[#This Row],[Activité]])=0,\"\",IF(AND($C16=\"MER\",CI$6=$F16,$G16=1),1,IF(AND($C16=\"MEP\",CI$6=$F16,$G16=1),2,IF(AND(CI$6=$F16,$G16=1),0,\"\")))),\"\")","v":""},{"$f":"IFERROR(IF(LEN(Etapes[[#This Row],[Statut]])=0,\"\",IF(AND($C16=\"MER\",CJ$6=$F16,$G16=1),1,IF(AND($C16=\"MEP\",CJ$6=$F16,$G16=1),2,IF(AND(CJ$6=$F16,$G16=1),0,\"\")))),\"\")","v":""},{"$f":"IFERROR(IF(LEN(Etapes[[#This Row],[Progress]])=0,\"\",IF(AND($C16=\"MER\",CK$6=$F16,$G16=1),1,IF(AND($C16=\"MEP\",CK$6=$F16,$G16=1),2,IF(AND(CK$6=$F16,$G16=1),0,\"\")))),\"\")","v":""},{"$f":"IFERROR(IF(LEN(Etapes[[#This Row],[Start]])=0,\"\",IF(AND($C16=\"MER\",CL$6=$F16,$G16=1),1,IF(AND($C16=\"MEP\",CL$6=$F16,$G16=1),2,IF(AND(CL$6=$F16,$G16=1),0,\"\")))),\"\")","v":""},{"$f":"IFERROR(IF(LEN(Etapes[[#This Row],[Planned]])=0,\"\",IF(AND($C16=\"MER\",CM$6=$F16,$G16=1),1,IF(AND($C16=\"MEP\",CM$6=$F16,$G16=1),2,IF(AND(CM$6=$F16,$G16=1),0,\"\")))),\"\")","v":""},{"$f":"IFERROR(IF(LEN(Etapes[[#This Row],[Add]])=0,\"\",IF(AND($C16=\"MER\",CN$6=$F16,$G16=1),1,IF(AND($C16=\"MEP\",CN$6=$F16,$G16=1),2,IF(AND(CN$6=$F16,$G16=1),0,\"\")))),\"\")","v":""},{"$f":"IFERROR(IF(LEN(Etapes[[#This Row],[End]])=0,\"\",IF(AND($C16=\"MER\",CO$6=$F16,$G16=1),1,IF(AND($C16=\"MEP\",CO$6=$F16,$G16=1),2,IF(AND(CO$6=$F16,$G16=1),0,\"\")))),\"\")","v":""},{"$f":"IFERROR(IF(LEN(Etapes[[#This Row],[Réalisé]])=0,\"\",IF(AND($C16=\"MER\",CP$6=$F16,$G16=1),1,IF(AND($C16=\"MEP\",CP$6=$F16,$G16=1),2,IF(AND(CP$6=$F16,$G16=1),0,\"\")))),\"\")","v":""},{"$f":"IFERROR(IF(LEN(Etapes[[#This Row],[Activité]])=0,\"\",IF(AND($C16=\"MER\",CQ$6=$F16,$G16=1),1,IF(AND($C16=\"MEP\",CQ$6=$F16,$G16=1),2,IF(AND(CQ$6=$F16,$G16=1),0,\"\")))),\"\")","v":""},{"$f":"IFERROR(IF(LEN(Etapes[[#This Row],[Statut]])=0,\"\",IF(AND($C16=\"MER\",CR$6=$F16,$G16=1),1,IF(AND($C16=\"MEP\",CR$6=$F16,$G16=1),2,IF(AND(CR$6=$F16,$G16=1),0,\"\")))),\"\")","v":""},{"$f":"IFERROR(IF(LEN(Etapes[[#This Row],[Progress]])=0,\"\",IF(AND($C16=\"MER\",CS$6=$F16,$G16=1),1,IF(AND($C16=\"MEP\",CS$6=$F16,$G16=1),2,IF(AND(CS$6=$F16,$G16=1),0,\"\")))),\"\")","v":""},{"$f":"IFERROR(IF(LEN(Etapes[[#This Row],[Start]])=0,\"\",IF(AND($C16=\"MER\",CT$6=$F16,$G16=1),1,IF(AND($C16=\"MEP\",CT$6=$F16,$G16=1),2,IF(AND(CT$6=$F16,$G16=1),0,\"\")))),\"\")","v":""},{"$f":"IFERROR(IF(LEN(Etapes[[#This Row],[Planned]])=0,\"\",IF(AND($C16=\"MER\",CU$6=$F16,$G16=1),1,IF(AND($C16=\"MEP\",CU$6=$F16,$G16=1),2,IF(AND(CU$6=$F16,$G16=1),0,\"\")))),\"\")","v":""},{"$f":"IFERROR(IF(LEN(Etapes[[#This Row],[Add]])=0,\"\",IF(AND($C16=\"MER\",CV$6=$F16,$G16=1),1,IF(AND($C16=\"MEP\",CV$6=$F16,$G16=1),2,IF(AND(CV$6=$F16,$G16=1),0,\"\")))),\"\")","v":""},{"$f":"IFERROR(IF(LEN(Etapes[[#This Row],[End]])=0,\"\",IF(AND($C16=\"MER\",CW$6=$F16,$G16=1),1,IF(AND($C16=\"MEP\",CW$6=$F16,$G16=1),2,IF(AND(CW$6=$F16,$G16=1),0,\"\")))),\"\")","v":""}]
["2.2","Conception","Launched",{"$f":"Settings!C45","v":"NAN"},null,"2022-08-03",null,null,{"$f":"IF(Etapes[[#This Row],[Start]]<>\"\",WORKDAY(Etapes[[#This Row],[Start]],IF(WEEKDAY(Etapes[[#This Row],[Start]],1)>=6,Etapes[[#This Row],[Planned]]+Etapes[[#This Row],[Add]],Etapes[[#This Row],[Planned]]+Etapes[[#This Row],[Add]]-1),Férié),\"\")","v":"2022-08-02"},{"$f":"IF(Etapes[[#This Row],[Start]]<>\"\",WORKDAY(Etapes[[#This Row],[Start]],IF(WEEKDAY(Etapes[[#This Row],[Start]],1)>=6,Etapes[[#This Row],[Progress]]*Etapes[[#This Row],[Planned]]+Etapes[[#This Row],[Add]],(Etapes[[#This Row],[Progress]]*Etapes[[#This Row],[Planned]]+Etapes[[#This Row],[Add]])-1),Férié),\"\")","v":"2022-08-02"},null,{"$f":"IFERROR(IF(LEN(Etapes[[#This Row],[Planned]])=0,\"\",IF(AND($C17=\"MER\",L$6=$F17,$G17=1),1,IF(AND($C17=\"MEP\",L$6=$F17,$G17=1),2,IF(AND(L$6=$F17,$G17=1),0,\"\")))),\"\")","v":""},{"$f":"IFERROR(IF(LEN(Etapes[[#This Row],[Planned]])=0,\"\",IF(AND($C17=\"MER\",M$6=$F17,$G17=1),1,IF(AND($C17=\"MEP\",M$6=$F17,$G17=1),2,IF(AND(M$6=$F17,$G17=1),0,\"\")))),\"\")","v":""},{"$f":"IFERROR(IF(LEN(Etapes[[#This Row],[Planned]])=0,\"\",IF(AND($C17=\"MER\",N$6=$F17,$G17=1),1,IF(AND($C17=\"MEP\",N$6=$F17,$G17=1),2,IF(AND(N$6=$F17,$G17=1),0,\"\")))),\"\")","v":""},{"$f":"IFERROR(IF(LEN(Etapes[[#This Row],[Planned]])=0,\"\",IF(AND($C17=\"MER\",O$6=$F17,$G17=1),1,IF(AND($C17=\"MEP\",O$6=$F17,$G17=1),2,IF(AND(O$6=$F17,$G17=1),0,\"\")))),\"\")","v":""},{"$f":"IFERROR(IF(LEN(Etapes[[#This Row],[Planned]])=0,\"\",IF(AND($C17=\"MER\",P$6=$F17,$G17=1),1,IF(AND($C17=\"MEP\",P$6=$F17,$G17=1),2,IF(AND(P$6=$F17,$G17=1),0,\"\")))),\"\")","v":""},{"$f":"IFERROR(IF(LEN(Etapes[[#This Row],[Planned]])=0,\"\",IF(AND($C17=\"MER\",Q$6=$F17,$G17=1),1,IF(AND($C17=\"MEP\",Q$6=$F17,$G17=1),2,IF(AND(Q$6=$F17,$G17=1),0,\"\")))),\"\")","v":""},{"$f":"IFERROR(IF(LEN(Etapes[[#This Row],[Planned]])=0,\"\",IF(AND($C17=\"MER\",R$6=$F17,$G17=1),1,IF(AND($C17=\"MEP\",R$6=$F17,$G17=1),2,IF(AND(R$6=$F17,$G17=1),0,\"\")))),\"\")","v":""},{"$f":"IFERROR(IF(LEN(Etapes[[#This Row],[Planned]])=0,\"\",IF(AND($C17=\"MER\",S$6=$F17,$G17=1),1,IF(AND($C17=\"MEP\",S$6=$F17,$G17=1),2,IF(AND(S$6=$F17,$G17=1),0,\"\")))),\"\")","v":""},{"$f":"IFERROR(IF(LEN(Etapes[[#This Row],[Planned]])=0,\"\",IF(AND($C17=\"MER\",T$6=$F17,$G17=1),1,IF(AND($C17=\"MEP\",T$6=$F17,$G17=1),2,IF(AND(T$6=$F17,$G17=1),0,\"\")))),\"\")","v":""},{"$f":"IFERROR(IF(LEN(Etapes[[#This Row],[Planned]])=0,\"\",IF(AND($C17=\"MER\",U$6=$F17,$G17=1),1,IF(AND($C17=\"MEP\",U$6=$F17,$G17=1),2,IF(AND(U$6=$F17,$G17=1),0,\"\")))),\"\")","v":""},{"$f":"IFERROR(IF(LEN(Etapes[[#This Row],[Planned]])=0,\"\",IF(AND($C17=\"MER\",V$6=$F17,$G17=1),1,IF(AND($C17=\"MEP\",V$6=$F17,$G17=1),2,IF(AND(V$6=$F17,$G17=1),0,\"\")))),\"\")","v":""},{"$f":"IFERROR(IF(LEN(Etapes[[#This Row],[Planned]])=0,\"\",IF(AND($C17=\"MER\",W$6=$F17,$G17=1),1,IF(AND($C17=\"MEP\",W$6=$F17,$G17=1),2,IF(AND(W$6=$F17,$G17=1),0,\"\")))),\"\")","v":""},{"$f":"IFERROR(IF(LEN(Etapes[[#This Row],[Planned]])=0,\"\",IF(AND($C17=\"MER\",X$6=$F17,$G17=1),1,IF(AND($C17=\"MEP\",X$6=$F17,$G17=1),2,IF(AND(X$6=$F17,$G17=1),0,\"\")))),\"\")","v":""},{"$f":"IFERROR(IF(LEN(Etapes[[#This Row],[Planned]])=0,\"\",IF(AND($C17=\"MER\",Y$6=$F17,$G17=1),1,IF(AND($C17=\"MEP\",Y$6=$F17,$G17=1),2,IF(AND(Y$6=$F17,$G17=1),0,\"\")))),\"\")","v":""},{"$f":"IFERROR(IF(LEN(Etapes[[#This Row],[Planned]])=0,\"\",IF(AND($C17=\"MER\",Z$6=$F17,$G17=1),1,IF(AND($C17=\"MEP\",Z$6=$F17,$G17=1),2,IF(AND(Z$6=$F17,$G17=1),0,\"\")))),\"\")","v":""},{"$f":"IFERROR(IF(LEN(Etapes[[#This Row],[Planned]])=0,\"\",IF(AND($C17=\"MER\",AA$6=$F17,$G17=1),1,IF(AND($C17=\"MEP\",AA$6=$F17,$G17=1),2,IF(AND(AA$6=$F17,$G17=1),0,\"\")))),\"\")","v":""},{"$f":"IFERROR(IF(LEN(Etapes[[#This Row],[Planned]])=0,\"\",IF(AND($C17=\"MER\",AB$6=$F17,$G17=1),1,IF(AND($C17=\"MEP\",AB$6=$F17,$G17=1),2,IF(AND(AB$6=$F17,$G17=1),0,\"\")))),\"\")","v":""},{"$f":"IFERROR(IF(LEN(Etapes[[#This Row],[Planned]])=0,\"\",IF(AND($C17=\"MER\",AC$6=$F17,$G17=1),1,IF(AND($C17=\"MEP\",AC$6=$F17,$G17=1),2,IF(AND(AC$6=$F17,$G17=1),0,\"\")))),\"\")","v":""},{"$f":"IFERROR(IF(LEN(Etapes[[#This Row],[Planned]])=0,\"\",IF(AND($C17=\"MER\",AD$6=$F17,$G17=1),1,IF(AND($C17=\"MEP\",AD$6=$F17,$G17=1),2,IF(AND(AD$6=$F17,$G17=1),0,\"\")))),\"\")","v":""},{"$f":"IFERROR(IF(LEN(Etapes[[#This Row],[Planned]])=0,\"\",IF(AND($C17=\"MER\",AE$6=$F17,$G17=1),1,IF(AND($C17=\"MEP\",AE$6=$F17,$G17=1),2,IF(AND(AE$6=$F17,$G17=1),0,\"\")))),\"\")","v":""},{"$f":"IFERROR(IF(LEN(Etapes[[#This Row],[Planned]])=0,\"\",IF(AND($C17=\"MER\",AF$6=$F17,$G17=1),1,IF(AND($C17=\"MEP\",AF$6=$F17,$G17=1),2,IF(AND(AF$6=$F17,$G17=1),0,\"\")))),\"\")","v":""},{"$f":"IFERROR(IF(LEN(Etapes[[#This Row],[Planned]])=0,\"\",IF(AND($C17=\"MER\",AG$6=$F17,$G17=1),1,IF(AND($C17=\"MEP\",AG$6=$F17,$G17=1),2,IF(AND(AG$6=$F17,$G17=1),0,\"\")))),\"\")","v":""},{"$f":"IFERROR(IF(LEN(Etapes[[#This Row],[Planned]])=0,\"\",IF(AND($C17=\"MER\",AH$6=$F17,$G17=1),1,IF(AND($C17=\"MEP\",AH$6=$F17,$G17=1),2,IF(AND(AH$6=$F17,$G17=1),0,\"\")))),\"\")","v":""},{"$f":"IFERROR(IF(LEN(Etapes[[#This Row],[Planned]])=0,\"\",IF(AND($C17=\"MER\",AI$6=$F17,$G17=1),1,IF(AND($C17=\"MEP\",AI$6=$F17,$G17=1),2,IF(AND(AI$6=$F17,$G17=1),0,\"\")))),\"\")","v":""},{"$f":"IFERROR(IF(LEN(Etapes[[#This Row],[Planned]])=0,\"\",IF(AND($C17=\"MER\",AJ$6=$F17,$G17=1),1,IF(AND($C17=\"MEP\",AJ$6=$F17,$G17=1),2,IF(AND(AJ$6=$F17,$G17=1),0,\"\")))),\"\")","v":""},{"$f":"IFERROR(IF(LEN(Etapes[[#This Row],[Planned]])=0,\"\",IF(AND($C17=\"MER\",AK$6=$F17,$G17=1),1,IF(AND($C17=\"MEP\",AK$6=$F17,$G17=1),2,IF(AND(AK$6=$F17,$G17=1),0,\"\")))),\"\")","v":""},{"$f":"IFERROR(IF(LEN(Etapes[[#This Row],[Planned]])=0,\"\",IF(AND($C17=\"MER\",AL$6=$F17,$G17=1),1,IF(AND($C17=\"MEP\",AL$6=$F17,$G17=1),2,IF(AND(AL$6=$F17,$G17=1),0,\"\")))),\"\")","v":""},{"$f":"IFERROR(IF(LEN(Etapes[[#This Row],[Planned]])=0,\"\",IF(AND($C17=\"MER\",AM$6=$F17,$G17=1),1,IF(AND($C17=\"MEP\",AM$6=$F17,$G17=1),2,IF(AND(AM$6=$F17,$G17=1),0,\"\")))),\"\")","v":""},{"$f":"IFERROR(IF(LEN(Etapes[[#This Row],[Planned]])=0,\"\",IF(AND($C17=\"MER\",AN$6=$F17,$G17=1),1,IF(AND($C17=\"MEP\",AN$6=$F17,$G17=1),2,IF(AND(AN$6=$F17,$G17=1),0,\"\")))),\"\")","v":""},{"$f":"IFERROR(IF(LEN(Etapes[[#This Row],[Planned]])=0,\"\",IF(AND($C17=\"MER\",AO$6=$F17,$G17=1),1,IF(AND($C17=\"MEP\",AO$6=$F17,$G17=1),2,IF(AND(AO$6=$F17,$G17=1),0,\"\")))),\"\")","v":""},{"$f":"IFERROR(IF(LEN(Etapes[[#This Row],[Planned]])=0,\"\",IF(AND($C17=\"MER\",AP$6=$F17,$G17=1),1,IF(AND($C17=\"MEP\",AP$6=$F17,$G17=1),2,IF(AND(AP$6=$F17,$G17=1),0,\"\")))),\"\")","v":""},{"$f":"IFERROR(IF(LEN(Etapes[[#This Row],[Planned]])=0,\"\",IF(AND($C17=\"MER\",AQ$6=$F17,$G17=1),1,IF(AND($C17=\"MEP\",AQ$6=$F17,$G17=1),2,IF(AND(AQ$6=$F17,$G17=1),0,\"\")))),\"\")","v":""},{"$f":"IFERROR(IF(LEN(Etapes[[#This Row],[Planned]])=0,\"\",IF(AND($C17=\"MER\",AR$6=$F17,$G17=1),1,IF(AND($C17=\"MEP\",AR$6=$F17,$G17=1),2,IF(AND(AR$6=$F17,$G17=1),0,\"\")))),\"\")","v":""},{"$f":"IFERROR(IF(LEN(Etapes[[#This Row],[Planned]])=0,\"\",IF(AND($C17=\"MER\",AS$6=$F17,$G17=1),1,IF(AND($C17=\"MEP\",AS$6=$F17,$G17=1),2,IF(AND(AS$6=$F17,$G17=1),0,\"\")))),\"\")","v":""},{"$f":"IFERROR(IF(LEN(Etapes[[#This Row],[Planned]])=0,\"\",IF(AND($C17=\"MER\",AT$6=$F17,$G17=1),1,IF(AND($C17=\"MEP\",AT$6=$F17,$G17=1),2,IF(AND(AT$6=$F17,$G17=1),0,\"\")))),\"\")","v":""},{"$f":"IFERROR(IF(LEN(Etapes[[#This Row],[Planned]])=0,\"\",IF(AND($C17=\"MER\",AU$6=$F17,$G17=1),1,IF(AND($C17=\"MEP\",AU$6=$F17,$G17=1),2,IF(AND(AU$6=$F17,$G17=1),0,\"\")))),\"\")","v":""},{"$f":"IFERROR(IF(LEN(Etapes[[#This Row],[Planned]])=0,\"\",IF(AND($C17=\"MER\",AV$6=$F17,$G17=1),1,IF(AND($C17=\"MEP\",AV$6=$F17,$G17=1),2,IF(AND(AV$6=$F17,$G17=1),0,\"\")))),\"\")","v":""},{"$f":"IFERROR(IF(LEN(Etapes[[#This Row],[Planned]])=0,\"\",IF(AND($C17=\"MER\",AW$6=$F17,$G17=1),1,IF(AND($C17=\"MEP\",AW$6=$F17,$G17=1),2,IF(AND(AW$6=$F17,$G17=1),0,\"\")))),\"\")","v":""},{"$f":"IFERROR(IF(LEN(Etapes[[#This Row],[Planned]])=0,\"\",IF(AND($C17=\"MER\",AX$6=$F17,$G17=1),1,IF(AND($C17=\"MEP\",AX$6=$F17,$G17=1),2,IF(AND(AX$6=$F17,$G17=1),0,\"\")))),\"\")","v":""},{"$f":"IFERROR(IF(LEN(Etapes[[#This Row],[Planned]])=0,\"\",IF(AND($C17=\"MER\",AY$6=$F17,$G17=1),1,IF(AND($C17=\"MEP\",AY$6=$F17,$G17=1),2,IF(AND(AY$6=$F17,$G17=1),0,\"\")))),\"\")","v":""},{"$f":"IFERROR(IF(LEN(Etapes[[#This Row],[Planned]])=0,\"\",IF(AND($C17=\"MER\",AZ$6=$F17,$G17=1),1,IF(AND($C17=\"MEP\",AZ$6=$F17,$G17=1),2,IF(AND(AZ$6=$F17,$G17=1),0,\"\")))),\"\")","v":""},{"$f":"IFERROR(IF(LEN(Etapes[[#This Row],[Planned]])=0,\"\",IF(AND($C17=\"MER\",BA$6=$F17,$G17=1),1,IF(AND($C17=\"MEP\",BA$6=$F17,$G17=1),2,IF(AND(BA$6=$F17,$G17=1),0,\"\")))),\"\")","v":""},{"$f":"IFERROR(IF(LEN(Etapes[[#This Row],[Planned]])=0,\"\",IF(AND($C17=\"MER\",BB$6=$F17,$G17=1),1,IF(AND($C17=\"MEP\",BB$6=$F17,$G17=1),2,IF(AND(BB$6=$F17,$G17=1),0,\"\")))),\"\")","v":""},{"$f":"IFERROR(IF(LEN(Etapes[[#This Row],[Planned]])=0,\"\",IF(AND($C17=\"MER\",BC$6=$F17,$G17=1),1,IF(AND($C17=\"MEP\",BC$6=$F17,$G17=1),2,IF(AND(BC$6=$F17,$G17=1),0,\"\")))),\"\")","v":""},{"$f":"IFERROR(IF(LEN(Etapes[[#This Row],[Planned]])=0,\"\",IF(AND($C17=\"MER\",BD$6=$F17,$G17=1),1,IF(AND($C17=\"MEP\",BD$6=$F17,$G17=1),2,IF(AND(BD$6=$F17,$G17=1),0,\"\")))),\"\")","v":""},{"$f":"IFERROR(IF(LEN(Etapes[[#This Row],[Planned]])=0,\"\",IF(AND($C17=\"MER\",BE$6=$F17,$G17=1),1,IF(AND($C17=\"MEP\",BE$6=$F17,$G17=1),2,IF(AND(BE$6=$F17,$G17=1),0,\"\")))),\"\")","v":""},{"$f":"IFERROR(IF(LEN(Etapes[[#This Row],[Planned]])=0,\"\",IF(AND($C17=\"MER\",BF$6=$F17,$G17=1),1,IF(AND($C17=\"MEP\",BF$6=$F17,$G17=1),2,IF(AND(BF$6=$F17,$G17=1),0,\"\")))),\"\")","v":""},{"$f":"IFERROR(IF(LEN(Etapes[[#This Row],[Planned]])=0,\"\",IF(AND($C17=\"MER\",BG$6=$F17,$G17=1),1,IF(AND($C17=\"MEP\",BG$6=$F17,$G17=1),2,IF(AND(BG$6=$F17,$G17=1),0,\"\")))),\"\")","v":""},{"$f":"IFERROR(IF(LEN(Etapes[[#This Row],[Planned]])=0,\"\",IF(AND($C17=\"MER\",BH$6=$F17,$G17=1),1,IF(AND($C17=\"MEP\",BH$6=$F17,$G17=1),2,IF(AND(BH$6=$F17,$G17=1),0,\"\")))),\"\")","v":""},{"$f":"IFERROR(IF(LEN(Etapes[[#This Row],[Planned]])=0,\"\",IF(AND($C17=\"MER\",BI$6=$F17,$G17=1),1,IF(AND($C17=\"MEP\",BI$6=$F17,$G17=1),2,IF(AND(BI$6=$F17,$G17=1),0,\"\")))),\"\")","v":""},{"$f":"IFERROR(IF(LEN(Etapes[[#This Row],[Planned]])=0,\"\",IF(AND($C17=\"MER\",BJ$6=$F17,$G17=1),1,IF(AND($C17=\"MEP\",BJ$6=$F17,$G17=1),2,IF(AND(BJ$6=$F17,$G17=1),0,\"\")))),\"\")","v":""},{"$f":"IFERROR(IF(LEN(Etapes[[#This Row],[Planned]])=0,\"\",IF(AND($C17=\"MER\",BK$6=$F17,$G17=1),1,IF(AND($C17=\"MEP\",BK$6=$F17,$G17=1),2,IF(AND(BK$6=$F17,$G17=1),0,\"\")))),\"\")","v":""},{"$f":"IFERROR(IF(LEN(Etapes[[#This Row],[Planned]])=0,\"\",IF(AND($C17=\"MER\",BL$6=$F17,$G17=1),1,IF(AND($C17=\"MEP\",BL$6=$F17,$G17=1),2,IF(AND(BL$6=$F17,$G17=1),0,\"\")))),\"\")","v":""},{"$f":"IFERROR(IF(LEN(Etapes[[#This Row],[Planned]])=0,\"\",IF(AND($C17=\"MER\",BM$6=$F17,$G17=1),1,IF(AND($C17=\"MEP\",BM$6=$F17,$G17=1),2,IF(AND(BM$6=$F17,$G17=1),0,\"\")))),\"\")","v":""},{"$f":"IFERROR(IF(LEN(Etapes[[#This Row],[Planned]])=0,\"\",IF(AND($C17=\"MER\",BN$6=$F17,$G17=1),1,IF(AND($C17=\"MEP\",BN$6=$F17,$G17=1),2,IF(AND(BN$6=$F17,$G17=1),0,\"\")))),\"\")","v":""},{"$f":"IFERROR(IF(LEN(Etapes[[#This Row],[Planned]])=0,\"\",IF(AND($C17=\"MER\",BO$6=$F17,$G17=1),1,IF(AND($C17=\"MEP\",BO$6=$F17,$G17=1),2,IF(AND(BO$6=$F17,$G17=1),0,\"\")))),\"\")","v":""},{"$f":"IFERROR(IF(LEN(Etapes[[#This Row],[Add]])=0,\"\",IF(AND($C17=\"MER\",BP$6=$F17,$G17=1),1,IF(AND($C17=\"MEP\",BP$6=$F17,$G17=1),2,IF(AND(BP$6=$F17,$G17=1),0,\"\")))),\"\")","v":""},{"$f":"IFERROR(IF(LEN(Etapes[[#This Row],[End]])=0,\"\",IF(AND($C17=\"MER\",BQ$6=$F17,$G17=1),1,IF(AND($C17=\"MEP\",BQ$6=$F17,$G17=1),2,IF(AND(BQ$6=$F17,$G17=1),0,\"\")))),\"\")","v":""},{"$f":"IFERROR(IF(LEN(Etapes[[#This Row],[Réalisé]])=0,\"\",IF(AND($C17=\"MER\",BR$6=$F17,$G17=1),1,IF(AND($C17=\"MEP\",BR$6=$F17,$G17=1),2,IF(AND(BR$6=$F17,$G17=1),0,\"\")))),\"\")","v":""},{"$f":"IFERROR(IF(LEN(Etapes[[#This Row],[Activité]])=0,\"\",IF(AND($C17=\"MER\",BS$6=$F17,$G17=1),1,IF(AND($C17=\"MEP\",BS$6=$F17,$G17=1),2,IF(AND(BS$6=$F17,$G17=1),0,\"\")))),\"\")","v":""},{"$f":"IFERROR(IF(LEN(Etapes[[#This Row],[Statut]])=0,\"\",IF(AND($C17=\"MER\",BT$6=$F17,$G17=1),1,IF(AND($C17=\"MEP\",BT$6=$F17,$G17=1),2,IF(AND(BT$6=$F17,$G17=1),0,\"\")))),\"\")","v":""},{"$f":"IFERROR(IF(LEN(Etapes[[#This Row],[Progress]])=0,\"\",IF(AND($C17=\"MER\",BU$6=$F17,$G17=1),1,IF(AND($C17=\"MEP\",BU$6=$F17,$G17=1),2,IF(AND(BU$6=$F17,$G17=1),0,\"\")))),\"\")","v":""},{"$f":"IFERROR(IF(LEN(Etapes[[#This Row],[Start]])=0,\"\",IF(AND($C17=\"MER\",BV$6=$F17,$G17=1),1,IF(AND($C17=\"MEP\",BV$6=$F17,$G17=1),2,IF(AND(BV$6=$F17,$G17=1),0,\"\")))),\"\")","v":""},{"$f":"IFERROR(IF(LEN(Etapes[[#This Row],[Planned]])=0,\"\",IF(AND($C17=\"MER\",BW$6=$F17,$G17=1),1,IF(AND($C17=\"MEP\",BW$6=$F17,$G17=1),2,IF(AND(BW$6=$F17,$G17=1),0,\"\")))),\"\")","v":""},{"$f":"IFERROR(IF(LEN(Etapes[[#This Row],[Add]])=0,\"\",IF(AND($C17=\"MER\",BX$6=$F17,$G17=1),1,IF(AND($C17=\"MEP\",BX$6=$F17,$G17=1),2,IF(AND(BX$6=$F17,$G17=1),0,\"\")))),\"\")","v":""},{"$f":"IFERROR(IF(LEN(Etapes[[#This Row],[End]])=0,\"\",IF(AND($C17=\"MER\",BY$6=$F17,$G17=1),1,IF(AND($C17=\"MEP\",BY$6=$F17,$G17=1),2,IF(AND(BY$6=$F17,$G17=1),0,\"\")))),\"\")","v":""},{"$f":"IFERROR(IF(LEN(Etapes[[#This Row],[Réalisé]])=0,\"\",IF(AND($C17=\"MER\",BZ$6=$F17,$G17=1),1,IF(AND($C17=\"MEP\",BZ$6=$F17,$G17=1),2,IF(AND(BZ$6=$F17,$G17=1),0,\"\")))),\"\")","v":""},{"$f":"IFERROR(IF(LEN(Etapes[[#This Row],[Activité]])=0,\"\",IF(AND($C17=\"MER\",CA$6=$F17,$G17=1),1,IF(AND($C17=\"MEP\",CA$6=$F17,$G17=1),2,IF(AND(CA$6=$F17,$G17=1),0,\"\")))),\"\")","v":""},{"$f":"IFERROR(IF(LEN(Etapes[[#This Row],[Statut]])=0,\"\",IF(AND($C17=\"MER\",CB$6=$F17,$G17=1),1,IF(AND($C17=\"MEP\",CB$6=$F17,$G17=1),2,IF(AND(CB$6=$F17,$G17=1),0,\"\")))),\"\")","v":""},{"$f":"IFERROR(IF(LEN(Etapes[[#This Row],[Progress]])=0,\"\",IF(AND($C17=\"MER\",CC$6=$F17,$G17=1),1,IF(AND($C17=\"MEP\",CC$6=$F17,$G17=1),2,IF(AND(CC$6=$F17,$G17=1),0,\"\")))),\"\")","v":""},{"$f":"IFERROR(IF(LEN(Etapes[[#This Row],[Start]])=0,\"\",IF(AND($C17=\"MER\",CD$6=$F17,$G17=1),1,IF(AND($C17=\"MEP\",CD$6=$F17,$G17=1),2,IF(AND(CD$6=$F17,$G17=1),0,\"\")))),\"\")","v":""},{"$f":"IFERROR(IF(LEN(Etapes[[#This Row],[Planned]])=0,\"\",IF(AND($C17=\"MER\",CE$6=$F17,$G17=1),1,IF(AND($C17=\"MEP\",CE$6=$F17,$G17=1),2,IF(AND(CE$6=$F17,$G17=1),0,\"\")))),\"\")","v":""},{"$f":"IFERROR(IF(LEN(Etapes[[#This Row],[Add]])=0,\"\",IF(AND($C17=\"MER\",CF$6=$F17,$G17=1),1,IF(AND($C17=\"MEP\",CF$6=$F17,$G17=1),2,IF(AND(CF$6=$F17,$G17=1),0,\"\")))),\"\")","v":""},{"$f":"IFERROR(IF(LEN(Etapes[[#This Row],[End]])=0,\"\",IF(AND($C17=\"MER\",CG$6=$F17,$G17=1),1,IF(AND($C17=\"MEP\",CG$6=$F17,$G17=1),2,IF(AND(CG$6=$F17,$G17=1),0,\"\")))),\"\")","v":""},{"$f":"IFERROR(IF(LEN(Etapes[[#This Row],[Réalisé]])=0,\"\",IF(AND($C17=\"MER\",CH$6=$F17,$G17=1),1,IF(AND($C17=\"MEP\",CH$6=$F17,$G17=1),2,IF(AND(CH$6=$F17,$G17=1),0,\"\")))),\"\")","v":""},{"$f":"IFERROR(IF(LEN(Etapes[[#This Row],[Activité]])=0,\"\",IF(AND($C17=\"MER\",CI$6=$F17,$G17=1),1,IF(AND($C17=\"MEP\",CI$6=$F17,$G17=1),2,IF(AND(CI$6=$F17,$G17=1),0,\"\")))),\"\")","v":""},{"$f":"IFERROR(IF(LEN(Etapes[[#This Row],[Statut]])=0,\"\",IF(AND($C17=\"MER\",CJ$6=$F17,$G17=1),1,IF(AND($C17=\"MEP\",CJ$6=$F17,$G17=1),2,IF(AND(CJ$6=$F17,$G17=1),0,\"\")))),\"\")","v":""},{"$f":"IFERROR(IF(LEN(Etapes[[#This Row],[Progress]])=0,\"\",IF(AND($C17=\"MER\",CK$6=$F17,$G17=1),1,IF(AND($C17=\"MEP\",CK$6=$F17,$G17=1),2,IF(AND(CK$6=$F17,$G17=1),0,\"\")))),\"\")","v":""},{"$f":"IFERROR(IF(LEN(Etapes[[#This Row],[Start]])=0,\"\",IF(AND($C17=\"MER\",CL$6=$F17,$G17=1),1,IF(AND($C17=\"MEP\",CL$6=$F17,$G17=1),2,IF(AND(CL$6=$F17,$G17=1),0,\"\")))),\"\")","v":""},{"$f":"IFERROR(IF(LEN(Etapes[[#This Row],[Planned]])=0,\"\",IF(AND($C17=\"MER\",CM$6=$F17,$G17=1),1,IF(AND($C17=\"MEP\",CM$6=$F17,$G17=1),2,IF(AND(CM$6=$F17,$G17=1),0,\"\")))),\"\")","v":""},{"$f":"IFERROR(IF(LEN(Etapes[[#This Row],[Add]])=0,\"\",IF(AND($C17=\"MER\",CN$6=$F17,$G17=1),1,IF(AND($C17=\"MEP\",CN$6=$F17,$G17=1),2,IF(AND(CN$6=$F17,$G17=1),0,\"\")))),\"\")","v":""},{"$f":"IFERROR(IF(LEN(Etapes[[#This Row],[End]])=0,\"\",IF(AND($C17=\"MER\",CO$6=$F17,$G17=1),1,IF(AND($C17=\"MEP\",CO$6=$F17,$G17=1),2,IF(AND(CO$6=$F17,$G17=1),0,\"\")))),\"\")","v":""},{"$f":"IFERROR(IF(LEN(Etapes[[#This Row],[Réalisé]])=0,\"\",IF(AND($C17=\"MER\",CP$6=$F17,$G17=1),1,IF(AND($C17=\"MEP\",CP$6=$F17,$G17=1),2,IF(AND(CP$6=$F17,$G17=1),0,\"\")))),\"\")","v":""},{"$f":"IFERROR(IF(LEN(Etapes[[#This Row],[Activité]])=0,\"\",IF(AND($C17=\"MER\",CQ$6=$F17,$G17=1),1,IF(AND($C17=\"MEP\",CQ$6=$F17,$G17=1),2,IF(AND(CQ$6=$F17,$G17=1),0,\"\")))),\"\")","v":""},{"$f":"IFERROR(IF(LEN(Etapes[[#This Row],[Statut]])=0,\"\",IF(AND($C17=\"MER\",CR$6=$F17,$G17=1),1,IF(AND($C17=\"MEP\",CR$6=$F17,$G17=1),2,IF(AND(CR$6=$F17,$G17=1),0,\"\")))),\"\")","v":""},{"$f":"IFERROR(IF(LEN(Etapes[[#This Row],[Progress]])=0,\"\",IF(AND($C17=\"MER\",CS$6=$F17,$G17=1),1,IF(AND($C17=\"MEP\",CS$6=$F17,$G17=1),2,IF(AND(CS$6=$F17,$G17=1),0,\"\")))),\"\")","v":""},{"$f":"IFERROR(IF(LEN(Etapes[[#This Row],[Start]])=0,\"\",IF(AND($C17=\"MER\",CT$6=$F17,$G17=1),1,IF(AND($C17=\"MEP\",CT$6=$F17,$G17=1),2,IF(AND(CT$6=$F17,$G17=1),0,\"\")))),\"\")","v":""},{"$f":"IFERROR(IF(LEN(Etapes[[#This Row],[Planned]])=0,\"\",IF(AND($C17=\"MER\",CU$6=$F17,$G17=1),1,IF(AND($C17=\"MEP\",CU$6=$F17,$G17=1),2,IF(AND(CU$6=$F17,$G17=1),0,\"\")))),\"\")","v":""},{"$f":"IFERROR(IF(LEN(Etapes[[#This Row],[Add]])=0,\"\",IF(AND($C17=\"MER\",CV$6=$F17,$G17=1),1,IF(AND($C17=\"MEP\",CV$6=$F17,$G17=1),2,IF(AND(CV$6=$F17,$G17=1),0,\"\")))),\"\")","v":""},{"$f":"IFERROR(IF(LEN(Etapes[[#This Row],[End]])=0,\"\",IF(AND($C17=\"MER\",CW$6=$F17,$G17=1),1,IF(AND($C17=\"MEP\",CW$6=$F17,$G17=1),2,IF(AND(CW$6=$F17,$G17=1),0,\"\")))),\"\")","v":""}]
["2.3","Préparation RE7 ","Launched",{"$f":"Settings!D45","v":"VIE"},null,"2022-08-03",null,null,{"$f":"IF(Etapes[[#This Row],[Start]]<>\"\",WORKDAY(Etapes[[#This Row],[Start]],IF(WEEKDAY(Etapes[[#This Row],[Start]],1)>=6,Etapes[[#This Row],[Planned]]+Etapes[[#This Row],[Add]],Etapes[[#This Row],[Planned]]+Etapes[[#This Row],[Add]]-1),Férié),\"\")","v":"2022-08-02"},{"$f":"IF(Etapes[[#This Row],[Start]]<>\"\",WORKDAY(Etapes[[#This Row],[Start]],IF(WEEKDAY(Etapes[[#This Row],[Start]],1)>=6,Etapes[[#This Row],[Progress]]*Etapes[[#This Row],[Planned]]+Etapes[[#This Row],[Add]],(Etapes[[#This Row],[Progress]]*Etapes[[#This Row],[Planned]]+Etapes[[#This Row],[Add]])-1),Férié),\"\")","v":"2022-08-02"},null,{"$f":"IFERROR(IF(LEN(Etapes[[#This Row],[Planned]])=0,\"\",IF(AND($C18=\"MER\",L$6=$F18,$G18=1),1,IF(AND($C18=\"MEP\",L$6=$F18,$G18=1),2,IF(AND(L$6=$F18,$G18=1),0,\"\")))),\"\")","v":""},{"$f":"IFERROR(IF(LEN(Etapes[[#This Row],[Planned]])=0,\"\",IF(AND($C18=\"MER\",M$6=$F18,$G18=1),1,IF(AND($C18=\"MEP\",M$6=$F18,$G18=1),2,IF(AND(M$6=$F18,$G18=1),0,\"\")))),\"\")","v":""},{"$f":"IFERROR(IF(LEN(Etapes[[#This Row],[Planned]])=0,\"\",IF(AND($C18=\"MER\",N$6=$F18,$G18=1),1,IF(AND($C18=\"MEP\",N$6=$F18,$G18=1),2,IF(AND(N$6=$F18,$G18=1),0,\"\")))),\"\")","v":""},{"$f":"IFERROR(IF(LEN(Etapes[[#This Row],[Planned]])=0,\"\",IF(AND($C18=\"MER\",O$6=$F18,$G18=1),1,IF(AND($C18=\"MEP\",O$6=$F18,$G18=1),2,IF(AND(O$6=$F18,$G18=1),0,\"\")))),\"\")","v":""},{"$f":"IFERROR(IF(LEN(Etapes[[#This Row],[Planned]])=0,\"\",IF(AND($C18=\"MER\",P$6=$F18,$G18=1),1,IF(AND($C18=\"MEP\",P$6=$F18,$G18=1),2,IF(AND(P$6=$F18,$G18=1),0,\"\")))),\"\")","v":""},{"$f":"IFERROR(IF(LEN(Etapes[[#This Row],[Planned]])=0,\"\",IF(AND($C18=\"MER\",Q$6=$F18,$G18=1),1,IF(AND($C18=\"MEP\",Q$6=$F18,$G18=1),2,IF(AND(Q$6=$F18,$G18=1),0,\"\")))),\"\")","v":""},{"$f":"IFERROR(IF(LEN(Etapes[[#This Row],[Planned]])=0,\"\",IF(AND($C18=\"MER\",R$6=$F18,$G18=1),1,IF(AND($C18=\"MEP\",R$6=$F18,$G18=1),2,IF(AND(R$6=$F18,$G18=1),0,\"\")))),\"\")","v":""},{"$f":"IFERROR(IF(LEN(Etapes[[#This Row],[Planned]])=0,\"\",IF(AND($C18=\"MER\",S$6=$F18,$G18=1),1,IF(AND($C18=\"MEP\",S$6=$F18,$G18=1),2,IF(AND(S$6=$F18,$G18=1),0,\"\")))),\"\")","v":""},{"$f":"IFERROR(IF(LEN(Etapes[[#This Row],[Planned]])=0,\"\",IF(AND($C18=\"MER\",T$6=$F18,$G18=1),1,IF(AND($C18=\"MEP\",T$6=$F18,$G18=1),2,IF(AND(T$6=$F18,$G18=1),0,\"\")))),\"\")","v":""},{"$f":"IFERROR(IF(LEN(Etapes[[#This Row],[Planned]])=0,\"\",IF(AND($C18=\"MER\",U$6=$F18,$G18=1),1,IF(AND($C18=\"MEP\",U$6=$F18,$G18=1),2,IF(AND(U$6=$F18,$G18=1),0,\"\")))),\"\")","v":""},{"$f":"IFERROR(IF(LEN(Etapes[[#This Row],[Planned]])=0,\"\",IF(AND($C18=\"MER\",V$6=$F18,$G18=1),1,IF(AND($C18=\"MEP\",V$6=$F18,$G18=1),2,IF(AND(V$6=$F18,$G18=1),0,\"\")))),\"\")","v":""},{"$f":"IFERROR(IF(LEN(Etapes[[#This Row],[Planned]])=0,\"\",IF(AND($C18=\"MER\",W$6=$F18,$G18=1),1,IF(AND($C18=\"MEP\",W$6=$F18,$G18=1),2,IF(AND(W$6=$F18,$G18=1),0,\"\")))),\"\")","v":""},{"$f":"IFERROR(IF(LEN(Etapes[[#This Row],[Planned]])=0,\"\",IF(AND($C18=\"MER\",X$6=$F18,$G18=1),1,IF(AND($C18=\"MEP\",X$6=$F18,$G18=1),2,IF(AND(X$6=$F18,$G18=1),0,\"\")))),\"\")","v":""},{"$f":"IFERROR(IF(LEN(Etapes[[#This Row],[Planned]])=0,\"\",IF(AND($C18=\"MER\",Y$6=$F18,$G18=1),1,IF(AND($C18=\"MEP\",Y$6=$F18,$G18=1),2,IF(AND(Y$6=$F18,$G18=1),0,\"\")))),\"\")","v":""},{"$f":"IFERROR(IF(LEN(Etapes[[#This Row],[Planned]])=0,\"\",IF(AND($C18=\"MER\",Z$6=$F18,$G18=1),1,IF(AND($C18=\"MEP\",Z$6=$F18,$G18=1),2,IF(AND(Z$6=$F18,$G18=1),0,\"\")))),\"\")","v":""},{"$f":"IFERROR(IF(LEN(Etapes[[#This Row],[Planned]])=0,\"\",IF(AND($C18=\"MER\",AA$6=$F18,$G18=1),1,IF(AND($C18=\"MEP\",AA$6=$F18,$G18=1),2,IF(AND(AA$6=$F18,$G18=1),0,\"\")))),\"\")","v":""},{"$f":"IFERROR(IF(LEN(Etapes[[#This Row],[Planned]])=0,\"\",IF(AND($C18=\"MER\",AB$6=$F18,$G18=1),1,IF(AND($C18=\"MEP\",AB$6=$F18,$G18=1),2,IF(AND(AB$6=$F18,$G18=1),0,\"\")))),\"\")","v":""},{"$f":"IFERROR(IF(LEN(Etapes[[#This Row],[Planned]])=0,\"\",IF(AND($C18=\"MER\",AC$6=$F18,$G18=1),1,IF(AND($C18=\"MEP\",AC$6=$F18,$G18=1),2,IF(AND(AC$6=$F18,$G18=1),0,\"\")))),\"\")","v":""},{"$f":"IFERROR(IF(LEN(Etapes[[#This Row],[Planned]])=0,\"\",IF(AND($C18=\"MER\",AD$6=$F18,$G18=1),1,IF(AND($C18=\"MEP\",AD$6=$F18,$G18=1),2,IF(AND(AD$6=$F18,$G18=1),0,\"\")))),\"\")","v":""},{"$f":"IFERROR(IF(LEN(Etapes[[#This Row],[Planned]])=0,\"\",IF(AND($C18=\"MER\",AE$6=$F18,$G18=1),1,IF(AND($C18=\"MEP\",AE$6=$F18,$G18=1),2,IF(AND(AE$6=$F18,$G18=1),0,\"\")))),\"\")","v":""},{"$f":"IFERROR(IF(LEN(Etapes[[#This Row],[Planned]])=0,\"\",IF(AND($C18=\"MER\",AF$6=$F18,$G18=1),1,IF(AND($C18=\"MEP\",AF$6=$F18,$G18=1),2,IF(AND(AF$6=$F18,$G18=1),0,\"\")))),\"\")","v":""},{"$f":"IFERROR(IF(LEN(Etapes[[#This Row],[Planned]])=0,\"\",IF(AND($C18=\"MER\",AG$6=$F18,$G18=1),1,IF(AND($C18=\"MEP\",AG$6=$F18,$G18=1),2,IF(AND(AG$6=$F18,$G18=1),0,\"\")))),\"\")","v":""},{"$f":"IFERROR(IF(LEN(Etapes[[#This Row],[Planned]])=0,\"\",IF(AND($C18=\"MER\",AH$6=$F18,$G18=1),1,IF(AND($C18=\"MEP\",AH$6=$F18,$G18=1),2,IF(AND(AH$6=$F18,$G18=1),0,\"\")))),\"\")","v":""},{"$f":"IFERROR(IF(LEN(Etapes[[#This Row],[Planned]])=0,\"\",IF(AND($C18=\"MER\",AI$6=$F18,$G18=1),1,IF(AND($C18=\"MEP\",AI$6=$F18,$G18=1),2,IF(AND(AI$6=$F18,$G18=1),0,\"\")))),\"\")","v":""},{"$f":"IFERROR(IF(LEN(Etapes[[#This Row],[Planned]])=0,\"\",IF(AND($C18=\"MER\",AJ$6=$F18,$G18=1),1,IF(AND($C18=\"MEP\",AJ$6=$F18,$G18=1),2,IF(AND(AJ$6=$F18,$G18=1),0,\"\")))),\"\")","v":""},{"$f":"IFERROR(IF(LEN(Etapes[[#This Row],[Planned]])=0,\"\",IF(AND($C18=\"MER\",AK$6=$F18,$G18=1),1,IF(AND($C18=\"MEP\",AK$6=$F18,$G18=1),2,IF(AND(AK$6=$F18,$G18=1),0,\"\")))),\"\")","v":""},{"$f":"IFERROR(IF(LEN(Etapes[[#This Row],[Planned]])=0,\"\",IF(AND($C18=\"MER\",AL$6=$F18,$G18=1),1,IF(AND($C18=\"MEP\",AL$6=$F18,$G18=1),2,IF(AND(AL$6=$F18,$G18=1),0,\"\")))),\"\")","v":""},{"$f":"IFERROR(IF(LEN(Etapes[[#This Row],[Planned]])=0,\"\",IF(AND($C18=\"MER\",AM$6=$F18,$G18=1),1,IF(AND($C18=\"MEP\",AM$6=$F18,$G18=1),2,IF(AND(AM$6=$F18,$G18=1),0,\"\")))),\"\")","v":""},{"$f":"IFERROR(IF(LEN(Etapes[[#This Row],[Planned]])=0,\"\",IF(AND($C18=\"MER\",AN$6=$F18,$G18=1),1,IF(AND($C18=\"MEP\",AN$6=$F18,$G18=1),2,IF(AND(AN$6=$F18,$G18=1),0,\"\")))),\"\")","v":""},{"$f":"IFERROR(IF(LEN(Etapes[[#This Row],[Planned]])=0,\"\",IF(AND($C18=\"MER\",AO$6=$F18,$G18=1),1,IF(AND($C18=\"MEP\",AO$6=$F18,$G18=1),2,IF(AND(AO$6=$F18,$G18=1),0,\"\")))),\"\")","v":""},{"$f":"IFERROR(IF(LEN(Etapes[[#This Row],[Planned]])=0,\"\",IF(AND($C18=\"MER\",AP$6=$F18,$G18=1),1,IF(AND($C18=\"MEP\",AP$6=$F18,$G18=1),2,IF(AND(AP$6=$F18,$G18=1),0,\"\")))),\"\")","v":""},{"$f":"IFERROR(IF(LEN(Etapes[[#This Row],[Planned]])=0,\"\",IF(AND($C18=\"MER\",AQ$6=$F18,$G18=1),1,IF(AND($C18=\"MEP\",AQ$6=$F18,$G18=1),2,IF(AND(AQ$6=$F18,$G18=1),0,\"\")))),\"\")","v":""},{"$f":"IFERROR(IF(LEN(Etapes[[#This Row],[Planned]])=0,\"\",IF(AND($C18=\"MER\",AR$6=$F18,$G18=1),1,IF(AND($C18=\"MEP\",AR$6=$F18,$G18=1),2,IF(AND(AR$6=$F18,$G18=1),0,\"\")))),\"\")","v":""},{"$f":"IFERROR(IF(LEN(Etapes[[#This Row],[Planned]])=0,\"\",IF(AND($C18=\"MER\",AS$6=$F18,$G18=1),1,IF(AND($C18=\"MEP\",AS$6=$F18,$G18=1),2,IF(AND(AS$6=$F18,$G18=1),0,\"\")))),\"\")","v":""},{"$f":"IFERROR(IF(LEN(Etapes[[#This Row],[Planned]])=0,\"\",IF(AND($C18=\"MER\",AT$6=$F18,$G18=1),1,IF(AND($C18=\"MEP\",AT$6=$F18,$G18=1),2,IF(AND(AT$6=$F18,$G18=1),0,\"\")))),\"\")","v":""},{"$f":"IFERROR(IF(LEN(Etapes[[#This Row],[Planned]])=0,\"\",IF(AND($C18=\"MER\",AU$6=$F18,$G18=1),1,IF(AND($C18=\"MEP\",AU$6=$F18,$G18=1),2,IF(AND(AU$6=$F18,$G18=1),0,\"\")))),\"\")","v":""},{"$f":"IFERROR(IF(LEN(Etapes[[#This Row],[Planned]])=0,\"\",IF(AND($C18=\"MER\",AV$6=$F18,$G18=1),1,IF(AND($C18=\"MEP\",AV$6=$F18,$G18=1),2,IF(AND(AV$6=$F18,$G18=1),0,\"\")))),\"\")","v":""},{"$f":"IFERROR(IF(LEN(Etapes[[#This Row],[Planned]])=0,\"\",IF(AND($C18=\"MER\",AW$6=$F18,$G18=1),1,IF(AND($C18=\"MEP\",AW$6=$F18,$G18=1),2,IF(AND(AW$6=$F18,$G18=1),0,\"\")))),\"\")","v":""},{"$f":"IFERROR(IF(LEN(Etapes[[#This Row],[Planned]])=0,\"\",IF(AND($C18=\"MER\",AX$6=$F18,$G18=1),1,IF(AND($C18=\"MEP\",AX$6=$F18,$G18=1),2,IF(AND(AX$6=$F18,$G18=1),0,\"\")))),\"\")","v":""},{"$f":"IFERROR(IF(LEN(Etapes[[#This Row],[Planned]])=0,\"\",IF(AND($C18=\"MER\",AY$6=$F18,$G18=1),1,IF(AND($C18=\"MEP\",AY$6=$F18,$G18=1),2,IF(AND(AY$6=$F18,$G18=1),0,\"\")))),\"\")","v":""},{"$f":"IFERROR(IF(LEN(Etapes[[#This Row],[Planned]])=0,\"\",IF(AND($C18=\"MER\",AZ$6=$F18,$G18=1),1,IF(AND($C18=\"MEP\",AZ$6=$F18,$G18=1),2,IF(AND(AZ$6=$F18,$G18=1),0,\"\")))),\"\")","v":""},{"$f":"IFERROR(IF(LEN(Etapes[[#This Row],[Planned]])=0,\"\",IF(AND($C18=\"MER\",BA$6=$F18,$G18=1),1,IF(AND($C18=\"MEP\",BA$6=$F18,$G18=1),2,IF(AND(BA$6=$F18,$G18=1),0,\"\")))),\"\")","v":""},{"$f":"IFERROR(IF(LEN(Etapes[[#This Row],[Planned]])=0,\"\",IF(AND($C18=\"MER\",BB$6=$F18,$G18=1),1,IF(AND($C18=\"MEP\",BB$6=$F18,$G18=1),2,IF(AND(BB$6=$F18,$G18=1),0,\"\")))),\"\")","v":""},{"$f":"IFERROR(IF(LEN(Etapes[[#This Row],[Planned]])=0,\"\",IF(AND($C18=\"MER\",BC$6=$F18,$G18=1),1,IF(AND($C18=\"MEP\",BC$6=$F18,$G18=1),2,IF(AND(BC$6=$F18,$G18=1),0,\"\")))),\"\")","v":""},{"$f":"IFERROR(IF(LEN(Etapes[[#This Row],[Planned]])=0,\"\",IF(AND($C18=\"MER\",BD$6=$F18,$G18=1),1,IF(AND($C18=\"MEP\",BD$6=$F18,$G18=1),2,IF(AND(BD$6=$F18,$G18=1),0,\"\")))),\"\")","v":""},{"$f":"IFERROR(IF(LEN(Etapes[[#This Row],[Planned]])=0,\"\",IF(AND($C18=\"MER\",BE$6=$F18,$G18=1),1,IF(AND($C18=\"MEP\",BE$6=$F18,$G18=1),2,IF(AND(BE$6=$F18,$G18=1),0,\"\")))),\"\")","v":""},{"$f":"IFERROR(IF(LEN(Etapes[[#This Row],[Planned]])=0,\"\",IF(AND($C18=\"MER\",BF$6=$F18,$G18=1),1,IF(AND($C18=\"MEP\",BF$6=$F18,$G18=1),2,IF(AND(BF$6=$F18,$G18=1),0,\"\")))),\"\")","v":""},{"$f":"IFERROR(IF(LEN(Etapes[[#This Row],[Planned]])=0,\"\",IF(AND($C18=\"MER\",BG$6=$F18,$G18=1),1,IF(AND($C18=\"MEP\",BG$6=$F18,$G18=1),2,IF(AND(BG$6=$F18,$G18=1),0,\"\")))),\"\")","v":""},{"$f":"IFERROR(IF(LEN(Etapes[[#This Row],[Planned]])=0,\"\",IF(AND($C18=\"MER\",BH$6=$F18,$G18=1),1,IF(AND($C18=\"MEP\",BH$6=$F18,$G18=1),2,IF(AND(BH$6=$F18,$G18=1),0,\"\")))),\"\")","v":""},{"$f":"IFERROR(IF(LEN(Etapes[[#This Row],[Planned]])=0,\"\",IF(AND($C18=\"MER\",BI$6=$F18,$G18=1),1,IF(AND($C18=\"MEP\",BI$6=$F18,$G18=1),2,IF(AND(BI$6=$F18,$G18=1),0,\"\")))),\"\")","v":""},{"$f":"IFERROR(IF(LEN(Etapes[[#This Row],[Planned]])=0,\"\",IF(AND($C18=\"MER\",BJ$6=$F18,$G18=1),1,IF(AND($C18=\"MEP\",BJ$6=$F18,$G18=1),2,IF(AND(BJ$6=$F18,$G18=1),0,\"\")))),\"\")","v":""},{"$f":"IFERROR(IF(LEN(Etapes[[#This Row],[Planned]])=0,\"\",IF(AND($C18=\"MER\",BK$6=$F18,$G18=1),1,IF(AND($C18=\"MEP\",BK$6=$F18,$G18=1),2,IF(AND(BK$6=$F18,$G18=1),0,\"\")))),\"\")","v":""},{"$f":"IFERROR(IF(LEN(Etapes[[#This Row],[Planned]])=0,\"\",IF(AND($C18=\"MER\",BL$6=$F18,$G18=1),1,IF(AND($C18=\"MEP\",BL$6=$F18,$G18=1),2,IF(AND(BL$6=$F18,$G18=1),0,\"\")))),\"\")","v":""},{"$f":"IFERROR(IF(LEN(Etapes[[#This Row],[Planned]])=0,\"\",IF(AND($C18=\"MER\",BM$6=$F18,$G18=1),1,IF(AND($C18=\"MEP\",BM$6=$F18,$G18=1),2,IF(AND(BM$6=$F18,$G18=1),0,\"\")))),\"\")","v":""},{"$f":"IFERROR(IF(LEN(Etapes[[#This Row],[Planned]])=0,\"\",IF(AND($C18=\"MER\",BN$6=$F18,$G18=1),1,IF(AND($C18=\"MEP\",BN$6=$F18,$G18=1),2,IF(AND(BN$6=$F18,$G18=1),0,\"\")))),\"\")","v":""},{"$f":"IFERROR(IF(LEN(Etapes[[#This Row],[Planned]])=0,\"\",IF(AND($C18=\"MER\",BO$6=$F18,$G18=1),1,IF(AND($C18=\"MEP\",BO$6=$F18,$G18=1),2,IF(AND(BO$6=$F18,$G18=1),0,\"\")))),\"\")","v":""},{"$f":"IFERROR(IF(LEN(Etapes[[#This Row],[Add]])=0,\"\",IF(AND($C18=\"MER\",BP$6=$F18,$G18=1),1,IF(AND($C18=\"MEP\",BP$6=$F18,$G18=1),2,IF(AND(BP$6=$F18,$G18=1),0,\"\")))),\"\")","v":""},{"$f":"IFERROR(IF(LEN(Etapes[[#This Row],[End]])=0,\"\",IF(AND($C18=\"MER\",BQ$6=$F18,$G18=1),1,IF(AND($C18=\"MEP\",BQ$6=$F18,$G18=1),2,IF(AND(BQ$6=$F18,$G18=1),0,\"\")))),\"\")","v":""},{"$f":"IFERROR(IF(LEN(Etapes[[#This Row],[Réalisé]])=0,\"\",IF(AND($C18=\"MER\",BR$6=$F18,$G18=1),1,IF(AND($C18=\"MEP\",BR$6=$F18,$G18=1),2,IF(AND(BR$6=$F18,$G18=1),0,\"\")))),\"\")","v":""},{"$f":"IFERROR(IF(LEN(Etapes[[#This Row],[Activité]])=0,\"\",IF(AND($C18=\"MER\",BS$6=$F18,$G18=1),1,IF(AND($C18=\"MEP\",BS$6=$F18,$G18=1),2,IF(AND(BS$6=$F18,$G18=1),0,\"\")))),\"\")","v":""},{"$f":"IFERROR(IF(LEN(Etapes[[#This Row],[Statut]])=0,\"\",IF(AND($C18=\"MER\",BT$6=$F18,$G18=1),1,IF(AND($C18=\"MEP\",BT$6=$F18,$G18=1),2,IF(AND(BT$6=$F18,$G18=1),0,\"\")))),\"\")","v":""},{"$f":"IFERROR(IF(LEN(Etapes[[#This Row],[Progress]])=0,\"\",IF(AND($C18=\"MER\",BU$6=$F18,$G18=1),1,IF(AND($C18=\"MEP\",BU$6=$F18,$G18=1),2,IF(AND(BU$6=$F18,$G18=1),0,\"\")))),\"\")","v":""},{"$f":"IFERROR(IF(LEN(Etapes[[#This Row],[Start]])=0,\"\",IF(AND($C18=\"MER\",BV$6=$F18,$G18=1),1,IF(AND($C18=\"MEP\",BV$6=$F18,$G18=1),2,IF(AND(BV$6=$F18,$G18=1),0,\"\")))),\"\")","v":""},{"$f":"IFERROR(IF(LEN(Etapes[[#This Row],[Planned]])=0,\"\",IF(AND($C18=\"MER\",BW$6=$F18,$G18=1),1,IF(AND($C18=\"MEP\",BW$6=$F18,$G18=1),2,IF(AND(BW$6=$F18,$G18=1),0,\"\")))),\"\")","v":""},{"$f":"IFERROR(IF(LEN(Etapes[[#This Row],[Add]])=0,\"\",IF(AND($C18=\"MER\",BX$6=$F18,$G18=1),1,IF(AND($C18=\"MEP\",BX$6=$F18,$G18=1),2,IF(AND(BX$6=$F18,$G18=1),0,\"\")))),\"\")","v":""},{"$f":"IFERROR(IF(LEN(Etapes[[#This Row],[End]])=0,\"\",IF(AND($C18=\"MER\",BY$6=$F18,$G18=1),1,IF(AND($C18=\"MEP\",BY$6=$F18,$G18=1),2,IF(AND(BY$6=$F18,$G18=1),0,\"\")))),\"\")","v":""},{"$f":"IFERROR(IF(LEN(Etapes[[#This Row],[Réalisé]])=0,\"\",IF(AND($C18=\"MER\",BZ$6=$F18,$G18=1),1,IF(AND($C18=\"MEP\",BZ$6=$F18,$G18=1),2,IF(AND(BZ$6=$F18,$G18=1),0,\"\")))),\"\")","v":""},{"$f":"IFERROR(IF(LEN(Etapes[[#This Row],[Activité]])=0,\"\",IF(AND($C18=\"MER\",CA$6=$F18,$G18=1),1,IF(AND($C18=\"MEP\",CA$6=$F18,$G18=1),2,IF(AND(CA$6=$F18,$G18=1),0,\"\")))),\"\")","v":""},{"$f":"IFERROR(IF(LEN(Etapes[[#This Row],[Statut]])=0,\"\",IF(AND($C18=\"MER\",CB$6=$F18,$G18=1),1,IF(AND($C18=\"MEP\",CB$6=$F18,$G18=1),2,IF(AND(CB$6=$F18,$G18=1),0,\"\")))),\"\")","v":""},{"$f":"IFERROR(IF(LEN(Etapes[[#This Row],[Progress]])=0,\"\",IF(AND($C18=\"MER\",CC$6=$F18,$G18=1),1,IF(AND($C18=\"MEP\",CC$6=$F18,$G18=1),2,IF(AND(CC$6=$F18,$G18=1),0,\"\")))),\"\")","v":""},{"$f":"IFERROR(IF(LEN(Etapes[[#This Row],[Start]])=0,\"\",IF(AND($C18=\"MER\",CD$6=$F18,$G18=1),1,IF(AND($C18=\"MEP\",CD$6=$F18,$G18=1),2,IF(AND(CD$6=$F18,$G18=1),0,\"\")))),\"\")","v":""},{"$f":"IFERROR(IF(LEN(Etapes[[#This Row],[Planned]])=0,\"\",IF(AND($C18=\"MER\",CE$6=$F18,$G18=1),1,IF(AND($C18=\"MEP\",CE$6=$F18,$G18=1),2,IF(AND(CE$6=$F18,$G18=1),0,\"\")))),\"\")","v":""},{"$f":"IFERROR(IF(LEN(Etapes[[#This Row],[Add]])=0,\"\",IF(AND($C18=\"MER\",CF$6=$F18,$G18=1),1,IF(AND($C18=\"MEP\",CF$6=$F18,$G18=1),2,IF(AND(CF$6=$F18,$G18=1),0,\"\")))),\"\")","v":""},{"$f":"IFERROR(IF(LEN(Etapes[[#This Row],[End]])=0,\"\",IF(AND($C18=\"MER\",CG$6=$F18,$G18=1),1,IF(AND($C18=\"MEP\",CG$6=$F18,$G18=1),2,IF(AND(CG$6=$F18,$G18=1),0,\"\")))),\"\")","v":""},{"$f":"IFERROR(IF(LEN(Etapes[[#This Row],[Réalisé]])=0,\"\",IF(AND($C18=\"MER\",CH$6=$F18,$G18=1),1,IF(AND($C18=\"MEP\",CH$6=$F18,$G18=1),2,IF(AND(CH$6=$F18,$G18=1),0,\"\")))),\"\")","v":""},{"$f":"IFERROR(IF(LEN(Etapes[[#This Row],[Activité]])=0,\"\",IF(AND($C18=\"MER\",CI$6=$F18,$G18=1),1,IF(AND($C18=\"MEP\",CI$6=$F18,$G18=1),2,IF(AND(CI$6=$F18,$G18=1),0,\"\")))),\"\")","v":""},{"$f":"IFERROR(IF(LEN(Etapes[[#This Row],[Statut]])=0,\"\",IF(AND($C18=\"MER\",CJ$6=$F18,$G18=1),1,IF(AND($C18=\"MEP\",CJ$6=$F18,$G18=1),2,IF(AND(CJ$6=$F18,$G18=1),0,\"\")))),\"\")","v":""},{"$f":"IFERROR(IF(LEN(Etapes[[#This Row],[Progress]])=0,\"\",IF(AND($C18=\"MER\",CK$6=$F18,$G18=1),1,IF(AND($C18=\"MEP\",CK$6=$F18,$G18=1),2,IF(AND(CK$6=$F18,$G18=1),0,\"\")))),\"\")","v":""},{"$f":"IFERROR(IF(LEN(Etapes[[#This Row],[Start]])=0,\"\",IF(AND($C18=\"MER\",CL$6=$F18,$G18=1),1,IF(AND($C18=\"MEP\",CL$6=$F18,$G18=1),2,IF(AND(CL$6=$F18,$G18=1),0,\"\")))),\"\")","v":""},{"$f":"IFERROR(IF(LEN(Etapes[[#This Row],[Planned]])=0,\"\",IF(AND($C18=\"MER\",CM$6=$F18,$G18=1),1,IF(AND($C18=\"MEP\",CM$6=$F18,$G18=1),2,IF(AND(CM$6=$F18,$G18=1),0,\"\")))),\"\")","v":""},{"$f":"IFERROR(IF(LEN(Etapes[[#This Row],[Add]])=0,\"\",IF(AND($C18=\"MER\",CN$6=$F18,$G18=1),1,IF(AND($C18=\"MEP\",CN$6=$F18,$G18=1),2,IF(AND(CN$6=$F18,$G18=1),0,\"\")))),\"\")","v":""},{"$f":"IFERROR(IF(LEN(Etapes[[#This Row],[End]])=0,\"\",IF(AND($C18=\"MER\",CO$6=$F18,$G18=1),1,IF(AND($C18=\"MEP\",CO$6=$F18,$G18=1),2,IF(AND(CO$6=$F18,$G18=1),0,\"\")))),\"\")","v":""},{"$f":"IFERROR(IF(LEN(Etapes[[#This Row],[Réalisé]])=0,\"\",IF(AND($C18=\"MER\",CP$6=$F18,$G18=1),1,IF(AND($C18=\"MEP\",CP$6=$F18,$G18=1),2,IF(AND(CP$6=$F18,$G18=1),0,\"\")))),\"\")","v":""},{"$f":"IFERROR(IF(LEN(Etapes[[#This Row],[Activité]])=0,\"\",IF(AND($C18=\"MER\",CQ$6=$F18,$G18=1),1,IF(AND($C18=\"MEP\",CQ$6=$F18,$G18=1),2,IF(AND(CQ$6=$F18,$G18=1),0,\"\")))),\"\")","v":""},{"$f":"IFERROR(IF(LEN(Etapes[[#This Row],[Statut]])=0,\"\",IF(AND($C18=\"MER\",CR$6=$F18,$G18=1),1,IF(AND($C18=\"MEP\",CR$6=$F18,$G18=1),2,IF(AND(CR$6=$F18,$G18=1),0,\"\")))),\"\")","v":""},{"$f":"IFERROR(IF(LEN(Etapes[[#This Row],[Progress]])=0,\"\",IF(AND($C18=\"MER\",CS$6=$F18,$G18=1),1,IF(AND($C18=\"MEP\",CS$6=$F18,$G18=1),2,IF(AND(CS$6=$F18,$G18=1),0,\"\")))),\"\")","v":""},{"$f":"IFERROR(IF(LEN(Etapes[[#This Row],[Start]])=0,\"\",IF(AND($C18=\"MER\",CT$6=$F18,$G18=1),1,IF(AND($C18=\"MEP\",CT$6=$F18,$G18=1),2,IF(AND(CT$6=$F18,$G18=1),0,\"\")))),\"\")","v":""},{"$f":"IFERROR(IF(LEN(Etapes[[#This Row],[Planned]])=0,\"\",IF(AND($C18=\"MER\",CU$6=$F18,$G18=1),1,IF(AND($C18=\"MEP\",CU$6=$F18,$G18=1),2,IF(AND(CU$6=$F18,$G18=1),0,\"\")))),\"\")","v":""},{"$f":"IFERROR(IF(LEN(Etapes[[#This Row],[Add]])=0,\"\",IF(AND($C18=\"MER\",CV$6=$F18,$G18=1),1,IF(AND($C18=\"MEP\",CV$6=$F18,$G18=1),2,IF(AND(CV$6=$F18,$G18=1),0,\"\")))),\"\")","v":""},{"$f":"IFERROR(IF(LEN(Etapes[[#This Row],[End]])=0,\"\",IF(AND($C18=\"MER\",CW$6=$F18,$G18=1),1,IF(AND($C18=\"MEP\",CW$6=$F18,$G18=1),2,IF(AND(CW$6=$F18,$G18=1),0,\"\")))),\"\")","v":""}]
["2.4","Exécution tests","Launched",{"$f":"Settings!E45","v":"VIE"},null,"2022-08-03",null,null,{"$f":"IF(Etapes[[#This Row],[Start]]<>\"\",WORKDAY(Etapes[[#This Row],[Start]],IF(WEEKDAY(Etapes[[#This Row],[Start]],1)>=6,Etapes[[#This Row],[Planned]]+Etapes[[#This Row],[Add]],Etapes[[#This Row],[Planned]]+Etapes[[#This Row],[Add]]-1),Férié),\"\")","v":"2022-08-02"},{"$f":"IF(Etapes[[#This Row],[Start]]<>\"\",WORKDAY(Etapes[[#This Row],[Start]],IF(WEEKDAY(Etapes[[#This Row],[Start]],1)>=6,Etapes[[#This Row],[Progress]]*Etapes[[#This Row],[Planned]]+Etapes[[#This Row],[Add]],(Etapes[[#This Row],[Progress]]*Etapes[[#This Row],[Planned]]+Etapes[[#This Row],[Add]])-1),Férié),\"\")","v":"2022-08-02"},null,{"$f":"IFERROR(IF(LEN(Etapes[[#This Row],[Planned]])=0,\"\",IF(AND($C19=\"MER\",L$6=$F19,$G19=1),1,IF(AND($C19=\"MEP\",L$6=$F19,$G19=1),2,IF(AND(L$6=$F19,$G19=1),0,\"\")))),\"\")","v":""},{"$f":"IFERROR(IF(LEN(Etapes[[#This Row],[Planned]])=0,\"\",IF(AND($C19=\"MER\",M$6=$F19,$G19=1),1,IF(AND($C19=\"MEP\",M$6=$F19,$G19=1),2,IF(AND(M$6=$F19,$G19=1),0,\"\")))),\"\")","v":""},{"$f":"IFERROR(IF(LEN(Etapes[[#This Row],[Planned]])=0,\"\",IF(AND($C19=\"MER\",N$6=$F19,$G19=1),1,IF(AND($C19=\"MEP\",N$6=$F19,$G19=1),2,IF(AND(N$6=$F19,$G19=1),0,\"\")))),\"\")","v":""},{"$f":"IFERROR(IF(LEN(Etapes[[#This Row],[Planned]])=0,\"\",IF(AND($C19=\"MER\",O$6=$F19,$G19=1),1,IF(AND($C19=\"MEP\",O$6=$F19,$G19=1),2,IF(AND(O$6=$F19,$G19=1),0,\"\")))),\"\")","v":""},{"$f":"IFERROR(IF(LEN(Etapes[[#This Row],[Planned]])=0,\"\",IF(AND($C19=\"MER\",P$6=$F19,$G19=1),1,IF(AND($C19=\"MEP\",P$6=$F19,$G19=1),2,IF(AND(P$6=$F19,$G19=1),0,\"\")))),\"\")","v":""},{"$f":"IFERROR(IF(LEN(Etapes[[#This Row],[Planned]])=0,\"\",IF(AND($C19=\"MER\",Q$6=$F19,$G19=1),1,IF(AND($C19=\"MEP\",Q$6=$F19,$G19=1),2,IF(AND(Q$6=$F19,$G19=1),0,\"\")))),\"\")","v":""},{"$f":"IFERROR(IF(LEN(Etapes[[#This Row],[Planned]])=0,\"\",IF(AND($C19=\"MER\",R$6=$F19,$G19=1),1,IF(AND($C19=\"MEP\",R$6=$F19,$G19=1),2,IF(AND(R$6=$F19,$G19=1),0,\"\")))),\"\")","v":""},{"$f":"IFERROR(IF(LEN(Etapes[[#This Row],[Planned]])=0,\"\",IF(AND($C19=\"MER\",S$6=$F19,$G19=1),1,IF(AND($C19=\"MEP\",S$6=$F19,$G19=1),2,IF(AND(S$6=$F19,$G19=1),0,\"\")))),\"\")","v":""},{"$f":"IFERROR(IF(LEN(Etapes[[#This Row],[Planned]])=0,\"\",IF(AND($C19=\"MER\",T$6=$F19,$G19=1),1,IF(AND($C19=\"MEP\",T$6=$F19,$G19=1),2,IF(AND(T$6=$F19,$G19=1),0,\"\")))),\"\")","v":""},{"$f":"IFERROR(IF(LEN(Etapes[[#This Row],[Planned]])=0,\"\",IF(AND($C19=\"MER\",U$6=$F19,$G19=1),1,IF(AND($C19=\"MEP\",U$6=$F19,$G19=1),2,IF(AND(U$6=$F19,$G19=1),0,\"\")))),\"\")","v":""},{"$f":"IFERROR(IF(LEN(Etapes[[#This Row],[Planned]])=0,\"\",IF(AND($C19=\"MER\",V$6=$F19,$G19=1),1,IF(AND($C19=\"MEP\",V$6=$F19,$G19=1),2,IF(AND(V$6=$F19,$G19=1),0,\"\")))),\"\")","v":""},{"$f":"IFERROR(IF(LEN(Etapes[[#This Row],[Planned]])=0,\"\",IF(AND($C19=\"MER\",W$6=$F19,$G19=1),1,IF(AND($C19=\"MEP\",W$6=$F19,$G19=1),2,IF(AND(W$6=$F19,$G19=1),0,\"\")))),\"\")","v":""},{"$f":"IFERROR(IF(LEN(Etapes[[#This Row],[Planned]])=0,\"\",IF(AND($C19=\"MER\",X$6=$F19,$G19=1),1,IF(AND($C19=\"MEP\",X$6=$F19,$G19=1),2,IF(AND(X$6=$F19,$G19=1),0,\"\")))),\"\")","v":""},{"$f":"IFERROR(IF(LEN(Etapes[[#This Row],[Planned]])=0,\"\",IF(AND($C19=\"MER\",Y$6=$F19,$G19=1),1,IF(AND($C19=\"MEP\",Y$6=$F19,$G19=1),2,IF(AND(Y$6=$F19,$G19=1),0,\"\")))),\"\")","v":""},{"$f":"IFERROR(IF(LEN(Etapes[[#This Row],[Planned]])=0,\"\",IF(AND($C19=\"MER\",Z$6=$F19,$G19=1),1,IF(AND($C19=\"MEP\",Z$6=$F19,$G19=1),2,IF(AND(Z$6=$F19,$G19=1),0,\"\")))),\"\")","v":""},{"$f":"IFERROR(IF(LEN(Etapes[[#This Row],[Planned]])=0,\"\",IF(AND($C19=\"MER\",AA$6=$F19,$G19=1),1,IF(AND($C19=\"MEP\",AA$6=$F19,$G19=1),2,IF(AND(AA$6=$F19,$G19=1),0,\"\")))),\"\")","v":""},{"$f":"IFERROR(IF(LEN(Etapes[[#This Row],[Planned]])=0,\"\",IF(AND($C19=\"MER\",AB$6=$F19,$G19=1),1,IF(AND($C19=\"MEP\",AB$6=$F19,$G19=1),2,IF(AND(AB$6=$F19,$G19=1),0,\"\")))),\"\")","v":""},{"$f":"IFERROR(IF(LEN(Etapes[[#This Row],[Planned]])=0,\"\",IF(AND($C19=\"MER\",AC$6=$F19,$G19=1),1,IF(AND($C19=\"MEP\",AC$6=$F19,$G19=1),2,IF(AND(AC$6=$F19,$G19=1),0,\"\")))),\"\")","v":""},{"$f":"IFERROR(IF(LEN(Etapes[[#This Row],[Planned]])=0,\"\",IF(AND($C19=\"MER\",AD$6=$F19,$G19=1),1,IF(AND($C19=\"MEP\",AD$6=$F19,$G19=1),2,IF(AND(AD$6=$F19,$G19=1),0,\"\")))),\"\")","v":""},{"$f":"IFERROR(IF(LEN(Etapes[[#This Row],[Planned]])=0,\"\",IF(AND($C19=\"MER\",AE$6=$F19,$G19=1),1,IF(AND($C19=\"MEP\",AE$6=$F19,$G19=1),2,IF(AND(AE$6=$F19,$G19=1),0,\"\")))),\"\")","v":""},{"$f":"IFERROR(IF(LEN(Etapes[[#This Row],[Planned]])=0,\"\",IF(AND($C19=\"MER\",AF$6=$F19,$G19=1),1,IF(AND($C19=\"MEP\",AF$6=$F19,$G19=1),2,IF(AND(AF$6=$F19,$G19=1),0,\"\")))),\"\")","v":""},{"$f":"IFERROR(IF(LEN(Etapes[[#This Row],[Planned]])=0,\"\",IF(AND($C19=\"MER\",AG$6=$F19,$G19=1),1,IF(AND($C19=\"MEP\",AG$6=$F19,$G19=1),2,IF(AND(AG$6=$F19,$G19=1),0,\"\")))),\"\")","v":""},{"$f":"IFERROR(IF(LEN(Etapes[[#This Row],[Planned]])=0,\"\",IF(AND($C19=\"MER\",AH$6=$F19,$G19=1),1,IF(AND($C19=\"MEP\",AH$6=$F19,$G19=1),2,IF(AND(AH$6=$F19,$G19=1),0,\"\")))),\"\")","v":""},{"$f":"IFERROR(IF(LEN(Etapes[[#This Row],[Planned]])=0,\"\",IF(AND($C19=\"MER\",AI$6=$F19,$G19=1),1,IF(AND($C19=\"MEP\",AI$6=$F19,$G19=1),2,IF(AND(AI$6=$F19,$G19=1),0,\"\")))),\"\")","v":""},{"$f":"IFERROR(IF(LEN(Etapes[[#This Row],[Planned]])=0,\"\",IF(AND($C19=\"MER\",AJ$6=$F19,$G19=1),1,IF(AND($C19=\"MEP\",AJ$6=$F19,$G19=1),2,IF(AND(AJ$6=$F19,$G19=1),0,\"\")))),\"\")","v":""},{"$f":"IFERROR(IF(LEN(Etapes[[#This Row],[Planned]])=0,\"\",IF(AND($C19=\"MER\",AK$6=$F19,$G19=1),1,IF(AND($C19=\"MEP\",AK$6=$F19,$G19=1),2,IF(AND(AK$6=$F19,$G19=1),0,\"\")))),\"\")","v":""},{"$f":"IFERROR(IF(LEN(Etapes[[#This Row],[Planned]])=0,\"\",IF(AND($C19=\"MER\",AL$6=$F19,$G19=1),1,IF(AND($C19=\"MEP\",AL$6=$F19,$G19=1),2,IF(AND(AL$6=$F19,$G19=1),0,\"\")))),\"\")","v":""},{"$f":"IFERROR(IF(LEN(Etapes[[#This Row],[Planned]])=0,\"\",IF(AND($C19=\"MER\",AM$6=$F19,$G19=1),1,IF(AND($C19=\"MEP\",AM$6=$F19,$G19=1),2,IF(AND(AM$6=$F19,$G19=1),0,\"\")))),\"\")","v":""},{"$f":"IFERROR(IF(LEN(Etapes[[#This Row],[Planned]])=0,\"\",IF(AND($C19=\"MER\",AN$6=$F19,$G19=1),1,IF(AND($C19=\"MEP\",AN$6=$F19,$G19=1),2,IF(AND(AN$6=$F19,$G19=1),0,\"\")))),\"\")","v":""},{"$f":"IFERROR(IF(LEN(Etapes[[#This Row],[Planned]])=0,\"\",IF(AND($C19=\"MER\",AO$6=$F19,$G19=1),1,IF(AND($C19=\"MEP\",AO$6=$F19,$G19=1),2,IF(AND(AO$6=$F19,$G19=1),0,\"\")))),\"\")","v":""},{"$f":"IFERROR(IF(LEN(Etapes[[#This Row],[Planned]])=0,\"\",IF(AND($C19=\"MER\",AP$6=$F19,$G19=1),1,IF(AND($C19=\"MEP\",AP$6=$F19,$G19=1),2,IF(AND(AP$6=$F19,$G19=1),0,\"\")))),\"\")","v":""},{"$f":"IFERROR(IF(LEN(Etapes[[#This Row],[Planned]])=0,\"\",IF(AND($C19=\"MER\",AQ$6=$F19,$G19=1),1,IF(AND($C19=\"MEP\",AQ$6=$F19,$G19=1),2,IF(AND(AQ$6=$F19,$G19=1),0,\"\")))),\"\")","v":""},{"$f":"IFERROR(IF(LEN(Etapes[[#This Row],[Planned]])=0,\"\",IF(AND($C19=\"MER\",AR$6=$F19,$G19=1),1,IF(AND($C19=\"MEP\",AR$6=$F19,$G19=1),2,IF(AND(AR$6=$F19,$G19=1),0,\"\")))),\"\")","v":""},{"$f":"IFERROR(IF(LEN(Etapes[[#This Row],[Planned]])=0,\"\",IF(AND($C19=\"MER\",AS$6=$F19,$G19=1),1,IF(AND($C19=\"MEP\",AS$6=$F19,$G19=1),2,IF(AND(AS$6=$F19,$G19=1),0,\"\")))),\"\")","v":""},{"$f":"IFERROR(IF(LEN(Etapes[[#This Row],[Planned]])=0,\"\",IF(AND($C19=\"MER\",AT$6=$F19,$G19=1),1,IF(AND($C19=\"MEP\",AT$6=$F19,$G19=1),2,IF(AND(AT$6=$F19,$G19=1),0,\"\")))),\"\")","v":""},{"$f":"IFERROR(IF(LEN(Etapes[[#This Row],[Planned]])=0,\"\",IF(AND($C19=\"MER\",AU$6=$F19,$G19=1),1,IF(AND($C19=\"MEP\",AU$6=$F19,$G19=1),2,IF(AND(AU$6=$F19,$G19=1),0,\"\")))),\"\")","v":""},{"$f":"IFERROR(IF(LEN(Etapes[[#This Row],[Planned]])=0,\"\",IF(AND($C19=\"MER\",AV$6=$F19,$G19=1),1,IF(AND($C19=\"MEP\",AV$6=$F19,$G19=1),2,IF(AND(AV$6=$F19,$G19=1),0,\"\")))),\"\")","v":""},{"$f":"IFERROR(IF(LEN(Etapes[[#This Row],[Planned]])=0,\"\",IF(AND($C19=\"MER\",AW$6=$F19,$G19=1),1,IF(AND($C19=\"MEP\",AW$6=$F19,$G19=1),2,IF(AND(AW$6=$F19,$G19=1),0,\"\")))),\"\")","v":""},{"$f":"IFERROR(IF(LEN(Etapes[[#This Row],[Planned]])=0,\"\",IF(AND($C19=\"MER\",AX$6=$F19,$G19=1),1,IF(AND($C19=\"MEP\",AX$6=$F19,$G19=1),2,IF(AND(AX$6=$F19,$G19=1),0,\"\")))),\"\")","v":""},{"$f":"IFERROR(IF(LEN(Etapes[[#This Row],[Planned]])=0,\"\",IF(AND($C19=\"MER\",AY$6=$F19,$G19=1),1,IF(AND($C19=\"MEP\",AY$6=$F19,$G19=1),2,IF(AND(AY$6=$F19,$G19=1),0,\"\")))),\"\")","v":""},{"$f":"IFERROR(IF(LEN(Etapes[[#This Row],[Planned]])=0,\"\",IF(AND($C19=\"MER\",AZ$6=$F19,$G19=1),1,IF(AND($C19=\"MEP\",AZ$6=$F19,$G19=1),2,IF(AND(AZ$6=$F19,$G19=1),0,\"\")))),\"\")","v":""},{"$f":"IFERROR(IF(LEN(Etapes[[#This Row],[Planned]])=0,\"\",IF(AND($C19=\"MER\",BA$6=$F19,$G19=1),1,IF(AND($C19=\"MEP\",BA$6=$F19,$G19=1),2,IF(AND(BA$6=$F19,$G19=1),0,\"\")))),\"\")","v":""},{"$f":"IFERROR(IF(LEN(Etapes[[#This Row],[Planned]])=0,\"\",IF(AND($C19=\"MER\",BB$6=$F19,$G19=1),1,IF(AND($C19=\"MEP\",BB$6=$F19,$G19=1),2,IF(AND(BB$6=$F19,$G19=1),0,\"\")))),\"\")","v":""},{"$f":"IFERROR(IF(LEN(Etapes[[#This Row],[Planned]])=0,\"\",IF(AND($C19=\"MER\",BC$6=$F19,$G19=1),1,IF(AND($C19=\"MEP\",BC$6=$F19,$G19=1),2,IF(AND(BC$6=$F19,$G19=1),0,\"\")))),\"\")","v":""},{"$f":"IFERROR(IF(LEN(Etapes[[#This Row],[Planned]])=0,\"\",IF(AND($C19=\"MER\",BD$6=$F19,$G19=1),1,IF(AND($C19=\"MEP\",BD$6=$F19,$G19=1),2,IF(AND(BD$6=$F19,$G19=1),0,\"\")))),\"\")","v":""},{"$f":"IFERROR(IF(LEN(Etapes[[#This Row],[Planned]])=0,\"\",IF(AND($C19=\"MER\",BE$6=$F19,$G19=1),1,IF(AND($C19=\"MEP\",BE$6=$F19,$G19=1),2,IF(AND(BE$6=$F19,$G19=1),0,\"\")))),\"\")","v":""},{"$f":"IFERROR(IF(LEN(Etapes[[#This Row],[Planned]])=0,\"\",IF(AND($C19=\"MER\",BF$6=$F19,$G19=1),1,IF(AND($C19=\"MEP\",BF$6=$F19,$G19=1),2,IF(AND(BF$6=$F19,$G19=1),0,\"\")))),\"\")","v":""},{"$f":"IFERROR(IF(LEN(Etapes[[#This Row],[Planned]])=0,\"\",IF(AND($C19=\"MER\",BG$6=$F19,$G19=1),1,IF(AND($C19=\"MEP\",BG$6=$F19,$G19=1),2,IF(AND(BG$6=$F19,$G19=1),0,\"\")))),\"\")","v":""},{"$f":"IFERROR(IF(LEN(Etapes[[#This Row],[Planned]])=0,\"\",IF(AND($C19=\"MER\",BH$6=$F19,$G19=1),1,IF(AND($C19=\"MEP\",BH$6=$F19,$G19=1),2,IF(AND(BH$6=$F19,$G19=1),0,\"\")))),\"\")","v":""},{"$f":"IFERROR(IF(LEN(Etapes[[#This Row],[Planned]])=0,\"\",IF(AND($C19=\"MER\",BI$6=$F19,$G19=1),1,IF(AND($C19=\"MEP\",BI$6=$F19,$G19=1),2,IF(AND(BI$6=$F19,$G19=1),0,\"\")))),\"\")","v":""},{"$f":"IFERROR(IF(LEN(Etapes[[#This Row],[Planned]])=0,\"\",IF(AND($C19=\"MER\",BJ$6=$F19,$G19=1),1,IF(AND($C19=\"MEP\",BJ$6=$F19,$G19=1),2,IF(AND(BJ$6=$F19,$G19=1),0,\"\")))),\"\")","v":""},{"$f":"IFERROR(IF(LEN(Etapes[[#This Row],[Planned]])=0,\"\",IF(AND($C19=\"MER\",BK$6=$F19,$G19=1),1,IF(AND($C19=\"MEP\",BK$6=$F19,$G19=1),2,IF(AND(BK$6=$F19,$G19=1),0,\"\")))),\"\")","v":""},{"$f":"IFERROR(IF(LEN(Etapes[[#This Row],[Planned]])=0,\"\",IF(AND($C19=\"MER\",BL$6=$F19,$G19=1),1,IF(AND($C19=\"MEP\",BL$6=$F19,$G19=1),2,IF(AND(BL$6=$F19,$G19=1),0,\"\")))),\"\")","v":""},{"$f":"IFERROR(IF(LEN(Etapes[[#This Row],[Planned]])=0,\"\",IF(AND($C19=\"MER\",BM$6=$F19,$G19=1),1,IF(AND($C19=\"MEP\",BM$6=$F19,$G19=1),2,IF(AND(BM$6=$F19,$G19=1),0,\"\")))),\"\")","v":""},{"$f":"IFERROR(IF(LEN(Etapes[[#This Row],[Planned]])=0,\"\",IF(AND($C19=\"MER\",BN$6=$F19,$G19=1),1,IF(AND($C19=\"MEP\",BN$6=$F19,$G19=1),2,IF(AND(BN$6=$F19,$G19=1),0,\"\")))),\"\")","v":""},{"$f":"IFERROR(IF(LEN(Etapes[[#This Row],[Planned]])=0,\"\",IF(AND($C19=\"MER\",BO$6=$F19,$G19=1),1,IF(AND($C19=\"MEP\",BO$6=$F19,$G19=1),2,IF(AND(BO$6=$F19,$G19=1),0,\"\")))),\"\")","v":""},{"$f":"IFERROR(IF(LEN(Etapes[[#This Row],[Add]])=0,\"\",IF(AND($C19=\"MER\",BP$6=$F19,$G19=1),1,IF(AND($C19=\"MEP\",BP$6=$F19,$G19=1),2,IF(AND(BP$6=$F19,$G19=1),0,\"\")))),\"\")","v":""},{"$f":"IFERROR(IF(LEN(Etapes[[#This Row],[End]])=0,\"\",IF(AND($C19=\"MER\",BQ$6=$F19,$G19=1),1,IF(AND($C19=\"MEP\",BQ$6=$F19,$G19=1),2,IF(AND(BQ$6=$F19,$G19=1),0,\"\")))),\"\")","v":""},{"$f":"IFERROR(IF(LEN(Etapes[[#This Row],[Réalisé]])=0,\"\",IF(AND($C19=\"MER\",BR$6=$F19,$G19=1),1,IF(AND($C19=\"MEP\",BR$6=$F19,$G19=1),2,IF(AND(BR$6=$F19,$G19=1),0,\"\")))),\"\")","v":""},{"$f":"IFERROR(IF(LEN(Etapes[[#This Row],[Activité]])=0,\"\",IF(AND($C19=\"MER\",BS$6=$F19,$G19=1),1,IF(AND($C19=\"MEP\",BS$6=$F19,$G19=1),2,IF(AND(BS$6=$F19,$G19=1),0,\"\")))),\"\")","v":""},{"$f":"IFERROR(IF(LEN(Etapes[[#This Row],[Statut]])=0,\"\",IF(AND($C19=\"MER\",BT$6=$F19,$G19=1),1,IF(AND($C19=\"MEP\",BT$6=$F19,$G19=1),2,IF(AND(BT$6=$F19,$G19=1),0,\"\")))),\"\")","v":""},{"$f":"IFERROR(IF(LEN(Etapes[[#This Row],[Progress]])=0,\"\",IF(AND($C19=\"MER\",BU$6=$F19,$G19=1),1,IF(AND($C19=\"MEP\",BU$6=$F19,$G19=1),2,IF(AND(BU$6=$F19,$G19=1),0,\"\")))),\"\")","v":""},{"$f":"IFERROR(IF(LEN(Etapes[[#This Row],[Start]])=0,\"\",IF(AND($C19=\"MER\",BV$6=$F19,$G19=1),1,IF(AND($C19=\"MEP\",BV$6=$F19,$G19=1),2,IF(AND(BV$6=$F19,$G19=1),0,\"\")))),\"\")","v":""},{"$f":"IFERROR(IF(LEN(Etapes[[#This Row],[Planned]])=0,\"\",IF(AND($C19=\"MER\",BW$6=$F19,$G19=1),1,IF(AND($C19=\"MEP\",BW$6=$F19,$G19=1),2,IF(AND(BW$6=$F19,$G19=1),0,\"\")))),\"\")","v":""},{"$f":"IFERROR(IF(LEN(Etapes[[#This Row],[Add]])=0,\"\",IF(AND($C19=\"MER\",BX$6=$F19,$G19=1),1,IF(AND($C19=\"MEP\",BX$6=$F19,$G19=1),2,IF(AND(BX$6=$F19,$G19=1),0,\"\")))),\"\")","v":""},{"$f":"IFERROR(IF(LEN(Etapes[[#This Row],[End]])=0,\"\",IF(AND($C19=\"MER\",BY$6=$F19,$G19=1),1,IF(AND($C19=\"MEP\",BY$6=$F19,$G19=1),2,IF(AND(BY$6=$F19,$G19=1),0,\"\")))),\"\")","v":""},{"$f":"IFERROR(IF(LEN(Etapes[[#This Row],[Réalisé]])=0,\"\",IF(AND($C19=\"MER\",BZ$6=$F19,$G19=1),1,IF(AND($C19=\"MEP\",BZ$6=$F19,$G19=1),2,IF(AND(BZ$6=$F19,$G19=1),0,\"\")))),\"\")","v":""},{"$f":"IFERROR(IF(LEN(Etapes[[#This Row],[Activité]])=0,\"\",IF(AND($C19=\"MER\",CA$6=$F19,$G19=1),1,IF(AND($C19=\"MEP\",CA$6=$F19,$G19=1),2,IF(AND(CA$6=$F19,$G19=1),0,\"\")))),\"\")","v":""},{"$f":"IFERROR(IF(LEN(Etapes[[#This Row],[Statut]])=0,\"\",IF(AND($C19=\"MER\",CB$6=$F19,$G19=1),1,IF(AND($C19=\"MEP\",CB$6=$F19,$G19=1),2,IF(AND(CB$6=$F19,$G19=1),0,\"\")))),\"\")","v":""},{"$f":"IFERROR(IF(LEN(Etapes[[#This Row],[Progress]])=0,\"\",IF(AND($C19=\"MER\",CC$6=$F19,$G19=1),1,IF(AND($C19=\"MEP\",CC$6=$F19,$G19=1),2,IF(AND(CC$6=$F19,$G19=1),0,\"\")))),\"\")","v":""},{"$f":"IFERROR(IF(LEN(Etapes[[#This Row],[Start]])=0,\"\",IF(AND($C19=\"MER\",CD$6=$F19,$G19=1),1,IF(AND($C19=\"MEP\",CD$6=$F19,$G19=1),2,IF(AND(CD$6=$F19,$G19=1),0,\"\")))),\"\")","v":""},{"$f":"IFERROR(IF(LEN(Etapes[[#This Row],[Planned]])=0,\"\",IF(AND($C19=\"MER\",CE$6=$F19,$G19=1),1,IF(AND($C19=\"MEP\",CE$6=$F19,$G19=1),2,IF(AND(CE$6=$F19,$G19=1),0,\"\")))),\"\")","v":""},{"$f":"IFERROR(IF(LEN(Etapes[[#This Row],[Add]])=0,\"\",IF(AND($C19=\"MER\",CF$6=$F19,$G19=1),1,IF(AND($C19=\"MEP\",CF$6=$F19,$G19=1),2,IF(AND(CF$6=$F19,$G19=1),0,\"\")))),\"\")","v":""},{"$f":"IFERROR(IF(LEN(Etapes[[#This Row],[End]])=0,\"\",IF(AND($C19=\"MER\",CG$6=$F19,$G19=1),1,IF(AND($C19=\"MEP\",CG$6=$F19,$G19=1),2,IF(AND(CG$6=$F19,$G19=1),0,\"\")))),\"\")","v":""},{"$f":"IFERROR(IF(LEN(Etapes[[#This Row],[Réalisé]])=0,\"\",IF(AND($C19=\"MER\",CH$6=$F19,$G19=1),1,IF(AND($C19=\"MEP\",CH$6=$F19,$G19=1),2,IF(AND(CH$6=$F19,$G19=1),0,\"\")))),\"\")","v":""},{"$f":"IFERROR(IF(LEN(Etapes[[#This Row],[Activité]])=0,\"\",IF(AND($C19=\"MER\",CI$6=$F19,$G19=1),1,IF(AND($C19=\"MEP\",CI$6=$F19,$G19=1),2,IF(AND(CI$6=$F19,$G19=1),0,\"\")))),\"\")","v":""},{"$f":"IFERROR(IF(LEN(Etapes[[#This Row],[Statut]])=0,\"\",IF(AND($C19=\"MER\",CJ$6=$F19,$G19=1),1,IF(AND($C19=\"MEP\",CJ$6=$F19,$G19=1),2,IF(AND(CJ$6=$F19,$G19=1),0,\"\")))),\"\")","v":""},{"$f":"IFERROR(IF(LEN(Etapes[[#This Row],[Progress]])=0,\"\",IF(AND($C19=\"MER\",CK$6=$F19,$G19=1),1,IF(AND($C19=\"MEP\",CK$6=$F19,$G19=1),2,IF(AND(CK$6=$F19,$G19=1),0,\"\")))),\"\")","v":""},{"$f":"IFERROR(IF(LEN(Etapes[[#This Row],[Start]])=0,\"\",IF(AND($C19=\"MER\",CL$6=$F19,$G19=1),1,IF(AND($C19=\"MEP\",CL$6=$F19,$G19=1),2,IF(AND(CL$6=$F19,$G19=1),0,\"\")))),\"\")","v":""},{"$f":"IFERROR(IF(LEN(Etapes[[#This Row],[Planned]])=0,\"\",IF(AND($C19=\"MER\",CM$6=$F19,$G19=1),1,IF(AND($C19=\"MEP\",CM$6=$F19,$G19=1),2,IF(AND(CM$6=$F19,$G19=1),0,\"\")))),\"\")","v":""},{"$f":"IFERROR(IF(LEN(Etapes[[#This Row],[Add]])=0,\"\",IF(AND($C19=\"MER\",CN$6=$F19,$G19=1),1,IF(AND($C19=\"MEP\",CN$6=$F19,$G19=1),2,IF(AND(CN$6=$F19,$G19=1),0,\"\")))),\"\")","v":""},{"$f":"IFERROR(IF(LEN(Etapes[[#This Row],[End]])=0,\"\",IF(AND($C19=\"MER\",CO$6=$F19,$G19=1),1,IF(AND($C19=\"MEP\",CO$6=$F19,$G19=1),2,IF(AND(CO$6=$F19,$G19=1),0,\"\")))),\"\")","v":""},{"$f":"IFERROR(IF(LEN(Etapes[[#This Row],[Réalisé]])=0,\"\",IF(AND($C19=\"MER\",CP$6=$F19,$G19=1),1,IF(AND($C19=\"MEP\",CP$6=$F19,$G19=1),2,IF(AND(CP$6=$F19,$G19=1),0,\"\")))),\"\")","v":""},{"$f":"IFERROR(IF(LEN(Etapes[[#This Row],[Activité]])=0,\"\",IF(AND($C19=\"MER\",CQ$6=$F19,$G19=1),1,IF(AND($C19=\"MEP\",CQ$6=$F19,$G19=1),2,IF(AND(CQ$6=$F19,$G19=1),0,\"\")))),\"\")","v":""},{"$f":"IFERROR(IF(LEN(Etapes[[#This Row],[Statut]])=0,\"\",IF(AND($C19=\"MER\",CR$6=$F19,$G19=1),1,IF(AND($C19=\"MEP\",CR$6=$F19,$G19=1),2,IF(AND(CR$6=$F19,$G19=1),0,\"\")))),\"\")","v":""},{"$f":"IFERROR(IF(LEN(Etapes[[#This Row],[Progress]])=0,\"\",IF(AND($C19=\"MER\",CS$6=$F19,$G19=1),1,IF(AND($C19=\"MEP\",CS$6=$F19,$G19=1),2,IF(AND(CS$6=$F19,$G19=1),0,\"\")))),\"\")","v":""},{"$f":"IFERROR(IF(LEN(Etapes[[#This Row],[Start]])=0,\"\",IF(AND($C19=\"MER\",CT$6=$F19,$G19=1),1,IF(AND($C19=\"MEP\",CT$6=$F19,$G19=1),2,IF(AND(CT$6=$F19,$G19=1),0,\"\")))),\"\")","v":""},{"$f":"IFERROR(IF(LEN(Etapes[[#This Row],[Planned]])=0,\"\",IF(AND($C19=\"MER\",CU$6=$F19,$G19=1),1,IF(AND($C19=\"MEP\",CU$6=$F19,$G19=1),2,IF(AND(CU$6=$F19,$G19=1),0,\"\")))),\"\")","v":""},{"$f":"IFERROR(IF(LEN(Etapes[[#This Row],[Add]])=0,\"\",IF(AND($C19=\"MER\",CV$6=$F19,$G19=1),1,IF(AND($C19=\"MEP\",CV$6=$F19,$G19=1),2,IF(AND(CV$6=$F19,$G19=1),0,\"\")))),\"\")","v":""},{"$f":"IFERROR(IF(LEN(Etapes[[#This Row],[End]])=0,\"\",IF(AND($C19=\"MER\",CW$6=$F19,$G19=1),1,IF(AND($C19=\"MEP\",CW$6=$F19,$G19=1),2,IF(AND(CW$6=$F19,$G19=1),0,\"\")))),\"\")","v":""}]
[3,{"$f":"RàF!A12","v":"E1.3.3"},null,null,null,"2022-08-03",null,null,{"$f":"IF(Etapes[[#This Row],[Start]]<>\"\",WORKDAY(Etapes[[#This Row],[Start]],IF(WEEKDAY(Etapes[[#This Row],[Start]],1)>=6,Etapes[[#This Row],[Planned]]+Etapes[[#This Row],[Add]],Etapes[[#This Row],[Planned]]+Etapes[[#This Row],[Add]]-1),Férié),\"\")","v":"2022-08-02"},{"$f":"IF(Etapes[[#This Row],[Start]]<>\"\",WORKDAY(Etapes[[#This Row],[Start]],IF(WEEKDAY(Etapes[[#This Row],[Start]],1)>=6,Etapes[[#This Row],[Progress]]*Etapes[[#This Row],[Planned]]+Etapes[[#This Row],[Add]],(Etapes[[#This Row],[Progress]]*Etapes[[#This Row],[Planned]]+Etapes[[#This Row],[Add]])-1),Férié),\"\")","v":"2022-08-02"},null,{"$f":"IFERROR(IF(LEN(Etapes[[#This Row],[Planned]])=0,\"\",IF(AND($C20=\"MER\",L$6=$F20,#REF!=1),1,IF(AND($C20=\"MEP\",L$6=$F20,#REF!=1),2,IF(AND(L$6=$F20,#REF!=1),0,\"\")))),\"\")","v":""},{"$f":"IFERROR(IF(LEN(Etapes[[#This Row],[Planned]])=0,\"\",IF(AND($C20=\"MER\",M$6=$F20,#REF!=1),1,IF(AND($C20=\"MEP\",M$6=$F20,#REF!=1),2,IF(AND(M$6=$F20,#REF!=1),0,\"\")))),\"\")","v":""},{"$f":"IFERROR(IF(LEN(Etapes[[#This Row],[Planned]])=0,\"\",IF(AND($C20=\"MER\",N$6=$F20,#REF!=1),1,IF(AND($C20=\"MEP\",N$6=$F20,#REF!=1),2,IF(AND(N$6=$F20,#REF!=1),0,\"\")))),\"\")","v":""},{"$f":"IFERROR(IF(LEN(Etapes[[#This Row],[Planned]])=0,\"\",IF(AND($C20=\"MER\",O$6=$F20,#REF!=1),1,IF(AND($C20=\"MEP\",O$6=$F20,#REF!=1),2,IF(AND(O$6=$F20,#REF!=1),0,\"\")))),\"\")","v":""},{"$f":"IFERROR(IF(LEN(Etapes[[#This Row],[Planned]])=0,\"\",IF(AND($C20=\"MER\",P$6=$F20,#REF!=1),1,IF(AND($C20=\"MEP\",P$6=$F20,#REF!=1),2,IF(AND(P$6=$F20,#REF!=1),0,\"\")))),\"\")","v":""},{"$f":"IFERROR(IF(LEN(Etapes[[#This Row],[Planned]])=0,\"\",IF(AND($C20=\"MER\",Q$6=$F20,#REF!=1),1,IF(AND($C20=\"MEP\",Q$6=$F20,#REF!=1),2,IF(AND(Q$6=$F20,#REF!=1),0,\"\")))),\"\")","v":""},{"$f":"IFERROR(IF(LEN(Etapes[[#This Row],[Planned]])=0,\"\",IF(AND($C20=\"MER\",R$6=$F20,#REF!=1),1,IF(AND($C20=\"MEP\",R$6=$F20,#REF!=1),2,IF(AND(R$6=$F20,#REF!=1),0,\"\")))),\"\")","v":""},{"$f":"IFERROR(IF(LEN(Etapes[[#This Row],[Planned]])=0,\"\",IF(AND($C20=\"MER\",S$6=$F20,#REF!=1),1,IF(AND($C20=\"MEP\",S$6=$F20,#REF!=1),2,IF(AND(S$6=$F20,#REF!=1),0,\"\")))),\"\")","v":""},{"$f":"IFERROR(IF(LEN(Etapes[[#This Row],[Planned]])=0,\"\",IF(AND($C20=\"MER\",T$6=$F20,#REF!=1),1,IF(AND($C20=\"MEP\",T$6=$F20,#REF!=1),2,IF(AND(T$6=$F20,#REF!=1),0,\"\")))),\"\")","v":""},{"$f":"IFERROR(IF(LEN(Etapes[[#This Row],[Planned]])=0,\"\",IF(AND($C20=\"MER\",U$6=$F20,#REF!=1),1,IF(AND($C20=\"MEP\",U$6=$F20,#REF!=1),2,IF(AND(U$6=$F20,#REF!=1),0,\"\")))),\"\")","v":""},{"$f":"IFERROR(IF(LEN(Etapes[[#This Row],[Planned]])=0,\"\",IF(AND($C20=\"MER\",V$6=$F20,#REF!=1),1,IF(AND($C20=\"MEP\",V$6=$F20,#REF!=1),2,IF(AND(V$6=$F20,#REF!=1),0,\"\")))),\"\")","v":""},{"$f":"IFERROR(IF(LEN(Etapes[[#This Row],[Planned]])=0,\"\",IF(AND($C20=\"MER\",W$6=$F20,#REF!=1),1,IF(AND($C20=\"MEP\",W$6=$F20,#REF!=1),2,IF(AND(W$6=$F20,#REF!=1),0,\"\")))),\"\")","v":""},{"$f":"IFERROR(IF(LEN(Etapes[[#This Row],[Planned]])=0,\"\",IF(AND($C20=\"MER\",X$6=$F20,#REF!=1),1,IF(AND($C20=\"MEP\",X$6=$F20,#REF!=1),2,IF(AND(X$6=$F20,#REF!=1),0,\"\")))),\"\")","v":""},{"$f":"IFERROR(IF(LEN(Etapes[[#This Row],[Planned]])=0,\"\",IF(AND($C20=\"MER\",Y$6=$F20,#REF!=1),1,IF(AND($C20=\"MEP\",Y$6=$F20,#REF!=1),2,IF(AND(Y$6=$F20,#REF!=1),0,\"\")))),\"\")","v":""},{"$f":"IFERROR(IF(LEN(Etapes[[#This Row],[Planned]])=0,\"\",IF(AND($C20=\"MER\",Z$6=$F20,#REF!=1),1,IF(AND($C20=\"MEP\",Z$6=$F20,#REF!=1),2,IF(AND(Z$6=$F20,#REF!=1),0,\"\")))),\"\")","v":""},{"$f":"IFERROR(IF(LEN(Etapes[[#This Row],[Planned]])=0,\"\",IF(AND($C20=\"MER\",AA$6=$F20,#REF!=1),1,IF(AND($C20=\"MEP\",AA$6=$F20,#REF!=1),2,IF(AND(AA$6=$F20,#REF!=1),0,\"\")))),\"\")","v":""},{"$f":"IFERROR(IF(LEN(Etapes[[#This Row],[Planned]])=0,\"\",IF(AND($C20=\"MER\",AB$6=$F20,#REF!=1),1,IF(AND($C20=\"MEP\",AB$6=$F20,#REF!=1),2,IF(AND(AB$6=$F20,#REF!=1),0,\"\")))),\"\")","v":""},{"$f":"IFERROR(IF(LEN(Etapes[[#This Row],[Planned]])=0,\"\",IF(AND($C20=\"MER\",AC$6=$F20,#REF!=1),1,IF(AND($C20=\"MEP\",AC$6=$F20,#REF!=1),2,IF(AND(AC$6=$F20,#REF!=1),0,\"\")))),\"\")","v":""},{"$f":"IFERROR(IF(LEN(Etapes[[#This Row],[Planned]])=0,\"\",IF(AND($C20=\"MER\",AD$6=$F20,#REF!=1),1,IF(AND($C20=\"MEP\",AD$6=$F20,#REF!=1),2,IF(AND(AD$6=$F20,#REF!=1),0,\"\")))),\"\")","v":""},{"$f":"IFERROR(IF(LEN(Etapes[[#This Row],[Planned]])=0,\"\",IF(AND($C20=\"MER\",AE$6=$F20,#REF!=1),1,IF(AND($C20=\"MEP\",AE$6=$F20,#REF!=1),2,IF(AND(AE$6=$F20,#REF!=1),0,\"\")))),\"\")","v":""},{"$f":"IFERROR(IF(LEN(Etapes[[#This Row],[Planned]])=0,\"\",IF(AND($C20=\"MER\",AF$6=$F20,#REF!=1),1,IF(AND($C20=\"MEP\",AF$6=$F20,#REF!=1),2,IF(AND(AF$6=$F20,#REF!=1),0,\"\")))),\"\")","v":""},{"$f":"IFERROR(IF(LEN(Etapes[[#This Row],[Planned]])=0,\"\",IF(AND($C20=\"MER\",AG$6=$F20,#REF!=1),1,IF(AND($C20=\"MEP\",AG$6=$F20,#REF!=1),2,IF(AND(AG$6=$F20,#REF!=1),0,\"\")))),\"\")","v":""},{"$f":"IFERROR(IF(LEN(Etapes[[#This Row],[Planned]])=0,\"\",IF(AND($C20=\"MER\",AH$6=$F20,#REF!=1),1,IF(AND($C20=\"MEP\",AH$6=$F20,#REF!=1),2,IF(AND(AH$6=$F20,#REF!=1),0,\"\")))),\"\")","v":""},{"$f":"IFERROR(IF(LEN(Etapes[[#This Row],[Planned]])=0,\"\",IF(AND($C20=\"MER\",AI$6=$F20,#REF!=1),1,IF(AND($C20=\"MEP\",AI$6=$F20,#REF!=1),2,IF(AND(AI$6=$F20,#REF!=1),0,\"\")))),\"\")","v":""},{"$f":"IFERROR(IF(LEN(Etapes[[#This Row],[Planned]])=0,\"\",IF(AND($C20=\"MER\",AJ$6=$F20,#REF!=1),1,IF(AND($C20=\"MEP\",AJ$6=$F20,#REF!=1),2,IF(AND(AJ$6=$F20,#REF!=1),0,\"\")))),\"\")","v":""},{"$f":"IFERROR(IF(LEN(Etapes[[#This Row],[Planned]])=0,\"\",IF(AND($C20=\"MER\",AK$6=$F20,#REF!=1),1,IF(AND($C20=\"MEP\",AK$6=$F20,#REF!=1),2,IF(AND(AK$6=$F20,#REF!=1),0,\"\")))),\"\")","v":""},{"$f":"IFERROR(IF(LEN(Etapes[[#This Row],[Planned]])=0,\"\",IF(AND($C20=\"MER\",AL$6=$F20,#REF!=1),1,IF(AND($C20=\"MEP\",AL$6=$F20,#REF!=1),2,IF(AND(AL$6=$F20,#REF!=1),0,\"\")))),\"\")","v":""},{"$f":"IFERROR(IF(LEN(Etapes[[#This Row],[Planned]])=0,\"\",IF(AND($C20=\"MER\",AM$6=$F20,#REF!=1),1,IF(AND($C20=\"MEP\",AM$6=$F20,#REF!=1),2,IF(AND(AM$6=$F20,#REF!=1),0,\"\")))),\"\")","v":""},{"$f":"IFERROR(IF(LEN(Etapes[[#This Row],[Planned]])=0,\"\",IF(AND($C20=\"MER\",AN$6=$F20,#REF!=1),1,IF(AND($C20=\"MEP\",AN$6=$F20,#REF!=1),2,IF(AND(AN$6=$F20,#REF!=1),0,\"\")))),\"\")","v":""},{"$f":"IFERROR(IF(LEN(Etapes[[#This Row],[Planned]])=0,\"\",IF(AND($C20=\"MER\",AO$6=$F20,#REF!=1),1,IF(AND($C20=\"MEP\",AO$6=$F20,#REF!=1),2,IF(AND(AO$6=$F20,#REF!=1),0,\"\")))),\"\")","v":""},{"$f":"IFERROR(IF(LEN(Etapes[[#This Row],[Planned]])=0,\"\",IF(AND($C20=\"MER\",AP$6=$F20,#REF!=1),1,IF(AND($C20=\"MEP\",AP$6=$F20,#REF!=1),2,IF(AND(AP$6=$F20,#REF!=1),0,\"\")))),\"\")","v":""},{"$f":"IFERROR(IF(LEN(Etapes[[#This Row],[Planned]])=0,\"\",IF(AND($C20=\"MER\",AQ$6=$F20,#REF!=1),1,IF(AND($C20=\"MEP\",AQ$6=$F20,#REF!=1),2,IF(AND(AQ$6=$F20,#REF!=1),0,\"\")))),\"\")","v":""},{"$f":"IFERROR(IF(LEN(Etapes[[#This Row],[Planned]])=0,\"\",IF(AND($C20=\"MER\",AR$6=$F20,#REF!=1),1,IF(AND($C20=\"MEP\",AR$6=$F20,#REF!=1),2,IF(AND(AR$6=$F20,#REF!=1),0,\"\")))),\"\")","v":""},{"$f":"IFERROR(IF(LEN(Etapes[[#This Row],[Planned]])=0,\"\",IF(AND($C20=\"MER\",AS$6=$F20,#REF!=1),1,IF(AND($C20=\"MEP\",AS$6=$F20,#REF!=1),2,IF(AND(AS$6=$F20,#REF!=1),0,\"\")))),\"\")","v":""},{"$f":"IFERROR(IF(LEN(Etapes[[#This Row],[Planned]])=0,\"\",IF(AND($C20=\"MER\",AT$6=$F20,#REF!=1),1,IF(AND($C20=\"MEP\",AT$6=$F20,#REF!=1),2,IF(AND(AT$6=$F20,#REF!=1),0,\"\")))),\"\")","v":""},{"$f":"IFERROR(IF(LEN(Etapes[[#This Row],[Planned]])=0,\"\",IF(AND($C20=\"MER\",AU$6=$F20,#REF!=1),1,IF(AND($C20=\"MEP\",AU$6=$F20,#REF!=1),2,IF(AND(AU$6=$F20,#REF!=1),0,\"\")))),\"\")","v":""},{"$f":"IFERROR(IF(LEN(Etapes[[#This Row],[Planned]])=0,\"\",IF(AND($C20=\"MER\",AV$6=$F20,#REF!=1),1,IF(AND($C20=\"MEP\",AV$6=$F20,#REF!=1),2,IF(AND(AV$6=$F20,#REF!=1),0,\"\")))),\"\")","v":""},{"$f":"IFERROR(IF(LEN(Etapes[[#This Row],[Planned]])=0,\"\",IF(AND($C20=\"MER\",AW$6=$F20,#REF!=1),1,IF(AND($C20=\"MEP\",AW$6=$F20,#REF!=1),2,IF(AND(AW$6=$F20,#REF!=1),0,\"\")))),\"\")","v":""},{"$f":"IFERROR(IF(LEN(Etapes[[#This Row],[Planned]])=0,\"\",IF(AND($C20=\"MER\",AX$6=$F20,#REF!=1),1,IF(AND($C20=\"MEP\",AX$6=$F20,#REF!=1),2,IF(AND(AX$6=$F20,#REF!=1),0,\"\")))),\"\")","v":""},{"$f":"IFERROR(IF(LEN(Etapes[[#This Row],[Planned]])=0,\"\",IF(AND($C20=\"MER\",AY$6=$F20,#REF!=1),1,IF(AND($C20=\"MEP\",AY$6=$F20,#REF!=1),2,IF(AND(AY$6=$F20,#REF!=1),0,\"\")))),\"\")","v":""},{"$f":"IFERROR(IF(LEN(Etapes[[#This Row],[Planned]])=0,\"\",IF(AND($C20=\"MER\",AZ$6=$F20,#REF!=1),1,IF(AND($C20=\"MEP\",AZ$6=$F20,#REF!=1),2,IF(AND(AZ$6=$F20,#REF!=1),0,\"\")))),\"\")","v":""},{"$f":"IFERROR(IF(LEN(Etapes[[#This Row],[Planned]])=0,\"\",IF(AND($C20=\"MER\",BA$6=$F20,#REF!=1),1,IF(AND($C20=\"MEP\",BA$6=$F20,#REF!=1),2,IF(AND(BA$6=$F20,#REF!=1),0,\"\")))),\"\")","v":""},{"$f":"IFERROR(IF(LEN(Etapes[[#This Row],[Planned]])=0,\"\",IF(AND($C20=\"MER\",BB$6=$F20,#REF!=1),1,IF(AND($C20=\"MEP\",BB$6=$F20,#REF!=1),2,IF(AND(BB$6=$F20,#REF!=1),0,\"\")))),\"\")","v":""},{"$f":"IFERROR(IF(LEN(Etapes[[#This Row],[Planned]])=0,\"\",IF(AND($C20=\"MER\",BC$6=$F20,#REF!=1),1,IF(AND($C20=\"MEP\",BC$6=$F20,#REF!=1),2,IF(AND(BC$6=$F20,#REF!=1),0,\"\")))),\"\")","v":""},{"$f":"IFERROR(IF(LEN(Etapes[[#This Row],[Planned]])=0,\"\",IF(AND($C20=\"MER\",BD$6=$F20,#REF!=1),1,IF(AND($C20=\"MEP\",BD$6=$F20,#REF!=1),2,IF(AND(BD$6=$F20,#REF!=1),0,\"\")))),\"\")","v":""},{"$f":"IFERROR(IF(LEN(Etapes[[#This Row],[Planned]])=0,\"\",IF(AND($C20=\"MER\",BE$6=$F20,#REF!=1),1,IF(AND($C20=\"MEP\",BE$6=$F20,#REF!=1),2,IF(AND(BE$6=$F20,#REF!=1),0,\"\")))),\"\")","v":""},{"$f":"IFERROR(IF(LEN(Etapes[[#This Row],[Planned]])=0,\"\",IF(AND($C20=\"MER\",BF$6=$F20,#REF!=1),1,IF(AND($C20=\"MEP\",BF$6=$F20,#REF!=1),2,IF(AND(BF$6=$F20,#REF!=1),0,\"\")))),\"\")","v":""},{"$f":"IFERROR(IF(LEN(Etapes[[#This Row],[Planned]])=0,\"\",IF(AND($C20=\"MER\",BG$6=$F20,#REF!=1),1,IF(AND($C20=\"MEP\",BG$6=$F20,#REF!=1),2,IF(AND(BG$6=$F20,#REF!=1),0,\"\")))),\"\")","v":""},{"$f":"IFERROR(IF(LEN(Etapes[[#This Row],[Planned]])=0,\"\",IF(AND($C20=\"MER\",BH$6=$F20,#REF!=1),1,IF(AND($C20=\"MEP\",BH$6=$F20,#REF!=1),2,IF(AND(BH$6=$F20,#REF!=1),0,\"\")))),\"\")","v":""},{"$f":"IFERROR(IF(LEN(Etapes[[#This Row],[Planned]])=0,\"\",IF(AND($C20=\"MER\",BI$6=$F20,#REF!=1),1,IF(AND($C20=\"MEP\",BI$6=$F20,#REF!=1),2,IF(AND(BI$6=$F20,#REF!=1),0,\"\")))),\"\")","v":""},{"$f":"IFERROR(IF(LEN(Etapes[[#This Row],[Planned]])=0,\"\",IF(AND($C20=\"MER\",BJ$6=$F20,#REF!=1),1,IF(AND($C20=\"MEP\",BJ$6=$F20,#REF!=1),2,IF(AND(BJ$6=$F20,#REF!=1),0,\"\")))),\"\")","v":""},{"$f":"IFERROR(IF(LEN(Etapes[[#This Row],[Planned]])=0,\"\",IF(AND($C20=\"MER\",BK$6=$F20,#REF!=1),1,IF(AND($C20=\"MEP\",BK$6=$F20,#REF!=1),2,IF(AND(BK$6=$F20,#REF!=1),0,\"\")))),\"\")","v":""},{"$f":"IFERROR(IF(LEN(Etapes[[#This Row],[Planned]])=0,\"\",IF(AND($C20=\"MER\",BL$6=$F20,#REF!=1),1,IF(AND($C20=\"MEP\",BL$6=$F20,#REF!=1),2,IF(AND(BL$6=$F20,#REF!=1),0,\"\")))),\"\")","v":""},{"$f":"IFERROR(IF(LEN(Etapes[[#This Row],[Planned]])=0,\"\",IF(AND($C20=\"MER\",BM$6=$F20,#REF!=1),1,IF(AND($C20=\"MEP\",BM$6=$F20,#REF!=1),2,IF(AND(BM$6=$F20,#REF!=1),0,\"\")))),\"\")","v":""},{"$f":"IFERROR(IF(LEN(Etapes[[#This Row],[Planned]])=0,\"\",IF(AND($C20=\"MER\",BN$6=$F20,#REF!=1),1,IF(AND($C20=\"MEP\",BN$6=$F20,#REF!=1),2,IF(AND(BN$6=$F20,#REF!=1),0,\"\")))),\"\")","v":""},{"$f":"IFERROR(IF(LEN(Etapes[[#This Row],[Planned]])=0,\"\",IF(AND($C20=\"MER\",BO$6=$F20,#REF!=1),1,IF(AND($C20=\"MEP\",BO$6=$F20,#REF!=1),2,IF(AND(BO$6=$F20,#REF!=1),0,\"\")))),\"\")","v":""},{"$f":"IFERROR(IF(LEN(Etapes[[#This Row],[Add]])=0,\"\",IF(AND($C20=\"MER\",BP$6=$F20,#REF!=1),1,IF(AND($C20=\"MEP\",BP$6=$F20,#REF!=1),2,IF(AND(BP$6=$F20,#REF!=1),0,\"\")))),\"\")","v":""},{"$f":"IFERROR(IF(LEN(Etapes[[#This Row],[End]])=0,\"\",IF(AND($C20=\"MER\",BQ$6=$F20,#REF!=1),1,IF(AND($C20=\"MEP\",BQ$6=$F20,#REF!=1),2,IF(AND(BQ$6=$F20,#REF!=1),0,\"\")))),\"\")","v":""},{"$f":"IFERROR(IF(LEN(Etapes[[#This Row],[Réalisé]])=0,\"\",IF(AND($C20=\"MER\",BR$6=$F20,#REF!=1),1,IF(AND($C20=\"MEP\",BR$6=$F20,#REF!=1),2,IF(AND(BR$6=$F20,#REF!=1),0,\"\")))),\"\")","v":""},{"$f":"IFERROR(IF(LEN(Etapes[[#This Row],[Activité]])=0,\"\",IF(AND($C20=\"MER\",BS$6=$F20,#REF!=1),1,IF(AND($C20=\"MEP\",BS$6=$F20,#REF!=1),2,IF(AND(BS$6=$F20,#REF!=1),0,\"\")))),\"\")","v":""},{"$f":"IFERROR(IF(LEN(Etapes[[#This Row],[Statut]])=0,\"\",IF(AND($C20=\"MER\",BT$6=$F20,#REF!=1),1,IF(AND($C20=\"MEP\",BT$6=$F20,#REF!=1),2,IF(AND(BT$6=$F20,#REF!=1),0,\"\")))),\"\")","v":""},{"$f":"IFERROR(IF(LEN(Etapes[[#This Row],[Progress]])=0,\"\",IF(AND($C20=\"MER\",BU$6=$F20,#REF!=1),1,IF(AND($C20=\"MEP\",BU$6=$F20,#REF!=1),2,IF(AND(BU$6=$F20,#REF!=1),0,\"\")))),\"\")","v":""},{"$f":"IFERROR(IF(LEN(Etapes[[#This Row],[Start]])=0,\"\",IF(AND($C20=\"MER\",BV$6=$F20,#REF!=1),1,IF(AND($C20=\"MEP\",BV$6=$F20,#REF!=1),2,IF(AND(BV$6=$F20,#REF!=1),0,\"\")))),\"\")","v":""},{"$f":"IFERROR(IF(LEN(Etapes[[#This Row],[Planned]])=0,\"\",IF(AND($C20=\"MER\",BW$6=$F20,#REF!=1),1,IF(AND($C20=\"MEP\",BW$6=$F20,#REF!=1),2,IF(AND(BW$6=$F20,#REF!=1),0,\"\")))),\"\")","v":""},{"$f":"IFERROR(IF(LEN(Etapes[[#This Row],[Add]])=0,\"\",IF(AND($C20=\"MER\",BX$6=$F20,#REF!=1),1,IF(AND($C20=\"MEP\",BX$6=$F20,#REF!=1),2,IF(AND(BX$6=$F20,#REF!=1),0,\"\")))),\"\")","v":""},{"$f":"IFERROR(IF(LEN(Etapes[[#This Row],[End]])=0,\"\",IF(AND($C20=\"MER\",BY$6=$F20,#REF!=1),1,IF(AND($C20=\"MEP\",BY$6=$F20,#REF!=1),2,IF(AND(BY$6=$F20,#REF!=1),0,\"\")))),\"\")","v":""},{"$f":"IFERROR(IF(LEN(Etapes[[#This Row],[Réalisé]])=0,\"\",IF(AND($C20=\"MER\",BZ$6=$F20,#REF!=1),1,IF(AND($C20=\"MEP\",BZ$6=$F20,#REF!=1),2,IF(AND(BZ$6=$F20,#REF!=1),0,\"\")))),\"\")","v":""},{"$f":"IFERROR(IF(LEN(Etapes[[#This Row],[Activité]])=0,\"\",IF(AND($C20=\"MER\",CA$6=$F20,#REF!=1),1,IF(AND($C20=\"MEP\",CA$6=$F20,#REF!=1),2,IF(AND(CA$6=$F20,#REF!=1),0,\"\")))),\"\")","v":""},{"$f":"IFERROR(IF(LEN(Etapes[[#This Row],[Statut]])=0,\"\",IF(AND($C20=\"MER\",CB$6=$F20,#REF!=1),1,IF(AND($C20=\"MEP\",CB$6=$F20,#REF!=1),2,IF(AND(CB$6=$F20,#REF!=1),0,\"\")))),\"\")","v":""},{"$f":"IFERROR(IF(LEN(Etapes[[#This Row],[Progress]])=0,\"\",IF(AND($C20=\"MER\",CC$6=$F20,#REF!=1),1,IF(AND($C20=\"MEP\",CC$6=$F20,#REF!=1),2,IF(AND(CC$6=$F20,#REF!=1),0,\"\")))),\"\")","v":""},{"$f":"IFERROR(IF(LEN(Etapes[[#This Row],[Start]])=0,\"\",IF(AND($C20=\"MER\",CD$6=$F20,#REF!=1),1,IF(AND($C20=\"MEP\",CD$6=$F20,#REF!=1),2,IF(AND(CD$6=$F20,#REF!=1),0,\"\")))),\"\")","v":""},{"$f":"IFERROR(IF(LEN(Etapes[[#This Row],[Planned]])=0,\"\",IF(AND($C20=\"MER\",CE$6=$F20,#REF!=1),1,IF(AND($C20=\"MEP\",CE$6=$F20,#REF!=1),2,IF(AND(CE$6=$F20,#REF!=1),0,\"\")))),\"\")","v":""},{"$f":"IFERROR(IF(LEN(Etapes[[#This Row],[Add]])=0,\"\",IF(AND($C20=\"MER\",CF$6=$F20,#REF!=1),1,IF(AND($C20=\"MEP\",CF$6=$F20,#REF!=1),2,IF(AND(CF$6=$F20,#REF!=1),0,\"\")))),\"\")","v":""},{"$f":"IFERROR(IF(LEN(Etapes[[#This Row],[End]])=0,\"\",IF(AND($C20=\"MER\",CG$6=$F20,#REF!=1),1,IF(AND($C20=\"MEP\",CG$6=$F20,#REF!=1),2,IF(AND(CG$6=$F20,#REF!=1),0,\"\")))),\"\")","v":""},{"$f":"IFERROR(IF(LEN(Etapes[[#This Row],[Réalisé]])=0,\"\",IF(AND($C20=\"MER\",CH$6=$F20,#REF!=1),1,IF(AND($C20=\"MEP\",CH$6=$F20,#REF!=1),2,IF(AND(CH$6=$F20,#REF!=1),0,\"\")))),\"\")","v":""},{"$f":"IFERROR(IF(LEN(Etapes[[#This Row],[Activité]])=0,\"\",IF(AND($C20=\"MER\",CI$6=$F20,#REF!=1),1,IF(AND($C20=\"MEP\",CI$6=$F20,#REF!=1),2,IF(AND(CI$6=$F20,#REF!=1),0,\"\")))),\"\")","v":""},{"$f":"IFERROR(IF(LEN(Etapes[[#This Row],[Statut]])=0,\"\",IF(AND($C20=\"MER\",CJ$6=$F20,#REF!=1),1,IF(AND($C20=\"MEP\",CJ$6=$F20,#REF!=1),2,IF(AND(CJ$6=$F20,#REF!=1),0,\"\")))),\"\")","v":""},{"$f":"IFERROR(IF(LEN(Etapes[[#This Row],[Progress]])=0,\"\",IF(AND($C20=\"MER\",CK$6=$F20,#REF!=1),1,IF(AND($C20=\"MEP\",CK$6=$F20,#REF!=1),2,IF(AND(CK$6=$F20,#REF!=1),0,\"\")))),\"\")","v":""},{"$f":"IFERROR(IF(LEN(Etapes[[#This Row],[Start]])=0,\"\",IF(AND($C20=\"MER\",CL$6=$F20,#REF!=1),1,IF(AND($C20=\"MEP\",CL$6=$F20,#REF!=1),2,IF(AND(CL$6=$F20,#REF!=1),0,\"\")))),\"\")","v":""},{"$f":"IFERROR(IF(LEN(Etapes[[#This Row],[Planned]])=0,\"\",IF(AND($C20=\"MER\",CM$6=$F20,#REF!=1),1,IF(AND($C20=\"MEP\",CM$6=$F20,#REF!=1),2,IF(AND(CM$6=$F20,#REF!=1),0,\"\")))),\"\")","v":""},{"$f":"IFERROR(IF(LEN(Etapes[[#This Row],[Add]])=0,\"\",IF(AND($C20=\"MER\",CN$6=$F20,#REF!=1),1,IF(AND($C20=\"MEP\",CN$6=$F20,#REF!=1),2,IF(AND(CN$6=$F20,#REF!=1),0,\"\")))),\"\")","v":""},{"$f":"IFERROR(IF(LEN(Etapes[[#This Row],[End]])=0,\"\",IF(AND($C20=\"MER\",CO$6=$F20,#REF!=1),1,IF(AND($C20=\"MEP\",CO$6=$F20,#REF!=1),2,IF(AND(CO$6=$F20,#REF!=1),0,\"\")))),\"\")","v":""},{"$f":"IFERROR(IF(LEN(Etapes[[#This Row],[Réalisé]])=0,\"\",IF(AND($C20=\"MER\",CP$6=$F20,#REF!=1),1,IF(AND($C20=\"MEP\",CP$6=$F20,#REF!=1),2,IF(AND(CP$6=$F20,#REF!=1),0,\"\")))),\"\")","v":""},{"$f":"IFERROR(IF(LEN(Etapes[[#This Row],[Activité]])=0,\"\",IF(AND($C20=\"MER\",CQ$6=$F20,#REF!=1),1,IF(AND($C20=\"MEP\",CQ$6=$F20,#REF!=1),2,IF(AND(CQ$6=$F20,#REF!=1),0,\"\")))),\"\")","v":""},{"$f":"IFERROR(IF(LEN(Etapes[[#This Row],[Statut]])=0,\"\",IF(AND($C20=\"MER\",CR$6=$F20,#REF!=1),1,IF(AND($C20=\"MEP\",CR$6=$F20,#REF!=1),2,IF(AND(CR$6=$F20,#REF!=1),0,\"\")))),\"\")","v":""},{"$f":"IFERROR(IF(LEN(Etapes[[#This Row],[Progress]])=0,\"\",IF(AND($C20=\"MER\",CS$6=$F20,#REF!=1),1,IF(AND($C20=\"MEP\",CS$6=$F20,#REF!=1),2,IF(AND(CS$6=$F20,#REF!=1),0,\"\")))),\"\")","v":""},{"$f":"IFERROR(IF(LEN(Etapes[[#This Row],[Start]])=0,\"\",IF(AND($C20=\"MER\",CT$6=$F20,#REF!=1),1,IF(AND($C20=\"MEP\",CT$6=$F20,#REF!=1),2,IF(AND(CT$6=$F20,#REF!=1),0,\"\")))),\"\")","v":""},{"$f":"IFERROR(IF(LEN(Etapes[[#This Row],[Planned]])=0,\"\",IF(AND($C20=\"MER\",CU$6=$F20,#REF!=1),1,IF(AND($C20=\"MEP\",CU$6=$F20,#REF!=1),2,IF(AND(CU$6=$F20,#REF!=1),0,\"\")))),\"\")","v":""},{"$f":"IFERROR(IF(LEN(Etapes[[#This Row],[Add]])=0,\"\",IF(AND($C20=\"MER\",CV$6=$F20,#REF!=1),1,IF(AND($C20=\"MEP\",CV$6=$F20,#REF!=1),2,IF(AND(CV$6=$F20,#REF!=1),0,\"\")))),\"\")","v":""},{"$f":"IFERROR(IF(LEN(Etapes[[#This Row],[End]])=0,\"\",IF(AND($C20=\"MER\",CW$6=$F20,#REF!=1),1,IF(AND($C20=\"MEP\",CW$6=$F20,#REF!=1),2,IF(AND(CW$6=$F20,#REF!=1),0,\"\")))),\"\")","v":""}]
["3.1","Instruction ","Visibility",{"$f":"Settings!B46","v":"NAN"},null,"2022-08-03",null,null,{"$f":"IF(Etapes[[#This Row],[Start]]<>\"\",WORKDAY(Etapes[[#This Row],[Start]],IF(WEEKDAY(Etapes[[#This Row],[Start]],1)>=6,Etapes[[#This Row],[Planned]]+Etapes[[#This Row],[Add]],Etapes[[#This Row],[Planned]]+Etapes[[#This Row],[Add]]-1),Férié),\"\")","v":"2022-08-02"},{"$f":"IF(Etapes[[#This Row],[Start]]<>\"\",WORKDAY(Etapes[[#This Row],[Start]],IF(WEEKDAY(Etapes[[#This Row],[Start]],1)>=6,Etapes[[#This Row],[Progress]]*Etapes[[#This Row],[Planned]]+Etapes[[#This Row],[Add]],(Etapes[[#This Row],[Progress]]*Etapes[[#This Row],[Planned]]+Etapes[[#This Row],[Add]])-1),Férié),\"\")","v":"2022-08-02"},null,{"$f":"IFERROR(IF(LEN(Etapes[[#This Row],[Planned]])=0,\"\",IF(AND($C21=\"MER\",L$6=$F21,$G21=1),1,IF(AND($C21=\"MEP\",L$6=$F21,$G21=1),2,IF(AND(L$6=$F21,$G21=1),0,\"\")))),\"\")","v":""},{"$f":"IFERROR(IF(LEN(Etapes[[#This Row],[Planned]])=0,\"\",IF(AND($C21=\"MER\",M$6=$F21,$G21=1),1,IF(AND($C21=\"MEP\",M$6=$F21,$G21=1),2,IF(AND(M$6=$F21,$G21=1),0,\"\")))),\"\")","v":""},{"$f":"IFERROR(IF(LEN(Etapes[[#This Row],[Planned]])=0,\"\",IF(AND($C21=\"MER\",N$6=$F21,$G21=1),1,IF(AND($C21=\"MEP\",N$6=$F21,$G21=1),2,IF(AND(N$6=$F21,$G21=1),0,\"\")))),\"\")","v":""},{"$f":"IFERROR(IF(LEN(Etapes[[#This Row],[Planned]])=0,\"\",IF(AND($C21=\"MER\",O$6=$F21,$G21=1),1,IF(AND($C21=\"MEP\",O$6=$F21,$G21=1),2,IF(AND(O$6=$F21,$G21=1),0,\"\")))),\"\")","v":""},{"$f":"IFERROR(IF(LEN(Etapes[[#This Row],[Planned]])=0,\"\",IF(AND($C21=\"MER\",P$6=$F21,$G21=1),1,IF(AND($C21=\"MEP\",P$6=$F21,$G21=1),2,IF(AND(P$6=$F21,$G21=1),0,\"\")))),\"\")","v":""},{"$f":"IFERROR(IF(LEN(Etapes[[#This Row],[Planned]])=0,\"\",IF(AND($C21=\"MER\",Q$6=$F21,$G21=1),1,IF(AND($C21=\"MEP\",Q$6=$F21,$G21=1),2,IF(AND(Q$6=$F21,$G21=1),0,\"\")))),\"\")","v":""},{"$f":"IFERROR(IF(LEN(Etapes[[#This Row],[Planned]])=0,\"\",IF(AND($C21=\"MER\",R$6=$F21,$G21=1),1,IF(AND($C21=\"MEP\",R$6=$F21,$G21=1),2,IF(AND(R$6=$F21,$G21=1),0,\"\")))),\"\")","v":""},{"$f":"IFERROR(IF(LEN(Etapes[[#This Row],[Planned]])=0,\"\",IF(AND($C21=\"MER\",S$6=$F21,$G21=1),1,IF(AND($C21=\"MEP\",S$6=$F21,$G21=1),2,IF(AND(S$6=$F21,$G21=1),0,\"\")))),\"\")","v":""},{"$f":"IFERROR(IF(LEN(Etapes[[#This Row],[Planned]])=0,\"\",IF(AND($C21=\"MER\",T$6=$F21,$G21=1),1,IF(AND($C21=\"MEP\",T$6=$F21,$G21=1),2,IF(AND(T$6=$F21,$G21=1),0,\"\")))),\"\")","v":""},{"$f":"IFERROR(IF(LEN(Etapes[[#This Row],[Planned]])=0,\"\",IF(AND($C21=\"MER\",U$6=$F21,$G21=1),1,IF(AND($C21=\"MEP\",U$6=$F21,$G21=1),2,IF(AND(U$6=$F21,$G21=1),0,\"\")))),\"\")","v":""},{"$f":"IFERROR(IF(LEN(Etapes[[#This Row],[Planned]])=0,\"\",IF(AND($C21=\"MER\",V$6=$F21,$G21=1),1,IF(AND($C21=\"MEP\",V$6=$F21,$G21=1),2,IF(AND(V$6=$F21,$G21=1),0,\"\")))),\"\")","v":""},{"$f":"IFERROR(IF(LEN(Etapes[[#This Row],[Planned]])=0,\"\",IF(AND($C21=\"MER\",W$6=$F21,$G21=1),1,IF(AND($C21=\"MEP\",W$6=$F21,$G21=1),2,IF(AND(W$6=$F21,$G21=1),0,\"\")))),\"\")","v":""},{"$f":"IFERROR(IF(LEN(Etapes[[#This Row],[Planned]])=0,\"\",IF(AND($C21=\"MER\",X$6=$F21,$G21=1),1,IF(AND($C21=\"MEP\",X$6=$F21,$G21=1),2,IF(AND(X$6=$F21,$G21=1),0,\"\")))),\"\")","v":""},{"$f":"IFERROR(IF(LEN(Etapes[[#This Row],[Planned]])=0,\"\",IF(AND($C21=\"MER\",Y$6=$F21,$G21=1),1,IF(AND($C21=\"MEP\",Y$6=$F21,$G21=1),2,IF(AND(Y$6=$F21,$G21=1),0,\"\")))),\"\")","v":""},{"$f":"IFERROR(IF(LEN(Etapes[[#This Row],[Planned]])=0,\"\",IF(AND($C21=\"MER\",Z$6=$F21,$G21=1),1,IF(AND($C21=\"MEP\",Z$6=$F21,$G21=1),2,IF(AND(Z$6=$F21,$G21=1),0,\"\")))),\"\")","v":""},{"$f":"IFERROR(IF(LEN(Etapes[[#This Row],[Planned]])=0,\"\",IF(AND($C21=\"MER\",AA$6=$F21,$G21=1),1,IF(AND($C21=\"MEP\",AA$6=$F21,$G21=1),2,IF(AND(AA$6=$F21,$G21=1),0,\"\")))),\"\")","v":""},{"$f":"IFERROR(IF(LEN(Etapes[[#This Row],[Planned]])=0,\"\",IF(AND($C21=\"MER\",AB$6=$F21,$G21=1),1,IF(AND($C21=\"MEP\",AB$6=$F21,$G21=1),2,IF(AND(AB$6=$F21,$G21=1),0,\"\")))),\"\")","v":""},{"$f":"IFERROR(IF(LEN(Etapes[[#This Row],[Planned]])=0,\"\",IF(AND($C21=\"MER\",AC$6=$F21,$G21=1),1,IF(AND($C21=\"MEP\",AC$6=$F21,$G21=1),2,IF(AND(AC$6=$F21,$G21=1),0,\"\")))),\"\")","v":""},{"$f":"IFERROR(IF(LEN(Etapes[[#This Row],[Planned]])=0,\"\",IF(AND($C21=\"MER\",AD$6=$F21,$G21=1),1,IF(AND($C21=\"MEP\",AD$6=$F21,$G21=1),2,IF(AND(AD$6=$F21,$G21=1),0,\"\")))),\"\")","v":""},{"$f":"IFERROR(IF(LEN(Etapes[[#This Row],[Planned]])=0,\"\",IF(AND($C21=\"MER\",AE$6=$F21,$G21=1),1,IF(AND($C21=\"MEP\",AE$6=$F21,$G21=1),2,IF(AND(AE$6=$F21,$G21=1),0,\"\")))),\"\")","v":""},{"$f":"IFERROR(IF(LEN(Etapes[[#This Row],[Planned]])=0,\"\",IF(AND($C21=\"MER\",AF$6=$F21,$G21=1),1,IF(AND($C21=\"MEP\",AF$6=$F21,$G21=1),2,IF(AND(AF$6=$F21,$G21=1),0,\"\")))),\"\")","v":""},{"$f":"IFERROR(IF(LEN(Etapes[[#This Row],[Planned]])=0,\"\",IF(AND($C21=\"MER\",AG$6=$F21,$G21=1),1,IF(AND($C21=\"MEP\",AG$6=$F21,$G21=1),2,IF(AND(AG$6=$F21,$G21=1),0,\"\")))),\"\")","v":""},{"$f":"IFERROR(IF(LEN(Etapes[[#This Row],[Planned]])=0,\"\",IF(AND($C21=\"MER\",AH$6=$F21,$G21=1),1,IF(AND($C21=\"MEP\",AH$6=$F21,$G21=1),2,IF(AND(AH$6=$F21,$G21=1),0,\"\")))),\"\")","v":""},{"$f":"IFERROR(IF(LEN(Etapes[[#This Row],[Planned]])=0,\"\",IF(AND($C21=\"MER\",AI$6=$F21,$G21=1),1,IF(AND($C21=\"MEP\",AI$6=$F21,$G21=1),2,IF(AND(AI$6=$F21,$G21=1),0,\"\")))),\"\")","v":""},{"$f":"IFERROR(IF(LEN(Etapes[[#This Row],[Planned]])=0,\"\",IF(AND($C21=\"MER\",AJ$6=$F21,$G21=1),1,IF(AND($C21=\"MEP\",AJ$6=$F21,$G21=1),2,IF(AND(AJ$6=$F21,$G21=1),0,\"\")))),\"\")","v":""},{"$f":"IFERROR(IF(LEN(Etapes[[#This Row],[Planned]])=0,\"\",IF(AND($C21=\"MER\",AK$6=$F21,$G21=1),1,IF(AND($C21=\"MEP\",AK$6=$F21,$G21=1),2,IF(AND(AK$6=$F21,$G21=1),0,\"\")))),\"\")","v":""},{"$f":"IFERROR(IF(LEN(Etapes[[#This Row],[Planned]])=0,\"\",IF(AND($C21=\"MER\",AL$6=$F21,$G21=1),1,IF(AND($C21=\"MEP\",AL$6=$F21,$G21=1),2,IF(AND(AL$6=$F21,$G21=1),0,\"\")))),\"\")","v":""},{"$f":"IFERROR(IF(LEN(Etapes[[#This Row],[Planned]])=0,\"\",IF(AND($C21=\"MER\",AM$6=$F21,$G21=1),1,IF(AND($C21=\"MEP\",AM$6=$F21,$G21=1),2,IF(AND(AM$6=$F21,$G21=1),0,\"\")))),\"\")","v":""},{"$f":"IFERROR(IF(LEN(Etapes[[#This Row],[Planned]])=0,\"\",IF(AND($C21=\"MER\",AN$6=$F21,$G21=1),1,IF(AND($C21=\"MEP\",AN$6=$F21,$G21=1),2,IF(AND(AN$6=$F21,$G21=1),0,\"\")))),\"\")","v":""},{"$f":"IFERROR(IF(LEN(Etapes[[#This Row],[Planned]])=0,\"\",IF(AND($C21=\"MER\",AO$6=$F21,$G21=1),1,IF(AND($C21=\"MEP\",AO$6=$F21,$G21=1),2,IF(AND(AO$6=$F21,$G21=1),0,\"\")))),\"\")","v":""},{"$f":"IFERROR(IF(LEN(Etapes[[#This Row],[Planned]])=0,\"\",IF(AND($C21=\"MER\",AP$6=$F21,$G21=1),1,IF(AND($C21=\"MEP\",AP$6=$F21,$G21=1),2,IF(AND(AP$6=$F21,$G21=1),0,\"\")))),\"\")","v":""},{"$f":"IFERROR(IF(LEN(Etapes[[#This Row],[Planned]])=0,\"\",IF(AND($C21=\"MER\",AQ$6=$F21,$G21=1),1,IF(AND($C21=\"MEP\",AQ$6=$F21,$G21=1),2,IF(AND(AQ$6=$F21,$G21=1),0,\"\")))),\"\")","v":""},{"$f":"IFERROR(IF(LEN(Etapes[[#This Row],[Planned]])=0,\"\",IF(AND($C21=\"MER\",AR$6=$F21,$G21=1),1,IF(AND($C21=\"MEP\",AR$6=$F21,$G21=1),2,IF(AND(AR$6=$F21,$G21=1),0,\"\")))),\"\")","v":""},{"$f":"IFERROR(IF(LEN(Etapes[[#This Row],[Planned]])=0,\"\",IF(AND($C21=\"MER\",AS$6=$F21,$G21=1),1,IF(AND($C21=\"MEP\",AS$6=$F21,$G21=1),2,IF(AND(AS$6=$F21,$G21=1),0,\"\")))),\"\")","v":""},{"$f":"IFERROR(IF(LEN(Etapes[[#This Row],[Planned]])=0,\"\",IF(AND($C21=\"MER\",AT$6=$F21,$G21=1),1,IF(AND($C21=\"MEP\",AT$6=$F21,$G21=1),2,IF(AND(AT$6=$F21,$G21=1),0,\"\")))),\"\")","v":""},{"$f":"IFERROR(IF(LEN(Etapes[[#This Row],[Planned]])=0,\"\",IF(AND($C21=\"MER\",AU$6=$F21,$G21=1),1,IF(AND($C21=\"MEP\",AU$6=$F21,$G21=1),2,IF(AND(AU$6=$F21,$G21=1),0,\"\")))),\"\")","v":""},{"$f":"IFERROR(IF(LEN(Etapes[[#This Row],[Planned]])=0,\"\",IF(AND($C21=\"MER\",AV$6=$F21,$G21=1),1,IF(AND($C21=\"MEP\",AV$6=$F21,$G21=1),2,IF(AND(AV$6=$F21,$G21=1),0,\"\")))),\"\")","v":""},{"$f":"IFERROR(IF(LEN(Etapes[[#This Row],[Planned]])=0,\"\",IF(AND($C21=\"MER\",AW$6=$F21,$G21=1),1,IF(AND($C21=\"MEP\",AW$6=$F21,$G21=1),2,IF(AND(AW$6=$F21,$G21=1),0,\"\")))),\"\")","v":""},{"$f":"IFERROR(IF(LEN(Etapes[[#This Row],[Planned]])=0,\"\",IF(AND($C21=\"MER\",AX$6=$F21,$G21=1),1,IF(AND($C21=\"MEP\",AX$6=$F21,$G21=1),2,IF(AND(AX$6=$F21,$G21=1),0,\"\")))),\"\")","v":""},{"$f":"IFERROR(IF(LEN(Etapes[[#This Row],[Planned]])=0,\"\",IF(AND($C21=\"MER\",AY$6=$F21,$G21=1),1,IF(AND($C21=\"MEP\",AY$6=$F21,$G21=1),2,IF(AND(AY$6=$F21,$G21=1),0,\"\")))),\"\")","v":""},{"$f":"IFERROR(IF(LEN(Etapes[[#This Row],[Planned]])=0,\"\",IF(AND($C21=\"MER\",AZ$6=$F21,$G21=1),1,IF(AND($C21=\"MEP\",AZ$6=$F21,$G21=1),2,IF(AND(AZ$6=$F21,$G21=1),0,\"\")))),\"\")","v":""},{"$f":"IFERROR(IF(LEN(Etapes[[#This Row],[Planned]])=0,\"\",IF(AND($C21=\"MER\",BA$6=$F21,$G21=1),1,IF(AND($C21=\"MEP\",BA$6=$F21,$G21=1),2,IF(AND(BA$6=$F21,$G21=1),0,\"\")))),\"\")","v":""},{"$f":"IFERROR(IF(LEN(Etapes[[#This Row],[Planned]])=0,\"\",IF(AND($C21=\"MER\",BB$6=$F21,$G21=1),1,IF(AND($C21=\"MEP\",BB$6=$F21,$G21=1),2,IF(AND(BB$6=$F21,$G21=1),0,\"\")))),\"\")","v":""},{"$f":"IFERROR(IF(LEN(Etapes[[#This Row],[Planned]])=0,\"\",IF(AND($C21=\"MER\",BC$6=$F21,$G21=1),1,IF(AND($C21=\"MEP\",BC$6=$F21,$G21=1),2,IF(AND(BC$6=$F21,$G21=1),0,\"\")))),\"\")","v":""},{"$f":"IFERROR(IF(LEN(Etapes[[#This Row],[Planned]])=0,\"\",IF(AND($C21=\"MER\",BD$6=$F21,$G21=1),1,IF(AND($C21=\"MEP\",BD$6=$F21,$G21=1),2,IF(AND(BD$6=$F21,$G21=1),0,\"\")))),\"\")","v":""},{"$f":"IFERROR(IF(LEN(Etapes[[#This Row],[Planned]])=0,\"\",IF(AND($C21=\"MER\",BE$6=$F21,$G21=1),1,IF(AND($C21=\"MEP\",BE$6=$F21,$G21=1),2,IF(AND(BE$6=$F21,$G21=1),0,\"\")))),\"\")","v":""},{"$f":"IFERROR(IF(LEN(Etapes[[#This Row],[Planned]])=0,\"\",IF(AND($C21=\"MER\",BF$6=$F21,$G21=1),1,IF(AND($C21=\"MEP\",BF$6=$F21,$G21=1),2,IF(AND(BF$6=$F21,$G21=1),0,\"\")))),\"\")","v":""},{"$f":"IFERROR(IF(LEN(Etapes[[#This Row],[Planned]])=0,\"\",IF(AND($C21=\"MER\",BG$6=$F21,$G21=1),1,IF(AND($C21=\"MEP\",BG$6=$F21,$G21=1),2,IF(AND(BG$6=$F21,$G21=1),0,\"\")))),\"\")","v":""},{"$f":"IFERROR(IF(LEN(Etapes[[#This Row],[Planned]])=0,\"\",IF(AND($C21=\"MER\",BH$6=$F21,$G21=1),1,IF(AND($C21=\"MEP\",BH$6=$F21,$G21=1),2,IF(AND(BH$6=$F21,$G21=1),0,\"\")))),\"\")","v":""},{"$f":"IFERROR(IF(LEN(Etapes[[#This Row],[Planned]])=0,\"\",IF(AND($C21=\"MER\",BI$6=$F21,$G21=1),1,IF(AND($C21=\"MEP\",BI$6=$F21,$G21=1),2,IF(AND(BI$6=$F21,$G21=1),0,\"\")))),\"\")","v":""},{"$f":"IFERROR(IF(LEN(Etapes[[#This Row],[Planned]])=0,\"\",IF(AND($C21=\"MER\",BJ$6=$F21,$G21=1),1,IF(AND($C21=\"MEP\",BJ$6=$F21,$G21=1),2,IF(AND(BJ$6=$F21,$G21=1),0,\"\")))),\"\")","v":""},{"$f":"IFERROR(IF(LEN(Etapes[[#This Row],[Planned]])=0,\"\",IF(AND($C21=\"MER\",BK$6=$F21,$G21=1),1,IF(AND($C21=\"MEP\",BK$6=$F21,$G21=1),2,IF(AND(BK$6=$F21,$G21=1),0,\"\")))),\"\")","v":""},{"$f":"IFERROR(IF(LEN(Etapes[[#This Row],[Planned]])=0,\"\",IF(AND($C21=\"MER\",BL$6=$F21,$G21=1),1,IF(AND($C21=\"MEP\",BL$6=$F21,$G21=1),2,IF(AND(BL$6=$F21,$G21=1),0,\"\")))),\"\")","v":""},{"$f":"IFERROR(IF(LEN(Etapes[[#This Row],[Planned]])=0,\"\",IF(AND($C21=\"MER\",BM$6=$F21,$G21=1),1,IF(AND($C21=\"MEP\",BM$6=$F21,$G21=1),2,IF(AND(BM$6=$F21,$G21=1),0,\"\")))),\"\")","v":""},{"$f":"IFERROR(IF(LEN(Etapes[[#This Row],[Planned]])=0,\"\",IF(AND($C21=\"MER\",BN$6=$F21,$G21=1),1,IF(AND($C21=\"MEP\",BN$6=$F21,$G21=1),2,IF(AND(BN$6=$F21,$G21=1),0,\"\")))),\"\")","v":""},{"$f":"IFERROR(IF(LEN(Etapes[[#This Row],[Planned]])=0,\"\",IF(AND($C21=\"MER\",BO$6=$F21,$G21=1),1,IF(AND($C21=\"MEP\",BO$6=$F21,$G21=1),2,IF(AND(BO$6=$F21,$G21=1),0,\"\")))),\"\")","v":""},{"$f":"IFERROR(IF(LEN(Etapes[[#This Row],[Add]])=0,\"\",IF(AND($C21=\"MER\",BP$6=$F21,$G21=1),1,IF(AND($C21=\"MEP\",BP$6=$F21,$G21=1),2,IF(AND(BP$6=$F21,$G21=1),0,\"\")))),\"\")","v":""},{"$f":"IFERROR(IF(LEN(Etapes[[#This Row],[End]])=0,\"\",IF(AND($C21=\"MER\",BQ$6=$F21,$G21=1),1,IF(AND($C21=\"MEP\",BQ$6=$F21,$G21=1),2,IF(AND(BQ$6=$F21,$G21=1),0,\"\")))),\"\")","v":""},{"$f":"IFERROR(IF(LEN(Etapes[[#This Row],[Réalisé]])=0,\"\",IF(AND($C21=\"MER\",BR$6=$F21,$G21=1),1,IF(AND($C21=\"MEP\",BR$6=$F21,$G21=1),2,IF(AND(BR$6=$F21,$G21=1),0,\"\")))),\"\")","v":""},{"$f":"IFERROR(IF(LEN(Etapes[[#This Row],[Activité]])=0,\"\",IF(AND($C21=\"MER\",BS$6=$F21,$G21=1),1,IF(AND($C21=\"MEP\",BS$6=$F21,$G21=1),2,IF(AND(BS$6=$F21,$G21=1),0,\"\")))),\"\")","v":""},{"$f":"IFERROR(IF(LEN(Etapes[[#This Row],[Statut]])=0,\"\",IF(AND($C21=\"MER\",BT$6=$F21,$G21=1),1,IF(AND($C21=\"MEP\",BT$6=$F21,$G21=1),2,IF(AND(BT$6=$F21,$G21=1),0,\"\")))),\"\")","v":""},{"$f":"IFERROR(IF(LEN(Etapes[[#This Row],[Progress]])=0,\"\",IF(AND($C21=\"MER\",BU$6=$F21,$G21=1),1,IF(AND($C21=\"MEP\",BU$6=$F21,$G21=1),2,IF(AND(BU$6=$F21,$G21=1),0,\"\")))),\"\")","v":""},{"$f":"IFERROR(IF(LEN(Etapes[[#This Row],[Start]])=0,\"\",IF(AND($C21=\"MER\",BV$6=$F21,$G21=1),1,IF(AND($C21=\"MEP\",BV$6=$F21,$G21=1),2,IF(AND(BV$6=$F21,$G21=1),0,\"\")))),\"\")","v":""},{"$f":"IFERROR(IF(LEN(Etapes[[#This Row],[Planned]])=0,\"\",IF(AND($C21=\"MER\",BW$6=$F21,$G21=1),1,IF(AND($C21=\"MEP\",BW$6=$F21,$G21=1),2,IF(AND(BW$6=$F21,$G21=1),0,\"\")))),\"\")","v":""},{"$f":"IFERROR(IF(LEN(Etapes[[#This Row],[Add]])=0,\"\",IF(AND($C21=\"MER\",BX$6=$F21,$G21=1),1,IF(AND($C21=\"MEP\",BX$6=$F21,$G21=1),2,IF(AND(BX$6=$F21,$G21=1),0,\"\")))),\"\")","v":""},{"$f":"IFERROR(IF(LEN(Etapes[[#This Row],[End]])=0,\"\",IF(AND($C21=\"MER\",BY$6=$F21,$G21=1),1,IF(AND($C21=\"MEP\",BY$6=$F21,$G21=1),2,IF(AND(BY$6=$F21,$G21=1),0,\"\")))),\"\")","v":""},{"$f":"IFERROR(IF(LEN(Etapes[[#This Row],[Réalisé]])=0,\"\",IF(AND($C21=\"MER\",BZ$6=$F21,$G21=1),1,IF(AND($C21=\"MEP\",BZ$6=$F21,$G21=1),2,IF(AND(BZ$6=$F21,$G21=1),0,\"\")))),\"\")","v":""},{"$f":"IFERROR(IF(LEN(Etapes[[#This Row],[Activité]])=0,\"\",IF(AND($C21=\"MER\",CA$6=$F21,$G21=1),1,IF(AND($C21=\"MEP\",CA$6=$F21,$G21=1),2,IF(AND(CA$6=$F21,$G21=1),0,\"\")))),\"\")","v":""},{"$f":"IFERROR(IF(LEN(Etapes[[#This Row],[Statut]])=0,\"\",IF(AND($C21=\"MER\",CB$6=$F21,$G21=1),1,IF(AND($C21=\"MEP\",CB$6=$F21,$G21=1),2,IF(AND(CB$6=$F21,$G21=1),0,\"\")))),\"\")","v":""},{"$f":"IFERROR(IF(LEN(Etapes[[#This Row],[Progress]])=0,\"\",IF(AND($C21=\"MER\",CC$6=$F21,$G21=1),1,IF(AND($C21=\"MEP\",CC$6=$F21,$G21=1),2,IF(AND(CC$6=$F21,$G21=1),0,\"\")))),\"\")","v":""},{"$f":"IFERROR(IF(LEN(Etapes[[#This Row],[Start]])=0,\"\",IF(AND($C21=\"MER\",CD$6=$F21,$G21=1),1,IF(AND($C21=\"MEP\",CD$6=$F21,$G21=1),2,IF(AND(CD$6=$F21,$G21=1),0,\"\")))),\"\")","v":""},{"$f":"IFERROR(IF(LEN(Etapes[[#This Row],[Planned]])=0,\"\",IF(AND($C21=\"MER\",CE$6=$F21,$G21=1),1,IF(AND($C21=\"MEP\",CE$6=$F21,$G21=1),2,IF(AND(CE$6=$F21,$G21=1),0,\"\")))),\"\")","v":""},{"$f":"IFERROR(IF(LEN(Etapes[[#This Row],[Add]])=0,\"\",IF(AND($C21=\"MER\",CF$6=$F21,$G21=1),1,IF(AND($C21=\"MEP\",CF$6=$F21,$G21=1),2,IF(AND(CF$6=$F21,$G21=1),0,\"\")))),\"\")","v":""},{"$f":"IFERROR(IF(LEN(Etapes[[#This Row],[End]])=0,\"\",IF(AND($C21=\"MER\",CG$6=$F21,$G21=1),1,IF(AND($C21=\"MEP\",CG$6=$F21,$G21=1),2,IF(AND(CG$6=$F21,$G21=1),0,\"\")))),\"\")","v":""},{"$f":"IFERROR(IF(LEN(Etapes[[#This Row],[Réalisé]])=0,\"\",IF(AND($C21=\"MER\",CH$6=$F21,$G21=1),1,IF(AND($C21=\"MEP\",CH$6=$F21,$G21=1),2,IF(AND(CH$6=$F21,$G21=1),0,\"\")))),\"\")","v":""},{"$f":"IFERROR(IF(LEN(Etapes[[#This Row],[Activité]])=0,\"\",IF(AND($C21=\"MER\",CI$6=$F21,$G21=1),1,IF(AND($C21=\"MEP\",CI$6=$F21,$G21=1),2,IF(AND(CI$6=$F21,$G21=1),0,\"\")))),\"\")","v":""},{"$f":"IFERROR(IF(LEN(Etapes[[#This Row],[Statut]])=0,\"\",IF(AND($C21=\"MER\",CJ$6=$F21,$G21=1),1,IF(AND($C21=\"MEP\",CJ$6=$F21,$G21=1),2,IF(AND(CJ$6=$F21,$G21=1),0,\"\")))),\"\")","v":""},{"$f":"IFERROR(IF(LEN(Etapes[[#This Row],[Progress]])=0,\"\",IF(AND($C21=\"MER\",CK$6=$F21,$G21=1),1,IF(AND($C21=\"MEP\",CK$6=$F21,$G21=1),2,IF(AND(CK$6=$F21,$G21=1),0,\"\")))),\"\")","v":""},{"$f":"IFERROR(IF(LEN(Etapes[[#This Row],[Start]])=0,\"\",IF(AND($C21=\"MER\",CL$6=$F21,$G21=1),1,IF(AND($C21=\"MEP\",CL$6=$F21,$G21=1),2,IF(AND(CL$6=$F21,$G21=1),0,\"\")))),\"\")","v":""},{"$f":"IFERROR(IF(LEN(Etapes[[#This Row],[Planned]])=0,\"\",IF(AND($C21=\"MER\",CM$6=$F21,$G21=1),1,IF(AND($C21=\"MEP\",CM$6=$F21,$G21=1),2,IF(AND(CM$6=$F21,$G21=1),0,\"\")))),\"\")","v":""},{"$f":"IFERROR(IF(LEN(Etapes[[#This Row],[Add]])=0,\"\",IF(AND($C21=\"MER\",CN$6=$F21,$G21=1),1,IF(AND($C21=\"MEP\",CN$6=$F21,$G21=1),2,IF(AND(CN$6=$F21,$G21=1),0,\"\")))),\"\")","v":""},{"$f":"IFERROR(IF(LEN(Etapes[[#This Row],[End]])=0,\"\",IF(AND($C21=\"MER\",CO$6=$F21,$G21=1),1,IF(AND($C21=\"MEP\",CO$6=$F21,$G21=1),2,IF(AND(CO$6=$F21,$G21=1),0,\"\")))),\"\")","v":""},{"$f":"IFERROR(IF(LEN(Etapes[[#This Row],[Réalisé]])=0,\"\",IF(AND($C21=\"MER\",CP$6=$F21,$G21=1),1,IF(AND($C21=\"MEP\",CP$6=$F21,$G21=1),2,IF(AND(CP$6=$F21,$G21=1),0,\"\")))),\"\")","v":""},{"$f":"IFERROR(IF(LEN(Etapes[[#This Row],[Activité]])=0,\"\",IF(AND($C21=\"MER\",CQ$6=$F21,$G21=1),1,IF(AND($C21=\"MEP\",CQ$6=$F21,$G21=1),2,IF(AND(CQ$6=$F21,$G21=1),0,\"\")))),\"\")","v":""},{"$f":"IFERROR(IF(LEN(Etapes[[#This Row],[Statut]])=0,\"\",IF(AND($C21=\"MER\",CR$6=$F21,$G21=1),1,IF(AND($C21=\"MEP\",CR$6=$F21,$G21=1),2,IF(AND(CR$6=$F21,$G21=1),0,\"\")))),\"\")","v":""},{"$f":"IFERROR(IF(LEN(Etapes[[#This Row],[Progress]])=0,\"\",IF(AND($C21=\"MER\",CS$6=$F21,$G21=1),1,IF(AND($C21=\"MEP\",CS$6=$F21,$G21=1),2,IF(AND(CS$6=$F21,$G21=1),0,\"\")))),\"\")","v":""},{"$f":"IFERROR(IF(LEN(Etapes[[#This Row],[Start]])=0,\"\",IF(AND($C21=\"MER\",CT$6=$F21,$G21=1),1,IF(AND($C21=\"MEP\",CT$6=$F21,$G21=1),2,IF(AND(CT$6=$F21,$G21=1),0,\"\")))),\"\")","v":""},{"$f":"IFERROR(IF(LEN(Etapes[[#This Row],[Planned]])=0,\"\",IF(AND($C21=\"MER\",CU$6=$F21,$G21=1),1,IF(AND($C21=\"MEP\",CU$6=$F21,$G21=1),2,IF(AND(CU$6=$F21,$G21=1),0,\"\")))),\"\")","v":""},{"$f":"IFERROR(IF(LEN(Etapes[[#This Row],[Add]])=0,\"\",IF(AND($C21=\"MER\",CV$6=$F21,$G21=1),1,IF(AND($C21=\"MEP\",CV$6=$F21,$G21=1),2,IF(AND(CV$6=$F21,$G21=1),0,\"\")))),\"\")","v":""},{"$f":"IFERROR(IF(LEN(Etapes[[#This Row],[End]])=0,\"\",IF(AND($C21=\"MER\",CW$6=$F21,$G21=1),1,IF(AND($C21=\"MEP\",CW$6=$F21,$G21=1),2,IF(AND(CW$6=$F21,$G21=1),0,\"\")))),\"\")","v":""}]
["3.2","Conception","Backlog",{"$f":"Settings!C46","v":"NAN"},null,"2022-08-03",null,null,{"$f":"IF(Etapes[[#This Row],[Start]]<>\"\",WORKDAY(Etapes[[#This Row],[Start]],IF(WEEKDAY(Etapes[[#This Row],[Start]],1)>=6,Etapes[[#This Row],[Planned]]+Etapes[[#This Row],[Add]],Etapes[[#This Row],[Planned]]+Etapes[[#This Row],[Add]]-1),Férié),\"\")","v":"2022-08-02"},{"$f":"IF(Etapes[[#This Row],[Start]]<>\"\",WORKDAY(Etapes[[#This Row],[Start]],IF(WEEKDAY(Etapes[[#This Row],[Start]],1)>=6,Etapes[[#This Row],[Progress]]*Etapes[[#This Row],[Planned]]+Etapes[[#This Row],[Add]],(Etapes[[#This Row],[Progress]]*Etapes[[#This Row],[Planned]]+Etapes[[#This Row],[Add]])-1),Férié),\"\")","v":"2022-08-02"},null,{"$f":"IFERROR(IF(LEN(Etapes[[#This Row],[Planned]])=0,\"\",IF(AND($C22=\"MER\",L$6=$F22,$G22=1),1,IF(AND($C22=\"MEP\",L$6=$F22,$G22=1),2,IF(AND(L$6=$F22,$G22=1),0,\"\")))),\"\")","v":""},{"$f":"IFERROR(IF(LEN(Etapes[[#This Row],[Planned]])=0,\"\",IF(AND($C22=\"MER\",M$6=$F22,$G22=1),1,IF(AND($C22=\"MEP\",M$6=$F22,$G22=1),2,IF(AND(M$6=$F22,$G22=1),0,\"\")))),\"\")","v":""},{"$f":"IFERROR(IF(LEN(Etapes[[#This Row],[Planned]])=0,\"\",IF(AND($C22=\"MER\",N$6=$F22,$G22=1),1,IF(AND($C22=\"MEP\",N$6=$F22,$G22=1),2,IF(AND(N$6=$F22,$G22=1),0,\"\")))),\"\")","v":""},{"$f":"IFERROR(IF(LEN(Etapes[[#This Row],[Planned]])=0,\"\",IF(AND($C22=\"MER\",O$6=$F22,$G22=1),1,IF(AND($C22=\"MEP\",O$6=$F22,$G22=1),2,IF(AND(O$6=$F22,$G22=1),0,\"\")))),\"\")","v":""},{"$f":"IFERROR(IF(LEN(Etapes[[#This Row],[Planned]])=0,\"\",IF(AND($C22=\"MER\",P$6=$F22,$G22=1),1,IF(AND($C22=\"MEP\",P$6=$F22,$G22=1),2,IF(AND(P$6=$F22,$G22=1),0,\"\")))),\"\")","v":""},{"$f":"IFERROR(IF(LEN(Etapes[[#This Row],[Planned]])=0,\"\",IF(AND($C22=\"MER\",Q$6=$F22,$G22=1),1,IF(AND($C22=\"MEP\",Q$6=$F22,$G22=1),2,IF(AND(Q$6=$F22,$G22=1),0,\"\")))),\"\")","v":""},{"$f":"IFERROR(IF(LEN(Etapes[[#This Row],[Planned]])=0,\"\",IF(AND($C22=\"MER\",R$6=$F22,$G22=1),1,IF(AND($C22=\"MEP\",R$6=$F22,$G22=1),2,IF(AND(R$6=$F22,$G22=1),0,\"\")))),\"\")","v":""},{"$f":"IFERROR(IF(LEN(Etapes[[#This Row],[Planned]])=0,\"\",IF(AND($C22=\"MER\",S$6=$F22,$G22=1),1,IF(AND($C22=\"MEP\",S$6=$F22,$G22=1),2,IF(AND(S$6=$F22,$G22=1),0,\"\")))),\"\")","v":""},{"$f":"IFERROR(IF(LEN(Etapes[[#This Row],[Planned]])=0,\"\",IF(AND($C22=\"MER\",T$6=$F22,$G22=1),1,IF(AND($C22=\"MEP\",T$6=$F22,$G22=1),2,IF(AND(T$6=$F22,$G22=1),0,\"\")))),\"\")","v":""},{"$f":"IFERROR(IF(LEN(Etapes[[#This Row],[Planned]])=0,\"\",IF(AND($C22=\"MER\",U$6=$F22,$G22=1),1,IF(AND($C22=\"MEP\",U$6=$F22,$G22=1),2,IF(AND(U$6=$F22,$G22=1),0,\"\")))),\"\")","v":""},{"$f":"IFERROR(IF(LEN(Etapes[[#This Row],[Planned]])=0,\"\",IF(AND($C22=\"MER\",V$6=$F22,$G22=1),1,IF(AND($C22=\"MEP\",V$6=$F22,$G22=1),2,IF(AND(V$6=$F22,$G22=1),0,\"\")))),\"\")","v":""},{"$f":"IFERROR(IF(LEN(Etapes[[#This Row],[Planned]])=0,\"\",IF(AND($C22=\"MER\",W$6=$F22,$G22=1),1,IF(AND($C22=\"MEP\",W$6=$F22,$G22=1),2,IF(AND(W$6=$F22,$G22=1),0,\"\")))),\"\")","v":""},{"$f":"IFERROR(IF(LEN(Etapes[[#This Row],[Planned]])=0,\"\",IF(AND($C22=\"MER\",X$6=$F22,$G22=1),1,IF(AND($C22=\"MEP\",X$6=$F22,$G22=1),2,IF(AND(X$6=$F22,$G22=1),0,\"\")))),\"\")","v":""},{"$f":"IFERROR(IF(LEN(Etapes[[#This Row],[Planned]])=0,\"\",IF(AND($C22=\"MER\",Y$6=$F22,$G22=1),1,IF(AND($C22=\"MEP\",Y$6=$F22,$G22=1),2,IF(AND(Y$6=$F22,$G22=1),0,\"\")))),\"\")","v":""},{"$f":"IFERROR(IF(LEN(Etapes[[#This Row],[Planned]])=0,\"\",IF(AND($C22=\"MER\",Z$6=$F22,$G22=1),1,IF(AND($C22=\"MEP\",Z$6=$F22,$G22=1),2,IF(AND(Z$6=$F22,$G22=1),0,\"\")))),\"\")","v":""},{"$f":"IFERROR(IF(LEN(Etapes[[#This Row],[Planned]])=0,\"\",IF(AND($C22=\"MER\",AA$6=$F22,$G22=1),1,IF(AND($C22=\"MEP\",AA$6=$F22,$G22=1),2,IF(AND(AA$6=$F22,$G22=1),0,\"\")))),\"\")","v":""},{"$f":"IFERROR(IF(LEN(Etapes[[#This Row],[Planned]])=0,\"\",IF(AND($C22=\"MER\",AB$6=$F22,$G22=1),1,IF(AND($C22=\"MEP\",AB$6=$F22,$G22=1),2,IF(AND(AB$6=$F22,$G22=1),0,\"\")))),\"\")","v":""},{"$f":"IFERROR(IF(LEN(Etapes[[#This Row],[Planned]])=0,\"\",IF(AND($C22=\"MER\",AC$6=$F22,$G22=1),1,IF(AND($C22=\"MEP\",AC$6=$F22,$G22=1),2,IF(AND(AC$6=$F22,$G22=1),0,\"\")))),\"\")","v":""},{"$f":"IFERROR(IF(LEN(Etapes[[#This Row],[Planned]])=0,\"\",IF(AND($C22=\"MER\",AD$6=$F22,$G22=1),1,IF(AND($C22=\"MEP\",AD$6=$F22,$G22=1),2,IF(AND(AD$6=$F22,$G22=1),0,\"\")))),\"\")","v":""},{"$f":"IFERROR(IF(LEN(Etapes[[#This Row],[Planned]])=0,\"\",IF(AND($C22=\"MER\",AE$6=$F22,$G22=1),1,IF(AND($C22=\"MEP\",AE$6=$F22,$G22=1),2,IF(AND(AE$6=$F22,$G22=1),0,\"\")))),\"\")","v":""},{"$f":"IFERROR(IF(LEN(Etapes[[#This Row],[Planned]])=0,\"\",IF(AND($C22=\"MER\",AF$6=$F22,$G22=1),1,IF(AND($C22=\"MEP\",AF$6=$F22,$G22=1),2,IF(AND(AF$6=$F22,$G22=1),0,\"\")))),\"\")","v":""},{"$f":"IFERROR(IF(LEN(Etapes[[#This Row],[Planned]])=0,\"\",IF(AND($C22=\"MER\",AG$6=$F22,$G22=1),1,IF(AND($C22=\"MEP\",AG$6=$F22,$G22=1),2,IF(AND(AG$6=$F22,$G22=1),0,\"\")))),\"\")","v":""},{"$f":"IFERROR(IF(LEN(Etapes[[#This Row],[Planned]])=0,\"\",IF(AND($C22=\"MER\",AH$6=$F22,$G22=1),1,IF(AND($C22=\"MEP\",AH$6=$F22,$G22=1),2,IF(AND(AH$6=$F22,$G22=1),0,\"\")))),\"\")","v":""},{"$f":"IFERROR(IF(LEN(Etapes[[#This Row],[Planned]])=0,\"\",IF(AND($C22=\"MER\",AI$6=$F22,$G22=1),1,IF(AND($C22=\"MEP\",AI$6=$F22,$G22=1),2,IF(AND(AI$6=$F22,$G22=1),0,\"\")))),\"\")","v":""},{"$f":"IFERROR(IF(LEN(Etapes[[#This Row],[Planned]])=0,\"\",IF(AND($C22=\"MER\",AJ$6=$F22,$G22=1),1,IF(AND($C22=\"MEP\",AJ$6=$F22,$G22=1),2,IF(AND(AJ$6=$F22,$G22=1),0,\"\")))),\"\")","v":""},{"$f":"IFERROR(IF(LEN(Etapes[[#This Row],[Planned]])=0,\"\",IF(AND($C22=\"MER\",AK$6=$F22,$G22=1),1,IF(AND($C22=\"MEP\",AK$6=$F22,$G22=1),2,IF(AND(AK$6=$F22,$G22=1),0,\"\")))),\"\")","v":""},{"$f":"IFERROR(IF(LEN(Etapes[[#This Row],[Planned]])=0,\"\",IF(AND($C22=\"MER\",AL$6=$F22,$G22=1),1,IF(AND($C22=\"MEP\",AL$6=$F22,$G22=1),2,IF(AND(AL$6=$F22,$G22=1),0,\"\")))),\"\")","v":""},{"$f":"IFERROR(IF(LEN(Etapes[[#This Row],[Planned]])=0,\"\",IF(AND($C22=\"MER\",AM$6=$F22,$G22=1),1,IF(AND($C22=\"MEP\",AM$6=$F22,$G22=1),2,IF(AND(AM$6=$F22,$G22=1),0,\"\")))),\"\")","v":""},{"$f":"IFERROR(IF(LEN(Etapes[[#This Row],[Planned]])=0,\"\",IF(AND($C22=\"MER\",AN$6=$F22,$G22=1),1,IF(AND($C22=\"MEP\",AN$6=$F22,$G22=1),2,IF(AND(AN$6=$F22,$G22=1),0,\"\")))),\"\")","v":""},{"$f":"IFERROR(IF(LEN(Etapes[[#This Row],[Planned]])=0,\"\",IF(AND($C22=\"MER\",AO$6=$F22,$G22=1),1,IF(AND($C22=\"MEP\",AO$6=$F22,$G22=1),2,IF(AND(AO$6=$F22,$G22=1),0,\"\")))),\"\")","v":""},{"$f":"IFERROR(IF(LEN(Etapes[[#This Row],[Planned]])=0,\"\",IF(AND($C22=\"MER\",AP$6=$F22,$G22=1),1,IF(AND($C22=\"MEP\",AP$6=$F22,$G22=1),2,IF(AND(AP$6=$F22,$G22=1),0,\"\")))),\"\")","v":""},{"$f":"IFERROR(IF(LEN(Etapes[[#This Row],[Planned]])=0,\"\",IF(AND($C22=\"MER\",AQ$6=$F22,$G22=1),1,IF(AND($C22=\"MEP\",AQ$6=$F22,$G22=1),2,IF(AND(AQ$6=$F22,$G22=1),0,\"\")))),\"\")","v":""},{"$f":"IFERROR(IF(LEN(Etapes[[#This Row],[Planned]])=0,\"\",IF(AND($C22=\"MER\",AR$6=$F22,$G22=1),1,IF(AND($C22=\"MEP\",AR$6=$F22,$G22=1),2,IF(AND(AR$6=$F22,$G22=1),0,\"\")))),\"\")","v":""},{"$f":"IFERROR(IF(LEN(Etapes[[#This Row],[Planned]])=0,\"\",IF(AND($C22=\"MER\",AS$6=$F22,$G22=1),1,IF(AND($C22=\"MEP\",AS$6=$F22,$G22=1),2,IF(AND(AS$6=$F22,$G22=1),0,\"\")))),\"\")","v":""},{"$f":"IFERROR(IF(LEN(Etapes[[#This Row],[Planned]])=0,\"\",IF(AND($C22=\"MER\",AT$6=$F22,$G22=1),1,IF(AND($C22=\"MEP\",AT$6=$F22,$G22=1),2,IF(AND(AT$6=$F22,$G22=1),0,\"\")))),\"\")","v":""},{"$f":"IFERROR(IF(LEN(Etapes[[#This Row],[Planned]])=0,\"\",IF(AND($C22=\"MER\",AU$6=$F22,$G22=1),1,IF(AND($C22=\"MEP\",AU$6=$F22,$G22=1),2,IF(AND(AU$6=$F22,$G22=1),0,\"\")))),\"\")","v":""},{"$f":"IFERROR(IF(LEN(Etapes[[#This Row],[Planned]])=0,\"\",IF(AND($C22=\"MER\",AV$6=$F22,$G22=1),1,IF(AND($C22=\"MEP\",AV$6=$F22,$G22=1),2,IF(AND(AV$6=$F22,$G22=1),0,\"\")))),\"\")","v":""},{"$f":"IFERROR(IF(LEN(Etapes[[#This Row],[Planned]])=0,\"\",IF(AND($C22=\"MER\",AW$6=$F22,$G22=1),1,IF(AND($C22=\"MEP\",AW$6=$F22,$G22=1),2,IF(AND(AW$6=$F22,$G22=1),0,\"\")))),\"\")","v":""},{"$f":"IFERROR(IF(LEN(Etapes[[#This Row],[Planned]])=0,\"\",IF(AND($C22=\"MER\",AX$6=$F22,$G22=1),1,IF(AND($C22=\"MEP\",AX$6=$F22,$G22=1),2,IF(AND(AX$6=$F22,$G22=1),0,\"\")))),\"\")","v":""},{"$f":"IFERROR(IF(LEN(Etapes[[#This Row],[Planned]])=0,\"\",IF(AND($C22=\"MER\",AY$6=$F22,$G22=1),1,IF(AND($C22=\"MEP\",AY$6=$F22,$G22=1),2,IF(AND(AY$6=$F22,$G22=1),0,\"\")))),\"\")","v":""},{"$f":"IFERROR(IF(LEN(Etapes[[#This Row],[Planned]])=0,\"\",IF(AND($C22=\"MER\",AZ$6=$F22,$G22=1),1,IF(AND($C22=\"MEP\",AZ$6=$F22,$G22=1),2,IF(AND(AZ$6=$F22,$G22=1),0,\"\")))),\"\")","v":""},{"$f":"IFERROR(IF(LEN(Etapes[[#This Row],[Planned]])=0,\"\",IF(AND($C22=\"MER\",BA$6=$F22,$G22=1),1,IF(AND($C22=\"MEP\",BA$6=$F22,$G22=1),2,IF(AND(BA$6=$F22,$G22=1),0,\"\")))),\"\")","v":""},{"$f":"IFERROR(IF(LEN(Etapes[[#This Row],[Planned]])=0,\"\",IF(AND($C22=\"MER\",BB$6=$F22,$G22=1),1,IF(AND($C22=\"MEP\",BB$6=$F22,$G22=1),2,IF(AND(BB$6=$F22,$G22=1),0,\"\")))),\"\")","v":""},{"$f":"IFERROR(IF(LEN(Etapes[[#This Row],[Planned]])=0,\"\",IF(AND($C22=\"MER\",BC$6=$F22,$G22=1),1,IF(AND($C22=\"MEP\",BC$6=$F22,$G22=1),2,IF(AND(BC$6=$F22,$G22=1),0,\"\")))),\"\")","v":""},{"$f":"IFERROR(IF(LEN(Etapes[[#This Row],[Planned]])=0,\"\",IF(AND($C22=\"MER\",BD$6=$F22,$G22=1),1,IF(AND($C22=\"MEP\",BD$6=$F22,$G22=1),2,IF(AND(BD$6=$F22,$G22=1),0,\"\")))),\"\")","v":""},{"$f":"IFERROR(IF(LEN(Etapes[[#This Row],[Planned]])=0,\"\",IF(AND($C22=\"MER\",BE$6=$F22,$G22=1),1,IF(AND($C22=\"MEP\",BE$6=$F22,$G22=1),2,IF(AND(BE$6=$F22,$G22=1),0,\"\")))),\"\")","v":""},{"$f":"IFERROR(IF(LEN(Etapes[[#This Row],[Planned]])=0,\"\",IF(AND($C22=\"MER\",BF$6=$F22,$G22=1),1,IF(AND($C22=\"MEP\",BF$6=$F22,$G22=1),2,IF(AND(BF$6=$F22,$G22=1),0,\"\")))),\"\")","v":""},{"$f":"IFERROR(IF(LEN(Etapes[[#This Row],[Planned]])=0,\"\",IF(AND($C22=\"MER\",BG$6=$F22,$G22=1),1,IF(AND($C22=\"MEP\",BG$6=$F22,$G22=1),2,IF(AND(BG$6=$F22,$G22=1),0,\"\")))),\"\")","v":""},{"$f":"IFERROR(IF(LEN(Etapes[[#This Row],[Planned]])=0,\"\",IF(AND($C22=\"MER\",BH$6=$F22,$G22=1),1,IF(AND($C22=\"MEP\",BH$6=$F22,$G22=1),2,IF(AND(BH$6=$F22,$G22=1),0,\"\")))),\"\")","v":""},{"$f":"IFERROR(IF(LEN(Etapes[[#This Row],[Planned]])=0,\"\",IF(AND($C22=\"MER\",BI$6=$F22,$G22=1),1,IF(AND($C22=\"MEP\",BI$6=$F22,$G22=1),2,IF(AND(BI$6=$F22,$G22=1),0,\"\")))),\"\")","v":""},{"$f":"IFERROR(IF(LEN(Etapes[[#This Row],[Planned]])=0,\"\",IF(AND($C22=\"MER\",BJ$6=$F22,$G22=1),1,IF(AND($C22=\"MEP\",BJ$6=$F22,$G22=1),2,IF(AND(BJ$6=$F22,$G22=1),0,\"\")))),\"\")","v":""},{"$f":"IFERROR(IF(LEN(Etapes[[#This Row],[Planned]])=0,\"\",IF(AND($C22=\"MER\",BK$6=$F22,$G22=1),1,IF(AND($C22=\"MEP\",BK$6=$F22,$G22=1),2,IF(AND(BK$6=$F22,$G22=1),0,\"\")))),\"\")","v":""},{"$f":"IFERROR(IF(LEN(Etapes[[#This Row],[Planned]])=0,\"\",IF(AND($C22=\"MER\",BL$6=$F22,$G22=1),1,IF(AND($C22=\"MEP\",BL$6=$F22,$G22=1),2,IF(AND(BL$6=$F22,$G22=1),0,\"\")))),\"\")","v":""},{"$f":"IFERROR(IF(LEN(Etapes[[#This Row],[Planned]])=0,\"\",IF(AND($C22=\"MER\",BM$6=$F22,$G22=1),1,IF(AND($C22=\"MEP\",BM$6=$F22,$G22=1),2,IF(AND(BM$6=$F22,$G22=1),0,\"\")))),\"\")","v":""},{"$f":"IFERROR(IF(LEN(Etapes[[#This Row],[Planned]])=0,\"\",IF(AND($C22=\"MER\",BN$6=$F22,$G22=1),1,IF(AND($C22=\"MEP\",BN$6=$F22,$G22=1),2,IF(AND(BN$6=$F22,$G22=1),0,\"\")))),\"\")","v":""},{"$f":"IFERROR(IF(LEN(Etapes[[#This Row],[Planned]])=0,\"\",IF(AND($C22=\"MER\",BO$6=$F22,$G22=1),1,IF(AND($C22=\"MEP\",BO$6=$F22,$G22=1),2,IF(AND(BO$6=$F22,$G22=1),0,\"\")))),\"\")","v":""},{"$f":"IFERROR(IF(LEN(Etapes[[#This Row],[Add]])=0,\"\",IF(AND($C22=\"MER\",BP$6=$F22,$G22=1),1,IF(AND($C22=\"MEP\",BP$6=$F22,$G22=1),2,IF(AND(BP$6=$F22,$G22=1),0,\"\")))),\"\")","v":""},{"$f":"IFERROR(IF(LEN(Etapes[[#This Row],[End]])=0,\"\",IF(AND($C22=\"MER\",BQ$6=$F22,$G22=1),1,IF(AND($C22=\"MEP\",BQ$6=$F22,$G22=1),2,IF(AND(BQ$6=$F22,$G22=1),0,\"\")))),\"\")","v":""},{"$f":"IFERROR(IF(LEN(Etapes[[#This Row],[Réalisé]])=0,\"\",IF(AND($C22=\"MER\",BR$6=$F22,$G22=1),1,IF(AND($C22=\"MEP\",BR$6=$F22,$G22=1),2,IF(AND(BR$6=$F22,$G22=1),0,\"\")))),\"\")","v":""},{"$f":"IFERROR(IF(LEN(Etapes[[#This Row],[Activité]])=0,\"\",IF(AND($C22=\"MER\",BS$6=$F22,$G22=1),1,IF(AND($C22=\"MEP\",BS$6=$F22,$G22=1),2,IF(AND(BS$6=$F22,$G22=1),0,\"\")))),\"\")","v":""},{"$f":"IFERROR(IF(LEN(Etapes[[#This Row],[Statut]])=0,\"\",IF(AND($C22=\"MER\",BT$6=$F22,$G22=1),1,IF(AND($C22=\"MEP\",BT$6=$F22,$G22=1),2,IF(AND(BT$6=$F22,$G22=1),0,\"\")))),\"\")","v":""},{"$f":"IFERROR(IF(LEN(Etapes[[#This Row],[Progress]])=0,\"\",IF(AND($C22=\"MER\",BU$6=$F22,$G22=1),1,IF(AND($C22=\"MEP\",BU$6=$F22,$G22=1),2,IF(AND(BU$6=$F22,$G22=1),0,\"\")))),\"\")","v":""},{"$f":"IFERROR(IF(LEN(Etapes[[#This Row],[Start]])=0,\"\",IF(AND($C22=\"MER\",BV$6=$F22,$G22=1),1,IF(AND($C22=\"MEP\",BV$6=$F22,$G22=1),2,IF(AND(BV$6=$F22,$G22=1),0,\"\")))),\"\")","v":""},{"$f":"IFERROR(IF(LEN(Etapes[[#This Row],[Planned]])=0,\"\",IF(AND($C22=\"MER\",BW$6=$F22,$G22=1),1,IF(AND($C22=\"MEP\",BW$6=$F22,$G22=1),2,IF(AND(BW$6=$F22,$G22=1),0,\"\")))),\"\")","v":""},{"$f":"IFERROR(IF(LEN(Etapes[[#This Row],[Add]])=0,\"\",IF(AND($C22=\"MER\",BX$6=$F22,$G22=1),1,IF(AND($C22=\"MEP\",BX$6=$F22,$G22=1),2,IF(AND(BX$6=$F22,$G22=1),0,\"\")))),\"\")","v":""},{"$f":"IFERROR(IF(LEN(Etapes[[#This Row],[End]])=0,\"\",IF(AND($C22=\"MER\",BY$6=$F22,$G22=1),1,IF(AND($C22=\"MEP\",BY$6=$F22,$G22=1),2,IF(AND(BY$6=$F22,$G22=1),0,\"\")))),\"\")","v":""},{"$f":"IFERROR(IF(LEN(Etapes[[#This Row],[Réalisé]])=0,\"\",IF(AND($C22=\"MER\",BZ$6=$F22,$G22=1),1,IF(AND($C22=\"MEP\",BZ$6=$F22,$G22=1),2,IF(AND(BZ$6=$F22,$G22=1),0,\"\")))),\"\")","v":""},{"$f":"IFERROR(IF(LEN(Etapes[[#This Row],[Activité]])=0,\"\",IF(AND($C22=\"MER\",CA$6=$F22,$G22=1),1,IF(AND($C22=\"MEP\",CA$6=$F22,$G22=1),2,IF(AND(CA$6=$F22,$G22=1),0,\"\")))),\"\")","v":""},{"$f":"IFERROR(IF(LEN(Etapes[[#This Row],[Statut]])=0,\"\",IF(AND($C22=\"MER\",CB$6=$F22,$G22=1),1,IF(AND($C22=\"MEP\",CB$6=$F22,$G22=1),2,IF(AND(CB$6=$F22,$G22=1),0,\"\")))),\"\")","v":""},{"$f":"IFERROR(IF(LEN(Etapes[[#This Row],[Progress]])=0,\"\",IF(AND($C22=\"MER\",CC$6=$F22,$G22=1),1,IF(AND($C22=\"MEP\",CC$6=$F22,$G22=1),2,IF(AND(CC$6=$F22,$G22=1),0,\"\")))),\"\")","v":""},{"$f":"IFERROR(IF(LEN(Etapes[[#This Row],[Start]])=0,\"\",IF(AND($C22=\"MER\",CD$6=$F22,$G22=1),1,IF(AND($C22=\"MEP\",CD$6=$F22,$G22=1),2,IF(AND(CD$6=$F22,$G22=1),0,\"\")))),\"\")","v":""},{"$f":"IFERROR(IF(LEN(Etapes[[#This Row],[Planned]])=0,\"\",IF(AND($C22=\"MER\",CE$6=$F22,$G22=1),1,IF(AND($C22=\"MEP\",CE$6=$F22,$G22=1),2,IF(AND(CE$6=$F22,$G22=1),0,\"\")))),\"\")","v":""},{"$f":"IFERROR(IF(LEN(Etapes[[#This Row],[Add]])=0,\"\",IF(AND($C22=\"MER\",CF$6=$F22,$G22=1),1,IF(AND($C22=\"MEP\",CF$6=$F22,$G22=1),2,IF(AND(CF$6=$F22,$G22=1),0,\"\")))),\"\")","v":""},{"$f":"IFERROR(IF(LEN(Etapes[[#This Row],[End]])=0,\"\",IF(AND($C22=\"MER\",CG$6=$F22,$G22=1),1,IF(AND($C22=\"MEP\",CG$6=$F22,$G22=1),2,IF(AND(CG$6=$F22,$G22=1),0,\"\")))),\"\")","v":""},{"$f":"IFERROR(IF(LEN(Etapes[[#This Row],[Réalisé]])=0,\"\",IF(AND($C22=\"MER\",CH$6=$F22,$G22=1),1,IF(AND($C22=\"MEP\",CH$6=$F22,$G22=1),2,IF(AND(CH$6=$F22,$G22=1),0,\"\")))),\"\")","v":""},{"$f":"IFERROR(IF(LEN(Etapes[[#This Row],[Activité]])=0,\"\",IF(AND($C22=\"MER\",CI$6=$F22,$G22=1),1,IF(AND($C22=\"MEP\",CI$6=$F22,$G22=1),2,IF(AND(CI$6=$F22,$G22=1),0,\"\")))),\"\")","v":""},{"$f":"IFERROR(IF(LEN(Etapes[[#This Row],[Statut]])=0,\"\",IF(AND($C22=\"MER\",CJ$6=$F22,$G22=1),1,IF(AND($C22=\"MEP\",CJ$6=$F22,$G22=1),2,IF(AND(CJ$6=$F22,$G22=1),0,\"\")))),\"\")","v":""},{"$f":"IFERROR(IF(LEN(Etapes[[#This Row],[Progress]])=0,\"\",IF(AND($C22=\"MER\",CK$6=$F22,$G22=1),1,IF(AND($C22=\"MEP\",CK$6=$F22,$G22=1),2,IF(AND(CK$6=$F22,$G22=1),0,\"\")))),\"\")","v":""},{"$f":"IFERROR(IF(LEN(Etapes[[#This Row],[Start]])=0,\"\",IF(AND($C22=\"MER\",CL$6=$F22,$G22=1),1,IF(AND($C22=\"MEP\",CL$6=$F22,$G22=1),2,IF(AND(CL$6=$F22,$G22=1),0,\"\")))),\"\")","v":""},{"$f":"IFERROR(IF(LEN(Etapes[[#This Row],[Planned]])=0,\"\",IF(AND($C22=\"MER\",CM$6=$F22,$G22=1),1,IF(AND($C22=\"MEP\",CM$6=$F22,$G22=1),2,IF(AND(CM$6=$F22,$G22=1),0,\"\")))),\"\")","v":""},{"$f":"IFERROR(IF(LEN(Etapes[[#This Row],[Add]])=0,\"\",IF(AND($C22=\"MER\",CN$6=$F22,$G22=1),1,IF(AND($C22=\"MEP\",CN$6=$F22,$G22=1),2,IF(AND(CN$6=$F22,$G22=1),0,\"\")))),\"\")","v":""},{"$f":"IFERROR(IF(LEN(Etapes[[#This Row],[End]])=0,\"\",IF(AND($C22=\"MER\",CO$6=$F22,$G22=1),1,IF(AND($C22=\"MEP\",CO$6=$F22,$G22=1),2,IF(AND(CO$6=$F22,$G22=1),0,\"\")))),\"\")","v":""},{"$f":"IFERROR(IF(LEN(Etapes[[#This Row],[Réalisé]])=0,\"\",IF(AND($C22=\"MER\",CP$6=$F22,$G22=1),1,IF(AND($C22=\"MEP\",CP$6=$F22,$G22=1),2,IF(AND(CP$6=$F22,$G22=1),0,\"\")))),\"\")","v":""},{"$f":"IFERROR(IF(LEN(Etapes[[#This Row],[Activité]])=0,\"\",IF(AND($C22=\"MER\",CQ$6=$F22,$G22=1),1,IF(AND($C22=\"MEP\",CQ$6=$F22,$G22=1),2,IF(AND(CQ$6=$F22,$G22=1),0,\"\")))),\"\")","v":""},{"$f":"IFERROR(IF(LEN(Etapes[[#This Row],[Statut]])=0,\"\",IF(AND($C22=\"MER\",CR$6=$F22,$G22=1),1,IF(AND($C22=\"MEP\",CR$6=$F22,$G22=1),2,IF(AND(CR$6=$F22,$G22=1),0,\"\")))),\"\")","v":""},{"$f":"IFERROR(IF(LEN(Etapes[[#This Row],[Progress]])=0,\"\",IF(AND($C22=\"MER\",CS$6=$F22,$G22=1),1,IF(AND($C22=\"MEP\",CS$6=$F22,$G22=1),2,IF(AND(CS$6=$F22,$G22=1),0,\"\")))),\"\")","v":""},{"$f":"IFERROR(IF(LEN(Etapes[[#This Row],[Start]])=0,\"\",IF(AND($C22=\"MER\",CT$6=$F22,$G22=1),1,IF(AND($C22=\"MEP\",CT$6=$F22,$G22=1),2,IF(AND(CT$6=$F22,$G22=1),0,\"\")))),\"\")","v":""},{"$f":"IFERROR(IF(LEN(Etapes[[#This Row],[Planned]])=0,\"\",IF(AND($C22=\"MER\",CU$6=$F22,$G22=1),1,IF(AND($C22=\"MEP\",CU$6=$F22,$G22=1),2,IF(AND(CU$6=$F22,$G22=1),0,\"\")))),\"\")","v":""},{"$f":"IFERROR(IF(LEN(Etapes[[#This Row],[Add]])=0,\"\",IF(AND($C22=\"MER\",CV$6=$F22,$G22=1),1,IF(AND($C22=\"MEP\",CV$6=$F22,$G22=1),2,IF(AND(CV$6=$F22,$G22=1),0,\"\")))),\"\")","v":""},{"$f":"IFERROR(IF(LEN(Etapes[[#This Row],[End]])=0,\"\",IF(AND($C22=\"MER\",CW$6=$F22,$G22=1),1,IF(AND($C22=\"MEP\",CW$6=$F22,$G22=1),2,IF(AND(CW$6=$F22,$G22=1),0,\"\")))),\"\")","v":""}]
["3.3","Préparation RE7 ",null,{"$f":"Settings!D46","v":"NAN"},null,"2022-08-03",null,null,{"$f":"IF(Etapes[[#This Row],[Start]]<>\"\",WORKDAY(Etapes[[#This Row],[Start]],IF(WEEKDAY(Etapes[[#This Row],[Start]],1)>=6,Etapes[[#This Row],[Planned]]+Etapes[[#This Row],[Add]],Etapes[[#This Row],[Planned]]+Etapes[[#This Row],[Add]]-1),Férié),\"\")","v":"2022-08-02"},{"$f":"IF(Etapes[[#This Row],[Start]]<>\"\",WORKDAY(Etapes[[#This Row],[Start]],IF(WEEKDAY(Etapes[[#This Row],[Start]],1)>=6,Etapes[[#This Row],[Progress]]*Etapes[[#This Row],[Planned]]+Etapes[[#This Row],[Add]],(Etapes[[#This Row],[Progress]]*Etapes[[#This Row],[Planned]]+Etapes[[#This Row],[Add]])-1),Férié),\"\")","v":"2022-08-02"},null,{"$f":"IFERROR(IF(LEN(Etapes[[#This Row],[Planned]])=0,\"\",IF(AND($C23=\"MER\",L$6=$F23,$G23=1),1,IF(AND($C23=\"MEP\",L$6=$F23,$G23=1),2,IF(AND(L$6=$F23,$G23=1),0,\"\")))),\"\")","v":""},{"$f":"IFERROR(IF(LEN(Etapes[[#This Row],[Planned]])=0,\"\",IF(AND($C23=\"MER\",M$6=$F23,$G23=1),1,IF(AND($C23=\"MEP\",M$6=$F23,$G23=1),2,IF(AND(M$6=$F23,$G23=1),0,\"\")))),\"\")","v":""},{"$f":"IFERROR(IF(LEN(Etapes[[#This Row],[Planned]])=0,\"\",IF(AND($C23=\"MER\",N$6=$F23,$G23=1),1,IF(AND($C23=\"MEP\",N$6=$F23,$G23=1),2,IF(AND(N$6=$F23,$G23=1),0,\"\")))),\"\")","v":""},{"$f":"IFERROR(IF(LEN(Etapes[[#This Row],[Planned]])=0,\"\",IF(AND($C23=\"MER\",O$6=$F23,$G23=1),1,IF(AND($C23=\"MEP\",O$6=$F23,$G23=1),2,IF(AND(O$6=$F23,$G23=1),0,\"\")))),\"\")","v":""},{"$f":"IFERROR(IF(LEN(Etapes[[#This Row],[Planned]])=0,\"\",IF(AND($C23=\"MER\",P$6=$F23,$G23=1),1,IF(AND($C23=\"MEP\",P$6=$F23,$G23=1),2,IF(AND(P$6=$F23,$G23=1),0,\"\")))),\"\")","v":""},{"$f":"IFERROR(IF(LEN(Etapes[[#This Row],[Planned]])=0,\"\",IF(AND($C23=\"MER\",Q$6=$F23,$G23=1),1,IF(AND($C23=\"MEP\",Q$6=$F23,$G23=1),2,IF(AND(Q$6=$F23,$G23=1),0,\"\")))),\"\")","v":""},{"$f":"IFERROR(IF(LEN(Etapes[[#This Row],[Planned]])=0,\"\",IF(AND($C23=\"MER\",R$6=$F23,$G23=1),1,IF(AND($C23=\"MEP\",R$6=$F23,$G23=1),2,IF(AND(R$6=$F23,$G23=1),0,\"\")))),\"\")","v":""},{"$f":"IFERROR(IF(LEN(Etapes[[#This Row],[Planned]])=0,\"\",IF(AND($C23=\"MER\",S$6=$F23,$G23=1),1,IF(AND($C23=\"MEP\",S$6=$F23,$G23=1),2,IF(AND(S$6=$F23,$G23=1),0,\"\")))),\"\")","v":""},{"$f":"IFERROR(IF(LEN(Etapes[[#This Row],[Planned]])=0,\"\",IF(AND($C23=\"MER\",T$6=$F23,$G23=1),1,IF(AND($C23=\"MEP\",T$6=$F23,$G23=1),2,IF(AND(T$6=$F23,$G23=1),0,\"\")))),\"\")","v":""},{"$f":"IFERROR(IF(LEN(Etapes[[#This Row],[Planned]])=0,\"\",IF(AND($C23=\"MER\",U$6=$F23,$G23=1),1,IF(AND($C23=\"MEP\",U$6=$F23,$G23=1),2,IF(AND(U$6=$F23,$G23=1),0,\"\")))),\"\")","v":""},{"$f":"IFERROR(IF(LEN(Etapes[[#This Row],[Planned]])=0,\"\",IF(AND($C23=\"MER\",V$6=$F23,$G23=1),1,IF(AND($C23=\"MEP\",V$6=$F23,$G23=1),2,IF(AND(V$6=$F23,$G23=1),0,\"\")))),\"\")","v":""},{"$f":"IFERROR(IF(LEN(Etapes[[#This Row],[Planned]])=0,\"\",IF(AND($C23=\"MER\",W$6=$F23,$G23=1),1,IF(AND($C23=\"MEP\",W$6=$F23,$G23=1),2,IF(AND(W$6=$F23,$G23=1),0,\"\")))),\"\")","v":""},{"$f":"IFERROR(IF(LEN(Etapes[[#This Row],[Planned]])=0,\"\",IF(AND($C23=\"MER\",X$6=$F23,$G23=1),1,IF(AND($C23=\"MEP\",X$6=$F23,$G23=1),2,IF(AND(X$6=$F23,$G23=1),0,\"\")))),\"\")","v":""},{"$f":"IFERROR(IF(LEN(Etapes[[#This Row],[Planned]])=0,\"\",IF(AND($C23=\"MER\",Y$6=$F23,$G23=1),1,IF(AND($C23=\"MEP\",Y$6=$F23,$G23=1),2,IF(AND(Y$6=$F23,$G23=1),0,\"\")))),\"\")","v":""},{"$f":"IFERROR(IF(LEN(Etapes[[#This Row],[Planned]])=0,\"\",IF(AND($C23=\"MER\",Z$6=$F23,$G23=1),1,IF(AND($C23=\"MEP\",Z$6=$F23,$G23=1),2,IF(AND(Z$6=$F23,$G23=1),0,\"\")))),\"\")","v":""},{"$f":"IFERROR(IF(LEN(Etapes[[#This Row],[Planned]])=0,\"\",IF(AND($C23=\"MER\",AA$6=$F23,$G23=1),1,IF(AND($C23=\"MEP\",AA$6=$F23,$G23=1),2,IF(AND(AA$6=$F23,$G23=1),0,\"\")))),\"\")","v":""},{"$f":"IFERROR(IF(LEN(Etapes[[#This Row],[Planned]])=0,\"\",IF(AND($C23=\"MER\",AB$6=$F23,$G23=1),1,IF(AND($C23=\"MEP\",AB$6=$F23,$G23=1),2,IF(AND(AB$6=$F23,$G23=1),0,\"\")))),\"\")","v":""},{"$f":"IFERROR(IF(LEN(Etapes[[#This Row],[Planned]])=0,\"\",IF(AND($C23=\"MER\",AC$6=$F23,$G23=1),1,IF(AND($C23=\"MEP\",AC$6=$F23,$G23=1),2,IF(AND(AC$6=$F23,$G23=1),0,\"\")))),\"\")","v":""},{"$f":"IFERROR(IF(LEN(Etapes[[#This Row],[Planned]])=0,\"\",IF(AND($C23=\"MER\",AD$6=$F23,$G23=1),1,IF(AND($C23=\"MEP\",AD$6=$F23,$G23=1),2,IF(AND(AD$6=$F23,$G23=1),0,\"\")))),\"\")","v":""},{"$f":"IFERROR(IF(LEN(Etapes[[#This Row],[Planned]])=0,\"\",IF(AND($C23=\"MER\",AE$6=$F23,$G23=1),1,IF(AND($C23=\"MEP\",AE$6=$F23,$G23=1),2,IF(AND(AE$6=$F23,$G23=1),0,\"\")))),\"\")","v":""},{"$f":"IFERROR(IF(LEN(Etapes[[#This Row],[Planned]])=0,\"\",IF(AND($C23=\"MER\",AF$6=$F23,$G23=1),1,IF(AND($C23=\"MEP\",AF$6=$F23,$G23=1),2,IF(AND(AF$6=$F23,$G23=1),0,\"\")))),\"\")","v":""},{"$f":"IFERROR(IF(LEN(Etapes[[#This Row],[Planned]])=0,\"\",IF(AND($C23=\"MER\",AG$6=$F23,$G23=1),1,IF(AND($C23=\"MEP\",AG$6=$F23,$G23=1),2,IF(AND(AG$6=$F23,$G23=1),0,\"\")))),\"\")","v":""},{"$f":"IFERROR(IF(LEN(Etapes[[#This Row],[Planned]])=0,\"\",IF(AND($C23=\"MER\",AH$6=$F23,$G23=1),1,IF(AND($C23=\"MEP\",AH$6=$F23,$G23=1),2,IF(AND(AH$6=$F23,$G23=1),0,\"\")))),\"\")","v":""},{"$f":"IFERROR(IF(LEN(Etapes[[#This Row],[Planned]])=0,\"\",IF(AND($C23=\"MER\",AI$6=$F23,$G23=1),1,IF(AND($C23=\"MEP\",AI$6=$F23,$G23=1),2,IF(AND(AI$6=$F23,$G23=1),0,\"\")))),\"\")","v":""},{"$f":"IFERROR(IF(LEN(Etapes[[#This Row],[Planned]])=0,\"\",IF(AND($C23=\"MER\",AJ$6=$F23,$G23=1),1,IF(AND($C23=\"MEP\",AJ$6=$F23,$G23=1),2,IF(AND(AJ$6=$F23,$G23=1),0,\"\")))),\"\")","v":""},{"$f":"IFERROR(IF(LEN(Etapes[[#This Row],[Planned]])=0,\"\",IF(AND($C23=\"MER\",AK$6=$F23,$G23=1),1,IF(AND($C23=\"MEP\",AK$6=$F23,$G23=1),2,IF(AND(AK$6=$F23,$G23=1),0,\"\")))),\"\")","v":""},{"$f":"IFERROR(IF(LEN(Etapes[[#This Row],[Planned]])=0,\"\",IF(AND($C23=\"MER\",AL$6=$F23,$G23=1),1,IF(AND($C23=\"MEP\",AL$6=$F23,$G23=1),2,IF(AND(AL$6=$F23,$G23=1),0,\"\")))),\"\")","v":""},{"$f":"IFERROR(IF(LEN(Etapes[[#This Row],[Planned]])=0,\"\",IF(AND($C23=\"MER\",AM$6=$F23,$G23=1),1,IF(AND($C23=\"MEP\",AM$6=$F23,$G23=1),2,IF(AND(AM$6=$F23,$G23=1),0,\"\")))),\"\")","v":""},{"$f":"IFERROR(IF(LEN(Etapes[[#This Row],[Planned]])=0,\"\",IF(AND($C23=\"MER\",AN$6=$F23,$G23=1),1,IF(AND($C23=\"MEP\",AN$6=$F23,$G23=1),2,IF(AND(AN$6=$F23,$G23=1),0,\"\")))),\"\")","v":""},{"$f":"IFERROR(IF(LEN(Etapes[[#This Row],[Planned]])=0,\"\",IF(AND($C23=\"MER\",AO$6=$F23,$G23=1),1,IF(AND($C23=\"MEP\",AO$6=$F23,$G23=1),2,IF(AND(AO$6=$F23,$G23=1),0,\"\")))),\"\")","v":""},{"$f":"IFERROR(IF(LEN(Etapes[[#This Row],[Planned]])=0,\"\",IF(AND($C23=\"MER\",AP$6=$F23,$G23=1),1,IF(AND($C23=\"MEP\",AP$6=$F23,$G23=1),2,IF(AND(AP$6=$F23,$G23=1),0,\"\")))),\"\")","v":""},{"$f":"IFERROR(IF(LEN(Etapes[[#This Row],[Planned]])=0,\"\",IF(AND($C23=\"MER\",AQ$6=$F23,$G23=1),1,IF(AND($C23=\"MEP\",AQ$6=$F23,$G23=1),2,IF(AND(AQ$6=$F23,$G23=1),0,\"\")))),\"\")","v":""},{"$f":"IFERROR(IF(LEN(Etapes[[#This Row],[Planned]])=0,\"\",IF(AND($C23=\"MER\",AR$6=$F23,$G23=1),1,IF(AND($C23=\"MEP\",AR$6=$F23,$G23=1),2,IF(AND(AR$6=$F23,$G23=1),0,\"\")))),\"\")","v":""},{"$f":"IFERROR(IF(LEN(Etapes[[#This Row],[Planned]])=0,\"\",IF(AND($C23=\"MER\",AS$6=$F23,$G23=1),1,IF(AND($C23=\"MEP\",AS$6=$F23,$G23=1),2,IF(AND(AS$6=$F23,$G23=1),0,\"\")))),\"\")","v":""},{"$f":"IFERROR(IF(LEN(Etapes[[#This Row],[Planned]])=0,\"\",IF(AND($C23=\"MER\",AT$6=$F23,$G23=1),1,IF(AND($C23=\"MEP\",AT$6=$F23,$G23=1),2,IF(AND(AT$6=$F23,$G23=1),0,\"\")))),\"\")","v":""},{"$f":"IFERROR(IF(LEN(Etapes[[#This Row],[Planned]])=0,\"\",IF(AND($C23=\"MER\",AU$6=$F23,$G23=1),1,IF(AND($C23=\"MEP\",AU$6=$F23,$G23=1),2,IF(AND(AU$6=$F23,$G23=1),0,\"\")))),\"\")","v":""},{"$f":"IFERROR(IF(LEN(Etapes[[#This Row],[Planned]])=0,\"\",IF(AND($C23=\"MER\",AV$6=$F23,$G23=1),1,IF(AND($C23=\"MEP\",AV$6=$F23,$G23=1),2,IF(AND(AV$6=$F23,$G23=1),0,\"\")))),\"\")","v":""},{"$f":"IFERROR(IF(LEN(Etapes[[#This Row],[Planned]])=0,\"\",IF(AND($C23=\"MER\",AW$6=$F23,$G23=1),1,IF(AND($C23=\"MEP\",AW$6=$F23,$G23=1),2,IF(AND(AW$6=$F23,$G23=1),0,\"\")))),\"\")","v":""},{"$f":"IFERROR(IF(LEN(Etapes[[#This Row],[Planned]])=0,\"\",IF(AND($C23=\"MER\",AX$6=$F23,$G23=1),1,IF(AND($C23=\"MEP\",AX$6=$F23,$G23=1),2,IF(AND(AX$6=$F23,$G23=1),0,\"\")))),\"\")","v":""},{"$f":"IFERROR(IF(LEN(Etapes[[#This Row],[Planned]])=0,\"\",IF(AND($C23=\"MER\",AY$6=$F23,$G23=1),1,IF(AND($C23=\"MEP\",AY$6=$F23,$G23=1),2,IF(AND(AY$6=$F23,$G23=1),0,\"\")))),\"\")","v":""},{"$f":"IFERROR(IF(LEN(Etapes[[#This Row],[Planned]])=0,\"\",IF(AND($C23=\"MER\",AZ$6=$F23,$G23=1),1,IF(AND($C23=\"MEP\",AZ$6=$F23,$G23=1),2,IF(AND(AZ$6=$F23,$G23=1),0,\"\")))),\"\")","v":""},{"$f":"IFERROR(IF(LEN(Etapes[[#This Row],[Planned]])=0,\"\",IF(AND($C23=\"MER\",BA$6=$F23,$G23=1),1,IF(AND($C23=\"MEP\",BA$6=$F23,$G23=1),2,IF(AND(BA$6=$F23,$G23=1),0,\"\")))),\"\")","v":""},{"$f":"IFERROR(IF(LEN(Etapes[[#This Row],[Planned]])=0,\"\",IF(AND($C23=\"MER\",BB$6=$F23,$G23=1),1,IF(AND($C23=\"MEP\",BB$6=$F23,$G23=1),2,IF(AND(BB$6=$F23,$G23=1),0,\"\")))),\"\")","v":""},{"$f":"IFERROR(IF(LEN(Etapes[[#This Row],[Planned]])=0,\"\",IF(AND($C23=\"MER\",BC$6=$F23,$G23=1),1,IF(AND($C23=\"MEP\",BC$6=$F23,$G23=1),2,IF(AND(BC$6=$F23,$G23=1),0,\"\")))),\"\")","v":""},{"$f":"IFERROR(IF(LEN(Etapes[[#This Row],[Planned]])=0,\"\",IF(AND($C23=\"MER\",BD$6=$F23,$G23=1),1,IF(AND($C23=\"MEP\",BD$6=$F23,$G23=1),2,IF(AND(BD$6=$F23,$G23=1),0,\"\")))),\"\")","v":""},{"$f":"IFERROR(IF(LEN(Etapes[[#This Row],[Planned]])=0,\"\",IF(AND($C23=\"MER\",BE$6=$F23,$G23=1),1,IF(AND($C23=\"MEP\",BE$6=$F23,$G23=1),2,IF(AND(BE$6=$F23,$G23=1),0,\"\")))),\"\")","v":""},{"$f":"IFERROR(IF(LEN(Etapes[[#This Row],[Planned]])=0,\"\",IF(AND($C23=\"MER\",BF$6=$F23,$G23=1),1,IF(AND($C23=\"MEP\",BF$6=$F23,$G23=1),2,IF(AND(BF$6=$F23,$G23=1),0,\"\")))),\"\")","v":""},{"$f":"IFERROR(IF(LEN(Etapes[[#This Row],[Planned]])=0,\"\",IF(AND($C23=\"MER\",BG$6=$F23,$G23=1),1,IF(AND($C23=\"MEP\",BG$6=$F23,$G23=1),2,IF(AND(BG$6=$F23,$G23=1),0,\"\")))),\"\")","v":""},{"$f":"IFERROR(IF(LEN(Etapes[[#This Row],[Planned]])=0,\"\",IF(AND($C23=\"MER\",BH$6=$F23,$G23=1),1,IF(AND($C23=\"MEP\",BH$6=$F23,$G23=1),2,IF(AND(BH$6=$F23,$G23=1),0,\"\")))),\"\")","v":""},{"$f":"IFERROR(IF(LEN(Etapes[[#This Row],[Planned]])=0,\"\",IF(AND($C23=\"MER\",BI$6=$F23,$G23=1),1,IF(AND($C23=\"MEP\",BI$6=$F23,$G23=1),2,IF(AND(BI$6=$F23,$G23=1),0,\"\")))),\"\")","v":""},{"$f":"IFERROR(IF(LEN(Etapes[[#This Row],[Planned]])=0,\"\",IF(AND($C23=\"MER\",BJ$6=$F23,$G23=1),1,IF(AND($C23=\"MEP\",BJ$6=$F23,$G23=1),2,IF(AND(BJ$6=$F23,$G23=1),0,\"\")))),\"\")","v":""},{"$f":"IFERROR(IF(LEN(Etapes[[#This Row],[Planned]])=0,\"\",IF(AND($C23=\"MER\",BK$6=$F23,$G23=1),1,IF(AND($C23=\"MEP\",BK$6=$F23,$G23=1),2,IF(AND(BK$6=$F23,$G23=1),0,\"\")))),\"\")","v":""},{"$f":"IFERROR(IF(LEN(Etapes[[#This Row],[Planned]])=0,\"\",IF(AND($C23=\"MER\",BL$6=$F23,$G23=1),1,IF(AND($C23=\"MEP\",BL$6=$F23,$G23=1),2,IF(AND(BL$6=$F23,$G23=1),0,\"\")))),\"\")","v":""},{"$f":"IFERROR(IF(LEN(Etapes[[#This Row],[Planned]])=0,\"\",IF(AND($C23=\"MER\",BM$6=$F23,$G23=1),1,IF(AND($C23=\"MEP\",BM$6=$F23,$G23=1),2,IF(AND(BM$6=$F23,$G23=1),0,\"\")))),\"\")","v":""},{"$f":"IFERROR(IF(LEN(Etapes[[#This Row],[Planned]])=0,\"\",IF(AND($C23=\"MER\",BN$6=$F23,$G23=1),1,IF(AND($C23=\"MEP\",BN$6=$F23,$G23=1),2,IF(AND(BN$6=$F23,$G23=1),0,\"\")))),\"\")","v":""},{"$f":"IFERROR(IF(LEN(Etapes[[#This Row],[Planned]])=0,\"\",IF(AND($C23=\"MER\",BO$6=$F23,$G23=1),1,IF(AND($C23=\"MEP\",BO$6=$F23,$G23=1),2,IF(AND(BO$6=$F23,$G23=1),0,\"\")))),\"\")","v":""},{"$f":"IFERROR(IF(LEN(Etapes[[#This Row],[Add]])=0,\"\",IF(AND($C23=\"MER\",BP$6=$F23,$G23=1),1,IF(AND($C23=\"MEP\",BP$6=$F23,$G23=1),2,IF(AND(BP$6=$F23,$G23=1),0,\"\")))),\"\")","v":""},{"$f":"IFERROR(IF(LEN(Etapes[[#This Row],[End]])=0,\"\",IF(AND($C23=\"MER\",BQ$6=$F23,$G23=1),1,IF(AND($C23=\"MEP\",BQ$6=$F23,$G23=1),2,IF(AND(BQ$6=$F23,$G23=1),0,\"\")))),\"\")","v":""},{"$f":"IFERROR(IF(LEN(Etapes[[#This Row],[Réalisé]])=0,\"\",IF(AND($C23=\"MER\",BR$6=$F23,$G23=1),1,IF(AND($C23=\"MEP\",BR$6=$F23,$G23=1),2,IF(AND(BR$6=$F23,$G23=1),0,\"\")))),\"\")","v":""},{"$f":"IFERROR(IF(LEN(Etapes[[#This Row],[Activité]])=0,\"\",IF(AND($C23=\"MER\",BS$6=$F23,$G23=1),1,IF(AND($C23=\"MEP\",BS$6=$F23,$G23=1),2,IF(AND(BS$6=$F23,$G23=1),0,\"\")))),\"\")","v":""},{"$f":"IFERROR(IF(LEN(Etapes[[#This Row],[Statut]])=0,\"\",IF(AND($C23=\"MER\",BT$6=$F23,$G23=1),1,IF(AND($C23=\"MEP\",BT$6=$F23,$G23=1),2,IF(AND(BT$6=$F23,$G23=1),0,\"\")))),\"\")","v":""},{"$f":"IFERROR(IF(LEN(Etapes[[#This Row],[Progress]])=0,\"\",IF(AND($C23=\"MER\",BU$6=$F23,$G23=1),1,IF(AND($C23=\"MEP\",BU$6=$F23,$G23=1),2,IF(AND(BU$6=$F23,$G23=1),0,\"\")))),\"\")","v":""},{"$f":"IFERROR(IF(LEN(Etapes[[#This Row],[Start]])=0,\"\",IF(AND($C23=\"MER\",BV$6=$F23,$G23=1),1,IF(AND($C23=\"MEP\",BV$6=$F23,$G23=1),2,IF(AND(BV$6=$F23,$G23=1),0,\"\")))),\"\")","v":""},{"$f":"IFERROR(IF(LEN(Etapes[[#This Row],[Planned]])=0,\"\",IF(AND($C23=\"MER\",BW$6=$F23,$G23=1),1,IF(AND($C23=\"MEP\",BW$6=$F23,$G23=1),2,IF(AND(BW$6=$F23,$G23=1),0,\"\")))),\"\")","v":""},{"$f":"IFERROR(IF(LEN(Etapes[[#This Row],[Add]])=0,\"\",IF(AND($C23=\"MER\",BX$6=$F23,$G23=1),1,IF(AND($C23=\"MEP\",BX$6=$F23,$G23=1),2,IF(AND(BX$6=$F23,$G23=1),0,\"\")))),\"\")","v":""},{"$f":"IFERROR(IF(LEN(Etapes[[#This Row],[End]])=0,\"\",IF(AND($C23=\"MER\",BY$6=$F23,$G23=1),1,IF(AND($C23=\"MEP\",BY$6=$F23,$G23=1),2,IF(AND(BY$6=$F23,$G23=1),0,\"\")))),\"\")","v":""},{"$f":"IFERROR(IF(LEN(Etapes[[#This Row],[Réalisé]])=0,\"\",IF(AND($C23=\"MER\",BZ$6=$F23,$G23=1),1,IF(AND($C23=\"MEP\",BZ$6=$F23,$G23=1),2,IF(AND(BZ$6=$F23,$G23=1),0,\"\")))),\"\")","v":""},{"$f":"IFERROR(IF(LEN(Etapes[[#This Row],[Activité]])=0,\"\",IF(AND($C23=\"MER\",CA$6=$F23,$G23=1),1,IF(AND($C23=\"MEP\",CA$6=$F23,$G23=1),2,IF(AND(CA$6=$F23,$G23=1),0,\"\")))),\"\")","v":""},{"$f":"IFERROR(IF(LEN(Etapes[[#This Row],[Statut]])=0,\"\",IF(AND($C23=\"MER\",CB$6=$F23,$G23=1),1,IF(AND($C23=\"MEP\",CB$6=$F23,$G23=1),2,IF(AND(CB$6=$F23,$G23=1),0,\"\")))),\"\")","v":""},{"$f":"IFERROR(IF(LEN(Etapes[[#This Row],[Progress]])=0,\"\",IF(AND($C23=\"MER\",CC$6=$F23,$G23=1),1,IF(AND($C23=\"MEP\",CC$6=$F23,$G23=1),2,IF(AND(CC$6=$F23,$G23=1),0,\"\")))),\"\")","v":""},{"$f":"IFERROR(IF(LEN(Etapes[[#This Row],[Start]])=0,\"\",IF(AND($C23=\"MER\",CD$6=$F23,$G23=1),1,IF(AND($C23=\"MEP\",CD$6=$F23,$G23=1),2,IF(AND(CD$6=$F23,$G23=1),0,\"\")))),\"\")","v":""},{"$f":"IFERROR(IF(LEN(Etapes[[#This Row],[Planned]])=0,\"\",IF(AND($C23=\"MER\",CE$6=$F23,$G23=1),1,IF(AND($C23=\"MEP\",CE$6=$F23,$G23=1),2,IF(AND(CE$6=$F23,$G23=1),0,\"\")))),\"\")","v":""},{"$f":"IFERROR(IF(LEN(Etapes[[#This Row],[Add]])=0,\"\",IF(AND($C23=\"MER\",CF$6=$F23,$G23=1),1,IF(AND($C23=\"MEP\",CF$6=$F23,$G23=1),2,IF(AND(CF$6=$F23,$G23=1),0,\"\")))),\"\")","v":""},{"$f":"IFERROR(IF(LEN(Etapes[[#This Row],[End]])=0,\"\",IF(AND($C23=\"MER\",CG$6=$F23,$G23=1),1,IF(AND($C23=\"MEP\",CG$6=$F23,$G23=1),2,IF(AND(CG$6=$F23,$G23=1),0,\"\")))),\"\")","v":""},{"$f":"IFERROR(IF(LEN(Etapes[[#This Row],[Réalisé]])=0,\"\",IF(AND($C23=\"MER\",CH$6=$F23,$G23=1),1,IF(AND($C23=\"MEP\",CH$6=$F23,$G23=1),2,IF(AND(CH$6=$F23,$G23=1),0,\"\")))),\"\")","v":""},{"$f":"IFERROR(IF(LEN(Etapes[[#This Row],[Activité]])=0,\"\",IF(AND($C23=\"MER\",CI$6=$F23,$G23=1),1,IF(AND($C23=\"MEP\",CI$6=$F23,$G23=1),2,IF(AND(CI$6=$F23,$G23=1),0,\"\")))),\"\")","v":""},{"$f":"IFERROR(IF(LEN(Etapes[[#This Row],[Statut]])=0,\"\",IF(AND($C23=\"MER\",CJ$6=$F23,$G23=1),1,IF(AND($C23=\"MEP\",CJ$6=$F23,$G23=1),2,IF(AND(CJ$6=$F23,$G23=1),0,\"\")))),\"\")","v":""},{"$f":"IFERROR(IF(LEN(Etapes[[#This Row],[Progress]])=0,\"\",IF(AND($C23=\"MER\",CK$6=$F23,$G23=1),1,IF(AND($C23=\"MEP\",CK$6=$F23,$G23=1),2,IF(AND(CK$6=$F23,$G23=1),0,\"\")))),\"\")","v":""},{"$f":"IFERROR(IF(LEN(Etapes[[#This Row],[Start]])=0,\"\",IF(AND($C23=\"MER\",CL$6=$F23,$G23=1),1,IF(AND($C23=\"MEP\",CL$6=$F23,$G23=1),2,IF(AND(CL$6=$F23,$G23=1),0,\"\")))),\"\")","v":""},{"$f":"IFERROR(IF(LEN(Etapes[[#This Row],[Planned]])=0,\"\",IF(AND($C23=\"MER\",CM$6=$F23,$G23=1),1,IF(AND($C23=\"MEP\",CM$6=$F23,$G23=1),2,IF(AND(CM$6=$F23,$G23=1),0,\"\")))),\"\")","v":""},{"$f":"IFERROR(IF(LEN(Etapes[[#This Row],[Add]])=0,\"\",IF(AND($C23=\"MER\",CN$6=$F23,$G23=1),1,IF(AND($C23=\"MEP\",CN$6=$F23,$G23=1),2,IF(AND(CN$6=$F23,$G23=1),0,\"\")))),\"\")","v":""},{"$f":"IFERROR(IF(LEN(Etapes[[#This Row],[End]])=0,\"\",IF(AND($C23=\"MER\",CO$6=$F23,$G23=1),1,IF(AND($C23=\"MEP\",CO$6=$F23,$G23=1),2,IF(AND(CO$6=$F23,$G23=1),0,\"\")))),\"\")","v":""},{"$f":"IFERROR(IF(LEN(Etapes[[#This Row],[Réalisé]])=0,\"\",IF(AND($C23=\"MER\",CP$6=$F23,$G23=1),1,IF(AND($C23=\"MEP\",CP$6=$F23,$G23=1),2,IF(AND(CP$6=$F23,$G23=1),0,\"\")))),\"\")","v":""},{"$f":"IFERROR(IF(LEN(Etapes[[#This Row],[Activité]])=0,\"\",IF(AND($C23=\"MER\",CQ$6=$F23,$G23=1),1,IF(AND($C23=\"MEP\",CQ$6=$F23,$G23=1),2,IF(AND(CQ$6=$F23,$G23=1),0,\"\")))),\"\")","v":""},{"$f":"IFERROR(IF(LEN(Etapes[[#This Row],[Statut]])=0,\"\",IF(AND($C23=\"MER\",CR$6=$F23,$G23=1),1,IF(AND($C23=\"MEP\",CR$6=$F23,$G23=1),2,IF(AND(CR$6=$F23,$G23=1),0,\"\")))),\"\")","v":""},{"$f":"IFERROR(IF(LEN(Etapes[[#This Row],[Progress]])=0,\"\",IF(AND($C23=\"MER\",CS$6=$F23,$G23=1),1,IF(AND($C23=\"MEP\",CS$6=$F23,$G23=1),2,IF(AND(CS$6=$F23,$G23=1),0,\"\")))),\"\")","v":""},{"$f":"IFERROR(IF(LEN(Etapes[[#This Row],[Start]])=0,\"\",IF(AND($C23=\"MER\",CT$6=$F23,$G23=1),1,IF(AND($C23=\"MEP\",CT$6=$F23,$G23=1),2,IF(AND(CT$6=$F23,$G23=1),0,\"\")))),\"\")","v":""},{"$f":"IFERROR(IF(LEN(Etapes[[#This Row],[Planned]])=0,\"\",IF(AND($C23=\"MER\",CU$6=$F23,$G23=1),1,IF(AND($C23=\"MEP\",CU$6=$F23,$G23=1),2,IF(AND(CU$6=$F23,$G23=1),0,\"\")))),\"\")","v":""},{"$f":"IFERROR(IF(LEN(Etapes[[#This Row],[Add]])=0,\"\",IF(AND($C23=\"MER\",CV$6=$F23,$G23=1),1,IF(AND($C23=\"MEP\",CV$6=$F23,$G23=1),2,IF(AND(CV$6=$F23,$G23=1),0,\"\")))),\"\")","v":""},{"$f":"IFERROR(IF(LEN(Etapes[[#This Row],[End]])=0,\"\",IF(AND($C23=\"MER\",CW$6=$F23,$G23=1),1,IF(AND($C23=\"MEP\",CW$6=$F23,$G23=1),2,IF(AND(CW$6=$F23,$G23=1),0,\"\")))),\"\")","v":""}]
["3.4","Exécution tests","Suspended",{"$f":"Settings!E46","v":"NAN"},null,"2022-08-03",null,null,{"$f":"IF(Etapes[[#This Row],[Start]]<>\"\",WORKDAY(Etapes[[#This Row],[Start]],IF(WEEKDAY(Etapes[[#This Row],[Start]],1)>=6,Etapes[[#This Row],[Planned]]+Etapes[[#This Row],[Add]],Etapes[[#This Row],[Planned]]+Etapes[[#This Row],[Add]]-1),Férié),\"\")","v":"2022-08-02"},{"$f":"IF(Etapes[[#This Row],[Start]]<>\"\",WORKDAY(Etapes[[#This Row],[Start]],IF(WEEKDAY(Etapes[[#This Row],[Start]],1)>=6,Etapes[[#This Row],[Progress]]*Etapes[[#This Row],[Planned]]+Etapes[[#This Row],[Add]],(Etapes[[#This Row],[Progress]]*Etapes[[#This Row],[Planned]]+Etapes[[#This Row],[Add]])-1),Férié),\"\")","v":"2022-08-02"},null,{"$f":"IFERROR(IF(LEN(Etapes[[#This Row],[Planned]])=0,\"\",IF(AND($C24=\"MER\",L$6=$F24,$G24=1),1,IF(AND($C24=\"MEP\",L$6=$F24,$G24=1),2,IF(AND(L$6=$F24,$G24=1),0,\"\")))),\"\")","v":""},{"$f":"IFERROR(IF(LEN(Etapes[[#This Row],[Planned]])=0,\"\",IF(AND($C24=\"MER\",M$6=$F24,$G24=1),1,IF(AND($C24=\"MEP\",M$6=$F24,$G24=1),2,IF(AND(M$6=$F24,$G24=1),0,\"\")))),\"\")","v":""},{"$f":"IFERROR(IF(LEN(Etapes[[#This Row],[Planned]])=0,\"\",IF(AND($C24=\"MER\",N$6=$F24,$G24=1),1,IF(AND($C24=\"MEP\",N$6=$F24,$G24=1),2,IF(AND(N$6=$F24,$G24=1),0,\"\")))),\"\")","v":""},{"$f":"IFERROR(IF(LEN(Etapes[[#This Row],[Planned]])=0,\"\",IF(AND($C24=\"MER\",O$6=$F24,$G24=1),1,IF(AND($C24=\"MEP\",O$6=$F24,$G24=1),2,IF(AND(O$6=$F24,$G24=1),0,\"\")))),\"\")","v":""},{"$f":"IFERROR(IF(LEN(Etapes[[#This Row],[Planned]])=0,\"\",IF(AND($C24=\"MER\",P$6=$F24,$G24=1),1,IF(AND($C24=\"MEP\",P$6=$F24,$G24=1),2,IF(AND(P$6=$F24,$G24=1),0,\"\")))),\"\")","v":""},{"$f":"IFERROR(IF(LEN(Etapes[[#This Row],[Planned]])=0,\"\",IF(AND($C24=\"MER\",Q$6=$F24,$G24=1),1,IF(AND($C24=\"MEP\",Q$6=$F24,$G24=1),2,IF(AND(Q$6=$F24,$G24=1),0,\"\")))),\"\")","v":""},{"$f":"IFERROR(IF(LEN(Etapes[[#This Row],[Planned]])=0,\"\",IF(AND($C24=\"MER\",R$6=$F24,$G24=1),1,IF(AND($C24=\"MEP\",R$6=$F24,$G24=1),2,IF(AND(R$6=$F24,$G24=1),0,\"\")))),\"\")","v":""},{"$f":"IFERROR(IF(LEN(Etapes[[#This Row],[Planned]])=0,\"\",IF(AND($C24=\"MER\",S$6=$F24,$G24=1),1,IF(AND($C24=\"MEP\",S$6=$F24,$G24=1),2,IF(AND(S$6=$F24,$G24=1),0,\"\")))),\"\")","v":""},{"$f":"IFERROR(IF(LEN(Etapes[[#This Row],[Planned]])=0,\"\",IF(AND($C24=\"MER\",T$6=$F24,$G24=1),1,IF(AND($C24=\"MEP\",T$6=$F24,$G24=1),2,IF(AND(T$6=$F24,$G24=1),0,\"\")))),\"\")","v":""},{"$f":"IFERROR(IF(LEN(Etapes[[#This Row],[Planned]])=0,\"\",IF(AND($C24=\"MER\",U$6=$F24,$G24=1),1,IF(AND($C24=\"MEP\",U$6=$F24,$G24=1),2,IF(AND(U$6=$F24,$G24=1),0,\"\")))),\"\")","v":""},{"$f":"IFERROR(IF(LEN(Etapes[[#This Row],[Planned]])=0,\"\",IF(AND($C24=\"MER\",V$6=$F24,$G24=1),1,IF(AND($C24=\"MEP\",V$6=$F24,$G24=1),2,IF(AND(V$6=$F24,$G24=1),0,\"\")))),\"\")","v":""},{"$f":"IFERROR(IF(LEN(Etapes[[#This Row],[Planned]])=0,\"\",IF(AND($C24=\"MER\",W$6=$F24,$G24=1),1,IF(AND($C24=\"MEP\",W$6=$F24,$G24=1),2,IF(AND(W$6=$F24,$G24=1),0,\"\")))),\"\")","v":""},{"$f":"IFERROR(IF(LEN(Etapes[[#This Row],[Planned]])=0,\"\",IF(AND($C24=\"MER\",X$6=$F24,$G24=1),1,IF(AND($C24=\"MEP\",X$6=$F24,$G24=1),2,IF(AND(X$6=$F24,$G24=1),0,\"\")))),\"\")","v":""},{"$f":"IFERROR(IF(LEN(Etapes[[#This Row],[Planned]])=0,\"\",IF(AND($C24=\"MER\",Y$6=$F24,$G24=1),1,IF(AND($C24=\"MEP\",Y$6=$F24,$G24=1),2,IF(AND(Y$6=$F24,$G24=1),0,\"\")))),\"\")","v":""},{"$f":"IFERROR(IF(LEN(Etapes[[#This Row],[Planned]])=0,\"\",IF(AND($C24=\"MER\",Z$6=$F24,$G24=1),1,IF(AND($C24=\"MEP\",Z$6=$F24,$G24=1),2,IF(AND(Z$6=$F24,$G24=1),0,\"\")))),\"\")","v":""},{"$f":"IFERROR(IF(LEN(Etapes[[#This Row],[Planned]])=0,\"\",IF(AND($C24=\"MER\",AA$6=$F24,$G24=1),1,IF(AND($C24=\"MEP\",AA$6=$F24,$G24=1),2,IF(AND(AA$6=$F24,$G24=1),0,\"\")))),\"\")","v":""},{"$f":"IFERROR(IF(LEN(Etapes[[#This Row],[Planned]])=0,\"\",IF(AND($C24=\"MER\",AB$6=$F24,$G24=1),1,IF(AND($C24=\"MEP\",AB$6=$F24,$G24=1),2,IF(AND(AB$6=$F24,$G24=1),0,\"\")))),\"\")","v":""},{"$f":"IFERROR(IF(LEN(Etapes[[#This Row],[Planned]])=0,\"\",IF(AND($C24=\"MER\",AC$6=$F24,$G24=1),1,IF(AND($C24=\"MEP\",AC$6=$F24,$G24=1),2,IF(AND(AC$6=$F24,$G24=1),0,\"\")))),\"\")","v":""},{"$f":"IFERROR(IF(LEN(Etapes[[#This Row],[Planned]])=0,\"\",IF(AND($C24=\"MER\",AD$6=$F24,$G24=1),1,IF(AND($C24=\"MEP\",AD$6=$F24,$G24=1),2,IF(AND(AD$6=$F24,$G24=1),0,\"\")))),\"\")","v":""},{"$f":"IFERROR(IF(LEN(Etapes[[#This Row],[Planned]])=0,\"\",IF(AND($C24=\"MER\",AE$6=$F24,$G24=1),1,IF(AND($C24=\"MEP\",AE$6=$F24,$G24=1),2,IF(AND(AE$6=$F24,$G24=1),0,\"\")))),\"\")","v":""},{"$f":"IFERROR(IF(LEN(Etapes[[#This Row],[Planned]])=0,\"\",IF(AND($C24=\"MER\",AF$6=$F24,$G24=1),1,IF(AND($C24=\"MEP\",AF$6=$F24,$G24=1),2,IF(AND(AF$6=$F24,$G24=1),0,\"\")))),\"\")","v":""},{"$f":"IFERROR(IF(LEN(Etapes[[#This Row],[Planned]])=0,\"\",IF(AND($C24=\"MER\",AG$6=$F24,$G24=1),1,IF(AND($C24=\"MEP\",AG$6=$F24,$G24=1),2,IF(AND(AG$6=$F24,$G24=1),0,\"\")))),\"\")","v":""},{"$f":"IFERROR(IF(LEN(Etapes[[#This Row],[Planned]])=0,\"\",IF(AND($C24=\"MER\",AH$6=$F24,$G24=1),1,IF(AND($C24=\"MEP\",AH$6=$F24,$G24=1),2,IF(AND(AH$6=$F24,$G24=1),0,\"\")))),\"\")","v":""},{"$f":"IFERROR(IF(LEN(Etapes[[#This Row],[Planned]])=0,\"\",IF(AND($C24=\"MER\",AI$6=$F24,$G24=1),1,IF(AND($C24=\"MEP\",AI$6=$F24,$G24=1),2,IF(AND(AI$6=$F24,$G24=1),0,\"\")))),\"\")","v":""},{"$f":"IFERROR(IF(LEN(Etapes[[#This Row],[Planned]])=0,\"\",IF(AND($C24=\"MER\",AJ$6=$F24,$G24=1),1,IF(AND($C24=\"MEP\",AJ$6=$F24,$G24=1),2,IF(AND(AJ$6=$F24,$G24=1),0,\"\")))),\"\")","v":""},{"$f":"IFERROR(IF(LEN(Etapes[[#This Row],[Planned]])=0,\"\",IF(AND($C24=\"MER\",AK$6=$F24,$G24=1),1,IF(AND($C24=\"MEP\",AK$6=$F24,$G24=1),2,IF(AND(AK$6=$F24,$G24=1),0,\"\")))),\"\")","v":""},{"$f":"IFERROR(IF(LEN(Etapes[[#This Row],[Planned]])=0,\"\",IF(AND($C24=\"MER\",AL$6=$F24,$G24=1),1,IF(AND($C24=\"MEP\",AL$6=$F24,$G24=1),2,IF(AND(AL$6=$F24,$G24=1),0,\"\")))),\"\")","v":""},{"$f":"IFERROR(IF(LEN(Etapes[[#This Row],[Planned]])=0,\"\",IF(AND($C24=\"MER\",AM$6=$F24,$G24=1),1,IF(AND($C24=\"MEP\",AM$6=$F24,$G24=1),2,IF(AND(AM$6=$F24,$G24=1),0,\"\")))),\"\")","v":""},{"$f":"IFERROR(IF(LEN(Etapes[[#This Row],[Planned]])=0,\"\",IF(AND($C24=\"MER\",AN$6=$F24,$G24=1),1,IF(AND($C24=\"MEP\",AN$6=$F24,$G24=1),2,IF(AND(AN$6=$F24,$G24=1),0,\"\")))),\"\")","v":""},{"$f":"IFERROR(IF(LEN(Etapes[[#This Row],[Planned]])=0,\"\",IF(AND($C24=\"MER\",AO$6=$F24,$G24=1),1,IF(AND($C24=\"MEP\",AO$6=$F24,$G24=1),2,IF(AND(AO$6=$F24,$G24=1),0,\"\")))),\"\")","v":""},{"$f":"IFERROR(IF(LEN(Etapes[[#This Row],[Planned]])=0,\"\",IF(AND($C24=\"MER\",AP$6=$F24,$G24=1),1,IF(AND($C24=\"MEP\",AP$6=$F24,$G24=1),2,IF(AND(AP$6=$F24,$G24=1),0,\"\")))),\"\")","v":""},{"$f":"IFERROR(IF(LEN(Etapes[[#This Row],[Planned]])=0,\"\",IF(AND($C24=\"MER\",AQ$6=$F24,$G24=1),1,IF(AND($C24=\"MEP\",AQ$6=$F24,$G24=1),2,IF(AND(AQ$6=$F24,$G24=1),0,\"\")))),\"\")","v":""},{"$f":"IFERROR(IF(LEN(Etapes[[#This Row],[Planned]])=0,\"\",IF(AND($C24=\"MER\",AR$6=$F24,$G24=1),1,IF(AND($C24=\"MEP\",AR$6=$F24,$G24=1),2,IF(AND(AR$6=$F24,$G24=1),0,\"\")))),\"\")","v":""},{"$f":"IFERROR(IF(LEN(Etapes[[#This Row],[Planned]])=0,\"\",IF(AND($C24=\"MER\",AS$6=$F24,$G24=1),1,IF(AND($C24=\"MEP\",AS$6=$F24,$G24=1),2,IF(AND(AS$6=$F24,$G24=1),0,\"\")))),\"\")","v":""},{"$f":"IFERROR(IF(LEN(Etapes[[#This Row],[Planned]])=0,\"\",IF(AND($C24=\"MER\",AT$6=$F24,$G24=1),1,IF(AND($C24=\"MEP\",AT$6=$F24,$G24=1),2,IF(AND(AT$6=$F24,$G24=1),0,\"\")))),\"\")","v":""},{"$f":"IFERROR(IF(LEN(Etapes[[#This Row],[Planned]])=0,\"\",IF(AND($C24=\"MER\",AU$6=$F24,$G24=1),1,IF(AND($C24=\"MEP\",AU$6=$F24,$G24=1),2,IF(AND(AU$6=$F24,$G24=1),0,\"\")))),\"\")","v":""},{"$f":"IFERROR(IF(LEN(Etapes[[#This Row],[Planned]])=0,\"\",IF(AND($C24=\"MER\",AV$6=$F24,$G24=1),1,IF(AND($C24=\"MEP\",AV$6=$F24,$G24=1),2,IF(AND(AV$6=$F24,$G24=1),0,\"\")))),\"\")","v":""},{"$f":"IFERROR(IF(LEN(Etapes[[#This Row],[Planned]])=0,\"\",IF(AND($C24=\"MER\",AW$6=$F24,$G24=1),1,IF(AND($C24=\"MEP\",AW$6=$F24,$G24=1),2,IF(AND(AW$6=$F24,$G24=1),0,\"\")))),\"\")","v":""},{"$f":"IFERROR(IF(LEN(Etapes[[#This Row],[Planned]])=0,\"\",IF(AND($C24=\"MER\",AX$6=$F24,$G24=1),1,IF(AND($C24=\"MEP\",AX$6=$F24,$G24=1),2,IF(AND(AX$6=$F24,$G24=1),0,\"\")))),\"\")","v":""},{"$f":"IFERROR(IF(LEN(Etapes[[#This Row],[Planned]])=0,\"\",IF(AND($C24=\"MER\",AY$6=$F24,$G24=1),1,IF(AND($C24=\"MEP\",AY$6=$F24,$G24=1),2,IF(AND(AY$6=$F24,$G24=1),0,\"\")))),\"\")","v":""},{"$f":"IFERROR(IF(LEN(Etapes[[#This Row],[Planned]])=0,\"\",IF(AND($C24=\"MER\",AZ$6=$F24,$G24=1),1,IF(AND($C24=\"MEP\",AZ$6=$F24,$G24=1),2,IF(AND(AZ$6=$F24,$G24=1),0,\"\")))),\"\")","v":""},{"$f":"IFERROR(IF(LEN(Etapes[[#This Row],[Planned]])=0,\"\",IF(AND($C24=\"MER\",BA$6=$F24,$G24=1),1,IF(AND($C24=\"MEP\",BA$6=$F24,$G24=1),2,IF(AND(BA$6=$F24,$G24=1),0,\"\")))),\"\")","v":""},{"$f":"IFERROR(IF(LEN(Etapes[[#This Row],[Planned]])=0,\"\",IF(AND($C24=\"MER\",BB$6=$F24,$G24=1),1,IF(AND($C24=\"MEP\",BB$6=$F24,$G24=1),2,IF(AND(BB$6=$F24,$G24=1),0,\"\")))),\"\")","v":""},{"$f":"IFERROR(IF(LEN(Etapes[[#This Row],[Planned]])=0,\"\",IF(AND($C24=\"MER\",BC$6=$F24,$G24=1),1,IF(AND($C24=\"MEP\",BC$6=$F24,$G24=1),2,IF(AND(BC$6=$F24,$G24=1),0,\"\")))),\"\")","v":""},{"$f":"IFERROR(IF(LEN(Etapes[[#This Row],[Planned]])=0,\"\",IF(AND($C24=\"MER\",BD$6=$F24,$G24=1),1,IF(AND($C24=\"MEP\",BD$6=$F24,$G24=1),2,IF(AND(BD$6=$F24,$G24=1),0,\"\")))),\"\")","v":""},{"$f":"IFERROR(IF(LEN(Etapes[[#This Row],[Planned]])=0,\"\",IF(AND($C24=\"MER\",BE$6=$F24,$G24=1),1,IF(AND($C24=\"MEP\",BE$6=$F24,$G24=1),2,IF(AND(BE$6=$F24,$G24=1),0,\"\")))),\"\")","v":""},{"$f":"IFERROR(IF(LEN(Etapes[[#This Row],[Planned]])=0,\"\",IF(AND($C24=\"MER\",BF$6=$F24,$G24=1),1,IF(AND($C24=\"MEP\",BF$6=$F24,$G24=1),2,IF(AND(BF$6=$F24,$G24=1),0,\"\")))),\"\")","v":""},{"$f":"IFERROR(IF(LEN(Etapes[[#This Row],[Planned]])=0,\"\",IF(AND($C24=\"MER\",BG$6=$F24,$G24=1),1,IF(AND($C24=\"MEP\",BG$6=$F24,$G24=1),2,IF(AND(BG$6=$F24,$G24=1),0,\"\")))),\"\")","v":""},{"$f":"IFERROR(IF(LEN(Etapes[[#This Row],[Planned]])=0,\"\",IF(AND($C24=\"MER\",BH$6=$F24,$G24=1),1,IF(AND($C24=\"MEP\",BH$6=$F24,$G24=1),2,IF(AND(BH$6=$F24,$G24=1),0,\"\")))),\"\")","v":""},{"$f":"IFERROR(IF(LEN(Etapes[[#This Row],[Planned]])=0,\"\",IF(AND($C24=\"MER\",BI$6=$F24,$G24=1),1,IF(AND($C24=\"MEP\",BI$6=$F24,$G24=1),2,IF(AND(BI$6=$F24,$G24=1),0,\"\")))),\"\")","v":""},{"$f":"IFERROR(IF(LEN(Etapes[[#This Row],[Planned]])=0,\"\",IF(AND($C24=\"MER\",BJ$6=$F24,$G24=1),1,IF(AND($C24=\"MEP\",BJ$6=$F24,$G24=1),2,IF(AND(BJ$6=$F24,$G24=1),0,\"\")))),\"\")","v":""},{"$f":"IFERROR(IF(LEN(Etapes[[#This Row],[Planned]])=0,\"\",IF(AND($C24=\"MER\",BK$6=$F24,$G24=1),1,IF(AND($C24=\"MEP\",BK$6=$F24,$G24=1),2,IF(AND(BK$6=$F24,$G24=1),0,\"\")))),\"\")","v":""},{"$f":"IFERROR(IF(LEN(Etapes[[#This Row],[Planned]])=0,\"\",IF(AND($C24=\"MER\",BL$6=$F24,$G24=1),1,IF(AND($C24=\"MEP\",BL$6=$F24,$G24=1),2,IF(AND(BL$6=$F24,$G24=1),0,\"\")))),\"\")","v":""},{"$f":"IFERROR(IF(LEN(Etapes[[#This Row],[Planned]])=0,\"\",IF(AND($C24=\"MER\",BM$6=$F24,$G24=1),1,IF(AND($C24=\"MEP\",BM$6=$F24,$G24=1),2,IF(AND(BM$6=$F24,$G24=1),0,\"\")))),\"\")","v":""},{"$f":"IFERROR(IF(LEN(Etapes[[#This Row],[Planned]])=0,\"\",IF(AND($C24=\"MER\",BN$6=$F24,$G24=1),1,IF(AND($C24=\"MEP\",BN$6=$F24,$G24=1),2,IF(AND(BN$6=$F24,$G24=1),0,\"\")))),\"\")","v":""},{"$f":"IFERROR(IF(LEN(Etapes[[#This Row],[Planned]])=0,\"\",IF(AND($C24=\"MER\",BO$6=$F24,$G24=1),1,IF(AND($C24=\"MEP\",BO$6=$F24,$G24=1),2,IF(AND(BO$6=$F24,$G24=1),0,\"\")))),\"\")","v":""},{"$f":"IFERROR(IF(LEN(Etapes[[#This Row],[Add]])=0,\"\",IF(AND($C24=\"MER\",BP$6=$F24,$G24=1),1,IF(AND($C24=\"MEP\",BP$6=$F24,$G24=1),2,IF(AND(BP$6=$F24,$G24=1),0,\"\")))),\"\")","v":""},{"$f":"IFERROR(IF(LEN(Etapes[[#This Row],[End]])=0,\"\",IF(AND($C24=\"MER\",BQ$6=$F24,$G24=1),1,IF(AND($C24=\"MEP\",BQ$6=$F24,$G24=1),2,IF(AND(BQ$6=$F24,$G24=1),0,\"\")))),\"\")","v":""},{"$f":"IFERROR(IF(LEN(Etapes[[#This Row],[Réalisé]])=0,\"\",IF(AND($C24=\"MER\",BR$6=$F24,$G24=1),1,IF(AND($C24=\"MEP\",BR$6=$F24,$G24=1),2,IF(AND(BR$6=$F24,$G24=1),0,\"\")))),\"\")","v":""},{"$f":"IFERROR(IF(LEN(Etapes[[#This Row],[Activité]])=0,\"\",IF(AND($C24=\"MER\",BS$6=$F24,$G24=1),1,IF(AND($C24=\"MEP\",BS$6=$F24,$G24=1),2,IF(AND(BS$6=$F24,$G24=1),0,\"\")))),\"\")","v":""},{"$f":"IFERROR(IF(LEN(Etapes[[#This Row],[Statut]])=0,\"\",IF(AND($C24=\"MER\",BT$6=$F24,$G24=1),1,IF(AND($C24=\"MEP\",BT$6=$F24,$G24=1),2,IF(AND(BT$6=$F24,$G24=1),0,\"\")))),\"\")","v":""},{"$f":"IFERROR(IF(LEN(Etapes[[#This Row],[Progress]])=0,\"\",IF(AND($C24=\"MER\",BU$6=$F24,$G24=1),1,IF(AND($C24=\"MEP\",BU$6=$F24,$G24=1),2,IF(AND(BU$6=$F24,$G24=1),0,\"\")))),\"\")","v":""},{"$f":"IFERROR(IF(LEN(Etapes[[#This Row],[Start]])=0,\"\",IF(AND($C24=\"MER\",BV$6=$F24,$G24=1),1,IF(AND($C24=\"MEP\",BV$6=$F24,$G24=1),2,IF(AND(BV$6=$F24,$G24=1),0,\"\")))),\"\")","v":""},{"$f":"IFERROR(IF(LEN(Etapes[[#This Row],[Planned]])=0,\"\",IF(AND($C24=\"MER\",BW$6=$F24,$G24=1),1,IF(AND($C24=\"MEP\",BW$6=$F24,$G24=1),2,IF(AND(BW$6=$F24,$G24=1),0,\"\")))),\"\")","v":""},{"$f":"IFERROR(IF(LEN(Etapes[[#This Row],[Add]])=0,\"\",IF(AND($C24=\"MER\",BX$6=$F24,$G24=1),1,IF(AND($C24=\"MEP\",BX$6=$F24,$G24=1),2,IF(AND(BX$6=$F24,$G24=1),0,\"\")))),\"\")","v":""},{"$f":"IFERROR(IF(LEN(Etapes[[#This Row],[End]])=0,\"\",IF(AND($C24=\"MER\",BY$6=$F24,$G24=1),1,IF(AND($C24=\"MEP\",BY$6=$F24,$G24=1),2,IF(AND(BY$6=$F24,$G24=1),0,\"\")))),\"\")","v":""},{"$f":"IFERROR(IF(LEN(Etapes[[#This Row],[Réalisé]])=0,\"\",IF(AND($C24=\"MER\",BZ$6=$F24,$G24=1),1,IF(AND($C24=\"MEP\",BZ$6=$F24,$G24=1),2,IF(AND(BZ$6=$F24,$G24=1),0,\"\")))),\"\")","v":""},{"$f":"IFERROR(IF(LEN(Etapes[[#This Row],[Activité]])=0,\"\",IF(AND($C24=\"MER\",CA$6=$F24,$G24=1),1,IF(AND($C24=\"MEP\",CA$6=$F24,$G24=1),2,IF(AND(CA$6=$F24,$G24=1),0,\"\")))),\"\")","v":""},{"$f":"IFERROR(IF(LEN(Etapes[[#This Row],[Statut]])=0,\"\",IF(AND($C24=\"MER\",CB$6=$F24,$G24=1),1,IF(AND($C24=\"MEP\",CB$6=$F24,$G24=1),2,IF(AND(CB$6=$F24,$G24=1),0,\"\")))),\"\")","v":""},{"$f":"IFERROR(IF(LEN(Etapes[[#This Row],[Progress]])=0,\"\",IF(AND($C24=\"MER\",CC$6=$F24,$G24=1),1,IF(AND($C24=\"MEP\",CC$6=$F24,$G24=1),2,IF(AND(CC$6=$F24,$G24=1),0,\"\")))),\"\")","v":""},{"$f":"IFERROR(IF(LEN(Etapes[[#This Row],[Start]])=0,\"\",IF(AND($C24=\"MER\",CD$6=$F24,$G24=1),1,IF(AND($C24=\"MEP\",CD$6=$F24,$G24=1),2,IF(AND(CD$6=$F24,$G24=1),0,\"\")))),\"\")","v":""},{"$f":"IFERROR(IF(LEN(Etapes[[#This Row],[Planned]])=0,\"\",IF(AND($C24=\"MER\",CE$6=$F24,$G24=1),1,IF(AND($C24=\"MEP\",CE$6=$F24,$G24=1),2,IF(AND(CE$6=$F24,$G24=1),0,\"\")))),\"\")","v":""},{"$f":"IFERROR(IF(LEN(Etapes[[#This Row],[Add]])=0,\"\",IF(AND($C24=\"MER\",CF$6=$F24,$G24=1),1,IF(AND($C24=\"MEP\",CF$6=$F24,$G24=1),2,IF(AND(CF$6=$F24,$G24=1),0,\"\")))),\"\")","v":""},{"$f":"IFERROR(IF(LEN(Etapes[[#This Row],[End]])=0,\"\",IF(AND($C24=\"MER\",CG$6=$F24,$G24=1),1,IF(AND($C24=\"MEP\",CG$6=$F24,$G24=1),2,IF(AND(CG$6=$F24,$G24=1),0,\"\")))),\"\")","v":""},{"$f":"IFERROR(IF(LEN(Etapes[[#This Row],[Réalisé]])=0,\"\",IF(AND($C24=\"MER\",CH$6=$F24,$G24=1),1,IF(AND($C24=\"MEP\",CH$6=$F24,$G24=1),2,IF(AND(CH$6=$F24,$G24=1),0,\"\")))),\"\")","v":""},{"$f":"IFERROR(IF(LEN(Etapes[[#This Row],[Activité]])=0,\"\",IF(AND($C24=\"MER\",CI$6=$F24,$G24=1),1,IF(AND($C24=\"MEP\",CI$6=$F24,$G24=1),2,IF(AND(CI$6=$F24,$G24=1),0,\"\")))),\"\")","v":""},{"$f":"IFERROR(IF(LEN(Etapes[[#This Row],[Statut]])=0,\"\",IF(AND($C24=\"MER\",CJ$6=$F24,$G24=1),1,IF(AND($C24=\"MEP\",CJ$6=$F24,$G24=1),2,IF(AND(CJ$6=$F24,$G24=1),0,\"\")))),\"\")","v":""},{"$f":"IFERROR(IF(LEN(Etapes[[#This Row],[Progress]])=0,\"\",IF(AND($C24=\"MER\",CK$6=$F24,$G24=1),1,IF(AND($C24=\"MEP\",CK$6=$F24,$G24=1),2,IF(AND(CK$6=$F24,$G24=1),0,\"\")))),\"\")","v":""},{"$f":"IFERROR(IF(LEN(Etapes[[#This Row],[Start]])=0,\"\",IF(AND($C24=\"MER\",CL$6=$F24,$G24=1),1,IF(AND($C24=\"MEP\",CL$6=$F24,$G24=1),2,IF(AND(CL$6=$F24,$G24=1),0,\"\")))),\"\")","v":""},{"$f":"IFERROR(IF(LEN(Etapes[[#This Row],[Planned]])=0,\"\",IF(AND($C24=\"MER\",CM$6=$F24,$G24=1),1,IF(AND($C24=\"MEP\",CM$6=$F24,$G24=1),2,IF(AND(CM$6=$F24,$G24=1),0,\"\")))),\"\")","v":""},{"$f":"IFERROR(IF(LEN(Etapes[[#This Row],[Add]])=0,\"\",IF(AND($C24=\"MER\",CN$6=$F24,$G24=1),1,IF(AND($C24=\"MEP\",CN$6=$F24,$G24=1),2,IF(AND(CN$6=$F24,$G24=1),0,\"\")))),\"\")","v":""},{"$f":"IFERROR(IF(LEN(Etapes[[#This Row],[End]])=0,\"\",IF(AND($C24=\"MER\",CO$6=$F24,$G24=1),1,IF(AND($C24=\"MEP\",CO$6=$F24,$G24=1),2,IF(AND(CO$6=$F24,$G24=1),0,\"\")))),\"\")","v":""},{"$f":"IFERROR(IF(LEN(Etapes[[#This Row],[Réalisé]])=0,\"\",IF(AND($C24=\"MER\",CP$6=$F24,$G24=1),1,IF(AND($C24=\"MEP\",CP$6=$F24,$G24=1),2,IF(AND(CP$6=$F24,$G24=1),0,\"\")))),\"\")","v":""},{"$f":"IFERROR(IF(LEN(Etapes[[#This Row],[Activité]])=0,\"\",IF(AND($C24=\"MER\",CQ$6=$F24,$G24=1),1,IF(AND($C24=\"MEP\",CQ$6=$F24,$G24=1),2,IF(AND(CQ$6=$F24,$G24=1),0,\"\")))),\"\")","v":""},{"$f":"IFERROR(IF(LEN(Etapes[[#This Row],[Statut]])=0,\"\",IF(AND($C24=\"MER\",CR$6=$F24,$G24=1),1,IF(AND($C24=\"MEP\",CR$6=$F24,$G24=1),2,IF(AND(CR$6=$F24,$G24=1),0,\"\")))),\"\")","v":""},{"$f":"IFERROR(IF(LEN(Etapes[[#This Row],[Progress]])=0,\"\",IF(AND($C24=\"MER\",CS$6=$F24,$G24=1),1,IF(AND($C24=\"MEP\",CS$6=$F24,$G24=1),2,IF(AND(CS$6=$F24,$G24=1),0,\"\")))),\"\")","v":""},{"$f":"IFERROR(IF(LEN(Etapes[[#This Row],[Start]])=0,\"\",IF(AND($C24=\"MER\",CT$6=$F24,$G24=1),1,IF(AND($C24=\"MEP\",CT$6=$F24,$G24=1),2,IF(AND(CT$6=$F24,$G24=1),0,\"\")))),\"\")","v":""},{"$f":"IFERROR(IF(LEN(Etapes[[#This Row],[Planned]])=0,\"\",IF(AND($C24=\"MER\",CU$6=$F24,$G24=1),1,IF(AND($C24=\"MEP\",CU$6=$F24,$G24=1),2,IF(AND(CU$6=$F24,$G24=1),0,\"\")))),\"\")","v":""},{"$f":"IFERROR(IF(LEN(Etapes[[#This Row],[Add]])=0,\"\",IF(AND($C24=\"MER\",CV$6=$F24,$G24=1),1,IF(AND($C24=\"MEP\",CV$6=$F24,$G24=1),2,IF(AND(CV$6=$F24,$G24=1),0,\"\")))),\"\")","v":""},{"$f":"IFERROR(IF(LEN(Etapes[[#This Row],[End]])=0,\"\",IF(AND($C24=\"MER\",CW$6=$F24,$G24=1),1,IF(AND($C24=\"MEP\",CW$6=$F24,$G24=1),2,IF(AND(CW$6=$F24,$G24=1),0,\"\")))),\"\")","v":""}]
[4,{"$f":"RàF!A16","v":"E1.3.4"},null,null,null,"2022-08-03",null,null,{"$f":"IF(Etapes[[#This Row],[Start]]<>\"\",WORKDAY(Etapes[[#This Row],[Start]],IF(WEEKDAY(Etapes[[#This Row],[Start]],1)>=6,Etapes[[#This Row],[Planned]]+Etapes[[#This Row],[Add]],Etapes[[#This Row],[Planned]]+Etapes[[#This Row],[Add]]-1),Férié),\"\")","v":"2022-08-02"},{"$f":"IF(Etapes[[#This Row],[Start]]<>\"\",WORKDAY(Etapes[[#This Row],[Start]],IF(WEEKDAY(Etapes[[#This Row],[Start]],1)>=6,Etapes[[#This Row],[Progress]]*Etapes[[#This Row],[Planned]]+Etapes[[#This Row],[Add]],(Etapes[[#This Row],[Progress]]*Etapes[[#This Row],[Planned]]+Etapes[[#This Row],[Add]])-1),Férié),\"\")","v":"2022-08-02"},null,{"$f":"IFERROR(IF(LEN(Etapes[[#This Row],[Planned]])=0,\"\",IF(AND($C25=\"MER\",L$6=$F25,$G25=1),1,IF(AND($C25=\"MEP\",L$6=$F25,$G25=1),2,IF(AND(L$6=$F25,$G25=1),0,\"\")))),\"\")","v":""},{"$f":"IFERROR(IF(LEN(Etapes[[#This Row],[Planned]])=0,\"\",IF(AND($C25=\"MER\",M$6=$F25,$G25=1),1,IF(AND($C25=\"MEP\",M$6=$F25,$G25=1),2,IF(AND(M$6=$F25,$G25=1),0,\"\")))),\"\")","v":""},{"$f":"IFERROR(IF(LEN(Etapes[[#This Row],[Planned]])=0,\"\",IF(AND($C25=\"MER\",N$6=$F25,$G25=1),1,IF(AND($C25=\"MEP\",N$6=$F25,$G25=1),2,IF(AND(N$6=$F25,$G25=1),0,\"\")))),\"\")","v":""},{"$f":"IFERROR(IF(LEN(Etapes[[#This Row],[Planned]])=0,\"\",IF(AND($C25=\"MER\",O$6=$F25,$G25=1),1,IF(AND($C25=\"MEP\",O$6=$F25,$G25=1),2,IF(AND(O$6=$F25,$G25=1),0,\"\")))),\"\")","v":""},{"$f":"IFERROR(IF(LEN(Etapes[[#This Row],[Planned]])=0,\"\",IF(AND($C25=\"MER\",P$6=$F25,$G25=1),1,IF(AND($C25=\"MEP\",P$6=$F25,$G25=1),2,IF(AND(P$6=$F25,$G25=1),0,\"\")))),\"\")","v":""},{"$f":"IFERROR(IF(LEN(Etapes[[#This Row],[Planned]])=0,\"\",IF(AND($C25=\"MER\",Q$6=$F25,$G25=1),1,IF(AND($C25=\"MEP\",Q$6=$F25,$G25=1),2,IF(AND(Q$6=$F25,$G25=1),0,\"\")))),\"\")","v":""},{"$f":"IFERROR(IF(LEN(Etapes[[#This Row],[Planned]])=0,\"\",IF(AND($C25=\"MER\",R$6=$F25,$G25=1),1,IF(AND($C25=\"MEP\",R$6=$F25,$G25=1),2,IF(AND(R$6=$F25,$G25=1),0,\"\")))),\"\")","v":""},{"$f":"IFERROR(IF(LEN(Etapes[[#This Row],[Planned]])=0,\"\",IF(AND($C25=\"MER\",S$6=$F25,$G25=1),1,IF(AND($C25=\"MEP\",S$6=$F25,$G25=1),2,IF(AND(S$6=$F25,$G25=1),0,\"\")))),\"\")","v":""},{"$f":"IFERROR(IF(LEN(Etapes[[#This Row],[Planned]])=0,\"\",IF(AND($C25=\"MER\",T$6=$F25,$G25=1),1,IF(AND($C25=\"MEP\",T$6=$F25,$G25=1),2,IF(AND(T$6=$F25,$G25=1),0,\"\")))),\"\")","v":""},{"$f":"IFERROR(IF(LEN(Etapes[[#This Row],[Planned]])=0,\"\",IF(AND($C25=\"MER\",U$6=$F25,$G25=1),1,IF(AND($C25=\"MEP\",U$6=$F25,$G25=1),2,IF(AND(U$6=$F25,$G25=1),0,\"\")))),\"\")","v":""},{"$f":"IFERROR(IF(LEN(Etapes[[#This Row],[Planned]])=0,\"\",IF(AND($C25=\"MER\",V$6=$F25,$G25=1),1,IF(AND($C25=\"MEP\",V$6=$F25,$G25=1),2,IF(AND(V$6=$F25,$G25=1),0,\"\")))),\"\")","v":""},{"$f":"IFERROR(IF(LEN(Etapes[[#This Row],[Planned]])=0,\"\",IF(AND($C25=\"MER\",W$6=$F25,$G25=1),1,IF(AND($C25=\"MEP\",W$6=$F25,$G25=1),2,IF(AND(W$6=$F25,$G25=1),0,\"\")))),\"\")","v":""},{"$f":"IFERROR(IF(LEN(Etapes[[#This Row],[Planned]])=0,\"\",IF(AND($C25=\"MER\",X$6=$F25,$G25=1),1,IF(AND($C25=\"MEP\",X$6=$F25,$G25=1),2,IF(AND(X$6=$F25,$G25=1),0,\"\")))),\"\")","v":""},{"$f":"IFERROR(IF(LEN(Etapes[[#This Row],[Planned]])=0,\"\",IF(AND($C25=\"MER\",Y$6=$F25,$G25=1),1,IF(AND($C25=\"MEP\",Y$6=$F25,$G25=1),2,IF(AND(Y$6=$F25,$G25=1),0,\"\")))),\"\")","v":""},{"$f":"IFERROR(IF(LEN(Etapes[[#This Row],[Planned]])=0,\"\",IF(AND($C25=\"MER\",Z$6=$F25,$G25=1),1,IF(AND($C25=\"MEP\",Z$6=$F25,$G25=1),2,IF(AND(Z$6=$F25,$G25=1),0,\"\")))),\"\")","v":""},{"$f":"IFERROR(IF(LEN(Etapes[[#This Row],[Planned]])=0,\"\",IF(AND($C25=\"MER\",AA$6=$F25,$G25=1),1,IF(AND($C25=\"MEP\",AA$6=$F25,$G25=1),2,IF(AND(AA$6=$F25,$G25=1),0,\"\")))),\"\")","v":""},{"$f":"IFERROR(IF(LEN(Etapes[[#This Row],[Planned]])=0,\"\",IF(AND($C25=\"MER\",AB$6=$F25,$G25=1),1,IF(AND($C25=\"MEP\",AB$6=$F25,$G25=1),2,IF(AND(AB$6=$F25,$G25=1),0,\"\")))),\"\")","v":""},{"$f":"IFERROR(IF(LEN(Etapes[[#This Row],[Planned]])=0,\"\",IF(AND($C25=\"MER\",AC$6=$F25,$G25=1),1,IF(AND($C25=\"MEP\",AC$6=$F25,$G25=1),2,IF(AND(AC$6=$F25,$G25=1),0,\"\")))),\"\")","v":""},{"$f":"IFERROR(IF(LEN(Etapes[[#This Row],[Planned]])=0,\"\",IF(AND($C25=\"MER\",AD$6=$F25,$G25=1),1,IF(AND($C25=\"MEP\",AD$6=$F25,$G25=1),2,IF(AND(AD$6=$F25,$G25=1),0,\"\")))),\"\")","v":""},{"$f":"IFERROR(IF(LEN(Etapes[[#This Row],[Planned]])=0,\"\",IF(AND($C25=\"MER\",AE$6=$F25,$G25=1),1,IF(AND($C25=\"MEP\",AE$6=$F25,$G25=1),2,IF(AND(AE$6=$F25,$G25=1),0,\"\")))),\"\")","v":""},{"$f":"IFERROR(IF(LEN(Etapes[[#This Row],[Planned]])=0,\"\",IF(AND($C25=\"MER\",AF$6=$F25,$G25=1),1,IF(AND($C25=\"MEP\",AF$6=$F25,$G25=1),2,IF(AND(AF$6=$F25,$G25=1),0,\"\")))),\"\")","v":""},{"$f":"IFERROR(IF(LEN(Etapes[[#This Row],[Planned]])=0,\"\",IF(AND($C25=\"MER\",AG$6=$F25,$G25=1),1,IF(AND($C25=\"MEP\",AG$6=$F25,$G25=1),2,IF(AND(AG$6=$F25,$G25=1),0,\"\")))),\"\")","v":""},{"$f":"IFERROR(IF(LEN(Etapes[[#This Row],[Planned]])=0,\"\",IF(AND($C25=\"MER\",AH$6=$F25,$G25=1),1,IF(AND($C25=\"MEP\",AH$6=$F25,$G25=1),2,IF(AND(AH$6=$F25,$G25=1),0,\"\")))),\"\")","v":""},{"$f":"IFERROR(IF(LEN(Etapes[[#This Row],[Planned]])=0,\"\",IF(AND($C25=\"MER\",AI$6=$F25,$G25=1),1,IF(AND($C25=\"MEP\",AI$6=$F25,$G25=1),2,IF(AND(AI$6=$F25,$G25=1),0,\"\")))),\"\")","v":""},{"$f":"IFERROR(IF(LEN(Etapes[[#This Row],[Planned]])=0,\"\",IF(AND($C25=\"MER\",AJ$6=$F25,$G25=1),1,IF(AND($C25=\"MEP\",AJ$6=$F25,$G25=1),2,IF(AND(AJ$6=$F25,$G25=1),0,\"\")))),\"\")","v":""},{"$f":"IFERROR(IF(LEN(Etapes[[#This Row],[Planned]])=0,\"\",IF(AND($C25=\"MER\",AK$6=$F25,$G25=1),1,IF(AND($C25=\"MEP\",AK$6=$F25,$G25=1),2,IF(AND(AK$6=$F25,$G25=1),0,\"\")))),\"\")","v":""},{"$f":"IFERROR(IF(LEN(Etapes[[#This Row],[Planned]])=0,\"\",IF(AND($C25=\"MER\",AL$6=$F25,$G25=1),1,IF(AND($C25=\"MEP\",AL$6=$F25,$G25=1),2,IF(AND(AL$6=$F25,$G25=1),0,\"\")))),\"\")","v":""},{"$f":"IFERROR(IF(LEN(Etapes[[#This Row],[Planned]])=0,\"\",IF(AND($C25=\"MER\",AM$6=$F25,$G25=1),1,IF(AND($C25=\"MEP\",AM$6=$F25,$G25=1),2,IF(AND(AM$6=$F25,$G25=1),0,\"\")))),\"\")","v":""},{"$f":"IFERROR(IF(LEN(Etapes[[#This Row],[Planned]])=0,\"\",IF(AND($C25=\"MER\",AN$6=$F25,$G25=1),1,IF(AND($C25=\"MEP\",AN$6=$F25,$G25=1),2,IF(AND(AN$6=$F25,$G25=1),0,\"\")))),\"\")","v":""},{"$f":"IFERROR(IF(LEN(Etapes[[#This Row],[Planned]])=0,\"\",IF(AND($C25=\"MER\",AO$6=$F25,$G25=1),1,IF(AND($C25=\"MEP\",AO$6=$F25,$G25=1),2,IF(AND(AO$6=$F25,$G25=1),0,\"\")))),\"\")","v":""},{"$f":"IFERROR(IF(LEN(Etapes[[#This Row],[Planned]])=0,\"\",IF(AND($C25=\"MER\",AP$6=$F25,$G25=1),1,IF(AND($C25=\"MEP\",AP$6=$F25,$G25=1),2,IF(AND(AP$6=$F25,$G25=1),0,\"\")))),\"\")","v":""},{"$f":"IFERROR(IF(LEN(Etapes[[#This Row],[Planned]])=0,\"\",IF(AND($C25=\"MER\",AQ$6=$F25,$G25=1),1,IF(AND($C25=\"MEP\",AQ$6=$F25,$G25=1),2,IF(AND(AQ$6=$F25,$G25=1),0,\"\")))),\"\")","v":""},{"$f":"IFERROR(IF(LEN(Etapes[[#This Row],[Planned]])=0,\"\",IF(AND($C25=\"MER\",AR$6=$F25,$G25=1),1,IF(AND($C25=\"MEP\",AR$6=$F25,$G25=1),2,IF(AND(AR$6=$F25,$G25=1),0,\"\")))),\"\")","v":""},{"$f":"IFERROR(IF(LEN(Etapes[[#This Row],[Planned]])=0,\"\",IF(AND($C25=\"MER\",AS$6=$F25,$G25=1),1,IF(AND($C25=\"MEP\",AS$6=$F25,$G25=1),2,IF(AND(AS$6=$F25,$G25=1),0,\"\")))),\"\")","v":""},{"$f":"IFERROR(IF(LEN(Etapes[[#This Row],[Planned]])=0,\"\",IF(AND($C25=\"MER\",AT$6=$F25,$G25=1),1,IF(AND($C25=\"MEP\",AT$6=$F25,$G25=1),2,IF(AND(AT$6=$F25,$G25=1),0,\"\")))),\"\")","v":""},{"$f":"IFERROR(IF(LEN(Etapes[[#This Row],[Planned]])=0,\"\",IF(AND($C25=\"MER\",AU$6=$F25,$G25=1),1,IF(AND($C25=\"MEP\",AU$6=$F25,$G25=1),2,IF(AND(AU$6=$F25,$G25=1),0,\"\")))),\"\")","v":""},{"$f":"IFERROR(IF(LEN(Etapes[[#This Row],[Planned]])=0,\"\",IF(AND($C25=\"MER\",AV$6=$F25,$G25=1),1,IF(AND($C25=\"MEP\",AV$6=$F25,$G25=1),2,IF(AND(AV$6=$F25,$G25=1),0,\"\")))),\"\")","v":""},{"$f":"IFERROR(IF(LEN(Etapes[[#This Row],[Planned]])=0,\"\",IF(AND($C25=\"MER\",AW$6=$F25,$G25=1),1,IF(AND($C25=\"MEP\",AW$6=$F25,$G25=1),2,IF(AND(AW$6=$F25,$G25=1),0,\"\")))),\"\")","v":""},{"$f":"IFERROR(IF(LEN(Etapes[[#This Row],[Planned]])=0,\"\",IF(AND($C25=\"MER\",AX$6=$F25,$G25=1),1,IF(AND($C25=\"MEP\",AX$6=$F25,$G25=1),2,IF(AND(AX$6=$F25,$G25=1),0,\"\")))),\"\")","v":""},{"$f":"IFERROR(IF(LEN(Etapes[[#This Row],[Planned]])=0,\"\",IF(AND($C25=\"MER\",AY$6=$F25,$G25=1),1,IF(AND($C25=\"MEP\",AY$6=$F25,$G25=1),2,IF(AND(AY$6=$F25,$G25=1),0,\"\")))),\"\")","v":""},{"$f":"IFERROR(IF(LEN(Etapes[[#This Row],[Planned]])=0,\"\",IF(AND($C25=\"MER\",AZ$6=$F25,$G25=1),1,IF(AND($C25=\"MEP\",AZ$6=$F25,$G25=1),2,IF(AND(AZ$6=$F25,$G25=1),0,\"\")))),\"\")","v":""},{"$f":"IFERROR(IF(LEN(Etapes[[#This Row],[Planned]])=0,\"\",IF(AND($C25=\"MER\",BA$6=$F25,$G25=1),1,IF(AND($C25=\"MEP\",BA$6=$F25,$G25=1),2,IF(AND(BA$6=$F25,$G25=1),0,\"\")))),\"\")","v":""},{"$f":"IFERROR(IF(LEN(Etapes[[#This Row],[Planned]])=0,\"\",IF(AND($C25=\"MER\",BB$6=$F25,$G25=1),1,IF(AND($C25=\"MEP\",BB$6=$F25,$G25=1),2,IF(AND(BB$6=$F25,$G25=1),0,\"\")))),\"\")","v":""},{"$f":"IFERROR(IF(LEN(Etapes[[#This Row],[Planned]])=0,\"\",IF(AND($C25=\"MER\",BC$6=$F25,$G25=1),1,IF(AND($C25=\"MEP\",BC$6=$F25,$G25=1),2,IF(AND(BC$6=$F25,$G25=1),0,\"\")))),\"\")","v":""},{"$f":"IFERROR(IF(LEN(Etapes[[#This Row],[Planned]])=0,\"\",IF(AND($C25=\"MER\",BD$6=$F25,$G25=1),1,IF(AND($C25=\"MEP\",BD$6=$F25,$G25=1),2,IF(AND(BD$6=$F25,$G25=1),0,\"\")))),\"\")","v":""},{"$f":"IFERROR(IF(LEN(Etapes[[#This Row],[Planned]])=0,\"\",IF(AND($C25=\"MER\",BE$6=$F25,$G25=1),1,IF(AND($C25=\"MEP\",BE$6=$F25,$G25=1),2,IF(AND(BE$6=$F25,$G25=1),0,\"\")))),\"\")","v":""},{"$f":"IFERROR(IF(LEN(Etapes[[#This Row],[Planned]])=0,\"\",IF(AND($C25=\"MER\",BF$6=$F25,$G25=1),1,IF(AND($C25=\"MEP\",BF$6=$F25,$G25=1),2,IF(AND(BF$6=$F25,$G25=1),0,\"\")))),\"\")","v":""},{"$f":"IFERROR(IF(LEN(Etapes[[#This Row],[Planned]])=0,\"\",IF(AND($C25=\"MER\",BG$6=$F25,$G25=1),1,IF(AND($C25=\"MEP\",BG$6=$F25,$G25=1),2,IF(AND(BG$6=$F25,$G25=1),0,\"\")))),\"\")","v":""},{"$f":"IFERROR(IF(LEN(Etapes[[#This Row],[Planned]])=0,\"\",IF(AND($C25=\"MER\",BH$6=$F25,$G25=1),1,IF(AND($C25=\"MEP\",BH$6=$F25,$G25=1),2,IF(AND(BH$6=$F25,$G25=1),0,\"\")))),\"\")","v":""},{"$f":"IFERROR(IF(LEN(Etapes[[#This Row],[Planned]])=0,\"\",IF(AND($C25=\"MER\",BI$6=$F25,$G25=1),1,IF(AND($C25=\"MEP\",BI$6=$F25,$G25=1),2,IF(AND(BI$6=$F25,$G25=1),0,\"\")))),\"\")","v":""},{"$f":"IFERROR(IF(LEN(Etapes[[#This Row],[Planned]])=0,\"\",IF(AND($C25=\"MER\",BJ$6=$F25,$G25=1),1,IF(AND($C25=\"MEP\",BJ$6=$F25,$G25=1),2,IF(AND(BJ$6=$F25,$G25=1),0,\"\")))),\"\")","v":""},{"$f":"IFERROR(IF(LEN(Etapes[[#This Row],[Planned]])=0,\"\",IF(AND($C25=\"MER\",BK$6=$F25,$G25=1),1,IF(AND($C25=\"MEP\",BK$6=$F25,$G25=1),2,IF(AND(BK$6=$F25,$G25=1),0,\"\")))),\"\")","v":""},{"$f":"IFERROR(IF(LEN(Etapes[[#This Row],[Planned]])=0,\"\",IF(AND($C25=\"MER\",BL$6=$F25,$G25=1),1,IF(AND($C25=\"MEP\",BL$6=$F25,$G25=1),2,IF(AND(BL$6=$F25,$G25=1),0,\"\")))),\"\")","v":""},{"$f":"IFERROR(IF(LEN(Etapes[[#This Row],[Planned]])=0,\"\",IF(AND($C25=\"MER\",BM$6=$F25,$G25=1),1,IF(AND($C25=\"MEP\",BM$6=$F25,$G25=1),2,IF(AND(BM$6=$F25,$G25=1),0,\"\")))),\"\")","v":""},{"$f":"IFERROR(IF(LEN(Etapes[[#This Row],[Planned]])=0,\"\",IF(AND($C25=\"MER\",BN$6=$F25,$G25=1),1,IF(AND($C25=\"MEP\",BN$6=$F25,$G25=1),2,IF(AND(BN$6=$F25,$G25=1),0,\"\")))),\"\")","v":""},{"$f":"IFERROR(IF(LEN(Etapes[[#This Row],[Planned]])=0,\"\",IF(AND($C25=\"MER\",BO$6=$F25,$G25=1),1,IF(AND($C25=\"MEP\",BO$6=$F25,$G25=1),2,IF(AND(BO$6=$F25,$G25=1),0,\"\")))),\"\")","v":""},{"$f":"IFERROR(IF(LEN(Etapes[[#This Row],[Add]])=0,\"\",IF(AND($C25=\"MER\",BP$6=$F25,$G25=1),1,IF(AND($C25=\"MEP\",BP$6=$F25,$G25=1),2,IF(AND(BP$6=$F25,$G25=1),0,\"\")))),\"\")","v":""},{"$f":"IFERROR(IF(LEN(Etapes[[#This Row],[End]])=0,\"\",IF(AND($C25=\"MER\",BQ$6=$F25,$G25=1),1,IF(AND($C25=\"MEP\",BQ$6=$F25,$G25=1),2,IF(AND(BQ$6=$F25,$G25=1),0,\"\")))),\"\")","v":""},{"$f":"IFERROR(IF(LEN(Etapes[[#This Row],[Réalisé]])=0,\"\",IF(AND($C25=\"MER\",BR$6=$F25,$G25=1),1,IF(AND($C25=\"MEP\",BR$6=$F25,$G25=1),2,IF(AND(BR$6=$F25,$G25=1),0,\"\")))),\"\")","v":""},{"$f":"IFERROR(IF(LEN(Etapes[[#This Row],[Activité]])=0,\"\",IF(AND($C25=\"MER\",BS$6=$F25,$G25=1),1,IF(AND($C25=\"MEP\",BS$6=$F25,$G25=1),2,IF(AND(BS$6=$F25,$G25=1),0,\"\")))),\"\")","v":""},{"$f":"IFERROR(IF(LEN(Etapes[[#This Row],[Statut]])=0,\"\",IF(AND($C25=\"MER\",BT$6=$F25,$G25=1),1,IF(AND($C25=\"MEP\",BT$6=$F25,$G25=1),2,IF(AND(BT$6=$F25,$G25=1),0,\"\")))),\"\")","v":""},{"$f":"IFERROR(IF(LEN(Etapes[[#This Row],[Progress]])=0,\"\",IF(AND($C25=\"MER\",BU$6=$F25,$G25=1),1,IF(AND($C25=\"MEP\",BU$6=$F25,$G25=1),2,IF(AND(BU$6=$F25,$G25=1),0,\"\")))),\"\")","v":""},{"$f":"IFERROR(IF(LEN(Etapes[[#This Row],[Start]])=0,\"\",IF(AND($C25=\"MER\",BV$6=$F25,$G25=1),1,IF(AND($C25=\"MEP\",BV$6=$F25,$G25=1),2,IF(AND(BV$6=$F25,$G25=1),0,\"\")))),\"\")","v":""},{"$f":"IFERROR(IF(LEN(Etapes[[#This Row],[Planned]])=0,\"\",IF(AND($C25=\"MER\",BW$6=$F25,$G25=1),1,IF(AND($C25=\"MEP\",BW$6=$F25,$G25=1),2,IF(AND(BW$6=$F25,$G25=1),0,\"\")))),\"\")","v":""},{"$f":"IFERROR(IF(LEN(Etapes[[#This Row],[Add]])=0,\"\",IF(AND($C25=\"MER\",BX$6=$F25,$G25=1),1,IF(AND($C25=\"MEP\",BX$6=$F25,$G25=1),2,IF(AND(BX$6=$F25,$G25=1),0,\"\")))),\"\")","v":""},{"$f":"IFERROR(IF(LEN(Etapes[[#This Row],[End]])=0,\"\",IF(AND($C25=\"MER\",BY$6=$F25,$G25=1),1,IF(AND($C25=\"MEP\",BY$6=$F25,$G25=1),2,IF(AND(BY$6=$F25,$G25=1),0,\"\")))),\"\")","v":""},{"$f":"IFERROR(IF(LEN(Etapes[[#This Row],[Réalisé]])=0,\"\",IF(AND($C25=\"MER\",BZ$6=$F25,$G25=1),1,IF(AND($C25=\"MEP\",BZ$6=$F25,$G25=1),2,IF(AND(BZ$6=$F25,$G25=1),0,\"\")))),\"\")","v":""},{"$f":"IFERROR(IF(LEN(Etapes[[#This Row],[Activité]])=0,\"\",IF(AND($C25=\"MER\",CA$6=$F25,$G25=1),1,IF(AND($C25=\"MEP\",CA$6=$F25,$G25=1),2,IF(AND(CA$6=$F25,$G25=1),0,\"\")))),\"\")","v":""},{"$f":"IFERROR(IF(LEN(Etapes[[#This Row],[Statut]])=0,\"\",IF(AND($C25=\"MER\",CB$6=$F25,$G25=1),1,IF(AND($C25=\"MEP\",CB$6=$F25,$G25=1),2,IF(AND(CB$6=$F25,$G25=1),0,\"\")))),\"\")","v":""},{"$f":"IFERROR(IF(LEN(Etapes[[#This Row],[Progress]])=0,\"\",IF(AND($C25=\"MER\",CC$6=$F25,$G25=1),1,IF(AND($C25=\"MEP\",CC$6=$F25,$G25=1),2,IF(AND(CC$6=$F25,$G25=1),0,\"\")))),\"\")","v":""},{"$f":"IFERROR(IF(LEN(Etapes[[#This Row],[Start]])=0,\"\",IF(AND($C25=\"MER\",CD$6=$F25,$G25=1),1,IF(AND($C25=\"MEP\",CD$6=$F25,$G25=1),2,IF(AND(CD$6=$F25,$G25=1),0,\"\")))),\"\")","v":""},{"$f":"IFERROR(IF(LEN(Etapes[[#This Row],[Planned]])=0,\"\",IF(AND($C25=\"MER\",CE$6=$F25,$G25=1),1,IF(AND($C25=\"MEP\",CE$6=$F25,$G25=1),2,IF(AND(CE$6=$F25,$G25=1),0,\"\")))),\"\")","v":""},{"$f":"IFERROR(IF(LEN(Etapes[[#This Row],[Add]])=0,\"\",IF(AND($C25=\"MER\",CF$6=$F25,$G25=1),1,IF(AND($C25=\"MEP\",CF$6=$F25,$G25=1),2,IF(AND(CF$6=$F25,$G25=1),0,\"\")))),\"\")","v":""},{"$f":"IFERROR(IF(LEN(Etapes[[#This Row],[End]])=0,\"\",IF(AND($C25=\"MER\",CG$6=$F25,$G25=1),1,IF(AND($C25=\"MEP\",CG$6=$F25,$G25=1),2,IF(AND(CG$6=$F25,$G25=1),0,\"\")))),\"\")","v":""},{"$f":"IFERROR(IF(LEN(Etapes[[#This Row],[Réalisé]])=0,\"\",IF(AND($C25=\"MER\",CH$6=$F25,$G25=1),1,IF(AND($C25=\"MEP\",CH$6=$F25,$G25=1),2,IF(AND(CH$6=$F25,$G25=1),0,\"\")))),\"\")","v":""},{"$f":"IFERROR(IF(LEN(Etapes[[#This Row],[Activité]])=0,\"\",IF(AND($C25=\"MER\",CI$6=$F25,$G25=1),1,IF(AND($C25=\"MEP\",CI$6=$F25,$G25=1),2,IF(AND(CI$6=$F25,$G25=1),0,\"\")))),\"\")","v":""},{"$f":"IFERROR(IF(LEN(Etapes[[#This Row],[Statut]])=0,\"\",IF(AND($C25=\"MER\",CJ$6=$F25,$G25=1),1,IF(AND($C25=\"MEP\",CJ$6=$F25,$G25=1),2,IF(AND(CJ$6=$F25,$G25=1),0,\"\")))),\"\")","v":""},{"$f":"IFERROR(IF(LEN(Etapes[[#This Row],[Progress]])=0,\"\",IF(AND($C25=\"MER\",CK$6=$F25,$G25=1),1,IF(AND($C25=\"MEP\",CK$6=$F25,$G25=1),2,IF(AND(CK$6=$F25,$G25=1),0,\"\")))),\"\")","v":""},{"$f":"IFERROR(IF(LEN(Etapes[[#This Row],[Start]])=0,\"\",IF(AND($C25=\"MER\",CL$6=$F25,$G25=1),1,IF(AND($C25=\"MEP\",CL$6=$F25,$G25=1),2,IF(AND(CL$6=$F25,$G25=1),0,\"\")))),\"\")","v":""},{"$f":"IFERROR(IF(LEN(Etapes[[#This Row],[Planned]])=0,\"\",IF(AND($C25=\"MER\",CM$6=$F25,$G25=1),1,IF(AND($C25=\"MEP\",CM$6=$F25,$G25=1),2,IF(AND(CM$6=$F25,$G25=1),0,\"\")))),\"\")","v":""},{"$f":"IFERROR(IF(LEN(Etapes[[#This Row],[Add]])=0,\"\",IF(AND($C25=\"MER\",CN$6=$F25,$G25=1),1,IF(AND($C25=\"MEP\",CN$6=$F25,$G25=1),2,IF(AND(CN$6=$F25,$G25=1),0,\"\")))),\"\")","v":""},{"$f":"IFERROR(IF(LEN(Etapes[[#This Row],[End]])=0,\"\",IF(AND($C25=\"MER\",CO$6=$F25,$G25=1),1,IF(AND($C25=\"MEP\",CO$6=$F25,$G25=1),2,IF(AND(CO$6=$F25,$G25=1),0,\"\")))),\"\")","v":""},{"$f":"IFERROR(IF(LEN(Etapes[[#This Row],[Réalisé]])=0,\"\",IF(AND($C25=\"MER\",CP$6=$F25,$G25=1),1,IF(AND($C25=\"MEP\",CP$6=$F25,$G25=1),2,IF(AND(CP$6=$F25,$G25=1),0,\"\")))),\"\")","v":""},{"$f":"IFERROR(IF(LEN(Etapes[[#This Row],[Activité]])=0,\"\",IF(AND($C25=\"MER\",CQ$6=$F25,$G25=1),1,IF(AND($C25=\"MEP\",CQ$6=$F25,$G25=1),2,IF(AND(CQ$6=$F25,$G25=1),0,\"\")))),\"\")","v":""},{"$f":"IFERROR(IF(LEN(Etapes[[#This Row],[Statut]])=0,\"\",IF(AND($C25=\"MER\",CR$6=$F25,$G25=1),1,IF(AND($C25=\"MEP\",CR$6=$F25,$G25=1),2,IF(AND(CR$6=$F25,$G25=1),0,\"\")))),\"\")","v":""},{"$f":"IFERROR(IF(LEN(Etapes[[#This Row],[Progress]])=0,\"\",IF(AND($C25=\"MER\",CS$6=$F25,$G25=1),1,IF(AND($C25=\"MEP\",CS$6=$F25,$G25=1),2,IF(AND(CS$6=$F25,$G25=1),0,\"\")))),\"\")","v":""},{"$f":"IFERROR(IF(LEN(Etapes[[#This Row],[Start]])=0,\"\",IF(AND($C25=\"MER\",CT$6=$F25,$G25=1),1,IF(AND($C25=\"MEP\",CT$6=$F25,$G25=1),2,IF(AND(CT$6=$F25,$G25=1),0,\"\")))),\"\")","v":""},{"$f":"IFERROR(IF(LEN(Etapes[[#This Row],[Planned]])=0,\"\",IF(AND($C25=\"MER\",CU$6=$F25,$G25=1),1,IF(AND($C25=\"MEP\",CU$6=$F25,$G25=1),2,IF(AND(CU$6=$F25,$G25=1),0,\"\")))),\"\")","v":""},{"$f":"IFERROR(IF(LEN(Etapes[[#This Row],[Add]])=0,\"\",IF(AND($C25=\"MER\",CV$6=$F25,$G25=1),1,IF(AND($C25=\"MEP\",CV$6=$F25,$G25=1),2,IF(AND(CV$6=$F25,$G25=1),0,\"\")))),\"\")","v":""},{"$f":"IFERROR(IF(LEN(Etapes[[#This Row],[End]])=0,\"\",IF(AND($C25=\"MER\",CW$6=$F25,$G25=1),1,IF(AND($C25=\"MEP\",CW$6=$F25,$G25=1),2,IF(AND(CW$6=$F25,$G25=1),0,\"\")))),\"\")","v":""}]
["4.1","Instruction ","Launched",{"$f":"Settings!B47","v":"NAN"},0.1,"2022-08-03",null,null,{"$f":"IF(Etapes[[#This Row],[Start]]<>\"\",WORKDAY(Etapes[[#This Row],[Start]],IF(WEEKDAY(Etapes[[#This Row],[Start]],1)>=6,Etapes[[#This Row],[Planned]]+Etapes[[#This Row],[Add]],Etapes[[#This Row],[Planned]]+Etapes[[#This Row],[Add]]-1),Férié),\"\")","v":"2022-08-02"},{"$f":"IF(Etapes[[#This Row],[Start]]<>\"\",WORKDAY(Etapes[[#This Row],[Start]],IF(WEEKDAY(Etapes[[#This Row],[Start]],1)>=6,Etapes[[#This Row],[Progress]]*Etapes[[#This Row],[Planned]]+Etapes[[#This Row],[Add]],(Etapes[[#This Row],[Progress]]*Etapes[[#This Row],[Planned]]+Etapes[[#This Row],[Add]])-1),Férié),\"\")","v":"2022-08-02"},null,{"$f":"IFERROR(IF(LEN(Etapes[[#This Row],[Planned]])=0,\"\",IF(AND($C26=\"MER\",L$6=$F26,$G26=1),1,IF(AND($C26=\"MEP\",L$6=$F26,$G26=1),2,IF(AND(L$6=$F26,$G26=1),0,\"\")))),\"\")","v":""},{"$f":"IFERROR(IF(LEN(Etapes[[#This Row],[Planned]])=0,\"\",IF(AND($C26=\"MER\",M$6=$F26,$G26=1),1,IF(AND($C26=\"MEP\",M$6=$F26,$G26=1),2,IF(AND(M$6=$F26,$G26=1),0,\"\")))),\"\")","v":""},{"$f":"IFERROR(IF(LEN(Etapes[[#This Row],[Planned]])=0,\"\",IF(AND($C26=\"MER\",N$6=$F26,$G26=1),1,IF(AND($C26=\"MEP\",N$6=$F26,$G26=1),2,IF(AND(N$6=$F26,$G26=1),0,\"\")))),\"\")","v":""},{"$f":"IFERROR(IF(LEN(Etapes[[#This Row],[Planned]])=0,\"\",IF(AND($C26=\"MER\",O$6=$F26,$G26=1),1,IF(AND($C26=\"MEP\",O$6=$F26,$G26=1),2,IF(AND(O$6=$F26,$G26=1),0,\"\")))),\"\")","v":""},{"$f":"IFERROR(IF(LEN(Etapes[[#This Row],[Planned]])=0,\"\",IF(AND($C26=\"MER\",P$6=$F26,$G26=1),1,IF(AND($C26=\"MEP\",P$6=$F26,$G26=1),2,IF(AND(P$6=$F26,$G26=1),0,\"\")))),\"\")","v":""},{"$f":"IFERROR(IF(LEN(Etapes[[#This Row],[Planned]])=0,\"\",IF(AND($C26=\"MER\",Q$6=$F26,$G26=1),1,IF(AND($C26=\"MEP\",Q$6=$F26,$G26=1),2,IF(AND(Q$6=$F26,$G26=1),0,\"\")))),\"\")","v":""},{"$f":"IFERROR(IF(LEN(Etapes[[#This Row],[Planned]])=0,\"\",IF(AND($C26=\"MER\",R$6=$F26,$G26=1),1,IF(AND($C26=\"MEP\",R$6=$F26,$G26=1),2,IF(AND(R$6=$F26,$G26=1),0,\"\")))),\"\")","v":""},{"$f":"IFERROR(IF(LEN(Etapes[[#This Row],[Planned]])=0,\"\",IF(AND($C26=\"MER\",S$6=$F26,$G26=1),1,IF(AND($C26=\"MEP\",S$6=$F26,$G26=1),2,IF(AND(S$6=$F26,$G26=1),0,\"\")))),\"\")","v":""},{"$f":"IFERROR(IF(LEN(Etapes[[#This Row],[Planned]])=0,\"\",IF(AND($C26=\"MER\",T$6=$F26,$G26=1),1,IF(AND($C26=\"MEP\",T$6=$F26,$G26=1),2,IF(AND(T$6=$F26,$G26=1),0,\"\")))),\"\")","v":""},{"$f":"IFERROR(IF(LEN(Etapes[[#This Row],[Planned]])=0,\"\",IF(AND($C26=\"MER\",U$6=$F26,$G26=1),1,IF(AND($C26=\"MEP\",U$6=$F26,$G26=1),2,IF(AND(U$6=$F26,$G26=1),0,\"\")))),\"\")","v":""},{"$f":"IFERROR(IF(LEN(Etapes[[#This Row],[Planned]])=0,\"\",IF(AND($C26=\"MER\",V$6=$F26,$G26=1),1,IF(AND($C26=\"MEP\",V$6=$F26,$G26=1),2,IF(AND(V$6=$F26,$G26=1),0,\"\")))),\"\")","v":""},{"$f":"IFERROR(IF(LEN(Etapes[[#This Row],[Planned]])=0,\"\",IF(AND($C26=\"MER\",W$6=$F26,$G26=1),1,IF(AND($C26=\"MEP\",W$6=$F26,$G26=1),2,IF(AND(W$6=$F26,$G26=1),0,\"\")))),\"\")","v":""},{"$f":"IFERROR(IF(LEN(Etapes[[#This Row],[Planned]])=0,\"\",IF(AND($C26=\"MER\",X$6=$F26,$G26=1),1,IF(AND($C26=\"MEP\",X$6=$F26,$G26=1),2,IF(AND(X$6=$F26,$G26=1),0,\"\")))),\"\")","v":""},{"$f":"IFERROR(IF(LEN(Etapes[[#This Row],[Planned]])=0,\"\",IF(AND($C26=\"MER\",Y$6=$F26,$G26=1),1,IF(AND($C26=\"MEP\",Y$6=$F26,$G26=1),2,IF(AND(Y$6=$F26,$G26=1),0,\"\")))),\"\")","v":""},{"$f":"IFERROR(IF(LEN(Etapes[[#This Row],[Planned]])=0,\"\",IF(AND($C26=\"MER\",Z$6=$F26,$G26=1),1,IF(AND($C26=\"MEP\",Z$6=$F26,$G26=1),2,IF(AND(Z$6=$F26,$G26=1),0,\"\")))),\"\")","v":""},{"$f":"IFERROR(IF(LEN(Etapes[[#This Row],[Planned]])=0,\"\",IF(AND($C26=\"MER\",AA$6=$F26,$G26=1),1,IF(AND($C26=\"MEP\",AA$6=$F26,$G26=1),2,IF(AND(AA$6=$F26,$G26=1),0,\"\")))),\"\")","v":""},{"$f":"IFERROR(IF(LEN(Etapes[[#This Row],[Planned]])=0,\"\",IF(AND($C26=\"MER\",AB$6=$F26,$G26=1),1,IF(AND($C26=\"MEP\",AB$6=$F26,$G26=1),2,IF(AND(AB$6=$F26,$G26=1),0,\"\")))),\"\")","v":""},{"$f":"IFERROR(IF(LEN(Etapes[[#This Row],[Planned]])=0,\"\",IF(AND($C26=\"MER\",AC$6=$F26,$G26=1),1,IF(AND($C26=\"MEP\",AC$6=$F26,$G26=1),2,IF(AND(AC$6=$F26,$G26=1),0,\"\")))),\"\")","v":""},{"$f":"IFERROR(IF(LEN(Etapes[[#This Row],[Planned]])=0,\"\",IF(AND($C26=\"MER\",AD$6=$F26,$G26=1),1,IF(AND($C26=\"MEP\",AD$6=$F26,$G26=1),2,IF(AND(AD$6=$F26,$G26=1),0,\"\")))),\"\")","v":""},{"$f":"IFERROR(IF(LEN(Etapes[[#This Row],[Planned]])=0,\"\",IF(AND($C26=\"MER\",AE$6=$F26,$G26=1),1,IF(AND($C26=\"MEP\",AE$6=$F26,$G26=1),2,IF(AND(AE$6=$F26,$G26=1),0,\"\")))),\"\")","v":""},{"$f":"IFERROR(IF(LEN(Etapes[[#This Row],[Planned]])=0,\"\",IF(AND($C26=\"MER\",AF$6=$F26,$G26=1),1,IF(AND($C26=\"MEP\",AF$6=$F26,$G26=1),2,IF(AND(AF$6=$F26,$G26=1),0,\"\")))),\"\")","v":""},{"$f":"IFERROR(IF(LEN(Etapes[[#This Row],[Planned]])=0,\"\",IF(AND($C26=\"MER\",AG$6=$F26,$G26=1),1,IF(AND($C26=\"MEP\",AG$6=$F26,$G26=1),2,IF(AND(AG$6=$F26,$G26=1),0,\"\")))),\"\")","v":""},{"$f":"IFERROR(IF(LEN(Etapes[[#This Row],[Planned]])=0,\"\",IF(AND($C26=\"MER\",AH$6=$F26,$G26=1),1,IF(AND($C26=\"MEP\",AH$6=$F26,$G26=1),2,IF(AND(AH$6=$F26,$G26=1),0,\"\")))),\"\")","v":""},{"$f":"IFERROR(IF(LEN(Etapes[[#This Row],[Planned]])=0,\"\",IF(AND($C26=\"MER\",AI$6=$F26,$G26=1),1,IF(AND($C26=\"MEP\",AI$6=$F26,$G26=1),2,IF(AND(AI$6=$F26,$G26=1),0,\"\")))),\"\")","v":""},{"$f":"IFERROR(IF(LEN(Etapes[[#This Row],[Planned]])=0,\"\",IF(AND($C26=\"MER\",AJ$6=$F26,$G26=1),1,IF(AND($C26=\"MEP\",AJ$6=$F26,$G26=1),2,IF(AND(AJ$6=$F26,$G26=1),0,\"\")))),\"\")","v":""},{"$f":"IFERROR(IF(LEN(Etapes[[#This Row],[Planned]])=0,\"\",IF(AND($C26=\"MER\",AK$6=$F26,$G26=1),1,IF(AND($C26=\"MEP\",AK$6=$F26,$G26=1),2,IF(AND(AK$6=$F26,$G26=1),0,\"\")))),\"\")","v":""},{"$f":"IFERROR(IF(LEN(Etapes[[#This Row],[Planned]])=0,\"\",IF(AND($C26=\"MER\",AL$6=$F26,$G26=1),1,IF(AND($C26=\"MEP\",AL$6=$F26,$G26=1),2,IF(AND(AL$6=$F26,$G26=1),0,\"\")))),\"\")","v":""},{"$f":"IFERROR(IF(LEN(Etapes[[#This Row],[Planned]])=0,\"\",IF(AND($C26=\"MER\",AM$6=$F26,$G26=1),1,IF(AND($C26=\"MEP\",AM$6=$F26,$G26=1),2,IF(AND(AM$6=$F26,$G26=1),0,\"\")))),\"\")","v":""},{"$f":"IFERROR(IF(LEN(Etapes[[#This Row],[Planned]])=0,\"\",IF(AND($C26=\"MER\",AN$6=$F26,$G26=1),1,IF(AND($C26=\"MEP\",AN$6=$F26,$G26=1),2,IF(AND(AN$6=$F26,$G26=1),0,\"\")))),\"\")","v":""},{"$f":"IFERROR(IF(LEN(Etapes[[#This Row],[Planned]])=0,\"\",IF(AND($C26=\"MER\",AO$6=$F26,$G26=1),1,IF(AND($C26=\"MEP\",AO$6=$F26,$G26=1),2,IF(AND(AO$6=$F26,$G26=1),0,\"\")))),\"\")","v":""},{"$f":"IFERROR(IF(LEN(Etapes[[#This Row],[Planned]])=0,\"\",IF(AND($C26=\"MER\",AP$6=$F26,$G26=1),1,IF(AND($C26=\"MEP\",AP$6=$F26,$G26=1),2,IF(AND(AP$6=$F26,$G26=1),0,\"\")))),\"\")","v":""},{"$f":"IFERROR(IF(LEN(Etapes[[#This Row],[Planned]])=0,\"\",IF(AND($C26=\"MER\",AQ$6=$F26,$G26=1),1,IF(AND($C26=\"MEP\",AQ$6=$F26,$G26=1),2,IF(AND(AQ$6=$F26,$G26=1),0,\"\")))),\"\")","v":""},{"$f":"IFERROR(IF(LEN(Etapes[[#This Row],[Planned]])=0,\"\",IF(AND($C26=\"MER\",AR$6=$F26,$G26=1),1,IF(AND($C26=\"MEP\",AR$6=$F26,$G26=1),2,IF(AND(AR$6=$F26,$G26=1),0,\"\")))),\"\")","v":""},{"$f":"IFERROR(IF(LEN(Etapes[[#This Row],[Planned]])=0,\"\",IF(AND($C26=\"MER\",AS$6=$F26,$G26=1),1,IF(AND($C26=\"MEP\",AS$6=$F26,$G26=1),2,IF(AND(AS$6=$F26,$G26=1),0,\"\")))),\"\")","v":""},{"$f":"IFERROR(IF(LEN(Etapes[[#This Row],[Planned]])=0,\"\",IF(AND($C26=\"MER\",AT$6=$F26,$G26=1),1,IF(AND($C26=\"MEP\",AT$6=$F26,$G26=1),2,IF(AND(AT$6=$F26,$G26=1),0,\"\")))),\"\")","v":""},{"$f":"IFERROR(IF(LEN(Etapes[[#This Row],[Planned]])=0,\"\",IF(AND($C26=\"MER\",AU$6=$F26,$G26=1),1,IF(AND($C26=\"MEP\",AU$6=$F26,$G26=1),2,IF(AND(AU$6=$F26,$G26=1),0,\"\")))),\"\")","v":""},{"$f":"IFERROR(IF(LEN(Etapes[[#This Row],[Planned]])=0,\"\",IF(AND($C26=\"MER\",AV$6=$F26,$G26=1),1,IF(AND($C26=\"MEP\",AV$6=$F26,$G26=1),2,IF(AND(AV$6=$F26,$G26=1),0,\"\")))),\"\")","v":""},{"$f":"IFERROR(IF(LEN(Etapes[[#This Row],[Planned]])=0,\"\",IF(AND($C26=\"MER\",AW$6=$F26,$G26=1),1,IF(AND($C26=\"MEP\",AW$6=$F26,$G26=1),2,IF(AND(AW$6=$F26,$G26=1),0,\"\")))),\"\")","v":""},{"$f":"IFERROR(IF(LEN(Etapes[[#This Row],[Planned]])=0,\"\",IF(AND($C26=\"MER\",AX$6=$F26,$G26=1),1,IF(AND($C26=\"MEP\",AX$6=$F26,$G26=1),2,IF(AND(AX$6=$F26,$G26=1),0,\"\")))),\"\")","v":""},{"$f":"IFERROR(IF(LEN(Etapes[[#This Row],[Planned]])=0,\"\",IF(AND($C26=\"MER\",AY$6=$F26,$G26=1),1,IF(AND($C26=\"MEP\",AY$6=$F26,$G26=1),2,IF(AND(AY$6=$F26,$G26=1),0,\"\")))),\"\")","v":""},{"$f":"IFERROR(IF(LEN(Etapes[[#This Row],[Planned]])=0,\"\",IF(AND($C26=\"MER\",AZ$6=$F26,$G26=1),1,IF(AND($C26=\"MEP\",AZ$6=$F26,$G26=1),2,IF(AND(AZ$6=$F26,$G26=1),0,\"\")))),\"\")","v":""},{"$f":"IFERROR(IF(LEN(Etapes[[#This Row],[Planned]])=0,\"\",IF(AND($C26=\"MER\",BA$6=$F26,$G26=1),1,IF(AND($C26=\"MEP\",BA$6=$F26,$G26=1),2,IF(AND(BA$6=$F26,$G26=1),0,\"\")))),\"\")","v":""},{"$f":"IFERROR(IF(LEN(Etapes[[#This Row],[Planned]])=0,\"\",IF(AND($C26=\"MER\",BB$6=$F26,$G26=1),1,IF(AND($C26=\"MEP\",BB$6=$F26,$G26=1),2,IF(AND(BB$6=$F26,$G26=1),0,\"\")))),\"\")","v":""},{"$f":"IFERROR(IF(LEN(Etapes[[#This Row],[Planned]])=0,\"\",IF(AND($C26=\"MER\",BC$6=$F26,$G26=1),1,IF(AND($C26=\"MEP\",BC$6=$F26,$G26=1),2,IF(AND(BC$6=$F26,$G26=1),0,\"\")))),\"\")","v":""},{"$f":"IFERROR(IF(LEN(Etapes[[#This Row],[Planned]])=0,\"\",IF(AND($C26=\"MER\",BD$6=$F26,$G26=1),1,IF(AND($C26=\"MEP\",BD$6=$F26,$G26=1),2,IF(AND(BD$6=$F26,$G26=1),0,\"\")))),\"\")","v":""},{"$f":"IFERROR(IF(LEN(Etapes[[#This Row],[Planned]])=0,\"\",IF(AND($C26=\"MER\",BE$6=$F26,$G26=1),1,IF(AND($C26=\"MEP\",BE$6=$F26,$G26=1),2,IF(AND(BE$6=$F26,$G26=1),0,\"\")))),\"\")","v":""},{"$f":"IFERROR(IF(LEN(Etapes[[#This Row],[Planned]])=0,\"\",IF(AND($C26=\"MER\",BF$6=$F26,$G26=1),1,IF(AND($C26=\"MEP\",BF$6=$F26,$G26=1),2,IF(AND(BF$6=$F26,$G26=1),0,\"\")))),\"\")","v":""},{"$f":"IFERROR(IF(LEN(Etapes[[#This Row],[Planned]])=0,\"\",IF(AND($C26=\"MER\",BG$6=$F26,$G26=1),1,IF(AND($C26=\"MEP\",BG$6=$F26,$G26=1),2,IF(AND(BG$6=$F26,$G26=1),0,\"\")))),\"\")","v":""},{"$f":"IFERROR(IF(LEN(Etapes[[#This Row],[Planned]])=0,\"\",IF(AND($C26=\"MER\",BH$6=$F26,$G26=1),1,IF(AND($C26=\"MEP\",BH$6=$F26,$G26=1),2,IF(AND(BH$6=$F26,$G26=1),0,\"\")))),\"\")","v":""},{"$f":"IFERROR(IF(LEN(Etapes[[#This Row],[Planned]])=0,\"\",IF(AND($C26=\"MER\",BI$6=$F26,$G26=1),1,IF(AND($C26=\"MEP\",BI$6=$F26,$G26=1),2,IF(AND(BI$6=$F26,$G26=1),0,\"\")))),\"\")","v":""},{"$f":"IFERROR(IF(LEN(Etapes[[#This Row],[Planned]])=0,\"\",IF(AND($C26=\"MER\",BJ$6=$F26,$G26=1),1,IF(AND($C26=\"MEP\",BJ$6=$F26,$G26=1),2,IF(AND(BJ$6=$F26,$G26=1),0,\"\")))),\"\")","v":""},{"$f":"IFERROR(IF(LEN(Etapes[[#This Row],[Planned]])=0,\"\",IF(AND($C26=\"MER\",BK$6=$F26,$G26=1),1,IF(AND($C26=\"MEP\",BK$6=$F26,$G26=1),2,IF(AND(BK$6=$F26,$G26=1),0,\"\")))),\"\")","v":""},{"$f":"IFERROR(IF(LEN(Etapes[[#This Row],[Planned]])=0,\"\",IF(AND($C26=\"MER\",BL$6=$F26,$G26=1),1,IF(AND($C26=\"MEP\",BL$6=$F26,$G26=1),2,IF(AND(BL$6=$F26,$G26=1),0,\"\")))),\"\")","v":""},{"$f":"IFERROR(IF(LEN(Etapes[[#This Row],[Planned]])=0,\"\",IF(AND($C26=\"MER\",BM$6=$F26,$G26=1),1,IF(AND($C26=\"MEP\",BM$6=$F26,$G26=1),2,IF(AND(BM$6=$F26,$G26=1),0,\"\")))),\"\")","v":""},{"$f":"IFERROR(IF(LEN(Etapes[[#This Row],[Planned]])=0,\"\",IF(AND($C26=\"MER\",BN$6=$F26,$G26=1),1,IF(AND($C26=\"MEP\",BN$6=$F26,$G26=1),2,IF(AND(BN$6=$F26,$G26=1),0,\"\")))),\"\")","v":""},{"$f":"IFERROR(IF(LEN(Etapes[[#This Row],[Planned]])=0,\"\",IF(AND($C26=\"MER\",BO$6=$F26,$G26=1),1,IF(AND($C26=\"MEP\",BO$6=$F26,$G26=1),2,IF(AND(BO$6=$F26,$G26=1),0,\"\")))),\"\")","v":""},{"$f":"IFERROR(IF(LEN(Etapes[[#This Row],[Add]])=0,\"\",IF(AND($C26=\"MER\",BP$6=$F26,$G26=1),1,IF(AND($C26=\"MEP\",BP$6=$F26,$G26=1),2,IF(AND(BP$6=$F26,$G26=1),0,\"\")))),\"\")","v":""},{"$f":"IFERROR(IF(LEN(Etapes[[#This Row],[End]])=0,\"\",IF(AND($C26=\"MER\",BQ$6=$F26,$G26=1),1,IF(AND($C26=\"MEP\",BQ$6=$F26,$G26=1),2,IF(AND(BQ$6=$F26,$G26=1),0,\"\")))),\"\")","v":""},{"$f":"IFERROR(IF(LEN(Etapes[[#This Row],[Réalisé]])=0,\"\",IF(AND($C26=\"MER\",BR$6=$F26,$G26=1),1,IF(AND($C26=\"MEP\",BR$6=$F26,$G26=1),2,IF(AND(BR$6=$F26,$G26=1),0,\"\")))),\"\")","v":""},{"$f":"IFERROR(IF(LEN(Etapes[[#This Row],[Activité]])=0,\"\",IF(AND($C26=\"MER\",BS$6=$F26,$G26=1),1,IF(AND($C26=\"MEP\",BS$6=$F26,$G26=1),2,IF(AND(BS$6=$F26,$G26=1),0,\"\")))),\"\")","v":""},{"$f":"IFERROR(IF(LEN(Etapes[[#This Row],[Statut]])=0,\"\",IF(AND($C26=\"MER\",BT$6=$F26,$G26=1),1,IF(AND($C26=\"MEP\",BT$6=$F26,$G26=1),2,IF(AND(BT$6=$F26,$G26=1),0,\"\")))),\"\")","v":""},{"$f":"IFERROR(IF(LEN(Etapes[[#This Row],[Progress]])=0,\"\",IF(AND($C26=\"MER\",BU$6=$F26,$G26=1),1,IF(AND($C26=\"MEP\",BU$6=$F26,$G26=1),2,IF(AND(BU$6=$F26,$G26=1),0,\"\")))),\"\")","v":""},{"$f":"IFERROR(IF(LEN(Etapes[[#This Row],[Start]])=0,\"\",IF(AND($C26=\"MER\",BV$6=$F26,$G26=1),1,IF(AND($C26=\"MEP\",BV$6=$F26,$G26=1),2,IF(AND(BV$6=$F26,$G26=1),0,\"\")))),\"\")","v":""},{"$f":"IFERROR(IF(LEN(Etapes[[#This Row],[Planned]])=0,\"\",IF(AND($C26=\"MER\",BW$6=$F26,$G26=1),1,IF(AND($C26=\"MEP\",BW$6=$F26,$G26=1),2,IF(AND(BW$6=$F26,$G26=1),0,\"\")))),\"\")","v":""},{"$f":"IFERROR(IF(LEN(Etapes[[#This Row],[Add]])=0,\"\",IF(AND($C26=\"MER\",BX$6=$F26,$G26=1),1,IF(AND($C26=\"MEP\",BX$6=$F26,$G26=1),2,IF(AND(BX$6=$F26,$G26=1),0,\"\")))),\"\")","v":""},{"$f":"IFERROR(IF(LEN(Etapes[[#This Row],[End]])=0,\"\",IF(AND($C26=\"MER\",BY$6=$F26,$G26=1),1,IF(AND($C26=\"MEP\",BY$6=$F26,$G26=1),2,IF(AND(BY$6=$F26,$G26=1),0,\"\")))),\"\")","v":""},{"$f":"IFERROR(IF(LEN(Etapes[[#This Row],[Réalisé]])=0,\"\",IF(AND($C26=\"MER\",BZ$6=$F26,$G26=1),1,IF(AND($C26=\"MEP\",BZ$6=$F26,$G26=1),2,IF(AND(BZ$6=$F26,$G26=1),0,\"\")))),\"\")","v":""},{"$f":"IFERROR(IF(LEN(Etapes[[#This Row],[Activité]])=0,\"\",IF(AND($C26=\"MER\",CA$6=$F26,$G26=1),1,IF(AND($C26=\"MEP\",CA$6=$F26,$G26=1),2,IF(AND(CA$6=$F26,$G26=1),0,\"\")))),\"\")","v":""},{"$f":"IFERROR(IF(LEN(Etapes[[#This Row],[Statut]])=0,\"\",IF(AND($C26=\"MER\",CB$6=$F26,$G26=1),1,IF(AND($C26=\"MEP\",CB$6=$F26,$G26=1),2,IF(AND(CB$6=$F26,$G26=1),0,\"\")))),\"\")","v":""},{"$f":"IFERROR(IF(LEN(Etapes[[#This Row],[Progress]])=0,\"\",IF(AND($C26=\"MER\",CC$6=$F26,$G26=1),1,IF(AND($C26=\"MEP\",CC$6=$F26,$G26=1),2,IF(AND(CC$6=$F26,$G26=1),0,\"\")))),\"\")","v":""},{"$f":"IFERROR(IF(LEN(Etapes[[#This Row],[Start]])=0,\"\",IF(AND($C26=\"MER\",CD$6=$F26,$G26=1),1,IF(AND($C26=\"MEP\",CD$6=$F26,$G26=1),2,IF(AND(CD$6=$F26,$G26=1),0,\"\")))),\"\")","v":""},{"$f":"IFERROR(IF(LEN(Etapes[[#This Row],[Planned]])=0,\"\",IF(AND($C26=\"MER\",CE$6=$F26,$G26=1),1,IF(AND($C26=\"MEP\",CE$6=$F26,$G26=1),2,IF(AND(CE$6=$F26,$G26=1),0,\"\")))),\"\")","v":""},{"$f":"IFERROR(IF(LEN(Etapes[[#This Row],[Add]])=0,\"\",IF(AND($C26=\"MER\",CF$6=$F26,$G26=1),1,IF(AND($C26=\"MEP\",CF$6=$F26,$G26=1),2,IF(AND(CF$6=$F26,$G26=1),0,\"\")))),\"\")","v":""},{"$f":"IFERROR(IF(LEN(Etapes[[#This Row],[End]])=0,\"\",IF(AND($C26=\"MER\",CG$6=$F26,$G26=1),1,IF(AND($C26=\"MEP\",CG$6=$F26,$G26=1),2,IF(AND(CG$6=$F26,$G26=1),0,\"\")))),\"\")","v":""},{"$f":"IFERROR(IF(LEN(Etapes[[#This Row],[Réalisé]])=0,\"\",IF(AND($C26=\"MER\",CH$6=$F26,$G26=1),1,IF(AND($C26=\"MEP\",CH$6=$F26,$G26=1),2,IF(AND(CH$6=$F26,$G26=1),0,\"\")))),\"\")","v":""},{"$f":"IFERROR(IF(LEN(Etapes[[#This Row],[Activité]])=0,\"\",IF(AND($C26=\"MER\",CI$6=$F26,$G26=1),1,IF(AND($C26=\"MEP\",CI$6=$F26,$G26=1),2,IF(AND(CI$6=$F26,$G26=1),0,\"\")))),\"\")","v":""},{"$f":"IFERROR(IF(LEN(Etapes[[#This Row],[Statut]])=0,\"\",IF(AND($C26=\"MER\",CJ$6=$F26,$G26=1),1,IF(AND($C26=\"MEP\",CJ$6=$F26,$G26=1),2,IF(AND(CJ$6=$F26,$G26=1),0,\"\")))),\"\")","v":""},{"$f":"IFERROR(IF(LEN(Etapes[[#This Row],[Progress]])=0,\"\",IF(AND($C26=\"MER\",CK$6=$F26,$G26=1),1,IF(AND($C26=\"MEP\",CK$6=$F26,$G26=1),2,IF(AND(CK$6=$F26,$G26=1),0,\"\")))),\"\")","v":""},{"$f":"IFERROR(IF(LEN(Etapes[[#This Row],[Start]])=0,\"\",IF(AND($C26=\"MER\",CL$6=$F26,$G26=1),1,IF(AND($C26=\"MEP\",CL$6=$F26,$G26=1),2,IF(AND(CL$6=$F26,$G26=1),0,\"\")))),\"\")","v":""},{"$f":"IFERROR(IF(LEN(Etapes[[#This Row],[Planned]])=0,\"\",IF(AND($C26=\"MER\",CM$6=$F26,$G26=1),1,IF(AND($C26=\"MEP\",CM$6=$F26,$G26=1),2,IF(AND(CM$6=$F26,$G26=1),0,\"\")))),\"\")","v":""},{"$f":"IFERROR(IF(LEN(Etapes[[#This Row],[Add]])=0,\"\",IF(AND($C26=\"MER\",CN$6=$F26,$G26=1),1,IF(AND($C26=\"MEP\",CN$6=$F26,$G26=1),2,IF(AND(CN$6=$F26,$G26=1),0,\"\")))),\"\")","v":""},{"$f":"IFERROR(IF(LEN(Etapes[[#This Row],[End]])=0,\"\",IF(AND($C26=\"MER\",CO$6=$F26,$G26=1),1,IF(AND($C26=\"MEP\",CO$6=$F26,$G26=1),2,IF(AND(CO$6=$F26,$G26=1),0,\"\")))),\"\")","v":""},{"$f":"IFERROR(IF(LEN(Etapes[[#This Row],[Réalisé]])=0,\"\",IF(AND($C26=\"MER\",CP$6=$F26,$G26=1),1,IF(AND($C26=\"MEP\",CP$6=$F26,$G26=1),2,IF(AND(CP$6=$F26,$G26=1),0,\"\")))),\"\")","v":""},{"$f":"IFERROR(IF(LEN(Etapes[[#This Row],[Activité]])=0,\"\",IF(AND($C26=\"MER\",CQ$6=$F26,$G26=1),1,IF(AND($C26=\"MEP\",CQ$6=$F26,$G26=1),2,IF(AND(CQ$6=$F26,$G26=1),0,\"\")))),\"\")","v":""},{"$f":"IFERROR(IF(LEN(Etapes[[#This Row],[Statut]])=0,\"\",IF(AND($C26=\"MER\",CR$6=$F26,$G26=1),1,IF(AND($C26=\"MEP\",CR$6=$F26,$G26=1),2,IF(AND(CR$6=$F26,$G26=1),0,\"\")))),\"\")","v":""},{"$f":"IFERROR(IF(LEN(Etapes[[#This Row],[Progress]])=0,\"\",IF(AND($C26=\"MER\",CS$6=$F26,$G26=1),1,IF(AND($C26=\"MEP\",CS$6=$F26,$G26=1),2,IF(AND(CS$6=$F26,$G26=1),0,\"\")))),\"\")","v":""},{"$f":"IFERROR(IF(LEN(Etapes[[#This Row],[Start]])=0,\"\",IF(AND($C26=\"MER\",CT$6=$F26,$G26=1),1,IF(AND($C26=\"MEP\",CT$6=$F26,$G26=1),2,IF(AND(CT$6=$F26,$G26=1),0,\"\")))),\"\")","v":""},{"$f":"IFERROR(IF(LEN(Etapes[[#This Row],[Planned]])=0,\"\",IF(AND($C26=\"MER\",CU$6=$F26,$G26=1),1,IF(AND($C26=\"MEP\",CU$6=$F26,$G26=1),2,IF(AND(CU$6=$F26,$G26=1),0,\"\")))),\"\")","v":""},{"$f":"IFERROR(IF(LEN(Etapes[[#This Row],[Add]])=0,\"\",IF(AND($C26=\"MER\",CV$6=$F26,$G26=1),1,IF(AND($C26=\"MEP\",CV$6=$F26,$G26=1),2,IF(AND(CV$6=$F26,$G26=1),0,\"\")))),\"\")","v":""},{"$f":"IFERROR(IF(LEN(Etapes[[#This Row],[End]])=0,\"\",IF(AND($C26=\"MER\",CW$6=$F26,$G26=1),1,IF(AND($C26=\"MEP\",CW$6=$F26,$G26=1),2,IF(AND(CW$6=$F26,$G26=1),0,\"\")))),\"\")","v":""}]
["4.2","Conception",null,{"$f":"Settings!C47","v":"NAN"},null,"2022-08-03",null,null,{"$f":"IF(Etapes[[#This Row],[Start]]<>\"\",WORKDAY(Etapes[[#This Row],[Start]],IF(WEEKDAY(Etapes[[#This Row],[Start]],1)>=6,Etapes[[#This Row],[Planned]]+Etapes[[#This Row],[Add]],Etapes[[#This Row],[Planned]]+Etapes[[#This Row],[Add]]-1),Férié),\"\")","v":"2022-08-02"},{"$f":"IF(Etapes[[#This Row],[Start]]<>\"\",WORKDAY(Etapes[[#This Row],[Start]],IF(WEEKDAY(Etapes[[#This Row],[Start]],1)>=6,Etapes[[#This Row],[Progress]]*Etapes[[#This Row],[Planned]]+Etapes[[#This Row],[Add]],(Etapes[[#This Row],[Progress]]*Etapes[[#This Row],[Planned]]+Etapes[[#This Row],[Add]])-1),Férié),\"\")","v":"2022-08-02"},null,{"$f":"IFERROR(IF(LEN(Etapes[[#This Row],[Planned]])=0,\"\",IF(AND($C27=\"MER\",L$6=$F27,$G27=1),1,IF(AND($C27=\"MEP\",L$6=$F27,$G27=1),2,IF(AND(L$6=$F27,$G27=1),0,\"\")))),\"\")","v":""},{"$f":"IFERROR(IF(LEN(Etapes[[#This Row],[Planned]])=0,\"\",IF(AND($C27=\"MER\",M$6=$F27,$G27=1),1,IF(AND($C27=\"MEP\",M$6=$F27,$G27=1),2,IF(AND(M$6=$F27,$G27=1),0,\"\")))),\"\")","v":""},{"$f":"IFERROR(IF(LEN(Etapes[[#This Row],[Planned]])=0,\"\",IF(AND($C27=\"MER\",N$6=$F27,$G27=1),1,IF(AND($C27=\"MEP\",N$6=$F27,$G27=1),2,IF(AND(N$6=$F27,$G27=1),0,\"\")))),\"\")","v":""},{"$f":"IFERROR(IF(LEN(Etapes[[#This Row],[Planned]])=0,\"\",IF(AND($C27=\"MER\",O$6=$F27,$G27=1),1,IF(AND($C27=\"MEP\",O$6=$F27,$G27=1),2,IF(AND(O$6=$F27,$G27=1),0,\"\")))),\"\")","v":""},{"$f":"IFERROR(IF(LEN(Etapes[[#This Row],[Planned]])=0,\"\",IF(AND($C27=\"MER\",P$6=$F27,$G27=1),1,IF(AND($C27=\"MEP\",P$6=$F27,$G27=1),2,IF(AND(P$6=$F27,$G27=1),0,\"\")))),\"\")","v":""},{"$f":"IFERROR(IF(LEN(Etapes[[#This Row],[Planned]])=0,\"\",IF(AND($C27=\"MER\",Q$6=$F27,$G27=1),1,IF(AND($C27=\"MEP\",Q$6=$F27,$G27=1),2,IF(AND(Q$6=$F27,$G27=1),0,\"\")))),\"\")","v":""},{"$f":"IFERROR(IF(LEN(Etapes[[#This Row],[Planned]])=0,\"\",IF(AND($C27=\"MER\",R$6=$F27,$G27=1),1,IF(AND($C27=\"MEP\",R$6=$F27,$G27=1),2,IF(AND(R$6=$F27,$G27=1),0,\"\")))),\"\")","v":""},{"$f":"IFERROR(IF(LEN(Etapes[[#This Row],[Planned]])=0,\"\",IF(AND($C27=\"MER\",S$6=$F27,$G27=1),1,IF(AND($C27=\"MEP\",S$6=$F27,$G27=1),2,IF(AND(S$6=$F27,$G27=1),0,\"\")))),\"\")","v":""},{"$f":"IFERROR(IF(LEN(Etapes[[#This Row],[Planned]])=0,\"\",IF(AND($C27=\"MER\",T$6=$F27,$G27=1),1,IF(AND($C27=\"MEP\",T$6=$F27,$G27=1),2,IF(AND(T$6=$F27,$G27=1),0,\"\")))),\"\")","v":""},{"$f":"IFERROR(IF(LEN(Etapes[[#This Row],[Planned]])=0,\"\",IF(AND($C27=\"MER\",U$6=$F27,$G27=1),1,IF(AND($C27=\"MEP\",U$6=$F27,$G27=1),2,IF(AND(U$6=$F27,$G27=1),0,\"\")))),\"\")","v":""},{"$f":"IFERROR(IF(LEN(Etapes[[#This Row],[Planned]])=0,\"\",IF(AND($C27=\"MER\",V$6=$F27,$G27=1),1,IF(AND($C27=\"MEP\",V$6=$F27,$G27=1),2,IF(AND(V$6=$F27,$G27=1),0,\"\")))),\"\")","v":""},{"$f":"IFERROR(IF(LEN(Etapes[[#This Row],[Planned]])=0,\"\",IF(AND($C27=\"MER\",W$6=$F27,$G27=1),1,IF(AND($C27=\"MEP\",W$6=$F27,$G27=1),2,IF(AND(W$6=$F27,$G27=1),0,\"\")))),\"\")","v":""},{"$f":"IFERROR(IF(LEN(Etapes[[#This Row],[Planned]])=0,\"\",IF(AND($C27=\"MER\",X$6=$F27,$G27=1),1,IF(AND($C27=\"MEP\",X$6=$F27,$G27=1),2,IF(AND(X$6=$F27,$G27=1),0,\"\")))),\"\")","v":""},{"$f":"IFERROR(IF(LEN(Etapes[[#This Row],[Planned]])=0,\"\",IF(AND($C27=\"MER\",Y$6=$F27,$G27=1),1,IF(AND($C27=\"MEP\",Y$6=$F27,$G27=1),2,IF(AND(Y$6=$F27,$G27=1),0,\"\")))),\"\")","v":""},{"$f":"IFERROR(IF(LEN(Etapes[[#This Row],[Planned]])=0,\"\",IF(AND($C27=\"MER\",Z$6=$F27,$G27=1),1,IF(AND($C27=\"MEP\",Z$6=$F27,$G27=1),2,IF(AND(Z$6=$F27,$G27=1),0,\"\")))),\"\")","v":""},{"$f":"IFERROR(IF(LEN(Etapes[[#This Row],[Planned]])=0,\"\",IF(AND($C27=\"MER\",AA$6=$F27,$G27=1),1,IF(AND($C27=\"MEP\",AA$6=$F27,$G27=1),2,IF(AND(AA$6=$F27,$G27=1),0,\"\")))),\"\")","v":""},{"$f":"IFERROR(IF(LEN(Etapes[[#This Row],[Planned]])=0,\"\",IF(AND($C27=\"MER\",AB$6=$F27,$G27=1),1,IF(AND($C27=\"MEP\",AB$6=$F27,$G27=1),2,IF(AND(AB$6=$F27,$G27=1),0,\"\")))),\"\")","v":""},{"$f":"IFERROR(IF(LEN(Etapes[[#This Row],[Planned]])=0,\"\",IF(AND($C27=\"MER\",AC$6=$F27,$G27=1),1,IF(AND($C27=\"MEP\",AC$6=$F27,$G27=1),2,IF(AND(AC$6=$F27,$G27=1),0,\"\")))),\"\")","v":""},{"$f":"IFERROR(IF(LEN(Etapes[[#This Row],[Planned]])=0,\"\",IF(AND($C27=\"MER\",AD$6=$F27,$G27=1),1,IF(AND($C27=\"MEP\",AD$6=$F27,$G27=1),2,IF(AND(AD$6=$F27,$G27=1),0,\"\")))),\"\")","v":""},{"$f":"IFERROR(IF(LEN(Etapes[[#This Row],[Planned]])=0,\"\",IF(AND($C27=\"MER\",AE$6=$F27,$G27=1),1,IF(AND($C27=\"MEP\",AE$6=$F27,$G27=1),2,IF(AND(AE$6=$F27,$G27=1),0,\"\")))),\"\")","v":""},{"$f":"IFERROR(IF(LEN(Etapes[[#This Row],[Planned]])=0,\"\",IF(AND($C27=\"MER\",AF$6=$F27,$G27=1),1,IF(AND($C27=\"MEP\",AF$6=$F27,$G27=1),2,IF(AND(AF$6=$F27,$G27=1),0,\"\")))),\"\")","v":""},{"$f":"IFERROR(IF(LEN(Etapes[[#This Row],[Planned]])=0,\"\",IF(AND($C27=\"MER\",AG$6=$F27,$G27=1),1,IF(AND($C27=\"MEP\",AG$6=$F27,$G27=1),2,IF(AND(AG$6=$F27,$G27=1),0,\"\")))),\"\")","v":""},{"$f":"IFERROR(IF(LEN(Etapes[[#This Row],[Planned]])=0,\"\",IF(AND($C27=\"MER\",AH$6=$F27,$G27=1),1,IF(AND($C27=\"MEP\",AH$6=$F27,$G27=1),2,IF(AND(AH$6=$F27,$G27=1),0,\"\")))),\"\")","v":""},{"$f":"IFERROR(IF(LEN(Etapes[[#This Row],[Planned]])=0,\"\",IF(AND($C27=\"MER\",AI$6=$F27,$G27=1),1,IF(AND($C27=\"MEP\",AI$6=$F27,$G27=1),2,IF(AND(AI$6=$F27,$G27=1),0,\"\")))),\"\")","v":""},{"$f":"IFERROR(IF(LEN(Etapes[[#This Row],[Planned]])=0,\"\",IF(AND($C27=\"MER\",AJ$6=$F27,$G27=1),1,IF(AND($C27=\"MEP\",AJ$6=$F27,$G27=1),2,IF(AND(AJ$6=$F27,$G27=1),0,\"\")))),\"\")","v":""},{"$f":"IFERROR(IF(LEN(Etapes[[#This Row],[Planned]])=0,\"\",IF(AND($C27=\"MER\",AK$6=$F27,$G27=1),1,IF(AND($C27=\"MEP\",AK$6=$F27,$G27=1),2,IF(AND(AK$6=$F27,$G27=1),0,\"\")))),\"\")","v":""},{"$f":"IFERROR(IF(LEN(Etapes[[#This Row],[Planned]])=0,\"\",IF(AND($C27=\"MER\",AL$6=$F27,$G27=1),1,IF(AND($C27=\"MEP\",AL$6=$F27,$G27=1),2,IF(AND(AL$6=$F27,$G27=1),0,\"\")))),\"\")","v":""},{"$f":"IFERROR(IF(LEN(Etapes[[#This Row],[Planned]])=0,\"\",IF(AND($C27=\"MER\",AM$6=$F27,$G27=1),1,IF(AND($C27=\"MEP\",AM$6=$F27,$G27=1),2,IF(AND(AM$6=$F27,$G27=1),0,\"\")))),\"\")","v":""},{"$f":"IFERROR(IF(LEN(Etapes[[#This Row],[Planned]])=0,\"\",IF(AND($C27=\"MER\",AN$6=$F27,$G27=1),1,IF(AND($C27=\"MEP\",AN$6=$F27,$G27=1),2,IF(AND(AN$6=$F27,$G27=1),0,\"\")))),\"\")","v":""},{"$f":"IFERROR(IF(LEN(Etapes[[#This Row],[Planned]])=0,\"\",IF(AND($C27=\"MER\",AO$6=$F27,$G27=1),1,IF(AND($C27=\"MEP\",AO$6=$F27,$G27=1),2,IF(AND(AO$6=$F27,$G27=1),0,\"\")))),\"\")","v":""},{"$f":"IFERROR(IF(LEN(Etapes[[#This Row],[Planned]])=0,\"\",IF(AND($C27=\"MER\",AP$6=$F27,$G27=1),1,IF(AND($C27=\"MEP\",AP$6=$F27,$G27=1),2,IF(AND(AP$6=$F27,$G27=1),0,\"\")))),\"\")","v":""},{"$f":"IFERROR(IF(LEN(Etapes[[#This Row],[Planned]])=0,\"\",IF(AND($C27=\"MER\",AQ$6=$F27,$G27=1),1,IF(AND($C27=\"MEP\",AQ$6=$F27,$G27=1),2,IF(AND(AQ$6=$F27,$G27=1),0,\"\")))),\"\")","v":""},{"$f":"IFERROR(IF(LEN(Etapes[[#This Row],[Planned]])=0,\"\",IF(AND($C27=\"MER\",AR$6=$F27,$G27=1),1,IF(AND($C27=\"MEP\",AR$6=$F27,$G27=1),2,IF(AND(AR$6=$F27,$G27=1),0,\"\")))),\"\")","v":""},{"$f":"IFERROR(IF(LEN(Etapes[[#This Row],[Planned]])=0,\"\",IF(AND($C27=\"MER\",AS$6=$F27,$G27=1),1,IF(AND($C27=\"MEP\",AS$6=$F27,$G27=1),2,IF(AND(AS$6=$F27,$G27=1),0,\"\")))),\"\")","v":""},{"$f":"IFERROR(IF(LEN(Etapes[[#This Row],[Planned]])=0,\"\",IF(AND($C27=\"MER\",AT$6=$F27,$G27=1),1,IF(AND($C27=\"MEP\",AT$6=$F27,$G27=1),2,IF(AND(AT$6=$F27,$G27=1),0,\"\")))),\"\")","v":""},{"$f":"IFERROR(IF(LEN(Etapes[[#This Row],[Planned]])=0,\"\",IF(AND($C27=\"MER\",AU$6=$F27,$G27=1),1,IF(AND($C27=\"MEP\",AU$6=$F27,$G27=1),2,IF(AND(AU$6=$F27,$G27=1),0,\"\")))),\"\")","v":""},{"$f":"IFERROR(IF(LEN(Etapes[[#This Row],[Planned]])=0,\"\",IF(AND($C27=\"MER\",AV$6=$F27,$G27=1),1,IF(AND($C27=\"MEP\",AV$6=$F27,$G27=1),2,IF(AND(AV$6=$F27,$G27=1),0,\"\")))),\"\")","v":""},{"$f":"IFERROR(IF(LEN(Etapes[[#This Row],[Planned]])=0,\"\",IF(AND($C27=\"MER\",AW$6=$F27,$G27=1),1,IF(AND($C27=\"MEP\",AW$6=$F27,$G27=1),2,IF(AND(AW$6=$F27,$G27=1),0,\"\")))),\"\")","v":""},{"$f":"IFERROR(IF(LEN(Etapes[[#This Row],[Planned]])=0,\"\",IF(AND($C27=\"MER\",AX$6=$F27,$G27=1),1,IF(AND($C27=\"MEP\",AX$6=$F27,$G27=1),2,IF(AND(AX$6=$F27,$G27=1),0,\"\")))),\"\")","v":""},{"$f":"IFERROR(IF(LEN(Etapes[[#This Row],[Planned]])=0,\"\",IF(AND($C27=\"MER\",AY$6=$F27,$G27=1),1,IF(AND($C27=\"MEP\",AY$6=$F27,$G27=1),2,IF(AND(AY$6=$F27,$G27=1),0,\"\")))),\"\")","v":""},{"$f":"IFERROR(IF(LEN(Etapes[[#This Row],[Planned]])=0,\"\",IF(AND($C27=\"MER\",AZ$6=$F27,$G27=1),1,IF(AND($C27=\"MEP\",AZ$6=$F27,$G27=1),2,IF(AND(AZ$6=$F27,$G27=1),0,\"\")))),\"\")","v":""},{"$f":"IFERROR(IF(LEN(Etapes[[#This Row],[Planned]])=0,\"\",IF(AND($C27=\"MER\",BA$6=$F27,$G27=1),1,IF(AND($C27=\"MEP\",BA$6=$F27,$G27=1),2,IF(AND(BA$6=$F27,$G27=1),0,\"\")))),\"\")","v":""},{"$f":"IFERROR(IF(LEN(Etapes[[#This Row],[Planned]])=0,\"\",IF(AND($C27=\"MER\",BB$6=$F27,$G27=1),1,IF(AND($C27=\"MEP\",BB$6=$F27,$G27=1),2,IF(AND(BB$6=$F27,$G27=1),0,\"\")))),\"\")","v":""},{"$f":"IFERROR(IF(LEN(Etapes[[#This Row],[Planned]])=0,\"\",IF(AND($C27=\"MER\",BC$6=$F27,$G27=1),1,IF(AND($C27=\"MEP\",BC$6=$F27,$G27=1),2,IF(AND(BC$6=$F27,$G27=1),0,\"\")))),\"\")","v":""},{"$f":"IFERROR(IF(LEN(Etapes[[#This Row],[Planned]])=0,\"\",IF(AND($C27=\"MER\",BD$6=$F27,$G27=1),1,IF(AND($C27=\"MEP\",BD$6=$F27,$G27=1),2,IF(AND(BD$6=$F27,$G27=1),0,\"\")))),\"\")","v":""},{"$f":"IFERROR(IF(LEN(Etapes[[#This Row],[Planned]])=0,\"\",IF(AND($C27=\"MER\",BE$6=$F27,$G27=1),1,IF(AND($C27=\"MEP\",BE$6=$F27,$G27=1),2,IF(AND(BE$6=$F27,$G27=1),0,\"\")))),\"\")","v":""},{"$f":"IFERROR(IF(LEN(Etapes[[#This Row],[Planned]])=0,\"\",IF(AND($C27=\"MER\",BF$6=$F27,$G27=1),1,IF(AND($C27=\"MEP\",BF$6=$F27,$G27=1),2,IF(AND(BF$6=$F27,$G27=1),0,\"\")))),\"\")","v":""},{"$f":"IFERROR(IF(LEN(Etapes[[#This Row],[Planned]])=0,\"\",IF(AND($C27=\"MER\",BG$6=$F27,$G27=1),1,IF(AND($C27=\"MEP\",BG$6=$F27,$G27=1),2,IF(AND(BG$6=$F27,$G27=1),0,\"\")))),\"\")","v":""},{"$f":"IFERROR(IF(LEN(Etapes[[#This Row],[Planned]])=0,\"\",IF(AND($C27=\"MER\",BH$6=$F27,$G27=1),1,IF(AND($C27=\"MEP\",BH$6=$F27,$G27=1),2,IF(AND(BH$6=$F27,$G27=1),0,\"\")))),\"\")","v":""},{"$f":"IFERROR(IF(LEN(Etapes[[#This Row],[Planned]])=0,\"\",IF(AND($C27=\"MER\",BI$6=$F27,$G27=1),1,IF(AND($C27=\"MEP\",BI$6=$F27,$G27=1),2,IF(AND(BI$6=$F27,$G27=1),0,\"\")))),\"\")","v":""},{"$f":"IFERROR(IF(LEN(Etapes[[#This Row],[Planned]])=0,\"\",IF(AND($C27=\"MER\",BJ$6=$F27,$G27=1),1,IF(AND($C27=\"MEP\",BJ$6=$F27,$G27=1),2,IF(AND(BJ$6=$F27,$G27=1),0,\"\")))),\"\")","v":""},{"$f":"IFERROR(IF(LEN(Etapes[[#This Row],[Planned]])=0,\"\",IF(AND($C27=\"MER\",BK$6=$F27,$G27=1),1,IF(AND($C27=\"MEP\",BK$6=$F27,$G27=1),2,IF(AND(BK$6=$F27,$G27=1),0,\"\")))),\"\")","v":""},{"$f":"IFERROR(IF(LEN(Etapes[[#This Row],[Planned]])=0,\"\",IF(AND($C27=\"MER\",BL$6=$F27,$G27=1),1,IF(AND($C27=\"MEP\",BL$6=$F27,$G27=1),2,IF(AND(BL$6=$F27,$G27=1),0,\"\")))),\"\")","v":""},{"$f":"IFERROR(IF(LEN(Etapes[[#This Row],[Planned]])=0,\"\",IF(AND($C27=\"MER\",BM$6=$F27,$G27=1),1,IF(AND($C27=\"MEP\",BM$6=$F27,$G27=1),2,IF(AND(BM$6=$F27,$G27=1),0,\"\")))),\"\")","v":""},{"$f":"IFERROR(IF(LEN(Etapes[[#This Row],[Planned]])=0,\"\",IF(AND($C27=\"MER\",BN$6=$F27,$G27=1),1,IF(AND($C27=\"MEP\",BN$6=$F27,$G27=1),2,IF(AND(BN$6=$F27,$G27=1),0,\"\")))),\"\")","v":""},{"$f":"IFERROR(IF(LEN(Etapes[[#This Row],[Planned]])=0,\"\",IF(AND($C27=\"MER\",BO$6=$F27,$G27=1),1,IF(AND($C27=\"MEP\",BO$6=$F27,$G27=1),2,IF(AND(BO$6=$F27,$G27=1),0,\"\")))),\"\")","v":""},{"$f":"IFERROR(IF(LEN(Etapes[[#This Row],[Add]])=0,\"\",IF(AND($C27=\"MER\",BP$6=$F27,$G27=1),1,IF(AND($C27=\"MEP\",BP$6=$F27,$G27=1),2,IF(AND(BP$6=$F27,$G27=1),0,\"\")))),\"\")","v":""},{"$f":"IFERROR(IF(LEN(Etapes[[#This Row],[End]])=0,\"\",IF(AND($C27=\"MER\",BQ$6=$F27,$G27=1),1,IF(AND($C27=\"MEP\",BQ$6=$F27,$G27=1),2,IF(AND(BQ$6=$F27,$G27=1),0,\"\")))),\"\")","v":""},{"$f":"IFERROR(IF(LEN(Etapes[[#This Row],[Réalisé]])=0,\"\",IF(AND($C27=\"MER\",BR$6=$F27,$G27=1),1,IF(AND($C27=\"MEP\",BR$6=$F27,$G27=1),2,IF(AND(BR$6=$F27,$G27=1),0,\"\")))),\"\")","v":""},{"$f":"IFERROR(IF(LEN(Etapes[[#This Row],[Activité]])=0,\"\",IF(AND($C27=\"MER\",BS$6=$F27,$G27=1),1,IF(AND($C27=\"MEP\",BS$6=$F27,$G27=1),2,IF(AND(BS$6=$F27,$G27=1),0,\"\")))),\"\")","v":""},{"$f":"IFERROR(IF(LEN(Etapes[[#This Row],[Statut]])=0,\"\",IF(AND($C27=\"MER\",BT$6=$F27,$G27=1),1,IF(AND($C27=\"MEP\",BT$6=$F27,$G27=1),2,IF(AND(BT$6=$F27,$G27=1),0,\"\")))),\"\")","v":""},{"$f":"IFERROR(IF(LEN(Etapes[[#This Row],[Progress]])=0,\"\",IF(AND($C27=\"MER\",BU$6=$F27,$G27=1),1,IF(AND($C27=\"MEP\",BU$6=$F27,$G27=1),2,IF(AND(BU$6=$F27,$G27=1),0,\"\")))),\"\")","v":""},{"$f":"IFERROR(IF(LEN(Etapes[[#This Row],[Start]])=0,\"\",IF(AND($C27=\"MER\",BV$6=$F27,$G27=1),1,IF(AND($C27=\"MEP\",BV$6=$F27,$G27=1),2,IF(AND(BV$6=$F27,$G27=1),0,\"\")))),\"\")","v":""},{"$f":"IFERROR(IF(LEN(Etapes[[#This Row],[Planned]])=0,\"\",IF(AND($C27=\"MER\",BW$6=$F27,$G27=1),1,IF(AND($C27=\"MEP\",BW$6=$F27,$G27=1),2,IF(AND(BW$6=$F27,$G27=1),0,\"\")))),\"\")","v":""},{"$f":"IFERROR(IF(LEN(Etapes[[#This Row],[Add]])=0,\"\",IF(AND($C27=\"MER\",BX$6=$F27,$G27=1),1,IF(AND($C27=\"MEP\",BX$6=$F27,$G27=1),2,IF(AND(BX$6=$F27,$G27=1),0,\"\")))),\"\")","v":""},{"$f":"IFERROR(IF(LEN(Etapes[[#This Row],[End]])=0,\"\",IF(AND($C27=\"MER\",BY$6=$F27,$G27=1),1,IF(AND($C27=\"MEP\",BY$6=$F27,$G27=1),2,IF(AND(BY$6=$F27,$G27=1),0,\"\")))),\"\")","v":""},{"$f":"IFERROR(IF(LEN(Etapes[[#This Row],[Réalisé]])=0,\"\",IF(AND($C27=\"MER\",BZ$6=$F27,$G27=1),1,IF(AND($C27=\"MEP\",BZ$6=$F27,$G27=1),2,IF(AND(BZ$6=$F27,$G27=1),0,\"\")))),\"\")","v":""},{"$f":"IFERROR(IF(LEN(Etapes[[#This Row],[Activité]])=0,\"\",IF(AND($C27=\"MER\",CA$6=$F27,$G27=1),1,IF(AND($C27=\"MEP\",CA$6=$F27,$G27=1),2,IF(AND(CA$6=$F27,$G27=1),0,\"\")))),\"\")","v":""},{"$f":"IFERROR(IF(LEN(Etapes[[#This Row],[Statut]])=0,\"\",IF(AND($C27=\"MER\",CB$6=$F27,$G27=1),1,IF(AND($C27=\"MEP\",CB$6=$F27,$G27=1),2,IF(AND(CB$6=$F27,$G27=1),0,\"\")))),\"\")","v":""},{"$f":"IFERROR(IF(LEN(Etapes[[#This Row],[Progress]])=0,\"\",IF(AND($C27=\"MER\",CC$6=$F27,$G27=1),1,IF(AND($C27=\"MEP\",CC$6=$F27,$G27=1),2,IF(AND(CC$6=$F27,$G27=1),0,\"\")))),\"\")","v":""},{"$f":"IFERROR(IF(LEN(Etapes[[#This Row],[Start]])=0,\"\",IF(AND($C27=\"MER\",CD$6=$F27,$G27=1),1,IF(AND($C27=\"MEP\",CD$6=$F27,$G27=1),2,IF(AND(CD$6=$F27,$G27=1),0,\"\")))),\"\")","v":""},{"$f":"IFERROR(IF(LEN(Etapes[[#This Row],[Planned]])=0,\"\",IF(AND($C27=\"MER\",CE$6=$F27,$G27=1),1,IF(AND($C27=\"MEP\",CE$6=$F27,$G27=1),2,IF(AND(CE$6=$F27,$G27=1),0,\"\")))),\"\")","v":""},{"$f":"IFERROR(IF(LEN(Etapes[[#This Row],[Add]])=0,\"\",IF(AND($C27=\"MER\",CF$6=$F27,$G27=1),1,IF(AND($C27=\"MEP\",CF$6=$F27,$G27=1),2,IF(AND(CF$6=$F27,$G27=1),0,\"\")))),\"\")","v":""},{"$f":"IFERROR(IF(LEN(Etapes[[#This Row],[End]])=0,\"\",IF(AND($C27=\"MER\",CG$6=$F27,$G27=1),1,IF(AND($C27=\"MEP\",CG$6=$F27,$G27=1),2,IF(AND(CG$6=$F27,$G27=1),0,\"\")))),\"\")","v":""},{"$f":"IFERROR(IF(LEN(Etapes[[#This Row],[Réalisé]])=0,\"\",IF(AND($C27=\"MER\",CH$6=$F27,$G27=1),1,IF(AND($C27=\"MEP\",CH$6=$F27,$G27=1),2,IF(AND(CH$6=$F27,$G27=1),0,\"\")))),\"\")","v":""},{"$f":"IFERROR(IF(LEN(Etapes[[#This Row],[Activité]])=0,\"\",IF(AND($C27=\"MER\",CI$6=$F27,$G27=1),1,IF(AND($C27=\"MEP\",CI$6=$F27,$G27=1),2,IF(AND(CI$6=$F27,$G27=1),0,\"\")))),\"\")","v":""},{"$f":"IFERROR(IF(LEN(Etapes[[#This Row],[Statut]])=0,\"\",IF(AND($C27=\"MER\",CJ$6=$F27,$G27=1),1,IF(AND($C27=\"MEP\",CJ$6=$F27,$G27=1),2,IF(AND(CJ$6=$F27,$G27=1),0,\"\")))),\"\")","v":""},{"$f":"IFERROR(IF(LEN(Etapes[[#This Row],[Progress]])=0,\"\",IF(AND($C27=\"MER\",CK$6=$F27,$G27=1),1,IF(AND($C27=\"MEP\",CK$6=$F27,$G27=1),2,IF(AND(CK$6=$F27,$G27=1),0,\"\")))),\"\")","v":""},{"$f":"IFERROR(IF(LEN(Etapes[[#This Row],[Start]])=0,\"\",IF(AND($C27=\"MER\",CL$6=$F27,$G27=1),1,IF(AND($C27=\"MEP\",CL$6=$F27,$G27=1),2,IF(AND(CL$6=$F27,$G27=1),0,\"\")))),\"\")","v":""},{"$f":"IFERROR(IF(LEN(Etapes[[#This Row],[Planned]])=0,\"\",IF(AND($C27=\"MER\",CM$6=$F27,$G27=1),1,IF(AND($C27=\"MEP\",CM$6=$F27,$G27=1),2,IF(AND(CM$6=$F27,$G27=1),0,\"\")))),\"\")","v":""},{"$f":"IFERROR(IF(LEN(Etapes[[#This Row],[Add]])=0,\"\",IF(AND($C27=\"MER\",CN$6=$F27,$G27=1),1,IF(AND($C27=\"MEP\",CN$6=$F27,$G27=1),2,IF(AND(CN$6=$F27,$G27=1),0,\"\")))),\"\")","v":""},{"$f":"IFERROR(IF(LEN(Etapes[[#This Row],[End]])=0,\"\",IF(AND($C27=\"MER\",CO$6=$F27,$G27=1),1,IF(AND($C27=\"MEP\",CO$6=$F27,$G27=1),2,IF(AND(CO$6=$F27,$G27=1),0,\"\")))),\"\")","v":""},{"$f":"IFERROR(IF(LEN(Etapes[[#This Row],[Réalisé]])=0,\"\",IF(AND($C27=\"MER\",CP$6=$F27,$G27=1),1,IF(AND($C27=\"MEP\",CP$6=$F27,$G27=1),2,IF(AND(CP$6=$F27,$G27=1),0,\"\")))),\"\")","v":""},{"$f":"IFERROR(IF(LEN(Etapes[[#This Row],[Activité]])=0,\"\",IF(AND($C27=\"MER\",CQ$6=$F27,$G27=1),1,IF(AND($C27=\"MEP\",CQ$6=$F27,$G27=1),2,IF(AND(CQ$6=$F27,$G27=1),0,\"\")))),\"\")","v":""},{"$f":"IFERROR(IF(LEN(Etapes[[#This Row],[Statut]])=0,\"\",IF(AND($C27=\"MER\",CR$6=$F27,$G27=1),1,IF(AND($C27=\"MEP\",CR$6=$F27,$G27=1),2,IF(AND(CR$6=$F27,$G27=1),0,\"\")))),\"\")","v":""},{"$f":"IFERROR(IF(LEN(Etapes[[#This Row],[Progress]])=0,\"\",IF(AND($C27=\"MER\",CS$6=$F27,$G27=1),1,IF(AND($C27=\"MEP\",CS$6=$F27,$G27=1),2,IF(AND(CS$6=$F27,$G27=1),0,\"\")))),\"\")","v":""},{"$f":"IFERROR(IF(LEN(Etapes[[#This Row],[Start]])=0,\"\",IF(AND($C27=\"MER\",CT$6=$F27,$G27=1),1,IF(AND($C27=\"MEP\",CT$6=$F27,$G27=1),2,IF(AND(CT$6=$F27,$G27=1),0,\"\")))),\"\")","v":""},{"$f":"IFERROR(IF(LEN(Etapes[[#This Row],[Planned]])=0,\"\",IF(AND($C27=\"MER\",CU$6=$F27,$G27=1),1,IF(AND($C27=\"MEP\",CU$6=$F27,$G27=1),2,IF(AND(CU$6=$F27,$G27=1),0,\"\")))),\"\")","v":""},{"$f":"IFERROR(IF(LEN(Etapes[[#This Row],[Add]])=0,\"\",IF(AND($C27=\"MER\",CV$6=$F27,$G27=1),1,IF(AND($C27=\"MEP\",CV$6=$F27,$G27=1),2,IF(AND(CV$6=$F27,$G27=1),0,\"\")))),\"\")","v":""},{"$f":"IFERROR(IF(LEN(Etapes[[#This Row],[End]])=0,\"\",IF(AND($C27=\"MER\",CW$6=$F27,$G27=1),1,IF(AND($C27=\"MEP\",CW$6=$F27,$G27=1),2,IF(AND(CW$6=$F27,$G27=1),0,\"\")))),\"\")","v":""}]
["4.3","Préparation RE7 ","Launched",{"$f":"Settings!D47","v":"VIE"},0.1,"2022-08-03",null,null,{"$f":"IF(Etapes[[#This Row],[Start]]<>\"\",WORKDAY(Etapes[[#This Row],[Start]],IF(WEEKDAY(Etapes[[#This Row],[Start]],1)>=6,Etapes[[#This Row],[Planned]]+Etapes[[#This Row],[Add]],Etapes[[#This Row],[Planned]]+Etapes[[#This Row],[Add]]-1),Férié),\"\")","v":"2022-08-02"},{"$f":"IF(Etapes[[#This Row],[Start]]<>\"\",WORKDAY(Etapes[[#This Row],[Start]],IF(WEEKDAY(Etapes[[#This Row],[Start]],1)>=6,Etapes[[#This Row],[Progress]]*Etapes[[#This Row],[Planned]]+Etapes[[#This Row],[Add]],(Etapes[[#This Row],[Progress]]*Etapes[[#This Row],[Planned]]+Etapes[[#This Row],[Add]])-1),Férié),\"\")","v":"2022-08-02"},null,{"$f":"IFERROR(IF(LEN(Etapes[[#This Row],[Planned]])=0,\"\",IF(AND($C28=\"MER\",L$6=$F28,$G28=1),1,IF(AND($C28=\"MEP\",L$6=$F28,$G28=1),2,IF(AND(L$6=$F28,$G28=1),0,\"\")))),\"\")","v":""},{"$f":"IFERROR(IF(LEN(Etapes[[#This Row],[Planned]])=0,\"\",IF(AND($C28=\"MER\",M$6=$F28,$G28=1),1,IF(AND($C28=\"MEP\",M$6=$F28,$G28=1),2,IF(AND(M$6=$F28,$G28=1),0,\"\")))),\"\")","v":""},{"$f":"IFERROR(IF(LEN(Etapes[[#This Row],[Planned]])=0,\"\",IF(AND($C28=\"MER\",N$6=$F28,$G28=1),1,IF(AND($C28=\"MEP\",N$6=$F28,$G28=1),2,IF(AND(N$6=$F28,$G28=1),0,\"\")))),\"\")","v":""},{"$f":"IFERROR(IF(LEN(Etapes[[#This Row],[Planned]])=0,\"\",IF(AND($C28=\"MER\",O$6=$F28,$G28=1),1,IF(AND($C28=\"MEP\",O$6=$F28,$G28=1),2,IF(AND(O$6=$F28,$G28=1),0,\"\")))),\"\")","v":""},{"$f":"IFERROR(IF(LEN(Etapes[[#This Row],[Planned]])=0,\"\",IF(AND($C28=\"MER\",P$6=$F28,$G28=1),1,IF(AND($C28=\"MEP\",P$6=$F28,$G28=1),2,IF(AND(P$6=$F28,$G28=1),0,\"\")))),\"\")","v":""},{"$f":"IFERROR(IF(LEN(Etapes[[#This Row],[Planned]])=0,\"\",IF(AND($C28=\"MER\",Q$6=$F28,$G28=1),1,IF(AND($C28=\"MEP\",Q$6=$F28,$G28=1),2,IF(AND(Q$6=$F28,$G28=1),0,\"\")))),\"\")","v":""},{"$f":"IFERROR(IF(LEN(Etapes[[#This Row],[Planned]])=0,\"\",IF(AND($C28=\"MER\",R$6=$F28,$G28=1),1,IF(AND($C28=\"MEP\",R$6=$F28,$G28=1),2,IF(AND(R$6=$F28,$G28=1),0,\"\")))),\"\")","v":""},{"$f":"IFERROR(IF(LEN(Etapes[[#This Row],[Planned]])=0,\"\",IF(AND($C28=\"MER\",S$6=$F28,$G28=1),1,IF(AND($C28=\"MEP\",S$6=$F28,$G28=1),2,IF(AND(S$6=$F28,$G28=1),0,\"\")))),\"\")","v":""},{"$f":"IFERROR(IF(LEN(Etapes[[#This Row],[Planned]])=0,\"\",IF(AND($C28=\"MER\",T$6=$F28,$G28=1),1,IF(AND($C28=\"MEP\",T$6=$F28,$G28=1),2,IF(AND(T$6=$F28,$G28=1),0,\"\")))),\"\")","v":""},{"$f":"IFERROR(IF(LEN(Etapes[[#This Row],[Planned]])=0,\"\",IF(AND($C28=\"MER\",U$6=$F28,$G28=1),1,IF(AND($C28=\"MEP\",U$6=$F28,$G28=1),2,IF(AND(U$6=$F28,$G28=1),0,\"\")))),\"\")","v":""},{"$f":"IFERROR(IF(LEN(Etapes[[#This Row],[Planned]])=0,\"\",IF(AND($C28=\"MER\",V$6=$F28,$G28=1),1,IF(AND($C28=\"MEP\",V$6=$F28,$G28=1),2,IF(AND(V$6=$F28,$G28=1),0,\"\")))),\"\")","v":""},{"$f":"IFERROR(IF(LEN(Etapes[[#This Row],[Planned]])=0,\"\",IF(AND($C28=\"MER\",W$6=$F28,$G28=1),1,IF(AND($C28=\"MEP\",W$6=$F28,$G28=1),2,IF(AND(W$6=$F28,$G28=1),0,\"\")))),\"\")","v":""},{"$f":"IFERROR(IF(LEN(Etapes[[#This Row],[Planned]])=0,\"\",IF(AND($C28=\"MER\",X$6=$F28,$G28=1),1,IF(AND($C28=\"MEP\",X$6=$F28,$G28=1),2,IF(AND(X$6=$F28,$G28=1),0,\"\")))),\"\")","v":""},{"$f":"IFERROR(IF(LEN(Etapes[[#This Row],[Planned]])=0,\"\",IF(AND($C28=\"MER\",Y$6=$F28,$G28=1),1,IF(AND($C28=\"MEP\",Y$6=$F28,$G28=1),2,IF(AND(Y$6=$F28,$G28=1),0,\"\")))),\"\")","v":""},{"$f":"IFERROR(IF(LEN(Etapes[[#This Row],[Planned]])=0,\"\",IF(AND($C28=\"MER\",Z$6=$F28,$G28=1),1,IF(AND($C28=\"MEP\",Z$6=$F28,$G28=1),2,IF(AND(Z$6=$F28,$G28=1),0,\"\")))),\"\")","v":""},{"$f":"IFERROR(IF(LEN(Etapes[[#This Row],[Planned]])=0,\"\",IF(AND($C28=\"MER\",AA$6=$F28,$G28=1),1,IF(AND($C28=\"MEP\",AA$6=$F28,$G28=1),2,IF(AND(AA$6=$F28,$G28=1),0,\"\")))),\"\")","v":""},{"$f":"IFERROR(IF(LEN(Etapes[[#This Row],[Planned]])=0,\"\",IF(AND($C28=\"MER\",AB$6=$F28,$G28=1),1,IF(AND($C28=\"MEP\",AB$6=$F28,$G28=1),2,IF(AND(AB$6=$F28,$G28=1),0,\"\")))),\"\")","v":""},{"$f":"IFERROR(IF(LEN(Etapes[[#This Row],[Planned]])=0,\"\",IF(AND($C28=\"MER\",AC$6=$F28,$G28=1),1,IF(AND($C28=\"MEP\",AC$6=$F28,$G28=1),2,IF(AND(AC$6=$F28,$G28=1),0,\"\")))),\"\")","v":""},{"$f":"IFERROR(IF(LEN(Etapes[[#This Row],[Planned]])=0,\"\",IF(AND($C28=\"MER\",AD$6=$F28,$G28=1),1,IF(AND($C28=\"MEP\",AD$6=$F28,$G28=1),2,IF(AND(AD$6=$F28,$G28=1),0,\"\")))),\"\")","v":""},{"$f":"IFERROR(IF(LEN(Etapes[[#This Row],[Planned]])=0,\"\",IF(AND($C28=\"MER\",AE$6=$F28,$G28=1),1,IF(AND($C28=\"MEP\",AE$6=$F28,$G28=1),2,IF(AND(AE$6=$F28,$G28=1),0,\"\")))),\"\")","v":""},{"$f":"IFERROR(IF(LEN(Etapes[[#This Row],[Planned]])=0,\"\",IF(AND($C28=\"MER\",AF$6=$F28,$G28=1),1,IF(AND($C28=\"MEP\",AF$6=$F28,$G28=1),2,IF(AND(AF$6=$F28,$G28=1),0,\"\")))),\"\")","v":""},{"$f":"IFERROR(IF(LEN(Etapes[[#This Row],[Planned]])=0,\"\",IF(AND($C28=\"MER\",AG$6=$F28,$G28=1),1,IF(AND($C28=\"MEP\",AG$6=$F28,$G28=1),2,IF(AND(AG$6=$F28,$G28=1),0,\"\")))),\"\")","v":""},{"$f":"IFERROR(IF(LEN(Etapes[[#This Row],[Planned]])=0,\"\",IF(AND($C28=\"MER\",AH$6=$F28,$G28=1),1,IF(AND($C28=\"MEP\",AH$6=$F28,$G28=1),2,IF(AND(AH$6=$F28,$G28=1),0,\"\")))),\"\")","v":""},{"$f":"IFERROR(IF(LEN(Etapes[[#This Row],[Planned]])=0,\"\",IF(AND($C28=\"MER\",AI$6=$F28,$G28=1),1,IF(AND($C28=\"MEP\",AI$6=$F28,$G28=1),2,IF(AND(AI$6=$F28,$G28=1),0,\"\")))),\"\")","v":""},{"$f":"IFERROR(IF(LEN(Etapes[[#This Row],[Planned]])=0,\"\",IF(AND($C28=\"MER\",AJ$6=$F28,$G28=1),1,IF(AND($C28=\"MEP\",AJ$6=$F28,$G28=1),2,IF(AND(AJ$6=$F28,$G28=1),0,\"\")))),\"\")","v":""},{"$f":"IFERROR(IF(LEN(Etapes[[#This Row],[Planned]])=0,\"\",IF(AND($C28=\"MER\",AK$6=$F28,$G28=1),1,IF(AND($C28=\"MEP\",AK$6=$F28,$G28=1),2,IF(AND(AK$6=$F28,$G28=1),0,\"\")))),\"\")","v":""},{"$f":"IFERROR(IF(LEN(Etapes[[#This Row],[Planned]])=0,\"\",IF(AND($C28=\"MER\",AL$6=$F28,$G28=1),1,IF(AND($C28=\"MEP\",AL$6=$F28,$G28=1),2,IF(AND(AL$6=$F28,$G28=1),0,\"\")))),\"\")","v":""},{"$f":"IFERROR(IF(LEN(Etapes[[#This Row],[Planned]])=0,\"\",IF(AND($C28=\"MER\",AM$6=$F28,$G28=1),1,IF(AND($C28=\"MEP\",AM$6=$F28,$G28=1),2,IF(AND(AM$6=$F28,$G28=1),0,\"\")))),\"\")","v":""},{"$f":"IFERROR(IF(LEN(Etapes[[#This Row],[Planned]])=0,\"\",IF(AND($C28=\"MER\",AN$6=$F28,$G28=1),1,IF(AND($C28=\"MEP\",AN$6=$F28,$G28=1),2,IF(AND(AN$6=$F28,$G28=1),0,\"\")))),\"\")","v":""},{"$f":"IFERROR(IF(LEN(Etapes[[#This Row],[Planned]])=0,\"\",IF(AND($C28=\"MER\",AO$6=$F28,$G28=1),1,IF(AND($C28=\"MEP\",AO$6=$F28,$G28=1),2,IF(AND(AO$6=$F28,$G28=1),0,\"\")))),\"\")","v":""},{"$f":"IFERROR(IF(LEN(Etapes[[#This Row],[Planned]])=0,\"\",IF(AND($C28=\"MER\",AP$6=$F28,$G28=1),1,IF(AND($C28=\"MEP\",AP$6=$F28,$G28=1),2,IF(AND(AP$6=$F28,$G28=1),0,\"\")))),\"\")","v":""},{"$f":"IFERROR(IF(LEN(Etapes[[#This Row],[Planned]])=0,\"\",IF(AND($C28=\"MER\",AQ$6=$F28,$G28=1),1,IF(AND($C28=\"MEP\",AQ$6=$F28,$G28=1),2,IF(AND(AQ$6=$F28,$G28=1),0,\"\")))),\"\")","v":""},{"$f":"IFERROR(IF(LEN(Etapes[[#This Row],[Planned]])=0,\"\",IF(AND($C28=\"MER\",AR$6=$F28,$G28=1),1,IF(AND($C28=\"MEP\",AR$6=$F28,$G28=1),2,IF(AND(AR$6=$F28,$G28=1),0,\"\")))),\"\")","v":""},{"$f":"IFERROR(IF(LEN(Etapes[[#This Row],[Planned]])=0,\"\",IF(AND($C28=\"MER\",AS$6=$F28,$G28=1),1,IF(AND($C28=\"MEP\",AS$6=$F28,$G28=1),2,IF(AND(AS$6=$F28,$G28=1),0,\"\")))),\"\")","v":""},{"$f":"IFERROR(IF(LEN(Etapes[[#This Row],[Planned]])=0,\"\",IF(AND($C28=\"MER\",AT$6=$F28,$G28=1),1,IF(AND($C28=\"MEP\",AT$6=$F28,$G28=1),2,IF(AND(AT$6=$F28,$G28=1),0,\"\")))),\"\")","v":""},{"$f":"IFERROR(IF(LEN(Etapes[[#This Row],[Planned]])=0,\"\",IF(AND($C28=\"MER\",AU$6=$F28,$G28=1),1,IF(AND($C28=\"MEP\",AU$6=$F28,$G28=1),2,IF(AND(AU$6=$F28,$G28=1),0,\"\")))),\"\")","v":""},{"$f":"IFERROR(IF(LEN(Etapes[[#This Row],[Planned]])=0,\"\",IF(AND($C28=\"MER\",AV$6=$F28,$G28=1),1,IF(AND($C28=\"MEP\",AV$6=$F28,$G28=1),2,IF(AND(AV$6=$F28,$G28=1),0,\"\")))),\"\")","v":""},{"$f":"IFERROR(IF(LEN(Etapes[[#This Row],[Planned]])=0,\"\",IF(AND($C28=\"MER\",AW$6=$F28,$G28=1),1,IF(AND($C28=\"MEP\",AW$6=$F28,$G28=1),2,IF(AND(AW$6=$F28,$G28=1),0,\"\")))),\"\")","v":""},{"$f":"IFERROR(IF(LEN(Etapes[[#This Row],[Planned]])=0,\"\",IF(AND($C28=\"MER\",AX$6=$F28,$G28=1),1,IF(AND($C28=\"MEP\",AX$6=$F28,$G28=1),2,IF(AND(AX$6=$F28,$G28=1),0,\"\")))),\"\")","v":""},{"$f":"IFERROR(IF(LEN(Etapes[[#This Row],[Planned]])=0,\"\",IF(AND($C28=\"MER\",AY$6=$F28,$G28=1),1,IF(AND($C28=\"MEP\",AY$6=$F28,$G28=1),2,IF(AND(AY$6=$F28,$G28=1),0,\"\")))),\"\")","v":""},{"$f":"IFERROR(IF(LEN(Etapes[[#This Row],[Planned]])=0,\"\",IF(AND($C28=\"MER\",AZ$6=$F28,$G28=1),1,IF(AND($C28=\"MEP\",AZ$6=$F28,$G28=1),2,IF(AND(AZ$6=$F28,$G28=1),0,\"\")))),\"\")","v":""},{"$f":"IFERROR(IF(LEN(Etapes[[#This Row],[Planned]])=0,\"\",IF(AND($C28=\"MER\",BA$6=$F28,$G28=1),1,IF(AND($C28=\"MEP\",BA$6=$F28,$G28=1),2,IF(AND(BA$6=$F28,$G28=1),0,\"\")))),\"\")","v":""},{"$f":"IFERROR(IF(LEN(Etapes[[#This Row],[Planned]])=0,\"\",IF(AND($C28=\"MER\",BB$6=$F28,$G28=1),1,IF(AND($C28=\"MEP\",BB$6=$F28,$G28=1),2,IF(AND(BB$6=$F28,$G28=1),0,\"\")))),\"\")","v":""},{"$f":"IFERROR(IF(LEN(Etapes[[#This Row],[Planned]])=0,\"\",IF(AND($C28=\"MER\",BC$6=$F28,$G28=1),1,IF(AND($C28=\"MEP\",BC$6=$F28,$G28=1),2,IF(AND(BC$6=$F28,$G28=1),0,\"\")))),\"\")","v":""},{"$f":"IFERROR(IF(LEN(Etapes[[#This Row],[Planned]])=0,\"\",IF(AND($C28=\"MER\",BD$6=$F28,$G28=1),1,IF(AND($C28=\"MEP\",BD$6=$F28,$G28=1),2,IF(AND(BD$6=$F28,$G28=1),0,\"\")))),\"\")","v":""},{"$f":"IFERROR(IF(LEN(Etapes[[#This Row],[Planned]])=0,\"\",IF(AND($C28=\"MER\",BE$6=$F28,$G28=1),1,IF(AND($C28=\"MEP\",BE$6=$F28,$G28=1),2,IF(AND(BE$6=$F28,$G28=1),0,\"\")))),\"\")","v":""},{"$f":"IFERROR(IF(LEN(Etapes[[#This Row],[Planned]])=0,\"\",IF(AND($C28=\"MER\",BF$6=$F28,$G28=1),1,IF(AND($C28=\"MEP\",BF$6=$F28,$G28=1),2,IF(AND(BF$6=$F28,$G28=1),0,\"\")))),\"\")","v":""},{"$f":"IFERROR(IF(LEN(Etapes[[#This Row],[Planned]])=0,\"\",IF(AND($C28=\"MER\",BG$6=$F28,$G28=1),1,IF(AND($C28=\"MEP\",BG$6=$F28,$G28=1),2,IF(AND(BG$6=$F28,$G28=1),0,\"\")))),\"\")","v":""},{"$f":"IFERROR(IF(LEN(Etapes[[#This Row],[Planned]])=0,\"\",IF(AND($C28=\"MER\",BH$6=$F28,$G28=1),1,IF(AND($C28=\"MEP\",BH$6=$F28,$G28=1),2,IF(AND(BH$6=$F28,$G28=1),0,\"\")))),\"\")","v":""},{"$f":"IFERROR(IF(LEN(Etapes[[#This Row],[Planned]])=0,\"\",IF(AND($C28=\"MER\",BI$6=$F28,$G28=1),1,IF(AND($C28=\"MEP\",BI$6=$F28,$G28=1),2,IF(AND(BI$6=$F28,$G28=1),0,\"\")))),\"\")","v":""},{"$f":"IFERROR(IF(LEN(Etapes[[#This Row],[Planned]])=0,\"\",IF(AND($C28=\"MER\",BJ$6=$F28,$G28=1),1,IF(AND($C28=\"MEP\",BJ$6=$F28,$G28=1),2,IF(AND(BJ$6=$F28,$G28=1),0,\"\")))),\"\")","v":""},{"$f":"IFERROR(IF(LEN(Etapes[[#This Row],[Planned]])=0,\"\",IF(AND($C28=\"MER\",BK$6=$F28,$G28=1),1,IF(AND($C28=\"MEP\",BK$6=$F28,$G28=1),2,IF(AND(BK$6=$F28,$G28=1),0,\"\")))),\"\")","v":""},{"$f":"IFERROR(IF(LEN(Etapes[[#This Row],[Planned]])=0,\"\",IF(AND($C28=\"MER\",BL$6=$F28,$G28=1),1,IF(AND($C28=\"MEP\",BL$6=$F28,$G28=1),2,IF(AND(BL$6=$F28,$G28=1),0,\"\")))),\"\")","v":""},{"$f":"IFERROR(IF(LEN(Etapes[[#This Row],[Planned]])=0,\"\",IF(AND($C28=\"MER\",BM$6=$F28,$G28=1),1,IF(AND($C28=\"MEP\",BM$6=$F28,$G28=1),2,IF(AND(BM$6=$F28,$G28=1),0,\"\")))),\"\")","v":""},{"$f":"IFERROR(IF(LEN(Etapes[[#This Row],[Planned]])=0,\"\",IF(AND($C28=\"MER\",BN$6=$F28,$G28=1),1,IF(AND($C28=\"MEP\",BN$6=$F28,$G28=1),2,IF(AND(BN$6=$F28,$G28=1),0,\"\")))),\"\")","v":""},{"$f":"IFERROR(IF(LEN(Etapes[[#This Row],[Planned]])=0,\"\",IF(AND($C28=\"MER\",BO$6=$F28,$G28=1),1,IF(AND($C28=\"MEP\",BO$6=$F28,$G28=1),2,IF(AND(BO$6=$F28,$G28=1),0,\"\")))),\"\")","v":""},{"$f":"IFERROR(IF(LEN(Etapes[[#This Row],[Add]])=0,\"\",IF(AND($C28=\"MER\",BP$6=$F28,$G28=1),1,IF(AND($C28=\"MEP\",BP$6=$F28,$G28=1),2,IF(AND(BP$6=$F28,$G28=1),0,\"\")))),\"\")","v":""},{"$f":"IFERROR(IF(LEN(Etapes[[#This Row],[End]])=0,\"\",IF(AND($C28=\"MER\",BQ$6=$F28,$G28=1),1,IF(AND($C28=\"MEP\",BQ$6=$F28,$G28=1),2,IF(AND(BQ$6=$F28,$G28=1),0,\"\")))),\"\")","v":""},{"$f":"IFERROR(IF(LEN(Etapes[[#This Row],[Réalisé]])=0,\"\",IF(AND($C28=\"MER\",BR$6=$F28,$G28=1),1,IF(AND($C28=\"MEP\",BR$6=$F28,$G28=1),2,IF(AND(BR$6=$F28,$G28=1),0,\"\")))),\"\")","v":""},{"$f":"IFERROR(IF(LEN(Etapes[[#This Row],[Activité]])=0,\"\",IF(AND($C28=\"MER\",BS$6=$F28,$G28=1),1,IF(AND($C28=\"MEP\",BS$6=$F28,$G28=1),2,IF(AND(BS$6=$F28,$G28=1),0,\"\")))),\"\")","v":""},{"$f":"IFERROR(IF(LEN(Etapes[[#This Row],[Statut]])=0,\"\",IF(AND($C28=\"MER\",BT$6=$F28,$G28=1),1,IF(AND($C28=\"MEP\",BT$6=$F28,$G28=1),2,IF(AND(BT$6=$F28,$G28=1),0,\"\")))),\"\")","v":""},{"$f":"IFERROR(IF(LEN(Etapes[[#This Row],[Progress]])=0,\"\",IF(AND($C28=\"MER\",BU$6=$F28,$G28=1),1,IF(AND($C28=\"MEP\",BU$6=$F28,$G28=1),2,IF(AND(BU$6=$F28,$G28=1),0,\"\")))),\"\")","v":""},{"$f":"IFERROR(IF(LEN(Etapes[[#This Row],[Start]])=0,\"\",IF(AND($C28=\"MER\",BV$6=$F28,$G28=1),1,IF(AND($C28=\"MEP\",BV$6=$F28,$G28=1),2,IF(AND(BV$6=$F28,$G28=1),0,\"\")))),\"\")","v":""},{"$f":"IFERROR(IF(LEN(Etapes[[#This Row],[Planned]])=0,\"\",IF(AND($C28=\"MER\",BW$6=$F28,$G28=1),1,IF(AND($C28=\"MEP\",BW$6=$F28,$G28=1),2,IF(AND(BW$6=$F28,$G28=1),0,\"\")))),\"\")","v":""},{"$f":"IFERROR(IF(LEN(Etapes[[#This Row],[Add]])=0,\"\",IF(AND($C28=\"MER\",BX$6=$F28,$G28=1),1,IF(AND($C28=\"MEP\",BX$6=$F28,$G28=1),2,IF(AND(BX$6=$F28,$G28=1),0,\"\")))),\"\")","v":""},{"$f":"IFERROR(IF(LEN(Etapes[[#This Row],[End]])=0,\"\",IF(AND($C28=\"MER\",BY$6=$F28,$G28=1),1,IF(AND($C28=\"MEP\",BY$6=$F28,$G28=1),2,IF(AND(BY$6=$F28,$G28=1),0,\"\")))),\"\")","v":""},{"$f":"IFERROR(IF(LEN(Etapes[[#This Row],[Réalisé]])=0,\"\",IF(AND($C28=\"MER\",BZ$6=$F28,$G28=1),1,IF(AND($C28=\"MEP\",BZ$6=$F28,$G28=1),2,IF(AND(BZ$6=$F28,$G28=1),0,\"\")))),\"\")","v":""},{"$f":"IFERROR(IF(LEN(Etapes[[#This Row],[Activité]])=0,\"\",IF(AND($C28=\"MER\",CA$6=$F28,$G28=1),1,IF(AND($C28=\"MEP\",CA$6=$F28,$G28=1),2,IF(AND(CA$6=$F28,$G28=1),0,\"\")))),\"\")","v":""},{"$f":"IFERROR(IF(LEN(Etapes[[#This Row],[Statut]])=0,\"\",IF(AND($C28=\"MER\",CB$6=$F28,$G28=1),1,IF(AND($C28=\"MEP\",CB$6=$F28,$G28=1),2,IF(AND(CB$6=$F28,$G28=1),0,\"\")))),\"\")","v":""},{"$f":"IFERROR(IF(LEN(Etapes[[#This Row],[Progress]])=0,\"\",IF(AND($C28=\"MER\",CC$6=$F28,$G28=1),1,IF(AND($C28=\"MEP\",CC$6=$F28,$G28=1),2,IF(AND(CC$6=$F28,$G28=1),0,\"\")))),\"\")","v":""},{"$f":"IFERROR(IF(LEN(Etapes[[#This Row],[Start]])=0,\"\",IF(AND($C28=\"MER\",CD$6=$F28,$G28=1),1,IF(AND($C28=\"MEP\",CD$6=$F28,$G28=1),2,IF(AND(CD$6=$F28,$G28=1),0,\"\")))),\"\")","v":""},{"$f":"IFERROR(IF(LEN(Etapes[[#This Row],[Planned]])=0,\"\",IF(AND($C28=\"MER\",CE$6=$F28,$G28=1),1,IF(AND($C28=\"MEP\",CE$6=$F28,$G28=1),2,IF(AND(CE$6=$F28,$G28=1),0,\"\")))),\"\")","v":""},{"$f":"IFERROR(IF(LEN(Etapes[[#This Row],[Add]])=0,\"\",IF(AND($C28=\"MER\",CF$6=$F28,$G28=1),1,IF(AND($C28=\"MEP\",CF$6=$F28,$G28=1),2,IF(AND(CF$6=$F28,$G28=1),0,\"\")))),\"\")","v":""},{"$f":"IFERROR(IF(LEN(Etapes[[#This Row],[End]])=0,\"\",IF(AND($C28=\"MER\",CG$6=$F28,$G28=1),1,IF(AND($C28=\"MEP\",CG$6=$F28,$G28=1),2,IF(AND(CG$6=$F28,$G28=1),0,\"\")))),\"\")","v":""},{"$f":"IFERROR(IF(LEN(Etapes[[#This Row],[Réalisé]])=0,\"\",IF(AND($C28=\"MER\",CH$6=$F28,$G28=1),1,IF(AND($C28=\"MEP\",CH$6=$F28,$G28=1),2,IF(AND(CH$6=$F28,$G28=1),0,\"\")))),\"\")","v":""},{"$f":"IFERROR(IF(LEN(Etapes[[#This Row],[Activité]])=0,\"\",IF(AND($C28=\"MER\",CI$6=$F28,$G28=1),1,IF(AND($C28=\"MEP\",CI$6=$F28,$G28=1),2,IF(AND(CI$6=$F28,$G28=1),0,\"\")))),\"\")","v":""},{"$f":"IFERROR(IF(LEN(Etapes[[#This Row],[Statut]])=0,\"\",IF(AND($C28=\"MER\",CJ$6=$F28,$G28=1),1,IF(AND($C28=\"MEP\",CJ$6=$F28,$G28=1),2,IF(AND(CJ$6=$F28,$G28=1),0,\"\")))),\"\")","v":""},{"$f":"IFERROR(IF(LEN(Etapes[[#This Row],[Progress]])=0,\"\",IF(AND($C28=\"MER\",CK$6=$F28,$G28=1),1,IF(AND($C28=\"MEP\",CK$6=$F28,$G28=1),2,IF(AND(CK$6=$F28,$G28=1),0,\"\")))),\"\")","v":""},{"$f":"IFERROR(IF(LEN(Etapes[[#This Row],[Start]])=0,\"\",IF(AND($C28=\"MER\",CL$6=$F28,$G28=1),1,IF(AND($C28=\"MEP\",CL$6=$F28,$G28=1),2,IF(AND(CL$6=$F28,$G28=1),0,\"\")))),\"\")","v":""},{"$f":"IFERROR(IF(LEN(Etapes[[#This Row],[Planned]])=0,\"\",IF(AND($C28=\"MER\",CM$6=$F28,$G28=1),1,IF(AND($C28=\"MEP\",CM$6=$F28,$G28=1),2,IF(AND(CM$6=$F28,$G28=1),0,\"\")))),\"\")","v":""},{"$f":"IFERROR(IF(LEN(Etapes[[#This Row],[Add]])=0,\"\",IF(AND($C28=\"MER\",CN$6=$F28,$G28=1),1,IF(AND($C28=\"MEP\",CN$6=$F28,$G28=1),2,IF(AND(CN$6=$F28,$G28=1),0,\"\")))),\"\")","v":""},{"$f":"IFERROR(IF(LEN(Etapes[[#This Row],[End]])=0,\"\",IF(AND($C28=\"MER\",CO$6=$F28,$G28=1),1,IF(AND($C28=\"MEP\",CO$6=$F28,$G28=1),2,IF(AND(CO$6=$F28,$G28=1),0,\"\")))),\"\")","v":""},{"$f":"IFERROR(IF(LEN(Etapes[[#This Row],[Réalisé]])=0,\"\",IF(AND($C28=\"MER\",CP$6=$F28,$G28=1),1,IF(AND($C28=\"MEP\",CP$6=$F28,$G28=1),2,IF(AND(CP$6=$F28,$G28=1),0,\"\")))),\"\")","v":""},{"$f":"IFERROR(IF(LEN(Etapes[[#This Row],[Activité]])=0,\"\",IF(AND($C28=\"MER\",CQ$6=$F28,$G28=1),1,IF(AND($C28=\"MEP\",CQ$6=$F28,$G28=1),2,IF(AND(CQ$6=$F28,$G28=1),0,\"\")))),\"\")","v":""},{"$f":"IFERROR(IF(LEN(Etapes[[#This Row],[Statut]])=0,\"\",IF(AND($C28=\"MER\",CR$6=$F28,$G28=1),1,IF(AND($C28=\"MEP\",CR$6=$F28,$G28=1),2,IF(AND(CR$6=$F28,$G28=1),0,\"\")))),\"\")","v":""},{"$f":"IFERROR(IF(LEN(Etapes[[#This Row],[Progress]])=0,\"\",IF(AND($C28=\"MER\",CS$6=$F28,$G28=1),1,IF(AND($C28=\"MEP\",CS$6=$F28,$G28=1),2,IF(AND(CS$6=$F28,$G28=1),0,\"\")))),\"\")","v":""},{"$f":"IFERROR(IF(LEN(Etapes[[#This Row],[Start]])=0,\"\",IF(AND($C28=\"MER\",CT$6=$F28,$G28=1),1,IF(AND($C28=\"MEP\",CT$6=$F28,$G28=1),2,IF(AND(CT$6=$F28,$G28=1),0,\"\")))),\"\")","v":""},{"$f":"IFERROR(IF(LEN(Etapes[[#This Row],[Planned]])=0,\"\",IF(AND($C28=\"MER\",CU$6=$F28,$G28=1),1,IF(AND($C28=\"MEP\",CU$6=$F28,$G28=1),2,IF(AND(CU$6=$F28,$G28=1),0,\"\")))),\"\")","v":""},{"$f":"IFERROR(IF(LEN(Etapes[[#This Row],[Add]])=0,\"\",IF(AND($C28=\"MER\",CV$6=$F28,$G28=1),1,IF(AND($C28=\"MEP\",CV$6=$F28,$G28=1),2,IF(AND(CV$6=$F28,$G28=1),0,\"\")))),\"\")","v":""},{"$f":"IFERROR(IF(LEN(Etapes[[#This Row],[End]])=0,\"\",IF(AND($C28=\"MER\",CW$6=$F28,$G28=1),1,IF(AND($C28=\"MEP\",CW$6=$F28,$G28=1),2,IF(AND(CW$6=$F28,$G28=1),0,\"\")))),\"\")","v":""}]
["4.4","Exécution tests",null,{"$f":"Settings!E47","v":"VIE"},null,"2022-08-03",null,null,{"$f":"IF(Etapes[[#This Row],[Start]]<>\"\",WORKDAY(Etapes[[#This Row],[Start]],IF(WEEKDAY(Etapes[[#This Row],[Start]],1)>=6,Etapes[[#This Row],[Planned]]+Etapes[[#This Row],[Add]],Etapes[[#This Row],[Planned]]+Etapes[[#This Row],[Add]]-1),Férié),\"\")","v":"2022-08-02"},{"$f":"IF(Etapes[[#This Row],[Start]]<>\"\",WORKDAY(Etapes[[#This Row],[Start]],IF(WEEKDAY(Etapes[[#This Row],[Start]],1)>=6,Etapes[[#This Row],[Progress]]*Etapes[[#This Row],[Planned]]+Etapes[[#This Row],[Add]],(Etapes[[#This Row],[Progress]]*Etapes[[#This Row],[Planned]]+Etapes[[#This Row],[Add]])-1),Férié),\"\")","v":"2022-08-02"},null,{"$f":"IFERROR(IF(LEN(Etapes[[#This Row],[Planned]])=0,\"\",IF(AND($C29=\"MER\",L$6=$F29,$G29=1),1,IF(AND($C29=\"MEP\",L$6=$F29,$G29=1),2,IF(AND(L$6=$F29,$G29=1),0,\"\")))),\"\")","v":""},{"$f":"IFERROR(IF(LEN(Etapes[[#This Row],[Planned]])=0,\"\",IF(AND($C29=\"MER\",M$6=$F29,$G29=1),1,IF(AND($C29=\"MEP\",M$6=$F29,$G29=1),2,IF(AND(M$6=$F29,$G29=1),0,\"\")))),\"\")","v":""},{"$f":"IFERROR(IF(LEN(Etapes[[#This Row],[Planned]])=0,\"\",IF(AND($C29=\"MER\",N$6=$F29,$G29=1),1,IF(AND($C29=\"MEP\",N$6=$F29,$G29=1),2,IF(AND(N$6=$F29,$G29=1),0,\"\")))),\"\")","v":""},{"$f":"IFERROR(IF(LEN(Etapes[[#This Row],[Planned]])=0,\"\",IF(AND($C29=\"MER\",O$6=$F29,$G29=1),1,IF(AND($C29=\"MEP\",O$6=$F29,$G29=1),2,IF(AND(O$6=$F29,$G29=1),0,\"\")))),\"\")","v":""},{"$f":"IFERROR(IF(LEN(Etapes[[#This Row],[Planned]])=0,\"\",IF(AND($C29=\"MER\",P$6=$F29,$G29=1),1,IF(AND($C29=\"MEP\",P$6=$F29,$G29=1),2,IF(AND(P$6=$F29,$G29=1),0,\"\")))),\"\")","v":""},{"$f":"IFERROR(IF(LEN(Etapes[[#This Row],[Planned]])=0,\"\",IF(AND($C29=\"MER\",Q$6=$F29,$G29=1),1,IF(AND($C29=\"MEP\",Q$6=$F29,$G29=1),2,IF(AND(Q$6=$F29,$G29=1),0,\"\")))),\"\")","v":""},{"$f":"IFERROR(IF(LEN(Etapes[[#This Row],[Planned]])=0,\"\",IF(AND($C29=\"MER\",R$6=$F29,$G29=1),1,IF(AND($C29=\"MEP\",R$6=$F29,$G29=1),2,IF(AND(R$6=$F29,$G29=1),0,\"\")))),\"\")","v":""},{"$f":"IFERROR(IF(LEN(Etapes[[#This Row],[Planned]])=0,\"\",IF(AND($C29=\"MER\",S$6=$F29,$G29=1),1,IF(AND($C29=\"MEP\",S$6=$F29,$G29=1),2,IF(AND(S$6=$F29,$G29=1),0,\"\")))),\"\")","v":""},{"$f":"IFERROR(IF(LEN(Etapes[[#This Row],[Planned]])=0,\"\",IF(AND($C29=\"MER\",T$6=$F29,$G29=1),1,IF(AND($C29=\"MEP\",T$6=$F29,$G29=1),2,IF(AND(T$6=$F29,$G29=1),0,\"\")))),\"\")","v":""},{"$f":"IFERROR(IF(LEN(Etapes[[#This Row],[Planned]])=0,\"\",IF(AND($C29=\"MER\",U$6=$F29,$G29=1),1,IF(AND($C29=\"MEP\",U$6=$F29,$G29=1),2,IF(AND(U$6=$F29,$G29=1),0,\"\")))),\"\")","v":""},{"$f":"IFERROR(IF(LEN(Etapes[[#This Row],[Planned]])=0,\"\",IF(AND($C29=\"MER\",V$6=$F29,$G29=1),1,IF(AND($C29=\"MEP\",V$6=$F29,$G29=1),2,IF(AND(V$6=$F29,$G29=1),0,\"\")))),\"\")","v":""},{"$f":"IFERROR(IF(LEN(Etapes[[#This Row],[Planned]])=0,\"\",IF(AND($C29=\"MER\",W$6=$F29,$G29=1),1,IF(AND($C29=\"MEP\",W$6=$F29,$G29=1),2,IF(AND(W$6=$F29,$G29=1),0,\"\")))),\"\")","v":""},{"$f":"IFERROR(IF(LEN(Etapes[[#This Row],[Planned]])=0,\"\",IF(AND($C29=\"MER\",X$6=$F29,$G29=1),1,IF(AND($C29=\"MEP\",X$6=$F29,$G29=1),2,IF(AND(X$6=$F29,$G29=1),0,\"\")))),\"\")","v":""},{"$f":"IFERROR(IF(LEN(Etapes[[#This Row],[Planned]])=0,\"\",IF(AND($C29=\"MER\",Y$6=$F29,$G29=1),1,IF(AND($C29=\"MEP\",Y$6=$F29,$G29=1),2,IF(AND(Y$6=$F29,$G29=1),0,\"\")))),\"\")","v":""},{"$f":"IFERROR(IF(LEN(Etapes[[#This Row],[Planned]])=0,\"\",IF(AND($C29=\"MER\",Z$6=$F29,$G29=1),1,IF(AND($C29=\"MEP\",Z$6=$F29,$G29=1),2,IF(AND(Z$6=$F29,$G29=1),0,\"\")))),\"\")","v":""},{"$f":"IFERROR(IF(LEN(Etapes[[#This Row],[Planned]])=0,\"\",IF(AND($C29=\"MER\",AA$6=$F29,$G29=1),1,IF(AND($C29=\"MEP\",AA$6=$F29,$G29=1),2,IF(AND(AA$6=$F29,$G29=1),0,\"\")))),\"\")","v":""},{"$f":"IFERROR(IF(LEN(Etapes[[#This Row],[Planned]])=0,\"\",IF(AND($C29=\"MER\",AB$6=$F29,$G29=1),1,IF(AND($C29=\"MEP\",AB$6=$F29,$G29=1),2,IF(AND(AB$6=$F29,$G29=1),0,\"\")))),\"\")","v":""},{"$f":"IFERROR(IF(LEN(Etapes[[#This Row],[Planned]])=0,\"\",IF(AND($C29=\"MER\",AC$6=$F29,$G29=1),1,IF(AND($C29=\"MEP\",AC$6=$F29,$G29=1),2,IF(AND(AC$6=$F29,$G29=1),0,\"\")))),\"\")","v":""},{"$f":"IFERROR(IF(LEN(Etapes[[#This Row],[Planned]])=0,\"\",IF(AND($C29=\"MER\",AD$6=$F29,$G29=1),1,IF(AND($C29=\"MEP\",AD$6=$F29,$G29=1),2,IF(AND(AD$6=$F29,$G29=1),0,\"\")))),\"\")","v":""},{"$f":"IFERROR(IF(LEN(Etapes[[#This Row],[Planned]])=0,\"\",IF(AND($C29=\"MER\",AE$6=$F29,$G29=1),1,IF(AND($C29=\"MEP\",AE$6=$F29,$G29=1),2,IF(AND(AE$6=$F29,$G29=1),0,\"\")))),\"\")","v":""},{"$f":"IFERROR(IF(LEN(Etapes[[#This Row],[Planned]])=0,\"\",IF(AND($C29=\"MER\",AF$6=$F29,$G29=1),1,IF(AND($C29=\"MEP\",AF$6=$F29,$G29=1),2,IF(AND(AF$6=$F29,$G29=1),0,\"\")))),\"\")","v":""},{"$f":"IFERROR(IF(LEN(Etapes[[#This Row],[Planned]])=0,\"\",IF(AND($C29=\"MER\",AG$6=$F29,$G29=1),1,IF(AND($C29=\"MEP\",AG$6=$F29,$G29=1),2,IF(AND(AG$6=$F29,$G29=1),0,\"\")))),\"\")","v":""},{"$f":"IFERROR(IF(LEN(Etapes[[#This Row],[Planned]])=0,\"\",IF(AND($C29=\"MER\",AH$6=$F29,$G29=1),1,IF(AND($C29=\"MEP\",AH$6=$F29,$G29=1),2,IF(AND(AH$6=$F29,$G29=1),0,\"\")))),\"\")","v":""},{"$f":"IFERROR(IF(LEN(Etapes[[#This Row],[Planned]])=0,\"\",IF(AND($C29=\"MER\",AI$6=$F29,$G29=1),1,IF(AND($C29=\"MEP\",AI$6=$F29,$G29=1),2,IF(AND(AI$6=$F29,$G29=1),0,\"\")))),\"\")","v":""},{"$f":"IFERROR(IF(LEN(Etapes[[#This Row],[Planned]])=0,\"\",IF(AND($C29=\"MER\",AJ$6=$F29,$G29=1),1,IF(AND($C29=\"MEP\",AJ$6=$F29,$G29=1),2,IF(AND(AJ$6=$F29,$G29=1),0,\"\")))),\"\")","v":""},{"$f":"IFERROR(IF(LEN(Etapes[[#This Row],[Planned]])=0,\"\",IF(AND($C29=\"MER\",AK$6=$F29,$G29=1),1,IF(AND($C29=\"MEP\",AK$6=$F29,$G29=1),2,IF(AND(AK$6=$F29,$G29=1),0,\"\")))),\"\")","v":""},{"$f":"IFERROR(IF(LEN(Etapes[[#This Row],[Planned]])=0,\"\",IF(AND($C29=\"MER\",AL$6=$F29,$G29=1),1,IF(AND($C29=\"MEP\",AL$6=$F29,$G29=1),2,IF(AND(AL$6=$F29,$G29=1),0,\"\")))),\"\")","v":""},{"$f":"IFERROR(IF(LEN(Etapes[[#This Row],[Planned]])=0,\"\",IF(AND($C29=\"MER\",AM$6=$F29,$G29=1),1,IF(AND($C29=\"MEP\",AM$6=$F29,$G29=1),2,IF(AND(AM$6=$F29,$G29=1),0,\"\")))),\"\")","v":""},{"$f":"IFERROR(IF(LEN(Etapes[[#This Row],[Planned]])=0,\"\",IF(AND($C29=\"MER\",AN$6=$F29,$G29=1),1,IF(AND($C29=\"MEP\",AN$6=$F29,$G29=1),2,IF(AND(AN$6=$F29,$G29=1),0,\"\")))),\"\")","v":""},{"$f":"IFERROR(IF(LEN(Etapes[[#This Row],[Planned]])=0,\"\",IF(AND($C29=\"MER\",AO$6=$F29,$G29=1),1,IF(AND($C29=\"MEP\",AO$6=$F29,$G29=1),2,IF(AND(AO$6=$F29,$G29=1),0,\"\")))),\"\")","v":""},{"$f":"IFERROR(IF(LEN(Etapes[[#This Row],[Planned]])=0,\"\",IF(AND($C29=\"MER\",AP$6=$F29,$G29=1),1,IF(AND($C29=\"MEP\",AP$6=$F29,$G29=1),2,IF(AND(AP$6=$F29,$G29=1),0,\"\")))),\"\")","v":""},{"$f":"IFERROR(IF(LEN(Etapes[[#This Row],[Planned]])=0,\"\",IF(AND($C29=\"MER\",AQ$6=$F29,$G29=1),1,IF(AND($C29=\"MEP\",AQ$6=$F29,$G29=1),2,IF(AND(AQ$6=$F29,$G29=1),0,\"\")))),\"\")","v":""},{"$f":"IFERROR(IF(LEN(Etapes[[#This Row],[Planned]])=0,\"\",IF(AND($C29=\"MER\",AR$6=$F29,$G29=1),1,IF(AND($C29=\"MEP\",AR$6=$F29,$G29=1),2,IF(AND(AR$6=$F29,$G29=1),0,\"\")))),\"\")","v":""},{"$f":"IFERROR(IF(LEN(Etapes[[#This Row],[Planned]])=0,\"\",IF(AND($C29=\"MER\",AS$6=$F29,$G29=1),1,IF(AND($C29=\"MEP\",AS$6=$F29,$G29=1),2,IF(AND(AS$6=$F29,$G29=1),0,\"\")))),\"\")","v":""},{"$f":"IFERROR(IF(LEN(Etapes[[#This Row],[Planned]])=0,\"\",IF(AND($C29=\"MER\",AT$6=$F29,$G29=1),1,IF(AND($C29=\"MEP\",AT$6=$F29,$G29=1),2,IF(AND(AT$6=$F29,$G29=1),0,\"\")))),\"\")","v":""},{"$f":"IFERROR(IF(LEN(Etapes[[#This Row],[Planned]])=0,\"\",IF(AND($C29=\"MER\",AU$6=$F29,$G29=1),1,IF(AND($C29=\"MEP\",AU$6=$F29,$G29=1),2,IF(AND(AU$6=$F29,$G29=1),0,\"\")))),\"\")","v":""},{"$f":"IFERROR(IF(LEN(Etapes[[#This Row],[Planned]])=0,\"\",IF(AND($C29=\"MER\",AV$6=$F29,$G29=1),1,IF(AND($C29=\"MEP\",AV$6=$F29,$G29=1),2,IF(AND(AV$6=$F29,$G29=1),0,\"\")))),\"\")","v":""},{"$f":"IFERROR(IF(LEN(Etapes[[#This Row],[Planned]])=0,\"\",IF(AND($C29=\"MER\",AW$6=$F29,$G29=1),1,IF(AND($C29=\"MEP\",AW$6=$F29,$G29=1),2,IF(AND(AW$6=$F29,$G29=1),0,\"\")))),\"\")","v":""},{"$f":"IFERROR(IF(LEN(Etapes[[#This Row],[Planned]])=0,\"\",IF(AND($C29=\"MER\",AX$6=$F29,$G29=1),1,IF(AND($C29=\"MEP\",AX$6=$F29,$G29=1),2,IF(AND(AX$6=$F29,$G29=1),0,\"\")))),\"\")","v":""},{"$f":"IFERROR(IF(LEN(Etapes[[#This Row],[Planned]])=0,\"\",IF(AND($C29=\"MER\",AY$6=$F29,$G29=1),1,IF(AND($C29=\"MEP\",AY$6=$F29,$G29=1),2,IF(AND(AY$6=$F29,$G29=1),0,\"\")))),\"\")","v":""},{"$f":"IFERROR(IF(LEN(Etapes[[#This Row],[Planned]])=0,\"\",IF(AND($C29=\"MER\",AZ$6=$F29,$G29=1),1,IF(AND($C29=\"MEP\",AZ$6=$F29,$G29=1),2,IF(AND(AZ$6=$F29,$G29=1),0,\"\")))),\"\")","v":""},{"$f":"IFERROR(IF(LEN(Etapes[[#This Row],[Planned]])=0,\"\",IF(AND($C29=\"MER\",BA$6=$F29,$G29=1),1,IF(AND($C29=\"MEP\",BA$6=$F29,$G29=1),2,IF(AND(BA$6=$F29,$G29=1),0,\"\")))),\"\")","v":""},{"$f":"IFERROR(IF(LEN(Etapes[[#This Row],[Planned]])=0,\"\",IF(AND($C29=\"MER\",BB$6=$F29,$G29=1),1,IF(AND($C29=\"MEP\",BB$6=$F29,$G29=1),2,IF(AND(BB$6=$F29,$G29=1),0,\"\")))),\"\")","v":""},{"$f":"IFERROR(IF(LEN(Etapes[[#This Row],[Planned]])=0,\"\",IF(AND($C29=\"MER\",BC$6=$F29,$G29=1),1,IF(AND($C29=\"MEP\",BC$6=$F29,$G29=1),2,IF(AND(BC$6=$F29,$G29=1),0,\"\")))),\"\")","v":""},{"$f":"IFERROR(IF(LEN(Etapes[[#This Row],[Planned]])=0,\"\",IF(AND($C29=\"MER\",BD$6=$F29,$G29=1),1,IF(AND($C29=\"MEP\",BD$6=$F29,$G29=1),2,IF(AND(BD$6=$F29,$G29=1),0,\"\")))),\"\")","v":""},{"$f":"IFERROR(IF(LEN(Etapes[[#This Row],[Planned]])=0,\"\",IF(AND($C29=\"MER\",BE$6=$F29,$G29=1),1,IF(AND($C29=\"MEP\",BE$6=$F29,$G29=1),2,IF(AND(BE$6=$F29,$G29=1),0,\"\")))),\"\")","v":""},{"$f":"IFERROR(IF(LEN(Etapes[[#This Row],[Planned]])=0,\"\",IF(AND($C29=\"MER\",BF$6=$F29,$G29=1),1,IF(AND($C29=\"MEP\",BF$6=$F29,$G29=1),2,IF(AND(BF$6=$F29,$G29=1),0,\"\")))),\"\")","v":""},{"$f":"IFERROR(IF(LEN(Etapes[[#This Row],[Planned]])=0,\"\",IF(AND($C29=\"MER\",BG$6=$F29,$G29=1),1,IF(AND($C29=\"MEP\",BG$6=$F29,$G29=1),2,IF(AND(BG$6=$F29,$G29=1),0,\"\")))),\"\")","v":""},{"$f":"IFERROR(IF(LEN(Etapes[[#This Row],[Planned]])=0,\"\",IF(AND($C29=\"MER\",BH$6=$F29,$G29=1),1,IF(AND($C29=\"MEP\",BH$6=$F29,$G29=1),2,IF(AND(BH$6=$F29,$G29=1),0,\"\")))),\"\")","v":""},{"$f":"IFERROR(IF(LEN(Etapes[[#This Row],[Planned]])=0,\"\",IF(AND($C29=\"MER\",BI$6=$F29,$G29=1),1,IF(AND($C29=\"MEP\",BI$6=$F29,$G29=1),2,IF(AND(BI$6=$F29,$G29=1),0,\"\")))),\"\")","v":""},{"$f":"IFERROR(IF(LEN(Etapes[[#This Row],[Planned]])=0,\"\",IF(AND($C29=\"MER\",BJ$6=$F29,$G29=1),1,IF(AND($C29=\"MEP\",BJ$6=$F29,$G29=1),2,IF(AND(BJ$6=$F29,$G29=1),0,\"\")))),\"\")","v":""},{"$f":"IFERROR(IF(LEN(Etapes[[#This Row],[Planned]])=0,\"\",IF(AND($C29=\"MER\",BK$6=$F29,$G29=1),1,IF(AND($C29=\"MEP\",BK$6=$F29,$G29=1),2,IF(AND(BK$6=$F29,$G29=1),0,\"\")))),\"\")","v":""},{"$f":"IFERROR(IF(LEN(Etapes[[#This Row],[Planned]])=0,\"\",IF(AND($C29=\"MER\",BL$6=$F29,$G29=1),1,IF(AND($C29=\"MEP\",BL$6=$F29,$G29=1),2,IF(AND(BL$6=$F29,$G29=1),0,\"\")))),\"\")","v":""},{"$f":"IFERROR(IF(LEN(Etapes[[#This Row],[Planned]])=0,\"\",IF(AND($C29=\"MER\",BM$6=$F29,$G29=1),1,IF(AND($C29=\"MEP\",BM$6=$F29,$G29=1),2,IF(AND(BM$6=$F29,$G29=1),0,\"\")))),\"\")","v":""},{"$f":"IFERROR(IF(LEN(Etapes[[#This Row],[Planned]])=0,\"\",IF(AND($C29=\"MER\",BN$6=$F29,$G29=1),1,IF(AND($C29=\"MEP\",BN$6=$F29,$G29=1),2,IF(AND(BN$6=$F29,$G29=1),0,\"\")))),\"\")","v":""},{"$f":"IFERROR(IF(LEN(Etapes[[#This Row],[Planned]])=0,\"\",IF(AND($C29=\"MER\",BO$6=$F29,$G29=1),1,IF(AND($C29=\"MEP\",BO$6=$F29,$G29=1),2,IF(AND(BO$6=$F29,$G29=1),0,\"\")))),\"\")","v":""},{"$f":"IFERROR(IF(LEN(Etapes[[#This Row],[Add]])=0,\"\",IF(AND($C29=\"MER\",BP$6=$F29,$G29=1),1,IF(AND($C29=\"MEP\",BP$6=$F29,$G29=1),2,IF(AND(BP$6=$F29,$G29=1),0,\"\")))),\"\")","v":""},{"$f":"IFERROR(IF(LEN(Etapes[[#This Row],[End]])=0,\"\",IF(AND($C29=\"MER\",BQ$6=$F29,$G29=1),1,IF(AND($C29=\"MEP\",BQ$6=$F29,$G29=1),2,IF(AND(BQ$6=$F29,$G29=1),0,\"\")))),\"\")","v":""},{"$f":"IFERROR(IF(LEN(Etapes[[#This Row],[Réalisé]])=0,\"\",IF(AND($C29=\"MER\",BR$6=$F29,$G29=1),1,IF(AND($C29=\"MEP\",BR$6=$F29,$G29=1),2,IF(AND(BR$6=$F29,$G29=1),0,\"\")))),\"\")","v":""},{"$f":"IFERROR(IF(LEN(Etapes[[#This Row],[Activité]])=0,\"\",IF(AND($C29=\"MER\",BS$6=$F29,$G29=1),1,IF(AND($C29=\"MEP\",BS$6=$F29,$G29=1),2,IF(AND(BS$6=$F29,$G29=1),0,\"\")))),\"\")","v":""},{"$f":"IFERROR(IF(LEN(Etapes[[#This Row],[Statut]])=0,\"\",IF(AND($C29=\"MER\",BT$6=$F29,$G29=1),1,IF(AND($C29=\"MEP\",BT$6=$F29,$G29=1),2,IF(AND(BT$6=$F29,$G29=1),0,\"\")))),\"\")","v":""},{"$f":"IFERROR(IF(LEN(Etapes[[#This Row],[Progress]])=0,\"\",IF(AND($C29=\"MER\",BU$6=$F29,$G29=1),1,IF(AND($C29=\"MEP\",BU$6=$F29,$G29=1),2,IF(AND(BU$6=$F29,$G29=1),0,\"\")))),\"\")","v":""},{"$f":"IFERROR(IF(LEN(Etapes[[#This Row],[Start]])=0,\"\",IF(AND($C29=\"MER\",BV$6=$F29,$G29=1),1,IF(AND($C29=\"MEP\",BV$6=$F29,$G29=1),2,IF(AND(BV$6=$F29,$G29=1),0,\"\")))),\"\")","v":""},{"$f":"IFERROR(IF(LEN(Etapes[[#This Row],[Planned]])=0,\"\",IF(AND($C29=\"MER\",BW$6=$F29,$G29=1),1,IF(AND($C29=\"MEP\",BW$6=$F29,$G29=1),2,IF(AND(BW$6=$F29,$G29=1),0,\"\")))),\"\")","v":""},{"$f":"IFERROR(IF(LEN(Etapes[[#This Row],[Add]])=0,\"\",IF(AND($C29=\"MER\",BX$6=$F29,$G29=1),1,IF(AND($C29=\"MEP\",BX$6=$F29,$G29=1),2,IF(AND(BX$6=$F29,$G29=1),0,\"\")))),\"\")","v":""},{"$f":"IFERROR(IF(LEN(Etapes[[#This Row],[End]])=0,\"\",IF(AND($C29=\"MER\",BY$6=$F29,$G29=1),1,IF(AND($C29=\"MEP\",BY$6=$F29,$G29=1),2,IF(AND(BY$6=$F29,$G29=1),0,\"\")))),\"\")","v":""},{"$f":"IFERROR(IF(LEN(Etapes[[#This Row],[Réalisé]])=0,\"\",IF(AND($C29=\"MER\",BZ$6=$F29,$G29=1),1,IF(AND($C29=\"MEP\",BZ$6=$F29,$G29=1),2,IF(AND(BZ$6=$F29,$G29=1),0,\"\")))),\"\")","v":""},{"$f":"IFERROR(IF(LEN(Etapes[[#This Row],[Activité]])=0,\"\",IF(AND($C29=\"MER\",CA$6=$F29,$G29=1),1,IF(AND($C29=\"MEP\",CA$6=$F29,$G29=1),2,IF(AND(CA$6=$F29,$G29=1),0,\"\")))),\"\")","v":""},{"$f":"IFERROR(IF(LEN(Etapes[[#This Row],[Statut]])=0,\"\",IF(AND($C29=\"MER\",CB$6=$F29,$G29=1),1,IF(AND($C29=\"MEP\",CB$6=$F29,$G29=1),2,IF(AND(CB$6=$F29,$G29=1),0,\"\")))),\"\")","v":""},{"$f":"IFERROR(IF(LEN(Etapes[[#This Row],[Progress]])=0,\"\",IF(AND($C29=\"MER\",CC$6=$F29,$G29=1),1,IF(AND($C29=\"MEP\",CC$6=$F29,$G29=1),2,IF(AND(CC$6=$F29,$G29=1),0,\"\")))),\"\")","v":""},{"$f":"IFERROR(IF(LEN(Etapes[[#This Row],[Start]])=0,\"\",IF(AND($C29=\"MER\",CD$6=$F29,$G29=1),1,IF(AND($C29=\"MEP\",CD$6=$F29,$G29=1),2,IF(AND(CD$6=$F29,$G29=1),0,\"\")))),\"\")","v":""},{"$f":"IFERROR(IF(LEN(Etapes[[#This Row],[Planned]])=0,\"\",IF(AND($C29=\"MER\",CE$6=$F29,$G29=1),1,IF(AND($C29=\"MEP\",CE$6=$F29,$G29=1),2,IF(AND(CE$6=$F29,$G29=1),0,\"\")))),\"\")","v":""},{"$f":"IFERROR(IF(LEN(Etapes[[#This Row],[Add]])=0,\"\",IF(AND($C29=\"MER\",CF$6=$F29,$G29=1),1,IF(AND($C29=\"MEP\",CF$6=$F29,$G29=1),2,IF(AND(CF$6=$F29,$G29=1),0,\"\")))),\"\")","v":""},{"$f":"IFERROR(IF(LEN(Etapes[[#This Row],[End]])=0,\"\",IF(AND($C29=\"MER\",CG$6=$F29,$G29=1),1,IF(AND($C29=\"MEP\",CG$6=$F29,$G29=1),2,IF(AND(CG$6=$F29,$G29=1),0,\"\")))),\"\")","v":""},{"$f":"IFERROR(IF(LEN(Etapes[[#This Row],[Réalisé]])=0,\"\",IF(AND($C29=\"MER\",CH$6=$F29,$G29=1),1,IF(AND($C29=\"MEP\",CH$6=$F29,$G29=1),2,IF(AND(CH$6=$F29,$G29=1),0,\"\")))),\"\")","v":""},{"$f":"IFERROR(IF(LEN(Etapes[[#This Row],[Activité]])=0,\"\",IF(AND($C29=\"MER\",CI$6=$F29,$G29=1),1,IF(AND($C29=\"MEP\",CI$6=$F29,$G29=1),2,IF(AND(CI$6=$F29,$G29=1),0,\"\")))),\"\")","v":""},{"$f":"IFERROR(IF(LEN(Etapes[[#This Row],[Statut]])=0,\"\",IF(AND($C29=\"MER\",CJ$6=$F29,$G29=1),1,IF(AND($C29=\"MEP\",CJ$6=$F29,$G29=1),2,IF(AND(CJ$6=$F29,$G29=1),0,\"\")))),\"\")","v":""},{"$f":"IFERROR(IF(LEN(Etapes[[#This Row],[Progress]])=0,\"\",IF(AND($C29=\"MER\",CK$6=$F29,$G29=1),1,IF(AND($C29=\"MEP\",CK$6=$F29,$G29=1),2,IF(AND(CK$6=$F29,$G29=1),0,\"\")))),\"\")","v":""},{"$f":"IFERROR(IF(LEN(Etapes[[#This Row],[Start]])=0,\"\",IF(AND($C29=\"MER\",CL$6=$F29,$G29=1),1,IF(AND($C29=\"MEP\",CL$6=$F29,$G29=1),2,IF(AND(CL$6=$F29,$G29=1),0,\"\")))),\"\")","v":""},{"$f":"IFERROR(IF(LEN(Etapes[[#This Row],[Planned]])=0,\"\",IF(AND($C29=\"MER\",CM$6=$F29,$G29=1),1,IF(AND($C29=\"MEP\",CM$6=$F29,$G29=1),2,IF(AND(CM$6=$F29,$G29=1),0,\"\")))),\"\")","v":""},{"$f":"IFERROR(IF(LEN(Etapes[[#This Row],[Add]])=0,\"\",IF(AND($C29=\"MER\",CN$6=$F29,$G29=1),1,IF(AND($C29=\"MEP\",CN$6=$F29,$G29=1),2,IF(AND(CN$6=$F29,$G29=1),0,\"\")))),\"\")","v":""},{"$f":"IFERROR(IF(LEN(Etapes[[#This Row],[End]])=0,\"\",IF(AND($C29=\"MER\",CO$6=$F29,$G29=1),1,IF(AND($C29=\"MEP\",CO$6=$F29,$G29=1),2,IF(AND(CO$6=$F29,$G29=1),0,\"\")))),\"\")","v":""},{"$f":"IFERROR(IF(LEN(Etapes[[#This Row],[Réalisé]])=0,\"\",IF(AND($C29=\"MER\",CP$6=$F29,$G29=1),1,IF(AND($C29=\"MEP\",CP$6=$F29,$G29=1),2,IF(AND(CP$6=$F29,$G29=1),0,\"\")))),\"\")","v":""},{"$f":"IFERROR(IF(LEN(Etapes[[#This Row],[Activité]])=0,\"\",IF(AND($C29=\"MER\",CQ$6=$F29,$G29=1),1,IF(AND($C29=\"MEP\",CQ$6=$F29,$G29=1),2,IF(AND(CQ$6=$F29,$G29=1),0,\"\")))),\"\")","v":""},{"$f":"IFERROR(IF(LEN(Etapes[[#This Row],[Statut]])=0,\"\",IF(AND($C29=\"MER\",CR$6=$F29,$G29=1),1,IF(AND($C29=\"MEP\",CR$6=$F29,$G29=1),2,IF(AND(CR$6=$F29,$G29=1),0,\"\")))),\"\")","v":""},{"$f":"IFERROR(IF(LEN(Etapes[[#This Row],[Progress]])=0,\"\",IF(AND($C29=\"MER\",CS$6=$F29,$G29=1),1,IF(AND($C29=\"MEP\",CS$6=$F29,$G29=1),2,IF(AND(CS$6=$F29,$G29=1),0,\"\")))),\"\")","v":""},{"$f":"IFERROR(IF(LEN(Etapes[[#This Row],[Start]])=0,\"\",IF(AND($C29=\"MER\",CT$6=$F29,$G29=1),1,IF(AND($C29=\"MEP\",CT$6=$F29,$G29=1),2,IF(AND(CT$6=$F29,$G29=1),0,\"\")))),\"\")","v":""},{"$f":"IFERROR(IF(LEN(Etapes[[#This Row],[Planned]])=0,\"\",IF(AND($C29=\"MER\",CU$6=$F29,$G29=1),1,IF(AND($C29=\"MEP\",CU$6=$F29,$G29=1),2,IF(AND(CU$6=$F29,$G29=1),0,\"\")))),\"\")","v":""},{"$f":"IFERROR(IF(LEN(Etapes[[#This Row],[Add]])=0,\"\",IF(AND($C29=\"MER\",CV$6=$F29,$G29=1),1,IF(AND($C29=\"MEP\",CV$6=$F29,$G29=1),2,IF(AND(CV$6=$F29,$G29=1),0,\"\")))),\"\")","v":""},{"$f":"IFERROR(IF(LEN(Etapes[[#This Row],[End]])=0,\"\",IF(AND($C29=\"MER\",CW$6=$F29,$G29=1),1,IF(AND($C29=\"MEP\",CW$6=$F29,$G29=1),2,IF(AND(CW$6=$F29,$G29=1),0,\"\")))),\"\")","v":""}]
[5,{"$f":"RàF!A20","v":"E6.13.01"},null,null,null,"2022-08-03",null,null,{"$f":"IF(Etapes[[#This Row],[Start]]<>\"\",WORKDAY(Etapes[[#This Row],[Start]],IF(WEEKDAY(Etapes[[#This Row],[Start]],1)>=6,Etapes[[#This Row],[Planned]]+Etapes[[#This Row],[Add]],Etapes[[#This Row],[Planned]]+Etapes[[#This Row],[Add]]-1),Férié),\"\")","v":"2022-08-02"},{"$f":"IF(Etapes[[#This Row],[Start]]<>\"\",WORKDAY(Etapes[[#This Row],[Start]],IF(WEEKDAY(Etapes[[#This Row],[Start]],1)>=6,Etapes[[#This Row],[Progress]]*Etapes[[#This Row],[Planned]]+Etapes[[#This Row],[Add]],(Etapes[[#This Row],[Progress]]*Etapes[[#This Row],[Planned]]+Etapes[[#This Row],[Add]])-1),Férié),\"\")","v":"2022-08-02"},null,{"$f":"IFERROR(IF(LEN(Etapes[[#This Row],[Planned]])=0,\"\",IF(AND($C30=\"MER\",L$6=$F30,$G30=1),1,IF(AND($C30=\"MEP\",L$6=$F30,$G30=1),2,IF(AND(L$6=$F30,$G30=1),0,\"\")))),\"\")","v":""},{"$f":"IFERROR(IF(LEN(Etapes[[#This Row],[Planned]])=0,\"\",IF(AND($C30=\"MER\",M$6=$F30,$G30=1),1,IF(AND($C30=\"MEP\",M$6=$F30,$G30=1),2,IF(AND(M$6=$F30,$G30=1),0,\"\")))),\"\")","v":""},{"$f":"IFERROR(IF(LEN(Etapes[[#This Row],[Planned]])=0,\"\",IF(AND($C30=\"MER\",N$6=$F30,$G30=1),1,IF(AND($C30=\"MEP\",N$6=$F30,$G30=1),2,IF(AND(N$6=$F30,$G30=1),0,\"\")))),\"\")","v":""},{"$f":"IFERROR(IF(LEN(Etapes[[#This Row],[Planned]])=0,\"\",IF(AND($C30=\"MER\",O$6=$F30,$G30=1),1,IF(AND($C30=\"MEP\",O$6=$F30,$G30=1),2,IF(AND(O$6=$F30,$G30=1),0,\"\")))),\"\")","v":""},{"$f":"IFERROR(IF(LEN(Etapes[[#This Row],[Planned]])=0,\"\",IF(AND($C30=\"MER\",P$6=$F30,$G30=1),1,IF(AND($C30=\"MEP\",P$6=$F30,$G30=1),2,IF(AND(P$6=$F30,$G30=1),0,\"\")))),\"\")","v":""},{"$f":"IFERROR(IF(LEN(Etapes[[#This Row],[Planned]])=0,\"\",IF(AND($C30=\"MER\",Q$6=$F30,$G30=1),1,IF(AND($C30=\"MEP\",Q$6=$F30,$G30=1),2,IF(AND(Q$6=$F30,$G30=1),0,\"\")))),\"\")","v":""},{"$f":"IFERROR(IF(LEN(Etapes[[#This Row],[Planned]])=0,\"\",IF(AND($C30=\"MER\",R$6=$F30,$G30=1),1,IF(AND($C30=\"MEP\",R$6=$F30,$G30=1),2,IF(AND(R$6=$F30,$G30=1),0,\"\")))),\"\")","v":""},{"$f":"IFERROR(IF(LEN(Etapes[[#This Row],[Planned]])=0,\"\",IF(AND($C30=\"MER\",S$6=$F30,$G30=1),1,IF(AND($C30=\"MEP\",S$6=$F30,$G30=1),2,IF(AND(S$6=$F30,$G30=1),0,\"\")))),\"\")","v":""},{"$f":"IFERROR(IF(LEN(Etapes[[#This Row],[Planned]])=0,\"\",IF(AND($C30=\"MER\",T$6=$F30,$G30=1),1,IF(AND($C30=\"MEP\",T$6=$F30,$G30=1),2,IF(AND(T$6=$F30,$G30=1),0,\"\")))),\"\")","v":""},{"$f":"IFERROR(IF(LEN(Etapes[[#This Row],[Planned]])=0,\"\",IF(AND($C30=\"MER\",U$6=$F30,$G30=1),1,IF(AND($C30=\"MEP\",U$6=$F30,$G30=1),2,IF(AND(U$6=$F30,$G30=1),0,\"\")))),\"\")","v":""},{"$f":"IFERROR(IF(LEN(Etapes[[#This Row],[Planned]])=0,\"\",IF(AND($C30=\"MER\",V$6=$F30,$G30=1),1,IF(AND($C30=\"MEP\",V$6=$F30,$G30=1),2,IF(AND(V$6=$F30,$G30=1),0,\"\")))),\"\")","v":""},{"$f":"IFERROR(IF(LEN(Etapes[[#This Row],[Planned]])=0,\"\",IF(AND($C30=\"MER\",W$6=$F30,$G30=1),1,IF(AND($C30=\"MEP\",W$6=$F30,$G30=1),2,IF(AND(W$6=$F30,$G30=1),0,\"\")))),\"\")","v":""},{"$f":"IFERROR(IF(LEN(Etapes[[#This Row],[Planned]])=0,\"\",IF(AND($C30=\"MER\",X$6=$F30,$G30=1),1,IF(AND($C30=\"MEP\",X$6=$F30,$G30=1),2,IF(AND(X$6=$F30,$G30=1),0,\"\")))),\"\")","v":""},{"$f":"IFERROR(IF(LEN(Etapes[[#This Row],[Planned]])=0,\"\",IF(AND($C30=\"MER\",Y$6=$F30,$G30=1),1,IF(AND($C30=\"MEP\",Y$6=$F30,$G30=1),2,IF(AND(Y$6=$F30,$G30=1),0,\"\")))),\"\")","v":""},{"$f":"IFERROR(IF(LEN(Etapes[[#This Row],[Planned]])=0,\"\",IF(AND($C30=\"MER\",Z$6=$F30,$G30=1),1,IF(AND($C30=\"MEP\",Z$6=$F30,$G30=1),2,IF(AND(Z$6=$F30,$G30=1),0,\"\")))),\"\")","v":""},{"$f":"IFERROR(IF(LEN(Etapes[[#This Row],[Planned]])=0,\"\",IF(AND($C30=\"MER\",AA$6=$F30,$G30=1),1,IF(AND($C30=\"MEP\",AA$6=$F30,$G30=1),2,IF(AND(AA$6=$F30,$G30=1),0,\"\")))),\"\")","v":""},{"$f":"IFERROR(IF(LEN(Etapes[[#This Row],[Planned]])=0,\"\",IF(AND($C30=\"MER\",AB$6=$F30,$G30=1),1,IF(AND($C30=\"MEP\",AB$6=$F30,$G30=1),2,IF(AND(AB$6=$F30,$G30=1),0,\"\")))),\"\")","v":""},{"$f":"IFERROR(IF(LEN(Etapes[[#This Row],[Planned]])=0,\"\",IF(AND($C30=\"MER\",AC$6=$F30,$G30=1),1,IF(AND($C30=\"MEP\",AC$6=$F30,$G30=1),2,IF(AND(AC$6=$F30,$G30=1),0,\"\")))),\"\")","v":""},{"$f":"IFERROR(IF(LEN(Etapes[[#This Row],[Planned]])=0,\"\",IF(AND($C30=\"MER\",AD$6=$F30,$G30=1),1,IF(AND($C30=\"MEP\",AD$6=$F30,$G30=1),2,IF(AND(AD$6=$F30,$G30=1),0,\"\")))),\"\")","v":""},{"$f":"IFERROR(IF(LEN(Etapes[[#This Row],[Planned]])=0,\"\",IF(AND($C30=\"MER\",AE$6=$F30,$G30=1),1,IF(AND($C30=\"MEP\",AE$6=$F30,$G30=1),2,IF(AND(AE$6=$F30,$G30=1),0,\"\")))),\"\")","v":""},{"$f":"IFERROR(IF(LEN(Etapes[[#This Row],[Planned]])=0,\"\",IF(AND($C30=\"MER\",AF$6=$F30,$G30=1),1,IF(AND($C30=\"MEP\",AF$6=$F30,$G30=1),2,IF(AND(AF$6=$F30,$G30=1),0,\"\")))),\"\")","v":""},{"$f":"IFERROR(IF(LEN(Etapes[[#This Row],[Planned]])=0,\"\",IF(AND($C30=\"MER\",AG$6=$F30,$G30=1),1,IF(AND($C30=\"MEP\",AG$6=$F30,$G30=1),2,IF(AND(AG$6=$F30,$G30=1),0,\"\")))),\"\")","v":""},{"$f":"IFERROR(IF(LEN(Etapes[[#This Row],[Planned]])=0,\"\",IF(AND($C30=\"MER\",AH$6=$F30,$G30=1),1,IF(AND($C30=\"MEP\",AH$6=$F30,$G30=1),2,IF(AND(AH$6=$F30,$G30=1),0,\"\")))),\"\")","v":""},{"$f":"IFERROR(IF(LEN(Etapes[[#This Row],[Planned]])=0,\"\",IF(AND($C30=\"MER\",AI$6=$F30,$G30=1),1,IF(AND($C30=\"MEP\",AI$6=$F30,$G30=1),2,IF(AND(AI$6=$F30,$G30=1),0,\"\")))),\"\")","v":""},{"$f":"IFERROR(IF(LEN(Etapes[[#This Row],[Planned]])=0,\"\",IF(AND($C30=\"MER\",AJ$6=$F30,$G30=1),1,IF(AND($C30=\"MEP\",AJ$6=$F30,$G30=1),2,IF(AND(AJ$6=$F30,$G30=1),0,\"\")))),\"\")","v":""},{"$f":"IFERROR(IF(LEN(Etapes[[#This Row],[Planned]])=0,\"\",IF(AND($C30=\"MER\",AK$6=$F30,$G30=1),1,IF(AND($C30=\"MEP\",AK$6=$F30,$G30=1),2,IF(AND(AK$6=$F30,$G30=1),0,\"\")))),\"\")","v":""},{"$f":"IFERROR(IF(LEN(Etapes[[#This Row],[Planned]])=0,\"\",IF(AND($C30=\"MER\",AL$6=$F30,$G30=1),1,IF(AND($C30=\"MEP\",AL$6=$F30,$G30=1),2,IF(AND(AL$6=$F30,$G30=1),0,\"\")))),\"\")","v":""},{"$f":"IFERROR(IF(LEN(Etapes[[#This Row],[Planned]])=0,\"\",IF(AND($C30=\"MER\",AM$6=$F30,$G30=1),1,IF(AND($C30=\"MEP\",AM$6=$F30,$G30=1),2,IF(AND(AM$6=$F30,$G30=1),0,\"\")))),\"\")","v":""},{"$f":"IFERROR(IF(LEN(Etapes[[#This Row],[Planned]])=0,\"\",IF(AND($C30=\"MER\",AN$6=$F30,$G30=1),1,IF(AND($C30=\"MEP\",AN$6=$F30,$G30=1),2,IF(AND(AN$6=$F30,$G30=1),0,\"\")))),\"\")","v":""},{"$f":"IFERROR(IF(LEN(Etapes[[#This Row],[Planned]])=0,\"\",IF(AND($C30=\"MER\",AO$6=$F30,$G30=1),1,IF(AND($C30=\"MEP\",AO$6=$F30,$G30=1),2,IF(AND(AO$6=$F30,$G30=1),0,\"\")))),\"\")","v":""},{"$f":"IFERROR(IF(LEN(Etapes[[#This Row],[Planned]])=0,\"\",IF(AND($C30=\"MER\",AP$6=$F30,$G30=1),1,IF(AND($C30=\"MEP\",AP$6=$F30,$G30=1),2,IF(AND(AP$6=$F30,$G30=1),0,\"\")))),\"\")","v":""},{"$f":"IFERROR(IF(LEN(Etapes[[#This Row],[Planned]])=0,\"\",IF(AND($C30=\"MER\",AQ$6=$F30,$G30=1),1,IF(AND($C30=\"MEP\",AQ$6=$F30,$G30=1),2,IF(AND(AQ$6=$F30,$G30=1),0,\"\")))),\"\")","v":""},{"$f":"IFERROR(IF(LEN(Etapes[[#This Row],[Planned]])=0,\"\",IF(AND($C30=\"MER\",AR$6=$F30,$G30=1),1,IF(AND($C30=\"MEP\",AR$6=$F30,$G30=1),2,IF(AND(AR$6=$F30,$G30=1),0,\"\")))),\"\")","v":""},{"$f":"IFERROR(IF(LEN(Etapes[[#This Row],[Planned]])=0,\"\",IF(AND($C30=\"MER\",AS$6=$F30,$G30=1),1,IF(AND($C30=\"MEP\",AS$6=$F30,$G30=1),2,IF(AND(AS$6=$F30,$G30=1),0,\"\")))),\"\")","v":""},{"$f":"IFERROR(IF(LEN(Etapes[[#This Row],[Planned]])=0,\"\",IF(AND($C30=\"MER\",AT$6=$F30,$G30=1),1,IF(AND($C30=\"MEP\",AT$6=$F30,$G30=1),2,IF(AND(AT$6=$F30,$G30=1),0,\"\")))),\"\")","v":""},{"$f":"IFERROR(IF(LEN(Etapes[[#This Row],[Planned]])=0,\"\",IF(AND($C30=\"MER\",AU$6=$F30,$G30=1),1,IF(AND($C30=\"MEP\",AU$6=$F30,$G30=1),2,IF(AND(AU$6=$F30,$G30=1),0,\"\")))),\"\")","v":""},{"$f":"IFERROR(IF(LEN(Etapes[[#This Row],[Planned]])=0,\"\",IF(AND($C30=\"MER\",AV$6=$F30,$G30=1),1,IF(AND($C30=\"MEP\",AV$6=$F30,$G30=1),2,IF(AND(AV$6=$F30,$G30=1),0,\"\")))),\"\")","v":""},{"$f":"IFERROR(IF(LEN(Etapes[[#This Row],[Planned]])=0,\"\",IF(AND($C30=\"MER\",AW$6=$F30,$G30=1),1,IF(AND($C30=\"MEP\",AW$6=$F30,$G30=1),2,IF(AND(AW$6=$F30,$G30=1),0,\"\")))),\"\")","v":""},{"$f":"IFERROR(IF(LEN(Etapes[[#This Row],[Planned]])=0,\"\",IF(AND($C30=\"MER\",AX$6=$F30,$G30=1),1,IF(AND($C30=\"MEP\",AX$6=$F30,$G30=1),2,IF(AND(AX$6=$F30,$G30=1),0,\"\")))),\"\")","v":""},{"$f":"IFERROR(IF(LEN(Etapes[[#This Row],[Planned]])=0,\"\",IF(AND($C30=\"MER\",AY$6=$F30,$G30=1),1,IF(AND($C30=\"MEP\",AY$6=$F30,$G30=1),2,IF(AND(AY$6=$F30,$G30=1),0,\"\")))),\"\")","v":""},{"$f":"IFERROR(IF(LEN(Etapes[[#This Row],[Planned]])=0,\"\",IF(AND($C30=\"MER\",AZ$6=$F30,$G30=1),1,IF(AND($C30=\"MEP\",AZ$6=$F30,$G30=1),2,IF(AND(AZ$6=$F30,$G30=1),0,\"\")))),\"\")","v":""},{"$f":"IFERROR(IF(LEN(Etapes[[#This Row],[Planned]])=0,\"\",IF(AND($C30=\"MER\",BA$6=$F30,$G30=1),1,IF(AND($C30=\"MEP\",BA$6=$F30,$G30=1),2,IF(AND(BA$6=$F30,$G30=1),0,\"\")))),\"\")","v":""},{"$f":"IFERROR(IF(LEN(Etapes[[#This Row],[Planned]])=0,\"\",IF(AND($C30=\"MER\",BB$6=$F30,$G30=1),1,IF(AND($C30=\"MEP\",BB$6=$F30,$G30=1),2,IF(AND(BB$6=$F30,$G30=1),0,\"\")))),\"\")","v":""},{"$f":"IFERROR(IF(LEN(Etapes[[#This Row],[Planned]])=0,\"\",IF(AND($C30=\"MER\",BC$6=$F30,$G30=1),1,IF(AND($C30=\"MEP\",BC$6=$F30,$G30=1),2,IF(AND(BC$6=$F30,$G30=1),0,\"\")))),\"\")","v":""},{"$f":"IFERROR(IF(LEN(Etapes[[#This Row],[Planned]])=0,\"\",IF(AND($C30=\"MER\",BD$6=$F30,$G30=1),1,IF(AND($C30=\"MEP\",BD$6=$F30,$G30=1),2,IF(AND(BD$6=$F30,$G30=1),0,\"\")))),\"\")","v":""},{"$f":"IFERROR(IF(LEN(Etapes[[#This Row],[Planned]])=0,\"\",IF(AND($C30=\"MER\",BE$6=$F30,$G30=1),1,IF(AND($C30=\"MEP\",BE$6=$F30,$G30=1),2,IF(AND(BE$6=$F30,$G30=1),0,\"\")))),\"\")","v":""},{"$f":"IFERROR(IF(LEN(Etapes[[#This Row],[Planned]])=0,\"\",IF(AND($C30=\"MER\",BF$6=$F30,$G30=1),1,IF(AND($C30=\"MEP\",BF$6=$F30,$G30=1),2,IF(AND(BF$6=$F30,$G30=1),0,\"\")))),\"\")","v":""},{"$f":"IFERROR(IF(LEN(Etapes[[#This Row],[Planned]])=0,\"\",IF(AND($C30=\"MER\",BG$6=$F30,$G30=1),1,IF(AND($C30=\"MEP\",BG$6=$F30,$G30=1),2,IF(AND(BG$6=$F30,$G30=1),0,\"\")))),\"\")","v":""},{"$f":"IFERROR(IF(LEN(Etapes[[#This Row],[Planned]])=0,\"\",IF(AND($C30=\"MER\",BH$6=$F30,$G30=1),1,IF(AND($C30=\"MEP\",BH$6=$F30,$G30=1),2,IF(AND(BH$6=$F30,$G30=1),0,\"\")))),\"\")","v":""},{"$f":"IFERROR(IF(LEN(Etapes[[#This Row],[Planned]])=0,\"\",IF(AND($C30=\"MER\",BI$6=$F30,$G30=1),1,IF(AND($C30=\"MEP\",BI$6=$F30,$G30=1),2,IF(AND(BI$6=$F30,$G30=1),0,\"\")))),\"\")","v":""},{"$f":"IFERROR(IF(LEN(Etapes[[#This Row],[Planned]])=0,\"\",IF(AND($C30=\"MER\",BJ$6=$F30,$G30=1),1,IF(AND($C30=\"MEP\",BJ$6=$F30,$G30=1),2,IF(AND(BJ$6=$F30,$G30=1),0,\"\")))),\"\")","v":""},{"$f":"IFERROR(IF(LEN(Etapes[[#This Row],[Planned]])=0,\"\",IF(AND($C30=\"MER\",BK$6=$F30,$G30=1),1,IF(AND($C30=\"MEP\",BK$6=$F30,$G30=1),2,IF(AND(BK$6=$F30,$G30=1),0,\"\")))),\"\")","v":""},{"$f":"IFERROR(IF(LEN(Etapes[[#This Row],[Planned]])=0,\"\",IF(AND($C30=\"MER\",BL$6=$F30,$G30=1),1,IF(AND($C30=\"MEP\",BL$6=$F30,$G30=1),2,IF(AND(BL$6=$F30,$G30=1),0,\"\")))),\"\")","v":""},{"$f":"IFERROR(IF(LEN(Etapes[[#This Row],[Planned]])=0,\"\",IF(AND($C30=\"MER\",BM$6=$F30,$G30=1),1,IF(AND($C30=\"MEP\",BM$6=$F30,$G30=1),2,IF(AND(BM$6=$F30,$G30=1),0,\"\")))),\"\")","v":""},{"$f":"IFERROR(IF(LEN(Etapes[[#This Row],[Planned]])=0,\"\",IF(AND($C30=\"MER\",BN$6=$F30,$G30=1),1,IF(AND($C30=\"MEP\",BN$6=$F30,$G30=1),2,IF(AND(BN$6=$F30,$G30=1),0,\"\")))),\"\")","v":""},{"$f":"IFERROR(IF(LEN(Etapes[[#This Row],[Planned]])=0,\"\",IF(AND($C30=\"MER\",BO$6=$F30,$G30=1),1,IF(AND($C30=\"MEP\",BO$6=$F30,$G30=1),2,IF(AND(BO$6=$F30,$G30=1),0,\"\")))),\"\")","v":""},{"$f":"IFERROR(IF(LEN(Etapes[[#This Row],[Add]])=0,\"\",IF(AND($C30=\"MER\",BP$6=$F30,$G30=1),1,IF(AND($C30=\"MEP\",BP$6=$F30,$G30=1),2,IF(AND(BP$6=$F30,$G30=1),0,\"\")))),\"\")","v":""},{"$f":"IFERROR(IF(LEN(Etapes[[#This Row],[End]])=0,\"\",IF(AND($C30=\"MER\",BQ$6=$F30,$G30=1),1,IF(AND($C30=\"MEP\",BQ$6=$F30,$G30=1),2,IF(AND(BQ$6=$F30,$G30=1),0,\"\")))),\"\")","v":""},{"$f":"IFERROR(IF(LEN(Etapes[[#This Row],[Réalisé]])=0,\"\",IF(AND($C30=\"MER\",BR$6=$F30,$G30=1),1,IF(AND($C30=\"MEP\",BR$6=$F30,$G30=1),2,IF(AND(BR$6=$F30,$G30=1),0,\"\")))),\"\")","v":""},{"$f":"IFERROR(IF(LEN(Etapes[[#This Row],[Activité]])=0,\"\",IF(AND($C30=\"MER\",BS$6=$F30,$G30=1),1,IF(AND($C30=\"MEP\",BS$6=$F30,$G30=1),2,IF(AND(BS$6=$F30,$G30=1),0,\"\")))),\"\")","v":""},{"$f":"IFERROR(IF(LEN(Etapes[[#This Row],[Statut]])=0,\"\",IF(AND($C30=\"MER\",BT$6=$F30,$G30=1),1,IF(AND($C30=\"MEP\",BT$6=$F30,$G30=1),2,IF(AND(BT$6=$F30,$G30=1),0,\"\")))),\"\")","v":""},{"$f":"IFERROR(IF(LEN(Etapes[[#This Row],[Progress]])=0,\"\",IF(AND($C30=\"MER\",BU$6=$F30,$G30=1),1,IF(AND($C30=\"MEP\",BU$6=$F30,$G30=1),2,IF(AND(BU$6=$F30,$G30=1),0,\"\")))),\"\")","v":""},{"$f":"IFERROR(IF(LEN(Etapes[[#This Row],[Start]])=0,\"\",IF(AND($C30=\"MER\",BV$6=$F30,$G30=1),1,IF(AND($C30=\"MEP\",BV$6=$F30,$G30=1),2,IF(AND(BV$6=$F30,$G30=1),0,\"\")))),\"\")","v":""},{"$f":"IFERROR(IF(LEN(Etapes[[#This Row],[Planned]])=0,\"\",IF(AND($C30=\"MER\",BW$6=$F30,$G30=1),1,IF(AND($C30=\"MEP\",BW$6=$F30,$G30=1),2,IF(AND(BW$6=$F30,$G30=1),0,\"\")))),\"\")","v":""},{"$f":"IFERROR(IF(LEN(Etapes[[#This Row],[Add]])=0,\"\",IF(AND($C30=\"MER\",BX$6=$F30,$G30=1),1,IF(AND($C30=\"MEP\",BX$6=$F30,$G30=1),2,IF(AND(BX$6=$F30,$G30=1),0,\"\")))),\"\")","v":""},{"$f":"IFERROR(IF(LEN(Etapes[[#This Row],[End]])=0,\"\",IF(AND($C30=\"MER\",BY$6=$F30,$G30=1),1,IF(AND($C30=\"MEP\",BY$6=$F30,$G30=1),2,IF(AND(BY$6=$F30,$G30=1),0,\"\")))),\"\")","v":""},{"$f":"IFERROR(IF(LEN(Etapes[[#This Row],[Réalisé]])=0,\"\",IF(AND($C30=\"MER\",BZ$6=$F30,$G30=1),1,IF(AND($C30=\"MEP\",BZ$6=$F30,$G30=1),2,IF(AND(BZ$6=$F30,$G30=1),0,\"\")))),\"\")","v":""},{"$f":"IFERROR(IF(LEN(Etapes[[#This Row],[Activité]])=0,\"\",IF(AND($C30=\"MER\",CA$6=$F30,$G30=1),1,IF(AND($C30=\"MEP\",CA$6=$F30,$G30=1),2,IF(AND(CA$6=$F30,$G30=1),0,\"\")))),\"\")","v":""},{"$f":"IFERROR(IF(LEN(Etapes[[#This Row],[Statut]])=0,\"\",IF(AND($C30=\"MER\",CB$6=$F30,$G30=1),1,IF(AND($C30=\"MEP\",CB$6=$F30,$G30=1),2,IF(AND(CB$6=$F30,$G30=1),0,\"\")))),\"\")","v":""},{"$f":"IFERROR(IF(LEN(Etapes[[#This Row],[Progress]])=0,\"\",IF(AND($C30=\"MER\",CC$6=$F30,$G30=1),1,IF(AND($C30=\"MEP\",CC$6=$F30,$G30=1),2,IF(AND(CC$6=$F30,$G30=1),0,\"\")))),\"\")","v":""},{"$f":"IFERROR(IF(LEN(Etapes[[#This Row],[Start]])=0,\"\",IF(AND($C30=\"MER\",CD$6=$F30,$G30=1),1,IF(AND($C30=\"MEP\",CD$6=$F30,$G30=1),2,IF(AND(CD$6=$F30,$G30=1),0,\"\")))),\"\")","v":""},{"$f":"IFERROR(IF(LEN(Etapes[[#This Row],[Planned]])=0,\"\",IF(AND($C30=\"MER\",CE$6=$F30,$G30=1),1,IF(AND($C30=\"MEP\",CE$6=$F30,$G30=1),2,IF(AND(CE$6=$F30,$G30=1),0,\"\")))),\"\")","v":""},{"$f":"IFERROR(IF(LEN(Etapes[[#This Row],[Add]])=0,\"\",IF(AND($C30=\"MER\",CF$6=$F30,$G30=1),1,IF(AND($C30=\"MEP\",CF$6=$F30,$G30=1),2,IF(AND(CF$6=$F30,$G30=1),0,\"\")))),\"\")","v":""},{"$f":"IFERROR(IF(LEN(Etapes[[#This Row],[End]])=0,\"\",IF(AND($C30=\"MER\",CG$6=$F30,$G30=1),1,IF(AND($C30=\"MEP\",CG$6=$F30,$G30=1),2,IF(AND(CG$6=$F30,$G30=1),0,\"\")))),\"\")","v":""},{"$f":"IFERROR(IF(LEN(Etapes[[#This Row],[Réalisé]])=0,\"\",IF(AND($C30=\"MER\",CH$6=$F30,$G30=1),1,IF(AND($C30=\"MEP\",CH$6=$F30,$G30=1),2,IF(AND(CH$6=$F30,$G30=1),0,\"\")))),\"\")","v":""},{"$f":"IFERROR(IF(LEN(Etapes[[#This Row],[Activité]])=0,\"\",IF(AND($C30=\"MER\",CI$6=$F30,$G30=1),1,IF(AND($C30=\"MEP\",CI$6=$F30,$G30=1),2,IF(AND(CI$6=$F30,$G30=1),0,\"\")))),\"\")","v":""},{"$f":"IFERROR(IF(LEN(Etapes[[#This Row],[Statut]])=0,\"\",IF(AND($C30=\"MER\",CJ$6=$F30,$G30=1),1,IF(AND($C30=\"MEP\",CJ$6=$F30,$G30=1),2,IF(AND(CJ$6=$F30,$G30=1),0,\"\")))),\"\")","v":""},{"$f":"IFERROR(IF(LEN(Etapes[[#This Row],[Progress]])=0,\"\",IF(AND($C30=\"MER\",CK$6=$F30,$G30=1),1,IF(AND($C30=\"MEP\",CK$6=$F30,$G30=1),2,IF(AND(CK$6=$F30,$G30=1),0,\"\")))),\"\")","v":""},{"$f":"IFERROR(IF(LEN(Etapes[[#This Row],[Start]])=0,\"\",IF(AND($C30=\"MER\",CL$6=$F30,$G30=1),1,IF(AND($C30=\"MEP\",CL$6=$F30,$G30=1),2,IF(AND(CL$6=$F30,$G30=1),0,\"\")))),\"\")","v":""},{"$f":"IFERROR(IF(LEN(Etapes[[#This Row],[Planned]])=0,\"\",IF(AND($C30=\"MER\",CM$6=$F30,$G30=1),1,IF(AND($C30=\"MEP\",CM$6=$F30,$G30=1),2,IF(AND(CM$6=$F30,$G30=1),0,\"\")))),\"\")","v":""},{"$f":"IFERROR(IF(LEN(Etapes[[#This Row],[Add]])=0,\"\",IF(AND($C30=\"MER\",CN$6=$F30,$G30=1),1,IF(AND($C30=\"MEP\",CN$6=$F30,$G30=1),2,IF(AND(CN$6=$F30,$G30=1),0,\"\")))),\"\")","v":""},{"$f":"IFERROR(IF(LEN(Etapes[[#This Row],[End]])=0,\"\",IF(AND($C30=\"MER\",CO$6=$F30,$G30=1),1,IF(AND($C30=\"MEP\",CO$6=$F30,$G30=1),2,IF(AND(CO$6=$F30,$G30=1),0,\"\")))),\"\")","v":""},{"$f":"IFERROR(IF(LEN(Etapes[[#This Row],[Réalisé]])=0,\"\",IF(AND($C30=\"MER\",CP$6=$F30,$G30=1),1,IF(AND($C30=\"MEP\",CP$6=$F30,$G30=1),2,IF(AND(CP$6=$F30,$G30=1),0,\"\")))),\"\")","v":""},{"$f":"IFERROR(IF(LEN(Etapes[[#This Row],[Activité]])=0,\"\",IF(AND($C30=\"MER\",CQ$6=$F30,$G30=1),1,IF(AND($C30=\"MEP\",CQ$6=$F30,$G30=1),2,IF(AND(CQ$6=$F30,$G30=1),0,\"\")))),\"\")","v":""},{"$f":"IFERROR(IF(LEN(Etapes[[#This Row],[Statut]])=0,\"\",IF(AND($C30=\"MER\",CR$6=$F30,$G30=1),1,IF(AND($C30=\"MEP\",CR$6=$F30,$G30=1),2,IF(AND(CR$6=$F30,$G30=1),0,\"\")))),\"\")","v":""},{"$f":"IFERROR(IF(LEN(Etapes[[#This Row],[Progress]])=0,\"\",IF(AND($C30=\"MER\",CS$6=$F30,$G30=1),1,IF(AND($C30=\"MEP\",CS$6=$F30,$G30=1),2,IF(AND(CS$6=$F30,$G30=1),0,\"\")))),\"\")","v":""},{"$f":"IFERROR(IF(LEN(Etapes[[#This Row],[Start]])=0,\"\",IF(AND($C30=\"MER\",CT$6=$F30,$G30=1),1,IF(AND($C30=\"MEP\",CT$6=$F30,$G30=1),2,IF(AND(CT$6=$F30,$G30=1),0,\"\")))),\"\")","v":""},{"$f":"IFERROR(IF(LEN(Etapes[[#This Row],[Planned]])=0,\"\",IF(AND($C30=\"MER\",CU$6=$F30,$G30=1),1,IF(AND($C30=\"MEP\",CU$6=$F30,$G30=1),2,IF(AND(CU$6=$F30,$G30=1),0,\"\")))),\"\")","v":""},{"$f":"IFERROR(IF(LEN(Etapes[[#This Row],[Add]])=0,\"\",IF(AND($C30=\"MER\",CV$6=$F30,$G30=1),1,IF(AND($C30=\"MEP\",CV$6=$F30,$G30=1),2,IF(AND(CV$6=$F30,$G30=1),0,\"\")))),\"\")","v":""},{"$f":"IFERROR(IF(LEN(Etapes[[#This Row],[End]])=0,\"\",IF(AND($C30=\"MER\",CW$6=$F30,$G30=1),1,IF(AND($C30=\"MEP\",CW$6=$F30,$G30=1),2,IF(AND(CW$6=$F30,$G30=1),0,\"\")))),\"\")","v":""}]
["5.1","Instruction ",null,{"$f":"Settings!B48","v":"NAN"},null,"2022-08-03",null,null,{"$f":"IF(Etapes[[#This Row],[Start]]<>\"\",WORKDAY(Etapes[[#This Row],[Start]],IF(WEEKDAY(Etapes[[#This Row],[Start]],1)>=6,Etapes[[#This Row],[Planned]]+Etapes[[#This Row],[Add]],Etapes[[#This Row],[Planned]]+Etapes[[#This Row],[Add]]-1),Férié),\"\")","v":"2022-08-02"},{"$f":"IF(Etapes[[#This Row],[Start]]<>\"\",WORKDAY(Etapes[[#This Row],[Start]],IF(WEEKDAY(Etapes[[#This Row],[Start]],1)>=6,Etapes[[#This Row],[Progress]]*Etapes[[#This Row],[Planned]]+Etapes[[#This Row],[Add]],(Etapes[[#This Row],[Progress]]*Etapes[[#This Row],[Planned]]+Etapes[[#This Row],[Add]])-1),Férié),\"\")","v":"2022-08-02"},null,{"$f":"IFERROR(IF(LEN(Etapes[[#This Row],[Planned]])=0,\"\",IF(AND($C31=\"MER\",L$6=$F31,$G31=1),1,IF(AND($C31=\"MEP\",L$6=$F31,$G31=1),2,IF(AND(L$6=$F31,$G31=1),0,\"\")))),\"\")","v":""},{"$f":"IFERROR(IF(LEN(Etapes[[#This Row],[Planned]])=0,\"\",IF(AND($C31=\"MER\",M$6=$F31,$G31=1),1,IF(AND($C31=\"MEP\",M$6=$F31,$G31=1),2,IF(AND(M$6=$F31,$G31=1),0,\"\")))),\"\")","v":""},{"$f":"IFERROR(IF(LEN(Etapes[[#This Row],[Planned]])=0,\"\",IF(AND($C31=\"MER\",N$6=$F31,$G31=1),1,IF(AND($C31=\"MEP\",N$6=$F31,$G31=1),2,IF(AND(N$6=$F31,$G31=1),0,\"\")))),\"\")","v":""},{"$f":"IFERROR(IF(LEN(Etapes[[#This Row],[Planned]])=0,\"\",IF(AND($C31=\"MER\",O$6=$F31,$G31=1),1,IF(AND($C31=\"MEP\",O$6=$F31,$G31=1),2,IF(AND(O$6=$F31,$G31=1),0,\"\")))),\"\")","v":""},{"$f":"IFERROR(IF(LEN(Etapes[[#This Row],[Planned]])=0,\"\",IF(AND($C31=\"MER\",P$6=$F31,$G31=1),1,IF(AND($C31=\"MEP\",P$6=$F31,$G31=1),2,IF(AND(P$6=$F31,$G31=1),0,\"\")))),\"\")","v":""},{"$f":"IFERROR(IF(LEN(Etapes[[#This Row],[Planned]])=0,\"\",IF(AND($C31=\"MER\",Q$6=$F31,$G31=1),1,IF(AND($C31=\"MEP\",Q$6=$F31,$G31=1),2,IF(AND(Q$6=$F31,$G31=1),0,\"\")))),\"\")","v":""},{"$f":"IFERROR(IF(LEN(Etapes[[#This Row],[Planned]])=0,\"\",IF(AND($C31=\"MER\",R$6=$F31,$G31=1),1,IF(AND($C31=\"MEP\",R$6=$F31,$G31=1),2,IF(AND(R$6=$F31,$G31=1),0,\"\")))),\"\")","v":""},{"$f":"IFERROR(IF(LEN(Etapes[[#This Row],[Planned]])=0,\"\",IF(AND($C31=\"MER\",S$6=$F31,$G31=1),1,IF(AND($C31=\"MEP\",S$6=$F31,$G31=1),2,IF(AND(S$6=$F31,$G31=1),0,\"\")))),\"\")","v":""},{"$f":"IFERROR(IF(LEN(Etapes[[#This Row],[Planned]])=0,\"\",IF(AND($C31=\"MER\",T$6=$F31,$G31=1),1,IF(AND($C31=\"MEP\",T$6=$F31,$G31=1),2,IF(AND(T$6=$F31,$G31=1),0,\"\")))),\"\")","v":""},{"$f":"IFERROR(IF(LEN(Etapes[[#This Row],[Planned]])=0,\"\",IF(AND($C31=\"MER\",U$6=$F31,$G31=1),1,IF(AND($C31=\"MEP\",U$6=$F31,$G31=1),2,IF(AND(U$6=$F31,$G31=1),0,\"\")))),\"\")","v":""},{"$f":"IFERROR(IF(LEN(Etapes[[#This Row],[Planned]])=0,\"\",IF(AND($C31=\"MER\",V$6=$F31,$G31=1),1,IF(AND($C31=\"MEP\",V$6=$F31,$G31=1),2,IF(AND(V$6=$F31,$G31=1),0,\"\")))),\"\")","v":""},{"$f":"IFERROR(IF(LEN(Etapes[[#This Row],[Planned]])=0,\"\",IF(AND($C31=\"MER\",W$6=$F31,$G31=1),1,IF(AND($C31=\"MEP\",W$6=$F31,$G31=1),2,IF(AND(W$6=$F31,$G31=1),0,\"\")))),\"\")","v":""},{"$f":"IFERROR(IF(LEN(Etapes[[#This Row],[Planned]])=0,\"\",IF(AND($C31=\"MER\",X$6=$F31,$G31=1),1,IF(AND($C31=\"MEP\",X$6=$F31,$G31=1),2,IF(AND(X$6=$F31,$G31=1),0,\"\")))),\"\")","v":""},{"$f":"IFERROR(IF(LEN(Etapes[[#This Row],[Planned]])=0,\"\",IF(AND($C31=\"MER\",Y$6=$F31,$G31=1),1,IF(AND($C31=\"MEP\",Y$6=$F31,$G31=1),2,IF(AND(Y$6=$F31,$G31=1),0,\"\")))),\"\")","v":""},{"$f":"IFERROR(IF(LEN(Etapes[[#This Row],[Planned]])=0,\"\",IF(AND($C31=\"MER\",Z$6=$F31,$G31=1),1,IF(AND($C31=\"MEP\",Z$6=$F31,$G31=1),2,IF(AND(Z$6=$F31,$G31=1),0,\"\")))),\"\")","v":""},{"$f":"IFERROR(IF(LEN(Etapes[[#This Row],[Planned]])=0,\"\",IF(AND($C31=\"MER\",AA$6=$F31,$G31=1),1,IF(AND($C31=\"MEP\",AA$6=$F31,$G31=1),2,IF(AND(AA$6=$F31,$G31=1),0,\"\")))),\"\")","v":""},{"$f":"IFERROR(IF(LEN(Etapes[[#This Row],[Planned]])=0,\"\",IF(AND($C31=\"MER\",AB$6=$F31,$G31=1),1,IF(AND($C31=\"MEP\",AB$6=$F31,$G31=1),2,IF(AND(AB$6=$F31,$G31=1),0,\"\")))),\"\")","v":""},{"$f":"IFERROR(IF(LEN(Etapes[[#This Row],[Planned]])=0,\"\",IF(AND($C31=\"MER\",AC$6=$F31,$G31=1),1,IF(AND($C31=\"MEP\",AC$6=$F31,$G31=1),2,IF(AND(AC$6=$F31,$G31=1),0,\"\")))),\"\")","v":""},{"$f":"IFERROR(IF(LEN(Etapes[[#This Row],[Planned]])=0,\"\",IF(AND($C31=\"MER\",AD$6=$F31,$G31=1),1,IF(AND($C31=\"MEP\",AD$6=$F31,$G31=1),2,IF(AND(AD$6=$F31,$G31=1),0,\"\")))),\"\")","v":""},{"$f":"IFERROR(IF(LEN(Etapes[[#This Row],[Planned]])=0,\"\",IF(AND($C31=\"MER\",AE$6=$F31,$G31=1),1,IF(AND($C31=\"MEP\",AE$6=$F31,$G31=1),2,IF(AND(AE$6=$F31,$G31=1),0,\"\")))),\"\")","v":""},{"$f":"IFERROR(IF(LEN(Etapes[[#This Row],[Planned]])=0,\"\",IF(AND($C31=\"MER\",AF$6=$F31,$G31=1),1,IF(AND($C31=\"MEP\",AF$6=$F31,$G31=1),2,IF(AND(AF$6=$F31,$G31=1),0,\"\")))),\"\")","v":""},{"$f":"IFERROR(IF(LEN(Etapes[[#This Row],[Planned]])=0,\"\",IF(AND($C31=\"MER\",AG$6=$F31,$G31=1),1,IF(AND($C31=\"MEP\",AG$6=$F31,$G31=1),2,IF(AND(AG$6=$F31,$G31=1),0,\"\")))),\"\")","v":""},{"$f":"IFERROR(IF(LEN(Etapes[[#This Row],[Planned]])=0,\"\",IF(AND($C31=\"MER\",AH$6=$F31,$G31=1),1,IF(AND($C31=\"MEP\",AH$6=$F31,$G31=1),2,IF(AND(AH$6=$F31,$G31=1),0,\"\")))),\"\")","v":""},{"$f":"IFERROR(IF(LEN(Etapes[[#This Row],[Planned]])=0,\"\",IF(AND($C31=\"MER\",AI$6=$F31,$G31=1),1,IF(AND($C31=\"MEP\",AI$6=$F31,$G31=1),2,IF(AND(AI$6=$F31,$G31=1),0,\"\")))),\"\")","v":""},{"$f":"IFERROR(IF(LEN(Etapes[[#This Row],[Planned]])=0,\"\",IF(AND($C31=\"MER\",AJ$6=$F31,$G31=1),1,IF(AND($C31=\"MEP\",AJ$6=$F31,$G31=1),2,IF(AND(AJ$6=$F31,$G31=1),0,\"\")))),\"\")","v":""},{"$f":"IFERROR(IF(LEN(Etapes[[#This Row],[Planned]])=0,\"\",IF(AND($C31=\"MER\",AK$6=$F31,$G31=1),1,IF(AND($C31=\"MEP\",AK$6=$F31,$G31=1),2,IF(AND(AK$6=$F31,$G31=1),0,\"\")))),\"\")","v":""},{"$f":"IFERROR(IF(LEN(Etapes[[#This Row],[Planned]])=0,\"\",IF(AND($C31=\"MER\",AL$6=$F31,$G31=1),1,IF(AND($C31=\"MEP\",AL$6=$F31,$G31=1),2,IF(AND(AL$6=$F31,$G31=1),0,\"\")))),\"\")","v":""},{"$f":"IFERROR(IF(LEN(Etapes[[#This Row],[Planned]])=0,\"\",IF(AND($C31=\"MER\",AM$6=$F31,$G31=1),1,IF(AND($C31=\"MEP\",AM$6=$F31,$G31=1),2,IF(AND(AM$6=$F31,$G31=1),0,\"\")))),\"\")","v":""},{"$f":"IFERROR(IF(LEN(Etapes[[#This Row],[Planned]])=0,\"\",IF(AND($C31=\"MER\",AN$6=$F31,$G31=1),1,IF(AND($C31=\"MEP\",AN$6=$F31,$G31=1),2,IF(AND(AN$6=$F31,$G31=1),0,\"\")))),\"\")","v":""},{"$f":"IFERROR(IF(LEN(Etapes[[#This Row],[Planned]])=0,\"\",IF(AND($C31=\"MER\",AO$6=$F31,$G31=1),1,IF(AND($C31=\"MEP\",AO$6=$F31,$G31=1),2,IF(AND(AO$6=$F31,$G31=1),0,\"\")))),\"\")","v":""},{"$f":"IFERROR(IF(LEN(Etapes[[#This Row],[Planned]])=0,\"\",IF(AND($C31=\"MER\",AP$6=$F31,$G31=1),1,IF(AND($C31=\"MEP\",AP$6=$F31,$G31=1),2,IF(AND(AP$6=$F31,$G31=1),0,\"\")))),\"\")","v":""},{"$f":"IFERROR(IF(LEN(Etapes[[#This Row],[Planned]])=0,\"\",IF(AND($C31=\"MER\",AQ$6=$F31,$G31=1),1,IF(AND($C31=\"MEP\",AQ$6=$F31,$G31=1),2,IF(AND(AQ$6=$F31,$G31=1),0,\"\")))),\"\")","v":""},{"$f":"IFERROR(IF(LEN(Etapes[[#This Row],[Planned]])=0,\"\",IF(AND($C31=\"MER\",AR$6=$F31,$G31=1),1,IF(AND($C31=\"MEP\",AR$6=$F31,$G31=1),2,IF(AND(AR$6=$F31,$G31=1),0,\"\")))),\"\")","v":""},{"$f":"IFERROR(IF(LEN(Etapes[[#This Row],[Planned]])=0,\"\",IF(AND($C31=\"MER\",AS$6=$F31,$G31=1),1,IF(AND($C31=\"MEP\",AS$6=$F31,$G31=1),2,IF(AND(AS$6=$F31,$G31=1),0,\"\")))),\"\")","v":""},{"$f":"IFERROR(IF(LEN(Etapes[[#This Row],[Planned]])=0,\"\",IF(AND($C31=\"MER\",AT$6=$F31,$G31=1),1,IF(AND($C31=\"MEP\",AT$6=$F31,$G31=1),2,IF(AND(AT$6=$F31,$G31=1),0,\"\")))),\"\")","v":""},{"$f":"IFERROR(IF(LEN(Etapes[[#This Row],[Planned]])=0,\"\",IF(AND($C31=\"MER\",AU$6=$F31,$G31=1),1,IF(AND($C31=\"MEP\",AU$6=$F31,$G31=1),2,IF(AND(AU$6=$F31,$G31=1),0,\"\")))),\"\")","v":""},{"$f":"IFERROR(IF(LEN(Etapes[[#This Row],[Planned]])=0,\"\",IF(AND($C31=\"MER\",AV$6=$F31,$G31=1),1,IF(AND($C31=\"MEP\",AV$6=$F31,$G31=1),2,IF(AND(AV$6=$F31,$G31=1),0,\"\")))),\"\")","v":""},{"$f":"IFERROR(IF(LEN(Etapes[[#This Row],[Planned]])=0,\"\",IF(AND($C31=\"MER\",AW$6=$F31,$G31=1),1,IF(AND($C31=\"MEP\",AW$6=$F31,$G31=1),2,IF(AND(AW$6=$F31,$G31=1),0,\"\")))),\"\")","v":""},{"$f":"IFERROR(IF(LEN(Etapes[[#This Row],[Planned]])=0,\"\",IF(AND($C31=\"MER\",AX$6=$F31,$G31=1),1,IF(AND($C31=\"MEP\",AX$6=$F31,$G31=1),2,IF(AND(AX$6=$F31,$G31=1),0,\"\")))),\"\")","v":""},{"$f":"IFERROR(IF(LEN(Etapes[[#This Row],[Planned]])=0,\"\",IF(AND($C31=\"MER\",AY$6=$F31,$G31=1),1,IF(AND($C31=\"MEP\",AY$6=$F31,$G31=1),2,IF(AND(AY$6=$F31,$G31=1),0,\"\")))),\"\")","v":""},{"$f":"IFERROR(IF(LEN(Etapes[[#This Row],[Planned]])=0,\"\",IF(AND($C31=\"MER\",AZ$6=$F31,$G31=1),1,IF(AND($C31=\"MEP\",AZ$6=$F31,$G31=1),2,IF(AND(AZ$6=$F31,$G31=1),0,\"\")))),\"\")","v":""},{"$f":"IFERROR(IF(LEN(Etapes[[#This Row],[Planned]])=0,\"\",IF(AND($C31=\"MER\",BA$6=$F31,$G31=1),1,IF(AND($C31=\"MEP\",BA$6=$F31,$G31=1),2,IF(AND(BA$6=$F31,$G31=1),0,\"\")))),\"\")","v":""},{"$f":"IFERROR(IF(LEN(Etapes[[#This Row],[Planned]])=0,\"\",IF(AND($C31=\"MER\",BB$6=$F31,$G31=1),1,IF(AND($C31=\"MEP\",BB$6=$F31,$G31=1),2,IF(AND(BB$6=$F31,$G31=1),0,\"\")))),\"\")","v":""},{"$f":"IFERROR(IF(LEN(Etapes[[#This Row],[Planned]])=0,\"\",IF(AND($C31=\"MER\",BC$6=$F31,$G31=1),1,IF(AND($C31=\"MEP\",BC$6=$F31,$G31=1),2,IF(AND(BC$6=$F31,$G31=1),0,\"\")))),\"\")","v":""},{"$f":"IFERROR(IF(LEN(Etapes[[#This Row],[Planned]])=0,\"\",IF(AND($C31=\"MER\",BD$6=$F31,$G31=1),1,IF(AND($C31=\"MEP\",BD$6=$F31,$G31=1),2,IF(AND(BD$6=$F31,$G31=1),0,\"\")))),\"\")","v":""},{"$f":"IFERROR(IF(LEN(Etapes[[#This Row],[Planned]])=0,\"\",IF(AND($C31=\"MER\",BE$6=$F31,$G31=1),1,IF(AND($C31=\"MEP\",BE$6=$F31,$G31=1),2,IF(AND(BE$6=$F31,$G31=1),0,\"\")))),\"\")","v":""},{"$f":"IFERROR(IF(LEN(Etapes[[#This Row],[Planned]])=0,\"\",IF(AND($C31=\"MER\",BF$6=$F31,$G31=1),1,IF(AND($C31=\"MEP\",BF$6=$F31,$G31=1),2,IF(AND(BF$6=$F31,$G31=1),0,\"\")))),\"\")","v":""},{"$f":"IFERROR(IF(LEN(Etapes[[#This Row],[Planned]])=0,\"\",IF(AND($C31=\"MER\",BG$6=$F31,$G31=1),1,IF(AND($C31=\"MEP\",BG$6=$F31,$G31=1),2,IF(AND(BG$6=$F31,$G31=1),0,\"\")))),\"\")","v":""},{"$f":"IFERROR(IF(LEN(Etapes[[#This Row],[Planned]])=0,\"\",IF(AND($C31=\"MER\",BH$6=$F31,$G31=1),1,IF(AND($C31=\"MEP\",BH$6=$F31,$G31=1),2,IF(AND(BH$6=$F31,$G31=1),0,\"\")))),\"\")","v":""},{"$f":"IFERROR(IF(LEN(Etapes[[#This Row],[Planned]])=0,\"\",IF(AND($C31=\"MER\",BI$6=$F31,$G31=1),1,IF(AND($C31=\"MEP\",BI$6=$F31,$G31=1),2,IF(AND(BI$6=$F31,$G31=1),0,\"\")))),\"\")","v":""},{"$f":"IFERROR(IF(LEN(Etapes[[#This Row],[Planned]])=0,\"\",IF(AND($C31=\"MER\",BJ$6=$F31,$G31=1),1,IF(AND($C31=\"MEP\",BJ$6=$F31,$G31=1),2,IF(AND(BJ$6=$F31,$G31=1),0,\"\")))),\"\")","v":""},{"$f":"IFERROR(IF(LEN(Etapes[[#This Row],[Planned]])=0,\"\",IF(AND($C31=\"MER\",BK$6=$F31,$G31=1),1,IF(AND($C31=\"MEP\",BK$6=$F31,$G31=1),2,IF(AND(BK$6=$F31,$G31=1),0,\"\")))),\"\")","v":""},{"$f":"IFERROR(IF(LEN(Etapes[[#This Row],[Planned]])=0,\"\",IF(AND($C31=\"MER\",BL$6=$F31,$G31=1),1,IF(AND($C31=\"MEP\",BL$6=$F31,$G31=1),2,IF(AND(BL$6=$F31,$G31=1),0,\"\")))),\"\")","v":""},{"$f":"IFERROR(IF(LEN(Etapes[[#This Row],[Planned]])=0,\"\",IF(AND($C31=\"MER\",BM$6=$F31,$G31=1),1,IF(AND($C31=\"MEP\",BM$6=$F31,$G31=1),2,IF(AND(BM$6=$F31,$G31=1),0,\"\")))),\"\")","v":""},{"$f":"IFERROR(IF(LEN(Etapes[[#This Row],[Planned]])=0,\"\",IF(AND($C31=\"MER\",BN$6=$F31,$G31=1),1,IF(AND($C31=\"MEP\",BN$6=$F31,$G31=1),2,IF(AND(BN$6=$F31,$G31=1),0,\"\")))),\"\")","v":""},{"$f":"IFERROR(IF(LEN(Etapes[[#This Row],[Planned]])=0,\"\",IF(AND($C31=\"MER\",BO$6=$F31,$G31=1),1,IF(AND($C31=\"MEP\",BO$6=$F31,$G31=1),2,IF(AND(BO$6=$F31,$G31=1),0,\"\")))),\"\")","v":""},{"$f":"IFERROR(IF(LEN(Etapes[[#This Row],[Add]])=0,\"\",IF(AND($C31=\"MER\",BP$6=$F31,$G31=1),1,IF(AND($C31=\"MEP\",BP$6=$F31,$G31=1),2,IF(AND(BP$6=$F31,$G31=1),0,\"\")))),\"\")","v":""},{"$f":"IFERROR(IF(LEN(Etapes[[#This Row],[End]])=0,\"\",IF(AND($C31=\"MER\",BQ$6=$F31,$G31=1),1,IF(AND($C31=\"MEP\",BQ$6=$F31,$G31=1),2,IF(AND(BQ$6=$F31,$G31=1),0,\"\")))),\"\")","v":""},{"$f":"IFERROR(IF(LEN(Etapes[[#This Row],[Réalisé]])=0,\"\",IF(AND($C31=\"MER\",BR$6=$F31,$G31=1),1,IF(AND($C31=\"MEP\",BR$6=$F31,$G31=1),2,IF(AND(BR$6=$F31,$G31=1),0,\"\")))),\"\")","v":""},{"$f":"IFERROR(IF(LEN(Etapes[[#This Row],[Activité]])=0,\"\",IF(AND($C31=\"MER\",BS$6=$F31,$G31=1),1,IF(AND($C31=\"MEP\",BS$6=$F31,$G31=1),2,IF(AND(BS$6=$F31,$G31=1),0,\"\")))),\"\")","v":""},{"$f":"IFERROR(IF(LEN(Etapes[[#This Row],[Statut]])=0,\"\",IF(AND($C31=\"MER\",BT$6=$F31,$G31=1),1,IF(AND($C31=\"MEP\",BT$6=$F31,$G31=1),2,IF(AND(BT$6=$F31,$G31=1),0,\"\")))),\"\")","v":""},{"$f":"IFERROR(IF(LEN(Etapes[[#This Row],[Progress]])=0,\"\",IF(AND($C31=\"MER\",BU$6=$F31,$G31=1),1,IF(AND($C31=\"MEP\",BU$6=$F31,$G31=1),2,IF(AND(BU$6=$F31,$G31=1),0,\"\")))),\"\")","v":""},{"$f":"IFERROR(IF(LEN(Etapes[[#This Row],[Start]])=0,\"\",IF(AND($C31=\"MER\",BV$6=$F31,$G31=1),1,IF(AND($C31=\"MEP\",BV$6=$F31,$G31=1),2,IF(AND(BV$6=$F31,$G31=1),0,\"\")))),\"\")","v":""},{"$f":"IFERROR(IF(LEN(Etapes[[#This Row],[Planned]])=0,\"\",IF(AND($C31=\"MER\",BW$6=$F31,$G31=1),1,IF(AND($C31=\"MEP\",BW$6=$F31,$G31=1),2,IF(AND(BW$6=$F31,$G31=1),0,\"\")))),\"\")","v":""},{"$f":"IFERROR(IF(LEN(Etapes[[#This Row],[Add]])=0,\"\",IF(AND($C31=\"MER\",BX$6=$F31,$G31=1),1,IF(AND($C31=\"MEP\",BX$6=$F31,$G31=1),2,IF(AND(BX$6=$F31,$G31=1),0,\"\")))),\"\")","v":""},{"$f":"IFERROR(IF(LEN(Etapes[[#This Row],[End]])=0,\"\",IF(AND($C31=\"MER\",BY$6=$F31,$G31=1),1,IF(AND($C31=\"MEP\",BY$6=$F31,$G31=1),2,IF(AND(BY$6=$F31,$G31=1),0,\"\")))),\"\")","v":""},{"$f":"IFERROR(IF(LEN(Etapes[[#This Row],[Réalisé]])=0,\"\",IF(AND($C31=\"MER\",BZ$6=$F31,$G31=1),1,IF(AND($C31=\"MEP\",BZ$6=$F31,$G31=1),2,IF(AND(BZ$6=$F31,$G31=1),0,\"\")))),\"\")","v":""},{"$f":"IFERROR(IF(LEN(Etapes[[#This Row],[Activité]])=0,\"\",IF(AND($C31=\"MER\",CA$6=$F31,$G31=1),1,IF(AND($C31=\"MEP\",CA$6=$F31,$G31=1),2,IF(AND(CA$6=$F31,$G31=1),0,\"\")))),\"\")","v":""},{"$f":"IFERROR(IF(LEN(Etapes[[#This Row],[Statut]])=0,\"\",IF(AND($C31=\"MER\",CB$6=$F31,$G31=1),1,IF(AND($C31=\"MEP\",CB$6=$F31,$G31=1),2,IF(AND(CB$6=$F31,$G31=1),0,\"\")))),\"\")","v":""},{"$f":"IFERROR(IF(LEN(Etapes[[#This Row],[Progress]])=0,\"\",IF(AND($C31=\"MER\",CC$6=$F31,$G31=1),1,IF(AND($C31=\"MEP\",CC$6=$F31,$G31=1),2,IF(AND(CC$6=$F31,$G31=1),0,\"\")))),\"\")","v":""},{"$f":"IFERROR(IF(LEN(Etapes[[#This Row],[Start]])=0,\"\",IF(AND($C31=\"MER\",CD$6=$F31,$G31=1),1,IF(AND($C31=\"MEP\",CD$6=$F31,$G31=1),2,IF(AND(CD$6=$F31,$G31=1),0,\"\")))),\"\")","v":""},{"$f":"IFERROR(IF(LEN(Etapes[[#This Row],[Planned]])=0,\"\",IF(AND($C31=\"MER\",CE$6=$F31,$G31=1),1,IF(AND($C31=\"MEP\",CE$6=$F31,$G31=1),2,IF(AND(CE$6=$F31,$G31=1),0,\"\")))),\"\")","v":""},{"$f":"IFERROR(IF(LEN(Etapes[[#This Row],[Add]])=0,\"\",IF(AND($C31=\"MER\",CF$6=$F31,$G31=1),1,IF(AND($C31=\"MEP\",CF$6=$F31,$G31=1),2,IF(AND(CF$6=$F31,$G31=1),0,\"\")))),\"\")","v":""},{"$f":"IFERROR(IF(LEN(Etapes[[#This Row],[End]])=0,\"\",IF(AND($C31=\"MER\",CG$6=$F31,$G31=1),1,IF(AND($C31=\"MEP\",CG$6=$F31,$G31=1),2,IF(AND(CG$6=$F31,$G31=1),0,\"\")))),\"\")","v":""},{"$f":"IFERROR(IF(LEN(Etapes[[#This Row],[Réalisé]])=0,\"\",IF(AND($C31=\"MER\",CH$6=$F31,$G31=1),1,IF(AND($C31=\"MEP\",CH$6=$F31,$G31=1),2,IF(AND(CH$6=$F31,$G31=1),0,\"\")))),\"\")","v":""},{"$f":"IFERROR(IF(LEN(Etapes[[#This Row],[Activité]])=0,\"\",IF(AND($C31=\"MER\",CI$6=$F31,$G31=1),1,IF(AND($C31=\"MEP\",CI$6=$F31,$G31=1),2,IF(AND(CI$6=$F31,$G31=1),0,\"\")))),\"\")","v":""},{"$f":"IFERROR(IF(LEN(Etapes[[#This Row],[Statut]])=0,\"\",IF(AND($C31=\"MER\",CJ$6=$F31,$G31=1),1,IF(AND($C31=\"MEP\",CJ$6=$F31,$G31=1),2,IF(AND(CJ$6=$F31,$G31=1),0,\"\")))),\"\")","v":""},{"$f":"IFERROR(IF(LEN(Etapes[[#This Row],[Progress]])=0,\"\",IF(AND($C31=\"MER\",CK$6=$F31,$G31=1),1,IF(AND($C31=\"MEP\",CK$6=$F31,$G31=1),2,IF(AND(CK$6=$F31,$G31=1),0,\"\")))),\"\")","v":""},{"$f":"IFERROR(IF(LEN(Etapes[[#This Row],[Start]])=0,\"\",IF(AND($C31=\"MER\",CL$6=$F31,$G31=1),1,IF(AND($C31=\"MEP\",CL$6=$F31,$G31=1),2,IF(AND(CL$6=$F31,$G31=1),0,\"\")))),\"\")","v":""},{"$f":"IFERROR(IF(LEN(Etapes[[#This Row],[Planned]])=0,\"\",IF(AND($C31=\"MER\",CM$6=$F31,$G31=1),1,IF(AND($C31=\"MEP\",CM$6=$F31,$G31=1),2,IF(AND(CM$6=$F31,$G31=1),0,\"\")))),\"\")","v":""},{"$f":"IFERROR(IF(LEN(Etapes[[#This Row],[Add]])=0,\"\",IF(AND($C31=\"MER\",CN$6=$F31,$G31=1),1,IF(AND($C31=\"MEP\",CN$6=$F31,$G31=1),2,IF(AND(CN$6=$F31,$G31=1),0,\"\")))),\"\")","v":""},{"$f":"IFERROR(IF(LEN(Etapes[[#This Row],[End]])=0,\"\",IF(AND($C31=\"MER\",CO$6=$F31,$G31=1),1,IF(AND($C31=\"MEP\",CO$6=$F31,$G31=1),2,IF(AND(CO$6=$F31,$G31=1),0,\"\")))),\"\")","v":""},{"$f":"IFERROR(IF(LEN(Etapes[[#This Row],[Réalisé]])=0,\"\",IF(AND($C31=\"MER\",CP$6=$F31,$G31=1),1,IF(AND($C31=\"MEP\",CP$6=$F31,$G31=1),2,IF(AND(CP$6=$F31,$G31=1),0,\"\")))),\"\")","v":""},{"$f":"IFERROR(IF(LEN(Etapes[[#This Row],[Activité]])=0,\"\",IF(AND($C31=\"MER\",CQ$6=$F31,$G31=1),1,IF(AND($C31=\"MEP\",CQ$6=$F31,$G31=1),2,IF(AND(CQ$6=$F31,$G31=1),0,\"\")))),\"\")","v":""},{"$f":"IFERROR(IF(LEN(Etapes[[#This Row],[Statut]])=0,\"\",IF(AND($C31=\"MER\",CR$6=$F31,$G31=1),1,IF(AND($C31=\"MEP\",CR$6=$F31,$G31=1),2,IF(AND(CR$6=$F31,$G31=1),0,\"\")))),\"\")","v":""},{"$f":"IFERROR(IF(LEN(Etapes[[#This Row],[Progress]])=0,\"\",IF(AND($C31=\"MER\",CS$6=$F31,$G31=1),1,IF(AND($C31=\"MEP\",CS$6=$F31,$G31=1),2,IF(AND(CS$6=$F31,$G31=1),0,\"\")))),\"\")","v":""},{"$f":"IFERROR(IF(LEN(Etapes[[#This Row],[Start]])=0,\"\",IF(AND($C31=\"MER\",CT$6=$F31,$G31=1),1,IF(AND($C31=\"MEP\",CT$6=$F31,$G31=1),2,IF(AND(CT$6=$F31,$G31=1),0,\"\")))),\"\")","v":""},{"$f":"IFERROR(IF(LEN(Etapes[[#This Row],[Planned]])=0,\"\",IF(AND($C31=\"MER\",CU$6=$F31,$G31=1),1,IF(AND($C31=\"MEP\",CU$6=$F31,$G31=1),2,IF(AND(CU$6=$F31,$G31=1),0,\"\")))),\"\")","v":""},{"$f":"IFERROR(IF(LEN(Etapes[[#This Row],[Add]])=0,\"\",IF(AND($C31=\"MER\",CV$6=$F31,$G31=1),1,IF(AND($C31=\"MEP\",CV$6=$F31,$G31=1),2,IF(AND(CV$6=$F31,$G31=1),0,\"\")))),\"\")","v":""},{"$f":"IFERROR(IF(LEN(Etapes[[#This Row],[End]])=0,\"\",IF(AND($C31=\"MER\",CW$6=$F31,$G31=1),1,IF(AND($C31=\"MEP\",CW$6=$F31,$G31=1),2,IF(AND(CW$6=$F31,$G31=1),0,\"\")))),\"\")","v":""}]
["5.2","Conception",null,{"$f":"Settings!C48","v":"NAN"},null,"2022-08-03",null,null,{"$f":"IF(Etapes[[#This Row],[Start]]<>\"\",WORKDAY(Etapes[[#This Row],[Start]],IF(WEEKDAY(Etapes[[#This Row],[Start]],1)>=6,Etapes[[#This Row],[Planned]]+Etapes[[#This Row],[Add]],Etapes[[#This Row],[Planned]]+Etapes[[#This Row],[Add]]-1),Férié),\"\")","v":"2022-08-02"},{"$f":"IF(Etapes[[#This Row],[Start]]<>\"\",WORKDAY(Etapes[[#This Row],[Start]],IF(WEEKDAY(Etapes[[#This Row],[Start]],1)>=6,Etapes[[#This Row],[Progress]]*Etapes[[#This Row],[Planned]]+Etapes[[#This Row],[Add]],(Etapes[[#This Row],[Progress]]*Etapes[[#This Row],[Planned]]+Etapes[[#This Row],[Add]])-1),Férié),\"\")","v":"2022-08-02"},null,{"$f":"IFERROR(IF(LEN(Etapes[[#This Row],[Planned]])=0,\"\",IF(AND($C32=\"MER\",L$6=$F32,$G32=1),1,IF(AND($C32=\"MEP\",L$6=$F32,$G32=1),2,IF(AND(L$6=$F32,$G32=1),0,\"\")))),\"\")","v":""},{"$f":"IFERROR(IF(LEN(Etapes[[#This Row],[Planned]])=0,\"\",IF(AND($C32=\"MER\",M$6=$F32,$G32=1),1,IF(AND($C32=\"MEP\",M$6=$F32,$G32=1),2,IF(AND(M$6=$F32,$G32=1),0,\"\")))),\"\")","v":""},{"$f":"IFERROR(IF(LEN(Etapes[[#This Row],[Planned]])=0,\"\",IF(AND($C32=\"MER\",N$6=$F32,$G32=1),1,IF(AND($C32=\"MEP\",N$6=$F32,$G32=1),2,IF(AND(N$6=$F32,$G32=1),0,\"\")))),\"\")","v":""},{"$f":"IFERROR(IF(LEN(Etapes[[#This Row],[Planned]])=0,\"\",IF(AND($C32=\"MER\",O$6=$F32,$G32=1),1,IF(AND($C32=\"MEP\",O$6=$F32,$G32=1),2,IF(AND(O$6=$F32,$G32=1),0,\"\")))),\"\")","v":""},{"$f":"IFERROR(IF(LEN(Etapes[[#This Row],[Planned]])=0,\"\",IF(AND($C32=\"MER\",P$6=$F32,$G32=1),1,IF(AND($C32=\"MEP\",P$6=$F32,$G32=1),2,IF(AND(P$6=$F32,$G32=1),0,\"\")))),\"\")","v":""},{"$f":"IFERROR(IF(LEN(Etapes[[#This Row],[Planned]])=0,\"\",IF(AND($C32=\"MER\",Q$6=$F32,$G32=1),1,IF(AND($C32=\"MEP\",Q$6=$F32,$G32=1),2,IF(AND(Q$6=$F32,$G32=1),0,\"\")))),\"\")","v":""},{"$f":"IFERROR(IF(LEN(Etapes[[#This Row],[Planned]])=0,\"\",IF(AND($C32=\"MER\",R$6=$F32,$G32=1),1,IF(AND($C32=\"MEP\",R$6=$F32,$G32=1),2,IF(AND(R$6=$F32,$G32=1),0,\"\")))),\"\")","v":""},{"$f":"IFERROR(IF(LEN(Etapes[[#This Row],[Planned]])=0,\"\",IF(AND($C32=\"MER\",S$6=$F32,$G32=1),1,IF(AND($C32=\"MEP\",S$6=$F32,$G32=1),2,IF(AND(S$6=$F32,$G32=1),0,\"\")))),\"\")","v":""},{"$f":"IFERROR(IF(LEN(Etapes[[#This Row],[Planned]])=0,\"\",IF(AND($C32=\"MER\",T$6=$F32,$G32=1),1,IF(AND($C32=\"MEP\",T$6=$F32,$G32=1),2,IF(AND(T$6=$F32,$G32=1),0,\"\")))),\"\")","v":""},{"$f":"IFERROR(IF(LEN(Etapes[[#This Row],[Planned]])=0,\"\",IF(AND($C32=\"MER\",U$6=$F32,$G32=1),1,IF(AND($C32=\"MEP\",U$6=$F32,$G32=1),2,IF(AND(U$6=$F32,$G32=1),0,\"\")))),\"\")","v":""},{"$f":"IFERROR(IF(LEN(Etapes[[#This Row],[Planned]])=0,\"\",IF(AND($C32=\"MER\",V$6=$F32,$G32=1),1,IF(AND($C32=\"MEP\",V$6=$F32,$G32=1),2,IF(AND(V$6=$F32,$G32=1),0,\"\")))),\"\")","v":""},{"$f":"IFERROR(IF(LEN(Etapes[[#This Row],[Planned]])=0,\"\",IF(AND($C32=\"MER\",W$6=$F32,$G32=1),1,IF(AND($C32=\"MEP\",W$6=$F32,$G32=1),2,IF(AND(W$6=$F32,$G32=1),0,\"\")))),\"\")","v":""},{"$f":"IFERROR(IF(LEN(Etapes[[#This Row],[Planned]])=0,\"\",IF(AND($C32=\"MER\",X$6=$F32,$G32=1),1,IF(AND($C32=\"MEP\",X$6=$F32,$G32=1),2,IF(AND(X$6=$F32,$G32=1),0,\"\")))),\"\")","v":""},{"$f":"IFERROR(IF(LEN(Etapes[[#This Row],[Planned]])=0,\"\",IF(AND($C32=\"MER\",Y$6=$F32,$G32=1),1,IF(AND($C32=\"MEP\",Y$6=$F32,$G32=1),2,IF(AND(Y$6=$F32,$G32=1),0,\"\")))),\"\")","v":""},{"$f":"IFERROR(IF(LEN(Etapes[[#This Row],[Planned]])=0,\"\",IF(AND($C32=\"MER\",Z$6=$F32,$G32=1),1,IF(AND($C32=\"MEP\",Z$6=$F32,$G32=1),2,IF(AND(Z$6=$F32,$G32=1),0,\"\")))),\"\")","v":""},{"$f":"IFERROR(IF(LEN(Etapes[[#This Row],[Planned]])=0,\"\",IF(AND($C32=\"MER\",AA$6=$F32,$G32=1),1,IF(AND($C32=\"MEP\",AA$6=$F32,$G32=1),2,IF(AND(AA$6=$F32,$G32=1),0,\"\")))),\"\")","v":""},{"$f":"IFERROR(IF(LEN(Etapes[[#This Row],[Planned]])=0,\"\",IF(AND($C32=\"MER\",AB$6=$F32,$G32=1),1,IF(AND($C32=\"MEP\",AB$6=$F32,$G32=1),2,IF(AND(AB$6=$F32,$G32=1),0,\"\")))),\"\")","v":""},{"$f":"IFERROR(IF(LEN(Etapes[[#This Row],[Planned]])=0,\"\",IF(AND($C32=\"MER\",AC$6=$F32,$G32=1),1,IF(AND($C32=\"MEP\",AC$6=$F32,$G32=1),2,IF(AND(AC$6=$F32,$G32=1),0,\"\")))),\"\")","v":""},{"$f":"IFERROR(IF(LEN(Etapes[[#This Row],[Planned]])=0,\"\",IF(AND($C32=\"MER\",AD$6=$F32,$G32=1),1,IF(AND($C32=\"MEP\",AD$6=$F32,$G32=1),2,IF(AND(AD$6=$F32,$G32=1),0,\"\")))),\"\")","v":""},{"$f":"IFERROR(IF(LEN(Etapes[[#This Row],[Planned]])=0,\"\",IF(AND($C32=\"MER\",AE$6=$F32,$G32=1),1,IF(AND($C32=\"MEP\",AE$6=$F32,$G32=1),2,IF(AND(AE$6=$F32,$G32=1),0,\"\")))),\"\")","v":""},{"$f":"IFERROR(IF(LEN(Etapes[[#This Row],[Planned]])=0,\"\",IF(AND($C32=\"MER\",AF$6=$F32,$G32=1),1,IF(AND($C32=\"MEP\",AF$6=$F32,$G32=1),2,IF(AND(AF$6=$F32,$G32=1),0,\"\")))),\"\")","v":""},{"$f":"IFERROR(IF(LEN(Etapes[[#This Row],[Planned]])=0,\"\",IF(AND($C32=\"MER\",AG$6=$F32,$G32=1),1,IF(AND($C32=\"MEP\",AG$6=$F32,$G32=1),2,IF(AND(AG$6=$F32,$G32=1),0,\"\")))),\"\")","v":""},{"$f":"IFERROR(IF(LEN(Etapes[[#This Row],[Planned]])=0,\"\",IF(AND($C32=\"MER\",AH$6=$F32,$G32=1),1,IF(AND($C32=\"MEP\",AH$6=$F32,$G32=1),2,IF(AND(AH$6=$F32,$G32=1),0,\"\")))),\"\")","v":""},{"$f":"IFERROR(IF(LEN(Etapes[[#This Row],[Planned]])=0,\"\",IF(AND($C32=\"MER\",AI$6=$F32,$G32=1),1,IF(AND($C32=\"MEP\",AI$6=$F32,$G32=1),2,IF(AND(AI$6=$F32,$G32=1),0,\"\")))),\"\")","v":""},{"$f":"IFERROR(IF(LEN(Etapes[[#This Row],[Planned]])=0,\"\",IF(AND($C32=\"MER\",AJ$6=$F32,$G32=1),1,IF(AND($C32=\"MEP\",AJ$6=$F32,$G32=1),2,IF(AND(AJ$6=$F32,$G32=1),0,\"\")))),\"\")","v":""},{"$f":"IFERROR(IF(LEN(Etapes[[#This Row],[Planned]])=0,\"\",IF(AND($C32=\"MER\",AK$6=$F32,$G32=1),1,IF(AND($C32=\"MEP\",AK$6=$F32,$G32=1),2,IF(AND(AK$6=$F32,$G32=1),0,\"\")))),\"\")","v":""},{"$f":"IFERROR(IF(LEN(Etapes[[#This Row],[Planned]])=0,\"\",IF(AND($C32=\"MER\",AL$6=$F32,$G32=1),1,IF(AND($C32=\"MEP\",AL$6=$F32,$G32=1),2,IF(AND(AL$6=$F32,$G32=1),0,\"\")))),\"\")","v":""},{"$f":"IFERROR(IF(LEN(Etapes[[#This Row],[Planned]])=0,\"\",IF(AND($C32=\"MER\",AM$6=$F32,$G32=1),1,IF(AND($C32=\"MEP\",AM$6=$F32,$G32=1),2,IF(AND(AM$6=$F32,$G32=1),0,\"\")))),\"\")","v":""},{"$f":"IFERROR(IF(LEN(Etapes[[#This Row],[Planned]])=0,\"\",IF(AND($C32=\"MER\",AN$6=$F32,$G32=1),1,IF(AND($C32=\"MEP\",AN$6=$F32,$G32=1),2,IF(AND(AN$6=$F32,$G32=1),0,\"\")))),\"\")","v":""},{"$f":"IFERROR(IF(LEN(Etapes[[#This Row],[Planned]])=0,\"\",IF(AND($C32=\"MER\",AO$6=$F32,$G32=1),1,IF(AND($C32=\"MEP\",AO$6=$F32,$G32=1),2,IF(AND(AO$6=$F32,$G32=1),0,\"\")))),\"\")","v":""},{"$f":"IFERROR(IF(LEN(Etapes[[#This Row],[Planned]])=0,\"\",IF(AND($C32=\"MER\",AP$6=$F32,$G32=1),1,IF(AND($C32=\"MEP\",AP$6=$F32,$G32=1),2,IF(AND(AP$6=$F32,$G32=1),0,\"\")))),\"\")","v":""},{"$f":"IFERROR(IF(LEN(Etapes[[#This Row],[Planned]])=0,\"\",IF(AND($C32=\"MER\",AQ$6=$F32,$G32=1),1,IF(AND($C32=\"MEP\",AQ$6=$F32,$G32=1),2,IF(AND(AQ$6=$F32,$G32=1),0,\"\")))),\"\")","v":""},{"$f":"IFERROR(IF(LEN(Etapes[[#This Row],[Planned]])=0,\"\",IF(AND($C32=\"MER\",AR$6=$F32,$G32=1),1,IF(AND($C32=\"MEP\",AR$6=$F32,$G32=1),2,IF(AND(AR$6=$F32,$G32=1),0,\"\")))),\"\")","v":""},{"$f":"IFERROR(IF(LEN(Etapes[[#This Row],[Planned]])=0,\"\",IF(AND($C32=\"MER\",AS$6=$F32,$G32=1),1,IF(AND($C32=\"MEP\",AS$6=$F32,$G32=1),2,IF(AND(AS$6=$F32,$G32=1),0,\"\")))),\"\")","v":""},{"$f":"IFERROR(IF(LEN(Etapes[[#This Row],[Planned]])=0,\"\",IF(AND($C32=\"MER\",AT$6=$F32,$G32=1),1,IF(AND($C32=\"MEP\",AT$6=$F32,$G32=1),2,IF(AND(AT$6=$F32,$G32=1),0,\"\")))),\"\")","v":""},{"$f":"IFERROR(IF(LEN(Etapes[[#This Row],[Planned]])=0,\"\",IF(AND($C32=\"MER\",AU$6=$F32,$G32=1),1,IF(AND($C32=\"MEP\",AU$6=$F32,$G32=1),2,IF(AND(AU$6=$F32,$G32=1),0,\"\")))),\"\")","v":""},{"$f":"IFERROR(IF(LEN(Etapes[[#This Row],[Planned]])=0,\"\",IF(AND($C32=\"MER\",AV$6=$F32,$G32=1),1,IF(AND($C32=\"MEP\",AV$6=$F32,$G32=1),2,IF(AND(AV$6=$F32,$G32=1),0,\"\")))),\"\")","v":""},{"$f":"IFERROR(IF(LEN(Etapes[[#This Row],[Planned]])=0,\"\",IF(AND($C32=\"MER\",AW$6=$F32,$G32=1),1,IF(AND($C32=\"MEP\",AW$6=$F32,$G32=1),2,IF(AND(AW$6=$F32,$G32=1),0,\"\")))),\"\")","v":""},{"$f":"IFERROR(IF(LEN(Etapes[[#This Row],[Planned]])=0,\"\",IF(AND($C32=\"MER\",AX$6=$F32,$G32=1),1,IF(AND($C32=\"MEP\",AX$6=$F32,$G32=1),2,IF(AND(AX$6=$F32,$G32=1),0,\"\")))),\"\")","v":""},{"$f":"IFERROR(IF(LEN(Etapes[[#This Row],[Planned]])=0,\"\",IF(AND($C32=\"MER\",AY$6=$F32,$G32=1),1,IF(AND($C32=\"MEP\",AY$6=$F32,$G32=1),2,IF(AND(AY$6=$F32,$G32=1),0,\"\")))),\"\")","v":""},{"$f":"IFERROR(IF(LEN(Etapes[[#This Row],[Planned]])=0,\"\",IF(AND($C32=\"MER\",AZ$6=$F32,$G32=1),1,IF(AND($C32=\"MEP\",AZ$6=$F32,$G32=1),2,IF(AND(AZ$6=$F32,$G32=1),0,\"\")))),\"\")","v":""},{"$f":"IFERROR(IF(LEN(Etapes[[#This Row],[Planned]])=0,\"\",IF(AND($C32=\"MER\",BA$6=$F32,$G32=1),1,IF(AND($C32=\"MEP\",BA$6=$F32,$G32=1),2,IF(AND(BA$6=$F32,$G32=1),0,\"\")))),\"\")","v":""},{"$f":"IFERROR(IF(LEN(Etapes[[#This Row],[Planned]])=0,\"\",IF(AND($C32=\"MER\",BB$6=$F32,$G32=1),1,IF(AND($C32=\"MEP\",BB$6=$F32,$G32=1),2,IF(AND(BB$6=$F32,$G32=1),0,\"\")))),\"\")","v":""},{"$f":"IFERROR(IF(LEN(Etapes[[#This Row],[Planned]])=0,\"\",IF(AND($C32=\"MER\",BC$6=$F32,$G32=1),1,IF(AND($C32=\"MEP\",BC$6=$F32,$G32=1),2,IF(AND(BC$6=$F32,$G32=1),0,\"\")))),\"\")","v":""},{"$f":"IFERROR(IF(LEN(Etapes[[#This Row],[Planned]])=0,\"\",IF(AND($C32=\"MER\",BD$6=$F32,$G32=1),1,IF(AND($C32=\"MEP\",BD$6=$F32,$G32=1),2,IF(AND(BD$6=$F32,$G32=1),0,\"\")))),\"\")","v":""},{"$f":"IFERROR(IF(LEN(Etapes[[#This Row],[Planned]])=0,\"\",IF(AND($C32=\"MER\",BE$6=$F32,$G32=1),1,IF(AND($C32=\"MEP\",BE$6=$F32,$G32=1),2,IF(AND(BE$6=$F32,$G32=1),0,\"\")))),\"\")","v":""},{"$f":"IFERROR(IF(LEN(Etapes[[#This Row],[Planned]])=0,\"\",IF(AND($C32=\"MER\",BF$6=$F32,$G32=1),1,IF(AND($C32=\"MEP\",BF$6=$F32,$G32=1),2,IF(AND(BF$6=$F32,$G32=1),0,\"\")))),\"\")","v":""},{"$f":"IFERROR(IF(LEN(Etapes[[#This Row],[Planned]])=0,\"\",IF(AND($C32=\"MER\",BG$6=$F32,$G32=1),1,IF(AND($C32=\"MEP\",BG$6=$F32,$G32=1),2,IF(AND(BG$6=$F32,$G32=1),0,\"\")))),\"\")","v":""},{"$f":"IFERROR(IF(LEN(Etapes[[#This Row],[Planned]])=0,\"\",IF(AND($C32=\"MER\",BH$6=$F32,$G32=1),1,IF(AND($C32=\"MEP\",BH$6=$F32,$G32=1),2,IF(AND(BH$6=$F32,$G32=1),0,\"\")))),\"\")","v":""},{"$f":"IFERROR(IF(LEN(Etapes[[#This Row],[Planned]])=0,\"\",IF(AND($C32=\"MER\",BI$6=$F32,$G32=1),1,IF(AND($C32=\"MEP\",BI$6=$F32,$G32=1),2,IF(AND(BI$6=$F32,$G32=1),0,\"\")))),\"\")","v":""},{"$f":"IFERROR(IF(LEN(Etapes[[#This Row],[Planned]])=0,\"\",IF(AND($C32=\"MER\",BJ$6=$F32,$G32=1),1,IF(AND($C32=\"MEP\",BJ$6=$F32,$G32=1),2,IF(AND(BJ$6=$F32,$G32=1),0,\"\")))),\"\")","v":""},{"$f":"IFERROR(IF(LEN(Etapes[[#This Row],[Planned]])=0,\"\",IF(AND($C32=\"MER\",BK$6=$F32,$G32=1),1,IF(AND($C32=\"MEP\",BK$6=$F32,$G32=1),2,IF(AND(BK$6=$F32,$G32=1),0,\"\")))),\"\")","v":""},{"$f":"IFERROR(IF(LEN(Etapes[[#This Row],[Planned]])=0,\"\",IF(AND($C32=\"MER\",BL$6=$F32,$G32=1),1,IF(AND($C32=\"MEP\",BL$6=$F32,$G32=1),2,IF(AND(BL$6=$F32,$G32=1),0,\"\")))),\"\")","v":""},{"$f":"IFERROR(IF(LEN(Etapes[[#This Row],[Planned]])=0,\"\",IF(AND($C32=\"MER\",BM$6=$F32,$G32=1),1,IF(AND($C32=\"MEP\",BM$6=$F32,$G32=1),2,IF(AND(BM$6=$F32,$G32=1),0,\"\")))),\"\")","v":""},{"$f":"IFERROR(IF(LEN(Etapes[[#This Row],[Planned]])=0,\"\",IF(AND($C32=\"MER\",BN$6=$F32,$G32=1),1,IF(AND($C32=\"MEP\",BN$6=$F32,$G32=1),2,IF(AND(BN$6=$F32,$G32=1),0,\"\")))),\"\")","v":""},{"$f":"IFERROR(IF(LEN(Etapes[[#This Row],[Planned]])=0,\"\",IF(AND($C32=\"MER\",BO$6=$F32,$G32=1),1,IF(AND($C32=\"MEP\",BO$6=$F32,$G32=1),2,IF(AND(BO$6=$F32,$G32=1),0,\"\")))),\"\")","v":""},{"$f":"IFERROR(IF(LEN(Etapes[[#This Row],[Add]])=0,\"\",IF(AND($C32=\"MER\",BP$6=$F32,$G32=1),1,IF(AND($C32=\"MEP\",BP$6=$F32,$G32=1),2,IF(AND(BP$6=$F32,$G32=1),0,\"\")))),\"\")","v":""},{"$f":"IFERROR(IF(LEN(Etapes[[#This Row],[End]])=0,\"\",IF(AND($C32=\"MER\",BQ$6=$F32,$G32=1),1,IF(AND($C32=\"MEP\",BQ$6=$F32,$G32=1),2,IF(AND(BQ$6=$F32,$G32=1),0,\"\")))),\"\")","v":""},{"$f":"IFERROR(IF(LEN(Etapes[[#This Row],[Réalisé]])=0,\"\",IF(AND($C32=\"MER\",BR$6=$F32,$G32=1),1,IF(AND($C32=\"MEP\",BR$6=$F32,$G32=1),2,IF(AND(BR$6=$F32,$G32=1),0,\"\")))),\"\")","v":""},{"$f":"IFERROR(IF(LEN(Etapes[[#This Row],[Activité]])=0,\"\",IF(AND($C32=\"MER\",BS$6=$F32,$G32=1),1,IF(AND($C32=\"MEP\",BS$6=$F32,$G32=1),2,IF(AND(BS$6=$F32,$G32=1),0,\"\")))),\"\")","v":""},{"$f":"IFERROR(IF(LEN(Etapes[[#This Row],[Statut]])=0,\"\",IF(AND($C32=\"MER\",BT$6=$F32,$G32=1),1,IF(AND($C32=\"MEP\",BT$6=$F32,$G32=1),2,IF(AND(BT$6=$F32,$G32=1),0,\"\")))),\"\")","v":""},{"$f":"IFERROR(IF(LEN(Etapes[[#This Row],[Progress]])=0,\"\",IF(AND($C32=\"MER\",BU$6=$F32,$G32=1),1,IF(AND($C32=\"MEP\",BU$6=$F32,$G32=1),2,IF(AND(BU$6=$F32,$G32=1),0,\"\")))),\"\")","v":""},{"$f":"IFERROR(IF(LEN(Etapes[[#This Row],[Start]])=0,\"\",IF(AND($C32=\"MER\",BV$6=$F32,$G32=1),1,IF(AND($C32=\"MEP\",BV$6=$F32,$G32=1),2,IF(AND(BV$6=$F32,$G32=1),0,\"\")))),\"\")","v":""},{"$f":"IFERROR(IF(LEN(Etapes[[#This Row],[Planned]])=0,\"\",IF(AND($C32=\"MER\",BW$6=$F32,$G32=1),1,IF(AND($C32=\"MEP\",BW$6=$F32,$G32=1),2,IF(AND(BW$6=$F32,$G32=1),0,\"\")))),\"\")","v":""},{"$f":"IFERROR(IF(LEN(Etapes[[#This Row],[Add]])=0,\"\",IF(AND($C32=\"MER\",BX$6=$F32,$G32=1),1,IF(AND($C32=\"MEP\",BX$6=$F32,$G32=1),2,IF(AND(BX$6=$F32,$G32=1),0,\"\")))),\"\")","v":""},{"$f":"IFERROR(IF(LEN(Etapes[[#This Row],[End]])=0,\"\",IF(AND($C32=\"MER\",BY$6=$F32,$G32=1),1,IF(AND($C32=\"MEP\",BY$6=$F32,$G32=1),2,IF(AND(BY$6=$F32,$G32=1),0,\"\")))),\"\")","v":""},{"$f":"IFERROR(IF(LEN(Etapes[[#This Row],[Réalisé]])=0,\"\",IF(AND($C32=\"MER\",BZ$6=$F32,$G32=1),1,IF(AND($C32=\"MEP\",BZ$6=$F32,$G32=1),2,IF(AND(BZ$6=$F32,$G32=1),0,\"\")))),\"\")","v":""},{"$f":"IFERROR(IF(LEN(Etapes[[#This Row],[Activité]])=0,\"\",IF(AND($C32=\"MER\",CA$6=$F32,$G32=1),1,IF(AND($C32=\"MEP\",CA$6=$F32,$G32=1),2,IF(AND(CA$6=$F32,$G32=1),0,\"\")))),\"\")","v":""},{"$f":"IFERROR(IF(LEN(Etapes[[#This Row],[Statut]])=0,\"\",IF(AND($C32=\"MER\",CB$6=$F32,$G32=1),1,IF(AND($C32=\"MEP\",CB$6=$F32,$G32=1),2,IF(AND(CB$6=$F32,$G32=1),0,\"\")))),\"\")","v":""},{"$f":"IFERROR(IF(LEN(Etapes[[#This Row],[Progress]])=0,\"\",IF(AND($C32=\"MER\",CC$6=$F32,$G32=1),1,IF(AND($C32=\"MEP\",CC$6=$F32,$G32=1),2,IF(AND(CC$6=$F32,$G32=1),0,\"\")))),\"\")","v":""},{"$f":"IFERROR(IF(LEN(Etapes[[#This Row],[Start]])=0,\"\",IF(AND($C32=\"MER\",CD$6=$F32,$G32=1),1,IF(AND($C32=\"MEP\",CD$6=$F32,$G32=1),2,IF(AND(CD$6=$F32,$G32=1),0,\"\")))),\"\")","v":""},{"$f":"IFERROR(IF(LEN(Etapes[[#This Row],[Planned]])=0,\"\",IF(AND($C32=\"MER\",CE$6=$F32,$G32=1),1,IF(AND($C32=\"MEP\",CE$6=$F32,$G32=1),2,IF(AND(CE$6=$F32,$G32=1),0,\"\")))),\"\")","v":""},{"$f":"IFERROR(IF(LEN(Etapes[[#This Row],[Add]])=0,\"\",IF(AND($C32=\"MER\",CF$6=$F32,$G32=1),1,IF(AND($C32=\"MEP\",CF$6=$F32,$G32=1),2,IF(AND(CF$6=$F32,$G32=1),0,\"\")))),\"\")","v":""},{"$f":"IFERROR(IF(LEN(Etapes[[#This Row],[End]])=0,\"\",IF(AND($C32=\"MER\",CG$6=$F32,$G32=1),1,IF(AND($C32=\"MEP\",CG$6=$F32,$G32=1),2,IF(AND(CG$6=$F32,$G32=1),0,\"\")))),\"\")","v":""},{"$f":"IFERROR(IF(LEN(Etapes[[#This Row],[Réalisé]])=0,\"\",IF(AND($C32=\"MER\",CH$6=$F32,$G32=1),1,IF(AND($C32=\"MEP\",CH$6=$F32,$G32=1),2,IF(AND(CH$6=$F32,$G32=1),0,\"\")))),\"\")","v":""},{"$f":"IFERROR(IF(LEN(Etapes[[#This Row],[Activité]])=0,\"\",IF(AND($C32=\"MER\",CI$6=$F32,$G32=1),1,IF(AND($C32=\"MEP\",CI$6=$F32,$G32=1),2,IF(AND(CI$6=$F32,$G32=1),0,\"\")))),\"\")","v":""},{"$f":"IFERROR(IF(LEN(Etapes[[#This Row],[Statut]])=0,\"\",IF(AND($C32=\"MER\",CJ$6=$F32,$G32=1),1,IF(AND($C32=\"MEP\",CJ$6=$F32,$G32=1),2,IF(AND(CJ$6=$F32,$G32=1),0,\"\")))),\"\")","v":""},{"$f":"IFERROR(IF(LEN(Etapes[[#This Row],[Progress]])=0,\"\",IF(AND($C32=\"MER\",CK$6=$F32,$G32=1),1,IF(AND($C32=\"MEP\",CK$6=$F32,$G32=1),2,IF(AND(CK$6=$F32,$G32=1),0,\"\")))),\"\")","v":""},{"$f":"IFERROR(IF(LEN(Etapes[[#This Row],[Start]])=0,\"\",IF(AND($C32=\"MER\",CL$6=$F32,$G32=1),1,IF(AND($C32=\"MEP\",CL$6=$F32,$G32=1),2,IF(AND(CL$6=$F32,$G32=1),0,\"\")))),\"\")","v":""},{"$f":"IFERROR(IF(LEN(Etapes[[#This Row],[Planned]])=0,\"\",IF(AND($C32=\"MER\",CM$6=$F32,$G32=1),1,IF(AND($C32=\"MEP\",CM$6=$F32,$G32=1),2,IF(AND(CM$6=$F32,$G32=1),0,\"\")))),\"\")","v":""},{"$f":"IFERROR(IF(LEN(Etapes[[#This Row],[Add]])=0,\"\",IF(AND($C32=\"MER\",CN$6=$F32,$G32=1),1,IF(AND($C32=\"MEP\",CN$6=$F32,$G32=1),2,IF(AND(CN$6=$F32,$G32=1),0,\"\")))),\"\")","v":""},{"$f":"IFERROR(IF(LEN(Etapes[[#This Row],[End]])=0,\"\",IF(AND($C32=\"MER\",CO$6=$F32,$G32=1),1,IF(AND($C32=\"MEP\",CO$6=$F32,$G32=1),2,IF(AND(CO$6=$F32,$G32=1),0,\"\")))),\"\")","v":""},{"$f":"IFERROR(IF(LEN(Etapes[[#This Row],[Réalisé]])=0,\"\",IF(AND($C32=\"MER\",CP$6=$F32,$G32=1),1,IF(AND($C32=\"MEP\",CP$6=$F32,$G32=1),2,IF(AND(CP$6=$F32,$G32=1),0,\"\")))),\"\")","v":""},{"$f":"IFERROR(IF(LEN(Etapes[[#This Row],[Activité]])=0,\"\",IF(AND($C32=\"MER\",CQ$6=$F32,$G32=1),1,IF(AND($C32=\"MEP\",CQ$6=$F32,$G32=1),2,IF(AND(CQ$6=$F32,$G32=1),0,\"\")))),\"\")","v":""},{"$f":"IFERROR(IF(LEN(Etapes[[#This Row],[Statut]])=0,\"\",IF(AND($C32=\"MER\",CR$6=$F32,$G32=1),1,IF(AND($C32=\"MEP\",CR$6=$F32,$G32=1),2,IF(AND(CR$6=$F32,$G32=1),0,\"\")))),\"\")","v":""},{"$f":"IFERROR(IF(LEN(Etapes[[#This Row],[Progress]])=0,\"\",IF(AND($C32=\"MER\",CS$6=$F32,$G32=1),1,IF(AND($C32=\"MEP\",CS$6=$F32,$G32=1),2,IF(AND(CS$6=$F32,$G32=1),0,\"\")))),\"\")","v":""},{"$f":"IFERROR(IF(LEN(Etapes[[#This Row],[Start]])=0,\"\",IF(AND($C32=\"MER\",CT$6=$F32,$G32=1),1,IF(AND($C32=\"MEP\",CT$6=$F32,$G32=1),2,IF(AND(CT$6=$F32,$G32=1),0,\"\")))),\"\")","v":""},{"$f":"IFERROR(IF(LEN(Etapes[[#This Row],[Planned]])=0,\"\",IF(AND($C32=\"MER\",CU$6=$F32,$G32=1),1,IF(AND($C32=\"MEP\",CU$6=$F32,$G32=1),2,IF(AND(CU$6=$F32,$G32=1),0,\"\")))),\"\")","v":""},{"$f":"IFERROR(IF(LEN(Etapes[[#This Row],[Add]])=0,\"\",IF(AND($C32=\"MER\",CV$6=$F32,$G32=1),1,IF(AND($C32=\"MEP\",CV$6=$F32,$G32=1),2,IF(AND(CV$6=$F32,$G32=1),0,\"\")))),\"\")","v":""},{"$f":"IFERROR(IF(LEN(Etapes[[#This Row],[End]])=0,\"\",IF(AND($C32=\"MER\",CW$6=$F32,$G32=1),1,IF(AND($C32=\"MEP\",CW$6=$F32,$G32=1),2,IF(AND(CW$6=$F32,$G32=1),0,\"\")))),\"\")","v":""}]
["5.3","Préparation RE7 ",null,{"$f":"Settings!D48","v":"VIE"},null,"2022-08-03",null,null,{"$f":"IF(Etapes[[#This Row],[Start]]<>\"\",WORKDAY(Etapes[[#This Row],[Start]],IF(WEEKDAY(Etapes[[#This Row],[Start]],1)>=6,Etapes[[#This Row],[Planned]]+Etapes[[#This Row],[Add]],Etapes[[#This Row],[Planned]]+Etapes[[#This Row],[Add]]-1),Férié),\"\")","v":"2022-08-02"},{"$f":"IF(Etapes[[#This Row],[Start]]<>\"\",WORKDAY(Etapes[[#This Row],[Start]],IF(WEEKDAY(Etapes[[#This Row],[Start]],1)>=6,Etapes[[#This Row],[Progress]]*Etapes[[#This Row],[Planned]]+Etapes[[#This Row],[Add]],(Etapes[[#This Row],[Progress]]*Etapes[[#This Row],[Planned]]+Etapes[[#This Row],[Add]])-1),Férié),\"\")","v":"2022-08-02"},null,{"$f":"IFERROR(IF(LEN(Etapes[[#This Row],[Planned]])=0,\"\",IF(AND($C33=\"MER\",L$6=$F33,$G33=1),1,IF(AND($C33=\"MEP\",L$6=$F33,$G33=1),2,IF(AND(L$6=$F33,$G33=1),0,\"\")))),\"\")","v":""},{"$f":"IFERROR(IF(LEN(Etapes[[#This Row],[Planned]])=0,\"\",IF(AND($C33=\"MER\",M$6=$F33,$G33=1),1,IF(AND($C33=\"MEP\",M$6=$F33,$G33=1),2,IF(AND(M$6=$F33,$G33=1),0,\"\")))),\"\")","v":""},{"$f":"IFERROR(IF(LEN(Etapes[[#This Row],[Planned]])=0,\"\",IF(AND($C33=\"MER\",N$6=$F33,$G33=1),1,IF(AND($C33=\"MEP\",N$6=$F33,$G33=1),2,IF(AND(N$6=$F33,$G33=1),0,\"\")))),\"\")","v":""},{"$f":"IFERROR(IF(LEN(Etapes[[#This Row],[Planned]])=0,\"\",IF(AND($C33=\"MER\",O$6=$F33,$G33=1),1,IF(AND($C33=\"MEP\",O$6=$F33,$G33=1),2,IF(AND(O$6=$F33,$G33=1),0,\"\")))),\"\")","v":""},{"$f":"IFERROR(IF(LEN(Etapes[[#This Row],[Planned]])=0,\"\",IF(AND($C33=\"MER\",P$6=$F33,$G33=1),1,IF(AND($C33=\"MEP\",P$6=$F33,$G33=1),2,IF(AND(P$6=$F33,$G33=1),0,\"\")))),\"\")","v":""},{"$f":"IFERROR(IF(LEN(Etapes[[#This Row],[Planned]])=0,\"\",IF(AND($C33=\"MER\",Q$6=$F33,$G33=1),1,IF(AND($C33=\"MEP\",Q$6=$F33,$G33=1),2,IF(AND(Q$6=$F33,$G33=1),0,\"\")))),\"\")","v":""},{"$f":"IFERROR(IF(LEN(Etapes[[#This Row],[Planned]])=0,\"\",IF(AND($C33=\"MER\",R$6=$F33,$G33=1),1,IF(AND($C33=\"MEP\",R$6=$F33,$G33=1),2,IF(AND(R$6=$F33,$G33=1),0,\"\")))),\"\")","v":""},{"$f":"IFERROR(IF(LEN(Etapes[[#This Row],[Planned]])=0,\"\",IF(AND($C33=\"MER\",S$6=$F33,$G33=1),1,IF(AND($C33=\"MEP\",S$6=$F33,$G33=1),2,IF(AND(S$6=$F33,$G33=1),0,\"\")))),\"\")","v":""},{"$f":"IFERROR(IF(LEN(Etapes[[#This Row],[Planned]])=0,\"\",IF(AND($C33=\"MER\",T$6=$F33,$G33=1),1,IF(AND($C33=\"MEP\",T$6=$F33,$G33=1),2,IF(AND(T$6=$F33,$G33=1),0,\"\")))),\"\")","v":""},{"$f":"IFERROR(IF(LEN(Etapes[[#This Row],[Planned]])=0,\"\",IF(AND($C33=\"MER\",U$6=$F33,$G33=1),1,IF(AND($C33=\"MEP\",U$6=$F33,$G33=1),2,IF(AND(U$6=$F33,$G33=1),0,\"\")))),\"\")","v":""},{"$f":"IFERROR(IF(LEN(Etapes[[#This Row],[Planned]])=0,\"\",IF(AND($C33=\"MER\",V$6=$F33,$G33=1),1,IF(AND($C33=\"MEP\",V$6=$F33,$G33=1),2,IF(AND(V$6=$F33,$G33=1),0,\"\")))),\"\")","v":""},{"$f":"IFERROR(IF(LEN(Etapes[[#This Row],[Planned]])=0,\"\",IF(AND($C33=\"MER\",W$6=$F33,$G33=1),1,IF(AND($C33=\"MEP\",W$6=$F33,$G33=1),2,IF(AND(W$6=$F33,$G33=1),0,\"\")))),\"\")","v":""},{"$f":"IFERROR(IF(LEN(Etapes[[#This Row],[Planned]])=0,\"\",IF(AND($C33=\"MER\",X$6=$F33,$G33=1),1,IF(AND($C33=\"MEP\",X$6=$F33,$G33=1),2,IF(AND(X$6=$F33,$G33=1),0,\"\")))),\"\")","v":""},{"$f":"IFERROR(IF(LEN(Etapes[[#This Row],[Planned]])=0,\"\",IF(AND($C33=\"MER\",Y$6=$F33,$G33=1),1,IF(AND($C33=\"MEP\",Y$6=$F33,$G33=1),2,IF(AND(Y$6=$F33,$G33=1),0,\"\")))),\"\")","v":""},{"$f":"IFERROR(IF(LEN(Etapes[[#This Row],[Planned]])=0,\"\",IF(AND($C33=\"MER\",Z$6=$F33,$G33=1),1,IF(AND($C33=\"MEP\",Z$6=$F33,$G33=1),2,IF(AND(Z$6=$F33,$G33=1),0,\"\")))),\"\")","v":""},{"$f":"IFERROR(IF(LEN(Etapes[[#This Row],[Planned]])=0,\"\",IF(AND($C33=\"MER\",AA$6=$F33,$G33=1),1,IF(AND($C33=\"MEP\",AA$6=$F33,$G33=1),2,IF(AND(AA$6=$F33,$G33=1),0,\"\")))),\"\")","v":""},{"$f":"IFERROR(IF(LEN(Etapes[[#This Row],[Planned]])=0,\"\",IF(AND($C33=\"MER\",AB$6=$F33,$G33=1),1,IF(AND($C33=\"MEP\",AB$6=$F33,$G33=1),2,IF(AND(AB$6=$F33,$G33=1),0,\"\")))),\"\")","v":""},{"$f":"IFERROR(IF(LEN(Etapes[[#This Row],[Planned]])=0,\"\",IF(AND($C33=\"MER\",AC$6=$F33,$G33=1),1,IF(AND($C33=\"MEP\",AC$6=$F33,$G33=1),2,IF(AND(AC$6=$F33,$G33=1),0,\"\")))),\"\")","v":""},{"$f":"IFERROR(IF(LEN(Etapes[[#This Row],[Planned]])=0,\"\",IF(AND($C33=\"MER\",AD$6=$F33,$G33=1),1,IF(AND($C33=\"MEP\",AD$6=$F33,$G33=1),2,IF(AND(AD$6=$F33,$G33=1),0,\"\")))),\"\")","v":""},{"$f":"IFERROR(IF(LEN(Etapes[[#This Row],[Planned]])=0,\"\",IF(AND($C33=\"MER\",AE$6=$F33,$G33=1),1,IF(AND($C33=\"MEP\",AE$6=$F33,$G33=1),2,IF(AND(AE$6=$F33,$G33=1),0,\"\")))),\"\")","v":""},{"$f":"IFERROR(IF(LEN(Etapes[[#This Row],[Planned]])=0,\"\",IF(AND($C33=\"MER\",AF$6=$F33,$G33=1),1,IF(AND($C33=\"MEP\",AF$6=$F33,$G33=1),2,IF(AND(AF$6=$F33,$G33=1),0,\"\")))),\"\")","v":""},{"$f":"IFERROR(IF(LEN(Etapes[[#This Row],[Planned]])=0,\"\",IF(AND($C33=\"MER\",AG$6=$F33,$G33=1),1,IF(AND($C33=\"MEP\",AG$6=$F33,$G33=1),2,IF(AND(AG$6=$F33,$G33=1),0,\"\")))),\"\")","v":""},{"$f":"IFERROR(IF(LEN(Etapes[[#This Row],[Planned]])=0,\"\",IF(AND($C33=\"MER\",AH$6=$F33,$G33=1),1,IF(AND($C33=\"MEP\",AH$6=$F33,$G33=1),2,IF(AND(AH$6=$F33,$G33=1),0,\"\")))),\"\")","v":""},{"$f":"IFERROR(IF(LEN(Etapes[[#This Row],[Planned]])=0,\"\",IF(AND($C33=\"MER\",AI$6=$F33,$G33=1),1,IF(AND($C33=\"MEP\",AI$6=$F33,$G33=1),2,IF(AND(AI$6=$F33,$G33=1),0,\"\")))),\"\")","v":""},{"$f":"IFERROR(IF(LEN(Etapes[[#This Row],[Planned]])=0,\"\",IF(AND($C33=\"MER\",AJ$6=$F33,$G33=1),1,IF(AND($C33=\"MEP\",AJ$6=$F33,$G33=1),2,IF(AND(AJ$6=$F33,$G33=1),0,\"\")))),\"\")","v":""},{"$f":"IFERROR(IF(LEN(Etapes[[#This Row],[Planned]])=0,\"\",IF(AND($C33=\"MER\",AK$6=$F33,$G33=1),1,IF(AND($C33=\"MEP\",AK$6=$F33,$G33=1),2,IF(AND(AK$6=$F33,$G33=1),0,\"\")))),\"\")","v":""},{"$f":"IFERROR(IF(LEN(Etapes[[#This Row],[Planned]])=0,\"\",IF(AND($C33=\"MER\",AL$6=$F33,$G33=1),1,IF(AND($C33=\"MEP\",AL$6=$F33,$G33=1),2,IF(AND(AL$6=$F33,$G33=1),0,\"\")))),\"\")","v":""},{"$f":"IFERROR(IF(LEN(Etapes[[#This Row],[Planned]])=0,\"\",IF(AND($C33=\"MER\",AM$6=$F33,$G33=1),1,IF(AND($C33=\"MEP\",AM$6=$F33,$G33=1),2,IF(AND(AM$6=$F33,$G33=1),0,\"\")))),\"\")","v":""},{"$f":"IFERROR(IF(LEN(Etapes[[#This Row],[Planned]])=0,\"\",IF(AND($C33=\"MER\",AN$6=$F33,$G33=1),1,IF(AND($C33=\"MEP\",AN$6=$F33,$G33=1),2,IF(AND(AN$6=$F33,$G33=1),0,\"\")))),\"\")","v":""},{"$f":"IFERROR(IF(LEN(Etapes[[#This Row],[Planned]])=0,\"\",IF(AND($C33=\"MER\",AO$6=$F33,$G33=1),1,IF(AND($C33=\"MEP\",AO$6=$F33,$G33=1),2,IF(AND(AO$6=$F33,$G33=1),0,\"\")))),\"\")","v":""},{"$f":"IFERROR(IF(LEN(Etapes[[#This Row],[Planned]])=0,\"\",IF(AND($C33=\"MER\",AP$6=$F33,$G33=1),1,IF(AND($C33=\"MEP\",AP$6=$F33,$G33=1),2,IF(AND(AP$6=$F33,$G33=1),0,\"\")))),\"\")","v":""},{"$f":"IFERROR(IF(LEN(Etapes[[#This Row],[Planned]])=0,\"\",IF(AND($C33=\"MER\",AQ$6=$F33,$G33=1),1,IF(AND($C33=\"MEP\",AQ$6=$F33,$G33=1),2,IF(AND(AQ$6=$F33,$G33=1),0,\"\")))),\"\")","v":""},{"$f":"IFERROR(IF(LEN(Etapes[[#This Row],[Planned]])=0,\"\",IF(AND($C33=\"MER\",AR$6=$F33,$G33=1),1,IF(AND($C33=\"MEP\",AR$6=$F33,$G33=1),2,IF(AND(AR$6=$F33,$G33=1),0,\"\")))),\"\")","v":""},{"$f":"IFERROR(IF(LEN(Etapes[[#This Row],[Planned]])=0,\"\",IF(AND($C33=\"MER\",AS$6=$F33,$G33=1),1,IF(AND($C33=\"MEP\",AS$6=$F33,$G33=1),2,IF(AND(AS$6=$F33,$G33=1),0,\"\")))),\"\")","v":""},{"$f":"IFERROR(IF(LEN(Etapes[[#This Row],[Planned]])=0,\"\",IF(AND($C33=\"MER\",AT$6=$F33,$G33=1),1,IF(AND($C33=\"MEP\",AT$6=$F33,$G33=1),2,IF(AND(AT$6=$F33,$G33=1),0,\"\")))),\"\")","v":""},{"$f":"IFERROR(IF(LEN(Etapes[[#This Row],[Planned]])=0,\"\",IF(AND($C33=\"MER\",AU$6=$F33,$G33=1),1,IF(AND($C33=\"MEP\",AU$6=$F33,$G33=1),2,IF(AND(AU$6=$F33,$G33=1),0,\"\")))),\"\")","v":""},{"$f":"IFERROR(IF(LEN(Etapes[[#This Row],[Planned]])=0,\"\",IF(AND($C33=\"MER\",AV$6=$F33,$G33=1),1,IF(AND($C33=\"MEP\",AV$6=$F33,$G33=1),2,IF(AND(AV$6=$F33,$G33=1),0,\"\")))),\"\")","v":""},{"$f":"IFERROR(IF(LEN(Etapes[[#This Row],[Planned]])=0,\"\",IF(AND($C33=\"MER\",AW$6=$F33,$G33=1),1,IF(AND($C33=\"MEP\",AW$6=$F33,$G33=1),2,IF(AND(AW$6=$F33,$G33=1),0,\"\")))),\"\")","v":""},{"$f":"IFERROR(IF(LEN(Etapes[[#This Row],[Planned]])=0,\"\",IF(AND($C33=\"MER\",AX$6=$F33,$G33=1),1,IF(AND($C33=\"MEP\",AX$6=$F33,$G33=1),2,IF(AND(AX$6=$F33,$G33=1),0,\"\")))),\"\")","v":""},{"$f":"IFERROR(IF(LEN(Etapes[[#This Row],[Planned]])=0,\"\",IF(AND($C33=\"MER\",AY$6=$F33,$G33=1),1,IF(AND($C33=\"MEP\",AY$6=$F33,$G33=1),2,IF(AND(AY$6=$F33,$G33=1),0,\"\")))),\"\")","v":""},{"$f":"IFERROR(IF(LEN(Etapes[[#This Row],[Planned]])=0,\"\",IF(AND($C33=\"MER\",AZ$6=$F33,$G33=1),1,IF(AND($C33=\"MEP\",AZ$6=$F33,$G33=1),2,IF(AND(AZ$6=$F33,$G33=1),0,\"\")))),\"\")","v":""},{"$f":"IFERROR(IF(LEN(Etapes[[#This Row],[Planned]])=0,\"\",IF(AND($C33=\"MER\",BA$6=$F33,$G33=1),1,IF(AND($C33=\"MEP\",BA$6=$F33,$G33=1),2,IF(AND(BA$6=$F33,$G33=1),0,\"\")))),\"\")","v":""},{"$f":"IFERROR(IF(LEN(Etapes[[#This Row],[Planned]])=0,\"\",IF(AND($C33=\"MER\",BB$6=$F33,$G33=1),1,IF(AND($C33=\"MEP\",BB$6=$F33,$G33=1),2,IF(AND(BB$6=$F33,$G33=1),0,\"\")))),\"\")","v":""},{"$f":"IFERROR(IF(LEN(Etapes[[#This Row],[Planned]])=0,\"\",IF(AND($C33=\"MER\",BC$6=$F33,$G33=1),1,IF(AND($C33=\"MEP\",BC$6=$F33,$G33=1),2,IF(AND(BC$6=$F33,$G33=1),0,\"\")))),\"\")","v":""},{"$f":"IFERROR(IF(LEN(Etapes[[#This Row],[Planned]])=0,\"\",IF(AND($C33=\"MER\",BD$6=$F33,$G33=1),1,IF(AND($C33=\"MEP\",BD$6=$F33,$G33=1),2,IF(AND(BD$6=$F33,$G33=1),0,\"\")))),\"\")","v":""},{"$f":"IFERROR(IF(LEN(Etapes[[#This Row],[Planned]])=0,\"\",IF(AND($C33=\"MER\",BE$6=$F33,$G33=1),1,IF(AND($C33=\"MEP\",BE$6=$F33,$G33=1),2,IF(AND(BE$6=$F33,$G33=1),0,\"\")))),\"\")","v":""},{"$f":"IFERROR(IF(LEN(Etapes[[#This Row],[Planned]])=0,\"\",IF(AND($C33=\"MER\",BF$6=$F33,$G33=1),1,IF(AND($C33=\"MEP\",BF$6=$F33,$G33=1),2,IF(AND(BF$6=$F33,$G33=1),0,\"\")))),\"\")","v":""},{"$f":"IFERROR(IF(LEN(Etapes[[#This Row],[Planned]])=0,\"\",IF(AND($C33=\"MER\",BG$6=$F33,$G33=1),1,IF(AND($C33=\"MEP\",BG$6=$F33,$G33=1),2,IF(AND(BG$6=$F33,$G33=1),0,\"\")))),\"\")","v":""},{"$f":"IFERROR(IF(LEN(Etapes[[#This Row],[Planned]])=0,\"\",IF(AND($C33=\"MER\",BH$6=$F33,$G33=1),1,IF(AND($C33=\"MEP\",BH$6=$F33,$G33=1),2,IF(AND(BH$6=$F33,$G33=1),0,\"\")))),\"\")","v":""},{"$f":"IFERROR(IF(LEN(Etapes[[#This Row],[Planned]])=0,\"\",IF(AND($C33=\"MER\",BI$6=$F33,$G33=1),1,IF(AND($C33=\"MEP\",BI$6=$F33,$G33=1),2,IF(AND(BI$6=$F33,$G33=1),0,\"\")))),\"\")","v":""},{"$f":"IFERROR(IF(LEN(Etapes[[#This Row],[Planned]])=0,\"\",IF(AND($C33=\"MER\",BJ$6=$F33,$G33=1),1,IF(AND($C33=\"MEP\",BJ$6=$F33,$G33=1),2,IF(AND(BJ$6=$F33,$G33=1),0,\"\")))),\"\")","v":""},{"$f":"IFERROR(IF(LEN(Etapes[[#This Row],[Planned]])=0,\"\",IF(AND($C33=\"MER\",BK$6=$F33,$G33=1),1,IF(AND($C33=\"MEP\",BK$6=$F33,$G33=1),2,IF(AND(BK$6=$F33,$G33=1),0,\"\")))),\"\")","v":""},{"$f":"IFERROR(IF(LEN(Etapes[[#This Row],[Planned]])=0,\"\",IF(AND($C33=\"MER\",BL$6=$F33,$G33=1),1,IF(AND($C33=\"MEP\",BL$6=$F33,$G33=1),2,IF(AND(BL$6=$F33,$G33=1),0,\"\")))),\"\")","v":""},{"$f":"IFERROR(IF(LEN(Etapes[[#This Row],[Planned]])=0,\"\",IF(AND($C33=\"MER\",BM$6=$F33,$G33=1),1,IF(AND($C33=\"MEP\",BM$6=$F33,$G33=1),2,IF(AND(BM$6=$F33,$G33=1),0,\"\")))),\"\")","v":""},{"$f":"IFERROR(IF(LEN(Etapes[[#This Row],[Planned]])=0,\"\",IF(AND($C33=\"MER\",BN$6=$F33,$G33=1),1,IF(AND($C33=\"MEP\",BN$6=$F33,$G33=1),2,IF(AND(BN$6=$F33,$G33=1),0,\"\")))),\"\")","v":""},{"$f":"IFERROR(IF(LEN(Etapes[[#This Row],[Planned]])=0,\"\",IF(AND($C33=\"MER\",BO$6=$F33,$G33=1),1,IF(AND($C33=\"MEP\",BO$6=$F33,$G33=1),2,IF(AND(BO$6=$F33,$G33=1),0,\"\")))),\"\")","v":""},{"$f":"IFERROR(IF(LEN(Etapes[[#This Row],[Add]])=0,\"\",IF(AND($C33=\"MER\",BP$6=$F33,$G33=1),1,IF(AND($C33=\"MEP\",BP$6=$F33,$G33=1),2,IF(AND(BP$6=$F33,$G33=1),0,\"\")))),\"\")","v":""},{"$f":"IFERROR(IF(LEN(Etapes[[#This Row],[End]])=0,\"\",IF(AND($C33=\"MER\",BQ$6=$F33,$G33=1),1,IF(AND($C33=\"MEP\",BQ$6=$F33,$G33=1),2,IF(AND(BQ$6=$F33,$G33=1),0,\"\")))),\"\")","v":""},{"$f":"IFERROR(IF(LEN(Etapes[[#This Row],[Réalisé]])=0,\"\",IF(AND($C33=\"MER\",BR$6=$F33,$G33=1),1,IF(AND($C33=\"MEP\",BR$6=$F33,$G33=1),2,IF(AND(BR$6=$F33,$G33=1),0,\"\")))),\"\")","v":""},{"$f":"IFERROR(IF(LEN(Etapes[[#This Row],[Activité]])=0,\"\",IF(AND($C33=\"MER\",BS$6=$F33,$G33=1),1,IF(AND($C33=\"MEP\",BS$6=$F33,$G33=1),2,IF(AND(BS$6=$F33,$G33=1),0,\"\")))),\"\")","v":""},{"$f":"IFERROR(IF(LEN(Etapes[[#This Row],[Statut]])=0,\"\",IF(AND($C33=\"MER\",BT$6=$F33,$G33=1),1,IF(AND($C33=\"MEP\",BT$6=$F33,$G33=1),2,IF(AND(BT$6=$F33,$G33=1),0,\"\")))),\"\")","v":""},{"$f":"IFERROR(IF(LEN(Etapes[[#This Row],[Progress]])=0,\"\",IF(AND($C33=\"MER\",BU$6=$F33,$G33=1),1,IF(AND($C33=\"MEP\",BU$6=$F33,$G33=1),2,IF(AND(BU$6=$F33,$G33=1),0,\"\")))),\"\")","v":""},{"$f":"IFERROR(IF(LEN(Etapes[[#This Row],[Start]])=0,\"\",IF(AND($C33=\"MER\",BV$6=$F33,$G33=1),1,IF(AND($C33=\"MEP\",BV$6=$F33,$G33=1),2,IF(AND(BV$6=$F33,$G33=1),0,\"\")))),\"\")","v":""},{"$f":"IFERROR(IF(LEN(Etapes[[#This Row],[Planned]])=0,\"\",IF(AND($C33=\"MER\",BW$6=$F33,$G33=1),1,IF(AND($C33=\"MEP\",BW$6=$F33,$G33=1),2,IF(AND(BW$6=$F33,$G33=1),0,\"\")))),\"\")","v":""},{"$f":"IFERROR(IF(LEN(Etapes[[#This Row],[Add]])=0,\"\",IF(AND($C33=\"MER\",BX$6=$F33,$G33=1),1,IF(AND($C33=\"MEP\",BX$6=$F33,$G33=1),2,IF(AND(BX$6=$F33,$G33=1),0,\"\")))),\"\")","v":""},{"$f":"IFERROR(IF(LEN(Etapes[[#This Row],[End]])=0,\"\",IF(AND($C33=\"MER\",BY$6=$F33,$G33=1),1,IF(AND($C33=\"MEP\",BY$6=$F33,$G33=1),2,IF(AND(BY$6=$F33,$G33=1),0,\"\")))),\"\")","v":""},{"$f":"IFERROR(IF(LEN(Etapes[[#This Row],[Réalisé]])=0,\"\",IF(AND($C33=\"MER\",BZ$6=$F33,$G33=1),1,IF(AND($C33=\"MEP\",BZ$6=$F33,$G33=1),2,IF(AND(BZ$6=$F33,$G33=1),0,\"\")))),\"\")","v":""},{"$f":"IFERROR(IF(LEN(Etapes[[#This Row],[Activité]])=0,\"\",IF(AND($C33=\"MER\",CA$6=$F33,$G33=1),1,IF(AND($C33=\"MEP\",CA$6=$F33,$G33=1),2,IF(AND(CA$6=$F33,$G33=1),0,\"\")))),\"\")","v":""},{"$f":"IFERROR(IF(LEN(Etapes[[#This Row],[Statut]])=0,\"\",IF(AND($C33=\"MER\",CB$6=$F33,$G33=1),1,IF(AND($C33=\"MEP\",CB$6=$F33,$G33=1),2,IF(AND(CB$6=$F33,$G33=1),0,\"\")))),\"\")","v":""},{"$f":"IFERROR(IF(LEN(Etapes[[#This Row],[Progress]])=0,\"\",IF(AND($C33=\"MER\",CC$6=$F33,$G33=1),1,IF(AND($C33=\"MEP\",CC$6=$F33,$G33=1),2,IF(AND(CC$6=$F33,$G33=1),0,\"\")))),\"\")","v":""},{"$f":"IFERROR(IF(LEN(Etapes[[#This Row],[Start]])=0,\"\",IF(AND($C33=\"MER\",CD$6=$F33,$G33=1),1,IF(AND($C33=\"MEP\",CD$6=$F33,$G33=1),2,IF(AND(CD$6=$F33,$G33=1),0,\"\")))),\"\")","v":""},{"$f":"IFERROR(IF(LEN(Etapes[[#This Row],[Planned]])=0,\"\",IF(AND($C33=\"MER\",CE$6=$F33,$G33=1),1,IF(AND($C33=\"MEP\",CE$6=$F33,$G33=1),2,IF(AND(CE$6=$F33,$G33=1),0,\"\")))),\"\")","v":""},{"$f":"IFERROR(IF(LEN(Etapes[[#This Row],[Add]])=0,\"\",IF(AND($C33=\"MER\",CF$6=$F33,$G33=1),1,IF(AND($C33=\"MEP\",CF$6=$F33,$G33=1),2,IF(AND(CF$6=$F33,$G33=1),0,\"\")))),\"\")","v":""},{"$f":"IFERROR(IF(LEN(Etapes[[#This Row],[End]])=0,\"\",IF(AND($C33=\"MER\",CG$6=$F33,$G33=1),1,IF(AND($C33=\"MEP\",CG$6=$F33,$G33=1),2,IF(AND(CG$6=$F33,$G33=1),0,\"\")))),\"\")","v":""},{"$f":"IFERROR(IF(LEN(Etapes[[#This Row],[Réalisé]])=0,\"\",IF(AND($C33=\"MER\",CH$6=$F33,$G33=1),1,IF(AND($C33=\"MEP\",CH$6=$F33,$G33=1),2,IF(AND(CH$6=$F33,$G33=1),0,\"\")))),\"\")","v":""},{"$f":"IFERROR(IF(LEN(Etapes[[#This Row],[Activité]])=0,\"\",IF(AND($C33=\"MER\",CI$6=$F33,$G33=1),1,IF(AND($C33=\"MEP\",CI$6=$F33,$G33=1),2,IF(AND(CI$6=$F33,$G33=1),0,\"\")))),\"\")","v":""},{"$f":"IFERROR(IF(LEN(Etapes[[#This Row],[Statut]])=0,\"\",IF(AND($C33=\"MER\",CJ$6=$F33,$G33=1),1,IF(AND($C33=\"MEP\",CJ$6=$F33,$G33=1),2,IF(AND(CJ$6=$F33,$G33=1),0,\"\")))),\"\")","v":""},{"$f":"IFERROR(IF(LEN(Etapes[[#This Row],[Progress]])=0,\"\",IF(AND($C33=\"MER\",CK$6=$F33,$G33=1),1,IF(AND($C33=\"MEP\",CK$6=$F33,$G33=1),2,IF(AND(CK$6=$F33,$G33=1),0,\"\")))),\"\")","v":""},{"$f":"IFERROR(IF(LEN(Etapes[[#This Row],[Start]])=0,\"\",IF(AND($C33=\"MER\",CL$6=$F33,$G33=1),1,IF(AND($C33=\"MEP\",CL$6=$F33,$G33=1),2,IF(AND(CL$6=$F33,$G33=1),0,\"\")))),\"\")","v":""},{"$f":"IFERROR(IF(LEN(Etapes[[#This Row],[Planned]])=0,\"\",IF(AND($C33=\"MER\",CM$6=$F33,$G33=1),1,IF(AND($C33=\"MEP\",CM$6=$F33,$G33=1),2,IF(AND(CM$6=$F33,$G33=1),0,\"\")))),\"\")","v":""},{"$f":"IFERROR(IF(LEN(Etapes[[#This Row],[Add]])=0,\"\",IF(AND($C33=\"MER\",CN$6=$F33,$G33=1),1,IF(AND($C33=\"MEP\",CN$6=$F33,$G33=1),2,IF(AND(CN$6=$F33,$G33=1),0,\"\")))),\"\")","v":""},{"$f":"IFERROR(IF(LEN(Etapes[[#This Row],[End]])=0,\"\",IF(AND($C33=\"MER\",CO$6=$F33,$G33=1),1,IF(AND($C33=\"MEP\",CO$6=$F33,$G33=1),2,IF(AND(CO$6=$F33,$G33=1),0,\"\")))),\"\")","v":""},{"$f":"IFERROR(IF(LEN(Etapes[[#This Row],[Réalisé]])=0,\"\",IF(AND($C33=\"MER\",CP$6=$F33,$G33=1),1,IF(AND($C33=\"MEP\",CP$6=$F33,$G33=1),2,IF(AND(CP$6=$F33,$G33=1),0,\"\")))),\"\")","v":""},{"$f":"IFERROR(IF(LEN(Etapes[[#This Row],[Activité]])=0,\"\",IF(AND($C33=\"MER\",CQ$6=$F33,$G33=1),1,IF(AND($C33=\"MEP\",CQ$6=$F33,$G33=1),2,IF(AND(CQ$6=$F33,$G33=1),0,\"\")))),\"\")","v":""},{"$f":"IFERROR(IF(LEN(Etapes[[#This Row],[Statut]])=0,\"\",IF(AND($C33=\"MER\",CR$6=$F33,$G33=1),1,IF(AND($C33=\"MEP\",CR$6=$F33,$G33=1),2,IF(AND(CR$6=$F33,$G33=1),0,\"\")))),\"\")","v":""},{"$f":"IFERROR(IF(LEN(Etapes[[#This Row],[Progress]])=0,\"\",IF(AND($C33=\"MER\",CS$6=$F33,$G33=1),1,IF(AND($C33=\"MEP\",CS$6=$F33,$G33=1),2,IF(AND(CS$6=$F33,$G33=1),0,\"\")))),\"\")","v":""},{"$f":"IFERROR(IF(LEN(Etapes[[#This Row],[Start]])=0,\"\",IF(AND($C33=\"MER\",CT$6=$F33,$G33=1),1,IF(AND($C33=\"MEP\",CT$6=$F33,$G33=1),2,IF(AND(CT$6=$F33,$G33=1),0,\"\")))),\"\")","v":""},{"$f":"IFERROR(IF(LEN(Etapes[[#This Row],[Planned]])=0,\"\",IF(AND($C33=\"MER\",CU$6=$F33,$G33=1),1,IF(AND($C33=\"MEP\",CU$6=$F33,$G33=1),2,IF(AND(CU$6=$F33,$G33=1),0,\"\")))),\"\")","v":""},{"$f":"IFERROR(IF(LEN(Etapes[[#This Row],[Add]])=0,\"\",IF(AND($C33=\"MER\",CV$6=$F33,$G33=1),1,IF(AND($C33=\"MEP\",CV$6=$F33,$G33=1),2,IF(AND(CV$6=$F33,$G33=1),0,\"\")))),\"\")","v":""},{"$f":"IFERROR(IF(LEN(Etapes[[#This Row],[End]])=0,\"\",IF(AND($C33=\"MER\",CW$6=$F33,$G33=1),1,IF(AND($C33=\"MEP\",CW$6=$F33,$G33=1),2,IF(AND(CW$6=$F33,$G33=1),0,\"\")))),\"\")","v":""}]
["5.4","Exécution tests",null,{"$f":"Settings!E48","v":"VIE"},null,"2022-08-03",null,null,{"$f":"IF(Etapes[[#This Row],[Start]]<>\"\",WORKDAY(Etapes[[#This Row],[Start]],IF(WEEKDAY(Etapes[[#This Row],[Start]],1)>=6,Etapes[[#This Row],[Planned]]+Etapes[[#This Row],[Add]],Etapes[[#This Row],[Planned]]+Etapes[[#This Row],[Add]]-1),Férié),\"\")","v":"2022-08-02"},{"$f":"IF(Etapes[[#This Row],[Start]]<>\"\",WORKDAY(Etapes[[#This Row],[Start]],IF(WEEKDAY(Etapes[[#This Row],[Start]],1)>=6,Etapes[[#This Row],[Progress]]*Etapes[[#This Row],[Planned]]+Etapes[[#This Row],[Add]],(Etapes[[#This Row],[Progress]]*Etapes[[#This Row],[Planned]]+Etapes[[#This Row],[Add]])-1),Férié),\"\")","v":"2022-08-02"},null,{"$f":"IFERROR(IF(LEN(Etapes[[#This Row],[Planned]])=0,\"\",IF(AND($C34=\"MER\",L$6=$F34,$G34=1),1,IF(AND($C34=\"MEP\",L$6=$F34,$G34=1),2,IF(AND(L$6=$F34,$G34=1),0,\"\")))),\"\")","v":""},{"$f":"IFERROR(IF(LEN(Etapes[[#This Row],[Planned]])=0,\"\",IF(AND($C34=\"MER\",M$6=$F34,$G34=1),1,IF(AND($C34=\"MEP\",M$6=$F34,$G34=1),2,IF(AND(M$6=$F34,$G34=1),0,\"\")))),\"\")","v":""},{"$f":"IFERROR(IF(LEN(Etapes[[#This Row],[Planned]])=0,\"\",IF(AND($C34=\"MER\",N$6=$F34,$G34=1),1,IF(AND($C34=\"MEP\",N$6=$F34,$G34=1),2,IF(AND(N$6=$F34,$G34=1),0,\"\")))),\"\")","v":""},{"$f":"IFERROR(IF(LEN(Etapes[[#This Row],[Planned]])=0,\"\",IF(AND($C34=\"MER\",O$6=$F34,$G34=1),1,IF(AND($C34=\"MEP\",O$6=$F34,$G34=1),2,IF(AND(O$6=$F34,$G34=1),0,\"\")))),\"\")","v":""},{"$f":"IFERROR(IF(LEN(Etapes[[#This Row],[Planned]])=0,\"\",IF(AND($C34=\"MER\",P$6=$F34,$G34=1),1,IF(AND($C34=\"MEP\",P$6=$F34,$G34=1),2,IF(AND(P$6=$F34,$G34=1),0,\"\")))),\"\")","v":""},{"$f":"IFERROR(IF(LEN(Etapes[[#This Row],[Planned]])=0,\"\",IF(AND($C34=\"MER\",Q$6=$F34,$G34=1),1,IF(AND($C34=\"MEP\",Q$6=$F34,$G34=1),2,IF(AND(Q$6=$F34,$G34=1),0,\"\")))),\"\")","v":""},{"$f":"IFERROR(IF(LEN(Etapes[[#This Row],[Planned]])=0,\"\",IF(AND($C34=\"MER\",R$6=$F34,$G34=1),1,IF(AND($C34=\"MEP\",R$6=$F34,$G34=1),2,IF(AND(R$6=$F34,$G34=1),0,\"\")))),\"\")","v":""},{"$f":"IFERROR(IF(LEN(Etapes[[#This Row],[Planned]])=0,\"\",IF(AND($C34=\"MER\",S$6=$F34,$G34=1),1,IF(AND($C34=\"MEP\",S$6=$F34,$G34=1),2,IF(AND(S$6=$F34,$G34=1),0,\"\")))),\"\")","v":""},{"$f":"IFERROR(IF(LEN(Etapes[[#This Row],[Planned]])=0,\"\",IF(AND($C34=\"MER\",T$6=$F34,$G34=1),1,IF(AND($C34=\"MEP\",T$6=$F34,$G34=1),2,IF(AND(T$6=$F34,$G34=1),0,\"\")))),\"\")","v":""},{"$f":"IFERROR(IF(LEN(Etapes[[#This Row],[Planned]])=0,\"\",IF(AND($C34=\"MER\",U$6=$F34,$G34=1),1,IF(AND($C34=\"MEP\",U$6=$F34,$G34=1),2,IF(AND(U$6=$F34,$G34=1),0,\"\")))),\"\")","v":""},{"$f":"IFERROR(IF(LEN(Etapes[[#This Row],[Planned]])=0,\"\",IF(AND($C34=\"MER\",V$6=$F34,$G34=1),1,IF(AND($C34=\"MEP\",V$6=$F34,$G34=1),2,IF(AND(V$6=$F34,$G34=1),0,\"\")))),\"\")","v":""},{"$f":"IFERROR(IF(LEN(Etapes[[#This Row],[Planned]])=0,\"\",IF(AND($C34=\"MER\",W$6=$F34,$G34=1),1,IF(AND($C34=\"MEP\",W$6=$F34,$G34=1),2,IF(AND(W$6=$F34,$G34=1),0,\"\")))),\"\")","v":""},{"$f":"IFERROR(IF(LEN(Etapes[[#This Row],[Planned]])=0,\"\",IF(AND($C34=\"MER\",X$6=$F34,$G34=1),1,IF(AND($C34=\"MEP\",X$6=$F34,$G34=1),2,IF(AND(X$6=$F34,$G34=1),0,\"\")))),\"\")","v":""},{"$f":"IFERROR(IF(LEN(Etapes[[#This Row],[Planned]])=0,\"\",IF(AND($C34=\"MER\",Y$6=$F34,$G34=1),1,IF(AND($C34=\"MEP\",Y$6=$F34,$G34=1),2,IF(AND(Y$6=$F34,$G34=1),0,\"\")))),\"\")","v":""},{"$f":"IFERROR(IF(LEN(Etapes[[#This Row],[Planned]])=0,\"\",IF(AND($C34=\"MER\",Z$6=$F34,$G34=1),1,IF(AND($C34=\"MEP\",Z$6=$F34,$G34=1),2,IF(AND(Z$6=$F34,$G34=1),0,\"\")))),\"\")","v":""},{"$f":"IFERROR(IF(LEN(Etapes[[#This Row],[Planned]])=0,\"\",IF(AND($C34=\"MER\",AA$6=$F34,$G34=1),1,IF(AND($C34=\"MEP\",AA$6=$F34,$G34=1),2,IF(AND(AA$6=$F34,$G34=1),0,\"\")))),\"\")","v":""},{"$f":"IFERROR(IF(LEN(Etapes[[#This Row],[Planned]])=0,\"\",IF(AND($C34=\"MER\",AB$6=$F34,$G34=1),1,IF(AND($C34=\"MEP\",AB$6=$F34,$G34=1),2,IF(AND(AB$6=$F34,$G34=1),0,\"\")))),\"\")","v":""},{"$f":"IFERROR(IF(LEN(Etapes[[#This Row],[Planned]])=0,\"\",IF(AND($C34=\"MER\",AC$6=$F34,$G34=1),1,IF(AND($C34=\"MEP\",AC$6=$F34,$G34=1),2,IF(AND(AC$6=$F34,$G34=1),0,\"\")))),\"\")","v":""},{"$f":"IFERROR(IF(LEN(Etapes[[#This Row],[Planned]])=0,\"\",IF(AND($C34=\"MER\",AD$6=$F34,$G34=1),1,IF(AND($C34=\"MEP\",AD$6=$F34,$G34=1),2,IF(AND(AD$6=$F34,$G34=1),0,\"\")))),\"\")","v":""},{"$f":"IFERROR(IF(LEN(Etapes[[#This Row],[Planned]])=0,\"\",IF(AND($C34=\"MER\",AE$6=$F34,$G34=1),1,IF(AND($C34=\"MEP\",AE$6=$F34,$G34=1),2,IF(AND(AE$6=$F34,$G34=1),0,\"\")))),\"\")","v":""},{"$f":"IFERROR(IF(LEN(Etapes[[#This Row],[Planned]])=0,\"\",IF(AND($C34=\"MER\",AF$6=$F34,$G34=1),1,IF(AND($C34=\"MEP\",AF$6=$F34,$G34=1),2,IF(AND(AF$6=$F34,$G34=1),0,\"\")))),\"\")","v":""},{"$f":"IFERROR(IF(LEN(Etapes[[#This Row],[Planned]])=0,\"\",IF(AND($C34=\"MER\",AG$6=$F34,$G34=1),1,IF(AND($C34=\"MEP\",AG$6=$F34,$G34=1),2,IF(AND(AG$6=$F34,$G34=1),0,\"\")))),\"\")","v":""},{"$f":"IFERROR(IF(LEN(Etapes[[#This Row],[Planned]])=0,\"\",IF(AND($C34=\"MER\",AH$6=$F34,$G34=1),1,IF(AND($C34=\"MEP\",AH$6=$F34,$G34=1),2,IF(AND(AH$6=$F34,$G34=1),0,\"\")))),\"\")","v":""},{"$f":"IFERROR(IF(LEN(Etapes[[#This Row],[Planned]])=0,\"\",IF(AND($C34=\"MER\",AI$6=$F34,$G34=1),1,IF(AND($C34=\"MEP\",AI$6=$F34,$G34=1),2,IF(AND(AI$6=$F34,$G34=1),0,\"\")))),\"\")","v":""},{"$f":"IFERROR(IF(LEN(Etapes[[#This Row],[Planned]])=0,\"\",IF(AND($C34=\"MER\",AJ$6=$F34,$G34=1),1,IF(AND($C34=\"MEP\",AJ$6=$F34,$G34=1),2,IF(AND(AJ$6=$F34,$G34=1),0,\"\")))),\"\")","v":""},{"$f":"IFERROR(IF(LEN(Etapes[[#This Row],[Planned]])=0,\"\",IF(AND($C34=\"MER\",AK$6=$F34,$G34=1),1,IF(AND($C34=\"MEP\",AK$6=$F34,$G34=1),2,IF(AND(AK$6=$F34,$G34=1),0,\"\")))),\"\")","v":""},{"$f":"IFERROR(IF(LEN(Etapes[[#This Row],[Planned]])=0,\"\",IF(AND($C34=\"MER\",AL$6=$F34,$G34=1),1,IF(AND($C34=\"MEP\",AL$6=$F34,$G34=1),2,IF(AND(AL$6=$F34,$G34=1),0,\"\")))),\"\")","v":""},{"$f":"IFERROR(IF(LEN(Etapes[[#This Row],[Planned]])=0,\"\",IF(AND($C34=\"MER\",AM$6=$F34,$G34=1),1,IF(AND($C34=\"MEP\",AM$6=$F34,$G34=1),2,IF(AND(AM$6=$F34,$G34=1),0,\"\")))),\"\")","v":""},{"$f":"IFERROR(IF(LEN(Etapes[[#This Row],[Planned]])=0,\"\",IF(AND($C34=\"MER\",AN$6=$F34,$G34=1),1,IF(AND($C34=\"MEP\",AN$6=$F34,$G34=1),2,IF(AND(AN$6=$F34,$G34=1),0,\"\")))),\"\")","v":""},{"$f":"IFERROR(IF(LEN(Etapes[[#This Row],[Planned]])=0,\"\",IF(AND($C34=\"MER\",AO$6=$F34,$G34=1),1,IF(AND($C34=\"MEP\",AO$6=$F34,$G34=1),2,IF(AND(AO$6=$F34,$G34=1),0,\"\")))),\"\")","v":""},{"$f":"IFERROR(IF(LEN(Etapes[[#This Row],[Planned]])=0,\"\",IF(AND($C34=\"MER\",AP$6=$F34,$G34=1),1,IF(AND($C34=\"MEP\",AP$6=$F34,$G34=1),2,IF(AND(AP$6=$F34,$G34=1),0,\"\")))),\"\")","v":""},{"$f":"IFERROR(IF(LEN(Etapes[[#This Row],[Planned]])=0,\"\",IF(AND($C34=\"MER\",AQ$6=$F34,$G34=1),1,IF(AND($C34=\"MEP\",AQ$6=$F34,$G34=1),2,IF(AND(AQ$6=$F34,$G34=1),0,\"\")))),\"\")","v":""},{"$f":"IFERROR(IF(LEN(Etapes[[#This Row],[Planned]])=0,\"\",IF(AND($C34=\"MER\",AR$6=$F34,$G34=1),1,IF(AND($C34=\"MEP\",AR$6=$F34,$G34=1),2,IF(AND(AR$6=$F34,$G34=1),0,\"\")))),\"\")","v":""},{"$f":"IFERROR(IF(LEN(Etapes[[#This Row],[Planned]])=0,\"\",IF(AND($C34=\"MER\",AS$6=$F34,$G34=1),1,IF(AND($C34=\"MEP\",AS$6=$F34,$G34=1),2,IF(AND(AS$6=$F34,$G34=1),0,\"\")))),\"\")","v":""},{"$f":"IFERROR(IF(LEN(Etapes[[#This Row],[Planned]])=0,\"\",IF(AND($C34=\"MER\",AT$6=$F34,$G34=1),1,IF(AND($C34=\"MEP\",AT$6=$F34,$G34=1),2,IF(AND(AT$6=$F34,$G34=1),0,\"\")))),\"\")","v":""},{"$f":"IFERROR(IF(LEN(Etapes[[#This Row],[Planned]])=0,\"\",IF(AND($C34=\"MER\",AU$6=$F34,$G34=1),1,IF(AND($C34=\"MEP\",AU$6=$F34,$G34=1),2,IF(AND(AU$6=$F34,$G34=1),0,\"\")))),\"\")","v":""},{"$f":"IFERROR(IF(LEN(Etapes[[#This Row],[Planned]])=0,\"\",IF(AND($C34=\"MER\",AV$6=$F34,$G34=1),1,IF(AND($C34=\"MEP\",AV$6=$F34,$G34=1),2,IF(AND(AV$6=$F34,$G34=1),0,\"\")))),\"\")","v":""},{"$f":"IFERROR(IF(LEN(Etapes[[#This Row],[Planned]])=0,\"\",IF(AND($C34=\"MER\",AW$6=$F34,$G34=1),1,IF(AND($C34=\"MEP\",AW$6=$F34,$G34=1),2,IF(AND(AW$6=$F34,$G34=1),0,\"\")))),\"\")","v":""},{"$f":"IFERROR(IF(LEN(Etapes[[#This Row],[Planned]])=0,\"\",IF(AND($C34=\"MER\",AX$6=$F34,$G34=1),1,IF(AND($C34=\"MEP\",AX$6=$F34,$G34=1),2,IF(AND(AX$6=$F34,$G34=1),0,\"\")))),\"\")","v":""},{"$f":"IFERROR(IF(LEN(Etapes[[#This Row],[Planned]])=0,\"\",IF(AND($C34=\"MER\",AY$6=$F34,$G34=1),1,IF(AND($C34=\"MEP\",AY$6=$F34,$G34=1),2,IF(AND(AY$6=$F34,$G34=1),0,\"\")))),\"\")","v":""},{"$f":"IFERROR(IF(LEN(Etapes[[#This Row],[Planned]])=0,\"\",IF(AND($C34=\"MER\",AZ$6=$F34,$G34=1),1,IF(AND($C34=\"MEP\",AZ$6=$F34,$G34=1),2,IF(AND(AZ$6=$F34,$G34=1),0,\"\")))),\"\")","v":""},{"$f":"IFERROR(IF(LEN(Etapes[[#This Row],[Planned]])=0,\"\",IF(AND($C34=\"MER\",BA$6=$F34,$G34=1),1,IF(AND($C34=\"MEP\",BA$6=$F34,$G34=1),2,IF(AND(BA$6=$F34,$G34=1),0,\"\")))),\"\")","v":""},{"$f":"IFERROR(IF(LEN(Etapes[[#This Row],[Planned]])=0,\"\",IF(AND($C34=\"MER\",BB$6=$F34,$G34=1),1,IF(AND($C34=\"MEP\",BB$6=$F34,$G34=1),2,IF(AND(BB$6=$F34,$G34=1),0,\"\")))),\"\")","v":""},{"$f":"IFERROR(IF(LEN(Etapes[[#This Row],[Planned]])=0,\"\",IF(AND($C34=\"MER\",BC$6=$F34,$G34=1),1,IF(AND($C34=\"MEP\",BC$6=$F34,$G34=1),2,IF(AND(BC$6=$F34,$G34=1),0,\"\")))),\"\")","v":""},{"$f":"IFERROR(IF(LEN(Etapes[[#This Row],[Planned]])=0,\"\",IF(AND($C34=\"MER\",BD$6=$F34,$G34=1),1,IF(AND($C34=\"MEP\",BD$6=$F34,$G34=1),2,IF(AND(BD$6=$F34,$G34=1),0,\"\")))),\"\")","v":""},{"$f":"IFERROR(IF(LEN(Etapes[[#This Row],[Planned]])=0,\"\",IF(AND($C34=\"MER\",BE$6=$F34,$G34=1),1,IF(AND($C34=\"MEP\",BE$6=$F34,$G34=1),2,IF(AND(BE$6=$F34,$G34=1),0,\"\")))),\"\")","v":""},{"$f":"IFERROR(IF(LEN(Etapes[[#This Row],[Planned]])=0,\"\",IF(AND($C34=\"MER\",BF$6=$F34,$G34=1),1,IF(AND($C34=\"MEP\",BF$6=$F34,$G34=1),2,IF(AND(BF$6=$F34,$G34=1),0,\"\")))),\"\")","v":""},{"$f":"IFERROR(IF(LEN(Etapes[[#This Row],[Planned]])=0,\"\",IF(AND($C34=\"MER\",BG$6=$F34,$G34=1),1,IF(AND($C34=\"MEP\",BG$6=$F34,$G34=1),2,IF(AND(BG$6=$F34,$G34=1),0,\"\")))),\"\")","v":""},{"$f":"IFERROR(IF(LEN(Etapes[[#This Row],[Planned]])=0,\"\",IF(AND($C34=\"MER\",BH$6=$F34,$G34=1),1,IF(AND($C34=\"MEP\",BH$6=$F34,$G34=1),2,IF(AND(BH$6=$F34,$G34=1),0,\"\")))),\"\")","v":""},{"$f":"IFERROR(IF(LEN(Etapes[[#This Row],[Planned]])=0,\"\",IF(AND($C34=\"MER\",BI$6=$F34,$G34=1),1,IF(AND($C34=\"MEP\",BI$6=$F34,$G34=1),2,IF(AND(BI$6=$F34,$G34=1),0,\"\")))),\"\")","v":""},{"$f":"IFERROR(IF(LEN(Etapes[[#This Row],[Planned]])=0,\"\",IF(AND($C34=\"MER\",BJ$6=$F34,$G34=1),1,IF(AND($C34=\"MEP\",BJ$6=$F34,$G34=1),2,IF(AND(BJ$6=$F34,$G34=1),0,\"\")))),\"\")","v":""},{"$f":"IFERROR(IF(LEN(Etapes[[#This Row],[Planned]])=0,\"\",IF(AND($C34=\"MER\",BK$6=$F34,$G34=1),1,IF(AND($C34=\"MEP\",BK$6=$F34,$G34=1),2,IF(AND(BK$6=$F34,$G34=1),0,\"\")))),\"\")","v":""},{"$f":"IFERROR(IF(LEN(Etapes[[#This Row],[Planned]])=0,\"\",IF(AND($C34=\"MER\",BL$6=$F34,$G34=1),1,IF(AND($C34=\"MEP\",BL$6=$F34,$G34=1),2,IF(AND(BL$6=$F34,$G34=1),0,\"\")))),\"\")","v":""},{"$f":"IFERROR(IF(LEN(Etapes[[#This Row],[Planned]])=0,\"\",IF(AND($C34=\"MER\",BM$6=$F34,$G34=1),1,IF(AND($C34=\"MEP\",BM$6=$F34,$G34=1),2,IF(AND(BM$6=$F34,$G34=1),0,\"\")))),\"\")","v":""},{"$f":"IFERROR(IF(LEN(Etapes[[#This Row],[Planned]])=0,\"\",IF(AND($C34=\"MER\",BN$6=$F34,$G34=1),1,IF(AND($C34=\"MEP\",BN$6=$F34,$G34=1),2,IF(AND(BN$6=$F34,$G34=1),0,\"\")))),\"\")","v":""},{"$f":"IFERROR(IF(LEN(Etapes[[#This Row],[Planned]])=0,\"\",IF(AND($C34=\"MER\",BO$6=$F34,$G34=1),1,IF(AND($C34=\"MEP\",BO$6=$F34,$G34=1),2,IF(AND(BO$6=$F34,$G34=1),0,\"\")))),\"\")","v":""},{"$f":"IFERROR(IF(LEN(Etapes[[#This Row],[Add]])=0,\"\",IF(AND($C34=\"MER\",BP$6=$F34,$G34=1),1,IF(AND($C34=\"MEP\",BP$6=$F34,$G34=1),2,IF(AND(BP$6=$F34,$G34=1),0,\"\")))),\"\")","v":""},{"$f":"IFERROR(IF(LEN(Etapes[[#This Row],[End]])=0,\"\",IF(AND($C34=\"MER\",BQ$6=$F34,$G34=1),1,IF(AND($C34=\"MEP\",BQ$6=$F34,$G34=1),2,IF(AND(BQ$6=$F34,$G34=1),0,\"\")))),\"\")","v":""},{"$f":"IFERROR(IF(LEN(Etapes[[#This Row],[Réalisé]])=0,\"\",IF(AND($C34=\"MER\",BR$6=$F34,$G34=1),1,IF(AND($C34=\"MEP\",BR$6=$F34,$G34=1),2,IF(AND(BR$6=$F34,$G34=1),0,\"\")))),\"\")","v":""},{"$f":"IFERROR(IF(LEN(Etapes[[#This Row],[Activité]])=0,\"\",IF(AND($C34=\"MER\",BS$6=$F34,$G34=1),1,IF(AND($C34=\"MEP\",BS$6=$F34,$G34=1),2,IF(AND(BS$6=$F34,$G34=1),0,\"\")))),\"\")","v":""},{"$f":"IFERROR(IF(LEN(Etapes[[#This Row],[Statut]])=0,\"\",IF(AND($C34=\"MER\",BT$6=$F34,$G34=1),1,IF(AND($C34=\"MEP\",BT$6=$F34,$G34=1),2,IF(AND(BT$6=$F34,$G34=1),0,\"\")))),\"\")","v":""},{"$f":"IFERROR(IF(LEN(Etapes[[#This Row],[Progress]])=0,\"\",IF(AND($C34=\"MER\",BU$6=$F34,$G34=1),1,IF(AND($C34=\"MEP\",BU$6=$F34,$G34=1),2,IF(AND(BU$6=$F34,$G34=1),0,\"\")))),\"\")","v":""},{"$f":"IFERROR(IF(LEN(Etapes[[#This Row],[Start]])=0,\"\",IF(AND($C34=\"MER\",BV$6=$F34,$G34=1),1,IF(AND($C34=\"MEP\",BV$6=$F34,$G34=1),2,IF(AND(BV$6=$F34,$G34=1),0,\"\")))),\"\")","v":""},{"$f":"IFERROR(IF(LEN(Etapes[[#This Row],[Planned]])=0,\"\",IF(AND($C34=\"MER\",BW$6=$F34,$G34=1),1,IF(AND($C34=\"MEP\",BW$6=$F34,$G34=1),2,IF(AND(BW$6=$F34,$G34=1),0,\"\")))),\"\")","v":""},{"$f":"IFERROR(IF(LEN(Etapes[[#This Row],[Add]])=0,\"\",IF(AND($C34=\"MER\",BX$6=$F34,$G34=1),1,IF(AND($C34=\"MEP\",BX$6=$F34,$G34=1),2,IF(AND(BX$6=$F34,$G34=1),0,\"\")))),\"\")","v":""},{"$f":"IFERROR(IF(LEN(Etapes[[#This Row],[End]])=0,\"\",IF(AND($C34=\"MER\",BY$6=$F34,$G34=1),1,IF(AND($C34=\"MEP\",BY$6=$F34,$G34=1),2,IF(AND(BY$6=$F34,$G34=1),0,\"\")))),\"\")","v":""},{"$f":"IFERROR(IF(LEN(Etapes[[#This Row],[Réalisé]])=0,\"\",IF(AND($C34=\"MER\",BZ$6=$F34,$G34=1),1,IF(AND($C34=\"MEP\",BZ$6=$F34,$G34=1),2,IF(AND(BZ$6=$F34,$G34=1),0,\"\")))),\"\")","v":""},{"$f":"IFERROR(IF(LEN(Etapes[[#This Row],[Activité]])=0,\"\",IF(AND($C34=\"MER\",CA$6=$F34,$G34=1),1,IF(AND($C34=\"MEP\",CA$6=$F34,$G34=1),2,IF(AND(CA$6=$F34,$G34=1),0,\"\")))),\"\")","v":""},{"$f":"IFERROR(IF(LEN(Etapes[[#This Row],[Statut]])=0,\"\",IF(AND($C34=\"MER\",CB$6=$F34,$G34=1),1,IF(AND($C34=\"MEP\",CB$6=$F34,$G34=1),2,IF(AND(CB$6=$F34,$G34=1),0,\"\")))),\"\")","v":""},{"$f":"IFERROR(IF(LEN(Etapes[[#This Row],[Progress]])=0,\"\",IF(AND($C34=\"MER\",CC$6=$F34,$G34=1),1,IF(AND($C34=\"MEP\",CC$6=$F34,$G34=1),2,IF(AND(CC$6=$F34,$G34=1),0,\"\")))),\"\")","v":""},{"$f":"IFERROR(IF(LEN(Etapes[[#This Row],[Start]])=0,\"\",IF(AND($C34=\"MER\",CD$6=$F34,$G34=1),1,IF(AND($C34=\"MEP\",CD$6=$F34,$G34=1),2,IF(AND(CD$6=$F34,$G34=1),0,\"\")))),\"\")","v":""},{"$f":"IFERROR(IF(LEN(Etapes[[#This Row],[Planned]])=0,\"\",IF(AND($C34=\"MER\",CE$6=$F34,$G34=1),1,IF(AND($C34=\"MEP\",CE$6=$F34,$G34=1),2,IF(AND(CE$6=$F34,$G34=1),0,\"\")))),\"\")","v":""},{"$f":"IFERROR(IF(LEN(Etapes[[#This Row],[Add]])=0,\"\",IF(AND($C34=\"MER\",CF$6=$F34,$G34=1),1,IF(AND($C34=\"MEP\",CF$6=$F34,$G34=1),2,IF(AND(CF$6=$F34,$G34=1),0,\"\")))),\"\")","v":""},{"$f":"IFERROR(IF(LEN(Etapes[[#This Row],[End]])=0,\"\",IF(AND($C34=\"MER\",CG$6=$F34,$G34=1),1,IF(AND($C34=\"MEP\",CG$6=$F34,$G34=1),2,IF(AND(CG$6=$F34,$G34=1),0,\"\")))),\"\")","v":""},{"$f":"IFERROR(IF(LEN(Etapes[[#This Row],[Réalisé]])=0,\"\",IF(AND($C34=\"MER\",CH$6=$F34,$G34=1),1,IF(AND($C34=\"MEP\",CH$6=$F34,$G34=1),2,IF(AND(CH$6=$F34,$G34=1),0,\"\")))),\"\")","v":""},{"$f":"IFERROR(IF(LEN(Etapes[[#This Row],[Activité]])=0,\"\",IF(AND($C34=\"MER\",CI$6=$F34,$G34=1),1,IF(AND($C34=\"MEP\",CI$6=$F34,$G34=1),2,IF(AND(CI$6=$F34,$G34=1),0,\"\")))),\"\")","v":""},{"$f":"IFERROR(IF(LEN(Etapes[[#This Row],[Statut]])=0,\"\",IF(AND($C34=\"MER\",CJ$6=$F34,$G34=1),1,IF(AND($C34=\"MEP\",CJ$6=$F34,$G34=1),2,IF(AND(CJ$6=$F34,$G34=1),0,\"\")))),\"\")","v":""},{"$f":"IFERROR(IF(LEN(Etapes[[#This Row],[Progress]])=0,\"\",IF(AND($C34=\"MER\",CK$6=$F34,$G34=1),1,IF(AND($C34=\"MEP\",CK$6=$F34,$G34=1),2,IF(AND(CK$6=$F34,$G34=1),0,\"\")))),\"\")","v":""},{"$f":"IFERROR(IF(LEN(Etapes[[#This Row],[Start]])=0,\"\",IF(AND($C34=\"MER\",CL$6=$F34,$G34=1),1,IF(AND($C34=\"MEP\",CL$6=$F34,$G34=1),2,IF(AND(CL$6=$F34,$G34=1),0,\"\")))),\"\")","v":""},{"$f":"IFERROR(IF(LEN(Etapes[[#This Row],[Planned]])=0,\"\",IF(AND($C34=\"MER\",CM$6=$F34,$G34=1),1,IF(AND($C34=\"MEP\",CM$6=$F34,$G34=1),2,IF(AND(CM$6=$F34,$G34=1),0,\"\")))),\"\")","v":""},{"$f":"IFERROR(IF(LEN(Etapes[[#This Row],[Add]])=0,\"\",IF(AND($C34=\"MER\",CN$6=$F34,$G34=1),1,IF(AND($C34=\"MEP\",CN$6=$F34,$G34=1),2,IF(AND(CN$6=$F34,$G34=1),0,\"\")))),\"\")","v":""},{"$f":"IFERROR(IF(LEN(Etapes[[#This Row],[End]])=0,\"\",IF(AND($C34=\"MER\",CO$6=$F34,$G34=1),1,IF(AND($C34=\"MEP\",CO$6=$F34,$G34=1),2,IF(AND(CO$6=$F34,$G34=1),0,\"\")))),\"\")","v":""},{"$f":"IFERROR(IF(LEN(Etapes[[#This Row],[Réalisé]])=0,\"\",IF(AND($C34=\"MER\",CP$6=$F34,$G34=1),1,IF(AND($C34=\"MEP\",CP$6=$F34,$G34=1),2,IF(AND(CP$6=$F34,$G34=1),0,\"\")))),\"\")","v":""},{"$f":"IFERROR(IF(LEN(Etapes[[#This Row],[Activité]])=0,\"\",IF(AND($C34=\"MER\",CQ$6=$F34,$G34=1),1,IF(AND($C34=\"MEP\",CQ$6=$F34,$G34=1),2,IF(AND(CQ$6=$F34,$G34=1),0,\"\")))),\"\")","v":""},{"$f":"IFERROR(IF(LEN(Etapes[[#This Row],[Statut]])=0,\"\",IF(AND($C34=\"MER\",CR$6=$F34,$G34=1),1,IF(AND($C34=\"MEP\",CR$6=$F34,$G34=1),2,IF(AND(CR$6=$F34,$G34=1),0,\"\")))),\"\")","v":""},{"$f":"IFERROR(IF(LEN(Etapes[[#This Row],[Progress]])=0,\"\",IF(AND($C34=\"MER\",CS$6=$F34,$G34=1),1,IF(AND($C34=\"MEP\",CS$6=$F34,$G34=1),2,IF(AND(CS$6=$F34,$G34=1),0,\"\")))),\"\")","v":""},{"$f":"IFERROR(IF(LEN(Etapes[[#This Row],[Start]])=0,\"\",IF(AND($C34=\"MER\",CT$6=$F34,$G34=1),1,IF(AND($C34=\"MEP\",CT$6=$F34,$G34=1),2,IF(AND(CT$6=$F34,$G34=1),0,\"\")))),\"\")","v":""},{"$f":"IFERROR(IF(LEN(Etapes[[#This Row],[Planned]])=0,\"\",IF(AND($C34=\"MER\",CU$6=$F34,$G34=1),1,IF(AND($C34=\"MEP\",CU$6=$F34,$G34=1),2,IF(AND(CU$6=$F34,$G34=1),0,\"\")))),\"\")","v":""},{"$f":"IFERROR(IF(LEN(Etapes[[#This Row],[Add]])=0,\"\",IF(AND($C34=\"MER\",CV$6=$F34,$G34=1),1,IF(AND($C34=\"MEP\",CV$6=$F34,$G34=1),2,IF(AND(CV$6=$F34,$G34=1),0,\"\")))),\"\")","v":""},{"$f":"IFERROR(IF(LEN(Etapes[[#This Row],[End]])=0,\"\",IF(AND($C34=\"MER\",CW$6=$F34,$G34=1),1,IF(AND($C34=\"MEP\",CW$6=$F34,$G34=1),2,IF(AND(CW$6=$F34,$G34=1),0,\"\")))),\"\")","v":""}]
[6,{"$f":"RàF!A24","v":"E6.13.02"},null,null,null,"2022-08-03",null,null,{"$f":"IF(Etapes[[#This Row],[Start]]<>\"\",WORKDAY(Etapes[[#This Row],[Start]],IF(WEEKDAY(Etapes[[#This Row],[Start]],1)>=6,Etapes[[#This Row],[Planned]]+Etapes[[#This Row],[Add]],Etapes[[#This Row],[Planned]]+Etapes[[#This Row],[Add]]-1),Férié),\"\")","v":"2022-08-02"},{"$f":"IF(Etapes[[#This Row],[Start]]<>\"\",WORKDAY(Etapes[[#This Row],[Start]],IF(WEEKDAY(Etapes[[#This Row],[Start]],1)>=6,Etapes[[#This Row],[Progress]]*Etapes[[#This Row],[Planned]]+Etapes[[#This Row],[Add]],(Etapes[[#This Row],[Progress]]*Etapes[[#This Row],[Planned]]+Etapes[[#This Row],[Add]])-1),Férié),\"\")","v":"2022-08-02"},null,{"$f":"IFERROR(IF(LEN(Etapes[[#This Row],[Planned]])=0,\"\",IF(AND($C35=\"MER\",L$6=$F35,$G35=1),1,IF(AND($C35=\"MEP\",L$6=$F35,$G35=1),2,IF(AND(L$6=$F35,$G35=1),0,\"\")))),\"\")","v":""},{"$f":"IFERROR(IF(LEN(Etapes[[#This Row],[Planned]])=0,\"\",IF(AND($C35=\"MER\",M$6=$F35,$G35=1),1,IF(AND($C35=\"MEP\",M$6=$F35,$G35=1),2,IF(AND(M$6=$F35,$G35=1),0,\"\")))),\"\")","v":""},{"$f":"IFERROR(IF(LEN(Etapes[[#This Row],[Planned]])=0,\"\",IF(AND($C35=\"MER\",N$6=$F35,$G35=1),1,IF(AND($C35=\"MEP\",N$6=$F35,$G35=1),2,IF(AND(N$6=$F35,$G35=1),0,\"\")))),\"\")","v":""},{"$f":"IFERROR(IF(LEN(Etapes[[#This Row],[Planned]])=0,\"\",IF(AND($C35=\"MER\",O$6=$F35,$G35=1),1,IF(AND($C35=\"MEP\",O$6=$F35,$G35=1),2,IF(AND(O$6=$F35,$G35=1),0,\"\")))),\"\")","v":""},{"$f":"IFERROR(IF(LEN(Etapes[[#This Row],[Planned]])=0,\"\",IF(AND($C35=\"MER\",P$6=$F35,$G35=1),1,IF(AND($C35=\"MEP\",P$6=$F35,$G35=1),2,IF(AND(P$6=$F35,$G35=1),0,\"\")))),\"\")","v":""},{"$f":"IFERROR(IF(LEN(Etapes[[#This Row],[Planned]])=0,\"\",IF(AND($C35=\"MER\",Q$6=$F35,$G35=1),1,IF(AND($C35=\"MEP\",Q$6=$F35,$G35=1),2,IF(AND(Q$6=$F35,$G35=1),0,\"\")))),\"\")","v":""},{"$f":"IFERROR(IF(LEN(Etapes[[#This Row],[Planned]])=0,\"\",IF(AND($C35=\"MER\",R$6=$F35,$G35=1),1,IF(AND($C35=\"MEP\",R$6=$F35,$G35=1),2,IF(AND(R$6=$F35,$G35=1),0,\"\")))),\"\")","v":""},{"$f":"IFERROR(IF(LEN(Etapes[[#This Row],[Planned]])=0,\"\",IF(AND($C35=\"MER\",S$6=$F35,$G35=1),1,IF(AND($C35=\"MEP\",S$6=$F35,$G35=1),2,IF(AND(S$6=$F35,$G35=1),0,\"\")))),\"\")","v":""},{"$f":"IFERROR(IF(LEN(Etapes[[#This Row],[Planned]])=0,\"\",IF(AND($C35=\"MER\",T$6=$F35,$G35=1),1,IF(AND($C35=\"MEP\",T$6=$F35,$G35=1),2,IF(AND(T$6=$F35,$G35=1),0,\"\")))),\"\")","v":""},{"$f":"IFERROR(IF(LEN(Etapes[[#This Row],[Planned]])=0,\"\",IF(AND($C35=\"MER\",U$6=$F35,$G35=1),1,IF(AND($C35=\"MEP\",U$6=$F35,$G35=1),2,IF(AND(U$6=$F35,$G35=1),0,\"\")))),\"\")","v":""},{"$f":"IFERROR(IF(LEN(Etapes[[#This Row],[Planned]])=0,\"\",IF(AND($C35=\"MER\",V$6=$F35,$G35=1),1,IF(AND($C35=\"MEP\",V$6=$F35,$G35=1),2,IF(AND(V$6=$F35,$G35=1),0,\"\")))),\"\")","v":""},{"$f":"IFERROR(IF(LEN(Etapes[[#This Row],[Planned]])=0,\"\",IF(AND($C35=\"MER\",W$6=$F35,$G35=1),1,IF(AND($C35=\"MEP\",W$6=$F35,$G35=1),2,IF(AND(W$6=$F35,$G35=1),0,\"\")))),\"\")","v":""},{"$f":"IFERROR(IF(LEN(Etapes[[#This Row],[Planned]])=0,\"\",IF(AND($C35=\"MER\",X$6=$F35,$G35=1),1,IF(AND($C35=\"MEP\",X$6=$F35,$G35=1),2,IF(AND(X$6=$F35,$G35=1),0,\"\")))),\"\")","v":""},{"$f":"IFERROR(IF(LEN(Etapes[[#This Row],[Planned]])=0,\"\",IF(AND($C35=\"MER\",Y$6=$F35,$G35=1),1,IF(AND($C35=\"MEP\",Y$6=$F35,$G35=1),2,IF(AND(Y$6=$F35,$G35=1),0,\"\")))),\"\")","v":""},{"$f":"IFERROR(IF(LEN(Etapes[[#This Row],[Planned]])=0,\"\",IF(AND($C35=\"MER\",Z$6=$F35,$G35=1),1,IF(AND($C35=\"MEP\",Z$6=$F35,$G35=1),2,IF(AND(Z$6=$F35,$G35=1),0,\"\")))),\"\")","v":""},{"$f":"IFERROR(IF(LEN(Etapes[[#This Row],[Planned]])=0,\"\",IF(AND($C35=\"MER\",AA$6=$F35,$G35=1),1,IF(AND($C35=\"MEP\",AA$6=$F35,$G35=1),2,IF(AND(AA$6=$F35,$G35=1),0,\"\")))),\"\")","v":""},{"$f":"IFERROR(IF(LEN(Etapes[[#This Row],[Planned]])=0,\"\",IF(AND($C35=\"MER\",AB$6=$F35,$G35=1),1,IF(AND($C35=\"MEP\",AB$6=$F35,$G35=1),2,IF(AND(AB$6=$F35,$G35=1),0,\"\")))),\"\")","v":""},{"$f":"IFERROR(IF(LEN(Etapes[[#This Row],[Planned]])=0,\"\",IF(AND($C35=\"MER\",AC$6=$F35,$G35=1),1,IF(AND($C35=\"MEP\",AC$6=$F35,$G35=1),2,IF(AND(AC$6=$F35,$G35=1),0,\"\")))),\"\")","v":""},{"$f":"IFERROR(IF(LEN(Etapes[[#This Row],[Planned]])=0,\"\",IF(AND($C35=\"MER\",AD$6=$F35,$G35=1),1,IF(AND($C35=\"MEP\",AD$6=$F35,$G35=1),2,IF(AND(AD$6=$F35,$G35=1),0,\"\")))),\"\")","v":""},{"$f":"IFERROR(IF(LEN(Etapes[[#This Row],[Planned]])=0,\"\",IF(AND($C35=\"MER\",AE$6=$F35,$G35=1),1,IF(AND($C35=\"MEP\",AE$6=$F35,$G35=1),2,IF(AND(AE$6=$F35,$G35=1),0,\"\")))),\"\")","v":""},{"$f":"IFERROR(IF(LEN(Etapes[[#This Row],[Planned]])=0,\"\",IF(AND($C35=\"MER\",AF$6=$F35,$G35=1),1,IF(AND($C35=\"MEP\",AF$6=$F35,$G35=1),2,IF(AND(AF$6=$F35,$G35=1),0,\"\")))),\"\")","v":""},{"$f":"IFERROR(IF(LEN(Etapes[[#This Row],[Planned]])=0,\"\",IF(AND($C35=\"MER\",AG$6=$F35,$G35=1),1,IF(AND($C35=\"MEP\",AG$6=$F35,$G35=1),2,IF(AND(AG$6=$F35,$G35=1),0,\"\")))),\"\")","v":""},{"$f":"IFERROR(IF(LEN(Etapes[[#This Row],[Planned]])=0,\"\",IF(AND($C35=\"MER\",AH$6=$F35,$G35=1),1,IF(AND($C35=\"MEP\",AH$6=$F35,$G35=1),2,IF(AND(AH$6=$F35,$G35=1),0,\"\")))),\"\")","v":""},{"$f":"IFERROR(IF(LEN(Etapes[[#This Row],[Planned]])=0,\"\",IF(AND($C35=\"MER\",AI$6=$F35,$G35=1),1,IF(AND($C35=\"MEP\",AI$6=$F35,$G35=1),2,IF(AND(AI$6=$F35,$G35=1),0,\"\")))),\"\")","v":""},{"$f":"IFERROR(IF(LEN(Etapes[[#This Row],[Planned]])=0,\"\",IF(AND($C35=\"MER\",AJ$6=$F35,$G35=1),1,IF(AND($C35=\"MEP\",AJ$6=$F35,$G35=1),2,IF(AND(AJ$6=$F35,$G35=1),0,\"\")))),\"\")","v":""},{"$f":"IFERROR(IF(LEN(Etapes[[#This Row],[Planned]])=0,\"\",IF(AND($C35=\"MER\",AK$6=$F35,$G35=1),1,IF(AND($C35=\"MEP\",AK$6=$F35,$G35=1),2,IF(AND(AK$6=$F35,$G35=1),0,\"\")))),\"\")","v":""},{"$f":"IFERROR(IF(LEN(Etapes[[#This Row],[Planned]])=0,\"\",IF(AND($C35=\"MER\",AL$6=$F35,$G35=1),1,IF(AND($C35=\"MEP\",AL$6=$F35,$G35=1),2,IF(AND(AL$6=$F35,$G35=1),0,\"\")))),\"\")","v":""},{"$f":"IFERROR(IF(LEN(Etapes[[#This Row],[Planned]])=0,\"\",IF(AND($C35=\"MER\",AM$6=$F35,$G35=1),1,IF(AND($C35=\"MEP\",AM$6=$F35,$G35=1),2,IF(AND(AM$6=$F35,$G35=1),0,\"\")))),\"\")","v":""},{"$f":"IFERROR(IF(LEN(Etapes[[#This Row],[Planned]])=0,\"\",IF(AND($C35=\"MER\",AN$6=$F35,$G35=1),1,IF(AND($C35=\"MEP\",AN$6=$F35,$G35=1),2,IF(AND(AN$6=$F35,$G35=1),0,\"\")))),\"\")","v":""},{"$f":"IFERROR(IF(LEN(Etapes[[#This Row],[Planned]])=0,\"\",IF(AND($C35=\"MER\",AO$6=$F35,$G35=1),1,IF(AND($C35=\"MEP\",AO$6=$F35,$G35=1),2,IF(AND(AO$6=$F35,$G35=1),0,\"\")))),\"\")","v":""},{"$f":"IFERROR(IF(LEN(Etapes[[#This Row],[Planned]])=0,\"\",IF(AND($C35=\"MER\",AP$6=$F35,$G35=1),1,IF(AND($C35=\"MEP\",AP$6=$F35,$G35=1),2,IF(AND(AP$6=$F35,$G35=1),0,\"\")))),\"\")","v":""},{"$f":"IFERROR(IF(LEN(Etapes[[#This Row],[Planned]])=0,\"\",IF(AND($C35=\"MER\",AQ$6=$F35,$G35=1),1,IF(AND($C35=\"MEP\",AQ$6=$F35,$G35=1),2,IF(AND(AQ$6=$F35,$G35=1),0,\"\")))),\"\")","v":""},{"$f":"IFERROR(IF(LEN(Etapes[[#This Row],[Planned]])=0,\"\",IF(AND($C35=\"MER\",AR$6=$F35,$G35=1),1,IF(AND($C35=\"MEP\",AR$6=$F35,$G35=1),2,IF(AND(AR$6=$F35,$G35=1),0,\"\")))),\"\")","v":""},{"$f":"IFERROR(IF(LEN(Etapes[[#This Row],[Planned]])=0,\"\",IF(AND($C35=\"MER\",AS$6=$F35,$G35=1),1,IF(AND($C35=\"MEP\",AS$6=$F35,$G35=1),2,IF(AND(AS$6=$F35,$G35=1),0,\"\")))),\"\")","v":""},{"$f":"IFERROR(IF(LEN(Etapes[[#This Row],[Planned]])=0,\"\",IF(AND($C35=\"MER\",AT$6=$F35,$G35=1),1,IF(AND($C35=\"MEP\",AT$6=$F35,$G35=1),2,IF(AND(AT$6=$F35,$G35=1),0,\"\")))),\"\")","v":""},{"$f":"IFERROR(IF(LEN(Etapes[[#This Row],[Planned]])=0,\"\",IF(AND($C35=\"MER\",AU$6=$F35,$G35=1),1,IF(AND($C35=\"MEP\",AU$6=$F35,$G35=1),2,IF(AND(AU$6=$F35,$G35=1),0,\"\")))),\"\")","v":""},{"$f":"IFERROR(IF(LEN(Etapes[[#This Row],[Planned]])=0,\"\",IF(AND($C35=\"MER\",AV$6=$F35,$G35=1),1,IF(AND($C35=\"MEP\",AV$6=$F35,$G35=1),2,IF(AND(AV$6=$F35,$G35=1),0,\"\")))),\"\")","v":""},{"$f":"IFERROR(IF(LEN(Etapes[[#This Row],[Planned]])=0,\"\",IF(AND($C35=\"MER\",AW$6=$F35,$G35=1),1,IF(AND($C35=\"MEP\",AW$6=$F35,$G35=1),2,IF(AND(AW$6=$F35,$G35=1),0,\"\")))),\"\")","v":""},{"$f":"IFERROR(IF(LEN(Etapes[[#This Row],[Planned]])=0,\"\",IF(AND($C35=\"MER\",AX$6=$F35,$G35=1),1,IF(AND($C35=\"MEP\",AX$6=$F35,$G35=1),2,IF(AND(AX$6=$F35,$G35=1),0,\"\")))),\"\")","v":""},{"$f":"IFERROR(IF(LEN(Etapes[[#This Row],[Planned]])=0,\"\",IF(AND($C35=\"MER\",AY$6=$F35,$G35=1),1,IF(AND($C35=\"MEP\",AY$6=$F35,$G35=1),2,IF(AND(AY$6=$F35,$G35=1),0,\"\")))),\"\")","v":""},{"$f":"IFERROR(IF(LEN(Etapes[[#This Row],[Planned]])=0,\"\",IF(AND($C35=\"MER\",AZ$6=$F35,$G35=1),1,IF(AND($C35=\"MEP\",AZ$6=$F35,$G35=1),2,IF(AND(AZ$6=$F35,$G35=1),0,\"\")))),\"\")","v":""},{"$f":"IFERROR(IF(LEN(Etapes[[#This Row],[Planned]])=0,\"\",IF(AND($C35=\"MER\",BA$6=$F35,$G35=1),1,IF(AND($C35=\"MEP\",BA$6=$F35,$G35=1),2,IF(AND(BA$6=$F35,$G35=1),0,\"\")))),\"\")","v":""},{"$f":"IFERROR(IF(LEN(Etapes[[#This Row],[Planned]])=0,\"\",IF(AND($C35=\"MER\",BB$6=$F35,$G35=1),1,IF(AND($C35=\"MEP\",BB$6=$F35,$G35=1),2,IF(AND(BB$6=$F35,$G35=1),0,\"\")))),\"\")","v":""},{"$f":"IFERROR(IF(LEN(Etapes[[#This Row],[Planned]])=0,\"\",IF(AND($C35=\"MER\",BC$6=$F35,$G35=1),1,IF(AND($C35=\"MEP\",BC$6=$F35,$G35=1),2,IF(AND(BC$6=$F35,$G35=1),0,\"\")))),\"\")","v":""},{"$f":"IFERROR(IF(LEN(Etapes[[#This Row],[Planned]])=0,\"\",IF(AND($C35=\"MER\",BD$6=$F35,$G35=1),1,IF(AND($C35=\"MEP\",BD$6=$F35,$G35=1),2,IF(AND(BD$6=$F35,$G35=1),0,\"\")))),\"\")","v":""},{"$f":"IFERROR(IF(LEN(Etapes[[#This Row],[Planned]])=0,\"\",IF(AND($C35=\"MER\",BE$6=$F35,$G35=1),1,IF(AND($C35=\"MEP\",BE$6=$F35,$G35=1),2,IF(AND(BE$6=$F35,$G35=1),0,\"\")))),\"\")","v":""},{"$f":"IFERROR(IF(LEN(Etapes[[#This Row],[Planned]])=0,\"\",IF(AND($C35=\"MER\",BF$6=$F35,$G35=1),1,IF(AND($C35=\"MEP\",BF$6=$F35,$G35=1),2,IF(AND(BF$6=$F35,$G35=1),0,\"\")))),\"\")","v":""},{"$f":"IFERROR(IF(LEN(Etapes[[#This Row],[Planned]])=0,\"\",IF(AND($C35=\"MER\",BG$6=$F35,$G35=1),1,IF(AND($C35=\"MEP\",BG$6=$F35,$G35=1),2,IF(AND(BG$6=$F35,$G35=1),0,\"\")))),\"\")","v":""},{"$f":"IFERROR(IF(LEN(Etapes[[#This Row],[Planned]])=0,\"\",IF(AND($C35=\"MER\",BH$6=$F35,$G35=1),1,IF(AND($C35=\"MEP\",BH$6=$F35,$G35=1),2,IF(AND(BH$6=$F35,$G35=1),0,\"\")))),\"\")","v":""},{"$f":"IFERROR(IF(LEN(Etapes[[#This Row],[Planned]])=0,\"\",IF(AND($C35=\"MER\",BI$6=$F35,$G35=1),1,IF(AND($C35=\"MEP\",BI$6=$F35,$G35=1),2,IF(AND(BI$6=$F35,$G35=1),0,\"\")))),\"\")","v":""},{"$f":"IFERROR(IF(LEN(Etapes[[#This Row],[Planned]])=0,\"\",IF(AND($C35=\"MER\",BJ$6=$F35,$G35=1),1,IF(AND($C35=\"MEP\",BJ$6=$F35,$G35=1),2,IF(AND(BJ$6=$F35,$G35=1),0,\"\")))),\"\")","v":""},{"$f":"IFERROR(IF(LEN(Etapes[[#This Row],[Planned]])=0,\"\",IF(AND($C35=\"MER\",BK$6=$F35,$G35=1),1,IF(AND($C35=\"MEP\",BK$6=$F35,$G35=1),2,IF(AND(BK$6=$F35,$G35=1),0,\"\")))),\"\")","v":""},{"$f":"IFERROR(IF(LEN(Etapes[[#This Row],[Planned]])=0,\"\",IF(AND($C35=\"MER\",BL$6=$F35,$G35=1),1,IF(AND($C35=\"MEP\",BL$6=$F35,$G35=1),2,IF(AND(BL$6=$F35,$G35=1),0,\"\")))),\"\")","v":""},{"$f":"IFERROR(IF(LEN(Etapes[[#This Row],[Planned]])=0,\"\",IF(AND($C35=\"MER\",BM$6=$F35,$G35=1),1,IF(AND($C35=\"MEP\",BM$6=$F35,$G35=1),2,IF(AND(BM$6=$F35,$G35=1),0,\"\")))),\"\")","v":""},{"$f":"IFERROR(IF(LEN(Etapes[[#This Row],[Planned]])=0,\"\",IF(AND($C35=\"MER\",BN$6=$F35,$G35=1),1,IF(AND($C35=\"MEP\",BN$6=$F35,$G35=1),2,IF(AND(BN$6=$F35,$G35=1),0,\"\")))),\"\")","v":""},{"$f":"IFERROR(IF(LEN(Etapes[[#This Row],[Planned]])=0,\"\",IF(AND($C35=\"MER\",BO$6=$F35,$G35=1),1,IF(AND($C35=\"MEP\",BO$6=$F35,$G35=1),2,IF(AND(BO$6=$F35,$G35=1),0,\"\")))),\"\")","v":""},{"$f":"IFERROR(IF(LEN(Etapes[[#This Row],[Add]])=0,\"\",IF(AND($C35=\"MER\",BP$6=$F35,$G35=1),1,IF(AND($C35=\"MEP\",BP$6=$F35,$G35=1),2,IF(AND(BP$6=$F35,$G35=1),0,\"\")))),\"\")","v":""},{"$f":"IFERROR(IF(LEN(Etapes[[#This Row],[End]])=0,\"\",IF(AND($C35=\"MER\",BQ$6=$F35,$G35=1),1,IF(AND($C35=\"MEP\",BQ$6=$F35,$G35=1),2,IF(AND(BQ$6=$F35,$G35=1),0,\"\")))),\"\")","v":""},{"$f":"IFERROR(IF(LEN(Etapes[[#This Row],[Réalisé]])=0,\"\",IF(AND($C35=\"MER\",BR$6=$F35,$G35=1),1,IF(AND($C35=\"MEP\",BR$6=$F35,$G35=1),2,IF(AND(BR$6=$F35,$G35=1),0,\"\")))),\"\")","v":""},{"$f":"IFERROR(IF(LEN(Etapes[[#This Row],[Activité]])=0,\"\",IF(AND($C35=\"MER\",BS$6=$F35,$G35=1),1,IF(AND($C35=\"MEP\",BS$6=$F35,$G35=1),2,IF(AND(BS$6=$F35,$G35=1),0,\"\")))),\"\")","v":""},{"$f":"IFERROR(IF(LEN(Etapes[[#This Row],[Statut]])=0,\"\",IF(AND($C35=\"MER\",BT$6=$F35,$G35=1),1,IF(AND($C35=\"MEP\",BT$6=$F35,$G35=1),2,IF(AND(BT$6=$F35,$G35=1),0,\"\")))),\"\")","v":""},{"$f":"IFERROR(IF(LEN(Etapes[[#This Row],[Progress]])=0,\"\",IF(AND($C35=\"MER\",BU$6=$F35,$G35=1),1,IF(AND($C35=\"MEP\",BU$6=$F35,$G35=1),2,IF(AND(BU$6=$F35,$G35=1),0,\"\")))),\"\")","v":""},{"$f":"IFERROR(IF(LEN(Etapes[[#This Row],[Start]])=0,\"\",IF(AND($C35=\"MER\",BV$6=$F35,$G35=1),1,IF(AND($C35=\"MEP\",BV$6=$F35,$G35=1),2,IF(AND(BV$6=$F35,$G35=1),0,\"\")))),\"\")","v":""},{"$f":"IFERROR(IF(LEN(Etapes[[#This Row],[Planned]])=0,\"\",IF(AND($C35=\"MER\",BW$6=$F35,$G35=1),1,IF(AND($C35=\"MEP\",BW$6=$F35,$G35=1),2,IF(AND(BW$6=$F35,$G35=1),0,\"\")))),\"\")","v":""},{"$f":"IFERROR(IF(LEN(Etapes[[#This Row],[Add]])=0,\"\",IF(AND($C35=\"MER\",BX$6=$F35,$G35=1),1,IF(AND($C35=\"MEP\",BX$6=$F35,$G35=1),2,IF(AND(BX$6=$F35,$G35=1),0,\"\")))),\"\")","v":""},{"$f":"IFERROR(IF(LEN(Etapes[[#This Row],[End]])=0,\"\",IF(AND($C35=\"MER\",BY$6=$F35,$G35=1),1,IF(AND($C35=\"MEP\",BY$6=$F35,$G35=1),2,IF(AND(BY$6=$F35,$G35=1),0,\"\")))),\"\")","v":""},{"$f":"IFERROR(IF(LEN(Etapes[[#This Row],[Réalisé]])=0,\"\",IF(AND($C35=\"MER\",BZ$6=$F35,$G35=1),1,IF(AND($C35=\"MEP\",BZ$6=$F35,$G35=1),2,IF(AND(BZ$6=$F35,$G35=1),0,\"\")))),\"\")","v":""},{"$f":"IFERROR(IF(LEN(Etapes[[#This Row],[Activité]])=0,\"\",IF(AND($C35=\"MER\",CA$6=$F35,$G35=1),1,IF(AND($C35=\"MEP\",CA$6=$F35,$G35=1),2,IF(AND(CA$6=$F35,$G35=1),0,\"\")))),\"\")","v":""},{"$f":"IFERROR(IF(LEN(Etapes[[#This Row],[Statut]])=0,\"\",IF(AND($C35=\"MER\",CB$6=$F35,$G35=1),1,IF(AND($C35=\"MEP\",CB$6=$F35,$G35=1),2,IF(AND(CB$6=$F35,$G35=1),0,\"\")))),\"\")","v":""},{"$f":"IFERROR(IF(LEN(Etapes[[#This Row],[Progress]])=0,\"\",IF(AND($C35=\"MER\",CC$6=$F35,$G35=1),1,IF(AND($C35=\"MEP\",CC$6=$F35,$G35=1),2,IF(AND(CC$6=$F35,$G35=1),0,\"\")))),\"\")","v":""},{"$f":"IFERROR(IF(LEN(Etapes[[#This Row],[Start]])=0,\"\",IF(AND($C35=\"MER\",CD$6=$F35,$G35=1),1,IF(AND($C35=\"MEP\",CD$6=$F35,$G35=1),2,IF(AND(CD$6=$F35,$G35=1),0,\"\")))),\"\")","v":""},{"$f":"IFERROR(IF(LEN(Etapes[[#This Row],[Planned]])=0,\"\",IF(AND($C35=\"MER\",CE$6=$F35,$G35=1),1,IF(AND($C35=\"MEP\",CE$6=$F35,$G35=1),2,IF(AND(CE$6=$F35,$G35=1),0,\"\")))),\"\")","v":""},{"$f":"IFERROR(IF(LEN(Etapes[[#This Row],[Add]])=0,\"\",IF(AND($C35=\"MER\",CF$6=$F35,$G35=1),1,IF(AND($C35=\"MEP\",CF$6=$F35,$G35=1),2,IF(AND(CF$6=$F35,$G35=1),0,\"\")))),\"\")","v":""},{"$f":"IFERROR(IF(LEN(Etapes[[#This Row],[End]])=0,\"\",IF(AND($C35=\"MER\",CG$6=$F35,$G35=1),1,IF(AND($C35=\"MEP\",CG$6=$F35,$G35=1),2,IF(AND(CG$6=$F35,$G35=1),0,\"\")))),\"\")","v":""},{"$f":"IFERROR(IF(LEN(Etapes[[#This Row],[Réalisé]])=0,\"\",IF(AND($C35=\"MER\",CH$6=$F35,$G35=1),1,IF(AND($C35=\"MEP\",CH$6=$F35,$G35=1),2,IF(AND(CH$6=$F35,$G35=1),0,\"\")))),\"\")","v":""},{"$f":"IFERROR(IF(LEN(Etapes[[#This Row],[Activité]])=0,\"\",IF(AND($C35=\"MER\",CI$6=$F35,$G35=1),1,IF(AND($C35=\"MEP\",CI$6=$F35,$G35=1),2,IF(AND(CI$6=$F35,$G35=1),0,\"\")))),\"\")","v":""},{"$f":"IFERROR(IF(LEN(Etapes[[#This Row],[Statut]])=0,\"\",IF(AND($C35=\"MER\",CJ$6=$F35,$G35=1),1,IF(AND($C35=\"MEP\",CJ$6=$F35,$G35=1),2,IF(AND(CJ$6=$F35,$G35=1),0,\"\")))),\"\")","v":""},{"$f":"IFERROR(IF(LEN(Etapes[[#This Row],[Progress]])=0,\"\",IF(AND($C35=\"MER\",CK$6=$F35,$G35=1),1,IF(AND($C35=\"MEP\",CK$6=$F35,$G35=1),2,IF(AND(CK$6=$F35,$G35=1),0,\"\")))),\"\")","v":""},{"$f":"IFERROR(IF(LEN(Etapes[[#This Row],[Start]])=0,\"\",IF(AND($C35=\"MER\",CL$6=$F35,$G35=1),1,IF(AND($C35=\"MEP\",CL$6=$F35,$G35=1),2,IF(AND(CL$6=$F35,$G35=1),0,\"\")))),\"\")","v":""},{"$f":"IFERROR(IF(LEN(Etapes[[#This Row],[Planned]])=0,\"\",IF(AND($C35=\"MER\",CM$6=$F35,$G35=1),1,IF(AND($C35=\"MEP\",CM$6=$F35,$G35=1),2,IF(AND(CM$6=$F35,$G35=1),0,\"\")))),\"\")","v":""},{"$f":"IFERROR(IF(LEN(Etapes[[#This Row],[Add]])=0,\"\",IF(AND($C35=\"MER\",CN$6=$F35,$G35=1),1,IF(AND($C35=\"MEP\",CN$6=$F35,$G35=1),2,IF(AND(CN$6=$F35,$G35=1),0,\"\")))),\"\")","v":""},{"$f":"IFERROR(IF(LEN(Etapes[[#This Row],[End]])=0,\"\",IF(AND($C35=\"MER\",CO$6=$F35,$G35=1),1,IF(AND($C35=\"MEP\",CO$6=$F35,$G35=1),2,IF(AND(CO$6=$F35,$G35=1),0,\"\")))),\"\")","v":""},{"$f":"IFERROR(IF(LEN(Etapes[[#This Row],[Réalisé]])=0,\"\",IF(AND($C35=\"MER\",CP$6=$F35,$G35=1),1,IF(AND($C35=\"MEP\",CP$6=$F35,$G35=1),2,IF(AND(CP$6=$F35,$G35=1),0,\"\")))),\"\")","v":""},{"$f":"IFERROR(IF(LEN(Etapes[[#This Row],[Activité]])=0,\"\",IF(AND($C35=\"MER\",CQ$6=$F35,$G35=1),1,IF(AND($C35=\"MEP\",CQ$6=$F35,$G35=1),2,IF(AND(CQ$6=$F35,$G35=1),0,\"\")))),\"\")","v":""},{"$f":"IFERROR(IF(LEN(Etapes[[#This Row],[Statut]])=0,\"\",IF(AND($C35=\"MER\",CR$6=$F35,$G35=1),1,IF(AND($C35=\"MEP\",CR$6=$F35,$G35=1),2,IF(AND(CR$6=$F35,$G35=1),0,\"\")))),\"\")","v":""},{"$f":"IFERROR(IF(LEN(Etapes[[#This Row],[Progress]])=0,\"\",IF(AND($C35=\"MER\",CS$6=$F35,$G35=1),1,IF(AND($C35=\"MEP\",CS$6=$F35,$G35=1),2,IF(AND(CS$6=$F35,$G35=1),0,\"\")))),\"\")","v":""},{"$f":"IFERROR(IF(LEN(Etapes[[#This Row],[Start]])=0,\"\",IF(AND($C35=\"MER\",CT$6=$F35,$G35=1),1,IF(AND($C35=\"MEP\",CT$6=$F35,$G35=1),2,IF(AND(CT$6=$F35,$G35=1),0,\"\")))),\"\")","v":""},{"$f":"IFERROR(IF(LEN(Etapes[[#This Row],[Planned]])=0,\"\",IF(AND($C35=\"MER\",CU$6=$F35,$G35=1),1,IF(AND($C35=\"MEP\",CU$6=$F35,$G35=1),2,IF(AND(CU$6=$F35,$G35=1),0,\"\")))),\"\")","v":""},{"$f":"IFERROR(IF(LEN(Etapes[[#This Row],[Add]])=0,\"\",IF(AND($C35=\"MER\",CV$6=$F35,$G35=1),1,IF(AND($C35=\"MEP\",CV$6=$F35,$G35=1),2,IF(AND(CV$6=$F35,$G35=1),0,\"\")))),\"\")","v":""},{"$f":"IFERROR(IF(LEN(Etapes[[#This Row],[End]])=0,\"\",IF(AND($C35=\"MER\",CW$6=$F35,$G35=1),1,IF(AND($C35=\"MEP\",CW$6=$F35,$G35=1),2,IF(AND(CW$6=$F35,$G35=1),0,\"\")))),\"\")","v":""}]
["6.1","Instruction ","Launched",{"$f":"Settings!B49","v":"NAN"},0.8,"2022-08-03",null,null,{"$f":"IF(Etapes[[#This Row],[Start]]<>\"\",WORKDAY(Etapes[[#This Row],[Start]],IF(WEEKDAY(Etapes[[#This Row],[Start]],1)>=6,Etapes[[#This Row],[Planned]]+Etapes[[#This Row],[Add]],Etapes[[#This Row],[Planned]]+Etapes[[#This Row],[Add]]-1),Férié),\"\")","v":"2022-08-02"},{"$f":"IF(Etapes[[#This Row],[Start]]<>\"\",WORKDAY(Etapes[[#This Row],[Start]],IF(WEEKDAY(Etapes[[#This Row],[Start]],1)>=6,Etapes[[#This Row],[Progress]]*Etapes[[#This Row],[Planned]]+Etapes[[#This Row],[Add]],(Etapes[[#This Row],[Progress]]*Etapes[[#This Row],[Planned]]+Etapes[[#This Row],[Add]])-1),Férié),\"\")","v":"2022-08-02"},null,{"$f":"IFERROR(IF(LEN(Etapes[[#This Row],[Planned]])=0,\"\",IF(AND($C36=\"MER\",L$6=$F36,$G36=1),1,IF(AND($C36=\"MEP\",L$6=$F36,$G36=1),2,IF(AND(L$6=$F36,$G36=1),0,\"\")))),\"\")","v":""},{"$f":"IFERROR(IF(LEN(Etapes[[#This Row],[Planned]])=0,\"\",IF(AND($C36=\"MER\",M$6=$F36,$G36=1),1,IF(AND($C36=\"MEP\",M$6=$F36,$G36=1),2,IF(AND(M$6=$F36,$G36=1),0,\"\")))),\"\")","v":""},{"$f":"IFERROR(IF(LEN(Etapes[[#This Row],[Planned]])=0,\"\",IF(AND($C36=\"MER\",N$6=$F36,$G36=1),1,IF(AND($C36=\"MEP\",N$6=$F36,$G36=1),2,IF(AND(N$6=$F36,$G36=1),0,\"\")))),\"\")","v":""},{"$f":"IFERROR(IF(LEN(Etapes[[#This Row],[Planned]])=0,\"\",IF(AND($C36=\"MER\",O$6=$F36,$G36=1),1,IF(AND($C36=\"MEP\",O$6=$F36,$G36=1),2,IF(AND(O$6=$F36,$G36=1),0,\"\")))),\"\")","v":""},{"$f":"IFERROR(IF(LEN(Etapes[[#This Row],[Planned]])=0,\"\",IF(AND($C36=\"MER\",P$6=$F36,$G36=1),1,IF(AND($C36=\"MEP\",P$6=$F36,$G36=1),2,IF(AND(P$6=$F36,$G36=1),0,\"\")))),\"\")","v":""},{"$f":"IFERROR(IF(LEN(Etapes[[#This Row],[Planned]])=0,\"\",IF(AND($C36=\"MER\",Q$6=$F36,$G36=1),1,IF(AND($C36=\"MEP\",Q$6=$F36,$G36=1),2,IF(AND(Q$6=$F36,$G36=1),0,\"\")))),\"\")","v":""},{"$f":"IFERROR(IF(LEN(Etapes[[#This Row],[Planned]])=0,\"\",IF(AND($C36=\"MER\",R$6=$F36,$G36=1),1,IF(AND($C36=\"MEP\",R$6=$F36,$G36=1),2,IF(AND(R$6=$F36,$G36=1),0,\"\")))),\"\")","v":""},{"$f":"IFERROR(IF(LEN(Etapes[[#This Row],[Planned]])=0,\"\",IF(AND($C36=\"MER\",S$6=$F36,$G36=1),1,IF(AND($C36=\"MEP\",S$6=$F36,$G36=1),2,IF(AND(S$6=$F36,$G36=1),0,\"\")))),\"\")","v":""},{"$f":"IFERROR(IF(LEN(Etapes[[#This Row],[Planned]])=0,\"\",IF(AND($C36=\"MER\",T$6=$F36,$G36=1),1,IF(AND($C36=\"MEP\",T$6=$F36,$G36=1),2,IF(AND(T$6=$F36,$G36=1),0,\"\")))),\"\")","v":""},{"$f":"IFERROR(IF(LEN(Etapes[[#This Row],[Planned]])=0,\"\",IF(AND($C36=\"MER\",U$6=$F36,$G36=1),1,IF(AND($C36=\"MEP\",U$6=$F36,$G36=1),2,IF(AND(U$6=$F36,$G36=1),0,\"\")))),\"\")","v":""},{"$f":"IFERROR(IF(LEN(Etapes[[#This Row],[Planned]])=0,\"\",IF(AND($C36=\"MER\",V$6=$F36,$G36=1),1,IF(AND($C36=\"MEP\",V$6=$F36,$G36=1),2,IF(AND(V$6=$F36,$G36=1),0,\"\")))),\"\")","v":""},{"$f":"IFERROR(IF(LEN(Etapes[[#This Row],[Planned]])=0,\"\",IF(AND($C36=\"MER\",W$6=$F36,$G36=1),1,IF(AND($C36=\"MEP\",W$6=$F36,$G36=1),2,IF(AND(W$6=$F36,$G36=1),0,\"\")))),\"\")","v":""},{"$f":"IFERROR(IF(LEN(Etapes[[#This Row],[Planned]])=0,\"\",IF(AND($C36=\"MER\",X$6=$F36,$G36=1),1,IF(AND($C36=\"MEP\",X$6=$F36,$G36=1),2,IF(AND(X$6=$F36,$G36=1),0,\"\")))),\"\")","v":""},{"$f":"IFERROR(IF(LEN(Etapes[[#This Row],[Planned]])=0,\"\",IF(AND($C36=\"MER\",Y$6=$F36,$G36=1),1,IF(AND($C36=\"MEP\",Y$6=$F36,$G36=1),2,IF(AND(Y$6=$F36,$G36=1),0,\"\")))),\"\")","v":""},{"$f":"IFERROR(IF(LEN(Etapes[[#This Row],[Planned]])=0,\"\",IF(AND($C36=\"MER\",Z$6=$F36,$G36=1),1,IF(AND($C36=\"MEP\",Z$6=$F36,$G36=1),2,IF(AND(Z$6=$F36,$G36=1),0,\"\")))),\"\")","v":""},{"$f":"IFERROR(IF(LEN(Etapes[[#This Row],[Planned]])=0,\"\",IF(AND($C36=\"MER\",AA$6=$F36,$G36=1),1,IF(AND($C36=\"MEP\",AA$6=$F36,$G36=1),2,IF(AND(AA$6=$F36,$G36=1),0,\"\")))),\"\")","v":""},{"$f":"IFERROR(IF(LEN(Etapes[[#This Row],[Planned]])=0,\"\",IF(AND($C36=\"MER\",AB$6=$F36,$G36=1),1,IF(AND($C36=\"MEP\",AB$6=$F36,$G36=1),2,IF(AND(AB$6=$F36,$G36=1),0,\"\")))),\"\")","v":""},{"$f":"IFERROR(IF(LEN(Etapes[[#This Row],[Planned]])=0,\"\",IF(AND($C36=\"MER\",AC$6=$F36,$G36=1),1,IF(AND($C36=\"MEP\",AC$6=$F36,$G36=1),2,IF(AND(AC$6=$F36,$G36=1),0,\"\")))),\"\")","v":""},{"$f":"IFERROR(IF(LEN(Etapes[[#This Row],[Planned]])=0,\"\",IF(AND($C36=\"MER\",AD$6=$F36,$G36=1),1,IF(AND($C36=\"MEP\",AD$6=$F36,$G36=1),2,IF(AND(AD$6=$F36,$G36=1),0,\"\")))),\"\")","v":""},{"$f":"IFERROR(IF(LEN(Etapes[[#This Row],[Planned]])=0,\"\",IF(AND($C36=\"MER\",AE$6=$F36,$G36=1),1,IF(AND($C36=\"MEP\",AE$6=$F36,$G36=1),2,IF(AND(AE$6=$F36,$G36=1),0,\"\")))),\"\")","v":""},{"$f":"IFERROR(IF(LEN(Etapes[[#This Row],[Planned]])=0,\"\",IF(AND($C36=\"MER\",AF$6=$F36,$G36=1),1,IF(AND($C36=\"MEP\",AF$6=$F36,$G36=1),2,IF(AND(AF$6=$F36,$G36=1),0,\"\")))),\"\")","v":""},{"$f":"IFERROR(IF(LEN(Etapes[[#This Row],[Planned]])=0,\"\",IF(AND($C36=\"MER\",AG$6=$F36,$G36=1),1,IF(AND($C36=\"MEP\",AG$6=$F36,$G36=1),2,IF(AND(AG$6=$F36,$G36=1),0,\"\")))),\"\")","v":""},{"$f":"IFERROR(IF(LEN(Etapes[[#This Row],[Planned]])=0,\"\",IF(AND($C36=\"MER\",AH$6=$F36,$G36=1),1,IF(AND($C36=\"MEP\",AH$6=$F36,$G36=1),2,IF(AND(AH$6=$F36,$G36=1),0,\"\")))),\"\")","v":""},{"$f":"IFERROR(IF(LEN(Etapes[[#This Row],[Planned]])=0,\"\",IF(AND($C36=\"MER\",AI$6=$F36,$G36=1),1,IF(AND($C36=\"MEP\",AI$6=$F36,$G36=1),2,IF(AND(AI$6=$F36,$G36=1),0,\"\")))),\"\")","v":""},{"$f":"IFERROR(IF(LEN(Etapes[[#This Row],[Planned]])=0,\"\",IF(AND($C36=\"MER\",AJ$6=$F36,$G36=1),1,IF(AND($C36=\"MEP\",AJ$6=$F36,$G36=1),2,IF(AND(AJ$6=$F36,$G36=1),0,\"\")))),\"\")","v":""},{"$f":"IFERROR(IF(LEN(Etapes[[#This Row],[Planned]])=0,\"\",IF(AND($C36=\"MER\",AK$6=$F36,$G36=1),1,IF(AND($C36=\"MEP\",AK$6=$F36,$G36=1),2,IF(AND(AK$6=$F36,$G36=1),0,\"\")))),\"\")","v":""},{"$f":"IFERROR(IF(LEN(Etapes[[#This Row],[Planned]])=0,\"\",IF(AND($C36=\"MER\",AL$6=$F36,$G36=1),1,IF(AND($C36=\"MEP\",AL$6=$F36,$G36=1),2,IF(AND(AL$6=$F36,$G36=1),0,\"\")))),\"\")","v":""},{"$f":"IFERROR(IF(LEN(Etapes[[#This Row],[Planned]])=0,\"\",IF(AND($C36=\"MER\",AM$6=$F36,$G36=1),1,IF(AND($C36=\"MEP\",AM$6=$F36,$G36=1),2,IF(AND(AM$6=$F36,$G36=1),0,\"\")))),\"\")","v":""},{"$f":"IFERROR(IF(LEN(Etapes[[#This Row],[Planned]])=0,\"\",IF(AND($C36=\"MER\",AN$6=$F36,$G36=1),1,IF(AND($C36=\"MEP\",AN$6=$F36,$G36=1),2,IF(AND(AN$6=$F36,$G36=1),0,\"\")))),\"\")","v":""},{"$f":"IFERROR(IF(LEN(Etapes[[#This Row],[Planned]])=0,\"\",IF(AND($C36=\"MER\",AO$6=$F36,$G36=1),1,IF(AND($C36=\"MEP\",AO$6=$F36,$G36=1),2,IF(AND(AO$6=$F36,$G36=1),0,\"\")))),\"\")","v":""},{"$f":"IFERROR(IF(LEN(Etapes[[#This Row],[Planned]])=0,\"\",IF(AND($C36=\"MER\",AP$6=$F36,$G36=1),1,IF(AND($C36=\"MEP\",AP$6=$F36,$G36=1),2,IF(AND(AP$6=$F36,$G36=1),0,\"\")))),\"\")","v":""},{"$f":"IFERROR(IF(LEN(Etapes[[#This Row],[Planned]])=0,\"\",IF(AND($C36=\"MER\",AQ$6=$F36,$G36=1),1,IF(AND($C36=\"MEP\",AQ$6=$F36,$G36=1),2,IF(AND(AQ$6=$F36,$G36=1),0,\"\")))),\"\")","v":""},{"$f":"IFERROR(IF(LEN(Etapes[[#This Row],[Planned]])=0,\"\",IF(AND($C36=\"MER\",AR$6=$F36,$G36=1),1,IF(AND($C36=\"MEP\",AR$6=$F36,$G36=1),2,IF(AND(AR$6=$F36,$G36=1),0,\"\")))),\"\")","v":""},{"$f":"IFERROR(IF(LEN(Etapes[[#This Row],[Planned]])=0,\"\",IF(AND($C36=\"MER\",AS$6=$F36,$G36=1),1,IF(AND($C36=\"MEP\",AS$6=$F36,$G36=1),2,IF(AND(AS$6=$F36,$G36=1),0,\"\")))),\"\")","v":""},{"$f":"IFERROR(IF(LEN(Etapes[[#This Row],[Planned]])=0,\"\",IF(AND($C36=\"MER\",AT$6=$F36,$G36=1),1,IF(AND($C36=\"MEP\",AT$6=$F36,$G36=1),2,IF(AND(AT$6=$F36,$G36=1),0,\"\")))),\"\")","v":""},{"$f":"IFERROR(IF(LEN(Etapes[[#This Row],[Planned]])=0,\"\",IF(AND($C36=\"MER\",AU$6=$F36,$G36=1),1,IF(AND($C36=\"MEP\",AU$6=$F36,$G36=1),2,IF(AND(AU$6=$F36,$G36=1),0,\"\")))),\"\")","v":""},{"$f":"IFERROR(IF(LEN(Etapes[[#This Row],[Planned]])=0,\"\",IF(AND($C36=\"MER\",AV$6=$F36,$G36=1),1,IF(AND($C36=\"MEP\",AV$6=$F36,$G36=1),2,IF(AND(AV$6=$F36,$G36=1),0,\"\")))),\"\")","v":""},{"$f":"IFERROR(IF(LEN(Etapes[[#This Row],[Planned]])=0,\"\",IF(AND($C36=\"MER\",AW$6=$F36,$G36=1),1,IF(AND($C36=\"MEP\",AW$6=$F36,$G36=1),2,IF(AND(AW$6=$F36,$G36=1),0,\"\")))),\"\")","v":""},{"$f":"IFERROR(IF(LEN(Etapes[[#This Row],[Planned]])=0,\"\",IF(AND($C36=\"MER\",AX$6=$F36,$G36=1),1,IF(AND($C36=\"MEP\",AX$6=$F36,$G36=1),2,IF(AND(AX$6=$F36,$G36=1),0,\"\")))),\"\")","v":""},{"$f":"IFERROR(IF(LEN(Etapes[[#This Row],[Planned]])=0,\"\",IF(AND($C36=\"MER\",AY$6=$F36,$G36=1),1,IF(AND($C36=\"MEP\",AY$6=$F36,$G36=1),2,IF(AND(AY$6=$F36,$G36=1),0,\"\")))),\"\")","v":""},{"$f":"IFERROR(IF(LEN(Etapes[[#This Row],[Planned]])=0,\"\",IF(AND($C36=\"MER\",AZ$6=$F36,$G36=1),1,IF(AND($C36=\"MEP\",AZ$6=$F36,$G36=1),2,IF(AND(AZ$6=$F36,$G36=1),0,\"\")))),\"\")","v":""},{"$f":"IFERROR(IF(LEN(Etapes[[#This Row],[Planned]])=0,\"\",IF(AND($C36=\"MER\",BA$6=$F36,$G36=1),1,IF(AND($C36=\"MEP\",BA$6=$F36,$G36=1),2,IF(AND(BA$6=$F36,$G36=1),0,\"\")))),\"\")","v":""},{"$f":"IFERROR(IF(LEN(Etapes[[#This Row],[Planned]])=0,\"\",IF(AND($C36=\"MER\",BB$6=$F36,$G36=1),1,IF(AND($C36=\"MEP\",BB$6=$F36,$G36=1),2,IF(AND(BB$6=$F36,$G36=1),0,\"\")))),\"\")","v":""},{"$f":"IFERROR(IF(LEN(Etapes[[#This Row],[Planned]])=0,\"\",IF(AND($C36=\"MER\",BC$6=$F36,$G36=1),1,IF(AND($C36=\"MEP\",BC$6=$F36,$G36=1),2,IF(AND(BC$6=$F36,$G36=1),0,\"\")))),\"\")","v":""},{"$f":"IFERROR(IF(LEN(Etapes[[#This Row],[Planned]])=0,\"\",IF(AND($C36=\"MER\",BD$6=$F36,$G36=1),1,IF(AND($C36=\"MEP\",BD$6=$F36,$G36=1),2,IF(AND(BD$6=$F36,$G36=1),0,\"\")))),\"\")","v":""},{"$f":"IFERROR(IF(LEN(Etapes[[#This Row],[Planned]])=0,\"\",IF(AND($C36=\"MER\",BE$6=$F36,$G36=1),1,IF(AND($C36=\"MEP\",BE$6=$F36,$G36=1),2,IF(AND(BE$6=$F36,$G36=1),0,\"\")))),\"\")","v":""},{"$f":"IFERROR(IF(LEN(Etapes[[#This Row],[Planned]])=0,\"\",IF(AND($C36=\"MER\",BF$6=$F36,$G36=1),1,IF(AND($C36=\"MEP\",BF$6=$F36,$G36=1),2,IF(AND(BF$6=$F36,$G36=1),0,\"\")))),\"\")","v":""},{"$f":"IFERROR(IF(LEN(Etapes[[#This Row],[Planned]])=0,\"\",IF(AND($C36=\"MER\",BG$6=$F36,$G36=1),1,IF(AND($C36=\"MEP\",BG$6=$F36,$G36=1),2,IF(AND(BG$6=$F36,$G36=1),0,\"\")))),\"\")","v":""},{"$f":"IFERROR(IF(LEN(Etapes[[#This Row],[Planned]])=0,\"\",IF(AND($C36=\"MER\",BH$6=$F36,$G36=1),1,IF(AND($C36=\"MEP\",BH$6=$F36,$G36=1),2,IF(AND(BH$6=$F36,$G36=1),0,\"\")))),\"\")","v":""},{"$f":"IFERROR(IF(LEN(Etapes[[#This Row],[Planned]])=0,\"\",IF(AND($C36=\"MER\",BI$6=$F36,$G36=1),1,IF(AND($C36=\"MEP\",BI$6=$F36,$G36=1),2,IF(AND(BI$6=$F36,$G36=1),0,\"\")))),\"\")","v":""},{"$f":"IFERROR(IF(LEN(Etapes[[#This Row],[Planned]])=0,\"\",IF(AND($C36=\"MER\",BJ$6=$F36,$G36=1),1,IF(AND($C36=\"MEP\",BJ$6=$F36,$G36=1),2,IF(AND(BJ$6=$F36,$G36=1),0,\"\")))),\"\")","v":""},{"$f":"IFERROR(IF(LEN(Etapes[[#This Row],[Planned]])=0,\"\",IF(AND($C36=\"MER\",BK$6=$F36,$G36=1),1,IF(AND($C36=\"MEP\",BK$6=$F36,$G36=1),2,IF(AND(BK$6=$F36,$G36=1),0,\"\")))),\"\")","v":""},{"$f":"IFERROR(IF(LEN(Etapes[[#This Row],[Planned]])=0,\"\",IF(AND($C36=\"MER\",BL$6=$F36,$G36=1),1,IF(AND($C36=\"MEP\",BL$6=$F36,$G36=1),2,IF(AND(BL$6=$F36,$G36=1),0,\"\")))),\"\")","v":""},{"$f":"IFERROR(IF(LEN(Etapes[[#This Row],[Planned]])=0,\"\",IF(AND($C36=\"MER\",BM$6=$F36,$G36=1),1,IF(AND($C36=\"MEP\",BM$6=$F36,$G36=1),2,IF(AND(BM$6=$F36,$G36=1),0,\"\")))),\"\")","v":""},{"$f":"IFERROR(IF(LEN(Etapes[[#This Row],[Planned]])=0,\"\",IF(AND($C36=\"MER\",BN$6=$F36,$G36=1),1,IF(AND($C36=\"MEP\",BN$6=$F36,$G36=1),2,IF(AND(BN$6=$F36,$G36=1),0,\"\")))),\"\")","v":""},{"$f":"IFERROR(IF(LEN(Etapes[[#This Row],[Planned]])=0,\"\",IF(AND($C36=\"MER\",BO$6=$F36,$G36=1),1,IF(AND($C36=\"MEP\",BO$6=$F36,$G36=1),2,IF(AND(BO$6=$F36,$G36=1),0,\"\")))),\"\")","v":""},{"$f":"IFERROR(IF(LEN(Etapes[[#This Row],[Add]])=0,\"\",IF(AND($C36=\"MER\",BP$6=$F36,$G36=1),1,IF(AND($C36=\"MEP\",BP$6=$F36,$G36=1),2,IF(AND(BP$6=$F36,$G36=1),0,\"\")))),\"\")","v":""},{"$f":"IFERROR(IF(LEN(Etapes[[#This Row],[End]])=0,\"\",IF(AND($C36=\"MER\",BQ$6=$F36,$G36=1),1,IF(AND($C36=\"MEP\",BQ$6=$F36,$G36=1),2,IF(AND(BQ$6=$F36,$G36=1),0,\"\")))),\"\")","v":""},{"$f":"IFERROR(IF(LEN(Etapes[[#This Row],[Réalisé]])=0,\"\",IF(AND($C36=\"MER\",BR$6=$F36,$G36=1),1,IF(AND($C36=\"MEP\",BR$6=$F36,$G36=1),2,IF(AND(BR$6=$F36,$G36=1),0,\"\")))),\"\")","v":""},{"$f":"IFERROR(IF(LEN(Etapes[[#This Row],[Activité]])=0,\"\",IF(AND($C36=\"MER\",BS$6=$F36,$G36=1),1,IF(AND($C36=\"MEP\",BS$6=$F36,$G36=1),2,IF(AND(BS$6=$F36,$G36=1),0,\"\")))),\"\")","v":""},{"$f":"IFERROR(IF(LEN(Etapes[[#This Row],[Statut]])=0,\"\",IF(AND($C36=\"MER\",BT$6=$F36,$G36=1),1,IF(AND($C36=\"MEP\",BT$6=$F36,$G36=1),2,IF(AND(BT$6=$F36,$G36=1),0,\"\")))),\"\")","v":""},{"$f":"IFERROR(IF(LEN(Etapes[[#This Row],[Progress]])=0,\"\",IF(AND($C36=\"MER\",BU$6=$F36,$G36=1),1,IF(AND($C36=\"MEP\",BU$6=$F36,$G36=1),2,IF(AND(BU$6=$F36,$G36=1),0,\"\")))),\"\")","v":""},{"$f":"IFERROR(IF(LEN(Etapes[[#This Row],[Start]])=0,\"\",IF(AND($C36=\"MER\",BV$6=$F36,$G36=1),1,IF(AND($C36=\"MEP\",BV$6=$F36,$G36=1),2,IF(AND(BV$6=$F36,$G36=1),0,\"\")))),\"\")","v":""},{"$f":"IFERROR(IF(LEN(Etapes[[#This Row],[Planned]])=0,\"\",IF(AND($C36=\"MER\",BW$6=$F36,$G36=1),1,IF(AND($C36=\"MEP\",BW$6=$F36,$G36=1),2,IF(AND(BW$6=$F36,$G36=1),0,\"\")))),\"\")","v":""},{"$f":"IFERROR(IF(LEN(Etapes[[#This Row],[Add]])=0,\"\",IF(AND($C36=\"MER\",BX$6=$F36,$G36=1),1,IF(AND($C36=\"MEP\",BX$6=$F36,$G36=1),2,IF(AND(BX$6=$F36,$G36=1),0,\"\")))),\"\")","v":""},{"$f":"IFERROR(IF(LEN(Etapes[[#This Row],[End]])=0,\"\",IF(AND($C36=\"MER\",BY$6=$F36,$G36=1),1,IF(AND($C36=\"MEP\",BY$6=$F36,$G36=1),2,IF(AND(BY$6=$F36,$G36=1),0,\"\")))),\"\")","v":""},{"$f":"IFERROR(IF(LEN(Etapes[[#This Row],[Réalisé]])=0,\"\",IF(AND($C36=\"MER\",BZ$6=$F36,$G36=1),1,IF(AND($C36=\"MEP\",BZ$6=$F36,$G36=1),2,IF(AND(BZ$6=$F36,$G36=1),0,\"\")))),\"\")","v":""},{"$f":"IFERROR(IF(LEN(Etapes[[#This Row],[Activité]])=0,\"\",IF(AND($C36=\"MER\",CA$6=$F36,$G36=1),1,IF(AND($C36=\"MEP\",CA$6=$F36,$G36=1),2,IF(AND(CA$6=$F36,$G36=1),0,\"\")))),\"\")","v":""},{"$f":"IFERROR(IF(LEN(Etapes[[#This Row],[Statut]])=0,\"\",IF(AND($C36=\"MER\",CB$6=$F36,$G36=1),1,IF(AND($C36=\"MEP\",CB$6=$F36,$G36=1),2,IF(AND(CB$6=$F36,$G36=1),0,\"\")))),\"\")","v":""},{"$f":"IFERROR(IF(LEN(Etapes[[#This Row],[Progress]])=0,\"\",IF(AND($C36=\"MER\",CC$6=$F36,$G36=1),1,IF(AND($C36=\"MEP\",CC$6=$F36,$G36=1),2,IF(AND(CC$6=$F36,$G36=1),0,\"\")))),\"\")","v":""},{"$f":"IFERROR(IF(LEN(Etapes[[#This Row],[Start]])=0,\"\",IF(AND($C36=\"MER\",CD$6=$F36,$G36=1),1,IF(AND($C36=\"MEP\",CD$6=$F36,$G36=1),2,IF(AND(CD$6=$F36,$G36=1),0,\"\")))),\"\")","v":""},{"$f":"IFERROR(IF(LEN(Etapes[[#This Row],[Planned]])=0,\"\",IF(AND($C36=\"MER\",CE$6=$F36,$G36=1),1,IF(AND($C36=\"MEP\",CE$6=$F36,$G36=1),2,IF(AND(CE$6=$F36,$G36=1),0,\"\")))),\"\")","v":""},{"$f":"IFERROR(IF(LEN(Etapes[[#This Row],[Add]])=0,\"\",IF(AND($C36=\"MER\",CF$6=$F36,$G36=1),1,IF(AND($C36=\"MEP\",CF$6=$F36,$G36=1),2,IF(AND(CF$6=$F36,$G36=1),0,\"\")))),\"\")","v":""},{"$f":"IFERROR(IF(LEN(Etapes[[#This Row],[End]])=0,\"\",IF(AND($C36=\"MER\",CG$6=$F36,$G36=1),1,IF(AND($C36=\"MEP\",CG$6=$F36,$G36=1),2,IF(AND(CG$6=$F36,$G36=1),0,\"\")))),\"\")","v":""},{"$f":"IFERROR(IF(LEN(Etapes[[#This Row],[Réalisé]])=0,\"\",IF(AND($C36=\"MER\",CH$6=$F36,$G36=1),1,IF(AND($C36=\"MEP\",CH$6=$F36,$G36=1),2,IF(AND(CH$6=$F36,$G36=1),0,\"\")))),\"\")","v":""},{"$f":"IFERROR(IF(LEN(Etapes[[#This Row],[Activité]])=0,\"\",IF(AND($C36=\"MER\",CI$6=$F36,$G36=1),1,IF(AND($C36=\"MEP\",CI$6=$F36,$G36=1),2,IF(AND(CI$6=$F36,$G36=1),0,\"\")))),\"\")","v":""},{"$f":"IFERROR(IF(LEN(Etapes[[#This Row],[Statut]])=0,\"\",IF(AND($C36=\"MER\",CJ$6=$F36,$G36=1),1,IF(AND($C36=\"MEP\",CJ$6=$F36,$G36=1),2,IF(AND(CJ$6=$F36,$G36=1),0,\"\")))),\"\")","v":""},{"$f":"IFERROR(IF(LEN(Etapes[[#This Row],[Progress]])=0,\"\",IF(AND($C36=\"MER\",CK$6=$F36,$G36=1),1,IF(AND($C36=\"MEP\",CK$6=$F36,$G36=1),2,IF(AND(CK$6=$F36,$G36=1),0,\"\")))),\"\")","v":""},{"$f":"IFERROR(IF(LEN(Etapes[[#This Row],[Start]])=0,\"\",IF(AND($C36=\"MER\",CL$6=$F36,$G36=1),1,IF(AND($C36=\"MEP\",CL$6=$F36,$G36=1),2,IF(AND(CL$6=$F36,$G36=1),0,\"\")))),\"\")","v":""},{"$f":"IFERROR(IF(LEN(Etapes[[#This Row],[Planned]])=0,\"\",IF(AND($C36=\"MER\",CM$6=$F36,$G36=1),1,IF(AND($C36=\"MEP\",CM$6=$F36,$G36=1),2,IF(AND(CM$6=$F36,$G36=1),0,\"\")))),\"\")","v":""},{"$f":"IFERROR(IF(LEN(Etapes[[#This Row],[Add]])=0,\"\",IF(AND($C36=\"MER\",CN$6=$F36,$G36=1),1,IF(AND($C36=\"MEP\",CN$6=$F36,$G36=1),2,IF(AND(CN$6=$F36,$G36=1),0,\"\")))),\"\")","v":""},{"$f":"IFERROR(IF(LEN(Etapes[[#This Row],[End]])=0,\"\",IF(AND($C36=\"MER\",CO$6=$F36,$G36=1),1,IF(AND($C36=\"MEP\",CO$6=$F36,$G36=1),2,IF(AND(CO$6=$F36,$G36=1),0,\"\")))),\"\")","v":""},{"$f":"IFERROR(IF(LEN(Etapes[[#This Row],[Réalisé]])=0,\"\",IF(AND($C36=\"MER\",CP$6=$F36,$G36=1),1,IF(AND($C36=\"MEP\",CP$6=$F36,$G36=1),2,IF(AND(CP$6=$F36,$G36=1),0,\"\")))),\"\")","v":""},{"$f":"IFERROR(IF(LEN(Etapes[[#This Row],[Activité]])=0,\"\",IF(AND($C36=\"MER\",CQ$6=$F36,$G36=1),1,IF(AND($C36=\"MEP\",CQ$6=$F36,$G36=1),2,IF(AND(CQ$6=$F36,$G36=1),0,\"\")))),\"\")","v":""},{"$f":"IFERROR(IF(LEN(Etapes[[#This Row],[Statut]])=0,\"\",IF(AND($C36=\"MER\",CR$6=$F36,$G36=1),1,IF(AND($C36=\"MEP\",CR$6=$F36,$G36=1),2,IF(AND(CR$6=$F36,$G36=1),0,\"\")))),\"\")","v":""},{"$f":"IFERROR(IF(LEN(Etapes[[#This Row],[Progress]])=0,\"\",IF(AND($C36=\"MER\",CS$6=$F36,$G36=1),1,IF(AND($C36=\"MEP\",CS$6=$F36,$G36=1),2,IF(AND(CS$6=$F36,$G36=1),0,\"\")))),\"\")","v":""},{"$f":"IFERROR(IF(LEN(Etapes[[#This Row],[Start]])=0,\"\",IF(AND($C36=\"MER\",CT$6=$F36,$G36=1),1,IF(AND($C36=\"MEP\",CT$6=$F36,$G36=1),2,IF(AND(CT$6=$F36,$G36=1),0,\"\")))),\"\")","v":""},{"$f":"IFERROR(IF(LEN(Etapes[[#This Row],[Planned]])=0,\"\",IF(AND($C36=\"MER\",CU$6=$F36,$G36=1),1,IF(AND($C36=\"MEP\",CU$6=$F36,$G36=1),2,IF(AND(CU$6=$F36,$G36=1),0,\"\")))),\"\")","v":""},{"$f":"IFERROR(IF(LEN(Etapes[[#This Row],[Add]])=0,\"\",IF(AND($C36=\"MER\",CV$6=$F36,$G36=1),1,IF(AND($C36=\"MEP\",CV$6=$F36,$G36=1),2,IF(AND(CV$6=$F36,$G36=1),0,\"\")))),\"\")","v":""},{"$f":"IFERROR(IF(LEN(Etapes[[#This Row],[End]])=0,\"\",IF(AND($C36=\"MER\",CW$6=$F36,$G36=1),1,IF(AND($C36=\"MEP\",CW$6=$F36,$G36=1),2,IF(AND(CW$6=$F36,$G36=1),0,\"\")))),\"\")","v":""}]
["6.2","Conception",null,{"$f":"Settings!C49","v":"NAN"},null,"2022-08-03",null,null,{"$f":"IF(Etapes[[#This Row],[Start]]<>\"\",WORKDAY(Etapes[[#This Row],[Start]],IF(WEEKDAY(Etapes[[#This Row],[Start]],1)>=6,Etapes[[#This Row],[Planned]]+Etapes[[#This Row],[Add]],Etapes[[#This Row],[Planned]]+Etapes[[#This Row],[Add]]-1),Férié),\"\")","v":"2022-08-02"},{"$f":"IF(Etapes[[#This Row],[Start]]<>\"\",WORKDAY(Etapes[[#This Row],[Start]],IF(WEEKDAY(Etapes[[#This Row],[Start]],1)>=6,Etapes[[#This Row],[Progress]]*Etapes[[#This Row],[Planned]]+Etapes[[#This Row],[Add]],(Etapes[[#This Row],[Progress]]*Etapes[[#This Row],[Planned]]+Etapes[[#This Row],[Add]])-1),Férié),\"\")","v":"2022-08-02"},null,{"$f":"IFERROR(IF(LEN(Etapes[[#This Row],[Planned]])=0,\"\",IF(AND($C37=\"MER\",L$6=$F37,$G37=1),1,IF(AND($C37=\"MEP\",L$6=$F37,$G37=1),2,IF(AND(L$6=$F37,$G37=1),0,\"\")))),\"\")","v":""},{"$f":"IFERROR(IF(LEN(Etapes[[#This Row],[Planned]])=0,\"\",IF(AND($C37=\"MER\",M$6=$F37,$G37=1),1,IF(AND($C37=\"MEP\",M$6=$F37,$G37=1),2,IF(AND(M$6=$F37,$G37=1),0,\"\")))),\"\")","v":""},{"$f":"IFERROR(IF(LEN(Etapes[[#This Row],[Planned]])=0,\"\",IF(AND($C37=\"MER\",N$6=$F37,$G37=1),1,IF(AND($C37=\"MEP\",N$6=$F37,$G37=1),2,IF(AND(N$6=$F37,$G37=1),0,\"\")))),\"\")","v":""},{"$f":"IFERROR(IF(LEN(Etapes[[#This Row],[Planned]])=0,\"\",IF(AND($C37=\"MER\",O$6=$F37,$G37=1),1,IF(AND($C37=\"MEP\",O$6=$F37,$G37=1),2,IF(AND(O$6=$F37,$G37=1),0,\"\")))),\"\")","v":""},{"$f":"IFERROR(IF(LEN(Etapes[[#This Row],[Planned]])=0,\"\",IF(AND($C37=\"MER\",P$6=$F37,$G37=1),1,IF(AND($C37=\"MEP\",P$6=$F37,$G37=1),2,IF(AND(P$6=$F37,$G37=1),0,\"\")))),\"\")","v":""},{"$f":"IFERROR(IF(LEN(Etapes[[#This Row],[Planned]])=0,\"\",IF(AND($C37=\"MER\",Q$6=$F37,$G37=1),1,IF(AND($C37=\"MEP\",Q$6=$F37,$G37=1),2,IF(AND(Q$6=$F37,$G37=1),0,\"\")))),\"\")","v":""},{"$f":"IFERROR(IF(LEN(Etapes[[#This Row],[Planned]])=0,\"\",IF(AND($C37=\"MER\",R$6=$F37,$G37=1),1,IF(AND($C37=\"MEP\",R$6=$F37,$G37=1),2,IF(AND(R$6=$F37,$G37=1),0,\"\")))),\"\")","v":""},{"$f":"IFERROR(IF(LEN(Etapes[[#This Row],[Planned]])=0,\"\",IF(AND($C37=\"MER\",S$6=$F37,$G37=1),1,IF(AND($C37=\"MEP\",S$6=$F37,$G37=1),2,IF(AND(S$6=$F37,$G37=1),0,\"\")))),\"\")","v":""},{"$f":"IFERROR(IF(LEN(Etapes[[#This Row],[Planned]])=0,\"\",IF(AND($C37=\"MER\",T$6=$F37,$G37=1),1,IF(AND($C37=\"MEP\",T$6=$F37,$G37=1),2,IF(AND(T$6=$F37,$G37=1),0,\"\")))),\"\")","v":""},{"$f":"IFERROR(IF(LEN(Etapes[[#This Row],[Planned]])=0,\"\",IF(AND($C37=\"MER\",U$6=$F37,$G37=1),1,IF(AND($C37=\"MEP\",U$6=$F37,$G37=1),2,IF(AND(U$6=$F37,$G37=1),0,\"\")))),\"\")","v":""},{"$f":"IFERROR(IF(LEN(Etapes[[#This Row],[Planned]])=0,\"\",IF(AND($C37=\"MER\",V$6=$F37,$G37=1),1,IF(AND($C37=\"MEP\",V$6=$F37,$G37=1),2,IF(AND(V$6=$F37,$G37=1),0,\"\")))),\"\")","v":""},{"$f":"IFERROR(IF(LEN(Etapes[[#This Row],[Planned]])=0,\"\",IF(AND($C37=\"MER\",W$6=$F37,$G37=1),1,IF(AND($C37=\"MEP\",W$6=$F37,$G37=1),2,IF(AND(W$6=$F37,$G37=1),0,\"\")))),\"\")","v":""},{"$f":"IFERROR(IF(LEN(Etapes[[#This Row],[Planned]])=0,\"\",IF(AND($C37=\"MER\",X$6=$F37,$G37=1),1,IF(AND($C37=\"MEP\",X$6=$F37,$G37=1),2,IF(AND(X$6=$F37,$G37=1),0,\"\")))),\"\")","v":""},{"$f":"IFERROR(IF(LEN(Etapes[[#This Row],[Planned]])=0,\"\",IF(AND($C37=\"MER\",Y$6=$F37,$G37=1),1,IF(AND($C37=\"MEP\",Y$6=$F37,$G37=1),2,IF(AND(Y$6=$F37,$G37=1),0,\"\")))),\"\")","v":""},{"$f":"IFERROR(IF(LEN(Etapes[[#This Row],[Planned]])=0,\"\",IF(AND($C37=\"MER\",Z$6=$F37,$G37=1),1,IF(AND($C37=\"MEP\",Z$6=$F37,$G37=1),2,IF(AND(Z$6=$F37,$G37=1),0,\"\")))),\"\")","v":""},{"$f":"IFERROR(IF(LEN(Etapes[[#This Row],[Planned]])=0,\"\",IF(AND($C37=\"MER\",AA$6=$F37,$G37=1),1,IF(AND($C37=\"MEP\",AA$6=$F37,$G37=1),2,IF(AND(AA$6=$F37,$G37=1),0,\"\")))),\"\")","v":""},{"$f":"IFERROR(IF(LEN(Etapes[[#This Row],[Planned]])=0,\"\",IF(AND($C37=\"MER\",AB$6=$F37,$G37=1),1,IF(AND($C37=\"MEP\",AB$6=$F37,$G37=1),2,IF(AND(AB$6=$F37,$G37=1),0,\"\")))),\"\")","v":""},{"$f":"IFERROR(IF(LEN(Etapes[[#This Row],[Planned]])=0,\"\",IF(AND($C37=\"MER\",AC$6=$F37,$G37=1),1,IF(AND($C37=\"MEP\",AC$6=$F37,$G37=1),2,IF(AND(AC$6=$F37,$G37=1),0,\"\")))),\"\")","v":""},{"$f":"IFERROR(IF(LEN(Etapes[[#This Row],[Planned]])=0,\"\",IF(AND($C37=\"MER\",AD$6=$F37,$G37=1),1,IF(AND($C37=\"MEP\",AD$6=$F37,$G37=1),2,IF(AND(AD$6=$F37,$G37=1),0,\"\")))),\"\")","v":""},{"$f":"IFERROR(IF(LEN(Etapes[[#This Row],[Planned]])=0,\"\",IF(AND($C37=\"MER\",AE$6=$F37,$G37=1),1,IF(AND($C37=\"MEP\",AE$6=$F37,$G37=1),2,IF(AND(AE$6=$F37,$G37=1),0,\"\")))),\"\")","v":""},{"$f":"IFERROR(IF(LEN(Etapes[[#This Row],[Planned]])=0,\"\",IF(AND($C37=\"MER\",AF$6=$F37,$G37=1),1,IF(AND($C37=\"MEP\",AF$6=$F37,$G37=1),2,IF(AND(AF$6=$F37,$G37=1),0,\"\")))),\"\")","v":""},{"$f":"IFERROR(IF(LEN(Etapes[[#This Row],[Planned]])=0,\"\",IF(AND($C37=\"MER\",AG$6=$F37,$G37=1),1,IF(AND($C37=\"MEP\",AG$6=$F37,$G37=1),2,IF(AND(AG$6=$F37,$G37=1),0,\"\")))),\"\")","v":""},{"$f":"IFERROR(IF(LEN(Etapes[[#This Row],[Planned]])=0,\"\",IF(AND($C37=\"MER\",AH$6=$F37,$G37=1),1,IF(AND($C37=\"MEP\",AH$6=$F37,$G37=1),2,IF(AND(AH$6=$F37,$G37=1),0,\"\")))),\"\")","v":""},{"$f":"IFERROR(IF(LEN(Etapes[[#This Row],[Planned]])=0,\"\",IF(AND($C37=\"MER\",AI$6=$F37,$G37=1),1,IF(AND($C37=\"MEP\",AI$6=$F37,$G37=1),2,IF(AND(AI$6=$F37,$G37=1),0,\"\")))),\"\")","v":""},{"$f":"IFERROR(IF(LEN(Etapes[[#This Row],[Planned]])=0,\"\",IF(AND($C37=\"MER\",AJ$6=$F37,$G37=1),1,IF(AND($C37=\"MEP\",AJ$6=$F37,$G37=1),2,IF(AND(AJ$6=$F37,$G37=1),0,\"\")))),\"\")","v":""},{"$f":"IFERROR(IF(LEN(Etapes[[#This Row],[Planned]])=0,\"\",IF(AND($C37=\"MER\",AK$6=$F37,$G37=1),1,IF(AND($C37=\"MEP\",AK$6=$F37,$G37=1),2,IF(AND(AK$6=$F37,$G37=1),0,\"\")))),\"\")","v":""},{"$f":"IFERROR(IF(LEN(Etapes[[#This Row],[Planned]])=0,\"\",IF(AND($C37=\"MER\",AL$6=$F37,$G37=1),1,IF(AND($C37=\"MEP\",AL$6=$F37,$G37=1),2,IF(AND(AL$6=$F37,$G37=1),0,\"\")))),\"\")","v":""},{"$f":"IFERROR(IF(LEN(Etapes[[#This Row],[Planned]])=0,\"\",IF(AND($C37=\"MER\",AM$6=$F37,$G37=1),1,IF(AND($C37=\"MEP\",AM$6=$F37,$G37=1),2,IF(AND(AM$6=$F37,$G37=1),0,\"\")))),\"\")","v":""},{"$f":"IFERROR(IF(LEN(Etapes[[#This Row],[Planned]])=0,\"\",IF(AND($C37=\"MER\",AN$6=$F37,$G37=1),1,IF(AND($C37=\"MEP\",AN$6=$F37,$G37=1),2,IF(AND(AN$6=$F37,$G37=1),0,\"\")))),\"\")","v":""},{"$f":"IFERROR(IF(LEN(Etapes[[#This Row],[Planned]])=0,\"\",IF(AND($C37=\"MER\",AO$6=$F37,$G37=1),1,IF(AND($C37=\"MEP\",AO$6=$F37,$G37=1),2,IF(AND(AO$6=$F37,$G37=1),0,\"\")))),\"\")","v":""},{"$f":"IFERROR(IF(LEN(Etapes[[#This Row],[Planned]])=0,\"\",IF(AND($C37=\"MER\",AP$6=$F37,$G37=1),1,IF(AND($C37=\"MEP\",AP$6=$F37,$G37=1),2,IF(AND(AP$6=$F37,$G37=1),0,\"\")))),\"\")","v":""},{"$f":"IFERROR(IF(LEN(Etapes[[#This Row],[Planned]])=0,\"\",IF(AND($C37=\"MER\",AQ$6=$F37,$G37=1),1,IF(AND($C37=\"MEP\",AQ$6=$F37,$G37=1),2,IF(AND(AQ$6=$F37,$G37=1),0,\"\")))),\"\")","v":""},{"$f":"IFERROR(IF(LEN(Etapes[[#This Row],[Planned]])=0,\"\",IF(AND($C37=\"MER\",AR$6=$F37,$G37=1),1,IF(AND($C37=\"MEP\",AR$6=$F37,$G37=1),2,IF(AND(AR$6=$F37,$G37=1),0,\"\")))),\"\")","v":""},{"$f":"IFERROR(IF(LEN(Etapes[[#This Row],[Planned]])=0,\"\",IF(AND($C37=\"MER\",AS$6=$F37,$G37=1),1,IF(AND($C37=\"MEP\",AS$6=$F37,$G37=1),2,IF(AND(AS$6=$F37,$G37=1),0,\"\")))),\"\")","v":""},{"$f":"IFERROR(IF(LEN(Etapes[[#This Row],[Planned]])=0,\"\",IF(AND($C37=\"MER\",AT$6=$F37,$G37=1),1,IF(AND($C37=\"MEP\",AT$6=$F37,$G37=1),2,IF(AND(AT$6=$F37,$G37=1),0,\"\")))),\"\")","v":""},{"$f":"IFERROR(IF(LEN(Etapes[[#This Row],[Planned]])=0,\"\",IF(AND($C37=\"MER\",AU$6=$F37,$G37=1),1,IF(AND($C37=\"MEP\",AU$6=$F37,$G37=1),2,IF(AND(AU$6=$F37,$G37=1),0,\"\")))),\"\")","v":""},{"$f":"IFERROR(IF(LEN(Etapes[[#This Row],[Planned]])=0,\"\",IF(AND($C37=\"MER\",AV$6=$F37,$G37=1),1,IF(AND($C37=\"MEP\",AV$6=$F37,$G37=1),2,IF(AND(AV$6=$F37,$G37=1),0,\"\")))),\"\")","v":""},{"$f":"IFERROR(IF(LEN(Etapes[[#This Row],[Planned]])=0,\"\",IF(AND($C37=\"MER\",AW$6=$F37,$G37=1),1,IF(AND($C37=\"MEP\",AW$6=$F37,$G37=1),2,IF(AND(AW$6=$F37,$G37=1),0,\"\")))),\"\")","v":""},{"$f":"IFERROR(IF(LEN(Etapes[[#This Row],[Planned]])=0,\"\",IF(AND($C37=\"MER\",AX$6=$F37,$G37=1),1,IF(AND($C37=\"MEP\",AX$6=$F37,$G37=1),2,IF(AND(AX$6=$F37,$G37=1),0,\"\")))),\"\")","v":""},{"$f":"IFERROR(IF(LEN(Etapes[[#This Row],[Planned]])=0,\"\",IF(AND($C37=\"MER\",AY$6=$F37,$G37=1),1,IF(AND($C37=\"MEP\",AY$6=$F37,$G37=1),2,IF(AND(AY$6=$F37,$G37=1),0,\"\")))),\"\")","v":""},{"$f":"IFERROR(IF(LEN(Etapes[[#This Row],[Planned]])=0,\"\",IF(AND($C37=\"MER\",AZ$6=$F37,$G37=1),1,IF(AND($C37=\"MEP\",AZ$6=$F37,$G37=1),2,IF(AND(AZ$6=$F37,$G37=1),0,\"\")))),\"\")","v":""},{"$f":"IFERROR(IF(LEN(Etapes[[#This Row],[Planned]])=0,\"\",IF(AND($C37=\"MER\",BA$6=$F37,$G37=1),1,IF(AND($C37=\"MEP\",BA$6=$F37,$G37=1),2,IF(AND(BA$6=$F37,$G37=1),0,\"\")))),\"\")","v":""},{"$f":"IFERROR(IF(LEN(Etapes[[#This Row],[Planned]])=0,\"\",IF(AND($C37=\"MER\",BB$6=$F37,$G37=1),1,IF(AND($C37=\"MEP\",BB$6=$F37,$G37=1),2,IF(AND(BB$6=$F37,$G37=1),0,\"\")))),\"\")","v":""},{"$f":"IFERROR(IF(LEN(Etapes[[#This Row],[Planned]])=0,\"\",IF(AND($C37=\"MER\",BC$6=$F37,$G37=1),1,IF(AND($C37=\"MEP\",BC$6=$F37,$G37=1),2,IF(AND(BC$6=$F37,$G37=1),0,\"\")))),\"\")","v":""},{"$f":"IFERROR(IF(LEN(Etapes[[#This Row],[Planned]])=0,\"\",IF(AND($C37=\"MER\",BD$6=$F37,$G37=1),1,IF(AND($C37=\"MEP\",BD$6=$F37,$G37=1),2,IF(AND(BD$6=$F37,$G37=1),0,\"\")))),\"\")","v":""},{"$f":"IFERROR(IF(LEN(Etapes[[#This Row],[Planned]])=0,\"\",IF(AND($C37=\"MER\",BE$6=$F37,$G37=1),1,IF(AND($C37=\"MEP\",BE$6=$F37,$G37=1),2,IF(AND(BE$6=$F37,$G37=1),0,\"\")))),\"\")","v":""},{"$f":"IFERROR(IF(LEN(Etapes[[#This Row],[Planned]])=0,\"\",IF(AND($C37=\"MER\",BF$6=$F37,$G37=1),1,IF(AND($C37=\"MEP\",BF$6=$F37,$G37=1),2,IF(AND(BF$6=$F37,$G37=1),0,\"\")))),\"\")","v":""},{"$f":"IFERROR(IF(LEN(Etapes[[#This Row],[Planned]])=0,\"\",IF(AND($C37=\"MER\",BG$6=$F37,$G37=1),1,IF(AND($C37=\"MEP\",BG$6=$F37,$G37=1),2,IF(AND(BG$6=$F37,$G37=1),0,\"\")))),\"\")","v":""},{"$f":"IFERROR(IF(LEN(Etapes[[#This Row],[Planned]])=0,\"\",IF(AND($C37=\"MER\",BH$6=$F37,$G37=1),1,IF(AND($C37=\"MEP\",BH$6=$F37,$G37=1),2,IF(AND(BH$6=$F37,$G37=1),0,\"\")))),\"\")","v":""},{"$f":"IFERROR(IF(LEN(Etapes[[#This Row],[Planned]])=0,\"\",IF(AND($C37=\"MER\",BI$6=$F37,$G37=1),1,IF(AND($C37=\"MEP\",BI$6=$F37,$G37=1),2,IF(AND(BI$6=$F37,$G37=1),0,\"\")))),\"\")","v":""},{"$f":"IFERROR(IF(LEN(Etapes[[#This Row],[Planned]])=0,\"\",IF(AND($C37=\"MER\",BJ$6=$F37,$G37=1),1,IF(AND($C37=\"MEP\",BJ$6=$F37,$G37=1),2,IF(AND(BJ$6=$F37,$G37=1),0,\"\")))),\"\")","v":""},{"$f":"IFERROR(IF(LEN(Etapes[[#This Row],[Planned]])=0,\"\",IF(AND($C37=\"MER\",BK$6=$F37,$G37=1),1,IF(AND($C37=\"MEP\",BK$6=$F37,$G37=1),2,IF(AND(BK$6=$F37,$G37=1),0,\"\")))),\"\")","v":""},{"$f":"IFERROR(IF(LEN(Etapes[[#This Row],[Planned]])=0,\"\",IF(AND($C37=\"MER\",BL$6=$F37,$G37=1),1,IF(AND($C37=\"MEP\",BL$6=$F37,$G37=1),2,IF(AND(BL$6=$F37,$G37=1),0,\"\")))),\"\")","v":""},{"$f":"IFERROR(IF(LEN(Etapes[[#This Row],[Planned]])=0,\"\",IF(AND($C37=\"MER\",BM$6=$F37,$G37=1),1,IF(AND($C37=\"MEP\",BM$6=$F37,$G37=1),2,IF(AND(BM$6=$F37,$G37=1),0,\"\")))),\"\")","v":""},{"$f":"IFERROR(IF(LEN(Etapes[[#This Row],[Planned]])=0,\"\",IF(AND($C37=\"MER\",BN$6=$F37,$G37=1),1,IF(AND($C37=\"MEP\",BN$6=$F37,$G37=1),2,IF(AND(BN$6=$F37,$G37=1),0,\"\")))),\"\")","v":""},{"$f":"IFERROR(IF(LEN(Etapes[[#This Row],[Planned]])=0,\"\",IF(AND($C37=\"MER\",BO$6=$F37,$G37=1),1,IF(AND($C37=\"MEP\",BO$6=$F37,$G37=1),2,IF(AND(BO$6=$F37,$G37=1),0,\"\")))),\"\")","v":""},{"$f":"IFERROR(IF(LEN(Etapes[[#This Row],[Add]])=0,\"\",IF(AND($C37=\"MER\",BP$6=$F37,$G37=1),1,IF(AND($C37=\"MEP\",BP$6=$F37,$G37=1),2,IF(AND(BP$6=$F37,$G37=1),0,\"\")))),\"\")","v":""},{"$f":"IFERROR(IF(LEN(Etapes[[#This Row],[End]])=0,\"\",IF(AND($C37=\"MER\",BQ$6=$F37,$G37=1),1,IF(AND($C37=\"MEP\",BQ$6=$F37,$G37=1),2,IF(AND(BQ$6=$F37,$G37=1),0,\"\")))),\"\")","v":""},{"$f":"IFERROR(IF(LEN(Etapes[[#This Row],[Réalisé]])=0,\"\",IF(AND($C37=\"MER\",BR$6=$F37,$G37=1),1,IF(AND($C37=\"MEP\",BR$6=$F37,$G37=1),2,IF(AND(BR$6=$F37,$G37=1),0,\"\")))),\"\")","v":""},{"$f":"IFERROR(IF(LEN(Etapes[[#This Row],[Activité]])=0,\"\",IF(AND($C37=\"MER\",BS$6=$F37,$G37=1),1,IF(AND($C37=\"MEP\",BS$6=$F37,$G37=1),2,IF(AND(BS$6=$F37,$G37=1),0,\"\")))),\"\")","v":""},{"$f":"IFERROR(IF(LEN(Etapes[[#This Row],[Statut]])=0,\"\",IF(AND($C37=\"MER\",BT$6=$F37,$G37=1),1,IF(AND($C37=\"MEP\",BT$6=$F37,$G37=1),2,IF(AND(BT$6=$F37,$G37=1),0,\"\")))),\"\")","v":""},{"$f":"IFERROR(IF(LEN(Etapes[[#This Row],[Progress]])=0,\"\",IF(AND($C37=\"MER\",BU$6=$F37,$G37=1),1,IF(AND($C37=\"MEP\",BU$6=$F37,$G37=1),2,IF(AND(BU$6=$F37,$G37=1),0,\"\")))),\"\")","v":""},{"$f":"IFERROR(IF(LEN(Etapes[[#This Row],[Start]])=0,\"\",IF(AND($C37=\"MER\",BV$6=$F37,$G37=1),1,IF(AND($C37=\"MEP\",BV$6=$F37,$G37=1),2,IF(AND(BV$6=$F37,$G37=1),0,\"\")))),\"\")","v":""},{"$f":"IFERROR(IF(LEN(Etapes[[#This Row],[Planned]])=0,\"\",IF(AND($C37=\"MER\",BW$6=$F37,$G37=1),1,IF(AND($C37=\"MEP\",BW$6=$F37,$G37=1),2,IF(AND(BW$6=$F37,$G37=1),0,\"\")))),\"\")","v":""},{"$f":"IFERROR(IF(LEN(Etapes[[#This Row],[Add]])=0,\"\",IF(AND($C37=\"MER\",BX$6=$F37,$G37=1),1,IF(AND($C37=\"MEP\",BX$6=$F37,$G37=1),2,IF(AND(BX$6=$F37,$G37=1),0,\"\")))),\"\")","v":""},{"$f":"IFERROR(IF(LEN(Etapes[[#This Row],[End]])=0,\"\",IF(AND($C37=\"MER\",BY$6=$F37,$G37=1),1,IF(AND($C37=\"MEP\",BY$6=$F37,$G37=1),2,IF(AND(BY$6=$F37,$G37=1),0,\"\")))),\"\")","v":""},{"$f":"IFERROR(IF(LEN(Etapes[[#This Row],[Réalisé]])=0,\"\",IF(AND($C37=\"MER\",BZ$6=$F37,$G37=1),1,IF(AND($C37=\"MEP\",BZ$6=$F37,$G37=1),2,IF(AND(BZ$6=$F37,$G37=1),0,\"\")))),\"\")","v":""},{"$f":"IFERROR(IF(LEN(Etapes[[#This Row],[Activité]])=0,\"\",IF(AND($C37=\"MER\",CA$6=$F37,$G37=1),1,IF(AND($C37=\"MEP\",CA$6=$F37,$G37=1),2,IF(AND(CA$6=$F37,$G37=1),0,\"\")))),\"\")","v":""},{"$f":"IFERROR(IF(LEN(Etapes[[#This Row],[Statut]])=0,\"\",IF(AND($C37=\"MER\",CB$6=$F37,$G37=1),1,IF(AND($C37=\"MEP\",CB$6=$F37,$G37=1),2,IF(AND(CB$6=$F37,$G37=1),0,\"\")))),\"\")","v":""},{"$f":"IFERROR(IF(LEN(Etapes[[#This Row],[Progress]])=0,\"\",IF(AND($C37=\"MER\",CC$6=$F37,$G37=1),1,IF(AND($C37=\"MEP\",CC$6=$F37,$G37=1),2,IF(AND(CC$6=$F37,$G37=1),0,\"\")))),\"\")","v":""},{"$f":"IFERROR(IF(LEN(Etapes[[#This Row],[Start]])=0,\"\",IF(AND($C37=\"MER\",CD$6=$F37,$G37=1),1,IF(AND($C37=\"MEP\",CD$6=$F37,$G37=1),2,IF(AND(CD$6=$F37,$G37=1),0,\"\")))),\"\")","v":""},{"$f":"IFERROR(IF(LEN(Etapes[[#This Row],[Planned]])=0,\"\",IF(AND($C37=\"MER\",CE$6=$F37,$G37=1),1,IF(AND($C37=\"MEP\",CE$6=$F37,$G37=1),2,IF(AND(CE$6=$F37,$G37=1),0,\"\")))),\"\")","v":""},{"$f":"IFERROR(IF(LEN(Etapes[[#This Row],[Add]])=0,\"\",IF(AND($C37=\"MER\",CF$6=$F37,$G37=1),1,IF(AND($C37=\"MEP\",CF$6=$F37,$G37=1),2,IF(AND(CF$6=$F37,$G37=1),0,\"\")))),\"\")","v":""},{"$f":"IFERROR(IF(LEN(Etapes[[#This Row],[End]])=0,\"\",IF(AND($C37=\"MER\",CG$6=$F37,$G37=1),1,IF(AND($C37=\"MEP\",CG$6=$F37,$G37=1),2,IF(AND(CG$6=$F37,$G37=1),0,\"\")))),\"\")","v":""},{"$f":"IFERROR(IF(LEN(Etapes[[#This Row],[Réalisé]])=0,\"\",IF(AND($C37=\"MER\",CH$6=$F37,$G37=1),1,IF(AND($C37=\"MEP\",CH$6=$F37,$G37=1),2,IF(AND(CH$6=$F37,$G37=1),0,\"\")))),\"\")","v":""},{"$f":"IFERROR(IF(LEN(Etapes[[#This Row],[Activité]])=0,\"\",IF(AND($C37=\"MER\",CI$6=$F37,$G37=1),1,IF(AND($C37=\"MEP\",CI$6=$F37,$G37=1),2,IF(AND(CI$6=$F37,$G37=1),0,\"\")))),\"\")","v":""},{"$f":"IFERROR(IF(LEN(Etapes[[#This Row],[Statut]])=0,\"\",IF(AND($C37=\"MER\",CJ$6=$F37,$G37=1),1,IF(AND($C37=\"MEP\",CJ$6=$F37,$G37=1),2,IF(AND(CJ$6=$F37,$G37=1),0,\"\")))),\"\")","v":""},{"$f":"IFERROR(IF(LEN(Etapes[[#This Row],[Progress]])=0,\"\",IF(AND($C37=\"MER\",CK$6=$F37,$G37=1),1,IF(AND($C37=\"MEP\",CK$6=$F37,$G37=1),2,IF(AND(CK$6=$F37,$G37=1),0,\"\")))),\"\")","v":""},{"$f":"IFERROR(IF(LEN(Etapes[[#This Row],[Start]])=0,\"\",IF(AND($C37=\"MER\",CL$6=$F37,$G37=1),1,IF(AND($C37=\"MEP\",CL$6=$F37,$G37=1),2,IF(AND(CL$6=$F37,$G37=1),0,\"\")))),\"\")","v":""},{"$f":"IFERROR(IF(LEN(Etapes[[#This Row],[Planned]])=0,\"\",IF(AND($C37=\"MER\",CM$6=$F37,$G37=1),1,IF(AND($C37=\"MEP\",CM$6=$F37,$G37=1),2,IF(AND(CM$6=$F37,$G37=1),0,\"\")))),\"\")","v":""},{"$f":"IFERROR(IF(LEN(Etapes[[#This Row],[Add]])=0,\"\",IF(AND($C37=\"MER\",CN$6=$F37,$G37=1),1,IF(AND($C37=\"MEP\",CN$6=$F37,$G37=1),2,IF(AND(CN$6=$F37,$G37=1),0,\"\")))),\"\")","v":""},{"$f":"IFERROR(IF(LEN(Etapes[[#This Row],[End]])=0,\"\",IF(AND($C37=\"MER\",CO$6=$F37,$G37=1),1,IF(AND($C37=\"MEP\",CO$6=$F37,$G37=1),2,IF(AND(CO$6=$F37,$G37=1),0,\"\")))),\"\")","v":""},{"$f":"IFERROR(IF(LEN(Etapes[[#This Row],[Réalisé]])=0,\"\",IF(AND($C37=\"MER\",CP$6=$F37,$G37=1),1,IF(AND($C37=\"MEP\",CP$6=$F37,$G37=1),2,IF(AND(CP$6=$F37,$G37=1),0,\"\")))),\"\")","v":""},{"$f":"IFERROR(IF(LEN(Etapes[[#This Row],[Activité]])=0,\"\",IF(AND($C37=\"MER\",CQ$6=$F37,$G37=1),1,IF(AND($C37=\"MEP\",CQ$6=$F37,$G37=1),2,IF(AND(CQ$6=$F37,$G37=1),0,\"\")))),\"\")","v":""},{"$f":"IFERROR(IF(LEN(Etapes[[#This Row],[Statut]])=0,\"\",IF(AND($C37=\"MER\",CR$6=$F37,$G37=1),1,IF(AND($C37=\"MEP\",CR$6=$F37,$G37=1),2,IF(AND(CR$6=$F37,$G37=1),0,\"\")))),\"\")","v":""},{"$f":"IFERROR(IF(LEN(Etapes[[#This Row],[Progress]])=0,\"\",IF(AND($C37=\"MER\",CS$6=$F37,$G37=1),1,IF(AND($C37=\"MEP\",CS$6=$F37,$G37=1),2,IF(AND(CS$6=$F37,$G37=1),0,\"\")))),\"\")","v":""},{"$f":"IFERROR(IF(LEN(Etapes[[#This Row],[Start]])=0,\"\",IF(AND($C37=\"MER\",CT$6=$F37,$G37=1),1,IF(AND($C37=\"MEP\",CT$6=$F37,$G37=1),2,IF(AND(CT$6=$F37,$G37=1),0,\"\")))),\"\")","v":""},{"$f":"IFERROR(IF(LEN(Etapes[[#This Row],[Planned]])=0,\"\",IF(AND($C37=\"MER\",CU$6=$F37,$G37=1),1,IF(AND($C37=\"MEP\",CU$6=$F37,$G37=1),2,IF(AND(CU$6=$F37,$G37=1),0,\"\")))),\"\")","v":""},{"$f":"IFERROR(IF(LEN(Etapes[[#This Row],[Add]])=0,\"\",IF(AND($C37=\"MER\",CV$6=$F37,$G37=1),1,IF(AND($C37=\"MEP\",CV$6=$F37,$G37=1),2,IF(AND(CV$6=$F37,$G37=1),0,\"\")))),\"\")","v":""},{"$f":"IFERROR(IF(LEN(Etapes[[#This Row],[End]])=0,\"\",IF(AND($C37=\"MER\",CW$6=$F37,$G37=1),1,IF(AND($C37=\"MEP\",CW$6=$F37,$G37=1),2,IF(AND(CW$6=$F37,$G37=1),0,\"\")))),\"\")","v":""}]
["6.3","Préparation RE7 ",null,{"$f":"Settings!D49","v":"VIE"},null,"2022-08-03",null,null,{"$f":"IF(Etapes[[#This Row],[Start]]<>\"\",WORKDAY(Etapes[[#This Row],[Start]],IF(WEEKDAY(Etapes[[#This Row],[Start]],1)>=6,Etapes[[#This Row],[Planned]]+Etapes[[#This Row],[Add]],Etapes[[#This Row],[Planned]]+Etapes[[#This Row],[Add]]-1),Férié),\"\")","v":"2022-08-02"},{"$f":"IF(Etapes[[#This Row],[Start]]<>\"\",WORKDAY(Etapes[[#This Row],[Start]],IF(WEEKDAY(Etapes[[#This Row],[Start]],1)>=6,Etapes[[#This Row],[Progress]]*Etapes[[#This Row],[Planned]]+Etapes[[#This Row],[Add]],(Etapes[[#This Row],[Progress]]*Etapes[[#This Row],[Planned]]+Etapes[[#This Row],[Add]])-1),Férié),\"\")","v":"2022-08-02"},null,{"$f":"IFERROR(IF(LEN(Etapes[[#This Row],[Planned]])=0,\"\",IF(AND($C38=\"MER\",L$6=$F38,$G38=1),1,IF(AND($C38=\"MEP\",L$6=$F38,$G38=1),2,IF(AND(L$6=$F38,$G38=1),0,\"\")))),\"\")","v":""},{"$f":"IFERROR(IF(LEN(Etapes[[#This Row],[Planned]])=0,\"\",IF(AND($C38=\"MER\",M$6=$F38,$G38=1),1,IF(AND($C38=\"MEP\",M$6=$F38,$G38=1),2,IF(AND(M$6=$F38,$G38=1),0,\"\")))),\"\")","v":""},{"$f":"IFERROR(IF(LEN(Etapes[[#This Row],[Planned]])=0,\"\",IF(AND($C38=\"MER\",N$6=$F38,$G38=1),1,IF(AND($C38=\"MEP\",N$6=$F38,$G38=1),2,IF(AND(N$6=$F38,$G38=1),0,\"\")))),\"\")","v":""},{"$f":"IFERROR(IF(LEN(Etapes[[#This Row],[Planned]])=0,\"\",IF(AND($C38=\"MER\",O$6=$F38,$G38=1),1,IF(AND($C38=\"MEP\",O$6=$F38,$G38=1),2,IF(AND(O$6=$F38,$G38=1),0,\"\")))),\"\")","v":""},{"$f":"IFERROR(IF(LEN(Etapes[[#This Row],[Planned]])=0,\"\",IF(AND($C38=\"MER\",P$6=$F38,$G38=1),1,IF(AND($C38=\"MEP\",P$6=$F38,$G38=1),2,IF(AND(P$6=$F38,$G38=1),0,\"\")))),\"\")","v":""},{"$f":"IFERROR(IF(LEN(Etapes[[#This Row],[Planned]])=0,\"\",IF(AND($C38=\"MER\",Q$6=$F38,$G38=1),1,IF(AND($C38=\"MEP\",Q$6=$F38,$G38=1),2,IF(AND(Q$6=$F38,$G38=1),0,\"\")))),\"\")","v":""},{"$f":"IFERROR(IF(LEN(Etapes[[#This Row],[Planned]])=0,\"\",IF(AND($C38=\"MER\",R$6=$F38,$G38=1),1,IF(AND($C38=\"MEP\",R$6=$F38,$G38=1),2,IF(AND(R$6=$F38,$G38=1),0,\"\")))),\"\")","v":""},{"$f":"IFERROR(IF(LEN(Etapes[[#This Row],[Planned]])=0,\"\",IF(AND($C38=\"MER\",S$6=$F38,$G38=1),1,IF(AND($C38=\"MEP\",S$6=$F38,$G38=1),2,IF(AND(S$6=$F38,$G38=1),0,\"\")))),\"\")","v":""},{"$f":"IFERROR(IF(LEN(Etapes[[#This Row],[Planned]])=0,\"\",IF(AND($C38=\"MER\",T$6=$F38,$G38=1),1,IF(AND($C38=\"MEP\",T$6=$F38,$G38=1),2,IF(AND(T$6=$F38,$G38=1),0,\"\")))),\"\")","v":""},{"$f":"IFERROR(IF(LEN(Etapes[[#This Row],[Planned]])=0,\"\",IF(AND($C38=\"MER\",U$6=$F38,$G38=1),1,IF(AND($C38=\"MEP\",U$6=$F38,$G38=1),2,IF(AND(U$6=$F38,$G38=1),0,\"\")))),\"\")","v":""},{"$f":"IFERROR(IF(LEN(Etapes[[#This Row],[Planned]])=0,\"\",IF(AND($C38=\"MER\",V$6=$F38,$G38=1),1,IF(AND($C38=\"MEP\",V$6=$F38,$G38=1),2,IF(AND(V$6=$F38,$G38=1),0,\"\")))),\"\")","v":""},{"$f":"IFERROR(IF(LEN(Etapes[[#This Row],[Planned]])=0,\"\",IF(AND($C38=\"MER\",W$6=$F38,$G38=1),1,IF(AND($C38=\"MEP\",W$6=$F38,$G38=1),2,IF(AND(W$6=$F38,$G38=1),0,\"\")))),\"\")","v":""},{"$f":"IFERROR(IF(LEN(Etapes[[#This Row],[Planned]])=0,\"\",IF(AND($C38=\"MER\",X$6=$F38,$G38=1),1,IF(AND($C38=\"MEP\",X$6=$F38,$G38=1),2,IF(AND(X$6=$F38,$G38=1),0,\"\")))),\"\")","v":""},{"$f":"IFERROR(IF(LEN(Etapes[[#This Row],[Planned]])=0,\"\",IF(AND($C38=\"MER\",Y$6=$F38,$G38=1),1,IF(AND($C38=\"MEP\",Y$6=$F38,$G38=1),2,IF(AND(Y$6=$F38,$G38=1),0,\"\")))),\"\")","v":""},{"$f":"IFERROR(IF(LEN(Etapes[[#This Row],[Planned]])=0,\"\",IF(AND($C38=\"MER\",Z$6=$F38,$G38=1),1,IF(AND($C38=\"MEP\",Z$6=$F38,$G38=1),2,IF(AND(Z$6=$F38,$G38=1),0,\"\")))),\"\")","v":""},{"$f":"IFERROR(IF(LEN(Etapes[[#This Row],[Planned]])=0,\"\",IF(AND($C38=\"MER\",AA$6=$F38,$G38=1),1,IF(AND($C38=\"MEP\",AA$6=$F38,$G38=1),2,IF(AND(AA$6=$F38,$G38=1),0,\"\")))),\"\")","v":""},{"$f":"IFERROR(IF(LEN(Etapes[[#This Row],[Planned]])=0,\"\",IF(AND($C38=\"MER\",AB$6=$F38,$G38=1),1,IF(AND($C38=\"MEP\",AB$6=$F38,$G38=1),2,IF(AND(AB$6=$F38,$G38=1),0,\"\")))),\"\")","v":""},{"$f":"IFERROR(IF(LEN(Etapes[[#This Row],[Planned]])=0,\"\",IF(AND($C38=\"MER\",AC$6=$F38,$G38=1),1,IF(AND($C38=\"MEP\",AC$6=$F38,$G38=1),2,IF(AND(AC$6=$F38,$G38=1),0,\"\")))),\"\")","v":""},{"$f":"IFERROR(IF(LEN(Etapes[[#This Row],[Planned]])=0,\"\",IF(AND($C38=\"MER\",AD$6=$F38,$G38=1),1,IF(AND($C38=\"MEP\",AD$6=$F38,$G38=1),2,IF(AND(AD$6=$F38,$G38=1),0,\"\")))),\"\")","v":""},{"$f":"IFERROR(IF(LEN(Etapes[[#This Row],[Planned]])=0,\"\",IF(AND($C38=\"MER\",AE$6=$F38,$G38=1),1,IF(AND($C38=\"MEP\",AE$6=$F38,$G38=1),2,IF(AND(AE$6=$F38,$G38=1),0,\"\")))),\"\")","v":""},{"$f":"IFERROR(IF(LEN(Etapes[[#This Row],[Planned]])=0,\"\",IF(AND($C38=\"MER\",AF$6=$F38,$G38=1),1,IF(AND($C38=\"MEP\",AF$6=$F38,$G38=1),2,IF(AND(AF$6=$F38,$G38=1),0,\"\")))),\"\")","v":""},{"$f":"IFERROR(IF(LEN(Etapes[[#This Row],[Planned]])=0,\"\",IF(AND($C38=\"MER\",AG$6=$F38,$G38=1),1,IF(AND($C38=\"MEP\",AG$6=$F38,$G38=1),2,IF(AND(AG$6=$F38,$G38=1),0,\"\")))),\"\")","v":""},{"$f":"IFERROR(IF(LEN(Etapes[[#This Row],[Planned]])=0,\"\",IF(AND($C38=\"MER\",AH$6=$F38,$G38=1),1,IF(AND($C38=\"MEP\",AH$6=$F38,$G38=1),2,IF(AND(AH$6=$F38,$G38=1),0,\"\")))),\"\")","v":""},{"$f":"IFERROR(IF(LEN(Etapes[[#This Row],[Planned]])=0,\"\",IF(AND($C38=\"MER\",AI$6=$F38,$G38=1),1,IF(AND($C38=\"MEP\",AI$6=$F38,$G38=1),2,IF(AND(AI$6=$F38,$G38=1),0,\"\")))),\"\")","v":""},{"$f":"IFERROR(IF(LEN(Etapes[[#This Row],[Planned]])=0,\"\",IF(AND($C38=\"MER\",AJ$6=$F38,$G38=1),1,IF(AND($C38=\"MEP\",AJ$6=$F38,$G38=1),2,IF(AND(AJ$6=$F38,$G38=1),0,\"\")))),\"\")","v":""},{"$f":"IFERROR(IF(LEN(Etapes[[#This Row],[Planned]])=0,\"\",IF(AND($C38=\"MER\",AK$6=$F38,$G38=1),1,IF(AND($C38=\"MEP\",AK$6=$F38,$G38=1),2,IF(AND(AK$6=$F38,$G38=1),0,\"\")))),\"\")","v":""},{"$f":"IFERROR(IF(LEN(Etapes[[#This Row],[Planned]])=0,\"\",IF(AND($C38=\"MER\",AL$6=$F38,$G38=1),1,IF(AND($C38=\"MEP\",AL$6=$F38,$G38=1),2,IF(AND(AL$6=$F38,$G38=1),0,\"\")))),\"\")","v":""},{"$f":"IFERROR(IF(LEN(Etapes[[#This Row],[Planned]])=0,\"\",IF(AND($C38=\"MER\",AM$6=$F38,$G38=1),1,IF(AND($C38=\"MEP\",AM$6=$F38,$G38=1),2,IF(AND(AM$6=$F38,$G38=1),0,\"\")))),\"\")","v":""},{"$f":"IFERROR(IF(LEN(Etapes[[#This Row],[Planned]])=0,\"\",IF(AND($C38=\"MER\",AN$6=$F38,$G38=1),1,IF(AND($C38=\"MEP\",AN$6=$F38,$G38=1),2,IF(AND(AN$6=$F38,$G38=1),0,\"\")))),\"\")","v":""},{"$f":"IFERROR(IF(LEN(Etapes[[#This Row],[Planned]])=0,\"\",IF(AND($C38=\"MER\",AO$6=$F38,$G38=1),1,IF(AND($C38=\"MEP\",AO$6=$F38,$G38=1),2,IF(AND(AO$6=$F38,$G38=1),0,\"\")))),\"\")","v":""},{"$f":"IFERROR(IF(LEN(Etapes[[#This Row],[Planned]])=0,\"\",IF(AND($C38=\"MER\",AP$6=$F38,$G38=1),1,IF(AND($C38=\"MEP\",AP$6=$F38,$G38=1),2,IF(AND(AP$6=$F38,$G38=1),0,\"\")))),\"\")","v":""},{"$f":"IFERROR(IF(LEN(Etapes[[#This Row],[Planned]])=0,\"\",IF(AND($C38=\"MER\",AQ$6=$F38,$G38=1),1,IF(AND($C38=\"MEP\",AQ$6=$F38,$G38=1),2,IF(AND(AQ$6=$F38,$G38=1),0,\"\")))),\"\")","v":""},{"$f":"IFERROR(IF(LEN(Etapes[[#This Row],[Planned]])=0,\"\",IF(AND($C38=\"MER\",AR$6=$F38,$G38=1),1,IF(AND($C38=\"MEP\",AR$6=$F38,$G38=1),2,IF(AND(AR$6=$F38,$G38=1),0,\"\")))),\"\")","v":""},{"$f":"IFERROR(IF(LEN(Etapes[[#This Row],[Planned]])=0,\"\",IF(AND($C38=\"MER\",AS$6=$F38,$G38=1),1,IF(AND($C38=\"MEP\",AS$6=$F38,$G38=1),2,IF(AND(AS$6=$F38,$G38=1),0,\"\")))),\"\")","v":""},{"$f":"IFERROR(IF(LEN(Etapes[[#This Row],[Planned]])=0,\"\",IF(AND($C38=\"MER\",AT$6=$F38,$G38=1),1,IF(AND($C38=\"MEP\",AT$6=$F38,$G38=1),2,IF(AND(AT$6=$F38,$G38=1),0,\"\")))),\"\")","v":""},{"$f":"IFERROR(IF(LEN(Etapes[[#This Row],[Planned]])=0,\"\",IF(AND($C38=\"MER\",AU$6=$F38,$G38=1),1,IF(AND($C38=\"MEP\",AU$6=$F38,$G38=1),2,IF(AND(AU$6=$F38,$G38=1),0,\"\")))),\"\")","v":""},{"$f":"IFERROR(IF(LEN(Etapes[[#This Row],[Planned]])=0,\"\",IF(AND($C38=\"MER\",AV$6=$F38,$G38=1),1,IF(AND($C38=\"MEP\",AV$6=$F38,$G38=1),2,IF(AND(AV$6=$F38,$G38=1),0,\"\")))),\"\")","v":""},{"$f":"IFERROR(IF(LEN(Etapes[[#This Row],[Planned]])=0,\"\",IF(AND($C38=\"MER\",AW$6=$F38,$G38=1),1,IF(AND($C38=\"MEP\",AW$6=$F38,$G38=1),2,IF(AND(AW$6=$F38,$G38=1),0,\"\")))),\"\")","v":""},{"$f":"IFERROR(IF(LEN(Etapes[[#This Row],[Planned]])=0,\"\",IF(AND($C38=\"MER\",AX$6=$F38,$G38=1),1,IF(AND($C38=\"MEP\",AX$6=$F38,$G38=1),2,IF(AND(AX$6=$F38,$G38=1),0,\"\")))),\"\")","v":""},{"$f":"IFERROR(IF(LEN(Etapes[[#This Row],[Planned]])=0,\"\",IF(AND($C38=\"MER\",AY$6=$F38,$G38=1),1,IF(AND($C38=\"MEP\",AY$6=$F38,$G38=1),2,IF(AND(AY$6=$F38,$G38=1),0,\"\")))),\"\")","v":""},{"$f":"IFERROR(IF(LEN(Etapes[[#This Row],[Planned]])=0,\"\",IF(AND($C38=\"MER\",AZ$6=$F38,$G38=1),1,IF(AND($C38=\"MEP\",AZ$6=$F38,$G38=1),2,IF(AND(AZ$6=$F38,$G38=1),0,\"\")))),\"\")","v":""},{"$f":"IFERROR(IF(LEN(Etapes[[#This Row],[Planned]])=0,\"\",IF(AND($C38=\"MER\",BA$6=$F38,$G38=1),1,IF(AND($C38=\"MEP\",BA$6=$F38,$G38=1),2,IF(AND(BA$6=$F38,$G38=1),0,\"\")))),\"\")","v":""},{"$f":"IFERROR(IF(LEN(Etapes[[#This Row],[Planned]])=0,\"\",IF(AND($C38=\"MER\",BB$6=$F38,$G38=1),1,IF(AND($C38=\"MEP\",BB$6=$F38,$G38=1),2,IF(AND(BB$6=$F38,$G38=1),0,\"\")))),\"\")","v":""},{"$f":"IFERROR(IF(LEN(Etapes[[#This Row],[Planned]])=0,\"\",IF(AND($C38=\"MER\",BC$6=$F38,$G38=1),1,IF(AND($C38=\"MEP\",BC$6=$F38,$G38=1),2,IF(AND(BC$6=$F38,$G38=1),0,\"\")))),\"\")","v":""},{"$f":"IFERROR(IF(LEN(Etapes[[#This Row],[Planned]])=0,\"\",IF(AND($C38=\"MER\",BD$6=$F38,$G38=1),1,IF(AND($C38=\"MEP\",BD$6=$F38,$G38=1),2,IF(AND(BD$6=$F38,$G38=1),0,\"\")))),\"\")","v":""},{"$f":"IFERROR(IF(LEN(Etapes[[#This Row],[Planned]])=0,\"\",IF(AND($C38=\"MER\",BE$6=$F38,$G38=1),1,IF(AND($C38=\"MEP\",BE$6=$F38,$G38=1),2,IF(AND(BE$6=$F38,$G38=1),0,\"\")))),\"\")","v":""},{"$f":"IFERROR(IF(LEN(Etapes[[#This Row],[Planned]])=0,\"\",IF(AND($C38=\"MER\",BF$6=$F38,$G38=1),1,IF(AND($C38=\"MEP\",BF$6=$F38,$G38=1),2,IF(AND(BF$6=$F38,$G38=1),0,\"\")))),\"\")","v":""},{"$f":"IFERROR(IF(LEN(Etapes[[#This Row],[Planned]])=0,\"\",IF(AND($C38=\"MER\",BG$6=$F38,$G38=1),1,IF(AND($C38=\"MEP\",BG$6=$F38,$G38=1),2,IF(AND(BG$6=$F38,$G38=1),0,\"\")))),\"\")","v":""},{"$f":"IFERROR(IF(LEN(Etapes[[#This Row],[Planned]])=0,\"\",IF(AND($C38=\"MER\",BH$6=$F38,$G38=1),1,IF(AND($C38=\"MEP\",BH$6=$F38,$G38=1),2,IF(AND(BH$6=$F38,$G38=1),0,\"\")))),\"\")","v":""},{"$f":"IFERROR(IF(LEN(Etapes[[#This Row],[Planned]])=0,\"\",IF(AND($C38=\"MER\",BI$6=$F38,$G38=1),1,IF(AND($C38=\"MEP\",BI$6=$F38,$G38=1),2,IF(AND(BI$6=$F38,$G38=1),0,\"\")))),\"\")","v":""},{"$f":"IFERROR(IF(LEN(Etapes[[#This Row],[Planned]])=0,\"\",IF(AND($C38=\"MER\",BJ$6=$F38,$G38=1),1,IF(AND($C38=\"MEP\",BJ$6=$F38,$G38=1),2,IF(AND(BJ$6=$F38,$G38=1),0,\"\")))),\"\")","v":""},{"$f":"IFERROR(IF(LEN(Etapes[[#This Row],[Planned]])=0,\"\",IF(AND($C38=\"MER\",BK$6=$F38,$G38=1),1,IF(AND($C38=\"MEP\",BK$6=$F38,$G38=1),2,IF(AND(BK$6=$F38,$G38=1),0,\"\")))),\"\")","v":""},{"$f":"IFERROR(IF(LEN(Etapes[[#This Row],[Planned]])=0,\"\",IF(AND($C38=\"MER\",BL$6=$F38,$G38=1),1,IF(AND($C38=\"MEP\",BL$6=$F38,$G38=1),2,IF(AND(BL$6=$F38,$G38=1),0,\"\")))),\"\")","v":""},{"$f":"IFERROR(IF(LEN(Etapes[[#This Row],[Planned]])=0,\"\",IF(AND($C38=\"MER\",BM$6=$F38,$G38=1),1,IF(AND($C38=\"MEP\",BM$6=$F38,$G38=1),2,IF(AND(BM$6=$F38,$G38=1),0,\"\")))),\"\")","v":""},{"$f":"IFERROR(IF(LEN(Etapes[[#This Row],[Planned]])=0,\"\",IF(AND($C38=\"MER\",BN$6=$F38,$G38=1),1,IF(AND($C38=\"MEP\",BN$6=$F38,$G38=1),2,IF(AND(BN$6=$F38,$G38=1),0,\"\")))),\"\")","v":""},{"$f":"IFERROR(IF(LEN(Etapes[[#This Row],[Planned]])=0,\"\",IF(AND($C38=\"MER\",BO$6=$F38,$G38=1),1,IF(AND($C38=\"MEP\",BO$6=$F38,$G38=1),2,IF(AND(BO$6=$F38,$G38=1),0,\"\")))),\"\")","v":""},{"$f":"IFERROR(IF(LEN(Etapes[[#This Row],[Add]])=0,\"\",IF(AND($C38=\"MER\",BP$6=$F38,$G38=1),1,IF(AND($C38=\"MEP\",BP$6=$F38,$G38=1),2,IF(AND(BP$6=$F38,$G38=1),0,\"\")))),\"\")","v":""},{"$f":"IFERROR(IF(LEN(Etapes[[#This Row],[End]])=0,\"\",IF(AND($C38=\"MER\",BQ$6=$F38,$G38=1),1,IF(AND($C38=\"MEP\",BQ$6=$F38,$G38=1),2,IF(AND(BQ$6=$F38,$G38=1),0,\"\")))),\"\")","v":""},{"$f":"IFERROR(IF(LEN(Etapes[[#This Row],[Réalisé]])=0,\"\",IF(AND($C38=\"MER\",BR$6=$F38,$G38=1),1,IF(AND($C38=\"MEP\",BR$6=$F38,$G38=1),2,IF(AND(BR$6=$F38,$G38=1),0,\"\")))),\"\")","v":""},{"$f":"IFERROR(IF(LEN(Etapes[[#This Row],[Activité]])=0,\"\",IF(AND($C38=\"MER\",BS$6=$F38,$G38=1),1,IF(AND($C38=\"MEP\",BS$6=$F38,$G38=1),2,IF(AND(BS$6=$F38,$G38=1),0,\"\")))),\"\")","v":""},{"$f":"IFERROR(IF(LEN(Etapes[[#This Row],[Statut]])=0,\"\",IF(AND($C38=\"MER\",BT$6=$F38,$G38=1),1,IF(AND($C38=\"MEP\",BT$6=$F38,$G38=1),2,IF(AND(BT$6=$F38,$G38=1),0,\"\")))),\"\")","v":""},{"$f":"IFERROR(IF(LEN(Etapes[[#This Row],[Progress]])=0,\"\",IF(AND($C38=\"MER\",BU$6=$F38,$G38=1),1,IF(AND($C38=\"MEP\",BU$6=$F38,$G38=1),2,IF(AND(BU$6=$F38,$G38=1),0,\"\")))),\"\")","v":""},{"$f":"IFERROR(IF(LEN(Etapes[[#This Row],[Start]])=0,\"\",IF(AND($C38=\"MER\",BV$6=$F38,$G38=1),1,IF(AND($C38=\"MEP\",BV$6=$F38,$G38=1),2,IF(AND(BV$6=$F38,$G38=1),0,\"\")))),\"\")","v":""},{"$f":"IFERROR(IF(LEN(Etapes[[#This Row],[Planned]])=0,\"\",IF(AND($C38=\"MER\",BW$6=$F38,$G38=1),1,IF(AND($C38=\"MEP\",BW$6=$F38,$G38=1),2,IF(AND(BW$6=$F38,$G38=1),0,\"\")))),\"\")","v":""},{"$f":"IFERROR(IF(LEN(Etapes[[#This Row],[Add]])=0,\"\",IF(AND($C38=\"MER\",BX$6=$F38,$G38=1),1,IF(AND($C38=\"MEP\",BX$6=$F38,$G38=1),2,IF(AND(BX$6=$F38,$G38=1),0,\"\")))),\"\")","v":""},{"$f":"IFERROR(IF(LEN(Etapes[[#This Row],[End]])=0,\"\",IF(AND($C38=\"MER\",BY$6=$F38,$G38=1),1,IF(AND($C38=\"MEP\",BY$6=$F38,$G38=1),2,IF(AND(BY$6=$F38,$G38=1),0,\"\")))),\"\")","v":""},{"$f":"IFERROR(IF(LEN(Etapes[[#This Row],[Réalisé]])=0,\"\",IF(AND($C38=\"MER\",BZ$6=$F38,$G38=1),1,IF(AND($C38=\"MEP\",BZ$6=$F38,$G38=1),2,IF(AND(BZ$6=$F38,$G38=1),0,\"\")))),\"\")","v":""},{"$f":"IFERROR(IF(LEN(Etapes[[#This Row],[Activité]])=0,\"\",IF(AND($C38=\"MER\",CA$6=$F38,$G38=1),1,IF(AND($C38=\"MEP\",CA$6=$F38,$G38=1),2,IF(AND(CA$6=$F38,$G38=1),0,\"\")))),\"\")","v":""},{"$f":"IFERROR(IF(LEN(Etapes[[#This Row],[Statut]])=0,\"\",IF(AND($C38=\"MER\",CB$6=$F38,$G38=1),1,IF(AND($C38=\"MEP\",CB$6=$F38,$G38=1),2,IF(AND(CB$6=$F38,$G38=1),0,\"\")))),\"\")","v":""},{"$f":"IFERROR(IF(LEN(Etapes[[#This Row],[Progress]])=0,\"\",IF(AND($C38=\"MER\",CC$6=$F38,$G38=1),1,IF(AND($C38=\"MEP\",CC$6=$F38,$G38=1),2,IF(AND(CC$6=$F38,$G38=1),0,\"\")))),\"\")","v":""},{"$f":"IFERROR(IF(LEN(Etapes[[#This Row],[Start]])=0,\"\",IF(AND($C38=\"MER\",CD$6=$F38,$G38=1),1,IF(AND($C38=\"MEP\",CD$6=$F38,$G38=1),2,IF(AND(CD$6=$F38,$G38=1),0,\"\")))),\"\")","v":""},{"$f":"IFERROR(IF(LEN(Etapes[[#This Row],[Planned]])=0,\"\",IF(AND($C38=\"MER\",CE$6=$F38,$G38=1),1,IF(AND($C38=\"MEP\",CE$6=$F38,$G38=1),2,IF(AND(CE$6=$F38,$G38=1),0,\"\")))),\"\")","v":""},{"$f":"IFERROR(IF(LEN(Etapes[[#This Row],[Add]])=0,\"\",IF(AND($C38=\"MER\",CF$6=$F38,$G38=1),1,IF(AND($C38=\"MEP\",CF$6=$F38,$G38=1),2,IF(AND(CF$6=$F38,$G38=1),0,\"\")))),\"\")","v":""},{"$f":"IFERROR(IF(LEN(Etapes[[#This Row],[End]])=0,\"\",IF(AND($C38=\"MER\",CG$6=$F38,$G38=1),1,IF(AND($C38=\"MEP\",CG$6=$F38,$G38=1),2,IF(AND(CG$6=$F38,$G38=1),0,\"\")))),\"\")","v":""},{"$f":"IFERROR(IF(LEN(Etapes[[#This Row],[Réalisé]])=0,\"\",IF(AND($C38=\"MER\",CH$6=$F38,$G38=1),1,IF(AND($C38=\"MEP\",CH$6=$F38,$G38=1),2,IF(AND(CH$6=$F38,$G38=1),0,\"\")))),\"\")","v":""},{"$f":"IFERROR(IF(LEN(Etapes[[#This Row],[Activité]])=0,\"\",IF(AND($C38=\"MER\",CI$6=$F38,$G38=1),1,IF(AND($C38=\"MEP\",CI$6=$F38,$G38=1),2,IF(AND(CI$6=$F38,$G38=1),0,\"\")))),\"\")","v":""},{"$f":"IFERROR(IF(LEN(Etapes[[#This Row],[Statut]])=0,\"\",IF(AND($C38=\"MER\",CJ$6=$F38,$G38=1),1,IF(AND($C38=\"MEP\",CJ$6=$F38,$G38=1),2,IF(AND(CJ$6=$F38,$G38=1),0,\"\")))),\"\")","v":""},{"$f":"IFERROR(IF(LEN(Etapes[[#This Row],[Progress]])=0,\"\",IF(AND($C38=\"MER\",CK$6=$F38,$G38=1),1,IF(AND($C38=\"MEP\",CK$6=$F38,$G38=1),2,IF(AND(CK$6=$F38,$G38=1),0,\"\")))),\"\")","v":""},{"$f":"IFERROR(IF(LEN(Etapes[[#This Row],[Start]])=0,\"\",IF(AND($C38=\"MER\",CL$6=$F38,$G38=1),1,IF(AND($C38=\"MEP\",CL$6=$F38,$G38=1),2,IF(AND(CL$6=$F38,$G38=1),0,\"\")))),\"\")","v":""},{"$f":"IFERROR(IF(LEN(Etapes[[#This Row],[Planned]])=0,\"\",IF(AND($C38=\"MER\",CM$6=$F38,$G38=1),1,IF(AND($C38=\"MEP\",CM$6=$F38,$G38=1),2,IF(AND(CM$6=$F38,$G38=1),0,\"\")))),\"\")","v":""},{"$f":"IFERROR(IF(LEN(Etapes[[#This Row],[Add]])=0,\"\",IF(AND($C38=\"MER\",CN$6=$F38,$G38=1),1,IF(AND($C38=\"MEP\",CN$6=$F38,$G38=1),2,IF(AND(CN$6=$F38,$G38=1),0,\"\")))),\"\")","v":""},{"$f":"IFERROR(IF(LEN(Etapes[[#This Row],[End]])=0,\"\",IF(AND($C38=\"MER\",CO$6=$F38,$G38=1),1,IF(AND($C38=\"MEP\",CO$6=$F38,$G38=1),2,IF(AND(CO$6=$F38,$G38=1),0,\"\")))),\"\")","v":""},{"$f":"IFERROR(IF(LEN(Etapes[[#This Row],[Réalisé]])=0,\"\",IF(AND($C38=\"MER\",CP$6=$F38,$G38=1),1,IF(AND($C38=\"MEP\",CP$6=$F38,$G38=1),2,IF(AND(CP$6=$F38,$G38=1),0,\"\")))),\"\")","v":""},{"$f":"IFERROR(IF(LEN(Etapes[[#This Row],[Activité]])=0,\"\",IF(AND($C38=\"MER\",CQ$6=$F38,$G38=1),1,IF(AND($C38=\"MEP\",CQ$6=$F38,$G38=1),2,IF(AND(CQ$6=$F38,$G38=1),0,\"\")))),\"\")","v":""},{"$f":"IFERROR(IF(LEN(Etapes[[#This Row],[Statut]])=0,\"\",IF(AND($C38=\"MER\",CR$6=$F38,$G38=1),1,IF(AND($C38=\"MEP\",CR$6=$F38,$G38=1),2,IF(AND(CR$6=$F38,$G38=1),0,\"\")))),\"\")","v":""},{"$f":"IFERROR(IF(LEN(Etapes[[#This Row],[Progress]])=0,\"\",IF(AND($C38=\"MER\",CS$6=$F38,$G38=1),1,IF(AND($C38=\"MEP\",CS$6=$F38,$G38=1),2,IF(AND(CS$6=$F38,$G38=1),0,\"\")))),\"\")","v":""},{"$f":"IFERROR(IF(LEN(Etapes[[#This Row],[Start]])=0,\"\",IF(AND($C38=\"MER\",CT$6=$F38,$G38=1),1,IF(AND($C38=\"MEP\",CT$6=$F38,$G38=1),2,IF(AND(CT$6=$F38,$G38=1),0,\"\")))),\"\")","v":""},{"$f":"IFERROR(IF(LEN(Etapes[[#This Row],[Planned]])=0,\"\",IF(AND($C38=\"MER\",CU$6=$F38,$G38=1),1,IF(AND($C38=\"MEP\",CU$6=$F38,$G38=1),2,IF(AND(CU$6=$F38,$G38=1),0,\"\")))),\"\")","v":""},{"$f":"IFERROR(IF(LEN(Etapes[[#This Row],[Add]])=0,\"\",IF(AND($C38=\"MER\",CV$6=$F38,$G38=1),1,IF(AND($C38=\"MEP\",CV$6=$F38,$G38=1),2,IF(AND(CV$6=$F38,$G38=1),0,\"\")))),\"\")","v":""},{"$f":"IFERROR(IF(LEN(Etapes[[#This Row],[End]])=0,\"\",IF(AND($C38=\"MER\",CW$6=$F38,$G38=1),1,IF(AND($C38=\"MEP\",CW$6=$F38,$G38=1),2,IF(AND(CW$6=$F38,$G38=1),0,\"\")))),\"\")","v":""}]
["6.4","Exécution tests",null,{"$f":"Settings!E49","v":"VIE"},null,"2022-08-03",null,null,{"$f":"IF(Etapes[[#This Row],[Start]]<>\"\",WORKDAY(Etapes[[#This Row],[Start]],IF(WEEKDAY(Etapes[[#This Row],[Start]],1)>=6,Etapes[[#This Row],[Planned]]+Etapes[[#This Row],[Add]],Etapes[[#This Row],[Planned]]+Etapes[[#This Row],[Add]]-1),Férié),\"\")","v":"2022-08-02"},{"$f":"IF(Etapes[[#This Row],[Start]]<>\"\",WORKDAY(Etapes[[#This Row],[Start]],IF(WEEKDAY(Etapes[[#This Row],[Start]],1)>=6,Etapes[[#This Row],[Progress]]*Etapes[[#This Row],[Planned]]+Etapes[[#This Row],[Add]],(Etapes[[#This Row],[Progress]]*Etapes[[#This Row],[Planned]]+Etapes[[#This Row],[Add]])-1),Férié),\"\")","v":"2022-08-02"},null,{"$f":"IFERROR(IF(LEN(Etapes[[#This Row],[Planned]])=0,\"\",IF(AND($C39=\"MER\",L$6=$F39,$G39=1),1,IF(AND($C39=\"MEP\",L$6=$F39,$G39=1),2,IF(AND(L$6=$F39,$G39=1),0,\"\")))),\"\")","v":""},{"$f":"IFERROR(IF(LEN(Etapes[[#This Row],[Planned]])=0,\"\",IF(AND($C39=\"MER\",M$6=$F39,$G39=1),1,IF(AND($C39=\"MEP\",M$6=$F39,$G39=1),2,IF(AND(M$6=$F39,$G39=1),0,\"\")))),\"\")","v":""},{"$f":"IFERROR(IF(LEN(Etapes[[#This Row],[Planned]])=0,\"\",IF(AND($C39=\"MER\",N$6=$F39,$G39=1),1,IF(AND($C39=\"MEP\",N$6=$F39,$G39=1),2,IF(AND(N$6=$F39,$G39=1),0,\"\")))),\"\")","v":""},{"$f":"IFERROR(IF(LEN(Etapes[[#This Row],[Planned]])=0,\"\",IF(AND($C39=\"MER\",O$6=$F39,$G39=1),1,IF(AND($C39=\"MEP\",O$6=$F39,$G39=1),2,IF(AND(O$6=$F39,$G39=1),0,\"\")))),\"\")","v":""},{"$f":"IFERROR(IF(LEN(Etapes[[#This Row],[Planned]])=0,\"\",IF(AND($C39=\"MER\",P$6=$F39,$G39=1),1,IF(AND($C39=\"MEP\",P$6=$F39,$G39=1),2,IF(AND(P$6=$F39,$G39=1),0,\"\")))),\"\")","v":""},{"$f":"IFERROR(IF(LEN(Etapes[[#This Row],[Planned]])=0,\"\",IF(AND($C39=\"MER\",Q$6=$F39,$G39=1),1,IF(AND($C39=\"MEP\",Q$6=$F39,$G39=1),2,IF(AND(Q$6=$F39,$G39=1),0,\"\")))),\"\")","v":""},{"$f":"IFERROR(IF(LEN(Etapes[[#This Row],[Planned]])=0,\"\",IF(AND($C39=\"MER\",R$6=$F39,$G39=1),1,IF(AND($C39=\"MEP\",R$6=$F39,$G39=1),2,IF(AND(R$6=$F39,$G39=1),0,\"\")))),\"\")","v":""},{"$f":"IFERROR(IF(LEN(Etapes[[#This Row],[Planned]])=0,\"\",IF(AND($C39=\"MER\",S$6=$F39,$G39=1),1,IF(AND($C39=\"MEP\",S$6=$F39,$G39=1),2,IF(AND(S$6=$F39,$G39=1),0,\"\")))),\"\")","v":""},{"$f":"IFERROR(IF(LEN(Etapes[[#This Row],[Planned]])=0,\"\",IF(AND($C39=\"MER\",T$6=$F39,$G39=1),1,IF(AND($C39=\"MEP\",T$6=$F39,$G39=1),2,IF(AND(T$6=$F39,$G39=1),0,\"\")))),\"\")","v":""},{"$f":"IFERROR(IF(LEN(Etapes[[#This Row],[Planned]])=0,\"\",IF(AND($C39=\"MER\",U$6=$F39,$G39=1),1,IF(AND($C39=\"MEP\",U$6=$F39,$G39=1),2,IF(AND(U$6=$F39,$G39=1),0,\"\")))),\"\")","v":""},{"$f":"IFERROR(IF(LEN(Etapes[[#This Row],[Planned]])=0,\"\",IF(AND($C39=\"MER\",V$6=$F39,$G39=1),1,IF(AND($C39=\"MEP\",V$6=$F39,$G39=1),2,IF(AND(V$6=$F39,$G39=1),0,\"\")))),\"\")","v":""},{"$f":"IFERROR(IF(LEN(Etapes[[#This Row],[Planned]])=0,\"\",IF(AND($C39=\"MER\",W$6=$F39,$G39=1),1,IF(AND($C39=\"MEP\",W$6=$F39,$G39=1),2,IF(AND(W$6=$F39,$G39=1),0,\"\")))),\"\")","v":""},{"$f":"IFERROR(IF(LEN(Etapes[[#This Row],[Planned]])=0,\"\",IF(AND($C39=\"MER\",X$6=$F39,$G39=1),1,IF(AND($C39=\"MEP\",X$6=$F39,$G39=1),2,IF(AND(X$6=$F39,$G39=1),0,\"\")))),\"\")","v":""},{"$f":"IFERROR(IF(LEN(Etapes[[#This Row],[Planned]])=0,\"\",IF(AND($C39=\"MER\",Y$6=$F39,$G39=1),1,IF(AND($C39=\"MEP\",Y$6=$F39,$G39=1),2,IF(AND(Y$6=$F39,$G39=1),0,\"\")))),\"\")","v":""},{"$f":"IFERROR(IF(LEN(Etapes[[#This Row],[Planned]])=0,\"\",IF(AND($C39=\"MER\",Z$6=$F39,$G39=1),1,IF(AND($C39=\"MEP\",Z$6=$F39,$G39=1),2,IF(AND(Z$6=$F39,$G39=1),0,\"\")))),\"\")","v":""},{"$f":"IFERROR(IF(LEN(Etapes[[#This Row],[Planned]])=0,\"\",IF(AND($C39=\"MER\",AA$6=$F39,$G39=1),1,IF(AND($C39=\"MEP\",AA$6=$F39,$G39=1),2,IF(AND(AA$6=$F39,$G39=1),0,\"\")))),\"\")","v":""},{"$f":"IFERROR(IF(LEN(Etapes[[#This Row],[Planned]])=0,\"\",IF(AND($C39=\"MER\",AB$6=$F39,$G39=1),1,IF(AND($C39=\"MEP\",AB$6=$F39,$G39=1),2,IF(AND(AB$6=$F39,$G39=1),0,\"\")))),\"\")","v":""},{"$f":"IFERROR(IF(LEN(Etapes[[#This Row],[Planned]])=0,\"\",IF(AND($C39=\"MER\",AC$6=$F39,$G39=1),1,IF(AND($C39=\"MEP\",AC$6=$F39,$G39=1),2,IF(AND(AC$6=$F39,$G39=1),0,\"\")))),\"\")","v":""},{"$f":"IFERROR(IF(LEN(Etapes[[#This Row],[Planned]])=0,\"\",IF(AND($C39=\"MER\",AD$6=$F39,$G39=1),1,IF(AND($C39=\"MEP\",AD$6=$F39,$G39=1),2,IF(AND(AD$6=$F39,$G39=1),0,\"\")))),\"\")","v":""},{"$f":"IFERROR(IF(LEN(Etapes[[#This Row],[Planned]])=0,\"\",IF(AND($C39=\"MER\",AE$6=$F39,$G39=1),1,IF(AND($C39=\"MEP\",AE$6=$F39,$G39=1),2,IF(AND(AE$6=$F39,$G39=1),0,\"\")))),\"\")","v":""},{"$f":"IFERROR(IF(LEN(Etapes[[#This Row],[Planned]])=0,\"\",IF(AND($C39=\"MER\",AF$6=$F39,$G39=1),1,IF(AND($C39=\"MEP\",AF$6=$F39,$G39=1),2,IF(AND(AF$6=$F39,$G39=1),0,\"\")))),\"\")","v":""},{"$f":"IFERROR(IF(LEN(Etapes[[#This Row],[Planned]])=0,\"\",IF(AND($C39=\"MER\",AG$6=$F39,$G39=1),1,IF(AND($C39=\"MEP\",AG$6=$F39,$G39=1),2,IF(AND(AG$6=$F39,$G39=1),0,\"\")))),\"\")","v":""},{"$f":"IFERROR(IF(LEN(Etapes[[#This Row],[Planned]])=0,\"\",IF(AND($C39=\"MER\",AH$6=$F39,$G39=1),1,IF(AND($C39=\"MEP\",AH$6=$F39,$G39=1),2,IF(AND(AH$6=$F39,$G39=1),0,\"\")))),\"\")","v":""},{"$f":"IFERROR(IF(LEN(Etapes[[#This Row],[Planned]])=0,\"\",IF(AND($C39=\"MER\",AI$6=$F39,$G39=1),1,IF(AND($C39=\"MEP\",AI$6=$F39,$G39=1),2,IF(AND(AI$6=$F39,$G39=1),0,\"\")))),\"\")","v":""},{"$f":"IFERROR(IF(LEN(Etapes[[#This Row],[Planned]])=0,\"\",IF(AND($C39=\"MER\",AJ$6=$F39,$G39=1),1,IF(AND($C39=\"MEP\",AJ$6=$F39,$G39=1),2,IF(AND(AJ$6=$F39,$G39=1),0,\"\")))),\"\")","v":""},{"$f":"IFERROR(IF(LEN(Etapes[[#This Row],[Planned]])=0,\"\",IF(AND($C39=\"MER\",AK$6=$F39,$G39=1),1,IF(AND($C39=\"MEP\",AK$6=$F39,$G39=1),2,IF(AND(AK$6=$F39,$G39=1),0,\"\")))),\"\")","v":""},{"$f":"IFERROR(IF(LEN(Etapes[[#This Row],[Planned]])=0,\"\",IF(AND($C39=\"MER\",AL$6=$F39,$G39=1),1,IF(AND($C39=\"MEP\",AL$6=$F39,$G39=1),2,IF(AND(AL$6=$F39,$G39=1),0,\"\")))),\"\")","v":""},{"$f":"IFERROR(IF(LEN(Etapes[[#This Row],[Planned]])=0,\"\",IF(AND($C39=\"MER\",AM$6=$F39,$G39=1),1,IF(AND($C39=\"MEP\",AM$6=$F39,$G39=1),2,IF(AND(AM$6=$F39,$G39=1),0,\"\")))),\"\")","v":""},{"$f":"IFERROR(IF(LEN(Etapes[[#This Row],[Planned]])=0,\"\",IF(AND($C39=\"MER\",AN$6=$F39,$G39=1),1,IF(AND($C39=\"MEP\",AN$6=$F39,$G39=1),2,IF(AND(AN$6=$F39,$G39=1),0,\"\")))),\"\")","v":""},{"$f":"IFERROR(IF(LEN(Etapes[[#This Row],[Planned]])=0,\"\",IF(AND($C39=\"MER\",AO$6=$F39,$G39=1),1,IF(AND($C39=\"MEP\",AO$6=$F39,$G39=1),2,IF(AND(AO$6=$F39,$G39=1),0,\"\")))),\"\")","v":""},{"$f":"IFERROR(IF(LEN(Etapes[[#This Row],[Planned]])=0,\"\",IF(AND($C39=\"MER\",AP$6=$F39,$G39=1),1,IF(AND($C39=\"MEP\",AP$6=$F39,$G39=1),2,IF(AND(AP$6=$F39,$G39=1),0,\"\")))),\"\")","v":""},{"$f":"IFERROR(IF(LEN(Etapes[[#This Row],[Planned]])=0,\"\",IF(AND($C39=\"MER\",AQ$6=$F39,$G39=1),1,IF(AND($C39=\"MEP\",AQ$6=$F39,$G39=1),2,IF(AND(AQ$6=$F39,$G39=1),0,\"\")))),\"\")","v":""},{"$f":"IFERROR(IF(LEN(Etapes[[#This Row],[Planned]])=0,\"\",IF(AND($C39=\"MER\",AR$6=$F39,$G39=1),1,IF(AND($C39=\"MEP\",AR$6=$F39,$G39=1),2,IF(AND(AR$6=$F39,$G39=1),0,\"\")))),\"\")","v":""},{"$f":"IFERROR(IF(LEN(Etapes[[#This Row],[Planned]])=0,\"\",IF(AND($C39=\"MER\",AS$6=$F39,$G39=1),1,IF(AND($C39=\"MEP\",AS$6=$F39,$G39=1),2,IF(AND(AS$6=$F39,$G39=1),0,\"\")))),\"\")","v":""},{"$f":"IFERROR(IF(LEN(Etapes[[#This Row],[Planned]])=0,\"\",IF(AND($C39=\"MER\",AT$6=$F39,$G39=1),1,IF(AND($C39=\"MEP\",AT$6=$F39,$G39=1),2,IF(AND(AT$6=$F39,$G39=1),0,\"\")))),\"\")","v":""},{"$f":"IFERROR(IF(LEN(Etapes[[#This Row],[Planned]])=0,\"\",IF(AND($C39=\"MER\",AU$6=$F39,$G39=1),1,IF(AND($C39=\"MEP\",AU$6=$F39,$G39=1),2,IF(AND(AU$6=$F39,$G39=1),0,\"\")))),\"\")","v":""},{"$f":"IFERROR(IF(LEN(Etapes[[#This Row],[Planned]])=0,\"\",IF(AND($C39=\"MER\",AV$6=$F39,$G39=1),1,IF(AND($C39=\"MEP\",AV$6=$F39,$G39=1),2,IF(AND(AV$6=$F39,$G39=1),0,\"\")))),\"\")","v":""},{"$f":"IFERROR(IF(LEN(Etapes[[#This Row],[Planned]])=0,\"\",IF(AND($C39=\"MER\",AW$6=$F39,$G39=1),1,IF(AND($C39=\"MEP\",AW$6=$F39,$G39=1),2,IF(AND(AW$6=$F39,$G39=1),0,\"\")))),\"\")","v":""},{"$f":"IFERROR(IF(LEN(Etapes[[#This Row],[Planned]])=0,\"\",IF(AND($C39=\"MER\",AX$6=$F39,$G39=1),1,IF(AND($C39=\"MEP\",AX$6=$F39,$G39=1),2,IF(AND(AX$6=$F39,$G39=1),0,\"\")))),\"\")","v":""},{"$f":"IFERROR(IF(LEN(Etapes[[#This Row],[Planned]])=0,\"\",IF(AND($C39=\"MER\",AY$6=$F39,$G39=1),1,IF(AND($C39=\"MEP\",AY$6=$F39,$G39=1),2,IF(AND(AY$6=$F39,$G39=1),0,\"\")))),\"\")","v":""},{"$f":"IFERROR(IF(LEN(Etapes[[#This Row],[Planned]])=0,\"\",IF(AND($C39=\"MER\",AZ$6=$F39,$G39=1),1,IF(AND($C39=\"MEP\",AZ$6=$F39,$G39=1),2,IF(AND(AZ$6=$F39,$G39=1),0,\"\")))),\"\")","v":""},{"$f":"IFERROR(IF(LEN(Etapes[[#This Row],[Planned]])=0,\"\",IF(AND($C39=\"MER\",BA$6=$F39,$G39=1),1,IF(AND($C39=\"MEP\",BA$6=$F39,$G39=1),2,IF(AND(BA$6=$F39,$G39=1),0,\"\")))),\"\")","v":""},{"$f":"IFERROR(IF(LEN(Etapes[[#This Row],[Planned]])=0,\"\",IF(AND($C39=\"MER\",BB$6=$F39,$G39=1),1,IF(AND($C39=\"MEP\",BB$6=$F39,$G39=1),2,IF(AND(BB$6=$F39,$G39=1),0,\"\")))),\"\")","v":""},{"$f":"IFERROR(IF(LEN(Etapes[[#This Row],[Planned]])=0,\"\",IF(AND($C39=\"MER\",BC$6=$F39,$G39=1),1,IF(AND($C39=\"MEP\",BC$6=$F39,$G39=1),2,IF(AND(BC$6=$F39,$G39=1),0,\"\")))),\"\")","v":""},{"$f":"IFERROR(IF(LEN(Etapes[[#This Row],[Planned]])=0,\"\",IF(AND($C39=\"MER\",BD$6=$F39,$G39=1),1,IF(AND($C39=\"MEP\",BD$6=$F39,$G39=1),2,IF(AND(BD$6=$F39,$G39=1),0,\"\")))),\"\")","v":""},{"$f":"IFERROR(IF(LEN(Etapes[[#This Row],[Planned]])=0,\"\",IF(AND($C39=\"MER\",BE$6=$F39,$G39=1),1,IF(AND($C39=\"MEP\",BE$6=$F39,$G39=1),2,IF(AND(BE$6=$F39,$G39=1),0,\"\")))),\"\")","v":""},{"$f":"IFERROR(IF(LEN(Etapes[[#This Row],[Planned]])=0,\"\",IF(AND($C39=\"MER\",BF$6=$F39,$G39=1),1,IF(AND($C39=\"MEP\",BF$6=$F39,$G39=1),2,IF(AND(BF$6=$F39,$G39=1),0,\"\")))),\"\")","v":""},{"$f":"IFERROR(IF(LEN(Etapes[[#This Row],[Planned]])=0,\"\",IF(AND($C39=\"MER\",BG$6=$F39,$G39=1),1,IF(AND($C39=\"MEP\",BG$6=$F39,$G39=1),2,IF(AND(BG$6=$F39,$G39=1),0,\"\")))),\"\")","v":""},{"$f":"IFERROR(IF(LEN(Etapes[[#This Row],[Planned]])=0,\"\",IF(AND($C39=\"MER\",BH$6=$F39,$G39=1),1,IF(AND($C39=\"MEP\",BH$6=$F39,$G39=1),2,IF(AND(BH$6=$F39,$G39=1),0,\"\")))),\"\")","v":""},{"$f":"IFERROR(IF(LEN(Etapes[[#This Row],[Planned]])=0,\"\",IF(AND($C39=\"MER\",BI$6=$F39,$G39=1),1,IF(AND($C39=\"MEP\",BI$6=$F39,$G39=1),2,IF(AND(BI$6=$F39,$G39=1),0,\"\")))),\"\")","v":""},{"$f":"IFERROR(IF(LEN(Etapes[[#This Row],[Planned]])=0,\"\",IF(AND($C39=\"MER\",BJ$6=$F39,$G39=1),1,IF(AND($C39=\"MEP\",BJ$6=$F39,$G39=1),2,IF(AND(BJ$6=$F39,$G39=1),0,\"\")))),\"\")","v":""},{"$f":"IFERROR(IF(LEN(Etapes[[#This Row],[Planned]])=0,\"\",IF(AND($C39=\"MER\",BK$6=$F39,$G39=1),1,IF(AND($C39=\"MEP\",BK$6=$F39,$G39=1),2,IF(AND(BK$6=$F39,$G39=1),0,\"\")))),\"\")","v":""},{"$f":"IFERROR(IF(LEN(Etapes[[#This Row],[Planned]])=0,\"\",IF(AND($C39=\"MER\",BL$6=$F39,$G39=1),1,IF(AND($C39=\"MEP\",BL$6=$F39,$G39=1),2,IF(AND(BL$6=$F39,$G39=1),0,\"\")))),\"\")","v":""},{"$f":"IFERROR(IF(LEN(Etapes[[#This Row],[Planned]])=0,\"\",IF(AND($C39=\"MER\",BM$6=$F39,$G39=1),1,IF(AND($C39=\"MEP\",BM$6=$F39,$G39=1),2,IF(AND(BM$6=$F39,$G39=1),0,\"\")))),\"\")","v":""},{"$f":"IFERROR(IF(LEN(Etapes[[#This Row],[Planned]])=0,\"\",IF(AND($C39=\"MER\",BN$6=$F39,$G39=1),1,IF(AND($C39=\"MEP\",BN$6=$F39,$G39=1),2,IF(AND(BN$6=$F39,$G39=1),0,\"\")))),\"\")","v":""},{"$f":"IFERROR(IF(LEN(Etapes[[#This Row],[Planned]])=0,\"\",IF(AND($C39=\"MER\",BO$6=$F39,$G39=1),1,IF(AND($C39=\"MEP\",BO$6=$F39,$G39=1),2,IF(AND(BO$6=$F39,$G39=1),0,\"\")))),\"\")","v":""},{"$f":"IFERROR(IF(LEN(Etapes[[#This Row],[Add]])=0,\"\",IF(AND($C39=\"MER\",BP$6=$F39,$G39=1),1,IF(AND($C39=\"MEP\",BP$6=$F39,$G39=1),2,IF(AND(BP$6=$F39,$G39=1),0,\"\")))),\"\")","v":""},{"$f":"IFERROR(IF(LEN(Etapes[[#This Row],[End]])=0,\"\",IF(AND($C39=\"MER\",BQ$6=$F39,$G39=1),1,IF(AND($C39=\"MEP\",BQ$6=$F39,$G39=1),2,IF(AND(BQ$6=$F39,$G39=1),0,\"\")))),\"\")","v":""},{"$f":"IFERROR(IF(LEN(Etapes[[#This Row],[Réalisé]])=0,\"\",IF(AND($C39=\"MER\",BR$6=$F39,$G39=1),1,IF(AND($C39=\"MEP\",BR$6=$F39,$G39=1),2,IF(AND(BR$6=$F39,$G39=1),0,\"\")))),\"\")","v":""},{"$f":"IFERROR(IF(LEN(Etapes[[#This Row],[Activité]])=0,\"\",IF(AND($C39=\"MER\",BS$6=$F39,$G39=1),1,IF(AND($C39=\"MEP\",BS$6=$F39,$G39=1),2,IF(AND(BS$6=$F39,$G39=1),0,\"\")))),\"\")","v":""},{"$f":"IFERROR(IF(LEN(Etapes[[#This Row],[Statut]])=0,\"\",IF(AND($C39=\"MER\",BT$6=$F39,$G39=1),1,IF(AND($C39=\"MEP\",BT$6=$F39,$G39=1),2,IF(AND(BT$6=$F39,$G39=1),0,\"\")))),\"\")","v":""},{"$f":"IFERROR(IF(LEN(Etapes[[#This Row],[Progress]])=0,\"\",IF(AND($C39=\"MER\",BU$6=$F39,$G39=1),1,IF(AND($C39=\"MEP\",BU$6=$F39,$G39=1),2,IF(AND(BU$6=$F39,$G39=1),0,\"\")))),\"\")","v":""},{"$f":"IFERROR(IF(LEN(Etapes[[#This Row],[Start]])=0,\"\",IF(AND($C39=\"MER\",BV$6=$F39,$G39=1),1,IF(AND($C39=\"MEP\",BV$6=$F39,$G39=1),2,IF(AND(BV$6=$F39,$G39=1),0,\"\")))),\"\")","v":""},{"$f":"IFERROR(IF(LEN(Etapes[[#This Row],[Planned]])=0,\"\",IF(AND($C39=\"MER\",BW$6=$F39,$G39=1),1,IF(AND($C39=\"MEP\",BW$6=$F39,$G39=1),2,IF(AND(BW$6=$F39,$G39=1),0,\"\")))),\"\")","v":""},{"$f":"IFERROR(IF(LEN(Etapes[[#This Row],[Add]])=0,\"\",IF(AND($C39=\"MER\",BX$6=$F39,$G39=1),1,IF(AND($C39=\"MEP\",BX$6=$F39,$G39=1),2,IF(AND(BX$6=$F39,$G39=1),0,\"\")))),\"\")","v":""},{"$f":"IFERROR(IF(LEN(Etapes[[#This Row],[End]])=0,\"\",IF(AND($C39=\"MER\",BY$6=$F39,$G39=1),1,IF(AND($C39=\"MEP\",BY$6=$F39,$G39=1),2,IF(AND(BY$6=$F39,$G39=1),0,\"\")))),\"\")","v":""},{"$f":"IFERROR(IF(LEN(Etapes[[#This Row],[Réalisé]])=0,\"\",IF(AND($C39=\"MER\",BZ$6=$F39,$G39=1),1,IF(AND($C39=\"MEP\",BZ$6=$F39,$G39=1),2,IF(AND(BZ$6=$F39,$G39=1),0,\"\")))),\"\")","v":""},{"$f":"IFERROR(IF(LEN(Etapes[[#This Row],[Activité]])=0,\"\",IF(AND($C39=\"MER\",CA$6=$F39,$G39=1),1,IF(AND($C39=\"MEP\",CA$6=$F39,$G39=1),2,IF(AND(CA$6=$F39,$G39=1),0,\"\")))),\"\")","v":""},{"$f":"IFERROR(IF(LEN(Etapes[[#This Row],[Statut]])=0,\"\",IF(AND($C39=\"MER\",CB$6=$F39,$G39=1),1,IF(AND($C39=\"MEP\",CB$6=$F39,$G39=1),2,IF(AND(CB$6=$F39,$G39=1),0,\"\")))),\"\")","v":""},{"$f":"IFERROR(IF(LEN(Etapes[[#This Row],[Progress]])=0,\"\",IF(AND($C39=\"MER\",CC$6=$F39,$G39=1),1,IF(AND($C39=\"MEP\",CC$6=$F39,$G39=1),2,IF(AND(CC$6=$F39,$G39=1),0,\"\")))),\"\")","v":""},{"$f":"IFERROR(IF(LEN(Etapes[[#This Row],[Start]])=0,\"\",IF(AND($C39=\"MER\",CD$6=$F39,$G39=1),1,IF(AND($C39=\"MEP\",CD$6=$F39,$G39=1),2,IF(AND(CD$6=$F39,$G39=1),0,\"\")))),\"\")","v":""},{"$f":"IFERROR(IF(LEN(Etapes[[#This Row],[Planned]])=0,\"\",IF(AND($C39=\"MER\",CE$6=$F39,$G39=1),1,IF(AND($C39=\"MEP\",CE$6=$F39,$G39=1),2,IF(AND(CE$6=$F39,$G39=1),0,\"\")))),\"\")","v":""},{"$f":"IFERROR(IF(LEN(Etapes[[#This Row],[Add]])=0,\"\",IF(AND($C39=\"MER\",CF$6=$F39,$G39=1),1,IF(AND($C39=\"MEP\",CF$6=$F39,$G39=1),2,IF(AND(CF$6=$F39,$G39=1),0,\"\")))),\"\")","v":""},{"$f":"IFERROR(IF(LEN(Etapes[[#This Row],[End]])=0,\"\",IF(AND($C39=\"MER\",CG$6=$F39,$G39=1),1,IF(AND($C39=\"MEP\",CG$6=$F39,$G39=1),2,IF(AND(CG$6=$F39,$G39=1),0,\"\")))),\"\")","v":""},{"$f":"IFERROR(IF(LEN(Etapes[[#This Row],[Réalisé]])=0,\"\",IF(AND($C39=\"MER\",CH$6=$F39,$G39=1),1,IF(AND($C39=\"MEP\",CH$6=$F39,$G39=1),2,IF(AND(CH$6=$F39,$G39=1),0,\"\")))),\"\")","v":""},{"$f":"IFERROR(IF(LEN(Etapes[[#This Row],[Activité]])=0,\"\",IF(AND($C39=\"MER\",CI$6=$F39,$G39=1),1,IF(AND($C39=\"MEP\",CI$6=$F39,$G39=1),2,IF(AND(CI$6=$F39,$G39=1),0,\"\")))),\"\")","v":""},{"$f":"IFERROR(IF(LEN(Etapes[[#This Row],[Statut]])=0,\"\",IF(AND($C39=\"MER\",CJ$6=$F39,$G39=1),1,IF(AND($C39=\"MEP\",CJ$6=$F39,$G39=1),2,IF(AND(CJ$6=$F39,$G39=1),0,\"\")))),\"\")","v":""},{"$f":"IFERROR(IF(LEN(Etapes[[#This Row],[Progress]])=0,\"\",IF(AND($C39=\"MER\",CK$6=$F39,$G39=1),1,IF(AND($C39=\"MEP\",CK$6=$F39,$G39=1),2,IF(AND(CK$6=$F39,$G39=1),0,\"\")))),\"\")","v":""},{"$f":"IFERROR(IF(LEN(Etapes[[#This Row],[Start]])=0,\"\",IF(AND($C39=\"MER\",CL$6=$F39,$G39=1),1,IF(AND($C39=\"MEP\",CL$6=$F39,$G39=1),2,IF(AND(CL$6=$F39,$G39=1),0,\"\")))),\"\")","v":""},{"$f":"IFERROR(IF(LEN(Etapes[[#This Row],[Planned]])=0,\"\",IF(AND($C39=\"MER\",CM$6=$F39,$G39=1),1,IF(AND($C39=\"MEP\",CM$6=$F39,$G39=1),2,IF(AND(CM$6=$F39,$G39=1),0,\"\")))),\"\")","v":""},{"$f":"IFERROR(IF(LEN(Etapes[[#This Row],[Add]])=0,\"\",IF(AND($C39=\"MER\",CN$6=$F39,$G39=1),1,IF(AND($C39=\"MEP\",CN$6=$F39,$G39=1),2,IF(AND(CN$6=$F39,$G39=1),0,\"\")))),\"\")","v":""},{"$f":"IFERROR(IF(LEN(Etapes[[#This Row],[End]])=0,\"\",IF(AND($C39=\"MER\",CO$6=$F39,$G39=1),1,IF(AND($C39=\"MEP\",CO$6=$F39,$G39=1),2,IF(AND(CO$6=$F39,$G39=1),0,\"\")))),\"\")","v":""},{"$f":"IFERROR(IF(LEN(Etapes[[#This Row],[Réalisé]])=0,\"\",IF(AND($C39=\"MER\",CP$6=$F39,$G39=1),1,IF(AND($C39=\"MEP\",CP$6=$F39,$G39=1),2,IF(AND(CP$6=$F39,$G39=1),0,\"\")))),\"\")","v":""},{"$f":"IFERROR(IF(LEN(Etapes[[#This Row],[Activité]])=0,\"\",IF(AND($C39=\"MER\",CQ$6=$F39,$G39=1),1,IF(AND($C39=\"MEP\",CQ$6=$F39,$G39=1),2,IF(AND(CQ$6=$F39,$G39=1),0,\"\")))),\"\")","v":""},{"$f":"IFERROR(IF(LEN(Etapes[[#This Row],[Statut]])=0,\"\",IF(AND($C39=\"MER\",CR$6=$F39,$G39=1),1,IF(AND($C39=\"MEP\",CR$6=$F39,$G39=1),2,IF(AND(CR$6=$F39,$G39=1),0,\"\")))),\"\")","v":""},{"$f":"IFERROR(IF(LEN(Etapes[[#This Row],[Progress]])=0,\"\",IF(AND($C39=\"MER\",CS$6=$F39,$G39=1),1,IF(AND($C39=\"MEP\",CS$6=$F39,$G39=1),2,IF(AND(CS$6=$F39,$G39=1),0,\"\")))),\"\")","v":""},{"$f":"IFERROR(IF(LEN(Etapes[[#This Row],[Start]])=0,\"\",IF(AND($C39=\"MER\",CT$6=$F39,$G39=1),1,IF(AND($C39=\"MEP\",CT$6=$F39,$G39=1),2,IF(AND(CT$6=$F39,$G39=1),0,\"\")))),\"\")","v":""},{"$f":"IFERROR(IF(LEN(Etapes[[#This Row],[Planned]])=0,\"\",IF(AND($C39=\"MER\",CU$6=$F39,$G39=1),1,IF(AND($C39=\"MEP\",CU$6=$F39,$G39=1),2,IF(AND(CU$6=$F39,$G39=1),0,\"\")))),\"\")","v":""},{"$f":"IFERROR(IF(LEN(Etapes[[#This Row],[Add]])=0,\"\",IF(AND($C39=\"MER\",CV$6=$F39,$G39=1),1,IF(AND($C39=\"MEP\",CV$6=$F39,$G39=1),2,IF(AND(CV$6=$F39,$G39=1),0,\"\")))),\"\")","v":""},{"$f":"IFERROR(IF(LEN(Etapes[[#This Row],[End]])=0,\"\",IF(AND($C39=\"MER\",CW$6=$F39,$G39=1),1,IF(AND($C39=\"MEP\",CW$6=$F39,$G39=1),2,IF(AND(CW$6=$F39,$G39=1),0,\"\")))),\"\")","v":""}]
[7,{"$f":"RàF!A28","v":"E6.13.03"},null,null,null,"2022-08-03",null,null,{"$f":"IF(Etapes[[#This Row],[Start]]<>\"\",WORKDAY(Etapes[[#This Row],[Start]],IF(WEEKDAY(Etapes[[#This Row],[Start]],1)>=6,Etapes[[#This Row],[Planned]]+Etapes[[#This Row],[Add]],Etapes[[#This Row],[Planned]]+Etapes[[#This Row],[Add]]-1),Férié),\"\")","v":"2022-08-02"},{"$f":"IF(Etapes[[#This Row],[Start]]<>\"\",WORKDAY(Etapes[[#This Row],[Start]],IF(WEEKDAY(Etapes[[#This Row],[Start]],1)>=6,Etapes[[#This Row],[Progress]]*Etapes[[#This Row],[Planned]]+Etapes[[#This Row],[Add]],(Etapes[[#This Row],[Progress]]*Etapes[[#This Row],[Planned]]+Etapes[[#This Row],[Add]])-1),Férié),\"\")","v":"2022-08-02"},null,{"$f":"IFERROR(IF(LEN(Etapes[[#This Row],[Planned]])=0,\"\",IF(AND($C40=\"MER\",L$6=$F40,$G40=1),1,IF(AND($C40=\"MEP\",L$6=$F40,$G40=1),2,IF(AND(L$6=$F40,$G40=1),0,\"\")))),\"\")","v":""},{"$f":"IFERROR(IF(LEN(Etapes[[#This Row],[Planned]])=0,\"\",IF(AND($C40=\"MER\",M$6=$F40,$G40=1),1,IF(AND($C40=\"MEP\",M$6=$F40,$G40=1),2,IF(AND(M$6=$F40,$G40=1),0,\"\")))),\"\")","v":""},{"$f":"IFERROR(IF(LEN(Etapes[[#This Row],[Planned]])=0,\"\",IF(AND($C40=\"MER\",N$6=$F40,$G40=1),1,IF(AND($C40=\"MEP\",N$6=$F40,$G40=1),2,IF(AND(N$6=$F40,$G40=1),0,\"\")))),\"\")","v":""},{"$f":"IFERROR(IF(LEN(Etapes[[#This Row],[Planned]])=0,\"\",IF(AND($C40=\"MER\",O$6=$F40,$G40=1),1,IF(AND($C40=\"MEP\",O$6=$F40,$G40=1),2,IF(AND(O$6=$F40,$G40=1),0,\"\")))),\"\")","v":""},{"$f":"IFERROR(IF(LEN(Etapes[[#This Row],[Planned]])=0,\"\",IF(AND($C40=\"MER\",P$6=$F40,$G40=1),1,IF(AND($C40=\"MEP\",P$6=$F40,$G40=1),2,IF(AND(P$6=$F40,$G40=1),0,\"\")))),\"\")","v":""},{"$f":"IFERROR(IF(LEN(Etapes[[#This Row],[Planned]])=0,\"\",IF(AND($C40=\"MER\",Q$6=$F40,$G40=1),1,IF(AND($C40=\"MEP\",Q$6=$F40,$G40=1),2,IF(AND(Q$6=$F40,$G40=1),0,\"\")))),\"\")","v":""},{"$f":"IFERROR(IF(LEN(Etapes[[#This Row],[Planned]])=0,\"\",IF(AND($C40=\"MER\",R$6=$F40,$G40=1),1,IF(AND($C40=\"MEP\",R$6=$F40,$G40=1),2,IF(AND(R$6=$F40,$G40=1),0,\"\")))),\"\")","v":""},{"$f":"IFERROR(IF(LEN(Etapes[[#This Row],[Planned]])=0,\"\",IF(AND($C40=\"MER\",S$6=$F40,$G40=1),1,IF(AND($C40=\"MEP\",S$6=$F40,$G40=1),2,IF(AND(S$6=$F40,$G40=1),0,\"\")))),\"\")","v":""},{"$f":"IFERROR(IF(LEN(Etapes[[#This Row],[Planned]])=0,\"\",IF(AND($C40=\"MER\",T$6=$F40,$G40=1),1,IF(AND($C40=\"MEP\",T$6=$F40,$G40=1),2,IF(AND(T$6=$F40,$G40=1),0,\"\")))),\"\")","v":""},{"$f":"IFERROR(IF(LEN(Etapes[[#This Row],[Planned]])=0,\"\",IF(AND($C40=\"MER\",U$6=$F40,$G40=1),1,IF(AND($C40=\"MEP\",U$6=$F40,$G40=1),2,IF(AND(U$6=$F40,$G40=1),0,\"\")))),\"\")","v":""},{"$f":"IFERROR(IF(LEN(Etapes[[#This Row],[Planned]])=0,\"\",IF(AND($C40=\"MER\",V$6=$F40,$G40=1),1,IF(AND($C40=\"MEP\",V$6=$F40,$G40=1),2,IF(AND(V$6=$F40,$G40=1),0,\"\")))),\"\")","v":""},{"$f":"IFERROR(IF(LEN(Etapes[[#This Row],[Planned]])=0,\"\",IF(AND($C40=\"MER\",W$6=$F40,$G40=1),1,IF(AND($C40=\"MEP\",W$6=$F40,$G40=1),2,IF(AND(W$6=$F40,$G40=1),0,\"\")))),\"\")","v":""},{"$f":"IFERROR(IF(LEN(Etapes[[#This Row],[Planned]])=0,\"\",IF(AND($C40=\"MER\",X$6=$F40,$G40=1),1,IF(AND($C40=\"MEP\",X$6=$F40,$G40=1),2,IF(AND(X$6=$F40,$G40=1),0,\"\")))),\"\")","v":""},{"$f":"IFERROR(IF(LEN(Etapes[[#This Row],[Planned]])=0,\"\",IF(AND($C40=\"MER\",Y$6=$F40,$G40=1),1,IF(AND($C40=\"MEP\",Y$6=$F40,$G40=1),2,IF(AND(Y$6=$F40,$G40=1),0,\"\")))),\"\")","v":""},{"$f":"IFERROR(IF(LEN(Etapes[[#This Row],[Planned]])=0,\"\",IF(AND($C40=\"MER\",Z$6=$F40,$G40=1),1,IF(AND($C40=\"MEP\",Z$6=$F40,$G40=1),2,IF(AND(Z$6=$F40,$G40=1),0,\"\")))),\"\")","v":""},{"$f":"IFERROR(IF(LEN(Etapes[[#This Row],[Planned]])=0,\"\",IF(AND($C40=\"MER\",AA$6=$F40,$G40=1),1,IF(AND($C40=\"MEP\",AA$6=$F40,$G40=1),2,IF(AND(AA$6=$F40,$G40=1),0,\"\")))),\"\")","v":""},{"$f":"IFERROR(IF(LEN(Etapes[[#This Row],[Planned]])=0,\"\",IF(AND($C40=\"MER\",AB$6=$F40,$G40=1),1,IF(AND($C40=\"MEP\",AB$6=$F40,$G40=1),2,IF(AND(AB$6=$F40,$G40=1),0,\"\")))),\"\")","v":""},{"$f":"IFERROR(IF(LEN(Etapes[[#This Row],[Planned]])=0,\"\",IF(AND($C40=\"MER\",AC$6=$F40,$G40=1),1,IF(AND($C40=\"MEP\",AC$6=$F40,$G40=1),2,IF(AND(AC$6=$F40,$G40=1),0,\"\")))),\"\")","v":""},{"$f":"IFERROR(IF(LEN(Etapes[[#This Row],[Planned]])=0,\"\",IF(AND($C40=\"MER\",AD$6=$F40,$G40=1),1,IF(AND($C40=\"MEP\",AD$6=$F40,$G40=1),2,IF(AND(AD$6=$F40,$G40=1),0,\"\")))),\"\")","v":""},{"$f":"IFERROR(IF(LEN(Etapes[[#This Row],[Planned]])=0,\"\",IF(AND($C40=\"MER\",AE$6=$F40,$G40=1),1,IF(AND($C40=\"MEP\",AE$6=$F40,$G40=1),2,IF(AND(AE$6=$F40,$G40=1),0,\"\")))),\"\")","v":""},{"$f":"IFERROR(IF(LEN(Etapes[[#This Row],[Planned]])=0,\"\",IF(AND($C40=\"MER\",AF$6=$F40,$G40=1),1,IF(AND($C40=\"MEP\",AF$6=$F40,$G40=1),2,IF(AND(AF$6=$F40,$G40=1),0,\"\")))),\"\")","v":""},{"$f":"IFERROR(IF(LEN(Etapes[[#This Row],[Planned]])=0,\"\",IF(AND($C40=\"MER\",AG$6=$F40,$G40=1),1,IF(AND($C40=\"MEP\",AG$6=$F40,$G40=1),2,IF(AND(AG$6=$F40,$G40=1),0,\"\")))),\"\")","v":""},{"$f":"IFERROR(IF(LEN(Etapes[[#This Row],[Planned]])=0,\"\",IF(AND($C40=\"MER\",AH$6=$F40,$G40=1),1,IF(AND($C40=\"MEP\",AH$6=$F40,$G40=1),2,IF(AND(AH$6=$F40,$G40=1),0,\"\")))),\"\")","v":""},{"$f":"IFERROR(IF(LEN(Etapes[[#This Row],[Planned]])=0,\"\",IF(AND($C40=\"MER\",AI$6=$F40,$G40=1),1,IF(AND($C40=\"MEP\",AI$6=$F40,$G40=1),2,IF(AND(AI$6=$F40,$G40=1),0,\"\")))),\"\")","v":""},{"$f":"IFERROR(IF(LEN(Etapes[[#This Row],[Planned]])=0,\"\",IF(AND($C40=\"MER\",AJ$6=$F40,$G40=1),1,IF(AND($C40=\"MEP\",AJ$6=$F40,$G40=1),2,IF(AND(AJ$6=$F40,$G40=1),0,\"\")))),\"\")","v":""},{"$f":"IFERROR(IF(LEN(Etapes[[#This Row],[Planned]])=0,\"\",IF(AND($C40=\"MER\",AK$6=$F40,$G40=1),1,IF(AND($C40=\"MEP\",AK$6=$F40,$G40=1),2,IF(AND(AK$6=$F40,$G40=1),0,\"\")))),\"\")","v":""},{"$f":"IFERROR(IF(LEN(Etapes[[#This Row],[Planned]])=0,\"\",IF(AND($C40=\"MER\",AL$6=$F40,$G40=1),1,IF(AND($C40=\"MEP\",AL$6=$F40,$G40=1),2,IF(AND(AL$6=$F40,$G40=1),0,\"\")))),\"\")","v":""},{"$f":"IFERROR(IF(LEN(Etapes[[#This Row],[Planned]])=0,\"\",IF(AND($C40=\"MER\",AM$6=$F40,$G40=1),1,IF(AND($C40=\"MEP\",AM$6=$F40,$G40=1),2,IF(AND(AM$6=$F40,$G40=1),0,\"\")))),\"\")","v":""},{"$f":"IFERROR(IF(LEN(Etapes[[#This Row],[Planned]])=0,\"\",IF(AND($C40=\"MER\",AN$6=$F40,$G40=1),1,IF(AND($C40=\"MEP\",AN$6=$F40,$G40=1),2,IF(AND(AN$6=$F40,$G40=1),0,\"\")))),\"\")","v":""},{"$f":"IFERROR(IF(LEN(Etapes[[#This Row],[Planned]])=0,\"\",IF(AND($C40=\"MER\",AO$6=$F40,$G40=1),1,IF(AND($C40=\"MEP\",AO$6=$F40,$G40=1),2,IF(AND(AO$6=$F40,$G40=1),0,\"\")))),\"\")","v":""},{"$f":"IFERROR(IF(LEN(Etapes[[#This Row],[Planned]])=0,\"\",IF(AND($C40=\"MER\",AP$6=$F40,$G40=1),1,IF(AND($C40=\"MEP\",AP$6=$F40,$G40=1),2,IF(AND(AP$6=$F40,$G40=1),0,\"\")))),\"\")","v":""},{"$f":"IFERROR(IF(LEN(Etapes[[#This Row],[Planned]])=0,\"\",IF(AND($C40=\"MER\",AQ$6=$F40,$G40=1),1,IF(AND($C40=\"MEP\",AQ$6=$F40,$G40=1),2,IF(AND(AQ$6=$F40,$G40=1),0,\"\")))),\"\")","v":""},{"$f":"IFERROR(IF(LEN(Etapes[[#This Row],[Planned]])=0,\"\",IF(AND($C40=\"MER\",AR$6=$F40,$G40=1),1,IF(AND($C40=\"MEP\",AR$6=$F40,$G40=1),2,IF(AND(AR$6=$F40,$G40=1),0,\"\")))),\"\")","v":""},{"$f":"IFERROR(IF(LEN(Etapes[[#This Row],[Planned]])=0,\"\",IF(AND($C40=\"MER\",AS$6=$F40,$G40=1),1,IF(AND($C40=\"MEP\",AS$6=$F40,$G40=1),2,IF(AND(AS$6=$F40,$G40=1),0,\"\")))),\"\")","v":""},{"$f":"IFERROR(IF(LEN(Etapes[[#This Row],[Planned]])=0,\"\",IF(AND($C40=\"MER\",AT$6=$F40,$G40=1),1,IF(AND($C40=\"MEP\",AT$6=$F40,$G40=1),2,IF(AND(AT$6=$F40,$G40=1),0,\"\")))),\"\")","v":""},{"$f":"IFERROR(IF(LEN(Etapes[[#This Row],[Planned]])=0,\"\",IF(AND($C40=\"MER\",AU$6=$F40,$G40=1),1,IF(AND($C40=\"MEP\",AU$6=$F40,$G40=1),2,IF(AND(AU$6=$F40,$G40=1),0,\"\")))),\"\")","v":""},{"$f":"IFERROR(IF(LEN(Etapes[[#This Row],[Planned]])=0,\"\",IF(AND($C40=\"MER\",AV$6=$F40,$G40=1),1,IF(AND($C40=\"MEP\",AV$6=$F40,$G40=1),2,IF(AND(AV$6=$F40,$G40=1),0,\"\")))),\"\")","v":""},{"$f":"IFERROR(IF(LEN(Etapes[[#This Row],[Planned]])=0,\"\",IF(AND($C40=\"MER\",AW$6=$F40,$G40=1),1,IF(AND($C40=\"MEP\",AW$6=$F40,$G40=1),2,IF(AND(AW$6=$F40,$G40=1),0,\"\")))),\"\")","v":""},{"$f":"IFERROR(IF(LEN(Etapes[[#This Row],[Planned]])=0,\"\",IF(AND($C40=\"MER\",AX$6=$F40,$G40=1),1,IF(AND($C40=\"MEP\",AX$6=$F40,$G40=1),2,IF(AND(AX$6=$F40,$G40=1),0,\"\")))),\"\")","v":""},{"$f":"IFERROR(IF(LEN(Etapes[[#This Row],[Planned]])=0,\"\",IF(AND($C40=\"MER\",AY$6=$F40,$G40=1),1,IF(AND($C40=\"MEP\",AY$6=$F40,$G40=1),2,IF(AND(AY$6=$F40,$G40=1),0,\"\")))),\"\")","v":""},{"$f":"IFERROR(IF(LEN(Etapes[[#This Row],[Planned]])=0,\"\",IF(AND($C40=\"MER\",AZ$6=$F40,$G40=1),1,IF(AND($C40=\"MEP\",AZ$6=$F40,$G40=1),2,IF(AND(AZ$6=$F40,$G40=1),0,\"\")))),\"\")","v":""},{"$f":"IFERROR(IF(LEN(Etapes[[#This Row],[Planned]])=0,\"\",IF(AND($C40=\"MER\",BA$6=$F40,$G40=1),1,IF(AND($C40=\"MEP\",BA$6=$F40,$G40=1),2,IF(AND(BA$6=$F40,$G40=1),0,\"\")))),\"\")","v":""},{"$f":"IFERROR(IF(LEN(Etapes[[#This Row],[Planned]])=0,\"\",IF(AND($C40=\"MER\",BB$6=$F40,$G40=1),1,IF(AND($C40=\"MEP\",BB$6=$F40,$G40=1),2,IF(AND(BB$6=$F40,$G40=1),0,\"\")))),\"\")","v":""},{"$f":"IFERROR(IF(LEN(Etapes[[#This Row],[Planned]])=0,\"\",IF(AND($C40=\"MER\",BC$6=$F40,$G40=1),1,IF(AND($C40=\"MEP\",BC$6=$F40,$G40=1),2,IF(AND(BC$6=$F40,$G40=1),0,\"\")))),\"\")","v":""},{"$f":"IFERROR(IF(LEN(Etapes[[#This Row],[Planned]])=0,\"\",IF(AND($C40=\"MER\",BD$6=$F40,$G40=1),1,IF(AND($C40=\"MEP\",BD$6=$F40,$G40=1),2,IF(AND(BD$6=$F40,$G40=1),0,\"\")))),\"\")","v":""},{"$f":"IFERROR(IF(LEN(Etapes[[#This Row],[Planned]])=0,\"\",IF(AND($C40=\"MER\",BE$6=$F40,$G40=1),1,IF(AND($C40=\"MEP\",BE$6=$F40,$G40=1),2,IF(AND(BE$6=$F40,$G40=1),0,\"\")))),\"\")","v":""},{"$f":"IFERROR(IF(LEN(Etapes[[#This Row],[Planned]])=0,\"\",IF(AND($C40=\"MER\",BF$6=$F40,$G40=1),1,IF(AND($C40=\"MEP\",BF$6=$F40,$G40=1),2,IF(AND(BF$6=$F40,$G40=1),0,\"\")))),\"\")","v":""},{"$f":"IFERROR(IF(LEN(Etapes[[#This Row],[Planned]])=0,\"\",IF(AND($C40=\"MER\",BG$6=$F40,$G40=1),1,IF(AND($C40=\"MEP\",BG$6=$F40,$G40=1),2,IF(AND(BG$6=$F40,$G40=1),0,\"\")))),\"\")","v":""},{"$f":"IFERROR(IF(LEN(Etapes[[#This Row],[Planned]])=0,\"\",IF(AND($C40=\"MER\",BH$6=$F40,$G40=1),1,IF(AND($C40=\"MEP\",BH$6=$F40,$G40=1),2,IF(AND(BH$6=$F40,$G40=1),0,\"\")))),\"\")","v":""},{"$f":"IFERROR(IF(LEN(Etapes[[#This Row],[Planned]])=0,\"\",IF(AND($C40=\"MER\",BI$6=$F40,$G40=1),1,IF(AND($C40=\"MEP\",BI$6=$F40,$G40=1),2,IF(AND(BI$6=$F40,$G40=1),0,\"\")))),\"\")","v":""},{"$f":"IFERROR(IF(LEN(Etapes[[#This Row],[Planned]])=0,\"\",IF(AND($C40=\"MER\",BJ$6=$F40,$G40=1),1,IF(AND($C40=\"MEP\",BJ$6=$F40,$G40=1),2,IF(AND(BJ$6=$F40,$G40=1),0,\"\")))),\"\")","v":""},{"$f":"IFERROR(IF(LEN(Etapes[[#This Row],[Planned]])=0,\"\",IF(AND($C40=\"MER\",BK$6=$F40,$G40=1),1,IF(AND($C40=\"MEP\",BK$6=$F40,$G40=1),2,IF(AND(BK$6=$F40,$G40=1),0,\"\")))),\"\")","v":""},{"$f":"IFERROR(IF(LEN(Etapes[[#This Row],[Planned]])=0,\"\",IF(AND($C40=\"MER\",BL$6=$F40,$G40=1),1,IF(AND($C40=\"MEP\",BL$6=$F40,$G40=1),2,IF(AND(BL$6=$F40,$G40=1),0,\"\")))),\"\")","v":""},{"$f":"IFERROR(IF(LEN(Etapes[[#This Row],[Planned]])=0,\"\",IF(AND($C40=\"MER\",BM$6=$F40,$G40=1),1,IF(AND($C40=\"MEP\",BM$6=$F40,$G40=1),2,IF(AND(BM$6=$F40,$G40=1),0,\"\")))),\"\")","v":""},{"$f":"IFERROR(IF(LEN(Etapes[[#This Row],[Planned]])=0,\"\",IF(AND($C40=\"MER\",BN$6=$F40,$G40=1),1,IF(AND($C40=\"MEP\",BN$6=$F40,$G40=1),2,IF(AND(BN$6=$F40,$G40=1),0,\"\")))),\"\")","v":""},{"$f":"IFERROR(IF(LEN(Etapes[[#This Row],[Planned]])=0,\"\",IF(AND($C40=\"MER\",BO$6=$F40,$G40=1),1,IF(AND($C40=\"MEP\",BO$6=$F40,$G40=1),2,IF(AND(BO$6=$F40,$G40=1),0,\"\")))),\"\")","v":""},{"$f":"IFERROR(IF(LEN(Etapes[[#This Row],[Add]])=0,\"\",IF(AND($C40=\"MER\",BP$6=$F40,$G40=1),1,IF(AND($C40=\"MEP\",BP$6=$F40,$G40=1),2,IF(AND(BP$6=$F40,$G40=1),0,\"\")))),\"\")","v":""},{"$f":"IFERROR(IF(LEN(Etapes[[#This Row],[End]])=0,\"\",IF(AND($C40=\"MER\",BQ$6=$F40,$G40=1),1,IF(AND($C40=\"MEP\",BQ$6=$F40,$G40=1),2,IF(AND(BQ$6=$F40,$G40=1),0,\"\")))),\"\")","v":""},{"$f":"IFERROR(IF(LEN(Etapes[[#This Row],[Réalisé]])=0,\"\",IF(AND($C40=\"MER\",BR$6=$F40,$G40=1),1,IF(AND($C40=\"MEP\",BR$6=$F40,$G40=1),2,IF(AND(BR$6=$F40,$G40=1),0,\"\")))),\"\")","v":""},{"$f":"IFERROR(IF(LEN(Etapes[[#This Row],[Activité]])=0,\"\",IF(AND($C40=\"MER\",BS$6=$F40,$G40=1),1,IF(AND($C40=\"MEP\",BS$6=$F40,$G40=1),2,IF(AND(BS$6=$F40,$G40=1),0,\"\")))),\"\")","v":""},{"$f":"IFERROR(IF(LEN(Etapes[[#This Row],[Statut]])=0,\"\",IF(AND($C40=\"MER\",BT$6=$F40,$G40=1),1,IF(AND($C40=\"MEP\",BT$6=$F40,$G40=1),2,IF(AND(BT$6=$F40,$G40=1),0,\"\")))),\"\")","v":""},{"$f":"IFERROR(IF(LEN(Etapes[[#This Row],[Progress]])=0,\"\",IF(AND($C40=\"MER\",BU$6=$F40,$G40=1),1,IF(AND($C40=\"MEP\",BU$6=$F40,$G40=1),2,IF(AND(BU$6=$F40,$G40=1),0,\"\")))),\"\")","v":""},{"$f":"IFERROR(IF(LEN(Etapes[[#This Row],[Start]])=0,\"\",IF(AND($C40=\"MER\",BV$6=$F40,$G40=1),1,IF(AND($C40=\"MEP\",BV$6=$F40,$G40=1),2,IF(AND(BV$6=$F40,$G40=1),0,\"\")))),\"\")","v":""},{"$f":"IFERROR(IF(LEN(Etapes[[#This Row],[Planned]])=0,\"\",IF(AND($C40=\"MER\",BW$6=$F40,$G40=1),1,IF(AND($C40=\"MEP\",BW$6=$F40,$G40=1),2,IF(AND(BW$6=$F40,$G40=1),0,\"\")))),\"\")","v":""},{"$f":"IFERROR(IF(LEN(Etapes[[#This Row],[Add]])=0,\"\",IF(AND($C40=\"MER\",BX$6=$F40,$G40=1),1,IF(AND($C40=\"MEP\",BX$6=$F40,$G40=1),2,IF(AND(BX$6=$F40,$G40=1),0,\"\")))),\"\")","v":""},{"$f":"IFERROR(IF(LEN(Etapes[[#This Row],[End]])=0,\"\",IF(AND($C40=\"MER\",BY$6=$F40,$G40=1),1,IF(AND($C40=\"MEP\",BY$6=$F40,$G40=1),2,IF(AND(BY$6=$F40,$G40=1),0,\"\")))),\"\")","v":""},{"$f":"IFERROR(IF(LEN(Etapes[[#This Row],[Réalisé]])=0,\"\",IF(AND($C40=\"MER\",BZ$6=$F40,$G40=1),1,IF(AND($C40=\"MEP\",BZ$6=$F40,$G40=1),2,IF(AND(BZ$6=$F40,$G40=1),0,\"\")))),\"\")","v":""},{"$f":"IFERROR(IF(LEN(Etapes[[#This Row],[Activité]])=0,\"\",IF(AND($C40=\"MER\",CA$6=$F40,$G40=1),1,IF(AND($C40=\"MEP\",CA$6=$F40,$G40=1),2,IF(AND(CA$6=$F40,$G40=1),0,\"\")))),\"\")","v":""},{"$f":"IFERROR(IF(LEN(Etapes[[#This Row],[Statut]])=0,\"\",IF(AND($C40=\"MER\",CB$6=$F40,$G40=1),1,IF(AND($C40=\"MEP\",CB$6=$F40,$G40=1),2,IF(AND(CB$6=$F40,$G40=1),0,\"\")))),\"\")","v":""},{"$f":"IFERROR(IF(LEN(Etapes[[#This Row],[Progress]])=0,\"\",IF(AND($C40=\"MER\",CC$6=$F40,$G40=1),1,IF(AND($C40=\"MEP\",CC$6=$F40,$G40=1),2,IF(AND(CC$6=$F40,$G40=1),0,\"\")))),\"\")","v":""},{"$f":"IFERROR(IF(LEN(Etapes[[#This Row],[Start]])=0,\"\",IF(AND($C40=\"MER\",CD$6=$F40,$G40=1),1,IF(AND($C40=\"MEP\",CD$6=$F40,$G40=1),2,IF(AND(CD$6=$F40,$G40=1),0,\"\")))),\"\")","v":""},{"$f":"IFERROR(IF(LEN(Etapes[[#This Row],[Planned]])=0,\"\",IF(AND($C40=\"MER\",CE$6=$F40,$G40=1),1,IF(AND($C40=\"MEP\",CE$6=$F40,$G40=1),2,IF(AND(CE$6=$F40,$G40=1),0,\"\")))),\"\")","v":""},{"$f":"IFERROR(IF(LEN(Etapes[[#This Row],[Add]])=0,\"\",IF(AND($C40=\"MER\",CF$6=$F40,$G40=1),1,IF(AND($C40=\"MEP\",CF$6=$F40,$G40=1),2,IF(AND(CF$6=$F40,$G40=1),0,\"\")))),\"\")","v":""},{"$f":"IFERROR(IF(LEN(Etapes[[#This Row],[End]])=0,\"\",IF(AND($C40=\"MER\",CG$6=$F40,$G40=1),1,IF(AND($C40=\"MEP\",CG$6=$F40,$G40=1),2,IF(AND(CG$6=$F40,$G40=1),0,\"\")))),\"\")","v":""},{"$f":"IFERROR(IF(LEN(Etapes[[#This Row],[Réalisé]])=0,\"\",IF(AND($C40=\"MER\",CH$6=$F40,$G40=1),1,IF(AND($C40=\"MEP\",CH$6=$F40,$G40=1),2,IF(AND(CH$6=$F40,$G40=1),0,\"\")))),\"\")","v":""},{"$f":"IFERROR(IF(LEN(Etapes[[#This Row],[Activité]])=0,\"\",IF(AND($C40=\"MER\",CI$6=$F40,$G40=1),1,IF(AND($C40=\"MEP\",CI$6=$F40,$G40=1),2,IF(AND(CI$6=$F40,$G40=1),0,\"\")))),\"\")","v":""},{"$f":"IFERROR(IF(LEN(Etapes[[#This Row],[Statut]])=0,\"\",IF(AND($C40=\"MER\",CJ$6=$F40,$G40=1),1,IF(AND($C40=\"MEP\",CJ$6=$F40,$G40=1),2,IF(AND(CJ$6=$F40,$G40=1),0,\"\")))),\"\")","v":""},{"$f":"IFERROR(IF(LEN(Etapes[[#This Row],[Progress]])=0,\"\",IF(AND($C40=\"MER\",CK$6=$F40,$G40=1),1,IF(AND($C40=\"MEP\",CK$6=$F40,$G40=1),2,IF(AND(CK$6=$F40,$G40=1),0,\"\")))),\"\")","v":""},{"$f":"IFERROR(IF(LEN(Etapes[[#This Row],[Start]])=0,\"\",IF(AND($C40=\"MER\",CL$6=$F40,$G40=1),1,IF(AND($C40=\"MEP\",CL$6=$F40,$G40=1),2,IF(AND(CL$6=$F40,$G40=1),0,\"\")))),\"\")","v":""},{"$f":"IFERROR(IF(LEN(Etapes[[#This Row],[Planned]])=0,\"\",IF(AND($C40=\"MER\",CM$6=$F40,$G40=1),1,IF(AND($C40=\"MEP\",CM$6=$F40,$G40=1),2,IF(AND(CM$6=$F40,$G40=1),0,\"\")))),\"\")","v":""},{"$f":"IFERROR(IF(LEN(Etapes[[#This Row],[Add]])=0,\"\",IF(AND($C40=\"MER\",CN$6=$F40,$G40=1),1,IF(AND($C40=\"MEP\",CN$6=$F40,$G40=1),2,IF(AND(CN$6=$F40,$G40=1),0,\"\")))),\"\")","v":""},{"$f":"IFERROR(IF(LEN(Etapes[[#This Row],[End]])=0,\"\",IF(AND($C40=\"MER\",CO$6=$F40,$G40=1),1,IF(AND($C40=\"MEP\",CO$6=$F40,$G40=1),2,IF(AND(CO$6=$F40,$G40=1),0,\"\")))),\"\")","v":""},{"$f":"IFERROR(IF(LEN(Etapes[[#This Row],[Réalisé]])=0,\"\",IF(AND($C40=\"MER\",CP$6=$F40,$G40=1),1,IF(AND($C40=\"MEP\",CP$6=$F40,$G40=1),2,IF(AND(CP$6=$F40,$G40=1),0,\"\")))),\"\")","v":""},{"$f":"IFERROR(IF(LEN(Etapes[[#This Row],[Activité]])=0,\"\",IF(AND($C40=\"MER\",CQ$6=$F40,$G40=1),1,IF(AND($C40=\"MEP\",CQ$6=$F40,$G40=1),2,IF(AND(CQ$6=$F40,$G40=1),0,\"\")))),\"\")","v":""},{"$f":"IFERROR(IF(LEN(Etapes[[#This Row],[Statut]])=0,\"\",IF(AND($C40=\"MER\",CR$6=$F40,$G40=1),1,IF(AND($C40=\"MEP\",CR$6=$F40,$G40=1),2,IF(AND(CR$6=$F40,$G40=1),0,\"\")))),\"\")","v":""},{"$f":"IFERROR(IF(LEN(Etapes[[#This Row],[Progress]])=0,\"\",IF(AND($C40=\"MER\",CS$6=$F40,$G40=1),1,IF(AND($C40=\"MEP\",CS$6=$F40,$G40=1),2,IF(AND(CS$6=$F40,$G40=1),0,\"\")))),\"\")","v":""},{"$f":"IFERROR(IF(LEN(Etapes[[#This Row],[Start]])=0,\"\",IF(AND($C40=\"MER\",CT$6=$F40,$G40=1),1,IF(AND($C40=\"MEP\",CT$6=$F40,$G40=1),2,IF(AND(CT$6=$F40,$G40=1),0,\"\")))),\"\")","v":""},{"$f":"IFERROR(IF(LEN(Etapes[[#This Row],[Planned]])=0,\"\",IF(AND($C40=\"MER\",CU$6=$F40,$G40=1),1,IF(AND($C40=\"MEP\",CU$6=$F40,$G40=1),2,IF(AND(CU$6=$F40,$G40=1),0,\"\")))),\"\")","v":""},{"$f":"IFERROR(IF(LEN(Etapes[[#This Row],[Add]])=0,\"\",IF(AND($C40=\"MER\",CV$6=$F40,$G40=1),1,IF(AND($C40=\"MEP\",CV$6=$F40,$G40=1),2,IF(AND(CV$6=$F40,$G40=1),0,\"\")))),\"\")","v":""},{"$f":"IFERROR(IF(LEN(Etapes[[#This Row],[End]])=0,\"\",IF(AND($C40=\"MER\",CW$6=$F40,$G40=1),1,IF(AND($C40=\"MEP\",CW$6=$F40,$G40=1),2,IF(AND(CW$6=$F40,$G40=1),0,\"\")))),\"\")","v":""}]
["7.1","Instruction ","Planned",null,null,"2022-08-03",null,null,{"$f":"IF(Etapes[[#This Row],[Start]]<>\"\",WORKDAY(Etapes[[#This Row],[Start]],IF(WEEKDAY(Etapes[[#This Row],[Start]],1)>=6,Etapes[[#This Row],[Planned]]+Etapes[[#This Row],[Add]],Etapes[[#This Row],[Planned]]+Etapes[[#This Row],[Add]]-1),Férié),\"\")","v":"2022-08-02"},{"$f":"IF(Etapes[[#This Row],[Start]]<>\"\",WORKDAY(Etapes[[#This Row],[Start]],IF(WEEKDAY(Etapes[[#This Row],[Start]],1)>=6,Etapes[[#This Row],[Progress]]*Etapes[[#This Row],[Planned]]+Etapes[[#This Row],[Add]],(Etapes[[#This Row],[Progress]]*Etapes[[#This Row],[Planned]]+Etapes[[#This Row],[Add]])-1),Férié),\"\")","v":"2022-08-02"},null,{"$f":"IFERROR(IF(LEN(Etapes[[#This Row],[Planned]])=0,\"\",IF(AND($C41=\"MER\",L$6=$F41,$G41=1),1,IF(AND($C41=\"MEP\",L$6=$F41,$G41=1),2,IF(AND(L$6=$F41,$G41=1),0,\"\")))),\"\")","v":""},{"$f":"IFERROR(IF(LEN(Etapes[[#This Row],[Planned]])=0,\"\",IF(AND($C41=\"MER\",M$6=$F41,$G41=1),1,IF(AND($C41=\"MEP\",M$6=$F41,$G41=1),2,IF(AND(M$6=$F41,$G41=1),0,\"\")))),\"\")","v":""},{"$f":"IFERROR(IF(LEN(Etapes[[#This Row],[Planned]])=0,\"\",IF(AND($C41=\"MER\",N$6=$F41,$G41=1),1,IF(AND($C41=\"MEP\",N$6=$F41,$G41=1),2,IF(AND(N$6=$F41,$G41=1),0,\"\")))),\"\")","v":""},{"$f":"IFERROR(IF(LEN(Etapes[[#This Row],[Planned]])=0,\"\",IF(AND($C41=\"MER\",O$6=$F41,$G41=1),1,IF(AND($C41=\"MEP\",O$6=$F41,$G41=1),2,IF(AND(O$6=$F41,$G41=1),0,\"\")))),\"\")","v":""},{"$f":"IFERROR(IF(LEN(Etapes[[#This Row],[Planned]])=0,\"\",IF(AND($C41=\"MER\",P$6=$F41,$G41=1),1,IF(AND($C41=\"MEP\",P$6=$F41,$G41=1),2,IF(AND(P$6=$F41,$G41=1),0,\"\")))),\"\")","v":""},{"$f":"IFERROR(IF(LEN(Etapes[[#This Row],[Planned]])=0,\"\",IF(AND($C41=\"MER\",Q$6=$F41,$G41=1),1,IF(AND($C41=\"MEP\",Q$6=$F41,$G41=1),2,IF(AND(Q$6=$F41,$G41=1),0,\"\")))),\"\")","v":""},{"$f":"IFERROR(IF(LEN(Etapes[[#This Row],[Planned]])=0,\"\",IF(AND($C41=\"MER\",R$6=$F41,$G41=1),1,IF(AND($C41=\"MEP\",R$6=$F41,$G41=1),2,IF(AND(R$6=$F41,$G41=1),0,\"\")))),\"\")","v":""},{"$f":"IFERROR(IF(LEN(Etapes[[#This Row],[Planned]])=0,\"\",IF(AND($C41=\"MER\",S$6=$F41,$G41=1),1,IF(AND($C41=\"MEP\",S$6=$F41,$G41=1),2,IF(AND(S$6=$F41,$G41=1),0,\"\")))),\"\")","v":""},{"$f":"IFERROR(IF(LEN(Etapes[[#This Row],[Planned]])=0,\"\",IF(AND($C41=\"MER\",T$6=$F41,$G41=1),1,IF(AND($C41=\"MEP\",T$6=$F41,$G41=1),2,IF(AND(T$6=$F41,$G41=1),0,\"\")))),\"\")","v":""},{"$f":"IFERROR(IF(LEN(Etapes[[#This Row],[Planned]])=0,\"\",IF(AND($C41=\"MER\",U$6=$F41,$G41=1),1,IF(AND($C41=\"MEP\",U$6=$F41,$G41=1),2,IF(AND(U$6=$F41,$G41=1),0,\"\")))),\"\")","v":""},{"$f":"IFERROR(IF(LEN(Etapes[[#This Row],[Planned]])=0,\"\",IF(AND($C41=\"MER\",V$6=$F41,$G41=1),1,IF(AND($C41=\"MEP\",V$6=$F41,$G41=1),2,IF(AND(V$6=$F41,$G41=1),0,\"\")))),\"\")","v":""},{"$f":"IFERROR(IF(LEN(Etapes[[#This Row],[Planned]])=0,\"\",IF(AND($C41=\"MER\",W$6=$F41,$G41=1),1,IF(AND($C41=\"MEP\",W$6=$F41,$G41=1),2,IF(AND(W$6=$F41,$G41=1),0,\"\")))),\"\")","v":""},{"$f":"IFERROR(IF(LEN(Etapes[[#This Row],[Planned]])=0,\"\",IF(AND($C41=\"MER\",X$6=$F41,$G41=1),1,IF(AND($C41=\"MEP\",X$6=$F41,$G41=1),2,IF(AND(X$6=$F41,$G41=1),0,\"\")))),\"\")","v":""},{"$f":"IFERROR(IF(LEN(Etapes[[#This Row],[Planned]])=0,\"\",IF(AND($C41=\"MER\",Y$6=$F41,$G41=1),1,IF(AND($C41=\"MEP\",Y$6=$F41,$G41=1),2,IF(AND(Y$6=$F41,$G41=1),0,\"\")))),\"\")","v":""},{"$f":"IFERROR(IF(LEN(Etapes[[#This Row],[Planned]])=0,\"\",IF(AND($C41=\"MER\",Z$6=$F41,$G41=1),1,IF(AND($C41=\"MEP\",Z$6=$F41,$G41=1),2,IF(AND(Z$6=$F41,$G41=1),0,\"\")))),\"\")","v":""},{"$f":"IFERROR(IF(LEN(Etapes[[#This Row],[Planned]])=0,\"\",IF(AND($C41=\"MER\",AA$6=$F41,$G41=1),1,IF(AND($C41=\"MEP\",AA$6=$F41,$G41=1),2,IF(AND(AA$6=$F41,$G41=1),0,\"\")))),\"\")","v":""},{"$f":"IFERROR(IF(LEN(Etapes[[#This Row],[Planned]])=0,\"\",IF(AND($C41=\"MER\",AB$6=$F41,$G41=1),1,IF(AND($C41=\"MEP\",AB$6=$F41,$G41=1),2,IF(AND(AB$6=$F41,$G41=1),0,\"\")))),\"\")","v":""},{"$f":"IFERROR(IF(LEN(Etapes[[#This Row],[Planned]])=0,\"\",IF(AND($C41=\"MER\",AC$6=$F41,$G41=1),1,IF(AND($C41=\"MEP\",AC$6=$F41,$G41=1),2,IF(AND(AC$6=$F41,$G41=1),0,\"\")))),\"\")","v":""},{"$f":"IFERROR(IF(LEN(Etapes[[#This Row],[Planned]])=0,\"\",IF(AND($C41=\"MER\",AD$6=$F41,$G41=1),1,IF(AND($C41=\"MEP\",AD$6=$F41,$G41=1),2,IF(AND(AD$6=$F41,$G41=1),0,\"\")))),\"\")","v":""},{"$f":"IFERROR(IF(LEN(Etapes[[#This Row],[Planned]])=0,\"\",IF(AND($C41=\"MER\",AE$6=$F41,$G41=1),1,IF(AND($C41=\"MEP\",AE$6=$F41,$G41=1),2,IF(AND(AE$6=$F41,$G41=1),0,\"\")))),\"\")","v":""},{"$f":"IFERROR(IF(LEN(Etapes[[#This Row],[Planned]])=0,\"\",IF(AND($C41=\"MER\",AF$6=$F41,$G41=1),1,IF(AND($C41=\"MEP\",AF$6=$F41,$G41=1),2,IF(AND(AF$6=$F41,$G41=1),0,\"\")))),\"\")","v":""},{"$f":"IFERROR(IF(LEN(Etapes[[#This Row],[Planned]])=0,\"\",IF(AND($C41=\"MER\",AG$6=$F41,$G41=1),1,IF(AND($C41=\"MEP\",AG$6=$F41,$G41=1),2,IF(AND(AG$6=$F41,$G41=1),0,\"\")))),\"\")","v":""},{"$f":"IFERROR(IF(LEN(Etapes[[#This Row],[Planned]])=0,\"\",IF(AND($C41=\"MER\",AH$6=$F41,$G41=1),1,IF(AND($C41=\"MEP\",AH$6=$F41,$G41=1),2,IF(AND(AH$6=$F41,$G41=1),0,\"\")))),\"\")","v":""},{"$f":"IFERROR(IF(LEN(Etapes[[#This Row],[Planned]])=0,\"\",IF(AND($C41=\"MER\",AI$6=$F41,$G41=1),1,IF(AND($C41=\"MEP\",AI$6=$F41,$G41=1),2,IF(AND(AI$6=$F41,$G41=1),0,\"\")))),\"\")","v":""},{"$f":"IFERROR(IF(LEN(Etapes[[#This Row],[Planned]])=0,\"\",IF(AND($C41=\"MER\",AJ$6=$F41,$G41=1),1,IF(AND($C41=\"MEP\",AJ$6=$F41,$G41=1),2,IF(AND(AJ$6=$F41,$G41=1),0,\"\")))),\"\")","v":""},{"$f":"IFERROR(IF(LEN(Etapes[[#This Row],[Planned]])=0,\"\",IF(AND($C41=\"MER\",AK$6=$F41,$G41=1),1,IF(AND($C41=\"MEP\",AK$6=$F41,$G41=1),2,IF(AND(AK$6=$F41,$G41=1),0,\"\")))),\"\")","v":""},{"$f":"IFERROR(IF(LEN(Etapes[[#This Row],[Planned]])=0,\"\",IF(AND($C41=\"MER\",AL$6=$F41,$G41=1),1,IF(AND($C41=\"MEP\",AL$6=$F41,$G41=1),2,IF(AND(AL$6=$F41,$G41=1),0,\"\")))),\"\")","v":""},{"$f":"IFERROR(IF(LEN(Etapes[[#This Row],[Planned]])=0,\"\",IF(AND($C41=\"MER\",AM$6=$F41,$G41=1),1,IF(AND($C41=\"MEP\",AM$6=$F41,$G41=1),2,IF(AND(AM$6=$F41,$G41=1),0,\"\")))),\"\")","v":""},{"$f":"IFERROR(IF(LEN(Etapes[[#This Row],[Planned]])=0,\"\",IF(AND($C41=\"MER\",AN$6=$F41,$G41=1),1,IF(AND($C41=\"MEP\",AN$6=$F41,$G41=1),2,IF(AND(AN$6=$F41,$G41=1),0,\"\")))),\"\")","v":""},{"$f":"IFERROR(IF(LEN(Etapes[[#This Row],[Planned]])=0,\"\",IF(AND($C41=\"MER\",AO$6=$F41,$G41=1),1,IF(AND($C41=\"MEP\",AO$6=$F41,$G41=1),2,IF(AND(AO$6=$F41,$G41=1),0,\"\")))),\"\")","v":""},{"$f":"IFERROR(IF(LEN(Etapes[[#This Row],[Planned]])=0,\"\",IF(AND($C41=\"MER\",AP$6=$F41,$G41=1),1,IF(AND($C41=\"MEP\",AP$6=$F41,$G41=1),2,IF(AND(AP$6=$F41,$G41=1),0,\"\")))),\"\")","v":""},{"$f":"IFERROR(IF(LEN(Etapes[[#This Row],[Planned]])=0,\"\",IF(AND($C41=\"MER\",AQ$6=$F41,$G41=1),1,IF(AND($C41=\"MEP\",AQ$6=$F41,$G41=1),2,IF(AND(AQ$6=$F41,$G41=1),0,\"\")))),\"\")","v":""},{"$f":"IFERROR(IF(LEN(Etapes[[#This Row],[Planned]])=0,\"\",IF(AND($C41=\"MER\",AR$6=$F41,$G41=1),1,IF(AND($C41=\"MEP\",AR$6=$F41,$G41=1),2,IF(AND(AR$6=$F41,$G41=1),0,\"\")))),\"\")","v":""},{"$f":"IFERROR(IF(LEN(Etapes[[#This Row],[Planned]])=0,\"\",IF(AND($C41=\"MER\",AS$6=$F41,$G41=1),1,IF(AND($C41=\"MEP\",AS$6=$F41,$G41=1),2,IF(AND(AS$6=$F41,$G41=1),0,\"\")))),\"\")","v":""},{"$f":"IFERROR(IF(LEN(Etapes[[#This Row],[Planned]])=0,\"\",IF(AND($C41=\"MER\",AT$6=$F41,$G41=1),1,IF(AND($C41=\"MEP\",AT$6=$F41,$G41=1),2,IF(AND(AT$6=$F41,$G41=1),0,\"\")))),\"\")","v":""},{"$f":"IFERROR(IF(LEN(Etapes[[#This Row],[Planned]])=0,\"\",IF(AND($C41=\"MER\",AU$6=$F41,$G41=1),1,IF(AND($C41=\"MEP\",AU$6=$F41,$G41=1),2,IF(AND(AU$6=$F41,$G41=1),0,\"\")))),\"\")","v":""},{"$f":"IFERROR(IF(LEN(Etapes[[#This Row],[Planned]])=0,\"\",IF(AND($C41=\"MER\",AV$6=$F41,$G41=1),1,IF(AND($C41=\"MEP\",AV$6=$F41,$G41=1),2,IF(AND(AV$6=$F41,$G41=1),0,\"\")))),\"\")","v":""},{"$f":"IFERROR(IF(LEN(Etapes[[#This Row],[Planned]])=0,\"\",IF(AND($C41=\"MER\",AW$6=$F41,$G41=1),1,IF(AND($C41=\"MEP\",AW$6=$F41,$G41=1),2,IF(AND(AW$6=$F41,$G41=1),0,\"\")))),\"\")","v":""},{"$f":"IFERROR(IF(LEN(Etapes[[#This Row],[Planned]])=0,\"\",IF(AND($C41=\"MER\",AX$6=$F41,$G41=1),1,IF(AND($C41=\"MEP\",AX$6=$F41,$G41=1),2,IF(AND(AX$6=$F41,$G41=1),0,\"\")))),\"\")","v":""},{"$f":"IFERROR(IF(LEN(Etapes[[#This Row],[Planned]])=0,\"\",IF(AND($C41=\"MER\",AY$6=$F41,$G41=1),1,IF(AND($C41=\"MEP\",AY$6=$F41,$G41=1),2,IF(AND(AY$6=$F41,$G41=1),0,\"\")))),\"\")","v":""},{"$f":"IFERROR(IF(LEN(Etapes[[#This Row],[Planned]])=0,\"\",IF(AND($C41=\"MER\",AZ$6=$F41,$G41=1),1,IF(AND($C41=\"MEP\",AZ$6=$F41,$G41=1),2,IF(AND(AZ$6=$F41,$G41=1),0,\"\")))),\"\")","v":""},{"$f":"IFERROR(IF(LEN(Etapes[[#This Row],[Planned]])=0,\"\",IF(AND($C41=\"MER\",BA$6=$F41,$G41=1),1,IF(AND($C41=\"MEP\",BA$6=$F41,$G41=1),2,IF(AND(BA$6=$F41,$G41=1),0,\"\")))),\"\")","v":""},{"$f":"IFERROR(IF(LEN(Etapes[[#This Row],[Planned]])=0,\"\",IF(AND($C41=\"MER\",BB$6=$F41,$G41=1),1,IF(AND($C41=\"MEP\",BB$6=$F41,$G41=1),2,IF(AND(BB$6=$F41,$G41=1),0,\"\")))),\"\")","v":""},{"$f":"IFERROR(IF(LEN(Etapes[[#This Row],[Planned]])=0,\"\",IF(AND($C41=\"MER\",BC$6=$F41,$G41=1),1,IF(AND($C41=\"MEP\",BC$6=$F41,$G41=1),2,IF(AND(BC$6=$F41,$G41=1),0,\"\")))),\"\")","v":""},{"$f":"IFERROR(IF(LEN(Etapes[[#This Row],[Planned]])=0,\"\",IF(AND($C41=\"MER\",BD$6=$F41,$G41=1),1,IF(AND($C41=\"MEP\",BD$6=$F41,$G41=1),2,IF(AND(BD$6=$F41,$G41=1),0,\"\")))),\"\")","v":""},{"$f":"IFERROR(IF(LEN(Etapes[[#This Row],[Planned]])=0,\"\",IF(AND($C41=\"MER\",BE$6=$F41,$G41=1),1,IF(AND($C41=\"MEP\",BE$6=$F41,$G41=1),2,IF(AND(BE$6=$F41,$G41=1),0,\"\")))),\"\")","v":""},{"$f":"IFERROR(IF(LEN(Etapes[[#This Row],[Planned]])=0,\"\",IF(AND($C41=\"MER\",BF$6=$F41,$G41=1),1,IF(AND($C41=\"MEP\",BF$6=$F41,$G41=1),2,IF(AND(BF$6=$F41,$G41=1),0,\"\")))),\"\")","v":""},{"$f":"IFERROR(IF(LEN(Etapes[[#This Row],[Planned]])=0,\"\",IF(AND($C41=\"MER\",BG$6=$F41,$G41=1),1,IF(AND($C41=\"MEP\",BG$6=$F41,$G41=1),2,IF(AND(BG$6=$F41,$G41=1),0,\"\")))),\"\")","v":""},{"$f":"IFERROR(IF(LEN(Etapes[[#This Row],[Planned]])=0,\"\",IF(AND($C41=\"MER\",BH$6=$F41,$G41=1),1,IF(AND($C41=\"MEP\",BH$6=$F41,$G41=1),2,IF(AND(BH$6=$F41,$G41=1),0,\"\")))),\"\")","v":""},{"$f":"IFERROR(IF(LEN(Etapes[[#This Row],[Planned]])=0,\"\",IF(AND($C41=\"MER\",BI$6=$F41,$G41=1),1,IF(AND($C41=\"MEP\",BI$6=$F41,$G41=1),2,IF(AND(BI$6=$F41,$G41=1),0,\"\")))),\"\")","v":""},{"$f":"IFERROR(IF(LEN(Etapes[[#This Row],[Planned]])=0,\"\",IF(AND($C41=\"MER\",BJ$6=$F41,$G41=1),1,IF(AND($C41=\"MEP\",BJ$6=$F41,$G41=1),2,IF(AND(BJ$6=$F41,$G41=1),0,\"\")))),\"\")","v":""},{"$f":"IFERROR(IF(LEN(Etapes[[#This Row],[Planned]])=0,\"\",IF(AND($C41=\"MER\",BK$6=$F41,$G41=1),1,IF(AND($C41=\"MEP\",BK$6=$F41,$G41=1),2,IF(AND(BK$6=$F41,$G41=1),0,\"\")))),\"\")","v":""},{"$f":"IFERROR(IF(LEN(Etapes[[#This Row],[Planned]])=0,\"\",IF(AND($C41=\"MER\",BL$6=$F41,$G41=1),1,IF(AND($C41=\"MEP\",BL$6=$F41,$G41=1),2,IF(AND(BL$6=$F41,$G41=1),0,\"\")))),\"\")","v":""},{"$f":"IFERROR(IF(LEN(Etapes[[#This Row],[Planned]])=0,\"\",IF(AND($C41=\"MER\",BM$6=$F41,$G41=1),1,IF(AND($C41=\"MEP\",BM$6=$F41,$G41=1),2,IF(AND(BM$6=$F41,$G41=1),0,\"\")))),\"\")","v":""},{"$f":"IFERROR(IF(LEN(Etapes[[#This Row],[Planned]])=0,\"\",IF(AND($C41=\"MER\",BN$6=$F41,$G41=1),1,IF(AND($C41=\"MEP\",BN$6=$F41,$G41=1),2,IF(AND(BN$6=$F41,$G41=1),0,\"\")))),\"\")","v":""},{"$f":"IFERROR(IF(LEN(Etapes[[#This Row],[Planned]])=0,\"\",IF(AND($C41=\"MER\",BO$6=$F41,$G41=1),1,IF(AND($C41=\"MEP\",BO$6=$F41,$G41=1),2,IF(AND(BO$6=$F41,$G41=1),0,\"\")))),\"\")","v":""},{"$f":"IFERROR(IF(LEN(Etapes[[#This Row],[Add]])=0,\"\",IF(AND($C41=\"MER\",BP$6=$F41,$G41=1),1,IF(AND($C41=\"MEP\",BP$6=$F41,$G41=1),2,IF(AND(BP$6=$F41,$G41=1),0,\"\")))),\"\")","v":""},{"$f":"IFERROR(IF(LEN(Etapes[[#This Row],[End]])=0,\"\",IF(AND($C41=\"MER\",BQ$6=$F41,$G41=1),1,IF(AND($C41=\"MEP\",BQ$6=$F41,$G41=1),2,IF(AND(BQ$6=$F41,$G41=1),0,\"\")))),\"\")","v":""},{"$f":"IFERROR(IF(LEN(Etapes[[#This Row],[Réalisé]])=0,\"\",IF(AND($C41=\"MER\",BR$6=$F41,$G41=1),1,IF(AND($C41=\"MEP\",BR$6=$F41,$G41=1),2,IF(AND(BR$6=$F41,$G41=1),0,\"\")))),\"\")","v":""},{"$f":"IFERROR(IF(LEN(Etapes[[#This Row],[Activité]])=0,\"\",IF(AND($C41=\"MER\",BS$6=$F41,$G41=1),1,IF(AND($C41=\"MEP\",BS$6=$F41,$G41=1),2,IF(AND(BS$6=$F41,$G41=1),0,\"\")))),\"\")","v":""},{"$f":"IFERROR(IF(LEN(Etapes[[#This Row],[Statut]])=0,\"\",IF(AND($C41=\"MER\",BT$6=$F41,$G41=1),1,IF(AND($C41=\"MEP\",BT$6=$F41,$G41=1),2,IF(AND(BT$6=$F41,$G41=1),0,\"\")))),\"\")","v":""},{"$f":"IFERROR(IF(LEN(Etapes[[#This Row],[Progress]])=0,\"\",IF(AND($C41=\"MER\",BU$6=$F41,$G41=1),1,IF(AND($C41=\"MEP\",BU$6=$F41,$G41=1),2,IF(AND(BU$6=$F41,$G41=1),0,\"\")))),\"\")","v":""},{"$f":"IFERROR(IF(LEN(Etapes[[#This Row],[Start]])=0,\"\",IF(AND($C41=\"MER\",BV$6=$F41,$G41=1),1,IF(AND($C41=\"MEP\",BV$6=$F41,$G41=1),2,IF(AND(BV$6=$F41,$G41=1),0,\"\")))),\"\")","v":""},{"$f":"IFERROR(IF(LEN(Etapes[[#This Row],[Planned]])=0,\"\",IF(AND($C41=\"MER\",BW$6=$F41,$G41=1),1,IF(AND($C41=\"MEP\",BW$6=$F41,$G41=1),2,IF(AND(BW$6=$F41,$G41=1),0,\"\")))),\"\")","v":""},{"$f":"IFERROR(IF(LEN(Etapes[[#This Row],[Add]])=0,\"\",IF(AND($C41=\"MER\",BX$6=$F41,$G41=1),1,IF(AND($C41=\"MEP\",BX$6=$F41,$G41=1),2,IF(AND(BX$6=$F41,$G41=1),0,\"\")))),\"\")","v":""},{"$f":"IFERROR(IF(LEN(Etapes[[#This Row],[End]])=0,\"\",IF(AND($C41=\"MER\",BY$6=$F41,$G41=1),1,IF(AND($C41=\"MEP\",BY$6=$F41,$G41=1),2,IF(AND(BY$6=$F41,$G41=1),0,\"\")))),\"\")","v":""},{"$f":"IFERROR(IF(LEN(Etapes[[#This Row],[Réalisé]])=0,\"\",IF(AND($C41=\"MER\",BZ$6=$F41,$G41=1),1,IF(AND($C41=\"MEP\",BZ$6=$F41,$G41=1),2,IF(AND(BZ$6=$F41,$G41=1),0,\"\")))),\"\")","v":""},{"$f":"IFERROR(IF(LEN(Etapes[[#This Row],[Activité]])=0,\"\",IF(AND($C41=\"MER\",CA$6=$F41,$G41=1),1,IF(AND($C41=\"MEP\",CA$6=$F41,$G41=1),2,IF(AND(CA$6=$F41,$G41=1),0,\"\")))),\"\")","v":""},{"$f":"IFERROR(IF(LEN(Etapes[[#This Row],[Statut]])=0,\"\",IF(AND($C41=\"MER\",CB$6=$F41,$G41=1),1,IF(AND($C41=\"MEP\",CB$6=$F41,$G41=1),2,IF(AND(CB$6=$F41,$G41=1),0,\"\")))),\"\")","v":""},{"$f":"IFERROR(IF(LEN(Etapes[[#This Row],[Progress]])=0,\"\",IF(AND($C41=\"MER\",CC$6=$F41,$G41=1),1,IF(AND($C41=\"MEP\",CC$6=$F41,$G41=1),2,IF(AND(CC$6=$F41,$G41=1),0,\"\")))),\"\")","v":""},{"$f":"IFERROR(IF(LEN(Etapes[[#This Row],[Start]])=0,\"\",IF(AND($C41=\"MER\",CD$6=$F41,$G41=1),1,IF(AND($C41=\"MEP\",CD$6=$F41,$G41=1),2,IF(AND(CD$6=$F41,$G41=1),0,\"\")))),\"\")","v":""},{"$f":"IFERROR(IF(LEN(Etapes[[#This Row],[Planned]])=0,\"\",IF(AND($C41=\"MER\",CE$6=$F41,$G41=1),1,IF(AND($C41=\"MEP\",CE$6=$F41,$G41=1),2,IF(AND(CE$6=$F41,$G41=1),0,\"\")))),\"\")","v":""},{"$f":"IFERROR(IF(LEN(Etapes[[#This Row],[Add]])=0,\"\",IF(AND($C41=\"MER\",CF$6=$F41,$G41=1),1,IF(AND($C41=\"MEP\",CF$6=$F41,$G41=1),2,IF(AND(CF$6=$F41,$G41=1),0,\"\")))),\"\")","v":""},{"$f":"IFERROR(IF(LEN(Etapes[[#This Row],[End]])=0,\"\",IF(AND($C41=\"MER\",CG$6=$F41,$G41=1),1,IF(AND($C41=\"MEP\",CG$6=$F41,$G41=1),2,IF(AND(CG$6=$F41,$G41=1),0,\"\")))),\"\")","v":""},{"$f":"IFERROR(IF(LEN(Etapes[[#This Row],[Réalisé]])=0,\"\",IF(AND($C41=\"MER\",CH$6=$F41,$G41=1),1,IF(AND($C41=\"MEP\",CH$6=$F41,$G41=1),2,IF(AND(CH$6=$F41,$G41=1),0,\"\")))),\"\")","v":""},{"$f":"IFERROR(IF(LEN(Etapes[[#This Row],[Activité]])=0,\"\",IF(AND($C41=\"MER\",CI$6=$F41,$G41=1),1,IF(AND($C41=\"MEP\",CI$6=$F41,$G41=1),2,IF(AND(CI$6=$F41,$G41=1),0,\"\")))),\"\")","v":""},{"$f":"IFERROR(IF(LEN(Etapes[[#This Row],[Statut]])=0,\"\",IF(AND($C41=\"MER\",CJ$6=$F41,$G41=1),1,IF(AND($C41=\"MEP\",CJ$6=$F41,$G41=1),2,IF(AND(CJ$6=$F41,$G41=1),0,\"\")))),\"\")","v":""},{"$f":"IFERROR(IF(LEN(Etapes[[#This Row],[Progress]])=0,\"\",IF(AND($C41=\"MER\",CK$6=$F41,$G41=1),1,IF(AND($C41=\"MEP\",CK$6=$F41,$G41=1),2,IF(AND(CK$6=$F41,$G41=1),0,\"\")))),\"\")","v":""},{"$f":"IFERROR(IF(LEN(Etapes[[#This Row],[Start]])=0,\"\",IF(AND($C41=\"MER\",CL$6=$F41,$G41=1),1,IF(AND($C41=\"MEP\",CL$6=$F41,$G41=1),2,IF(AND(CL$6=$F41,$G41=1),0,\"\")))),\"\")","v":""},{"$f":"IFERROR(IF(LEN(Etapes[[#This Row],[Planned]])=0,\"\",IF(AND($C41=\"MER\",CM$6=$F41,$G41=1),1,IF(AND($C41=\"MEP\",CM$6=$F41,$G41=1),2,IF(AND(CM$6=$F41,$G41=1),0,\"\")))),\"\")","v":""},{"$f":"IFERROR(IF(LEN(Etapes[[#This Row],[Add]])=0,\"\",IF(AND($C41=\"MER\",CN$6=$F41,$G41=1),1,IF(AND($C41=\"MEP\",CN$6=$F41,$G41=1),2,IF(AND(CN$6=$F41,$G41=1),0,\"\")))),\"\")","v":""},{"$f":"IFERROR(IF(LEN(Etapes[[#This Row],[End]])=0,\"\",IF(AND($C41=\"MER\",CO$6=$F41,$G41=1),1,IF(AND($C41=\"MEP\",CO$6=$F41,$G41=1),2,IF(AND(CO$6=$F41,$G41=1),0,\"\")))),\"\")","v":""},{"$f":"IFERROR(IF(LEN(Etapes[[#This Row],[Réalisé]])=0,\"\",IF(AND($C41=\"MER\",CP$6=$F41,$G41=1),1,IF(AND($C41=\"MEP\",CP$6=$F41,$G41=1),2,IF(AND(CP$6=$F41,$G41=1),0,\"\")))),\"\")","v":""},{"$f":"IFERROR(IF(LEN(Etapes[[#This Row],[Activité]])=0,\"\",IF(AND($C41=\"MER\",CQ$6=$F41,$G41=1),1,IF(AND($C41=\"MEP\",CQ$6=$F41,$G41=1),2,IF(AND(CQ$6=$F41,$G41=1),0,\"\")))),\"\")","v":""},{"$f":"IFERROR(IF(LEN(Etapes[[#This Row],[Statut]])=0,\"\",IF(AND($C41=\"MER\",CR$6=$F41,$G41=1),1,IF(AND($C41=\"MEP\",CR$6=$F41,$G41=1),2,IF(AND(CR$6=$F41,$G41=1),0,\"\")))),\"\")","v":""},{"$f":"IFERROR(IF(LEN(Etapes[[#This Row],[Progress]])=0,\"\",IF(AND($C41=\"MER\",CS$6=$F41,$G41=1),1,IF(AND($C41=\"MEP\",CS$6=$F41,$G41=1),2,IF(AND(CS$6=$F41,$G41=1),0,\"\")))),\"\")","v":""},{"$f":"IFERROR(IF(LEN(Etapes[[#This Row],[Start]])=0,\"\",IF(AND($C41=\"MER\",CT$6=$F41,$G41=1),1,IF(AND($C41=\"MEP\",CT$6=$F41,$G41=1),2,IF(AND(CT$6=$F41,$G41=1),0,\"\")))),\"\")","v":""},{"$f":"IFERROR(IF(LEN(Etapes[[#This Row],[Planned]])=0,\"\",IF(AND($C41=\"MER\",CU$6=$F41,$G41=1),1,IF(AND($C41=\"MEP\",CU$6=$F41,$G41=1),2,IF(AND(CU$6=$F41,$G41=1),0,\"\")))),\"\")","v":""},{"$f":"IFERROR(IF(LEN(Etapes[[#This Row],[Add]])=0,\"\",IF(AND($C41=\"MER\",CV$6=$F41,$G41=1),1,IF(AND($C41=\"MEP\",CV$6=$F41,$G41=1),2,IF(AND(CV$6=$F41,$G41=1),0,\"\")))),\"\")","v":""},{"$f":"IFERROR(IF(LEN(Etapes[[#This Row],[End]])=0,\"\",IF(AND($C41=\"MER\",CW$6=$F41,$G41=1),1,IF(AND($C41=\"MEP\",CW$6=$F41,$G41=1),2,IF(AND(CW$6=$F41,$G41=1),0,\"\")))),\"\")","v":""}]
["7.2","Conception","Planned",null,null,"2022-08-03",null,null,{"$f":"IF(Etapes[[#This Row],[Start]]<>\"\",WORKDAY(Etapes[[#This Row],[Start]],IF(WEEKDAY(Etapes[[#This Row],[Start]],1)>=6,Etapes[[#This Row],[Planned]]+Etapes[[#This Row],[Add]],Etapes[[#This Row],[Planned]]+Etapes[[#This Row],[Add]]-1),Férié),\"\")","v":"2022-08-02"},{"$f":"IF(Etapes[[#This Row],[Start]]<>\"\",WORKDAY(Etapes[[#This Row],[Start]],IF(WEEKDAY(Etapes[[#This Row],[Start]],1)>=6,Etapes[[#This Row],[Progress]]*Etapes[[#This Row],[Planned]]+Etapes[[#This Row],[Add]],(Etapes[[#This Row],[Progress]]*Etapes[[#This Row],[Planned]]+Etapes[[#This Row],[Add]])-1),Férié),\"\")","v":"2022-08-02"},null,{"$f":"IFERROR(IF(LEN(Etapes[[#This Row],[Planned]])=0,\"\",IF(AND($C42=\"MER\",L$6=$F42,$G42=1),1,IF(AND($C42=\"MEP\",L$6=$F42,$G42=1),2,IF(AND(L$6=$F42,$G42=1),0,\"\")))),\"\")","v":""},{"$f":"IFERROR(IF(LEN(Etapes[[#This Row],[Planned]])=0,\"\",IF(AND($C42=\"MER\",M$6=$F42,$G42=1),1,IF(AND($C42=\"MEP\",M$6=$F42,$G42=1),2,IF(AND(M$6=$F42,$G42=1),0,\"\")))),\"\")","v":""},{"$f":"IFERROR(IF(LEN(Etapes[[#This Row],[Planned]])=0,\"\",IF(AND($C42=\"MER\",N$6=$F42,$G42=1),1,IF(AND($C42=\"MEP\",N$6=$F42,$G42=1),2,IF(AND(N$6=$F42,$G42=1),0,\"\")))),\"\")","v":""},{"$f":"IFERROR(IF(LEN(Etapes[[#This Row],[Planned]])=0,\"\",IF(AND($C42=\"MER\",O$6=$F42,$G42=1),1,IF(AND($C42=\"MEP\",O$6=$F42,$G42=1),2,IF(AND(O$6=$F42,$G42=1),0,\"\")))),\"\")","v":""},{"$f":"IFERROR(IF(LEN(Etapes[[#This Row],[Planned]])=0,\"\",IF(AND($C42=\"MER\",P$6=$F42,$G42=1),1,IF(AND($C42=\"MEP\",P$6=$F42,$G42=1),2,IF(AND(P$6=$F42,$G42=1),0,\"\")))),\"\")","v":""},{"$f":"IFERROR(IF(LEN(Etapes[[#This Row],[Planned]])=0,\"\",IF(AND($C42=\"MER\",Q$6=$F42,$G42=1),1,IF(AND($C42=\"MEP\",Q$6=$F42,$G42=1),2,IF(AND(Q$6=$F42,$G42=1),0,\"\")))),\"\")","v":""},{"$f":"IFERROR(IF(LEN(Etapes[[#This Row],[Planned]])=0,\"\",IF(AND($C42=\"MER\",R$6=$F42,$G42=1),1,IF(AND($C42=\"MEP\",R$6=$F42,$G42=1),2,IF(AND(R$6=$F42,$G42=1),0,\"\")))),\"\")","v":""},{"$f":"IFERROR(IF(LEN(Etapes[[#This Row],[Planned]])=0,\"\",IF(AND($C42=\"MER\",S$6=$F42,$G42=1),1,IF(AND($C42=\"MEP\",S$6=$F42,$G42=1),2,IF(AND(S$6=$F42,$G42=1),0,\"\")))),\"\")","v":""},{"$f":"IFERROR(IF(LEN(Etapes[[#This Row],[Planned]])=0,\"\",IF(AND($C42=\"MER\",T$6=$F42,$G42=1),1,IF(AND($C42=\"MEP\",T$6=$F42,$G42=1),2,IF(AND(T$6=$F42,$G42=1),0,\"\")))),\"\")","v":""},{"$f":"IFERROR(IF(LEN(Etapes[[#This Row],[Planned]])=0,\"\",IF(AND($C42=\"MER\",U$6=$F42,$G42=1),1,IF(AND($C42=\"MEP\",U$6=$F42,$G42=1),2,IF(AND(U$6=$F42,$G42=1),0,\"\")))),\"\")","v":""},{"$f":"IFERROR(IF(LEN(Etapes[[#This Row],[Planned]])=0,\"\",IF(AND($C42=\"MER\",V$6=$F42,$G42=1),1,IF(AND($C42=\"MEP\",V$6=$F42,$G42=1),2,IF(AND(V$6=$F42,$G42=1),0,\"\")))),\"\")","v":""},{"$f":"IFERROR(IF(LEN(Etapes[[#This Row],[Planned]])=0,\"\",IF(AND($C42=\"MER\",W$6=$F42,$G42=1),1,IF(AND($C42=\"MEP\",W$6=$F42,$G42=1),2,IF(AND(W$6=$F42,$G42=1),0,\"\")))),\"\")","v":""},{"$f":"IFERROR(IF(LEN(Etapes[[#This Row],[Planned]])=0,\"\",IF(AND($C42=\"MER\",X$6=$F42,$G42=1),1,IF(AND($C42=\"MEP\",X$6=$F42,$G42=1),2,IF(AND(X$6=$F42,$G42=1),0,\"\")))),\"\")","v":""},{"$f":"IFERROR(IF(LEN(Etapes[[#This Row],[Planned]])=0,\"\",IF(AND($C42=\"MER\",Y$6=$F42,$G42=1),1,IF(AND($C42=\"MEP\",Y$6=$F42,$G42=1),2,IF(AND(Y$6=$F42,$G42=1),0,\"\")))),\"\")","v":""},{"$f":"IFERROR(IF(LEN(Etapes[[#This Row],[Planned]])=0,\"\",IF(AND($C42=\"MER\",Z$6=$F42,$G42=1),1,IF(AND($C42=\"MEP\",Z$6=$F42,$G42=1),2,IF(AND(Z$6=$F42,$G42=1),0,\"\")))),\"\")","v":""},{"$f":"IFERROR(IF(LEN(Etapes[[#This Row],[Planned]])=0,\"\",IF(AND($C42=\"MER\",AA$6=$F42,$G42=1),1,IF(AND($C42=\"MEP\",AA$6=$F42,$G42=1),2,IF(AND(AA$6=$F42,$G42=1),0,\"\")))),\"\")","v":""},{"$f":"IFERROR(IF(LEN(Etapes[[#This Row],[Planned]])=0,\"\",IF(AND($C42=\"MER\",AB$6=$F42,$G42=1),1,IF(AND($C42=\"MEP\",AB$6=$F42,$G42=1),2,IF(AND(AB$6=$F42,$G42=1),0,\"\")))),\"\")","v":""},{"$f":"IFERROR(IF(LEN(Etapes[[#This Row],[Planned]])=0,\"\",IF(AND($C42=\"MER\",AC$6=$F42,$G42=1),1,IF(AND($C42=\"MEP\",AC$6=$F42,$G42=1),2,IF(AND(AC$6=$F42,$G42=1),0,\"\")))),\"\")","v":""},{"$f":"IFERROR(IF(LEN(Etapes[[#This Row],[Planned]])=0,\"\",IF(AND($C42=\"MER\",AD$6=$F42,$G42=1),1,IF(AND($C42=\"MEP\",AD$6=$F42,$G42=1),2,IF(AND(AD$6=$F42,$G42=1),0,\"\")))),\"\")","v":""},{"$f":"IFERROR(IF(LEN(Etapes[[#This Row],[Planned]])=0,\"\",IF(AND($C42=\"MER\",AE$6=$F42,$G42=1),1,IF(AND($C42=\"MEP\",AE$6=$F42,$G42=1),2,IF(AND(AE$6=$F42,$G42=1),0,\"\")))),\"\")","v":""},{"$f":"IFERROR(IF(LEN(Etapes[[#This Row],[Planned]])=0,\"\",IF(AND($C42=\"MER\",AF$6=$F42,$G42=1),1,IF(AND($C42=\"MEP\",AF$6=$F42,$G42=1),2,IF(AND(AF$6=$F42,$G42=1),0,\"\")))),\"\")","v":""},{"$f":"IFERROR(IF(LEN(Etapes[[#This Row],[Planned]])=0,\"\",IF(AND($C42=\"MER\",AG$6=$F42,$G42=1),1,IF(AND($C42=\"MEP\",AG$6=$F42,$G42=1),2,IF(AND(AG$6=$F42,$G42=1),0,\"\")))),\"\")","v":""},{"$f":"IFERROR(IF(LEN(Etapes[[#This Row],[Planned]])=0,\"\",IF(AND($C42=\"MER\",AH$6=$F42,$G42=1),1,IF(AND($C42=\"MEP\",AH$6=$F42,$G42=1),2,IF(AND(AH$6=$F42,$G42=1),0,\"\")))),\"\")","v":""},{"$f":"IFERROR(IF(LEN(Etapes[[#This Row],[Planned]])=0,\"\",IF(AND($C42=\"MER\",AI$6=$F42,$G42=1),1,IF(AND($C42=\"MEP\",AI$6=$F42,$G42=1),2,IF(AND(AI$6=$F42,$G42=1),0,\"\")))),\"\")","v":""},{"$f":"IFERROR(IF(LEN(Etapes[[#This Row],[Planned]])=0,\"\",IF(AND($C42=\"MER\",AJ$6=$F42,$G42=1),1,IF(AND($C42=\"MEP\",AJ$6=$F42,$G42=1),2,IF(AND(AJ$6=$F42,$G42=1),0,\"\")))),\"\")","v":""},{"$f":"IFERROR(IF(LEN(Etapes[[#This Row],[Planned]])=0,\"\",IF(AND($C42=\"MER\",AK$6=$F42,$G42=1),1,IF(AND($C42=\"MEP\",AK$6=$F42,$G42=1),2,IF(AND(AK$6=$F42,$G42=1),0,\"\")))),\"\")","v":""},{"$f":"IFERROR(IF(LEN(Etapes[[#This Row],[Planned]])=0,\"\",IF(AND($C42=\"MER\",AL$6=$F42,$G42=1),1,IF(AND($C42=\"MEP\",AL$6=$F42,$G42=1),2,IF(AND(AL$6=$F42,$G42=1),0,\"\")))),\"\")","v":""},{"$f":"IFERROR(IF(LEN(Etapes[[#This Row],[Planned]])=0,\"\",IF(AND($C42=\"MER\",AM$6=$F42,$G42=1),1,IF(AND($C42=\"MEP\",AM$6=$F42,$G42=1),2,IF(AND(AM$6=$F42,$G42=1),0,\"\")))),\"\")","v":""},{"$f":"IFERROR(IF(LEN(Etapes[[#This Row],[Planned]])=0,\"\",IF(AND($C42=\"MER\",AN$6=$F42,$G42=1),1,IF(AND($C42=\"MEP\",AN$6=$F42,$G42=1),2,IF(AND(AN$6=$F42,$G42=1),0,\"\")))),\"\")","v":""},{"$f":"IFERROR(IF(LEN(Etapes[[#This Row],[Planned]])=0,\"\",IF(AND($C42=\"MER\",AO$6=$F42,$G42=1),1,IF(AND($C42=\"MEP\",AO$6=$F42,$G42=1),2,IF(AND(AO$6=$F42,$G42=1),0,\"\")))),\"\")","v":""},{"$f":"IFERROR(IF(LEN(Etapes[[#This Row],[Planned]])=0,\"\",IF(AND($C42=\"MER\",AP$6=$F42,$G42=1),1,IF(AND($C42=\"MEP\",AP$6=$F42,$G42=1),2,IF(AND(AP$6=$F42,$G42=1),0,\"\")))),\"\")","v":""},{"$f":"IFERROR(IF(LEN(Etapes[[#This Row],[Planned]])=0,\"\",IF(AND($C42=\"MER\",AQ$6=$F42,$G42=1),1,IF(AND($C42=\"MEP\",AQ$6=$F42,$G42=1),2,IF(AND(AQ$6=$F42,$G42=1),0,\"\")))),\"\")","v":""},{"$f":"IFERROR(IF(LEN(Etapes[[#This Row],[Planned]])=0,\"\",IF(AND($C42=\"MER\",AR$6=$F42,$G42=1),1,IF(AND($C42=\"MEP\",AR$6=$F42,$G42=1),2,IF(AND(AR$6=$F42,$G42=1),0,\"\")))),\"\")","v":""},{"$f":"IFERROR(IF(LEN(Etapes[[#This Row],[Planned]])=0,\"\",IF(AND($C42=\"MER\",AS$6=$F42,$G42=1),1,IF(AND($C42=\"MEP\",AS$6=$F42,$G42=1),2,IF(AND(AS$6=$F42,$G42=1),0,\"\")))),\"\")","v":""},{"$f":"IFERROR(IF(LEN(Etapes[[#This Row],[Planned]])=0,\"\",IF(AND($C42=\"MER\",AT$6=$F42,$G42=1),1,IF(AND($C42=\"MEP\",AT$6=$F42,$G42=1),2,IF(AND(AT$6=$F42,$G42=1),0,\"\")))),\"\")","v":""},{"$f":"IFERROR(IF(LEN(Etapes[[#This Row],[Planned]])=0,\"\",IF(AND($C42=\"MER\",AU$6=$F42,$G42=1),1,IF(AND($C42=\"MEP\",AU$6=$F42,$G42=1),2,IF(AND(AU$6=$F42,$G42=1),0,\"\")))),\"\")","v":""},{"$f":"IFERROR(IF(LEN(Etapes[[#This Row],[Planned]])=0,\"\",IF(AND($C42=\"MER\",AV$6=$F42,$G42=1),1,IF(AND($C42=\"MEP\",AV$6=$F42,$G42=1),2,IF(AND(AV$6=$F42,$G42=1),0,\"\")))),\"\")","v":""},{"$f":"IFERROR(IF(LEN(Etapes[[#This Row],[Planned]])=0,\"\",IF(AND($C42=\"MER\",AW$6=$F42,$G42=1),1,IF(AND($C42=\"MEP\",AW$6=$F42,$G42=1),2,IF(AND(AW$6=$F42,$G42=1),0,\"\")))),\"\")","v":""},{"$f":"IFERROR(IF(LEN(Etapes[[#This Row],[Planned]])=0,\"\",IF(AND($C42=\"MER\",AX$6=$F42,$G42=1),1,IF(AND($C42=\"MEP\",AX$6=$F42,$G42=1),2,IF(AND(AX$6=$F42,$G42=1),0,\"\")))),\"\")","v":""},{"$f":"IFERROR(IF(LEN(Etapes[[#This Row],[Planned]])=0,\"\",IF(AND($C42=\"MER\",AY$6=$F42,$G42=1),1,IF(AND($C42=\"MEP\",AY$6=$F42,$G42=1),2,IF(AND(AY$6=$F42,$G42=1),0,\"\")))),\"\")","v":""},{"$f":"IFERROR(IF(LEN(Etapes[[#This Row],[Planned]])=0,\"\",IF(AND($C42=\"MER\",AZ$6=$F42,$G42=1),1,IF(AND($C42=\"MEP\",AZ$6=$F42,$G42=1),2,IF(AND(AZ$6=$F42,$G42=1),0,\"\")))),\"\")","v":""},{"$f":"IFERROR(IF(LEN(Etapes[[#This Row],[Planned]])=0,\"\",IF(AND($C42=\"MER\",BA$6=$F42,$G42=1),1,IF(AND($C42=\"MEP\",BA$6=$F42,$G42=1),2,IF(AND(BA$6=$F42,$G42=1),0,\"\")))),\"\")","v":""},{"$f":"IFERROR(IF(LEN(Etapes[[#This Row],[Planned]])=0,\"\",IF(AND($C42=\"MER\",BB$6=$F42,$G42=1),1,IF(AND($C42=\"MEP\",BB$6=$F42,$G42=1),2,IF(AND(BB$6=$F42,$G42=1),0,\"\")))),\"\")","v":""},{"$f":"IFERROR(IF(LEN(Etapes[[#This Row],[Planned]])=0,\"\",IF(AND($C42=\"MER\",BC$6=$F42,$G42=1),1,IF(AND($C42=\"MEP\",BC$6=$F42,$G42=1),2,IF(AND(BC$6=$F42,$G42=1),0,\"\")))),\"\")","v":""},{"$f":"IFERROR(IF(LEN(Etapes[[#This Row],[Planned]])=0,\"\",IF(AND($C42=\"MER\",BD$6=$F42,$G42=1),1,IF(AND($C42=\"MEP\",BD$6=$F42,$G42=1),2,IF(AND(BD$6=$F42,$G42=1),0,\"\")))),\"\")","v":""},{"$f":"IFERROR(IF(LEN(Etapes[[#This Row],[Planned]])=0,\"\",IF(AND($C42=\"MER\",BE$6=$F42,$G42=1),1,IF(AND($C42=\"MEP\",BE$6=$F42,$G42=1),2,IF(AND(BE$6=$F42,$G42=1),0,\"\")))),\"\")","v":""},{"$f":"IFERROR(IF(LEN(Etapes[[#This Row],[Planned]])=0,\"\",IF(AND($C42=\"MER\",BF$6=$F42,$G42=1),1,IF(AND($C42=\"MEP\",BF$6=$F42,$G42=1),2,IF(AND(BF$6=$F42,$G42=1),0,\"\")))),\"\")","v":""},{"$f":"IFERROR(IF(LEN(Etapes[[#This Row],[Planned]])=0,\"\",IF(AND($C42=\"MER\",BG$6=$F42,$G42=1),1,IF(AND($C42=\"MEP\",BG$6=$F42,$G42=1),2,IF(AND(BG$6=$F42,$G42=1),0,\"\")))),\"\")","v":""},{"$f":"IFERROR(IF(LEN(Etapes[[#This Row],[Planned]])=0,\"\",IF(AND($C42=\"MER\",BH$6=$F42,$G42=1),1,IF(AND($C42=\"MEP\",BH$6=$F42,$G42=1),2,IF(AND(BH$6=$F42,$G42=1),0,\"\")))),\"\")","v":""},{"$f":"IFERROR(IF(LEN(Etapes[[#This Row],[Planned]])=0,\"\",IF(AND($C42=\"MER\",BI$6=$F42,$G42=1),1,IF(AND($C42=\"MEP\",BI$6=$F42,$G42=1),2,IF(AND(BI$6=$F42,$G42=1),0,\"\")))),\"\")","v":""},{"$f":"IFERROR(IF(LEN(Etapes[[#This Row],[Planned]])=0,\"\",IF(AND($C42=\"MER\",BJ$6=$F42,$G42=1),1,IF(AND($C42=\"MEP\",BJ$6=$F42,$G42=1),2,IF(AND(BJ$6=$F42,$G42=1),0,\"\")))),\"\")","v":""},{"$f":"IFERROR(IF(LEN(Etapes[[#This Row],[Planned]])=0,\"\",IF(AND($C42=\"MER\",BK$6=$F42,$G42=1),1,IF(AND($C42=\"MEP\",BK$6=$F42,$G42=1),2,IF(AND(BK$6=$F42,$G42=1),0,\"\")))),\"\")","v":""},{"$f":"IFERROR(IF(LEN(Etapes[[#This Row],[Planned]])=0,\"\",IF(AND($C42=\"MER\",BL$6=$F42,$G42=1),1,IF(AND($C42=\"MEP\",BL$6=$F42,$G42=1),2,IF(AND(BL$6=$F42,$G42=1),0,\"\")))),\"\")","v":""},{"$f":"IFERROR(IF(LEN(Etapes[[#This Row],[Planned]])=0,\"\",IF(AND($C42=\"MER\",BM$6=$F42,$G42=1),1,IF(AND($C42=\"MEP\",BM$6=$F42,$G42=1),2,IF(AND(BM$6=$F42,$G42=1),0,\"\")))),\"\")","v":""},{"$f":"IFERROR(IF(LEN(Etapes[[#This Row],[Planned]])=0,\"\",IF(AND($C42=\"MER\",BN$6=$F42,$G42=1),1,IF(AND($C42=\"MEP\",BN$6=$F42,$G42=1),2,IF(AND(BN$6=$F42,$G42=1),0,\"\")))),\"\")","v":""},{"$f":"IFERROR(IF(LEN(Etapes[[#This Row],[Planned]])=0,\"\",IF(AND($C42=\"MER\",BO$6=$F42,$G42=1),1,IF(AND($C42=\"MEP\",BO$6=$F42,$G42=1),2,IF(AND(BO$6=$F42,$G42=1),0,\"\")))),\"\")","v":""},{"$f":"IFERROR(IF(LEN(Etapes[[#This Row],[Add]])=0,\"\",IF(AND($C42=\"MER\",BP$6=$F42,$G42=1),1,IF(AND($C42=\"MEP\",BP$6=$F42,$G42=1),2,IF(AND(BP$6=$F42,$G42=1),0,\"\")))),\"\")","v":""},{"$f":"IFERROR(IF(LEN(Etapes[[#This Row],[End]])=0,\"\",IF(AND($C42=\"MER\",BQ$6=$F42,$G42=1),1,IF(AND($C42=\"MEP\",BQ$6=$F42,$G42=1),2,IF(AND(BQ$6=$F42,$G42=1),0,\"\")))),\"\")","v":""},{"$f":"IFERROR(IF(LEN(Etapes[[#This Row],[Réalisé]])=0,\"\",IF(AND($C42=\"MER\",BR$6=$F42,$G42=1),1,IF(AND($C42=\"MEP\",BR$6=$F42,$G42=1),2,IF(AND(BR$6=$F42,$G42=1),0,\"\")))),\"\")","v":""},{"$f":"IFERROR(IF(LEN(Etapes[[#This Row],[Activité]])=0,\"\",IF(AND($C42=\"MER\",BS$6=$F42,$G42=1),1,IF(AND($C42=\"MEP\",BS$6=$F42,$G42=1),2,IF(AND(BS$6=$F42,$G42=1),0,\"\")))),\"\")","v":""},{"$f":"IFERROR(IF(LEN(Etapes[[#This Row],[Statut]])=0,\"\",IF(AND($C42=\"MER\",BT$6=$F42,$G42=1),1,IF(AND($C42=\"MEP\",BT$6=$F42,$G42=1),2,IF(AND(BT$6=$F42,$G42=1),0,\"\")))),\"\")","v":""},{"$f":"IFERROR(IF(LEN(Etapes[[#This Row],[Progress]])=0,\"\",IF(AND($C42=\"MER\",BU$6=$F42,$G42=1),1,IF(AND($C42=\"MEP\",BU$6=$F42,$G42=1),2,IF(AND(BU$6=$F42,$G42=1),0,\"\")))),\"\")","v":""},{"$f":"IFERROR(IF(LEN(Etapes[[#This Row],[Start]])=0,\"\",IF(AND($C42=\"MER\",BV$6=$F42,$G42=1),1,IF(AND($C42=\"MEP\",BV$6=$F42,$G42=1),2,IF(AND(BV$6=$F42,$G42=1),0,\"\")))),\"\")","v":""},{"$f":"IFERROR(IF(LEN(Etapes[[#This Row],[Planned]])=0,\"\",IF(AND($C42=\"MER\",BW$6=$F42,$G42=1),1,IF(AND($C42=\"MEP\",BW$6=$F42,$G42=1),2,IF(AND(BW$6=$F42,$G42=1),0,\"\")))),\"\")","v":""},{"$f":"IFERROR(IF(LEN(Etapes[[#This Row],[Add]])=0,\"\",IF(AND($C42=\"MER\",BX$6=$F42,$G42=1),1,IF(AND($C42=\"MEP\",BX$6=$F42,$G42=1),2,IF(AND(BX$6=$F42,$G42=1),0,\"\")))),\"\")","v":""},{"$f":"IFERROR(IF(LEN(Etapes[[#This Row],[End]])=0,\"\",IF(AND($C42=\"MER\",BY$6=$F42,$G42=1),1,IF(AND($C42=\"MEP\",BY$6=$F42,$G42=1),2,IF(AND(BY$6=$F42,$G42=1),0,\"\")))),\"\")","v":""},{"$f":"IFERROR(IF(LEN(Etapes[[#This Row],[Réalisé]])=0,\"\",IF(AND($C42=\"MER\",BZ$6=$F42,$G42=1),1,IF(AND($C42=\"MEP\",BZ$6=$F42,$G42=1),2,IF(AND(BZ$6=$F42,$G42=1),0,\"\")))),\"\")","v":""},{"$f":"IFERROR(IF(LEN(Etapes[[#This Row],[Activité]])=0,\"\",IF(AND($C42=\"MER\",CA$6=$F42,$G42=1),1,IF(AND($C42=\"MEP\",CA$6=$F42,$G42=1),2,IF(AND(CA$6=$F42,$G42=1),0,\"\")))),\"\")","v":""},{"$f":"IFERROR(IF(LEN(Etapes[[#This Row],[Statut]])=0,\"\",IF(AND($C42=\"MER\",CB$6=$F42,$G42=1),1,IF(AND($C42=\"MEP\",CB$6=$F42,$G42=1),2,IF(AND(CB$6=$F42,$G42=1),0,\"\")))),\"\")","v":""},{"$f":"IFERROR(IF(LEN(Etapes[[#This Row],[Progress]])=0,\"\",IF(AND($C42=\"MER\",CC$6=$F42,$G42=1),1,IF(AND($C42=\"MEP\",CC$6=$F42,$G42=1),2,IF(AND(CC$6=$F42,$G42=1),0,\"\")))),\"\")","v":""},{"$f":"IFERROR(IF(LEN(Etapes[[#This Row],[Start]])=0,\"\",IF(AND($C42=\"MER\",CD$6=$F42,$G42=1),1,IF(AND($C42=\"MEP\",CD$6=$F42,$G42=1),2,IF(AND(CD$6=$F42,$G42=1),0,\"\")))),\"\")","v":""},{"$f":"IFERROR(IF(LEN(Etapes[[#This Row],[Planned]])=0,\"\",IF(AND($C42=\"MER\",CE$6=$F42,$G42=1),1,IF(AND($C42=\"MEP\",CE$6=$F42,$G42=1),2,IF(AND(CE$6=$F42,$G42=1),0,\"\")))),\"\")","v":""},{"$f":"IFERROR(IF(LEN(Etapes[[#This Row],[Add]])=0,\"\",IF(AND($C42=\"MER\",CF$6=$F42,$G42=1),1,IF(AND($C42=\"MEP\",CF$6=$F42,$G42=1),2,IF(AND(CF$6=$F42,$G42=1),0,\"\")))),\"\")","v":""},{"$f":"IFERROR(IF(LEN(Etapes[[#This Row],[End]])=0,\"\",IF(AND($C42=\"MER\",CG$6=$F42,$G42=1),1,IF(AND($C42=\"MEP\",CG$6=$F42,$G42=1),2,IF(AND(CG$6=$F42,$G42=1),0,\"\")))),\"\")","v":""},{"$f":"IFERROR(IF(LEN(Etapes[[#This Row],[Réalisé]])=0,\"\",IF(AND($C42=\"MER\",CH$6=$F42,$G42=1),1,IF(AND($C42=\"MEP\",CH$6=$F42,$G42=1),2,IF(AND(CH$6=$F42,$G42=1),0,\"\")))),\"\")","v":""},{"$f":"IFERROR(IF(LEN(Etapes[[#This Row],[Activité]])=0,\"\",IF(AND($C42=\"MER\",CI$6=$F42,$G42=1),1,IF(AND($C42=\"MEP\",CI$6=$F42,$G42=1),2,IF(AND(CI$6=$F42,$G42=1),0,\"\")))),\"\")","v":""},{"$f":"IFERROR(IF(LEN(Etapes[[#This Row],[Statut]])=0,\"\",IF(AND($C42=\"MER\",CJ$6=$F42,$G42=1),1,IF(AND($C42=\"MEP\",CJ$6=$F42,$G42=1),2,IF(AND(CJ$6=$F42,$G42=1),0,\"\")))),\"\")","v":""},{"$f":"IFERROR(IF(LEN(Etapes[[#This Row],[Progress]])=0,\"\",IF(AND($C42=\"MER\",CK$6=$F42,$G42=1),1,IF(AND($C42=\"MEP\",CK$6=$F42,$G42=1),2,IF(AND(CK$6=$F42,$G42=1),0,\"\")))),\"\")","v":""},{"$f":"IFERROR(IF(LEN(Etapes[[#This Row],[Start]])=0,\"\",IF(AND($C42=\"MER\",CL$6=$F42,$G42=1),1,IF(AND($C42=\"MEP\",CL$6=$F42,$G42=1),2,IF(AND(CL$6=$F42,$G42=1),0,\"\")))),\"\")","v":""},{"$f":"IFERROR(IF(LEN(Etapes[[#This Row],[Planned]])=0,\"\",IF(AND($C42=\"MER\",CM$6=$F42,$G42=1),1,IF(AND($C42=\"MEP\",CM$6=$F42,$G42=1),2,IF(AND(CM$6=$F42,$G42=1),0,\"\")))),\"\")","v":""},{"$f":"IFERROR(IF(LEN(Etapes[[#This Row],[Add]])=0,\"\",IF(AND($C42=\"MER\",CN$6=$F42,$G42=1),1,IF(AND($C42=\"MEP\",CN$6=$F42,$G42=1),2,IF(AND(CN$6=$F42,$G42=1),0,\"\")))),\"\")","v":""},{"$f":"IFERROR(IF(LEN(Etapes[[#This Row],[End]])=0,\"\",IF(AND($C42=\"MER\",CO$6=$F42,$G42=1),1,IF(AND($C42=\"MEP\",CO$6=$F42,$G42=1),2,IF(AND(CO$6=$F42,$G42=1),0,\"\")))),\"\")","v":""},{"$f":"IFERROR(IF(LEN(Etapes[[#This Row],[Réalisé]])=0,\"\",IF(AND($C42=\"MER\",CP$6=$F42,$G42=1),1,IF(AND($C42=\"MEP\",CP$6=$F42,$G42=1),2,IF(AND(CP$6=$F42,$G42=1),0,\"\")))),\"\")","v":""},{"$f":"IFERROR(IF(LEN(Etapes[[#This Row],[Activité]])=0,\"\",IF(AND($C42=\"MER\",CQ$6=$F42,$G42=1),1,IF(AND($C42=\"MEP\",CQ$6=$F42,$G42=1),2,IF(AND(CQ$6=$F42,$G42=1),0,\"\")))),\"\")","v":""},{"$f":"IFERROR(IF(LEN(Etapes[[#This Row],[Statut]])=0,\"\",IF(AND($C42=\"MER\",CR$6=$F42,$G42=1),1,IF(AND($C42=\"MEP\",CR$6=$F42,$G42=1),2,IF(AND(CR$6=$F42,$G42=1),0,\"\")))),\"\")","v":""},{"$f":"IFERROR(IF(LEN(Etapes[[#This Row],[Progress]])=0,\"\",IF(AND($C42=\"MER\",CS$6=$F42,$G42=1),1,IF(AND($C42=\"MEP\",CS$6=$F42,$G42=1),2,IF(AND(CS$6=$F42,$G42=1),0,\"\")))),\"\")","v":""},{"$f":"IFERROR(IF(LEN(Etapes[[#This Row],[Start]])=0,\"\",IF(AND($C42=\"MER\",CT$6=$F42,$G42=1),1,IF(AND($C42=\"MEP\",CT$6=$F42,$G42=1),2,IF(AND(CT$6=$F42,$G42=1),0,\"\")))),\"\")","v":""},{"$f":"IFERROR(IF(LEN(Etapes[[#This Row],[Planned]])=0,\"\",IF(AND($C42=\"MER\",CU$6=$F42,$G42=1),1,IF(AND($C42=\"MEP\",CU$6=$F42,$G42=1),2,IF(AND(CU$6=$F42,$G42=1),0,\"\")))),\"\")","v":""},{"$f":"IFERROR(IF(LEN(Etapes[[#This Row],[Add]])=0,\"\",IF(AND($C42=\"MER\",CV$6=$F42,$G42=1),1,IF(AND($C42=\"MEP\",CV$6=$F42,$G42=1),2,IF(AND(CV$6=$F42,$G42=1),0,\"\")))),\"\")","v":""},{"$f":"IFERROR(IF(LEN(Etapes[[#This Row],[End]])=0,\"\",IF(AND($C42=\"MER\",CW$6=$F42,$G42=1),1,IF(AND($C42=\"MEP\",CW$6=$F42,$G42=1),2,IF(AND(CW$6=$F42,$G42=1),0,\"\")))),\"\")","v":""}]
["7.3","Préparation RE7 ",null,null,null,"2022-08-03",null,null,{"$f":"IF(Etapes[[#This Row],[Start]]<>\"\",WORKDAY(Etapes[[#This Row],[Start]],IF(WEEKDAY(Etapes[[#This Row],[Start]],1)>=6,Etapes[[#This Row],[Planned]]+Etapes[[#This Row],[Add]],Etapes[[#This Row],[Planned]]+Etapes[[#This Row],[Add]]-1),Férié),\"\")","v":"2022-08-02"},{"$f":"IF(Etapes[[#This Row],[Start]]<>\"\",WORKDAY(Etapes[[#This Row],[Start]],IF(WEEKDAY(Etapes[[#This Row],[Start]],1)>=6,Etapes[[#This Row],[Progress]]*Etapes[[#This Row],[Planned]]+Etapes[[#This Row],[Add]],(Etapes[[#This Row],[Progress]]*Etapes[[#This Row],[Planned]]+Etapes[[#This Row],[Add]])-1),Férié),\"\")","v":"2022-08-02"},null,{"$f":"IFERROR(IF(LEN(Etapes[[#This Row],[Planned]])=0,\"\",IF(AND($C43=\"MER\",L$6=$F43,$G43=1),1,IF(AND($C43=\"MEP\",L$6=$F43,$G43=1),2,IF(AND(L$6=$F43,$G43=1),0,\"\")))),\"\")","v":""},{"$f":"IFERROR(IF(LEN(Etapes[[#This Row],[Planned]])=0,\"\",IF(AND($C43=\"MER\",M$6=$F43,$G43=1),1,IF(AND($C43=\"MEP\",M$6=$F43,$G43=1),2,IF(AND(M$6=$F43,$G43=1),0,\"\")))),\"\")","v":""},{"$f":"IFERROR(IF(LEN(Etapes[[#This Row],[Planned]])=0,\"\",IF(AND($C43=\"MER\",N$6=$F43,$G43=1),1,IF(AND($C43=\"MEP\",N$6=$F43,$G43=1),2,IF(AND(N$6=$F43,$G43=1),0,\"\")))),\"\")","v":""},{"$f":"IFERROR(IF(LEN(Etapes[[#This Row],[Planned]])=0,\"\",IF(AND($C43=\"MER\",O$6=$F43,$G43=1),1,IF(AND($C43=\"MEP\",O$6=$F43,$G43=1),2,IF(AND(O$6=$F43,$G43=1),0,\"\")))),\"\")","v":""},{"$f":"IFERROR(IF(LEN(Etapes[[#This Row],[Planned]])=0,\"\",IF(AND($C43=\"MER\",P$6=$F43,$G43=1),1,IF(AND($C43=\"MEP\",P$6=$F43,$G43=1),2,IF(AND(P$6=$F43,$G43=1),0,\"\")))),\"\")","v":""},{"$f":"IFERROR(IF(LEN(Etapes[[#This Row],[Planned]])=0,\"\",IF(AND($C43=\"MER\",Q$6=$F43,$G43=1),1,IF(AND($C43=\"MEP\",Q$6=$F43,$G43=1),2,IF(AND(Q$6=$F43,$G43=1),0,\"\")))),\"\")","v":""},{"$f":"IFERROR(IF(LEN(Etapes[[#This Row],[Planned]])=0,\"\",IF(AND($C43=\"MER\",R$6=$F43,$G43=1),1,IF(AND($C43=\"MEP\",R$6=$F43,$G43=1),2,IF(AND(R$6=$F43,$G43=1),0,\"\")))),\"\")","v":""},{"$f":"IFERROR(IF(LEN(Etapes[[#This Row],[Planned]])=0,\"\",IF(AND($C43=\"MER\",S$6=$F43,$G43=1),1,IF(AND($C43=\"MEP\",S$6=$F43,$G43=1),2,IF(AND(S$6=$F43,$G43=1),0,\"\")))),\"\")","v":""},{"$f":"IFERROR(IF(LEN(Etapes[[#This Row],[Planned]])=0,\"\",IF(AND($C43=\"MER\",T$6=$F43,$G43=1),1,IF(AND($C43=\"MEP\",T$6=$F43,$G43=1),2,IF(AND(T$6=$F43,$G43=1),0,\"\")))),\"\")","v":""},{"$f":"IFERROR(IF(LEN(Etapes[[#This Row],[Planned]])=0,\"\",IF(AND($C43=\"MER\",U$6=$F43,$G43=1),1,IF(AND($C43=\"MEP\",U$6=$F43,$G43=1),2,IF(AND(U$6=$F43,$G43=1),0,\"\")))),\"\")","v":""},{"$f":"IFERROR(IF(LEN(Etapes[[#This Row],[Planned]])=0,\"\",IF(AND($C43=\"MER\",V$6=$F43,$G43=1),1,IF(AND($C43=\"MEP\",V$6=$F43,$G43=1),2,IF(AND(V$6=$F43,$G43=1),0,\"\")))),\"\")","v":""},{"$f":"IFERROR(IF(LEN(Etapes[[#This Row],[Planned]])=0,\"\",IF(AND($C43=\"MER\",W$6=$F43,$G43=1),1,IF(AND($C43=\"MEP\",W$6=$F43,$G43=1),2,IF(AND(W$6=$F43,$G43=1),0,\"\")))),\"\")","v":""},{"$f":"IFERROR(IF(LEN(Etapes[[#This Row],[Planned]])=0,\"\",IF(AND($C43=\"MER\",X$6=$F43,$G43=1),1,IF(AND($C43=\"MEP\",X$6=$F43,$G43=1),2,IF(AND(X$6=$F43,$G43=1),0,\"\")))),\"\")","v":""},{"$f":"IFERROR(IF(LEN(Etapes[[#This Row],[Planned]])=0,\"\",IF(AND($C43=\"MER\",Y$6=$F43,$G43=1),1,IF(AND($C43=\"MEP\",Y$6=$F43,$G43=1),2,IF(AND(Y$6=$F43,$G43=1),0,\"\")))),\"\")","v":""},{"$f":"IFERROR(IF(LEN(Etapes[[#This Row],[Planned]])=0,\"\",IF(AND($C43=\"MER\",Z$6=$F43,$G43=1),1,IF(AND($C43=\"MEP\",Z$6=$F43,$G43=1),2,IF(AND(Z$6=$F43,$G43=1),0,\"\")))),\"\")","v":""},{"$f":"IFERROR(IF(LEN(Etapes[[#This Row],[Planned]])=0,\"\",IF(AND($C43=\"MER\",AA$6=$F43,$G43=1),1,IF(AND($C43=\"MEP\",AA$6=$F43,$G43=1),2,IF(AND(AA$6=$F43,$G43=1),0,\"\")))),\"\")","v":""},{"$f":"IFERROR(IF(LEN(Etapes[[#This Row],[Planned]])=0,\"\",IF(AND($C43=\"MER\",AB$6=$F43,$G43=1),1,IF(AND($C43=\"MEP\",AB$6=$F43,$G43=1),2,IF(AND(AB$6=$F43,$G43=1),0,\"\")))),\"\")","v":""},{"$f":"IFERROR(IF(LEN(Etapes[[#This Row],[Planned]])=0,\"\",IF(AND($C43=\"MER\",AC$6=$F43,$G43=1),1,IF(AND($C43=\"MEP\",AC$6=$F43,$G43=1),2,IF(AND(AC$6=$F43,$G43=1),0,\"\")))),\"\")","v":""},{"$f":"IFERROR(IF(LEN(Etapes[[#This Row],[Planned]])=0,\"\",IF(AND($C43=\"MER\",AD$6=$F43,$G43=1),1,IF(AND($C43=\"MEP\",AD$6=$F43,$G43=1),2,IF(AND(AD$6=$F43,$G43=1),0,\"\")))),\"\")","v":""},{"$f":"IFERROR(IF(LEN(Etapes[[#This Row],[Planned]])=0,\"\",IF(AND($C43=\"MER\",AE$6=$F43,$G43=1),1,IF(AND($C43=\"MEP\",AE$6=$F43,$G43=1),2,IF(AND(AE$6=$F43,$G43=1),0,\"\")))),\"\")","v":""},{"$f":"IFERROR(IF(LEN(Etapes[[#This Row],[Planned]])=0,\"\",IF(AND($C43=\"MER\",AF$6=$F43,$G43=1),1,IF(AND($C43=\"MEP\",AF$6=$F43,$G43=1),2,IF(AND(AF$6=$F43,$G43=1),0,\"\")))),\"\")","v":""},{"$f":"IFERROR(IF(LEN(Etapes[[#This Row],[Planned]])=0,\"\",IF(AND($C43=\"MER\",AG$6=$F43,$G43=1),1,IF(AND($C43=\"MEP\",AG$6=$F43,$G43=1),2,IF(AND(AG$6=$F43,$G43=1),0,\"\")))),\"\")","v":""},{"$f":"IFERROR(IF(LEN(Etapes[[#This Row],[Planned]])=0,\"\",IF(AND($C43=\"MER\",AH$6=$F43,$G43=1),1,IF(AND($C43=\"MEP\",AH$6=$F43,$G43=1),2,IF(AND(AH$6=$F43,$G43=1),0,\"\")))),\"\")","v":""},{"$f":"IFERROR(IF(LEN(Etapes[[#This Row],[Planned]])=0,\"\",IF(AND($C43=\"MER\",AI$6=$F43,$G43=1),1,IF(AND($C43=\"MEP\",AI$6=$F43,$G43=1),2,IF(AND(AI$6=$F43,$G43=1),0,\"\")))),\"\")","v":""},{"$f":"IFERROR(IF(LEN(Etapes[[#This Row],[Planned]])=0,\"\",IF(AND($C43=\"MER\",AJ$6=$F43,$G43=1),1,IF(AND($C43=\"MEP\",AJ$6=$F43,$G43=1),2,IF(AND(AJ$6=$F43,$G43=1),0,\"\")))),\"\")","v":""},{"$f":"IFERROR(IF(LEN(Etapes[[#This Row],[Planned]])=0,\"\",IF(AND($C43=\"MER\",AK$6=$F43,$G43=1),1,IF(AND($C43=\"MEP\",AK$6=$F43,$G43=1),2,IF(AND(AK$6=$F43,$G43=1),0,\"\")))),\"\")","v":""},{"$f":"IFERROR(IF(LEN(Etapes[[#This Row],[Planned]])=0,\"\",IF(AND($C43=\"MER\",AL$6=$F43,$G43=1),1,IF(AND($C43=\"MEP\",AL$6=$F43,$G43=1),2,IF(AND(AL$6=$F43,$G43=1),0,\"\")))),\"\")","v":""},{"$f":"IFERROR(IF(LEN(Etapes[[#This Row],[Planned]])=0,\"\",IF(AND($C43=\"MER\",AM$6=$F43,$G43=1),1,IF(AND($C43=\"MEP\",AM$6=$F43,$G43=1),2,IF(AND(AM$6=$F43,$G43=1),0,\"\")))),\"\")","v":""},{"$f":"IFERROR(IF(LEN(Etapes[[#This Row],[Planned]])=0,\"\",IF(AND($C43=\"MER\",AN$6=$F43,$G43=1),1,IF(AND($C43=\"MEP\",AN$6=$F43,$G43=1),2,IF(AND(AN$6=$F43,$G43=1),0,\"\")))),\"\")","v":""},{"$f":"IFERROR(IF(LEN(Etapes[[#This Row],[Planned]])=0,\"\",IF(AND($C43=\"MER\",AO$6=$F43,$G43=1),1,IF(AND($C43=\"MEP\",AO$6=$F43,$G43=1),2,IF(AND(AO$6=$F43,$G43=1),0,\"\")))),\"\")","v":""},{"$f":"IFERROR(IF(LEN(Etapes[[#This Row],[Planned]])=0,\"\",IF(AND($C43=\"MER\",AP$6=$F43,$G43=1),1,IF(AND($C43=\"MEP\",AP$6=$F43,$G43=1),2,IF(AND(AP$6=$F43,$G43=1),0,\"\")))),\"\")","v":""},{"$f":"IFERROR(IF(LEN(Etapes[[#This Row],[Planned]])=0,\"\",IF(AND($C43=\"MER\",AQ$6=$F43,$G43=1),1,IF(AND($C43=\"MEP\",AQ$6=$F43,$G43=1),2,IF(AND(AQ$6=$F43,$G43=1),0,\"\")))),\"\")","v":""},{"$f":"IFERROR(IF(LEN(Etapes[[#This Row],[Planned]])=0,\"\",IF(AND($C43=\"MER\",AR$6=$F43,$G43=1),1,IF(AND($C43=\"MEP\",AR$6=$F43,$G43=1),2,IF(AND(AR$6=$F43,$G43=1),0,\"\")))),\"\")","v":""},{"$f":"IFERROR(IF(LEN(Etapes[[#This Row],[Planned]])=0,\"\",IF(AND($C43=\"MER\",AS$6=$F43,$G43=1),1,IF(AND($C43=\"MEP\",AS$6=$F43,$G43=1),2,IF(AND(AS$6=$F43,$G43=1),0,\"\")))),\"\")","v":""},{"$f":"IFERROR(IF(LEN(Etapes[[#This Row],[Planned]])=0,\"\",IF(AND($C43=\"MER\",AT$6=$F43,$G43=1),1,IF(AND($C43=\"MEP\",AT$6=$F43,$G43=1),2,IF(AND(AT$6=$F43,$G43=1),0,\"\")))),\"\")","v":""},{"$f":"IFERROR(IF(LEN(Etapes[[#This Row],[Planned]])=0,\"\",IF(AND($C43=\"MER\",AU$6=$F43,$G43=1),1,IF(AND($C43=\"MEP\",AU$6=$F43,$G43=1),2,IF(AND(AU$6=$F43,$G43=1),0,\"\")))),\"\")","v":""},{"$f":"IFERROR(IF(LEN(Etapes[[#This Row],[Planned]])=0,\"\",IF(AND($C43=\"MER\",AV$6=$F43,$G43=1),1,IF(AND($C43=\"MEP\",AV$6=$F43,$G43=1),2,IF(AND(AV$6=$F43,$G43=1),0,\"\")))),\"\")","v":""},{"$f":"IFERROR(IF(LEN(Etapes[[#This Row],[Planned]])=0,\"\",IF(AND($C43=\"MER\",AW$6=$F43,$G43=1),1,IF(AND($C43=\"MEP\",AW$6=$F43,$G43=1),2,IF(AND(AW$6=$F43,$G43=1),0,\"\")))),\"\")","v":""},{"$f":"IFERROR(IF(LEN(Etapes[[#This Row],[Planned]])=0,\"\",IF(AND($C43=\"MER\",AX$6=$F43,$G43=1),1,IF(AND($C43=\"MEP\",AX$6=$F43,$G43=1),2,IF(AND(AX$6=$F43,$G43=1),0,\"\")))),\"\")","v":""},{"$f":"IFERROR(IF(LEN(Etapes[[#This Row],[Planned]])=0,\"\",IF(AND($C43=\"MER\",AY$6=$F43,$G43=1),1,IF(AND($C43=\"MEP\",AY$6=$F43,$G43=1),2,IF(AND(AY$6=$F43,$G43=1),0,\"\")))),\"\")","v":""},{"$f":"IFERROR(IF(LEN(Etapes[[#This Row],[Planned]])=0,\"\",IF(AND($C43=\"MER\",AZ$6=$F43,$G43=1),1,IF(AND($C43=\"MEP\",AZ$6=$F43,$G43=1),2,IF(AND(AZ$6=$F43,$G43=1),0,\"\")))),\"\")","v":""},{"$f":"IFERROR(IF(LEN(Etapes[[#This Row],[Planned]])=0,\"\",IF(AND($C43=\"MER\",BA$6=$F43,$G43=1),1,IF(AND($C43=\"MEP\",BA$6=$F43,$G43=1),2,IF(AND(BA$6=$F43,$G43=1),0,\"\")))),\"\")","v":""},{"$f":"IFERROR(IF(LEN(Etapes[[#This Row],[Planned]])=0,\"\",IF(AND($C43=\"MER\",BB$6=$F43,$G43=1),1,IF(AND($C43=\"MEP\",BB$6=$F43,$G43=1),2,IF(AND(BB$6=$F43,$G43=1),0,\"\")))),\"\")","v":""},{"$f":"IFERROR(IF(LEN(Etapes[[#This Row],[Planned]])=0,\"\",IF(AND($C43=\"MER\",BC$6=$F43,$G43=1),1,IF(AND($C43=\"MEP\",BC$6=$F43,$G43=1),2,IF(AND(BC$6=$F43,$G43=1),0,\"\")))),\"\")","v":""},{"$f":"IFERROR(IF(LEN(Etapes[[#This Row],[Planned]])=0,\"\",IF(AND($C43=\"MER\",BD$6=$F43,$G43=1),1,IF(AND($C43=\"MEP\",BD$6=$F43,$G43=1),2,IF(AND(BD$6=$F43,$G43=1),0,\"\")))),\"\")","v":""},{"$f":"IFERROR(IF(LEN(Etapes[[#This Row],[Planned]])=0,\"\",IF(AND($C43=\"MER\",BE$6=$F43,$G43=1),1,IF(AND($C43=\"MEP\",BE$6=$F43,$G43=1),2,IF(AND(BE$6=$F43,$G43=1),0,\"\")))),\"\")","v":""},{"$f":"IFERROR(IF(LEN(Etapes[[#This Row],[Planned]])=0,\"\",IF(AND($C43=\"MER\",BF$6=$F43,$G43=1),1,IF(AND($C43=\"MEP\",BF$6=$F43,$G43=1),2,IF(AND(BF$6=$F43,$G43=1),0,\"\")))),\"\")","v":""},{"$f":"IFERROR(IF(LEN(Etapes[[#This Row],[Planned]])=0,\"\",IF(AND($C43=\"MER\",BG$6=$F43,$G43=1),1,IF(AND($C43=\"MEP\",BG$6=$F43,$G43=1),2,IF(AND(BG$6=$F43,$G43=1),0,\"\")))),\"\")","v":""},{"$f":"IFERROR(IF(LEN(Etapes[[#This Row],[Planned]])=0,\"\",IF(AND($C43=\"MER\",BH$6=$F43,$G43=1),1,IF(AND($C43=\"MEP\",BH$6=$F43,$G43=1),2,IF(AND(BH$6=$F43,$G43=1),0,\"\")))),\"\")","v":""},{"$f":"IFERROR(IF(LEN(Etapes[[#This Row],[Planned]])=0,\"\",IF(AND($C43=\"MER\",BI$6=$F43,$G43=1),1,IF(AND($C43=\"MEP\",BI$6=$F43,$G43=1),2,IF(AND(BI$6=$F43,$G43=1),0,\"\")))),\"\")","v":""},{"$f":"IFERROR(IF(LEN(Etapes[[#This Row],[Planned]])=0,\"\",IF(AND($C43=\"MER\",BJ$6=$F43,$G43=1),1,IF(AND($C43=\"MEP\",BJ$6=$F43,$G43=1),2,IF(AND(BJ$6=$F43,$G43=1),0,\"\")))),\"\")","v":""},{"$f":"IFERROR(IF(LEN(Etapes[[#This Row],[Planned]])=0,\"\",IF(AND($C43=\"MER\",BK$6=$F43,$G43=1),1,IF(AND($C43=\"MEP\",BK$6=$F43,$G43=1),2,IF(AND(BK$6=$F43,$G43=1),0,\"\")))),\"\")","v":""},{"$f":"IFERROR(IF(LEN(Etapes[[#This Row],[Planned]])=0,\"\",IF(AND($C43=\"MER\",BL$6=$F43,$G43=1),1,IF(AND($C43=\"MEP\",BL$6=$F43,$G43=1),2,IF(AND(BL$6=$F43,$G43=1),0,\"\")))),\"\")","v":""},{"$f":"IFERROR(IF(LEN(Etapes[[#This Row],[Planned]])=0,\"\",IF(AND($C43=\"MER\",BM$6=$F43,$G43=1),1,IF(AND($C43=\"MEP\",BM$6=$F43,$G43=1),2,IF(AND(BM$6=$F43,$G43=1),0,\"\")))),\"\")","v":""},{"$f":"IFERROR(IF(LEN(Etapes[[#This Row],[Planned]])=0,\"\",IF(AND($C43=\"MER\",BN$6=$F43,$G43=1),1,IF(AND($C43=\"MEP\",BN$6=$F43,$G43=1),2,IF(AND(BN$6=$F43,$G43=1),0,\"\")))),\"\")","v":""},{"$f":"IFERROR(IF(LEN(Etapes[[#This Row],[Planned]])=0,\"\",IF(AND($C43=\"MER\",BO$6=$F43,$G43=1),1,IF(AND($C43=\"MEP\",BO$6=$F43,$G43=1),2,IF(AND(BO$6=$F43,$G43=1),0,\"\")))),\"\")","v":""},{"$f":"IFERROR(IF(LEN(Etapes[[#This Row],[Add]])=0,\"\",IF(AND($C43=\"MER\",BP$6=$F43,$G43=1),1,IF(AND($C43=\"MEP\",BP$6=$F43,$G43=1),2,IF(AND(BP$6=$F43,$G43=1),0,\"\")))),\"\")","v":""},{"$f":"IFERROR(IF(LEN(Etapes[[#This Row],[End]])=0,\"\",IF(AND($C43=\"MER\",BQ$6=$F43,$G43=1),1,IF(AND($C43=\"MEP\",BQ$6=$F43,$G43=1),2,IF(AND(BQ$6=$F43,$G43=1),0,\"\")))),\"\")","v":""},{"$f":"IFERROR(IF(LEN(Etapes[[#This Row],[Réalisé]])=0,\"\",IF(AND($C43=\"MER\",BR$6=$F43,$G43=1),1,IF(AND($C43=\"MEP\",BR$6=$F43,$G43=1),2,IF(AND(BR$6=$F43,$G43=1),0,\"\")))),\"\")","v":""},{"$f":"IFERROR(IF(LEN(Etapes[[#This Row],[Activité]])=0,\"\",IF(AND($C43=\"MER\",BS$6=$F43,$G43=1),1,IF(AND($C43=\"MEP\",BS$6=$F43,$G43=1),2,IF(AND(BS$6=$F43,$G43=1),0,\"\")))),\"\")","v":""},{"$f":"IFERROR(IF(LEN(Etapes[[#This Row],[Statut]])=0,\"\",IF(AND($C43=\"MER\",BT$6=$F43,$G43=1),1,IF(AND($C43=\"MEP\",BT$6=$F43,$G43=1),2,IF(AND(BT$6=$F43,$G43=1),0,\"\")))),\"\")","v":""},{"$f":"IFERROR(IF(LEN(Etapes[[#This Row],[Progress]])=0,\"\",IF(AND($C43=\"MER\",BU$6=$F43,$G43=1),1,IF(AND($C43=\"MEP\",BU$6=$F43,$G43=1),2,IF(AND(BU$6=$F43,$G43=1),0,\"\")))),\"\")","v":""},{"$f":"IFERROR(IF(LEN(Etapes[[#This Row],[Start]])=0,\"\",IF(AND($C43=\"MER\",BV$6=$F43,$G43=1),1,IF(AND($C43=\"MEP\",BV$6=$F43,$G43=1),2,IF(AND(BV$6=$F43,$G43=1),0,\"\")))),\"\")","v":""},{"$f":"IFERROR(IF(LEN(Etapes[[#This Row],[Planned]])=0,\"\",IF(AND($C43=\"MER\",BW$6=$F43,$G43=1),1,IF(AND($C43=\"MEP\",BW$6=$F43,$G43=1),2,IF(AND(BW$6=$F43,$G43=1),0,\"\")))),\"\")","v":""},{"$f":"IFERROR(IF(LEN(Etapes[[#This Row],[Add]])=0,\"\",IF(AND($C43=\"MER\",BX$6=$F43,$G43=1),1,IF(AND($C43=\"MEP\",BX$6=$F43,$G43=1),2,IF(AND(BX$6=$F43,$G43=1),0,\"\")))),\"\")","v":""},{"$f":"IFERROR(IF(LEN(Etapes[[#This Row],[End]])=0,\"\",IF(AND($C43=\"MER\",BY$6=$F43,$G43=1),1,IF(AND($C43=\"MEP\",BY$6=$F43,$G43=1),2,IF(AND(BY$6=$F43,$G43=1),0,\"\")))),\"\")","v":""},{"$f":"IFERROR(IF(LEN(Etapes[[#This Row],[Réalisé]])=0,\"\",IF(AND($C43=\"MER\",BZ$6=$F43,$G43=1),1,IF(AND($C43=\"MEP\",BZ$6=$F43,$G43=1),2,IF(AND(BZ$6=$F43,$G43=1),0,\"\")))),\"\")","v":""},{"$f":"IFERROR(IF(LEN(Etapes[[#This Row],[Activité]])=0,\"\",IF(AND($C43=\"MER\",CA$6=$F43,$G43=1),1,IF(AND($C43=\"MEP\",CA$6=$F43,$G43=1),2,IF(AND(CA$6=$F43,$G43=1),0,\"\")))),\"\")","v":""},{"$f":"IFERROR(IF(LEN(Etapes[[#This Row],[Statut]])=0,\"\",IF(AND($C43=\"MER\",CB$6=$F43,$G43=1),1,IF(AND($C43=\"MEP\",CB$6=$F43,$G43=1),2,IF(AND(CB$6=$F43,$G43=1),0,\"\")))),\"\")","v":""},{"$f":"IFERROR(IF(LEN(Etapes[[#This Row],[Progress]])=0,\"\",IF(AND($C43=\"MER\",CC$6=$F43,$G43=1),1,IF(AND($C43=\"MEP\",CC$6=$F43,$G43=1),2,IF(AND(CC$6=$F43,$G43=1),0,\"\")))),\"\")","v":""},{"$f":"IFERROR(IF(LEN(Etapes[[#This Row],[Start]])=0,\"\",IF(AND($C43=\"MER\",CD$6=$F43,$G43=1),1,IF(AND($C43=\"MEP\",CD$6=$F43,$G43=1),2,IF(AND(CD$6=$F43,$G43=1),0,\"\")))),\"\")","v":""},{"$f":"IFERROR(IF(LEN(Etapes[[#This Row],[Planned]])=0,\"\",IF(AND($C43=\"MER\",CE$6=$F43,$G43=1),1,IF(AND($C43=\"MEP\",CE$6=$F43,$G43=1),2,IF(AND(CE$6=$F43,$G43=1),0,\"\")))),\"\")","v":""},{"$f":"IFERROR(IF(LEN(Etapes[[#This Row],[Add]])=0,\"\",IF(AND($C43=\"MER\",CF$6=$F43,$G43=1),1,IF(AND($C43=\"MEP\",CF$6=$F43,$G43=1),2,IF(AND(CF$6=$F43,$G43=1),0,\"\")))),\"\")","v":""},{"$f":"IFERROR(IF(LEN(Etapes[[#This Row],[End]])=0,\"\",IF(AND($C43=\"MER\",CG$6=$F43,$G43=1),1,IF(AND($C43=\"MEP\",CG$6=$F43,$G43=1),2,IF(AND(CG$6=$F43,$G43=1),0,\"\")))),\"\")","v":""},{"$f":"IFERROR(IF(LEN(Etapes[[#This Row],[Réalisé]])=0,\"\",IF(AND($C43=\"MER\",CH$6=$F43,$G43=1),1,IF(AND($C43=\"MEP\",CH$6=$F43,$G43=1),2,IF(AND(CH$6=$F43,$G43=1),0,\"\")))),\"\")","v":""},{"$f":"IFERROR(IF(LEN(Etapes[[#This Row],[Activité]])=0,\"\",IF(AND($C43=\"MER\",CI$6=$F43,$G43=1),1,IF(AND($C43=\"MEP\",CI$6=$F43,$G43=1),2,IF(AND(CI$6=$F43,$G43=1),0,\"\")))),\"\")","v":""},{"$f":"IFERROR(IF(LEN(Etapes[[#This Row],[Statut]])=0,\"\",IF(AND($C43=\"MER\",CJ$6=$F43,$G43=1),1,IF(AND($C43=\"MEP\",CJ$6=$F43,$G43=1),2,IF(AND(CJ$6=$F43,$G43=1),0,\"\")))),\"\")","v":""},{"$f":"IFERROR(IF(LEN(Etapes[[#This Row],[Progress]])=0,\"\",IF(AND($C43=\"MER\",CK$6=$F43,$G43=1),1,IF(AND($C43=\"MEP\",CK$6=$F43,$G43=1),2,IF(AND(CK$6=$F43,$G43=1),0,\"\")))),\"\")","v":""},{"$f":"IFERROR(IF(LEN(Etapes[[#This Row],[Start]])=0,\"\",IF(AND($C43=\"MER\",CL$6=$F43,$G43=1),1,IF(AND($C43=\"MEP\",CL$6=$F43,$G43=1),2,IF(AND(CL$6=$F43,$G43=1),0,\"\")))),\"\")","v":""},{"$f":"IFERROR(IF(LEN(Etapes[[#This Row],[Planned]])=0,\"\",IF(AND($C43=\"MER\",CM$6=$F43,$G43=1),1,IF(AND($C43=\"MEP\",CM$6=$F43,$G43=1),2,IF(AND(CM$6=$F43,$G43=1),0,\"\")))),\"\")","v":""},{"$f":"IFERROR(IF(LEN(Etapes[[#This Row],[Add]])=0,\"\",IF(AND($C43=\"MER\",CN$6=$F43,$G43=1),1,IF(AND($C43=\"MEP\",CN$6=$F43,$G43=1),2,IF(AND(CN$6=$F43,$G43=1),0,\"\")))),\"\")","v":""},{"$f":"IFERROR(IF(LEN(Etapes[[#This Row],[End]])=0,\"\",IF(AND($C43=\"MER\",CO$6=$F43,$G43=1),1,IF(AND($C43=\"MEP\",CO$6=$F43,$G43=1),2,IF(AND(CO$6=$F43,$G43=1),0,\"\")))),\"\")","v":""},{"$f":"IFERROR(IF(LEN(Etapes[[#This Row],[Réalisé]])=0,\"\",IF(AND($C43=\"MER\",CP$6=$F43,$G43=1),1,IF(AND($C43=\"MEP\",CP$6=$F43,$G43=1),2,IF(AND(CP$6=$F43,$G43=1),0,\"\")))),\"\")","v":""},{"$f":"IFERROR(IF(LEN(Etapes[[#This Row],[Activité]])=0,\"\",IF(AND($C43=\"MER\",CQ$6=$F43,$G43=1),1,IF(AND($C43=\"MEP\",CQ$6=$F43,$G43=1),2,IF(AND(CQ$6=$F43,$G43=1),0,\"\")))),\"\")","v":""},{"$f":"IFERROR(IF(LEN(Etapes[[#This Row],[Statut]])=0,\"\",IF(AND($C43=\"MER\",CR$6=$F43,$G43=1),1,IF(AND($C43=\"MEP\",CR$6=$F43,$G43=1),2,IF(AND(CR$6=$F43,$G43=1),0,\"\")))),\"\")","v":""},{"$f":"IFERROR(IF(LEN(Etapes[[#This Row],[Progress]])=0,\"\",IF(AND($C43=\"MER\",CS$6=$F43,$G43=1),1,IF(AND($C43=\"MEP\",CS$6=$F43,$G43=1),2,IF(AND(CS$6=$F43,$G43=1),0,\"\")))),\"\")","v":""},{"$f":"IFERROR(IF(LEN(Etapes[[#This Row],[Start]])=0,\"\",IF(AND($C43=\"MER\",CT$6=$F43,$G43=1),1,IF(AND($C43=\"MEP\",CT$6=$F43,$G43=1),2,IF(AND(CT$6=$F43,$G43=1),0,\"\")))),\"\")","v":""},{"$f":"IFERROR(IF(LEN(Etapes[[#This Row],[Planned]])=0,\"\",IF(AND($C43=\"MER\",CU$6=$F43,$G43=1),1,IF(AND($C43=\"MEP\",CU$6=$F43,$G43=1),2,IF(AND(CU$6=$F43,$G43=1),0,\"\")))),\"\")","v":""},{"$f":"IFERROR(IF(LEN(Etapes[[#This Row],[Add]])=0,\"\",IF(AND($C43=\"MER\",CV$6=$F43,$G43=1),1,IF(AND($C43=\"MEP\",CV$6=$F43,$G43=1),2,IF(AND(CV$6=$F43,$G43=1),0,\"\")))),\"\")","v":""},{"$f":"IFERROR(IF(LEN(Etapes[[#This Row],[End]])=0,\"\",IF(AND($C43=\"MER\",CW$6=$F43,$G43=1),1,IF(AND($C43=\"MEP\",CW$6=$F43,$G43=1),2,IF(AND(CW$6=$F43,$G43=1),0,\"\")))),\"\")","v":""}]
["7.4","Exécution tests",null,null,null,"2022-08-03",null,null,{"$f":"IF(Etapes[[#This Row],[Start]]<>\"\",WORKDAY(Etapes[[#This Row],[Start]],IF(WEEKDAY(Etapes[[#This Row],[Start]],1)>=6,Etapes[[#This Row],[Planned]]+Etapes[[#This Row],[Add]],Etapes[[#This Row],[Planned]]+Etapes[[#This Row],[Add]]-1),Férié),\"\")","v":"2022-08-02"},{"$f":"IF(Etapes[[#This Row],[Start]]<>\"\",WORKDAY(Etapes[[#This Row],[Start]],IF(WEEKDAY(Etapes[[#This Row],[Start]],1)>=6,Etapes[[#This Row],[Progress]]*Etapes[[#This Row],[Planned]]+Etapes[[#This Row],[Add]],(Etapes[[#This Row],[Progress]]*Etapes[[#This Row],[Planned]]+Etapes[[#This Row],[Add]])-1),Férié),\"\")","v":44775}]
[null,null,null,null,null,null,null,null,{"$f":"IF(Etapes[[#This Row],[Start]]<>\"\",WORKDAY(Etapes[[#This Row],[Start]],IF(WEEKDAY(Etapes[[#This Row],[Start]],1)>=6,Etapes[[#This Row],[Planned]]+Etapes[[#This Row],[Add]],Etapes[[#This Row],[Planned]]+Etapes[[#This Row],[Add]]-1),Férié),\"\")","v":""},{"$f":"IF(Etapes[[#This Row],[Start]]<>\"\",WORKDAY(Etapes[[#This Row],[Start]],IF(WEEKDAY(Etapes[[#This Row],[Start]],1)>=6,Etapes[[#This Row],[Progress]]*Etapes[[#This Row],[Planned]]+Etapes[[#This Row],[Add]],(Etapes[[#This Row],[Progress]]*Etapes[[#This Row],[Planned]]+Etapes[[#This Row],[Add]])-1),Férié),\"\")","v":""}]
[null,null,null,null,null,null,null,null,{"$f":"IF(Etapes[[#This Row],[Start]]<>\"\",WORKDAY(Etapes[[#This Row],[Start]],IF(WEEKDAY(Etapes[[#This Row],[Start]],1)>=6,Etapes[[#This Row],[Planned]]+Etapes[[#This Row],[Add]],Etapes[[#This Row],[Planned]]+Etapes[[#This Row],[Add]]-1),Férié),\"\")","v":""},{"$f":"IF(Etapes[[#This Row],[Start]]<>\"\",WORKDAY(Etapes[[#This Row],[Start]],IF(WEEKDAY(Etapes[[#This Row],[Start]],1)>=6,Etapes[[#This Row],[Progress]]*Etapes[[#This Row],[Planned]]+Etapes[[#This Row],[Add]],(Etapes[[#This Row],[Progress]]*Etapes[[#This Row],[Planned]]+Etapes[[#This Row],[Add]])-1),Férié),\"\")","v":""}]
[null,null,null,null,null,null,null,null,{"$f":"IF(Etapes[[#This Row],[Start]]<>\"\",WORKDAY(Etapes[[#This Row],[Start]],IF(WEEKDAY(Etapes[[#This Row],[Start]],1)>=6,Etapes[[#This Row],[Planned]]+Etapes[[#This Row],[Add]],Etapes[[#This Row],[Planned]]+Etapes[[#This Row],[Add]]-1),Férié),\"\")","v":""},{"$f":"IF(Etapes[[#This Row],[Start]]<>\"\",WORKDAY(Etapes[[#This Row],[Start]],IF(WEEKDAY(Etapes[[#This Row],[Start]],1)>=6,Etapes[[#This Row],[Progress]]*Etapes[[#This Row],[Planned]]+Etapes[[#This Row],[Add]],(Etapes[[#This Row],[Progress]]*Etapes[[#This Row],[Planned]]+Etapes[[#This Row],[Add]])-1),Férié),\"\")","v":""}]
[null,null,null,null,null,null,null,null,{"$f":"IF(Etapes[[#This Row],[Start]]<>\"\",WORKDAY(Etapes[[#This Row],[Start]],IF(WEEKDAY(Etapes[[#This Row],[Start]],1)>=6,Etapes[[#This Row],[Planned]]+Etapes[[#This Row],[Add]],Etapes[[#This Row],[Planned]]+Etapes[[#This Row],[Add]]-1),Férié),\"\")","v":""},{"$f":"IF(Etapes[[#This Row],[Start]]<>\"\",WORKDAY(Etapes[[#This Row],[Start]],IF(WEEKDAY(Etapes[[#This Row],[Start]],1)>=6,Etapes[[#This Row],[Progress]]*Etapes[[#This Row],[Planned]]+Etapes[[#This Row],[Add]],(Etapes[[#This Row],[Progress]]*Etapes[[#This Row],[Planned]]+Etapes[[#This Row],[Add]])-1),Férié),\"\")","v":""}]
[null,null,null,null,null,null,null,null,{"$f":"IF(Etapes[[#This Row],[Start]]<>\"\",WORKDAY(Etapes[[#This Row],[Start]],IF(WEEKDAY(Etapes[[#This Row],[Start]],1)>=6,Etapes[[#This Row],[Planned]]+Etapes[[#This Row],[Add]],Etapes[[#This Row],[Planned]]+Etapes[[#This Row],[Add]]-1),Férié),\"\")","v":""},{"$f":"IF(Etapes[[#This Row],[Start]]<>\"\",WORKDAY(Etapes[[#This Row],[Start]],IF(WEEKDAY(Etapes[[#This Row],[Start]],1)>=6,Etapes[[#This Row],[Progress]]*Etapes[[#This Row],[Planned]]+Etapes[[#This Row],[Add]],(Etapes[[#This Row],[Progress]]*Etapes[[#This Row],[Planned]]+Etapes[[#This Row],[Add]])-1),Férié),\"\")","v":""}]
[null,null,null,null,null,null,null,null,{"$f":"IF(Etapes[[#This Row],[Start]]<>\"\",WORKDAY(Etapes[[#This Row],[Start]],IF(WEEKDAY(Etapes[[#This Row],[Start]],1)>=6,Etapes[[#This Row],[Planned]]+Etapes[[#This Row],[Add]],Etapes[[#This Row],[Planned]]+Etapes[[#This Row],[Add]]-1),Férié),\"\")","v":""},{"$f":"IF(Etapes[[#This Row],[Start]]<>\"\",WORKDAY(Etapes[[#This Row],[Start]],IF(WEEKDAY(Etapes[[#This Row],[Start]],1)>=6,Etapes[[#This Row],[Progress]]*Etapes[[#This Row],[Planned]]+Etapes[[#This Row],[Add]],(Etapes[[#This Row],[Progress]]*Etapes[[#This Row],[Planned]]+Etapes[[#This Row],[Add]])-1),Férié),\"\")","v":""}]
[null,null,null,null,null,null,null,null,{"$f":"IF(Etapes[[#This Row],[Start]]<>\"\",WORKDAY(Etapes[[#This Row],[Start]],IF(WEEKDAY(Etapes[[#This Row],[Start]],1)>=6,Etapes[[#This Row],[Planned]]+Etapes[[#This Row],[Add]],Etapes[[#This Row],[Planned]]+Etapes[[#This Row],[Add]]-1),Férié),\"\")","v":""},{"$f":"IF(Etapes[[#This Row],[Start]]<>\"\",WORKDAY(Etapes[[#This Row],[Start]],IF(WEEKDAY(Etapes[[#This Row],[Start]],1)>=6,Etapes[[#This Row],[Progress]]*Etapes[[#This Row],[Planned]]+Etapes[[#This Row],[Add]],(Etapes[[#This Row],[Progress]]*Etapes[[#This Row],[Planned]]+Etapes[[#This Row],[Add]])-1),Férié),\"\")","v":""}]
[null,null,null,null,null,null,null,null,{"$f":"IF(Etapes[[#This Row],[Start]]<>\"\",WORKDAY(Etapes[[#This Row],[Start]],IF(WEEKDAY(Etapes[[#This Row],[Start]],1)>=6,Etapes[[#This Row],[Planned]]+Etapes[[#This Row],[Add]],Etapes[[#This Row],[Planned]]+Etapes[[#This Row],[Add]]-1),Férié),\"\")","v":""},{"$f":"IF(Etapes[[#This Row],[Start]]<>\"\",WORKDAY(Etapes[[#This Row],[Start]],IF(WEEKDAY(Etapes[[#This Row],[Start]],1)>=6,Etapes[[#This Row],[Progress]]*Etapes[[#This Row],[Planned]]+Etapes[[#This Row],[Add]],(Etapes[[#This Row],[Progress]]*Etapes[[#This Row],[Planned]]+Etapes[[#This Row],[Add]])-1),Férié),\"\")","v":""}]
[null,null,null,null,null,null,null,null,{"$f":"IF(Etapes[[#This Row],[Start]]<>\"\",WORKDAY(Etapes[[#This Row],[Start]],IF(WEEKDAY(Etapes[[#This Row],[Start]],1)>=6,Etapes[[#This Row],[Planned]]+Etapes[[#This Row],[Add]],Etapes[[#This Row],[Planned]]+Etapes[[#This Row],[Add]]-1),Férié),\"\")","v":""},{"$f":"IF(Etapes[[#This Row],[Start]]<>\"\",WORKDAY(Etapes[[#This Row],[Start]],IF(WEEKDAY(Etapes[[#This Row],[Start]],1)>=6,Etapes[[#This Row],[Progress]]*Etapes[[#This Row],[Planned]]+Etapes[[#This Row],[Add]],(Etapes[[#This Row],[Progress]]*Etapes[[#This Row],[Planned]]+Etapes[[#This Row],[Add]])-1),Férié),\"\")","v":""}]
[null,null,null,null,null,null,null,null,{"$f":"IF(Etapes[[#This Row],[Start]]<>\"\",WORKDAY(Etapes[[#This Row],[Start]],IF(WEEKDAY(Etapes[[#This Row],[Start]],1)>=6,Etapes[[#This Row],[Planned]]+Etapes[[#This Row],[Add]],Etapes[[#This Row],[Planned]]+Etapes[[#This Row],[Add]]-1),Férié),\"\")","v":""},{"$f":"IF(Etapes[[#This Row],[Start]]<>\"\",WORKDAY(Etapes[[#This Row],[Start]],IF(WEEKDAY(Etapes[[#This Row],[Start]],1)>=6,Etapes[[#This Row],[Progress]]*Etapes[[#This Row],[Planned]]+Etapes[[#This Row],[Add]],(Etapes[[#This Row],[Progress]]*Etapes[[#This Row],[Planned]]+Etapes[[#This Row],[Add]])-1),Férié),\"\")","v":""}]
[null,null,null,null,null,null,null,null,{"$f":"IF(Etapes[[#This Row],[Start]]<>\"\",WORKDAY(Etapes[[#This Row],[Start]],IF(WEEKDAY(Etapes[[#This Row],[Start]],1)>=6,Etapes[[#This Row],[Planned]]+Etapes[[#This Row],[Add]],Etapes[[#This Row],[Planned]]+Etapes[[#This Row],[Add]]-1),Férié),\"\")","v":""},{"$f":"IF(Etapes[[#This Row],[Start]]<>\"\",WORKDAY(Etapes[[#This Row],[Start]],IF(WEEKDAY(Etapes[[#This Row],[Start]],1)>=6,Etapes[[#This Row],[Progress]]*Etapes[[#This Row],[Planned]]+Etapes[[#This Row],[Add]],(Etapes[[#This Row],[Progress]]*Etapes[[#This Row],[Planned]]+Etapes[[#This Row],[Add]])-1),Férié),\"\")","v":""}]
[null,null,null,null,null,null,null,null,{"$f":"IF(Etapes[[#This Row],[Start]]<>\"\",WORKDAY(Etapes[[#This Row],[Start]],IF(WEEKDAY(Etapes[[#This Row],[Start]],1)>=6,Etapes[[#This Row],[Planned]]+Etapes[[#This Row],[Add]],Etapes[[#This Row],[Planned]]+Etapes[[#This Row],[Add]]-1),Férié),\"\")","v":""},{"$f":"IF(Etapes[[#This Row],[Start]]<>\"\",WORKDAY(Etapes[[#This Row],[Start]],IF(WEEKDAY(Etapes[[#This Row],[Start]],1)>=6,Etapes[[#This Row],[Progress]]*Etapes[[#This Row],[Planned]]+Etapes[[#This Row],[Add]],(Etapes[[#This Row],[Progress]]*Etapes[[#This Row],[Planned]]+Etapes[[#This Row],[Add]])-1),Férié),\"\")","v":""}]
["This row marks the end of the Gantt milestone data. DO NOT enter anything in this row. \nTo add more items, insert new rows above this one.","Ajouter des lignes au dessus",null,null,null,null,null,null,{"$f":"IF(Etapes[[#This Row],[Start]]<>\"\",WORKDAY(Etapes[[#This Row],[Start]],IF(WEEKDAY(Etapes[[#This Row],[Start]],1)>=6,Etapes[[#This Row],[Planned]]+Etapes[[#This Row],[Add]],Etapes[[#This Row],[Planned]]+Etapes[[#This Row],[Add]]-1),Férié),\"\")","v":""},{"$f":"IF(Etapes[[#This Row],[Start]]<>\"\",WORKDAY(Etapes[[#This Row],[Start]],IF(WEEKDAY(Etapes[[#This Row],[Start]],1)>=6,Etapes[[#This Row],[Progress]]*Etapes[[#This Row],[Planned]]+Etapes[[#This Row],[Add]],(Etapes[[#This Row],[Progress]]*Etapes[[#This Row],[Planned]]+Etapes[[#This Row],[Add]])-1),Férié),\"\")","v":""}]

{"sheet":"Settings","index":1,"n_rows":68,"n_cols":9,"rows_kept":68,"cut":false,"hidden":false,"merged":[[0,0,0,3]]}
["Ce sont les jours fériés légaux 2019 pour la France:"]
["Jour férié ","Date ","Jour ","Semaine ","TPasDispo GA","Priorité\nCatégorie","Jour Semaine","Jour Semaine","Ressources"]
["Jour de l'an  ","2022-01-01","Mardi","1900-01-01","2022-08-05","Visibility",1,"L","ANGEVIN Nicolas"]
["Lundi de Pâques  ","2022-04-18","Lundi","1900-01-17","2022-08-12","Backlog",2,"M","SEVELLEC Amélie"]
["Fête du travail  ","2022-05-01","Dimanche","1900-01-18",null,"Planned",3,"M","TAILLEPIED Jean-Claude"]
["Victoire 1945  ","2022-05-08","Dimanche","1900-01-19",null,"Launched",4,"J","MIKOUNGUI François"]
["Ascension  ","2022-05-30","Jeudi","1900-01-22",null,"MER",5,"V","EBINE Anne-Marie"]
["Lundi de Pentecôte  ","2022-06-06","Lundi","1900-01-24",null,"Test",6,"S","IELKIN Vadim"]
["Fête Nationale  ","2022-07-14","Jeudi","1900-01-28",null,"MEP",7,"D","MEBENGA Ouriel"]
["Assomption  ","2022-08-15","Lundi","1900-02-02",null,"Suspended",null,null,"DARREAU Béatrice"]
["Toussaint  ","2022-11-01","Mardi","1900-02-13",null,"Jalon"]
["Armistice  ","2022-11-11","Vendredi","1900-02-15"]
["Jour de Noël  ","2022-12-25","Dimanche","1900-02-21"]
["Jour de l'an 2020","2023-01-01","Dimanche"]
[]
[]
[]
[]
[]
[]
[]
[]
[]
[]
["P","Présent sur le projet"]
["AR","Absence réelle"]
["AP","Absence prévisionnelle "]
["F","Formation"]
["NA","Férié"]
[]
[]
["Equipe","Collaborateur","Trigramme"]
["MCP","ANGEVIN Nicolas","NAN"]
["MCP","SEVELLEC Amélie","ASE"]
["MCP","TAILLEPIED Jean-Claude","JTA",null,"Absent mercredi"]
["MCP","MIKOUNGUI François","FMI"]
["MCP","EBINE Anne-Marie","AEB",null,"Absente mercredi"]
["MCP","IELKIN Vadim","VIE"]
["MCP","MEBENGA Ouriel","OME"]
["MCP","DARREAU Béatrice","BDA"]
[]
[null,"INS","CON ","PRT","TST"]
["Sujet","Instruction","Conception ","Prépa test","Tests"]
["E1.3.1","NAN","NAN","NAN","NAN"]
["E1.3.2","NAN","NAN","VIE","VIE"]
["E1.3.3","NAN","NAN","NAN","NAN"]
["E1.3.4","NAN","NAN","VIE","VIE"]
["E6.13.01","NAN","NAN","VIE","VIE"]
["E6.13.02","NAN","NAN","VIE","VIE"]
["E6.13.03","NAN","NAN","VIE","VIE"]
["1.17.1","NAN","NAN","?","?"]
["1.17.2","NAN","NAN","JTA","JTA"]
["1.18.1"]
["1.19.1"," "," "]
["1.19.2"]
["1.19.3"]
["6.13.11"]
["2.3.63","OME","OME","JTA","JTA"]
["6.6.25","AEB","AEB","FMI","FMI"]
["Zip fact"]
["Fin relève Pied"]
["4.40.6"]
["4.40.7"]
["4.8.1 F2"]
["4.8.8"]
["Oxygène","VIE","VIE","FMI","FMI"]
["S3 "]
["X-RAY","FMI","FMI"]

{"sheet":"Param","index":2,"n_rows":44,"n_cols":5,"rows_kept":44,"cut":false,"hidden":false,"merged":[]}
["P","Présent sur le projet"]
["AR","Absence réelle"]
["AP","Absence prévisionnelle "]
["F","Formation"]
["NA","Férié"]
[]
[]
["Equipe","Collaborateur","Trigramme"]
["MCP","ANGEVIN Nicolas","NAN"]
["MCP","SEVELLEC Amélie","ASE"]
["MCP","TAILLEPIED Jean-Claude","JTA",null,"Absent mercredi"]
["MCP","MIKOUNGUI François","FMI"]
["MCP","EBINE Anne-Marie","AEB",null,"Absente mercredi"]
["MCP","IELKIN Vadim","VIE"]
["MCP","MEBENGA Ouriel","OME"]
["MCP","DARREAU Béatrice","BDA"]
[]
[null,"INS","CON ","PRT","TST"]
["Sujet","Instruction","Conception ","Prépa test","Tests"]
["E1.3.1","NAN","NAN","NAN","NAN"]
["E1.3.2","NAN","NAN","VIE","VIE"]
["E1.3.3","NAN","NAN","NAN","NAN"]
["E1.3.4","NAN","NAN","VIE","VIE"]
["E6.13.01","NAN","NAN","VIE","VIE"]
["E6.13.02","NAN","NAN","VIE","VIE"]
["E6.13.03","NAN","NAN","VIE","VIE"]
["1.17.1","NAN","NAN","?","?"]
["1.17.2","NAN","NAN","JTA","JTA"]
["1.18.1"]
["1.19.1"," "," "]
["1.19.2"]
["1.19.3"]
["6.13.11"]
["2.3.63","OME","OME","JTA","JTA"]
["6.6.25","AEB","AEB","FMI","FMI"]
["Zip fact"]
["Fin relève Pied"]
["4.40.6"]
["4.40.7"]
["4.8.1 F2"]
["4.8.8"]
["Oxygène","VIE","VIE","FMI","FMI"]
["S3 "]
["X-RAY","FMI","FMI"]

{"sheet":"RàF","index":3,"n_rows":121,"n_cols":13,"rows_kept":121,"cut":false,"hidden":false,"merged":[]}
["Date ràF : au ",null,null,"  03/08/2022","2022-08-04"]
["Sujet/MVP"]
["<<< CEE >>>",null,"Date début","Nb J/H"," "," "," "," "]
["E1.3.1","Instruction ",null,0,3,null,null,"MVP Terminé"]
[null,"Conception",null,0,4]
[null,"Préparation RE7 ",null,0,1]
[null,"Exécution tests",null,0,9]
["E1.3.2","Instruction ","2022-08-03",4,8,null,null,null,"Création nouveaux code doc",null,"Adaptation dev ",null,"Prévoir espace stockage nécessaire (étude)"]
[null,"Conception",null,5]
[null,"Préparation RE7 ",null,3]
[null,"Exécution tests",null,3]
["E1.3.3","Instruction ",null,0]
[null,"Conception",null,0]
[null,"Préparation RE7 ",null,0]
[null,"Exécution tests",null,0]
["E1.3.4","Instruction ",null,0]
[null,"Conception",null,0]
[null,"Préparation RE7 ",null,7,null,null,null,null,"Sécurisation RE7 : finalier modop + prépa JDD +étude auto JDD + index docmanager MyCEE1"]
[null,"Exécution tests",null,3,null,null,null,null,"Tester MyCEE1"]
["E6.13.01","Instruction ",null,0]
[null,"Conception",null,0]
[null,"Préparation RE7 ",null,7]
[null,"Exécution tests",null,10]
["E6.13.02","Instruction ",null,0]
[" ","Conception",null,5,null,null,null,null,"Réalisation dossier technique ",null,"(Nicolas)"]
[" ","Préparation RE7 ",null,7]
[null,"Exécution tests",null,10]
["E6.13.03","Instruction ",null,0]
[null,"Conception",null,0]
[null,"Préparation RE7 ",null,7]
[null,"Exécution tests",null,10]
["<<< CEP 1.17 >>>"]
["1.17.1","Instruction ",null,0]
[null,"Conception",null,0,null,null,null,"mais pas développé par TMA","3 tckets JIRAs en attente 6167,6168 et 6169"]
[null,"Préparation RE7 ",null,2]
[null,"Exécution tests",null,3]
["1.17.2","Instruction ",null,0]
[null,"Conception",null,0]
[null,"Préparation RE7 ",null,1]
[null,"Exécution tests",null,2]
["<<< 1.18.1 >>>"]
[null,"Instruction ",null,0]
[null,"Conception",null,0]
[null,"Préparation RE7 ",null,0]
[null,"Exécution tests",null,0]
["<<< 1.19 >>>"]
["1.19.1","Instruction ",null,0]
[null,"Conception",null,0]
[null,"Préparation RE7 ",null,0]
[null,"Exécution tests",null,0]
["1.19.2","Instruction ",null,0]
[null,"Conception",null,0]
[null,"Préparation RE7 ",null,0]
[null,"Exécution tests",null,0]
["1.19.3","Instruction ",null,0]
[null,"Conception",null,0]
[null,"Préparation RE7 ",null,0]
[null,"Exécution tests",null,"?",null,null,null,"A voir avec JC"]
["<<< 6.13.11 >>>"]
[null,"Instruction ",null,0,null,null,null,"Fait"]
[null,"Conception",null,0,null,null,null,"Faite + T-first"]
[null,"Préparation RE7 ",null,1]
[null,"Exécution tests (internes)",null,6,null,null,null,"Chaine + editic + A&S + Ardeco","3 j Editic + chaine ",null,"Ardeco 3 jours"]
[null,"Tests en 2à 2",null,10,null,null,null,"Editic + automate"]
[null,"Tests façonniers",null,null,null,null,null,null,null,null,"Demander à JC"]
[null,"x à x ",null,10]
["<<<2.3.63 >>>"]
[null,"Instruction "]
[null,"Conception"]
[null,"Préparation RE7 "]
[null,"Exécution tests"]
["<<<6.6.25 >>>",null,null,null,null,null,null,null,null,null,"Nicolas & Anne-Marie"]
["adaptation processus signature en mobilité","Instruction ",null,"ras"]
[null,"Conception",null,10]
[null,"Préparation RE7 ",null,7]
[null,"Exécution tests",null,4]
["<<<Zip factures >>>"]
[null,"Instruction "]
[null,"Conception"]
[null,"Préparation RE7 "]
[null,"Exécution tests"]
["<<<Fin relève à Pied >>>"]
[null,"Instruction "]
[null,"Conception"]
[null,"Préparation RE7 "]
[null,"Exécution tests"]
["<<<4.40 >>>"]
["4.40.6"," "]
[null,"Instruction "]
[null,"Conception"]
[null,"Préparation RE7 "]
[" ","Exécution tests"]
["4.40.7"]
[null,"Instruction "]
[null,"Conception"]
[null,"Préparation RE7 "]
[null,"Exécution tests"]
["<<<ERL WIFI >>>"]
[null,"Instruction "]
[null,"Conception"]
[null,"Préparation RE7 "]
[null,"Exécution tests"]
["<<<Club Oxygène>>>"]
[null,"Instruction ",null,"Fait"]
[null,"Conception",null,"Fait "]
[null,"Préparation RE7 ",null,1.5,null,null,null,"Tickets RE7 à créer","JC ou François ","Envoi de mail Ediway en RE7 (envoi de fichiers)"]
[null,"Exécution tests",null,1]
["<<<Migration S3>>>"]
[null,"Instruction "]
[null,"Conception"]
[null,"Préparation RE7 "]
[null,"Exécution tests"]
["<<<RGPD>>>"]
["4.8.1. F2 ","Instruction ",null,null,null,null,null,null,null,"Point à faire avec Vadim & Ouriel"]
[null,"Conception"]
[null,"Préparation RE7 "]
[null,"Exécution tests"]
["4.8.8","Instruction "]
[null,"Conception"]
[null,"Préparation RE7 "]
[null,"Exécution tests"]