{"text_format":"1","workbook":"xlsx","n_sheets":106,"sheets":["Acceuil","Modèle","TOTAL","BdD","Récap","Coûts de détection","Coûts des défaillances externes","Coûts des défaillances internes","cout opérateur machines","Prix de revient","récap des coûts","31-12-2021","21-4-22","20-4-22","19-4-22","18-4-22","16-4-22","15-4-22","14-4-22","13-4-22","12-4-22","11-4-22","09-4-22","08-4-22","07-4-22","06-4-22","05-4-22","04-4-22","02-4-22","01-4-22","31-3-22","30-3-22","29-3-22","28-3-22","26-3-22","25-3-22","24-3-22","23-3-22","22-3-22","21-3-22","19-3-22","18-3-22","17-3-22","16-3-22","15-3-22","14-3-22","12-3-22","11-3-22","10-3-22","09-3-22","08-3-22","07-3-22","05-3-22","04-3-22","03-03-22","02-3-22","01-3-22","28-2-22","26-2-22","25-2-22","24-2-22","23-2-22","22-2-22","21-2-22","19-2-22","18-2-22","17-2-22","16-2-22","15-2-22","14-2-22","12-2-22","11-2-22","10-2-22","09-2-22","08-2-22","07-2-22","05-2-22","04-2-22","03-3-22","02-2-22","01-2-22","31-1-22","29-1-22","28-1-22","27-1-22","26-1-22","25-1-22","24-1-22","22-1-22","21-1-22","20-1-22","19-1-22","18-1-22","17-1-22","15-1-22","14-1-22","13-1-22","12-1-22","11-1-22","10-1-22","08-1-22","07-1-22","06-1-22","05-1-22","04-1-22","03-1-22"],"not_rendered":{"charts":0,"images":1,"macros":1,"external_links":0,"defined_names":394,"comments":0,"pivot_tables":0},"unopened":[],"bounds":{"document_bytes":16777216,"sheet_cells":100000,"rows_first":2000,"rows_last":500,"rows_between":2000,"halvings":0,"cell_chars":16384,"cell_head_chars":4096},"cells_cut":0,"cells_raw":0,"read":"whole","date_system":"1900"}

{"sheet":"Acceuil","index":0,"n_rows":3,"n_cols":19,"rows_kept":3,"cut":false,"hidden":false,"merged":[]}
[null,null,"Colonnes Machine  Cible","D","E","F","G","H","I","R","S","N","Q","P","O","J","K","L","M"]
[null,null,"Rang Machine Source",1,2,3,4,5,6,7,8,9,10,11,12,13,14,15,16]
[null,null,"Machines Source","SST16","SB16","BIGLIA 301 SM","BIGLIA 42 S2M bitourelle","L32","TSUGAMI","Tour STAR SV-32-J\n","Tour CNC STAR SB avec embarreur LNS Express\n220","MULTIBROCHE","Tour CNC WEILER UD 24 - 100\n","TOUR WEILER","NAKAMURA","MORI SEIKI 3 axes","MORI SEIKI 5 axes","HARDING","KITAMURA"]

{"sheet":"Modèle","index":1,"n_rows":61,"n_cols":33,"rows_kept":61,"cut":false,"hidden":false,"merged":[[4,21,4,23],[24,1,24,2],[12,1,12,2],[13,1,13,2],[14,1,14,2],[15,1,15,2],[16,1,16,2],[17,1,18,1],[19,1,19,2],[20,1,20,2],[21,1,21,2],[22,1,22,2],[23,1,23,2],[1,21,1,23],[2,17,2,19],[2,21,2,23],[3,17,3,19],[3,21,3,23],[47,18,47,19],[49,18,49,19],[1,2,4,3],[1,4,4,16],[1,17,1,19],[4,17,4,19],[25,1,25,2],[26,1,26,2],[27,1,27,2],[28,1,28,2],[29,1,29,2],[30,1,30,2],[31,1,31,2],[32,1,32,2]]}
[]
[null,null,null,null,"Rapport journalier",null,null,null,null,null,null,null,null,null,null,null,null,"Code:DAS-SMQ-24"]
[null,null,null,null,null,null,null,null,null,null,null,null,null,null,null,null,null,"Date: 27/12/2019"]
[null,null,null,null,null,null,null,null,null,null,null,null,null,null,null,null,null,"Version:01"]
[null,null,null,null,null,null,null,null,null,null,null,null,null,null,null,null,null,"Page:1"]
[]
[]
[]
[]
[]
[]
[null,null,null,"A","B","C","D","E","F","M","N","O","P","I","L","K","J","G","H"]
[null,"Machine",null,"SST16","SB16","BIGLIA 301 SM","BIGLIA 42 S2M bitourelle","L32","TSUGAMI","MORI SEIKI 3 axes","MORI SEIKI 5 axes","HARDING","KITAMURA","MULTIBROCHE","NAKAMURA","TOUR WEILER"]
[null,"Référence"]
[null,"Désignation"]
[null,"Compteur 8h "]
[null,"Compteur 17h"]
[null,"Enregistrement","9h"]
[null,null,"16h"]
[null,"Identification"]
[null,"Propreté des tables de contrôle"]
[null,"Rangement des outils de contrôle"]
[null,"Existance de l'OF"]
[null,"Affutage",null,null,null,null,null,null,null,null,null,null,null,null,null,null,null,null,null,{"$f":"+COUNTA(D24:S24)","v":0}]
[null,"Maintenance"]
[null,"Nombre des NC poubelle "]
[null,"Nombre des NC à retoucher"]
[null,"Machine pour retouche"]
[null,"Panne"]
[null,"Cout pièces de rechange",null,null,null,null,null,null,null,null,null,null,null,null,null,null,null,null,null,{"$f":"SUM(D30:S30)","v":0}]
[null,"prix de revient pièce",null,{"$f":"IFERROR(VLOOKUP(D14,'Prix de revient'!$A:$D,4,0),0)","v":0},{"$f":"IFERROR(VLOOKUP(E14,'Prix de revient'!$A:$D,4,0),0)","v":0},{"$f":"IFERROR(VLOOKUP(F14,'Prix de revient'!$A:$D,4,0),0)","v":0},{"$f":"IFERROR(VLOOKUP(G14,'Prix de revient'!$A:$D,4,0),0)","v":0},{"$f":"IFERROR(VLOOKUP(H14,'Prix de revient'!$A:$D,4,0),0)","v":0},{"$f":"IFERROR(VLOOKUP(I14,'Prix de revient'!$A:$D,4,0),0)","v":0},{"$f":"IFERROR(VLOOKUP(J14,'Prix de revient'!$A:$D,4,0),0)","v":0},{"$f":"IFERROR(VLOOKUP(K14,'Prix de revient'!$A:$D,4,0),0)","v":0},{"$f":"IFERROR(VLOOKUP(L14,'Prix de revient'!$A:$D,4,0),0)","v":0},{"$f":"IFERROR(VLOOKUP(M14,'Prix de revient'!$A:$D,4,0),0)","v":0},{"$f":"IFERROR(VLOOKUP(N14,'Prix de revient'!$A:$D,4,0),0)","v":0},{"$f":"IFERROR(VLOOKUP(O14,'Prix de revient'!$A:$D,4,0),0)","v":0},{"$f":"IFERROR(VLOOKUP(P14,'Prix de revient'!$A:$D,4,0),0)","v":0},{"$f":"IFERROR(VLOOKUP(Q14,'Prix de revient'!$A:$D,4,0),0)","v":0},{"$f":"IFERROR(VLOOKUP(R14,'Prix de revient'!$A:$D,4,0),0)","v":0},{"$f":"IFERROR(VLOOKUP(S14,'Prix de revient'!$A:$D,4,0),0)","v":0}]
[null,"coût de rebuts",null,{"$f":"D26*D31","v":0},{"$f":"E26*E31","v":0},0,0,0,0,0,0,0,0,0,0,0,0,0,0,{"$f":"SUM(D32:S32)","v":0}]
[null,"gestion de modification"]
[]
[]
[]
[]
[]
[]
[]
[null,null,"Clients","Audit","Réclamation","Avoir",null,"Fournisseurs/ sous-traitants","Réception de matiere","Probleme qualité",null,"Les formations professionnelles","Cout","Chiffrage décliné","Actions à suivre",null,"Article qui a subit un tri","durée du tri","Nombre des pieces non-conformes","ouvrier faisant le tri","cout par tri",null,"Article qui a subit la reprise","durée de la reprise","opérateur faisant la reprise","coût de reprise",null,null,null,"Machine ","article","gamme","objet de la modification"]
[null,null,null,null,null,null,null,null,null,null,null,null,null,null,null,null,null,null,null,null,{"$f":"IF(R42=\"\",\"\",R42*VLOOKUP(T42,'cout opérateur machines'!A1:B8,2,0))","v":""},null,null,null,null,{"$f":"X42*8","v":0}]
[null,null,null,null,null,null,null,null,null,null,null,null,null,null,null,null,null,null,null,null,{"$f":"IF(R43=\"\",\"\",R43*VLOOKUP(T43,'cout opérateur machines'!A2:B9,2,0))","v":""},null,null,null,null,{"$f":"X43*8","v":0}]
[null,null,null,null,null,null,null,null,null,null,null,null,null,null,null,null,null,null,null,null,{"$f":"IF(R44=\"\",\"\",R44*VLOOKUP(T44,'cout opérateur machines'!A3:B10,2,0))","v":""},null,null,null,null,0]
[null,null,null,null,null,null,null,null,null,null,null,null,null,null,null,null,null,null,null,null,{"$f":"IF(R45=\"\",\"\",R45*VLOOKUP(T45,'cout opérateur machines'!A4:B11,2,0))","v":""},null,null,null,null,0]
[null,null,null,null,null,null,null,null,null,null,null,null,null,null,null,null,null,null,null,null,{"$f":"IF(R46=\"\",\"\",R46*VLOOKUP(T46,'cout opérateur machines'!A5:B12,2,0))","v":""},null,null,null,null,0]
[null,null,null,null,null,null,null,null,null,null,null,null,null,null,null,null,null,null,null,null,{"$f":"IF(R47=\"\",\"\",R47*VLOOKUP(T47,'cout opérateur machines'!A6:B13,2,0))","v":""},null,null,null,null,0]
[null,null,null,null,{"$f":"COUNTA(E42:E47)","v":0},{"$f":"SUM(F42:F47)","v":0},null,null,null,null,null,null,{"$f":"SUM(M42:M47)","v":0},"causes de refus",null,null,null,null,"cout total du jour",null,{"$f":"SUM(U42:U47)","v":0},null,null,null,null,0]
[null,null,null,null,null,null,null,"envoi des réclamations F/ S-T","réponse F/ S-T","alerte",null,null,null,null,null,null,null,null,null,null,null,null,null,null,null,{"$f":"SUM(Z42:Z48)","v":0}]
[null,null,"dans le cas d'une réclamation",null,null,null,null,null,null,{"$f":"IF(J42=\"\",\"\",IF(H50=0,\" réclamation non traitée\",IF(I50=0, \"veuillez contacter le F/ S-T par téléphone\",\"\")))","v":""},null,null,null,null,null,null,null,null,"N° mois",null,0]
[null,null,"nombre de pièces NC",null,null,null,null,null,null,{"$f":"IF(J43=\"\",\"\",IF(H51=0,\" réclamation non traitée\",IF(I51=0, \"veuillez contacter le F/ S-T par téléphone\",\"\")))","v":""}]
[null,null,"nombre de pièces par carton",null,null,null,null,null,null,""]
[null,null,"coût de transport par carton",null,null,null,null,null,null,""]
[null,null,"nombre de cartons renvoyés",null,null,null,null,null,null,""]
[null,null,"temps de tri",null,null,null,null,null,null,""]
[null,null,"coût horaire de tri"]
[null,null,"temps de retouche"]
[null,null,"coût horaire de retouche"]
[null,null,"temps de traitement de la réclamation"]
[null,null,"coût horaire de traitement"]
[null,null,"coût total",{"$f":"IFERROR(((D51/D52)*D53)+D54*D53+D55*D56+D57*D58+D59*D60,\"\")","v":""}]

{"sheet":"TOTAL","index":2,"n_rows":254,"n_cols":14,"rows_kept":254,"cut":false,"hidden":false,"merged":[[15,8,15,14],[16,8,16,14],[17,8,17,14],[0,0,3,1],[0,2,3,11],[0,13,0,14],[1,13,1,14],[2,13,2,14],[3,13,3,14]]}
[null,null,"Coûts de Qualité",null,null,null,null,null,null,null,null,null,"Code",": DAS-PRO-26"]
[null,null,null,null,null,null,null,null,null,null,null,null,"Date",":20/10/2018"]
[null,null,null,null,null,null,null,null,null,null,null,null,"Version",": 02"]
[null,null,null,null,null,null,null,null,null,null,null,null,"Page",": 1/1"]
[]
["Critéres Sources","Coûts NQ Janvier ","Coûts NQ Février","Coûts NQ Mars","Coûts NQ Avril","Coûts NQ Mai","Coûts NQ Juin","Coûts NQ Juillet","Coûts NQ Août","Coûts NQ Septembre ","Coûts NQ Octobre","Coûts NQ Novembre","Coûts NQ Décembre "]
["Coûts des défaillances internes (DT)",{"$f":"'Coûts des défaillances internes'!C15","v":0},{"$f":"'Coûts des défaillances internes'!E15","v":40184},{"$f":"'Coûts des défaillances internes'!G15","v":0},{"$f":"'Coûts des défaillances internes'!I15","v":2},{"$f":"+'Coûts des défaillances internes'!K15","v":0},{"$f":"'Coûts des défaillances internes'!M15","v":0},{"$f":"'Coûts des défaillances internes'!O15","v":0},{"$f":"'Coûts des défaillances internes'!Q15","v":0},{"$f":"'Coûts des défaillances internes'!S15","v":0},{"$f":"'Coûts des défaillances internes'!U15","v":0},{"$f":"'Coûts des défaillances internes'!W15","v":0},{"$f":"'Coûts des défaillances internes'!Y15","v":0}]
["Coûts des défaillances externes (DT)",{"$f":"+'Coûts des défaillances externes'!B11","v":0},{"$f":"+'Coûts des défaillances externes'!C11","v":0},{"$f":"+'Coûts des défaillances externes'!D11","v":0},{"$f":"+'Coûts des défaillances externes'!E11","v":0},{"$f":"+'Coûts des défaillances externes'!F11","v":0},{"$f":"'Coûts des défaillances externes'!G11","v":0},{"$f":"'Coûts des défaillances externes'!H11","v":0},{"$f":"'Coûts des défaillances externes'!I11","v":0},{"$f":"'Coûts des défaillances externes'!J11","v":0},{"$f":"'Coûts des défaillances externes'!K11","v":0},{"$f":"'Coûts des défaillances externes'!L11","v":0},{"$f":"'Coûts des défaillances externes'!M11","v":0}]
["Coûts de détection (DT)",{"$f":"+'Coûts de détection'!B8","v":0},{"$f":"'Coûts de détection'!C8","v":0},{"$f":"'Coûts de détection'!D8","v":0},{"$f":"'Coûts de détection'!E8","v":100},{"$f":"'Coûts de détection'!F8","v":0},{"$f":"'Coûts de détection'!G8","v":0},{"$f":"'Coûts de détection'!H8","v":0},{"$f":"'Coûts de détection'!I8","v":0},{"$f":"'Coûts de détection'!J8","v":0},{"$f":"'Coûts de détection'!K8","v":0},{"$f":"'Coûts de détection'!L8","v":0},{"$f":"'Coûts de détection'!M8","v":0}]
["Total",{"$f":"SUM(B7:B9)","v":0},40184,0,102,0,0,0,0,0,0,0,0]
[]
["CA (DT)",251293.59400000001,75536.672999999995,194444.755,204942.09599999999,68836.850999999995,124897.856,46938.731,71989.311000000002]
["% CNQ =",{"$f":"IFERROR((B10/B12),\"\")","v":0},{"$f":"IFERROR((C10/C12),\"\")","v":0.53198000923339583},{"$f":"IFERROR((D10/D12),\"\")","v":0},4.9770155566282491E-4,0,0,0,0,"","","",""]
[null,{"$f":"SUM(B12:G12)","v":919951.82500000007},null,null,null,null,null,{"$f":"SUM(H12:M12)","v":118928.042},null,null,null,null,null,{"$f":"H14/B14","v":0.12927638031480615}]
[]
["Rédacteur :",null,null,null,null,null,null,null,"Approbateur : "]
["Date : 0",null,null,null,null,null,null,null,"Date : "]
["Visa :",null,null,null,null,null,null,null,"Visa :"]
[]
[]
[]
[]
[]
[]
[null,null,null,null,null,null,4]
[]
[]
[]
[]
[]
[]
[]
[]
[]
[]
[]
[]
[]
[]
[]
[]
[]
[]
[]
[]
[]
[]
[]
[]
[]
[]
[]
[]
[]
[]
[]
[]
[]
[]
[]
[]
[]
[]
[]
[]
[]
[]
[]
[]
[]
[]
[]
[]
[]
[]
[]
[]
[]
[]
[]
[]
[]
[]
[]
[]
[]
[]
[]
[]
[]
[]
[]
[]
[]
[]
[]
[]
[]
[]
[]
[]
[]
[]
[]
[]
[]
[]
[]
[]
[]
[]
[]
[]
[]
[]
[]
[]
[]
[]
[]
[]
[]
[]
[]
[]
[]
[]
[]
[]
[]
[]
[]
[]
[]
[]
[]
[]
[]
[]
[]
[]
[]
[]
[]
[]
[]
[]
[]
[]
[]
[]
[]
[]
[]
[]
[]
[]
[]
[]
[]
[]
[]
[]
[]
[]
[]
[]
[]
[]
[]
[]
[]
[]
[]
[]
[]
[]
[]
[]
[]
[]
[]
[]
[]
[]
[]
[]
[]
[]
[]
[]
[]
[]
[]
[]
[]
[]
[]
[]
[]
[]
[]
[]
[]
[]
[]
[]
[]
[]
[]
[]
[]
[]
[]
[]
[]
[]
[]
[]
[]
[]
[]
[]
[]
[]
[]
[]
[]
[]
[]
[]
[]
[]
[]
[]
[]
[]
[]
[]
[]
[]
[]
[]
[]
[]
[]
[]
[]
[]
[]
[]
[]
[]
[119]

{"sheet":"BdD","index":3,"n_rows":1171,"n_cols":13,"rows_kept":1171,"cut":false,"hidden":false,"merged":[]}
["date","machine","panne",null,"choix date :","2021-01-04","machine","nombre de 0","nombre de 1","%","alerte maintenance curative)","S1","S2"]
["2021-04-20","SST16",null,null,"Semestre","S1","SST16",{"$f":"SUMPRODUCT((Tableau1[date]>=$F$1)*(Tableau1[machine]=$G2)*(Tableau1[panne]=0))","v":88},{"$f":"SUMPRODUCT((Tableau1[date]>=$F$1)*(Tableau1[machine]=$G2)*(Tableau1[panne]=1))","v":1},{"$f":"I2/(H2+I2)","v":1.1235955056179775E-2},{"$f":"IF(J2>15%,\"non performante\",\"\")","v":""},{"$f":"SUBSTITUTE(IF(ROW()>2,L1&IF(AND(ROW()>2,LEN(L1)>1),CHAR(10),\"\")&IF(SUMPRODUCT((Tableau1[date]<=DATE(YEAR($A$2),6,30))*(Tableau1[machine]=$G2)*(Tableau1[panne]=1))/SUMPRODUCT((Tableau1[date]<=DATE(YEAR(Tableau1[[#This Row],[date]]),6,30))*(Tableau1[machine]=$G2))>15%,G2,\"\"),\"\"),CHAR(10)&CHAR(10),CHAR(10))","v":""},{"$f":"SUBSTITUTE(IF(ROW()>2,M1&IF(AND(ROW()>2,LEN(M1)>1),CHAR(10),\"\")&IF(SUMPRODUCT((Tableau1[date]>DATE(YEAR($A$2),6,30))*(Tableau1[machine]=$G2)*(Tableau1[panne]=1))/MAX(1,SUMPRODUCT((Tableau1[date]>DATE(YEAR($A$2),6,30))*(Tableau1[machine]=$G2)))>15%,$G2,\"\"),\"\"),CHAR(10)&CHAR(10),CHAR(10))","v":""}]
["2021-04-20","SB16",null,null,null,null,"SB16",{"$f":"SUMPRODUCT((Tableau1[date]>=$F$1)*(Tableau1[machine]=$G3)*(Tableau1[panne]=0))","v":87},{"$f":"SUMPRODUCT((Tableau1[date]>=$F$1)*(Tableau1[machine]=$G3)*(Tableau1[panne]=1))","v":2},{"$f":"I3/(H3+I3)","v":2.247191011235955E-2},{"$f":"IF(J3>15%,\"non performante\",\"\")","v":""},{"$f":"SUBSTITUTE(IF(ROW()>2,L2&IF(AND(ROW()>2,LEN(L2)>1),CHAR(10),\"\")&IF(SUMPRODUCT((Tableau1[date]<=DATE(YEAR($A$2),6,30))*(Tableau1[machine]=$G3)*(Tableau1[panne]=1))/SUMPRODUCT((Tableau1[date]<=DATE(YEAR(Tableau1[[#This Row],[date]]),6,30))*(Tableau1[machine]=$G3))>15%,G3,\"\"),\"\"),CHAR(10)&CHAR(10),CHAR(10))","v":""},{"$f":"SUBSTITUTE(IF(ROW()>2,M2&IF(AND(ROW()>2,LEN(M2)>1),CHAR(10),\"\")&IF(SUMPRODUCT((Tableau1[date]>DATE(YEAR($A$2),6,30))*(Tableau1[machine]=$G3)*(Tableau1[panne]=1))/MAX(1,SUMPRODUCT((Tableau1[date]>DATE(YEAR($A$2),6,30))*(Tableau1[machine]=$G3)))>15%,$G3,\"\"),\"\"),CHAR(10)&CHAR(10),CHAR(10))","v":""}]
["2021-04-20","BIGLIA 301 SM",null,null,null,null,"BIGLIA 301 SM",{"$f":"SUMPRODUCT((Tableau1[date]>=$F$1)*(Tableau1[machine]=$G4)*(Tableau1[panne]=0))","v":89},{"$f":"SUMPRODUCT((Tableau1[date]>=$F$1)*(Tableau1[machine]=$G4)*(Tableau1[panne]=1))","v":0},0,"",{"$f":"SUBSTITUTE(IF(ROW()>2,L3&IF(AND(ROW()>2,LEN(L3)>1),CHAR(10),\"\")&IF(SUMPRODUCT((Tableau1[date]<=DATE(YEAR($A$2),6,30))*(Tableau1[machine]=$G4)*(Tableau1[panne]=1))/SUMPRODUCT((Tableau1[date]<=DATE(YEAR(Tableau1[[#This Row],[date]]),6,30))*(Tableau1[machine]=$G4))>15%,G4,\"\"),\"\"),CHAR(10)&CHAR(10),CHAR(10))","v":""},{"$f":"SUBSTITUTE(IF(ROW()>2,M3&IF(AND(ROW()>2,LEN(M3)>1),CHAR(10),\"\")&IF(SUMPRODUCT((Tableau1[date]>DATE(YEAR($A$2),6,30))*(Tableau1[machine]=$G4)*(Tableau1[panne]=1))/MAX(1,SUMPRODUCT((Tableau1[date]>DATE(YEAR($A$2),6,30))*(Tableau1[machine]=$G4)))>15%,$G4,\"\"),\"\"),CHAR(10)&CHAR(10),CHAR(10))","v":""}]
["2021-04-20","BIGLIA 42 S2M bitourelle",null,null,null,null,"BIGLIA 42 S2M bitourelle",{"$f":"SUMPRODUCT((Tableau1[date]>=$F$1)*(Tableau1[machine]=$G5)*(Tableau1[panne]=0))","v":89},{"$f":"SUMPRODUCT((Tableau1[date]>=$F$1)*(Tableau1[machine]=$G5)*(Tableau1[panne]=1))","v":0},0,"",{"$f":"SUBSTITUTE(IF(ROW()>2,L4&IF(AND(ROW()>2,LEN(L4)>1),CHAR(10),\"\")&IF(SUMPRODUCT((Tableau1[date]<=DATE(YEAR($A$2),6,30))*(Tableau1[machine]=$G5)*(Tableau1[panne]=1))/SUMPRODUCT((Tableau1[date]<=DATE(YEAR(Tableau1[[#This Row],[date]]),6,30))*(Tableau1[machine]=$G5))>15%,G5,\"\"),\"\"),CHAR(10)&CHAR(10),CHAR(10))","v":""},{"$f":"SUBSTITUTE(IF(ROW()>2,M4&IF(AND(ROW()>2,LEN(M4)>1),CHAR(10),\"\")&IF(SUMPRODUCT((Tableau1[date]>DATE(YEAR($A$2),6,30))*(Tableau1[machine]=$G5)*(Tableau1[panne]=1))/MAX(1,SUMPRODUCT((Tableau1[date]>DATE(YEAR($A$2),6,30))*(Tableau1[machine]=$G5)))>15%,$G5,\"\"),\"\"),CHAR(10)&CHAR(10),CHAR(10))","v":""}]
["2021-04-20","L32",null,null,null,null,"L32",{"$f":"SUMPRODUCT((Tableau1[date]>=$F$1)*(Tableau1[machine]=$G6)*(Tableau1[panne]=0))","v":89},{"$f":"SUMPRODUCT((Tableau1[date]>=$F$1)*(Tableau1[machine]=$G6)*(Tableau1[panne]=1))","v":0},0,"",{"$f":"SUBSTITUTE(IF(ROW()>2,L5&IF(AND(ROW()>2,LEN(L5)>1),CHAR(10),\"\")&IF(SUMPRODUCT((Tableau1[date]<=DATE(YEAR($A$2),6,30))*(Tableau1[machine]=$G6)*(Tableau1[panne]=1))/SUMPRODUCT((Tableau1[date]<=DATE(YEAR(Tableau1[[#This Row],[date]]),6,30))*(Tableau1[machine]=$G6))>15%,G6,\"\"),\"\"),CHAR(10)&CHAR(10),CHAR(10))","v":""},{"$f":"SUBSTITUTE(IF(ROW()>2,M5&IF(AND(ROW()>2,LEN(M5)>1),CHAR(10),\"\")&IF(SUMPRODUCT((Tableau1[date]>DATE(YEAR($A$2),6,30))*(Tableau1[machine]=$G6)*(Tableau1[panne]=1))/MAX(1,SUMPRODUCT((Tableau1[date]>DATE(YEAR($A$2),6,30))*(Tableau1[machine]=$G6)))>15%,$G6,\"\"),\"\"),CHAR(10)&CHAR(10),CHAR(10))","v":""}]
["2021-04-20","TSUGAMI",null,null,null,null,"TSUGAMI",{"$f":"SUMPRODUCT((Tableau1[date]>=$F$1)*(Tableau1[machine]=$G7)*(Tableau1[panne]=0))","v":89},{"$f":"SUMPRODUCT((Tableau1[date]>=$F$1)*(Tableau1[machine]=$G7)*(Tableau1[panne]=1))","v":0},0,"",{"$f":"SUBSTITUTE(IF(ROW()>2,L6&IF(AND(ROW()>2,LEN(L6)>1),CHAR(10),\"\")&IF(SUMPRODUCT((Tableau1[date]<=DATE(YEAR($A$2),6,30))*(Tableau1[machine]=$G7)*(Tableau1[panne]=1))/SUMPRODUCT((Tableau1[date]<=DATE(YEAR(Tableau1[[#This Row],[date]]),6,30))*(Tableau1[machine]=$G7))>15%,G7,\"\"),\"\"),CHAR(10)&CHAR(10),CHAR(10))","v":""},{"$f":"SUBSTITUTE(IF(ROW()>2,M6&IF(AND(ROW()>2,LEN(M6)>1),CHAR(10),\"\")&IF(SUMPRODUCT((Tableau1[date]>DATE(YEAR($A$2),6,30))*(Tableau1[machine]=$G7)*(Tableau1[panne]=1))/MAX(1,SUMPRODUCT((Tableau1[date]>DATE(YEAR($A$2),6,30))*(Tableau1[machine]=$G7)))>15%,$G7,\"\"),\"\"),CHAR(10)&CHAR(10),CHAR(10))","v":""}]
["2021-04-20","MORI SEIKI 3 axes",null,null,null,null,"MORI SEIKI 3 axes",{"$f":"SUMPRODUCT((Tableau1[date]>=$F$1)*(Tableau1[machine]=$G8)*(Tableau1[panne]=0))","v":89},{"$f":"SUMPRODUCT((Tableau1[date]>=$F$1)*(Tableau1[machine]=$G8)*(Tableau1[panne]=1))","v":0},0,"",{"$f":"SUBSTITUTE(IF(ROW()>2,L7&IF(AND(ROW()>2,LEN(L7)>1),CHAR(10),\"\")&IF(SUMPRODUCT((Tableau1[date]<=DATE(YEAR($A$2),6,30))*(Tableau1[machine]=$G8)*(Tableau1[panne]=1))/SUMPRODUCT((Tableau1[date]<=DATE(YEAR(Tableau1[[#This Row],[date]]),6,30))*(Tableau1[machine]=$G8))>15%,G8,\"\"),\"\"),CHAR(10)&CHAR(10),CHAR(10))","v":""},{"$f":"SUBSTITUTE(IF(ROW()>2,M7&IF(AND(ROW()>2,LEN(M7)>1),CHAR(10),\"\")&IF(SUMPRODUCT((Tableau1[date]>DATE(YEAR($A$2),6,30))*(Tableau1[machine]=$G8)*(Tableau1[panne]=1))/MAX(1,SUMPRODUCT((Tableau1[date]>DATE(YEAR($A$2),6,30))*(Tableau1[machine]=$G8)))>15%,$G8,\"\"),\"\"),CHAR(10)&CHAR(10),CHAR(10))","v":""}]
["2021-04-20","MORI SEIKI 5 axes",null,null,null,null,"MORI SEIKI 5 axes",{"$f":"SUMPRODUCT((Tableau1[date]>=$F$1)*(Tableau1[machine]=$G9)*(Tableau1[panne]=0))","v":89},{"$f":"SUMPRODUCT((Tableau1[date]>=$F$1)*(Tableau1[machine]=$G9)*(Tableau1[panne]=1))","v":0},0,"",{"$f":"SUBSTITUTE(IF(ROW()>2,L8&IF(AND(ROW()>2,LEN(L8)>1),CHAR(10),\"\")&IF(SUMPRODUCT((Tableau1[date]<=DATE(YEAR($A$2),6,30))*(Tableau1[machine]=$G9)*(Tableau1[panne]=1))/SUMPRODUCT((Tableau1[date]<=DATE(YEAR(Tableau1[[#This Row],[date]]),6,30))*(Tableau1[machine]=$G9))>15%,G9,\"\"),\"\"),CHAR(10)&CHAR(10),CHAR(10))","v":""},{"$f":"SUBSTITUTE(IF(ROW()>2,M8&IF(AND(ROW()>2,LEN(M8)>1),CHAR(10),\"\")&IF(SUMPRODUCT((Tableau1[date]>DATE(YEAR($A$2),6,30))*(Tableau1[machine]=$G9)*(Tableau1[panne]=1))/MAX(1,SUMPRODUCT((Tableau1[date]>DATE(YEAR($A$2),6,30))*(Tableau1[machine]=$G9)))>15%,$G9,\"\"),\"\"),CHAR(10)&CHAR(10),CHAR(10))","v":""}]
["2021-04-20","HARDING",null,null,null,null,"HARDING",{"$f":"SUMPRODUCT((Tableau1[date]>=$F$1)*(Tableau1[machine]=$G10)*(Tableau1[panne]=0))","v":89},{"$f":"SUMPRODUCT((Tableau1[date]>=$F$1)*(Tableau1[machine]=$G10)*(Tableau1[panne]=1))","v":0},0,"",{"$f":"SUBSTITUTE(IF(ROW()>2,L9&IF(AND(ROW()>2,LEN(L9)>1),CHAR(10),\"\")&IF(SUMPRODUCT((Tableau1[date]<=DATE(YEAR($A$2),6,30))*(Tableau1[machine]=$G10)*(Tableau1[panne]=1))/SUMPRODUCT((Tableau1[date]<=DATE(YEAR(Tableau1[[#This Row],[date]]),6,30))*(Tableau1[machine]=$G10))>15%,G10,\"\"),\"\"),CHAR(10)&CHAR(10),CHAR(10))","v":""},{"$f":"SUBSTITUTE(IF(ROW()>2,M9&IF(AND(ROW()>2,LEN(M9)>1),CHAR(10),\"\")&IF(SUMPRODUCT((Tableau1[date]>DATE(YEAR($A$2),6,30))*(Tableau1[machine]=$G10)*(Tableau1[panne]=1))/MAX(1,SUMPRODUCT((Tableau1[date]>DATE(YEAR($A$2),6,30))*(Tableau1[machine]=$G10)))>15%,$G10,\"\"),\"\"),CHAR(10)&CHAR(10),CHAR(10))","v":""}]
["2021-04-20","KITAMURA",null,null,null,null,"KITAMURA",{"$f":"SUMPRODUCT((Tableau1[date]>=$F$1)*(Tableau1[machine]=$G11)*(Tableau1[panne]=0))","v":89},{"$f":"SUMPRODUCT((Tableau1[date]>=$F$1)*(Tableau1[machine]=$G11)*(Tableau1[panne]=1))","v":0},0,"",{"$f":"SUBSTITUTE(IF(ROW()>2,L10&IF(AND(ROW()>2,LEN(L10)>1),CHAR(10),\"\")&IF(SUMPRODUCT((Tableau1[date]<=DATE(YEAR($A$2),6,30))*(Tableau1[machine]=$G11)*(Tableau1[panne]=1))/SUMPRODUCT((Tableau1[date]<=DATE(YEAR(Tableau1[[#This Row],[date]]),6,30))*(Tableau1[machine]=$G11))>15%,G11,\"\"),\"\"),CHAR(10)&CHAR(10),CHAR(10))","v":""},{"$f":"SUBSTITUTE(IF(ROW()>2,M10&IF(AND(ROW()>2,LEN(M10)>1),CHAR(10),\"\")&IF(SUMPRODUCT((Tableau1[date]>DATE(YEAR($A$2),6,30))*(Tableau1[machine]=$G11)*(Tableau1[panne]=1))/MAX(1,SUMPRODUCT((Tableau1[date]>DATE(YEAR($A$2),6,30))*(Tableau1[machine]=$G11)))>15%,$G11,\"\"),\"\"),CHAR(10)&CHAR(10),CHAR(10))","v":""}]
["2021-04-20","MULTIBROCHE",null,null,null,null,"MULTIBROCHE",{"$f":"SUMPRODUCT((Tableau1[date]>=$F$1)*(Tableau1[machine]=$G12)*(Tableau1[panne]=0))","v":87},{"$f":"SUMPRODUCT((Tableau1[date]>=$F$1)*(Tableau1[machine]=$G12)*(Tableau1[panne]=1))","v":2},2.247191011235955E-2,"",{"$f":"SUBSTITUTE(IF(ROW()>2,L11&IF(AND(ROW()>2,LEN(L11)>1),CHAR(10),\"\")&IF(SUMPRODUCT((Tableau1[date]<=DATE(YEAR($A$2),6,30))*(Tableau1[machine]=$G12)*(Tableau1[panne]=1))/SUMPRODUCT((Tableau1[date]<=DATE(YEAR(Tableau1[[#This Row],[date]]),6,30))*(Tableau1[machine]=$G12))>15%,G12,\"\"),\"\"),CHAR(10)&CHAR(10),CHAR(10))","v":""},{"$f":"SUBSTITUTE(IF(ROW()>2,M11&IF(AND(ROW()>2,LEN(M11)>1),CHAR(10),\"\")&IF(SUMPRODUCT((Tableau1[date]>DATE(YEAR($A$2),6,30))*(Tableau1[machine]=$G12)*(Tableau1[panne]=1))/MAX(1,SUMPRODUCT((Tableau1[date]>DATE(YEAR($A$2),6,30))*(Tableau1[machine]=$G12)))>15%,$G12,\"\"),\"\"),CHAR(10)&CHAR(10),CHAR(10))","v":""}]
["2021-04-20","NAKAMURA",null,null,null,null,"NAKAMURA",{"$f":"SUMPRODUCT((Tableau1[date]>=$F$1)*(Tableau1[machine]=$G13)*(Tableau1[panne]=0))","v":88},{"$f":"SUMPRODUCT((Tableau1[date]>=$F$1)*(Tableau1[machine]=$G13)*(Tableau1[panne]=1))","v":1},1.1235955056179775E-2,"",{"$f":"SUBSTITUTE(IF(ROW()>2,L12&IF(AND(ROW()>2,LEN(L12)>1),CHAR(10),\"\")&IF(SUMPRODUCT((Tableau1[date]<=DATE(YEAR($A$2),6,30))*(Tableau1[machine]=$G13)*(Tableau1[panne]=1))/SUMPRODUCT((Tableau1[date]<=DATE(YEAR(Tableau1[[#This Row],[date]]),6,30))*(Tableau1[machine]=$G13))>15%,G13,\"\"),\"\"),CHAR(10)&CHAR(10),CHAR(10))","v":""},{"$f":"SUBSTITUTE(IF(ROW()>2,M12&IF(AND(ROW()>2,LEN(M12)>1),CHAR(10),\"\")&IF(SUMPRODUCT((Tableau1[date]>DATE(YEAR($A$2),6,30))*(Tableau1[machine]=$G13)*(Tableau1[panne]=1))/MAX(1,SUMPRODUCT((Tableau1[date]>DATE(YEAR($A$2),6,30))*(Tableau1[machine]=$G13)))>15%,$G13,\"\"),\"\"),CHAR(10)&CHAR(10),CHAR(10))","v":""}]
["2021-04-20","TOUR WEILER",null,null,null,null,"TOUR WEILER",{"$f":"SUMPRODUCT((Tableau1[date]>=$F$1)*(Tableau1[machine]=$G14)*(Tableau1[panne]=0))","v":89},{"$f":"SUMPRODUCT((Tableau1[date]>=$F$1)*(Tableau1[machine]=$G14)*(Tableau1[panne]=1))","v":0},0,"",{"$f":"SUBSTITUTE(IF(ROW()>2,L13&IF(AND(ROW()>2,LEN(L13)>1),CHAR(10),\"\")&IF(SUMPRODUCT((Tableau1[date]<=DATE(YEAR($A$2),6,30))*(Tableau1[machine]=$G14)*(Tableau1[panne]=1))/SUMPRODUCT((Tableau1[date]<=DATE(YEAR(Tableau1[[#This Row],[date]]),6,30))*(Tableau1[machine]=$G14))>15%,G14,\"\"),\"\"),CHAR(10)&CHAR(10),CHAR(10))","v":""},{"$f":"SUBSTITUTE(IF(ROW()>2,M13&IF(AND(ROW()>2,LEN(M13)>1),CHAR(10),\"\")&IF(SUMPRODUCT((Tableau1[date]>DATE(YEAR($A$2),6,30))*(Tableau1[machine]=$G14)*(Tableau1[panne]=1))/MAX(1,SUMPRODUCT((Tableau1[date]>DATE(YEAR($A$2),6,30))*(Tableau1[machine]=$G14)))>15%,$G14,\"\"),\"\"),CHAR(10)&CHAR(10),CHAR(10))","v":""}]
["2021-04-19","SST16"]
["2021-04-19","SB16"]
["2021-04-19","BIGLIA 301 SM"]
["2021-04-19","BIGLIA 42 S2M bitourelle"]
["2021-04-19","L32"]
["2021-04-19","TSUGAMI"]
["2021-04-19","MORI SEIKI 3 axes"]
["2021-04-19","MORI SEIKI 5 axes"]
["2021-04-19","HARDING"]
["2021-04-19","KITAMURA"]
["2021-04-19","MULTIBROCHE"]
["2021-04-19","NAKAMURA"]
["2021-04-19","TOUR WEILER"]
["2021-04-17","SST16"]
["2021-04-17","SB16"]
["2021-04-17","BIGLIA 301 SM"]
["2021-04-17","BIGLIA 42 S2M bitourelle"]
["2021-04-17","L32"]
["2021-04-17","TSUGAMI"]
["2021-04-17","MORI SEIKI 3 axes"]
["2021-04-17","MORI SEIKI 5 axes"]
["2021-04-17","HARDING"]
["2021-04-17","KITAMURA"]
["2021-04-17","MULTIBROCHE"]
["2021-04-17","NAKAMURA"]
["2021-04-17","TOUR WEILER"]
["2021-04-16","SST16"]
["2021-04-16","SB16"]
["2021-04-16","BIGLIA 301 SM"]
["2021-04-16","BIGLIA 42 S2M bitourelle"]
["2021-04-16","L32"]
["2021-04-16","TSUGAMI"]
["2021-04-16","MORI SEIKI 3 axes"]
["2021-04-16","MORI SEIKI 5 axes"]
["2021-04-16","HARDING"]
["2021-04-16","KITAMURA"]
["2021-04-16","MULTIBROCHE"]
["2021-04-16","NAKAMURA"]
["2021-04-16","TOUR WEILER"]
["2021-04-15","SST16"]
["2021-04-15","SB16"]
["2021-04-15","BIGLIA 301 SM"]
["2021-04-15","BIGLIA 42 S2M bitourelle"]
["2021-04-15","L32"]
["2021-04-15","TSUGAMI"]
["2021-04-15","MORI SEIKI 3 axes"]
["2021-04-15","MORI SEIKI 5 axes"]
["2021-04-15","HARDING"]
["2021-04-15","KITAMURA"]
["2021-04-15","MULTIBROCHE"]
["2021-04-15","NAKAMURA"]
["2021-04-15","TOUR WEILER"]
["2021-04-14","SST16"]
["2021-04-14","SB16"]
["2021-04-14","BIGLIA 301 SM"]
["2021-04-14","BIGLIA 42 S2M bitourelle"]
["2021-04-14","L32"]
["2021-04-14","TSUGAMI"]
["2021-04-14","MORI SEIKI 3 axes"]
["2021-04-14","MORI SEIKI 5 axes"]
["2021-04-14","HARDING"]
["2021-04-14","KITAMURA"]
["2021-04-14","MULTIBROCHE"]
["2021-04-14","NAKAMURA"]
["2021-04-14","TOUR WEILER"]
["2021-04-13","SST16"]
["2021-04-13","SB16"]
["2021-04-13","BIGLIA 301 SM"]
["2021-04-13","BIGLIA 42 S2M bitourelle"]
["2021-04-13","L32"]
["2021-04-13","TSUGAMI"]
["2021-04-13","MORI SEIKI 3 axes"]
["2021-04-13","MORI SEIKI 5 axes"]
["2021-04-13","HARDING"]
["2021-04-13","KITAMURA"]
["2021-04-13","MULTIBROCHE"]
["2021-04-13","NAKAMURA"]
["2021-04-13","TOUR WEILER"]
["2021-04-12","SST16"]
["2021-04-12","SB16"]
["2021-04-12","BIGLIA 301 SM"]
["2021-04-12","BIGLIA 42 S2M bitourelle"]
["2021-04-12","L32"]
["2021-04-12","TSUGAMI"]
["2021-04-12","MORI SEIKI 3 axes"]
["2021-04-12","MORI SEIKI 5 axes"]
["2021-04-12","HARDING"]
["2021-04-12","KITAMURA"]
["2021-04-12","MULTIBROCHE"]
["2021-04-12","NAKAMURA"]
["2021-04-12","TOUR WEILER"]
["2021-04-10","SST16"]
["2021-04-10","SB16"]
["2021-04-10","BIGLIA 301 SM"]
["2021-04-10","BIGLIA 42 S2M bitourelle"]
["2021-04-10","L32"]
["2021-04-10","TSUGAMI"]
["2021-04-10","MORI SEIKI 3 axes"]
["2021-04-10","MORI SEIKI 5 axes"]
["2021-04-10","HARDING"]
["2021-04-10","KITAMURA"]
["2021-04-10","MULTIBROCHE"]
["2021-04-10","NAKAMURA"]
["2021-04-10","TOUR WEILER"]
["2021-04-09","SST16"]
["2021-04-09","SB16"]
["2021-04-09","BIGLIA 301 SM"]
["2021-04-09","BIGLIA 42 S2M bitourelle"]
["2021-04-09","L32"]
["2021-04-09","TSUGAMI"]
["2021-04-09","MORI SEIKI 3 axes"]
["2021-04-09","MORI SEIKI 5 axes"]
["2021-04-09","HARDING"]
["2021-04-09","KITAMURA"]
["2021-04-09","MULTIBROCHE"]
["2021-04-09","NAKAMURA"]
["2021-04-09","TOUR WEILER"]
["2021-04-08","SST16"]
["2021-04-08","SB16"]
["2021-04-08","BIGLIA 301 SM"]
["2021-04-08","BIGLIA 42 S2M bitourelle"]
["2021-04-08","L32"]
["2021-04-08","TSUGAMI"]
["2021-04-08","MORI SEIKI 3 axes"]
["2021-04-08","MORI SEIKI 5 axes"]
["2021-04-08","HARDING"]
["2021-04-08","KITAMURA"]
["2021-04-08","MULTIBROCHE"]
["2021-04-08","NAKAMURA"]
["2021-04-08","TOUR WEILER"]
["2021-04-07","SST16"]
["2021-04-07","SB16"]
["2021-04-07","BIGLIA 301 SM"]
["2021-04-07","BIGLIA 42 S2M bitourelle"]
["2021-04-07","L32"]
["2021-04-07","TSUGAMI"]
["2021-04-07","MORI SEIKI 3 axes"]
["2021-04-07","MORI SEIKI 5 axes"]
["2021-04-07","HARDING"]
["2021-04-07","KITAMURA"]
["2021-04-07","MULTIBROCHE"]
["2021-04-07","NAKAMURA"]
["2021-04-07","TOUR WEILER"]
["2021-04-06","SST16"]
["2021-04-06","SB16"]
["2021-04-06","BIGLIA 301 SM"]
["2021-04-06","BIGLIA 42 S2M bitourelle"]
["2021-04-06","L32"]
["2021-04-06","TSUGAMI"]
["2021-04-06","MORI SEIKI 3 axes"]
["2021-04-06","MORI SEIKI 5 axes"]
["2021-04-06","HARDING"]
["2021-04-06","KITAMURA"]
["2021-04-06","MULTIBROCHE"]
["2021-04-06","NAKAMURA"]
["2021-04-06","TOUR WEILER"]
["2021-04-05","SST16"]
["2021-04-05","SB16"]
["2021-04-05","BIGLIA 301 SM"]
["2021-04-05","BIGLIA 42 S2M bitourelle"]
["2021-04-05","L32"]
["2021-04-05","TSUGAMI"]
["2021-04-05","MORI SEIKI 3 axes"]
["2021-04-05","MORI SEIKI 5 axes"]
["2021-04-05","HARDING"]
["2021-04-05","KITAMURA"]
["2021-04-05","MULTIBROCHE"]
["2021-04-05","NAKAMURA"]
["2021-04-05","TOUR WEILER"]
["2021-04-03","SST16"]
["2021-04-03","SB16"]
["2021-04-03","BIGLIA 301 SM"]
["2021-04-03","BIGLIA 42 S2M bitourelle"]
["2021-04-03","L32"]
["2021-04-03","TSUGAMI"]
["2021-04-03","MORI SEIKI 3 axes"]
["2021-04-03","MORI SEIKI 5 axes"]
["2021-04-03","HARDING"]
["2021-04-03","KITAMURA"]
["2021-04-03","MULTIBROCHE"]
["2021-04-03","NAKAMURA"]
["2021-04-03","TOUR WEILER"]
["2021-04-02","SST16"]
["2021-04-02","SB16"]
["2021-04-02","BIGLIA 301 SM"]
["2021-04-02","BIGLIA 42 S2M bitourelle"]
["2021-04-02","L32"]
["2021-04-02","TSUGAMI"]
["2021-04-02","MORI SEIKI 3 axes"]
["2021-04-02","MORI SEIKI 5 axes"]
["2021-04-02","HARDING"]
["2021-04-02","KITAMURA"]
["2021-04-02","MULTIBROCHE"]
["2021-04-02","NAKAMURA"]
["2021-04-02","TOUR WEILER"]
["2021-04-01","SST16"]
["2021-04-01","SB16"]
["2021-04-01","BIGLIA 301 SM"]
["2021-04-01","BIGLIA 42 S2M bitourelle"]
["2021-04-01","L32"]
["2021-04-01","TSUGAMI"]
["2021-04-01","MORI SEIKI 3 axes"]
["2021-04-01","MORI SEIKI 5 axes"]
["2021-04-01","HARDING"]
["2021-04-01","KITAMURA"]
["2021-04-01","MULTIBROCHE"]
["2021-04-01","NAKAMURA"]
["2021-04-01","TOUR WEILER"]
["2021-03-31","SST16"]
["2021-03-31","SB16"]
["2021-03-31","BIGLIA 301 SM"]
["2021-03-31","BIGLIA 42 S2M bitourelle"]
["2021-03-31","L32"]
["2021-03-31","TSUGAMI"]
["2021-03-31","MORI SEIKI 3 axes"]
["2021-03-31","MORI SEIKI 5 axes"]
["2021-03-31","HARDING"]
["2021-03-31","KITAMURA"]
["2021-03-31","MULTIBROCHE"]
["2021-03-31","NAKAMURA"]
["2021-03-31","TOUR WEILER"]
["2021-03-30","SST16"]
["2021-03-30","SB16"]
["2021-03-30","BIGLIA 301 SM"]
["2021-03-30","BIGLIA 42 S2M bitourelle"]
["2021-03-30","L32"]
["2021-03-30","TSUGAMI"]
["2021-03-30","MORI SEIKI 3 axes"]
["2021-03-30","MORI SEIKI 5 axes"]
["2021-03-30","HARDING"]
["2021-03-30","KITAMURA"]
["2021-03-30","MULTIBROCHE"]
["2021-03-30","NAKAMURA"]
["2021-03-30","TOUR WEILER"]
["2021-03-29","SST16"]
["2021-03-29","SB16"]
["2021-03-29","BIGLIA 301 SM"]
["2021-03-29","BIGLIA 42 S2M bitourelle"]
["2021-03-29","L32"]
["2021-03-29","TSUGAMI"]
["2021-03-29","MORI SEIKI 3 axes"]
["2021-03-29","MORI SEIKI 5 axes"]
["2021-03-29","HARDING"]
["2021-03-29","KITAMURA"]
["2021-03-29","MULTIBROCHE"]
["2021-03-29","NAKAMURA"]
["2021-03-29","TOUR WEILER"]
["2021-03-27","SST16"]
["2021-03-27","SB16"]
["2021-03-27","BIGLIA 301 SM"]
["2021-03-27","BIGLIA 42 S2M bitourelle"]
["2021-03-27","L32"]
["2021-03-27","TSUGAMI"]
["2021-03-27","MORI SEIKI 3 axes"]
["2021-03-27","MORI SEIKI 5 axes"]
["2021-03-27","HARDING"]
["2021-03-27","KITAMURA"]
["2021-03-27","MULTIBROCHE"]
["2021-03-27","NAKAMURA"]
["2021-03-27","TOUR WEILER"]
["2021-03-26","SST16"]
["2021-03-26","SB16"]
["2021-03-26","BIGLIA 301 SM"]
["2021-03-26","BIGLIA 42 S2M bitourelle"]
["2021-03-26","L32"]
["2021-03-26","TSUGAMI"]
["2021-03-26","MORI SEIKI 3 axes"]
["2021-03-26","MORI SEIKI 5 axes"]
["2021-03-26","HARDING"]
["2021-03-26","KITAMURA"]
["2021-03-26","MULTIBROCHE"]
["2021-03-26","NAKAMURA"]
["2021-03-26","TOUR WEILER"]
["2021-03-25","SST16"]
["2021-03-25","SB16"]
["2021-03-25","BIGLIA 301 SM"]
["2021-03-25","BIGLIA 42 S2M bitourelle"]
["2021-03-25","L32"]
["2021-03-25","TSUGAMI"]
["2021-03-25","MORI SEIKI 3 axes"]
["2021-03-25","MORI SEIKI 5 axes"]
["2021-03-25","HARDING"]
["2021-03-25","KITAMURA"]
["2021-03-25","MULTIBROCHE"]
["2021-03-25","NAKAMURA"]
["2021-03-25","TOUR WEILER"]
["2021-03-24","SST16"]
["2021-03-24","SB16"]
["2021-03-24","BIGLIA 301 SM"]
["2021-03-24","BIGLIA 42 S2M bitourelle"]
["2021-03-24","L32"]
["2021-03-24","TSUGAMI"]
["2021-03-24","MORI SEIKI 3 axes"]
["2021-03-24","MORI SEIKI 5 axes"]
["2021-03-24","HARDING"]
["2021-03-24","KITAMURA"]
["2021-03-24","MULTIBROCHE"]
["2021-03-24","NAKAMURA"]
["2021-03-24","TOUR WEILER"]
["2021-03-23","SST16"]
["2021-03-23","SB16"]
["2021-03-23","BIGLIA 301 SM"]
["2021-03-23","BIGLIA 42 S2M bitourelle"]
["2021-03-23","L32"]
["2021-03-23","TSUGAMI"]
["2021-03-23","MORI SEIKI 3 axes"]
["2021-03-23","MORI SEIKI 5 axes"]
["2021-03-23","HARDING"]
["2021-03-23","KITAMURA"]
["2021-03-23","MULTIBROCHE"]
["2021-03-23","NAKAMURA"]
["2021-03-23","TOUR WEILER"]
["2021-03-22","SST16"]
["2021-03-22","SB16"]
["2021-03-22","BIGLIA 301 SM"]
["2021-03-22","BIGLIA 42 S2M bitourelle"]
["2021-03-22","L32"]
["2021-03-22","TSUGAMI"]
["2021-03-22","MORI SEIKI 3 axes"]
["2021-03-22","MORI SEIKI 5 axes"]
["2021-03-22","HARDING"]
["2021-03-22","KITAMURA"]
["2021-03-22","MULTIBROCHE"]
["2021-03-22","NAKAMURA"]
["2021-03-22","TOUR WEILER"]
["2021-03-19","SST16"]
["2021-03-19","SB16"]
["2021-03-19","BIGLIA 301 SM"]
["2021-03-19","BIGLIA 42 S2M bitourelle"]
["2021-03-19","L32"]
["2021-03-19","TSUGAMI"]
["2021-03-19","MORI SEIKI 3 axes"]
["2021-03-19","MORI SEIKI 5 axes"]
["2021-03-19","HARDING"]
["2021-03-19","KITAMURA"]
["2021-03-19","MULTIBROCHE"]
["2021-03-19","NAKAMURA"]
["2021-03-19","TOUR WEILER"]
["2021-03-18","SST16"]
["2021-03-18","SB16"]
["2021-03-18","BIGLIA 301 SM"]
["2021-03-18","BIGLIA 42 S2M bitourelle"]
["2021-03-18","L32"]
["2021-03-18","TSUGAMI"]
["2021-03-18","MORI SEIKI 3 axes"]
["2021-03-18","MORI SEIKI 5 axes"]
["2021-03-18","HARDING"]
["2021-03-18","KITAMURA"]
["2021-03-18","MULTIBROCHE"]
["2021-03-18","NAKAMURA"]
["2021-03-18","TOUR WEILER"]
["2021-03-17","SST16"]
["2021-03-17","SB16"]
["2021-03-17","BIGLIA 301 SM"]
["2021-03-17","BIGLIA 42 S2M bitourelle"]
["2021-03-17","L32"]
["2021-03-17","TSUGAMI"]
["2021-03-17","MORI SEIKI 3 axes"]
["2021-03-17","MORI SEIKI 5 axes"]
["2021-03-17","HARDING"]
["2021-03-17","KITAMURA"]
["2021-03-17","MULTIBROCHE"]
["2021-03-17","NAKAMURA"]
["2021-03-17","TOUR WEILER"]
["2021-03-16","SST16"]
["2021-03-16","SB16"]
["2021-03-16","BIGLIA 301 SM"]
["2021-03-16","BIGLIA 42 S2M bitourelle"]
["2021-03-16","L32"]
["2021-03-16","TSUGAMI"]
["2021-03-16","MORI SEIKI 3 axes"]
["2021-03-16","MORI SEIKI 5 axes"]
["2021-03-16","HARDING"]
["2021-03-16","KITAMURA"]
["2021-03-16","MULTIBROCHE"]
["2021-03-16","NAKAMURA"]
["2021-03-16","TOUR WEILER"]
["2021-03-15","SST16"]
["2021-03-15","SB16"]
["2021-03-15","BIGLIA 301 SM"]
["2021-03-15","BIGLIA 42 S2M bitourelle"]
["2021-03-15","L32"]
["2021-03-15","TSUGAMI"]
["2021-03-15","MORI SEIKI 3 axes"]
["2021-03-15","MORI SEIKI 5 axes"]
["2021-03-15","HARDING"]
["2021-03-15","KITAMURA"]
["2021-03-15","MULTIBROCHE"]
["2021-03-15","NAKAMURA"]
["2021-03-15","TOUR WEILER"]
["2021-03-12","SST16"]
["2021-03-12","SB16"]
["2021-03-12","BIGLIA 301 SM"]
["2021-03-12","BIGLIA 42 S2M bitourelle"]
["2021-03-12","L32"]
["2021-03-12","TSUGAMI"]
["2021-03-12","MORI SEIKI 3 axes"]
["2021-03-12","MORI SEIKI 5 axes"]
["2021-03-12","HARDING"]
["2021-03-12","KITAMURA"]
["2021-03-12","MULTIBROCHE"]
["2021-03-12","NAKAMURA"]
["2021-03-12","TOUR WEILER"]
["2021-03-11","SST16"]
["2021-03-11","SB16"]
["2021-03-11","BIGLIA 301 SM"]
["2021-03-11","BIGLIA 42 S2M bitourelle"]
["2021-03-11","L32"]
["2021-03-11","TSUGAMI"]
["2021-03-11","MORI SEIKI 3 axes"]
["2021-03-11","MORI SEIKI 5 axes"]
["2021-03-11","HARDING"]
["2021-03-11","KITAMURA"]
["2021-03-11","MULTIBROCHE"]
["2021-03-11","NAKAMURA"]
["2021-03-11","TOUR WEILER"]
["2021-03-10","SST16"]
["2021-03-10","SB16"]
["2021-03-10","BIGLIA 301 SM"]
["2021-03-10","BIGLIA 42 S2M bitourelle"]
["2021-03-10","L32"]
["2021-03-10","TSUGAMI"]
["2021-03-10","MORI SEIKI 3 axes"]
["2021-03-10","MORI SEIKI 5 axes"]
["2021-03-10","HARDING"]
["2021-03-10","KITAMURA"]
["2021-03-10","MULTIBROCHE"]
["2021-03-10","NAKAMURA"]
["2021-03-10","TOUR WEILER"]
["2021-03-09","SST16"]
["2021-03-09","SB16"]
["2021-03-09","BIGLIA 301 SM"]
["2021-03-09","BIGLIA 42 S2M bitourelle"]
["2021-03-09","L32"]
["2021-03-09","TSUGAMI"]
["2021-03-09","MORI SEIKI 3 axes"]
["2021-03-09","MORI SEIKI 5 axes"]
["2021-03-09","HARDING"]
["2021-03-09","KITAMURA"]
["2021-03-09","MULTIBROCHE"]
["2021-03-09","NAKAMURA"]
["2021-03-09","TOUR WEILER"]
["2021-03-08","SST16"]
["2021-03-08","SB16"]
["2021-03-08","BIGLIA 301 SM"]
["2021-03-08","BIGLIA 42 S2M bitourelle"]
["2021-03-08","L32"]
["2021-03-08","TSUGAMI"]
["2021-03-08","MORI SEIKI 3 axes"]
["2021-03-08","MORI SEIKI 5 axes"]
["2021-03-08","HARDING"]
["2021-03-08","KITAMURA"]
["2021-03-08","MULTIBROCHE"]
["2021-03-08","NAKAMURA"]
["2021-03-08","TOUR WEILER"]
["2021-03-06","SST16"]
["2021-03-06","SB16"]
["2021-03-06","BIGLIA 301 SM"]
["2021-03-06","BIGLIA 42 S2M bitourelle"]
["2021-03-06","L32"]
["2021-03-06","TSUGAMI"]
["2021-03-06","MORI SEIKI 3 axes"]
["2021-03-06","MORI SEIKI 5 axes"]
["2021-03-06","HARDING"]
["2021-03-06","KITAMURA"]
["2021-03-06","MULTIBROCHE"]
["2021-03-06","NAKAMURA"]
["2021-03-06","TOUR WEILER"]
["2021-03-05","SST16"]
["2021-03-05","SB16"]
["2021-03-05","BIGLIA 301 SM"]
["2021-03-05","BIGLIA 42 S2M bitourelle"]
["2021-03-05","L32"]
["2021-03-05","TSUGAMI"]
["2021-03-05","MORI SEIKI 3 axes"]
["2021-03-05","MORI SEIKI 5 axes"]
["2021-03-05","HARDING"]
["2021-03-05","KITAMURA"]
["2021-03-05","MULTIBROCHE"]
["2021-03-05","NAKAMURA"]
["2021-03-05","TOUR WEILER"]
["2021-03-04","SST16"]
["2021-03-04","SB16"]
["2021-03-04","BIGLIA 301 SM"]
["2021-03-04","BIGLIA 42 S2M bitourelle"]
["2021-03-04","L32"]
["2021-03-04","TSUGAMI"]
["2021-03-04","MORI SEIKI 3 axes"]
["2021-03-04","MORI SEIKI 5 axes"]
["2021-03-04","HARDING"]
["2021-03-04","KITAMURA"]
["2021-03-04","MULTIBROCHE"]
["2021-03-04","NAKAMURA"]
["2021-03-04","TOUR WEILER"]
["2021-03-03","SST16"]
["2021-03-03","SB16"]
["2021-03-03","BIGLIA 301 SM"]
["2021-03-03","BIGLIA 42 S2M bitourelle"]
["2021-03-03","L32"]
["2021-03-03","TSUGAMI"]
["2021-03-03","MORI SEIKI 3 axes"]
["2021-03-03","MORI SEIKI 5 axes"]
["2021-03-03","HARDING"]
["2021-03-03","KITAMURA"]
["2021-03-03","MULTIBROCHE"]
["2021-03-03","NAKAMURA"]
["2021-03-03","TOUR WEILER"]
["2021-03-02","SST16"]
["2021-03-02","SB16"]
["2021-03-02","BIGLIA 301 SM"]
["2021-03-02","BIGLIA 42 S2M bitourelle"]
["2021-03-02","L32"]
["2021-03-02","TSUGAMI"]
["2021-03-02","MORI SEIKI 3 axes"]
["2021-03-02","MORI SEIKI 5 axes"]
["2021-03-02","HARDING"]
["2021-03-02","KITAMURA"]
["2021-03-02","MULTIBROCHE"]
["2021-03-02","NAKAMURA"]
["2021-03-02","TOUR WEILER"]
["2021-03-01","SST16"]
["2021-03-01","SB16"]
["2021-03-01","BIGLIA 301 SM"]
["2021-03-01","BIGLIA 42 S2M bitourelle"]
["2021-03-01","L32"]
["2021-03-01","TSUGAMI"]
["2021-03-01","MORI SEIKI 3 axes"]
["2021-03-01","MORI SEIKI 5 axes"]
["2021-03-01","HARDING"]
["2021-03-01","KITAMURA"]
["2021-03-01","MULTIBROCHE"]
["2021-03-01","NAKAMURA"]
["2021-03-01","TOUR WEILER"]
["2021-02-27","SST16"]
["2021-02-27","SB16"]
["2021-02-27","BIGLIA 301 SM"]
["2021-02-27","BIGLIA 42 S2M bitourelle"]
["2021-02-27","L32"]
["2021-02-27","TSUGAMI"]
["2021-02-27","MORI SEIKI 3 axes"]
["2021-02-27","MORI SEIKI 5 axes"]
["2021-02-27","HARDING"]
["2021-02-27","KITAMURA"]
["2021-02-27","MULTIBROCHE"]
["2021-02-27","NAKAMURA"]
["2021-02-27","TOUR WEILER"]
["2021-02-26","SST16"]
["2021-02-26","SB16"]
["2021-02-26","BIGLIA 301 SM"]
["2021-02-26","BIGLIA 42 S2M bitourelle"]
["2021-02-26","L32"]
["2021-02-26","TSUGAMI"]
["2021-02-26","MORI SEIKI 3 axes"]
["2021-02-26","MORI SEIKI 5 axes"]
["2021-02-26","HARDING"]
["2021-02-26","KITAMURA"]
["2021-02-26","MULTIBROCHE"]
["2021-02-26","NAKAMURA"]
["2021-02-26","TOUR WEILER"]
["2021-02-25","SST16"]
["2021-02-25","SB16"]
["2021-02-25","BIGLIA 301 SM"]
["2021-02-25","BIGLIA 42 S2M bitourelle"]
["2021-02-25","L32"]
["2021-02-25","TSUGAMI"]
["2021-02-25","MORI SEIKI 3 axes"]
["2021-02-25","MORI SEIKI 5 axes"]
["2021-02-25","HARDING"]
["2021-02-25","KITAMURA"]
["2021-02-25","MULTIBROCHE"]
["2021-02-25","NAKAMURA",1]
["2021-02-25","TOUR WEILER"]
["2021-02-24","SST16"]
["2021-02-24","SB16"]
["2021-02-24","BIGLIA 301 SM"]
["2021-02-24","BIGLIA 42 S2M bitourelle"]
["2021-02-24","L32"]
["2021-02-24","TSUGAMI"]
["2021-02-24","MORI SEIKI 3 axes"]
["2021-02-24","MORI SEIKI 5 axes"]
["2021-02-24","HARDING"]
["2021-02-24","KITAMURA"]
["2021-02-24","MULTIBROCHE"]
["2021-02-24","NAKAMURA"]
["2021-02-24","TOUR WEILER"]
["2021-02-23","SST16"]
["2021-02-23","SB16",1]
["2021-02-23","BIGLIA 301 SM"]
["2021-02-23","BIGLIA 42 S2M bitourelle"]
["2021-02-23","L32"]
["2021-02-23","TSUGAMI"]
["2021-02-23","MORI SEIKI 3 axes"]
["2021-02-23","MORI SEIKI 5 axes"]
["2021-02-23","HARDING"]
["2021-02-23","KITAMURA"]
["2021-02-23","MULTIBROCHE",1]
["2021-02-23","NAKAMURA"]
["2021-02-23","TOUR WEILER"]
["2021-02-22","SST16"]
["2021-02-22","SB16"]
["2021-02-22","BIGLIA 301 SM"]
["2021-02-22","BIGLIA 42 S2M bitourelle"]
["2021-02-22","L32"]
["2021-02-22","TSUGAMI"]
["2021-02-22","MORI SEIKI 3 axes"]
["2021-02-22","MORI SEIKI 5 axes"]
["2021-02-22","HARDING"]
["2021-02-22","KITAMURA"]
["2021-02-22","MULTIBROCHE"]
["2021-02-22","NAKAMURA"]
["2021-02-22","TOUR WEILER"]
["2021-02-20","SST16"]
["2021-02-20","SB16"]
["2021-02-20","BIGLIA 301 SM"]
["2021-02-20","BIGLIA 42 S2M bitourelle"]
["2021-02-20","L32"]
["2021-02-20","TSUGAMI"]
["2021-02-20","MORI SEIKI 3 axes"]
["2021-02-20","MORI SEIKI 5 axes"]
["2021-02-20","HARDING"]
["2021-02-20","KITAMURA"]
["2021-02-20","MULTIBROCHE"]
["2021-02-20","NAKAMURA"]
["2021-02-20","TOUR WEILER"]
["2021-02-19","SST16"]
["2021-02-19","SB16"]
["2021-02-19","BIGLIA 301 SM"]
["2021-02-19","BIGLIA 42 S2M bitourelle"]
["2021-02-19","L32"]
["2021-02-19","TSUGAMI"]
["2021-02-19","MORI SEIKI 3 axes"]
["2021-02-19","MORI SEIKI 5 axes"]
["2021-02-19","HARDING"]
["2021-02-19","KITAMURA"]
["2021-02-19","MULTIBROCHE"]
["2021-02-19","NAKAMURA"]
["2021-02-19","TOUR WEILER"]
["2021-02-18","SST16"]
["2021-02-18","SB16"]
["2021-02-18","BIGLIA 301 SM"]
["2021-02-18","BIGLIA 42 S2M bitourelle"]
["2021-02-18","L32"]
["2021-02-18","TSUGAMI"]
["2021-02-18","MORI SEIKI 3 axes"]
["2021-02-18","MORI SEIKI 5 axes"]
["2021-02-18","HARDING"]
["2021-02-18","KITAMURA"]
["2021-02-18","MULTIBROCHE"]
["2021-02-18","NAKAMURA"]
["2021-02-18","TOUR WEILER"]
["2021-02-17","SST16"]
["2021-02-17","SB16"]
["2021-02-17","BIGLIA 301 SM"]
["2021-02-17","BIGLIA 42 S2M bitourelle"]
["2021-02-17","L32"]
["2021-02-17","TSUGAMI"]
["2021-02-17","MORI SEIKI 3 axes"]
["2021-02-17","MORI SEIKI 5 axes"]
["2021-02-17","HARDING"]
["2021-02-17","KITAMURA"]
["2021-02-17","MULTIBROCHE"]
["2021-02-17","NAKAMURA"]
["2021-02-17","TOUR WEILER"]
["2021-02-16","SST16"]
["2021-02-16","SB16"]
["2021-02-16","BIGLIA 301 SM"]
["2021-02-16","BIGLIA 42 S2M bitourelle"]
["2021-02-16","L32"]
["2021-02-16","TSUGAMI"]
["2021-02-16","MORI SEIKI 3 axes"]
["2021-02-16","MORI SEIKI 5 axes"]
["2021-02-16","HARDING"]
["2021-02-16","KITAMURA"]
["2021-02-16","MULTIBROCHE"]
["2021-02-16","NAKAMURA"]
["2021-02-16","TOUR WEILER"]
["2021-02-15","SST16"]
["2021-02-15","SB16"]
["2021-02-15","BIGLIA 301 SM"]
["2021-02-15","BIGLIA 42 S2M bitourelle"]
["2021-02-15","L32"]
["2021-02-15","TSUGAMI"]
["2021-02-15","MORI SEIKI 3 axes"]
["2021-02-15","MORI SEIKI 5 axes"]
["2021-02-15","HARDING"]
["2021-02-15","KITAMURA"]
["2021-02-15","MULTIBROCHE"]
["2021-02-15","NAKAMURA"]
["2021-02-15","TOUR WEILER"]
["2021-02-13","SST16"]
["2021-02-13","SB16"]
["2021-02-13","BIGLIA 301 SM"]
["2021-02-13","BIGLIA 42 S2M bitourelle"]
["2021-02-13","L32"]
["2021-02-13","TSUGAMI"]
["2021-02-13","MORI SEIKI 3 axes"]
["2021-02-13","MORI SEIKI 5 axes"]
["2021-02-13","HARDING"]
["2021-02-13","KITAMURA"]
["2021-02-13","MULTIBROCHE"]
["2021-02-13","NAKAMURA"]
["2021-02-13","TOUR WEILER"]
["2021-02-12","SST16"]
["2021-02-12","SB16",1]
["2021-02-12","BIGLIA 301 SM"]
["2021-02-12","BIGLIA 42 S2M bitourelle"]
["2021-02-12","L32"]
["2021-02-12","TSUGAMI"]
["2021-02-12","MORI SEIKI 3 axes"]
["2021-02-12","MORI SEIKI 5 axes"]
["2021-02-12","HARDING"]
["2021-02-12","KITAMURA"]
["2021-02-12","MULTIBROCHE"]
["2021-02-12","NAKAMURA"]
["2021-02-12","TOUR WEILER"]
["2021-02-11","SST16"]
["2021-02-11","SB16"]
["2021-02-11","BIGLIA 301 SM"]
["2021-02-11","BIGLIA 42 S2M bitourelle"]
["2021-02-11","L32"]
["2021-02-11","TSUGAMI"]
["2021-02-11","MORI SEIKI 3 axes"]
["2021-02-11","MORI SEIKI 5 axes"]
["2021-02-11","HARDING"]
["2021-02-11","KITAMURA"]
["2021-02-11","MULTIBROCHE"]
["2021-02-11","NAKAMURA"]
["2021-02-11","TOUR WEILER"]
["2021-02-10","SST16"]
["2021-02-10","SB16"]
["2021-02-10","BIGLIA 301 SM"]
["2021-02-10","BIGLIA 42 S2M bitourelle"]
["2021-02-10","L32"]
["2021-02-10","TSUGAMI"]
["2021-02-10","MORI SEIKI 3 axes"]
["2021-02-10","MORI SEIKI 5 axes"]
["2021-02-10","HARDING"]
["2021-02-10","KITAMURA"]
["2021-02-10","MULTIBROCHE"]
["2021-02-10","NAKAMURA"]
["2021-02-10","TOUR WEILER"]
["2021-02-09","SST16"]
["2021-02-09","SB16"]
["2021-02-09","BIGLIA 301 SM"]
["2021-02-09","BIGLIA 42 S2M bitourelle"]
["2021-02-09","L32"]
["2021-02-09","TSUGAMI"]
["2021-02-09","MORI SEIKI 3 axes"]
["2021-02-09","MORI SEIKI 5 axes"]
["2021-02-09","HARDING"]
["2021-02-09","KITAMURA"]
["2021-02-09","MULTIBROCHE"]
["2021-02-09","NAKAMURA"]
["2021-02-09","TOUR WEILER"]
["2021-02-08","SST16"]
["2021-02-08","SB16"]
["2021-02-08","BIGLIA 301 SM"]
["2021-02-08","BIGLIA 42 S2M bitourelle"]
["2021-02-08","L32"]
["2021-02-08","TSUGAMI"]
["2021-02-08","MORI SEIKI 3 axes"]
["2021-02-08","MORI SEIKI 5 axes"]
["2021-02-08","HARDING"]
["2021-02-08","KITAMURA"]
["2021-02-08","MULTIBROCHE"]
["2021-02-08","NAKAMURA"]
["2021-02-08","TOUR WEILER"]
["2021-02-06","SST16"]
["2021-02-06","SB16"]
["2021-02-06","BIGLIA 301 SM"]
["2021-02-06","BIGLIA 42 S2M bitourelle"]
["2021-02-06","L32"]
["2021-02-06","TSUGAMI"]
["2021-02-06","MORI SEIKI 3 axes"]
["2021-02-06","MORI SEIKI 5 axes"]
["2021-02-06","HARDING"]
["2021-02-06","KITAMURA"]
["2021-02-06","MULTIBROCHE"]
["2021-02-06","NAKAMURA"]
["2021-02-06","TOUR WEILER"]
["2021-02-05","SST16"]
["2021-02-05","SB16"]
["2021-02-05","BIGLIA 301 SM"]
["2021-02-05","BIGLIA 42 S2M bitourelle"]
["2021-02-05","L32"]
["2021-02-05","TSUGAMI"]
["2021-02-05","MORI SEIKI 3 axes"]
["2021-02-05","MORI SEIKI 5 axes"]
["2021-02-05","HARDING"]
["2021-02-05","KITAMURA"]
["2021-02-05","MULTIBROCHE"]
["2021-02-05","NAKAMURA"]
["2021-02-05","TOUR WEILER"]
["2021-02-04","SST16"]
["2021-02-04","SB16"]
["2021-02-04","BIGLIA 301 SM"]
["2021-02-04","BIGLIA 42 S2M bitourelle"]
["2021-02-04","L32"]
["2021-02-04","TSUGAMI"]
["2021-02-04","MORI SEIKI 3 axes"]
["2021-02-04","MORI SEIKI 5 axes"]
["2021-02-04","HARDING"]
["2021-02-04","KITAMURA"]
["2021-02-04","MULTIBROCHE"]
["2021-02-04","NAKAMURA"]
["2021-02-04","TOUR WEILER"]
["2021-02-03","SST16"]
["2021-02-03","SB16"]
["2021-02-03","BIGLIA 301 SM"]
["2021-02-03","BIGLIA 42 S2M bitourelle"]
["2021-02-03","L32"]
["2021-02-03","TSUGAMI"]
["2021-02-03","MORI SEIKI 3 axes"]
["2021-02-03","MORI SEIKI 5 axes"]
["2021-02-03","HARDING"]
["2021-02-03","KITAMURA"]
["2021-02-03","MULTIBROCHE"]
["2021-02-03","NAKAMURA"]
["2021-02-03","TOUR WEILER"]
["2021-02-02","SST16"]
["2021-02-02","SB16"]
["2021-02-02","BIGLIA 301 SM"]
["2021-02-02","BIGLIA 42 S2M bitourelle"]
["2021-02-02","L32"]
["2021-02-02","TSUGAMI"]
["2021-02-02","MORI SEIKI 3 axes"]
["2021-02-02","MORI SEIKI 5 axes"]
["2021-02-02","HARDING"]
["2021-02-02","KITAMURA"]
["2021-02-02","MULTIBROCHE"]
["2021-02-02","NAKAMURA"]
["2021-02-02","TOUR WEILER"]
["2021-02-01","SST16"]
["2021-02-01","SB16"]
["2021-02-01","BIGLIA 301 SM"]
["2021-02-01","BIGLIA 42 S2M bitourelle"]
["2021-02-01","L32"]
["2021-02-01","TSUGAMI"]
["2021-02-01","MORI SEIKI 3 axes"]
["2021-02-01","MORI SEIKI 5 axes"]
["2021-02-01","HARDING"]
["2021-02-01","KITAMURA"]
["2021-02-01","MULTIBROCHE"]
["2021-02-01","NAKAMURA"]
["2021-02-01","TOUR WEILER"]
["2021-01-30","SST16"]
["2021-01-30","SB16"]
["2021-01-30","BIGLIA 301 SM"]
["2021-01-30","BIGLIA 42 S2M bitourelle"]
["2021-01-30","L32"]
["2021-01-30","TSUGAMI"]
["2021-01-30","MORI SEIKI 3 axes"]
["2021-01-30","MORI SEIKI 5 axes"]
["2021-01-30","HARDING"]
["2021-01-30","KITAMURA"]
["2021-01-30","MULTIBROCHE"]
["2021-01-30","NAKAMURA"]
["2021-01-30","TOUR WEILER"]
["2021-01-29","SST16"]
["2021-01-29","SB16"]
["2021-01-29","BIGLIA 301 SM"]
["2021-01-29","BIGLIA 42 S2M bitourelle"]
["2021-01-29","L32"]
["2021-01-29","TSUGAMI"]
["2021-01-29","MORI SEIKI 3 axes"]
["2021-01-29","MORI SEIKI 5 axes"]
["2021-01-29","HARDING"]
["2021-01-29","KITAMURA"]
["2021-01-29","MULTIBROCHE"]
["2021-01-29","NAKAMURA"]
["2021-01-29","TOUR WEILER"]
["2021-01-28","SST16"]
["2021-01-28","SB16"]
["2021-01-28","BIGLIA 301 SM"]
["2021-01-28","BIGLIA 42 S2M bitourelle"]
["2021-01-28","L32"]
["2021-01-28","TSUGAMI"]
["2021-01-28","MORI SEIKI 3 axes"]
["2021-01-28","MORI SEIKI 5 axes"]
["2021-01-28","HARDING"]
["2021-01-28","KITAMURA"]
["2021-01-28","MULTIBROCHE"]
["2021-01-28","NAKAMURA"]
["2021-01-28","TOUR WEILER"]
["2021-01-27","SST16"]
["2021-01-27","SB16"]
["2021-01-27","BIGLIA 301 SM"]
["2021-01-27","BIGLIA 42 S2M bitourelle"]
["2021-01-27","L32"]
["2021-01-27","TSUGAMI"]
["2021-01-27","MORI SEIKI 3 axes"]
["2021-01-27","MORI SEIKI 5 axes"]
["2021-01-27","HARDING"]
["2021-01-27","KITAMURA"]
["2021-01-27","MULTIBROCHE",1]
["2021-01-27","NAKAMURA"]
["2021-01-27","TOUR WEILER"]
["2021-01-26","SST16"]
["2021-01-26","SB16"]
["2021-01-26","BIGLIA 301 SM"]
["2021-01-26","BIGLIA 42 S2M bitourelle"]
["2021-01-26","L32"]
["2021-01-26","TSUGAMI"]
["2021-01-26","MORI SEIKI 3 axes"]
["2021-01-26","MORI SEIKI 5 axes"]
["2021-01-26","HARDING"]
["2021-01-26","KITAMURA"]
["2021-01-26","MULTIBROCHE"]
["2021-01-26","NAKAMURA"]
["2021-01-26","TOUR WEILER"]
["2021-01-25","SST16",1]
["2021-01-25","SB16"]
["2021-01-25","BIGLIA 301 SM"]
["2021-01-25","BIGLIA 42 S2M bitourelle"]
["2021-01-25","L32"]
["2021-01-25","TSUGAMI"]
["2021-01-25","MORI SEIKI 3 axes"]
["2021-01-25","MORI SEIKI 5 axes"]
["2021-01-25","HARDING"]
["2021-01-25","KITAMURA"]
["2021-01-25","MULTIBROCHE"]
["2021-01-25","NAKAMURA"]
["2021-01-25","TOUR WEILER"]
["2021-01-23","SST16"]
["2021-01-23","SB16"]
["2021-01-23","BIGLIA 301 SM"]
["2021-01-23","BIGLIA 42 S2M bitourelle"]
["2021-01-23","L32"]
["2021-01-23","TSUGAMI"]
["2021-01-23","MORI SEIKI 3 axes"]
["2021-01-23","MORI SEIKI 5 axes"]
["2021-01-23","HARDING"]
["2021-01-23","KITAMURA"]
["2021-01-23","MULTIBROCHE"]
["2021-01-23","NAKAMURA"]
["2021-01-23","TOUR WEILER"]
["2021-01-22","SST16"]
["2021-01-22","SB16"]
["2021-01-22","BIGLIA 301 SM"]
["2021-01-22","BIGLIA 42 S2M bitourelle"]
["2021-01-22","L32"]
["2021-01-22","TSUGAMI"]
["2021-01-22","MORI SEIKI 3 axes"]
["2021-01-22","MORI SEIKI 5 axes"]
["2021-01-22","HARDING"]
["2021-01-22","KITAMURA"]
["2021-01-22","MULTIBROCHE"]
["2021-01-22","NAKAMURA"]
["2021-01-22","TOUR WEILER"]
["2021-01-21","SST16"]
["2021-01-21","SB16"]
["2021-01-21","BIGLIA 301 SM"]
["2021-01-21","BIGLIA 42 S2M bitourelle"]
["2021-01-21","L32"]
["2021-01-21","TSUGAMI"]
["2021-01-21","MORI SEIKI 3 axes"]
["2021-01-21","MORI SEIKI 5 axes"]
["2021-01-21","HARDING"]
["2021-01-21","KITAMURA"]
["2021-01-21","MULTIBROCHE"]
["2021-01-21","NAKAMURA"]
["2021-01-21","TOUR WEILER"]
["2021-01-20","SST16"]
["2021-01-20","SB16"]
["2021-01-20","BIGLIA 301 SM"]
["2021-01-20","BIGLIA 42 S2M bitourelle"]
["2021-01-20","L32"]
["2021-01-20","TSUGAMI"]
["2021-01-20","MORI SEIKI 3 axes"]
["2021-01-20","MORI SEIKI 5 axes"]
["2021-01-20","HARDING"]
["2021-01-20","KITAMURA"]
["2021-01-20","MULTIBROCHE"]
["2021-01-20","NAKAMURA"]
["2021-01-20","TOUR WEILER"]
["2021-01-19","SST16"]
["2021-01-19","SB16"]
["2021-01-19","BIGLIA 301 SM"]
["2021-01-19","BIGLIA 42 S2M bitourelle"]
["2021-01-19","L32"]
["2021-01-19","TSUGAMI"]
["2021-01-19","MORI SEIKI 3 axes"]
["2021-01-19","MORI SEIKI 5 axes"]
["2021-01-19","HARDING"]
["2021-01-19","KITAMURA"]
["2021-01-19","MULTIBROCHE"]
["2021-01-19","NAKAMURA"]
["2021-01-19","TOUR WEILER"]
["2021-01-18","SST16"]
["2021-01-18","SB16"]
["2021-01-18","BIGLIA 301 SM"]
["2021-01-18","BIGLIA 42 S2M bitourelle"]
["2021-01-18","L32"]
["2021-01-18","TSUGAMI"]
["2021-01-18","MORI SEIKI 3 axes"]
["2021-01-18","MORI SEIKI 5 axes"]
["2021-01-18","HARDING"]
["2021-01-18","KITAMURA"]
["2021-01-18","MULTIBROCHE"]
["2021-01-18","NAKAMURA"]
["2021-01-18","TOUR WEILER"]
["2021-01-16","SST16"]
["2021-01-16","SB16"]
["2021-01-16","BIGLIA 301 SM"]
["2021-01-16","BIGLIA 42 S2M bitourelle"]
["2021-01-16","L32"]
["2021-01-16","TSUGAMI"]
["2021-01-16","MORI SEIKI 3 axes"]
["2021-01-16","MORI SEIKI 5 axes"]
["2021-01-16","HARDING"]
["2021-01-16","KITAMURA"]
["2021-01-16","MULTIBROCHE"]
["2021-01-16","NAKAMURA"]
["2021-01-16","TOUR WEILER"]
["2021-01-15","SST16"]
["2021-01-15","SB16"]
["2021-01-15","BIGLIA 301 SM"]
["2021-01-15","BIGLIA 42 S2M bitourelle"]
["2021-01-15","L32"]
["2021-01-15","TSUGAMI"]
["2021-01-15","MORI SEIKI 3 axes"]
["2021-01-15","MORI SEIKI 5 axes"]
["2021-01-15","HARDING"]
["2021-01-15","KITAMURA"]
["2021-01-15","MULTIBROCHE"]
["2021-01-15","NAKAMURA"]
["2021-01-15","TOUR WEILER"]
["2021-01-13","SST16"]
["2021-01-13","SB16"]
["2021-01-13","BIGLIA 301 SM"]
["2021-01-13","BIGLIA 42 S2M bitourelle"]
["2021-01-13","L32"]
["2021-01-13","TSUGAMI"]
["2021-01-13","MORI SEIKI 3 axes"]
["2021-01-13","MORI SEIKI 5 axes"]
["2021-01-13","HARDING"]
["2021-01-13","KITAMURA"]
["2021-01-13","MULTIBROCHE"]
["2021-01-13","NAKAMURA"]
["2021-01-13","TOUR WEILER"]
["2021-01-12","SST16"]
["2021-01-12","SB16"]
["2021-01-12","BIGLIA 301 SM"]
["2021-01-12","BIGLIA 42 S2M bitourelle"]
["2021-01-12","L32"]
["2021-01-12","TSUGAMI"]
["2021-01-12","MORI SEIKI 3 axes"]
["2021-01-12","MORI SEIKI 5 axes"]
["2021-01-12","HARDING"]
["2021-01-12","KITAMURA"]
["2021-01-12","MULTIBROCHE"]
["2021-01-12","NAKAMURA"]
["2021-01-12","TOUR WEILER"]
["2021-01-11","SST16"]
["2021-01-11","SB16"]
["2021-01-11","BIGLIA 301 SM"]
["2021-01-11","BIGLIA 42 S2M bitourelle"]
["2021-01-11","L32"]
["2021-01-11","TSUGAMI"]
["2021-01-11","MORI SEIKI 3 axes"]
["2021-01-11","MORI SEIKI 5 axes"]
["2021-01-11","HARDING"]
["2021-01-11","KITAMURA"]
["2021-01-11","MULTIBROCHE"]
["2021-01-11","NAKAMURA"]
["2021-01-11","TOUR WEILER"]
["2021-01-09","SST16"]
["2021-01-09","SB16"]
["2021-01-09","BIGLIA 301 SM"]
["2021-01-09","BIGLIA 42 S2M bitourelle"]
["2021-01-09","L32"]
["2021-01-09","TSUGAMI"]
["2021-01-09","MORI SEIKI 3 axes"]
["2021-01-09","MORI SEIKI 5 axes"]
["2021-01-09","HARDING"]
["2021-01-09","KITAMURA"]
["2021-01-09","MULTIBROCHE"]
["2021-01-09","NAKAMURA"]
["2021-01-09","TOUR WEILER"]
["2021-01-08","SST16"]
["2021-01-08","SB16"]
["2021-01-08","BIGLIA 301 SM"]
["2021-01-08","BIGLIA 42 S2M bitourelle"]
["2021-01-08","L32"]
["2021-01-08","TSUGAMI"]
["2021-01-08","MORI SEIKI 3 axes"]
["2021-01-08","MORI SEIKI 5 axes"]
["2021-01-08","HARDING"]
["2021-01-08","KITAMURA"]
["2021-01-08","MULTIBROCHE"]
["2021-01-08","NAKAMURA"]
["2021-01-08","TOUR WEILER"]
["2021-01-07","SST16"]
["2021-01-07","SB16"]
["2021-01-07","BIGLIA 301 SM"]
["2021-01-07","BIGLIA 42 S2M bitourelle"]
["2021-01-07","L32"]
["2021-01-07","TSUGAMI"]
["2021-01-07","MORI SEIKI 3 axes"]
["2021-01-07","MORI SEIKI 5 axes"]
["2021-01-07","HARDING"]
["2021-01-07","KITAMURA"]
["2021-01-07","MULTIBROCHE"]
["2021-01-07","NAKAMURA"]
["2021-01-07","TOUR WEILER"]
["2021-01-06","SST16"]
["2021-01-06","SB16"]
["2021-01-06","BIGLIA 301 SM"]
["2021-01-06","BIGLIA 42 S2M bitourelle"]
["2021-01-06","L32"]
["2021-01-06","TSUGAMI"]
["2021-01-06","MORI SEIKI 3 axes"]
["2021-01-06","MORI SEIKI 5 axes"]
["2021-01-06","HARDING"]
["2021-01-06","KITAMURA"]
["2021-01-06","MULTIBROCHE"]
["2021-01-06","NAKAMURA"]
["2021-01-06","TOUR WEILER"]
["2021-01-05","SST16"]
["2021-01-05","SB16"]
["2021-01-05","BIGLIA 301 SM"]
["2021-01-05","BIGLIA 42 S2M bitourelle"]
["2021-01-05","L32"]
["2021-01-05","TSUGAMI"]
["2021-01-05","MORI SEIKI 3 axes"]
["2021-01-05","MORI SEIKI 5 axes"]
["2021-01-05","HARDING"]
["2021-01-05","KITAMURA"]
["2021-01-05","MULTIBROCHE"]
["2021-01-05","NAKAMURA"]
["2021-01-05","TOUR WEILER"]
["2021-01-04","SST16"]
["2021-01-04","SB16"]
["2021-01-04","BIGLIA 301 SM"]
["2021-01-04","BIGLIA 42 S2M bitourelle"]
["2021-01-04","L32"]
["2021-01-04","TSUGAMI"]
["2021-01-04","MORI SEIKI 3 axes"]
["2021-01-04","MORI SEIKI 5 axes"]
["2021-01-04","HARDING"]
["2021-01-04","KITAMURA"]
["2021-01-04","MULTIBROCHE"]
["2021-01-04","NAKAMURA"]
["2021-01-04","TOUR WEILER"]
["2020-12-30","SST16"]
["2020-12-30","SB16"]
["2020-12-30","BIGLIA 301 SM"]
["2020-12-30","BIGLIA 42 S2M bitourelle"]
["2020-12-30","L32"]
["2020-12-30","TSUGAMI"]
["2020-12-30","MORI SEIKI 3 axes"]
["2020-12-30","MORI SEIKI 5 axes"]
["2020-12-30","HARDING"]
["2020-12-30","KITAMURA"]
["2020-12-30","MULTIBROCHE"]
["2020-12-30","NAKAMURA"]
["2020-12-30","TOUR WEILER"]

{"sheet":"Récap","index":4,"n_rows":59,"n_cols":15,"rows_kept":59,"cut":false,"hidden":false,"merged":[[0,13,0,15]]}
[null,"Semestre 1","Semestre 2",null,null,null,null,null,"Causes de refus","Résultat Global S1","Résultat Global S2","Résultat Sans Doublons S1","Résultat Sans Doublons S2","Nbre Result/TypeS1"]
["Consultations/Chiffrages déclinés",0,0,null,null,null,null,null,"prix objectif très faible","hors capacité",null,"hors capacité",null,{"$f":"IFERROR(COUNTIF($J:$J,L2),\"\")","v":1},{"$f":"IFERROR(COUNTIF($K:$K,M2),\"\")","v":0}]
["Réclamations clients",0,0,null,null,null,null,null,"faible serie",null,null,null,null,{"$f":"COUNTIF($J:$J,L3)","v":0},{"$f":"IFERROR(COUNTIF($K:$K,M3),\"\")","v":0}]
["Problèmes qualité fournisseurs/sous-traitants",0,0,null,null,null,null,null,"difficulté technique",null,null,null,null,0,0]
[null,null,null,null,null,null,null,null,"hors spécialité",null,null,null,null,0,0]
[null,null,null,null,null,null,null,null,"hors capacité",null,null,null,null,0,0]
[null,null,null,null,null,null,null,null,"client à risque",null,null,null,null,0,0]
[null,null,null,null,null,null,null,null,"Refus7",null,null,null,null,0,0]
[null,null,null,null,null,null,null,null,"Refus8",null,null,null,null,0,0]
[null,null,null,null,null,null,null,null,"Refus9",null,null,null,null,0,0]
[null,null,null,null,null,null,null,null,"Refus10",null,null,null,null,0,0]
[null,null,null,null,null,null,null,null,"Refus11",null,null,null,null,0,0]
[null,null,null,null,null,null,null,null,"Refus12",null,null,null,null,0,0]
[null,null,null,null,null,null,null,null,"Refus13",null,null,null,null,0,0]
[null,null,null,null,null,null,null,null,"Refus14",null,null,null,null,0,0]
[null,null,null,null,null,null,null,null,"Refus15",null,null,null,null,0,0]
[null,null,null,null,null,null,null,null,"Refus16",null,null,null,null,0,0]
[null,null,null,null,null,null,null,null,"Refus17",null,null,null,null,0,0]
[null,null,null,null,null,null,null,null,"Refus18",null,null,null,null,0,0]
[null,null,null,null,null,null,null,null,"Refus19",null,null,null,null,0,0]
[null,null,null,null,null,null,null,null,"Refus20",null,null,null,null,0,0]
[null,null,null,null,null,null,null,null,"Refus21",null,null,null,null,0,0]
[null,null,null,null,null,null,null,null,"Refus22",null,null,null,null,0,0]
[null,null,null,null,null,null,null,null,"Refus23",null,null,null,null,0,0]
[null,null,null,null,null,null,null,null,"Refus24",null,null,null,null,0,0]
[null,null,null,null,null,null,null,null,"Refus25",null,null,null,null,0,0]
[null,null,null,null,null,null,null,null,"Refus26",null,null,null,null,0,0]
[null,null,null,null,null,null,null,null,"Refus27",null,null,null,null,0,0]
[null,null,null,null,null,null,null,null,"Refus28",null,null,null,null,0,0]
[null,null,null,null,null,null,null,null,"Refus29",null,null,null,null,0,0]
[null,null,null,null,null,null,null,null,"Refus30",null,null,null,null,0,0]
[null,null,null,null,null,null,null,null,null,null,null,null,null,null,0]
[null,null,null,null,null,null,null,null,null,null,null,null,null,null,0]
[]
[]
[]
[]
[]
[]
[]
[]
[]
[]
[]
[]
[]
[]
[]
[]
[]
[]
[]
[]
[]
[null,null,null,null,null,null,null,null,null,null,null,null,null,null,0]
[null,null,null,null,null,null,null,null,null,null,null,null,null,null,0]
[null,null,null,null,null,null,null,null,null,null,null,null,null,null,0]
[null,null,null,null,null,null,null,null,null,null,null,null,null,null,0]
[null,null,null,null,null,null,null,null,null,null,null,null,null,null,0]

{"sheet":"Coûts de détection","index":5,"n_rows":22,"n_cols":13,"rows_kept":22,"cut":false,"hidden":false,"merged":[[0,0,3,0],[0,1,3,10],[19,4,19,12],[20,4,20,12],[21,4,21,12]]}
[null,"Coûts de détection",null,null,null,null,null,null,null,null,null,"Code"]
[null,null,null,null,null,null,null,null,null,null,null,"Date"]
[null,null,null,null,null,null,null,null,null,null,null,"Version"]
[null,null,null,null,null,null,null,null,null,null,null,"Page"]
[]
["Critéres Sources","Coûts Janvier DT","Coûts Février DT","Coûts Mars DT","Coûts Avril DT","Coûts Mai DT","Coûts Juin DT","Coûts Juillet DT","Coûts Août DT","Coûts Septembre DT","Coûts  Octobre DT","Coûts Novembre DT","Coûts Décembre DT"]
["Coût nombre d'heures liés au Triage",{"$f":"'récap des coûts'!B3","v":0},{"$f":"'récap des coûts'!C3","v":0},{"$f":"'récap des coûts'!D3","v":0},{"$f":"'récap des coûts'!E3","v":100},{"$f":"'récap des coûts'!F3","v":0},{"$f":"'récap des coûts'!G3","v":0},{"$f":"'récap des coûts'!H3","v":0},{"$f":"'récap des coûts'!I3","v":0},{"$f":"'récap des coûts'!J3","v":0},{"$f":"'récap des coûts'!K3","v":0},{"$f":"'récap des coûts'!L3","v":0},{"$f":"'récap des coûts'!M3","v":0}]
[null,{"$f":"SUM(B7:B7)","v":0},{"$f":"SUM(C7:C7)","v":0},{"$f":"+SUM(D7:D7)","v":0},{"$f":"SUM(E7:E7)","v":100},{"$f":"SUM(F7)","v":0},{"$f":"G7","v":0},0,0,0,0,0,0]
[]
[]
[]
[]
[]
[]
[]
[]
[]
[]
[]
["Rédacteur : Safa Charfi",null,null,null,"Approbateur : AMOURI Mourad"]
["Date : 08/04/2020",null,null,null,"Date : 08/04/2020"]
["Visa :",null,null,null,"Visa :"]

{"sheet":"Coûts des défaillances externes","index":6,"n_rows":16,"n_cols":13,"rows_kept":16,"cut":false,"hidden":false,"merged":[[0,0,3,0],[0,1,3,9],[0,11,0,12],[1,11,1,12],[2,11,2,12],[3,11,3,12],[14,4,14,12],[15,4,15,12],[5,16,5,17],[6,16,6,17],[13,4,13,12]]}
[null,"Coûts de défaillance externe",null,null,null,null,null,null,null,null,"Code",": DAS-PRO-26"]
[null,null,null,null,null,null,null,null,null,null,"Date",":20/10/2018"]
[null,null,null,null,null,null,null,null,null,null,"Version",": 02"]
[null,null,null,null,null,null,null,null,null,null,"Page",": 1/2"]
[]
["Critéres Sources","Coûts Janvier DT","Coûts Février DT","Coûts Mars DT","Coûts Avril DT","Coûts Mai DT","Coûts Juin DT","Coûts Juillet DT","Coûts Août DT","Coûts Septembre DT","Coûts  Octobre DT","Coûts Novembre DT","Coûts Décembre DT"]
["Coûts de nombre d'heures de traitement des réclamations clients, drogations, rapport 8D",{"$f":"'récap des coûts'!B10","v":0},{"$f":"'récap des coûts'!C10","v":0},{"$f":"'récap des coûts'!D10","v":0},{"$f":"'récap des coûts'!E10","v":0},{"$f":"'récap des coûts'!F10","v":0},{"$f":"'récap des coûts'!G10","v":0},{"$f":"'récap des coûts'!H10","v":0},{"$f":"'récap des coûts'!I10","v":0},{"$f":"'récap des coûts'!J10","v":0},{"$f":"'récap des coûts'!K10","v":0},{"$f":"'récap des coûts'!L10","v":0},{"$f":"'récap des coûts'!M10","v":0}]
["Cout de NC externe (détecté chez le client)",{"$f":"'récap des coûts'!B11","v":0},{"$f":"'récap des coûts'!C11","v":0},{"$f":"'récap des coûts'!D11","v":0},{"$f":"'récap des coûts'!E11","v":0},{"$f":"'récap des coûts'!F11","v":0},{"$f":"'récap des coûts'!G11","v":0},{"$f":"'récap des coûts'!H11","v":0},{"$f":"'récap des coûts'!I11","v":0},{"$f":"'récap des coûts'!J11","v":0},{"$f":"'récap des coûts'!K11","v":0},{"$f":"'récap des coûts'!L11","v":0},{"$f":"'récap des coûts'!M11","v":0}]
["Avoir dûs à la non qualité",{"$f":"'récap des coûts'!B11","v":0},{"$f":"'récap des coûts'!C11","v":0},{"$f":"'récap des coûts'!D11","v":0},{"$f":"'récap des coûts'!E11","v":0},{"$f":"'récap des coûts'!F11","v":0},{"$f":"'récap des coûts'!G11","v":0},{"$f":"'récap des coûts'!H11","v":0},{"$f":"'récap des coûts'!I11","v":0},{"$f":"'récap des coûts'!J11","v":0},{"$f":"'récap des coûts'!K11","v":0},{"$f":"'récap des coûts'!L11","v":0},{"$f":"'récap des coûts'!M11","v":0}]
["Penalité",{"$f":"0","v":0},{"$f":"0","v":0}]
[null,{"$f":"SUM(B7:B10)","v":0},{"$f":"SUM(C7:C10)","v":0},{"$f":"+SUM(D7:D10)","v":0},{"$f":"SUM(E7:E10)","v":0},{"$f":"SUM(F7:F10)","v":0},{"$f":"SUM(G7:G10)","v":0},{"$f":"SUM(H7:H10)","v":0},{"$f":"SUM(I7:I9)","v":0},{"$f":"SUM(J7:J9)","v":0},{"$f":"SUM(K7:K10)","v":0},{"$f":"SUM(L7:L10)","v":0},{"$f":"SUM(M7:M10)","v":0}]
[]
[]
["Rédacteur : Safa Charfi",null,null,null,"Approbateur : AMOURI Mourad"]
["Date : 08/04/2020",null,null,null,"Date :  08/04/2020"]
["Visa :",null,null,null,"Visa :"]

{"sheet":"Coûts des défaillances internes","index":7,"n_rows":20,"n_cols":25,"rows_kept":20,"cut":false,"hidden":false,"merged":[[19,8,19,24],[0,0,3,1],[0,2,3,20],[0,24,0,25],[1,24,1,25],[2,24,2,25],[3,24,3,25],[5,0,5,6],[17,8,17,24],[18,8,18,24]]}
[null,null,"Coûts de défaillance interne",null,null,null,null,null,null,null,null,null,null,null,null,null,null,null,null,null,null,"Code",null,null,": DAS-PRO-26"]
[null,null,null,null,null,null,null,null,null,null,null,null,null,null,null,null,null,null,null,null,null,"Date",null,null,":20/10/2018"]
[null,null,null,null,null,null,null,null,null,null,null,null,null,null,null,null,null,null,null,null,null,"Version",null,null,": 02"]
[null,null,null,null,null,null,null,null,null,null,null,null,null,null,null,null,null,null,null,null,null,"Page",null,null,": 1/2"]
[]
["Coûts des anomalies internes relevé"]
[]
["Critéres Sources","Secteur","Quoi ?","Fréquence","Montant"]
["Rebuts","PRO","Quantité","Mois"]
["Retouches","PRO","Temps de retouche","Mois"]
[]
["Critéres Sources","Quoi ? /                 Qui?","Coûts Janvier DT","Quoi ? /                 Qui?","Coûts Février DT","Quoi ? /                 Qui?","Coûts Mars DT","Quoi ? /                 Qui?","Coûts Avril DT","Quoi ? /                 Qui?","Coûts Mai DT","Quoi ? /                 Qui?","Coûts Juin DT","Quoi ? /                 Qui?","Coûts Juillet DT","Quoi ? /                 Qui?","Coûts Août DT","Quoi ? /                 Qui?","Coûts Septembre DT","Quoi ? /                 Qui?","Coûts  Octobre DT","Quoi ? /                 Qui?","Coûts Novembre DT","Quoi ? /                 Qui?","Coûts Décembre DT"]
["Rebuts",null,0,null,{"$f":"'récap des coûts'!C17","v":40184},null,{"$f":"'récap des coûts'!D17","v":0},null,{"$f":"'récap des coûts'!E17","v":2},null,{"$f":"'récap des coûts'!F17","v":0},null,{"$f":"'récap des coûts'!G17","v":0},null,{"$f":"'récap des coûts'!H17","v":0},null,{"$f":"'récap des coûts'!I17","v":0},null,{"$f":"'récap des coûts'!J17","v":0},null,{"$f":"'récap des coûts'!K17","v":0},null,{"$f":"'récap des coûts'!L17","v":0},null,{"$f":"'récap des coûts'!M17","v":0}]
["Retouche",null,{"$f":"'récap des coûts'!B18","v":0},null,{"$f":"'récap des coûts'!C18","v":0},null,{"$f":"'récap des coûts'!D18","v":0},null,{"$f":"'récap des coûts'!E18","v":0},null,{"$f":"'récap des coûts'!F18","v":0},null,{"$f":"'récap des coûts'!G18","v":0},null,{"$f":"'récap des coûts'!H18","v":0},null,{"$f":"'récap des coûts'!I18","v":0},null,{"$f":"'récap des coûts'!J18","v":0},null,{"$f":"'récap des coûts'!K18","v":0},null,{"$f":"'récap des coûts'!L18","v":0},null,{"$f":"'récap des coûts'!M18","v":0}]
[null,"Total",{"$f":"SUM(C13:C14)","v":0},"Total",{"$f":"SUM(E13:E14)","v":40184},"Total",{"$f":"SUM(G13:G14)","v":0},"Total",{"$f":"SUM(I13:I14)","v":2},"Total",{"$f":"SUM(K13:K14)","v":0},"Total",{"$f":"SUM(M13:M14)","v":0},"Total",{"$f":"SUM(O13:O14)","v":0},"Total",{"$f":"SUM(Q13:Q14)","v":0},"Total",{"$f":"SUM(S13:S14)","v":0},"Total",{"$f":"SUM(U13:U14)","v":0},"Total",{"$f":"SUM(W13:W14)","v":0},"Total",{"$f":"SUM(Y13:Y14)","v":0}]
[]
[]
["Rédacteur : Safa Charfi",null,null,null,null,null,null,null,"Approbateur : AMOURI Mourad"]
["Date : 08/04/2020",null,null,null,null,null,null,null,"Date : 08/04/2020"]
["Visa :",null,null,null,null,null,null,null,"Visa :"]

{"sheet":"cout opérateur machines","index":8,"n_rows":9,"n_cols":2,"rows_kept":9,"cut":false,"hidden":false,"merged":[]}
["opérateur/machine","cout/ heure"]
["amin",10]
["rim",10]
["hedia",7]
["safa",10]
["zina",7]
["machine reprise",8]
["machine cnc",15]
["décolleteur",10]

{"sheet":"Prix de revient","index":9,"n_rows":156,"n_cols":7,"rows_kept":156,"cut":false,"hidden":false,"merged":[[1,6,3,7]]}
["Référence","Désignation","Prix de revient(euro)","Prix de revient(TND)"]
["DE-10048","INSERT DECOLLETE R171",0.16800000000000001,{"$f":"3.16*C2","v":0.53088000000000002},null,null,"Prix de revient des articles"]
["IN W164 COUR","INSERT W164 COURT(DE-10144)",0.121,{"$f":"3.16*C3","v":0.38236000000000003}]
["B72903","3-BKT ANSCHRAUBWINKEL ST 1158",0.51,1.6116000000000001]
["SAP NR 5-001-39834","AXE 5001-39834 INOX",0.56000000000000005,1.7696000000000003]
["SAP NR 5-001-46857","FUHRUNGSSAULE-D8-90-M4-i-i",0.51,1.6116000000000001]
["MEC1017","AXE LEVIER PORTE",0.17399999999999999,0.54984]
["E35530672 F","ARMATURE INTERIEUR ZINGUE",7.9000000000000001E-2,0.24964]
["LC1327C200","GOUJON M4",0.66,2.0856000000000003]
[35133801,"QAB14*18-D16 NLD(BAGUE ACIER D22)",0.4,1.2640000000000002]
["19087-1-1","FC FOURCHETTE",{"$f":"3.16*1.48","v":4.6768000000000001},1.48]
["19097-2-1","PIECE MOULEE V02",{"$f":"3.16*1.48","v":4.6768000000000001},9.6999999999999993]
["2018021-01-01","TIGE-D10-M8",4.6768000000000001,0.97099999999999997]
[2018063,"INSERT POUR FOURCHETTE FORME D",4.6768000000000001,0.48699999999999999]
["2018122-03","AXE MALE-001",4.6768000000000001,1.85]
["2018122-04","BAGUE-001",4.6768000000000001,1.492]
["FO013","ECROU DE ROUE FORD RANGER",0.35,{"$f":"3.16*C17","v":1.1059999999999999}]
["FO014","GOUJON DE ROUE MAZDA",0.25,{"$f":"3.16*C18","v":0.79}]
["G028","GOUJON M14*1.5 L=52 NON FRAISEE",0.25,0.79]
["H001","GOUJON DE ROUE HYUNDAI H100",0.22,0.69520000000000004]
["I025","ECROU DE ROUE TFR ISUZU",0.3,0.94799999999999995]
["I137","ECROU DE ROUE TFR CHROME",0.32,1.0112000000000001]
["MI030","AXE ETRIER MITSUBISHI INF L200 AVEC SOUFFLET(537)",1.5,4.74]
["TO008","GOUJON HILUX",0.32,1.0112000000000001]
["TO009","GOUJON LONCLUSER AV ET AR",0.32,1.0112000000000001]
["G023","BAGUE ACIER 16X12X86",0.25,{"$f":"3.16*C26","v":0.79}]
["301-603-009","FAN OUT JENOPTEC 12FO",0.14499999999999999,0.4582]
["301-603-011-CP1","FANOUT FOR 36FO JENOPTEC-CHEMISE",0.65,2.0540000000000003]
["301-603-011-CP2","FANOUT FOR 36FO JENOPTEC-BOUCHON PERCE",0.41499999999999998,1.3113999999999999]
["301-603-011-CP3","FANOUT FOR 36FO JENOPTEC-BOUCHON FILETE",0.37,1.1692]
["901-609-001-CP1","FANOUT 72FO POM C NOIR-CHEMISE",0.95799999999999996,3.0272800000000002]
["901-609-001-CP2","FANOUT 72FO POM C NOIR-BOUCHON PERCE",0.43,1.3588]
["901-609-001-CP3","FANOUT 72FO POM C NOIR-BOUCHON FILETE",0.28999999999999998,0.91639999999999999]
["IC5253","MAIN BODY PRIMARY FAN OUT  ",0.38,1.2008000000000001]
["IC5254","ANCHORING PLATE RISER",0.63,1.9908000000000001]
["OPE-047","CRIMP BODY FOR SECONDARY FAN OUT",8.8999999999999996E-2,0.28123999999999999]
["OTT-169","MAIN BODY FOR SECONDRY FAN OUT",0.17199999999999999,0.54352]
["OTT-170","CLAMPING RING 120Fo",4.4999999999999998E-2,0.14219999999999999]
["OTT-171","CLAMPING RING 240Fo",0.105,0.33179999999999998]
["OTT-172","CLAMPING RING 360Fo",0.105,0.33179999999999998]
["I110-01-004","INSERT LEVIER SURMOULEE 345833-01",0.68,2.1488]
[510020,"INSERTO ESAG.M6 8*6",5.2999999999999999E-2,0.16747999999999999]
[510021,"QUADRO 10*60 AVP-AXE ACIER",0.26200000000000001,0.8279200000000001]
[510081,"BUSS.DIS.14-3003 13/20X28.7 AVP CARB",0.20399999999999999,0.64463999999999999]
[510087,"BUSS D13/20X18,2 AVP CARB-BAGUE ACIER D20",0.16400000000000001,0.51824000000000003]
[510090,"INSERTO ESAG,M8 12*12",0.127,0.40132000000000001]
[511040,"BRONZINA 16/18X10.3",0.19,0.60040000000000004]
[511100,"DIS.0050227100 PERNO D.6X62",null,0]
[511110,"DIS.0050213300 PERNO D.6X30,6 INOX D6",0.14499999999999999,0.4582]
[512800,"PERNO DISINNESTO RULLO G16922290 laiton",7.5999999999999998E-2,0.24016000000000001]
[199400,"TIRANT ACIER D6",0.10199999999999999,0.32232]
[200101,"AXE D'ARTICULATION",0.16,0.50560000000000005]
[202200,"TIGE DE PISTON",2.8,8.847999999999999]
[480387,"EVACUATION 2/3G X-ONE",1.7,5.3719999999999999]
["OUTI-BOUCH","BOUCHON EN PLASTIQUE",0.13100000000000001,0.41396000000000005]
["OUTI-PLOT","PLOT NEZ DE MARCHE",0.14000000000000001,0.44240000000000007]
["SE89O0","RACCORD ACIER HEX 17 MPS000300",0.12,0.37919999999999998]
["SH42Z1","PORTA VALVOLA DA SALDRE",0.3,0.94799999999999995]
["K0162AA","JONC SUPPORT CIBLE",0.4,1.2640000000000002]
["BROCH L 230","BROCHE ACIER D13 ZINGUE L230",0.8,2.5280000000000005]
["ALBLO021019STJCN","BLOC A CLAPET",2.8,8.847999999999999]
["ALBOS06100L08","BOSSAGE PURGE M6",0.35,1.1059999999999999]
["BOSSAGE1_8L08","BOSSAGE 1/8G Lg8mm",1.4,4.4239999999999995]
["CHCHEMISE014JCN","CHEMISE JCI Ø14",0.7,2.2119999999999997]
["CHSIEGE-JCN","SIÈGE JCU-BAGUE EN ACIER",1.35,4.2660000000000009]
["ECM16L18HEX19","ECROU M16*1.5 L18 HEX19",0.5,1.58]
[200300,"TIGE DE PISTON",1.034,3.2674400000000001]
[200300,"TIGE DE PISTON",1.034,3.2674400000000001]
["301-601-002-ST","CORDGRIP M20-RACCORD PIECE AUTO REF 71002213",4.0634920634920635E-2,{"$f":"3.16*C69","v":0.12840634920634922}]
["301-603-011-CP1","FANOUT FOR 36FO JENOPTEC-CP1",0.65,2.0540000000000003]
["301-603-011-CP2","FANOUT FOR 36FO JENOPTEC-CP2",0.41499999999999998,1.3113999999999999]
["301-603-011-CP3","FANOUT FOR 36FO JENOPTEC-CP3",0.37,1.1692]
["901-609-001-CP1","FANOUT FOR 72FO JENOPTEC-CP1",0.95799999999999996,3.0272800000000002]
["901-609-001-CP2","FANOUT FOR 72FO JENOPTEC-CP2",0.43,1.3588]
["EMA-71005903","BOUCHON BLEU MJM",0.13100000000000001,0.41396000000000005]
["INSERT D8","INSERT LAITON D8",0.2,0.63200000000000012]
[512520,"INSERTO INOX M8",0.39500000000000002,{"$f":"C77*3.16","v":1.2482000000000002}]
["I143-CP1","ECROU DE ROUE TFR ISUZU -nak",0,{"$f":"C78*3.16","v":0}]
["F046-CP2","BAGUE DECOLLETEE TUBE D'EAU PALIO -CP2",0,{"$f":"C79*3.16","v":0}]
[200200,"Embout de tige",1.117,3.5297200000000002]
["BROCH L 180","BROCHE ACIER D13 ZINGUE L180",0.3,0.94799999999999995]
["H004-CP1","BAGUE DECOLLETEE D38-CP1",0,0]
["28407-100-10","BAGUE d'ANNEAU OUVERT-INOX D20",0.42,1.3271999999999999]
["TO010-CP2","AXE JUMELLE TOYOTA PM-CP2",0,0]
["19081-3","S4-V7",{"$f":"D85/3.16","v":6.3291139240506329},20]
["MI030-CP2-PROD","BOULON AXE ETRIER MITSUBISHI D21.9-CP2 PROD",0,0]
["20013-21","AXE METALLIQUE MONODOIGT",{"$f":"D87/3.16","v":0.40253164556962023},1.272]
[551275,"ECROU FREIN M12*150(taraudage sur PF42 apres reclamation)",0,0]
["19164-11","P1 FSS V01",{"$f":"D89/3.16","v":0.40253164556962023},1.272]
[480387,"EVACUATION 2/3G X-ONE nakamura",1.7,5.3719999999999999]
["SE89O0","RACCORD ACIER HEX 17 MPS000300 percage",0.12,0.37919999999999998]
["3-72-70036","AXE INOX D5.5*1620",0.2,0.63200000000000012]
[7531,"AXE INOX D5*1828",0.2,0.63200000000000012]
["12*22*69","BAGUE 12*22*69",0,{"$f":"3.16*C94","v":0}]
["I039","GOUON DE ROUE ISUZI",0,0]
["0-5525-1","14*20*38",0,0]
["B012","ECROU FUSEE 404",0,0]
["0-4236-1","Bague Galvanisée 16*20*38 apartir des chutes",0,0]
["TF57-CP2","Axe jumelle double",0,0]
["4-8809-1","Bague Galvanisée  10*16*25",0,0]
["I081-95-CP9","CHEMISE BOITIER TFR+KB",0,0]
["0-3773-1","Bague Galvanisée 12*16*32",0,0]
["0-4226-1","Bague Galvanisée 14*16*32",0,0]
["4-7029-1","Bague Galvanisée 12*18*32",0,0]
["4-7986-1","Bague Galvanisée 9*12*30,5",0,0]
["B041-CP3","PISTON TETE POMPETE 404",0,0]
["BAG LAIT 10.2X12.9","BAGUE LAITON Ø10.2*12.9",0,0]
["I100-CP2","AXE ETRIER ISUZU-CP2",0,0]
["B041-CP3","PISTON TETE POMPETE 404",0,0]
["0-4457","Anneau Brute 30*38*21",0,0]
[893004,"SUPPORT DE ROUTULE D40",0,0]
[181075,"BAGUE 10.5X24X75",0,0]
["0-4457","Anneau Brute 30*38*21",0,0]
["0-4965","Anneau Brute 30*38*27",0,0]
["4-7002-1","Bague Galvanisée 16*28*100",0,0]
["4-7986-1","Bague Galvanisée 9*12*30,5",0,0]
["I097","ECROU GOUJON DE ROUE TOYOTA",0,0]
["4-7088","Anneau Brute 30*38*24",0,0]
["4-7986-1","Bague Galvanisée 9*12*30,5",0,0]
["0-4457","Anneau Brute 30*38*21",0,0]
["BCH-IN-D14-10","Bouchon inox D14-10",0,0]
["30*38*21","Anneau Brute 30*38*21",0,0]
["FO021-CP2","AXE L=124mm JEMELLE FORD",0,0]
["FO002-CP2","BAGUE INTERIEUR SILENT BLOC FORD RANGER",0,0]
["FO012-CP1-PROD","BAGUE TUBE DEAU FORD PROD",0,0]
["I071","RACCORD POMPE A EAU ISUZU",0,0]
["I007","ECROU SEMI ARBRE ISUZU",0,0]
["4-7348-1","Bague Galvanisée 16*22*44 apartir des chutes",0,0]
["M062","CAL NECESSAIRE CONTRE RESSORT OM40",0,0]
["I004","ECROU SUSPENSION ISUZU",0,0]
["4-7494-1","Bague Galvanisée 16*22*38apartir des chutes",0,0]
["0-5202-1","Bague Galvanisée 14*20*40",0,0]
["4-7176-1","Bague Galvanisée 12*18*44  ",0,0]
["0-3888","Anneau Brute 25.2*32*17 Nakamura",0,0]
["D004-ACI","CULOT BOUGIE H16 C9YC EN ACIER",0,0]
["0-3773-1","Bague Galvanisée 12*16*32 a partir des chutes ",0,0]
["0-5022-1","Bague Galvanisée 20*26*52",0,0]
["0-4180","Anneau FX 25.2*32*21- par chutes ",0,0]
["4-7910","Bague Aluminium 14,4*27*42 à partir des chutes",0,0]
["0-3888","Anneau  25.2*32*17",0,0]
["FO011-PROD","AXE ETRIER FORD RANGER-PROD",0,0]
["4-8661","Bague Brute 12*20*14.5",0,0]
["4-7611","Anneau  25.2*32*29",0,0]
["0-3863","Anneau BN 25.2*32*31.5 a partir des chutes ",0,0]
["4-7910","Bague Aluminium 14,4*27*50",0,0]
["0-6210-1","Bague Galvanisée 12*22*43 à partir des chutes",0,0]
["0-5280-1","Bague Galvanisée 12*20*40 à partir de chutes",0,0]
["0-5052-1","Bague Galvanisée 12*16*15 ",0,0]
["0-5524-1","Bague Galvanisée 14*20*38",0,0]
["301-603-026-CP1","Fanout for 6FO Idea-CP1",0.47,1.4852000000000001]
["ARRET-PORTE-CP1","ARRET DE PORTE-CP1",0,0]
["4-8746","Bague Galvaniée 40*42.4*49",0,0]
["I197-CP1","AXE ETRIER D'MAX 8-98006256 TETE CARRE-CP1",0,0]
["4-8749","Bague Galvaniée 40*42.4*24",0,0]
["4-7003-1","Bague Galvanisée 16*28*66",0,0]
["4-8136-1","test SWF",5000,4000]

{"sheet":"récap des coûts","index":10,"n_rows":18,"n_cols":13,"rows_kept":18,"cut":false,"hidden":false,"merged":[]}
["Mois","Janvier","Février","Mars","Avril","Mai","Juin","Juillet","Aout","Septembre","Octobre","Novembre","Décembre"]
["N° mois",1,2,3,4,5,6,7,8,9,10,11,12]
["Coût tri en DT",{"$f":"cout_mois.cout_mois(\"Rapport journalier\",B2)","v":0},0,0,{"$f":"cout_mois.cout_mois(\"Rapport journalier\",E2)","v":100},0,0,0,0,0,0,0,0]
["coût formation professionnelle en DT",{"$f":"cout_mois2.cout_mois2(\"Rapport journalier\",B2)","v":0},0,0,0,0,0,0,0,0,0,0,0]
["l'année en cours"]
[2022]
["nombre d'affûtages mensuellement",{"$f":"nbre_aff_mois.nbre_aff_mois(\"Rapport journalier\",B2)","v":0},0,0,0,0,0,0,0,0,0,0,0]
["coût mensuel d'affûtage",{"$f":"5*B7","v":0},{"$f":"5*C7","v":0},{"$f":"5*D7","v":0},{"$f":"5*E7","v":0},0,{"$f":"5*G7","v":0},0,0,{"$f":"5*J7","v":0},0,0,0]
["nombre mensuel de réclamations",{"$f":"nbre_rec_mois.nbre_rec_mois(\"Rapport journalier\",B2)","v":0},0,0,0,0,0,0,0,0,0,0,0]
["coût mensuel des réclamations",{"$f":"3*B9*'cout opérateur machines'!$B$3","v":0},{"$f":"3*C9*'cout opérateur machines'!$B$3","v":0},{"$f":"3*D9*'cout opérateur machines'!$B$3","v":0},{"$f":"3*E9*'cout opérateur machines'!$B$3","v":0},{"$f":"3*F9*'cout opérateur machines'!$B$3","v":0},{"$f":"3*G9*'cout opérateur machines'!$B$3","v":0},{"$f":"3*H9*'cout opérateur machines'!$B$3","v":0},{"$f":"3*I9*'cout opérateur machines'!$B$3","v":0},{"$f":"3*J9*'cout opérateur machines'!$B$3","v":0},{"$f":"3*K9*'cout opérateur machines'!$B$3","v":0},{"$f":"3*L9*'cout opérateur machines'!$B$3","v":0},{"$f":"3*M9*'cout opérateur machines'!$B$3","v":0}]
["coût mensuel des avoirs",{"$f":"cout_avoir_mois.cout_avoir_mois(\"Rapport journalier\",B2)","v":0},0,0,0,0,0,0,0,0,0,0,0]
["cout pièces de rechange",{"$f":"cout_PR_mois.cout_PR_mois(\"Rapport journalier\",B2)","v":0},{"$f":"cout_PR_mois.cout_PR_mois(\"Rapport journalier\",C2)","v":0},{"$f":"cout_PR_mois.cout_PR_mois(\"Rapport journalier\",D2)","v":0},0,0,0,0,0,0,0,0,0]
["durée mensuelle de pannes en min",0,0,0,0,0,0,0,0,0,0,0,0]
["durée mensuelle de pannes en heures",{"$f":"B13/60","v":0},0,0,0,0,0,{"$f":"H13/60","v":0},0,0,0,0,0]
["coût des pannes",{"$f":"B14*'cout opérateur machines'!$B$8","v":0},{"$f":"C14*'cout opérateur machines'!$B$8","v":0},{"$f":"D14*'cout opérateur machines'!$B$8","v":0},{"$f":"E14*'cout opérateur machines'!$B$8","v":0},{"$f":"F14*'cout opérateur machines'!$B$8","v":0},{"$f":"G14*'cout opérateur machines'!$B$8","v":0},{"$f":"H14*'cout opérateur machines'!$B$8","v":0},{"$f":"I14*'cout opérateur machines'!$B$8","v":0},{"$f":"J14*'cout opérateur machines'!$B$8","v":0},{"$f":"K14*'cout opérateur machines'!$B$8","v":0},{"$f":"L14*'cout opérateur machines'!$B$8","v":0},{"$f":"M14*'cout opérateur machines'!$B$8","v":0}]
["coût de la maintenance curative",{"$f":"B15+B12","v":0},{"$f":"C15+C12","v":0},{"$f":"D15+D12","v":0},{"$f":"E15+E12","v":0},{"$f":"F15+F12","v":0},0,0,0,0,0,0,0]
["coût des rebuts",{"$f":"cout_rebuts_mois.cout_rebuts_mois(\"Rapport journalier\",B2)","v":0},{"$f":"cout_rebuts_mois.cout_rebuts_mois(\"Rapport journalier\",C2)","v":40184},{"$f":"cout_rebuts_mois.cout_rebuts_mois(\"Rapport journalier\",D2)","v":0},{"$f":"cout_rebuts_mois.cout_rebuts_mois(\"Rapport journalier\",E2)","v":2},{"$f":"cout_rebuts_mois.cout_rebuts_mois(\"Rapport journalier\",F2)","v":0},0,0,0,0,0,{"$f":"cout_rebuts_mois.cout_rebuts_mois(\"Rapport journalier\",L2)","v":0},0]
["coûts de la reprise ( retouche)",{"$f":"cout_reprise_mois.cout_reprise_mois(\"Rapport journalier\",B2)","v":0},0,0,{"$f":"cout_reprise_mois.cout_reprise_mois(\"Rapport journalier\",E2)","v":0},0,0,0,0,0,0,0,0]

{"sheet":"31-12-2021","index":11,"n_rows":61,"n_cols":33,"rows_kept":61,"cut":false,"hidden":false,"merged":[[31,1,31,2],[32,1,32,2],[47,18,47,19],[49,18,49,19],[25,1,25,2],[26,1,26,2],[27,1,27,2],[28,1,28,2],[29,1,29,2],[30,1,30,2],[19,1,19,2],[20,1,20,2],[21,1,21,2],[22,1,22,2],[23,1,23,2],[24,1,24,2],[12,1,12,2],[13,1,13,2],[14,1,14,2],[15,1,15,2],[16,1,16,2],[17,1,18,1],[1,2,4,3],[1,4,4,16],[1,17,1,19],[1,21,1,23],[2,17,2,19],[2,21,2,23],[3,17,3,19],[3,21,3,23],[4,17,4,19],[4,21,4,23]]}
[]
[null,null,null,null,"Rapport journalier",null,null,null,null,null,null,null,null,null,null,null,null,"Code:DAS-SMQ-24"]
[null,null,null,null,null,null,null,null,null,null,null,null,null,null,null,null,null,"Date: 27/12/2019"]
[null,null,null,null,null,null,null,null,null,null,null,null,null,null,null,null,null,"Version:01"]
[null,null,null,null,null,null,null,null,null,null,null,null,null,null,null,null,null,"Page:1"]
[]
[]
[]
[]
[]
[]
[null,null,null,"A","B","C","D","E","F","M","N","O","P","I","L","K","J","G","H"]
[null,"Machine",null,"SST16","SB16","BIGLIA 301 SM","BIGLIA 42 S2M bitourelle","L32","TSUGAMI","MORI SEIKI 3 axes","MORI SEIKI 5 axes","HARDING","KITAMURA","MULTIBROCHE","NAKAMURA","TOUR WEILER"]
[null,"Référence",null,null,202166,163,8.0626811630046596E-4]
[null,"Désignation",null,null,270727,90,3.3243821266441841E-4]
[null,"Compteur 8h ",null,null,91754,6,6.5392244479804701E-5]
[null,"Compteur 17h",null,null,0,0,"",null,2E-3]
[null,"Enregistrement","9h"]
[null,null,"16h"]
[null,"Identification"]
[null,"Propreté des tables de contrôle"]
[null,"Rangement des outils de contrôle"]
[null,"Existance de l'OF"]
[null,"Affutage",null,null,null,null,null,null,null,null,null,null,null,null,null,null,null,null,null,{"$f":"+COUNTA(D24:S24)","v":0}]
[null,"Maintenance"]
[null,"Nombre des NC poubelle "]
[null,"Nombre des NC à retoucher"]
[null,"Machine pour retouche"]
[null,"Panne"]
[null,"Cout pièces de rechange",null,null,null,null,null,null,null,null,null,null,null,null,null,null,null,null,null,{"$f":"SUM(D30:S30)","v":0}]
[null,"prix de revient pièce",null,{"$f":"IFERROR(VLOOKUP(D14,'Prix de revient'!$A:$D,4,0),0)","v":0},{"$f":"IFERROR(VLOOKUP(E14,'Prix de revient'!$A:$D,4,0),0)","v":0},{"$f":"IFERROR(VLOOKUP(F14,'Prix de revient'!$A:$D,4,0),0)","v":0},{"$f":"IFERROR(VLOOKUP(G14,'Prix de revient'!$A:$D,4,0),0)","v":0},{"$f":"IFERROR(VLOOKUP(H14,'Prix de revient'!$A:$D,4,0),0)","v":0},{"$f":"IFERROR(VLOOKUP(I14,'Prix de revient'!$A:$D,4,0),0)","v":0},{"$f":"IFERROR(VLOOKUP(J14,'Prix de revient'!$A:$D,4,0),0)","v":0},{"$f":"IFERROR(VLOOKUP(K14,'Prix de revient'!$A:$D,4,0),0)","v":0},{"$f":"IFERROR(VLOOKUP(L14,'Prix de revient'!$A:$D,4,0),0)","v":0},{"$f":"IFERROR(VLOOKUP(M14,'Prix de revient'!$A:$D,4,0),0)","v":0},{"$f":"IFERROR(VLOOKUP(N14,'Prix de revient'!$A:$D,4,0),0)","v":0},{"$f":"IFERROR(VLOOKUP(O14,'Prix de revient'!$A:$D,4,0),0)","v":0},{"$f":"IFERROR(VLOOKUP(P14,'Prix de revient'!$A:$D,4,0),0)","v":0},{"$f":"IFERROR(VLOOKUP(Q14,'Prix de revient'!$A:$D,4,0),0)","v":0},{"$f":"IFERROR(VLOOKUP(R14,'Prix de revient'!$A:$D,4,0),0)","v":0},{"$f":"IFERROR(VLOOKUP(S14,'Prix de revient'!$A:$D,4,0),0)","v":0}]
[null,"coût de rebuts",null,{"$f":"D26*D31","v":0},{"$f":"E26*E31","v":0},0,0,0,0,0,0,0,0,0,0,0,0,0,0,{"$f":"SUM(D32:S32)","v":0}]
[null,"gestion de modification"]
[]
[]
[]
[]
[]
[]
[]
[null,null,"Clients","Audit","Réclamation","Avoir",null,"Fournisseurs/ sous-traitants","Réception de matiere","Probleme qualité",null,"Les formations professionnelles","Cout","Chiffrage décliné","Actions à suivre",null,"Article qui a subit un tri","durée du tri","Nombre des pieces non-conformes","ouvrier faisant le tri","cout par tri",null,"Article qui a subit la reprise","durée de la reprise","opérateur faisant la reprise","coût de reprise",null,null,null,"Machine ","article","gamme","objet de la modification"]
[null,null,null,null,null,null,null,null,null,null,null,null,null,null,null,null,null,null,null,null,{"$f":"IF(R42=\"\",\"\",R42*VLOOKUP(T42,'cout opérateur machines'!A1:B8,2,0))","v":""},null,null,null,null,{"$f":"X42*8","v":0}]
[null,null,null,null,null,null,null,null,null,null,null,null,null,null,null,null,null,null,null,null,{"$f":"IF(R43=\"\",\"\",R43*VLOOKUP(T43,'cout opérateur machines'!A2:B9,2,0))","v":""},null,null,null,null,{"$f":"X43*8","v":0}]
[null,null,null,null,null,null,null,null,null,null,null,null,null,null,null,null,null,null,null,null,{"$f":"IF(R44=\"\",\"\",R44*VLOOKUP(T44,'cout opérateur machines'!A3:B10,2,0))","v":""},null,null,null,null,0]
[null,null,null,null,null,null,null,null,null,null,null,null,null,null,null,null,null,null,null,null,{"$f":"IF(R45=\"\",\"\",R45*VLOOKUP(T45,'cout opérateur machines'!A4:B11,2,0))","v":""},null,null,null,null,0]
[null,null,null,null,null,null,null,null,null,null,null,null,null,null,null,null,null,null,null,null,{"$f":"IF(R46=\"\",\"\",R46*VLOOKUP(T46,'cout opérateur machines'!A5:B12,2,0))","v":""},null,null,null,null,0]
[null,null,null,null,null,null,null,null,null,null,null,null,null,null,null,null,null,null,null,null,{"$f":"IF(R47=\"\",\"\",R47*VLOOKUP(T47,'cout opérateur machines'!A6:B13,2,0))","v":""},null,null,null,null,0]
[null,null,null,null,{"$f":"COUNTA(E42:E47)","v":0},{"$f":"SUM(F42:F47)","v":0},null,null,null,null,null,null,{"$f":"SUM(M42:M47)","v":0},"causes de refus",null,null,null,null,"cout total du jour",null,{"$f":"SUM(U42:U47)","v":0},null,null,null,null,0]
[null,null,null,null,null,null,null,"envoi des réclamations F/ S-T","réponse F/ S-T","alerte",null,null,null,null,null,null,null,null,null,null,null,null,null,null,null,{"$f":"SUM(Z42:Z48)","v":0}]
[null,null,"dans le cas d'une réclamation",null,null,null,null,null,null,{"$f":"IF(J42=\"\",\"\",IF(H50=0,\" réclamation non traitée\",IF(I50=0, \"veuillez contacter le F/ S-T par téléphone\",\"\")))","v":""},null,null,null,null,null,null,null,null,"N° mois",null,0]
[null,null,"nombre de pièces NC",null,null,null,null,null,null,{"$f":"IF(J43=\"\",\"\",IF(H51=0,\" réclamation non traitée\",IF(I51=0, \"veuillez contacter le F/ S-T par téléphone\",\"\")))","v":""}]
[null,null,"nombre de pièces par carton",null,null,null,null,null,null,""]
[null,null,"coût de transport par carton",null,null,null,null,null,null,""]
[null,null,"nombre de cartons renvoyés",null,null,null,null,null,null,""]
[null,null,"temps de tri",null,null,null,null,null,null,""]
[null,null,"coût horaire de tri"]
[null,null,"temps de retouche"]
[null,null,"coût horaire de retouche"]
[null,null,"temps de traitement de la réclamation"]
[null,null,"coût horaire de traitement"]
[null,null,"coût total",{"$f":"IFERROR(((D51/D52)*D53)+D54*D53+D55*D56+D57*D58+D59*D60,\"\")","v":""}]

{"sheet":"21-4-22","index":12,"n_rows":61,"n_cols":33,"rows_kept":61,"cut":false,"hidden":false,"merged":[[31,1,31,2],[32,1,32,2],[47,18,47,19],[49,18,49,19],[25,1,25,2],[26,1,26,2],[27,1,27,2],[28,1,28,2],[29,1,29,2],[30,1,30,2],[24,1,24,2],[12,1,12,2],[13,1,13,2],[14,1,14,2],[15,1,15,2],[16,1,16,2],[17,1,18,1],[19,1,19,2],[20,1,20,2],[21,1,21,2],[22,1,22,2],[23,1,23,2],[1,2,4,3],[1,4,4,16],[1,17,1,19],[1,21,1,23],[2,17,2,19],[2,21,2,23],[3,17,3,19],[3,21,3,23],[4,17,4,19],[4,21,4,23]]}
[]
[null,null,null,null,"Rapport journalier",null,null,null,null,null,null,null,null,null,null,null,null,"Code:DAS-SMQ-24"]
[null,null,null,null,null,null,null,null,null,null,null,null,null,null,null,null,null,"Date: 27/12/2019"]
[null,null,null,null,null,null,null,null,null,null,null,null,null,null,null,null,null,"Version:01"]
[null,null,null,null,null,null,null,null,null,null,null,null,null,null,null,null,null,"Page:1"]
[]
[]
[]
[]
[]
[]
[null,null,null,"A","B","C","D","E","F","M","N","O","P","I","L","K","J","G","H"]
[null,"Machine",null,"SST16","SB16","BIGLIA 301 SM","BIGLIA 42 S2M bitourelle","L32","TSUGAMI","MORI SEIKI 3 axes","MORI SEIKI 5 axes","HARDING","KITAMURA","MULTIBROCHE","NAKAMURA","TOUR WEILER"]
[null,"Référence",null,200101,"G022-CP1",510090,"G028/G015","200200-2022","I097 maj","i004 "," - ","F029-CP3.","G027-HAR","MPS000300","I007","199400-MAJ",181035,68.081500000000005,200300]
[null,"Désignation",null,"AXE D'ARTICULATION ","AXE D15-M11*100 maj-c","Inserto Esag M8 12x12","GOUJON M14*1.5 L=52 NON FRAISEE","Embout de tige-2022","ECROU DE ROUE FORD RANGER- finition rayon 18-04-2022 MANUELLE","Ecrou suspension- surfacage ","Arrêt","TUBE L125.5 TUBE D4EAU PUNTO 2","GOUJON M14*1.5L=52 PH2 HARDING","raccord HEX 17","ECROU SEMI ARBRE ISUZU","Tirant acier D6 18-04-2022 PAR CHUTE","BAGUE USINEE 11*18*35 19-04-2022","Buse droite à collerette Ø8 M445 FRD","TIGE DE PISTON-maj ca"]
[null,"Compteur 8h ",null,8251,0,966,0,4771,9172,236,0,49,49,0,0,4020,0,16860,3083]
[null,"Compteur 17h",null,9450,0,1309,228,4945,9557,276,0,76,76,0,0,4422,0,17387,3375]
[null,"Enregistrement","9h"]
[null,null,"16h"]
[null,"Identification"]
[null,"Propreté des tables de contrôle"]
[null,"Rangement des outils de contrôle"]
[null,"Existance de l'OF"]
[null,"Affutage",null,null,null,null,null,null,null,null,null,null,null,null,null,null,null,null,null,{"$f":"+COUNTA(D24:S24)","v":0}]
[null,"Maintenance"]
[null,"Nombre des NC poubelle ",null,null,null,6]
[null,"Nombre des NC à retoucher"]
[null,"Machine pour retouche"]
[null,"Panne"]
[null,"Cout pièces de rechange",null,null,null,null,null,null,null,null,null,null,null,null,null,null,null,null,null,{"$f":"SUM(D30:S30)","v":0}]
[null,"prix de revient pièce",null,{"$f":"IFERROR(VLOOKUP(D14,'Prix de revient'!$A:$D,4,0),0)","v":0.50560000000000005},{"$f":"IFERROR(VLOOKUP(E14,'Prix de revient'!$A:$D,4,0),0)","v":0},{"$f":"IFERROR(VLOOKUP(F14,'Prix de revient'!$A:$D,4,0),0)","v":0.40132000000000001},{"$f":"IFERROR(VLOOKUP(G14,'Prix de revient'!$A:$D,4,0),0)","v":0},{"$f":"IFERROR(VLOOKUP(H14,'Prix de revient'!$A:$D,4,0),0)","v":0},{"$f":"IFERROR(VLOOKUP(I14,'Prix de revient'!$A:$D,4,0),0)","v":0},{"$f":"IFERROR(VLOOKUP(J14,'Prix de revient'!$A:$D,4,0),0)","v":0},{"$f":"IFERROR(VLOOKUP(K14,'Prix de revient'!$A:$D,4,0),0)","v":0},{"$f":"IFERROR(VLOOKUP(L14,'Prix de revient'!$A:$D,4,0),0)","v":0},{"$f":"IFERROR(VLOOKUP(M14,'Prix de revient'!$A:$D,4,0),0)","v":0},{"$f":"IFERROR(VLOOKUP(N14,'Prix de revient'!$A:$D,4,0),0)","v":0},{"$f":"IFERROR(VLOOKUP(O14,'Prix de revient'!$A:$D,4,0),0)","v":0},{"$f":"IFERROR(VLOOKUP(P14,'Prix de revient'!$A:$D,4,0),0)","v":0},{"$f":"IFERROR(VLOOKUP(Q14,'Prix de revient'!$A:$D,4,0),0)","v":0},{"$f":"IFERROR(VLOOKUP(R14,'Prix de revient'!$A:$D,4,0),0)","v":0},{"$f":"IFERROR(VLOOKUP(S14,'Prix de revient'!$A:$D,4,0),0)","v":3.2674400000000001}]
[null,"coût de rebuts",null,{"$f":"D26*D31","v":0},{"$f":"E26*E31","v":0},2.4079199999999998,0,0,0,0,0,0,0,0,0,0,0,0,0,{"$f":"SUM(D32:S32)","v":2.4079199999999998}]
[null,"gestion de modification"]
[]
[]
[]
[]
[]
[]
[]
[null,null,"Clients","Audit","Réclamation","Avoir",null,"Fournisseurs/ sous-traitants","Réception de matiere","Probleme qualité",null,"Les formations professionnelles","Cout","Chiffrage décliné","Actions à suivre",null,"Article qui a subit un tri","durée du tri","Nombre des pieces non-conformes","ouvrier faisant le tri","cout par tri",null,"Article qui a subit la reprise","durée de la reprise","opérateur faisant la reprise","coût de reprise",null,null,null,"Machine ","article","gamme","objet de la modification"]
[null,null,null,null,null,null,null,null,null,null,null,null,null,null,null,null,null,10,null,"rim",{"$f":"IF(R42=\"\",\"\",R42*VLOOKUP(T42,'cout opérateur machines'!A1:B8,2,0))","v":100},null,null,null,null,{"$f":"X42*8","v":0}]
[null,null,null,null,null,null,null,null,null,null,null,null,null,null,null,null,null,null,null,null,{"$f":"IF(R43=\"\",\"\",R43*VLOOKUP(T43,'cout opérateur machines'!A2:B9,2,0))","v":""},null,null,null,null,{"$f":"X43*8","v":0}]
[null,null,null,null,null,null,null,null,null,null,null,null,null,null,null,null,null,null,null,null,{"$f":"IF(R44=\"\",\"\",R44*VLOOKUP(T44,'cout opérateur machines'!A3:B10,2,0))","v":""},null,null,null,null,0]
[null,null,null,null,null,null,null,null,null,null,null,null,null,null,null,null,null,null,null,null,{"$f":"IF(R45=\"\",\"\",R45*VLOOKUP(T45,'cout opérateur machines'!A4:B11,2,0))","v":""},null,null,null,null,0]
[null,null,null,null,null,null,null,null,null,null,null,null,null,null,null,null,null,null,null,null,{"$f":"IF(R46=\"\",\"\",R46*VLOOKUP(T46,'cout opérateur machines'!A5:B12,2,0))","v":""},null,null,null,null,0]
[null,null,null,null,null,null,null,null,null,null,null,null,null,null,null,null,null,null,null,null,{"$f":"IF(R47=\"\",\"\",R47*VLOOKUP(T47,'cout opérateur machines'!A6:B13,2,0))","v":""},null,null,null,null,0]
[null,null,null,null,{"$f":"COUNTA(E42:E47)","v":0},{"$f":"SUM(F42:F47)","v":0},null,null,null,null,null,null,{"$f":"SUM(M42:M47)","v":0},"causes de refus",null,null,null,null,"cout total du jour",null,{"$f":"SUM(U42:U47)","v":100},null,null,null,null,0]
[null,null,null,null,null,null,null,"envoi des réclamations F/ S-T","réponse F/ S-T","alerte",null,null,null,null,null,null,null,null,null,null,null,null,null,null,null,{"$f":"SUM(Z42:Z48)","v":0}]
[null,null,"dans le cas d'une réclamation",null,null,null,null,null,null,{"$f":"IF(J42=\"\",\"\",IF(H50=0,\" réclamation non traitée\",IF(I50=0, \"veuillez contacter le F/ S-T par téléphone\",\"\")))","v":""},null,null,null,null,null,null,null,null,"N° mois",null,4]
[null,null,"nombre de pièces NC",null,null,null,null,null,null,{"$f":"IF(J43=\"\",\"\",IF(H51=0,\" réclamation non traitée\",IF(I51=0, \"veuillez contacter le F/ S-T par téléphone\",\"\")))","v":""}]
[null,null,"nombre de pièces par carton",null,null,null,null,null,null,""]
[null,null,"coût de transport par carton",null,null,null,null,null,null,""]
[null,null,"nombre de cartons renvoyés",null,null,null,null,null,null,""]
[null,null,"temps de tri",null,null,null,null,null,null,""]
[null,null,"coût horaire de tri"]
[null,null,"temps de retouche"]
[null,null,"coût horaire de retouche"]
[null,null,"temps de traitement de la réclamation"]
[null,null,"coût horaire de traitement"]
[null,null,"coût total",{"$f":"IFERROR(((D51/D52)*D53)+D54*D53+D55*D56+D57*D58+D59*D60,\"\")","v":""}]

{"sheet":"20-4-22","index":13,"n_rows":61,"n_cols":33,"rows_kept":61,"cut":false,"hidden":false,"merged":[[31,1,31,2],[32,1,32,2],[47,18,47,19],[49,18,49,19],[25,1,25,2],[26,1,26,2],[27,1,27,2],[28,1,28,2],[29,1,29,2],[30,1,30,2],[24,1,24,2],[12,1,12,2],[13,1,13,2],[14,1,14,2],[15,1,15,2],[16,1,16,2],[17,1,18,1],[19,1,19,2],[20,1,20,2],[21,1,21,2],[22,1,22,2],[23,1,23,2],[1,2,4,3],[1,4,4,16],[1,17,1,19],[1,21,1,23],[2,17,2,19],[2,21,2,23],[3,17,3,19],[3,21,3,23],[4,17,4,19],[4,21,4,23]]}
[]
[null,null,null,null,"Rapport journalier",null,null,null,null,null,null,null,null,null,null,null,null,"Code:DAS-SMQ-24"]
[null,null,null,null,null,null,null,null,null,null,null,null,null,null,null,null,null,"Date: 27/12/2019"]
[null,null,null,null,null,null,null,null,null,null,null,null,null,null,null,null,null,"Version:01"]
[null,null,null,null,null,null,null,null,null,null,null,null,null,null,null,null,null,"Page:1"]
[]
[]
[]
[]
[]
[]
[null,null,null,"A","B","C","D","E","F","M","N","O","P","I","L","K","J","G","H"]
[null,"Machine",null,"SST16","SB16","BIGLIA 301 SM","BIGLIA 42 S2M bitourelle","L32","TSUGAMI","MORI SEIKI 3 axes","MORI SEIKI 5 axes","HARDING","KITAMURA","MULTIBROCHE","NAKAMURA","TOUR WEILER"]
[null,"Référence",null,200101,"G022-CP1",510090,"19155-PT12","200200-2022","I097 maj","i004 "," - ","F029-CP3.","G027-HAR","MPS000300","I007","199400-MAJ",181035,68.081500000000005,200300]
[null,"Désignation",null,"AXE D'ARTICULATION ","AXE D15-M11*100 maj-c","Inserto Esag M8 12x12","BAGUE DE RACCORDEMENT B42","Embout de tige-2022","ECROU DE ROUE FORD RANGER- finition rayon 18-04-2022 MANUELLE","Ecrou suspension- surfacage ","Arrêt","TUBE L125.5 TUBE D4EAU PUNTO 2","GOUJON M14*1.5L=52 PH2 HARDING","raccord HEX 17","ECROU SEMI ARBRE ISUZU","Tirant acier D6 18-04-2022 PAR CHUTE","BAGUE USINEE 11*18*35 19-04-2022","Buse droite à collerette Ø8 M445 FRD","TIGE DE PISTON-maj ca"]
[null,"Compteur 8h ",null,7300,0,533,87,4771,8811,193,0,23,23,0,0,3642,564,16226,2778]
[null,"Compteur 17h",null,8251,0,966,237,4771,9172,236,0,49,49,0,0,4020,1000,16860,3083]
[null,"Enregistrement","9h"]
[null,null,"16h"]
[null,"Identification"]
[null,"Propreté des tables de contrôle"]
[null,"Rangement des outils de contrôle"]
[null,"Existance de l'OF"]
[null,"Affutage",null,null,null,null,null,null,null,null,null,null,null,null,null,null,null,null,null,{"$f":"+COUNTA(D24:S24)","v":0}]
[null,"Maintenance"]
[null,"Nombre des NC poubelle "]
[null,"Nombre des NC à retoucher"]
[null,"Machine pour retouche"]
[null,"Panne"]
[null,"Cout pièces de rechange",null,null,null,null,null,null,null,null,null,null,null,null,null,null,null,null,null,{"$f":"SUM(D30:S30)","v":0}]
[null,"prix de revient pièce",null,{"$f":"IFERROR(VLOOKUP(D14,'Prix de revient'!$A:$D,4,0),0)","v":0.50560000000000005},{"$f":"IFERROR(VLOOKUP(E14,'Prix de revient'!$A:$D,4,0),0)","v":0},{"$f":"IFERROR(VLOOKUP(F14,'Prix de revient'!$A:$D,4,0),0)","v":0.40132000000000001},{"$f":"IFERROR(VLOOKUP(G14,'Prix de revient'!$A:$D,4,0),0)","v":0},{"$f":"IFERROR(VLOOKUP(H14,'Prix de revient'!$A:$D,4,0),0)","v":0},{"$f":"IFERROR(VLOOKUP(I14,'Prix de revient'!$A:$D,4,0),0)","v":0},{"$f":"IFERROR(VLOOKUP(J14,'Prix de revient'!$A:$D,4,0),0)","v":0},{"$f":"IFERROR(VLOOKUP(K14,'Prix de revient'!$A:$D,4,0),0)","v":0},{"$f":"IFERROR(VLOOKUP(L14,'Prix de revient'!$A:$D,4,0),0)","v":0},{"$f":"IFERROR(VLOOKUP(M14,'Prix de revient'!$A:$D,4,0),0)","v":0},{"$f":"IFERROR(VLOOKUP(N14,'Prix de revient'!$A:$D,4,0),0)","v":0},{"$f":"IFERROR(VLOOKUP(O14,'Prix de revient'!$A:$D,4,0),0)","v":0},{"$f":"IFERROR(VLOOKUP(P14,'Prix de revient'!$A:$D,4,0),0)","v":0},{"$f":"IFERROR(VLOOKUP(Q14,'Prix de revient'!$A:$D,4,0),0)","v":0},{"$f":"IFERROR(VLOOKUP(R14,'Prix de revient'!$A:$D,4,0),0)","v":0},{"$f":"IFERROR(VLOOKUP(S14,'Prix de revient'!$A:$D,4,0),0)","v":3.2674400000000001}]
[null,"coût de rebuts",null,{"$f":"D26*D31","v":0},{"$f":"E26*E31","v":0},0,0,0,0,0,0,0,0,0,0,0,0,0,0,{"$f":"SUM(D32:S32)","v":0}]
[null,"gestion de modification"]
[]
[]
[]
[]
[]
[]
[]
[null,null,"Clients","Audit","Réclamation","Avoir",null,"Fournisseurs/ sous-traitants","Réception de matiere","Probleme qualité",null,"Les formations professionnelles","Cout","Chiffrage décliné","Actions à suivre",null,"Article qui a subit un tri","durée du tri","Nombre des pieces non-conformes","ouvrier faisant le tri","cout par tri",null,"Article qui a subit la reprise","durée de la reprise","opérateur faisant la reprise","coût de reprise",null,null,null,"Machine ","article","gamme","objet de la modification"]
[null,null,null,null,null,null,null,null,null,null,null,null,null,null,null,null,null,null,null,null,{"$f":"IF(R42=\"\",\"\",R42*VLOOKUP(T42,'cout opérateur machines'!A1:B8,2,0))","v":""},null,null,null,null,{"$f":"X42*8","v":0}]
[null,null,null,null,null,null,null,null,null,null,null,null,null,null,null,null,null,null,null,null,{"$f":"IF(R43=\"\",\"\",R43*VLOOKUP(T43,'cout opérateur machines'!A2:B9,2,0))","v":""},null,null,null,null,{"$f":"X43*8","v":0}]
[null,null,null,null,null,null,null,null,null,null,null,null,null,null,null,null,null,null,null,null,{"$f":"IF(R44=\"\",\"\",R44*VLOOKUP(T44,'cout opérateur machines'!A3:B10,2,0))","v":""},null,null,null,null,0]
[null,null,null,null,null,null,null,null,null,null,null,null,null,null,null,null,null,null,null,null,{"$f":"IF(R45=\"\",\"\",R45*VLOOKUP(T45,'cout opérateur machines'!A4:B11,2,0))","v":""},null,null,null,null,0]
[null,null,null,null,null,null,null,null,null,null,null,null,null,null,null,null,null,null,null,null,{"$f":"IF(R46=\"\",\"\",R46*VLOOKUP(T46,'cout opérateur machines'!A5:B12,2,0))","v":""},null,null,null,null,0]
[null,null,null,null,null,null,null,null,null,null,null,null,null,null,null,null,null,null,null,null,{"$f":"IF(R47=\"\",\"\",R47*VLOOKUP(T47,'cout opérateur machines'!A6:B13,2,0))","v":""},null,null,null,null,0]
[null,null,null,null,{"$f":"COUNTA(E42:E47)","v":0},{"$f":"SUM(F42:F47)","v":0},null,null,null,null,null,null,{"$f":"SUM(M42:M47)","v":0},"causes de refus",null,null,null,null,"cout total du jour",null,{"$f":"SUM(U42:U47)","v":0},null,null,null,null,0]
[null,null,null,null,null,null,null,"envoi des réclamations F/ S-T","réponse F/ S-T","alerte",null,null,null,null,null,null,null,null,null,null,null,null,null,null,null,{"$f":"SUM(Z42:Z48)","v":0}]
[null,null,"dans le cas d'une réclamation",null,null,null,null,null,null,{"$f":"IF(J42=\"\",\"\",IF(H50=0,\" réclamation non traitée\",IF(I50=0, \"veuillez contacter le F/ S-T par téléphone\",\"\")))","v":""},null,null,null,null,null,null,null,null,"N° mois",null,4]
[null,null,"nombre de pièces NC",null,null,null,null,null,null,{"$f":"IF(J43=\"\",\"\",IF(H51=0,\" réclamation non traitée\",IF(I51=0, \"veuillez contacter le F/ S-T par téléphone\",\"\")))","v":""}]
[null,null,"nombre de pièces par carton",null,null,null,null,null,null,""]
[null,null,"coût de transport par carton",null,null,null,null,null,null,""]
[null,null,"nombre de cartons renvoyés",null,null,null,null,null,null,""]
[null,null,"temps de tri",null,null,null,null,null,null,""]
[null,null,"coût horaire de tri"]
[null,null,"temps de retouche"]
[null,null,"coût horaire de retouche"]
[null,null,"temps de traitement de la réclamation"]
[null,null,"coût horaire de traitement"]
[null,null,"coût total",{"$f":"IFERROR(((D51/D52)*D53)+D54*D53+D55*D56+D57*D58+D59*D60,\"\")","v":""}]

{"sheet":"19-4-22","index":14,"n_rows":61,"n_cols":33,"rows_kept":61,"cut":false,"hidden":false,"merged":[[31,1,31,2],[32,1,32,2],[47,18,47,19],[49,18,49,19],[25,1,25,2],[26,1,26,2],[27,1,27,2],[28,1,28,2],[29,1,29,2],[30,1,30,2],[24,1,24,2],[12,1,12,2],[13,1,13,2],[14,1,14,2],[15,1,15,2],[16,1,16,2],[17,1,18,1],[19,1,19,2],[20,1,20,2],[21,1,21,2],[22,1,22,2],[23,1,23,2],[1,2,4,3],[1,4,4,16],[1,17,1,19],[1,21,1,23],[2,17,2,19],[2,21,2,23],[3,17,3,19],[3,21,3,23],[4,17,4,19],[4,21,4,23]]}
[]
[null,null,null,null,"Rapport journalier",null,null,null,null,null,null,null,null,null,null,null,null,"Code:DAS-SMQ-24"]
[null,null,null,null,null,null,null,null,null,null,null,null,null,null,null,null,null,"Date: 27/12/2019"]
[null,null,null,null,null,null,null,null,null,null,null,null,null,null,null,null,null,"Version:01"]
[null,null,null,null,null,null,null,null,null,null,null,null,null,null,null,null,null,"Page:1"]
[]
[]
[]
[]
[]
[]
[null,null,null,"A","B","C","D","E","F","M","N","O","P","I","L","K","J","G","H"]
[null,"Machine",null,"SST16","SB16","BIGLIA 301 SM","BIGLIA 42 S2M bitourelle","L32","TSUGAMI","MORI SEIKI 3 axes","MORI SEIKI 5 axes","HARDING","KITAMURA","MULTIBROCHE","NAKAMURA","TOUR WEILER"]
[null,"Référence",null,200101,"G022-CP1",510090,"19155-PT12","200200-2022","I097 maj","i004 "," - ","F029-CP3.","G027-HAR","MPS000300","I007","199400-MAJ",181035,68.081500000000005,200300]
[null,"Désignation",null,"AXE D'ARTICULATION ","AXE D15-M11*100 maj-c","Inserto Esag M8 12x12","BAGUE DE RACCORDEMENT B42","Embout de tige-2022","ECROU DE ROUE FORD RANGER- finition rayon 18-04-2022 MANUELLE","Ecrou suspension- surfacage ","Arrêt","TUBE L125.5 TUBE D4EAU PUNTO 2","GOUJON M14*1.5L=52 PH2 HARDING","raccord HEX 17","ECROU SEMI ARBRE ISUZU","Tirant acier D6 18-04-2022 PAR CHUTE","BAGUE USINEE 11*18*35 19-04-2022","Buse droite à collerette Ø8 M445 FRD","TIGE DE PISTON-maj ca"]
[null,"Compteur 8h ",null,6098,0,148,0,4771,8422,156,0,0,0,0,0,3202,160,15583,2507]
[null,"Compteur 17h",null,7300,0,533,87,4771,8811,193,0,23,23,0,0,3642,564,16226,2778]
[null,"Enregistrement","9h"]
[null,null,"16h"]
[null,"Identification"]
[null,"Propreté des tables de contrôle"]
[null,"Rangement des outils de contrôle"]
[null,"Existance de l'OF"]
[null,"Affutage",null,null,null,null,null,null,null,null,null,null,null,null,null,null,null,null,null,{"$f":"+COUNTA(D24:S24)","v":0}]
[null,"Maintenance"]
[null,"Nombre des NC poubelle "]
[null,"Nombre des NC à retoucher"]
[null,"Machine pour retouche"]
[null,"Panne"]
[null,"Cout pièces de rechange",null,null,null,null,null,null,null,null,null,null,null,null,null,null,null,null,null,{"$f":"SUM(D30:S30)","v":0}]
[null,"prix de revient pièce",null,{"$f":"IFERROR(VLOOKUP(D14,'Prix de revient'!$A:$D,4,0),0)","v":0.50560000000000005},{"$f":"IFERROR(VLOOKUP(E14,'Prix de revient'!$A:$D,4,0),0)","v":0},{"$f":"IFERROR(VLOOKUP(F14,'Prix de revient'!$A:$D,4,0),0)","v":0.40132000000000001},{"$f":"IFERROR(VLOOKUP(G14,'Prix de revient'!$A:$D,4,0),0)","v":0},{"$f":"IFERROR(VLOOKUP(H14,'Prix de revient'!$A:$D,4,0),0)","v":0},{"$f":"IFERROR(VLOOKUP(I14,'Prix de revient'!$A:$D,4,0),0)","v":0},{"$f":"IFERROR(VLOOKUP(J14,'Prix de revient'!$A:$D,4,0),0)","v":0},{"$f":"IFERROR(VLOOKUP(K14,'Prix de revient'!$A:$D,4,0),0)","v":0},{"$f":"IFERROR(VLOOKUP(L14,'Prix de revient'!$A:$D,4,0),0)","v":0},{"$f":"IFERROR(VLOOKUP(M14,'Prix de revient'!$A:$D,4,0),0)","v":0},{"$f":"IFERROR(VLOOKUP(N14,'Prix de revient'!$A:$D,4,0),0)","v":0},{"$f":"IFERROR(VLOOKUP(O14,'Prix de revient'!$A:$D,4,0),0)","v":0},{"$f":"IFERROR(VLOOKUP(P14,'Prix de revient'!$A:$D,4,0),0)","v":0},{"$f":"IFERROR(VLOOKUP(Q14,'Prix de revient'!$A:$D,4,0),0)","v":0},{"$f":"IFERROR(VLOOKUP(R14,'Prix de revient'!$A:$D,4,0),0)","v":0},{"$f":"IFERROR(VLOOKUP(S14,'Prix de revient'!$A:$D,4,0),0)","v":3.2674400000000001}]
[null,"coût de rebuts",null,{"$f":"D26*D31","v":0},{"$f":"E26*E31","v":0},0,0,0,0,0,0,0,0,0,0,0,0,0,0,{"$f":"SUM(D32:S32)","v":0}]
[null,"gestion de modification"]
[]
[]
[]
[]
[]
[]
[]
[null,null,"Clients","Audit","Réclamation","Avoir",null,"Fournisseurs/ sous-traitants","Réception de matiere","Probleme qualité",null,"Les formations professionnelles","Cout","Chiffrage décliné","Actions à suivre",null,"Article qui a subit un tri","durée du tri","Nombre des pieces non-conformes","ouvrier faisant le tri","cout par tri",null,"Article qui a subit la reprise","durée de la reprise","opérateur faisant la reprise","coût de reprise",null,null,null,"Machine ","article","gamme","objet de la modification"]
[null,null,null,null,null,null,null,null,null,null,null,null,null,null,null,null,null,null,null,null,{"$f":"IF(R42=\"\",\"\",R42*VLOOKUP(T42,'cout opérateur machines'!A1:B8,2,0))","v":""},null,null,null,null,{"$f":"X42*8","v":0}]
[null,null,null,null,null,null,null,null,null,null,null,null,null,null,null,null,null,null,null,null,{"$f":"IF(R43=\"\",\"\",R43*VLOOKUP(T43,'cout opérateur machines'!A2:B9,2,0))","v":""},null,null,null,null,{"$f":"X43*8","v":0}]
[null,null,null,null,null,null,null,null,null,null,null,null,null,null,null,null,null,null,null,null,{"$f":"IF(R44=\"\",\"\",R44*VLOOKUP(T44,'cout opérateur machines'!A3:B10,2,0))","v":""},null,null,null,null,0]
[null,null,null,null,null,null,null,null,null,null,null,null,null,null,null,null,null,null,null,null,{"$f":"IF(R45=\"\",\"\",R45*VLOOKUP(T45,'cout opérateur machines'!A4:B11,2,0))","v":""},null,null,null,null,0]
[null,null,null,null,null,null,null,null,null,null,null,null,null,null,null,null,null,null,null,null,{"$f":"IF(R46=\"\",\"\",R46*VLOOKUP(T46,'cout opérateur machines'!A5:B12,2,0))","v":""},null,null,null,null,0]
[null,null,null,null,null,null,null,null,null,null,null,null,null,null,null,null,null,null,null,null,{"$f":"IF(R47=\"\",\"\",R47*VLOOKUP(T47,'cout opérateur machines'!A6:B13,2,0))","v":""},null,null,null,null,0]
[null,null,null,null,{"$f":"COUNTA(E42:E47)","v":0},{"$f":"SUM(F42:F47)","v":0},null,null,null,null,null,null,{"$f":"SUM(M42:M47)","v":0},"causes de refus",null,null,null,null,"cout total du jour",null,{"$f":"SUM(U42:U47)","v":0},null,null,null,null,0]
[null,null,null,null,null,null,null,"envoi des réclamations F/ S-T","réponse F/ S-T","alerte",null,null,null,null,null,null,null,null,null,null,null,null,null,null,null,{"$f":"SUM(Z42:Z48)","v":0}]
[null,null,"dans le cas d'une réclamation",null,null,null,null,null,null,{"$f":"IF(J42=\"\",\"\",IF(H50=0,\" réclamation non traitée\",IF(I50=0, \"veuillez contacter le F/ S-T par téléphone\",\"\")))","v":""},null,null,null,null,null,null,null,null,"N° mois",null,4]
[null,null,"nombre de pièces NC",null,null,null,null,null,null,{"$f":"IF(J43=\"\",\"\",IF(H51=0,\" réclamation non traitée\",IF(I51=0, \"veuillez contacter le F/ S-T par téléphone\",\"\")))","v":""}]
[null,null,"nombre de pièces par carton",null,null,null,null,null,null,""]
[null,null,"coût de transport par carton",null,null,null,null,null,null,""]
[null,null,"nombre de cartons renvoyés",null,null,null,null,null,null,""]
[null,null,"temps de tri",null,null,null,null,null,null,""]
[null,null,"coût horaire de tri"]
[null,null,"temps de retouche"]
[null,null,"coût horaire de retouche"]
[null,null,"temps de traitement de la réclamation"]
[null,null,"coût horaire de traitement"]
[null,null,"coût total",{"$f":"IFERROR(((D51/D52)*D53)+D54*D53+D55*D56+D57*D58+D59*D60,\"\")","v":""}]

{"sheet":"18-4-22","index":15,"n_rows":61,"n_cols":33,"rows_kept":61,"cut":false,"hidden":false,"merged":[[31,1,31,2],[32,1,32,2],[47,18,47,19],[49,18,49,19],[25,1,25,2],[26,1,26,2],[27,1,27,2],[28,1,28,2],[29,1,29,2],[30,1,30,2],[24,1,24,2],[12,1,12,2],[13,1,13,2],[14,1,14,2],[15,1,15,2],[16,1,16,2],[17,1,18,1],[19,1,19,2],[20,1,20,2],[21,1,21,2],[22,1,22,2],[23,1,23,2],[1,2,4,3],[1,4,4,16],[1,17,1,19],[1,21,1,23],[2,17,2,19],[2,21,2,23],[3,17,3,19],[3,21,3,23],[4,17,4,19],[4,21,4,23]]}
[]
[null,null,null,null,"Rapport journalier",null,null,null,null,null,null,null,null,null,null,null,null,"Code:DAS-SMQ-24"]
[null,null,null,null,null,null,null,null,null,null,null,null,null,null,null,null,null,"Date: 27/12/2019"]
[null,null,null,null,null,null,null,null,null,null,null,null,null,null,null,null,null,"Version:01"]
[null,null,null,null,null,null,null,null,null,null,null,null,null,null,null,null,null,"Page:1"]
[]
[]
[]
[]
[]
[]
[null,null,null,"A","B","C","D","E","F","M","N","O","P","I","L","K","J","G","H"]
[null,"Machine",null,"SST16","SB16","BIGLIA 301 SM","BIGLIA 42 S2M bitourelle","L32","TSUGAMI","MORI SEIKI 3 axes","MORI SEIKI 5 axes","HARDING","KITAMURA","MULTIBROCHE","NAKAMURA","TOUR WEILER"]
[null,"Référence",null,200101,"G022-CP1",510090,"G027-maj","200200-2022","I097 maj","i004 "," - ",480387,9531,"MPS000300","I007","199400-MAJ",181035,68.081500000000005,200300]
[null,"Désignation",null,"AXE D'ARTICULATION ","AXE D15-M11*100 maj-c","Inserto Esag M8 12x12","GOUJON M14*1.5L=52 18-04-2022 manuelle","Embout de tige-2022","ECROU DE ROUE FORD RANGER- finition rayon 18-04-2022 MANUELLE","Ecrou suspension- surfacage ","Arrêt","Evacuation 2 et 3","USINAGE BORNE CPF SANS TROU Ø10-4 MONTAGE maj cadence 26-11-2021","raccord HEX 17","ECROU SEMI ARBRE ISUZU","Tirant acier D6 18-04-2022 PAR CHUTE","BAGUE USINEE 11*18*35 19-04-2022","Buse droite à collerette Ø8 M445 FRD","TIGE DE PISTON-maj ca"]
[null,"Compteur 8h ",null,5013,0,0,1367,4771,7874,118,0,0,0,0,0,2824,0,14960,2368]
[null,"Compteur 17h",null,6098,0,148,1660,4771,8422,156,0,0,9,0,0,3202,160,15583,2507]
[null,"Enregistrement","9h"]
[null,null,"16h"]
[null,"Identification"]
[null,"Propreté des tables de contrôle"]
[null,"Rangement des outils de contrôle"]
[null,"Existance de l'OF"]
[null,"Affutage",null,null,null,null,null,null,null,null,null,null,null,null,null,null,null,null,null,{"$f":"+COUNTA(D24:S24)","v":0}]
[null,"Maintenance"]
[null,"Nombre des NC poubelle "]
[null,"Nombre des NC à retoucher"]
[null,"Machine pour retouche"]
[null,"Panne"]
[null,"Cout pièces de rechange",null,null,null,null,null,null,null,null,null,null,null,null,null,null,null,null,null,{"$f":"SUM(D30:S30)","v":0}]
[null,"prix de revient pièce",null,{"$f":"IFERROR(VLOOKUP(D14,'Prix de revient'!$A:$D,4,0),0)","v":0.50560000000000005},{"$f":"IFERROR(VLOOKUP(E14,'Prix de revient'!$A:$D,4,0),0)","v":0},{"$f":"IFERROR(VLOOKUP(F14,'Prix de revient'!$A:$D,4,0),0)","v":0.40132000000000001},{"$f":"IFERROR(VLOOKUP(G14,'Prix de revient'!$A:$D,4,0),0)","v":0},{"$f":"IFERROR(VLOOKUP(H14,'Prix de revient'!$A:$D,4,0),0)","v":0},{"$f":"IFERROR(VLOOKUP(I14,'Prix de revient'!$A:$D,4,0),0)","v":0},{"$f":"IFERROR(VLOOKUP(J14,'Prix de revient'!$A:$D,4,0),0)","v":0},{"$f":"IFERROR(VLOOKUP(K14,'Prix de revient'!$A:$D,4,0),0)","v":0},{"$f":"IFERROR(VLOOKUP(L14,'Prix de revient'!$A:$D,4,0),0)","v":5.3719999999999999},{"$f":"IFERROR(VLOOKUP(M14,'Prix de revient'!$A:$D,4,0),0)","v":0},{"$f":"IFERROR(VLOOKUP(N14,'Prix de revient'!$A:$D,4,0),0)","v":0},{"$f":"IFERROR(VLOOKUP(O14,'Prix de revient'!$A:$D,4,0),0)","v":0},{"$f":"IFERROR(VLOOKUP(P14,'Prix de revient'!$A:$D,4,0),0)","v":0},{"$f":"IFERROR(VLOOKUP(Q14,'Prix de revient'!$A:$D,4,0),0)","v":0},{"$f":"IFERROR(VLOOKUP(R14,'Prix de revient'!$A:$D,4,0),0)","v":0},{"$f":"IFERROR(VLOOKUP(S14,'Prix de revient'!$A:$D,4,0),0)","v":3.2674400000000001}]
[null,"coût de rebuts",null,{"$f":"D26*D31","v":0},{"$f":"E26*E31","v":0},0,0,0,0,0,0,0,0,0,0,0,0,0,0,{"$f":"SUM(D32:S32)","v":0}]
[null,"gestion de modification"]
[]
[]
[]
[]
[]
[]
[]
[null,null,"Clients","Audit","Réclamation","Avoir",null,"Fournisseurs/ sous-traitants","Réception de matiere","Probleme qualité",null,"Les formations professionnelles","Cout","Chiffrage décliné","Actions à suivre",null,"Article qui a subit un tri","durée du tri","Nombre des pieces non-conformes","ouvrier faisant le tri","cout par tri",null,"Article qui a subit la reprise","durée de la reprise","opérateur faisant la reprise","coût de reprise",null,null,null,"Machine ","article","gamme","objet de la modification"]
[null,null,null,null,null,null,null,null,null,null,null,null,null,null,null,null,null,null,null,null,{"$f":"IF(R42=\"\",\"\",R42*VLOOKUP(T42,'cout opérateur machines'!A1:B8,2,0))","v":""},null,null,null,null,{"$f":"X42*8","v":0}]
[null,null,null,null,null,null,null,null,null,null,null,null,null,null,null,null,null,null,null,null,{"$f":"IF(R43=\"\",\"\",R43*VLOOKUP(T43,'cout opérateur machines'!A2:B9,2,0))","v":""},null,null,null,null,{"$f":"X43*8","v":0}]
[null,null,null,null,null,null,null,null,null,null,null,null,null,null,null,null,null,null,null,null,{"$f":"IF(R44=\"\",\"\",R44*VLOOKUP(T44,'cout opérateur machines'!A3:B10,2,0))","v":""},null,null,null,null,0]
[null,null,null,null,null,null,null,null,null,null,null,null,null,null,null,null,null,null,null,null,{"$f":"IF(R45=\"\",\"\",R45*VLOOKUP(T45,'cout opérateur machines'!A4:B11,2,0))","v":""},null,null,null,null,0]
[null,null,null,null,null,null,null,null,null,null,null,null,null,null,null,null,null,null,null,null,{"$f":"IF(R46=\"\",\"\",R46*VLOOKUP(T46,'cout opérateur machines'!A5:B12,2,0))","v":""},null,null,null,null,0]
[null,null,null,null,null,null,null,null,null,null,null,null,null,null,null,null,null,null,null,null,{"$f":"IF(R47=\"\",\"\",R47*VLOOKUP(T47,'cout opérateur machines'!A6:B13,2,0))","v":""},null,null,null,null,0]
[null,null,null,null,{"$f":"COUNTA(E42:E47)","v":0},{"$f":"SUM(F42:F47)","v":0},null,null,null,null,null,null,{"$f":"SUM(M42:M47)","v":0},"causes de refus",null,null,null,null,"cout total du jour",null,{"$f":"SUM(U42:U47)","v":0},null,null,null,null,0]
[null,null,null,null,null,null,null,"envoi des réclamations F/ S-T","réponse F/ S-T","alerte",null,null,null,null,null,null,null,null,null,null,null,null,null,null,null,{"$f":"SUM(Z42:Z48)","v":0}]
[null,null,"dans le cas d'une réclamation",null,null,null,null,null,null,{"$f":"IF(J42=\"\",\"\",IF(H50=0,\" réclamation non traitée\",IF(I50=0, \"veuillez contacter le F/ S-T par téléphone\",\"\")))","v":""},null,null,null,null,null,null,null,null,"N° mois",null,4]
[null,null,"nombre de pièces NC",null,null,null,null,null,null,{"$f":"IF(J43=\"\",\"\",IF(H51=0,\" réclamation non traitée\",IF(I51=0, \"veuillez contacter le F/ S-T par téléphone\",\"\")))","v":""}]
[null,null,"nombre de pièces par carton",null,null,null,null,null,null,""]
[null,null,"coût de transport par carton",null,null,null,null,null,null,""]
[null,null,"nombre de cartons renvoyés",null,null,null,null,null,null,""]
[null,null,"temps de tri",null,null,null,null,null,null,""]
[null,null,"coût horaire de tri"]
[null,null,"temps de retouche"]
[null,null,"coût horaire de retouche"]
[null,null,"temps de traitement de la réclamation"]
[null,null,"coût horaire de traitement"]
[null,null,"coût total",{"$f":"IFERROR(((D51/D52)*D53)+D54*D53+D55*D56+D57*D58+D59*D60,\"\")","v":""}]

{"sheet":"16-4-22","index":16,"n_rows":61,"n_cols":33,"rows_kept":61,"cut":false,"hidden":false,"merged":[[31,1,31,2],[32,1,32,2],[47,18,47,19],[49,18,49,19],[25,1,25,2],[26,1,26,2],[27,1,27,2],[28,1,28,2],[29,1,29,2],[30,1,30,2],[24,1,24,2],[12,1,12,2],[13,1,13,2],[14,1,14,2],[15,1,15,2],[16,1,16,2],[17,1,18,1],[19,1,19,2],[20,1,20,2],[21,1,21,2],[22,1,22,2],[23,1,23,2],[1,2,4,3],[1,4,4,16],[1,17,1,19],[1,21,1,23],[2,17,2,19],[2,21,2,23],[3,17,3,19],[3,21,3,23],[4,17,4,19],[4,21,4,23]]}
[]
[null,null,null,null,"Rapport journalier",null,null,null,null,null,null,null,null,null,null,null,null,"Code:DAS-SMQ-24"]
[null,null,null,null,null,null,null,null,null,null,null,null,null,null,null,null,null,"Date: 27/12/2019"]
[null,null,null,null,null,null,null,null,null,null,null,null,null,null,null,null,null,"Version:01"]
[null,null,null,null,null,null,null,null,null,null,null,null,null,null,null,null,null,"Page:1"]
[]
[]
[]
[]
[]
[]
[null,null,null,"A","B","C","D","E","F","M","N","O","P","I","L","K","J","G","H"]
[null,"Machine",null,"SST16","SB16","BIGLIA 301 SM","BIGLIA 42 S2M bitourelle","L32","TSUGAMI","MORI SEIKI 3 axes","MORI SEIKI 5 axes","HARDING","KITAMURA","MULTIBROCHE","NAKAMURA","TOUR WEILER"]
[null,"Référence",null,200101,"G022-CP1","19155-PT11","G027","200200-2022","i097-tsughami ","i004 "," - ",480387,"9518-maj","MPS000300","I007","199400-a","4-7891",68.081500000000005,200300]
[null,"Désignation",null,"AXE D'ARTICULATION ","AXE D15-M11*100 maj-c","AXE DE RACCORDEMENT","GOUJON M14*1.5L=52","Embout de tige-2022","ECROU DE ROUE FORD RANGER- finition rayon ","Ecrou suspension- surfacage ","Arrêt","Evacuation 2 et 3","USINAGE BORNE RBD-1 ","raccord HEX 17","ECROU SEMI ARBRE ISUZU","Tirant acier D6 maj-c","Bague galvanisée 32*42*20 par chute (fini)","Buse droite à collerette Ø8 M445 FRD","TIGE DE PISTON-maj ca"]
[null,"Compteur 8h ",null,4107,9670,74,1081,4771,7456,97,0,142,0,0,0,2180,1405,14493,2223]
[null,"Compteur 17h",null,5013,9958,114,1367,4771,7874,118,0,142,0,0,0,2824,1798,14960,2368]
[null,"Enregistrement","9h"]
[null,null,"16h"]
[null,"Identification"]
[null,"Propreté des tables de contrôle"]
[null,"Rangement des outils de contrôle"]
[null,"Existance de l'OF"]
[null,"Affutage",null,null,null,null,null,null,null,null,null,null,null,null,null,null,null,null,null,{"$f":"+COUNTA(D24:S24)","v":0}]
[null,"Maintenance"]
[null,"Nombre des NC poubelle "]
[null,"Nombre des NC à retoucher"]
[null,"Machine pour retouche"]
[null,"Panne"]
[null,"Cout pièces de rechange",null,null,null,null,null,null,null,null,null,null,null,null,null,null,null,null,null,{"$f":"SUM(D30:S30)","v":0}]
[null,"prix de revient pièce",null,{"$f":"IFERROR(VLOOKUP(D14,'Prix de revient'!$A:$D,4,0),0)","v":0.50560000000000005},{"$f":"IFERROR(VLOOKUP(E14,'Prix de revient'!$A:$D,4,0),0)","v":0},{"$f":"IFERROR(VLOOKUP(F14,'Prix de revient'!$A:$D,4,0),0)","v":0},{"$f":"IFERROR(VLOOKUP(G14,'Prix de revient'!$A:$D,4,0),0)","v":0},{"$f":"IFERROR(VLOOKUP(H14,'Prix de revient'!$A:$D,4,0),0)","v":0},{"$f":"IFERROR(VLOOKUP(I14,'Prix de revient'!$A:$D,4,0),0)","v":0},{"$f":"IFERROR(VLOOKUP(J14,'Prix de revient'!$A:$D,4,0),0)","v":0},{"$f":"IFERROR(VLOOKUP(K14,'Prix de revient'!$A:$D,4,0),0)","v":0},{"$f":"IFERROR(VLOOKUP(L14,'Prix de revient'!$A:$D,4,0),0)","v":5.3719999999999999},{"$f":"IFERROR(VLOOKUP(M14,'Prix de revient'!$A:$D,4,0),0)","v":0},{"$f":"IFERROR(VLOOKUP(N14,'Prix de revient'!$A:$D,4,0),0)","v":0},{"$f":"IFERROR(VLOOKUP(O14,'Prix de revient'!$A:$D,4,0),0)","v":0},{"$f":"IFERROR(VLOOKUP(P14,'Prix de revient'!$A:$D,4,0),0)","v":0},{"$f":"IFERROR(VLOOKUP(Q14,'Prix de revient'!$A:$D,4,0),0)","v":0},{"$f":"IFERROR(VLOOKUP(R14,'Prix de revient'!$A:$D,4,0),0)","v":0},{"$f":"IFERROR(VLOOKUP(S14,'Prix de revient'!$A:$D,4,0),0)","v":3.2674400000000001}]
[null,"coût de rebuts",null,{"$f":"D26*D31","v":0},{"$f":"E26*E31","v":0},0,0,0,0,0,0,0,0,0,0,0,0,0,0,{"$f":"SUM(D32:S32)","v":0}]
[null,"gestion de modification"]
[]
[]
[]
[]
[]
[]
[]
[null,null,"Clients","Audit","Réclamation","Avoir",null,"Fournisseurs/ sous-traitants","Réception de matiere","Probleme qualité",null,"Les formations professionnelles","Cout","Chiffrage décliné","Actions à suivre",null,"Article qui a subit un tri","durée du tri","Nombre des pieces non-conformes","ouvrier faisant le tri","cout par tri",null,"Article qui a subit la reprise","durée de la reprise","opérateur faisant la reprise","coût de reprise",null,null,null,"Machine ","article","gamme","objet de la modification"]
[null,null,null,null,null,null,null,null,null,null,null,null,null,null,null,null,null,null,null,null,{"$f":"IF(R42=\"\",\"\",R42*VLOOKUP(T42,'cout opérateur machines'!A1:B8,2,0))","v":""},null,null,null,null,{"$f":"X42*8","v":0}]
[null,null,null,null,null,null,null,null,null,null,null,null,null,null,null,null,null,null,null,null,{"$f":"IF(R43=\"\",\"\",R43*VLOOKUP(T43,'cout opérateur machines'!A2:B9,2,0))","v":""},null,null,null,null,{"$f":"X43*8","v":0}]
[null,null,null,null,null,null,null,null,null,null,null,null,null,null,null,null,null,null,null,null,{"$f":"IF(R44=\"\",\"\",R44*VLOOKUP(T44,'cout opérateur machines'!A3:B10,2,0))","v":""},null,null,null,null,0]
[null,null,null,null,null,null,null,null,null,null,null,null,null,null,null,null,null,null,null,null,{"$f":"IF(R45=\"\",\"\",R45*VLOOKUP(T45,'cout opérateur machines'!A4:B11,2,0))","v":""},null,null,null,null,0]
[null,null,null,null,null,null,null,null,null,null,null,null,null,null,null,null,null,null,null,null,{"$f":"IF(R46=\"\",\"\",R46*VLOOKUP(T46,'cout opérateur machines'!A5:B12,2,0))","v":""},null,null,null,null,0]
[null,null,null,null,null,null,null,null,null,null,null,null,null,null,null,null,null,null,null,null,{"$f":"IF(R47=\"\",\"\",R47*VLOOKUP(T47,'cout opérateur machines'!A6:B13,2,0))","v":""},null,null,null,null,0]
[null,null,null,null,{"$f":"COUNTA(E42:E47)","v":0},{"$f":"SUM(F42:F47)","v":0},null,null,null,null,null,null,{"$f":"SUM(M42:M47)","v":0},"causes de refus",null,null,null,null,"cout total du jour",null,{"$f":"SUM(U42:U47)","v":0},null,null,null,null,0]
[null,null,null,null,null,null,null,"envoi des réclamations F/ S-T","réponse F/ S-T","alerte",null,null,null,null,null,null,null,null,null,null,null,null,null,null,null,{"$f":"SUM(Z42:Z48)","v":0}]
[null,null,"dans le cas d'une réclamation",null,null,null,null,null,null,{"$f":"IF(J42=\"\",\"\",IF(H50=0,\" réclamation non traitée\",IF(I50=0, \"veuillez contacter le F/ S-T par téléphone\",\"\")))","v":""},null,null,null,null,null,null,null,null,"N° mois",null,4]
[null,null,"nombre de pièces NC",null,null,null,null,null,null,{"$f":"IF(J43=\"\",\"\",IF(H51=0,\" réclamation non traitée\",IF(I51=0, \"veuillez contacter le F/ S-T par téléphone\",\"\")))","v":""}]
[null,null,"nombre de pièces par carton",null,null,null,null,null,null,""]
[null,null,"coût de transport par carton",null,null,null,null,null,null,""]
[null,null,"nombre de cartons renvoyés",null,null,null,null,null,null,""]
[null,null,"temps de tri",null,null,null,null,null,null,""]
[null,null,"coût horaire de tri"]
[null,null,"temps de retouche"]
[null,null,"coût horaire de retouche"]
[null,null,"temps de traitement de la réclamation"]
[null,null,"coût horaire de traitement"]
[null,null,"coût total",{"$f":"IFERROR(((D51/D52)*D53)+D54*D53+D55*D56+D57*D58+D59*D60,\"\")","v":""}]

{"sheet":"15-4-22","index":17,"n_rows":61,"n_cols":33,"rows_kept":61,"cut":false,"hidden":false,"merged":[[31,1,31,2],[32,1,32,2],[47,18,47,19],[49,18,49,19],[25,1,25,2],[26,1,26,2],[27,1,27,2],[28,1,28,2],[29,1,29,2],[30,1,30,2],[24,1,24,2],[12,1,12,2],[13,1,13,2],[14,1,14,2],[15,1,15,2],[16,1,16,2],[17,1,18,1],[19,1,19,2],[20,1,20,2],[21,1,21,2],[22,1,22,2],[23,1,23,2],[1,2,4,3],[1,4,4,16],[1,17,1,19],[1,21,1,23],[2,17,2,19],[2,21,2,23],[3,17,3,19],[3,21,3,23],[4,17,4,19],[4,21,4,23]]}
[]
[null,null,null,null,"Rapport journalier",null,null,null,null,null,null,null,null,null,null,null,null,"Code:DAS-SMQ-24"]
[null,null,null,null,null,null,null,null,null,null,null,null,null,null,null,null,null,"Date: 27/12/2019"]
[null,null,null,null,null,null,null,null,null,null,null,null,null,null,null,null,null,"Version:01"]
[null,null,null,null,null,null,null,null,null,null,null,null,null,null,null,null,null,"Page:1"]
[]
[]
[]
[]
[]
[]
[null,null,null,"A","B","C","D","E","F","M","N","O","P","I","L","K","J","G","H"]
[null,"Machine",null,"SST16","SB16","BIGLIA 301 SM","BIGLIA 42 S2M bitourelle","L32","TSUGAMI","MORI SEIKI 3 axes","MORI SEIKI 5 axes","HARDING","KITAMURA","MULTIBROCHE","NAKAMURA","TOUR WEILER"]
[null,"Référence",null,200101,"G022-CP1","19155-PT11","G027","200200-2022","i097-tsughami ","i004 "," - ",480387,"9518-maj","MPS000300","I007","199400-a","4-7891",68.081500000000005,200300]
[null,"Désignation",null,"AXE D'ARTICULATION ","AXE D15-M11*100 maj-c","AXE DE RACCORDEMENT","GOUJON M14*1.5L=52","Embout de tige-2022","ECROU DE ROUE FORD RANGER- finition rayon ","Ecrou suspension- surfacage ","Arrêt","Evacuation 2 et 3","USINAGE BORNE RBD-1 ","raccord HEX 17","ECROU SEMI ARBRE ISUZU","Tirant acier D6 maj-c","Bague galvanisée 32*42*20 par chute (fini)","Buse droite à collerette Ø8 M445 FRD","TIGE DE PISTON-maj ca"]
[null,"Compteur 8h ",null,3430,9270,0,783,4771,7429,62,0,142,0,0,0,1601,605,14157,1952]
[null,"Compteur 17h",null,4107,9670,74,1081,4771,7456,97,0,142,0,0,0,2180,1405,14493,2223]
[null,"Enregistrement","9h"]
[null,null,"16h"]
[null,"Identification"]
[null,"Propreté des tables de contrôle"]
[null,"Rangement des outils de contrôle"]
[null,"Existance de l'OF"]
[null,"Affutage",null,null,null,null,null,null,null,null,null,null,null,null,null,null,null,null,null,{"$f":"+COUNTA(D24:S24)","v":0}]
[null,"Maintenance"]
[null,"Nombre des NC poubelle "]
[null,"Nombre des NC à retoucher"]
[null,"Machine pour retouche"]
[null,"Panne"]
[null,"Cout pièces de rechange",null,null,null,null,null,null,null,null,null,null,null,null,null,null,null,null,null,{"$f":"SUM(D30:S30)","v":0}]
[null,"prix de revient pièce",null,{"$f":"IFERROR(VLOOKUP(D14,'Prix de revient'!$A:$D,4,0),0)","v":0.50560000000000005},{"$f":"IFERROR(VLOOKUP(E14,'Prix de revient'!$A:$D,4,0),0)","v":0},{"$f":"IFERROR(VLOOKUP(F14,'Prix de revient'!$A:$D,4,0),0)","v":0},{"$f":"IFERROR(VLOOKUP(G14,'Prix de revient'!$A:$D,4,0),0)","v":0},{"$f":"IFERROR(VLOOKUP(H14,'Prix de revient'!$A:$D,4,0),0)","v":0},{"$f":"IFERROR(VLOOKUP(I14,'Prix de revient'!$A:$D,4,0),0)","v":0},{"$f":"IFERROR(VLOOKUP(J14,'Prix de revient'!$A:$D,4,0),0)","v":0},{"$f":"IFERROR(VLOOKUP(K14,'Prix de revient'!$A:$D,4,0),0)","v":0},{"$f":"IFERROR(VLOOKUP(L14,'Prix de revient'!$A:$D,4,0),0)","v":5.3719999999999999},{"$f":"IFERROR(VLOOKUP(M14,'Prix de revient'!$A:$D,4,0),0)","v":0},{"$f":"IFERROR(VLOOKUP(N14,'Prix de revient'!$A:$D,4,0),0)","v":0},{"$f":"IFERROR(VLOOKUP(O14,'Prix de revient'!$A:$D,4,0),0)","v":0},{"$f":"IFERROR(VLOOKUP(P14,'Prix de revient'!$A:$D,4,0),0)","v":0},{"$f":"IFERROR(VLOOKUP(Q14,'Prix de revient'!$A:$D,4,0),0)","v":0},{"$f":"IFERROR(VLOOKUP(R14,'Prix de revient'!$A:$D,4,0),0)","v":0},{"$f":"IFERROR(VLOOKUP(S14,'Prix de revient'!$A:$D,4,0),0)","v":3.2674400000000001}]
[null,"coût de rebuts",null,{"$f":"D26*D31","v":0},{"$f":"E26*E31","v":0},0,0,0,0,0,0,0,0,0,0,0,0,0,0,{"$f":"SUM(D32:S32)","v":0}]
[null,"gestion de modification"]
[]
[]
[]
[]
[]
[]
[]
[null,null,"Clients","Audit","Réclamation","Avoir",null,"Fournisseurs/ sous-traitants","Réception de matiere","Probleme qualité",null,"Les formations professionnelles","Cout","Chiffrage décliné","Actions à suivre",null,"Article qui a subit un tri","durée du tri","Nombre des pieces non-conformes","ouvrier faisant le tri","cout par tri",null,"Article qui a subit la reprise","durée de la reprise","opérateur faisant la reprise","coût de reprise",null,null,null,"Machine ","article","gamme","objet de la modification"]
[null,null,null,null,null,null,null,null,null,null,null,null,null,null,null,null,null,null,null,null,{"$f":"IF(R42=\"\",\"\",R42*VLOOKUP(T42,'cout opérateur machines'!A1:B8,2,0))","v":""},null,null,null,null,{"$f":"X42*8","v":0}]
[null,null,null,null,null,null,null,null,null,null,null,null,null,null,null,null,null,null,null,null,{"$f":"IF(R43=\"\",\"\",R43*VLOOKUP(T43,'cout opérateur machines'!A2:B9,2,0))","v":""},null,null,null,null,{"$f":"X43*8","v":0}]
[null,null,null,null,null,null,null,null,null,null,null,null,null,null,null,null,null,null,null,null,{"$f":"IF(R44=\"\",\"\",R44*VLOOKUP(T44,'cout opérateur machines'!A3:B10,2,0))","v":""},null,null,null,null,0]
[null,null,null,null,null,null,null,null,null,null,null,null,null,null,null,null,null,null,null,null,{"$f":"IF(R45=\"\",\"\",R45*VLOOKUP(T45,'cout opérateur machines'!A4:B11,2,0))","v":""},null,null,null,null,0]
[null,null,null,null,null,null,null,null,null,null,null,null,null,null,null,null,null,null,null,null,{"$f":"IF(R46=\"\",\"\",R46*VLOOKUP(T46,'cout opérateur machines'!A5:B12,2,0))","v":""},null,null,null,null,0]
[null,null,null,null,null,null,null,null,null,null,null,null,null,null,null,null,null,null,null,null,{"$f":"IF(R47=\"\",\"\",R47*VLOOKUP(T47,'cout opérateur machines'!A6:B13,2,0))","v":""},null,null,null,null,0]
[null,null,null,null,{"$f":"COUNTA(E42:E47)","v":0},{"$f":"SUM(F42:F47)","v":0},null,null,null,null,null,null,{"$f":"SUM(M42:M47)","v":0},"causes de refus",null,null,null,null,"cout total du jour",null,{"$f":"SUM(U42:U47)","v":0},null,null,null,null,0]
[null,null,null,null,null,null,null,"envoi des réclamations F/ S-T","réponse F/ S-T","alerte",null,null,null,null,null,null,null,null,null,null,null,null,null,null,null,{"$f":"SUM(Z42:Z48)","v":0}]
[null,null,"dans le cas d'une réclamation",null,null,null,null,null,null,{"$f":"IF(J42=\"\",\"\",IF(H50=0,\" réclamation non traitée\",IF(I50=0, \"veuillez contacter le F/ S-T par téléphone\",\"\")))","v":""},null,null,null,null,null,null,null,null,"N° mois",null,4]
[null,null,"nombre de pièces NC",null,null,null,null,null,null,{"$f":"IF(J43=\"\",\"\",IF(H51=0,\" réclamation non traitée\",IF(I51=0, \"veuillez contacter le F/ S-T par téléphone\",\"\")))","v":""}]
[null,null,"nombre de pièces par carton",null,null,null,null,null,null,""]
[null,null,"coût de transport par carton",null,null,null,null,null,null,""]
[null,null,"nombre de cartons renvoyés",null,null,null,null,null,null,""]
[null,null,"temps de tri",null,null,null,null,null,null,""]
[null,null,"coût horaire de tri"]
[null,null,"temps de retouche"]
[null,null,"coût horaire de retouche"]
[null,null,"temps de traitement de la réclamation"]
[null,null,"coût horaire de traitement"]
[null,null,"coût total",{"$f":"IFERROR(((D51/D52)*D53)+D54*D53+D55*D56+D57*D58+D59*D60,\"\")","v":""}]

{"sheet":"14-4-22","index":18,"n_rows":61,"n_cols":33,"rows_kept":61,"cut":false,"hidden":false,"merged":[[31,1,31,2],[32,1,32,2],[47,18,47,19],[49,18,49,19],[25,1,25,2],[26,1,26,2],[27,1,27,2],[28,1,28,2],[29,1,29,2],[30,1,30,2],[24,1,24,2],[12,1,12,2],[13,1,13,2],[14,1,14,2],[15,1,15,2],[16,1,16,2],[17,1,18,1],[19,1,19,2],[20,1,20,2],[21,1,21,2],[22,1,22,2],[23,1,23,2],[1,2,4,3],[1,4,4,16],[1,17,1,19],[1,21,1,23],[2,17,2,19],[2,21,2,23],[3,17,3,19],[3,21,3,23],[4,17,4,19],[4,21,4,23]]}
[]
[null,null,null,null,"Rapport journalier",null,null,null,null,null,null,null,null,null,null,null,null,"Code:DAS-SMQ-24"]
[null,null,null,null,null,null,null,null,null,null,null,null,null,null,null,null,null,"Date: 27/12/2019"]
[null,null,null,null,null,null,null,null,null,null,null,null,null,null,null,null,null,"Version:01"]
[null,null,null,null,null,null,null,null,null,null,null,null,null,null,null,null,null,"Page:1"]
[]
[]
[]
[]
[]
[]
[null,null,null,"A","B","C","D","E","F","M","N","O","P","I","L","K","J","G","H"]
[null,"Machine",null,"SST16","SB16","BIGLIA 301 SM","BIGLIA 42 S2M bitourelle","L32","TSUGAMI","MORI SEIKI 3 axes","MORI SEIKI 5 axes","HARDING","KITAMURA","MULTIBROCHE","NAKAMURA","TOUR WEILER"]
[null,"Référence",null,200101,"G022-CP1",512520,"G027","200200-2022","i097-tsughami ","i004 "," - ",480387,"9518-maj","MPS000300","I007","199400-a","4-7891",68.081500000000005,200300]
[null,"Désignation",null,"AXE D'ARTICULATION ","AXE D15-M11*100 maj-c","INSERTO MANOPOLA INOX M8-","GOUJON M14*1.5L=52","Embout de tige-2022","ECROU DE ROUE FORD RANGER- finition rayon ","Ecrou suspension- surfacage ","Arrêt","Evacuation 2 et 3","USINAGE BORNE RBD-1 ","raccord HEX 17","ECROU SEMI ARBRE ISUZU","Tirant acier D6 maj-c","Bague galvanisée 32*42*20 par chute (fini)","Buse droite à collerette Ø8 M445 FRD","TIGE DE PISTON-maj ca"]
[null,"Compteur 8h ",null,2385,8845,547,510,4771,7063,32,0,142,0,0,0,1249,0,13592,1689]
[null,"Compteur 17h",null,3430,9270,889,783,4771,7429,62,0,142,0,0,0,1601,605,14157,1952]
[null,"Enregistrement","9h"]
[null,null,"16h"]
[null,"Identification"]
[null,"Propreté des tables de contrôle"]
[null,"Rangement des outils de contrôle"]
[null,"Existance de l'OF"]
[null,"Affutage",null,null,null,null,null,null,null,null,null,null,null,null,null,null,null,null,null,{"$f":"+COUNTA(D24:S24)","v":0}]
[null,"Maintenance"]
[null,"Nombre des NC poubelle "]
[null,"Nombre des NC à retoucher"]
[null,"Machine pour retouche"]
[null,"Panne"]
[null,"Cout pièces de rechange",null,null,null,null,null,null,null,null,null,null,null,null,null,null,null,null,null,{"$f":"SUM(D30:S30)","v":0}]
[null,"prix de revient pièce",null,{"$f":"IFERROR(VLOOKUP(D14,'Prix de revient'!$A:$D,4,0),0)","v":0.50560000000000005},{"$f":"IFERROR(VLOOKUP(E14,'Prix de revient'!$A:$D,4,0),0)","v":0},{"$f":"IFERROR(VLOOKUP(F14,'Prix de revient'!$A:$D,4,0),0)","v":1.2482000000000002},{"$f":"IFERROR(VLOOKUP(G14,'Prix de revient'!$A:$D,4,0),0)","v":0},{"$f":"IFERROR(VLOOKUP(H14,'Prix de revient'!$A:$D,4,0),0)","v":0},{"$f":"IFERROR(VLOOKUP(I14,'Prix de revient'!$A:$D,4,0),0)","v":0},{"$f":"IFERROR(VLOOKUP(J14,'Prix de revient'!$A:$D,4,0),0)","v":0},{"$f":"IFERROR(VLOOKUP(K14,'Prix de revient'!$A:$D,4,0),0)","v":0},{"$f":"IFERROR(VLOOKUP(L14,'Prix de revient'!$A:$D,4,0),0)","v":5.3719999999999999},{"$f":"IFERROR(VLOOKUP(M14,'Prix de revient'!$A:$D,4,0),0)","v":0},{"$f":"IFERROR(VLOOKUP(N14,'Prix de revient'!$A:$D,4,0),0)","v":0},{"$f":"IFERROR(VLOOKUP(O14,'Prix de revient'!$A:$D,4,0),0)","v":0},{"$f":"IFERROR(VLOOKUP(P14,'Prix de revient'!$A:$D,4,0),0)","v":0},{"$f":"IFERROR(VLOOKUP(Q14,'Prix de revient'!$A:$D,4,0),0)","v":0},{"$f":"IFERROR(VLOOKUP(R14,'Prix de revient'!$A:$D,4,0),0)","v":0},{"$f":"IFERROR(VLOOKUP(S14,'Prix de revient'!$A:$D,4,0),0)","v":3.2674400000000001}]
[null,"coût de rebuts",null,{"$f":"D26*D31","v":0},{"$f":"E26*E31","v":0},0,0,0,0,0,0,0,0,0,0,0,0,0,0,{"$f":"SUM(D32:S32)","v":0}]
[null,"gestion de modification"]
[]
[]
[]
[]
[]
[]
[]
[null,null,"Clients","Audit","Réclamation","Avoir",null,"Fournisseurs/ sous-traitants","Réception de matiere","Probleme qualité",null,"Les formations professionnelles","Cout","Chiffrage décliné","Actions à suivre",null,"Article qui a subit un tri","durée du tri","Nombre des pieces non-conformes","ouvrier faisant le tri","cout par tri",null,"Article qui a subit la reprise","durée de la reprise","opérateur faisant la reprise","coût de reprise",null,null,null,"Machine ","article","gamme","objet de la modification"]
[null,null,null,null,null,null,null,null,null,null,null,null,null,null,null,null,null,null,null,null,{"$f":"IF(R42=\"\",\"\",R42*VLOOKUP(T42,'cout opérateur machines'!A1:B8,2,0))","v":""},null,null,null,null,{"$f":"X42*8","v":0}]
[null,null,null,null,null,null,null,null,null,null,null,null,null,null,null,null,null,null,null,null,{"$f":"IF(R43=\"\",\"\",R43*VLOOKUP(T43,'cout opérateur machines'!A2:B9,2,0))","v":""},null,null,null,null,{"$f":"X43*8","v":0}]
[null,null,null,null,null,null,null,null,null,null,null,null,null,null,null,null,null,null,null,null,{"$f":"IF(R44=\"\",\"\",R44*VLOOKUP(T44,'cout opérateur machines'!A3:B10,2,0))","v":""},null,null,null,null,0]
[null,null,null,null,null,null,null,null,null,null,null,null,null,null,null,null,null,null,null,null,{"$f":"IF(R45=\"\",\"\",R45*VLOOKUP(T45,'cout opérateur machines'!A4:B11,2,0))","v":""},null,null,null,null,0]
[null,null,null,null,null,null,null,null,null,null,null,null,null,null,null,null,null,null,null,null,{"$f":"IF(R46=\"\",\"\",R46*VLOOKUP(T46,'cout opérateur machines'!A5:B12,2,0))","v":""},null,null,null,null,0]
[null,null,null,null,null,null,null,null,null,null,null,null,null,null,null,null,null,null,null,null,{"$f":"IF(R47=\"\",\"\",R47*VLOOKUP(T47,'cout opérateur machines'!A6:B13,2,0))","v":""},null,null,null,null,0]
[null,null,null,null,{"$f":"COUNTA(E42:E47)","v":0},{"$f":"SUM(F42:F47)","v":0},null,null,null,null,null,null,{"$f":"SUM(M42:M47)","v":0},"causes de refus",null,null,null,null,"cout total du jour",null,{"$f":"SUM(U42:U47)","v":0},null,null,null,null,0]
[null,null,null,null,null,null,null,"envoi des réclamations F/ S-T","réponse F/ S-T","alerte",null,null,null,null,null,null,null,null,null,null,null,null,null,null,null,{"$f":"SUM(Z42:Z48)","v":0}]
[null,null,"dans le cas d'une réclamation",null,null,null,null,null,null,{"$f":"IF(J42=\"\",\"\",IF(H50=0,\" réclamation non traitée\",IF(I50=0, \"veuillez contacter le F/ S-T par téléphone\",\"\")))","v":""},null,null,null,null,null,null,null,null,"N° mois",null,4]
[null,null,"nombre de pièces NC",null,null,null,null,null,null,{"$f":"IF(J43=\"\",\"\",IF(H51=0,\" réclamation non traitée\",IF(I51=0, \"veuillez contacter le F/ S-T par téléphone\",\"\")))","v":""}]
[null,null,"nombre de pièces par carton",null,null,null,null,null,null,""]
[null,null,"coût de transport par carton",null,null,null,null,null,null,""]
[null,null,"nombre de cartons renvoyés",null,null,null,null,null,null,""]
[null,null,"temps de tri",null,null,null,null,null,null,""]
[null,null,"coût horaire de tri"]
[null,null,"temps de retouche"]
[null,null,"coût horaire de retouche"]
[null,null,"temps de traitement de la réclamation"]
[null,null,"coût horaire de traitement"]
[null,null,"coût total",{"$f":"IFERROR(((D51/D52)*D53)+D54*D53+D55*D56+D57*D58+D59*D60,\"\")","v":""}]

{"sheet":"13-4-22","index":19,"n_rows":61,"n_cols":33,"rows_kept":61,"cut":false,"hidden":false,"merged":[[31,1,31,2],[32,1,32,2],[47,18,47,19],[49,18,49,19],[25,1,25,2],[26,1,26,2],[27,1,27,2],[28,1,28,2],[29,1,29,2],[30,1,30,2],[24,1,24,2],[12,1,12,2],[13,1,13,2],[14,1,14,2],[15,1,15,2],[16,1,16,2],[17,1,18,1],[19,1,19,2],[20,1,20,2],[21,1,21,2],[22,1,22,2],[23,1,23,2],[1,2,4,3],[1,4,4,16],[1,17,1,19],[1,21,1,23],[2,17,2,19],[2,21,2,23],[3,17,3,19],[3,21,3,23],[4,17,4,19],[4,21,4,23]]}
[]
[null,null,null,null,"Rapport journalier",null,null,null,null,null,null,null,null,null,null,null,null,"Code:DAS-SMQ-24"]
[null,null,null,null,null,null,null,null,null,null,null,null,null,null,null,null,null,"Date: 27/12/2019"]
[null,null,null,null,null,null,null,null,null,null,null,null,null,null,null,null,null,"Version:01"]
[null,null,null,null,null,null,null,null,null,null,null,null,null,null,null,null,null,"Page:1"]
[]
[]
[]
[]
[]
[]
[null,null,null,"A","B","C","D","E","F","M","N","O","P","I","L","K","J","G","H"]
[null,"Machine",null,"SST16","SB16","BIGLIA 301 SM","BIGLIA 42 S2M bitourelle","L32","TSUGAMI","MORI SEIKI 3 axes","MORI SEIKI 5 axes","HARDING","KITAMURA","MULTIBROCHE","NAKAMURA","TOUR WEILER"]
[null,"Référence",null,200101,"G022-CP1",512520,"G027","200200-2022","i097-tsughami ","i004 "," - ",480387,"9518-maj","MPS000300","I007","199400-a","4-7891",68.081500000000005,200300]
[null,"Désignation",null,"AXE D'ARTICULATION ","AXE D15-M11*100 maj-c","INSERTO MANOPOLA INOX M8-","GOUJON M14*1.5L=52","Embout de tige-2022","ECROU DE ROUE FORD RANGER- finition rayon ","Ecrou suspension- surfacage ","Arrêt","Evacuation 2 et 3","USINAGE BORNE RBD-1 ","raccord HEX 17","ECROU SEMI ARBRE ISUZU","Tirant acier D6 maj-c","ANNEAU BRUTE 32*42*20 chuttes","Buse droite à collerette Ø8 M445 FRD","TIGE DE PISTON-maj ca"]
[null,"Compteur 8h ",null,1336,8405,75,200,4771,0,9,0,140,6972,0,0,601,1163,13093,1424]
[null,"Compteur 17h",null,2385,8845,547,510,4771,0,32,0,142,6972,0,0,1249,1527,13592,1689]
[null,"Enregistrement","9h"]
[null,null,"16h"]
[null,"Identification"]
[null,"Propreté des tables de contrôle"]
[null,"Rangement des outils de contrôle"]
[null,"Existance de l'OF"]
[null,"Affutage",null,null,null,null,null,null,null,null,null,null,null,null,null,null,null,null,null,{"$f":"+COUNTA(D24:S24)","v":0}]
[null,"Maintenance"]
[null,"Nombre des NC poubelle "]
[null,"Nombre des NC à retoucher"]
[null,"Machine pour retouche"]
[null,"Panne"]
[null,"Cout pièces de rechange",null,null,null,null,null,null,null,null,null,null,null,null,null,null,null,null,null,{"$f":"SUM(D30:S30)","v":0}]
[null,"prix de revient pièce",null,{"$f":"IFERROR(VLOOKUP(D14,'Prix de revient'!$A:$D,4,0),0)","v":0.50560000000000005},{"$f":"IFERROR(VLOOKUP(E14,'Prix de revient'!$A:$D,4,0),0)","v":0},{"$f":"IFERROR(VLOOKUP(F14,'Prix de revient'!$A:$D,4,0),0)","v":1.2482000000000002},{"$f":"IFERROR(VLOOKUP(G14,'Prix de revient'!$A:$D,4,0),0)","v":0},{"$f":"IFERROR(VLOOKUP(H14,'Prix de revient'!$A:$D,4,0),0)","v":0},{"$f":"IFERROR(VLOOKUP(I14,'Prix de revient'!$A:$D,4,0),0)","v":0},{"$f":"IFERROR(VLOOKUP(J14,'Prix de revient'!$A:$D,4,0),0)","v":0},{"$f":"IFERROR(VLOOKUP(K14,'Prix de revient'!$A:$D,4,0),0)","v":0},{"$f":"IFERROR(VLOOKUP(L14,'Prix de revient'!$A:$D,4,0),0)","v":5.3719999999999999},{"$f":"IFERROR(VLOOKUP(M14,'Prix de revient'!$A:$D,4,0),0)","v":0},{"$f":"IFERROR(VLOOKUP(N14,'Prix de revient'!$A:$D,4,0),0)","v":0},{"$f":"IFERROR(VLOOKUP(O14,'Prix de revient'!$A:$D,4,0),0)","v":0},{"$f":"IFERROR(VLOOKUP(P14,'Prix de revient'!$A:$D,4,0),0)","v":0},{"$f":"IFERROR(VLOOKUP(Q14,'Prix de revient'!$A:$D,4,0),0)","v":0},{"$f":"IFERROR(VLOOKUP(R14,'Prix de revient'!$A:$D,4,0),0)","v":0},{"$f":"IFERROR(VLOOKUP(S14,'Prix de revient'!$A:$D,4,0),0)","v":3.2674400000000001}]
[null,"coût de rebuts",null,{"$f":"D26*D31","v":0},{"$f":"E26*E31","v":0},0,0,0,0,0,0,0,0,0,0,0,0,0,0,{"$f":"SUM(D32:S32)","v":0}]
[null,"gestion de modification"]
[]
[]
[]
[]
[]
[]
[]
[null,null,"Clients","Audit","Réclamation","Avoir",null,"Fournisseurs/ sous-traitants","Réception de matiere","Probleme qualité",null,"Les formations professionnelles","Cout","Chiffrage décliné","Actions à suivre",null,"Article qui a subit un tri","durée du tri","Nombre des pieces non-conformes","ouvrier faisant le tri","cout par tri",null,"Article qui a subit la reprise","durée de la reprise","opérateur faisant la reprise","coût de reprise",null,null,null,"Machine ","article","gamme","objet de la modification"]
[null,null,null,null,null,null,null,null,null,null,null,null,null,null,null,null,null,null,null,null,{"$f":"IF(R42=\"\",\"\",R42*VLOOKUP(T42,'cout opérateur machines'!A1:B8,2,0))","v":""},null,null,null,null,{"$f":"X42*8","v":0}]
[null,null,null,null,null,null,null,null,null,null,null,null,null,null,null,null,null,null,null,null,{"$f":"IF(R43=\"\",\"\",R43*VLOOKUP(T43,'cout opérateur machines'!A2:B9,2,0))","v":""},null,null,null,null,{"$f":"X43*8","v":0}]
[null,null,null,null,null,null,null,null,null,null,null,null,null,null,null,null,null,null,null,null,{"$f":"IF(R44=\"\",\"\",R44*VLOOKUP(T44,'cout opérateur machines'!A3:B10,2,0))","v":""},null,null,null,null,0]
[null,null,null,null,null,null,null,null,null,null,null,null,null,null,null,null,null,null,null,null,{"$f":"IF(R45=\"\",\"\",R45*VLOOKUP(T45,'cout opérateur machines'!A4:B11,2,0))","v":""},null,null,null,null,0]
[null,null,null,null,null,null,null,null,null,null,null,null,null,null,null,null,null,null,null,null,{"$f":"IF(R46=\"\",\"\",R46*VLOOKUP(T46,'cout opérateur machines'!A5:B12,2,0))","v":""},null,null,null,null,0]
[null,null,null,null,null,null,null,null,null,null,null,null,null,null,null,null,null,null,null,null,{"$f":"IF(R47=\"\",\"\",R47*VLOOKUP(T47,'cout opérateur machines'!A6:B13,2,0))","v":""},null,null,null,null,0]
[null,null,null,null,{"$f":"COUNTA(E42:E47)","v":0},{"$f":"SUM(F42:F47)","v":0},null,null,null,null,null,null,{"$f":"SUM(M42:M47)","v":0},"causes de refus",null,null,null,null,"cout total du jour",null,{"$f":"SUM(U42:U47)","v":0},null,null,null,null,0]
[null,null,null,null,null,null,null,"envoi des réclamations F/ S-T","réponse F/ S-T","alerte",null,null,null,null,null,null,null,null,null,null,null,null,null,null,null,{"$f":"SUM(Z42:Z48)","v":0}]
[null,null,"dans le cas d'une réclamation",null,null,null,null,null,null,{"$f":"IF(J42=\"\",\"\",IF(H50=0,\" réclamation non traitée\",IF(I50=0, \"veuillez contacter le F/ S-T par téléphone\",\"\")))","v":""},null,null,null,null,null,null,null,null,"N° mois",null,4]
[null,null,"nombre de pièces NC",null,null,null,null,null,null,{"$f":"IF(J43=\"\",\"\",IF(H51=0,\" réclamation non traitée\",IF(I51=0, \"veuillez contacter le F/ S-T par téléphone\",\"\")))","v":""}]
[null,null,"nombre de pièces par carton",null,null,null,null,null,null,""]
[null,null,"coût de transport par carton",null,null,null,null,null,null,""]
[null,null,"nombre de cartons renvoyés",null,null,null,null,null,null,""]
[null,null,"temps de tri",null,null,null,null,null,null,""]
[null,null,"coût horaire de tri"]
[null,null,"temps de retouche"]
[null,null,"coût horaire de retouche"]
[null,null,"temps de traitement de la réclamation"]
[null,null,"coût horaire de traitement"]
[null,null,"coût total",{"$f":"IFERROR(((D51/D52)*D53)+D54*D53+D55*D56+D57*D58+D59*D60,\"\")","v":""}]

{"sheet":"12-4-22","index":20,"n_rows":61,"n_cols":33,"rows_kept":61,"cut":false,"hidden":false,"merged":[[31,1,31,2],[32,1,32,2],[47,18,47,19],[49,18,49,19],[25,1,25,2],[26,1,26,2],[27,1,27,2],[28,1,28,2],[29,1,29,2],[30,1,30,2],[24,1,24,2],[12,1,12,2],[13,1,13,2],[14,1,14,2],[15,1,15,2],[16,1,16,2],[17,1,18,1],[19,1,19,2],[20,1,20,2],[21,1,21,2],[22,1,22,2],[23,1,23,2],[1,2,4,3],[1,4,4,16],[1,17,1,19],[1,21,1,23],[2,17,2,19],[2,21,2,23],[3,17,3,19],[3,21,3,23],[4,17,4,19],[4,21,4,23]]}
[]
[null,null,null,null,"Rapport journalier",null,null,null,null,null,null,null,null,null,null,null,null,"Code:DAS-SMQ-24"]
[null,null,null,null,null,null,null,null,null,null,null,null,null,null,null,null,null,"Date: 27/12/2019"]
[null,null,null,null,null,null,null,null,null,null,null,null,null,null,null,null,null,"Version:01"]
[null,null,null,null,null,null,null,null,null,null,null,null,null,null,null,null,null,"Page:1"]
[]
[]
[]
[]
[]
[]
[null,null,null,"A","B","C","D","E","F","M","N","O","P","I","L","K","J","G","H"]
[null,"Machine",null,"SST16","SB16","BIGLIA 301 SM","BIGLIA 42 S2M bitourelle","L32","TSUGAMI","MORI SEIKI 3 axes","MORI SEIKI 5 axes","HARDING","KITAMURA","MULTIBROCHE","NAKAMURA","TOUR WEILER"]
[null,"Référence",null,200101,"G022-CP1",512520,"G027","200200-2022","i097-tsughami ","i004 "," - ",480387,"9518-maj","MPS000300","I007","199400-a","4-7891",68.081500000000005,200300]
[null,"Désignation",null,"AXE D'ARTICULATION ","AXE D15-M11*100 maj-c","INSERTO MANOPOLA INOX M8-","GOUJON M14*1.5L=52","Embout de tige-2022","ECROU DE ROUE FORD RANGER- finition rayon ","Ecrou suspension- surfacage ","Arrêt","Evacuation 2 et 3","USINAGE BORNE RBD-1 ","raccord HEX 17","ECROU SEMI ARBRE ISUZU","Tirant acier D6 maj-c","ANNEAU BRUTE 32*42*20 chuttes","Buse droite à collerette Ø8 M445 FRD","TIGE DE PISTON-maj ca"]
[null,"Compteur 8h ",null,0,8046,0,0,4771,0,0,0,132,6822,0,0,80,907,12573,1139]
[null,"Compteur 17h",null,1336,8405,75,200,4771,0,9,0,140,6972,0,0,601,1163,13093,1424]
[null,"Enregistrement","9h"]
[null,null,"16h"]
[null,"Identification"]
[null,"Propreté des tables de contrôle"]
[null,"Rangement des outils de contrôle"]
[null,"Existance de l'OF"]
[null,"Affutage",null,null,null,null,null,null,null,null,null,null,null,null,null,null,null,null,null,{"$f":"+COUNTA(D24:S24)","v":0}]
[null,"Maintenance"]
[null,"Nombre des NC poubelle "]
[null,"Nombre des NC à retoucher"]
[null,"Machine pour retouche"]
[null,"Panne"]
[null,"Cout pièces de rechange",null,null,null,null,null,null,null,null,null,null,null,null,null,null,null,null,null,{"$f":"SUM(D30:S30)","v":0}]
[null,"prix de revient pièce",null,{"$f":"IFERROR(VLOOKUP(D14,'Prix de revient'!$A:$D,4,0),0)","v":0.50560000000000005},{"$f":"IFERROR(VLOOKUP(E14,'Prix de revient'!$A:$D,4,0),0)","v":0},{"$f":"IFERROR(VLOOKUP(F14,'Prix de revient'!$A:$D,4,0),0)","v":1.2482000000000002},{"$f":"IFERROR(VLOOKUP(G14,'Prix de revient'!$A:$D,4,0),0)","v":0},{"$f":"IFERROR(VLOOKUP(H14,'Prix de revient'!$A:$D,4,0),0)","v":0},{"$f":"IFERROR(VLOOKUP(I14,'Prix de revient'!$A:$D,4,0),0)","v":0},{"$f":"IFERROR(VLOOKUP(J14,'Prix de revient'!$A:$D,4,0),0)","v":0},{"$f":"IFERROR(VLOOKUP(K14,'Prix de revient'!$A:$D,4,0),0)","v":0},{"$f":"IFERROR(VLOOKUP(L14,'Prix de revient'!$A:$D,4,0),0)","v":5.3719999999999999},{"$f":"IFERROR(VLOOKUP(M14,'Prix de revient'!$A:$D,4,0),0)","v":0},{"$f":"IFERROR(VLOOKUP(N14,'Prix de revient'!$A:$D,4,0),0)","v":0},{"$f":"IFERROR(VLOOKUP(O14,'Prix de revient'!$A:$D,4,0),0)","v":0},{"$f":"IFERROR(VLOOKUP(P14,'Prix de revient'!$A:$D,4,0),0)","v":0},{"$f":"IFERROR(VLOOKUP(Q14,'Prix de revient'!$A:$D,4,0),0)","v":0},{"$f":"IFERROR(VLOOKUP(R14,'Prix de revient'!$A:$D,4,0),0)","v":0},{"$f":"IFERROR(VLOOKUP(S14,'Prix de revient'!$A:$D,4,0),0)","v":3.2674400000000001}]
[null,"coût de rebuts",null,{"$f":"D26*D31","v":0},{"$f":"E26*E31","v":0},0,0,0,0,0,0,0,0,0,0,0,0,0,0,{"$f":"SUM(D32:S32)","v":0}]
[null,"gestion de modification"]
[]
[]
[]
[]
[]
[]
[]
[null,null,"Clients","Audit","Réclamation","Avoir",null,"Fournisseurs/ sous-traitants","Réception de matiere","Probleme qualité",null,"Les formations professionnelles","Cout","Chiffrage décliné","Actions à suivre",null,"Article qui a subit un tri","durée du tri","Nombre des pieces non-conformes","ouvrier faisant le tri","cout par tri",null,"Article qui a subit la reprise","durée de la reprise","opérateur faisant la reprise","coût de reprise",null,null,null,"Machine ","article","gamme","objet de la modification"]
[null,null,null,null,null,null,null,null,null,null,null,null,null,null,null,null,null,null,null,null,{"$f":"IF(R42=\"\",\"\",R42*VLOOKUP(T42,'cout opérateur machines'!A1:B8,2,0))","v":""},null,null,null,null,{"$f":"X42*8","v":0}]
[null,null,null,null,null,null,null,null,null,null,null,null,null,null,null,null,null,null,null,null,{"$f":"IF(R43=\"\",\"\",R43*VLOOKUP(T43,'cout opérateur machines'!A2:B9,2,0))","v":""},null,null,null,null,{"$f":"X43*8","v":0}]
[null,null,null,null,null,null,null,null,null,null,null,null,null,null,null,null,null,null,null,null,{"$f":"IF(R44=\"\",\"\",R44*VLOOKUP(T44,'cout opérateur machines'!A3:B10,2,0))","v":""},null,null,null,null,0]
[null,null,null,null,null,null,null,null,null,null,null,null,null,null,null,null,null,null,null,null,{"$f":"IF(R45=\"\",\"\",R45*VLOOKUP(T45,'cout opérateur machines'!A4:B11,2,0))","v":""},null,null,null,null,0]
[null,null,null,null,null,null,null,null,null,null,null,null,null,null,null,null,null,null,null,null,{"$f":"IF(R46=\"\",\"\",R46*VLOOKUP(T46,'cout opérateur machines'!A5:B12,2,0))","v":""},null,null,null,null,0]
[null,null,null,null,null,null,null,null,null,null,null,null,null,null,null,null,null,null,null,null,{"$f":"IF(R47=\"\",\"\",R47*VLOOKUP(T47,'cout opérateur machines'!A6:B13,2,0))","v":""},null,null,null,null,0]
[null,null,null,null,{"$f":"COUNTA(E42:E47)","v":0},{"$f":"SUM(F42:F47)","v":0},null,null,null,null,null,null,{"$f":"SUM(M42:M47)","v":0},"causes de refus",null,null,null,null,"cout total du jour",null,{"$f":"SUM(U42:U47)","v":0},null,null,null,null,0]
[null,null,null,null,null,null,null,"envoi des réclamations F/ S-T","réponse F/ S-T","alerte",null,null,null,null,null,null,null,null,null,null,null,null,null,null,null,{"$f":"SUM(Z42:Z48)","v":0}]
[null,null,"dans le cas d'une réclamation",null,null,null,null,null,null,{"$f":"IF(J42=\"\",\"\",IF(H50=0,\" réclamation non traitée\",IF(I50=0, \"veuillez contacter le F/ S-T par téléphone\",\"\")))","v":""},null,null,null,null,null,null,null,null,"N° mois",null,4]
[null,null,"nombre de pièces NC",null,null,null,null,null,null,{"$f":"IF(J43=\"\",\"\",IF(H51=0,\" réclamation non traitée\",IF(I51=0, \"veuillez contacter le F/ S-T par téléphone\",\"\")))","v":""}]
[null,null,"nombre de pièces par carton",null,null,null,null,null,null,""]
[null,null,"coût de transport par carton",null,null,null,null,null,null,""]
[null,null,"nombre de cartons renvoyés",null,null,null,null,null,null,""]
[null,null,"temps de tri",null,null,null,null,null,null,""]
[null,null,"coût horaire de tri"]
[null,null,"temps de retouche"]
[null,null,"coût horaire de retouche"]
[null,null,"temps de traitement de la réclamation"]
[null,null,"coût horaire de traitement"]
[null,null,"coût total",{"$f":"IFERROR(((D51/D52)*D53)+D54*D53+D55*D56+D57*D58+D59*D60,\"\")","v":""}]

{"sheet":"11-4-22","index":21,"n_rows":61,"n_cols":33,"rows_kept":61,"cut":false,"hidden":false,"merged":[[31,1,31,2],[32,1,32,2],[47,18,47,19],[49,18,49,19],[25,1,25,2],[26,1,26,2],[27,1,27,2],[28,1,28,2],[29,1,29,2],[30,1,30,2],[24,1,24,2],[12,1,12,2],[13,1,13,2],[14,1,14,2],[15,1,15,2],[16,1,16,2],[17,1,18,1],[19,1,19,2],[20,1,20,2],[21,1,21,2],[22,1,22,2],[23,1,23,2],[1,2,4,3],[1,4,4,16],[1,17,1,19],[1,21,1,23],[2,17,2,19],[2,21,2,23],[3,17,3,19],[3,21,3,23],[4,17,4,19],[4,21,4,23]]}
[]
[null,null,null,null,"Rapport journalier",null,null,null,null,null,null,null,null,null,null,null,null,"Code:DAS-SMQ-24"]
[null,null,null,null,null,null,null,null,null,null,null,null,null,null,null,null,null,"Date: 27/12/2019"]
[null,null,null,null,null,null,null,null,null,null,null,null,null,null,null,null,null,"Version:01"]
[null,null,null,null,null,null,null,null,null,null,null,null,null,null,null,null,null,"Page:1"]
[]
[]
[]
[]
[]
[]
[null,null,null,"A","B","C","D","E","F","M","N","O","P","I","L","K","J","G","H"]
[null,"Machine",null,"SST16","SB16","BIGLIA 301 SM","BIGLIA 42 S2M bitourelle","L32","TSUGAMI","MORI SEIKI 3 axes","MORI SEIKI 5 axes","HARDING","KITAMURA","MULTIBROCHE","NAKAMURA","TOUR WEILER"]
[null,"Référence",null," - ","G022-CP1","4-8344","MI018-B42","200200-2022","i097-tsughami ","I110-01-004"," - ",480387,"9518-maj","MPS000300","I007","199400-a","4-7891",68.081500000000005,200300]
[null,"Désignation",null,"Arrêt","AXE D15-M11*100 maj-c","Bague Galvanisée 12*27*39.5","GOUJON DE ROUE MITSIBITCHI GM-SUR-B42","Embout de tige-2022","ECROU DE ROUE FORD RANGER- finition rayon ","INSERT LEVIER SURMOULEE 345833-01 - fraisage ","Arrêt","Evacuation 2 et 3","USINAGE BORNE RBD-1 ","raccord HEX 17","ECROU SEMI ARBRE ISUZU","Tirant acier D6 maj-c","ANNEAU BRUTE 32*42*20 chuttes","Buse droite à collerette Ø8 M445 FRD","TIGE DE PISTON-maj ca"]
[null,"Compteur 8h ",null,0,7641,0,10732,4771,0,1225,0,117,6635,0,2017,0,602,11968,864]
[null,"Compteur 17h",null,0,8046,266,11884,4771,0,1253,0,132,6822,0,2183,80,907,12573,1139]
[null,"Enregistrement","9h"]
[null,null,"16h"]
[null,"Identification"]
[null,"Propreté des tables de contrôle"]
[null,"Rangement des outils de contrôle"]
[null,"Existance de l'OF"]
[null,"Affutage",null,null,null,null,null,null,null,null,null,null,null,null,null,null,null,null,null,{"$f":"+COUNTA(D24:S24)","v":0}]
[null,"Maintenance"]
[null,"Nombre des NC poubelle "]
[null,"Nombre des NC à retoucher"]
[null,"Machine pour retouche"]
[null,"Panne"]
[null,"Cout pièces de rechange",null,null,null,null,null,null,null,null,null,null,null,null,null,null,null,null,null,{"$f":"SUM(D30:S30)","v":0}]
[null,"prix de revient pièce",null,{"$f":"IFERROR(VLOOKUP(D14,'Prix de revient'!$A:$D,4,0),0)","v":0},{"$f":"IFERROR(VLOOKUP(E14,'Prix de revient'!$A:$D,4,0),0)","v":0},{"$f":"IFERROR(VLOOKUP(F14,'Prix de revient'!$A:$D,4,0),0)","v":0},{"$f":"IFERROR(VLOOKUP(G14,'Prix de revient'!$A:$D,4,0),0)","v":0},{"$f":"IFERROR(VLOOKUP(H14,'Prix de revient'!$A:$D,4,0),0)","v":0},{"$f":"IFERROR(VLOOKUP(I14,'Prix de revient'!$A:$D,4,0),0)","v":0},{"$f":"IFERROR(VLOOKUP(J14,'Prix de revient'!$A:$D,4,0),0)","v":2.1488},{"$f":"IFERROR(VLOOKUP(K14,'Prix de revient'!$A:$D,4,0),0)","v":0},{"$f":"IFERROR(VLOOKUP(L14,'Prix de revient'!$A:$D,4,0),0)","v":5.3719999999999999},{"$f":"IFERROR(VLOOKUP(M14,'Prix de revient'!$A:$D,4,0),0)","v":0},{"$f":"IFERROR(VLOOKUP(N14,'Prix de revient'!$A:$D,4,0),0)","v":0},{"$f":"IFERROR(VLOOKUP(O14,'Prix de revient'!$A:$D,4,0),0)","v":0},{"$f":"IFERROR(VLOOKUP(P14,'Prix de revient'!$A:$D,4,0),0)","v":0},{"$f":"IFERROR(VLOOKUP(Q14,'Prix de revient'!$A:$D,4,0),0)","v":0},{"$f":"IFERROR(VLOOKUP(R14,'Prix de revient'!$A:$D,4,0),0)","v":0},{"$f":"IFERROR(VLOOKUP(S14,'Prix de revient'!$A:$D,4,0),0)","v":3.2674400000000001}]
[null,"coût de rebuts",null,{"$f":"D26*D31","v":0},{"$f":"E26*E31","v":0},0,0,0,0,0,0,0,0,0,0,0,0,0,0,{"$f":"SUM(D32:S32)","v":0}]
[null,"gestion de modification"]
[]
[]
[]
[]
[]
[]
[]
[null,null,"Clients","Audit","Réclamation","Avoir",null,"Fournisseurs/ sous-traitants","Réception de matiere","Probleme qualité",null,"Les formations professionnelles","Cout","Chiffrage décliné","Actions à suivre",null,"Article qui a subit un tri","durée du tri","Nombre des pieces non-conformes","ouvrier faisant le tri","cout par tri",null,"Article qui a subit la reprise","durée de la reprise","opérateur faisant la reprise","coût de reprise",null,null,null,"Machine ","article","gamme","objet de la modification"]
[null,null,null,null,null,null,null,null,null,null,null,null,null,null,null,null,null,null,null,null,{"$f":"IF(R42=\"\",\"\",R42*VLOOKUP(T42,'cout opérateur machines'!A1:B8,2,0))","v":""},null,null,null,null,{"$f":"X42*8","v":0}]
[null,null,null,null,null,null,null,null,null,null,null,null,null,null,null,null,null,null,null,null,{"$f":"IF(R43=\"\",\"\",R43*VLOOKUP(T43,'cout opérateur machines'!A2:B9,2,0))","v":""},null,null,null,null,{"$f":"X43*8","v":0}]
[null,null,null,null,null,null,null,null,null,null,null,null,null,null,null,null,null,null,null,null,{"$f":"IF(R44=\"\",\"\",R44*VLOOKUP(T44,'cout opérateur machines'!A3:B10,2,0))","v":""},null,null,null,null,0]
[null,null,null,null,null,null,null,null,null,null,null,null,null,null,null,null,null,null,null,null,{"$f":"IF(R45=\"\",\"\",R45*VLOOKUP(T45,'cout opérateur machines'!A4:B11,2,0))","v":""},null,null,null,null,0]
[null,null,null,null,null,null,null,null,null,null,null,null,null,null,null,null,null,null,null,null,{"$f":"IF(R46=\"\",\"\",R46*VLOOKUP(T46,'cout opérateur machines'!A5:B12,2,0))","v":""},null,null,null,null,0]
[null,null,null,null,null,null,null,null,null,null,null,null,null,null,null,null,null,null,null,null,{"$f":"IF(R47=\"\",\"\",R47*VLOOKUP(T47,'cout opérateur machines'!A6:B13,2,0))","v":""},null,null,null,null,0]
[null,null,null,null,{"$f":"COUNTA(E42:E47)","v":0},{"$f":"SUM(F42:F47)","v":0},null,null,null,null,null,null,{"$f":"SUM(M42:M47)","v":0},"causes de refus",null,null,null,null,"cout total du jour",null,{"$f":"SUM(U42:U47)","v":0},null,null,null,null,0]
[null,null,null,null,null,null,null,"envoi des réclamations F/ S-T","réponse F/ S-T","alerte",null,null,null,null,null,null,null,null,null,null,null,null,null,null,null,{"$f":"SUM(Z42:Z48)","v":0}]
[null,null,"dans le cas d'une réclamation",null,null,null,null,null,null,{"$f":"IF(J42=\"\",\"\",IF(H50=0,\" réclamation non traitée\",IF(I50=0, \"veuillez contacter le F/ S-T par téléphone\",\"\")))","v":""},null,null,null,null,null,null,null,null,"N° mois",null,4]
[null,null,"nombre de pièces NC",null,null,null,null,null,null,{"$f":"IF(J43=\"\",\"\",IF(H51=0,\" réclamation non traitée\",IF(I51=0, \"veuillez contacter le F/ S-T par téléphone\",\"\")))","v":""}]
[null,null,"nombre de pièces par carton",null,null,null,null,null,null,""]
[null,null,"coût de transport par carton",null,null,null,null,null,null,""]
[null,null,"nombre de cartons renvoyés",null,null,null,null,null,null,""]
[null,null,"temps de tri",null,null,null,null,null,null,""]
[null,null,"coût horaire de tri"]
[null,null,"temps de retouche"]
[null,null,"coût horaire de retouche"]
[null,null,"temps de traitement de la réclamation"]
[null,null,"coût horaire de traitement"]
[null,null,"coût total",{"$f":"IFERROR(((D51/D52)*D53)+D54*D53+D55*D56+D57*D58+D59*D60,\"\")","v":""}]

{"sheet":"09-4-22","index":22,"n_rows":61,"n_cols":33,"rows_kept":61,"cut":false,"hidden":false,"merged":[[31,1,31,2],[32,1,32,2],[47,18,47,19],[49,18,49,19],[25,1,25,2],[26,1,26,2],[27,1,27,2],[28,1,28,2],[29,1,29,2],[30,1,30,2],[24,1,24,2],[12,1,12,2],[13,1,13,2],[14,1,14,2],[15,1,15,2],[16,1,16,2],[17,1,18,1],[19,1,19,2],[20,1,20,2],[21,1,21,2],[22,1,22,2],[23,1,23,2],[1,2,4,3],[1,4,4,16],[1,17,1,19],[1,21,1,23],[2,17,2,19],[2,21,2,23],[3,17,3,19],[3,21,3,23],[4,17,4,19],[4,21,4,23]]}
[]
[null,null,null,null,"Rapport journalier",null,null,null,null,null,null,null,null,null,null,null,null,"Code:DAS-SMQ-24"]
[null,null,null,null,null,null,null,null,null,null,null,null,null,null,null,null,null,"Date: 27/12/2019"]
[null,null,null,null,null,null,null,null,null,null,null,null,null,null,null,null,null,"Version:01"]
[null,null,null,null,null,null,null,null,null,null,null,null,null,null,null,null,null,"Page:1"]
[]
[]
[]
[]
[]
[]
[null,null,null,"A","B","C","D","E","F","M","N","O","P","I","L","K","J","G","H"]
[null,"Machine",null,"SST16","SB16","BIGLIA 301 SM","BIGLIA 42 S2M bitourelle","L32","TSUGAMI","MORI SEIKI 3 axes","MORI SEIKI 5 axes","HARDING","KITAMURA","MULTIBROCHE","NAKAMURA","TOUR WEILER"]
[null,"Référence",null," - ","G022-CP1","4-8025","MI018-B42","200200-2022","i097-tsughami ","I110-01-004"," - ",480387,"9518-maj","MPS000300","I007","0-5280-1","4-7891",68.081500000000005,200300]
[null,"Désignation",null,"Arrêt","AXE D15-M11*100 maj-c","BAGUE GALVANISEE 12*24*40","GOUJON DE ROUE MITSIBITCHI GM-SUR-B42","Embout de tige-2022","ECROU DE ROUE FORD RANGER- finition rayon ","INSERT LEVIER SURMOULEE 345833-01 - fraisage ","Arrêt","Evacuation 2 et 3","USINAGE BORNE RBD-1 ","raccord HEX 17","ECROU SEMI ARBRE ISUZU","Bague Galvanisée 12*20*40 -chutes ","ANNEAU BRUTE 32*42*20 chuttes","Buse droite à collerette Ø8 M445 FRD","TIGE DE PISTON-maj ca"]
[null,"Compteur 8h ",null,0,7262,0,10418,4771,0,1204,0,102,6420,0,1912,300,345,11430,621]
[null,"Compteur 17h",null,0,7641,330,10732,4771,0,1225,0,117,6635,0,2017,920,602,11968,864]
[null,"Enregistrement","9h"]
[null,null,"16h"]
[null,"Identification"]
[null,"Propreté des tables de contrôle"]
[null,"Rangement des outils de contrôle"]
[null,"Existance de l'OF"]
[null,"Affutage",null,null,null,null,null,null,null,null,null,null,null,null,null,null,null,null,null,{"$f":"+COUNTA(D24:S24)","v":0}]
[null,"Maintenance"]
[null,"Nombre des NC poubelle "]
[null,"Nombre des NC à retoucher"]
[null,"Machine pour retouche"]
[null,"Panne"]
[null,"Cout pièces de rechange",null,null,null,null,null,null,null,null,null,null,null,null,null,null,null,null,null,{"$f":"SUM(D30:S30)","v":0}]
[null,"prix de revient pièce",null,{"$f":"IFERROR(VLOOKUP(D14,'Prix de revient'!$A:$D,4,0),0)","v":0},{"$f":"IFERROR(VLOOKUP(E14,'Prix de revient'!$A:$D,4,0),0)","v":0},{"$f":"IFERROR(VLOOKUP(F14,'Prix de revient'!$A:$D,4,0),0)","v":0},{"$f":"IFERROR(VLOOKUP(G14,'Prix de revient'!$A:$D,4,0),0)","v":0},{"$f":"IFERROR(VLOOKUP(H14,'Prix de revient'!$A:$D,4,0),0)","v":0},{"$f":"IFERROR(VLOOKUP(I14,'Prix de revient'!$A:$D,4,0),0)","v":0},{"$f":"IFERROR(VLOOKUP(J14,'Prix de revient'!$A:$D,4,0),0)","v":2.1488},{"$f":"IFERROR(VLOOKUP(K14,'Prix de revient'!$A:$D,4,0),0)","v":0},{"$f":"IFERROR(VLOOKUP(L14,'Prix de revient'!$A:$D,4,0),0)","v":5.3719999999999999},{"$f":"IFERROR(VLOOKUP(M14,'Prix de revient'!$A:$D,4,0),0)","v":0},{"$f":"IFERROR(VLOOKUP(N14,'Prix de revient'!$A:$D,4,0),0)","v":0},{"$f":"IFERROR(VLOOKUP(O14,'Prix de revient'!$A:$D,4,0),0)","v":0},{"$f":"IFERROR(VLOOKUP(P14,'Prix de revient'!$A:$D,4,0),0)","v":0},{"$f":"IFERROR(VLOOKUP(Q14,'Prix de revient'!$A:$D,4,0),0)","v":0},{"$f":"IFERROR(VLOOKUP(R14,'Prix de revient'!$A:$D,4,0),0)","v":0},{"$f":"IFERROR(VLOOKUP(S14,'Prix de revient'!$A:$D,4,0),0)","v":3.2674400000000001}]
[null,"coût de rebuts",null,{"$f":"D26*D31","v":0},{"$f":"E26*E31","v":0},0,0,0,0,0,0,0,0,0,0,0,0,0,0,{"$f":"SUM(D32:S32)","v":0}]
[null,"gestion de modification"]
[]
[]
[]
[]
[]
[]
[]
[null,null,"Clients","Audit","Réclamation","Avoir",null,"Fournisseurs/ sous-traitants","Réception de matiere","Probleme qualité",null,"Les formations professionnelles","Cout","Chiffrage décliné","Actions à suivre",null,"Article qui a subit un tri","durée du tri","Nombre des pieces non-conformes","ouvrier faisant le tri","cout par tri",null,"Article qui a subit la reprise","durée de la reprise","opérateur faisant la reprise","coût de reprise",null,null,null,"Machine ","article","gamme","objet de la modification"]
[null,null,null,null,null,null,null,null,null,null,null,null,null,null,null,null,null,null,null,null,{"$f":"IF(R42=\"\",\"\",R42*VLOOKUP(T42,'cout opérateur machines'!A1:B8,2,0))","v":""},null,null,null,null,{"$f":"X42*8","v":0}]
[null,null,null,null,null,null,null,null,null,null,null,null,null,null,null,null,null,null,null,null,{"$f":"IF(R43=\"\",\"\",R43*VLOOKUP(T43,'cout opérateur machines'!A2:B9,2,0))","v":""},null,null,null,null,{"$f":"X43*8","v":0}]
[null,null,null,null,null,null,null,null,null,null,null,null,null,null,null,null,null,null,null,null,{"$f":"IF(R44=\"\",\"\",R44*VLOOKUP(T44,'cout opérateur machines'!A3:B10,2,0))","v":""},null,null,null,null,0]
[null,null,null,null,null,null,null,null,null,null,null,null,null,null,null,null,null,null,null,null,{"$f":"IF(R45=\"\",\"\",R45*VLOOKUP(T45,'cout opérateur machines'!A4:B11,2,0))","v":""},null,null,null,null,0]
[null,null,null,null,null,null,null,null,null,null,null,null,null,null,null,null,null,null,null,null,{"$f":"IF(R46=\"\",\"\",R46*VLOOKUP(T46,'cout opérateur machines'!A5:B12,2,0))","v":""},null,null,null,null,0]
[null,null,null,null,null,null,null,null,null,null,null,null,null,null,null,null,null,null,null,null,{"$f":"IF(R47=\"\",\"\",R47*VLOOKUP(T47,'cout opérateur machines'!A6:B13,2,0))","v":""},null,null,null,null,0]
[null,null,null,null,{"$f":"COUNTA(E42:E47)","v":0},{"$f":"SUM(F42:F47)","v":0},null,null,null,null,null,null,{"$f":"SUM(M42:M47)","v":0},"causes de refus",null,null,null,null,"cout total du jour",null,{"$f":"SUM(U42:U47)","v":0},null,null,null,null,0]
[null,null,null,null,null,null,null,"envoi des réclamations F/ S-T","réponse F/ S-T","alerte",null,null,null,null,null,null,null,null,null,null,null,null,null,null,null,{"$f":"SUM(Z42:Z48)","v":0}]
[null,null,"dans le cas d'une réclamation",null,null,null,null,null,null,{"$f":"IF(J42=\"\",\"\",IF(H50=0,\" réclamation non traitée\",IF(I50=0, \"veuillez contacter le F/ S-T par téléphone\",\"\")))","v":""},null,null,null,null,null,null,null,null,"N° mois",null,4]
[null,null,"nombre de pièces NC",null,null,null,null,null,null,{"$f":"IF(J43=\"\",\"\",IF(H51=0,\" réclamation non traitée\",IF(I51=0, \"veuillez contacter le F/ S-T par téléphone\",\"\")))","v":""}]
[null,null,"nombre de pièces par carton",null,null,null,null,null,null,""]
[null,null,"coût de transport par carton",null,null,null,null,null,null,""]
[null,null,"nombre de cartons renvoyés",null,null,null,null,null,null,""]
[null,null,"temps de tri",null,null,null,null,null,null,""]
[null,null,"coût horaire de tri"]
[null,null,"temps de retouche"]
[null,null,"coût horaire de retouche"]
[null,null,"temps de traitement de la réclamation"]
[null,null,"coût horaire de traitement"]
[null,null,"coût total",{"$f":"IFERROR(((D51/D52)*D53)+D54*D53+D55*D56+D57*D58+D59*D60,\"\")","v":""}]

{"sheet":"08-4-22","index":23,"n_rows":61,"n_cols":33,"rows_kept":61,"cut":false,"hidden":false,"merged":[[31,1,31,2],[32,1,32,2],[47,18,47,19],[49,18,49,19],[25,1,25,2],[26,1,26,2],[27,1,27,2],[28,1,28,2],[29,1,29,2],[30,1,30,2],[24,1,24,2],[12,1,12,2],[13,1,13,2],[14,1,14,2],[15,1,15,2],[16,1,16,2],[17,1,18,1],[19,1,19,2],[20,1,20,2],[21,1,21,2],[22,1,22,2],[23,1,23,2],[1,2,4,3],[1,4,4,16],[1,17,1,19],[1,21,1,23],[2,17,2,19],[2,21,2,23],[3,17,3,19],[3,21,3,23],[4,17,4,19],[4,21,4,23]]}
[]
[null,null,null,null,"Rapport journalier",null,null,null,null,null,null,null,null,null,null,null,null,"Code:DAS-SMQ-24"]
[null,null,null,null,null,null,null,null,null,null,null,null,null,null,null,null,null,"Date: 27/12/2019"]
[null,null,null,null,null,null,null,null,null,null,null,null,null,null,null,null,null,"Version:01"]
[null,null,null,null,null,null,null,null,null,null,null,null,null,null,null,null,null,"Page:1"]
[]
[]
[]
[]
[]
[]
[null,null,null,"A","B","C","D","E","F","M","N","O","P","I","L","K","J","G","H"]
[null,"Machine",null,"SST16","SB16","BIGLIA 301 SM","BIGLIA 42 S2M bitourelle","L32","TSUGAMI","MORI SEIKI 3 axes","MORI SEIKI 5 axes","HARDING","KITAMURA","MULTIBROCHE","NAKAMURA","TOUR WEILER"]
[null,"Référence",null," - ","G022-CP1","0-5928A-1","MI018-B42","200200-2022","i097-tsughami ","I110-01-004"," - ",480387,"9518-maj","MPS000300","I007","0-5280-1","4-7891",68.081500000000005,200300]
[null,"Désignation",null,"Arrêt","AXE D15-M11*100 maj-c","Bague Galvanisée  14*22,9*54,2","GOUJON DE ROUE MITSIBITCHI GM-SUR-B42","Embout de tige-2022","ECROU DE ROUE FORD RANGER- finition rayon ","INSERT LEVIER SURMOULEE 345833-01 - fraisage ","Arrêt","Evacuation 2 et 3","USINAGE BORNE RBD-1 ","raccord HEX 17","ECROU SEMI ARBRE ISUZU","Bague Galvanisée 12*20*40 -chutes ","ANNEAU BRUTE 32*42*20 chuttes","Buse droite à collerette Ø8 M445 FRD","TIGE DE PISTON"]
[null,"Compteur 8h ",null,0,6862,240,10124,4771,0,1171,0,92,6220,0,1776,0,0,10761,398]
[null,"Compteur 17h",null,0,7262,450,10418,4771,0,1204,0,102,6420,0,1912,300,345,11430,621]
[null,"Enregistrement","9h"]
[null,null,"16h"]
[null,"Identification"]
[null,"Propreté des tables de contrôle"]
[null,"Rangement des outils de contrôle"]
[null,"Existance de l'OF"]
[null,"Affutage",null,null,null,null,null,null,null,null,null,null,null,null,null,null,null,null,null,{"$f":"+COUNTA(D24:S24)","v":0}]
[null,"Maintenance"]
[null,"Nombre des NC poubelle "]
[null,"Nombre des NC à retoucher"]
[null,"Machine pour retouche"]
[null,"Panne"]
[null,"Cout pièces de rechange",null,null,null,null,null,null,null,null,null,null,null,null,null,null,null,null,null,{"$f":"SUM(D30:S30)","v":0}]
[null,"prix de revient pièce",null,{"$f":"IFERROR(VLOOKUP(D14,'Prix de revient'!$A:$D,4,0),0)","v":0},{"$f":"IFERROR(VLOOKUP(E14,'Prix de revient'!$A:$D,4,0),0)","v":0},{"$f":"IFERROR(VLOOKUP(F14,'Prix de revient'!$A:$D,4,0),0)","v":0},{"$f":"IFERROR(VLOOKUP(G14,'Prix de revient'!$A:$D,4,0),0)","v":0},{"$f":"IFERROR(VLOOKUP(H14,'Prix de revient'!$A:$D,4,0),0)","v":0},{"$f":"IFERROR(VLOOKUP(I14,'Prix de revient'!$A:$D,4,0),0)","v":0},{"$f":"IFERROR(VLOOKUP(J14,'Prix de revient'!$A:$D,4,0),0)","v":2.1488},{"$f":"IFERROR(VLOOKUP(K14,'Prix de revient'!$A:$D,4,0),0)","v":0},{"$f":"IFERROR(VLOOKUP(L14,'Prix de revient'!$A:$D,4,0),0)","v":5.3719999999999999},{"$f":"IFERROR(VLOOKUP(M14,'Prix de revient'!$A:$D,4,0),0)","v":0},{"$f":"IFERROR(VLOOKUP(N14,'Prix de revient'!$A:$D,4,0),0)","v":0},{"$f":"IFERROR(VLOOKUP(O14,'Prix de revient'!$A:$D,4,0),0)","v":0},{"$f":"IFERROR(VLOOKUP(P14,'Prix de revient'!$A:$D,4,0),0)","v":0},{"$f":"IFERROR(VLOOKUP(Q14,'Prix de revient'!$A:$D,4,0),0)","v":0},{"$f":"IFERROR(VLOOKUP(R14,'Prix de revient'!$A:$D,4,0),0)","v":0},{"$f":"IFERROR(VLOOKUP(S14,'Prix de revient'!$A:$D,4,0),0)","v":3.2674400000000001}]
[null,"coût de rebuts",null,{"$f":"D26*D31","v":0},{"$f":"E26*E31","v":0},0,0,0,0,0,0,0,0,0,0,0,0,0,0,{"$f":"SUM(D32:S32)","v":0}]
[null,"gestion de modification"]
[]
[]
[]
[]
[]
[]
[]
[null,null,"Clients","Audit","Réclamation","Avoir",null,"Fournisseurs/ sous-traitants","Réception de matiere","Probleme qualité",null,"Les formations professionnelles","Cout","Chiffrage décliné","Actions à suivre",null,"Article qui a subit un tri","durée du tri","Nombre des pieces non-conformes","ouvrier faisant le tri","cout par tri",null,"Article qui a subit la reprise","durée de la reprise","opérateur faisant la reprise","coût de reprise",null,null,null,"Machine ","article","gamme","objet de la modification"]
[null,null,null,null,null,null,null,null,null,null,null,null,null,null,null,null,null,null,null,null,{"$f":"IF(R42=\"\",\"\",R42*VLOOKUP(T42,'cout opérateur machines'!A1:B8,2,0))","v":""},null,null,null,null,{"$f":"X42*8","v":0}]
[null,null,null,null,null,null,null,null,null,null,null,null,null,null,null,null,null,null,null,null,{"$f":"IF(R43=\"\",\"\",R43*VLOOKUP(T43,'cout opérateur machines'!A2:B9,2,0))","v":""},null,null,null,null,{"$f":"X43*8","v":0}]
[null,null,null,null,null,null,null,null,null,null,null,null,null,null,null,null,null,null,null,null,{"$f":"IF(R44=\"\",\"\",R44*VLOOKUP(T44,'cout opérateur machines'!A3:B10,2,0))","v":""},null,null,null,null,0]
[null,null,null,null,null,null,null,null,null,null,null,null,null,null,null,null,null,null,null,null,{"$f":"IF(R45=\"\",\"\",R45*VLOOKUP(T45,'cout opérateur machines'!A4:B11,2,0))","v":""},null,null,null,null,0]
[null,null,null,null,null,null,null,null,null,null,null,null,null,null,null,null,null,null,null,null,{"$f":"IF(R46=\"\",\"\",R46*VLOOKUP(T46,'cout opérateur machines'!A5:B12,2,0))","v":""},null,null,null,null,0]
[null,null,null,null,null,null,null,null,null,null,null,null,null,null,null,null,null,null,null,null,{"$f":"IF(R47=\"\",\"\",R47*VLOOKUP(T47,'cout opérateur machines'!A6:B13,2,0))","v":""},null,null,null,null,0]
[null,null,null,null,{"$f":"COUNTA(E42:E47)","v":0},{"$f":"SUM(F42:F47)","v":0},null,null,null,null,null,null,{"$f":"SUM(M42:M47)","v":0},"causes de refus",null,null,null,null,"cout total du jour",null,{"$f":"SUM(U42:U47)","v":0},null,null,null,null,0]
[null,null,null,null,null,null,null,"envoi des réclamations F/ S-T","réponse F/ S-T","alerte",null,null,null,null,null,null,null,null,null,null,null,null,null,null,null,{"$f":"SUM(Z42:Z48)","v":0}]
[null,null,"dans le cas d'une réclamation",null,null,null,null,null,null,{"$f":"IF(J42=\"\",\"\",IF(H50=0,\" réclamation non traitée\",IF(I50=0, \"veuillez contacter le F/ S-T par téléphone\",\"\")))","v":""},null,null,null,null,null,null,null,null,"N° mois",null,4]
[null,null,"nombre de pièces NC",null,null,null,null,null,null,{"$f":"IF(J43=\"\",\"\",IF(H51=0,\" réclamation non traitée\",IF(I51=0, \"veuillez contacter le F/ S-T par téléphone\",\"\")))","v":""}]
[null,null,"nombre de pièces par carton",null,null,null,null,null,null,""]
[null,null,"coût de transport par carton",null,null,null,null,null,null,""]
[null,null,"nombre de cartons renvoyés",null,null,null,null,null,null,""]
[null,null,"temps de tri",null,null,null,null,null,null,""]
[null,null,"coût horaire de tri"]
[null,null,"temps de retouche"]
[null,null,"coût horaire de retouche"]
[null,null,"temps de traitement de la réclamation"]
[null,null,"coût horaire de traitement"]
[null,null,"coût total",{"$f":"IFERROR(((D51/D52)*D53)+D54*D53+D55*D56+D57*D58+D59*D60,\"\")","v":""}]

{"sheet":"07-4-22","index":24,"n_rows":61,"n_cols":33,"rows_kept":61,"cut":false,"hidden":false,"merged":[[31,1,31,2],[32,1,32,2],[47,18,47,19],[49,18,49,19],[25,1,25,2],[26,1,26,2],[27,1,27,2],[28,1,28,2],[29,1,29,2],[30,1,30,2],[24,1,24,2],[12,1,12,2],[13,1,13,2],[14,1,14,2],[15,1,15,2],[16,1,16,2],[17,1,18,1],[19,1,19,2],[20,1,20,2],[21,1,21,2],[22,1,22,2],[23,1,23,2],[1,2,4,3],[1,4,4,16],[1,17,1,19],[1,21,1,23],[2,17,2,19],[2,21,2,23],[3,17,3,19],[3,21,3,23],[4,17,4,19],[4,21,4,23]]}
[]
[null,null,null,null,"Rapport journalier",null,null,null,null,null,null,null,null,null,null,null,null,"Code:DAS-SMQ-24"]
[null,null,null,null,null,null,null,null,null,null,null,null,null,null,null,null,null,"Date: 27/12/2019"]
[null,null,null,null,null,null,null,null,null,null,null,null,null,null,null,null,null,"Version:01"]
[null,null,null,null,null,null,null,null,null,null,null,null,null,null,null,null,null,"Page:1"]
[]
[]
[]
[]
[]
[]
[null,null,null,"A","B","C","D","E","F","M","N","O","P","I","L","K","J","G","H"]
[null,"Machine",null,"SST16","SB16","BIGLIA 301 SM","BIGLIA 42 S2M bitourelle","L32","TSUGAMI","MORI SEIKI 3 axes","MORI SEIKI 5 axes","HARDING","KITAMURA","MULTIBROCHE","NAKAMURA","TOUR WEILER"]
[null,"Référence",null," - ","G022-CP1","0-5928A-1","MI018-B42","200200-2022","i097-tsughami ","I110-01-004"," - ",480387,"9518-maj","MPS000300","I007","POMEL-P1","4-8748-1",68.081500000000005,200300]
[null,"Désignation",null,"Arrêt","AXE D15-M11*100 maj-c","Bague Galvanisée  14*22,9*54,2","GOUJON DE ROUE MITSIBITCHI GM-SUR-B42","Embout de tige-2022","ECROU DE ROUE FORD RANGER- finition rayon ","INSERT LEVIER SURMOULEE 345833-01 - fraisage ","Arrêt","Evacuation 2 et 3","USINAGE BORNE RBD-1 ","raccord HEX 17","ECROU SEMI ARBRE ISUZU","POMELLE-PIECE male","Bague Galvaniée 38*40,4*28-chutes ","Buse droite à collerette Ø8 M445 FRD","TIGE DE PISTON"]
[null,"Compteur 8h ",null,0,6470,0,9810,4771,6576,1148,0,84,6065,0,1648,855,36,10138,165]
[null,"Compteur 17h",null,0,6862,240,10124,4771,7063,1171,0,92,6220,0,1776,1053,193,10761,398]
[null,"Enregistrement","9h"]
[null,null,"16h"]
[null,"Identification"]
[null,"Propreté des tables de contrôle"]
[null,"Rangement des outils de contrôle"]
[null,"Existance de l'OF"]
[null,"Affutage",null,null,null,null,null,null,null,null,null,null,null,null,null,null,null,null,null,{"$f":"+COUNTA(D24:S24)","v":0}]
[null,"Maintenance"]
[null,"Nombre des NC poubelle "]
[null,"Nombre des NC à retoucher"]
[null,"Machine pour retouche"]
[null,"Panne"]
[null,"Cout pièces de rechange",null,null,null,null,null,null,null,null,null,null,null,null,null,null,null,null,null,{"$f":"SUM(D30:S30)","v":0}]
[null,"prix de revient pièce",null,{"$f":"IFERROR(VLOOKUP(D14,'Prix de revient'!$A:$D,4,0),0)","v":0},{"$f":"IFERROR(VLOOKUP(E14,'Prix de revient'!$A:$D,4,0),0)","v":0},{"$f":"IFERROR(VLOOKUP(F14,'Prix de revient'!$A:$D,4,0),0)","v":0},{"$f":"IFERROR(VLOOKUP(G14,'Prix de revient'!$A:$D,4,0),0)","v":0},{"$f":"IFERROR(VLOOKUP(H14,'Prix de revient'!$A:$D,4,0),0)","v":0},{"$f":"IFERROR(VLOOKUP(I14,'Prix de revient'!$A:$D,4,0),0)","v":0},{"$f":"IFERROR(VLOOKUP(J14,'Prix de revient'!$A:$D,4,0),0)","v":2.1488},{"$f":"IFERROR(VLOOKUP(K14,'Prix de revient'!$A:$D,4,0),0)","v":0},{"$f":"IFERROR(VLOOKUP(L14,'Prix de revient'!$A:$D,4,0),0)","v":5.3719999999999999},{"$f":"IFERROR(VLOOKUP(M14,'Prix de revient'!$A:$D,4,0),0)","v":0},{"$f":"IFERROR(VLOOKUP(N14,'Prix de revient'!$A:$D,4,0),0)","v":0},{"$f":"IFERROR(VLOOKUP(O14,'Prix de revient'!$A:$D,4,0),0)","v":0},{"$f":"IFERROR(VLOOKUP(P14,'Prix de revient'!$A:$D,4,0),0)","v":0},{"$f":"IFERROR(VLOOKUP(Q14,'Prix de revient'!$A:$D,4,0),0)","v":0},{"$f":"IFERROR(VLOOKUP(R14,'Prix de revient'!$A:$D,4,0),0)","v":0},{"$f":"IFERROR(VLOOKUP(S14,'Prix de revient'!$A:$D,4,0),0)","v":3.2674400000000001}]
[null,"coût de rebuts",null,{"$f":"D26*D31","v":0},{"$f":"E26*E31","v":0},0,0,0,0,0,0,0,0,0,0,0,0,0,0,{"$f":"SUM(D32:S32)","v":0}]
[null,"gestion de modification"]
[]
[]
[]
[]
[]
[]
[]
[null,null,"Clients","Audit","Réclamation","Avoir",null,"Fournisseurs/ sous-traitants","Réception de matiere","Probleme qualité",null,"Les formations professionnelles","Cout","Chiffrage décliné","Actions à suivre",null,"Article qui a subit un tri","durée du tri","Nombre des pieces non-conformes","ouvrier faisant le tri","cout par tri",null,"Article qui a subit la reprise","durée de la reprise","opérateur faisant la reprise","coût de reprise",null,null,null,"Machine ","article","gamme","objet de la modification"]
[null,null,null,null,null,null,null,null,null,null,null,null,null,null,null,null,null,null,null,null,{"$f":"IF(R42=\"\",\"\",R42*VLOOKUP(T42,'cout opérateur machines'!A1:B8,2,0))","v":""},null,null,null,null,{"$f":"X42*8","v":0}]
[null,null,null,null,null,null,null,null,null,null,null,null,null,null,null,null,null,null,null,null,{"$f":"IF(R43=\"\",\"\",R43*VLOOKUP(T43,'cout opérateur machines'!A2:B9,2,0))","v":""},null,null,null,null,{"$f":"X43*8","v":0}]
[null,null,null,null,null,null,null,null,null,null,null,null,null,null,null,null,null,null,null,null,{"$f":"IF(R44=\"\",\"\",R44*VLOOKUP(T44,'cout opérateur machines'!A3:B10,2,0))","v":""},null,null,null,null,0]
[null,null,null,null,null,null,null,null,null,null,null,null,null,null,null,null,null,null,null,null,{"$f":"IF(R45=\"\",\"\",R45*VLOOKUP(T45,'cout opérateur machines'!A4:B11,2,0))","v":""},null,null,null,null,0]
[null,null,null,null,null,null,null,null,null,null,null,null,null,null,null,null,null,null,null,null,{"$f":"IF(R46=\"\",\"\",R46*VLOOKUP(T46,'cout opérateur machines'!A5:B12,2,0))","v":""},null,null,null,null,0]
[null,null,null,null,null,null,null,null,null,null,null,null,null,null,null,null,null,null,null,null,{"$f":"IF(R47=\"\",\"\",R47*VLOOKUP(T47,'cout opérateur machines'!A6:B13,2,0))","v":""},null,null,null,null,0]
[null,null,null,null,{"$f":"COUNTA(E42:E47)","v":0},{"$f":"SUM(F42:F47)","v":0},null,null,null,null,null,null,{"$f":"SUM(M42:M47)","v":0},"causes de refus",null,null,null,null,"cout total du jour",null,{"$f":"SUM(U42:U47)","v":0},null,null,null,null,0]
[null,null,null,null,null,null,null,"envoi des réclamations F/ S-T","réponse F/ S-T","alerte",null,null,null,null,null,null,null,null,null,null,null,null,null,null,null,{"$f":"SUM(Z42:Z48)","v":0}]
[null,null,"dans le cas d'une réclamation",null,null,null,null,null,null,{"$f":"IF(J42=\"\",\"\",IF(H50=0,\" réclamation non traitée\",IF(I50=0, \"veuillez contacter le F/ S-T par téléphone\",\"\")))","v":""},null,null,null,null,null,null,null,null,"N° mois",null,4]
[null,null,"nombre de pièces NC",null,null,null,null,null,null,{"$f":"IF(J43=\"\",\"\",IF(H51=0,\" réclamation non traitée\",IF(I51=0, \"veuillez contacter le F/ S-T par téléphone\",\"\")))","v":""}]
[null,null,"nombre de pièces par carton",null,null,null,null,null,null,""]
[null,null,"coût de transport par carton",null,null,null,null,null,null,""]
[null,null,"nombre de cartons renvoyés",null,null,null,null,null,null,""]
[null,null,"temps de tri",null,null,null,null,null,null,""]
[null,null,"coût horaire de tri"]
[null,null,"temps de retouche"]
[null,null,"coût horaire de retouche"]
[null,null,"temps de traitement de la réclamation"]
[null,null,"coût horaire de traitement"]
[null,null,"coût total",{"$f":"IFERROR(((D51/D52)*D53)+D54*D53+D55*D56+D57*D58+D59*D60,\"\")","v":""}]

{"sheet":"06-4-22","index":25,"n_rows":61,"n_cols":33,"rows_kept":61,"cut":false,"hidden":false,"merged":[[31,1,31,2],[32,1,32,2],[47,18,47,19],[49,18,49,19],[25,1,25,2],[26,1,26,2],[27,1,27,2],[28,1,28,2],[29,1,29,2],[30,1,30,2],[24,1,24,2],[12,1,12,2],[13,1,13,2],[14,1,14,2],[15,1,15,2],[16,1,16,2],[17,1,18,1],[19,1,19,2],[20,1,20,2],[21,1,21,2],[22,1,22,2],[23,1,23,2],[1,2,4,3],[1,4,4,16],[1,17,1,19],[1,21,1,23],[2,17,2,19],[2,21,2,23],[3,17,3,19],[3,21,3,23],[4,17,4,19],[4,21,4,23]]}
[]
[null,null,null,null,"Rapport journalier",null,null,null,null,null,null,null,null,null,null,null,null,"Code:DAS-SMQ-24"]
[null,null,null,null,null,null,null,null,null,null,null,null,null,null,null,null,null,"Date: 27/12/2019"]
[null,null,null,null,null,null,null,null,null,null,null,null,null,null,null,null,null,"Version:01"]
[null,null,null,null,null,null,null,null,null,null,null,null,null,null,null,null,null,"Page:1"]
[]
[]
[]
[]
[]
[]
[null,null,null,"A","B","C","D","E","F","M","N","O","P","I","L","K","J","G","H"]
[null,"Machine",null,"SST16","SB16","BIGLIA 301 SM","BIGLIA 42 S2M bitourelle","L32","TSUGAMI","MORI SEIKI 3 axes","MORI SEIKI 5 axes","HARDING","KITAMURA","MULTIBROCHE","NAKAMURA","TOUR WEILER"]
[null,"Référence",null," - ","G022-CP1","230500","MI018-B42","200200-2022","i097-tsughami ","I110-01-004"," - ",480387,"9518-maj","MPS000300","I007","POMEL-P1","4-8748-1",68.081500000000005,200300]
[null,"Désignation",null,"Arrêt","AXE D15-M11*100 maj-c","BRAS DE MANOEUVRE  G  MAN","GOUJON DE ROUE MITSIBITCHI GM-SUR-B42","Embout de tige-2022","ECROU DE ROUE FORD RANGER- finition rayon ","INSERT LEVIER SURMOULEE 345833-01 - fraisage ","Arrêt","Evacuation 2 et 3","USINAGE BORNE RBD-1 ","raccord HEX 17","ECROU SEMI ARBRE ISUZU","POMELLE-PIECE male","Bague Galvaniée 38*40,4*28-chutes ","Buse droite à collerette Ø8 M445 FRD","TIGE DE PISTON"]
[null,"Compteur 8h ",null,0,6050,2930,9525,4771,6153,1135,0,76,5863,0,1537,668,0,9610,0]
[null,"Compteur 17h",null,0,6470,3070,9810,4771,6576,1148,0,84,6065,0,1648,855,36,10138,165]
[null,"Enregistrement","9h"]
[null,null,"16h"]
[null,"Identification"]
[null,"Propreté des tables de contrôle"]
[null,"Rangement des outils de contrôle"]
[null,"Existance de l'OF"]
[null,"Affutage",null,null,null,null,null,null,null,null,null,null,null,null,null,null,null,null,null,{"$f":"+COUNTA(D24:S24)","v":0}]
[null,"Maintenance"]
[null,"Nombre des NC poubelle "]
[null,"Nombre des NC à retoucher"]
[null,"Machine pour retouche"]
[null,"Panne"]
[null,"Cout pièces de rechange",null,null,null,null,null,null,null,null,null,null,null,null,null,null,null,null,null,{"$f":"SUM(D30:S30)","v":0}]
[null,"prix de revient pièce",null,{"$f":"IFERROR(VLOOKUP(D14,'Prix de revient'!$A:$D,4,0),0)","v":0},{"$f":"IFERROR(VLOOKUP(E14,'Prix de revient'!$A:$D,4,0),0)","v":0},{"$f":"IFERROR(VLOOKUP(F14,'Prix de revient'!$A:$D,4,0),0)","v":0},{"$f":"IFERROR(VLOOKUP(G14,'Prix de revient'!$A:$D,4,0),0)","v":0},{"$f":"IFERROR(VLOOKUP(H14,'Prix de revient'!$A:$D,4,0),0)","v":0},{"$f":"IFERROR(VLOOKUP(I14,'Prix de revient'!$A:$D,4,0),0)","v":0},{"$f":"IFERROR(VLOOKUP(J14,'Prix de revient'!$A:$D,4,0),0)","v":2.1488},{"$f":"IFERROR(VLOOKUP(K14,'Prix de revient'!$A:$D,4,0),0)","v":0},{"$f":"IFERROR(VLOOKUP(L14,'Prix de revient'!$A:$D,4,0),0)","v":5.3719999999999999},{"$f":"IFERROR(VLOOKUP(M14,'Prix de revient'!$A:$D,4,0),0)","v":0},{"$f":"IFERROR(VLOOKUP(N14,'Prix de revient'!$A:$D,4,0),0)","v":0},{"$f":"IFERROR(VLOOKUP(O14,'Prix de revient'!$A:$D,4,0),0)","v":0},{"$f":"IFERROR(VLOOKUP(P14,'Prix de revient'!$A:$D,4,0),0)","v":0},{"$f":"IFERROR(VLOOKUP(Q14,'Prix de revient'!$A:$D,4,0),0)","v":0},{"$f":"IFERROR(VLOOKUP(R14,'Prix de revient'!$A:$D,4,0),0)","v":0},{"$f":"IFERROR(VLOOKUP(S14,'Prix de revient'!$A:$D,4,0),0)","v":3.2674400000000001}]
[null,"coût de rebuts",null,{"$f":"D26*D31","v":0},{"$f":"E26*E31","v":0},0,0,0,0,0,0,0,0,0,0,0,0,0,0,{"$f":"SUM(D32:S32)","v":0}]
[null,"gestion de modification"]
[]
[]
[]
[]
[]
[]
[]
[null,null,"Clients","Audit","Réclamation","Avoir",null,"Fournisseurs/ sous-traitants","Réception de matiere","Probleme qualité",null,"Les formations professionnelles","Cout","Chiffrage décliné","Actions à suivre",null,"Article qui a subit un tri","durée du tri","Nombre des pieces non-conformes","ouvrier faisant le tri","cout par tri",null,"Article qui a subit la reprise","durée de la reprise","opérateur faisant la reprise","coût de reprise",null,null,null,"Machine ","article","gamme","objet de la modification"]
[null,null,null,null,null,null,null,null,null,null,null,null,null,null,null,null,null,null,null,null,{"$f":"IF(R42=\"\",\"\",R42*VLOOKUP(T42,'cout opérateur machines'!A1:B8,2,0))","v":""},null,null,null,null,{"$f":"X42*8","v":0}]
[null,null,null,null,null,null,null,null,null,null,null,null,null,null,null,null,null,null,null,null,{"$f":"IF(R43=\"\",\"\",R43*VLOOKUP(T43,'cout opérateur machines'!A2:B9,2,0))","v":""},null,null,null,null,{"$f":"X43*8","v":0}]
[null,null,null,null,null,null,null,null,null,null,null,null,null,null,null,null,null,null,null,null,{"$f":"IF(R44=\"\",\"\",R44*VLOOKUP(T44,'cout opérateur machines'!A3:B10,2,0))","v":""},null,null,null,null,0]
[null,null,null,null,null,null,null,null,null,null,null,null,null,null,null,null,null,null,null,null,{"$f":"IF(R45=\"\",\"\",R45*VLOOKUP(T45,'cout opérateur machines'!A4:B11,2,0))","v":""},null,null,null,null,0]
[null,null,null,null,null,null,null,null,null,null,null,null,null,null,null,null,null,null,null,null,{"$f":"IF(R46=\"\",\"\",R46*VLOOKUP(T46,'cout opérateur machines'!A5:B12,2,0))","v":""},null,null,null,null,0]
[null,null,null,null,null,null,null,null,null,null,null,null,null,null,null,null,null,null,null,null,{"$f":"IF(R47=\"\",\"\",R47*VLOOKUP(T47,'cout opérateur machines'!A6:B13,2,0))","v":""},null,null,null,null,0]
[null,null,null,null,{"$f":"COUNTA(E42:E47)","v":0},{"$f":"SUM(F42:F47)","v":0},null,null,null,null,null,null,{"$f":"SUM(M42:M47)","v":0},"causes de refus",null,null,null,null,"cout total du jour",null,{"$f":"SUM(U42:U47)","v":0},null,null,null,null,0]
[null,null,null,null,null,null,null,"envoi des réclamations F/ S-T","réponse F/ S-T","alerte",null,null,null,null,null,null,null,null,null,null,null,null,null,null,null,{"$f":"SUM(Z42:Z48)","v":0}]
[null,null,"dans le cas d'une réclamation",null,null,null,null,null,null,{"$f":"IF(J42=\"\",\"\",IF(H50=0,\" réclamation non traitée\",IF(I50=0, \"veuillez contacter le F/ S-T par téléphone\",\"\")))","v":""},null,null,null,null,null,null,null,null,"N° mois",null,4]
[null,null,"nombre de pièces NC",null,null,null,null,null,null,{"$f":"IF(J43=\"\",\"\",IF(H51=0,\" réclamation non traitée\",IF(I51=0, \"veuillez contacter le F/ S-T par téléphone\",\"\")))","v":""}]
[null,null,"nombre de pièces par carton",null,null,null,null,null,null,""]
[null,null,"coût de transport par carton",null,null,null,null,null,null,""]
[null,null,"nombre de cartons renvoyés",null,null,null,null,null,null,""]
[null,null,"temps de tri",null,null,null,null,null,null,""]
[null,null,"coût horaire de tri"]
[null,null,"temps de retouche"]
[null,null,"coût horaire de retouche"]
[null,null,"temps de traitement de la réclamation"]
[null,null,"coût horaire de traitement"]
[null,null,"coût total",{"$f":"IFERROR(((D51/D52)*D53)+D54*D53+D55*D56+D57*D58+D59*D60,\"\")","v":""}]

{"sheet":"05-4-22","index":26,"n_rows":61,"n_cols":33,"rows_kept":61,"cut":false,"hidden":false,"merged":[[31,1,31,2],[32,1,32,2],[47,18,47,19],[49,18,49,19],[25,1,25,2],[26,1,26,2],[27,1,27,2],[28,1,28,2],[29,1,29,2],[30,1,30,2],[24,1,24,2],[12,1,12,2],[13,1,13,2],[14,1,14,2],[15,1,15,2],[16,1,16,2],[17,1,18,1],[19,1,19,2],[20,1,20,2],[21,1,21,2],[22,1,22,2],[23,1,23,2],[1,2,4,3],[1,4,4,16],[1,17,1,19],[1,21,1,23],[2,17,2,19],[2,21,2,23],[3,17,3,19],[3,21,3,23],[4,17,4,19],[4,21,4,23]]}
[]
[null,null,null,null,"Rapport journalier",null,null,null,null,null,null,null,null,null,null,null,null,"Code:DAS-SMQ-24"]
[null,null,null,null,null,null,null,null,null,null,null,null,null,null,null,null,null,"Date: 27/12/2019"]
[null,null,null,null,null,null,null,null,null,null,null,null,null,null,null,null,null,"Version:01"]
[null,null,null,null,null,null,null,null,null,null,null,null,null,null,null,null,null,"Page:1"]
[]
[]
[]
[]
[]
[]
[null,null,null,"A","B","C","D","E","F","M","N","O","P","I","L","K","J","G","H"]
[null,"Machine",null,"SST16","SB16","BIGLIA 301 SM","BIGLIA 42 S2M bitourelle","L32","TSUGAMI","MORI SEIKI 3 axes","MORI SEIKI 5 axes","HARDING","KITAMURA","MULTIBROCHE","NAKAMURA","TOUR WEILER"]
[null,"Référence",null," - ","G022-CP1","230500","MI018-B42","200200-2022","i097-tsughami ","I110-01-004"," - ",480387,"9518-maj","MPS000300","I007","POMEL-P1","0-5280-1",68.081500000000005,"outi-plot"]
[null,"Désignation",null,"Arrêt","AXE D15-M11*100 maj-c","BRAS DE MANOEUVRE  G  MAN","GOUJON DE ROUE MITSIBITCHI GM-SUR-B42","Embout de tige-2022","ECROU DE ROUE FORD RANGER- finition rayon ","INSERT LEVIER SURMOULEE 345833-01 - fraisage ","Arrêt","Evacuation 2 et 3","USINAGE BORNE RBD-1 ","raccord HEX 17","ECROU SEMI ARBRE ISUZU","POMELLE-PIECE male","Bague Galvanisée 12*20*40 -chutes ","Buse droite à collerette Ø8 M445 FRD","plot nez de marche"]
[null,"Compteur 8h ",null,0,5634,2691,9214,4771,5727,1116,0,69,5638,0,1408,513,468,9070,0]
[null,"Compteur 17h",null,0,6050,2930,9525,4771,6153,1135,0,76,5863,0,1537,668,951,9610,0]
[null,"Enregistrement","9h"]
[null,null,"16h"]
[null,"Identification"]
[null,"Propreté des tables de contrôle"]
[null,"Rangement des outils de contrôle"]
[null,"Existance de l'OF"]
[null,"Affutage",null,null,null,null,null,null,null,null,null,null,null,null,null,null,null,null,null,{"$f":"+COUNTA(D24:S24)","v":0}]
[null,"Maintenance"]
[null,"Nombre des NC poubelle "]
[null,"Nombre des NC à retoucher"]
[null,"Machine pour retouche"]
[null,"Panne"]
[null,"Cout pièces de rechange",null,null,null,null,null,null,null,null,null,null,null,null,null,null,null,null,null,{"$f":"SUM(D30:S30)","v":0}]
[null,"prix de revient pièce",null,{"$f":"IFERROR(VLOOKUP(D14,'Prix de revient'!$A:$D,4,0),0)","v":0},{"$f":"IFERROR(VLOOKUP(E14,'Prix de revient'!$A:$D,4,0),0)","v":0},{"$f":"IFERROR(VLOOKUP(F14,'Prix de revient'!$A:$D,4,0),0)","v":0},{"$f":"IFERROR(VLOOKUP(G14,'Prix de revient'!$A:$D,4,0),0)","v":0},{"$f":"IFERROR(VLOOKUP(H14,'Prix de revient'!$A:$D,4,0),0)","v":0},{"$f":"IFERROR(VLOOKUP(I14,'Prix de revient'!$A:$D,4,0),0)","v":0},{"$f":"IFERROR(VLOOKUP(J14,'Prix de revient'!$A:$D,4,0),0)","v":2.1488},{"$f":"IFERROR(VLOOKUP(K14,'Prix de revient'!$A:$D,4,0),0)","v":0},{"$f":"IFERROR(VLOOKUP(L14,'Prix de revient'!$A:$D,4,0),0)","v":5.3719999999999999},{"$f":"IFERROR(VLOOKUP(M14,'Prix de revient'!$A:$D,4,0),0)","v":0},{"$f":"IFERROR(VLOOKUP(N14,'Prix de revient'!$A:$D,4,0),0)","v":0},{"$f":"IFERROR(VLOOKUP(O14,'Prix de revient'!$A:$D,4,0),0)","v":0},{"$f":"IFERROR(VLOOKUP(P14,'Prix de revient'!$A:$D,4,0),0)","v":0},{"$f":"IFERROR(VLOOKUP(Q14,'Prix de revient'!$A:$D,4,0),0)","v":0},{"$f":"IFERROR(VLOOKUP(R14,'Prix de revient'!$A:$D,4,0),0)","v":0},{"$f":"IFERROR(VLOOKUP(S14,'Prix de revient'!$A:$D,4,0),0)","v":0.44240000000000007}]
[null,"coût de rebuts",null,{"$f":"D26*D31","v":0},{"$f":"E26*E31","v":0},0,0,0,0,0,0,0,0,0,0,0,0,0,0,{"$f":"SUM(D32:S32)","v":0}]
[null,"gestion de modification"]
[]
[]
[]
[]
[]
[]
[]
[null,null,"Clients","Audit","Réclamation","Avoir",null,"Fournisseurs/ sous-traitants","Réception de matiere","Probleme qualité",null,"Les formations professionnelles","Cout","Chiffrage décliné","Actions à suivre",null,"Article qui a subit un tri","durée du tri","Nombre des pieces non-conformes","ouvrier faisant le tri","cout par tri",null,"Article qui a subit la reprise","durée de la reprise","opérateur faisant la reprise","coût de reprise",null,null,null,"Machine ","article","gamme","objet de la modification"]
[null,null,null,null,null,null,null,null,null,null,null,null,null,null,null,null,null,null,null,null,{"$f":"IF(R42=\"\",\"\",R42*VLOOKUP(T42,'cout opérateur machines'!A1:B8,2,0))","v":""},null,null,null,null,{"$f":"X42*8","v":0}]
[null,null,null,null,null,null,null,null,null,null,null,null,null,null,null,null,null,null,null,null,{"$f":"IF(R43=\"\",\"\",R43*VLOOKUP(T43,'cout opérateur machines'!A2:B9,2,0))","v":""},null,null,null,null,{"$f":"X43*8","v":0}]
[null,null,null,null,null,null,null,null,null,null,null,null,null,null,null,null,null,null,null,null,{"$f":"IF(R44=\"\",\"\",R44*VLOOKUP(T44,'cout opérateur machines'!A3:B10,2,0))","v":""},null,null,null,null,0]
[null,null,null,null,null,null,null,null,null,null,null,null,null,null,null,null,null,null,null,null,{"$f":"IF(R45=\"\",\"\",R45*VLOOKUP(T45,'cout opérateur machines'!A4:B11,2,0))","v":""},null,null,null,null,0]
[null,null,null,null,null,null,null,null,null,null,null,null,null,null,null,null,null,null,null,null,{"$f":"IF(R46=\"\",\"\",R46*VLOOKUP(T46,'cout opérateur machines'!A5:B12,2,0))","v":""},null,null,null,null,0]
[null,null,null,null,null,null,null,null,null,null,null,null,null,null,null,null,null,null,null,null,{"$f":"IF(R47=\"\",\"\",R47*VLOOKUP(T47,'cout opérateur machines'!A6:B13,2,0))","v":""},null,null,null,null,0]
[null,null,null,null,{"$f":"COUNTA(E42:E47)","v":0},{"$f":"SUM(F42:F47)","v":0},null,null,null,null,null,null,{"$f":"SUM(M42:M47)","v":0},"causes de refus",null,null,null,null,"cout total du jour",null,{"$f":"SUM(U42:U47)","v":0},null,null,null,null,0]
[null,null,null,null,null,null,null,"envoi des réclamations F/ S-T","réponse F/ S-T","alerte",null,null,null,null,null,null,null,null,null,null,null,null,null,null,null,{"$f":"SUM(Z42:Z48)","v":0}]
[null,null,"dans le cas d'une réclamation",null,null,null,null,null,null,{"$f":"IF(J42=\"\",\"\",IF(H50=0,\" réclamation non traitée\",IF(I50=0, \"veuillez contacter le F/ S-T par téléphone\",\"\")))","v":""},null,null,null,null,null,null,null,null,"N° mois",null,4]
[null,null,"nombre de pièces NC",null,null,null,null,null,null,{"$f":"IF(J43=\"\",\"\",IF(H51=0,\" réclamation non traitée\",IF(I51=0, \"veuillez contacter le F/ S-T par téléphone\",\"\")))","v":""}]
[null,null,"nombre de pièces par carton",null,null,null,null,null,null,""]
[null,null,"coût de transport par carton",null,null,null,null,null,null,""]
[null,null,"nombre de cartons renvoyés",null,null,null,null,null,null,""]
[null,null,"temps de tri",null,null,null,null,null,null,""]
[null,null,"coût horaire de tri"]
[null,null,"temps de retouche"]
[null,null,"coût horaire de retouche"]
[null,null,"temps de traitement de la réclamation"]
[null,null,"coût horaire de traitement"]
[null,null,"coût total",{"$f":"IFERROR(((D51/D52)*D53)+D54*D53+D55*D56+D57*D58+D59*D60,\"\")","v":""}]

{"sheet":"04-4-22","index":27,"n_rows":61,"n_cols":33,"rows_kept":61,"cut":false,"hidden":false,"merged":[[31,1,31,2],[32,1,32,2],[47,18,47,19],[49,18,49,19],[25,1,25,2],[26,1,26,2],[27,1,27,2],[28,1,28,2],[29,1,29,2],[30,1,30,2],[24,1,24,2],[12,1,12,2],[13,1,13,2],[14,1,14,2],[15,1,15,2],[16,1,16,2],[17,1,18,1],[19,1,19,2],[20,1,20,2],[21,1,21,2],[22,1,22,2],[23,1,23,2],[1,2,4,3],[1,4,4,16],[1,17,1,19],[1,21,1,23],[2,17,2,19],[2,21,2,23],[3,17,3,19],[3,21,3,23],[4,17,4,19],[4,21,4,23]]}
[]
[null,null,null,null,"Rapport journalier",null,null,null,null,null,null,null,null,null,null,null,null,"Code:DAS-SMQ-24"]
[null,null,null,null,null,null,null,null,null,null,null,null,null,null,null,null,null,"Date: 27/12/2019"]
[null,null,null,null,null,null,null,null,null,null,null,null,null,null,null,null,null,"Version:01"]
[null,null,null,null,null,null,null,null,null,null,null,null,null,null,null,null,null,"Page:1"]
[]
[]
[]
[]
[]
[]
[null,null,null,"A","B","C","D","E","F","M","N","O","P","I","L","K","J","G","H"]
[null,"Machine",null,"SST16","SB16","BIGLIA 301 SM","BIGLIA 42 S2M bitourelle","L32","TSUGAMI","MORI SEIKI 3 axes","MORI SEIKI 5 axes","HARDING","KITAMURA","MULTIBROCHE","NAKAMURA","TOUR WEILER"]
[null,"Référence",null," - ","G022-CP1","230500","MI018-B42","200200-2022","i097-tsughami ","I110-01-004"," - ",480387,"9518-maj","MPS000300","I007","POMEL-P2","0-5280-1",68.081500000000005,"outi-plot"]
[null,"Désignation",null,"Arrêt","AXE D15-M11*100 maj-c","BRAS DE MANOEUVRE  G  MAN","GOUJON DE ROUE MITSIBITCHI GM-SUR-B42","Embout de tige-2022","ECROU DE ROUE FORD RANGER- finition rayon ","INSERT LEVIER SURMOULEE 345833-01 - fraisage ","Arrêt","Evacuation 2 et 3","USINAGE BORNE RBD-1 ","raccord HEX 17","ECROU SEMI ARBRE ISUZU","POMELLE-PIECE FEMELLE ","Bague Galvanisée 12*20*40 -chutes ","Buse droite à collerette Ø8 M445 FRD","plot nez de marche"]
[null,"Compteur 8h ",null,0,5180,2452,8937,4771,5517,1099,0,58,5444,0,1185,380,0,8433,0]
[null,"Compteur 17h",null,0,5634,2691,9214,4771,5727,1116,0,69,5638,0,1408,513,468,9070,0]
[null,"Enregistrement","9h"]
[null,null,"16h"]
[null,"Identification"]
[null,"Propreté des tables de contrôle"]
[null,"Rangement des outils de contrôle"]
[null,"Existance de l'OF"]
[null,"Affutage",null,null,null,null,null,null,null,null,null,null,null,null,null,null,null,null,null,{"$f":"+COUNTA(D24:S24)","v":0}]
[null,"Maintenance"]
[null,"Nombre des NC poubelle "]
[null,"Nombre des NC à retoucher"]
[null,"Machine pour retouche"]
[null,"Panne"]
[null,"Cout pièces de rechange",null,null,null,null,null,null,null,null,null,null,null,null,null,null,null,null,null,{"$f":"SUM(D30:S30)","v":0}]
[null,"prix de revient pièce",null,{"$f":"IFERROR(VLOOKUP(D14,'Prix de revient'!$A:$D,4,0),0)","v":0},{"$f":"IFERROR(VLOOKUP(E14,'Prix de revient'!$A:$D,4,0),0)","v":0},{"$f":"IFERROR(VLOOKUP(F14,'Prix de revient'!$A:$D,4,0),0)","v":0},{"$f":"IFERROR(VLOOKUP(G14,'Prix de revient'!$A:$D,4,0),0)","v":0},{"$f":"IFERROR(VLOOKUP(H14,'Prix de revient'!$A:$D,4,0),0)","v":0},{"$f":"IFERROR(VLOOKUP(I14,'Prix de revient'!$A:$D,4,0),0)","v":0},{"$f":"IFERROR(VLOOKUP(J14,'Prix de revient'!$A:$D,4,0),0)","v":2.1488},{"$f":"IFERROR(VLOOKUP(K14,'Prix de revient'!$A:$D,4,0),0)","v":0},{"$f":"IFERROR(VLOOKUP(L14,'Prix de revient'!$A:$D,4,0),0)","v":5.3719999999999999},{"$f":"IFERROR(VLOOKUP(M14,'Prix de revient'!$A:$D,4,0),0)","v":0},{"$f":"IFERROR(VLOOKUP(N14,'Prix de revient'!$A:$D,4,0),0)","v":0},{"$f":"IFERROR(VLOOKUP(O14,'Prix de revient'!$A:$D,4,0),0)","v":0},{"$f":"IFERROR(VLOOKUP(P14,'Prix de revient'!$A:$D,4,0),0)","v":0},{"$f":"IFERROR(VLOOKUP(Q14,'Prix de revient'!$A:$D,4,0),0)","v":0},{"$f":"IFERROR(VLOOKUP(R14,'Prix de revient'!$A:$D,4,0),0)","v":0},{"$f":"IFERROR(VLOOKUP(S14,'Prix de revient'!$A:$D,4,0),0)","v":0.44240000000000007}]
[null,"coût de rebuts",null,{"$f":"D26*D31","v":0},{"$f":"E26*E31","v":0},0,0,0,0,0,0,0,0,0,0,0,0,0,0,{"$f":"SUM(D32:S32)","v":0}]
[null,"gestion de modification"]
[]
[]
[]
[]
[]
[]
[]
[null,null,"Clients","Audit","Réclamation","Avoir",null,"Fournisseurs/ sous-traitants","Réception de matiere","Probleme qualité",null,"Les formations professionnelles","Cout","Chiffrage décliné","Actions à suivre",null,"Article qui a subit un tri","durée du tri","Nombre des pieces non-conformes","ouvrier faisant le tri","cout par tri",null,"Article qui a subit la reprise","durée de la reprise","opérateur faisant la reprise","coût de reprise",null,null,null,"Machine ","article","gamme","objet de la modification"]
[null,null,null,null,null,null,null,null,null,null,null,null,null,null,null,null,null,null,null,null,{"$f":"IF(R42=\"\",\"\",R42*VLOOKUP(T42,'cout opérateur machines'!A1:B8,2,0))","v":""},null,null,null,null,{"$f":"X42*8","v":0}]
[null,null,null,null,null,null,null,null,null,null,null,null,null,null,null,null,null,null,null,null,{"$f":"IF(R43=\"\",\"\",R43*VLOOKUP(T43,'cout opérateur machines'!A2:B9,2,0))","v":""},null,null,null,null,{"$f":"X43*8","v":0}]
[null,null,null,null,null,null,null,null,null,null,null,null,null,null,null,null,null,null,null,null,{"$f":"IF(R44=\"\",\"\",R44*VLOOKUP(T44,'cout opérateur machines'!A3:B10,2,0))","v":""},null,null,null,null,0]
[null,null,null,null,null,null,null,null,null,null,null,null,null,null,null,null,null,null,null,null,{"$f":"IF(R45=\"\",\"\",R45*VLOOKUP(T45,'cout opérateur machines'!A4:B11,2,0))","v":""},null,null,null,null,0]
[null,null,null,null,null,null,null,null,null,null,null,null,null,null,null,null,null,null,null,null,{"$f":"IF(R46=\"\",\"\",R46*VLOOKUP(T46,'cout opérateur machines'!A5:B12,2,0))","v":""},null,null,null,null,0]
[null,null,null,null,null,null,null,null,null,null,null,null,null,null,null,null,null,null,null,null,{"$f":"IF(R47=\"\",\"\",R47*VLOOKUP(T47,'cout opérateur machines'!A6:B13,2,0))","v":""},null,null,null,null,0]
[null,null,null,null,{"$f":"COUNTA(E42:E47)","v":0},{"$f":"SUM(F42:F47)","v":0},null,null,null,null,null,null,{"$f":"SUM(M42:M47)","v":0},"causes de refus",null,null,null,null,"cout total du jour",null,{"$f":"SUM(U42:U47)","v":0},null,null,null,null,0]
[null,null,null,null,null,null,null,"envoi des réclamations F/ S-T","réponse F/ S-T","alerte",null,null,null,null,null,null,null,null,null,null,null,null,null,null,null,{"$f":"SUM(Z42:Z48)","v":0}]
[null,null,"dans le cas d'une réclamation",null,null,null,null,null,null,{"$f":"IF(J42=\"\",\"\",IF(H50=0,\" réclamation non traitée\",IF(I50=0, \"veuillez contacter le F/ S-T par téléphone\",\"\")))","v":""},null,null,null,null,null,null,null,null,"N° mois",null,4]
[null,null,"nombre de pièces NC",null,null,null,null,null,null,{"$f":"IF(J43=\"\",\"\",IF(H51=0,\" réclamation non traitée\",IF(I51=0, \"veuillez contacter le F/ S-T par téléphone\",\"\")))","v":""}]
[null,null,"nombre de pièces par carton",null,null,null,null,null,null,""]
[null,null,"coût de transport par carton",null,null,null,null,null,null,""]
[null,null,"nombre de cartons renvoyés",null,null,null,null,null,null,""]
[null,null,"temps de tri",null,null,null,null,null,null,""]
[null,null,"coût horaire de tri"]
[null,null,"temps de retouche"]
[null,null,"coût horaire de retouche"]
[null,null,"temps de traitement de la réclamation"]
[null,null,"coût horaire de traitement"]
[null,null,"coût total",{"$f":"IFERROR(((D51/D52)*D53)+D54*D53+D55*D56+D57*D58+D59*D60,\"\")","v":""}]

{"sheet":"02-4-22","index":28,"n_rows":61,"n_cols":33,"rows_kept":61,"cut":false,"hidden":false,"merged":[[31,1,31,2],[32,1,32,2],[47,18,47,19],[49,18,49,19],[25,1,25,2],[26,1,26,2],[27,1,27,2],[28,1,28,2],[29,1,29,2],[30,1,30,2],[24,1,24,2],[12,1,12,2],[13,1,13,2],[14,1,14,2],[15,1,15,2],[16,1,16,2],[17,1,18,1],[19,1,19,2],[20,1,20,2],[21,1,21,2],[22,1,22,2],[23,1,23,2],[1,2,4,3],[1,4,4,16],[1,17,1,19],[1,21,1,23],[2,17,2,19],[2,21,2,23],[3,17,3,19],[3,21,3,23],[4,17,4,19],[4,21,4,23]]}
[]
[null,null,null,null,"Rapport journalier",null,null,null,null,null,null,null,null,null,null,null,null,"Code:DAS-SMQ-24"]
[null,null,null,null,null,null,null,null,null,null,null,null,null,null,null,null,null,"Date: 27/12/2019"]
[null,null,null,null,null,null,null,null,null,null,null,null,null,null,null,null,null,"Version:01"]
[null,null,null,null,null,null,null,null,null,null,null,null,null,null,null,null,null,"Page:1"]
[]
[]
[]
[]
[]
[]
[null,null,null,"A","B","C","D","E","F","M","N","O","P","I","L","K","J","G","H"]
[null,"Machine",null,"SST16","SB16","BIGLIA 301 SM","BIGLIA 42 S2M bitourelle","L32","TSUGAMI","MORI SEIKI 3 axes","MORI SEIKI 5 axes","HARDING","KITAMURA","MULTIBROCHE","NAKAMURA","TOUR WEILER"]
[null,"Référence",null,"BROCH L 230","G022-CP1","230500","MI018-B42","200200-2022","i097-tsughami ","I110-01-004","PIG-11D",480387,"9518-maj","MPS000300","I007","POMEL-P2","0-5280-1",68.081500000000005,"outi-plot"]
[null,"Désignation",null,"BROCHE ACIER D13 ZINGUE L230","AXE D15-M11*100 maj-c","BRAS DE MANOEUVRE  G  MAN","GOUJON DE ROUE MITSIBITCHI GM-SUR-B42","Embout de tige-2022","ECROU DE ROUE FORD RANGER- finition rayon ","INSERT LEVIER SURMOULEE 345833-01 - fraisage ","PIGNON 11 DENTS FRAISAGE","Evacuation 2 et 3","USINAGE BORNE RBD-1 ","raccord HEX 17","ECROU SEMI ARBRE ISUZU","POMELLE-PIECE FEMELLE ","Bague Galvanisée 12*20*40 -chutes ","Buse droite à collerette Ø8 M445 FRD","plot nez de marche"]
[null,"Compteur 8h ",null,0,4945,2297,8680,4771,5101,1090,0,53,5314,0,1185,202,0,7993,0]
[null,"Compteur 17h",null,0,5180,2452,8937,4771,5517,1099,0,58,5444,0,1185,380,190,8433,0]
[null,"Enregistrement","9h"]
[null,null,"16h"]
[null,"Identification"]
[null,"Propreté des tables de contrôle"]
[null,"Rangement des outils de contrôle"]
[null,"Existance de l'OF"]
[null,"Affutage",null,null,null,null,null,null,null,null,null,null,null,null,null,null,null,null,null,{"$f":"+COUNTA(D24:S24)","v":0}]
[null,"Maintenance"]
[null,"Nombre des NC poubelle "]
[null,"Nombre des NC à retoucher"]
[null,"Machine pour retouche"]
[null,"Panne"]
[null,"Cout pièces de rechange",null,null,null,null,null,null,null,null,null,null,null,null,null,null,null,null,null,{"$f":"SUM(D30:S30)","v":0}]
[null,"prix de revient pièce",null,{"$f":"IFERROR(VLOOKUP(D14,'Prix de revient'!$A:$D,4,0),0)","v":2.5280000000000005},{"$f":"IFERROR(VLOOKUP(E14,'Prix de revient'!$A:$D,4,0),0)","v":0},{"$f":"IFERROR(VLOOKUP(F14,'Prix de revient'!$A:$D,4,0),0)","v":0},{"$f":"IFERROR(VLOOKUP(G14,'Prix de revient'!$A:$D,4,0),0)","v":0},{"$f":"IFERROR(VLOOKUP(H14,'Prix de revient'!$A:$D,4,0),0)","v":0},{"$f":"IFERROR(VLOOKUP(I14,'Prix de revient'!$A:$D,4,0),0)","v":0},{"$f":"IFERROR(VLOOKUP(J14,'Prix de revient'!$A:$D,4,0),0)","v":2.1488},{"$f":"IFERROR(VLOOKUP(K14,'Prix de revient'!$A:$D,4,0),0)","v":0},{"$f":"IFERROR(VLOOKUP(L14,'Prix de revient'!$A:$D,4,0),0)","v":5.3719999999999999},{"$f":"IFERROR(VLOOKUP(M14,'Prix de revient'!$A:$D,4,0),0)","v":0},{"$f":"IFERROR(VLOOKUP(N14,'Prix de revient'!$A:$D,4,0),0)","v":0},{"$f":"IFERROR(VLOOKUP(O14,'Prix de revient'!$A:$D,4,0),0)","v":0},{"$f":"IFERROR(VLOOKUP(P14,'Prix de revient'!$A:$D,4,0),0)","v":0},{"$f":"IFERROR(VLOOKUP(Q14,'Prix de revient'!$A:$D,4,0),0)","v":0},{"$f":"IFERROR(VLOOKUP(R14,'Prix de revient'!$A:$D,4,0),0)","v":0},{"$f":"IFERROR(VLOOKUP(S14,'Prix de revient'!$A:$D,4,0),0)","v":0.44240000000000007}]
[null,"coût de rebuts",null,{"$f":"D26*D31","v":0},{"$f":"E26*E31","v":0},0,0,0,0,0,0,0,0,0,0,0,0,0,0,{"$f":"SUM(D32:S32)","v":0}]
[null,"gestion de modification"]
[]
[]
[]
[]
[]
[]
[]
[null,null,"Clients","Audit","Réclamation","Avoir",null,"Fournisseurs/ sous-traitants","Réception de matiere","Probleme qualité",null,"Les formations professionnelles","Cout","Chiffrage décliné","Actions à suivre",null,"Article qui a subit un tri","durée du tri","Nombre des pieces non-conformes","ouvrier faisant le tri","cout par tri",null,"Article qui a subit la reprise","durée de la reprise","opérateur faisant la reprise","coût de reprise",null,null,null,"Machine ","article","gamme","objet de la modification"]
[null,null,null,null,null,null,null,null,null,null,null,null,null,null,null,null,null,null,null,null,{"$f":"IF(R42=\"\",\"\",R42*VLOOKUP(T42,'cout opérateur machines'!A1:B8,2,0))","v":""},null,null,null,null,{"$f":"X42*8","v":0}]
[null,null,null,null,null,null,null,null,null,null,null,null,null,null,null,null,null,null,null,null,{"$f":"IF(R43=\"\",\"\",R43*VLOOKUP(T43,'cout opérateur machines'!A2:B9,2,0))","v":""},null,null,null,null,{"$f":"X43*8","v":0}]
[null,null,null,null,null,null,null,null,null,null,null,null,null,null,null,null,null,null,null,null,{"$f":"IF(R44=\"\",\"\",R44*VLOOKUP(T44,'cout opérateur machines'!A3:B10,2,0))","v":""},null,null,null,null,0]
[null,null,null,null,null,null,null,null,null,null,null,null,null,null,null,null,null,null,null,null,{"$f":"IF(R45=\"\",\"\",R45*VLOOKUP(T45,'cout opérateur machines'!A4:B11,2,0))","v":""},null,null,null,null,0]
[null,null,null,null,null,null,null,null,null,null,null,null,null,null,null,null,null,null,null,null,{"$f":"IF(R46=\"\",\"\",R46*VLOOKUP(T46,'cout opérateur machines'!A5:B12,2,0))","v":""},null,null,null,null,0]
[null,null,null,null,null,null,null,null,null,null,null,null,null,null,null,null,null,null,null,null,{"$f":"IF(R47=\"\",\"\",R47*VLOOKUP(T47,'cout opérateur machines'!A6:B13,2,0))","v":""},null,null,null,null,0]
[null,null,null,null,{"$f":"COUNTA(E42:E47)","v":0},{"$f":"SUM(F42:F47)","v":0},null,null,null,null,null,null,{"$f":"SUM(M42:M47)","v":0},"causes de refus",null,null,null,null,"cout total du jour",null,{"$f":"SUM(U42:U47)","v":0},null,null,null,null,0]
[null,null,null,null,null,null,null,"envoi des réclamations F/ S-T","réponse F/ S-T","alerte",null,null,null,null,null,null,null,null,null,null,null,null,null,null,null,{"$f":"SUM(Z42:Z48)","v":0}]
[null,null,"dans le cas d'une réclamation",null,null,null,null,null,null,{"$f":"IF(J42=\"\",\"\",IF(H50=0,\" réclamation non traitée\",IF(I50=0, \"veuillez contacter le F/ S-T par téléphone\",\"\")))","v":""},null,null,null,null,null,null,null,null,"N° mois",null,4]
[null,null,"nombre de pièces NC",null,null,null,null,null,null,{"$f":"IF(J43=\"\",\"\",IF(H51=0,\" réclamation non traitée\",IF(I51=0, \"veuillez contacter le F/ S-T par téléphone\",\"\")))","v":""}]
[null,null,"nombre de pièces par carton",null,null,null,null,null,null,""]
[null,null,"coût de transport par carton",null,null,null,null,null,null,""]
[null,null,"nombre de cartons renvoyés",null,null,null,null,null,null,""]
[null,null,"temps de tri",null,null,null,null,null,null,""]
[null,null,"coût horaire de tri"]
[null,null,"temps de retouche"]
[null,null,"coût horaire de retouche"]
[null,null,"temps de traitement de la réclamation"]
[null,null,"coût horaire de traitement"]
[null,null,"coût total",{"$f":"IFERROR(((D51/D52)*D53)+D54*D53+D55*D56+D57*D58+D59*D60,\"\")","v":""}]

{"sheet":"01-4-22","index":29,"n_rows":61,"n_cols":33,"rows_kept":61,"cut":false,"hidden":false,"merged":[[31,1,31,2],[32,1,32,2],[47,18,47,19],[49,18,49,19],[25,1,25,2],[26,1,26,2],[27,1,27,2],[28,1,28,2],[29,1,29,2],[30,1,30,2],[24,1,24,2],[12,1,12,2],[13,1,13,2],[14,1,14,2],[15,1,15,2],[16,1,16,2],[17,1,18,1],[19,1,19,2],[20,1,20,2],[21,1,21,2],[22,1,22,2],[23,1,23,2],[1,2,4,3],[1,4,4,16],[1,17,1,19],[1,21,1,23],[2,17,2,19],[2,21,2,23],[3,17,3,19],[3,21,3,23],[4,17,4,19],[4,21,4,23]]}
[]
[null,null,null,null,"Rapport journalier",null,null,null,null,null,null,null,null,null,null,null,null,"Code:DAS-SMQ-24"]
[null,null,null,null,null,null,null,null,null,null,null,null,null,null,null,null,null,"Date: 27/12/2019"]
[null,null,null,null,null,null,null,null,null,null,null,null,null,null,null,null,null,"Version:01"]
[null,null,null,null,null,null,null,null,null,null,null,null,null,null,null,null,null,"Page:1"]
[]
[]
[]
[]
[]
[]
[null,null,null,"A","B","C","D","E","F","M","N","O","P","I","L","K","J","G","H"]
[null,"Machine",null,"SST16","SB16","BIGLIA 301 SM","BIGLIA 42 S2M bitourelle","L32","TSUGAMI","MORI SEIKI 3 axes","MORI SEIKI 5 axes","HARDING","KITAMURA","MULTIBROCHE","NAKAMURA","TOUR WEILER"]
[null,"Référence",null,"BROCH L 230","G022-CP1","230500","MI018-B42","200200-2022","i097-tsughami ","I110-01-004","PIG-11D",480387,"9518-maj","MPS000300","I007","POMEL-P2","PT8666",68.081500000000005,"outi-plot"]
[null,"Désignation",null,"BROCHE ACIER D13 ZINGUE L230","AXE D15-M11*100 maj-c","BRAS DE MANOEUVRE  G  MAN","GOUJON DE ROUE MITSIBITCHI GM-SUR-B42","Embout de tige-2022","ECROU DE ROUE FORD RANGER- finition rayon ","INSERT LEVIER SURMOULEE 345833-01 - fraisage ","PIGNON 11 DENTS FRAISAGE","Evacuation 2 et 3","USINAGE BORNE RBD-1 ","raccord HEX 17","ECROU SEMI ARBRE ISUZU","POMELLE-PIECE FEMELLE ","Rehausse-NAKAMURHA","Buse droite à collerette Ø8 M445 FRD","plot nez de marche"]
[null,"Compteur 8h ",null,0,4405,2021,8438,4771,4744,1074,0,44,5104,0,1012,0,1216,7352,0]
[null,"Compteur 17h",null,0,4945,2297,8680,4771,5101,1090,0,53,5314,0,1185,202,1686,7993,0]
[null,"Enregistrement","9h"]
[null,null,"16h"]
[null,"Identification"]
[null,"Propreté des tables de contrôle"]
[null,"Rangement des outils de contrôle"]
[null,"Existance de l'OF"]
[null,"Affutage",null,null,null,null,null,null,null,null,null,null,null,null,null,null,null,null,null,{"$f":"+COUNTA(D24:S24)","v":0}]
[null,"Maintenance"]
[null,"Nombre des NC poubelle "]
[null,"Nombre des NC à retoucher"]
[null,"Machine pour retouche"]
[null,"Panne"]
[null,"Cout pièces de rechange",null,null,null,null,null,null,null,null,null,null,null,null,null,null,null,null,null,{"$f":"SUM(D30:S30)","v":0}]
[null,"prix de revient pièce",null,{"$f":"IFERROR(VLOOKUP(D14,'Prix de revient'!$A:$D,4,0),0)","v":2.5280000000000005},{"$f":"IFERROR(VLOOKUP(E14,'Prix de revient'!$A:$D,4,0),0)","v":0},{"$f":"IFERROR(VLOOKUP(F14,'Prix de revient'!$A:$D,4,0),0)","v":0},{"$f":"IFERROR(VLOOKUP(G14,'Prix de revient'!$A:$D,4,0),0)","v":0},{"$f":"IFERROR(VLOOKUP(H14,'Prix de revient'!$A:$D,4,0),0)","v":0},{"$f":"IFERROR(VLOOKUP(I14,'Prix de revient'!$A:$D,4,0),0)","v":0},{"$f":"IFERROR(VLOOKUP(J14,'Prix de revient'!$A:$D,4,0),0)","v":2.1488},{"$f":"IFERROR(VLOOKUP(K14,'Prix de revient'!$A:$D,4,0),0)","v":0},{"$f":"IFERROR(VLOOKUP(L14,'Prix de revient'!$A:$D,4,0),0)","v":5.3719999999999999},{"$f":"IFERROR(VLOOKUP(M14,'Prix de revient'!$A:$D,4,0),0)","v":0},{"$f":"IFERROR(VLOOKUP(N14,'Prix de revient'!$A:$D,4,0),0)","v":0},{"$f":"IFERROR(VLOOKUP(O14,'Prix de revient'!$A:$D,4,0),0)","v":0},{"$f":"IFERROR(VLOOKUP(P14,'Prix de revient'!$A:$D,4,0),0)","v":0},{"$f":"IFERROR(VLOOKUP(Q14,'Prix de revient'!$A:$D,4,0),0)","v":0},{"$f":"IFERROR(VLOOKUP(R14,'Prix de revient'!$A:$D,4,0),0)","v":0},{"$f":"IFERROR(VLOOKUP(S14,'Prix de revient'!$A:$D,4,0),0)","v":0.44240000000000007}]
[null,"coût de rebuts",null,{"$f":"D26*D31","v":0},{"$f":"E26*E31","v":0},0,0,0,0,0,0,0,0,0,0,0,0,0,0,{"$f":"SUM(D32:S32)","v":0}]
[null,"gestion de modification"]
[]
[]
[]
[]
[]
[]
[]
[null,null,"Clients","Audit","Réclamation","Avoir",null,"Fournisseurs/ sous-traitants","Réception de matiere","Probleme qualité",null,"Les formations professionnelles","Cout","Chiffrage décliné","Actions à suivre",null,"Article qui a subit un tri","durée du tri","Nombre des pieces non-conformes","ouvrier faisant le tri","cout par tri",null,"Article qui a subit la reprise","durée de la reprise","opérateur faisant la reprise","coût de reprise",null,null,null,"Machine ","article","gamme","objet de la modification"]
[null,null,null,null,null,null,null,null,null,null,null,null,null,null,null,null,null,null,null,null,{"$f":"IF(R42=\"\",\"\",R42*VLOOKUP(T42,'cout opérateur machines'!A1:B8,2,0))","v":""},null,null,null,null,{"$f":"X42*8","v":0}]
[null,null,null,null,null,null,null,null,null,null,null,null,null,null,null,null,null,null,null,null,{"$f":"IF(R43=\"\",\"\",R43*VLOOKUP(T43,'cout opérateur machines'!A2:B9,2,0))","v":""},null,null,null,null,{"$f":"X43*8","v":0}]
[null,null,null,null,null,null,null,null,null,null,null,null,null,null,null,null,null,null,null,null,{"$f":"IF(R44=\"\",\"\",R44*VLOOKUP(T44,'cout opérateur machines'!A3:B10,2,0))","v":""},null,null,null,null,0]
[null,null,null,null,null,null,null,null,null,null,null,null,null,null,null,null,null,null,null,null,{"$f":"IF(R45=\"\",\"\",R45*VLOOKUP(T45,'cout opérateur machines'!A4:B11,2,0))","v":""},null,null,null,null,0]
[null,null,null,null,null,null,null,null,null,null,null,null,null,null,null,null,null,null,null,null,{"$f":"IF(R46=\"\",\"\",R46*VLOOKUP(T46,'cout opérateur machines'!A5:B12,2,0))","v":""},null,null,null,null,0]
[null,null,null,null,null,null,null,null,null,null,null,null,null,null,null,null,null,null,null,null,{"$f":"IF(R47=\"\",\"\",R47*VLOOKUP(T47,'cout opérateur machines'!A6:B13,2,0))","v":""},null,null,null,null,0]
[null,null,null,null,{"$f":"COUNTA(E42:E47)","v":0},{"$f":"SUM(F42:F47)","v":0},null,null,null,null,null,null,{"$f":"SUM(M42:M47)","v":0},"causes de refus",null,null,null,null,"cout total du jour",null,{"$f":"SUM(U42:U47)","v":0},null,null,null,null,0]
[null,null,null,null,null,null,null,"envoi des réclamations F/ S-T","réponse F/ S-T","alerte",null,null,null,null,null,null,null,null,null,null,null,null,null,null,null,{"$f":"SUM(Z42:Z48)","v":0}]
[null,null,"dans le cas d'une réclamation",null,null,null,null,null,null,{"$f":"IF(J42=\"\",\"\",IF(H50=0,\" réclamation non traitée\",IF(I50=0, \"veuillez contacter le F/ S-T par téléphone\",\"\")))","v":""},null,null,null,null,null,null,null,null,"N° mois",null,4]
[null,null,"nombre de pièces NC",null,null,null,null,null,null,{"$f":"IF(J43=\"\",\"\",IF(H51=0,\" réclamation non traitée\",IF(I51=0, \"veuillez contacter le F/ S-T par téléphone\",\"\")))","v":""}]
[null,null,"nombre de pièces par carton",null,null,null,null,null,null,""]
[null,null,"coût de transport par carton",null,null,null,null,null,null,""]
[null,null,"nombre de cartons renvoyés",null,null,null,null,null,null,""]
[null,null,"temps de tri",null,null,null,null,null,null,""]
[null,null,"coût horaire de tri"]
[null,null,"temps de retouche"]
[null,null,"coût horaire de retouche"]
[null,null,"temps de traitement de la réclamation"]
[null,null,"coût horaire de traitement"]
[null,null,"coût total",{"$f":"IFERROR(((D51/D52)*D53)+D54*D53+D55*D56+D57*D58+D59*D60,\"\")","v":""}]

{"sheet":"31-3-22","index":30,"n_rows":61,"n_cols":33,"rows_kept":61,"cut":false,"hidden":false,"merged":[[31,1,31,2],[32,1,32,2],[47,18,47,19],[49,18,49,19],[25,1,25,2],[26,1,26,2],[27,1,27,2],[28,1,28,2],[29,1,29,2],[30,1,30,2],[24,1,24,2],[12,1,12,2],[13,1,13,2],[14,1,14,2],[15,1,15,2],[16,1,16,2],[17,1,18,1],[19,1,19,2],[20,1,20,2],[21,1,21,2],[22,1,22,2],[23,1,23,2],[1,2,4,3],[1,4,4,16],[1,17,1,19],[1,21,1,23],[2,17,2,19],[2,21,2,23],[3,17,3,19],[3,21,3,23],[4,17,4,19],[4,21,4,23]]}
[]
[null,null,null,null,"Rapport journalier",null,null,null,null,null,null,null,null,null,null,null,null,"Code:DAS-SMQ-24"]
[null,null,null,null,null,null,null,null,null,null,null,null,null,null,null,null,null,"Date: 27/12/2019"]
[null,null,null,null,null,null,null,null,null,null,null,null,null,null,null,null,null,"Version:01"]
[null,null,null,null,null,null,null,null,null,null,null,null,null,null,null,null,null,"Page:1"]
[]
[]
[]
[]
[]
[]
[null,null,null,"A","B","C","D","E","F","M","N","O","P","I","L","K","J","G","H"]
[null,"Machine",null,"SST16","SB16","BIGLIA 301 SM","BIGLIA 42 S2M bitourelle","L32","TSUGAMI","MORI SEIKI 3 axes","MORI SEIKI 5 axes","HARDING","KITAMURA","MULTIBROCHE","NAKAMURA","TOUR WEILER"]
[null,"Référence",null,"BROCH L 230","G022-CP1","230500","MI018-B42","200200-2022","i097-tsughami ","I110-01-004","PIG-11D",480387,"9518-maj","MPS000300","I007","I143-CP1","PT8666",68.081500000000005,"outi-plot"]
[null,"Désignation",null,"BROCHE ACIER D13 ZINGUE L230","AXE D15-M11*100 maj-c","BRAS DE MANOEUVRE  G  MAN","GOUJON DE ROUE MITSIBITCHI GM-SUR-B42","Embout de tige-2022","ECROU DE ROUE FORD RANGER- finition rayon ","INSERT LEVIER SURMOULEE 345833-01 - fraisage ","PIGNON 11 DENTS FRAISAGE","Evacuation 2 et 3","USINAGE BORNE RBD-1 ","raccord HEX 17","ECROU SEMI ARBRE ISUZU","ECROU DE ROUE ISUZU-CP1","Rehausse-NAKAMURHA","Buse droite à collerette Ø8 M445 FRD","plot nez de marche"]
[null,"Compteur 8h ",null,0,3913,1755,8183,4771,4314,1074,0,35,4934,0,831,3538,0,6664,0]
[null,"Compteur 17h",null,0,4405,2021,8438,4771,4744,1074,0,44,5104,0,1012,3817,1216,7352,0]
[null,"Enregistrement","9h"]
[null,null,"16h"]
[null,"Identification"]
[null,"Propreté des tables de contrôle"]
[null,"Rangement des outils de contrôle"]
[null,"Existance de l'OF"]
[null,"Affutage",null,null,null,null,null,null,null,null,null,null,null,null,null,null,null,null,null,{"$f":"+COUNTA(D24:S24)","v":0}]
[null,"Maintenance"]
[null,"Nombre des NC poubelle "]
[null,"Nombre des NC à retoucher"]
[null,"Machine pour retouche"]
[null,"Panne"]
[null,"Cout pièces de rechange",null,null,null,null,null,null,null,null,null,null,null,null,null,null,null,null,null,{"$f":"SUM(D30:S30)","v":0}]
[null,"prix de revient pièce",null,{"$f":"IFERROR(VLOOKUP(D14,'Prix de revient'!$A:$D,4,0),0)","v":2.5280000000000005},{"$f":"IFERROR(VLOOKUP(E14,'Prix de revient'!$A:$D,4,0),0)","v":0},{"$f":"IFERROR(VLOOKUP(F14,'Prix de revient'!$A:$D,4,0),0)","v":0},{"$f":"IFERROR(VLOOKUP(G14,'Prix de revient'!$A:$D,4,0),0)","v":0},{"$f":"IFERROR(VLOOKUP(H14,'Prix de revient'!$A:$D,4,0),0)","v":0},{"$f":"IFERROR(VLOOKUP(I14,'Prix de revient'!$A:$D,4,0),0)","v":0},{"$f":"IFERROR(VLOOKUP(J14,'Prix de revient'!$A:$D,4,0),0)","v":2.1488},{"$f":"IFERROR(VLOOKUP(K14,'Prix de revient'!$A:$D,4,0),0)","v":0},{"$f":"IFERROR(VLOOKUP(L14,'Prix de revient'!$A:$D,4,0),0)","v":5.3719999999999999},{"$f":"IFERROR(VLOOKUP(M14,'Prix de revient'!$A:$D,4,0),0)","v":0},{"$f":"IFERROR(VLOOKUP(N14,'Prix de revient'!$A:$D,4,0),0)","v":0},{"$f":"IFERROR(VLOOKUP(O14,'Prix de revient'!$A:$D,4,0),0)","v":0},{"$f":"IFERROR(VLOOKUP(P14,'Prix de revient'!$A:$D,4,0),0)","v":0},{"$f":"IFERROR(VLOOKUP(Q14,'Prix de revient'!$A:$D,4,0),0)","v":0},{"$f":"IFERROR(VLOOKUP(R14,'Prix de revient'!$A:$D,4,0),0)","v":0},{"$f":"IFERROR(VLOOKUP(S14,'Prix de revient'!$A:$D,4,0),0)","v":0.44240000000000007}]
[null,"coût de rebuts",null,{"$f":"D26*D31","v":0},{"$f":"E26*E31","v":0},0,0,0,0,0,0,0,0,0,0,0,0,0,0,{"$f":"SUM(D32:S32)","v":0}]
[null,"gestion de modification"]
[]
[]
[]
[]
[]
[]
[]
[null,null,"Clients","Audit","Réclamation","Avoir",null,"Fournisseurs/ sous-traitants","Réception de matiere","Probleme qualité",null,"Les formations professionnelles","Cout","Chiffrage décliné","Actions à suivre",null,"Article qui a subit un tri","durée du tri","Nombre des pieces non-conformes","ouvrier faisant le tri","cout par tri",null,"Article qui a subit la reprise","durée de la reprise","opérateur faisant la reprise","coût de reprise",null,null,null,"Machine ","article","gamme","objet de la modification"]
[null,null,null,null,null,null,null,null,null,null,null,null,null,null,null,null,null,null,null,null,{"$f":"IF(R42=\"\",\"\",R42*VLOOKUP(T42,'cout opérateur machines'!A1:B8,2,0))","v":""},null,null,null,null,{"$f":"X42*8","v":0}]
[null,null,null,null,null,null,null,null,null,null,null,null,null,null,null,null,null,null,null,null,{"$f":"IF(R43=\"\",\"\",R43*VLOOKUP(T43,'cout opérateur machines'!A2:B9,2,0))","v":""},null,null,null,null,{"$f":"X43*8","v":0}]
[null,null,null,null,null,null,null,null,null,null,null,null,null,null,null,null,null,null,null,null,{"$f":"IF(R44=\"\",\"\",R44*VLOOKUP(T44,'cout opérateur machines'!A3:B10,2,0))","v":""},null,null,null,null,0]
[null,null,null,null,null,null,null,null,null,null,null,null,null,null,null,null,null,null,null,null,{"$f":"IF(R45=\"\",\"\",R45*VLOOKUP(T45,'cout opérateur machines'!A4:B11,2,0))","v":""},null,null,null,null,0]
[null,null,null,null,null,null,null,null,null,null,null,null,null,null,null,null,null,null,null,null,{"$f":"IF(R46=\"\",\"\",R46*VLOOKUP(T46,'cout opérateur machines'!A5:B12,2,0))","v":""},null,null,null,null,0]
[null,null,null,null,null,null,null,null,null,null,null,null,null,null,null,null,null,null,null,null,{"$f":"IF(R47=\"\",\"\",R47*VLOOKUP(T47,'cout opérateur machines'!A6:B13,2,0))","v":""},null,null,null,null,0]
[null,null,null,null,{"$f":"COUNTA(E42:E47)","v":0},{"$f":"SUM(F42:F47)","v":0},null,null,null,null,null,null,{"$f":"SUM(M42:M47)","v":0},"causes de refus",null,null,null,null,"cout total du jour",null,{"$f":"SUM(U42:U47)","v":0},null,null,null,null,0]
[null,null,null,null,null,null,null,"envoi des réclamations F/ S-T","réponse F/ S-T","alerte",null,null,null,null,null,null,null,null,null,null,null,null,null,null,null,{"$f":"SUM(Z42:Z48)","v":0}]
[null,null,"dans le cas d'une réclamation",null,null,null,null,null,null,{"$f":"IF(J42=\"\",\"\",IF(H50=0,\" réclamation non traitée\",IF(I50=0, \"veuillez contacter le F/ S-T par téléphone\",\"\")))","v":""},null,null,null,null,null,null,null,null,"N° mois",null,3]
[null,null,"nombre de pièces NC",null,null,null,null,null,null,{"$f":"IF(J43=\"\",\"\",IF(H51=0,\" réclamation non traitée\",IF(I51=0, \"veuillez contacter le F/ S-T par téléphone\",\"\")))","v":""}]
[null,null,"nombre de pièces par carton",null,null,null,null,null,null,""]
[null,null,"coût de transport par carton",null,null,null,null,null,null,""]
[null,null,"nombre de cartons renvoyés",null,null,null,null,null,null,""]
[null,null,"temps de tri",null,null,null,null,null,null,""]
[null,null,"coût horaire de tri"]
[null,null,"temps de retouche"]
[null,null,"coût horaire de retouche"]
[null,null,"temps de traitement de la réclamation"]
[null,null,"coût horaire de traitement"]
[null,null,"coût total",{"$f":"IFERROR(((D51/D52)*D53)+D54*D53+D55*D56+D57*D58+D59*D60,\"\")","v":""}]

{"sheet":"30-3-22","index":31,"n_rows":61,"n_cols":33,"rows_kept":61,"cut":false,"hidden":false,"merged":[[31,1,31,2],[32,1,32,2],[47,18,47,19],[49,18,49,19],[25,1,25,2],[26,1,26,2],[27,1,27,2],[28,1,28,2],[29,1,29,2],[30,1,30,2],[24,1,24,2],[12,1,12,2],[13,1,13,2],[14,1,14,2],[15,1,15,2],[16,1,16,2],[17,1,18,1],[19,1,19,2],[20,1,20,2],[21,1,21,2],[22,1,22,2],[23,1,23,2],[1,2,4,3],[1,4,4,16],[1,17,1,19],[1,21,1,23],[2,17,2,19],[2,21,2,23],[3,17,3,19],[3,21,3,23],[4,17,4,19],[4,21,4,23]]}
[]
[null,null,null,null,"Rapport journalier",null,null,null,null,null,null,null,null,null,null,null,null,"Code:DAS-SMQ-24"]
[null,null,null,null,null,null,null,null,null,null,null,null,null,null,null,null,null,"Date: 27/12/2019"]
[null,null,null,null,null,null,null,null,null,null,null,null,null,null,null,null,null,"Version:01"]
[null,null,null,null,null,null,null,null,null,null,null,null,null,null,null,null,null,"Page:1"]
[]
[]
[]
[]
[]
[]
[null,null,null,"A","B","C","D","E","F","M","N","O","P","I","L","K","J","G","H"]
[null,"Machine",null,"SST16","SB16","BIGLIA 301 SM","BIGLIA 42 S2M bitourelle","L32","TSUGAMI","MORI SEIKI 3 axes","MORI SEIKI 5 axes","HARDING","KITAMURA","MULTIBROCHE","NAKAMURA","TOUR WEILER"]
[null,"Référence",null,"BROCH L 230","G022-CP1","230500","MI018-B42","200200-2022","i097-tsughami ","I110-01-004","PIG-11D",480387,"9518-maj","MPS000300","I007","I143-CP1","PT8666",68.081500000000005,"outi-plot"]
[null,"Désignation",null,"BROCHE ACIER D13 ZINGUE L230","AXE D15-M11*100 maj-c","BRAS DE MANOEUVRE  G  MAN","GOUJON DE ROUE MITSIBITCHI GM-SUR-B42","Embout de tige-2022","ECROU DE ROUE FORD RANGER- finition rayon ","INSERT LEVIER SURMOULEE 345833-01 - fraisage ","PIGNON 11 DENTS FRAISAGE","Evacuation 2 et 3","USINAGE BORNE RBD-1 ","raccord HEX 17","ECROU SEMI ARBRE ISUZU","ECROU DE ROUE ISUZU-CP1","Rehausse-NAKAMURHA","Buse droite à collerette Ø8 M445 FRD","plot nez de marche"]
[null,"Compteur 8h ",null,0,3508,1491,7938,4771,3847,1074,0,24,4732,0,570,3130,1304,6027,0]
[null,"Compteur 17h",null,0,3913,1755,8183,4771,4314,1074,0,35,4934,0,831,3538,2242,6664,0]
[null,"Enregistrement","9h"]
[null,null,"16h"]
[null,"Identification"]
[null,"Propreté des tables de contrôle"]
[null,"Rangement des outils de contrôle"]
[null,"Existance de l'OF"]
[null,"Affutage",null,null,null,null,null,null,null,null,null,null,null,null,null,null,null,null,null,{"$f":"+COUNTA(D24:S24)","v":0}]
[null,"Maintenance"]
[null,"Nombre des NC poubelle ",null,null,5]
[null,"Nombre des NC à retoucher"]
[null,"Machine pour retouche"]
[null,"Panne"]
[null,"Cout pièces de rechange",null,null,null,null,null,null,null,null,null,null,null,null,null,null,null,null,null,{"$f":"SUM(D30:S30)","v":0}]
[null,"prix de revient pièce",null,{"$f":"IFERROR(VLOOKUP(D14,'Prix de revient'!$A:$D,4,0),0)","v":2.5280000000000005},{"$f":"IFERROR(VLOOKUP(E14,'Prix de revient'!$A:$D,4,0),0)","v":0},{"$f":"IFERROR(VLOOKUP(F14,'Prix de revient'!$A:$D,4,0),0)","v":0},{"$f":"IFERROR(VLOOKUP(G14,'Prix de revient'!$A:$D,4,0),0)","v":0},{"$f":"IFERROR(VLOOKUP(H14,'Prix de revient'!$A:$D,4,0),0)","v":0},{"$f":"IFERROR(VLOOKUP(I14,'Prix de revient'!$A:$D,4,0),0)","v":0},{"$f":"IFERROR(VLOOKUP(J14,'Prix de revient'!$A:$D,4,0),0)","v":2.1488},{"$f":"IFERROR(VLOOKUP(K14,'Prix de revient'!$A:$D,4,0),0)","v":0},{"$f":"IFERROR(VLOOKUP(L14,'Prix de revient'!$A:$D,4,0),0)","v":5.3719999999999999},{"$f":"IFERROR(VLOOKUP(M14,'Prix de revient'!$A:$D,4,0),0)","v":0},{"$f":"IFERROR(VLOOKUP(N14,'Prix de revient'!$A:$D,4,0),0)","v":0},{"$f":"IFERROR(VLOOKUP(O14,'Prix de revient'!$A:$D,4,0),0)","v":0},{"$f":"IFERROR(VLOOKUP(P14,'Prix de revient'!$A:$D,4,0),0)","v":0},{"$f":"IFERROR(VLOOKUP(Q14,'Prix de revient'!$A:$D,4,0),0)","v":0},{"$f":"IFERROR(VLOOKUP(R14,'Prix de revient'!$A:$D,4,0),0)","v":0},{"$f":"IFERROR(VLOOKUP(S14,'Prix de revient'!$A:$D,4,0),0)","v":0.44240000000000007}]
[null,"coût de rebuts",null,{"$f":"D26*D31","v":0},{"$f":"E26*E31","v":0},0,0,0,0,0,0,0,0,0,0,0,0,0,0,{"$f":"SUM(D32:S32)","v":0}]
[null,"gestion de modification"]
[]
[]
[]
[]
[]
[]
[]
[null,null,"Clients","Audit","Réclamation","Avoir",null,"Fournisseurs/ sous-traitants","Réception de matiere","Probleme qualité",null,"Les formations professionnelles","Cout","Chiffrage décliné","Actions à suivre",null,"Article qui a subit un tri","durée du tri","Nombre des pieces non-conformes","ouvrier faisant le tri","cout par tri",null,"Article qui a subit la reprise","durée de la reprise","opérateur faisant la reprise","coût de reprise",null,null,null,"Machine ","article","gamme","objet de la modification"]
[null,null,null,null,null,null,null,null,null,null,null,null,null,null,null,null,null,null,null,null,{"$f":"IF(R42=\"\",\"\",R42*VLOOKUP(T42,'cout opérateur machines'!A1:B8,2,0))","v":""},null,null,null,null,{"$f":"X42*8","v":0}]
[null,null,null,null,null,null,null,null,null,null,null,null,null,null,null,null,null,null,null,null,{"$f":"IF(R43=\"\",\"\",R43*VLOOKUP(T43,'cout opérateur machines'!A2:B9,2,0))","v":""},null,null,null,null,{"$f":"X43*8","v":0}]
[null,null,null,null,null,null,null,null,null,null,null,null,null,null,null,null,null,null,null,null,{"$f":"IF(R44=\"\",\"\",R44*VLOOKUP(T44,'cout opérateur machines'!A3:B10,2,0))","v":""},null,null,null,null,0]
[null,null,null,null,null,null,null,null,null,null,null,null,null,null,null,null,null,null,null,null,{"$f":"IF(R45=\"\",\"\",R45*VLOOKUP(T45,'cout opérateur machines'!A4:B11,2,0))","v":""},null,null,null,null,0]
[null,null,null,null,null,null,null,null,null,null,null,null,null,null,null,null,null,null,null,null,{"$f":"IF(R46=\"\",\"\",R46*VLOOKUP(T46,'cout opérateur machines'!A5:B12,2,0))","v":""},null,null,null,null,0]
[null,null,null,null,null,null,null,null,null,null,null,null,null,null,null,null,null,null,null,null,{"$f":"IF(R47=\"\",\"\",R47*VLOOKUP(T47,'cout opérateur machines'!A6:B13,2,0))","v":""},null,null,null,null,0]
[null,null,null,null,{"$f":"COUNTA(E42:E47)","v":0},{"$f":"SUM(F42:F47)","v":0},null,null,null,null,null,null,{"$f":"SUM(M42:M47)","v":0},"causes de refus",null,null,null,null,"cout total du jour",null,{"$f":"SUM(U42:U47)","v":0},null,null,null,null,0]
[null,null,null,null,null,null,null,"envoi des réclamations F/ S-T","réponse F/ S-T","alerte",null,null,null,null,null,null,null,null,null,null,null,null,null,null,null,{"$f":"SUM(Z42:Z48)","v":0}]
[null,null,"dans le cas d'une réclamation",null,null,null,null,null,null,{"$f":"IF(J42=\"\",\"\",IF(H50=0,\" réclamation non traitée\",IF(I50=0, \"veuillez contacter le F/ S-T par téléphone\",\"\")))","v":""},null,null,null,null,null,null,null,null,"N° mois",null,3]
[null,null,"nombre de pièces NC",null,null,null,null,null,null,{"$f":"IF(J43=\"\",\"\",IF(H51=0,\" réclamation non traitée\",IF(I51=0, \"veuillez contacter le F/ S-T par téléphone\",\"\")))","v":""}]
[null,null,"nombre de pièces par carton",null,null,null,null,null,null,""]
[null,null,"coût de transport par carton",null,null,null,null,null,null,""]
[null,null,"nombre de cartons renvoyés",null,null,null,null,null,null,""]
[null,null,"temps de tri",null,null,null,null,null,null,""]
[null,null,"coût horaire de tri"]
[null,null,"temps de retouche"]
[null,null,"coût horaire de retouche"]
[null,null,"temps de traitement de la réclamation"]
[null,null,"coût horaire de traitement"]
[null,null,"coût total",{"$f":"IFERROR(((D51/D52)*D53)+D54*D53+D55*D56+D57*D58+D59*D60,\"\")","v":""}]

{"sheet":"29-3-22","index":32,"n_rows":61,"n_cols":33,"rows_kept":61,"cut":false,"hidden":false,"merged":[[31,1,31,2],[32,1,32,2],[47,18,47,19],[49,18,49,19],[25,1,25,2],[26,1,26,2],[27,1,27,2],[28,1,28,2],[29,1,29,2],[30,1,30,2],[24,1,24,2],[12,1,12,2],[13,1,13,2],[14,1,14,2],[15,1,15,2],[16,1,16,2],[17,1,18,1],[19,1,19,2],[20,1,20,2],[21,1,21,2],[22,1,22,2],[23,1,23,2],[1,2,4,3],[1,4,4,16],[1,17,1,19],[1,21,1,23],[2,17,2,19],[2,21,2,23],[3,17,3,19],[3,21,3,23],[4,17,4,19],[4,21,4,23]]}
[]
[null,null,null,null,"Rapport journalier",null,null,null,null,null,null,null,null,null,null,null,null,"Code:DAS-SMQ-24"]
[null,null,null,null,null,null,null,null,null,null,null,null,null,null,null,null,null,"Date: 27/12/2019"]
[null,null,null,null,null,null,null,null,null,null,null,null,null,null,null,null,null,"Version:01"]
[null,null,null,null,null,null,null,null,null,null,null,null,null,null,null,null,null,"Page:1"]
[]
[]
[]
[]
[]
[]
[null,null,null,"A","B","C","D","E","F","M","N","O","P","I","L","K","J","G","H"]
[null,"Machine",null,"SST16","SB16","BIGLIA 301 SM","BIGLIA 42 S2M bitourelle","L32","TSUGAMI","MORI SEIKI 3 axes","MORI SEIKI 5 axes","HARDING","KITAMURA","MULTIBROCHE","NAKAMURA","TOUR WEILER"]
[null,"Référence",null,"BROCH L 230","G022-CP1","230500","MI018-B42","200200-2022","i097-tsughami ","I110-01-004","PIG-11D",480387,"9518-maj","MPS000300","I007","I143-CP1","PT8666",68.081500000000005,"outi-plot"]
[null,"Désignation",null,"BROCHE ACIER D13 ZINGUE L230","AXE D15-M11*100 maj-c","BRAS DE MANOEUVRE  G  MAN","GOUJON DE ROUE MITSIBITCHI GM-SUR-B42","Embout de tige-2022","ECROU DE ROUE FORD RANGER- finition rayon ","INSERT LEVIER SURMOULEE 345833-01 - fraisage ","PIGNON 11 DENTS FRAISAGE","Evacuation 2 et 3","USINAGE BORNE RBD-1 ","raccord HEX 17","ECROU SEMI ARBRE ISUZU","ECROU DE ROUE ISUZU-CP1","Rehausse-NAKAMURHA","Buse droite à collerette Ø8 M445 FRD","plot nez de marche"]
[null,"Compteur 8h ",null,0,3033,1223,7634,4771,3419,1061,0,14,4582,0,354,2954,787,5360,0]
[null,"Compteur 17h",null,0,3508,1491,7938,4771,3847,1074,0,24,4732,0,570,3130,1304,6027,0]
[null,"Enregistrement","9h"]
[null,null,"16h"]
[null,"Identification"]
[null,"Propreté des tables de contrôle"]
[null,"Rangement des outils de contrôle"]
[null,"Existance de l'OF"]
[null,"Affutage",null,null,null,null,null,null,null,null,null,null,null,null,null,null,null,null,null,{"$f":"+COUNTA(D24:S24)","v":0}]
[null,"Maintenance"]
[null,"Nombre des NC poubelle ",null,null,18,null,null,null,null,null,null,null,null,null,null,null,null,2]
[null,"Nombre des NC à retoucher"]
[null,"Machine pour retouche"]
[null,"Panne"]
[null,"Cout pièces de rechange",null,null,null,null,null,null,null,null,null,null,null,null,null,null,null,null,null,{"$f":"SUM(D30:S30)","v":0}]
[null,"prix de revient pièce",null,{"$f":"IFERROR(VLOOKUP(D14,'Prix de revient'!$A:$D,4,0),0)","v":2.5280000000000005},{"$f":"IFERROR(VLOOKUP(E14,'Prix de revient'!$A:$D,4,0),0)","v":0},{"$f":"IFERROR(VLOOKUP(F14,'Prix de revient'!$A:$D,4,0),0)","v":0},{"$f":"IFERROR(VLOOKUP(G14,'Prix de revient'!$A:$D,4,0),0)","v":0},{"$f":"IFERROR(VLOOKUP(H14,'Prix de revient'!$A:$D,4,0),0)","v":0},{"$f":"IFERROR(VLOOKUP(I14,'Prix de revient'!$A:$D,4,0),0)","v":0},{"$f":"IFERROR(VLOOKUP(J14,'Prix de revient'!$A:$D,4,0),0)","v":2.1488},{"$f":"IFERROR(VLOOKUP(K14,'Prix de revient'!$A:$D,4,0),0)","v":0},{"$f":"IFERROR(VLOOKUP(L14,'Prix de revient'!$A:$D,4,0),0)","v":5.3719999999999999},{"$f":"IFERROR(VLOOKUP(M14,'Prix de revient'!$A:$D,4,0),0)","v":0},{"$f":"IFERROR(VLOOKUP(N14,'Prix de revient'!$A:$D,4,0),0)","v":0},{"$f":"IFERROR(VLOOKUP(O14,'Prix de revient'!$A:$D,4,0),0)","v":0},{"$f":"IFERROR(VLOOKUP(P14,'Prix de revient'!$A:$D,4,0),0)","v":0},{"$f":"IFERROR(VLOOKUP(Q14,'Prix de revient'!$A:$D,4,0),0)","v":0},{"$f":"IFERROR(VLOOKUP(R14,'Prix de revient'!$A:$D,4,0),0)","v":0},{"$f":"IFERROR(VLOOKUP(S14,'Prix de revient'!$A:$D,4,0),0)","v":0.44240000000000007}]
[null,"coût de rebuts",null,{"$f":"D26*D31","v":0},{"$f":"E26*E31","v":0},0,0,0,0,0,0,0,0,0,0,0,0,0,0,{"$f":"SUM(D32:S32)","v":0}]
[null,"gestion de modification"]
[]
[]
[]
[]
[]
[]
[]
[null,null,"Clients","Audit","Réclamation","Avoir",null,"Fournisseurs/ sous-traitants","Réception de matiere","Probleme qualité",null,"Les formations professionnelles","Cout","Chiffrage décliné","Actions à suivre",null,"Article qui a subit un tri","durée du tri","Nombre des pieces non-conformes","ouvrier faisant le tri","cout par tri",null,"Article qui a subit la reprise","durée de la reprise","opérateur faisant la reprise","coût de reprise",null,null,null,"Machine ","article","gamme","objet de la modification"]
[null,null,null,null,null,null,null,null,null,null,null,null,null,null,null,null,null,null,null,null,{"$f":"IF(R42=\"\",\"\",R42*VLOOKUP(T42,'cout opérateur machines'!A1:B8,2,0))","v":""},null,null,null,null,{"$f":"X42*8","v":0}]
[null,null,null,null,null,null,null,null,null,null,null,null,null,null,null,null,null,null,null,null,{"$f":"IF(R43=\"\",\"\",R43*VLOOKUP(T43,'cout opérateur machines'!A2:B9,2,0))","v":""},null,null,null,null,{"$f":"X43*8","v":0}]
[null,null,null,null,null,null,null,null,null,null,null,null,null,null,null,null,null,null,null,null,{"$f":"IF(R44=\"\",\"\",R44*VLOOKUP(T44,'cout opérateur machines'!A3:B10,2,0))","v":""},null,null,null,null,0]
[null,null,null,null,null,null,null,null,null,null,null,null,null,null,null,null,null,null,null,null,{"$f":"IF(R45=\"\",\"\",R45*VLOOKUP(T45,'cout opérateur machines'!A4:B11,2,0))","v":""},null,null,null,null,0]
[null,null,null,null,null,null,null,null,null,null,null,null,null,null,null,null,null,null,null,null,{"$f":"IF(R46=\"\",\"\",R46*VLOOKUP(T46,'cout opérateur machines'!A5:B12,2,0))","v":""},null,null,null,null,0]
[null,null,null,null,null,null,null,null,null,null,null,null,null,null,null,null,null,null,null,null,{"$f":"IF(R47=\"\",\"\",R47*VLOOKUP(T47,'cout opérateur machines'!A6:B13,2,0))","v":""},null,null,null,null,0]
[null,null,null,null,{"$f":"COUNTA(E42:E47)","v":0},{"$f":"SUM(F42:F47)","v":0},null,null,null,null,null,null,{"$f":"SUM(M42:M47)","v":0},"causes de refus",null,null,null,null,"cout total du jour",null,{"$f":"SUM(U42:U47)","v":0},null,null,null,null,0]
[null,null,null,null,null,null,null,"envoi des réclamations F/ S-T","réponse F/ S-T","alerte",null,null,null,null,null,null,null,null,null,null,null,null,null,null,null,{"$f":"SUM(Z42:Z48)","v":0}]
[null,null,"dans le cas d'une réclamation",null,null,null,null,null,null,{"$f":"IF(J42=\"\",\"\",IF(H50=0,\" réclamation non traitée\",IF(I50=0, \"veuillez contacter le F/ S-T par téléphone\",\"\")))","v":""},null,null,null,null,null,null,null,null,"N° mois",null,3]
[null,null,"nombre de pièces NC",null,null,null,null,null,null,{"$f":"IF(J43=\"\",\"\",IF(H51=0,\" réclamation non traitée\",IF(I51=0, \"veuillez contacter le F/ S-T par téléphone\",\"\")))","v":""}]
[null,null,"nombre de pièces par carton",null,null,null,null,null,null,""]
[null,null,"coût de transport par carton",null,null,null,null,null,null,""]
[null,null,"nombre de cartons renvoyés",null,null,null,null,null,null,""]
[null,null,"temps de tri",null,null,null,null,null,null,""]
[null,null,"coût horaire de tri"]
[null,null,"temps de retouche"]
[null,null,"coût horaire de retouche"]
[null,null,"temps de traitement de la réclamation"]
[null,null,"coût horaire de traitement"]
[null,null,"coût total",{"$f":"IFERROR(((D51/D52)*D53)+D54*D53+D55*D56+D57*D58+D59*D60,\"\")","v":""}]

{"sheet":"28-3-22","index":33,"n_rows":61,"n_cols":33,"rows_kept":61,"cut":false,"hidden":false,"merged":[[31,1,31,2],[32,1,32,2],[47,18,47,19],[49,18,49,19],[25,1,25,2],[26,1,26,2],[27,1,27,2],[28,1,28,2],[29,1,29,2],[30,1,30,2],[24,1,24,2],[12,1,12,2],[13,1,13,2],[14,1,14,2],[15,1,15,2],[16,1,16,2],[17,1,18,1],[19,1,19,2],[20,1,20,2],[21,1,21,2],[22,1,22,2],[23,1,23,2],[1,2,4,3],[1,4,4,16],[1,17,1,19],[1,21,1,23],[2,17,2,19],[2,21,2,23],[3,17,3,19],[3,21,3,23],[4,17,4,19],[4,21,4,23]]}
[]
[null,null,null,null,"Rapport journalier",null,null,null,null,null,null,null,null,null,null,null,null,"Code:DAS-SMQ-24"]
[null,null,null,null,null,null,null,null,null,null,null,null,null,null,null,null,null,"Date: 27/12/2019"]
[null,null,null,null,null,null,null,null,null,null,null,null,null,null,null,null,null,"Version:01"]
[null,null,null,null,null,null,null,null,null,null,null,null,null,null,null,null,null,"Page:1"]
[]
[]
[]
[]
[]
[]
[null,null,null,"A","B","C","D","E","F","M","N","O","P","I","L","K","J","G","H"]
[null,"Machine",null,"SST16","SB16","BIGLIA 301 SM","BIGLIA 42 S2M bitourelle","L32","TSUGAMI","MORI SEIKI 3 axes","MORI SEIKI 5 axes","HARDING","KITAMURA","MULTIBROCHE","NAKAMURA","TOUR WEILER"]
[null,"Référence",null,"BROCH L 230","G022-CP1","230500","MI018-B42","200200-2022","i097-tsughami ","I110-01-004","PIG-11D",480387,"9518-maj","MPS000300","I007","I143-CP1","PT8666",68.081500000000005,"outi-plot"]
[null,"Désignation",null,"BROCHE ACIER D13 ZINGUE L230","AXE D15-M11x100","BRAS DE MANOEUVRE  G  MAN","GOUJON DE ROUE MITSIBITCHI GM-SUR-B42","Embout de tige-2022","ECROU DE ROUE FORD RANGER- finition rayon ","INSERT LEVIER SURMOULEE 345833-01 - fraisage ","PIGNON 11 DENTS FRAISAGE","Evacuation 2 et 3","USINAGE BORNE RBD-1 ","raccord HEX 17","ECROU SEMI ARBRE ISUZU","ECROU DE ROUE ISUZU-CP1","Rehausse-NAKAMURHA","Buse droite à collerette Ø8 M445 FRD","plot nez de marche"]
[null,"Compteur 8h ",null,0,2744,1083,7360,4771,2918,1025,0,4,4405,0,114,2610,0,4648,816]
[null,"Compteur 17h",null,239,3033,1223,7634,4771,3419,1061,0,14,4582,0,354,2954,787,5360,816]
[null,"Enregistrement","9h"]
[null,null,"16h"]
[null,"Identification"]
[null,"Propreté des tables de contrôle"]
[null,"Rangement des outils de contrôle"]
[null,"Existance de l'OF"]
[null,"Affutage",null,null,null,null,null,null,null,null,null,null,null,null,null,null,null,null,null,{"$f":"+COUNTA(D24:S24)","v":0}]
[null,"Maintenance"]
[null,"Nombre des NC poubelle "]
[null,"Nombre des NC à retoucher"]
[null,"Machine pour retouche"]
[null,"Panne"]
[null,"Cout pièces de rechange",null,null,null,null,null,null,null,null,null,null,null,null,null,null,null,null,null,{"$f":"SUM(D30:S30)","v":0}]
[null,"prix de revient pièce",null,{"$f":"IFERROR(VLOOKUP(D14,'Prix de revient'!$A:$D,4,0),0)","v":2.5280000000000005},{"$f":"IFERROR(VLOOKUP(E14,'Prix de revient'!$A:$D,4,0),0)","v":0},{"$f":"IFERROR(VLOOKUP(F14,'Prix de revient'!$A:$D,4,0),0)","v":0},{"$f":"IFERROR(VLOOKUP(G14,'Prix de revient'!$A:$D,4,0),0)","v":0},{"$f":"IFERROR(VLOOKUP(H14,'Prix de revient'!$A:$D,4,0),0)","v":0},{"$f":"IFERROR(VLOOKUP(I14,'Prix de revient'!$A:$D,4,0),0)","v":0},{"$f":"IFERROR(VLOOKUP(J14,'Prix de revient'!$A:$D,4,0),0)","v":2.1488},{"$f":"IFERROR(VLOOKUP(K14,'Prix de revient'!$A:$D,4,0),0)","v":0},{"$f":"IFERROR(VLOOKUP(L14,'Prix de revient'!$A:$D,4,0),0)","v":5.3719999999999999},{"$f":"IFERROR(VLOOKUP(M14,'Prix de revient'!$A:$D,4,0),0)","v":0},{"$f":"IFERROR(VLOOKUP(N14,'Prix de revient'!$A:$D,4,0),0)","v":0},{"$f":"IFERROR(VLOOKUP(O14,'Prix de revient'!$A:$D,4,0),0)","v":0},{"$f":"IFERROR(VLOOKUP(P14,'Prix de revient'!$A:$D,4,0),0)","v":0},{"$f":"IFERROR(VLOOKUP(Q14,'Prix de revient'!$A:$D,4,0),0)","v":0},{"$f":"IFERROR(VLOOKUP(R14,'Prix de revient'!$A:$D,4,0),0)","v":0},{"$f":"IFERROR(VLOOKUP(S14,'Prix de revient'!$A:$D,4,0),0)","v":0.44240000000000007}]
[null,"coût de rebuts",null,{"$f":"D26*D31","v":0},{"$f":"E26*E31","v":0},0,0,0,0,0,0,0,0,0,0,0,0,0,0,{"$f":"SUM(D32:S32)","v":0}]
[null,"gestion de modification"]
[]
[]
[]
[]
[]
[]
[]
[null,null,"Clients","Audit","Réclamation","Avoir",null,"Fournisseurs/ sous-traitants","Réception de matiere","Probleme qualité",null,"Les formations professionnelles","Cout","Chiffrage décliné","Actions à suivre",null,"Article qui a subit un tri","durée du tri","Nombre des pieces non-conformes","ouvrier faisant le tri","cout par tri",null,"Article qui a subit la reprise","durée de la reprise","opérateur faisant la reprise","coût de reprise",null,null,null,"Machine ","article","gamme","objet de la modification"]
[null,null,null,null,null,null,null,null,null,null,null,null,null,null,null,null,null,null,null,null,{"$f":"IF(R42=\"\",\"\",R42*VLOOKUP(T42,'cout opérateur machines'!A1:B8,2,0))","v":""},null,null,null,null,{"$f":"X42*8","v":0}]
[null,null,null,null,null,null,null,null,null,null,null,null,null,null,null,null,null,null,null,null,{"$f":"IF(R43=\"\",\"\",R43*VLOOKUP(T43,'cout opérateur machines'!A2:B9,2,0))","v":""},null,null,null,null,{"$f":"X43*8","v":0}]
[null,null,null,null,null,null,null,null,null,null,null,null,null,null,null,null,null,null,null,null,{"$f":"IF(R44=\"\",\"\",R44*VLOOKUP(T44,'cout opérateur machines'!A3:B10,2,0))","v":""},null,null,null,null,0]
[null,null,null,null,null,null,null,null,null,null,null,null,null,null,null,null,null,null,null,null,{"$f":"IF(R45=\"\",\"\",R45*VLOOKUP(T45,'cout opérateur machines'!A4:B11,2,0))","v":""},null,null,null,null,0]
[null,null,null,null,null,null,null,null,null,null,null,null,null,null,null,null,null,null,null,null,{"$f":"IF(R46=\"\",\"\",R46*VLOOKUP(T46,'cout opérateur machines'!A5:B12,2,0))","v":""},null,null,null,null,0]
[null,null,null,null,null,null,null,null,null,null,null,null,null,null,null,null,null,null,null,null,{"$f":"IF(R47=\"\",\"\",R47*VLOOKUP(T47,'cout opérateur machines'!A6:B13,2,0))","v":""},null,null,null,null,0]
[null,null,null,null,{"$f":"COUNTA(E42:E47)","v":0},{"$f":"SUM(F42:F47)","v":0},null,null,null,null,null,null,{"$f":"SUM(M42:M47)","v":0},"causes de refus",null,null,null,null,"cout total du jour",null,{"$f":"SUM(U42:U47)","v":0},null,null,null,null,0]
[null,null,null,null,null,null,null,"envoi des réclamations F/ S-T","réponse F/ S-T","alerte",null,null,null,null,null,null,null,null,null,null,null,null,null,null,null,{"$f":"SUM(Z42:Z48)","v":0}]
[null,null,"dans le cas d'une réclamation",null,null,null,null,null,null,{"$f":"IF(J42=\"\",\"\",IF(H50=0,\" réclamation non traitée\",IF(I50=0, \"veuillez contacter le F/ S-T par téléphone\",\"\")))","v":""},null,null,null,null,null,null,null,null,"N° mois",null,3]
[null,null,"nombre de pièces NC",null,null,null,null,null,null,{"$f":"IF(J43=\"\",\"\",IF(H51=0,\" réclamation non traitée\",IF(I51=0, \"veuillez contacter le F/ S-T par téléphone\",\"\")))","v":""}]
[null,null,"nombre de pièces par carton",null,null,null,null,null,null,""]
[null,null,"coût de transport par carton",null,null,null,null,null,null,""]
[null,null,"nombre de cartons renvoyés",null,null,null,null,null,null,""]
[null,null,"temps de tri",null,null,null,null,null,null,""]
[null,null,"coût horaire de tri"]
[null,null,"temps de retouche"]
[null,null,"coût horaire de retouche"]
[null,null,"temps de traitement de la réclamation"]
[null,null,"coût horaire de traitement"]
[null,null,"coût total",{"$f":"IFERROR(((D51/D52)*D53)+D54*D53+D55*D56+D57*D58+D59*D60,\"\")","v":""}]

{"sheet":"26-3-22","index":34,"n_rows":61,"n_cols":33,"rows_kept":61,"cut":false,"hidden":false,"merged":[[31,1,31,2],[32,1,32,2],[47,18,47,19],[49,18,49,19],[25,1,25,2],[26,1,26,2],[27,1,27,2],[28,1,28,2],[29,1,29,2],[30,1,30,2],[24,1,24,2],[12,1,12,2],[13,1,13,2],[14,1,14,2],[15,1,15,2],[16,1,16,2],[17,1,18,1],[19,1,19,2],[20,1,20,2],[21,1,21,2],[22,1,22,2],[23,1,23,2],[1,2,4,3],[1,4,4,16],[1,17,1,19],[1,21,1,23],[2,17,2,19],[2,21,2,23],[3,17,3,19],[3,21,3,23],[4,17,4,19],[4,21,4,23]]}
[]
[null,null,null,null,"Rapport journalier",null,null,null,null,null,null,null,null,null,null,null,null,"Code:DAS-SMQ-24"]
[null,null,null,null,null,null,null,null,null,null,null,null,null,null,null,null,null,"Date: 27/12/2019"]
[null,null,null,null,null,null,null,null,null,null,null,null,null,null,null,null,null,"Version:01"]
[null,null,null,null,null,null,null,null,null,null,null,null,null,null,null,null,null,"Page:1"]
[]
[]
[]
[]
[]
[]
[null,null,null,"A","B","C","D","E","F","M","N","O","P","I","L","K","J","G","H"]
[null,"Machine",null,"SST16","SB16","BIGLIA 301 SM","BIGLIA 42 S2M bitourelle","L32","TSUGAMI","MORI SEIKI 3 axes","MORI SEIKI 5 axes","HARDING","KITAMURA","MULTIBROCHE","NAKAMURA","TOUR WEILER"]
[null,"Référence",null,200101,"G022-CP1","230500","MI018-B42","200200-2022","i097-tsughami ","I110-01-004","PIG-11D","480387-SF-pf","9518-maj","MPS000300","I007","I143-CP1","PT8666",68.081500000000005,"outi-plot"]
[null,"Désignation",null,"AXE D'ARTICULATION ","AXE D15-M11x100","BRAS DE MANOEUVRE  G  MAN","GOUJON DE ROUE MITSIBITCHI GM-SUR-B42","Embout de tige-2022","ECROU DE ROUE FORD RANGER- finition rayon ","INSERT LEVIER SURMOULEE 345833-01 - fraisage ","PIGNON 11 DENTS FRAISAGE","EVACUATION 2/3G X-ONE-harding-CARRE+M4","USINAGE BORNE RBD-1 ","raccord HEX 17","ECROU SEMI ARBRE ISUZU","ECROU DE ROUE ISUZU-CP1","Rehausse-NAKAMURHA","Buse droite à collerette Ø8 M445 FRD","plot nez de marche"]
[null,"Compteur 8h ",null,6195,2482,1064,7144,4771,2660,1001,0,0,4296,0,0,2362,1577,4262,816]
[null,"Compteur 17h",null,6195,2744,1083,7360,4771,2918,1025,0,4,4405,0,114,2610,2200,4648,816]
[null,"Enregistrement","9h"]
[null,null,"16h"]
[null,"Identification"]
[null,"Propreté des tables de contrôle"]
[null,"Rangement des outils de contrôle"]
[null,"Existance de l'OF"]
[null,"Affutage",null,null,null,null,null,null,null,null,null,null,null,null,null,null,null,null,null,{"$f":"+COUNTA(D24:S24)","v":0}]
[null,"Maintenance"]
[null,"Nombre des NC poubelle "]
[null,"Nombre des NC à retoucher"]
[null,"Machine pour retouche"]
[null,"Panne"]
[null,"Cout pièces de rechange",null,null,null,null,null,null,null,null,null,null,null,null,null,null,null,null,null,{"$f":"SUM(D30:S30)","v":0}]
[null,"prix de revient pièce",null,{"$f":"IFERROR(VLOOKUP(D14,'Prix de revient'!$A:$D,4,0),0)","v":0.50560000000000005},{"$f":"IFERROR(VLOOKUP(E14,'Prix de revient'!$A:$D,4,0),0)","v":0},{"$f":"IFERROR(VLOOKUP(F14,'Prix de revient'!$A:$D,4,0),0)","v":0},{"$f":"IFERROR(VLOOKUP(G14,'Prix de revient'!$A:$D,4,0),0)","v":0},{"$f":"IFERROR(VLOOKUP(H14,'Prix de revient'!$A:$D,4,0),0)","v":0},{"$f":"IFERROR(VLOOKUP(I14,'Prix de revient'!$A:$D,4,0),0)","v":0},{"$f":"IFERROR(VLOOKUP(J14,'Prix de revient'!$A:$D,4,0),0)","v":2.1488},{"$f":"IFERROR(VLOOKUP(K14,'Prix de revient'!$A:$D,4,0),0)","v":0},{"$f":"IFERROR(VLOOKUP(L14,'Prix de revient'!$A:$D,4,0),0)","v":0},{"$f":"IFERROR(VLOOKUP(M14,'Prix de revient'!$A:$D,4,0),0)","v":0},{"$f":"IFERROR(VLOOKUP(N14,'Prix de revient'!$A:$D,4,0),0)","v":0},{"$f":"IFERROR(VLOOKUP(O14,'Prix de revient'!$A:$D,4,0),0)","v":0},{"$f":"IFERROR(VLOOKUP(P14,'Prix de revient'!$A:$D,4,0),0)","v":0},{"$f":"IFERROR(VLOOKUP(Q14,'Prix de revient'!$A:$D,4,0),0)","v":0},{"$f":"IFERROR(VLOOKUP(R14,'Prix de revient'!$A:$D,4,0),0)","v":0},{"$f":"IFERROR(VLOOKUP(S14,'Prix de revient'!$A:$D,4,0),0)","v":0.44240000000000007}]
[null,"coût de rebuts",null,{"$f":"D26*D31","v":0},{"$f":"E26*E31","v":0},0,0,0,0,0,0,0,0,0,0,0,0,0,0,{"$f":"SUM(D32:S32)","v":0}]
[null,"gestion de modification"]
[]
[]
[]
[]
[]
[]
[]
[null,null,"Clients","Audit","Réclamation","Avoir",null,"Fournisseurs/ sous-traitants","Réception de matiere","Probleme qualité",null,"Les formations professionnelles","Cout","Chiffrage décliné","Actions à suivre",null,"Article qui a subit un tri","durée du tri","Nombre des pieces non-conformes","ouvrier faisant le tri","cout par tri",null,"Article qui a subit la reprise","durée de la reprise","opérateur faisant la reprise","coût de reprise",null,null,null,"Machine ","article","gamme","objet de la modification"]
[null,null,null,null,null,null,null,null,null,null,null,null,null,null,null,null,null,null,null,null,{"$f":"IF(R42=\"\",\"\",R42*VLOOKUP(T42,'cout opérateur machines'!A1:B8,2,0))","v":""},null,null,null,null,{"$f":"X42*8","v":0}]
[null,null,null,null,null,null,null,null,null,null,null,null,null,null,null,null,null,null,null,null,{"$f":"IF(R43=\"\",\"\",R43*VLOOKUP(T43,'cout opérateur machines'!A2:B9,2,0))","v":""},null,null,null,null,{"$f":"X43*8","v":0}]
[null,null,null,null,null,null,null,null,null,null,null,null,null,null,null,null,null,null,null,null,{"$f":"IF(R44=\"\",\"\",R44*VLOOKUP(T44,'cout opérateur machines'!A3:B10,2,0))","v":""},null,null,null,null,0]
[null,null,null,null,null,null,null,null,null,null,null,null,null,null,null,null,null,null,null,null,{"$f":"IF(R45=\"\",\"\",R45*VLOOKUP(T45,'cout opérateur machines'!A4:B11,2,0))","v":""},null,null,null,null,0]
[null,null,null,null,null,null,null,null,null,null,null,null,null,null,null,null,null,null,null,null,{"$f":"IF(R46=\"\",\"\",R46*VLOOKUP(T46,'cout opérateur machines'!A5:B12,2,0))","v":""},null,null,null,null,0]
[null,null,null,null,null,null,null,null,null,null,null,null,null,null,null,null,null,null,null,null,{"$f":"IF(R47=\"\",\"\",R47*VLOOKUP(T47,'cout opérateur machines'!A6:B13,2,0))","v":""},null,null,null,null,0]
[null,null,null,null,{"$f":"COUNTA(E42:E47)","v":0},{"$f":"SUM(F42:F47)","v":0},null,null,null,null,null,null,{"$f":"SUM(M42:M47)","v":0},"causes de refus",null,null,null,null,"cout total du jour",null,{"$f":"SUM(U42:U47)","v":0},null,null,null,null,0]
[null,null,null,null,null,null,null,"envoi des réclamations F/ S-T","réponse F/ S-T","alerte",null,null,null,null,null,null,null,null,null,null,null,null,null,null,null,{"$f":"SUM(Z42:Z48)","v":0}]
[null,null,"dans le cas d'une réclamation",null,null,null,null,null,null,{"$f":"IF(J42=\"\",\"\",IF(H50=0,\" réclamation non traitée\",IF(I50=0, \"veuillez contacter le F/ S-T par téléphone\",\"\")))","v":""},null,null,null,null,null,null,null,null,"N° mois",null,3]
[null,null,"nombre de pièces NC",null,null,null,null,null,null,{"$f":"IF(J43=\"\",\"\",IF(H51=0,\" réclamation non traitée\",IF(I51=0, \"veuillez contacter le F/ S-T par téléphone\",\"\")))","v":""}]
[null,null,"nombre de pièces par carton",null,null,null,null,null,null,""]
[null,null,"coût de transport par carton",null,null,null,null,null,null,""]
[null,null,"nombre de cartons renvoyés",null,null,null,null,null,null,""]
[null,null,"temps de tri",null,null,null,null,null,null,""]
[null,null,"coût horaire de tri"]
[null,null,"temps de retouche"]
[null,null,"coût horaire de retouche"]
[null,null,"temps de traitement de la réclamation"]
[null,null,"coût horaire de traitement"]
[null,null,"coût total",{"$f":"IFERROR(((D51/D52)*D53)+D54*D53+D55*D56+D57*D58+D59*D60,\"\")","v":""}]

{"sheet":"25-3-22","index":35,"n_rows":61,"n_cols":33,"rows_kept":61,"cut":false,"hidden":false,"merged":[[31,1,31,2],[32,1,32,2],[47,18,47,19],[49,18,49,19],[25,1,25,2],[26,1,26,2],[27,1,27,2],[28,1,28,2],[29,1,29,2],[30,1,30,2],[24,1,24,2],[12,1,12,2],[13,1,13,2],[14,1,14,2],[15,1,15,2],[16,1,16,2],[17,1,18,1],[19,1,19,2],[20,1,20,2],[21,1,21,2],[22,1,22,2],[23,1,23,2],[1,2,4,3],[1,4,4,16],[1,17,1,19],[1,21,1,23],[2,17,2,19],[2,21,2,23],[3,17,3,19],[3,21,3,23],[4,17,4,19],[4,21,4,23]]}
[]
[null,null,null,null,"Rapport journalier",null,null,null,null,null,null,null,null,null,null,null,null,"Code:DAS-SMQ-24"]
[null,null,null,null,null,null,null,null,null,null,null,null,null,null,null,null,null,"Date: 27/12/2019"]
[null,null,null,null,null,null,null,null,null,null,null,null,null,null,null,null,null,"Version:01"]
[null,null,null,null,null,null,null,null,null,null,null,null,null,null,null,null,null,"Page:1"]
[]
[]
[]
[]
[]
[]
[null,null,null,"A","B","C","D","E","F","M","N","O","P","I","L","K","J","G","H"]
[null,"Machine",null,"SST16","SB16","BIGLIA 301 SM","BIGLIA 42 S2M bitourelle","L32","TSUGAMI","MORI SEIKI 3 axes","MORI SEIKI 5 axes","HARDING","KITAMURA","MULTIBROCHE","NAKAMURA","TOUR WEILER"]
[null,"Référence",null,200101,"G022-CP1","230500","MI018-B42","200200-2022","i097-tsughami ","I110-01-004","PIG-11D","I006","9518-maj","MPS000300","F046-CP2","I143-CP1","PT8666",68.081500000000005,"outi-plot"]
[null,"Désignation",null,"AXE D'ARTICULATION ","AXE D15-M11x100","BRAS DE MANOEUVRE  G  MAN","GOUJON DE ROUE MITSIBITCHI GM-SUR-B42","Embout de tige-2022","ECROU DE ROUE FORD RANGER- finition rayon ","INSERT LEVIER SURMOULEE 345833-01 - fraisage ","PIGNON 11 DENTS FRAISAGE","CAL SUSPENSION PM ISUZU-HARDING","USINAGE BORNE RBD-1 ","raccord HEX 17","BADUE DECOLLETTE TUBE D'EAU PALIO-CP2","ECROU DE ROUE ISUZU-CP1","Rehausse-NAKAMURHA","Buse droite à collerette Ø8 M445 FRD","plot nez de marche"]
[null,"Compteur 8h ",null,5181,2057,867,6776,4771,1968,969,0,0,4167,0,720,1922,977,3731,313]
[null,"Compteur 17h",null,6195,2482,1064,7144,4771,2660,1001,0,0,4296,0,768,2362,1577,4262,816]
[null,"Enregistrement","9h"]
[null,null,"16h"]
[null,"Identification"]
[null,"Propreté des tables de contrôle"]
[null,"Rangement des outils de contrôle"]
[null,"Existance de l'OF"]
[null,"Affutage",null,null,null,null,null,null,null,null,null,null,null,null,null,null,null,null,null,{"$f":"+COUNTA(D24:S24)","v":0}]
[null,"Maintenance"]
[null,"Nombre des NC poubelle "]
[null,"Nombre des NC à retoucher"]
[null,"Machine pour retouche"]
[null,"Panne"]
[null,"Cout pièces de rechange",null,null,null,null,null,null,null,null,null,null,null,null,null,null,null,null,null,{"$f":"SUM(D30:S30)","v":0}]
[null,"prix de revient pièce",null,{"$f":"IFERROR(VLOOKUP(D14,'Prix de revient'!$A:$D,4,0),0)","v":0.50560000000000005},{"$f":"IFERROR(VLOOKUP(E14,'Prix de revient'!$A:$D,4,0),0)","v":0},{"$f":"IFERROR(VLOOKUP(F14,'Prix de revient'!$A:$D,4,0),0)","v":0},{"$f":"IFERROR(VLOOKUP(G14,'Prix de revient'!$A:$D,4,0),0)","v":0},{"$f":"IFERROR(VLOOKUP(H14,'Prix de revient'!$A:$D,4,0),0)","v":0},{"$f":"IFERROR(VLOOKUP(I14,'Prix de revient'!$A:$D,4,0),0)","v":0},{"$f":"IFERROR(VLOOKUP(J14,'Prix de revient'!$A:$D,4,0),0)","v":2.1488},{"$f":"IFERROR(VLOOKUP(K14,'Prix de revient'!$A:$D,4,0),0)","v":0},{"$f":"IFERROR(VLOOKUP(L14,'Prix de revient'!$A:$D,4,0),0)","v":0},{"$f":"IFERROR(VLOOKUP(M14,'Prix de revient'!$A:$D,4,0),0)","v":0},{"$f":"IFERROR(VLOOKUP(N14,'Prix de revient'!$A:$D,4,0),0)","v":0},{"$f":"IFERROR(VLOOKUP(O14,'Prix de revient'!$A:$D,4,0),0)","v":0},{"$f":"IFERROR(VLOOKUP(P14,'Prix de revient'!$A:$D,4,0),0)","v":0},{"$f":"IFERROR(VLOOKUP(Q14,'Prix de revient'!$A:$D,4,0),0)","v":0},{"$f":"IFERROR(VLOOKUP(R14,'Prix de revient'!$A:$D,4,0),0)","v":0},{"$f":"IFERROR(VLOOKUP(S14,'Prix de revient'!$A:$D,4,0),0)","v":0.44240000000000007}]
[null,"coût de rebuts",null,{"$f":"D26*D31","v":0},{"$f":"E26*E31","v":0},0,0,0,0,0,0,0,0,0,0,0,0,0,0,{"$f":"SUM(D32:S32)","v":0}]
[null,"gestion de modification"]
[]
[]
[]
[]
[]
[]
[]
[null,null,"Clients","Audit","Réclamation","Avoir",null,"Fournisseurs/ sous-traitants","Réception de matiere","Probleme qualité",null,"Les formations professionnelles","Cout","Chiffrage décliné","Actions à suivre",null,"Article qui a subit un tri","durée du tri","Nombre des pieces non-conformes","ouvrier faisant le tri","cout par tri",null,"Article qui a subit la reprise","durée de la reprise","opérateur faisant la reprise","coût de reprise",null,null,null,"Machine ","article","gamme","objet de la modification"]
[null,null,null,null,null,null,null,null,null,null,null,null,null,null,null,null,null,null,null,null,{"$f":"IF(R42=\"\",\"\",R42*VLOOKUP(T42,'cout opérateur machines'!A1:B8,2,0))","v":""},null,null,null,null,{"$f":"X42*8","v":0}]
[null,null,null,null,null,null,null,null,null,null,null,null,null,null,null,null,null,null,null,null,{"$f":"IF(R43=\"\",\"\",R43*VLOOKUP(T43,'cout opérateur machines'!A2:B9,2,0))","v":""},null,null,null,null,{"$f":"X43*8","v":0}]
[null,null,null,null,null,null,null,null,null,null,null,null,null,null,null,null,null,null,null,null,{"$f":"IF(R44=\"\",\"\",R44*VLOOKUP(T44,'cout opérateur machines'!A3:B10,2,0))","v":""},null,null,null,null,0]
[null,null,null,null,null,null,null,null,null,null,null,null,null,null,null,null,null,null,null,null,{"$f":"IF(R45=\"\",\"\",R45*VLOOKUP(T45,'cout opérateur machines'!A4:B11,2,0))","v":""},null,null,null,null,0]
[null,null,null,null,null,null,null,null,null,null,null,null,null,null,null,null,null,null,null,null,{"$f":"IF(R46=\"\",\"\",R46*VLOOKUP(T46,'cout opérateur machines'!A5:B12,2,0))","v":""},null,null,null,null,0]
[null,null,null,null,null,null,null,null,null,null,null,null,null,null,null,null,null,null,null,null,{"$f":"IF(R47=\"\",\"\",R47*VLOOKUP(T47,'cout opérateur machines'!A6:B13,2,0))","v":""},null,null,null,null,0]
[null,null,null,null,{"$f":"COUNTA(E42:E47)","v":0},{"$f":"SUM(F42:F47)","v":0},null,null,null,null,null,null,{"$f":"SUM(M42:M47)","v":0},"causes de refus",null,null,null,null,"cout total du jour",null,{"$f":"SUM(U42:U47)","v":0},null,null,null,null,0]
[null,null,null,null,null,null,null,"envoi des réclamations F/ S-T","réponse F/ S-T","alerte",null,null,null,null,null,null,null,null,null,null,null,null,null,null,null,{"$f":"SUM(Z42:Z48)","v":0}]
[null,null,"dans le cas d'une réclamation",null,null,null,null,null,null,{"$f":"IF(J42=\"\",\"\",IF(H50=0,\" réclamation non traitée\",IF(I50=0, \"veuillez contacter le F/ S-T par téléphone\",\"\")))","v":""},null,null,null,null,null,null,null,null,"N° mois",null,3]
[null,null,"nombre de pièces NC",null,null,null,null,null,null,{"$f":"IF(J43=\"\",\"\",IF(H51=0,\" réclamation non traitée\",IF(I51=0, \"veuillez contacter le F/ S-T par téléphone\",\"\")))","v":""}]
[null,null,"nombre de pièces par carton",null,null,null,null,null,null,""]
[null,null,"coût de transport par carton",null,null,null,null,null,null,""]
[null,null,"nombre de cartons renvoyés",null,null,null,null,null,null,""]
[null,null,"temps de tri",null,null,null,null,null,null,""]
[null,null,"coût horaire de tri"]
[null,null,"temps de retouche"]
[null,null,"coût horaire de retouche"]
[null,null,"temps de traitement de la réclamation"]
[null,null,"coût horaire de traitement"]
[null,null,"coût total",{"$f":"IFERROR(((D51/D52)*D53)+D54*D53+D55*D56+D57*D58+D59*D60,\"\")","v":""}]

{"sheet":"24-3-22","index":36,"n_rows":61,"n_cols":33,"rows_kept":61,"cut":false,"hidden":false,"merged":[[31,1,31,2],[32,1,32,2],[47,18,47,19],[49,18,49,19],[25,1,25,2],[26,1,26,2],[27,1,27,2],[28,1,28,2],[29,1,29,2],[30,1,30,2],[24,1,24,2],[12,1,12,2],[13,1,13,2],[14,1,14,2],[15,1,15,2],[16,1,16,2],[17,1,18,1],[19,1,19,2],[20,1,20,2],[21,1,21,2],[22,1,22,2],[23,1,23,2],[1,2,4,3],[1,4,4,16],[1,17,1,19],[1,21,1,23],[2,17,2,19],[2,21,2,23],[3,17,3,19],[3,21,3,23],[4,17,4,19],[4,21,4,23]]}
[]
[null,null,null,null,"Rapport journalier",null,null,null,null,null,null,null,null,null,null,null,null,"Code:DAS-SMQ-24"]
[null,null,null,null,null,null,null,null,null,null,null,null,null,null,null,null,null,"Date: 27/12/2019"]
[null,null,null,null,null,null,null,null,null,null,null,null,null,null,null,null,null,"Version:01"]
[null,null,null,null,null,null,null,null,null,null,null,null,null,null,null,null,null,"Page:1"]
[]
[]
[]
[]
[]
[]
[null,null,null,"A","B","C","D","E","F","M","N","O","P","I","L","K","J","G","H"]
[null,"Machine",null,"SST16","SB16","BIGLIA 301 SM","BIGLIA 42 S2M bitourelle","L32","TSUGAMI","MORI SEIKI 3 axes","MORI SEIKI 5 axes","HARDING","KITAMURA","MULTIBROCHE","NAKAMURA","TOUR WEILER"]
[null,"Référence",null,200101,"G022-CP1","230500","MI018-B42","200200-2022","i097-tsughami ","I110-01-004","PIG-11D","I006","9518-maj","MPS000300","F046-CP2","I143-CP1","PT8666",68.081500000000005,"outi-plot"]
[null,"Désignation",null,"AXE D'ARTICULATION ","AXE D15-M11x100","BRAS DE MANOEUVRE  G  MAN","GOUJON DE ROUE MITSIBITCHI GM-SUR-B42","Embout de tige-2022","ECROU DE ROUE FORD RANGER- finition rayon ","INSERT LEVIER SURMOULEE 345833-01 - fraisage ","PIGNON 11 DENTS FRAISAGE","CAL SUSPENSION PM ISUZU-HARDING","USINAGE BORNE RBD-1 ","raccord HEX 17","BADUE DECOLLETTE TUBE D'EAU PALIO-CP2","ECROU DE ROUE ISUZU-CP1","Rehausse-NAKAMURHA","Buse droite à collerette Ø8 M445 FRD","plot nez de marche"]
[null,"Compteur 8h ",null,3885,1725,616,6480,4771,1386,941,270,0,3975,0,610,1448,507,3120,0]
[null,"Compteur 17h",null,5181,2057,867,6776,4771,1968,969,270,0,4167,0,720,1922,977,3731,313]
[null,"Enregistrement","9h"]
[null,null,"16h"]
[null,"Identification"]
[null,"Propreté des tables de contrôle"]
[null,"Rangement des outils de contrôle"]
[null,"Existance de l'OF"]
[null,"Affutage",null,null,null,null,null,null,null,null,null,null,null,null,null,null,null,null,null,{"$f":"+COUNTA(D24:S24)","v":0}]
[null,"Maintenance"]
[null,"Nombre des NC poubelle "]
[null,"Nombre des NC à retoucher"]
[null,"Machine pour retouche"]
[null,"Panne"]
[null,"Cout pièces de rechange",null,null,null,null,null,null,null,null,null,null,null,null,null,null,null,null,null,{"$f":"SUM(D30:S30)","v":0}]
[null,"prix de revient pièce",null,{"$f":"IFERROR(VLOOKUP(D14,'Prix de revient'!$A:$D,4,0),0)","v":0.50560000000000005},{"$f":"IFERROR(VLOOKUP(E14,'Prix de revient'!$A:$D,4,0),0)","v":0},{"$f":"IFERROR(VLOOKUP(F14,'Prix de revient'!$A:$D,4,0),0)","v":0},{"$f":"IFERROR(VLOOKUP(G14,'Prix de revient'!$A:$D,4,0),0)","v":0},{"$f":"IFERROR(VLOOKUP(H14,'Prix de revient'!$A:$D,4,0),0)","v":0},{"$f":"IFERROR(VLOOKUP(I14,'Prix de revient'!$A:$D,4,0),0)","v":0},{"$f":"IFERROR(VLOOKUP(J14,'Prix de revient'!$A:$D,4,0),0)","v":2.1488},{"$f":"IFERROR(VLOOKUP(K14,'Prix de revient'!$A:$D,4,0),0)","v":0},{"$f":"IFERROR(VLOOKUP(L14,'Prix de revient'!$A:$D,4,0),0)","v":0},{"$f":"IFERROR(VLOOKUP(M14,'Prix de revient'!$A:$D,4,0),0)","v":0},{"$f":"IFERROR(VLOOKUP(N14,'Prix de revient'!$A:$D,4,0),0)","v":0},{"$f":"IFERROR(VLOOKUP(O14,'Prix de revient'!$A:$D,4,0),0)","v":0},{"$f":"IFERROR(VLOOKUP(P14,'Prix de revient'!$A:$D,4,0),0)","v":0},{"$f":"IFERROR(VLOOKUP(Q14,'Prix de revient'!$A:$D,4,0),0)","v":0},{"$f":"IFERROR(VLOOKUP(R14,'Prix de revient'!$A:$D,4,0),0)","v":0},{"$f":"IFERROR(VLOOKUP(S14,'Prix de revient'!$A:$D,4,0),0)","v":0.44240000000000007}]
[null,"coût de rebuts",null,{"$f":"D26*D31","v":0},{"$f":"E26*E31","v":0},0,0,0,0,0,0,0,0,0,0,0,0,0,0,{"$f":"SUM(D32:S32)","v":0}]
[null,"gestion de modification"]
[]
[]
[]
[]
[]
[]
[]
[null,null,"Clients","Audit","Réclamation","Avoir",null,"Fournisseurs/ sous-traitants","Réception de matiere","Probleme qualité",null,"Les formations professionnelles","Cout","Chiffrage décliné","Actions à suivre",null,"Article qui a subit un tri","durée du tri","Nombre des pieces non-conformes","ouvrier faisant le tri","cout par tri",null,"Article qui a subit la reprise","durée de la reprise","opérateur faisant la reprise","coût de reprise",null,null,null,"Machine ","article","gamme","objet de la modification"]
[null,null,null,null,null,null,null,null,null,null,null,null,null,null,null,null,null,null,null,null,{"$f":"IF(R42=\"\",\"\",R42*VLOOKUP(T42,'cout opérateur machines'!A1:B8,2,0))","v":""},null,null,null,null,{"$f":"X42*8","v":0}]
[null,null,null,null,null,null,null,null,null,null,null,null,null,null,null,null,null,null,null,null,{"$f":"IF(R43=\"\",\"\",R43*VLOOKUP(T43,'cout opérateur machines'!A2:B9,2,0))","v":""},null,null,null,null,{"$f":"X43*8","v":0}]
[null,null,null,null,null,null,null,null,null,null,null,null,null,null,null,null,null,null,null,null,{"$f":"IF(R44=\"\",\"\",R44*VLOOKUP(T44,'cout opérateur machines'!A3:B10,2,0))","v":""},null,null,null,null,0]
[null,null,null,null,null,null,null,null,null,null,null,null,null,null,null,null,null,null,null,null,{"$f":"IF(R45=\"\",\"\",R45*VLOOKUP(T45,'cout opérateur machines'!A4:B11,2,0))","v":""},null,null,null,null,0]
[null,null,null,null,null,null,null,null,null,null,null,null,null,null,null,null,null,null,null,null,{"$f":"IF(R46=\"\",\"\",R46*VLOOKUP(T46,'cout opérateur machines'!A5:B12,2,0))","v":""},null,null,null,null,0]
[null,null,null,null,null,null,null,null,null,null,null,null,null,null,null,null,null,null,null,null,{"$f":"IF(R47=\"\",\"\",R47*VLOOKUP(T47,'cout opérateur machines'!A6:B13,2,0))","v":""},null,null,null,null,0]
[null,null,null,null,{"$f":"COUNTA(E42:E47)","v":0},{"$f":"SUM(F42:F47)","v":0},null,null,null,null,null,null,{"$f":"SUM(M42:M47)","v":0},"causes de refus",null,null,null,null,"cout total du jour",null,{"$f":"SUM(U42:U47)","v":0},null,null,null,null,0]
[null,null,null,null,null,null,null,"envoi des réclamations F/ S-T","réponse F/ S-T","alerte",null,null,null,null,null,null,null,null,null,null,null,null,null,null,null,{"$f":"SUM(Z42:Z48)","v":0}]
[null,null,"dans le cas d'une réclamation",null,null,null,null,null,null,{"$f":"IF(J42=\"\",\"\",IF(H50=0,\" réclamation non traitée\",IF(I50=0, \"veuillez contacter le F/ S-T par téléphone\",\"\")))","v":""},null,null,null,null,null,null,null,null,"N° mois",null,3]
[null,null,"nombre de pièces NC",null,null,null,null,null,null,{"$f":"IF(J43=\"\",\"\",IF(H51=0,\" réclamation non traitée\",IF(I51=0, \"veuillez contacter le F/ S-T par téléphone\",\"\")))","v":""}]
[null,null,"nombre de pièces par carton",null,null,null,null,null,null,""]
[null,null,"coût de transport par carton",null,null,null,null,null,null,""]
[null,null,"nombre de cartons renvoyés",null,null,null,null,null,null,""]
[null,null,"temps de tri",null,null,null,null,null,null,""]
[null,null,"coût horaire de tri"]
[null,null,"temps de retouche"]
[null,null,"coût horaire de retouche"]
[null,null,"temps de traitement de la réclamation"]
[null,null,"coût horaire de traitement"]
[null,null,"coût total",{"$f":"IFERROR(((D51/D52)*D53)+D54*D53+D55*D56+D57*D58+D59*D60,\"\")","v":""}]

{"sheet":"23-3-22","index":37,"n_rows":61,"n_cols":33,"rows_kept":61,"cut":false,"hidden":false,"merged":[[31,1,31,2],[32,1,32,2],[47,18,47,19],[49,18,49,19],[25,1,25,2],[26,1,26,2],[27,1,27,2],[28,1,28,2],[29,1,29,2],[30,1,30,2],[24,1,24,2],[12,1,12,2],[13,1,13,2],[14,1,14,2],[15,1,15,2],[16,1,16,2],[17,1,18,1],[19,1,19,2],[20,1,20,2],[21,1,21,2],[22,1,22,2],[23,1,23,2],[1,2,4,3],[1,4,4,16],[1,17,1,19],[1,21,1,23],[2,17,2,19],[2,21,2,23],[3,17,3,19],[3,21,3,23],[4,17,4,19],[4,21,4,23]]}
[]
[null,null,null,null,"Rapport journalier",null,null,null,null,null,null,null,null,null,null,null,null,"Code:DAS-SMQ-24"]
[null,null,null,null,null,null,null,null,null,null,null,null,null,null,null,null,null,"Date: 27/12/2019"]
[null,null,null,null,null,null,null,null,null,null,null,null,null,null,null,null,null,"Version:01"]
[null,null,null,null,null,null,null,null,null,null,null,null,null,null,null,null,null,"Page:1"]
[]
[]
[]
[]
[]
[]
[null,null,null,"A","B","C","D","E","F","M","N","O","P","I","L","K","J","G","H"]
[null,"Machine",null,"SST16","SB16","BIGLIA 301 SM","BIGLIA 42 S2M bitourelle","L32","TSUGAMI","MORI SEIKI 3 axes","MORI SEIKI 5 axes","HARDING","KITAMURA","MULTIBROCHE","NAKAMURA","TOUR WEILER"]
[null,"Référence",null,200101,"G022-CP1","230500","MI018-B42","200200-2022","i097-tsughami ","I110-01-004","PIG-11D","I006","I004","MPS000300","F046-CP2","I143-CP1","PT8666",68.081500000000005,"AXE-INOX-D8-L58-maj-c"]
[null,"Désignation",null,"AXE D'ARTICULATION ","AXE D15-M11x100","BRAS DE MANOEUVRE  G  MAN","GOUJON DE ROUE MITSIBITCHI GM-SUR-B42","Embout de tige-2022","ECROU DE ROUE FORD RANGER- finition rayon ","INSERT LEVIER SURMOULEE 345833-01 - fraisage ","PIGNON 11 DENTS FRAISAGE","CAL SUSPENSION PM ISUZU-HARDING","ECROU SUSPENSION ISUZU-HARDING","raccord HEX 17","BAGUE DECOLLETEE TUBE D'EAU PALIO -CP2","ECROU DE ROUE ISUZU-CP1","Rehausse-NAKAMURHA","Buse droite à collerette Ø8 M445 FRD","AXE INOX D8 L58 maj-c"]
[null,"Compteur 8h ",null,2574,1352,376,6251,4771,627,917,270,0,0,0,514,1086,127,2635,0]
[null,"Compteur 17h",null,3885,1725,616,6480,4771,1386,941,270,0,0,0,610,1448,507,3120,0]
[null,"Enregistrement","9h"]
[null,null,"16h"]
[null,"Identification"]
[null,"Propreté des tables de contrôle"]
[null,"Rangement des outils de contrôle"]
[null,"Existance de l'OF"]
[null,"Affutage",null,null,null,null,null,null,null,null,null,null,null,null,null,null,null,null,null,{"$f":"+COUNTA(D24:S24)","v":0}]
[null,"Maintenance"]
[null,"Nombre des NC poubelle "]
[null,"Nombre des NC à retoucher"]
[null,"Machine pour retouche"]
[null,"Panne"]
[null,"Cout pièces de rechange",null,null,null,null,null,null,null,null,null,null,null,null,null,null,null,null,null,{"$f":"SUM(D30:S30)","v":0}]
[null,"prix de revient pièce",null,{"$f":"IFERROR(VLOOKUP(D14,'Prix de revient'!$A:$D,4,0),0)","v":0.50560000000000005},{"$f":"IFERROR(VLOOKUP(E14,'Prix de revient'!$A:$D,4,0),0)","v":0},{"$f":"IFERROR(VLOOKUP(F14,'Prix de revient'!$A:$D,4,0),0)","v":0},{"$f":"IFERROR(VLOOKUP(G14,'Prix de revient'!$A:$D,4,0),0)","v":0},{"$f":"IFERROR(VLOOKUP(H14,'Prix de revient'!$A:$D,4,0),0)","v":0},{"$f":"IFERROR(VLOOKUP(I14,'Prix de revient'!$A:$D,4,0),0)","v":0},{"$f":"IFERROR(VLOOKUP(J14,'Prix de revient'!$A:$D,4,0),0)","v":2.1488},{"$f":"IFERROR(VLOOKUP(K14,'Prix de revient'!$A:$D,4,0),0)","v":0},{"$f":"IFERROR(VLOOKUP(L14,'Prix de revient'!$A:$D,4,0),0)","v":0},{"$f":"IFERROR(VLOOKUP(M14,'Prix de revient'!$A:$D,4,0),0)","v":0},{"$f":"IFERROR(VLOOKUP(N14,'Prix de revient'!$A:$D,4,0),0)","v":0},{"$f":"IFERROR(VLOOKUP(O14,'Prix de revient'!$A:$D,4,0),0)","v":0},{"$f":"IFERROR(VLOOKUP(P14,'Prix de revient'!$A:$D,4,0),0)","v":0},{"$f":"IFERROR(VLOOKUP(Q14,'Prix de revient'!$A:$D,4,0),0)","v":0},{"$f":"IFERROR(VLOOKUP(R14,'Prix de revient'!$A:$D,4,0),0)","v":0},{"$f":"IFERROR(VLOOKUP(S14,'Prix de revient'!$A:$D,4,0),0)","v":0}]
[null,"coût de rebuts",null,{"$f":"D26*D31","v":0},{"$f":"E26*E31","v":0},0,0,0,0,0,0,0,0,0,0,0,0,0,0,{"$f":"SUM(D32:S32)","v":0}]
[null,"gestion de modification"]
[]
[]
[]
[]
[]
[]
[]
[null,null,"Clients","Audit","Réclamation","Avoir",null,"Fournisseurs/ sous-traitants","Réception de matiere","Probleme qualité",null,"Les formations professionnelles","Cout","Chiffrage décliné","Actions à suivre",null,"Article qui a subit un tri","durée du tri","Nombre des pieces non-conformes","ouvrier faisant le tri","cout par tri",null,"Article qui a subit la reprise","durée de la reprise","opérateur faisant la reprise","coût de reprise",null,null,null,"Machine ","article","gamme","objet de la modification"]
[null,null,null,null,null,null,null,null,null,null,null,null,null,null,null,null,null,null,null,null,{"$f":"IF(R42=\"\",\"\",R42*VLOOKUP(T42,'cout opérateur machines'!A1:B8,2,0))","v":""},null,null,null,null,{"$f":"X42*8","v":0}]
[null,null,null,null,null,null,null,null,null,null,null,null,null,null,null,null,null,null,null,null,{"$f":"IF(R43=\"\",\"\",R43*VLOOKUP(T43,'cout opérateur machines'!A2:B9,2,0))","v":""},null,null,null,null,{"$f":"X43*8","v":0}]
[null,null,null,null,null,null,null,null,null,null,null,null,null,null,null,null,null,null,null,null,{"$f":"IF(R44=\"\",\"\",R44*VLOOKUP(T44,'cout opérateur machines'!A3:B10,2,0))","v":""},null,null,null,null,0]
[null,null,null,null,null,null,null,null,null,null,null,null,null,null,null,null,null,null,null,null,{"$f":"IF(R45=\"\",\"\",R45*VLOOKUP(T45,'cout opérateur machines'!A4:B11,2,0))","v":""},null,null,null,null,0]
[null,null,null,null,null,null,null,null,null,null,null,null,null,null,null,null,null,null,null,null,{"$f":"IF(R46=\"\",\"\",R46*VLOOKUP(T46,'cout opérateur machines'!A5:B12,2,0))","v":""},null,null,null,null,0]
[null,null,null,null,null,null,null,null,null,null,null,null,null,null,null,null,null,null,null,null,{"$f":"IF(R47=\"\",\"\",R47*VLOOKUP(T47,'cout opérateur machines'!A6:B13,2,0))","v":""},null,null,null,null,0]
[null,null,null,null,{"$f":"COUNTA(E42:E47)","v":0},{"$f":"SUM(F42:F47)","v":0},null,null,null,null,null,null,{"$f":"SUM(M42:M47)","v":0},"causes de refus",null,null,null,null,"cout total du jour",null,{"$f":"SUM(U42:U47)","v":0},null,null,null,null,0]
[null,null,null,null,null,null,null,"envoi des réclamations F/ S-T","réponse F/ S-T","alerte",null,null,null,null,null,null,null,null,null,null,null,null,null,null,null,{"$f":"SUM(Z42:Z48)","v":0}]
[null,null,"dans le cas d'une réclamation",null,null,null,null,null,null,{"$f":"IF(J42=\"\",\"\",IF(H50=0,\" réclamation non traitée\",IF(I50=0, \"veuillez contacter le F/ S-T par téléphone\",\"\")))","v":""},null,null,null,null,null,null,null,null,"N° mois",null,3]
[null,null,"nombre de pièces NC",null,null,null,null,null,null,{"$f":"IF(J43=\"\",\"\",IF(H51=0,\" réclamation non traitée\",IF(I51=0, \"veuillez contacter le F/ S-T par téléphone\",\"\")))","v":""}]
[null,null,"nombre de pièces par carton",null,null,null,null,null,null,""]
[null,null,"coût de transport par carton",null,null,null,null,null,null,""]
[null,null,"nombre de cartons renvoyés",null,null,null,null,null,null,""]
[null,null,"temps de tri",null,null,null,null,null,null,""]
[null,null,"coût horaire de tri"]
[null,null,"temps de retouche"]
[null,null,"coût horaire de retouche"]
[null,null,"temps de traitement de la réclamation"]
[null,null,"coût horaire de traitement"]
[null,null,"coût total",{"$f":"IFERROR(((D51/D52)*D53)+D54*D53+D55*D56+D57*D58+D59*D60,\"\")","v":""}]

{"sheet":"22-3-22","index":38,"n_rows":61,"n_cols":33,"rows_kept":61,"cut":false,"hidden":false,"merged":[[31,1,31,2],[32,1,32,2],[47,18,47,19],[49,18,49,19],[25,1,25,2],[26,1,26,2],[27,1,27,2],[28,1,28,2],[29,1,29,2],[30,1,30,2],[24,1,24,2],[12,1,12,2],[13,1,13,2],[14,1,14,2],[15,1,15,2],[16,1,16,2],[17,1,18,1],[19,1,19,2],[20,1,20,2],[21,1,21,2],[22,1,22,2],[23,1,23,2],[1,2,4,3],[1,4,4,16],[1,17,1,19],[1,21,1,23],[2,17,2,19],[2,21,2,23],[3,17,3,19],[3,21,3,23],[4,17,4,19],[4,21,4,23]]}
[]
[null,null,null,null,"Rapport journalier",null,null,null,null,null,null,null,null,null,null,null,null,"Code:DAS-SMQ-24"]
[null,null,null,null,null,null,null,null,null,null,null,null,null,null,null,null,null,"Date: 27/12/2019"]
[null,null,null,null,null,null,null,null,null,null,null,null,null,null,null,null,null,"Version:01"]
[null,null,null,null,null,null,null,null,null,null,null,null,null,null,null,null,null,"Page:1"]
[]
[]
[]
[]
[]
[]
[null,null,null,"A","B","C","D","E","F","M","N","O","P","I","L","K","J","G","H"]
[null,"Machine",null,"SST16","SB16","BIGLIA 301 SM","BIGLIA 42 S2M bitourelle","L32","TSUGAMI","MORI SEIKI 3 axes","MORI SEIKI 5 axes","HARDING","KITAMURA","MULTIBROCHE","NAKAMURA","TOUR WEILER"]
[null,"Référence",null,200101,"G022-CP1","230500","MI018-B42","200200-2022","i097-tsughami ","I110-01-004","PIG-11D","I006","I004","MPS000300","F046-CP2","I143-CP1","PT8666",68.081500000000005,"AXE-INOX-D8-L58-maj-c"]
[null,"Désignation",null,"AXE D'ARTICULATION ","AXE D15-M11x100","BRAS DE MANOEUVRE  G  MAN","GOUJON DE ROUE MITSIBITCHI GM-SUR-B42","Embout de tige-2022","ECROU DE ROUE FORD RANGER- finition rayon ","INSERT LEVIER SURMOULEE 345833-01 - fraisage ","PIGNON 11 DENTS FRAISAGE","CAL SUSPENSION PM ISUZU-HARDING","ECROU SUSPENSION ISUZU-HARDING","raccord HEX 17","BAGUE DECOLLETEE TUBE D'EAU PALIO -CP2","ECROU DE ROUE ISUZU-CP1","Rehausse-NAKAMURHA","Buse droite à collerette Ø8 M445 FRD","AXE INOX D8 L58 maj-c"]
[null,"Compteur 8h ",null,1380,1352,122,5971,4771,0,878,270,298,298,0,409,747,0,2153,19510]
[null,"Compteur 17h",null,2574,1352,376,6251,4771,627,917,270,298,298,0,514,1086,127,2635,20734]
[null,"Enregistrement","9h"]
[null,null,"16h"]
[null,"Identification"]
[null,"Propreté des tables de contrôle"]
[null,"Rangement des outils de contrôle"]
[null,"Existance de l'OF"]
[null,"Affutage",null,null,null,null,null,null,null,null,null,null,null,null,null,null,null,null,null,{"$f":"+COUNTA(D24:S24)","v":0}]
[null,"Maintenance"]
[null,"Nombre des NC poubelle "]
[null,"Nombre des NC à retoucher"]
[null,"Machine pour retouche"]
[null,"Panne"]
[null,"Cout pièces de rechange",null,null,null,null,null,null,null,null,null,null,null,null,null,null,null,null,null,{"$f":"SUM(D30:S30)","v":0}]
[null,"prix de revient pièce",null,{"$f":"IFERROR(VLOOKUP(D14,'Prix de revient'!$A:$D,4,0),0)","v":0.50560000000000005},{"$f":"IFERROR(VLOOKUP(E14,'Prix de revient'!$A:$D,4,0),0)","v":0},{"$f":"IFERROR(VLOOKUP(F14,'Prix de revient'!$A:$D,4,0),0)","v":0},{"$f":"IFERROR(VLOOKUP(G14,'Prix de revient'!$A:$D,4,0),0)","v":0},{"$f":"IFERROR(VLOOKUP(H14,'Prix de revient'!$A:$D,4,0),0)","v":0},{"$f":"IFERROR(VLOOKUP(I14,'Prix de revient'!$A:$D,4,0),0)","v":0},{"$f":"IFERROR(VLOOKUP(J14,'Prix de revient'!$A:$D,4,0),0)","v":2.1488},{"$f":"IFERROR(VLOOKUP(K14,'Prix de revient'!$A:$D,4,0),0)","v":0},{"$f":"IFERROR(VLOOKUP(L14,'Prix de revient'!$A:$D,4,0),0)","v":0},{"$f":"IFERROR(VLOOKUP(M14,'Prix de revient'!$A:$D,4,0),0)","v":0},{"$f":"IFERROR(VLOOKUP(N14,'Prix de revient'!$A:$D,4,0),0)","v":0},{"$f":"IFERROR(VLOOKUP(O14,'Prix de revient'!$A:$D,4,0),0)","v":0},{"$f":"IFERROR(VLOOKUP(P14,'Prix de revient'!$A:$D,4,0),0)","v":0},{"$f":"IFERROR(VLOOKUP(Q14,'Prix de revient'!$A:$D,4,0),0)","v":0},{"$f":"IFERROR(VLOOKUP(R14,'Prix de revient'!$A:$D,4,0),0)","v":0},{"$f":"IFERROR(VLOOKUP(S14,'Prix de revient'!$A:$D,4,0),0)","v":0}]
[null,"coût de rebuts",null,{"$f":"D26*D31","v":0},{"$f":"E26*E31","v":0},0,0,0,0,0,0,0,0,0,0,0,0,0,0,{"$f":"SUM(D32:S32)","v":0}]
[null,"gestion de modification"]
[]
[]
[]
[]
[]
[]
[]
[null,null,"Clients","Audit","Réclamation","Avoir",null,"Fournisseurs/ sous-traitants","Réception de matiere","Probleme qualité",null,"Les formations professionnelles","Cout","Chiffrage décliné","Actions à suivre",null,"Article qui a subit un tri","durée du tri","Nombre des pieces non-conformes","ouvrier faisant le tri","cout par tri",null,"Article qui a subit la reprise","durée de la reprise","opérateur faisant la reprise","coût de reprise",null,null,null,"Machine ","article","gamme","objet de la modification"]
[null,null,null,null,null,null,null,null,null,null,null,null,null,null,null,null,null,null,null,null,{"$f":"IF(R42=\"\",\"\",R42*VLOOKUP(T42,'cout opérateur machines'!A1:B8,2,0))","v":""},null,null,null,null,{"$f":"X42*8","v":0}]
[null,null,null,null,null,null,null,null,null,null,null,null,null,null,null,null,null,null,null,null,{"$f":"IF(R43=\"\",\"\",R43*VLOOKUP(T43,'cout opérateur machines'!A2:B9,2,0))","v":""},null,null,null,null,{"$f":"X43*8","v":0}]
[null,null,null,null,null,null,null,null,null,null,null,null,null,null,null,null,null,null,null,null,{"$f":"IF(R44=\"\",\"\",R44*VLOOKUP(T44,'cout opérateur machines'!A3:B10,2,0))","v":""},null,null,null,null,0]
[null,null,null,null,null,null,null,null,null,null,null,null,null,null,null,null,null,null,null,null,{"$f":"IF(R45=\"\",\"\",R45*VLOOKUP(T45,'cout opérateur machines'!A4:B11,2,0))","v":""},null,null,null,null,0]
[null,null,null,null,null,null,null,null,null,null,null,null,null,null,null,null,null,null,null,null,{"$f":"IF(R46=\"\",\"\",R46*VLOOKUP(T46,'cout opérateur machines'!A5:B12,2,0))","v":""},null,null,null,null,0]
[null,null,null,null,null,null,null,null,null,null,null,null,null,null,null,null,null,null,null,null,{"$f":"IF(R47=\"\",\"\",R47*VLOOKUP(T47,'cout opérateur machines'!A6:B13,2,0))","v":""},null,null,null,null,0]
[null,null,null,null,{"$f":"COUNTA(E42:E47)","v":0},{"$f":"SUM(F42:F47)","v":0},null,null,null,null,null,null,{"$f":"SUM(M42:M47)","v":0},"causes de refus",null,null,null,null,"cout total du jour",null,{"$f":"SUM(U42:U47)","v":0},null,null,null,null,0]
[null,null,null,null,null,null,null,"envoi des réclamations F/ S-T","réponse F/ S-T","alerte",null,null,null,null,null,null,null,null,null,null,null,null,null,null,null,{"$f":"SUM(Z42:Z48)","v":0}]
[null,null,"dans le cas d'une réclamation",null,null,null,null,null,null,{"$f":"IF(J42=\"\",\"\",IF(H50=0,\" réclamation non traitée\",IF(I50=0, \"veuillez contacter le F/ S-T par téléphone\",\"\")))","v":""},null,null,null,null,null,null,null,null,"N° mois",null,3]
[null,null,"nombre de pièces NC",null,null,null,null,null,null,{"$f":"IF(J43=\"\",\"\",IF(H51=0,\" réclamation non traitée\",IF(I51=0, \"veuillez contacter le F/ S-T par téléphone\",\"\")))","v":""}]
[null,null,"nombre de pièces par carton",null,null,null,null,null,null,""]
[null,null,"coût de transport par carton",null,null,null,null,null,null,""]
[null,null,"nombre de cartons renvoyés",null,null,null,null,null,null,""]
[null,null,"temps de tri",null,null,null,null,null,null,""]
[null,null,"coût horaire de tri"]
[null,null,"temps de retouche"]
[null,null,"coût horaire de retouche"]
[null,null,"temps de traitement de la réclamation"]
[null,null,"coût horaire de traitement"]
[null,null,"coût total",{"$f":"IFERROR(((D51/D52)*D53)+D54*D53+D55*D56+D57*D58+D59*D60,\"\")","v":""}]

{"sheet":"21-3-22","index":39,"n_rows":61,"n_cols":33,"rows_kept":61,"cut":false,"hidden":false,"merged":[[31,1,31,2],[32,1,32,2],[47,18,47,19],[49,18,49,19],[25,1,25,2],[26,1,26,2],[27,1,27,2],[28,1,28,2],[29,1,29,2],[30,1,30,2],[24,1,24,2],[12,1,12,2],[13,1,13,2],[14,1,14,2],[15,1,15,2],[16,1,16,2],[17,1,18,1],[19,1,19,2],[20,1,20,2],[21,1,21,2],[22,1,22,2],[23,1,23,2],[1,2,4,3],[1,4,4,16],[1,17,1,19],[1,21,1,23],[2,17,2,19],[2,21,2,23],[3,17,3,19],[3,21,3,23],[4,17,4,19],[4,21,4,23]]}
[]
[null,null,null,null,"Rapport journalier",null,null,null,null,null,null,null,null,null,null,null,null,"Code:DAS-SMQ-24"]
[null,null,null,null,null,null,null,null,null,null,null,null,null,null,null,null,null,"Date: 27/12/2019"]
[null,null,null,null,null,null,null,null,null,null,null,null,null,null,null,null,null,"Version:01"]
[null,null,null,null,null,null,null,null,null,null,null,null,null,null,null,null,null,"Page:1"]
[]
[]
[]
[]
[]
[]
[null,null,null,"A","B","C","D","E","F","M","N","O","P","I","L","K","J","G","H"]
[null,"Machine",null,"SST16","SB16","BIGLIA 301 SM","BIGLIA 42 S2M bitourelle","L32","TSUGAMI","MORI SEIKI 3 axes","MORI SEIKI 5 axes","HARDING","KITAMURA","MULTIBROCHE","NAKAMURA","TOUR WEILER"]
[null,"Référence",null,200101,"G022-CP1","230500","MI018-B42","200200-2022","B55 6*14.8","I110-01-004","PIG-11D","I006","I004","MPS000300","F046-CP2","I143-CP1","PT8666",68.081500000000005,"AXE-INOX-D8-L58-maj-c"]
[null,"Désignation",null,"AXE D'ARTICULATION ","AXE D15-M11x100","BRAS DE MANOEUVRE  G  MAN","GOUJON DE ROUE MITSIBITCHI GM-SUR-B42","Embout de tige-2022","Rivet couvercle B55","INSERT LEVIER SURMOULEE 345833-01 - fraisage ","PIGNON 11 DENTS FRAISAGE","CAL SUSPENSION PM ISUZU-HARDING","ECROU SUSPENSION ISUZU-HARDING","raccord HEX 17","BAGUE DECOLLETEE TUBE D'EAU PALIO -CP2","ECROU DE ROUE ISUZU-CP1","Rehausse-NAKAMURHA","Buse droite à collerette Ø8 M445 FRD","AXE INOX D8 L58 maj-c"]
[null,"Compteur 8h ",null,119,1301,0,5460,4771,36473,842,270,287,287,0,283,308,0,1495,18235]
[null,"Compteur 17h",null,1380,1352,122,5971,4771,36473,878,270,298,298,0,409,747,252,2153,19510]
[null,"Enregistrement","9h"]
[null,null,"16h"]
[null,"Identification"]
[null,"Propreté des tables de contrôle"]
[null,"Rangement des outils de contrôle"]
[null,"Existance de l'OF"]
[null,"Affutage",null,null,null,null,null,null,null,null,null,null,null,null,null,null,null,null,null,{"$f":"+COUNTA(D24:S24)","v":0}]
[null,"Maintenance"]
[null,"Nombre des NC poubelle "]
[null,"Nombre des NC à retoucher"]
[null,"Machine pour retouche"]
[null,"Panne"]
[null,"Cout pièces de rechange",null,null,null,null,null,null,null,null,null,null,null,null,null,null,null,null,null,{"$f":"SUM(D30:S30)","v":0}]
[null,"prix de revient pièce",null,{"$f":"IFERROR(VLOOKUP(D14,'Prix de revient'!$A:$D,4,0),0)","v":0.50560000000000005},{"$f":"IFERROR(VLOOKUP(E14,'Prix de revient'!$A:$D,4,0),0)","v":0},{"$f":"IFERROR(VLOOKUP(F14,'Prix de revient'!$A:$D,4,0),0)","v":0},{"$f":"IFERROR(VLOOKUP(G14,'Prix de revient'!$A:$D,4,0),0)","v":0},{"$f":"IFERROR(VLOOKUP(H14,'Prix de revient'!$A:$D,4,0),0)","v":0},{"$f":"IFERROR(VLOOKUP(I14,'Prix de revient'!$A:$D,4,0),0)","v":0},{"$f":"IFERROR(VLOOKUP(J14,'Prix de revient'!$A:$D,4,0),0)","v":2.1488},{"$f":"IFERROR(VLOOKUP(K14,'Prix de revient'!$A:$D,4,0),0)","v":0},{"$f":"IFERROR(VLOOKUP(L14,'Prix de revient'!$A:$D,4,0),0)","v":0},{"$f":"IFERROR(VLOOKUP(M14,'Prix de revient'!$A:$D,4,0),0)","v":0},{"$f":"IFERROR(VLOOKUP(N14,'Prix de revient'!$A:$D,4,0),0)","v":0},{"$f":"IFERROR(VLOOKUP(O14,'Prix de revient'!$A:$D,4,0),0)","v":0},{"$f":"IFERROR(VLOOKUP(P14,'Prix de revient'!$A:$D,4,0),0)","v":0},{"$f":"IFERROR(VLOOKUP(Q14,'Prix de revient'!$A:$D,4,0),0)","v":0},{"$f":"IFERROR(VLOOKUP(R14,'Prix de revient'!$A:$D,4,0),0)","v":0},{"$f":"IFERROR(VLOOKUP(S14,'Prix de revient'!$A:$D,4,0),0)","v":0}]
[null,"coût de rebuts",null,{"$f":"D26*D31","v":0},{"$f":"E26*E31","v":0},0,0,0,0,0,0,0,0,0,0,0,0,0,0,{"$f":"SUM(D32:S32)","v":0}]
[null,"gestion de modification"]
[]
[]
[]
[]
[]
[]
[]
[null,null,"Clients","Audit","Réclamation","Avoir",null,"Fournisseurs/ sous-traitants","Réception de matiere","Probleme qualité",null,"Les formations professionnelles","Cout","Chiffrage décliné","Actions à suivre",null,"Article qui a subit un tri","durée du tri","Nombre des pieces non-conformes","ouvrier faisant le tri","cout par tri",null,"Article qui a subit la reprise","durée de la reprise","opérateur faisant la reprise","coût de reprise",null,null,null,"Machine ","article","gamme","objet de la modification"]
[null,null,null,null,null,null,null,null,null,null,null,null,null,null,null,null,null,null,null,null,{"$f":"IF(R42=\"\",\"\",R42*VLOOKUP(T42,'cout opérateur machines'!A1:B8,2,0))","v":""},null,null,null,null,{"$f":"X42*8","v":0}]
[null,null,null,null,null,null,null,null,null,null,null,null,null,null,null,null,null,null,null,null,{"$f":"IF(R43=\"\",\"\",R43*VLOOKUP(T43,'cout opérateur machines'!A2:B9,2,0))","v":""},null,null,null,null,{"$f":"X43*8","v":0}]
[null,null,null,null,null,null,null,null,null,null,null,null,null,null,null,null,null,null,null,null,{"$f":"IF(R44=\"\",\"\",R44*VLOOKUP(T44,'cout opérateur machines'!A3:B10,2,0))","v":""},null,null,null,null,0]
[null,null,null,null,null,null,null,null,null,null,null,null,null,null,null,null,null,null,null,null,{"$f":"IF(R45=\"\",\"\",R45*VLOOKUP(T45,'cout opérateur machines'!A4:B11,2,0))","v":""},null,null,null,null,0]
[null,null,null,null,null,null,null,null,null,null,null,null,null,null,null,null,null,null,null,null,{"$f":"IF(R46=\"\",\"\",R46*VLOOKUP(T46,'cout opérateur machines'!A5:B12,2,0))","v":""},null,null,null,null,0]
[null,null,null,null,null,null,null,null,null,null,null,null,null,null,null,null,null,null,null,null,{"$f":"IF(R47=\"\",\"\",R47*VLOOKUP(T47,'cout opérateur machines'!A6:B13,2,0))","v":""},null,null,null,null,0]
[null,null,null,null,{"$f":"COUNTA(E42:E47)","v":0},{"$f":"SUM(F42:F47)","v":0},null,null,null,null,null,null,{"$f":"SUM(M42:M47)","v":0},"causes de refus",null,null,null,null,"cout total du jour",null,{"$f":"SUM(U42:U47)","v":0},null,null,null,null,0]
[null,null,null,null,null,null,null,"envoi des réclamations F/ S-T","réponse F/ S-T","alerte",null,null,null,null,null,null,null,null,null,null,null,null,null,null,null,{"$f":"SUM(Z42:Z48)","v":0}]
[null,null,"dans le cas d'une réclamation",null,null,null,null,null,null,{"$f":"IF(J42=\"\",\"\",IF(H50=0,\" réclamation non traitée\",IF(I50=0, \"veuillez contacter le F/ S-T par téléphone\",\"\")))","v":""},null,null,null,null,null,null,null,null,"N° mois",null,3]
[null,null,"nombre de pièces NC",null,null,null,null,null,null,{"$f":"IF(J43=\"\",\"\",IF(H51=0,\" réclamation non traitée\",IF(I51=0, \"veuillez contacter le F/ S-T par téléphone\",\"\")))","v":""}]
[null,null,"nombre de pièces par carton",null,null,null,null,null,null,""]
[null,null,"coût de transport par carton",null,null,null,null,null,null,""]
[null,null,"nombre de cartons renvoyés",null,null,null,null,null,null,""]
[null,null,"temps de tri",null,null,null,null,null,null,""]
[null,null,"coût horaire de tri"]
[null,null,"temps de retouche"]
[null,null,"coût horaire de retouche"]
[null,null,"temps de traitement de la réclamation"]
[null,null,"coût horaire de traitement"]
[null,null,"coût total",{"$f":"IFERROR(((D51/D52)*D53)+D54*D53+D55*D56+D57*D58+D59*D60,\"\")","v":""}]

{"sheet":"19-3-22","index":40,"n_rows":61,"n_cols":33,"rows_kept":61,"cut":false,"hidden":false,"merged":[[31,1,31,2],[32,1,32,2],[47,18,47,19],[49,18,49,19],[25,1,25,2],[26,1,26,2],[27,1,27,2],[28,1,28,2],[29,1,29,2],[30,1,30,2],[24,1,24,2],[12,1,12,2],[13,1,13,2],[14,1,14,2],[15,1,15,2],[16,1,16,2],[17,1,18,1],[19,1,19,2],[20,1,20,2],[21,1,21,2],[22,1,22,2],[23,1,23,2],[1,2,4,3],[1,4,4,16],[1,17,1,19],[1,21,1,23],[2,17,2,19],[2,21,2,23],[3,17,3,19],[3,21,3,23],[4,17,4,19],[4,21,4,23]]}
[]
[null,null,null,null,"Rapport journalier",null,null,null,null,null,null,null,null,null,null,null,null,"Code:DAS-SMQ-24"]
[null,null,null,null,null,null,null,null,null,null,null,null,null,null,null,null,null,"Date: 27/12/2019"]
[null,null,null,null,null,null,null,null,null,null,null,null,null,null,null,null,null,"Version:01"]
[null,null,null,null,null,null,null,null,null,null,null,null,null,null,null,null,null,"Page:1"]
[]
[]
[]
[]
[]
[]
[null,null,null,"A","B","C","D","E","F","M","N","O","P","I","L","K","J","G","H"]
[null,"Machine",null,"SST16","SB16","BIGLIA 301 SM","BIGLIA 42 S2M bitourelle","L32","TSUGAMI","MORI SEIKI 3 axes","MORI SEIKI 5 axes","HARDING","KITAMURA","MULTIBROCHE","NAKAMURA","TOUR WEILER"]
[null,"Référence",null,200101,"G022-CP1","G011-A","MI018-B42","200200-2022","B55 6*14.8","I110-01-004","PIG-11D","I006","I004","MPS000300","F046-CP2","I143-CP1","PT8666",68.081500000000005,"AXE-INOX-D8-L58-maj-c"]
[null,"Désignation",null,"AXE D'ARTICULATION ","AXE D15-M11x100","Bague Acier D32*22 L=21 maj-c","GOUJON DE ROUE MITSIBITCHI GM-SUR-B42","Embout de tige-2022","Rivet couvercle B55","INSERT LEVIER SURMOULEE 345833-01 - fraisage ","PIGNON 11 DENTS FRAISAGE","CAL SUSPENSION PM ISUZU-HARDING","ECROU SUSPENSION ISUZU-HARDING","raccord HEX 17","BAGUE DECOLLETEE TUBE D'EAU PALIO -CP2","ECROU DE ROUE ISUZU-CP1","Rehausse-NAKAMURHA","Buse droite à collerette Ø8 M445 FRD","AXE INOX D8 L58 maj-c"]
[null,"Compteur 8h ",null,0,1156,6190,5232,4771,35351,833,270,285,285,0,207,65,1003,1070,17500]
[null,"Compteur 17h",null,119,1301,6434,5460,4771,36473,842,270,287,287,0,283,308,1363,1495,18235]
[null,"Enregistrement","9h"]
[null,null,"16h"]
[null,"Identification"]
[null,"Propreté des tables de contrôle"]
[null,"Rangement des outils de contrôle"]
[null,"Existance de l'OF"]
[null,"Affutage",null,null,null,null,null,null,null,null,null,null,null,null,null,null,null,null,null,{"$f":"+COUNTA(D24:S24)","v":0}]
[null,"Maintenance"]
[null,"Nombre des NC poubelle "]
[null,"Nombre des NC à retoucher"]
[null,"Machine pour retouche"]
[null,"Panne"]
[null,"Cout pièces de rechange",null,null,null,null,null,null,null,null,null,null,null,null,null,null,null,null,null,{"$f":"SUM(D30:S30)","v":0}]
[null,"prix de revient pièce",null,{"$f":"IFERROR(VLOOKUP(D14,'Prix de revient'!$A:$D,4,0),0)","v":0.50560000000000005},{"$f":"IFERROR(VLOOKUP(E14,'Prix de revient'!$A:$D,4,0),0)","v":0},{"$f":"IFERROR(VLOOKUP(F14,'Prix de revient'!$A:$D,4,0),0)","v":0},{"$f":"IFERROR(VLOOKUP(G14,'Prix de revient'!$A:$D,4,0),0)","v":0},{"$f":"IFERROR(VLOOKUP(H14,'Prix de revient'!$A:$D,4,0),0)","v":0},{"$f":"IFERROR(VLOOKUP(I14,'Prix de revient'!$A:$D,4,0),0)","v":0},{"$f":"IFERROR(VLOOKUP(J14,'Prix de revient'!$A:$D,4,0),0)","v":2.1488},{"$f":"IFERROR(VLOOKUP(K14,'Prix de revient'!$A:$D,4,0),0)","v":0},{"$f":"IFERROR(VLOOKUP(L14,'Prix de revient'!$A:$D,4,0),0)","v":0},{"$f":"IFERROR(VLOOKUP(M14,'Prix de revient'!$A:$D,4,0),0)","v":0},{"$f":"IFERROR(VLOOKUP(N14,'Prix de revient'!$A:$D,4,0),0)","v":0},{"$f":"IFERROR(VLOOKUP(O14,'Prix de revient'!$A:$D,4,0),0)","v":0},{"$f":"IFERROR(VLOOKUP(P14,'Prix de revient'!$A:$D,4,0),0)","v":0},{"$f":"IFERROR(VLOOKUP(Q14,'Prix de revient'!$A:$D,4,0),0)","v":0},{"$f":"IFERROR(VLOOKUP(R14,'Prix de revient'!$A:$D,4,0),0)","v":0},{"$f":"IFERROR(VLOOKUP(S14,'Prix de revient'!$A:$D,4,0),0)","v":0}]
[null,"coût de rebuts",null,{"$f":"D26*D31","v":0},{"$f":"E26*E31","v":0},0,0,0,0,0,0,0,0,0,0,0,0,0,0,{"$f":"SUM(D32:S32)","v":0}]
[null,"gestion de modification"]
[]
[]
[]
[]
[]
[]
[]
[null,null,"Clients","Audit","Réclamation","Avoir",null,"Fournisseurs/ sous-traitants","Réception de matiere","Probleme qualité",null,"Les formations professionnelles","Cout","Chiffrage décliné","Actions à suivre",null,"Article qui a subit un tri","durée du tri","Nombre des pieces non-conformes","ouvrier faisant le tri","cout par tri",null,"Article qui a subit la reprise","durée de la reprise","opérateur faisant la reprise","coût de reprise",null,null,null,"Machine ","article","gamme","objet de la modification"]
[null,null,null,null,null,null,null,null,null,null,null,null,null,null,null,null,null,null,null,null,{"$f":"IF(R42=\"\",\"\",R42*VLOOKUP(T42,'cout opérateur machines'!A1:B8,2,0))","v":""},null,null,null,null,{"$f":"X42*8","v":0}]
[null,null,null,null,null,null,null,null,null,null,null,null,null,null,null,null,null,null,null,null,{"$f":"IF(R43=\"\",\"\",R43*VLOOKUP(T43,'cout opérateur machines'!A2:B9,2,0))","v":""},null,null,null,null,{"$f":"X43*8","v":0}]
[null,null,null,null,null,null,null,null,null,null,null,null,null,null,null,null,null,null,null,null,{"$f":"IF(R44=\"\",\"\",R44*VLOOKUP(T44,'cout opérateur machines'!A3:B10,2,0))","v":""},null,null,null,null,0]
[null,null,null,null,null,null,null,null,null,null,null,null,null,null,null,null,null,null,null,null,{"$f":"IF(R45=\"\",\"\",R45*VLOOKUP(T45,'cout opérateur machines'!A4:B11,2,0))","v":""},null,null,null,null,0]
[null,null,null,null,null,null,null,null,null,null,null,null,null,null,null,null,null,null,null,null,{"$f":"IF(R46=\"\",\"\",R46*VLOOKUP(T46,'cout opérateur machines'!A5:B12,2,0))","v":""},null,null,null,null,0]
[null,null,null,null,null,null,null,null,null,null,null,null,null,null,null,null,null,null,null,null,{"$f":"IF(R47=\"\",\"\",R47*VLOOKUP(T47,'cout opérateur machines'!A6:B13,2,0))","v":""},null,null,null,null,0]
[null,null,null,null,{"$f":"COUNTA(E42:E47)","v":0},{"$f":"SUM(F42:F47)","v":0},null,null,null,null,null,null,{"$f":"SUM(M42:M47)","v":0},"causes de refus",null,null,null,null,"cout total du jour",null,{"$f":"SUM(U42:U47)","v":0},null,null,null,null,0]
[null,null,null,null,null,null,null,"envoi des réclamations F/ S-T","réponse F/ S-T","alerte",null,null,null,null,null,null,null,null,null,null,null,null,null,null,null,{"$f":"SUM(Z42:Z48)","v":0}]
[null,null,"dans le cas d'une réclamation",null,null,null,null,null,null,{"$f":"IF(J42=\"\",\"\",IF(H50=0,\" réclamation non traitée\",IF(I50=0, \"veuillez contacter le F/ S-T par téléphone\",\"\")))","v":""},null,null,null,null,null,null,null,null,"N° mois",null,3]
[null,null,"nombre de pièces NC",null,null,null,null,null,null,{"$f":"IF(J43=\"\",\"\",IF(H51=0,\" réclamation non traitée\",IF(I51=0, \"veuillez contacter le F/ S-T par téléphone\",\"\")))","v":""}]
[null,null,"nombre de pièces par carton",null,null,null,null,null,null,""]
[null,null,"coût de transport par carton",null,null,null,null,null,null,""]
[null,null,"nombre de cartons renvoyés",null,null,null,null,null,null,""]
[null,null,"temps de tri",null,null,null,null,null,null,""]
[null,null,"coût horaire de tri"]
[null,null,"temps de retouche"]
[null,null,"coût horaire de retouche"]
[null,null,"temps de traitement de la réclamation"]
[null,null,"coût horaire de traitement"]
[null,null,"coût total",{"$f":"IFERROR(((D51/D52)*D53)+D54*D53+D55*D56+D57*D58+D59*D60,\"\")","v":""}]

{"sheet":"18-3-22","index":41,"n_rows":61,"n_cols":33,"rows_kept":61,"cut":false,"hidden":false,"merged":[[31,1,31,2],[32,1,32,2],[47,18,47,19],[49,18,49,19],[25,1,25,2],[26,1,26,2],[27,1,27,2],[28,1,28,2],[29,1,29,2],[30,1,30,2],[24,1,24,2],[12,1,12,2],[13,1,13,2],[14,1,14,2],[15,1,15,2],[16,1,16,2],[17,1,18,1],[19,1,19,2],[20,1,20,2],[21,1,21,2],[22,1,22,2],[23,1,23,2],[1,2,4,3],[1,4,4,16],[1,17,1,19],[1,21,1,23],[2,17,2,19],[2,21,2,23],[3,17,3,19],[3,21,3,23],[4,17,4,19],[4,21,4,23]]}
[]
[null,null,null,null,"Rapport journalier",null,null,null,null,null,null,null,null,null,null,null,null,"Code:DAS-SMQ-24"]
[null,null,null,null,null,null,null,null,null,null,null,null,null,null,null,null,null,"Date: 27/12/2019"]
[null,null,null,null,null,null,null,null,null,null,null,null,null,null,null,null,null,"Version:01"]
[null,null,null,null,null,null,null,null,null,null,null,null,null,null,null,null,null,"Page:1"]
[]
[]
[]
[]
[]
[]
[null,null,null,"A","B","C","D","E","F","M","N","O","P","I","L","K","J","G","H"]
[null,"Machine",null,"SST16","SB16","BIGLIA 301 SM","BIGLIA 42 S2M bitourelle","L32","TSUGAMI","MORI SEIKI 3 axes","MORI SEIKI 5 axes","HARDING","KITAMURA","MULTIBROCHE","NAKAMURA","TOUR WEILER"]
[null,"Référence",null,"T-RB400-MajC","G022-CP1","G011-A","MI018-B42","200200-2022","B55 6*14.8","I110-01-004","PIG-11D","I006","I004","MPS000300","F046-CP2","I143-CP1","PT8666",68.081500000000005,"AXE-INOX-D8-L58-maj-c"]
[null,"Désignation",null,"RIVET TRB400-MajC","AXE D15-M11x100","Bague Acier D32*22 L=21 maj-c","GOUJON DE ROUE MITSIBITCHI GM-SUR-B42","Embout de tige-2022","Rivet couvercle B55","INSERT LEVIER SURMOULEE 345833-01 - fraisage ","PIGNON 11 DENTS FRAISAGE","CAL SUSPENSION PM ISUZU-HARDING","ECROU SUSPENSION ISUZU-HARDING","raccord HEX 17","BAGUE DECOLLETEE TUBE D'EAU PALIO -CP2","ECROU DE ROUE ISUZU-CP1","Rehausse-NAKAMURHA","Buse droite à collerette Ø8 M445 FRD","AXE INOX D8 L58 maj-c"]
[null,"Compteur 8h ",null,0,586,5575,4918,4771,32917,784,270,285,285,0,32,0,523,348,16032]
[null,"Compteur 17h",null,0,1156,6190,5232,4771,35351,833,270,285,285,0,207,65,1003,1070,17500]
[null,"Enregistrement","9h"]
[null,null,"16h"]
[null,"Identification"]
[null,"Propreté des tables de contrôle"]
[null,"Rangement des outils de contrôle"]
[null,"Existance de l'OF"]
[null,"Affutage",null,null,null,null,null,null,null,null,null,null,null,null,null,null,null,null,null,{"$f":"+COUNTA(D24:S24)","v":0}]
[null,"Maintenance"]
[null,"Nombre des NC poubelle ",null,null,null,null,null,null,null,null,null,null,null,null,null,null,null,10]
[null,"Nombre des NC à retoucher"]
[null,"Machine pour retouche"]
[null,"Panne"]
[null,"Cout pièces de rechange",null,null,null,null,null,null,null,null,null,null,null,null,null,null,null,null,null,{"$f":"SUM(D30:S30)","v":0}]
[null,"prix de revient pièce",null,{"$f":"IFERROR(VLOOKUP(D14,'Prix de revient'!$A:$D,4,0),0)","v":0},{"$f":"IFERROR(VLOOKUP(E14,'Prix de revient'!$A:$D,4,0),0)","v":0},{"$f":"IFERROR(VLOOKUP(F14,'Prix de revient'!$A:$D,4,0),0)","v":0},{"$f":"IFERROR(VLOOKUP(G14,'Prix de revient'!$A:$D,4,0),0)","v":0},{"$f":"IFERROR(VLOOKUP(H14,'Prix de revient'!$A:$D,4,0),0)","v":0},{"$f":"IFERROR(VLOOKUP(I14,'Prix de revient'!$A:$D,4,0),0)","v":0},{"$f":"IFERROR(VLOOKUP(J14,'Prix de revient'!$A:$D,4,0),0)","v":2.1488},{"$f":"IFERROR(VLOOKUP(K14,'Prix de revient'!$A:$D,4,0),0)","v":0},{"$f":"IFERROR(VLOOKUP(L14,'Prix de revient'!$A:$D,4,0),0)","v":0},{"$f":"IFERROR(VLOOKUP(M14,'Prix de revient'!$A:$D,4,0),0)","v":0},{"$f":"IFERROR(VLOOKUP(N14,'Prix de revient'!$A:$D,4,0),0)","v":0},{"$f":"IFERROR(VLOOKUP(O14,'Prix de revient'!$A:$D,4,0),0)","v":0},{"$f":"IFERROR(VLOOKUP(P14,'Prix de revient'!$A:$D,4,0),0)","v":0},{"$f":"IFERROR(VLOOKUP(Q14,'Prix de revient'!$A:$D,4,0),0)","v":0},{"$f":"IFERROR(VLOOKUP(R14,'Prix de revient'!$A:$D,4,0),0)","v":0},{"$f":"IFERROR(VLOOKUP(S14,'Prix de revient'!$A:$D,4,0),0)","v":0}]
[null,"coût de rebuts",null,{"$f":"D26*D31","v":0},{"$f":"E26*E31","v":0},0,0,0,0,0,0,0,0,0,0,0,0,0,0,{"$f":"SUM(D32:S32)","v":0}]
[null,"gestion de modification"]
[]
[]
[]
[]
[]
[]
[]
[null,null,"Clients","Audit","Réclamation","Avoir",null,"Fournisseurs/ sous-traitants","Réception de matiere","Probleme qualité",null,"Les formations professionnelles","Cout","Chiffrage décliné","Actions à suivre",null,"Article qui a subit un tri","durée du tri","Nombre des pieces non-conformes","ouvrier faisant le tri","cout par tri",null,"Article qui a subit la reprise","durée de la reprise","opérateur faisant la reprise","coût de reprise",null,null,null,"Machine ","article","gamme","objet de la modification"]
[null,null,null,null,null,null,null,null,null,null,null,null,null,null,null,null,null,null,null,null,{"$f":"IF(R42=\"\",\"\",R42*VLOOKUP(T42,'cout opérateur machines'!A1:B8,2,0))","v":""},null,null,null,null,{"$f":"X42*8","v":0}]
[null,null,null,null,null,null,null,null,null,null,null,null,null,null,null,null,null,null,null,null,{"$f":"IF(R43=\"\",\"\",R43*VLOOKUP(T43,'cout opérateur machines'!A2:B9,2,0))","v":""},null,null,null,null,{"$f":"X43*8","v":0}]
[null,null,null,null,null,null,null,null,null,null,null,null,null,null,null,null,null,null,null,null,{"$f":"IF(R44=\"\",\"\",R44*VLOOKUP(T44,'cout opérateur machines'!A3:B10,2,0))","v":""},null,null,null,null,0]
[null,null,null,null,null,null,null,null,null,null,null,null,null,null,null,null,null,null,null,null,{"$f":"IF(R45=\"\",\"\",R45*VLOOKUP(T45,'cout opérateur machines'!A4:B11,2,0))","v":""},null,null,null,null,0]
[null,null,null,null,null,null,null,null,null,null,null,null,null,null,null,null,null,null,null,null,{"$f":"IF(R46=\"\",\"\",R46*VLOOKUP(T46,'cout opérateur machines'!A5:B12,2,0))","v":""},null,null,null,null,0]
[null,null,null,null,null,null,null,null,null,null,null,null,null,null,null,null,null,null,null,null,{"$f":"IF(R47=\"\",\"\",R47*VLOOKUP(T47,'cout opérateur machines'!A6:B13,2,0))","v":""},null,null,null,null,0]
[null,null,null,null,{"$f":"COUNTA(E42:E47)","v":0},{"$f":"SUM(F42:F47)","v":0},null,null,null,null,null,null,{"$f":"SUM(M42:M47)","v":0},"causes de refus",null,null,null,null,"cout total du jour",null,{"$f":"SUM(U42:U47)","v":0},null,null,null,null,0]
[null,null,null,null,null,null,null,"envoi des réclamations F/ S-T","réponse F/ S-T","alerte",null,null,null,null,null,null,null,null,null,null,null,null,null,null,null,{"$f":"SUM(Z42:Z48)","v":0}]
[null,null,"dans le cas d'une réclamation",null,null,null,null,null,null,{"$f":"IF(J42=\"\",\"\",IF(H50=0,\" réclamation non traitée\",IF(I50=0, \"veuillez contacter le F/ S-T par téléphone\",\"\")))","v":""},null,null,null,null,null,null,null,null,"N° mois",null,3]
[null,null,"nombre de pièces NC",null,null,null,null,null,null,{"$f":"IF(J43=\"\",\"\",IF(H51=0,\" réclamation non traitée\",IF(I51=0, \"veuillez contacter le F/ S-T par téléphone\",\"\")))","v":""}]
[null,null,"nombre de pièces par carton",null,null,null,null,null,null,""]
[null,null,"coût de transport par carton",null,null,null,null,null,null,""]
[null,null,"nombre de cartons renvoyés",null,null,null,null,null,null,""]
[null,null,"temps de tri",null,null,null,null,null,null,""]
[null,null,"coût horaire de tri"]
[null,null,"temps de retouche"]
[null,null,"coût horaire de retouche"]
[null,null,"temps de traitement de la réclamation"]
[null,null,"coût horaire de traitement"]
[null,null,"coût total",{"$f":"IFERROR(((D51/D52)*D53)+D54*D53+D55*D56+D57*D58+D59*D60,\"\")","v":""}]

{"sheet":"17-3-22","index":42,"n_rows":61,"n_cols":33,"rows_kept":61,"cut":false,"hidden":false,"merged":[[31,1,31,2],[32,1,32,2],[47,18,47,19],[49,18,49,19],[25,1,25,2],[26,1,26,2],[27,1,27,2],[28,1,28,2],[29,1,29,2],[30,1,30,2],[24,1,24,2],[12,1,12,2],[13,1,13,2],[14,1,14,2],[15,1,15,2],[16,1,16,2],[17,1,18,1],[19,1,19,2],[20,1,20,2],[21,1,21,2],[22,1,22,2],[23,1,23,2],[1,2,4,3],[1,4,4,16],[1,17,1,19],[1,21,1,23],[2,17,2,19],[2,21,2,23],[3,17,3,19],[3,21,3,23],[4,17,4,19],[4,21,4,23]]}
[]
[null,null,null,null,"Rapport journalier",null,null,null,null,null,null,null,null,null,null,null,null,"Code:DAS-SMQ-24"]
[null,null,null,null,null,null,null,null,null,null,null,null,null,null,null,null,null,"Date: 27/12/2019"]
[null,null,null,null,null,null,null,null,null,null,null,null,null,null,null,null,null,"Version:01"]
[null,null,null,null,null,null,null,null,null,null,null,null,null,null,null,null,null,"Page:1"]
[]
[]
[]
[]
[]
[]
[null,null,null,"A","B","C","D","E","F","M","N","O","P","I","L","K","J","G","H"]
[null,"Machine",null,"SST16","SB16","BIGLIA 301 SM","BIGLIA 42 S2M bitourelle","L32","TSUGAMI","MORI SEIKI 3 axes","MORI SEIKI 5 axes","HARDING","KITAMURA","MULTIBROCHE","NAKAMURA","TOUR WEILER"]
[null,"Référence",null,"T-RB400-MajC","G022-CP1","G011-A","MI018-B42","200200-2022","B55 6*14.8","I110-01-004","PIG-11D","I006","I004","MPS000300","F046-CP2","4-8136-1","PT8666",68.081500000000005,"AXE-INOX-D8-L58"]
[null,"Désignation",null,"RIVET TRB400-MajC","AXE D15-M11x100","Bague Acier D32*22 L=21 maj-c","GOUJON DE ROUE MITSIBITCHI GM-SUR-B42","Embout de tige-2022","Rivet couvercle B55","INSERT LEVIER SURMOULEE 345833-01 - fraisage ","PIGNON 11 DENTS FRAISAGE","CAL SUSPENSION PM ISUZU-HARDING","ECROU SUSPENSION ISUZU-HARDING","raccord HEX 17","BAGUE DECOLLETEE TUBE D'EAU PALIO -CP2","Bague galvanisee 12*22*53","Rehausse-NAKAMURHA","Buse droite à collerette Ø8 M445 FRD","AXE INOX D8 L58"]
[null,"Compteur 8h ",null,51700,243,5020,4480,4771,30522,740,270,285,285,0,0,0,0,0,14600]
[null,"Compteur 17h",null,52632,586,5575,4918,4771,32917,784,270,285,285,0,32,602,523,348,16032]
[null,"Enregistrement","9h"]
[null,null,"16h"]
[null,"Identification"]
[null,"Propreté des tables de contrôle"]
[null,"Rangement des outils de contrôle"]
[null,"Existance de l'OF"]
[null,"Affutage",null,null,null,null,null,null,null,null,null,null,null,null,null,null,null,null,null,{"$f":"+COUNTA(D24:S24)","v":0}]
[null,"Maintenance"]
[null,"Nombre des NC poubelle "]
[null,"Nombre des NC à retoucher"]
[null,"Machine pour retouche"]
[null,"Panne"]
[null,"Cout pièces de rechange",null,null,null,null,null,null,null,null,null,null,null,null,null,null,null,null,null,{"$f":"SUM(D30:S30)","v":0}]
[null,"prix de revient pièce",null,{"$f":"IFERROR(VLOOKUP(D14,'Prix de revient'!$A:$D,4,0),0)","v":0},{"$f":"IFERROR(VLOOKUP(E14,'Prix de revient'!$A:$D,4,0),0)","v":0},{"$f":"IFERROR(VLOOKUP(F14,'Prix de revient'!$A:$D,4,0),0)","v":0},{"$f":"IFERROR(VLOOKUP(G14,'Prix de revient'!$A:$D,4,0),0)","v":0},{"$f":"IFERROR(VLOOKUP(H14,'Prix de revient'!$A:$D,4,0),0)","v":0},{"$f":"IFERROR(VLOOKUP(I14,'Prix de revient'!$A:$D,4,0),0)","v":0},{"$f":"IFERROR(VLOOKUP(J14,'Prix de revient'!$A:$D,4,0),0)","v":2.1488},{"$f":"IFERROR(VLOOKUP(K14,'Prix de revient'!$A:$D,4,0),0)","v":0},{"$f":"IFERROR(VLOOKUP(L14,'Prix de revient'!$A:$D,4,0),0)","v":0},{"$f":"IFERROR(VLOOKUP(M14,'Prix de revient'!$A:$D,4,0),0)","v":0},{"$f":"IFERROR(VLOOKUP(N14,'Prix de revient'!$A:$D,4,0),0)","v":0},{"$f":"IFERROR(VLOOKUP(O14,'Prix de revient'!$A:$D,4,0),0)","v":0},{"$f":"IFERROR(VLOOKUP(P14,'Prix de revient'!$A:$D,4,0),0)","v":4000},{"$f":"IFERROR(VLOOKUP(Q14,'Prix de revient'!$A:$D,4,0),0)","v":0},{"$f":"IFERROR(VLOOKUP(R14,'Prix de revient'!$A:$D,4,0),0)","v":0},{"$f":"IFERROR(VLOOKUP(S14,'Prix de revient'!$A:$D,4,0),0)","v":0}]
[null,"coût de rebuts",null,{"$f":"D26*D31","v":0},{"$f":"E26*E31","v":0},0,0,0,0,0,0,0,0,0,0,0,0,0,0,{"$f":"SUM(D32:S32)","v":0}]
[null,"gestion de modification"]
[]
[]
[]
[]
[]
[]
[]
[null,null,"Clients","Audit","Réclamation","Avoir",null,"Fournisseurs/ sous-traitants","Réception de matiere","Probleme qualité",null,"Les formations professionnelles","Cout","Chiffrage décliné","Actions à suivre",null,"Article qui a subit un tri","durée du tri","Nombre des pieces non-conformes","ouvrier faisant le tri","cout par tri",null,"Article qui a subit la reprise","durée de la reprise","opérateur faisant la reprise","coût de reprise",null,null,null,"Machine ","article","gamme","objet de la modification"]
[null,null,null,null,null,null,null,null,null,null,null,null,null,null,null,null,null,null,null,null,{"$f":"IF(R42=\"\",\"\",R42*VLOOKUP(T42,'cout opérateur machines'!A1:B8,2,0))","v":""},null,null,null,null,{"$f":"X42*8","v":0}]
[null,null,null,null,null,null,null,null,null,null,null,null,null,null,null,null,null,null,null,null,{"$f":"IF(R43=\"\",\"\",R43*VLOOKUP(T43,'cout opérateur machines'!A2:B9,2,0))","v":""},null,null,null,null,{"$f":"X43*8","v":0}]
[null,null,null,null,null,null,null,null,null,null,null,null,null,null,null,null,null,null,null,null,{"$f":"IF(R44=\"\",\"\",R44*VLOOKUP(T44,'cout opérateur machines'!A3:B10,2,0))","v":""},null,null,null,null,0]
[null,null,null,null,null,null,null,null,null,null,null,null,null,null,null,null,null,null,null,null,{"$f":"IF(R45=\"\",\"\",R45*VLOOKUP(T45,'cout opérateur machines'!A4:B11,2,0))","v":""},null,null,null,null,0]
[null,null,null,null,null,null,null,null,null,null,null,null,null,null,null,null,null,null,null,null,{"$f":"IF(R46=\"\",\"\",R46*VLOOKUP(T46,'cout opérateur machines'!A5:B12,2,0))","v":""},null,null,null,null,0]
[null,null,null,null,null,null,null,null,null,null,null,null,null,null,null,null,null,null,null,null,{"$f":"IF(R47=\"\",\"\",R47*VLOOKUP(T47,'cout opérateur machines'!A6:B13,2,0))","v":""},null,null,null,null,0]
[null,null,null,null,{"$f":"COUNTA(E42:E47)","v":0},{"$f":"SUM(F42:F47)","v":0},null,null,null,null,null,null,{"$f":"SUM(M42:M47)","v":0},"causes de refus",null,null,null,null,"cout total du jour",null,{"$f":"SUM(U42:U47)","v":0},null,null,null,null,0]
[null,null,null,null,null,null,null,"envoi des réclamations F/ S-T","réponse F/ S-T","alerte",null,null,null,null,null,null,null,null,null,null,null,null,null,null,null,{"$f":"SUM(Z42:Z48)","v":0}]
[null,null,"dans le cas d'une réclamation",null,null,null,null,null,null,{"$f":"IF(J42=\"\",\"\",IF(H50=0,\" réclamation non traitée\",IF(I50=0, \"veuillez contacter le F/ S-T par téléphone\",\"\")))","v":""},null,null,null,null,null,null,null,null,"N° mois",null,3]
[null,null,"nombre de pièces NC",null,null,null,null,null,null,{"$f":"IF(J43=\"\",\"\",IF(H51=0,\" réclamation non traitée\",IF(I51=0, \"veuillez contacter le F/ S-T par téléphone\",\"\")))","v":""}]
[null,null,"nombre de pièces par carton",null,null,null,null,null,null,""]
[null,null,"coût de transport par carton",null,null,null,null,null,null,""]
[null,null,"nombre de cartons renvoyés",null,null,null,null,null,null,""]
[null,null,"temps de tri",null,null,null,null,null,null,""]
[null,null,"coût horaire de tri"]
[null,null,"temps de retouche"]
[null,null,"coût horaire de retouche"]
[null,null,"temps de traitement de la réclamation"]
[null,null,"coût horaire de traitement"]
[null,null,"coût total",{"$f":"IFERROR(((D51/D52)*D53)+D54*D53+D55*D56+D57*D58+D59*D60,\"\")","v":""}]

{"sheet":"16-3-22","index":43,"n_rows":61,"n_cols":33,"rows_kept":61,"cut":false,"hidden":false,"merged":[[31,1,31,2],[32,1,32,2],[47,18,47,19],[49,18,49,19],[25,1,25,2],[26,1,26,2],[27,1,27,2],[28,1,28,2],[29,1,29,2],[30,1,30,2],[24,1,24,2],[12,1,12,2],[13,1,13,2],[14,1,14,2],[15,1,15,2],[16,1,16,2],[17,1,18,1],[19,1,19,2],[20,1,20,2],[21,1,21,2],[22,1,22,2],[23,1,23,2],[1,2,4,3],[1,4,4,16],[1,17,1,19],[1,21,1,23],[2,17,2,19],[2,21,2,23],[3,17,3,19],[3,21,3,23],[4,17,4,19],[4,21,4,23]]}
[]
[null,null,null,null,"Rapport journalier",null,null,null,null,null,null,null,null,null,null,null,null,"Code:DAS-SMQ-24"]
[null,null,null,null,null,null,null,null,null,null,null,null,null,null,null,null,null,"Date: 27/12/2019"]
[null,null,null,null,null,null,null,null,null,null,null,null,null,null,null,null,null,"Version:01"]
[null,null,null,null,null,null,null,null,null,null,null,null,null,null,null,null,null,"Page:1"]
[]
[]
[]
[]
[]
[]
[null,null,null,"A","B","C","D","E","F","M","N","O","P","I","L","K","J","G","H"]
[null,"Machine",null,"SST16","SB16","BIGLIA 301 SM","BIGLIA 42 S2M bitourelle","L32","TSUGAMI","MORI SEIKI 3 axes","MORI SEIKI 5 axes","HARDING","KITAMURA","MULTIBROCHE","NAKAMURA","TOUR WEILER"]
[null,"Référence",null,"T-RB400-MajC","G022-CP1","G011-A","MI018-B42","200200-2022","B55 6*14.8","I110-01-004","PIG-11D","I006","I004","MPS000300","F045-CP2-NAK","199400-1","PT8666","68.0814","AXE-INOX-D8-L58"]
[null,"Désignation",null,"RIVET TRB400-MajC","AXE D15-M11x100","Bague Acier D32*22 L=21 maj-c","GOUJON DE ROUE MITSIBITCHI GM-SUR-B42","Embout de tige-2022","Rivet couvercle B55","INSERT LEVIER SURMOULEE 345833-01 - fraisage ","PIGNON 11 DENTS FRAISAGE","CAL SUSPENSION PM ISUZU-HARDING","ECROU SUSPENSION ISUZU-HARDING","raccord HEX 17","BAGUE DECOLLETEE TUBE D'EAU UNO DISEL -CP2 NAK","tirant acier D6 maj-1","Rehausse-NAKAMURHA","Buse droite à collerette Ø8","AXE INOX D8 L58"]
[null,"Compteur 8h ",null,50090,0,4414,3851,4771,28080,705,270,281,281,0,685,10947,290,18880,13120]
[null,"Compteur 17h",null,51700,243,5020,4480,4771,30522,740,270,285,285,0,803,12161,760,19663,14600]
[null,"Enregistrement","9h"]
[null,null,"16h"]
[null,"Identification"]
[null,"Propreté des tables de contrôle"]
[null,"Rangement des outils de contrôle"]
[null,"Existance de l'OF"]
[null,"Affutage",null,null,null,null,null,null,null,null,null,null,null,null,null,null,null,null,null,{"$f":"+COUNTA(D24:S24)","v":0}]
[null,"Maintenance"]
[null,"Nombre des NC poubelle "]
[null,"Nombre des NC à retoucher"]
[null,"Machine pour retouche"]
[null,"Panne"]
[null,"Cout pièces de rechange",null,null,null,null,null,null,null,null,null,null,null,null,null,null,null,null,null,{"$f":"SUM(D30:S30)","v":0}]
[null,"prix de revient pièce",null,{"$f":"IFERROR(VLOOKUP(D14,'Prix de revient'!$A:$D,4,0),0)","v":0},{"$f":"IFERROR(VLOOKUP(E14,'Prix de revient'!$A:$D,4,0),0)","v":0},{"$f":"IFERROR(VLOOKUP(F14,'Prix de revient'!$A:$D,4,0),0)","v":0},{"$f":"IFERROR(VLOOKUP(G14,'Prix de revient'!$A:$D,4,0),0)","v":0},{"$f":"IFERROR(VLOOKUP(H14,'Prix de revient'!$A:$D,4,0),0)","v":0},{"$f":"IFERROR(VLOOKUP(I14,'Prix de revient'!$A:$D,4,0),0)","v":0},{"$f":"IFERROR(VLOOKUP(J14,'Prix de revient'!$A:$D,4,0),0)","v":2.1488},{"$f":"IFERROR(VLOOKUP(K14,'Prix de revient'!$A:$D,4,0),0)","v":0},{"$f":"IFERROR(VLOOKUP(L14,'Prix de revient'!$A:$D,4,0),0)","v":0},{"$f":"IFERROR(VLOOKUP(M14,'Prix de revient'!$A:$D,4,0),0)","v":0},{"$f":"IFERROR(VLOOKUP(N14,'Prix de revient'!$A:$D,4,0),0)","v":0},{"$f":"IFERROR(VLOOKUP(O14,'Prix de revient'!$A:$D,4,0),0)","v":0},{"$f":"IFERROR(VLOOKUP(P14,'Prix de revient'!$A:$D,4,0),0)","v":0},{"$f":"IFERROR(VLOOKUP(Q14,'Prix de revient'!$A:$D,4,0),0)","v":0},{"$f":"IFERROR(VLOOKUP(R14,'Prix de revient'!$A:$D,4,0),0)","v":0},{"$f":"IFERROR(VLOOKUP(S14,'Prix de revient'!$A:$D,4,0),0)","v":0}]
[null,"coût de rebuts",null,{"$f":"D26*D31","v":0},{"$f":"E26*E31","v":0},0,0,0,0,0,0,0,0,0,0,0,0,0,0,{"$f":"SUM(D32:S32)","v":0}]
[null,"gestion de modification"]
[]
[]
[]
[]
[]
[]
[]
[null,null,"Clients","Audit","Réclamation","Avoir",null,"Fournisseurs/ sous-traitants","Réception de matiere","Probleme qualité",null,"Les formations professionnelles","Cout","Chiffrage décliné","Actions à suivre",null,"Article qui a subit un tri","durée du tri","Nombre des pieces non-conformes","ouvrier faisant le tri","cout par tri",null,"Article qui a subit la reprise","durée de la reprise","opérateur faisant la reprise","coût de reprise",null,null,null,"Machine ","article","gamme","objet de la modification"]
[null,null,null,null,null,null,null,null,null,null,null,null,null,null,null,null,null,null,null,null,{"$f":"IF(R42=\"\",\"\",R42*VLOOKUP(T42,'cout opérateur machines'!A1:B8,2,0))","v":""},null,null,null,null,{"$f":"X42*8","v":0}]
[null,null,null,null,null,null,null,null,null,null,null,null,null,null,null,null,null,null,null,null,{"$f":"IF(R43=\"\",\"\",R43*VLOOKUP(T43,'cout opérateur machines'!A2:B9,2,0))","v":""},null,null,null,null,{"$f":"X43*8","v":0}]
[null,null,null,null,null,null,null,null,null,null,null,null,null,null,null,null,null,null,null,null,{"$f":"IF(R44=\"\",\"\",R44*VLOOKUP(T44,'cout opérateur machines'!A3:B10,2,0))","v":""},null,null,null,null,0]
[null,null,null,null,null,null,null,null,null,null,null,null,null,null,null,null,null,null,null,null,{"$f":"IF(R45=\"\",\"\",R45*VLOOKUP(T45,'cout opérateur machines'!A4:B11,2,0))","v":""},null,null,null,null,0]
[null,null,null,null,null,null,null,null,null,null,null,null,null,null,null,null,null,null,null,null,{"$f":"IF(R46=\"\",\"\",R46*VLOOKUP(T46,'cout opérateur machines'!A5:B12,2,0))","v":""},null,null,null,null,0]
[null,null,null,null,null,null,null,null,null,null,null,null,null,null,null,null,null,null,null,null,{"$f":"IF(R47=\"\",\"\",R47*VLOOKUP(T47,'cout opérateur machines'!A6:B13,2,0))","v":""},null,null,null,null,0]
[null,null,null,null,{"$f":"COUNTA(E42:E47)","v":0},{"$f":"SUM(F42:F47)","v":0},null,null,null,null,null,null,{"$f":"SUM(M42:M47)","v":0},"causes de refus",null,null,null,null,"cout total du jour",null,{"$f":"SUM(U42:U47)","v":0},null,null,null,null,0]
[null,null,null,null,null,null,null,"envoi des réclamations F/ S-T","réponse F/ S-T","alerte",null,null,null,null,null,null,null,null,null,null,null,null,null,null,null,{"$f":"SUM(Z42:Z48)","v":0}]
[null,null,"dans le cas d'une réclamation",null,null,null,null,null,null,{"$f":"IF(J42=\"\",\"\",IF(H50=0,\" réclamation non traitée\",IF(I50=0, \"veuillez contacter le F/ S-T par téléphone\",\"\")))","v":""},null,null,null,null,null,null,null,null,"N° mois",null,3]
[null,null,"nombre de pièces NC",null,null,null,null,null,null,{"$f":"IF(J43=\"\",\"\",IF(H51=0,\" réclamation non traitée\",IF(I51=0, \"veuillez contacter le F/ S-T par téléphone\",\"\")))","v":""}]
[null,null,"nombre de pièces par carton",null,null,null,null,null,null,""]
[null,null,"coût de transport par carton",null,null,null,null,null,null,""]
[null,null,"nombre de cartons renvoyés",null,null,null,null,null,null,""]
[null,null,"temps de tri",null,null,null,null,null,null,""]
[null,null,"coût horaire de tri"]
[null,null,"temps de retouche"]
[null,null,"coût horaire de retouche"]
[null,null,"temps de traitement de la réclamation"]
[null,null,"coût horaire de traitement"]
[null,null,"coût total",{"$f":"IFERROR(((D51/D52)*D53)+D54*D53+D55*D56+D57*D58+D59*D60,\"\")","v":""}]

{"sheet":"15-3-22","index":44,"n_rows":61,"n_cols":33,"rows_kept":61,"cut":false,"hidden":false,"merged":[[31,1,31,2],[32,1,32,2],[47,18,47,19],[49,18,49,19],[25,1,25,2],[26,1,26,2],[27,1,27,2],[28,1,28,2],[29,1,29,2],[30,1,30,2],[24,1,24,2],[12,1,12,2],[13,1,13,2],[14,1,14,2],[15,1,15,2],[16,1,16,2],[17,1,18,1],[19,1,19,2],[20,1,20,2],[21,1,21,2],[22,1,22,2],[23,1,23,2],[1,2,4,3],[1,4,4,16],[1,17,1,19],[1,21,1,23],[2,17,2,19],[2,21,2,23],[3,17,3,19],[3,21,3,23],[4,17,4,19],[4,21,4,23]]}
[]
[null,null,null,null,"Rapport journalier",null,null,null,null,null,null,null,null,null,null,null,null,"Code:DAS-SMQ-24"]
[null,null,null,null,null,null,null,null,null,null,null,null,null,null,null,null,null,"Date: 27/12/2019"]
[null,null,null,null,null,null,null,null,null,null,null,null,null,null,null,null,null,"Version:01"]
[null,null,null,null,null,null,null,null,null,null,null,null,null,null,null,null,null,"Page:1"]
[]
[]
[]
[]
[]
[]
[null,null,null,"A","B","C","D","E","F","M","N","O","P","I","L","K","J","G","H"]
[null,"Machine",null,"SST16","SB16","BIGLIA 301 SM","BIGLIA 42 S2M bitourelle","L32","TSUGAMI","MORI SEIKI 3 axes","MORI SEIKI 5 axes","HARDING","KITAMURA","MULTIBROCHE","NAKAMURA","TOUR WEILER"]
[null,"Référence",null,"T-RB400-MajC","10.2*6.7*20.5","G011-A","MI018-B42","200200-2022","B55 6*14.8","I110-01-004","PIG-11D","I006","I004","MPS000300","F045-CP2-NAK","199400-1","PT8666","68.0814","AXE-INOX-D8-L58"]
[null,"Désignation",null,"RIVET TRB400-MajC","Bague Acier 10.2*6.7*20.5","Bague Acier D32*22 L=21 maj-c","GOUJON DE ROUE MITSIBITCHI GM-SUR-B42","Embout de tige-2022","Rivet couvercle B55","INSERT LEVIER SURMOULEE 345833-01 - fraisage ","PIGNON 11 DENTS FRAISAGE","CAL SUSPENSION PM ISUZU-HARDING","ECROU SUSPENSION ISUZU-HARDING","raccord HEX 17","BAGUE DECOLLETEE TUBE D'EAU UNO DISEL -CP2 NAK","tirant acier D6 maj-1","Rehausse-NAKAMURHA","Buse droite à collerette Ø8","AXE INOX D8 L58"]
[null,"Compteur 8h ",null,48542,1620,3902,3440,4771,25555,666,270,253,253,0,590,9643,0,18112,11640]
[null,"Compteur 17h",null,50090,2200,4414,3851,4771,28080,705,270,281,281,0,685,10947,290,18880,13120]
[null,"Enregistrement","9h"]
[null,null,"16h"]
[null,"Identification"]
[null,"Propreté des tables de contrôle"]
[null,"Rangement des outils de contrôle"]
[null,"Existance de l'OF"]
[null,"Affutage",null,null,null,null,null,null,null,null,null,null,null,null,null,null,null,null,null,{"$f":"+COUNTA(D24:S24)","v":0}]
[null,"Maintenance"]
[null,"Nombre des NC poubelle "]
[null,"Nombre des NC à retoucher"]
[null,"Machine pour retouche"]
[null,"Panne"]
[null,"Cout pièces de rechange",null,null,null,null,null,null,null,null,null,null,null,null,null,null,null,null,null,{"$f":"SUM(D30:S30)","v":0}]
[null,"prix de revient pièce",null,{"$f":"IFERROR(VLOOKUP(D14,'Prix de revient'!$A:$D,4,0),0)","v":0},{"$f":"IFERROR(VLOOKUP(E14,'Prix de revient'!$A:$D,4,0),0)","v":0},{"$f":"IFERROR(VLOOKUP(F14,'Prix de revient'!$A:$D,4,0),0)","v":0},{"$f":"IFERROR(VLOOKUP(G14,'Prix de revient'!$A:$D,4,0),0)","v":0},{"$f":"IFERROR(VLOOKUP(H14,'Prix de revient'!$A:$D,4,0),0)","v":0},{"$f":"IFERROR(VLOOKUP(I14,'Prix de revient'!$A:$D,4,0),0)","v":0},{"$f":"IFERROR(VLOOKUP(J14,'Prix de revient'!$A:$D,4,0),0)","v":2.1488},{"$f":"IFERROR(VLOOKUP(K14,'Prix de revient'!$A:$D,4,0),0)","v":0},{"$f":"IFERROR(VLOOKUP(L14,'Prix de revient'!$A:$D,4,0),0)","v":0},{"$f":"IFERROR(VLOOKUP(M14,'Prix de revient'!$A:$D,4,0),0)","v":0},{"$f":"IFERROR(VLOOKUP(N14,'Prix de revient'!$A:$D,4,0),0)","v":0},{"$f":"IFERROR(VLOOKUP(O14,'Prix de revient'!$A:$D,4,0),0)","v":0},{"$f":"IFERROR(VLOOKUP(P14,'Prix de revient'!$A:$D,4,0),0)","v":0},{"$f":"IFERROR(VLOOKUP(Q14,'Prix de revient'!$A:$D,4,0),0)","v":0},{"$f":"IFERROR(VLOOKUP(R14,'Prix de revient'!$A:$D,4,0),0)","v":0},{"$f":"IFERROR(VLOOKUP(S14,'Prix de revient'!$A:$D,4,0),0)","v":0}]
[null,"coût de rebuts",null,{"$f":"D26*D31","v":0},{"$f":"E26*E31","v":0},0,0,0,0,0,0,0,0,0,0,0,0,0,0,{"$f":"SUM(D32:S32)","v":0}]
[null,"gestion de modification"]
[]
[]
[]
[]
[]
[]
[]
[null,null,"Clients","Audit","Réclamation","Avoir",null,"Fournisseurs/ sous-traitants","Réception de matiere","Probleme qualité",null,"Les formations professionnelles","Cout","Chiffrage décliné","Actions à suivre",null,"Article qui a subit un tri","durée du tri","Nombre des pieces non-conformes","ouvrier faisant le tri","cout par tri",null,"Article qui a subit la reprise","durée de la reprise","opérateur faisant la reprise","coût de reprise",null,null,null,"Machine ","article","gamme","objet de la modification"]
[null,null,null,null,null,null,null,null,null,null,null,null,null,null,null,null,null,null,null,null,{"$f":"IF(R42=\"\",\"\",R42*VLOOKUP(T42,'cout opérateur machines'!A1:B8,2,0))","v":""},null,null,null,null,{"$f":"X42*8","v":0}]
[null,null,null,null,null,null,null,null,null,null,null,null,null,null,null,null,null,null,null,null,{"$f":"IF(R43=\"\",\"\",R43*VLOOKUP(T43,'cout opérateur machines'!A2:B9,2,0))","v":""},null,null,null,null,{"$f":"X43*8","v":0}]
[null,null,null,null,null,null,null,null,null,null,null,null,null,null,null,null,null,null,null,null,{"$f":"IF(R44=\"\",\"\",R44*VLOOKUP(T44,'cout opérateur machines'!A3:B10,2,0))","v":""},null,null,null,null,0]
[null,null,null,null,null,null,null,null,null,null,null,null,null,null,null,null,null,null,null,null,{"$f":"IF(R45=\"\",\"\",R45*VLOOKUP(T45,'cout opérateur machines'!A4:B11,2,0))","v":""},null,null,null,null,0]
[null,null,null,null,null,null,null,null,null,null,null,null,null,null,null,null,null,null,null,null,{"$f":"IF(R46=\"\",\"\",R46*VLOOKUP(T46,'cout opérateur machines'!A5:B12,2,0))","v":""},null,null,null,null,0]
[null,null,null,null,null,null,null,null,null,null,null,null,null,null,null,null,null,null,null,null,{"$f":"IF(R47=\"\",\"\",R47*VLOOKUP(T47,'cout opérateur machines'!A6:B13,2,0))","v":""},null,null,null,null,0]
[null,null,null,null,{"$f":"COUNTA(E42:E47)","v":0},{"$f":"SUM(F42:F47)","v":0},null,null,null,null,null,null,{"$f":"SUM(M42:M47)","v":0},"causes de refus",null,null,null,null,"cout total du jour",null,{"$f":"SUM(U42:U47)","v":0},null,null,null,null,0]
[null,null,null,null,null,null,null,"envoi des réclamations F/ S-T","réponse F/ S-T","alerte",null,null,null,null,null,null,null,null,null,null,null,null,null,null,null,{"$f":"SUM(Z42:Z48)","v":0}]
[null,null,"dans le cas d'une réclamation",null,null,null,null,null,null,{"$f":"IF(J42=\"\",\"\",IF(H50=0,\" réclamation non traitée\",IF(I50=0, \"veuillez contacter le F/ S-T par téléphone\",\"\")))","v":""},null,null,null,null,null,null,null,null,"N° mois",null,3]
[null,null,"nombre de pièces NC",null,null,null,null,null,null,{"$f":"IF(J43=\"\",\"\",IF(H51=0,\" réclamation non traitée\",IF(I51=0, \"veuillez contacter le F/ S-T par téléphone\",\"\")))","v":""}]
[null,null,"nombre de pièces par carton",null,null,null,null,null,null,""]
[null,null,"coût de transport par carton",null,null,null,null,null,null,""]
[null,null,"nombre de cartons renvoyés",null,null,null,null,null,null,""]
[null,null,"temps de tri",null,null,null,null,null,null,""]
[null,null,"coût horaire de tri"]
[null,null,"temps de retouche"]
[null,null,"coût horaire de retouche"]
[null,null,"temps de traitement de la réclamation"]
[null,null,"coût horaire de traitement"]
[null,null,"coût total",{"$f":"IFERROR(((D51/D52)*D53)+D54*D53+D55*D56+D57*D58+D59*D60,\"\")","v":""}]

{"sheet":"14-3-22","index":45,"n_rows":61,"n_cols":33,"rows_kept":61,"cut":false,"hidden":false,"merged":[[31,1,31,2],[32,1,32,2],[47,18,47,19],[49,18,49,19],[25,1,25,2],[26,1,26,2],[27,1,27,2],[28,1,28,2],[29,1,29,2],[30,1,30,2],[24,1,24,2],[12,1,12,2],[13,1,13,2],[14,1,14,2],[15,1,15,2],[16,1,16,2],[17,1,18,1],[19,1,19,2],[20,1,20,2],[21,1,21,2],[22,1,22,2],[23,1,23,2],[1,2,4,3],[1,4,4,16],[1,17,1,19],[1,21,1,23],[2,17,2,19],[2,21,2,23],[3,17,3,19],[3,21,3,23],[4,17,4,19],[4,21,4,23]]}
[]
[null,null,null,null,"Rapport journalier",null,null,null,null,null,null,null,null,null,null,null,null,"Code:DAS-SMQ-24"]
[null,null,null,null,null,null,null,null,null,null,null,null,null,null,null,null,null,"Date: 27/12/2019"]
[null,null,null,null,null,null,null,null,null,null,null,null,null,null,null,null,null,"Version:01"]
[null,null,null,null,null,null,null,null,null,null,null,null,null,null,null,null,null,"Page:1"]
[]
[]
[]
[]
[]
[]
[null,null,null,"A","B","C","D","E","F","M","N","O","P","I","L","K","J","G","H"]
[null,"Machine",null,"SST16","SB16","BIGLIA 301 SM","BIGLIA 42 S2M bitourelle","L32","TSUGAMI","MORI SEIKI 3 axes","MORI SEIKI 5 axes","HARDING","KITAMURA","MULTIBROCHE","NAKAMURA","TOUR WEILER"]
[null,"Référence",null,"T-RB400-MajC","10.2*6.7*20.5","G011-A","MI018-B42","200200-2022","B55 6*14.8","I110-01-004","PIG-11D","I006","I004","MPS000300","F045-CP2-NAK","199400-1","18*27*43-2","68.0814","AXE-INOX-D8-L58"]
[null,"Désignation",null,"RIVET TRB400-MajC","Bague Acier 10.2*6.7*20.5","Bague Acier D32*22 L=21 maj-c","GOUJON DE ROUE MITSIBITCHI GM-SUR-B42","Embout de tige-2022","Rivet couvercle B55","INSERT LEVIER SURMOULEE 345833-01 - fraisage ","PIGNON 11 DENTS FRAISAGE","CAL SUSPENSION PM ISUZU-HARDING","ECROU SUSPENSION ISUZU-HARDING","raccord HEX 17","BAGUE DECOLLETEE TUBE D'EAU UNO DISEL -CP2 NAK","tirant acier D6 maj-1","Bague aluminuim 18*27*43-2","Buse droite à collerette Ø8","AXE INOX D8 L58"]
[null,"Compteur 8h ",null,46917,240,3310,2810,4771,23117,629,270,225,225,0,468,7916,876,17316,10210]
[null,"Compteur 17h",null,48542,1620,3902,3440,4771,25555,666,270,253,253,0,590,9643,1427,18112,11640]
[null,"Enregistrement","9h"]
[null,null,"16h"]
[null,"Identification"]
[null,"Propreté des tables de contrôle"]
[null,"Rangement des outils de contrôle"]
[null,"Existance de l'OF"]
[null,"Affutage",null,null,null,null,null,null,null,null,null,null,null,null,null,null,null,null,null,{"$f":"+COUNTA(D24:S24)","v":0}]
[null,"Maintenance"]
[null,"Nombre des NC poubelle "]
[null,"Nombre des NC à retoucher"]
[null,"Machine pour retouche"]
[null,"Panne"]
[null,"Cout pièces de rechange",null,null,null,null,null,null,null,null,null,null,null,null,null,null,null,null,null,{"$f":"SUM(D30:S30)","v":0}]
[null,"prix de revient pièce",null,{"$f":"IFERROR(VLOOKUP(D14,'Prix de revient'!$A:$D,4,0),0)","v":0},{"$f":"IFERROR(VLOOKUP(E14,'Prix de revient'!$A:$D,4,0),0)","v":0},{"$f":"IFERROR(VLOOKUP(F14,'Prix de revient'!$A:$D,4,0),0)","v":0},{"$f":"IFERROR(VLOOKUP(G14,'Prix de revient'!$A:$D,4,0),0)","v":0},{"$f":"IFERROR(VLOOKUP(H14,'Prix de revient'!$A:$D,4,0),0)","v":0},{"$f":"IFERROR(VLOOKUP(I14,'Prix de revient'!$A:$D,4,0),0)","v":0},{"$f":"IFERROR(VLOOKUP(J14,'Prix de revient'!$A:$D,4,0),0)","v":2.1488},{"$f":"IFERROR(VLOOKUP(K14,'Prix de revient'!$A:$D,4,0),0)","v":0},{"$f":"IFERROR(VLOOKUP(L14,'Prix de revient'!$A:$D,4,0),0)","v":0},{"$f":"IFERROR(VLOOKUP(M14,'Prix de revient'!$A:$D,4,0),0)","v":0},{"$f":"IFERROR(VLOOKUP(N14,'Prix de revient'!$A:$D,4,0),0)","v":0},{"$f":"IFERROR(VLOOKUP(O14,'Prix de revient'!$A:$D,4,0),0)","v":0},{"$f":"IFERROR(VLOOKUP(P14,'Prix de revient'!$A:$D,4,0),0)","v":0},{"$f":"IFERROR(VLOOKUP(Q14,'Prix de revient'!$A:$D,4,0),0)","v":0},{"$f":"IFERROR(VLOOKUP(R14,'Prix de revient'!$A:$D,4,0),0)","v":0},{"$f":"IFERROR(VLOOKUP(S14,'Prix de revient'!$A:$D,4,0),0)","v":0}]
[null,"coût de rebuts",null,{"$f":"D26*D31","v":0},{"$f":"E26*E31","v":0},0,0,0,0,0,0,0,0,0,0,0,0,0,0,{"$f":"SUM(D32:S32)","v":0}]
[null,"gestion de modification"]
[]
[]
[]
[]
[]
[]
[]
[null,null,"Clients","Audit","Réclamation","Avoir",null,"Fournisseurs/ sous-traitants","Réception de matiere","Probleme qualité",null,"Les formations professionnelles","Cout","Chiffrage décliné","Actions à suivre",null,"Article qui a subit un tri","durée du tri","Nombre des pieces non-conformes","ouvrier faisant le tri","cout par tri",null,"Article qui a subit la reprise","durée de la reprise","opérateur faisant la reprise","coût de reprise",null,null,null,"Machine ","article","gamme","objet de la modification"]
[null,null,null,null,null,null,null,null,null,null,null,null,null,null,null,null,null,null,null,null,{"$f":"IF(R42=\"\",\"\",R42*VLOOKUP(T42,'cout opérateur machines'!A1:B8,2,0))","v":""},null,null,null,null,{"$f":"X42*8","v":0}]
[null,null,null,null,null,null,null,null,null,null,null,null,null,null,null,null,null,null,null,null,{"$f":"IF(R43=\"\",\"\",R43*VLOOKUP(T43,'cout opérateur machines'!A2:B9,2,0))","v":""},null,null,null,null,{"$f":"X43*8","v":0}]
[null,null,null,null,null,null,null,null,null,null,null,null,null,null,null,null,null,null,null,null,{"$f":"IF(R44=\"\",\"\",R44*VLOOKUP(T44,'cout opérateur machines'!A3:B10,2,0))","v":""},null,null,null,null,0]
[null,null,null,null,null,null,null,null,null,null,null,null,null,null,null,null,null,null,null,null,{"$f":"IF(R45=\"\",\"\",R45*VLOOKUP(T45,'cout opérateur machines'!A4:B11,2,0))","v":""},null,null,null,null,0]
[null,null,null,null,null,null,null,null,null,null,null,null,null,null,null,null,null,null,null,null,{"$f":"IF(R46=\"\",\"\",R46*VLOOKUP(T46,'cout opérateur machines'!A5:B12,2,0))","v":""},null,null,null,null,0]
[null,null,null,null,null,null,null,null,null,null,null,null,null,null,null,null,null,null,null,null,{"$f":"IF(R47=\"\",\"\",R47*VLOOKUP(T47,'cout opérateur machines'!A6:B13,2,0))","v":""},null,null,null,null,0]
[null,null,null,null,{"$f":"COUNTA(E42:E47)","v":0},{"$f":"SUM(F42:F47)","v":0},null,null,null,null,null,null,{"$f":"SUM(M42:M47)","v":0},"causes de refus",null,null,null,null,"cout total du jour",null,{"$f":"SUM(U42:U47)","v":0},null,null,null,null,0]
[null,null,null,null,null,null,null,"envoi des réclamations F/ S-T","réponse F/ S-T","alerte",null,null,null,null,null,null,null,null,null,null,null,null,null,null,null,{"$f":"SUM(Z42:Z48)","v":0}]
[null,null,"dans le cas d'une réclamation",null,null,null,null,null,null,{"$f":"IF(J42=\"\",\"\",IF(H50=0,\" réclamation non traitée\",IF(I50=0, \"veuillez contacter le F/ S-T par téléphone\",\"\")))","v":""},null,null,null,null,null,null,null,null,"N° mois",null,3]
[null,null,"nombre de pièces NC",null,null,null,null,null,null,{"$f":"IF(J43=\"\",\"\",IF(H51=0,\" réclamation non traitée\",IF(I51=0, \"veuillez contacter le F/ S-T par téléphone\",\"\")))","v":""}]
[null,null,"nombre de pièces par carton",null,null,null,null,null,null,""]
[null,null,"coût de transport par carton",null,null,null,null,null,null,""]
[null,null,"nombre de cartons renvoyés",null,null,null,null,null,null,""]
[null,null,"temps de tri",null,null,null,null,null,null,""]
[null,null,"coût horaire de tri"]
[null,null,"temps de retouche"]
[null,null,"coût horaire de retouche"]
[null,null,"temps de traitement de la réclamation"]
[null,null,"coût horaire de traitement"]
[null,null,"coût total",{"$f":"IFERROR(((D51/D52)*D53)+D54*D53+D55*D56+D57*D58+D59*D60,\"\")","v":""}]

{"sheet":"12-3-22","index":46,"n_rows":61,"n_cols":33,"rows_kept":61,"cut":false,"hidden":false,"merged":[[31,1,31,2],[32,1,32,2],[47,18,47,19],[49,18,49,19],[25,1,25,2],[26,1,26,2],[27,1,27,2],[28,1,28,2],[29,1,29,2],[30,1,30,2],[24,1,24,2],[12,1,12,2],[13,1,13,2],[14,1,14,2],[15,1,15,2],[16,1,16,2],[17,1,18,1],[19,1,19,2],[20,1,20,2],[21,1,21,2],[22,1,22,2],[23,1,23,2],[1,2,4,3],[1,4,4,16],[1,17,1,19],[1,21,1,23],[2,17,2,19],[2,21,2,23],[3,17,3,19],[3,21,3,23],[4,17,4,19],[4,21,4,23]]}
[]
[null,null,null,null,"Rapport journalier",null,null,null,null,null,null,null,null,null,null,null,null,"Code:DAS-SMQ-24"]
[null,null,null,null,null,null,null,null,null,null,null,null,null,null,null,null,null,"Date: 27/12/2019"]
[null,null,null,null,null,null,null,null,null,null,null,null,null,null,null,null,null,"Version:01"]
[null,null,null,null,null,null,null,null,null,null,null,null,null,null,null,null,null,"Page:1"]
[]
[]
[]
[]
[]
[]
[null,null,null,"A","B","C","D","E","F","M","N","O","P","I","L","K","J","G","H"]
[null,"Machine",null,"SST16","SB16","BIGLIA 301 SM","BIGLIA 42 S2M bitourelle","L32","TSUGAMI","MORI SEIKI 3 axes","MORI SEIKI 5 axes","HARDING","KITAMURA","MULTIBROCHE","NAKAMURA","TOUR WEILER"]
[null,"Référence",null,"T-RB400-MajC","10.2*6.7*20.5","G011","MI018-B42","200200-2022","B55 6*14.8","I110-01-004","PIG-11D","I006","I004","MPS000300","F045-CP2-NAK","199400-1","18*27*43-2","68.0814","AXE-INOX-D8-L58"]
[null,"Désignation",null,"RIVET TRB400-MajC","Bague Acier 10.2*6.7*20.5","BAGUE D32*22 L=21","GOUJON DE ROUE MITSIBITCHI GM-SUR-B42","Embout de tige-2022","Rivet couvercle B55","INSERT LEVIER SURMOULEE 345833-01 - fraisage ","PIGNON 11 DENTS FRAISAGE","CAL SUSPENSION PM ISUZU-HARDING","ECROU SUSPENSION ISUZU-HARDING","raccord HEX 17","BAGUE DECOLLETEE TUBE D'EAU UNO DISEL -CP2 NAK","tirant acier D6 maj-1","Bague aluminuim 18*27*43-2","Buse droite à collerette Ø8","AXE INOX D8 L58"]
[null,"Compteur 8h ",null,46098,0,3086,2509,4771,21884,620,270,211,211,0,377,6871,576,16927,9502]
[null,"Compteur 17h",null,46917,240,3310,2810,4771,23117,629,270,225,225,0,468,7916,876,17316,10210]
[null,"Enregistrement","9h"]
[null,null,"16h"]
[null,"Identification"]
[null,"Propreté des tables de contrôle"]
[null,"Rangement des outils de contrôle"]
[null,"Existance de l'OF"]
[null,"Affutage",null,null,null,null,null,null,null,null,null,null,null,null,null,null,null,null,null,{"$f":"+COUNTA(D24:S24)","v":0}]
[null,"Maintenance"]
[null,"Nombre des NC poubelle "]
[null,"Nombre des NC à retoucher"]
[null,"Machine pour retouche"]
[null,"Panne"]
[null,"Cout pièces de rechange",null,null,null,null,null,null,null,null,null,null,null,null,null,null,null,null,null,{"$f":"SUM(D30:S30)","v":0}]
[null,"prix de revient pièce",null,{"$f":"IFERROR(VLOOKUP(D14,'Prix de revient'!$A:$D,4,0),0)","v":0},{"$f":"IFERROR(VLOOKUP(E14,'Prix de revient'!$A:$D,4,0),0)","v":0},{"$f":"IFERROR(VLOOKUP(F14,'Prix de revient'!$A:$D,4,0),0)","v":0},{"$f":"IFERROR(VLOOKUP(G14,'Prix de revient'!$A:$D,4,0),0)","v":0},{"$f":"IFERROR(VLOOKUP(H14,'Prix de revient'!$A:$D,4,0),0)","v":0},{"$f":"IFERROR(VLOOKUP(I14,'Prix de revient'!$A:$D,4,0),0)","v":0},{"$f":"IFERROR(VLOOKUP(J14,'Prix de revient'!$A:$D,4,0),0)","v":2.1488},{"$f":"IFERROR(VLOOKUP(K14,'Prix de revient'!$A:$D,4,0),0)","v":0},{"$f":"IFERROR(VLOOKUP(L14,'Prix de revient'!$A:$D,4,0),0)","v":0},{"$f":"IFERROR(VLOOKUP(M14,'Prix de revient'!$A:$D,4,0),0)","v":0},{"$f":"IFERROR(VLOOKUP(N14,'Prix de revient'!$A:$D,4,0),0)","v":0},{"$f":"IFERROR(VLOOKUP(O14,'Prix de revient'!$A:$D,4,0),0)","v":0},{"$f":"IFERROR(VLOOKUP(P14,'Prix de revient'!$A:$D,4,0),0)","v":0},{"$f":"IFERROR(VLOOKUP(Q14,'Prix de revient'!$A:$D,4,0),0)","v":0},{"$f":"IFERROR(VLOOKUP(R14,'Prix de revient'!$A:$D,4,0),0)","v":0},{"$f":"IFERROR(VLOOKUP(S14,'Prix de revient'!$A:$D,4,0),0)","v":0}]
[null,"coût de rebuts",null,{"$f":"D26*D31","v":0},{"$f":"E26*E31","v":0},0,0,0,0,0,0,0,0,0,0,0,0,0,0,{"$f":"SUM(D32:S32)","v":0}]
[null,"gestion de modification"]
[]
[]
[]
[]
[]
[]
[]
[null,null,"Clients","Audit","Réclamation","Avoir",null,"Fournisseurs/ sous-traitants","Réception de matiere","Probleme qualité",null,"Les formations professionnelles","Cout","Chiffrage décliné","Actions à suivre",null,"Article qui a subit un tri","durée du tri","Nombre des pieces non-conformes","ouvrier faisant le tri","cout par tri",null,"Article qui a subit la reprise","durée de la reprise","opérateur faisant la reprise","coût de reprise",null,null,null,"Machine ","article","gamme","objet de la modification"]
[null,null,null,null,null,null,null,null,null,null,null,null,null,null,null,null,null,null,null,null,{"$f":"IF(R42=\"\",\"\",R42*VLOOKUP(T42,'cout opérateur machines'!A1:B8,2,0))","v":""},null,null,null,null,{"$f":"X42*8","v":0}]
[null,null,null,null,null,null,null,null,null,null,null,null,null,null,null,null,null,null,null,null,{"$f":"IF(R43=\"\",\"\",R43*VLOOKUP(T43,'cout opérateur machines'!A2:B9,2,0))","v":""},null,null,null,null,{"$f":"X43*8","v":0}]
[null,null,null,null,null,null,null,null,null,null,null,null,null,null,null,null,null,null,null,null,{"$f":"IF(R44=\"\",\"\",R44*VLOOKUP(T44,'cout opérateur machines'!A3:B10,2,0))","v":""},null,null,null,null,0]
[null,null,null,null,null,null,null,null,null,null,null,null,null,null,null,null,null,null,null,null,{"$f":"IF(R45=\"\",\"\",R45*VLOOKUP(T45,'cout opérateur machines'!A4:B11,2,0))","v":""},null,null,null,null,0]
[null,null,null,null,null,null,null,null,null,null,null,null,null,null,null,null,null,null,null,null,{"$f":"IF(R46=\"\",\"\",R46*VLOOKUP(T46,'cout opérateur machines'!A5:B12,2,0))","v":""},null,null,null,null,0]
[null,null,null,null,null,null,null,null,null,null,null,null,null,null,null,null,null,null,null,null,{"$f":"IF(R47=\"\",\"\",R47*VLOOKUP(T47,'cout opérateur machines'!A6:B13,2,0))","v":""},null,null,null,null,0]
[null,null,null,null,{"$f":"COUNTA(E42:E47)","v":0},{"$f":"SUM(F42:F47)","v":0},null,null,null,null,null,null,{"$f":"SUM(M42:M47)","v":0},"causes de refus",null,null,null,null,"cout total du jour",null,{"$f":"SUM(U42:U47)","v":0},null,null,null,null,0]
[null,null,null,null,null,null,null,"envoi des réclamations F/ S-T","réponse F/ S-T","alerte",null,null,null,null,null,null,null,null,null,null,null,null,null,null,null,{"$f":"SUM(Z42:Z48)","v":0}]
[null,null,"dans le cas d'une réclamation",null,null,null,null,null,null,{"$f":"IF(J42=\"\",\"\",IF(H50=0,\" réclamation non traitée\",IF(I50=0, \"veuillez contacter le F/ S-T par téléphone\",\"\")))","v":""},null,null,null,null,null,null,null,null,"N° mois",null,3]
[null,null,"nombre de pièces NC",null,null,null,null,null,null,{"$f":"IF(J43=\"\",\"\",IF(H51=0,\" réclamation non traitée\",IF(I51=0, \"veuillez contacter le F/ S-T par téléphone\",\"\")))","v":""}]
[null,null,"nombre de pièces par carton",null,null,null,null,null,null,""]
[null,null,"coût de transport par carton",null,null,null,null,null,null,""]
[null,null,"nombre de cartons renvoyés",null,null,null,null,null,null,""]
[null,null,"temps de tri",null,null,null,null,null,null,""]
[null,null,"coût horaire de tri"]
[null,null,"temps de retouche"]
[null,null,"coût horaire de retouche"]
[null,null,"temps de traitement de la réclamation"]
[null,null,"coût horaire de traitement"]
[null,null,"coût total",{"$f":"IFERROR(((D51/D52)*D53)+D54*D53+D55*D56+D57*D58+D59*D60,\"\")","v":""}]

{"sheet":"11-3-22","index":47,"n_rows":61,"n_cols":33,"rows_kept":61,"cut":false,"hidden":false,"merged":[[31,1,31,2],[32,1,32,2],[47,18,47,19],[49,18,49,19],[25,1,25,2],[26,1,26,2],[27,1,27,2],[28,1,28,2],[29,1,29,2],[30,1,30,2],[24,1,24,2],[12,1,12,2],[13,1,13,2],[14,1,14,2],[15,1,15,2],[16,1,16,2],[17,1,18,1],[19,1,19,2],[20,1,20,2],[21,1,21,2],[22,1,22,2],[23,1,23,2],[1,2,4,3],[1,4,4,16],[1,17,1,19],[1,21,1,23],[2,17,2,19],[2,21,2,23],[3,17,3,19],[3,21,3,23],[4,17,4,19],[4,21,4,23]]}
[]
[null,null,null,null,"Rapport journalier",null,null,null,null,null,null,null,null,null,null,null,null,"Code:DAS-SMQ-24"]
[null,null,null,null,null,null,null,null,null,null,null,null,null,null,null,null,null,"Date: 27/12/2019"]
[null,null,null,null,null,null,null,null,null,null,null,null,null,null,null,null,null,"Version:01"]
[null,null,null,null,null,null,null,null,null,null,null,null,null,null,null,null,null,"Page:1"]
[]
[]
[]
[]
[]
[]
[null,null,null,"A","B","C","D","E","F","M","N","O","P","I","L","K","J","G","H"]
[null,"Machine",null,"SST16","SB16","BIGLIA 301 SM","BIGLIA 42 S2M bitourelle","L32","TSUGAMI","MORI SEIKI 3 axes","MORI SEIKI 5 axes","HARDING","KITAMURA","MULTIBROCHE","NAKAMURA","TOUR WEILER"]
[null,"Référence",null,"T-RB400-MajC","V0098","G011","MI018-B42","200200-2022","B55 6*14.8","I110-01-004","PIG-11D","I006","I004","MPS000300","F045-CP2-NAK","199400-1","18*27*43-2","68.0814","AXE-INOX-D8-L58"]
[null,"Désignation",null,"RIVET TRB400-MajC","VIS DEC ALLU M14","BAGUE D32*22 L=21","GOUJON DE ROUE MITSIBITCHI GM-SUR-B42","Embout de tige-2022","Rivet couvercle B55","INSERT LEVIER SURMOULEE 345833-01 - fraisage ","PIGNON 11 DENTS FRAISAGE","CAL SUSPENSION PM ISUZU-HARDING","ECROU SUSPENSION ISUZU-HARDING","raccord HEX 17","BAGUE DECOLLETEE TUBE D'EAU UNO DISEL -CP2 NAK","tirant acier D6 maj-1","Bague aluminuim 18*27*43-2","Buse droite à collerette Ø8","AXE INOX D8 L58"]
[null,"Compteur 8h ",null,44585,806,2582,1957,4771,19580,593,241,186,186,0,238,5840,56,16156,8066]
[null,"Compteur 17h",null,46098,1103,3086,2509,4771,21884,620,270,211,211,0,377,6871,576,16927,9502]
[null,"Enregistrement","9h"]
[null,null,"16h"]
[null,"Identification"]
[null,"Propreté des tables de contrôle"]
[null,"Rangement des outils de contrôle"]
[null,"Existance de l'OF"]
[null,"Affutage",null,null,null,null,null,null,null,null,null,null,null,null,null,null,null,null,null,{"$f":"+COUNTA(D24:S24)","v":0}]
[null,"Maintenance"]
[null,"Nombre des NC poubelle "]
[null,"Nombre des NC à retoucher"]
[null,"Machine pour retouche"]
[null,"Panne"]
[null,"Cout pièces de rechange",null,null,null,null,null,null,null,null,null,null,null,null,null,null,null,null,null,{"$f":"SUM(D30:S30)","v":0}]
[null,"prix de revient pièce",null,{"$f":"IFERROR(VLOOKUP(D14,'Prix de revient'!$A:$D,4,0),0)","v":0},{"$f":"IFERROR(VLOOKUP(E14,'Prix de revient'!$A:$D,4,0),0)","v":0},{"$f":"IFERROR(VLOOKUP(F14,'Prix de revient'!$A:$D,4,0),0)","v":0},{"$f":"IFERROR(VLOOKUP(G14,'Prix de revient'!$A:$D,4,0),0)","v":0},{"$f":"IFERROR(VLOOKUP(H14,'Prix de revient'!$A:$D,4,0),0)","v":0},{"$f":"IFERROR(VLOOKUP(I14,'Prix de revient'!$A:$D,4,0),0)","v":0},{"$f":"IFERROR(VLOOKUP(J14,'Prix de revient'!$A:$D,4,0),0)","v":2.1488},{"$f":"IFERROR(VLOOKUP(K14,'Prix de revient'!$A:$D,4,0),0)","v":0},{"$f":"IFERROR(VLOOKUP(L14,'Prix de revient'!$A:$D,4,0),0)","v":0},{"$f":"IFERROR(VLOOKUP(M14,'Prix de revient'!$A:$D,4,0),0)","v":0},{"$f":"IFERROR(VLOOKUP(N14,'Prix de revient'!$A:$D,4,0),0)","v":0},{"$f":"IFERROR(VLOOKUP(O14,'Prix de revient'!$A:$D,4,0),0)","v":0},{"$f":"IFERROR(VLOOKUP(P14,'Prix de revient'!$A:$D,4,0),0)","v":0},{"$f":"IFERROR(VLOOKUP(Q14,'Prix de revient'!$A:$D,4,0),0)","v":0},{"$f":"IFERROR(VLOOKUP(R14,'Prix de revient'!$A:$D,4,0),0)","v":0},{"$f":"IFERROR(VLOOKUP(S14,'Prix de revient'!$A:$D,4,0),0)","v":0}]
[null,"coût de rebuts",null,{"$f":"D26*D31","v":0},{"$f":"E26*E31","v":0},0,0,0,0,0,0,0,0,0,0,0,0,0,0,{"$f":"SUM(D32:S32)","v":0}]
[null,"gestion de modification"]
[]
[]
[]
[]
[]
[]
[]
[null,null,"Clients","Audit","Réclamation","Avoir",null,"Fournisseurs/ sous-traitants","Réception de matiere","Probleme qualité",null,"Les formations professionnelles","Cout","Chiffrage décliné","Actions à suivre",null,"Article qui a subit un tri","durée du tri","Nombre des pieces non-conformes","ouvrier faisant le tri","cout par tri",null,"Article qui a subit la reprise","durée de la reprise","opérateur faisant la reprise","coût de reprise",null,null,null,"Machine ","article","gamme","objet de la modification"]
[null,null,null,null,null,null,null,null,null,null,null,null,null,null,null,null,null,null,null,null,{"$f":"IF(R42=\"\",\"\",R42*VLOOKUP(T42,'cout opérateur machines'!A1:B8,2,0))","v":""},null,null,null,null,{"$f":"X42*8","v":0}]
[null,null,null,null,null,null,null,null,null,null,null,null,null,null,null,null,null,null,null,null,{"$f":"IF(R43=\"\",\"\",R43*VLOOKUP(T43,'cout opérateur machines'!A2:B9,2,0))","v":""},null,null,null,null,{"$f":"X43*8","v":0}]
[null,null,null,null,null,null,null,null,null,null,null,null,null,null,null,null,null,null,null,null,{"$f":"IF(R44=\"\",\"\",R44*VLOOKUP(T44,'cout opérateur machines'!A3:B10,2,0))","v":""},null,null,null,null,0]
[null,null,null,null,null,null,null,null,null,null,null,null,null,null,null,null,null,null,null,null,{"$f":"IF(R45=\"\",\"\",R45*VLOOKUP(T45,'cout opérateur machines'!A4:B11,2,0))","v":""},null,null,null,null,0]
[null,null,null,null,null,null,null,null,null,null,null,null,null,null,null,null,null,null,null,null,{"$f":"IF(R46=\"\",\"\",R46*VLOOKUP(T46,'cout opérateur machines'!A5:B12,2,0))","v":""},null,null,null,null,0]
[null,null,null,null,null,null,null,null,null,null,null,null,null,null,null,null,null,null,null,null,{"$f":"IF(R47=\"\",\"\",R47*VLOOKUP(T47,'cout opérateur machines'!A6:B13,2,0))","v":""},null,null,null,null,0]
[null,null,null,null,{"$f":"COUNTA(E42:E47)","v":0},{"$f":"SUM(F42:F47)","v":0},null,null,null,null,null,null,{"$f":"SUM(M42:M47)","v":0},"causes de refus",null,null,null,null,"cout total du jour",null,{"$f":"SUM(U42:U47)","v":0},null,null,null,null,0]
[null,null,null,null,null,null,null,"envoi des réclamations F/ S-T","réponse F/ S-T","alerte",null,null,null,null,null,null,null,null,null,null,null,null,null,null,null,{"$f":"SUM(Z42:Z48)","v":0}]
[null,null,"dans le cas d'une réclamation",null,null,null,null,null,null,{"$f":"IF(J42=\"\",\"\",IF(H50=0,\" réclamation non traitée\",IF(I50=0, \"veuillez contacter le F/ S-T par téléphone\",\"\")))","v":""},null,null,null,null,null,null,null,null,"N° mois",null,3]
[null,null,"nombre de pièces NC",null,null,null,null,null,null,{"$f":"IF(J43=\"\",\"\",IF(H51=0,\" réclamation non traitée\",IF(I51=0, \"veuillez contacter le F/ S-T par téléphone\",\"\")))","v":""}]
[null,null,"nombre de pièces par carton",null,null,null,null,null,null,""]
[null,null,"coût de transport par carton",null,null,null,null,null,null,""]
[null,null,"nombre de cartons renvoyés",null,null,null,null,null,null,""]
[null,null,"temps de tri",null,null,null,null,null,null,""]
[null,null,"coût horaire de tri"]
[null,null,"temps de retouche"]
[null,null,"coût horaire de retouche"]
[null,null,"temps de traitement de la réclamation"]
[null,null,"coût horaire de traitement"]
[null,null,"coût total",{"$f":"IFERROR(((D51/D52)*D53)+D54*D53+D55*D56+D57*D58+D59*D60,\"\")","v":""}]

{"sheet":"10-3-22","index":48,"n_rows":61,"n_cols":33,"rows_kept":61,"cut":false,"hidden":false,"merged":[[31,1,31,2],[32,1,32,2],[47,18,47,19],[49,18,49,19],[25,1,25,2],[26,1,26,2],[27,1,27,2],[28,1,28,2],[29,1,29,2],[30,1,30,2],[24,1,24,2],[12,1,12,2],[13,1,13,2],[14,1,14,2],[15,1,15,2],[16,1,16,2],[17,1,18,1],[19,1,19,2],[20,1,20,2],[21,1,21,2],[22,1,22,2],[23,1,23,2],[1,2,4,3],[1,4,4,16],[1,17,1,19],[1,21,1,23],[2,17,2,19],[2,21,2,23],[3,17,3,19],[3,21,3,23],[4,17,4,19],[4,21,4,23]]}
[]
[null,null,null,null,"Rapport journalier",null,null,null,null,null,null,null,null,null,null,null,null,"Code:DAS-SMQ-24"]
[null,null,null,null,null,null,null,null,null,null,null,null,null,null,null,null,null,"Date: 27/12/2019"]
[null,null,null,null,null,null,null,null,null,null,null,null,null,null,null,null,null,"Version:01"]
[null,null,null,null,null,null,null,null,null,null,null,null,null,null,null,null,null,"Page:1"]
[]
[]
[]
[]
[]
[]
[null,null,null,"A","B","C","D","E","F","M","N","O","P","I","L","K","J","G","H"]
[null,"Machine",null,"SST16","SB16","BIGLIA 301 SM","BIGLIA 42 S2M bitourelle","L32","TSUGAMI","MORI SEIKI 3 axes","MORI SEIKI 5 axes","HARDING","KITAMURA","MULTIBROCHE","NAKAMURA","TOUR WEILER"]
[null,"Référence",null,"T-RB400-MajC","V0098","G011","MI018-B42","200200-2022","B55 6*14.8","I110-01-004","PIG-11D","I006","I004","MPS000300","F045-CP2-NAK","199400-a","18*27*43","68.0814","AXE-INOX-D8-L58"]
[null,"Désignation",null,"RIVET TRB400-MajC","VIS DEC ALLU M14","BAGUE D32*22 L=21","GOUJON DE ROUE MITSIBITCHI GM-SUR-B42","Embout de tige-2022","Rivet couvercle B55","INSERT LEVIER SURMOULEE 345833-01 - fraisage ","PIGNON 11 DENTS FRAISAGE","CAL SUSPENSION PM ISUZU-HARDING","ECROU SUSPENSION ISUZU-HARDING","raccord HEX 17","BAGUE DECOLLETEE TUBE D'EAU UNO DISEL -CP2 NAK","Tirant acier D6 maj-c","Bague aliminium 18*27*43 par chute","Buse droite à collerette Ø8","AXE INOX D8 L58"]
[null,"Compteur 8h ",null,42974,340,1986,1398,4771,17333,576,200,158,158,0,143,5102,0,15440,6617]
[null,"Compteur 17h",null,44585,806,2582,1957,4771,19580,593,241,186,186,0,238,5840,56,16156,8066]
[null,"Enregistrement","9h"]
[null,null,"16h"]
[null,"Identification"]
[null,"Propreté des tables de contrôle"]
[null,"Rangement des outils de contrôle"]
[null,"Existance de l'OF"]
[null,"Affutage",null,null,null,null,null,null,null,null,null,null,null,null,null,null,null,null,null,{"$f":"+COUNTA(D24:S24)","v":0}]
[null,"Maintenance"]
[null,"Nombre des NC poubelle "]
[null,"Nombre des NC à retoucher"]
[null,"Machine pour retouche"]
[null,"Panne"]
[null,"Cout pièces de rechange",null,null,null,null,null,null,null,null,null,null,null,null,null,null,null,null,null,{"$f":"SUM(D30:S30)","v":0}]
[null,"prix de revient pièce",null,{"$f":"IFERROR(VLOOKUP(D14,'Prix de revient'!$A:$D,4,0),0)","v":0},{"$f":"IFERROR(VLOOKUP(E14,'Prix de revient'!$A:$D,4,0),0)","v":0},{"$f":"IFERROR(VLOOKUP(F14,'Prix de revient'!$A:$D,4,0),0)","v":0},{"$f":"IFERROR(VLOOKUP(G14,'Prix de revient'!$A:$D,4,0),0)","v":0},{"$f":"IFERROR(VLOOKUP(H14,'Prix de revient'!$A:$D,4,0),0)","v":0},{"$f":"IFERROR(VLOOKUP(I14,'Prix de revient'!$A:$D,4,0),0)","v":0},{"$f":"IFERROR(VLOOKUP(J14,'Prix de revient'!$A:$D,4,0),0)","v":2.1488},{"$f":"IFERROR(VLOOKUP(K14,'Prix de revient'!$A:$D,4,0),0)","v":0},{"$f":"IFERROR(VLOOKUP(L14,'Prix de revient'!$A:$D,4,0),0)","v":0},{"$f":"IFERROR(VLOOKUP(M14,'Prix de revient'!$A:$D,4,0),0)","v":0},{"$f":"IFERROR(VLOOKUP(N14,'Prix de revient'!$A:$D,4,0),0)","v":0},{"$f":"IFERROR(VLOOKUP(O14,'Prix de revient'!$A:$D,4,0),0)","v":0},{"$f":"IFERROR(VLOOKUP(P14,'Prix de revient'!$A:$D,4,0),0)","v":0},{"$f":"IFERROR(VLOOKUP(Q14,'Prix de revient'!$A:$D,4,0),0)","v":0},{"$f":"IFERROR(VLOOKUP(R14,'Prix de revient'!$A:$D,4,0),0)","v":0},{"$f":"IFERROR(VLOOKUP(S14,'Prix de revient'!$A:$D,4,0),0)","v":0}]
[null,"coût de rebuts",null,{"$f":"D26*D31","v":0},{"$f":"E26*E31","v":0},0,0,0,0,0,0,0,0,0,0,0,0,0,0,{"$f":"SUM(D32:S32)","v":0}]
[null,"gestion de modification"]
[]
[]
[]
[]
[]
[]
[]
[null,null,"Clients","Audit","Réclamation","Avoir",null,"Fournisseurs/ sous-traitants","Réception de matiere","Probleme qualité",null,"Les formations professionnelles","Cout","Chiffrage décliné","Actions à suivre",null,"Article qui a subit un tri","durée du tri","Nombre des pieces non-conformes","ouvrier faisant le tri","cout par tri",null,"Article qui a subit la reprise","durée de la reprise","opérateur faisant la reprise","coût de reprise",null,null,null,"Machine ","article","gamme","objet de la modification"]
[null,null,null,null,null,null,null,null,null,null,null,null,null,null,null,null,null,null,null,null,{"$f":"IF(R42=\"\",\"\",R42*VLOOKUP(T42,'cout opérateur machines'!A1:B8,2,0))","v":""},null,null,null,null,{"$f":"X42*8","v":0}]
[null,null,null,null,null,null,null,null,null,null,null,null,null,null,null,null,null,null,null,null,{"$f":"IF(R43=\"\",\"\",R43*VLOOKUP(T43,'cout opérateur machines'!A2:B9,2,0))","v":""},null,null,null,null,{"$f":"X43*8","v":0}]
[null,null,null,null,null,null,null,null,null,null,null,null,null,null,null,null,null,null,null,null,{"$f":"IF(R44=\"\",\"\",R44*VLOOKUP(T44,'cout opérateur machines'!A3:B10,2,0))","v":""},null,null,null,null,0]
[null,null,null,null,null,null,null,null,null,null,null,null,null,null,null,null,null,null,null,null,{"$f":"IF(R45=\"\",\"\",R45*VLOOKUP(T45,'cout opérateur machines'!A4:B11,2,0))","v":""},null,null,null,null,0]
[null,null,null,null,null,null,null,null,null,null,null,null,null,null,null,null,null,null,null,null,{"$f":"IF(R46=\"\",\"\",R46*VLOOKUP(T46,'cout opérateur machines'!A5:B12,2,0))","v":""},null,null,null,null,0]
[null,null,null,null,null,null,null,null,null,null,null,null,null,null,null,null,null,null,null,null,{"$f":"IF(R47=\"\",\"\",R47*VLOOKUP(T47,'cout opérateur machines'!A6:B13,2,0))","v":""},null,null,null,null,0]
[null,null,null,null,{"$f":"COUNTA(E42:E47)","v":0},{"$f":"SUM(F42:F47)","v":0},null,null,null,null,null,null,{"$f":"SUM(M42:M47)","v":0},"causes de refus",null,null,null,null,"cout total du jour",null,{"$f":"SUM(U42:U47)","v":0},null,null,null,null,0]
[null,null,null,null,null,null,null,"envoi des réclamations F/ S-T","réponse F/ S-T","alerte",null,null,null,null,null,null,null,null,null,null,null,null,null,null,null,{"$f":"SUM(Z42:Z48)","v":0}]
[null,null,"dans le cas d'une réclamation",null,null,null,null,null,null,{"$f":"IF(J42=\"\",\"\",IF(H50=0,\" réclamation non traitée\",IF(I50=0, \"veuillez contacter le F/ S-T par téléphone\",\"\")))","v":""},null,null,null,null,null,null,null,null,"N° mois",null,3]
[null,null,"nombre de pièces NC",null,null,null,null,null,null,{"$f":"IF(J43=\"\",\"\",IF(H51=0,\" réclamation non traitée\",IF(I51=0, \"veuillez contacter le F/ S-T par téléphone\",\"\")))","v":""}]
[null,null,"nombre de pièces par carton",null,null,null,null,null,null,""]
[null,null,"coût de transport par carton",null,null,null,null,null,null,""]
[null,null,"nombre de cartons renvoyés",null,null,null,null,null,null,""]
[null,null,"temps de tri",null,null,null,null,null,null,""]
[null,null,"coût horaire de tri"]
[null,null,"temps de retouche"]
[null,null,"coût horaire de retouche"]
[null,null,"temps de traitement de la réclamation"]
[null,null,"coût horaire de traitement"]
[null,null,"coût total",{"$f":"IFERROR(((D51/D52)*D53)+D54*D53+D55*D56+D57*D58+D59*D60,\"\")","v":""}]

{"sheet":"09-3-22","index":49,"n_rows":61,"n_cols":33,"rows_kept":61,"cut":false,"hidden":false,"merged":[[31,1,31,2],[32,1,32,2],[47,18,47,19],[49,18,49,19],[25,1,25,2],[26,1,26,2],[27,1,27,2],[28,1,28,2],[29,1,29,2],[30,1,30,2],[24,1,24,2],[12,1,12,2],[13,1,13,2],[14,1,14,2],[15,1,15,2],[16,1,16,2],[17,1,18,1],[19,1,19,2],[20,1,20,2],[21,1,21,2],[22,1,22,2],[23,1,23,2],[1,2,4,3],[1,4,4,16],[1,17,1,19],[1,21,1,23],[2,17,2,19],[2,21,2,23],[3,17,3,19],[3,21,3,23],[4,17,4,19],[4,21,4,23]]}
[]
[null,null,null,null,"Rapport journalier",null,null,null,null,null,null,null,null,null,null,null,null,"Code:DAS-SMQ-24"]
[null,null,null,null,null,null,null,null,null,null,null,null,null,null,null,null,null,"Date: 27/12/2019"]
[null,null,null,null,null,null,null,null,null,null,null,null,null,null,null,null,null,"Version:01"]
[null,null,null,null,null,null,null,null,null,null,null,null,null,null,null,null,null,"Page:1"]
[]
[]
[]
[]
[]
[]
[null,null,null,"A","B","C","D","E","F","M","N","O","P","I","L","K","J","G","H"]
[null,"Machine",null,"SST16","SB16","BIGLIA 301 SM","BIGLIA 42 S2M bitourelle","L32","TSUGAMI","MORI SEIKI 3 axes","MORI SEIKI 5 axes","HARDING","KITAMURA","MULTIBROCHE","NAKAMURA","TOUR WEILER"]
[null,"Référence",null,"T-RB400-MajC","V0098","G011","MI018-B42","200200-2022","B55 6*14.8","I110-01-004","PIG-11D","I006","I004","MPS000300","F045-CP2-NAK","199400-a","4-7561-1","68.0814","AXE-INOX-D8-L58"]
[null,"Désignation",null,"RIVET TRB400-MajC","VIS DEC ALLU M14","BAGUE D32*22 L=21","GOUJON DE ROUE MITSIBITCHI GM-SUR-B42","Embout de tige-2022","Rivet couvercle B55","INSERT LEVIER SURMOULEE 345833-01 - fraisage ","PIGNON 11 DENTS FRAISAGE","CAL SUSPENSION PM ISUZU-HARDING","ECROU SUSPENSION ISUZU-HARDING","raccord HEX 17","BAGUE DECOLLETEE TUBE D'EAU UNO DISEL -CP2 NAK","Tirant acier D6 maj-c","Bague Galvanisée 24*30*55 PAR CHUTES ","Buse droite à collerette Ø8","AXE INOX D8 L58"]
[null,"Compteur 8h ",null,41385,0,1798,1023,4771,14913,555,163,131,131,0,85,4679,1574,14696,5280]
[null,"Compteur 17h",null,42974,340,1986,1398,4771,17333,576,200,158,158,0,143,5102,1790,15440,6617]
[null,"Enregistrement","9h"]
[null,null,"16h"]
[null,"Identification"]
[null,"Propreté des tables de contrôle"]
[null,"Rangement des outils de contrôle"]
[null,"Existance de l'OF"]
[null,"Affutage",null,null,null,null,null,null,null,null,null,null,null,null,null,null,null,null,null,{"$f":"+COUNTA(D24:S24)","v":0}]
[null,"Maintenance"]
[null,"Nombre des NC poubelle ",null,null,null,null,null,null,null,null,null,null,null,null,null,null,null,3]
[null,"Nombre des NC à retoucher"]
[null,"Machine pour retouche"]
[null,"Panne"]
[null,"Cout pièces de rechange",null,null,null,null,null,null,null,null,null,null,null,null,null,null,null,null,null,{"$f":"SUM(D30:S30)","v":0}]
[null,"prix de revient pièce",null,{"$f":"IFERROR(VLOOKUP(D14,'Prix de revient'!$A:$D,4,0),0)","v":0},{"$f":"IFERROR(VLOOKUP(E14,'Prix de revient'!$A:$D,4,0),0)","v":0},{"$f":"IFERROR(VLOOKUP(F14,'Prix de revient'!$A:$D,4,0),0)","v":0},{"$f":"IFERROR(VLOOKUP(G14,'Prix de revient'!$A:$D,4,0),0)","v":0},{"$f":"IFERROR(VLOOKUP(H14,'Prix de revient'!$A:$D,4,0),0)","v":0},{"$f":"IFERROR(VLOOKUP(I14,'Prix de revient'!$A:$D,4,0),0)","v":0},{"$f":"IFERROR(VLOOKUP(J14,'Prix de revient'!$A:$D,4,0),0)","v":2.1488},{"$f":"IFERROR(VLOOKUP(K14,'Prix de revient'!$A:$D,4,0),0)","v":0},{"$f":"IFERROR(VLOOKUP(L14,'Prix de revient'!$A:$D,4,0),0)","v":0},{"$f":"IFERROR(VLOOKUP(M14,'Prix de revient'!$A:$D,4,0),0)","v":0},{"$f":"IFERROR(VLOOKUP(N14,'Prix de revient'!$A:$D,4,0),0)","v":0},{"$f":"IFERROR(VLOOKUP(O14,'Prix de revient'!$A:$D,4,0),0)","v":0},{"$f":"IFERROR(VLOOKUP(P14,'Prix de revient'!$A:$D,4,0),0)","v":0},{"$f":"IFERROR(VLOOKUP(Q14,'Prix de revient'!$A:$D,4,0),0)","v":0},{"$f":"IFERROR(VLOOKUP(R14,'Prix de revient'!$A:$D,4,0),0)","v":0},{"$f":"IFERROR(VLOOKUP(S14,'Prix de revient'!$A:$D,4,0),0)","v":0}]
[null,"coût de rebuts",null,{"$f":"D26*D31","v":0},{"$f":"E26*E31","v":0},0,0,0,0,0,0,0,0,0,0,0,0,0,0,{"$f":"SUM(D32:S32)","v":0}]
[null,"gestion de modification"]
[]
[]
[]
[]
[]
[]
[]
[null,null,"Clients","Audit","Réclamation","Avoir",null,"Fournisseurs/ sous-traitants","Réception de matiere","Probleme qualité",null,"Les formations professionnelles","Cout","Chiffrage décliné","Actions à suivre",null,"Article qui a subit un tri","durée du tri","Nombre des pieces non-conformes","ouvrier faisant le tri","cout par tri",null,"Article qui a subit la reprise","durée de la reprise","opérateur faisant la reprise","coût de reprise",null,null,null,"Machine ","article","gamme","objet de la modification"]
[null,null,null,null,null,null,null,null,null,null,null,null,null,null,null,null,null,null,null,null,{"$f":"IF(R42=\"\",\"\",R42*VLOOKUP(T42,'cout opérateur machines'!A1:B8,2,0))","v":""},null,null,null,null,{"$f":"X42*8","v":0}]
[null,null,null,null,null,null,null,null,null,null,null,null,null,null,null,null,null,null,null,null,{"$f":"IF(R43=\"\",\"\",R43*VLOOKUP(T43,'cout opérateur machines'!A2:B9,2,0))","v":""},null,null,null,null,{"$f":"X43*8","v":0}]
[null,null,null,null,null,null,null,null,null,null,null,null,null,null,null,null,null,null,null,null,{"$f":"IF(R44=\"\",\"\",R44*VLOOKUP(T44,'cout opérateur machines'!A3:B10,2,0))","v":""},null,null,null,null,0]
[null,null,null,null,null,null,null,null,null,null,null,null,null,null,null,null,null,null,null,null,{"$f":"IF(R45=\"\",\"\",R45*VLOOKUP(T45,'cout opérateur machines'!A4:B11,2,0))","v":""},null,null,null,null,0]
[null,null,null,null,null,null,null,null,null,null,null,null,null,null,null,null,null,null,null,null,{"$f":"IF(R46=\"\",\"\",R46*VLOOKUP(T46,'cout opérateur machines'!A5:B12,2,0))","v":""},null,null,null,null,0]
[null,null,null,null,null,null,null,null,null,null,null,null,null,null,null,null,null,null,null,null,{"$f":"IF(R47=\"\",\"\",R47*VLOOKUP(T47,'cout opérateur machines'!A6:B13,2,0))","v":""},null,null,null,null,0]
[null,null,null,null,{"$f":"COUNTA(E42:E47)","v":0},{"$f":"SUM(F42:F47)","v":0},null,null,null,null,null,null,{"$f":"SUM(M42:M47)","v":0},"causes de refus",null,null,null,null,"cout total du jour",null,{"$f":"SUM(U42:U47)","v":0},null,null,null,null,0]
[null,null,null,null,null,null,null,"envoi des réclamations F/ S-T","réponse F/ S-T","alerte",null,null,null,null,null,null,null,null,null,null,null,null,null,null,null,{"$f":"SUM(Z42:Z48)","v":0}]
[null,null,"dans le cas d'une réclamation",null,null,null,null,null,null,{"$f":"IF(J42=\"\",\"\",IF(H50=0,\" réclamation non traitée\",IF(I50=0, \"veuillez contacter le F/ S-T par téléphone\",\"\")))","v":""},null,null,null,null,null,null,null,null,"N° mois",null,3]
[null,null,"nombre de pièces NC",null,null,null,null,null,null,{"$f":"IF(J43=\"\",\"\",IF(H51=0,\" réclamation non traitée\",IF(I51=0, \"veuillez contacter le F/ S-T par téléphone\",\"\")))","v":""}]
[null,null,"nombre de pièces par carton",null,null,null,null,null,null,""]
[null,null,"coût de transport par carton",null,null,null,null,null,null,""]
[null,null,"nombre de cartons renvoyés",null,null,null,null,null,null,""]
[null,null,"temps de tri",null,null,null,null,null,null,""]
[null,null,"coût horaire de tri"]
[null,null,"temps de retouche"]
[null,null,"coût horaire de retouche"]
[null,null,"temps de traitement de la réclamation"]
[null,null,"coût horaire de traitement"]
[null,null,"coût total",{"$f":"IFERROR(((D51/D52)*D53)+D54*D53+D55*D56+D57*D58+D59*D60,\"\")","v":""}]

{"sheet":"08-3-22","index":50,"n_rows":61,"n_cols":33,"rows_kept":61,"cut":false,"hidden":false,"merged":[[31,1,31,2],[32,1,32,2],[47,18,47,19],[49,18,49,19],[25,1,25,2],[26,1,26,2],[27,1,27,2],[28,1,28,2],[29,1,29,2],[30,1,30,2],[24,1,24,2],[12,1,12,2],[13,1,13,2],[14,1,14,2],[15,1,15,2],[16,1,16,2],[17,1,18,1],[19,1,19,2],[20,1,20,2],[21,1,21,2],[22,1,22,2],[23,1,23,2],[1,2,4,3],[1,4,4,16],[1,17,1,19],[1,21,1,23],[2,17,2,19],[2,21,2,23],[3,17,3,19],[3,21,3,23],[4,17,4,19],[4,21,4,23]]}
[]
[null,null,null,null,"Rapport journalier",null,null,null,null,null,null,null,null,null,null,null,null,"Code:DAS-SMQ-24"]
[null,null,null,null,null,null,null,null,null,null,null,null,null,null,null,null,null,"Date: 27/12/2019"]
[null,null,null,null,null,null,null,null,null,null,null,null,null,null,null,null,null,"Version:01"]
[null,null,null,null,null,null,null,null,null,null,null,null,null,null,null,null,null,"Page:1"]
[]
[]
[]
[]
[]
[]
[null,null,null,"A","B","C","D","E","F","M","N","O","P","I","L","K","J","G","H"]
[null,"Machine",null,"SST16","SB16","BIGLIA 301 SM","BIGLIA 42 S2M bitourelle","L32","TSUGAMI","MORI SEIKI 3 axes","MORI SEIKI 5 axes","HARDING","KITAMURA","MULTIBROCHE","NAKAMURA","TOUR WEILER"]
[null,"Référence",null,"T-RB400-MajC","328090-majc","G011","MI018-B42","200200-2022","B55 6*14.8","I110-01-004","PIG-11D","I006","I004","MPS000300","F045-CP2-NAK","199400-a","4-7561-1","68.0814","AXE-INOX-D8-L58"]
[null,"Désignation",null,"RIVET TRB400-MajC","Primaire en laiton ,","BAGUE D32*22 L=21","GOUJON DE ROUE MITSIBITCHI GM-SUR-B42","Embout de tige-2022","Rivet couvercle B55","INSERT LEVIER SURMOULEE 345833-01 - fraisage ","PIGNON 11 DENTS FRAISAGE","CAL SUSPENSION PM ISUZU-HARDING","ECROU SUSPENSION ISUZU-HARDING","raccord HEX 17","BAGUE DECOLLETEE TUBE D'EAU UNO DISEL -CP2 NAK","Tirant acier D6 maj-c","Bague Galvanisée 24*30*55 PAR CHUTES ","Buse droite à collerette Ø8","AXE INOX D8 L58"]
[null,"Compteur 8h ",null,40062,25574,1798,500,4771,12513,532,138,105,105,0,10,4170,1084,13963,4177]
[null,"Compteur 17h",null,41385,26650,1798,1023,4771,14913,555,163,131,131,0,85,4679,1574,14696,5280]
[null,"Enregistrement","9h"]
[null,null,"16h"]
[null,"Identification"]
[null,"Propreté des tables de contrôle"]
[null,"Rangement des outils de contrôle"]
[null,"Existance de l'OF"]
[null,"Affutage",null,null,null,null,null,null,null,null,null,null,null,null,null,null,null,null,null,{"$f":"+COUNTA(D24:S24)","v":0}]
[null,"Maintenance"]
[null,"Nombre des NC poubelle "]
[null,"Nombre des NC à retoucher",null,null,null,null,null,null,null,null,null,null,null,null,null,null,null,2]
[null,"Machine pour retouche"]
[null,"Panne"]
[null,"Cout pièces de rechange",null,null,null,null,null,null,null,null,null,null,null,null,null,null,null,null,null,{"$f":"SUM(D30:S30)","v":0}]
[null,"prix de revient pièce",null,{"$f":"IFERROR(VLOOKUP(D14,'Prix de revient'!$A:$D,4,0),0)","v":0},{"$f":"IFERROR(VLOOKUP(E14,'Prix de revient'!$A:$D,4,0),0)","v":0},{"$f":"IFERROR(VLOOKUP(F14,'Prix de revient'!$A:$D,4,0),0)","v":0},{"$f":"IFERROR(VLOOKUP(G14,'Prix de revient'!$A:$D,4,0),0)","v":0},{"$f":"IFERROR(VLOOKUP(H14,'Prix de revient'!$A:$D,4,0),0)","v":0},{"$f":"IFERROR(VLOOKUP(I14,'Prix de revient'!$A:$D,4,0),0)","v":0},{"$f":"IFERROR(VLOOKUP(J14,'Prix de revient'!$A:$D,4,0),0)","v":2.1488},{"$f":"IFERROR(VLOOKUP(K14,'Prix de revient'!$A:$D,4,0),0)","v":0},{"$f":"IFERROR(VLOOKUP(L14,'Prix de revient'!$A:$D,4,0),0)","v":0},{"$f":"IFERROR(VLOOKUP(M14,'Prix de revient'!$A:$D,4,0),0)","v":0},{"$f":"IFERROR(VLOOKUP(N14,'Prix de revient'!$A:$D,4,0),0)","v":0},{"$f":"IFERROR(VLOOKUP(O14,'Prix de revient'!$A:$D,4,0),0)","v":0},{"$f":"IFERROR(VLOOKUP(P14,'Prix de revient'!$A:$D,4,0),0)","v":0},{"$f":"IFERROR(VLOOKUP(Q14,'Prix de revient'!$A:$D,4,0),0)","v":0},{"$f":"IFERROR(VLOOKUP(R14,'Prix de revient'!$A:$D,4,0),0)","v":0},{"$f":"IFERROR(VLOOKUP(S14,'Prix de revient'!$A:$D,4,0),0)","v":0}]
[null,"coût de rebuts",null,{"$f":"D26*D31","v":0},{"$f":"E26*E31","v":0},0,0,0,0,0,0,0,0,0,0,0,0,0,0,{"$f":"SUM(D32:S32)","v":0}]
[null,"gestion de modification"]
[]
[]
[]
[]
[]
[]
[]
[null,null,"Clients","Audit","Réclamation","Avoir",null,"Fournisseurs/ sous-traitants","Réception de matiere","Probleme qualité",null,"Les formations professionnelles","Cout","Chiffrage décliné","Actions à suivre",null,"Article qui a subit un tri","durée du tri","Nombre des pieces non-conformes","ouvrier faisant le tri","cout par tri",null,"Article qui a subit la reprise","durée de la reprise","opérateur faisant la reprise","coût de reprise",null,null,null,"Machine ","article","gamme","objet de la modification"]
[null,null,null,null,null,null,null,null,null,null,null,null,null,null,null,null,null,null,null,null,{"$f":"IF(R42=\"\",\"\",R42*VLOOKUP(T42,'cout opérateur machines'!A1:B8,2,0))","v":""},null,null,null,null,{"$f":"X42*8","v":0}]
[null,null,null,null,null,null,null,null,null,null,null,null,null,null,null,null,null,null,null,null,{"$f":"IF(R43=\"\",\"\",R43*VLOOKUP(T43,'cout opérateur machines'!A2:B9,2,0))","v":""},null,null,null,null,{"$f":"X43*8","v":0}]
[null,null,null,null,null,null,null,null,null,null,null,null,null,null,null,null,null,null,null,null,{"$f":"IF(R44=\"\",\"\",R44*VLOOKUP(T44,'cout opérateur machines'!A3:B10,2,0))","v":""},null,null,null,null,0]
[null,null,null,null,null,null,null,null,null,null,null,null,null,null,null,null,null,null,null,null,{"$f":"IF(R45=\"\",\"\",R45*VLOOKUP(T45,'cout opérateur machines'!A4:B11,2,0))","v":""},null,null,null,null,0]
[null,null,null,null,null,null,null,null,null,null,null,null,null,null,null,null,null,null,null,null,{"$f":"IF(R46=\"\",\"\",R46*VLOOKUP(T46,'cout opérateur machines'!A5:B12,2,0))","v":""},null,null,null,null,0]
[null,null,null,null,null,null,null,null,null,null,null,null,null,null,null,null,null,null,null,null,{"$f":"IF(R47=\"\",\"\",R47*VLOOKUP(T47,'cout opérateur machines'!A6:B13,2,0))","v":""},null,null,null,null,0]
[null,null,null,null,{"$f":"COUNTA(E42:E47)","v":0},{"$f":"SUM(F42:F47)","v":0},null,null,null,null,null,null,{"$f":"SUM(M42:M47)","v":0},"causes de refus",null,null,null,null,"cout total du jour",null,{"$f":"SUM(U42:U47)","v":0},null,null,null,null,0]
[null,null,null,null,null,null,null,"envoi des réclamations F/ S-T","réponse F/ S-T","alerte",null,null,null,null,null,null,null,null,null,null,null,null,null,null,null,{"$f":"SUM(Z42:Z48)","v":0}]
[null,null,"dans le cas d'une réclamation",null,null,null,null,null,null,{"$f":"IF(J42=\"\",\"\",IF(H50=0,\" réclamation non traitée\",IF(I50=0, \"veuillez contacter le F/ S-T par téléphone\",\"\")))","v":""},null,null,null,null,null,null,null,null,"N° mois",null,3]
[null,null,"nombre de pièces NC",null,null,null,null,null,null,{"$f":"IF(J43=\"\",\"\",IF(H51=0,\" réclamation non traitée\",IF(I51=0, \"veuillez contacter le F/ S-T par téléphone\",\"\")))","v":""}]
[null,null,"nombre de pièces par carton",null,null,null,null,null,null,""]
[null,null,"coût de transport par carton",null,null,null,null,null,null,""]
[null,null,"nombre de cartons renvoyés",null,null,null,null,null,null,""]
[null,null,"temps de tri",null,null,null,null,null,null,""]
[null,null,"coût horaire de tri"]
[null,null,"temps de retouche"]
[null,null,"coût horaire de retouche"]
[null,null,"temps de traitement de la réclamation"]
[null,null,"coût horaire de traitement"]
[null,null,"coût total",{"$f":"IFERROR(((D51/D52)*D53)+D54*D53+D55*D56+D57*D58+D59*D60,\"\")","v":""}]

{"sheet":"07-3-22","index":51,"n_rows":61,"n_cols":33,"rows_kept":61,"cut":false,"hidden":false,"merged":[[31,1,31,2],[32,1,32,2],[47,18,47,19],[49,18,49,19],[25,1,25,2],[26,1,26,2],[27,1,27,2],[28,1,28,2],[29,1,29,2],[30,1,30,2],[24,1,24,2],[12,1,12,2],[13,1,13,2],[14,1,14,2],[15,1,15,2],[16,1,16,2],[17,1,18,1],[19,1,19,2],[20,1,20,2],[21,1,21,2],[22,1,22,2],[23,1,23,2],[1,2,4,3],[1,4,4,16],[1,17,1,19],[1,21,1,23],[2,17,2,19],[2,21,2,23],[3,17,3,19],[3,21,3,23],[4,17,4,19],[4,21,4,23]]}
[]
[null,null,null,null,"Rapport journalier",null,null,null,null,null,null,null,null,null,null,null,null,"Code:DAS-SMQ-24"]
[null,null,null,null,null,null,null,null,null,null,null,null,null,null,null,null,null,"Date: 27/12/2019"]
[null,null,null,null,null,null,null,null,null,null,null,null,null,null,null,null,null,"Version:01"]
[null,null,null,null,null,null,null,null,null,null,null,null,null,null,null,null,null,"Page:1"]
[]
[]
[]
[]
[]
[]
[null,null,null,"A","B","C","D","E","F","M","N","O","P","I","L","K","J","G","H"]
[null,"Machine",null,"SST16","SB16","BIGLIA 301 SM","BIGLIA 42 S2M bitourelle","L32","TSUGAMI","MORI SEIKI 3 axes","MORI SEIKI 5 axes","HARDING","KITAMURA","MULTIBROCHE","NAKAMURA","TOUR WEILER"]
[null,"Référence",null,"T-RB400-MajC","328090-majc","G011","MI018-B42","200200-2022","B55 6*14.8","I110-01-004","PIG-11D","I006","I004","MPS000300","F045-CP2-NAK","199400-a","4-7561-1","68.0814","AXE-INOX-D8-L58"]
[null,"Désignation",null,"RIVET TRB400-MajC","Primaire en laiton ,","BAGUE D32*22 L=21","GOUJON DE ROUE MITSIBITCHI GM-SUR-B42","Embout de tige-2022","Rivet couvercle B55","INSERT LEVIER SURMOULEE 345833-01 - fraisage ","PIGNON 11 DENTS FRAISAGE","CAL SUSPENSION PM ISUZU-HARDING","ECROU SUSPENSION ISUZU-HARDING","raccord HEX 17","BAGUE DECOLLETEE TUBE D'EAU UNO DISEL -CP2 NAK","Tirant acier D6 maj-c","Bague Galvanisée 24*30*55 PAR CHUTES ","Buse droite à collerette Ø8","AXE INOX D8 L58"]
[null,"Compteur 8h ",null,38645,23792,1250,137,4771,11086,499,105,78,78,0,0,3697,604,13154,2843]
[null,"Compteur 17h",null,40062,25574,1798,500,4771,12513,532,138,105,105,0,10,4170,1084,13963,4177]
[null,"Enregistrement","9h"]
[null,null,"16h"]
[null,"Identification"]
[null,"Propreté des tables de contrôle"]
[null,"Rangement des outils de contrôle"]
[null,"Existance de l'OF"]
[null,"Affutage",null,null,null,null,null,null,null,null,null,null,null,null,null,null,null,null,null,{"$f":"+COUNTA(D24:S24)","v":0}]
[null,"Maintenance"]
[null,"Nombre des NC poubelle ",null,null,null,null,null,null,12,null,null,null,null,null,null,null,null,1]
[null,"Nombre des NC à retoucher"]
[null,"Machine pour retouche"]
[null,"Panne"]
[null,"Cout pièces de rechange",null,null,null,null,null,null,null,null,null,null,null,null,null,null,null,null,null,{"$f":"SUM(D30:S30)","v":0}]
[null,"prix de revient pièce",null,{"$f":"IFERROR(VLOOKUP(D14,'Prix de revient'!$A:$D,4,0),0)","v":0},{"$f":"IFERROR(VLOOKUP(E14,'Prix de revient'!$A:$D,4,0),0)","v":0},{"$f":"IFERROR(VLOOKUP(F14,'Prix de revient'!$A:$D,4,0),0)","v":0},{"$f":"IFERROR(VLOOKUP(G14,'Prix de revient'!$A:$D,4,0),0)","v":0},{"$f":"IFERROR(VLOOKUP(H14,'Prix de revient'!$A:$D,4,0),0)","v":0},{"$f":"IFERROR(VLOOKUP(I14,'Prix de revient'!$A:$D,4,0),0)","v":0},{"$f":"IFERROR(VLOOKUP(J14,'Prix de revient'!$A:$D,4,0),0)","v":2.1488},{"$f":"IFERROR(VLOOKUP(K14,'Prix de revient'!$A:$D,4,0),0)","v":0},{"$f":"IFERROR(VLOOKUP(L14,'Prix de revient'!$A:$D,4,0),0)","v":0},{"$f":"IFERROR(VLOOKUP(M14,'Prix de revient'!$A:$D,4,0),0)","v":0},{"$f":"IFERROR(VLOOKUP(N14,'Prix de revient'!$A:$D,4,0),0)","v":0},{"$f":"IFERROR(VLOOKUP(O14,'Prix de revient'!$A:$D,4,0),0)","v":0},{"$f":"IFERROR(VLOOKUP(P14,'Prix de revient'!$A:$D,4,0),0)","v":0},{"$f":"IFERROR(VLOOKUP(Q14,'Prix de revient'!$A:$D,4,0),0)","v":0},{"$f":"IFERROR(VLOOKUP(R14,'Prix de revient'!$A:$D,4,0),0)","v":0},{"$f":"IFERROR(VLOOKUP(S14,'Prix de revient'!$A:$D,4,0),0)","v":0}]
[null,"coût de rebuts",null,{"$f":"D26*D31","v":0},{"$f":"E26*E31","v":0},0,0,0,0,0,0,0,0,0,0,0,0,0,0,{"$f":"SUM(D32:S32)","v":0}]
[null,"gestion de modification"]
[]
[]
[]
[]
[]
[]
[]
[null,null,"Clients","Audit","Réclamation","Avoir",null,"Fournisseurs/ sous-traitants","Réception de matiere","Probleme qualité",null,"Les formations professionnelles","Cout","Chiffrage décliné","Actions à suivre",null,"Article qui a subit un tri","durée du tri","Nombre des pieces non-conformes","ouvrier faisant le tri","cout par tri",null,"Article qui a subit la reprise","durée de la reprise","opérateur faisant la reprise","coût de reprise",null,null,null,"Machine ","article","gamme","objet de la modification"]
[null,null,null,null,null,null,null,null,null,null,null,null,null,null,null,null,null,null,null,null,{"$f":"IF(R42=\"\",\"\",R42*VLOOKUP(T42,'cout opérateur machines'!A1:B8,2,0))","v":""},null,null,null,null,{"$f":"X42*8","v":0}]
[null,null,null,null,null,null,null,null,null,null,null,null,null,null,null,null,null,null,null,null,{"$f":"IF(R43=\"\",\"\",R43*VLOOKUP(T43,'cout opérateur machines'!A2:B9,2,0))","v":""},null,null,null,null,{"$f":"X43*8","v":0}]
[null,null,null,null,null,null,null,null,null,null,null,null,null,null,null,null,null,null,null,null,{"$f":"IF(R44=\"\",\"\",R44*VLOOKUP(T44,'cout opérateur machines'!A3:B10,2,0))","v":""},null,null,null,null,0]
[null,null,null,null,null,null,null,null,null,null,null,null,null,null,null,null,null,null,null,null,{"$f":"IF(R45=\"\",\"\",R45*VLOOKUP(T45,'cout opérateur machines'!A4:B11,2,0))","v":""},null,null,null,null,0]
[null,null,null,null,null,null,null,null,null,null,null,null,null,null,null,null,null,null,null,null,{"$f":"IF(R46=\"\",\"\",R46*VLOOKUP(T46,'cout opérateur machines'!A5:B12,2,0))","v":""},null,null,null,null,0]
[null,null,null,null,null,null,null,null,null,null,null,null,null,null,null,null,null,null,null,null,{"$f":"IF(R47=\"\",\"\",R47*VLOOKUP(T47,'cout opérateur machines'!A6:B13,2,0))","v":""},null,null,null,null,0]
[null,null,null,null,{"$f":"COUNTA(E42:E47)","v":0},{"$f":"SUM(F42:F47)","v":0},null,null,null,null,null,null,{"$f":"SUM(M42:M47)","v":0},"causes de refus",null,null,null,null,"cout total du jour",null,{"$f":"SUM(U42:U47)","v":0},null,null,null,null,0]
[null,null,null,null,null,null,null,"envoi des réclamations F/ S-T","réponse F/ S-T","alerte",null,null,null,null,null,null,null,null,null,null,null,null,null,null,null,{"$f":"SUM(Z42:Z48)","v":0}]
[null,null,"dans le cas d'une réclamation",null,null,null,null,null,null,{"$f":"IF(J42=\"\",\"\",IF(H50=0,\" réclamation non traitée\",IF(I50=0, \"veuillez contacter le F/ S-T par téléphone\",\"\")))","v":""},null,null,null,null,null,null,null,null,"N° mois",null,3]
[null,null,"nombre de pièces NC",null,null,null,null,null,null,{"$f":"IF(J43=\"\",\"\",IF(H51=0,\" réclamation non traitée\",IF(I51=0, \"veuillez contacter le F/ S-T par téléphone\",\"\")))","v":""}]
[null,null,"nombre de pièces par carton",null,null,null,null,null,null,""]
[null,null,"coût de transport par carton",null,null,null,null,null,null,""]
[null,null,"nombre de cartons renvoyés",null,null,null,null,null,null,""]
[null,null,"temps de tri",null,null,null,null,null,null,""]
[null,null,"coût horaire de tri"]
[null,null,"temps de retouche"]
[null,null,"coût horaire de retouche"]
[null,null,"temps de traitement de la réclamation"]
[null,null,"coût horaire de traitement"]
[null,null,"coût total",{"$f":"IFERROR(((D51/D52)*D53)+D54*D53+D55*D56+D57*D58+D59*D60,\"\")","v":""}]

{"sheet":"05-3-22","index":52,"n_rows":61,"n_cols":33,"rows_kept":61,"cut":false,"hidden":false,"merged":[[31,1,31,2],[32,1,32,2],[47,18,47,19],[49,18,49,19],[25,1,25,2],[26,1,26,2],[27,1,27,2],[28,1,28,2],[29,1,29,2],[30,1,30,2],[24,1,24,2],[12,1,12,2],[13,1,13,2],[14,1,14,2],[15,1,15,2],[16,1,16,2],[17,1,18,1],[19,1,19,2],[20,1,20,2],[21,1,21,2],[22,1,22,2],[23,1,23,2],[1,2,4,3],[1,4,4,16],[1,17,1,19],[1,21,1,23],[2,17,2,19],[2,21,2,23],[3,17,3,19],[3,21,3,23],[4,17,4,19],[4,21,4,23]]}
[]
[null,null,null,null,"Rapport journalier",null,null,null,null,null,null,null,null,null,null,null,null,"Code:DAS-SMQ-24"]
[null,null,null,null,null,null,null,null,null,null,null,null,null,null,null,null,null,"Date: 27/12/2019"]
[null,null,null,null,null,null,null,null,null,null,null,null,null,null,null,null,null,"Version:01"]
[null,null,null,null,null,null,null,null,null,null,null,null,null,null,null,null,null,"Page:1"]
[]
[]
[]
[]
[]
[]
[null,null,null,"A","B","C","D","E","F","M","N","O","P","I","L","K","J","G","H"]
[null,"Machine",null,"SST16","SB16","BIGLIA 301 SM","BIGLIA 42 S2M bitourelle","L32","TSUGAMI","MORI SEIKI 3 axes","MORI SEIKI 5 axes","HARDING","KITAMURA","MULTIBROCHE","NAKAMURA","TOUR WEILER"]
[null,"Référence",null,"T-RB400","328090-majc","G011","MI018-B42","200200-2022","B55 6*14.8","I110-01-004","PIG-11D","I006","I004","MPS000300","G018","199400-a","4-7561-1","68.0814","AXE-INOX-D8-L58"]
[null,"Désignation",null,"RIVET TRB400 maj-c","Primaire en laiton ,","BAGUE D32*22 L=21","GOUJON DE ROUE MITSIBITCHI GM-SUR-B42","Embout de tige-2022","Rivet couvercle B55","INSERT LEVIER SURMOULEE 345833-01 - fraisage ","PIGNON 11 DENTS FRAISAGE","CAL SUSPENSION PM ISUZU-HARDING","ECROU SUSPENSION ISUZU-HARDING","raccord HEX 17","GOUJON M12*1.5 L=49","Tirant acier D6 maj-c","Bague Galvanisée 24*30*55 PAR CHUTES ","Buse droite à collerette Ø8","AXE INOX D8 L58"]
[null,"Compteur 8h ",null,38030,22887,1077,0,4672,10291,481,80,67,67,0,4195,3280,418,12780,2163]
[null,"Compteur 17h",null,38645,23792,1250,157,4771,11086,499,105,78,78,0,4330,3697,604,13154,2843]
[null,"Enregistrement","9h"]
[null,null,"16h"]
[null,"Identification"]
[null,"Propreté des tables de contrôle"]
[null,"Rangement des outils de contrôle"]
[null,"Existance de l'OF"]
[null,"Affutage",null,null,null,null,null,null,null,null,null,null,null,null,null,null,null,null,null,{"$f":"+COUNTA(D24:S24)","v":0}]
[null,"Maintenance"]
[null,"Nombre des NC poubelle ",null,null,null,5,null,null,null,null,null,null,null,null,null,null,null,2]
[null,"Nombre des NC à retoucher"]
[null,"Machine pour retouche"]
[null,"Panne"]
[null,"Cout pièces de rechange",null,null,null,null,null,null,null,null,null,null,null,null,null,null,null,null,null,{"$f":"SUM(D30:S30)","v":0}]
[null,"prix de revient pièce",null,{"$f":"IFERROR(VLOOKUP(D14,'Prix de revient'!$A:$D,4,0),0)","v":0},{"$f":"IFERROR(VLOOKUP(E14,'Prix de revient'!$A:$D,4,0),0)","v":0},{"$f":"IFERROR(VLOOKUP(F14,'Prix de revient'!$A:$D,4,0),0)","v":0},{"$f":"IFERROR(VLOOKUP(G14,'Prix de revient'!$A:$D,4,0),0)","v":0},{"$f":"IFERROR(VLOOKUP(H14,'Prix de revient'!$A:$D,4,0),0)","v":0},{"$f":"IFERROR(VLOOKUP(I14,'Prix de revient'!$A:$D,4,0),0)","v":0},{"$f":"IFERROR(VLOOKUP(J14,'Prix de revient'!$A:$D,4,0),0)","v":2.1488},{"$f":"IFERROR(VLOOKUP(K14,'Prix de revient'!$A:$D,4,0),0)","v":0},{"$f":"IFERROR(VLOOKUP(L14,'Prix de revient'!$A:$D,4,0),0)","v":0},{"$f":"IFERROR(VLOOKUP(M14,'Prix de revient'!$A:$D,4,0),0)","v":0},{"$f":"IFERROR(VLOOKUP(N14,'Prix de revient'!$A:$D,4,0),0)","v":0},{"$f":"IFERROR(VLOOKUP(O14,'Prix de revient'!$A:$D,4,0),0)","v":0},{"$f":"IFERROR(VLOOKUP(P14,'Prix de revient'!$A:$D,4,0),0)","v":0},{"$f":"IFERROR(VLOOKUP(Q14,'Prix de revient'!$A:$D,4,0),0)","v":0},{"$f":"IFERROR(VLOOKUP(R14,'Prix de revient'!$A:$D,4,0),0)","v":0},{"$f":"IFERROR(VLOOKUP(S14,'Prix de revient'!$A:$D,4,0),0)","v":0}]
[null,"coût de rebuts",null,{"$f":"D26*D31","v":0},{"$f":"E26*E31","v":0},0,0,0,0,0,0,0,0,0,0,0,0,0,0,{"$f":"SUM(D32:S32)","v":0}]
[null,"gestion de modification"]
[]
[]
[]
[]
[]
[]
[]
[null,null,"Clients","Audit","Réclamation","Avoir",null,"Fournisseurs/ sous-traitants","Réception de matiere","Probleme qualité",null,"Les formations professionnelles","Cout","Chiffrage décliné","Actions à suivre",null,"Article qui a subit un tri","durée du tri","Nombre des pieces non-conformes","ouvrier faisant le tri","cout par tri",null,"Article qui a subit la reprise","durée de la reprise","opérateur faisant la reprise","coût de reprise",null,null,null,"Machine ","article","gamme","objet de la modification"]
[null,null,null,null,null,null,null,null,null,null,null,null,null,null,null,null,null,null,null,null,{"$f":"IF(R42=\"\",\"\",R42*VLOOKUP(T42,'cout opérateur machines'!A1:B8,2,0))","v":""},null,null,null,null,{"$f":"X42*8","v":0}]
[null,null,null,null,null,null,null,null,null,null,null,null,null,null,null,null,null,null,null,null,{"$f":"IF(R43=\"\",\"\",R43*VLOOKUP(T43,'cout opérateur machines'!A2:B9,2,0))","v":""},null,null,null,null,{"$f":"X43*8","v":0}]
[null,null,null,null,null,null,null,null,null,null,null,null,null,null,null,null,null,null,null,null,{"$f":"IF(R44=\"\",\"\",R44*VLOOKUP(T44,'cout opérateur machines'!A3:B10,2,0))","v":""},null,null,null,null,0]
[null,null,null,null,null,null,null,null,null,null,null,null,null,null,null,null,null,null,null,null,{"$f":"IF(R45=\"\",\"\",R45*VLOOKUP(T45,'cout opérateur machines'!A4:B11,2,0))","v":""},null,null,null,null,0]
[null,null,null,null,null,null,null,null,null,null,null,null,null,null,null,null,null,null,null,null,{"$f":"IF(R46=\"\",\"\",R46*VLOOKUP(T46,'cout opérateur machines'!A5:B12,2,0))","v":""},null,null,null,null,0]
[null,null,null,null,null,null,null,null,null,null,null,null,null,null,null,null,null,null,null,null,{"$f":"IF(R47=\"\",\"\",R47*VLOOKUP(T47,'cout opérateur machines'!A6:B13,2,0))","v":""},null,null,null,null,0]
[null,null,null,null,{"$f":"COUNTA(E42:E47)","v":0},{"$f":"SUM(F42:F47)","v":0},null,null,null,null,null,null,{"$f":"SUM(M42:M47)","v":0},"causes de refus",null,null,null,null,"cout total du jour",null,{"$f":"SUM(U42:U47)","v":0},null,null,null,null,0]
[null,null,null,null,null,null,null,"envoi des réclamations F/ S-T","réponse F/ S-T","alerte",null,null,null,null,null,null,null,null,null,null,null,null,null,null,null,{"$f":"SUM(Z42:Z48)","v":0}]
[null,null,"dans le cas d'une réclamation",null,null,null,null,null,null,{"$f":"IF(J42=\"\",\"\",IF(H50=0,\" réclamation non traitée\",IF(I50=0, \"veuillez contacter le F/ S-T par téléphone\",\"\")))","v":""},null,null,null,null,null,null,null,null,"N° mois",null,3]
[null,null,"nombre de pièces NC",null,null,null,null,null,null,{"$f":"IF(J43=\"\",\"\",IF(H51=0,\" réclamation non traitée\",IF(I51=0, \"veuillez contacter le F/ S-T par téléphone\",\"\")))","v":""}]
[null,null,"nombre de pièces par carton",null,null,null,null,null,null,""]
[null,null,"coût de transport par carton",null,null,null,null,null,null,""]
[null,null,"nombre de cartons renvoyés",null,null,null,null,null,null,""]
[null,null,"temps de tri",null,null,null,null,null,null,""]
[null,null,"coût horaire de tri"]
[null,null,"temps de retouche"]
[null,null,"coût horaire de retouche"]
[null,null,"temps de traitement de la réclamation"]
[null,null,"coût horaire de traitement"]
[null,null,"coût total",{"$f":"IFERROR(((D51/D52)*D53)+D54*D53+D55*D56+D57*D58+D59*D60,\"\")","v":""}]

{"sheet":"04-3-22","index":53,"n_rows":61,"n_cols":33,"rows_kept":61,"cut":false,"hidden":false,"merged":[[31,1,31,2],[32,1,32,2],[47,18,47,19],[49,18,49,19],[25,1,25,2],[26,1,26,2],[27,1,27,2],[28,1,28,2],[29,1,29,2],[30,1,30,2],[24,1,24,2],[12,1,12,2],[13,1,13,2],[14,1,14,2],[15,1,15,2],[16,1,16,2],[17,1,18,1],[19,1,19,2],[20,1,20,2],[21,1,21,2],[22,1,22,2],[23,1,23,2],[1,2,4,3],[1,4,4,16],[1,17,1,19],[1,21,1,23],[2,17,2,19],[2,21,2,23],[3,17,3,19],[3,21,3,23],[4,17,4,19],[4,21,4,23]]}
[]
[null,null,null,null,"Rapport journalier",null,null,null,null,null,null,null,null,null,null,null,null,"Code:DAS-SMQ-24"]
[null,null,null,null,null,null,null,null,null,null,null,null,null,null,null,null,null,"Date: 27/12/2019"]
[null,null,null,null,null,null,null,null,null,null,null,null,null,null,null,null,null,"Version:01"]
[null,null,null,null,null,null,null,null,null,null,null,null,null,null,null,null,null,"Page:1"]
[]
[]
[]
[]
[]
[]
[null,null,null,"A","B","C","D","E","F","M","N","O","P","I","L","K","J","G","H"]
[null,"Machine",null,"SST16","SB16","BIGLIA 301 SM","BIGLIA 42 S2M bitourelle","L32","TSUGAMI","MORI SEIKI 3 axes","MORI SEIKI 5 axes","HARDING","KITAMURA","MULTIBROCHE","NAKAMURA","TOUR WEILER"]
[null,"Référence",null,"T-RB400","328090-majc","G011","I081-95-CP8","200200-2022","B55 6*14.8","I110-01-004","PIG-11D","I006","I004","MPS000300","G018","199400-a","4-7561-1","68.0814","AXE-INOX-D8-L58"]
[null,"Désignation",null,"RIVET TRB400 maj-c","Primaire en laiton ,","BAGUE D32*22 L=21","AXE BOITIER TFR+KB","Embout de tige-2022","Rivet couvercle B55","INSERT LEVIER SURMOULEE 345833-01 - fraisage ","PIGNON 11 DENTS FRAISAGE","CAL SUSPENSION PM ISUZU-HARDING","ECROU SUSPENSION ISUZU-HARDING","raccord HEX 17","GOUJON M12*1.5 L=49","Tirant acier D6 maj-c","Bague Galvanisée 24*30*55 PAR CHUTES ","Buse droite à collerette Ø8","AXE INOX D8 L58"]
[null,"Compteur 8h ",null,36486,21107,567,0,4203,8228,450,56,42,42,0,3971,2477,274,12003,916]
[null,"Compteur 17h",null,38030,22887,1077,0,4672,10291,481,80,67,67,0,4195,3280,418,12780,2163]
[null,"Enregistrement","9h"]
[null,null,"16h"]
[null,"Identification"]
[null,"Propreté des tables de contrôle"]
[null,"Rangement des outils de contrôle"]
[null,"Existance de l'OF"]
[null,"Affutage",null,null,null,null,null,null,null,null,null,null,null,null,null,null,null,null,null,{"$f":"+COUNTA(D24:S24)","v":0}]
[null,"Maintenance"]
[null,"Nombre des NC poubelle ",null,null,null,null,null,null,null,null,null,null,null,null,null,null,null,3,7]
[null,"Nombre des NC à retoucher"]
[null,"Machine pour retouche"]
[null,"Panne"]
[null,"Cout pièces de rechange",null,null,null,null,null,null,null,null,null,null,null,null,null,null,null,null,null,{"$f":"SUM(D30:S30)","v":0}]
[null,"prix de revient pièce",null,{"$f":"IFERROR(VLOOKUP(D14,'Prix de revient'!$A:$D,4,0),0)","v":0},{"$f":"IFERROR(VLOOKUP(E14,'Prix de revient'!$A:$D,4,0),0)","v":0},{"$f":"IFERROR(VLOOKUP(F14,'Prix de revient'!$A:$D,4,0),0)","v":0},{"$f":"IFERROR(VLOOKUP(G14,'Prix de revient'!$A:$D,4,0),0)","v":0},{"$f":"IFERROR(VLOOKUP(H14,'Prix de revient'!$A:$D,4,0),0)","v":0},{"$f":"IFERROR(VLOOKUP(I14,'Prix de revient'!$A:$D,4,0),0)","v":0},{"$f":"IFERROR(VLOOKUP(J14,'Prix de revient'!$A:$D,4,0),0)","v":2.1488},{"$f":"IFERROR(VLOOKUP(K14,'Prix de revient'!$A:$D,4,0),0)","v":0},{"$f":"IFERROR(VLOOKUP(L14,'Prix de revient'!$A:$D,4,0),0)","v":0},{"$f":"IFERROR(VLOOKUP(M14,'Prix de revient'!$A:$D,4,0),0)","v":0},{"$f":"IFERROR(VLOOKUP(N14,'Prix de revient'!$A:$D,4,0),0)","v":0},{"$f":"IFERROR(VLOOKUP(O14,'Prix de revient'!$A:$D,4,0),0)","v":0},{"$f":"IFERROR(VLOOKUP(P14,'Prix de revient'!$A:$D,4,0),0)","v":0},{"$f":"IFERROR(VLOOKUP(Q14,'Prix de revient'!$A:$D,4,0),0)","v":0},{"$f":"IFERROR(VLOOKUP(R14,'Prix de revient'!$A:$D,4,0),0)","v":0},{"$f":"IFERROR(VLOOKUP(S14,'Prix de revient'!$A:$D,4,0),0)","v":0}]
[null,"coût de rebuts",null,{"$f":"D26*D31","v":0},{"$f":"E26*E31","v":0},0,0,0,0,0,0,0,0,0,0,0,0,0,0,{"$f":"SUM(D32:S32)","v":0}]
[null,"gestion de modification"]
[]
[]
[]
[]
[]
[]
[]
[null,null,"Clients","Audit","Réclamation","Avoir",null,"Fournisseurs/ sous-traitants","Réception de matiere","Probleme qualité",null,"Les formations professionnelles","Cout","Chiffrage décliné","Actions à suivre",null,"Article qui a subit un tri","durée du tri","Nombre des pieces non-conformes","ouvrier faisant le tri","cout par tri",null,"Article qui a subit la reprise","durée de la reprise","opérateur faisant la reprise","coût de reprise",null,null,null,"Machine ","article","gamme","objet de la modification"]
[null,null,null,null,null,null,null,null,null,null,null,null,null,null,null,null,null,null,null,null,{"$f":"IF(R42=\"\",\"\",R42*VLOOKUP(T42,'cout opérateur machines'!A1:B8,2,0))","v":""},null,null,null,null,{"$f":"X42*8","v":0}]
[null,null,null,null,null,null,null,null,null,null,null,null,null,null,null,null,null,null,null,null,{"$f":"IF(R43=\"\",\"\",R43*VLOOKUP(T43,'cout opérateur machines'!A2:B9,2,0))","v":""},null,null,null,null,{"$f":"X43*8","v":0}]
[null,null,null,null,null,null,null,null,null,null,null,null,null,null,null,null,null,null,null,null,{"$f":"IF(R44=\"\",\"\",R44*VLOOKUP(T44,'cout opérateur machines'!A3:B10,2,0))","v":""},null,null,null,null,0]
[null,null,null,null,null,null,null,null,null,null,null,null,null,null,null,null,null,null,null,null,{"$f":"IF(R45=\"\",\"\",R45*VLOOKUP(T45,'cout opérateur machines'!A4:B11,2,0))","v":""},null,null,null,null,0]
[null,null,null,null,null,null,null,null,null,null,null,null,null,null,null,null,null,null,null,null,{"$f":"IF(R46=\"\",\"\",R46*VLOOKUP(T46,'cout opérateur machines'!A5:B12,2,0))","v":""},null,null,null,null,0]
[null,null,null,null,null,null,null,null,null,null,null,null,null,null,null,null,null,null,null,null,{"$f":"IF(R47=\"\",\"\",R47*VLOOKUP(T47,'cout opérateur machines'!A6:B13,2,0))","v":""},null,null,null,null,0]
[null,null,null,null,{"$f":"COUNTA(E42:E47)","v":0},{"$f":"SUM(F42:F47)","v":0},null,null,null,null,null,null,{"$f":"SUM(M42:M47)","v":0},"causes de refus",null,null,null,null,"cout total du jour",null,{"$f":"SUM(U42:U47)","v":0},null,null,null,null,0]
[null,null,null,null,null,null,null,"envoi des réclamations F/ S-T","réponse F/ S-T","alerte",null,null,null,null,null,null,null,null,null,null,null,null,null,null,null,{"$f":"SUM(Z42:Z48)","v":0}]
[null,null,"dans le cas d'une réclamation",null,null,null,null,null,null,{"$f":"IF(J42=\"\",\"\",IF(H50=0,\" réclamation non traitée\",IF(I50=0, \"veuillez contacter le F/ S-T par téléphone\",\"\")))","v":""},null,null,null,null,null,null,null,null,"N° mois",null,3]
[null,null,"nombre de pièces NC",null,null,null,null,null,null,{"$f":"IF(J43=\"\",\"\",IF(H51=0,\" réclamation non traitée\",IF(I51=0, \"veuillez contacter le F/ S-T par téléphone\",\"\")))","v":""}]
[null,null,"nombre de pièces par carton",null,null,null,null,null,null,""]
[null,null,"coût de transport par carton",null,null,null,null,null,null,""]
[null,null,"nombre de cartons renvoyés",null,null,null,null,null,null,""]
[null,null,"temps de tri",null,null,null,null,null,null,""]
[null,null,"coût horaire de tri"]
[null,null,"temps de retouche"]
[null,null,"coût horaire de retouche"]
[null,null,"temps de traitement de la réclamation"]
[null,null,"coût horaire de traitement"]
[null,null,"coût total",{"$f":"IFERROR(((D51/D52)*D53)+D54*D53+D55*D56+D57*D58+D59*D60,\"\")","v":""}]

{"sheet":"03-03-22","index":54,"n_rows":61,"n_cols":33,"rows_kept":61,"cut":false,"hidden":false,"merged":[[31,1,31,2],[32,1,32,2],[47,18,47,19],[49,18,49,19],[25,1,25,2],[26,1,26,2],[27,1,27,2],[28,1,28,2],[29,1,29,2],[30,1,30,2],[24,1,24,2],[12,1,12,2],[13,1,13,2],[14,1,14,2],[15,1,15,2],[16,1,16,2],[17,1,18,1],[19,1,19,2],[20,1,20,2],[21,1,21,2],[22,1,22,2],[23,1,23,2],[1,2,4,3],[1,4,4,16],[1,17,1,19],[1,21,1,23],[2,17,2,19],[2,21,2,23],[3,17,3,19],[3,21,3,23],[4,17,4,19],[4,21,4,23]]}
[]
[null,null,null,null,"Rapport journalier",null,null,null,null,null,null,null,null,null,null,null,null,"Code:DAS-SMQ-24"]
[null,null,null,null,null,null,null,null,null,null,null,null,null,null,null,null,null,"Date: 27/12/2019"]
[null,null,null,null,null,null,null,null,null,null,null,null,null,null,null,null,null,"Version:01"]
[null,null,null,null,null,null,null,null,null,null,null,null,null,null,null,null,null,"Page:1"]
[]
[]
[]
[]
[]
[]
[null,null,null,"A","B","C","D","E","F","M","N","O","P","I","L","K","J","G","H"]
[null,"Machine",null,"SST16","SB16","BIGLIA 301 SM","BIGLIA 42 S2M bitourelle","L32","TSUGAMI","MORI SEIKI 3 axes","MORI SEIKI 5 axes","HARDING","KITAMURA","MULTIBROCHE","NAKAMURA","TOUR WEILER"]
[null,"Référence",null,"T-RB400","328090-majc","G011","I081-95-CP8","200200-2022","B55 6*14.8","I110-01-004","PIG-11D","I006","I004","MPS000300","G018","199400-a","4-7561-1","68.0814","AXE-INOX-D8-L58"]
[null,"Désignation",null,"RIVET TRB400 maj-c","Primaire en laiton ,","BAGUE D32*22 L=21","AXE BOITIER TFR+KB","Embout de tige-2022","Rivet couvercle B55","INSERT LEVIER SURMOULEE 345833-01 - fraisage ","PIGNON 11 DENTS FRAISAGE","CAL SUSPENSION PM ISUZU-HARDING","ECROU SUSPENSION ISUZU-HARDING","raccord HEX 17","GOUJON M12*1.5 L=49","Tirant acier D6 maj-c","Bague Galvanisée 24*30*55 PAR CHUTES ","Buse droite à collerette Ø8","AXE INOX D8 L58"]
[null,"Compteur 8h ",null,34900,19311,106,736,3828,6344,423,18,26,26,0,3730,1659,0,11296,0]
[null,"Compteur 17h",null,36486,21107,567,768,4203,8228,450,56,42,42,0,3971,2477,274,12003,916]
[null,"Enregistrement","9h"]
[null,null,"16h"]
[null,"Identification"]
[null,"Propreté des tables de contrôle"]
[null,"Rangement des outils de contrôle"]
[null,"Existance de l'OF"]
[null,"Affutage",null,null,null,null,null,null,null,null,null,null,null,null,null,null,null,null,null,{"$f":"+COUNTA(D24:S24)","v":0}]
[null,"Maintenance"]
[null,"Nombre des NC poubelle "]
[null,"Nombre des NC à retoucher"]
[null,"Machine pour retouche"]
[null,"Panne"]
[null,"Cout pièces de rechange",null,null,null,null,null,null,null,null,null,null,null,null,null,null,null,null,null,{"$f":"SUM(D30:S30)","v":0}]
[null,"prix de revient pièce",null,{"$f":"IFERROR(VLOOKUP(D14,'Prix de revient'!$A:$D,4,0),0)","v":0},{"$f":"IFERROR(VLOOKUP(E14,'Prix de revient'!$A:$D,4,0),0)","v":0},{"$f":"IFERROR(VLOOKUP(F14,'Prix de revient'!$A:$D,4,0),0)","v":0},{"$f":"IFERROR(VLOOKUP(G14,'Prix de revient'!$A:$D,4,0),0)","v":0},{"$f":"IFERROR(VLOOKUP(H14,'Prix de revient'!$A:$D,4,0),0)","v":0},{"$f":"IFERROR(VLOOKUP(I14,'Prix de revient'!$A:$D,4,0),0)","v":0},{"$f":"IFERROR(VLOOKUP(J14,'Prix de revient'!$A:$D,4,0),0)","v":2.1488},{"$f":"IFERROR(VLOOKUP(K14,'Prix de revient'!$A:$D,4,0),0)","v":0},{"$f":"IFERROR(VLOOKUP(L14,'Prix de revient'!$A:$D,4,0),0)","v":0},{"$f":"IFERROR(VLOOKUP(M14,'Prix de revient'!$A:$D,4,0),0)","v":0},{"$f":"IFERROR(VLOOKUP(N14,'Prix de revient'!$A:$D,4,0),0)","v":0},{"$f":"IFERROR(VLOOKUP(O14,'Prix de revient'!$A:$D,4,0),0)","v":0},{"$f":"IFERROR(VLOOKUP(P14,'Prix de revient'!$A:$D,4,0),0)","v":0},{"$f":"IFERROR(VLOOKUP(Q14,'Prix de revient'!$A:$D,4,0),0)","v":0},{"$f":"IFERROR(VLOOKUP(R14,'Prix de revient'!$A:$D,4,0),0)","v":0},{"$f":"IFERROR(VLOOKUP(S14,'Prix de revient'!$A:$D,4,0),0)","v":0}]
[null,"coût de rebuts",null,{"$f":"D26*D31","v":0},{"$f":"E26*E31","v":0},0,0,0,0,0,0,0,0,0,0,0,0,0,0,{"$f":"SUM(D32:S32)","v":0}]
[null,"gestion de modification"]
[]
[]
[]
[]
[]
[]
[]
[null,null,"Clients","Audit","Réclamation","Avoir",null,"Fournisseurs/ sous-traitants","Réception de matiere","Probleme qualité",null,"Les formations professionnelles","Cout","Chiffrage décliné","Actions à suivre",null,"Article qui a subit un tri","durée du tri","Nombre des pieces non-conformes","ouvrier faisant le tri","cout par tri",null,"Article qui a subit la reprise","durée de la reprise","opérateur faisant la reprise","coût de reprise",null,null,null,"Machine ","article","gamme","objet de la modification"]
[null,null,null,null,null,null,null,null,null,null,null,null,null,null,null,null,null,null,null,null,{"$f":"IF(R42=\"\",\"\",R42*VLOOKUP(T42,'cout opérateur machines'!A1:B8,2,0))","v":""},null,null,null,null,{"$f":"X42*8","v":0}]
[null,null,null,null,null,null,null,null,null,null,null,null,null,null,null,null,null,null,null,null,{"$f":"IF(R43=\"\",\"\",R43*VLOOKUP(T43,'cout opérateur machines'!A2:B9,2,0))","v":""},null,null,null,null,{"$f":"X43*8","v":0}]
[null,null,null,null,null,null,null,null,null,null,null,null,null,null,null,null,null,null,null,null,{"$f":"IF(R44=\"\",\"\",R44*VLOOKUP(T44,'cout opérateur machines'!A3:B10,2,0))","v":""},null,null,null,null,0]
[null,null,null,null,null,null,null,null,null,null,null,null,null,null,null,null,null,null,null,null,{"$f":"IF(R45=\"\",\"\",R45*VLOOKUP(T45,'cout opérateur machines'!A4:B11,2,0))","v":""},null,null,null,null,0]
[null,null,null,null,null,null,null,null,null,null,null,null,null,null,null,null,null,null,null,null,{"$f":"IF(R46=\"\",\"\",R46*VLOOKUP(T46,'cout opérateur machines'!A5:B12,2,0))","v":""},null,null,null,null,0]
[null,null,null,null,null,null,null,null,null,null,null,null,null,null,null,null,null,null,null,null,{"$f":"IF(R47=\"\",\"\",R47*VLOOKUP(T47,'cout opérateur machines'!A6:B13,2,0))","v":""},null,null,null,null,0]
[null,null,null,null,{"$f":"COUNTA(E42:E47)","v":0},{"$f":"SUM(F42:F47)","v":0},null,null,null,null,null,null,{"$f":"SUM(M42:M47)","v":0},"causes de refus",null,null,null,null,"cout total du jour",null,{"$f":"SUM(U42:U47)","v":0},null,null,null,null,0]
[null,null,null,null,null,null,null,"envoi des réclamations F/ S-T","réponse F/ S-T","alerte",null,null,null,null,null,null,null,null,null,null,null,null,null,null,null,{"$f":"SUM(Z42:Z48)","v":0}]
[null,null,"dans le cas d'une réclamation",null,null,null,null,null,null,{"$f":"IF(J42=\"\",\"\",IF(H50=0,\" réclamation non traitée\",IF(I50=0, \"veuillez contacter le F/ S-T par téléphone\",\"\")))","v":""},null,null,null,null,null,null,null,null,"N° mois",null,3]
[null,null,"nombre de pièces NC",null,null,null,null,null,null,{"$f":"IF(J43=\"\",\"\",IF(H51=0,\" réclamation non traitée\",IF(I51=0, \"veuillez contacter le F/ S-T par téléphone\",\"\")))","v":""}]
[null,null,"nombre de pièces par carton",null,null,null,null,null,null,""]
[null,null,"coût de transport par carton",null,null,null,null,null,null,""]
[null,null,"nombre de cartons renvoyés",null,null,null,null,null,null,""]
[null,null,"temps de tri",null,null,null,null,null,null,""]
[null,null,"coût horaire de tri"]
[null,null,"temps de retouche"]
[null,null,"coût horaire de retouche"]
[null,null,"temps de traitement de la réclamation"]
[null,null,"coût horaire de traitement"]
[null,null,"coût total",{"$f":"IFERROR(((D51/D52)*D53)+D54*D53+D55*D56+D57*D58+D59*D60,\"\")","v":""}]

{"sheet":"02-3-22","index":55,"n_rows":61,"n_cols":33,"rows_kept":61,"cut":false,"hidden":false,"merged":[[31,1,31,2],[32,1,32,2],[47,18,47,19],[49,18,49,19],[25,1,25,2],[26,1,26,2],[27,1,27,2],[28,1,28,2],[29,1,29,2],[30,1,30,2],[24,1,24,2],[12,1,12,2],[13,1,13,2],[14,1,14,2],[15,1,15,2],[16,1,16,2],[17,1,18,1],[19,1,19,2],[20,1,20,2],[21,1,21,2],[22,1,22,2],[23,1,23,2],[1,2,4,3],[1,4,4,16],[1,17,1,19],[1,21,1,23],[2,17,2,19],[2,21,2,23],[3,17,3,19],[3,21,3,23],[4,17,4,19],[4,21,4,23]]}
[]
[null,null,null,null,"Rapport journalier",null,null,null,null,null,null,null,null,null,null,null,null,"Code:DAS-SMQ-24"]
[null,null,null,null,null,null,null,null,null,null,null,null,null,null,null,null,null,"Date: 27/12/2019"]
[null,null,null,null,null,null,null,null,null,null,null,null,null,null,null,null,null,"Version:01"]
[null,null,null,null,null,null,null,null,null,null,null,null,null,null,null,null,null,"Page:1"]
[]
[]
[]
[]
[]
[]
[null,null,null,"A","B","C","D","E","F","M","N","O","P","I","L","K","J","G","H"]
[null,"Machine",null,"SST16","SB16","BIGLIA 301 SM","BIGLIA 42 S2M bitourelle","L32","TSUGAMI","MORI SEIKI 3 axes","MORI SEIKI 5 axes","HARDING","KITAMURA","MULTIBROCHE","NAKAMURA","TOUR WEILER"]
[null,"Référence",null,"T-RB400","328090-majc","G011","I081-95-CP8","200200-2022","B55 6*14.8","I110-01-004","PIG-11D","I006","I004","MPS000300","G018","199400-a","4-7741-1","68.0814","Rivet T80"]
[null,"Désignation",null,"RIVET TRB400 maj-c","Primaire en laiton ,","BAGUE D32*22 L=21","AXE BOITIER TFR+KB","Embout de tige-2022","Rivet couvercle B55","INSERT LEVIER SURMOULEE 345833-01 - fraisage ","PIGNON 11 DENTS FRAISAGE","CAL SUSPENSION PM ISUZU-HARDING","ECROU SUSPENSION ISUZU-HARDING","raccord HEX 17","GOUJON M12*1.5 L=49","Tirant acier D6 maj-c","BAGUE GALVANISEE 32.2*42*46","Buse droite à collerette Ø8","Rivet mécanique T80"]
[null,"Compteur 8h ",null,33545,17660,0,658,3252,3925,391,0,13,13,0,3527,1013,146,10536,28031]
[null,"Compteur 17h",null,34900,19311,106,736,3828,6344,423,18,26,26,0,3730,1659,434,11296,30300]
[null,"Enregistrement","9h"]
[null,null,"16h"]
[null,"Identification"]
[null,"Propreté des tables de contrôle"]
[null,"Rangement des outils de contrôle"]
[null,"Existance de l'OF"]
[null,"Affutage",null,null,null,null,null,null,null,null,null,null,null,null,null,null,null,null,null,{"$f":"+COUNTA(D24:S24)","v":0}]
[null,"Maintenance"]
[null,"Nombre des NC poubelle "]
[null,"Nombre des NC à retoucher"]
[null,"Machine pour retouche"]
[null,"Panne"]
[null,"Cout pièces de rechange",null,null,null,null,null,null,null,null,null,null,null,null,null,null,null,null,null,{"$f":"SUM(D30:S30)","v":0}]
[null,"prix de revient pièce",null,{"$f":"IFERROR(VLOOKUP(D14,'Prix de revient'!$A:$D,4,0),0)","v":0},{"$f":"IFERROR(VLOOKUP(E14,'Prix de revient'!$A:$D,4,0),0)","v":0},{"$f":"IFERROR(VLOOKUP(F14,'Prix de revient'!$A:$D,4,0),0)","v":0},{"$f":"IFERROR(VLOOKUP(G14,'Prix de revient'!$A:$D,4,0),0)","v":0},{"$f":"IFERROR(VLOOKUP(H14,'Prix de revient'!$A:$D,4,0),0)","v":0},{"$f":"IFERROR(VLOOKUP(I14,'Prix de revient'!$A:$D,4,0),0)","v":0},{"$f":"IFERROR(VLOOKUP(J14,'Prix de revient'!$A:$D,4,0),0)","v":2.1488},{"$f":"IFERROR(VLOOKUP(K14,'Prix de revient'!$A:$D,4,0),0)","v":0},{"$f":"IFERROR(VLOOKUP(L14,'Prix de revient'!$A:$D,4,0),0)","v":0},{"$f":"IFERROR(VLOOKUP(M14,'Prix de revient'!$A:$D,4,0),0)","v":0},{"$f":"IFERROR(VLOOKUP(N14,'Prix de revient'!$A:$D,4,0),0)","v":0},{"$f":"IFERROR(VLOOKUP(O14,'Prix de revient'!$A:$D,4,0),0)","v":0},{"$f":"IFERROR(VLOOKUP(P14,'Prix de revient'!$A:$D,4,0),0)","v":0},{"$f":"IFERROR(VLOOKUP(Q14,'Prix de revient'!$A:$D,4,0),0)","v":0},{"$f":"IFERROR(VLOOKUP(R14,'Prix de revient'!$A:$D,4,0),0)","v":0},{"$f":"IFERROR(VLOOKUP(S14,'Prix de revient'!$A:$D,4,0),0)","v":0}]
[null,"coût de rebuts",null,{"$f":"D26*D31","v":0},{"$f":"E26*E31","v":0},0,0,0,0,0,0,0,0,0,0,0,0,0,0,{"$f":"SUM(D32:S32)","v":0}]
[null,"gestion de modification"]
[]
[]
[]
[]
[]
[]
[]
[null,null,"Clients","Audit","Réclamation","Avoir",null,"Fournisseurs/ sous-traitants","Réception de matiere","Probleme qualité",null,"Les formations professionnelles","Cout","Chiffrage décliné","Actions à suivre",null,"Article qui a subit un tri","durée du tri","Nombre des pieces non-conformes","ouvrier faisant le tri","cout par tri",null,"Article qui a subit la reprise","durée de la reprise","opérateur faisant la reprise","coût de reprise",null,null,null,"Machine ","article","gamme","objet de la modification"]
[null,null,null,null,null,null,null,null,null,null,null,null,null,null,null,null,null,null,null,null,{"$f":"IF(R42=\"\",\"\",R42*VLOOKUP(T42,'cout opérateur machines'!A1:B8,2,0))","v":""},null,null,null,null,{"$f":"X42*8","v":0}]
[null,null,null,null,null,null,null,null,null,null,null,null,null,null,null,null,null,null,null,null,{"$f":"IF(R43=\"\",\"\",R43*VLOOKUP(T43,'cout opérateur machines'!A2:B9,2,0))","v":""},null,null,null,null,{"$f":"X43*8","v":0}]
[null,null,null,null,null,null,null,null,null,null,null,null,null,null,null,null,null,null,null,null,{"$f":"IF(R44=\"\",\"\",R44*VLOOKUP(T44,'cout opérateur machines'!A3:B10,2,0))","v":""},null,null,null,null,0]
[null,null,null,null,null,null,null,null,null,null,null,null,null,null,null,null,null,null,null,null,{"$f":"IF(R45=\"\",\"\",R45*VLOOKUP(T45,'cout opérateur machines'!A4:B11,2,0))","v":""},null,null,null,null,0]
[null,null,null,null,null,null,null,null,null,null,null,null,null,null,null,null,null,null,null,null,{"$f":"IF(R46=\"\",\"\",R46*VLOOKUP(T46,'cout opérateur machines'!A5:B12,2,0))","v":""},null,null,null,null,0]
[null,null,null,null,null,null,null,null,null,null,null,null,null,null,null,null,null,null,null,null,{"$f":"IF(R47=\"\",\"\",R47*VLOOKUP(T47,'cout opérateur machines'!A6:B13,2,0))","v":""},null,null,null,null,0]
[null,null,null,null,{"$f":"COUNTA(E42:E47)","v":0},{"$f":"SUM(F42:F47)","v":0},null,null,null,null,null,null,{"$f":"SUM(M42:M47)","v":0},"causes de refus",null,null,null,null,"cout total du jour",null,{"$f":"SUM(U42:U47)","v":0},null,null,null,null,0]
[null,null,null,null,null,null,null,"envoi des réclamations F/ S-T","réponse F/ S-T","alerte",null,null,null,null,null,null,null,null,null,null,null,null,null,null,null,{"$f":"SUM(Z42:Z48)","v":0}]
[null,null,"dans le cas d'une réclamation",null,null,null,null,null,null,{"$f":"IF(J42=\"\",\"\",IF(H50=0,\" réclamation non traitée\",IF(I50=0, \"veuillez contacter le F/ S-T par téléphone\",\"\")))","v":""},null,null,null,null,null,null,null,null,"N° mois",null,3]
[null,null,"nombre de pièces NC",null,null,null,null,null,null,{"$f":"IF(J43=\"\",\"\",IF(H51=0,\" réclamation non traitée\",IF(I51=0, \"veuillez contacter le F/ S-T par téléphone\",\"\")))","v":""}]
[null,null,"nombre de pièces par carton",null,null,null,null,null,null,""]
[null,null,"coût de transport par carton",null,null,null,null,null,null,""]
[null,null,"nombre de cartons renvoyés",null,null,null,null,null,null,""]
[null,null,"temps de tri",null,null,null,null,null,null,""]
[null,null,"coût horaire de tri"]
[null,null,"temps de retouche"]
[null,null,"coût horaire de retouche"]
[null,null,"temps de traitement de la réclamation"]
[null,null,"coût horaire de traitement"]
[null,null,"coût total",{"$f":"IFERROR(((D51/D52)*D53)+D54*D53+D55*D56+D57*D58+D59*D60,\"\")","v":""}]

{"sheet":"01-3-22","index":56,"n_rows":61,"n_cols":33,"rows_kept":61,"cut":false,"hidden":false,"merged":[[31,1,31,2],[32,1,32,2],[47,18,47,19],[49,18,49,19],[25,1,25,2],[26,1,26,2],[27,1,27,2],[28,1,28,2],[29,1,29,2],[30,1,30,2],[24,1,24,2],[12,1,12,2],[13,1,13,2],[14,1,14,2],[15,1,15,2],[16,1,16,2],[17,1,18,1],[19,1,19,2],[20,1,20,2],[21,1,21,2],[22,1,22,2],[23,1,23,2],[1,2,4,3],[1,4,4,16],[1,17,1,19],[1,21,1,23],[2,17,2,19],[2,21,2,23],[3,17,3,19],[3,21,3,23],[4,17,4,19],[4,21,4,23]]}
[]
[null,null,null,null,"Rapport journalier",null,null,null,null,null,null,null,null,null,null,null,null,"Code:DAS-SMQ-24"]
[null,null,null,null,null,null,null,null,null,null,null,null,null,null,null,null,null,"Date: 27/12/2019"]
[null,null,null,null,null,null,null,null,null,null,null,null,null,null,null,null,null,"Version:01"]
[null,null,null,null,null,null,null,null,null,null,null,null,null,null,null,null,null,"Page:1"]
[]
[]
[]
[]
[]
[]
[null,null,null,"A","B","C","D","E","F","M","N","O","P","I","L","K","J","G","H"]
[null,"Machine",null,"SST16","SB16","BIGLIA 301 SM","BIGLIA 42 S2M bitourelle","L32","TSUGAMI","MORI SEIKI 3 axes","MORI SEIKI 5 axes","HARDING","KITAMURA","MULTIBROCHE","NAKAMURA","TOUR WEILER"]
[null,"Référence",null,"T-RB400","328090-majc","B041-CP1","I081-95-CP8","200200-2022","B55 6*14.8","I110-01-004"," - ","I006","I004","MPS000300","G018","199400-a","4-7741-1","68.0814","Rivet T80"]
[null,"Désignation",null,"RIVET TRB400 maj-c","Primaire en laiton ,","CHEMISE ZINGUEE TETE POMPETE 404","AXE BOITIER TFR+KB","Embout de tige-2022","Rivet couvercle B55","INSERT LEVIER SURMOULEE 345833-01 - fraisage ","Arrêt","CAL SUSPENSION PM ISUZU-HARDING","ECROU SUSPENSION ISUZU-HARDING","raccord HEX 17","GOUJON M12*1.5 L=49","Tirant acier D6 maj-c","BAGUE GALVANISEE 32.2*42*46","Buse droite à collerette Ø8","Rivet mécanique T80"]
[null,"Compteur 8h ",null,32031,15842,1072,503,2697,1721,356,0,0,0,0,3330,86,0,9792,24547]
[null,"Compteur 17h",null,33545,17660,1211,658,3252,3925,391,0,13,13,0,3527,1013,146,10536,28031]
[null,"Enregistrement","9h"]
[null,null,"16h"]
[null,"Identification"]
[null,"Propreté des tables de contrôle"]
[null,"Rangement des outils de contrôle"]
[null,"Existance de l'OF"]
[null,"Affutage",null,null,null,null,null,null,null,null,null,null,null,null,null,null,null,null,null,{"$f":"+COUNTA(D24:S24)","v":0}]
[null,"Maintenance"]
[null,"Nombre des NC poubelle ",null,null,null,null,null,null,null,null,null,null,null,null,null,null,null,7]
[null,"Nombre des NC à retoucher"]
[null,"Machine pour retouche"]
[null,"Panne"]
[null,"Cout pièces de rechange",null,null,null,null,null,null,null,null,null,null,null,null,null,null,null,null,null,{"$f":"SUM(D30:S30)","v":0}]
[null,"prix de revient pièce",null,{"$f":"IFERROR(VLOOKUP(D14,'Prix de revient'!$A:$D,4,0),0)","v":0},{"$f":"IFERROR(VLOOKUP(E14,'Prix de revient'!$A:$D,4,0),0)","v":0},{"$f":"IFERROR(VLOOKUP(F14,'Prix de revient'!$A:$D,4,0),0)","v":0},{"$f":"IFERROR(VLOOKUP(G14,'Prix de revient'!$A:$D,4,0),0)","v":0},{"$f":"IFERROR(VLOOKUP(H14,'Prix de revient'!$A:$D,4,0),0)","v":0},{"$f":"IFERROR(VLOOKUP(I14,'Prix de revient'!$A:$D,4,0),0)","v":0},{"$f":"IFERROR(VLOOKUP(J14,'Prix de revient'!$A:$D,4,0),0)","v":2.1488},{"$f":"IFERROR(VLOOKUP(K14,'Prix de revient'!$A:$D,4,0),0)","v":0},{"$f":"IFERROR(VLOOKUP(L14,'Prix de revient'!$A:$D,4,0),0)","v":0},{"$f":"IFERROR(VLOOKUP(M14,'Prix de revient'!$A:$D,4,0),0)","v":0},{"$f":"IFERROR(VLOOKUP(N14,'Prix de revient'!$A:$D,4,0),0)","v":0},{"$f":"IFERROR(VLOOKUP(O14,'Prix de revient'!$A:$D,4,0),0)","v":0},{"$f":"IFERROR(VLOOKUP(P14,'Prix de revient'!$A:$D,4,0),0)","v":0},{"$f":"IFERROR(VLOOKUP(Q14,'Prix de revient'!$A:$D,4,0),0)","v":0},{"$f":"IFERROR(VLOOKUP(R14,'Prix de revient'!$A:$D,4,0),0)","v":0},{"$f":"IFERROR(VLOOKUP(S14,'Prix de revient'!$A:$D,4,0),0)","v":0}]
[null,"coût de rebuts",null,{"$f":"D26*D31","v":0},{"$f":"E26*E31","v":0},0,0,0,0,0,0,0,0,0,0,0,0,0,0,{"$f":"SUM(D32:S32)","v":0}]
[null,"gestion de modification"]
[]
[]
[]
[]
[]
[]
[]
[null,null,"Clients","Audit","Réclamation","Avoir",null,"Fournisseurs/ sous-traitants","Réception de matiere","Probleme qualité",null,"Les formations professionnelles","Cout","Chiffrage décliné","Actions à suivre",null,"Article qui a subit un tri","durée du tri","Nombre des pieces non-conformes","ouvrier faisant le tri","cout par tri",null,"Article qui a subit la reprise","durée de la reprise","opérateur faisant la reprise","coût de reprise",null,null,null,"Machine ","article","gamme","objet de la modification"]
[null,null,null,null,null,null,null,null,null,null,null,null,null,null,null,null,null,null,null,null,{"$f":"IF(R42=\"\",\"\",R42*VLOOKUP(T42,'cout opérateur machines'!A1:B8,2,0))","v":""},null,null,null,null,{"$f":"X42*8","v":0}]
[null,null,null,null,null,null,null,null,null,null,null,null,null,null,null,null,null,null,null,null,{"$f":"IF(R43=\"\",\"\",R43*VLOOKUP(T43,'cout opérateur machines'!A2:B9,2,0))","v":""},null,null,null,null,{"$f":"X43*8","v":0}]
[null,null,null,null,null,null,null,null,null,null,null,null,null,null,null,null,null,null,null,null,{"$f":"IF(R44=\"\",\"\",R44*VLOOKUP(T44,'cout opérateur machines'!A3:B10,2,0))","v":""},null,null,null,null,0]
[null,null,null,null,null,null,null,null,null,null,null,null,null,null,null,null,null,null,null,null,{"$f":"IF(R45=\"\",\"\",R45*VLOOKUP(T45,'cout opérateur machines'!A4:B11,2,0))","v":""},null,null,null,null,0]
[null,null,null,null,null,null,null,null,null,null,null,null,null,null,null,null,null,null,null,null,{"$f":"IF(R46=\"\",\"\",R46*VLOOKUP(T46,'cout opérateur machines'!A5:B12,2,0))","v":""},null,null,null,null,0]
[null,null,null,null,null,null,null,null,null,null,null,null,null,null,null,null,null,null,null,null,{"$f":"IF(R47=\"\",\"\",R47*VLOOKUP(T47,'cout opérateur machines'!A6:B13,2,0))","v":""},null,null,null,null,0]
[null,null,null,null,{"$f":"COUNTA(E42:E47)","v":0},{"$f":"SUM(F42:F47)","v":0},null,null,null,null,null,null,{"$f":"SUM(M42:M47)","v":0},"causes de refus",null,null,null,null,"cout total du jour",null,{"$f":"SUM(U42:U47)","v":0},null,null,null,null,0]
[null,null,null,null,null,null,null,"envoi des réclamations F/ S-T","réponse F/ S-T","alerte",null,null,null,null,null,null,null,null,null,null,null,null,null,null,null,{"$f":"SUM(Z42:Z48)","v":0}]
[null,null,"dans le cas d'une réclamation",null,null,null,null,null,null,{"$f":"IF(J42=\"\",\"\",IF(H50=0,\" réclamation non traitée\",IF(I50=0, \"veuillez contacter le F/ S-T par téléphone\",\"\")))","v":""},null,null,null,null,null,null,null,null,"N° mois",null,3]
[null,null,"nombre de pièces NC",null,null,null,null,null,null,{"$f":"IF(J43=\"\",\"\",IF(H51=0,\" réclamation non traitée\",IF(I51=0, \"veuillez contacter le F/ S-T par téléphone\",\"\")))","v":""}]
[null,null,"nombre de pièces par carton",null,null,null,null,null,null,""]
[null,null,"coût de transport par carton",null,null,null,null,null,null,""]
[null,null,"nombre de cartons renvoyés",null,null,null,null,null,null,""]
[null,null,"temps de tri",null,null,null,null,null,null,""]
[null,null,"coût horaire de tri"]
[null,null,"temps de retouche"]
[null,null,"coût horaire de retouche"]
[null,null,"temps de traitement de la réclamation"]
[null,null,"coût horaire de traitement"]
[null,null,"coût total",{"$f":"IFERROR(((D51/D52)*D53)+D54*D53+D55*D56+D57*D58+D59*D60,\"\")","v":""}]

{"sheet":"28-2-22","index":57,"n_rows":61,"n_cols":33,"rows_kept":61,"cut":false,"hidden":false,"merged":[[31,1,31,2],[32,1,32,2],[47,18,47,19],[49,18,49,19],[25,1,25,2],[26,1,26,2],[27,1,27,2],[28,1,28,2],[29,1,29,2],[30,1,30,2],[24,1,24,2],[12,1,12,2],[13,1,13,2],[14,1,14,2],[15,1,15,2],[16,1,16,2],[17,1,18,1],[19,1,19,2],[20,1,20,2],[21,1,21,2],[22,1,22,2],[23,1,23,2],[1,2,4,3],[1,4,4,16],[1,17,1,19],[1,21,1,23],[2,17,2,19],[2,21,2,23],[3,17,3,19],[3,21,3,23],[4,17,4,19],[4,21,4,23]]}
[]
[null,null,null,null,"Rapport journalier",null,null,null,null,null,null,null,null,null,null,null,null,"Code:DAS-SMQ-24"]
[null,null,null,null,null,null,null,null,null,null,null,null,null,null,null,null,null,"Date: 27/12/2019"]
[null,null,null,null,null,null,null,null,null,null,null,null,null,null,null,null,null,"Version:01"]
[null,null,null,null,null,null,null,null,null,null,null,null,null,null,null,null,null,"Page:1"]
[]
[]
[]
[]
[]
[]
[null,null,null,"A","B","C","D","E","F","M","N","O","P","I","L","K","J","G","H"]
[null,"Machine",null,"SST16","SB16","BIGLIA 301 SM","BIGLIA 42 S2M bitourelle","L32","TSUGAMI","MORI SEIKI 3 axes","MORI SEIKI 5 axes","HARDING","KITAMURA","MULTIBROCHE","NAKAMURA","TOUR WEILER"]
[null,"Référence",null,"T-RB400","328090-majc","B041-CP1","I081-95-CP8","200200-2022","B55 6*14.8","I110-01-004"," - ","PIG 50 SE- harding ","9518","MPS000300","G018","199400-a","14.4*25*27","68.0814","Rivet T80"]
[null,"Désignation",null,"RIVET TRB400 maj-c","Primaire en laiton ,","CHEMISE ZINGUEE TETE POMPETE 404","AXE BOITIER TFR+KB","Embout de tige-2022","Rivet couvercle B55","INSERT LEVIER SURMOULEE 345833-01 - fraisage ","Arrêt","PIGNON PLATEAU SIMPLE ETAGE D50 - contournage dents ","USINAGE BORNE RBD","raccord HEX 17","GOUJON M12*1.5 L=49","Tirant acier D6 maj-c","Bague aluminium 14.4*25*27","Buse droite à collerette Ø8","Rivet mécanique T80"]
[null,"Compteur 8h ",null,30734,14045,914,366,2156,0,317,0,0,171,0,3123,0,0,9161,21905]
[null,"Compteur 17h",null,32031,15842,1072,503,2697,1721,356,0,0,361,0,3330,86,178,9792,24547]
[null,"Enregistrement","9h"]
[null,null,"16h"]
[null,"Identification"]
[null,"Propreté des tables de contrôle"]
[null,"Rangement des outils de contrôle"]
[null,"Existance de l'OF"]
[null,"Affutage",null,null,null,null,null,null,null,null,null,null,null,null,null,null,null,null,null,{"$f":"+COUNTA(D24:S24)","v":0}]
[null,"Maintenance"]
[null,"Nombre des NC poubelle ",null,null,null,2,1,1,null,null,null,null,null,null,null,null,null,6]
[null,"Nombre des NC à retoucher"]
[null,"Machine pour retouche"]
[null,"Panne"]
[null,"Cout pièces de rechange",null,null,null,null,null,null,null,null,null,null,null,null,null,null,null,null,null,{"$f":"SUM(D30:S30)","v":0}]
[null,"prix de revient pièce",null,{"$f":"IFERROR(VLOOKUP(D14,'Prix de revient'!$A:$D,4,0),0)","v":0},{"$f":"IFERROR(VLOOKUP(E14,'Prix de revient'!$A:$D,4,0),0)","v":0},{"$f":"IFERROR(VLOOKUP(F14,'Prix de revient'!$A:$D,4,0),0)","v":0},{"$f":"IFERROR(VLOOKUP(G14,'Prix de revient'!$A:$D,4,0),0)","v":0},{"$f":"IFERROR(VLOOKUP(H14,'Prix de revient'!$A:$D,4,0),0)","v":0},{"$f":"IFERROR(VLOOKUP(I14,'Prix de revient'!$A:$D,4,0),0)","v":0},{"$f":"IFERROR(VLOOKUP(J14,'Prix de revient'!$A:$D,4,0),0)","v":2.1488},{"$f":"IFERROR(VLOOKUP(K14,'Prix de revient'!$A:$D,4,0),0)","v":0},{"$f":"IFERROR(VLOOKUP(L14,'Prix de revient'!$A:$D,4,0),0)","v":0},{"$f":"IFERROR(VLOOKUP(M14,'Prix de revient'!$A:$D,4,0),0)","v":0},{"$f":"IFERROR(VLOOKUP(N14,'Prix de revient'!$A:$D,4,0),0)","v":0},{"$f":"IFERROR(VLOOKUP(O14,'Prix de revient'!$A:$D,4,0),0)","v":0},{"$f":"IFERROR(VLOOKUP(P14,'Prix de revient'!$A:$D,4,0),0)","v":0},{"$f":"IFERROR(VLOOKUP(Q14,'Prix de revient'!$A:$D,4,0),0)","v":0},{"$f":"IFERROR(VLOOKUP(R14,'Prix de revient'!$A:$D,4,0),0)","v":0},{"$f":"IFERROR(VLOOKUP(S14,'Prix de revient'!$A:$D,4,0),0)","v":0}]
[null,"coût de rebuts",null,{"$f":"D26*D31","v":0},{"$f":"E26*E31","v":0},0,0,0,0,0,0,0,0,0,0,0,0,0,0,{"$f":"SUM(D32:S32)","v":0}]
[null,"gestion de modification"]
[]
[]
[]
[]
[]
[]
[]
[null,null,"Clients","Audit","Réclamation","Avoir",null,"Fournisseurs/ sous-traitants","Réception de matiere","Probleme qualité",null,"Les formations professionnelles","Cout","Chiffrage décliné","Actions à suivre",null,"Article qui a subit un tri","durée du tri","Nombre des pieces non-conformes","ouvrier faisant le tri","cout par tri",null,"Article qui a subit la reprise","durée de la reprise","opérateur faisant la reprise","coût de reprise",null,null,null,"Machine ","article","gamme","objet de la modification"]
[null,null,null,null,null,null,null,null,null,null,null,null,null,null,null,null,null,null,null,null,{"$f":"IF(R42=\"\",\"\",R42*VLOOKUP(T42,'cout opérateur machines'!A1:B8,2,0))","v":""},null,null,null,null,{"$f":"X42*8","v":0}]
[null,null,null,null,null,null,null,null,null,null,null,null,null,null,null,null,null,null,null,null,{"$f":"IF(R43=\"\",\"\",R43*VLOOKUP(T43,'cout opérateur machines'!A2:B9,2,0))","v":""},null,null,null,null,{"$f":"X43*8","v":0}]
[null,null,null,null,null,null,null,null,null,null,null,null,null,null,null,null,null,null,null,null,{"$f":"IF(R44=\"\",\"\",R44*VLOOKUP(T44,'cout opérateur machines'!A3:B10,2,0))","v":""},null,null,null,null,0]
[null,null,null,null,null,null,null,null,null,null,null,null,null,null,null,null,null,null,null,null,{"$f":"IF(R45=\"\",\"\",R45*VLOOKUP(T45,'cout opérateur machines'!A4:B11,2,0))","v":""},null,null,null,null,0]
[null,null,null,null,null,null,null,null,null,null,null,null,null,null,null,null,null,null,null,null,{"$f":"IF(R46=\"\",\"\",R46*VLOOKUP(T46,'cout opérateur machines'!A5:B12,2,0))","v":""},null,null,null,null,0]
[null,null,null,null,null,null,null,null,null,null,null,null,null,null,null,null,null,null,null,null,{"$f":"IF(R47=\"\",\"\",R47*VLOOKUP(T47,'cout opérateur machines'!A6:B13,2,0))","v":""},null,null,null,null,0]
[null,null,null,null,{"$f":"COUNTA(E42:E47)","v":0},{"$f":"SUM(F42:F47)","v":0},null,null,null,null,null,null,{"$f":"SUM(M42:M47)","v":0},"causes de refus",null,null,null,null,"cout total du jour",null,{"$f":"SUM(U42:U47)","v":0},null,null,null,null,0]
[null,null,null,null,null,null,null,"envoi des réclamations F/ S-T","réponse F/ S-T","alerte",null,null,null,null,null,null,null,null,null,null,null,null,null,null,null,{"$f":"SUM(Z42:Z48)","v":0}]
[null,null,"dans le cas d'une réclamation",null,null,null,null,null,null,{"$f":"IF(J42=\"\",\"\",IF(H50=0,\" réclamation non traitée\",IF(I50=0, \"veuillez contacter le F/ S-T par téléphone\",\"\")))","v":""},null,null,null,null,null,null,null,null,"N° mois",null,2]
[null,null,"nombre de pièces NC",null,null,null,null,null,null,{"$f":"IF(J43=\"\",\"\",IF(H51=0,\" réclamation non traitée\",IF(I51=0, \"veuillez contacter le F/ S-T par téléphone\",\"\")))","v":""}]
[null,null,"nombre de pièces par carton",null,null,null,null,null,null,""]
[null,null,"coût de transport par carton",null,null,null,null,null,null,""]
[null,null,"nombre de cartons renvoyés",null,null,null,null,null,null,""]
[null,null,"temps de tri",null,null,null,null,null,null,""]
[null,null,"coût horaire de tri"]
[null,null,"temps de retouche"]
[null,null,"coût horaire de retouche"]
[null,null,"temps de traitement de la réclamation"]
[null,null,"coût horaire de traitement"]
[null,null,"coût total",{"$f":"IFERROR(((D51/D52)*D53)+D54*D53+D55*D56+D57*D58+D59*D60,\"\")","v":""}]

{"sheet":"26-2-22","index":58,"n_rows":61,"n_cols":33,"rows_kept":61,"cut":false,"hidden":false,"merged":[[31,1,31,2],[32,1,32,2],[47,18,47,19],[49,18,49,19],[25,1,25,2],[26,1,26,2],[27,1,27,2],[28,1,28,2],[29,1,29,2],[30,1,30,2],[24,1,24,2],[12,1,12,2],[13,1,13,2],[14,1,14,2],[15,1,15,2],[16,1,16,2],[17,1,18,1],[19,1,19,2],[20,1,20,2],[21,1,21,2],[22,1,22,2],[23,1,23,2],[1,2,4,3],[1,4,4,16],[1,17,1,19],[1,21,1,23],[2,17,2,19],[2,21,2,23],[3,17,3,19],[3,21,3,23],[4,17,4,19],[4,21,4,23]]}
[]
[null,null,null,null,"Rapport journalier",null,null,null,null,null,null,null,null,null,null,null,null,"Code:DAS-SMQ-24"]
[null,null,null,null,null,null,null,null,null,null,null,null,null,null,null,null,null,"Date: 27/12/2019"]
[null,null,null,null,null,null,null,null,null,null,null,null,null,null,null,null,null,"Version:01"]
[null,null,null,null,null,null,null,null,null,null,null,null,null,null,null,null,null,"Page:1"]
[]
[]
[]
[]
[]
[]
[null,null,null,"A","B","C","D","E","F","M","N","O","P","I","L","K","J","G","H"]
[null,"Machine",null,"SST16","SB16","BIGLIA 301 SM","BIGLIA 42 S2M bitourelle","L32","TSUGAMI","MORI SEIKI 3 axes","MORI SEIKI 5 axes","HARDING","KITAMURA","MULTIBROCHE","NAKAMURA","TOUR WEILER"]
[null,"Référence",null,"T-RB400","328090-majc","B041-CP1","I081-95-CP8","200200-2022","S3SD14632","I110-01-004"," - ","PIG 50 SE- harding ","9518","MPS000300","G018","199400-a","4-7989","68.0814","Rivet T80"]
[null,"Désignation",null,"RIVET TRB400 maj-c","Primaire en laiton ,","CHEMISE ZINGUEE TETE POMPETE 404","AXE BOITIER TFR+KB","Embout de tige-2022","BUTEE-d9 MAJ C","INSERT LEVIER SURMOULEE 345833-01 - fraisage ","Arrêt","PIGNON PLATEAU SIMPLE ETAGE D50 - contournage dents ","USINAGE BORNE RBD","raccord HEX 17","GOUJON M12*1.5 L=49","Tirant acier D6 maj-c","Bague aluminium 14.4*25*40-chutes ","Buse droite à collerette Ø8","Rivet mécanique T80"]
[null,"Compteur 8h ",null,30225,13162,787,311,1920,0,294,0,0,18,0,3001,2260,0,9046,20240]
[null,"Compteur 17h",null,30734,14045,914,366,2156,0,317,null,0,171,0,3123,3630,0,9161,21905]
[null,"Enregistrement","9h"]
[null,null,"16h"]
[null,"Identification"]
[null,"Propreté des tables de contrôle"]
[null,"Rangement des outils de contrôle"]
[null,"Existance de l'OF"]
[null,"Affutage",null,null,null,null,null,null,null,null,null,null,null,null,null,null,null,null,null,{"$f":"+COUNTA(D24:S24)","v":0}]
[null,"Maintenance"]
[null,"Nombre des NC poubelle "]
[null,"Nombre des NC à retoucher"]
[null,"Machine pour retouche"]
[null,"Panne"]
[null,"Cout pièces de rechange",null,null,null,null,null,null,null,null,null,null,null,null,null,null,null,null,null,{"$f":"SUM(D30:S30)","v":0}]
[null,"prix de revient pièce",null,{"$f":"IFERROR(VLOOKUP(D14,'Prix de revient'!$A:$D,4,0),0)","v":0},{"$f":"IFERROR(VLOOKUP(E14,'Prix de revient'!$A:$D,4,0),0)","v":0},{"$f":"IFERROR(VLOOKUP(F14,'Prix de revient'!$A:$D,4,0),0)","v":0},{"$f":"IFERROR(VLOOKUP(G14,'Prix de revient'!$A:$D,4,0),0)","v":0},{"$f":"IFERROR(VLOOKUP(H14,'Prix de revient'!$A:$D,4,0),0)","v":0},{"$f":"IFERROR(VLOOKUP(I14,'Prix de revient'!$A:$D,4,0),0)","v":0},{"$f":"IFERROR(VLOOKUP(J14,'Prix de revient'!$A:$D,4,0),0)","v":2.1488},{"$f":"IFERROR(VLOOKUP(K14,'Prix de revient'!$A:$D,4,0),0)","v":0},{"$f":"IFERROR(VLOOKUP(L14,'Prix de revient'!$A:$D,4,0),0)","v":0},{"$f":"IFERROR(VLOOKUP(M14,'Prix de revient'!$A:$D,4,0),0)","v":0},{"$f":"IFERROR(VLOOKUP(N14,'Prix de revient'!$A:$D,4,0),0)","v":0},{"$f":"IFERROR(VLOOKUP(O14,'Prix de revient'!$A:$D,4,0),0)","v":0},{"$f":"IFERROR(VLOOKUP(P14,'Prix de revient'!$A:$D,4,0),0)","v":0},{"$f":"IFERROR(VLOOKUP(Q14,'Prix de revient'!$A:$D,4,0),0)","v":0},{"$f":"IFERROR(VLOOKUP(R14,'Prix de revient'!$A:$D,4,0),0)","v":0},{"$f":"IFERROR(VLOOKUP(S14,'Prix de revient'!$A:$D,4,0),0)","v":0}]
[null,"coût de rebuts",null,{"$f":"D26*D31","v":0},{"$f":"E26*E31","v":0},0,0,0,0,0,0,0,0,0,0,0,0,0,0,{"$f":"SUM(D32:S32)","v":0}]
[null,"gestion de modification"]
[]
[]
[]
[]
[]
[]
[]
[null,null,"Clients","Audit","Réclamation","Avoir",null,"Fournisseurs/ sous-traitants","Réception de matiere","Probleme qualité",null,"Les formations professionnelles","Cout","Chiffrage décliné","Actions à suivre",null,"Article qui a subit un tri","durée du tri","Nombre des pieces non-conformes","ouvrier faisant le tri","cout par tri",null,"Article qui a subit la reprise","durée de la reprise","opérateur faisant la reprise","coût de reprise",null,null,null,"Machine ","article","gamme","objet de la modification"]
[null,null,null,null,null,null,null,null,null,null,null,null,null,null,null,null,null,null,null,null,{"$f":"IF(R42=\"\",\"\",R42*VLOOKUP(T42,'cout opérateur machines'!A1:B8,2,0))","v":""},null,null,null,null,{"$f":"X42*8","v":0}]
[null,null,null,null,null,null,null,null,null,null,null,null,null,null,null,null,null,null,null,null,{"$f":"IF(R43=\"\",\"\",R43*VLOOKUP(T43,'cout opérateur machines'!A2:B9,2,0))","v":""},null,null,null,null,{"$f":"X43*8","v":0}]
[null,null,null,null,null,null,null,null,null,null,null,null,null,null,null,null,null,null,null,null,{"$f":"IF(R44=\"\",\"\",R44*VLOOKUP(T44,'cout opérateur machines'!A3:B10,2,0))","v":""},null,null,null,null,0]
[null,null,null,null,null,null,null,null,null,null,null,null,null,null,null,null,null,null,null,null,{"$f":"IF(R45=\"\",\"\",R45*VLOOKUP(T45,'cout opérateur machines'!A4:B11,2,0))","v":""},null,null,null,null,0]
[null,null,null,null,null,null,null,null,null,null,null,null,null,null,null,null,null,null,null,null,{"$f":"IF(R46=\"\",\"\",R46*VLOOKUP(T46,'cout opérateur machines'!A5:B12,2,0))","v":""},null,null,null,null,0]
[null,null,null,null,null,null,null,null,null,null,null,null,null,null,null,null,null,null,null,null,{"$f":"IF(R47=\"\",\"\",R47*VLOOKUP(T47,'cout opérateur machines'!A6:B13,2,0))","v":""},null,null,null,null,0]
[null,null,null,null,{"$f":"COUNTA(E42:E47)","v":0},{"$f":"SUM(F42:F47)","v":0},null,null,null,null,null,null,{"$f":"SUM(M42:M47)","v":0},"causes de refus",null,null,null,null,"cout total du jour",null,{"$f":"SUM(U42:U47)","v":0},null,null,null,null,0]
[null,null,null,null,null,null,null,"envoi des réclamations F/ S-T","réponse F/ S-T","alerte",null,null,null,null,null,null,null,null,null,null,null,null,null,null,null,{"$f":"SUM(Z42:Z48)","v":0}]
[null,null,"dans le cas d'une réclamation",null,null,null,null,null,null,{"$f":"IF(J42=\"\",\"\",IF(H50=0,\" réclamation non traitée\",IF(I50=0, \"veuillez contacter le F/ S-T par téléphone\",\"\")))","v":""},null,null,null,null,null,null,null,null,"N° mois",null,2]
[null,null,"nombre de pièces NC",null,null,null,null,null,null,{"$f":"IF(J43=\"\",\"\",IF(H51=0,\" réclamation non traitée\",IF(I51=0, \"veuillez contacter le F/ S-T par téléphone\",\"\")))","v":""}]
[null,null,"nombre de pièces par carton",null,null,null,null,null,null,""]
[null,null,"coût de transport par carton",null,null,null,null,null,null,""]
[null,null,"nombre de cartons renvoyés",null,null,null,null,null,null,""]
[null,null,"temps de tri",null,null,null,null,null,null,""]
[null,null,"coût horaire de tri"]
[null,null,"temps de retouche"]
[null,null,"coût horaire de retouche"]
[null,null,"temps de traitement de la réclamation"]
[null,null,"coût horaire de traitement"]
[null,null,"coût total",{"$f":"IFERROR(((D51/D52)*D53)+D54*D53+D55*D56+D57*D58+D59*D60,\"\")","v":""}]

{"sheet":"25-2-22","index":59,"n_rows":61,"n_cols":33,"rows_kept":61,"cut":false,"hidden":false,"merged":[[31,1,31,2],[32,1,32,2],[47,18,47,19],[49,18,49,19],[25,1,25,2],[26,1,26,2],[27,1,27,2],[28,1,28,2],[29,1,29,2],[30,1,30,2],[24,1,24,2],[12,1,12,2],[13,1,13,2],[14,1,14,2],[15,1,15,2],[16,1,16,2],[17,1,18,1],[19,1,19,2],[20,1,20,2],[21,1,21,2],[22,1,22,2],[23,1,23,2],[1,2,4,3],[1,4,4,16],[1,17,1,19],[1,21,1,23],[2,17,2,19],[2,21,2,23],[3,17,3,19],[3,21,3,23],[4,17,4,19],[4,21,4,23]]}
[]
[null,null,null,null,"Rapport journalier",null,null,null,null,null,null,null,null,null,null,null,null,"Code:DAS-SMQ-24"]
[null,null,null,null,null,null,null,null,null,null,null,null,null,null,null,null,null,"Date: 27/12/2019"]
[null,null,null,null,null,null,null,null,null,null,null,null,null,null,null,null,null,"Version:01"]
[null,null,null,null,null,null,null,null,null,null,null,null,null,null,null,null,null,"Page:1"]
[]
[]
[]
[]
[]
[]
[null,null,null,"A","B","C","D","E","F","M","N","O","P","I","L","K","J","G","H"]
[null,"Machine",null,"SST16","SB16","BIGLIA 301 SM","BIGLIA 42 S2M bitourelle","L32","TSUGAMI","MORI SEIKI 3 axes","MORI SEIKI 5 axes","HARDING","KITAMURA","MULTIBROCHE","NAKAMURA","TOUR WEILER"]
[null,"Référence",null,"T-RB400","328090-majc","B041-CP1","I081-95-CP8","200200-2022","S3SD14632","I110-01-004"," - ","PIG 50 SE- harding ","9518","MPS000300","G018","199400-a","4-7989","68.0814","Rivet T80"]
[null,"Désignation",null,"RIVET TRB400 maj-c","Primaire en laiton ,","CHEMISE ZINGUEE TETE POMPETE 404","AXE BOITIER TFR+KB","Embout de tige-2022","BUTEE-d9 MAJ C","INSERT LEVIER SURMOULEE 345833-01 - fraisage ","Arrêt","PIGNON PLATEAU SIMPLE ETAGE D50 - contournage dents ","USINAGE BORNE RBD","raccord HEX 17","GOUJON M12*1.5 L=49","Tirant acier D6 maj-c","Bague aluminium 14.4*25*40-chutes ","Buse droite à collerette Ø8","Rivet mécanique T80"]
[null,"Compteur 8h ",null,29110,11407,557,231,1340,0,246,0,0,0,0,2797,0,0,8525,16680]
[null,"Compteur 17h",null,30225,13162,787,311,1920,0,294,0,0,18,0,3001,2260,0,9046,20240]
[null,"Enregistrement","9h"]
[null,null,"16h"]
[null,"Identification"]
[null,"Propreté des tables de contrôle"]
[null,"Rangement des outils de contrôle"]
[null,"Existance de l'OF"]
[null,"Affutage",null,null,null,null,null,null,null,null,null,null,null,null,null,null,null,null,null,{"$f":"+COUNTA(D24:S24)","v":0}]
[null,"Maintenance"]
[null,"Nombre des NC poubelle "]
[null,"Nombre des NC à retoucher"]
[null,"Machine pour retouche"]
[null,"Panne"]
[null,"Cout pièces de rechange",null,null,null,null,null,null,null,null,null,null,null,null,null,null,null,null,null,{"$f":"SUM(D30:S30)","v":0}]
[null,"prix de revient pièce",null,{"$f":"IFERROR(VLOOKUP(D14,'Prix de revient'!$A:$D,4,0),0)","v":0},{"$f":"IFERROR(VLOOKUP(E14,'Prix de revient'!$A:$D,4,0),0)","v":0},{"$f":"IFERROR(VLOOKUP(F14,'Prix de revient'!$A:$D,4,0),0)","v":0},{"$f":"IFERROR(VLOOKUP(G14,'Prix de revient'!$A:$D,4,0),0)","v":0},{"$f":"IFERROR(VLOOKUP(H14,'Prix de revient'!$A:$D,4,0),0)","v":0},{"$f":"IFERROR(VLOOKUP(I14,'Prix de revient'!$A:$D,4,0),0)","v":0},{"$f":"IFERROR(VLOOKUP(J14,'Prix de revient'!$A:$D,4,0),0)","v":2.1488},{"$f":"IFERROR(VLOOKUP(K14,'Prix de revient'!$A:$D,4,0),0)","v":0},{"$f":"IFERROR(VLOOKUP(L14,'Prix de revient'!$A:$D,4,0),0)","v":0},{"$f":"IFERROR(VLOOKUP(M14,'Prix de revient'!$A:$D,4,0),0)","v":0},{"$f":"IFERROR(VLOOKUP(N14,'Prix de revient'!$A:$D,4,0),0)","v":0},{"$f":"IFERROR(VLOOKUP(O14,'Prix de revient'!$A:$D,4,0),0)","v":0},{"$f":"IFERROR(VLOOKUP(P14,'Prix de revient'!$A:$D,4,0),0)","v":0},{"$f":"IFERROR(VLOOKUP(Q14,'Prix de revient'!$A:$D,4,0),0)","v":0},{"$f":"IFERROR(VLOOKUP(R14,'Prix de revient'!$A:$D,4,0),0)","v":0},{"$f":"IFERROR(VLOOKUP(S14,'Prix de revient'!$A:$D,4,0),0)","v":0}]
[null,"coût de rebuts",null,{"$f":"D26*D31","v":0},{"$f":"E26*E31","v":0},0,0,0,0,0,0,0,0,0,0,0,0,0,0,{"$f":"SUM(D32:S32)","v":0}]
[null,"gestion de modification"]
[]
[]
[]
[]
[]
[]
[]
[null,null,"Clients","Audit","Réclamation","Avoir",null,"Fournisseurs/ sous-traitants","Réception de matiere","Probleme qualité",null,"Les formations professionnelles","Cout","Chiffrage décliné","Actions à suivre",null,"Article qui a subit un tri","durée du tri","Nombre des pieces non-conformes","ouvrier faisant le tri","cout par tri",null,"Article qui a subit la reprise","durée de la reprise","opérateur faisant la reprise","coût de reprise",null,null,null,"Machine ","article","gamme","objet de la modification"]
[null,null,null,null,null,null,null,null,null,null,null,null,null,null,null,null,null,null,null,null,{"$f":"IF(R42=\"\",\"\",R42*VLOOKUP(T42,'cout opérateur machines'!A1:B8,2,0))","v":""},null,null,null,null,{"$f":"X42*8","v":0}]
[null,null,null,null,null,null,null,null,null,null,null,null,null,null,null,null,null,null,null,null,{"$f":"IF(R43=\"\",\"\",R43*VLOOKUP(T43,'cout opérateur machines'!A2:B9,2,0))","v":""},null,null,null,null,{"$f":"X43*8","v":0}]
[null,null,null,null,null,null,null,null,null,null,null,null,null,null,null,null,null,null,null,null,{"$f":"IF(R44=\"\",\"\",R44*VLOOKUP(T44,'cout opérateur machines'!A3:B10,2,0))","v":""},null,null,null,null,0]
[null,null,null,null,null,null,null,null,null,null,null,null,null,null,null,null,null,null,null,null,{"$f":"IF(R45=\"\",\"\",R45*VLOOKUP(T45,'cout opérateur machines'!A4:B11,2,0))","v":""},null,null,null,null,0]
[null,null,null,null,null,null,null,null,null,null,null,null,null,null,null,null,null,null,null,null,{"$f":"IF(R46=\"\",\"\",R46*VLOOKUP(T46,'cout opérateur machines'!A5:B12,2,0))","v":""},null,null,null,null,0]
[null,null,null,null,null,null,null,null,null,null,null,null,null,null,null,null,null,null,null,null,{"$f":"IF(R47=\"\",\"\",R47*VLOOKUP(T47,'cout opérateur machines'!A6:B13,2,0))","v":""},null,null,null,null,0]
[null,null,null,null,{"$f":"COUNTA(E42:E47)","v":0},{"$f":"SUM(F42:F47)","v":0},null,null,null,null,null,null,{"$f":"SUM(M42:M47)","v":0},"causes de refus",null,null,null,null,"cout total du jour",null,{"$f":"SUM(U42:U47)","v":0},null,null,null,null,0]
[null,null,null,null,null,null,null,"envoi des réclamations F/ S-T","réponse F/ S-T","alerte",null,null,null,null,null,null,null,null,null,null,null,null,null,null,null,{"$f":"SUM(Z42:Z48)","v":0}]
[null,null,"dans le cas d'une réclamation",null,null,null,null,null,null,{"$f":"IF(J42=\"\",\"\",IF(H50=0,\" réclamation non traitée\",IF(I50=0, \"veuillez contacter le F/ S-T par téléphone\",\"\")))","v":""},null,null,null,null,null,null,null,null,"N° mois",null,2]
[null,null,"nombre de pièces NC",null,null,null,null,null,null,{"$f":"IF(J43=\"\",\"\",IF(H51=0,\" réclamation non traitée\",IF(I51=0, \"veuillez contacter le F/ S-T par téléphone\",\"\")))","v":""}]
[null,null,"nombre de pièces par carton",null,null,null,null,null,null,""]
[null,null,"coût de transport par carton",null,null,null,null,null,null,""]
[null,null,"nombre de cartons renvoyés",null,null,null,null,null,null,""]
[null,null,"temps de tri",null,null,null,null,null,null,""]
[null,null,"coût horaire de tri"]
[null,null,"temps de retouche"]
[null,null,"coût horaire de retouche"]
[null,null,"temps de traitement de la réclamation"]
[null,null,"coût horaire de traitement"]
[null,null,"coût total",{"$f":"IFERROR(((D51/D52)*D53)+D54*D53+D55*D56+D57*D58+D59*D60,\"\")","v":""}]

{"sheet":"24-2-22","index":60,"n_rows":61,"n_cols":33,"rows_kept":61,"cut":false,"hidden":false,"merged":[[31,1,31,2],[32,1,32,2],[47,18,47,19],[49,18,49,19],[25,1,25,2],[26,1,26,2],[27,1,27,2],[28,1,28,2],[29,1,29,2],[30,1,30,2],[24,1,24,2],[12,1,12,2],[13,1,13,2],[14,1,14,2],[15,1,15,2],[16,1,16,2],[17,1,18,1],[19,1,19,2],[20,1,20,2],[21,1,21,2],[22,1,22,2],[23,1,23,2],[1,2,4,3],[1,4,4,16],[1,17,1,19],[1,21,1,23],[2,17,2,19],[2,21,2,23],[3,17,3,19],[3,21,3,23],[4,17,4,19],[4,21,4,23]]}
[]
[null,null,null,null,"Rapport journalier",null,null,null,null,null,null,null,null,null,null,null,null,"Code:DAS-SMQ-24"]
[null,null,null,null,null,null,null,null,null,null,null,null,null,null,null,null,null,"Date: 27/12/2019"]
[null,null,null,null,null,null,null,null,null,null,null,null,null,null,null,null,null,"Version:01"]
[null,null,null,null,null,null,null,null,null,null,null,null,null,null,null,null,null,"Page:1"]
[]
[]
[]
[]
[]
[]
[null,null,null,"A","B","C","D","E","F","M","N","O","P","I","L","K","J","G","H"]
[null,"Machine",null,"SST16","SB16","BIGLIA 301 SM","BIGLIA 42 S2M bitourelle","L32","TSUGAMI","MORI SEIKI 3 axes","MORI SEIKI 5 axes","HARDING","KITAMURA","MULTIBROCHE","NAKAMURA","TOUR WEILER"]
[null,"Référence",null,"T-RB400","328090-majc","B041-CP1","I081-95-CP8","200200-2022","S3SD14632","I110-01-004"," - ","PIG 50 SE- harding ","9751","MPS000300","G018","199400-a","4-7989","68.0814","Rivet T80"]
[null,"Désignation",null,"RIVET TRB400 maj-c","Primaire en laiton ,","CHEMISE ZINGUEE TETE POMPETE 404","AXE BOITIER TFR+KB","Embout de tige-2022","BUTEE-d9 MAJ C","INSERT LEVIER SURMOULEE 345833-01 - fraisage ","Arrêt","PIGNON PLATEAU SIMPLE ETAGE D50 - contournage dents ","USINAGE BORNE CPF PROPREITAIRE ","raccord HEX 17","GOUJON M12*1.5 L=49","Tirant acier D6 maj-c","Bague aluminium 14.4*25*40-chutes ","Buse droite à collerette Ø8","Rivet mécanique T80"]
[null,"Compteur 8h ",null,27991,9650,359,93,761,0,194,0,71,566,0,2600,4000,0,7880,13915]
[null,"Compteur 17h",null,29110,11407,557,231,1340,0,246,0,71,740,0,2797,5195,0,8525,16680]
[null,"Enregistrement","9h"]
[null,null,"16h"]
[null,"Identification"]
[null,"Propreté des tables de contrôle"]
[null,"Rangement des outils de contrôle"]
[null,"Existance de l'OF"]
[null,"Affutage",null,null,null,null,null,null,null,null,null,null,null,null,null,null,null,null,null,{"$f":"+COUNTA(D24:S24)","v":0}]
[null,"Maintenance"]
[null,"Nombre des NC poubelle ",null,12]
[null,"Nombre des NC à retoucher"]
[null,"Machine pour retouche"]
[null,"Panne"]
[null,"Cout pièces de rechange",null,null,null,null,null,null,null,null,null,null,null,null,null,null,null,null,null,{"$f":"SUM(D30:S30)","v":0}]
[null,"prix de revient pièce",null,{"$f":"IFERROR(VLOOKUP(D14,'Prix de revient'!$A:$D,4,0),0)","v":0},{"$f":"IFERROR(VLOOKUP(E14,'Prix de revient'!$A:$D,4,0),0)","v":0},{"$f":"IFERROR(VLOOKUP(F14,'Prix de revient'!$A:$D,4,0),0)","v":0},{"$f":"IFERROR(VLOOKUP(G14,'Prix de revient'!$A:$D,4,0),0)","v":0},{"$f":"IFERROR(VLOOKUP(H14,'Prix de revient'!$A:$D,4,0),0)","v":0},{"$f":"IFERROR(VLOOKUP(I14,'Prix de revient'!$A:$D,4,0),0)","v":0},{"$f":"IFERROR(VLOOKUP(J14,'Prix de revient'!$A:$D,4,0),0)","v":2.1488},{"$f":"IFERROR(VLOOKUP(K14,'Prix de revient'!$A:$D,4,0),0)","v":0},{"$f":"IFERROR(VLOOKUP(L14,'Prix de revient'!$A:$D,4,0),0)","v":0},{"$f":"IFERROR(VLOOKUP(M14,'Prix de revient'!$A:$D,4,0),0)","v":0},{"$f":"IFERROR(VLOOKUP(N14,'Prix de revient'!$A:$D,4,0),0)","v":0},{"$f":"IFERROR(VLOOKUP(O14,'Prix de revient'!$A:$D,4,0),0)","v":0},{"$f":"IFERROR(VLOOKUP(P14,'Prix de revient'!$A:$D,4,0),0)","v":0},{"$f":"IFERROR(VLOOKUP(Q14,'Prix de revient'!$A:$D,4,0),0)","v":0},{"$f":"IFERROR(VLOOKUP(R14,'Prix de revient'!$A:$D,4,0),0)","v":0},{"$f":"IFERROR(VLOOKUP(S14,'Prix de revient'!$A:$D,4,0),0)","v":0}]
[null,"coût de rebuts",null,{"$f":"D26*D31","v":0},{"$f":"E26*E31","v":0},0,0,0,0,0,0,0,0,0,0,0,0,0,0,{"$f":"SUM(D32:S32)","v":0}]
[null,"gestion de modification"]
[]
[]
[]
[]
[]
[]
[]
[null,null,"Clients","Audit","Réclamation","Avoir",null,"Fournisseurs/ sous-traitants","Réception de matiere","Probleme qualité",null,"Les formations professionnelles","Cout","Chiffrage décliné","Actions à suivre",null,"Article qui a subit un tri","durée du tri","Nombre des pieces non-conformes","ouvrier faisant le tri","cout par tri",null,"Article qui a subit la reprise","durée de la reprise","opérateur faisant la reprise","coût de reprise",null,null,null,"Machine ","article","gamme","objet de la modification"]
[null,null,null,null,null,null,null,null,null,null,null,null,null,null,null,null,null,null,null,null,{"$f":"IF(R42=\"\",\"\",R42*VLOOKUP(T42,'cout opérateur machines'!A1:B8,2,0))","v":""},null,null,null,null,{"$f":"X42*8","v":0}]
[null,null,null,null,null,null,null,null,null,null,null,null,null,null,null,null,null,null,null,null,{"$f":"IF(R43=\"\",\"\",R43*VLOOKUP(T43,'cout opérateur machines'!A2:B9,2,0))","v":""},null,null,null,null,{"$f":"X43*8","v":0}]
[null,null,null,null,null,null,null,null,null,null,null,null,null,null,null,null,null,null,null,null,{"$f":"IF(R44=\"\",\"\",R44*VLOOKUP(T44,'cout opérateur machines'!A3:B10,2,0))","v":""},null,null,null,null,0]
[null,null,null,null,null,null,null,null,null,null,null,null,null,null,null,null,null,null,null,null,{"$f":"IF(R45=\"\",\"\",R45*VLOOKUP(T45,'cout opérateur machines'!A4:B11,2,0))","v":""},null,null,null,null,0]
[null,null,null,null,null,null,null,null,null,null,null,null,null,null,null,null,null,null,null,null,{"$f":"IF(R46=\"\",\"\",R46*VLOOKUP(T46,'cout opérateur machines'!A5:B12,2,0))","v":""},null,null,null,null,0]
[null,null,null,null,null,null,null,null,null,null,null,null,null,null,null,null,null,null,null,null,{"$f":"IF(R47=\"\",\"\",R47*VLOOKUP(T47,'cout opérateur machines'!A6:B13,2,0))","v":""},null,null,null,null,0]
[null,null,null,null,{"$f":"COUNTA(E42:E47)","v":0},{"$f":"SUM(F42:F47)","v":0},null,null,null,null,null,null,{"$f":"SUM(M42:M47)","v":0},"causes de refus",null,null,null,null,"cout total du jour",null,{"$f":"SUM(U42:U47)","v":0},null,null,null,null,0]
[null,null,null,null,null,null,null,"envoi des réclamations F/ S-T","réponse F/ S-T","alerte",null,null,null,null,null,null,null,null,null,null,null,null,null,null,null,{"$f":"SUM(Z42:Z48)","v":0}]
[null,null,"dans le cas d'une réclamation",null,null,null,null,null,null,{"$f":"IF(J42=\"\",\"\",IF(H50=0,\" réclamation non traitée\",IF(I50=0, \"veuillez contacter le F/ S-T par téléphone\",\"\")))","v":""},null,null,null,null,null,null,null,null,"N° mois",null,2]
[null,null,"nombre de pièces NC",null,null,null,null,null,null,{"$f":"IF(J43=\"\",\"\",IF(H51=0,\" réclamation non traitée\",IF(I51=0, \"veuillez contacter le F/ S-T par téléphone\",\"\")))","v":""}]
[null,null,"nombre de pièces par carton",null,null,null,null,null,null,""]
[null,null,"coût de transport par carton",null,null,null,null,null,null,""]
[null,null,"nombre de cartons renvoyés",null,null,null,null,null,null,""]
[null,null,"temps de tri",null,null,null,null,null,null,""]
[null,null,"coût horaire de tri"]
[null,null,"temps de retouche"]
[null,null,"coût horaire de retouche"]
[null,null,"temps de traitement de la réclamation"]
[null,null,"coût horaire de traitement"]
[null,null,"coût total",{"$f":"IFERROR(((D51/D52)*D53)+D54*D53+D55*D56+D57*D58+D59*D60,\"\")","v":""}]

{"sheet":"23-2-22","index":61,"n_rows":61,"n_cols":33,"rows_kept":61,"cut":false,"hidden":false,"merged":[[31,1,31,2],[32,1,32,2],[47,18,47,19],[49,18,49,19],[25,1,25,2],[26,1,26,2],[27,1,27,2],[28,1,28,2],[29,1,29,2],[30,1,30,2],[24,1,24,2],[12,1,12,2],[13,1,13,2],[14,1,14,2],[15,1,15,2],[16,1,16,2],[17,1,18,1],[19,1,19,2],[20,1,20,2],[21,1,21,2],[22,1,22,2],[23,1,23,2],[1,2,4,3],[1,4,4,16],[1,17,1,19],[1,21,1,23],[2,17,2,19],[2,21,2,23],[3,17,3,19],[3,21,3,23],[4,17,4,19],[4,21,4,23]]}
[]
[null,null,null,null,"Rapport journalier",null,null,null,null,null,null,null,null,null,null,null,null,"Code:DAS-SMQ-24"]
[null,null,null,null,null,null,null,null,null,null,null,null,null,null,null,null,null,"Date: 27/12/2019"]
[null,null,null,null,null,null,null,null,null,null,null,null,null,null,null,null,null,"Version:01"]
[null,null,null,null,null,null,null,null,null,null,null,null,null,null,null,null,null,"Page:1"]
[]
[]
[]
[]
[]
[]
[null,null,null,"A","B","C","D","E","F","M","N","O","P","I","L","K","J","G","H"]
[null,"Machine",null,"SST16","SB16","BIGLIA 301 SM","BIGLIA 42 S2M bitourelle","L32","TSUGAMI","MORI SEIKI 3 axes","MORI SEIKI 5 axes","HARDING","KITAMURA","MULTIBROCHE","NAKAMURA","TOUR WEILER"]
[null,"Référence",null,"T-RB400","328090-majc","B041-CP1","I081-95-CP8","200200-2022","S3SD14632","I110-01-004"," - ","PIG 50 SE- harding ","9751","MPS000300","G018","199400-a","4-7989","68.0814","Rivet T80"]
[null,"Désignation",null,"RIVET TRB400 maj-c","Primaire en laiton ,","CHEMISE ZINGUEE TETE POMPETE 404","AXE BOITIER TFR+KB","Embout de tige-2022","BUTEE-d9 MAJ C","INSERT LEVIER SURMOULEE 345833-01 - fraisage ","Arrêt","PIGNON PLATEAU SIMPLE ETAGE D50 - contournage dents ","USINAGE BORNE CPF PROPREITAIRE ","raccord HEX 17","GOUJON M12*1.5 L=49","Tirant acier D6 maj-c","Bague aluminium 14.4*25*40-chutes ","Buse droite à collerette Ø8","Rivet mécanique T80"]
[null,"Compteur 8h ",null,26680,7910,160,0,210,0,139,0,64,377,0,2325,3000,0,7450,10860]
[null,"Compteur 17h",null,27991,9650,359,93,761,0,194,0,71,566,0,2600,4000,0,7880,13915]
[null,"Enregistrement","9h"]
[null,null,"16h"]
[null,"Identification"]
[null,"Propreté des tables de contrôle"]
[null,"Rangement des outils de contrôle"]
[null,"Existance de l'OF"]
[null,"Affutage",null,null,null,null,null,null,null,null,null,null,null,null,null,null,null,null,null,{"$f":"+COUNTA(D24:S24)","v":0}]
[null,"Maintenance"]
[null,"Nombre des NC poubelle ",null,null,null,null,null,null,null,null,null,null,null,null,null,null,null,3]
[null,"Nombre des NC à retoucher"]
[null,"Machine pour retouche"]
[null,"Panne"]
[null,"Cout pièces de rechange",null,null,null,null,null,null,null,null,null,null,null,null,null,null,null,null,null,{"$f":"SUM(D30:S30)","v":0}]
[null,"prix de revient pièce",null,{"$f":"IFERROR(VLOOKUP(D14,'Prix de revient'!$A:$D,4,0),0)","v":0},{"$f":"IFERROR(VLOOKUP(E14,'Prix de revient'!$A:$D,4,0),0)","v":0},{"$f":"IFERROR(VLOOKUP(F14,'Prix de revient'!$A:$D,4,0),0)","v":0},{"$f":"IFERROR(VLOOKUP(G14,'Prix de revient'!$A:$D,4,0),0)","v":0},{"$f":"IFERROR(VLOOKUP(H14,'Prix de revient'!$A:$D,4,0),0)","v":0},{"$f":"IFERROR(VLOOKUP(I14,'Prix de revient'!$A:$D,4,0),0)","v":0},{"$f":"IFERROR(VLOOKUP(J14,'Prix de revient'!$A:$D,4,0),0)","v":2.1488},{"$f":"IFERROR(VLOOKUP(K14,'Prix de revient'!$A:$D,4,0),0)","v":0},{"$f":"IFERROR(VLOOKUP(L14,'Prix de revient'!$A:$D,4,0),0)","v":0},{"$f":"IFERROR(VLOOKUP(M14,'Prix de revient'!$A:$D,4,0),0)","v":0},{"$f":"IFERROR(VLOOKUP(N14,'Prix de revient'!$A:$D,4,0),0)","v":0},{"$f":"IFERROR(VLOOKUP(O14,'Prix de revient'!$A:$D,4,0),0)","v":0},{"$f":"IFERROR(VLOOKUP(P14,'Prix de revient'!$A:$D,4,0),0)","v":0},{"$f":"IFERROR(VLOOKUP(Q14,'Prix de revient'!$A:$D,4,0),0)","v":0},{"$f":"IFERROR(VLOOKUP(R14,'Prix de revient'!$A:$D,4,0),0)","v":0},{"$f":"IFERROR(VLOOKUP(S14,'Prix de revient'!$A:$D,4,0),0)","v":0}]
[null,"coût de rebuts",null,{"$f":"D26*D31","v":0},{"$f":"E26*E31","v":0},0,0,0,0,0,0,0,0,0,0,0,0,0,0,{"$f":"SUM(D32:S32)","v":0}]
[null,"gestion de modification"]
[]
[]
[]
[]
[]
[]
[]
[null,null,"Clients","Audit","Réclamation","Avoir",null,"Fournisseurs/ sous-traitants","Réception de matiere","Probleme qualité",null,"Les formations professionnelles","Cout","Chiffrage décliné","Actions à suivre",null,"Article qui a subit un tri","durée du tri","Nombre des pieces non-conformes","ouvrier faisant le tri","cout par tri",null,"Article qui a subit la reprise","durée de la reprise","opérateur faisant la reprise","coût de reprise",null,null,null,"Machine ","article","gamme","objet de la modification"]
[null,null,null,null,null,null,null,null,null,null,null,null,null,null,null,null,null,null,null,null,{"$f":"IF(R42=\"\",\"\",R42*VLOOKUP(T42,'cout opérateur machines'!A1:B8,2,0))","v":""},null,null,null,null,{"$f":"X42*8","v":0}]
[null,null,null,null,null,null,null,null,null,null,null,null,null,null,null,null,null,null,null,null,{"$f":"IF(R43=\"\",\"\",R43*VLOOKUP(T43,'cout opérateur machines'!A2:B9,2,0))","v":""},null,null,null,null,{"$f":"X43*8","v":0}]
[null,null,null,null,null,null,null,null,null,null,null,null,null,null,null,null,null,null,null,null,{"$f":"IF(R44=\"\",\"\",R44*VLOOKUP(T44,'cout opérateur machines'!A3:B10,2,0))","v":""},null,null,null,null,0]
[null,null,null,null,null,null,null,null,null,null,null,null,null,null,null,null,null,null,null,null,{"$f":"IF(R45=\"\",\"\",R45*VLOOKUP(T45,'cout opérateur machines'!A4:B11,2,0))","v":""},null,null,null,null,0]
[null,null,null,null,null,null,null,null,null,null,null,null,null,null,null,null,null,null,null,null,{"$f":"IF(R46=\"\",\"\",R46*VLOOKUP(T46,'cout opérateur machines'!A5:B12,2,0))","v":""},null,null,null,null,0]
[null,null,null,null,null,null,null,null,null,null,null,null,null,null,null,null,null,null,null,null,{"$f":"IF(R47=\"\",\"\",R47*VLOOKUP(T47,'cout opérateur machines'!A6:B13,2,0))","v":""},null,null,null,null,0]
[null,null,null,null,{"$f":"COUNTA(E42:E47)","v":0},{"$f":"SUM(F42:F47)","v":0},null,null,null,null,null,null,{"$f":"SUM(M42:M47)","v":0},"causes de refus",null,null,null,null,"cout total du jour",null,{"$f":"SUM(U42:U47)","v":0},null,null,null,null,0]
[null,null,null,null,null,null,null,"envoi des réclamations F/ S-T","réponse F/ S-T","alerte",null,null,null,null,null,null,null,null,null,null,null,null,null,null,null,{"$f":"SUM(Z42:Z48)","v":0}]
[null,null,"dans le cas d'une réclamation",null,null,null,null,null,null,{"$f":"IF(J42=\"\",\"\",IF(H50=0,\" réclamation non traitée\",IF(I50=0, \"veuillez contacter le F/ S-T par téléphone\",\"\")))","v":""},null,null,null,null,null,null,null,null,"N° mois",null,2]
[null,null,"nombre de pièces NC",null,null,null,null,null,null,{"$f":"IF(J43=\"\",\"\",IF(H51=0,\" réclamation non traitée\",IF(I51=0, \"veuillez contacter le F/ S-T par téléphone\",\"\")))","v":""}]
[null,null,"nombre de pièces par carton",null,null,null,null,null,null,""]
[null,null,"coût de transport par carton",null,null,null,null,null,null,""]
[null,null,"nombre de cartons renvoyés",null,null,null,null,null,null,""]
[null,null,"temps de tri",null,null,null,null,null,null,""]
[null,null,"coût horaire de tri"]
[null,null,"temps de retouche"]
[null,null,"coût horaire de retouche"]
[null,null,"temps de traitement de la réclamation"]
[null,null,"coût horaire de traitement"]
[null,null,"coût total",{"$f":"IFERROR(((D51/D52)*D53)+D54*D53+D55*D56+D57*D58+D59*D60,\"\")","v":""}]

{"sheet":"22-2-22","index":62,"n_rows":61,"n_cols":33,"rows_kept":61,"cut":false,"hidden":false,"merged":[[31,1,31,2],[32,1,32,2],[47,18,47,19],[49,18,49,19],[25,1,25,2],[26,1,26,2],[27,1,27,2],[28,1,28,2],[29,1,29,2],[30,1,30,2],[24,1,24,2],[12,1,12,2],[13,1,13,2],[14,1,14,2],[15,1,15,2],[16,1,16,2],[17,1,18,1],[19,1,19,2],[20,1,20,2],[21,1,21,2],[22,1,22,2],[23,1,23,2],[1,2,4,3],[1,4,4,16],[1,17,1,19],[1,21,1,23],[2,17,2,19],[2,21,2,23],[3,17,3,19],[3,21,3,23],[4,17,4,19],[4,21,4,23]]}
[]
[null,null,null,null,"Rapport journalier",null,null,null,null,null,null,null,null,null,null,null,null,"Code:DAS-SMQ-24"]
[null,null,null,null,null,null,null,null,null,null,null,null,null,null,null,null,null,"Date: 27/12/2019"]
[null,null,null,null,null,null,null,null,null,null,null,null,null,null,null,null,null,"Version:01"]
[null,null,null,null,null,null,null,null,null,null,null,null,null,null,null,null,null,"Page:1"]
[]
[]
[]
[]
[]
[]
[null,null,null,"A","B","C","D","E","F","M","N","O","P","I","L","K","J","G","H"]
[null,"Machine",null,"SST16","SB16","BIGLIA 301 SM","BIGLIA 42 S2M bitourelle","L32","TSUGAMI","MORI SEIKI 3 axes","MORI SEIKI 5 axes","HARDING","KITAMURA","MULTIBROCHE","NAKAMURA","TOUR WEILER"]
[null,"Référence",null,"T-RB400","328090-majc","B041-CP1","I081-95-CP9","200200-2022","S3SD14632","I110-01-004"," - ","PIG 50 SE- harding ","9751","MPS000300","G018","199400-a","4-7989","68.0814","Rivet T80"]
[null,"Désignation",null,"RIVET TRB400 maj-c","Primaire en laiton ,","CHEMISE ZINGUEE TETE POMPETE 404","CHEMISE DU BOITIER TFR","Embout de tige-2022","BUTEE-d9 MAJ C","INSERT LEVIER SURMOULEE 345833-01 - fraisage ","Arrêt","PIGNON PLATEAU SIMPLE ETAGE D50 - contournage dents ","USINAGE BORNE CPF PROPREITAIRE ","raccord HEX 17","GOUJON M12*1.5 L=49","Tirant acier D6 maj-c","Bague aluminium 14.4*25*40-chutes ","Buse droite à collerette Ø8","Rivet mécanique T80"]
[null,"Compteur 8h ",null,25320,6530,0,0,0,0,86,0,60,189,0,2253,1712,0,7160,8020]
[null,"Compteur 17h",null,26680,7910,160,0,210,0,139,0,64,377,0,2325,3000,0,7450,10860]
[null,"Enregistrement","9h"]
[null,null,"16h"]
[null,"Identification"]
[null,"Propreté des tables de contrôle"]
[null,"Rangement des outils de contrôle"]
[null,"Existance de l'OF"]
[null,"Affutage",null,null,null,null,null,null,null,null,null,null,null,null,null,null,null,null,null,{"$f":"+COUNTA(D24:S24)","v":0}]
[null,"Maintenance"]
[null,"Nombre des NC poubelle ",null,null,3,null,null,null,null,null,null,null,null,null,null,null,null,15]
[null,"Nombre des NC à retoucher"]
[null,"Machine pour retouche"]
[null,"Panne"]
[null,"Cout pièces de rechange",null,null,null,null,null,null,null,null,null,null,null,null,null,null,null,null,null,{"$f":"SUM(D30:S30)","v":0}]
[null,"prix de revient pièce",null,{"$f":"IFERROR(VLOOKUP(D14,'Prix de revient'!$A:$D,4,0),0)","v":0},{"$f":"IFERROR(VLOOKUP(E14,'Prix de revient'!$A:$D,4,0),0)","v":0},{"$f":"IFERROR(VLOOKUP(F14,'Prix de revient'!$A:$D,4,0),0)","v":0},{"$f":"IFERROR(VLOOKUP(G14,'Prix de revient'!$A:$D,4,0),0)","v":0},{"$f":"IFERROR(VLOOKUP(H14,'Prix de revient'!$A:$D,4,0),0)","v":0},{"$f":"IFERROR(VLOOKUP(I14,'Prix de revient'!$A:$D,4,0),0)","v":0},{"$f":"IFERROR(VLOOKUP(J14,'Prix de revient'!$A:$D,4,0),0)","v":2.1488},{"$f":"IFERROR(VLOOKUP(K14,'Prix de revient'!$A:$D,4,0),0)","v":0},{"$f":"IFERROR(VLOOKUP(L14,'Prix de revient'!$A:$D,4,0),0)","v":0},{"$f":"IFERROR(VLOOKUP(M14,'Prix de revient'!$A:$D,4,0),0)","v":0},{"$f":"IFERROR(VLOOKUP(N14,'Prix de revient'!$A:$D,4,0),0)","v":0},{"$f":"IFERROR(VLOOKUP(O14,'Prix de revient'!$A:$D,4,0),0)","v":0},{"$f":"IFERROR(VLOOKUP(P14,'Prix de revient'!$A:$D,4,0),0)","v":0},{"$f":"IFERROR(VLOOKUP(Q14,'Prix de revient'!$A:$D,4,0),0)","v":0},{"$f":"IFERROR(VLOOKUP(R14,'Prix de revient'!$A:$D,4,0),0)","v":0},{"$f":"IFERROR(VLOOKUP(S14,'Prix de revient'!$A:$D,4,0),0)","v":0}]
[null,"coût de rebuts",null,{"$f":"D26*D31","v":0},{"$f":"E26*E31","v":0},0,0,0,0,0,0,0,0,0,0,0,0,0,0,{"$f":"SUM(D32:S32)","v":0}]
[null,"gestion de modification"]
[]
[]
[]
[]
[]
[]
[]
[null,null,"Clients","Audit","Réclamation","Avoir",null,"Fournisseurs/ sous-traitants","Réception de matiere","Probleme qualité",null,"Les formations professionnelles","Cout","Chiffrage décliné","Actions à suivre",null,"Article qui a subit un tri","durée du tri","Nombre des pieces non-conformes","ouvrier faisant le tri","cout par tri",null,"Article qui a subit la reprise","durée de la reprise","opérateur faisant la reprise","coût de reprise",null,null,null,"Machine ","article","gamme","objet de la modification"]
[null,null,null,null,null,null,null,null,null,null,null,null,null,null,null,null,null,null,null,null,{"$f":"IF(R42=\"\",\"\",R42*VLOOKUP(T42,'cout opérateur machines'!A1:B8,2,0))","v":""},null,null,null,null,{"$f":"X42*8","v":0}]
[null,null,null,null,null,null,null,null,null,null,null,null,null,null,null,null,null,null,null,null,{"$f":"IF(R43=\"\",\"\",R43*VLOOKUP(T43,'cout opérateur machines'!A2:B9,2,0))","v":""},null,null,null,null,{"$f":"X43*8","v":0}]
[null,null,null,null,null,null,null,null,null,null,null,null,null,null,null,null,null,null,null,null,{"$f":"IF(R44=\"\",\"\",R44*VLOOKUP(T44,'cout opérateur machines'!A3:B10,2,0))","v":""},null,null,null,null,0]
[null,null,null,null,null,null,null,null,null,null,null,null,null,null,null,null,null,null,null,null,{"$f":"IF(R45=\"\",\"\",R45*VLOOKUP(T45,'cout opérateur machines'!A4:B11,2,0))","v":""},null,null,null,null,0]
[null,null,null,null,null,null,null,null,null,null,null,null,null,null,null,null,null,null,null,null,{"$f":"IF(R46=\"\",\"\",R46*VLOOKUP(T46,'cout opérateur machines'!A5:B12,2,0))","v":""},null,null,null,null,0]
[null,null,null,null,null,null,null,null,null,null,null,null,null,null,null,null,null,null,null,null,{"$f":"IF(R47=\"\",\"\",R47*VLOOKUP(T47,'cout opérateur machines'!A6:B13,2,0))","v":""},null,null,null,null,0]
[null,null,null,null,{"$f":"COUNTA(E42:E47)","v":0},{"$f":"SUM(F42:F47)","v":0},null,null,null,null,null,null,{"$f":"SUM(M42:M47)","v":0},"causes de refus",null,null,null,null,"cout total du jour",null,{"$f":"SUM(U42:U47)","v":0},null,null,null,null,0]
[null,null,null,null,null,null,null,"envoi des réclamations F/ S-T","réponse F/ S-T","alerte",null,null,null,null,null,null,null,null,null,null,null,null,null,null,null,{"$f":"SUM(Z42:Z48)","v":0}]
[null,null,"dans le cas d'une réclamation",null,null,null,null,null,null,{"$f":"IF(J42=\"\",\"\",IF(H50=0,\" réclamation non traitée\",IF(I50=0, \"veuillez contacter le F/ S-T par téléphone\",\"\")))","v":""},null,null,null,null,null,null,null,null,"N° mois",null,2]
[null,null,"nombre de pièces NC",null,null,null,null,null,null,{"$f":"IF(J43=\"\",\"\",IF(H51=0,\" réclamation non traitée\",IF(I51=0, \"veuillez contacter le F/ S-T par téléphone\",\"\")))","v":""}]
[null,null,"nombre de pièces par carton",null,null,null,null,null,null,""]
[null,null,"coût de transport par carton",null,null,null,null,null,null,""]
[null,null,"nombre de cartons renvoyés",null,null,null,null,null,null,""]
[null,null,"temps de tri",null,null,null,null,null,null,""]
[null,null,"coût horaire de tri"]
[null,null,"temps de retouche"]
[null,null,"coût horaire de retouche"]
[null,null,"temps de traitement de la réclamation"]
[null,null,"coût horaire de traitement"]
[null,null,"coût total",{"$f":"IFERROR(((D51/D52)*D53)+D54*D53+D55*D56+D57*D58+D59*D60,\"\")","v":""}]

{"sheet":"21-2-22","index":63,"n_rows":61,"n_cols":33,"rows_kept":61,"cut":false,"hidden":false,"merged":[[31,1,31,2],[32,1,32,2],[47,18,47,19],[49,18,49,19],[25,1,25,2],[26,1,26,2],[27,1,27,2],[28,1,28,2],[29,1,29,2],[30,1,30,2],[24,1,24,2],[12,1,12,2],[13,1,13,2],[14,1,14,2],[15,1,15,2],[16,1,16,2],[17,1,18,1],[19,1,19,2],[20,1,20,2],[21,1,21,2],[22,1,22,2],[23,1,23,2],[1,2,4,3],[1,4,4,16],[1,17,1,19],[1,21,1,23],[2,17,2,19],[2,21,2,23],[3,17,3,19],[3,21,3,23],[4,17,4,19],[4,21,4,23]]}
[]
[null,null,null,null,"Rapport journalier",null,null,null,null,null,null,null,null,null,null,null,null,"Code:DAS-SMQ-24"]
[null,null,null,null,null,null,null,null,null,null,null,null,null,null,null,null,null,"Date: 27/12/2019"]
[null,null,null,null,null,null,null,null,null,null,null,null,null,null,null,null,null,"Version:01"]
[null,null,null,null,null,null,null,null,null,null,null,null,null,null,null,null,null,"Page:1"]
[]
[]
[]
[]
[]
[]
[null,null,null,"A","B","C","D","E","F","M","N","O","P","I","L","K","J","G","H"]
[null,"Machine",null,"SST16","SB16","BIGLIA 301 SM","BIGLIA 42 S2M bitourelle","L32","TSUGAMI","MORI SEIKI 3 axes","MORI SEIKI 5 axes","HARDING","KITAMURA","MULTIBROCHE","NAKAMURA","TOUR WEILER"]
[null,"Référence",null,"T-RB400","328090-majc","16*28*66","I081-95-CP9","M018-28-29-32-CP1","S3SD14632","I110-01-004"," - ","PIG 50 SE- harding ","9751","MPS000300","G018","199400-a","4-7989","68.0814","Rivet T80"]
[null,"Désignation",null,"RIVET TRB400 maj-c","Primaire en laiton ,","bague galvanisee 16*28*66 maj-c ","CHEMISE DU BOITIER TFR","BAGUE EN ACIER AXE RESSORT  NM+AM OM40","BUTEE-d9 MAJ C","INSERT LEVIER SURMOULEE 345833-01 - fraisage ","Arrêt","PIGNON PLATEAU SIMPLE ETAGE D50 - contournage dents ","USINAGE BORNE CPF PROPREITAIRE ","raccord HEX 17","GOUJON M12*1.5 L=49","Tirant acier D6 maj-c","Bague aluminium 14.4*25*40-chutes ","Buse droite à collerette Ø8","Rivet mécanique T80"]
[null,"Compteur 8h ",null,23938,5418,0,0,0,0,48,0,54,13,0,2071,942,0,6556,5068]
[null,"Compteur 17h",null,25320,6530,0,0,0,0,86,0,60,189,0,2253,1712,0,7160,8020]
[null,"Enregistrement","9h"]
[null,null,"16h"]
[null,"Identification"]
[null,"Propreté des tables de contrôle"]
[null,"Rangement des outils de contrôle"]
[null,"Existance de l'OF"]
[null,"Affutage",null,null,null,null,null,null,null,null,null,null,null,null,null,null,null,null,null,{"$f":"+COUNTA(D24:S24)","v":0}]
[null,"Maintenance"]
[null,"Nombre des NC poubelle "]
[null,"Nombre des NC à retoucher"]
[null,"Machine pour retouche"]
[null,"Panne"]
[null,"Cout pièces de rechange",null,null,null,null,null,null,null,null,null,null,null,null,null,null,null,null,null,{"$f":"SUM(D30:S30)","v":0}]
[null,"prix de revient pièce",null,{"$f":"IFERROR(VLOOKUP(D14,'Prix de revient'!$A:$D,4,0),0)","v":0},{"$f":"IFERROR(VLOOKUP(E14,'Prix de revient'!$A:$D,4,0),0)","v":0},{"$f":"IFERROR(VLOOKUP(F14,'Prix de revient'!$A:$D,4,0),0)","v":0},{"$f":"IFERROR(VLOOKUP(G14,'Prix de revient'!$A:$D,4,0),0)","v":0},{"$f":"IFERROR(VLOOKUP(H14,'Prix de revient'!$A:$D,4,0),0)","v":0},{"$f":"IFERROR(VLOOKUP(I14,'Prix de revient'!$A:$D,4,0),0)","v":0},{"$f":"IFERROR(VLOOKUP(J14,'Prix de revient'!$A:$D,4,0),0)","v":2.1488},{"$f":"IFERROR(VLOOKUP(K14,'Prix de revient'!$A:$D,4,0),0)","v":0},{"$f":"IFERROR(VLOOKUP(L14,'Prix de revient'!$A:$D,4,0),0)","v":0},{"$f":"IFERROR(VLOOKUP(M14,'Prix de revient'!$A:$D,4,0),0)","v":0},{"$f":"IFERROR(VLOOKUP(N14,'Prix de revient'!$A:$D,4,0),0)","v":0},{"$f":"IFERROR(VLOOKUP(O14,'Prix de revient'!$A:$D,4,0),0)","v":0},{"$f":"IFERROR(VLOOKUP(P14,'Prix de revient'!$A:$D,4,0),0)","v":0},{"$f":"IFERROR(VLOOKUP(Q14,'Prix de revient'!$A:$D,4,0),0)","v":0},{"$f":"IFERROR(VLOOKUP(R14,'Prix de revient'!$A:$D,4,0),0)","v":0},{"$f":"IFERROR(VLOOKUP(S14,'Prix de revient'!$A:$D,4,0),0)","v":0}]
[null,"coût de rebuts",null,{"$f":"D26*D31","v":0},{"$f":"E26*E31","v":0},0,0,0,0,0,0,0,0,0,0,0,0,0,0,{"$f":"SUM(D32:S32)","v":0}]
[null,"gestion de modification"]
[]
[]
[]
[]
[]
[]
[]
[null,null,"Clients","Audit","Réclamation","Avoir",null,"Fournisseurs/ sous-traitants","Réception de matiere","Probleme qualité",null,"Les formations professionnelles","Cout","Chiffrage décliné","Actions à suivre",null,"Article qui a subit un tri","durée du tri","Nombre des pieces non-conformes","ouvrier faisant le tri","cout par tri",null,"Article qui a subit la reprise","durée de la reprise","opérateur faisant la reprise","coût de reprise",null,null,null,"Machine ","article","gamme","objet de la modification"]
[null,null,null,null,null,null,null,null,null,null,null,null,null,null,null,null,null,null,null,null,{"$f":"IF(R42=\"\",\"\",R42*VLOOKUP(T42,'cout opérateur machines'!A1:B8,2,0))","v":""},null,null,null,null,{"$f":"X42*8","v":0}]
[null,null,null,null,null,null,null,null,null,null,null,null,null,null,null,null,null,null,null,null,{"$f":"IF(R43=\"\",\"\",R43*VLOOKUP(T43,'cout opérateur machines'!A2:B9,2,0))","v":""},null,null,null,null,{"$f":"X43*8","v":0}]
[null,null,null,null,null,null,null,null,null,null,null,null,null,null,null,null,null,null,null,null,{"$f":"IF(R44=\"\",\"\",R44*VLOOKUP(T44,'cout opérateur machines'!A3:B10,2,0))","v":""},null,null,null,null,0]
[null,null,null,null,null,null,null,null,null,null,null,null,null,null,null,null,null,null,null,null,{"$f":"IF(R45=\"\",\"\",R45*VLOOKUP(T45,'cout opérateur machines'!A4:B11,2,0))","v":""},null,null,null,null,0]
[null,null,null,null,null,null,null,null,null,null,null,null,null,null,null,null,null,null,null,null,{"$f":"IF(R46=\"\",\"\",R46*VLOOKUP(T46,'cout opérateur machines'!A5:B12,2,0))","v":""},null,null,null,null,0]
[null,null,null,null,null,null,null,null,null,null,null,null,null,null,null,null,null,null,null,null,{"$f":"IF(R47=\"\",\"\",R47*VLOOKUP(T47,'cout opérateur machines'!A6:B13,2,0))","v":""},null,null,null,null,0]
[null,null,null,null,{"$f":"COUNTA(E42:E47)","v":0},{"$f":"SUM(F42:F47)","v":0},null,null,null,null,null,null,{"$f":"SUM(M42:M47)","v":0},"causes de refus",null,null,null,null,"cout total du jour",null,{"$f":"SUM(U42:U47)","v":0},null,null,null,null,0]
[null,null,null,null,null,null,null,"envoi des réclamations F/ S-T","réponse F/ S-T","alerte",null,null,null,null,null,null,null,null,null,null,null,null,null,null,null,{"$f":"SUM(Z42:Z48)","v":0}]
[null,null,"dans le cas d'une réclamation",null,null,null,null,null,null,{"$f":"IF(J42=\"\",\"\",IF(H50=0,\" réclamation non traitée\",IF(I50=0, \"veuillez contacter le F/ S-T par téléphone\",\"\")))","v":""},null,null,null,null,null,null,null,null,"N° mois",null,2]
[null,null,"nombre de pièces NC",null,null,null,null,null,null,{"$f":"IF(J43=\"\",\"\",IF(H51=0,\" réclamation non traitée\",IF(I51=0, \"veuillez contacter le F/ S-T par téléphone\",\"\")))","v":""}]
[null,null,"nombre de pièces par carton",null,null,null,null,null,null,""]
[null,null,"coût de transport par carton",null,null,null,null,null,null,""]
[null,null,"nombre de cartons renvoyés",null,null,null,null,null,null,""]
[null,null,"temps de tri",null,null,null,null,null,null,""]
[null,null,"coût horaire de tri"]
[null,null,"temps de retouche"]
[null,null,"coût horaire de retouche"]
[null,null,"temps de traitement de la réclamation"]
[null,null,"coût horaire de traitement"]
[null,null,"coût total",{"$f":"IFERROR(((D51/D52)*D53)+D54*D53+D55*D56+D57*D58+D59*D60,\"\")","v":""}]

{"sheet":"19-2-22","index":64,"n_rows":61,"n_cols":33,"rows_kept":61,"cut":false,"hidden":false,"merged":[[31,1,31,2],[32,1,32,2],[47,18,47,19],[49,18,49,19],[25,1,25,2],[26,1,26,2],[27,1,27,2],[28,1,28,2],[29,1,29,2],[30,1,30,2],[24,1,24,2],[12,1,12,2],[13,1,13,2],[14,1,14,2],[15,1,15,2],[16,1,16,2],[17,1,18,1],[19,1,19,2],[20,1,20,2],[21,1,21,2],[22,1,22,2],[23,1,23,2],[1,2,4,3],[1,4,4,16],[1,17,1,19],[1,21,1,23],[2,17,2,19],[2,21,2,23],[3,17,3,19],[3,21,3,23],[4,17,4,19],[4,21,4,23]]}
[]
[null,null,null,null,"Rapport journalier",null,null,null,null,null,null,null,null,null,null,null,null,"Code:DAS-SMQ-24"]
[null,null,null,null,null,null,null,null,null,null,null,null,null,null,null,null,null,"Date: 27/12/2019"]
[null,null,null,null,null,null,null,null,null,null,null,null,null,null,null,null,null,"Version:01"]
[null,null,null,null,null,null,null,null,null,null,null,null,null,null,null,null,null,"Page:1"]
[]
[]
[]
[]
[]
[]
[null,null,null,"A","B","C","D","E","F","M","N","O","P","I","L","K","J","G","H"]
[null,"Machine",null,"SST16","SB16","BIGLIA 301 SM","BIGLIA 42 S2M bitourelle","L32","TSUGAMI","MORI SEIKI 3 axes","MORI SEIKI 5 axes","HARDING","KITAMURA","MULTIBROCHE","NAKAMURA","TOUR WEILER"]
[null,"Référence",null,"T-RB400","328090-majc","16*28*66","I081-95-CP9","M018-28-29-32-CP1","S3SD14632","I110-01-004"," - ","PIG 50 SE- harding ","9751","MPS000300","G018","199400-a","4-7989","68.0814","Rivet T80"]
[null,"Désignation",null,"RIVET TRB400 maj-c","Primaire en laiton ,","bague galvanisee 16*28*66 maj-c ","CHEMISE DU BOITIER TFR","BAGUE EN ACIER AXE RESSORT  NM+AM OM40","BUTEE-d9 MAJ C","INSERT LEVIER SURMOULEE 345833-01 - fraisage ","Arrêt","PIGNON PLATEAU SIMPLE ETAGE D50 - contournage dents ","USINAGE BORNE CPF PROPREITAIRE ","raccord HEX 17","GOUJON M12*1.5 L=49","Tirant acier D6 maj-c","Bague aluminium 14.4*25*40-chutes ","Buse droite à collerette Ø8","Rivet mécanique T80"]
[null,"Compteur 8h ",null,23206,4966,660,1620,0,121926,32,0,52,0,0,1900,545,0,6200,3256]
[null,"Compteur 17h",null,23938,5418,786,1686,0,122186,48,0,54,13,0,2071,942,0,6556,5068]
[null,"Enregistrement","9h"]
[null,null,"16h"]
[null,"Identification"]
[null,"Propreté des tables de contrôle"]
[null,"Rangement des outils de contrôle"]
[null,"Existance de l'OF"]
[null,"Affutage",null,null,null,null,null,null,null,null,null,null,null,null,null,null,null,null,null,{"$f":"+COUNTA(D24:S24)","v":0}]
[null,"Maintenance"]
[null,"Nombre des NC poubelle ",null,null,null,null,null,null,null,null,null,null,null,null,null,null,null,2]
[null,"Nombre des NC à retoucher"]
[null,"Machine pour retouche"]
[null,"Panne"]
[null,"Cout pièces de rechange",null,null,null,null,null,null,null,null,null,null,null,null,null,null,null,null,null,{"$f":"SUM(D30:S30)","v":0}]
[null,"prix de revient pièce",null,{"$f":"IFERROR(VLOOKUP(D14,'Prix de revient'!$A:$D,4,0),0)","v":0},{"$f":"IFERROR(VLOOKUP(E14,'Prix de revient'!$A:$D,4,0),0)","v":0},{"$f":"IFERROR(VLOOKUP(F14,'Prix de revient'!$A:$D,4,0),0)","v":0},{"$f":"IFERROR(VLOOKUP(G14,'Prix de revient'!$A:$D,4,0),0)","v":0},{"$f":"IFERROR(VLOOKUP(H14,'Prix de revient'!$A:$D,4,0),0)","v":0},{"$f":"IFERROR(VLOOKUP(I14,'Prix de revient'!$A:$D,4,0),0)","v":0},{"$f":"IFERROR(VLOOKUP(J14,'Prix de revient'!$A:$D,4,0),0)","v":2.1488},{"$f":"IFERROR(VLOOKUP(K14,'Prix de revient'!$A:$D,4,0),0)","v":0},{"$f":"IFERROR(VLOOKUP(L14,'Prix de revient'!$A:$D,4,0),0)","v":0},{"$f":"IFERROR(VLOOKUP(M14,'Prix de revient'!$A:$D,4,0),0)","v":0},{"$f":"IFERROR(VLOOKUP(N14,'Prix de revient'!$A:$D,4,0),0)","v":0},{"$f":"IFERROR(VLOOKUP(O14,'Prix de revient'!$A:$D,4,0),0)","v":0},{"$f":"IFERROR(VLOOKUP(P14,'Prix de revient'!$A:$D,4,0),0)","v":0},{"$f":"IFERROR(VLOOKUP(Q14,'Prix de revient'!$A:$D,4,0),0)","v":0},{"$f":"IFERROR(VLOOKUP(R14,'Prix de revient'!$A:$D,4,0),0)","v":0},{"$f":"IFERROR(VLOOKUP(S14,'Prix de revient'!$A:$D,4,0),0)","v":0}]
[null,"coût de rebuts",null,{"$f":"D26*D31","v":0},{"$f":"E26*E31","v":0},0,0,0,0,0,0,0,0,0,0,0,0,0,0,{"$f":"SUM(D32:S32)","v":0}]
[null,"gestion de modification"]
[]
[]
[]
[]
[]
[]
[]
[null,null,"Clients","Audit","Réclamation","Avoir",null,"Fournisseurs/ sous-traitants","Réception de matiere","Probleme qualité",null,"Les formations professionnelles","Cout","Chiffrage décliné","Actions à suivre",null,"Article qui a subit un tri","durée du tri","Nombre des pieces non-conformes","ouvrier faisant le tri","cout par tri",null,"Article qui a subit la reprise","durée de la reprise","opérateur faisant la reprise","coût de reprise",null,null,null,"Machine ","article","gamme","objet de la modification"]
[null,null,null,null,null,null,null,null,null,null,null,null,null,null,null,null,null,null,null,null,{"$f":"IF(R42=\"\",\"\",R42*VLOOKUP(T42,'cout opérateur machines'!A1:B8,2,0))","v":""},null,null,null,null,{"$f":"X42*8","v":0}]
[null,null,null,null,null,null,null,null,null,null,null,null,null,null,null,null,null,null,null,null,{"$f":"IF(R43=\"\",\"\",R43*VLOOKUP(T43,'cout opérateur machines'!A2:B9,2,0))","v":""},null,null,null,null,{"$f":"X43*8","v":0}]
[null,null,null,null,null,null,null,null,null,null,null,null,null,null,null,null,null,null,null,null,{"$f":"IF(R44=\"\",\"\",R44*VLOOKUP(T44,'cout opérateur machines'!A3:B10,2,0))","v":""},null,null,null,null,0]
[null,null,null,null,null,null,null,null,null,null,null,null,null,null,null,null,null,null,null,null,{"$f":"IF(R45=\"\",\"\",R45*VLOOKUP(T45,'cout opérateur machines'!A4:B11,2,0))","v":""},null,null,null,null,0]
[null,null,null,null,null,null,null,null,null,null,null,null,null,null,null,null,null,null,null,null,{"$f":"IF(R46=\"\",\"\",R46*VLOOKUP(T46,'cout opérateur machines'!A5:B12,2,0))","v":""},null,null,null,null,0]
[null,null,null,null,null,null,null,null,null,null,null,null,null,null,null,null,null,null,null,null,{"$f":"IF(R47=\"\",\"\",R47*VLOOKUP(T47,'cout opérateur machines'!A6:B13,2,0))","v":""},null,null,null,null,0]
[null,null,null,null,{"$f":"COUNTA(E42:E47)","v":0},{"$f":"SUM(F42:F47)","v":0},null,null,null,null,null,null,{"$f":"SUM(M42:M47)","v":0},"causes de refus",null,null,null,null,"cout total du jour",null,{"$f":"SUM(U42:U47)","v":0},null,null,null,null,0]
[null,null,null,null,null,null,null,"envoi des réclamations F/ S-T","réponse F/ S-T","alerte",null,null,null,null,null,null,null,null,null,null,null,null,null,null,null,{"$f":"SUM(Z42:Z48)","v":0}]
[null,null,"dans le cas d'une réclamation",null,null,null,null,null,null,{"$f":"IF(J42=\"\",\"\",IF(H50=0,\" réclamation non traitée\",IF(I50=0, \"veuillez contacter le F/ S-T par téléphone\",\"\")))","v":""},null,null,null,null,null,null,null,null,"N° mois",null,2]
[null,null,"nombre de pièces NC",null,null,null,null,null,null,{"$f":"IF(J43=\"\",\"\",IF(H51=0,\" réclamation non traitée\",IF(I51=0, \"veuillez contacter le F/ S-T par téléphone\",\"\")))","v":""}]
[null,null,"nombre de pièces par carton",null,null,null,null,null,null,""]
[null,null,"coût de transport par carton",null,null,null,null,null,null,""]
[null,null,"nombre de cartons renvoyés",null,null,null,null,null,null,""]
[null,null,"temps de tri",null,null,null,null,null,null,""]
[null,null,"coût horaire de tri"]
[null,null,"temps de retouche"]
[null,null,"coût horaire de retouche"]
[null,null,"temps de traitement de la réclamation"]
[null,null,"coût horaire de traitement"]
[null,null,"coût total",{"$f":"IFERROR(((D51/D52)*D53)+D54*D53+D55*D56+D57*D58+D59*D60,\"\")","v":""}]

{"sheet":"18-2-22","index":65,"n_rows":61,"n_cols":33,"rows_kept":61,"cut":false,"hidden":false,"merged":[[31,1,31,2],[32,1,32,2],[47,18,47,19],[49,18,49,19],[25,1,25,2],[26,1,26,2],[27,1,27,2],[28,1,28,2],[29,1,29,2],[30,1,30,2],[24,1,24,2],[12,1,12,2],[13,1,13,2],[14,1,14,2],[15,1,15,2],[16,1,16,2],[17,1,18,1],[19,1,19,2],[20,1,20,2],[21,1,21,2],[22,1,22,2],[23,1,23,2],[1,2,4,3],[1,4,4,16],[1,17,1,19],[1,21,1,23],[2,17,2,19],[2,21,2,23],[3,17,3,19],[3,21,3,23],[4,17,4,19],[4,21,4,23]]}
[]
[null,null,null,null,"Rapport journalier",null,null,null,null,null,null,null,null,null,null,null,null,"Code:DAS-SMQ-24"]
[null,null,null,null,null,null,null,null,null,null,null,null,null,null,null,null,null,"Date: 27/12/2019"]
[null,null,null,null,null,null,null,null,null,null,null,null,null,null,null,null,null,"Version:01"]
[null,null,null,null,null,null,null,null,null,null,null,null,null,null,null,null,null,"Page:1"]
[]
[]
[]
[]
[]
[]
[null,null,null,"A","B","C","D","E","F","M","N","O","P","I","L","K","J","G","H"]
[null,"Machine",null,"SST16","SB16","BIGLIA 301 SM","BIGLIA 42 S2M bitourelle","L32","TSUGAMI","MORI SEIKI 3 axes","MORI SEIKI 5 axes","HARDING","KITAMURA","MULTIBROCHE","NAKAMURA","TOUR WEILER"]
[null,"Référence",null,"T-RB400","328090-majc","16*28*66","I081-95-CP9","M018-28-29-32-CP1","S3SD14632","I110-01-004"," - ","PIG 50 SE- harding ","J0090","MPS000300","G018","199400-a","4-7989","68.0814","Rivet T80"]
[null,"Désignation",null,"RIVET TRB400 maj-c","Primaire en laiton ,","bague galvanisee 16*28*66 maj-c ","CHEMISE DU BOITIER TFR","BAGUE EN ACIER AXE RESSORT  NM+AM OM40","BUTEE-d9 MAJ C","INSERT LEVIER SURMOULEE 345833-01 - fraisage ","Arrêt","PIGNON PLATEAU SIMPLE ETAGE D50 - contournage dents ","USINAGE PROFIL CPF PROP 1000 CYCLES ","raccord HEX 17","GOUJON M12*1.5 L=49","Tirant acier D6 maj-c","Bague aluminium 14.4*25*40-chutes ","Buse droite à collerette Ø8","Rivet mécanique T80"]
[null,"Compteur 8h ",null,22030,3300,217,1402,0,120166,27,0,45,1659,0,1716,0,0,5592,0]
[null,"Compteur 17h",null,23206,4966,660,1620,0,121926,32,0,52,1838,0,1900,545,0,6200,3256]
[null,"Enregistrement","9h"]
[null,null,"16h"]
[null,"Identification"]
[null,"Propreté des tables de contrôle"]
[null,"Rangement des outils de contrôle"]
[null,"Existance de l'OF"]
[null,"Affutage",null,null,null,null,null,null,null,null,null,null,null,null,null,null,null,null,null,{"$f":"+COUNTA(D24:S24)","v":0}]
[null,"Maintenance"]
[null,"Nombre des NC poubelle "]
[null,"Nombre des NC à retoucher"]
[null,"Machine pour retouche"]
[null,"Panne"]
[null,"Cout pièces de rechange",null,null,null,null,null,null,null,null,null,null,null,null,null,null,null,null,null,{"$f":"SUM(D30:S30)","v":0}]
[null,"prix de revient pièce",null,{"$f":"IFERROR(VLOOKUP(D14,'Prix de revient'!$A:$D,4,0),0)","v":0},{"$f":"IFERROR(VLOOKUP(E14,'Prix de revient'!$A:$D,4,0),0)","v":0},{"$f":"IFERROR(VLOOKUP(F14,'Prix de revient'!$A:$D,4,0),0)","v":0},{"$f":"IFERROR(VLOOKUP(G14,'Prix de revient'!$A:$D,4,0),0)","v":0},{"$f":"IFERROR(VLOOKUP(H14,'Prix de revient'!$A:$D,4,0),0)","v":0},{"$f":"IFERROR(VLOOKUP(I14,'Prix de revient'!$A:$D,4,0),0)","v":0},{"$f":"IFERROR(VLOOKUP(J14,'Prix de revient'!$A:$D,4,0),0)","v":2.1488},{"$f":"IFERROR(VLOOKUP(K14,'Prix de revient'!$A:$D,4,0),0)","v":0},{"$f":"IFERROR(VLOOKUP(L14,'Prix de revient'!$A:$D,4,0),0)","v":0},{"$f":"IFERROR(VLOOKUP(M14,'Prix de revient'!$A:$D,4,0),0)","v":0},{"$f":"IFERROR(VLOOKUP(N14,'Prix de revient'!$A:$D,4,0),0)","v":0},{"$f":"IFERROR(VLOOKUP(O14,'Prix de revient'!$A:$D,4,0),0)","v":0},{"$f":"IFERROR(VLOOKUP(P14,'Prix de revient'!$A:$D,4,0),0)","v":0},{"$f":"IFERROR(VLOOKUP(Q14,'Prix de revient'!$A:$D,4,0),0)","v":0},{"$f":"IFERROR(VLOOKUP(R14,'Prix de revient'!$A:$D,4,0),0)","v":0},{"$f":"IFERROR(VLOOKUP(S14,'Prix de revient'!$A:$D,4,0),0)","v":0}]
[null,"coût de rebuts",null,{"$f":"D26*D31","v":0},{"$f":"E26*E31","v":0},0,0,0,0,0,0,0,0,0,0,0,0,0,0,{"$f":"SUM(D32:S32)","v":0}]
[null,"gestion de modification"]
[]
[]
[]
[]
[]
[]
[]
[null,null,"Clients","Audit","Réclamation","Avoir",null,"Fournisseurs/ sous-traitants","Réception de matiere","Probleme qualité",null,"Les formations professionnelles","Cout","Chiffrage décliné","Actions à suivre",null,"Article qui a subit un tri","durée du tri","Nombre des pieces non-conformes","ouvrier faisant le tri","cout par tri",null,"Article qui a subit la reprise","durée de la reprise","opérateur faisant la reprise","coût de reprise",null,null,null,"Machine ","article","gamme","objet de la modification"]
[null,null,null,null,null,null,null,null,null,null,null,null,null,null,null,null,null,null,null,null,{"$f":"IF(R42=\"\",\"\",R42*VLOOKUP(T42,'cout opérateur machines'!A1:B8,2,0))","v":""},null,null,null,null,{"$f":"X42*8","v":0}]
[null,null,null,null,null,null,null,null,null,null,null,null,null,null,null,null,null,null,null,null,{"$f":"IF(R43=\"\",\"\",R43*VLOOKUP(T43,'cout opérateur machines'!A2:B9,2,0))","v":""},null,null,null,null,{"$f":"X43*8","v":0}]
[null,null,null,null,null,null,null,null,null,null,null,null,null,null,null,null,null,null,null,null,{"$f":"IF(R44=\"\",\"\",R44*VLOOKUP(T44,'cout opérateur machines'!A3:B10,2,0))","v":""},null,null,null,null,0]
[null,null,null,null,null,null,null,null,null,null,null,null,null,null,null,null,null,null,null,null,{"$f":"IF(R45=\"\",\"\",R45*VLOOKUP(T45,'cout opérateur machines'!A4:B11,2,0))","v":""},null,null,null,null,0]
[null,null,null,null,null,null,null,null,null,null,null,null,null,null,null,null,null,null,null,null,{"$f":"IF(R46=\"\",\"\",R46*VLOOKUP(T46,'cout opérateur machines'!A5:B12,2,0))","v":""},null,null,null,null,0]
[null,null,null,null,null,null,null,null,null,null,null,null,null,null,null,null,null,null,null,null,{"$f":"IF(R47=\"\",\"\",R47*VLOOKUP(T47,'cout opérateur machines'!A6:B13,2,0))","v":""},null,null,null,null,0]
[null,null,null,null,{"$f":"COUNTA(E42:E47)","v":0},{"$f":"SUM(F42:F47)","v":0},null,null,null,null,null,null,{"$f":"SUM(M42:M47)","v":0},"causes de refus",null,null,null,null,"cout total du jour",null,{"$f":"SUM(U42:U47)","v":0},null,null,null,null,0]
[null,null,null,null,null,null,null,"envoi des réclamations F/ S-T","réponse F/ S-T","alerte",null,null,null,null,null,null,null,null,null,null,null,null,null,null,null,{"$f":"SUM(Z42:Z48)","v":0}]
[null,null,"dans le cas d'une réclamation",null,null,null,null,null,null,{"$f":"IF(J42=\"\",\"\",IF(H50=0,\" réclamation non traitée\",IF(I50=0, \"veuillez contacter le F/ S-T par téléphone\",\"\")))","v":""},null,null,null,null,null,null,null,null,"N° mois",null,2]
[null,null,"nombre de pièces NC",null,null,null,null,null,null,{"$f":"IF(J43=\"\",\"\",IF(H51=0,\" réclamation non traitée\",IF(I51=0, \"veuillez contacter le F/ S-T par téléphone\",\"\")))","v":""}]
[null,null,"nombre de pièces par carton",null,null,null,null,null,null,""]
[null,null,"coût de transport par carton",null,null,null,null,null,null,""]
[null,null,"nombre de cartons renvoyés",null,null,null,null,null,null,""]
[null,null,"temps de tri",null,null,null,null,null,null,""]
[null,null,"coût horaire de tri"]
[null,null,"temps de retouche"]
[null,null,"coût horaire de retouche"]
[null,null,"temps de traitement de la réclamation"]
[null,null,"coût horaire de traitement"]
[null,null,"coût total",{"$f":"IFERROR(((D51/D52)*D53)+D54*D53+D55*D56+D57*D58+D59*D60,\"\")","v":""}]

{"sheet":"17-2-22","index":66,"n_rows":61,"n_cols":33,"rows_kept":61,"cut":false,"hidden":false,"merged":[[31,1,31,2],[32,1,32,2],[47,18,47,19],[49,18,49,19],[25,1,25,2],[26,1,26,2],[27,1,27,2],[28,1,28,2],[29,1,29,2],[30,1,30,2],[24,1,24,2],[12,1,12,2],[13,1,13,2],[14,1,14,2],[15,1,15,2],[16,1,16,2],[17,1,18,1],[19,1,19,2],[20,1,20,2],[21,1,21,2],[22,1,22,2],[23,1,23,2],[1,2,4,3],[1,4,4,16],[1,17,1,19],[1,21,1,23],[2,17,2,19],[2,21,2,23],[3,17,3,19],[3,21,3,23],[4,17,4,19],[4,21,4,23]]}
[]
[null,null,null,null,"Rapport journalier",null,null,null,null,null,null,null,null,null,null,null,null,"Code:DAS-SMQ-24"]
[null,null,null,null,null,null,null,null,null,null,null,null,null,null,null,null,null,"Date: 27/12/2019"]
[null,null,null,null,null,null,null,null,null,null,null,null,null,null,null,null,null,"Version:01"]
[null,null,null,null,null,null,null,null,null,null,null,null,null,null,null,null,null,"Page:1"]
[]
[]
[]
[]
[]
[]
[null,null,null,"A","B","C","D","E","F","M","N","O","P","I","L","K","J","G","H"]
[null,"Machine",null,"SST16","SB16","BIGLIA 301 SM","BIGLIA 42 S2M bitourelle","L32","TSUGAMI","MORI SEIKI 3 axes","MORI SEIKI 5 axes","HARDING","KITAMURA","MULTIBROCHE","NAKAMURA","TOUR WEILER"]
[null,"Référence",null,"T-RB400","328090-majc","16*28*66","I081-95-CP9","M018-28-29-32-CP1","S3SD14632","I110-01-004"," - ","PIG 50 SE- harding ","J0090","MPS000300","G018","VS-TC-8-12","4-7989","68.0814","I110-01-004"]
[null,"Désignation",null,"RIVET TRB400 maj-c","Primaire en laiton ,","bague galvanisee 16*28*66 maj-c ","CHEMISE DU BOITIER TFR","BAGUE EN ACIER AXE RESSORT  NM+AM OM40","BUTEE-d9 MAJ C","INSERT LEVIER SURMOULEE 345833-01 - fraisage ","Arrêt","PIGNON PLATEAU SIMPLE ETAGE D50 - contournage dents ","USINAGE PROFIL CPF PROP 1000 CYCLES ","raccord HEX 17","GOUJON M12*1.5 L=49","VIS TC 8*12(C10)","Bague aluminium 14.4*25*40-chutes ","Buse droite à collerette Ø8","INSERT LEVIER SURMOULEE 345833-01-sb16c"]
[null,"Compteur 8h ",null,20474,1474,0,1021,0,118378,0,0,40,1477,0,1430,700,0,5000,9920]
[null,"Compteur 17h",null,22030,3300,217,1402,0,120166,27,0,45,1659,0,1716,1005,0,5592,10204]
[null,"Enregistrement","9h"]
[null,null,"16h"]
[null,"Identification"]
[null,"Propreté des tables de contrôle"]
[null,"Rangement des outils de contrôle"]
[null,"Existance de l'OF"]
[null,"Affutage",null,null,null,null,null,null,null,null,null,null,null,null,null,null,null,null,null,{"$f":"+COUNTA(D24:S24)","v":0}]
[null,"Maintenance"]
[null,"Nombre des NC poubelle ",null,null,null,3,null,null,null,null,null,null,null,null,null,15]
[null,"Nombre des NC à retoucher"]
[null,"Machine pour retouche"]
[null,"Panne"]
[null,"Cout pièces de rechange",null,null,null,null,null,null,null,null,null,null,null,null,null,null,null,null,null,{"$f":"SUM(D30:S30)","v":0}]
[null,"prix de revient pièce",null,{"$f":"IFERROR(VLOOKUP(D14,'Prix de revient'!$A:$D,4,0),0)","v":0},{"$f":"IFERROR(VLOOKUP(E14,'Prix de revient'!$A:$D,4,0),0)","v":0},{"$f":"IFERROR(VLOOKUP(F14,'Prix de revient'!$A:$D,4,0),0)","v":0},{"$f":"IFERROR(VLOOKUP(G14,'Prix de revient'!$A:$D,4,0),0)","v":0},{"$f":"IFERROR(VLOOKUP(H14,'Prix de revient'!$A:$D,4,0),0)","v":0},{"$f":"IFERROR(VLOOKUP(I14,'Prix de revient'!$A:$D,4,0),0)","v":0},{"$f":"IFERROR(VLOOKUP(J14,'Prix de revient'!$A:$D,4,0),0)","v":2.1488},{"$f":"IFERROR(VLOOKUP(K14,'Prix de revient'!$A:$D,4,0),0)","v":0},{"$f":"IFERROR(VLOOKUP(L14,'Prix de revient'!$A:$D,4,0),0)","v":0},{"$f":"IFERROR(VLOOKUP(M14,'Prix de revient'!$A:$D,4,0),0)","v":0},{"$f":"IFERROR(VLOOKUP(N14,'Prix de revient'!$A:$D,4,0),0)","v":0},{"$f":"IFERROR(VLOOKUP(O14,'Prix de revient'!$A:$D,4,0),0)","v":0},{"$f":"IFERROR(VLOOKUP(P14,'Prix de revient'!$A:$D,4,0),0)","v":0},{"$f":"IFERROR(VLOOKUP(Q14,'Prix de revient'!$A:$D,4,0),0)","v":0},{"$f":"IFERROR(VLOOKUP(R14,'Prix de revient'!$A:$D,4,0),0)","v":0},{"$f":"IFERROR(VLOOKUP(S14,'Prix de revient'!$A:$D,4,0),0)","v":2.1488}]
[null,"coût de rebuts",null,{"$f":"D26*D31","v":0},{"$f":"E26*E31","v":0},0,0,0,0,0,0,0,0,0,0,0,0,0,0,{"$f":"SUM(D32:S32)","v":0}]
[null,"gestion de modification"]
[]
[]
[]
[]
[]
[]
[]
[null,null,"Clients","Audit","Réclamation","Avoir",null,"Fournisseurs/ sous-traitants","Réception de matiere","Probleme qualité",null,"Les formations professionnelles","Cout","Chiffrage décliné","Actions à suivre",null,"Article qui a subit un tri","durée du tri","Nombre des pieces non-conformes","ouvrier faisant le tri","cout par tri",null,"Article qui a subit la reprise","durée de la reprise","opérateur faisant la reprise","coût de reprise",null,null,null,"Machine ","article","gamme","objet de la modification"]
[null,null,null,null,null,null,null,null,null,null,null,null,null,null,null,null,null,null,null,null,{"$f":"IF(R42=\"\",\"\",R42*VLOOKUP(T42,'cout opérateur machines'!A1:B8,2,0))","v":""},null,null,null,null,{"$f":"X42*8","v":0}]
[null,null,null,null,null,null,null,null,null,null,null,null,null,null,null,null,null,null,null,null,{"$f":"IF(R43=\"\",\"\",R43*VLOOKUP(T43,'cout opérateur machines'!A2:B9,2,0))","v":""},null,null,null,null,{"$f":"X43*8","v":0}]
[null,null,null,null,null,null,null,null,null,null,null,null,null,null,null,null,null,null,null,null,{"$f":"IF(R44=\"\",\"\",R44*VLOOKUP(T44,'cout opérateur machines'!A3:B10,2,0))","v":""},null,null,null,null,0]
[null,null,null,null,null,null,null,null,null,null,null,null,null,null,null,null,null,null,null,null,{"$f":"IF(R45=\"\",\"\",R45*VLOOKUP(T45,'cout opérateur machines'!A4:B11,2,0))","v":""},null,null,null,null,0]
[null,null,null,null,null,null,null,null,null,null,null,null,null,null,null,null,null,null,null,null,{"$f":"IF(R46=\"\",\"\",R46*VLOOKUP(T46,'cout opérateur machines'!A5:B12,2,0))","v":""},null,null,null,null,0]
[null,null,null,null,null,null,null,null,null,null,null,null,null,null,null,null,null,null,null,null,{"$f":"IF(R47=\"\",\"\",R47*VLOOKUP(T47,'cout opérateur machines'!A6:B13,2,0))","v":""},null,null,null,null,0]
[null,null,null,null,{"$f":"COUNTA(E42:E47)","v":0},{"$f":"SUM(F42:F47)","v":0},null,null,null,null,null,null,{"$f":"SUM(M42:M47)","v":0},"causes de refus",null,null,null,null,"cout total du jour",null,{"$f":"SUM(U42:U47)","v":0},null,null,null,null,0]
[null,null,null,null,null,null,null,"envoi des réclamations F/ S-T","réponse F/ S-T","alerte",null,null,null,null,null,null,null,null,null,null,null,null,null,null,null,{"$f":"SUM(Z42:Z48)","v":0}]
[null,null,"dans le cas d'une réclamation",null,null,null,null,null,null,{"$f":"IF(J42=\"\",\"\",IF(H50=0,\" réclamation non traitée\",IF(I50=0, \"veuillez contacter le F/ S-T par téléphone\",\"\")))","v":""},null,null,null,null,null,null,null,null,"N° mois",null,2]
[null,null,"nombre de pièces NC",null,null,null,null,null,null,{"$f":"IF(J43=\"\",\"\",IF(H51=0,\" réclamation non traitée\",IF(I51=0, \"veuillez contacter le F/ S-T par téléphone\",\"\")))","v":""}]
[null,null,"nombre de pièces par carton",null,null,null,null,null,null,""]
[null,null,"coût de transport par carton",null,null,null,null,null,null,""]
[null,null,"nombre de cartons renvoyés",null,null,null,null,null,null,""]
[null,null,"temps de tri",null,null,null,null,null,null,""]
[null,null,"coût horaire de tri"]
[null,null,"temps de retouche"]
[null,null,"coût horaire de retouche"]
[null,null,"temps de traitement de la réclamation"]
[null,null,"coût horaire de traitement"]
[null,null,"coût total",{"$f":"IFERROR(((D51/D52)*D53)+D54*D53+D55*D56+D57*D58+D59*D60,\"\")","v":""}]

{"sheet":"16-2-22","index":67,"n_rows":61,"n_cols":33,"rows_kept":61,"cut":false,"hidden":false,"merged":[[31,1,31,2],[32,1,32,2],[47,18,47,19],[49,18,49,19],[25,1,25,2],[26,1,26,2],[27,1,27,2],[28,1,28,2],[29,1,29,2],[30,1,30,2],[24,1,24,2],[12,1,12,2],[13,1,13,2],[14,1,14,2],[15,1,15,2],[16,1,16,2],[17,1,18,1],[19,1,19,2],[20,1,20,2],[21,1,21,2],[22,1,22,2],[23,1,23,2],[1,2,4,3],[1,4,4,16],[1,17,1,19],[1,21,1,23],[2,17,2,19],[2,21,2,23],[3,17,3,19],[3,21,3,23],[4,17,4,19],[4,21,4,23]]}
[]
[null,null,null,null,"Rapport journalier",null,null,null,null,null,null,null,null,null,null,null,null,"Code:DAS-SMQ-24"]
[null,null,null,null,null,null,null,null,null,null,null,null,null,null,null,null,null,"Date: 27/12/2019"]
[null,null,null,null,null,null,null,null,null,null,null,null,null,null,null,null,null,"Version:01"]
[null,null,null,null,null,null,null,null,null,null,null,null,null,null,null,null,null,"Page:1"]
[]
[]
[]
[]
[]
[]
[null,null,null,"A","B","C","D","E","F","M","N","O","P","I","L","K","J","G","H"]
[null,"Machine",null,"SST16","SB16","BIGLIA 301 SM","BIGLIA 42 S2M bitourelle","L32","TSUGAMI","MORI SEIKI 3 axes","MORI SEIKI 5 axes","HARDING","KITAMURA","MULTIBROCHE","NAKAMURA","TOUR WEILER"]
[null,"Référence",null,"T-RB400","328090-majc","4-7002-1","I081-95-CP9","M018-28-29-32-CP1","S3SD14632","I110-01-004"," - ","PIG 50 SE- harding ","J0090","MPS000300","G018","VS-TC-8-12","4-7989","68.0814","I110-01-004"]
[null,"Désignation",null,"RIVET TRB400 maj-c","Primaire en laiton ,","Bague Galvanisée 16*28*100","CHEMISE DU BOITIER TFR","BAGUE EN ACIER AXE RESSORT  NM+AM OM40","BUTEE-d9 MAJ C","INSERT LEVIER SURMOULEE 345833-01 - fraisage ","Arrêt","PIGNON PLATEAU SIMPLE ETAGE D50 - contournage dents ","USINAGE PROFIL CPF PROP 1000 CYCLES ","raccord HEX 17","GOUJON M12*1.5 L=49","VIS TC 8*12(C10)","Bague aluminium 14.4*25*40-chutes ","Buse droite à collerette Ø8","INSERT LEVIER SURMOULEE 345833-01-sb16c"]
[null,"Compteur 8h ",null,19191,0,0,1021,0,116635,0,0,35,1322,0,1217,424,0,4342,9612]
[null,"Compteur 17h",null,20474,1474,148,1021,0,118378,0,0,40,1477,0,1430,700,0,5000,9920]
[null,"Enregistrement","9h"]
[null,null,"16h"]
[null,"Identification"]
[null,"Propreté des tables de contrôle"]
[null,"Rangement des outils de contrôle"]
[null,"Existance de l'OF"]
[null,"Affutage",null,null,null,null,null,null,null,null,null,null,null,null,null,null,null,null,null,{"$f":"+COUNTA(D24:S24)","v":0}]
[null,"Maintenance"]
[null,"Nombre des NC poubelle "]
[null,"Nombre des NC à retoucher"]
[null,"Machine pour retouche"]
[null,"Panne"]
[null,"Cout pièces de rechange",null,null,null,null,null,null,null,null,null,null,null,null,null,null,null,null,null,{"$f":"SUM(D30:S30)","v":0}]
[null,"prix de revient pièce",null,{"$f":"IFERROR(VLOOKUP(D14,'Prix de revient'!$A:$D,4,0),0)","v":0},{"$f":"IFERROR(VLOOKUP(E14,'Prix de revient'!$A:$D,4,0),0)","v":0},{"$f":"IFERROR(VLOOKUP(F14,'Prix de revient'!$A:$D,4,0),0)","v":0},{"$f":"IFERROR(VLOOKUP(G14,'Prix de revient'!$A:$D,4,0),0)","v":0},{"$f":"IFERROR(VLOOKUP(H14,'Prix de revient'!$A:$D,4,0),0)","v":0},{"$f":"IFERROR(VLOOKUP(I14,'Prix de revient'!$A:$D,4,0),0)","v":0},{"$f":"IFERROR(VLOOKUP(J14,'Prix de revient'!$A:$D,4,0),0)","v":2.1488},{"$f":"IFERROR(VLOOKUP(K14,'Prix de revient'!$A:$D,4,0),0)","v":0},{"$f":"IFERROR(VLOOKUP(L14,'Prix de revient'!$A:$D,4,0),0)","v":0},{"$f":"IFERROR(VLOOKUP(M14,'Prix de revient'!$A:$D,4,0),0)","v":0},{"$f":"IFERROR(VLOOKUP(N14,'Prix de revient'!$A:$D,4,0),0)","v":0},{"$f":"IFERROR(VLOOKUP(O14,'Prix de revient'!$A:$D,4,0),0)","v":0},{"$f":"IFERROR(VLOOKUP(P14,'Prix de revient'!$A:$D,4,0),0)","v":0},{"$f":"IFERROR(VLOOKUP(Q14,'Prix de revient'!$A:$D,4,0),0)","v":0},{"$f":"IFERROR(VLOOKUP(R14,'Prix de revient'!$A:$D,4,0),0)","v":0},{"$f":"IFERROR(VLOOKUP(S14,'Prix de revient'!$A:$D,4,0),0)","v":2.1488}]
[null,"coût de rebuts",null,{"$f":"D26*D31","v":0},{"$f":"E26*E31","v":0},0,0,0,0,0,0,0,0,0,0,0,0,0,0,{"$f":"SUM(D32:S32)","v":0}]
[null,"gestion de modification"]
[]
[]
[]
[]
[]
[]
[]
[null,null,"Clients","Audit","Réclamation","Avoir",null,"Fournisseurs/ sous-traitants","Réception de matiere","Probleme qualité",null,"Les formations professionnelles","Cout","Chiffrage décliné","Actions à suivre",null,"Article qui a subit un tri","durée du tri","Nombre des pieces non-conformes","ouvrier faisant le tri","cout par tri",null,"Article qui a subit la reprise","durée de la reprise","opérateur faisant la reprise","coût de reprise",null,null,null,"Machine ","article","gamme","objet de la modification"]
[null,null,null,null,null,null,null,null,null,null,null,null,null,null,null,null,null,null,null,null,{"$f":"IF(R42=\"\",\"\",R42*VLOOKUP(T42,'cout opérateur machines'!A1:B8,2,0))","v":""},null,null,null,null,{"$f":"X42*8","v":0}]
[null,null,null,null,null,null,null,null,null,null,null,null,null,null,null,null,null,null,null,null,{"$f":"IF(R43=\"\",\"\",R43*VLOOKUP(T43,'cout opérateur machines'!A2:B9,2,0))","v":""},null,null,null,null,{"$f":"X43*8","v":0}]
[null,null,null,null,null,null,null,null,null,null,null,null,null,null,null,null,null,null,null,null,{"$f":"IF(R44=\"\",\"\",R44*VLOOKUP(T44,'cout opérateur machines'!A3:B10,2,0))","v":""},null,null,null,null,0]
[null,null,null,null,null,null,null,null,null,null,null,null,null,null,null,null,null,null,null,null,{"$f":"IF(R45=\"\",\"\",R45*VLOOKUP(T45,'cout opérateur machines'!A4:B11,2,0))","v":""},null,null,null,null,0]
[null,null,null,null,null,null,null,null,null,null,null,null,null,null,null,null,null,null,null,null,{"$f":"IF(R46=\"\",\"\",R46*VLOOKUP(T46,'cout opérateur machines'!A5:B12,2,0))","v":""},null,null,null,null,0]
[null,null,null,null,null,null,null,null,null,null,null,null,null,null,null,null,null,null,null,null,{"$f":"IF(R47=\"\",\"\",R47*VLOOKUP(T47,'cout opérateur machines'!A6:B13,2,0))","v":""},null,null,null,null,0]
[null,null,null,null,{"$f":"COUNTA(E42:E47)","v":0},{"$f":"SUM(F42:F47)","v":0},null,null,null,null,null,null,{"$f":"SUM(M42:M47)","v":0},"causes de refus",null,null,null,null,"cout total du jour",null,{"$f":"SUM(U42:U47)","v":0},null,null,null,null,0]
[null,null,null,null,null,null,null,"envoi des réclamations F/ S-T","réponse F/ S-T","alerte",null,null,null,null,null,null,null,null,null,null,null,null,null,null,null,{"$f":"SUM(Z42:Z48)","v":0}]
[null,null,"dans le cas d'une réclamation",null,null,null,null,null,null,{"$f":"IF(J42=\"\",\"\",IF(H50=0,\" réclamation non traitée\",IF(I50=0, \"veuillez contacter le F/ S-T par téléphone\",\"\")))","v":""},null,null,null,null,null,null,null,null,"N° mois",null,2]
[null,null,"nombre de pièces NC",null,null,null,null,null,null,{"$f":"IF(J43=\"\",\"\",IF(H51=0,\" réclamation non traitée\",IF(I51=0, \"veuillez contacter le F/ S-T par téléphone\",\"\")))","v":""}]
[null,null,"nombre de pièces par carton",null,null,null,null,null,null,""]
[null,null,"coût de transport par carton",null,null,null,null,null,null,""]
[null,null,"nombre de cartons renvoyés",null,null,null,null,null,null,""]
[null,null,"temps de tri",null,null,null,null,null,null,""]
[null,null,"coût horaire de tri"]
[null,null,"temps de retouche"]
[null,null,"coût horaire de retouche"]
[null,null,"temps de traitement de la réclamation"]
[null,null,"coût horaire de traitement"]
[null,null,"coût total",{"$f":"IFERROR(((D51/D52)*D53)+D54*D53+D55*D56+D57*D58+D59*D60,\"\")","v":""}]

{"sheet":"15-2-22","index":68,"n_rows":61,"n_cols":33,"rows_kept":61,"cut":false,"hidden":false,"merged":[[31,1,31,2],[32,1,32,2],[47,18,47,19],[49,18,49,19],[25,1,25,2],[26,1,26,2],[27,1,27,2],[28,1,28,2],[29,1,29,2],[30,1,30,2],[24,1,24,2],[12,1,12,2],[13,1,13,2],[14,1,14,2],[15,1,15,2],[16,1,16,2],[17,1,18,1],[19,1,19,2],[20,1,20,2],[21,1,21,2],[22,1,22,2],[23,1,23,2],[1,2,4,3],[1,4,4,16],[1,17,1,19],[1,21,1,23],[2,17,2,19],[2,21,2,23],[3,17,3,19],[3,21,3,23],[4,17,4,19],[4,21,4,23]]}
[]
[null,null,null,null,"Rapport journalier",null,null,null,null,null,null,null,null,null,null,null,null,"Code:DAS-SMQ-24"]
[null,null,null,null,null,null,null,null,null,null,null,null,null,null,null,null,null,"Date: 27/12/2019"]
[null,null,null,null,null,null,null,null,null,null,null,null,null,null,null,null,null,"Version:01"]
[null,null,null,null,null,null,null,null,null,null,null,null,null,null,null,null,null,"Page:1"]
[]
[]
[]
[]
[]
[]
[null,null,null,"A","B","C","D","E","F","M","N","O","P","I","L","K","J","G","H"]
[null,"Machine",null,"SST16","SB16","BIGLIA 301 SM","BIGLIA 42 S2M bitourelle","L32","TSUGAMI","MORI SEIKI 3 axes","MORI SEIKI 5 axes","HARDING","KITAMURA","MULTIBROCHE","NAKAMURA","TOUR WEILER"]
[null,"Référence",null,"T-RB400","BAG ACI 10.2X12.9","4-8344","I081-95-CP9","M018-28-29-32-CP1","S3SD14632","I110-01-004"," - ","PIG 50 SE- harding ","J0090","MPS000300","G018","VS-TC-8-12","4-7989","68.0814","I110-01-004"]
[null,"Désignation",null,"RIVET TRB400 maj-c","BAGUE ACIER Ø10.2*12.9 maj-c","Bague Galvanisée 12*27*39.5","CHEMISE DU BOITIER TFR","BAGUE EN ACIER AXE RESSORT  NM+AM OM40","BUTEE-d9 MAJ C","INSERT LEVIER SURMOULEE 345833-01 - fraisage ","Arrêt","PIGNON PLATEAU SIMPLE ETAGE D50 - contournage dents ","USINAGE PROFIL CPF PROP 1000 CYCLES ","raccord HEX 17","GOUJON M12*1.5 L=49","VIS TC 8*12(C10)","Bague aluminium 14.4*25*40-chutes ","Buse droite à collerette Ø8","INSERT LEVIER SURMOULEE 345833-01-sb16c"]
[null,"Compteur 8h ",null,18178,0,274,683,0,114835,15,0,29,1141,0,967,133,189,3627,9612]
[null,"Compteur 17h",null,19191,0,530,1021,0,116635,15,0,35,1322,0,1217,424,189,4342,9612]
[null,"Enregistrement","9h"]
[null,null,"16h"]
[null,"Identification"]
[null,"Propreté des tables de contrôle"]
[null,"Rangement des outils de contrôle"]
[null,"Existance de l'OF"]
[null,"Affutage",null,null,null,null,null,null,null,null,null,null,null,null,null,null,null,null,null,{"$f":"+COUNTA(D24:S24)","v":0}]
[null,"Maintenance"]
[null,"Nombre des NC poubelle "]
[null,"Nombre des NC à retoucher"]
[null,"Machine pour retouche"]
[null,"Panne"]
[null,"Cout pièces de rechange",null,null,null,null,null,null,null,null,null,null,null,null,null,null,null,null,null,{"$f":"SUM(D30:S30)","v":0}]
[null,"prix de revient pièce",null,{"$f":"IFERROR(VLOOKUP(D14,'Prix de revient'!$A:$D,4,0),0)","v":0},{"$f":"IFERROR(VLOOKUP(E14,'Prix de revient'!$A:$D,4,0),0)","v":0},{"$f":"IFERROR(VLOOKUP(F14,'Prix de revient'!$A:$D,4,0),0)","v":0},{"$f":"IFERROR(VLOOKUP(G14,'Prix de revient'!$A:$D,4,0),0)","v":0},{"$f":"IFERROR(VLOOKUP(H14,'Prix de revient'!$A:$D,4,0),0)","v":0},{"$f":"IFERROR(VLOOKUP(I14,'Prix de revient'!$A:$D,4,0),0)","v":0},{"$f":"IFERROR(VLOOKUP(J14,'Prix de revient'!$A:$D,4,0),0)","v":2.1488},{"$f":"IFERROR(VLOOKUP(K14,'Prix de revient'!$A:$D,4,0),0)","v":0},{"$f":"IFERROR(VLOOKUP(L14,'Prix de revient'!$A:$D,4,0),0)","v":0},{"$f":"IFERROR(VLOOKUP(M14,'Prix de revient'!$A:$D,4,0),0)","v":0},{"$f":"IFERROR(VLOOKUP(N14,'Prix de revient'!$A:$D,4,0),0)","v":0},{"$f":"IFERROR(VLOOKUP(O14,'Prix de revient'!$A:$D,4,0),0)","v":0},{"$f":"IFERROR(VLOOKUP(P14,'Prix de revient'!$A:$D,4,0),0)","v":0},{"$f":"IFERROR(VLOOKUP(Q14,'Prix de revient'!$A:$D,4,0),0)","v":0},{"$f":"IFERROR(VLOOKUP(R14,'Prix de revient'!$A:$D,4,0),0)","v":0},{"$f":"IFERROR(VLOOKUP(S14,'Prix de revient'!$A:$D,4,0),0)","v":2.1488}]
[null,"coût de rebuts",null,{"$f":"D26*D31","v":0},{"$f":"E26*E31","v":0},0,0,0,0,0,0,0,0,0,0,0,0,0,0,{"$f":"SUM(D32:S32)","v":0}]
[null,"gestion de modification"]
[]
[]
[]
[]
[]
[]
[]
[null,null,"Clients","Audit","Réclamation","Avoir",null,"Fournisseurs/ sous-traitants","Réception de matiere","Probleme qualité",null,"Les formations professionnelles","Cout","Chiffrage décliné","Actions à suivre",null,"Article qui a subit un tri","durée du tri","Nombre des pieces non-conformes","ouvrier faisant le tri","cout par tri",null,"Article qui a subit la reprise","durée de la reprise","opérateur faisant la reprise","coût de reprise",null,null,null,"Machine ","article","gamme","objet de la modification"]
[null,null,null,null,null,null,null,null,null,null,null,null,null,null,null,null,null,null,null,null,{"$f":"IF(R42=\"\",\"\",R42*VLOOKUP(T42,'cout opérateur machines'!A1:B8,2,0))","v":""},null,null,null,null,{"$f":"X42*8","v":0}]
[null,null,null,null,null,null,null,null,null,null,null,null,null,null,null,null,null,null,null,null,{"$f":"IF(R43=\"\",\"\",R43*VLOOKUP(T43,'cout opérateur machines'!A2:B9,2,0))","v":""},null,null,null,null,{"$f":"X43*8","v":0}]
[null,null,null,null,null,null,null,null,null,null,null,null,null,null,null,null,null,null,null,null,{"$f":"IF(R44=\"\",\"\",R44*VLOOKUP(T44,'cout opérateur machines'!A3:B10,2,0))","v":""},null,null,null,null,0]
[null,null,null,null,null,null,null,null,null,null,null,null,null,null,null,null,null,null,null,null,{"$f":"IF(R45=\"\",\"\",R45*VLOOKUP(T45,'cout opérateur machines'!A4:B11,2,0))","v":""},null,null,null,null,0]
[null,null,null,null,null,null,null,null,null,null,null,null,null,null,null,null,null,null,null,null,{"$f":"IF(R46=\"\",\"\",R46*VLOOKUP(T46,'cout opérateur machines'!A5:B12,2,0))","v":""},null,null,null,null,0]
[null,null,null,null,null,null,null,null,null,null,null,null,null,null,null,null,null,null,null,null,{"$f":"IF(R47=\"\",\"\",R47*VLOOKUP(T47,'cout opérateur machines'!A6:B13,2,0))","v":""},null,null,null,null,0]
[null,null,null,null,{"$f":"COUNTA(E42:E47)","v":0},{"$f":"SUM(F42:F47)","v":0},null,null,null,null,null,null,{"$f":"SUM(M42:M47)","v":0},"causes de refus",null,null,null,null,"cout total du jour",null,{"$f":"SUM(U42:U47)","v":0},null,null,null,null,0]
[null,null,null,null,null,null,null,"envoi des réclamations F/ S-T","réponse F/ S-T","alerte",null,null,null,null,null,null,null,null,null,null,null,null,null,null,null,{"$f":"SUM(Z42:Z48)","v":0}]
[null,null,"dans le cas d'une réclamation",null,null,null,null,null,null,{"$f":"IF(J42=\"\",\"\",IF(H50=0,\" réclamation non traitée\",IF(I50=0, \"veuillez contacter le F/ S-T par téléphone\",\"\")))","v":""},null,null,null,null,null,null,null,null,"N° mois",null,2]
[null,null,"nombre de pièces NC",null,null,null,null,null,null,{"$f":"IF(J43=\"\",\"\",IF(H51=0,\" réclamation non traitée\",IF(I51=0, \"veuillez contacter le F/ S-T par téléphone\",\"\")))","v":""}]
[null,null,"nombre de pièces par carton",null,null,null,null,null,null,""]
[null,null,"coût de transport par carton",null,null,null,null,null,null,""]
[null,null,"nombre de cartons renvoyés",null,null,null,null,null,null,""]
[null,null,"temps de tri",null,null,null,null,null,null,""]
[null,null,"coût horaire de tri"]
[null,null,"temps de retouche"]
[null,null,"coût horaire de retouche"]
[null,null,"temps de traitement de la réclamation"]
[null,null,"coût horaire de traitement"]
[null,null,"coût total",{"$f":"IFERROR(((D51/D52)*D53)+D54*D53+D55*D56+D57*D58+D59*D60,\"\")","v":""}]

{"sheet":"14-2-22","index":69,"n_rows":61,"n_cols":33,"rows_kept":61,"cut":false,"hidden":false,"merged":[[31,1,31,2],[32,1,32,2],[47,18,47,19],[49,18,49,19],[25,1,25,2],[26,1,26,2],[27,1,27,2],[28,1,28,2],[29,1,29,2],[30,1,30,2],[24,1,24,2],[12,1,12,2],[13,1,13,2],[14,1,14,2],[15,1,15,2],[16,1,16,2],[17,1,18,1],[19,1,19,2],[20,1,20,2],[21,1,21,2],[22,1,22,2],[23,1,23,2],[1,2,4,3],[1,4,4,16],[1,17,1,19],[1,21,1,23],[2,17,2,19],[2,21,2,23],[3,17,3,19],[3,21,3,23],[4,17,4,19],[4,21,4,23]]}
[]
[null,null,null,null,"Rapport journalier",null,null,null,null,null,null,null,null,null,null,null,null,"Code:DAS-SMQ-24"]
[null,null,null,null,null,null,null,null,null,null,null,null,null,null,null,null,null,"Date: 27/12/2019"]
[null,null,null,null,null,null,null,null,null,null,null,null,null,null,null,null,null,"Version:01"]
[null,null,null,null,null,null,null,null,null,null,null,null,null,null,null,null,null,"Page:1"]
[]
[]
[]
[]
[]
[]
[null,null,null,"A","B","C","D","E","F","M","N","O","P","I","L","K","J","G","H"]
[null,"Machine",null,"SST16","SB16","BIGLIA 301 SM","BIGLIA 42 S2M bitourelle","L32","TSUGAMI","MORI SEIKI 3 axes","MORI SEIKI 5 axes","HARDING","KITAMURA","MULTIBROCHE","NAKAMURA","TOUR WEILER"]
[null,"Référence",null,"T-RB400","BAG ACI 10.2X12.9","4-8344","I081-95-CP9","M018-28-29-32-CP1","S3SD14632","I110-01-004"," - ","PIG 50 SE- harding ","J0090","MPS000300","G018","VS-TC-8-12","4-7989","68.0814","I110-01-004"]
[null,"Désignation",null,"RIVET TRB400 maj-c","BAGUE ACIER Ø10.2*12.9 maj-c","Bague Galvanisée 12*27*39.5","CHEMISE DU BOITIER TFR","BAGUE EN ACIER AXE RESSORT  NM+AM OM40","BUTEE-d9 MAJ C","INSERT LEVIER SURMOULEE 345833-01 - fraisage ","Arrêt","PIGNON PLATEAU SIMPLE ETAGE D50 - contournage dents ","USINAGE PROFIL CPF PROP 1000 CYCLES ","raccord HEX 17","GOUJON M12*1.5 L=49","VIS TC 8*12(C10)","Bague aluminium 14.4*25*40-chutes ","Buse droite à collerette Ø8","INSERT LEVIER SURMOULEE 345833-01-sb16c"]
[null,"Compteur 8h ",null,17010,0,0,399,0,113052,0,0,24,959,0,720,0,139,2876,9015]
[null,"Compteur 17h",null,18178,0,274,683,0,114835,15,0,29,1141,0,967,133,189,3627,9612]
[null,"Enregistrement","9h"]
[null,null,"16h"]
[null,"Identification"]
[null,"Propreté des tables de contrôle"]
[null,"Rangement des outils de contrôle"]
[null,"Existance de l'OF"]
[null,"Affutage",null,null,null,null,null,null,null,null,null,null,null,null,null,null,null,null,null,{"$f":"+COUNTA(D24:S24)","v":0}]
[null,"Maintenance"]
[null,"Nombre des NC poubelle ",null,null,null,null,null,null,null,null,null,null,null,null,null,12,null,null,35]
[null,"Nombre des NC à retoucher"]
[null,"Machine pour retouche"]
[null,"Panne"]
[null,"Cout pièces de rechange",null,null,null,null,null,null,null,null,null,null,null,null,null,null,null,null,null,{"$f":"SUM(D30:S30)","v":0}]
[null,"prix de revient pièce",null,{"$f":"IFERROR(VLOOKUP(D14,'Prix de revient'!$A:$D,4,0),0)","v":0},{"$f":"IFERROR(VLOOKUP(E14,'Prix de revient'!$A:$D,4,0),0)","v":0},{"$f":"IFERROR(VLOOKUP(F14,'Prix de revient'!$A:$D,4,0),0)","v":0},{"$f":"IFERROR(VLOOKUP(G14,'Prix de revient'!$A:$D,4,0),0)","v":0},{"$f":"IFERROR(VLOOKUP(H14,'Prix de revient'!$A:$D,4,0),0)","v":0},{"$f":"IFERROR(VLOOKUP(I14,'Prix de revient'!$A:$D,4,0),0)","v":0},{"$f":"IFERROR(VLOOKUP(J14,'Prix de revient'!$A:$D,4,0),0)","v":2.1488},{"$f":"IFERROR(VLOOKUP(K14,'Prix de revient'!$A:$D,4,0),0)","v":0},{"$f":"IFERROR(VLOOKUP(L14,'Prix de revient'!$A:$D,4,0),0)","v":0},{"$f":"IFERROR(VLOOKUP(M14,'Prix de revient'!$A:$D,4,0),0)","v":0},{"$f":"IFERROR(VLOOKUP(N14,'Prix de revient'!$A:$D,4,0),0)","v":0},{"$f":"IFERROR(VLOOKUP(O14,'Prix de revient'!$A:$D,4,0),0)","v":0},{"$f":"IFERROR(VLOOKUP(P14,'Prix de revient'!$A:$D,4,0),0)","v":0},{"$f":"IFERROR(VLOOKUP(Q14,'Prix de revient'!$A:$D,4,0),0)","v":0},{"$f":"IFERROR(VLOOKUP(R14,'Prix de revient'!$A:$D,4,0),0)","v":0},{"$f":"IFERROR(VLOOKUP(S14,'Prix de revient'!$A:$D,4,0),0)","v":2.1488}]
[null,"coût de rebuts",null,{"$f":"D26*D31","v":0},{"$f":"E26*E31","v":0},0,0,0,0,0,0,0,0,0,0,0,0,0,75.207999999999998,{"$f":"SUM(D32:S32)","v":75.207999999999998}]
[null,"gestion de modification"]
[]
[]
[]
[]
[]
[]
[]
[null,null,"Clients","Audit","Réclamation","Avoir",null,"Fournisseurs/ sous-traitants","Réception de matiere","Probleme qualité",null,"Les formations professionnelles","Cout","Chiffrage décliné","Actions à suivre",null,"Article qui a subit un tri","durée du tri","Nombre des pieces non-conformes","ouvrier faisant le tri","cout par tri",null,"Article qui a subit la reprise","durée de la reprise","opérateur faisant la reprise","coût de reprise",null,null,null,"Machine ","article","gamme","objet de la modification"]
[null,null,null,null,null,null,null,null,null,null,null,null,null,null,null,null,null,null,null,null,{"$f":"IF(R42=\"\",\"\",R42*VLOOKUP(T42,'cout opérateur machines'!A1:B8,2,0))","v":""},null,null,null,null,{"$f":"X42*8","v":0}]
[null,null,null,null,null,null,null,null,null,null,null,null,null,null,null,null,null,null,null,null,{"$f":"IF(R43=\"\",\"\",R43*VLOOKUP(T43,'cout opérateur machines'!A2:B9,2,0))","v":""},null,null,null,null,{"$f":"X43*8","v":0}]
[null,null,null,null,null,null,null,null,null,null,null,null,null,null,null,null,null,null,null,null,{"$f":"IF(R44=\"\",\"\",R44*VLOOKUP(T44,'cout opérateur machines'!A3:B10,2,0))","v":""},null,null,null,null,0]
[null,null,null,null,null,null,null,null,null,null,null,null,null,null,null,null,null,null,null,null,{"$f":"IF(R45=\"\",\"\",R45*VLOOKUP(T45,'cout opérateur machines'!A4:B11,2,0))","v":""},null,null,null,null,0]
[null,null,null,null,null,null,null,null,null,null,null,null,null,null,null,null,null,null,null,null,{"$f":"IF(R46=\"\",\"\",R46*VLOOKUP(T46,'cout opérateur machines'!A5:B12,2,0))","v":""},null,null,null,null,0]
[null,null,null,null,null,null,null,null,null,null,null,null,null,null,null,null,null,null,null,null,{"$f":"IF(R47=\"\",\"\",R47*VLOOKUP(T47,'cout opérateur machines'!A6:B13,2,0))","v":""},null,null,null,null,0]
[null,null,null,null,{"$f":"COUNTA(E42:E47)","v":0},{"$f":"SUM(F42:F47)","v":0},null,null,null,null,null,null,{"$f":"SUM(M42:M47)","v":0},"causes de refus",null,null,null,null,"cout total du jour",null,{"$f":"SUM(U42:U47)","v":0},null,null,null,null,0]
[null,null,null,null,null,null,null,"envoi des réclamations F/ S-T","réponse F/ S-T","alerte",null,null,null,null,null,null,null,null,null,null,null,null,null,null,null,{"$f":"SUM(Z42:Z48)","v":0}]
[null,null,"dans le cas d'une réclamation",null,null,null,null,null,null,{"$f":"IF(J42=\"\",\"\",IF(H50=0,\" réclamation non traitée\",IF(I50=0, \"veuillez contacter le F/ S-T par téléphone\",\"\")))","v":""},null,null,null,null,null,null,null,null,"N° mois",null,2]
[null,null,"nombre de pièces NC",null,null,null,null,null,null,{"$f":"IF(J43=\"\",\"\",IF(H51=0,\" réclamation non traitée\",IF(I51=0, \"veuillez contacter le F/ S-T par téléphone\",\"\")))","v":""}]
[null,null,"nombre de pièces par carton",null,null,null,null,null,null,""]
[null,null,"coût de transport par carton",null,null,null,null,null,null,""]
[null,null,"nombre de cartons renvoyés",null,null,null,null,null,null,""]
[null,null,"temps de tri",null,null,null,null,null,null,""]
[null,null,"coût horaire de tri"]
[null,null,"temps de retouche"]
[null,null,"coût horaire de retouche"]
[null,null,"temps de traitement de la réclamation"]
[null,null,"coût horaire de traitement"]
[null,null,"coût total",{"$f":"IFERROR(((D51/D52)*D53)+D54*D53+D55*D56+D57*D58+D59*D60,\"\")","v":""}]

{"sheet":"12-2-22","index":70,"n_rows":61,"n_cols":33,"rows_kept":61,"cut":false,"hidden":false,"merged":[[31,1,31,2],[32,1,32,2],[47,18,47,19],[49,18,49,19],[25,1,25,2],[26,1,26,2],[27,1,27,2],[28,1,28,2],[29,1,29,2],[30,1,30,2],[24,1,24,2],[12,1,12,2],[13,1,13,2],[14,1,14,2],[15,1,15,2],[16,1,16,2],[17,1,18,1],[19,1,19,2],[20,1,20,2],[21,1,21,2],[22,1,22,2],[23,1,23,2],[1,2,4,3],[1,4,4,16],[1,17,1,19],[1,21,1,23],[2,17,2,19],[2,21,2,23],[3,17,3,19],[3,21,3,23],[4,17,4,19],[4,21,4,23]]}
[]
[null,null,null,null,"Rapport journalier",null,null,null,null,null,null,null,null,null,null,null,null,"Code:DAS-SMQ-24"]
[null,null,null,null,null,null,null,null,null,null,null,null,null,null,null,null,null,"Date: 27/12/2019"]
[null,null,null,null,null,null,null,null,null,null,null,null,null,null,null,null,null,"Version:01"]
[null,null,null,null,null,null,null,null,null,null,null,null,null,null,null,null,null,"Page:1"]
[]
[]
[]
[]
[]
[]
[null,null,null,"A","B","C","D","E","F","M","N","O","P","I","L","K","J","G","H"]
[null,"Machine",null,"SST16","SB16","BIGLIA 301 SM","BIGLIA 42 S2M bitourelle","L32","TSUGAMI","MORI SEIKI 3 axes","MORI SEIKI 5 axes","HARDING","KITAMURA","MULTIBROCHE","NAKAMURA","TOUR WEILER"]
[null,"Référence",null,"T-RB400","BAG ACI 10.2X12.9","M018-28-29-32-CP2","I081-95-CP9","M018-28-29-32-CP1","S3SD14632","20133-C4"," - ","PIG 50 SE- harding ","J0090","MPS000300","G018","VS-TC-10-12","4-7989","68.0814","I110-01-004"]
[null,"Désignation",null,"RIVET TRB400 maj-c","BAGUE ACIER Ø10.2*12.9 maj-c","BAGUE EN LAITON AXE RESSORT NM+AM OM40","CHEMISE DU BOITIER TFR","BAGUE EN ACIER AXE RESSORT  NM+AM OM40","BUTEE-d9 MAJ C","S4-V09 PH4","Arrêt","PIGNON PLATEAU SIMPLE ETAGE D50 - contournage dents ","USINAGE PROFIL CPF PROP 1000 CYCLES ","raccord HEX 17","GOUJON M12*1.5 L=49","VIS TC 10*12(C10)","Bague aluminium 14.4*25*40-chutes ","Buse droite à collerette Ø8","INSERT LEVIER SURMOULEE 345833-01-sb16c"]
[null,"Compteur 8h ",null,16815,4290,0,399,0,112276,0,0,21,849,0,554,1158,0,2577,8696]
[null,"Compteur 17h",null,17010,4993,0,399,0,113052,0,0,24,959,0,720,1343,139,2876,9015]
[null,"Enregistrement","9h"]
[null,null,"16h"]
[null,"Identification"]
[null,"Propreté des tables de contrôle"]
[null,"Rangement des outils de contrôle"]
[null,"Existance de l'OF"]
[null,"Affutage",null,null,null,null,null,null,null,null,null,null,null,null,null,null,null,null,null,{"$f":"+COUNTA(D24:S24)","v":0}]
[null,"Maintenance"]
[null,"Nombre des NC poubelle ",null,null,null,null,null,null,null,null,null,null,null,null,null,null,null,null,16]
[null,"Nombre des NC à retoucher"]
[null,"Machine pour retouche"]
[null,"Panne"]
[null,"Cout pièces de rechange",null,null,null,null,null,null,null,null,null,null,null,null,null,null,null,null,null,{"$f":"SUM(D30:S30)","v":0}]
[null,"prix de revient pièce",null,{"$f":"IFERROR(VLOOKUP(D14,'Prix de revient'!$A:$D,4,0),0)","v":0},{"$f":"IFERROR(VLOOKUP(E14,'Prix de revient'!$A:$D,4,0),0)","v":0},{"$f":"IFERROR(VLOOKUP(F14,'Prix de revient'!$A:$D,4,0),0)","v":0},{"$f":"IFERROR(VLOOKUP(G14,'Prix de revient'!$A:$D,4,0),0)","v":0},{"$f":"IFERROR(VLOOKUP(H14,'Prix de revient'!$A:$D,4,0),0)","v":0},{"$f":"IFERROR(VLOOKUP(I14,'Prix de revient'!$A:$D,4,0),0)","v":0},{"$f":"IFERROR(VLOOKUP(J14,'Prix de revient'!$A:$D,4,0),0)","v":0},{"$f":"IFERROR(VLOOKUP(K14,'Prix de revient'!$A:$D,4,0),0)","v":0},{"$f":"IFERROR(VLOOKUP(L14,'Prix de revient'!$A:$D,4,0),0)","v":0},{"$f":"IFERROR(VLOOKUP(M14,'Prix de revient'!$A:$D,4,0),0)","v":0},{"$f":"IFERROR(VLOOKUP(N14,'Prix de revient'!$A:$D,4,0),0)","v":0},{"$f":"IFERROR(VLOOKUP(O14,'Prix de revient'!$A:$D,4,0),0)","v":0},{"$f":"IFERROR(VLOOKUP(P14,'Prix de revient'!$A:$D,4,0),0)","v":0},{"$f":"IFERROR(VLOOKUP(Q14,'Prix de revient'!$A:$D,4,0),0)","v":0},{"$f":"IFERROR(VLOOKUP(R14,'Prix de revient'!$A:$D,4,0),0)","v":0},{"$f":"IFERROR(VLOOKUP(S14,'Prix de revient'!$A:$D,4,0),0)","v":2.1488}]
[null,"coût de rebuts",null,{"$f":"D26*D31","v":0},{"$f":"E26*E31","v":0},0,0,0,0,0,0,0,0,0,0,0,0,0,34.380800000000001,{"$f":"SUM(D32:S32)","v":34.380800000000001}]
[null,"gestion de modification"]
[]
[]
[]
[]
[]
[]
[]
[null,null,"Clients","Audit","Réclamation","Avoir",null,"Fournisseurs/ sous-traitants","Réception de matiere","Probleme qualité",null,"Les formations professionnelles","Cout","Chiffrage décliné","Actions à suivre",null,"Article qui a subit un tri","durée du tri","Nombre des pieces non-conformes","ouvrier faisant le tri","cout par tri",null,"Article qui a subit la reprise","durée de la reprise","opérateur faisant la reprise","coût de reprise",null,null,null,"Machine ","article","gamme","objet de la modification"]
[null,null,null,null,null,null,null,null,null,null,null,null,null,null,null,null,null,null,null,null,{"$f":"IF(R42=\"\",\"\",R42*VLOOKUP(T42,'cout opérateur machines'!A1:B8,2,0))","v":""},null,null,null,null,{"$f":"X42*8","v":0}]
[null,null,null,null,null,null,null,null,null,null,null,null,null,null,null,null,null,null,null,null,{"$f":"IF(R43=\"\",\"\",R43*VLOOKUP(T43,'cout opérateur machines'!A2:B9,2,0))","v":""},null,null,null,null,{"$f":"X43*8","v":0}]
[null,null,null,null,null,null,null,null,null,null,null,null,null,null,null,null,null,null,null,null,{"$f":"IF(R44=\"\",\"\",R44*VLOOKUP(T44,'cout opérateur machines'!A3:B10,2,0))","v":""},null,null,null,null,0]
[null,null,null,null,null,null,null,null,null,null,null,null,null,null,null,null,null,null,null,null,{"$f":"IF(R45=\"\",\"\",R45*VLOOKUP(T45,'cout opérateur machines'!A4:B11,2,0))","v":""},null,null,null,null,0]
[null,null,null,null,null,null,null,null,null,null,null,null,null,null,null,null,null,null,null,null,{"$f":"IF(R46=\"\",\"\",R46*VLOOKUP(T46,'cout opérateur machines'!A5:B12,2,0))","v":""},null,null,null,null,0]
[null,null,null,null,null,null,null,null,null,null,null,null,null,null,null,null,null,null,null,null,{"$f":"IF(R47=\"\",\"\",R47*VLOOKUP(T47,'cout opérateur machines'!A6:B13,2,0))","v":""},null,null,null,null,0]
[null,null,null,null,{"$f":"COUNTA(E42:E47)","v":0},{"$f":"SUM(F42:F47)","v":0},null,null,null,null,null,null,{"$f":"SUM(M42:M47)","v":0},"causes de refus",null,null,null,null,"cout total du jour",null,{"$f":"SUM(U42:U47)","v":0},null,null,null,null,0]
[null,null,null,null,null,null,null,"envoi des réclamations F/ S-T","réponse F/ S-T","alerte",null,null,null,null,null,null,null,null,null,null,null,null,null,null,null,{"$f":"SUM(Z42:Z48)","v":0}]
[null,null,"dans le cas d'une réclamation",null,null,null,null,null,null,{"$f":"IF(J42=\"\",\"\",IF(H50=0,\" réclamation non traitée\",IF(I50=0, \"veuillez contacter le F/ S-T par téléphone\",\"\")))","v":""},null,null,null,null,null,null,null,null,"N° mois",null,2]
[null,null,"nombre de pièces NC",null,null,null,null,null,null,{"$f":"IF(J43=\"\",\"\",IF(H51=0,\" réclamation non traitée\",IF(I51=0, \"veuillez contacter le F/ S-T par téléphone\",\"\")))","v":""}]
[null,null,"nombre de pièces par carton",null,null,null,null,null,null,""]
[null,null,"coût de transport par carton",null,null,null,null,null,null,""]
[null,null,"nombre de cartons renvoyés",null,null,null,null,null,null,""]
[null,null,"temps de tri",null,null,null,null,null,null,""]
[null,null,"coût horaire de tri"]
[null,null,"temps de retouche"]
[null,null,"coût horaire de retouche"]
[null,null,"temps de traitement de la réclamation"]
[null,null,"coût horaire de traitement"]
[null,null,"coût total",{"$f":"IFERROR(((D51/D52)*D53)+D54*D53+D55*D56+D57*D58+D59*D60,\"\")","v":""}]

{"sheet":"11-2-22","index":71,"n_rows":61,"n_cols":33,"rows_kept":61,"cut":false,"hidden":false,"merged":[[31,1,31,2],[32,1,32,2],[47,18,47,19],[49,18,49,19],[25,1,25,2],[26,1,26,2],[27,1,27,2],[28,1,28,2],[29,1,29,2],[30,1,30,2],[24,1,24,2],[12,1,12,2],[13,1,13,2],[14,1,14,2],[15,1,15,2],[16,1,16,2],[17,1,18,1],[19,1,19,2],[20,1,20,2],[21,1,21,2],[22,1,22,2],[23,1,23,2],[1,2,4,3],[1,4,4,16],[1,17,1,19],[1,21,1,23],[2,17,2,19],[2,21,2,23],[3,17,3,19],[3,21,3,23],[4,17,4,19],[4,21,4,23]]}
[]
[null,null,null,null,"Rapport journalier",null,null,null,null,null,null,null,null,null,null,null,null,"Code:DAS-SMQ-24"]
[null,null,null,null,null,null,null,null,null,null,null,null,null,null,null,null,null,"Date: 27/12/2019"]
[null,null,null,null,null,null,null,null,null,null,null,null,null,null,null,null,null,"Version:01"]
[null,null,null,null,null,null,null,null,null,null,null,null,null,null,null,null,null,"Page:1"]
[]
[]
[]
[]
[]
[]
[null,null,null,"A","B","C","D","E","F","M","N","O","P","I","L","K","J","G","H"]
[null,"Machine",null,"SST16","SB16","BIGLIA 301 SM","BIGLIA 42 S2M bitourelle","L32","TSUGAMI","MORI SEIKI 3 axes","MORI SEIKI 5 axes","HARDING","KITAMURA","MULTIBROCHE","NAKAMURA","TOUR WEILER"]
[null,"Référence",null,"T-RB400","BAG ACI 10.2X12.9","M018-28-29-32-CP2","I081-95-CP9","M018-28-29-32-CP1","S3SD14632","20133-C4"," - ","PIG 50 SE- harding ","J0090","MPS000300","G018","VS-TC-10-12","4-8136-1","68.0814","I110-01-004"]
[null,"Désignation",null,"RIVET TRB400 maj-c","BAGUE ACIER Ø10.2*12.9 maj-c","BAGUE EN LAITON AXE RESSORT NM+AM OM40","CHEMISE DU BOITIER TFR","BAGUE EN ACIER AXE RESSORT  NM+AM OM40","BUTEE-d9 MAJ C","S4-V09 PH4","Arrêt","PIGNON PLATEAU SIMPLE ETAGE D50 - contournage dents ","USINAGE PROFIL CPF PROP 1000 CYCLES ","raccord HEX 17","GOUJON M12*1.5 L=49","VIS TC 10*12(C10)","Bague galvanisee 12*22*53","Buse droite à collerette Ø8","INSERT LEVIER SURMOULEE 345833-01-sb16c"]
[null,"Compteur 8h ",null,16815,2885,1755,399,1761,110520,0,0,16,667,0,335,821,1064,1795,7966]
[null,"Compteur 17h",null,16815,4290,2177,399,2018,112276,0,0,21,849,0,554,1158,1251,2577,8696]
[null,"Enregistrement","9h"]
[null,null,"16h"]
[null,"Identification"]
[null,"Propreté des tables de contrôle"]
[null,"Rangement des outils de contrôle"]
[null,"Existance de l'OF"]
[null,"Affutage",null,null,null,null,null,null,null,null,null,null,null,null,null,null,null,null,null,{"$f":"+COUNTA(D24:S24)","v":0}]
[null,"Maintenance"]
[null,"Nombre des NC poubelle ",null,null,null,null,null,null,2,null,null,null,null,null,null,null,null,null,3]
[null,"Nombre des NC à retoucher"]
[null,"Machine pour retouche"]
[null,"Panne"]
[null,"Cout pièces de rechange",null,null,null,null,null,null,null,null,null,null,null,null,null,null,null,null,null,{"$f":"SUM(D30:S30)","v":0}]
[null,"prix de revient pièce",null,{"$f":"IFERROR(VLOOKUP(D14,'Prix de revient'!$A:$D,4,0),0)","v":0},{"$f":"IFERROR(VLOOKUP(E14,'Prix de revient'!$A:$D,4,0),0)","v":0},{"$f":"IFERROR(VLOOKUP(F14,'Prix de revient'!$A:$D,4,0),0)","v":0},{"$f":"IFERROR(VLOOKUP(G14,'Prix de revient'!$A:$D,4,0),0)","v":0},{"$f":"IFERROR(VLOOKUP(H14,'Prix de revient'!$A:$D,4,0),0)","v":0},{"$f":"IFERROR(VLOOKUP(I14,'Prix de revient'!$A:$D,4,0),0)","v":0},{"$f":"IFERROR(VLOOKUP(J14,'Prix de revient'!$A:$D,4,0),0)","v":0},{"$f":"IFERROR(VLOOKUP(K14,'Prix de revient'!$A:$D,4,0),0)","v":0},{"$f":"IFERROR(VLOOKUP(L14,'Prix de revient'!$A:$D,4,0),0)","v":0},{"$f":"IFERROR(VLOOKUP(M14,'Prix de revient'!$A:$D,4,0),0)","v":0},{"$f":"IFERROR(VLOOKUP(N14,'Prix de revient'!$A:$D,4,0),0)","v":0},{"$f":"IFERROR(VLOOKUP(O14,'Prix de revient'!$A:$D,4,0),0)","v":0},{"$f":"IFERROR(VLOOKUP(P14,'Prix de revient'!$A:$D,4,0),0)","v":0},{"$f":"IFERROR(VLOOKUP(Q14,'Prix de revient'!$A:$D,4,0),0)","v":4000},{"$f":"IFERROR(VLOOKUP(R14,'Prix de revient'!$A:$D,4,0),0)","v":0},{"$f":"IFERROR(VLOOKUP(S14,'Prix de revient'!$A:$D,4,0),0)","v":2.1488}]
[null,"coût de rebuts",null,{"$f":"D26*D31","v":0},{"$f":"E26*E31","v":0},0,0,0,0,0,0,0,0,0,0,0,0,0,6.4464000000000006,{"$f":"SUM(D32:S32)","v":6.4464000000000006}]
[null,"gestion de modification"]
[]
[]
[]
[]
[]
[]
[]
[null,null,"Clients","Audit","Réclamation","Avoir",null,"Fournisseurs/ sous-traitants","Réception de matiere","Probleme qualité",null,"Les formations professionnelles","Cout","Chiffrage décliné","Actions à suivre",null,"Article qui a subit un tri","durée du tri","Nombre des pieces non-conformes","ouvrier faisant le tri","cout par tri",null,"Article qui a subit la reprise","durée de la reprise","opérateur faisant la reprise","coût de reprise",null,null,null,"Machine ","article","gamme","objet de la modification"]
[null,null,null,null,null,null,null,null,null,null,null,null,null,null,null,null,null,null,null,null,{"$f":"IF(R42=\"\",\"\",R42*VLOOKUP(T42,'cout opérateur machines'!A1:B8,2,0))","v":""},null,null,null,null,{"$f":"X42*8","v":0}]
[null,null,null,null,null,null,null,null,null,null,null,null,null,null,null,null,null,null,null,null,{"$f":"IF(R43=\"\",\"\",R43*VLOOKUP(T43,'cout opérateur machines'!A2:B9,2,0))","v":""},null,null,null,null,{"$f":"X43*8","v":0}]
[null,null,null,null,null,null,null,null,null,null,null,null,null,null,null,null,null,null,null,null,{"$f":"IF(R44=\"\",\"\",R44*VLOOKUP(T44,'cout opérateur machines'!A3:B10,2,0))","v":""},null,null,null,null,0]
[null,null,null,null,null,null,null,null,null,null,null,null,null,null,null,null,null,null,null,null,{"$f":"IF(R45=\"\",\"\",R45*VLOOKUP(T45,'cout opérateur machines'!A4:B11,2,0))","v":""},null,null,null,null,0]
[null,null,null,null,null,null,null,null,null,null,null,null,null,null,null,null,null,null,null,null,{"$f":"IF(R46=\"\",\"\",R46*VLOOKUP(T46,'cout opérateur machines'!A5:B12,2,0))","v":""},null,null,null,null,0]
[null,null,null,null,null,null,null,null,null,null,null,null,null,null,null,null,null,null,null,null,{"$f":"IF(R47=\"\",\"\",R47*VLOOKUP(T47,'cout opérateur machines'!A6:B13,2,0))","v":""},null,null,null,null,0]
[null,null,null,null,{"$f":"COUNTA(E42:E47)","v":0},{"$f":"SUM(F42:F47)","v":0},null,null,null,null,null,null,{"$f":"SUM(M42:M47)","v":0},"causes de refus",null,null,null,null,"cout total du jour",null,{"$f":"SUM(U42:U47)","v":0},null,null,null,null,0]
[null,null,null,null,null,null,null,"envoi des réclamations F/ S-T","réponse F/ S-T","alerte",null,null,null,null,null,null,null,null,null,null,null,null,null,null,null,{"$f":"SUM(Z42:Z48)","v":0}]
[null,null,"dans le cas d'une réclamation",null,null,null,null,null,null,{"$f":"IF(J42=\"\",\"\",IF(H50=0,\" réclamation non traitée\",IF(I50=0, \"veuillez contacter le F/ S-T par téléphone\",\"\")))","v":""},null,null,null,null,null,null,null,null,"N° mois",null,2]
[null,null,"nombre de pièces NC",null,null,null,null,null,null,{"$f":"IF(J43=\"\",\"\",IF(H51=0,\" réclamation non traitée\",IF(I51=0, \"veuillez contacter le F/ S-T par téléphone\",\"\")))","v":""}]
[null,null,"nombre de pièces par carton",null,null,null,null,null,null,""]
[null,null,"coût de transport par carton",null,null,null,null,null,null,""]
[null,null,"nombre de cartons renvoyés",null,null,null,null,null,null,""]
[null,null,"temps de tri",null,null,null,null,null,null,""]
[null,null,"coût horaire de tri"]
[null,null,"temps de retouche"]
[null,null,"coût horaire de retouche"]
[null,null,"temps de traitement de la réclamation"]
[null,null,"coût horaire de traitement"]
[null,null,"coût total",{"$f":"IFERROR(((D51/D52)*D53)+D54*D53+D55*D56+D57*D58+D59*D60,\"\")","v":""}]

{"sheet":"10-2-22","index":72,"n_rows":61,"n_cols":33,"rows_kept":61,"cut":false,"hidden":false,"merged":[[31,1,31,2],[32,1,32,2],[47,18,47,19],[49,18,49,19],[25,1,25,2],[26,1,26,2],[27,1,27,2],[28,1,28,2],[29,1,29,2],[30,1,30,2],[24,1,24,2],[12,1,12,2],[13,1,13,2],[14,1,14,2],[15,1,15,2],[16,1,16,2],[17,1,18,1],[19,1,19,2],[20,1,20,2],[21,1,21,2],[22,1,22,2],[23,1,23,2],[1,2,4,3],[1,4,4,16],[1,17,1,19],[1,21,1,23],[2,17,2,19],[2,21,2,23],[3,17,3,19],[3,21,3,23],[4,17,4,19],[4,21,4,23]]}
[]
[null,null,null,null,"Rapport journalier",null,null,null,null,null,null,null,null,null,null,null,null,"Code:DAS-SMQ-24"]
[null,null,null,null,null,null,null,null,null,null,null,null,null,null,null,null,null,"Date: 27/12/2019"]
[null,null,null,null,null,null,null,null,null,null,null,null,null,null,null,null,null,"Version:01"]
[null,null,null,null,null,null,null,null,null,null,null,null,null,null,null,null,null,"Page:1"]
[]
[]
[]
[]
[]
[]
[null,null,null,"A","B","C","D","E","F","M","N","O","P","I","L","K","J","G","H"]
[null,"Machine",null,"SST16","SB16","BIGLIA 301 SM","BIGLIA 42 S2M bitourelle","L32","TSUGAMI","MORI SEIKI 3 axes","MORI SEIKI 5 axes","HARDING","KITAMURA","MULTIBROCHE","NAKAMURA","TOUR WEILER"]
[null,"Référence",null,"T-RB400","BAG ACI 10.2X12.9","M018-28-29-32-CP2","I081-95-CP9","M018-28-29-32-CP1","S3SD14632","20133-C4"," - ","PIG 50 SE- harding ","J0090","MPS000300","G018","VS-TC-10-12","4-8136-1","68.0814","I110-01-004"]
[null,"Désignation",null,"RIVET TRB400 maj-c","BAGUE ACIER Ø10.2*12.9 maj-c","BAGUE EN LAITON AXE RESSORT NM+AM OM40","CHEMISE DU BOITIER TFR","BAGUE EN ACIER AXE RESSORT  NM+AM OM40","BUTEE-d9 MAJ C","S4-V09 PH4","Arrêt","PIGNON PLATEAU SIMPLE ETAGE D50 - contournage dents ","USINAGE PROFIL CPF PROP 1000 CYCLES ","raccord HEX 17","GOUJON M12*1.5 L=49","VIS TC 10*12(C10)","Bague galvanisee 12*22*53","Buse droite à collerette Ø8","INSERT LEVIER SURMOULEE 345833-01-sb16c"]
[null,"Compteur 8h ",null,16550,753,956,266,1413,108780,0,0,10,513,0,186,503,414,1020,7452]
[null,"Compteur 17h",null,16815,2885,1755,399,1761,110520,0,0,16,667,0,335,821,1064,1795,7966]
[null,"Enregistrement","9h"]
[null,null,"16h"]
[null,"Identification"]
[null,"Propreté des tables de contrôle"]
[null,"Rangement des outils de contrôle"]
[null,"Existance de l'OF"]
[null,"Affutage",null,null,null,null,null,null,null,null,null,null,null,null,null,null,null,null,null,{"$f":"+COUNTA(D24:S24)","v":0}]
[null,"Maintenance"]
[null,"Nombre des NC poubelle ",null,null,null,null,null,null,null,null,null,null,null,null,null,null,10,null,30]
[null,"Nombre des NC à retoucher"]
[null,"Machine pour retouche"]
[null,"Panne"]
[null,"Cout pièces de rechange",null,null,null,null,null,null,null,null,null,null,null,null,null,null,null,null,null,{"$f":"SUM(D30:S30)","v":0}]
[null,"prix de revient pièce",null,{"$f":"IFERROR(VLOOKUP(D14,'Prix de revient'!$A:$D,4,0),0)","v":0},{"$f":"IFERROR(VLOOKUP(E14,'Prix de revient'!$A:$D,4,0),0)","v":0},{"$f":"IFERROR(VLOOKUP(F14,'Prix de revient'!$A:$D,4,0),0)","v":0},{"$f":"IFERROR(VLOOKUP(G14,'Prix de revient'!$A:$D,4,0),0)","v":0},{"$f":"IFERROR(VLOOKUP(H14,'Prix de revient'!$A:$D,4,0),0)","v":0},{"$f":"IFERROR(VLOOKUP(I14,'Prix de revient'!$A:$D,4,0),0)","v":0},{"$f":"IFERROR(VLOOKUP(J14,'Prix de revient'!$A:$D,4,0),0)","v":0},{"$f":"IFERROR(VLOOKUP(K14,'Prix de revient'!$A:$D,4,0),0)","v":0},{"$f":"IFERROR(VLOOKUP(L14,'Prix de revient'!$A:$D,4,0),0)","v":0},{"$f":"IFERROR(VLOOKUP(M14,'Prix de revient'!$A:$D,4,0),0)","v":0},{"$f":"IFERROR(VLOOKUP(N14,'Prix de revient'!$A:$D,4,0),0)","v":0},{"$f":"IFERROR(VLOOKUP(O14,'Prix de revient'!$A:$D,4,0),0)","v":0},{"$f":"IFERROR(VLOOKUP(P14,'Prix de revient'!$A:$D,4,0),0)","v":0},{"$f":"IFERROR(VLOOKUP(Q14,'Prix de revient'!$A:$D,4,0),0)","v":4000},{"$f":"IFERROR(VLOOKUP(R14,'Prix de revient'!$A:$D,4,0),0)","v":0},{"$f":"IFERROR(VLOOKUP(S14,'Prix de revient'!$A:$D,4,0),0)","v":2.1488}]
[null,"coût de rebuts",null,{"$f":"D26*D31","v":0},{"$f":"E26*E31","v":0},0,0,0,0,0,0,0,0,0,0,0,40000,0,64.463999999999999,{"$f":"SUM(D32:S32)","v":40064.464}]
[null,"gestion de modification"]
[]
[]
[]
[]
[]
[]
[]
[null,null,"Clients","Audit","Réclamation","Avoir",null,"Fournisseurs/ sous-traitants","Réception de matiere","Probleme qualité",null,"Les formations professionnelles","Cout","Chiffrage décliné","Actions à suivre",null,"Article qui a subit un tri","durée du tri","Nombre des pieces non-conformes","ouvrier faisant le tri","cout par tri",null,"Article qui a subit la reprise","durée de la reprise","opérateur faisant la reprise","coût de reprise",null,null,null,"Machine ","article","gamme","objet de la modification"]
[null,null,null,null,null,null,null,null,null,null,null,null,null,null,null,null,null,null,null,null,{"$f":"IF(R42=\"\",\"\",R42*VLOOKUP(T42,'cout opérateur machines'!A1:B8,2,0))","v":""},null,null,null,null,{"$f":"X42*8","v":0}]
[null,null,null,null,null,null,null,null,null,null,null,null,null,null,null,null,null,null,null,null,{"$f":"IF(R43=\"\",\"\",R43*VLOOKUP(T43,'cout opérateur machines'!A2:B9,2,0))","v":""},null,null,null,null,{"$f":"X43*8","v":0}]
[null,null,null,null,null,null,null,null,null,null,null,null,null,null,null,null,null,null,null,null,{"$f":"IF(R44=\"\",\"\",R44*VLOOKUP(T44,'cout opérateur machines'!A3:B10,2,0))","v":""},null,null,null,null,0]
[null,null,null,null,null,null,null,null,null,null,null,null,null,null,null,null,null,null,null,null,{"$f":"IF(R45=\"\",\"\",R45*VLOOKUP(T45,'cout opérateur machines'!A4:B11,2,0))","v":""},null,null,null,null,0]
[null,null,null,null,null,null,null,null,null,null,null,null,null,null,null,null,null,null,null,null,{"$f":"IF(R46=\"\",\"\",R46*VLOOKUP(T46,'cout opérateur machines'!A5:B12,2,0))","v":""},null,null,null,null,0]
[null,null,null,null,null,null,null,null,null,null,null,null,null,null,null,null,null,null,null,null,{"$f":"IF(R47=\"\",\"\",R47*VLOOKUP(T47,'cout opérateur machines'!A6:B13,2,0))","v":""},null,null,null,null,0]
[null,null,null,null,{"$f":"COUNTA(E42:E47)","v":0},{"$f":"SUM(F42:F47)","v":0},null,null,null,null,null,null,{"$f":"SUM(M42:M47)","v":0},"causes de refus",null,null,null,null,"cout total du jour",null,{"$f":"SUM(U42:U47)","v":0},null,null,null,null,0]
[null,null,null,null,null,null,null,"envoi des réclamations F/ S-T","réponse F/ S-T","alerte",null,null,null,null,null,null,null,null,null,null,null,null,null,null,null,{"$f":"SUM(Z42:Z48)","v":0}]
[null,null,"dans le cas d'une réclamation",null,null,null,null,null,null,{"$f":"IF(J42=\"\",\"\",IF(H50=0,\" réclamation non traitée\",IF(I50=0, \"veuillez contacter le F/ S-T par téléphone\",\"\")))","v":""},null,null,null,null,null,null,null,null,"N° mois",null,2]
[null,null,"nombre de pièces NC",null,null,null,null,null,null,{"$f":"IF(J43=\"\",\"\",IF(H51=0,\" réclamation non traitée\",IF(I51=0, \"veuillez contacter le F/ S-T par téléphone\",\"\")))","v":""}]
[null,null,"nombre de pièces par carton",null,null,null,null,null,null,""]
[null,null,"coût de transport par carton",null,null,null,null,null,null,""]
[null,null,"nombre de cartons renvoyés",null,null,null,null,null,null,""]
[null,null,"temps de tri",null,null,null,null,null,null,""]
[null,null,"coût horaire de tri"]
[null,null,"temps de retouche"]
[null,null,"coût horaire de retouche"]
[null,null,"temps de traitement de la réclamation"]
[null,null,"coût horaire de traitement"]
[null,null,"coût total",{"$f":"IFERROR(((D51/D52)*D53)+D54*D53+D55*D56+D57*D58+D59*D60,\"\")","v":""}]

{"sheet":"09-2-22","index":73,"n_rows":61,"n_cols":33,"rows_kept":61,"cut":false,"hidden":false,"merged":[[31,1,31,2],[32,1,32,2],[47,18,47,19],[49,18,49,19],[25,1,25,2],[26,1,26,2],[27,1,27,2],[28,1,28,2],[29,1,29,2],[30,1,30,2],[24,1,24,2],[12,1,12,2],[13,1,13,2],[14,1,14,2],[15,1,15,2],[16,1,16,2],[17,1,18,1],[19,1,19,2],[20,1,20,2],[21,1,21,2],[22,1,22,2],[23,1,23,2],[1,2,4,3],[1,4,4,16],[1,17,1,19],[1,21,1,23],[2,17,2,19],[2,21,2,23],[3,17,3,19],[3,21,3,23],[4,17,4,19],[4,21,4,23]]}
[]
[null,null,null,null,"Rapport journalier",null,null,null,null,null,null,null,null,null,null,null,null,"Code:DAS-SMQ-24"]
[null,null,null,null,null,null,null,null,null,null,null,null,null,null,null,null,null,"Date: 27/12/2019"]
[null,null,null,null,null,null,null,null,null,null,null,null,null,null,null,null,null,"Version:01"]
[null,null,null,null,null,null,null,null,null,null,null,null,null,null,null,null,null,"Page:1"]
[]
[]
[]
[]
[]
[]
[null,null,null,"A","B","C","D","E","F","M","N","O","P","I","L","K","J","G","H"]
[null,"Machine",null,"SST16","SB16","BIGLIA 301 SM","BIGLIA 42 S2M bitourelle","L32","TSUGAMI","MORI SEIKI 3 axes","MORI SEIKI 5 axes","HARDING","KITAMURA","MULTIBROCHE","NAKAMURA","TOUR WEILER"]
[null,"Référence",null,"T-RB400","BAG ACI 10.2X12.9","M018-28-29-32-CP2","I081-95-CP9","M018-28-29-32-CP1","S3SD14632","20133-C4"," - ","PIG 50 SE- harding ","J0090","MPS000300","G018","VS-TC-10-12","18*27*43","68.0814","I110-01-004"]
[null,"Désignation",null,"RIVET TRB400 maj-c","BAGUE ACIER Ø10.2*12.9 maj-c","BAGUE EN LAITON AXE RESSORT NM+AM OM40","CHEMISE DU BOITIER TFR","BAGUE EN ACIER AXE RESSORT  NM+AM OM40","BUTEE-d9 MAJ C","S4-V09 PH4","Arrêt","PIGNON PLATEAU SIMPLE ETAGE D50 - contournage dents ","USINAGE PROFIL CPF PROP 1000 CYCLES ","raccord HEX 17","GOUJON M12*1.5 L=49","VIS TC 10*12(C10)","Bague aliminium 18*27*43 par chute","Buse droite à collerette Ø8","INSERT LEVIER SURMOULEE 345833-01-sb16c"]
[null,"Compteur 8h ",null,14820,0,220,0,1032,107128,0,0,4,336,0,39,100,171,300,6830]
[null,"Compteur 17h",null,16550,753,956,266,1413,108780,0,0,10,513,null,186,503,414,1020,7452]
[null,"Enregistrement","9h"]
[null,null,"16h"]
[null,"Identification"]
[null,"Propreté des tables de contrôle"]
[null,"Rangement des outils de contrôle"]
[null,"Existance de l'OF"]
[null,"Affutage",null,null,null,null,null,null,null,null,null,null,null,null,null,null,null,null,null,{"$f":"+COUNTA(D24:S24)","v":0}]
[null,"Maintenance"]
[null,"Nombre des NC poubelle "]
[null,"Nombre des NC à retoucher"]
[null,"Machine pour retouche"]
[null,"Panne"]
[null,"Cout pièces de rechange",null,null,null,null,null,null,null,null,null,null,null,null,null,null,null,null,null,{"$f":"SUM(D30:S30)","v":0}]
[null,"prix de revient pièce",null,{"$f":"IFERROR(VLOOKUP(D14,'Prix de revient'!$A:$D,4,0),0)","v":0},{"$f":"IFERROR(VLOOKUP(E14,'Prix de revient'!$A:$D,4,0),0)","v":0},{"$f":"IFERROR(VLOOKUP(F14,'Prix de revient'!$A:$D,4,0),0)","v":0},{"$f":"IFERROR(VLOOKUP(G14,'Prix de revient'!$A:$D,4,0),0)","v":0},{"$f":"IFERROR(VLOOKUP(H14,'Prix de revient'!$A:$D,4,0),0)","v":0},{"$f":"IFERROR(VLOOKUP(I14,'Prix de revient'!$A:$D,4,0),0)","v":0},{"$f":"IFERROR(VLOOKUP(J14,'Prix de revient'!$A:$D,4,0),0)","v":0},{"$f":"IFERROR(VLOOKUP(K14,'Prix de revient'!$A:$D,4,0),0)","v":0},{"$f":"IFERROR(VLOOKUP(L14,'Prix de revient'!$A:$D,4,0),0)","v":0},{"$f":"IFERROR(VLOOKUP(M14,'Prix de revient'!$A:$D,4,0),0)","v":0},{"$f":"IFERROR(VLOOKUP(N14,'Prix de revient'!$A:$D,4,0),0)","v":0},{"$f":"IFERROR(VLOOKUP(O14,'Prix de revient'!$A:$D,4,0),0)","v":0},{"$f":"IFERROR(VLOOKUP(P14,'Prix de revient'!$A:$D,4,0),0)","v":0},{"$f":"IFERROR(VLOOKUP(Q14,'Prix de revient'!$A:$D,4,0),0)","v":0},{"$f":"IFERROR(VLOOKUP(R14,'Prix de revient'!$A:$D,4,0),0)","v":0},{"$f":"IFERROR(VLOOKUP(S14,'Prix de revient'!$A:$D,4,0),0)","v":2.1488}]
[null,"coût de rebuts",null,{"$f":"D26*D31","v":0},{"$f":"E26*E31","v":0},0,0,0,0,0,0,0,0,0,0,0,0,0,0,{"$f":"SUM(D32:S32)","v":0}]
[null,"gestion de modification"]
[]
[]
[]
[]
[]
[]
[]
[null,null,"Clients","Audit","Réclamation","Avoir",null,"Fournisseurs/ sous-traitants","Réception de matiere","Probleme qualité",null,"Les formations professionnelles","Cout","Chiffrage décliné","Actions à suivre",null,"Article qui a subit un tri","durée du tri","Nombre des pieces non-conformes","ouvrier faisant le tri","cout par tri",null,"Article qui a subit la reprise","durée de la reprise","opérateur faisant la reprise","coût de reprise",null,null,null,"Machine ","article","gamme","objet de la modification"]
[null,null,null,null,null,null,null,null,null,null,null,null,null,null,null,null,null,null,null,null,{"$f":"IF(R42=\"\",\"\",R42*VLOOKUP(T42,'cout opérateur machines'!A1:B8,2,0))","v":""},null,null,null,null,{"$f":"X42*8","v":0}]
[null,null,null,null,null,null,null,null,null,null,null,null,null,null,null,null,null,null,null,null,{"$f":"IF(R43=\"\",\"\",R43*VLOOKUP(T43,'cout opérateur machines'!A2:B9,2,0))","v":""},null,null,null,null,{"$f":"X43*8","v":0}]
[null,null,null,null,null,null,null,null,null,null,null,null,null,null,null,null,null,null,null,null,{"$f":"IF(R44=\"\",\"\",R44*VLOOKUP(T44,'cout opérateur machines'!A3:B10,2,0))","v":""},null,null,null,null,0]
[null,null,null,null,null,null,null,null,null,null,null,null,null,null,null,null,null,null,null,null,{"$f":"IF(R45=\"\",\"\",R45*VLOOKUP(T45,'cout opérateur machines'!A4:B11,2,0))","v":""},null,null,null,null,0]
[null,null,null,null,null,null,null,null,null,null,null,null,null,null,null,null,null,null,null,null,{"$f":"IF(R46=\"\",\"\",R46*VLOOKUP(T46,'cout opérateur machines'!A5:B12,2,0))","v":""},null,null,null,null,0]
[null,null,null,null,null,null,null,null,null,null,null,null,null,null,null,null,null,null,null,null,{"$f":"IF(R47=\"\",\"\",R47*VLOOKUP(T47,'cout opérateur machines'!A6:B13,2,0))","v":""},null,null,null,null,0]
[null,null,null,null,{"$f":"COUNTA(E42:E47)","v":0},{"$f":"SUM(F42:F47)","v":0},null,null,null,null,null,null,{"$f":"SUM(M42:M47)","v":0},"causes de refus",null,null,null,null,"cout total du jour",null,{"$f":"SUM(U42:U47)","v":0},null,null,null,null,0]
[null,null,null,null,null,null,null,"envoi des réclamations F/ S-T","réponse F/ S-T","alerte",null,null,null,null,null,null,null,null,null,null,null,null,null,null,null,{"$f":"SUM(Z42:Z48)","v":0}]
[null,null,"dans le cas d'une réclamation",null,null,null,null,null,null,{"$f":"IF(J42=\"\",\"\",IF(H50=0,\" réclamation non traitée\",IF(I50=0, \"veuillez contacter le F/ S-T par téléphone\",\"\")))","v":""},null,null,null,null,null,null,null,null,"N° mois",null,2]
[null,null,"nombre de pièces NC",null,null,null,null,null,null,{"$f":"IF(J43=\"\",\"\",IF(H51=0,\" réclamation non traitée\",IF(I51=0, \"veuillez contacter le F/ S-T par téléphone\",\"\")))","v":""}]
[null,null,"nombre de pièces par carton",null,null,null,null,null,null,""]
[null,null,"coût de transport par carton",null,null,null,null,null,null,""]
[null,null,"nombre de cartons renvoyés",null,null,null,null,null,null,""]
[null,null,"temps de tri",null,null,null,null,null,null,""]
[null,null,"coût horaire de tri"]
[null,null,"temps de retouche"]
[null,null,"coût horaire de retouche"]
[null,null,"temps de traitement de la réclamation"]
[null,null,"coût horaire de traitement"]
[null,null,"coût total",{"$f":"IFERROR(((D51/D52)*D53)+D54*D53+D55*D56+D57*D58+D59*D60,\"\")","v":""}]

{"sheet":"08-2-22","index":74,"n_rows":61,"n_cols":33,"rows_kept":61,"cut":false,"hidden":false,"merged":[[31,1,31,2],[32,1,32,2],[47,18,47,19],[49,18,49,19],[25,1,25,2],[26,1,26,2],[27,1,27,2],[28,1,28,2],[29,1,29,2],[30,1,30,2],[24,1,24,2],[12,1,12,2],[13,1,13,2],[14,1,14,2],[15,1,15,2],[16,1,16,2],[17,1,18,1],[19,1,19,2],[20,1,20,2],[21,1,21,2],[22,1,22,2],[23,1,23,2],[1,2,4,3],[1,4,4,16],[1,17,1,19],[1,21,1,23],[2,17,2,19],[2,21,2,23],[3,17,3,19],[3,21,3,23],[4,17,4,19],[4,21,4,23]]}
[]
[null,null,null,null,"Rapport journalier",null,null,null,null,null,null,null,null,null,null,null,null,"Code:DAS-SMQ-24"]
[null,null,null,null,null,null,null,null,null,null,null,null,null,null,null,null,null,"Date: 27/12/2019"]
[null,null,null,null,null,null,null,null,null,null,null,null,null,null,null,null,null,"Version:01"]
[null,null,null,null,null,null,null,null,null,null,null,null,null,null,null,null,null,"Page:1"]
[]
[]
[]
[]
[]
[]
[null,null,null,"A","B","C","D","E","F","M","N","O","P","I","L","K","J","G","H"]
[null,"Machine",null,"SST16","SB16","BIGLIA 301 SM","BIGLIA 42 S2M bitourelle","L32","TSUGAMI","MORI SEIKI 3 axes","MORI SEIKI 5 axes","HARDING","KITAMURA","MULTIBROCHE","NAKAMURA","TOUR WEILER"]
[null,"Référence",null,"T-RB400","AXE-ACI 10.2X41.3","M018-28-29-32-CP2",35133801,"M018-28-29-32-CP1","S3SD14632","20133-C4"," - ","PIG 50 SE- harding ","J0090","MPS000300","G018","VS-TC-10-12","18*27*43","68.0814","I110-01-004"]
[null,"Désignation",null,"RIVET TRB400 maj-c","Axe acier 10.2*41.3","BAGUE EN LAITON AXE RESSORT NM+AM OM40","QAB 14*18-D16 NLD","BAGUE EN ACIER AXE RESSORT  NM+AM OM40","BUTEE-d9 MAJ C","S4-V09 PH4","Arrêt","PIGNON PLATEAU SIMPLE ETAGE D50 - contournage dents ","USINAGE PROFIL CPF PROP 1000 CYCLES ","raccord HEX 17","GOUJON M12*1.5 L=49","VIS TC 10*12(C10)","Bague aliminium 18*27*43 par chute","Buse droite à collerette Ø8","INSERT LEVIER SURMOULEE 345833-01-sb16c"]
[null,"Compteur 8h ",null,13187,4234,44,0,722,105400,0,0,0,216,0,0,0,0,0,6153]
[null,"Compteur 17h",null,14820,5368,220,0,1032,107128,0,0,4,336,0,39,100,171,300,6830]
[null,"Enregistrement","9h"]
[null,null,"16h"]
[null,"Identification"]
[null,"Propreté des tables de contrôle"]
[null,"Rangement des outils de contrôle"]
[null,"Existance de l'OF"]
[null,"Affutage",null,null,null,null,null,null,null,null,null,null,null,null,null,null,null,null,null,{"$f":"+COUNTA(D24:S24)","v":0}]
[null,"Maintenance"]
[null,"Nombre des NC poubelle "]
[null,"Nombre des NC à retoucher"]
[null,"Machine pour retouche"]
[null,"Panne"]
[null,"Cout pièces de rechange",null,null,null,null,null,null,null,null,null,null,null,null,null,null,null,null,null,{"$f":"SUM(D30:S30)","v":0}]
[null,"prix de revient pièce",null,{"$f":"IFERROR(VLOOKUP(D14,'Prix de revient'!$A:$D,4,0),0)","v":0},{"$f":"IFERROR(VLOOKUP(E14,'Prix de revient'!$A:$D,4,0),0)","v":0},{"$f":"IFERROR(VLOOKUP(F14,'Prix de revient'!$A:$D,4,0),0)","v":0},{"$f":"IFERROR(VLOOKUP(G14,'Prix de revient'!$A:$D,4,0),0)","v":1.2640000000000002},{"$f":"IFERROR(VLOOKUP(H14,'Prix de revient'!$A:$D,4,0),0)","v":0},{"$f":"IFERROR(VLOOKUP(I14,'Prix de revient'!$A:$D,4,0),0)","v":0},{"$f":"IFERROR(VLOOKUP(J14,'Prix de revient'!$A:$D,4,0),0)","v":0},{"$f":"IFERROR(VLOOKUP(K14,'Prix de revient'!$A:$D,4,0),0)","v":0},{"$f":"IFERROR(VLOOKUP(L14,'Prix de revient'!$A:$D,4,0),0)","v":0},{"$f":"IFERROR(VLOOKUP(M14,'Prix de revient'!$A:$D,4,0),0)","v":0},{"$f":"IFERROR(VLOOKUP(N14,'Prix de revient'!$A:$D,4,0),0)","v":0},{"$f":"IFERROR(VLOOKUP(O14,'Prix de revient'!$A:$D,4,0),0)","v":0},{"$f":"IFERROR(VLOOKUP(P14,'Prix de revient'!$A:$D,4,0),0)","v":0},{"$f":"IFERROR(VLOOKUP(Q14,'Prix de revient'!$A:$D,4,0),0)","v":0},{"$f":"IFERROR(VLOOKUP(R14,'Prix de revient'!$A:$D,4,0),0)","v":0},{"$f":"IFERROR(VLOOKUP(S14,'Prix de revient'!$A:$D,4,0),0)","v":2.1488}]
[null,"coût de rebuts",null,{"$f":"D26*D31","v":0},{"$f":"E26*E31","v":0},0,0,0,0,0,0,0,0,0,0,0,0,0,0,{"$f":"SUM(D32:S32)","v":0}]
[null,"gestion de modification"]
[]
[]
[]
[]
[]
[]
[]
[null,null,"Clients","Audit","Réclamation","Avoir",null,"Fournisseurs/ sous-traitants","Réception de matiere","Probleme qualité",null,"Les formations professionnelles","Cout","Chiffrage décliné","Actions à suivre",null,"Article qui a subit un tri","durée du tri","Nombre des pieces non-conformes","ouvrier faisant le tri","cout par tri",null,"Article qui a subit la reprise","durée de la reprise","opérateur faisant la reprise","coût de reprise",null,null,null,"Machine ","article","gamme","objet de la modification"]
[null,null,null,null,null,null,null,null,null,null,null,null,null,null,null,null,null,null,null,null,{"$f":"IF(R42=\"\",\"\",R42*VLOOKUP(T42,'cout opérateur machines'!A1:B8,2,0))","v":""},null,null,null,null,{"$f":"X42*8","v":0}]
[null,null,null,null,null,null,null,null,null,null,null,null,null,null,null,null,null,null,null,null,{"$f":"IF(R43=\"\",\"\",R43*VLOOKUP(T43,'cout opérateur machines'!A2:B9,2,0))","v":""},null,null,null,null,{"$f":"X43*8","v":0}]
[null,null,null,null,null,null,null,null,null,null,null,null,null,null,null,null,null,null,null,null,{"$f":"IF(R44=\"\",\"\",R44*VLOOKUP(T44,'cout opérateur machines'!A3:B10,2,0))","v":""},null,null,null,null,0]
[null,null,null,null,null,null,null,null,null,null,null,null,null,null,null,null,null,null,null,null,{"$f":"IF(R45=\"\",\"\",R45*VLOOKUP(T45,'cout opérateur machines'!A4:B11,2,0))","v":""},null,null,null,null,0]
[null,null,null,null,null,null,null,null,null,null,null,null,null,null,null,null,null,null,null,null,{"$f":"IF(R46=\"\",\"\",R46*VLOOKUP(T46,'cout opérateur machines'!A5:B12,2,0))","v":""},null,null,null,null,0]
[null,null,null,null,null,null,null,null,null,null,null,null,null,null,null,null,null,null,null,null,{"$f":"IF(R47=\"\",\"\",R47*VLOOKUP(T47,'cout opérateur machines'!A6:B13,2,0))","v":""},null,null,null,null,0]
[null,null,null,null,{"$f":"COUNTA(E42:E47)","v":0},{"$f":"SUM(F42:F47)","v":0},null,null,null,null,null,null,{"$f":"SUM(M42:M47)","v":0},"causes de refus",null,null,null,null,"cout total du jour",null,{"$f":"SUM(U42:U47)","v":0},null,null,null,null,0]
[null,null,null,null,null,null,null,"envoi des réclamations F/ S-T","réponse F/ S-T","alerte",null,null,null,null,null,null,null,null,null,null,null,null,null,null,null,{"$f":"SUM(Z42:Z48)","v":0}]
[null,null,"dans le cas d'une réclamation",null,null,null,null,null,null,{"$f":"IF(J42=\"\",\"\",IF(H50=0,\" réclamation non traitée\",IF(I50=0, \"veuillez contacter le F/ S-T par téléphone\",\"\")))","v":""},null,null,null,null,null,null,null,null,"N° mois",null,2]
[null,null,"nombre de pièces NC",null,null,null,null,null,null,{"$f":"IF(J43=\"\",\"\",IF(H51=0,\" réclamation non traitée\",IF(I51=0, \"veuillez contacter le F/ S-T par téléphone\",\"\")))","v":""}]
[null,null,"nombre de pièces par carton",null,null,null,null,null,null,""]
[null,null,"coût de transport par carton",null,null,null,null,null,null,""]
[null,null,"nombre de cartons renvoyés",null,null,null,null,null,null,""]
[null,null,"temps de tri",null,null,null,null,null,null,""]
[null,null,"coût horaire de tri"]
[null,null,"temps de retouche"]
[null,null,"coût horaire de retouche"]
[null,null,"temps de traitement de la réclamation"]
[null,null,"coût horaire de traitement"]
[null,null,"coût total",{"$f":"IFERROR(((D51/D52)*D53)+D54*D53+D55*D56+D57*D58+D59*D60,\"\")","v":""}]

{"sheet":"07-2-22","index":75,"n_rows":61,"n_cols":33,"rows_kept":61,"cut":false,"hidden":false,"merged":[[31,1,31,2],[32,1,32,2],[47,18,47,19],[49,18,49,19],[25,1,25,2],[26,1,26,2],[27,1,27,2],[28,1,28,2],[29,1,29,2],[30,1,30,2],[24,1,24,2],[12,1,12,2],[13,1,13,2],[14,1,14,2],[15,1,15,2],[16,1,16,2],[17,1,18,1],[19,1,19,2],[20,1,20,2],[21,1,21,2],[22,1,22,2],[23,1,23,2],[1,2,4,3],[1,4,4,16],[1,17,1,19],[1,21,1,23],[2,17,2,19],[2,21,2,23],[3,17,3,19],[3,21,3,23],[4,17,4,19],[4,21,4,23]]}
[]
[null,null,null,null,"Rapport journalier",null,null,null,null,null,null,null,null,null,null,null,null,"Code:DAS-SMQ-24"]
[null,null,null,null,null,null,null,null,null,null,null,null,null,null,null,null,null,"Date: 27/12/2019"]
[null,null,null,null,null,null,null,null,null,null,null,null,null,null,null,null,null,"Version:01"]
[null,null,null,null,null,null,null,null,null,null,null,null,null,null,null,null,null,"Page:1"]
[]
[]
[]
[]
[]
[]
[null,null,null,"A","B","C","D","E","F","M","N","O","P","I","L","K","J","G","H"]
[null,"Machine",null,"SST16","SB16","BIGLIA 301 SM","BIGLIA 42 S2M bitourelle","L32","TSUGAMI","MORI SEIKI 3 axes","MORI SEIKI 5 axes","HARDING","KITAMURA","MULTIBROCHE","NAKAMURA","TOUR WEILER"]
[null,"Référence",null,"T-RB400","AXE-ACI 10.2X41.3",0,35133801,"M018-28-29-32-CP1","S3SD14632","20133-C4"," - ","PIG 50 SE-mori seiki ","J0090","MPS000300","H001","I039","4-8407",68.081500000000005,"I110-01-004"]
[null,"Désignation",null,"RIVET TRB400 maj-c","Axe acier 10.2*41.3","cale serrage pour montage pignon plus grand","QAB 14*18-D16 NLD","BAGUE EN ACIER AXE RESSORT  NM+AM OM40","BUTEE-d9 MAJ C","S4-V09 PH4","Arrêt","pignon simple etage fraisage","USINAGE PROFIL CPF PROP 1000 CYCLES ","raccord HEX 17","GOUJON DE ROUE HONDA maj-c1","GOUJON DE ROUE ISUZU","Bague aliminium 14.4*27*54 par chute fini","Buse droite à collerette Ø8 M445 FRD","INSERT LEVIER SURMOULEE 345833-01-sb16c"]
[null,"Compteur 8h ",null,11322,2902,0,0,343,104955,0,0,0,100,0,5053,4593,0,14605,5415]
[null,"Compteur 17h",null,13187,4234,44,0,722,105400,16,0,0,216,0,5226,4600,240,15300,6153]
[null,"Enregistrement","9h"]
[null,null,"16h"]
[null,"Identification"]
[null,"Propreté des tables de contrôle"]
[null,"Rangement des outils de contrôle"]
[null,"Existance de l'OF"]
[null,"Affutage",null,null,null,null,null,null,null,null,null,null,null,null,null,null,null,null,null,{"$f":"+COUNTA(D24:S24)","v":0}]
[null,"Maintenance"]
[null,"Nombre des NC poubelle ",null,null,null,null,null,null,null,null,null,null,null,null,null,null,null,null,2]
[null,"Nombre des NC à retoucher"]
[null,"Machine pour retouche"]
[null,"Panne"]
[null,"Cout pièces de rechange",null,null,null,null,null,null,null,null,null,null,null,null,null,null,null,null,null,{"$f":"SUM(D30:S30)","v":0}]
[null,"prix de revient pièce",null,{"$f":"IFERROR(VLOOKUP(D14,'Prix de revient'!$A:$D,4,0),0)","v":0},{"$f":"IFERROR(VLOOKUP(E14,'Prix de revient'!$A:$D,4,0),0)","v":0},{"$f":"IFERROR(VLOOKUP(F14,'Prix de revient'!$A:$D,4,0),0)","v":0},{"$f":"IFERROR(VLOOKUP(G14,'Prix de revient'!$A:$D,4,0),0)","v":1.2640000000000002},{"$f":"IFERROR(VLOOKUP(H14,'Prix de revient'!$A:$D,4,0),0)","v":0},{"$f":"IFERROR(VLOOKUP(I14,'Prix de revient'!$A:$D,4,0),0)","v":0},{"$f":"IFERROR(VLOOKUP(J14,'Prix de revient'!$A:$D,4,0),0)","v":0},{"$f":"IFERROR(VLOOKUP(K14,'Prix de revient'!$A:$D,4,0),0)","v":0},{"$f":"IFERROR(VLOOKUP(L14,'Prix de revient'!$A:$D,4,0),0)","v":0},{"$f":"IFERROR(VLOOKUP(M14,'Prix de revient'!$A:$D,4,0),0)","v":0},{"$f":"IFERROR(VLOOKUP(N14,'Prix de revient'!$A:$D,4,0),0)","v":0},{"$f":"IFERROR(VLOOKUP(O14,'Prix de revient'!$A:$D,4,0),0)","v":0.69520000000000004},{"$f":"IFERROR(VLOOKUP(P14,'Prix de revient'!$A:$D,4,0),0)","v":0},{"$f":"IFERROR(VLOOKUP(Q14,'Prix de revient'!$A:$D,4,0),0)","v":0},{"$f":"IFERROR(VLOOKUP(R14,'Prix de revient'!$A:$D,4,0),0)","v":0},{"$f":"IFERROR(VLOOKUP(S14,'Prix de revient'!$A:$D,4,0),0)","v":2.1488}]
[null,"coût de rebuts",null,{"$f":"D26*D31","v":0},{"$f":"E26*E31","v":0},0,0,0,0,0,0,0,0,0,0,0,0,0,4.2976000000000001,{"$f":"SUM(D32:S32)","v":4.2976000000000001}]
[null,"gestion de modification"]
[]
[]
[]
[]
[]
[]
[]
[null,null,"Clients","Audit","Réclamation","Avoir",null,"Fournisseurs/ sous-traitants","Réception de matiere","Probleme qualité",null,"Les formations professionnelles","Cout","Chiffrage décliné","Actions à suivre",null,"Article qui a subit un tri","durée du tri","Nombre des pieces non-conformes","ouvrier faisant le tri","cout par tri",null,"Article qui a subit la reprise","durée de la reprise","opérateur faisant la reprise","coût de reprise",null,null,null,"Machine ","article","gamme","objet de la modification"]
[null,null,null,null,null,null,null,null,null,null,null,null,null,null,null,null,null,null,null,null,{"$f":"IF(R42=\"\",\"\",R42*VLOOKUP(T42,'cout opérateur machines'!A1:B8,2,0))","v":""},null,null,null,null,{"$f":"X42*8","v":0}]
[null,null,null,null,null,null,null,null,null,null,null,null,null,null,null,null,null,null,null,null,{"$f":"IF(R43=\"\",\"\",R43*VLOOKUP(T43,'cout opérateur machines'!A2:B9,2,0))","v":""},null,null,null,null,{"$f":"X43*8","v":0}]
[null,null,null,null,null,null,null,null,null,null,null,null,null,null,null,null,null,null,null,null,{"$f":"IF(R44=\"\",\"\",R44*VLOOKUP(T44,'cout opérateur machines'!A3:B10,2,0))","v":""},null,null,null,null,0]
[null,null,null,null,null,null,null,null,null,null,null,null,null,null,null,null,null,null,null,null,{"$f":"IF(R45=\"\",\"\",R45*VLOOKUP(T45,'cout opérateur machines'!A4:B11,2,0))","v":""},null,null,null,null,0]
[null,null,null,null,null,null,null,null,null,null,null,null,null,null,null,null,null,null,null,null,{"$f":"IF(R46=\"\",\"\",R46*VLOOKUP(T46,'cout opérateur machines'!A5:B12,2,0))","v":""},null,null,null,null,0]
[null,null,null,null,null,null,null,null,null,null,null,null,null,null,null,null,null,null,null,null,{"$f":"IF(R47=\"\",\"\",R47*VLOOKUP(T47,'cout opérateur machines'!A6:B13,2,0))","v":""},null,null,null,null,0]
[null,null,null,null,{"$f":"COUNTA(E42:E47)","v":0},{"$f":"SUM(F42:F47)","v":0},null,null,null,null,null,null,{"$f":"SUM(M42:M47)","v":0},"causes de refus",null,null,null,null,"cout total du jour",null,{"$f":"SUM(U42:U47)","v":0},null,null,null,null,0]
[null,null,null,null,null,null,null,"envoi des réclamations F/ S-T","réponse F/ S-T","alerte",null,null,null,null,null,null,null,null,null,null,null,null,null,null,null,{"$f":"SUM(Z42:Z48)","v":0}]
[null,null,"dans le cas d'une réclamation",null,null,null,null,null,null,{"$f":"IF(J42=\"\",\"\",IF(H50=0,\" réclamation non traitée\",IF(I50=0, \"veuillez contacter le F/ S-T par téléphone\",\"\")))","v":""},null,null,null,null,null,null,null,null,"N° mois",null,2]
[null,null,"nombre de pièces NC",null,null,null,null,null,null,{"$f":"IF(J43=\"\",\"\",IF(H51=0,\" réclamation non traitée\",IF(I51=0, \"veuillez contacter le F/ S-T par téléphone\",\"\")))","v":""}]
[null,null,"nombre de pièces par carton",null,null,null,null,null,null,""]
[null,null,"coût de transport par carton",null,null,null,null,null,null,""]
[null,null,"nombre de cartons renvoyés",null,null,null,null,null,null,""]
[null,null,"temps de tri",null,null,null,null,null,null,""]
[null,null,"coût horaire de tri"]
[null,null,"temps de retouche"]
[null,null,"coût horaire de retouche"]
[null,null,"temps de traitement de la réclamation"]
[null,null,"coût horaire de traitement"]
[null,null,"coût total",{"$f":"IFERROR(((D51/D52)*D53)+D54*D53+D55*D56+D57*D58+D59*D60,\"\")","v":""}]

{"sheet":"05-2-22","index":76,"n_rows":61,"n_cols":33,"rows_kept":61,"cut":false,"hidden":false,"merged":[[31,1,31,2],[32,1,32,2],[47,18,47,19],[49,18,49,19],[25,1,25,2],[26,1,26,2],[27,1,27,2],[28,1,28,2],[29,1,29,2],[30,1,30,2],[24,1,24,2],[12,1,12,2],[13,1,13,2],[14,1,14,2],[15,1,15,2],[16,1,16,2],[17,1,18,1],[19,1,19,2],[20,1,20,2],[21,1,21,2],[22,1,22,2],[23,1,23,2],[1,2,4,3],[1,4,4,16],[1,17,1,19],[1,21,1,23],[2,17,2,19],[2,21,2,23],[3,17,3,19],[3,21,3,23],[4,17,4,19],[4,21,4,23]]}
[]
[null,null,null,null,"Rapport journalier",null,null,null,null,null,null,null,null,null,null,null,null,"Code:DAS-SMQ-24"]
[null,null,null,null,null,null,null,null,null,null,null,null,null,null,null,null,null,"Date: 27/12/2019"]
[null,null,null,null,null,null,null,null,null,null,null,null,null,null,null,null,null,"Version:01"]
[null,null,null,null,null,null,null,null,null,null,null,null,null,null,null,null,null,"Page:1"]
[]
[]
[]
[]
[]
[]
[null,null,null,"A","B","C","D","E","F","M","N","O","P","I","L","K","J","G","H"]
[null,"Machine",null,"SST16","SB16","BIGLIA 301 SM","BIGLIA 42 S2M bitourelle","L32","TSUGAMI","MORI SEIKI 3 axes","MORI SEIKI 5 axes","HARDING","KITAMURA","MULTIBROCHE","NAKAMURA","TOUR WEILER"]
[null,"Référence",null,"T-RB400","AXE-ACI 10.2X41.3",0,35133801,"M018-28-29-32-CP1","S3SD14632","20133-C3"," - ","PIG 50 SE-mori seiki ","J0090","MPS000300","H001","I039","18*27*43 par chute",68.081500000000005,"I110-01-004"]
[null,"Désignation",null,"RIVET TRB400","Axe acier 10.2*41.3","cale serrage pour montage pignon","QAB 14*18-D16 NLD","BAGUE EN ACIER AXE RESSORT  NM+AM OM40","BUTEE-d9 MAJ C","S4-V09 PH3","Arrêt","pignon simple etage fraisage","USINAGE PROFIL CPF PROP 1000 CYCLES ","raccord HEX 17","GOUJON DE ROUE HONDA maj-c1","GOUJON DE ROUE ISUZU","BAGUE ALU 18*27*43 maj-c","Buse droite à collerette Ø8 M445 FRD","INSERT LEVIER SURMOULEE 345833-01-sb16c"]
[null,"Compteur 8h ",null,10545,2311,0,0,190,104095,22,0,0,12,0,4948,4448,224,14350,5060]
[null,"Compteur 17h",null,11322,2902,46,0,343,104955,31,0,0,100,0,5053,4593,678,14605,5415]
[null,"Enregistrement","9h"]
[null,null,"16h"]
[null,"Identification"]
[null,"Propreté des tables de contrôle"]
[null,"Rangement des outils de contrôle"]
[null,"Existance de l'OF"]
[null,"Affutage",null,null,null,null,null,null,null,null,null,null,null,null,null,null,null,null,null,{"$f":"+COUNTA(D24:S24)","v":0}]
[null,"Maintenance"]
[null,"Nombre des NC poubelle "]
[null,"Nombre des NC à retoucher"]
[null,"Machine pour retouche"]
[null,"Panne"]
[null,"Cout pièces de rechange",null,null,null,null,null,null,null,null,null,null,null,null,null,null,null,null,null,{"$f":"SUM(D30:S30)","v":0}]
[null,"prix de revient pièce",null,{"$f":"IFERROR(VLOOKUP(D14,'Prix de revient'!$A:$D,4,0),0)","v":0},{"$f":"IFERROR(VLOOKUP(E14,'Prix de revient'!$A:$D,4,0),0)","v":0},{"$f":"IFERROR(VLOOKUP(F14,'Prix de revient'!$A:$D,4,0),0)","v":0},{"$f":"IFERROR(VLOOKUP(G14,'Prix de revient'!$A:$D,4,0),0)","v":1.2640000000000002},{"$f":"IFERROR(VLOOKUP(H14,'Prix de revient'!$A:$D,4,0),0)","v":0},{"$f":"IFERROR(VLOOKUP(I14,'Prix de revient'!$A:$D,4,0),0)","v":0},{"$f":"IFERROR(VLOOKUP(J14,'Prix de revient'!$A:$D,4,0),0)","v":0},{"$f":"IFERROR(VLOOKUP(K14,'Prix de revient'!$A:$D,4,0),0)","v":0},{"$f":"IFERROR(VLOOKUP(L14,'Prix de revient'!$A:$D,4,0),0)","v":0},{"$f":"IFERROR(VLOOKUP(M14,'Prix de revient'!$A:$D,4,0),0)","v":0},{"$f":"IFERROR(VLOOKUP(N14,'Prix de revient'!$A:$D,4,0),0)","v":0},{"$f":"IFERROR(VLOOKUP(O14,'Prix de revient'!$A:$D,4,0),0)","v":0.69520000000000004},{"$f":"IFERROR(VLOOKUP(P14,'Prix de revient'!$A:$D,4,0),0)","v":0},{"$f":"IFERROR(VLOOKUP(Q14,'Prix de revient'!$A:$D,4,0),0)","v":0},{"$f":"IFERROR(VLOOKUP(R14,'Prix de revient'!$A:$D,4,0),0)","v":0},{"$f":"IFERROR(VLOOKUP(S14,'Prix de revient'!$A:$D,4,0),0)","v":2.1488}]
[null,"coût de rebuts",null,{"$f":"D26*D31","v":0},{"$f":"E26*E31","v":0},0,0,0,0,0,0,0,0,0,0,0,0,0,0,{"$f":"SUM(D32:S32)","v":0}]
[null,"gestion de modification"]
[]
[]
[]
[]
[]
[]
[]
[null,null,"Clients","Audit","Réclamation","Avoir",null,"Fournisseurs/ sous-traitants","Réception de matiere","Probleme qualité",null,"Les formations professionnelles","Cout","Chiffrage décliné","Actions à suivre",null,"Article qui a subit un tri","durée du tri","Nombre des pieces non-conformes","ouvrier faisant le tri","cout par tri",null,"Article qui a subit la reprise","durée de la reprise","opérateur faisant la reprise","coût de reprise",null,null,null,"Machine ","article","gamme","objet de la modification"]
[null,null,null,null,null,null,null,null,null,null,null,null,null,null,null,null,null,null,null,null,{"$f":"IF(R42=\"\",\"\",R42*VLOOKUP(T42,'cout opérateur machines'!A1:B8,2,0))","v":""},null,null,null,null,{"$f":"X42*8","v":0}]
[null,null,null,null,null,null,null,null,null,null,null,null,null,null,null,null,null,null,null,null,{"$f":"IF(R43=\"\",\"\",R43*VLOOKUP(T43,'cout opérateur machines'!A2:B9,2,0))","v":""},null,null,null,null,{"$f":"X43*8","v":0}]
[null,null,null,null,null,null,null,null,null,null,null,null,null,null,null,null,null,null,null,null,{"$f":"IF(R44=\"\",\"\",R44*VLOOKUP(T44,'cout opérateur machines'!A3:B10,2,0))","v":""},null,null,null,null,0]
[null,null,null,null,null,null,null,null,null,null,null,null,null,null,null,null,null,null,null,null,{"$f":"IF(R45=\"\",\"\",R45*VLOOKUP(T45,'cout opérateur machines'!A4:B11,2,0))","v":""},null,null,null,null,0]
[null,null,null,null,null,null,null,null,null,null,null,null,null,null,null,null,null,null,null,null,{"$f":"IF(R46=\"\",\"\",R46*VLOOKUP(T46,'cout opérateur machines'!A5:B12,2,0))","v":""},null,null,null,null,0]
[null,null,null,null,null,null,null,null,null,null,null,null,null,null,null,null,null,null,null,null,{"$f":"IF(R47=\"\",\"\",R47*VLOOKUP(T47,'cout opérateur machines'!A6:B13,2,0))","v":""},null,null,null,null,0]
[null,null,null,null,{"$f":"COUNTA(E42:E47)","v":0},{"$f":"SUM(F42:F47)","v":0},null,null,null,null,null,null,{"$f":"SUM(M42:M47)","v":0},"causes de refus",null,null,null,null,"cout total du jour",null,{"$f":"SUM(U42:U47)","v":0},null,null,null,null,0]
[null,null,null,null,null,null,null,"envoi des réclamations F/ S-T","réponse F/ S-T","alerte",null,null,null,null,null,null,null,null,null,null,null,null,null,null,null,{"$f":"SUM(Z42:Z48)","v":0}]
[null,null,"dans le cas d'une réclamation",null,null,null,null,null,null,{"$f":"IF(J42=\"\",\"\",IF(H50=0,\" réclamation non traitée\",IF(I50=0, \"veuillez contacter le F/ S-T par téléphone\",\"\")))","v":""},null,null,null,null,null,null,null,null,"N° mois",null,2]
[null,null,"nombre de pièces NC",null,null,null,null,null,null,{"$f":"IF(J43=\"\",\"\",IF(H51=0,\" réclamation non traitée\",IF(I51=0, \"veuillez contacter le F/ S-T par téléphone\",\"\")))","v":""}]
[null,null,"nombre de pièces par carton",null,null,null,null,null,null,""]
[null,null,"coût de transport par carton",null,null,null,null,null,null,""]
[null,null,"nombre de cartons renvoyés",null,null,null,null,null,null,""]
[null,null,"temps de tri",null,null,null,null,null,null,""]
[null,null,"coût horaire de tri"]
[null,null,"temps de retouche"]
[null,null,"coût horaire de retouche"]
[null,null,"temps de traitement de la réclamation"]
[null,null,"coût horaire de traitement"]
[null,null,"coût total",{"$f":"IFERROR(((D51/D52)*D53)+D54*D53+D55*D56+D57*D58+D59*D60,\"\")","v":""}]

{"sheet":"04-2-22","index":77,"n_rows":61,"n_cols":33,"rows_kept":61,"cut":false,"hidden":false,"merged":[[31,1,31,2],[32,1,32,2],[47,18,47,19],[49,18,49,19],[25,1,25,2],[26,1,26,2],[27,1,27,2],[28,1,28,2],[29,1,29,2],[30,1,30,2],[24,1,24,2],[12,1,12,2],[13,1,13,2],[14,1,14,2],[15,1,15,2],[16,1,16,2],[17,1,18,1],[19,1,19,2],[20,1,20,2],[21,1,21,2],[22,1,22,2],[23,1,23,2],[1,2,4,3],[1,4,4,16],[1,17,1,19],[1,21,1,23],[2,17,2,19],[2,21,2,23],[3,17,3,19],[3,21,3,23],[4,17,4,19],[4,21,4,23]]}
[]
[null,null,null,null,"Rapport journalier",null,null,null,null,null,null,null,null,null,null,null,null,"Code:DAS-SMQ-24"]
[null,null,null,null,null,null,null,null,null,null,null,null,null,null,null,null,null,"Date: 27/12/2019"]
[null,null,null,null,null,null,null,null,null,null,null,null,null,null,null,null,null,"Version:01"]
[null,null,null,null,null,null,null,null,null,null,null,null,null,null,null,null,null,"Page:1"]
[]
[]
[]
[]
[]
[]
[null,null,null,"A","B","C","D","E","F","M","N","O","P","I","L","K","J","G","H"]
[null,"Machine",null,"SST16","SB16","BIGLIA 301 SM","BIGLIA 42 S2M bitourelle","L32","TSUGAMI","MORI SEIKI 3 axes","MORI SEIKI 5 axes","HARDING","KITAMURA","MULTIBROCHE","NAKAMURA","TOUR WEILER"]
[null,"Référence",null,"T-RB400","AXE-ACI 10.2X41.3",512520,35133801,"M018-28-29-32-CP1","S3SD14632","20133-C3"," - ","PIG 50 SE-mori seiki ","J0090","MPS000300","H001","I039","18*27*43 par chute",68.081500000000005,"I110-01-004"]
[null,"Désignation",null,"RIVET TRB400","Axe acier 10.2*41.3","INSERTO MANOPOLA INOX M8-","QAB 14*18-D16 NLD","BAGUE EN ACIER AXE RESSORT  NM+AM OM40","BUTEE-d9 MAJ C","S4-V09 PH3","Arrêt","pignon simple etage fraisage","USINAGE PROFIL CPF PROP 1000 CYCLES ","raccord HEX 17","GOUJON DE ROUE HONDA maj-c1","GOUJON DE ROUE ISUZU","BAGUE ALU 18*27*43 maj c","Buse droite à collerette Ø8 M445 FRD","INSERT LEVIER SURMOULEE 345833-01-sb16c"]
[null,"Compteur 8h ",null,8856,1031,0,0,0,102260,0,0,251,0,0,4773,4264,0,13893,4348]
[null,"Compteur 17h",null,10545,2311,0,0,190,104095,22,0,266,12,0,4948,4448,224,14350,5060]
[null,"Enregistrement","9h"]
[null,null,"16h"]
[null,"Identification"]
[null,"Propreté des tables de contrôle"]
[null,"Rangement des outils de contrôle"]
[null,"Existance de l'OF"]
[null,"Affutage",null,null,null,null,null,null,null,null,null,null,null,null,null,null,null,null,null,{"$f":"+COUNTA(D24:S24)","v":0}]
[null,"Maintenance"]
[null,"Nombre des NC poubelle "]
[null,"Nombre des NC à retoucher"]
[null,"Machine pour retouche"]
[null,"Panne"]
[null,"Cout pièces de rechange",null,null,null,null,null,null,null,null,null,null,null,null,null,null,null,null,null,{"$f":"SUM(D30:S30)","v":0}]
[null,"prix de revient pièce",null,{"$f":"IFERROR(VLOOKUP(D14,'Prix de revient'!$A:$D,4,0),0)","v":0},{"$f":"IFERROR(VLOOKUP(E14,'Prix de revient'!$A:$D,4,0),0)","v":0},{"$f":"IFERROR(VLOOKUP(F14,'Prix de revient'!$A:$D,4,0),0)","v":1.2482000000000002},{"$f":"IFERROR(VLOOKUP(G14,'Prix de revient'!$A:$D,4,0),0)","v":1.2640000000000002},{"$f":"IFERROR(VLOOKUP(H14,'Prix de revient'!$A:$D,4,0),0)","v":0},{"$f":"IFERROR(VLOOKUP(I14,'Prix de revient'!$A:$D,4,0),0)","v":0},{"$f":"IFERROR(VLOOKUP(J14,'Prix de revient'!$A:$D,4,0),0)","v":0},{"$f":"IFERROR(VLOOKUP(K14,'Prix de revient'!$A:$D,4,0),0)","v":0},{"$f":"IFERROR(VLOOKUP(L14,'Prix de revient'!$A:$D,4,0),0)","v":0},{"$f":"IFERROR(VLOOKUP(M14,'Prix de revient'!$A:$D,4,0),0)","v":0},{"$f":"IFERROR(VLOOKUP(N14,'Prix de revient'!$A:$D,4,0),0)","v":0},{"$f":"IFERROR(VLOOKUP(O14,'Prix de revient'!$A:$D,4,0),0)","v":0.69520000000000004},{"$f":"IFERROR(VLOOKUP(P14,'Prix de revient'!$A:$D,4,0),0)","v":0},{"$f":"IFERROR(VLOOKUP(Q14,'Prix de revient'!$A:$D,4,0),0)","v":0},{"$f":"IFERROR(VLOOKUP(R14,'Prix de revient'!$A:$D,4,0),0)","v":0},{"$f":"IFERROR(VLOOKUP(S14,'Prix de revient'!$A:$D,4,0),0)","v":2.1488}]
[null,"coût de rebuts",null,{"$f":"D26*D31","v":0},{"$f":"E26*E31","v":0},0,0,0,0,0,0,0,0,0,0,0,0,0,0,{"$f":"SUM(D32:S32)","v":0}]
[null,"gestion de modification"]
[]
[]
[]
[]
[]
[]
[]
[null,null,"Clients","Audit","Réclamation","Avoir",null,"Fournisseurs/ sous-traitants","Réception de matiere","Probleme qualité",null,"Les formations professionnelles","Cout","Chiffrage décliné","Actions à suivre",null,"Article qui a subit un tri","durée du tri","Nombre des pieces non-conformes","ouvrier faisant le tri","cout par tri",null,"Article qui a subit la reprise","durée de la reprise","opérateur faisant la reprise","coût de reprise",null,null,null,"Machine ","article","gamme","objet de la modification"]
[null,null,null,null,null,null,null,null,null,null,null,null,null,null,null,null,null,null,null,null,{"$f":"IF(R42=\"\",\"\",R42*VLOOKUP(T42,'cout opérateur machines'!A1:B8,2,0))","v":""},null,null,null,null,{"$f":"X42*8","v":0}]
[null,null,null,null,null,null,null,null,null,null,null,null,null,null,null,null,null,null,null,null,{"$f":"IF(R43=\"\",\"\",R43*VLOOKUP(T43,'cout opérateur machines'!A2:B9,2,0))","v":""},null,null,null,null,{"$f":"X43*8","v":0}]
[null,null,null,null,null,null,null,null,null,null,null,null,null,null,null,null,null,null,null,null,{"$f":"IF(R44=\"\",\"\",R44*VLOOKUP(T44,'cout opérateur machines'!A3:B10,2,0))","v":""},null,null,null,null,0]
[null,null,null,null,null,null,null,null,null,null,null,null,null,null,null,null,null,null,null,null,{"$f":"IF(R45=\"\",\"\",R45*VLOOKUP(T45,'cout opérateur machines'!A4:B11,2,0))","v":""},null,null,null,null,0]
[null,null,null,null,null,null,null,null,null,null,null,null,null,null,null,null,null,null,null,null,{"$f":"IF(R46=\"\",\"\",R46*VLOOKUP(T46,'cout opérateur machines'!A5:B12,2,0))","v":""},null,null,null,null,0]
[null,null,null,null,null,null,null,null,null,null,null,null,null,null,null,null,null,null,null,null,{"$f":"IF(R47=\"\",\"\",R47*VLOOKUP(T47,'cout opérateur machines'!A6:B13,2,0))","v":""},null,null,null,null,0]
[null,null,null,null,{"$f":"COUNTA(E42:E47)","v":0},{"$f":"SUM(F42:F47)","v":0},null,null,null,null,null,null,{"$f":"SUM(M42:M47)","v":0},"causes de refus",null,null,null,null,"cout total du jour",null,{"$f":"SUM(U42:U47)","v":0},null,null,null,null,0]
[null,null,null,null,null,null,null,"envoi des réclamations F/ S-T","réponse F/ S-T","alerte",null,null,null,null,null,null,null,null,null,null,null,null,null,null,null,{"$f":"SUM(Z42:Z48)","v":0}]
[null,null,"dans le cas d'une réclamation",null,null,null,null,null,null,{"$f":"IF(J42=\"\",\"\",IF(H50=0,\" réclamation non traitée\",IF(I50=0, \"veuillez contacter le F/ S-T par téléphone\",\"\")))","v":""},null,null,null,null,null,null,null,null,"N° mois",null,2]
[null,null,"nombre de pièces NC",null,null,null,null,null,null,{"$f":"IF(J43=\"\",\"\",IF(H51=0,\" réclamation non traitée\",IF(I51=0, \"veuillez contacter le F/ S-T par téléphone\",\"\")))","v":""}]
[null,null,"nombre de pièces par carton",null,null,null,null,null,null,""]
[null,null,"coût de transport par carton",null,null,null,null,null,null,""]
[null,null,"nombre de cartons renvoyés",null,null,null,null,null,null,""]
[null,null,"temps de tri",null,null,null,null,null,null,""]
[null,null,"coût horaire de tri"]
[null,null,"temps de retouche"]
[null,null,"coût horaire de retouche"]
[null,null,"temps de traitement de la réclamation"]
[null,null,"coût horaire de traitement"]
[null,null,"coût total",{"$f":"IFERROR(((D51/D52)*D53)+D54*D53+D55*D56+D57*D58+D59*D60,\"\")","v":""}]

{"sheet":"03-3-22","index":78,"n_rows":61,"n_cols":33,"rows_kept":61,"cut":false,"hidden":false,"merged":[[31,1,31,2],[32,1,32,2],[47,18,47,19],[49,18,49,19],[25,1,25,2],[26,1,26,2],[27,1,27,2],[28,1,28,2],[29,1,29,2],[30,1,30,2],[24,1,24,2],[12,1,12,2],[13,1,13,2],[14,1,14,2],[15,1,15,2],[16,1,16,2],[17,1,18,1],[19,1,19,2],[20,1,20,2],[21,1,21,2],[22,1,22,2],[23,1,23,2],[1,2,4,3],[1,4,4,16],[1,17,1,19],[1,21,1,23],[2,17,2,19],[2,21,2,23],[3,17,3,19],[3,21,3,23],[4,17,4,19],[4,21,4,23]]}
[]
[null,null,null,null,"Rapport journalier",null,null,null,null,null,null,null,null,null,null,null,null,"Code:DAS-SMQ-24"]
[null,null,null,null,null,null,null,null,null,null,null,null,null,null,null,null,null,"Date: 27/12/2019"]
[null,null,null,null,null,null,null,null,null,null,null,null,null,null,null,null,null,"Version:01"]
[null,null,null,null,null,null,null,null,null,null,null,null,null,null,null,null,null,"Page:1"]
[]
[]
[]
[]
[]
[]
[null,null,null,"A","B","C","D","E","F","M","N","O","P","I","L","K","J","G","H"]
[null,"Machine",null,"SST16","SB16","BIGLIA 301 SM","BIGLIA 42 S2M bitourelle","L32","TSUGAMI","MORI SEIKI 3 axes","MORI SEIKI 5 axes","HARDING","KITAMURA","MULTIBROCHE","NAKAMURA","TOUR WEILER"]
[null,"Référence",null,"T-RB400","AXE-ACI 10.2X41.3",512520,35133801,"2018101-01-02","S3SD14632","20133-C3"," - ","PIG 50 SE-mori seiki ",9630,"MPS000300","H001","I039","14.4*27*40",68.081500000000005,"I110-01-004"]
[null,"Désignation",null,"RIVET TRB400","Axe acier 10.2*41.3","INSERTO MANOPOLA INOX M8-","QAB 14*18-D16 NLD","Axe femelle M8*50","BUTEE-d9 MAJ C","S4-v09 PH2","Arrêt","pignon simple etage fraisage","Usinage Borne T030 jan2022","raccord HEX 17","GOUJON DE ROUE HONDA maj-c1","GOUJON DE ROUE ISUZU","Bague aliminium 14.4*27*40 par chute","Buse droite à collerette Ø8 M445 FRD","INSERT LEVIER SURMOULEE 345833-01-sb16c"]
[null,"Compteur 8h ",null,7211,0,5100,0,0,100298,0,0,238,4007,0,4621,4044,0,13385,3685]
[null,"Compteur 17h",null,8856,1031,5730,0,0,102260,24,0,251,4263,0,4773,4264,187,13893,4348]
[null,"Enregistrement","9h"]
[null,null,"16h"]
[null,"Identification"]
[null,"Propreté des tables de contrôle"]
[null,"Rangement des outils de contrôle"]
[null,"Existance de l'OF"]
[null,"Affutage",null,null,null,null,null,null,null,null,null,null,null,null,null,null,null,null,null,{"$f":"+COUNTA(D24:S24)","v":0}]
[null,"Maintenance"]
[null,"Nombre des NC poubelle ",null,1,null,1,null,null,null,null,null,null,null,null,null,null,null,13]
[null,"Nombre des NC à retoucher"]
[null,"Machine pour retouche"]
[null,"Panne"]
[null,"Cout pièces de rechange",null,null,null,null,null,null,null,null,null,null,null,null,null,null,null,null,null,{"$f":"SUM(D30:S30)","v":0}]
[null,"prix de revient pièce",null,{"$f":"IFERROR(VLOOKUP(D14,'Prix de revient'!$A:$D,4,0),0)","v":0},{"$f":"IFERROR(VLOOKUP(E14,'Prix de revient'!$A:$D,4,0),0)","v":0},{"$f":"IFERROR(VLOOKUP(F14,'Prix de revient'!$A:$D,4,0),0)","v":1.2482000000000002},{"$f":"IFERROR(VLOOKUP(G14,'Prix de revient'!$A:$D,4,0),0)","v":1.2640000000000002},{"$f":"IFERROR(VLOOKUP(H14,'Prix de revient'!$A:$D,4,0),0)","v":0},{"$f":"IFERROR(VLOOKUP(I14,'Prix de revient'!$A:$D,4,0),0)","v":0},{"$f":"IFERROR(VLOOKUP(J14,'Prix de revient'!$A:$D,4,0),0)","v":0},{"$f":"IFERROR(VLOOKUP(K14,'Prix de revient'!$A:$D,4,0),0)","v":0},{"$f":"IFERROR(VLOOKUP(L14,'Prix de revient'!$A:$D,4,0),0)","v":0},{"$f":"IFERROR(VLOOKUP(M14,'Prix de revient'!$A:$D,4,0),0)","v":0},{"$f":"IFERROR(VLOOKUP(N14,'Prix de revient'!$A:$D,4,0),0)","v":0},{"$f":"IFERROR(VLOOKUP(O14,'Prix de revient'!$A:$D,4,0),0)","v":0.69520000000000004},{"$f":"IFERROR(VLOOKUP(P14,'Prix de revient'!$A:$D,4,0),0)","v":0},{"$f":"IFERROR(VLOOKUP(Q14,'Prix de revient'!$A:$D,4,0),0)","v":0},{"$f":"IFERROR(VLOOKUP(R14,'Prix de revient'!$A:$D,4,0),0)","v":0},{"$f":"IFERROR(VLOOKUP(S14,'Prix de revient'!$A:$D,4,0),0)","v":2.1488}]
[null,"coût de rebuts",null,{"$f":"D26*D31","v":0},{"$f":"E26*E31","v":0},1.2482000000000002,0,0,0,0,0,0,0,0,0,0,0,0,0,{"$f":"SUM(D32:S32)","v":1.2482000000000002}]
[null,"gestion de modification"]
[]
[]
[]
[]
[]
[]
[]
[null,null,"Clients","Audit","Réclamation","Avoir",null,"Fournisseurs/ sous-traitants","Réception de matiere","Probleme qualité",null,"Les formations professionnelles","Cout","Chiffrage décliné","Actions à suivre",null,"Article qui a subit un tri","durée du tri","Nombre des pieces non-conformes","ouvrier faisant le tri","cout par tri",null,"Article qui a subit la reprise","durée de la reprise","opérateur faisant la reprise","coût de reprise",null,null,null,"Machine ","article","gamme","objet de la modification"]
[null,null,null,null,null,null,null,null,null,null,null,null,null,null,null,null,null,null,null,null,{"$f":"IF(R42=\"\",\"\",R42*VLOOKUP(T42,'cout opérateur machines'!A1:B8,2,0))","v":""},null,null,null,null,{"$f":"X42*8","v":0}]
[null,null,null,null,null,null,null,null,null,null,null,null,null,null,null,null,null,null,null,null,{"$f":"IF(R43=\"\",\"\",R43*VLOOKUP(T43,'cout opérateur machines'!A2:B9,2,0))","v":""},null,null,null,null,{"$f":"X43*8","v":0}]
[null,null,null,null,null,null,null,null,null,null,null,null,null,null,null,null,null,null,null,null,{"$f":"IF(R44=\"\",\"\",R44*VLOOKUP(T44,'cout opérateur machines'!A3:B10,2,0))","v":""},null,null,null,null,0]
[null,null,null,null,null,null,null,null,null,null,null,null,null,null,null,null,null,null,null,null,{"$f":"IF(R45=\"\",\"\",R45*VLOOKUP(T45,'cout opérateur machines'!A4:B11,2,0))","v":""},null,null,null,null,0]
[null,null,null,null,null,null,null,null,null,null,null,null,null,null,null,null,null,null,null,null,{"$f":"IF(R46=\"\",\"\",R46*VLOOKUP(T46,'cout opérateur machines'!A5:B12,2,0))","v":""},null,null,null,null,0]
[null,null,null,null,null,null,null,null,null,null,null,null,null,null,null,null,null,null,null,null,{"$f":"IF(R47=\"\",\"\",R47*VLOOKUP(T47,'cout opérateur machines'!A6:B13,2,0))","v":""},null,null,null,null,0]
[null,null,null,null,{"$f":"COUNTA(E42:E47)","v":0},{"$f":"SUM(F42:F47)","v":0},null,null,null,null,null,null,{"$f":"SUM(M42:M47)","v":0},"causes de refus",null,null,null,null,"cout total du jour",null,{"$f":"SUM(U42:U47)","v":0},null,null,null,null,0]
[null,null,null,null,null,null,null,"envoi des réclamations F/ S-T","réponse F/ S-T","alerte",null,null,null,null,null,null,null,null,null,null,null,null,null,null,null,{"$f":"SUM(Z42:Z48)","v":0}]
[null,null,"dans le cas d'une réclamation",null,null,null,null,null,null,{"$f":"IF(J42=\"\",\"\",IF(H50=0,\" réclamation non traitée\",IF(I50=0, \"veuillez contacter le F/ S-T par téléphone\",\"\")))","v":""},null,null,null,null,null,null,null,null,"N° mois",null,2]
[null,null,"nombre de pièces NC",null,null,null,null,null,null,{"$f":"IF(J43=\"\",\"\",IF(H51=0,\" réclamation non traitée\",IF(I51=0, \"veuillez contacter le F/ S-T par téléphone\",\"\")))","v":""}]
[null,null,"nombre de pièces par carton",null,null,null,null,null,null,""]
[null,null,"coût de transport par carton",null,null,null,null,null,null,""]
[null,null,"nombre de cartons renvoyés",null,null,null,null,null,null,""]
[null,null,"temps de tri",null,null,null,null,null,null,""]
[null,null,"coût horaire de tri"]
[null,null,"temps de retouche"]
[null,null,"coût horaire de retouche"]
[null,null,"temps de traitement de la réclamation"]
[null,null,"coût horaire de traitement"]
[null,null,"coût total",{"$f":"IFERROR(((D51/D52)*D53)+D54*D53+D55*D56+D57*D58+D59*D60,\"\")","v":""}]

{"sheet":"02-2-22","index":79,"n_rows":61,"n_cols":33,"rows_kept":61,"cut":false,"hidden":false,"merged":[[31,1,31,2],[32,1,32,2],[47,18,47,19],[49,18,49,19],[25,1,25,2],[26,1,26,2],[27,1,27,2],[28,1,28,2],[29,1,29,2],[30,1,30,2],[24,1,24,2],[12,1,12,2],[13,1,13,2],[14,1,14,2],[15,1,15,2],[16,1,16,2],[17,1,18,1],[19,1,19,2],[20,1,20,2],[21,1,21,2],[22,1,22,2],[23,1,23,2],[1,2,4,3],[1,4,4,16],[1,17,1,19],[1,21,1,23],[2,17,2,19],[2,21,2,23],[3,17,3,19],[3,21,3,23],[4,17,4,19],[4,21,4,23]]}
[]
[null,null,null,null,"Rapport journalier",null,null,null,null,null,null,null,null,null,null,null,null,"Code:DAS-SMQ-24"]
[null,null,null,null,null,null,null,null,null,null,null,null,null,null,null,null,null,"Date: 27/12/2019"]
[null,null,null,null,null,null,null,null,null,null,null,null,null,null,null,null,null,"Version:01"]
[null,null,null,null,null,null,null,null,null,null,null,null,null,null,null,null,null,"Page:1"]
[]
[]
[]
[]
[]
[]
[null,null,null,"A","B","C","D","E","F","M","N","O","P","I","L","K","J","G","H"]
[null,"Machine",null,"SST16","SB16","BIGLIA 301 SM","BIGLIA 42 S2M bitourelle","L32","TSUGAMI","MORI SEIKI 3 axes","MORI SEIKI 5 axes","HARDING","KITAMURA","MULTIBROCHE","NAKAMURA","TOUR WEILER"]
[null,"Référence",null,"T-RB400","ALBS06100L08",512520,35133801,"2018101-01-02","S3SD14632","19081-1"," - ","PIG 50 SE-mori seiki ",9630,"MPS000300","H001","I039","18*27*43",68.081500000000005,"I110-01-004"]
[null,"Désignation",null,"RIVET TRB400","bossage purge M6","INSERTO MANOPOLA INOX M8-","QAB 14*18-D16 NLD","Axe femelle M8*50","BUTEE-d9 MAJ C","s4-v7","Arrêt","pignon simple etage fraisage","Usinage Borne T030 jan2022","raccord HEX 17","GOUJON DE ROUE HONDA maj-c1","GOUJON DE ROUE ISUZU","Bague aliminium 18*27*43 par chute","Buse droite à collerette Ø8 M445 FRD","INSERT LEVIER SURMOULEE 345833-01-sb16c"]
[null,"Compteur 8h ",null,5495,0,4518,0,433,98590,13,0,226,3847,0,4528,3834,1040,12720,2966]
[null,"Compteur 17h",null,7211,553,5100,0,611,100298,25,0,238,4007,0,4621,4044,1153,13385,3685]
[null,"Enregistrement","9h"]
[null,null,"16h"]
[null,"Identification"]
[null,"Propreté des tables de contrôle"]
[null,"Rangement des outils de contrôle"]
[null,"Existance de l'OF"]
[null,"Affutage",null,null,null,null,null,null,null,null,null,null,null,null,null,null,null,null,null,{"$f":"+COUNTA(D24:S24)","v":0}]
[null,"Maintenance"]
[null,"Nombre des NC poubelle "]
[null,"Nombre des NC à retoucher"]
[null,"Machine pour retouche"]
[null,"Panne"]
[null,"Cout pièces de rechange",null,null,null,null,null,null,null,null,null,null,null,null,null,null,null,null,null,{"$f":"SUM(D30:S30)","v":0}]
[null,"prix de revient pièce",null,{"$f":"IFERROR(VLOOKUP(D14,'Prix de revient'!$A:$D,4,0),0)","v":0},{"$f":"IFERROR(VLOOKUP(E14,'Prix de revient'!$A:$D,4,0),0)","v":0},{"$f":"IFERROR(VLOOKUP(F14,'Prix de revient'!$A:$D,4,0),0)","v":1.2482000000000002},{"$f":"IFERROR(VLOOKUP(G14,'Prix de revient'!$A:$D,4,0),0)","v":1.2640000000000002},{"$f":"IFERROR(VLOOKUP(H14,'Prix de revient'!$A:$D,4,0),0)","v":0},{"$f":"IFERROR(VLOOKUP(I14,'Prix de revient'!$A:$D,4,0),0)","v":0},{"$f":"IFERROR(VLOOKUP(J14,'Prix de revient'!$A:$D,4,0),0)","v":0},{"$f":"IFERROR(VLOOKUP(K14,'Prix de revient'!$A:$D,4,0),0)","v":0},{"$f":"IFERROR(VLOOKUP(L14,'Prix de revient'!$A:$D,4,0),0)","v":0},{"$f":"IFERROR(VLOOKUP(M14,'Prix de revient'!$A:$D,4,0),0)","v":0},{"$f":"IFERROR(VLOOKUP(N14,'Prix de revient'!$A:$D,4,0),0)","v":0},{"$f":"IFERROR(VLOOKUP(O14,'Prix de revient'!$A:$D,4,0),0)","v":0.69520000000000004},{"$f":"IFERROR(VLOOKUP(P14,'Prix de revient'!$A:$D,4,0),0)","v":0},{"$f":"IFERROR(VLOOKUP(Q14,'Prix de revient'!$A:$D,4,0),0)","v":0},{"$f":"IFERROR(VLOOKUP(R14,'Prix de revient'!$A:$D,4,0),0)","v":0},{"$f":"IFERROR(VLOOKUP(S14,'Prix de revient'!$A:$D,4,0),0)","v":2.1488}]
[null,"coût de rebuts",null,{"$f":"D26*D31","v":0},{"$f":"E26*E31","v":0},0,0,0,0,0,0,0,0,0,0,0,0,0,0,{"$f":"SUM(D32:S32)","v":0}]
[null,"gestion de modification"]
[]
[]
[]
[]
[]
[]
[]
[null,null,"Clients","Audit","Réclamation","Avoir",null,"Fournisseurs/ sous-traitants","Réception de matiere","Probleme qualité",null,"Les formations professionnelles","Cout","Chiffrage décliné","Actions à suivre",null,"Article qui a subit un tri","durée du tri","Nombre des pieces non-conformes","ouvrier faisant le tri","cout par tri",null,"Article qui a subit la reprise","durée de la reprise","opérateur faisant la reprise","coût de reprise",null,null,null,"Machine ","article","gamme","objet de la modification"]
[null,null,null,null,null,null,null,null,null,null,null,null,null,null,null,null,null,null,null,null,{"$f":"IF(R42=\"\",\"\",R42*VLOOKUP(T42,'cout opérateur machines'!A1:B8,2,0))","v":""},null,null,null,null,{"$f":"X42*8","v":0}]
[null,null,null,null,null,null,null,null,null,null,null,null,null,null,null,null,null,null,null,null,{"$f":"IF(R43=\"\",\"\",R43*VLOOKUP(T43,'cout opérateur machines'!A2:B9,2,0))","v":""},null,null,null,null,{"$f":"X43*8","v":0}]
[null,null,null,null,null,null,null,null,null,null,null,null,null,null,null,null,null,null,null,null,{"$f":"IF(R44=\"\",\"\",R44*VLOOKUP(T44,'cout opérateur machines'!A3:B10,2,0))","v":""},null,null,null,null,0]
[null,null,null,null,null,null,null,null,null,null,null,null,null,null,null,null,null,null,null,null,{"$f":"IF(R45=\"\",\"\",R45*VLOOKUP(T45,'cout opérateur machines'!A4:B11,2,0))","v":""},null,null,null,null,0]
[null,null,null,null,null,null,null,null,null,null,null,null,null,null,null,null,null,null,null,null,{"$f":"IF(R46=\"\",\"\",R46*VLOOKUP(T46,'cout opérateur machines'!A5:B12,2,0))","v":""},null,null,null,null,0]
[null,null,null,null,null,null,null,null,null,null,null,null,null,null,null,null,null,null,null,null,{"$f":"IF(R47=\"\",\"\",R47*VLOOKUP(T47,'cout opérateur machines'!A6:B13,2,0))","v":""},null,null,null,null,0]
[null,null,null,null,{"$f":"COUNTA(E42:E47)","v":0},{"$f":"SUM(F42:F47)","v":0},null,null,null,null,null,null,{"$f":"SUM(M42:M47)","v":0},"causes de refus",null,null,null,null,"cout total du jour",null,{"$f":"SUM(U42:U47)","v":0},null,null,null,null,0]
[null,null,null,null,null,null,null,"envoi des réclamations F/ S-T","réponse F/ S-T","alerte",null,null,null,null,null,null,null,null,null,null,null,null,null,null,null,{"$f":"SUM(Z42:Z48)","v":0}]
[null,null,"dans le cas d'une réclamation",null,null,null,null,null,null,{"$f":"IF(J42=\"\",\"\",IF(H50=0,\" réclamation non traitée\",IF(I50=0, \"veuillez contacter le F/ S-T par téléphone\",\"\")))","v":""},null,null,null,null,null,null,null,null,"N° mois",null,2]
[null,null,"nombre de pièces NC",null,null,null,null,null,null,{"$f":"IF(J43=\"\",\"\",IF(H51=0,\" réclamation non traitée\",IF(I51=0, \"veuillez contacter le F/ S-T par téléphone\",\"\")))","v":""}]
[null,null,"nombre de pièces par carton",null,null,null,null,null,null,""]
[null,null,"coût de transport par carton",null,null,null,null,null,null,""]
[null,null,"nombre de cartons renvoyés",null,null,null,null,null,null,""]
[null,null,"temps de tri",null,null,null,null,null,null,""]
[null,null,"coût horaire de tri"]
[null,null,"temps de retouche"]
[null,null,"coût horaire de retouche"]
[null,null,"temps de traitement de la réclamation"]
[null,null,"coût horaire de traitement"]
[null,null,"coût total",{"$f":"IFERROR(((D51/D52)*D53)+D54*D53+D55*D56+D57*D58+D59*D60,\"\")","v":""}]

{"sheet":"01-2-22","index":80,"n_rows":61,"n_cols":33,"rows_kept":61,"cut":false,"hidden":false,"merged":[[31,1,31,2],[32,1,32,2],[47,18,47,19],[49,18,49,19],[25,1,25,2],[26,1,26,2],[27,1,27,2],[28,1,28,2],[29,1,29,2],[30,1,30,2],[24,1,24,2],[12,1,12,2],[13,1,13,2],[14,1,14,2],[15,1,15,2],[16,1,16,2],[17,1,18,1],[19,1,19,2],[20,1,20,2],[21,1,21,2],[22,1,22,2],[23,1,23,2],[1,2,4,3],[1,4,4,16],[1,17,1,19],[1,21,1,23],[2,17,2,19],[2,21,2,23],[3,17,3,19],[3,21,3,23],[4,17,4,19],[4,21,4,23]]}
[]
[null,null,null,null,"Rapport journalier",null,null,null,null,null,null,null,null,null,null,null,null,"Code:DAS-SMQ-24"]
[null,null,null,null,null,null,null,null,null,null,null,null,null,null,null,null,null,"Date: 27/12/2019"]
[null,null,null,null,null,null,null,null,null,null,null,null,null,null,null,null,null,"Version:01"]
[null,null,null,null,null,null,null,null,null,null,null,null,null,null,null,null,null,"Page:1"]
[]
[]
[]
[]
[]
[]
[null,null,null,"A","B","C","D","E","F","M","N","O","P","I","L","K","J","G","H"]
[null,"Machine",null,"SST16","SB16","BIGLIA 301 SM","BIGLIA 42 S2M bitourelle","L32","TSUGAMI","MORI SEIKI 3 axes","MORI SEIKI 5 axes","HARDING","KITAMURA","MULTIBROCHE","NAKAMURA","TOUR WEILER"]
[null,"Référence",null,"T-RB400","ALBS06100L08",512520,35133801,"2018101-01-02","S3SD14632","19081-1"," - ","PIG 50 SE-mori seiki ",9630,"MPS000300","H001","I039","18*27*43",68.081500000000005,"I110-01-004"]
[null,"Désignation",null,"RIVET TRB400","bossage purge M6","INSERTO MANOPOLA INOX M8-","QAB 14*18-D16 NLD","Axe femelle M8*50","BUTEE-d9 MAJ C","s4-v7","Arrêt","pignon simple etage fraisage","Usinage Borne T030 jan2022","raccord HEX 17","GOUJON DE ROUE HONDA maj-c1","GOUJON DE ROUE ISUZU","Bague aliminium 18*27*43 par chute","Buse droite à collerette Ø8 M445 FRD","INSERT LEVIER SURMOULEE 345833-01-sb16c"]
[null,"Compteur 8h ",null,4055,0,4065,0,27,96960,0,0,215,3754,0,4381,3615,770,12164,2284]
[null,"Compteur 17h",null,5495,0,4518,0,433,98590,13,0,226,3847,0,4528,3834,1040,12720,2966]
[null,"Enregistrement","9h"]
[null,null,"16h"]
[null,"Identification"]
[null,"Propreté des tables de contrôle"]
[null,"Rangement des outils de contrôle"]
[null,"Existance de l'OF"]
[null,"Affutage",null,null,null,null,null,null,null,null,null,null,null,null,null,null,null,null,null,{"$f":"+COUNTA(D24:S24)","v":0}]
[null,"Maintenance"]
[null,"Nombre des NC poubelle "]
[null,"Nombre des NC à retoucher"]
[null,"Machine pour retouche"]
[null,"Panne"]
[null,"Cout pièces de rechange",null,null,null,null,null,null,null,null,null,null,null,null,null,null,null,null,null,{"$f":"SUM(D30:S30)","v":0}]
[null,"prix de revient pièce",null,{"$f":"IFERROR(VLOOKUP(D14,'Prix de revient'!$A:$D,4,0),0)","v":0},{"$f":"IFERROR(VLOOKUP(E14,'Prix de revient'!$A:$D,4,0),0)","v":0},{"$f":"IFERROR(VLOOKUP(F14,'Prix de revient'!$A:$D,4,0),0)","v":1.2482000000000002},{"$f":"IFERROR(VLOOKUP(G14,'Prix de revient'!$A:$D,4,0),0)","v":1.2640000000000002},{"$f":"IFERROR(VLOOKUP(H14,'Prix de revient'!$A:$D,4,0),0)","v":0},{"$f":"IFERROR(VLOOKUP(I14,'Prix de revient'!$A:$D,4,0),0)","v":0},{"$f":"IFERROR(VLOOKUP(J14,'Prix de revient'!$A:$D,4,0),0)","v":0},{"$f":"IFERROR(VLOOKUP(K14,'Prix de revient'!$A:$D,4,0),0)","v":0},{"$f":"IFERROR(VLOOKUP(L14,'Prix de revient'!$A:$D,4,0),0)","v":0},{"$f":"IFERROR(VLOOKUP(M14,'Prix de revient'!$A:$D,4,0),0)","v":0},{"$f":"IFERROR(VLOOKUP(N14,'Prix de revient'!$A:$D,4,0),0)","v":0},{"$f":"IFERROR(VLOOKUP(O14,'Prix de revient'!$A:$D,4,0),0)","v":0.69520000000000004},{"$f":"IFERROR(VLOOKUP(P14,'Prix de revient'!$A:$D,4,0),0)","v":0},{"$f":"IFERROR(VLOOKUP(Q14,'Prix de revient'!$A:$D,4,0),0)","v":0},{"$f":"IFERROR(VLOOKUP(R14,'Prix de revient'!$A:$D,4,0),0)","v":0},{"$f":"IFERROR(VLOOKUP(S14,'Prix de revient'!$A:$D,4,0),0)","v":2.1488}]
[null,"coût de rebuts",null,{"$f":"D26*D31","v":0},{"$f":"E26*E31","v":0},0,0,0,0,0,0,0,0,0,0,0,0,0,0,{"$f":"SUM(D32:S32)","v":0}]
[null,"gestion de modification"]
[]
[]
[]
[]
[]
[]
[]
[null,null,"Clients","Audit","Réclamation","Avoir",null,"Fournisseurs/ sous-traitants","Réception de matiere","Probleme qualité",null,"Les formations professionnelles","Cout","Chiffrage décliné","Actions à suivre",null,"Article qui a subit un tri","durée du tri","Nombre des pieces non-conformes","ouvrier faisant le tri","cout par tri",null,"Article qui a subit la reprise","durée de la reprise","opérateur faisant la reprise","coût de reprise",null,null,null,"Machine ","article","gamme","objet de la modification"]
[null,null,null,null,null,null,null,null,null,null,null,null,null,null,null,null,null,null,null,null,{"$f":"IF(R42=\"\",\"\",R42*VLOOKUP(T42,'cout opérateur machines'!A1:B8,2,0))","v":""},null,null,null,null,{"$f":"X42*8","v":0}]
[null,null,null,null,null,null,null,null,null,null,null,null,null,null,null,null,null,null,null,null,{"$f":"IF(R43=\"\",\"\",R43*VLOOKUP(T43,'cout opérateur machines'!A2:B9,2,0))","v":""},null,null,null,null,{"$f":"X43*8","v":0}]
[null,null,null,null,null,null,null,null,null,null,null,null,null,null,null,null,null,null,null,null,{"$f":"IF(R44=\"\",\"\",R44*VLOOKUP(T44,'cout opérateur machines'!A3:B10,2,0))","v":""},null,null,null,null,0]
[null,null,null,null,null,null,null,null,null,null,null,null,null,null,null,null,null,null,null,null,{"$f":"IF(R45=\"\",\"\",R45*VLOOKUP(T45,'cout opérateur machines'!A4:B11,2,0))","v":""},null,null,null,null,0]
[null,null,null,null,null,null,null,null,null,null,null,null,null,null,null,null,null,null,null,null,{"$f":"IF(R46=\"\",\"\",R46*VLOOKUP(T46,'cout opérateur machines'!A5:B12,2,0))","v":""},null,null,null,null,0]
[null,null,null,null,null,null,null,null,null,null,null,null,null,null,null,null,null,null,null,null,{"$f":"IF(R47=\"\",\"\",R47*VLOOKUP(T47,'cout opérateur machines'!A6:B13,2,0))","v":""},null,null,null,null,0]
[null,null,null,null,{"$f":"COUNTA(E42:E47)","v":0},{"$f":"SUM(F42:F47)","v":0},null,null,null,null,null,null,{"$f":"SUM(M42:M47)","v":0},"causes de refus",null,null,null,null,"cout total du jour",null,{"$f":"SUM(U42:U47)","v":0},null,null,null,null,0]
[null,null,null,null,null,null,null,"envoi des réclamations F/ S-T","réponse F/ S-T","alerte",null,null,null,null,null,null,null,null,null,null,null,null,null,null,null,{"$f":"SUM(Z42:Z48)","v":0}]
[null,null,"dans le cas d'une réclamation",null,null,null,null,null,null,{"$f":"IF(J42=\"\",\"\",IF(H50=0,\" réclamation non traitée\",IF(I50=0, \"veuillez contacter le F/ S-T par téléphone\",\"\")))","v":""},null,null,null,null,null,null,null,null,"N° mois",null,2]
[null,null,"nombre de pièces NC",null,null,null,null,null,null,{"$f":"IF(J43=\"\",\"\",IF(H51=0,\" réclamation non traitée\",IF(I51=0, \"veuillez contacter le F/ S-T par téléphone\",\"\")))","v":""}]
[null,null,"nombre de pièces par carton",null,null,null,null,null,null,""]
[null,null,"coût de transport par carton",null,null,null,null,null,null,""]
[null,null,"nombre de cartons renvoyés",null,null,null,null,null,null,""]
[null,null,"temps de tri",null,null,null,null,null,null,""]
[null,null,"coût horaire de tri"]
[null,null,"temps de retouche"]
[null,null,"coût horaire de retouche"]
[null,null,"temps de traitement de la réclamation"]
[null,null,"coût horaire de traitement"]
[null,null,"coût total",{"$f":"IFERROR(((D51/D52)*D53)+D54*D53+D55*D56+D57*D58+D59*D60,\"\")","v":""}]

{"sheet":"31-1-22","index":81,"n_rows":61,"n_cols":33,"rows_kept":61,"cut":false,"hidden":false,"merged":[[31,1,31,2],[32,1,32,2],[47,18,47,19],[49,18,49,19],[25,1,25,2],[26,1,26,2],[27,1,27,2],[28,1,28,2],[29,1,29,2],[30,1,30,2],[24,1,24,2],[12,1,12,2],[13,1,13,2],[14,1,14,2],[15,1,15,2],[16,1,16,2],[17,1,18,1],[19,1,19,2],[20,1,20,2],[21,1,21,2],[22,1,22,2],[23,1,23,2],[1,2,4,3],[1,4,4,16],[1,17,1,19],[1,21,1,23],[2,17,2,19],[2,21,2,23],[3,17,3,19],[3,21,3,23],[4,17,4,19],[4,21,4,23]]}
[]
[null,null,null,null,"Rapport journalier",null,null,null,null,null,null,null,null,null,null,null,null,"Code:DAS-SMQ-24"]
[null,null,null,null,null,null,null,null,null,null,null,null,null,null,null,null,null,"Date: 27/12/2019"]
[null,null,null,null,null,null,null,null,null,null,null,null,null,null,null,null,null,"Version:01"]
[null,null,null,null,null,null,null,null,null,null,null,null,null,null,null,null,null,"Page:1"]
[]
[]
[]
[]
[]
[]
[null,null,null,"A","B","C","D","E","F","M","N","O","P","I","L","K","J","G","H"]
[null,"Machine",null,"SST16","SB16","BIGLIA 301 SM","BIGLIA 42 S2M bitourelle","L32","TSUGAMI","MORI SEIKI 3 axes","MORI SEIKI 5 axes","HARDING","KITAMURA","MULTIBROCHE","NAKAMURA","TOUR WEILER"]
[null,"Référence",null,"T-RB400","ALBS06100L08",512520,35133801,"2018101-01-02","S3SD14632"," - "," - ","PIG 50 SE-mori seiki ",9630,"MPS000300","H001","I039","18*27*43",68.081500000000005,"I110-01-004"]
[null,"Désignation",null,"RIVET TRB400","bossage purge M6","INSERTO MANOPOLA INOX M8-","QAB 14*18-D16 NLD","Axe femelle M8*50","BUTEE-d9 MAJ C","Arrêt","Arrêt","pignon simple etage fraisage","Usinage Borne T030 jan2022","raccord HEX 17","GOUJON DE ROUE HONDA maj-c","GOUJON DE ROUE ISUZU","Bague aliminium 18*27*43 par chute","Buse droite à collerette Ø8 M445 FRD","INSERT LEVIER SURMOULEE 345833-01-sb16c"]
[null,"Compteur 8h ",null,2530,0,3572,0,0,95350,0,0,190,3568,0,4185,3451,470,11662,1636]
[null,"Compteur 17h",null,4055,0,4065,0,27,96960,0,0,215,3754,0,4381,3615,770,12164,2284]
[null,"Enregistrement","9h"]
[null,null,"16h"]
[null,"Identification"]
[null,"Propreté des tables de contrôle"]
[null,"Rangement des outils de contrôle"]
[null,"Existance de l'OF"]
[null,"Affutage",null,null,null,null,null,null,null,null,null,null,null,null,null,null,null,null,null,{"$f":"+COUNTA(D24:S24)","v":0}]
[null,"Maintenance"]
[null,"Nombre des NC poubelle "]
[null,"Nombre des NC à retoucher"]
[null,"Machine pour retouche"]
[null,"Panne"]
[null,"Cout pièces de rechange",null,null,null,null,null,null,null,null,null,null,null,null,null,null,null,null,null,{"$f":"SUM(D30:S30)","v":0}]
[null,"prix de revient pièce",null,{"$f":"IFERROR(VLOOKUP(D14,'Prix de revient'!$A:$D,4,0),0)","v":0},{"$f":"IFERROR(VLOOKUP(E14,'Prix de revient'!$A:$D,4,0),0)","v":0},{"$f":"IFERROR(VLOOKUP(F14,'Prix de revient'!$A:$D,4,0),0)","v":1.2482000000000002},{"$f":"IFERROR(VLOOKUP(G14,'Prix de revient'!$A:$D,4,0),0)","v":1.2640000000000002},{"$f":"IFERROR(VLOOKUP(H14,'Prix de revient'!$A:$D,4,0),0)","v":0},{"$f":"IFERROR(VLOOKUP(I14,'Prix de revient'!$A:$D,4,0),0)","v":0},{"$f":"IFERROR(VLOOKUP(J14,'Prix de revient'!$A:$D,4,0),0)","v":0},{"$f":"IFERROR(VLOOKUP(K14,'Prix de revient'!$A:$D,4,0),0)","v":0},{"$f":"IFERROR(VLOOKUP(L14,'Prix de revient'!$A:$D,4,0),0)","v":0},{"$f":"IFERROR(VLOOKUP(M14,'Prix de revient'!$A:$D,4,0),0)","v":0},{"$f":"IFERROR(VLOOKUP(N14,'Prix de revient'!$A:$D,4,0),0)","v":0},{"$f":"IFERROR(VLOOKUP(O14,'Prix de revient'!$A:$D,4,0),0)","v":0.69520000000000004},{"$f":"IFERROR(VLOOKUP(P14,'Prix de revient'!$A:$D,4,0),0)","v":0},{"$f":"IFERROR(VLOOKUP(Q14,'Prix de revient'!$A:$D,4,0),0)","v":0},{"$f":"IFERROR(VLOOKUP(R14,'Prix de revient'!$A:$D,4,0),0)","v":0},{"$f":"IFERROR(VLOOKUP(S14,'Prix de revient'!$A:$D,4,0),0)","v":2.1488}]
[null,"coût de rebuts",null,{"$f":"D26*D31","v":0},{"$f":"E26*E31","v":0},0,0,0,0,0,0,0,0,0,0,0,0,0,0,{"$f":"SUM(D32:S32)","v":0}]
[null,"gestion de modification"]
[]
[]
[]
[]
[]
[]
[]
[null,null,"Clients","Audit","Réclamation","Avoir",null,"Fournisseurs/ sous-traitants","Réception de matiere","Probleme qualité",null,"Les formations professionnelles","Cout","Chiffrage décliné","Actions à suivre",null,"Article qui a subit un tri","durée du tri","Nombre des pieces non-conformes","ouvrier faisant le tri","cout par tri",null,"Article qui a subit la reprise","durée de la reprise","opérateur faisant la reprise","coût de reprise",null,null,null,"Machine ","article","gamme","objet de la modification"]
[null,null,null,null,null,null,null,null,null,null,null,null,null,null,null,null,null,null,null,null,{"$f":"IF(R42=\"\",\"\",R42*VLOOKUP(T42,'cout opérateur machines'!A1:B8,2,0))","v":""},null,null,null,null,{"$f":"X42*8","v":0}]
[null,null,null,null,null,null,null,null,null,null,null,null,null,null,null,null,null,null,null,null,{"$f":"IF(R43=\"\",\"\",R43*VLOOKUP(T43,'cout opérateur machines'!A2:B9,2,0))","v":""},null,null,null,null,{"$f":"X43*8","v":0}]
[null,null,null,null,null,null,null,null,null,null,null,null,null,null,null,null,null,null,null,null,{"$f":"IF(R44=\"\",\"\",R44*VLOOKUP(T44,'cout opérateur machines'!A3:B10,2,0))","v":""},null,null,null,null,0]
[null,null,null,null,null,null,null,null,null,null,null,null,null,null,null,null,null,null,null,null,{"$f":"IF(R45=\"\",\"\",R45*VLOOKUP(T45,'cout opérateur machines'!A4:B11,2,0))","v":""},null,null,null,null,0]
[null,null,null,null,null,null,null,null,null,null,null,null,null,null,null,null,null,null,null,null,{"$f":"IF(R46=\"\",\"\",R46*VLOOKUP(T46,'cout opérateur machines'!A5:B12,2,0))","v":""},null,null,null,null,0]
[null,null,null,null,null,null,null,null,null,null,null,null,null,null,null,null,null,null,null,null,{"$f":"IF(R47=\"\",\"\",R47*VLOOKUP(T47,'cout opérateur machines'!A6:B13,2,0))","v":""},null,null,null,null,0]
[null,null,null,null,{"$f":"COUNTA(E42:E47)","v":0},{"$f":"SUM(F42:F47)","v":0},null,null,null,null,null,null,{"$f":"SUM(M42:M47)","v":0},"causes de refus",null,null,null,null,"cout total du jour",null,{"$f":"SUM(U42:U47)","v":0},null,null,null,null,0]
[null,null,null,null,null,null,null,"envoi des réclamations F/ S-T","réponse F/ S-T","alerte",null,null,null,null,null,null,null,null,null,null,null,null,null,null,null,{"$f":"SUM(Z42:Z48)","v":0}]
[null,null,"dans le cas d'une réclamation",null,null,null,null,null,null,{"$f":"IF(J42=\"\",\"\",IF(H50=0,\" réclamation non traitée\",IF(I50=0, \"veuillez contacter le F/ S-T par téléphone\",\"\")))","v":""},null,null,null,null,null,null,null,null,"N° mois",null,1]
[null,null,"nombre de pièces NC",null,null,null,null,null,null,{"$f":"IF(J43=\"\",\"\",IF(H51=0,\" réclamation non traitée\",IF(I51=0, \"veuillez contacter le F/ S-T par téléphone\",\"\")))","v":""}]
[null,null,"nombre de pièces par carton",null,null,null,null,null,null,""]
[null,null,"coût de transport par carton",null,null,null,null,null,null,""]
[null,null,"nombre de cartons renvoyés",null,null,null,null,null,null,""]
[null,null,"temps de tri",null,null,null,null,null,null,""]
[null,null,"coût horaire de tri"]
[null,null,"temps de retouche"]
[null,null,"coût horaire de retouche"]
[null,null,"temps de traitement de la réclamation"]
[null,null,"coût horaire de traitement"]
[null,null,"coût total",{"$f":"IFERROR(((D51/D52)*D53)+D54*D53+D55*D56+D57*D58+D59*D60,\"\")","v":""}]

{"sheet":"29-1-22","index":82,"n_rows":61,"n_cols":33,"rows_kept":61,"cut":false,"hidden":false,"merged":[[31,1,31,2],[32,1,32,2],[47,18,47,19],[49,18,49,19],[25,1,25,2],[26,1,26,2],[27,1,27,2],[28,1,28,2],[29,1,29,2],[30,1,30,2],[24,1,24,2],[12,1,12,2],[13,1,13,2],[14,1,14,2],[15,1,15,2],[16,1,16,2],[17,1,18,1],[19,1,19,2],[20,1,20,2],[21,1,21,2],[22,1,22,2],[23,1,23,2],[1,2,4,3],[1,4,4,16],[1,17,1,19],[1,21,1,23],[2,17,2,19],[2,21,2,23],[3,17,3,19],[3,21,3,23],[4,17,4,19],[4,21,4,23]]}
[]
[null,null,null,null,"Rapport journalier",null,null,null,null,null,null,null,null,null,null,null,null,"Code:DAS-SMQ-24"]
[null,null,null,null,null,null,null,null,null,null,null,null,null,null,null,null,null,"Date: 27/12/2019"]
[null,null,null,null,null,null,null,null,null,null,null,null,null,null,null,null,null,"Version:01"]
[null,null,null,null,null,null,null,null,null,null,null,null,null,null,null,null,null,"Page:1"]
[]
[]
[]
[]
[]
[]
[null,null,null,"A","B","C","D","E","F","M","N","O","P","I","L","K","J","G","H"]
[null,"Machine",null,"SST16","SB16","BIGLIA 301 SM","BIGLIA 42 S2M bitourelle","L32","TSUGAMI","MORI SEIKI 3 axes","MORI SEIKI 5 axes","HARDING","KITAMURA","MULTIBROCHE","NAKAMURA","TOUR WEILER"]
[null,"Référence",null,"T-RB400","510021-janv 2022",512520,35133801,68.080699999999993,"S3SD14632"," - "," - ","PIG 50 SE-mori seiki ",9630,"MPS000300","H001","I039","18*27*43",68.081500000000005,"I110-01-004"]
[null,"Désignation",null,"RIVET TRB400","QUADRO 10*60 AVP-AXE ACIER-janvier 2022","INSERTO MANOPOLA INOX M8-","QAB 14*18-D16 NLD","BUSE D8 maj-c","BUTEE-d9 MAJ C","Arrêt","Arrêt","pignon simple etage fraisage","Usinage Borne T030 jan2022","raccord HEX 17","GOUJON DE ROUE HONDA maj-c","GOUJON DE ROUE ISUZU","Bague aliminium 18*27*43 par chute","Buse droite à collerette Ø8 M445 FRD","INSERT LEVIER SURMOULEE 345833-01-sb16c"]
[null,"Compteur 8h ",null,1810,10803,3351,0,0,94526,0,0,172,3411,0,3969,3128,280,11400,1357]
[null,"Compteur 17h",null,2530,11056,3572,0,0,95350,0,0,190,3568,0,4185,3451,470,11662,1636]
[null,"Enregistrement","9h"]
[null,null,"16h"]
[null,"Identification"]
[null,"Propreté des tables de contrôle"]
[null,"Rangement des outils de contrôle"]
[null,"Existance de l'OF"]
[null,"Affutage",null,null,null,null,null,null,null,null,null,null,null,null,null,null,null,null,null,{"$f":"+COUNTA(D24:S24)","v":0}]
[null,"Maintenance"]
[null,"Nombre des NC poubelle "]
[null,"Nombre des NC à retoucher"]
[null,"Machine pour retouche"]
[null,"Panne"]
[null,"Cout pièces de rechange",null,null,null,null,null,null,null,null,null,null,null,null,null,null,null,null,null,{"$f":"SUM(D30:S30)","v":0}]
[null,"prix de revient pièce",null,{"$f":"IFERROR(VLOOKUP(D14,'Prix de revient'!$A:$D,4,0),0)","v":0},{"$f":"IFERROR(VLOOKUP(E14,'Prix de revient'!$A:$D,4,0),0)","v":0},{"$f":"IFERROR(VLOOKUP(F14,'Prix de revient'!$A:$D,4,0),0)","v":1.2482000000000002},{"$f":"IFERROR(VLOOKUP(G14,'Prix de revient'!$A:$D,4,0),0)","v":1.2640000000000002},{"$f":"IFERROR(VLOOKUP(H14,'Prix de revient'!$A:$D,4,0),0)","v":0},{"$f":"IFERROR(VLOOKUP(I14,'Prix de revient'!$A:$D,4,0),0)","v":0},{"$f":"IFERROR(VLOOKUP(J14,'Prix de revient'!$A:$D,4,0),0)","v":0},{"$f":"IFERROR(VLOOKUP(K14,'Prix de revient'!$A:$D,4,0),0)","v":0},{"$f":"IFERROR(VLOOKUP(L14,'Prix de revient'!$A:$D,4,0),0)","v":0},{"$f":"IFERROR(VLOOKUP(M14,'Prix de revient'!$A:$D,4,0),0)","v":0},{"$f":"IFERROR(VLOOKUP(N14,'Prix de revient'!$A:$D,4,0),0)","v":0},{"$f":"IFERROR(VLOOKUP(O14,'Prix de revient'!$A:$D,4,0),0)","v":0.69520000000000004},{"$f":"IFERROR(VLOOKUP(P14,'Prix de revient'!$A:$D,4,0),0)","v":0},{"$f":"IFERROR(VLOOKUP(Q14,'Prix de revient'!$A:$D,4,0),0)","v":0},{"$f":"IFERROR(VLOOKUP(R14,'Prix de revient'!$A:$D,4,0),0)","v":0},{"$f":"IFERROR(VLOOKUP(S14,'Prix de revient'!$A:$D,4,0),0)","v":2.1488}]
[null,"coût de rebuts",null,{"$f":"D26*D31","v":0},{"$f":"E26*E31","v":0},0,0,0,0,0,0,0,0,0,0,0,0,0,0,{"$f":"SUM(D32:S32)","v":0}]
[null,"gestion de modification"]
[]
[]
[]
[]
[]
[]
[]
[null,null,"Clients","Audit","Réclamation","Avoir",null,"Fournisseurs/ sous-traitants","Réception de matiere","Probleme qualité",null,"Les formations professionnelles","Cout","Chiffrage décliné","Actions à suivre",null,"Article qui a subit un tri","durée du tri","Nombre des pieces non-conformes","ouvrier faisant le tri","cout par tri",null,"Article qui a subit la reprise","durée de la reprise","opérateur faisant la reprise","coût de reprise",null,null,null,"Machine ","article","gamme","objet de la modification"]
[null,null,null,null,null,null,null,null,null,null,null,null,null,null,null,null,null,null,null,null,{"$f":"IF(R42=\"\",\"\",R42*VLOOKUP(T42,'cout opérateur machines'!A1:B8,2,0))","v":""},null,null,null,null,{"$f":"X42*8","v":0}]
[null,null,null,null,null,null,null,null,null,null,null,null,null,null,null,null,null,null,null,null,{"$f":"IF(R43=\"\",\"\",R43*VLOOKUP(T43,'cout opérateur machines'!A2:B9,2,0))","v":""},null,null,null,null,{"$f":"X43*8","v":0}]
[null,null,null,null,null,null,null,null,null,null,null,null,null,null,null,null,null,null,null,null,{"$f":"IF(R44=\"\",\"\",R44*VLOOKUP(T44,'cout opérateur machines'!A3:B10,2,0))","v":""},null,null,null,null,0]
[null,null,null,null,null,null,null,null,null,null,null,null,null,null,null,null,null,null,null,null,{"$f":"IF(R45=\"\",\"\",R45*VLOOKUP(T45,'cout opérateur machines'!A4:B11,2,0))","v":""},null,null,null,null,0]
[null,null,null,null,null,null,null,null,null,null,null,null,null,null,null,null,null,null,null,null,{"$f":"IF(R46=\"\",\"\",R46*VLOOKUP(T46,'cout opérateur machines'!A5:B12,2,0))","v":""},null,null,null,null,0]
[null,null,null,null,null,null,null,null,null,null,null,null,null,null,null,null,null,null,null,null,{"$f":"IF(R47=\"\",\"\",R47*VLOOKUP(T47,'cout opérateur machines'!A6:B13,2,0))","v":""},null,null,null,null,0]
[null,null,null,null,{"$f":"COUNTA(E42:E47)","v":0},{"$f":"SUM(F42:F47)","v":0},null,null,null,null,null,null,{"$f":"SUM(M42:M47)","v":0},"causes de refus",null,null,null,null,"cout total du jour",null,{"$f":"SUM(U42:U47)","v":0},null,null,null,null,0]
[null,null,null,null,null,null,null,"envoi des réclamations F/ S-T","réponse F/ S-T","alerte",null,null,null,null,null,null,null,null,null,null,null,null,null,null,null,{"$f":"SUM(Z42:Z48)","v":0}]
[null,null,"dans le cas d'une réclamation",null,null,null,null,null,null,{"$f":"IF(J42=\"\",\"\",IF(H50=0,\" réclamation non traitée\",IF(I50=0, \"veuillez contacter le F/ S-T par téléphone\",\"\")))","v":""},null,null,null,null,null,null,null,null,"N° mois",null,1]
[null,null,"nombre de pièces NC",null,null,null,null,null,null,{"$f":"IF(J43=\"\",\"\",IF(H51=0,\" réclamation non traitée\",IF(I51=0, \"veuillez contacter le F/ S-T par téléphone\",\"\")))","v":""}]
[null,null,"nombre de pièces par carton",null,null,null,null,null,null,""]
[null,null,"coût de transport par carton",null,null,null,null,null,null,""]
[null,null,"nombre de cartons renvoyés",null,null,null,null,null,null,""]
[null,null,"temps de tri",null,null,null,null,null,null,""]
[null,null,"coût horaire de tri"]
[null,null,"temps de retouche"]
[null,null,"coût horaire de retouche"]
[null,null,"temps de traitement de la réclamation"]
[null,null,"coût horaire de traitement"]
[null,null,"coût total",{"$f":"IFERROR(((D51/D52)*D53)+D54*D53+D55*D56+D57*D58+D59*D60,\"\")","v":""}]

{"sheet":"28-1-22","index":83,"n_rows":61,"n_cols":33,"rows_kept":61,"cut":false,"hidden":false,"merged":[[31,1,31,2],[32,1,32,2],[47,18,47,19],[49,18,49,19],[25,1,25,2],[26,1,26,2],[27,1,27,2],[28,1,28,2],[29,1,29,2],[30,1,30,2],[24,1,24,2],[12,1,12,2],[13,1,13,2],[14,1,14,2],[15,1,15,2],[16,1,16,2],[17,1,18,1],[19,1,19,2],[20,1,20,2],[21,1,21,2],[22,1,22,2],[23,1,23,2],[1,2,4,3],[1,4,4,16],[1,17,1,19],[1,21,1,23],[2,17,2,19],[2,21,2,23],[3,17,3,19],[3,21,3,23],[4,17,4,19],[4,21,4,23]]}
[]
[null,null,null,null,"Rapport journalier",null,null,null,null,null,null,null,null,null,null,null,null,"Code:DAS-SMQ-24"]
[null,null,null,null,null,null,null,null,null,null,null,null,null,null,null,null,null,"Date: 27/12/2019"]
[null,null,null,null,null,null,null,null,null,null,null,null,null,null,null,null,null,"Version:01"]
[null,null,null,null,null,null,null,null,null,null,null,null,null,null,null,null,null,"Page:1"]
[]
[]
[]
[]
[]
[]
[null,null,null,"A","B","C","D","E","F","M","N","O","P","I","L","K","J","G","H"]
[null,"Machine",null,"SST16","SB16","BIGLIA 301 SM","BIGLIA 42 S2M bitourelle","L32","TSUGAMI","MORI SEIKI 3 axes","MORI SEIKI 5 axes","HARDING","KITAMURA","MULTIBROCHE","NAKAMURA","TOUR WEILER"]
[null,"Référence",null,"T-RB400","510021-janv 2022",512520,35133801,68.080699999999993,"S3SD14632"," - "," - ","PIG 50 SE-mori seiki ",9630,"MPS000300","H001","I039","18*27*43",68.081500000000005,"I110-01-004"]
[null,"Désignation",null,"RIVET TRB400","QUADRO 10*60 AVP-AXE ACIER-janvier 2022","INSERTO MANOPOLA INOX M8-","QAB 14*18-D16 NLD","BUSE D8 maj-c","BUTEE-d9 MAJ C","Arrêt","Arrêt","pignon simple etage fraisage","Usinage Borne T030 jan2022","raccord HEX 17","GOUJON DE ROUE HONDA maj-c","GOUJON DE ROUE ISUZU","Bague aliminium 18*27*43 par chute","Buse droite à collerette Ø8 M445 FRD","INSERT LEVIER SURMOULEE 345833-01-sb16c"]
[null,"Compteur 8h ",null,122,10213,2722,697,0,92697,0,0,149,3222,0,3772,3128,0,11227,647]
[null,"Compteur 17h",null,1810,10803,3351,1051,0,94526,0,0,172,3411,0,3969,3128,280,11400,1357]
[null,"Enregistrement","9h"]
[null,null,"16h"]
[null,"Identification"]
[null,"Propreté des tables de contrôle"]
[null,"Rangement des outils de contrôle"]
[null,"Existance de l'OF"]
[null,"Affutage",null,null,null,null,null,null,null,null,null,null,null,null,null,null,null,null,null,{"$f":"+COUNTA(D24:S24)","v":0}]
[null,"Maintenance"]
[null,"Nombre des NC poubelle "]
[null,"Nombre des NC à retoucher"]
[null,"Machine pour retouche"]
[null,"Panne"]
[null,"Cout pièces de rechange",null,null,null,null,null,null,null,null,null,null,null,null,null,null,null,null,null,{"$f":"SUM(D30:S30)","v":0}]
[null,"prix de revient pièce",null,{"$f":"IFERROR(VLOOKUP(D14,'Prix de revient'!$A:$D,4,0),0)","v":0},{"$f":"IFERROR(VLOOKUP(E14,'Prix de revient'!$A:$D,4,0),0)","v":0},{"$f":"IFERROR(VLOOKUP(F14,'Prix de revient'!$A:$D,4,0),0)","v":1.2482000000000002},{"$f":"IFERROR(VLOOKUP(G14,'Prix de revient'!$A:$D,4,0),0)","v":1.2640000000000002},{"$f":"IFERROR(VLOOKUP(H14,'Prix de revient'!$A:$D,4,0),0)","v":0},{"$f":"IFERROR(VLOOKUP(I14,'Prix de revient'!$A:$D,4,0),0)","v":0},{"$f":"IFERROR(VLOOKUP(J14,'Prix de revient'!$A:$D,4,0),0)","v":0},{"$f":"IFERROR(VLOOKUP(K14,'Prix de revient'!$A:$D,4,0),0)","v":0},{"$f":"IFERROR(VLOOKUP(L14,'Prix de revient'!$A:$D,4,0),0)","v":0},{"$f":"IFERROR(VLOOKUP(M14,'Prix de revient'!$A:$D,4,0),0)","v":0},{"$f":"IFERROR(VLOOKUP(N14,'Prix de revient'!$A:$D,4,0),0)","v":0},{"$f":"IFERROR(VLOOKUP(O14,'Prix de revient'!$A:$D,4,0),0)","v":0.69520000000000004},{"$f":"IFERROR(VLOOKUP(P14,'Prix de revient'!$A:$D,4,0),0)","v":0},{"$f":"IFERROR(VLOOKUP(Q14,'Prix de revient'!$A:$D,4,0),0)","v":0},{"$f":"IFERROR(VLOOKUP(R14,'Prix de revient'!$A:$D,4,0),0)","v":0},{"$f":"IFERROR(VLOOKUP(S14,'Prix de revient'!$A:$D,4,0),0)","v":2.1488}]
[null,"coût de rebuts",null,{"$f":"D26*D31","v":0},{"$f":"E26*E31","v":0},0,0,0,0,0,0,0,0,0,0,0,0,0,0,{"$f":"SUM(D32:S32)","v":0}]
[null,"gestion de modification"]
[]
[]
[]
[]
[]
[]
[]
[null,null,"Clients","Audit","Réclamation","Avoir",null,"Fournisseurs/ sous-traitants","Réception de matiere","Probleme qualité",null,"Les formations professionnelles","Cout","Chiffrage décliné","Actions à suivre",null,"Article qui a subit un tri","durée du tri","Nombre des pieces non-conformes","ouvrier faisant le tri","cout par tri",null,"Article qui a subit la reprise","durée de la reprise","opérateur faisant la reprise","coût de reprise",null,null,null,"Machine ","article","gamme","objet de la modification"]
[null,null,null,null,null,null,null,null,null,null,null,null,null,null,null,null,null,null,null,null,{"$f":"IF(R42=\"\",\"\",R42*VLOOKUP(T42,'cout opérateur machines'!A1:B8,2,0))","v":""},null,null,null,null,{"$f":"X42*8","v":0}]
[null,null,null,null,null,null,null,null,null,null,null,null,null,null,null,null,null,null,null,null,{"$f":"IF(R43=\"\",\"\",R43*VLOOKUP(T43,'cout opérateur machines'!A2:B9,2,0))","v":""},null,null,null,null,{"$f":"X43*8","v":0}]
[null,null,null,null,null,null,null,null,null,null,null,null,null,null,null,null,null,null,null,null,{"$f":"IF(R44=\"\",\"\",R44*VLOOKUP(T44,'cout opérateur machines'!A3:B10,2,0))","v":""},null,null,null,null,0]
[null,null,null,null,null,null,null,null,null,null,null,null,null,null,null,null,null,null,null,null,{"$f":"IF(R45=\"\",\"\",R45*VLOOKUP(T45,'cout opérateur machines'!A4:B11,2,0))","v":""},null,null,null,null,0]
[null,null,null,null,null,null,null,null,null,null,null,null,null,null,null,null,null,null,null,null,{"$f":"IF(R46=\"\",\"\",R46*VLOOKUP(T46,'cout opérateur machines'!A5:B12,2,0))","v":""},null,null,null,null,0]
[null,null,null,null,null,null,null,null,null,null,null,null,null,null,null,null,null,null,null,null,{"$f":"IF(R47=\"\",\"\",R47*VLOOKUP(T47,'cout opérateur machines'!A6:B13,2,0))","v":""},null,null,null,null,0]
[null,null,null,null,{"$f":"COUNTA(E42:E47)","v":0},{"$f":"SUM(F42:F47)","v":0},null,null,null,null,null,null,{"$f":"SUM(M42:M47)","v":0},"causes de refus",null,null,null,null,"cout total du jour",null,{"$f":"SUM(U42:U47)","v":0},null,null,null,null,0]
[null,null,null,null,null,null,null,"envoi des réclamations F/ S-T","réponse F/ S-T","alerte",null,null,null,null,null,null,null,null,null,null,null,null,null,null,null,{"$f":"SUM(Z42:Z48)","v":0}]
[null,null,"dans le cas d'une réclamation",null,null,null,null,null,null,{"$f":"IF(J42=\"\",\"\",IF(H50=0,\" réclamation non traitée\",IF(I50=0, \"veuillez contacter le F/ S-T par téléphone\",\"\")))","v":""},null,null,null,null,null,null,null,null,"N° mois",null,1]
[null,null,"nombre de pièces NC",null,null,null,null,null,null,{"$f":"IF(J43=\"\",\"\",IF(H51=0,\" réclamation non traitée\",IF(I51=0, \"veuillez contacter le F/ S-T par téléphone\",\"\")))","v":""}]
[null,null,"nombre de pièces par carton",null,null,null,null,null,null,""]
[null,null,"coût de transport par carton",null,null,null,null,null,null,""]
[null,null,"nombre de cartons renvoyés",null,null,null,null,null,null,""]
[null,null,"temps de tri",null,null,null,null,null,null,""]
[null,null,"coût horaire de tri"]
[null,null,"temps de retouche"]
[null,null,"coût horaire de retouche"]
[null,null,"temps de traitement de la réclamation"]
[null,null,"coût horaire de traitement"]
[null,null,"coût total",{"$f":"IFERROR(((D51/D52)*D53)+D54*D53+D55*D56+D57*D58+D59*D60,\"\")","v":""}]

{"sheet":"27-1-22","index":84,"n_rows":61,"n_cols":33,"rows_kept":61,"cut":false,"hidden":false,"merged":[[31,1,31,2],[32,1,32,2],[47,18,47,19],[49,18,49,19],[25,1,25,2],[26,1,26,2],[27,1,27,2],[28,1,28,2],[29,1,29,2],[30,1,30,2],[24,1,24,2],[12,1,12,2],[13,1,13,2],[14,1,14,2],[15,1,15,2],[16,1,16,2],[17,1,18,1],[19,1,19,2],[20,1,20,2],[21,1,21,2],[22,1,22,2],[23,1,23,2],[1,2,4,3],[1,4,4,16],[1,17,1,19],[1,21,1,23],[2,17,2,19],[2,21,2,23],[3,17,3,19],[3,21,3,23],[4,17,4,19],[4,21,4,23]]}
[]
[null,null,null,null,"Rapport journalier",null,null,null,null,null,null,null,null,null,null,null,null,"Code:DAS-SMQ-24"]
[null,null,null,null,null,null,null,null,null,null,null,null,null,null,null,null,null,"Date: 27/12/2019"]
[null,null,null,null,null,null,null,null,null,null,null,null,null,null,null,null,null,"Version:01"]
[null,null,null,null,null,null,null,null,null,null,null,null,null,null,null,null,null,"Page:1"]
[]
[]
[]
[]
[]
[]
[null,null,null,"A","B","C","D","E","F","M","N","O","P","I","L","K","J","G","H"]
[null,"Machine",null,"SST16","SB16","BIGLIA 301 SM","BIGLIA 42 S2M bitourelle","L32","TSUGAMI","MORI SEIKI 3 axes","MORI SEIKI 5 axes","HARDING","KITAMURA","MULTIBROCHE","NAKAMURA","TOUR WEILER"]
[null,"Référence",null,"T-RB400","510021-janv 2022",512520,35133801,68.080699999999993,"S3SD14632"," - "," - ","PIG 50 SE-mori seiki ",9630,"MPS000300","H001","I039","4-8407",68.081500000000005,"I110-01-004"]
[null,"Désignation",null,"RIVET TRB400","QUADRO 10*60 AVP-AXE ACIER-janvier 2022","INSERTO MANOPOLA INOX M8-","QAB 14*18-D16 NLD","BUSE D8 maj-c","BUTEE-d9 MAJ C","Arrêt","Arrêt","pignon simple etage fraisage","Usinage Borne T030 jan2022","raccord HEX 17","GOUJON DE ROUE HONDA maj-c","GOUJON DE ROUE ISUZU","Bague aliminium 14.4*27*54 par chute","Buse droite à collerette Ø8 M445 FRD","INSERT LEVIER SURMOULEE 345833-01-sb16c"]
[null,"Compteur 8h ",null,0,9633,2180,307,0,90712,0,0,104,3024,0,3530,3017,254,10829,0]
[null,"Compteur 17h",null,122,10213,2722,697,0,92697,0,0,149,3222,0,3772,3128,530,11227,647]
[null,"Enregistrement","9h"]
[null,null,"16h"]
[null,"Identification"]
[null,"Propreté des tables de contrôle"]
[null,"Rangement des outils de contrôle"]
[null,"Existance de l'OF"]
[null,"Affutage",null,null,null,null,null,null,null,null,null,null,null,null,null,null,null,null,null,{"$f":"+COUNTA(D24:S24)","v":0}]
[null,"Maintenance"]
[null,"Nombre des NC poubelle "]
[null,"Nombre des NC à retoucher"]
[null,"Machine pour retouche"]
[null,"Panne"]
[null,"Cout pièces de rechange",null,null,null,null,null,null,null,null,null,null,null,null,null,null,null,null,null,{"$f":"SUM(D30:S30)","v":0}]
[null,"prix de revient pièce",null,{"$f":"IFERROR(VLOOKUP(D14,'Prix de revient'!$A:$D,4,0),0)","v":0},{"$f":"IFERROR(VLOOKUP(E14,'Prix de revient'!$A:$D,4,0),0)","v":0},{"$f":"IFERROR(VLOOKUP(F14,'Prix de revient'!$A:$D,4,0),0)","v":1.2482000000000002},{"$f":"IFERROR(VLOOKUP(G14,'Prix de revient'!$A:$D,4,0),0)","v":1.2640000000000002},{"$f":"IFERROR(VLOOKUP(H14,'Prix de revient'!$A:$D,4,0),0)","v":0},{"$f":"IFERROR(VLOOKUP(I14,'Prix de revient'!$A:$D,4,0),0)","v":0},{"$f":"IFERROR(VLOOKUP(J14,'Prix de revient'!$A:$D,4,0),0)","v":0},{"$f":"IFERROR(VLOOKUP(K14,'Prix de revient'!$A:$D,4,0),0)","v":0},{"$f":"IFERROR(VLOOKUP(L14,'Prix de revient'!$A:$D,4,0),0)","v":0},{"$f":"IFERROR(VLOOKUP(M14,'Prix de revient'!$A:$D,4,0),0)","v":0},{"$f":"IFERROR(VLOOKUP(N14,'Prix de revient'!$A:$D,4,0),0)","v":0},{"$f":"IFERROR(VLOOKUP(O14,'Prix de revient'!$A:$D,4,0),0)","v":0.69520000000000004},{"$f":"IFERROR(VLOOKUP(P14,'Prix de revient'!$A:$D,4,0),0)","v":0},{"$f":"IFERROR(VLOOKUP(Q14,'Prix de revient'!$A:$D,4,0),0)","v":0},{"$f":"IFERROR(VLOOKUP(R14,'Prix de revient'!$A:$D,4,0),0)","v":0},{"$f":"IFERROR(VLOOKUP(S14,'Prix de revient'!$A:$D,4,0),0)","v":2.1488}]
[null,"coût de rebuts",null,{"$f":"D26*D31","v":0},{"$f":"E26*E31","v":0},0,0,0,0,0,0,0,0,0,0,0,0,0,0,{"$f":"SUM(D32:S32)","v":0}]
[null,"gestion de modification"]
[]
[]
[]
[]
[]
[]
[]
[null,null,"Clients","Audit","Réclamation","Avoir",null,"Fournisseurs/ sous-traitants","Réception de matiere","Probleme qualité",null,"Les formations professionnelles","Cout","Chiffrage décliné","Actions à suivre",null,"Article qui a subit un tri","durée du tri","Nombre des pieces non-conformes","ouvrier faisant le tri","cout par tri",null,"Article qui a subit la reprise","durée de la reprise","opérateur faisant la reprise","coût de reprise",null,null,null,"Machine ","article","gamme","objet de la modification"]
[null,null,null,null,null,null,null,null,null,null,null,null,null,null,null,null,null,null,null,null,{"$f":"IF(R42=\"\",\"\",R42*VLOOKUP(T42,'cout opérateur machines'!A1:B8,2,0))","v":""},null,null,null,null,{"$f":"X42*8","v":0}]
[null,null,null,null,null,null,null,null,null,null,null,null,null,null,null,null,null,null,null,null,{"$f":"IF(R43=\"\",\"\",R43*VLOOKUP(T43,'cout opérateur machines'!A2:B9,2,0))","v":""},null,null,null,null,{"$f":"X43*8","v":0}]
[null,null,null,null,null,null,null,null,null,null,null,null,null,null,null,null,null,null,null,null,{"$f":"IF(R44=\"\",\"\",R44*VLOOKUP(T44,'cout opérateur machines'!A3:B10,2,0))","v":""},null,null,null,null,0]
[null,null,null,null,null,null,null,null,null,null,null,null,null,null,null,null,null,null,null,null,{"$f":"IF(R45=\"\",\"\",R45*VLOOKUP(T45,'cout opérateur machines'!A4:B11,2,0))","v":""},null,null,null,null,0]
[null,null,null,null,null,null,null,null,null,null,null,null,null,null,null,null,null,null,null,null,{"$f":"IF(R46=\"\",\"\",R46*VLOOKUP(T46,'cout opérateur machines'!A5:B12,2,0))","v":""},null,null,null,null,0]
[null,null,null,null,null,null,null,null,null,null,null,null,null,null,null,null,null,null,null,null,{"$f":"IF(R47=\"\",\"\",R47*VLOOKUP(T47,'cout opérateur machines'!A6:B13,2,0))","v":""},null,null,null,null,0]
[null,null,null,null,{"$f":"COUNTA(E42:E47)","v":0},{"$f":"SUM(F42:F47)","v":0},null,null,null,null,null,null,{"$f":"SUM(M42:M47)","v":0},"causes de refus",null,null,null,null,"cout total du jour",null,{"$f":"SUM(U42:U47)","v":0},null,null,null,null,0]
[null,null,null,null,null,null,null,"envoi des réclamations F/ S-T","réponse F/ S-T","alerte",null,null,null,null,null,null,null,null,null,null,null,null,null,null,null,{"$f":"SUM(Z42:Z48)","v":0}]
[null,null,"dans le cas d'une réclamation",null,null,null,null,null,null,{"$f":"IF(J42=\"\",\"\",IF(H50=0,\" réclamation non traitée\",IF(I50=0, \"veuillez contacter le F/ S-T par téléphone\",\"\")))","v":""},null,null,null,null,null,null,null,null,"N° mois",null,1]
[null,null,"nombre de pièces NC",null,null,null,null,null,null,{"$f":"IF(J43=\"\",\"\",IF(H51=0,\" réclamation non traitée\",IF(I51=0, \"veuillez contacter le F/ S-T par téléphone\",\"\")))","v":""}]
[null,null,"nombre de pièces par carton",null,null,null,null,null,null,""]
[null,null,"coût de transport par carton",null,null,null,null,null,null,""]
[null,null,"nombre de cartons renvoyés",null,null,null,null,null,null,""]
[null,null,"temps de tri",null,null,null,null,null,null,""]
[null,null,"coût horaire de tri"]
[null,null,"temps de retouche"]
[null,null,"coût horaire de retouche"]
[null,null,"temps de traitement de la réclamation"]
[null,null,"coût horaire de traitement"]
[null,null,"coût total",{"$f":"IFERROR(((D51/D52)*D53)+D54*D53+D55*D56+D57*D58+D59*D60,\"\")","v":""}]

{"sheet":"26-1-22","index":85,"n_rows":61,"n_cols":33,"rows_kept":61,"cut":false,"hidden":false,"merged":[[31,1,31,2],[32,1,32,2],[47,18,47,19],[49,18,49,19],[25,1,25,2],[26,1,26,2],[27,1,27,2],[28,1,28,2],[29,1,29,2],[30,1,30,2],[24,1,24,2],[12,1,12,2],[13,1,13,2],[14,1,14,2],[15,1,15,2],[16,1,16,2],[17,1,18,1],[19,1,19,2],[20,1,20,2],[21,1,21,2],[22,1,22,2],[23,1,23,2],[1,2,4,3],[1,4,4,16],[1,17,1,19],[1,21,1,23],[2,17,2,19],[2,21,2,23],[3,17,3,19],[3,21,3,23],[4,17,4,19],[4,21,4,23]]}
[]
[null,null,null,null,"Rapport journalier",null,null,null,null,null,null,null,null,null,null,null,null,"Code:DAS-SMQ-24"]
[null,null,null,null,null,null,null,null,null,null,null,null,null,null,null,null,null,"Date: 27/12/2019"]
[null,null,null,null,null,null,null,null,null,null,null,null,null,null,null,null,null,"Version:01"]
[null,null,null,null,null,null,null,null,null,null,null,null,null,null,null,null,null,"Page:1"]
[]
[]
[]
[]
[]
[]
[null,null,null,"A","B","C","D","E","F","M","N","O","P","I","L","K","J","G","H"]
[null,"Machine",null,"SST16","SB16","BIGLIA 301 SM","BIGLIA 42 S2M bitourelle","L32","TSUGAMI","MORI SEIKI 3 axes","MORI SEIKI 5 axes","HARDING","KITAMURA","MULTIBROCHE","NAKAMURA","TOUR WEILER"]
[null,"Référence",null,"MI038","510021-janv 2022",512520,35133801,68.080699999999993,"S3SD14632"," - "," - ","PIG 50 SE-mori seiki ",9630,"MPS000300","H001","I039","4-8407",68.081500000000005,"Rv-Re400"]
[null,"Désignation",null,"GOUJON GUADA maj-cad","QUADRO 10*60 AVP-AXE ACIER-janvier 2022","INSERTO MANOPOLA INOX M8-","QAB 14*18-D16 NLD","BUSE D8 maj-c","BUTEE-d9 MAJ C","Arrêt","Arrêt","pignon simple etage fraisage","Usinage Borne T030 jan2022","raccord HEX 17","GOUJON DE ROUE HONDA maj-c","GOUJON DE ROUE ISUZU","Bague aliminium 14.4*27*54 par chute","Buse droite à collerette Ø8 M445 FRD","Rivet came B verro D4"]
[null,"Compteur 8h ",null,4607,9133,1638,0,17876,88777,0,0,63,2812,0,3322,2801,0,10829,96288]
[null,"Compteur 17h",null,5107,9633,2180,307,18946,90712,0,0,104,3024,0,3530,3017,254,10829,96760]
[null,"Enregistrement","9h"]
[null,null,"16h"]
[null,"Identification"]
[null,"Propreté des tables de contrôle"]
[null,"Rangement des outils de contrôle"]
[null,"Existance de l'OF"]
[null,"Affutage",null,null,null,null,null,null,null,null,null,null,null,null,null,null,null,null,null,{"$f":"+COUNTA(D24:S24)","v":0}]
[null,"Maintenance"]
[null,"Nombre des NC poubelle "]
[null,"Nombre des NC à retoucher"]
[null,"Machine pour retouche"]
[null,"Panne"]
[null,"Cout pièces de rechange",null,null,null,null,null,null,null,null,null,null,null,null,null,null,null,null,null,{"$f":"SUM(D30:S30)","v":0}]
[null,"prix de revient pièce",null,{"$f":"IFERROR(VLOOKUP(D14,'Prix de revient'!$A:$D,4,0),0)","v":0},{"$f":"IFERROR(VLOOKUP(E14,'Prix de revient'!$A:$D,4,0),0)","v":0},{"$f":"IFERROR(VLOOKUP(F14,'Prix de revient'!$A:$D,4,0),0)","v":1.2482000000000002},{"$f":"IFERROR(VLOOKUP(G14,'Prix de revient'!$A:$D,4,0),0)","v":1.2640000000000002},{"$f":"IFERROR(VLOOKUP(H14,'Prix de revient'!$A:$D,4,0),0)","v":0},{"$f":"IFERROR(VLOOKUP(I14,'Prix de revient'!$A:$D,4,0),0)","v":0},{"$f":"IFERROR(VLOOKUP(J14,'Prix de revient'!$A:$D,4,0),0)","v":0},{"$f":"IFERROR(VLOOKUP(K14,'Prix de revient'!$A:$D,4,0),0)","v":0},{"$f":"IFERROR(VLOOKUP(L14,'Prix de revient'!$A:$D,4,0),0)","v":0},{"$f":"IFERROR(VLOOKUP(M14,'Prix de revient'!$A:$D,4,0),0)","v":0},{"$f":"IFERROR(VLOOKUP(N14,'Prix de revient'!$A:$D,4,0),0)","v":0},{"$f":"IFERROR(VLOOKUP(O14,'Prix de revient'!$A:$D,4,0),0)","v":0.69520000000000004},{"$f":"IFERROR(VLOOKUP(P14,'Prix de revient'!$A:$D,4,0),0)","v":0},{"$f":"IFERROR(VLOOKUP(Q14,'Prix de revient'!$A:$D,4,0),0)","v":0},{"$f":"IFERROR(VLOOKUP(R14,'Prix de revient'!$A:$D,4,0),0)","v":0},{"$f":"IFERROR(VLOOKUP(S14,'Prix de revient'!$A:$D,4,0),0)","v":0}]
[null,"coût de rebuts",null,{"$f":"D26*D31","v":0},{"$f":"E26*E31","v":0},0,0,0,0,0,0,0,0,0,0,0,0,0,0,{"$f":"SUM(D32:S32)","v":0}]
[null,"gestion de modification"]
[]
[]
[]
[]
[]
[]
[]
[null,null,"Clients","Audit","Réclamation","Avoir",null,"Fournisseurs/ sous-traitants","Réception de matiere","Probleme qualité",null,"Les formations professionnelles","Cout","Chiffrage décliné","Actions à suivre",null,"Article qui a subit un tri","durée du tri","Nombre des pieces non-conformes","ouvrier faisant le tri","cout par tri",null,"Article qui a subit la reprise","durée de la reprise","opérateur faisant la reprise","coût de reprise",null,null,null,"Machine ","article","gamme","objet de la modification"]
[null,null,null,null,null,null,null,null,null,null,null,null,null,null,null,null,null,null,null,null,{"$f":"IF(R42=\"\",\"\",R42*VLOOKUP(T42,'cout opérateur machines'!A1:B8,2,0))","v":""},null,null,null,null,{"$f":"X42*8","v":0}]
[null,null,null,null,null,null,null,null,null,null,null,null,null,null,null,null,null,null,null,null,{"$f":"IF(R43=\"\",\"\",R43*VLOOKUP(T43,'cout opérateur machines'!A2:B9,2,0))","v":""},null,null,null,null,{"$f":"X43*8","v":0}]
[null,null,null,null,null,null,null,null,null,null,null,null,null,null,null,null,null,null,null,null,{"$f":"IF(R44=\"\",\"\",R44*VLOOKUP(T44,'cout opérateur machines'!A3:B10,2,0))","v":""},null,null,null,null,0]
[null,null,null,null,null,null,null,null,null,null,null,null,null,null,null,null,null,null,null,null,{"$f":"IF(R45=\"\",\"\",R45*VLOOKUP(T45,'cout opérateur machines'!A4:B11,2,0))","v":""},null,null,null,null,0]
[null,null,null,null,null,null,null,null,null,null,null,null,null,null,null,null,null,null,null,null,{"$f":"IF(R46=\"\",\"\",R46*VLOOKUP(T46,'cout opérateur machines'!A5:B12,2,0))","v":""},null,null,null,null,0]
[null,null,null,null,null,null,null,null,null,null,null,null,null,null,null,null,null,null,null,null,{"$f":"IF(R47=\"\",\"\",R47*VLOOKUP(T47,'cout opérateur machines'!A6:B13,2,0))","v":""},null,null,null,null,0]
[null,null,null,null,{"$f":"COUNTA(E42:E47)","v":0},{"$f":"SUM(F42:F47)","v":0},null,null,null,null,null,null,{"$f":"SUM(M42:M47)","v":0},"causes de refus",null,null,null,null,"cout total du jour",null,{"$f":"SUM(U42:U47)","v":0},null,null,null,null,0]
[null,null,null,null,null,null,null,"envoi des réclamations F/ S-T","réponse F/ S-T","alerte",null,null,null,null,null,null,null,null,null,null,null,null,null,null,null,{"$f":"SUM(Z42:Z48)","v":0}]
[null,null,"dans le cas d'une réclamation",null,null,null,null,null,null,{"$f":"IF(J42=\"\",\"\",IF(H50=0,\" réclamation non traitée\",IF(I50=0, \"veuillez contacter le F/ S-T par téléphone\",\"\")))","v":""},null,null,null,null,null,null,null,null,"N° mois",null,1]
[null,null,"nombre de pièces NC",null,null,null,null,null,null,{"$f":"IF(J43=\"\",\"\",IF(H51=0,\" réclamation non traitée\",IF(I51=0, \"veuillez contacter le F/ S-T par téléphone\",\"\")))","v":""}]
[null,null,"nombre de pièces par carton",null,null,null,null,null,null,""]
[null,null,"coût de transport par carton",null,null,null,null,null,null,""]
[null,null,"nombre de cartons renvoyés",null,null,null,null,null,null,""]
[null,null,"temps de tri",null,null,null,null,null,null,""]
[null,null,"coût horaire de tri"]
[null,null,"temps de retouche"]
[null,null,"coût horaire de retouche"]
[null,null,"temps de traitement de la réclamation"]
[null,null,"coût horaire de traitement"]
[null,null,"coût total",{"$f":"IFERROR(((D51/D52)*D53)+D54*D53+D55*D56+D57*D58+D59*D60,\"\")","v":""}]

{"sheet":"25-1-22","index":86,"n_rows":61,"n_cols":33,"rows_kept":61,"cut":false,"hidden":false,"merged":[[31,1,31,2],[32,1,32,2],[47,18,47,19],[49,18,49,19],[25,1,25,2],[26,1,26,2],[27,1,27,2],[28,1,28,2],[29,1,29,2],[30,1,30,2],[24,1,24,2],[12,1,12,2],[13,1,13,2],[14,1,14,2],[15,1,15,2],[16,1,16,2],[17,1,18,1],[19,1,19,2],[20,1,20,2],[21,1,21,2],[22,1,22,2],[23,1,23,2],[1,2,4,3],[1,4,4,16],[1,17,1,19],[1,21,1,23],[2,17,2,19],[2,21,2,23],[3,17,3,19],[3,21,3,23],[4,17,4,19],[4,21,4,23]]}
[]
[null,null,null,null,"Rapport journalier",null,null,null,null,null,null,null,null,null,null,null,null,"Code:DAS-SMQ-24"]
[null,null,null,null,null,null,null,null,null,null,null,null,null,null,null,null,null,"Date: 27/12/2019"]
[null,null,null,null,null,null,null,null,null,null,null,null,null,null,null,null,null,"Version:01"]
[null,null,null,null,null,null,null,null,null,null,null,null,null,null,null,null,null,"Page:1"]
[]
[]
[]
[]
[]
[]
[null,null,null,"A","B","C","D","E","F","M","N","O","P","I","L","K","J","G","H"]
[null,"Machine",null,"SST16","SB16","BIGLIA 301 SM","BIGLIA 42 S2M bitourelle","L32","TSUGAMI","MORI SEIKI 3 axes","MORI SEIKI 5 axes","HARDING","KITAMURA","MULTIBROCHE","NAKAMURA","TOUR WEILER"]
[null,"Référence",null,"MI038","510021-janv 2022",512520,513611,68.080699999999993,"S3SD14632"," - "," - ","PIG 50 SE-mori seiki ",9630,"MPS000300","H001","I039","I016-CP2-PRO",68.081500000000005,"Rv-Re400"]
[null,"Désignation",null,"GOUJON GUADA maj-cad","QUADRO 10*60 AVP-AXE ACIER-janvier 2022","INSERTO MANOPOLA INOX M8-","Pomello Corpo GA- maj c","BUSE D8 maj-c","BUTEE-d9 MAJ C","Arrêt","Arrêt","pignon simple etage fraisage","Usinage Borne T030 jan2022","raccord HEX 17","GOUJON DE ROUE HONDA maj-c","GOUJON DE ROUE ISUZU","Bague extERIEUR SILENT BLOC canter FINI","Buse droite à collerette Ø8 M445 FRD","Rivet came B verro D4"]
[null,"Compteur 8h ",null,4146,8683,1098,0,16766,86853,0,0,24,2605,0,3104,2624,802,10829,93650]
[null,"Compteur 17h",null,4607,9133,1638,0,17876,88777,0,0,63,2812,0,3322,2801,1455,10829,96288]
[null,"Enregistrement","9h"]
[null,null,"16h"]
[null,"Identification"]
[null,"Propreté des tables de contrôle"]
[null,"Rangement des outils de contrôle"]
[null,"Existance de l'OF"]
[null,"Affutage",null,null,null,null,null,null,null,null,null,null,null,null,null,null,null,null,null,{"$f":"+COUNTA(D24:S24)","v":0}]
[null,"Maintenance"]
[null,"Nombre des NC poubelle "]
[null,"Nombre des NC à retoucher"]
[null,"Machine pour retouche"]
[null,"Panne"]
[null,"Cout pièces de rechange",null,null,null,null,null,null,null,null,null,null,null,null,null,null,null,null,null,{"$f":"SUM(D30:S30)","v":0}]
[null,"prix de revient pièce",null,{"$f":"IFERROR(VLOOKUP(D14,'Prix de revient'!$A:$D,4,0),0)","v":0},{"$f":"IFERROR(VLOOKUP(E14,'Prix de revient'!$A:$D,4,0),0)","v":0},{"$f":"IFERROR(VLOOKUP(F14,'Prix de revient'!$A:$D,4,0),0)","v":1.2482000000000002},{"$f":"IFERROR(VLOOKUP(G14,'Prix de revient'!$A:$D,4,0),0)","v":0},{"$f":"IFERROR(VLOOKUP(H14,'Prix de revient'!$A:$D,4,0),0)","v":0},{"$f":"IFERROR(VLOOKUP(I14,'Prix de revient'!$A:$D,4,0),0)","v":0},{"$f":"IFERROR(VLOOKUP(J14,'Prix de revient'!$A:$D,4,0),0)","v":0},{"$f":"IFERROR(VLOOKUP(K14,'Prix de revient'!$A:$D,4,0),0)","v":0},{"$f":"IFERROR(VLOOKUP(L14,'Prix de revient'!$A:$D,4,0),0)","v":0},{"$f":"IFERROR(VLOOKUP(M14,'Prix de revient'!$A:$D,4,0),0)","v":0},{"$f":"IFERROR(VLOOKUP(N14,'Prix de revient'!$A:$D,4,0),0)","v":0},{"$f":"IFERROR(VLOOKUP(O14,'Prix de revient'!$A:$D,4,0),0)","v":0.69520000000000004},{"$f":"IFERROR(VLOOKUP(P14,'Prix de revient'!$A:$D,4,0),0)","v":0},{"$f":"IFERROR(VLOOKUP(Q14,'Prix de revient'!$A:$D,4,0),0)","v":0},{"$f":"IFERROR(VLOOKUP(R14,'Prix de revient'!$A:$D,4,0),0)","v":0},{"$f":"IFERROR(VLOOKUP(S14,'Prix de revient'!$A:$D,4,0),0)","v":0}]
[null,"coût de rebuts",null,{"$f":"D26*D31","v":0},{"$f":"E26*E31","v":0},0,0,0,0,0,0,0,0,0,0,0,0,0,0,{"$f":"SUM(D32:S32)","v":0}]
[null,"gestion de modification"]
[]
[]
[]
[]
[]
[]
[]
[null,null,"Clients","Audit","Réclamation","Avoir",null,"Fournisseurs/ sous-traitants","Réception de matiere","Probleme qualité",null,"Les formations professionnelles","Cout","Chiffrage décliné","Actions à suivre",null,"Article qui a subit un tri","durée du tri","Nombre des pieces non-conformes","ouvrier faisant le tri","cout par tri",null,"Article qui a subit la reprise","durée de la reprise","opérateur faisant la reprise","coût de reprise",null,null,null,"Machine ","article","gamme","objet de la modification"]
[null,null,null,null,null,null,null,null,null,null,null,null,null,null,null,null,null,null,null,null,{"$f":"IF(R42=\"\",\"\",R42*VLOOKUP(T42,'cout opérateur machines'!A1:B8,2,0))","v":""},null,null,null,null,{"$f":"X42*8","v":0}]
[null,null,null,null,null,null,null,null,null,null,null,null,null,null,null,null,null,null,null,null,{"$f":"IF(R43=\"\",\"\",R43*VLOOKUP(T43,'cout opérateur machines'!A2:B9,2,0))","v":""},null,null,null,null,{"$f":"X43*8","v":0}]
[null,null,null,null,null,null,null,null,null,null,null,null,null,null,null,null,null,null,null,null,{"$f":"IF(R44=\"\",\"\",R44*VLOOKUP(T44,'cout opérateur machines'!A3:B10,2,0))","v":""},null,null,null,null,0]
[null,null,null,null,null,null,null,null,null,null,null,null,null,null,null,null,null,null,null,null,{"$f":"IF(R45=\"\",\"\",R45*VLOOKUP(T45,'cout opérateur machines'!A4:B11,2,0))","v":""},null,null,null,null,0]
[null,null,null,null,null,null,null,null,null,null,null,null,null,null,null,null,null,null,null,null,{"$f":"IF(R46=\"\",\"\",R46*VLOOKUP(T46,'cout opérateur machines'!A5:B12,2,0))","v":""},null,null,null,null,0]
[null,null,null,null,null,null,null,null,null,null,null,null,null,null,null,null,null,null,null,null,{"$f":"IF(R47=\"\",\"\",R47*VLOOKUP(T47,'cout opérateur machines'!A6:B13,2,0))","v":""},null,null,null,null,0]
[null,null,null,null,{"$f":"COUNTA(E42:E47)","v":0},{"$f":"SUM(F42:F47)","v":0},null,null,null,null,null,null,{"$f":"SUM(M42:M47)","v":0},"causes de refus",null,null,null,null,"cout total du jour",null,{"$f":"SUM(U42:U47)","v":0},null,null,null,null,0]
[null,null,null,null,null,null,null,"envoi des réclamations F/ S-T","réponse F/ S-T","alerte",null,null,null,null,null,null,null,null,null,null,null,null,null,null,null,{"$f":"SUM(Z42:Z48)","v":0}]
[null,null,"dans le cas d'une réclamation",null,null,null,null,null,null,{"$f":"IF(J42=\"\",\"\",IF(H50=0,\" réclamation non traitée\",IF(I50=0, \"veuillez contacter le F/ S-T par téléphone\",\"\")))","v":""},null,null,null,null,null,null,null,null,"N° mois",null,1]
[null,null,"nombre de pièces NC",null,null,null,null,null,null,{"$f":"IF(J43=\"\",\"\",IF(H51=0,\" réclamation non traitée\",IF(I51=0, \"veuillez contacter le F/ S-T par téléphone\",\"\")))","v":""}]
[null,null,"nombre de pièces par carton",null,null,null,null,null,null,""]
[null,null,"coût de transport par carton",null,null,null,null,null,null,""]
[null,null,"nombre de cartons renvoyés",null,null,null,null,null,null,""]
[null,null,"temps de tri",null,null,null,null,null,null,""]
[null,null,"coût horaire de tri"]
[null,null,"temps de retouche"]
[null,null,"coût horaire de retouche"]
[null,null,"temps de traitement de la réclamation"]
[null,null,"coût horaire de traitement"]
[null,null,"coût total",{"$f":"IFERROR(((D51/D52)*D53)+D54*D53+D55*D56+D57*D58+D59*D60,\"\")","v":""}]

{"sheet":"24-1-22","index":87,"n_rows":61,"n_cols":33,"rows_kept":61,"cut":false,"hidden":false,"merged":[[31,1,31,2],[32,1,32,2],[47,18,47,19],[49,18,49,19],[25,1,25,2],[26,1,26,2],[27,1,27,2],[28,1,28,2],[29,1,29,2],[30,1,30,2],[24,1,24,2],[12,1,12,2],[13,1,13,2],[14,1,14,2],[15,1,15,2],[16,1,16,2],[17,1,18,1],[19,1,19,2],[20,1,20,2],[21,1,21,2],[22,1,22,2],[23,1,23,2],[1,2,4,3],[1,4,4,16],[1,17,1,19],[1,21,1,23],[2,17,2,19],[2,21,2,23],[3,17,3,19],[3,21,3,23],[4,17,4,19],[4,21,4,23]]}
[]
[null,null,null,null,"Rapport journalier",null,null,null,null,null,null,null,null,null,null,null,null,"Code:DAS-SMQ-24"]
[null,null,null,null,null,null,null,null,null,null,null,null,null,null,null,null,null,"Date: 27/12/2019"]
[null,null,null,null,null,null,null,null,null,null,null,null,null,null,null,null,null,"Version:01"]
[null,null,null,null,null,null,null,null,null,null,null,null,null,null,null,null,null,"Page:1"]
[]
[]
[]
[]
[]
[]
[null,null,null,"A","B","C","D","E","F","M","N","O","P","I","L","K","J","G","H"]
[null,"Machine",null,"SST16","SB16","BIGLIA 301 SM","BIGLIA 42 S2M bitourelle","L32","TSUGAMI","MORI SEIKI 3 axes","MORI SEIKI 5 axes","HARDING","KITAMURA","MULTIBROCHE","NAKAMURA","TOUR WEILER"]
[null,"Référence",null,"MI038","510021-janv 2022",512520,513611,68.080699999999993,"S3SD14632"," - "," - ","PIG 50 SE-mori seiki ",9630,"MPS000300","H001","I039","I016-CP2-PRO",68.081500000000005,"Rv-Re400"]
[null,"Désignation",null,"GOUJON GUADA maj-cad","QUADRO 10*60 AVP-AXE ACIER-janvier 2022","INSERTO MANOPOLA INOX M8-","Pomello Corpo GA- maj c","BUSE D8 maj-c","BUTEE-d9 MAJ C","Arrêt","Arrêt","pignon simple etage fraisage","Usinage Borne T030 jan2022","raccord HEX 17","GOUJON DE ROUE HONDA maj-c","GOUJON DE ROUE ISUZU","Bague extERIEUR SILENT BLOC canter FINI","Buse droite à collerette Ø8 M445 FRD","Rivet came B verro D4"]
[null,"Compteur 8h ",null,3666,8055,505,0,15765,85047,0,0,0,2407,0,2947,2453,0,10650,91160]
[null,"Compteur 17h",null,4146,8683,1098,0,16766,86853,13,0,24,2605,0,3104,2624,802,10829,93650]
[null,"Enregistrement","9h"]
[null,null,"16h"]
[null,"Identification"]
[null,"Propreté des tables de contrôle"]
[null,"Rangement des outils de contrôle"]
[null,"Existance de l'OF"]
[null,"Affutage",null,null,null,null,null,null,null,null,null,null,null,null,null,null,null,null,null,{"$f":"+COUNTA(D24:S24)","v":0}]
[null,"Maintenance"]
[null,"Nombre des NC poubelle ",null,null,null,null,null,null,null,null,null,null,null,null,null,null,66]
[null,"Nombre des NC à retoucher"]
[null,"Machine pour retouche"]
[null,"Panne"]
[null,"Cout pièces de rechange",null,null,null,null,null,null,null,null,null,null,null,null,null,null,null,null,null,{"$f":"SUM(D30:S30)","v":0}]
[null,"prix de revient pièce",null,{"$f":"IFERROR(VLOOKUP(D14,'Prix de revient'!$A:$D,4,0),0)","v":0},{"$f":"IFERROR(VLOOKUP(E14,'Prix de revient'!$A:$D,4,0),0)","v":0},{"$f":"IFERROR(VLOOKUP(F14,'Prix de revient'!$A:$D,4,0),0)","v":1.2482000000000002},{"$f":"IFERROR(VLOOKUP(G14,'Prix de revient'!$A:$D,4,0),0)","v":0},{"$f":"IFERROR(VLOOKUP(H14,'Prix de revient'!$A:$D,4,0),0)","v":0},{"$f":"IFERROR(VLOOKUP(I14,'Prix de revient'!$A:$D,4,0),0)","v":0},{"$f":"IFERROR(VLOOKUP(J14,'Prix de revient'!$A:$D,4,0),0)","v":0},{"$f":"IFERROR(VLOOKUP(K14,'Prix de revient'!$A:$D,4,0),0)","v":0},{"$f":"IFERROR(VLOOKUP(L14,'Prix de revient'!$A:$D,4,0),0)","v":0},{"$f":"IFERROR(VLOOKUP(M14,'Prix de revient'!$A:$D,4,0),0)","v":0},{"$f":"IFERROR(VLOOKUP(N14,'Prix de revient'!$A:$D,4,0),0)","v":0},{"$f":"IFERROR(VLOOKUP(O14,'Prix de revient'!$A:$D,4,0),0)","v":0.69520000000000004},{"$f":"IFERROR(VLOOKUP(P14,'Prix de revient'!$A:$D,4,0),0)","v":0},{"$f":"IFERROR(VLOOKUP(Q14,'Prix de revient'!$A:$D,4,0),0)","v":0},{"$f":"IFERROR(VLOOKUP(R14,'Prix de revient'!$A:$D,4,0),0)","v":0},{"$f":"IFERROR(VLOOKUP(S14,'Prix de revient'!$A:$D,4,0),0)","v":0}]
[null,"coût de rebuts",null,{"$f":"D26*D31","v":0},{"$f":"E26*E31","v":0},0,0,0,0,0,0,0,0,0,0,0,0,0,0,{"$f":"SUM(D32:S32)","v":0}]
[null,"gestion de modification"]
[]
[]
[]
[]
[]
[]
[]
[null,null,"Clients","Audit","Réclamation","Avoir",null,"Fournisseurs/ sous-traitants","Réception de matiere","Probleme qualité",null,"Les formations professionnelles","Cout","Chiffrage décliné","Actions à suivre",null,"Article qui a subit un tri","durée du tri","Nombre des pieces non-conformes","ouvrier faisant le tri","cout par tri",null,"Article qui a subit la reprise","durée de la reprise","opérateur faisant la reprise","coût de reprise",null,null,null,"Machine ","article","gamme","objet de la modification"]
[null,null,null,null,null,null,null,null,null,null,null,null,null,null,null,null,null,null,null,null,{"$f":"IF(R42=\"\",\"\",R42*VLOOKUP(T42,'cout opérateur machines'!A1:B8,2,0))","v":""},null,null,null,null,{"$f":"X42*8","v":0}]
[null,null,null,null,null,null,null,null,null,null,null,null,null,null,null,null,null,null,null,null,{"$f":"IF(R43=\"\",\"\",R43*VLOOKUP(T43,'cout opérateur machines'!A2:B9,2,0))","v":""},null,null,null,null,{"$f":"X43*8","v":0}]
[null,null,null,null,null,null,null,null,null,null,null,null,null,null,null,null,null,null,null,null,{"$f":"IF(R44=\"\",\"\",R44*VLOOKUP(T44,'cout opérateur machines'!A3:B10,2,0))","v":""},null,null,null,null,0]
[null,null,null,null,null,null,null,null,null,null,null,null,null,null,null,null,null,null,null,null,{"$f":"IF(R45=\"\",\"\",R45*VLOOKUP(T45,'cout opérateur machines'!A4:B11,2,0))","v":""},null,null,null,null,0]
[null,null,null,null,null,null,null,null,null,null,null,null,null,null,null,null,null,null,null,null,{"$f":"IF(R46=\"\",\"\",R46*VLOOKUP(T46,'cout opérateur machines'!A5:B12,2,0))","v":""},null,null,null,null,0]
[null,null,null,null,null,null,null,null,null,null,null,null,null,null,null,null,null,null,null,null,{"$f":"IF(R47=\"\",\"\",R47*VLOOKUP(T47,'cout opérateur machines'!A6:B13,2,0))","v":""},null,null,null,null,0]
[null,null,null,null,{"$f":"COUNTA(E42:E47)","v":0},{"$f":"SUM(F42:F47)","v":0},null,null,null,null,null,null,{"$f":"SUM(M42:M47)","v":0},"causes de refus",null,null,null,null,"cout total du jour",null,{"$f":"SUM(U42:U47)","v":0},null,null,null,null,0]
[null,null,null,null,null,null,null,"envoi des réclamations F/ S-T","réponse F/ S-T","alerte",null,null,null,null,null,null,null,null,null,null,null,null,null,null,null,{"$f":"SUM(Z42:Z48)","v":0}]
[null,null,"dans le cas d'une réclamation",null,null,null,null,null,null,{"$f":"IF(J42=\"\",\"\",IF(H50=0,\" réclamation non traitée\",IF(I50=0, \"veuillez contacter le F/ S-T par téléphone\",\"\")))","v":""},null,null,null,null,null,null,null,null,"N° mois",null,1]
[null,null,"nombre de pièces NC",null,null,null,null,null,null,{"$f":"IF(J43=\"\",\"\",IF(H51=0,\" réclamation non traitée\",IF(I51=0, \"veuillez contacter le F/ S-T par téléphone\",\"\")))","v":""}]
[null,null,"nombre de pièces par carton",null,null,null,null,null,null,""]
[null,null,"coût de transport par carton",null,null,null,null,null,null,""]
[null,null,"nombre de cartons renvoyés",null,null,null,null,null,null,""]
[null,null,"temps de tri",null,null,null,null,null,null,""]
[null,null,"coût horaire de tri"]
[null,null,"temps de retouche"]
[null,null,"coût horaire de retouche"]
[null,null,"temps de traitement de la réclamation"]
[null,null,"coût horaire de traitement"]
[null,null,"coût total",{"$f":"IFERROR(((D51/D52)*D53)+D54*D53+D55*D56+D57*D58+D59*D60,\"\")","v":""}]

{"sheet":"22-1-22","index":88,"n_rows":61,"n_cols":33,"rows_kept":61,"cut":false,"hidden":false,"merged":[[31,1,31,2],[32,1,32,2],[47,18,47,19],[49,18,49,19],[25,1,25,2],[26,1,26,2],[27,1,27,2],[28,1,28,2],[29,1,29,2],[30,1,30,2],[24,1,24,2],[12,1,12,2],[13,1,13,2],[14,1,14,2],[15,1,15,2],[16,1,16,2],[17,1,18,1],[19,1,19,2],[20,1,20,2],[21,1,21,2],[22,1,22,2],[23,1,23,2],[1,2,4,3],[1,4,4,16],[1,17,1,19],[1,21,1,23],[2,17,2,19],[2,21,2,23],[3,17,3,19],[3,21,3,23],[4,17,4,19],[4,21,4,23]]}
[]
[null,null,null,null,"Rapport journalier",null,null,null,null,null,null,null,null,null,null,null,null,"Code:DAS-SMQ-24"]
[null,null,null,null,null,null,null,null,null,null,null,null,null,null,null,null,null,"Date: 27/12/2019"]
[null,null,null,null,null,null,null,null,null,null,null,null,null,null,null,null,null,"Version:01"]
[null,null,null,null,null,null,null,null,null,null,null,null,null,null,null,null,null,"Page:1"]
[]
[]
[]
[]
[]
[]
[null,null,null,"A","B","C","D","E","F","M","N","O","P","I","L","K","J","G","H"]
[null,"Machine",null,"SST16","SB16","BIGLIA 301 SM","BIGLIA 42 S2M bitourelle","L32","TSUGAMI","MORI SEIKI 3 axes","MORI SEIKI 5 axes","HARDING","KITAMURA","MULTIBROCHE","NAKAMURA","TOUR WEILER"]
[null,"Référence",null,"MI038","510021-janv 2022",512520,513611,68.080699999999993,"S3SD14632"," - "," - ","PIG 50 SE",9630,"MPS000300","H001","I039","I016-CP2-PRO",68.081500000000005,"Rv-Re400"]
[null,"Désignation",null,"GOUJON GUADA maj-cad","QUADRO 10*60 AVP-AXE ACIER-janvier 2022","INSERTO MANOPOLA INOX M8-","Pomello Corpo GA- maj c","BUSE D8 maj-c","BUTEE-d9 MAJ C","Arrêt","Arrêt","pignon simple etage","Usinage Borne T030 jan2022","raccord HEX 17","GOUJON DE ROUE HONDA maj-c","GOUJON DE ROUE ISUZU","Bague extERIEUR SILENT BLOC canter","Buse droite à collerette Ø8 M445 FRD","Rivet came B verro D4"]
[null,"Compteur 8h ",null,3377,7730,220,0,15390,84216,0,0,209,2306,0,2840,2453,1262,10394,89655]
[null,"Compteur 17h",null,3666,8055,505,0,15765,85047,0,0,213,2407,0,2947,2453,1557,10650,91160]
[null,"Enregistrement","9h"]
[null,null,"16h"]
[null,"Identification"]
[null,"Propreté des tables de contrôle"]
[null,"Rangement des outils de contrôle"]
[null,"Existance de l'OF"]
[null,"Affutage",null,null,null,null,null,null,null,null,null,null,null,null,null,null,null,null,null,{"$f":"+COUNTA(D24:S24)","v":0}]
[null,"Maintenance"]
[null,"Nombre des NC poubelle "]
[null,"Nombre des NC à retoucher"]
[null,"Machine pour retouche"]
[null,"Panne"]
[null,"Cout pièces de rechange",null,null,null,null,null,null,null,null,null,null,null,null,null,null,null,null,null,{"$f":"SUM(D30:S30)","v":0}]
[null,"prix de revient pièce",null,{"$f":"IFERROR(VLOOKUP(D14,'Prix de revient'!$A:$D,4,0),0)","v":0},{"$f":"IFERROR(VLOOKUP(E14,'Prix de revient'!$A:$D,4,0),0)","v":0},{"$f":"IFERROR(VLOOKUP(F14,'Prix de revient'!$A:$D,4,0),0)","v":1.2482000000000002},{"$f":"IFERROR(VLOOKUP(G14,'Prix de revient'!$A:$D,4,0),0)","v":0},{"$f":"IFERROR(VLOOKUP(H14,'Prix de revient'!$A:$D,4,0),0)","v":0},{"$f":"IFERROR(VLOOKUP(I14,'Prix de revient'!$A:$D,4,0),0)","v":0},{"$f":"IFERROR(VLOOKUP(J14,'Prix de revient'!$A:$D,4,0),0)","v":0},{"$f":"IFERROR(VLOOKUP(K14,'Prix de revient'!$A:$D,4,0),0)","v":0},{"$f":"IFERROR(VLOOKUP(L14,'Prix de revient'!$A:$D,4,0),0)","v":0},{"$f":"IFERROR(VLOOKUP(M14,'Prix de revient'!$A:$D,4,0),0)","v":0},{"$f":"IFERROR(VLOOKUP(N14,'Prix de revient'!$A:$D,4,0),0)","v":0},{"$f":"IFERROR(VLOOKUP(O14,'Prix de revient'!$A:$D,4,0),0)","v":0.69520000000000004},{"$f":"IFERROR(VLOOKUP(P14,'Prix de revient'!$A:$D,4,0),0)","v":0},{"$f":"IFERROR(VLOOKUP(Q14,'Prix de revient'!$A:$D,4,0),0)","v":0},{"$f":"IFERROR(VLOOKUP(R14,'Prix de revient'!$A:$D,4,0),0)","v":0},{"$f":"IFERROR(VLOOKUP(S14,'Prix de revient'!$A:$D,4,0),0)","v":0}]
[null,"coût de rebuts",null,{"$f":"D26*D31","v":0},{"$f":"E26*E31","v":0},0,0,0,0,0,0,0,0,0,0,0,0,0,0,{"$f":"SUM(D32:S32)","v":0}]
[null,"gestion de modification"]
[]
[]
[]
[]
[]
[]
[]
[null,null,"Clients","Audit","Réclamation","Avoir",null,"Fournisseurs/ sous-traitants","Réception de matiere","Probleme qualité",null,"Les formations professionnelles","Cout","Chiffrage décliné","Actions à suivre",null,"Article qui a subit un tri","durée du tri","Nombre des pieces non-conformes","ouvrier faisant le tri","cout par tri",null,"Article qui a subit la reprise","durée de la reprise","opérateur faisant la reprise","coût de reprise",null,null,null,"Machine ","article","gamme","objet de la modification"]
[null,null,null,null,null,null,null,null,null,null,null,null,null,null,null,null,null,null,null,null,{"$f":"IF(R42=\"\",\"\",R42*VLOOKUP(T42,'cout opérateur machines'!A1:B8,2,0))","v":""},null,null,null,null,{"$f":"X42*8","v":0}]
[null,null,null,null,null,null,null,null,null,null,null,null,null,null,null,null,null,null,null,null,{"$f":"IF(R43=\"\",\"\",R43*VLOOKUP(T43,'cout opérateur machines'!A2:B9,2,0))","v":""},null,null,null,null,{"$f":"X43*8","v":0}]
[null,null,null,null,null,null,null,null,null,null,null,null,null,null,null,null,null,null,null,null,{"$f":"IF(R44=\"\",\"\",R44*VLOOKUP(T44,'cout opérateur machines'!A3:B10,2,0))","v":""},null,null,null,null,0]
[null,null,null,null,null,null,null,null,null,null,null,null,null,null,null,null,null,null,null,null,{"$f":"IF(R45=\"\",\"\",R45*VLOOKUP(T45,'cout opérateur machines'!A4:B11,2,0))","v":""},null,null,null,null,0]
[null,null,null,null,null,null,null,null,null,null,null,null,null,null,null,null,null,null,null,null,{"$f":"IF(R46=\"\",\"\",R46*VLOOKUP(T46,'cout opérateur machines'!A5:B12,2,0))","v":""},null,null,null,null,0]
[null,null,null,null,null,null,null,null,null,null,null,null,null,null,null,null,null,null,null,null,{"$f":"IF(R47=\"\",\"\",R47*VLOOKUP(T47,'cout opérateur machines'!A6:B13,2,0))","v":""},null,null,null,null,0]
[null,null,null,null,{"$f":"COUNTA(E42:E47)","v":0},{"$f":"SUM(F42:F47)","v":0},null,null,null,null,null,null,{"$f":"SUM(M42:M47)","v":0},"causes de refus",null,null,null,null,"cout total du jour",null,{"$f":"SUM(U42:U47)","v":0},null,null,null,null,0]
[null,null,null,null,null,null,null,"envoi des réclamations F/ S-T","réponse F/ S-T","alerte",null,null,null,null,null,null,null,null,null,null,null,null,null,null,null,{"$f":"SUM(Z42:Z48)","v":0}]
[null,null,"dans le cas d'une réclamation",null,null,null,null,null,null,{"$f":"IF(J42=\"\",\"\",IF(H50=0,\" réclamation non traitée\",IF(I50=0, \"veuillez contacter le F/ S-T par téléphone\",\"\")))","v":""},null,null,null,null,null,null,null,null,"N° mois",null,1]
[null,null,"nombre de pièces NC",null,null,null,null,null,null,{"$f":"IF(J43=\"\",\"\",IF(H51=0,\" réclamation non traitée\",IF(I51=0, \"veuillez contacter le F/ S-T par téléphone\",\"\")))","v":""}]
[null,null,"nombre de pièces par carton",null,null,null,null,null,null,""]
[null,null,"coût de transport par carton",null,null,null,null,null,null,""]
[null,null,"nombre de cartons renvoyés",null,null,null,null,null,null,""]
[null,null,"temps de tri",null,null,null,null,null,null,""]
[null,null,"coût horaire de tri"]
[null,null,"temps de retouche"]
[null,null,"coût horaire de retouche"]
[null,null,"temps de traitement de la réclamation"]
[null,null,"coût horaire de traitement"]
[null,null,"coût total",{"$f":"IFERROR(((D51/D52)*D53)+D54*D53+D55*D56+D57*D58+D59*D60,\"\")","v":""}]

{"sheet":"21-1-22","index":89,"n_rows":61,"n_cols":33,"rows_kept":61,"cut":false,"hidden":false,"merged":[[31,1,31,2],[32,1,32,2],[47,18,47,19],[49,18,49,19],[25,1,25,2],[26,1,26,2],[27,1,27,2],[28,1,28,2],[29,1,29,2],[30,1,30,2],[24,1,24,2],[12,1,12,2],[13,1,13,2],[14,1,14,2],[15,1,15,2],[16,1,16,2],[17,1,18,1],[19,1,19,2],[20,1,20,2],[21,1,21,2],[22,1,22,2],[23,1,23,2],[1,2,4,3],[1,4,4,16],[1,17,1,19],[1,21,1,23],[2,17,2,19],[2,21,2,23],[3,17,3,19],[3,21,3,23],[4,17,4,19],[4,21,4,23]]}
[]
[null,null,null,null,"Rapport journalier",null,null,null,null,null,null,null,null,null,null,null,null,"Code:DAS-SMQ-24"]
[null,null,null,null,null,null,null,null,null,null,null,null,null,null,null,null,null,"Date: 27/12/2019"]
[null,null,null,null,null,null,null,null,null,null,null,null,null,null,null,null,null,"Version:01"]
[null,null,null,null,null,null,null,null,null,null,null,null,null,null,null,null,null,"Page:1"]
[]
[]
[]
[]
[]
[]
[null,null,null,"A","B","C","D","E","F","M","N","O","P","I","L","K","J","G","H"]
[null,"Machine",null,"SST16","SB16","BIGLIA 301 SM","BIGLIA 42 S2M bitourelle","L32","TSUGAMI","MORI SEIKI 3 axes","MORI SEIKI 5 axes","HARDING","KITAMURA","MULTIBROCHE","NAKAMURA","TOUR WEILER"]
[null,"Référence",null,"MI038","510021-janv 2022",512520,513611,68.080699999999993,"S3SD14632"," - "," - ","PIG 50 SE",9630,"MPS000300","H001","I039","I016-CP2-PRO",68.081500000000005,"Rv-Re400"]
[null,"Désignation",null,"GOUJON GUADA maj-cad","QUADRO 10*60 AVP-AXE ACIER-janvier 2022","INSERTO MANOPOLA INOX M8-","Pomello Corpo GA- maj c","BUSE D8 maj-c","BUTEE-d9 MAJ C","Arrêt","Arrêt","pignon simple etage","Usinage Borne T030 jan2022","raccord HEX 17","GOUJON DE ROUE HONDA maj-c","GOUJON DE ROUE ISUZU","Bague extERIEUR SILENT BLOC canter","Buse droite à collerette Ø8 M445 FRD","Rivet came B verro D4"]
[null,"Compteur 8h ",null,2881,7102,0,4485,14311,82308,0,0,201,2090,0,2588,2453,798,9740,86600]
[null,"Compteur 17h",null,3377,7730,220,4549,15390,84216,0,0,209,2306,0,2840,2453,1262,10394,89655]
[null,"Enregistrement","9h"]
[null,null,"16h"]
[null,"Identification"]
[null,"Propreté des tables de contrôle"]
[null,"Rangement des outils de contrôle"]
[null,"Existance de l'OF"]
[null,"Affutage",null,null,null,null,null,null,null,null,null,null,null,null,null,null,null,null,null,{"$f":"+COUNTA(D24:S24)","v":0}]
[null,"Maintenance"]
[null,"Nombre des NC poubelle ",null,3,null,null,3,8,null,null,null,null,null,null,null,null,null,6]
[null,"Nombre des NC à retoucher"]
[null,"Machine pour retouche"]
[null,"Panne"]
[null,"Cout pièces de rechange",null,null,null,null,null,null,null,null,null,null,null,null,null,null,null,null,null,{"$f":"SUM(D30:S30)","v":0}]
[null,"prix de revient pièce",null,{"$f":"IFERROR(VLOOKUP(D14,'Prix de revient'!$A:$D,4,0),0)","v":0},{"$f":"IFERROR(VLOOKUP(E14,'Prix de revient'!$A:$D,4,0),0)","v":0},{"$f":"IFERROR(VLOOKUP(F14,'Prix de revient'!$A:$D,4,0),0)","v":1.2482000000000002},{"$f":"IFERROR(VLOOKUP(G14,'Prix de revient'!$A:$D,4,0),0)","v":0},{"$f":"IFERROR(VLOOKUP(H14,'Prix de revient'!$A:$D,4,0),0)","v":0},{"$f":"IFERROR(VLOOKUP(I14,'Prix de revient'!$A:$D,4,0),0)","v":0},{"$f":"IFERROR(VLOOKUP(J14,'Prix de revient'!$A:$D,4,0),0)","v":0},{"$f":"IFERROR(VLOOKUP(K14,'Prix de revient'!$A:$D,4,0),0)","v":0},{"$f":"IFERROR(VLOOKUP(L14,'Prix de revient'!$A:$D,4,0),0)","v":0},{"$f":"IFERROR(VLOOKUP(M14,'Prix de revient'!$A:$D,4,0),0)","v":0},{"$f":"IFERROR(VLOOKUP(N14,'Prix de revient'!$A:$D,4,0),0)","v":0},{"$f":"IFERROR(VLOOKUP(O14,'Prix de revient'!$A:$D,4,0),0)","v":0.69520000000000004},{"$f":"IFERROR(VLOOKUP(P14,'Prix de revient'!$A:$D,4,0),0)","v":0},{"$f":"IFERROR(VLOOKUP(Q14,'Prix de revient'!$A:$D,4,0),0)","v":0},{"$f":"IFERROR(VLOOKUP(R14,'Prix de revient'!$A:$D,4,0),0)","v":0},{"$f":"IFERROR(VLOOKUP(S14,'Prix de revient'!$A:$D,4,0),0)","v":0}]
[null,"coût de rebuts",null,{"$f":"D26*D31","v":0},{"$f":"E26*E31","v":0},0,0,0,0,0,0,0,0,0,0,0,0,0,0,{"$f":"SUM(D32:S32)","v":0}]
[null,"gestion de modification"]
[]
[]
[]
[]
[]
[]
[]
[null,null,"Clients","Audit","Réclamation","Avoir",null,"Fournisseurs/ sous-traitants","Réception de matiere","Probleme qualité",null,"Les formations professionnelles","Cout","Chiffrage décliné","Actions à suivre",null,"Article qui a subit un tri","durée du tri","Nombre des pieces non-conformes","ouvrier faisant le tri","cout par tri",null,"Article qui a subit la reprise","durée de la reprise","opérateur faisant la reprise","coût de reprise",null,null,null,"Machine ","article","gamme","objet de la modification"]
[null,null,null,null,null,null,null,null,null,null,null,null,null,null,null,null,null,null,null,null,{"$f":"IF(R42=\"\",\"\",R42*VLOOKUP(T42,'cout opérateur machines'!A1:B8,2,0))","v":""},null,null,null,null,{"$f":"X42*8","v":0}]
[null,null,null,null,null,null,null,null,null,null,null,null,null,null,null,null,null,null,null,null,{"$f":"IF(R43=\"\",\"\",R43*VLOOKUP(T43,'cout opérateur machines'!A2:B9,2,0))","v":""},null,null,null,null,{"$f":"X43*8","v":0}]
[null,null,null,null,null,null,null,null,null,null,null,null,null,null,null,null,null,null,null,null,{"$f":"IF(R44=\"\",\"\",R44*VLOOKUP(T44,'cout opérateur machines'!A3:B10,2,0))","v":""},null,null,null,null,0]
[null,null,null,null,null,null,null,null,null,null,null,null,null,null,null,null,null,null,null,null,{"$f":"IF(R45=\"\",\"\",R45*VLOOKUP(T45,'cout opérateur machines'!A4:B11,2,0))","v":""},null,null,null,null,0]
[null,null,null,null,null,null,null,null,null,null,null,null,null,null,null,null,null,null,null,null,{"$f":"IF(R46=\"\",\"\",R46*VLOOKUP(T46,'cout opérateur machines'!A5:B12,2,0))","v":""},null,null,null,null,0]
[null,null,null,null,null,null,null,null,null,null,null,null,null,null,null,null,null,null,null,null,{"$f":"IF(R47=\"\",\"\",R47*VLOOKUP(T47,'cout opérateur machines'!A6:B13,2,0))","v":""},null,null,null,null,0]
[null,null,null,null,{"$f":"COUNTA(E42:E47)","v":0},{"$f":"SUM(F42:F47)","v":0},null,null,null,null,null,null,{"$f":"SUM(M42:M47)","v":0},"causes de refus",null,null,null,null,"cout total du jour",null,{"$f":"SUM(U42:U47)","v":0},null,null,null,null,0]
[null,null,null,null,null,null,null,"envoi des réclamations F/ S-T","réponse F/ S-T","alerte",null,null,null,null,null,null,null,null,null,null,null,null,null,null,null,{"$f":"SUM(Z42:Z48)","v":0}]
[null,null,"dans le cas d'une réclamation",null,null,null,null,null,null,{"$f":"IF(J42=\"\",\"\",IF(H50=0,\" réclamation non traitée\",IF(I50=0, \"veuillez contacter le F/ S-T par téléphone\",\"\")))","v":""},null,null,null,null,null,null,null,null,"N° mois",null,1]
[null,null,"nombre de pièces NC",null,null,null,null,null,null,{"$f":"IF(J43=\"\",\"\",IF(H51=0,\" réclamation non traitée\",IF(I51=0, \"veuillez contacter le F/ S-T par téléphone\",\"\")))","v":""}]
[null,null,"nombre de pièces par carton",null,null,null,null,null,null,""]
[null,null,"coût de transport par carton",null,null,null,null,null,null,""]
[null,null,"nombre de cartons renvoyés",null,null,null,null,null,null,""]
[null,null,"temps de tri",null,null,null,null,null,null,""]
[null,null,"coût horaire de tri"]
[null,null,"temps de retouche"]
[null,null,"coût horaire de retouche"]
[null,null,"temps de traitement de la réclamation"]
[null,null,"coût horaire de traitement"]
[null,null,"coût total",{"$f":"IFERROR(((D51/D52)*D53)+D54*D53+D55*D56+D57*D58+D59*D60,\"\")","v":""}]

{"sheet":"20-1-22","index":90,"n_rows":61,"n_cols":33,"rows_kept":61,"cut":false,"hidden":false,"merged":[[31,1,31,2],[32,1,32,2],[47,18,47,19],[49,18,49,19],[25,1,25,2],[26,1,26,2],[27,1,27,2],[28,1,28,2],[29,1,29,2],[30,1,30,2],[24,1,24,2],[12,1,12,2],[13,1,13,2],[14,1,14,2],[15,1,15,2],[16,1,16,2],[17,1,18,1],[19,1,19,2],[20,1,20,2],[21,1,21,2],[22,1,22,2],[23,1,23,2],[1,2,4,3],[1,4,4,16],[1,17,1,19],[1,21,1,23],[2,17,2,19],[2,21,2,23],[3,17,3,19],[3,21,3,23],[4,17,4,19],[4,21,4,23]]}
[]
[null,null,null,null,"Rapport journalier",null,null,null,null,null,null,null,null,null,null,null,null,"Code:DAS-SMQ-24"]
[null,null,null,null,null,null,null,null,null,null,null,null,null,null,null,null,null,"Date: 27/12/2019"]
[null,null,null,null,null,null,null,null,null,null,null,null,null,null,null,null,null,"Version:01"]
[null,null,null,null,null,null,null,null,null,null,null,null,null,null,null,null,null,"Page:1"]
[]
[]
[]
[]
[]
[]
[null,null,null,"A","B","C","D","E","F","M","N","O","P","I","L","K","J","G","H"]
[null,"Machine",null,"SST16","SB16","BIGLIA 301 SM","BIGLIA 42 S2M bitourelle","L32","TSUGAMI","MORI SEIKI 3 axes","MORI SEIKI 5 axes","HARDING","KITAMURA","MULTIBROCHE","NAKAMURA","TOUR WEILER"]
[null,"Référence",null,"MI038","510021-janv 2022","181246",513611,68.080699999999993,"S3SD14632"," - "," - ","PIG 50 SE",9630,"MPS000300","H001","I039","I016-CP2-PRO",68.081500000000005,"Rv-Re400"]
[null,"Désignation",null,"GOUJON COLLECTEUR GWADA MITSH","QUADRO 10*60 AVP-AXE ACIER-janvier 2022","BAGUE EPAULEE 12*20*45","Pomello Corpo GA- maj c","BUSE D8 maj-c","BUTEE-d9 MAJ C","Arrêt","Arrêt","pignon simple etage","Usinage Borne T030 jan2022","raccord HEX 17","GOUJON DE ROUE HONDA maj-c","GOUJON DE ROUE ISUZU","Bague extERIEUR SILENT BLOC canter","Buse droite à collerette Ø8 M445 FRD","Rivet came B verro D4"]
[null,"Compteur 8h ",null,2253,6498,0,4235,13337,80425,0,0,192,1882,0,2270,2238,352,9462,83534]
[null,"Compteur 17h",null,2881,7102,0,4485,14311,82308,0,0,201,2090,0,2588,2453,798,9740,86600]
[null,"Enregistrement","9h"]
[null,null,"16h"]
[null,"Identification"]
[null,"Propreté des tables de contrôle"]
[null,"Rangement des outils de contrôle"]
[null,"Existance de l'OF"]
[null,"Affutage",null,null,null,null,null,null,null,null,null,null,null,null,null,null,null,null,null,{"$f":"+COUNTA(D24:S24)","v":0}]
[null,"Maintenance"]
[null,"Nombre des NC poubelle ",null,5,null,null,14,3,null,null,null,null,null,null,null,null,null,16]
[null,"Nombre des NC à retoucher"]
[null,"Machine pour retouche"]
[null,"Panne"]
[null,"Cout pièces de rechange",null,null,null,null,null,null,null,null,null,null,null,null,null,null,null,null,null,{"$f":"SUM(D30:S30)","v":0}]
[null,"prix de revient pièce",null,{"$f":"IFERROR(VLOOKUP(D14,'Prix de revient'!$A:$D,4,0),0)","v":0},{"$f":"IFERROR(VLOOKUP(E14,'Prix de revient'!$A:$D,4,0),0)","v":0},{"$f":"IFERROR(VLOOKUP(F14,'Prix de revient'!$A:$D,4,0),0)","v":0},{"$f":"IFERROR(VLOOKUP(G14,'Prix de revient'!$A:$D,4,0),0)","v":0},{"$f":"IFERROR(VLOOKUP(H14,'Prix de revient'!$A:$D,4,0),0)","v":0},{"$f":"IFERROR(VLOOKUP(I14,'Prix de revient'!$A:$D,4,0),0)","v":0},{"$f":"IFERROR(VLOOKUP(J14,'Prix de revient'!$A:$D,4,0),0)","v":0},{"$f":"IFERROR(VLOOKUP(K14,'Prix de revient'!$A:$D,4,0),0)","v":0},{"$f":"IFERROR(VLOOKUP(L14,'Prix de revient'!$A:$D,4,0),0)","v":0},{"$f":"IFERROR(VLOOKUP(M14,'Prix de revient'!$A:$D,4,0),0)","v":0},{"$f":"IFERROR(VLOOKUP(N14,'Prix de revient'!$A:$D,4,0),0)","v":0},{"$f":"IFERROR(VLOOKUP(O14,'Prix de revient'!$A:$D,4,0),0)","v":0.69520000000000004},{"$f":"IFERROR(VLOOKUP(P14,'Prix de revient'!$A:$D,4,0),0)","v":0},{"$f":"IFERROR(VLOOKUP(Q14,'Prix de revient'!$A:$D,4,0),0)","v":0},{"$f":"IFERROR(VLOOKUP(R14,'Prix de revient'!$A:$D,4,0),0)","v":0},{"$f":"IFERROR(VLOOKUP(S14,'Prix de revient'!$A:$D,4,0),0)","v":0}]
[null,"coût de rebuts",null,{"$f":"D26*D31","v":0},{"$f":"E26*E31","v":0},0,0,0,0,0,0,0,0,0,0,0,0,0,0,{"$f":"SUM(D32:S32)","v":0}]
[null,"gestion de modification"]
[]
[]
[]
[]
[]
[]
[]
[null,null,"Clients","Audit","Réclamation","Avoir",null,"Fournisseurs/ sous-traitants","Réception de matiere","Probleme qualité",null,"Les formations professionnelles","Cout","Chiffrage décliné","Actions à suivre",null,"Article qui a subit un tri","durée du tri","Nombre des pieces non-conformes","ouvrier faisant le tri","cout par tri",null,"Article qui a subit la reprise","durée de la reprise","opérateur faisant la reprise","coût de reprise",null,null,null,"Machine ","article","gamme","objet de la modification"]
[null,null,null,null,null,null,null,null,null,null,null,null,null,null,null,null,null,null,null,null,{"$f":"IF(R42=\"\",\"\",R42*VLOOKUP(T42,'cout opérateur machines'!A1:B8,2,0))","v":""},null,null,null,null,{"$f":"X42*8","v":0}]
[null,null,null,null,null,null,null,null,null,null,null,null,null,null,null,null,null,null,null,null,{"$f":"IF(R43=\"\",\"\",R43*VLOOKUP(T43,'cout opérateur machines'!A2:B9,2,0))","v":""},null,null,null,null,{"$f":"X43*8","v":0}]
[null,null,null,null,null,null,null,null,null,null,null,null,null,null,null,null,null,null,null,null,{"$f":"IF(R44=\"\",\"\",R44*VLOOKUP(T44,'cout opérateur machines'!A3:B10,2,0))","v":""},null,null,null,null,0]
[null,null,null,null,null,null,null,null,null,null,null,null,null,null,null,null,null,null,null,null,{"$f":"IF(R45=\"\",\"\",R45*VLOOKUP(T45,'cout opérateur machines'!A4:B11,2,0))","v":""},null,null,null,null,0]
[null,null,null,null,null,null,null,null,null,null,null,null,null,null,null,null,null,null,null,null,{"$f":"IF(R46=\"\",\"\",R46*VLOOKUP(T46,'cout opérateur machines'!A5:B12,2,0))","v":""},null,null,null,null,0]
[null,null,null,null,null,null,null,null,null,null,null,null,null,null,null,null,null,null,null,null,{"$f":"IF(R47=\"\",\"\",R47*VLOOKUP(T47,'cout opérateur machines'!A6:B13,2,0))","v":""},null,null,null,null,0]
[null,null,null,null,{"$f":"COUNTA(E42:E47)","v":0},{"$f":"SUM(F42:F47)","v":0},null,null,null,null,null,null,{"$f":"SUM(M42:M47)","v":0},"causes de refus",null,null,null,null,"cout total du jour",null,{"$f":"SUM(U42:U47)","v":0},null,null,null,null,0]
[null,null,null,null,null,null,null,"envoi des réclamations F/ S-T","réponse F/ S-T","alerte",null,null,null,null,null,null,null,null,null,null,null,null,null,null,null,{"$f":"SUM(Z42:Z48)","v":0}]
[null,null,"dans le cas d'une réclamation",null,null,null,null,null,null,{"$f":"IF(J42=\"\",\"\",IF(H50=0,\" réclamation non traitée\",IF(I50=0, \"veuillez contacter le F/ S-T par téléphone\",\"\")))","v":""},null,null,null,null,null,null,null,null,"N° mois",null,1]
[null,null,"nombre de pièces NC",null,null,null,null,null,null,{"$f":"IF(J43=\"\",\"\",IF(H51=0,\" réclamation non traitée\",IF(I51=0, \"veuillez contacter le F/ S-T par téléphone\",\"\")))","v":""}]
[null,null,"nombre de pièces par carton",null,null,null,null,null,null,""]
[null,null,"coût de transport par carton",null,null,null,null,null,null,""]
[null,null,"nombre de cartons renvoyés",null,null,null,null,null,null,""]
[null,null,"temps de tri",null,null,null,null,null,null,""]
[null,null,"coût horaire de tri"]
[null,null,"temps de retouche"]
[null,null,"coût horaire de retouche"]
[null,null,"temps de traitement de la réclamation"]
[null,null,"coût horaire de traitement"]
[null,null,"coût total",{"$f":"IFERROR(((D51/D52)*D53)+D54*D53+D55*D56+D57*D58+D59*D60,\"\")","v":""}]

{"sheet":"19-1-22","index":91,"n_rows":61,"n_cols":33,"rows_kept":61,"cut":false,"hidden":false,"merged":[[31,1,31,2],[32,1,32,2],[47,18,47,19],[49,18,49,19],[25,1,25,2],[26,1,26,2],[27,1,27,2],[28,1,28,2],[29,1,29,2],[30,1,30,2],[24,1,24,2],[12,1,12,2],[13,1,13,2],[14,1,14,2],[15,1,15,2],[16,1,16,2],[17,1,18,1],[19,1,19,2],[20,1,20,2],[21,1,21,2],[22,1,22,2],[23,1,23,2],[1,2,4,3],[1,4,4,16],[1,17,1,19],[1,21,1,23],[2,17,2,19],[2,21,2,23],[3,17,3,19],[3,21,3,23],[4,17,4,19],[4,21,4,23]]}
[]
[null,null,null,null,"Rapport journalier",null,null,null,null,null,null,null,null,null,null,null,null,"Code:DAS-SMQ-24"]
[null,null,null,null,null,null,null,null,null,null,null,null,null,null,null,null,null,"Date: 27/12/2019"]
[null,null,null,null,null,null,null,null,null,null,null,null,null,null,null,null,null,"Version:01"]
[null,null,null,null,null,null,null,null,null,null,null,null,null,null,null,null,null,"Page:1"]
[]
[]
[]
[]
[]
[]
[null,null,null,"A","B","C","D","E","F","M","N","O","P","I","L","K","J","G","H"]
[null,"Machine",null,"SST16","SB16","BIGLIA 301 SM","BIGLIA 42 S2M bitourelle","L32","TSUGAMI","MORI SEIKI 3 axes","MORI SEIKI 5 axes","HARDING","KITAMURA","MULTIBROCHE","NAKAMURA","TOUR WEILER"]
[null,"Référence",null,"MI038","510021-janv 2022","181246",513611,68.080699999999993,"S3SD14632"," - "," - ","PIG 50 SE",9630,"MPS000300","H001","I039","I016-CP2-PRO",68.081500000000005,"Rv-Re400"]
[null,"Désignation",null,"GOUJON COLLECTEUR GWADA MITSH","QUADRO 10*60 AVP-AXE ACIER-janvier 2022","BAGUE EPAULEE 12*20*45","Pomello Corpo GA- maj c","BUSE D8 maj-c","BUTEE-d9 MAJ C","Arrêt","Arrêt","pignon simple etage","Usinage Borne T030 jan2022","raccord HEX 17","GOUJON DE ROUE HONDA maj-c","GOUJON DE ROUE ISUZU","Bague extERIEUR SILENT BLOC canter","Buse droite à collerette Ø8 M445 FRD","Rivet came B verro D4"]
[null,"Compteur 8h ",null,1524,5858,627,3977,12335,78463,0,0,183,1669,0,2091,2020,0,8996,80505]
[null,"Compteur 17h",null,2253,6498,678,4235,13337,80425,0,0,192,1882,0,2270,2238,352,9462,83534]
[null,"Enregistrement","9h"]
[null,null,"16h"]
[null,"Identification"]
[null,"Propreté des tables de contrôle"]
[null,"Rangement des outils de contrôle"]
[null,"Existance de l'OF"]
[null,"Affutage",null,null,null,null,null,null,null,null,null,null,null,null,null,null,null,null,null,{"$f":"+COUNTA(D24:S24)","v":0}]
[null,"Maintenance"]
[null,"Nombre des NC poubelle ",null,2,null,null,20]
[null,"Nombre des NC à retoucher"]
[null,"Machine pour retouche"]
[null,"Panne"]
[null,"Cout pièces de rechange",null,null,null,null,null,null,null,null,null,null,null,null,null,null,null,null,null,{"$f":"SUM(D30:S30)","v":0}]
[null,"prix de revient pièce",null,{"$f":"IFERROR(VLOOKUP(D14,'Prix de revient'!$A:$D,4,0),0)","v":0},{"$f":"IFERROR(VLOOKUP(E14,'Prix de revient'!$A:$D,4,0),0)","v":0},{"$f":"IFERROR(VLOOKUP(F14,'Prix de revient'!$A:$D,4,0),0)","v":0},{"$f":"IFERROR(VLOOKUP(G14,'Prix de revient'!$A:$D,4,0),0)","v":0},{"$f":"IFERROR(VLOOKUP(H14,'Prix de revient'!$A:$D,4,0),0)","v":0},{"$f":"IFERROR(VLOOKUP(I14,'Prix de revient'!$A:$D,4,0),0)","v":0},{"$f":"IFERROR(VLOOKUP(J14,'Prix de revient'!$A:$D,4,0),0)","v":0},{"$f":"IFERROR(VLOOKUP(K14,'Prix de revient'!$A:$D,4,0),0)","v":0},{"$f":"IFERROR(VLOOKUP(L14,'Prix de revient'!$A:$D,4,0),0)","v":0},{"$f":"IFERROR(VLOOKUP(M14,'Prix de revient'!$A:$D,4,0),0)","v":0},{"$f":"IFERROR(VLOOKUP(N14,'Prix de revient'!$A:$D,4,0),0)","v":0},{"$f":"IFERROR(VLOOKUP(O14,'Prix de revient'!$A:$D,4,0),0)","v":0.69520000000000004},{"$f":"IFERROR(VLOOKUP(P14,'Prix de revient'!$A:$D,4,0),0)","v":0},{"$f":"IFERROR(VLOOKUP(Q14,'Prix de revient'!$A:$D,4,0),0)","v":0},{"$f":"IFERROR(VLOOKUP(R14,'Prix de revient'!$A:$D,4,0),0)","v":0},{"$f":"IFERROR(VLOOKUP(S14,'Prix de revient'!$A:$D,4,0),0)","v":0}]
[null,"coût de rebuts",null,{"$f":"D26*D31","v":0},{"$f":"E26*E31","v":0},0,0,0,0,0,0,0,0,0,0,0,0,0,0,{"$f":"SUM(D32:S32)","v":0}]
[null,"gestion de modification"]
[]
[]
[]
[]
[]
[]
[]
[null,null,"Clients","Audit","Réclamation","Avoir",null,"Fournisseurs/ sous-traitants","Réception de matiere","Probleme qualité",null,"Les formations professionnelles","Cout","Chiffrage décliné","Actions à suivre",null,"Article qui a subit un tri","durée du tri","Nombre des pieces non-conformes","ouvrier faisant le tri","cout par tri",null,"Article qui a subit la reprise","durée de la reprise","opérateur faisant la reprise","coût de reprise",null,null,null,"Machine ","article","gamme","objet de la modification"]
[null,null,null,null,null,null,null,null,null,null,null,null,null,null,null,null,null,null,null,null,{"$f":"IF(R42=\"\",\"\",R42*VLOOKUP(T42,'cout opérateur machines'!A1:B8,2,0))","v":""},null,null,null,null,{"$f":"X42*8","v":0}]
[null,null,null,null,null,null,null,null,null,null,null,null,null,null,null,null,null,null,null,null,{"$f":"IF(R43=\"\",\"\",R43*VLOOKUP(T43,'cout opérateur machines'!A2:B9,2,0))","v":""},null,null,null,null,{"$f":"X43*8","v":0}]
[null,null,null,null,null,null,null,null,null,null,null,null,null,null,null,null,null,null,null,null,{"$f":"IF(R44=\"\",\"\",R44*VLOOKUP(T44,'cout opérateur machines'!A3:B10,2,0))","v":""},null,null,null,null,0]
[null,null,null,null,null,null,null,null,null,null,null,null,null,null,null,null,null,null,null,null,{"$f":"IF(R45=\"\",\"\",R45*VLOOKUP(T45,'cout opérateur machines'!A4:B11,2,0))","v":""},null,null,null,null,0]
[null,null,null,null,null,null,null,null,null,null,null,null,null,null,null,null,null,null,null,null,{"$f":"IF(R46=\"\",\"\",R46*VLOOKUP(T46,'cout opérateur machines'!A5:B12,2,0))","v":""},null,null,null,null,0]
[null,null,null,null,null,null,null,null,null,null,null,null,null,null,null,null,null,null,null,null,{"$f":"IF(R47=\"\",\"\",R47*VLOOKUP(T47,'cout opérateur machines'!A6:B13,2,0))","v":""},null,null,null,null,0]
[null,null,null,null,{"$f":"COUNTA(E42:E47)","v":0},{"$f":"SUM(F42:F47)","v":0},null,null,null,null,null,null,{"$f":"SUM(M42:M47)","v":0},"causes de refus",null,null,null,null,"cout total du jour",null,{"$f":"SUM(U42:U47)","v":0},null,null,null,null,0]
[null,null,null,null,null,null,null,"envoi des réclamations F/ S-T","réponse F/ S-T","alerte",null,null,null,null,null,null,null,null,null,null,null,null,null,null,null,{"$f":"SUM(Z42:Z48)","v":0}]
[null,null,"dans le cas d'une réclamation",null,null,null,null,null,null,{"$f":"IF(J42=\"\",\"\",IF(H50=0,\" réclamation non traitée\",IF(I50=0, \"veuillez contacter le F/ S-T par téléphone\",\"\")))","v":""},null,null,null,null,null,null,null,null,"N° mois",null,1]
[null,null,"nombre de pièces NC",null,null,null,null,null,null,{"$f":"IF(J43=\"\",\"\",IF(H51=0,\" réclamation non traitée\",IF(I51=0, \"veuillez contacter le F/ S-T par téléphone\",\"\")))","v":""}]
[null,null,"nombre de pièces par carton",null,null,null,null,null,null,""]
[null,null,"coût de transport par carton",null,null,null,null,null,null,""]
[null,null,"nombre de cartons renvoyés",null,null,null,null,null,null,""]
[null,null,"temps de tri",null,null,null,null,null,null,""]
[null,null,"coût horaire de tri"]
[null,null,"temps de retouche"]
[null,null,"coût horaire de retouche"]
[null,null,"temps de traitement de la réclamation"]
[null,null,"coût horaire de traitement"]
[null,null,"coût total",{"$f":"IFERROR(((D51/D52)*D53)+D54*D53+D55*D56+D57*D58+D59*D60,\"\")","v":""}]

{"sheet":"18-1-22","index":92,"n_rows":61,"n_cols":33,"rows_kept":61,"cut":false,"hidden":false,"merged":[[31,1,31,2],[32,1,32,2],[47,18,47,19],[49,18,49,19],[25,1,25,2],[26,1,26,2],[27,1,27,2],[28,1,28,2],[29,1,29,2],[30,1,30,2],[24,1,24,2],[12,1,12,2],[13,1,13,2],[14,1,14,2],[15,1,15,2],[16,1,16,2],[17,1,18,1],[19,1,19,2],[20,1,20,2],[21,1,21,2],[22,1,22,2],[23,1,23,2],[1,2,4,3],[1,4,4,16],[1,17,1,19],[1,21,1,23],[2,17,2,19],[2,21,2,23],[3,17,3,19],[3,21,3,23],[4,17,4,19],[4,21,4,23]]}
[]
[null,null,null,null,"Rapport journalier",null,null,null,null,null,null,null,null,null,null,null,null,"Code:DAS-SMQ-24"]
[null,null,null,null,null,null,null,null,null,null,null,null,null,null,null,null,null,"Date: 27/12/2019"]
[null,null,null,null,null,null,null,null,null,null,null,null,null,null,null,null,null,"Version:01"]
[null,null,null,null,null,null,null,null,null,null,null,null,null,null,null,null,null,"Page:1"]
[]
[]
[]
[]
[]
[]
[null,null,null,"A","B","C","D","E","F","M","N","O","P","I","L","K","J","G","H"]
[null,"Machine",null,"SST16","SB16","BIGLIA 301 SM","BIGLIA 42 S2M bitourelle","L32","TSUGAMI","MORI SEIKI 3 axes","MORI SEIKI 5 axes","HARDING","KITAMURA","MULTIBROCHE","NAKAMURA","TOUR WEILER"]
[null,"Référence",null,"MI038","510021-janv 2022","181246",513611,68.080699999999993,"S3SD14632"," - "," - ","PIG 50 SE",9630,"MPS000300","H001","I039","I043-CP1-FINI",68.081500000000005,"Rv-Re400"]
[null,"Désignation",null,"GOUJON COLLECTEUR GWADA MITSH","QUADRO 10*60 AVP-AXE ACIER-janvier 2022","BAGUE EPAULEE 12*20*45","Pomello Corpo GA- maj c","BUSE D8 maj-c","BUTEE-d9 MAJ C","Arrêt","Arrêt","pignon simple etage","Usinage Borne T030 jan2022","raccord HEX 17","GOUJON DE ROUE HONDA maj-c","GOUJON DE ROUE ISUZU"," BAGUE EXTERIEUR SILENT BLOC AR ISUZU PAR CHUTE FINI","Buse droite à collerette Ø8 M445 FRD","Rivet came B verro D4"]
[null,"Compteur 8h ",null,990,5237,236,3745,11315,76507,0,0,175,1459,0,1923,1931,420,8200,77563]
[null,"Compteur 17h",null,1524,5858,627,3977,12335,78463,0,0,183,1669,0,2091,2020,483,8996,80505]
[null,"Enregistrement","9h"]
[null,null,"16h"]
[null,"Identification"]
[null,"Propreté des tables de contrôle"]
[null,"Rangement des outils de contrôle"]
[null,"Existance de l'OF"]
[null,"Affutage",null,null,null,null,null,null,null,null,null,null,null,null,null,null,null,null,null,{"$f":"+COUNTA(D24:S24)","v":0}]
[null,"Maintenance"]
[null,"Nombre des NC poubelle ",null,11,null,null,15,null,null,null,null,1]
[null,"Nombre des NC à retoucher"]
[null,"Machine pour retouche"]
[null,"Panne"]
[null,"Cout pièces de rechange",null,null,null,null,null,null,null,null,null,null,null,null,null,null,null,null,null,{"$f":"SUM(D30:S30)","v":0}]
[null,"prix de revient pièce",null,{"$f":"IFERROR(VLOOKUP(D14,'Prix de revient'!$A:$D,4,0),0)","v":0},{"$f":"IFERROR(VLOOKUP(E14,'Prix de revient'!$A:$D,4,0),0)","v":0},{"$f":"IFERROR(VLOOKUP(F14,'Prix de revient'!$A:$D,4,0),0)","v":0},{"$f":"IFERROR(VLOOKUP(G14,'Prix de revient'!$A:$D,4,0),0)","v":0},{"$f":"IFERROR(VLOOKUP(H14,'Prix de revient'!$A:$D,4,0),0)","v":0},{"$f":"IFERROR(VLOOKUP(I14,'Prix de revient'!$A:$D,4,0),0)","v":0},{"$f":"IFERROR(VLOOKUP(J14,'Prix de revient'!$A:$D,4,0),0)","v":0},{"$f":"IFERROR(VLOOKUP(K14,'Prix de revient'!$A:$D,4,0),0)","v":0},{"$f":"IFERROR(VLOOKUP(L14,'Prix de revient'!$A:$D,4,0),0)","v":0},{"$f":"IFERROR(VLOOKUP(M14,'Prix de revient'!$A:$D,4,0),0)","v":0},{"$f":"IFERROR(VLOOKUP(N14,'Prix de revient'!$A:$D,4,0),0)","v":0},{"$f":"IFERROR(VLOOKUP(O14,'Prix de revient'!$A:$D,4,0),0)","v":0.69520000000000004},{"$f":"IFERROR(VLOOKUP(P14,'Prix de revient'!$A:$D,4,0),0)","v":0},{"$f":"IFERROR(VLOOKUP(Q14,'Prix de revient'!$A:$D,4,0),0)","v":0},{"$f":"IFERROR(VLOOKUP(R14,'Prix de revient'!$A:$D,4,0),0)","v":0},{"$f":"IFERROR(VLOOKUP(S14,'Prix de revient'!$A:$D,4,0),0)","v":0}]
[null,"coût de rebuts",null,{"$f":"D26*D31","v":0},{"$f":"E26*E31","v":0},0,0,0,0,0,0,0,0,0,0,0,0,0,0,{"$f":"SUM(D32:S32)","v":0}]
[null,"gestion de modification"]
[]
[]
[]
[]
[]
[]
[]
[null,null,"Clients","Audit","Réclamation","Avoir",null,"Fournisseurs/ sous-traitants","Réception de matiere","Probleme qualité",null,"Les formations professionnelles","Cout","Chiffrage décliné","Actions à suivre",null,"Article qui a subit un tri","durée du tri","Nombre des pieces non-conformes","ouvrier faisant le tri","cout par tri",null,"Article qui a subit la reprise","durée de la reprise","opérateur faisant la reprise","coût de reprise",null,null,null,"Machine ","article","gamme","objet de la modification"]
[null,null,null,null,null,null,null,null,null,null,null,null,null,null,null,null,null,null,null,null,{"$f":"IF(R42=\"\",\"\",R42*VLOOKUP(T42,'cout opérateur machines'!A1:B8,2,0))","v":""},null,null,null,null,{"$f":"X42*8","v":0}]
[null,null,null,null,null,null,null,null,null,null,null,null,null,null,null,null,null,null,null,null,{"$f":"IF(R43=\"\",\"\",R43*VLOOKUP(T43,'cout opérateur machines'!A2:B9,2,0))","v":""},null,null,null,null,{"$f":"X43*8","v":0}]
[null,null,null,null,null,null,null,null,null,null,null,null,null,null,null,null,null,null,null,null,{"$f":"IF(R44=\"\",\"\",R44*VLOOKUP(T44,'cout opérateur machines'!A3:B10,2,0))","v":""},null,null,null,null,0]
[null,null,null,null,null,null,null,null,null,null,null,null,null,null,null,null,null,null,null,null,{"$f":"IF(R45=\"\",\"\",R45*VLOOKUP(T45,'cout opérateur machines'!A4:B11,2,0))","v":""},null,null,null,null,0]
[null,null,null,null,null,null,null,null,null,null,null,null,null,null,null,null,null,null,null,null,{"$f":"IF(R46=\"\",\"\",R46*VLOOKUP(T46,'cout opérateur machines'!A5:B12,2,0))","v":""},null,null,null,null,0]
[null,null,null,null,null,null,null,null,null,null,null,null,null,null,null,null,null,null,null,null,{"$f":"IF(R47=\"\",\"\",R47*VLOOKUP(T47,'cout opérateur machines'!A6:B13,2,0))","v":""},null,null,null,null,0]
[null,null,null,null,{"$f":"COUNTA(E42:E47)","v":0},{"$f":"SUM(F42:F47)","v":0},null,null,null,null,null,null,{"$f":"SUM(M42:M47)","v":0},"causes de refus",null,null,null,null,"cout total du jour",null,{"$f":"SUM(U42:U47)","v":0},null,null,null,null,0]
[null,null,null,null,null,null,null,"envoi des réclamations F/ S-T","réponse F/ S-T","alerte",null,null,null,null,null,null,null,null,null,null,null,null,null,null,null,{"$f":"SUM(Z42:Z48)","v":0}]
[null,null,"dans le cas d'une réclamation",null,null,null,null,null,null,{"$f":"IF(J42=\"\",\"\",IF(H50=0,\" réclamation non traitée\",IF(I50=0, \"veuillez contacter le F/ S-T par téléphone\",\"\")))","v":""},null,null,null,null,null,null,null,null,"N° mois",null,1]
[null,null,"nombre de pièces NC",null,null,null,null,null,null,{"$f":"IF(J43=\"\",\"\",IF(H51=0,\" réclamation non traitée\",IF(I51=0, \"veuillez contacter le F/ S-T par téléphone\",\"\")))","v":""}]
[null,null,"nombre de pièces par carton",null,null,null,null,null,null,""]
[null,null,"coût de transport par carton",null,null,null,null,null,null,""]
[null,null,"nombre de cartons renvoyés",null,null,null,null,null,null,""]
[null,null,"temps de tri",null,null,null,null,null,null,""]
[null,null,"coût horaire de tri"]
[null,null,"temps de retouche"]
[null,null,"coût horaire de retouche"]
[null,null,"temps de traitement de la réclamation"]
[null,null,"coût horaire de traitement"]
[null,null,"coût total",{"$f":"IFERROR(((D51/D52)*D53)+D54*D53+D55*D56+D57*D58+D59*D60,\"\")","v":""}]

{"sheet":"17-1-22","index":93,"n_rows":61,"n_cols":33,"rows_kept":61,"cut":false,"hidden":false,"merged":[[31,1,31,2],[32,1,32,2],[47,18,47,19],[49,18,49,19],[25,1,25,2],[26,1,26,2],[27,1,27,2],[28,1,28,2],[29,1,29,2],[30,1,30,2],[24,1,24,2],[12,1,12,2],[13,1,13,2],[14,1,14,2],[15,1,15,2],[16,1,16,2],[17,1,18,1],[19,1,19,2],[20,1,20,2],[21,1,21,2],[22,1,22,2],[23,1,23,2],[1,2,4,3],[1,4,4,16],[1,17,1,19],[1,21,1,23],[2,17,2,19],[2,21,2,23],[3,17,3,19],[3,21,3,23],[4,17,4,19],[4,21,4,23]]}
[]
[null,null,null,null,"Rapport journalier",null,null,null,null,null,null,null,null,null,null,null,null,"Code:DAS-SMQ-24"]
[null,null,null,null,null,null,null,null,null,null,null,null,null,null,null,null,null,"Date: 27/12/2019"]
[null,null,null,null,null,null,null,null,null,null,null,null,null,null,null,null,null,"Version:01"]
[null,null,null,null,null,null,null,null,null,null,null,null,null,null,null,null,null,"Page:1"]
[]
[]
[]
[]
[]
[]
[null,null,null,"A","B","C","D","E","F","M","N","O","P","I","L","K","J","G","H"]
[null,"Machine",null,"SST16","SB16","BIGLIA 301 SM","BIGLIA 42 S2M bitourelle","L32","TSUGAMI","MORI SEIKI 3 axes","MORI SEIKI 5 axes","HARDING","KITAMURA","MULTIBROCHE","NAKAMURA","TOUR WEILER"]
[null,"Référence",null,"MI038","510021-janv 2022","181246",513611,68.080699999999993,"S3SD14632"," - "," - ","PIG 50 SE",9630,"MPS000300","H001","I039","I043-CP1-FINI",68.081500000000005,"Rv-Re400"]
[null,"Désignation",null,"GOUJON COLLECTEUR GWADA MITSH","QUADRO 10*60 AVP-AXE ACIER-janvier 2022","BAGUE EPAULEE 12*20*45","Pomello Corpo GA- maj c","BUSE D8 maj-c","BUTEE-d9 MAJ C","Arrêt","Arrêt","pignon simple etage","Usinage Borne T030 jan2022","raccord HEX 17","GOUJON DE ROUE HONDA maj-c","GOUJON DE ROUE ISUZU"," BAGUE EXTERIEUR SILENT BLOC AR ISUZU PAR CHUTE FINI","Buse droite à collerette Ø8 M445 FRD","Rivet came B verro D4"]
[null,"Compteur 8h ",null,334,4603,0,3507,10315,74535,0,0,168,1256,0,1751,1668,0,7443,74545]
[null,"Compteur 17h",null,990,5237,236,3745,11315,76507,0,0,175,1459,0,1923,1931,420,8200,77563]
[null,"Enregistrement","9h"]
[null,null,"16h"]
[null,"Identification"]
[null,"Propreté des tables de contrôle"]
[null,"Rangement des outils de contrôle"]
[null,"Existance de l'OF"]
[null,"Affutage",null,null,null,null,null,null,null,null,null,null,null,null,null,null,null,null,null,{"$f":"+COUNTA(D24:S24)","v":0}]
[null,"Maintenance"]
[null,"Nombre des NC poubelle "]
[null,"Nombre des NC à retoucher"]
[null,"Machine pour retouche"]
[null,"Panne"]
[null,"Cout pièces de rechange",null,null,null,null,null,null,null,null,null,null,null,null,null,null,null,null,null,{"$f":"SUM(D30:S30)","v":0}]
[null,"prix de revient pièce",null,{"$f":"IFERROR(VLOOKUP(D14,'Prix de revient'!$A:$D,4,0),0)","v":0},{"$f":"IFERROR(VLOOKUP(E14,'Prix de revient'!$A:$D,4,0),0)","v":0},{"$f":"IFERROR(VLOOKUP(F14,'Prix de revient'!$A:$D,4,0),0)","v":0},{"$f":"IFERROR(VLOOKUP(G14,'Prix de revient'!$A:$D,4,0),0)","v":0},{"$f":"IFERROR(VLOOKUP(H14,'Prix de revient'!$A:$D,4,0),0)","v":0},{"$f":"IFERROR(VLOOKUP(I14,'Prix de revient'!$A:$D,4,0),0)","v":0},{"$f":"IFERROR(VLOOKUP(J14,'Prix de revient'!$A:$D,4,0),0)","v":0},{"$f":"IFERROR(VLOOKUP(K14,'Prix de revient'!$A:$D,4,0),0)","v":0},{"$f":"IFERROR(VLOOKUP(L14,'Prix de revient'!$A:$D,4,0),0)","v":0},{"$f":"IFERROR(VLOOKUP(M14,'Prix de revient'!$A:$D,4,0),0)","v":0},{"$f":"IFERROR(VLOOKUP(N14,'Prix de revient'!$A:$D,4,0),0)","v":0},{"$f":"IFERROR(VLOOKUP(O14,'Prix de revient'!$A:$D,4,0),0)","v":0.69520000000000004},{"$f":"IFERROR(VLOOKUP(P14,'Prix de revient'!$A:$D,4,0),0)","v":0},{"$f":"IFERROR(VLOOKUP(Q14,'Prix de revient'!$A:$D,4,0),0)","v":0},{"$f":"IFERROR(VLOOKUP(R14,'Prix de revient'!$A:$D,4,0),0)","v":0},{"$f":"IFERROR(VLOOKUP(S14,'Prix de revient'!$A:$D,4,0),0)","v":0}]
[null,"coût de rebuts",null,{"$f":"D26*D31","v":0},{"$f":"E26*E31","v":0},0,0,0,0,0,0,0,0,0,0,0,0,0,0,{"$f":"SUM(D32:S32)","v":0}]
[null,"gestion de modification"]
[]
[]
[]
[]
[]
[]
[]
[null,null,"Clients","Audit","Réclamation","Avoir",null,"Fournisseurs/ sous-traitants","Réception de matiere","Probleme qualité",null,"Les formations professionnelles","Cout","Chiffrage décliné","Actions à suivre",null,"Article qui a subit un tri","durée du tri","Nombre des pieces non-conformes","ouvrier faisant le tri","cout par tri",null,"Article qui a subit la reprise","durée de la reprise","opérateur faisant la reprise","coût de reprise",null,null,null,"Machine ","article","gamme","objet de la modification"]
[null,null,null,null,null,null,null,null,null,null,null,null,null,null,null,null,null,null,null,null,{"$f":"IF(R42=\"\",\"\",R42*VLOOKUP(T42,'cout opérateur machines'!A1:B8,2,0))","v":""},null,null,null,null,{"$f":"X42*8","v":0}]
[null,null,null,null,null,null,null,null,null,null,null,null,null,null,null,null,null,null,null,null,{"$f":"IF(R43=\"\",\"\",R43*VLOOKUP(T43,'cout opérateur machines'!A2:B9,2,0))","v":""},null,null,null,null,{"$f":"X43*8","v":0}]
[null,null,null,null,null,null,null,null,null,null,null,null,null,null,null,null,null,null,null,null,{"$f":"IF(R44=\"\",\"\",R44*VLOOKUP(T44,'cout opérateur machines'!A3:B10,2,0))","v":""},null,null,null,null,0]
[null,null,null,null,null,null,null,null,null,null,null,null,null,null,null,null,null,null,null,null,{"$f":"IF(R45=\"\",\"\",R45*VLOOKUP(T45,'cout opérateur machines'!A4:B11,2,0))","v":""},null,null,null,null,0]
[null,null,null,null,null,null,null,null,null,null,null,null,null,null,null,null,null,null,null,null,{"$f":"IF(R46=\"\",\"\",R46*VLOOKUP(T46,'cout opérateur machines'!A5:B12,2,0))","v":""},null,null,null,null,0]
[null,null,null,null,null,null,null,null,null,null,null,null,null,null,null,null,null,null,null,null,{"$f":"IF(R47=\"\",\"\",R47*VLOOKUP(T47,'cout opérateur machines'!A6:B13,2,0))","v":""},null,null,null,null,0]
[null,null,null,null,{"$f":"COUNTA(E42:E47)","v":0},{"$f":"SUM(F42:F47)","v":0},null,null,null,null,null,null,{"$f":"SUM(M42:M47)","v":0},"causes de refus",null,null,null,null,"cout total du jour",null,{"$f":"SUM(U42:U47)","v":0},null,null,null,null,0]
[null,null,null,null,null,null,null,"envoi des réclamations F/ S-T","réponse F/ S-T","alerte",null,null,null,null,null,null,null,null,null,null,null,null,null,null,null,{"$f":"SUM(Z42:Z48)","v":0}]
[null,null,"dans le cas d'une réclamation",null,null,null,null,null,null,{"$f":"IF(J42=\"\",\"\",IF(H50=0,\" réclamation non traitée\",IF(I50=0, \"veuillez contacter le F/ S-T par téléphone\",\"\")))","v":""},null,null,null,null,null,null,null,null,"N° mois",null,1]
[null,null,"nombre de pièces NC",null,null,null,null,null,null,{"$f":"IF(J43=\"\",\"\",IF(H51=0,\" réclamation non traitée\",IF(I51=0, \"veuillez contacter le F/ S-T par téléphone\",\"\")))","v":""}]
[null,null,"nombre de pièces par carton",null,null,null,null,null,null,""]
[null,null,"coût de transport par carton",null,null,null,null,null,null,""]
[null,null,"nombre de cartons renvoyés",null,null,null,null,null,null,""]
[null,null,"temps de tri",null,null,null,null,null,null,""]
[null,null,"coût horaire de tri"]
[null,null,"temps de retouche"]
[null,null,"coût horaire de retouche"]
[null,null,"temps de traitement de la réclamation"]
[null,null,"coût horaire de traitement"]
[null,null,"coût total",{"$f":"IFERROR(((D51/D52)*D53)+D54*D53+D55*D56+D57*D58+D59*D60,\"\")","v":""}]

{"sheet":"15-1-22","index":94,"n_rows":61,"n_cols":33,"rows_kept":61,"cut":false,"hidden":false,"merged":[[31,1,31,2],[32,1,32,2],[47,18,47,19],[49,18,49,19],[25,1,25,2],[26,1,26,2],[27,1,27,2],[28,1,28,2],[29,1,29,2],[30,1,30,2],[24,1,24,2],[12,1,12,2],[13,1,13,2],[14,1,14,2],[15,1,15,2],[16,1,16,2],[17,1,18,1],[19,1,19,2],[20,1,20,2],[21,1,21,2],[22,1,22,2],[23,1,23,2],[1,2,4,3],[1,4,4,16],[1,17,1,19],[1,21,1,23],[2,17,2,19],[2,21,2,23],[3,17,3,19],[3,21,3,23],[4,17,4,19],[4,21,4,23]]}
[]
[null,null,null,null,"Rapport journalier",null,null,null,null,null,null,null,null,null,null,null,null,"Code:DAS-SMQ-24"]
[null,null,null,null,null,null,null,null,null,null,null,null,null,null,null,null,null,"Date: 27/12/2019"]
[null,null,null,null,null,null,null,null,null,null,null,null,null,null,null,null,null,"Version:01"]
[null,null,null,null,null,null,null,null,null,null,null,null,null,null,null,null,null,"Page:1"]
[]
[]
[]
[]
[]
[]
[null,null,null,"A","B","C","D","E","F","M","N","O","P","I","L","K","J","G","H"]
[null,"Machine",null,"SST16","SB16","BIGLIA 301 SM","BIGLIA 42 S2M bitourelle","L32","TSUGAMI","MORI SEIKI 3 axes","MORI SEIKI 5 axes","HARDING","KITAMURA","MULTIBROCHE","NAKAMURA","TOUR WEILER"]
[null,"Référence",null,"MI038","510021-janv 2022","181246",513611,68.080699999999993,"S3SD14632"," - "," - ","PIG 50 SE",9630,"MPS000300","H001","I039","I043-CP1 PAR CHUTE",68.081500000000005,"Rv-Re400"]
[null,"Désignation",null,"GOUJON COLLECTEUR GWADA MITSH","QUADRO 10*60 AVP-AXE ACIER-janvier 2022","BAGUE EPAULEE 12*20*45","Pomello Corpo GA- maj c","BUSE D8 maj-c","BUTEE-d9 MAJ C","Arrêt","Arrêt","pignon simple etage","Usinage Borne T030 jan2022","raccord HEX 17","GOUJON DE ROUE HONDA maj-c","GOUJON DE ROUE ISUZU","BAGUE EXTERIEUR SILENT BLOC AR ISUZU PAR CHUTE","Buse droite à collerette Ø8 M445 FRD","Rivet came B verro D4"]
[null,"Compteur 8h ",null,230,4288,0,3405,9856,73573,0,0,165,1134,0,1650,1533,288,7095,73040]
[null,"Compteur 17h",null,334,4603,0,3507,10315,74535,0,0,168,1256,0,1751,1668,392,7443,74545]
[null,"Enregistrement","9h"]
[null,null,"16h"]
[null,"Identification"]
[null,"Propreté des tables de contrôle"]
[null,"Rangement des outils de contrôle"]
[null,"Existance de l'OF"]
[null,"Affutage",null,null,null,null,null,null,null,null,null,null,null,null,null,null,null,null,null,{"$f":"+COUNTA(D24:S24)","v":0}]
[null,"Maintenance"]
[null,"Nombre des NC poubelle ",null,32]
[null,"Nombre des NC à retoucher"]
[null,"Machine pour retouche"]
[null,"Panne"]
[null,"Cout pièces de rechange",null,null,null,null,null,null,null,null,null,null,null,null,null,null,null,null,null,{"$f":"SUM(D30:S30)","v":0}]
[null,"prix de revient pièce",null,{"$f":"IFERROR(VLOOKUP(D14,'Prix de revient'!$A:$D,4,0),0)","v":0},{"$f":"IFERROR(VLOOKUP(E14,'Prix de revient'!$A:$D,4,0),0)","v":0},{"$f":"IFERROR(VLOOKUP(F14,'Prix de revient'!$A:$D,4,0),0)","v":0},{"$f":"IFERROR(VLOOKUP(G14,'Prix de revient'!$A:$D,4,0),0)","v":0},{"$f":"IFERROR(VLOOKUP(H14,'Prix de revient'!$A:$D,4,0),0)","v":0},{"$f":"IFERROR(VLOOKUP(I14,'Prix de revient'!$A:$D,4,0),0)","v":0},{"$f":"IFERROR(VLOOKUP(J14,'Prix de revient'!$A:$D,4,0),0)","v":0},{"$f":"IFERROR(VLOOKUP(K14,'Prix de revient'!$A:$D,4,0),0)","v":0},{"$f":"IFERROR(VLOOKUP(L14,'Prix de revient'!$A:$D,4,0),0)","v":0},{"$f":"IFERROR(VLOOKUP(M14,'Prix de revient'!$A:$D,4,0),0)","v":0},{"$f":"IFERROR(VLOOKUP(N14,'Prix de revient'!$A:$D,4,0),0)","v":0},{"$f":"IFERROR(VLOOKUP(O14,'Prix de revient'!$A:$D,4,0),0)","v":0.69520000000000004},{"$f":"IFERROR(VLOOKUP(P14,'Prix de revient'!$A:$D,4,0),0)","v":0},{"$f":"IFERROR(VLOOKUP(Q14,'Prix de revient'!$A:$D,4,0),0)","v":0},{"$f":"IFERROR(VLOOKUP(R14,'Prix de revient'!$A:$D,4,0),0)","v":0},{"$f":"IFERROR(VLOOKUP(S14,'Prix de revient'!$A:$D,4,0),0)","v":0}]
[null,"coût de rebuts",null,{"$f":"D26*D31","v":0},{"$f":"E26*E31","v":0},0,0,0,0,0,0,0,0,0,0,0,0,0,0,{"$f":"SUM(D32:S32)","v":0}]
[null,"gestion de modification"]
[]
[]
[]
[]
[]
[]
[]
[null,null,"Clients","Audit","Réclamation","Avoir",null,"Fournisseurs/ sous-traitants","Réception de matiere","Probleme qualité",null,"Les formations professionnelles","Cout","Chiffrage décliné","Actions à suivre",null,"Article qui a subit un tri","durée du tri","Nombre des pieces non-conformes","ouvrier faisant le tri","cout par tri",null,"Article qui a subit la reprise","durée de la reprise","opérateur faisant la reprise","coût de reprise",null,null,null,"Machine ","article","gamme","objet de la modification"]
[null,null,null,null,null,null,null,null,null,null,null,null,null,null,null,null,null,null,null,null,{"$f":"IF(R42=\"\",\"\",R42*VLOOKUP(T42,'cout opérateur machines'!A1:B8,2,0))","v":""},null,null,null,null,{"$f":"X42*8","v":0}]
[null,null,null,null,null,null,null,null,null,null,null,null,null,null,null,null,null,null,null,null,{"$f":"IF(R43=\"\",\"\",R43*VLOOKUP(T43,'cout opérateur machines'!A2:B9,2,0))","v":""},null,null,null,null,{"$f":"X43*8","v":0}]
[null,null,null,null,null,null,null,null,null,null,null,null,null,null,null,null,null,null,null,null,{"$f":"IF(R44=\"\",\"\",R44*VLOOKUP(T44,'cout opérateur machines'!A3:B10,2,0))","v":""},null,null,null,null,0]
[null,null,null,null,null,null,null,null,null,null,null,null,null,null,null,null,null,null,null,null,{"$f":"IF(R45=\"\",\"\",R45*VLOOKUP(T45,'cout opérateur machines'!A4:B11,2,0))","v":""},null,null,null,null,0]
[null,null,null,null,null,null,null,null,null,null,null,null,null,null,null,null,null,null,null,null,{"$f":"IF(R46=\"\",\"\",R46*VLOOKUP(T46,'cout opérateur machines'!A5:B12,2,0))","v":""},null,null,null,null,0]
[null,null,null,null,null,null,null,null,null,null,null,null,null,null,null,null,null,null,null,null,{"$f":"IF(R47=\"\",\"\",R47*VLOOKUP(T47,'cout opérateur machines'!A6:B13,2,0))","v":""},null,null,null,null,0]
[null,null,null,null,{"$f":"COUNTA(E42:E47)","v":0},{"$f":"SUM(F42:F47)","v":0},null,null,null,null,null,null,{"$f":"SUM(M42:M47)","v":0},"causes de refus",null,null,null,null,"cout total du jour",null,{"$f":"SUM(U42:U47)","v":0},null,null,null,null,0]
[null,null,null,null,null,null,null,"envoi des réclamations F/ S-T","réponse F/ S-T","alerte",null,null,null,null,null,null,null,null,null,null,null,null,null,null,null,{"$f":"SUM(Z42:Z48)","v":0}]
[null,null,"dans le cas d'une réclamation",null,null,null,null,null,null,{"$f":"IF(J42=\"\",\"\",IF(H50=0,\" réclamation non traitée\",IF(I50=0, \"veuillez contacter le F/ S-T par téléphone\",\"\")))","v":""},null,null,null,null,null,null,null,null,"N° mois",null,1]
[null,null,"nombre de pièces NC",null,null,null,null,null,null,{"$f":"IF(J43=\"\",\"\",IF(H51=0,\" réclamation non traitée\",IF(I51=0, \"veuillez contacter le F/ S-T par téléphone\",\"\")))","v":""}]
[null,null,"nombre de pièces par carton",null,null,null,null,null,null,""]
[null,null,"coût de transport par carton",null,null,null,null,null,null,""]
[null,null,"nombre de cartons renvoyés",null,null,null,null,null,null,""]
[null,null,"temps de tri",null,null,null,null,null,null,""]
[null,null,"coût horaire de tri"]
[null,null,"temps de retouche"]
[null,null,"coût horaire de retouche"]
[null,null,"temps de traitement de la réclamation"]
[null,null,"coût horaire de traitement"]
[null,null,"coût total",{"$f":"IFERROR(((D51/D52)*D53)+D54*D53+D55*D56+D57*D58+D59*D60,\"\")","v":""}]

{"sheet":"14-1-22","index":95,"n_rows":61,"n_cols":33,"rows_kept":61,"cut":false,"hidden":false,"merged":[[31,1,31,2],[32,1,32,2],[47,18,47,19],[49,18,49,19],[25,1,25,2],[26,1,26,2],[27,1,27,2],[28,1,28,2],[29,1,29,2],[30,1,30,2],[24,1,24,2],[12,1,12,2],[13,1,13,2],[14,1,14,2],[15,1,15,2],[16,1,16,2],[17,1,18,1],[19,1,19,2],[20,1,20,2],[21,1,21,2],[22,1,22,2],[23,1,23,2],[1,2,4,3],[1,4,4,16],[1,17,1,19],[1,21,1,23],[2,17,2,19],[2,21,2,23],[3,17,3,19],[3,21,3,23],[4,17,4,19],[4,21,4,23]]}
[]
[null,null,null,null,"Rapport journalier",null,null,null,null,null,null,null,null,null,null,null,null,"Code:DAS-SMQ-24"]
[null,null,null,null,null,null,null,null,null,null,null,null,null,null,null,null,null,"Date: 27/12/2019"]
[null,null,null,null,null,null,null,null,null,null,null,null,null,null,null,null,null,"Version:01"]
[null,null,null,null,null,null,null,null,null,null,null,null,null,null,null,null,null,"Page:1"]
[]
[]
[]
[]
[]
[]
[null,null,null,"A","B","C","D","E","F","M","N","O","P","I","L","K","J","G","H"]
[null,"Machine",null,"SST16","SB16","BIGLIA 301 SM","BIGLIA 42 S2M bitourelle","L32","TSUGAMI","MORI SEIKI 3 axes","MORI SEIKI 5 axes","HARDING","KITAMURA","MULTIBROCHE","NAKAMURA","TOUR WEILER"]
[null,"Référence",null,"MI038","510021-janv 2022","B041-CP1-par chutes ",513611,68.080699999999993,"S3SD14632"," - "," - ","PIG 50 SE",9630,"MPS000300","H001","I039","I043-CP1 PAR CHUTE",68.081500000000005,"Rv-Re400"]
[null,"Désignation",null,"GOUJON COLLECTEUR GWADA MITSH","QUADRO 10*60 AVP-AXE ACIER-janvier 2022","Piston  du chemise tete de pompete-par chutes ","Pomello Corpo GA- maj c","BUSE D8 maj-c","BUTEE-d9 MAJ C","Arrêt","Arrêt","pignon simple etage","Usinage Borne T030 jan2022","raccord HEX 17","GOUJON DE ROUE HONDA maj-c","GOUJON DE ROUE ISUZU","BAGUE EXTERIEUR SILENT BLOC AR ISUZU PAR CHUTE","Buse droite à collerette Ø8 M445 FRD","Rivet came B verro D4"]
[null,"Compteur 8h ",null,59,3651,3213,3171,9085,71595,0,0,155,950,0,1420,1354,0,6470,70085]
[null,"Compteur 17h",null,230,4288,3385,3405,9856,73573,0,0,165,1134,0,1650,1533,288,7095,73040]
[null,"Enregistrement","9h"]
[null,null,"16h"]
[null,"Identification"]
[null,"Propreté des tables de contrôle"]
[null,"Rangement des outils de contrôle"]
[null,"Existance de l'OF"]
[null,"Affutage",null,null,null,null,null,null,null,null,null,null,null,null,null,null,null,null,null,{"$f":"+COUNTA(D24:S24)","v":0}]
[null,"Maintenance"]
[null,"Nombre des NC poubelle ",null,null,null,null,5,9]
[null,"Nombre des NC à retoucher"]
[null,"Machine pour retouche"]
[null,"Panne"]
[null,"Cout pièces de rechange",null,null,null,null,null,null,null,null,null,null,null,null,null,null,null,null,null,{"$f":"SUM(D30:S30)","v":0}]
[null,"prix de revient pièce",null,{"$f":"IFERROR(VLOOKUP(D14,'Prix de revient'!$A:$D,4,0),0)","v":0},{"$f":"IFERROR(VLOOKUP(E14,'Prix de revient'!$A:$D,4,0),0)","v":0},{"$f":"IFERROR(VLOOKUP(F14,'Prix de revient'!$A:$D,4,0),0)","v":0},{"$f":"IFERROR(VLOOKUP(G14,'Prix de revient'!$A:$D,4,0),0)","v":0},{"$f":"IFERROR(VLOOKUP(H14,'Prix de revient'!$A:$D,4,0),0)","v":0},{"$f":"IFERROR(VLOOKUP(I14,'Prix de revient'!$A:$D,4,0),0)","v":0},{"$f":"IFERROR(VLOOKUP(J14,'Prix de revient'!$A:$D,4,0),0)","v":0},{"$f":"IFERROR(VLOOKUP(K14,'Prix de revient'!$A:$D,4,0),0)","v":0},{"$f":"IFERROR(VLOOKUP(L14,'Prix de revient'!$A:$D,4,0),0)","v":0},{"$f":"IFERROR(VLOOKUP(M14,'Prix de revient'!$A:$D,4,0),0)","v":0},{"$f":"IFERROR(VLOOKUP(N14,'Prix de revient'!$A:$D,4,0),0)","v":0},{"$f":"IFERROR(VLOOKUP(O14,'Prix de revient'!$A:$D,4,0),0)","v":0.69520000000000004},{"$f":"IFERROR(VLOOKUP(P14,'Prix de revient'!$A:$D,4,0),0)","v":0},{"$f":"IFERROR(VLOOKUP(Q14,'Prix de revient'!$A:$D,4,0),0)","v":0},{"$f":"IFERROR(VLOOKUP(R14,'Prix de revient'!$A:$D,4,0),0)","v":0},{"$f":"IFERROR(VLOOKUP(S14,'Prix de revient'!$A:$D,4,0),0)","v":0}]
[null,"coût de rebuts",null,{"$f":"D26*D31","v":0},{"$f":"E26*E31","v":0},0,0,0,0,0,0,0,0,0,0,0,0,0,0,{"$f":"SUM(D32:S32)","v":0}]
[null,"gestion de modification"]
[]
[]
[]
[]
[]
[]
[]
[null,null,"Clients","Audit","Réclamation","Avoir",null,"Fournisseurs/ sous-traitants","Réception de matiere","Probleme qualité",null,"Les formations professionnelles","Cout","Chiffrage décliné","Actions à suivre",null,"Article qui a subit un tri","durée du tri","Nombre des pieces non-conformes","ouvrier faisant le tri","cout par tri",null,"Article qui a subit la reprise","durée de la reprise","opérateur faisant la reprise","coût de reprise",null,null,null,"Machine ","article","gamme","objet de la modification"]
[null,null,null,null,null,null,null,null,null,null,null,null,null,null,null,null,null,null,null,null,{"$f":"IF(R42=\"\",\"\",R42*VLOOKUP(T42,'cout opérateur machines'!A1:B8,2,0))","v":""},null,null,null,null,{"$f":"X42*8","v":0}]
[null,null,null,null,null,null,null,null,null,null,null,null,null,null,null,null,null,null,null,null,{"$f":"IF(R43=\"\",\"\",R43*VLOOKUP(T43,'cout opérateur machines'!A2:B9,2,0))","v":""},null,null,null,null,{"$f":"X43*8","v":0}]
[null,null,null,null,null,null,null,null,null,null,null,null,null,null,null,null,null,null,null,null,{"$f":"IF(R44=\"\",\"\",R44*VLOOKUP(T44,'cout opérateur machines'!A3:B10,2,0))","v":""},null,null,null,null,0]
[null,null,null,null,null,null,null,null,null,null,null,null,null,null,null,null,null,null,null,null,{"$f":"IF(R45=\"\",\"\",R45*VLOOKUP(T45,'cout opérateur machines'!A4:B11,2,0))","v":""},null,null,null,null,0]
[null,null,null,null,null,null,null,null,null,null,null,null,null,null,null,null,null,null,null,null,{"$f":"IF(R46=\"\",\"\",R46*VLOOKUP(T46,'cout opérateur machines'!A5:B12,2,0))","v":""},null,null,null,null,0]
[null,null,null,null,null,null,null,null,null,null,null,null,null,null,null,null,null,null,null,null,{"$f":"IF(R47=\"\",\"\",R47*VLOOKUP(T47,'cout opérateur machines'!A6:B13,2,0))","v":""},null,null,null,null,0]
[null,null,null,null,{"$f":"COUNTA(E42:E47)","v":0},{"$f":"SUM(F42:F47)","v":0},null,null,null,null,null,null,{"$f":"SUM(M42:M47)","v":0},"causes de refus",null,null,null,null,"cout total du jour",null,{"$f":"SUM(U42:U47)","v":0},null,null,null,null,0]
[null,null,null,null,null,null,null,"envoi des réclamations F/ S-T","réponse F/ S-T","alerte",null,null,null,null,null,null,null,null,null,null,null,null,null,null,null,{"$f":"SUM(Z42:Z48)","v":0}]
[null,null,"dans le cas d'une réclamation",null,null,null,null,null,null,{"$f":"IF(J42=\"\",\"\",IF(H50=0,\" réclamation non traitée\",IF(I50=0, \"veuillez contacter le F/ S-T par téléphone\",\"\")))","v":""},null,null,null,null,null,null,null,null,"N° mois",null,1]
[null,null,"nombre de pièces NC",null,null,null,null,null,null,{"$f":"IF(J43=\"\",\"\",IF(H51=0,\" réclamation non traitée\",IF(I51=0, \"veuillez contacter le F/ S-T par téléphone\",\"\")))","v":""}]
[null,null,"nombre de pièces par carton",null,null,null,null,null,null,""]
[null,null,"coût de transport par carton",null,null,null,null,null,null,""]
[null,null,"nombre de cartons renvoyés",null,null,null,null,null,null,""]
[null,null,"temps de tri",null,null,null,null,null,null,""]
[null,null,"coût horaire de tri"]
[null,null,"temps de retouche"]
[null,null,"coût horaire de retouche"]
[null,null,"temps de traitement de la réclamation"]
[null,null,"coût horaire de traitement"]
[null,null,"coût total",{"$f":"IFERROR(((D51/D52)*D53)+D54*D53+D55*D56+D57*D58+D59*D60,\"\")","v":""}]

{"sheet":"13-1-22","index":96,"n_rows":61,"n_cols":33,"rows_kept":61,"cut":false,"hidden":false,"merged":[[31,1,31,2],[32,1,32,2],[47,18,47,19],[49,18,49,19],[25,1,25,2],[26,1,26,2],[27,1,27,2],[28,1,28,2],[29,1,29,2],[30,1,30,2],[24,1,24,2],[12,1,12,2],[13,1,13,2],[14,1,14,2],[15,1,15,2],[16,1,16,2],[17,1,18,1],[19,1,19,2],[20,1,20,2],[21,1,21,2],[22,1,22,2],[23,1,23,2],[1,2,4,3],[1,4,4,16],[1,17,1,19],[1,21,1,23],[2,17,2,19],[2,21,2,23],[3,17,3,19],[3,21,3,23],[4,17,4,19],[4,21,4,23]]}
[]
[null,null,null,null,"Rapport journalier",null,null,null,null,null,null,null,null,null,null,null,null,"Code:DAS-SMQ-24"]
[null,null,null,null,null,null,null,null,null,null,null,null,null,null,null,null,null,"Date: 27/12/2019"]
[null,null,null,null,null,null,null,null,null,null,null,null,null,null,null,null,null,"Version:01"]
[null,null,null,null,null,null,null,null,null,null,null,null,null,null,null,null,null,"Page:1"]
[]
[]
[]
[]
[]
[]
[null,null,null,"A","B","C","D","E","F","M","N","O","P","I","L","K","J","G","H"]
[null,"Machine",null,"SST16","SB16","BIGLIA 301 SM","BIGLIA 42 S2M bitourelle","L32","TSUGAMI","MORI SEIKI 3 axes","MORI SEIKI 5 axes","HARDING","KITAMURA","MULTIBROCHE","NAKAMURA","TOUR WEILER"]
[null,"Référence",null,"MI038","510021-janv 2022","B041-CP1-par chutes ",513611,68.080699999999993,"S3SD14632"," - "," - ","PIG 50 SE",9630,"MPS000300","H001","I039","I016-CP2-PRO",68.081500000000005,"Rv-Re400"]
[null,"Désignation",null,"GOUJON COLLECTEUR GWADA MITSH","QUADRO 10*60 AVP-AXE ACIER-janvier 2022","Piston  du chemise tete de pompete-par chutes ","Pomello Corpo GA- maj c","BUSE D8 maj-c","BUTEE-d9 MAJ C","Arrêt","Arrêt","pignon simple etage","Usinage Borne T030 jan2022","raccord HEX 17","GOUJON DE ROUE HONDA maj-c","GOUJON DE ROUE ISUZU","BAGUE EXT SILENT BLOC CANTER","Buse droite à collerette Ø8 M445 FRD","Rivet came B verro D4"]
[null,"Compteur 8h ",null,0,3026,3040,2891,8191,69666,0,0,146,753,0,1177,1183,500,5762,67100]
[null,"Compteur 17h",null,59,3651,3213,3171,9085,71595,0,0,155,950,0,1420,1354,1070,6470,70085]
[null,"Enregistrement","9h"]
[null,null,"16h"]
[null,"Identification"]
[null,"Propreté des tables de contrôle"]
[null,"Rangement des outils de contrôle"]
[null,"Existance de l'OF"]
[null,"Affutage",null,null,null,null,null,null,null,null,null,null,null,null,null,null,null,null,null,{"$f":"+COUNTA(D24:S24)","v":0}]
[null,"Maintenance"]
[null,"Nombre des NC poubelle ",null,null,null,null,null,17]
[null,"Nombre des NC à retoucher"]
[null,"Machine pour retouche"]
[null,"Panne"]
[null,"Cout pièces de rechange",null,null,null,null,null,null,null,null,null,null,null,null,null,null,null,null,null,{"$f":"SUM(D30:S30)","v":0}]
[null,"prix de revient pièce",null,{"$f":"IFERROR(VLOOKUP(D14,'Prix de revient'!$A:$D,4,0),0)","v":0},{"$f":"IFERROR(VLOOKUP(E14,'Prix de revient'!$A:$D,4,0),0)","v":0},{"$f":"IFERROR(VLOOKUP(F14,'Prix de revient'!$A:$D,4,0),0)","v":0},{"$f":"IFERROR(VLOOKUP(G14,'Prix de revient'!$A:$D,4,0),0)","v":0},{"$f":"IFERROR(VLOOKUP(H14,'Prix de revient'!$A:$D,4,0),0)","v":0},{"$f":"IFERROR(VLOOKUP(I14,'Prix de revient'!$A:$D,4,0),0)","v":0},{"$f":"IFERROR(VLOOKUP(J14,'Prix de revient'!$A:$D,4,0),0)","v":0},{"$f":"IFERROR(VLOOKUP(K14,'Prix de revient'!$A:$D,4,0),0)","v":0},{"$f":"IFERROR(VLOOKUP(L14,'Prix de revient'!$A:$D,4,0),0)","v":0},{"$f":"IFERROR(VLOOKUP(M14,'Prix de revient'!$A:$D,4,0),0)","v":0},{"$f":"IFERROR(VLOOKUP(N14,'Prix de revient'!$A:$D,4,0),0)","v":0},{"$f":"IFERROR(VLOOKUP(O14,'Prix de revient'!$A:$D,4,0),0)","v":0.69520000000000004},{"$f":"IFERROR(VLOOKUP(P14,'Prix de revient'!$A:$D,4,0),0)","v":0},{"$f":"IFERROR(VLOOKUP(Q14,'Prix de revient'!$A:$D,4,0),0)","v":0},{"$f":"IFERROR(VLOOKUP(R14,'Prix de revient'!$A:$D,4,0),0)","v":0},{"$f":"IFERROR(VLOOKUP(S14,'Prix de revient'!$A:$D,4,0),0)","v":0}]
[null,"coût de rebuts",null,{"$f":"D26*D31","v":0},{"$f":"E26*E31","v":0},0,0,0,0,0,0,0,0,0,0,0,0,0,0,{"$f":"SUM(D32:S32)","v":0}]
[null,"gestion de modification"]
[]
[]
[]
[]
[]
[]
[]
[null,null,"Clients","Audit","Réclamation","Avoir",null,"Fournisseurs/ sous-traitants","Réception de matiere","Probleme qualité",null,"Les formations professionnelles","Cout","Chiffrage décliné","Actions à suivre",null,"Article qui a subit un tri","durée du tri","Nombre des pieces non-conformes","ouvrier faisant le tri","cout par tri",null,"Article qui a subit la reprise","durée de la reprise","opérateur faisant la reprise","coût de reprise",null,null,null,"Machine ","article","gamme","objet de la modification"]
[null,null,null,null,null,null,null,null,null,null,null,null,null,null,null,null,null,null,null,null,{"$f":"IF(R42=\"\",\"\",R42*VLOOKUP(T42,'cout opérateur machines'!A1:B8,2,0))","v":""},null,null,null,null,{"$f":"X42*8","v":0}]
[null,null,null,null,null,null,null,null,null,null,null,null,null,null,null,null,null,null,null,null,{"$f":"IF(R43=\"\",\"\",R43*VLOOKUP(T43,'cout opérateur machines'!A2:B9,2,0))","v":""},null,null,null,null,{"$f":"X43*8","v":0}]
[null,null,null,null,null,null,null,null,null,null,null,null,null,null,null,null,null,null,null,null,{"$f":"IF(R44=\"\",\"\",R44*VLOOKUP(T44,'cout opérateur machines'!A3:B10,2,0))","v":""},null,null,null,null,0]
[null,null,null,null,null,null,null,null,null,null,null,null,null,null,null,null,null,null,null,null,{"$f":"IF(R45=\"\",\"\",R45*VLOOKUP(T45,'cout opérateur machines'!A4:B11,2,0))","v":""},null,null,null,null,0]
[null,null,null,null,null,null,null,null,null,null,null,null,null,null,null,null,null,null,null,null,{"$f":"IF(R46=\"\",\"\",R46*VLOOKUP(T46,'cout opérateur machines'!A5:B12,2,0))","v":""},null,null,null,null,0]
[null,null,null,null,null,null,null,null,null,null,null,null,null,null,null,null,null,null,null,null,{"$f":"IF(R47=\"\",\"\",R47*VLOOKUP(T47,'cout opérateur machines'!A6:B13,2,0))","v":""},null,null,null,null,0]
[null,null,null,null,{"$f":"COUNTA(E42:E47)","v":0},{"$f":"SUM(F42:F47)","v":0},null,null,null,null,null,null,{"$f":"SUM(M42:M47)","v":0},"causes de refus",null,null,null,null,"cout total du jour",null,{"$f":"SUM(U42:U47)","v":0},null,null,null,null,0]
[null,null,null,null,null,null,null,"envoi des réclamations F/ S-T","réponse F/ S-T","alerte",null,null,null,null,null,null,null,null,null,null,null,null,null,null,null,{"$f":"SUM(Z42:Z48)","v":0}]
[null,null,"dans le cas d'une réclamation",null,null,null,null,null,null,{"$f":"IF(J42=\"\",\"\",IF(H50=0,\" réclamation non traitée\",IF(I50=0, \"veuillez contacter le F/ S-T par téléphone\",\"\")))","v":""},null,null,null,null,null,null,null,null,"N° mois",null,1]
[null,null,"nombre de pièces NC",null,null,null,null,null,null,{"$f":"IF(J43=\"\",\"\",IF(H51=0,\" réclamation non traitée\",IF(I51=0, \"veuillez contacter le F/ S-T par téléphone\",\"\")))","v":""}]
[null,null,"nombre de pièces par carton",null,null,null,null,null,null,""]
[null,null,"coût de transport par carton",null,null,null,null,null,null,""]
[null,null,"nombre de cartons renvoyés",null,null,null,null,null,null,""]
[null,null,"temps de tri",null,null,null,null,null,null,""]
[null,null,"coût horaire de tri"]
[null,null,"temps de retouche"]
[null,null,"coût horaire de retouche"]
[null,null,"temps de traitement de la réclamation"]
[null,null,"coût horaire de traitement"]
[null,null,"coût total",{"$f":"IFERROR(((D51/D52)*D53)+D54*D53+D55*D56+D57*D58+D59*D60,\"\")","v":""}]

{"sheet":"12-1-22","index":97,"n_rows":61,"n_cols":33,"rows_kept":61,"cut":false,"hidden":false,"merged":[[31,1,31,2],[32,1,32,2],[47,18,47,19],[49,18,49,19],[25,1,25,2],[26,1,26,2],[27,1,27,2],[28,1,28,2],[29,1,29,2],[30,1,30,2],[24,1,24,2],[12,1,12,2],[13,1,13,2],[14,1,14,2],[15,1,15,2],[16,1,16,2],[17,1,18,1],[19,1,19,2],[20,1,20,2],[21,1,21,2],[22,1,22,2],[23,1,23,2],[1,2,4,3],[1,4,4,16],[1,17,1,19],[1,21,1,23],[2,17,2,19],[2,21,2,23],[3,17,3,19],[3,21,3,23],[4,17,4,19],[4,21,4,23]]}
[]
[null,null,null,null,"Rapport journalier",null,null,null,null,null,null,null,null,null,null,null,null,"Code:DAS-SMQ-24"]
[null,null,null,null,null,null,null,null,null,null,null,null,null,null,null,null,null,"Date: 27/12/2019"]
[null,null,null,null,null,null,null,null,null,null,null,null,null,null,null,null,null,"Version:01"]
[null,null,null,null,null,null,null,null,null,null,null,null,null,null,null,null,null,"Page:1"]
[]
[]
[]
[]
[]
[]
[null,null,null,"A","B","C","D","E","F","M","N","O","P","I","L","K","J","G","H"]
[null,"Machine",null,"SST16","SB16","BIGLIA 301 SM","BIGLIA 42 S2M bitourelle","L32","TSUGAMI","MORI SEIKI 3 axes","MORI SEIKI 5 axes","HARDING","KITAMURA","MULTIBROCHE","NAKAMURA","TOUR WEILER"]
[null,"Référence",null,511100,"510021-janv 2022","B041-CP1-par chutes ",513611,68.080699999999993,"S3SD14632"," - "," - ","PIG 50 SE",9630,"MPS000300","H001","I039","I016-CP2-PRO",68.081500000000005,"Rv-Re400"]
[null,"Désignation",null,"DIS.0050227100 PERNO D.6X62 ","QUADRO 10*60 AVP-AXE ACIER-janvier 2022","Piston  du chemise tete de pompete-par chutes ","Pomello Corpo GA- maj c","BUSE D8 maj-c","BUTEE-d9 MAJ C","Arrêt","Arrêt","pignon simple etage","Usinage Borne T030 jan2022","raccord HEX 17","GOUJON DE ROUE HONDA maj-c","GOUJON DE ROUE ISUZU","BAGUE EXT SILENT BLOC CANTER","Buse droite à collerette Ø8 M445 FRD","Rivet came B verro D4"]
[null,"Compteur 8h ",null,13415,2624,2867,2580,7210,67688,0,0,137,547,0,960,1010,0,5015,64010]
[null,"Compteur 17h",null,14108,3026,3040,2891,8191,69666,0,0,146,753,0,1177,1183,500,5762,67100]
[null,"Enregistrement","9h"]
[null,null,"16h"]
[null,"Identification"]
[null,"Propreté des tables de contrôle"]
[null,"Rangement des outils de contrôle"]
[null,"Existance de l'OF"]
[null,"Affutage",null,null,null,null,null,null,null,null,null,null,null,null,null,null,null,null,null,{"$f":"+COUNTA(D24:S24)","v":0}]
[null,"Maintenance"]
[null,"Nombre des NC poubelle ",null,2,null,null,null,29]
[null,"Nombre des NC à retoucher"]
[null,"Machine pour retouche"]
[null,"Panne"]
[null,"Cout pièces de rechange",null,null,null,null,null,null,null,null,null,null,null,null,null,null,null,null,null,{"$f":"SUM(D30:S30)","v":0}]
[null,"prix de revient pièce",null,{"$f":"IFERROR(VLOOKUP(D14,'Prix de revient'!$A:$D,4,0),0)","v":0},{"$f":"IFERROR(VLOOKUP(E14,'Prix de revient'!$A:$D,4,0),0)","v":0},{"$f":"IFERROR(VLOOKUP(F14,'Prix de revient'!$A:$D,4,0),0)","v":0},{"$f":"IFERROR(VLOOKUP(G14,'Prix de revient'!$A:$D,4,0),0)","v":0},{"$f":"IFERROR(VLOOKUP(H14,'Prix de revient'!$A:$D,4,0),0)","v":0},{"$f":"IFERROR(VLOOKUP(I14,'Prix de revient'!$A:$D,4,0),0)","v":0},{"$f":"IFERROR(VLOOKUP(J14,'Prix de revient'!$A:$D,4,0),0)","v":0},{"$f":"IFERROR(VLOOKUP(K14,'Prix de revient'!$A:$D,4,0),0)","v":0},{"$f":"IFERROR(VLOOKUP(L14,'Prix de revient'!$A:$D,4,0),0)","v":0},{"$f":"IFERROR(VLOOKUP(M14,'Prix de revient'!$A:$D,4,0),0)","v":0},{"$f":"IFERROR(VLOOKUP(N14,'Prix de revient'!$A:$D,4,0),0)","v":0},{"$f":"IFERROR(VLOOKUP(O14,'Prix de revient'!$A:$D,4,0),0)","v":0.69520000000000004},{"$f":"IFERROR(VLOOKUP(P14,'Prix de revient'!$A:$D,4,0),0)","v":0},{"$f":"IFERROR(VLOOKUP(Q14,'Prix de revient'!$A:$D,4,0),0)","v":0},{"$f":"IFERROR(VLOOKUP(R14,'Prix de revient'!$A:$D,4,0),0)","v":0},{"$f":"IFERROR(VLOOKUP(S14,'Prix de revient'!$A:$D,4,0),0)","v":0}]
[null,"coût de rebuts",null,{"$f":"D26*D31","v":0},{"$f":"E26*E31","v":0},0,0,0,0,0,0,0,0,0,0,0,0,0,0,{"$f":"SUM(D32:S32)","v":0}]
[null,"gestion de modification"]
[]
[]
[]
[]
[]
[]
[]
[null,null,"Clients","Audit","Réclamation","Avoir",null,"Fournisseurs/ sous-traitants","Réception de matiere","Probleme qualité",null,"Les formations professionnelles","Cout","Chiffrage décliné","Actions à suivre",null,"Article qui a subit un tri","durée du tri","Nombre des pieces non-conformes","ouvrier faisant le tri","cout par tri",null,"Article qui a subit la reprise","durée de la reprise","opérateur faisant la reprise","coût de reprise",null,null,null,"Machine ","article","gamme","objet de la modification"]
[null,null,null,null,null,null,null,null,null,null,null,null,null,null,null,null,null,null,null,null,{"$f":"IF(R42=\"\",\"\",R42*VLOOKUP(T42,'cout opérateur machines'!A1:B8,2,0))","v":""},null,null,null,null,{"$f":"X42*8","v":0}]
[null,null,null,null,null,null,null,null,null,null,null,null,null,null,null,null,null,null,null,null,{"$f":"IF(R43=\"\",\"\",R43*VLOOKUP(T43,'cout opérateur machines'!A2:B9,2,0))","v":""},null,null,null,null,{"$f":"X43*8","v":0}]
[null,null,null,null,null,null,null,null,null,null,null,null,null,null,null,null,null,null,null,null,{"$f":"IF(R44=\"\",\"\",R44*VLOOKUP(T44,'cout opérateur machines'!A3:B10,2,0))","v":""},null,null,null,null,0]
[null,null,null,null,null,null,null,null,null,null,null,null,null,null,null,null,null,null,null,null,{"$f":"IF(R45=\"\",\"\",R45*VLOOKUP(T45,'cout opérateur machines'!A4:B11,2,0))","v":""},null,null,null,null,0]
[null,null,null,null,null,null,null,null,null,null,null,null,null,null,null,null,null,null,null,null,{"$f":"IF(R46=\"\",\"\",R46*VLOOKUP(T46,'cout opérateur machines'!A5:B12,2,0))","v":""},null,null,null,null,0]
[null,null,null,null,null,null,null,null,null,null,null,null,null,null,null,null,null,null,null,null,{"$f":"IF(R47=\"\",\"\",R47*VLOOKUP(T47,'cout opérateur machines'!A6:B13,2,0))","v":""},null,null,null,null,0]
[null,null,null,null,{"$f":"COUNTA(E42:E47)","v":0},{"$f":"SUM(F42:F47)","v":0},null,null,null,null,null,null,{"$f":"SUM(M42:M47)","v":0},"causes de refus",null,null,null,null,"cout total du jour",null,{"$f":"SUM(U42:U47)","v":0},null,null,null,null,0]
[null,null,null,null,null,null,null,"envoi des réclamations F/ S-T","réponse F/ S-T","alerte",null,null,null,null,null,null,null,null,null,null,null,null,null,null,null,{"$f":"SUM(Z42:Z48)","v":0}]
[null,null,"dans le cas d'une réclamation",null,null,null,null,null,null,{"$f":"IF(J42=\"\",\"\",IF(H50=0,\" réclamation non traitée\",IF(I50=0, \"veuillez contacter le F/ S-T par téléphone\",\"\")))","v":""},null,null,null,null,null,null,null,null,"N° mois",null,1]
[null,null,"nombre de pièces NC",null,null,null,null,null,null,{"$f":"IF(J43=\"\",\"\",IF(H51=0,\" réclamation non traitée\",IF(I51=0, \"veuillez contacter le F/ S-T par téléphone\",\"\")))","v":""}]
[null,null,"nombre de pièces par carton",null,null,null,null,null,null,""]
[null,null,"coût de transport par carton",null,null,null,null,null,null,""]
[null,null,"nombre de cartons renvoyés",null,null,null,null,null,null,""]
[null,null,"temps de tri",null,null,null,null,null,null,""]
[null,null,"coût horaire de tri"]
[null,null,"temps de retouche"]
[null,null,"coût horaire de retouche"]
[null,null,"temps de traitement de la réclamation"]
[null,null,"coût horaire de traitement"]
[null,null,"coût total",{"$f":"IFERROR(((D51/D52)*D53)+D54*D53+D55*D56+D57*D58+D59*D60,\"\")","v":""}]

{"sheet":"11-1-22","index":98,"n_rows":61,"n_cols":33,"rows_kept":61,"cut":false,"hidden":false,"merged":[[31,1,31,2],[32,1,32,2],[47,18,47,19],[49,18,49,19],[25,1,25,2],[26,1,26,2],[27,1,27,2],[28,1,28,2],[29,1,29,2],[30,1,30,2],[24,1,24,2],[12,1,12,2],[13,1,13,2],[14,1,14,2],[15,1,15,2],[16,1,16,2],[17,1,18,1],[19,1,19,2],[20,1,20,2],[21,1,21,2],[22,1,22,2],[23,1,23,2],[1,2,4,3],[1,4,4,16],[1,17,1,19],[1,21,1,23],[2,17,2,19],[2,21,2,23],[3,17,3,19],[3,21,3,23],[4,17,4,19],[4,21,4,23]]}
[]
[null,null,null,null,"Rapport journalier",null,null,null,null,null,null,null,null,null,null,null,null,"Code:DAS-SMQ-24"]
[null,null,null,null,null,null,null,null,null,null,null,null,null,null,null,null,null,"Date: 27/12/2019"]
[null,null,null,null,null,null,null,null,null,null,null,null,null,null,null,null,null,"Version:01"]
[null,null,null,null,null,null,null,null,null,null,null,null,null,null,null,null,null,"Page:1"]
[]
[]
[]
[]
[]
[]
[null,null,null,"A","B","C","D","E","F","M","N","O","P","I","L","K","J","G","H"]
[null,"Machine",null,"SST16","SB16","BIGLIA 301 SM","BIGLIA 42 S2M bitourelle","L32","TSUGAMI","MORI SEIKI 3 axes","MORI SEIKI 5 axes","HARDING","KITAMURA","MULTIBROCHE","NAKAMURA","TOUR WEILER"]
[null,"Référence",null,511100,"510021-janv 2022","B041-CP1-par chutes ",513611,68.080699999999993,"S3SD14632"," - "," - ","PIG 50 SE",9630,"MPS000300","H001","I039","4-8784-1 par chute",68.081500000000005,"Rv-Re400"]
[null,"Désignation",null,"DIS.0050227100 PERNO D.6X62 ","QUADRO 10*60 AVP-AXE ACIER-janvier 2022","Piston  du chemise tete de pompete-par chutes ","Pomello Corpo GA- maj c","buse  Ø8","BUTEE-d9 MAJ C","Arrêt","Arrêt","pignon simple etage","Usinage Borne T030 jan2022","raccord HEX 17","GOUJON DE ROUE HONDA maj-c","GOUJON DE ROUE ISUZU","Bague galvanisée 38*40.4*28 par chute","Buse droite à collerette Ø8 M445 FRD","Rivet came B verro D4"]
[null,"Compteur 8h ",null,11790,2410,2660,2281,6445,66060,0,0,128,342,0,794,826,1463,4207,61086]
[null,"Compteur 17h",null,13415,2624,2867,2580,7210,67688,0,0,137,547,0,960,1010,2144,5015,64010]
[null,"Enregistrement","9h"]
[null,null,"16h"]
[null,"Identification"]
[null,"Propreté des tables de contrôle"]
[null,"Rangement des outils de contrôle"]
[null,"Existance de l'OF"]
[null,"Affutage",null,null,null,null,null,null,null,null,null,null,null,null,null,null,null,null,null,{"$f":"+COUNTA(D24:S24)","v":0}]
[null,"Maintenance"]
[null,"Nombre des NC poubelle "]
[null,"Nombre des NC à retoucher"]
[null,"Machine pour retouche"]
[null,"Panne"]
[null,"Cout pièces de rechange",null,null,null,null,null,null,null,null,null,null,null,null,null,null,null,null,null,{"$f":"SUM(D30:S30)","v":0}]
[null,"prix de revient pièce",null,{"$f":"IFERROR(VLOOKUP(D14,'Prix de revient'!$A:$D,4,0),0)","v":0},{"$f":"IFERROR(VLOOKUP(E14,'Prix de revient'!$A:$D,4,0),0)","v":0},{"$f":"IFERROR(VLOOKUP(F14,'Prix de revient'!$A:$D,4,0),0)","v":0},{"$f":"IFERROR(VLOOKUP(G14,'Prix de revient'!$A:$D,4,0),0)","v":0},{"$f":"IFERROR(VLOOKUP(H14,'Prix de revient'!$A:$D,4,0),0)","v":0},{"$f":"IFERROR(VLOOKUP(I14,'Prix de revient'!$A:$D,4,0),0)","v":0},{"$f":"IFERROR(VLOOKUP(J14,'Prix de revient'!$A:$D,4,0),0)","v":0},{"$f":"IFERROR(VLOOKUP(K14,'Prix de revient'!$A:$D,4,0),0)","v":0},{"$f":"IFERROR(VLOOKUP(L14,'Prix de revient'!$A:$D,4,0),0)","v":0},{"$f":"IFERROR(VLOOKUP(M14,'Prix de revient'!$A:$D,4,0),0)","v":0},{"$f":"IFERROR(VLOOKUP(N14,'Prix de revient'!$A:$D,4,0),0)","v":0},{"$f":"IFERROR(VLOOKUP(O14,'Prix de revient'!$A:$D,4,0),0)","v":0.69520000000000004},{"$f":"IFERROR(VLOOKUP(P14,'Prix de revient'!$A:$D,4,0),0)","v":0},{"$f":"IFERROR(VLOOKUP(Q14,'Prix de revient'!$A:$D,4,0),0)","v":0},{"$f":"IFERROR(VLOOKUP(R14,'Prix de revient'!$A:$D,4,0),0)","v":0},{"$f":"IFERROR(VLOOKUP(S14,'Prix de revient'!$A:$D,4,0),0)","v":0}]
[null,"coût de rebuts",null,{"$f":"D26*D31","v":0},{"$f":"E26*E31","v":0},0,0,0,0,0,0,0,0,0,0,0,0,0,0,{"$f":"SUM(D32:S32)","v":0}]
[null,"gestion de modification"]
[]
[]
[]
[]
[]
[]
[]
[null,null,"Clients","Audit","Réclamation","Avoir",null,"Fournisseurs/ sous-traitants","Réception de matiere","Probleme qualité",null,"Les formations professionnelles","Cout","Chiffrage décliné","Actions à suivre",null,"Article qui a subit un tri","durée du tri","Nombre des pieces non-conformes","ouvrier faisant le tri","cout par tri",null,"Article qui a subit la reprise","durée de la reprise","opérateur faisant la reprise","coût de reprise",null,null,null,"Machine ","article","gamme","objet de la modification"]
[null,null,null,null,null,null,null,null,null,null,null,null,null,null,null,null,null,null,null,null,{"$f":"IF(R42=\"\",\"\",R42*VLOOKUP(T42,'cout opérateur machines'!A1:B8,2,0))","v":""},null,null,null,null,{"$f":"X42*8","v":0}]
[null,null,null,null,null,null,null,null,null,null,null,null,null,null,null,null,null,null,null,null,{"$f":"IF(R43=\"\",\"\",R43*VLOOKUP(T43,'cout opérateur machines'!A2:B9,2,0))","v":""},null,null,null,null,{"$f":"X43*8","v":0}]
[null,null,null,null,null,null,null,null,null,null,null,null,null,null,null,null,null,null,null,null,{"$f":"IF(R44=\"\",\"\",R44*VLOOKUP(T44,'cout opérateur machines'!A3:B10,2,0))","v":""},null,null,null,null,0]
[null,null,null,null,null,null,null,null,null,null,null,null,null,null,null,null,null,null,null,null,{"$f":"IF(R45=\"\",\"\",R45*VLOOKUP(T45,'cout opérateur machines'!A4:B11,2,0))","v":""},null,null,null,null,0]
[null,null,null,null,null,null,null,null,null,null,null,null,null,null,null,null,null,null,null,null,{"$f":"IF(R46=\"\",\"\",R46*VLOOKUP(T46,'cout opérateur machines'!A5:B12,2,0))","v":""},null,null,null,null,0]
[null,null,null,null,null,null,null,null,null,null,null,null,null,null,null,null,null,null,null,null,{"$f":"IF(R47=\"\",\"\",R47*VLOOKUP(T47,'cout opérateur machines'!A6:B13,2,0))","v":""},null,null,null,null,0]
[null,null,null,null,{"$f":"COUNTA(E42:E47)","v":0},{"$f":"SUM(F42:F47)","v":0},null,null,null,null,null,null,{"$f":"SUM(M42:M47)","v":0},"causes de refus",null,null,null,null,"cout total du jour",null,{"$f":"SUM(U42:U47)","v":0},null,null,null,null,0]
[null,null,null,null,null,null,null,"envoi des réclamations F/ S-T","réponse F/ S-T","alerte",null,null,null,null,null,null,null,null,null,null,null,null,null,null,null,{"$f":"SUM(Z42:Z48)","v":0}]
[null,null,"dans le cas d'une réclamation",null,null,null,null,null,null,{"$f":"IF(J42=\"\",\"\",IF(H50=0,\" réclamation non traitée\",IF(I50=0, \"veuillez contacter le F/ S-T par téléphone\",\"\")))","v":""},null,null,null,null,null,null,null,null,"N° mois",null,1]
[null,null,"nombre de pièces NC",null,null,null,null,null,null,{"$f":"IF(J43=\"\",\"\",IF(H51=0,\" réclamation non traitée\",IF(I51=0, \"veuillez contacter le F/ S-T par téléphone\",\"\")))","v":""}]
[null,null,"nombre de pièces par carton",null,null,null,null,null,null,""]
[null,null,"coût de transport par carton",null,null,null,null,null,null,""]
[null,null,"nombre de cartons renvoyés",null,null,null,null,null,null,""]
[null,null,"temps de tri",null,null,null,null,null,null,""]
[null,null,"coût horaire de tri"]
[null,null,"temps de retouche"]
[null,null,"coût horaire de retouche"]
[null,null,"temps de traitement de la réclamation"]
[null,null,"coût horaire de traitement"]
[null,null,"coût total",{"$f":"IFERROR(((D51/D52)*D53)+D54*D53+D55*D56+D57*D58+D59*D60,\"\")","v":""}]

{"sheet":"10-1-22","index":99,"n_rows":61,"n_cols":33,"rows_kept":61,"cut":false,"hidden":false,"merged":[[31,1,31,2],[32,1,32,2],[47,18,47,19],[49,18,49,19],[25,1,25,2],[26,1,26,2],[27,1,27,2],[28,1,28,2],[29,1,29,2],[30,1,30,2],[24,1,24,2],[12,1,12,2],[13,1,13,2],[14,1,14,2],[15,1,15,2],[16,1,16,2],[17,1,18,1],[19,1,19,2],[20,1,20,2],[21,1,21,2],[22,1,22,2],[23,1,23,2],[1,2,4,3],[1,4,4,16],[1,17,1,19],[1,21,1,23],[2,17,2,19],[2,21,2,23],[3,17,3,19],[3,21,3,23],[4,17,4,19],[4,21,4,23]]}
[]
[null,null,null,null,"Rapport journalier",null,null,null,null,null,null,null,null,null,null,null,null,"Code:DAS-SMQ-24"]
[null,null,null,null,null,null,null,null,null,null,null,null,null,null,null,null,null,"Date: 27/12/2019"]
[null,null,null,null,null,null,null,null,null,null,null,null,null,null,null,null,null,"Version:01"]
[null,null,null,null,null,null,null,null,null,null,null,null,null,null,null,null,null,"Page:1"]
[]
[]
[]
[]
[]
[]
[null,null,null,"A","B","C","D","E","F","M","N","O","P","I","L","K","J","G","H"]
[null,"Machine",null,"SST16","SB16","BIGLIA 301 SM","BIGLIA 42 S2M bitourelle","L32","TSUGAMI","MORI SEIKI 3 axes","MORI SEIKI 5 axes","HARDING","KITAMURA","MULTIBROCHE","NAKAMURA","TOUR WEILER"]
[null,"Référence",null,511100,"510021-janv 2022","B041-CP1-par chutes ",513611,68.080699999999993,"S3SD14632"," - "," - ","PIG 50 SE",9630,"MPS000300","H001","I039","4-8784-1 par chute",68.081500000000005,"Rv-Re400"]
[null,"Désignation",null,"DIS.0050227100 PERNO D.6X62 ","QUADRO 10*60 AVP-AXE ACIER-janvier 2022","Piston  du chemise tete de pompete-par chutes ","Pomello Corpo GA- maj c","buse  Ø8","BUTEE-d9 MAJ C","Arrêt","Arrêt","pignon simple etage","Usinage Borne T030 jan2022","raccord HEX 17","GOUJON DE ROUE HONDA maj-c","GOUJON DE ROUE ISUZU","Bague galvanisée 38*40.4*28 par chute","Buse droite à collerette Ø8 M445 FRD","Rivet came B verro D4"]
[null,"Compteur 8h ",null,10500,2080,2460,2121,5580,64196,0,0,120,143,0,619,633,1123,3565,59088]
[null,"Compteur 17h",null,11790,2410,2660,2281,6445,66060,0,0,128,342,0,794,826,1463,4207,61086]
[null,"Enregistrement","9h"]
[null,null,"16h"]
[null,"Identification"]
[null,"Propreté des tables de contrôle"]
[null,"Rangement des outils de contrôle"]
[null,"Existance de l'OF"]
[null,"Affutage",null,null,null,null,null,null,null,null,null,null,null,null,null,null,null,null,null,{"$f":"+COUNTA(D24:S24)","v":0}]
[null,"Maintenance"]
[null,"Nombre des NC poubelle ",null,6,null,null,12,31,50]
[null,"Nombre des NC à retoucher"]
[null,"Machine pour retouche"]
[null,"Panne"]
[null,"Cout pièces de rechange",null,null,null,null,null,null,null,null,null,null,null,null,null,null,null,null,null,{"$f":"SUM(D30:S30)","v":0}]
[null,"prix de revient pièce",null,{"$f":"IFERROR(VLOOKUP(D14,'Prix de revient'!$A:$D,4,0),0)","v":0},{"$f":"IFERROR(VLOOKUP(E14,'Prix de revient'!$A:$D,4,0),0)","v":0},{"$f":"IFERROR(VLOOKUP(F14,'Prix de revient'!$A:$D,4,0),0)","v":0},{"$f":"IFERROR(VLOOKUP(G14,'Prix de revient'!$A:$D,4,0),0)","v":0},{"$f":"IFERROR(VLOOKUP(H14,'Prix de revient'!$A:$D,4,0),0)","v":0},{"$f":"IFERROR(VLOOKUP(I14,'Prix de revient'!$A:$D,4,0),0)","v":0},{"$f":"IFERROR(VLOOKUP(J14,'Prix de revient'!$A:$D,4,0),0)","v":0},{"$f":"IFERROR(VLOOKUP(K14,'Prix de revient'!$A:$D,4,0),0)","v":0},{"$f":"IFERROR(VLOOKUP(L14,'Prix de revient'!$A:$D,4,0),0)","v":0},{"$f":"IFERROR(VLOOKUP(M14,'Prix de revient'!$A:$D,4,0),0)","v":0},{"$f":"IFERROR(VLOOKUP(N14,'Prix de revient'!$A:$D,4,0),0)","v":0},{"$f":"IFERROR(VLOOKUP(O14,'Prix de revient'!$A:$D,4,0),0)","v":0.69520000000000004},{"$f":"IFERROR(VLOOKUP(P14,'Prix de revient'!$A:$D,4,0),0)","v":0},{"$f":"IFERROR(VLOOKUP(Q14,'Prix de revient'!$A:$D,4,0),0)","v":0},{"$f":"IFERROR(VLOOKUP(R14,'Prix de revient'!$A:$D,4,0),0)","v":0},{"$f":"IFERROR(VLOOKUP(S14,'Prix de revient'!$A:$D,4,0),0)","v":0}]
[null,"coût de rebuts",null,{"$f":"D26*D31","v":0},{"$f":"E26*E31","v":0},0,0,0,0,0,0,0,0,0,0,0,0,0,0,{"$f":"SUM(D32:S32)","v":0}]
[null,"gestion de modification"]
[]
[]
[]
[]
[]
[]
[]
[null,null,"Clients","Audit","Réclamation","Avoir",null,"Fournisseurs/ sous-traitants","Réception de matiere","Probleme qualité",null,"Les formations professionnelles","Cout","Chiffrage décliné","Actions à suivre",null,"Article qui a subit un tri","durée du tri","Nombre des pieces non-conformes","ouvrier faisant le tri","cout par tri",null,"Article qui a subit la reprise","durée de la reprise","opérateur faisant la reprise","coût de reprise",null,null,null,"Machine ","article","gamme","objet de la modification"]
[null,null,null,null,null,null,null,null,null,null,null,null,null,null,null,null,null,null,null,null,{"$f":"IF(R42=\"\",\"\",R42*VLOOKUP(T42,'cout opérateur machines'!A1:B8,2,0))","v":""},null,null,null,null,{"$f":"X42*8","v":0}]
[null,null,null,null,null,null,null,null,null,null,null,null,null,null,null,null,null,null,null,null,{"$f":"IF(R43=\"\",\"\",R43*VLOOKUP(T43,'cout opérateur machines'!A2:B9,2,0))","v":""},null,null,null,null,{"$f":"X43*8","v":0}]
[null,null,null,null,null,null,null,null,null,null,null,null,null,null,null,null,null,null,null,null,{"$f":"IF(R44=\"\",\"\",R44*VLOOKUP(T44,'cout opérateur machines'!A3:B10,2,0))","v":""},null,null,null,null,0]
[null,null,null,null,null,null,null,null,null,null,null,null,null,null,null,null,null,null,null,null,{"$f":"IF(R45=\"\",\"\",R45*VLOOKUP(T45,'cout opérateur machines'!A4:B11,2,0))","v":""},null,null,null,null,0]
[null,null,null,null,null,null,null,null,null,null,null,null,null,null,null,null,null,null,null,null,{"$f":"IF(R46=\"\",\"\",R46*VLOOKUP(T46,'cout opérateur machines'!A5:B12,2,0))","v":""},null,null,null,null,0]
[null,null,null,null,null,null,null,null,null,null,null,null,null,null,null,null,null,null,null,null,{"$f":"IF(R47=\"\",\"\",R47*VLOOKUP(T47,'cout opérateur machines'!A6:B13,2,0))","v":""},null,null,null,null,0]
[null,null,null,null,{"$f":"COUNTA(E42:E47)","v":0},{"$f":"SUM(F42:F47)","v":0},null,null,null,null,null,null,{"$f":"SUM(M42:M47)","v":0},"causes de refus",null,null,null,null,"cout total du jour",null,{"$f":"SUM(U42:U47)","v":0},null,null,null,null,0]
[null,null,null,null,null,null,null,"envoi des réclamations F/ S-T","réponse F/ S-T","alerte",null,null,null,null,null,null,null,null,null,null,null,null,null,null,null,{"$f":"SUM(Z42:Z48)","v":0}]
[null,null,"dans le cas d'une réclamation",null,null,null,null,null,null,{"$f":"IF(J42=\"\",\"\",IF(H50=0,\" réclamation non traitée\",IF(I50=0, \"veuillez contacter le F/ S-T par téléphone\",\"\")))","v":""},null,null,null,null,null,null,null,null,"N° mois",null,1]
[null,null,"nombre de pièces NC",null,null,null,null,null,null,{"$f":"IF(J43=\"\",\"\",IF(H51=0,\" réclamation non traitée\",IF(I51=0, \"veuillez contacter le F/ S-T par téléphone\",\"\")))","v":""}]
[null,null,"nombre de pièces par carton",null,null,null,null,null,null,""]
[null,null,"coût de transport par carton",null,null,null,null,null,null,""]
[null,null,"nombre de cartons renvoyés",null,null,null,null,null,null,""]
[null,null,"temps de tri",null,null,null,null,null,null,""]
[null,null,"coût horaire de tri"]
[null,null,"temps de retouche"]
[null,null,"coût horaire de retouche"]
[null,null,"temps de traitement de la réclamation"]
[null,null,"coût horaire de traitement"]
[null,null,"coût total",{"$f":"IFERROR(((D51/D52)*D53)+D54*D53+D55*D56+D57*D58+D59*D60,\"\")","v":""}]

{"sheet":"08-1-22","index":100,"n_rows":61,"n_cols":33,"rows_kept":61,"cut":false,"hidden":false,"merged":[[31,1,31,2],[32,1,32,2],[47,18,47,19],[49,18,49,19],[25,1,25,2],[26,1,26,2],[27,1,27,2],[28,1,28,2],[29,1,29,2],[30,1,30,2],[24,1,24,2],[12,1,12,2],[13,1,13,2],[14,1,14,2],[15,1,15,2],[16,1,16,2],[17,1,18,1],[19,1,19,2],[20,1,20,2],[21,1,21,2],[22,1,22,2],[23,1,23,2],[1,2,4,3],[1,4,4,16],[1,17,1,19],[1,21,1,23],[2,17,2,19],[2,21,2,23],[3,17,3,19],[3,21,3,23],[4,17,4,19],[4,21,4,23]]}
[]
[null,null,null,null,"Rapport journalier",null,null,null,null,null,null,null,null,null,null,null,null,"Code:DAS-SMQ-24"]
[null,null,null,null,null,null,null,null,null,null,null,null,null,null,null,null,null,"Date: 27/12/2019"]
[null,null,null,null,null,null,null,null,null,null,null,null,null,null,null,null,null,"Version:01"]
[null,null,null,null,null,null,null,null,null,null,null,null,null,null,null,null,null,"Page:1"]
[]
[]
[]
[]
[]
[]
[null,null,null,"A","B","C","D","E","F","M","N","O","P","I","L","K","J","G","H"]
[null,"Machine",null,"SST16","SB16","BIGLIA 301 SM","BIGLIA 42 S2M bitourelle","L32","TSUGAMI","MORI SEIKI 3 axes","MORI SEIKI 5 axes","HARDING","KITAMURA","MULTIBROCHE","NAKAMURA","TOUR WEILER"]
[null,"Référence",null,511100,"510021-janv 2022","B041-CP1",513611,68.080699999999993,"S3SD14632"," - "," - ","PIG 50 SE",9630,"MPS000300","H001","I039","4-8784-1 par chute",68.081500000000005,"Rv-Re400"]
[null,"Désignation",null,"DIS.0050227100 PERNO D.6X62 ","QUADRO 10*60 AVP-AXE ACIER-janvier 2022","Piston  du chemise tete de pompete","Pomello Corpo GA- maj c","buse  Ø8","BUTEE-d9 MAJ C","Arrêt","Arrêt","pignon simple etage","Usinage Borne T030 jan2022","raccord HEX 17","GOUJON DE ROUE  HONDA/SUZUKI ","GOUJON DE ROUE ISUZU","Bague galvanisée 38*40.4*28 par chute","Buse droite à collerette Ø8 M445 FRD","Rivet came B verro D4"]
[null,"Compteur 8h ",null,9933,1805,2322,1964,5158,63215,0,0,116,25,0,527,512,803,3193,57790]
[null,"Compteur 17h",null,10500,2080,2460,2121,5580,64196,0,0,120,143,0,619,633,1123,3565,59088]
[null,"Enregistrement","9h"]
[null,null,"16h"]
[null,"Identification"]
[null,"Propreté des tables de contrôle"]
[null,"Rangement des outils de contrôle"]
[null,"Existance de l'OF"]
[null,"Affutage",null,null,null,null,null,null,null,null,null,null,null,null,null,null,null,null,null,{"$f":"+COUNTA(D24:S24)","v":0}]
[null,"Maintenance"]
[null,"Nombre des NC poubelle ",null,8,2]
[null,"Nombre des NC à retoucher"]
[null,"Machine pour retouche"]
[null,"Panne"]
[null,"Cout pièces de rechange",null,null,null,null,null,null,null,null,null,null,null,null,null,null,null,null,null,{"$f":"SUM(D30:S30)","v":0}]
[null,"prix de revient pièce",null,{"$f":"IFERROR(VLOOKUP(D14,'Prix de revient'!$A:$D,4,0),0)","v":0},{"$f":"IFERROR(VLOOKUP(E14,'Prix de revient'!$A:$D,4,0),0)","v":0},{"$f":"IFERROR(VLOOKUP(F14,'Prix de revient'!$A:$D,4,0),0)","v":0},{"$f":"IFERROR(VLOOKUP(G14,'Prix de revient'!$A:$D,4,0),0)","v":0},{"$f":"IFERROR(VLOOKUP(H14,'Prix de revient'!$A:$D,4,0),0)","v":0},{"$f":"IFERROR(VLOOKUP(I14,'Prix de revient'!$A:$D,4,0),0)","v":0},{"$f":"IFERROR(VLOOKUP(J14,'Prix de revient'!$A:$D,4,0),0)","v":0},{"$f":"IFERROR(VLOOKUP(K14,'Prix de revient'!$A:$D,4,0),0)","v":0},{"$f":"IFERROR(VLOOKUP(L14,'Prix de revient'!$A:$D,4,0),0)","v":0},{"$f":"IFERROR(VLOOKUP(M14,'Prix de revient'!$A:$D,4,0),0)","v":0},{"$f":"IFERROR(VLOOKUP(N14,'Prix de revient'!$A:$D,4,0),0)","v":0},{"$f":"IFERROR(VLOOKUP(O14,'Prix de revient'!$A:$D,4,0),0)","v":0.69520000000000004},{"$f":"IFERROR(VLOOKUP(P14,'Prix de revient'!$A:$D,4,0),0)","v":0},{"$f":"IFERROR(VLOOKUP(Q14,'Prix de revient'!$A:$D,4,0),0)","v":0},{"$f":"IFERROR(VLOOKUP(R14,'Prix de revient'!$A:$D,4,0),0)","v":0},{"$f":"IFERROR(VLOOKUP(S14,'Prix de revient'!$A:$D,4,0),0)","v":0}]
[null,"coût de rebuts",null,{"$f":"D26*D31","v":0},{"$f":"E26*E31","v":0},0,0,0,0,0,0,0,0,0,0,0,0,0,0,{"$f":"SUM(D32:S32)","v":0}]
[null,"gestion de modification"]
[]
[]
[]
[]
[]
[]
[]
[null,null,"Clients","Audit","Réclamation","Avoir",null,"Fournisseurs/ sous-traitants","Réception de matiere","Probleme qualité",null,"Les formations professionnelles","Cout","Chiffrage décliné","Actions à suivre",null,"Article qui a subit un tri","durée du tri","Nombre des pieces non-conformes","ouvrier faisant le tri","cout par tri",null,"Article qui a subit la reprise","durée de la reprise","opérateur faisant la reprise","coût de reprise",null,null,null,"Machine ","article","gamme","objet de la modification"]
[null,null,null,null,null,null,null,null,null,null,null,null,null,null,null,null,null,null,null,null,{"$f":"IF(R42=\"\",\"\",R42*VLOOKUP(T42,'cout opérateur machines'!A1:B8,2,0))","v":""},null,null,null,null,{"$f":"X42*8","v":0}]
[null,null,null,null,null,null,null,null,null,null,null,null,null,null,null,null,null,null,null,null,{"$f":"IF(R43=\"\",\"\",R43*VLOOKUP(T43,'cout opérateur machines'!A2:B9,2,0))","v":""},null,null,null,null,{"$f":"X43*8","v":0}]
[null,null,null,null,null,null,null,null,null,null,null,null,null,null,null,null,null,null,null,null,{"$f":"IF(R44=\"\",\"\",R44*VLOOKUP(T44,'cout opérateur machines'!A3:B10,2,0))","v":""},null,null,null,null,0]
[null,null,null,null,null,null,null,null,null,null,null,null,null,null,null,null,null,null,null,null,{"$f":"IF(R45=\"\",\"\",R45*VLOOKUP(T45,'cout opérateur machines'!A4:B11,2,0))","v":""},null,null,null,null,0]
[null,null,null,null,null,null,null,null,null,null,null,null,null,null,null,null,null,null,null,null,{"$f":"IF(R46=\"\",\"\",R46*VLOOKUP(T46,'cout opérateur machines'!A5:B12,2,0))","v":""},null,null,null,null,0]
[null,null,null,null,null,null,null,null,null,null,null,null,null,null,null,null,null,null,null,null,{"$f":"IF(R47=\"\",\"\",R47*VLOOKUP(T47,'cout opérateur machines'!A6:B13,2,0))","v":""},null,null,null,null,0]
[null,null,null,null,{"$f":"COUNTA(E42:E47)","v":0},{"$f":"SUM(F42:F47)","v":0},null,null,null,null,null,null,{"$f":"SUM(M42:M47)","v":0},"causes de refus",null,null,null,null,"cout total du jour",null,{"$f":"SUM(U42:U47)","v":0},null,null,null,null,0]
[null,null,null,null,null,null,null,"envoi des réclamations F/ S-T","réponse F/ S-T","alerte",null,null,null,null,null,null,null,null,null,null,null,null,null,null,null,{"$f":"SUM(Z42:Z48)","v":0}]
[null,null,"dans le cas d'une réclamation",null,null,null,null,null,null,{"$f":"IF(J42=\"\",\"\",IF(H50=0,\" réclamation non traitée\",IF(I50=0, \"veuillez contacter le F/ S-T par téléphone\",\"\")))","v":""},null,null,null,null,null,null,null,null,"N° mois",null,1]
[null,null,"nombre de pièces NC",null,null,null,null,null,null,{"$f":"IF(J43=\"\",\"\",IF(H51=0,\" réclamation non traitée\",IF(I51=0, \"veuillez contacter le F/ S-T par téléphone\",\"\")))","v":""}]
[null,null,"nombre de pièces par carton",null,null,null,null,null,null,""]
[null,null,"coût de transport par carton",null,null,null,null,null,null,""]
[null,null,"nombre de cartons renvoyés",null,null,null,null,null,null,""]
[null,null,"temps de tri",null,null,null,null,null,null,""]
[null,null,"coût horaire de tri"]
[null,null,"temps de retouche"]
[null,null,"coût horaire de retouche"]
[null,null,"temps de traitement de la réclamation"]
[null,null,"coût horaire de traitement"]
[null,null,"coût total",{"$f":"IFERROR(((D51/D52)*D53)+D54*D53+D55*D56+D57*D58+D59*D60,\"\")","v":""}]

{"sheet":"07-1-22","index":101,"n_rows":61,"n_cols":33,"rows_kept":61,"cut":false,"hidden":false,"merged":[[31,1,31,2],[32,1,32,2],[47,18,47,19],[49,18,49,19],[25,1,25,2],[26,1,26,2],[27,1,27,2],[28,1,28,2],[29,1,29,2],[30,1,30,2],[24,1,24,2],[12,1,12,2],[13,1,13,2],[14,1,14,2],[15,1,15,2],[16,1,16,2],[17,1,18,1],[19,1,19,2],[20,1,20,2],[21,1,21,2],[22,1,22,2],[23,1,23,2],[1,2,4,3],[1,4,4,16],[1,17,1,19],[1,21,1,23],[2,17,2,19],[2,21,2,23],[3,17,3,19],[3,21,3,23],[4,17,4,19],[4,21,4,23]]}
[]
[null,null,null,null,"Rapport journalier",null,null,null,null,null,null,null,null,null,null,null,null,"Code:DAS-SMQ-24"]
[null,null,null,null,null,null,null,null,null,null,null,null,null,null,null,null,null,"Date: 27/12/2019"]
[null,null,null,null,null,null,null,null,null,null,null,null,null,null,null,null,null,"Version:01"]
[null,null,null,null,null,null,null,null,null,null,null,null,null,null,null,null,null,"Page:1"]
[]
[]
[]
[]
[]
[]
[null,null,null,"A","B","C","D","E","F","M","N","O","P","I","L","K","J","G","H"]
[null,"Machine",null,"SST16","SB16","BIGLIA 301 SM","BIGLIA 42 S2M bitourelle","L32","TSUGAMI","MORI SEIKI 3 axes","MORI SEIKI 5 axes","HARDING","KITAMURA","MULTIBROCHE","NAKAMURA","TOUR WEILER"]
[null,"Référence",null,511100,"510021-janv 2022","B041-CP1",513611,68.080699999999993,"S3SD14632"," - "," - ","PIG 50 SE",9630,"MPS000300","H001","I039","4-8784-1 par chute",68.081500000000005,"Rv-Re400"]
[null,"Désignation",null,"DIS.0050227100 PERNO D.6X62 ","QUADRO 10*60 AVP-AXE ACIER-janvier 2022","Piston  du chemise tete de pompete","Pomello Corpo GA- maj c","buse  Ø8","BUTEE-d9 MAJ C","Arrêt","Arrêt","pignon simple etage","Usinage Borne T030 jan2022","raccord HEX 17","GOUJON DE ROUE  HONDA/SUZUKI ","GOUJON DE ROUE ISUZU","Bague galvanisée 38*40.4*28 par chute","Buse droite à collerette Ø8 M445 FRD","Rivet came B verro D4"]
[null,"Compteur 8h ",null,8895,1805,2064,1849,4713,61794,0,0,109,0,0,341,373,168,2833,55513]
[null,"Compteur 17h",null,9933,1805,2322,1964,5158,63215,0,0,116,25,0,527,512,803,3193,57790]
[null,"Enregistrement","9h"]
[null,null,"16h"]
[null,"Identification"]
[null,"Propreté des tables de contrôle"]
[null,"Rangement des outils de contrôle"]
[null,"Existance de l'OF"]
[null,"Affutage",null,null,null,null,null,null,null,null,null,null,null,null,null,null,null,null,null,{"$f":"+COUNTA(D24:S24)","v":0}]
[null,"Maintenance"]
[null,"Nombre des NC poubelle "]
[null,"Nombre des NC à retoucher"]
[null,"Machine pour retouche"]
[null,"Panne"]
[null,"Cout pièces de rechange",null,null,null,null,null,null,null,null,null,null,null,null,null,null,null,null,null,{"$f":"SUM(D30:S30)","v":0}]
[null,"prix de revient pièce",null,{"$f":"IFERROR(VLOOKUP(D14,'Prix de revient'!$A:$D,4,0),0)","v":0},{"$f":"IFERROR(VLOOKUP(E14,'Prix de revient'!$A:$D,4,0),0)","v":0},{"$f":"IFERROR(VLOOKUP(F14,'Prix de revient'!$A:$D,4,0),0)","v":0},{"$f":"IFERROR(VLOOKUP(G14,'Prix de revient'!$A:$D,4,0),0)","v":0},{"$f":"IFERROR(VLOOKUP(H14,'Prix de revient'!$A:$D,4,0),0)","v":0},{"$f":"IFERROR(VLOOKUP(I14,'Prix de revient'!$A:$D,4,0),0)","v":0},{"$f":"IFERROR(VLOOKUP(J14,'Prix de revient'!$A:$D,4,0),0)","v":0},{"$f":"IFERROR(VLOOKUP(K14,'Prix de revient'!$A:$D,4,0),0)","v":0},{"$f":"IFERROR(VLOOKUP(L14,'Prix de revient'!$A:$D,4,0),0)","v":0},{"$f":"IFERROR(VLOOKUP(M14,'Prix de revient'!$A:$D,4,0),0)","v":0},{"$f":"IFERROR(VLOOKUP(N14,'Prix de revient'!$A:$D,4,0),0)","v":0},{"$f":"IFERROR(VLOOKUP(O14,'Prix de revient'!$A:$D,4,0),0)","v":0.69520000000000004},{"$f":"IFERROR(VLOOKUP(P14,'Prix de revient'!$A:$D,4,0),0)","v":0},{"$f":"IFERROR(VLOOKUP(Q14,'Prix de revient'!$A:$D,4,0),0)","v":0},{"$f":"IFERROR(VLOOKUP(R14,'Prix de revient'!$A:$D,4,0),0)","v":0},{"$f":"IFERROR(VLOOKUP(S14,'Prix de revient'!$A:$D,4,0),0)","v":0}]
[null,"coût de rebuts",null,{"$f":"D26*D31","v":0},{"$f":"E26*E31","v":0},0,0,0,0,0,0,0,0,0,0,0,0,0,0,{"$f":"SUM(D32:S32)","v":0}]
[null,"gestion de modification"]
[]
[]
[]
[]
[]
[]
[]
[null,null,"Clients","Audit","Réclamation","Avoir",null,"Fournisseurs/ sous-traitants","Réception de matiere","Probleme qualité",null,"Les formations professionnelles","Cout","Chiffrage décliné","Actions à suivre",null,"Article qui a subit un tri","durée du tri","Nombre des pieces non-conformes","ouvrier faisant le tri","cout par tri",null,"Article qui a subit la reprise","durée de la reprise","opérateur faisant la reprise","coût de reprise",null,null,null,"Machine ","article","gamme","objet de la modification"]
[null,null,null,null,null,null,null,null,null,null,null,null,null,null,null,null,null,null,null,null,{"$f":"IF(R42=\"\",\"\",R42*VLOOKUP(T42,'cout opérateur machines'!A1:B8,2,0))","v":""},null,null,null,null,{"$f":"X42*8","v":0}]
[null,null,null,null,null,null,null,null,null,null,null,null,null,null,null,null,null,null,null,null,{"$f":"IF(R43=\"\",\"\",R43*VLOOKUP(T43,'cout opérateur machines'!A2:B9,2,0))","v":""},null,null,null,null,{"$f":"X43*8","v":0}]
[null,null,null,null,null,null,null,null,null,null,null,null,null,null,null,null,null,null,null,null,{"$f":"IF(R44=\"\",\"\",R44*VLOOKUP(T44,'cout opérateur machines'!A3:B10,2,0))","v":""},null,null,null,null,0]
[null,null,null,null,null,null,null,null,null,null,null,null,null,null,null,null,null,null,null,null,{"$f":"IF(R45=\"\",\"\",R45*VLOOKUP(T45,'cout opérateur machines'!A4:B11,2,0))","v":""},null,null,null,null,0]
[null,null,null,null,null,null,null,null,null,null,null,null,null,null,null,null,null,null,null,null,{"$f":"IF(R46=\"\",\"\",R46*VLOOKUP(T46,'cout opérateur machines'!A5:B12,2,0))","v":""},null,null,null,null,0]
[null,null,null,null,null,null,null,null,null,null,null,null,null,null,null,null,null,null,null,null,{"$f":"IF(R47=\"\",\"\",R47*VLOOKUP(T47,'cout opérateur machines'!A6:B13,2,0))","v":""},null,null,null,null,0]
[null,null,null,null,{"$f":"COUNTA(E42:E47)","v":0},{"$f":"SUM(F42:F47)","v":0},null,null,null,null,null,null,{"$f":"SUM(M42:M47)","v":0},"causes de refus",null,null,null,null,"cout total du jour",null,{"$f":"SUM(U42:U47)","v":0},null,null,null,null,0]
[null,null,null,null,null,null,null,"envoi des réclamations F/ S-T","réponse F/ S-T","alerte",null,null,null,null,null,null,null,null,null,null,null,null,null,null,null,{"$f":"SUM(Z42:Z48)","v":0}]
[null,null,"dans le cas d'une réclamation",null,null,null,null,null,null,{"$f":"IF(J42=\"\",\"\",IF(H50=0,\" réclamation non traitée\",IF(I50=0, \"veuillez contacter le F/ S-T par téléphone\",\"\")))","v":""},null,null,null,null,null,null,null,null,"N° mois",null,1]
[null,null,"nombre de pièces NC",null,null,null,null,null,null,{"$f":"IF(J43=\"\",\"\",IF(H51=0,\" réclamation non traitée\",IF(I51=0, \"veuillez contacter le F/ S-T par téléphone\",\"\")))","v":""}]
[null,null,"nombre de pièces par carton",null,null,null,null,null,null,""]
[null,null,"coût de transport par carton",null,null,null,null,null,null,""]
[null,null,"nombre de cartons renvoyés",null,null,null,null,null,null,""]
[null,null,"temps de tri",null,null,null,null,null,null,""]
[null,null,"coût horaire de tri"]
[null,null,"temps de retouche"]
[null,null,"coût horaire de retouche"]
[null,null,"temps de traitement de la réclamation"]
[null,null,"coût horaire de traitement"]
[null,null,"coût total",{"$f":"IFERROR(((D51/D52)*D53)+D54*D53+D55*D56+D57*D58+D59*D60,\"\")","v":""}]

{"sheet":"06-1-22","index":102,"n_rows":61,"n_cols":33,"rows_kept":61,"cut":false,"hidden":false,"merged":[[31,1,31,2],[32,1,32,2],[47,18,47,19],[49,18,49,19],[25,1,25,2],[26,1,26,2],[27,1,27,2],[28,1,28,2],[29,1,29,2],[30,1,30,2],[24,1,24,2],[12,1,12,2],[13,1,13,2],[14,1,14,2],[15,1,15,2],[16,1,16,2],[17,1,18,1],[19,1,19,2],[20,1,20,2],[21,1,21,2],[22,1,22,2],[23,1,23,2],[1,2,4,3],[1,4,4,16],[1,17,1,19],[1,21,1,23],[2,17,2,19],[2,21,2,23],[3,17,3,19],[3,21,3,23],[4,17,4,19],[4,21,4,23]]}
[]
[null,null,null,null,"Rapport journalier",null,null,null,null,null,null,null,null,null,null,null,null,"Code:DAS-SMQ-24"]
[null,null,null,null,null,null,null,null,null,null,null,null,null,null,null,null,null,"Date: 27/12/2019"]
[null,null,null,null,null,null,null,null,null,null,null,null,null,null,null,null,null,"Version:01"]
[null,null,null,null,null,null,null,null,null,null,null,null,null,null,null,null,null,"Page:1"]
[]
[]
[]
[]
[]
[]
[null,null,null,"A","B","C","D","E","F","M","N","O","P","I","L","K","J","G","H"]
[null,"Machine",null,"SST16","SB16","BIGLIA 301 SM","BIGLIA 42 S2M bitourelle","L32","TSUGAMI","MORI SEIKI 3 axes","MORI SEIKI 5 axes","HARDING","KITAMURA","MULTIBROCHE","NAKAMURA","TOUR WEILER"]
[null,"Référence",null,511100,"510021-janv 2022","B041-CP1",513611,68.080699999999993,"S3SD14632"," - "," - ","PIG 50 SE","9751-foret de forme d4","MPS000300","H001","I039","4-8784-1 par chute",68.081500000000005,"Rv-Re400"]
[null,"Désignation",null,"DIS.0050227100 PERNO D.6X62 ","QUADRO 10*60 AVP-AXE ACIER-janvier 2022","Piston  du chemise tete de pompete","Pomello Corpo GA- maj c","buse  Ø8","BUTEE-d9 MAJ C","Arrêt","Arrêt","pignon simple etage","USINAGE BORNE CPF PROPREITAIRE -foret de forme d4","raccord HEX 17","GOUJON DE ROUE  HONDA/SUZUKI ","GOUJON DE ROUE ISUZU","Bague galvanisée 38*40.4*28 par chute","Buse droite à collerette Ø8 M445 FRD","Rivet came B verro D4"]
[null,"Compteur 8h ",null,7313,1386,1822,1547,4212,59850,0,0,101,1078,0,192,202,0,2195,52520]
[null,"Compteur 17h",null,8895,1805,2064,1849,4713,61794,0,0,109,1331,0,341,373,168,2833,55513]
[null,"Enregistrement","9h"]
[null,null,"16h"]
[null,"Identification"]
[null,"Propreté des tables de contrôle"]
[null,"Rangement des outils de contrôle"]
[null,"Existance de l'OF"]
[null,"Affutage",null,null,null,null,null,null,null,null,null,null,null,null,null,null,null,null,null,{"$f":"+COUNTA(D24:S24)","v":0}]
[null,"Maintenance"]
[null,"Nombre des NC poubelle ",null,3,null,2,null,41,null,null,null,null,null,null,null,null,null,7]
[null,"Nombre des NC à retoucher"]
[null,"Machine pour retouche"]
[null,"Panne"]
[null,"Cout pièces de rechange",null,null,null,null,null,null,null,null,null,null,null,null,null,null,null,null,null,{"$f":"SUM(D30:S30)","v":0}]
[null,"prix de revient pièce",null,{"$f":"IFERROR(VLOOKUP(D14,'Prix de revient'!$A:$D,4,0),0)","v":0},{"$f":"IFERROR(VLOOKUP(E14,'Prix de revient'!$A:$D,4,0),0)","v":0},{"$f":"IFERROR(VLOOKUP(F14,'Prix de revient'!$A:$D,4,0),0)","v":0},{"$f":"IFERROR(VLOOKUP(G14,'Prix de revient'!$A:$D,4,0),0)","v":0},{"$f":"IFERROR(VLOOKUP(H14,'Prix de revient'!$A:$D,4,0),0)","v":0},{"$f":"IFERROR(VLOOKUP(I14,'Prix de revient'!$A:$D,4,0),0)","v":0},{"$f":"IFERROR(VLOOKUP(J14,'Prix de revient'!$A:$D,4,0),0)","v":0},{"$f":"IFERROR(VLOOKUP(K14,'Prix de revient'!$A:$D,4,0),0)","v":0},{"$f":"IFERROR(VLOOKUP(L14,'Prix de revient'!$A:$D,4,0),0)","v":0},{"$f":"IFERROR(VLOOKUP(M14,'Prix de revient'!$A:$D,4,0),0)","v":0},{"$f":"IFERROR(VLOOKUP(N14,'Prix de revient'!$A:$D,4,0),0)","v":0},{"$f":"IFERROR(VLOOKUP(O14,'Prix de revient'!$A:$D,4,0),0)","v":0.69520000000000004},{"$f":"IFERROR(VLOOKUP(P14,'Prix de revient'!$A:$D,4,0),0)","v":0},{"$f":"IFERROR(VLOOKUP(Q14,'Prix de revient'!$A:$D,4,0),0)","v":0},{"$f":"IFERROR(VLOOKUP(R14,'Prix de revient'!$A:$D,4,0),0)","v":0},{"$f":"IFERROR(VLOOKUP(S14,'Prix de revient'!$A:$D,4,0),0)","v":0}]
[null,"coût de rebuts",null,{"$f":"D26*D31","v":0},{"$f":"E26*E31","v":0},0,0,0,0,0,0,0,0,0,0,0,0,0,0,{"$f":"SUM(D32:S32)","v":0}]
[null,"gestion de modification"]
[]
[]
[]
[]
[]
[]
[]
[null,null,"Clients","Audit","Réclamation","Avoir",null,"Fournisseurs/ sous-traitants","Réception de matiere","Probleme qualité",null,"Les formations professionnelles","Cout","Chiffrage décliné","Actions à suivre",null,"Article qui a subit un tri","durée du tri","Nombre des pieces non-conformes","ouvrier faisant le tri","cout par tri",null,"Article qui a subit la reprise","durée de la reprise","opérateur faisant la reprise","coût de reprise",null,null,null,"Machine ","article","gamme","objet de la modification"]
[null,null,null,null,null,null,null,null,null,null,null,null,null,null,null,null,null,null,null,null,{"$f":"IF(R42=\"\",\"\",R42*VLOOKUP(T42,'cout opérateur machines'!A1:B8,2,0))","v":""},null,null,null,null,{"$f":"X42*8","v":0}]
[null,null,null,null,null,null,null,null,null,null,null,null,null,null,null,null,null,null,null,null,{"$f":"IF(R43=\"\",\"\",R43*VLOOKUP(T43,'cout opérateur machines'!A2:B9,2,0))","v":""},null,null,null,null,{"$f":"X43*8","v":0}]
[null,null,null,null,null,null,null,null,null,null,null,null,null,null,null,null,null,null,null,null,{"$f":"IF(R44=\"\",\"\",R44*VLOOKUP(T44,'cout opérateur machines'!A3:B10,2,0))","v":""},null,null,null,null,0]
[null,null,null,null,null,null,null,null,null,null,null,null,null,null,null,null,null,null,null,null,{"$f":"IF(R45=\"\",\"\",R45*VLOOKUP(T45,'cout opérateur machines'!A4:B11,2,0))","v":""},null,null,null,null,0]
[null,null,null,null,null,null,null,null,null,null,null,null,null,null,null,null,null,null,null,null,{"$f":"IF(R46=\"\",\"\",R46*VLOOKUP(T46,'cout opérateur machines'!A5:B12,2,0))","v":""},null,null,null,null,0]
[null,null,null,null,null,null,null,null,null,null,null,null,null,null,null,null,null,null,null,null,{"$f":"IF(R47=\"\",\"\",R47*VLOOKUP(T47,'cout opérateur machines'!A6:B13,2,0))","v":""},null,null,null,null,0]
[null,null,null,null,{"$f":"COUNTA(E42:E47)","v":0},{"$f":"SUM(F42:F47)","v":0},null,null,null,null,null,null,{"$f":"SUM(M42:M47)","v":0},"causes de refus",null,null,null,null,"cout total du jour",null,{"$f":"SUM(U42:U47)","v":0},null,null,null,null,0]
[null,null,null,null,null,null,null,"envoi des réclamations F/ S-T","réponse F/ S-T","alerte",null,null,null,null,null,null,null,null,null,null,null,null,null,null,null,{"$f":"SUM(Z42:Z48)","v":0}]
[null,null,"dans le cas d'une réclamation",null,null,null,null,null,null,{"$f":"IF(J42=\"\",\"\",IF(H50=0,\" réclamation non traitée\",IF(I50=0, \"veuillez contacter le F/ S-T par téléphone\",\"\")))","v":""},null,null,null,null,null,null,null,null,"N° mois",null,1]
[null,null,"nombre de pièces NC",null,null,null,null,null,null,{"$f":"IF(J43=\"\",\"\",IF(H51=0,\" réclamation non traitée\",IF(I51=0, \"veuillez contacter le F/ S-T par téléphone\",\"\")))","v":""}]
[null,null,"nombre de pièces par carton",null,null,null,null,null,null,""]
[null,null,"coût de transport par carton",null,null,null,null,null,null,""]
[null,null,"nombre de cartons renvoyés",null,null,null,null,null,null,""]
[null,null,"temps de tri",null,null,null,null,null,null,""]
[null,null,"coût horaire de tri"]
[null,null,"temps de retouche"]
[null,null,"coût horaire de retouche"]
[null,null,"temps de traitement de la réclamation"]
[null,null,"coût horaire de traitement"]
[null,null,"coût total",{"$f":"IFERROR(((D51/D52)*D53)+D54*D53+D55*D56+D57*D58+D59*D60,\"\")","v":""}]

{"sheet":"05-1-22","index":103,"n_rows":61,"n_cols":33,"rows_kept":61,"cut":false,"hidden":false,"merged":[[31,1,31,2],[32,1,32,2],[47,18,47,19],[49,18,49,19],[25,1,25,2],[26,1,26,2],[27,1,27,2],[28,1,28,2],[29,1,29,2],[30,1,30,2],[24,1,24,2],[12,1,12,2],[13,1,13,2],[14,1,14,2],[15,1,15,2],[16,1,16,2],[17,1,18,1],[19,1,19,2],[20,1,20,2],[21,1,21,2],[22,1,22,2],[23,1,23,2],[1,2,4,3],[1,4,4,16],[1,17,1,19],[1,21,1,23],[2,17,2,19],[2,21,2,23],[3,17,3,19],[3,21,3,23],[4,17,4,19],[4,21,4,23]]}
[]
[null,null,null,null,"Rapport journalier",null,null,null,null,null,null,null,null,null,null,null,null,"Code:DAS-SMQ-24"]
[null,null,null,null,null,null,null,null,null,null,null,null,null,null,null,null,null,"Date: 27/12/2019"]
[null,null,null,null,null,null,null,null,null,null,null,null,null,null,null,null,null,"Version:01"]
[null,null,null,null,null,null,null,null,null,null,null,null,null,null,null,null,null,"Page:1"]
[]
[]
[]
[]
[]
[]
[null,null,null,"A","B","C","D","E","F","M","N","O","P","I","L","K","J","G","H"]
[null,"Machine",null,"SST16","SB16","BIGLIA 301 SM","BIGLIA 42 S2M bitourelle","L32","TSUGAMI","MORI SEIKI 3 axes","MORI SEIKI 5 axes","HARDING","KITAMURA","MULTIBROCHE","NAKAMURA","TOUR WEILER"]
[null,"Référence",null,511100,"510021-janv 2022","B041-CP1","513610-B301",68.080699999999993,"S3SD14632"," - "," - ","PIG 50 SE","9751-foret de forme d4","MPS000300","H001","I039","4-7891 par chute",68.081500000000005,"Rv-Re400"]
[null,"Désignation",null,"DIS.0050227100 PERNO D.6X62 ","QUADRO 10*60 AVP-AXE ACIER-janvier 2022","Piston  du chemise tete de pompete","DIS.G16622070 POMELLO COPERCHIO-B301","buse  Ø8","BUTEE-d9 MAJ C","Arrêt","Arrêt","pignon simple etage","USINAGE BORNE CPF PROPREITAIRE -foret de forme d4","raccord HEX 17","GOUJON DE ROUE  HONDA/SUZUKI ","GOUJON DE ROUE ISUZU","Anneau Brute EL 32*42*20 FINI par chute","Buse droite à collerette Ø8 M445 FRD","Rivet came B verro D4"]
[null,"Compteur 8h ",null,6080,766,1570,1275,3364,58020,0,0,92,782,0,0,0,0,2044,49533]
[null,"Compteur 17h",null,7313,1386,1822,1547,4212,59850,0,0,101,1078,0,192,202,666,2195,52520]
[null,"Enregistrement","9h"]
[null,null,"16h"]
[null,"Identification"]
[null,"Propreté des tables de contrôle"]
[null,"Rangement des outils de contrôle"]
[null,"Existance de l'OF"]
[null,"Affutage",null,null,null,null,null,null,null,null,null,null,null,null,null,null,null,null,null,{"$f":"+COUNTA(D24:S24)","v":0}]
[null,"Maintenance"]
[null,"Nombre des NC poubelle ",null,17,null,null,null,12]
[null,"Nombre des NC à retoucher"]
[null,"Machine pour retouche"]
[null,"Panne"]
[null,"Cout pièces de rechange",null,null,null,null,null,null,null,null,null,null,null,null,null,null,null,null,null,{"$f":"SUM(D30:S30)","v":0}]
[null,"prix de revient pièce",null,{"$f":"IFERROR(VLOOKUP(D14,'Prix de revient'!$A:$D,4,0),0)","v":0},{"$f":"IFERROR(VLOOKUP(E14,'Prix de revient'!$A:$D,4,0),0)","v":0},{"$f":"IFERROR(VLOOKUP(F14,'Prix de revient'!$A:$D,4,0),0)","v":0},{"$f":"IFERROR(VLOOKUP(G14,'Prix de revient'!$A:$D,4,0),0)","v":0},{"$f":"IFERROR(VLOOKUP(H14,'Prix de revient'!$A:$D,4,0),0)","v":0},{"$f":"IFERROR(VLOOKUP(I14,'Prix de revient'!$A:$D,4,0),0)","v":0},{"$f":"IFERROR(VLOOKUP(J14,'Prix de revient'!$A:$D,4,0),0)","v":0},{"$f":"IFERROR(VLOOKUP(K14,'Prix de revient'!$A:$D,4,0),0)","v":0},{"$f":"IFERROR(VLOOKUP(L14,'Prix de revient'!$A:$D,4,0),0)","v":0},{"$f":"IFERROR(VLOOKUP(M14,'Prix de revient'!$A:$D,4,0),0)","v":0},{"$f":"IFERROR(VLOOKUP(N14,'Prix de revient'!$A:$D,4,0),0)","v":0},{"$f":"IFERROR(VLOOKUP(O14,'Prix de revient'!$A:$D,4,0),0)","v":0.69520000000000004},{"$f":"IFERROR(VLOOKUP(P14,'Prix de revient'!$A:$D,4,0),0)","v":0},{"$f":"IFERROR(VLOOKUP(Q14,'Prix de revient'!$A:$D,4,0),0)","v":0},{"$f":"IFERROR(VLOOKUP(R14,'Prix de revient'!$A:$D,4,0),0)","v":0},{"$f":"IFERROR(VLOOKUP(S14,'Prix de revient'!$A:$D,4,0),0)","v":0}]
[null,"coût de rebuts",null,{"$f":"D26*D31","v":0},{"$f":"E26*E31","v":0},0,0,0,0,0,0,0,0,0,0,0,0,0,0,{"$f":"SUM(D32:S32)","v":0}]
[null,"gestion de modification"]
[]
[]
[]
[]
[]
[]
[]
[null,null,"Clients","Audit","Réclamation","Avoir",null,"Fournisseurs/ sous-traitants","Réception de matiere","Probleme qualité",null,"Les formations professionnelles","Cout","Chiffrage décliné","Actions à suivre",null,"Article qui a subit un tri","durée du tri","Nombre des pieces non-conformes","ouvrier faisant le tri","cout par tri",null,"Article qui a subit la reprise","durée de la reprise","opérateur faisant la reprise","coût de reprise",null,null,null,"Machine ","article","gamme","objet de la modification"]
[null,null,null,null,null,null,null,null,null,null,null,null,null,null,null,null,null,null,null,null,{"$f":"IF(R42=\"\",\"\",R42*VLOOKUP(T42,'cout opérateur machines'!A1:B8,2,0))","v":""},null,null,null,null,{"$f":"X42*8","v":0}]
[null,null,null,null,null,null,null,null,null,null,null,null,null,null,null,null,null,null,null,null,{"$f":"IF(R43=\"\",\"\",R43*VLOOKUP(T43,'cout opérateur machines'!A2:B9,2,0))","v":""},null,null,null,null,{"$f":"X43*8","v":0}]
[null,null,null,null,null,null,null,null,null,null,null,null,null,null,null,null,null,null,null,null,{"$f":"IF(R44=\"\",\"\",R44*VLOOKUP(T44,'cout opérateur machines'!A3:B10,2,0))","v":""},null,null,null,null,0]
[null,null,null,null,null,null,null,null,null,null,null,null,null,null,null,null,null,null,null,null,{"$f":"IF(R45=\"\",\"\",R45*VLOOKUP(T45,'cout opérateur machines'!A4:B11,2,0))","v":""},null,null,null,null,0]
[null,null,null,null,null,null,null,null,null,null,null,null,null,null,null,null,null,null,null,null,{"$f":"IF(R46=\"\",\"\",R46*VLOOKUP(T46,'cout opérateur machines'!A5:B12,2,0))","v":""},null,null,null,null,0]
[null,null,null,null,null,null,null,null,null,null,null,null,null,null,null,null,null,null,null,null,{"$f":"IF(R47=\"\",\"\",R47*VLOOKUP(T47,'cout opérateur machines'!A6:B13,2,0))","v":""},null,null,null,null,0]
[null,null,null,null,{"$f":"COUNTA(E42:E47)","v":0},{"$f":"SUM(F42:F47)","v":0},null,null,null,null,null,null,{"$f":"SUM(M42:M47)","v":0},"causes de refus",null,null,null,null,"cout total du jour",null,{"$f":"SUM(U42:U47)","v":0},null,null,null,null,0]
[null,null,null,null,null,null,null,"envoi des réclamations F/ S-T","réponse F/ S-T","alerte",null,null,null,null,null,null,null,null,null,null,null,null,null,null,null,{"$f":"SUM(Z42:Z48)","v":0}]
[null,null,"dans le cas d'une réclamation",null,null,null,null,null,null,{"$f":"IF(J42=\"\",\"\",IF(H50=0,\" réclamation non traitée\",IF(I50=0, \"veuillez contacter le F/ S-T par téléphone\",\"\")))","v":""},null,null,null,null,null,null,null,null,"N° mois",null,1]
[null,null,"nombre de pièces NC",null,null,null,null,null,null,{"$f":"IF(J43=\"\",\"\",IF(H51=0,\" réclamation non traitée\",IF(I51=0, \"veuillez contacter le F/ S-T par téléphone\",\"\")))","v":""}]
[null,null,"nombre de pièces par carton",null,null,null,null,null,null,""]
[null,null,"coût de transport par carton",null,null,null,null,null,null,""]
[null,null,"nombre de cartons renvoyés",null,null,null,null,null,null,""]
[null,null,"temps de tri",null,null,null,null,null,null,""]
[null,null,"coût horaire de tri"]
[null,null,"temps de retouche"]
[null,null,"coût horaire de retouche"]
[null,null,"temps de traitement de la réclamation"]
[null,null,"coût horaire de traitement"]
[null,null,"coût total",{"$f":"IFERROR(((D51/D52)*D53)+D54*D53+D55*D56+D57*D58+D59*D60,\"\")","v":""}]

{"sheet":"04-1-22","index":104,"n_rows":61,"n_cols":33,"rows_kept":61,"cut":false,"hidden":false,"merged":[[31,1,31,2],[32,1,32,2],[47,18,47,19],[49,18,49,19],[25,1,25,2],[26,1,26,2],[27,1,27,2],[28,1,28,2],[29,1,29,2],[30,1,30,2],[24,1,24,2],[12,1,12,2],[13,1,13,2],[14,1,14,2],[15,1,15,2],[16,1,16,2],[17,1,18,1],[19,1,19,2],[20,1,20,2],[21,1,21,2],[22,1,22,2],[23,1,23,2],[1,2,4,3],[1,4,4,16],[1,17,1,19],[1,21,1,23],[2,17,2,19],[2,21,2,23],[3,17,3,19],[3,21,3,23],[4,17,4,19],[4,21,4,23]]}
[]
[null,null,null,null,"Rapport journalier",null,null,null,null,null,null,null,null,null,null,null,null,"Code:DAS-SMQ-24"]
[null,null,null,null,null,null,null,null,null,null,null,null,null,null,null,null,null,"Date: 27/12/2019"]
[null,null,null,null,null,null,null,null,null,null,null,null,null,null,null,null,null,"Version:01"]
[null,null,null,null,null,null,null,null,null,null,null,null,null,null,null,null,null,"Page:1"]
[]
[]
[]
[]
[]
[]
[null,null,null,"A","B","C","D","E","F","M","N","O","P","I","L","K","J","G","H"]
[null,"Machine",null,"SST16","SB16","BIGLIA 301 SM","BIGLIA 42 S2M bitourelle","L32","TSUGAMI","MORI SEIKI 3 axes","MORI SEIKI 5 axes","HARDING","KITAMURA","MULTIBROCHE","NAKAMURA","TOUR WEILER"]
[null,"Référence",null,511100,"510021-janv 2022","B041-CP1","513610-B301",68.080699999999993,"S3SD14632"," - "," - ","PIG 50 SE","9751-foret de forme d4","MPS000300","R005","4-7017-1","4-7891",68.081500000000005,"Rv-Re400"]
[null,"Désignation",null,"DIS.0050227100 PERNO D.6X62 ","QUADRO 10*60 AVP-AXE ACIER-janvier 2022","Piston  du chemise tete de pompete","DIS.G16622070 POMELLO COPERCHIO-B301","buse  Ø8","BUTEE-d9 MAJ C","Arrêt","Arrêt","pignon simple etage","USINAGE BORNE CPF PROPREITAIRE -foret de forme d4","raccord HEX 17","Goujon de roue R4/GM maj cadence","Bague galvanisée 14*18*34 finition","ANNEAU BRUTE 32*42*20 chuttes","Buse droite à collerette Ø8 M445 FRD","Rivet came B verro D4"]
[null,"Compteur 8h ",null,5426,338,1332,1040,2370,56296,0,0,84,505,0,1311,3710,341,1332,46635]
[null,"Compteur 17h",null,6080,766,1570,1275,3364,58020,0,0,92,782,0,1531,4343,623,2044,49533]
[null,"Enregistrement","9h"]
[null,null,"16h"]
[null,"Identification"]
[null,"Propreté des tables de contrôle"]
[null,"Rangement des outils de contrôle"]
[null,"Existance de l'OF"]
[null,"Affutage",null,null,null,null,null,null,null,null,null,null,null,null,null,null,null,null,null,{"$f":"+COUNTA(D24:S24)","v":0}]
[null,"Maintenance"]
[null,"Nombre des NC poubelle ",null,7,3,3,2,23,5,null,null,null,null,null,null,null,null,6]
[null,"Nombre des NC à retoucher"]
[null,"Machine pour retouche"]
[null,"Panne"]
[null,"Cout pièces de rechange",null,null,null,null,null,null,null,null,null,null,null,null,null,null,null,null,null,{"$f":"SUM(D30:S30)","v":0}]
[null,"prix de revient pièce",null,{"$f":"IFERROR(VLOOKUP(D14,'Prix de revient'!$A:$D,4,0),0)","v":0},{"$f":"IFERROR(VLOOKUP(E14,'Prix de revient'!$A:$D,4,0),0)","v":0},{"$f":"IFERROR(VLOOKUP(F14,'Prix de revient'!$A:$D,4,0),0)","v":0},{"$f":"IFERROR(VLOOKUP(G14,'Prix de revient'!$A:$D,4,0),0)","v":0},{"$f":"IFERROR(VLOOKUP(H14,'Prix de revient'!$A:$D,4,0),0)","v":0},{"$f":"IFERROR(VLOOKUP(I14,'Prix de revient'!$A:$D,4,0),0)","v":0},{"$f":"IFERROR(VLOOKUP(J14,'Prix de revient'!$A:$D,4,0),0)","v":0},{"$f":"IFERROR(VLOOKUP(K14,'Prix de revient'!$A:$D,4,0),0)","v":0},{"$f":"IFERROR(VLOOKUP(L14,'Prix de revient'!$A:$D,4,0),0)","v":0},{"$f":"IFERROR(VLOOKUP(M14,'Prix de revient'!$A:$D,4,0),0)","v":0},{"$f":"IFERROR(VLOOKUP(N14,'Prix de revient'!$A:$D,4,0),0)","v":0},{"$f":"IFERROR(VLOOKUP(O14,'Prix de revient'!$A:$D,4,0),0)","v":0},{"$f":"IFERROR(VLOOKUP(P14,'Prix de revient'!$A:$D,4,0),0)","v":0},{"$f":"IFERROR(VLOOKUP(Q14,'Prix de revient'!$A:$D,4,0),0)","v":0},{"$f":"IFERROR(VLOOKUP(R14,'Prix de revient'!$A:$D,4,0),0)","v":0},{"$f":"IFERROR(VLOOKUP(S14,'Prix de revient'!$A:$D,4,0),0)","v":0}]
[null,"coût de rebuts",null,{"$f":"D26*D31","v":0},{"$f":"E26*E31","v":0},0,0,0,0,0,0,0,0,0,0,0,0,0,0,{"$f":"SUM(D32:S32)","v":0}]
[null,"gestion de modification"]
[]
[]
[]
[]
[]
[]
[]
[null,null,"Clients","Audit","Réclamation","Avoir",null,"Fournisseurs/ sous-traitants","Réception de matiere","Probleme qualité",null,"Les formations professionnelles","Cout","Chiffrage décliné","Actions à suivre",null,"Article qui a subit un tri","durée du tri","Nombre des pieces non-conformes","ouvrier faisant le tri","cout par tri",null,"Article qui a subit la reprise","durée de la reprise","opérateur faisant la reprise","coût de reprise",null,null,null,"Machine ","article","gamme","objet de la modification"]
[null,null,null,null,null,null,null,null,null,null,null,null,null,null,null,null,null,null,null,null,{"$f":"IF(R42=\"\",\"\",R42*VLOOKUP(T42,'cout opérateur machines'!A1:B8,2,0))","v":""},null,null,null,null,{"$f":"X42*8","v":0}]
[null,null,null,null,null,null,null,null,null,null,null,null,null,null,null,null,null,null,null,null,{"$f":"IF(R43=\"\",\"\",R43*VLOOKUP(T43,'cout opérateur machines'!A2:B9,2,0))","v":""},null,null,null,null,{"$f":"X43*8","v":0}]
[null,null,null,null,null,null,null,null,null,null,null,null,null,null,null,null,null,null,null,null,{"$f":"IF(R44=\"\",\"\",R44*VLOOKUP(T44,'cout opérateur machines'!A3:B10,2,0))","v":""},null,null,null,null,0]
[null,null,null,null,null,null,null,null,null,null,null,null,null,null,null,null,null,null,null,null,{"$f":"IF(R45=\"\",\"\",R45*VLOOKUP(T45,'cout opérateur machines'!A4:B11,2,0))","v":""},null,null,null,null,0]
[null,null,null,null,null,null,null,null,null,null,null,null,null,null,null,null,null,null,null,null,{"$f":"IF(R46=\"\",\"\",R46*VLOOKUP(T46,'cout opérateur machines'!A5:B12,2,0))","v":""},null,null,null,null,0]
[null,null,null,null,null,null,null,null,null,null,null,null,null,null,null,null,null,null,null,null,{"$f":"IF(R47=\"\",\"\",R47*VLOOKUP(T47,'cout opérateur machines'!A6:B13,2,0))","v":""},null,null,null,null,0]
[null,null,null,null,{"$f":"COUNTA(E42:E47)","v":0},{"$f":"SUM(F42:F47)","v":0},null,null,null,null,null,null,{"$f":"SUM(M42:M47)","v":0},"causes de refus",null,null,null,null,"cout total du jour",null,{"$f":"SUM(U42:U47)","v":0},null,null,null,null,0]
[null,null,null,null,null,null,null,"envoi des réclamations F/ S-T","réponse F/ S-T","alerte",null,null,null,null,null,null,null,null,null,null,null,null,null,null,null,{"$f":"SUM(Z42:Z48)","v":0}]
[null,null,"dans le cas d'une réclamation",null,null,null,null,null,null,{"$f":"IF(J42=\"\",\"\",IF(H50=0,\" réclamation non traitée\",IF(I50=0, \"veuillez contacter le F/ S-T par téléphone\",\"\")))","v":""},null,null,null,null,null,null,null,null,"N° mois",null,1]
[null,null,"nombre de pièces NC",null,null,null,null,null,null,{"$f":"IF(J43=\"\",\"\",IF(H51=0,\" réclamation non traitée\",IF(I51=0, \"veuillez contacter le F/ S-T par téléphone\",\"\")))","v":""}]
[null,null,"nombre de pièces par carton",null,null,null,null,null,null,""]
[null,null,"coût de transport par carton",null,null,null,null,null,null,""]
[null,null,"nombre de cartons renvoyés",null,null,null,null,null,null,""]
[null,null,"temps de tri",null,null,null,null,null,null,""]
[null,null,"coût horaire de tri"]
[null,null,"temps de retouche"]
[null,null,"coût horaire de retouche"]
[null,null,"temps de traitement de la réclamation"]
[null,null,"coût horaire de traitement"]
[null,null,"coût total",{"$f":"IFERROR(((D51/D52)*D53)+D54*D53+D55*D56+D57*D58+D59*D60,\"\")","v":""}]

{"sheet":"03-1-22","index":105,"n_rows":61,"n_cols":33,"rows_kept":61,"cut":false,"hidden":false,"merged":[[31,1,31,2],[32,1,32,2],[47,18,47,19],[49,18,49,19],[25,1,25,2],[26,1,26,2],[27,1,27,2],[28,1,28,2],[29,1,29,2],[30,1,30,2],[24,1,24,2],[12,1,12,2],[13,1,13,2],[14,1,14,2],[15,1,15,2],[16,1,16,2],[17,1,18,1],[19,1,19,2],[20,1,20,2],[21,1,21,2],[22,1,22,2],[23,1,23,2],[1,2,4,3],[1,4,4,16],[1,17,1,19],[1,21,1,23],[2,17,2,19],[2,21,2,23],[3,17,3,19],[3,21,3,23],[4,17,4,19],[4,21,4,23]]}
[]
[null,null,null,null,"Rapport journalier",null,null,null,null,null,null,null,null,null,null,null,null,"Code:DAS-SMQ-24"]
[null,null,null,null,null,null,null,null,null,null,null,null,null,null,null,null,null,"Date: 27/12/2019"]
[null,null,null,null,null,null,null,null,null,null,null,null,null,null,null,null,null,"Version:01"]
[null,null,null,null,null,null,null,null,null,null,null,null,null,null,null,null,null,"Page:1"]
[]
[]
[]
[]
[]
[]
[null,null,null,"A","B","C","D","E","F","M","N","O","P","I","L","K","J","G","H"]
[null,"Machine",null,"SST16","SB16","BIGLIA 301 SM","BIGLIA 42 S2M bitourelle","L32","TSUGAMI","MORI SEIKI 3 axes","MORI SEIKI 5 axes","HARDING","KITAMURA","MULTIBROCHE","NAKAMURA","TOUR WEILER"]
[null,"Référence",null,511100,"510021-janv 2022","B041-CP1","513610-B301",68.080699999999993,"S3SD14632"," - "," - ","PIG 50 SE","9751-foret de forme d4","MPS000300","R005","4-7017-1","4-7891",68.081500000000005,"Rv-Re400"]
[null,"Désignation",null,"DIS.0050227100 PERNO D.6X62 ","QUADRO 10*60 AVP-AXE ACIER-janvier 2022","Piston  du chemise tete de pompete","DIS.G16622070 POMELLO COPERCHIO-B301","buse  Ø8","BUTEE-d9 MAJ C","Arrêt","Arrêt","pignon simple etage","USINAGE BORNE CPF PROPREITAIRE -foret de forme d4","raccord HEX 17","Goujon de roue R4/GM maj cadence","Bague galvanisée 14*18*34 finition","ANNEAU BRUTE 32*42*20 chuttes","Buse droite à collerette Ø8 M445 FRD","Rivet came B verro D4"]
[null,"Compteur 8h ",null,5355,0,1096,931,1610,54322,0,0,76,219,0,1096,2850,87,1266,43617]
[null,"Compteur 17h",null,5426,338,1332,1040,2370,56296,0,0,84,505,0,1311,3710,341,1332,46635]
[null,"Enregistrement","9h"]
[null,null,"16h"]
[null,"Identification"]
[null,"Propreté des tables de contrôle"]
[null,"Rangement des outils de contrôle"]
[null,"Existance de l'OF"]
[null,"Affutage",null,null,null,null,null,null,null,null,null,null,null,null,null,null,null,null,null,{"$f":"+COUNTA(D24:S24)","v":0}]
[null,"Maintenance"]
[null,"Nombre des NC poubelle "]
[null,"Nombre des NC à retoucher"]
[null,"Machine pour retouche"]
[null,"Panne"]
[null,"Cout pièces de rechange",null,null,null,null,null,null,null,null,null,null,null,null,null,null,null,null,null,{"$f":"SUM(D30:S30)","v":0}]
[null,"prix de revient pièce",null,{"$f":"IFERROR(VLOOKUP(D14,'Prix de revient'!$A:$D,4,0),0)","v":0},{"$f":"IFERROR(VLOOKUP(E14,'Prix de revient'!$A:$D,4,0),0)","v":0},{"$f":"IFERROR(VLOOKUP(F14,'Prix de revient'!$A:$D,4,0),0)","v":0},{"$f":"IFERROR(VLOOKUP(G14,'Prix de revient'!$A:$D,4,0),0)","v":0},{"$f":"IFERROR(VLOOKUP(H14,'Prix de revient'!$A:$D,4,0),0)","v":0},{"$f":"IFERROR(VLOOKUP(I14,'Prix de revient'!$A:$D,4,0),0)","v":0},{"$f":"IFERROR(VLOOKUP(J14,'Prix de revient'!$A:$D,4,0),0)","v":0},{"$f":"IFERROR(VLOOKUP(K14,'Prix de revient'!$A:$D,4,0),0)","v":0},{"$f":"IFERROR(VLOOKUP(L14,'Prix de revient'!$A:$D,4,0),0)","v":0},{"$f":"IFERROR(VLOOKUP(M14,'Prix de revient'!$A:$D,4,0),0)","v":0},{"$f":"IFERROR(VLOOKUP(N14,'Prix de revient'!$A:$D,4,0),0)","v":0},{"$f":"IFERROR(VLOOKUP(O14,'Prix de revient'!$A:$D,4,0),0)","v":0},{"$f":"IFERROR(VLOOKUP(P14,'Prix de revient'!$A:$D,4,0),0)","v":0},{"$f":"IFERROR(VLOOKUP(Q14,'Prix de revient'!$A:$D,4,0),0)","v":0},{"$f":"IFERROR(VLOOKUP(R14,'Prix de revient'!$A:$D,4,0),0)","v":0},{"$f":"IFERROR(VLOOKUP(S14,'Prix de revient'!$A:$D,4,0),0)","v":0}]
[null,"coût de rebuts",null,{"$f":"D26*D31","v":0},{"$f":"E26*E31","v":0},0,0,0,0,0,0,0,0,0,0,0,0,0,0,{"$f":"SUM(D32:S32)","v":0}]
[null,"gestion de modification"]
[]
[]
[]
[]
[]
[]
[]
[null,null,"Clients","Audit","Réclamation","Avoir",null,"Fournisseurs/ sous-traitants","Réception de matiere","Probleme qualité",null,"Les formations professionnelles","Cout","Chiffrage décliné","Actions à suivre",null,"Article qui a subit un tri","durée du tri","Nombre des pieces non-conformes","ouvrier faisant le tri","cout par tri",null,"Article qui a subit la reprise","durée de la reprise","opérateur faisant la reprise","coût de reprise",null,null,null,"Machine ","article","gamme","objet de la modification"]
[null,null,null,null,null,null,null,null,null,null,null,null,null,null,null,null,null,null,null,null,{"$f":"IF(R42=\"\",\"\",R42*VLOOKUP(T42,'cout opérateur machines'!A1:B8,2,0))","v":""},null,null,null,null,{"$f":"X42*8","v":0}]
[null,null,null,null,null,null,null,null,null,null,null,null,null,null,null,null,null,null,null,null,{"$f":"IF(R43=\"\",\"\",R43*VLOOKUP(T43,'cout opérateur machines'!A2:B9,2,0))","v":""},null,null,null,null,{"$f":"X43*8","v":0}]
[null,null,null,null,null,null,null,null,null,null,null,null,null,null,null,null,null,null,null,null,{"$f":"IF(R44=\"\",\"\",R44*VLOOKUP(T44,'cout opérateur machines'!A3:B10,2,0))","v":""},null,null,null,null,0]
[null,null,null,null,null,null,null,null,null,null,null,null,null,null,null,null,null,null,null,null,{"$f":"IF(R45=\"\",\"\",R45*VLOOKUP(T45,'cout opérateur machines'!A4:B11,2,0))","v":""},null,null,null,null,0]
[null,null,null,null,null,null,null,null,null,null,null,null,null,null,null,null,null,null,null,null,{"$f":"IF(R46=\"\",\"\",R46*VLOOKUP(T46,'cout opérateur machines'!A5:B12,2,0))","v":""},null,null,null,null,0]
[null,null,null,null,null,null,null,null,null,null,null,null,null,null,null,null,null,null,null,null,{"$f":"IF(R47=\"\",\"\",R47*VLOOKUP(T47,'cout opérateur machines'!A6:B13,2,0))","v":""},null,null,null,null,0]
[null,null,null,null,{"$f":"COUNTA(E42:E47)","v":0},{"$f":"SUM(F42:F47)","v":0},null,null,null,null,null,null,{"$f":"SUM(M42:M47)","v":0},"causes de refus",null,null,null,null,"cout total du jour",null,{"$f":"SUM(U42:U47)","v":0},null,null,null,null,0]
[null,null,null,null,null,null,null,"envoi des réclamations F/ S-T","réponse F/ S-T","alerte",null,null,null,null,null,null,null,null,null,null,null,null,null,null,null,{"$f":"SUM(Z42:Z48)","v":0}]
[null,null,"dans le cas d'une réclamation",null,null,null,null,null,null,{"$f":"IF(J42=\"\",\"\",IF(H50=0,\" réclamation non traitée\",IF(I50=0, \"veuillez contacter le F/ S-T par téléphone\",\"\")))","v":""},null,null,null,null,null,null,null,null,"N° mois",null,1]
[null,null,"nombre de pièces NC",null,null,null,null,null,null,{"$f":"IF(J43=\"\",\"\",IF(H51=0,\" réclamation non traitée\",IF(I51=0, \"veuillez contacter le F/ S-T par téléphone\",\"\")))","v":""}]
[null,null,"nombre de pièces par carton",null,null,null,null,null,null,""]
[null,null,"coût de transport par carton",null,null,null,null,null,null,""]
[null,null,"nombre de cartons renvoyés",null,null,null,null,null,null,""]
[null,null,"temps de tri",null,null,null,null,null,null,""]
[null,null,"coût horaire de tri"]
[null,null,"temps de retouche"]
[null,null,"coût horaire de retouche"]
[null,null,"temps de traitement de la réclamation"]
[null,null,"coût horaire de traitement"]
[null,null,"coût total",{"$f":"IFERROR(((D51/D52)*D53)+D54*D53+D55*D56+D57*D58+D59*D60,\"\")","v":""}]