{"text_format":"1","workbook":"xlsx","n_sheets":54,"sheets":["Choix de l'instrument ","Mes listes","Domaines de mesure","SOUS Domaines","Angle","Aspect","Conductivité","Couple","Débit","Densité","Détection_gaz","Diamètre_exter","Diamètre_inter","Dureté","Epaisseur","Etalonnage_Dureté","Etalonnage_Epaisseur","Etalonnage_Rugosité","Etalonnage_Fuite","Etalonnage_Instrument_optique","Etalonnage_laser","Etalonnage_longueur","Etalonnage_Micromètre","Etalonnage_Perte_de_charge","Etalonnage_Pesage","Etalonnage_Pression","Filetage","Force","Fréquence","Fuite","Géométrie","Intensité_amper","Hauteur","Longueur","Lumière","Pesage","Physico_chimique","Pression","Propreté_surface","Puissance","Rectitude","Résistance_ohm","Rugosité","Son","Spectrométrie","Statique_électricité","Taraudage","Température","Température_hygrométrie","Temps","Vitesse","Volume","Volt","Dim av contact 3d"],"not_rendered":{"charts":0,"images":2,"macros":1,"external_links":0,"defined_names":55,"comments":1,"pivot_tables":0},"unopened":[],"bounds":{"document_bytes":16777216,"sheet_cells":100000,"rows_first":2000,"rows_last":500,"rows_between":2000,"halvings":0,"cell_chars":16384,"cell_head_chars":4096},"cells_cut":0,"cells_raw":0,"read":"whole","date_system":"1900"}

{"sheet":"Choix de l'instrument ","index":0,"n_rows":100,"n_cols":8,"rows_kept":100,"cut":false,"hidden":false,"merged":[]}
[null,null,null,null,"Avec fonctions diverses voir E4 et F4",null,"Pas modifier"]
[null,"Domaine de mesure ","Instrument","Critère IT","Identification ","Lien GMM",{"$f":"MID(CELL(\"nomfichier\",A1),SEARCH(\"[\",CELL(\"nomfichier\",A1))+1,SEARCH(\"]\",CELL(\"nomfichier\",A1))-SEARCH(\"[\",CELL(\"nomfichier\",A1))-1)","v":"Copie de Copie de Essai 2 ++ (002)-ESSAIS-V3.xlsm"}]
[null,"Aspect","Dynascope",{"$f":"IF(B6<>\"\",B6/10,\"\")","v":1.5},"=SI($B$6<>\"\";RECHERCHEV($B$6;INDIRECT(\"'\"&NomCla&\"'!\"&$C$3 &\"_tab\");3;FAUX);\"\")","=SI($B$6<>\"\";RECHERCHEV($B$6;INDIRECT(\"'\"&@NomCla&\"'!\"&$C$3 &\"_tab\");2;FAUX);\"\")","Nombre de cas","Nb selon feuille data"]
[null,null,null,null,{"$f":"IF('Choix de l''instrument '!$B$6<>\"\",IF(SUMPRODUCT((INDIRECT($C$3&\"!N3:N\"&NbLi)=TRUE)*1)-ROW(1:1)+1>0,INDEX(INDIRECT($C$3&\"!A3:A\"&NbLi),LARGE((INDIRECT($C$3&\"!N3:N\"&NbLi)=TRUE)*ROW(OFFSET(INDIRECT($C$3&\"!N3:N\"&NbLi),-2,0)),SUMPRODUCT((INDIRECT($C$3&\"!N3:N\"&NbLi)=TRUE)*1)-ROW(1:1)+1),),\"\"),\"\")","v":{"$error":"#NAME?"}},{"$f":"IF(E4<>\"\",HYPERLINK($B$11&E4,\"Clic pour suivre\"),\"\")","v":{"$error":"#NAME?"}},{"$f":"COUNTA(E4:E100)-COUNTIF(E4:E100,\"\")","v":97},{"$f":"COUNTIF(Pesage!N3:N100,TRUE)","v":0}]
[null,"Opérateur Entrer l'IT ",null,null,{"$f":"IF($B$6<>\"\",IF(SUMPRODUCT((INDIRECT($C$3&\"!N3:N\"&NbLi)=TRUE)*1)-ROW(2:2)+1>0,INDEX(INDIRECT($C$3&\"!A3:A\"&NbLi),LARGE((INDIRECT($C$3&\"!N3:N\"&NbLi)=TRUE)*ROW(OFFSET(INDIRECT($C$3&\"!N3:N\"&NbLi),-2,0)),SUMPRODUCT((INDIRECT($C$3&\"!N3:N\"&NbLi)=TRUE)*1)-ROW(2:2)+1),),\"\"),\"\")","v":{"$error":"#NAME?"}},{"$f":"IF(E5<>\"\",HYPERLINK($B$11&E5,\"Clic pour suivre\"),\"\")","v":{"$error":"#NAME?"}}]
[null,15,null,null,{"$f":"IF($B$6<>\"\",IF(SUMPRODUCT((INDIRECT($C$3&\"!N3:N\"&NbLi)=TRUE)*1)-ROW(3:3)+1>0,INDEX(INDIRECT($C$3&\"!A3:A\"&NbLi),LARGE((INDIRECT($C$3&\"!N3:N\"&NbLi)=TRUE)*ROW(OFFSET(INDIRECT($C$3&\"!N3:N\"&NbLi),-2,0)),SUMPRODUCT((INDIRECT($C$3&\"!N3:N\"&NbLi)=TRUE)*1)-ROW(3:3)+1),),\"\"),\"\")","v":{"$error":"#NAME?"}},{"$error":"#NAME?"}]
[null,null,null,null,{"$f":"IF($B$6<>\"\",IF(SUMPRODUCT((INDIRECT($C$3&\"!N3:N\"&NbLi)=TRUE)*1)-ROW(4:4)+1>0,INDEX(INDIRECT($C$3&\"!A3:A\"&NbLi),LARGE((INDIRECT($C$3&\"!N3:N\"&NbLi)=TRUE)*ROW(OFFSET(INDIRECT($C$3&\"!N3:N\"&NbLi),-2,0)),SUMPRODUCT((INDIRECT($C$3&\"!N3:N\"&NbLi)=TRUE)*1)-ROW(4:4)+1),),\"\"),\"\")","v":{"$error":"#NAME?"}},{"$error":"#NAME?"}]
[null,null,null,null,{"$f":"IF($B$6<>\"\",IF(SUMPRODUCT((INDIRECT($C$3&\"!N3:N\"&NbLi)=TRUE)*1)-ROW(5:5)+1>0,INDEX(INDIRECT($C$3&\"!A3:A\"&NbLi),LARGE((INDIRECT($C$3&\"!N3:N\"&NbLi)=TRUE)*ROW(OFFSET(INDIRECT($C$3&\"!N3:N\"&NbLi),-2,0)),SUMPRODUCT((INDIRECT($C$3&\"!N3:N\"&NbLi)=TRUE)*1)-ROW(5:5)+1),),\"\"),\"\")","v":{"$error":"#NAME?"}},{"$error":"#NAME?"}]
[null,"Ne pas modifier",null,null,{"$f":"IF($B$6<>\"\",IF(SUMPRODUCT((INDIRECT($C$3&\"!N3:N\"&NbLi)=TRUE)*1)-ROW(6:6)+1>0,INDEX(INDIRECT($C$3&\"!A3:A\"&NbLi),LARGE((INDIRECT($C$3&\"!N3:N\"&NbLi)=TRUE)*ROW(OFFSET(INDIRECT($C$3&\"!N3:N\"&NbLi),-2,0)),SUMPRODUCT((INDIRECT($C$3&\"!N3:N\"&NbLi)=TRUE)*1)-ROW(6:6)+1),),\"\"),\"\")","v":{"$error":"#NAME?"}},{"$error":"#NAME?"}]
[null,"hyperlien",null,null,{"$f":"IF($B$6<>\"\",IF(SUMPRODUCT((INDIRECT($C$3&\"!N3:N\"&NbLi)=TRUE)*1)-ROW(7:7)+1>0,INDEX(INDIRECT($C$3&\"!A3:A\"&NbLi),LARGE((INDIRECT($C$3&\"!N3:N\"&NbLi)=TRUE)*ROW(OFFSET(INDIRECT($C$3&\"!N3:N\"&NbLi),-2,0)),SUMPRODUCT((INDIRECT($C$3&\"!N3:N\"&NbLi)=TRUE)*1)-ROW(7:7)+1),),\"\"),\"\")","v":{"$error":"#NAME?"}},{"$error":"#NAME?"}]
[null,"http://metro2/OptiMuNet/Instruments.aspx?code=MINIT-38&identification=",null,null,{"$f":"IF($B$6<>\"\",IF(SUMPRODUCT((INDIRECT($C$3&\"!N3:N\"&NbLi)=TRUE)*1)-ROW(8:8)+1>0,INDEX(INDIRECT($C$3&\"!A3:A\"&NbLi),LARGE((INDIRECT($C$3&\"!N3:N\"&NbLi)=TRUE)*ROW(OFFSET(INDIRECT($C$3&\"!N3:N\"&NbLi),-2,0)),SUMPRODUCT((INDIRECT($C$3&\"!N3:N\"&NbLi)=TRUE)*1)-ROW(8:8)+1),),\"\"),\"\")","v":{"$error":"#NAME?"}},{"$error":"#NAME?"}]
[null,{"$f":"HYPERLINK(B11&B13, \"Afficher\")","v":"Afficher"},null,null,{"$f":"IF($B$6<>\"\",IF(SUMPRODUCT((INDIRECT($C$3&\"!N3:N\"&NbLi)=TRUE)*1)-ROW(9:9)+1>0,INDEX(INDIRECT($C$3&\"!A3:A\"&NbLi),LARGE((INDIRECT($C$3&\"!N3:N\"&NbLi)=TRUE)*ROW(OFFSET(INDIRECT($C$3&\"!N3:N\"&NbLi),-2,0)),SUMPRODUCT((INDIRECT($C$3&\"!N3:N\"&NbLi)=TRUE)*1)-ROW(9:9)+1),),\"\"),\"\")","v":{"$error":"#NAME?"}},{"$error":"#NAME?"}]
[null,"MAS-0020",null,null,{"$f":"IF($B$6<>\"\",IF(SUMPRODUCT((INDIRECT($C$3&\"!N3:N\"&NbLi)=TRUE)*1)-ROW(10:10)+1>0,INDEX(INDIRECT($C$3&\"!A3:A\"&NbLi),LARGE((INDIRECT($C$3&\"!N3:N\"&NbLi)=TRUE)*ROW(OFFSET(INDIRECT($C$3&\"!N3:N\"&NbLi),-2,0)),SUMPRODUCT((INDIRECT($C$3&\"!N3:N\"&NbLi)=TRUE)*1)-ROW(10:10)+1),),\"\"),\"\")","v":{"$error":"#NAME?"}},{"$error":"#NAME?"}]
[null,{"$f":"COUNTA(INDIRECT('Choix de l''instrument '!C3&\"!A:A\"))","v":1},null,null,{"$f":"IF($B$6<>\"\",IF(SUMPRODUCT((INDIRECT($C$3&\"!N3:N\"&NbLi)=TRUE)*1)-ROW(11:11)+1>0,INDEX(INDIRECT($C$3&\"!A3:A\"&NbLi),LARGE((INDIRECT($C$3&\"!N3:N\"&NbLi)=TRUE)*ROW(OFFSET(INDIRECT($C$3&\"!N3:N\"&NbLi),-2,0)),SUMPRODUCT((INDIRECT($C$3&\"!N3:N\"&NbLi)=TRUE)*1)-ROW(11:11)+1),),\"\"),\"\")","v":{"$error":"#NAME?"}},{"$error":"#NAME?"}]
[null,null,null,null,{"$f":"IF($B$6<>\"\",IF(SUMPRODUCT((INDIRECT($C$3&\"!N3:N\"&NbLi)=TRUE)*1)-ROW(12:12)+1>0,INDEX(INDIRECT($C$3&\"!A3:A\"&NbLi),LARGE((INDIRECT($C$3&\"!N3:N\"&NbLi)=TRUE)*ROW(OFFSET(INDIRECT($C$3&\"!N3:N\"&NbLi),-2,0)),SUMPRODUCT((INDIRECT($C$3&\"!N3:N\"&NbLi)=TRUE)*1)-ROW(12:12)+1),),\"\"),\"\")","v":{"$error":"#NAME?"}},{"$error":"#NAME?"}]
[null,null,null,null,{"$f":"IF($B$6<>\"\",IF(SUMPRODUCT((INDIRECT($C$3&\"!N3:N\"&NbLi)=TRUE)*1)-ROW(13:13)+1>0,INDEX(INDIRECT($C$3&\"!A3:A\"&NbLi),LARGE((INDIRECT($C$3&\"!N3:N\"&NbLi)=TRUE)*ROW(OFFSET(INDIRECT($C$3&\"!N3:N\"&NbLi),-2,0)),SUMPRODUCT((INDIRECT($C$3&\"!N3:N\"&NbLi)=TRUE)*1)-ROW(13:13)+1),),\"\"),\"\")","v":{"$error":"#NAME?"}},{"$error":"#NAME?"}]
["Afficher l'identitfication","=SI($B$6<>\"\";SI(SOMMEPROD((INDIRECT($C$3&\"!N3:N\"&NbLi)=VRAI)*1)-LIGNE(1:1)+1>0;INDEX(INDIRECT($C$3&\"!A3:A\"&NbLi);GRANDE.VALEUR((INDIRECT($C$3&\"!N3:N\"&NbLi)=VRAI)*LIGNE(DECALER(INDIRECT($C$3&\"!N3:N\"&NbLi);-2;0));SOMMEPROD((INDIRECT($C$3&\"!N3:N\"&NbLi)=VRAI)*1)-LIGNE(1:1)+1););\"\");\"\")",null,null,{"$f":"IF($B$6<>\"\",IF(SUMPRODUCT((INDIRECT($C$3&\"!N3:N\"&NbLi)=TRUE)*1)-ROW(14:14)+1>0,INDEX(INDIRECT($C$3&\"!A3:A\"&NbLi),LARGE((INDIRECT($C$3&\"!N3:N\"&NbLi)=TRUE)*ROW(OFFSET(INDIRECT($C$3&\"!N3:N\"&NbLi),-2,0)),SUMPRODUCT((INDIRECT($C$3&\"!N3:N\"&NbLi)=TRUE)*1)-ROW(14:14)+1),),\"\"),\"\")","v":{"$error":"#NAME?"}},{"$error":"#NAME?"}]
["Afficher le lien ","=SI(E4<>\"\";LIEN_HYPERTEXTE($B$11&E4;\"Clic pour suivre\");\"\")",null,null,{"$f":"IF($B$6<>\"\",IF(SUMPRODUCT((INDIRECT($C$3&\"!N3:N\"&NbLi)=TRUE)*1)-ROW(15:15)+1>0,INDEX(INDIRECT($C$3&\"!A3:A\"&NbLi),LARGE((INDIRECT($C$3&\"!N3:N\"&NbLi)=TRUE)*ROW(OFFSET(INDIRECT($C$3&\"!N3:N\"&NbLi),-2,0)),SUMPRODUCT((INDIRECT($C$3&\"!N3:N\"&NbLi)=TRUE)*1)-ROW(15:15)+1),),\"\"),\"\")","v":{"$error":"#NAME?"}},{"$error":"#NAME?"}]
[null,null,null,null,{"$f":"IF($B$6<>\"\",IF(SUMPRODUCT((INDIRECT($C$3&\"!N3:N\"&NbLi)=TRUE)*1)-ROW(16:16)+1>0,INDEX(INDIRECT($C$3&\"!A3:A\"&NbLi),LARGE((INDIRECT($C$3&\"!N3:N\"&NbLi)=TRUE)*ROW(OFFSET(INDIRECT($C$3&\"!N3:N\"&NbLi),-2,0)),SUMPRODUCT((INDIRECT($C$3&\"!N3:N\"&NbLi)=TRUE)*1)-ROW(16:16)+1),),\"\"),\"\")","v":{"$error":"#NAME?"}},{"$error":"#NAME?"}]
["Formule feuille sous-domaine","=SI('Choix de l''instrument '!$C$3=\"Masse\";ET('Choix de l''instrument '!$D$3>=Masse!G3;G3<>\"\");\"\")",null,null,{"$f":"IF($B$6<>\"\",IF(SUMPRODUCT((INDIRECT($C$3&\"!N3:N\"&NbLi)=TRUE)*1)-ROW(17:17)+1>0,INDEX(INDIRECT($C$3&\"!A3:A\"&NbLi),LARGE((INDIRECT($C$3&\"!N3:N\"&NbLi)=TRUE)*ROW(OFFSET(INDIRECT($C$3&\"!N3:N\"&NbLi),-2,0)),SUMPRODUCT((INDIRECT($C$3&\"!N3:N\"&NbLi)=TRUE)*1)-ROW(17:17)+1),),\"\"),\"\")","v":{"$error":"#NAME?"}},{"$error":"#NAME?"}]
["Changer le nom du sous domaine",null,null,null,{"$f":"IF($B$6<>\"\",IF(SUMPRODUCT((INDIRECT($C$3&\"!N3:N\"&NbLi)=TRUE)*1)-ROW(18:18)+1>0,INDEX(INDIRECT($C$3&\"!A3:A\"&NbLi),LARGE((INDIRECT($C$3&\"!N3:N\"&NbLi)=TRUE)*ROW(OFFSET(INDIRECT($C$3&\"!N3:N\"&NbLi),-2,0)),SUMPRODUCT((INDIRECT($C$3&\"!N3:N\"&NbLi)=TRUE)*1)-ROW(18:18)+1),),\"\"),\"\")","v":{"$error":"#NAME?"}},{"$error":"#NAME?"}]
[null,null,null,null,{"$f":"IF($B$6<>\"\",IF(SUMPRODUCT((INDIRECT($C$3&\"!N3:N\"&NbLi)=TRUE)*1)-ROW(19:19)+1>0,INDEX(INDIRECT($C$3&\"!A3:A\"&NbLi),LARGE((INDIRECT($C$3&\"!N3:N\"&NbLi)=TRUE)*ROW(OFFSET(INDIRECT($C$3&\"!N3:N\"&NbLi),-2,0)),SUMPRODUCT((INDIRECT($C$3&\"!N3:N\"&NbLi)=TRUE)*1)-ROW(19:19)+1),),\"\"),\"\")","v":{"$error":"#NAME?"}},{"$error":"#NAME?"}]
[null,null,null,null,{"$f":"IF($B$6<>\"\",IF(SUMPRODUCT((INDIRECT($C$3&\"!N3:N\"&NbLi)=TRUE)*1)-ROW(20:20)+1>0,INDEX(INDIRECT($C$3&\"!A3:A\"&NbLi),LARGE((INDIRECT($C$3&\"!N3:N\"&NbLi)=TRUE)*ROW(OFFSET(INDIRECT($C$3&\"!N3:N\"&NbLi),-2,0)),SUMPRODUCT((INDIRECT($C$3&\"!N3:N\"&NbLi)=TRUE)*1)-ROW(20:20)+1),),\"\"),\"\")","v":{"$error":"#NAME?"}},{"$error":"#NAME?"}]
[null,null,null,null,{"$f":"IF($B$6<>\"\",IF(SUMPRODUCT((INDIRECT($C$3&\"!N3:N\"&NbLi)=TRUE)*1)-ROW(21:21)+1>0,INDEX(INDIRECT($C$3&\"!A3:A\"&NbLi),LARGE((INDIRECT($C$3&\"!N3:N\"&NbLi)=TRUE)*ROW(OFFSET(INDIRECT($C$3&\"!N3:N\"&NbLi),-2,0)),SUMPRODUCT((INDIRECT($C$3&\"!N3:N\"&NbLi)=TRUE)*1)-ROW(21:21)+1),),\"\"),\"\")","v":{"$error":"#NAME?"}},{"$error":"#NAME?"}]
[null,null,null,null,{"$f":"IF($B$6<>\"\",IF(SUMPRODUCT((INDIRECT($C$3&\"!N3:N\"&NbLi)=TRUE)*1)-ROW(22:22)+1>0,INDEX(INDIRECT($C$3&\"!A3:A\"&NbLi),LARGE((INDIRECT($C$3&\"!N3:N\"&NbLi)=TRUE)*ROW(OFFSET(INDIRECT($C$3&\"!N3:N\"&NbLi),-2,0)),SUMPRODUCT((INDIRECT($C$3&\"!N3:N\"&NbLi)=TRUE)*1)-ROW(22:22)+1),),\"\"),\"\")","v":{"$error":"#NAME?"}},{"$error":"#NAME?"}]
[null,null,null,null,{"$f":"IF($B$6<>\"\",IF(SUMPRODUCT((INDIRECT($C$3&\"!N3:N\"&NbLi)=TRUE)*1)-ROW(23:23)+1>0,INDEX(INDIRECT($C$3&\"!A3:A\"&NbLi),LARGE((INDIRECT($C$3&\"!N3:N\"&NbLi)=TRUE)*ROW(OFFSET(INDIRECT($C$3&\"!N3:N\"&NbLi),-2,0)),SUMPRODUCT((INDIRECT($C$3&\"!N3:N\"&NbLi)=TRUE)*1)-ROW(23:23)+1),),\"\"),\"\")","v":{"$error":"#NAME?"}},{"$error":"#NAME?"}]
[null,null,null,null,{"$f":"IF($B$6<>\"\",IF(SUMPRODUCT((INDIRECT($C$3&\"!N3:N\"&NbLi)=TRUE)*1)-ROW(24:24)+1>0,INDEX(INDIRECT($C$3&\"!A3:A\"&NbLi),LARGE((INDIRECT($C$3&\"!N3:N\"&NbLi)=TRUE)*ROW(OFFSET(INDIRECT($C$3&\"!N3:N\"&NbLi),-2,0)),SUMPRODUCT((INDIRECT($C$3&\"!N3:N\"&NbLi)=TRUE)*1)-ROW(24:24)+1),),\"\"),\"\")","v":{"$error":"#NAME?"}},{"$error":"#NAME?"}]
[null,null,null,null,{"$f":"IF($B$6<>\"\",IF(SUMPRODUCT((INDIRECT($C$3&\"!N3:N\"&NbLi)=TRUE)*1)-ROW(25:25)+1>0,INDEX(INDIRECT($C$3&\"!A3:A\"&NbLi),LARGE((INDIRECT($C$3&\"!N3:N\"&NbLi)=TRUE)*ROW(OFFSET(INDIRECT($C$3&\"!N3:N\"&NbLi),-2,0)),SUMPRODUCT((INDIRECT($C$3&\"!N3:N\"&NbLi)=TRUE)*1)-ROW(25:25)+1),),\"\"),\"\")","v":{"$error":"#NAME?"}},{"$error":"#NAME?"}]
[null,null,null,null,{"$f":"IF($B$6<>\"\",IF(SUMPRODUCT((INDIRECT($C$3&\"!N3:N\"&NbLi)=TRUE)*1)-ROW(26:26)+1>0,INDEX(INDIRECT($C$3&\"!A3:A\"&NbLi),LARGE((INDIRECT($C$3&\"!N3:N\"&NbLi)=TRUE)*ROW(OFFSET(INDIRECT($C$3&\"!N3:N\"&NbLi),-2,0)),SUMPRODUCT((INDIRECT($C$3&\"!N3:N\"&NbLi)=TRUE)*1)-ROW(26:26)+1),),\"\"),\"\")","v":{"$error":"#NAME?"}},{"$error":"#NAME?"}]
[null,null,null,null,{"$f":"IF($B$6<>\"\",IF(SUMPRODUCT((INDIRECT($C$3&\"!N3:N\"&NbLi)=TRUE)*1)-ROW(27:27)+1>0,INDEX(INDIRECT($C$3&\"!A3:A\"&NbLi),LARGE((INDIRECT($C$3&\"!N3:N\"&NbLi)=TRUE)*ROW(OFFSET(INDIRECT($C$3&\"!N3:N\"&NbLi),-2,0)),SUMPRODUCT((INDIRECT($C$3&\"!N3:N\"&NbLi)=TRUE)*1)-ROW(27:27)+1),),\"\"),\"\")","v":{"$error":"#NAME?"}},{"$error":"#NAME?"}]
[null,null,null,null,{"$f":"IF($B$6<>\"\",IF(SUMPRODUCT((INDIRECT($C$3&\"!N3:N\"&NbLi)=TRUE)*1)-ROW(28:28)+1>0,INDEX(INDIRECT($C$3&\"!A3:A\"&NbLi),LARGE((INDIRECT($C$3&\"!N3:N\"&NbLi)=TRUE)*ROW(OFFSET(INDIRECT($C$3&\"!N3:N\"&NbLi),-2,0)),SUMPRODUCT((INDIRECT($C$3&\"!N3:N\"&NbLi)=TRUE)*1)-ROW(28:28)+1),),\"\"),\"\")","v":{"$error":"#NAME?"}},{"$error":"#NAME?"}]
[null,null,null,null,{"$f":"IF($B$6<>\"\",IF(SUMPRODUCT((INDIRECT($C$3&\"!N3:N\"&NbLi)=TRUE)*1)-ROW(29:29)+1>0,INDEX(INDIRECT($C$3&\"!A3:A\"&NbLi),LARGE((INDIRECT($C$3&\"!N3:N\"&NbLi)=TRUE)*ROW(OFFSET(INDIRECT($C$3&\"!N3:N\"&NbLi),-2,0)),SUMPRODUCT((INDIRECT($C$3&\"!N3:N\"&NbLi)=TRUE)*1)-ROW(29:29)+1),),\"\"),\"\")","v":{"$error":"#NAME?"}},{"$error":"#NAME?"}]
[null,null,null,null,{"$f":"IF($B$6<>\"\",IF(SUMPRODUCT((INDIRECT($C$3&\"!N3:N\"&NbLi)=TRUE)*1)-ROW(30:30)+1>0,INDEX(INDIRECT($C$3&\"!A3:A\"&NbLi),LARGE((INDIRECT($C$3&\"!N3:N\"&NbLi)=TRUE)*ROW(OFFSET(INDIRECT($C$3&\"!N3:N\"&NbLi),-2,0)),SUMPRODUCT((INDIRECT($C$3&\"!N3:N\"&NbLi)=TRUE)*1)-ROW(30:30)+1),),\"\"),\"\")","v":{"$error":"#NAME?"}},{"$error":"#NAME?"}]
[null,null,null,null,{"$f":"IF($B$6<>\"\",IF(SUMPRODUCT((INDIRECT($C$3&\"!N3:N\"&NbLi)=TRUE)*1)-ROW(31:31)+1>0,INDEX(INDIRECT($C$3&\"!A3:A\"&NbLi),LARGE((INDIRECT($C$3&\"!N3:N\"&NbLi)=TRUE)*ROW(OFFSET(INDIRECT($C$3&\"!N3:N\"&NbLi),-2,0)),SUMPRODUCT((INDIRECT($C$3&\"!N3:N\"&NbLi)=TRUE)*1)-ROW(31:31)+1),),\"\"),\"\")","v":{"$error":"#NAME?"}},{"$error":"#NAME?"}]
[null,null,null,null,{"$f":"IF($B$6<>\"\",IF(SUMPRODUCT((INDIRECT($C$3&\"!N3:N\"&NbLi)=TRUE)*1)-ROW(32:32)+1>0,INDEX(INDIRECT($C$3&\"!A3:A\"&NbLi),LARGE((INDIRECT($C$3&\"!N3:N\"&NbLi)=TRUE)*ROW(OFFSET(INDIRECT($C$3&\"!N3:N\"&NbLi),-2,0)),SUMPRODUCT((INDIRECT($C$3&\"!N3:N\"&NbLi)=TRUE)*1)-ROW(32:32)+1),),\"\"),\"\")","v":{"$error":"#NAME?"}},{"$error":"#NAME?"}]
[null,null,null,null,{"$f":"IF($B$6<>\"\",IF(SUMPRODUCT((INDIRECT($C$3&\"!N3:N\"&NbLi)=TRUE)*1)-ROW(33:33)+1>0,INDEX(INDIRECT($C$3&\"!A3:A\"&NbLi),LARGE((INDIRECT($C$3&\"!N3:N\"&NbLi)=TRUE)*ROW(OFFSET(INDIRECT($C$3&\"!N3:N\"&NbLi),-2,0)),SUMPRODUCT((INDIRECT($C$3&\"!N3:N\"&NbLi)=TRUE)*1)-ROW(33:33)+1),),\"\"),\"\")","v":{"$error":"#NAME?"}},{"$error":"#NAME?"}]
[null,null,null,null,{"$f":"IF($B$6<>\"\",IF(SUMPRODUCT((INDIRECT($C$3&\"!N3:N\"&NbLi)=TRUE)*1)-ROW(34:34)+1>0,INDEX(INDIRECT($C$3&\"!A3:A\"&NbLi),LARGE((INDIRECT($C$3&\"!N3:N\"&NbLi)=TRUE)*ROW(OFFSET(INDIRECT($C$3&\"!N3:N\"&NbLi),-2,0)),SUMPRODUCT((INDIRECT($C$3&\"!N3:N\"&NbLi)=TRUE)*1)-ROW(34:34)+1),),\"\"),\"\")","v":{"$error":"#NAME?"}},{"$error":"#NAME?"}]
[null,null,null,null,{"$f":"IF($B$6<>\"\",IF(SUMPRODUCT((INDIRECT($C$3&\"!N3:N\"&NbLi)=TRUE)*1)-ROW(35:35)+1>0,INDEX(INDIRECT($C$3&\"!A3:A\"&NbLi),LARGE((INDIRECT($C$3&\"!N3:N\"&NbLi)=TRUE)*ROW(OFFSET(INDIRECT($C$3&\"!N3:N\"&NbLi),-2,0)),SUMPRODUCT((INDIRECT($C$3&\"!N3:N\"&NbLi)=TRUE)*1)-ROW(35:35)+1),),\"\"),\"\")","v":{"$error":"#NAME?"}},{"$error":"#NAME?"}]
[null,null,null,null,{"$f":"IF($B$6<>\"\",IF(SUMPRODUCT((INDIRECT($C$3&\"!N3:N\"&NbLi)=TRUE)*1)-ROW(36:36)+1>0,INDEX(INDIRECT($C$3&\"!A3:A\"&NbLi),LARGE((INDIRECT($C$3&\"!N3:N\"&NbLi)=TRUE)*ROW(OFFSET(INDIRECT($C$3&\"!N3:N\"&NbLi),-2,0)),SUMPRODUCT((INDIRECT($C$3&\"!N3:N\"&NbLi)=TRUE)*1)-ROW(36:36)+1),),\"\"),\"\")","v":{"$error":"#NAME?"}},{"$error":"#NAME?"}]
[null,null,null,null,{"$f":"IF($B$6<>\"\",IF(SUMPRODUCT((INDIRECT($C$3&\"!N3:N\"&NbLi)=TRUE)*1)-ROW(37:37)+1>0,INDEX(INDIRECT($C$3&\"!A3:A\"&NbLi),LARGE((INDIRECT($C$3&\"!N3:N\"&NbLi)=TRUE)*ROW(OFFSET(INDIRECT($C$3&\"!N3:N\"&NbLi),-2,0)),SUMPRODUCT((INDIRECT($C$3&\"!N3:N\"&NbLi)=TRUE)*1)-ROW(37:37)+1),),\"\"),\"\")","v":{"$error":"#NAME?"}},{"$error":"#NAME?"}]
[null,null,null,null,{"$f":"IF($B$6<>\"\",IF(SUMPRODUCT((INDIRECT($C$3&\"!N3:N\"&NbLi)=TRUE)*1)-ROW(38:38)+1>0,INDEX(INDIRECT($C$3&\"!A3:A\"&NbLi),LARGE((INDIRECT($C$3&\"!N3:N\"&NbLi)=TRUE)*ROW(OFFSET(INDIRECT($C$3&\"!N3:N\"&NbLi),-2,0)),SUMPRODUCT((INDIRECT($C$3&\"!N3:N\"&NbLi)=TRUE)*1)-ROW(38:38)+1),),\"\"),\"\")","v":{"$error":"#NAME?"}},{"$error":"#NAME?"}]
[null,null,null,null,{"$f":"IF($B$6<>\"\",IF(SUMPRODUCT((INDIRECT($C$3&\"!N3:N\"&NbLi)=TRUE)*1)-ROW(39:39)+1>0,INDEX(INDIRECT($C$3&\"!A3:A\"&NbLi),LARGE((INDIRECT($C$3&\"!N3:N\"&NbLi)=TRUE)*ROW(OFFSET(INDIRECT($C$3&\"!N3:N\"&NbLi),-2,0)),SUMPRODUCT((INDIRECT($C$3&\"!N3:N\"&NbLi)=TRUE)*1)-ROW(39:39)+1),),\"\"),\"\")","v":{"$error":"#NAME?"}},{"$error":"#NAME?"}]
[null,null,null,null,{"$f":"IF($B$6<>\"\",IF(SUMPRODUCT((INDIRECT($C$3&\"!N3:N\"&NbLi)=TRUE)*1)-ROW(40:40)+1>0,INDEX(INDIRECT($C$3&\"!A3:A\"&NbLi),LARGE((INDIRECT($C$3&\"!N3:N\"&NbLi)=TRUE)*ROW(OFFSET(INDIRECT($C$3&\"!N3:N\"&NbLi),-2,0)),SUMPRODUCT((INDIRECT($C$3&\"!N3:N\"&NbLi)=TRUE)*1)-ROW(40:40)+1),),\"\"),\"\")","v":{"$error":"#NAME?"}},{"$error":"#NAME?"}]
[null,null,null,null,{"$f":"IF($B$6<>\"\",IF(SUMPRODUCT((INDIRECT($C$3&\"!N3:N\"&NbLi)=TRUE)*1)-ROW(41:41)+1>0,INDEX(INDIRECT($C$3&\"!A3:A\"&NbLi),LARGE((INDIRECT($C$3&\"!N3:N\"&NbLi)=TRUE)*ROW(OFFSET(INDIRECT($C$3&\"!N3:N\"&NbLi),-2,0)),SUMPRODUCT((INDIRECT($C$3&\"!N3:N\"&NbLi)=TRUE)*1)-ROW(41:41)+1),),\"\"),\"\")","v":{"$error":"#NAME?"}},{"$error":"#NAME?"}]
[null,null,null,null,{"$f":"IF($B$6<>\"\",IF(SUMPRODUCT((INDIRECT($C$3&\"!N3:N\"&NbLi)=TRUE)*1)-ROW(42:42)+1>0,INDEX(INDIRECT($C$3&\"!A3:A\"&NbLi),LARGE((INDIRECT($C$3&\"!N3:N\"&NbLi)=TRUE)*ROW(OFFSET(INDIRECT($C$3&\"!N3:N\"&NbLi),-2,0)),SUMPRODUCT((INDIRECT($C$3&\"!N3:N\"&NbLi)=TRUE)*1)-ROW(42:42)+1),),\"\"),\"\")","v":{"$error":"#NAME?"}},{"$error":"#NAME?"}]
[null,null,null,null,{"$f":"IF($B$6<>\"\",IF(SUMPRODUCT((INDIRECT($C$3&\"!N3:N\"&NbLi)=TRUE)*1)-ROW(43:43)+1>0,INDEX(INDIRECT($C$3&\"!A3:A\"&NbLi),LARGE((INDIRECT($C$3&\"!N3:N\"&NbLi)=TRUE)*ROW(OFFSET(INDIRECT($C$3&\"!N3:N\"&NbLi),-2,0)),SUMPRODUCT((INDIRECT($C$3&\"!N3:N\"&NbLi)=TRUE)*1)-ROW(43:43)+1),),\"\"),\"\")","v":{"$error":"#NAME?"}},{"$error":"#NAME?"}]
[null,null,null,null,{"$f":"IF($B$6<>\"\",IF(SUMPRODUCT((INDIRECT($C$3&\"!N3:N\"&NbLi)=TRUE)*1)-ROW(44:44)+1>0,INDEX(INDIRECT($C$3&\"!A3:A\"&NbLi),LARGE((INDIRECT($C$3&\"!N3:N\"&NbLi)=TRUE)*ROW(OFFSET(INDIRECT($C$3&\"!N3:N\"&NbLi),-2,0)),SUMPRODUCT((INDIRECT($C$3&\"!N3:N\"&NbLi)=TRUE)*1)-ROW(44:44)+1),),\"\"),\"\")","v":{"$error":"#NAME?"}},{"$error":"#NAME?"}]
[null,null,null,null,{"$f":"IF($B$6<>\"\",IF(SUMPRODUCT((INDIRECT($C$3&\"!N3:N\"&NbLi)=TRUE)*1)-ROW(45:45)+1>0,INDEX(INDIRECT($C$3&\"!A3:A\"&NbLi),LARGE((INDIRECT($C$3&\"!N3:N\"&NbLi)=TRUE)*ROW(OFFSET(INDIRECT($C$3&\"!N3:N\"&NbLi),-2,0)),SUMPRODUCT((INDIRECT($C$3&\"!N3:N\"&NbLi)=TRUE)*1)-ROW(45:45)+1),),\"\"),\"\")","v":{"$error":"#NAME?"}},{"$error":"#NAME?"}]
[null,null,null,null,{"$f":"IF($B$6<>\"\",IF(SUMPRODUCT((INDIRECT($C$3&\"!N3:N\"&NbLi)=TRUE)*1)-ROW(46:46)+1>0,INDEX(INDIRECT($C$3&\"!A3:A\"&NbLi),LARGE((INDIRECT($C$3&\"!N3:N\"&NbLi)=TRUE)*ROW(OFFSET(INDIRECT($C$3&\"!N3:N\"&NbLi),-2,0)),SUMPRODUCT((INDIRECT($C$3&\"!N3:N\"&NbLi)=TRUE)*1)-ROW(46:46)+1),),\"\"),\"\")","v":{"$error":"#NAME?"}},{"$error":"#NAME?"}]
[null,null,null,null,{"$f":"IF($B$6<>\"\",IF(SUMPRODUCT((INDIRECT($C$3&\"!N3:N\"&NbLi)=TRUE)*1)-ROW(47:47)+1>0,INDEX(INDIRECT($C$3&\"!A3:A\"&NbLi),LARGE((INDIRECT($C$3&\"!N3:N\"&NbLi)=TRUE)*ROW(OFFSET(INDIRECT($C$3&\"!N3:N\"&NbLi),-2,0)),SUMPRODUCT((INDIRECT($C$3&\"!N3:N\"&NbLi)=TRUE)*1)-ROW(47:47)+1),),\"\"),\"\")","v":{"$error":"#NAME?"}},{"$error":"#NAME?"}]
[null,null,null,null,{"$f":"IF($B$6<>\"\",IF(SUMPRODUCT((INDIRECT($C$3&\"!N3:N\"&NbLi)=TRUE)*1)-ROW(48:48)+1>0,INDEX(INDIRECT($C$3&\"!A3:A\"&NbLi),LARGE((INDIRECT($C$3&\"!N3:N\"&NbLi)=TRUE)*ROW(OFFSET(INDIRECT($C$3&\"!N3:N\"&NbLi),-2,0)),SUMPRODUCT((INDIRECT($C$3&\"!N3:N\"&NbLi)=TRUE)*1)-ROW(48:48)+1),),\"\"),\"\")","v":{"$error":"#NAME?"}},{"$error":"#NAME?"}]
[null,null,null,null,{"$f":"IF($B$6<>\"\",IF(SUMPRODUCT((INDIRECT($C$3&\"!N3:N\"&NbLi)=TRUE)*1)-ROW(49:49)+1>0,INDEX(INDIRECT($C$3&\"!A3:A\"&NbLi),LARGE((INDIRECT($C$3&\"!N3:N\"&NbLi)=TRUE)*ROW(OFFSET(INDIRECT($C$3&\"!N3:N\"&NbLi),-2,0)),SUMPRODUCT((INDIRECT($C$3&\"!N3:N\"&NbLi)=TRUE)*1)-ROW(49:49)+1),),\"\"),\"\")","v":{"$error":"#NAME?"}},{"$error":"#NAME?"}]
[null,null,null,null,{"$f":"IF($B$6<>\"\",IF(SUMPRODUCT((INDIRECT($C$3&\"!N3:N\"&NbLi)=TRUE)*1)-ROW(50:50)+1>0,INDEX(INDIRECT($C$3&\"!A3:A\"&NbLi),LARGE((INDIRECT($C$3&\"!N3:N\"&NbLi)=TRUE)*ROW(OFFSET(INDIRECT($C$3&\"!N3:N\"&NbLi),-2,0)),SUMPRODUCT((INDIRECT($C$3&\"!N3:N\"&NbLi)=TRUE)*1)-ROW(50:50)+1),),\"\"),\"\")","v":{"$error":"#NAME?"}},{"$error":"#NAME?"}]
[null,null,null,null,{"$f":"IF($B$6<>\"\",IF(SUMPRODUCT((INDIRECT($C$3&\"!N3:N\"&NbLi)=TRUE)*1)-ROW(51:51)+1>0,INDEX(INDIRECT($C$3&\"!A3:A\"&NbLi),LARGE((INDIRECT($C$3&\"!N3:N\"&NbLi)=TRUE)*ROW(OFFSET(INDIRECT($C$3&\"!N3:N\"&NbLi),-2,0)),SUMPRODUCT((INDIRECT($C$3&\"!N3:N\"&NbLi)=TRUE)*1)-ROW(51:51)+1),),\"\"),\"\")","v":{"$error":"#NAME?"}},{"$error":"#NAME?"}]
[null,null,null,null,{"$f":"IF($B$6<>\"\",IF(SUMPRODUCT((INDIRECT($C$3&\"!N3:N\"&NbLi)=TRUE)*1)-ROW(52:52)+1>0,INDEX(INDIRECT($C$3&\"!A3:A\"&NbLi),LARGE((INDIRECT($C$3&\"!N3:N\"&NbLi)=TRUE)*ROW(OFFSET(INDIRECT($C$3&\"!N3:N\"&NbLi),-2,0)),SUMPRODUCT((INDIRECT($C$3&\"!N3:N\"&NbLi)=TRUE)*1)-ROW(52:52)+1),),\"\"),\"\")","v":{"$error":"#NAME?"}},{"$error":"#NAME?"}]
[null,null,null,null,{"$f":"IF($B$6<>\"\",IF(SUMPRODUCT((INDIRECT($C$3&\"!N3:N\"&NbLi)=TRUE)*1)-ROW(53:53)+1>0,INDEX(INDIRECT($C$3&\"!A3:A\"&NbLi),LARGE((INDIRECT($C$3&\"!N3:N\"&NbLi)=TRUE)*ROW(OFFSET(INDIRECT($C$3&\"!N3:N\"&NbLi),-2,0)),SUMPRODUCT((INDIRECT($C$3&\"!N3:N\"&NbLi)=TRUE)*1)-ROW(53:53)+1),),\"\"),\"\")","v":{"$error":"#NAME?"}},{"$error":"#NAME?"}]
[null,null,null,null,{"$f":"IF($B$6<>\"\",IF(SUMPRODUCT((INDIRECT($C$3&\"!N3:N\"&NbLi)=TRUE)*1)-ROW(54:54)+1>0,INDEX(INDIRECT($C$3&\"!A3:A\"&NbLi),LARGE((INDIRECT($C$3&\"!N3:N\"&NbLi)=TRUE)*ROW(OFFSET(INDIRECT($C$3&\"!N3:N\"&NbLi),-2,0)),SUMPRODUCT((INDIRECT($C$3&\"!N3:N\"&NbLi)=TRUE)*1)-ROW(54:54)+1),),\"\"),\"\")","v":{"$error":"#NAME?"}},{"$error":"#NAME?"}]
[null,null,null,null,{"$f":"IF($B$6<>\"\",IF(SUMPRODUCT((INDIRECT($C$3&\"!N3:N\"&NbLi)=TRUE)*1)-ROW(55:55)+1>0,INDEX(INDIRECT($C$3&\"!A3:A\"&NbLi),LARGE((INDIRECT($C$3&\"!N3:N\"&NbLi)=TRUE)*ROW(OFFSET(INDIRECT($C$3&\"!N3:N\"&NbLi),-2,0)),SUMPRODUCT((INDIRECT($C$3&\"!N3:N\"&NbLi)=TRUE)*1)-ROW(55:55)+1),),\"\"),\"\")","v":{"$error":"#NAME?"}},{"$error":"#NAME?"}]
[null,null,null,null,{"$f":"IF($B$6<>\"\",IF(SUMPRODUCT((INDIRECT($C$3&\"!N3:N\"&NbLi)=TRUE)*1)-ROW(56:56)+1>0,INDEX(INDIRECT($C$3&\"!A3:A\"&NbLi),LARGE((INDIRECT($C$3&\"!N3:N\"&NbLi)=TRUE)*ROW(OFFSET(INDIRECT($C$3&\"!N3:N\"&NbLi),-2,0)),SUMPRODUCT((INDIRECT($C$3&\"!N3:N\"&NbLi)=TRUE)*1)-ROW(56:56)+1),),\"\"),\"\")","v":{"$error":"#NAME?"}},{"$error":"#NAME?"}]
[null,null,null,null,{"$f":"IF($B$6<>\"\",IF(SUMPRODUCT((INDIRECT($C$3&\"!N3:N\"&NbLi)=TRUE)*1)-ROW(57:57)+1>0,INDEX(INDIRECT($C$3&\"!A3:A\"&NbLi),LARGE((INDIRECT($C$3&\"!N3:N\"&NbLi)=TRUE)*ROW(OFFSET(INDIRECT($C$3&\"!N3:N\"&NbLi),-2,0)),SUMPRODUCT((INDIRECT($C$3&\"!N3:N\"&NbLi)=TRUE)*1)-ROW(57:57)+1),),\"\"),\"\")","v":{"$error":"#NAME?"}},{"$error":"#NAME?"}]
[null,null,null,null,{"$f":"IF($B$6<>\"\",IF(SUMPRODUCT((INDIRECT($C$3&\"!N3:N\"&NbLi)=TRUE)*1)-ROW(58:58)+1>0,INDEX(INDIRECT($C$3&\"!A3:A\"&NbLi),LARGE((INDIRECT($C$3&\"!N3:N\"&NbLi)=TRUE)*ROW(OFFSET(INDIRECT($C$3&\"!N3:N\"&NbLi),-2,0)),SUMPRODUCT((INDIRECT($C$3&\"!N3:N\"&NbLi)=TRUE)*1)-ROW(58:58)+1),),\"\"),\"\")","v":{"$error":"#NAME?"}},{"$error":"#NAME?"}]
[null,null,null,null,{"$f":"IF($B$6<>\"\",IF(SUMPRODUCT((INDIRECT($C$3&\"!N3:N\"&NbLi)=TRUE)*1)-ROW(59:59)+1>0,INDEX(INDIRECT($C$3&\"!A3:A\"&NbLi),LARGE((INDIRECT($C$3&\"!N3:N\"&NbLi)=TRUE)*ROW(OFFSET(INDIRECT($C$3&\"!N3:N\"&NbLi),-2,0)),SUMPRODUCT((INDIRECT($C$3&\"!N3:N\"&NbLi)=TRUE)*1)-ROW(59:59)+1),),\"\"),\"\")","v":{"$error":"#NAME?"}},{"$error":"#NAME?"}]
[null,null,null,null,{"$f":"IF($B$6<>\"\",IF(SUMPRODUCT((INDIRECT($C$3&\"!N3:N\"&NbLi)=TRUE)*1)-ROW(60:60)+1>0,INDEX(INDIRECT($C$3&\"!A3:A\"&NbLi),LARGE((INDIRECT($C$3&\"!N3:N\"&NbLi)=TRUE)*ROW(OFFSET(INDIRECT($C$3&\"!N3:N\"&NbLi),-2,0)),SUMPRODUCT((INDIRECT($C$3&\"!N3:N\"&NbLi)=TRUE)*1)-ROW(60:60)+1),),\"\"),\"\")","v":{"$error":"#NAME?"}},{"$error":"#NAME?"}]
[null,null,null,null,{"$f":"IF($B$6<>\"\",IF(SUMPRODUCT((INDIRECT($C$3&\"!N3:N\"&NbLi)=TRUE)*1)-ROW(61:61)+1>0,INDEX(INDIRECT($C$3&\"!A3:A\"&NbLi),LARGE((INDIRECT($C$3&\"!N3:N\"&NbLi)=TRUE)*ROW(OFFSET(INDIRECT($C$3&\"!N3:N\"&NbLi),-2,0)),SUMPRODUCT((INDIRECT($C$3&\"!N3:N\"&NbLi)=TRUE)*1)-ROW(61:61)+1),),\"\"),\"\")","v":{"$error":"#NAME?"}},{"$error":"#NAME?"}]
[null,null,null,null,{"$f":"IF($B$6<>\"\",IF(SUMPRODUCT((INDIRECT($C$3&\"!N3:N\"&NbLi)=TRUE)*1)-ROW(62:62)+1>0,INDEX(INDIRECT($C$3&\"!A3:A\"&NbLi),LARGE((INDIRECT($C$3&\"!N3:N\"&NbLi)=TRUE)*ROW(OFFSET(INDIRECT($C$3&\"!N3:N\"&NbLi),-2,0)),SUMPRODUCT((INDIRECT($C$3&\"!N3:N\"&NbLi)=TRUE)*1)-ROW(62:62)+1),),\"\"),\"\")","v":{"$error":"#NAME?"}},{"$error":"#NAME?"}]
[null,null,null,null,{"$f":"IF($B$6<>\"\",IF(SUMPRODUCT((INDIRECT($C$3&\"!N3:N\"&NbLi)=TRUE)*1)-ROW(63:63)+1>0,INDEX(INDIRECT($C$3&\"!A3:A\"&NbLi),LARGE((INDIRECT($C$3&\"!N3:N\"&NbLi)=TRUE)*ROW(OFFSET(INDIRECT($C$3&\"!N3:N\"&NbLi),-2,0)),SUMPRODUCT((INDIRECT($C$3&\"!N3:N\"&NbLi)=TRUE)*1)-ROW(63:63)+1),),\"\"),\"\")","v":{"$error":"#NAME?"}},{"$error":"#NAME?"}]
[null,null,null,null,{"$f":"IF($B$6<>\"\",IF(SUMPRODUCT((INDIRECT($C$3&\"!N3:N\"&NbLi)=TRUE)*1)-ROW(64:64)+1>0,INDEX(INDIRECT($C$3&\"!A3:A\"&NbLi),LARGE((INDIRECT($C$3&\"!N3:N\"&NbLi)=TRUE)*ROW(OFFSET(INDIRECT($C$3&\"!N3:N\"&NbLi),-2,0)),SUMPRODUCT((INDIRECT($C$3&\"!N3:N\"&NbLi)=TRUE)*1)-ROW(64:64)+1),),\"\"),\"\")","v":{"$error":"#NAME?"}},{"$error":"#NAME?"}]
[null,null,null,null,{"$f":"IF($B$6<>\"\",IF(SUMPRODUCT((INDIRECT($C$3&\"!N3:N\"&NbLi)=TRUE)*1)-ROW(65:65)+1>0,INDEX(INDIRECT($C$3&\"!A3:A\"&NbLi),LARGE((INDIRECT($C$3&\"!N3:N\"&NbLi)=TRUE)*ROW(OFFSET(INDIRECT($C$3&\"!N3:N\"&NbLi),-2,0)),SUMPRODUCT((INDIRECT($C$3&\"!N3:N\"&NbLi)=TRUE)*1)-ROW(65:65)+1),),\"\"),\"\")","v":{"$error":"#NAME?"}},{"$error":"#NAME?"}]
[null,null,null,null,{"$f":"IF($B$6<>\"\",IF(SUMPRODUCT((INDIRECT($C$3&\"!N3:N\"&NbLi)=TRUE)*1)-ROW(66:66)+1>0,INDEX(INDIRECT($C$3&\"!A3:A\"&NbLi),LARGE((INDIRECT($C$3&\"!N3:N\"&NbLi)=TRUE)*ROW(OFFSET(INDIRECT($C$3&\"!N3:N\"&NbLi),-2,0)),SUMPRODUCT((INDIRECT($C$3&\"!N3:N\"&NbLi)=TRUE)*1)-ROW(66:66)+1),),\"\"),\"\")","v":{"$error":"#NAME?"}},{"$f":"IF(E69<>\"\",HYPERLINK($B$11&E69,\"Clic pour suivre\"),\"\")","v":{"$error":"#NAME?"}}]
[null,null,null,null,{"$f":"IF($B$6<>\"\",IF(SUMPRODUCT((INDIRECT($C$3&\"!N3:N\"&NbLi)=TRUE)*1)-ROW(67:67)+1>0,INDEX(INDIRECT($C$3&\"!A3:A\"&NbLi),LARGE((INDIRECT($C$3&\"!N3:N\"&NbLi)=TRUE)*ROW(OFFSET(INDIRECT($C$3&\"!N3:N\"&NbLi),-2,0)),SUMPRODUCT((INDIRECT($C$3&\"!N3:N\"&NbLi)=TRUE)*1)-ROW(67:67)+1),),\"\"),\"\")","v":{"$error":"#NAME?"}},{"$error":"#NAME?"}]
[null,null,null,null,{"$f":"IF($B$6<>\"\",IF(SUMPRODUCT((INDIRECT($C$3&\"!N3:N\"&NbLi)=TRUE)*1)-ROW(68:68)+1>0,INDEX(INDIRECT($C$3&\"!A3:A\"&NbLi),LARGE((INDIRECT($C$3&\"!N3:N\"&NbLi)=TRUE)*ROW(OFFSET(INDIRECT($C$3&\"!N3:N\"&NbLi),-2,0)),SUMPRODUCT((INDIRECT($C$3&\"!N3:N\"&NbLi)=TRUE)*1)-ROW(68:68)+1),),\"\"),\"\")","v":{"$error":"#NAME?"}},{"$error":"#NAME?"}]
[null,null,null,null,{"$f":"IF($B$6<>\"\",IF(SUMPRODUCT((INDIRECT($C$3&\"!N3:N\"&NbLi)=TRUE)*1)-ROW(69:69)+1>0,INDEX(INDIRECT($C$3&\"!A3:A\"&NbLi),LARGE((INDIRECT($C$3&\"!N3:N\"&NbLi)=TRUE)*ROW(OFFSET(INDIRECT($C$3&\"!N3:N\"&NbLi),-2,0)),SUMPRODUCT((INDIRECT($C$3&\"!N3:N\"&NbLi)=TRUE)*1)-ROW(69:69)+1),),\"\"),\"\")","v":{"$error":"#NAME?"}},{"$error":"#NAME?"}]
[null,null,null,null,{"$f":"IF($B$6<>\"\",IF(SUMPRODUCT((INDIRECT($C$3&\"!N3:N\"&NbLi)=TRUE)*1)-ROW(70:70)+1>0,INDEX(INDIRECT($C$3&\"!A3:A\"&NbLi),LARGE((INDIRECT($C$3&\"!N3:N\"&NbLi)=TRUE)*ROW(OFFSET(INDIRECT($C$3&\"!N3:N\"&NbLi),-2,0)),SUMPRODUCT((INDIRECT($C$3&\"!N3:N\"&NbLi)=TRUE)*1)-ROW(70:70)+1),),\"\"),\"\")","v":{"$error":"#NAME?"}},{"$error":"#NAME?"}]
[null,null,null,null,{"$f":"IF($B$6<>\"\",IF(SUMPRODUCT((INDIRECT($C$3&\"!N3:N\"&NbLi)=TRUE)*1)-ROW(71:71)+1>0,INDEX(INDIRECT($C$3&\"!A3:A\"&NbLi),LARGE((INDIRECT($C$3&\"!N3:N\"&NbLi)=TRUE)*ROW(OFFSET(INDIRECT($C$3&\"!N3:N\"&NbLi),-2,0)),SUMPRODUCT((INDIRECT($C$3&\"!N3:N\"&NbLi)=TRUE)*1)-ROW(71:71)+1),),\"\"),\"\")","v":{"$error":"#NAME?"}},{"$error":"#NAME?"}]
[null,null,null,null,{"$f":"IF($B$6<>\"\",IF(SUMPRODUCT((INDIRECT($C$3&\"!N3:N\"&NbLi)=TRUE)*1)-ROW(72:72)+1>0,INDEX(INDIRECT($C$3&\"!A3:A\"&NbLi),LARGE((INDIRECT($C$3&\"!N3:N\"&NbLi)=TRUE)*ROW(OFFSET(INDIRECT($C$3&\"!N3:N\"&NbLi),-2,0)),SUMPRODUCT((INDIRECT($C$3&\"!N3:N\"&NbLi)=TRUE)*1)-ROW(72:72)+1),),\"\"),\"\")","v":{"$error":"#NAME?"}},{"$error":"#NAME?"}]
[null,null,null,null,{"$f":"IF($B$6<>\"\",IF(SUMPRODUCT((INDIRECT($C$3&\"!N3:N\"&NbLi)=TRUE)*1)-ROW(73:73)+1>0,INDEX(INDIRECT($C$3&\"!A3:A\"&NbLi),LARGE((INDIRECT($C$3&\"!N3:N\"&NbLi)=TRUE)*ROW(OFFSET(INDIRECT($C$3&\"!N3:N\"&NbLi),-2,0)),SUMPRODUCT((INDIRECT($C$3&\"!N3:N\"&NbLi)=TRUE)*1)-ROW(73:73)+1),),\"\"),\"\")","v":{"$error":"#NAME?"}},{"$error":"#NAME?"}]
[null,null,null,null,{"$f":"IF($B$6<>\"\",IF(SUMPRODUCT((INDIRECT($C$3&\"!N3:N\"&NbLi)=TRUE)*1)-ROW(74:74)+1>0,INDEX(INDIRECT($C$3&\"!A3:A\"&NbLi),LARGE((INDIRECT($C$3&\"!N3:N\"&NbLi)=TRUE)*ROW(OFFSET(INDIRECT($C$3&\"!N3:N\"&NbLi),-2,0)),SUMPRODUCT((INDIRECT($C$3&\"!N3:N\"&NbLi)=TRUE)*1)-ROW(74:74)+1),),\"\"),\"\")","v":{"$error":"#NAME?"}},{"$error":"#NAME?"}]
[null,null,null,null,{"$f":"IF($B$6<>\"\",IF(SUMPRODUCT((INDIRECT($C$3&\"!N3:N\"&NbLi)=TRUE)*1)-ROW(75:75)+1>0,INDEX(INDIRECT($C$3&\"!A3:A\"&NbLi),LARGE((INDIRECT($C$3&\"!N3:N\"&NbLi)=TRUE)*ROW(OFFSET(INDIRECT($C$3&\"!N3:N\"&NbLi),-2,0)),SUMPRODUCT((INDIRECT($C$3&\"!N3:N\"&NbLi)=TRUE)*1)-ROW(75:75)+1),),\"\"),\"\")","v":{"$error":"#NAME?"}},{"$error":"#NAME?"}]
[null,null,null,null,{"$f":"IF($B$6<>\"\",IF(SUMPRODUCT((INDIRECT($C$3&\"!N3:N\"&NbLi)=TRUE)*1)-ROW(76:76)+1>0,INDEX(INDIRECT($C$3&\"!A3:A\"&NbLi),LARGE((INDIRECT($C$3&\"!N3:N\"&NbLi)=TRUE)*ROW(OFFSET(INDIRECT($C$3&\"!N3:N\"&NbLi),-2,0)),SUMPRODUCT((INDIRECT($C$3&\"!N3:N\"&NbLi)=TRUE)*1)-ROW(76:76)+1),),\"\"),\"\")","v":{"$error":"#NAME?"}},{"$error":"#NAME?"}]
[null,null,null,null,{"$f":"IF($B$6<>\"\",IF(SUMPRODUCT((INDIRECT($C$3&\"!N3:N\"&NbLi)=TRUE)*1)-ROW(77:77)+1>0,INDEX(INDIRECT($C$3&\"!A3:A\"&NbLi),LARGE((INDIRECT($C$3&\"!N3:N\"&NbLi)=TRUE)*ROW(OFFSET(INDIRECT($C$3&\"!N3:N\"&NbLi),-2,0)),SUMPRODUCT((INDIRECT($C$3&\"!N3:N\"&NbLi)=TRUE)*1)-ROW(77:77)+1),),\"\"),\"\")","v":{"$error":"#NAME?"}},{"$error":"#NAME?"}]
[null,null,null,null,{"$f":"IF($B$6<>\"\",IF(SUMPRODUCT((INDIRECT($C$3&\"!N3:N\"&NbLi)=TRUE)*1)-ROW(78:78)+1>0,INDEX(INDIRECT($C$3&\"!A3:A\"&NbLi),LARGE((INDIRECT($C$3&\"!N3:N\"&NbLi)=TRUE)*ROW(OFFSET(INDIRECT($C$3&\"!N3:N\"&NbLi),-2,0)),SUMPRODUCT((INDIRECT($C$3&\"!N3:N\"&NbLi)=TRUE)*1)-ROW(78:78)+1),),\"\"),\"\")","v":{"$error":"#NAME?"}},{"$error":"#NAME?"}]
[null,null,null,null,{"$f":"IF($B$6<>\"\",IF(SUMPRODUCT((INDIRECT($C$3&\"!N3:N\"&NbLi)=TRUE)*1)-ROW(79:79)+1>0,INDEX(INDIRECT($C$3&\"!A3:A\"&NbLi),LARGE((INDIRECT($C$3&\"!N3:N\"&NbLi)=TRUE)*ROW(OFFSET(INDIRECT($C$3&\"!N3:N\"&NbLi),-2,0)),SUMPRODUCT((INDIRECT($C$3&\"!N3:N\"&NbLi)=TRUE)*1)-ROW(79:79)+1),),\"\"),\"\")","v":{"$error":"#NAME?"}},{"$error":"#NAME?"}]
[null,null,null,null,{"$f":"IF($B$6<>\"\",IF(SUMPRODUCT((INDIRECT($C$3&\"!N3:N\"&NbLi)=TRUE)*1)-ROW(80:80)+1>0,INDEX(INDIRECT($C$3&\"!A3:A\"&NbLi),LARGE((INDIRECT($C$3&\"!N3:N\"&NbLi)=TRUE)*ROW(OFFSET(INDIRECT($C$3&\"!N3:N\"&NbLi),-2,0)),SUMPRODUCT((INDIRECT($C$3&\"!N3:N\"&NbLi)=TRUE)*1)-ROW(80:80)+1),),\"\"),\"\")","v":{"$error":"#NAME?"}},{"$error":"#NAME?"}]
[null,null,null,null,{"$f":"IF($B$6<>\"\",IF(SUMPRODUCT((INDIRECT($C$3&\"!N3:N\"&NbLi)=TRUE)*1)-ROW(81:81)+1>0,INDEX(INDIRECT($C$3&\"!A3:A\"&NbLi),LARGE((INDIRECT($C$3&\"!N3:N\"&NbLi)=TRUE)*ROW(OFFSET(INDIRECT($C$3&\"!N3:N\"&NbLi),-2,0)),SUMPRODUCT((INDIRECT($C$3&\"!N3:N\"&NbLi)=TRUE)*1)-ROW(81:81)+1),),\"\"),\"\")","v":{"$error":"#NAME?"}},{"$error":"#NAME?"}]
[null,null,null,null,{"$f":"IF($B$6<>\"\",IF(SUMPRODUCT((INDIRECT($C$3&\"!N3:N\"&NbLi)=TRUE)*1)-ROW(82:82)+1>0,INDEX(INDIRECT($C$3&\"!A3:A\"&NbLi),LARGE((INDIRECT($C$3&\"!N3:N\"&NbLi)=TRUE)*ROW(OFFSET(INDIRECT($C$3&\"!N3:N\"&NbLi),-2,0)),SUMPRODUCT((INDIRECT($C$3&\"!N3:N\"&NbLi)=TRUE)*1)-ROW(82:82)+1),),\"\"),\"\")","v":{"$error":"#NAME?"}},{"$error":"#NAME?"}]
[null,null,null,null,{"$f":"IF($B$6<>\"\",IF(SUMPRODUCT((INDIRECT($C$3&\"!N3:N\"&NbLi)=TRUE)*1)-ROW(83:83)+1>0,INDEX(INDIRECT($C$3&\"!A3:A\"&NbLi),LARGE((INDIRECT($C$3&\"!N3:N\"&NbLi)=TRUE)*ROW(OFFSET(INDIRECT($C$3&\"!N3:N\"&NbLi),-2,0)),SUMPRODUCT((INDIRECT($C$3&\"!N3:N\"&NbLi)=TRUE)*1)-ROW(83:83)+1),),\"\"),\"\")","v":{"$error":"#NAME?"}},{"$error":"#NAME?"}]
[null,null,null,null,{"$f":"IF($B$6<>\"\",IF(SUMPRODUCT((INDIRECT($C$3&\"!N3:N\"&NbLi)=TRUE)*1)-ROW(84:84)+1>0,INDEX(INDIRECT($C$3&\"!A3:A\"&NbLi),LARGE((INDIRECT($C$3&\"!N3:N\"&NbLi)=TRUE)*ROW(OFFSET(INDIRECT($C$3&\"!N3:N\"&NbLi),-2,0)),SUMPRODUCT((INDIRECT($C$3&\"!N3:N\"&NbLi)=TRUE)*1)-ROW(84:84)+1),),\"\"),\"\")","v":{"$error":"#NAME?"}},{"$error":"#NAME?"}]
[null,null,null,null,{"$f":"IF($B$6<>\"\",IF(SUMPRODUCT((INDIRECT($C$3&\"!N3:N\"&NbLi)=TRUE)*1)-ROW(85:85)+1>0,INDEX(INDIRECT($C$3&\"!A3:A\"&NbLi),LARGE((INDIRECT($C$3&\"!N3:N\"&NbLi)=TRUE)*ROW(OFFSET(INDIRECT($C$3&\"!N3:N\"&NbLi),-2,0)),SUMPRODUCT((INDIRECT($C$3&\"!N3:N\"&NbLi)=TRUE)*1)-ROW(85:85)+1),),\"\"),\"\")","v":{"$error":"#NAME?"}},{"$error":"#NAME?"}]
[null,null,null,null,{"$f":"IF($B$6<>\"\",IF(SUMPRODUCT((INDIRECT($C$3&\"!N3:N\"&NbLi)=TRUE)*1)-ROW(86:86)+1>0,INDEX(INDIRECT($C$3&\"!A3:A\"&NbLi),LARGE((INDIRECT($C$3&\"!N3:N\"&NbLi)=TRUE)*ROW(OFFSET(INDIRECT($C$3&\"!N3:N\"&NbLi),-2,0)),SUMPRODUCT((INDIRECT($C$3&\"!N3:N\"&NbLi)=TRUE)*1)-ROW(86:86)+1),),\"\"),\"\")","v":{"$error":"#NAME?"}},{"$error":"#NAME?"}]
[null,null,null,null,{"$f":"IF($B$6<>\"\",IF(SUMPRODUCT((INDIRECT($C$3&\"!N3:N\"&NbLi)=TRUE)*1)-ROW(87:87)+1>0,INDEX(INDIRECT($C$3&\"!A3:A\"&NbLi),LARGE((INDIRECT($C$3&\"!N3:N\"&NbLi)=TRUE)*ROW(OFFSET(INDIRECT($C$3&\"!N3:N\"&NbLi),-2,0)),SUMPRODUCT((INDIRECT($C$3&\"!N3:N\"&NbLi)=TRUE)*1)-ROW(87:87)+1),),\"\"),\"\")","v":{"$error":"#NAME?"}},{"$error":"#NAME?"}]
[null,null,null,null,{"$f":"IF($B$6<>\"\",IF(SUMPRODUCT((INDIRECT($C$3&\"!N3:N\"&NbLi)=TRUE)*1)-ROW(88:88)+1>0,INDEX(INDIRECT($C$3&\"!A3:A\"&NbLi),LARGE((INDIRECT($C$3&\"!N3:N\"&NbLi)=TRUE)*ROW(OFFSET(INDIRECT($C$3&\"!N3:N\"&NbLi),-2,0)),SUMPRODUCT((INDIRECT($C$3&\"!N3:N\"&NbLi)=TRUE)*1)-ROW(88:88)+1),),\"\"),\"\")","v":{"$error":"#NAME?"}},{"$error":"#NAME?"}]
[null,null,null,null,{"$f":"IF($B$6<>\"\",IF(SUMPRODUCT((INDIRECT($C$3&\"!N3:N\"&NbLi)=TRUE)*1)-ROW(89:89)+1>0,INDEX(INDIRECT($C$3&\"!A3:A\"&NbLi),LARGE((INDIRECT($C$3&\"!N3:N\"&NbLi)=TRUE)*ROW(OFFSET(INDIRECT($C$3&\"!N3:N\"&NbLi),-2,0)),SUMPRODUCT((INDIRECT($C$3&\"!N3:N\"&NbLi)=TRUE)*1)-ROW(89:89)+1),),\"\"),\"\")","v":{"$error":"#NAME?"}},{"$error":"#NAME?"}]
[null,null,null,null,{"$f":"IF($B$6<>\"\",IF(SUMPRODUCT((INDIRECT($C$3&\"!N3:N\"&NbLi)=TRUE)*1)-ROW(90:90)+1>0,INDEX(INDIRECT($C$3&\"!A3:A\"&NbLi),LARGE((INDIRECT($C$3&\"!N3:N\"&NbLi)=TRUE)*ROW(OFFSET(INDIRECT($C$3&\"!N3:N\"&NbLi),-2,0)),SUMPRODUCT((INDIRECT($C$3&\"!N3:N\"&NbLi)=TRUE)*1)-ROW(90:90)+1),),\"\"),\"\")","v":{"$error":"#NAME?"}},{"$error":"#NAME?"}]
[null,null,null,null,{"$f":"IF($B$6<>\"\",IF(SUMPRODUCT((INDIRECT($C$3&\"!N3:N\"&NbLi)=TRUE)*1)-ROW(91:91)+1>0,INDEX(INDIRECT($C$3&\"!A3:A\"&NbLi),LARGE((INDIRECT($C$3&\"!N3:N\"&NbLi)=TRUE)*ROW(OFFSET(INDIRECT($C$3&\"!N3:N\"&NbLi),-2,0)),SUMPRODUCT((INDIRECT($C$3&\"!N3:N\"&NbLi)=TRUE)*1)-ROW(91:91)+1),),\"\"),\"\")","v":{"$error":"#NAME?"}},{"$error":"#NAME?"}]
[null,null,null,null,{"$f":"IF($B$6<>\"\",IF(SUMPRODUCT((INDIRECT($C$3&\"!N3:N\"&NbLi)=TRUE)*1)-ROW(92:92)+1>0,INDEX(INDIRECT($C$3&\"!A3:A\"&NbLi),LARGE((INDIRECT($C$3&\"!N3:N\"&NbLi)=TRUE)*ROW(OFFSET(INDIRECT($C$3&\"!N3:N\"&NbLi),-2,0)),SUMPRODUCT((INDIRECT($C$3&\"!N3:N\"&NbLi)=TRUE)*1)-ROW(92:92)+1),),\"\"),\"\")","v":{"$error":"#NAME?"}},{"$error":"#NAME?"}]
[null,null,null,null,{"$f":"IF($B$6<>\"\",IF(SUMPRODUCT((INDIRECT($C$3&\"!N3:N\"&NbLi)=TRUE)*1)-ROW(93:93)+1>0,INDEX(INDIRECT($C$3&\"!A3:A\"&NbLi),LARGE((INDIRECT($C$3&\"!N3:N\"&NbLi)=TRUE)*ROW(OFFSET(INDIRECT($C$3&\"!N3:N\"&NbLi),-2,0)),SUMPRODUCT((INDIRECT($C$3&\"!N3:N\"&NbLi)=TRUE)*1)-ROW(93:93)+1),),\"\"),\"\")","v":{"$error":"#NAME?"}},{"$error":"#NAME?"}]
[null,null,null,null,{"$f":"IF($B$6<>\"\",IF(SUMPRODUCT((INDIRECT($C$3&\"!N3:N\"&NbLi)=TRUE)*1)-ROW(94:94)+1>0,INDEX(INDIRECT($C$3&\"!A3:A\"&NbLi),LARGE((INDIRECT($C$3&\"!N3:N\"&NbLi)=TRUE)*ROW(OFFSET(INDIRECT($C$3&\"!N3:N\"&NbLi),-2,0)),SUMPRODUCT((INDIRECT($C$3&\"!N3:N\"&NbLi)=TRUE)*1)-ROW(94:94)+1),),\"\"),\"\")","v":{"$error":"#NAME?"}},{"$error":"#NAME?"}]
[null,null,null,null,{"$f":"IF($B$6<>\"\",IF(SUMPRODUCT((INDIRECT($C$3&\"!N3:N\"&NbLi)=TRUE)*1)-ROW(95:95)+1>0,INDEX(INDIRECT($C$3&\"!A3:A\"&NbLi),LARGE((INDIRECT($C$3&\"!N3:N\"&NbLi)=TRUE)*ROW(OFFSET(INDIRECT($C$3&\"!N3:N\"&NbLi),-2,0)),SUMPRODUCT((INDIRECT($C$3&\"!N3:N\"&NbLi)=TRUE)*1)-ROW(95:95)+1),),\"\"),\"\")","v":{"$error":"#NAME?"}},{"$error":"#NAME?"}]
[null,null,null,null,{"$f":"IF($B$6<>\"\",IF(SUMPRODUCT((INDIRECT($C$3&\"!N3:N\"&NbLi)=TRUE)*1)-ROW(96:96)+1>0,INDEX(INDIRECT($C$3&\"!A3:A\"&NbLi),LARGE((INDIRECT($C$3&\"!N3:N\"&NbLi)=TRUE)*ROW(OFFSET(INDIRECT($C$3&\"!N3:N\"&NbLi),-2,0)),SUMPRODUCT((INDIRECT($C$3&\"!N3:N\"&NbLi)=TRUE)*1)-ROW(96:96)+1),),\"\"),\"\")","v":{"$error":"#NAME?"}},{"$error":"#NAME?"}]
[null,null,null,null,{"$f":"IF($B$6<>\"\",IF(SUMPRODUCT((INDIRECT($C$3&\"!N3:N\"&NbLi)=TRUE)*1)-ROW(97:97)+1>0,INDEX(INDIRECT($C$3&\"!A3:A\"&NbLi),LARGE((INDIRECT($C$3&\"!N3:N\"&NbLi)=TRUE)*ROW(OFFSET(INDIRECT($C$3&\"!N3:N\"&NbLi),-2,0)),SUMPRODUCT((INDIRECT($C$3&\"!N3:N\"&NbLi)=TRUE)*1)-ROW(97:97)+1),),\"\"),\"\")","v":{"$error":"#NAME?"}},{"$error":"#NAME?"}]

{"sheet":"Mes listes","index":1,"n_rows":12,"n_cols":49,"rows_kept":12,"cut":false,"hidden":false,"merged":[]}
["Angle","Aspect","Conductivité","Couple","Débit","Densité","Détection","Diamètre_exter","Diamètre_inter","Dureté","Epaisseur","Etalonnage_dureté","Etalonnage_épaisseur","Etalonnage_fuite","Etalonnage_Longueur","Etalonnage_micromètre","Etalonnage_Instrument_optique","Etalonnage_laser","Etalonnage_perte_charge","Etalonnage_pesage","Etalonnage_pression","Etalonnage_rugosité","Filetage","Force","Fréquence","Fuite","Géométrie","Hauteur","Hygrométrie","Intensité_amper","Longueur","Lumière","Pesage","Physico_chimique","Pression","Propreté_surface","Puissance","Rectitude","Résistance_ohm","Rugosité","Son","Spectrométrie","Statique_électricité","Taraudage","Température","Temps","Vitesse","Volume","Tension"]
["Equerre","Evocam","Conductimètre","Tournevis_dynamométrique_à_déclenchement","Pompe","Densimètre","Détecteur_de_gaz","Micromètre_d'extérieur_à_vis","Tampon_lisse","Duromètre_Hv_Hrc","Comparateur","Etalon_dureté","Cale_étalon","Fuite_étalon","Broche_étalon","Broche_étalon","Micromètre_objet","Pige","Tube_étalon","Masse_étalon","Manomètre_étalon","Etalon_rugosité","Bague_filetée","Jauge_de_contrainte","Vibromètre","Fuite_calibrée","Comparateur_à_levier","Comparateur","Hygromètre","Multimètre","Micromètre","Luxmètre","Masse","PH_mètre","Manomètre","Mesureur_fluorescence","Wattmètre","Règle","Multimètre","Rugosimètre","Sonomètre","Spectrographe_VANTA","Static_mètre","Tampon_fileté","Thermocouple","Chronomètre","Tachymètre","Débimètre_volumique","Multimètre"]
["Niveau_a_bulle","Dynascope","Contrôleur_de_conductivité","Tournevis_dynamométrique_numérique","débimètre","Pycnomètre",null,"Pied_à_coulisse","Pied_à_coulisse","Duromètre_shore_A","Comparateur_Heidenhain",null,"Tube_étalon",null,"Cale_épaisseur","Cale_étalon",null,null,null,null,null,null,null,"Machine_de_traction",null,"Détecteur_de_fuite","Projecteur_profil","Colonne_de_mesure","Thermo_hygromètre","Ampermètre","Pied_à_coulisse",null,"Balance",null,"Capteur_de_pression",null,null,"Table","Ohmètre",null,null,"Spectrographe_Xmet",null,null,"Thermomètre","Minuterie","Anémomètre"]
["Clinomètre","Microscope",null,"Dynamomètre","Débimètre_volumique",null,null,"Projecteur_de_profils","Projecteur",null,"Micromètre_à_sphères",null,null,null,"Cale_étalon","Pige_étalon",null,null,null,null,null,null,null,"Extensomètre",null,null,null,"Trusquin",null,null,"Banc_de_mesure",null,"Peson",null,null,null,null,"Banc_de_rectitude",null,null,null,null,null,null,"Régulateur"]
["Rapporteur_d'angle","Binoculaire",null,"clé_dynamométrique_à_déclenchement","Capteur_de_débit",null,null,"Comparateur_à_tige_rentrante","Tampon_pneumatique",null,"Projecteur",null,null,null,"Jeu_cales_étalon",null,null,null,null,null,null,null,null,null,null,null,null,"Projecteur_profil",null,null,"Comparateur"]
["Projecteur_de_profils","Microscope_de_mesure",null,"Clé_dynamométrique_à_lecture_directe",null,null,null,"Comparateur_à_tige_rentrante_radiale","Micromètre_inter_2_touches",null,"Mesureur_épaisseur",null,null,null,null,null,null,null,null,null,null,null,null,null,null,null,null,null,null,null,"Mètre_ruban"]
[null,null,null,null,null,null,null,"Comparateur_électronique","Micromètre_inter_3_touches",null,null,null,null,null,null,null,null,null,null,null,null,null,null,null,null,null,null,null,null,null,"Réglet"]
[null,null,null,null,null,null,null,"Comparateur_mécanique_à_cadran","Alésomètre",null,null,null,null,null,null,null,null,null,null,null,null,null,null,null,null,null,null,null,null,null,"Colonne_de_mesure"]
[null,null,null,null,null,null,null,"Comparateur_numérique_à_tige_rentrante",null,null,null,null,null,null,null,null,null,null,null,null,null,null,null,null,null,null,null,null,null,null,"Trusquin"]
[null,null,null,null,null,null,null,"Capteur_heidenhain"]
[null,null,null,null,null,null,null,"Bague_lisse"]
[null,null,null,null,null,null,null,"Micromètre_laser"]

{"sheet":"Domaines de mesure","index":2,"n_rows":32,"n_cols":1,"rows_kept":32,"cut":false,"hidden":true,"merged":[[0,0,0,2]]}
["Domaines_de_mesure"]
["Angle"]
["Aspect"]
["Couple"]
["Débit"]
["Densité"]
["Détection"]
["Diamètre"]
["Dimensionnel"]
["Dureté"]
["Electrique "]
["Etalonnage"]
["Filetage"]
["Force"]
["Fréquence"]
["Fuite"]
["Géométrie"]
["Hauteur"]
["Hygrométrie"]
["Lumière"]
["Pesage"]
["Physico_chimique"]
["Pression"]
["Propreté"]
["Réctitude"]
["Rugosité"]
["Son"]
["Spectrométrie"]
["Taraudage"]
["Température"]
["Vitesse"]
["Volumétrie"]

{"sheet":"SOUS Domaines","index":3,"n_rows":73,"n_cols":1,"rows_kept":73,"cut":false,"hidden":true,"merged":[[0,0,0,2]]}
["Sous_Domaines"]
["Angle_incliné"]
["Angle_mesure "]
["Aspect _avec_mesure"]
["Aspect_sans_mesure"]
["Couple"]
["Débit_capteur"]
["Débit_générateur"]
["Débit_quantifié"]
["Densité"]
["Détection_gaz"]
["Dimensionnel_Epaisseur"]
["Dimensionnel_sans_contact_2D"]
["Dimensions_avec_contact_3D"]
["Dimensions_sans_contact_2D"]
["Dureté_Hv_Hrc "]
["Dureté_Shore_A"]
["Electricité_Conductivité"]
["Electricité_Courant"]
["Electricité_Résistance"]
["Electricité_Rotophase"]
["Electricité_Statique"]
["Electrique_Puissance"]
["Epaisseur"]
["Epaisseur_par_micromètre"]
["Epaisseur_Ultrason"]
["Etalonnage _Epaisseur"]
["Etalonnage_Rugosité"]
["Etalonnage_Dureté"]
["Etalonnage_Battement"]
["Etalonnage_Dimensionnel"]
["Etalonnage_Dureté"]
["Etalonnage_Epaisseur"]
["Etalonnage_Fluorescence"]
["Etalonnage_Fuite"]
["Etalonnage_Instrument_optique"]
["Etalonnage_Mesure_étalon"]
["Etalonnage_Micromètre"]
["Etalonnage_Perte_de_charge"]
["Etalonnage_Pesage"]
["Etalonnage_Pression"]
["Etalonnage_Projecteur"]
["Etalonnage_Rugosité"]
["Filetage"]
["Force"]
["Force_Jauge_de_Contrainte"]
["Fréquence"]
["Fuite"]
["Géométrie"]
["Hauteur"]
["Hygrométrie"]
["ø_exter"]
["ø_exter_longueur"]
["ø_exter_ø_inter_longueur"]
["ø_exter_longueur"]
["ø_inter"]
["ø_inter_exter_longueur"]
["Lumière"]
["Masse"]
["Physico_chimique"]
["Pression"]
["Propreté_surface"]
["Réctitude"]
["Réglage_réctitude"]
["Rugosité"]
["Son"]
["Spectrométrie"]
["Taraudage"]
["Température"]
["Température_hygrométrie"]
["Temps"]
["Vitesse"]
["Volume"]

{"sheet":"Angle","index":4,"n_rows":101,"n_cols":16,"rows_kept":101,"cut":false,"hidden":false,"merged":[]}
["Angle"]
[null,null,null,null,null,null,"résolution g","Incertitude g","Justesse g","IT mini détectable g","Capacité mini g","Capacité Maxi g",null,"Résultat critère IT"]
["PCC.013","Equerre",null,null,null,"Afficher",0,null,null,null,null,null,null,{"$f":"IF('Choix de l''instrument '!$C$3=\"Angle\",AND('Choix de l''instrument '!$D$3>=Angle!G3,G3<>\"\"),\"\")","v":""}]
["NIV-001","Niveau à bulle","0 / 0,04 mm/m",null,null,"Afficher",0,null,null,null,null,null,null,{"$f":"IF('Choix de l''instrument '!$C$3=\"Angle\",AND('Choix de l''instrument '!$D$3>=Angle!G4,G4<>\"\"),\"\")","v":""},"=NBVAL(A:A)","=NB.SI(N3:N100;Vrai)"]
["CLIN-125","Clinomètre",null,null,null,"Afficher",0,null,null,null,null,null,null,{"$f":"IF('Choix de l''instrument '!$C$3=\"Angle\",AND('Choix de l''instrument '!$D$3>=Angle!G5,G5<>\"\"),\"\")","v":""}]
["THE.026","Rapporteur d'angle",null,null,null,"Afficher",0.01,null,null,null,null,null,null,{"$f":"IF('Choix de l''instrument '!$C$3=\"Angle\",AND('Choix de l''instrument '!$D$3>=Angle!G6,G6<>\"\"),\"\")","v":""}]
["DIM-0138","Rapporteur d'angle","-360 / 360 Degré",null,null,"Afficher",0.01,null,null,null,null,null,null,{"$f":"IF('Choix de l''instrument '!$C$3=\"Angle\",AND('Choix de l''instrument '!$D$3>=Angle!G7,G7<>\"\"),\"\")","v":""}]
["OPT-0020","Projecteur de profils",null,null,null,"Afficher",1E-4,null,null,null,null,null,null,{"$f":"IF('Choix de l''instrument '!$C$3=\"Angle\",AND('Choix de l''instrument '!$D$3>=Angle!G8,G8<>\"\"),\"\")","v":""}]
["OPT-0037","Projecteur de profils",null,null,null,"Afficher",1E-4,null,null,null,null,null,null,{"$f":"IF('Choix de l''instrument '!$C$3=\"Angle\",AND('Choix de l''instrument '!$D$3>=Angle!G9,G9<>\"\"),\"\")","v":""}]
["OPT-0001","Projecteur de profils",null,null,null,"Afficher",1E-4,null,null,null,null,null,null,{"$f":"IF('Choix de l''instrument '!$C$3=\"Angle\",AND('Choix de l''instrument '!$D$3>=Angle!G10,G10<>\"\"),\"\")","v":""}]
["OPT-0006","Projecteur de profils",null,null,null,"Afficher",1E-4,null,null,null,null,null,null,{"$f":"IF('Choix de l''instrument '!$C$3=\"Angle\",AND('Choix de l''instrument '!$D$3>=Angle!G11,G11<>\"\"),\"\")","v":""}]
["OPT-0018","Projecteur de profils",null,null,null,"Afficher",1E-4,null,null,null,null,null,null,{"$f":"IF('Choix de l''instrument '!$C$3=\"Angle\",AND('Choix de l''instrument '!$D$3>=Angle!G12,G12<>\"\"),\"\")","v":""}]
["OPT-0017","Projecteur de profils",null,null,null,"Afficher",1E-4,null,null,null,null,null,null,{"$f":"IF('Choix de l''instrument '!$C$3=\"Angle\",AND('Choix de l''instrument '!$D$3>=Angle!G13,G13<>\"\"),\"\")","v":""}]
["CF.449","Projecteur de profils",null,null,null,"Afficher",1E-4,null,null,null,null,null,null,{"$f":"IF('Choix de l''instrument '!$C$3=\"Angle\",AND('Choix de l''instrument '!$D$3>=Angle!G14,G14<>\"\"),\"\")","v":""}]
["CF.460","Projecteur de profils",null,null,null,"Afficher",1E-4,null,null,null,null,null,null,{"$f":"IF('Choix de l''instrument '!$C$3=\"Angle\",AND('Choix de l''instrument '!$D$3>=Angle!G15,G15<>\"\"),\"\")","v":""}]
[null,null,null,null,null,null,null,null,null,null,null,null,null,{"$f":"IF('Choix de l''instrument '!$C$3=\"Masse\",AND('Choix de l''instrument '!$D$3>=Pesage!G16,G16<>\"\"),\"\")","v":""}]
[null,null,null,null,null,null,null,null,null,null,null,null,null,{"$f":"IF('Choix de l''instrument '!$C$3=\"Masse\",AND('Choix de l''instrument '!$D$3>=Pesage!G17,G17<>\"\"),\"\")","v":""}]
[null,null,null,null,null,null,null,null,null,null,null,null,null,{"$f":"IF('Choix de l''instrument '!$C$3=\"Masse\",AND('Choix de l''instrument '!$D$3>=Pesage!G18,G18<>\"\"),\"\")","v":""}]
[null,null,null,null,null,null,null,null,null,null,null,null,null,{"$f":"IF('Choix de l''instrument '!$C$3=\"Masse\",AND('Choix de l''instrument '!$D$3>=Pesage!G19,G19<>\"\"),\"\")","v":""}]
[null,null,null,null,null,null,null,null,null,null,null,null,null,{"$f":"IF('Choix de l''instrument '!$C$3=\"Masse\",AND('Choix de l''instrument '!$D$3>=Pesage!G20,G20<>\"\"),\"\")","v":""}]
[null,null,null,null,null,null,null,null,null,null,null,null,null,{"$f":"IF('Choix de l''instrument '!$C$3=\"Masse\",AND('Choix de l''instrument '!$D$3>=Pesage!G21,G21<>\"\"),\"\")","v":""}]
[null,null,null,null,null,null,null,null,null,null,null,null,null,{"$f":"IF('Choix de l''instrument '!$C$3=\"Masse\",AND('Choix de l''instrument '!$D$3>=Pesage!G22,G22<>\"\"),\"\")","v":""}]
[null,null,null,null,null,null,null,null,null,null,null,null,null,{"$f":"IF('Choix de l''instrument '!$C$3=\"Masse\",AND('Choix de l''instrument '!$D$3>=Pesage!G23,G23<>\"\"),\"\")","v":""}]
[null,null,null,null,null,null,null,null,null,null,null,null,null,{"$f":"IF('Choix de l''instrument '!$C$3=\"Masse\",AND('Choix de l''instrument '!$D$3>=Pesage!G24,G24<>\"\"),\"\")","v":""}]
[null,null,null,null,null,null,null,null,null,null,null,null,null,{"$f":"IF('Choix de l''instrument '!$C$3=\"Masse\",AND('Choix de l''instrument '!$D$3>=Pesage!G25,G25<>\"\"),\"\")","v":""}]
[null,null,null,null,null,null,null,null,null,null,null,null,null,{"$f":"IF('Choix de l''instrument '!$C$3=\"Masse\",AND('Choix de l''instrument '!$D$3>=Pesage!G26,G26<>\"\"),\"\")","v":""}]
[null,null,null,null,null,null,null,null,null,null,null,null,null,{"$f":"IF('Choix de l''instrument '!$C$3=\"Masse\",AND('Choix de l''instrument '!$D$3>=Pesage!G27,G27<>\"\"),\"\")","v":""}]
[null,null,null,null,null,null,null,null,null,null,null,null,null,{"$f":"IF('Choix de l''instrument '!$C$3=\"Masse\",AND('Choix de l''instrument '!$D$3>=Pesage!G28,G28<>\"\"),\"\")","v":""}]
[null,null,null,null,null,null,null,null,null,null,null,null,null,{"$f":"IF('Choix de l''instrument '!$C$3=\"Masse\",AND('Choix de l''instrument '!$D$3>=Pesage!G29,G29<>\"\"),\"\")","v":""}]
[null,null,null,null,null,null,null,null,null,null,null,null,null,{"$f":"IF('Choix de l''instrument '!$C$3=\"Masse\",AND('Choix de l''instrument '!$D$3>=Pesage!G30,G30<>\"\"),\"\")","v":""}]
[null,null,null,null,null,null,null,null,null,null,null,null,null,{"$f":"IF('Choix de l''instrument '!$C$3=\"Masse\",AND('Choix de l''instrument '!$D$3>=Pesage!G31,G31<>\"\"),\"\")","v":""}]
[null,null,null,null,null,null,null,null,null,null,null,null,null,{"$f":"IF('Choix de l''instrument '!$C$3=\"Masse\",AND('Choix de l''instrument '!$D$3>=Pesage!G32,G32<>\"\"),\"\")","v":""}]
[null,null,null,null,null,null,null,null,null,null,null,null,null,{"$f":"IF('Choix de l''instrument '!$C$3=\"Masse\",AND('Choix de l''instrument '!$D$3>=Pesage!G33,G33<>\"\"),\"\")","v":""}]
[null,null,null,null,null,null,null,null,null,null,null,null,null,{"$f":"IF('Choix de l''instrument '!$C$3=\"Masse\",AND('Choix de l''instrument '!$D$3>=Pesage!G34,G34<>\"\"),\"\")","v":""}]
[null,null,null,null,null,null,null,null,null,null,null,null,null,{"$f":"IF('Choix de l''instrument '!$C$3=\"Masse\",AND('Choix de l''instrument '!$D$3>=Pesage!G35,G35<>\"\"),\"\")","v":""}]
[null,null,null,null,null,null,null,null,null,null,null,null,null,{"$f":"IF('Choix de l''instrument '!$C$3=\"Masse\",AND('Choix de l''instrument '!$D$3>=Pesage!G36,G36<>\"\"),\"\")","v":""}]
[null,null,null,null,null,null,null,null,null,null,null,null,null,{"$f":"IF('Choix de l''instrument '!$C$3=\"Masse\",AND('Choix de l''instrument '!$D$3>=Pesage!G37,G37<>\"\"),\"\")","v":""}]
[null,null,null,null,null,null,null,null,null,null,null,null,null,{"$f":"IF('Choix de l''instrument '!$C$3=\"Masse\",AND('Choix de l''instrument '!$D$3>=Pesage!G38,G38<>\"\"),\"\")","v":""}]
[null,null,null,null,null,null,null,null,null,null,null,null,null,{"$f":"IF('Choix de l''instrument '!$C$3=\"Masse\",AND('Choix de l''instrument '!$D$3>=Pesage!G39,G39<>\"\"),\"\")","v":""}]
[null,null,null,null,null,null,null,null,null,null,null,null,null,{"$f":"IF('Choix de l''instrument '!$C$3=\"Masse\",AND('Choix de l''instrument '!$D$3>=Pesage!G40,G40<>\"\"),\"\")","v":""}]
[null,null,null,null,null,null,null,null,null,null,null,null,null,{"$f":"IF('Choix de l''instrument '!$C$3=\"Masse\",AND('Choix de l''instrument '!$D$3>=Pesage!G41,G41<>\"\"),\"\")","v":""}]
[null,null,null,null,null,null,null,null,null,null,null,null,null,{"$f":"IF('Choix de l''instrument '!$C$3=\"Masse\",AND('Choix de l''instrument '!$D$3>=Pesage!G42,G42<>\"\"),\"\")","v":""}]
[null,null,null,null,null,null,null,null,null,null,null,null,null,{"$f":"IF('Choix de l''instrument '!$C$3=\"Masse\",AND('Choix de l''instrument '!$D$3>=Pesage!G43,G43<>\"\"),\"\")","v":""}]
[null,null,null,null,null,null,null,null,null,null,null,null,null,{"$f":"IF('Choix de l''instrument '!$C$3=\"Masse\",AND('Choix de l''instrument '!$D$3>=Pesage!G44,G44<>\"\"),\"\")","v":""}]
[null,null,null,null,null,null,null,null,null,null,null,null,null,{"$f":"IF('Choix de l''instrument '!$C$3=\"Masse\",AND('Choix de l''instrument '!$D$3>=Pesage!G45,G45<>\"\"),\"\")","v":""}]
[null,null,null,null,null,null,null,null,null,null,null,null,null,{"$f":"IF('Choix de l''instrument '!$C$3=\"Masse\",AND('Choix de l''instrument '!$D$3>=Pesage!G46,G46<>\"\"),\"\")","v":""}]
[null,null,null,null,null,null,null,null,null,null,null,null,null,{"$f":"IF('Choix de l''instrument '!$C$3=\"Masse\",AND('Choix de l''instrument '!$D$3>=Pesage!G47,G47<>\"\"),\"\")","v":""}]
[null,null,null,null,null,null,null,null,null,null,null,null,null,{"$f":"IF('Choix de l''instrument '!$C$3=\"Masse\",AND('Choix de l''instrument '!$D$3>=Pesage!G48,G48<>\"\"),\"\")","v":""}]
[null,null,null,null,null,null,null,null,null,null,null,null,null,{"$f":"IF('Choix de l''instrument '!$C$3=\"Masse\",AND('Choix de l''instrument '!$D$3>=Pesage!G49,G49<>\"\"),\"\")","v":""}]
[null,null,null,null,null,null,null,null,null,null,null,null,null,{"$f":"IF('Choix de l''instrument '!$C$3=\"Masse\",AND('Choix de l''instrument '!$D$3>=Pesage!G50,G50<>\"\"),\"\")","v":""}]
[null,null,null,null,null,null,null,null,null,null,null,null,null,{"$f":"IF('Choix de l''instrument '!$C$3=\"Masse\",AND('Choix de l''instrument '!$D$3>=Pesage!G51,G51<>\"\"),\"\")","v":""}]
[null,null,null,null,null,null,null,null,null,null,null,null,null,{"$f":"IF('Choix de l''instrument '!$C$3=\"Masse\",AND('Choix de l''instrument '!$D$3>=Pesage!G52,G52<>\"\"),\"\")","v":""}]
[null,null,null,null,null,null,null,null,null,null,null,null,null,{"$f":"IF('Choix de l''instrument '!$C$3=\"Masse\",AND('Choix de l''instrument '!$D$3>=Pesage!G53,G53<>\"\"),\"\")","v":""}]
[null,null,null,null,null,null,null,null,null,null,null,null,null,{"$f":"IF('Choix de l''instrument '!$C$3=\"Masse\",AND('Choix de l''instrument '!$D$3>=Pesage!G54,G54<>\"\"),\"\")","v":""}]
[null,null,null,null,null,null,null,null,null,null,null,null,null,{"$f":"IF('Choix de l''instrument '!$C$3=\"Masse\",AND('Choix de l''instrument '!$D$3>=Pesage!G55,G55<>\"\"),\"\")","v":""}]
[null,null,null,null,null,null,null,null,null,null,null,null,null,{"$f":"IF('Choix de l''instrument '!$C$3=\"Masse\",AND('Choix de l''instrument '!$D$3>=Pesage!G56,G56<>\"\"),\"\")","v":""}]
[null,null,null,null,null,null,null,null,null,null,null,null,null,{"$f":"IF('Choix de l''instrument '!$C$3=\"Masse\",AND('Choix de l''instrument '!$D$3>=Pesage!G57,G57<>\"\"),\"\")","v":""}]
[null,null,null,null,null,null,null,null,null,null,null,null,null,{"$f":"IF('Choix de l''instrument '!$C$3=\"Masse\",AND('Choix de l''instrument '!$D$3>=Pesage!G58,G58<>\"\"),\"\")","v":""}]
[null,null,null,null,null,null,null,null,null,null,null,null,null,{"$f":"IF('Choix de l''instrument '!$C$3=\"Masse\",AND('Choix de l''instrument '!$D$3>=Pesage!G59,G59<>\"\"),\"\")","v":""}]
[null,null,null,null,null,null,null,null,null,null,null,null,null,{"$f":"IF('Choix de l''instrument '!$C$3=\"Masse\",AND('Choix de l''instrument '!$D$3>=Pesage!G60,G60<>\"\"),\"\")","v":""}]
[null,null,null,null,null,null,null,null,null,null,null,null,null,{"$f":"IF('Choix de l''instrument '!$C$3=\"Masse\",AND('Choix de l''instrument '!$D$3>=Pesage!G61,G61<>\"\"),\"\")","v":""}]
[null,null,null,null,null,null,null,null,null,null,null,null,null,{"$f":"IF('Choix de l''instrument '!$C$3=\"Masse\",AND('Choix de l''instrument '!$D$3>=Pesage!J62,J62<>\"\"),\"\")","v":""}]
[null,null,null,null,null,null,null,null,null,null,null,null,null,{"$f":"IF('Choix de l''instrument '!$C$3=\"Masse\",AND('Choix de l''instrument '!$D$3>=Pesage!J63,J63<>\"\"),\"\")","v":""}]
[null,null,null,null,null,null,null,null,null,null,null,null,null,{"$f":"IF('Choix de l''instrument '!$C$3=\"Masse\",AND('Choix de l''instrument '!$D$3>=Pesage!J64,J64<>\"\"),\"\")","v":""}]
[null,null,null,null,null,null,null,null,null,null,null,null,null,{"$f":"IF('Choix de l''instrument '!$C$3=\"Masse\",AND('Choix de l''instrument '!$D$3>=Pesage!J65,J65<>\"\"),\"\")","v":""}]
[null,null,null,null,null,null,null,null,null,null,null,null,null,{"$f":"IF('Choix de l''instrument '!$C$3=\"Masse\",AND('Choix de l''instrument '!$D$3>=Pesage!J66,J66<>\"\"),\"\")","v":""}]
[null,null,null,null,null,null,null,null,null,null,null,null,null,{"$f":"IF('Choix de l''instrument '!$C$3=\"Masse\",AND('Choix de l''instrument '!$D$3>=Pesage!J67,J67<>\"\"),\"\")","v":""}]
[null,null,null,null,null,null,null,null,null,null,null,null,null,{"$f":"IF('Choix de l''instrument '!$C$3=\"Masse\",AND('Choix de l''instrument '!$D$3>=Pesage!J68,J68<>\"\"),\"\")","v":""}]
[null,null,null,null,null,null,null,null,null,null,null,null,null,{"$f":"IF('Choix de l''instrument '!$C$3=\"Masse\",AND('Choix de l''instrument '!$D$3>=Pesage!J69,J69<>\"\"),\"\")","v":""}]
[null,null,null,null,null,null,null,null,null,null,null,null,null,{"$f":"IF('Choix de l''instrument '!$C$3=\"Masse\",AND('Choix de l''instrument '!$D$3>=Pesage!J70,J70<>\"\"),\"\")","v":""}]
[null,null,null,null,null,null,null,null,null,null,null,null,null,{"$f":"IF('Choix de l''instrument '!$C$3=\"Masse\",AND('Choix de l''instrument '!$D$3>=Pesage!J71,J71<>\"\"),\"\")","v":""}]
[null,null,null,null,null,null,null,null,null,null,null,null,null,{"$f":"IF('Choix de l''instrument '!$C$3=\"Masse\",AND('Choix de l''instrument '!$D$3>=Pesage!J72,J72<>\"\"),\"\")","v":""}]
[null,null,null,null,null,null,null,null,null,null,null,null,null,{"$f":"IF('Choix de l''instrument '!$C$3=\"Masse\",AND('Choix de l''instrument '!$D$3>=Pesage!J73,J73<>\"\"),\"\")","v":""}]
[null,null,null,null,null,null,null,null,null,null,null,null,null,{"$f":"IF('Choix de l''instrument '!$C$3=\"Masse\",AND('Choix de l''instrument '!$D$3>=Pesage!J74,J74<>\"\"),\"\")","v":""}]
[null,null,null,null,null,null,null,null,null,null,null,null,null,{"$f":"IF('Choix de l''instrument '!$C$3=\"Masse\",AND('Choix de l''instrument '!$D$3>=Pesage!J75,J75<>\"\"),\"\")","v":""}]
[null,null,null,null,null,null,null,null,null,null,null,null,null,{"$f":"IF('Choix de l''instrument '!$C$3=\"Masse\",AND('Choix de l''instrument '!$D$3>=Pesage!J76,J76<>\"\"),\"\")","v":""}]
[null,null,null,null,null,null,null,null,null,null,null,null,null,{"$f":"IF('Choix de l''instrument '!$C$3=\"Masse\",AND('Choix de l''instrument '!$D$3>=Pesage!J77,J77<>\"\"),\"\")","v":""}]
[null,null,null,null,null,null,null,null,null,null,null,null,null,{"$f":"IF('Choix de l''instrument '!$C$3=\"Masse\",AND('Choix de l''instrument '!$D$3>=Pesage!J78,J78<>\"\"),\"\")","v":""}]
[null,null,null,null,null,null,null,null,null,null,null,null,null,{"$f":"IF('Choix de l''instrument '!$C$3=\"Masse\",AND('Choix de l''instrument '!$D$3>=Pesage!J79,J79<>\"\"),\"\")","v":""}]
[null,null,null,null,null,null,null,null,null,null,null,null,null,{"$f":"IF('Choix de l''instrument '!$C$3=\"Masse\",AND('Choix de l''instrument '!$D$3>=Pesage!J80,J80<>\"\"),\"\")","v":""}]
[null,null,null,null,null,null,null,null,null,null,null,null,null,{"$f":"IF('Choix de l''instrument '!$C$3=\"Masse\",AND('Choix de l''instrument '!$D$3>=Pesage!J81,J81<>\"\"),\"\")","v":""}]
[null,null,null,null,null,null,null,null,null,null,null,null,null,{"$f":"IF('Choix de l''instrument '!$C$3=\"Masse\",AND('Choix de l''instrument '!$D$3>=Pesage!J82,J82<>\"\"),\"\")","v":""}]
[null,null,null,null,null,null,null,null,null,null,null,null,null,{"$f":"IF('Choix de l''instrument '!$C$3=\"Masse\",AND('Choix de l''instrument '!$D$3>=Pesage!J83,J83<>\"\"),\"\")","v":""}]
[null,null,null,null,null,null,null,null,null,null,null,null,null,{"$f":"IF('Choix de l''instrument '!$C$3=\"Masse\",AND('Choix de l''instrument '!$D$3>=Pesage!J84,J84<>\"\"),\"\")","v":""}]
[null,null,null,null,null,null,null,null,null,null,null,null,null,{"$f":"IF('Choix de l''instrument '!$C$3=\"Masse\",AND('Choix de l''instrument '!$D$3>=Pesage!J85,J85<>\"\"),\"\")","v":""}]
[null,null,null,null,null,null,null,null,null,null,null,null,null,{"$f":"IF('Choix de l''instrument '!$C$3=\"Masse\",AND('Choix de l''instrument '!$D$3>=Pesage!J86,J86<>\"\"),\"\")","v":""}]
[null,null,null,null,null,null,null,null,null,null,null,null,null,{"$f":"IF('Choix de l''instrument '!$C$3=\"Masse\",AND('Choix de l''instrument '!$D$3>=Pesage!J87,J87<>\"\"),\"\")","v":""}]
[null,null,null,null,null,null,null,null,null,null,null,null,null,{"$f":"IF('Choix de l''instrument '!$C$3=\"Masse\",AND('Choix de l''instrument '!$D$3>=Pesage!J88,J88<>\"\"),\"\")","v":""}]
[null,null,null,null,null,null,null,null,null,null,null,null,null,{"$f":"IF('Choix de l''instrument '!$C$3=\"Masse\",AND('Choix de l''instrument '!$D$3>=Pesage!J89,J89<>\"\"),\"\")","v":""}]
[null,null,null,null,null,null,null,null,null,null,null,null,null,{"$f":"IF('Choix de l''instrument '!$C$3=\"Masse\",AND('Choix de l''instrument '!$D$3>=Pesage!J90,J90<>\"\"),\"\")","v":""}]
[null,null,null,null,null,null,null,null,null,null,null,null,null,{"$f":"IF('Choix de l''instrument '!$C$3=\"Masse\",AND('Choix de l''instrument '!$D$3>=Pesage!J91,J91<>\"\"),\"\")","v":""}]
[null,null,null,null,null,null,null,null,null,null,null,null,null,{"$f":"IF('Choix de l''instrument '!$C$3=\"Masse\",AND('Choix de l''instrument '!$D$3>=Pesage!J92,J92<>\"\"),\"\")","v":""}]
[null,null,null,null,null,null,null,null,null,null,null,null,null,{"$f":"IF('Choix de l''instrument '!$C$3=\"Masse\",AND('Choix de l''instrument '!$D$3>=Pesage!J93,J93<>\"\"),\"\")","v":""}]
[null,null,null,null,null,null,null,null,null,null,null,null,null,{"$f":"IF('Choix de l''instrument '!$C$3=\"Masse\",AND('Choix de l''instrument '!$D$3>=Pesage!J94,J94<>\"\"),\"\")","v":""}]
[null,null,null,null,null,null,null,null,null,null,null,null,null,{"$f":"IF('Choix de l''instrument '!$C$3=\"Masse\",AND('Choix de l''instrument '!$D$3>=Pesage!J95,J95<>\"\"),\"\")","v":""}]
[null,null,null,null,null,null,null,null,null,null,null,null,null,{"$f":"IF('Choix de l''instrument '!$C$3=\"Masse\",AND('Choix de l''instrument '!$D$3>=Pesage!J96,J96<>\"\"),\"\")","v":""}]
[null,null,null,null,null,null,null,null,null,null,null,null,null,{"$f":"IF('Choix de l''instrument '!$C$3=\"Masse\",AND('Choix de l''instrument '!$D$3>=Pesage!J97,J97<>\"\"),\"\")","v":""}]
[null,null,null,null,null,null,null,null,null,null,null,null,null,{"$f":"IF('Choix de l''instrument '!$C$3=\"Masse\",AND('Choix de l''instrument '!$D$3>=Pesage!J98,J98<>\"\"),\"\")","v":""}]
[null,null,null,null,null,null,null,null,null,null,null,null,null,{"$f":"IF('Choix de l''instrument '!$C$3=\"Masse\",AND('Choix de l''instrument '!$D$3>=Pesage!J99,J99<>\"\"),\"\")","v":""}]
[null,null,null,null,null,null,null,null,null,null,null,null,null,{"$f":"IF('Choix de l''instrument '!$C$3=\"Masse\",AND('Choix de l''instrument '!$D$3>=Pesage!J100,J100<>\"\"),\"\")","v":""}]
[null,null,null,null,null,null,null,null,null,null,null,null,null,{"$f":"IF('Choix de l''instrument '!$C$3=\"Masse\",AND('Choix de l''instrument '!$D$3>=Pesage!J101,J101<>\"\"),\"\")","v":""}]

{"sheet":"Aspect","index":5,"n_rows":101,"n_cols":14,"rows_kept":101,"cut":false,"hidden":false,"merged":[]}
["Aspect"]
[null,null,null,null,null,null,"résolution g",null,null,null,null,null,null,"Résultat critère IT"]
["OPT-0029","Evocam",null,null,null,"Afficher",0,null,null,null,null,null,null,{"$f":"IF('Choix de l''instrument '!$C$3=\"Aspect\",AND('Choix de l''instrument '!$D$3>=Aspect!G3,G3<>\"\"),\"\")","v":""}]
["OPT-0028","Evocam",null,null,null,"Afficher",0,null,null,null,null,null,null,{"$f":"IF('Choix de l''instrument '!$C$3=\"Aspect\",AND('Choix de l''instrument '!$D$3>=Aspect!G4,G4<>\"\"),\"\")","v":""}]
["OPT-0027","Evocam",null,null,null,"Afficher",0,null,null,null,null,null,null,{"$f":"IF('Choix de l''instrument '!$C$3=\"Aspect\",AND('Choix de l''instrument '!$D$3>=Aspect!G5,G5<>\"\"),\"\")","v":""}]
["OPT-0032","Evocam",null,null,null,"Afficher",0,null,null,null,null,null,null,{"$f":"IF('Choix de l''instrument '!$C$3=\"Aspect\",AND('Choix de l''instrument '!$D$3>=Aspect!G6,G6<>\"\"),\"\")","v":""}]
["OPT-0033","Evocam",null,null,null,"Afficher",0,null,null,null,null,null,null,{"$f":"IF('Choix de l''instrument '!$C$3=\"Aspect\",AND('Choix de l''instrument '!$D$3>=Aspect!G7,G7<>\"\"),\"\")","v":""}]
["THE.101","Dynascope",null,null,null,"Afficher",0,null,null,null,null,null,null,{"$f":"IF('Choix de l''instrument '!$C$3=\"Aspect\",AND('Choix de l''instrument '!$D$3>=Aspect!G8,G8<>\"\"),\"\")","v":""}]
["THE.132","Dynascope",null,null,null,"Afficher",0,null,null,null,null,null,null,{"$f":"IF('Choix de l''instrument '!$C$3=\"Aspect\",AND('Choix de l''instrument '!$D$3>=Aspect!G9,G9<>\"\"),\"\")","v":""}]
["SQ.013","Dynascope",null,null,null,"Afficher",0,null,null,null,null,null,null,{"$f":"IF('Choix de l''instrument '!$C$3=\"Aspect\",AND('Choix de l''instrument '!$D$3>=Aspect!G10,G10<>\"\"),\"\")","v":""}]
["CE.221","Dynascope",null,null,null,"Afficher",0,null,null,null,null,null,null,{"$f":"IF('Choix de l''instrument '!$C$3=\"Aspect\",AND('Choix de l''instrument '!$D$3>=Aspect!G11,G11<>\"\"),\"\")","v":""}]
["CE.185","Dynascope",null,null,null,"Afficher",0,null,null,null,null,null,null,{"$f":"IF('Choix de l''instrument '!$C$3=\"Aspect\",AND('Choix de l''instrument '!$D$3>=Aspect!G12,G12<>\"\"),\"\")","v":""}]
["CE.169","Dynascope",null,null,null,"Afficher",0,null,null,null,null,null,null,{"$f":"IF('Choix de l''instrument '!$C$3=\"Aspect\",AND('Choix de l''instrument '!$D$3>=Aspect!G13,G13<>\"\"),\"\")","v":""}]
["EN.092","Dynascope",null,null,null,"Afficher",0,null,null,null,null,null,null,{"$f":"IF('Choix de l''instrument '!$C$3=\"Aspect\",AND('Choix de l''instrument '!$D$3>=Aspect!G14,G14<>\"\"),\"\")","v":""}]
["DYN-002","Dynascope",null,null,null,"Afficher",0,null,null,null,null,null,null,{"$f":"IF('Choix de l''instrument '!$C$3=\"Aspect\",AND('Choix de l''instrument '!$D$3>=Aspect!G15,G15<>\"\"),\"\")","v":""}]
["DYN-001","Dynascope",null,null,null,"Afficher",0,null,null,null,null,null,null,{"$f":"IF('Choix de l''instrument '!$C$3=\"Aspect\",AND('Choix de l''instrument '!$D$3>=Aspect!G16,G16<>\"\"),\"\")","v":""}]
["ED.106","Dynascope",null,null,null,"Afficher",0,null,null,null,null,null,null,{"$f":"IF('Choix de l''instrument '!$C$3=\"Aspect\",AND('Choix de l''instrument '!$D$3>=Aspect!G17,G17<>\"\"),\"\")","v":""}]
["M.115","Microscope",null,null,null,"Afficher",0,null,null,null,null,null,null,{"$f":"IF('Choix de l''instrument '!$C$3=\"Aspect\",AND('Choix de l''instrument '!$D$3>=Aspect!G18,G18<>\"\"),\"\")","v":""}]
["MICRO-001","Microscope",null,null,null,"Afficher",0,null,null,null,null,null,null,{"$f":"IF('Choix de l''instrument '!$C$3=\"Aspect\",AND('Choix de l''instrument '!$D$3>=Aspect!G19,G19<>\"\"),\"\")","v":""}]
["CAT.073","Microscope",null,null,null,"Afficher",0,null,null,null,null,null,null,{"$f":"IF('Choix de l''instrument '!$C$3=\"Aspect\",AND('Choix de l''instrument '!$D$3>=Aspect!G20,G20<>\"\"),\"\")","v":""}]
["CF.038","Microscope",48,null,null,"Afficher",0,null,null,null,null,null,null,{"$f":"IF('Choix de l''instrument '!$C$3=\"Aspect\",AND('Choix de l''instrument '!$D$3>=Aspect!G21,G21<>\"\"),\"\")","v":""}]
["MICRO-243","Microscope de mesure",null,null,null,"Afficher",1E-4,null,null,null,null,null,null,{"$f":"IF('Choix de l''instrument '!$C$3=\"Aspect\",AND('Choix de l''instrument '!$D$3>=Aspect!G22,G22<>\"\"),\"\")","v":""}]
["MICRO-243/1","Microscope de mesure",null,null,null,"Afficher",1E-4,null,null,null,null,null,null,{"$f":"IF('Choix de l''instrument '!$C$3=\"Aspect\",AND('Choix de l''instrument '!$D$3>=Aspect!G23,G23<>\"\"),\"\")","v":""}]
["OPT-0021","Microscope de mesure",null,null,null,"Afficher",1E-4,null,null,null,null,null,null,{"$f":"IF('Choix de l''instrument '!$C$3=\"Aspect\",AND('Choix de l''instrument '!$D$3>=Aspect!G24,G24<>\"\"),\"\")","v":""}]
["OPT-0035","Microscope de mesure",null,null,null,"Afficher",1E-4,null,null,null,null,null,null,{"$f":"IF('Choix de l''instrument '!$C$3=\"Aspect\",AND('Choix de l''instrument '!$D$3>=Aspect!G25,G25<>\"\"),\"\")","v":""}]
["OPT-0034","Microscope de mesure",null,null,null,"Afficher",1E-4,null,null,null,null,null,null,{"$f":"IF('Choix de l''instrument '!$C$3=\"Aspect\",AND('Choix de l''instrument '!$D$3>=Aspect!G26,G26<>\"\"),\"\")","v":""}]
["CF.200","Microscope de mesure",null,null,null,"Afficher",1E-4,null,null,null,null,null,null,{"$f":"IF('Choix de l''instrument '!$C$3=\"Aspect\",AND('Choix de l''instrument '!$D$3>=Aspect!G27,G27<>\"\"),\"\")","v":""}]
["CF.317","Microscope de mesure",null,null,null,"Afficher",1E-4,null,null,null,null,null,null,{"$f":"IF('Choix de l''instrument '!$C$3=\"Aspect\",AND('Choix de l''instrument '!$D$3>=Aspect!G28,G28<>\"\"),\"\")","v":""}]
["OPT-0024","Binoculaire",null,null,null,"Afficher",0,null,null,null,null,null,null,{"$f":"IF('Choix de l''instrument '!$C$3=\"Aspect\",AND('Choix de l''instrument '!$D$3>=Aspect!G29,G29<>\"\"),\"\")","v":""}]
["OPT-0013","Binoculaire",null,null,null,"Afficher",0,null,null,null,null,null,null,{"$f":"IF('Choix de l''instrument '!$C$3=\"Aspect\",AND('Choix de l''instrument '!$D$3>=Aspect!G30,G30<>\"\"),\"\")","v":""}]
["OPT-0012","Binoculaire",null,null,null,"Afficher",0,null,null,null,null,null,null,{"$f":"IF('Choix de l''instrument '!$C$3=\"Aspect\",AND('Choix de l''instrument '!$D$3>=Aspect!G31,G31<>\"\"),\"\")","v":""}]
["THE.038","Binoculaire",null,null,null,"Afficher",0,null,null,null,null,null,null,{"$f":"IF('Choix de l''instrument '!$C$3=\"Aspect\",AND('Choix de l''instrument '!$D$3>=Aspect!G32,G32<>\"\"),\"\")","v":""}]
["THE.036","Binoculaire",null,null,null,"Afficher",0,null,null,null,null,null,null,{"$f":"IF('Choix de l''instrument '!$C$3=\"Aspect\",AND('Choix de l''instrument '!$D$3>=Aspect!G33,G33<>\"\"),\"\")","v":""}]
["THE.034","Binoculaire",null,null,null,"Afficher",0,null,null,null,null,null,null,{"$f":"IF('Choix de l''instrument '!$C$3=\"Aspect\",AND('Choix de l''instrument '!$D$3>=Aspect!G34,G34<>\"\"),\"\")","v":""}]
["CE.247","Binoculaire",null,null,null,"Afficher",0,null,null,null,null,null,null,{"$f":"IF('Choix de l''instrument '!$C$3=\"Aspect\",AND('Choix de l''instrument '!$D$3>=Aspect!G35,G35<>\"\"),\"\")","v":""}]
["BIN-117","Binoculaire",null,null,null,"Afficher",0,null,null,null,null,null,null,{"$f":"IF('Choix de l''instrument '!$C$3=\"Aspect\",AND('Choix de l''instrument '!$D$3>=Aspect!G36,G36<>\"\"),\"\")","v":""}]
["BIN-001","Binoculaire",null,null,null,"Afficher",0,null,null,null,null,null,null,{"$f":"IF('Choix de l''instrument '!$C$3=\"Aspect\",AND('Choix de l''instrument '!$D$3>=Aspect!G37,G37<>\"\"),\"\")","v":""}]
["ED.121","Binoculaire",null,null,null,"Afficher",0,null,null,null,null,null,null,{"$f":"IF('Choix de l''instrument '!$C$3=\"Aspect\",AND('Choix de l''instrument '!$D$3>=Aspect!G38,G38<>\"\"),\"\")","v":""}]
["CF.403","Binoculaire",null,null,null,"Afficher",0,null,null,null,null,null,null,{"$f":"IF('Choix de l''instrument '!$C$3=\"Aspect\",AND('Choix de l''instrument '!$D$3>=Aspect!G39,G39<>\"\"),\"\")","v":""}]
["CF.459","Binoculaire",null,null,null,"Afficher",0,null,null,null,null,null,null,{"$f":"IF('Choix de l''instrument '!$C$3=\"Aspect\",AND('Choix de l''instrument '!$D$3>=Aspect!G40,G40<>\"\"),\"\")","v":""}]
["CF.190","Binoculaire",null,null,null,"Afficher",0,null,null,null,null,null,null,{"$f":"IF('Choix de l''instrument '!$C$3=\"Aspect\",AND('Choix de l''instrument '!$D$3>=Aspect!G41,G41<>\"\"),\"\")","v":""}]
["CF.322","Binoculaire",null,null,null,"Afficher",0,null,null,null,null,null,null,{"$f":"IF('Choix de l''instrument '!$C$3=\"Aspect\",AND('Choix de l''instrument '!$D$3>=Aspect!G42,G42<>\"\"),\"\")","v":""}]
["CF.323","Binoculaire",null,null,null,"Afficher",0,null,null,null,null,null,null,{"$f":"IF('Choix de l''instrument '!$C$3=\"Aspect\",AND('Choix de l''instrument '!$D$3>=Aspect!G43,G43<>\"\"),\"\")","v":""}]
[]
[]
[]
[]
[]
[]
[]
[]
[]
[]
[]
[]
[]
[]
[]
[]
[]
[]
[]
[]
[]
[]
[]
[]
[]
[]
[]
[]
[]
[]
[]
[]
[]
[]
[]
[]
[]
[]
[]
[]
[]
[]
[]
[]
[]
[]
[]
[]
[]
[]
[]
[]
[null,null,null,null,null,null,null,null,null,null,null,null,null,{"$f":"IF('Choix de l''instrument '!$C$3=\"Masse\",AND('Choix de l''instrument '!$D$3>=Pesage!E96,E96<>\"\"),\"\")","v":""}]
[null,null,null,null,null,null,null,null,null,null,null,null,null,{"$f":"IF('Choix de l''instrument '!$C$3=\"Masse\",AND('Choix de l''instrument '!$D$3>=Pesage!E97,E97<>\"\"),\"\")","v":""}]
[null,null,null,null,null,null,null,null,null,null,null,null,null,{"$f":"IF('Choix de l''instrument '!$C$3=\"Masse\",AND('Choix de l''instrument '!$D$3>=Pesage!E98,E98<>\"\"),\"\")","v":""}]
[null,null,null,null,null,null,null,null,null,null,null,null,null,{"$f":"IF('Choix de l''instrument '!$C$3=\"Masse\",AND('Choix de l''instrument '!$D$3>=Pesage!E99,E99<>\"\"),\"\")","v":""}]
[null,null,null,null,null,null,null,null,null,null,null,null,null,{"$f":"IF('Choix de l''instrument '!$C$3=\"Masse\",AND('Choix de l''instrument '!$D$3>=Pesage!E100,E100<>\"\"),\"\")","v":""}]
[null,null,null,null,null,null,null,null,null,null,null,null,null,{"$f":"IF('Choix de l''instrument '!$C$3=\"Masse\",AND('Choix de l''instrument '!$D$3>=Pesage!E101,E101<>\"\"),\"\")","v":""}]

{"sheet":"Conductivité","index":6,"n_rows":7,"n_cols":14,"rows_kept":7,"cut":false,"hidden":false,"merged":[]}
["Conductivité"]
[null,null,null,null,null,null,"résolution g",null,null,null,null,null,null,"Résultat critère IT"]
["CF.053","Conductimètre",null,null,null,"Afficher",null,null,null,null,null,null,null,{"$f":"IF('Choix de l''instrument '!$C$3=\"Conductivité\",AND('Choix de l''instrument '!$D$3>=Conductivité!G3,G3<>\"\"),\"\")","v":""}]
["ELE-0003","Conductimètre",null,null,null,"Afficher",null,null,null,null,null,null,null,{"$f":"IF('Choix de l''instrument '!$C$3=\"Conductivité\",AND('Choix de l''instrument '!$D$3>=Conductivité!G4,G4<>\"\"),\"\")","v":""}]
["COND-002","Conductimètre",null,null,null,"Afficher",null,null,null,null,null,null,null,{"$f":"IF('Choix de l''instrument '!$C$3=\"Conductivité\",AND('Choix de l''instrument '!$D$3>=Conductivité!G5,G5<>\"\"),\"\")","v":""}]
["COND-001","Conductimètre","Cond 3210",null,null,"Afficher",null,null,null,null,null,null,null,{"$f":"IF('Choix de l''instrument '!$C$3=\"Conductivité\",AND('Choix de l''instrument '!$D$3>=Conductivité!G6,G6<>\"\"),\"\")","v":""}]
["CF.457","Contrôleur de conductivite",null,null,null,"Afficher",null,null,null,null,null,null,null,{"$f":"IF('Choix de l''instrument '!$C$3=\"Conductivité\",AND('Choix de l''instrument '!$D$3>=Conductivité!G7,G7<>\"\"),\"\")","v":""}]

{"sheet":"Couple","index":7,"n_rows":101,"n_cols":14,"rows_kept":101,"cut":false,"hidden":false,"merged":[]}
["Couple"]
[null,null,null,null,null,null,"résolution g",null,null,null,null,null,null,"Résultat critère IT"]
["SQ.115","Tournevis dynamométrique à déclenchement","0,3 / 1,2 N.m",null,null,"Afficher",0.1,null,null,null,null,null,null,{"$f":"IF('Choix de l''instrument '!$C$3=\"Couple\",AND('Choix de l''instrument '!$D$3>=Couple!G3,G3<>\"\"),\"\")","v":""}]
["SQ.115/1","Tournevis dynamométrique à déclenchement","0,3 / 1,2 N.m",null,null,"Afficher",0.2,null,null,null,null,null,null,{"$f":"IF('Choix de l''instrument '!$C$3=\"Couple\",AND('Choix de l''instrument '!$D$3>=Couple!G4,G4<>\"\"),\"\")","v":""}]
["TDYN-114","Tournevis dynamométrique à déclenchement","4 / 20 cN.m",null,null,"Afficher",0.3,null,null,null,null,null,null,{"$f":"IF('Choix de l''instrument '!$C$3=\"Couple\",AND('Choix de l''instrument '!$D$3>=Couple!G5,G5<>\"\"),\"\")","v":""}]
["TDYN-003","Tournevis dynamométrique à déclenchement","4 / 20 cN.m",null,null,"Afficher",0.1,null,null,null,null,null,null,{"$f":"IF('Choix de l''instrument '!$C$3=\"Couple\",AND('Choix de l''instrument '!$D$3>=Couple!G6,G6<>\"\"),\"\")","v":""}]
["TDYN-002","Tournevis dynamométrique à déclenchement","4 / 20 cN.m",null,null,"Afficher",0.2,null,null,null,null,null,null,{"$f":"IF('Choix de l''instrument '!$C$3=\"Couple\",AND('Choix de l''instrument '!$D$3>=Couple!G7,G7<>\"\"),\"\")","v":""}]
["CAT.139","Tournevis dynamométrique à déclenchement","10 / 20 cN.m",null,null,"Afficher",0.3,null,null,null,null,null,null,{"$f":"IF('Choix de l''instrument '!$C$3=\"Couple\",AND('Choix de l''instrument '!$D$3>=Couple!G8,G8<>\"\"),\"\")","v":""}]
["CAT.169","Tournevis dynamométrique à déclenchement","4 / 20 cN.m",null,null,"Afficher",0.1,null,null,null,null,null,null,{"$f":"IF('Choix de l''instrument '!$C$3=\"Couple\",AND('Choix de l''instrument '!$D$3>=Couple!G9,G9<>\"\"),\"\")","v":""}]
["DYN-0004","Tournevis dynamométrique à déclenchement","4 / 20 cN.m",null,null,"Afficher",0.2,null,null,null,null,null,null,{"$f":"IF('Choix de l''instrument '!$C$3=\"Couple\",AND('Choix de l''instrument '!$D$3>=Couple!G10,G10<>\"\"),\"\")","v":""}]
["DYN-0003","Tournevis dynamométrique à déclenchement","4 / 20 cN.m",null,null,"Afficher",0.3,null,null,null,null,null,null,{"$f":"IF('Choix de l''instrument '!$C$3=\"Couple\",AND('Choix de l''instrument '!$D$3>=Couple!G11,G11<>\"\"),\"\")","v":""}]
["TDYN-001","Tournevis dynamométrique à lecture directe","4 / 20 cN.m",null,null,"Afficher",0.1,null,null,null,null,null,null,{"$f":"IF('Choix de l''instrument '!$C$3=\"Couple\",AND('Choix de l''instrument '!$D$3>=Couple!G12,G12<>\"\"),\"\")","v":""}]
["DYN-0005","Tournevis dynamométrique numérique","20 / 100 cN.m",null,null,"Afficher",0.2,null,null,null,null,null,null,{"$f":"IF('Choix de l''instrument '!$C$3=\"Couple\",AND('Choix de l''instrument '!$D$3>=Couple!G13,G13<>\"\"),\"\")","v":""}]
["FOR-0017","Dynamomètre","0 / 50 kg",null,null,"Afficher",0.3,null,null,null,null,null,null,{"$f":"IF('Choix de l''instrument '!$C$3=\"Couple\",AND('Choix de l''instrument '!$D$3>=Couple!G14,G14<>\"\"),\"\")","v":""}]
["FOR-0016","Dynamomètre","0 / 500 N",null,null,"Afficher",0.1,null,null,null,null,null,null,{"$f":"IF('Choix de l''instrument '!$C$3=\"Couple\",AND('Choix de l''instrument '!$D$3>=Couple!G15,G15<>\"\"),\"\")","v":""}]
["SQ.062","Dynamomètre","0 / 50 kg",null,null,"Afficher",0.2,null,null,null,null,null,null,{"$f":"IF('Choix de l''instrument '!$C$3=\"Couple\",AND('Choix de l''instrument '!$D$3>=Couple!G16,G16<>\"\"),\"\")","v":""}]
["SQ.025A","Dynamomètre","0 / 50 kgf",null,null,"Afficher",0.3,null,null,null,null,null,null,{"$f":"IF('Choix de l''instrument '!$C$3=\"Couple\",AND('Choix de l''instrument '!$D$3>=Couple!G17,G17<>\"\"),\"\")","v":""}]
["DYN-005","Dynamomètre","30 / 300 N",null,null,"Afficher",0.1,null,null,null,null,null,null,{"$f":"IF('Choix de l''instrument '!$C$3=\"Couple\",AND('Choix de l''instrument '!$D$3>=Couple!G18,G18<>\"\"),\"\")","v":""}]
["DYN-004","Dynamomètre","30 / 300 N",null,null,"Afficher",null,null,null,null,null,null,null,{"$f":"IF('Choix de l''instrument '!$C$3=\"Couple\",AND('Choix de l''instrument '!$D$3>=Couple!G19,G19<>\"\"),\"\")","v":""}]
["DYN-0008","Dynamomètre","30 / 300 N",null,null,"Afficher",null,null,null,null,null,null,null,{"$f":"IF('Choix de l''instrument '!$C$3=\"Couple\",AND('Choix de l''instrument '!$D$3>=Couple!G20,G20<>\"\"),\"\")","v":""}]
["THE.118","Clé dynamométrique à déclenchement","0,2 / 2 N.m",null,null,"Afficher",null,null,null,null,null,null,null,{"$f":"IF('Choix de l''instrument '!$C$3=\"Couple\",AND('Choix de l''instrument '!$D$3>=Couple!G21,G21<>\"\"),\"\")","v":""}]
["SQ.049","Clé dynamométrique à déclenchement","0,2 / 2 N.m",null,null,"Afficher",null,null,null,null,null,null,null,{"$f":"IF('Choix de l''instrument '!$C$3=\"Couple\",AND('Choix de l''instrument '!$D$3>=Couple!G22,G22<>\"\"),\"\")","v":""}]
["DYN-0001","Clé dynamométrique à déclenchement","0,5 / 2,5 N.m",null,null,"Afficher",null,null,null,null,null,null,null,{"$f":"IF('Choix de l''instrument '!$C$3=\"Couple\",AND('Choix de l''instrument '!$D$3>=Couple!G23,G23<>\"\"),\"\")","v":""}]
["DYN-0002","Clé dynamométrique à déclenchement","2 / 10 N.m",null,null,"Afficher",null,null,null,null,null,null,null,{"$f":"IF('Choix de l''instrument '!$C$3=\"Couple\",AND('Choix de l''instrument '!$D$3>=Couple!G24,G24<>\"\"),\"\")","v":""}]
["DYN-0007","Clé dynamométrique à déclenchement","2 / 10 N.m",null,null,"Afficher",null,null,null,null,null,null,null,{"$f":"IF('Choix de l''instrument '!$C$3=\"Couple\",AND('Choix de l''instrument '!$D$3>=Couple!G25,G25<>\"\"),\"\")","v":""}]
["DYN-0006","Clé dynamométrique à déclenchement","0,5 / 2,5 N.m",null,null,"Afficher",null,null,null,null,null,null,null,{"$f":"IF('Choix de l''instrument '!$C$3=\"Couple\",AND('Choix de l''instrument '!$D$3>=Couple!G26,G26<>\"\"),\"\")","v":""}]
["EC.025","Clé dynamométrique à lecture directe","27 / 135 N.m",null,null,"Afficher",null,null,null,null,null,null,null,{"$f":"IF('Choix de l''instrument '!$C$3=\"Couple\",AND('Choix de l''instrument '!$D$3>=Couple!G27,G27<>\"\"),\"\")","v":""}]
[]
[]
[]
[]
[]
[]
[]
[]
[]
[]
[]
[]
[]
[]
[]
[]
[]
[]
[]
[]
[]
[]
[]
[]
[]
[]
[]
[]
[]
[]
[]
[]
[]
[]
[]
[]
[]
[]
[]
[]
[]
[]
[]
[]
[]
[]
[]
[]
[]
[]
[]
[]
[]
[]
[]
[]
[]
[]
[]
[]
[]
[]
[]
[]
[]
[]
[]
[]
[null,null,null,null,null,null,null,null,null,null,null,null,null,{"$f":"IF('Choix de l''instrument '!$C$3=\"Masse\",AND('Choix de l''instrument '!$D$3>=Pesage!E96,E96<>\"\"),\"\")","v":""}]
[null,null,null,null,null,null,null,null,null,null,null,null,null,{"$f":"IF('Choix de l''instrument '!$C$3=\"Masse\",AND('Choix de l''instrument '!$D$3>=Pesage!E97,E97<>\"\"),\"\")","v":""}]
[null,null,null,null,null,null,null,null,null,null,null,null,null,{"$f":"IF('Choix de l''instrument '!$C$3=\"Masse\",AND('Choix de l''instrument '!$D$3>=Pesage!E98,E98<>\"\"),\"\")","v":""}]
[null,null,null,null,null,null,null,null,null,null,null,null,null,{"$f":"IF('Choix de l''instrument '!$C$3=\"Masse\",AND('Choix de l''instrument '!$D$3>=Pesage!E99,E99<>\"\"),\"\")","v":""}]
[null,null,null,null,null,null,null,null,null,null,null,null,null,{"$f":"IF('Choix de l''instrument '!$C$3=\"Masse\",AND('Choix de l''instrument '!$D$3>=Pesage!E100,E100<>\"\"),\"\")","v":""}]
[null,null,null,null,null,null,null,null,null,null,null,null,null,{"$f":"IF('Choix de l''instrument '!$C$3=\"Masse\",AND('Choix de l''instrument '!$D$3>=Pesage!E101,E101<>\"\"),\"\")","v":""}]

{"sheet":"Débit","index":8,"n_rows":101,"n_cols":14,"rows_kept":101,"cut":false,"hidden":false,"merged":[]}
["Débit"]
[null,null,null,null,null,null,"résolution g",null,null,null,null,null,null,"Résultat critère IT"]
["POMP-001","Pompe",null,null,null,"Afficher",0.1,null,null,null,null,null,null,{"$f":"IF('Choix de l''instrument '!$C$3=\"Débit\",AND('Choix de l''instrument '!$D$3>=Débit!G3,G3<>\"\"),\"\")","v":""}]
["DEB-0004","Pompe",null,null,null,"Afficher",0.2,null,null,null,null,null,null,{"$f":"IF('Choix de l''instrument '!$C$3=\"Débit\",AND('Choix de l''instrument '!$D$3>=Débit!G4,G4<>\"\"),\"\")","v":""}]
["DEB-0002","Débimètre","0,01 / 10 ml/min",null,null,"Afficher",0.3,null,null,null,null,null,null,{"$f":"IF('Choix de l''instrument '!$C$3=\"Débit\",AND('Choix de l''instrument '!$D$3>=Débit!G5,G5<>\"\"),\"\")","v":""}]
["DEB-0001","Débimètre","0,01 / 10 ml/min",null,null,"Afficher",0.4,null,null,null,null,null,null,{"$f":"IF('Choix de l''instrument '!$C$3=\"Débit\",AND('Choix de l''instrument '!$D$3>=Débit!G6,G6<>\"\"),\"\")","v":""}]
["DEB 004","Débimètre","0 / 160 l/min",null,null,"Afficher",null,null,null,null,null,null,null,{"$f":"IF('Choix de l''instrument '!$C$3=\"Débit\",AND('Choix de l''instrument '!$D$3>=Débit!G7,G7<>\"\"),\"\")","v":""}]
["DEB-011","Débimètre","0 / 150",null,null,"Afficher",0.2,null,null,null,null,null,null,{"$f":"IF('Choix de l''instrument '!$C$3=\"Débit\",AND('Choix de l''instrument '!$D$3>=Débit!G8,G8<>\"\"),\"\")","v":""}]
["DEB-009","Débimètre","0,01 / 10 ml/min",null,null,"Afficher",0.3,null,null,null,null,null,null,{"$f":"IF('Choix de l''instrument '!$C$3=\"Débit\",AND('Choix de l''instrument '!$D$3>=Débit!G9,G9<>\"\"),\"\")","v":""}]
["DEB-001","Débimètre volumique","1 / 15 l/min",null,null,"Afficher",0.4,null,null,null,null,null,null,{"$f":"IF('Choix de l''instrument '!$C$3=\"Débit\",AND('Choix de l''instrument '!$D$3>=Débit!G10,G10<>\"\"),\"\")","v":""}]
["DEB-002","Débimètre volumique","1 / 15 l/min",null,null,"Afficher",null,null,null,null,null,null,null,{"$f":"IF('Choix de l''instrument '!$C$3=\"Débit\",AND('Choix de l''instrument '!$D$3>=Débit!G11,G11<>\"\"),\"\")","v":""}]
["DEB-012","Débimètre volumique","2 / 20 l/min",null,null,"Afficher",null,null,null,null,null,null,null,{"$f":"IF('Choix de l''instrument '!$C$3=\"Débit\",AND('Choix de l''instrument '!$D$3>=Débit!G12,G12<>\"\"),\"\")","v":""}]
["DEB-010","Débimètre volumique",null,null,null,"Afficher",null,null,null,null,null,null,null,{"$f":"IF('Choix de l''instrument '!$C$3=\"Débit\",AND('Choix de l''instrument '!$D$3>=Débit!G13,G13<>\"\"),\"\")","v":""}]
["DEB-013","Débimètre volumique","1 / 15 l/min",null,null,"Afficher",null,null,null,null,null,null,null,{"$f":"IF('Choix de l''instrument '!$C$3=\"Débit\",AND('Choix de l''instrument '!$D$3>=Débit!G14,G14<>\"\"),\"\")","v":""}]
["DEB-005","Débimètre volumique","2 / 20 l/min",null,null,"Afficher",null,null,null,null,null,null,null,{"$f":"IF('Choix de l''instrument '!$C$3=\"Débit\",AND('Choix de l''instrument '!$D$3>=Débit!G15,G15<>\"\"),\"\")","v":""}]
["DEB-004","Débimètre volumique","1 / 15 l/min",null,null,"Afficher",null,null,null,null,null,null,null,{"$f":"IF('Choix de l''instrument '!$C$3=\"Débit\",AND('Choix de l''instrument '!$D$3>=Débit!G16,G16<>\"\"),\"\")","v":""}]
["DEB-003","Débimètre volumique","1 / 15 l/min",null,null,"Afficher",null,null,null,null,null,null,null,{"$f":"IF('Choix de l''instrument '!$C$3=\"Débit\",AND('Choix de l''instrument '!$D$3>=Débit!G17,G17<>\"\"),\"\")","v":""}]
["DEB-008","Débimètre volumique","2 / 20 l/min",null,null,"Afficher",null,null,null,null,null,null,null,{"$f":"IF('Choix de l''instrument '!$C$3=\"Débit\",AND('Choix de l''instrument '!$D$3>=Débit!G18,G18<>\"\"),\"\")","v":""}]
["DEB-007","Débimètre volumique","2 / 20 l/min",null,null,"Afficher",null,null,null,null,null,null,null,{"$f":"IF('Choix de l''instrument '!$C$3=\"Débit\",AND('Choix de l''instrument '!$D$3>=Débit!G19,G19<>\"\"),\"\")","v":""}]
["DEB-006","Débimètre volumique","2 / 20 l/min",null,null,"Afficher",null,null,null,null,null,null,null,{"$f":"IF('Choix de l''instrument '!$C$3=\"Débit\",AND('Choix de l''instrument '!$D$3>=Débit!G20,G20<>\"\"),\"\")","v":""}]
["CAP-233","Capteur de débit",null,null,null,"Afficher",null,null,null,null,null,null,null,{"$f":"IF('Choix de l''instrument '!$C$3=\"Débit\",AND('Choix de l''instrument '!$D$3>=Débit!G21,G21<>\"\"),\"\")","v":""}]
[]
[]
[]
[]
[]
[]
[]
[]
[]
[]
[]
[]
[]
[]
[]
[]
[]
[]
[]
[]
[]
[]
[]
[]
[]
[]
[]
[]
[]
[]
[]
[]
[]
[]
[]
[]
[]
[]
[]
[]
[]
[]
[]
[]
[]
[]
[]
[]
[]
[]
[]
[]
[]
[]
[]
[]
[]
[]
[]
[]
[]
[]
[]
[]
[]
[]
[]
[]
[]
[]
[]
[]
[]
[]
[null,null,null,null,null,null,null,null,null,null,null,null,null,{"$f":"IF('Choix de l''instrument '!$C$3=\"Masse\",AND('Choix de l''instrument '!$D$3>=Pesage!E96,E96<>\"\"),\"\")","v":""}]
[null,null,null,null,null,null,null,null,null,null,null,null,null,{"$f":"IF('Choix de l''instrument '!$C$3=\"Masse\",AND('Choix de l''instrument '!$D$3>=Pesage!E97,E97<>\"\"),\"\")","v":""}]
[null,null,null,null,null,null,null,null,null,null,null,null,null,{"$f":"IF('Choix de l''instrument '!$C$3=\"Masse\",AND('Choix de l''instrument '!$D$3>=Pesage!E98,E98<>\"\"),\"\")","v":""}]
[null,null,null,null,null,null,null,null,null,null,null,null,null,{"$f":"IF('Choix de l''instrument '!$C$3=\"Masse\",AND('Choix de l''instrument '!$D$3>=Pesage!E99,E99<>\"\"),\"\")","v":""}]
[null,null,null,null,null,null,null,null,null,null,null,null,null,{"$f":"IF('Choix de l''instrument '!$C$3=\"Masse\",AND('Choix de l''instrument '!$D$3>=Pesage!E100,E100<>\"\"),\"\")","v":""}]
[null,null,null,null,null,null,null,null,null,null,null,null,null,{"$f":"IF('Choix de l''instrument '!$C$3=\"Masse\",AND('Choix de l''instrument '!$D$3>=Pesage!E101,E101<>\"\"),\"\")","v":""}]

{"sheet":"Densité","index":9,"n_rows":24,"n_cols":14,"rows_kept":24,"cut":false,"hidden":false,"merged":[]}
["Densité"]
[null,null,null,null,null,null,"résolution g",null,null,null,null,null,null,"Résultat critère IT"]
["ENV.008","Densimètre","1,7 / 1,8",null,null,"Afficher",0,null,null,null,null,null,null,{"$f":"IF('Choix de l''instrument '!$C$3=\"Densité\",AND('Choix de l''instrument '!$D$3>=Densité!G3,G3<>\"\"),\"\")","v":""}]
["ENV.011","Densimètre","1,05 / 1,1",null,null,"Afficher",0,null,null,null,null,null,null,{"$f":"IF('Choix de l''instrument '!$C$3=\"Densité\",AND('Choix de l''instrument '!$D$3>=Densité!G4,G4<>\"\"),\"\")","v":""}]
["ENV.021","Densimètre","1,2 / 1,4",null,null,"Afficher",0,null,null,null,null,null,null,{"$f":"IF('Choix de l''instrument '!$C$3=\"Densité\",AND('Choix de l''instrument '!$D$3>=Densité!G5,G5<>\"\"),\"\")","v":""}]
["ENV.024","Densimètre",null,null,null,"Afficher",0,null,null,null,null,null,null,{"$f":"IF('Choix de l''instrument '!$C$3=\"Densité\",AND('Choix de l''instrument '!$D$3>=Densité!G6,G6<>\"\"),\"\")","v":""}]
["DENS-115","Densimètre","1,4 / 1,50",null,null,"Afficher",0,null,null,null,null,null,null,{"$f":"IF('Choix de l''instrument '!$C$3=\"Densité\",AND('Choix de l''instrument '!$D$3>=Densité!G7,G7<>\"\"),\"\")","v":""}]
["DEN-0017","Densimètre","1,700 / 1,800",null,null,"Afficher",0,null,null,null,null,null,null,{"$f":"IF('Choix de l''instrument '!$C$3=\"Densité\",AND('Choix de l''instrument '!$D$3>=Densité!G8,G8<>\"\"),\"\")","v":""}]
["DEN-0002","Densimètre","1600 / 1700",null,null,"Afficher",0,null,null,null,null,null,null,{"$f":"IF('Choix de l''instrument '!$C$3=\"Densité\",AND('Choix de l''instrument '!$D$3>=Densité!G9,G9<>\"\"),\"\")","v":""}]
["DEN-0001","Densimètre","1600 / 1700",null,null,"Afficher",0,null,null,null,null,null,null,{"$f":"IF('Choix de l''instrument '!$C$3=\"Densité\",AND('Choix de l''instrument '!$D$3>=Densité!G10,G10<>\"\"),\"\")","v":""}]
["DEN-0003","Densimètre","1,2 / 1,4",null,null,"Afficher",0,null,null,null,null,null,null,{"$f":"IF('Choix de l''instrument '!$C$3=\"Densité\",AND('Choix de l''instrument '!$D$3>=Densité!G11,G11<>\"\"),\"\")","v":""}]
["DEN-0013","Densimètre","1,700 / 1,800",null,null,"Afficher",0,null,null,null,null,null,null,{"$f":"IF('Choix de l''instrument '!$C$3=\"Densité\",AND('Choix de l''instrument '!$D$3>=Densité!G12,G12<>\"\"),\"\")","v":""}]
["DEN-0012","Densimètre","1,700 / 1,800",null,null,"Afficher",0,null,null,null,null,null,null,{"$f":"IF('Choix de l''instrument '!$C$3=\"Densité\",AND('Choix de l''instrument '!$D$3>=Densité!G13,G13<>\"\"),\"\")","v":""}]
["DEN-0011","Densimètre","1,400 / 1,500",null,null,"Afficher",0,null,null,null,null,null,null,{"$f":"IF('Choix de l''instrument '!$C$3=\"Densité\",AND('Choix de l''instrument '!$D$3>=Densité!G14,G14<>\"\"),\"\")","v":""}]
["DEN-0016","Densimètre","1,700 / 1,800",null,null,"Afficher",0,null,null,null,null,null,null,{"$f":"IF('Choix de l''instrument '!$C$3=\"Densité\",AND('Choix de l''instrument '!$D$3>=Densité!G15,G15<>\"\"),\"\")","v":""}]
["DEN-0015","Densimètre","1,700 / 1,800",null,null,"Afficher",0,null,null,null,null,null,null,{"$f":"IF('Choix de l''instrument '!$C$3=\"Densité\",AND('Choix de l''instrument '!$D$3>=Densité!G16,G16<>\"\"),\"\")","v":""}]
["DEN-0014","Densimètre","1,700 / 1,800",null,null,"Afficher",0,null,null,null,null,null,null,{"$f":"IF('Choix de l''instrument '!$C$3=\"Densité\",AND('Choix de l''instrument '!$D$3>=Densité!G17,G17<>\"\"),\"\")","v":""}]
["DEN-0010","Densimètre","1,400 / 1,500",null,null,"Afficher",null,null,null,null,null,null,null,{"$f":"IF('Choix de l''instrument '!$C$3=\"Densité\",AND('Choix de l''instrument '!$D$3>=Densité!G18,G18<>\"\"),\"\")","v":""}]
["DEN-0006","Densimètre","1,7 / 1,8",null,null,"Afficher",null,null,null,null,null,null,null,{"$f":"IF('Choix de l''instrument '!$C$3=\"Densité\",AND('Choix de l''instrument '!$D$3>=Densité!G19,G19<>\"\"),\"\")","v":""}]
["DEN-0005","Densimètre","1,7 / 1,8",null,null,"Afficher",null,null,null,null,null,null,null,{"$f":"IF('Choix de l''instrument '!$C$3=\"Densité\",AND('Choix de l''instrument '!$D$3>=Densité!G20,G20<>\"\"),\"\")","v":""}]
["DEN-0004","Densimètre","1,4 / 1,5",null,null,"Afficher",null,null,null,null,null,null,null,{"$f":"IF('Choix de l''instrument '!$C$3=\"Densité\",AND('Choix de l''instrument '!$D$3>=Densité!G21,G21<>\"\"),\"\")","v":""}]
["DEN-0009","Densimètre","1,000 / 1,200",null,null,"Afficher",null,null,null,null,null,null,null,{"$f":"IF('Choix de l''instrument '!$C$3=\"Densité\",AND('Choix de l''instrument '!$D$3>=Densité!G22,G22<>\"\"),\"\")","v":""}]
["DEN-0008","Densimètre","1,000 / 1,200",null,null,"Afficher",null,null,null,null,null,null,null,{"$f":"IF('Choix de l''instrument '!$C$3=\"Densité\",AND('Choix de l''instrument '!$D$3>=Densité!G23,G23<>\"\"),\"\")","v":""}]
["DEN-0007","Densimètre","1,0 / 1,2",null,null,"Afficher",null,null,null,null,null,null,null,{"$f":"IF('Choix de l''instrument '!$C$3=\"Densité\",AND('Choix de l''instrument '!$D$3>=Densité!G24,G24<>\"\"),\"\")","v":""}]

{"sheet":"Détection_gaz","index":10,"n_rows":14,"n_cols":14,"rows_kept":14,"cut":false,"hidden":false,"merged":[]}
["Détection_gaz"]
[null,null,null,null,null,null,"résolution g",null,null,null,null,null,null,"Résultat critère IT"]
["DET-0008","Détecteur de gaz",null,null,null,"Afficher",0.1,null,null,null,null,null,null,{"$f":"IF('Choix de l''instrument '!$C$3=\"Détection_gaz\",AND('Choix de l''instrument '!$D$3>=Détection_gaz!G3,G3<>\"\"),\"\")","v":""}]
["DET-0007","Détecteur de gaz",null,null,null,"Afficher",0.1,null,null,null,null,null,null,{"$f":"IF('Choix de l''instrument '!$C$3=\"Détection_gaz\",AND('Choix de l''instrument '!$D$3>=Détection_gaz!G4,G4<>\"\"),\"\")","v":""}]
["DET-0006","Détecteur de gaz",null,null,null,"Afficher",0.1,null,null,null,null,null,null,{"$f":"IF('Choix de l''instrument '!$C$3=\"Détection_gaz\",AND('Choix de l''instrument '!$D$3>=Détection_gaz!G5,G5<>\"\"),\"\")","v":""}]
["DET-0010","Détecteur de gaz",null,null,null,"Afficher",0.1,null,null,null,null,null,null,{"$f":"IF('Choix de l''instrument '!$C$3=\"Détection_gaz\",AND('Choix de l''instrument '!$D$3>=Détection_gaz!G6,G6<>\"\"),\"\")","v":""}]
["DET-001","Détecteur de gaz",null,null,null,"Afficher",0.1,null,null,null,null,null,null,{"$f":"IF('Choix de l''instrument '!$C$3=\"Détection_gaz\",AND('Choix de l''instrument '!$D$3>=Détection_gaz!G7,G7<>\"\"),\"\")","v":""}]
["DET-0009","Détecteur de gaz",null,null,null,"Afficher",0.1,null,null,null,null,null,null,{"$f":"IF('Choix de l''instrument '!$C$3=\"Détection_gaz\",AND('Choix de l''instrument '!$D$3>=Détection_gaz!G8,G8<>\"\"),\"\")","v":""}]
["DET-0005","Détecteur de gaz",null,null,null,"Afficher",0.1,null,null,null,null,null,null,{"$f":"IF('Choix de l''instrument '!$C$3=\"Détection_gaz\",AND('Choix de l''instrument '!$D$3>=Détection_gaz!G9,G9<>\"\"),\"\")","v":""}]
["DET-0001","Détecteur de gaz",null,null,null,"Afficher",0.1,null,null,null,null,null,null,{"$f":"IF('Choix de l''instrument '!$C$3=\"Détection_gaz\",AND('Choix de l''instrument '!$D$3>=Détection_gaz!G10,G10<>\"\"),\"\")","v":""}]
["DET-0004","Détecteur de gaz",null,null,null,"Afficher",null,null,null,null,null,null,null,{"$f":"IF('Choix de l''instrument '!$C$3=\"Détection_gaz\",AND('Choix de l''instrument '!$D$3>=Détection_gaz!G11,G11<>\"\"),\"\")","v":""}]
["DET-0003","Détecteur de gaz",null,null,null,"Afficher",null,null,null,null,null,null,null,{"$f":"IF('Choix de l''instrument '!$C$3=\"Détection_gaz\",AND('Choix de l''instrument '!$D$3>=Détection_gaz!G12,G12<>\"\"),\"\")","v":""}]
["DET-0011","Détecteur de gaz",null,null,null,"Afficher",null,null,null,null,null,null,null,{"$f":"IF('Choix de l''instrument '!$C$3=\"Détection_gaz\",AND('Choix de l''instrument '!$D$3>=Détection_gaz!G13,G13<>\"\"),\"\")","v":""}]
["DET-0012","Détecteur de gaz",null,null,null,"Afficher"]

{"sheet":"Diamètre_exter","index":11,"n_rows":747,"n_cols":14,"rows_kept":747,"cut":false,"hidden":false,"merged":[]}
["Diamètre_exter"]
[null,null,null,null,null,null,"résolution g",null,null,null,null,null,null,"Résultat critère IT"]
["M.233","Micromètre d'extérieur à vis","0 / 25 mm",null,null,"Afficher",1E-4,null,null,null,null,null,null,{"$f":"IF('Choix de l''instrument '!$C$3=\"Diamètre_exter\",AND('Choix de l''instrument '!$D$3>=Diamètre_exter!G3,G3<>\"\"),\"\")","v":""}]
["M.282","Micromètre d'extérieur à vis","0 / 25 mm",null,null,"Afficher",0,null,null,null,null,null,null,{"$f":"IF('Choix de l''instrument '!$C$3=\"Diamètre_exter\",AND('Choix de l''instrument '!$D$3>=Diamètre_exter!G4,G4<>\"\"),\"\")","v":""}]
["M.259","Micromètre d'extérieur à vis","75 / 100 mm",null,null,"Afficher",1E-3,null,null,null,null,null,null,{"$f":"IF('Choix de l''instrument '!$C$3=\"Diamètre_exter\",AND('Choix de l''instrument '!$D$3>=Diamètre_exter!G5,G5<>\"\"),\"\")","v":""}]
["M.084","Micromètre d'extérieur à vis","50 / 75 mm",null,null,"Afficher",1E-4,null,null,null,null,null,null,{"$f":"IF('Choix de l''instrument '!$C$3=\"Diamètre_exter\",AND('Choix de l''instrument '!$D$3>=Diamètre_exter!G6,G6<>\"\"),\"\")","v":""}]
["M.083","Micromètre d'extérieur à vis","25 / 50 mm",null,null,"Afficher",1E-4,null,null,null,null,null,null,{"$f":"IF('Choix de l''instrument '!$C$3=\"Diamètre_exter\",AND('Choix de l''instrument '!$D$3>=Diamètre_exter!G7,G7<>\"\"),\"\")","v":""}]
["M.082","Micromètre d'extérieur à vis","0 / 25 mm",null,null,"Afficher",1E-4,null,null,null,null,null,null,{"$f":"IF('Choix de l''instrument '!$C$3=\"Diamètre_exter\",AND('Choix de l''instrument '!$D$3>=Diamètre_exter!G8,G8<>\"\"),\"\")","v":""}]
["M.089","Micromètre d'extérieur à vis","0 / 25 mm",null,null,"Afficher",1E-4,null,null,null,null,null,null,{"$f":"IF('Choix de l''instrument '!$C$3=\"Diamètre_exter\",AND('Choix de l''instrument '!$D$3>=Diamètre_exter!G9,G9<>\"\"),\"\")","v":""}]
["M.087","Micromètre d'extérieur à vis","0 / 25 mm",null,null,"Afficher",1E-4,null,null,null,null,null,null,{"$f":"IF('Choix de l''instrument '!$C$3=\"Diamètre_exter\",AND('Choix de l''instrument '!$D$3>=Diamètre_exter!G10,G10<>\"\"),\"\")","v":""}]
["M.184B","Micromètre d'extérieur à vis","0 / 25 mm",null,null,"Afficher",1E-4,null,null,null,null,null,null,{"$f":"IF('Choix de l''instrument '!$C$3=\"Diamètre_exter\",AND('Choix de l''instrument '!$D$3>=Diamètre_exter!G11,G11<>\"\"),\"\")","v":""}]
["M.098","Micromètre d'extérieur à vis","50 / 75 mm",null,null,"Afficher",0,null,null,null,null,null,null,{"$f":"IF('Choix de l''instrument '!$C$3=\"Diamètre_exter\",AND('Choix de l''instrument '!$D$3>=Diamètre_exter!G12,G12<>\"\"),\"\")","v":""}]
["M.095","Micromètre d'extérieur à vis","0 / 50 mm",null,null,"Afficher",1E-4,null,null,null,null,null,null,{"$f":"IF('Choix de l''instrument '!$C$3=\"Diamètre_exter\",AND('Choix de l''instrument '!$D$3>=Diamètre_exter!G13,G13<>\"\"),\"\")","v":""}]
["M.022","Micromètre d'extérieur à vis","75 / 100 mm",null,null,"Afficher",1E-4,null,null,null,null,null,null,{"$f":"IF('Choix de l''instrument '!$C$3=\"Diamètre_exter\",AND('Choix de l''instrument '!$D$3>=Diamètre_exter!G14,G14<>\"\"),\"\")","v":""}]
["M.008","Micromètre d'extérieur à vis","0 / 25 mm",null,null,"Afficher",1E-4,null,null,null,null,null,null,{"$f":"IF('Choix de l''instrument '!$C$3=\"Diamètre_exter\",AND('Choix de l''instrument '!$D$3>=Diamètre_exter!G15,G15<>\"\"),\"\")","v":""}]
["M.023","Micromètre d'extérieur à vis","100 / 200 mm",null,null,"Afficher",1E-4,null,null,null,null,null,null,{"$f":"IF('Choix de l''instrument '!$C$3=\"Diamètre_exter\",AND('Choix de l''instrument '!$D$3>=Diamètre_exter!G16,G16<>\"\"),\"\")","v":""}]
["MEXT-222","Micromètre d'extérieur à vis","0 / 25 mm",null,null,"Afficher",1E-4,null,null,null,null,null,null,{"$f":"IF('Choix de l''instrument '!$C$3=\"Diamètre_exter\",AND('Choix de l''instrument '!$D$3>=Diamètre_exter!G17,G17<>\"\"),\"\")","v":""}]
["MEXT-130","Micromètre d'extérieur à vis","25 / 50 mm",null,null,"Afficher",1E-4,null,null,null,null,null,null,{"$f":"IF('Choix de l''instrument '!$C$3=\"Diamètre_exter\",AND('Choix de l''instrument '!$D$3>=Diamètre_exter!G18,G18<>\"\"),\"\")","v":""}]
["MEXT-120","Micromètre d'extérieur à vis","0 / 25 mm",null,null,"Afficher",1E-4,null,null,null,null,null,null,{"$f":"IF('Choix de l''instrument '!$C$3=\"Diamètre_exter\",AND('Choix de l''instrument '!$D$3>=Diamètre_exter!G19,G19<>\"\"),\"\")","v":""}]
["MIC 004","Micromètre d'extérieur à vis","0 / 25 mm",null,null,"Afficher",1E-4,null,null,null,null,null,null,{"$f":"IF('Choix de l''instrument '!$C$3=\"Diamètre_exter\",AND('Choix de l''instrument '!$D$3>=Diamètre_exter!G20,G20<>\"\"),\"\")","v":""}]
["MEXT-040","Micromètre d'extérieur à vis","0 / 25 mm",null,null,"Afficher",1E-4,null,null,null,null,null,null,{"$f":"IF('Choix de l''instrument '!$C$3=\"Diamètre_exter\",AND('Choix de l''instrument '!$D$3>=Diamètre_exter!G21,G21<>\"\"),\"\")","v":""}]
["MEXT-036","Micromètre d'extérieur à vis","0 / 25 mm",null,null,"Afficher",1E-4,null,null,null,null,null,null,{"$f":"IF('Choix de l''instrument '!$C$3=\"Diamètre_exter\",AND('Choix de l''instrument '!$D$3>=Diamètre_exter!G22,G22<>\"\"),\"\")","v":""}]
["MEXT-035","Micromètre d'extérieur à vis","0 / 25",null,null,"Afficher",1E-4,null,null,null,null,null,null,{"$f":"IF('Choix de l''instrument '!$C$3=\"Diamètre_exter\",AND('Choix de l''instrument '!$D$3>=Diamètre_exter!G23,G23<>\"\"),\"\")","v":""}]
["MEXT-034","Micromètre d'extérieur à vis","0 / 25",null,null,"Afficher",1E-4,null,null,null,null,null,null,{"$f":"IF('Choix de l''instrument '!$C$3=\"Diamètre_exter\",AND('Choix de l''instrument '!$D$3>=Diamètre_exter!G24,G24<>\"\"),\"\")","v":""}]
["MEXT-039","Micromètre d'extérieur à vis","0 / 25 mm",null,null,"Afficher",1E-4,null,null,null,null,null,null,{"$f":"IF('Choix de l''instrument '!$C$3=\"Diamètre_exter\",AND('Choix de l''instrument '!$D$3>=Diamètre_exter!G25,G25<>\"\"),\"\")","v":""}]
["MEXT-038","Micromètre d'extérieur à vis","0 / 25 mm",null,null,"Afficher",1E-4,null,null,null,null,null,null,{"$f":"IF('Choix de l''instrument '!$C$3=\"Diamètre_exter\",AND('Choix de l''instrument '!$D$3>=Diamètre_exter!G26,G26<>\"\"),\"\")","v":""}]
["MEXT-037","Micromètre d'extérieur à vis","0 / 25 mm",null,null,"Afficher",1E-4,null,null,null,null,null,null,{"$f":"IF('Choix de l''instrument '!$C$3=\"Diamètre_exter\",AND('Choix de l''instrument '!$D$3>=Diamètre_exter!G27,G27<>\"\"),\"\")","v":""}]
["MEXT-016","Micromètre d'extérieur à vis","0 / 25 mm",null,null,"Afficher",1E-4,null,null,null,null,null,null,{"$f":"IF('Choix de l''instrument '!$C$3=\"Diamètre_exter\",AND('Choix de l''instrument '!$D$3>=Diamètre_exter!G28,G28<>\"\"),\"\")","v":""}]
["MEXT-015","Micromètre d'extérieur à vis","0 / 25 mm",null,null,"Afficher",1E-3,null,null,null,null,null,null,{"$f":"IF('Choix de l''instrument '!$C$3=\"Diamètre_exter\",AND('Choix de l''instrument '!$D$3>=Diamètre_exter!G29,G29<>\"\"),\"\")","v":""}]
["MEXT-014","Micromètre d'extérieur à vis","0 / 25 mm",null,null,"Afficher",1E-3,null,null,null,null,null,null,{"$f":"IF('Choix de l''instrument '!$C$3=\"Diamètre_exter\",AND('Choix de l''instrument '!$D$3>=Diamètre_exter!G30,G30<>\"\"),\"\")","v":""}]
["MEXT-019","Micromètre d'extérieur à vis","0 / 25 mm",null,null,"Afficher",1E-4,null,null,null,null,null,null,{"$f":"IF('Choix de l''instrument '!$C$3=\"Diamètre_exter\",AND('Choix de l''instrument '!$D$3>=Diamètre_exter!G31,G31<>\"\"),\"\")","v":""}]
["MEXT-018","Micromètre d'extérieur à vis","0 / 25 mm",null,null,"Afficher",1E-3,null,null,null,null,null,null,{"$f":"IF('Choix de l''instrument '!$C$3=\"Diamètre_exter\",AND('Choix de l''instrument '!$D$3>=Diamètre_exter!G32,G32<>\"\"),\"\")","v":""}]
["MEXT-017","Micromètre d'extérieur à vis","0 / 25 mm",null,null,"Afficher",0,null,null,null,null,null,null,{"$f":"IF('Choix de l''instrument '!$C$3=\"Diamètre_exter\",AND('Choix de l''instrument '!$D$3>=Diamètre_exter!G33,G33<>\"\"),\"\")","v":""}]
["MEXT-013","Micromètre d'extérieur à vis","0 / 25 mm",null,null,"Afficher",1E-4,null,null,null,null,null,null,{"$f":"IF('Choix de l''instrument '!$C$3=\"Diamètre_exter\",AND('Choix de l''instrument '!$D$3>=Diamètre_exter!G34,G34<>\"\"),\"\")","v":""}]
["MEXT-009","Micromètre d'extérieur à vis","25 / 50 mm",null,null,"Afficher",1E-4,null,null,null,null,null,null,{"$f":"IF('Choix de l''instrument '!$C$3=\"Diamètre_exter\",AND('Choix de l''instrument '!$D$3>=Diamètre_exter!G35,G35<>\"\"),\"\")","v":""}]
["MEXT-008","Micromètre d'extérieur à vis","25 / 50 mm",null,null,"Afficher",1E-4,null,null,null,null,null,null,{"$f":"IF('Choix de l''instrument '!$C$3=\"Diamètre_exter\",AND('Choix de l''instrument '!$D$3>=Diamètre_exter!G36,G36<>\"\"),\"\")","v":""}]
["MEXT-012","Micromètre d'extérieur à vis","0 / 25 mm",null,null,"Afficher",1E-4,null,null,null,null,null,null,{"$f":"IF('Choix de l''instrument '!$C$3=\"Diamètre_exter\",AND('Choix de l''instrument '!$D$3>=Diamètre_exter!G37,G37<>\"\"),\"\")","v":""}]
["MEXT-011","Micromètre d'extérieur à vis","0 / 25 mm",null,null,"Afficher",1E-4,null,null,null,null,null,null,{"$f":"IF('Choix de l''instrument '!$C$3=\"Diamètre_exter\",AND('Choix de l''instrument '!$D$3>=Diamètre_exter!G38,G38<>\"\"),\"\")","v":""}]
["MEXT-010","Micromètre d'extérieur à vis","0 / 25 mm",null,null,"Afficher",1E-4,null,null,null,null,null,null,{"$f":"IF('Choix de l''instrument '!$C$3=\"Diamètre_exter\",AND('Choix de l''instrument '!$D$3>=Diamètre_exter!G39,G39<>\"\"),\"\")","v":""}]
["MEXT-020","Micromètre d'extérieur à vis","0 / 25 mm",null,null,"Afficher",1E-4,null,null,null,null,null,null,{"$f":"IF('Choix de l''instrument '!$C$3=\"Diamètre_exter\",AND('Choix de l''instrument '!$D$3>=Diamètre_exter!G40,G40<>\"\"),\"\")","v":""}]
["MEXT-030","Micromètre d'extérieur à vis","0 / 25 mm",null,null,"Afficher",1E-4,null,null,null,null,null,null,{"$f":"IF('Choix de l''instrument '!$C$3=\"Diamètre_exter\",AND('Choix de l''instrument '!$D$3>=Diamètre_exter!G41,G41<>\"\"),\"\")","v":""}]
["MEXT-029","Micromètre d'extérieur à vis","25 / 50 mm",null,null,"Afficher",0.01,null,null,null,null,null,null,{"$f":"IF('Choix de l''instrument '!$C$3=\"Diamètre_exter\",AND('Choix de l''instrument '!$D$3>=Diamètre_exter!G42,G42<>\"\"),\"\")","v":""}]
["MEXT-028","Micromètre d'extérieur à vis","0 / 25 mm",null,null,"Afficher",0.01,null,null,null,null,null,null,{"$f":"IF('Choix de l''instrument '!$C$3=\"Diamètre_exter\",AND('Choix de l''instrument '!$D$3>=Diamètre_exter!G43,G43<>\"\"),\"\")","v":""}]
["MEXT-033","Micromètre d'extérieur à vis","0 / 25",null,null,"Afficher",0.01,null,null,null,null,null,null,{"$f":"IF('Choix de l''instrument '!$C$3=\"Diamètre_exter\",AND('Choix de l''instrument '!$D$3>=Diamètre_exter!G44,G44<>\"\"),\"\")","v":""}]
["MEXT-032","Micromètre d'extérieur à vis","0 / 25 mm",null,null,"Afficher",0.01,null,null,null,null,null,null,{"$f":"IF('Choix de l''instrument '!$C$3=\"Diamètre_exter\",AND('Choix de l''instrument '!$D$3>=Diamètre_exter!G45,G45<>\"\"),\"\")","v":""}]
["MEXT-031","Micromètre d'extérieur à vis","0 / 25 mm",null,null,"Afficher",0,null,null,null,null,null,null,{"$f":"IF('Choix de l''instrument '!$C$3=\"Diamètre_exter\",AND('Choix de l''instrument '!$D$3>=Diamètre_exter!G46,G46<>\"\"),\"\")","v":""}]
["MEXT-027","Micromètre d'extérieur à vis","0 / 25 mm",null,null,"Afficher",1E-3,null,null,null,null,null,null,{"$f":"IF('Choix de l''instrument '!$C$3=\"Diamètre_exter\",AND('Choix de l''instrument '!$D$3>=Diamètre_exter!G47,G47<>\"\"),\"\")","v":""}]
["MEXT-023","Micromètre d'extérieur à vis","0 / 25 mm",null,null,"Afficher",0,null,null,null,null,null,null,{"$f":"IF('Choix de l''instrument '!$C$3=\"Diamètre_exter\",AND('Choix de l''instrument '!$D$3>=Diamètre_exter!G48,G48<>\"\"),\"\")","v":""}]
["MEXT-022","Micromètre d'extérieur à vis","0 / 25 mm",null,null,"Afficher",0,null,null,null,null,null,null,{"$f":"IF('Choix de l''instrument '!$C$3=\"Diamètre_exter\",AND('Choix de l''instrument '!$D$3>=Diamètre_exter!G49,G49<>\"\"),\"\")","v":""}]
["MEXT-021","Micromètre d'extérieur à vis","0 / 25 mm",null,null,"Afficher",0,null,null,null,null,null,null,{"$f":"IF('Choix de l''instrument '!$C$3=\"Diamètre_exter\",AND('Choix de l''instrument '!$D$3>=Diamètre_exter!G50,G50<>\"\"),\"\")","v":""}]
["MEXT-026","Micromètre d'extérieur à vis","0 / 25 mm",null,null,"Afficher",null,null,null,null,null,null,null,{"$f":"IF('Choix de l''instrument '!$C$3=\"Diamètre_exter\",AND('Choix de l''instrument '!$D$3>=Diamètre_exter!G51,G51<>\"\"),\"\")","v":""}]
["MEXT-025","Micromètre d'extérieur à vis","0 / 25 mm",null,null,"Afficher",null,null,null,null,null,null,null,{"$f":"IF('Choix de l''instrument '!$C$3=\"Diamètre_exter\",AND('Choix de l''instrument '!$D$3>=Diamètre_exter!G52,G52<>\"\"),\"\")","v":""}]
["MEXT-024","Micromètre d'extérieur à vis","0 / 25 mm",null,null,"Afficher",null,null,null,null,null,null,null,{"$f":"IF('Choix de l''instrument '!$C$3=\"Diamètre_exter\",AND('Choix de l''instrument '!$D$3>=Diamètre_exter!G53,G53<>\"\"),\"\")","v":""}]
["PA.010","Micromètre d'extérieur à vis","0 / 25 mm",null,null,"Afficher",null,null,null,null,null,null,null,{"$f":"IF('Choix de l''instrument '!$C$3=\"Diamètre_exter\",AND('Choix de l''instrument '!$D$3>=Diamètre_exter!G54,G54<>\"\"),\"\")","v":""}]
["PA.009","Micromètre d'extérieur à vis","0 / 25 mm",null,null,"Afficher",null,null,null,null,null,null,null,{"$f":"IF('Choix de l''instrument '!$C$3=\"Diamètre_exter\",AND('Choix de l''instrument '!$D$3>=Diamètre_exter!G55,G55<>\"\"),\"\")","v":""}]
["PA.021","Micromètre d'extérieur à vis","0 / 25 mm",null,null,"Afficher",null,null,null,null,null,null,null,{"$f":"IF('Choix de l''instrument '!$C$3=\"Diamètre_exter\",AND('Choix de l''instrument '!$D$3>=Diamètre_exter!G56,G56<>\"\"),\"\")","v":""}]
["PA.014","Micromètre d'extérieur à vis","0 / 25 mm",null,null,"Afficher",null,null,null,null,null,null,null,{"$f":"IF('Choix de l''instrument '!$C$3=\"Diamètre_exter\",AND('Choix de l''instrument '!$D$3>=Diamètre_exter!G57,G57<>\"\"),\"\")","v":""}]
["PA.003","Micromètre d'extérieur à vis","0 / 25 mm",null,null,"Afficher",null,null,null,null,null,null,null,{"$f":"IF('Choix de l''instrument '!$C$3=\"Diamètre_exter\",AND('Choix de l''instrument '!$D$3>=Diamètre_exter!G58,G58<>\"\"),\"\")","v":""}]
["PA.001","Micromètre d'extérieur à vis","0 / 25 mm",null,null,"Afficher",null,null,null,null,null,null,null,{"$f":"IF('Choix de l''instrument '!$C$3=\"Diamètre_exter\",AND('Choix de l''instrument '!$D$3>=Diamètre_exter!G59,G59<>\"\"),\"\")","v":""}]
["MEXT-007","Micromètre d'extérieur à vis","0 / 25 mm",null,null,"Afficher",null,null,null,null,null,null,null,{"$f":"IF('Choix de l''instrument '!$C$3=\"Diamètre_exter\",AND('Choix de l''instrument '!$D$3>=Diamètre_exter!G60,G60<>\"\"),\"\")","v":""}]
["MEXT-003","Micromètre d'extérieur à vis","25 / 50 mm",null,null,"Afficher",null,null,null,null,null,null,null,{"$f":"IF('Choix de l''instrument '!$C$3=\"Diamètre_exter\",AND('Choix de l''instrument '!$D$3>=Diamètre_exter!G61,G61<>\"\"),\"\")","v":""}]
["MEXT-006","Micromètre d'extérieur à vis","0 / 25 mm",null,null,"Afficher",null,null,null,null,null,null,null,{"$f":"IF('Choix de l''instrument '!$C$3=\"Diamètre_exter\",AND('Choix de l''instrument '!$D$3>=Diamètre_exter!G62,G62<>\"\"),\"\")","v":""}]
["MEXT-005","Micromètre d'extérieur à vis","0 / 25 mm",null,null,"Afficher",null,null,null,null,null,null,null,{"$f":"IF('Choix de l''instrument '!$C$3=\"Diamètre_exter\",AND('Choix de l''instrument '!$D$3>=Diamètre_exter!G63,G63<>\"\"),\"\")","v":""}]
["MEXT-004","Micromètre d'extérieur à vis","25 / 50 mm",null,null,"Afficher",null,null,null,null,null,null,null,{"$f":"IF('Choix de l''instrument '!$C$3=\"Diamètre_exter\",AND('Choix de l''instrument '!$D$3>=Diamètre_exter!G64,G64<>\"\"),\"\")","v":""}]
["MEXT-002","Micromètre d'extérieur à vis","25 / 50 mm",null,null,"Afficher",null,null,null,null,null,null,null,{"$f":"IF('Choix de l''instrument '!$C$3=\"Diamètre_exter\",AND('Choix de l''instrument '!$D$3>=Diamètre_exter!G65,G65<>\"\"),\"\")","v":""}]
["MEXT-001","Micromètre d'extérieur à vis","25 / 50 mm",null,null,"Afficher",null,null,null,null,null,null,null,{"$f":"IF('Choix de l''instrument '!$C$3=\"Diamètre_exter\",AND('Choix de l''instrument '!$D$3>=Diamètre_exter!G66,G66<>\"\"),\"\")","v":""}]
["THE.206","Micromètre d'extérieur à vis","25 / 50 mm",null,null,"Afficher",null,null,null,null,null,null,null,{"$f":"IF('Choix de l''instrument '!$C$3=\"Diamètre_exter\",AND('Choix de l''instrument '!$D$3>=Diamètre_exter!G67,G67<>\"\"),\"\")","v":""}]
["TR.005","Micromètre d'extérieur à vis","25 / 50 mm",null,null,"Afficher",null,null,null,null,null,null,null,{"$f":"IF('Choix de l''instrument '!$C$3=\"Diamètre_exter\",AND('Choix de l''instrument '!$D$3>=Diamètre_exter!G68,G68<>\"\"),\"\")","v":""}]
["TR.004","Micromètre d'extérieur à vis","0 / 25 mm",null,null,"Afficher",null,null,null,null,null,null,null,{"$f":"IF('Choix de l''instrument '!$C$3=\"Diamètre_exter\",AND('Choix de l''instrument '!$D$3>=Diamètre_exter!G69,G69<>\"\"),\"\")","v":""}]
["TR.002","Micromètre d'extérieur à vis","0 / 25 mm",null,null,"Afficher",null,null,null,null,null,null,null,{"$f":"IF('Choix de l''instrument '!$C$3=\"Diamètre_exter\",AND('Choix de l''instrument '!$D$3>=Diamètre_exter!G70,G70<>\"\"),\"\")","v":""}]
["THE.009","Micromètre d'extérieur à vis","0 / 25 mm",null,null,"Afficher",null,null,null,null,null,null,null,{"$f":"IF('Choix de l''instrument '!$C$3=\"Diamètre_exter\",AND('Choix de l''instrument '!$D$3>=Diamètre_exter!G71,G71<>\"\"),\"\")","v":""}]
["THE.013","Micromètre d'extérieur à vis","0 / 25 mm",null,null,"Afficher",null,null,null,null,null,null,null,{"$f":"IF('Choix de l''instrument '!$C$3=\"Diamètre_exter\",AND('Choix de l''instrument '!$D$3>=Diamètre_exter!G72,G72<>\"\"),\"\")","v":""}]
["THE.012","Micromètre d'extérieur à vis","0 / 25 mm",null,null,"Afficher",null,null,null,null,null,null,null,{"$f":"IF('Choix de l''instrument '!$C$3=\"Diamètre_exter\",AND('Choix de l''instrument '!$D$3>=Diamètre_exter!G73,G73<>\"\"),\"\")","v":""}]
["THE.006","Micromètre d'extérieur à vis","0 / 25 mm",null,null,"Afficher",null,null,null,null,null,null,null,{"$f":"IF('Choix de l''instrument '!$C$3=\"Diamètre_exter\",AND('Choix de l''instrument '!$D$3>=Diamètre_exter!G74,G74<>\"\"),\"\")","v":""}]
["THE.004","Micromètre d'extérieur à vis","0 / 25 mm",null,null,"Afficher",null,null,null,null,null,null,null,{"$f":"IF('Choix de l''instrument '!$C$3=\"Diamètre_exter\",AND('Choix de l''instrument '!$D$3>=Diamètre_exter!G75,G75<>\"\"),\"\")","v":""}]
["THE.015","Micromètre d'extérieur à vis","25 / 50 mm",null,null,"Afficher",null,null,null,null,null,null,null,{"$f":"IF('Choix de l''instrument '!$C$3=\"Diamètre_exter\",AND('Choix de l''instrument '!$D$3>=Diamètre_exter!G76,G76<>\"\"),\"\")","v":""}]
["THE.110","Micromètre d'extérieur à vis","0 / 25 mm",null,null,"Afficher",null,null,null,null,null,null,null,{"$f":"IF('Choix de l''instrument '!$C$3=\"Diamètre_exter\",AND('Choix de l''instrument '!$D$3>=Diamètre_exter!G77,G77<>\"\"),\"\")","v":""}]
["THE.017","Micromètre d'extérieur à vis","75 / 100 mm",null,null,"Afficher",null,null,null,null,null,null,null,{"$f":"IF('Choix de l''instrument '!$C$3=\"Diamètre_exter\",AND('Choix de l''instrument '!$D$3>=Diamètre_exter!G78,G78<>\"\"),\"\")","v":""}]
["THE.016","Micromètre d'extérieur à vis","50 / 75 mm",null,null,"Afficher",null,null,null,null,null,null,null,{"$f":"IF('Choix de l''instrument '!$C$3=\"Diamètre_exter\",AND('Choix de l''instrument '!$D$3>=Diamètre_exter!G79,G79<>\"\"),\"\")","v":""}]
["THE.020","Micromètre d'extérieur à vis","0 / 25 mm",null,null,"Afficher",null,null,null,null,null,null,null,{"$f":"IF('Choix de l''instrument '!$C$3=\"Diamètre_exter\",AND('Choix de l''instrument '!$D$3>=Diamètre_exter!G80,G80<>\"\"),\"\")","v":""}]
["SQ.003","Micromètre d'extérieur à vis","0 / 25 mm",null,null,"Afficher",null,null,null,null,null,null,null,{"$f":"IF('Choix de l''instrument '!$C$3=\"Diamètre_exter\",AND('Choix de l''instrument '!$D$3>=Diamètre_exter!G81,G81<>\"\"),\"\")","v":""}]
["SQ.036","Micromètre d'extérieur à vis","0 / 25 mm",null,null,"Afficher",null,null,null,null,null,null,null,{"$f":"IF('Choix de l''instrument '!$C$3=\"Diamètre_exter\",AND('Choix de l''instrument '!$D$3>=Diamètre_exter!G82,G82<>\"\"),\"\")","v":""}]
["SQ.048","Micromètre d'extérieur à vis","0 / 25 mm",null,null,"Afficher",null,null,null,null,null,null,null,{"$f":"IF('Choix de l''instrument '!$C$3=\"Diamètre_exter\",AND('Choix de l''instrument '!$D$3>=Diamètre_exter!G83,G83<>\"\"),\"\")","v":""}]
["SQ.038","Micromètre d'extérieur à vis","0 / 25 mm",null,null,"Afficher",null,null,null,null,null,null,null,{"$f":"IF('Choix de l''instrument '!$C$3=\"Diamètre_exter\",AND('Choix de l''instrument '!$D$3>=Diamètre_exter!G84,G84<>\"\"),\"\")","v":""}]
["SQ.028","Micromètre d'extérieur à vis","0 / 25 nm",null,null,"Afficher",null,null,null,null,null,null,null,{"$f":"IF('Choix de l''instrument '!$C$3=\"Diamètre_exter\",AND('Choix de l''instrument '!$D$3>=Diamètre_exter!G85,G85<>\"\"),\"\")","v":""}]
["TC.006","Micromètre d'extérieur à vis","0 / 25 mm",null,null,"Afficher",null,null,null,null,null,null,null,{"$f":"IF('Choix de l''instrument '!$C$3=\"Diamètre_exter\",AND('Choix de l''instrument '!$D$3>=Diamètre_exter!G86,G86<>\"\"),\"\")","v":""}]
["SQ.131","Micromètre d'extérieur à vis","0 / 25 mm",null,null,"Afficher",null,null,null,null,null,null,null,{"$f":"IF('Choix de l''instrument '!$C$3=\"Diamètre_exter\",AND('Choix de l''instrument '!$D$3>=Diamètre_exter!G87,G87<>\"\"),\"\")","v":""}]
["TC.008","Micromètre d'extérieur à vis","0 / 25 mm",null,null,"Afficher",null,null,null,null,null,null,null,{"$f":"IF('Choix de l''instrument '!$C$3=\"Diamètre_exter\",AND('Choix de l''instrument '!$D$3>=Diamètre_exter!G88,G88<>\"\"),\"\")","v":""}]
["TC.037","Micromètre d'extérieur à vis","75 / 100 mm",null,null,"Afficher",null,null,null,null,null,null,null,{"$f":"IF('Choix de l''instrument '!$C$3=\"Diamètre_exter\",AND('Choix de l''instrument '!$D$3>=Diamètre_exter!G89,G89<>\"\"),\"\")","v":""}]
["TC.028","Micromètre d'extérieur à vis","50 / 75 mm",null,null,"Afficher",null,null,null,null,null,null,null,{"$f":"IF('Choix de l''instrument '!$C$3=\"Diamètre_exter\",AND('Choix de l''instrument '!$D$3>=Diamètre_exter!G90,G90<>\"\"),\"\")","v":""}]
["TC.027","Micromètre d'extérieur à vis","25 / 50 mm",null,null,"Afficher",null,null,null,null,null,null,null,{"$f":"IF('Choix de l''instrument '!$C$3=\"Diamètre_exter\",AND('Choix de l''instrument '!$D$3>=Diamètre_exter!G91,G91<>\"\"),\"\")","v":""}]
["TC.041","Micromètre d'extérieur à vis","0 / 25 mm",null,null,"Afficher",null,null,null,null,null,null,null,{"$f":"IF('Choix de l''instrument '!$C$3=\"Diamètre_exter\",AND('Choix de l''instrument '!$D$3>=Diamètre_exter!G92,G92<>\"\"),\"\")","v":""}]
["TC.025","Micromètre d'extérieur à vis","0 / 25 mm",null,null,"Afficher",null,null,null,null,null,null,null,{"$f":"IF('Choix de l''instrument '!$C$3=\"Diamètre_exter\",AND('Choix de l''instrument '!$D$3>=Diamètre_exter!G93,G93<>\"\"),\"\")","v":""}]
["TC.015","Micromètre d'extérieur à vis","0 / 25 mm",null,null,"Afficher",null,null,null,null,null,null,null,{"$f":"IF('Choix de l''instrument '!$C$3=\"Diamètre_exter\",AND('Choix de l''instrument '!$D$3>=Diamètre_exter!G94,G94<>\"\"),\"\")","v":""}]
["TC.021","Micromètre d'extérieur à vis","25 / 50 mm",null,null,"Afficher",null,null,null,null,null,null,null,{"$f":"IF('Choix de l''instrument '!$C$3=\"Diamètre_exter\",AND('Choix de l''instrument '!$D$3>=Diamètre_exter!G95,G95<>\"\"),\"\")","v":""}]
["TC.020","Micromètre d'extérieur à vis","25 / 50 mm",null,null,"Afficher",null,null,null,null,null,null,null,{"$f":"IF('Choix de l''instrument '!$C$3=\"Diamètre_exter\",AND('Choix de l''instrument '!$D$3>=Diamètre_exter!G96,G96<>\"\"),\"\")","v":""}]
["TC.019","Micromètre d'extérieur à vis","50 / 75 mm",null,null,"Afficher",null,null,null,null,null,null,null,{"$f":"IF('Choix de l''instrument '!$C$3=\"Diamètre_exter\",AND('Choix de l''instrument '!$D$3>=Diamètre_exter!G97,G97<>\"\"),\"\")","v":""}]
["SQ.122","Micromètre d'extérieur à vis","0 / 25 mm",null,null,"Afficher",null,null,null,null,null,null,null,{"$f":"IF('Choix de l''instrument '!$C$3=\"Diamètre_exter\",AND('Choix de l''instrument '!$D$3>=Diamètre_exter!G98,G98<>\"\"),\"\")","v":""}]
["PA.023","Micromètre d'extérieur à vis","0 / 25 mm",null,null,"Afficher",null,null,null,null,null,null,null,{"$f":"IF('Choix de l''instrument '!$C$3=\"Diamètre_exter\",AND('Choix de l''instrument '!$D$3>=Diamètre_exter!G99,G99<>\"\"),\"\")","v":""}]
["PA.022","Micromètre d'extérieur à vis","0 / 25 mm",null,null,"Afficher",null,null,null,null,null,null,null,{"$f":"IF('Choix de l''instrument '!$C$3=\"Diamètre_exter\",AND('Choix de l''instrument '!$D$3>=Diamètre_exter!G100,G100<>\"\"),\"\")","v":""}]
["PA.027","Micromètre d'extérieur à vis","0 / 25 mm",null,null,"Afficher",null,null,null,null,null,null,null,{"$f":"IF('Choix de l''instrument '!$C$3=\"Diamètre_exter\",AND('Choix de l''instrument '!$D$3>=Diamètre_exter!G101,G101<>\"\"),\"\")","v":""}]
["PCC.015","Micromètre d'extérieur à vis","0 / 25 mm",null,null,"Afficher",null,null,null,null,null,null,null,{"$f":"IF('Choix de l''instrument '!$C$3=\"Diamètre_exter\",AND('Choix de l''instrument '!$D$3>=Diamètre_exter!G102,G102<>\"\"),\"\")","v":""}]
["TC.047","Micromètre d'extérieur à vis","0 / 25 mm",null,null,"Afficher",null,null,null,null,null,null,null,{"$f":"IF('Choix de l''instrument '!$C$3=\"Diamètre_exter\",AND('Choix de l''instrument '!$D$3>=Diamètre_exter!G103,G103<>\"\"),\"\")","v":""}]
["TC.049","Micromètre d'extérieur à vis","25 / 50 mm",null,null,"Afficher",null,null,null,null,null,null,null,{"$f":"IF('Choix de l''instrument '!$C$3=\"Diamètre_exter\",AND('Choix de l''instrument '!$D$3>=Diamètre_exter!G104,G104<>\"\"),\"\")","v":""}]
["CAT.091","Micromètre d'extérieur à vis","25 / 50 mm",null,null,"Afficher",null,null,null,null,null,null,null,{"$f":"IF('Choix de l''instrument '!$C$3=\"Diamètre_exter\",AND('Choix de l''instrument '!$D$3>=Diamètre_exter!G105,G105<>\"\"),\"\")","v":""}]
["CAT.097","Micromètre d'extérieur à vis","0 / 25 mm",null,null,"Afficher",null,null,null,null,null,null,null,{"$f":"IF('Choix de l''instrument '!$C$3=\"Diamètre_exter\",AND('Choix de l''instrument '!$D$3>=Diamètre_exter!G106,G106<>\"\"),\"\")","v":""}]
["CAT.009","Micromètre d'extérieur à vis","25 / 50 mm",null,null,"Afficher",null,null,null,null,null,null,null,{"$f":"IF('Choix de l''instrument '!$C$3=\"Diamètre_exter\",AND('Choix de l''instrument '!$D$3>=Diamètre_exter!G107,G107<>\"\"),\"\")","v":""}]
["CAT.002","Micromètre d'extérieur à vis","0 / 25 mm",null,null,"Afficher",null,null,null,null,null,null,null,{"$f":"IF('Choix de l''instrument '!$C$3=\"Diamètre_exter\",AND('Choix de l''instrument '!$D$3>=Diamètre_exter!G108,G108<>\"\"),\"\")","v":""}]
["CAT.047","Micromètre d'extérieur à vis","0 / 25 mm",null,null,"Afficher",null,null,null,null,null,null,null,{"$f":"IF('Choix de l''instrument '!$C$3=\"Diamètre_exter\",AND('Choix de l''instrument '!$D$3>=Diamètre_exter!G109,G109<>\"\"),\"\")","v":""}]
["CAT.023","Micromètre d'extérieur à vis","0 / 25 mm",null,null,"Afficher",null,null,null,null,null,null,null,{"$f":"IF('Choix de l''instrument '!$C$3=\"Diamètre_exter\",AND('Choix de l''instrument '!$D$3>=Diamètre_exter!G110,G110<>\"\"),\"\")","v":""}]
["CAT.026","Micromètre d'extérieur à vis","0 / 25 mm",null,null,"Afficher",null,null,null,null,null,null,null,{"$f":"IF('Choix de l''instrument '!$C$3=\"Diamètre_exter\",AND('Choix de l''instrument '!$D$3>=Diamètre_exter!G111,G111<>\"\"),\"\")","v":""}]
["CAT.024","Micromètre d'extérieur à vis","0 / 25 mm",null,null,"Afficher",null,null,null,null,null,null,null,{"$f":"IF('Choix de l''instrument '!$C$3=\"Diamètre_exter\",AND('Choix de l''instrument '!$D$3>=Diamètre_exter!G112,G112<>\"\"),\"\")","v":""}]
["CF.007","Micromètre d'extérieur à vis","0 / 25 mm",null,null,"Afficher",null,null,null,null,null,null,null,{"$f":"IF('Choix de l''instrument '!$C$3=\"Diamètre_exter\",AND('Choix de l''instrument '!$D$3>=Diamètre_exter!G113,G113<>\"\"),\"\")","v":""}]
["CF.004","Micromètre d'extérieur à vis","0 / 25 mm",null,null,"Afficher",null,null,null,null,null,null,null,{"$f":"IF('Choix de l''instrument '!$C$3=\"Diamètre_exter\",AND('Choix de l''instrument '!$D$3>=Diamètre_exter!G114,G114<>\"\"),\"\")","v":""}]
["CF.009","Micromètre d'extérieur à vis","50 / 75 mm",null,null,"Afficher",null,null,null,null,null,null,null,{"$f":"IF('Choix de l''instrument '!$C$3=\"Diamètre_exter\",AND('Choix de l''instrument '!$D$3>=Diamètre_exter!G115,G115<>\"\"),\"\")","v":""}]
["CF.008","Micromètre d'extérieur à vis","50 / 75 mm",null,null,"Afficher",null,null,null,null,null,null,null,{"$f":"IF('Choix de l''instrument '!$C$3=\"Diamètre_exter\",AND('Choix de l''instrument '!$D$3>=Diamètre_exter!G116,G116<>\"\"),\"\")","v":""}]
["CF.130","Micromètre d'extérieur à vis","0 / 25 mm",null,null,"Afficher",null,null,null,null,null,null,null,{"$f":"IF('Choix de l''instrument '!$C$3=\"Diamètre_exter\",AND('Choix de l''instrument '!$D$3>=Diamètre_exter!G117,G117<>\"\"),\"\")","v":""}]
["CF.055","Micromètre d'extérieur à vis","0 / 25 mm",null,null,"Afficher",null,null,null,null,null,null,null,{"$f":"IF('Choix de l''instrument '!$C$3=\"Diamètre_exter\",AND('Choix de l''instrument '!$D$3>=Diamètre_exter!G118,G118<>\"\"),\"\")","v":""}]
["CF.058","Micromètre d'extérieur à vis","25 / 50 mm",null,null,"Afficher",null,null,null,null,null,null,null,{"$f":"IF('Choix de l''instrument '!$C$3=\"Diamètre_exter\",AND('Choix de l''instrument '!$D$3>=Diamètre_exter!G119,G119<>\"\"),\"\")","v":""}]
["CF.051","Micromètre d'extérieur à vis","25 / 50 mm",null,null,"Afficher",null,null,null,null,null,null,null,{"$f":"IF('Choix de l''instrument '!$C$3=\"Diamètre_exter\",AND('Choix de l''instrument '!$D$3>=Diamètre_exter!G120,G120<>\"\"),\"\")","v":""}]
["CF.066","Micromètre d'extérieur à vis","0 / 25 mm",null,null,"Afficher",null,null,null,null,null,null,null,{"$f":"IF('Choix de l''instrument '!$C$3=\"Diamètre_exter\",AND('Choix de l''instrument '!$D$3>=Diamètre_exter!G121,G121<>\"\"),\"\")","v":""}]
["CF.063","Micromètre d'extérieur à vis","0 / 25 mm",null,null,"Afficher",null,null,null,null,null,null,null,{"$f":"IF('Choix de l''instrument '!$C$3=\"Diamètre_exter\",AND('Choix de l''instrument '!$D$3>=Diamètre_exter!G122,G122<>\"\"),\"\")","v":""}]
["CE.007","Micromètre d'extérieur à vis","0 / 25 mm",null,null,"Afficher",null,null,null,null,null,null,null,{"$f":"IF('Choix de l''instrument '!$C$3=\"Diamètre_exter\",AND('Choix de l''instrument '!$D$3>=Diamètre_exter!G123,G123<>\"\"),\"\")","v":""}]
["CE.001","Micromètre d'extérieur à vis","0 / 25 mm",null,null,"Afficher",null,null,null,null,null,null,null,{"$f":"IF('Choix de l''instrument '!$C$3=\"Diamètre_exter\",AND('Choix de l''instrument '!$D$3>=Diamètre_exter!G124,G124<>\"\"),\"\")","v":""}]
["CE.023","Micromètre d'extérieur à vis","0 / 25 mm",null,null,"Afficher",null,null,null,null,null,null,null,{"$f":"IF('Choix de l''instrument '!$C$3=\"Diamètre_exter\",AND('Choix de l''instrument '!$D$3>=Diamètre_exter!G125,G125<>\"\"),\"\")","v":""}]
["CAT.172","Micromètre d'extérieur à vis","25 / 50 mm",null,null,"Afficher",null,null,null,null,null,null,null,{"$f":"IF('Choix de l''instrument '!$C$3=\"Diamètre_exter\",AND('Choix de l''instrument '!$D$3>=Diamètre_exter!G126,G126<>\"\"),\"\")","v":""}]
["CE.210","Micromètre d'extérieur à vis","0 / 25 m",null,null,"Afficher",null,null,null,null,null,null,null,{"$f":"IF('Choix de l''instrument '!$C$3=\"Diamètre_exter\",AND('Choix de l''instrument '!$D$3>=Diamètre_exter!G127,G127<>\"\"),\"\")","v":""}]
["CE.192","Micromètre d'extérieur à vis","0 / 25 mm",null,null,"Afficher",null,null,null,null,null,null,null,{"$f":"IF('Choix de l''instrument '!$C$3=\"Diamètre_exter\",AND('Choix de l''instrument '!$D$3>=Diamètre_exter!G128,G128<>\"\"),\"\")","v":""}]
["CE.206","Micromètre d'extérieur à vis","0 / 25 mm",null,null,"Afficher",null,null,null,null,null,null,null,{"$f":"IF('Choix de l''instrument '!$C$3=\"Diamètre_exter\",AND('Choix de l''instrument '!$D$3>=Diamètre_exter!G129,G129<>\"\"),\"\")","v":""}]
["CE.106","Micromètre d'extérieur à vis","0 / 25 mm",null,null,"Afficher",null,null,null,null,null,null,null,{"$f":"IF('Choix de l''instrument '!$C$3=\"Diamètre_exter\",AND('Choix de l''instrument '!$D$3>=Diamètre_exter!G130,G130<>\"\"),\"\")","v":""}]
["CE.088","Micromètre d'extérieur à vis","0 / 25 mm",null,null,"Afficher",null,null,null,null,null,null,null,{"$f":"IF('Choix de l''instrument '!$C$3=\"Diamètre_exter\",AND('Choix de l''instrument '!$D$3>=Diamètre_exter!G131,G131<>\"\"),\"\")","v":""}]
["CE.060","Micromètre d'extérieur à vis","0 / 25 mm",null,null,"Afficher",null,null,null,null,null,null,null,{"$f":"IF('Choix de l''instrument '!$C$3=\"Diamètre_exter\",AND('Choix de l''instrument '!$D$3>=Diamètre_exter!G132,G132<>\"\"),\"\")","v":""}]
["CE.054","Micromètre d'extérieur à vis","0 / 25 mm",null,null,"Afficher",null,null,null,null,null,null,null,{"$f":"IF('Choix de l''instrument '!$C$3=\"Diamètre_exter\",AND('Choix de l''instrument '!$D$3>=Diamètre_exter!G133,G133<>\"\"),\"\")","v":""}]
["CE.191","Micromètre d'extérieur à vis","0 / 25 mm",null,null,"Afficher",null,null,null,null,null,null,null,{"$f":"IF('Choix de l''instrument '!$C$3=\"Diamètre_exter\",AND('Choix de l''instrument '!$D$3>=Diamètre_exter!G134,G134<>\"\"),\"\")","v":""}]
["ED.274","Micromètre d'extérieur à vis","0 / 25 mm",null,null,"Afficher",null,null,null,null,null,null,null,{"$f":"IF('Choix de l''instrument '!$C$3=\"Diamètre_exter\",AND('Choix de l''instrument '!$D$3>=Diamètre_exter!G135,G135<>\"\"),\"\")","v":""}]
["ED.273","Micromètre d'extérieur à vis","0 / 25 mm",null,null,"Afficher",null,null,null,null,null,null,null,{"$f":"IF('Choix de l''instrument '!$C$3=\"Diamètre_exter\",AND('Choix de l''instrument '!$D$3>=Diamètre_exter!G136,G136<>\"\"),\"\")","v":""}]
["ED.267","Micromètre d'extérieur à vis","0 / 25 mm",null,null,"Afficher",null,null,null,null,null,null,null,{"$f":"IF('Choix de l''instrument '!$C$3=\"Diamètre_exter\",AND('Choix de l''instrument '!$D$3>=Diamètre_exter!G137,G137<>\"\"),\"\")","v":""}]
["ED.266","Micromètre d'extérieur à vis","0 / 25 mm",null,null,"Afficher",null,null,null,null,null,null,null,{"$f":"IF('Choix de l''instrument '!$C$3=\"Diamètre_exter\",AND('Choix de l''instrument '!$D$3>=Diamètre_exter!G138,G138<>\"\"),\"\")","v":""}]
["ED.265","Micromètre d'extérieur à vis","0 / 25 mm",null,null,"Afficher",null,null,null,null,null,null,null,{"$f":"IF('Choix de l''instrument '!$C$3=\"Diamètre_exter\",AND('Choix de l''instrument '!$D$3>=Diamètre_exter!G139,G139<>\"\"),\"\")","v":""}]
["ED.230","Micromètre d'extérieur à vis","0 / 25 mm",null,null,"Afficher",null,null,null,null,null,null,null,{"$f":"IF('Choix de l''instrument '!$C$3=\"Diamètre_exter\",AND('Choix de l''instrument '!$D$3>=Diamètre_exter!G140,G140<>\"\"),\"\")","v":""}]
["ED.227","Micromètre d'extérieur à vis","0 / 25 mm",null,null,"Afficher",null,null,null,null,null,null,null,{"$f":"IF('Choix de l''instrument '!$C$3=\"Diamètre_exter\",AND('Choix de l''instrument '!$D$3>=Diamètre_exter!G141,G141<>\"\"),\"\")","v":""}]
["ED.211","Micromètre d'extérieur à vis","0 / 25 mm",null,null,"Afficher",null,null,null,null,null,null,null,{"$f":"IF('Choix de l''instrument '!$C$3=\"Diamètre_exter\",AND('Choix de l''instrument '!$D$3>=Diamètre_exter!G142,G142<>\"\"),\"\")","v":""}]
["ED.201","Micromètre d'extérieur à vis","0 / 25 mm",null,null,"Afficher",null,null,null,null,null,null,null,{"$f":"IF('Choix de l''instrument '!$C$3=\"Diamètre_exter\",AND('Choix de l''instrument '!$D$3>=Diamètre_exter!G143,G143<>\"\"),\"\")","v":""}]
["ED.233","Micromètre d'extérieur à vis",null,null,null,"Afficher",null,null,null,null,null,null,null,{"$f":"IF('Choix de l''instrument '!$C$3=\"Diamètre_exter\",AND('Choix de l''instrument '!$D$3>=Diamètre_exter!G144,G144<>\"\"),\"\")","v":""}]
["ED.236","Micromètre d'extérieur à vis","0 / 25 mm",null,null,"Afficher",null,null,null,null,null,null,null,{"$f":"IF('Choix de l''instrument '!$C$3=\"Diamètre_exter\",AND('Choix de l''instrument '!$D$3>=Diamètre_exter!G145,G145<>\"\"),\"\")","v":""}]
["ED.275","Micromètre d'extérieur à vis","0 / 25 mm",null,null,"Afficher",null,null,null,null,null,null,null,{"$f":"IF('Choix de l''instrument '!$C$3=\"Diamètre_exter\",AND('Choix de l''instrument '!$D$3>=Diamètre_exter!G146,G146<>\"\"),\"\")","v":""}]
["EN.078","Micromètre d'extérieur à vis","0 / 25 mm",null,null,"Afficher",null,null,null,null,null,null,null,{"$f":"IF('Choix de l''instrument '!$C$3=\"Diamètre_exter\",AND('Choix de l''instrument '!$D$3>=Diamètre_exter!G147,G147<>\"\"),\"\")","v":""}]
["EN.037","Micromètre d'extérieur à vis","0 / 25 mm",null,null,"Afficher",null,null,null,null,null,null,null,{"$f":"IF('Choix de l''instrument '!$C$3=\"Diamètre_exter\",AND('Choix de l''instrument '!$D$3>=Diamètre_exter!G148,G148<>\"\"),\"\")","v":""}]
["EN.077","Micromètre d'extérieur à vis","0 / 25 mm",null,null,"Afficher",null,null,null,null,null,null,null,{"$f":"IF('Choix de l''instrument '!$C$3=\"Diamètre_exter\",AND('Choix de l''instrument '!$D$3>=Diamètre_exter!G149,G149<>\"\"),\"\")","v":""}]
["EN.076","Micromètre d'extérieur à vis","0 / 25 mm",null,null,"Afficher",null,null,null,null,null,null,null,{"$f":"IF('Choix de l''instrument '!$C$3=\"Diamètre_exter\",AND('Choix de l''instrument '!$D$3>=Diamètre_exter!G150,G150<>\"\"),\"\")","v":""}]
["EN.114","Micromètre d'extérieur à vis","0 / 25 mm",null,null,"Afficher",null,null,null,null,null,null,null,{"$f":"IF('Choix de l''instrument '!$C$3=\"Diamètre_exter\",AND('Choix de l''instrument '!$D$3>=Diamètre_exter!G151,G151<>\"\"),\"\")","v":""}]
["ED.278","Micromètre d'extérieur à vis","0 / 25 mm",null,null,"Afficher",null,null,null,null,null,null,null,{"$f":"IF('Choix de l''instrument '!$C$3=\"Diamètre_exter\",AND('Choix de l''instrument '!$D$3>=Diamètre_exter!G152,G152<>\"\"),\"\")","v":""}]
["ED.277","Micromètre d'extérieur à vis","0 / 25 mm",null,null,"Afficher",null,null,null,null,null,null,null,{"$f":"IF('Choix de l''instrument '!$C$3=\"Diamètre_exter\",AND('Choix de l''instrument '!$D$3>=Diamètre_exter!G153,G153<>\"\"),\"\")","v":""}]
["EN.017","Micromètre d'extérieur à vis","0 / 25 mm",null,null,"Afficher",null,null,null,null,null,null,null,{"$f":"IF('Choix de l''instrument '!$C$3=\"Diamètre_exter\",AND('Choix de l''instrument '!$D$3>=Diamètre_exter!G154,G154<>\"\"),\"\")","v":""}]
["EN.016","Micromètre d'extérieur à vis","0 / 25 mm",null,null,"Afficher",null,null,null,null,null,null,null,{"$f":"IF('Choix de l''instrument '!$C$3=\"Diamètre_exter\",AND('Choix de l''instrument '!$D$3>=Diamètre_exter!G155,G155<>\"\"),\"\")","v":""}]
["EC.009","Micromètre d'extérieur à vis","0 / 25 mm",null,null,"Afficher",null,null,null,null,null,null,null,{"$f":"IF('Choix de l''instrument '!$C$3=\"Diamètre_exter\",AND('Choix de l''instrument '!$D$3>=Diamètre_exter!G156,G156<>\"\"),\"\")","v":""}]
["EC.034","Micromètre d'extérieur à vis","0 / 25 mm",null,null,"Afficher",null,null,null,null,null,null,null,{"$f":"IF('Choix de l''instrument '!$C$3=\"Diamètre_exter\",AND('Choix de l''instrument '!$D$3>=Diamètre_exter!G157,G157<>\"\"),\"\")","v":""}]
["DIM-0137","Micromètre d'extérieur à vis","0 / 25 mm",null,null,"Afficher",null,null,null,null,null,null,null,{"$f":"IF('Choix de l''instrument '!$C$3=\"Diamètre_exter\",AND('Choix de l''instrument '!$D$3>=Diamètre_exter!G158,G158<>\"\"),\"\")","v":""}]
["DIM-0135","Micromètre d'extérieur à vis","25 / 55 mm",null,null,"Afficher",null,null,null,null,null,null,null,{"$f":"IF('Choix de l''instrument '!$C$3=\"Diamètre_exter\",AND('Choix de l''instrument '!$D$3>=Diamètre_exter!G159,G159<>\"\"),\"\")","v":""}]
["DIM-0131","Micromètre d'extérieur à vis","0 / 25 mm",null,null,"Afficher",null,null,null,null,null,null,null,{"$f":"IF('Choix de l''instrument '!$C$3=\"Diamètre_exter\",AND('Choix de l''instrument '!$D$3>=Diamètre_exter!G160,G160<>\"\"),\"\")","v":""}]
["DIM-0127","Micromètre d'extérieur à vis","0 / 25 mm",null,null,"Afficher",null,null,null,null,null,null,null,{"$f":"IF('Choix de l''instrument '!$C$3=\"Diamètre_exter\",AND('Choix de l''instrument '!$D$3>=Diamètre_exter!G161,G161<>\"\"),\"\")","v":""}]
["DIM-0126","Micromètre d'extérieur à vis","0 / 25 mm",null,null,"Afficher",null,null,null,null,null,null,null,{"$f":"IF('Choix de l''instrument '!$C$3=\"Diamètre_exter\",AND('Choix de l''instrument '!$D$3>=Diamètre_exter!G162,G162<>\"\"),\"\")","v":""}]
["DIM-0125","Micromètre d'extérieur à vis","0 / 25 mm",null,null,"Afficher",null,null,null,null,null,null,null,{"$f":"IF('Choix de l''instrument '!$C$3=\"Diamètre_exter\",AND('Choix de l''instrument '!$D$3>=Diamètre_exter!G163,G163<>\"\"),\"\")","v":""}]
["DIM-0130","Micromètre d'extérieur à vis","0 / 25 mm",null,null,"Afficher",null,null,null,null,null,null,null,{"$f":"IF('Choix de l''instrument '!$C$3=\"Diamètre_exter\",AND('Choix de l''instrument '!$D$3>=Diamètre_exter!G164,G164<>\"\"),\"\")","v":""}]
["DIM-0129","Micromètre d'extérieur à vis","0 / 25 mm",null,null,"Afficher",null,null,null,null,null,null,null,{"$f":"IF('Choix de l''instrument '!$C$3=\"Diamètre_exter\",AND('Choix de l''instrument '!$D$3>=Diamètre_exter!G165,G165<>\"\"),\"\")","v":""}]
["DIM-0128","Micromètre d'extérieur à vis","0 / 25 mm",null,null,"Afficher",null,null,null,null,null,null,null,{"$f":"IF('Choix de l''instrument '!$C$3=\"Diamètre_exter\",AND('Choix de l''instrument '!$D$3>=Diamètre_exter!G166,G166<>\"\"),\"\")","v":""}]
["DIM-0141","Micromètre d'extérieur à vis","0 / 25 mm",null,null,"Afficher",null,null,null,null,null,null,null,{"$f":"IF('Choix de l''instrument '!$C$3=\"Diamètre_exter\",AND('Choix de l''instrument '!$D$3>=Diamètre_exter!G167,G167<>\"\"),\"\")","v":""}]
["DIM-0140","Micromètre d'extérieur à vis","0 / 25 mm",null,null,"Afficher",null,null,null,null,null,null,null,{"$f":"IF('Choix de l''instrument '!$C$3=\"Diamètre_exter\",AND('Choix de l''instrument '!$D$3>=Diamètre_exter!G168,G168<>\"\"),\"\")","v":""}]
["DIM-0139","Micromètre d'extérieur à vis","0 / 25 mm",null,null,"Afficher",null,null,null,null,null,null,null,{"$f":"IF('Choix de l''instrument '!$C$3=\"Diamètre_exter\",AND('Choix de l''instrument '!$D$3>=Diamètre_exter!G169,G169<>\"\"),\"\")","v":""}]
["DIM-0142","Micromètre d'extérieur à vis","0 / 25 mm",null,null,"Afficher",null,null,null,null,null,null,null,{"$f":"IF('Choix de l''instrument '!$C$3=\"Diamètre_exter\",AND('Choix de l''instrument '!$D$3>=Diamètre_exter!G170,G170<>\"\"),\"\")","v":""}]
["EC.097","Micromètre d'extérieur à vis","0 / 25 mm",null,null,"Afficher",null,null,null,null,null,null,null,{"$f":"IF('Choix de l''instrument '!$C$3=\"Diamètre_exter\",AND('Choix de l''instrument '!$D$3>=Diamètre_exter!G171,G171<>\"\"),\"\")","v":""}]
["ED.111","Micromètre d'extérieur à vis","0 / 25 mm",null,null,"Afficher",null,null,null,null,null,null,null,{"$f":"IF('Choix de l''instrument '!$C$3=\"Diamètre_exter\",AND('Choix de l''instrument '!$D$3>=Diamètre_exter!G172,G172<>\"\"),\"\")","v":""}]
["ED.100","Micromètre d'extérieur à vis","0 / 25 mm",null,null,"Afficher",null,null,null,null,null,null,null,{"$f":"IF('Choix de l''instrument '!$C$3=\"Diamètre_exter\",AND('Choix de l''instrument '!$D$3>=Diamètre_exter!G173,G173<>\"\"),\"\")","v":""}]
["ED.097","Micromètre d'extérieur à vis","0 / 25",null,null,"Afficher",null,null,null,null,null,null,null,{"$f":"IF('Choix de l''instrument '!$C$3=\"Diamètre_exter\",AND('Choix de l''instrument '!$D$3>=Diamètre_exter!G174,G174<>\"\"),\"\")","v":""}]
["ED.110","Micromètre d'extérieur à vis","0 / 25 mm",null,null,"Afficher",null,null,null,null,null,null,null,{"$f":"IF('Choix de l''instrument '!$C$3=\"Diamètre_exter\",AND('Choix de l''instrument '!$D$3>=Diamètre_exter!G175,G175<>\"\"),\"\")","v":""}]
["ED.104","Micromètre d'extérieur à vis","0 / 25 mm",null,null,"Afficher",null,null,null,null,null,null,null,{"$f":"IF('Choix de l''instrument '!$C$3=\"Diamètre_exter\",AND('Choix de l''instrument '!$D$3>=Diamètre_exter!G176,G176<>\"\"),\"\")","v":""}]
["ED.153","Micromètre d'extérieur à vis","0 / 25 mm",null,null,"Afficher",null,null,null,null,null,null,null,{"$f":"IF('Choix de l''instrument '!$C$3=\"Diamètre_exter\",AND('Choix de l''instrument '!$D$3>=Diamètre_exter!G177,G177<>\"\"),\"\")","v":""}]
["ED.150","Micromètre d'extérieur à vis","0 / 30 mm",null,null,"Afficher",null,null,null,null,null,null,null,{"$f":"IF('Choix de l''instrument '!$C$3=\"Diamètre_exter\",AND('Choix de l''instrument '!$D$3>=Diamètre_exter!G178,G178<>\"\"),\"\")","v":""}]
["ED.128","Micromètre d'extérieur à vis","0 / 25 mm",null,null,"Afficher",null,null,null,null,null,null,null,{"$f":"IF('Choix de l''instrument '!$C$3=\"Diamètre_exter\",AND('Choix de l''instrument '!$D$3>=Diamètre_exter!G179,G179<>\"\"),\"\")","v":""}]
["ED.126","Micromètre d'extérieur à vis","0 / 25 mm",null,null,"Afficher",null,null,null,null,null,null,null,{"$f":"IF('Choix de l''instrument '!$C$3=\"Diamètre_exter\",AND('Choix de l''instrument '!$D$3>=Diamètre_exter!G180,G180<>\"\"),\"\")","v":""}]
["ED.148","Micromètre d'extérieur à vis","0 / 25 mm",null,null,"Afficher",null,null,null,null,null,null,null,{"$f":"IF('Choix de l''instrument '!$C$3=\"Diamètre_exter\",AND('Choix de l''instrument '!$D$3>=Diamètre_exter!G181,G181<>\"\"),\"\")","v":""}]
["EC.108","Micromètre d'extérieur à vis","0 / 25 mm",null,null,"Afficher",null,null,null,null,null,null,null,{"$f":"IF('Choix de l''instrument '!$C$3=\"Diamètre_exter\",AND('Choix de l''instrument '!$D$3>=Diamètre_exter!G182,G182<>\"\"),\"\")","v":""}]
["EC.101","Micromètre d'extérieur à vis","0 / 25 mm",null,null,"Afficher",null,null,null,null,null,null,null,{"$f":"IF('Choix de l''instrument '!$C$3=\"Diamètre_exter\",AND('Choix de l''instrument '!$D$3>=Diamètre_exter!G183,G183<>\"\"),\"\")","v":""}]
["ED.012","Micromètre d'extérieur à vis","0 / 25 mm",null,null,"Afficher",null,null,null,null,null,null,null,{"$f":"IF('Choix de l''instrument '!$C$3=\"Diamètre_exter\",AND('Choix de l''instrument '!$D$3>=Diamètre_exter!G184,G184<>\"\"),\"\")","v":""}]
["ED.010","Micromètre d'extérieur à vis","0 / 25 mm",null,null,"Afficher",null,null,null,null,null,null,null,{"$f":"IF('Choix de l''instrument '!$C$3=\"Diamètre_exter\",AND('Choix de l''instrument '!$D$3>=Diamètre_exter!G185,G185<>\"\"),\"\")","v":""}]
["EC.133","Micromètre d'extérieur à vis","0 / 25 mm",null,null,"Afficher",null,null,null,null,null,null,null,{"$f":"IF('Choix de l''instrument '!$C$3=\"Diamètre_exter\",AND('Choix de l''instrument '!$D$3>=Diamètre_exter!G186,G186<>\"\"),\"\")","v":""}]
["EN.183","Micromètre d'extérieur à vis","0 / 25 mm",null,null,"Afficher",null,null,null,null,null,null,null,{"$f":"IF('Choix de l''instrument '!$C$3=\"Diamètre_exter\",AND('Choix de l''instrument '!$D$3>=Diamètre_exter!G187,G187<>\"\"),\"\")","v":""}]
["EN.143","Micromètre d'extérieur à vis","0 / 25 mm",null,null,"Afficher",null,null,null,null,null,null,null,{"$f":"IF('Choix de l''instrument '!$C$3=\"Diamètre_exter\",AND('Choix de l''instrument '!$D$3>=Diamètre_exter!G188,G188<>\"\"),\"\")","v":""}]
["EN.147","Micromètre d'extérieur à vis","0 / 25 mm",null,null,"Afficher",null,null,null,null,null,null,null,{"$f":"IF('Choix de l''instrument '!$C$3=\"Diamètre_exter\",AND('Choix de l''instrument '!$D$3>=Diamètre_exter!G189,G189<>\"\"),\"\")","v":""}]
["EN.145","Micromètre d'extérieur à vis","0 / 25 mm",null,null,"Afficher",null,null,null,null,null,null,null,{"$f":"IF('Choix de l''instrument '!$C$3=\"Diamètre_exter\",AND('Choix de l''instrument '!$D$3>=Diamètre_exter!G190,G190<>\"\"),\"\")","v":""}]
["EN.144","Micromètre d'extérieur à vis","0 / 25 mm",null,null,"Afficher",null,null,null,null,null,null,null,{"$f":"IF('Choix de l''instrument '!$C$3=\"Diamètre_exter\",AND('Choix de l''instrument '!$D$3>=Diamètre_exter!G191,G191<>\"\"),\"\")","v":""}]
["EN.122","Micromètre d'extérieur à vis","0 / 25 mm",null,null,"Afficher",null,null,null,null,null,null,null,{"$f":"IF('Choix de l''instrument '!$C$3=\"Diamètre_exter\",AND('Choix de l''instrument '!$D$3>=Diamètre_exter!G192,G192<>\"\"),\"\")","v":""}]
["EN.119","Micromètre d'extérieur à vis","0 / 25 mm",null,null,"Afficher",null,null,null,null,null,null,null,{"$f":"IF('Choix de l''instrument '!$C$3=\"Diamètre_exter\",AND('Choix de l''instrument '!$D$3>=Diamètre_exter!G193,G193<>\"\"),\"\")","v":""}]
["EN.125","Micromètre d'extérieur à vis","0 / 25 mm",null,null,"Afficher",null,null,null,null,null,null,null,{"$f":"IF('Choix de l''instrument '!$C$3=\"Diamètre_exter\",AND('Choix de l''instrument '!$D$3>=Diamètre_exter!G194,G194<>\"\"),\"\")","v":""}]
["EN.123","Micromètre d'extérieur à vis","0 / 25 mm",null,null,"Afficher",null,null,null,null,null,null,null,{"$f":"IF('Choix de l''instrument '!$C$3=\"Diamètre_exter\",AND('Choix de l''instrument '!$D$3>=Diamètre_exter!G195,G195<>\"\"),\"\")","v":""}]
["EN.151","Micromètre d'extérieur à vis","0 / 25",null,null,"Afficher",null,null,null,null,null,null,null,{"$f":"IF('Choix de l''instrument '!$C$3=\"Diamètre_exter\",AND('Choix de l''instrument '!$D$3>=Diamètre_exter!G196,G196<>\"\"),\"\")","v":""}]
["EN.167","Micromètre d'extérieur à vis","0 / 25 mm",null,null,"Afficher",null,null,null,null,null,null,null,{"$f":"IF('Choix de l''instrument '!$C$3=\"Diamètre_exter\",AND('Choix de l''instrument '!$D$3>=Diamètre_exter!G197,G197<>\"\"),\"\")","v":""}]
["EN.176","Micromètre d'extérieur à vis","0 / 25 mm",null,null,"Afficher",null,null,null,null,null,null,null,{"$f":"IF('Choix de l''instrument '!$C$3=\"Diamètre_exter\",AND('Choix de l''instrument '!$D$3>=Diamètre_exter!G198,G198<>\"\"),\"\")","v":""}]
["EN.175","Micromètre d'extérieur à vis","0 / 25 mm",null,null,"Afficher",null,null,null,null,null,null,null,{"$f":"IF('Choix de l''instrument '!$C$3=\"Diamètre_exter\",AND('Choix de l''instrument '!$D$3>=Diamètre_exter!G199,G199<>\"\"),\"\")","v":""}]
["EN.164","Micromètre d'extérieur à vis","0 / 25 mm",null,null,"Afficher",null,null,null,null,null,null,null,{"$f":"IF('Choix de l''instrument '!$C$3=\"Diamètre_exter\",AND('Choix de l''instrument '!$D$3>=Diamètre_exter!G200,G200<>\"\"),\"\")","v":""}]
["EN.153","Micromètre d'extérieur à vis","0 / 25 mm",null,null,"Afficher",null,null,null,null,null,null,null,{"$f":"IF('Choix de l''instrument '!$C$3=\"Diamètre_exter\",AND('Choix de l''instrument '!$D$3>=Diamètre_exter!G201,G201<>\"\"),\"\")","v":""}]
["EN.152","Micromètre d'extérieur à vis","0 / 25 mm",null,null,"Afficher",null,null,null,null,null,null,null,{"$f":"IF('Choix de l''instrument '!$C$3=\"Diamètre_exter\",AND('Choix de l''instrument '!$D$3>=Diamètre_exter!G202,G202<>\"\"),\"\")","v":""}]
["EN.157","Micromètre d'extérieur à vis","0 / 25 mm",null,null,"Afficher",null,null,null,null,null,null,null,{"$f":"IF('Choix de l''instrument '!$C$3=\"Diamètre_exter\",AND('Choix de l''instrument '!$D$3>=Diamètre_exter!G203,G203<>\"\"),\"\")","v":""}]
["EN.156","Micromètre d'extérieur à vis","0 / 25 mm",null,null,"Afficher",null,null,null,null,null,null,null,{"$f":"IF('Choix de l''instrument '!$C$3=\"Diamètre_exter\",AND('Choix de l''instrument '!$D$3>=Diamètre_exter!G204,G204<>\"\"),\"\")","v":""}]
["CF.441","Micromètre d'extérieur à vis","0 / 25 mm",null,null,"Afficher",null,null,null,null,null,null,null,{"$f":"IF('Choix de l''instrument '!$C$3=\"Diamètre_exter\",AND('Choix de l''instrument '!$D$3>=Diamètre_exter!G205,G205<>\"\"),\"\")","v":""}]
["CP.006","Micromètre d'extérieur à vis","25 / 50 mm",null,null,"Afficher",null,null,null,null,null,null,null,{"$f":"IF('Choix de l''instrument '!$C$3=\"Diamètre_exter\",AND('Choix de l''instrument '!$D$3>=Diamètre_exter!G206,G206<>\"\"),\"\")","v":""}]
["DIM-0054","Micromètre d'extérieur à vis","0 / 25 mm",null,null,"Afficher",null,null,null,null,null,null,null,{"$f":"IF('Choix de l''instrument '!$C$3=\"Diamètre_exter\",AND('Choix de l''instrument '!$D$3>=Diamètre_exter!G207,G207<>\"\"),\"\")","v":""}]
["DIM-0047","Micromètre d'extérieur à vis","0 / 25 mm",null,null,"Afficher",null,null,null,null,null,null,null,{"$f":"IF('Choix de l''instrument '!$C$3=\"Diamètre_exter\",AND('Choix de l''instrument '!$D$3>=Diamètre_exter!G208,G208<>\"\"),\"\")","v":""}]
["DIM-0045","Micromètre d'extérieur à vis","0 / 25 mm",null,null,"Afficher",null,null,null,null,null,null,null,{"$f":"IF('Choix de l''instrument '!$C$3=\"Diamètre_exter\",AND('Choix de l''instrument '!$D$3>=Diamètre_exter!G209,G209<>\"\"),\"\")","v":""}]
["DIM-0055","Micromètre d'extérieur à vis","0 / 25 mm",null,null,"Afficher",null,null,null,null,null,null,null,{"$f":"IF('Choix de l''instrument '!$C$3=\"Diamètre_exter\",AND('Choix de l''instrument '!$D$3>=Diamètre_exter!G210,G210<>\"\"),\"\")","v":""}]
["DIM-0058","Micromètre d'extérieur à vis","0 / 25 mm",null,null,"Afficher",null,null,null,null,null,null,null,{"$f":"IF('Choix de l''instrument '!$C$3=\"Diamètre_exter\",AND('Choix de l''instrument '!$D$3>=Diamètre_exter!G211,G211<>\"\"),\"\")","v":""}]
["DIM-0057","Micromètre d'extérieur à vis","0 / 25 mm",null,null,"Afficher",null,null,null,null,null,null,null,{"$f":"IF('Choix de l''instrument '!$C$3=\"Diamètre_exter\",AND('Choix de l''instrument '!$D$3>=Diamètre_exter!G212,G212<>\"\"),\"\")","v":""}]
["DIM-0056","Micromètre d'extérieur à vis","0 / 25 mm",null,null,"Afficher",null,null,null,null,null,null,null,{"$f":"IF('Choix de l''instrument '!$C$3=\"Diamètre_exter\",AND('Choix de l''instrument '!$D$3>=Diamètre_exter!G213,G213<>\"\"),\"\")","v":""}]
["DIM-0059","Micromètre d'extérieur à vis","0 / 25 mm",null,null,"Afficher",null,null,null,null,null,null,null,{"$f":"IF('Choix de l''instrument '!$C$3=\"Diamètre_exter\",AND('Choix de l''instrument '!$D$3>=Diamètre_exter!G214,G214<>\"\"),\"\")","v":""}]
["DIM-0020","Micromètre d'extérieur à vis","0 / 25 mm",null,null,"Afficher",null,null,null,null,null,null,null,{"$f":"IF('Choix de l''instrument '!$C$3=\"Diamètre_exter\",AND('Choix de l''instrument '!$D$3>=Diamètre_exter!G215,G215<>\"\"),\"\")","v":""}]
["DIM-0016","Micromètre d'extérieur à vis","0 / 25 mm",null,null,"Afficher",null,null,null,null,null,null,null,{"$f":"IF('Choix de l''instrument '!$C$3=\"Diamètre_exter\",AND('Choix de l''instrument '!$D$3>=Diamètre_exter!G216,G216<>\"\"),\"\")","v":""}]
["DIM-0014","Micromètre d'extérieur à vis","0 / 25 mm",null,null,"Afficher",null,null,null,null,null,null,null,{"$f":"IF('Choix de l''instrument '!$C$3=\"Diamètre_exter\",AND('Choix de l''instrument '!$D$3>=Diamètre_exter!G217,G217<>\"\"),\"\")","v":""}]
["DIM-0019","Micromètre d'extérieur à vis","0 / 25 mm",null,null,"Afficher",null,null,null,null,null,null,null,{"$f":"IF('Choix de l''instrument '!$C$3=\"Diamètre_exter\",AND('Choix de l''instrument '!$D$3>=Diamètre_exter!G218,G218<>\"\"),\"\")","v":""}]
["DIM-0018","Micromètre d'extérieur à vis","0 / 25 mm",null,null,"Afficher",null,null,null,null,null,null,null,{"$f":"IF('Choix de l''instrument '!$C$3=\"Diamètre_exter\",AND('Choix de l''instrument '!$D$3>=Diamètre_exter!G219,G219<>\"\"),\"\")","v":""}]
["DIM-0038","Micromètre d'extérieur à vis","0 / 25 mm",null,null,"Afficher",null,null,null,null,null,null,null,{"$f":"IF('Choix de l''instrument '!$C$3=\"Diamètre_exter\",AND('Choix de l''instrument '!$D$3>=Diamètre_exter!G220,G220<>\"\"),\"\")","v":""}]
["DIM-0037","Micromètre d'extérieur à vis","0 / 25 mm",null,null,"Afficher",null,null,null,null,null,null,null,{"$f":"IF('Choix de l''instrument '!$C$3=\"Diamètre_exter\",AND('Choix de l''instrument '!$D$3>=Diamètre_exter!G221,G221<>\"\"),\"\")","v":""}]
["DIM-0036","Micromètre d'extérieur à vis","0 / 25 mm",null,null,"Afficher",null,null,null,null,null,null,null,{"$f":"IF('Choix de l''instrument '!$C$3=\"Diamètre_exter\",AND('Choix de l''instrument '!$D$3>=Diamètre_exter!G222,G222<>\"\"),\"\")","v":""}]
["DIM-0041","Micromètre d'extérieur à vis","0 / 25 mm",null,null,"Afficher",null,null,null,null,null,null,null,{"$f":"IF('Choix de l''instrument '!$C$3=\"Diamètre_exter\",AND('Choix de l''instrument '!$D$3>=Diamètre_exter!G223,G223<>\"\"),\"\")","v":""}]
["DIM-0039","Micromètre d'extérieur à vis","0 / 25 mm",null,null,"Afficher",null,null,null,null,null,null,null,{"$f":"IF('Choix de l''instrument '!$C$3=\"Diamètre_exter\",AND('Choix de l''instrument '!$D$3>=Diamètre_exter!G224,G224<>\"\"),\"\")","v":""}]
["DIM-0035","Micromètre d'extérieur à vis","0 / 25 mm",null,null,"Afficher",null,null,null,null,null,null,null,{"$f":"IF('Choix de l''instrument '!$C$3=\"Diamètre_exter\",AND('Choix de l''instrument '!$D$3>=Diamètre_exter!G225,G225<>\"\"),\"\")","v":""}]
["DIM-0034","Micromètre d'extérieur à vis","0 / 25 mm",null,null,"Afficher",null,null,null,null,null,null,null,{"$f":"IF('Choix de l''instrument '!$C$3=\"Diamètre_exter\",AND('Choix de l''instrument '!$D$3>=Diamètre_exter!G226,G226<>\"\"),\"\")","v":""}]
["DIM-0033","Micromètre d'extérieur à vis","0 / 25 mm",null,null,"Afficher",null,null,null,null,null,null,null,{"$f":"IF('Choix de l''instrument '!$C$3=\"Diamètre_exter\",AND('Choix de l''instrument '!$D$3>=Diamètre_exter!G227,G227<>\"\"),\"\")","v":""}]
["DIM-0069","Micromètre d'extérieur à vis","0 / 25 mm",null,null,"Afficher",null,null,null,null,null,null,null,{"$f":"IF('Choix de l''instrument '!$C$3=\"Diamètre_exter\",AND('Choix de l''instrument '!$D$3>=Diamètre_exter!G228,G228<>\"\"),\"\")","v":""}]
["DIM-0107","Micromètre d'extérieur à vis","0 / 25 mm",null,null,"Afficher",null,null,null,null,null,null,null,{"$f":"IF('Choix de l''instrument '!$C$3=\"Diamètre_exter\",AND('Choix de l''instrument '!$D$3>=Diamètre_exter!G229,G229<>\"\"),\"\")","v":""}]
["DIM-0120","Micromètre d'extérieur à vis","25 / 50 mm",null,null,"Afficher",null,null,null,null,null,null,null,{"$f":"IF('Choix de l''instrument '!$C$3=\"Diamètre_exter\",AND('Choix de l''instrument '!$D$3>=Diamètre_exter!G230,G230<>\"\"),\"\")","v":""}]
["DIM-0119","Micromètre d'extérieur à vis","25 / 50 mm",null,null,"Afficher",null,null,null,null,null,null,null,{"$f":"IF('Choix de l''instrument '!$C$3=\"Diamètre_exter\",AND('Choix de l''instrument '!$D$3>=Diamètre_exter!G231,G231<>\"\"),\"\")","v":""}]
["DIM-0124","Micromètre d'extérieur à vis","0 / 25 mm",null,null,"Afficher",null,null,null,null,null,null,null,{"$f":"IF('Choix de l''instrument '!$C$3=\"Diamètre_exter\",AND('Choix de l''instrument '!$D$3>=Diamètre_exter!G232,G232<>\"\"),\"\")","v":""}]
["DIM-0123","Micromètre d'extérieur à vis","0 / 25 mm",null,null,"Afficher",null,null,null,null,null,null,null,{"$f":"IF('Choix de l''instrument '!$C$3=\"Diamètre_exter\",AND('Choix de l''instrument '!$D$3>=Diamètre_exter!G233,G233<>\"\"),\"\")","v":""}]
["DIM-0122","Micromètre d'extérieur à vis","0 / 25 mm",null,null,"Afficher",null,null,null,null,null,null,null,{"$f":"IF('Choix de l''instrument '!$C$3=\"Diamètre_exter\",AND('Choix de l''instrument '!$D$3>=Diamètre_exter!G234,G234<>\"\"),\"\")","v":""}]
["DIM-0071","Micromètre d'extérieur à vis","0 / 25 mm",null,null,"Afficher",null,null,null,null,null,null,null,{"$f":"IF('Choix de l''instrument '!$C$3=\"Diamètre_exter\",AND('Choix de l''instrument '!$D$3>=Diamètre_exter!G235,G235<>\"\"),\"\")","v":""}]
["DIM-0070","Micromètre d'extérieur à vis","0 / 25 mm",null,null,"Afficher",null,null,null,null,null,null,null,{"$f":"IF('Choix de l''instrument '!$C$3=\"Diamètre_exter\",AND('Choix de l''instrument '!$D$3>=Diamètre_exter!G236,G236<>\"\"),\"\")","v":""}]
["DIM-0093","Micromètre d'extérieur à vis","0 / 25 mm 1µ",null,null,"Afficher",null,null,null,null,null,null,null,{"$f":"IF('Choix de l''instrument '!$C$3=\"Diamètre_exter\",AND('Choix de l''instrument '!$D$3>=Diamètre_exter!G237,G237<>\"\"),\"\")","v":""}]
["DIM-0092","Micromètre d'extérieur à vis","0 / 25 mm 1µ",null,null,"Afficher",null,null,null,null,null,null,null,{"$f":"IF('Choix de l''instrument '!$C$3=\"Diamètre_exter\",AND('Choix de l''instrument '!$D$3>=Diamètre_exter!G238,G238<>\"\"),\"\")","v":""}]
["DIM-0091","Micromètre d'extérieur à vis","0 / 25 mm 1µ",null,null,"Afficher",null,null,null,null,null,null,null,{"$f":"IF('Choix de l''instrument '!$C$3=\"Diamètre_exter\",AND('Choix de l''instrument '!$D$3>=Diamètre_exter!G239,G239<>\"\"),\"\")","v":""}]
["DIM-0090","Micromètre d'extérieur à vis","0 / 25 mm 1µ",null,null,"Afficher",null,null,null,null,null,null,null,{"$f":"IF('Choix de l''instrument '!$C$3=\"Diamètre_exter\",AND('Choix de l''instrument '!$D$3>=Diamètre_exter!G240,G240<>\"\"),\"\")","v":""}]
["DIM-0086","Micromètre d'extérieur à vis","0 / 25 mm 1µ",null,null,"Afficher",null,null,null,null,null,null,null,{"$f":"IF('Choix de l''instrument '!$C$3=\"Diamètre_exter\",AND('Choix de l''instrument '!$D$3>=Diamètre_exter!G241,G241<>\"\"),\"\")","v":""}]
["DIM-0085","Micromètre d'extérieur à vis","0 / 25 mm 1µ",null,null,"Afficher",null,null,null,null,null,null,null,{"$f":"IF('Choix de l''instrument '!$C$3=\"Diamètre_exter\",AND('Choix de l''instrument '!$D$3>=Diamètre_exter!G242,G242<>\"\"),\"\")","v":""}]
["DIM-0089","Micromètre d'extérieur à vis","0 / 25 mm 1µ",null,null,"Afficher",null,null,null,null,null,null,null,{"$f":"IF('Choix de l''instrument '!$C$3=\"Diamètre_exter\",AND('Choix de l''instrument '!$D$3>=Diamètre_exter!G243,G243<>\"\"),\"\")","v":""}]
["DIM-0088","Micromètre d'extérieur à vis","0 / 25 mm 1µ",null,null,"Afficher",null,null,null,null,null,null,null,{"$f":"IF('Choix de l''instrument '!$C$3=\"Diamètre_exter\",AND('Choix de l''instrument '!$D$3>=Diamètre_exter!G244,G244<>\"\"),\"\")","v":""}]
["DIM-0087","Micromètre d'extérieur à vis","0 / 25 mm 1µ",null,null,"Afficher",null,null,null,null,null,null,null,{"$f":"IF('Choix de l''instrument '!$C$3=\"Diamètre_exter\",AND('Choix de l''instrument '!$D$3>=Diamètre_exter!G245,G245<>\"\"),\"\")","v":""}]
["CP.037","Micromètre d'extérieur à vis","0 / 25 mm",null,null,"Afficher",null,null,null,null,null,null,null,{"$f":"IF('Choix de l''instrument '!$C$3=\"Diamètre_exter\",AND('Choix de l''instrument '!$D$3>=Diamètre_exter!G246,G246<>\"\"),\"\")","v":""}]
["CP.009","Micromètre d'extérieur à vis","0 / 25 mm",null,null,"Afficher",null,null,null,null,null,null,null,{"$f":"IF('Choix de l''instrument '!$C$3=\"Diamètre_exter\",AND('Choix de l''instrument '!$D$3>=Diamètre_exter!G247,G247<>\"\"),\"\")","v":""}]
["CP.018","Micromètre d'extérieur à vis","50 / 75 mm",null,null,"Afficher",null,null,null,null,null,null,null,{"$f":"IF('Choix de l''instrument '!$C$3=\"Diamètre_exter\",AND('Choix de l''instrument '!$D$3>=Diamètre_exter!G248,G248<>\"\"),\"\")","v":""}]
["CP.073","Micromètre d'extérieur à vis","0 / 25 mm",null,null,"Afficher",null,null,null,null,null,null,null,{"$f":"IF('Choix de l''instrument '!$C$3=\"Diamètre_exter\",AND('Choix de l''instrument '!$D$3>=Diamètre_exter!G249,G249<>\"\"),\"\")","v":""}]
["CP.072","Micromètre d'extérieur à vis","0 / 25 mm",null,null,"Afficher",null,null,null,null,null,null,null,{"$f":"IF('Choix de l''instrument '!$C$3=\"Diamètre_exter\",AND('Choix de l''instrument '!$D$3>=Diamètre_exter!G250,G250<>\"\"),\"\")","v":""}]
["DIM-0007","Micromètre d'extérieur à vis","0 / 25 mm",null,null,"Afficher",null,null,null,null,null,null,null,{"$f":"IF('Choix de l''instrument '!$C$3=\"Diamètre_exter\",AND('Choix de l''instrument '!$D$3>=Diamètre_exter!G251,G251<>\"\"),\"\")","v":""}]
["DIM-0012","Micromètre d'extérieur à vis","25 / 55 mm",null,null,"Afficher",null,null,null,null,null,null,null,{"$f":"IF('Choix de l''instrument '!$C$3=\"Diamètre_exter\",AND('Choix de l''instrument '!$D$3>=Diamètre_exter!G252,G252<>\"\"),\"\")","v":""}]
["DIM-0011","Micromètre d'extérieur à vis","25 / 50 mm",null,null,"Afficher",null,null,null,null,null,null,null,{"$f":"IF('Choix de l''instrument '!$C$3=\"Diamètre_exter\",AND('Choix de l''instrument '!$D$3>=Diamètre_exter!G253,G253<>\"\"),\"\")","v":""}]
["DIM-0006","Micromètre d'extérieur à vis","0 / 25 mm",null,null,"Afficher",null,null,null,null,null,null,null,{"$f":"IF('Choix de l''instrument '!$C$3=\"Diamètre_exter\",AND('Choix de l''instrument '!$D$3>=Diamètre_exter!G254,G254<>\"\"),\"\")","v":""}]
["DIM-0005","Micromètre d'extérieur à vis","0 / 25 mm",null,null,"Afficher",null,null,null,null,null,null,null,{"$f":"IF('Choix de l''instrument '!$C$3=\"Diamètre_exter\",AND('Choix de l''instrument '!$D$3>=Diamètre_exter!G255,G255<>\"\"),\"\")","v":""}]
["DIM-0003","Micromètre d'extérieur à vis","± 25 / 50 mm",null,null,"Afficher",null,null,null,null,null,null,null,{"$f":"IF('Choix de l''instrument '!$C$3=\"Diamètre_exter\",AND('Choix de l''instrument '!$D$3>=Diamètre_exter!G256,G256<>\"\"),\"\")","v":""}]
["M.249","Pied à coulisse","0 / 150 mm",null,null,"Afficher",null,null,null,null,null,null,null,{"$f":"IF('Choix de l''instrument '!$C$3=\"Diamètre_exter\",AND('Choix de l''instrument '!$D$3>=Diamètre_exter!G257,G257<>\"\"),\"\")","v":""}]
["M.296","Pied à coulisse","0 / 150 mm",null,null,"Afficher",null,null,null,null,null,null,null,{"$f":"IF('Choix de l''instrument '!$C$3=\"Diamètre_exter\",AND('Choix de l''instrument '!$D$3>=Diamètre_exter!G258,G258<>\"\"),\"\")","v":""}]
["M.250","Pied à coulisse","0 / 150 mm",null,null,"Afficher",null,null,null,null,null,null,null,{"$f":"IF('Choix de l''instrument '!$C$3=\"Diamètre_exter\",AND('Choix de l''instrument '!$D$3>=Diamètre_exter!G259,G259<>\"\"),\"\")","v":""}]
["M.279","Pied à coulisse","0 / 150 mm",null,null,"Afficher",null,null,null,null,null,null,null,{"$f":"IF('Choix de l''instrument '!$C$3=\"Diamètre_exter\",AND('Choix de l''instrument '!$D$3>=Diamètre_exter!G260,G260<>\"\"),\"\")","v":""}]
["M.269","Pied à coulisse","0 / 150 mm",null,null,"Afficher",null,null,null,null,null,null,null,{"$f":"IF('Choix de l''instrument '!$C$3=\"Diamètre_exter\",AND('Choix de l''instrument '!$D$3>=Diamètre_exter!G261,G261<>\"\"),\"\")","v":""}]
["M.077","Pied à coulisse","0 / 150 mm",null,null,"Afficher",null,null,null,null,null,null,null,{"$f":"IF('Choix de l''instrument '!$C$3=\"Diamètre_exter\",AND('Choix de l''instrument '!$D$3>=Diamètre_exter!G262,G262<>\"\"),\"\")","v":""}]
["M.072","Pied à coulisse","0 / 500 mm",null,null,"Afficher",null,null,null,null,null,null,null,{"$f":"IF('Choix de l''instrument '!$C$3=\"Diamètre_exter\",AND('Choix de l''instrument '!$D$3>=Diamètre_exter!G263,G263<>\"\"),\"\")","v":""}]
["M.038","Pied à coulisse","0 / 300 mm",null,null,"Afficher",null,null,null,null,null,null,null,{"$f":"IF('Choix de l''instrument '!$C$3=\"Diamètre_exter\",AND('Choix de l''instrument '!$D$3>=Diamètre_exter!G264,G264<>\"\"),\"\")","v":""}]
["M.037","Pied à coulisse","0 / 150 mm",null,null,"Afficher",null,null,null,null,null,null,null,{"$f":"IF('Choix de l''instrument '!$C$3=\"Diamètre_exter\",AND('Choix de l''instrument '!$D$3>=Diamètre_exter!G265,G265<>\"\"),\"\")","v":""}]
["M.002","Pied à coulisse","0 / 150 mm",null,null,"Afficher",null,null,null,null,null,null,null,{"$f":"IF('Choix de l''instrument '!$C$3=\"Diamètre_exter\",AND('Choix de l''instrument '!$D$3>=Diamètre_exter!G266,G266<>\"\"),\"\")","v":""}]
["TR.014","Pied à coulisse","0 / 200 mm",null,null,"Afficher",null,null,null,null,null,null,null,{"$f":"IF('Choix de l''instrument '!$C$3=\"Diamètre_exter\",AND('Choix de l''instrument '!$D$3>=Diamètre_exter!G267,G267<>\"\"),\"\")","v":""}]
["TR.051","Pied à coulisse","0 / 1000 mm",null,null,"Afficher",null,null,null,null,null,null,null,{"$f":"IF('Choix de l''instrument '!$C$3=\"Diamètre_exter\",AND('Choix de l''instrument '!$D$3>=Diamètre_exter!G268,G268<>\"\"),\"\")","v":""}]
["TR.049","Pied à coulisse","0 / 200 mm",null,null,"Afficher",null,null,null,null,null,null,null,{"$f":"IF('Choix de l''instrument '!$C$3=\"Diamètre_exter\",AND('Choix de l''instrument '!$D$3>=Diamètre_exter!G269,G269<>\"\"),\"\")","v":""}]
["TR.052","Pied à coulisse","0 / 200 mm",null,null,"Afficher",null,null,null,null,null,null,null,{"$f":"IF('Choix de l''instrument '!$C$3=\"Diamètre_exter\",AND('Choix de l''instrument '!$D$3>=Diamètre_exter!G270,G270<>\"\"),\"\")","v":""}]
["TR.035","Pied à coulisse","0 / 200 mm",null,null,"Afficher",null,null,null,null,null,null,null,{"$f":"IF('Choix de l''instrument '!$C$3=\"Diamètre_exter\",AND('Choix de l''instrument '!$D$3>=Diamètre_exter!G271,G271<>\"\"),\"\")","v":""}]
["THE.014","Pied à coulisse","0 / 150 mm",null,null,"Afficher",null,null,null,null,null,null,null,{"$f":"IF('Choix de l''instrument '!$C$3=\"Diamètre_exter\",AND('Choix de l''instrument '!$D$3>=Diamètre_exter!G272,G272<>\"\"),\"\")","v":""}]
["THE.001","Pied à coulisse","0 / 150 mm",null,null,"Afficher",null,null,null,null,null,null,null,{"$f":"IF('Choix de l''instrument '!$C$3=\"Diamètre_exter\",AND('Choix de l''instrument '!$D$3>=Diamètre_exter!G273,G273<>\"\"),\"\")","v":""}]
["THE.122","Pied à coulisse","0 / 150 mm",null,null,"Afficher",null,null,null,null,null,null,null,{"$f":"IF('Choix de l''instrument '!$C$3=\"Diamètre_exter\",AND('Choix de l''instrument '!$D$3>=Diamètre_exter!G274,G274<>\"\"),\"\")","v":""}]
["THE.142","Pied à coulisse","0 / 200 mm",null,null,"Afficher",null,null,null,null,null,null,null,{"$f":"IF('Choix de l''instrument '!$C$3=\"Diamètre_exter\",AND('Choix de l''instrument '!$D$3>=Diamètre_exter!G275,G275<>\"\"),\"\")","v":""}]
["THE.141","Pied à coulisse","0 / 200 mm",null,null,"Afficher",null,null,null,null,null,null,null,{"$f":"IF('Choix de l''instrument '!$C$3=\"Diamètre_exter\",AND('Choix de l''instrument '!$D$3>=Diamètre_exter!G276,G276<>\"\"),\"\")","v":""}]
["THE.123","Pied à coulisse","0 / 200 mm",null,null,"Afficher",null,null,null,null,null,null,null,{"$f":"IF('Choix de l''instrument '!$C$3=\"Diamètre_exter\",AND('Choix de l''instrument '!$D$3>=Diamètre_exter!G277,G277<>\"\"),\"\")","v":""}]
["THE.055","Pied à coulisse","0 / 300 mm",null,null,"Afficher",null,null,null,null,null,null,null,{"$f":"IF('Choix de l''instrument '!$C$3=\"Diamètre_exter\",AND('Choix de l''instrument '!$D$3>=Diamètre_exter!G278,G278<>\"\"),\"\")","v":""}]
["THE.019","Pied à coulisse","0 / 500 mm",null,null,"Afficher",null,null,null,null,null,null,null,{"$f":"IF('Choix de l''instrument '!$C$3=\"Diamètre_exter\",AND('Choix de l''instrument '!$D$3>=Diamètre_exter!G279,G279<>\"\"),\"\")","v":""}]
["THE.023","Pied à coulisse","0 / 150 mm",null,null,"Afficher",null,null,null,null,null,null,null,{"$f":"IF('Choix de l''instrument '!$C$3=\"Diamètre_exter\",AND('Choix de l''instrument '!$D$3>=Diamètre_exter!G280,G280<>\"\"),\"\")","v":""}]
["THE.091","Pied à coulisse","0 / 150 mm",null,null,"Afficher",null,null,null,null,null,null,null,{"$f":"IF('Choix de l''instrument '!$C$3=\"Diamètre_exter\",AND('Choix de l''instrument '!$D$3>=Diamètre_exter!G281,G281<>\"\"),\"\")","v":""}]
["SQ.037","Pied à coulisse","0 / 150 mm",null,null,"Afficher",null,null,null,null,null,null,null,{"$f":"IF('Choix de l''instrument '!$C$3=\"Diamètre_exter\",AND('Choix de l''instrument '!$D$3>=Diamètre_exter!G282,G282<>\"\"),\"\")","v":""}]
["PAC-030","Pied à coulisse","0 / 150 mm",null,null,"Afficher",null,null,null,null,null,null,null,{"$f":"IF('Choix de l''instrument '!$C$3=\"Diamètre_exter\",AND('Choix de l''instrument '!$D$3>=Diamètre_exter!G283,G283<>\"\"),\"\")","v":""}]
["PAC-029","Pied à coulisse","0 / 150 mm",null,null,"Afficher",null,null,null,null,null,null,null,{"$f":"IF('Choix de l''instrument '!$C$3=\"Diamètre_exter\",AND('Choix de l''instrument '!$D$3>=Diamètre_exter!G284,G284<>\"\"),\"\")","v":""}]
["PAC-028","Pied à coulisse","0 / 200 mm",null,null,"Afficher",null,null,null,null,null,null,null,{"$f":"IF('Choix de l''instrument '!$C$3=\"Diamètre_exter\",AND('Choix de l''instrument '!$D$3>=Diamètre_exter!G285,G285<>\"\"),\"\")","v":""}]
["PAC-034","Pied à coulisse","0 / 150 mm",null,null,"Afficher",null,null,null,null,null,null,null,{"$f":"IF('Choix de l''instrument '!$C$3=\"Diamètre_exter\",AND('Choix de l''instrument '!$D$3>=Diamètre_exter!G286,G286<>\"\"),\"\")","v":""}]
["PAC-033","Pied à coulisse","0 / 200 mm",null,null,"Afficher",null,null,null,null,null,null,null,{"$f":"IF('Choix de l''instrument '!$C$3=\"Diamètre_exter\",AND('Choix de l''instrument '!$D$3>=Diamètre_exter!G287,G287<>\"\"),\"\")","v":""}]
["PAC-031","Pied à coulisse","0 / 150 mm",null,null,"Afficher",null,null,null,null,null,null,null,{"$f":"IF('Choix de l''instrument '!$C$3=\"Diamètre_exter\",AND('Choix de l''instrument '!$D$3>=Diamètre_exter!G288,G288<>\"\"),\"\")","v":""}]
["PAC-027","Pied à coulisse","0 / 200 mm",null,null,"Afficher",null,null,null,null,null,null,null,{"$f":"IF('Choix de l''instrument '!$C$3=\"Diamètre_exter\",AND('Choix de l''instrument '!$D$3>=Diamètre_exter!G289,G289<>\"\"),\"\")","v":""}]
["PAC-023","Pied à coulisse","0 / 600 mm",null,null,"Afficher",null,null,null,null,null,null,null,{"$f":"IF('Choix de l''instrument '!$C$3=\"Diamètre_exter\",AND('Choix de l''instrument '!$D$3>=Diamètre_exter!G290,G290<>\"\"),\"\")","v":""}]
["PAC-022","Pied à coulisse","0 / 200",null,null,"Afficher",null,null,null,null,null,null,null,{"$f":"IF('Choix de l''instrument '!$C$3=\"Diamètre_exter\",AND('Choix de l''instrument '!$D$3>=Diamètre_exter!G291,G291<>\"\"),\"\")","v":""}]
["PAC-021","Pied à coulisse","0 / 200 mm",null,null,"Afficher",null,null,null,null,null,null,null,{"$f":"IF('Choix de l''instrument '!$C$3=\"Diamètre_exter\",AND('Choix de l''instrument '!$D$3>=Diamètre_exter!G292,G292<>\"\"),\"\")","v":""}]
["PAC-026","Pied à coulisse","0 / 200 mm",null,null,"Afficher",null,null,null,null,null,null,null,{"$f":"IF('Choix de l''instrument '!$C$3=\"Diamètre_exter\",AND('Choix de l''instrument '!$D$3>=Diamètre_exter!G293,G293<>\"\"),\"\")","v":""}]
["PAC-025","Pied à coulisse","0 / 200 mm",null,null,"Afficher",null,null,null,null,null,null,null,{"$f":"IF('Choix de l''instrument '!$C$3=\"Diamètre_exter\",AND('Choix de l''instrument '!$D$3>=Diamètre_exter!G294,G294<>\"\"),\"\")","v":""}]
["PAC-024","Pied à coulisse","0 / 200 mm",null,null,"Afficher",null,null,null,null,null,null,null,{"$f":"IF('Choix de l''instrument '!$C$3=\"Diamètre_exter\",AND('Choix de l''instrument '!$D$3>=Diamètre_exter!G295,G295<>\"\"),\"\")","v":""}]
["PAC-035","Pied à coulisse","0 / 200 mm",null,null,"Afficher",null,null,null,null,null,null,null,{"$f":"IF('Choix de l''instrument '!$C$3=\"Diamètre_exter\",AND('Choix de l''instrument '!$D$3>=Diamètre_exter!G296,G296<>\"\"),\"\")","v":""}]
["PAC-119","Pied à coulisse","0 / 200 mm",null,null,"Afficher",null,null,null,null,null,null,null,{"$f":"IF('Choix de l''instrument '!$C$3=\"Diamètre_exter\",AND('Choix de l''instrument '!$D$3>=Diamètre_exter!G297,G297<>\"\"),\"\")","v":""}]
["PAC-118","Pied à coulisse","0 / 200 mm",null,null,"Afficher",null,null,null,null,null,null,null,{"$f":"IF('Choix de l''instrument '!$C$3=\"Diamètre_exter\",AND('Choix de l''instrument '!$D$3>=Diamètre_exter!G298,G298<>\"\"),\"\")","v":""}]
["PAC-110","Pied à coulisse","0 / 200 mm",null,null,"Afficher",null,null,null,null,null,null,null,{"$f":"IF('Choix de l''instrument '!$C$3=\"Diamètre_exter\",AND('Choix de l''instrument '!$D$3>=Diamètre_exter!G299,G299<>\"\"),\"\")","v":""}]
["PAC-236","Pied à coulisse","0 / 200 mm",null,null,"Afficher",null,null,null,null,null,null,null,{"$f":"IF('Choix de l''instrument '!$C$3=\"Diamètre_exter\",AND('Choix de l''instrument '!$D$3>=Diamètre_exter!G300,G300<>\"\"),\"\")","v":""}]
["PAC-208","Pied à coulisse","0 / 1000 mm",null,null,"Afficher",null,null,null,null,null,null,null,{"$f":"IF('Choix de l''instrument '!$C$3=\"Diamètre_exter\",AND('Choix de l''instrument '!$D$3>=Diamètre_exter!G301,G301<>\"\"),\"\")","v":""}]
["PAC-207","Pied à coulisse","0 / 600 mm",null,null,"Afficher",null,null,null,null,null,null,null,{"$f":"IF('Choix de l''instrument '!$C$3=\"Diamètre_exter\",AND('Choix de l''instrument '!$D$3>=Diamètre_exter!G302,G302<>\"\"),\"\")","v":""}]
["PAC-107","Pied à coulisse","0 / 300 mm",null,null,"Afficher",null,null,null,null,null,null,null,{"$f":"IF('Choix de l''instrument '!$C$3=\"Diamètre_exter\",AND('Choix de l''instrument '!$D$3>=Diamètre_exter!G303,G303<>\"\"),\"\")","v":""}]
["PAC-038","Pied à coulisse","0 / 200 mm",null,null,"Afficher",null,null,null,null,null,null,null,{"$f":"IF('Choix de l''instrument '!$C$3=\"Diamètre_exter\",AND('Choix de l''instrument '!$D$3>=Diamètre_exter!G304,G304<>\"\"),\"\")","v":""}]
["PAC-037","Pied à coulisse","0 / 200 mm",null,null,"Afficher",null,null,null,null,null,null,null,{"$f":"IF('Choix de l''instrument '!$C$3=\"Diamètre_exter\",AND('Choix de l''instrument '!$D$3>=Diamètre_exter!G305,G305<>\"\"),\"\")","v":""}]
["PAC-036","Pied à coulisse","0 / 200 mm",null,null,"Afficher",null,null,null,null,null,null,null,{"$f":"IF('Choix de l''instrument '!$C$3=\"Diamètre_exter\",AND('Choix de l''instrument '!$D$3>=Diamètre_exter!G306,G306<>\"\"),\"\")","v":""}]
["PAC-041","Pied à coulisse","0 / 200 mm",null,null,"Afficher",null,null,null,null,null,null,null,{"$f":"IF('Choix de l''instrument '!$C$3=\"Diamètre_exter\",AND('Choix de l''instrument '!$D$3>=Diamètre_exter!G307,G307<>\"\"),\"\")","v":""}]
["PAC-040","Pied à coulisse","0 / 200 mm",null,null,"Afficher",null,null,null,null,null,null,null,{"$f":"IF('Choix de l''instrument '!$C$3=\"Diamètre_exter\",AND('Choix de l''instrument '!$D$3>=Diamètre_exter!G308,G308<>\"\"),\"\")","v":""}]
["PAC-039","Pied à coulisse","0 / 200 mm",null,null,"Afficher",null,null,null,null,null,null,null,{"$f":"IF('Choix de l''instrument '!$C$3=\"Diamètre_exter\",AND('Choix de l''instrument '!$D$3>=Diamètre_exter!G309,G309<>\"\"),\"\")","v":""}]
["PAC-003","Pied à coulisse","0 / 200 mm",null,null,"Afficher",null,null,null,null,null,null,null,{"$f":"IF('Choix de l''instrument '!$C$3=\"Diamètre_exter\",AND('Choix de l''instrument '!$D$3>=Diamètre_exter!G310,G310<>\"\"),\"\")","v":""}]
["PAC-002","Pied à coulisse","0 / 200 mm",null,null,"Afficher",null,null,null,null,null,null,null,{"$f":"IF('Choix de l''instrument '!$C$3=\"Diamètre_exter\",AND('Choix de l''instrument '!$D$3>=Diamètre_exter!G311,G311<>\"\"),\"\")","v":""}]
["PAC-001","Pied à coulisse","0 / 200 mm",null,null,"Afficher",null,null,null,null,null,null,null,{"$f":"IF('Choix de l''instrument '!$C$3=\"Diamètre_exter\",AND('Choix de l''instrument '!$D$3>=Diamètre_exter!G312,G312<>\"\"),\"\")","v":""}]
["PAC-006","Pied à coulisse","0 / 200 mm",null,null,"Afficher",null,null,null,null,null,null,null,{"$f":"IF('Choix de l''instrument '!$C$3=\"Diamètre_exter\",AND('Choix de l''instrument '!$D$3>=Diamètre_exter!G313,G313<>\"\"),\"\")","v":""}]
["PAC-005","Pied à coulisse","0 / 200 mm",null,null,"Afficher",null,null,null,null,null,null,null,{"$f":"IF('Choix de l''instrument '!$C$3=\"Diamètre_exter\",AND('Choix de l''instrument '!$D$3>=Diamètre_exter!G314,G314<>\"\"),\"\")","v":""}]
["PAC-004","Pied à coulisse","0 / 200 mm",null,null,"Afficher",null,null,null,null,null,null,null,{"$f":"IF('Choix de l''instrument '!$C$3=\"Diamètre_exter\",AND('Choix de l''instrument '!$D$3>=Diamètre_exter!G315,G315<>\"\"),\"\")","v":""}]
["PA.024","Pied à coulisse","0 / 200 mm",null,null,"Afficher",null,null,null,null,null,null,null,{"$f":"IF('Choix de l''instrument '!$C$3=\"Diamètre_exter\",AND('Choix de l''instrument '!$D$3>=Diamètre_exter!G316,G316<>\"\"),\"\")","v":""}]
["PAC-007","Pied à coulisse","0 / 200 mm",null,null,"Afficher",null,null,null,null,null,null,null,{"$f":"IF('Choix de l''instrument '!$C$3=\"Diamètre_exter\",AND('Choix de l''instrument '!$D$3>=Diamètre_exter!G317,G317<>\"\"),\"\")","v":""}]
["PAC-017","Pied à coulisse","0 / 200 mm",null,null,"Afficher",null,null,null,null,null,null,null,{"$f":"IF('Choix de l''instrument '!$C$3=\"Diamètre_exter\",AND('Choix de l''instrument '!$D$3>=Diamètre_exter!G318,G318<>\"\"),\"\")","v":""}]
["PAC-016","Pied à coulisse","0 / 200 mm",null,null,"Afficher",null,null,null,null,null,null,null,{"$f":"IF('Choix de l''instrument '!$C$3=\"Diamètre_exter\",AND('Choix de l''instrument '!$D$3>=Diamètre_exter!G319,G319<>\"\"),\"\")","v":""}]
["PAC-015","Pied à coulisse","0 / 300 mm",null,null,"Afficher",null,null,null,null,null,null,null,{"$f":"IF('Choix de l''instrument '!$C$3=\"Diamètre_exter\",AND('Choix de l''instrument '!$D$3>=Diamètre_exter!G320,G320<>\"\"),\"\")","v":""}]
["PAC-020","Pied à coulisse","0 / 200 mm",null,null,"Afficher",null,null,null,null,null,null,null,{"$f":"IF('Choix de l''instrument '!$C$3=\"Diamètre_exter\",AND('Choix de l''instrument '!$D$3>=Diamètre_exter!G321,G321<>\"\"),\"\")","v":""}]
["PAC-019","Pied à coulisse","0 / 200 mm",null,null,"Afficher",null,null,null,null,null,null,null,{"$f":"IF('Choix de l''instrument '!$C$3=\"Diamètre_exter\",AND('Choix de l''instrument '!$D$3>=Diamètre_exter!G322,G322<>\"\"),\"\")","v":""}]
["PAC-018","Pied à coulisse","0 / 200 mm",null,null,"Afficher",null,null,null,null,null,null,null,{"$f":"IF('Choix de l''instrument '!$C$3=\"Diamètre_exter\",AND('Choix de l''instrument '!$D$3>=Diamètre_exter!G323,G323<>\"\"),\"\")","v":""}]
["PAC-014","Pied à coulisse","0 / 200 mm",null,null,"Afficher",null,null,null,null,null,null,null,{"$f":"IF('Choix de l''instrument '!$C$3=\"Diamètre_exter\",AND('Choix de l''instrument '!$D$3>=Diamètre_exter!G324,G324<>\"\"),\"\")","v":""}]
["PAC-010","Pied à coulisse",null,null,null,"Afficher",null,null,null,null,null,null,null,{"$f":"IF('Choix de l''instrument '!$C$3=\"Diamètre_exter\",AND('Choix de l''instrument '!$D$3>=Diamètre_exter!G325,G325<>\"\"),\"\")","v":""}]
["PAC-009","Pied à coulisse","0 / 300 mm",null,null,"Afficher",null,null,null,null,null,null,null,{"$f":"IF('Choix de l''instrument '!$C$3=\"Diamètre_exter\",AND('Choix de l''instrument '!$D$3>=Diamètre_exter!G326,G326<>\"\"),\"\")","v":""}]
["PAC-008","Pied à coulisse","0 / 200 mm",null,null,"Afficher",null,null,null,null,null,null,null,{"$f":"IF('Choix de l''instrument '!$C$3=\"Diamètre_exter\",AND('Choix de l''instrument '!$D$3>=Diamètre_exter!G327,G327<>\"\"),\"\")","v":""}]
["PAC-013","Pied à coulisse","0 / 200 mm",null,null,"Afficher",null,null,null,null,null,null,null,{"$f":"IF('Choix de l''instrument '!$C$3=\"Diamètre_exter\",AND('Choix de l''instrument '!$D$3>=Diamètre_exter!G328,G328<>\"\"),\"\")","v":""}]
["PAC-012","Pied à coulisse","0 / 1000 mm",null,null,"Afficher",null,null,null,null,null,null,null,{"$f":"IF('Choix de l''instrument '!$C$3=\"Diamètre_exter\",AND('Choix de l''instrument '!$D$3>=Diamètre_exter!G329,G329<>\"\"),\"\")","v":""}]
["PAC-011","Pied à coulisse","0 / 200 mm",null,null,"Afficher",null,null,null,null,null,null,null,{"$f":"IF('Choix de l''instrument '!$C$3=\"Diamètre_exter\",AND('Choix de l''instrument '!$D$3>=Diamètre_exter!G330,G330<>\"\"),\"\")","v":""}]
["PAC-237","Pied à coulisse","0 / 1000 mm",null,null,"Afficher",null,null,null,null,null,null,null,{"$f":"IF('Choix de l''instrument '!$C$3=\"Diamètre_exter\",AND('Choix de l''instrument '!$D$3>=Diamètre_exter!G331,G331<>\"\"),\"\")","v":""}]
["PCC.016","Pied à coulisse","0 / 200 mm",null,null,"Afficher",null,null,null,null,null,null,null,{"$f":"IF('Choix de l''instrument '!$C$3=\"Diamètre_exter\",AND('Choix de l''instrument '!$D$3>=Diamètre_exter!G332,G332<>\"\"),\"\")","v":""}]
["TC.087","Pied à coulisse","0 / 200 mm",null,null,"Afficher",null,null,null,null,null,null,null,{"$f":"IF('Choix de l''instrument '!$C$3=\"Diamètre_exter\",AND('Choix de l''instrument '!$D$3>=Diamètre_exter!G333,G333<>\"\"),\"\")","v":""}]
["TC.100","Pied à coulisse","0 / 150 mm",null,null,"Afficher",null,null,null,null,null,null,null,{"$f":"IF('Choix de l''instrument '!$C$3=\"Diamètre_exter\",AND('Choix de l''instrument '!$D$3>=Diamètre_exter!G334,G334<>\"\"),\"\")","v":""}]
["TC.099","Pied à coulisse","0 / 150 mm",null,null,"Afficher",null,null,null,null,null,null,null,{"$f":"IF('Choix de l''instrument '!$C$3=\"Diamètre_exter\",AND('Choix de l''instrument '!$D$3>=Diamètre_exter!G335,G335<>\"\"),\"\")","v":""}]
["TC.098","Pied à coulisse","0 / 150 mm",null,null,"Afficher",null,null,null,null,null,null,null,{"$f":"IF('Choix de l''instrument '!$C$3=\"Diamètre_exter\",AND('Choix de l''instrument '!$D$3>=Diamètre_exter!G336,G336<>\"\"),\"\")","v":""}]
["TC.090","Pied à coulisse","0 / 150 mm",null,null,"Afficher",null,null,null,null,null,null,null,{"$f":"IF('Choix de l''instrument '!$C$3=\"Diamètre_exter\",AND('Choix de l''instrument '!$D$3>=Diamètre_exter!G337,G337<>\"\"),\"\")","v":""}]
["CAT.075","Pied à coulisse","0 / 500 mm",null,null,"Afficher",null,null,null,null,null,null,null,{"$f":"IF('Choix de l''instrument '!$C$3=\"Diamètre_exter\",AND('Choix de l''instrument '!$D$3>=Diamètre_exter!G338,G338<>\"\"),\"\")","v":""}]
["CAT.080","Pied à coulisse","0 / 200 mm",null,null,"Afficher",null,null,null,null,null,null,null,{"$f":"IF('Choix de l''instrument '!$C$3=\"Diamètre_exter\",AND('Choix de l''instrument '!$D$3>=Diamètre_exter!G339,G339<>\"\"),\"\")","v":""}]
["CAT.079","Pied à coulisse","0 / 200 mm",null,null,"Afficher",null,null,null,null,null,null,null,{"$f":"IF('Choix de l''instrument '!$C$3=\"Diamètre_exter\",AND('Choix de l''instrument '!$D$3>=Diamètre_exter!G340,G340<>\"\"),\"\")","v":""}]
["CAT.078","Pied à coulisse","0 / 200 mm",null,null,"Afficher",null,null,null,null,null,null,null,{"$f":"IF('Choix de l''instrument '!$C$3=\"Diamètre_exter\",AND('Choix de l''instrument '!$D$3>=Diamètre_exter!G341,G341<>\"\"),\"\")","v":""}]
["CAT.118","Pied à coulisse","0 / 200 mm",null,null,"Afficher",null,null,null,null,null,null,null,{"$f":"IF('Choix de l''instrument '!$C$3=\"Diamètre_exter\",AND('Choix de l''instrument '!$D$3>=Diamètre_exter!G342,G342<>\"\"),\"\")","v":""}]
["CAT.117","Pied à coulisse","0 / 200 mm",null,null,"Afficher",null,null,null,null,null,null,null,{"$f":"IF('Choix de l''instrument '!$C$3=\"Diamètre_exter\",AND('Choix de l''instrument '!$D$3>=Diamètre_exter!G343,G343<>\"\"),\"\")","v":""}]
["CAT.015","Pied à coulisse",null,null,null,"Afficher",null,null,null,null,null,null,null,{"$f":"IF('Choix de l''instrument '!$C$3=\"Diamètre_exter\",AND('Choix de l''instrument '!$D$3>=Diamètre_exter!G344,G344<>\"\"),\"\")","v":""}]
["CAT.040","Pied à coulisse","0 / 300 mm",null,null,"Afficher",null,null,null,null,null,null,null,{"$f":"IF('Choix de l''instrument '!$C$3=\"Diamètre_exter\",AND('Choix de l''instrument '!$D$3>=Diamètre_exter!G345,G345<>\"\"),\"\")","v":""}]
["CAT.035","Pied à coulisse","0 / 150 mm",null,null,"Afficher",null,null,null,null,null,null,null,{"$f":"IF('Choix de l''instrument '!$C$3=\"Diamètre_exter\",AND('Choix de l''instrument '!$D$3>=Diamètre_exter!G346,G346<>\"\"),\"\")","v":""}]
["CF.087","Pied à coulisse","0 / 200 mm",null,null,"Afficher",null,null,null,null,null,null,null,{"$f":"IF('Choix de l''instrument '!$C$3=\"Diamètre_exter\",AND('Choix de l''instrument '!$D$3>=Diamètre_exter!G347,G347<>\"\"),\"\")","v":""}]
["CF.083","Pied à coulisse","0 / 200 mm",null,null,"Afficher",null,null,null,null,null,null,null,{"$f":"IF('Choix de l''instrument '!$C$3=\"Diamètre_exter\",AND('Choix de l''instrument '!$D$3>=Diamètre_exter!G348,G348<>\"\"),\"\")","v":""}]
["CF.054","Pied à coulisse","0 / 150 mm",null,null,"Afficher",null,null,null,null,null,null,null,{"$f":"IF('Choix de l''instrument '!$C$3=\"Diamètre_exter\",AND('Choix de l''instrument '!$D$3>=Diamètre_exter!G349,G349<>\"\"),\"\")","v":""}]
["CF.061","Pied à coulisse","0 / 500 mm",null,null,"Afficher",null,null,null,null,null,null,null,{"$f":"IF('Choix de l''instrument '!$C$3=\"Diamètre_exter\",AND('Choix de l''instrument '!$D$3>=Diamètre_exter!G350,G350<>\"\"),\"\")","v":""}]
["CF.040","Pied à coulisse","0 / 1000 mm",null,null,"Afficher",null,null,null,null,null,null,null,{"$f":"IF('Choix de l''instrument '!$C$3=\"Diamètre_exter\",AND('Choix de l''instrument '!$D$3>=Diamètre_exter!G351,G351<>\"\"),\"\")","v":""}]
["CF.048","Pied à coulisse","0 / 500 mm",null,null,"Afficher",null,null,null,null,null,null,null,{"$f":"IF('Choix de l''instrument '!$C$3=\"Diamètre_exter\",AND('Choix de l''instrument '!$D$3>=Diamètre_exter!G352,G352<>\"\"),\"\")","v":""}]
["CE.259","Pied à coulisse","0 / 300 mm",null,null,"Afficher",null,null,null,null,null,null,null,{"$f":"IF('Choix de l''instrument '!$C$3=\"Diamètre_exter\",AND('Choix de l''instrument '!$D$3>=Diamètre_exter!G353,G353<>\"\"),\"\")","v":""}]
["CAT.146","Pied à coulisse","0 / 200 mm",null,null,"Afficher",null,null,null,null,null,null,null,{"$f":"IF('Choix de l''instrument '!$C$3=\"Diamètre_exter\",AND('Choix de l''instrument '!$D$3>=Diamètre_exter!G354,G354<>\"\"),\"\")","v":""}]
["CAT.149","Pied à coulisse","0 / 200 mm",null,null,"Afficher",null,null,null,null,null,null,null,{"$f":"IF('Choix de l''instrument '!$C$3=\"Diamètre_exter\",AND('Choix de l''instrument '!$D$3>=Diamètre_exter!G355,G355<>\"\"),\"\")","v":""}]
["CAT.148","Pied à coulisse","0 / 200 mm",null,null,"Afficher",null,null,null,null,null,null,null,{"$f":"IF('Choix de l''instrument '!$C$3=\"Diamètre_exter\",AND('Choix de l''instrument '!$D$3>=Diamètre_exter!G356,G356<>\"\"),\"\")","v":""}]
["CAT.138","Pied à coulisse","0 / 200 mm",null,null,"Afficher",null,null,null,null,null,null,null,{"$f":"IF('Choix de l''instrument '!$C$3=\"Diamètre_exter\",AND('Choix de l''instrument '!$D$3>=Diamètre_exter!G357,G357<>\"\"),\"\")","v":""}]
["CAT.166","Pied à coulisse","0 / 200 mm",null,null,"Afficher",null,null,null,null,null,null,null,{"$f":"IF('Choix de l''instrument '!$C$3=\"Diamètre_exter\",AND('Choix de l''instrument '!$D$3>=Diamètre_exter!G358,G358<>\"\"),\"\")","v":""}]
["CE.251","Pied à coulisse","0 / 500 mm",null,null,"Afficher",null,null,null,null,null,null,null,{"$f":"IF('Choix de l''instrument '!$C$3=\"Diamètre_exter\",AND('Choix de l''instrument '!$D$3>=Diamètre_exter!G359,G359<>\"\"),\"\")","v":""}]
["CE.255","Pied à coulisse",null,null,null,"Afficher",null,null,null,null,null,null,null,{"$f":"IF('Choix de l''instrument '!$C$3=\"Diamètre_exter\",AND('Choix de l''instrument '!$D$3>=Diamètre_exter!G360,G360<>\"\"),\"\")","v":""}]
["CE.237","Pied à coulisse","0 / 500 mm",null,null,"Afficher",null,null,null,null,null,null,null,{"$f":"IF('Choix de l''instrument '!$C$3=\"Diamètre_exter\",AND('Choix de l''instrument '!$D$3>=Diamètre_exter!G361,G361<>\"\"),\"\")","v":""}]
["CE.243","Pied à coulisse","0 / 300 mm",null,null,"Afficher",null,null,null,null,null,null,null,{"$f":"IF('Choix de l''instrument '!$C$3=\"Diamètre_exter\",AND('Choix de l''instrument '!$D$3>=Diamètre_exter!G362,G362<>\"\"),\"\")","v":""}]
["CE.051","Pied à coulisse","0 / 150 mm",null,null,"Afficher",null,null,null,null,null,null,null,{"$f":"IF('Choix de l''instrument '!$C$3=\"Diamètre_exter\",AND('Choix de l''instrument '!$D$3>=Diamètre_exter!G363,G363<>\"\"),\"\")","v":""}]
["ED.186","Pied à coulisse","0 / 150 mm",null,null,"Afficher",null,null,null,null,null,null,null,{"$f":"IF('Choix de l''instrument '!$C$3=\"Diamètre_exter\",AND('Choix de l''instrument '!$D$3>=Diamètre_exter!G364,G364<>\"\"),\"\")","v":""}]
["DIM-0132","Pied à coulisse","0 / 150 mm",null,null,"Afficher",null,null,null,null,null,null,null,{"$f":"IF('Choix de l''instrument '!$C$3=\"Diamètre_exter\",AND('Choix de l''instrument '!$D$3>=Diamètre_exter!G365,G365<>\"\"),\"\")","v":""}]
["DIM-0148","Pied à coulisse","0 / 1000 mm",null,null,"Afficher",null,null,null,null,null,null,null,{"$f":"IF('Choix de l''instrument '!$C$3=\"Diamètre_exter\",AND('Choix de l''instrument '!$D$3>=Diamètre_exter!G366,G366<>\"\"),\"\")","v":""}]
["EC.128","Pied à coulisse","0 / 150 mm",null,null,"Afficher",null,null,null,null,null,null,null,{"$f":"IF('Choix de l''instrument '!$C$3=\"Diamètre_exter\",AND('Choix de l''instrument '!$D$3>=Diamètre_exter!G367,G367<>\"\"),\"\")","v":""}]
["ED.068","Pied à coulisse","0 / 150 mm",null,null,"Afficher",null,null,null,null,null,null,null,{"$f":"IF('Choix de l''instrument '!$C$3=\"Diamètre_exter\",AND('Choix de l''instrument '!$D$3>=Diamètre_exter!G368,G368<>\"\"),\"\")","v":""}]
["EN.134","Pied à coulisse","0 / 300 mm",null,null,"Afficher",null,null,null,null,null,null,null,{"$f":"IF('Choix de l''instrument '!$C$3=\"Diamètre_exter\",AND('Choix de l''instrument '!$D$3>=Diamètre_exter!G369,G369<>\"\"),\"\")","v":""}]
["EN.130","Pied à coulisse","0 / 1000 mm",null,null,"Afficher",null,null,null,null,null,null,null,{"$f":"IF('Choix de l''instrument '!$C$3=\"Diamètre_exter\",AND('Choix de l''instrument '!$D$3>=Diamètre_exter!G370,G370<>\"\"),\"\")","v":""}]
["CF.481","Pied à coulisse","0 / 600 mm",null,null,"Afficher",null,null,null,null,null,null,null,{"$f":"IF('Choix de l''instrument '!$C$3=\"Diamètre_exter\",AND('Choix de l''instrument '!$D$3>=Diamètre_exter!G371,G371<>\"\"),\"\")","v":""}]
["CF.478","Pied à coulisse","0 / 600 mm",null,null,"Afficher",null,null,null,null,null,null,null,{"$f":"IF('Choix de l''instrument '!$C$3=\"Diamètre_exter\",AND('Choix de l''instrument '!$D$3>=Diamètre_exter!G372,G372<>\"\"),\"\")","v":""}]
["CF.215","Pied à coulisse","0 / 150 mm",null,null,"Afficher",null,null,null,null,null,null,null,{"$f":"IF('Choix de l''instrument '!$C$3=\"Diamètre_exter\",AND('Choix de l''instrument '!$D$3>=Diamètre_exter!G373,G373<>\"\"),\"\")","v":""}]
["DIM-0050","Pied à coulisse","0 / 200",null,null,"Afficher",null,null,null,null,null,null,null,{"$f":"IF('Choix de l''instrument '!$C$3=\"Diamètre_exter\",AND('Choix de l''instrument '!$D$3>=Diamètre_exter!G374,G374<>\"\"),\"\")","v":""}]
["DIM-0048","Pied à coulisse","0 / 600 mm",null,null,"Afficher",null,null,null,null,null,null,null,{"$f":"IF('Choix de l''instrument '!$C$3=\"Diamètre_exter\",AND('Choix de l''instrument '!$D$3>=Diamètre_exter!G375,G375<>\"\"),\"\")","v":""}]
["DIM-0068","Pied à coulisse","0 / 200 mm",null,null,"Afficher",null,null,null,null,null,null,null,{"$f":"IF('Choix de l''instrument '!$C$3=\"Diamètre_exter\",AND('Choix de l''instrument '!$D$3>=Diamètre_exter!G376,G376<>\"\"),\"\")","v":""}]
["DIM-0067","Pied à coulisse","0 / 200 mm",null,null,"Afficher",null,null,null,null,null,null,null,{"$f":"IF('Choix de l''instrument '!$C$3=\"Diamètre_exter\",AND('Choix de l''instrument '!$D$3>=Diamètre_exter!G377,G377<>\"\"),\"\")","v":""}]
["DIM-0066","Pied à coulisse","0 / 200 mm",null,null,"Afficher",null,null,null,null,null,null,null,{"$f":"IF('Choix de l''instrument '!$C$3=\"Diamètre_exter\",AND('Choix de l''instrument '!$D$3>=Diamètre_exter!G378,G378<>\"\"),\"\")","v":""}]
["DIM-0021","Pied à coulisse","0 / 150 mm",null,null,"Afficher",null,null,null,null,null,null,null,{"$f":"IF('Choix de l''instrument '!$C$3=\"Diamètre_exter\",AND('Choix de l''instrument '!$D$3>=Diamètre_exter!G379,G379<>\"\"),\"\")","v":""}]
["DIM-0015","Pied à coulisse","0 / 200 mm",null,null,"Afficher",null,null,null,null,null,null,null,{"$f":"IF('Choix de l''instrument '!$C$3=\"Diamètre_exter\",AND('Choix de l''instrument '!$D$3>=Diamètre_exter!G380,G380<>\"\"),\"\")","v":""}]
["DIM-0105","Pied à coulisse","0 / 500 mm",null,null,"Afficher",null,null,null,null,null,null,null,{"$f":"IF('Choix de l''instrument '!$C$3=\"Diamètre_exter\",AND('Choix de l''instrument '!$D$3>=Diamètre_exter!G381,G381<>\"\"),\"\")","v":""}]
["DIM-0118","Pied à coulisse","0 / 150 mm",null,null,"Afficher",null,null,null,null,null,null,null,{"$f":"IF('Choix de l''instrument '!$C$3=\"Diamètre_exter\",AND('Choix de l''instrument '!$D$3>=Diamètre_exter!G382,G382<>\"\"),\"\")","v":""}]
["DIM-0114","Pied à coulisse","0 / 150 mm",null,null,"Afficher",null,null,null,null,null,null,null,{"$f":"IF('Choix de l''instrument '!$C$3=\"Diamètre_exter\",AND('Choix de l''instrument '!$D$3>=Diamètre_exter!G383,G383<>\"\"),\"\")","v":""}]
["DIM-0113","Pied à coulisse","0 / 150 mm",null,null,"Afficher",null,null,null,null,null,null,null,{"$f":"IF('Choix de l''instrument '!$C$3=\"Diamètre_exter\",AND('Choix de l''instrument '!$D$3>=Diamètre_exter!G384,G384<>\"\"),\"\")","v":""}]
["DIM-0112","Pied à coulisse","0 / 150 mm",null,null,"Afficher",null,null,null,null,null,null,null,{"$f":"IF('Choix de l''instrument '!$C$3=\"Diamètre_exter\",AND('Choix de l''instrument '!$D$3>=Diamètre_exter!G385,G385<>\"\"),\"\")","v":""}]
["DIM-0117","Pied à coulisse","0 / 150 mm",null,null,"Afficher",null,null,null,null,null,null,null,{"$f":"IF('Choix de l''instrument '!$C$3=\"Diamètre_exter\",AND('Choix de l''instrument '!$D$3>=Diamètre_exter!G386,G386<>\"\"),\"\")","v":""}]
["DIM-0116","Pied à coulisse","0 / 150 mm",null,null,"Afficher",null,null,null,null,null,null,null,{"$f":"IF('Choix de l''instrument '!$C$3=\"Diamètre_exter\",AND('Choix de l''instrument '!$D$3>=Diamètre_exter!G387,G387<>\"\"),\"\")","v":""}]
["DIM-0115","Pied à coulisse","0 / 150 mm",null,null,"Afficher",null,null,null,null,null,null,null,{"$f":"IF('Choix de l''instrument '!$C$3=\"Diamètre_exter\",AND('Choix de l''instrument '!$D$3>=Diamètre_exter!G388,G388<>\"\"),\"\")","v":""}]
["DIM-0079","Pied à coulisse","0 / 200 mm",null,null,"Afficher",null,null,null,null,null,null,null,{"$f":"IF('Choix de l''instrument '!$C$3=\"Diamètre_exter\",AND('Choix de l''instrument '!$D$3>=Diamètre_exter!G389,G389<>\"\"),\"\")","v":""}]
["DIM-0078","Pied à coulisse","0 / 200 mm",null,null,"Afficher",null,null,null,null,null,null,null,{"$f":"IF('Choix de l''instrument '!$C$3=\"Diamètre_exter\",AND('Choix de l''instrument '!$D$3>=Diamètre_exter!G390,G390<>\"\"),\"\")","v":""}]
["DIM-0082","Pied à coulisse","0 / 200 mm",null,null,"Afficher",null,null,null,null,null,null,null,{"$f":"IF('Choix de l''instrument '!$C$3=\"Diamètre_exter\",AND('Choix de l''instrument '!$D$3>=Diamètre_exter!G391,G391<>\"\"),\"\")","v":""}]
["DIM-0081","Pied à coulisse","0 / 200 mm",null,null,"Afficher",null,null,null,null,null,null,null,{"$f":"IF('Choix de l''instrument '!$C$3=\"Diamètre_exter\",AND('Choix de l''instrument '!$D$3>=Diamètre_exter!G392,G392<>\"\"),\"\")","v":""}]
["DIM-0080","Pied à coulisse","0 / 200 mm",null,null,"Afficher",null,null,null,null,null,null,null,{"$f":"IF('Choix de l''instrument '!$C$3=\"Diamètre_exter\",AND('Choix de l''instrument '!$D$3>=Diamètre_exter!G393,G393<>\"\"),\"\")","v":""}]
["DIM-0083","Pied à coulisse","0 / 200 mm",null,null,"Afficher",null,null,null,null,null,null,null,{"$f":"IF('Choix de l''instrument '!$C$3=\"Diamètre_exter\",AND('Choix de l''instrument '!$D$3>=Diamètre_exter!G394,G394<>\"\"),\"\")","v":""}]
["CP.021","Pied à coulisse","0 / 150 mm",null,null,"Afficher",null,null,null,null,null,null,null,{"$f":"IF('Choix de l''instrument '!$C$3=\"Diamètre_exter\",AND('Choix de l''instrument '!$D$3>=Diamètre_exter!G395,G395<>\"\"),\"\")","v":""}]
["CP.070","Pied à coulisse","0 / 150 mm",null,null,"Afficher",null,null,null,null,null,null,null,{"$f":"IF('Choix de l''instrument '!$C$3=\"Diamètre_exter\",AND('Choix de l''instrument '!$D$3>=Diamètre_exter!G396,G396<>\"\"),\"\")","v":""}]
["CP.069","Pied à coulisse","0 / 150 mm",null,null,"Afficher",null,null,null,null,null,null,null,{"$f":"IF('Choix de l''instrument '!$C$3=\"Diamètre_exter\",AND('Choix de l''instrument '!$D$3>=Diamètre_exter!G397,G397<>\"\"),\"\")","v":""}]
["CP.068","Pied à coulisse","0 / 150 mm",null,null,"Afficher",null,null,null,null,null,null,null,{"$f":"IF('Choix de l''instrument '!$C$3=\"Diamètre_exter\",AND('Choix de l''instrument '!$D$3>=Diamètre_exter!G398,G398<>\"\"),\"\")","v":""}]
["OPT-0020","Projecteur de profils",null,null,null,"Afficher",null,null,null,null,null,null,null,{"$f":"IF('Choix de l''instrument '!$C$3=\"Diamètre_exter\",AND('Choix de l''instrument '!$D$3>=Diamètre_exter!G399,G399<>\"\"),\"\")","v":""}]
["OPT-0037","Projecteur de profils",null,null,null,"Afficher",null,null,null,null,null,null,null,{"$f":"IF('Choix de l''instrument '!$C$3=\"Diamètre_exter\",AND('Choix de l''instrument '!$D$3>=Diamètre_exter!G400,G400<>\"\"),\"\")","v":""}]
["OPT-0001","Projecteur de profils",null,null,null,"Afficher",null,null,null,null,null,null,null,{"$f":"IF('Choix de l''instrument '!$C$3=\"Diamètre_exter\",AND('Choix de l''instrument '!$D$3>=Diamètre_exter!G401,G401<>\"\"),\"\")","v":""}]
["OPT-0006","Projecteur de profils",null,null,null,"Afficher",null,null,null,null,null,null,null,{"$f":"IF('Choix de l''instrument '!$C$3=\"Diamètre_exter\",AND('Choix de l''instrument '!$D$3>=Diamètre_exter!G402,G402<>\"\"),\"\")","v":""}]
["OPT-0018","Projecteur de profils",null,null,null,"Afficher",null,null,null,null,null,null,null,{"$f":"IF('Choix de l''instrument '!$C$3=\"Diamètre_exter\",AND('Choix de l''instrument '!$D$3>=Diamètre_exter!G403,G403<>\"\"),\"\")","v":""}]
["OPT-0017","Projecteur de profils",null,null,null,"Afficher",null,null,null,null,null,null,null,{"$f":"IF('Choix de l''instrument '!$C$3=\"Diamètre_exter\",AND('Choix de l''instrument '!$D$3>=Diamètre_exter!G404,G404<>\"\"),\"\")","v":""}]
["CF.449","Projecteur de profils",null,null,null,"Afficher",null,null,null,null,null,null,null,{"$f":"IF('Choix de l''instrument '!$C$3=\"Diamètre_exter\",AND('Choix de l''instrument '!$D$3>=Diamètre_exter!G405,G405<>\"\"),\"\")","v":""}]
["CF.460","Projecteur de profils",null,null,null,"Afficher",null,null,null,null,null,null,null,{"$f":"IF('Choix de l''instrument '!$C$3=\"Diamètre_exter\",AND('Choix de l''instrument '!$D$3>=Diamètre_exter!G406,G406<>\"\"),\"\")","v":""}]
["MET-0101","Comparateur à tige rentrante","0 / 15 mm",null,null,"Afficher",null,null,null,null,null,null,null,{"$f":"IF('Choix de l''instrument '!$C$3=\"Diamètre_exter\",AND('Choix de l''instrument '!$D$3>=Diamètre_exter!G407,G407<>\"\"),\"\")","v":""}]
["MET-0100","Comparateur à tige rentrante","0 / 15 mm",null,null,"Afficher",null,null,null,null,null,null,null,{"$f":"IF('Choix de l''instrument '!$C$3=\"Diamètre_exter\",AND('Choix de l''instrument '!$D$3>=Diamètre_exter!G408,G408<>\"\"),\"\")","v":""}]
["MET-0099","Comparateur à tige rentrante","0 / 15 mm",null,null,"Afficher",null,null,null,null,null,null,null,{"$f":"IF('Choix de l''instrument '!$C$3=\"Diamètre_exter\",AND('Choix de l''instrument '!$D$3>=Diamètre_exter!G409,G409<>\"\"),\"\")","v":""}]
["DIM-0099","Comparateur à tige rentrante",null,null,null,"Afficher",null,null,null,null,null,null,null,{"$f":"IF('Choix de l''instrument '!$C$3=\"Diamètre_exter\",AND('Choix de l''instrument '!$D$3>=Diamètre_exter!G410,G410<>\"\"),\"\")","v":""}]
["M.206","Comparateur à tige rentrante radiale","0 / 10 mm",null,null,"Afficher",null,null,null,null,null,null,null,{"$f":"IF('Choix de l''instrument '!$C$3=\"Diamètre_exter\",AND('Choix de l''instrument '!$D$3>=Diamètre_exter!G411,G411<>\"\"),\"\")","v":""}]
["M.291","Comparateur à tige rentrante radiale","0 / 10 mm",null,null,"Afficher",null,null,null,null,null,null,null,{"$f":"IF('Choix de l''instrument '!$C$3=\"Diamètre_exter\",AND('Choix de l''instrument '!$D$3>=Diamètre_exter!G412,G412<>\"\"),\"\")","v":""}]
["TR.011","Comparateur à tige rentrante radiale","0 / 30 mm",null,null,"Afficher",null,null,null,null,null,null,null,{"$f":"IF('Choix de l''instrument '!$C$3=\"Diamètre_exter\",AND('Choix de l''instrument '!$D$3>=Diamètre_exter!G413,G413<>\"\"),\"\")","v":""}]
["TR.053","Comparateur à tige rentrante radiale","0 / 12 mm",null,null,"Afficher",null,null,null,null,null,null,null,{"$f":"IF('Choix de l''instrument '!$C$3=\"Diamètre_exter\",AND('Choix de l''instrument '!$D$3>=Diamètre_exter!G414,G414<>\"\"),\"\")","v":""}]
["SQ.087","Comparateur à tige rentrante radiale","0,01 / 12,7 mm",null,null,"Afficher",null,null,null,null,null,null,null,{"$f":"IF('Choix de l''instrument '!$C$3=\"Diamètre_exter\",AND('Choix de l''instrument '!$D$3>=Diamètre_exter!G415,G415<>\"\"),\"\")","v":""}]
["TC.045","Comparateur à tige rentrante radiale","0 / 10 mm",null,null,"Afficher",null,null,null,null,null,null,null,{"$f":"IF('Choix de l''instrument '!$C$3=\"Diamètre_exter\",AND('Choix de l''instrument '!$D$3>=Diamètre_exter!G416,G416<>\"\"),\"\")","v":""}]
["TC.044","Comparateur à tige rentrante radiale","0 / 10 mm",null,null,"Afficher",null,null,null,null,null,null,null,{"$f":"IF('Choix de l''instrument '!$C$3=\"Diamètre_exter\",AND('Choix de l''instrument '!$D$3>=Diamètre_exter!G417,G417<>\"\"),\"\")","v":""}]
["CAT.090","Comparateur à tige rentrante radiale","0 / 12 mm",null,null,"Afficher",null,null,null,null,null,null,null,{"$f":"IF('Choix de l''instrument '!$C$3=\"Diamètre_exter\",AND('Choix de l''instrument '!$D$3>=Diamètre_exter!G418,G418<>\"\"),\"\")","v":""}]
["CAT.125","Comparateur à tige rentrante radiale","0 / 12 mm",null,null,"Afficher",null,null,null,null,null,null,null,{"$f":"IF('Choix de l''instrument '!$C$3=\"Diamètre_exter\",AND('Choix de l''instrument '!$D$3>=Diamètre_exter!G419,G419<>\"\"),\"\")","v":""}]
["CF.060","Comparateur à tige rentrante radiale","0 / 12 mm",null,null,"Afficher",null,null,null,null,null,null,null,{"$f":"IF('Choix de l''instrument '!$C$3=\"Diamètre_exter\",AND('Choix de l''instrument '!$D$3>=Diamètre_exter!G420,G420<>\"\"),\"\")","v":""}]
["CE.248","Comparateur à tige rentrante radiale","0 / 5 mm",null,null,"Afficher",null,null,null,null,null,null,null,{"$f":"IF('Choix de l''instrument '!$C$3=\"Diamètre_exter\",AND('Choix de l''instrument '!$D$3>=Diamètre_exter!G421,G421<>\"\"),\"\")","v":""}]
["C0MP-010","Comparateur à tige rentrante radiale","0 / 10 mm",null,null,"Afficher",null,null,null,null,null,null,null,{"$f":"IF('Choix de l''instrument '!$C$3=\"Diamètre_exter\",AND('Choix de l''instrument '!$D$3>=Diamètre_exter!G422,G422<>\"\"),\"\")","v":""}]
["ED.246","Comparateur à tige rentrante radiale","0 / 12 mm",null,null,"Afficher",null,null,null,null,null,null,null,{"$f":"IF('Choix de l''instrument '!$C$3=\"Diamètre_exter\",AND('Choix de l''instrument '!$D$3>=Diamètre_exter!G423,G423<>\"\"),\"\")","v":""}]
["DIM-0150","Comparateur à tige rentrante radiale","0 / 12 mm",null,null,"Afficher",null,null,null,null,null,null,null,{"$f":"IF('Choix de l''instrument '!$C$3=\"Diamètre_exter\",AND('Choix de l''instrument '!$D$3>=Diamètre_exter!G424,G424<>\"\"),\"\")","v":""}]
["DIM-0028","Comparateur à tige rentrante radiale",null,null,null,"Afficher",null,null,null,null,null,null,null,{"$f":"IF('Choix de l''instrument '!$C$3=\"Diamètre_exter\",AND('Choix de l''instrument '!$D$3>=Diamètre_exter!G425,G425<>\"\"),\"\")","v":""}]
["CTR-007","Comparateur à tige rentrante radiale","0 / 12,7 mm",null,null,"Afficher",null,null,null,null,null,null,null,{"$f":"IF('Choix de l''instrument '!$C$3=\"Diamètre_exter\",AND('Choix de l''instrument '!$D$3>=Diamètre_exter!G426,G426<>\"\"),\"\")","v":""}]
["CTR-003","Comparateur à tige rentrante radiale","0 / 30 mm",null,null,"Afficher",null,null,null,null,null,null,null,{"$f":"IF('Choix de l''instrument '!$C$3=\"Diamètre_exter\",AND('Choix de l''instrument '!$D$3>=Diamètre_exter!G427,G427<>\"\"),\"\")","v":""}]
["CTR-002","Comparateur à tige rentrante radiale","0 / 30 mm",null,null,"Afficher",null,null,null,null,null,null,null,{"$f":"IF('Choix de l''instrument '!$C$3=\"Diamètre_exter\",AND('Choix de l''instrument '!$D$3>=Diamètre_exter!G428,G428<>\"\"),\"\")","v":""}]
["CTR-001","Comparateur à tige rentrante radiale","0 / 50 mm",null,null,"Afficher",null,null,null,null,null,null,null,{"$f":"IF('Choix de l''instrument '!$C$3=\"Diamètre_exter\",AND('Choix de l''instrument '!$D$3>=Diamètre_exter!G429,G429<>\"\"),\"\")","v":""}]
["CTR-006","Comparateur à tige rentrante radiale","0 / 50 mm",null,null,"Afficher",null,null,null,null,null,null,null,{"$f":"IF('Choix de l''instrument '!$C$3=\"Diamètre_exter\",AND('Choix de l''instrument '!$D$3>=Diamètre_exter!G430,G430<>\"\"),\"\")","v":""}]
["CTR-005","Comparateur à tige rentrante radiale","0 / 50 mm",null,null,"Afficher",null,null,null,null,null,null,null,{"$f":"IF('Choix de l''instrument '!$C$3=\"Diamètre_exter\",AND('Choix de l''instrument '!$D$3>=Diamètre_exter!G431,G431<>\"\"),\"\")","v":""}]
["CTR-004","Comparateur à tige rentrante radiale","50 / 100 mm",null,null,"Afficher",null,null,null,null,null,null,null,{"$f":"IF('Choix de l''instrument '!$C$3=\"Diamètre_exter\",AND('Choix de l''instrument '!$D$3>=Diamètre_exter!G432,G432<>\"\"),\"\")","v":""}]
["CP.059","Comparateur à tige rentrante radiale","0 / 12,7 mm",null,null,"Afficher",null,null,null,null,null,null,null,{"$f":"IF('Choix de l''instrument '!$C$3=\"Diamètre_exter\",AND('Choix de l''instrument '!$D$3>=Diamètre_exter!G433,G433<>\"\"),\"\")","v":""}]
["CP.062","Comparateur à tige rentrante radiale","0 / 50 mm",null,null,"Afficher",null,null,null,null,null,null,null,{"$f":"IF('Choix de l''instrument '!$C$3=\"Diamètre_exter\",AND('Choix de l''instrument '!$D$3>=Diamètre_exter!G434,G434<>\"\"),\"\")","v":""}]
["CP.061","Comparateur à tige rentrante radiale","0 / 50 mm",null,null,"Afficher",null,null,null,null,null,null,null,{"$f":"IF('Choix de l''instrument '!$C$3=\"Diamètre_exter\",AND('Choix de l''instrument '!$D$3>=Diamètre_exter!G435,G435<>\"\"),\"\")","v":""}]
["COMP-001","Comparateur electronique","0 / 12 mm",null,null,"Afficher",null,null,null,null,null,null,null,{"$f":"IF('Choix de l''instrument '!$C$3=\"Diamètre_exter\",AND('Choix de l''instrument '!$D$3>=Diamètre_exter!G436,G436<>\"\"),\"\")","v":""}]
["M.194","Comparateur mécanique à cadran","0 / 10 mm",null,null,"Afficher",null,null,null,null,null,null,null,{"$f":"IF('Choix de l''instrument '!$C$3=\"Diamètre_exter\",AND('Choix de l''instrument '!$D$3>=Diamètre_exter!G437,G437<>\"\"),\"\")","v":""}]
["M.043","Comparateur mécanique à cadran","0 / 10 mm",null,null,"Afficher",null,null,null,null,null,null,null,{"$f":"IF('Choix de l''instrument '!$C$3=\"Diamètre_exter\",AND('Choix de l''instrument '!$D$3>=Diamètre_exter!G438,G438<>\"\"),\"\")","v":""}]
["M.044","Comparateur mécanique à cadran","0 / 10 mm",null,null,"Afficher",null,null,null,null,null,null,null,{"$f":"IF('Choix de l''instrument '!$C$3=\"Diamètre_exter\",AND('Choix de l''instrument '!$D$3>=Diamètre_exter!G439,G439<>\"\"),\"\")","v":""}]
["M.017","Comparateur mécanique à cadran","0 / 50 mm",null,null,"Afficher",null,null,null,null,null,null,null,{"$f":"IF('Choix de l''instrument '!$C$3=\"Diamètre_exter\",AND('Choix de l''instrument '!$D$3>=Diamètre_exter!G440,G440<>\"\"),\"\")","v":""}]
["PA.008","Comparateur mécanique à cadran","0 / 10 mm",null,null,"Afficher",null,null,null,null,null,null,null,{"$f":"IF('Choix de l''instrument '!$C$3=\"Diamètre_exter\",AND('Choix de l''instrument '!$D$3>=Diamètre_exter!G441,G441<>\"\"),\"\")","v":""}]
["PA.019","Comparateur mécanique à cadran","0 / 100 mm",null,null,"Afficher",null,null,null,null,null,null,null,{"$f":"IF('Choix de l''instrument '!$C$3=\"Diamètre_exter\",AND('Choix de l''instrument '!$D$3>=Diamètre_exter!G442,G442<>\"\"),\"\")","v":""}]
["PA.007","Comparateur mécanique à cadran","0 / 10 mm",null,null,"Afficher",null,null,null,null,null,null,null,{"$f":"IF('Choix de l''instrument '!$C$3=\"Diamètre_exter\",AND('Choix de l''instrument '!$D$3>=Diamètre_exter!G443,G443<>\"\"),\"\")","v":""}]
["THE.149","Comparateur mécanique à cadran","0 / 30 mm",null,null,"Afficher",null,null,null,null,null,null,null,{"$f":"IF('Choix de l''instrument '!$C$3=\"Diamètre_exter\",AND('Choix de l''instrument '!$D$3>=Diamètre_exter!G444,G444<>\"\"),\"\")","v":""}]
["TR.010","Comparateur mécanique à cadran","0 / 10 mm",null,null,"Afficher",null,null,null,null,null,null,null,{"$f":"IF('Choix de l''instrument '!$C$3=\"Diamètre_exter\",AND('Choix de l''instrument '!$D$3>=Diamètre_exter!G445,G445<>\"\"),\"\")","v":""}]
["THE.005","Comparateur mécanique à cadran","0 / 10 mm",null,null,"Afficher",null,null,null,null,null,null,null,{"$f":"IF('Choix de l''instrument '!$C$3=\"Diamètre_exter\",AND('Choix de l''instrument '!$D$3>=Diamètre_exter!G446,G446<>\"\"),\"\")","v":""}]
["THE.076","Comparateur mécanique à cadran","0 / 12 mm",null,null,"Afficher",null,null,null,null,null,null,null,{"$f":"IF('Choix de l''instrument '!$C$3=\"Diamètre_exter\",AND('Choix de l''instrument '!$D$3>=Diamètre_exter!G447,G447<>\"\"),\"\")","v":""}]
["SQ.098","Comparateur mécanique à cadran","0 / 12 mm",null,null,"Afficher",null,null,null,null,null,null,null,{"$f":"IF('Choix de l''instrument '!$C$3=\"Diamètre_exter\",AND('Choix de l''instrument '!$D$3>=Diamètre_exter!G448,G448<>\"\"),\"\")","v":""}]
["SQ.035","Comparateur mécanique à cadran","0 / 12 mm",null,null,"Afficher",null,null,null,null,null,null,null,{"$f":"IF('Choix de l''instrument '!$C$3=\"Diamètre_exter\",AND('Choix de l''instrument '!$D$3>=Diamètre_exter!G449,G449<>\"\"),\"\")","v":""}]
["TC.005","Comparateur mécanique à cadran","0 / 10 mm",null,null,"Afficher",null,null,null,null,null,null,null,{"$f":"IF('Choix de l''instrument '!$C$3=\"Diamètre_exter\",AND('Choix de l''instrument '!$D$3>=Diamètre_exter!G450,G450<>\"\"),\"\")","v":""}]
["TC.042","Comparateur mécanique à cadran","0 / 10 mm",null,null,"Afficher",null,null,null,null,null,null,null,{"$f":"IF('Choix de l''instrument '!$C$3=\"Diamètre_exter\",AND('Choix de l''instrument '!$D$3>=Diamètre_exter!G451,G451<>\"\"),\"\")","v":""}]
["TC.039","Comparateur mécanique à cadran","0 / 10 mm",null,null,"Afficher",null,null,null,null,null,null,null,{"$f":"IF('Choix de l''instrument '!$C$3=\"Diamètre_exter\",AND('Choix de l''instrument '!$D$3>=Diamètre_exter!G452,G452<>\"\"),\"\")","v":""}]
["TC.014","Comparateur mécanique à cadran","0 / 3 mm",null,null,"Afficher",null,null,null,null,null,null,null,{"$f":"IF('Choix de l''instrument '!$C$3=\"Diamètre_exter\",AND('Choix de l''instrument '!$D$3>=Diamètre_exter!G453,G453<>\"\"),\"\")","v":""}]
["TC.012","Comparateur mécanique à cadran","0 / 10 mm",null,null,"Afficher",null,null,null,null,null,null,null,{"$f":"IF('Choix de l''instrument '!$C$3=\"Diamètre_exter\",AND('Choix de l''instrument '!$D$3>=Diamètre_exter!G454,G454<>\"\"),\"\")","v":""}]
["PA.028","Comparateur mécanique à cadran","0 / 20 mm",null,null,"Afficher",null,null,null,null,null,null,null,{"$f":"IF('Choix de l''instrument '!$C$3=\"Diamètre_exter\",AND('Choix de l''instrument '!$D$3>=Diamètre_exter!G455,G455<>\"\"),\"\")","v":""}]
["TC.101","Comparateur mécanique à cadran","0 / 20 mm",null,null,"Afficher",null,null,null,null,null,null,null,{"$f":"IF('Choix de l''instrument '!$C$3=\"Diamètre_exter\",AND('Choix de l''instrument '!$D$3>=Diamètre_exter!G456,G456<>\"\"),\"\")","v":""}]
["TC.104","Comparateur mécanique à cadran","0 / 20 mm",null,null,"Afficher",null,null,null,null,null,null,null,{"$f":"IF('Choix de l''instrument '!$C$3=\"Diamètre_exter\",AND('Choix de l''instrument '!$D$3>=Diamètre_exter!G457,G457<>\"\"),\"\")","v":""}]
["TC.103","Comparateur mécanique à cadran","0 / 20 mm",null,null,"Afficher",null,null,null,null,null,null,null,{"$f":"IF('Choix de l''instrument '!$C$3=\"Diamètre_exter\",AND('Choix de l''instrument '!$D$3>=Diamètre_exter!G458,G458<>\"\"),\"\")","v":""}]
["TC.102","Comparateur mécanique à cadran","0 / 20 mm",null,null,"Afficher",null,null,null,null,null,null,null,{"$f":"IF('Choix de l''instrument '!$C$3=\"Diamètre_exter\",AND('Choix de l''instrument '!$D$3>=Diamètre_exter!G459,G459<>\"\"),\"\")","v":""}]
["TC.091","Comparateur mécanique à cadran","0 / 10 mm",null,null,"Afficher",null,null,null,null,null,null,null,{"$f":"IF('Choix de l''instrument '!$C$3=\"Diamètre_exter\",AND('Choix de l''instrument '!$D$3>=Diamètre_exter!G460,G460<>\"\"),\"\")","v":""}]
["CAT.070","Comparateur mécanique à cadran","0 / 5 mm",null,null,"Afficher",null,null,null,null,null,null,null,{"$f":"IF('Choix de l''instrument '!$C$3=\"Diamètre_exter\",AND('Choix de l''instrument '!$D$3>=Diamètre_exter!G461,G461<>\"\"),\"\")","v":""}]
["CAT.008","Comparateur mécanique à cadran","0 / 10 mm",null,null,"Afficher",null,null,null,null,null,null,null,{"$f":"IF('Choix de l''instrument '!$C$3=\"Diamètre_exter\",AND('Choix de l''instrument '!$D$3>=Diamètre_exter!G462,G462<>\"\"),\"\")","v":""}]
["CF.018","Comparateur mécanique à cadran","0 / 10 mm",null,null,"Afficher",null,null,null,null,null,null,null,{"$f":"IF('Choix de l''instrument '!$C$3=\"Diamètre_exter\",AND('Choix de l''instrument '!$D$3>=Diamètre_exter!G463,G463<>\"\"),\"\")","v":""}]
["CF.017","Comparateur mécanique à cadran","0 / 10 mm",null,null,"Afficher",null,null,null,null,null,null,null,{"$f":"IF('Choix de l''instrument '!$C$3=\"Diamètre_exter\",AND('Choix de l''instrument '!$D$3>=Diamètre_exter!G464,G464<>\"\"),\"\")","v":""}]
["CF.015","Comparateur mécanique à cadran","0 / 10 mm",null,null,"Afficher",null,null,null,null,null,null,null,{"$f":"IF('Choix de l''instrument '!$C$3=\"Diamètre_exter\",AND('Choix de l''instrument '!$D$3>=Diamètre_exter!G465,G465<>\"\"),\"\")","v":""}]
["CF.012","Comparateur mécanique à cadran","0 / 10 mm",null,null,"Afficher",null,null,null,null,null,null,null,{"$f":"IF('Choix de l''instrument '!$C$3=\"Diamètre_exter\",AND('Choix de l''instrument '!$D$3>=Diamètre_exter!G466,G466<>\"\"),\"\")","v":""}]
["CF.098","Comparateur mécanique à cadran","0 / 10 mm",null,null,"Afficher",null,null,null,null,null,null,null,{"$f":"IF('Choix de l''instrument '!$C$3=\"Diamètre_exter\",AND('Choix de l''instrument '!$D$3>=Diamètre_exter!G467,G467<>\"\"),\"\")","v":""}]
["CF.044","Comparateur mécanique à cadran","0 / 5 mm",null,null,"Afficher",null,null,null,null,null,null,null,{"$f":"IF('Choix de l''instrument '!$C$3=\"Diamètre_exter\",AND('Choix de l''instrument '!$D$3>=Diamètre_exter!G468,G468<>\"\"),\"\")","v":""}]
["CF.050","Comparateur mécanique à cadran","0 / 10 mm",null,null,"Afficher",null,null,null,null,null,null,null,{"$f":"IF('Choix de l''instrument '!$C$3=\"Diamètre_exter\",AND('Choix de l''instrument '!$D$3>=Diamètre_exter!G469,G469<>\"\"),\"\")","v":""}]
["CF.047","Comparateur mécanique à cadran","0 / 10 mm",null,null,"Afficher",null,null,null,null,null,null,null,{"$f":"IF('Choix de l''instrument '!$C$3=\"Diamètre_exter\",AND('Choix de l''instrument '!$D$3>=Diamètre_exter!G470,G470<>\"\"),\"\")","v":""}]
["CF.062","Comparateur mécanique à cadran","0 / 10 mm",null,null,"Afficher",null,null,null,null,null,null,null,{"$f":"IF('Choix de l''instrument '!$C$3=\"Diamètre_exter\",AND('Choix de l''instrument '!$D$3>=Diamètre_exter!G471,G471<>\"\"),\"\")","v":""}]
["CF.082","Comparateur mécanique à cadran","0 / 5 mm",null,null,"Afficher",null,null,null,null,null,null,null,{"$f":"IF('Choix de l''instrument '!$C$3=\"Diamètre_exter\",AND('Choix de l''instrument '!$D$3>=Diamètre_exter!G472,G472<>\"\"),\"\")","v":""}]
["CF.081","Comparateur mécanique à cadran","0 / 5 mm",null,null,"Afficher",null,null,null,null,null,null,null,{"$f":"IF('Choix de l''instrument '!$C$3=\"Diamètre_exter\",AND('Choix de l''instrument '!$D$3>=Diamètre_exter!G473,G473<>\"\"),\"\")","v":""}]
["CE.009","Comparateur mécanique à cadran","0 / 10 mm",null,null,"Afficher",null,null,null,null,null,null,null,{"$f":"IF('Choix de l''instrument '!$C$3=\"Diamètre_exter\",AND('Choix de l''instrument '!$D$3>=Diamètre_exter!G474,G474<>\"\"),\"\")","v":""}]
["CE.033","Comparateur mécanique à cadran","0 / 5 mm",null,null,"Afficher",null,null,null,null,null,null,null,{"$f":"IF('Choix de l''instrument '!$C$3=\"Diamètre_exter\",AND('Choix de l''instrument '!$D$3>=Diamètre_exter!G475,G475<>\"\"),\"\")","v":""}]
["CE.052","Comparateur mécanique à cadran","0 / 12 mm",null,null,"Afficher",null,null,null,null,null,null,null,{"$f":"IF('Choix de l''instrument '!$C$3=\"Diamètre_exter\",AND('Choix de l''instrument '!$D$3>=Diamètre_exter!G476,G476<>\"\"),\"\")","v":""}]
["EN.071","Comparateur mécanique à cadran","0 / 5 mm",null,null,"Afficher",null,null,null,null,null,null,null,{"$f":"IF('Choix de l''instrument '!$C$3=\"Diamètre_exter\",AND('Choix de l''instrument '!$D$3>=Diamètre_exter!G477,G477<>\"\"),\"\")","v":""}]
["EN.040","Comparateur mécanique à cadran","0 / 5 mm",null,null,"Afficher",null,null,null,null,null,null,null,{"$f":"IF('Choix de l''instrument '!$C$3=\"Diamètre_exter\",AND('Choix de l''instrument '!$D$3>=Diamètre_exter!G478,G478<>\"\"),\"\")","v":""}]
["EN.075","Comparateur mécanique à cadran","0 / 5 mm",null,null,"Afficher",null,null,null,null,null,null,null,{"$f":"IF('Choix de l''instrument '!$C$3=\"Diamètre_exter\",AND('Choix de l''instrument '!$D$3>=Diamètre_exter!G479,G479<>\"\"),\"\")","v":""}]
["EN.004","Comparateur mécanique à cadran","0 / 10 mm",null,null,"Afficher",null,null,null,null,null,null,null,{"$f":"IF('Choix de l''instrument '!$C$3=\"Diamètre_exter\",AND('Choix de l''instrument '!$D$3>=Diamètre_exter!G480,G480<>\"\"),\"\")","v":""}]
["DIM-0147","Comparateur mécanique à cadran","0 / 0,5",null,null,"Afficher",null,null,null,null,null,null,null,{"$f":"IF('Choix de l''instrument '!$C$3=\"Diamètre_exter\",AND('Choix de l''instrument '!$D$3>=Diamètre_exter!G481,G481<>\"\"),\"\")","v":""}]
["DIM-0146","Comparateur mécanique à cadran","0 / 0,14",null,null,"Afficher",null,null,null,null,null,null,null,{"$f":"IF('Choix de l''instrument '!$C$3=\"Diamètre_exter\",AND('Choix de l''instrument '!$D$3>=Diamètre_exter!G482,G482<>\"\"),\"\")","v":""}]
["ED.167","Comparateur mécanique à cadran","0 / 10 mm",null,null,"Afficher",null,null,null,null,null,null,null,{"$f":"IF('Choix de l''instrument '!$C$3=\"Diamètre_exter\",AND('Choix de l''instrument '!$D$3>=Diamètre_exter!G483,G483<>\"\"),\"\")","v":""}]
["COMP-006","Comparateur mécanique à cadran","0 / 30 mm",null,null,"Afficher",null,null,null,null,null,null,null,{"$f":"IF('Choix de l''instrument '!$C$3=\"Diamètre_exter\",AND('Choix de l''instrument '!$D$3>=Diamètre_exter!G484,G484<>\"\"),\"\")","v":""}]
["COMP-005","Comparateur mécanique à cadran","0 / 5 mm",null,null,"Afficher",null,null,null,null,null,null,null,{"$f":"IF('Choix de l''instrument '!$C$3=\"Diamètre_exter\",AND('Choix de l''instrument '!$D$3>=Diamètre_exter!G485,G485<>\"\"),\"\")","v":""}]
["COMP-004","Comparateur mécanique à cadran","0 / 5 mm",null,null,"Afficher",null,null,null,null,null,null,null,{"$f":"IF('Choix de l''instrument '!$C$3=\"Diamètre_exter\",AND('Choix de l''instrument '!$D$3>=Diamètre_exter!G486,G486<>\"\"),\"\")","v":""}]
["COMP-009","Comparateur mécanique à cadran","0 / 12 mm",null,null,"Afficher",null,null,null,null,null,null,null,{"$f":"IF('Choix de l''instrument '!$C$3=\"Diamètre_exter\",AND('Choix de l''instrument '!$D$3>=Diamètre_exter!G487,G487<>\"\"),\"\")","v":""}]
["COMP-008","Comparateur mécanique à cadran","0 / 10 mm",null,null,"Afficher",null,null,null,null,null,null,null,{"$f":"IF('Choix de l''instrument '!$C$3=\"Diamètre_exter\",AND('Choix de l''instrument '!$D$3>=Diamètre_exter!G488,G488<>\"\"),\"\")","v":""}]
["COMP-007","Comparateur mécanique à cadran","0 / 30 mm",null,null,"Afficher",null,null,null,null,null,null,null,{"$f":"IF('Choix de l''instrument '!$C$3=\"Diamètre_exter\",AND('Choix de l''instrument '!$D$3>=Diamètre_exter!G489,G489<>\"\"),\"\")","v":""}]
["COMP-003","Comparateur mécanique à cadran","0 / 5 mm",null,null,"Afficher",null,null,null,null,null,null,null,{"$f":"IF('Choix de l''instrument '!$C$3=\"Diamètre_exter\",AND('Choix de l''instrument '!$D$3>=Diamètre_exter!G490,G490<>\"\"),\"\")","v":""}]
["COMP-002","Comparateur mécanique à cadran","0 / 5 mm",null,null,"Afficher",null,null,null,null,null,null,null,{"$f":"IF('Choix de l''instrument '!$C$3=\"Diamètre_exter\",AND('Choix de l''instrument '!$D$3>=Diamètre_exter!G491,G491<>\"\"),\"\")","v":""}]
["COMP-010","Comparateur mécanique à cadran","0 / 10 mm",null,null,"Afficher",null,null,null,null,null,null,null,{"$f":"IF('Choix de l''instrument '!$C$3=\"Diamètre_exter\",AND('Choix de l''instrument '!$D$3>=Diamètre_exter!G492,G492<>\"\"),\"\")","v":""}]
["COMP-088","Comparateur mécanique à cadran","0 / 5 mm",null,null,"Afficher",null,null,null,null,null,null,null,{"$f":"IF('Choix de l''instrument '!$C$3=\"Diamètre_exter\",AND('Choix de l''instrument '!$D$3>=Diamètre_exter!G493,G493<>\"\"),\"\")","v":""}]
["COMP-086","Comparateur mécanique à cadran","0 / 5 mm",null,null,"Afficher",null,null,null,null,null,null,null,{"$f":"IF('Choix de l''instrument '!$C$3=\"Diamètre_exter\",AND('Choix de l''instrument '!$D$3>=Diamètre_exter!G494,G494<>\"\"),\"\")","v":""}]
["COMP-011","Comparateur mécanique à cadran","0 / 100 mm",null,null,"Afficher",null,null,null,null,null,null,null,{"$f":"IF('Choix de l''instrument '!$C$3=\"Diamètre_exter\",AND('Choix de l''instrument '!$D$3>=Diamètre_exter!G495,G495<>\"\"),\"\")","v":""}]
["COMP-250","Comparateur mécanique à cadran","0 / 10 mm",null,null,"Afficher",null,null,null,null,null,null,null,{"$f":"IF('Choix de l''instrument '!$C$3=\"Diamètre_exter\",AND('Choix de l''instrument '!$D$3>=Diamètre_exter!G496,G496<>\"\"),\"\")","v":""}]
["COMP-215","Comparateur mécanique à cadran","0 / 10 mm",null,null,"Afficher",null,null,null,null,null,null,null,{"$f":"IF('Choix de l''instrument '!$C$3=\"Diamètre_exter\",AND('Choix de l''instrument '!$D$3>=Diamètre_exter!G497,G497<>\"\"),\"\")","v":""}]
["COMP-206","Comparateur mécanique à cadran","0 / 12,7 mm",null,null,"Afficher",null,null,null,null,null,null,null,{"$f":"IF('Choix de l''instrument '!$C$3=\"Diamètre_exter\",AND('Choix de l''instrument '!$D$3>=Diamètre_exter!G498,G498<>\"\"),\"\")","v":""}]
["CF.374","Comparateur mécanique à cadran","0 / 12 mm",null,null,"Afficher",null,null,null,null,null,null,null,{"$f":"IF('Choix de l''instrument '!$C$3=\"Diamètre_exter\",AND('Choix de l''instrument '!$D$3>=Diamètre_exter!G499,G499<>\"\"),\"\")","v":""}]
["CF.388","Comparateur mécanique à cadran","0 / 50 mm",null,null,"Afficher",null,null,null,null,null,null,null,{"$f":"IF('Choix de l''instrument '!$C$3=\"Diamètre_exter\",AND('Choix de l''instrument '!$D$3>=Diamètre_exter!G500,G500<>\"\"),\"\")","v":""}]
["DIM-0022","Comparateur mécanique à cadran","0 / 12 mm",null,null,"Afficher",null,null,null,null,null,null,null,{"$f":"IF('Choix de l''instrument '!$C$3=\"Diamètre_exter\",AND('Choix de l''instrument '!$D$3>=Diamètre_exter!G501,G501<>\"\"),\"\")","v":""}]
["DIM-0027","Comparateur mécanique à cadran","0 / 5",null,null,"Afficher",null,null,null,null,null,null,null,{"$f":"IF('Choix de l''instrument '!$C$3=\"Diamètre_exter\",AND('Choix de l''instrument '!$D$3>=Diamètre_exter!G502,G502<>\"\"),\"\")","v":""}]
["DIM-0017","Comparateur mécanique à cadran","0 / 100 mm",null,null,"Afficher",null,null,null,null,null,null,null,{"$f":"IF('Choix de l''instrument '!$C$3=\"Diamètre_exter\",AND('Choix de l''instrument '!$D$3>=Diamètre_exter!G503,G503<>\"\"),\"\")","v":""}]
["CP.010","Comparateur mécanique à cadran","0 / 10 mm",null,null,"Afficher",null,null,null,null,null,null,null,{"$f":"IF('Choix de l''instrument '!$C$3=\"Diamètre_exter\",AND('Choix de l''instrument '!$D$3>=Diamètre_exter!G504,G504<>\"\"),\"\")","v":""}]
["CP.012","Comparateur mécanique à cadran","0 / 10 mm",null,null,"Afficher",null,null,null,null,null,null,null,{"$f":"IF('Choix de l''instrument '!$C$3=\"Diamètre_exter\",AND('Choix de l''instrument '!$D$3>=Diamètre_exter!G505,G505<>\"\"),\"\")","v":""}]
["CP.074","Comparateur mécanique à cadran","0 / 5 mm",null,null,"Afficher",null,null,null,null,null,null,null,{"$f":"IF('Choix de l''instrument '!$C$3=\"Diamètre_exter\",AND('Choix de l''instrument '!$D$3>=Diamètre_exter!G506,G506<>\"\"),\"\")","v":""}]
["MET-0059","Comparateur numerique à tige rentrante","0 / 12,7 mm",null,null,"Afficher",null,null,null,null,null,null,null,{"$f":"IF('Choix de l''instrument '!$C$3=\"Diamètre_exter\",AND('Choix de l''instrument '!$D$3>=Diamètre_exter!G507,G507<>\"\"),\"\")","v":""}]
["SQ.097","Comparateur numerique à tige rentrante","0 / 12 mm",null,null,"Afficher",null,null,null,null,null,null,null,{"$f":"IF('Choix de l''instrument '!$C$3=\"Diamètre_exter\",AND('Choix de l''instrument '!$D$3>=Diamètre_exter!G508,G508<>\"\"),\"\")","v":""}]
["DIM-0076","Comparateur numerique à tige rentrante","12,7 mm - 0,01mm",null,null,"Afficher",null,null,null,null,null,null,null,{"$f":"IF('Choix de l''instrument '!$C$3=\"Diamètre_exter\",AND('Choix de l''instrument '!$D$3>=Diamètre_exter!G509,G509<>\"\"),\"\")","v":""}]
["MET-0082","Capteur Heidenhain","CERTO CT 6001",null,null,"Afficher",null,null,null,null,null,null,null,{"$f":"IF('Choix de l''instrument '!$C$3=\"Diamètre_exter\",AND('Choix de l''instrument '!$D$3>=Diamètre_exter!G510,G510<>\"\"),\"\")","v":""}]
["ETA-0403","Bague lisse","BLNEP 3,63",null,null,"Afficher",null,null,null,null,null,null,null,{"$f":"IF('Choix de l''instrument '!$C$3=\"Diamètre_exter\",AND('Choix de l''instrument '!$D$3>=Diamètre_exter!G511,G511<>\"\"),\"\")","v":""}]
["ETA-0402","Bague lisse","BLE 3,63",null,null,"Afficher",null,null,null,null,null,null,null,{"$f":"IF('Choix de l''instrument '!$C$3=\"Diamètre_exter\",AND('Choix de l''instrument '!$D$3>=Diamètre_exter!G512,G512<>\"\"),\"\")","v":""}]
["TR.032","Bague lisse","BLE 1,62 -0,01/0",null,null,"Afficher",null,null,null,null,null,null,null,{"$f":"IF('Choix de l''instrument '!$C$3=\"Diamètre_exter\",AND('Choix de l''instrument '!$D$3>=Diamètre_exter!G513,G513<>\"\"),\"\")","v":""}]
["TR.031","Bague lisse","BLE 1,12 -0,01/0",null,null,"Afficher",null,null,null,null,null,null,null,{"$f":"IF('Choix de l''instrument '!$C$3=\"Diamètre_exter\",AND('Choix de l''instrument '!$D$3>=Diamètre_exter!G514,G514<>\"\"),\"\")","v":""}]
["TR.033","Bague lisse","BLE 2,12 -0,01/0",null,null,"Afficher",null,null,null,null,null,null,null,{"$f":"IF('Choix de l''instrument '!$C$3=\"Diamètre_exter\",AND('Choix de l''instrument '!$D$3>=Diamètre_exter!G515,G515<>\"\"),\"\")","v":""}]
["THE.148","Bague lisse","BLE 21,8 -0,002 / 0",null,null,"Afficher",null,null,null,null,null,null,null,{"$f":"IF('Choix de l''instrument '!$C$3=\"Diamètre_exter\",AND('Choix de l''instrument '!$D$3>=Diamètre_exter!G516,G516<>\"\"),\"\")","v":""}]
["THE.106","Bague lisse","BLE 3,195 -0,002 / 0",null,null,"Afficher",null,null,null,null,null,null,null,{"$f":"IF('Choix de l''instrument '!$C$3=\"Diamètre_exter\",AND('Choix de l''instrument '!$D$3>=Diamètre_exter!G517,G517<>\"\"),\"\")","v":""}]
["THE.105","Bague lisse","BLE 8,96 -0,002 / 0",null,null,"Afficher",null,null,null,null,null,null,null,{"$f":"IF('Choix de l''instrument '!$C$3=\"Diamètre_exter\",AND('Choix de l''instrument '!$D$3>=Diamètre_exter!G518,G518<>\"\"),\"\")","v":""}]
["THE.140","Bague lisse","BLE 1,90",null,null,"Afficher",null,null,null,null,null,null,null,{"$f":"IF('Choix de l''instrument '!$C$3=\"Diamètre_exter\",AND('Choix de l''instrument '!$D$3>=Diamètre_exter!G519,G519<>\"\"),\"\")","v":""}]
["THE.147","Bague lisse","BLE 21,800 -0,005 / 0,005",null,null,"Afficher",null,null,null,null,null,null,null,{"$f":"IF('Choix de l''instrument '!$C$3=\"Diamètre_exter\",AND('Choix de l''instrument '!$D$3>=Diamètre_exter!G520,G520<>\"\"),\"\")","v":""}]
["SQ.085","Bague lisse","BLE 1.61",null,null,"Afficher",null,null,null,null,null,null,null,{"$f":"IF('Choix de l''instrument '!$C$3=\"Diamètre_exter\",AND('Choix de l''instrument '!$D$3>=Diamètre_exter!G521,G521<>\"\"),\"\")","v":""}]
["TC.007","Bague lisse","BLE 3.982",null,null,"Afficher",null,null,null,null,null,null,null,{"$f":"IF('Choix de l''instrument '!$C$3=\"Diamètre_exter\",AND('Choix de l''instrument '!$D$3>=Diamètre_exter!G522,G522<>\"\"),\"\")","v":""}]
["PCC.017","Bague lisse","BLE 1,925 -0,001 / 0,001 (Qualité )",null,null,"Afficher",null,null,null,null,null,null,null,{"$f":"IF('Choix de l''instrument '!$C$3=\"Diamètre_exter\",AND('Choix de l''instrument '!$D$3>=Diamètre_exter!G523,G523<>\"\"),\"\")","v":""}]
["PCC.012","Bague lisse","BLE 2,4 -0,025 / 0,025 (Qualité )",null,null,"Afficher",null,null,null,null,null,null,null,{"$f":"IF('Choix de l''instrument '!$C$3=\"Diamètre_exter\",AND('Choix de l''instrument '!$D$3>=Diamètre_exter!G524,G524<>\"\"),\"\")","v":""}]
["PCC.004","Bague lisse","BLE 3,625 -0,005 / 0 (Qualité )",null,null,"Afficher",null,null,null,null,null,null,null,{"$f":"IF('Choix de l''instrument '!$C$3=\"Diamètre_exter\",AND('Choix de l''instrument '!$D$3>=Diamètre_exter!G525,G525<>\"\"),\"\")","v":""}]
["TEM-0013","Bague lisse","BLNEP 3,63 0/0,02",null,null,"Afficher",null,null,null,null,null,null,null,{"$f":"IF('Choix de l''instrument '!$C$3=\"Diamètre_exter\",AND('Choix de l''instrument '!$D$3>=Diamètre_exter!G526,G526<>\"\"),\"\")","v":""}]
["TC.092","Bague lisse","BLE 6,160 0 / 0",null,null,"Afficher",null,null,null,null,null,null,null,{"$f":"IF('Choix de l''instrument '!$C$3=\"Diamètre_exter\",AND('Choix de l''instrument '!$D$3>=Diamètre_exter!G527,G527<>\"\"),\"\")","v":""}]
["TC.093","Bague lisse","BLNEP 6,110 -0,02 / 0,02 (Qualité )",null,null,"Afficher",null,null,null,null,null,null,null,{"$f":"IF('Choix de l''instrument '!$C$3=\"Diamètre_exter\",AND('Choix de l''instrument '!$D$3>=Diamètre_exter!G528,G528<>\"\"),\"\")","v":""}]
["CAL-0484","Bague lisse","BLE 2,670 / 0,0154",null,null,"Afficher",null,null,null,null,null,null,null,{"$f":"IF('Choix de l''instrument '!$C$3=\"Diamètre_exter\",AND('Choix de l''instrument '!$D$3>=Diamètre_exter!G529,G529<>\"\"),\"\")","v":""}]
["CAL-0453","Bague lisse",null,null,null,"Afficher",null,null,null,null,null,null,null,{"$f":"IF('Choix de l''instrument '!$C$3=\"Diamètre_exter\",AND('Choix de l''instrument '!$D$3>=Diamètre_exter!G530,G530<>\"\"),\"\")","v":""}]
["CAL-0438","Bague lisse","5,542 0/-10",null,null,"Afficher",null,null,null,null,null,null,null,{"$f":"IF('Choix de l''instrument '!$C$3=\"Diamètre_exter\",AND('Choix de l''instrument '!$D$3>=Diamètre_exter!G531,G531<>\"\"),\"\")","v":""}]
["CAL-0442","Bague lisse","BLE 3,630 / 0,03",null,null,"Afficher",null,null,null,null,null,null,null,{"$f":"IF('Choix de l''instrument '!$C$3=\"Diamètre_exter\",AND('Choix de l''instrument '!$D$3>=Diamètre_exter!G532,G532<>\"\"),\"\")","v":""}]
["CAL-0441","Bague lisse","BLE 1,64 +/- 0,001",null,null,"Afficher",null,null,null,null,null,null,null,{"$f":"IF('Choix de l''instrument '!$C$3=\"Diamètre_exter\",AND('Choix de l''instrument '!$D$3>=Diamètre_exter!G533,G533<>\"\"),\"\")","v":""}]
["CAL-0440","Bague lisse","BLE 1,64 +/- 0,001",null,null,"Afficher",null,null,null,null,null,null,null,{"$f":"IF('Choix de l''instrument '!$C$3=\"Diamètre_exter\",AND('Choix de l''instrument '!$D$3>=Diamètre_exter!G534,G534<>\"\"),\"\")","v":""}]
["CF.003","Bague lisse","BLE 6,975",null,null,"Afficher",null,null,null,null,null,null,null,{"$f":"IF('Choix de l''instrument '!$C$3=\"Diamètre_exter\",AND('Choix de l''instrument '!$D$3>=Diamètre_exter!G535,G535<>\"\"),\"\")","v":""}]
["CF.115","Bague lisse","BLNEP 6,175 0 / 0,05 (Qualité )",null,null,"Afficher",null,null,null,null,null,null,null,{"$f":"IF('Choix de l''instrument '!$C$3=\"Diamètre_exter\",AND('Choix de l''instrument '!$D$3>=Diamètre_exter!G536,G536<>\"\"),\"\")","v":""}]
["CF.114","Bague lisse","BLE 6,225 -0,05 / 0 (Qualité )",null,null,"Afficher",null,null,null,null,null,null,null,{"$f":"IF('Choix de l''instrument '!$C$3=\"Diamètre_exter\",AND('Choix de l''instrument '!$D$3>=Diamètre_exter!G537,G537<>\"\"),\"\")","v":""}]
["CF.127","Bague lisse","BLE 6,337 -0,026/0",null,null,"Afficher",null,null,null,null,null,null,null,{"$f":"IF('Choix de l''instrument '!$C$3=\"Diamètre_exter\",AND('Choix de l''instrument '!$D$3>=Diamètre_exter!G538,G538<>\"\"),\"\")","v":""}]
["CF.162","Bague lisse","BLNEP 6.11",null,null,"Afficher",null,null,null,null,null,null,null,{"$f":"IF('Choix de l''instrument '!$C$3=\"Diamètre_exter\",AND('Choix de l''instrument '!$D$3>=Diamètre_exter!G539,G539<>\"\"),\"\")","v":""}]
["CF.161","Bague lisse","BLE 6.16",null,null,"Afficher",null,null,null,null,null,null,null,{"$f":"IF('Choix de l''instrument '!$C$3=\"Diamètre_exter\",AND('Choix de l''instrument '!$D$3>=Diamètre_exter!G540,G540<>\"\"),\"\")","v":""}]
["CF.132","Bague lisse","BLNEP 6,311 0/0,026",null,null,"Afficher",null,null,null,null,null,null,null,{"$f":"IF('Choix de l''instrument '!$C$3=\"Diamètre_exter\",AND('Choix de l''instrument '!$D$3>=Diamètre_exter!G541,G541<>\"\"),\"\")","v":""}]
["CF.144","Bague lisse","BLNEP 3,625",null,null,"Afficher",null,null,null,null,null,null,null,{"$f":"IF('Choix de l''instrument '!$C$3=\"Diamètre_exter\",AND('Choix de l''instrument '!$D$3>=Diamètre_exter!G542,G542<>\"\"),\"\")","v":""}]
["CF.143A","Bague lisse","BLE 10,029 -0,01 / 0,01",null,null,"Afficher",null,null,null,null,null,null,null,{"$f":"IF('Choix de l''instrument '!$C$3=\"Diamètre_exter\",AND('Choix de l''instrument '!$D$3>=Diamètre_exter!G543,G543<>\"\"),\"\")","v":""}]
["CAT.159","Bague lisse","BLE 1,9 -0,003 / 0 (Qualité )",null,null,"Afficher",null,null,null,null,null,null,null,{"$f":"IF('Choix de l''instrument '!$C$3=\"Diamètre_exter\",AND('Choix de l''instrument '!$D$3>=Diamètre_exter!G544,G544<>\"\"),\"\")","v":""}]
["CAL-0036","Bague lisse","BLE 9,1 0 / 0 (Qualité )",null,null,"Afficher",null,null,null,null,null,null,null,{"$f":"IF('Choix de l''instrument '!$C$3=\"Diamètre_exter\",AND('Choix de l''instrument '!$D$3>=Diamètre_exter!G545,G545<>\"\"),\"\")","v":""}]
["CAL-0035","Bague lisse","BLE 8,9000",null,null,"Afficher",null,null,null,null,null,null,null,{"$f":"IF('Choix de l''instrument '!$C$3=\"Diamètre_exter\",AND('Choix de l''instrument '!$D$3>=Diamètre_exter!G546,G546<>\"\"),\"\")","v":""}]
["CAL-0031","Bague lisse","BLE 7,085 0 / 0,015",null,null,"Afficher",null,null,null,null,null,null,null,{"$f":"IF('Choix de l''instrument '!$C$3=\"Diamètre_exter\",AND('Choix de l''instrument '!$D$3>=Diamètre_exter!G547,G547<>\"\"),\"\")","v":""}]
["CAL-0034","Bague lisse","BLNEP 7,085 0 / 0,015 (Qualité )",null,null,"Afficher",null,null,null,null,null,null,null,{"$f":"IF('Choix de l''instrument '!$C$3=\"Diamètre_exter\",AND('Choix de l''instrument '!$D$3>=Diamètre_exter!G548,G548<>\"\"),\"\")","v":""}]
["CAL-0033","Bague lisse","BLNEP 7,085 0 / 0,015 (Qualité )",null,null,"Afficher",null,null,null,null,null,null,null,{"$f":"IF('Choix de l''instrument '!$C$3=\"Diamètre_exter\",AND('Choix de l''instrument '!$D$3>=Diamètre_exter!G549,G549<>\"\"),\"\")","v":""}]
["CAL-0032","Bague lisse","BLE 7,085 0 / 0,015",null,null,"Afficher",null,null,null,null,null,null,null,{"$f":"IF('Choix de l''instrument '!$C$3=\"Diamètre_exter\",AND('Choix de l''instrument '!$D$3>=Diamètre_exter!G550,G550<>\"\"),\"\")","v":""}]
["CAL-0056","Bague lisse","BLNEP 1,95 0 / 0",null,null,"Afficher",null,null,null,null,null,null,null,{"$f":"IF('Choix de l''instrument '!$C$3=\"Diamètre_exter\",AND('Choix de l''instrument '!$D$3>=Diamètre_exter!G551,G551<>\"\"),\"\")","v":""}]
["CAL-0055","Bague lisse","BLE 2,00 0 / 0,05",null,null,"Afficher",null,null,null,null,null,null,null,{"$f":"IF('Choix de l''instrument '!$C$3=\"Diamètre_exter\",AND('Choix de l''instrument '!$D$3>=Diamètre_exter!G552,G552<>\"\"),\"\")","v":""}]
["CAL-0054","Bague lisse","BLE 2,00 0 / 0,05",null,null,"Afficher",null,null,null,null,null,null,null,{"$f":"IF('Choix de l''instrument '!$C$3=\"Diamètre_exter\",AND('Choix de l''instrument '!$D$3>=Diamètre_exter!G553,G553<>\"\"),\"\")","v":""}]
["CAL-0014","Bague lisse","BLE 1,64 -0,001/0,001",null,null,"Afficher",null,null,null,null,null,null,null,{"$f":"IF('Choix de l''instrument '!$C$3=\"Diamètre_exter\",AND('Choix de l''instrument '!$D$3>=Diamètre_exter!G554,G554<>\"\"),\"\")","v":""}]
["CAL-0012","Bague lisse","BLNEP 6,110 -0,02 / 0,02 (Qualité )",null,null,"Afficher",null,null,null,null,null,null,null,{"$f":"IF('Choix de l''instrument '!$C$3=\"Diamètre_exter\",AND('Choix de l''instrument '!$D$3>=Diamètre_exter!G555,G555<>\"\"),\"\")","v":""}]
["CAL-0015","Bague lisse","BLE 1,051 -0,002/0",null,null,"Afficher",null,null,null,null,null,null,null,{"$f":"IF('Choix de l''instrument '!$C$3=\"Diamètre_exter\",AND('Choix de l''instrument '!$D$3>=Diamètre_exter!G556,G556<>\"\"),\"\")","v":""}]
["CAL-0018","Bague lisse","BLNEP 1,70",null,null,"Afficher",null,null,null,null,null,null,null,{"$f":"IF('Choix de l''instrument '!$C$3=\"Diamètre_exter\",AND('Choix de l''instrument '!$D$3>=Diamètre_exter!G557,G557<>\"\"),\"\")","v":""}]
["CAL-0017","Bague lisse","BLE 7,0987 -0,023/0",null,null,"Afficher",null,null,null,null,null,null,null,{"$f":"IF('Choix de l''instrument '!$C$3=\"Diamètre_exter\",AND('Choix de l''instrument '!$D$3>=Diamètre_exter!G558,G558<>\"\"),\"\")","v":""}]
["CAL-0016","Bague lisse","BLE 7,0987 -0,023/0",null,null,"Afficher",null,null,null,null,null,null,null,{"$f":"IF('Choix de l''instrument '!$C$3=\"Diamètre_exter\",AND('Choix de l''instrument '!$D$3>=Diamètre_exter!G559,G559<>\"\"),\"\")","v":""}]
["CAL-0057","Bague lisse","BLE 1,925",null,null,"Afficher",null,null,null,null,null,null,null,{"$f":"IF('Choix de l''instrument '!$C$3=\"Diamètre_exter\",AND('Choix de l''instrument '!$D$3>=Diamètre_exter!G560,G560<>\"\"),\"\")","v":""}]
["CAL-0096","Bague lisse","BLE 3,63",null,null,"Afficher",null,null,null,null,null,null,null,{"$f":"IF('Choix de l''instrument '!$C$3=\"Diamètre_exter\",AND('Choix de l''instrument '!$D$3>=Diamètre_exter!G561,G561<>\"\"),\"\")","v":""}]
["CAL-0095","Bague lisse","BLE 2.00",null,null,"Afficher",null,null,null,null,null,null,null,{"$f":"IF('Choix de l''instrument '!$C$3=\"Diamètre_exter\",AND('Choix de l''instrument '!$D$3>=Diamètre_exter!G562,G562<>\"\"),\"\")","v":""}]
["CAL-0094","Bague lisse","BLE 1,90",null,null,"Afficher",null,null,null,null,null,null,null,{"$f":"IF('Choix de l''instrument '!$C$3=\"Diamètre_exter\",AND('Choix de l''instrument '!$D$3>=Diamètre_exter!G563,G563<>\"\"),\"\")","v":""}]
["CAL-0098","Bague lisse","BLE 2,670 / 0,0154",null,null,"Afficher",null,null,null,null,null,null,null,{"$f":"IF('Choix de l''instrument '!$C$3=\"Diamètre_exter\",AND('Choix de l''instrument '!$D$3>=Diamètre_exter!G564,G564<>\"\"),\"\")","v":""}]
["CAL-0093","Bague lisse","BLNEP 3,630",null,null,"Afficher",null,null,null,null,null,null,null,{"$f":"IF('Choix de l''instrument '!$C$3=\"Diamètre_exter\",AND('Choix de l''instrument '!$D$3>=Diamètre_exter!G565,G565<>\"\"),\"\")","v":""}]
["CAL-0089","Bague lisse","BLNEP 3,620",null,null,"Afficher",null,null,null,null,null,null,null,{"$f":"IF('Choix de l''instrument '!$C$3=\"Diamètre_exter\",AND('Choix de l''instrument '!$D$3>=Diamètre_exter!G566,G566<>\"\"),\"\")","v":""}]
["CAL-0092","Bague lisse","BLNEP 3,620",null,null,"Afficher",null,null,null,null,null,null,null,{"$f":"IF('Choix de l''instrument '!$C$3=\"Diamètre_exter\",AND('Choix de l''instrument '!$D$3>=Diamètre_exter!G567,G567<>\"\"),\"\")","v":""}]
["CAL-0091","Bague lisse","BLNEP 3,620",null,null,"Afficher",null,null,null,null,null,null,null,{"$f":"IF('Choix de l''instrument '!$C$3=\"Diamètre_exter\",AND('Choix de l''instrument '!$D$3>=Diamètre_exter!G568,G568<>\"\"),\"\")","v":""}]
["CAL-0090","Bague lisse","BLNEP 3,620",null,null,"Afficher",null,null,null,null,null,null,null,{"$f":"IF('Choix de l''instrument '!$C$3=\"Diamètre_exter\",AND('Choix de l''instrument '!$D$3>=Diamètre_exter!G569,G569<>\"\"),\"\")","v":""}]
["CAL-0108","Bague lisse","BLE 3,63 0/+0,02",null,null,"Afficher",null,null,null,null,null,null,null,{"$f":"IF('Choix de l''instrument '!$C$3=\"Diamètre_exter\",AND('Choix de l''instrument '!$D$3>=Diamètre_exter!G570,G570<>\"\"),\"\")","v":""}]
["CAL-0107","Bague lisse","BLE 3,63 0/+0,02",null,null,"Afficher",null,null,null,null,null,null,null,{"$f":"IF('Choix de l''instrument '!$C$3=\"Diamètre_exter\",AND('Choix de l''instrument '!$D$3>=Diamètre_exter!G571,G571<>\"\"),\"\")","v":""}]
["CAL-0103","Bague lisse","BLE 6,379",null,null,"Afficher",null,null,null,null,null,null,null,{"$f":"IF('Choix de l''instrument '!$C$3=\"Diamètre_exter\",AND('Choix de l''instrument '!$D$3>=Diamètre_exter!G572,G572<>\"\"),\"\")","v":""}]
["CAL-0102","Bague lisse","BLE 2,670 / 0,0154",null,null,"Afficher",null,null,null,null,null,null,null,{"$f":"IF('Choix de l''instrument '!$C$3=\"Diamètre_exter\",AND('Choix de l''instrument '!$D$3>=Diamètre_exter!G573,G573<>\"\"),\"\")","v":""}]
["CAL-0101","Bague lisse","BLNEP 2,00 +/- 0,05",null,null,"Afficher",null,null,null,null,null,null,null,{"$f":"IF('Choix de l''instrument '!$C$3=\"Diamètre_exter\",AND('Choix de l''instrument '!$D$3>=Diamètre_exter!G574,G574<>\"\"),\"\")","v":""}]
["CAL-0106","Bague lisse","BLE 6,999",null,null,"Afficher",null,null,null,null,null,null,null,{"$f":"IF('Choix de l''instrument '!$C$3=\"Diamètre_exter\",AND('Choix de l''instrument '!$D$3>=Diamètre_exter!G575,G575<>\"\"),\"\")","v":""}]
["CAL-0105","Bague lisse","BLE 6,400",null,null,"Afficher",null,null,null,null,null,null,null,{"$f":"IF('Choix de l''instrument '!$C$3=\"Diamètre_exter\",AND('Choix de l''instrument '!$D$3>=Diamètre_exter!G576,G576<>\"\"),\"\")","v":""}]
["CAL-0104","Bague lisse","BLE 3,680",null,null,"Afficher",null,null,null,null,null,null,null,{"$f":"IF('Choix de l''instrument '!$C$3=\"Diamètre_exter\",AND('Choix de l''instrument '!$D$3>=Diamètre_exter!G577,G577<>\"\"),\"\")","v":""}]
["CAL-0067","Bague lisse","BLE 9,1 0 / 0 (Qualité )",null,null,"Afficher",null,null,null,null,null,null,null,{"$f":"IF('Choix de l''instrument '!$C$3=\"Diamètre_exter\",AND('Choix de l''instrument '!$D$3>=Diamètre_exter!G578,G578<>\"\"),\"\")","v":""}]
["CAL-0066","Bague lisse","BLE 9,1 0 / 0 (Qualité )",null,null,"Afficher",null,null,null,null,null,null,null,{"$f":"IF('Choix de l''instrument '!$C$3=\"Diamètre_exter\",AND('Choix de l''instrument '!$D$3>=Diamètre_exter!G579,G579<>\"\"),\"\")","v":""}]
["CAL-0060","Bague lisse","BLE 7,0758",null,null,"Afficher",null,null,null,null,null,null,null,{"$f":"IF('Choix de l''instrument '!$C$3=\"Diamètre_exter\",AND('Choix de l''instrument '!$D$3>=Diamètre_exter!G580,G580<>\"\"),\"\")","v":""}]
["CAL-0058","Bague lisse","BLE 2,40 0,025",null,null,"Afficher",null,null,null,null,null,null,null,{"$f":"IF('Choix de l''instrument '!$C$3=\"Diamètre_exter\",AND('Choix de l''instrument '!$D$3>=Diamètre_exter!G581,G581<>\"\"),\"\")","v":""}]
["CAL-0064","Bague lisse","BLE 6,3366",null,null,"Afficher",null,null,null,null,null,null,null,{"$f":"IF('Choix de l''instrument '!$C$3=\"Diamètre_exter\",AND('Choix de l''instrument '!$D$3>=Diamètre_exter!G582,G582<>\"\"),\"\")","v":""}]
["CAL-0063","Bague lisse","BLNEP 6.3358",null,null,"Afficher",null,null,null,null,null,null,null,{"$f":"IF('Choix de l''instrument '!$C$3=\"Diamètre_exter\",AND('Choix de l''instrument '!$D$3>=Diamètre_exter!G583,G583<>\"\"),\"\")","v":""}]
["CAL-0073","Bague lisse","BLE 1,64 -0,001/0,001",null,null,"Afficher",null,null,null,null,null,null,null,{"$f":"IF('Choix de l''instrument '!$C$3=\"Diamètre_exter\",AND('Choix de l''instrument '!$D$3>=Diamètre_exter!G584,G584<>\"\"),\"\")","v":""}]
["CAL-0085","Bague lisse","BLE 3,63 0 / 0",null,null,"Afficher",null,null,null,null,null,null,null,{"$f":"IF('Choix de l''instrument '!$C$3=\"Diamètre_exter\",AND('Choix de l''instrument '!$D$3>=Diamètre_exter!G585,G585<>\"\"),\"\")","v":""}]
["CAL-0084","Bague lisse","BLE 3,65 0 / 0",null,null,"Afficher",null,null,null,null,null,null,null,{"$f":"IF('Choix de l''instrument '!$C$3=\"Diamètre_exter\",AND('Choix de l''instrument '!$D$3>=Diamètre_exter!G586,G586<>\"\"),\"\")","v":""}]
["CAL-0076","Bague lisse","BLE 1,051 -0,002/0",null,null,"Afficher",null,null,null,null,null,null,null,{"$f":"IF('Choix de l''instrument '!$C$3=\"Diamètre_exter\",AND('Choix de l''instrument '!$D$3>=Diamètre_exter!G587,G587<>\"\"),\"\")","v":""}]
["CAL-0077","Bague lisse","BLNEP 2,4 -0,025 / 0,025",null,null,"Afficher",null,null,null,null,null,null,null,{"$f":"IF('Choix de l''instrument '!$C$3=\"Diamètre_exter\",AND('Choix de l''instrument '!$D$3>=Diamètre_exter!G588,G588<>\"\"),\"\")","v":""}]
["BL-156/1","Bague lisse","BLE 6.324",null,null,"Afficher",null,null,null,null,null,null,null,{"$f":"IF('Choix de l''instrument '!$C$3=\"Diamètre_exter\",AND('Choix de l''instrument '!$D$3>=Diamètre_exter!G589,G589<>\"\"),\"\")","v":""}]
["BL-155/2","Bague lisse","BLE 6,3370",null,null,"Afficher",null,null,null,null,null,null,null,{"$f":"IF('Choix de l''instrument '!$C$3=\"Diamètre_exter\",AND('Choix de l''instrument '!$D$3>=Diamètre_exter!G590,G590<>\"\"),\"\")","v":""}]
["BL-155/1","Bague lisse","BLE 6,3370",null,null,"Afficher",null,null,null,null,null,null,null,{"$f":"IF('Choix de l''instrument '!$C$3=\"Diamètre_exter\",AND('Choix de l''instrument '!$D$3>=Diamètre_exter!G591,G591<>\"\"),\"\")","v":""}]
["BL-252","Bague lisse","BLE 4.5785",null,null,"Afficher",null,null,null,null,null,null,null,{"$f":"IF('Choix de l''instrument '!$C$3=\"Diamètre_exter\",AND('Choix de l''instrument '!$D$3>=Diamètre_exter!G592,G592<>\"\"),\"\")","v":""}]
["BL-221","Bague lisse","BLNEP 3,65 0 / 0,03",null,null,"Afficher",null,null,null,null,null,null,null,{"$f":"IF('Choix de l''instrument '!$C$3=\"Diamètre_exter\",AND('Choix de l''instrument '!$D$3>=Diamètre_exter!G593,G593<>\"\"),\"\")","v":""}]
["BL-156/2","Bague lisse","BLE 6,3137",null,null,"Afficher",null,null,null,null,null,null,null,{"$f":"IF('Choix de l''instrument '!$C$3=\"Diamètre_exter\",AND('Choix de l''instrument '!$D$3>=Diamètre_exter!G594,G594<>\"\"),\"\")","v":""}]
["BL-154/2","Bague lisse","BLE 6,3350",null,null,"Afficher",null,null,null,null,null,null,null,{"$f":"IF('Choix de l''instrument '!$C$3=\"Diamètre_exter\",AND('Choix de l''instrument '!$D$3>=Diamètre_exter!G595,G595<>\"\"),\"\")","v":""}]
["BL-152/2","Bague lisse","BLE 6,312",null,null,"Afficher",null,null,null,null,null,null,null,{"$f":"IF('Choix de l''instrument '!$C$3=\"Diamètre_exter\",AND('Choix de l''instrument '!$D$3>=Diamètre_exter!G596,G596<>\"\"),\"\")","v":""}]
["BL-152/1","Bague lisse","BLE 6,312",null,null,"Afficher",null,null,null,null,null,null,null,{"$f":"IF('Choix de l''instrument '!$C$3=\"Diamètre_exter\",AND('Choix de l''instrument '!$D$3>=Diamètre_exter!G597,G597<>\"\"),\"\")","v":""}]
["BL-152","Bague lisse","BLE 1.610",null,null,"Afficher",null,null,null,null,null,null,null,{"$f":"IF('Choix de l''instrument '!$C$3=\"Diamètre_exter\",AND('Choix de l''instrument '!$D$3>=Diamètre_exter!G598,G598<>\"\"),\"\")","v":""}]
["BL-154/1","Bague lisse","BLE 6,3349",null,null,"Afficher",null,null,null,null,null,null,null,{"$f":"IF('Choix de l''instrument '!$C$3=\"Diamètre_exter\",AND('Choix de l''instrument '!$D$3>=Diamètre_exter!G599,G599<>\"\"),\"\")","v":""}]
["BL-153/2","Bague lisse","BLNEP 6,3155",null,null,"Afficher",null,null,null,null,null,null,null,{"$f":"IF('Choix de l''instrument '!$C$3=\"Diamètre_exter\",AND('Choix de l''instrument '!$D$3>=Diamètre_exter!G600,G600<>\"\"),\"\")","v":""}]
["BL-153/1","Bague lisse","BLNEP 6,3148",null,null,"Afficher",null,null,null,null,null,null,null,{"$f":"IF('Choix de l''instrument '!$C$3=\"Diamètre_exter\",AND('Choix de l''instrument '!$D$3>=Diamètre_exter!G601,G601<>\"\"),\"\")","v":""}]
["BL-253","Bague lisse","BLE 1,610",null,null,"Afficher",null,null,null,null,null,null,null,{"$f":"IF('Choix de l''instrument '!$C$3=\"Diamètre_exter\",AND('Choix de l''instrument '!$D$3>=Diamètre_exter!G602,G602<>\"\"),\"\")","v":""}]
["BLET-006","Bague lisse","BLNEP 1,9 -0,025 / 0,025",null,null,"Afficher",null,null,null,null,null,null,null,{"$f":"IF('Choix de l''instrument '!$C$3=\"Diamètre_exter\",AND('Choix de l''instrument '!$D$3>=Diamètre_exter!G603,G603<>\"\"),\"\")","v":""}]
["BL-001","Bague lisse","BLE 1,925",null,null,"Afficher",null,null,null,null,null,null,null,{"$f":"IF('Choix de l''instrument '!$C$3=\"Diamètre_exter\",AND('Choix de l''instrument '!$D$3>=Diamètre_exter!G604,G604<>\"\"),\"\")","v":""}]
["BL-004","Bague lisse","BLE 9,58 -0,005 / 0,005",null,null,"Afficher",null,null,null,null,null,null,null,{"$f":"IF('Choix de l''instrument '!$C$3=\"Diamètre_exter\",AND('Choix de l''instrument '!$D$3>=Diamètre_exter!G605,G605<>\"\"),\"\")","v":""}]
["BL-003","Bague lisse","BLE 1,875",null,null,"Afficher",null,null,null,null,null,null,null,{"$f":"IF('Choix de l''instrument '!$C$3=\"Diamètre_exter\",AND('Choix de l''instrument '!$D$3>=Diamètre_exter!G606,G606<>\"\"),\"\")","v":""}]
["BL-002","Bague lisse","BLE 21,800 -0,002 / 0,002",null,null,"Afficher",null,null,null,null,null,null,null,{"$f":"IF('Choix de l''instrument '!$C$3=\"Diamètre_exter\",AND('Choix de l''instrument '!$D$3>=Diamètre_exter!G607,G607<>\"\"),\"\")","v":""}]
["BL-005","Bague lisse","BLE 7,0987 -0,023 / 0",null,null,"Afficher",null,null,null,null,null,null,null,{"$f":"IF('Choix de l''instrument '!$C$3=\"Diamètre_exter\",AND('Choix de l''instrument '!$D$3>=Diamètre_exter!G608,G608<>\"\"),\"\")","v":""}]
["BL-015","Bague lisse","BLE 2,4 -0,025 / 0,045",null,null,"Afficher",null,null,null,null,null,null,null,{"$f":"IF('Choix de l''instrument '!$C$3=\"Diamètre_exter\",AND('Choix de l''instrument '!$D$3>=Diamètre_exter!G609,G609<>\"\"),\"\")","v":""}]
["BL-014","Bague lisse","BLNEP 2,4 -0,025 / 0,045",null,null,"Afficher",null,null,null,null,null,null,null,{"$f":"IF('Choix de l''instrument '!$C$3=\"Diamètre_exter\",AND('Choix de l''instrument '!$D$3>=Diamètre_exter!G610,G610<>\"\"),\"\")","v":""}]
["BL-013","Bague lisse","BLE 6,315 -0,003 / 0,003",null,null,"Afficher",null,null,null,null,null,null,null,{"$f":"IF('Choix de l''instrument '!$C$3=\"Diamètre_exter\",AND('Choix de l''instrument '!$D$3>=Diamètre_exter!G611,G611<>\"\"),\"\")","v":""}]
["BL-151","Bague lisse","BLE 1.610",null,null,"Afficher",null,null,null,null,null,null,null,{"$f":"IF('Choix de l''instrument '!$C$3=\"Diamètre_exter\",AND('Choix de l''instrument '!$D$3>=Diamètre_exter!G612,G612<>\"\"),\"\")","v":""}]
["BL-106","Bague lisse","BLE 6,335 -0,003 / 0,003",null,null,"Afficher",null,null,null,null,null,null,null,{"$f":"IF('Choix de l''instrument '!$C$3=\"Diamètre_exter\",AND('Choix de l''instrument '!$D$3>=Diamètre_exter!G613,G613<>\"\"),\"\")","v":""}]
["BL-016","Bague lisse","BLE 6,975 -0,05/0",null,null,"Afficher",null,null,null,null,null,null,null,{"$f":"IF('Choix de l''instrument '!$C$3=\"Diamètre_exter\",AND('Choix de l''instrument '!$D$3>=Diamètre_exter!G614,G614<>\"\"),\"\")","v":""}]
["BL-012","Bague lisse","BLE 6,312 -0,003 / 0,003",null,null,"Afficher",null,null,null,null,null,null,null,{"$f":"IF('Choix de l''instrument '!$C$3=\"Diamètre_exter\",AND('Choix de l''instrument '!$D$3>=Diamètre_exter!G615,G615<>\"\"),\"\")","v":""}]
["BL-008","Bague lisse","BLE 6,225 -0,05 / 0",null,null,"Afficher",null,null,null,null,null,null,null,{"$f":"IF('Choix de l''instrument '!$C$3=\"Diamètre_exter\",AND('Choix de l''instrument '!$D$3>=Diamètre_exter!G616,G616<>\"\"),\"\")","v":""}]
["BL-007","Bague lisse","BLE 6,225 -0,05 / 0",null,null,"Afficher",null,null,null,null,null,null,null,{"$f":"IF('Choix de l''instrument '!$C$3=\"Diamètre_exter\",AND('Choix de l''instrument '!$D$3>=Diamètre_exter!G617,G617<>\"\"),\"\")","v":""}]
["BL-006","Bague lisse","BLE 7,0987 -0,023 / 0",null,null,"Afficher",null,null,null,null,null,null,null,{"$f":"IF('Choix de l''instrument '!$C$3=\"Diamètre_exter\",AND('Choix de l''instrument '!$D$3>=Diamètre_exter!G618,G618<>\"\"),\"\")","v":""}]
["BL-011","Bague lisse","BLE 2,68 0 / 0,012",null,null,"Afficher",null,null,null,null,null,null,null,{"$f":"IF('Choix de l''instrument '!$C$3=\"Diamètre_exter\",AND('Choix de l''instrument '!$D$3>=Diamètre_exter!G619,G619<>\"\"),\"\")","v":""}]
["BL-010","Bague lisse","BLE 3,689 0 / 0 (Qualité )",null,null,"Afficher",null,null,null,null,null,null,null,{"$f":"IF('Choix de l''instrument '!$C$3=\"Diamètre_exter\",AND('Choix de l''instrument '!$D$3>=Diamètre_exter!G620,G620<>\"\"),\"\")","v":""}]
["BL-009","Bague lisse","BLNEP 3,62 h9",null,null,"Afficher",null,null,null,null,null,null,null,{"$f":"IF('Choix de l''instrument '!$C$3=\"Diamètre_exter\",AND('Choix de l''instrument '!$D$3>=Diamètre_exter!G621,G621<>\"\"),\"\")","v":""}]
["CAL-0151","Bague lisse","BLE 3,655 0/-0,030",null,null,"Afficher",null,null,null,null,null,null,null,{"$f":"IF('Choix de l''instrument '!$C$3=\"Diamètre_exter\",AND('Choix de l''instrument '!$D$3>=Diamètre_exter!G622,G622<>\"\"),\"\")","v":""}]
["CAL-0150","Bague lisse","BLNEP 5,94 k5",null,null,"Afficher",null,null,null,null,null,null,null,{"$f":"IF('Choix de l''instrument '!$C$3=\"Diamètre_exter\",AND('Choix de l''instrument '!$D$3>=Diamètre_exter!G623,G623<>\"\"),\"\")","v":""}]
["CAL-0149","Bague lisse","BLE 2,6416 0/+0,0154",null,null,"Afficher",null,null,null,null,null,null,null,{"$f":"IF('Choix de l''instrument '!$C$3=\"Diamètre_exter\",AND('Choix de l''instrument '!$D$3>=Diamètre_exter!G624,G624<>\"\"),\"\")","v":""}]
["CAL-0154","Bague lisse","BLNEP 1,40 0/-0,02",null,null,"Afficher",null,null,null,null,null,null,null,{"$f":"IF('Choix de l''instrument '!$C$3=\"Diamètre_exter\",AND('Choix de l''instrument '!$D$3>=Diamètre_exter!G625,G625<>\"\"),\"\")","v":""}]
["CAL-0153","Bague lisse","BLE 1,40 0/-0,02",null,null,"Afficher",null,null,null,null,null,null,null,{"$f":"IF('Choix de l''instrument '!$C$3=\"Diamètre_exter\",AND('Choix de l''instrument '!$D$3>=Diamètre_exter!G626,G626<>\"\"),\"\")","v":""}]
["CAL-0152","Bague lisse","BLE 4,70 s6",null,null,"Afficher",null,null,null,null,null,null,null,{"$f":"IF('Choix de l''instrument '!$C$3=\"Diamètre_exter\",AND('Choix de l''instrument '!$D$3>=Diamètre_exter!G627,G627<>\"\"),\"\")","v":""}]
["CAL-0148","Bague lisse","BLE 3,655 0/-0,030",null,null,"Afficher",null,null,null,null,null,null,null,{"$f":"IF('Choix de l''instrument '!$C$3=\"Diamètre_exter\",AND('Choix de l''instrument '!$D$3>=Diamètre_exter!G628,G628<>\"\"),\"\")","v":""}]
["CAL-0144","Bague lisse","BLE 7,5 0/+0,020",null,null,"Afficher",null,null,null,null,null,null,null,{"$f":"IF('Choix de l''instrument '!$C$3=\"Diamètre_exter\",AND('Choix de l''instrument '!$D$3>=Diamètre_exter!G629,G629<>\"\"),\"\")","v":""}]
["CAL-0143","Bague lisse","BLE 1,90 -25/+25",null,null,"Afficher",null,null,null,null,null,null,null,{"$f":"IF('Choix de l''instrument '!$C$3=\"Diamètre_exter\",AND('Choix de l''instrument '!$D$3>=Diamètre_exter!G630,G630<>\"\"),\"\")","v":""}]
["CAL-0142","Bague lisse","BLNEP 10 -20/-5",null,null,"Afficher",null,null,null,null,null,null,null,{"$f":"IF('Choix de l''instrument '!$C$3=\"Diamètre_exter\",AND('Choix de l''instrument '!$D$3>=Diamètre_exter!G631,G631<>\"\"),\"\")","v":""}]
["CAL-0145","Bague lisse","BLNEP 7,5 0/+0,020",null,null,"Afficher",null,null,null,null,null,null,null,{"$f":"IF('Choix de l''instrument '!$C$3=\"Diamètre_exter\",AND('Choix de l''instrument '!$D$3>=Diamètre_exter!G632,G632<>\"\"),\"\")","v":""}]
["CAL-0155","Bague lisse","BLNEP 4,70 s6",null,null,"Afficher",null,null,null,null,null,null,null,{"$f":"IF('Choix de l''instrument '!$C$3=\"Diamètre_exter\",AND('Choix de l''instrument '!$D$3>=Diamètre_exter!G633,G633<>\"\"),\"\")","v":""}]
["CAL-0156","Bague lisse","BLNEP 4,72 j6",null,null,"Afficher",null,null,null,null,null,null,null,{"$f":"IF('Choix de l''instrument '!$C$3=\"Diamètre_exter\",AND('Choix de l''instrument '!$D$3>=Diamètre_exter!G634,G634<>\"\"),\"\")","v":""}]
["CAL-0123","Bague lisse","BLE 5,94",null,null,"Afficher",null,null,null,null,null,null,null,{"$f":"IF('Choix de l''instrument '!$C$3=\"Diamètre_exter\",AND('Choix de l''instrument '!$D$3>=Diamètre_exter!G635,G635<>\"\"),\"\")","v":""}]
["CAL-0122","Bague lisse","BLNEP 5,537",null,null,"Afficher",null,null,null,null,null,null,null,{"$f":"IF('Choix de l''instrument '!$C$3=\"Diamètre_exter\",AND('Choix de l''instrument '!$D$3>=Diamètre_exter!G636,G636<>\"\"),\"\")","v":""}]
["CAL-0121","Bague lisse","BLE 5,537",null,null,"Afficher",null,null,null,null,null,null,null,{"$f":"IF('Choix de l''instrument '!$C$3=\"Diamètre_exter\",AND('Choix de l''instrument '!$D$3>=Diamètre_exter!G637,G637<>\"\"),\"\")","v":""}]
["CAL-0126","Bague lisse","BLE 6,17",null,null,"Afficher",null,null,null,null,null,null,null,{"$f":"IF('Choix de l''instrument '!$C$3=\"Diamètre_exter\",AND('Choix de l''instrument '!$D$3>=Diamètre_exter!G638,G638<>\"\"),\"\")","v":""}]
["CAL-0125","Bague lisse","BLE 6,17",null,null,"Afficher",null,null,null,null,null,null,null,{"$f":"IF('Choix de l''instrument '!$C$3=\"Diamètre_exter\",AND('Choix de l''instrument '!$D$3>=Diamètre_exter!G639,G639<>\"\"),\"\")","v":""}]
["CAL-0124","Bague lisse","BLNEP 5,94",null,null,"Afficher",null,null,null,null,null,null,null,{"$f":"IF('Choix de l''instrument '!$C$3=\"Diamètre_exter\",AND('Choix de l''instrument '!$D$3>=Diamètre_exter!G640,G640<>\"\"),\"\")","v":""}]
["CAL-0138","Bague lisse","BLE 7,140",null,null,"Afficher",null,null,null,null,null,null,null,{"$f":"IF('Choix de l''instrument '!$C$3=\"Diamètre_exter\",AND('Choix de l''instrument '!$D$3>=Diamètre_exter!G641,G641<>\"\"),\"\")","v":""}]
["CAL-0137","Bague lisse","BLNEP 1,70",null,null,"Afficher",null,null,null,null,null,null,null,{"$f":"IF('Choix de l''instrument '!$C$3=\"Diamètre_exter\",AND('Choix de l''instrument '!$D$3>=Diamètre_exter!G642,G642<>\"\"),\"\")","v":""}]
["CAL-0141","Bague lisse","BLE 2,553",null,null,"Afficher",null,null,null,null,null,null,null,{"$f":"IF('Choix de l''instrument '!$C$3=\"Diamètre_exter\",AND('Choix de l''instrument '!$D$3>=Diamètre_exter!G643,G643<>\"\"),\"\")","v":""}]
["CAL-0140","Bague lisse","BLE 6,255 0/-0,05",null,null,"Afficher",null,null,null,null,null,null,null,{"$f":"IF('Choix de l''instrument '!$C$3=\"Diamètre_exter\",AND('Choix de l''instrument '!$D$3>=Diamètre_exter!G644,G644<>\"\"),\"\")","v":""}]
["CAL-0139","Bague lisse","BLE 6,255 0/-0,05",null,null,"Afficher",null,null,null,null,null,null,null,{"$f":"IF('Choix de l''instrument '!$C$3=\"Diamètre_exter\",AND('Choix de l''instrument '!$D$3>=Diamètre_exter!G645,G645<>\"\"),\"\")","v":""}]
["CAL-0135","Bague lisse","BLE 5,542 0/-10",null,null,"Afficher",null,null,null,null,null,null,null,{"$f":"IF('Choix de l''instrument '!$C$3=\"Diamètre_exter\",AND('Choix de l''instrument '!$D$3>=Diamètre_exter!G646,G646<>\"\"),\"\")","v":""}]
["CAL-0191","Bague lisse","BLE 1,64 +/- 0,001",null,null,"Afficher",null,null,null,null,null,null,null,{"$f":"IF('Choix de l''instrument '!$C$3=\"Diamètre_exter\",AND('Choix de l''instrument '!$D$3>=Diamètre_exter!G647,G647<>\"\"),\"\")","v":""}]
["CAL-0190","Bague lisse","BLE 1,925 +/- 0,001",null,null,"Afficher",null,null,null,null,null,null,null,{"$f":"IF('Choix de l''instrument '!$C$3=\"Diamètre_exter\",AND('Choix de l''instrument '!$D$3>=Diamètre_exter!G648,G648<>\"\"),\"\")","v":""}]
["ED.245B","Bague lisse","BLNEP 2,51/1,18",null,null,"Afficher",null,null,null,null,null,null,null,{"$f":"IF('Choix de l''instrument '!$C$3=\"Diamètre_exter\",AND('Choix de l''instrument '!$D$3>=Diamètre_exter!G649,G649<>\"\"),\"\")","v":""}]
["ED.245A","Bague lisse","BLE 2,44/1,14",null,null,"Afficher",null,null,null,null,null,null,null,{"$f":"IF('Choix de l''instrument '!$C$3=\"Diamètre_exter\",AND('Choix de l''instrument '!$D$3>=Diamètre_exter!G650,G650<>\"\"),\"\")","v":""}]
["ED.245","Bague lisse","BLE 3,75",null,null,"Afficher",null,null,null,null,null,null,null,{"$f":"IF('Choix de l''instrument '!$C$3=\"Diamètre_exter\",AND('Choix de l''instrument '!$D$3>=Diamètre_exter!G651,G651<>\"\"),\"\")","v":""}]
["DIM-10000","Bague lisse","BLE 1,051 -0,002/0",null,null,"Afficher",null,null,null,null,null,null,null,{"$f":"IF('Choix de l''instrument '!$C$3=\"Diamètre_exter\",AND('Choix de l''instrument '!$D$3>=Diamètre_exter!G652,G652<>\"\"),\"\")","v":""}]
["EC.118","Bague lisse","BLNEP 3,64 mm 0 / 0,02",null,null,"Afficher",null,null,null,null,null,null,null,{"$f":"IF('Choix de l''instrument '!$C$3=\"Diamètre_exter\",AND('Choix de l''instrument '!$D$3>=Diamètre_exter!G653,G653<>\"\"),\"\")","v":""}]
["EC.117","Bague lisse","BLE 3,64 mm 0 / 0,02",null,null,"Afficher",null,null,null,null,null,null,null,{"$f":"IF('Choix de l''instrument '!$C$3=\"Diamètre_exter\",AND('Choix de l''instrument '!$D$3>=Diamètre_exter!G654,G654<>\"\"),\"\")","v":""}]
["EC.114","Bague lisse","BLNEP 3,640 -0,002 / 0,002",null,null,"Afficher",null,null,null,null,null,null,null,{"$f":"IF('Choix de l''instrument '!$C$3=\"Diamètre_exter\",AND('Choix de l''instrument '!$D$3>=Diamètre_exter!G655,G655<>\"\"),\"\")","v":""}]
["EC.113","Bague lisse","BLNEP 3,63 0/0,02",null,null,"Afficher",null,null,null,null,null,null,null,{"$f":"IF('Choix de l''instrument '!$C$3=\"Diamètre_exter\",AND('Choix de l''instrument '!$D$3>=Diamètre_exter!G656,G656<>\"\"),\"\")","v":""}]
["EC.112","Bague lisse","BLE 3,630 / 0,03",null,null,"Afficher",null,null,null,null,null,null,null,{"$f":"IF('Choix de l''instrument '!$C$3=\"Diamètre_exter\",AND('Choix de l''instrument '!$D$3>=Diamètre_exter!G657,G657<>\"\"),\"\")","v":""}]
["ETA-0007","Bague lisse","BLNEP 1,70",null,null,"Afficher",null,null,null,null,null,null,null,{"$f":"IF('Choix de l''instrument '!$C$3=\"Diamètre_exter\",AND('Choix de l''instrument '!$D$3>=Diamètre_exter!G658,G658<>\"\"),\"\")","v":""}]
["ETA-0006","Bague lisse","BLE 1,74",null,null,"Afficher",null,null,null,null,null,null,null,{"$f":"IF('Choix de l''instrument '!$C$3=\"Diamètre_exter\",AND('Choix de l''instrument '!$D$3>=Diamètre_exter!G659,G659<>\"\"),\"\")","v":""}]
["ETA-0015","Bague lisse","BLE 3,68",null,null,"Afficher",null,null,null,null,null,null,null,{"$f":"IF('Choix de l''instrument '!$C$3=\"Diamètre_exter\",AND('Choix de l''instrument '!$D$3>=Diamètre_exter!G660,G660<>\"\"),\"\")","v":""}]
["ETA-0014","Bague lisse","BLE 9,58 +/-0,005",null,null,"Afficher",null,null,null,null,null,null,null,{"$f":"IF('Choix de l''instrument '!$C$3=\"Diamètre_exter\",AND('Choix de l''instrument '!$D$3>=Diamètre_exter!G661,G661<>\"\"),\"\")","v":""}]
["ETA-0013","Bague lisse","BLE",null,null,"Afficher",null,null,null,null,null,null,null,{"$f":"IF('Choix de l''instrument '!$C$3=\"Diamètre_exter\",AND('Choix de l''instrument '!$D$3>=Diamètre_exter!G662,G662<>\"\"),\"\")","v":""}]
["CF.394","Bague lisse","BLNEP 1,586 0 / 0,024",null,null,"Afficher",null,null,null,null,null,null,null,{"$f":"IF('Choix de l''instrument '!$C$3=\"Diamètre_exter\",AND('Choix de l''instrument '!$D$3>=Diamètre_exter!G663,G663<>\"\"),\"\")","v":""}]
["CF.420","Bague lisse","BLE 1,051 -0,002/0",null,null,"Afficher",null,null,null,null,null,null,null,{"$f":"IF('Choix de l''instrument '!$C$3=\"Diamètre_exter\",AND('Choix de l''instrument '!$D$3>=Diamètre_exter!G664,G664<>\"\"),\"\")","v":""}]
["CF.422","Bague lisse","BLE 3.76",null,null,"Afficher",null,null,null,null,null,null,null,{"$f":"IF('Choix de l''instrument '!$C$3=\"Diamètre_exter\",AND('Choix de l''instrument '!$D$3>=Diamètre_exter!G665,G665<>\"\"),\"\")","v":""}]
["CF.465","Bague lisse","BLNEP",null,null,"Afficher",null,null,null,null,null,null,null,{"$f":"IF('Choix de l''instrument '!$C$3=\"Diamètre_exter\",AND('Choix de l''instrument '!$D$3>=Diamètre_exter!G666,G666<>\"\"),\"\")","v":""}]
["CF.464","Bague lisse","BLE 2,51 -0,005 / 0,005",null,null,"Afficher",null,null,null,null,null,null,null,{"$f":"IF('Choix de l''instrument '!$C$3=\"Diamètre_exter\",AND('Choix de l''instrument '!$D$3>=Diamètre_exter!G667,G667<>\"\"),\"\")","v":""}]
["CF.393","Bague lisse","BLE 1,586 0 / 0,024",null,null,"Afficher",null,null,null,null,null,null,null,{"$f":"IF('Choix de l''instrument '!$C$3=\"Diamètre_exter\",AND('Choix de l''instrument '!$D$3>=Diamètre_exter!G668,G668<>\"\"),\"\")","v":""}]
["CF.249","Bague lisse","BLE 7,0758 0/0,023",null,null,"Afficher",null,null,null,null,null,null,null,{"$f":"IF('Choix de l''instrument '!$C$3=\"Diamètre_exter\",AND('Choix de l''instrument '!$D$3>=Diamètre_exter!G669,G669<>\"\"),\"\")","v":""}]
["CF.248","Bague lisse","BLE 7,0987 -0,023/0",null,null,"Afficher",null,null,null,null,null,null,null,{"$f":"IF('Choix de l''instrument '!$C$3=\"Diamètre_exter\",AND('Choix de l''instrument '!$D$3>=Diamètre_exter!G670,G670<>\"\"),\"\")","v":""}]
["CF.282","Bague lisse","BLNEP 4.72",null,null,"Afficher",null,null,null,null,null,null,null,{"$f":"IF('Choix de l''instrument '!$C$3=\"Diamètre_exter\",AND('Choix de l''instrument '!$D$3>=Diamètre_exter!G671,G671<>\"\"),\"\")","v":""}]
["CF.281","Bague lisse","BLE 4.72",null,null,"Afficher",null,null,null,null,null,null,null,{"$f":"IF('Choix de l''instrument '!$C$3=\"Diamètre_exter\",AND('Choix de l''instrument '!$D$3>=Diamètre_exter!G672,G672<>\"\"),\"\")","v":""}]
["CF.276","Bague lisse","BLNEP 15,35",null,null,"Afficher",null,null,null,null,null,null,null,{"$f":"IF('Choix de l''instrument '!$C$3=\"Diamètre_exter\",AND('Choix de l''instrument '!$D$3>=Diamètre_exter!G673,G673<>\"\"),\"\")","v":""}]
["CF.268","Bague lisse","BLE 6.337",null,null,"Afficher",null,null,null,null,null,null,null,{"$f":"IF('Choix de l''instrument '!$C$3=\"Diamètre_exter\",AND('Choix de l''instrument '!$D$3>=Diamètre_exter!G674,G674<>\"\"),\"\")","v":""}]
["CF.275","Bague lisse","BLE 9,3 -0,1/0",null,null,"Afficher",null,null,null,null,null,null,null,{"$f":"IF('Choix de l''instrument '!$C$3=\"Diamètre_exter\",AND('Choix de l''instrument '!$D$3>=Diamètre_exter!G675,G675<>\"\"),\"\")","v":""}]
["CF.270","Bague lisse","BLNEP 7,085 0 / 0,015 (Qualité )",null,null,"Afficher",null,null,null,null,null,null,null,{"$f":"IF('Choix de l''instrument '!$C$3=\"Diamètre_exter\",AND('Choix de l''instrument '!$D$3>=Diamètre_exter!G676,G676<>\"\"),\"\")","v":""}]
["CF.269","Bague lisse","BLE 7,1 -0,01 / 0",null,null,"Afficher",null,null,null,null,null,null,null,{"$f":"IF('Choix de l''instrument '!$C$3=\"Diamètre_exter\",AND('Choix de l''instrument '!$D$3>=Diamètre_exter!G677,G677<>\"\"),\"\")","v":""}]
["CF.212A","Bague lisse","BLNEP 0,765 0/0,03",null,null,"Afficher",null,null,null,null,null,null,null,{"$f":"IF('Choix de l''instrument '!$C$3=\"Diamètre_exter\",AND('Choix de l''instrument '!$D$3>=Diamètre_exter!G678,G678<>\"\"),\"\")","v":""}]
["CF.212","Bague lisse","BLE 0,765 -0,03/0",null,null,"Afficher",null,null,null,null,null,null,null,{"$f":"IF('Choix de l''instrument '!$C$3=\"Diamètre_exter\",AND('Choix de l''instrument '!$D$3>=Diamètre_exter!G679,G679<>\"\"),\"\")","v":""}]
["CF.213","Bague lisse","BLE 0,765 -0,03/0",null,null,"Afficher",null,null,null,null,null,null,null,{"$f":"IF('Choix de l''instrument '!$C$3=\"Diamètre_exter\",AND('Choix de l''instrument '!$D$3>=Diamètre_exter!G680,G680<>\"\"),\"\")","v":""}]
["CF.237","Bague lisse",null,null,null,"Afficher",null,null,null,null,null,null,null,{"$f":"IF('Choix de l''instrument '!$C$3=\"Diamètre_exter\",AND('Choix de l''instrument '!$D$3>=Diamètre_exter!G681,G681<>\"\"),\"\")","v":""}]
["CF.213A","Bague lisse","BLNEP 0,765 0/0,03",null,null,"Afficher",null,null,null,null,null,null,null,{"$f":"IF('Choix de l''instrument '!$C$3=\"Diamètre_exter\",AND('Choix de l''instrument '!$D$3>=Diamètre_exter!G682,G682<>\"\"),\"\")","v":""}]
["CF.222","Bague lisse","BLE 7,1 -0,015 / 0",null,null,"Afficher",null,null,null,null,null,null,null,{"$f":"IF('Choix de l''instrument '!$C$3=\"Diamètre_exter\",AND('Choix de l''instrument '!$D$3>=Diamètre_exter!G683,G683<>\"\"),\"\")","v":""}]
["CF.370","Bague lisse","BLNEP 4.7",null,null,"Afficher",null,null,null,null,null,null,null,{"$f":"IF('Choix de l''instrument '!$C$3=\"Diamètre_exter\",AND('Choix de l''instrument '!$D$3>=Diamètre_exter!G684,G684<>\"\"),\"\")","v":""}]
["CF.354","Bague lisse","BLE 1,64 -0,001/0,001",null,null,"Afficher",null,null,null,null,null,null,null,{"$f":"IF('Choix de l''instrument '!$C$3=\"Diamètre_exter\",AND('Choix de l''instrument '!$D$3>=Diamètre_exter!G685,G685<>\"\"),\"\")","v":""}]
["CF.352","Bague lisse","BLE 3,68 -0,03 / 0 (Qualité )",null,null,"Afficher",null,null,null,null,null,null,null,{"$f":"IF('Choix de l''instrument '!$C$3=\"Diamètre_exter\",AND('Choix de l''instrument '!$D$3>=Diamètre_exter!G686,G686<>\"\"),\"\")","v":""}]
["CF.369","Bague lisse","BLE 4.7",null,null,"Afficher",null,null,null,null,null,null,null,{"$f":"IF('Choix de l''instrument '!$C$3=\"Diamètre_exter\",AND('Choix de l''instrument '!$D$3>=Diamètre_exter!G687,G687<>\"\"),\"\")","v":""}]
["CF.358","Bague lisse","BLNEP 3,62",null,null,"Afficher",null,null,null,null,null,null,null,{"$f":"IF('Choix de l''instrument '!$C$3=\"Diamètre_exter\",AND('Choix de l''instrument '!$D$3>=Diamètre_exter!G688,G688<>\"\"),\"\")","v":""}]
["CF.387 /1","Bague lisse","BLEP 1,70",null,null,"Afficher",null,null,null,null,null,null,null,{"$f":"IF('Choix de l''instrument '!$C$3=\"Diamètre_exter\",AND('Choix de l''instrument '!$D$3>=Diamètre_exter!G689,G689<>\"\"),\"\")","v":""}]
["CF.392","Bague lisse","BLE 3,22 -0,03/0,03",null,null,"Afficher",null,null,null,null,null,null,null,{"$f":"IF('Choix de l''instrument '!$C$3=\"Diamètre_exter\",AND('Choix de l''instrument '!$D$3>=Diamètre_exter!G690,G690<>\"\"),\"\")","v":""}]
["CF.387","Bague lisse","BLEP 1,70",null,null,"Afficher",null,null,null,null,null,null,null,{"$f":"IF('Choix de l''instrument '!$C$3=\"Diamètre_exter\",AND('Choix de l''instrument '!$D$3>=Diamètre_exter!G691,G691<>\"\"),\"\")","v":""}]
["CF.379","Bague lisse","BLNEP 10 -0,02 / -0,005 (Qualité )",null,null,"Afficher",null,null,null,null,null,null,null,{"$f":"IF('Choix de l''instrument '!$C$3=\"Diamètre_exter\",AND('Choix de l''instrument '!$D$3>=Diamètre_exter!G692,G692<>\"\"),\"\")","v":""}]
["CF.378","Bague lisse","BLE 10 -0,02 / -0,005 (Qualité )",null,null,"Afficher",null,null,null,null,null,null,null,{"$f":"IF('Choix de l''instrument '!$C$3=\"Diamètre_exter\",AND('Choix de l''instrument '!$D$3>=Diamètre_exter!G693,G693<>\"\"),\"\")","v":""}]
["CF.386 /1","Bague lisse","BLE 1,70",null,null,"Afficher",null,null,null,null,null,null,null,{"$f":"IF('Choix de l''instrument '!$C$3=\"Diamètre_exter\",AND('Choix de l''instrument '!$D$3>=Diamètre_exter!G694,G694<>\"\"),\"\")","v":""}]
["CF.386","Bague lisse","BLE 1,70",null,null,"Afficher",null,null,null,null,null,null,null,{"$f":"IF('Choix de l''instrument '!$C$3=\"Diamètre_exter\",AND('Choix de l''instrument '!$D$3>=Diamètre_exter!G695,G695<>\"\"),\"\")","v":""}]
["CF.340B","Bague lisse","BLE 4.72",null,null,"Afficher",null,null,null,null,null,null,null,{"$f":"IF('Choix de l''instrument '!$C$3=\"Diamètre_exter\",AND('Choix de l''instrument '!$D$3>=Diamètre_exter!G696,G696<>\"\"),\"\")","v":""}]
["CF.340A","Bague lisse","BLE 4.72",null,null,"Afficher",null,null,null,null,null,null,null,{"$f":"IF('Choix de l''instrument '!$C$3=\"Diamètre_exter\",AND('Choix de l''instrument '!$D$3>=Diamètre_exter!G697,G697<>\"\"),\"\")","v":""}]
["DIM-0064","Bague lisse","BLE 1,70",null,null,"Afficher",null,null,null,null,null,null,null,{"$f":"IF('Choix de l''instrument '!$C$3=\"Diamètre_exter\",AND('Choix de l''instrument '!$D$3>=Diamètre_exter!G698,G698<>\"\"),\"\")","v":""}]
["DIM-0026","Bague lisse","BLE 4,58",null,null,"Afficher",null,null,null,null,null,null,null,{"$f":"IF('Choix de l''instrument '!$C$3=\"Diamètre_exter\",AND('Choix de l''instrument '!$D$3>=Diamètre_exter!G699,G699<>\"\"),\"\")","v":""}]
["DIM-0031","Bague lisse","BLE 4,470",null,null,"Afficher",null,null,null,null,null,null,null,{"$f":"IF('Choix de l''instrument '!$C$3=\"Diamètre_exter\",AND('Choix de l''instrument '!$D$3>=Diamètre_exter!G700,G700<>\"\"),\"\")","v":""}]
["DIM-0030","Bague lisse","BLNEP 2,9210",null,null,"Afficher",null,null,null,null,null,null,null,{"$f":"IF('Choix de l''instrument '!$C$3=\"Diamètre_exter\",AND('Choix de l''instrument '!$D$3>=Diamètre_exter!G701,G701<>\"\"),\"\")","v":""}]
["DIM-0029","Bague lisse","BLE 2,9210",null,null,"Afficher",null,null,null,null,null,null,null,{"$f":"IF('Choix de l''instrument '!$C$3=\"Diamètre_exter\",AND('Choix de l''instrument '!$D$3>=Diamètre_exter!G702,G702<>\"\"),\"\")","v":""}]
["DIM-0032","Bague lisse","BLNEP 4,470",null,null,"Afficher",null,null,null,null,null,null,null,{"$f":"IF('Choix de l''instrument '!$C$3=\"Diamètre_exter\",AND('Choix de l''instrument '!$D$3>=Diamètre_exter!G703,G703<>\"\"),\"\")","v":""}]
["CP.036","Bague lisse","BLE 13,20",null,null,"Afficher",null,null,null,null,null,null,null,{"$f":"IF('Choix de l''instrument '!$C$3=\"Diamètre_exter\",AND('Choix de l''instrument '!$D$3>=Diamètre_exter!G704,G704<>\"\"),\"\")","v":""}]
["CP.035","Bague lisse","BLNEP 13,20",null,null,"Afficher",null,null,null,null,null,null,null,{"$f":"IF('Choix de l''instrument '!$C$3=\"Diamètre_exter\",AND('Choix de l''instrument '!$D$3>=Diamètre_exter!G705,G705<>\"\"),\"\")","v":""}]
["CP.027","Bague lisse","BLNEP 7,06 -0,02 / 0,02",null,null,"Afficher",null,null,null,null,null,null,null,{"$f":"IF('Choix de l''instrument '!$C$3=\"Diamètre_exter\",AND('Choix de l''instrument '!$D$3>=Diamètre_exter!G706,G706<>\"\"),\"\")","v":""}]
["CP.053","Bague lisse","BLNEP 1.40",null,null,"Afficher",null,null,null,null,null,null,null,{"$f":"IF('Choix de l''instrument '!$C$3=\"Diamètre_exter\",AND('Choix de l''instrument '!$D$3>=Diamètre_exter!G707,G707<>\"\"),\"\")","v":""}]
["CP.052","Bague lisse","BLE 1.40",null,null,"Afficher",null,null,null,null,null,null,null,{"$f":"IF('Choix de l''instrument '!$C$3=\"Diamètre_exter\",AND('Choix de l''instrument '!$D$3>=Diamètre_exter!G708,G708<>\"\"),\"\")","v":""}]
["CP.022","Bague lisse","BLE 7,1 -0,09 / -0,05",null,null,"Afficher",null,null,null,null,null,null,null,{"$f":"IF('Choix de l''instrument '!$C$3=\"Diamètre_exter\",AND('Choix de l''instrument '!$D$3>=Diamètre_exter!G709,G709<>\"\"),\"\")","v":""}]
["CP.011A","Bague lisse","BLE 5,3 a",null,null,"Afficher",null,null,null,null,null,null,null,{"$f":"IF('Choix de l''instrument '!$C$3=\"Diamètre_exter\",AND('Choix de l''instrument '!$D$3>=Diamètre_exter!G710,G710<>\"\"),\"\")","v":""}]
["OPT-0031","Micromètre laser","0 / 30 mm",null,null,"Afficher",null,null,null,null,null,null,null,{"$f":"IF('Choix de l''instrument '!$C$3=\"Diamètre_exter\",AND('Choix de l''instrument '!$D$3>=Diamètre_exter!G711,G711<>\"\"),\"\")","v":""}]
["OPT-0030","Micromètre laser","0 / 30 mm",null,null,"Afficher",null,null,null,null,null,null,null,{"$f":"IF('Choix de l''instrument '!$C$3=\"Diamètre_exter\",AND('Choix de l''instrument '!$D$3>=Diamètre_exter!G712,G712<>\"\"),\"\")","v":""}]
["OPT-0026","Micromètre laser","0 / 25 mm",null,null,"Afficher",null,null,null,null,null,null,null,{"$f":"IF('Choix de l''instrument '!$C$3=\"Diamètre_exter\",AND('Choix de l''instrument '!$D$3>=Diamètre_exter!G713,G713<>\"\"),\"\")","v":""}]
["OPT-0022","Micromètre laser","0,3 / 30 mm",null,null,"Afficher",null,null,null,null,null,null,null,{"$f":"IF('Choix de l''instrument '!$C$3=\"Diamètre_exter\",AND('Choix de l''instrument '!$D$3>=Diamètre_exter!G714,G714<>\"\"),\"\")","v":""}]
["OPT-0025","Micromètre laser","0 / 50 mm",null,null,"Afficher",null,null,null,null,null,null,null,{"$f":"IF('Choix de l''instrument '!$C$3=\"Diamètre_exter\",AND('Choix de l''instrument '!$D$3>=Diamètre_exter!G715,G715<>\"\"),\"\")","v":""}]
["OPT-0023","Micromètre laser","65 mm",null,null,"Afficher",null,null,null,null,null,null,null,{"$f":"IF('Choix de l''instrument '!$C$3=\"Diamètre_exter\",AND('Choix de l''instrument '!$D$3>=Diamètre_exter!G716,G716<>\"\"),\"\")","v":""}]
["OPT-0036","Micromètre laser","0,3 / 30 mm",null,null,"Afficher",null,null,null,null,null,null,null,{"$f":"IF('Choix de l''instrument '!$C$3=\"Diamètre_exter\",AND('Choix de l''instrument '!$D$3>=Diamètre_exter!G717,G717<>\"\"),\"\")","v":""}]
["OPT-0002","Micromètre laser",null,null,null,"Afficher",null,null,null,null,null,null,null,{"$f":"IF('Choix de l''instrument '!$C$3=\"Diamètre_exter\",AND('Choix de l''instrument '!$D$3>=Diamètre_exter!G718,G718<>\"\"),\"\")","v":""}]
["OPT-0005","Micromètre laser",null,null,null,"Afficher",null,null,null,null,null,null,null,{"$f":"IF('Choix de l''instrument '!$C$3=\"Diamètre_exter\",AND('Choix de l''instrument '!$D$3>=Diamètre_exter!G719,G719<>\"\"),\"\")","v":""}]
["OPT-0004","Micromètre laser","0,3 / 30 mm",null,null,"Afficher",null,null,null,null,null,null,null,{"$f":"IF('Choix de l''instrument '!$C$3=\"Diamètre_exter\",AND('Choix de l''instrument '!$D$3>=Diamètre_exter!G720,G720<>\"\"),\"\")","v":""}]
["OPT-0003","Micromètre laser","0,3 / 30 mm",null,null,"Afficher",null,null,null,null,null,null,null,{"$f":"IF('Choix de l''instrument '!$C$3=\"Diamètre_exter\",AND('Choix de l''instrument '!$D$3>=Diamètre_exter!G721,G721<>\"\"),\"\")","v":""}]
["MLAS-001","Micromètre laser",null,null,null,"Afficher",null,null,null,null,null,null,null,{"$f":"IF('Choix de l''instrument '!$C$3=\"Diamètre_exter\",AND('Choix de l''instrument '!$D$3>=Diamètre_exter!G722,G722<>\"\"),\"\")","v":""}]
["OPT-0016","Micromètre laser","0 / 25 mm",null,null,"Afficher",null,null,null,null,null,null,null,{"$f":"IF('Choix de l''instrument '!$C$3=\"Diamètre_exter\",AND('Choix de l''instrument '!$D$3>=Diamètre_exter!G723,G723<>\"\"),\"\")","v":""}]
["OPT-0015","Micromètre laser","0 / 25 mm",null,null,"Afficher",null,null,null,null,null,null,null,{"$f":"IF('Choix de l''instrument '!$C$3=\"Diamètre_exter\",AND('Choix de l''instrument '!$D$3>=Diamètre_exter!G724,G724<>\"\"),\"\")","v":""}]
["OPT-0014","Micromètre laser","0 / 25 mm",null,null,"Afficher",null,null,null,null,null,null,null,{"$f":"IF('Choix de l''instrument '!$C$3=\"Diamètre_exter\",AND('Choix de l''instrument '!$D$3>=Diamètre_exter!G725,G725<>\"\"),\"\")","v":""}]
["OPT-0019","Micromètre laser","0,3 / 30 mm",null,null,"Afficher",null,null,null,null,null,null,null,{"$f":"IF('Choix de l''instrument '!$C$3=\"Diamètre_exter\",AND('Choix de l''instrument '!$D$3>=Diamètre_exter!G726,G726<>\"\"),\"\")","v":""}]
["OPT-0009","Micromètre laser","0,3 / 30 mm",null,null,"Afficher",null,null,null,null,null,null,null,{"$f":"IF('Choix de l''instrument '!$C$3=\"Diamètre_exter\",AND('Choix de l''instrument '!$D$3>=Diamètre_exter!G727,G727<>\"\"),\"\")","v":""}]
["OPT-0008","Micromètre laser","0 / 30 mm",null,null,"Afficher",null,null,null,null,null,null,null,{"$f":"IF('Choix de l''instrument '!$C$3=\"Diamètre_exter\",AND('Choix de l''instrument '!$D$3>=Diamètre_exter!G728,G728<>\"\"),\"\")","v":""}]
["OPT-0007","Micromètre laser","0 / 30 mm",null,null,"Afficher",null,null,null,null,null,null,null,{"$f":"IF('Choix de l''instrument '!$C$3=\"Diamètre_exter\",AND('Choix de l''instrument '!$D$3>=Diamètre_exter!G729,G729<>\"\"),\"\")","v":""}]
["OPT-0011","Micromètre laser","0 / 30 mm",null,null,"Afficher",null,null,null,null,null,null,null,{"$f":"IF('Choix de l''instrument '!$C$3=\"Diamètre_exter\",AND('Choix de l''instrument '!$D$3>=Diamètre_exter!G730,G730<>\"\"),\"\")","v":""}]
["OPT-0010","Micromètre laser","0,5 / 35 mm",null,null,"Afficher",null,null,null,null,null,null,null,{"$f":"IF('Choix de l''instrument '!$C$3=\"Diamètre_exter\",AND('Choix de l''instrument '!$D$3>=Diamètre_exter!G731,G731<>\"\"),\"\")","v":""}]
["SQ.140","Micromètre laser","0,2 / 25 mm",null,null,"Afficher",null,null,null,null,null,null,null,{"$f":"IF('Choix de l''instrument '!$C$3=\"Diamètre_exter\",AND('Choix de l''instrument '!$D$3>=Diamètre_exter!G732,G732<>\"\"),\"\")","v":""}]
["CF.071","Micromètre laser",null,null,null,"Afficher",null,null,null,null,null,null,null,{"$f":"IF('Choix de l''instrument '!$C$3=\"Diamètre_exter\",AND('Choix de l''instrument '!$D$3>=Diamètre_exter!G733,G733<>\"\"),\"\")","v":""}]
["CE.041","Micromètre laser",null,null,null,"Afficher",null,null,null,null,null,null,null,{"$f":"IF('Choix de l''instrument '!$C$3=\"Diamètre_exter\",AND('Choix de l''instrument '!$D$3>=Diamètre_exter!G734,G734<>\"\"),\"\")","v":""}]
["CE.212","Micromètre laser",null,null,null,"Afficher",null,null,null,null,null,null,null,{"$f":"IF('Choix de l''instrument '!$C$3=\"Diamètre_exter\",AND('Choix de l''instrument '!$D$3>=Diamètre_exter!G735,G735<>\"\"),\"\")","v":""}]
["CE.220","Micromètre laser",null,null,null,"Afficher",null,null,null,null,null,null,null,{"$f":"IF('Choix de l''instrument '!$C$3=\"Diamètre_exter\",AND('Choix de l''instrument '!$D$3>=Diamètre_exter!G736,G736<>\"\"),\"\")","v":""}]
["CE.175","Micromètre laser",null,null,null,"Afficher",null,null,null,null,null,null,null,{"$f":"IF('Choix de l''instrument '!$C$3=\"Diamètre_exter\",AND('Choix de l''instrument '!$D$3>=Diamètre_exter!G737,G737<>\"\"),\"\")","v":""}]
["CE.186","Micromètre laser",null,null,null,"Afficher",null,null,null,null,null,null,null,{"$f":"IF('Choix de l''instrument '!$C$3=\"Diamètre_exter\",AND('Choix de l''instrument '!$D$3>=Diamètre_exter!G738,G738<>\"\"),\"\")","v":""}]
["CE.165","Micromètre laser",null,null,null,"Afficher",null,null,null,null,null,null,null,{"$f":"IF('Choix de l''instrument '!$C$3=\"Diamètre_exter\",AND('Choix de l''instrument '!$D$3>=Diamètre_exter!G739,G739<>\"\"),\"\")","v":""}]
["ED.270","Micromètre laser",null,null,null,"Afficher",null,null,null,null,null,null,null,{"$f":"IF('Choix de l''instrument '!$C$3=\"Diamètre_exter\",AND('Choix de l''instrument '!$D$3>=Diamètre_exter!G740,G740<>\"\"),\"\")","v":""}]
["ED.185","Micromètre laser",null,null,null,"Afficher",null,null,null,null,null,null,null,{"$f":"IF('Choix de l''instrument '!$C$3=\"Diamètre_exter\",AND('Choix de l''instrument '!$D$3>=Diamètre_exter!G741,G741<>\"\"),\"\")","v":""}]
["EC.085","Micromètre laser",null,null,null,"Afficher",null,null,null,null,null,null,null,{"$f":"IF('Choix de l''instrument '!$C$3=\"Diamètre_exter\",AND('Choix de l''instrument '!$D$3>=Diamètre_exter!G742,G742<>\"\"),\"\")","v":""}]
["ED.122","Micromètre laser",null,null,null,"Afficher",null,null,null,null,null,null,null,{"$f":"IF('Choix de l''instrument '!$C$3=\"Diamètre_exter\",AND('Choix de l''instrument '!$D$3>=Diamètre_exter!G743,G743<>\"\"),\"\")","v":""}]
["ED.145","Micromètre laser",null,null,null,"Afficher",null,null,null,null,null,null,null,{"$f":"IF('Choix de l''instrument '!$C$3=\"Diamètre_exter\",AND('Choix de l''instrument '!$D$3>=Diamètre_exter!G744,G744<>\"\"),\"\")","v":""}]
["EC.129","Micromètre laser",null,null,null,"Afficher",null,null,null,null,null,null,null,{"$f":"IF('Choix de l''instrument '!$C$3=\"Diamètre_exter\",AND('Choix de l''instrument '!$D$3>=Diamètre_exter!G745,G745<>\"\"),\"\")","v":""}]
["EC.130","Micromètre laser",null,null,null,"Afficher",null,null,null,null,null,null,null,{"$f":"IF('Choix de l''instrument '!$C$3=\"Diamètre_exter\",AND('Choix de l''instrument '!$D$3>=Diamètre_exter!G746,G746<>\"\"),\"\")","v":""}]
[null,null,null,null,null,null,null,null,null,null,null,null,null,{"$f":"IF('Choix de l''instrument '!$C$3=\"Diamètre_exter\",AND('Choix de l''instrument '!$D$3>=Diamètre_exter!G747,G747<>\"\"),\"\")","v":""}]

{"sheet":"Diamètre_inter","index":12,"n_rows":681,"n_cols":14,"rows_kept":681,"cut":false,"hidden":false,"merged":[]}
[null,null,"Diamètre_inter"]
[null,null,null,null,null,null,null,null,"résolution g",null,null,null,null,"Résultat critère IT"]
[null,null,"TL-007","Tampon lisse","TLE 8,005",null,null,"Afficher",null,null,null,null,null,{"$f":"IF('Choix de l''instrument '!$C$3=\"Diamètre_inter\",AND('Choix de l''instrument '!$D$3>=Diamètre_inter!G3,G3<>\"\"),\"\")","v":""}]
[null,null,"TL-006","Tampon lisse","TLD 12,02/ 12,06",null,null,"Afficher",null,null,null,null,null,{"$f":"IF('Choix de l''instrument '!$C$3=\"Diamètre_inter\",AND('Choix de l''instrument '!$D$3>=Diamètre_inter!G4,G4<>\"\"),\"\")","v":""}]
[null,null,"TL-005","Tampon lisse","TLE 2,692 mm 0 / 0 (Qualité )",null,null,"Afficher",null,null,null,null,null,{"$f":"IF('Choix de l''instrument '!$C$3=\"Diamètre_inter\",AND('Choix de l''instrument '!$D$3>=Diamètre_inter!G5,G5<>\"\"),\"\")","v":""}]
[null,null,"TL-010","Tampon lisse","TLD 3,667/ 3,680",null,null,"Afficher",null,null,null,null,null,{"$f":"IF('Choix de l''instrument '!$C$3=\"Diamètre_inter\",AND('Choix de l''instrument '!$D$3>=Diamètre_inter!G6,G6<>\"\"),\"\")","v":""}]
[null,null,"TL-009","Tampon lisse","TLD 16,5/ 16,52",null,null,"Afficher",null,null,null,null,null,{"$f":"IF('Choix de l''instrument '!$C$3=\"Diamètre_inter\",AND('Choix de l''instrument '!$D$3>=Diamètre_inter!G7,G7<>\"\"),\"\")","v":""}]
[null,null,"TL-008","Tampon lisse","TLD 16,5/ 16,52",null,null,"Afficher",null,null,null,null,null,{"$f":"IF('Choix de l''instrument '!$C$3=\"Diamètre_inter\",AND('Choix de l''instrument '!$D$3>=Diamètre_inter!G8,G8<>\"\"),\"\")","v":""}]
[null,null,"TL-004","Tampon lisse","TLE 2.692 mm",null,null,"Afficher",null,null,null,null,null,{"$f":"IF('Choix de l''instrument '!$C$3=\"Diamètre_inter\",AND('Choix de l''instrument '!$D$3>=Diamètre_inter!G9,G9<>\"\"),\"\")","v":""}]
[null,null,"TL-003","Tampon lisse","TLD 1,785 / 1,805 mm",null,null,"Afficher",null,null,null,null,null,{"$f":"IF('Choix de l''instrument '!$C$3=\"Diamètre_inter\",AND('Choix de l''instrument '!$D$3>=Diamètre_inter!G10,G10<>\"\"),\"\")","v":""}]
[null,null,"TL-002","Tampon lisse","TLD 6.000 / 6.030 mm",null,null,"Afficher",null,null,null,null,null,{"$f":"IF('Choix de l''instrument '!$C$3=\"Diamètre_inter\",AND('Choix de l''instrument '!$D$3>=Diamètre_inter!G11,G11<>\"\"),\"\")","v":""}]
[null,null,"TL-001","Tampon lisse","TLD 6.000 / 6.030 mm",null,null,"Afficher",null,null,null,null,null,{"$f":"IF('Choix de l''instrument '!$C$3=\"Diamètre_inter\",AND('Choix de l''instrument '!$D$3>=Diamètre_inter!G12,G12<>\"\"),\"\")","v":""}]
[null,null,"TL-011","Tampon lisse","TLD 4,585/ 4,595",null,null,"Afficher",null,null,null,null,null,{"$f":"IF('Choix de l''instrument '!$C$3=\"Diamètre_inter\",AND('Choix de l''instrument '!$D$3>=Diamètre_inter!G13,G13<>\"\"),\"\")","v":""}]
[null,null,"TL-021","Tampon lisse","TLD Ø 5.816 mm / 5.840 mm 0 / 0",null,null,"Afficher",null,null,null,null,null,{"$f":"IF('Choix de l''instrument '!$C$3=\"Diamètre_inter\",AND('Choix de l''instrument '!$D$3>=Diamètre_inter!G14,G14<>\"\"),\"\")","v":""}]
[null,null,"TL-020","Tampon lisse","TLD Ø 5.816 mm / 5.840 mm 0 / 0",null,null,"Afficher",null,null,null,null,null,{"$f":"IF('Choix de l''instrument '!$C$3=\"Diamètre_inter\",AND('Choix de l''instrument '!$D$3>=Diamètre_inter!G15,G15<>\"\"),\"\")","v":""}]
[null,null,"TL-019","Tampon lisse","TLD 1,843/ 1,854",null,null,"Afficher",null,null,null,null,null,{"$f":"IF('Choix de l''instrument '!$C$3=\"Diamètre_inter\",AND('Choix de l''instrument '!$D$3>=Diamètre_inter!G16,G16<>\"\"),\"\")","v":""}]
[null,null,"TL-024","Tampon lisse","TLE Ø 1.515 mm -0,0004 / 0,0004",null,null,"Afficher",null,null,null,null,null,{"$f":"IF('Choix de l''instrument '!$C$3=\"Diamètre_inter\",AND('Choix de l''instrument '!$D$3>=Diamètre_inter!G17,G17<>\"\"),\"\")","v":""}]
[null,null,"TL-023","Tampon lisse","TLE Ø 1.505 mm -0,0004 / 0,0004",null,null,"Afficher",null,null,null,null,null,{"$f":"IF('Choix de l''instrument '!$C$3=\"Diamètre_inter\",AND('Choix de l''instrument '!$D$3>=Diamètre_inter!G18,G18<>\"\"),\"\")","v":""}]
[null,null,"TL-022","Tampon lisse","TLE Ø 1.505 mm -0,0004 / 0,0004",null,null,"Afficher",null,null,null,null,null,{"$f":"IF('Choix de l''instrument '!$C$3=\"Diamètre_inter\",AND('Choix de l''instrument '!$D$3>=Diamètre_inter!G19,G19<>\"\"),\"\")","v":""}]
[null,null,"TL-018","Tampon lisse","TLE 1,84",null,null,"Afficher",null,null,null,null,null,{"$f":"IF('Choix de l''instrument '!$C$3=\"Diamètre_inter\",AND('Choix de l''instrument '!$D$3>=Diamètre_inter!G20,G20<>\"\"),\"\")","v":""}]
[null,null,"TL-014","Tampon lisse","TLD 4,585/ 4,595",null,null,"Afficher",null,null,null,null,null,{"$f":"IF('Choix de l''instrument '!$C$3=\"Diamètre_inter\",AND('Choix de l''instrument '!$D$3>=Diamètre_inter!G21,G21<>\"\"),\"\")","v":""}]
[null,null,"TL-013","Tampon lisse","TLD 1,505 / 1,515 mm",null,null,"Afficher",null,null,null,null,null,{"$f":"IF('Choix de l''instrument '!$C$3=\"Diamètre_inter\",AND('Choix de l''instrument '!$D$3>=Diamètre_inter!G22,G22<>\"\"),\"\")","v":""}]
[null,null,"TL-012","Tampon lisse","TLD 3,670/ 3,683",null,null,"Afficher",null,null,null,null,null,{"$f":"IF('Choix de l''instrument '!$C$3=\"Diamètre_inter\",AND('Choix de l''instrument '!$D$3>=Diamètre_inter!G23,G23<>\"\"),\"\")","v":""}]
[null,null,"TL-017","Tampon lisse","TLE 2,015",null,null,"Afficher",null,null,null,null,null,{"$f":"IF('Choix de l''instrument '!$C$3=\"Diamètre_inter\",AND('Choix de l''instrument '!$D$3>=Diamètre_inter!G24,G24<>\"\"),\"\")","v":""}]
[null,null,"TL-016","Tampon lisse","TLD 1,3/ 1,325",null,null,"Afficher",null,null,null,null,null,{"$f":"IF('Choix de l''instrument '!$C$3=\"Diamètre_inter\",AND('Choix de l''instrument '!$D$3>=Diamètre_inter!G25,G25<>\"\"),\"\")","v":""}]
[null,null,"TL-015","Tampon lisse","TLD 3,670/ 3,683",null,null,"Afficher",null,null,null,null,null,{"$f":"IF('Choix de l''instrument '!$C$3=\"Diamètre_inter\",AND('Choix de l''instrument '!$D$3>=Diamètre_inter!G26,G26<>\"\"),\"\")","v":""}]
[null,null,"TL-025","Tampon lisse","TLE Ø 1.515 mm -0,0004 / 0,0004",null,null,"Afficher",null,null,null,null,null,{"$f":"IF('Choix de l''instrument '!$C$3=\"Diamètre_inter\",AND('Choix de l''instrument '!$D$3>=Diamètre_inter!G27,G27<>\"\"),\"\")","v":""}]
[null,null,"TL-036","Tampon lisse","TLD 13,40",null,null,"Afficher",null,null,null,null,null,{"$f":"IF('Choix de l''instrument '!$C$3=\"Diamètre_inter\",AND('Choix de l''instrument '!$D$3>=Diamètre_inter!G28,G28<>\"\"),\"\")","v":""}]
[null,null,"TL-035","Tampon lisse","TLE 14,020",null,null,"Afficher",null,null,null,null,null,{"$f":"IF('Choix de l''instrument '!$C$3=\"Diamètre_inter\",AND('Choix de l''instrument '!$D$3>=Diamètre_inter!G29,G29<>\"\"),\"\")","v":""}]
[null,null,"TL-034","Tampon lisse","TLE 14,020",null,null,"Afficher",null,null,null,null,null,{"$f":"IF('Choix de l''instrument '!$C$3=\"Diamètre_inter\",AND('Choix de l''instrument '!$D$3>=Diamètre_inter!G30,G30<>\"\"),\"\")","v":""}]
[null,null,"TL-039","Tampon lisse","TLD 1,42 mm - 1,62 mm",null,null,"Afficher",null,null,null,null,null,{"$f":"IF('Choix de l''instrument '!$C$3=\"Diamètre_inter\",AND('Choix de l''instrument '!$D$3>=Diamètre_inter!G31,G31<>\"\"),\"\")","v":""}]
[null,null,"TL-038","Tampon lisse","TLE 0,8",null,null,"Afficher",null,null,null,null,null,{"$f":"IF('Choix de l''instrument '!$C$3=\"Diamètre_inter\",AND('Choix de l''instrument '!$D$3>=Diamètre_inter!G32,G32<>\"\"),\"\")","v":""}]
[null,null,"TL-037","Tampon lisse","TLE 0,8",null,null,"Afficher",null,null,null,null,null,{"$f":"IF('Choix de l''instrument '!$C$3=\"Diamètre_inter\",AND('Choix de l''instrument '!$D$3>=Diamètre_inter!G33,G33<>\"\"),\"\")","v":""}]
[null,null,"TL-033","Tampon lisse","TLE 6,865",null,null,"Afficher",null,null,null,null,null,{"$f":"IF('Choix de l''instrument '!$C$3=\"Diamètre_inter\",AND('Choix de l''instrument '!$D$3>=Diamètre_inter!G34,G34<>\"\"),\"\")","v":""}]
[null,null,"TL-028","Tampon lisse","TLD",null,null,"Afficher",null,null,null,null,null,{"$f":"IF('Choix de l''instrument '!$C$3=\"Diamètre_inter\",AND('Choix de l''instrument '!$D$3>=Diamètre_inter!G35,G35<>\"\"),\"\")","v":""}]
[null,null,"TL-027","Tampon lisse","TLD",null,null,"Afficher",null,null,null,null,null,{"$f":"IF('Choix de l''instrument '!$C$3=\"Diamètre_inter\",AND('Choix de l''instrument '!$D$3>=Diamètre_inter!G36,G36<>\"\"),\"\")","v":""}]
[null,null,"TL-026","Tampon lisse","TLD",null,null,"Afficher",null,null,null,null,null,{"$f":"IF('Choix de l''instrument '!$C$3=\"Diamètre_inter\",AND('Choix de l''instrument '!$D$3>=Diamètre_inter!G37,G37<>\"\"),\"\")","v":""}]
[null,null,"TL-031","Tampon lisse","TLD",null,null,"Afficher",null,null,null,null,null,{"$f":"IF('Choix de l''instrument '!$C$3=\"Diamètre_inter\",AND('Choix de l''instrument '!$D$3>=Diamètre_inter!G38,G38<>\"\"),\"\")","v":""}]
[null,null,"TL-030","Tampon lisse","TLD",null,null,"Afficher",null,null,null,null,null,{"$f":"IF('Choix de l''instrument '!$C$3=\"Diamètre_inter\",AND('Choix de l''instrument '!$D$3>=Diamètre_inter!G39,G39<>\"\"),\"\")","v":""}]
[null,null,"TL-029","Tampon lisse","TLD",null,null,"Afficher",null,null,null,null,null,{"$f":"IF('Choix de l''instrument '!$C$3=\"Diamètre_inter\",AND('Choix de l''instrument '!$D$3>=Diamètre_inter!G40,G40<>\"\"),\"\")","v":""}]
[null,null,"TL-040","Tampon lisse","TLD 0,813 / 0,833 0 / 0",null,null,"Afficher",null,null,null,null,null,{"$f":"IF('Choix de l''instrument '!$C$3=\"Diamètre_inter\",AND('Choix de l''instrument '!$D$3>=Diamètre_inter!G41,G41<>\"\"),\"\")","v":""}]
[null,null,"TL-235","Tampon lisse","TLE 6,35",null,null,"Afficher",null,null,null,null,null,{"$f":"IF('Choix de l''instrument '!$C$3=\"Diamètre_inter\",AND('Choix de l''instrument '!$D$3>=Diamètre_inter!G42,G42<>\"\"),\"\")","v":""}]
[null,null,"TL-234","Tampon lisse","TLE 6,35",null,null,"Afficher",null,null,null,null,null,{"$f":"IF('Choix de l''instrument '!$C$3=\"Diamètre_inter\",AND('Choix de l''instrument '!$D$3>=Diamètre_inter!G43,G43<>\"\"),\"\")","v":""}]
[null,null,"TL-047","Tampon lisse","TLE 3,2275",null,null,"Afficher",null,null,null,null,null,{"$f":"IF('Choix de l''instrument '!$C$3=\"Diamètre_inter\",AND('Choix de l''instrument '!$D$3>=Diamètre_inter!G44,G44<>\"\"),\"\")","v":""}]
[null,null,"TL-043","Tampon lisse","TLE 0,165 -0,0004 / 0,0004",null,null,"Afficher",null,null,null,null,null,{"$f":"IF('Choix de l''instrument '!$C$3=\"Diamètre_inter\",AND('Choix de l''instrument '!$D$3>=Diamètre_inter!G45,G45<>\"\"),\"\")","v":""}]
[null,null,"TL-042","Tampon lisse","TLE 0,175 -0,0004 / 0,0004",null,null,"Afficher",null,null,null,null,null,{"$f":"IF('Choix de l''instrument '!$C$3=\"Diamètre_inter\",AND('Choix de l''instrument '!$D$3>=Diamètre_inter!G46,G46<>\"\"),\"\")","v":""}]
[null,null,"TL-041","Tampon lisse","TLE 0,175 -0,0004 / 0,0004",null,null,"Afficher",null,null,null,null,null,{"$f":"IF('Choix de l''instrument '!$C$3=\"Diamètre_inter\",AND('Choix de l''instrument '!$D$3>=Diamètre_inter!G47,G47<>\"\"),\"\")","v":""}]
[null,null,"TL-046","Tampon lisse","TLE 3,2150",null,null,"Afficher",null,null,null,null,null,{"$f":"IF('Choix de l''instrument '!$C$3=\"Diamètre_inter\",AND('Choix de l''instrument '!$D$3>=Diamètre_inter!G48,G48<>\"\"),\"\")","v":""}]
[null,null,"TL-045","Tampon lisse","TLD 6,4 -0,035 / 0,035",null,null,"Afficher",null,null,null,null,null,{"$f":"IF('Choix de l''instrument '!$C$3=\"Diamètre_inter\",AND('Choix de l''instrument '!$D$3>=Diamètre_inter!G49,G49<>\"\"),\"\")","v":""}]
[null,null,"TL-044","Tampon lisse","TLE 0,165 -0,0004 / 0,0004",null,null,"Afficher",null,null,null,null,null,{"$f":"IF('Choix de l''instrument '!$C$3=\"Diamètre_inter\",AND('Choix de l''instrument '!$D$3>=Diamètre_inter!G50,G50<>\"\"),\"\")","v":""}]
[null,null,"THE.063","Tampon lisse","TLD 14 H7",null,null,"Afficher",null,null,null,null,null,{"$f":"IF('Choix de l''instrument '!$C$3=\"Diamètre_inter\",AND('Choix de l''instrument '!$D$3>=Diamètre_inter!G51,G51<>\"\"),\"\")","v":""}]
[null,null,"CAL-0455","Tampon lisse","TLE 0.166",null,null,"Afficher",null,null,null,null,null,{"$f":"IF('Choix de l''instrument '!$C$3=\"Diamètre_inter\",AND('Choix de l''instrument '!$D$3>=Diamètre_inter!G52,G52<>\"\"),\"\")","v":""}]
[null,null,"CAL-0454","Tampon lisse","TLE 0.165",null,null,"Afficher",null,null,null,null,null,{"$f":"IF('Choix de l''instrument '!$C$3=\"Diamètre_inter\",AND('Choix de l''instrument '!$D$3>=Diamètre_inter!G53,G53<>\"\"),\"\")","v":""}]
[null,null,"CAL-0458","Tampon lisse","TLE 0.169",null,null,"Afficher",null,null,null,null,null,{"$f":"IF('Choix de l''instrument '!$C$3=\"Diamètre_inter\",AND('Choix de l''instrument '!$D$3>=Diamètre_inter!G54,G54<>\"\"),\"\")","v":""}]
[null,null,"CAL-0457","Tampon lisse","TLE 0.168",null,null,"Afficher",null,null,null,null,null,{"$f":"IF('Choix de l''instrument '!$C$3=\"Diamètre_inter\",AND('Choix de l''instrument '!$D$3>=Diamètre_inter!G55,G55<>\"\"),\"\")","v":""}]
[null,null,"CAL-0456","Tampon lisse","TLE 0.167",null,null,"Afficher",null,null,null,null,null,{"$f":"IF('Choix de l''instrument '!$C$3=\"Diamètre_inter\",AND('Choix de l''instrument '!$D$3>=Diamètre_inter!G56,G56<>\"\"),\"\")","v":""}]
[null,null,"CAL-0451","Tampon lisse","TLE 1,2 0 / 0",null,null,"Afficher",null,null,null,null,null,{"$f":"IF('Choix de l''instrument '!$C$3=\"Diamètre_inter\",AND('Choix de l''instrument '!$D$3>=Diamètre_inter!G57,G57<>\"\"),\"\")","v":""}]
[null,null,"CAL-0447","Tampon lisse","TLE 0.300 0 / 0",null,null,"Afficher",null,null,null,null,null,{"$f":"IF('Choix de l''instrument '!$C$3=\"Diamètre_inter\",AND('Choix de l''instrument '!$D$3>=Diamètre_inter!G58,G58<>\"\"),\"\")","v":""}]
[null,null,"CAL-0446","Tampon lisse","TLE 0.200 0 / 0",null,null,"Afficher",null,null,null,null,null,{"$f":"IF('Choix de l''instrument '!$C$3=\"Diamètre_inter\",AND('Choix de l''instrument '!$D$3>=Diamètre_inter!G59,G59<>\"\"),\"\")","v":""}]
[null,null,"CAL-0450","Tampon lisse","TLE 1,7 0 / 0",null,null,"Afficher",null,null,null,null,null,{"$f":"IF('Choix de l''instrument '!$C$3=\"Diamètre_inter\",AND('Choix de l''instrument '!$D$3>=Diamètre_inter!G60,G60<>\"\"),\"\")","v":""}]
[null,null,"CAL-0449","Tampon lisse","TLE 0.900 0 / 0",null,null,"Afficher",null,null,null,null,null,{"$f":"IF('Choix de l''instrument '!$C$3=\"Diamètre_inter\",AND('Choix de l''instrument '!$D$3>=Diamètre_inter!G61,G61<>\"\"),\"\")","v":""}]
[null,null,"CAL-0448","Tampon lisse","TLE 0.600 0 / 0",null,null,"Afficher",null,null,null,null,null,{"$f":"IF('Choix de l''instrument '!$C$3=\"Diamètre_inter\",AND('Choix de l''instrument '!$D$3>=Diamètre_inter!G62,G62<>\"\"),\"\")","v":""}]
[null,null,"CAL-0459","Tampon lisse","TLE 0.170",null,null,"Afficher",null,null,null,null,null,{"$f":"IF('Choix de l''instrument '!$C$3=\"Diamètre_inter\",AND('Choix de l''instrument '!$D$3>=Diamètre_inter!G63,G63<>\"\"),\"\")","v":""}]
[null,null,"CAL-0462","Tampon lisse","TLE 0.173",null,null,"Afficher",null,null,null,null,null,{"$f":"IF('Choix de l''instrument '!$C$3=\"Diamètre_inter\",AND('Choix de l''instrument '!$D$3>=Diamètre_inter!G64,G64<>\"\"),\"\")","v":""}]
[null,null,"CAL-0461","Tampon lisse","TLE 0.172",null,null,"Afficher",null,null,null,null,null,{"$f":"IF('Choix de l''instrument '!$C$3=\"Diamètre_inter\",AND('Choix de l''instrument '!$D$3>=Diamètre_inter!G65,G65<>\"\"),\"\")","v":""}]
[null,null,"CAL-0460","Tampon lisse","TLE 0.171",null,null,"Afficher",null,null,null,null,null,{"$f":"IF('Choix de l''instrument '!$C$3=\"Diamètre_inter\",AND('Choix de l''instrument '!$D$3>=Diamètre_inter!G66,G66<>\"\"),\"\")","v":""}]
[null,null,"CAL-0463","Tampon lisse","TLE 0.174",null,null,"Afficher",null,null,null,null,null,{"$f":"IF('Choix de l''instrument '!$C$3=\"Diamètre_inter\",AND('Choix de l''instrument '!$D$3>=Diamètre_inter!G67,G67<>\"\"),\"\")","v":""}]
[null,null,"CAL-0370","Tampon lisse","TLD 3,563/3,568",null,null,"Afficher",null,null,null,null,null,{"$f":"IF('Choix de l''instrument '!$C$3=\"Diamètre_inter\",AND('Choix de l''instrument '!$D$3>=Diamètre_inter!G68,G68<>\"\"),\"\")","v":""}]
[null,null,"CAL-0369","Tampon lisse","TLD 3,385 /3,390",null,null,"Afficher",null,null,null,null,null,{"$f":"IF('Choix de l''instrument '!$C$3=\"Diamètre_inter\",AND('Choix de l''instrument '!$D$3>=Diamètre_inter!G69,G69<>\"\"),\"\")","v":""}]
[null,null,"CAL-0368","Tampon lisse","TLD 3,385 /3,390",null,null,"Afficher",null,null,null,null,null,{"$f":"IF('Choix de l''instrument '!$C$3=\"Diamètre_inter\",AND('Choix de l''instrument '!$D$3>=Diamètre_inter!G70,G70<>\"\"),\"\")","v":""}]
[null,null,"CAL-0373","Tampon lisse","TLD 3,804/3,809",null,null,"Afficher",null,null,null,null,null,{"$f":"IF('Choix de l''instrument '!$C$3=\"Diamètre_inter\",AND('Choix de l''instrument '!$D$3>=Diamètre_inter!G71,G71<>\"\"),\"\")","v":""}]
[null,null,"CAL-0372","Tampon lisse","TLD 3,804/3,809",null,null,"Afficher",null,null,null,null,null,{"$f":"IF('Choix de l''instrument '!$C$3=\"Diamètre_inter\",AND('Choix de l''instrument '!$D$3>=Diamètre_inter!G72,G72<>\"\"),\"\")","v":""}]
[null,null,"CAL-0371","Tampon lisse","TLD 3,563/3,568",null,null,"Afficher",null,null,null,null,null,{"$f":"IF('Choix de l''instrument '!$C$3=\"Diamètre_inter\",AND('Choix de l''instrument '!$D$3>=Diamètre_inter!G73,G73<>\"\"),\"\")","v":""}]
[null,null,"CAL-0367","Tampon lisse","TLD 3,424/ 3,429",null,null,"Afficher",null,null,null,null,null,{"$f":"IF('Choix de l''instrument '!$C$3=\"Diamètre_inter\",AND('Choix de l''instrument '!$D$3>=Diamètre_inter!G74,G74<>\"\"),\"\")","v":""}]
[null,null,"CAL-0363","Tampon lisse","TLD 3,544/ 3,549",null,null,"Afficher",null,null,null,null,null,{"$f":"IF('Choix de l''instrument '!$C$3=\"Diamètre_inter\",AND('Choix de l''instrument '!$D$3>=Diamètre_inter!G75,G75<>\"\"),\"\")","v":""}]
[null,null,"CAL-0362","Tampon lisse","TLD 3,544/ 3,549",null,null,"Afficher",null,null,null,null,null,{"$f":"IF('Choix de l''instrument '!$C$3=\"Diamètre_inter\",AND('Choix de l''instrument '!$D$3>=Diamètre_inter!G76,G76<>\"\"),\"\")","v":""}]
[null,null,"CAL-0361","Tampon lisse","TLD 3,379/ 3,384",null,null,"Afficher",null,null,null,null,null,{"$f":"IF('Choix de l''instrument '!$C$3=\"Diamètre_inter\",AND('Choix de l''instrument '!$D$3>=Diamètre_inter!G77,G77<>\"\"),\"\")","v":""}]
[null,null,"CAL-0366","Tampon lisse","TLD 3,424/ 3,429",null,null,"Afficher",null,null,null,null,null,{"$f":"IF('Choix de l''instrument '!$C$3=\"Diamètre_inter\",AND('Choix de l''instrument '!$D$3>=Diamètre_inter!G78,G78<>\"\"),\"\")","v":""}]
[null,null,"CAL-0365","Tampon lisse","TLD 3,785/ 3,790",null,null,"Afficher",null,null,null,null,null,{"$f":"IF('Choix de l''instrument '!$C$3=\"Diamètre_inter\",AND('Choix de l''instrument '!$D$3>=Diamètre_inter!G79,G79<>\"\"),\"\")","v":""}]
[null,null,"CAL-0364","Tampon lisse","TLD 3,785/ 3,790",null,null,"Afficher",null,null,null,null,null,{"$f":"IF('Choix de l''instrument '!$C$3=\"Diamètre_inter\",AND('Choix de l''instrument '!$D$3>=Diamètre_inter!G80,G80<>\"\"),\"\")","v":""}]
[null,null,"CAL-0374","Tampon lisse","TLD 3,378",null,null,"Afficher",null,null,null,null,null,{"$f":"IF('Choix de l''instrument '!$C$3=\"Diamètre_inter\",AND('Choix de l''instrument '!$D$3>=Diamètre_inter!G81,G81<>\"\"),\"\")","v":""}]
[null,null,"CAL-0383","Tampon lisse","TLE 3,797",null,null,"Afficher",null,null,null,null,null,{"$f":"IF('Choix de l''instrument '!$C$3=\"Diamètre_inter\",AND('Choix de l''instrument '!$D$3>=Diamètre_inter!G82,G82<>\"\"),\"\")","v":""}]
[null,null,"CAL-0382","Tampon lisse","TLE 3,797",null,null,"Afficher",null,null,null,null,null,{"$f":"IF('Choix de l''instrument '!$C$3=\"Diamètre_inter\",AND('Choix de l''instrument '!$D$3>=Diamètre_inter!G83,G83<>\"\"),\"\")","v":""}]
[null,null,"CAL-0381","Tampon lisse","TLE 3,556",null,null,"Afficher",null,null,null,null,null,{"$f":"IF('Choix de l''instrument '!$C$3=\"Diamètre_inter\",AND('Choix de l''instrument '!$D$3>=Diamètre_inter!G84,G84<>\"\"),\"\")","v":""}]
[null,null,"CAL-0377","Tampon lisse","TLE 3,400",null,null,"Afficher",null,null,null,null,null,{"$f":"IF('Choix de l''instrument '!$C$3=\"Diamètre_inter\",AND('Choix de l''instrument '!$D$3>=Diamètre_inter!G85,G85<>\"\"),\"\")","v":""}]
[null,null,"CAL-0376","Tampon lisse","TLE 3,400",null,null,"Afficher",null,null,null,null,null,{"$f":"IF('Choix de l''instrument '!$C$3=\"Diamètre_inter\",AND('Choix de l''instrument '!$D$3>=Diamètre_inter!G86,G86<>\"\"),\"\")","v":""}]
[null,null,"CAL-0375","Tampon lisse","TLD 3,378",null,null,"Afficher",null,null,null,null,null,{"$f":"IF('Choix de l''instrument '!$C$3=\"Diamètre_inter\",AND('Choix de l''instrument '!$D$3>=Diamètre_inter!G87,G87<>\"\"),\"\")","v":""}]
[null,null,"CAL-0380","Tampon lisse","TLE 3,556",null,null,"Afficher",null,null,null,null,null,{"$f":"IF('Choix de l''instrument '!$C$3=\"Diamètre_inter\",AND('Choix de l''instrument '!$D$3>=Diamètre_inter!G88,G88<>\"\"),\"\")","v":""}]
[null,null,"CAL-0379","Tampon lisse","TLE 3,410",null,null,"Afficher",null,null,null,null,null,{"$f":"IF('Choix de l''instrument '!$C$3=\"Diamètre_inter\",AND('Choix de l''instrument '!$D$3>=Diamètre_inter!G89,G89<>\"\"),\"\")","v":""}]
[null,null,"CAL-0378","Tampon lisse","TLE 3,410",null,null,"Afficher",null,null,null,null,null,{"$f":"IF('Choix de l''instrument '!$C$3=\"Diamètre_inter\",AND('Choix de l''instrument '!$D$3>=Diamètre_inter!G90,G90<>\"\"),\"\")","v":""}]
[null,null,"CAL-0343","Tampon lisse","TLD 2,299 / 2,304",null,null,"Afficher",null,null,null,null,null,{"$f":"IF('Choix de l''instrument '!$C$3=\"Diamètre_inter\",AND('Choix de l''instrument '!$D$3>=Diamètre_inter!G91,G91<>\"\"),\"\")","v":""}]
[null,null,"CAL-0342","Tampon lisse","TLD 2,299 / 2,304",null,null,"Afficher",null,null,null,null,null,{"$f":"IF('Choix de l''instrument '!$C$3=\"Diamètre_inter\",AND('Choix de l''instrument '!$D$3>=Diamètre_inter!G92,G92<>\"\"),\"\")","v":""}]
[null,null,"CAL-0341","Tampon lisse","TLD 2,928 / 2,933",null,null,"Afficher",null,null,null,null,null,{"$f":"IF('Choix de l''instrument '!$C$3=\"Diamètre_inter\",AND('Choix de l''instrument '!$D$3>=Diamètre_inter!G93,G93<>\"\"),\"\")","v":""}]
[null,null,"CAL-0346","Tampon lisse","TLD 1,320 / 1,325",null,null,"Afficher",null,null,null,null,null,{"$f":"IF('Choix de l''instrument '!$C$3=\"Diamètre_inter\",AND('Choix de l''instrument '!$D$3>=Diamètre_inter!G94,G94<>\"\"),\"\")","v":""}]
[null,null,"CAL-0345","Tampon lisse","TLD 2,318 / 2,323",null,null,"Afficher",null,null,null,null,null,{"$f":"IF('Choix de l''instrument '!$C$3=\"Diamètre_inter\",AND('Choix de l''instrument '!$D$3>=Diamètre_inter!G95,G95<>\"\"),\"\")","v":""}]
[null,null,"CAL-0344","Tampon lisse","TLD 2,318 / 2,323",null,null,"Afficher",null,null,null,null,null,{"$f":"IF('Choix de l''instrument '!$C$3=\"Diamètre_inter\",AND('Choix de l''instrument '!$D$3>=Diamètre_inter!G96,G96<>\"\"),\"\")","v":""}]
[null,null,"CAL-0340","Tampon lisse","TLD 2,928 / 2,933",null,null,"Afficher",null,null,null,null,null,{"$f":"IF('Choix de l''instrument '!$C$3=\"Diamètre_inter\",AND('Choix de l''instrument '!$D$3>=Diamètre_inter!G97,G97<>\"\"),\"\")","v":""}]
[null,null,"CAL-0336","Tampon lisse","TLD 2,420 / 2,425",null,null,"Afficher",null,null,null,null,null,{"$f":"IF('Choix de l''instrument '!$C$3=\"Diamètre_inter\",AND('Choix de l''instrument '!$D$3>=Diamètre_inter!G98,G98<>\"\"),\"\")","v":""}]
[null,null,"CAL-0335","Tampon lisse","TLE 2,311",null,null,"Afficher",null,null,null,null,null,{"$f":"IF('Choix de l''instrument '!$C$3=\"Diamètre_inter\",AND('Choix de l''instrument '!$D$3>=Diamètre_inter!G99,G99<>\"\"),\"\")","v":""}]
[null,null,"CAL-0334","Tampon lisse","TLE 2,311",null,null,"Afficher",null,null,null,null,null,{"$f":"IF('Choix de l''instrument '!$C$3=\"Diamètre_inter\",AND('Choix de l''instrument '!$D$3>=Diamètre_inter!G100,G100<>\"\"),\"\")","v":""}]
[null,null,"CAL-0339","Tampon lisse","TLD 2,909 / 2,914",null,null,"Afficher",null,null,null,null,null,{"$f":"IF('Choix de l''instrument '!$C$3=\"Diamètre_inter\",AND('Choix de l''instrument '!$D$3>=Diamètre_inter!G101,G101<>\"\"),\"\")","v":""}]
[null,null,"CAL-0338","Tampon lisse","TLD 2,909 / 2,914",null,null,"Afficher",null,null,null,null,null,{"$f":"IF('Choix de l''instrument '!$C$3=\"Diamètre_inter\",AND('Choix de l''instrument '!$D$3>=Diamètre_inter!G102,G102<>\"\"),\"\")","v":""}]
[null,null,"CAL-0337","Tampon lisse","TLD 2,420 / 2,425",null,null,"Afficher",null,null,null,null,null,{"$f":"IF('Choix de l''instrument '!$C$3=\"Diamètre_inter\",AND('Choix de l''instrument '!$D$3>=Diamètre_inter!G103,G103<>\"\"),\"\")","v":""}]
[null,null,"CAL-0347","Tampon lisse","TLD 2,401 / 2,406",null,null,"Afficher",null,null,null,null,null,{"$f":"IF('Choix de l''instrument '!$C$3=\"Diamètre_inter\",AND('Choix de l''instrument '!$D$3>=Diamètre_inter!G104,G104<>\"\"),\"\")","v":""}]
[null,null,"CAL-0357","Tampon lisse","TLE 5,625",null,null,"Afficher",null,null,null,null,null,{"$f":"IF('Choix de l''instrument '!$C$3=\"Diamètre_inter\",AND('Choix de l''instrument '!$D$3>=Diamètre_inter!G105,G105<>\"\"),\"\")","v":""}]
[null,null,"CAL-0356","Tampon lisse","TLE 5,625",null,null,"Afficher",null,null,null,null,null,{"$f":"IF('Choix de l''instrument '!$C$3=\"Diamètre_inter\",AND('Choix de l''instrument '!$D$3>=Diamètre_inter!G106,G106<>\"\"),\"\")","v":""}]
[null,null,"CAL-0355","Tampon lisse","TLE 5,615",null,null,"Afficher",null,null,null,null,null,{"$f":"IF('Choix de l''instrument '!$C$3=\"Diamètre_inter\",AND('Choix de l''instrument '!$D$3>=Diamètre_inter!G107,G107<>\"\"),\"\")","v":""}]
[null,null,"CAL-0360","Tampon lisse","TLD 3,379/ 3,384",null,null,"Afficher",null,null,null,null,null,{"$f":"IF('Choix de l''instrument '!$C$3=\"Diamètre_inter\",AND('Choix de l''instrument '!$D$3>=Diamètre_inter!G108,G108<>\"\"),\"\")","v":""}]
[null,null,"CAL-0359","Tampon lisse","TLD 3,366 / 3,371",null,null,"Afficher",null,null,null,null,null,{"$f":"IF('Choix de l''instrument '!$C$3=\"Diamètre_inter\",AND('Choix de l''instrument '!$D$3>=Diamètre_inter!G109,G109<>\"\"),\"\")","v":""}]
[null,null,"CAL-0358","Tampon lisse","TLD 3,366 / 3,371",null,null,"Afficher",null,null,null,null,null,{"$f":"IF('Choix de l''instrument '!$C$3=\"Diamètre_inter\",AND('Choix de l''instrument '!$D$3>=Diamètre_inter!G110,G110<>\"\"),\"\")","v":""}]
[null,null,"CAL-0354","Tampon lisse","TLE 5,615",null,null,"Afficher",null,null,null,null,null,{"$f":"IF('Choix de l''instrument '!$C$3=\"Diamètre_inter\",AND('Choix de l''instrument '!$D$3>=Diamètre_inter!G111,G111<>\"\"),\"\")","v":""}]
[null,null,"CAL-0350","Tampon lisse","TLE 5,605",null,null,"Afficher",null,null,null,null,null,{"$f":"IF('Choix de l''instrument '!$C$3=\"Diamètre_inter\",AND('Choix de l''instrument '!$D$3>=Diamètre_inter!G112,G112<>\"\"),\"\")","v":""}]
[null,null,"CAL-0349","Tampon lisse","TLE 5,600",null,null,"Afficher",null,null,null,null,null,{"$f":"IF('Choix de l''instrument '!$C$3=\"Diamètre_inter\",AND('Choix de l''instrument '!$D$3>=Diamètre_inter!G113,G113<>\"\"),\"\")","v":""}]
[null,null,"CAL-0348","Tampon lisse","TLE 5,600",null,null,"Afficher",null,null,null,null,null,{"$f":"IF('Choix de l''instrument '!$C$3=\"Diamètre_inter\",AND('Choix de l''instrument '!$D$3>=Diamètre_inter!G114,G114<>\"\"),\"\")","v":""}]
[null,null,"CAL-0353","Tampon lisse","TLE 5,610",null,null,"Afficher",null,null,null,null,null,{"$f":"IF('Choix de l''instrument '!$C$3=\"Diamètre_inter\",AND('Choix de l''instrument '!$D$3>=Diamètre_inter!G115,G115<>\"\"),\"\")","v":""}]
[null,null,"CAL-0352","Tampon lisse","TLE 5,610",null,null,"Afficher",null,null,null,null,null,{"$f":"IF('Choix de l''instrument '!$C$3=\"Diamètre_inter\",AND('Choix de l''instrument '!$D$3>=Diamètre_inter!G116,G116<>\"\"),\"\")","v":""}]
[null,null,"CAL-0351","Tampon lisse","TLE 5,605",null,null,"Afficher",null,null,null,null,null,{"$f":"IF('Choix de l''instrument '!$C$3=\"Diamètre_inter\",AND('Choix de l''instrument '!$D$3>=Diamètre_inter!G117,G117<>\"\"),\"\")","v":""}]
[null,null,"CAL-0425","Tampon lisse","TLE 6,530",null,null,"Afficher",null,null,null,null,null,{"$f":"IF('Choix de l''instrument '!$C$3=\"Diamètre_inter\",AND('Choix de l''instrument '!$D$3>=Diamètre_inter!G118,G118<>\"\"),\"\")","v":""}]
[null,null,"CAL-0424","Tampon lisse","TLE 6,530",null,null,"Afficher",null,null,null,null,null,{"$f":"IF('Choix de l''instrument '!$C$3=\"Diamètre_inter\",AND('Choix de l''instrument '!$D$3>=Diamètre_inter!G119,G119<>\"\"),\"\")","v":""}]
[null,null,"CAL-0423","Tampon lisse","TLE 6,510",null,null,"Afficher",null,null,null,null,null,{"$f":"IF('Choix de l''instrument '!$C$3=\"Diamètre_inter\",AND('Choix de l''instrument '!$D$3>=Diamètre_inter!G120,G120<>\"\"),\"\")","v":""}]
[null,null,"CAL-0422","Tampon lisse","TLE 6,510",null,null,"Afficher",null,null,null,null,null,{"$f":"IF('Choix de l''instrument '!$C$3=\"Diamètre_inter\",AND('Choix de l''instrument '!$D$3>=Diamètre_inter!G121,G121<>\"\"),\"\")","v":""}]
[null,null,"CAL-0418","Tampon lisse","TLE 7,020",null,null,"Afficher",null,null,null,null,null,{"$f":"IF('Choix de l''instrument '!$C$3=\"Diamètre_inter\",AND('Choix de l''instrument '!$D$3>=Diamètre_inter!G122,G122<>\"\"),\"\")","v":""}]
[null,null,"CAL-0417","Tampon lisse","TLE 6,470",null,null,"Afficher",null,null,null,null,null,{"$f":"IF('Choix de l''instrument '!$C$3=\"Diamètre_inter\",AND('Choix de l''instrument '!$D$3>=Diamètre_inter!G123,G123<>\"\"),\"\")","v":""}]
[null,null,"CAL-0416","Tampon lisse","TLE 6,470",null,null,"Afficher",null,null,null,null,null,{"$f":"IF('Choix de l''instrument '!$C$3=\"Diamètre_inter\",AND('Choix de l''instrument '!$D$3>=Diamètre_inter!G124,G124<>\"\"),\"\")","v":""}]
[null,null,"CAL-0421","Tampon lisse","TLE 6,490",null,null,"Afficher",null,null,null,null,null,{"$f":"IF('Choix de l''instrument '!$C$3=\"Diamètre_inter\",AND('Choix de l''instrument '!$D$3>=Diamètre_inter!G125,G125<>\"\"),\"\")","v":""}]
[null,null,"CAL-0420","Tampon lisse","TLE 6,490",null,null,"Afficher",null,null,null,null,null,{"$f":"IF('Choix de l''instrument '!$C$3=\"Diamètre_inter\",AND('Choix de l''instrument '!$D$3>=Diamètre_inter!G126,G126<>\"\"),\"\")","v":""}]
[null,null,"CAL-0419","Tampon lisse","TLE 7,020",null,null,"Afficher",null,null,null,null,null,{"$f":"IF('Choix de l''instrument '!$C$3=\"Diamètre_inter\",AND('Choix de l''instrument '!$D$3>=Diamètre_inter!G127,G127<>\"\"),\"\")","v":""}]
[null,null,"CAL-0398","Tampon lisse","TLE 5,710",null,null,"Afficher",null,null,null,null,null,{"$f":"IF('Choix de l''instrument '!$C$3=\"Diamètre_inter\",AND('Choix de l''instrument '!$D$3>=Diamètre_inter!G128,G128<>\"\"),\"\")","v":""}]
[null,null,"CAL-0397","Tampon lisse","TLE 4,600",null,null,"Afficher",null,null,null,null,null,{"$f":"IF('Choix de l''instrument '!$C$3=\"Diamètre_inter\",AND('Choix de l''instrument '!$D$3>=Diamètre_inter!G129,G129<>\"\"),\"\")","v":""}]
[null,null,"CAL-0396","Tampon lisse","TLE 4,600",null,null,"Afficher",null,null,null,null,null,{"$f":"IF('Choix de l''instrument '!$C$3=\"Diamètre_inter\",AND('Choix de l''instrument '!$D$3>=Diamètre_inter!G130,G130<>\"\"),\"\")","v":""}]
[null,null,"CAL-0401","Tampon lisse","TLE 4,070",null,null,"Afficher",null,null,null,null,null,{"$f":"IF('Choix de l''instrument '!$C$3=\"Diamètre_inter\",AND('Choix de l''instrument '!$D$3>=Diamètre_inter!G131,G131<>\"\"),\"\")","v":""}]
[null,null,"CAL-0400","Tampon lisse","TLE 4,070",null,null,"Afficher",null,null,null,null,null,{"$f":"IF('Choix de l''instrument '!$C$3=\"Diamètre_inter\",AND('Choix de l''instrument '!$D$3>=Diamètre_inter!G132,G132<>\"\"),\"\")","v":""}]
[null,null,"CAL-0399","Tampon lisse","TLE 5,710",null,null,"Afficher",null,null,null,null,null,{"$f":"IF('Choix de l''instrument '!$C$3=\"Diamètre_inter\",AND('Choix de l''instrument '!$D$3>=Diamètre_inter!G133,G133<>\"\"),\"\")","v":""}]
[null,null,"CAL-0395","Tampon lisse","TLE 5,720",null,null,"Afficher",null,null,null,null,null,{"$f":"IF('Choix de l''instrument '!$C$3=\"Diamètre_inter\",AND('Choix de l''instrument '!$D$3>=Diamètre_inter!G134,G134<>\"\"),\"\")","v":""}]
[null,null,"CAL-0391","Tampon lisse","5,620",null,null,"Afficher",null,null,null,null,null,{"$f":"IF('Choix de l''instrument '!$C$3=\"Diamètre_inter\",AND('Choix de l''instrument '!$D$3>=Diamètre_inter!G135,G135<>\"\"),\"\")","v":""}]
[null,null,"CAL-0390","Tampon lisse","5,620",null,null,"Afficher",null,null,null,null,null,{"$f":"IF('Choix de l''instrument '!$C$3=\"Diamètre_inter\",AND('Choix de l''instrument '!$D$3>=Diamètre_inter!G136,G136<>\"\"),\"\")","v":""}]
[null,null,"CAL-0394","Tampon lisse","TLE 5,720",null,null,"Afficher",null,null,null,null,null,{"$f":"IF('Choix de l''instrument '!$C$3=\"Diamètre_inter\",AND('Choix de l''instrument '!$D$3>=Diamètre_inter!G137,G137<>\"\"),\"\")","v":""}]
[null,null,"CAL-0393","Tampon lisse","TLE 5,600",null,null,"Afficher",null,null,null,null,null,{"$f":"IF('Choix de l''instrument '!$C$3=\"Diamètre_inter\",AND('Choix de l''instrument '!$D$3>=Diamètre_inter!G138,G138<>\"\"),\"\")","v":""}]
[null,null,"CAL-0392","Tampon lisse","TLE 5,600",null,null,"Afficher",null,null,null,null,null,{"$f":"IF('Choix de l''instrument '!$C$3=\"Diamètre_inter\",AND('Choix de l''instrument '!$D$3>=Diamètre_inter!G139,G139<>\"\"),\"\")","v":""}]
[null,null,"CAL-0402","Tampon lisse","TLE 4,039/4,044",null,null,"Afficher",null,null,null,null,null,{"$f":"IF('Choix de l''instrument '!$C$3=\"Diamètre_inter\",AND('Choix de l''instrument '!$D$3>=Diamètre_inter!G140,G140<>\"\"),\"\")","v":""}]
[null,null,"CAL-0412","Tampon lisse","TLE 7,030",null,null,"Afficher",null,null,null,null,null,{"$f":"IF('Choix de l''instrument '!$C$3=\"Diamètre_inter\",AND('Choix de l''instrument '!$D$3>=Diamètre_inter!G141,G141<>\"\"),\"\")","v":""}]
[null,null,"CAL-0411","Tampon lisse","TLE 7,040",null,null,"Afficher",null,null,null,null,null,{"$f":"IF('Choix de l''instrument '!$C$3=\"Diamètre_inter\",AND('Choix de l''instrument '!$D$3>=Diamètre_inter!G142,G142<>\"\"),\"\")","v":""}]
[null,null,"CAL-0410","Tampon lisse","TLE 7,040",null,null,"Afficher",null,null,null,null,null,{"$f":"IF('Choix de l''instrument '!$C$3=\"Diamètre_inter\",AND('Choix de l''instrument '!$D$3>=Diamètre_inter!G143,G143<>\"\"),\"\")","v":""}]
[null,null,"CAL-0415","Tampon lisse","TLE 7,050",null,null,"Afficher",null,null,null,null,null,{"$f":"IF('Choix de l''instrument '!$C$3=\"Diamètre_inter\",AND('Choix de l''instrument '!$D$3>=Diamètre_inter!G144,G144<>\"\"),\"\")","v":""}]
[null,null,"CAL-0414","Tampon lisse","TLE 7,050",null,null,"Afficher",null,null,null,null,null,{"$f":"IF('Choix de l''instrument '!$C$3=\"Diamètre_inter\",AND('Choix de l''instrument '!$D$3>=Diamètre_inter!G145,G145<>\"\"),\"\")","v":""}]
[null,null,"CAL-0413","Tampon lisse","TLE 7,030",null,null,"Afficher",null,null,null,null,null,{"$f":"IF('Choix de l''instrument '!$C$3=\"Diamètre_inter\",AND('Choix de l''instrument '!$D$3>=Diamètre_inter!G146,G146<>\"\"),\"\")","v":""}]
[null,null,"CAL-0409","Tampon lisse","TLE 8,077",null,null,"Afficher",null,null,null,null,null,{"$f":"IF('Choix de l''instrument '!$C$3=\"Diamètre_inter\",AND('Choix de l''instrument '!$D$3>=Diamètre_inter!G147,G147<>\"\"),\"\")","v":""}]
[null,null,"CAL-0405","Tampon lisse","TLE 5,588/5,593",null,null,"Afficher",null,null,null,null,null,{"$f":"IF('Choix de l''instrument '!$C$3=\"Diamètre_inter\",AND('Choix de l''instrument '!$D$3>=Diamètre_inter!G148,G148<>\"\"),\"\")","v":""}]
[null,null,"CAL-0404","Tampon lisse","TLE 5,588/5,593",null,null,"Afficher",null,null,null,null,null,{"$f":"IF('Choix de l''instrument '!$C$3=\"Diamètre_inter\",AND('Choix de l''instrument '!$D$3>=Diamètre_inter!G149,G149<>\"\"),\"\")","v":""}]
[null,null,"CAL-0403","Tampon lisse","TLE 4,039/4,044",null,null,"Afficher",null,null,null,null,null,{"$f":"IF('Choix de l''instrument '!$C$3=\"Diamètre_inter\",AND('Choix de l''instrument '!$D$3>=Diamètre_inter!G150,G150<>\"\"),\"\")","v":""}]
[null,null,"CAL-0408","Tampon lisse","TLE 8,077",null,null,"Afficher",null,null,null,null,null,{"$f":"IF('Choix de l''instrument '!$C$3=\"Diamètre_inter\",AND('Choix de l''instrument '!$D$3>=Diamètre_inter!G151,G151<>\"\"),\"\")","v":""}]
[null,null,"CAL-0407","Tampon lisse","TLE 5,690/5,695",null,null,"Afficher",null,null,null,null,null,{"$f":"IF('Choix de l''instrument '!$C$3=\"Diamètre_inter\",AND('Choix de l''instrument '!$D$3>=Diamètre_inter!G152,G152<>\"\"),\"\")","v":""}]
[null,null,"CAL-0406","Tampon lisse","TLE 5,690/5,695",null,null,"Afficher",null,null,null,null,null,{"$f":"IF('Choix de l''instrument '!$C$3=\"Diamètre_inter\",AND('Choix de l''instrument '!$D$3>=Diamètre_inter!G153,G153<>\"\"),\"\")","v":""}]
[null,null,"CAL-0038","Tampon lisse","TLE 0,0049 pouce 0 / 0 (Qualité )",null,null,"Afficher",null,null,null,null,null,{"$f":"IF('Choix de l''instrument '!$C$3=\"Diamètre_inter\",AND('Choix de l''instrument '!$D$3>=Diamètre_inter!G154,G154<>\"\"),\"\")","v":""}]
[null,null,"CAL-0037","Tampon lisse","TLE 0,0049 pouce 0 / 0 (Qualité )",null,null,"Afficher",null,null,null,null,null,{"$f":"IF('Choix de l''instrument '!$C$3=\"Diamètre_inter\",AND('Choix de l''instrument '!$D$3>=Diamètre_inter!G155,G155<>\"\"),\"\")","v":""}]
[null,null,"CAL-0041","Tampon lisse","TLE 0,0051 pouce 0 / 0 (Qualité )",null,null,"Afficher",null,null,null,null,null,{"$f":"IF('Choix de l''instrument '!$C$3=\"Diamètre_inter\",AND('Choix de l''instrument '!$D$3>=Diamètre_inter!G156,G156<>\"\"),\"\")","v":""}]
[null,null,"CAL-0040","Tampon lisse","TLE 0,0050 pouce 0 / 0 (Qualité )",null,null,"Afficher",null,null,null,null,null,{"$f":"IF('Choix de l''instrument '!$C$3=\"Diamètre_inter\",AND('Choix de l''instrument '!$D$3>=Diamètre_inter!G157,G157<>\"\"),\"\")","v":""}]
[null,null,"CAL-0039","Tampon lisse","TLE 0,0050 pouce 0 / 0 (Qualité )",null,null,"Afficher",null,null,null,null,null,{"$f":"IF('Choix de l''instrument '!$C$3=\"Diamètre_inter\",AND('Choix de l''instrument '!$D$3>=Diamètre_inter!G158,G158<>\"\"),\"\")","v":""}]
[null,null,"CAL-0030","Tampon lisse","TLE 0,645",null,null,"Afficher",null,null,null,null,null,{"$f":"IF('Choix de l''instrument '!$C$3=\"Diamètre_inter\",AND('Choix de l''instrument '!$D$3>=Diamètre_inter!G159,G159<>\"\"),\"\")","v":""}]
[null,null,"CAL-0029","Tampon lisse","TLE 0,6400",null,null,"Afficher",null,null,null,null,null,{"$f":"IF('Choix de l''instrument '!$C$3=\"Diamètre_inter\",AND('Choix de l''instrument '!$D$3>=Diamètre_inter!G160,G160<>\"\"),\"\")","v":""}]
[null,null,"CAL-0042","Tampon lisse","TLE 0,0051 pouce 0 / 0 (Qualité )",null,null,"Afficher",null,null,null,null,null,{"$f":"IF('Choix de l''instrument '!$C$3=\"Diamètre_inter\",AND('Choix de l''instrument '!$D$3>=Diamètre_inter!G161,G161<>\"\"),\"\")","v":""}]
[null,null,"CAL-0052","Tampon lisse","TLE 0,0078 pouce 0 / 0 (Qualité )",null,null,"Afficher",null,null,null,null,null,{"$f":"IF('Choix de l''instrument '!$C$3=\"Diamètre_inter\",AND('Choix de l''instrument '!$D$3>=Diamètre_inter!G162,G162<>\"\"),\"\")","v":""}]
[null,null,"CAL-0051","Tampon lisse","TLE 0,0078 pouce 0 / 0 (Qualité )",null,null,"Afficher",null,null,null,null,null,{"$f":"IF('Choix de l''instrument '!$C$3=\"Diamètre_inter\",AND('Choix de l''instrument '!$D$3>=Diamètre_inter!G163,G163<>\"\"),\"\")","v":""}]
[null,null,"CAL-0050","Tampon lisse","TLE 0,0073 pouce 0 / 0 (Qualité )",null,null,"Afficher",null,null,null,null,null,{"$f":"IF('Choix de l''instrument '!$C$3=\"Diamètre_inter\",AND('Choix de l''instrument '!$D$3>=Diamètre_inter!G164,G164<>\"\"),\"\")","v":""}]
[null,null,"CAL-0049","Tampon lisse","TLE 0,0073 pouce 0 / 0 (Qualité )",null,null,"Afficher",null,null,null,null,null,{"$f":"IF('Choix de l''instrument '!$C$3=\"Diamètre_inter\",AND('Choix de l''instrument '!$D$3>=Diamètre_inter!G165,G165<>\"\"),\"\")","v":""}]
[null,null,"CAL-0045","Tampon lisse","TLE 0,0071 pouce 0 / 0 (Qualité )",null,null,"Afficher",null,null,null,null,null,{"$f":"IF('Choix de l''instrument '!$C$3=\"Diamètre_inter\",AND('Choix de l''instrument '!$D$3>=Diamètre_inter!G166,G166<>\"\"),\"\")","v":""}]
[null,null,"CAL-0044","Tampon lisse","TLE 0,0056 pouce 0 / 0 (Qualité )",null,null,"Afficher",null,null,null,null,null,{"$f":"IF('Choix de l''instrument '!$C$3=\"Diamètre_inter\",AND('Choix de l''instrument '!$D$3>=Diamètre_inter!G167,G167<>\"\"),\"\")","v":""}]
[null,null,"CAL-0043","Tampon lisse","TLE 0,0056 pouce 0 / 0 (Qualité )",null,null,"Afficher",null,null,null,null,null,{"$f":"IF('Choix de l''instrument '!$C$3=\"Diamètre_inter\",AND('Choix de l''instrument '!$D$3>=Diamètre_inter!G168,G168<>\"\"),\"\")","v":""}]
[null,null,"CAL-0048","Tampon lisse","TLE 0,0072 pouce 0 / 0 (Qualité )",null,null,"Afficher",null,null,null,null,null,{"$f":"IF('Choix de l''instrument '!$C$3=\"Diamètre_inter\",AND('Choix de l''instrument '!$D$3>=Diamètre_inter!G169,G169<>\"\"),\"\")","v":""}]
[null,null,"CAL-0047","Tampon lisse","TLE 0,0072 pouce 0 / 0 (Qualité )",null,null,"Afficher",null,null,null,null,null,{"$f":"IF('Choix de l''instrument '!$C$3=\"Diamètre_inter\",AND('Choix de l''instrument '!$D$3>=Diamètre_inter!G170,G170<>\"\"),\"\")","v":""}]
[null,null,"CAL-0046","Tampon lisse","TLE 0,0071 pouce 0 / 0 (Qualité )",null,null,"Afficher",null,null,null,null,null,{"$f":"IF('Choix de l''instrument '!$C$3=\"Diamètre_inter\",AND('Choix de l''instrument '!$D$3>=Diamètre_inter!G171,G171<>\"\"),\"\")","v":""}]
[null,null,"CAL-0009","Tampon lisse","TLE 3,315",null,null,"Afficher",null,null,null,null,null,{"$f":"IF('Choix de l''instrument '!$C$3=\"Diamètre_inter\",AND('Choix de l''instrument '!$D$3>=Diamètre_inter!G172,G172<>\"\"),\"\")","v":""}]
[null,null,"CAL-0013","Tampon lisse",null,null,null,"Afficher",null,null,null,null,null,{"$f":"IF('Choix de l''instrument '!$C$3=\"Diamètre_inter\",AND('Choix de l''instrument '!$D$3>=Diamètre_inter!G173,G173<>\"\"),\"\")","v":""}]
[null,null,"CAL-0008","Tampon lisse","TLE 3,315",null,null,"Afficher",null,null,null,null,null,{"$f":"IF('Choix de l''instrument '!$C$3=\"Diamètre_inter\",AND('Choix de l''instrument '!$D$3>=Diamètre_inter!G174,G174<>\"\"),\"\")","v":""}]
[null,null,"CAL-0004","Tampon lisse","TLE 1,18",null,null,"Afficher",null,null,null,null,null,{"$f":"IF('Choix de l''instrument '!$C$3=\"Diamètre_inter\",AND('Choix de l''instrument '!$D$3>=Diamètre_inter!G175,G175<>\"\"),\"\")","v":""}]
[null,null,"CAL-0003","Tampon lisse","TLE 1,17",null,null,"Afficher",null,null,null,null,null,{"$f":"IF('Choix de l''instrument '!$C$3=\"Diamètre_inter\",AND('Choix de l''instrument '!$D$3>=Diamètre_inter!G176,G176<>\"\"),\"\")","v":""}]
[null,null,"CAL-0002","Tampon lisse","TLE 5,031",null,null,"Afficher",null,null,null,null,null,{"$f":"IF('Choix de l''instrument '!$C$3=\"Diamètre_inter\",AND('Choix de l''instrument '!$D$3>=Diamètre_inter!G177,G177<>\"\"),\"\")","v":""}]
[null,null,"CAL-0007","Tampon lisse","TLNEP",null,null,"Afficher",null,null,null,null,null,{"$f":"IF('Choix de l''instrument '!$C$3=\"Diamètre_inter\",AND('Choix de l''instrument '!$D$3>=Diamètre_inter!G178,G178<>\"\"),\"\")","v":""}]
[null,null,"CAL-0006","Tampon lisse","TLNEP",null,null,"Afficher",null,null,null,null,null,{"$f":"IF('Choix de l''instrument '!$C$3=\"Diamètre_inter\",AND('Choix de l''instrument '!$D$3>=Diamètre_inter!G179,G179<>\"\"),\"\")","v":""}]
[null,null,"CAL-0005","Tampon lisse","TLE 1,175",null,null,"Afficher",null,null,null,null,null,{"$f":"IF('Choix de l''instrument '!$C$3=\"Diamètre_inter\",AND('Choix de l''instrument '!$D$3>=Diamètre_inter!G180,G180<>\"\"),\"\")","v":""}]
[null,null,"CAL-0025","Tampon lisse","TLE 0,6350",null,null,"Afficher",null,null,null,null,null,{"$f":"IF('Choix de l''instrument '!$C$3=\"Diamètre_inter\",AND('Choix de l''instrument '!$D$3>=Diamètre_inter!G181,G181<>\"\"),\"\")","v":""}]
[null,null,"CAL-0024","Tampon lisse","TLE 0,645",null,null,"Afficher",null,null,null,null,null,{"$f":"IF('Choix de l''instrument '!$C$3=\"Diamètre_inter\",AND('Choix de l''instrument '!$D$3>=Diamètre_inter!G182,G182<>\"\"),\"\")","v":""}]
[null,null,"CAL-0023","Tampon lisse","TLE 0,6400",null,null,"Afficher",null,null,null,null,null,{"$f":"IF('Choix de l''instrument '!$C$3=\"Diamètre_inter\",AND('Choix de l''instrument '!$D$3>=Diamètre_inter!G183,G183<>\"\"),\"\")","v":""}]
[null,null,"CAL-0028","Tampon lisse","TLE 0,6350",null,null,"Afficher",null,null,null,null,null,{"$f":"IF('Choix de l''instrument '!$C$3=\"Diamètre_inter\",AND('Choix de l''instrument '!$D$3>=Diamètre_inter!G184,G184<>\"\"),\"\")","v":""}]
[null,null,"CAL-0027","Tampon lisse","TLE 0,645",null,null,"Afficher",null,null,null,null,null,{"$f":"IF('Choix de l''instrument '!$C$3=\"Diamètre_inter\",AND('Choix de l''instrument '!$D$3>=Diamètre_inter!G185,G185<>\"\"),\"\")","v":""}]
[null,null,"CAL-0026","Tampon lisse","TLE 0,6400",null,null,"Afficher",null,null,null,null,null,{"$f":"IF('Choix de l''instrument '!$C$3=\"Diamètre_inter\",AND('Choix de l''instrument '!$D$3>=Diamètre_inter!G186,G186<>\"\"),\"\")","v":""}]
[null,null,"CAL-0022","Tampon lisse","TLE 0,6350",null,null,"Afficher",null,null,null,null,null,{"$f":"IF('Choix de l''instrument '!$C$3=\"Diamètre_inter\",AND('Choix de l''instrument '!$D$3>=Diamètre_inter!G187,G187<>\"\"),\"\")","v":""}]
[null,null,"CAL-0021","Tampon lisse","TLE 0,889",null,null,"Afficher",null,null,null,null,null,{"$f":"IF('Choix de l''instrument '!$C$3=\"Diamètre_inter\",AND('Choix de l''instrument '!$D$3>=Diamètre_inter!G188,G188<>\"\"),\"\")","v":""}]
[null,null,"CAL-0020","Tampon lisse","TLE 0,889",null,null,"Afficher",null,null,null,null,null,{"$f":"IF('Choix de l''instrument '!$C$3=\"Diamètre_inter\",AND('Choix de l''instrument '!$D$3>=Diamètre_inter!G189,G189<>\"\"),\"\")","v":""}]
[null,null,"CAL-0019","Tampon lisse","TLE 1,30",null,null,"Afficher",null,null,null,null,null,{"$f":"IF('Choix de l''instrument '!$C$3=\"Diamètre_inter\",AND('Choix de l''instrument '!$D$3>=Diamètre_inter!G190,G190<>\"\"),\"\")","v":""}]
[null,null,"CAL-0087","Tampon lisse","TLE 1,15 0 / 0 (Qualité )",null,null,"Afficher",null,null,null,null,null,{"$f":"IF('Choix de l''instrument '!$C$3=\"Diamètre_inter\",AND('Choix de l''instrument '!$D$3>=Diamètre_inter!G191,G191<>\"\"),\"\")","v":""}]
[null,null,"CAL-0083","Tampon lisse","TLE 1,4100 0 / 0 (Qualité )",null,null,"Afficher",null,null,null,null,null,{"$f":"IF('Choix de l''instrument '!$C$3=\"Diamètre_inter\",AND('Choix de l''instrument '!$D$3>=Diamètre_inter!G192,G192<>\"\"),\"\")","v":""}]
[null,null,"CAL-0082","Tampon lisse","TLE 1,4100 0 / 0 (Qualité )",null,null,"Afficher",null,null,null,null,null,{"$f":"IF('Choix de l''instrument '!$C$3=\"Diamètre_inter\",AND('Choix de l''instrument '!$D$3>=Diamètre_inter!G193,G193<>\"\"),\"\")","v":""}]
[null,null,"CAL-0081","Tampon lisse","TLE 1,4100 0 / 0 (Qualité )",null,null,"Afficher",null,null,null,null,null,{"$f":"IF('Choix de l''instrument '!$C$3=\"Diamètre_inter\",AND('Choix de l''instrument '!$D$3>=Diamètre_inter!G194,G194<>\"\"),\"\")","v":""}]
[null,null,"CAL-0001","Tampon lisse","TLD",null,null,"Afficher",null,null,null,null,null,{"$f":"IF('Choix de l''instrument '!$C$3=\"Diamètre_inter\",AND('Choix de l''instrument '!$D$3>=Diamètre_inter!G195,G195<>\"\"),\"\")","v":""}]
[null,null,"CAL-0261","Tampon lisse","TLE 7,045",null,null,"Afficher",null,null,null,null,null,{"$f":"IF('Choix de l''instrument '!$C$3=\"Diamètre_inter\",AND('Choix de l''instrument '!$D$3>=Diamètre_inter!G196,G196<>\"\"),\"\")","v":""}]
[null,null,"CAL-0260","Tampon lisse","TLE 7,065",null,null,"Afficher",null,null,null,null,null,{"$f":"IF('Choix de l''instrument '!$C$3=\"Diamètre_inter\",AND('Choix de l''instrument '!$D$3>=Diamètre_inter!G197,G197<>\"\"),\"\")","v":""}]
[null,null,"CAL-0259","Tampon lisse","TLE 7,065",null,null,"Afficher",null,null,null,null,null,{"$f":"IF('Choix de l''instrument '!$C$3=\"Diamètre_inter\",AND('Choix de l''instrument '!$D$3>=Diamètre_inter!G198,G198<>\"\"),\"\")","v":""}]
[null,null,"CAL-0264","Tampon lisse","TLE 7,060",null,null,"Afficher",null,null,null,null,null,{"$f":"IF('Choix de l''instrument '!$C$3=\"Diamètre_inter\",AND('Choix de l''instrument '!$D$3>=Diamètre_inter!G199,G199<>\"\"),\"\")","v":""}]
[null,null,"CAL-0263","Tampon lisse","TLE 7,045",null,null,"Afficher",null,null,null,null,null,{"$f":"IF('Choix de l''instrument '!$C$3=\"Diamètre_inter\",AND('Choix de l''instrument '!$D$3>=Diamètre_inter!G200,G200<>\"\"),\"\")","v":""}]
[null,null,"CAL-0262","Tampon lisse","TLE 7,045",null,null,"Afficher",null,null,null,null,null,{"$f":"IF('Choix de l''instrument '!$C$3=\"Diamètre_inter\",AND('Choix de l''instrument '!$D$3>=Diamètre_inter!G201,G201<>\"\"),\"\")","v":""}]
[null,null,"CAL-0258","Tampon lisse","TLE 7,065",null,null,"Afficher",null,null,null,null,null,{"$f":"IF('Choix de l''instrument '!$C$3=\"Diamètre_inter\",AND('Choix de l''instrument '!$D$3>=Diamètre_inter!G202,G202<>\"\"),\"\")","v":""}]
[null,null,"CAL-0254","Tampon lisse","TLE 8,065",null,null,"Afficher",null,null,null,null,null,{"$f":"IF('Choix de l''instrument '!$C$3=\"Diamètre_inter\",AND('Choix de l''instrument '!$D$3>=Diamètre_inter!G203,G203<>\"\"),\"\")","v":""}]
[null,null,"CAL-0253","Tampon lisse","TLE 8,065",null,null,"Afficher",null,null,null,null,null,{"$f":"IF('Choix de l''instrument '!$C$3=\"Diamètre_inter\",AND('Choix de l''instrument '!$D$3>=Diamètre_inter!G204,G204<>\"\"),\"\")","v":""}]
[null,null,"CAL-0252","Tampon lisse","TLE 8,065",null,null,"Afficher",null,null,null,null,null,{"$f":"IF('Choix de l''instrument '!$C$3=\"Diamètre_inter\",AND('Choix de l''instrument '!$D$3>=Diamètre_inter!G205,G205<>\"\"),\"\")","v":""}]
[null,null,"CAL-0257","Tampon lisse","TLE 7,055",null,null,"Afficher",null,null,null,null,null,{"$f":"IF('Choix de l''instrument '!$C$3=\"Diamètre_inter\",AND('Choix de l''instrument '!$D$3>=Diamètre_inter!G206,G206<>\"\"),\"\")","v":""}]
[null,null,"CAL-0256","Tampon lisse","TLE 7,055",null,null,"Afficher",null,null,null,null,null,{"$f":"IF('Choix de l''instrument '!$C$3=\"Diamètre_inter\",AND('Choix de l''instrument '!$D$3>=Diamètre_inter!G207,G207<>\"\"),\"\")","v":""}]
[null,null,"CAL-0255","Tampon lisse","TLE 7,055",null,null,"Afficher",null,null,null,null,null,{"$f":"IF('Choix de l''instrument '!$C$3=\"Diamètre_inter\",AND('Choix de l''instrument '!$D$3>=Diamètre_inter!G208,G208<>\"\"),\"\")","v":""}]
[null,null,"CAL-0265","Tampon lisse","TLE 7,060",null,null,"Afficher",null,null,null,null,null,{"$f":"IF('Choix de l''instrument '!$C$3=\"Diamètre_inter\",AND('Choix de l''instrument '!$D$3>=Diamètre_inter!G209,G209<>\"\"),\"\")","v":""}]
[null,null,"CAL-0275","Tampon lisse","TLE 7,010",null,null,"Afficher",null,null,null,null,null,{"$f":"IF('Choix de l''instrument '!$C$3=\"Diamètre_inter\",AND('Choix de l''instrument '!$D$3>=Diamètre_inter!G210,G210<>\"\"),\"\")","v":""}]
[null,null,"CAL-0274","Tampon lisse","TLE 7,010",null,null,"Afficher",null,null,null,null,null,{"$f":"IF('Choix de l''instrument '!$C$3=\"Diamètre_inter\",AND('Choix de l''instrument '!$D$3>=Diamètre_inter!G211,G211<>\"\"),\"\")","v":""}]
[null,null,"CAL-0273","Tampon lisse","TLE 7,010",null,null,"Afficher",null,null,null,null,null,{"$f":"IF('Choix de l''instrument '!$C$3=\"Diamètre_inter\",AND('Choix de l''instrument '!$D$3>=Diamètre_inter!G212,G212<>\"\"),\"\")","v":""}]
[null,null,"CAL-0278","Tampon lisse","TLE 8,085",null,null,"Afficher",null,null,null,null,null,{"$f":"IF('Choix de l''instrument '!$C$3=\"Diamètre_inter\",AND('Choix de l''instrument '!$D$3>=Diamètre_inter!G213,G213<>\"\"),\"\")","v":""}]
[null,null,"CAL-0277","Tampon lisse","TLE 8,085",null,null,"Afficher",null,null,null,null,null,{"$f":"IF('Choix de l''instrument '!$C$3=\"Diamètre_inter\",AND('Choix de l''instrument '!$D$3>=Diamètre_inter!G214,G214<>\"\"),\"\")","v":""}]
[null,null,"CAL-0276","Tampon lisse","TLE 8,085",null,null,"Afficher",null,null,null,null,null,{"$f":"IF('Choix de l''instrument '!$C$3=\"Diamètre_inter\",AND('Choix de l''instrument '!$D$3>=Diamètre_inter!G215,G215<>\"\"),\"\")","v":""}]
[null,null,"CAL-0272","Tampon lisse","TLE 8,080",null,null,"Afficher",null,null,null,null,null,{"$f":"IF('Choix de l''instrument '!$C$3=\"Diamètre_inter\",AND('Choix de l''instrument '!$D$3>=Diamètre_inter!G216,G216<>\"\"),\"\")","v":""}]
[null,null,"CAL-0268","Tampon lisse","TLE 8,060",null,null,"Afficher",null,null,null,null,null,{"$f":"IF('Choix de l''instrument '!$C$3=\"Diamètre_inter\",AND('Choix de l''instrument '!$D$3>=Diamètre_inter!G217,G217<>\"\"),\"\")","v":""}]
[null,null,"CAL-0267","Tampon lisse","TLE 8,060",null,null,"Afficher",null,null,null,null,null,{"$f":"IF('Choix de l''instrument '!$C$3=\"Diamètre_inter\",AND('Choix de l''instrument '!$D$3>=Diamètre_inter!G218,G218<>\"\"),\"\")","v":""}]
[null,null,"CAL-0266","Tampon lisse","TLE 7,060",null,null,"Afficher",null,null,null,null,null,{"$f":"IF('Choix de l''instrument '!$C$3=\"Diamètre_inter\",AND('Choix de l''instrument '!$D$3>=Diamètre_inter!G219,G219<>\"\"),\"\")","v":""}]
[null,null,"CAL-0271","Tampon lisse","TLE 8,080",null,null,"Afficher",null,null,null,null,null,{"$f":"IF('Choix de l''instrument '!$C$3=\"Diamètre_inter\",AND('Choix de l''instrument '!$D$3>=Diamètre_inter!G220,G220<>\"\"),\"\")","v":""}]
[null,null,"CAL-0270","Tampon lisse","TLE 8,080",null,null,"Afficher",null,null,null,null,null,{"$f":"IF('Choix de l''instrument '!$C$3=\"Diamètre_inter\",AND('Choix de l''instrument '!$D$3>=Diamètre_inter!G221,G221<>\"\"),\"\")","v":""}]
[null,null,"CAL-0269","Tampon lisse","TLE 8,060",null,null,"Afficher",null,null,null,null,null,{"$f":"IF('Choix de l''instrument '!$C$3=\"Diamètre_inter\",AND('Choix de l''instrument '!$D$3>=Diamètre_inter!G222,G222<>\"\"),\"\")","v":""}]
[null,null,"CAL-0234","Tampon lisse","TLE 3,390",null,null,"Afficher",null,null,null,null,null,{"$f":"IF('Choix de l''instrument '!$C$3=\"Diamètre_inter\",AND('Choix de l''instrument '!$D$3>=Diamètre_inter!G223,G223<>\"\"),\"\")","v":""}]
[null,null,"CAL-0233","Tampon lisse","TLE 3,385",null,null,"Afficher",null,null,null,null,null,{"$f":"IF('Choix de l''instrument '!$C$3=\"Diamètre_inter\",AND('Choix de l''instrument '!$D$3>=Diamètre_inter!G224,G224<>\"\"),\"\")","v":""}]
[null,null,"CAL-0232","Tampon lisse","TLE 3,385",null,null,"Afficher",null,null,null,null,null,{"$f":"IF('Choix de l''instrument '!$C$3=\"Diamètre_inter\",AND('Choix de l''instrument '!$D$3>=Diamètre_inter!G225,G225<>\"\"),\"\")","v":""}]
[null,null,"CAL-0237","Tampon lisse","TLE 3,395",null,null,"Afficher",null,null,null,null,null,{"$f":"IF('Choix de l''instrument '!$C$3=\"Diamètre_inter\",AND('Choix de l''instrument '!$D$3>=Diamètre_inter!G226,G226<>\"\"),\"\")","v":""}]
[null,null,"CAL-0236","Tampon lisse","TLE 3,390",null,null,"Afficher",null,null,null,null,null,{"$f":"IF('Choix de l''instrument '!$C$3=\"Diamètre_inter\",AND('Choix de l''instrument '!$D$3>=Diamètre_inter!G227,G227<>\"\"),\"\")","v":""}]
[null,null,"CAL-0235","Tampon lisse","TLE 3,390",null,null,"Afficher",null,null,null,null,null,{"$f":"IF('Choix de l''instrument '!$C$3=\"Diamètre_inter\",AND('Choix de l''instrument '!$D$3>=Diamètre_inter!G228,G228<>\"\"),\"\")","v":""}]
[null,null,"CAL-0231","Tampon lisse","TLE 3,385",null,null,"Afficher",null,null,null,null,null,{"$f":"IF('Choix de l''instrument '!$C$3=\"Diamètre_inter\",AND('Choix de l''instrument '!$D$3>=Diamètre_inter!G229,G229<>\"\"),\"\")","v":""}]
[null,null,"CAL-0227","Tampon lisse","TLE 3,375",null,null,"Afficher",null,null,null,null,null,{"$f":"IF('Choix de l''instrument '!$C$3=\"Diamètre_inter\",AND('Choix de l''instrument '!$D$3>=Diamètre_inter!G230,G230<>\"\"),\"\")","v":""}]
[null,null,"CAL-0226","Tampon lisse","TLE 3,375",null,null,"Afficher",null,null,null,null,null,{"$f":"IF('Choix de l''instrument '!$C$3=\"Diamètre_inter\",AND('Choix de l''instrument '!$D$3>=Diamètre_inter!G231,G231<>\"\"),\"\")","v":""}]
[null,null,"CAL-0225","Tampon lisse","TLE 3,375",null,null,"Afficher",null,null,null,null,null,{"$f":"IF('Choix de l''instrument '!$C$3=\"Diamètre_inter\",AND('Choix de l''instrument '!$D$3>=Diamètre_inter!G232,G232<>\"\"),\"\")","v":""}]
[null,null,"CAL-0230","Tampon lisse","TLE 3,380",null,null,"Afficher",null,null,null,null,null,{"$f":"IF('Choix de l''instrument '!$C$3=\"Diamètre_inter\",AND('Choix de l''instrument '!$D$3>=Diamètre_inter!G233,G233<>\"\"),\"\")","v":""}]
[null,null,"CAL-0229","Tampon lisse","TLE 3,380",null,null,"Afficher",null,null,null,null,null,{"$f":"IF('Choix de l''instrument '!$C$3=\"Diamètre_inter\",AND('Choix de l''instrument '!$D$3>=Diamètre_inter!G234,G234<>\"\"),\"\")","v":""}]
[null,null,"CAL-0228","Tampon lisse","TLE 3,380",null,null,"Afficher",null,null,null,null,null,{"$f":"IF('Choix de l''instrument '!$C$3=\"Diamètre_inter\",AND('Choix de l''instrument '!$D$3>=Diamètre_inter!G235,G235<>\"\"),\"\")","v":""}]
[null,null,"CAL-0238","Tampon lisse","TLE 3,395",null,null,"Afficher",null,null,null,null,null,{"$f":"IF('Choix de l''instrument '!$C$3=\"Diamètre_inter\",AND('Choix de l''instrument '!$D$3>=Diamètre_inter!G236,G236<>\"\"),\"\")","v":""}]
[null,null,"CAL-0248","Tampon lisse","TLE 7,030",null,null,"Afficher",null,null,null,null,null,{"$f":"IF('Choix de l''instrument '!$C$3=\"Diamètre_inter\",AND('Choix de l''instrument '!$D$3>=Diamètre_inter!G237,G237<>\"\"),\"\")","v":""}]
[null,null,"CAL-0247","Tampon lisse","TLE 7,030",null,null,"Afficher",null,null,null,null,null,{"$f":"IF('Choix de l''instrument '!$C$3=\"Diamètre_inter\",AND('Choix de l''instrument '!$D$3>=Diamètre_inter!G238,G238<>\"\"),\"\")","v":""}]
[null,null,"CAL-0246","Tampon lisse","TLE 7,030",null,null,"Afficher",null,null,null,null,null,{"$f":"IF('Choix de l''instrument '!$C$3=\"Diamètre_inter\",AND('Choix de l''instrument '!$D$3>=Diamètre_inter!G239,G239<>\"\"),\"\")","v":""}]
[null,null,"CAL-0251","Tampon lisse","TLE 7,050",null,null,"Afficher",null,null,null,null,null,{"$f":"IF('Choix de l''instrument '!$C$3=\"Diamètre_inter\",AND('Choix de l''instrument '!$D$3>=Diamètre_inter!G240,G240<>\"\"),\"\")","v":""}]
[null,null,"CAL-0250","Tampon lisse","TLE 7,050",null,null,"Afficher",null,null,null,null,null,{"$f":"IF('Choix de l''instrument '!$C$3=\"Diamètre_inter\",AND('Choix de l''instrument '!$D$3>=Diamètre_inter!G241,G241<>\"\"),\"\")","v":""}]
[null,null,"CAL-0249","Tampon lisse","TLE 7,050",null,null,"Afficher",null,null,null,null,null,{"$f":"IF('Choix de l''instrument '!$C$3=\"Diamètre_inter\",AND('Choix de l''instrument '!$D$3>=Diamètre_inter!G242,G242<>\"\"),\"\")","v":""}]
[null,null,"CAL-0245","Tampon lisse","TLE 7,025",null,null,"Afficher",null,null,null,null,null,{"$f":"IF('Choix de l''instrument '!$C$3=\"Diamètre_inter\",AND('Choix de l''instrument '!$D$3>=Diamètre_inter!G243,G243<>\"\"),\"\")","v":""}]
[null,null,"CAL-0241","Tampon lisse","TLE 7,015",null,null,"Afficher",null,null,null,null,null,{"$f":"IF('Choix de l''instrument '!$C$3=\"Diamètre_inter\",AND('Choix de l''instrument '!$D$3>=Diamètre_inter!G244,G244<>\"\"),\"\")","v":""}]
[null,null,"CAL-0240","Tampon lisse","TLE 7,015",null,null,"Afficher",null,null,null,null,null,{"$f":"IF('Choix de l''instrument '!$C$3=\"Diamètre_inter\",AND('Choix de l''instrument '!$D$3>=Diamètre_inter!G245,G245<>\"\"),\"\")","v":""}]
[null,null,"CAL-0239","Tampon lisse","TLE 3,395",null,null,"Afficher",null,null,null,null,null,{"$f":"IF('Choix de l''instrument '!$C$3=\"Diamètre_inter\",AND('Choix de l''instrument '!$D$3>=Diamètre_inter!G246,G246<>\"\"),\"\")","v":""}]
[null,null,"CAL-0244","Tampon lisse","TLE 7,025",null,null,"Afficher",null,null,null,null,null,{"$f":"IF('Choix de l''instrument '!$C$3=\"Diamètre_inter\",AND('Choix de l''instrument '!$D$3>=Diamètre_inter!G247,G247<>\"\"),\"\")","v":""}]
[null,null,"CAL-0243","Tampon lisse","TLE 7,025",null,null,"Afficher",null,null,null,null,null,{"$f":"IF('Choix de l''instrument '!$C$3=\"Diamètre_inter\",AND('Choix de l''instrument '!$D$3>=Diamètre_inter!G248,G248<>\"\"),\"\")","v":""}]
[null,null,"CAL-0242","Tampon lisse","TLE 7,015",null,null,"Afficher",null,null,null,null,null,{"$f":"IF('Choix de l''instrument '!$C$3=\"Diamètre_inter\",AND('Choix de l''instrument '!$D$3>=Diamètre_inter!G249,G249<>\"\"),\"\")","v":""}]
[null,null,"CAL-0279","Tampon lisse","TLE 8,075",null,null,"Afficher",null,null,null,null,null,{"$f":"IF('Choix de l''instrument '!$C$3=\"Diamètre_inter\",AND('Choix de l''instrument '!$D$3>=Diamètre_inter!G250,G250<>\"\"),\"\")","v":""}]
[null,null,"CAL-0316","Tampon lisse","TLD 1,320 / 1,325",null,null,"Afficher",null,null,null,null,null,{"$f":"IF('Choix de l''instrument '!$C$3=\"Diamètre_inter\",AND('Choix de l''instrument '!$D$3>=Diamètre_inter!G251,G251<>\"\"),\"\")","v":""}]
[null,null,"CAL-0315","Tampon lisse","TLD 1,320 / 1,325",null,null,"Afficher",null,null,null,null,null,{"$f":"IF('Choix de l''instrument '!$C$3=\"Diamètre_inter\",AND('Choix de l''instrument '!$D$3>=Diamètre_inter!G252,G252<>\"\"),\"\")","v":""}]
[null,null,"CAL-0314","Tampon lisse","TLD 1,320 / 1,325",null,null,"Afficher",null,null,null,null,null,{"$f":"IF('Choix de l''instrument '!$C$3=\"Diamètre_inter\",AND('Choix de l''instrument '!$D$3>=Diamètre_inter!G253,G253<>\"\"),\"\")","v":""}]
[null,null,"CAL-0319","Tampon lisse","TLE 0,597",null,null,"Afficher",null,null,null,null,null,{"$f":"IF('Choix de l''instrument '!$C$3=\"Diamètre_inter\",AND('Choix de l''instrument '!$D$3>=Diamètre_inter!G254,G254<>\"\"),\"\")","v":""}]
[null,null,"CAL-0318","Tampon lisse","TLE 0,597",null,null,"Afficher",null,null,null,null,null,{"$f":"IF('Choix de l''instrument '!$C$3=\"Diamètre_inter\",AND('Choix de l''instrument '!$D$3>=Diamètre_inter!G255,G255<>\"\"),\"\")","v":""}]
[null,null,"CAL-0317","Tampon lisse","TLD 1,664 / 1,669",null,null,"Afficher",null,null,null,null,null,{"$f":"IF('Choix de l''instrument '!$C$3=\"Diamètre_inter\",AND('Choix de l''instrument '!$D$3>=Diamètre_inter!G256,G256<>\"\"),\"\")","v":""}]
[null,null,"CAL-0313","Tampon lisse","TLE 1,397",null,null,"Afficher",null,null,null,null,null,{"$f":"IF('Choix de l''instrument '!$C$3=\"Diamètre_inter\",AND('Choix de l''instrument '!$D$3>=Diamètre_inter!G257,G257<>\"\"),\"\")","v":""}]
[null,null,"CAL-0309","Tampon lisse","TLE 1,340",null,null,"Afficher",null,null,null,null,null,{"$f":"IF('Choix de l''instrument '!$C$3=\"Diamètre_inter\",AND('Choix de l''instrument '!$D$3>=Diamètre_inter!G258,G258<>\"\"),\"\")","v":""}]
[null,null,"CAL-0308","Tampon lisse","TLE 1,340",null,null,"Afficher",null,null,null,null,null,{"$f":"IF('Choix de l''instrument '!$C$3=\"Diamètre_inter\",AND('Choix de l''instrument '!$D$3>=Diamètre_inter!G259,G259<>\"\"),\"\")","v":""}]
[null,null,"CAL-0307","Tampon lisse","TLD 0,585 / 0,590",null,null,"Afficher",null,null,null,null,null,{"$f":"IF('Choix de l''instrument '!$C$3=\"Diamètre_inter\",AND('Choix de l''instrument '!$D$3>=Diamètre_inter!G260,G260<>\"\"),\"\")","v":""}]
[null,null,"CAL-0312","Tampon lisse","TLE 1,397",null,null,"Afficher",null,null,null,null,null,{"$f":"IF('Choix de l''instrument '!$C$3=\"Diamètre_inter\",AND('Choix de l''instrument '!$D$3>=Diamètre_inter!G261,G261<>\"\"),\"\")","v":""}]
[null,null,"CAL-0311","Tampon lisse","TLE 0,520",null,null,"Afficher",null,null,null,null,null,{"$f":"IF('Choix de l''instrument '!$C$3=\"Diamètre_inter\",AND('Choix de l''instrument '!$D$3>=Diamètre_inter!G262,G262<>\"\"),\"\")","v":""}]
[null,null,"CAL-0310","Tampon lisse","TLE 0,520",null,null,"Afficher",null,null,null,null,null,{"$f":"IF('Choix de l''instrument '!$C$3=\"Diamètre_inter\",AND('Choix de l''instrument '!$D$3>=Diamètre_inter!G263,G263<>\"\"),\"\")","v":""}]
[null,null,"CAL-0320","Tampon lisse","TLE 1,676",null,null,"Afficher",null,null,null,null,null,{"$f":"IF('Choix de l''instrument '!$C$3=\"Diamètre_inter\",AND('Choix de l''instrument '!$D$3>=Diamètre_inter!G264,G264<>\"\"),\"\")","v":""}]
[null,null,"CAL-0330","Tampon lisse","TLE 2,413",null,null,"Afficher",null,null,null,null,null,{"$f":"IF('Choix de l''instrument '!$C$3=\"Diamètre_inter\",AND('Choix de l''instrument '!$D$3>=Diamètre_inter!G265,G265<>\"\"),\"\")","v":""}]
[null,null,"CAL-0329","Tampon lisse","TLD 1,355 / 1,360",null,null,"Afficher",null,null,null,null,null,{"$f":"IF('Choix de l''instrument '!$C$3=\"Diamètre_inter\",AND('Choix de l''instrument '!$D$3>=Diamètre_inter!G266,G266<>\"\"),\"\")","v":""}]
[null,null,"CAL-0328","Tampon lisse","TLD 1,355 / 1,360",null,null,"Afficher",null,null,null,null,null,{"$f":"IF('Choix de l''instrument '!$C$3=\"Diamètre_inter\",AND('Choix de l''instrument '!$D$3>=Diamètre_inter!G267,G267<>\"\"),\"\")","v":""}]
[null,null,"CAL-0333","Tampon lisse","TLE 2,921",null,null,"Afficher",null,null,null,null,null,{"$f":"IF('Choix de l''instrument '!$C$3=\"Diamètre_inter\",AND('Choix de l''instrument '!$D$3>=Diamètre_inter!G268,G268<>\"\"),\"\")","v":""}]
[null,null,"CAL-0332","Tampon lisse","TLE 2,921",null,null,"Afficher",null,null,null,null,null,{"$f":"IF('Choix de l''instrument '!$C$3=\"Diamètre_inter\",AND('Choix de l''instrument '!$D$3>=Diamètre_inter!G269,G269<>\"\"),\"\")","v":""}]
[null,null,"CAL-0331","Tampon lisse","TLE 2,413",null,null,"Afficher",null,null,null,null,null,{"$f":"IF('Choix de l''instrument '!$C$3=\"Diamètre_inter\",AND('Choix de l''instrument '!$D$3>=Diamètre_inter!G270,G270<>\"\"),\"\")","v":""}]
[null,null,"CAL-0327","Tampon lisse","TLD 1,528 / 1,533",null,null,"Afficher",null,null,null,null,null,{"$f":"IF('Choix de l''instrument '!$C$3=\"Diamètre_inter\",AND('Choix de l''instrument '!$D$3>=Diamètre_inter!G271,G271<>\"\"),\"\")","v":""}]
[null,null,"CAL-0323","Tampon lisse","TLD 1,407 / 1,412",null,null,"Afficher",null,null,null,null,null,{"$f":"IF('Choix de l''instrument '!$C$3=\"Diamètre_inter\",AND('Choix de l''instrument '!$D$3>=Diamètre_inter!G272,G272<>\"\"),\"\")","v":""}]
[null,null,"CAL-0322","Tampon lisse","TLD 1,407 / 1,412",null,null,"Afficher",null,null,null,null,null,{"$f":"IF('Choix de l''instrument '!$C$3=\"Diamètre_inter\",AND('Choix de l''instrument '!$D$3>=Diamètre_inter!G273,G273<>\"\"),\"\")","v":""}]
[null,null,"CAL-0321","Tampon lisse","TLE 1,676",null,null,"Afficher",null,null,null,null,null,{"$f":"IF('Choix de l''instrument '!$C$3=\"Diamètre_inter\",AND('Choix de l''instrument '!$D$3>=Diamètre_inter!G274,G274<>\"\"),\"\")","v":""}]
[null,null,"CAL-0326","Tampon lisse","TLD 0,528 / 0,533",null,null,"Afficher",null,null,null,null,null,{"$f":"IF('Choix de l''instrument '!$C$3=\"Diamètre_inter\",AND('Choix de l''instrument '!$D$3>=Diamètre_inter!G275,G275<>\"\"),\"\")","v":""}]
[null,null,"CAL-0325","Tampon lisse","TLD 1,683 / 1,688",null,null,"Afficher",null,null,null,null,null,{"$f":"IF('Choix de l''instrument '!$C$3=\"Diamètre_inter\",AND('Choix de l''instrument '!$D$3>=Diamètre_inter!G276,G276<>\"\"),\"\")","v":""}]
[null,null,"CAL-0324","Tampon lisse","TLD 1,683 / 1,688",null,null,"Afficher",null,null,null,null,null,{"$f":"IF('Choix de l''instrument '!$C$3=\"Diamètre_inter\",AND('Choix de l''instrument '!$D$3>=Diamètre_inter!G277,G277<>\"\"),\"\")","v":""}]
[null,null,"CAL-0289","Tampon lisse","TLE 8,090",null,null,"Afficher",null,null,null,null,null,{"$f":"IF('Choix de l''instrument '!$C$3=\"Diamètre_inter\",AND('Choix de l''instrument '!$D$3>=Diamètre_inter!G278,G278<>\"\"),\"\")","v":""}]
[null,null,"CAL-0288","Tampon lisse","TLE 8,090",null,null,"Afficher",null,null,null,null,null,{"$f":"IF('Choix de l''instrument '!$C$3=\"Diamètre_inter\",AND('Choix de l''instrument '!$D$3>=Diamètre_inter!G279,G279<>\"\"),\"\")","v":""}]
[null,null,"CAL-0287","Tampon lisse","TLE 7,040",null,null,"Afficher",null,null,null,null,null,{"$f":"IF('Choix de l''instrument '!$C$3=\"Diamètre_inter\",AND('Choix de l''instrument '!$D$3>=Diamètre_inter!G280,G280<>\"\"),\"\")","v":""}]
[null,null,"CAL-0292","Tampon lisse","TLE 7,035",null,null,"Afficher",null,null,null,null,null,{"$f":"IF('Choix de l''instrument '!$C$3=\"Diamètre_inter\",AND('Choix de l''instrument '!$D$3>=Diamètre_inter!G281,G281<>\"\"),\"\")","v":""}]
[null,null,"CAL-0291","Tampon lisse","TLE 7,035",null,null,"Afficher",null,null,null,null,null,{"$f":"IF('Choix de l''instrument '!$C$3=\"Diamètre_inter\",AND('Choix de l''instrument '!$D$3>=Diamètre_inter!G282,G282<>\"\"),\"\")","v":""}]
[null,null,"CAL-0290","Tampon lisse","TLE 8,090",null,null,"Afficher",null,null,null,null,null,{"$f":"IF('Choix de l''instrument '!$C$3=\"Diamètre_inter\",AND('Choix de l''instrument '!$D$3>=Diamètre_inter!G283,G283<>\"\"),\"\")","v":""}]
[null,null,"CAL-0286","Tampon lisse","TLE 7,040",null,null,"Afficher",null,null,null,null,null,{"$f":"IF('Choix de l''instrument '!$C$3=\"Diamètre_inter\",AND('Choix de l''instrument '!$D$3>=Diamètre_inter!G284,G284<>\"\"),\"\")","v":""}]
[null,null,"CAL-0282","Tampon lisse","TLE 8,070",null,null,"Afficher",null,null,null,null,null,{"$f":"IF('Choix de l''instrument '!$C$3=\"Diamètre_inter\",AND('Choix de l''instrument '!$D$3>=Diamètre_inter!G285,G285<>\"\"),\"\")","v":""}]
[null,null,"CAL-0281","Tampon lisse","TLE 8,075",null,null,"Afficher",null,null,null,null,null,{"$f":"IF('Choix de l''instrument '!$C$3=\"Diamètre_inter\",AND('Choix de l''instrument '!$D$3>=Diamètre_inter!G286,G286<>\"\"),\"\")","v":""}]
[null,null,"CAL-0280","Tampon lisse","TLE 8,075",null,null,"Afficher",null,null,null,null,null,{"$f":"IF('Choix de l''instrument '!$C$3=\"Diamètre_inter\",AND('Choix de l''instrument '!$D$3>=Diamètre_inter!G287,G287<>\"\"),\"\")","v":""}]
[null,null,"CAL-0285","Tampon lisse","TLE 7,040",null,null,"Afficher",null,null,null,null,null,{"$f":"IF('Choix de l''instrument '!$C$3=\"Diamètre_inter\",AND('Choix de l''instrument '!$D$3>=Diamètre_inter!G288,G288<>\"\"),\"\")","v":""}]
[null,null,"CAL-0284","Tampon lisse","TLE 8,070",null,null,"Afficher",null,null,null,null,null,{"$f":"IF('Choix de l''instrument '!$C$3=\"Diamètre_inter\",AND('Choix de l''instrument '!$D$3>=Diamètre_inter!G289,G289<>\"\"),\"\")","v":""}]
[null,null,"CAL-0283","Tampon lisse","TLE 8,070",null,null,"Afficher",null,null,null,null,null,{"$f":"IF('Choix de l''instrument '!$C$3=\"Diamètre_inter\",AND('Choix de l''instrument '!$D$3>=Diamètre_inter!G290,G290<>\"\"),\"\")","v":""}]
[null,null,"CAL-0293","Tampon lisse","TLE 7,035",null,null,"Afficher",null,null,null,null,null,{"$f":"IF('Choix de l''instrument '!$C$3=\"Diamètre_inter\",AND('Choix de l''instrument '!$D$3>=Diamètre_inter!G291,G291<>\"\"),\"\")","v":""}]
[null,null,"CAL-0303","Tampon lisse","TLD 0,604 / 0,609",null,null,"Afficher",null,null,null,null,null,{"$f":"IF('Choix de l''instrument '!$C$3=\"Diamètre_inter\",AND('Choix de l''instrument '!$D$3>=Diamètre_inter!G292,G292<>\"\"),\"\")","v":""}]
[null,null,"CAL-0302","Tampon lisse","TLD 0,604 / 0,609",null,null,"Afficher",null,null,null,null,null,{"$f":"IF('Choix de l''instrument '!$C$3=\"Diamètre_inter\",AND('Choix de l''instrument '!$D$3>=Diamètre_inter!G293,G293<>\"\"),\"\")","v":""}]
[null,null,"CAL-0301","Tampon lisse","TLE 0,500",null,null,"Afficher",null,null,null,null,null,{"$f":"IF('Choix de l''instrument '!$C$3=\"Diamètre_inter\",AND('Choix de l''instrument '!$D$3>=Diamètre_inter!G294,G294<>\"\"),\"\")","v":""}]
[null,null,"CAL-0306","Tampon lisse","TLD 0,585 / 0,590",null,null,"Afficher",null,null,null,null,null,{"$f":"IF('Choix de l''instrument '!$C$3=\"Diamètre_inter\",AND('Choix de l''instrument '!$D$3>=Diamètre_inter!G295,G295<>\"\"),\"\")","v":""}]
[null,null,"CAL-0305","Tampon lisse","TLD 1,382 / 1,387",null,null,"Afficher",null,null,null,null,null,{"$f":"IF('Choix de l''instrument '!$C$3=\"Diamètre_inter\",AND('Choix de l''instrument '!$D$3>=Diamètre_inter!G296,G296<>\"\"),\"\")","v":""}]
[null,null,"CAL-0304","Tampon lisse","TLD 1,382 / 1,387",null,null,"Afficher",null,null,null,null,null,{"$f":"IF('Choix de l''instrument '!$C$3=\"Diamètre_inter\",AND('Choix de l''instrument '!$D$3>=Diamètre_inter!G297,G297<>\"\"),\"\")","v":""}]
[null,null,"CAL-0300","Tampon lisse","TLE 0,500",null,null,"Afficher",null,null,null,null,null,{"$f":"IF('Choix de l''instrument '!$C$3=\"Diamètre_inter\",AND('Choix de l''instrument '!$D$3>=Diamètre_inter!G298,G298<>\"\"),\"\")","v":""}]
[null,null,"CAL-0296","Tampon lisse","TLE 7,020",null,null,"Afficher",null,null,null,null,null,{"$f":"IF('Choix de l''instrument '!$C$3=\"Diamètre_inter\",AND('Choix de l''instrument '!$D$3>=Diamètre_inter!G299,G299<>\"\"),\"\")","v":""}]
[null,null,"CAL-0295","Tampon lisse","TLE 7,020",null,null,"Afficher",null,null,null,null,null,{"$f":"IF('Choix de l''instrument '!$C$3=\"Diamètre_inter\",AND('Choix de l''instrument '!$D$3>=Diamètre_inter!G300,G300<>\"\"),\"\")","v":""}]
[null,null,"CAL-0294","Tampon lisse","TLE 7,020",null,null,"Afficher",null,null,null,null,null,{"$f":"IF('Choix de l''instrument '!$C$3=\"Diamètre_inter\",AND('Choix de l''instrument '!$D$3>=Diamètre_inter!G301,G301<>\"\"),\"\")","v":""}]
[null,null,"CAL-0299","Tampon lisse","TLD 0,483 / 0,488",null,null,"Afficher",null,null,null,null,null,{"$f":"IF('Choix de l''instrument '!$C$3=\"Diamètre_inter\",AND('Choix de l''instrument '!$D$3>=Diamètre_inter!G302,G302<>\"\"),\"\")","v":""}]
[null,null,"CAL-0298","Tampon lisse","TLD 0,483 / 0,488",null,null,"Afficher",null,null,null,null,null,{"$f":"IF('Choix de l''instrument '!$C$3=\"Diamètre_inter\",AND('Choix de l''instrument '!$D$3>=Diamètre_inter!G303,G303<>\"\"),\"\")","v":""}]
[null,null,"CAL-0224","Tampon lisse","TLE 3,370",null,null,"Afficher",null,null,null,null,null,{"$f":"IF('Choix de l''instrument '!$C$3=\"Diamètre_inter\",AND('Choix de l''instrument '!$D$3>=Diamètre_inter!G304,G304<>\"\"),\"\")","v":""}]
[null,null,"CAL-0160","Tampon lisse","TLNEP 4,06",null,null,"Afficher",null,null,null,null,null,{"$f":"IF('Choix de l''instrument '!$C$3=\"Diamètre_inter\",AND('Choix de l''instrument '!$D$3>=Diamètre_inter!G305,G305<>\"\"),\"\")","v":""}]
[null,null,"CAL-0159","Tampon lisse","TLE 4,02",null,null,"Afficher",null,null,null,null,null,{"$f":"IF('Choix de l''instrument '!$C$3=\"Diamètre_inter\",AND('Choix de l''instrument '!$D$3>=Diamètre_inter!G306,G306<>\"\"),\"\")","v":""}]
[null,null,"CAL-0169","Tampon lisse","TLE 0,168",null,null,"Afficher",null,null,null,null,null,{"$f":"IF('Choix de l''instrument '!$C$3=\"Diamètre_inter\",AND('Choix de l''instrument '!$D$3>=Diamètre_inter!G307,G307<>\"\"),\"\")","v":""}]
[null,null,"CAL-0206","Tampon lisse","TLE 1,680",null,null,"Afficher",null,null,null,null,null,{"$f":"IF('Choix de l''instrument '!$C$3=\"Diamètre_inter\",AND('Choix de l''instrument '!$D$3>=Diamètre_inter!G308,G308<>\"\"),\"\")","v":""}]
[null,null,"CAL-0205","Tampon lisse","TLE 1,680",null,null,"Afficher",null,null,null,null,null,{"$f":"IF('Choix de l''instrument '!$C$3=\"Diamètre_inter\",AND('Choix de l''instrument '!$D$3>=Diamètre_inter!G309,G309<>\"\"),\"\")","v":""}]
[null,null,"CAL-0204","Tampon lisse","TLE 1,680",null,null,"Afficher",null,null,null,null,null,{"$f":"IF('Choix de l''instrument '!$C$3=\"Diamètre_inter\",AND('Choix de l''instrument '!$D$3>=Diamètre_inter!G310,G310<>\"\"),\"\")","v":""}]
[null,null,"CAL-0209","Tampon lisse","TLE 1,685",null,null,"Afficher",null,null,null,null,null,{"$f":"IF('Choix de l''instrument '!$C$3=\"Diamètre_inter\",AND('Choix de l''instrument '!$D$3>=Diamètre_inter!G311,G311<>\"\"),\"\")","v":""}]
[null,null,"CAL-0208","Tampon lisse","TLE 1,685",null,null,"Afficher",null,null,null,null,null,{"$f":"IF('Choix de l''instrument '!$C$3=\"Diamètre_inter\",AND('Choix de l''instrument '!$D$3>=Diamètre_inter!G312,G312<>\"\"),\"\")","v":""}]
[null,null,"CAL-0207","Tampon lisse","TLE 1,685",null,null,"Afficher",null,null,null,null,null,{"$f":"IF('Choix de l''instrument '!$C$3=\"Diamètre_inter\",AND('Choix de l''instrument '!$D$3>=Diamètre_inter!G313,G313<>\"\"),\"\")","v":""}]
[null,null,"CAL-0203","Tampon lisse","TLE 1,675",null,null,"Afficher",null,null,null,null,null,{"$f":"IF('Choix de l''instrument '!$C$3=\"Diamètre_inter\",AND('Choix de l''instrument '!$D$3>=Diamètre_inter!G314,G314<>\"\"),\"\")","v":""}]
[null,null,"CAL-0199","Tampon lisse","TLE 1,665",null,null,"Afficher",null,null,null,null,null,{"$f":"IF('Choix de l''instrument '!$C$3=\"Diamètre_inter\",AND('Choix de l''instrument '!$D$3>=Diamètre_inter!G315,G315<>\"\"),\"\")","v":""}]
[null,null,"CAL-0198","Tampon lisse","TLE 1,665",null,null,"Afficher",null,null,null,null,null,{"$f":"IF('Choix de l''instrument '!$C$3=\"Diamètre_inter\",AND('Choix de l''instrument '!$D$3>=Diamètre_inter!G316,G316<>\"\"),\"\")","v":""}]
[null,null,"CAL-0197","Tampon lisse","TLE 1,670",null,null,"Afficher",null,null,null,null,null,{"$f":"IF('Choix de l''instrument '!$C$3=\"Diamètre_inter\",AND('Choix de l''instrument '!$D$3>=Diamètre_inter!G317,G317<>\"\"),\"\")","v":""}]
[null,null,"CAL-0202","Tampon lisse","TLE 1,675",null,null,"Afficher",null,null,null,null,null,{"$f":"IF('Choix de l''instrument '!$C$3=\"Diamètre_inter\",AND('Choix de l''instrument '!$D$3>=Diamètre_inter!G318,G318<>\"\"),\"\")","v":""}]
[null,null,"CAL-0201","Tampon lisse","TLE 1,675",null,null,"Afficher",null,null,null,null,null,{"$f":"IF('Choix de l''instrument '!$C$3=\"Diamètre_inter\",AND('Choix de l''instrument '!$D$3>=Diamètre_inter!G319,G319<>\"\"),\"\")","v":""}]
[null,null,"CAL-0200","Tampon lisse","TLE 1,665",null,null,"Afficher",null,null,null,null,null,{"$f":"IF('Choix de l''instrument '!$C$3=\"Diamètre_inter\",AND('Choix de l''instrument '!$D$3>=Diamètre_inter!G320,G320<>\"\"),\"\")","v":""}]
[null,null,"CAL-0210","Tampon lisse","TLE 1,690",null,null,"Afficher",null,null,null,null,null,{"$f":"IF('Choix de l''instrument '!$C$3=\"Diamètre_inter\",AND('Choix de l''instrument '!$D$3>=Diamètre_inter!G321,G321<>\"\"),\"\")","v":""}]
[null,null,"CAL-0220","Tampon lisse","TLE 3,365",null,null,"Afficher",null,null,null,null,null,{"$f":"IF('Choix de l''instrument '!$C$3=\"Diamètre_inter\",AND('Choix de l''instrument '!$D$3>=Diamètre_inter!G322,G322<>\"\"),\"\")","v":""}]
[null,null,"CAL-0219","Tampon lisse","TLE 3,365",null,null,"Afficher",null,null,null,null,null,{"$f":"IF('Choix de l''instrument '!$C$3=\"Diamètre_inter\",AND('Choix de l''instrument '!$D$3>=Diamètre_inter!G323,G323<>\"\"),\"\")","v":""}]
[null,null,"CAL-0218","Tampon lisse","TLE 3,360",null,null,"Afficher",null,null,null,null,null,{"$f":"IF('Choix de l''instrument '!$C$3=\"Diamètre_inter\",AND('Choix de l''instrument '!$D$3>=Diamètre_inter!G324,G324<>\"\"),\"\")","v":""}]
[null,null,"CAL-0223","Tampon lisse","TLE 3,370",null,null,"Afficher",null,null,null,null,null,{"$f":"IF('Choix de l''instrument '!$C$3=\"Diamètre_inter\",AND('Choix de l''instrument '!$D$3>=Diamètre_inter!G325,G325<>\"\"),\"\")","v":""}]
[null,null,"CAL-0222","Tampon lisse","TLE 3,370",null,null,"Afficher",null,null,null,null,null,{"$f":"IF('Choix de l''instrument '!$C$3=\"Diamètre_inter\",AND('Choix de l''instrument '!$D$3>=Diamètre_inter!G326,G326<>\"\"),\"\")","v":""}]
[null,null,"CAL-0221","Tampon lisse","TLE 3,365",null,null,"Afficher",null,null,null,null,null,{"$f":"IF('Choix de l''instrument '!$C$3=\"Diamètre_inter\",AND('Choix de l''instrument '!$D$3>=Diamètre_inter!G327,G327<>\"\"),\"\")","v":""}]
[null,null,"CAL-0217","Tampon lisse","TLE 3,360",null,null,"Afficher",null,null,null,null,null,{"$f":"IF('Choix de l''instrument '!$C$3=\"Diamètre_inter\",AND('Choix de l''instrument '!$D$3>=Diamètre_inter!G328,G328<>\"\"),\"\")","v":""}]
[null,null,"CAL-0213","Tampon lisse","TLE 1,690",null,null,"Afficher",null,null,null,null,null,{"$f":"IF('Choix de l''instrument '!$C$3=\"Diamètre_inter\",AND('Choix de l''instrument '!$D$3>=Diamètre_inter!G329,G329<>\"\"),\"\")","v":""}]
[null,null,"CAL-0212","Tampon lisse","TLE 1,690",null,null,"Afficher",null,null,null,null,null,{"$f":"IF('Choix de l''instrument '!$C$3=\"Diamètre_inter\",AND('Choix de l''instrument '!$D$3>=Diamètre_inter!G330,G330<>\"\"),\"\")","v":""}]
[null,null,"CAL-0211","Tampon lisse","TLE 1,690",null,null,"Afficher",null,null,null,null,null,{"$f":"IF('Choix de l''instrument '!$C$3=\"Diamètre_inter\",AND('Choix de l''instrument '!$D$3>=Diamètre_inter!G331,G331<>\"\"),\"\")","v":""}]
[null,null,"CAL-0216","Tampon lisse","TLE 3,360",null,null,"Afficher",null,null,null,null,null,{"$f":"IF('Choix de l''instrument '!$C$3=\"Diamètre_inter\",AND('Choix de l''instrument '!$D$3>=Diamètre_inter!G332,G332<>\"\"),\"\")","v":""}]
[null,null,"CAL-0215","Tampon lisse","TLE 1,690",null,null,"Afficher",null,null,null,null,null,{"$f":"IF('Choix de l''instrument '!$C$3=\"Diamètre_inter\",AND('Choix de l''instrument '!$D$3>=Diamètre_inter!G333,G333<>\"\"),\"\")","v":""}]
[null,null,"CAL-0214","Tampon lisse","TLE 1,690",null,null,"Afficher",null,null,null,null,null,{"$f":"IF('Choix de l''instrument '!$C$3=\"Diamètre_inter\",AND('Choix de l''instrument '!$D$3>=Diamètre_inter!G334,G334<>\"\"),\"\")","v":""}]
[null,null,"CAL-0179","Tampon lisse","TLE 0,178",null,null,"Afficher",null,null,null,null,null,{"$f":"IF('Choix de l''instrument '!$C$3=\"Diamètre_inter\",AND('Choix de l''instrument '!$D$3>=Diamètre_inter!G335,G335<>\"\"),\"\")","v":""}]
[null,null,"CAL-0178","Tampon lisse","TLE 0,178",null,null,"Afficher",null,null,null,null,null,{"$f":"IF('Choix de l''instrument '!$C$3=\"Diamètre_inter\",AND('Choix de l''instrument '!$D$3>=Diamètre_inter!G336,G336<>\"\"),\"\")","v":""}]
[null,null,"CAL-0177","Tampon lisse","TLE 0,175",null,null,"Afficher",null,null,null,null,null,{"$f":"IF('Choix de l''instrument '!$C$3=\"Diamètre_inter\",AND('Choix de l''instrument '!$D$3>=Diamètre_inter!G337,G337<>\"\"),\"\")","v":""}]
[null,null,"CAL-0182","Tampon lisse","TLE 0,182",null,null,"Afficher",null,null,null,null,null,{"$f":"IF('Choix de l''instrument '!$C$3=\"Diamètre_inter\",AND('Choix de l''instrument '!$D$3>=Diamètre_inter!G338,G338<>\"\"),\"\")","v":""}]
[null,null,"CAL-0181","Tampon lisse","TLE 0,182",null,null,"Afficher",null,null,null,null,null,{"$f":"IF('Choix de l''instrument '!$C$3=\"Diamètre_inter\",AND('Choix de l''instrument '!$D$3>=Diamètre_inter!G339,G339<>\"\"),\"\")","v":""}]
[null,null,"CAL-0180","Tampon lisse","TLE 0,178",null,null,"Afficher",null,null,null,null,null,{"$f":"IF('Choix de l''instrument '!$C$3=\"Diamètre_inter\",AND('Choix de l''instrument '!$D$3>=Diamètre_inter!G340,G340<>\"\"),\"\")","v":""}]
[null,null,"CAL-0176","Tampon lisse","TLE 0,175",null,null,"Afficher",null,null,null,null,null,{"$f":"IF('Choix de l''instrument '!$C$3=\"Diamètre_inter\",AND('Choix de l''instrument '!$D$3>=Diamètre_inter!G341,G341<>\"\"),\"\")","v":""}]
[null,null,"CAL-0172","Tampon lisse","TLE 0,172",null,null,"Afficher",null,null,null,null,null,{"$f":"IF('Choix de l''instrument '!$C$3=\"Diamètre_inter\",AND('Choix de l''instrument '!$D$3>=Diamètre_inter!G342,G342<>\"\"),\"\")","v":""}]
[null,null,"CAL-0171","Tampon lisse","TLE 0,168",null,null,"Afficher",null,null,null,null,null,{"$f":"IF('Choix de l''instrument '!$C$3=\"Diamètre_inter\",AND('Choix de l''instrument '!$D$3>=Diamètre_inter!G343,G343<>\"\"),\"\")","v":""}]
[null,null,"CAL-0170","Tampon lisse","TLE 0,168",null,null,"Afficher",null,null,null,null,null,{"$f":"IF('Choix de l''instrument '!$C$3=\"Diamètre_inter\",AND('Choix de l''instrument '!$D$3>=Diamètre_inter!G344,G344<>\"\"),\"\")","v":""}]
[null,null,"CAL-0175","Tampon lisse","TLE 0,175",null,null,"Afficher",null,null,null,null,null,{"$f":"IF('Choix de l''instrument '!$C$3=\"Diamètre_inter\",AND('Choix de l''instrument '!$D$3>=Diamètre_inter!G345,G345<>\"\"),\"\")","v":""}]
[null,null,"CAL-0174","Tampon lisse","TLE 0,172",null,null,"Afficher",null,null,null,null,null,{"$f":"IF('Choix de l''instrument '!$C$3=\"Diamètre_inter\",AND('Choix de l''instrument '!$D$3>=Diamètre_inter!G346,G346<>\"\"),\"\")","v":""}]
[null,null,"CAL-0173","Tampon lisse","TLE 0,172",null,null,"Afficher",null,null,null,null,null,{"$f":"IF('Choix de l''instrument '!$C$3=\"Diamètre_inter\",AND('Choix de l''instrument '!$D$3>=Diamètre_inter!G347,G347<>\"\"),\"\")","v":""}]
[null,null,"CAL-0183","Tampon lisse","TLE 0,182",null,null,"Afficher",null,null,null,null,null,{"$f":"IF('Choix de l''instrument '!$C$3=\"Diamètre_inter\",AND('Choix de l''instrument '!$D$3>=Diamètre_inter!G348,G348<>\"\"),\"\")","v":""}]
[null,null,"CAL-0193","Tampon lisse","TLE 1,660",null,null,"Afficher",null,null,null,null,null,{"$f":"IF('Choix de l''instrument '!$C$3=\"Diamètre_inter\",AND('Choix de l''instrument '!$D$3>=Diamètre_inter!G349,G349<>\"\"),\"\")","v":""}]
[null,null,"CAL-0192","Tampon lisse","TLE 1,660",null,null,"Afficher",null,null,null,null,null,{"$f":"IF('Choix de l''instrument '!$C$3=\"Diamètre_inter\",AND('Choix de l''instrument '!$D$3>=Diamètre_inter!G350,G350<>\"\"),\"\")","v":""}]
[null,null,"CAL-0196","Tampon lisse","TLE 1,670",null,null,"Afficher",null,null,null,null,null,{"$f":"IF('Choix de l''instrument '!$C$3=\"Diamètre_inter\",AND('Choix de l''instrument '!$D$3>=Diamètre_inter!G351,G351<>\"\"),\"\")","v":""}]
[null,null,"CAL-0195","Tampon lisse","TLE 1,670",null,null,"Afficher",null,null,null,null,null,{"$f":"IF('Choix de l''instrument '!$C$3=\"Diamètre_inter\",AND('Choix de l''instrument '!$D$3>=Diamètre_inter!G352,G352<>\"\"),\"\")","v":""}]
[null,null,"CAL-0194","Tampon lisse","TLE 1,660",null,null,"Afficher",null,null,null,null,null,{"$f":"IF('Choix de l''instrument '!$C$3=\"Diamètre_inter\",AND('Choix de l''instrument '!$D$3>=Diamètre_inter!G353,G353<>\"\"),\"\")","v":""}]
[null,null,"CAL-0186","Tampon lisse","TLE 0,185",null,null,"Afficher",null,null,null,null,null,{"$f":"IF('Choix de l''instrument '!$C$3=\"Diamètre_inter\",AND('Choix de l''instrument '!$D$3>=Diamètre_inter!G354,G354<>\"\"),\"\")","v":""}]
[null,null,"CAL-0185","Tampon lisse","TLE 0,185",null,null,"Afficher",null,null,null,null,null,{"$f":"IF('Choix de l''instrument '!$C$3=\"Diamètre_inter\",AND('Choix de l''instrument '!$D$3>=Diamètre_inter!G355,G355<>\"\"),\"\")","v":""}]
[null,null,"CAL-0184","Tampon lisse","TLE 0,185",null,null,"Afficher",null,null,null,null,null,{"$f":"IF('Choix de l''instrument '!$C$3=\"Diamètre_inter\",AND('Choix de l''instrument '!$D$3>=Diamètre_inter!G356,G356<>\"\"),\"\")","v":""}]
[null,null,"CF.462","Tampon lisse","TLE 1,99",null,null,"Afficher",null,null,null,null,null,{"$f":"IF('Choix de l''instrument '!$C$3=\"Diamètre_inter\",AND('Choix de l''instrument '!$D$3>=Diamètre_inter!G357,G357<>\"\"),\"\")","v":""}]
[null,null,"CF.463","Tampon lisse",null,null,null,"Afficher",null,null,null,null,null,{"$f":"IF('Choix de l''instrument '!$C$3=\"Diamètre_inter\",AND('Choix de l''instrument '!$D$3>=Diamètre_inter!G358,G358<>\"\"),\"\")","v":""}]
[null,null,"CF.310","Tampon lisse","TLD 3,099 -0,025 / 0,025",null,null,"Afficher",null,null,null,null,null,{"$f":"IF('Choix de l''instrument '!$C$3=\"Diamètre_inter\",AND('Choix de l''instrument '!$D$3>=Diamètre_inter!G359,G359<>\"\"),\"\")","v":""}]
[null,null,"CF.297","Tampon lisse","TLD 3,099 -0,051 / 0,051",null,null,"Afficher",null,null,null,null,null,{"$f":"IF('Choix de l''instrument '!$C$3=\"Diamètre_inter\",AND('Choix de l''instrument '!$D$3>=Diamètre_inter!G360,G360<>\"\"),\"\")","v":""}]
[null,null,"CF.292","Tampon lisse","TLD 4,115 -0,051 / 0,051",null,null,"Afficher",null,null,null,null,null,{"$f":"IF('Choix de l''instrument '!$C$3=\"Diamètre_inter\",AND('Choix de l''instrument '!$D$3>=Diamètre_inter!G361,G361<>\"\"),\"\")","v":""}]
[null,null,"CF.313","Tampon lisse","TLD 3,15 -0,025 / 0,025",null,null,"Afficher",null,null,null,null,null,{"$f":"IF('Choix de l''instrument '!$C$3=\"Diamètre_inter\",AND('Choix de l''instrument '!$D$3>=Diamètre_inter!G362,G362<>\"\"),\"\")","v":""}]
[null,null,"CF.312","Tampon lisse","TLD 4,115 -0,051 / 0,051",null,null,"Afficher",null,null,null,null,null,{"$f":"IF('Choix de l''instrument '!$C$3=\"Diamètre_inter\",AND('Choix de l''instrument '!$D$3>=Diamètre_inter!G363,G363<>\"\"),\"\")","v":""}]
[null,null,"DIM-0002","Tampon lisse","TLE 1,295 mini",null,null,"Afficher",null,null,null,null,null,{"$f":"IF('Choix de l''instrument '!$C$3=\"Diamètre_inter\",AND('Choix de l''instrument '!$D$3>=Diamètre_inter!G364,G364<>\"\"),\"\")","v":""}]
[null,null,"CAL-0474","Tampon lisse double","2,03 / 2,06",null,null,"Afficher",null,null,null,null,null,{"$f":"IF('Choix de l''instrument '!$C$3=\"Diamètre_inter\",AND('Choix de l''instrument '!$D$3>=Diamètre_inter!G365,G365<>\"\"),\"\")","v":""}]
[null,null,"CAL-0489","Tampon lisse double","2,03 / 2,06",null,null,"Afficher",null,null,null,null,null,{"$f":"IF('Choix de l''instrument '!$C$3=\"Diamètre_inter\",AND('Choix de l''instrument '!$D$3>=Diamètre_inter!G366,G366<>\"\"),\"\")","v":""}]
[null,null,"CAL-0490","Tampon lisse double","2,03 / 2,06",null,null,"Afficher",null,null,null,null,null,{"$f":"IF('Choix de l''instrument '!$C$3=\"Diamètre_inter\",AND('Choix de l''instrument '!$D$3>=Diamètre_inter!G367,G367<>\"\"),\"\")","v":""}]
[null,null,"CAL-0470","Tampon lisse double","2,03 / 2,06",null,null,"Afficher",null,null,null,null,null,{"$f":"IF('Choix de l''instrument '!$C$3=\"Diamètre_inter\",AND('Choix de l''instrument '!$D$3>=Diamètre_inter!G368,G368<>\"\"),\"\")","v":""}]
[null,null,"CAL-0464","Tampon lisse double","2,03 / 2,06",null,null,"Afficher",null,null,null,null,null,{"$f":"IF('Choix de l''instrument '!$C$3=\"Diamètre_inter\",AND('Choix de l''instrument '!$D$3>=Diamètre_inter!G369,G369<>\"\"),\"\")","v":""}]
[null,null,"CAL-0384","Tampon lisse double","TLE 4,084/4,089",null,null,"Afficher",null,null,null,null,null,{"$f":"IF('Choix de l''instrument '!$C$3=\"Diamètre_inter\",AND('Choix de l''instrument '!$D$3>=Diamètre_inter!G370,G370<>\"\"),\"\")","v":""}]
[null,null,"CAL-0387","Tampon lisse double","5,633/5,638",null,null,"Afficher",null,null,null,null,null,{"$f":"IF('Choix de l''instrument '!$C$3=\"Diamètre_inter\",AND('Choix de l''instrument '!$D$3>=Diamètre_inter!G371,G371<>\"\"),\"\")","v":""}]
[null,null,"CAL-0386","Tampon lisse double","5,633/5,638",null,null,"Afficher",null,null,null,null,null,{"$f":"IF('Choix de l''instrument '!$C$3=\"Diamètre_inter\",AND('Choix de l''instrument '!$D$3>=Diamètre_inter!G372,G372<>\"\"),\"\")","v":""}]
[null,null,"CAL-0385","Tampon lisse double","TLE 4,084/4,089",null,null,"Afficher",null,null,null,null,null,{"$f":"IF('Choix de l''instrument '!$C$3=\"Diamètre_inter\",AND('Choix de l''instrument '!$D$3>=Diamètre_inter!G373,G373<>\"\"),\"\")","v":""}]
[null,null,"CAL-0388","Tampon lisse double","5,735/5,740",null,null,"Afficher",null,null,null,null,null,{"$f":"IF('Choix de l''instrument '!$C$3=\"Diamètre_inter\",AND('Choix de l''instrument '!$D$3>=Diamètre_inter!G374,G374<>\"\"),\"\")","v":""}]
[null,null,"CAL-0428","Tampon lisse double","7,011 / 7,016",null,null,"Afficher",null,null,null,null,null,{"$f":"IF('Choix de l''instrument '!$C$3=\"Diamètre_inter\",AND('Choix de l''instrument '!$D$3>=Diamètre_inter!G375,G375<>\"\"),\"\")","v":""}]
[null,null,"CAL-0427","Tampon lisse double","6,452 / 6,457",null,null,"Afficher",null,null,null,null,null,{"$f":"IF('Choix de l''instrument '!$C$3=\"Diamètre_inter\",AND('Choix de l''instrument '!$D$3>=Diamètre_inter!G376,G376<>\"\"),\"\")","v":""}]
[null,null,"CAL-0426","Tampon lisse double","6,452 / 6,457",null,null,"Afficher",null,null,null,null,null,{"$f":"IF('Choix de l''instrument '!$C$3=\"Diamètre_inter\",AND('Choix de l''instrument '!$D$3>=Diamètre_inter!G377,G377<>\"\"),\"\")","v":""}]
[null,null,"CAL-0429","Tampon lisse double","7,011 / 7,016",null,null,"Afficher",null,null,null,null,null,{"$f":"IF('Choix de l''instrument '!$C$3=\"Diamètre_inter\",AND('Choix de l''instrument '!$D$3>=Diamètre_inter!G378,G378<>\"\"),\"\")","v":""}]
[null,null,"CAL-0437","Tampon lisse double","7,056 / 7,061",null,null,"Afficher",null,null,null,null,null,{"$f":"IF('Choix de l''instrument '!$C$3=\"Diamètre_inter\",AND('Choix de l''instrument '!$D$3>=Diamètre_inter!G379,G379<>\"\"),\"\")","v":""}]
[null,null,"CAL-0436","Tampon lisse double","7,056 / 7,061",null,null,"Afficher",null,null,null,null,null,{"$f":"IF('Choix de l''instrument '!$C$3=\"Diamètre_inter\",AND('Choix de l''instrument '!$D$3>=Diamètre_inter!G380,G380<>\"\"),\"\")","v":""}]
[null,null,"CAL-0432","Tampon lisse double","6,547 / 6,552",null,null,"Afficher",null,null,null,null,null,{"$f":"IF('Choix de l''instrument '!$C$3=\"Diamètre_inter\",AND('Choix de l''instrument '!$D$3>=Diamètre_inter!G381,G381<>\"\"),\"\")","v":""}]
[null,null,"CAL-0431","Tampon lisse double","8,065 / 8,070",null,null,"Afficher",null,null,null,null,null,{"$f":"IF('Choix de l''instrument '!$C$3=\"Diamètre_inter\",AND('Choix de l''instrument '!$D$3>=Diamètre_inter!G382,G382<>\"\"),\"\")","v":""}]
[null,null,"CAL-0430","Tampon lisse double","8,065 / 8,070",null,null,"Afficher",null,null,null,null,null,{"$f":"IF('Choix de l''instrument '!$C$3=\"Diamètre_inter\",AND('Choix de l''instrument '!$D$3>=Diamètre_inter!G383,G383<>\"\"),\"\")","v":""}]
[null,null,"CAL-0435","Tampon lisse double","8,084 / 8,089",null,null,"Afficher",null,null,null,null,null,{"$f":"IF('Choix de l''instrument '!$C$3=\"Diamètre_inter\",AND('Choix de l''instrument '!$D$3>=Diamètre_inter!G384,G384<>\"\"),\"\")","v":""}]
[null,null,"CAL-0434","Tampon lisse double","8,084 / 8,089",null,null,"Afficher",null,null,null,null,null,{"$f":"IF('Choix de l''instrument '!$C$3=\"Diamètre_inter\",AND('Choix de l''instrument '!$D$3>=Diamètre_inter!G385,G385<>\"\"),\"\")","v":""}]
[null,null,"CAL-0433","Tampon lisse double","6,547 / 6,552",null,null,"Afficher",null,null,null,null,null,{"$f":"IF('Choix de l''instrument '!$C$3=\"Diamètre_inter\",AND('Choix de l''instrument '!$D$3>=Diamètre_inter!G386,G386<>\"\"),\"\")","v":""}]
[null,null,"CAL-0389","Tampon lisse double","5,735/5,740",null,null,"Afficher",null,null,null,null,null,{"$f":"IF('Choix de l''instrument '!$C$3=\"Diamètre_inter\",AND('Choix de l''instrument '!$D$3>=Diamètre_inter!G387,G387<>\"\"),\"\")","v":""}]
[null,null,"M.249","Pied à coulisse","0 / 150 mm",null,null,"Afficher",null,null,null,null,null,{"$f":"IF('Choix de l''instrument '!$C$3=\"Diamètre_inter\",AND('Choix de l''instrument '!$D$3>=Diamètre_inter!G388,G388<>\"\"),\"\")","v":""}]
[null,null,"M.296","Pied à coulisse","0 / 150 mm",null,null,"Afficher",null,null,null,null,null,{"$f":"IF('Choix de l''instrument '!$C$3=\"Diamètre_inter\",AND('Choix de l''instrument '!$D$3>=Diamètre_inter!G389,G389<>\"\"),\"\")","v":""}]
[null,null,"M.250","Pied à coulisse","0 / 150 mm",null,null,"Afficher",null,null,null,null,null,{"$f":"IF('Choix de l''instrument '!$C$3=\"Diamètre_inter\",AND('Choix de l''instrument '!$D$3>=Diamètre_inter!G390,G390<>\"\"),\"\")","v":""}]
[null,null,"M.279","Pied à coulisse","0 / 150 mm",null,null,"Afficher",null,null,null,null,null,{"$f":"IF('Choix de l''instrument '!$C$3=\"Diamètre_inter\",AND('Choix de l''instrument '!$D$3>=Diamètre_inter!G391,G391<>\"\"),\"\")","v":""}]
[null,null,"M.269","Pied à coulisse","0 / 150 mm",null,null,"Afficher",null,null,null,null,null,{"$f":"IF('Choix de l''instrument '!$C$3=\"Diamètre_inter\",AND('Choix de l''instrument '!$D$3>=Diamètre_inter!G392,G392<>\"\"),\"\")","v":""}]
[null,null,"M.077","Pied à coulisse","0 / 150 mm",null,null,"Afficher",null,null,null,null,null,{"$f":"IF('Choix de l''instrument '!$C$3=\"Diamètre_inter\",AND('Choix de l''instrument '!$D$3>=Diamètre_inter!G393,G393<>\"\"),\"\")","v":""}]
[null,null,"M.072","Pied à coulisse","0 / 500 mm",null,null,"Afficher",null,null,null,null,null,{"$f":"IF('Choix de l''instrument '!$C$3=\"Diamètre_inter\",AND('Choix de l''instrument '!$D$3>=Diamètre_inter!G394,G394<>\"\"),\"\")","v":""}]
[null,null,"M.038","Pied à coulisse","0 / 300 mm",null,null,"Afficher",null,null,null,null,null,{"$f":"IF('Choix de l''instrument '!$C$3=\"Diamètre_inter\",AND('Choix de l''instrument '!$D$3>=Diamètre_inter!G395,G395<>\"\"),\"\")","v":""}]
[null,null,"M.037","Pied à coulisse","0 / 150 mm",null,null,"Afficher",null,null,null,null,null,{"$f":"IF('Choix de l''instrument '!$C$3=\"Diamètre_inter\",AND('Choix de l''instrument '!$D$3>=Diamètre_inter!G396,G396<>\"\"),\"\")","v":""}]
[null,null,"M.002","Pied à coulisse","0 / 150 mm",null,null,"Afficher",null,null,null,null,null,{"$f":"IF('Choix de l''instrument '!$C$3=\"Diamètre_inter\",AND('Choix de l''instrument '!$D$3>=Diamètre_inter!G397,G397<>\"\"),\"\")","v":""}]
[null,null,"TR.014","Pied à coulisse","0 / 200 mm",null,null,"Afficher",null,null,null,null,null,{"$f":"IF('Choix de l''instrument '!$C$3=\"Diamètre_inter\",AND('Choix de l''instrument '!$D$3>=Diamètre_inter!G398,G398<>\"\"),\"\")","v":""}]
[null,null,"TR.051","Pied à coulisse","0 / 1000 mm",null,null,"Afficher",null,null,null,null,null,{"$f":"IF('Choix de l''instrument '!$C$3=\"Diamètre_inter\",AND('Choix de l''instrument '!$D$3>=Diamètre_inter!G399,G399<>\"\"),\"\")","v":""}]
[null,null,"TR.049","Pied à coulisse","0 / 200 mm",null,null,"Afficher",null,null,null,null,null,{"$f":"IF('Choix de l''instrument '!$C$3=\"Diamètre_inter\",AND('Choix de l''instrument '!$D$3>=Diamètre_inter!G400,G400<>\"\"),\"\")","v":""}]
[null,null,"TR.052","Pied à coulisse","0 / 200 mm",null,null,"Afficher",null,null,null,null,null,{"$f":"IF('Choix de l''instrument '!$C$3=\"Diamètre_inter\",AND('Choix de l''instrument '!$D$3>=Diamètre_inter!G401,G401<>\"\"),\"\")","v":""}]
[null,null,"TR.035","Pied à coulisse","0 / 200 mm",null,null,"Afficher",null,null,null,null,null,{"$f":"IF('Choix de l''instrument '!$C$3=\"Diamètre_inter\",AND('Choix de l''instrument '!$D$3>=Diamètre_inter!G402,G402<>\"\"),\"\")","v":""}]
[null,null,"THE.014","Pied à coulisse","0 / 150 mm",null,null,"Afficher",null,null,null,null,null,{"$f":"IF('Choix de l''instrument '!$C$3=\"Diamètre_inter\",AND('Choix de l''instrument '!$D$3>=Diamètre_inter!G403,G403<>\"\"),\"\")","v":""}]
[null,null,"THE.001","Pied à coulisse","0 / 150 mm",null,null,"Afficher",null,null,null,null,null,{"$f":"IF('Choix de l''instrument '!$C$3=\"Diamètre_inter\",AND('Choix de l''instrument '!$D$3>=Diamètre_inter!G404,G404<>\"\"),\"\")","v":""}]
[null,null,"THE.122","Pied à coulisse","0 / 150 mm",null,null,"Afficher",null,null,null,null,null,{"$f":"IF('Choix de l''instrument '!$C$3=\"Diamètre_inter\",AND('Choix de l''instrument '!$D$3>=Diamètre_inter!G405,G405<>\"\"),\"\")","v":""}]
[null,null,"THE.142","Pied à coulisse","0 / 200 mm",null,null,"Afficher",null,null,null,null,null,{"$f":"IF('Choix de l''instrument '!$C$3=\"Diamètre_inter\",AND('Choix de l''instrument '!$D$3>=Diamètre_inter!G406,G406<>\"\"),\"\")","v":""}]
[null,null,"THE.141","Pied à coulisse","0 / 200 mm",null,null,"Afficher",null,null,null,null,null,{"$f":"IF('Choix de l''instrument '!$C$3=\"Diamètre_inter\",AND('Choix de l''instrument '!$D$3>=Diamètre_inter!G407,G407<>\"\"),\"\")","v":""}]
[null,null,"THE.123","Pied à coulisse","0 / 200 mm",null,null,"Afficher",null,null,null,null,null,{"$f":"IF('Choix de l''instrument '!$C$3=\"Diamètre_inter\",AND('Choix de l''instrument '!$D$3>=Diamètre_inter!G408,G408<>\"\"),\"\")","v":""}]
[null,null,"THE.055","Pied à coulisse","0 / 300 mm",null,null,"Afficher",null,null,null,null,null,{"$f":"IF('Choix de l''instrument '!$C$3=\"Diamètre_inter\",AND('Choix de l''instrument '!$D$3>=Diamètre_inter!G409,G409<>\"\"),\"\")","v":""}]
[null,null,"THE.019","Pied à coulisse","0 / 500 mm",null,null,"Afficher",null,null,null,null,null,{"$f":"IF('Choix de l''instrument '!$C$3=\"Diamètre_inter\",AND('Choix de l''instrument '!$D$3>=Diamètre_inter!G410,G410<>\"\"),\"\")","v":""}]
[null,null,"THE.023","Pied à coulisse","0 / 150 mm",null,null,"Afficher",null,null,null,null,null,{"$f":"IF('Choix de l''instrument '!$C$3=\"Diamètre_inter\",AND('Choix de l''instrument '!$D$3>=Diamètre_inter!G411,G411<>\"\"),\"\")","v":""}]
[null,null,"THE.091","Pied à coulisse","0 / 150 mm",null,null,"Afficher",null,null,null,null,null,{"$f":"IF('Choix de l''instrument '!$C$3=\"Diamètre_inter\",AND('Choix de l''instrument '!$D$3>=Diamètre_inter!G412,G412<>\"\"),\"\")","v":""}]
[null,null,"SQ.037","Pied à coulisse","0 / 150 mm",null,null,"Afficher",null,null,null,null,null,{"$f":"IF('Choix de l''instrument '!$C$3=\"Diamètre_inter\",AND('Choix de l''instrument '!$D$3>=Diamètre_inter!G413,G413<>\"\"),\"\")","v":""}]
[null,null,"PAC-030","Pied à coulisse","0 / 150 mm",null,null,"Afficher",null,null,null,null,null,{"$f":"IF('Choix de l''instrument '!$C$3=\"Diamètre_inter\",AND('Choix de l''instrument '!$D$3>=Diamètre_inter!G414,G414<>\"\"),\"\")","v":""}]
[null,null,"PAC-029","Pied à coulisse","0 / 150 mm",null,null,"Afficher",null,null,null,null,null,{"$f":"IF('Choix de l''instrument '!$C$3=\"Diamètre_inter\",AND('Choix de l''instrument '!$D$3>=Diamètre_inter!G415,G415<>\"\"),\"\")","v":""}]
[null,null,"PAC-028","Pied à coulisse","0 / 200 mm",null,null,"Afficher",null,null,null,null,null,{"$f":"IF('Choix de l''instrument '!$C$3=\"Diamètre_inter\",AND('Choix de l''instrument '!$D$3>=Diamètre_inter!G416,G416<>\"\"),\"\")","v":""}]
[null,null,"PAC-034","Pied à coulisse","0 / 150 mm",null,null,"Afficher",null,null,null,null,null,{"$f":"IF('Choix de l''instrument '!$C$3=\"Diamètre_inter\",AND('Choix de l''instrument '!$D$3>=Diamètre_inter!G417,G417<>\"\"),\"\")","v":""}]
[null,null,"PAC-033","Pied à coulisse","0 / 200 mm",null,null,"Afficher",null,null,null,null,null,{"$f":"IF('Choix de l''instrument '!$C$3=\"Diamètre_inter\",AND('Choix de l''instrument '!$D$3>=Diamètre_inter!G418,G418<>\"\"),\"\")","v":""}]
[null,null,"PAC-031","Pied à coulisse","0 / 150 mm",null,null,"Afficher",null,null,null,null,null,{"$f":"IF('Choix de l''instrument '!$C$3=\"Diamètre_inter\",AND('Choix de l''instrument '!$D$3>=Diamètre_inter!G419,G419<>\"\"),\"\")","v":""}]
[null,null,"PAC-027","Pied à coulisse","0 / 200 mm",null,null,"Afficher",null,null,null,null,null,{"$f":"IF('Choix de l''instrument '!$C$3=\"Diamètre_inter\",AND('Choix de l''instrument '!$D$3>=Diamètre_inter!G420,G420<>\"\"),\"\")","v":""}]
[null,null,"PAC-023","Pied à coulisse","0 / 600 mm",null,null,"Afficher",null,null,null,null,null,{"$f":"IF('Choix de l''instrument '!$C$3=\"Diamètre_inter\",AND('Choix de l''instrument '!$D$3>=Diamètre_inter!G421,G421<>\"\"),\"\")","v":""}]
[null,null,"PAC-022","Pied à coulisse","0 / 200",null,null,"Afficher",null,null,null,null,null,{"$f":"IF('Choix de l''instrument '!$C$3=\"Diamètre_inter\",AND('Choix de l''instrument '!$D$3>=Diamètre_inter!G422,G422<>\"\"),\"\")","v":""}]
[null,null,"PAC-021","Pied à coulisse","0 / 200 mm",null,null,"Afficher",null,null,null,null,null,{"$f":"IF('Choix de l''instrument '!$C$3=\"Diamètre_inter\",AND('Choix de l''instrument '!$D$3>=Diamètre_inter!G423,G423<>\"\"),\"\")","v":""}]
[null,null,"PAC-026","Pied à coulisse","0 / 200 mm",null,null,"Afficher",null,null,null,null,null,{"$f":"IF('Choix de l''instrument '!$C$3=\"Diamètre_inter\",AND('Choix de l''instrument '!$D$3>=Diamètre_inter!G424,G424<>\"\"),\"\")","v":""}]
[null,null,"PAC-025","Pied à coulisse","0 / 200 mm",null,null,"Afficher",null,null,null,null,null,{"$f":"IF('Choix de l''instrument '!$C$3=\"Diamètre_inter\",AND('Choix de l''instrument '!$D$3>=Diamètre_inter!G425,G425<>\"\"),\"\")","v":""}]
[null,null,"PAC-024","Pied à coulisse","0 / 200 mm",null,null,"Afficher",null,null,null,null,null,{"$f":"IF('Choix de l''instrument '!$C$3=\"Diamètre_inter\",AND('Choix de l''instrument '!$D$3>=Diamètre_inter!G426,G426<>\"\"),\"\")","v":""}]
[null,null,"PAC-035","Pied à coulisse","0 / 200 mm",null,null,"Afficher",null,null,null,null,null,{"$f":"IF('Choix de l''instrument '!$C$3=\"Diamètre_inter\",AND('Choix de l''instrument '!$D$3>=Diamètre_inter!G427,G427<>\"\"),\"\")","v":""}]
[null,null,"PAC-119","Pied à coulisse","0 / 200 mm",null,null,"Afficher",null,null,null,null,null,{"$f":"IF('Choix de l''instrument '!$C$3=\"Diamètre_inter\",AND('Choix de l''instrument '!$D$3>=Diamètre_inter!G428,G428<>\"\"),\"\")","v":""}]
[null,null,"PAC-118","Pied à coulisse","0 / 200 mm",null,null,"Afficher",null,null,null,null,null,{"$f":"IF('Choix de l''instrument '!$C$3=\"Diamètre_inter\",AND('Choix de l''instrument '!$D$3>=Diamètre_inter!G429,G429<>\"\"),\"\")","v":""}]
[null,null,"PAC-110","Pied à coulisse","0 / 200 mm",null,null,"Afficher",null,null,null,null,null,{"$f":"IF('Choix de l''instrument '!$C$3=\"Diamètre_inter\",AND('Choix de l''instrument '!$D$3>=Diamètre_inter!G430,G430<>\"\"),\"\")","v":""}]
[null,null,"PAC-236","Pied à coulisse","0 / 200 mm",null,null,"Afficher",null,null,null,null,null,{"$f":"IF('Choix de l''instrument '!$C$3=\"Diamètre_inter\",AND('Choix de l''instrument '!$D$3>=Diamètre_inter!G431,G431<>\"\"),\"\")","v":""}]
[null,null,"PAC-208","Pied à coulisse","0 / 1000 mm",null,null,"Afficher",null,null,null,null,null,{"$f":"IF('Choix de l''instrument '!$C$3=\"Diamètre_inter\",AND('Choix de l''instrument '!$D$3>=Diamètre_inter!G432,G432<>\"\"),\"\")","v":""}]
[null,null,"PAC-207","Pied à coulisse","0 / 600 mm",null,null,"Afficher",null,null,null,null,null,{"$f":"IF('Choix de l''instrument '!$C$3=\"Diamètre_inter\",AND('Choix de l''instrument '!$D$3>=Diamètre_inter!G433,G433<>\"\"),\"\")","v":""}]
[null,null,"PAC-107","Pied à coulisse","0 / 300 mm",null,null,"Afficher",null,null,null,null,null,{"$f":"IF('Choix de l''instrument '!$C$3=\"Diamètre_inter\",AND('Choix de l''instrument '!$D$3>=Diamètre_inter!G434,G434<>\"\"),\"\")","v":""}]
[null,null,"PAC-038","Pied à coulisse","0 / 200 mm",null,null,"Afficher",null,null,null,null,null,{"$f":"IF('Choix de l''instrument '!$C$3=\"Diamètre_inter\",AND('Choix de l''instrument '!$D$3>=Diamètre_inter!G435,G435<>\"\"),\"\")","v":""}]
[null,null,"PAC-037","Pied à coulisse","0 / 200 mm",null,null,"Afficher",null,null,null,null,null,{"$f":"IF('Choix de l''instrument '!$C$3=\"Diamètre_inter\",AND('Choix de l''instrument '!$D$3>=Diamètre_inter!G436,G436<>\"\"),\"\")","v":""}]
[null,null,"PAC-036","Pied à coulisse","0 / 200 mm",null,null,"Afficher",null,null,null,null,null,{"$f":"IF('Choix de l''instrument '!$C$3=\"Diamètre_inter\",AND('Choix de l''instrument '!$D$3>=Diamètre_inter!G437,G437<>\"\"),\"\")","v":""}]
[null,null,"PAC-041","Pied à coulisse","0 / 200 mm",null,null,"Afficher",null,null,null,null,null,{"$f":"IF('Choix de l''instrument '!$C$3=\"Diamètre_inter\",AND('Choix de l''instrument '!$D$3>=Diamètre_inter!G438,G438<>\"\"),\"\")","v":""}]
[null,null,"PAC-040","Pied à coulisse","0 / 200 mm",null,null,"Afficher",null,null,null,null,null,{"$f":"IF('Choix de l''instrument '!$C$3=\"Diamètre_inter\",AND('Choix de l''instrument '!$D$3>=Diamètre_inter!G439,G439<>\"\"),\"\")","v":""}]
[null,null,"PAC-039","Pied à coulisse","0 / 200 mm",null,null,"Afficher",null,null,null,null,null,{"$f":"IF('Choix de l''instrument '!$C$3=\"Diamètre_inter\",AND('Choix de l''instrument '!$D$3>=Diamètre_inter!G440,G440<>\"\"),\"\")","v":""}]
[null,null,"PAC-003","Pied à coulisse","0 / 200 mm",null,null,"Afficher",null,null,null,null,null,{"$f":"IF('Choix de l''instrument '!$C$3=\"Diamètre_inter\",AND('Choix de l''instrument '!$D$3>=Diamètre_inter!G441,G441<>\"\"),\"\")","v":""}]
[null,null,"PAC-002","Pied à coulisse","0 / 200 mm",null,null,"Afficher",null,null,null,null,null,{"$f":"IF('Choix de l''instrument '!$C$3=\"Diamètre_inter\",AND('Choix de l''instrument '!$D$3>=Diamètre_inter!G442,G442<>\"\"),\"\")","v":""}]
[null,null,"PAC-001","Pied à coulisse","0 / 200 mm",null,null,"Afficher",null,null,null,null,null,{"$f":"IF('Choix de l''instrument '!$C$3=\"Diamètre_inter\",AND('Choix de l''instrument '!$D$3>=Diamètre_inter!G443,G443<>\"\"),\"\")","v":""}]
[null,null,"PAC-006","Pied à coulisse","0 / 200 mm",null,null,"Afficher",null,null,null,null,null,{"$f":"IF('Choix de l''instrument '!$C$3=\"Diamètre_inter\",AND('Choix de l''instrument '!$D$3>=Diamètre_inter!G444,G444<>\"\"),\"\")","v":""}]
[null,null,"PAC-005","Pied à coulisse","0 / 200 mm",null,null,"Afficher",null,null,null,null,null,{"$f":"IF('Choix de l''instrument '!$C$3=\"Diamètre_inter\",AND('Choix de l''instrument '!$D$3>=Diamètre_inter!G445,G445<>\"\"),\"\")","v":""}]
[null,null,"PAC-004","Pied à coulisse","0 / 200 mm",null,null,"Afficher",null,null,null,null,null,{"$f":"IF('Choix de l''instrument '!$C$3=\"Diamètre_inter\",AND('Choix de l''instrument '!$D$3>=Diamètre_inter!G446,G446<>\"\"),\"\")","v":""}]
[null,null,"PA.024","Pied à coulisse","0 / 200 mm",null,null,"Afficher",null,null,null,null,null,{"$f":"IF('Choix de l''instrument '!$C$3=\"Diamètre_inter\",AND('Choix de l''instrument '!$D$3>=Diamètre_inter!G447,G447<>\"\"),\"\")","v":""}]
[null,null,"PAC-007","Pied à coulisse","0 / 200 mm",null,null,"Afficher",null,null,null,null,null,{"$f":"IF('Choix de l''instrument '!$C$3=\"Diamètre_inter\",AND('Choix de l''instrument '!$D$3>=Diamètre_inter!G448,G448<>\"\"),\"\")","v":""}]
[null,null,"PAC-017","Pied à coulisse","0 / 200 mm",null,null,"Afficher",null,null,null,null,null,{"$f":"IF('Choix de l''instrument '!$C$3=\"Diamètre_inter\",AND('Choix de l''instrument '!$D$3>=Diamètre_inter!G449,G449<>\"\"),\"\")","v":""}]
[null,null,"PAC-016","Pied à coulisse","0 / 200 mm",null,null,"Afficher",null,null,null,null,null,{"$f":"IF('Choix de l''instrument '!$C$3=\"Diamètre_inter\",AND('Choix de l''instrument '!$D$3>=Diamètre_inter!G450,G450<>\"\"),\"\")","v":""}]
[null,null,"PAC-015","Pied à coulisse","0 / 300 mm",null,null,"Afficher",null,null,null,null,null,{"$f":"IF('Choix de l''instrument '!$C$3=\"Diamètre_inter\",AND('Choix de l''instrument '!$D$3>=Diamètre_inter!G451,G451<>\"\"),\"\")","v":""}]
[null,null,"PAC-020","Pied à coulisse","0 / 200 mm",null,null,"Afficher",null,null,null,null,null,{"$f":"IF('Choix de l''instrument '!$C$3=\"Diamètre_inter\",AND('Choix de l''instrument '!$D$3>=Diamètre_inter!G452,G452<>\"\"),\"\")","v":""}]
[null,null,"PAC-019","Pied à coulisse","0 / 200 mm",null,null,"Afficher",null,null,null,null,null,{"$f":"IF('Choix de l''instrument '!$C$3=\"Diamètre_inter\",AND('Choix de l''instrument '!$D$3>=Diamètre_inter!G453,G453<>\"\"),\"\")","v":""}]
[null,null,"PAC-018","Pied à coulisse","0 / 200 mm",null,null,"Afficher",null,null,null,null,null,{"$f":"IF('Choix de l''instrument '!$C$3=\"Diamètre_inter\",AND('Choix de l''instrument '!$D$3>=Diamètre_inter!G454,G454<>\"\"),\"\")","v":""}]
[null,null,"PAC-014","Pied à coulisse","0 / 200 mm",null,null,"Afficher",null,null,null,null,null,{"$f":"IF('Choix de l''instrument '!$C$3=\"Diamètre_inter\",AND('Choix de l''instrument '!$D$3>=Diamètre_inter!G455,G455<>\"\"),\"\")","v":""}]
[null,null,"PAC-010","Pied à coulisse",null,null,null,"Afficher",null,null,null,null,null,{"$f":"IF('Choix de l''instrument '!$C$3=\"Diamètre_inter\",AND('Choix de l''instrument '!$D$3>=Diamètre_inter!G456,G456<>\"\"),\"\")","v":""}]
[null,null,"PAC-009","Pied à coulisse","0 / 300 mm",null,null,"Afficher",null,null,null,null,null,{"$f":"IF('Choix de l''instrument '!$C$3=\"Diamètre_inter\",AND('Choix de l''instrument '!$D$3>=Diamètre_inter!G457,G457<>\"\"),\"\")","v":""}]
[null,null,"PAC-008","Pied à coulisse","0 / 200 mm",null,null,"Afficher",null,null,null,null,null,{"$f":"IF('Choix de l''instrument '!$C$3=\"Diamètre_inter\",AND('Choix de l''instrument '!$D$3>=Diamètre_inter!G458,G458<>\"\"),\"\")","v":""}]
[null,null,"PAC-013","Pied à coulisse","0 / 200 mm",null,null,"Afficher",null,null,null,null,null,{"$f":"IF('Choix de l''instrument '!$C$3=\"Diamètre_inter\",AND('Choix de l''instrument '!$D$3>=Diamètre_inter!G459,G459<>\"\"),\"\")","v":""}]
[null,null,"PAC-012","Pied à coulisse","0 / 1000 mm",null,null,"Afficher",null,null,null,null,null,{"$f":"IF('Choix de l''instrument '!$C$3=\"Diamètre_inter\",AND('Choix de l''instrument '!$D$3>=Diamètre_inter!G460,G460<>\"\"),\"\")","v":""}]
[null,null,"PAC-011","Pied à coulisse","0 / 200 mm",null,null,"Afficher",null,null,null,null,null,{"$f":"IF('Choix de l''instrument '!$C$3=\"Diamètre_inter\",AND('Choix de l''instrument '!$D$3>=Diamètre_inter!G461,G461<>\"\"),\"\")","v":""}]
[null,null,"PAC-237","Pied à coulisse","0 / 1000 mm",null,null,"Afficher",null,null,null,null,null,{"$f":"IF('Choix de l''instrument '!$C$3=\"Diamètre_inter\",AND('Choix de l''instrument '!$D$3>=Diamètre_inter!G462,G462<>\"\"),\"\")","v":""}]
[null,null,"PCC.016","Pied à coulisse","0 / 200 mm",null,null,"Afficher",null,null,null,null,null,{"$f":"IF('Choix de l''instrument '!$C$3=\"Diamètre_inter\",AND('Choix de l''instrument '!$D$3>=Diamètre_inter!G463,G463<>\"\"),\"\")","v":""}]
[null,null,"TC.087","Pied à coulisse","0 / 200 mm",null,null,"Afficher",null,null,null,null,null,{"$f":"IF('Choix de l''instrument '!$C$3=\"Diamètre_inter\",AND('Choix de l''instrument '!$D$3>=Diamètre_inter!G464,G464<>\"\"),\"\")","v":""}]
[null,null,"TC.100","Pied à coulisse","0 / 150 mm",null,null,"Afficher",null,null,null,null,null,{"$f":"IF('Choix de l''instrument '!$C$3=\"Diamètre_inter\",AND('Choix de l''instrument '!$D$3>=Diamètre_inter!G465,G465<>\"\"),\"\")","v":""}]
[null,null,"TC.099","Pied à coulisse","0 / 150 mm",null,null,"Afficher",null,null,null,null,null,{"$f":"IF('Choix de l''instrument '!$C$3=\"Diamètre_inter\",AND('Choix de l''instrument '!$D$3>=Diamètre_inter!G466,G466<>\"\"),\"\")","v":""}]
[null,null,"TC.098","Pied à coulisse","0 / 150 mm",null,null,"Afficher",null,null,null,null,null,{"$f":"IF('Choix de l''instrument '!$C$3=\"Diamètre_inter\",AND('Choix de l''instrument '!$D$3>=Diamètre_inter!G467,G467<>\"\"),\"\")","v":""}]
[null,null,"TC.090","Pied à coulisse","0 / 150 mm",null,null,"Afficher",null,null,null,null,null,{"$f":"IF('Choix de l''instrument '!$C$3=\"Diamètre_inter\",AND('Choix de l''instrument '!$D$3>=Diamètre_inter!G468,G468<>\"\"),\"\")","v":""}]
[null,null,"CAT.075","Pied à coulisse","0 / 500 mm",null,null,"Afficher",null,null,null,null,null,{"$f":"IF('Choix de l''instrument '!$C$3=\"Diamètre_inter\",AND('Choix de l''instrument '!$D$3>=Diamètre_inter!G469,G469<>\"\"),\"\")","v":""}]
[null,null,"CAT.080","Pied à coulisse","0 / 200 mm",null,null,"Afficher",null,null,null,null,null,{"$f":"IF('Choix de l''instrument '!$C$3=\"Diamètre_inter\",AND('Choix de l''instrument '!$D$3>=Diamètre_inter!G470,G470<>\"\"),\"\")","v":""}]
[null,null,"CAT.079","Pied à coulisse","0 / 200 mm",null,null,"Afficher",null,null,null,null,null,{"$f":"IF('Choix de l''instrument '!$C$3=\"Diamètre_inter\",AND('Choix de l''instrument '!$D$3>=Diamètre_inter!G471,G471<>\"\"),\"\")","v":""}]
[null,null,"CAT.078","Pied à coulisse","0 / 200 mm",null,null,"Afficher",null,null,null,null,null,{"$f":"IF('Choix de l''instrument '!$C$3=\"Diamètre_inter\",AND('Choix de l''instrument '!$D$3>=Diamètre_inter!G472,G472<>\"\"),\"\")","v":""}]
[null,null,"CAT.118","Pied à coulisse","0 / 200 mm",null,null,"Afficher",null,null,null,null,null,{"$f":"IF('Choix de l''instrument '!$C$3=\"Diamètre_inter\",AND('Choix de l''instrument '!$D$3>=Diamètre_inter!G473,G473<>\"\"),\"\")","v":""}]
[null,null,"CAT.117","Pied à coulisse","0 / 200 mm",null,null,"Afficher",null,null,null,null,null,{"$f":"IF('Choix de l''instrument '!$C$3=\"Diamètre_inter\",AND('Choix de l''instrument '!$D$3>=Diamètre_inter!G474,G474<>\"\"),\"\")","v":""}]
[null,null,"CAT.015","Pied à coulisse",null,null,null,"Afficher",null,null,null,null,null,{"$f":"IF('Choix de l''instrument '!$C$3=\"Diamètre_inter\",AND('Choix de l''instrument '!$D$3>=Diamètre_inter!G475,G475<>\"\"),\"\")","v":""}]
[null,null,"CAT.040","Pied à coulisse","0 / 300 mm",null,null,"Afficher",null,null,null,null,null,{"$f":"IF('Choix de l''instrument '!$C$3=\"Diamètre_inter\",AND('Choix de l''instrument '!$D$3>=Diamètre_inter!G476,G476<>\"\"),\"\")","v":""}]
[null,null,"CAT.035","Pied à coulisse","0 / 150 mm",null,null,"Afficher",null,null,null,null,null,{"$f":"IF('Choix de l''instrument '!$C$3=\"Diamètre_inter\",AND('Choix de l''instrument '!$D$3>=Diamètre_inter!G477,G477<>\"\"),\"\")","v":""}]
[null,null,"CF.087","Pied à coulisse","0 / 200 mm",null,null,"Afficher",null,null,null,null,null,{"$f":"IF('Choix de l''instrument '!$C$3=\"Diamètre_inter\",AND('Choix de l''instrument '!$D$3>=Diamètre_inter!G478,G478<>\"\"),\"\")","v":""}]
[null,null,"CF.083","Pied à coulisse","0 / 200 mm",null,null,"Afficher",null,null,null,null,null,{"$f":"IF('Choix de l''instrument '!$C$3=\"Diamètre_inter\",AND('Choix de l''instrument '!$D$3>=Diamètre_inter!G479,G479<>\"\"),\"\")","v":""}]
[null,null,"CF.054","Pied à coulisse","0 / 150 mm",null,null,"Afficher",null,null,null,null,null,{"$f":"IF('Choix de l''instrument '!$C$3=\"Diamètre_inter\",AND('Choix de l''instrument '!$D$3>=Diamètre_inter!G480,G480<>\"\"),\"\")","v":""}]
[null,null,"CF.061","Pied à coulisse","0 / 500 mm",null,null,"Afficher",null,null,null,null,null,{"$f":"IF('Choix de l''instrument '!$C$3=\"Diamètre_inter\",AND('Choix de l''instrument '!$D$3>=Diamètre_inter!G481,G481<>\"\"),\"\")","v":""}]
[null,null,"CF.040","Pied à coulisse","0 / 1000 mm",null,null,"Afficher",null,null,null,null,null,{"$f":"IF('Choix de l''instrument '!$C$3=\"Diamètre_inter\",AND('Choix de l''instrument '!$D$3>=Diamètre_inter!G482,G482<>\"\"),\"\")","v":""}]
[null,null,"CF.048","Pied à coulisse","0 / 500 mm",null,null,"Afficher",null,null,null,null,null,{"$f":"IF('Choix de l''instrument '!$C$3=\"Diamètre_inter\",AND('Choix de l''instrument '!$D$3>=Diamètre_inter!G483,G483<>\"\"),\"\")","v":""}]
[null,null,"CE.259","Pied à coulisse","0 / 300 mm",null,null,"Afficher",null,null,null,null,null,{"$f":"IF('Choix de l''instrument '!$C$3=\"Diamètre_inter\",AND('Choix de l''instrument '!$D$3>=Diamètre_inter!G484,G484<>\"\"),\"\")","v":""}]
[null,null,"CAT.146","Pied à coulisse","0 / 200 mm",null,null,"Afficher",null,null,null,null,null,{"$f":"IF('Choix de l''instrument '!$C$3=\"Diamètre_inter\",AND('Choix de l''instrument '!$D$3>=Diamètre_inter!G485,G485<>\"\"),\"\")","v":""}]
[null,null,"CAT.149","Pied à coulisse","0 / 200 mm",null,null,"Afficher",null,null,null,null,null,{"$f":"IF('Choix de l''instrument '!$C$3=\"Diamètre_inter\",AND('Choix de l''instrument '!$D$3>=Diamètre_inter!G486,G486<>\"\"),\"\")","v":""}]
[null,null,"CAT.148","Pied à coulisse","0 / 200 mm",null,null,"Afficher",null,null,null,null,null,{"$f":"IF('Choix de l''instrument '!$C$3=\"Diamètre_inter\",AND('Choix de l''instrument '!$D$3>=Diamètre_inter!G487,G487<>\"\"),\"\")","v":""}]
[null,null,"CAT.138","Pied à coulisse","0 / 200 mm",null,null,"Afficher",null,null,null,null,null,{"$f":"IF('Choix de l''instrument '!$C$3=\"Diamètre_inter\",AND('Choix de l''instrument '!$D$3>=Diamètre_inter!G488,G488<>\"\"),\"\")","v":""}]
[null,null,"CAT.166","Pied à coulisse","0 / 200 mm",null,null,"Afficher",null,null,null,null,null,{"$f":"IF('Choix de l''instrument '!$C$3=\"Diamètre_inter\",AND('Choix de l''instrument '!$D$3>=Diamètre_inter!G489,G489<>\"\"),\"\")","v":""}]
[null,null,"CE.251","Pied à coulisse","0 / 500 mm",null,null,"Afficher",null,null,null,null,null,{"$f":"IF('Choix de l''instrument '!$C$3=\"Diamètre_inter\",AND('Choix de l''instrument '!$D$3>=Diamètre_inter!G490,G490<>\"\"),\"\")","v":""}]
[null,null,"CE.255","Pied à coulisse",null,null,null,"Afficher",null,null,null,null,null,{"$f":"IF('Choix de l''instrument '!$C$3=\"Diamètre_inter\",AND('Choix de l''instrument '!$D$3>=Diamètre_inter!G491,G491<>\"\"),\"\")","v":""}]
[null,null,"CE.237","Pied à coulisse","0 / 500 mm",null,null,"Afficher",null,null,null,null,null,{"$f":"IF('Choix de l''instrument '!$C$3=\"Diamètre_inter\",AND('Choix de l''instrument '!$D$3>=Diamètre_inter!G492,G492<>\"\"),\"\")","v":""}]
[null,null,"CE.243","Pied à coulisse","0 / 300 mm",null,null,"Afficher",null,null,null,null,null,{"$f":"IF('Choix de l''instrument '!$C$3=\"Diamètre_inter\",AND('Choix de l''instrument '!$D$3>=Diamètre_inter!G493,G493<>\"\"),\"\")","v":""}]
[null,null,"CE.051","Pied à coulisse","0 / 150 mm",null,null,"Afficher",null,null,null,null,null,{"$f":"IF('Choix de l''instrument '!$C$3=\"Diamètre_inter\",AND('Choix de l''instrument '!$D$3>=Diamètre_inter!G494,G494<>\"\"),\"\")","v":""}]
[null,null,"ED.186","Pied à coulisse","0 / 150 mm",null,null,"Afficher",null,null,null,null,null,{"$f":"IF('Choix de l''instrument '!$C$3=\"Diamètre_inter\",AND('Choix de l''instrument '!$D$3>=Diamètre_inter!G495,G495<>\"\"),\"\")","v":""}]
[null,null,"DIM-0132","Pied à coulisse","0 / 150 mm",null,null,"Afficher",null,null,null,null,null,{"$f":"IF('Choix de l''instrument '!$C$3=\"Diamètre_inter\",AND('Choix de l''instrument '!$D$3>=Diamètre_inter!G496,G496<>\"\"),\"\")","v":""}]
[null,null,"DIM-0148","Pied à coulisse","0 / 1000 mm",null,null,"Afficher",null,null,null,null,null,{"$f":"IF('Choix de l''instrument '!$C$3=\"Diamètre_inter\",AND('Choix de l''instrument '!$D$3>=Diamètre_inter!G497,G497<>\"\"),\"\")","v":""}]
[null,null,"EC.128","Pied à coulisse","0 / 150 mm",null,null,"Afficher",null,null,null,null,null,{"$f":"IF('Choix de l''instrument '!$C$3=\"Diamètre_inter\",AND('Choix de l''instrument '!$D$3>=Diamètre_inter!G498,G498<>\"\"),\"\")","v":""}]
[null,null,"ED.068","Pied à coulisse","0 / 150 mm",null,null,"Afficher",null,null,null,null,null,{"$f":"IF('Choix de l''instrument '!$C$3=\"Diamètre_inter\",AND('Choix de l''instrument '!$D$3>=Diamètre_inter!G499,G499<>\"\"),\"\")","v":""}]
[null,null,"EN.134","Pied à coulisse","0 / 300 mm",null,null,"Afficher",null,null,null,null,null,{"$f":"IF('Choix de l''instrument '!$C$3=\"Diamètre_inter\",AND('Choix de l''instrument '!$D$3>=Diamètre_inter!G500,G500<>\"\"),\"\")","v":""}]
[null,null,"EN.130","Pied à coulisse","0 / 1000 mm",null,null,"Afficher",null,null,null,null,null,{"$f":"IF('Choix de l''instrument '!$C$3=\"Diamètre_inter\",AND('Choix de l''instrument '!$D$3>=Diamètre_inter!G501,G501<>\"\"),\"\")","v":""}]
[null,null,"CF.481","Pied à coulisse","0 / 600 mm",null,null,"Afficher",null,null,null,null,null,{"$f":"IF('Choix de l''instrument '!$C$3=\"Diamètre_inter\",AND('Choix de l''instrument '!$D$3>=Diamètre_inter!G502,G502<>\"\"),\"\")","v":""}]
[null,null,"CF.478","Pied à coulisse","0 / 600 mm",null,null,"Afficher",null,null,null,null,null,{"$f":"IF('Choix de l''instrument '!$C$3=\"Diamètre_inter\",AND('Choix de l''instrument '!$D$3>=Diamètre_inter!G503,G503<>\"\"),\"\")","v":""}]
[null,null,"CF.215","Pied à coulisse","0 / 150 mm",null,null,"Afficher",null,null,null,null,null,{"$f":"IF('Choix de l''instrument '!$C$3=\"Diamètre_inter\",AND('Choix de l''instrument '!$D$3>=Diamètre_inter!G504,G504<>\"\"),\"\")","v":""}]
[null,null,"DIM-0050","Pied à coulisse","0 / 200",null,null,"Afficher",null,null,null,null,null,{"$f":"IF('Choix de l''instrument '!$C$3=\"Diamètre_inter\",AND('Choix de l''instrument '!$D$3>=Diamètre_inter!G505,G505<>\"\"),\"\")","v":""}]
[null,null,"DIM-0048","Pied à coulisse","0 / 600 mm",null,null,"Afficher",null,null,null,null,null,{"$f":"IF('Choix de l''instrument '!$C$3=\"Diamètre_inter\",AND('Choix de l''instrument '!$D$3>=Diamètre_inter!G506,G506<>\"\"),\"\")","v":""}]
[null,null,"DIM-0068","Pied à coulisse","0 / 200 mm",null,null,"Afficher",null,null,null,null,null,{"$f":"IF('Choix de l''instrument '!$C$3=\"Diamètre_inter\",AND('Choix de l''instrument '!$D$3>=Diamètre_inter!G507,G507<>\"\"),\"\")","v":""}]
[null,null,"DIM-0067","Pied à coulisse","0 / 200 mm",null,null,"Afficher",null,null,null,null,null,{"$f":"IF('Choix de l''instrument '!$C$3=\"Diamètre_inter\",AND('Choix de l''instrument '!$D$3>=Diamètre_inter!G508,G508<>\"\"),\"\")","v":""}]
[null,null,"DIM-0066","Pied à coulisse","0 / 200 mm",null,null,"Afficher",null,null,null,null,null,{"$f":"IF('Choix de l''instrument '!$C$3=\"Diamètre_inter\",AND('Choix de l''instrument '!$D$3>=Diamètre_inter!G509,G509<>\"\"),\"\")","v":""}]
[null,null,"DIM-0021","Pied à coulisse","0 / 150 mm",null,null,"Afficher",null,null,null,null,null,{"$f":"IF('Choix de l''instrument '!$C$3=\"Diamètre_inter\",AND('Choix de l''instrument '!$D$3>=Diamètre_inter!G510,G510<>\"\"),\"\")","v":""}]
[null,null,"DIM-0015","Pied à coulisse","0 / 200 mm",null,null,"Afficher",null,null,null,null,null,{"$f":"IF('Choix de l''instrument '!$C$3=\"Diamètre_inter\",AND('Choix de l''instrument '!$D$3>=Diamètre_inter!G511,G511<>\"\"),\"\")","v":""}]
[null,null,"DIM-0105","Pied à coulisse","0 / 500 mm",null,null,"Afficher",null,null,null,null,null,{"$f":"IF('Choix de l''instrument '!$C$3=\"Diamètre_inter\",AND('Choix de l''instrument '!$D$3>=Diamètre_inter!G512,G512<>\"\"),\"\")","v":""}]
[null,null,"DIM-0118","Pied à coulisse","0 / 150 mm",null,null,"Afficher",null,null,null,null,null,{"$f":"IF('Choix de l''instrument '!$C$3=\"Diamètre_inter\",AND('Choix de l''instrument '!$D$3>=Diamètre_inter!G513,G513<>\"\"),\"\")","v":""}]
[null,null,"DIM-0114","Pied à coulisse","0 / 150 mm",null,null,"Afficher",null,null,null,null,null,{"$f":"IF('Choix de l''instrument '!$C$3=\"Diamètre_inter\",AND('Choix de l''instrument '!$D$3>=Diamètre_inter!G514,G514<>\"\"),\"\")","v":""}]
[null,null,"DIM-0113","Pied à coulisse","0 / 150 mm",null,null,"Afficher",null,null,null,null,null,{"$f":"IF('Choix de l''instrument '!$C$3=\"Diamètre_inter\",AND('Choix de l''instrument '!$D$3>=Diamètre_inter!G515,G515<>\"\"),\"\")","v":""}]
[null,null,"DIM-0112","Pied à coulisse","0 / 150 mm",null,null,"Afficher",null,null,null,null,null,{"$f":"IF('Choix de l''instrument '!$C$3=\"Diamètre_inter\",AND('Choix de l''instrument '!$D$3>=Diamètre_inter!G516,G516<>\"\"),\"\")","v":""}]
[null,null,"DIM-0117","Pied à coulisse","0 / 150 mm",null,null,"Afficher",null,null,null,null,null,{"$f":"IF('Choix de l''instrument '!$C$3=\"Diamètre_inter\",AND('Choix de l''instrument '!$D$3>=Diamètre_inter!G517,G517<>\"\"),\"\")","v":""}]
[null,null,"DIM-0116","Pied à coulisse","0 / 150 mm",null,null,"Afficher",null,null,null,null,null,{"$f":"IF('Choix de l''instrument '!$C$3=\"Diamètre_inter\",AND('Choix de l''instrument '!$D$3>=Diamètre_inter!G518,G518<>\"\"),\"\")","v":""}]
[null,null,"DIM-0115","Pied à coulisse","0 / 150 mm",null,null,"Afficher",null,null,null,null,null,{"$f":"IF('Choix de l''instrument '!$C$3=\"Diamètre_inter\",AND('Choix de l''instrument '!$D$3>=Diamètre_inter!G519,G519<>\"\"),\"\")","v":""}]
[null,null,"DIM-0079","Pied à coulisse","0 / 200 mm",null,null,"Afficher",null,null,null,null,null,{"$f":"IF('Choix de l''instrument '!$C$3=\"Diamètre_inter\",AND('Choix de l''instrument '!$D$3>=Diamètre_inter!G520,G520<>\"\"),\"\")","v":""}]
[null,null,"DIM-0078","Pied à coulisse","0 / 200 mm",null,null,"Afficher",null,null,null,null,null,{"$f":"IF('Choix de l''instrument '!$C$3=\"Diamètre_inter\",AND('Choix de l''instrument '!$D$3>=Diamètre_inter!G521,G521<>\"\"),\"\")","v":""}]
[null,null,"DIM-0082","Pied à coulisse","0 / 200 mm",null,null,"Afficher",null,null,null,null,null,{"$f":"IF('Choix de l''instrument '!$C$3=\"Diamètre_inter\",AND('Choix de l''instrument '!$D$3>=Diamètre_inter!G522,G522<>\"\"),\"\")","v":""}]
[null,null,"DIM-0081","Pied à coulisse","0 / 200 mm",null,null,"Afficher",null,null,null,null,null,{"$f":"IF('Choix de l''instrument '!$C$3=\"Diamètre_inter\",AND('Choix de l''instrument '!$D$3>=Diamètre_inter!G523,G523<>\"\"),\"\")","v":""}]
[null,null,"DIM-0080","Pied à coulisse","0 / 200 mm",null,null,"Afficher",null,null,null,null,null,{"$f":"IF('Choix de l''instrument '!$C$3=\"Diamètre_inter\",AND('Choix de l''instrument '!$D$3>=Diamètre_inter!G524,G524<>\"\"),\"\")","v":""}]
[null,null,"DIM-0083","Pied à coulisse","0 / 200 mm",null,null,"Afficher",null,null,null,null,null,{"$f":"IF('Choix de l''instrument '!$C$3=\"Diamètre_inter\",AND('Choix de l''instrument '!$D$3>=Diamètre_inter!G525,G525<>\"\"),\"\")","v":""}]
[null,null,"CP.021","Pied à coulisse","0 / 150 mm",null,null,"Afficher",null,null,null,null,null,{"$f":"IF('Choix de l''instrument '!$C$3=\"Diamètre_inter\",AND('Choix de l''instrument '!$D$3>=Diamètre_inter!G526,G526<>\"\"),\"\")","v":""}]
[null,null,"CP.070","Pied à coulisse","0 / 150 mm",null,null,"Afficher",null,null,null,null,null,{"$f":"IF('Choix de l''instrument '!$C$3=\"Diamètre_inter\",AND('Choix de l''instrument '!$D$3>=Diamètre_inter!G527,G527<>\"\"),\"\")","v":""}]
[null,null,"CP.069","Pied à coulisse","0 / 150 mm",null,null,"Afficher",null,null,null,null,null,{"$f":"IF('Choix de l''instrument '!$C$3=\"Diamètre_inter\",AND('Choix de l''instrument '!$D$3>=Diamètre_inter!G528,G528<>\"\"),\"\")","v":""}]
[null,null,"CP.068","Pied à coulisse","0 / 150 mm",null,null,"Afficher",null,null,null,null,null,{"$f":"IF('Choix de l''instrument '!$C$3=\"Diamètre_inter\",AND('Choix de l''instrument '!$D$3>=Diamètre_inter!G529,G529<>\"\"),\"\")","v":""}]
[null,null,"DIM-0049","Pied à coulisse pour mesure intérieure","0 / 200 mm",null,null,"Afficher",null,null,null,null,null,{"$f":"IF('Choix de l''instrument '!$C$3=\"Diamètre_inter\",AND('Choix de l''instrument '!$D$3>=Diamètre_inter!G530,G530<>\"\"),\"\")","v":""}]
[null,null,"OPT-0020","Projecteur de profils",null,null,null,"Afficher",null,null,null,null,null,{"$f":"IF('Choix de l''instrument '!$C$3=\"Diamètre_inter\",AND('Choix de l''instrument '!$D$3>=Diamètre_inter!G531,G531<>\"\"),\"\")","v":""}]
[null,null,"OPT-0037","Projecteur de profils",null,null,null,"Afficher",null,null,null,null,null,{"$f":"IF('Choix de l''instrument '!$C$3=\"Diamètre_inter\",AND('Choix de l''instrument '!$D$3>=Diamètre_inter!G532,G532<>\"\"),\"\")","v":""}]
[null,null,"OPT-0001","Projecteur de profils",null,null,null,"Afficher",null,null,null,null,null,{"$f":"IF('Choix de l''instrument '!$C$3=\"Diamètre_inter\",AND('Choix de l''instrument '!$D$3>=Diamètre_inter!G533,G533<>\"\"),\"\")","v":""}]
[null,null,"OPT-0006","Projecteur de profils",null,null,null,"Afficher",null,null,null,null,null,{"$f":"IF('Choix de l''instrument '!$C$3=\"Diamètre_inter\",AND('Choix de l''instrument '!$D$3>=Diamètre_inter!G534,G534<>\"\"),\"\")","v":""}]
[null,null,"OPT-0018","Projecteur de profils",null,null,null,"Afficher",null,null,null,null,null,{"$f":"IF('Choix de l''instrument '!$C$3=\"Diamètre_inter\",AND('Choix de l''instrument '!$D$3>=Diamètre_inter!G535,G535<>\"\"),\"\")","v":""}]
[null,null,"OPT-0017","Projecteur de profils",null,null,null,"Afficher",null,null,null,null,null,{"$f":"IF('Choix de l''instrument '!$C$3=\"Diamètre_inter\",AND('Choix de l''instrument '!$D$3>=Diamètre_inter!G536,G536<>\"\"),\"\")","v":""}]
[null,null,"CF.449","Projecteur de profils",null,null,null,"Afficher",null,null,null,null,null,{"$f":"IF('Choix de l''instrument '!$C$3=\"Diamètre_inter\",AND('Choix de l''instrument '!$D$3>=Diamètre_inter!G537,G537<>\"\"),\"\")","v":""}]
[null,null,"CF.460","Projecteur de profils",null,null,null,"Afficher",null,null,null,null,null,{"$f":"IF('Choix de l''instrument '!$C$3=\"Diamètre_inter\",AND('Choix de l''instrument '!$D$3>=Diamètre_inter!G538,G538<>\"\"),\"\")","v":""}]
[null,null,"M.232","Micromètre d'intérieur 2 touches","100 / 125 mm",null,null,"Afficher",null,null,null,null,null,{"$f":"IF('Choix de l''instrument '!$C$3=\"Diamètre_inter\",AND('Choix de l''instrument '!$D$3>=Diamètre_inter!G539,G539<>\"\"),\"\")","v":""}]
[null,null,"M.230","Micromètre d'intérieur 2 touches","50 / 75 mm",null,null,"Afficher",null,null,null,null,null,{"$f":"IF('Choix de l''instrument '!$C$3=\"Diamètre_inter\",AND('Choix de l''instrument '!$D$3>=Diamètre_inter!G540,G540<>\"\"),\"\")","v":""}]
[null,null,"M.229","Micromètre d'intérieur 2 touches","75 / 100 mm",null,null,"Afficher",null,null,null,null,null,{"$f":"IF('Choix de l''instrument '!$C$3=\"Diamètre_inter\",AND('Choix de l''instrument '!$D$3>=Diamètre_inter!G541,G541<>\"\"),\"\")","v":""}]
[null,null,"M.050B","Micromètre d'intérieur 2 touches","40 / 50 mm",null,null,"Afficher",null,null,null,null,null,{"$f":"IF('Choix de l''instrument '!$C$3=\"Diamètre_inter\",AND('Choix de l''instrument '!$D$3>=Diamètre_inter!G542,G542<>\"\"),\"\")","v":""}]
[null,null,"M.050A","Micromètre d'intérieur 2 touches","35 / 40 mm",null,null,"Afficher",null,null,null,null,null,{"$f":"IF('Choix de l''instrument '!$C$3=\"Diamètre_inter\",AND('Choix de l''instrument '!$D$3>=Diamètre_inter!G543,G543<>\"\"),\"\")","v":""}]
[null,null,"M.050","Micromètre d'intérieur 2 touches","30 / 35 mm",null,null,"Afficher",null,null,null,null,null,{"$f":"IF('Choix de l''instrument '!$C$3=\"Diamètre_inter\",AND('Choix de l''instrument '!$D$3>=Diamètre_inter!G544,G544<>\"\"),\"\")","v":""}]
[null,null,"CF.106/2","Micromètre d'intérieur 2 touches",null,null,null,"Afficher",null,null,null,null,null,{"$f":"IF('Choix de l''instrument '!$C$3=\"Diamètre_inter\",AND('Choix de l''instrument '!$D$3>=Diamètre_inter!G545,G545<>\"\"),\"\")","v":""}]
[null,null,"CF.106/1","Micromètre d'intérieur 2 touches",null,null,null,"Afficher",null,null,null,null,null,{"$f":"IF('Choix de l''instrument '!$C$3=\"Diamètre_inter\",AND('Choix de l''instrument '!$D$3>=Diamètre_inter!G546,G546<>\"\"),\"\")","v":""}]
[null,null,"CF.143","Micromètre d'intérieur 2 touches","5 / 30 mm",null,null,"Afficher",null,null,null,null,null,{"$f":"IF('Choix de l''instrument '!$C$3=\"Diamètre_inter\",AND('Choix de l''instrument '!$D$3>=Diamètre_inter!G547,G547<>\"\"),\"\")","v":""}]
[null,null,"M.225","Micromètre d'intérieur à 3 touches","40 / 50 mm",null,null,"Afficher",null,null,null,null,null,{"$f":"IF('Choix de l''instrument '!$C$3=\"Diamètre_inter\",AND('Choix de l''instrument '!$D$3>=Diamètre_inter!G548,G548<>\"\"),\"\")","v":""}]
[null,null,"M.224","Micromètre d'intérieur à 3 touches","16 / 20 mm",null,null,"Afficher",null,null,null,null,null,{"$f":"IF('Choix de l''instrument '!$C$3=\"Diamètre_inter\",AND('Choix de l''instrument '!$D$3>=Diamètre_inter!G549,G549<>\"\"),\"\")","v":""}]
[null,null,"M.090","Micromètre d'intérieur à 3 touches","6 / 8 mm",null,null,"Afficher",null,null,null,null,null,{"$f":"IF('Choix de l''instrument '!$C$3=\"Diamètre_inter\",AND('Choix de l''instrument '!$D$3>=Diamètre_inter!G550,G550<>\"\"),\"\")","v":""}]
[null,null,"M.076","Micromètre d'intérieur à 3 touches","10 / 12 mm",null,null,"Afficher",null,null,null,null,null,{"$f":"IF('Choix de l''instrument '!$C$3=\"Diamètre_inter\",AND('Choix de l''instrument '!$D$3>=Diamètre_inter!G551,G551<>\"\"),\"\")","v":""}]
[null,null,"M.075","Micromètre d'intérieur à 3 touches","8 / 10 mm",null,null,"Afficher",null,null,null,null,null,{"$f":"IF('Choix de l''instrument '!$C$3=\"Diamètre_inter\",AND('Choix de l''instrument '!$D$3>=Diamètre_inter!G552,G552<>\"\"),\"\")","v":""}]
[null,null,"M.104A","Micromètre d'intérieur à 3 touches","35 / 40 mm",null,null,"Afficher",null,null,null,null,null,{"$f":"IF('Choix de l''instrument '!$C$3=\"Diamètre_inter\",AND('Choix de l''instrument '!$D$3>=Diamètre_inter!G553,G553<>\"\"),\"\")","v":""}]
[null,null,"M.033","Micromètre d'intérieur à 3 touches","50 / 60 mm",null,null,"Afficher",null,null,null,null,null,{"$f":"IF('Choix de l''instrument '!$C$3=\"Diamètre_inter\",AND('Choix de l''instrument '!$D$3>=Diamètre_inter!G554,G554<>\"\"),\"\")","v":""}]
[null,null,"M.032","Micromètre d'intérieur à 3 touches","20 / 25 mm",null,null,"Afficher",null,null,null,null,null,{"$f":"IF('Choix de l''instrument '!$C$3=\"Diamètre_inter\",AND('Choix de l''instrument '!$D$3>=Diamètre_inter!G555,G555<>\"\"),\"\")","v":""}]
[null,null,"M.028","Micromètre d'intérieur à 3 touches","14 / 17 mm",null,null,"Afficher",null,null,null,null,null,{"$f":"IF('Choix de l''instrument '!$C$3=\"Diamètre_inter\",AND('Choix de l''instrument '!$D$3>=Diamètre_inter!G556,G556<>\"\"),\"\")","v":""}]
[null,null,"M.027","Micromètre d'intérieur à 3 touches","11 / 14 mm",null,null,"Afficher",null,null,null,null,null,{"$f":"IF('Choix de l''instrument '!$C$3=\"Diamètre_inter\",AND('Choix de l''instrument '!$D$3>=Diamètre_inter!G557,G557<>\"\"),\"\")","v":""}]
[null,null,"M.031","Micromètre d'intérieur à 3 touches","25 / 30 mm",null,null,"Afficher",null,null,null,null,null,{"$f":"IF('Choix de l''instrument '!$C$3=\"Diamètre_inter\",AND('Choix de l''instrument '!$D$3>=Diamètre_inter!G558,G558<>\"\"),\"\")","v":""}]
[null,null,"M.030","Micromètre d'intérieur à 3 touches","30 / 35 mm",null,null,"Afficher",null,null,null,null,null,{"$f":"IF('Choix de l''instrument '!$C$3=\"Diamètre_inter\",AND('Choix de l''instrument '!$D$3>=Diamètre_inter!G559,G559<>\"\"),\"\")","v":""}]
[null,null,"M.024","Micromètre d'intérieur à 3 touches","10 / 12 mm",null,null,"Afficher",null,null,null,null,null,{"$f":"IF('Choix de l''instrument '!$C$3=\"Diamètre_inter\",AND('Choix de l''instrument '!$D$3>=Diamètre_inter!G560,G560<>\"\"),\"\")","v":""}]
[null,null,"MINT3-005","Micromètre d'intérieur à 3 touches","35 / 40 mm",null,null,"Afficher",null,null,null,null,null,{"$f":"IF('Choix de l''instrument '!$C$3=\"Diamètre_inter\",AND('Choix de l''instrument '!$D$3>=Diamètre_inter!G561,G561<>\"\"),\"\")","v":""}]
[null,null,"MINT3-004","Micromètre d'intérieur à 3 touches","30 / 35 mm",null,null,"Afficher",null,null,null,null,null,{"$f":"IF('Choix de l''instrument '!$C$3=\"Diamètre_inter\",AND('Choix de l''instrument '!$D$3>=Diamètre_inter!G562,G562<>\"\"),\"\")","v":""}]
[null,null,"MINT3-003","Micromètre d'intérieur à 3 touches","25 / 30 mm",null,null,"Afficher",null,null,null,null,null,{"$f":"IF('Choix de l''instrument '!$C$3=\"Diamètre_inter\",AND('Choix de l''instrument '!$D$3>=Diamètre_inter!G563,G563<>\"\"),\"\")","v":""}]
[null,null,"MINT3-002","Micromètre d'intérieur à 3 touches","20 / 25 mm",null,null,"Afficher",null,null,null,null,null,{"$f":"IF('Choix de l''instrument '!$C$3=\"Diamètre_inter\",AND('Choix de l''instrument '!$D$3>=Diamètre_inter!G564,G564<>\"\"),\"\")","v":""}]
[null,null,"MINT3-001","Micromètre d'intérieur à 3 touches","20 à25",null,null,"Afficher",null,null,null,null,null,{"$f":"IF('Choix de l''instrument '!$C$3=\"Diamètre_inter\",AND('Choix de l''instrument '!$D$3>=Diamètre_inter!G565,G565<>\"\"),\"\")","v":""}]
[null,null,"SQ.006","Micromètre d'intérieur à 3 touches","6 / 8 mm",null,null,"Afficher",null,null,null,null,null,{"$f":"IF('Choix de l''instrument '!$C$3=\"Diamètre_inter\",AND('Choix de l''instrument '!$D$3>=Diamètre_inter!G566,G566<>\"\"),\"\")","v":""}]
[null,null,"CE.072","Micromètre d'intérieur à 3 touches","6 / 8 mm",null,null,"Afficher",null,null,null,null,null,{"$f":"IF('Choix de l''instrument '!$C$3=\"Diamètre_inter\",AND('Choix de l''instrument '!$D$3>=Diamètre_inter!G567,G567<>\"\"),\"\")","v":""}]
[null,null,"ED.241","Micromètre d'intérieur à 3 touches","25 / 30 mm",null,null,"Afficher",null,null,null,null,null,{"$f":"IF('Choix de l''instrument '!$C$3=\"Diamètre_inter\",AND('Choix de l''instrument '!$D$3>=Diamètre_inter!G568,G568<>\"\"),\"\")","v":""}]
[null,null,"EN.116","Micromètre d'intérieur à 3 touches","10 / 12 mm",null,null,"Afficher",null,null,null,null,null,{"$f":"IF('Choix de l''instrument '!$C$3=\"Diamètre_inter\",AND('Choix de l''instrument '!$D$3>=Diamètre_inter!G569,G569<>\"\"),\"\")","v":""}]
[null,null,"EN.115","Micromètre d'intérieur à 3 touches","20 / 25 mm",null,null,"Afficher",null,null,null,null,null,{"$f":"IF('Choix de l''instrument '!$C$3=\"Diamètre_inter\",AND('Choix de l''instrument '!$D$3>=Diamètre_inter!G570,G570<>\"\"),\"\")","v":""}]
[null,null,"EN.117","Micromètre d'intérieur à 3 touches","12 / 16 mm",null,null,"Afficher",null,null,null,null,null,{"$f":"IF('Choix de l''instrument '!$C$3=\"Diamètre_inter\",AND('Choix de l''instrument '!$D$3>=Diamètre_inter!G571,G571<>\"\"),\"\")","v":""}]
[null,null,"EC.134","Micromètre d'intérieur à 3 touches","6 / 8 mm",null,null,"Afficher",null,null,null,null,null,{"$f":"IF('Choix de l''instrument '!$C$3=\"Diamètre_inter\",AND('Choix de l''instrument '!$D$3>=Diamètre_inter!G572,G572<>\"\"),\"\")","v":""}]
[null,null,"EC.135","Micromètre d'intérieur à 3 touches","6 / 8 mm",null,null,"Afficher",null,null,null,null,null,{"$f":"IF('Choix de l''instrument '!$C$3=\"Diamètre_inter\",AND('Choix de l''instrument '!$D$3>=Diamètre_inter!G573,G573<>\"\"),\"\")","v":""}]
[null,null,"EN.118","Micromètre d'intérieur à 3 touches","16 / 20 mm",null,null,"Afficher",null,null,null,null,null,{"$f":"IF('Choix de l''instrument '!$C$3=\"Diamètre_inter\",AND('Choix de l''instrument '!$D$3>=Diamètre_inter!G574,G574<>\"\"),\"\")","v":""}]
[null,null,"EN.161","Micromètre d'intérieur à 3 touches","30 / 40 mm",null,null,"Afficher",null,null,null,null,null,{"$f":"IF('Choix de l''instrument '!$C$3=\"Diamètre_inter\",AND('Choix de l''instrument '!$D$3>=Diamètre_inter!G575,G575<>\"\"),\"\")","v":""}]
[null,null,"CF.466","Micromètre d'intérieur à 3 touches","6 / 8 mm",null,null,"Afficher",null,null,null,null,null,{"$f":"IF('Choix de l''instrument '!$C$3=\"Diamètre_inter\",AND('Choix de l''instrument '!$D$3>=Diamètre_inter!G576,G576<>\"\"),\"\")","v":""}]
[null,null,"DIM-0004","Micromètre d'intérieur à 3 touches","10 / 12 mm",null,null,"Afficher",null,null,null,null,null,{"$f":"IF('Choix de l''instrument '!$C$3=\"Diamètre_inter\",AND('Choix de l''instrument '!$D$3>=Diamètre_inter!G577,G577<>\"\"),\"\")","v":""}]
[null,null,"CE.205","Micromètre d'intérieur à vis","0 / 25 mm",null,null,"Afficher",null,null,null,null,null,{"$f":"IF('Choix de l''instrument '!$C$3=\"Diamètre_inter\",AND('Choix de l''instrument '!$D$3>=Diamètre_inter!G578,G578<>\"\"),\"\")","v":""}]
[null,null,"JDPE-001","Jeu de piges étalons","0,346 mm à 0,738 mm",null,null,"Afficher",null,null,null,null,null,{"$f":"IF('Choix de l''instrument '!$C$3=\"Diamètre_inter\",AND('Choix de l''instrument '!$D$3>=Diamètre_inter!G579,G579<>\"\"),\"\")","v":""}]
[null,null,"JDPE-003","Jeu de piges étalons","6 mm à 40 mm",null,null,"Afficher",null,null,null,null,null,{"$f":"IF('Choix de l''instrument '!$C$3=\"Diamètre_inter\",AND('Choix de l''instrument '!$D$3>=Diamètre_inter!G580,G580<>\"\"),\"\")","v":""}]
[null,null,"JDPE-002 /1","Jeu de piges étalons","0,50 mm à 30 mm",null,null,"Afficher",null,null,null,null,null,{"$f":"IF('Choix de l''instrument '!$C$3=\"Diamètre_inter\",AND('Choix de l''instrument '!$D$3>=Diamètre_inter!G581,G581<>\"\"),\"\")","v":""}]
[null,null,"JDPE-002","Jeu de piges étalons","0,50 mm à 30 mm",null,null,"Afficher",null,null,null,null,null,{"$f":"IF('Choix de l''instrument '!$C$3=\"Diamètre_inter\",AND('Choix de l''instrument '!$D$3>=Diamètre_inter!G582,G582<>\"\"),\"\")","v":""}]
[null,null,"JDPE-004","Jeu de piges étalons","2 mm à 6 mm",null,null,"Afficher",null,null,null,null,null,{"$f":"IF('Choix de l''instrument '!$C$3=\"Diamètre_inter\",AND('Choix de l''instrument '!$D$3>=Diamètre_inter!G583,G583<>\"\"),\"\")","v":""}]
[null,null,"JDPE-005","Jeu de piges étalons","2 mm à 6 mm",null,null,"Afficher",null,null,null,null,null,{"$f":"IF('Choix de l''instrument '!$C$3=\"Diamètre_inter\",AND('Choix de l''instrument '!$D$3>=Diamètre_inter!G584,G584<>\"\"),\"\")","v":""}]
[null,null,"TR.047","Jeu de tampons","1,00 mm à 1,99 mm",null,null,"Afficher",null,null,null,null,null,{"$f":"IF('Choix de l''instrument '!$C$3=\"Diamètre_inter\",AND('Choix de l''instrument '!$D$3>=Diamètre_inter!G585,G585<>\"\"),\"\")","v":""}]
[null,null,"TR.046","Jeu de tampons","0,10 mm à 0,99 mm",null,null,"Afficher",null,null,null,null,null,{"$f":"IF('Choix de l''instrument '!$C$3=\"Diamètre_inter\",AND('Choix de l''instrument '!$D$3>=Diamètre_inter!G586,G586<>\"\"),\"\")","v":""}]
[null,null,"CAL-0444","Jeu de tampons","0.11-->0.250 0 / 0",null,null,"Afficher",null,null,null,null,null,{"$f":"IF('Choix de l''instrument '!$C$3=\"Diamètre_inter\",AND('Choix de l''instrument '!$D$3>=Diamètre_inter!G587,G587<>\"\"),\"\")","v":""}]
[null,null,"CAL-0443","Jeu de tampons","TLE 0.1-->1,90 0 / 0,01",null,null,"Afficher",null,null,null,null,null,{"$f":"IF('Choix de l''instrument '!$C$3=\"Diamètre_inter\",AND('Choix de l''instrument '!$D$3>=Diamètre_inter!G588,G588<>\"\"),\"\")","v":""}]
[null,null,"ED.271","Jeu de tampons","0,165 mm à 0,270 mm",null,null,"Afficher",null,null,null,null,null,{"$f":"IF('Choix de l''instrument '!$C$3=\"Diamètre_inter\",AND('Choix de l''instrument '!$D$3>=Diamètre_inter!G589,G589<>\"\"),\"\")","v":""}]
[null,null,"ED.268","Jeu de tampons","0,165 mm à 0,269 mm",null,null,"Afficher",null,null,null,null,null,{"$f":"IF('Choix de l''instrument '!$C$3=\"Diamètre_inter\",AND('Choix de l''instrument '!$D$3>=Diamètre_inter!G590,G590<>\"\"),\"\")","v":""}]
[null,null,"ED.216","Jeu de tampons","19,07 mm à 10,51 mm",null,null,"Afficher",null,null,null,null,null,{"$f":"IF('Choix de l''instrument '!$C$3=\"Diamètre_inter\",AND('Choix de l''instrument '!$D$3>=Diamètre_inter!G591,G591<>\"\"),\"\")","v":""}]
[null,null,"ED.212","Jeu de tampons","10,47 mm à 19,05 mm",null,null,"Afficher",null,null,null,null,null,{"$f":"IF('Choix de l''instrument '!$C$3=\"Diamètre_inter\",AND('Choix de l''instrument '!$D$3>=Diamètre_inter!G592,G592<>\"\"),\"\")","v":""}]
[null,null,"EN.105","Jeu de tampons","1,00 mm à 1,99 mm",null,null,"Afficher",null,null,null,null,null,{"$f":"IF('Choix de l''instrument '!$C$3=\"Diamètre_inter\",AND('Choix de l''instrument '!$D$3>=Diamètre_inter!G593,G593<>\"\"),\"\")","v":""}]
[null,null,"EN.107","Jeu de tampons","3,00 mm à 3,99 mm",null,null,"Afficher",null,null,null,null,null,{"$f":"IF('Choix de l''instrument '!$C$3=\"Diamètre_inter\",AND('Choix de l''instrument '!$D$3>=Diamètre_inter!G594,G594<>\"\"),\"\")","v":""}]
[null,null,"EN.106","Jeu de tampons","2,00 mm à 2,99 mm",null,null,"Afficher",null,null,null,null,null,{"$f":"IF('Choix de l''instrument '!$C$3=\"Diamètre_inter\",AND('Choix de l''instrument '!$D$3>=Diamètre_inter!G595,G595<>\"\"),\"\")","v":""}]
[null,null,"EN.008","Jeu de tampons",null,null,null,"Afficher",null,null,null,null,null,{"$f":"IF('Choix de l''instrument '!$C$3=\"Diamètre_inter\",AND('Choix de l''instrument '!$D$3>=Diamètre_inter!G596,G596<>\"\"),\"\")","v":""}]
[null,null,"ED.116","Jeu de tampons","9,00 mm à 9,99 mm",null,null,"Afficher",null,null,null,null,null,{"$f":"IF('Choix de l''instrument '!$C$3=\"Diamètre_inter\",AND('Choix de l''instrument '!$D$3>=Diamètre_inter!G597,G597<>\"\"),\"\")","v":""}]
[null,null,"ED.115","Jeu de tampons","8,00 mm à 8,99 mm",null,null,"Afficher",null,null,null,null,null,{"$f":"IF('Choix de l''instrument '!$C$3=\"Diamètre_inter\",AND('Choix de l''instrument '!$D$3>=Diamètre_inter!G598,G598<>\"\"),\"\")","v":""}]
[null,null,"ED.114","Jeu de tampons","7,00 mm à 7,99 mm",null,null,"Afficher",null,null,null,null,null,{"$f":"IF('Choix de l''instrument '!$C$3=\"Diamètre_inter\",AND('Choix de l''instrument '!$D$3>=Diamètre_inter!G599,G599<>\"\"),\"\")","v":""}]
[null,null,"ED.094","Jeu de tampons",null,null,null,"Afficher",null,null,null,null,null,{"$f":"IF('Choix de l''instrument '!$C$3=\"Diamètre_inter\",AND('Choix de l''instrument '!$D$3>=Diamètre_inter!G600,G600<>\"\"),\"\")","v":""}]
[null,null,"ED.143","Jeu de tampons","1,00 mm à 0,60 mm",null,null,"Afficher",null,null,null,null,null,{"$f":"IF('Choix de l''instrument '!$C$3=\"Diamètre_inter\",AND('Choix de l''instrument '!$D$3>=Diamètre_inter!G601,G601<>\"\"),\"\")","v":""}]
[null,null,"EC.127","Jeu de tampons","7,35 mm à 7,65 mm",null,null,"Afficher",null,null,null,null,null,{"$f":"IF('Choix de l''instrument '!$C$3=\"Diamètre_inter\",AND('Choix de l''instrument '!$D$3>=Diamètre_inter!G602,G602<>\"\"),\"\")","v":""}]
[null,null,"EN.181A","Jeu de tampons","0,10 mm à 0,70 mm",null,null,"Afficher",null,null,null,null,null,{"$f":"IF('Choix de l''instrument '!$C$3=\"Diamètre_inter\",AND('Choix de l''instrument '!$D$3>=Diamètre_inter!G603,G603<>\"\"),\"\")","v":""}]
[null,null,"EN.180","Jeu de tampons","4,81 mm à 6,95 mm",null,null,"Afficher",null,null,null,null,null,{"$f":"IF('Choix de l''instrument '!$C$3=\"Diamètre_inter\",AND('Choix de l''instrument '!$D$3>=Diamètre_inter!G604,G604<>\"\"),\"\")","v":""}]
[null,null,"EN.179","Jeu de tampons","8,24 mm à 8,35 mm",null,null,"Afficher",null,null,null,null,null,{"$f":"IF('Choix de l''instrument '!$C$3=\"Diamètre_inter\",AND('Choix de l''instrument '!$D$3>=Diamètre_inter!G605,G605<>\"\"),\"\")","v":""}]
[null,null,"EN.154","Jeu de tampons","4,12 mm à 4,29 mm",null,null,"Afficher",null,null,null,null,null,{"$f":"IF('Choix de l''instrument '!$C$3=\"Diamètre_inter\",AND('Choix de l''instrument '!$D$3>=Diamètre_inter!G606,G606<>\"\"),\"\")","v":""}]
[null,null,"M.055","Jeu de tampons lisses étalons","3,01 mm à 4,00 mm",null,null,"Afficher",null,null,null,null,null,{"$f":"IF('Choix de l''instrument '!$C$3=\"Diamètre_inter\",AND('Choix de l''instrument '!$D$3>=Diamètre_inter!G607,G607<>\"\"),\"\")","v":""}]
[null,null,"M.054","Jeu de tampons lisses étalons","2,01 mm à 3,00 mm",null,null,"Afficher",null,null,null,null,null,{"$f":"IF('Choix de l''instrument '!$C$3=\"Diamètre_inter\",AND('Choix de l''instrument '!$D$3>=Diamètre_inter!G608,G608<>\"\"),\"\")","v":""}]
[null,null,"M.053","Jeu de tampons lisses étalons","1,01 mm à 2,00 mm",null,null,"Afficher",null,null,null,null,null,{"$f":"IF('Choix de l''instrument '!$C$3=\"Diamètre_inter\",AND('Choix de l''instrument '!$D$3>=Diamètre_inter!G609,G609<>\"\"),\"\")","v":""}]
[null,null,"M.057","Jeu de tampons lisses étalons","5,01 mm à 6,00 mm",null,null,"Afficher",null,null,null,null,null,{"$f":"IF('Choix de l''instrument '!$C$3=\"Diamètre_inter\",AND('Choix de l''instrument '!$D$3>=Diamètre_inter!G610,G610<>\"\"),\"\")","v":""}]
[null,null,"M.056","Jeu de tampons lisses étalons","4,01 mm à 5,00 mm",null,null,"Afficher",null,null,null,null,null,{"$f":"IF('Choix de l''instrument '!$C$3=\"Diamètre_inter\",AND('Choix de l''instrument '!$D$3>=Diamètre_inter!G611,G611<>\"\"),\"\")","v":""}]
[null,null,"M.052","Jeu de tampons lisses étalons","0,50 mm à 1,00 mm",null,null,"Afficher",null,null,null,null,null,{"$f":"IF('Choix de l''instrument '!$C$3=\"Diamètre_inter\",AND('Choix de l''instrument '!$D$3>=Diamètre_inter!G612,G612<>\"\"),\"\")","v":""}]
[null,null,"JDTLE-008","Jeu de tampons lisses étalons","0,160 mm à 0,180 mm",null,null,"Afficher",null,null,null,null,null,{"$f":"IF('Choix de l''instrument '!$C$3=\"Diamètre_inter\",AND('Choix de l''instrument '!$D$3>=Diamètre_inter!G613,G613<>\"\"),\"\")","v":""}]
[null,null,"JDTLE-007","Jeu de tampons lisses étalons","0,188 à 0,248",null,null,"Afficher",null,null,null,null,null,{"$f":"IF('Choix de l''instrument '!$C$3=\"Diamètre_inter\",AND('Choix de l''instrument '!$D$3>=Diamètre_inter!G614,G614<>\"\"),\"\")","v":""}]
[null,null,"JDTLE-006","Jeu de tampons lisses étalons","0,188 à 0,248",null,null,"Afficher",null,null,null,null,null,{"$f":"IF('Choix de l''instrument '!$C$3=\"Diamètre_inter\",AND('Choix de l''instrument '!$D$3>=Diamètre_inter!G615,G615<>\"\"),\"\")","v":""}]
[null,null,"JDTLE-002","Jeu de tampons lisses étalons","1,030 mm à 1,050 mm",null,null,"Afficher",null,null,null,null,null,{"$f":"IF('Choix de l''instrument '!$C$3=\"Diamètre_inter\",AND('Choix de l''instrument '!$D$3>=Diamètre_inter!G616,G616<>\"\"),\"\")","v":""}]
[null,null,"JDTLE-001","Jeu de tampons lisses étalons","0,50 mm à 0,99 mm",null,null,"Afficher",null,null,null,null,null,{"$f":"IF('Choix de l''instrument '!$C$3=\"Diamètre_inter\",AND('Choix de l''instrument '!$D$3>=Diamètre_inter!G617,G617<>\"\"),\"\")","v":""}]
[null,null,"JDTLE-005","Jeu de tampons lisses étalons","4,00 mm à 6,09 mm",null,null,"Afficher",null,null,null,null,null,{"$f":"IF('Choix de l''instrument '!$C$3=\"Diamètre_inter\",AND('Choix de l''instrument '!$D$3>=Diamètre_inter!G618,G618<>\"\"),\"\")","v":""}]
[null,null,"JDTLE-004","Jeu de tampons lisses étalons","0,50 mm à 3,99 mm",null,null,"Afficher",null,null,null,null,null,{"$f":"IF('Choix de l''instrument '!$C$3=\"Diamètre_inter\",AND('Choix de l''instrument '!$D$3>=Diamètre_inter!G619,G619<>\"\"),\"\")","v":""}]
[null,null,"JDTLE-003","Jeu de tampons lisses étalons","30 mm à 30 mm",null,null,"Afficher",null,null,null,null,null,{"$f":"IF('Choix de l''instrument '!$C$3=\"Diamètre_inter\",AND('Choix de l''instrument '!$D$3>=Diamètre_inter!G620,G620<>\"\"),\"\")","v":""}]
[null,null,"ETA-0462","Jeu de tampons lisses étalons","1,50mm à2,30mm",null,null,"Afficher",null,null,null,null,null,{"$f":"IF('Choix de l''instrument '!$C$3=\"Diamètre_inter\",AND('Choix de l''instrument '!$D$3>=Diamètre_inter!G621,G621<>\"\"),\"\")","v":""}]
[null,null,"ETA-0461","Jeu de tampons lisses étalons","0,7mm à1,49mm",null,null,"Afficher",null,null,null,null,null,{"$f":"IF('Choix de l''instrument '!$C$3=\"Diamètre_inter\",AND('Choix de l''instrument '!$D$3>=Diamètre_inter!G622,G622<>\"\"),\"\")","v":""}]
[null,null,"THE.068","Jeu de tampons lisses étalons","0,10 mm à 0,49 mm",null,null,"Afficher",null,null,null,null,null,{"$f":"IF('Choix de l''instrument '!$C$3=\"Diamètre_inter\",AND('Choix de l''instrument '!$D$3>=Diamètre_inter!G623,G623<>\"\"),\"\")","v":""}]
[null,null,"THE.071","Jeu de tampons lisses étalons","1,00 mm à 1,99 mm",null,null,"Afficher",null,null,null,null,null,{"$f":"IF('Choix de l''instrument '!$C$3=\"Diamètre_inter\",AND('Choix de l''instrument '!$D$3>=Diamètre_inter!G624,G624<>\"\"),\"\")","v":""}]
[null,null,"THE.070","Jeu de tampons lisses étalons","0,50 mm à 0,99 mm",null,null,"Afficher",null,null,null,null,null,{"$f":"IF('Choix de l''instrument '!$C$3=\"Diamètre_inter\",AND('Choix de l''instrument '!$D$3>=Diamètre_inter!G625,G625<>\"\"),\"\")","v":""}]
[null,null,"THE.069","Jeu de tampons lisses étalons","2,00 mm à 2,99 mm",null,null,"Afficher",null,null,null,null,null,{"$f":"IF('Choix de l''instrument '!$C$3=\"Diamètre_inter\",AND('Choix de l''instrument '!$D$3>=Diamètre_inter!G626,G626<>\"\"),\"\")","v":""}]
[null,null,"TC.054","Jeu de tampons lisses étalons","2,00 mm à 2,99 mm",null,null,"Afficher",null,null,null,null,null,{"$f":"IF('Choix de l''instrument '!$C$3=\"Diamètre_inter\",AND('Choix de l''instrument '!$D$3>=Diamètre_inter!G627,G627<>\"\"),\"\")","v":""}]
[null,null,"TC.053","Jeu de tampons lisses étalons","1,00 mm à 1,99 mm",null,null,"Afficher",null,null,null,null,null,{"$f":"IF('Choix de l''instrument '!$C$3=\"Diamètre_inter\",AND('Choix de l''instrument '!$D$3>=Diamètre_inter!G628,G628<>\"\"),\"\")","v":""}]
[null,null,"TC.052A","Jeu de tampons lisses étalons","0,50 mm à 0,99 mm",null,null,"Afficher",null,null,null,null,null,{"$f":"IF('Choix de l''instrument '!$C$3=\"Diamètre_inter\",AND('Choix de l''instrument '!$D$3>=Diamètre_inter!G629,G629<>\"\"),\"\")","v":""}]
[null,null,"TC.057","Jeu de tampons lisses étalons","2,00 mm à 2,99 mm",null,null,"Afficher",null,null,null,null,null,{"$f":"IF('Choix de l''instrument '!$C$3=\"Diamètre_inter\",AND('Choix de l''instrument '!$D$3>=Diamètre_inter!G630,G630<>\"\"),\"\")","v":""}]
[null,null,"TC.056","Jeu de tampons lisses étalons","1,00 mm à 1,99 mm",null,null,"Afficher",null,null,null,null,null,{"$f":"IF('Choix de l''instrument '!$C$3=\"Diamètre_inter\",AND('Choix de l''instrument '!$D$3>=Diamètre_inter!G631,G631<>\"\"),\"\")","v":""}]
[null,null,"TC.055","Jeu de tampons lisses étalons","0,10 mm à 0,99 mm",null,null,"Afficher",null,null,null,null,null,{"$f":"IF('Choix de l''instrument '!$C$3=\"Diamètre_inter\",AND('Choix de l''instrument '!$D$3>=Diamètre_inter!G632,G632<>\"\"),\"\")","v":""}]
[null,null,"TC.052","Jeu de tampons lisses étalons","0,10 mm à 0,49 mm",null,null,"Afficher",null,null,null,null,null,{"$f":"IF('Choix de l''instrument '!$C$3=\"Diamètre_inter\",AND('Choix de l''instrument '!$D$3>=Diamètre_inter!G633,G633<>\"\"),\"\")","v":""}]
[null,null,"TC.051","Jeu de tampons lisses étalons","4,00 mm à 4,99 mm",null,null,"Afficher",null,null,null,null,null,{"$f":"IF('Choix de l''instrument '!$C$3=\"Diamètre_inter\",AND('Choix de l''instrument '!$D$3>=Diamètre_inter!G634,G634<>\"\"),\"\")","v":""}]
[null,null,"TC.050","Jeu de tampons lisses étalons","3,00 mm à 3,99 mm",null,null,"Afficher",null,null,null,null,null,{"$f":"IF('Choix de l''instrument '!$C$3=\"Diamètre_inter\",AND('Choix de l''instrument '!$D$3>=Diamètre_inter!G635,G635<>\"\"),\"\")","v":""}]
[null,null,"CAT.017","Jeu de tampons lisses étalons","3,00 mm à 3,99 mm",null,null,"Afficher",null,null,null,null,null,{"$f":"IF('Choix de l''instrument '!$C$3=\"Diamètre_inter\",AND('Choix de l''instrument '!$D$3>=Diamètre_inter!G636,G636<>\"\"),\"\")","v":""}]
[null,null,"CAT.019","Jeu de tampons lisses étalons","0,10 mm à 0,49 mm",null,null,"Afficher",null,null,null,null,null,{"$f":"IF('Choix de l''instrument '!$C$3=\"Diamètre_inter\",AND('Choix de l''instrument '!$D$3>=Diamètre_inter!G637,G637<>\"\"),\"\")","v":""}]
[null,null,"CAT.060","Jeu de tampons lisses étalons","3,00 mm à 3,99 mm",null,null,"Afficher",null,null,null,null,null,{"$f":"IF('Choix de l''instrument '!$C$3=\"Diamètre_inter\",AND('Choix de l''instrument '!$D$3>=Diamètre_inter!G638,G638<>\"\"),\"\")","v":""}]
[null,null,"CAT.059","Jeu de tampons lisses étalons","1,10 mm à 2,09 mm",null,null,"Afficher",null,null,null,null,null,{"$f":"IF('Choix de l''instrument '!$C$3=\"Diamètre_inter\",AND('Choix de l''instrument '!$D$3>=Diamètre_inter!G639,G639<>\"\"),\"\")","v":""}]
[null,null,"CAT.058","Jeu de tampons lisses étalons","0,10 mm à 1,09 mm",null,null,"Afficher",null,null,null,null,null,{"$f":"IF('Choix de l''instrument '!$C$3=\"Diamètre_inter\",AND('Choix de l''instrument '!$D$3>=Diamètre_inter!G640,G640<>\"\"),\"\")","v":""}]
[null,null,"CAT.021","Jeu de tampons lisses étalons","2,00 mm à 2,99 mm",null,null,"Afficher",null,null,null,null,null,{"$f":"IF('Choix de l''instrument '!$C$3=\"Diamètre_inter\",AND('Choix de l''instrument '!$D$3>=Diamètre_inter!G641,G641<>\"\"),\"\")","v":""}]
[null,null,"CAT.020","Jeu de tampons lisses étalons","1,00 mm à 1,99 mm",null,null,"Afficher",null,null,null,null,null,{"$f":"IF('Choix de l''instrument '!$C$3=\"Diamètre_inter\",AND('Choix de l''instrument '!$D$3>=Diamètre_inter!G642,G642<>\"\"),\"\")","v":""}]
[null,null,"CAT.034","Jeu de tampons lisses étalons","2,00 mm à 2,99 mm",null,null,"Afficher",null,null,null,null,null,{"$f":"IF('Choix de l''instrument '!$C$3=\"Diamètre_inter\",AND('Choix de l''instrument '!$D$3>=Diamètre_inter!G643,G643<>\"\"),\"\")","v":""}]
[null,null,"CF.079","Jeu de tampons lisses étalons","4,00 MM à 4,99 MM",null,null,"Afficher",null,null,null,null,null,{"$f":"IF('Choix de l''instrument '!$C$3=\"Diamètre_inter\",AND('Choix de l''instrument '!$D$3>=Diamètre_inter!G644,G644<>\"\"),\"\")","v":""}]
[null,null,"CF.078","Jeu de tampons lisses étalons","3,00 mm à 3,99 mm",null,null,"Afficher",null,null,null,null,null,{"$f":"IF('Choix de l''instrument '!$C$3=\"Diamètre_inter\",AND('Choix de l''instrument '!$D$3>=Diamètre_inter!G645,G645<>\"\"),\"\")","v":""}]
[null,null,"CF.077","Jeu de tampons lisses étalons","2,00 mm à 2,99 mm",null,null,"Afficher",null,null,null,null,null,{"$f":"IF('Choix de l''instrument '!$C$3=\"Diamètre_inter\",AND('Choix de l''instrument '!$D$3>=Diamètre_inter!G646,G646<>\"\"),\"\")","v":""}]
[null,null,"CF.080","Jeu de tampons lisses étalons","5,00 mm à 5,99 mm",null,null,"Afficher",null,null,null,null,null,{"$f":"IF('Choix de l''instrument '!$C$3=\"Diamètre_inter\",AND('Choix de l''instrument '!$D$3>=Diamètre_inter!G647,G647<>\"\"),\"\")","v":""}]
[null,null,"CF.076","Jeu de tampons lisses étalons","1,00 mm à 1,99 mm",null,null,"Afficher",null,null,null,null,null,{"$f":"IF('Choix de l''instrument '!$C$3=\"Diamètre_inter\",AND('Choix de l''instrument '!$D$3>=Diamètre_inter!G648,G648<>\"\"),\"\")","v":""}]
[null,null,"CF.075","Jeu de tampons lisses étalons","0,10 mm à 0,99 mm",null,null,"Afficher",null,null,null,null,null,{"$f":"IF('Choix de l''instrument '!$C$3=\"Diamètre_inter\",AND('Choix de l''instrument '!$D$3>=Diamètre_inter!G649,G649<>\"\"),\"\")","v":""}]
[null,null,"CE.030","Jeu de tampons lisses étalons","4,00 mm à 4,99 mm",null,null,"Afficher",null,null,null,null,null,{"$f":"IF('Choix de l''instrument '!$C$3=\"Diamètre_inter\",AND('Choix de l''instrument '!$D$3>=Diamètre_inter!G650,G650<>\"\"),\"\")","v":""}]
[null,null,"CE.029","Jeu de tampons lisses étalons","3,00 mm à 3,99 mm",null,null,"Afficher",null,null,null,null,null,{"$f":"IF('Choix de l''instrument '!$C$3=\"Diamètre_inter\",AND('Choix de l''instrument '!$D$3>=Diamètre_inter!G651,G651<>\"\"),\"\")","v":""}]
[null,null,"CE.028","Jeu de tampons lisses étalons","2,00 mm à 2,99 mm",null,null,"Afficher",null,null,null,null,null,{"$f":"IF('Choix de l''instrument '!$C$3=\"Diamètre_inter\",AND('Choix de l''instrument '!$D$3>=Diamètre_inter!G652,G652<>\"\"),\"\")","v":""}]
[null,null,"CE.031","Jeu de tampons lisses étalons","5,00 mm à 5,99 mm",null,null,"Afficher",null,null,null,null,null,{"$f":"IF('Choix de l''instrument '!$C$3=\"Diamètre_inter\",AND('Choix de l''instrument '!$D$3>=Diamètre_inter!G653,G653<>\"\"),\"\")","v":""}]
[null,null,"CE.027","Jeu de tampons lisses étalons","1,00 mm à 1,99 mm",null,null,"Afficher",null,null,null,null,null,{"$f":"IF('Choix de l''instrument '!$C$3=\"Diamètre_inter\",AND('Choix de l''instrument '!$D$3>=Diamètre_inter!G654,G654<>\"\"),\"\")","v":""}]
[null,null,"CE.016","Jeu de tampons lisses étalons","7,00 mm à 7,99 mm",null,null,"Afficher",null,null,null,null,null,{"$f":"IF('Choix de l''instrument '!$C$3=\"Diamètre_inter\",AND('Choix de l''instrument '!$D$3>=Diamètre_inter!G655,G655<>\"\"),\"\")","v":""}]
[null,null,"CE.015","Jeu de tampons lisses étalons","6,00 mm à 6,99 mm",null,null,"Afficher",null,null,null,null,null,{"$f":"IF('Choix de l''instrument '!$C$3=\"Diamètre_inter\",AND('Choix de l''instrument '!$D$3>=Diamètre_inter!G656,G656<>\"\"),\"\")","v":""}]
[null,null,"CE.026","Jeu de tampons lisses étalons","0,10 mm à 0,99 mm",null,null,"Afficher",null,null,null,null,null,{"$f":"IF('Choix de l''instrument '!$C$3=\"Diamètre_inter\",AND('Choix de l''instrument '!$D$3>=Diamètre_inter!G657,G657<>\"\"),\"\")","v":""}]
[null,null,"CE.144","Jeu de tampons lisses étalons","0,10 mm à 0,99 mm",null,null,"Afficher",null,null,null,null,null,{"$f":"IF('Choix de l''instrument '!$C$3=\"Diamètre_inter\",AND('Choix de l''instrument '!$D$3>=Diamètre_inter!G658,G658<>\"\"),\"\")","v":""}]
[null,null,"CE.147","Jeu de tampons lisses étalons","3,00 mm à 3,99 mm",null,null,"Afficher",null,null,null,null,null,{"$f":"IF('Choix de l''instrument '!$C$3=\"Diamètre_inter\",AND('Choix de l''instrument '!$D$3>=Diamètre_inter!G659,G659<>\"\"),\"\")","v":""}]
[null,null,"CE.146","Jeu de tampons lisses étalons","2,00 mm à 2,99 mm",null,null,"Afficher",null,null,null,null,null,{"$f":"IF('Choix de l''instrument '!$C$3=\"Diamètre_inter\",AND('Choix de l''instrument '!$D$3>=Diamètre_inter!G660,G660<>\"\"),\"\")","v":""}]
[null,null,"CE.145","Jeu de tampons lisses étalons","1,00 mm à 1,99 mm",null,null,"Afficher",null,null,null,null,null,{"$f":"IF('Choix de l''instrument '!$C$3=\"Diamètre_inter\",AND('Choix de l''instrument '!$D$3>=Diamètre_inter!G661,G661<>\"\"),\"\")","v":""}]
[null,null,"CE.049","Jeu de tampons lisses étalons","8,00 mm à 8,99 mm",null,null,"Afficher",null,null,null,null,null,{"$f":"IF('Choix de l''instrument '!$C$3=\"Diamètre_inter\",AND('Choix de l''instrument '!$D$3>=Diamètre_inter!G662,G662<>\"\"),\"\")","v":""}]
[null,null,"CE.148","Jeu de tampons lisses étalons","4,00 mm à 4,99 mm",null,null,"Afficher",null,null,null,null,null,{"$f":"IF('Choix de l''instrument '!$C$3=\"Diamètre_inter\",AND('Choix de l''instrument '!$D$3>=Diamètre_inter!G663,G663<>\"\"),\"\")","v":""}]
[null,null,"CE.150","Jeu de tampons lisses étalons","6,00 mm à 6,99 mm",null,null,"Afficher",null,null,null,null,null,{"$f":"IF('Choix de l''instrument '!$C$3=\"Diamètre_inter\",AND('Choix de l''instrument '!$D$3>=Diamètre_inter!G664,G664<>\"\"),\"\")","v":""}]
[null,null,"CE.149","Jeu de tampons lisses étalons","5,00 mm à 5,99 mm",null,null,"Afficher",null,null,null,null,null,{"$f":"IF('Choix de l''instrument '!$C$3=\"Diamètre_inter\",AND('Choix de l''instrument '!$D$3>=Diamètre_inter!G665,G665<>\"\"),\"\")","v":""}]
[null,null,"ED.069","Jeu de tampons lisses étalons","0,0115 mm à 0,0605 mm",null,null,"Afficher",null,null,null,null,null,{"$f":"IF('Choix de l''instrument '!$C$3=\"Diamètre_inter\",AND('Choix de l''instrument '!$D$3>=Diamètre_inter!G666,G666<>\"\"),\"\")","v":""}]
[null,null,"CF.427","Jeu de tampons lisses étalons","6,00 mm à 6,99 mm",null,null,"Afficher",null,null,null,null,null,{"$f":"IF('Choix de l''instrument '!$C$3=\"Diamètre_inter\",AND('Choix de l''instrument '!$D$3>=Diamètre_inter!G667,G667<>\"\"),\"\")","v":""}]
[null,null,"CF.430","Jeu de tampons lisses étalons","9,00 mm à 9,99 mm",null,null,"Afficher",null,null,null,null,null,{"$f":"IF('Choix de l''instrument '!$C$3=\"Diamètre_inter\",AND('Choix de l''instrument '!$D$3>=Diamètre_inter!G668,G668<>\"\"),\"\")","v":""}]
[null,null,"CF.429","Jeu de tampons lisses étalons","8,00 mm à 8,99 mm",null,null,"Afficher",null,null,null,null,null,{"$f":"IF('Choix de l''instrument '!$C$3=\"Diamètre_inter\",AND('Choix de l''instrument '!$D$3>=Diamètre_inter!G669,G669<>\"\"),\"\")","v":""}]
[null,null,"CF.428","Jeu de tampons lisses étalons","7,00 mm à 7,99 mm",null,null,"Afficher",null,null,null,null,null,{"$f":"IF('Choix de l''instrument '!$C$3=\"Diamètre_inter\",AND('Choix de l''instrument '!$D$3>=Diamètre_inter!G670,G670<>\"\"),\"\")","v":""}]
[null,null,"CP.002","Jeu de tampons lisses étalons","2,00 mm à 2,99 mm",null,null,"Afficher",null,null,null,null,null,{"$f":"IF('Choix de l''instrument '!$C$3=\"Diamètre_inter\",AND('Choix de l''instrument '!$D$3>=Diamètre_inter!G671,G671<>\"\"),\"\")","v":""}]
[null,null,"CP.001","Jeu de tampons lisses étalons","0,10 mm à 0,99 mm",null,null,"Afficher",null,null,null,null,null,{"$f":"IF('Choix de l''instrument '!$C$3=\"Diamètre_inter\",AND('Choix de l''instrument '!$D$3>=Diamètre_inter!G672,G672<>\"\"),\"\")","v":""}]
[null,null,"CP.004","Jeu de tampons lisses étalons","3,00 mm à 3,99 mm",null,null,"Afficher",null,null,null,null,null,{"$f":"IF('Choix de l''instrument '!$C$3=\"Diamètre_inter\",AND('Choix de l''instrument '!$D$3>=Diamètre_inter!G673,G673<>\"\"),\"\")","v":""}]
[null,null,"CP.003","Jeu de tampons lisses étalons","1,00 mm à 1,99 mm",null,null,"Afficher",null,null,null,null,null,{"$f":"IF('Choix de l''instrument '!$C$3=\"Diamètre_inter\",AND('Choix de l''instrument '!$D$3>=Diamètre_inter!G674,G674<>\"\"),\"\")","v":""}]
[null,null,"DIM-0040","Alésomètre","6-8 mm",null,null,"Afficher",null,null,null,null,null,{"$f":"IF('Choix de l''instrument '!$C$3=\"Diamètre_inter\",AND('Choix de l''instrument '!$D$3>=Diamètre_inter!G675,G675<>\"\"),\"\")","v":""}]
[null,null,"MES-002","Mesureur pneumatique","6 / 8 mm",null,null,"Afficher",null,null,null,null,null,{"$f":"IF('Choix de l''instrument '!$C$3=\"Diamètre_inter\",AND('Choix de l''instrument '!$D$3>=Diamètre_inter!G676,G676<>\"\"),\"\")","v":""}]
[null,null,"MES-001","Mesureur pneumatique","6 / 8 mm",null,null,"Afficher",null,null,null,null,null,{"$f":"IF('Choix de l''instrument '!$C$3=\"Diamètre_inter\",AND('Choix de l''instrument '!$D$3>=Diamètre_inter!G677,G677<>\"\"),\"\")","v":""}]
[null,null,"MES-003","Mesureur pneumatique","6 / 8 mm",null,null,"Afficher",null,null,null,null,null,{"$f":"IF('Choix de l''instrument '!$C$3=\"Diamètre_inter\",AND('Choix de l''instrument '!$D$3>=Diamètre_inter!G678,G678<>\"\"),\"\")","v":""}]
[null,null,"DIM-0144","Mesureur pneumatique","6 / 8 mm",null,null,"Afficher",null,null,null,null,null,{"$f":"IF('Choix de l''instrument '!$C$3=\"Diamètre_inter\",AND('Choix de l''instrument '!$D$3>=Diamètre_inter!G679,G679<>\"\"),\"\")","v":""}]
[null,null,"DIM-0143","Mesureur pneumatique","6 / 8 mm",null,null,"Afficher",null,null,null,null,null,{"$f":"IF('Choix de l''instrument '!$C$3=\"Diamètre_inter\",AND('Choix de l''instrument '!$D$3>=Diamètre_inter!G680,G680<>\"\"),\"\")","v":""}]
[null,null,"ED.092","Mesureur pneumatique",null,null,null,"Afficher",null,null,null,null,null,{"$f":"IF('Choix de l''instrument '!$C$3=\"Diamètre_inter\",AND('Choix de l''instrument '!$D$3>=Diamètre_inter!G681,G681<>\"\"),\"\")","v":""}]

{"sheet":"Dureté","index":13,"n_rows":7,"n_cols":14,"rows_kept":7,"cut":false,"hidden":false,"merged":[]}
["Dureté"]
[null,null,null,null,null,null,"résolution g",null,null,null,null,null,null,"Résultat critère IT"]
["DUR-0001","Durometre","Hv - Hrc",null,null,"Afficher",0.01,null,null,null,null,null,null,{"$f":"IF('Choix de l''instrument '!$C$3=\"Dureté\",AND('Choix de l''instrument '!$D$3>=Dureté!G3,G3<>\"\"),\"\")","v":""}]
["DUR-0002","Duromètre","Shore 0 / 100 ShA",null,null,"Afficher",0.01,null,null,null,null,null,null,{"$f":"IF('Choix de l''instrument '!$C$3=\"Dureté\",AND('Choix de l''instrument '!$D$3>=Dureté!G4,G4<>\"\"),\"\")","v":""}]
["CF.468","Machine de dureté","100 / 750 HV",null,null,"Afficher",null,null,null,null,null,null,null,{"$f":"IF('Choix de l''instrument '!$C$3=\"Dureté\",AND('Choix de l''instrument '!$D$3>=Dureté!G5,G5<>\"\"),\"\")","v":""}]
["M.170","Testeur de dureté 'ROCKWELL'",null,null,null,"Afficher",null,null,null,null,null,null,null,{"$f":"IF('Choix de l''instrument '!$C$3=\"Dureté\",AND('Choix de l''instrument '!$D$3>=Dureté!G6,G6<>\"\"),\"\")","v":""}]
["ED.272","Testeur de dureté 'SHORE A'","1990-10-01",null,null,"Afficher",null,null,null,null,null,null,null,{"$f":"IF('Choix de l''instrument '!$C$3=\"Dureté\",AND('Choix de l''instrument '!$D$3>=Dureté!G7,G7<>\"\"),\"\")","v":""}]

{"sheet":"Epaisseur","index":14,"n_rows":162,"n_cols":14,"rows_kept":162,"cut":false,"hidden":false,"merged":[]}
["Epaisseur"]
[null,null,null,null,null,null,"résolution g",null,null,null,null,null,null,"Résultat critère IT"]
["MET-0101","Comparateur à tige rentrante","0 / 15 mm",null,null,"Afficher",null,null,null,null,null,null,null,{"$f":"IF('Choix de l''instrument '!$C$3=\"Epaisseur\",AND('Choix de l''instrument '!$D$3>=Epaisseur!G3,G3<>\"\"),\"\")","v":""}]
["MET-0100","Comparateur à tige rentrante","0 / 15 mm",null,null,"Afficher",null,null,null,null,null,null,null,{"$f":"IF('Choix de l''instrument '!$C$3=\"Epaisseur\",AND('Choix de l''instrument '!$D$3>=Epaisseur!G4,G4<>\"\"),\"\")","v":""}]
["MET-0099","Comparateur à tige rentrante","0 / 15 mm",null,null,"Afficher",null,null,null,null,null,null,null,{"$f":"IF('Choix de l''instrument '!$C$3=\"Epaisseur\",AND('Choix de l''instrument '!$D$3>=Epaisseur!G5,G5<>\"\"),\"\")","v":""}]
["DIM-0099","Comparateur à tige rentrante",null,null,null,"Afficher",null,null,null,null,null,null,null,{"$f":"IF('Choix de l''instrument '!$C$3=\"Epaisseur\",AND('Choix de l''instrument '!$D$3>=Epaisseur!G6,G6<>\"\"),\"\")","v":""}]
["M.206","Comparateur à tige rentrante radiale","0 / 10 mm",null,null,"Afficher",null,null,null,null,null,null,null,{"$f":"IF('Choix de l''instrument '!$C$3=\"Epaisseur\",AND('Choix de l''instrument '!$D$3>=Epaisseur!G7,G7<>\"\"),\"\")","v":""}]
["M.291","Comparateur à tige rentrante radiale","0 / 10 mm",null,null,"Afficher",null,null,null,null,null,null,null,{"$f":"IF('Choix de l''instrument '!$C$3=\"Epaisseur\",AND('Choix de l''instrument '!$D$3>=Epaisseur!G8,G8<>\"\"),\"\")","v":""}]
["TR.011","Comparateur à tige rentrante radiale","0 / 30 mm",null,null,"Afficher",null,null,null,null,null,null,null,{"$f":"IF('Choix de l''instrument '!$C$3=\"Epaisseur\",AND('Choix de l''instrument '!$D$3>=Epaisseur!G9,G9<>\"\"),\"\")","v":""}]
["TR.053","Comparateur à tige rentrante radiale","0 / 12 mm",null,null,"Afficher",null,null,null,null,null,null,null,{"$f":"IF('Choix de l''instrument '!$C$3=\"Epaisseur\",AND('Choix de l''instrument '!$D$3>=Epaisseur!G10,G10<>\"\"),\"\")","v":""}]
["SQ.087","Comparateur à tige rentrante radiale","0,01 / 12,7 mm",null,null,"Afficher",null,null,null,null,null,null,null,{"$f":"IF('Choix de l''instrument '!$C$3=\"Epaisseur\",AND('Choix de l''instrument '!$D$3>=Epaisseur!G11,G11<>\"\"),\"\")","v":""}]
["TC.045","Comparateur à tige rentrante radiale","0 / 10 mm",null,null,"Afficher",null,null,null,null,null,null,null,{"$f":"IF('Choix de l''instrument '!$C$3=\"Epaisseur\",AND('Choix de l''instrument '!$D$3>=Epaisseur!G12,G12<>\"\"),\"\")","v":""}]
["TC.044","Comparateur à tige rentrante radiale","0 / 10 mm",null,null,"Afficher",null,null,null,null,null,null,null,{"$f":"IF('Choix de l''instrument '!$C$3=\"Epaisseur\",AND('Choix de l''instrument '!$D$3>=Epaisseur!G13,G13<>\"\"),\"\")","v":""}]
["CAT.090","Comparateur à tige rentrante radiale","0 / 12 mm",null,null,"Afficher",null,null,null,null,null,null,null,{"$f":"IF('Choix de l''instrument '!$C$3=\"Epaisseur\",AND('Choix de l''instrument '!$D$3>=Epaisseur!G14,G14<>\"\"),\"\")","v":""}]
["CAT.125","Comparateur à tige rentrante radiale","0 / 12 mm",null,null,"Afficher",null,null,null,null,null,null,null,{"$f":"IF('Choix de l''instrument '!$C$3=\"Epaisseur\",AND('Choix de l''instrument '!$D$3>=Epaisseur!G15,G15<>\"\"),\"\")","v":""}]
["CF.060","Comparateur à tige rentrante radiale","0 / 12 mm",null,null,"Afficher",null,null,null,null,null,null,null,{"$f":"IF('Choix de l''instrument '!$C$3=\"Epaisseur\",AND('Choix de l''instrument '!$D$3>=Epaisseur!G16,G16<>\"\"),\"\")","v":""}]
["CE.248","Comparateur à tige rentrante radiale","0 / 5 mm",null,null,"Afficher",null,null,null,null,null,null,null,{"$f":"IF('Choix de l''instrument '!$C$3=\"Epaisseur\",AND('Choix de l''instrument '!$D$3>=Epaisseur!G17,G17<>\"\"),\"\")","v":""}]
["C0MP-010","Comparateur à tige rentrante radiale","0 / 10 mm",null,null,"Afficher",null,null,null,null,null,null,null,{"$f":"IF('Choix de l''instrument '!$C$3=\"Epaisseur\",AND('Choix de l''instrument '!$D$3>=Epaisseur!G18,G18<>\"\"),\"\")","v":""}]
["ED.246","Comparateur à tige rentrante radiale","0 / 12 mm",null,null,"Afficher",null,null,null,null,null,null,null,{"$f":"IF('Choix de l''instrument '!$C$3=\"Epaisseur\",AND('Choix de l''instrument '!$D$3>=Epaisseur!G19,G19<>\"\"),\"\")","v":""}]
["DIM-0150","Comparateur à tige rentrante radiale","0 / 12 mm",null,null,"Afficher",null,null,null,null,null,null,null,{"$f":"IF('Choix de l''instrument '!$C$3=\"Epaisseur\",AND('Choix de l''instrument '!$D$3>=Epaisseur!G20,G20<>\"\"),\"\")","v":""}]
["DIM-0028","Comparateur à tige rentrante radiale",null,null,null,"Afficher",null,null,null,null,null,null,null,{"$f":"IF('Choix de l''instrument '!$C$3=\"Epaisseur\",AND('Choix de l''instrument '!$D$3>=Epaisseur!G21,G21<>\"\"),\"\")","v":""}]
["CTR-007","Comparateur à tige rentrante radiale","0 / 12,7 mm",null,null,"Afficher",null,null,null,null,null,null,null,{"$f":"IF('Choix de l''instrument '!$C$3=\"Epaisseur\",AND('Choix de l''instrument '!$D$3>=Epaisseur!G22,G22<>\"\"),\"\")","v":""}]
["CTR-003","Comparateur à tige rentrante radiale","0 / 30 mm",null,null,"Afficher",null,null,null,null,null,null,null,{"$f":"IF('Choix de l''instrument '!$C$3=\"Epaisseur\",AND('Choix de l''instrument '!$D$3>=Epaisseur!G23,G23<>\"\"),\"\")","v":""}]
["CTR-002","Comparateur à tige rentrante radiale","0 / 30 mm",null,null,"Afficher",null,null,null,null,null,null,null,{"$f":"IF('Choix de l''instrument '!$C$3=\"Epaisseur\",AND('Choix de l''instrument '!$D$3>=Epaisseur!G24,G24<>\"\"),\"\")","v":""}]
["CTR-001","Comparateur à tige rentrante radiale","0 / 50 mm",null,null,"Afficher",null,null,null,null,null,null,null,{"$f":"IF('Choix de l''instrument '!$C$3=\"Epaisseur\",AND('Choix de l''instrument '!$D$3>=Epaisseur!G25,G25<>\"\"),\"\")","v":""}]
["CTR-006","Comparateur à tige rentrante radiale","0 / 50 mm",null,null,"Afficher",null,null,null,null,null,null,null,{"$f":"IF('Choix de l''instrument '!$C$3=\"Epaisseur\",AND('Choix de l''instrument '!$D$3>=Epaisseur!G26,G26<>\"\"),\"\")","v":""}]
["CTR-005","Comparateur à tige rentrante radiale","0 / 50 mm",null,null,"Afficher",null,null,null,null,null,null,null,{"$f":"IF('Choix de l''instrument '!$C$3=\"Epaisseur\",AND('Choix de l''instrument '!$D$3>=Epaisseur!G27,G27<>\"\"),\"\")","v":""}]
["CTR-004","Comparateur à tige rentrante radiale","50 / 100 mm",null,null,"Afficher",null,null,null,null,null,null,null,{"$f":"IF('Choix de l''instrument '!$C$3=\"Epaisseur\",AND('Choix de l''instrument '!$D$3>=Epaisseur!G28,G28<>\"\"),\"\")","v":""}]
["CP.059","Comparateur à tige rentrante radiale","0 / 12,7 mm",null,null,"Afficher",null,null,null,null,null,null,null,{"$f":"IF('Choix de l''instrument '!$C$3=\"Epaisseur\",AND('Choix de l''instrument '!$D$3>=Epaisseur!G29,G29<>\"\"),\"\")","v":""}]
["CP.062","Comparateur à tige rentrante radiale","0 / 50 mm",null,null,"Afficher",null,null,null,null,null,null,null,{"$f":"IF('Choix de l''instrument '!$C$3=\"Epaisseur\",AND('Choix de l''instrument '!$D$3>=Epaisseur!G30,G30<>\"\"),\"\")","v":""}]
["CP.061","Comparateur à tige rentrante radiale","0 / 50 mm",null,null,"Afficher",null,null,null,null,null,null,null,{"$f":"IF('Choix de l''instrument '!$C$3=\"Epaisseur\",AND('Choix de l''instrument '!$D$3>=Epaisseur!G31,G31<>\"\"),\"\")","v":""}]
["COMP-001","Comparateur electronique","0 / 12 mm",null,null,"Afficher",null,null,null,null,null,null,null,{"$f":"IF('Choix de l''instrument '!$C$3=\"Epaisseur\",AND('Choix de l''instrument '!$D$3>=Epaisseur!G32,G32<>\"\"),\"\")","v":""}]
["M.194","Comparateur mécanique à cadran","0 / 10 mm",null,null,"Afficher",null,null,null,null,null,null,null,{"$f":"IF('Choix de l''instrument '!$C$3=\"Epaisseur\",AND('Choix de l''instrument '!$D$3>=Epaisseur!G33,G33<>\"\"),\"\")","v":""}]
["M.043","Comparateur mécanique à cadran","0 / 10 mm",null,null,"Afficher",null,null,null,null,null,null,null,{"$f":"IF('Choix de l''instrument '!$C$3=\"Epaisseur\",AND('Choix de l''instrument '!$D$3>=Epaisseur!G34,G34<>\"\"),\"\")","v":""}]
["M.044","Comparateur mécanique à cadran","0 / 10 mm",null,null,"Afficher",null,null,null,null,null,null,null,{"$f":"IF('Choix de l''instrument '!$C$3=\"Epaisseur\",AND('Choix de l''instrument '!$D$3>=Epaisseur!G35,G35<>\"\"),\"\")","v":""}]
["M.017","Comparateur mécanique à cadran","0 / 50 mm",null,null,"Afficher",null,null,null,null,null,null,null,{"$f":"IF('Choix de l''instrument '!$C$3=\"Epaisseur\",AND('Choix de l''instrument '!$D$3>=Epaisseur!G36,G36<>\"\"),\"\")","v":""}]
["PA.008","Comparateur mécanique à cadran","0 / 10 mm",null,null,"Afficher",null,null,null,null,null,null,null,{"$f":"IF('Choix de l''instrument '!$C$3=\"Epaisseur\",AND('Choix de l''instrument '!$D$3>=Epaisseur!G37,G37<>\"\"),\"\")","v":""}]
["PA.019","Comparateur mécanique à cadran","0 / 100 mm",null,null,"Afficher",null,null,null,null,null,null,null,{"$f":"IF('Choix de l''instrument '!$C$3=\"Epaisseur\",AND('Choix de l''instrument '!$D$3>=Epaisseur!G38,G38<>\"\"),\"\")","v":""}]
["PA.007","Comparateur mécanique à cadran","0 / 10 mm",null,null,"Afficher",null,null,null,null,null,null,null,{"$f":"IF('Choix de l''instrument '!$C$3=\"Epaisseur\",AND('Choix de l''instrument '!$D$3>=Epaisseur!G39,G39<>\"\"),\"\")","v":""}]
["THE.149","Comparateur mécanique à cadran","0 / 30 mm",null,null,"Afficher",null,null,null,null,null,null,null,{"$f":"IF('Choix de l''instrument '!$C$3=\"Epaisseur\",AND('Choix de l''instrument '!$D$3>=Epaisseur!G40,G40<>\"\"),\"\")","v":""}]
["TR.010","Comparateur mécanique à cadran","0 / 10 mm",null,null,"Afficher",null,null,null,null,null,null,null,{"$f":"IF('Choix de l''instrument '!$C$3=\"Epaisseur\",AND('Choix de l''instrument '!$D$3>=Epaisseur!G41,G41<>\"\"),\"\")","v":""}]
["THE.005","Comparateur mécanique à cadran","0 / 10 mm",null,null,"Afficher",null,null,null,null,null,null,null,{"$f":"IF('Choix de l''instrument '!$C$3=\"Epaisseur\",AND('Choix de l''instrument '!$D$3>=Epaisseur!G42,G42<>\"\"),\"\")","v":""}]
["THE.076","Comparateur mécanique à cadran","0 / 12 mm",null,null,"Afficher",null,null,null,null,null,null,null,{"$f":"IF('Choix de l''instrument '!$C$3=\"Epaisseur\",AND('Choix de l''instrument '!$D$3>=Epaisseur!G43,G43<>\"\"),\"\")","v":""}]
["SQ.098","Comparateur mécanique à cadran","0 / 12 mm",null,null,"Afficher",null,null,null,null,null,null,null,{"$f":"IF('Choix de l''instrument '!$C$3=\"Epaisseur\",AND('Choix de l''instrument '!$D$3>=Epaisseur!G44,G44<>\"\"),\"\")","v":""}]
["SQ.035","Comparateur mécanique à cadran","0 / 12 mm",null,null,"Afficher",null,null,null,null,null,null,null,{"$f":"IF('Choix de l''instrument '!$C$3=\"Epaisseur\",AND('Choix de l''instrument '!$D$3>=Epaisseur!G45,G45<>\"\"),\"\")","v":""}]
["TC.005","Comparateur mécanique à cadran","0 / 10 mm",null,null,"Afficher",null,null,null,null,null,null,null,{"$f":"IF('Choix de l''instrument '!$C$3=\"Epaisseur\",AND('Choix de l''instrument '!$D$3>=Epaisseur!G46,G46<>\"\"),\"\")","v":""}]
["TC.042","Comparateur mécanique à cadran","0 / 10 mm",null,null,"Afficher",null,null,null,null,null,null,null,{"$f":"IF('Choix de l''instrument '!$C$3=\"Epaisseur\",AND('Choix de l''instrument '!$D$3>=Epaisseur!G47,G47<>\"\"),\"\")","v":""}]
["TC.039","Comparateur mécanique à cadran","0 / 10 mm",null,null,"Afficher",null,null,null,null,null,null,null,{"$f":"IF('Choix de l''instrument '!$C$3=\"Epaisseur\",AND('Choix de l''instrument '!$D$3>=Epaisseur!G48,G48<>\"\"),\"\")","v":""}]
["TC.014","Comparateur mécanique à cadran","0 / 3 mm",null,null,"Afficher",null,null,null,null,null,null,null,{"$f":"IF('Choix de l''instrument '!$C$3=\"Epaisseur\",AND('Choix de l''instrument '!$D$3>=Epaisseur!G49,G49<>\"\"),\"\")","v":""}]
["TC.012","Comparateur mécanique à cadran","0 / 10 mm",null,null,"Afficher",null,null,null,null,null,null,null,{"$f":"IF('Choix de l''instrument '!$C$3=\"Epaisseur\",AND('Choix de l''instrument '!$D$3>=Epaisseur!G50,G50<>\"\"),\"\")","v":""}]
["PA.028","Comparateur mécanique à cadran","0 / 20 mm",null,null,"Afficher",null,null,null,null,null,null,null,{"$f":"IF('Choix de l''instrument '!$C$3=\"Epaisseur\",AND('Choix de l''instrument '!$D$3>=Epaisseur!G51,G51<>\"\"),\"\")","v":""}]
["TC.101","Comparateur mécanique à cadran","0 / 20 mm",null,null,"Afficher",null,null,null,null,null,null,null,{"$f":"IF('Choix de l''instrument '!$C$3=\"Epaisseur\",AND('Choix de l''instrument '!$D$3>=Epaisseur!G52,G52<>\"\"),\"\")","v":""}]
["TC.104","Comparateur mécanique à cadran","0 / 20 mm",null,null,"Afficher",null,null,null,null,null,null,null,{"$f":"IF('Choix de l''instrument '!$C$3=\"Epaisseur\",AND('Choix de l''instrument '!$D$3>=Epaisseur!G53,G53<>\"\"),\"\")","v":""}]
["TC.103","Comparateur mécanique à cadran","0 / 20 mm",null,null,"Afficher",null,null,null,null,null,null,null,{"$f":"IF('Choix de l''instrument '!$C$3=\"Epaisseur\",AND('Choix de l''instrument '!$D$3>=Epaisseur!G54,G54<>\"\"),\"\")","v":""}]
["TC.102","Comparateur mécanique à cadran","0 / 20 mm",null,null,"Afficher",null,null,null,null,null,null,null,{"$f":"IF('Choix de l''instrument '!$C$3=\"Epaisseur\",AND('Choix de l''instrument '!$D$3>=Epaisseur!G55,G55<>\"\"),\"\")","v":""}]
["TC.091","Comparateur mécanique à cadran","0 / 10 mm",null,null,"Afficher",null,null,null,null,null,null,null,{"$f":"IF('Choix de l''instrument '!$C$3=\"Epaisseur\",AND('Choix de l''instrument '!$D$3>=Epaisseur!G56,G56<>\"\"),\"\")","v":""}]
["CAT.070","Comparateur mécanique à cadran","0 / 5 mm",null,null,"Afficher",null,null,null,null,null,null,null,{"$f":"IF('Choix de l''instrument '!$C$3=\"Epaisseur\",AND('Choix de l''instrument '!$D$3>=Epaisseur!G57,G57<>\"\"),\"\")","v":""}]
["CAT.008","Comparateur mécanique à cadran","0 / 10 mm",null,null,"Afficher",null,null,null,null,null,null,null,{"$f":"IF('Choix de l''instrument '!$C$3=\"Epaisseur\",AND('Choix de l''instrument '!$D$3>=Epaisseur!G58,G58<>\"\"),\"\")","v":""}]
["CF.018","Comparateur mécanique à cadran","0 / 10 mm",null,null,"Afficher",null,null,null,null,null,null,null,{"$f":"IF('Choix de l''instrument '!$C$3=\"Epaisseur\",AND('Choix de l''instrument '!$D$3>=Epaisseur!G59,G59<>\"\"),\"\")","v":""}]
["CF.017","Comparateur mécanique à cadran","0 / 10 mm",null,null,"Afficher",null,null,null,null,null,null,null,{"$f":"IF('Choix de l''instrument '!$C$3=\"Epaisseur\",AND('Choix de l''instrument '!$D$3>=Epaisseur!G60,G60<>\"\"),\"\")","v":""}]
["CF.015","Comparateur mécanique à cadran","0 / 10 mm",null,null,"Afficher",null,null,null,null,null,null,null,{"$f":"IF('Choix de l''instrument '!$C$3=\"Epaisseur\",AND('Choix de l''instrument '!$D$3>=Epaisseur!G61,G61<>\"\"),\"\")","v":""}]
["CF.012","Comparateur mécanique à cadran","0 / 10 mm",null,null,"Afficher",null,null,null,null,null,null,null,{"$f":"IF('Choix de l''instrument '!$C$3=\"Epaisseur\",AND('Choix de l''instrument '!$D$3>=Epaisseur!G62,G62<>\"\"),\"\")","v":""}]
["CF.098","Comparateur mécanique à cadran","0 / 10 mm",null,null,"Afficher",null,null,null,null,null,null,null,{"$f":"IF('Choix de l''instrument '!$C$3=\"Epaisseur\",AND('Choix de l''instrument '!$D$3>=Epaisseur!G63,G63<>\"\"),\"\")","v":""}]
["CF.044","Comparateur mécanique à cadran","0 / 5 mm",null,null,"Afficher",null,null,null,null,null,null,null,{"$f":"IF('Choix de l''instrument '!$C$3=\"Epaisseur\",AND('Choix de l''instrument '!$D$3>=Epaisseur!G64,G64<>\"\"),\"\")","v":""}]
["CF.050","Comparateur mécanique à cadran","0 / 10 mm",null,null,"Afficher",null,null,null,null,null,null,null,{"$f":"IF('Choix de l''instrument '!$C$3=\"Epaisseur\",AND('Choix de l''instrument '!$D$3>=Epaisseur!G65,G65<>\"\"),\"\")","v":""}]
["CF.047","Comparateur mécanique à cadran","0 / 10 mm",null,null,"Afficher",null,null,null,null,null,null,null,{"$f":"IF('Choix de l''instrument '!$C$3=\"Epaisseur\",AND('Choix de l''instrument '!$D$3>=Epaisseur!G66,G66<>\"\"),\"\")","v":""}]
["CF.062","Comparateur mécanique à cadran","0 / 10 mm",null,null,"Afficher",null,null,null,null,null,null,null,{"$f":"IF('Choix de l''instrument '!$C$3=\"Epaisseur\",AND('Choix de l''instrument '!$D$3>=Epaisseur!G67,G67<>\"\"),\"\")","v":""}]
["CF.082","Comparateur mécanique à cadran","0 / 5 mm",null,null,"Afficher",null,null,null,null,null,null,null,{"$f":"IF('Choix de l''instrument '!$C$3=\"Epaisseur\",AND('Choix de l''instrument '!$D$3>=Epaisseur!G68,G68<>\"\"),\"\")","v":""}]
["CF.081","Comparateur mécanique à cadran","0 / 5 mm",null,null,"Afficher",null,null,null,null,null,null,null,{"$f":"IF('Choix de l''instrument '!$C$3=\"Epaisseur\",AND('Choix de l''instrument '!$D$3>=Epaisseur!G69,G69<>\"\"),\"\")","v":""}]
["CE.009","Comparateur mécanique à cadran","0 / 10 mm",null,null,"Afficher",null,null,null,null,null,null,null,{"$f":"IF('Choix de l''instrument '!$C$3=\"Epaisseur\",AND('Choix de l''instrument '!$D$3>=Epaisseur!G70,G70<>\"\"),\"\")","v":""}]
["CE.033","Comparateur mécanique à cadran","0 / 5 mm",null,null,"Afficher",null,null,null,null,null,null,null,{"$f":"IF('Choix de l''instrument '!$C$3=\"Epaisseur\",AND('Choix de l''instrument '!$D$3>=Epaisseur!G71,G71<>\"\"),\"\")","v":""}]
["CE.052","Comparateur mécanique à cadran","0 / 12 mm",null,null,"Afficher",null,null,null,null,null,null,null,{"$f":"IF('Choix de l''instrument '!$C$3=\"Epaisseur\",AND('Choix de l''instrument '!$D$3>=Epaisseur!G72,G72<>\"\"),\"\")","v":""}]
["EN.071","Comparateur mécanique à cadran","0 / 5 mm",null,null,"Afficher",null,null,null,null,null,null,null,{"$f":"IF('Choix de l''instrument '!$C$3=\"Epaisseur\",AND('Choix de l''instrument '!$D$3>=Epaisseur!G73,G73<>\"\"),\"\")","v":""}]
["EN.040","Comparateur mécanique à cadran","0 / 5 mm",null,null,"Afficher",null,null,null,null,null,null,null,{"$f":"IF('Choix de l''instrument '!$C$3=\"Epaisseur\",AND('Choix de l''instrument '!$D$3>=Epaisseur!G74,G74<>\"\"),\"\")","v":""}]
["EN.075","Comparateur mécanique à cadran","0 / 5 mm",null,null,"Afficher",null,null,null,null,null,null,null,{"$f":"IF('Choix de l''instrument '!$C$3=\"Epaisseur\",AND('Choix de l''instrument '!$D$3>=Epaisseur!G75,G75<>\"\"),\"\")","v":""}]
["EN.004","Comparateur mécanique à cadran","0 / 10 mm",null,null,"Afficher",null,null,null,null,null,null,null,{"$f":"IF('Choix de l''instrument '!$C$3=\"Epaisseur\",AND('Choix de l''instrument '!$D$3>=Epaisseur!G76,G76<>\"\"),\"\")","v":""}]
["DIM-0147","Comparateur mécanique à cadran","0 / 0,5",null,null,"Afficher",null,null,null,null,null,null,null,{"$f":"IF('Choix de l''instrument '!$C$3=\"Epaisseur\",AND('Choix de l''instrument '!$D$3>=Epaisseur!G77,G77<>\"\"),\"\")","v":""}]
["DIM-0146","Comparateur mécanique à cadran","0 / 0,14",null,null,"Afficher",null,null,null,null,null,null,null,{"$f":"IF('Choix de l''instrument '!$C$3=\"Epaisseur\",AND('Choix de l''instrument '!$D$3>=Epaisseur!G78,G78<>\"\"),\"\")","v":""}]
["ED.167","Comparateur mécanique à cadran","0 / 10 mm",null,null,"Afficher",null,null,null,null,null,null,null,{"$f":"IF('Choix de l''instrument '!$C$3=\"Epaisseur\",AND('Choix de l''instrument '!$D$3>=Epaisseur!G79,G79<>\"\"),\"\")","v":""}]
["COMP-006","Comparateur mécanique à cadran","0 / 30 mm",null,null,"Afficher",null,null,null,null,null,null,null,{"$f":"IF('Choix de l''instrument '!$C$3=\"Epaisseur\",AND('Choix de l''instrument '!$D$3>=Epaisseur!G80,G80<>\"\"),\"\")","v":""}]
["COMP-005","Comparateur mécanique à cadran","0 / 5 mm",null,null,"Afficher",null,null,null,null,null,null,null,{"$f":"IF('Choix de l''instrument '!$C$3=\"Epaisseur\",AND('Choix de l''instrument '!$D$3>=Epaisseur!G81,G81<>\"\"),\"\")","v":""}]
["COMP-004","Comparateur mécanique à cadran","0 / 5 mm",null,null,"Afficher",null,null,null,null,null,null,null,{"$f":"IF('Choix de l''instrument '!$C$3=\"Epaisseur\",AND('Choix de l''instrument '!$D$3>=Epaisseur!G82,G82<>\"\"),\"\")","v":""}]
["COMP-009","Comparateur mécanique à cadran","0 / 12 mm",null,null,"Afficher",null,null,null,null,null,null,null,{"$f":"IF('Choix de l''instrument '!$C$3=\"Epaisseur\",AND('Choix de l''instrument '!$D$3>=Epaisseur!G83,G83<>\"\"),\"\")","v":""}]
["COMP-008","Comparateur mécanique à cadran","0 / 10 mm",null,null,"Afficher",null,null,null,null,null,null,null,{"$f":"IF('Choix de l''instrument '!$C$3=\"Epaisseur\",AND('Choix de l''instrument '!$D$3>=Epaisseur!G84,G84<>\"\"),\"\")","v":""}]
["COMP-007","Comparateur mécanique à cadran","0 / 30 mm",null,null,"Afficher",null,null,null,null,null,null,null,{"$f":"IF('Choix de l''instrument '!$C$3=\"Epaisseur\",AND('Choix de l''instrument '!$D$3>=Epaisseur!G85,G85<>\"\"),\"\")","v":""}]
["COMP-003","Comparateur mécanique à cadran","0 / 5 mm",null,null,"Afficher",null,null,null,null,null,null,null,{"$f":"IF('Choix de l''instrument '!$C$3=\"Epaisseur\",AND('Choix de l''instrument '!$D$3>=Epaisseur!G86,G86<>\"\"),\"\")","v":""}]
["COMP-002","Comparateur mécanique à cadran","0 / 5 mm",null,null,"Afficher",null,null,null,null,null,null,null,{"$f":"IF('Choix de l''instrument '!$C$3=\"Epaisseur\",AND('Choix de l''instrument '!$D$3>=Epaisseur!G87,G87<>\"\"),\"\")","v":""}]
["COMP-010","Comparateur mécanique à cadran","0 / 10 mm",null,null,"Afficher",null,null,null,null,null,null,null,{"$f":"IF('Choix de l''instrument '!$C$3=\"Epaisseur\",AND('Choix de l''instrument '!$D$3>=Epaisseur!G88,G88<>\"\"),\"\")","v":""}]
["COMP-088","Comparateur mécanique à cadran","0 / 5 mm",null,null,"Afficher",null,null,null,null,null,null,null,{"$f":"IF('Choix de l''instrument '!$C$3=\"Epaisseur\",AND('Choix de l''instrument '!$D$3>=Epaisseur!G89,G89<>\"\"),\"\")","v":""}]
["COMP-086","Comparateur mécanique à cadran","0 / 5 mm",null,null,"Afficher",null,null,null,null,null,null,null,{"$f":"IF('Choix de l''instrument '!$C$3=\"Epaisseur\",AND('Choix de l''instrument '!$D$3>=Epaisseur!G90,G90<>\"\"),\"\")","v":""}]
["COMP-011","Comparateur mécanique à cadran","0 / 100 mm",null,null,"Afficher",null,null,null,null,null,null,null,{"$f":"IF('Choix de l''instrument '!$C$3=\"Epaisseur\",AND('Choix de l''instrument '!$D$3>=Epaisseur!G91,G91<>\"\"),\"\")","v":""}]
["COMP-250","Comparateur mécanique à cadran","0 / 10 mm",null,null,"Afficher",null,null,null,null,null,null,null,{"$f":"IF('Choix de l''instrument '!$C$3=\"Epaisseur\",AND('Choix de l''instrument '!$D$3>=Epaisseur!G92,G92<>\"\"),\"\")","v":""}]
["COMP-215","Comparateur mécanique à cadran","0 / 10 mm",null,null,"Afficher",null,null,null,null,null,null,null,{"$f":"IF('Choix de l''instrument '!$C$3=\"Epaisseur\",AND('Choix de l''instrument '!$D$3>=Epaisseur!G93,G93<>\"\"),\"\")","v":""}]
["COMP-206","Comparateur mécanique à cadran","0 / 12,7 mm",null,null,"Afficher",null,null,null,null,null,null,null,{"$f":"IF('Choix de l''instrument '!$C$3=\"Epaisseur\",AND('Choix de l''instrument '!$D$3>=Epaisseur!G94,G94<>\"\"),\"\")","v":""}]
["CF.374","Comparateur mécanique à cadran","0 / 12 mm",null,null,"Afficher",null,null,null,null,null,null,null,{"$f":"IF('Choix de l''instrument '!$C$3=\"Epaisseur\",AND('Choix de l''instrument '!$D$3>=Epaisseur!G95,G95<>\"\"),\"\")","v":""}]
["CF.388","Comparateur mécanique à cadran","0 / 50 mm",null,null,"Afficher",null,null,null,null,null,null,null,{"$f":"IF('Choix de l''instrument '!$C$3=\"Epaisseur\",AND('Choix de l''instrument '!$D$3>=Epaisseur!G96,G96<>\"\"),\"\")","v":""}]
["DIM-0022","Comparateur mécanique à cadran","0 / 12 mm",null,null,"Afficher",null,null,null,null,null,null,null,{"$f":"IF('Choix de l''instrument '!$C$3=\"Epaisseur\",AND('Choix de l''instrument '!$D$3>=Epaisseur!G97,G97<>\"\"),\"\")","v":""}]
["DIM-0027","Comparateur mécanique à cadran","0 / 5",null,null,"Afficher",null,null,null,null,null,null,null,{"$f":"IF('Choix de l''instrument '!$C$3=\"Epaisseur\",AND('Choix de l''instrument '!$D$3>=Epaisseur!G98,G98<>\"\"),\"\")","v":""}]
["DIM-0017","Comparateur mécanique à cadran","0 / 100 mm",null,null,"Afficher",null,null,null,null,null,null,null,{"$f":"IF('Choix de l''instrument '!$C$3=\"Epaisseur\",AND('Choix de l''instrument '!$D$3>=Epaisseur!G99,G99<>\"\"),\"\")","v":""}]
["CP.010","Comparateur mécanique à cadran","0 / 10 mm",null,null,"Afficher",null,null,null,null,null,null,null,{"$f":"IF('Choix de l''instrument '!$C$3=\"Epaisseur\",AND('Choix de l''instrument '!$D$3>=Epaisseur!G100,G100<>\"\"),\"\")","v":""}]
["CP.012","Comparateur mécanique à cadran","0 / 10 mm",null,null,"Afficher",null,null,null,null,null,null,null,{"$f":"IF('Choix de l''instrument '!$C$3=\"Epaisseur\",AND('Choix de l''instrument '!$D$3>=Epaisseur!G101,G101<>\"\"),\"\")","v":""}]
["CP.074","Comparateur mécanique à cadran","0 / 5 mm",null,null,"Afficher",null,null,null,null,null,null,null,{"$f":"IF('Choix de l''instrument '!$C$3=\"Epaisseur\",AND('Choix de l''instrument '!$D$3>=Epaisseur!G102,G102<>\"\"),\"\")","v":""}]
["MET-0059","Comparateur numerique à tige rentrante","0 / 12,7 mm",null,null,"Afficher",null,null,null,null,null,null,null,{"$f":"IF('Choix de l''instrument '!$C$3=\"Epaisseur\",AND('Choix de l''instrument '!$D$3>=Epaisseur!G103,G103<>\"\"),\"\")","v":""}]
["SQ.097","Comparateur numerique à tige rentrante","0 / 12 mm",null,null,"Afficher",null,null,null,null,null,null,null,{"$f":"IF('Choix de l''instrument '!$C$3=\"Epaisseur\",AND('Choix de l''instrument '!$D$3>=Epaisseur!G104,G104<>\"\"),\"\")","v":""}]
["DIM-0076","Comparateur numerique à tige rentrante","12,7 mm - 0,01mm",null,null,"Afficher",null,null,null,null,null,null,null,{"$f":"IF('Choix de l''instrument '!$C$3=\"Epaisseur\",AND('Choix de l''instrument '!$D$3>=Epaisseur!G105,G105<>\"\"),\"\")","v":""}]
["MET-0082","Capteur Heidenhain","CERTO CT 6001",null,null,"Afficher",null,null,null,null,null,null,null,{"$f":"IF('Choix de l''instrument '!$C$3=\"Epaisseur\",AND('Choix de l''instrument '!$D$3>=Epaisseur!G106,G106<>\"\"),\"\")","v":""}]
["SQ.070A","Capteur Heidenhain",null,null,null,"Afficher",null,null,null,null,null,null,null,{"$f":"IF('Choix de l''instrument '!$C$3=\"Epaisseur\",AND('Choix de l''instrument '!$D$3>=Epaisseur!G107,G107<>\"\"),\"\")","v":""}]
["CAP-004","Capteur Heidenhain","0 / 12 mm",null,null,"Afficher",null,null,null,null,null,null,null,{"$f":"IF('Choix de l''instrument '!$C$3=\"Epaisseur\",AND('Choix de l''instrument '!$D$3>=Epaisseur!G108,G108<>\"\"),\"\")","v":""}]
["CAP-003","Capteur Heidenhain","0 / 12 mm",null,null,"Afficher",null,null,null,null,null,null,null,{"$f":"IF('Choix de l''instrument '!$C$3=\"Epaisseur\",AND('Choix de l''instrument '!$D$3>=Epaisseur!G109,G109<>\"\"),\"\")","v":""}]
["CAP-005","Capteur Heidenhain","0 / 12 mm",null,null,"Afficher",null,null,null,null,null,null,null,{"$f":"IF('Choix de l''instrument '!$C$3=\"Epaisseur\",AND('Choix de l''instrument '!$D$3>=Epaisseur!G110,G110<>\"\"),\"\")","v":""}]
["CAP-002","Capteur Heidenhain",null,null,null,"Afficher",null,null,null,null,null,null,null,{"$f":"IF('Choix de l''instrument '!$C$3=\"Epaisseur\",AND('Choix de l''instrument '!$D$3>=Epaisseur!G111,G111<>\"\"),\"\")","v":""}]
["CAP-001","Capteur Heidenhain",null,null,null,"Afficher",null,null,null,null,null,null,null,{"$f":"IF('Choix de l''instrument '!$C$3=\"Epaisseur\",AND('Choix de l''instrument '!$D$3>=Epaisseur!G112,G112<>\"\"),\"\")","v":""}]
["CAP-006","Capteur Heidenhain","0 / 12 mm",null,null,"Afficher",null,null,null,null,null,null,null,{"$f":"IF('Choix de l''instrument '!$C$3=\"Epaisseur\",AND('Choix de l''instrument '!$D$3>=Epaisseur!G113,G113<>\"\"),\"\")","v":""}]
["CAP-123","Capteur Heidenhain","0 / 12 mm",null,null,"Afficher",null,null,null,null,null,null,null,{"$f":"IF('Choix de l''instrument '!$C$3=\"Epaisseur\",AND('Choix de l''instrument '!$D$3>=Epaisseur!G114,G114<>\"\"),\"\")","v":""}]
["CAP-007","Capteur Heidenhain",null,null,null,"Afficher",null,null,null,null,null,null,null,{"$f":"IF('Choix de l''instrument '!$C$3=\"Epaisseur\",AND('Choix de l''instrument '!$D$3>=Epaisseur!G115,G115<>\"\"),\"\")","v":""}]
["CAP-198","Capteur Heidenhain",null,null,null,"Afficher",null,null,null,null,null,null,null,{"$f":"IF('Choix de l''instrument '!$C$3=\"Epaisseur\",AND('Choix de l''instrument '!$D$3>=Epaisseur!G116,G116<>\"\"),\"\")","v":""}]
["CAP-197","Capteur Heidenhain","0 / 12 mm",null,null,"Afficher",null,null,null,null,null,null,null,{"$f":"IF('Choix de l''instrument '!$C$3=\"Epaisseur\",AND('Choix de l''instrument '!$D$3>=Epaisseur!G117,G117<>\"\"),\"\")","v":""}]
["CE.166","Capteur Heidenhain",null,null,null,"Afficher",null,null,null,null,null,null,null,{"$f":"IF('Choix de l''instrument '!$C$3=\"Epaisseur\",AND('Choix de l''instrument '!$D$3>=Epaisseur!G118,G118<>\"\"),\"\")","v":""}]
["EN.103B","Capteur Heidenhain",null,null,null,"Afficher",null,null,null,null,null,null,null,{"$f":"IF('Choix de l''instrument '!$C$3=\"Epaisseur\",AND('Choix de l''instrument '!$D$3>=Epaisseur!G119,G119<>\"\"),\"\")","v":""}]
["EN.103A","Capteur Heidenhain",null,null,null,"Afficher",null,null,null,null,null,null,null,{"$f":"IF('Choix de l''instrument '!$C$3=\"Epaisseur\",AND('Choix de l''instrument '!$D$3>=Epaisseur!G120,G120<>\"\"),\"\")","v":""}]
["EN.104A","Capteur Heidenhain",null,null,null,"Afficher",null,null,null,null,null,null,null,{"$f":"IF('Choix de l''instrument '!$C$3=\"Epaisseur\",AND('Choix de l''instrument '!$D$3>=Epaisseur!G121,G121<>\"\"),\"\")","v":""}]
["EN.108A","Capteur Heidenhain",null,null,null,"Afficher",null,null,null,null,null,null,null,{"$f":"IF('Choix de l''instrument '!$C$3=\"Epaisseur\",AND('Choix de l''instrument '!$D$3>=Epaisseur!G122,G122<>\"\"),\"\")","v":""}]
["ED.182","Capteur Heidenhain",null,null,null,"Afficher",null,null,null,null,null,null,null,{"$f":"IF('Choix de l''instrument '!$C$3=\"Epaisseur\",AND('Choix de l''instrument '!$D$3>=Epaisseur!G123,G123<>\"\"),\"\")","v":""}]
["ED.120A","Capteur Heidenhain","0 / 12 mm",null,null,"Afficher",null,null,null,null,null,null,null,{"$f":"IF('Choix de l''instrument '!$C$3=\"Epaisseur\",AND('Choix de l''instrument '!$D$3>=Epaisseur!G124,G124<>\"\"),\"\")","v":""}]
["ED.163A","Capteur Heidenhain",null,null,null,"Afficher",null,null,null,null,null,null,null,{"$f":"IF('Choix de l''instrument '!$C$3=\"Epaisseur\",AND('Choix de l''instrument '!$D$3>=Epaisseur!G125,G125<>\"\"),\"\")","v":""}]
["EC.126A","Capteur Heidenhain",null,null,null,"Afficher",null,null,null,null,null,null,null,{"$f":"IF('Choix de l''instrument '!$C$3=\"Epaisseur\",AND('Choix de l''instrument '!$D$3>=Epaisseur!G126,G126<>\"\"),\"\")","v":""}]
["CF.372A","Capteur Heidenhain",null,null,null,"Afficher",null,null,null,null,null,null,null,{"$f":"IF('Choix de l''instrument '!$C$3=\"Epaisseur\",AND('Choix de l''instrument '!$D$3>=Epaisseur!G127,G127<>\"\"),\"\")","v":""}]
["CF.373A","Capteur Heidenhain",null,null,null,"Afficher",null,null,null,null,null,null,null,{"$f":"IF('Choix de l''instrument '!$C$3=\"Epaisseur\",AND('Choix de l''instrument '!$D$3>=Epaisseur!G128,G128<>\"\"),\"\")","v":""}]
["DIM-0098","Capteur Heidenhain",null,null,null,"Afficher",null,null,null,null,null,null,null,{"$f":"IF('Choix de l''instrument '!$C$3=\"Epaisseur\",AND('Choix de l''instrument '!$D$3>=Epaisseur!G129,G129<>\"\"),\"\")","v":""}]
["DIM-0111","Capteur Heidenhain","0 / 12 mm",null,null,"Afficher",null,null,null,null,null,null,null,{"$f":"IF('Choix de l''instrument '!$C$3=\"Epaisseur\",AND('Choix de l''instrument '!$D$3>=Epaisseur!G130,G130<>\"\"),\"\")","v":""}]
["DIM-0097","Capteur Heidenhain","0 / 12 mm",null,null,"Afficher",null,null,null,null,null,null,null,{"$f":"IF('Choix de l''instrument '!$C$3=\"Epaisseur\",AND('Choix de l''instrument '!$D$3>=Epaisseur!G131,G131<>\"\"),\"\")","v":""}]
["DIM-0095","Capteur Heidenhain","0 / 12 mm",null,null,"Afficher",null,null,null,null,null,null,null,{"$f":"IF('Choix de l''instrument '!$C$3=\"Epaisseur\",AND('Choix de l''instrument '!$D$3>=Epaisseur!G132,G132<>\"\"),\"\")","v":""}]
["MEP-002","Mesureur d'épaisseur",null,null,null,"Afficher",null,null,null,null,null,null,null,{"$f":"IF('Choix de l''instrument '!$C$3=\"Epaisseur\",AND('Choix de l''instrument '!$D$3>=Epaisseur!G133,G133<>\"\"),\"\")","v":""}]
["MEP-001","Mesureur d'épaisseur",null,null,null,"Afficher",null,null,null,null,null,null,null,{"$f":"IF('Choix de l''instrument '!$C$3=\"Epaisseur\",AND('Choix de l''instrument '!$D$3>=Epaisseur!G134,G134<>\"\"),\"\")","v":""}]
["MES-216","Mesureur d'épaisseur",null,null,null,"Afficher",null,null,null,null,null,null,null,{"$f":"IF('Choix de l''instrument '!$C$3=\"Epaisseur\",AND('Choix de l''instrument '!$D$3>=Epaisseur!G135,G135<>\"\"),\"\")","v":""}]
["SQ.088","Mesureur d'épaisseur",null,null,null,"Afficher",null,null,null,null,null,null,null,{"$f":"IF('Choix de l''instrument '!$C$3=\"Epaisseur\",AND('Choix de l''instrument '!$D$3>=Epaisseur!G136,G136<>\"\"),\"\")","v":""}]
["CE.214","Mesureur d'épaisseur",null,null,null,"Afficher",null,null,null,null,null,null,null,{"$f":"IF('Choix de l''instrument '!$C$3=\"Epaisseur\",AND('Choix de l''instrument '!$D$3>=Epaisseur!G137,G137<>\"\"),\"\")","v":""}]
["CE.213","Mesureur d'épaisseur",null,null,null,"Afficher",null,null,null,null,null,null,null,{"$f":"IF('Choix de l''instrument '!$C$3=\"Epaisseur\",AND('Choix de l''instrument '!$D$3>=Epaisseur!G138,G138<>\"\"),\"\")","v":""}]
["CE.215","Mesureur d'épaisseur",null,null,null,"Afficher",null,null,null,null,null,null,null,{"$f":"IF('Choix de l''instrument '!$C$3=\"Epaisseur\",AND('Choix de l''instrument '!$D$3>=Epaisseur!G139,G139<>\"\"),\"\")","v":""}]
["CE.234","Mesureur d'épaisseur",null,null,null,"Afficher",null,null,null,null,null,null,null,{"$f":"IF('Choix de l''instrument '!$C$3=\"Epaisseur\",AND('Choix de l''instrument '!$D$3>=Epaisseur!G140,G140<>\"\"),\"\")","v":""}]
["DIM-0149","Mesureur d'épaisseur","0 / 30 mm",null,null,"Afficher",null,null,null,null,null,null,null,{"$f":"IF('Choix de l''instrument '!$C$3=\"Epaisseur\",AND('Choix de l''instrument '!$D$3>=Epaisseur!G141,G141<>\"\"),\"\")","v":""}]
["DIM-0052","Mesureur d'épaisseur",null,null,null,"Afficher",null,null,null,null,null,null,null,{"$f":"IF('Choix de l''instrument '!$C$3=\"Epaisseur\",AND('Choix de l''instrument '!$D$3>=Epaisseur!G142,G142<>\"\"),\"\")","v":""}]
["DIM-0100","Mesureur d'épaisseur","0 / 30 mm",null,null,"Afficher",null,null,null,null,null,null,null,{"$f":"IF('Choix de l''instrument '!$C$3=\"Epaisseur\",AND('Choix de l''instrument '!$D$3>=Epaisseur!G143,G143<>\"\"),\"\")","v":""}]
["DIM-0102","Mesureur d'épaisseur","0 / 30 mm",null,null,"Afficher",null,null,null,null,null,null,null,{"$f":"IF('Choix de l''instrument '!$C$3=\"Epaisseur\",AND('Choix de l''instrument '!$D$3>=Epaisseur!G144,G144<>\"\"),\"\")","v":""}]
["DIM-0101","Mesureur d'épaisseur","0 / 30 mm",null,null,"Afficher",null,null,null,null,null,null,null,{"$f":"IF('Choix de l''instrument '!$C$3=\"Epaisseur\",AND('Choix de l''instrument '!$D$3>=Epaisseur!G145,G145<>\"\"),\"\")","v":""}]
["OPT-0020","Projecteur de profils",null,null,null,"Afficher",null,null,null,null,null,null,null,{"$f":"IF('Choix de l''instrument '!$C$3=\"Epaisseur\",AND('Choix de l''instrument '!$D$3>=Epaisseur!G146,G146<>\"\"),\"\")","v":""}]
["OPT-0037","Projecteur de profils",null,null,null,"Afficher",null,null,null,null,null,null,null,{"$f":"IF('Choix de l''instrument '!$C$3=\"Epaisseur\",AND('Choix de l''instrument '!$D$3>=Epaisseur!G147,G147<>\"\"),\"\")","v":""}]
["OPT-0001","Projecteur de profils",null,null,null,"Afficher",null,null,null,null,null,null,null,{"$f":"IF('Choix de l''instrument '!$C$3=\"Epaisseur\",AND('Choix de l''instrument '!$D$3>=Epaisseur!G148,G148<>\"\"),\"\")","v":""}]
["OPT-0006","Projecteur de profils",null,null,null,"Afficher",null,null,null,null,null,null,null,{"$f":"IF('Choix de l''instrument '!$C$3=\"Epaisseur\",AND('Choix de l''instrument '!$D$3>=Epaisseur!G149,G149<>\"\"),\"\")","v":""}]
["OPT-0018","Projecteur de profils",null,null,null,"Afficher",null,null,null,null,null,null,null,{"$f":"IF('Choix de l''instrument '!$C$3=\"Epaisseur\",AND('Choix de l''instrument '!$D$3>=Epaisseur!G150,G150<>\"\"),\"\")","v":""}]
["OPT-0017","Projecteur de profils",null,null,null,"Afficher",null,null,null,null,null,null,null,{"$f":"IF('Choix de l''instrument '!$C$3=\"Epaisseur\",AND('Choix de l''instrument '!$D$3>=Epaisseur!G151,G151<>\"\"),\"\")","v":""}]
["CF.449","Projecteur de profils",null,null,null,"Afficher",null,null,null,null,null,null,null,{"$f":"IF('Choix de l''instrument '!$C$3=\"Epaisseur\",AND('Choix de l''instrument '!$D$3>=Epaisseur!G152,G152<>\"\"),\"\")","v":""}]
["CF.460","Projecteur de profils",null,null,null,"Afficher",null,null,null,null,null,null,null,{"$f":"IF('Choix de l''instrument '!$C$3=\"Epaisseur\",AND('Choix de l''instrument '!$D$3>=Epaisseur!G153,G153<>\"\"),\"\")","v":""}]
["EN.128","Micromètre à touche sphérique","0 / 25 mm",null,null,"Afficher",null,null,null,null,null,null,null,{"$f":"IF('Choix de l''instrument '!$C$3=\"Epaisseur\",AND('Choix de l''instrument '!$D$3>=Epaisseur!G154,G154<>\"\"),\"\")","v":""}]
["DIM-0106","Micromètre à touche sphérique","25 / 50 mm",null,null,"Afficher",null,null,null,null,null,null,null,{"$f":"IF('Choix de l''instrument '!$C$3=\"Epaisseur\",AND('Choix de l''instrument '!$D$3>=Epaisseur!G155,G155<>\"\"),\"\")","v":""}]
["SQ.088 /1","Sonde","Sonde mesureur a Ultra son",null,null,"Afficher",null,null,null,null,null,null,null,{"$f":"IF('Choix de l''instrument '!$C$3=\"Epaisseur\",AND('Choix de l''instrument '!$D$3>=Epaisseur!G156,G156<>\"\"),\"\")","v":""}]
["DIM-0053","Sonde",null,null,null,"Afficher",null,null,null,null,null,null,null,{"$f":"IF('Choix de l''instrument '!$C$3=\"Epaisseur\",AND('Choix de l''instrument '!$D$3>=Epaisseur!G157,G157<>\"\"),\"\")","v":""}]
["DIM-0044","Sonde",null,null,null,"Afficher",null,null,null,null,null,null,null,{"$f":"IF('Choix de l''instrument '!$C$3=\"Epaisseur\",AND('Choix de l''instrument '!$D$3>=Epaisseur!G158,G158<>\"\"),\"\")","v":""}]
["DIM-0043","Sonde",null,null,null,"Afficher",null,null,null,null,null,null,null,{"$f":"IF('Choix de l''instrument '!$C$3=\"Epaisseur\",AND('Choix de l''instrument '!$D$3>=Epaisseur!G159,G159<>\"\"),\"\")","v":""}]
["DIM-0042","Sonde",null,null,null,"Afficher",null,null,null,null,null,null,null,{"$f":"IF('Choix de l''instrument '!$C$3=\"Epaisseur\",AND('Choix de l''instrument '!$D$3>=Epaisseur!G160,G160<>\"\"),\"\")","v":""}]
["DIM-0060","Sonde",null,null,null,"Afficher",null,null,null,null,null,null,null,{"$f":"IF('Choix de l''instrument '!$C$3=\"Epaisseur\",AND('Choix de l''instrument '!$D$3>=Epaisseur!G161,G161<>\"\"),\"\")","v":""}]
["SON-004","Sonde à ultra-son",null,null,null,"Afficher",null,null,null,null,null,null,null,{"$f":"IF('Choix de l''instrument '!$C$3=\"Epaisseur\",AND('Choix de l''instrument '!$D$3>=Epaisseur!G162,G162<>\"\"),\"\")","v":""}]

{"sheet":"Etalonnage_Dureté","index":15,"n_rows":16,"n_cols":14,"rows_kept":16,"cut":false,"hidden":false,"merged":[]}
["Etalonnage_dureté"]
[null,null,null,null,null,null,"résolution g",null,null,null,null,null,null,"Résultat critère IT"]
["SQ.021","Etalon de dureté",null,null,null,"Afficher",null,null,null,null,null,null,null,{"$f":"IF('Choix de l''instrument '!$C$3=\"Etalonnage_Dureté\",AND('Choix de l''instrument '!$D$3>=Etalonnage_Dureté!G3,G3<>\"\"),\"\")","v":""}]
["DUR-141","Etalon de dureté",null,null,null,"Afficher",null,null,null,null,null,null,null,{"$f":"IF('Choix de l''instrument '!$C$3=\"Etalonnage_Dureté\",AND('Choix de l''instrument '!$D$3>=Etalonnage_Dureté!G4,G4<>\"\"),\"\")","v":""}]
["DUR-140","Etalon de dureté",null,null,null,"Afficher",null,null,null,null,null,null,null,{"$f":"IF('Choix de l''instrument '!$C$3=\"Etalonnage_Dureté\",AND('Choix de l''instrument '!$D$3>=Etalonnage_Dureté!G5,G5<>\"\"),\"\")","v":""}]
["DUR-138","Etalon de dureté",null,null,null,"Afficher",null,null,null,null,null,null,null,{"$f":"IF('Choix de l''instrument '!$C$3=\"Etalonnage_Dureté\",AND('Choix de l''instrument '!$D$3>=Etalonnage_Dureté!G6,G6<>\"\"),\"\")","v":""}]
["DUR-001","Etalon de dureté","30 / 90 ShA",null,null,"Afficher",null,null,null,null,null,null,null,{"$f":"IF('Choix de l''instrument '!$C$3=\"Etalonnage_Dureté\",AND('Choix de l''instrument '!$D$3>=Etalonnage_Dureté!G7,G7<>\"\"),\"\")","v":""}]
["DUR-137","Etalon de dureté",null,null,null,"Afficher",null,null,null,null,null,null,null,{"$f":"IF('Choix de l''instrument '!$C$3=\"Etalonnage_Dureté\",AND('Choix de l''instrument '!$D$3>=Etalonnage_Dureté!G8,G8<>\"\"),\"\")","v":""}]
["DUR-136","Etalon de dureté",null,null,null,"Afficher",null,null,null,null,null,null,null,{"$f":"IF('Choix de l''instrument '!$C$3=\"Etalonnage_Dureté\",AND('Choix de l''instrument '!$D$3>=Etalonnage_Dureté!G9,G9<>\"\"),\"\")","v":""}]
["DUR-135","Etalon de dureté",null,null,null,"Afficher",null,null,null,null,null,null,null,{"$f":"IF('Choix de l''instrument '!$C$3=\"Etalonnage_Dureté\",AND('Choix de l''instrument '!$D$3>=Etalonnage_Dureté!G10,G10<>\"\"),\"\")","v":""}]
["CF.473","Etalon de dureté",null,null,null,"Afficher",null,null,null,null,null,null,null,{"$f":"IF('Choix de l''instrument '!$C$3=\"Etalonnage_Dureté\",AND('Choix de l''instrument '!$D$3>=Etalonnage_Dureté!G11,G11<>\"\"),\"\")","v":""}]
["CF.472","Etalon de dureté",null,null,null,"Afficher",null,null,null,null,null,null,null,{"$f":"IF('Choix de l''instrument '!$C$3=\"Etalonnage_Dureté\",AND('Choix de l''instrument '!$D$3>=Etalonnage_Dureté!G12,G12<>\"\"),\"\")","v":""}]
["CF.471","Etalon de dureté",null,null,null,"Afficher",null,null,null,null,null,null,null,{"$f":"IF('Choix de l''instrument '!$C$3=\"Etalonnage_Dureté\",AND('Choix de l''instrument '!$D$3>=Etalonnage_Dureté!G13,G13<>\"\"),\"\")","v":""}]
["CF.474","Etalon de dureté",null,null,null,"Afficher",null,null,null,null,null,null,null,{"$f":"IF('Choix de l''instrument '!$C$3=\"Etalonnage_Dureté\",AND('Choix de l''instrument '!$D$3>=Etalonnage_Dureté!G14,G14<>\"\"),\"\")","v":""}]
["CF.476","Etalon de dureté",null,null,null,"Afficher",null,null,null,null,null,null,null,{"$f":"IF('Choix de l''instrument '!$C$3=\"Etalonnage_Dureté\",AND('Choix de l''instrument '!$D$3>=Etalonnage_Dureté!G15,G15<>\"\"),\"\")","v":""}]
["CF.475","Etalon de dureté",null,null,null,"Afficher",null,null,null,null,null,null,null,{"$f":"IF('Choix de l''instrument '!$C$3=\"Etalonnage_Dureté\",AND('Choix de l''instrument '!$D$3>=Etalonnage_Dureté!G16,G16<>\"\"),\"\")","v":""}]

{"sheet":"Etalonnage_Epaisseur","index":16,"n_rows":130,"n_cols":14,"rows_kept":130,"cut":false,"hidden":false,"merged":[]}
["Etalonnage_Epaisseur"]
[null,null,null,null,null,null,"résolution g",null,null,null,null,null,null,"Résultat critère IT"]
["ETA-0368","Etalon d'épaisseur","9,95 / 9,97 / 9,985 / 9,995 / 10",null,null,"Afficher",null,null,null,null,null,null,null,{"$f":"IF('Choix de l''instrument '!$C$3=\"Etalonnage_Epaisseur\",AND('Choix de l''instrument '!$D$3>=Etalonnage_Epaisseur!G3,G3<>\"\"),\"\")","v":""}]
["ETAL-183","Etalon pour capteur Heidenhaim","0,200 mm",null,null,"Afficher",null,null,null,null,null,null,null,{"$f":"IF('Choix de l''instrument '!$C$3=\"Etalonnage_Epaisseur\",AND('Choix de l''instrument '!$D$3>=Etalonnage_Epaisseur!G4,G4<>\"\"),\"\")","v":""}]
["ETAL-002","Etalon pour capteur Heidenhaim","0,250 mm",null,null,"Afficher",null,null,null,null,null,null,null,{"$f":"IF('Choix de l''instrument '!$C$3=\"Etalonnage_Epaisseur\",AND('Choix de l''instrument '!$D$3>=Etalonnage_Epaisseur!G5,G5<>\"\"),\"\")","v":""}]
["ETAL-001","Etalon pour capteur Heidenhaim","0,25 mm",null,null,"Afficher",null,null,null,null,null,null,null,{"$f":"IF('Choix de l''instrument '!$C$3=\"Etalonnage_Epaisseur\",AND('Choix de l''instrument '!$D$3>=Etalonnage_Epaisseur!G6,G6<>\"\"),\"\")","v":""}]
["SQ.117","Etalon pour capteur Heidenhaim",null,null,null,"Afficher",null,null,null,null,null,null,null,{"$f":"IF('Choix de l''instrument '!$C$3=\"Etalonnage_Epaisseur\",AND('Choix de l''instrument '!$D$3>=Etalonnage_Epaisseur!G7,G7<>\"\"),\"\")","v":""}]
["SQ.116","Etalon pour capteur Heidenhaim",null,null,null,"Afficher",null,null,null,null,null,null,null,{"$f":"IF('Choix de l''instrument '!$C$3=\"Etalonnage_Epaisseur\",AND('Choix de l''instrument '!$D$3>=Etalonnage_Epaisseur!G8,G8<>\"\"),\"\")","v":""}]
["SQ.120","Etalon pour capteur Heidenhaim",null,null,null,"Afficher",null,null,null,null,null,null,null,{"$f":"IF('Choix de l''instrument '!$C$3=\"Etalonnage_Epaisseur\",AND('Choix de l''instrument '!$D$3>=Etalonnage_Epaisseur!G9,G9<>\"\"),\"\")","v":""}]
["ETA-0088","Etalon pour capteur Heidenhaim","0,150 mm",null,null,"Afficher",null,null,null,null,null,null,null,{"$f":"IF('Choix de l''instrument '!$C$3=\"Etalonnage_Epaisseur\",AND('Choix de l''instrument '!$D$3>=Etalonnage_Epaisseur!G10,G10<>\"\"),\"\")","v":""}]
["ETA-0087","Etalon pour capteur Heidenhaim","0,150 mm",null,null,"Afficher",null,null,null,null,null,null,null,{"$f":"IF('Choix de l''instrument '!$C$3=\"Etalonnage_Epaisseur\",AND('Choix de l''instrument '!$D$3>=Etalonnage_Epaisseur!G11,G11<>\"\"),\"\")","v":""}]
["ETA-0086","Etalon pour capteur Heidenhaim","0,150 mm",null,null,"Afficher",null,null,null,null,null,null,null,{"$f":"IF('Choix de l''instrument '!$C$3=\"Etalonnage_Epaisseur\",AND('Choix de l''instrument '!$D$3>=Etalonnage_Epaisseur!G12,G12<>\"\"),\"\")","v":""}]
["ETA-0090","Etalon pour capteur Heidenhaim","0,150 mm",null,null,"Afficher",null,null,null,null,null,null,null,{"$f":"IF('Choix de l''instrument '!$C$3=\"Etalonnage_Epaisseur\",AND('Choix de l''instrument '!$D$3>=Etalonnage_Epaisseur!G13,G13<>\"\"),\"\")","v":""}]
["ETA-0089","Etalon pour capteur Heidenhaim","0,150 mm",null,null,"Afficher",null,null,null,null,null,null,null,{"$f":"IF('Choix de l''instrument '!$C$3=\"Etalonnage_Epaisseur\",AND('Choix de l''instrument '!$D$3>=Etalonnage_Epaisseur!G14,G14<>\"\"),\"\")","v":""}]
["ETA-0085","Etalon pour capteur Heidenhaim","0,150 mm",null,null,"Afficher",null,null,null,null,null,null,null,{"$f":"IF('Choix de l''instrument '!$C$3=\"Etalonnage_Epaisseur\",AND('Choix de l''instrument '!$D$3>=Etalonnage_Epaisseur!G15,G15<>\"\"),\"\")","v":""}]
["ETA-0084","Etalon pour capteur Heidenhaim","0,150 mm",null,null,"Afficher",null,null,null,null,null,null,null,{"$f":"IF('Choix de l''instrument '!$C$3=\"Etalonnage_Epaisseur\",AND('Choix de l''instrument '!$D$3>=Etalonnage_Epaisseur!G16,G16<>\"\"),\"\")","v":""}]
["ETA-0083","Etalon pour capteur Heidenhaim","0,150 mm",null,null,"Afficher",null,null,null,null,null,null,null,{"$f":"IF('Choix de l''instrument '!$C$3=\"Etalonnage_Epaisseur\",AND('Choix de l''instrument '!$D$3>=Etalonnage_Epaisseur!G17,G17<>\"\"),\"\")","v":""}]
["ETA-0005","Etalon pour capteur Heidenhaim","0,150 mm",null,null,"Afficher",null,null,null,null,null,null,null,{"$f":"IF('Choix de l''instrument '!$C$3=\"Etalonnage_Epaisseur\",AND('Choix de l''instrument '!$D$3>=Etalonnage_Epaisseur!G18,G18<>\"\"),\"\")","v":""}]
["ETA-0004","Etalon pour capteur Heidenhaim","0,150 mm",null,null,"Afficher",null,null,null,null,null,null,null,{"$f":"IF('Choix de l''instrument '!$C$3=\"Etalonnage_Epaisseur\",AND('Choix de l''instrument '!$D$3>=Etalonnage_Epaisseur!G19,G19<>\"\"),\"\")","v":""}]
["ETA-0003","Etalon pour capteur Heidenhaim","0,150 mm",null,null,"Afficher",null,null,null,null,null,null,null,{"$f":"IF('Choix de l''instrument '!$C$3=\"Etalonnage_Epaisseur\",AND('Choix de l''instrument '!$D$3>=Etalonnage_Epaisseur!G20,G20<>\"\"),\"\")","v":""}]
["ETA-0008","Etalon pour capteur Heidenhaim","0,250 mm",null,null,"Afficher",null,null,null,null,null,null,null,{"$f":"IF('Choix de l''instrument '!$C$3=\"Etalonnage_Epaisseur\",AND('Choix de l''instrument '!$D$3>=Etalonnage_Epaisseur!G21,G21<>\"\"),\"\")","v":""}]
["ETA-0002","Etalon pour capteur Heidenhaim",null,null,null,"Afficher",null,null,null,null,null,null,null,{"$f":"IF('Choix de l''instrument '!$C$3=\"Etalonnage_Epaisseur\",AND('Choix de l''instrument '!$D$3>=Etalonnage_Epaisseur!G22,G22<>\"\"),\"\")","v":""}]
["ETA-0001","Etalon pour capteur Heidenhaim","0,15 mm",null,null,"Afficher",null,null,null,null,null,null,null,{"$f":"IF('Choix de l''instrument '!$C$3=\"Etalonnage_Epaisseur\",AND('Choix de l''instrument '!$D$3>=Etalonnage_Epaisseur!G23,G23<>\"\"),\"\")","v":""}]
["ETA-0009","Etalon pour capteur Heidenhaim","0,250 mm",null,null,"Afficher",null,null,null,null,null,null,null,{"$f":"IF('Choix de l''instrument '!$C$3=\"Etalonnage_Epaisseur\",AND('Choix de l''instrument '!$D$3>=Etalonnage_Epaisseur!G24,G24<>\"\"),\"\")","v":""}]
["ETA-0046","Etalon pour capteur Heidenhaim","0,250 mm",null,null,"Afficher",null,null,null,null,null,null,null,{"$f":"IF('Choix de l''instrument '!$C$3=\"Etalonnage_Epaisseur\",AND('Choix de l''instrument '!$D$3>=Etalonnage_Epaisseur!G25,G25<>\"\"),\"\")","v":""}]
["ETA-0045","Etalon pour capteur Heidenhaim",null,null,null,"Afficher",null,null,null,null,null,null,null,{"$f":"IF('Choix de l''instrument '!$C$3=\"Etalonnage_Epaisseur\",AND('Choix de l''instrument '!$D$3>=Etalonnage_Epaisseur!G26,G26<>\"\"),\"\")","v":""}]
["ETA-0044","Etalon pour capteur Heidenhaim","0,250 mm",null,null,"Afficher",null,null,null,null,null,null,null,{"$f":"IF('Choix de l''instrument '!$C$3=\"Etalonnage_Epaisseur\",AND('Choix de l''instrument '!$D$3>=Etalonnage_Epaisseur!G27,G27<>\"\"),\"\")","v":""}]
["ETA-0043","Etalon pour capteur Heidenhaim","250 mm",null,null,"Afficher",null,null,null,null,null,null,null,{"$f":"IF('Choix de l''instrument '!$C$3=\"Etalonnage_Epaisseur\",AND('Choix de l''instrument '!$D$3>=Etalonnage_Epaisseur!G28,G28<>\"\"),\"\")","v":""}]
["ETA-0042","Etalon pour capteur Heidenhaim","0,250 mm",null,null,"Afficher",null,null,null,null,null,null,null,{"$f":"IF('Choix de l''instrument '!$C$3=\"Etalonnage_Epaisseur\",AND('Choix de l''instrument '!$D$3>=Etalonnage_Epaisseur!G29,G29<>\"\"),\"\")","v":""}]
["ETA-0041","Etalon pour capteur Heidenhaim","0,250 mm",null,null,"Afficher",null,null,null,null,null,null,null,{"$f":"IF('Choix de l''instrument '!$C$3=\"Etalonnage_Epaisseur\",AND('Choix de l''instrument '!$D$3>=Etalonnage_Epaisseur!G30,G30<>\"\"),\"\")","v":""}]
["ETA-0012","Etalon pour capteur Heidenhaim","0,250 mm",null,null,"Afficher",null,null,null,null,null,null,null,{"$f":"IF('Choix de l''instrument '!$C$3=\"Etalonnage_Epaisseur\",AND('Choix de l''instrument '!$D$3>=Etalonnage_Epaisseur!G31,G31<>\"\"),\"\")","v":""}]
["ETA-0011","Etalon pour capteur Heidenhaim","0,250 mm",null,null,"Afficher",null,null,null,null,null,null,null,{"$f":"IF('Choix de l''instrument '!$C$3=\"Etalonnage_Epaisseur\",AND('Choix de l''instrument '!$D$3>=Etalonnage_Epaisseur!G32,G32<>\"\"),\"\")","v":""}]
["ETA-0010","Etalon pour capteur Heidenhaim","0,250 mm",null,null,"Afficher",null,null,null,null,null,null,null,{"$f":"IF('Choix de l''instrument '!$C$3=\"Etalonnage_Epaisseur\",AND('Choix de l''instrument '!$D$3>=Etalonnage_Epaisseur!G33,G33<>\"\"),\"\")","v":""}]
["ETA-0292","Tube Etalon","0,15 mm",null,null,"Afficher",null,null,null,null,null,null,null,{"$f":"IF('Choix de l''instrument '!$C$3=\"Etalonnage_Epaisseur\",AND('Choix de l''instrument '!$D$3>=Etalonnage_Epaisseur!G34,G34<>\"\"),\"\")","v":""}]
["ETA-0291","Tube Etalon","0,15 mm",null,null,"Afficher",null,null,null,null,null,null,null,{"$f":"IF('Choix de l''instrument '!$C$3=\"Etalonnage_Epaisseur\",AND('Choix de l''instrument '!$D$3>=Etalonnage_Epaisseur!G35,G35<>\"\"),\"\")","v":""}]
["ETA-0287","Tube Etalon","0,15 mm",null,null,"Afficher",null,null,null,null,null,null,null,{"$f":"IF('Choix de l''instrument '!$C$3=\"Etalonnage_Epaisseur\",AND('Choix de l''instrument '!$D$3>=Etalonnage_Epaisseur!G36,G36<>\"\"),\"\")","v":""}]
["ETA-0286","Tube Etalon","0,15 mm",null,null,"Afficher",null,null,null,null,null,null,null,{"$f":"IF('Choix de l''instrument '!$C$3=\"Etalonnage_Epaisseur\",AND('Choix de l''instrument '!$D$3>=Etalonnage_Epaisseur!G37,G37<>\"\"),\"\")","v":""}]
["ETA-0285","Tube Etalon","0,15 mm",null,null,"Afficher",null,null,null,null,null,null,null,{"$f":"IF('Choix de l''instrument '!$C$3=\"Etalonnage_Epaisseur\",AND('Choix de l''instrument '!$D$3>=Etalonnage_Epaisseur!G38,G38<>\"\"),\"\")","v":""}]
["ETA-0290","Tube Etalon","0,15 mm",null,null,"Afficher",null,null,null,null,null,null,null,{"$f":"IF('Choix de l''instrument '!$C$3=\"Etalonnage_Epaisseur\",AND('Choix de l''instrument '!$D$3>=Etalonnage_Epaisseur!G39,G39<>\"\"),\"\")","v":""}]
["ETA-0289","Tube Etalon","0,15 mm",null,null,"Afficher",null,null,null,null,null,null,null,{"$f":"IF('Choix de l''instrument '!$C$3=\"Etalonnage_Epaisseur\",AND('Choix de l''instrument '!$D$3>=Etalonnage_Epaisseur!G40,G40<>\"\"),\"\")","v":""}]
["ETA-0288","Tube Etalon","0,15 mm",null,null,"Afficher",null,null,null,null,null,null,null,{"$f":"IF('Choix de l''instrument '!$C$3=\"Etalonnage_Epaisseur\",AND('Choix de l''instrument '!$D$3>=Etalonnage_Epaisseur!G41,G41<>\"\"),\"\")","v":""}]
["ETA-0284","Tube Etalon","0,15 mm",null,null,"Afficher",null,null,null,null,null,null,null,{"$f":"IF('Choix de l''instrument '!$C$3=\"Etalonnage_Epaisseur\",AND('Choix de l''instrument '!$D$3>=Etalonnage_Epaisseur!G42,G42<>\"\"),\"\")","v":""}]
["ETA-0280","Tube Etalon","0,250 mm",null,null,"Afficher",null,null,null,null,null,null,null,{"$f":"IF('Choix de l''instrument '!$C$3=\"Etalonnage_Epaisseur\",AND('Choix de l''instrument '!$D$3>=Etalonnage_Epaisseur!G43,G43<>\"\"),\"\")","v":""}]
["ETA-0279","Tube Etalon","0,250 mm",null,null,"Afficher",null,null,null,null,null,null,null,{"$f":"IF('Choix de l''instrument '!$C$3=\"Etalonnage_Epaisseur\",AND('Choix de l''instrument '!$D$3>=Etalonnage_Epaisseur!G44,G44<>\"\"),\"\")","v":""}]
["ETA-0278","Tube Etalon","0,250 mm",null,null,"Afficher",null,null,null,null,null,null,null,{"$f":"IF('Choix de l''instrument '!$C$3=\"Etalonnage_Epaisseur\",AND('Choix de l''instrument '!$D$3>=Etalonnage_Epaisseur!G45,G45<>\"\"),\"\")","v":""}]
["ETA-0283","Tube Etalon","0,15 mm",null,null,"Afficher",null,null,null,null,null,null,null,{"$f":"IF('Choix de l''instrument '!$C$3=\"Etalonnage_Epaisseur\",AND('Choix de l''instrument '!$D$3>=Etalonnage_Epaisseur!G46,G46<>\"\"),\"\")","v":""}]
["ETA-0282","Tube Etalon","0,250 mm",null,null,"Afficher",null,null,null,null,null,null,null,{"$f":"IF('Choix de l''instrument '!$C$3=\"Etalonnage_Epaisseur\",AND('Choix de l''instrument '!$D$3>=Etalonnage_Epaisseur!G47,G47<>\"\"),\"\")","v":""}]
["ETA-0281","Tube Etalon","0,250 mm",null,null,"Afficher",null,null,null,null,null,null,null,{"$f":"IF('Choix de l''instrument '!$C$3=\"Etalonnage_Epaisseur\",AND('Choix de l''instrument '!$D$3>=Etalonnage_Epaisseur!G48,G48<>\"\"),\"\")","v":""}]
["ETA-0277","Tube Etalon","0,250 mm",null,null,"Afficher",null,null,null,null,null,null,null,{"$f":"IF('Choix de l''instrument '!$C$3=\"Etalonnage_Epaisseur\",AND('Choix de l''instrument '!$D$3>=Etalonnage_Epaisseur!G49,G49<>\"\"),\"\")","v":""}]
["ETA-0273","Tube Etalon","0,250 mm",null,null,"Afficher",null,null,null,null,null,null,null,{"$f":"IF('Choix de l''instrument '!$C$3=\"Etalonnage_Epaisseur\",AND('Choix de l''instrument '!$D$3>=Etalonnage_Epaisseur!G50,G50<>\"\"),\"\")","v":""}]
["ETA-0276","Tube Etalon","0,250 mm",null,null,"Afficher",null,null,null,null,null,null,null,{"$f":"IF('Choix de l''instrument '!$C$3=\"Etalonnage_Epaisseur\",AND('Choix de l''instrument '!$D$3>=Etalonnage_Epaisseur!G51,G51<>\"\"),\"\")","v":""}]
["ETA-0275","Tube Etalon","0,250 mm",null,null,"Afficher",null,null,null,null,null,null,null,{"$f":"IF('Choix de l''instrument '!$C$3=\"Etalonnage_Epaisseur\",AND('Choix de l''instrument '!$D$3>=Etalonnage_Epaisseur!G52,G52<>\"\"),\"\")","v":""}]
["ETA-0274","Tube Etalon","0,250 mm",null,null,"Afficher",null,null,null,null,null,null,null,{"$f":"IF('Choix de l''instrument '!$C$3=\"Etalonnage_Epaisseur\",AND('Choix de l''instrument '!$D$3>=Etalonnage_Epaisseur!G53,G53<>\"\"),\"\")","v":""}]
["ETA-0238","Tube Etalon",null,null,null,"Afficher",null,null,null,null,null,null,null,{"$f":"IF('Choix de l''instrument '!$C$3=\"Etalonnage_Epaisseur\",AND('Choix de l''instrument '!$D$3>=Etalonnage_Epaisseur!G54,G54<>\"\"),\"\")","v":""}]
["ETA-0237","Tube Etalon",null,null,null,"Afficher",null,null,null,null,null,null,null,{"$f":"IF('Choix de l''instrument '!$C$3=\"Etalonnage_Epaisseur\",AND('Choix de l''instrument '!$D$3>=Etalonnage_Epaisseur!G55,G55<>\"\"),\"\")","v":""}]
["ETA-0236","Tube Etalon",null,null,null,"Afficher",null,null,null,null,null,null,null,{"$f":"IF('Choix de l''instrument '!$C$3=\"Etalonnage_Epaisseur\",AND('Choix de l''instrument '!$D$3>=Etalonnage_Epaisseur!G56,G56<>\"\"),\"\")","v":""}]
["ETA-0241","Tube Etalon",null,null,null,"Afficher",null,null,null,null,null,null,null,{"$f":"IF('Choix de l''instrument '!$C$3=\"Etalonnage_Epaisseur\",AND('Choix de l''instrument '!$D$3>=Etalonnage_Epaisseur!G57,G57<>\"\"),\"\")","v":""}]
["ETA-0240","Tube Etalon",null,null,null,"Afficher",null,null,null,null,null,null,null,{"$f":"IF('Choix de l''instrument '!$C$3=\"Etalonnage_Epaisseur\",AND('Choix de l''instrument '!$D$3>=Etalonnage_Epaisseur!G58,G58<>\"\"),\"\")","v":""}]
["ETA-0239","Tube Etalon",null,null,null,"Afficher",null,null,null,null,null,null,null,{"$f":"IF('Choix de l''instrument '!$C$3=\"Etalonnage_Epaisseur\",AND('Choix de l''instrument '!$D$3>=Etalonnage_Epaisseur!G59,G59<>\"\"),\"\")","v":""}]
["ETAL-192","Tube Etalon","0,200 mm",null,null,"Afficher",null,null,null,null,null,null,null,{"$f":"IF('Choix de l''instrument '!$C$3=\"Etalonnage_Epaisseur\",AND('Choix de l''instrument '!$D$3>=Etalonnage_Epaisseur!G60,G60<>\"\"),\"\")","v":""}]
["ETAL-191","Tube Etalon","0,200 mm",null,null,"Afficher",null,null,null,null,null,null,null,{"$f":"IF('Choix de l''instrument '!$C$3=\"Etalonnage_Epaisseur\",AND('Choix de l''instrument '!$D$3>=Etalonnage_Epaisseur!G61,G61<>\"\"),\"\")","v":""}]
["ETAL-190","Tube Etalon","0,200 mm",null,null,"Afficher",null,null,null,null,null,null,null,{"$f":"IF('Choix de l''instrument '!$C$3=\"Etalonnage_Epaisseur\",AND('Choix de l''instrument '!$D$3>=Etalonnage_Epaisseur!G62,G62<>\"\"),\"\")","v":""}]
["ETAL-195","Tube Etalon","0,15 mm",null,null,"Afficher",null,null,null,null,null,null,null,{"$f":"IF('Choix de l''instrument '!$C$3=\"Etalonnage_Epaisseur\",AND('Choix de l''instrument '!$D$3>=Etalonnage_Epaisseur!G63,G63<>\"\"),\"\")","v":""}]
["ETAL-194","Tube Etalon","0,200 mm",null,null,"Afficher",null,null,null,null,null,null,null,{"$f":"IF('Choix de l''instrument '!$C$3=\"Etalonnage_Epaisseur\",AND('Choix de l''instrument '!$D$3>=Etalonnage_Epaisseur!G64,G64<>\"\"),\"\")","v":""}]
["ETAL-193","Tube Etalon","0,200 mm",null,null,"Afficher",null,null,null,null,null,null,null,{"$f":"IF('Choix de l''instrument '!$C$3=\"Etalonnage_Epaisseur\",AND('Choix de l''instrument '!$D$3>=Etalonnage_Epaisseur!G65,G65<>\"\"),\"\")","v":""}]
["ETAL-189","Tube Etalon","0,200 mm",null,null,"Afficher",null,null,null,null,null,null,null,{"$f":"IF('Choix de l''instrument '!$C$3=\"Etalonnage_Epaisseur\",AND('Choix de l''instrument '!$D$3>=Etalonnage_Epaisseur!G66,G66<>\"\"),\"\")","v":""}]
["ETAL-185","Tube Etalon","0,200 mm",null,null,"Afficher",null,null,null,null,null,null,null,{"$f":"IF('Choix de l''instrument '!$C$3=\"Etalonnage_Epaisseur\",AND('Choix de l''instrument '!$D$3>=Etalonnage_Epaisseur!G67,G67<>\"\"),\"\")","v":""}]
["ETAL-184","Tube Etalon","0,200 mm",null,null,"Afficher",null,null,null,null,null,null,null,{"$f":"IF('Choix de l''instrument '!$C$3=\"Etalonnage_Epaisseur\",AND('Choix de l''instrument '!$D$3>=Etalonnage_Epaisseur!G68,G68<>\"\"),\"\")","v":""}]
["ETAL-188","Tube Etalon","0,200 mm",null,null,"Afficher",null,null,null,null,null,null,null,{"$f":"IF('Choix de l''instrument '!$C$3=\"Etalonnage_Epaisseur\",AND('Choix de l''instrument '!$D$3>=Etalonnage_Epaisseur!G69,G69<>\"\"),\"\")","v":""}]
["ETAL-187","Tube Etalon","0,200 mm",null,null,"Afficher",null,null,null,null,null,null,null,{"$f":"IF('Choix de l''instrument '!$C$3=\"Etalonnage_Epaisseur\",AND('Choix de l''instrument '!$D$3>=Etalonnage_Epaisseur!G70,G70<>\"\"),\"\")","v":""}]
["ETAL-186","Tube Etalon","0,200 mm",null,null,"Afficher",null,null,null,null,null,null,null,{"$f":"IF('Choix de l''instrument '!$C$3=\"Etalonnage_Epaisseur\",AND('Choix de l''instrument '!$D$3>=Etalonnage_Epaisseur!G71,G71<>\"\"),\"\")","v":""}]
["ETAL-249","Tube Etalon",1,null,null,"Afficher",null,null,null,null,null,null,null,{"$f":"IF('Choix de l''instrument '!$C$3=\"Etalonnage_Epaisseur\",AND('Choix de l''instrument '!$D$3>=Etalonnage_Epaisseur!G72,G72<>\"\"),\"\")","v":""}]
["ETAL-004","Tube Etalon","0,250 mm",null,null,"Afficher",null,null,null,null,null,null,null,{"$f":"IF('Choix de l''instrument '!$C$3=\"Etalonnage_Epaisseur\",AND('Choix de l''instrument '!$D$3>=Etalonnage_Epaisseur!G73,G73<>\"\"),\"\")","v":""}]
["ETAL-003","Tube Etalon","0,200 mm",null,null,"Afficher",null,null,null,null,null,null,null,{"$f":"IF('Choix de l''instrument '!$C$3=\"Etalonnage_Epaisseur\",AND('Choix de l''instrument '!$D$3>=Etalonnage_Epaisseur!G74,G74<>\"\"),\"\")","v":""}]
["ETAL-007","Tube Etalon","0,15 mm",null,null,"Afficher",null,null,null,null,null,null,null,{"$f":"IF('Choix de l''instrument '!$C$3=\"Etalonnage_Epaisseur\",AND('Choix de l''instrument '!$D$3>=Etalonnage_Epaisseur!G75,G75<>\"\"),\"\")","v":""}]
["ETAL-006","Tube Etalon","0,15 mm",null,null,"Afficher",null,null,null,null,null,null,null,{"$f":"IF('Choix de l''instrument '!$C$3=\"Etalonnage_Epaisseur\",AND('Choix de l''instrument '!$D$3>=Etalonnage_Epaisseur!G76,G76<>\"\"),\"\")","v":""}]
["ETAL-005","Tube Etalon","0,250 mm",null,null,"Afficher",null,null,null,null,null,null,null,{"$f":"IF('Choix de l''instrument '!$C$3=\"Etalonnage_Epaisseur\",AND('Choix de l''instrument '!$D$3>=Etalonnage_Epaisseur!G77,G77<>\"\"),\"\")","v":""}]
["ETAL-008","Tube Etalon","0,25 mm",null,null,"Afficher",null,null,null,null,null,null,null,{"$f":"IF('Choix de l''instrument '!$C$3=\"Etalonnage_Epaisseur\",AND('Choix de l''instrument '!$D$3>=Etalonnage_Epaisseur!G78,G78<>\"\"),\"\")","v":""}]
["ETAL-179","Tube Etalon","0,200 mm",null,null,"Afficher",null,null,null,null,null,null,null,{"$f":"IF('Choix de l''instrument '!$C$3=\"Etalonnage_Epaisseur\",AND('Choix de l''instrument '!$D$3>=Etalonnage_Epaisseur!G79,G79<>\"\"),\"\")","v":""}]
["ETAL-018","Tube Etalon",null,null,null,"Afficher",null,null,null,null,null,null,null,{"$f":"IF('Choix de l''instrument '!$C$3=\"Etalonnage_Epaisseur\",AND('Choix de l''instrument '!$D$3>=Etalonnage_Epaisseur!G80,G80<>\"\"),\"\")","v":""}]
["ETAL-017","Tube Etalon",null,null,null,"Afficher",null,null,null,null,null,null,null,{"$f":"IF('Choix de l''instrument '!$C$3=\"Etalonnage_Epaisseur\",AND('Choix de l''instrument '!$D$3>=Etalonnage_Epaisseur!G81,G81<>\"\"),\"\")","v":""}]
["ETAL-182","Tube Etalon","0,200 mm",null,null,"Afficher",null,null,null,null,null,null,null,{"$f":"IF('Choix de l''instrument '!$C$3=\"Etalonnage_Epaisseur\",AND('Choix de l''instrument '!$D$3>=Etalonnage_Epaisseur!G82,G82<>\"\"),\"\")","v":""}]
["ETAL-181","Tube Etalon","0,200 mm",null,null,"Afficher",null,null,null,null,null,null,null,{"$f":"IF('Choix de l''instrument '!$C$3=\"Etalonnage_Epaisseur\",AND('Choix de l''instrument '!$D$3>=Etalonnage_Epaisseur!G83,G83<>\"\"),\"\")","v":""}]
["ETAL-180","Tube Etalon","0,200 mm",null,null,"Afficher",null,null,null,null,null,null,null,{"$f":"IF('Choix de l''instrument '!$C$3=\"Etalonnage_Epaisseur\",AND('Choix de l''instrument '!$D$3>=Etalonnage_Epaisseur!G84,G84<>\"\"),\"\")","v":""}]
["ETAL-016","Tube Etalon","0,00191 inch",null,null,"Afficher",null,null,null,null,null,null,null,{"$f":"IF('Choix de l''instrument '!$C$3=\"Etalonnage_Epaisseur\",AND('Choix de l''instrument '!$D$3>=Etalonnage_Epaisseur!G85,G85<>\"\"),\"\")","v":""}]
["ETAL-011","Tube Etalon","0,15 mm",null,null,"Afficher",null,null,null,null,null,null,null,{"$f":"IF('Choix de l''instrument '!$C$3=\"Etalonnage_Epaisseur\",AND('Choix de l''instrument '!$D$3>=Etalonnage_Epaisseur!G86,G86<>\"\"),\"\")","v":""}]
["ETAL-010","Tube Etalon","0,2 mm",null,null,"Afficher",null,null,null,null,null,null,null,{"$f":"IF('Choix de l''instrument '!$C$3=\"Etalonnage_Epaisseur\",AND('Choix de l''instrument '!$D$3>=Etalonnage_Epaisseur!G87,G87<>\"\"),\"\")","v":""}]
["ETAL-009","Tube Etalon","0,25 mm",null,null,"Afficher",null,null,null,null,null,null,null,{"$f":"IF('Choix de l''instrument '!$C$3=\"Etalonnage_Epaisseur\",AND('Choix de l''instrument '!$D$3>=Etalonnage_Epaisseur!G88,G88<>\"\"),\"\")","v":""}]
["ETAL-015","Tube Etalon",1,null,null,"Afficher",null,null,null,null,null,null,null,{"$f":"IF('Choix de l''instrument '!$C$3=\"Etalonnage_Epaisseur\",AND('Choix de l''instrument '!$D$3>=Etalonnage_Epaisseur!G89,G89<>\"\"),\"\")","v":""}]
["ETA-0445","Tube Etalon","0,150 mm",null,null,"Afficher",null,null,null,null,null,null,null,{"$f":"IF('Choix de l''instrument '!$C$3=\"Etalonnage_Epaisseur\",AND('Choix de l''instrument '!$D$3>=Etalonnage_Epaisseur!G90,G90<>\"\"),\"\")","v":""}]
["ETA-0444","Tube Etalon","0,150 mm",null,null,"Afficher",null,null,null,null,null,null,null,{"$f":"IF('Choix de l''instrument '!$C$3=\"Etalonnage_Epaisseur\",AND('Choix de l''instrument '!$D$3>=Etalonnage_Epaisseur!G91,G91<>\"\"),\"\")","v":""}]
["ETA-0443","Tube Etalon","0,150 mm",null,null,"Afficher",null,null,null,null,null,null,null,{"$f":"IF('Choix de l''instrument '!$C$3=\"Etalonnage_Epaisseur\",AND('Choix de l''instrument '!$D$3>=Etalonnage_Epaisseur!G92,G92<>\"\"),\"\")","v":""}]
["ETA-0448","Tube Etalon","0,150 mm",null,null,"Afficher",null,null,null,null,null,null,null,{"$f":"IF('Choix de l''instrument '!$C$3=\"Etalonnage_Epaisseur\",AND('Choix de l''instrument '!$D$3>=Etalonnage_Epaisseur!G93,G93<>\"\"),\"\")","v":""}]
["ETA-0447","Tube Etalon","0,150 mm",null,null,"Afficher",null,null,null,null,null,null,null,{"$f":"IF('Choix de l''instrument '!$C$3=\"Etalonnage_Epaisseur\",AND('Choix de l''instrument '!$D$3>=Etalonnage_Epaisseur!G94,G94<>\"\"),\"\")","v":""}]
["ETA-0446","Tube Etalon","0,150 mm",null,null,"Afficher",null,null,null,null,null,null,null,{"$f":"IF('Choix de l''instrument '!$C$3=\"Etalonnage_Epaisseur\",AND('Choix de l''instrument '!$D$3>=Etalonnage_Epaisseur!G95,G95<>\"\"),\"\")","v":""}]
["ETA-0442","Tube Etalon","0,150 mm",null,null,"Afficher",null,null,null,null,null,null,null,{"$f":"IF('Choix de l''instrument '!$C$3=\"Etalonnage_Epaisseur\",AND('Choix de l''instrument '!$D$3>=Etalonnage_Epaisseur!G96,G96<>\"\"),\"\")","v":""}]
["ETA-0441","Tube Etalon","0,150 mm",null,null,"Afficher",null,null,null,null,null,null,null,{"$f":"IF('Choix de l''instrument '!$C$3=\"Etalonnage_Epaisseur\",AND('Choix de l''instrument '!$D$3>=Etalonnage_Epaisseur!G97,G97<>\"\"),\"\")","v":""}]
["ETA-0440","Tube Etalon","0,150 mm",null,null,"Afficher",null,null,null,null,null,null,null,{"$f":"IF('Choix de l''instrument '!$C$3=\"Etalonnage_Epaisseur\",AND('Choix de l''instrument '!$D$3>=Etalonnage_Epaisseur!G98,G98<>\"\"),\"\")","v":""}]
["ETA-0449","Tube Etalon","0,150 mm",null,null,"Afficher",null,null,null,null,null,null,null,{"$f":"IF('Choix de l''instrument '!$C$3=\"Etalonnage_Epaisseur\",AND('Choix de l''instrument '!$D$3>=Etalonnage_Epaisseur!G99,G99<>\"\"),\"\")","v":""}]
["ETA-0479","Tube Etalon","Diamètre interieur : 0,150 mm Longueur : 500mm",null,null,"Afficher",null,null,null,null,null,null,null,{"$f":"IF('Choix de l''instrument '!$C$3=\"Etalonnage_Epaisseur\",AND('Choix de l''instrument '!$D$3>=Etalonnage_Epaisseur!G100,G100<>\"\"),\"\")","v":""}]
["ETA-0478","Tube Etalon","Diamètre interieur : 0,150 mm Longueur : 500mm",null,null,"Afficher",null,null,null,null,null,null,null,{"$f":"IF('Choix de l''instrument '!$C$3=\"Etalonnage_Epaisseur\",AND('Choix de l''instrument '!$D$3>=Etalonnage_Epaisseur!G101,G101<>\"\"),\"\")","v":""}]
["ETA-0477","Tube Etalon","Diamètre interieur : 0,075 mm Longueur : 500mm",null,null,"Afficher",null,null,null,null,null,null,null,{"$f":"IF('Choix de l''instrument '!$C$3=\"Etalonnage_Epaisseur\",AND('Choix de l''instrument '!$D$3>=Etalonnage_Epaisseur!G102,G102<>\"\"),\"\")","v":""}]
["ETA-0481","Tube Etalon","Diamètre interieur : 0,150 mm Longueur : 500mm",null,null,"Afficher",null,null,null,null,null,null,null,{"$f":"IF('Choix de l''instrument '!$C$3=\"Etalonnage_Epaisseur\",AND('Choix de l''instrument '!$D$3>=Etalonnage_Epaisseur!G103,G103<>\"\"),\"\")","v":""}]
["ETA-0480","Tube Etalon","Diamètre interieur : 0,150 mm Longueur : 500mm",null,null,"Afficher",null,null,null,null,null,null,null,{"$f":"IF('Choix de l''instrument '!$C$3=\"Etalonnage_Epaisseur\",AND('Choix de l''instrument '!$D$3>=Etalonnage_Epaisseur!G104,G104<>\"\"),\"\")","v":""}]
["ETA-0459","Tube Etalon","0,250 mm",null,null,"Afficher",null,null,null,null,null,null,null,{"$f":"IF('Choix de l''instrument '!$C$3=\"Etalonnage_Epaisseur\",AND('Choix de l''instrument '!$D$3>=Etalonnage_Epaisseur!G105,G105<>\"\"),\"\")","v":""}]
["ETA-0458","Tube Etalon","0,250 mm",null,null,"Afficher",null,null,null,null,null,null,null,{"$f":"IF('Choix de l''instrument '!$C$3=\"Etalonnage_Epaisseur\",AND('Choix de l''instrument '!$D$3>=Etalonnage_Epaisseur!G106,G106<>\"\"),\"\")","v":""}]
["ETA-0457","Tube Etalon","0,250 mm",null,null,"Afficher",null,null,null,null,null,null,null,{"$f":"IF('Choix de l''instrument '!$C$3=\"Etalonnage_Epaisseur\",AND('Choix de l''instrument '!$D$3>=Etalonnage_Epaisseur!G107,G107<>\"\"),\"\")","v":""}]
["ETA-0460","Tube Etalon","0,250 mm",null,null,"Afficher",null,null,null,null,null,null,null,{"$f":"IF('Choix de l''instrument '!$C$3=\"Etalonnage_Epaisseur\",AND('Choix de l''instrument '!$D$3>=Etalonnage_Epaisseur!G108,G108<>\"\"),\"\")","v":""}]
["ETA-0456","Tube Etalon","0,250 mm",null,null,"Afficher",null,null,null,null,null,null,null,{"$f":"IF('Choix de l''instrument '!$C$3=\"Etalonnage_Epaisseur\",AND('Choix de l''instrument '!$D$3>=Etalonnage_Epaisseur!G109,G109<>\"\"),\"\")","v":""}]
["ETA-0452","Tube Etalon","0,250 mm",null,null,"Afficher",null,null,null,null,null,null,null,{"$f":"IF('Choix de l''instrument '!$C$3=\"Etalonnage_Epaisseur\",AND('Choix de l''instrument '!$D$3>=Etalonnage_Epaisseur!G110,G110<>\"\"),\"\")","v":""}]
["ETA-0451","Tube Etalon","0,250 mm",null,null,"Afficher",null,null,null,null,null,null,null,{"$f":"IF('Choix de l''instrument '!$C$3=\"Etalonnage_Epaisseur\",AND('Choix de l''instrument '!$D$3>=Etalonnage_Epaisseur!G111,G111<>\"\"),\"\")","v":""}]
["ETA-0455","Tube Etalon","0,250 mm",null,null,"Afficher",null,null,null,null,null,null,null,{"$f":"IF('Choix de l''instrument '!$C$3=\"Etalonnage_Epaisseur\",AND('Choix de l''instrument '!$D$3>=Etalonnage_Epaisseur!G112,G112<>\"\"),\"\")","v":""}]
["ETA-0454","Tube Etalon","0,250 mm",null,null,"Afficher",null,null,null,null,null,null,null,{"$f":"IF('Choix de l''instrument '!$C$3=\"Etalonnage_Epaisseur\",AND('Choix de l''instrument '!$D$3>=Etalonnage_Epaisseur!G113,G113<>\"\"),\"\")","v":""}]
["ETA-0453","Tube Etalon","0,250 mm",null,null,"Afficher",null,null,null,null,null,null,null,{"$f":"IF('Choix de l''instrument '!$C$3=\"Etalonnage_Epaisseur\",AND('Choix de l''instrument '!$D$3>=Etalonnage_Epaisseur!G114,G114<>\"\"),\"\")","v":""}]
["ETA-0472","Tube Etalon","Longueur 3500 mm",null,null,"Afficher",null,null,null,null,null,null,null,{"$f":"IF('Choix de l''instrument '!$C$3=\"Etalonnage_Epaisseur\",AND('Choix de l''instrument '!$D$3>=Etalonnage_Epaisseur!G115,G115<>\"\"),\"\")","v":""}]
["ETA-0471","Tube Etalon","Longueur 3000 mm",null,null,"Afficher",null,null,null,null,null,null,null,{"$f":"IF('Choix de l''instrument '!$C$3=\"Etalonnage_Epaisseur\",AND('Choix de l''instrument '!$D$3>=Etalonnage_Epaisseur!G116,G116<>\"\"),\"\")","v":""}]
["ETA-0476","Tube Etalon","Diamètre interieur : 0,075 mm Longueur : 500mm",null,null,"Afficher",null,null,null,null,null,null,null,{"$f":"IF('Choix de l''instrument '!$C$3=\"Etalonnage_Epaisseur\",AND('Choix de l''instrument '!$D$3>=Etalonnage_Epaisseur!G117,G117<>\"\"),\"\")","v":""}]
["ETA-0470","Tube Etalon","Longueur 1250 mm",null,null,"Afficher",null,null,null,null,null,null,null,{"$f":"IF('Choix de l''instrument '!$C$3=\"Etalonnage_Epaisseur\",AND('Choix de l''instrument '!$D$3>=Etalonnage_Epaisseur!G118,G118<>\"\"),\"\")","v":""}]
["ETA-0469","Tube Etalon","Longueur 1000 mm",null,null,"Afficher",null,null,null,null,null,null,null,{"$f":"IF('Choix de l''instrument '!$C$3=\"Etalonnage_Epaisseur\",AND('Choix de l''instrument '!$D$3>=Etalonnage_Epaisseur!G119,G119<>\"\"),\"\")","v":""}]
["ETA-0468","Tube Etalon","Longueur 700 mm",null,null,"Afficher",null,null,null,null,null,null,null,{"$f":"IF('Choix de l''instrument '!$C$3=\"Etalonnage_Epaisseur\",AND('Choix de l''instrument '!$D$3>=Etalonnage_Epaisseur!G120,G120<>\"\"),\"\")","v":""}]
["ETA-0467","Tube Etalon","Longueur 500 mm",null,null,"Afficher",null,null,null,null,null,null,null,{"$f":"IF('Choix de l''instrument '!$C$3=\"Etalonnage_Epaisseur\",AND('Choix de l''instrument '!$D$3>=Etalonnage_Epaisseur!G121,G121<>\"\"),\"\")","v":""}]
["SQ.127","Tube Etalon",null,null,null,"Afficher",null,null,null,null,null,null,null,{"$f":"IF('Choix de l''instrument '!$C$3=\"Etalonnage_Epaisseur\",AND('Choix de l''instrument '!$D$3>=Etalonnage_Epaisseur!G122,G122<>\"\"),\"\")","v":""}]
["SQ.127A","Tube Etalon",null,null,null,"Afficher",null,null,null,null,null,null,null,{"$f":"IF('Choix de l''instrument '!$C$3=\"Etalonnage_Epaisseur\",AND('Choix de l''instrument '!$D$3>=Etalonnage_Epaisseur!G123,G123<>\"\"),\"\")","v":""}]
["SQ.121","Tube Etalon","0, mm",null,null,"Afficher",null,null,null,null,null,null,null,{"$f":"IF('Choix de l''instrument '!$C$3=\"Etalonnage_Epaisseur\",AND('Choix de l''instrument '!$D$3>=Etalonnage_Epaisseur!G124,G124<>\"\"),\"\")","v":""}]
["ETA-0047","Tube Etalon","150 µm",null,null,"Afficher",null,null,null,null,null,null,null,{"$f":"IF('Choix de l''instrument '!$C$3=\"Etalonnage_Epaisseur\",AND('Choix de l''instrument '!$D$3>=Etalonnage_Epaisseur!G125,G125<>\"\"),\"\")","v":""}]
["ETA-0053","Tube Etalon","150 µm",null,null,"Afficher",null,null,null,null,null,null,null,{"$f":"IF('Choix de l''instrument '!$C$3=\"Etalonnage_Epaisseur\",AND('Choix de l''instrument '!$D$3>=Etalonnage_Epaisseur!G126,G126<>\"\"),\"\")","v":""}]
["ETA-0055","Tube Etalon","300 µm",null,null,"Afficher",null,null,null,null,null,null,null,{"$f":"IF('Choix de l''instrument '!$C$3=\"Etalonnage_Epaisseur\",AND('Choix de l''instrument '!$D$3>=Etalonnage_Epaisseur!G127,G127<>\"\"),\"\")","v":""}]
["ETA-0054","Tube Etalon","300 µm",null,null,"Afficher",null,null,null,null,null,null,null,{"$f":"IF('Choix de l''instrument '!$C$3=\"Etalonnage_Epaisseur\",AND('Choix de l''instrument '!$D$3>=Etalonnage_Epaisseur!G128,G128<>\"\"),\"\")","v":""}]
["ETAL-013","Tube étalon",null,null,null,"Afficher",null,null,null,null,null,null,null,{"$f":"IF('Choix de l''instrument '!$C$3=\"Etalonnage_Epaisseur\",AND('Choix de l''instrument '!$D$3>=Etalonnage_Epaisseur!G129,G129<>\"\"),\"\")","v":""}]
["ETAL-012","Tube étalon",null,null,null,"Afficher",null,null,null,null,null,null,null,{"$f":"IF('Choix de l''instrument '!$C$3=\"Etalonnage_Epaisseur\",AND('Choix de l''instrument '!$D$3>=Etalonnage_Epaisseur!G130,G130<>\"\"),\"\")","v":""}]

{"sheet":"Etalonnage_Rugosité","index":17,"n_rows":12,"n_cols":14,"rows_kept":12,"cut":false,"hidden":false,"merged":[]}
["Etalonnage_Rugosité"]
[null,null,null,null,null,null,"résolution g",null,null,null,null,null,null,"Résultat critère IT"]
["ETA-0219","Etalon de rugosité",null,null,null,"Afficher",null,null,null,null,null,null,null,{"$f":"IF('Choix de l''instrument '!$C$3=\"Etalonnage_Rugosité\",AND('Choix de l''instrument '!$D$3>=Etalonnage_Rugosité!G3,G3<>\"\"),\"\")","v":""}]
["ETA-0259","Etalon de rugosité",null,null,null,"Afficher",null,null,null,null,null,null,null,{"$f":"IF('Choix de l''instrument '!$C$3=\"Etalonnage_Rugosité\",AND('Choix de l''instrument '!$D$3>=Etalonnage_Rugosité!G4,G4<>\"\"),\"\")","v":""}]
["ETA-0429","Etalon de rugosité",null,null,null,"Afficher",null,null,null,null,null,null,null,{"$f":"IF('Choix de l''instrument '!$C$3=\"Etalonnage_Rugosité\",AND('Choix de l''instrument '!$D$3>=Etalonnage_Rugosité!G5,G5<>\"\"),\"\")","v":""}]
["ETA-0475","Etalon de rugosité",null,null,null,"Afficher",null,null,null,null,null,null,null,{"$f":"IF('Choix de l''instrument '!$C$3=\"Etalonnage_Rugosité\",AND('Choix de l''instrument '!$D$3>=Etalonnage_Rugosité!G6,G6<>\"\"),\"\")","v":""}]
["ETA-0474","Etalon de rugosité",null,null,null,"Afficher",null,null,null,null,null,null,null,{"$f":"IF('Choix de l''instrument '!$C$3=\"Etalonnage_Rugosité\",AND('Choix de l''instrument '!$D$3>=Etalonnage_Rugosité!G7,G7<>\"\"),\"\")","v":""}]
["EDR-162","Etalon de rugosité",null,null,null,"Afficher",null,null,null,null,null,null,null,{"$f":"IF('Choix de l''instrument '!$C$3=\"Etalonnage_Rugosité\",AND('Choix de l''instrument '!$D$3>=Etalonnage_Rugosité!G8,G8<>\"\"),\"\")","v":""}]
["CF.480/1","Etalon de rugosité",null,null,null,"Afficher",null,null,null,null,null,null,null,{"$f":"IF('Choix de l''instrument '!$C$3=\"Etalonnage_Rugosité\",AND('Choix de l''instrument '!$D$3>=Etalonnage_Rugosité!G9,G9<>\"\"),\"\")","v":""}]
["CF.480","Etalon de rugosité",null,null,null,"Afficher",null,null,null,null,null,null,null,{"$f":"IF('Choix de l''instrument '!$C$3=\"Etalonnage_Rugosité\",AND('Choix de l''instrument '!$D$3>=Etalonnage_Rugosité!G10,G10<>\"\"),\"\")","v":""}]
["DIM-0062","Etalon de rugosité",null,null,null,"Afficher",null,null,null,null,null,null,null,{"$f":"IF('Choix de l''instrument '!$C$3=\"Etalonnage_Rugosité\",AND('Choix de l''instrument '!$D$3>=Etalonnage_Rugosité!G11,G11<>\"\"),\"\")","v":""}]
["DIM-0084","Etalon de rugosité",null,null,null,"Afficher",null,null,null,null,null,null,null,{"$f":"IF('Choix de l''instrument '!$C$3=\"Etalonnage_Rugosité\",AND('Choix de l''instrument '!$D$3>=Etalonnage_Rugosité!G12,G12<>\"\"),\"\")","v":""}]

{"sheet":"Etalonnage_Fuite","index":18,"n_rows":3,"n_cols":14,"rows_kept":3,"cut":false,"hidden":false,"merged":[]}
["Etalonnage_Fuite"]
[null,null,null,null,null,null,"résolution g",null,null,null,null,null,null,"Résultat critère IT"]
["DET-0002","Etalon de fuite",null,null,null,"Afficher",null,null,null,null,null,null,null,{"$f":"IF('Choix de l''instrument '!$C$3=\"Etalonnage_Fuite\",AND('Choix de l''instrument '!$D$3>=Etalonnage_Fuite!G3,G3<>\"\"),\"\")","v":""}]

{"sheet":"Etalonnage_Instrument_optique","index":19,"n_rows":4,"n_cols":14,"rows_kept":4,"cut":false,"hidden":false,"merged":[]}
["Etalonnage_Instrument_optique",null,null,null,null,null,null,null,null,null,null,null,null,"Résultat critère IT"]
[null,null,null,null,null,null,"résolution g"]
["SQ.084","Micrometre Objet",null,null,null,"Afficher",null,null,null,null,null,null,null,{"$f":"IF('Choix de l''instrument '!$C$3=\"Etalonnage_Instrument_optique\",AND('Choix de l''instrument '!$D$3>=Etalonnage_Instrument_optique!G3,G3<>\"\"),\"\")","v":""}]
["SQ.022","Règle graduée en verre","300 mm",null,null,"Afficher",null,null,null,null,null,null,null,{"$f":"IF('Choix de l''instrument '!$C$3=\"Etalonnage_Instrument_optique\",AND('Choix de l''instrument '!$D$3>=Etalonnage_Instrument_optique!G4,G4<>\"\"),\"\")","v":""}]

{"sheet":"Etalonnage_laser","index":20,"n_rows":309,"n_cols":14,"rows_kept":309,"cut":false,"hidden":false,"merged":[]}
["Etalonnage_Laser"]
[null,null,null,null,null,null,"résolution g",null,null,null,null,null,null,"Résultat critère IT"]
["MET-0021","Pige étalon","20 mm",null,null,"Afficher",0,null,null,null,null,null,null,{"$f":"IF('Choix de l''instrument '!$C$3=\"Etalonnage_laser\",AND('Choix de l''instrument '!$D$3>=Etalonnage_laser!G3,G3<>\"\"),\"\")","v":""}]
["MET-0020","Pige étalon","19 mm",null,null,"Afficher",0,null,null,null,null,null,null,{"$f":"IF('Choix de l''instrument '!$C$3=\"Etalonnage_laser\",AND('Choix de l''instrument '!$D$3>=Etalonnage_laser!G4,G4<>\"\"),\"\")","v":""}]
["MET-0019","Pige étalon","18 mm",null,null,"Afficher",0,null,null,null,null,null,null,{"$f":"IF('Choix de l''instrument '!$C$3=\"Etalonnage_laser\",AND('Choix de l''instrument '!$D$3>=Etalonnage_laser!G5,G5<>\"\"),\"\")","v":""}]
["MET-0023","Pige étalon","200 mm",null,null,"Afficher",0,null,null,null,null,null,null,{"$f":"IF('Choix de l''instrument '!$C$3=\"Etalonnage_laser\",AND('Choix de l''instrument '!$D$3>=Etalonnage_laser!G6,G6<>\"\"),\"\")","v":""}]
["MET-0018","Pige étalon","17 mm",null,null,"Afficher",0,null,null,null,null,null,null,{"$f":"IF('Choix de l''instrument '!$C$3=\"Etalonnage_laser\",AND('Choix de l''instrument '!$D$3>=Etalonnage_laser!G7,G7<>\"\"),\"\")","v":""}]
["MET-0014","Pige étalon","13 mm",null,null,"Afficher",0,null,null,null,null,null,null,{"$f":"IF('Choix de l''instrument '!$C$3=\"Etalonnage_laser\",AND('Choix de l''instrument '!$D$3>=Etalonnage_laser!G8,G8<>\"\"),\"\")","v":""}]
["MET-0013","Pige étalon","12 mm",null,null,"Afficher",0,null,null,null,null,null,null,{"$f":"IF('Choix de l''instrument '!$C$3=\"Etalonnage_laser\",AND('Choix de l''instrument '!$D$3>=Etalonnage_laser!G9,G9<>\"\"),\"\")","v":""}]
["MET-0012","Pige étalon","11 mm",null,null,"Afficher",0,null,null,null,null,null,null,{"$f":"IF('Choix de l''instrument '!$C$3=\"Etalonnage_laser\",AND('Choix de l''instrument '!$D$3>=Etalonnage_laser!G10,G10<>\"\"),\"\")","v":""}]
["MET-0017","Pige étalon","16 mm",null,null,"Afficher",0,null,null,null,null,null,null,{"$f":"IF('Choix de l''instrument '!$C$3=\"Etalonnage_laser\",AND('Choix de l''instrument '!$D$3>=Etalonnage_laser!G11,G11<>\"\"),\"\")","v":""}]
["MET-0016","Pige étalon","15 mm",null,null,"Afficher",0,null,null,null,null,null,null,{"$f":"IF('Choix de l''instrument '!$C$3=\"Etalonnage_laser\",AND('Choix de l''instrument '!$D$3>=Etalonnage_laser!G12,G12<>\"\"),\"\")","v":""}]
["MET-0015","Pige étalon","14 mm",null,null,"Afficher",0,null,null,null,null,null,null,{"$f":"IF('Choix de l''instrument '!$C$3=\"Etalonnage_laser\",AND('Choix de l''instrument '!$D$3>=Etalonnage_laser!G13,G13<>\"\"),\"\")","v":""}]
["MET-0052","Pige étalon","10,000",null,null,"Afficher",0,null,null,null,null,null,null,{"$f":"IF('Choix de l''instrument '!$C$3=\"Etalonnage_laser\",AND('Choix de l''instrument '!$D$3>=Etalonnage_laser!G14,G14<>\"\"),\"\")","v":""}]
["MET-0008","Pige étalon","7 mm",null,null,"Afficher",0,null,null,null,null,null,null,{"$f":"IF('Choix de l''instrument '!$C$3=\"Etalonnage_laser\",AND('Choix de l''instrument '!$D$3>=Etalonnage_laser!G15,G15<>\"\"),\"\")","v":""}]
["MET-0007","Pige étalon","6 mm",null,null,"Afficher",0,null,null,null,null,null,null,{"$f":"IF('Choix de l''instrument '!$C$3=\"Etalonnage_laser\",AND('Choix de l''instrument '!$D$3>=Etalonnage_laser!G16,G16<>\"\"),\"\")","v":""}]
["MET-0006","Pige étalon","5 mm",null,null,"Afficher",0,null,null,null,null,null,null,{"$f":"IF('Choix de l''instrument '!$C$3=\"Etalonnage_laser\",AND('Choix de l''instrument '!$D$3>=Etalonnage_laser!G17,G17<>\"\"),\"\")","v":""}]
["MET-0011","Pige étalon","10 mm",null,null,"Afficher",0,null,null,null,null,null,null,{"$f":"IF('Choix de l''instrument '!$C$3=\"Etalonnage_laser\",AND('Choix de l''instrument '!$D$3>=Etalonnage_laser!G18,G18<>\"\"),\"\")","v":""}]
["MET-0010","Pige étalon","9 mm",null,null,"Afficher",0,null,null,null,null,null,null,{"$f":"IF('Choix de l''instrument '!$C$3=\"Etalonnage_laser\",AND('Choix de l''instrument '!$D$3>=Etalonnage_laser!G19,G19<>\"\"),\"\")","v":""}]
["MET-0009","Pige étalon","8 mm",null,null,"Afficher",0,null,null,null,null,null,null,{"$f":"IF('Choix de l''instrument '!$C$3=\"Etalonnage_laser\",AND('Choix de l''instrument '!$D$3>=Etalonnage_laser!G20,G20<>\"\"),\"\")","v":""}]
["MET-0005","Pige étalon","4 mm",null,null,"Afficher",0,null,null,null,null,null,null,{"$f":"IF('Choix de l''instrument '!$C$3=\"Etalonnage_laser\",AND('Choix de l''instrument '!$D$3>=Etalonnage_laser!G21,G21<>\"\"),\"\")","v":""}]
["MET-0001","Pige étalon","0,5 mm",null,null,"Afficher",0,null,null,null,null,null,null,{"$f":"IF('Choix de l''instrument '!$C$3=\"Etalonnage_laser\",AND('Choix de l''instrument '!$D$3>=Etalonnage_laser!G22,G22<>\"\"),\"\")","v":""}]
["MET-0004","Pige étalon","3 mm",null,null,"Afficher",0,null,null,null,null,null,null,{"$f":"IF('Choix de l''instrument '!$C$3=\"Etalonnage_laser\",AND('Choix de l''instrument '!$D$3>=Etalonnage_laser!G23,G23<>\"\"),\"\")","v":""}]
["MET-0003","Pige étalon","2 mm",null,null,"Afficher",0,null,null,null,null,null,null,{"$f":"IF('Choix de l''instrument '!$C$3=\"Etalonnage_laser\",AND('Choix de l''instrument '!$D$3>=Etalonnage_laser!G24,G24<>\"\"),\"\")","v":""}]
["MET-0002","Pige étalon","1 mm",null,null,"Afficher",0,null,null,null,null,null,null,{"$f":"IF('Choix de l''instrument '!$C$3=\"Etalonnage_laser\",AND('Choix de l''instrument '!$D$3>=Etalonnage_laser!G25,G25<>\"\"),\"\")","v":""}]
["MET-0060","Pige étalon","0,50 mm",null,null,"Afficher",0,null,null,null,null,null,null,{"$f":"IF('Choix de l''instrument '!$C$3=\"Etalonnage_laser\",AND('Choix de l''instrument '!$D$3>=Etalonnage_laser!G26,G26<>\"\"),\"\")","v":""}]
["MET-0102","Pige étalon","30,0000 mm",null,null,"Afficher",0,null,null,null,null,null,null,{"$f":"IF('Choix de l''instrument '!$C$3=\"Etalonnage_laser\",AND('Choix de l''instrument '!$D$3>=Etalonnage_laser!G27,G27<>\"\"),\"\")","v":""}]
["MEXT-002 /E","Pige étalon","25 mm",null,null,"Afficher",0,null,null,null,null,null,null,{"$f":"IF('Choix de l''instrument '!$C$3=\"Etalonnage_laser\",AND('Choix de l''instrument '!$D$3>=Etalonnage_laser!G28,G28<>\"\"),\"\")","v":""}]
["MET-0103","Pige étalon","25,0000 mm",null,null,"Afficher",0,null,null,null,null,null,null,{"$f":"IF('Choix de l''instrument '!$C$3=\"Etalonnage_laser\",AND('Choix de l''instrument '!$D$3>=Etalonnage_laser!G29,G29<>\"\"),\"\")","v":""}]
["MEXT-001/E","Pige étalon","25 mm",null,null,"Afficher",0,null,null,null,null,null,null,{"$f":"IF('Choix de l''instrument '!$C$3=\"Etalonnage_laser\",AND('Choix de l''instrument '!$D$3>=Etalonnage_laser!G30,G30<>\"\"),\"\")","v":""}]
["MET-0070","Pige étalon","10,00 mm",null,null,"Afficher",0,null,null,null,null,null,null,{"$f":"IF('Choix de l''instrument '!$C$3=\"Etalonnage_laser\",AND('Choix de l''instrument '!$D$3>=Etalonnage_laser!G31,G31<>\"\"),\"\")","v":""}]
["MET-0069","Pige étalon","9,00 mm",null,null,"Afficher",0,null,null,null,null,null,null,{"$f":"IF('Choix de l''instrument '!$C$3=\"Etalonnage_laser\",AND('Choix de l''instrument '!$D$3>=Etalonnage_laser!G32,G32<>\"\"),\"\")","v":""}]
["MET-0068","Pige étalon","8,00 mm",null,null,"Afficher",0,null,null,null,null,null,null,{"$f":"IF('Choix de l''instrument '!$C$3=\"Etalonnage_laser\",AND('Choix de l''instrument '!$D$3>=Etalonnage_laser!G33,G33<>\"\"),\"\")","v":""}]
["MET-0073","Pige étalon","13,00 mm",null,null,"Afficher",0,null,null,null,null,null,null,{"$f":"IF('Choix de l''instrument '!$C$3=\"Etalonnage_laser\",AND('Choix de l''instrument '!$D$3>=Etalonnage_laser!G34,G34<>\"\"),\"\")","v":""}]
["MET-0072","Pige étalon","12,00 mm",null,null,"Afficher",0,null,null,null,null,null,null,{"$f":"IF('Choix de l''instrument '!$C$3=\"Etalonnage_laser\",AND('Choix de l''instrument '!$D$3>=Etalonnage_laser!G35,G35<>\"\"),\"\")","v":""}]
["MET-0071","Pige étalon","11,00 mm",null,null,"Afficher",0,null,null,null,null,null,null,{"$f":"IF('Choix de l''instrument '!$C$3=\"Etalonnage_laser\",AND('Choix de l''instrument '!$D$3>=Etalonnage_laser!G36,G36<>\"\"),\"\")","v":""}]
["MET-0067","Pige étalon","7,00 mm",null,null,"Afficher",0,null,null,null,null,null,null,{"$f":"IF('Choix de l''instrument '!$C$3=\"Etalonnage_laser\",AND('Choix de l''instrument '!$D$3>=Etalonnage_laser!G37,G37<>\"\"),\"\")","v":""}]
["MET-0063","Pige étalon","3,00 mm",null,null,"Afficher",0,null,null,null,null,null,null,{"$f":"IF('Choix de l''instrument '!$C$3=\"Etalonnage_laser\",AND('Choix de l''instrument '!$D$3>=Etalonnage_laser!G38,G38<>\"\"),\"\")","v":""}]
["MET-0062","Pige étalon","2,00 mm",null,null,"Afficher",0,null,null,null,null,null,null,{"$f":"IF('Choix de l''instrument '!$C$3=\"Etalonnage_laser\",AND('Choix de l''instrument '!$D$3>=Etalonnage_laser!G39,G39<>\"\"),\"\")","v":""}]
["MET-0061","Pige étalon","1,00 mm",null,null,"Afficher",0,null,null,null,null,null,null,{"$f":"IF('Choix de l''instrument '!$C$3=\"Etalonnage_laser\",AND('Choix de l''instrument '!$D$3>=Etalonnage_laser!G40,G40<>\"\"),\"\")","v":""}]
["MET-0066","Pige étalon","6,00 mm",null,null,"Afficher",0,null,null,null,null,null,null,{"$f":"IF('Choix de l''instrument '!$C$3=\"Etalonnage_laser\",AND('Choix de l''instrument '!$D$3>=Etalonnage_laser!G41,G41<>\"\"),\"\")","v":""}]
["MET-0065","Pige étalon","5,00 mm",null,null,"Afficher",0,null,null,null,null,null,null,{"$f":"IF('Choix de l''instrument '!$C$3=\"Etalonnage_laser\",AND('Choix de l''instrument '!$D$3>=Etalonnage_laser!G42,G42<>\"\"),\"\")","v":""}]
["MET-0064","Pige étalon","4,00 mm",null,null,"Afficher",0,null,null,null,null,null,null,{"$f":"IF('Choix de l''instrument '!$C$3=\"Etalonnage_laser\",AND('Choix de l''instrument '!$D$3>=Etalonnage_laser!G43,G43<>\"\"),\"\")","v":""}]
["MET-0074","Pige étalon","14,00 mm",null,null,"Afficher",0,null,null,null,null,null,null,{"$f":"IF('Choix de l''instrument '!$C$3=\"Etalonnage_laser\",AND('Choix de l''instrument '!$D$3>=Etalonnage_laser!G44,G44<>\"\"),\"\")","v":""}]
["MET-0087","Pige étalon","2,14 mm",null,null,"Afficher",0,null,null,null,null,null,null,{"$f":"IF('Choix de l''instrument '!$C$3=\"Etalonnage_laser\",AND('Choix de l''instrument '!$D$3>=Etalonnage_laser!G45,G45<>\"\"),\"\")","v":""}]
["MET-0086","Pige étalon","0,20 mm",null,null,"Afficher",0,null,null,null,null,null,null,{"$f":"IF('Choix de l''instrument '!$C$3=\"Etalonnage_laser\",AND('Choix de l''instrument '!$D$3>=Etalonnage_laser!G46,G46<>\"\"),\"\")","v":""}]
["MET-0077","Pige étalon","17,00 mm",null,null,"Afficher",0,null,null,null,null,null,null,{"$f":"IF('Choix de l''instrument '!$C$3=\"Etalonnage_laser\",AND('Choix de l''instrument '!$D$3>=Etalonnage_laser!G47,G47<>\"\"),\"\")","v":""}]
["MET-0076","Pige étalon","16,00 mm",null,null,"Afficher",0,null,null,null,null,null,null,{"$f":"IF('Choix de l''instrument '!$C$3=\"Etalonnage_laser\",AND('Choix de l''instrument '!$D$3>=Etalonnage_laser!G48,G48<>\"\"),\"\")","v":""}]
["MET-0075","Pige étalon","15,00 mm",null,null,"Afficher",0,null,null,null,null,null,null,{"$f":"IF('Choix de l''instrument '!$C$3=\"Etalonnage_laser\",AND('Choix de l''instrument '!$D$3>=Etalonnage_laser!G49,G49<>\"\"),\"\")","v":""}]
["MET-0080","Pige étalon","20,00 mm",null,null,"Afficher",0,null,null,null,null,null,null,{"$f":"IF('Choix de l''instrument '!$C$3=\"Etalonnage_laser\",AND('Choix de l''instrument '!$D$3>=Etalonnage_laser!G50,G50<>\"\"),\"\")","v":""}]
["MET-0079","Pige étalon","19,00 mm",null,null,"Afficher",0,null,null,null,null,null,null,{"$f":"IF('Choix de l''instrument '!$C$3=\"Etalonnage_laser\",AND('Choix de l''instrument '!$D$3>=Etalonnage_laser!G51,G51<>\"\"),\"\")","v":""}]
["MET-0078","Pige étalon","18,00 mm",null,null,"Afficher",0,null,null,null,null,null,null,{"$f":"IF('Choix de l''instrument '!$C$3=\"Etalonnage_laser\",AND('Choix de l''instrument '!$D$3>=Etalonnage_laser!G52,G52<>\"\"),\"\")","v":""}]
["ETA-0294","Pige étalon","1,00 mm",null,null,"Afficher",0,null,null,null,null,null,null,{"$f":"IF('Choix de l''instrument '!$C$3=\"Etalonnage_laser\",AND('Choix de l''instrument '!$D$3>=Etalonnage_laser!G53,G53<>\"\"),\"\")","v":""}]
["ETA-0293","Pige étalon","1,00 mm",null,null,"Afficher",0,null,null,null,null,null,null,{"$f":"IF('Choix de l''instrument '!$C$3=\"Etalonnage_laser\",AND('Choix de l''instrument '!$D$3>=Etalonnage_laser!G54,G54<>\"\"),\"\")","v":""}]
["ETA-0377","Pige étalon","3,000 mm",null,null,"Afficher",0,null,null,null,null,null,null,{"$f":"IF('Choix de l''instrument '!$C$3=\"Etalonnage_laser\",AND('Choix de l''instrument '!$D$3>=Etalonnage_laser!G55,G55<>\"\"),\"\")","v":""}]
["ETA-0376","Pige étalon","2,500 mm",null,null,"Afficher",0,null,null,null,null,null,null,{"$f":"IF('Choix de l''instrument '!$C$3=\"Etalonnage_laser\",AND('Choix de l''instrument '!$D$3>=Etalonnage_laser!G56,G56<>\"\"),\"\")","v":""}]
["ETA-0375","Pige étalon","2,500 mm",null,null,"Afficher",0,null,null,null,null,null,null,{"$f":"IF('Choix de l''instrument '!$C$3=\"Etalonnage_laser\",AND('Choix de l''instrument '!$D$3>=Etalonnage_laser!G57,G57<>\"\"),\"\")","v":""}]
["ETA-0380","Pige étalon","4,000 mm",null,null,"Afficher",0,null,null,null,null,null,null,{"$f":"IF('Choix de l''instrument '!$C$3=\"Etalonnage_laser\",AND('Choix de l''instrument '!$D$3>=Etalonnage_laser!G58,G58<>\"\"),\"\")","v":""}]
["ETA-0379","Pige étalon","4,000 mm",null,null,"Afficher",0,null,null,null,null,null,null,{"$f":"IF('Choix de l''instrument '!$C$3=\"Etalonnage_laser\",AND('Choix de l''instrument '!$D$3>=Etalonnage_laser!G59,G59<>\"\"),\"\")","v":""}]
["ETA-0378","Pige étalon","3,000 mm",null,null,"Afficher",0,null,null,null,null,null,null,{"$f":"IF('Choix de l''instrument '!$C$3=\"Etalonnage_laser\",AND('Choix de l''instrument '!$D$3>=Etalonnage_laser!G60,G60<>\"\"),\"\")","v":""}]
["ETA-0374","Pige étalon","2,000 mm",null,null,"Afficher",0,null,null,null,null,null,null,{"$f":"IF('Choix de l''instrument '!$C$3=\"Etalonnage_laser\",AND('Choix de l''instrument '!$D$3>=Etalonnage_laser!G61,G61<>\"\"),\"\")","v":""}]
["ETA-0370","Pige étalon","1,000 mm",null,null,"Afficher",0,null,null,null,null,null,null,{"$f":"IF('Choix de l''instrument '!$C$3=\"Etalonnage_laser\",AND('Choix de l''instrument '!$D$3>=Etalonnage_laser!G62,G62<>\"\"),\"\")","v":""}]
["ETA-0369","Pige étalon","1,000 mm",null,null,"Afficher",0,null,null,null,null,null,null,{"$f":"IF('Choix de l''instrument '!$C$3=\"Etalonnage_laser\",AND('Choix de l''instrument '!$D$3>=Etalonnage_laser!G63,G63<>\"\"),\"\")","v":""}]
["ETA-0373","Pige étalon","2,000 mm",null,null,"Afficher",0,null,null,null,null,null,null,{"$f":"IF('Choix de l''instrument '!$C$3=\"Etalonnage_laser\",AND('Choix de l''instrument '!$D$3>=Etalonnage_laser!G64,G64<>\"\"),\"\")","v":""}]
["ETA-0372","Pige étalon","1,500 mm",null,null,"Afficher",0,null,null,null,null,null,null,{"$f":"IF('Choix de l''instrument '!$C$3=\"Etalonnage_laser\",AND('Choix de l''instrument '!$D$3>=Etalonnage_laser!G65,G65<>\"\"),\"\")","v":""}]
["ETA-0371","Pige étalon","1,500 mm",null,null,"Afficher",0,null,null,null,null,null,null,{"$f":"IF('Choix de l''instrument '!$C$3=\"Etalonnage_laser\",AND('Choix de l''instrument '!$D$3>=Etalonnage_laser!G66,G66<>\"\"),\"\")","v":""}]
["ETA-0381","Pige étalon","4,500 mm",null,null,"Afficher",0,null,null,null,null,null,null,{"$f":"IF('Choix de l''instrument '!$C$3=\"Etalonnage_laser\",AND('Choix de l''instrument '!$D$3>=Etalonnage_laser!G67,G67<>\"\"),\"\")","v":""}]
["ETA-0391","Pige étalon","7,500 mm",null,null,"Afficher",0,null,null,null,null,null,null,{"$f":"IF('Choix de l''instrument '!$C$3=\"Etalonnage_laser\",AND('Choix de l''instrument '!$D$3>=Etalonnage_laser!G68,G68<>\"\"),\"\")","v":""}]
["ETA-0390","Pige étalon","6,500 mm",null,null,"Afficher",0,null,null,null,null,null,null,{"$f":"IF('Choix de l''instrument '!$C$3=\"Etalonnage_laser\",AND('Choix de l''instrument '!$D$3>=Etalonnage_laser!G69,G69<>\"\"),\"\")","v":""}]
["ETA-0389","Pige étalon","6,500 mm",null,null,"Afficher",0,null,null,null,null,null,null,{"$f":"IF('Choix de l''instrument '!$C$3=\"Etalonnage_laser\",AND('Choix de l''instrument '!$D$3>=Etalonnage_laser!G70,G70<>\"\"),\"\")","v":""}]
["ETA-0394","Pige étalon","8,000 mm",null,null,"Afficher",0,null,null,null,null,null,null,{"$f":"IF('Choix de l''instrument '!$C$3=\"Etalonnage_laser\",AND('Choix de l''instrument '!$D$3>=Etalonnage_laser!G71,G71<>\"\"),\"\")","v":""}]
["ETA-0393","Pige étalon","8,000 mm",null,null,"Afficher",0,null,null,null,null,null,null,{"$f":"IF('Choix de l''instrument '!$C$3=\"Etalonnage_laser\",AND('Choix de l''instrument '!$D$3>=Etalonnage_laser!G72,G72<>\"\"),\"\")","v":""}]
["ETA-0392","Pige étalon","7,500 mm",null,null,"Afficher",0,null,null,null,null,null,null,{"$f":"IF('Choix de l''instrument '!$C$3=\"Etalonnage_laser\",AND('Choix de l''instrument '!$D$3>=Etalonnage_laser!G73,G73<>\"\"),\"\")","v":""}]
["ETA-0388","Pige étalon","6,000 mm",null,null,"Afficher",0,null,null,null,null,null,null,{"$f":"IF('Choix de l''instrument '!$C$3=\"Etalonnage_laser\",AND('Choix de l''instrument '!$D$3>=Etalonnage_laser!G74,G74<>\"\"),\"\")","v":""}]
["ETA-0384","Pige étalon","5,000 mm",null,null,"Afficher",0,null,null,null,null,null,null,{"$f":"IF('Choix de l''instrument '!$C$3=\"Etalonnage_laser\",AND('Choix de l''instrument '!$D$3>=Etalonnage_laser!G75,G75<>\"\"),\"\")","v":""}]
["ETA-0383","Pige étalon","5,000 mm",null,null,"Afficher",0,null,null,null,null,null,null,{"$f":"IF('Choix de l''instrument '!$C$3=\"Etalonnage_laser\",AND('Choix de l''instrument '!$D$3>=Etalonnage_laser!G76,G76<>\"\"),\"\")","v":""}]
["ETA-0382","Pige étalon","4,500 mm",null,null,"Afficher",0,null,null,null,null,null,null,{"$f":"IF('Choix de l''instrument '!$C$3=\"Etalonnage_laser\",AND('Choix de l''instrument '!$D$3>=Etalonnage_laser!G77,G77<>\"\"),\"\")","v":""}]
["ETA-0387","Pige étalon","6,000 mm",null,null,"Afficher",0,null,null,null,null,null,null,{"$f":"IF('Choix de l''instrument '!$C$3=\"Etalonnage_laser\",AND('Choix de l''instrument '!$D$3>=Etalonnage_laser!G78,G78<>\"\"),\"\")","v":""}]
["ETA-0386","Pige étalon","5,500 mm",null,null,"Afficher",0,null,null,null,null,null,null,{"$f":"IF('Choix de l''instrument '!$C$3=\"Etalonnage_laser\",AND('Choix de l''instrument '!$D$3>=Etalonnage_laser!G79,G79<>\"\"),\"\")","v":""}]
["ETA-0385","Pige étalon","5,500 mm",null,null,"Afficher",0,null,null,null,null,null,null,{"$f":"IF('Choix de l''instrument '!$C$3=\"Etalonnage_laser\",AND('Choix de l''instrument '!$D$3>=Etalonnage_laser!G80,G80<>\"\"),\"\")","v":""}]
["ETA-0349","Pige étalon","1,500 mm",null,null,"Afficher",0,null,null,null,null,null,null,{"$f":"IF('Choix de l''instrument '!$C$3=\"Etalonnage_laser\",AND('Choix de l''instrument '!$D$3>=Etalonnage_laser!G81,G81<>\"\"),\"\")","v":""}]
["ETA-0348","Pige étalon","1 mm",null,null,"Afficher",0,null,null,null,null,null,null,{"$f":"IF('Choix de l''instrument '!$C$3=\"Etalonnage_laser\",AND('Choix de l''instrument '!$D$3>=Etalonnage_laser!G82,G82<>\"\"),\"\")","v":""}]
["ETA-0347","Pige étalon","0,5 mm",null,null,"Afficher",0,null,null,null,null,null,null,{"$f":"IF('Choix de l''instrument '!$C$3=\"Etalonnage_laser\",AND('Choix de l''instrument '!$D$3>=Etalonnage_laser!G83,G83<>\"\"),\"\")","v":""}]
["ETA-0352","Pige étalon","3,500 mm",null,null,"Afficher",0,null,null,null,null,null,null,{"$f":"IF('Choix de l''instrument '!$C$3=\"Etalonnage_laser\",AND('Choix de l''instrument '!$D$3>=Etalonnage_laser!G84,G84<>\"\"),\"\")","v":""}]
["ETA-0351","Pige étalon","3,000 mm",null,null,"Afficher",0,null,null,null,null,null,null,{"$f":"IF('Choix de l''instrument '!$C$3=\"Etalonnage_laser\",AND('Choix de l''instrument '!$D$3>=Etalonnage_laser!G85,G85<>\"\"),\"\")","v":""}]
["ETA-0350","Pige étalon","2,500 mm",null,null,"Afficher",0,null,null,null,null,null,null,{"$f":"IF('Choix de l''instrument '!$C$3=\"Etalonnage_laser\",AND('Choix de l''instrument '!$D$3>=Etalonnage_laser!G86,G86<>\"\"),\"\")","v":""}]
["ETA-0353","Pige étalon","4,000 mm",null,null,"Afficher",0,null,null,null,null,null,null,{"$f":"IF('Choix de l''instrument '!$C$3=\"Etalonnage_laser\",AND('Choix de l''instrument '!$D$3>=Etalonnage_laser!G87,G87<>\"\"),\"\")","v":""}]
["ETA-0364","Pige étalon","2,900 mm",null,null,"Afficher",0,null,null,null,null,null,null,{"$f":"IF('Choix de l''instrument '!$C$3=\"Etalonnage_laser\",AND('Choix de l''instrument '!$D$3>=Etalonnage_laser!G88,G88<>\"\"),\"\")","v":""}]
["ETA-0363","Pige étalon","0,15 mm",null,null,"Afficher",0,null,null,null,null,null,null,{"$f":"IF('Choix de l''instrument '!$C$3=\"Etalonnage_laser\",AND('Choix de l''instrument '!$D$3>=Etalonnage_laser!G89,G89<>\"\"),\"\")","v":""}]
["ETA-0361","Pige étalon","0,15 mm",null,null,"Afficher",0,null,null,null,null,null,null,{"$f":"IF('Choix de l''instrument '!$C$3=\"Etalonnage_laser\",AND('Choix de l''instrument '!$D$3>=Etalonnage_laser!G90,G90<>\"\"),\"\")","v":""}]
["ETA-0367","Pige étalon","6,09 mm",null,null,"Afficher",0,null,null,null,null,null,null,{"$f":"IF('Choix de l''instrument '!$C$3=\"Etalonnage_laser\",AND('Choix de l''instrument '!$D$3>=Etalonnage_laser!G91,G91<>\"\"),\"\")","v":""}]
["ETA-0366","Pige étalon","2,90 mm",null,null,"Afficher",0,null,null,null,null,null,null,{"$f":"IF('Choix de l''instrument '!$C$3=\"Etalonnage_laser\",AND('Choix de l''instrument '!$D$3>=Etalonnage_laser!G92,G92<>\"\"),\"\")","v":""}]
["ETA-0365","Pige étalon","2,89 mm",null,null,"Afficher",0,null,null,null,null,null,null,{"$f":"IF('Choix de l''instrument '!$C$3=\"Etalonnage_laser\",AND('Choix de l''instrument '!$D$3>=Etalonnage_laser!G93,G93<>\"\"),\"\")","v":""}]
["ETA-0360","Pige étalon","30,0000 mm",null,null,"Afficher",0,null,null,null,null,null,null,{"$f":"IF('Choix de l''instrument '!$C$3=\"Etalonnage_laser\",AND('Choix de l''instrument '!$D$3>=Etalonnage_laser!G94,G94<>\"\"),\"\")","v":""}]
["ETA-0356","Pige étalon","5,500 mm",null,null,"Afficher",0,null,null,null,null,null,null,{"$f":"IF('Choix de l''instrument '!$C$3=\"Etalonnage_laser\",AND('Choix de l''instrument '!$D$3>=Etalonnage_laser!G95,G95<>\"\"),\"\")","v":""}]
["ETA-0355","Pige étalon","5,000 mm",null,null,"Afficher",0,null,null,null,null,null,null,{"$f":"IF('Choix de l''instrument '!$C$3=\"Etalonnage_laser\",AND('Choix de l''instrument '!$D$3>=Etalonnage_laser!G96,G96<>\"\"),\"\")","v":""}]
["ETA-0354","Pige étalon","4,500 mm",null,null,"Afficher",0,null,null,null,null,null,null,{"$f":"IF('Choix de l''instrument '!$C$3=\"Etalonnage_laser\",AND('Choix de l''instrument '!$D$3>=Etalonnage_laser!G97,G97<>\"\"),\"\")","v":""}]
["ETA-0359","Pige étalon","30 mm",null,null,"Afficher",0,null,null,null,null,null,null,{"$f":"IF('Choix de l''instrument '!$C$3=\"Etalonnage_laser\",AND('Choix de l''instrument '!$D$3>=Etalonnage_laser!G98,G98<>\"\"),\"\")","v":""}]
["ETA-0358","Pige étalon","ø2,000",null,null,"Afficher",0,null,null,null,null,null,null,{"$f":"IF('Choix de l''instrument '!$C$3=\"Etalonnage_laser\",AND('Choix de l''instrument '!$D$3>=Etalonnage_laser!G99,G99<>\"\"),\"\")","v":""}]
["ETA-0357","Pige étalon","6,000 mm",null,null,"Afficher",0,null,null,null,null,null,null,{"$f":"IF('Choix de l''instrument '!$C$3=\"Etalonnage_laser\",AND('Choix de l''instrument '!$D$3>=Etalonnage_laser!G100,G100<>\"\"),\"\")","v":""}]
["ETA-0208","Pige étalon","0,2210 mm",null,null,"Afficher",0,null,null,null,null,null,null,{"$f":"IF('Choix de l''instrument '!$C$3=\"Etalonnage_laser\",AND('Choix de l''instrument '!$D$3>=Etalonnage_laser!G101,G101<>\"\"),\"\")","v":""}]
["ETA-0207","Pige étalon","0,2184 mm",null,null,"Afficher",0,null,null,null,null,null,null,{"$f":"IF('Choix de l''instrument '!$C$3=\"Etalonnage_laser\",AND('Choix de l''instrument '!$D$3>=Etalonnage_laser!G102,G102<>\"\"),\"\")","v":""}]
["ETA-0203","Pige étalon","0,2083 mm",null,null,"Afficher",0,null,null,null,null,null,null,{"$f":"IF('Choix de l''instrument '!$C$3=\"Etalonnage_laser\",AND('Choix de l''instrument '!$D$3>=Etalonnage_laser!G103,G103<>\"\"),\"\")","v":""}]
["ETA-0202","Pige étalon","0,2057 mm",null,null,"Afficher",0,null,null,null,null,null,null,{"$f":"IF('Choix de l''instrument '!$C$3=\"Etalonnage_laser\",AND('Choix de l''instrument '!$D$3>=Etalonnage_laser!G104,G104<>\"\"),\"\")","v":""}]
["ETA-0201","Pige étalon","0,2032 mm",null,null,"Afficher",0,null,null,null,null,null,null,{"$f":"IF('Choix de l''instrument '!$C$3=\"Etalonnage_laser\",AND('Choix de l''instrument '!$D$3>=Etalonnage_laser!G105,G105<>\"\"),\"\")","v":""}]
["ETA-0206","Pige étalon","0,2159 mm",null,null,"Afficher",0,null,null,null,null,null,null,{"$f":"IF('Choix de l''instrument '!$C$3=\"Etalonnage_laser\",AND('Choix de l''instrument '!$D$3>=Etalonnage_laser!G106,G106<>\"\"),\"\")","v":""}]
["ETA-0205","Pige étalon","0,2134 mm",null,null,"Afficher",0,null,null,null,null,null,null,{"$f":"IF('Choix de l''instrument '!$C$3=\"Etalonnage_laser\",AND('Choix de l''instrument '!$D$3>=Etalonnage_laser!G107,G107<>\"\"),\"\")","v":""}]
["ETA-0204","Pige étalon","0,2108 mm",null,null,"Afficher",0,null,null,null,null,null,null,{"$f":"IF('Choix de l''instrument '!$C$3=\"Etalonnage_laser\",AND('Choix de l''instrument '!$D$3>=Etalonnage_laser!G108,G108<>\"\"),\"\")","v":""}]
["ETA-0183","Pige étalon","0,1651 mm",null,null,"Afficher",0,null,null,null,null,null,null,{"$f":"IF('Choix de l''instrument '!$C$3=\"Etalonnage_laser\",AND('Choix de l''instrument '!$D$3>=Etalonnage_laser!G109,G109<>\"\"),\"\")","v":""}]
["ETA-0182","Pige étalon","0,1626 mm",null,null,"Afficher",0,null,null,null,null,null,null,{"$f":"IF('Choix de l''instrument '!$C$3=\"Etalonnage_laser\",AND('Choix de l''instrument '!$D$3>=Etalonnage_laser!G110,G110<>\"\"),\"\")","v":""}]
["ETA-0181","Pige étalon","0,1600 mm",null,null,"Afficher",0,null,null,null,null,null,null,{"$f":"IF('Choix de l''instrument '!$C$3=\"Etalonnage_laser\",AND('Choix de l''instrument '!$D$3>=Etalonnage_laser!G111,G111<>\"\"),\"\")","v":""}]
["ETA-0186","Pige étalon","0,1651 mm",null,null,"Afficher",0,null,null,null,null,null,null,{"$f":"IF('Choix de l''instrument '!$C$3=\"Etalonnage_laser\",AND('Choix de l''instrument '!$D$3>=Etalonnage_laser!G112,G112<>\"\"),\"\")","v":""}]
["ETA-0185","Pige étalon","0,1626 mm",null,null,"Afficher",0,null,null,null,null,null,null,{"$f":"IF('Choix de l''instrument '!$C$3=\"Etalonnage_laser\",AND('Choix de l''instrument '!$D$3>=Etalonnage_laser!G113,G113<>\"\"),\"\")","v":""}]
["ETA-0184","Pige étalon","0,1600 mm",null,null,"Afficher",0,null,null,null,null,null,null,{"$f":"IF('Choix de l''instrument '!$C$3=\"Etalonnage_laser\",AND('Choix de l''instrument '!$D$3>=Etalonnage_laser!G114,G114<>\"\"),\"\")","v":""}]
["ETA-0180","Pige étalon","0,1575 mm",null,null,"Afficher",0,null,null,null,null,null,null,{"$f":"IF('Choix de l''instrument '!$C$3=\"Etalonnage_laser\",AND('Choix de l''instrument '!$D$3>=Etalonnage_laser!G115,G115<>\"\"),\"\")","v":""}]
["ETA-0176","Pige étalon","0,1473 mm",null,null,"Afficher",0,null,null,null,null,null,null,{"$f":"IF('Choix de l''instrument '!$C$3=\"Etalonnage_laser\",AND('Choix de l''instrument '!$D$3>=Etalonnage_laser!G116,G116<>\"\"),\"\")","v":""}]
["ETA-0175","Pige étalon","0,1448 mm",null,null,"Afficher",0,null,null,null,null,null,null,{"$f":"IF('Choix de l''instrument '!$C$3=\"Etalonnage_laser\",AND('Choix de l''instrument '!$D$3>=Etalonnage_laser!G117,G117<>\"\"),\"\")","v":""}]
["ETA-0174","Pige étalon","0,1422 mm",null,null,"Afficher",0,null,null,null,null,null,null,{"$f":"IF('Choix de l''instrument '!$C$3=\"Etalonnage_laser\",AND('Choix de l''instrument '!$D$3>=Etalonnage_laser!G118,G118<>\"\"),\"\")","v":""}]
["ETA-0179","Pige étalon","0,1549 mm",null,null,"Afficher",0,null,null,null,null,null,null,{"$f":"IF('Choix de l''instrument '!$C$3=\"Etalonnage_laser\",AND('Choix de l''instrument '!$D$3>=Etalonnage_laser!G119,G119<>\"\"),\"\")","v":""}]
["ETA-0178","Pige étalon","0,1524 mm",null,null,"Afficher",0,null,null,null,null,null,null,{"$f":"IF('Choix de l''instrument '!$C$3=\"Etalonnage_laser\",AND('Choix de l''instrument '!$D$3>=Etalonnage_laser!G120,G120<>\"\"),\"\")","v":""}]
["ETA-0177","Pige étalon","0,1499 mm",null,null,"Afficher",0,null,null,null,null,null,null,{"$f":"IF('Choix de l''instrument '!$C$3=\"Etalonnage_laser\",AND('Choix de l''instrument '!$D$3>=Etalonnage_laser!G121,G121<>\"\"),\"\")","v":""}]
["ETA-0187","Pige étalon","0,1676 mm",null,null,"Afficher",0,null,null,null,null,null,null,{"$f":"IF('Choix de l''instrument '!$C$3=\"Etalonnage_laser\",AND('Choix de l''instrument '!$D$3>=Etalonnage_laser!G122,G122<>\"\"),\"\")","v":""}]
["ETA-0197","Pige étalon","0,1930 mm",null,null,"Afficher",0,null,null,null,null,null,null,{"$f":"IF('Choix de l''instrument '!$C$3=\"Etalonnage_laser\",AND('Choix de l''instrument '!$D$3>=Etalonnage_laser!G123,G123<>\"\"),\"\")","v":""}]
["ETA-0196","Pige étalon","0,1905 mm",null,null,"Afficher",0,null,null,null,null,null,null,{"$f":"IF('Choix de l''instrument '!$C$3=\"Etalonnage_laser\",AND('Choix de l''instrument '!$D$3>=Etalonnage_laser!G124,G124<>\"\"),\"\")","v":""}]
["ETA-0195","Pige étalon","0,1880 mm",null,null,"Afficher",0,null,null,null,null,null,null,{"$f":"IF('Choix de l''instrument '!$C$3=\"Etalonnage_laser\",AND('Choix de l''instrument '!$D$3>=Etalonnage_laser!G125,G125<>\"\"),\"\")","v":""}]
["ETA-0200","Pige étalon","0,2007 mm",null,null,"Afficher",0,null,null,null,null,null,null,{"$f":"IF('Choix de l''instrument '!$C$3=\"Etalonnage_laser\",AND('Choix de l''instrument '!$D$3>=Etalonnage_laser!G126,G126<>\"\"),\"\")","v":""}]
["ETA-0199","Pige étalon","0,1981 mm",null,null,"Afficher",0,null,null,null,null,null,null,{"$f":"IF('Choix de l''instrument '!$C$3=\"Etalonnage_laser\",AND('Choix de l''instrument '!$D$3>=Etalonnage_laser!G127,G127<>\"\"),\"\")","v":""}]
["ETA-0198","Pige étalon","0,1956 mm",null,null,"Afficher",0,null,null,null,null,null,null,{"$f":"IF('Choix de l''instrument '!$C$3=\"Etalonnage_laser\",AND('Choix de l''instrument '!$D$3>=Etalonnage_laser!G128,G128<>\"\"),\"\")","v":""}]
["ETA-0194","Pige étalon","0,1854 mm",null,null,"Afficher",0,null,null,null,null,null,null,{"$f":"IF('Choix de l''instrument '!$C$3=\"Etalonnage_laser\",AND('Choix de l''instrument '!$D$3>=Etalonnage_laser!G129,G129<>\"\"),\"\")","v":""}]
["ETA-0190","Pige étalon","0,1753 mm",null,null,"Afficher",0,null,null,null,null,null,null,{"$f":"IF('Choix de l''instrument '!$C$3=\"Etalonnage_laser\",AND('Choix de l''instrument '!$D$3>=Etalonnage_laser!G130,G130<>\"\"),\"\")","v":""}]
["ETA-0189","Pige étalon","0,1727 mm",null,null,"Afficher",0,null,null,null,null,null,null,{"$f":"IF('Choix de l''instrument '!$C$3=\"Etalonnage_laser\",AND('Choix de l''instrument '!$D$3>=Etalonnage_laser!G131,G131<>\"\"),\"\")","v":""}]
["ETA-0188","Pige étalon","0,1702 mm",null,null,"Afficher",0,null,null,null,null,null,null,{"$f":"IF('Choix de l''instrument '!$C$3=\"Etalonnage_laser\",AND('Choix de l''instrument '!$D$3>=Etalonnage_laser!G132,G132<>\"\"),\"\")","v":""}]
["ETA-0193","Pige étalon","0,1829 mm",null,null,"Afficher",0,null,null,null,null,null,null,{"$f":"IF('Choix de l''instrument '!$C$3=\"Etalonnage_laser\",AND('Choix de l''instrument '!$D$3>=Etalonnage_laser!G133,G133<>\"\"),\"\")","v":""}]
["ETA-0192","Pige étalon","0,1803 mm",null,null,"Afficher",0,null,null,null,null,null,null,{"$f":"IF('Choix de l''instrument '!$C$3=\"Etalonnage_laser\",AND('Choix de l''instrument '!$D$3>=Etalonnage_laser!G134,G134<>\"\"),\"\")","v":""}]
["ETA-0191","Pige étalon","0,1778 mm",null,null,"Afficher",0,null,null,null,null,null,null,{"$f":"IF('Choix de l''instrument '!$C$3=\"Etalonnage_laser\",AND('Choix de l''instrument '!$D$3>=Etalonnage_laser!G135,G135<>\"\"),\"\")","v":""}]
["ETA-0269","Pige étalon","0,15 mm",null,null,"Afficher",0,null,null,null,null,null,null,{"$f":"IF('Choix de l''instrument '!$C$3=\"Etalonnage_laser\",AND('Choix de l''instrument '!$D$3>=Etalonnage_laser!G136,G136<>\"\"),\"\")","v":""}]
["ETA-0261","Pige étalon","1,95 mm",null,null,"Afficher",0,null,null,null,null,null,null,{"$f":"IF('Choix de l''instrument '!$C$3=\"Etalonnage_laser\",AND('Choix de l''instrument '!$D$3>=Etalonnage_laser!G137,G137<>\"\"),\"\")","v":""}]
["ETA-0260","Pige étalon","2,15 mm",null,null,"Afficher",0,null,null,null,null,null,null,{"$f":"IF('Choix de l''instrument '!$C$3=\"Etalonnage_laser\",AND('Choix de l''instrument '!$D$3>=Etalonnage_laser!G138,G138<>\"\"),\"\")","v":""}]
["ETA-0242","Pige étalon","13 mm",null,null,"Afficher",0,null,null,null,null,null,null,{"$f":"IF('Choix de l''instrument '!$C$3=\"Etalonnage_laser\",AND('Choix de l''instrument '!$D$3>=Etalonnage_laser!G139,G139<>\"\"),\"\")","v":""}]
["ETA-0250","Pige étalon","0,5 mm",null,null,"Afficher",0,null,null,null,null,null,null,{"$f":"IF('Choix de l''instrument '!$C$3=\"Etalonnage_laser\",AND('Choix de l''instrument '!$D$3>=Etalonnage_laser!G140,G140<>\"\"),\"\")","v":""}]
["ETA-0245","Pige étalon","0,15 mm",null,null,"Afficher",0,null,null,null,null,null,null,{"$f":"IF('Choix de l''instrument '!$C$3=\"Etalonnage_laser\",AND('Choix de l''instrument '!$D$3>=Etalonnage_laser!G141,G141<>\"\"),\"\")","v":""}]
["ETA-0244","Pige étalon","5 mm",null,null,"Afficher",0,null,null,null,null,null,null,{"$f":"IF('Choix de l''instrument '!$C$3=\"Etalonnage_laser\",AND('Choix de l''instrument '!$D$3>=Etalonnage_laser!G142,G142<>\"\"),\"\")","v":""}]
["ETA-0243","Pige étalon","8 mm",null,null,"Afficher",0,null,null,null,null,null,null,{"$f":"IF('Choix de l''instrument '!$C$3=\"Etalonnage_laser\",AND('Choix de l''instrument '!$D$3>=Etalonnage_laser!G143,G143<>\"\"),\"\")","v":""}]
["ETA-0249","Pige étalon","0,5 mm",null,null,"Afficher",0,null,null,null,null,null,null,{"$f":"IF('Choix de l''instrument '!$C$3=\"Etalonnage_laser\",AND('Choix de l''instrument '!$D$3>=Etalonnage_laser!G144,G144<>\"\"),\"\")","v":""}]
["ETA-0248","Pige étalon","0,20 mm",null,null,"Afficher",0,null,null,null,null,null,null,{"$f":"IF('Choix de l''instrument '!$C$3=\"Etalonnage_laser\",AND('Choix de l''instrument '!$D$3>=Etalonnage_laser!G145,G145<>\"\"),\"\")","v":""}]
["ETA-0246","Pige étalon","0,15 mm",null,null,"Afficher",0,null,null,null,null,null,null,{"$f":"IF('Choix de l''instrument '!$C$3=\"Etalonnage_laser\",AND('Choix de l''instrument '!$D$3>=Etalonnage_laser!G146,G146<>\"\"),\"\")","v":""}]
["ETA-0507","Pige étalon","0,15 mm",null,null,"Afficher",0,null,null,null,null,null,null,{"$f":"IF('Choix de l''instrument '!$C$3=\"Etalonnage_laser\",AND('Choix de l''instrument '!$D$3>=Etalonnage_laser!G147,G147<>\"\"),\"\")","v":""}]
["ETA-0509","Pige étalon","0,15 mm",null,null,"Afficher",0,null,null,null,null,null,null,{"$f":"IF('Choix de l''instrument '!$C$3=\"Etalonnage_laser\",AND('Choix de l''instrument '!$D$3>=Etalonnage_laser!G148,G148<>\"\"),\"\")","v":""}]
["ETA-0508","Pige étalon","0,15 mm",null,null,"Afficher",0,null,null,null,null,null,null,{"$f":"IF('Choix de l''instrument '!$C$3=\"Etalonnage_laser\",AND('Choix de l''instrument '!$D$3>=Etalonnage_laser!G149,G149<>\"\"),\"\")","v":""}]
["GAB-0002","Pige étalon",null,null,null,"Afficher",0,null,null,null,null,null,null,{"$f":"IF('Choix de l''instrument '!$C$3=\"Etalonnage_laser\",AND('Choix de l''instrument '!$D$3>=Etalonnage_laser!G150,G150<>\"\"),\"\")","v":""}]
["GAB-0001","Pige étalon",null,null,null,"Afficher",0,null,null,null,null,null,null,{"$f":"IF('Choix de l''instrument '!$C$3=\"Etalonnage_laser\",AND('Choix de l''instrument '!$D$3>=Etalonnage_laser!G151,G151<>\"\"),\"\")","v":""}]
["GAB-0005","Pige étalon",null,null,null,"Afficher",0,null,null,null,null,null,null,{"$f":"IF('Choix de l''instrument '!$C$3=\"Etalonnage_laser\",AND('Choix de l''instrument '!$D$3>=Etalonnage_laser!G152,G152<>\"\"),\"\")","v":""}]
["GAB-0004","Pige étalon",null,null,null,"Afficher",0,null,null,null,null,null,null,{"$f":"IF('Choix de l''instrument '!$C$3=\"Etalonnage_laser\",AND('Choix de l''instrument '!$D$3>=Etalonnage_laser!G153,G153<>\"\"),\"\")","v":""}]
["GAB-0003","Pige étalon",null,null,null,"Afficher",0,null,null,null,null,null,null,{"$f":"IF('Choix de l''instrument '!$C$3=\"Etalonnage_laser\",AND('Choix de l''instrument '!$D$3>=Etalonnage_laser!G154,G154<>\"\"),\"\")","v":""}]
["GAB-0006","Pige étalon",null,null,null,"Afficher",0,null,null,null,null,null,null,{"$f":"IF('Choix de l''instrument '!$C$3=\"Etalonnage_laser\",AND('Choix de l''instrument '!$D$3>=Etalonnage_laser!G155,G155<>\"\"),\"\")","v":""}]
["ETA-0422","Pige étalon","16 mm",null,null,"Afficher",0,null,null,null,null,null,null,{"$f":"IF('Choix de l''instrument '!$C$3=\"Etalonnage_laser\",AND('Choix de l''instrument '!$D$3>=Etalonnage_laser!G156,G156<>\"\"),\"\")","v":""}]
["ETA-0404","Pige étalon","4,40 mm",null,null,"Afficher",0,null,null,null,null,null,null,{"$f":"IF('Choix de l''instrument '!$C$3=\"Etalonnage_laser\",AND('Choix de l''instrument '!$D$3>=Etalonnage_laser!G157,G157<>\"\"),\"\")","v":""}]
["ETA-0407","Pige étalon","3,50 mm",null,null,"Afficher",0,null,null,null,null,null,null,{"$f":"IF('Choix de l''instrument '!$C$3=\"Etalonnage_laser\",AND('Choix de l''instrument '!$D$3>=Etalonnage_laser!G158,G158<>\"\"),\"\")","v":""}]
["ETA-0406","Pige étalon","3,50 mm",null,null,"Afficher",0,null,null,null,null,null,null,{"$f":"IF('Choix de l''instrument '!$C$3=\"Etalonnage_laser\",AND('Choix de l''instrument '!$D$3>=Etalonnage_laser!G159,G159<>\"\"),\"\")","v":""}]
["ETA-0405","Pige étalon","4,60 mm",null,null,"Afficher",0,null,null,null,null,null,null,{"$f":"IF('Choix de l''instrument '!$C$3=\"Etalonnage_laser\",AND('Choix de l''instrument '!$D$3>=Etalonnage_laser!G160,G160<>\"\"),\"\")","v":""}]
["ETA-0401","Pige étalon","30,0000 mm",null,null,"Afficher",0,null,null,null,null,null,null,{"$f":"IF('Choix de l''instrument '!$C$3=\"Etalonnage_laser\",AND('Choix de l''instrument '!$D$3>=Etalonnage_laser!G161,G161<>\"\"),\"\")","v":""}]
["ETA-0397","Pige étalon","10,000 mm",null,null,"Afficher",0,null,null,null,null,null,null,{"$f":"IF('Choix de l''instrument '!$C$3=\"Etalonnage_laser\",AND('Choix de l''instrument '!$D$3>=Etalonnage_laser!G162,G162<>\"\"),\"\")","v":""}]
["ETA-0396","Pige étalon","8,500 mm",null,null,"Afficher",0,null,null,null,null,null,null,{"$f":"IF('Choix de l''instrument '!$C$3=\"Etalonnage_laser\",AND('Choix de l''instrument '!$D$3>=Etalonnage_laser!G163,G163<>\"\"),\"\")","v":""}]
["ETA-0395","Pige étalon","8,500 mm",null,null,"Afficher",0,null,null,null,null,null,null,{"$f":"IF('Choix de l''instrument '!$C$3=\"Etalonnage_laser\",AND('Choix de l''instrument '!$D$3>=Etalonnage_laser!G164,G164<>\"\"),\"\")","v":""}]
["ETA-0400","Pige étalon","25,0000 mm",null,null,"Afficher",0,null,null,null,null,null,null,{"$f":"IF('Choix de l''instrument '!$C$3=\"Etalonnage_laser\",AND('Choix de l''instrument '!$D$3>=Etalonnage_laser!G165,G165<>\"\"),\"\")","v":""}]
["ETA-0398","Pige étalon","10,000 mm",null,null,"Afficher",0,null,null,null,null,null,null,{"$f":"IF('Choix de l''instrument '!$C$3=\"Etalonnage_laser\",AND('Choix de l''instrument '!$D$3>=Etalonnage_laser!G166,G166<>\"\"),\"\")","v":""}]
["ETA-0408","Pige étalon","7 mm",null,null,"Afficher",0,null,null,null,null,null,null,{"$f":"IF('Choix de l''instrument '!$C$3=\"Etalonnage_laser\",AND('Choix de l''instrument '!$D$3>=Etalonnage_laser!G167,G167<>\"\"),\"\")","v":""}]
["ETA-0417","Pige étalon","ø 0,700",null,null,"Afficher",0,null,null,null,null,null,null,{"$f":"IF('Choix de l''instrument '!$C$3=\"Etalonnage_laser\",AND('Choix de l''instrument '!$D$3>=Etalonnage_laser!G168,G168<>\"\"),\"\")","v":""}]
["ETA-0416","Pige étalon","ø 0,650",null,null,"Afficher",0,null,null,null,null,null,null,{"$f":"IF('Choix de l''instrument '!$C$3=\"Etalonnage_laser\",AND('Choix de l''instrument '!$D$3>=Etalonnage_laser!G169,G169<>\"\"),\"\")","v":""}]
["ETA-0421","Pige étalon","13 mm",null,null,"Afficher",0,null,null,null,null,null,null,{"$f":"IF('Choix de l''instrument '!$C$3=\"Etalonnage_laser\",AND('Choix de l''instrument '!$D$3>=Etalonnage_laser!G170,G170<>\"\"),\"\")","v":""}]
["ETA-0415","Pige étalon","ø 0,600",null,null,"Afficher",0,null,null,null,null,null,null,{"$f":"IF('Choix de l''instrument '!$C$3=\"Etalonnage_laser\",AND('Choix de l''instrument '!$D$3>=Etalonnage_laser!G171,G171<>\"\"),\"\")","v":""}]
["ETA-0411","Pige étalon","9 mm",null,null,"Afficher",0,null,null,null,null,null,null,{"$f":"IF('Choix de l''instrument '!$C$3=\"Etalonnage_laser\",AND('Choix de l''instrument '!$D$3>=Etalonnage_laser!G172,G172<>\"\"),\"\")","v":""}]
["ETA-0410","Pige étalon","9 mm",null,null,"Afficher",0,null,null,null,null,null,null,{"$f":"IF('Choix de l''instrument '!$C$3=\"Etalonnage_laser\",AND('Choix de l''instrument '!$D$3>=Etalonnage_laser!G173,G173<>\"\"),\"\")","v":""}]
["ETA-0409","Pige étalon","7 mm",null,null,"Afficher",0,null,null,null,null,null,null,{"$f":"IF('Choix de l''instrument '!$C$3=\"Etalonnage_laser\",AND('Choix de l''instrument '!$D$3>=Etalonnage_laser!G174,G174<>\"\"),\"\")","v":""}]
["ETA-0414","Pige étalon","ø 0,550",null,null,"Afficher",0,null,null,null,null,null,null,{"$f":"IF('Choix de l''instrument '!$C$3=\"Etalonnage_laser\",AND('Choix de l''instrument '!$D$3>=Etalonnage_laser!G175,G175<>\"\"),\"\")","v":""}]
["ETA-0413","Pige étalon","9,5 mm",null,null,"Afficher",0,null,null,null,null,null,null,{"$f":"IF('Choix de l''instrument '!$C$3=\"Etalonnage_laser\",AND('Choix de l''instrument '!$D$3>=Etalonnage_laser!G176,G176<>\"\"),\"\")","v":""}]
["ETA-0412","Pige étalon","9,5 mm",null,null,"Afficher",0,null,null,null,null,null,null,{"$f":"IF('Choix de l''instrument '!$C$3=\"Etalonnage_laser\",AND('Choix de l''instrument '!$D$3>=Etalonnage_laser!G177,G177<>\"\"),\"\")","v":""}]
["ETA-0486","Pige étalon","1.70 mm",null,null,"Afficher",0,null,null,null,null,null,null,{"$f":"IF('Choix de l''instrument '!$C$3=\"Etalonnage_laser\",AND('Choix de l''instrument '!$D$3>=Etalonnage_laser!G178,G178<>\"\"),\"\")","v":""}]
["ETA-0485","Pige étalon","1.20 mm",null,null,"Afficher",0,null,null,null,null,null,null,{"$f":"IF('Choix de l''instrument '!$C$3=\"Etalonnage_laser\",AND('Choix de l''instrument '!$D$3>=Etalonnage_laser!G179,G179<>\"\"),\"\")","v":""}]
["ETA-0484","Pige étalon","0.90 mm",null,null,"Afficher",0,null,null,null,null,null,null,{"$f":"IF('Choix de l''instrument '!$C$3=\"Etalonnage_laser\",AND('Choix de l''instrument '!$D$3>=Etalonnage_laser!G180,G180<>\"\"),\"\")","v":""}]
["ETA-0487","Pige étalon","2,900 mm",null,null,"Afficher",0,null,null,null,null,null,null,{"$f":"IF('Choix de l''instrument '!$C$3=\"Etalonnage_laser\",AND('Choix de l''instrument '!$D$3>=Etalonnage_laser!G181,G181<>\"\"),\"\")","v":""}]
["ETA-0483","Pige étalon","0.60 mm",null,null,"Afficher",0,null,null,null,null,null,null,{"$f":"IF('Choix de l''instrument '!$C$3=\"Etalonnage_laser\",AND('Choix de l''instrument '!$D$3>=Etalonnage_laser!G182,G182<>\"\"),\"\")","v":""}]
["ETA-0482","Pige étalon","/",null,null,"Afficher",0,null,null,null,null,null,null,{"$f":"IF('Choix de l''instrument '!$C$3=\"Etalonnage_laser\",AND('Choix de l''instrument '!$D$3>=Etalonnage_laser!G183,G183<>\"\"),\"\")","v":""}]
["ETA-0500","Pige étalon","1 mm",null,null,"Afficher",0,null,null,null,null,null,null,{"$f":"IF('Choix de l''instrument '!$C$3=\"Etalonnage_laser\",AND('Choix de l''instrument '!$D$3>=Etalonnage_laser!G184,G184<>\"\"),\"\")","v":""}]
["ETA-0499","Pige étalon","14 mm",null,null,"Afficher",0,null,null,null,null,null,null,{"$f":"IF('Choix de l''instrument '!$C$3=\"Etalonnage_laser\",AND('Choix de l''instrument '!$D$3>=Etalonnage_laser!G185,G185<>\"\"),\"\")","v":""}]
["ETA-0498","Pige étalon","8 mm",null,null,"Afficher",0,null,null,null,null,null,null,{"$f":"IF('Choix de l''instrument '!$C$3=\"Etalonnage_laser\",AND('Choix de l''instrument '!$D$3>=Etalonnage_laser!G186,G186<>\"\"),\"\")","v":""}]
["ETA-0503","Pige étalon","0,15 mm",null,null,"Afficher",0,null,null,null,null,null,null,{"$f":"IF('Choix de l''instrument '!$C$3=\"Etalonnage_laser\",AND('Choix de l''instrument '!$D$3>=Etalonnage_laser!G187,G187<>\"\"),\"\")","v":""}]
["ETA-0502","Pige étalon","14 mm",null,null,"Afficher",0,null,null,null,null,null,null,{"$f":"IF('Choix de l''instrument '!$C$3=\"Etalonnage_laser\",AND('Choix de l''instrument '!$D$3>=Etalonnage_laser!G188,G188<>\"\"),\"\")","v":""}]
["ETA-0501","Pige étalon","8 mm",null,null,"Afficher",0,null,null,null,null,null,null,{"$f":"IF('Choix de l''instrument '!$C$3=\"Etalonnage_laser\",AND('Choix de l''instrument '!$D$3>=Etalonnage_laser!G189,G189<>\"\"),\"\")","v":""}]
["ETA-0497","Pige étalon","1 mm",null,null,"Afficher",0,null,null,null,null,null,null,{"$f":"IF('Choix de l''instrument '!$C$3=\"Etalonnage_laser\",AND('Choix de l''instrument '!$D$3>=Etalonnage_laser!G190,G190<>\"\"),\"\")","v":""}]
["ETA-0463","Pige étalon","0,15 mm",null,null,"Afficher",0,null,null,null,null,null,null,{"$f":"IF('Choix de l''instrument '!$C$3=\"Etalonnage_laser\",AND('Choix de l''instrument '!$D$3>=Etalonnage_laser!G191,G191<>\"\"),\"\")","v":""}]
["ETA-0473","Pige étalon","0,2498 mm",null,null,"Afficher",0,null,null,null,null,null,null,{"$f":"IF('Choix de l''instrument '!$C$3=\"Etalonnage_laser\",AND('Choix de l''instrument '!$D$3>=Etalonnage_laser!G192,G192<>\"\"),\"\")","v":""}]
["ETA-0466","Pige étalon","0,15 mm",null,null,"Afficher",0,null,null,null,null,null,null,{"$f":"IF('Choix de l''instrument '!$C$3=\"Etalonnage_laser\",AND('Choix de l''instrument '!$D$3>=Etalonnage_laser!G193,G193<>\"\"),\"\")","v":""}]
["ETA-0465","Pige étalon","0,15 mm",null,null,"Afficher",0,null,null,null,null,null,null,{"$f":"IF('Choix de l''instrument '!$C$3=\"Etalonnage_laser\",AND('Choix de l''instrument '!$D$3>=Etalonnage_laser!G194,G194<>\"\"),\"\")","v":""}]
["ETA-0464","Pige étalon","0,15 mm",null,null,"Afficher",0,null,null,null,null,null,null,{"$f":"IF('Choix de l''instrument '!$C$3=\"Etalonnage_laser\",AND('Choix de l''instrument '!$D$3>=Etalonnage_laser!G195,G195<>\"\"),\"\")","v":""}]
["PET-001","Pige étalon","2 mm",null,null,"Afficher",0,null,null,null,null,null,null,{"$f":"IF('Choix de l''instrument '!$C$3=\"Etalonnage_laser\",AND('Choix de l''instrument '!$D$3>=Etalonnage_laser!G196,G196<>\"\"),\"\")","v":""}]
["PET.019","Pige étalon","55,5 mm",null,null,"Afficher",0,null,null,null,null,null,null,{"$f":"IF('Choix de l''instrument '!$C$3=\"Etalonnage_laser\",AND('Choix de l''instrument '!$D$3>=Etalonnage_laser!G197,G197<>\"\"),\"\")","v":""}]
["PET-004","Pige étalon","2 mm",null,null,"Afficher",0,null,null,null,null,null,null,{"$f":"IF('Choix de l''instrument '!$C$3=\"Etalonnage_laser\",AND('Choix de l''instrument '!$D$3>=Etalonnage_laser!G198,G198<>\"\"),\"\")","v":""}]
["PET-003","Pige étalon","6 mm",null,null,"Afficher",0,null,null,null,null,null,null,{"$f":"IF('Choix de l''instrument '!$C$3=\"Etalonnage_laser\",AND('Choix de l''instrument '!$D$3>=Etalonnage_laser!G199,G199<>\"\"),\"\")","v":""}]
["PET-002","Pige étalon","6,00",null,null,"Afficher",0,null,null,null,null,null,null,{"$f":"IF('Choix de l''instrument '!$C$3=\"Etalonnage_laser\",AND('Choix de l''instrument '!$D$3>=Etalonnage_laser!G200,G200<>\"\"),\"\")","v":""}]
["PET-005","Pige étalon","6,35 mm",null,null,"Afficher",0,null,null,null,null,null,null,{"$f":"IF('Choix de l''instrument '!$C$3=\"Etalonnage_laser\",AND('Choix de l''instrument '!$D$3>=Etalonnage_laser!G201,G201<>\"\"),\"\")","v":""}]
["PET-154","Pige étalon","0,660 mm",null,null,"Afficher",0,null,null,null,null,null,null,{"$f":"IF('Choix de l''instrument '!$C$3=\"Etalonnage_laser\",AND('Choix de l''instrument '!$D$3>=Etalonnage_laser!G202,G202<>\"\"),\"\")","v":""}]
["PET-153","Pige étalon","0,65 mm",null,null,"Afficher",0,null,null,null,null,null,null,{"$f":"IF('Choix de l''instrument '!$C$3=\"Etalonnage_laser\",AND('Choix de l''instrument '!$D$3>=Etalonnage_laser!G203,G203<>\"\"),\"\")","v":""}]
["PET-122","Pige étalon","0,2 mm",null,null,"Afficher",0,null,null,null,null,null,null,{"$f":"IF('Choix de l''instrument '!$C$3=\"Etalonnage_laser\",AND('Choix de l''instrument '!$D$3>=Etalonnage_laser!G204,G204<>\"\"),\"\")","v":""}]
["PET-178","Pige étalon","2 mm",null,null,"Afficher",0,null,null,null,null,null,null,{"$f":"IF('Choix de l''instrument '!$C$3=\"Etalonnage_laser\",AND('Choix de l''instrument '!$D$3>=Etalonnage_laser!G205,G205<>\"\"),\"\")","v":""}]
["PET-177","Pige étalon","2 mm",null,null,"Afficher",0,null,null,null,null,null,null,{"$f":"IF('Choix de l''instrument '!$C$3=\"Etalonnage_laser\",AND('Choix de l''instrument '!$D$3>=Etalonnage_laser!G206,G206<>\"\"),\"\")","v":""}]
["PET-155","Pige étalon","1,300 mm",null,null,"Afficher",0,null,null,null,null,null,null,{"$f":"IF('Choix de l''instrument '!$C$3=\"Etalonnage_laser\",AND('Choix de l''instrument '!$D$3>=Etalonnage_laser!G207,G207<>\"\"),\"\")","v":""}]
["PET-018","Pige étalon","6 mm",null,null,"Afficher",0,null,null,null,null,null,null,{"$f":"IF('Choix de l''instrument '!$C$3=\"Etalonnage_laser\",AND('Choix de l''instrument '!$D$3>=Etalonnage_laser!G208,G208<>\"\"),\"\")","v":""}]
["PET-008","Pige étalon","6 mm",null,null,"Afficher",0,null,null,null,null,null,null,{"$f":"IF('Choix de l''instrument '!$C$3=\"Etalonnage_laser\",AND('Choix de l''instrument '!$D$3>=Etalonnage_laser!G209,G209<>\"\"),\"\")","v":""}]
["PET-007","Pige étalon","2 mm",null,null,"Afficher",0,null,null,null,null,null,null,{"$f":"IF('Choix de l''instrument '!$C$3=\"Etalonnage_laser\",AND('Choix de l''instrument '!$D$3>=Etalonnage_laser!G210,G210<>\"\"),\"\")","v":""}]
["PET-006","Pige étalon",null,null,null,"Afficher",0,null,null,null,null,null,null,{"$f":"IF('Choix de l''instrument '!$C$3=\"Etalonnage_laser\",AND('Choix de l''instrument '!$D$3>=Etalonnage_laser!G211,G211<>\"\"),\"\")","v":""}]
["PET-017","Pige étalon","6 mm",null,null,"Afficher",0,null,null,null,null,null,null,{"$f":"IF('Choix de l''instrument '!$C$3=\"Etalonnage_laser\",AND('Choix de l''instrument '!$D$3>=Etalonnage_laser!G212,G212<>\"\"),\"\")","v":""}]
["PET-016","Pige étalon","6 mm",null,null,"Afficher",0,null,null,null,null,null,null,{"$f":"IF('Choix de l''instrument '!$C$3=\"Etalonnage_laser\",AND('Choix de l''instrument '!$D$3>=Etalonnage_laser!G213,G213<>\"\"),\"\")","v":""}]
["PET-015","Pige étalon","2 mm",null,null,"Afficher",0,null,null,null,null,null,null,{"$f":"IF('Choix de l''instrument '!$C$3=\"Etalonnage_laser\",AND('Choix de l''instrument '!$D$3>=Etalonnage_laser!G214,G214<>\"\"),\"\")","v":""}]
["CAL-0481","Pige étalon","41 mm",null,null,"Afficher",0,null,null,null,null,null,null,{"$f":"IF('Choix de l''instrument '!$C$3=\"Etalonnage_laser\",AND('Choix de l''instrument '!$D$3>=Etalonnage_laser!G215,G215<>\"\"),\"\")","v":""}]
["CAL-0480","Pige étalon","35 mm",null,null,"Afficher",0,null,null,null,null,null,null,{"$f":"IF('Choix de l''instrument '!$C$3=\"Etalonnage_laser\",AND('Choix de l''instrument '!$D$3>=Etalonnage_laser!G216,G216<>\"\"),\"\")","v":""}]
["CAL-0473","Pige étalon",2.06,null,null,"Afficher",0,null,null,null,null,null,null,{"$f":"IF('Choix de l''instrument '!$C$3=\"Etalonnage_laser\",AND('Choix de l''instrument '!$D$3>=Etalonnage_laser!G217,G217<>\"\"),\"\")","v":""}]
["CAL-0472","Pige étalon",2.0299999999999998,null,null,"Afficher",0,null,null,null,null,null,null,{"$f":"IF('Choix de l''instrument '!$C$3=\"Etalonnage_laser\",AND('Choix de l''instrument '!$D$3>=Etalonnage_laser!G218,G218<>\"\"),\"\")","v":""}]
["CE.005A","Pige étalon","2 mm",null,null,"Afficher",0,null,null,null,null,null,null,{"$f":"IF('Choix de l''instrument '!$C$3=\"Etalonnage_laser\",AND('Choix de l''instrument '!$D$3>=Etalonnage_laser!G219,G219<>\"\"),\"\")","v":""}]
["CE.005","Pige étalon","6 mm",null,null,"Afficher",0,null,null,null,null,null,null,{"$f":"IF('Choix de l''instrument '!$C$3=\"Etalonnage_laser\",AND('Choix de l''instrument '!$D$3>=Etalonnage_laser!G220,G220<>\"\"),\"\")","v":""}]
["CE.011","Pige étalon","2 mm",null,null,"Afficher",0,null,null,null,null,null,null,{"$f":"IF('Choix de l''instrument '!$C$3=\"Etalonnage_laser\",AND('Choix de l''instrument '!$D$3>=Etalonnage_laser!G221,G221<>\"\"),\"\")","v":""}]
["CE.011A","Pige étalon","6 mm",null,null,"Afficher",0,null,null,null,null,null,null,{"$f":"IF('Choix de l''instrument '!$C$3=\"Etalonnage_laser\",AND('Choix de l''instrument '!$D$3>=Etalonnage_laser!G222,G222<>\"\"),\"\")","v":""}]
["CE.256","Pige étalon","0,2 mm",null,null,"Afficher",0,null,null,null,null,null,null,{"$f":"IF('Choix de l''instrument '!$C$3=\"Etalonnage_laser\",AND('Choix de l''instrument '!$D$3>=Etalonnage_laser!G223,G223<>\"\"),\"\")","v":""}]
["CE.172","Pige étalon","1,80",null,null,"Afficher",0,null,null,null,null,null,null,{"$f":"IF('Choix de l''instrument '!$C$3=\"Etalonnage_laser\",AND('Choix de l''instrument '!$D$3>=Etalonnage_laser!G224,G224<>\"\"),\"\")","v":""}]
["CAL-0072","Pige étalon","5 mm",null,null,"Afficher",0,null,null,null,null,null,null,{"$f":"IF('Choix de l''instrument '!$C$3=\"Etalonnage_laser\",AND('Choix de l''instrument '!$D$3>=Etalonnage_laser!G225,G225<>\"\"),\"\")","v":""}]
["CAL-0061","Pige étalon","0,345",null,null,"Afficher",0,null,null,null,null,null,null,{"$f":"IF('Choix de l''instrument '!$C$3=\"Etalonnage_laser\",AND('Choix de l''instrument '!$D$3>=Etalonnage_laser!G226,G226<>\"\"),\"\")","v":""}]
["ETA-0101","Pige étalon","0,6505 mm",null,null,"Afficher",0,null,null,null,null,null,null,{"$f":"IF('Choix de l''instrument '!$C$3=\"Etalonnage_laser\",AND('Choix de l''instrument '!$D$3>=Etalonnage_laser!G227,G227<>\"\"),\"\")","v":""}]
["ETA-0100","Pige étalon","0,6505 mm",null,null,"Afficher",0,null,null,null,null,null,null,{"$f":"IF('Choix de l''instrument '!$C$3=\"Etalonnage_laser\",AND('Choix de l''instrument '!$D$3>=Etalonnage_laser!G228,G228<>\"\"),\"\")","v":""}]
["ETA-0094","Pige étalon","0,500 mm",null,null,"Afficher",0,null,null,null,null,null,null,{"$f":"IF('Choix de l''instrument '!$C$3=\"Etalonnage_laser\",AND('Choix de l''instrument '!$D$3>=Etalonnage_laser!G229,G229<>\"\"),\"\")","v":""}]
["ETA-0093","Pige étalon","0,500 mm",null,null,"Afficher",0,null,null,null,null,null,null,{"$f":"IF('Choix de l''instrument '!$C$3=\"Etalonnage_laser\",AND('Choix de l''instrument '!$D$3>=Etalonnage_laser!G230,G230<>\"\"),\"\")","v":""}]
["ETA-0092","Pige étalon","0,500 mm",null,null,"Afficher",0,null,null,null,null,null,null,{"$f":"IF('Choix de l''instrument '!$C$3=\"Etalonnage_laser\",AND('Choix de l''instrument '!$D$3>=Etalonnage_laser!G231,G231<>\"\"),\"\")","v":""}]
["ETA-0095","Pige étalon","2,001 mm",null,null,"Afficher",0,null,null,null,null,null,null,{"$f":"IF('Choix de l''instrument '!$C$3=\"Etalonnage_laser\",AND('Choix de l''instrument '!$D$3>=Etalonnage_laser!G232,G232<>\"\"),\"\")","v":""}]
["ETA-0115","Pige étalon","25 mm",null,null,"Afficher",0,null,null,null,null,null,null,{"$f":"IF('Choix de l''instrument '!$C$3=\"Etalonnage_laser\",AND('Choix de l''instrument '!$D$3>=Etalonnage_laser!G233,G233<>\"\"),\"\")","v":""}]
["ETA-0114","Pige étalon","30 mm",null,null,"Afficher",0,null,null,null,null,null,null,{"$f":"IF('Choix de l''instrument '!$C$3=\"Etalonnage_laser\",AND('Choix de l''instrument '!$D$3>=Etalonnage_laser!G234,G234<>\"\"),\"\")","v":""}]
["ETA-0113","Pige étalon","2 mm",null,null,"Afficher",0,null,null,null,null,null,null,{"$f":"IF('Choix de l''instrument '!$C$3=\"Etalonnage_laser\",AND('Choix de l''instrument '!$D$3>=Etalonnage_laser!G235,G235<>\"\"),\"\")","v":""}]
["ETA-0118","Pige étalon","19 mm",null,null,"Afficher",0,null,null,null,null,null,null,{"$f":"IF('Choix de l''instrument '!$C$3=\"Etalonnage_laser\",AND('Choix de l''instrument '!$D$3>=Etalonnage_laser!G236,G236<>\"\"),\"\")","v":""}]
["ETA-0117","Pige étalon","30 mm",null,null,"Afficher",0,null,null,null,null,null,null,{"$f":"IF('Choix de l''instrument '!$C$3=\"Etalonnage_laser\",AND('Choix de l''instrument '!$D$3>=Etalonnage_laser!G237,G237<>\"\"),\"\")","v":""}]
["ETA-0116","Pige étalon","25 mm",null,null,"Afficher",0,null,null,null,null,null,null,{"$f":"IF('Choix de l''instrument '!$C$3=\"Etalonnage_laser\",AND('Choix de l''instrument '!$D$3>=Etalonnage_laser!G238,G238<>\"\"),\"\")","v":""}]
["ETA-0112","Pige étalon","2 mm",null,null,"Afficher",0,null,null,null,null,null,null,{"$f":"IF('Choix de l''instrument '!$C$3=\"Etalonnage_laser\",AND('Choix de l''instrument '!$D$3>=Etalonnage_laser!G239,G239<>\"\"),\"\")","v":""}]
["ETA-0111","Pige étalon","2 mm",null,null,"Afficher",0,null,null,null,null,null,null,{"$f":"IF('Choix de l''instrument '!$C$3=\"Etalonnage_laser\",AND('Choix de l''instrument '!$D$3>=Etalonnage_laser!G240,G240<>\"\"),\"\")","v":""}]
["ETA-0110","Pige étalon","0,300 mm",null,null,"Afficher",0,null,null,null,null,null,null,{"$f":"IF('Choix de l''instrument '!$C$3=\"Etalonnage_laser\",AND('Choix de l''instrument '!$D$3>=Etalonnage_laser!G241,G241<>\"\"),\"\")","v":""}]
["ETA-0109","Pige étalon","7 mm",null,null,"Afficher",0,null,null,null,null,null,null,{"$f":"IF('Choix de l''instrument '!$C$3=\"Etalonnage_laser\",AND('Choix de l''instrument '!$D$3>=Etalonnage_laser!G242,G242<>\"\"),\"\")","v":""}]
["ETA-0119","Pige étalon","19 mm",null,null,"Afficher",0,null,null,null,null,null,null,{"$f":"IF('Choix de l''instrument '!$C$3=\"Etalonnage_laser\",AND('Choix de l''instrument '!$D$3>=Etalonnage_laser!G243,G243<>\"\"),\"\")","v":""}]
["ETA-0156","Pige étalon","0,250 mm",null,null,"Afficher",0,null,null,null,null,null,null,{"$f":"IF('Choix de l''instrument '!$C$3=\"Etalonnage_laser\",AND('Choix de l''instrument '!$D$3>=Etalonnage_laser!G244,G244<>\"\"),\"\")","v":""}]
["ETA-0155","Pige étalon","0,250 mm",null,null,"Afficher",0,null,null,null,null,null,null,{"$f":"IF('Choix de l''instrument '!$C$3=\"Etalonnage_laser\",AND('Choix de l''instrument '!$D$3>=Etalonnage_laser!G245,G245<>\"\"),\"\")","v":""}]
["ETA-0154","Pige étalon","0,250 mm",null,null,"Afficher",0,null,null,null,null,null,null,{"$f":"IF('Choix de l''instrument '!$C$3=\"Etalonnage_laser\",AND('Choix de l''instrument '!$D$3>=Etalonnage_laser!G246,G246<>\"\"),\"\")","v":""}]
["ETA-0159","Pige étalon","0,1041 mm",null,null,"Afficher",0,null,null,null,null,null,null,{"$f":"IF('Choix de l''instrument '!$C$3=\"Etalonnage_laser\",AND('Choix de l''instrument '!$D$3>=Etalonnage_laser!G247,G247<>\"\"),\"\")","v":""}]
["ETA-0158","Pige étalon","0,300 mm",null,null,"Afficher",0,null,null,null,null,null,null,{"$f":"IF('Choix de l''instrument '!$C$3=\"Etalonnage_laser\",AND('Choix de l''instrument '!$D$3>=Etalonnage_laser!G248,G248<>\"\"),\"\")","v":""}]
["ETA-0157","Pige étalon","0,300 mm",null,null,"Afficher",0,null,null,null,null,null,null,{"$f":"IF('Choix de l''instrument '!$C$3=\"Etalonnage_laser\",AND('Choix de l''instrument '!$D$3>=Etalonnage_laser!G249,G249<>\"\"),\"\")","v":""}]
["ETA-0153","Pige étalon","0,250 mm",null,null,"Afficher",0,null,null,null,null,null,null,{"$f":"IF('Choix de l''instrument '!$C$3=\"Etalonnage_laser\",AND('Choix de l''instrument '!$D$3>=Etalonnage_laser!G250,G250<>\"\"),\"\")","v":""}]
["ETA-0149","Pige étalon","0,150 mm",null,null,"Afficher",0,null,null,null,null,null,null,{"$f":"IF('Choix de l''instrument '!$C$3=\"Etalonnage_laser\",AND('Choix de l''instrument '!$D$3>=Etalonnage_laser!G251,G251<>\"\"),\"\")","v":""}]
["ETA-0148","Pige étalon","18 mm",null,null,"Afficher",0,null,null,null,null,null,null,{"$f":"IF('Choix de l''instrument '!$C$3=\"Etalonnage_laser\",AND('Choix de l''instrument '!$D$3>=Etalonnage_laser!G252,G252<>\"\"),\"\")","v":""}]
["ETA-0147","Pige étalon","0,7 mm",null,null,"Afficher",0,null,null,null,null,null,null,{"$f":"IF('Choix de l''instrument '!$C$3=\"Etalonnage_laser\",AND('Choix de l''instrument '!$D$3>=Etalonnage_laser!G253,G253<>\"\"),\"\")","v":""}]
["ETA-0152","Pige étalon","0,250 mm",null,null,"Afficher",0,null,null,null,null,null,null,{"$f":"IF('Choix de l''instrument '!$C$3=\"Etalonnage_laser\",AND('Choix de l''instrument '!$D$3>=Etalonnage_laser!G254,G254<>\"\"),\"\")","v":""}]
["ETA-0151","Pige étalon","0,150 mm",null,null,"Afficher",0,null,null,null,null,null,null,{"$f":"IF('Choix de l''instrument '!$C$3=\"Etalonnage_laser\",AND('Choix de l''instrument '!$D$3>=Etalonnage_laser!G255,G255<>\"\"),\"\")","v":""}]
["ETA-0150","Pige étalon","0,150 mm",null,null,"Afficher",0,null,null,null,null,null,null,{"$f":"IF('Choix de l''instrument '!$C$3=\"Etalonnage_laser\",AND('Choix de l''instrument '!$D$3>=Etalonnage_laser!G256,G256<>\"\"),\"\")","v":""}]
["ETA-0160","Pige étalon","0,1067 mm",null,null,"Afficher",0,null,null,null,null,null,null,{"$f":"IF('Choix de l''instrument '!$C$3=\"Etalonnage_laser\",AND('Choix de l''instrument '!$D$3>=Etalonnage_laser!G257,G257<>\"\"),\"\")","v":""}]
["ETA-0170","Pige étalon","0,1321 mm",null,null,"Afficher",0,null,null,null,null,null,null,{"$f":"IF('Choix de l''instrument '!$C$3=\"Etalonnage_laser\",AND('Choix de l''instrument '!$D$3>=Etalonnage_laser!G258,G258<>\"\"),\"\")","v":""}]
["ETA-0169","Pige étalon","0,1295 mm",null,null,"Afficher",0,null,null,null,null,null,null,{"$f":"IF('Choix de l''instrument '!$C$3=\"Etalonnage_laser\",AND('Choix de l''instrument '!$D$3>=Etalonnage_laser!G259,G259<>\"\"),\"\")","v":""}]
["ETA-0168","Pige étalon","0,1270 mm",null,null,"Afficher",0,null,null,null,null,null,null,{"$f":"IF('Choix de l''instrument '!$C$3=\"Etalonnage_laser\",AND('Choix de l''instrument '!$D$3>=Etalonnage_laser!G260,G260<>\"\"),\"\")","v":""}]
["ETA-0173","Pige étalon","0,1397 mm",null,null,"Afficher",0,null,null,null,null,null,null,{"$f":"IF('Choix de l''instrument '!$C$3=\"Etalonnage_laser\",AND('Choix de l''instrument '!$D$3>=Etalonnage_laser!G261,G261<>\"\"),\"\")","v":""}]
["ETA-0172","Pige étalon","0,1372 mm",null,null,"Afficher",0,null,null,null,null,null,null,{"$f":"IF('Choix de l''instrument '!$C$3=\"Etalonnage_laser\",AND('Choix de l''instrument '!$D$3>=Etalonnage_laser!G262,G262<>\"\"),\"\")","v":""}]
["ETA-0171","Pige étalon","0,1346 mm",null,null,"Afficher",0,null,null,null,null,null,null,{"$f":"IF('Choix de l''instrument '!$C$3=\"Etalonnage_laser\",AND('Choix de l''instrument '!$D$3>=Etalonnage_laser!G263,G263<>\"\"),\"\")","v":""}]
["ETA-0167","Pige étalon","0,1245 mm",null,null,"Afficher",0,null,null,null,null,null,null,{"$f":"IF('Choix de l''instrument '!$C$3=\"Etalonnage_laser\",AND('Choix de l''instrument '!$D$3>=Etalonnage_laser!G264,G264<>\"\"),\"\")","v":""}]
["ETA-0163","Pige étalon","0,1143 mm",null,null,"Afficher",0,null,null,null,null,null,null,{"$f":"IF('Choix de l''instrument '!$C$3=\"Etalonnage_laser\",AND('Choix de l''instrument '!$D$3>=Etalonnage_laser!G265,G265<>\"\"),\"\")","v":""}]
["ETA-0162","Pige étalon","0,1118 mm",null,null,"Afficher",0,null,null,null,null,null,null,{"$f":"IF('Choix de l''instrument '!$C$3=\"Etalonnage_laser\",AND('Choix de l''instrument '!$D$3>=Etalonnage_laser!G266,G266<>\"\"),\"\")","v":""}]
["ETA-0161","Pige étalon","0,1092 mm",null,null,"Afficher",0,null,null,null,null,null,null,{"$f":"IF('Choix de l''instrument '!$C$3=\"Etalonnage_laser\",AND('Choix de l''instrument '!$D$3>=Etalonnage_laser!G267,G267<>\"\"),\"\")","v":""}]
["ETA-0166","Pige étalon","0,1219 mm",null,null,"Afficher",0,null,null,null,null,null,null,{"$f":"IF('Choix de l''instrument '!$C$3=\"Etalonnage_laser\",AND('Choix de l''instrument '!$D$3>=Etalonnage_laser!G268,G268<>\"\"),\"\")","v":""}]
["ETA-0165","Pige étalon","0,1194 mm",null,null,"Afficher",0,null,null,null,null,null,null,{"$f":"IF('Choix de l''instrument '!$C$3=\"Etalonnage_laser\",AND('Choix de l''instrument '!$D$3>=Etalonnage_laser!G269,G269<>\"\"),\"\")","v":""}]
["ETA-0164","Pige étalon","0,1168 mm",null,null,"Afficher",0,null,null,null,null,null,null,{"$f":"IF('Choix de l''instrument '!$C$3=\"Etalonnage_laser\",AND('Choix de l''instrument '!$D$3>=Etalonnage_laser!G270,G270<>\"\"),\"\")","v":""}]
["ETA-0129","Pige étalon","18 mm",null,null,"Afficher",0,null,null,null,null,null,null,{"$f":"IF('Choix de l''instrument '!$C$3=\"Etalonnage_laser\",AND('Choix de l''instrument '!$D$3>=Etalonnage_laser!G271,G271<>\"\"),\"\")","v":""}]
["ETA-0128","Pige étalon",null,null,null,"Afficher",0,null,null,null,null,null,null,{"$f":"IF('Choix de l''instrument '!$C$3=\"Etalonnage_laser\",AND('Choix de l''instrument '!$D$3>=Etalonnage_laser!G272,G272<>\"\"),\"\")","v":""}]
["ETA-0127","Pige étalon","3 mm",null,null,"Afficher",0,null,null,null,null,null,null,{"$f":"IF('Choix de l''instrument '!$C$3=\"Etalonnage_laser\",AND('Choix de l''instrument '!$D$3>=Etalonnage_laser!G273,G273<>\"\"),\"\")","v":""}]
["ETA-0132","Pige étalon","17 mm",null,null,"Afficher",0,null,null,null,null,null,null,{"$f":"IF('Choix de l''instrument '!$C$3=\"Etalonnage_laser\",AND('Choix de l''instrument '!$D$3>=Etalonnage_laser!G274,G274<>\"\"),\"\")","v":""}]
["ETA-0131","Pige étalon","17 mm",null,null,"Afficher",0,null,null,null,null,null,null,{"$f":"IF('Choix de l''instrument '!$C$3=\"Etalonnage_laser\",AND('Choix de l''instrument '!$D$3>=Etalonnage_laser!G275,G275<>\"\"),\"\")","v":""}]
["ETA-0130","Pige étalon","18 mm",null,null,"Afficher",0,null,null,null,null,null,null,{"$f":"IF('Choix de l''instrument '!$C$3=\"Etalonnage_laser\",AND('Choix de l''instrument '!$D$3>=Etalonnage_laser!G276,G276<>\"\"),\"\")","v":""}]
["ETA-0126","Pige étalon","3 mm",null,null,"Afficher",0,null,null,null,null,null,null,{"$f":"IF('Choix de l''instrument '!$C$3=\"Etalonnage_laser\",AND('Choix de l''instrument '!$D$3>=Etalonnage_laser!G277,G277<>\"\"),\"\")","v":""}]
["ETA-0122","Pige étalon","20 mm",null,null,"Afficher",0,null,null,null,null,null,null,{"$f":"IF('Choix de l''instrument '!$C$3=\"Etalonnage_laser\",AND('Choix de l''instrument '!$D$3>=Etalonnage_laser!G278,G278<>\"\"),\"\")","v":""}]
["ETA-0121","Pige étalon","20 mm",null,null,"Afficher",0,null,null,null,null,null,null,{"$f":"IF('Choix de l''instrument '!$C$3=\"Etalonnage_laser\",AND('Choix de l''instrument '!$D$3>=Etalonnage_laser!G279,G279<>\"\"),\"\")","v":""}]
["ETA-0125","Pige étalon","19 mm",null,null,"Afficher",0,null,null,null,null,null,null,{"$f":"IF('Choix de l''instrument '!$C$3=\"Etalonnage_laser\",AND('Choix de l''instrument '!$D$3>=Etalonnage_laser!G280,G280<>\"\"),\"\")","v":""}]
["ETA-0124","Pige étalon","20 mm",null,null,"Afficher",0,null,null,null,null,null,null,{"$f":"IF('Choix de l''instrument '!$C$3=\"Etalonnage_laser\",AND('Choix de l''instrument '!$D$3>=Etalonnage_laser!G281,G281<>\"\"),\"\")","v":""}]
["ETA-0123","Pige étalon","20 mm",null,null,"Afficher",0,null,null,null,null,null,null,{"$f":"IF('Choix de l''instrument '!$C$3=\"Etalonnage_laser\",AND('Choix de l''instrument '!$D$3>=Etalonnage_laser!G282,G282<>\"\"),\"\")","v":""}]
["ETA-0133","Pige étalon","13 mm",null,null,"Afficher",0,null,null,null,null,null,null,{"$f":"IF('Choix de l''instrument '!$C$3=\"Etalonnage_laser\",AND('Choix de l''instrument '!$D$3>=Etalonnage_laser!G283,G283<>\"\"),\"\")","v":""}]
["ETA-0143","Pige étalon","4 mm",null,null,"Afficher",0,null,null,null,null,null,null,{"$f":"IF('Choix de l''instrument '!$C$3=\"Etalonnage_laser\",AND('Choix de l''instrument '!$D$3>=Etalonnage_laser!G284,G284<>\"\"),\"\")","v":""}]
["ETA-0142","Pige étalon","4 mm",null,null,"Afficher",0,null,null,null,null,null,null,{"$f":"IF('Choix de l''instrument '!$C$3=\"Etalonnage_laser\",AND('Choix de l''instrument '!$D$3>=Etalonnage_laser!G285,G285<>\"\"),\"\")","v":""}]
["ETA-0141","Pige étalon","7 mm",null,null,"Afficher",0,null,null,null,null,null,null,{"$f":"IF('Choix de l''instrument '!$C$3=\"Etalonnage_laser\",AND('Choix de l''instrument '!$D$3>=Etalonnage_laser!G286,G286<>\"\"),\"\")","v":""}]
["ETA-0146","Pige étalon","0,7 mm",null,null,"Afficher",0,null,null,null,null,null,null,{"$f":"IF('Choix de l''instrument '!$C$3=\"Etalonnage_laser\",AND('Choix de l''instrument '!$D$3>=Etalonnage_laser!G287,G287<>\"\"),\"\")","v":""}]
["ETA-0145","Pige étalon","1,4 mm",null,null,"Afficher",0,null,null,null,null,null,null,{"$f":"IF('Choix de l''instrument '!$C$3=\"Etalonnage_laser\",AND('Choix de l''instrument '!$D$3>=Etalonnage_laser!G288,G288<>\"\"),\"\")","v":""}]
["ETA-0144","Pige étalon","1,4 mm",null,null,"Afficher",0,null,null,null,null,null,null,{"$f":"IF('Choix de l''instrument '!$C$3=\"Etalonnage_laser\",AND('Choix de l''instrument '!$D$3>=Etalonnage_laser!G289,G289<>\"\"),\"\")","v":""}]
["ETA-0140","Pige étalon","7 mm",null,null,"Afficher",0,null,null,null,null,null,null,{"$f":"IF('Choix de l''instrument '!$C$3=\"Etalonnage_laser\",AND('Choix de l''instrument '!$D$3>=Etalonnage_laser!G290,G290<>\"\"),\"\")","v":""}]
["ETA-0136","Pige étalon","10 mm",null,null,"Afficher",0,null,null,null,null,null,null,{"$f":"IF('Choix de l''instrument '!$C$3=\"Etalonnage_laser\",AND('Choix de l''instrument '!$D$3>=Etalonnage_laser!G291,G291<>\"\"),\"\")","v":""}]
["ETA-0135","Pige étalon","10 mm",null,null,"Afficher",0,null,null,null,null,null,null,{"$f":"IF('Choix de l''instrument '!$C$3=\"Etalonnage_laser\",AND('Choix de l''instrument '!$D$3>=Etalonnage_laser!G292,G292<>\"\"),\"\")","v":""}]
["ETA-0134","Pige étalon","13 mm",null,null,"Afficher",0,null,null,null,null,null,null,{"$f":"IF('Choix de l''instrument '!$C$3=\"Etalonnage_laser\",AND('Choix de l''instrument '!$D$3>=Etalonnage_laser!G293,G293<>\"\"),\"\")","v":""}]
["ETA-0139","Pige étalon","8 mm",null,null,"Afficher",0,null,null,null,null,null,null,{"$f":"IF('Choix de l''instrument '!$C$3=\"Etalonnage_laser\",AND('Choix de l''instrument '!$D$3>=Etalonnage_laser!G294,G294<>\"\"),\"\")","v":""}]
["ETA-0138","Pige étalon","8 mm",null,null,"Afficher",0,null,null,null,null,null,null,{"$f":"IF('Choix de l''instrument '!$C$3=\"Etalonnage_laser\",AND('Choix de l''instrument '!$D$3>=Etalonnage_laser!G295,G295<>\"\"),\"\")","v":""}]
["ETA-0137","Pige étalon","8 mm",null,null,"Afficher",0,null,null,null,null,null,null,{"$f":"IF('Choix de l''instrument '!$C$3=\"Etalonnage_laser\",AND('Choix de l''instrument '!$D$3>=Etalonnage_laser!G296,G296<>\"\"),\"\")","v":""}]
["ETA-0064","Pige étalon","2 mm",null,null,"Afficher",0,null,null,null,null,null,null,{"$f":"IF('Choix de l''instrument '!$C$3=\"Etalonnage_laser\",AND('Choix de l''instrument '!$D$3>=Etalonnage_laser!G297,G297<>\"\"),\"\")","v":""}]
["ETA-0039","Pige étalon","0,346",null,null,"Afficher",0,null,null,null,null,null,null,{"$f":"IF('Choix de l''instrument '!$C$3=\"Etalonnage_laser\",AND('Choix de l''instrument '!$D$3>=Etalonnage_laser!G298,G298<>\"\"),\"\")","v":""}]
["ETA-0038","Pige étalon","0,2",null,null,"Afficher",0,null,null,null,null,null,null,{"$f":"IF('Choix de l''instrument '!$C$3=\"Etalonnage_laser\",AND('Choix de l''instrument '!$D$3>=Etalonnage_laser!G299,G299<>\"\"),\"\")","v":""}]
["ETA-0037","Pige étalon","0,2",null,null,"Afficher",0,null,null,null,null,null,null,{"$f":"IF('Choix de l''instrument '!$C$3=\"Etalonnage_laser\",AND('Choix de l''instrument '!$D$3>=Etalonnage_laser!G300,G300<>\"\"),\"\")","v":""}]
["ETA-0060","Pige étalon","6 mm",null,null,"Afficher",0,null,null,null,null,null,null,{"$f":"IF('Choix de l''instrument '!$C$3=\"Etalonnage_laser\",AND('Choix de l''instrument '!$D$3>=Etalonnage_laser!G301,G301<>\"\"),\"\")","v":""}]
["ETA-0063","Pige étalon","2 mm",null,null,"Afficher",0,null,null,null,null,null,null,{"$f":"IF('Choix de l''instrument '!$C$3=\"Etalonnage_laser\",AND('Choix de l''instrument '!$D$3>=Etalonnage_laser!G302,G302<>\"\"),\"\")","v":""}]
["ETA-0062","Pige étalon","6 mm",null,null,"Afficher",0,null,null,null,null,null,null,{"$f":"IF('Choix de l''instrument '!$C$3=\"Etalonnage_laser\",AND('Choix de l''instrument '!$D$3>=Etalonnage_laser!G303,G303<>\"\"),\"\")","v":""}]
["ETA-0061","Pige étalon","6 mm",null,null,"Afficher",0,null,null,null,null,null,null,{"$f":"IF('Choix de l''instrument '!$C$3=\"Etalonnage_laser\",AND('Choix de l''instrument '!$D$3>=Etalonnage_laser!G304,G304<>\"\"),\"\")","v":""}]
["ETA-0034","Pige étalon","1,30 mm",null,null,"Afficher",0,null,null,null,null,null,null,{"$f":"IF('Choix de l''instrument '!$C$3=\"Etalonnage_laser\",AND('Choix de l''instrument '!$D$3>=Etalonnage_laser!G305,G305<>\"\"),\"\")","v":""}]
["MET-0046","Cylindre étalon","25 mm",null,null,"Afficher",0,null,null,null,null,null,null,{"$f":"IF('Choix de l''instrument '!$C$3=\"Etalonnage_laser\",AND('Choix de l''instrument '!$D$3>=Etalonnage_laser!G306,G306<>\"\"),\"\")","v":""}]
["MET-0047","Cylindre étalon","30 mm",null,null,"Afficher",0,null,null,null,null,null,null,{"$f":"IF('Choix de l''instrument '!$C$3=\"Etalonnage_laser\",AND('Choix de l''instrument '!$D$3>=Etalonnage_laser!G307,G307<>\"\"),\"\")","v":""}]
["MET-0049","Cylindre étalon","39 mm",null,null,"Afficher",0,null,null,null,null,null,null,{"$f":"IF('Choix de l''instrument '!$C$3=\"Etalonnage_laser\",AND('Choix de l''instrument '!$D$3>=Etalonnage_laser!G308,G308<>\"\"),\"\")","v":""}]
["MET-0048","Cylindre étalon","35 mm",null,null,"Afficher",0,null,null,null,null,null,null,{"$f":"IF('Choix de l''instrument '!$C$3=\"Etalonnage_laser\",AND('Choix de l''instrument '!$D$3>=Etalonnage_laser!G309,G309<>\"\"),\"\")","v":""}]

{"sheet":"Etalonnage_longueur","index":21,"n_rows":179,"n_cols":14,"rows_kept":179,"cut":false,"hidden":false,"merged":[]}
["Etalonnage_Longueur"]
[null,null,null,null,null,null,"résolution g",null,null,null,null,null,null,"Résultat critère IT"]
["MET-0022","Broche étalon","175 mm",null,null,"Afficher",0,null,null,null,null,null,null,{"$f":"IF('Choix de l''instrument '!$C$3=\"Etalonnage_Longueur\",AND('Choix de l''instrument '!$D$3>=Etalonnage_longueur!G3,G3<>\"\"),\"\")","v":""}]
["MET-0090","Broche étalon","25 mm",null,null,"Afficher",0,null,null,null,null,null,null,{"$f":"IF('Choix de l''instrument '!$C$3=\"Etalonnage_Longueur\",AND('Choix de l''instrument '!$D$3>=Etalonnage_longueur!G4,G4<>\"\"),\"\")","v":""}]
["MET-0093","Broche étalon","broche etalon 1650 mm",null,null,"Afficher",0,null,null,null,null,null,null,{"$f":"IF('Choix de l''instrument '!$C$3=\"Etalonnage_Longueur\",AND('Choix de l''instrument '!$D$3>=Etalonnage_longueur!G5,G5<>\"\"),\"\")","v":""}]
["MET-0084","Broche étalon","750 mm",null,null,"Afficher",0,null,null,null,null,null,null,{"$f":"IF('Choix de l''instrument '!$C$3=\"Etalonnage_Longueur\",AND('Choix de l''instrument '!$D$3>=Etalonnage_longueur!G6,G6<>\"\"),\"\")","v":""}]
["ETA-0253","Broche étalon","broche etalon 25 mm",null,null,"Afficher",0,null,null,null,null,null,null,{"$f":"IF('Choix de l''instrument '!$C$3=\"Etalonnage_Longueur\",AND('Choix de l''instrument '!$D$3>=Etalonnage_longueur!G7,G7<>\"\"),\"\")","v":""}]
["ETA-0252","Broche étalon","broche etalon 25 mm",null,null,"Afficher",0,null,null,null,null,null,null,{"$f":"IF('Choix de l''instrument '!$C$3=\"Etalonnage_Longueur\",AND('Choix de l''instrument '!$D$3>=Etalonnage_longueur!G8,G8<>\"\"),\"\")","v":""}]
["ETA-0251","Broche étalon","broche etalon 25 mm",null,null,"Afficher",0,null,null,null,null,null,null,{"$f":"IF('Choix de l''instrument '!$C$3=\"Etalonnage_Longueur\",AND('Choix de l''instrument '!$D$3>=Etalonnage_longueur!G9,G9<>\"\"),\"\")","v":""}]
["ETA-0254","Broche étalon","broche etalon 25 mm",null,null,"Afficher",0,null,null,null,null,null,null,{"$f":"IF('Choix de l''instrument '!$C$3=\"Etalonnage_Longueur\",AND('Choix de l''instrument '!$D$3>=Etalonnage_longueur!G10,G10<>\"\"),\"\")","v":""}]
["ETA-0506","Broche étalon","broche etalon 200 mm",null,null,"Afficher",0,null,null,null,null,null,null,{"$f":"IF('Choix de l''instrument '!$C$3=\"Etalonnage_Longueur\",AND('Choix de l''instrument '!$D$3>=Etalonnage_longueur!G11,G11<>\"\"),\"\")","v":""}]
["ETA-0505","Broche étalon","broche etalon 300 mm",null,null,"Afficher",0,null,null,null,null,null,null,{"$f":"IF('Choix de l''instrument '!$C$3=\"Etalonnage_Longueur\",AND('Choix de l''instrument '!$D$3>=Etalonnage_longueur!G12,G12<>\"\"),\"\")","v":""}]
["ETA-0428","Broche étalon","2500,96mm",null,null,"Afficher",0,null,null,null,null,null,null,{"$f":"IF('Choix de l''instrument '!$C$3=\"Etalonnage_Longueur\",AND('Choix de l''instrument '!$D$3>=Etalonnage_longueur!G13,G13<>\"\"),\"\")","v":""}]
["ETA-0424","Broche étalon","1398,84mm",null,null,"Afficher",0,null,null,null,null,null,null,{"$f":"IF('Choix de l''instrument '!$C$3=\"Etalonnage_Longueur\",AND('Choix de l''instrument '!$D$3>=Etalonnage_longueur!G14,G14<>\"\"),\"\")","v":""}]
["ETA-0423","Broche étalon","1292,30mm",null,null,"Afficher",0,null,null,null,null,null,null,{"$f":"IF('Choix de l''instrument '!$C$3=\"Etalonnage_Longueur\",AND('Choix de l''instrument '!$D$3>=Etalonnage_longueur!G15,G15<>\"\"),\"\")","v":""}]
["ETA-0427","Broche étalon","2000,27mm",null,null,"Afficher",0,null,null,null,null,null,null,{"$f":"IF('Choix de l''instrument '!$C$3=\"Etalonnage_Longueur\",AND('Choix de l''instrument '!$D$3>=Etalonnage_longueur!G16,G16<>\"\"),\"\")","v":""}]
["ETA-0426","Broche étalon","1900,74",null,null,"Afficher",0,null,null,null,null,null,null,{"$f":"IF('Choix de l''instrument '!$C$3=\"Etalonnage_Longueur\",AND('Choix de l''instrument '!$D$3>=Etalonnage_longueur!G17,G17<>\"\"),\"\")","v":""}]
["ETA-0425","Broche étalon","1750,76mm",null,null,"Afficher",0,null,null,null,null,null,null,{"$f":"IF('Choix de l''instrument '!$C$3=\"Etalonnage_Longueur\",AND('Choix de l''instrument '!$D$3>=Etalonnage_longueur!G18,G18<>\"\"),\"\")","v":""}]
["ETA-0399","Broche étalon","225 mm",null,null,"Afficher",0,null,null,null,null,null,null,{"$f":"IF('Choix de l''instrument '!$C$3=\"Etalonnage_Longueur\",AND('Choix de l''instrument '!$D$3>=Etalonnage_longueur!G19,G19<>\"\"),\"\")","v":""}]
["ETA-0450","Broche étalon","482,461 mm",null,null,"Afficher",0,null,null,null,null,null,null,{"$f":"IF('Choix de l''instrument '!$C$3=\"Etalonnage_Longueur\",AND('Choix de l''instrument '!$D$3>=Etalonnage_longueur!G20,G20<>\"\"),\"\")","v":""}]
["SQ.020","Broche étalon","500 mm",null,null,"Afficher",0,null,null,null,null,null,null,{"$f":"IF('Choix de l''instrument '!$C$3=\"Etalonnage_Longueur\",AND('Choix de l''instrument '!$D$3>=Etalonnage_longueur!G21,G21<>\"\"),\"\")","v":""}]
["CAL-0065","Broche étalon","175 mm",null,null,"Afficher",0,null,null,null,null,null,null,{"$f":"IF('Choix de l''instrument '!$C$3=\"Etalonnage_Longueur\",AND('Choix de l''instrument '!$D$3>=Etalonnage_longueur!G22,G22<>\"\"),\"\")","v":""}]
["ETA-0065","Broche étalon","150 mm",null,null,"Afficher",0,null,null,null,null,null,null,{"$f":"IF('Choix de l''instrument '!$C$3=\"Etalonnage_Longueur\",AND('Choix de l''instrument '!$D$3>=Etalonnage_longueur!G23,G23<>\"\"),\"\")","v":""}]
["ETA-0018","Broche étalon","broche etalon 600 mm",null,null,"Afficher",0,null,null,null,null,null,null,{"$f":"IF('Choix de l''instrument '!$C$3=\"Etalonnage_Longueur\",AND('Choix de l''instrument '!$D$3>=Etalonnage_longueur!G24,G24<>\"\"),\"\")","v":""}]
["ETA-0017","Broche étalon","broche etalon 400 mm",null,null,"Afficher",0,null,null,null,null,null,null,{"$f":"IF('Choix de l''instrument '!$C$3=\"Etalonnage_Longueur\",AND('Choix de l''instrument '!$D$3>=Etalonnage_longueur!G25,G25<>\"\"),\"\")","v":""}]
["ETA-0016","Broche étalon","broche etalon 225 mm",null,null,"Afficher",0,null,null,null,null,null,null,{"$f":"IF('Choix de l''instrument '!$C$3=\"Etalonnage_Longueur\",AND('Choix de l''instrument '!$D$3>=Etalonnage_longueur!G26,G26<>\"\"),\"\")","v":""}]
["DIM-0023","Broche étalon","175 mm",null,null,"Afficher",0,null,null,null,null,null,null,{"$f":"IF('Choix de l''instrument '!$C$3=\"Etalonnage_Longueur\",AND('Choix de l''instrument '!$D$3>=Etalonnage_longueur!G27,G27<>\"\"),\"\")","v":""}]
["DIM-0024","Broche étalon","200 mm",null,null,"Afficher",0,null,null,null,null,null,null,{"$f":"IF('Choix de l''instrument '!$C$3=\"Etalonnage_Longueur\",AND('Choix de l''instrument '!$D$3>=Etalonnage_longueur!G28,G28<>\"\"),\"\")","v":""}]
["ETA-0301","Cale d'épaisseur","100 mm",null,null,"Afficher",0,null,null,null,null,null,null,{"$f":"IF('Choix de l''instrument '!$C$3=\"Etalonnage_Longueur\",AND('Choix de l''instrument '!$D$3>=Etalonnage_longueur!G29,G29<>\"\"),\"\")","v":""}]
["ETA-0300","Cale d'épaisseur","20 mm",null,null,"Afficher",0,null,null,null,null,null,null,{"$f":"IF('Choix de l''instrument '!$C$3=\"Etalonnage_Longueur\",AND('Choix de l''instrument '!$D$3>=Etalonnage_longueur!G30,G30<>\"\"),\"\")","v":""}]
["ETA-0222","Cale d'épaisseur","3 mm",null,null,"Afficher",0,null,null,null,null,null,null,{"$f":"IF('Choix de l''instrument '!$C$3=\"Etalonnage_Longueur\",AND('Choix de l''instrument '!$D$3>=Etalonnage_longueur!G31,G31<>\"\"),\"\")","v":""}]
["ETA-0221","Cale d'épaisseur","2 mm",null,null,"Afficher",0,null,null,null,null,null,null,{"$f":"IF('Choix de l''instrument '!$C$3=\"Etalonnage_Longueur\",AND('Choix de l''instrument '!$D$3>=Etalonnage_longueur!G32,G32<>\"\"),\"\")","v":""}]
["ETA-0220","Cale d'épaisseur","1,2 mm",null,null,"Afficher",0,null,null,null,null,null,null,{"$f":"IF('Choix de l''instrument '!$C$3=\"Etalonnage_Longueur\",AND('Choix de l''instrument '!$D$3>=Etalonnage_longueur!G33,G33<>\"\"),\"\")","v":""}]
["CEP-104","Cale d'épaisseur","0,15 mm",null,null,"Afficher",0,null,null,null,null,null,null,{"$f":"IF('Choix de l''instrument '!$C$3=\"Etalonnage_Longueur\",AND('Choix de l''instrument '!$D$3>=Etalonnage_longueur!G34,G34<>\"\"),\"\")","v":""}]
["CEP-103","Cale d'épaisseur","0,15 mm",null,null,"Afficher",0,null,null,null,null,null,null,{"$f":"IF('Choix de l''instrument '!$C$3=\"Etalonnage_Longueur\",AND('Choix de l''instrument '!$D$3>=Etalonnage_longueur!G35,G35<>\"\"),\"\")","v":""}]
["CEP-102","Cale d'épaisseur","0,15 mm",null,null,"Afficher",0,null,null,null,null,null,null,{"$f":"IF('Choix de l''instrument '!$C$3=\"Etalonnage_Longueur\",AND('Choix de l''instrument '!$D$3>=Etalonnage_longueur!G36,G36<>\"\"),\"\")","v":""}]
["CEP-105","Cale d'épaisseur","0,15 mm",null,null,"Afficher",0,null,null,null,null,null,null,{"$f":"IF('Choix de l''instrument '!$C$3=\"Etalonnage_Longueur\",AND('Choix de l''instrument '!$D$3>=Etalonnage_longueur!G37,G37<>\"\"),\"\")","v":""}]
["CEP-006","Cale d'épaisseur","0,1 mm",null,null,"Afficher",0,null,null,null,null,null,null,{"$f":"IF('Choix de l''instrument '!$C$3=\"Etalonnage_Longueur\",AND('Choix de l''instrument '!$D$3>=Etalonnage_longueur!G38,G38<>\"\"),\"\")","v":""}]
["CEP-005","Cale d'épaisseur","0,150 mm",null,null,"Afficher",0,null,null,null,null,null,null,{"$f":"IF('Choix de l''instrument '!$C$3=\"Etalonnage_Longueur\",AND('Choix de l''instrument '!$D$3>=Etalonnage_longueur!G39,G39<>\"\"),\"\")","v":""}]
["CEP-004","Cale d'épaisseur","0,200 mm",null,null,"Afficher",0,null,null,null,null,null,null,{"$f":"IF('Choix de l''instrument '!$C$3=\"Etalonnage_Longueur\",AND('Choix de l''instrument '!$D$3>=Etalonnage_longueur!G40,G40<>\"\"),\"\")","v":""}]
["CEP-009","Cale d'épaisseur","0,250 mm",null,null,"Afficher",0,null,null,null,null,null,null,{"$f":"IF('Choix de l''instrument '!$C$3=\"Etalonnage_Longueur\",AND('Choix de l''instrument '!$D$3>=Etalonnage_longueur!G41,G41<>\"\"),\"\")","v":""}]
["CEP-008","Cale d'épaisseur","0,1 mm",null,null,"Afficher",0,null,null,null,null,null,null,{"$f":"IF('Choix de l''instrument '!$C$3=\"Etalonnage_Longueur\",AND('Choix de l''instrument '!$D$3>=Etalonnage_longueur!G42,G42<>\"\"),\"\")","v":""}]
["CEP-007","Cale d'épaisseur","0,201 mm",null,null,"Afficher",0,null,null,null,null,null,null,{"$f":"IF('Choix de l''instrument '!$C$3=\"Etalonnage_Longueur\",AND('Choix de l''instrument '!$D$3>=Etalonnage_longueur!G43,G43<>\"\"),\"\")","v":""}]
["CEP-003","Cale d'épaisseur","0,160 mm",null,null,"Afficher",0,null,null,null,null,null,null,{"$f":"IF('Choix de l''instrument '!$C$3=\"Etalonnage_Longueur\",AND('Choix de l''instrument '!$D$3>=Etalonnage_longueur!G44,G44<>\"\"),\"\")","v":""}]
["CEP-002","Cale d'épaisseur","0,150 mm",null,null,"Afficher",0,null,null,null,null,null,null,{"$f":"IF('Choix de l''instrument '!$C$3=\"Etalonnage_Longueur\",AND('Choix de l''instrument '!$D$3>=Etalonnage_longueur!G45,G45<>\"\"),\"\")","v":""}]
["CEP-001","Cale d'épaisseur","0,100 mm",null,null,"Afficher",0,null,null,null,null,null,null,{"$f":"IF('Choix de l''instrument '!$C$3=\"Etalonnage_Longueur\",AND('Choix de l''instrument '!$D$3>=Etalonnage_longueur!G46,G46<>\"\"),\"\")","v":""}]
["CEP-010","Cale d'épaisseur","1,005 mm",null,null,"Afficher",0,null,null,null,null,null,null,{"$f":"IF('Choix de l''instrument '!$C$3=\"Etalonnage_Longueur\",AND('Choix de l''instrument '!$D$3>=Etalonnage_longueur!G47,G47<>\"\"),\"\")","v":""}]
["CEP-098","Cale d'épaisseur","0,15 mm",null,null,"Afficher",0,null,null,null,null,null,null,{"$f":"IF('Choix de l''instrument '!$C$3=\"Etalonnage_Longueur\",AND('Choix de l''instrument '!$D$3>=Etalonnage_longueur!G48,G48<>\"\"),\"\")","v":""}]
["CEP-097","Cale d'épaisseur","0,1 mm",null,null,"Afficher",0,null,null,null,null,null,null,{"$f":"IF('Choix de l''instrument '!$C$3=\"Etalonnage_Longueur\",AND('Choix de l''instrument '!$D$3>=Etalonnage_longueur!G49,G49<>\"\"),\"\")","v":""}]
["CEP-096","Cale d'épaisseur","0,1 mm",null,null,"Afficher",0,null,null,null,null,null,null,{"$f":"IF('Choix de l''instrument '!$C$3=\"Etalonnage_Longueur\",AND('Choix de l''instrument '!$D$3>=Etalonnage_longueur!G50,G50<>\"\"),\"\")","v":""}]
["CEP-101","Cale d'épaisseur","0,15 mm",null,null,"Afficher",0,null,null,null,null,null,null,{"$f":"IF('Choix de l''instrument '!$C$3=\"Etalonnage_Longueur\",AND('Choix de l''instrument '!$D$3>=Etalonnage_longueur!G51,G51<>\"\"),\"\")","v":""}]
["CEP-100","Cale d'épaisseur","0,15 mm",null,null,"Afficher",0,null,null,null,null,null,null,{"$f":"IF('Choix de l''instrument '!$C$3=\"Etalonnage_Longueur\",AND('Choix de l''instrument '!$D$3>=Etalonnage_longueur!G52,G52<>\"\"),\"\")","v":""}]
["CEP-099","Cale d'épaisseur","0,15 mm",null,null,"Afficher",0,null,null,null,null,null,null,{"$f":"IF('Choix de l''instrument '!$C$3=\"Etalonnage_Longueur\",AND('Choix de l''instrument '!$D$3>=Etalonnage_longueur!G53,G53<>\"\"),\"\")","v":""}]
["CEP-095","Cale d'épaisseur","0,1 mm",null,null,"Afficher",0,null,null,null,null,null,null,{"$f":"IF('Choix de l''instrument '!$C$3=\"Etalonnage_Longueur\",AND('Choix de l''instrument '!$D$3>=Etalonnage_longueur!G54,G54<>\"\"),\"\")","v":""}]
["CEP-091","Cale d'épaisseur","0,1 mm",null,null,"Afficher",0,null,null,null,null,null,null,{"$f":"IF('Choix de l''instrument '!$C$3=\"Etalonnage_Longueur\",AND('Choix de l''instrument '!$D$3>=Etalonnage_longueur!G55,G55<>\"\"),\"\")","v":""}]
["CEP-090","Cale d'épaisseur","0,1 mm",null,null,"Afficher",0,null,null,null,null,null,null,{"$f":"IF('Choix de l''instrument '!$C$3=\"Etalonnage_Longueur\",AND('Choix de l''instrument '!$D$3>=Etalonnage_longueur!G56,G56<>\"\"),\"\")","v":""}]
["CEP-094","Cale d'épaisseur","0,1 mm",null,null,"Afficher",0,null,null,null,null,null,null,{"$f":"IF('Choix de l''instrument '!$C$3=\"Etalonnage_Longueur\",AND('Choix de l''instrument '!$D$3>=Etalonnage_longueur!G57,G57<>\"\"),\"\")","v":""}]
["CEP-093","Cale d'épaisseur","0,1 mm",null,null,"Afficher",0,null,null,null,null,null,null,{"$f":"IF('Choix de l''instrument '!$C$3=\"Etalonnage_Longueur\",AND('Choix de l''instrument '!$D$3>=Etalonnage_longueur!G58,G58<>\"\"),\"\")","v":""}]
["CEP-092","Cale d'épaisseur","0,1 mm",null,null,"Afficher",0,null,null,null,null,null,null,{"$f":"IF('Choix de l''instrument '!$C$3=\"Etalonnage_Longueur\",AND('Choix de l''instrument '!$D$3>=Etalonnage_longueur!G59,G59<>\"\"),\"\")","v":""}]
["MET-0054","Cale étalon","0,200 mm",null,null,"Afficher",0,null,null,null,null,null,null,{"$f":"IF('Choix de l''instrument '!$C$3=\"Etalonnage_Longueur\",AND('Choix de l''instrument '!$D$3>=Etalonnage_longueur!G60,G60<>\"\"),\"\")","v":""}]
["MET-0088","Cale étalon","0,1 mm",null,null,"Afficher",0,null,null,null,null,null,null,{"$f":"IF('Choix de l''instrument '!$C$3=\"Etalonnage_Longueur\",AND('Choix de l''instrument '!$D$3>=Etalonnage_longueur!G61,G61<>\"\"),\"\")","v":""}]
["ETA-0321","Cale étalon","1,19 mm",null,null,"Afficher",0,null,null,null,null,null,null,{"$f":"IF('Choix de l''instrument '!$C$3=\"Etalonnage_Longueur\",AND('Choix de l''instrument '!$D$3>=Etalonnage_longueur!G62,G62<>\"\"),\"\")","v":""}]
["ETA-0320","Cale étalon","1,18 mm",null,null,"Afficher",0,null,null,null,null,null,null,{"$f":"IF('Choix de l''instrument '!$C$3=\"Etalonnage_Longueur\",AND('Choix de l''instrument '!$D$3>=Etalonnage_longueur!G63,G63<>\"\"),\"\")","v":""}]
["ETA-0319","Cale étalon","1,17 mm",null,null,"Afficher",0,null,null,null,null,null,null,{"$f":"IF('Choix de l''instrument '!$C$3=\"Etalonnage_Longueur\",AND('Choix de l''instrument '!$D$3>=Etalonnage_longueur!G64,G64<>\"\"),\"\")","v":""}]
["ETA-0324","Cale étalon","1,4 mm",null,null,"Afficher",0,null,null,null,null,null,null,{"$f":"IF('Choix de l''instrument '!$C$3=\"Etalonnage_Longueur\",AND('Choix de l''instrument '!$D$3>=Etalonnage_longueur!G65,G65<>\"\"),\"\")","v":""}]
["ETA-0323","Cale étalon","1,3 mm",null,null,"Afficher",0,null,null,null,null,null,null,{"$f":"IF('Choix de l''instrument '!$C$3=\"Etalonnage_Longueur\",AND('Choix de l''instrument '!$D$3>=Etalonnage_longueur!G66,G66<>\"\"),\"\")","v":""}]
["ETA-0322","Cale étalon","1,20 mm",null,null,"Afficher",0,null,null,null,null,null,null,{"$f":"IF('Choix de l''instrument '!$C$3=\"Etalonnage_Longueur\",AND('Choix de l''instrument '!$D$3>=Etalonnage_longueur!G67,G67<>\"\"),\"\")","v":""}]
["ETA-0318","Cale étalon","1,16 mm",null,null,"Afficher",0,null,null,null,null,null,null,{"$f":"IF('Choix de l''instrument '!$C$3=\"Etalonnage_Longueur\",AND('Choix de l''instrument '!$D$3>=Etalonnage_longueur!G68,G68<>\"\"),\"\")","v":""}]
["ETA-0314","Cale étalon","1,12 mm",null,null,"Afficher",0,null,null,null,null,null,null,{"$f":"IF('Choix de l''instrument '!$C$3=\"Etalonnage_Longueur\",AND('Choix de l''instrument '!$D$3>=Etalonnage_longueur!G69,G69<>\"\"),\"\")","v":""}]
["ETA-0313","Cale étalon","1,11 mm",null,null,"Afficher",0,null,null,null,null,null,null,{"$f":"IF('Choix de l''instrument '!$C$3=\"Etalonnage_Longueur\",AND('Choix de l''instrument '!$D$3>=Etalonnage_longueur!G70,G70<>\"\"),\"\")","v":""}]
["ETA-0312","Cale étalon","1,10 mm",null,null,"Afficher",0,null,null,null,null,null,null,{"$f":"IF('Choix de l''instrument '!$C$3=\"Etalonnage_Longueur\",AND('Choix de l''instrument '!$D$3>=Etalonnage_longueur!G71,G71<>\"\"),\"\")","v":""}]
["ETA-0317","Cale étalon","1,15 mm",null,null,"Afficher",0,null,null,null,null,null,null,{"$f":"IF('Choix de l''instrument '!$C$3=\"Etalonnage_Longueur\",AND('Choix de l''instrument '!$D$3>=Etalonnage_longueur!G72,G72<>\"\"),\"\")","v":""}]
["ETA-0316","Cale étalon","1,14 mm",null,null,"Afficher",0,null,null,null,null,null,null,{"$f":"IF('Choix de l''instrument '!$C$3=\"Etalonnage_Longueur\",AND('Choix de l''instrument '!$D$3>=Etalonnage_longueur!G73,G73<>\"\"),\"\")","v":""}]
["ETA-0315","Cale étalon","1,13 mm",null,null,"Afficher",0,null,null,null,null,null,null,{"$f":"IF('Choix de l''instrument '!$C$3=\"Etalonnage_Longueur\",AND('Choix de l''instrument '!$D$3>=Etalonnage_longueur!G74,G74<>\"\"),\"\")","v":""}]
["ETA-0325","Cale étalon","1,5 mm",null,null,"Afficher",0,null,null,null,null,null,null,{"$f":"IF('Choix de l''instrument '!$C$3=\"Etalonnage_Longueur\",AND('Choix de l''instrument '!$D$3>=Etalonnage_longueur!G75,G75<>\"\"),\"\")","v":""}]
["ETA-0335","Cale étalon","6 mm",null,null,"Afficher",0,null,null,null,null,null,null,{"$f":"IF('Choix de l''instrument '!$C$3=\"Etalonnage_Longueur\",AND('Choix de l''instrument '!$D$3>=Etalonnage_longueur!G76,G76<>\"\"),\"\")","v":""}]
["ETA-0334","Cale étalon","5 mm",null,null,"Afficher",0,null,null,null,null,null,null,{"$f":"IF('Choix de l''instrument '!$C$3=\"Etalonnage_Longueur\",AND('Choix de l''instrument '!$D$3>=Etalonnage_longueur!G77,G77<>\"\"),\"\")","v":""}]
["ETA-0333","Cale étalon","4 mm",null,null,"Afficher",0,null,null,null,null,null,null,{"$f":"IF('Choix de l''instrument '!$C$3=\"Etalonnage_Longueur\",AND('Choix de l''instrument '!$D$3>=Etalonnage_longueur!G78,G78<>\"\"),\"\")","v":""}]
["ETA-0338","Cale étalon","9 mm",null,null,"Afficher",0,null,null,null,null,null,null,{"$f":"IF('Choix de l''instrument '!$C$3=\"Etalonnage_Longueur\",AND('Choix de l''instrument '!$D$3>=Etalonnage_longueur!G79,G79<>\"\"),\"\")","v":""}]
["ETA-0337","Cale étalon","8 mm",null,null,"Afficher",0,null,null,null,null,null,null,{"$f":"IF('Choix de l''instrument '!$C$3=\"Etalonnage_Longueur\",AND('Choix de l''instrument '!$D$3>=Etalonnage_longueur!G80,G80<>\"\"),\"\")","v":""}]
["ETA-0336","Cale étalon","7 mm",null,null,"Afficher",0,null,null,null,null,null,null,{"$f":"IF('Choix de l''instrument '!$C$3=\"Etalonnage_Longueur\",AND('Choix de l''instrument '!$D$3>=Etalonnage_longueur!G81,G81<>\"\"),\"\")","v":""}]
["ETA-0332","Cale étalon","3 mm",null,null,"Afficher",0,null,null,null,null,null,null,{"$f":"IF('Choix de l''instrument '!$C$3=\"Etalonnage_Longueur\",AND('Choix de l''instrument '!$D$3>=Etalonnage_longueur!G82,G82<>\"\"),\"\")","v":""}]
["ETA-0328","Cale étalon","1,8 mm",null,null,"Afficher",0,null,null,null,null,null,null,{"$f":"IF('Choix de l''instrument '!$C$3=\"Etalonnage_Longueur\",AND('Choix de l''instrument '!$D$3>=Etalonnage_longueur!G83,G83<>\"\"),\"\")","v":""}]
["ETA-0327","Cale étalon","1,7 mm",null,null,"Afficher",0,null,null,null,null,null,null,{"$f":"IF('Choix de l''instrument '!$C$3=\"Etalonnage_Longueur\",AND('Choix de l''instrument '!$D$3>=Etalonnage_longueur!G84,G84<>\"\"),\"\")","v":""}]
["ETA-0326","Cale étalon","1,6 mm",null,null,"Afficher",0,null,null,null,null,null,null,{"$f":"IF('Choix de l''instrument '!$C$3=\"Etalonnage_Longueur\",AND('Choix de l''instrument '!$D$3>=Etalonnage_longueur!G85,G85<>\"\"),\"\")","v":""}]
["ETA-0331","Cale étalon","2 mm",null,null,"Afficher",0,null,null,null,null,null,null,{"$f":"IF('Choix de l''instrument '!$C$3=\"Etalonnage_Longueur\",AND('Choix de l''instrument '!$D$3>=Etalonnage_longueur!G86,G86<>\"\"),\"\")","v":""}]
["ETA-0330","Cale étalon","1 mm",null,null,"Afficher",0,null,null,null,null,null,null,{"$f":"IF('Choix de l''instrument '!$C$3=\"Etalonnage_Longueur\",AND('Choix de l''instrument '!$D$3>=Etalonnage_longueur!G87,G87<>\"\"),\"\")","v":""}]
["ETA-0329","Cale étalon","1,9 mm",null,null,"Afficher",0,null,null,null,null,null,null,{"$f":"IF('Choix de l''instrument '!$C$3=\"Etalonnage_Longueur\",AND('Choix de l''instrument '!$D$3>=Etalonnage_longueur!G88,G88<>\"\"),\"\")","v":""}]
["ETA-0308","Cale étalon","1,06 mm",null,null,"Afficher",0,null,null,null,null,null,null,{"$f":"IF('Choix de l''instrument '!$C$3=\"Etalonnage_Longueur\",AND('Choix de l''instrument '!$D$3>=Etalonnage_longueur!G89,G89<>\"\"),\"\")","v":""}]
["ETA-0307","Cale étalon","1,05 mm",null,null,"Afficher",0,null,null,null,null,null,null,{"$f":"IF('Choix de l''instrument '!$C$3=\"Etalonnage_Longueur\",AND('Choix de l''instrument '!$D$3>=Etalonnage_longueur!G90,G90<>\"\"),\"\")","v":""}]
["ETA-0306","Cale étalon","1,04 mm",null,null,"Afficher",0,null,null,null,null,null,null,{"$f":"IF('Choix de l''instrument '!$C$3=\"Etalonnage_Longueur\",AND('Choix de l''instrument '!$D$3>=Etalonnage_longueur!G91,G91<>\"\"),\"\")","v":""}]
["ETA-0311","Cale étalon","1,09 mm",null,null,"Afficher",0,null,null,null,null,null,null,{"$f":"IF('Choix de l''instrument '!$C$3=\"Etalonnage_Longueur\",AND('Choix de l''instrument '!$D$3>=Etalonnage_longueur!G92,G92<>\"\"),\"\")","v":""}]
["ETA-0310","Cale étalon","1,08 mm",null,null,"Afficher",0,null,null,null,null,null,null,{"$f":"IF('Choix de l''instrument '!$C$3=\"Etalonnage_Longueur\",AND('Choix de l''instrument '!$D$3>=Etalonnage_longueur!G93,G93<>\"\"),\"\")","v":""}]
["ETA-0309","Cale étalon","1,07 mm",null,null,"Afficher",0,null,null,null,null,null,null,{"$f":"IF('Choix de l''instrument '!$C$3=\"Etalonnage_Longueur\",AND('Choix de l''instrument '!$D$3>=Etalonnage_longueur!G94,G94<>\"\"),\"\")","v":""}]
["ETA-0305","Cale étalon","1,03 mm",null,null,"Afficher",0,null,null,null,null,null,null,{"$f":"IF('Choix de l''instrument '!$C$3=\"Etalonnage_Longueur\",AND('Choix de l''instrument '!$D$3>=Etalonnage_longueur!G95,G95<>\"\"),\"\")","v":""}]
["ETA-0304","Cale étalon","1,02 mm",null,null,"Afficher",0,null,null,null,null,null,null,{"$f":"IF('Choix de l''instrument '!$C$3=\"Etalonnage_Longueur\",AND('Choix de l''instrument '!$D$3>=Etalonnage_longueur!G96,G96<>\"\"),\"\")","v":""}]
["ETA-0303","Cale étalon","1,01 mm",null,null,"Afficher",0,null,null,null,null,null,null,{"$f":"IF('Choix de l''instrument '!$C$3=\"Etalonnage_Longueur\",AND('Choix de l''instrument '!$D$3>=Etalonnage_longueur!G97,G97<>\"\"),\"\")","v":""}]
["ETA-0302","Cale étalon","1,005 mm",null,null,"Afficher",0,null,null,null,null,null,null,{"$f":"IF('Choix de l''instrument '!$C$3=\"Etalonnage_Longueur\",AND('Choix de l''instrument '!$D$3>=Etalonnage_longueur!G98,G98<>\"\"),\"\")","v":""}]
["ETA-0339","Cale étalon","10 mm",null,null,"Afficher",0,null,null,null,null,null,null,{"$f":"IF('Choix de l''instrument '!$C$3=\"Etalonnage_Longueur\",AND('Choix de l''instrument '!$D$3>=Etalonnage_longueur!G99,G99<>\"\"),\"\")","v":""}]
["ETA-0346","Cale étalon","90 mm",null,null,"Afficher",0,null,null,null,null,null,null,{"$f":"IF('Choix de l''instrument '!$C$3=\"Etalonnage_Longueur\",AND('Choix de l''instrument '!$D$3>=Etalonnage_longueur!G100,G100<>\"\"),\"\")","v":""}]
["ETA-0342","Cale étalon","50 mm",null,null,"Afficher",0,null,null,null,null,null,null,{"$f":"IF('Choix de l''instrument '!$C$3=\"Etalonnage_Longueur\",AND('Choix de l''instrument '!$D$3>=Etalonnage_longueur!G101,G101<>\"\"),\"\")","v":""}]
["ETA-0341","Cale étalon","40 mm",null,null,"Afficher",0,null,null,null,null,null,null,{"$f":"IF('Choix de l''instrument '!$C$3=\"Etalonnage_Longueur\",AND('Choix de l''instrument '!$D$3>=Etalonnage_longueur!G102,G102<>\"\"),\"\")","v":""}]
["ETA-0340","Cale étalon","30 mm",null,null,"Afficher",0,null,null,null,null,null,null,{"$f":"IF('Choix de l''instrument '!$C$3=\"Etalonnage_Longueur\",AND('Choix de l''instrument '!$D$3>=Etalonnage_longueur!G103,G103<>\"\"),\"\")","v":""}]
["ETA-0345","Cale étalon","80 mm",null,null,"Afficher",0,null,null,null,null,null,null,{"$f":"IF('Choix de l''instrument '!$C$3=\"Etalonnage_Longueur\",AND('Choix de l''instrument '!$D$3>=Etalonnage_longueur!G104,G104<>\"\"),\"\")","v":""}]
["ETA-0344","Cale étalon","70 mm",null,null,"Afficher",0,null,null,null,null,null,null,{"$f":"IF('Choix de l''instrument '!$C$3=\"Etalonnage_Longueur\",AND('Choix de l''instrument '!$D$3>=Etalonnage_longueur!G105,G105<>\"\"),\"\")","v":""}]
["ETA-0343","Cale étalon","60 mm",null,null,"Afficher",0,null,null,null,null,null,null,{"$f":"IF('Choix de l''instrument '!$C$3=\"Etalonnage_Longueur\",AND('Choix de l''instrument '!$D$3>=Etalonnage_longueur!G106,G106<>\"\"),\"\")","v":""}]
["ETA-0224","Cale étalon","0,200 mm",null,null,"Afficher",0,null,null,null,null,null,null,{"$f":"IF('Choix de l''instrument '!$C$3=\"Etalonnage_Longueur\",AND('Choix de l''instrument '!$D$3>=Etalonnage_longueur!G107,G107<>\"\"),\"\")","v":""}]
["ETA-0227","Cale étalon","0,200 mm",null,null,"Afficher",0,null,null,null,null,null,null,{"$f":"IF('Choix de l''instrument '!$C$3=\"Etalonnage_Longueur\",AND('Choix de l''instrument '!$D$3>=Etalonnage_longueur!G108,G108<>\"\"),\"\")","v":""}]
["ETA-0226","Cale étalon","0,200 mm",null,null,"Afficher",0,null,null,null,null,null,null,{"$f":"IF('Choix de l''instrument '!$C$3=\"Etalonnage_Longueur\",AND('Choix de l''instrument '!$D$3>=Etalonnage_longueur!G109,G109<>\"\"),\"\")","v":""}]
["ETA-0225","Cale étalon","0,200 mm",null,null,"Afficher",0,null,null,null,null,null,null,{"$f":"IF('Choix de l''instrument '!$C$3=\"Etalonnage_Longueur\",AND('Choix de l''instrument '!$D$3>=Etalonnage_longueur!G110,G110<>\"\"),\"\")","v":""}]
["ETA-0228","Cale étalon","0,200 mm",null,null,"Afficher",0,null,null,null,null,null,null,{"$f":"IF('Choix de l''instrument '!$C$3=\"Etalonnage_Longueur\",AND('Choix de l''instrument '!$D$3>=Etalonnage_longueur!G111,G111<>\"\"),\"\")","v":""}]
["ETA-0231","Cale étalon","0,750 mm",null,null,"Afficher",0,null,null,null,null,null,null,{"$f":"IF('Choix de l''instrument '!$C$3=\"Etalonnage_Longueur\",AND('Choix de l''instrument '!$D$3>=Etalonnage_longueur!G112,G112<>\"\"),\"\")","v":""}]
["ETA-0234","Cale étalon","0,750 mm",null,null,"Afficher",0,null,null,null,null,null,null,{"$f":"IF('Choix de l''instrument '!$C$3=\"Etalonnage_Longueur\",AND('Choix de l''instrument '!$D$3>=Etalonnage_longueur!G113,G113<>\"\"),\"\")","v":""}]
["ETA-0233","Cale étalon","0,750 mm",null,null,"Afficher",0,null,null,null,null,null,null,{"$f":"IF('Choix de l''instrument '!$C$3=\"Etalonnage_Longueur\",AND('Choix de l''instrument '!$D$3>=Etalonnage_longueur!G114,G114<>\"\"),\"\")","v":""}]
["ETA-0232","Cale étalon","0,750 mm",null,null,"Afficher",0,null,null,null,null,null,null,{"$f":"IF('Choix de l''instrument '!$C$3=\"Etalonnage_Longueur\",AND('Choix de l''instrument '!$D$3>=Etalonnage_longueur!G115,G115<>\"\"),\"\")","v":""}]
["CET-214","Cale étalon","0,100 mm",null,null,"Afficher",0,null,null,null,null,null,null,{"$f":"IF('Choix de l''instrument '!$C$3=\"Etalonnage_Longueur\",AND('Choix de l''instrument '!$D$3>=Etalonnage_longueur!G116,G116<>\"\"),\"\")","v":""}]
["CET-213","Cale étalon","0,1 mm",null,null,"Afficher",0,null,null,null,null,null,null,{"$f":"IF('Choix de l''instrument '!$C$3=\"Etalonnage_Longueur\",AND('Choix de l''instrument '!$D$3>=Etalonnage_longueur!G117,G117<>\"\"),\"\")","v":""}]
["CET-212","Cale étalon","0,1 mm",null,null,"Afficher",0,null,null,null,null,null,null,{"$f":"IF('Choix de l''instrument '!$C$3=\"Etalonnage_Longueur\",AND('Choix de l''instrument '!$D$3>=Etalonnage_longueur!G118,G118<>\"\"),\"\")","v":""}]
["CET-232","Cale étalon","100 mm",null,null,"Afficher",0,null,null,null,null,null,null,{"$f":"IF('Choix de l''instrument '!$C$3=\"Etalonnage_Longueur\",AND('Choix de l''instrument '!$D$3>=Etalonnage_longueur!G119,G119<>\"\"),\"\")","v":""}]
["CET-231","Cale étalon","50 mm",null,null,"Afficher",0,null,null,null,null,null,null,{"$f":"IF('Choix de l''instrument '!$C$3=\"Etalonnage_Longueur\",AND('Choix de l''instrument '!$D$3>=Etalonnage_longueur!G120,G120<>\"\"),\"\")","v":""}]
["CET-230","Cale étalon","5 mm",null,null,"Afficher",0,null,null,null,null,null,null,{"$f":"IF('Choix de l''instrument '!$C$3=\"Etalonnage_Longueur\",AND('Choix de l''instrument '!$D$3>=Etalonnage_longueur!G121,G121<>\"\"),\"\")","v":""}]
["CET-211","Cale étalon","0,1 mm",null,null,"Afficher",0,null,null,null,null,null,null,{"$f":"IF('Choix de l''instrument '!$C$3=\"Etalonnage_Longueur\",AND('Choix de l''instrument '!$D$3>=Etalonnage_longueur!G122,G122<>\"\"),\"\")","v":""}]
["CET-210","Cale étalon","0,100 mm",null,null,"Afficher",0,null,null,null,null,null,null,{"$f":"IF('Choix de l''instrument '!$C$3=\"Etalonnage_Longueur\",AND('Choix de l''instrument '!$D$3>=Etalonnage_longueur!G123,G123<>\"\"),\"\")","v":""}]
["CET-001","Cale étalon","100 mm",null,null,"Afficher",0,null,null,null,null,null,null,{"$f":"IF('Choix de l''instrument '!$C$3=\"Etalonnage_Longueur\",AND('Choix de l''instrument '!$D$3>=Etalonnage_longueur!G124,G124<>\"\"),\"\")","v":""}]
["CEP-011","Cale étalon","0,250",null,null,"Afficher",0,null,null,null,null,null,null,{"$f":"IF('Choix de l''instrument '!$C$3=\"Etalonnage_Longueur\",AND('Choix de l''instrument '!$D$3>=Etalonnage_longueur!G125,G125<>\"\"),\"\")","v":""}]
["CF.067A","Cale étalon",25,null,null,"Afficher",0,null,null,null,null,null,null,{"$f":"IF('Choix de l''instrument '!$C$3=\"Etalonnage_Longueur\",AND('Choix de l''instrument '!$D$3>=Etalonnage_longueur!G126,G126<>\"\"),\"\")","v":""}]
["ETA-0104","Cale étalon","0,200 mm",null,null,"Afficher",0,null,null,null,null,null,null,{"$f":"IF('Choix de l''instrument '!$C$3=\"Etalonnage_Longueur\",AND('Choix de l''instrument '!$D$3>=Etalonnage_longueur!G127,G127<>\"\"),\"\")","v":""}]
["ETA-0103","Cale étalon","0,200 mm",null,null,"Afficher",0,null,null,null,null,null,null,{"$f":"IF('Choix de l''instrument '!$C$3=\"Etalonnage_Longueur\",AND('Choix de l''instrument '!$D$3>=Etalonnage_longueur!G128,G128<>\"\"),\"\")","v":""}]
["ETA-0102","Cale étalon","0,200 mm",null,null,"Afficher",0,null,null,null,null,null,null,{"$f":"IF('Choix de l''instrument '!$C$3=\"Etalonnage_Longueur\",AND('Choix de l''instrument '!$D$3>=Etalonnage_longueur!G129,G129<>\"\"),\"\")","v":""}]
["ETA-0097","Cale étalon","30 mm",null,null,"Afficher",0,null,null,null,null,null,null,{"$f":"IF('Choix de l''instrument '!$C$3=\"Etalonnage_Longueur\",AND('Choix de l''instrument '!$D$3>=Etalonnage_longueur!G130,G130<>\"\"),\"\")","v":""}]
["ETA-0096","Cale étalon","30 mm",null,null,"Afficher",0,null,null,null,null,null,null,{"$f":"IF('Choix de l''instrument '!$C$3=\"Etalonnage_Longueur\",AND('Choix de l''instrument '!$D$3>=Etalonnage_longueur!G131,G131<>\"\"),\"\")","v":""}]
["ETA-0105","Cale étalon","0,200 mm",null,null,"Afficher",0,null,null,null,null,null,null,{"$f":"IF('Choix de l''instrument '!$C$3=\"Etalonnage_Longueur\",AND('Choix de l''instrument '!$D$3>=Etalonnage_longueur!G132,G132<>\"\"),\"\")","v":""}]
["ETA-0108","Cale étalon","0,200 mm",null,null,"Afficher",0,null,null,null,null,null,null,{"$f":"IF('Choix de l''instrument '!$C$3=\"Etalonnage_Longueur\",AND('Choix de l''instrument '!$D$3>=Etalonnage_longueur!G133,G133<>\"\"),\"\")","v":""}]
["ETA-0107","Cale étalon","0,200 mm",null,null,"Afficher",0,null,null,null,null,null,null,{"$f":"IF('Choix de l''instrument '!$C$3=\"Etalonnage_Longueur\",AND('Choix de l''instrument '!$D$3>=Etalonnage_longueur!G134,G134<>\"\"),\"\")","v":""}]
["ETA-0106","Cale étalon","0,200 mm",null,null,"Afficher",0,null,null,null,null,null,null,{"$f":"IF('Choix de l''instrument '!$C$3=\"Etalonnage_Longueur\",AND('Choix de l''instrument '!$D$3>=Etalonnage_longueur!G135,G135<>\"\"),\"\")","v":""}]
["ETA-0074","Cale étalon","30 mm",null,null,"Afficher",0,null,null,null,null,null,null,{"$f":"IF('Choix de l''instrument '!$C$3=\"Etalonnage_Longueur\",AND('Choix de l''instrument '!$D$3>=Etalonnage_longueur!G136,G136<>\"\"),\"\")","v":""}]
["ETA-0073","Cale étalon","30 mm",null,null,"Afficher",0,null,null,null,null,null,null,{"$f":"IF('Choix de l''instrument '!$C$3=\"Etalonnage_Longueur\",AND('Choix de l''instrument '!$D$3>=Etalonnage_longueur!G137,G137<>\"\"),\"\")","v":""}]
["ETA-0072","Cale étalon","30 mm",null,null,"Afficher",0,null,null,null,null,null,null,{"$f":"IF('Choix de l''instrument '!$C$3=\"Etalonnage_Longueur\",AND('Choix de l''instrument '!$D$3>=Etalonnage_longueur!G138,G138<>\"\"),\"\")","v":""}]
["ETA-0077","Cale étalon","90 mm",null,null,"Afficher",0,null,null,null,null,null,null,{"$f":"IF('Choix de l''instrument '!$C$3=\"Etalonnage_Longueur\",AND('Choix de l''instrument '!$D$3>=Etalonnage_longueur!G139,G139<>\"\"),\"\")","v":""}]
["ETA-0076","Cale étalon","90 mm",null,null,"Afficher",0,null,null,null,null,null,null,{"$f":"IF('Choix de l''instrument '!$C$3=\"Etalonnage_Longueur\",AND('Choix de l''instrument '!$D$3>=Etalonnage_longueur!G140,G140<>\"\"),\"\")","v":""}]
["ETA-0075","Cale étalon","30 mm",null,null,"Afficher",0,null,null,null,null,null,null,{"$f":"IF('Choix de l''instrument '!$C$3=\"Etalonnage_Longueur\",AND('Choix de l''instrument '!$D$3>=Etalonnage_longueur!G141,G141<>\"\"),\"\")","v":""}]
["ETA-0071","Cale étalon","10 mm",null,null,"Afficher",0,null,null,null,null,null,null,{"$f":"IF('Choix de l''instrument '!$C$3=\"Etalonnage_Longueur\",AND('Choix de l''instrument '!$D$3>=Etalonnage_longueur!G142,G142<>\"\"),\"\")","v":""}]
["ETA-0067","Cale étalon","10 mm",null,null,"Afficher",0,null,null,null,null,null,null,{"$f":"IF('Choix de l''instrument '!$C$3=\"Etalonnage_Longueur\",AND('Choix de l''instrument '!$D$3>=Etalonnage_longueur!G143,G143<>\"\"),\"\")","v":""}]
["ETA-0066","Cale étalon","10 mm",null,null,"Afficher",0,null,null,null,null,null,null,{"$f":"IF('Choix de l''instrument '!$C$3=\"Etalonnage_Longueur\",AND('Choix de l''instrument '!$D$3>=Etalonnage_longueur!G144,G144<>\"\"),\"\")","v":""}]
["ETA-0070","Cale étalon","10 mm",null,null,"Afficher",0,null,null,null,null,null,null,{"$f":"IF('Choix de l''instrument '!$C$3=\"Etalonnage_Longueur\",AND('Choix de l''instrument '!$D$3>=Etalonnage_longueur!G145,G145<>\"\"),\"\")","v":""}]
["ETA-0069","Cale étalon","10 mm",null,null,"Afficher",0,null,null,null,null,null,null,{"$f":"IF('Choix de l''instrument '!$C$3=\"Etalonnage_Longueur\",AND('Choix de l''instrument '!$D$3>=Etalonnage_longueur!G146,G146<>\"\"),\"\")","v":""}]
["ETA-0068","Cale étalon","10 mm",null,null,"Afficher",0,null,null,null,null,null,null,{"$f":"IF('Choix de l''instrument '!$C$3=\"Etalonnage_Longueur\",AND('Choix de l''instrument '!$D$3>=Etalonnage_longueur!G147,G147<>\"\"),\"\")","v":""}]
["ETA-0078","Cale étalon","90 mm",null,null,"Afficher",0,null,null,null,null,null,null,{"$f":"IF('Choix de l''instrument '!$C$3=\"Etalonnage_Longueur\",AND('Choix de l''instrument '!$D$3>=Etalonnage_longueur!G148,G148<>\"\"),\"\")","v":""}]
["ETA-0081","Cale étalon","90 mm",null,null,"Afficher",0,null,null,null,null,null,null,{"$f":"IF('Choix de l''instrument '!$C$3=\"Etalonnage_Longueur\",AND('Choix de l''instrument '!$D$3>=Etalonnage_longueur!G149,G149<>\"\"),\"\")","v":""}]
["ETA-0080","Cale étalon","90 mm",null,null,"Afficher",0,null,null,null,null,null,null,{"$f":"IF('Choix de l''instrument '!$C$3=\"Etalonnage_Longueur\",AND('Choix de l''instrument '!$D$3>=Etalonnage_longueur!G150,G150<>\"\"),\"\")","v":""}]
["ETA-0079","Cale étalon","90 mm",null,null,"Afficher",0,null,null,null,null,null,null,{"$f":"IF('Choix de l''instrument '!$C$3=\"Etalonnage_Longueur\",AND('Choix de l''instrument '!$D$3>=Etalonnage_longueur!G151,G151<>\"\"),\"\")","v":""}]
["ETA-0082","Cale étalon","100 mm",null,null,"Afficher",0,null,null,null,null,null,null,{"$f":"IF('Choix de l''instrument '!$C$3=\"Etalonnage_Longueur\",AND('Choix de l''instrument '!$D$3>=Etalonnage_longueur!G152,G152<>\"\"),\"\")","v":""}]
["ETA-0049","Cale étalon","0,200 mm",null,null,"Afficher",0,null,null,null,null,null,null,{"$f":"IF('Choix de l''instrument '!$C$3=\"Etalonnage_Longueur\",AND('Choix de l''instrument '!$D$3>=Etalonnage_longueur!G153,G153<>\"\"),\"\")","v":""}]
["ETA-0048","Cale étalon","0,200 mm",null,null,"Afficher",0,null,null,null,null,null,null,{"$f":"IF('Choix de l''instrument '!$C$3=\"Etalonnage_Longueur\",AND('Choix de l''instrument '!$D$3>=Etalonnage_longueur!G154,G154<>\"\"),\"\")","v":""}]
["ETA-0050","Cale étalon","0,200 mm",null,null,"Afficher",0,null,null,null,null,null,null,{"$f":"IF('Choix de l''instrument '!$C$3=\"Etalonnage_Longueur\",AND('Choix de l''instrument '!$D$3>=Etalonnage_longueur!G155,G155<>\"\"),\"\")","v":""}]
["ETA-0052","Cale étalon","0,200 mm",null,null,"Afficher",0,null,null,null,null,null,null,{"$f":"IF('Choix de l''instrument '!$C$3=\"Etalonnage_Longueur\",AND('Choix de l''instrument '!$D$3>=Etalonnage_longueur!G156,G156<>\"\"),\"\")","v":""}]
["ETA-0051","Cale étalon","0,200 mm",null,null,"Afficher",0,null,null,null,null,null,null,{"$f":"IF('Choix de l''instrument '!$C$3=\"Etalonnage_Longueur\",AND('Choix de l''instrument '!$D$3>=Etalonnage_longueur!G157,G157<>\"\"),\"\")","v":""}]
["ETA-0022","Cale étalon","0,200 mm",null,null,"Afficher",0,null,null,null,null,null,null,{"$f":"IF('Choix de l''instrument '!$C$3=\"Etalonnage_Longueur\",AND('Choix de l''instrument '!$D$3>=Etalonnage_longueur!G158,G158<>\"\"),\"\")","v":""}]
["ETA-0021","Cale étalon","0,200 mm",null,null,"Afficher",0,null,null,null,null,null,null,{"$f":"IF('Choix de l''instrument '!$C$3=\"Etalonnage_Longueur\",AND('Choix de l''instrument '!$D$3>=Etalonnage_longueur!G159,G159<>\"\"),\"\")","v":""}]
["ETA-0020","Cale étalon","100 mm",null,null,"Afficher",0,null,null,null,null,null,null,{"$f":"IF('Choix de l''instrument '!$C$3=\"Etalonnage_Longueur\",AND('Choix de l''instrument '!$D$3>=Etalonnage_longueur!G160,G160<>\"\"),\"\")","v":""}]
["ETA-0023","Cale étalon","0,200 mm",null,null,"Afficher",0,null,null,null,null,null,null,{"$f":"IF('Choix de l''instrument '!$C$3=\"Etalonnage_Longueur\",AND('Choix de l''instrument '!$D$3>=Etalonnage_longueur!G161,G161<>\"\"),\"\")","v":""}]
["ETA-0031","Cale étalon","0,200 mm",null,null,"Afficher",0,null,null,null,null,null,null,{"$f":"IF('Choix de l''instrument '!$C$3=\"Etalonnage_Longueur\",AND('Choix de l''instrument '!$D$3>=Etalonnage_longueur!G162,G162<>\"\"),\"\")","v":""}]
["ETA-0030","Cale étalon","0,200 mm",null,null,"Afficher",0,null,null,null,null,null,null,{"$f":"IF('Choix de l''instrument '!$C$3=\"Etalonnage_Longueur\",AND('Choix de l''instrument '!$D$3>=Etalonnage_longueur!G163,G163<>\"\"),\"\")","v":""}]
["ETA-0026","Cale étalon","0,200 mm",null,null,"Afficher",0,null,null,null,null,null,null,{"$f":"IF('Choix de l''instrument '!$C$3=\"Etalonnage_Longueur\",AND('Choix de l''instrument '!$D$3>=Etalonnage_longueur!G164,G164<>\"\"),\"\")","v":""}]
["ETA-0025","Cale étalon","0,200 mm",null,null,"Afficher",0,null,null,null,null,null,null,{"$f":"IF('Choix de l''instrument '!$C$3=\"Etalonnage_Longueur\",AND('Choix de l''instrument '!$D$3>=Etalonnage_longueur!G165,G165<>\"\"),\"\")","v":""}]
["ETA-0024","Cale étalon","0,200 mm",null,null,"Afficher",0,null,null,null,null,null,null,{"$f":"IF('Choix de l''instrument '!$C$3=\"Etalonnage_Longueur\",AND('Choix de l''instrument '!$D$3>=Etalonnage_longueur!G166,G166<>\"\"),\"\")","v":""}]
["ETA-0029","Cale étalon","0,200 mm",null,null,"Afficher",0,null,null,null,null,null,null,{"$f":"IF('Choix de l''instrument '!$C$3=\"Etalonnage_Longueur\",AND('Choix de l''instrument '!$D$3>=Etalonnage_longueur!G167,G167<>\"\"),\"\")","v":""}]
["ETA-0028","Cale étalon","0,200 mm",null,null,"Afficher",0,null,null,null,null,null,null,{"$f":"IF('Choix de l''instrument '!$C$3=\"Etalonnage_Longueur\",AND('Choix de l''instrument '!$D$3>=Etalonnage_longueur!G168,G168<>\"\"),\"\")","v":""}]
["ETA-0027","Cale étalon","0,200 mm",null,null,"Afficher",0,null,null,null,null,null,null,{"$f":"IF('Choix de l''instrument '!$C$3=\"Etalonnage_Longueur\",AND('Choix de l''instrument '!$D$3>=Etalonnage_longueur!G169,G169<>\"\"),\"\")","v":""}]
["CF.441A","Cale étalon","8,90 mm",null,null,"Afficher",0,null,null,null,null,null,null,{"$f":"IF('Choix de l''instrument '!$C$3=\"Etalonnage_Longueur\",AND('Choix de l''instrument '!$D$3>=Etalonnage_longueur!G170,G170<>\"\"),\"\")","v":""}]
["M.036","Jeu de cales étalons","1 mm à 100 mm",null,null,"Afficher",0,null,null,null,null,null,null,{"$f":"IF('Choix de l''instrument '!$C$3=\"Etalonnage_Longueur\",AND('Choix de l''instrument '!$D$3>=Etalonnage_longueur!G171,G171<>\"\"),\"\")","v":""}]
["ETA-0230","Jeu de cales étalons","1,005 mm à 100 mm",null,null,"Afficher",0,null,null,null,null,null,null,{"$f":"IF('Choix de l''instrument '!$C$3=\"Etalonnage_Longueur\",AND('Choix de l''instrument '!$D$3>=Etalonnage_longueur!G172,G172<>\"\"),\"\")","v":""}]
["THE.007","Jeu de cales étalons","5 mm - 10 mm - 75 mm - 100 mm",null,null,"Afficher",0,null,null,null,null,null,null,{"$f":"IF('Choix de l''instrument '!$C$3=\"Etalonnage_Longueur\",AND('Choix de l''instrument '!$D$3>=Etalonnage_longueur!G173,G173<>\"\"),\"\")","v":""}]
["SQ.008","Jeu de cales étalons","1,005 mm à 100 mm",null,null,"Afficher",0,null,null,null,null,null,null,{"$f":"IF('Choix de l''instrument '!$C$3=\"Etalonnage_Longueur\",AND('Choix de l''instrument '!$D$3>=Etalonnage_longueur!G174,G174<>\"\"),\"\")","v":""}]
["SQ.108","Jeu de cales étalons","1 mm à 100 mm",null,null,"Afficher",0,null,null,null,null,null,null,{"$f":"IF('Choix de l''instrument '!$C$3=\"Etalonnage_Longueur\",AND('Choix de l''instrument '!$D$3>=Etalonnage_longueur!G175,G175<>\"\"),\"\")","v":""}]
["CF.039","Jeu de cales étalons","100 à 5",null,null,"Afficher",0,null,null,null,null,null,null,{"$f":"IF('Choix de l''instrument '!$C$3=\"Etalonnage_Longueur\",AND('Choix de l''instrument '!$D$3>=Etalonnage_longueur!G176,G176<>\"\"),\"\")","v":""}]
["CE.008","Jeu de cales étalons","5 mm - 10 mm - 100 mm",null,null,"Afficher",0,null,null,null,null,null,null,{"$f":"IF('Choix de l''instrument '!$C$3=\"Etalonnage_Longueur\",AND('Choix de l''instrument '!$D$3>=Etalonnage_longueur!G177,G177<>\"\"),\"\")","v":""}]
["CF.434","Jeu de cales étalons","1 mm à 100 mm",null,null,"Afficher",0,null,null,null,null,null,null,{"$f":"IF('Choix de l''instrument '!$C$3=\"Etalonnage_Longueur\",AND('Choix de l''instrument '!$D$3>=Etalonnage_longueur!G178,G178<>\"\"),\"\")","v":""}]
["MET-0058","Etalon pour colonne Mitutoyo LH600",null,null,null,"Afficher",0,null,null,null,null,null,null,{"$f":"IF('Choix de l''instrument '!$C$3=\"Etalonnage_Longueur\",AND('Choix de l''instrument '!$D$3>=Etalonnage_longueur!G179,G179<>\"\"),\"\")","v":""}]

{"sheet":"Etalonnage_Micromètre","index":22,"n_rows":457,"n_cols":14,"rows_kept":457,"cut":false,"hidden":false,"merged":[]}
["Etalonnage_Micromètre"]
[null,null,null,null,null,null,"résolution g",null,null,null,null,null,null,"Résultat critère IT"]
["MET-0021","Pige étalon","20 mm",null,null,"Afficher",0,null,null,null,null,null,null,{"$f":"IF('Choix de l''instrument '!$C$3=\"Etalonnage_Micromètre\",AND('Choix de l''instrument '!$D$3>=Etalonnage_Micromètre!G2,G2<>\"\"),\"\")","v":""}]
["MET-0020","Pige étalon","19 mm",null,null,"Afficher",0,null,null,null,null,null,null,{"$f":"IF('Choix de l''instrument '!$C$3=\"Etalonnage_Micromètre\",AND('Choix de l''instrument '!$D$3>=Etalonnage_Micromètre!G3,G3<>\"\"),\"\")","v":""}]
["MET-0019","Pige étalon","18 mm",null,null,"Afficher",0,null,null,null,null,null,null,{"$f":"IF('Choix de l''instrument '!$C$3=\"Etalonnage_Micromètre\",AND('Choix de l''instrument '!$D$3>=Etalonnage_Micromètre!G4,G4<>\"\"),\"\")","v":""}]
["MET-0023","Pige étalon","200 mm",null,null,"Afficher",0,null,null,null,null,null,null,{"$f":"IF('Choix de l''instrument '!$C$3=\"Etalonnage_Micromètre\",AND('Choix de l''instrument '!$D$3>=Etalonnage_Micromètre!G5,G5<>\"\"),\"\")","v":""}]
["MET-0018","Pige étalon","17 mm",null,null,"Afficher",0,null,null,null,null,null,null,{"$f":"IF('Choix de l''instrument '!$C$3=\"Etalonnage_Micromètre\",AND('Choix de l''instrument '!$D$3>=Etalonnage_Micromètre!G6,G6<>\"\"),\"\")","v":""}]
["MET-0014","Pige étalon","13 mm",null,null,"Afficher",0,null,null,null,null,null,null,{"$f":"IF('Choix de l''instrument '!$C$3=\"Etalonnage_Micromètre\",AND('Choix de l''instrument '!$D$3>=Etalonnage_Micromètre!G7,G7<>\"\"),\"\")","v":""}]
["MET-0013","Pige étalon","12 mm",null,null,"Afficher",0,null,null,null,null,null,null,{"$f":"IF('Choix de l''instrument '!$C$3=\"Etalonnage_Micromètre\",AND('Choix de l''instrument '!$D$3>=Etalonnage_Micromètre!G8,G8<>\"\"),\"\")","v":""}]
["MET-0012","Pige étalon","11 mm",null,null,"Afficher",0,null,null,null,null,null,null,{"$f":"IF('Choix de l''instrument '!$C$3=\"Etalonnage_Micromètre\",AND('Choix de l''instrument '!$D$3>=Etalonnage_Micromètre!G9,G9<>\"\"),\"\")","v":""}]
["MET-0017","Pige étalon","16 mm",null,null,"Afficher",0,null,null,null,null,null,null,{"$f":"IF('Choix de l''instrument '!$C$3=\"Etalonnage_Micromètre\",AND('Choix de l''instrument '!$D$3>=Etalonnage_Micromètre!G10,G10<>\"\"),\"\")","v":""}]
["MET-0016","Pige étalon","15 mm",null,null,"Afficher",0,null,null,null,null,null,null,{"$f":"IF('Choix de l''instrument '!$C$3=\"Etalonnage_Micromètre\",AND('Choix de l''instrument '!$D$3>=Etalonnage_Micromètre!G11,G11<>\"\"),\"\")","v":""}]
["MET-0015","Pige étalon","14 mm",null,null,"Afficher",0,null,null,null,null,null,null,{"$f":"IF('Choix de l''instrument '!$C$3=\"Etalonnage_Micromètre\",AND('Choix de l''instrument '!$D$3>=Etalonnage_Micromètre!G12,G12<>\"\"),\"\")","v":""}]
["MET-0052","Pige étalon","10,000",null,null,"Afficher",0,null,null,null,null,null,null,{"$f":"IF('Choix de l''instrument '!$C$3=\"Etalonnage_Micromètre\",AND('Choix de l''instrument '!$D$3>=Etalonnage_Micromètre!G13,G13<>\"\"),\"\")","v":""}]
["MET-0008","Pige étalon","7 mm",null,null,"Afficher",0,null,null,null,null,null,null,{"$f":"IF('Choix de l''instrument '!$C$3=\"Etalonnage_Micromètre\",AND('Choix de l''instrument '!$D$3>=Etalonnage_Micromètre!G14,G14<>\"\"),\"\")","v":""}]
["MET-0007","Pige étalon","6 mm",null,null,"Afficher",0,null,null,null,null,null,null,{"$f":"IF('Choix de l''instrument '!$C$3=\"Etalonnage_Micromètre\",AND('Choix de l''instrument '!$D$3>=Etalonnage_Micromètre!G15,G15<>\"\"),\"\")","v":""}]
["MET-0006","Pige étalon","5 mm",null,null,"Afficher",0,null,null,null,null,null,null,{"$f":"IF('Choix de l''instrument '!$C$3=\"Etalonnage_Micromètre\",AND('Choix de l''instrument '!$D$3>=Etalonnage_Micromètre!G16,G16<>\"\"),\"\")","v":""}]
["MET-0011","Pige étalon","10 mm",null,null,"Afficher",0,null,null,null,null,null,null,{"$f":"IF('Choix de l''instrument '!$C$3=\"Etalonnage_Micromètre\",AND('Choix de l''instrument '!$D$3>=Etalonnage_Micromètre!G17,G17<>\"\"),\"\")","v":""}]
["MET-0010","Pige étalon","9 mm",null,null,"Afficher",0,null,null,null,null,null,null,{"$f":"IF('Choix de l''instrument '!$C$3=\"Etalonnage_Micromètre\",AND('Choix de l''instrument '!$D$3>=Etalonnage_Micromètre!G18,G18<>\"\"),\"\")","v":""}]
["MET-0009","Pige étalon","8 mm",null,null,"Afficher",0,null,null,null,null,null,null,{"$f":"IF('Choix de l''instrument '!$C$3=\"Etalonnage_Micromètre\",AND('Choix de l''instrument '!$D$3>=Etalonnage_Micromètre!G19,G19<>\"\"),\"\")","v":""}]
["MET-0005","Pige étalon","4 mm",null,null,"Afficher",0,null,null,null,null,null,null,{"$f":"IF('Choix de l''instrument '!$C$3=\"Etalonnage_Micromètre\",AND('Choix de l''instrument '!$D$3>=Etalonnage_Micromètre!G20,G20<>\"\"),\"\")","v":""}]
["MET-0001","Pige étalon","0,5 mm",null,null,"Afficher",0,null,null,null,null,null,null,{"$f":"IF('Choix de l''instrument '!$C$3=\"Etalonnage_Micromètre\",AND('Choix de l''instrument '!$D$3>=Etalonnage_Micromètre!G21,G21<>\"\"),\"\")","v":""}]
["MET-0004","Pige étalon","3 mm",null,null,"Afficher",0,null,null,null,null,null,null,{"$f":"IF('Choix de l''instrument '!$C$3=\"Etalonnage_Micromètre\",AND('Choix de l''instrument '!$D$3>=Etalonnage_Micromètre!G22,G22<>\"\"),\"\")","v":""}]
["MET-0003","Pige étalon","2 mm",null,null,"Afficher",0,null,null,null,null,null,null,{"$f":"IF('Choix de l''instrument '!$C$3=\"Etalonnage_Micromètre\",AND('Choix de l''instrument '!$D$3>=Etalonnage_Micromètre!G23,G23<>\"\"),\"\")","v":""}]
["MET-0002","Pige étalon","1 mm",null,null,"Afficher",0,null,null,null,null,null,null,{"$f":"IF('Choix de l''instrument '!$C$3=\"Etalonnage_Micromètre\",AND('Choix de l''instrument '!$D$3>=Etalonnage_Micromètre!G24,G24<>\"\"),\"\")","v":""}]
["MET-0060","Pige étalon","0,50 mm",null,null,"Afficher",0,null,null,null,null,null,null,{"$f":"IF('Choix de l''instrument '!$C$3=\"Etalonnage_Micromètre\",AND('Choix de l''instrument '!$D$3>=Etalonnage_Micromètre!G25,G25<>\"\"),\"\")","v":""}]
["MET-0102","Pige étalon","30,0000 mm",null,null,"Afficher",0,null,null,null,null,null,null,{"$f":"IF('Choix de l''instrument '!$C$3=\"Etalonnage_Micromètre\",AND('Choix de l''instrument '!$D$3>=Etalonnage_Micromètre!G26,G26<>\"\"),\"\")","v":""}]
["MEXT-002 /E","Pige étalon","25 mm",null,null,"Afficher",0,null,null,null,null,null,null,{"$f":"IF('Choix de l''instrument '!$C$3=\"Etalonnage_Micromètre\",AND('Choix de l''instrument '!$D$3>=Etalonnage_Micromètre!G27,G27<>\"\"),\"\")","v":""}]
["MET-0103","Pige étalon","25,0000 mm",null,null,"Afficher",0,null,null,null,null,null,null,{"$f":"IF('Choix de l''instrument '!$C$3=\"Etalonnage_Micromètre\",AND('Choix de l''instrument '!$D$3>=Etalonnage_Micromètre!G28,G28<>\"\"),\"\")","v":""}]
["MEXT-001/E","Pige étalon","25 mm",null,null,"Afficher",0,null,null,null,null,null,null,{"$f":"IF('Choix de l''instrument '!$C$3=\"Etalonnage_Micromètre\",AND('Choix de l''instrument '!$D$3>=Etalonnage_Micromètre!G29,G29<>\"\"),\"\")","v":""}]
["MET-0070","Pige étalon","10,00 mm",null,null,"Afficher",0,null,null,null,null,null,null,{"$f":"IF('Choix de l''instrument '!$C$3=\"Etalonnage_Micromètre\",AND('Choix de l''instrument '!$D$3>=Etalonnage_Micromètre!G30,G30<>\"\"),\"\")","v":""}]
["MET-0069","Pige étalon","9,00 mm",null,null,"Afficher",0,null,null,null,null,null,null,{"$f":"IF('Choix de l''instrument '!$C$3=\"Etalonnage_Micromètre\",AND('Choix de l''instrument '!$D$3>=Etalonnage_Micromètre!G31,G31<>\"\"),\"\")","v":""}]
["MET-0068","Pige étalon","8,00 mm",null,null,"Afficher",0,null,null,null,null,null,null,{"$f":"IF('Choix de l''instrument '!$C$3=\"Etalonnage_Micromètre\",AND('Choix de l''instrument '!$D$3>=Etalonnage_Micromètre!G32,G32<>\"\"),\"\")","v":""}]
["MET-0073","Pige étalon","13,00 mm",null,null,"Afficher",0,null,null,null,null,null,null,{"$f":"IF('Choix de l''instrument '!$C$3=\"Etalonnage_Micromètre\",AND('Choix de l''instrument '!$D$3>=Etalonnage_Micromètre!G33,G33<>\"\"),\"\")","v":""}]
["MET-0072","Pige étalon","12,00 mm",null,null,"Afficher",0,null,null,null,null,null,null,{"$f":"IF('Choix de l''instrument '!$C$3=\"Etalonnage_Micromètre\",AND('Choix de l''instrument '!$D$3>=Etalonnage_Micromètre!G34,G34<>\"\"),\"\")","v":""}]
["MET-0071","Pige étalon","11,00 mm",null,null,"Afficher",0,null,null,null,null,null,null,{"$f":"IF('Choix de l''instrument '!$C$3=\"Etalonnage_Micromètre\",AND('Choix de l''instrument '!$D$3>=Etalonnage_Micromètre!G35,G35<>\"\"),\"\")","v":""}]
["MET-0067","Pige étalon","7,00 mm",null,null,"Afficher",0,null,null,null,null,null,null,{"$f":"IF('Choix de l''instrument '!$C$3=\"Etalonnage_Micromètre\",AND('Choix de l''instrument '!$D$3>=Etalonnage_Micromètre!G36,G36<>\"\"),\"\")","v":""}]
["MET-0063","Pige étalon","3,00 mm",null,null,"Afficher",0,null,null,null,null,null,null,{"$f":"IF('Choix de l''instrument '!$C$3=\"Etalonnage_Micromètre\",AND('Choix de l''instrument '!$D$3>=Etalonnage_Micromètre!G37,G37<>\"\"),\"\")","v":""}]
["MET-0062","Pige étalon","2,00 mm",null,null,"Afficher",0,null,null,null,null,null,null,{"$f":"IF('Choix de l''instrument '!$C$3=\"Etalonnage_Micromètre\",AND('Choix de l''instrument '!$D$3>=Etalonnage_Micromètre!G38,G38<>\"\"),\"\")","v":""}]
["MET-0061","Pige étalon","1,00 mm",null,null,"Afficher",0,null,null,null,null,null,null,{"$f":"IF('Choix de l''instrument '!$C$3=\"Etalonnage_Micromètre\",AND('Choix de l''instrument '!$D$3>=Etalonnage_Micromètre!G39,G39<>\"\"),\"\")","v":""}]
["MET-0066","Pige étalon","6,00 mm",null,null,"Afficher",0,null,null,null,null,null,null,{"$f":"IF('Choix de l''instrument '!$C$3=\"Etalonnage_Micromètre\",AND('Choix de l''instrument '!$D$3>=Etalonnage_Micromètre!G40,G40<>\"\"),\"\")","v":""}]
["MET-0065","Pige étalon","5,00 mm",null,null,"Afficher",0,null,null,null,null,null,null,{"$f":"IF('Choix de l''instrument '!$C$3=\"Etalonnage_Micromètre\",AND('Choix de l''instrument '!$D$3>=Etalonnage_Micromètre!G41,G41<>\"\"),\"\")","v":""}]
["MET-0064","Pige étalon","4,00 mm",null,null,"Afficher",0,null,null,null,null,null,null,{"$f":"IF('Choix de l''instrument '!$C$3=\"Etalonnage_Micromètre\",AND('Choix de l''instrument '!$D$3>=Etalonnage_Micromètre!G42,G42<>\"\"),\"\")","v":""}]
["MET-0074","Pige étalon","14,00 mm",null,null,"Afficher",0,null,null,null,null,null,null,{"$f":"IF('Choix de l''instrument '!$C$3=\"Etalonnage_Micromètre\",AND('Choix de l''instrument '!$D$3>=Etalonnage_Micromètre!G43,G43<>\"\"),\"\")","v":""}]
["MET-0087","Pige étalon","2,14 mm",null,null,"Afficher",0,null,null,null,null,null,null,{"$f":"IF('Choix de l''instrument '!$C$3=\"Etalonnage_Micromètre\",AND('Choix de l''instrument '!$D$3>=Etalonnage_Micromètre!G44,G44<>\"\"),\"\")","v":""}]
["MET-0086","Pige étalon","0,20 mm",null,null,"Afficher",0,null,null,null,null,null,null,{"$f":"IF('Choix de l''instrument '!$C$3=\"Etalonnage_Micromètre\",AND('Choix de l''instrument '!$D$3>=Etalonnage_Micromètre!G45,G45<>\"\"),\"\")","v":""}]
["MET-0077","Pige étalon","17,00 mm",null,null,"Afficher",0,null,null,null,null,null,null,{"$f":"IF('Choix de l''instrument '!$C$3=\"Etalonnage_Micromètre\",AND('Choix de l''instrument '!$D$3>=Etalonnage_Micromètre!G46,G46<>\"\"),\"\")","v":""}]
["MET-0076","Pige étalon","16,00 mm",null,null,"Afficher",0,null,null,null,null,null,null,{"$f":"IF('Choix de l''instrument '!$C$3=\"Etalonnage_Micromètre\",AND('Choix de l''instrument '!$D$3>=Etalonnage_Micromètre!G47,G47<>\"\"),\"\")","v":""}]
["MET-0075","Pige étalon","15,00 mm",null,null,"Afficher",0,null,null,null,null,null,null,{"$f":"IF('Choix de l''instrument '!$C$3=\"Etalonnage_Micromètre\",AND('Choix de l''instrument '!$D$3>=Etalonnage_Micromètre!G48,G48<>\"\"),\"\")","v":""}]
["MET-0080","Pige étalon","20,00 mm",null,null,"Afficher",0,null,null,null,null,null,null,{"$f":"IF('Choix de l''instrument '!$C$3=\"Etalonnage_Micromètre\",AND('Choix de l''instrument '!$D$3>=Etalonnage_Micromètre!G49,G49<>\"\"),\"\")","v":""}]
["MET-0079","Pige étalon","19,00 mm",null,null,"Afficher",0,null,null,null,null,null,null,{"$f":"IF('Choix de l''instrument '!$C$3=\"Etalonnage_Micromètre\",AND('Choix de l''instrument '!$D$3>=Etalonnage_Micromètre!G50,G50<>\"\"),\"\")","v":""}]
["MET-0078","Pige étalon","18,00 mm",null,null,"Afficher",0,null,null,null,null,null,null,{"$f":"IF('Choix de l''instrument '!$C$3=\"Etalonnage_Micromètre\",AND('Choix de l''instrument '!$D$3>=Etalonnage_Micromètre!G51,G51<>\"\"),\"\")","v":""}]
["ETA-0294","Pige étalon","1,00 mm",null,null,"Afficher",0,null,null,null,null,null,null,{"$f":"IF('Choix de l''instrument '!$C$3=\"Etalonnage_Micromètre\",AND('Choix de l''instrument '!$D$3>=Etalonnage_Micromètre!G52,G52<>\"\"),\"\")","v":""}]
["ETA-0293","Pige étalon","1,00 mm",null,null,"Afficher",0,null,null,null,null,null,null,{"$f":"IF('Choix de l''instrument '!$C$3=\"Etalonnage_Micromètre\",AND('Choix de l''instrument '!$D$3>=Etalonnage_Micromètre!G53,G53<>\"\"),\"\")","v":""}]
["ETA-0377","Pige étalon","3,000 mm",null,null,"Afficher",0,null,null,null,null,null,null,{"$f":"IF('Choix de l''instrument '!$C$3=\"Etalonnage_Micromètre\",AND('Choix de l''instrument '!$D$3>=Etalonnage_Micromètre!G54,G54<>\"\"),\"\")","v":""}]
["ETA-0376","Pige étalon","2,500 mm",null,null,"Afficher",0,null,null,null,null,null,null,{"$f":"IF('Choix de l''instrument '!$C$3=\"Etalonnage_Micromètre\",AND('Choix de l''instrument '!$D$3>=Etalonnage_Micromètre!G55,G55<>\"\"),\"\")","v":""}]
["ETA-0375","Pige étalon","2,500 mm",null,null,"Afficher",0,null,null,null,null,null,null,{"$f":"IF('Choix de l''instrument '!$C$3=\"Etalonnage_Micromètre\",AND('Choix de l''instrument '!$D$3>=Etalonnage_Micromètre!G56,G56<>\"\"),\"\")","v":""}]
["ETA-0380","Pige étalon","4,000 mm",null,null,"Afficher",0,null,null,null,null,null,null,{"$f":"IF('Choix de l''instrument '!$C$3=\"Etalonnage_Micromètre\",AND('Choix de l''instrument '!$D$3>=Etalonnage_Micromètre!G57,G57<>\"\"),\"\")","v":""}]
["ETA-0379","Pige étalon","4,000 mm",null,null,"Afficher",0,null,null,null,null,null,null,{"$f":"IF('Choix de l''instrument '!$C$3=\"Etalonnage_Micromètre\",AND('Choix de l''instrument '!$D$3>=Etalonnage_Micromètre!G58,G58<>\"\"),\"\")","v":""}]
["ETA-0378","Pige étalon","3,000 mm",null,null,"Afficher",0,null,null,null,null,null,null,{"$f":"IF('Choix de l''instrument '!$C$3=\"Etalonnage_Micromètre\",AND('Choix de l''instrument '!$D$3>=Etalonnage_Micromètre!G59,G59<>\"\"),\"\")","v":""}]
["ETA-0374","Pige étalon","2,000 mm",null,null,"Afficher",0,null,null,null,null,null,null,{"$f":"IF('Choix de l''instrument '!$C$3=\"Etalonnage_Micromètre\",AND('Choix de l''instrument '!$D$3>=Etalonnage_Micromètre!G60,G60<>\"\"),\"\")","v":""}]
["ETA-0370","Pige étalon","1,000 mm",null,null,"Afficher",0,null,null,null,null,null,null,{"$f":"IF('Choix de l''instrument '!$C$3=\"Etalonnage_Micromètre\",AND('Choix de l''instrument '!$D$3>=Etalonnage_Micromètre!G61,G61<>\"\"),\"\")","v":""}]
["ETA-0369","Pige étalon","1,000 mm",null,null,"Afficher",0,null,null,null,null,null,null,{"$f":"IF('Choix de l''instrument '!$C$3=\"Etalonnage_Micromètre\",AND('Choix de l''instrument '!$D$3>=Etalonnage_Micromètre!G62,G62<>\"\"),\"\")","v":""}]
["ETA-0373","Pige étalon","2,000 mm",null,null,"Afficher",0,null,null,null,null,null,null,{"$f":"IF('Choix de l''instrument '!$C$3=\"Etalonnage_Micromètre\",AND('Choix de l''instrument '!$D$3>=Etalonnage_Micromètre!G63,G63<>\"\"),\"\")","v":""}]
["ETA-0372","Pige étalon","1,500 mm",null,null,"Afficher",0,null,null,null,null,null,null,{"$f":"IF('Choix de l''instrument '!$C$3=\"Etalonnage_Micromètre\",AND('Choix de l''instrument '!$D$3>=Etalonnage_Micromètre!G64,G64<>\"\"),\"\")","v":""}]
["ETA-0371","Pige étalon","1,500 mm",null,null,"Afficher",0,null,null,null,null,null,null,{"$f":"IF('Choix de l''instrument '!$C$3=\"Etalonnage_Micromètre\",AND('Choix de l''instrument '!$D$3>=Etalonnage_Micromètre!G65,G65<>\"\"),\"\")","v":""}]
["ETA-0381","Pige étalon","4,500 mm",null,null,"Afficher",0,null,null,null,null,null,null,{"$f":"IF('Choix de l''instrument '!$C$3=\"Etalonnage_Micromètre\",AND('Choix de l''instrument '!$D$3>=Etalonnage_Micromètre!G66,G66<>\"\"),\"\")","v":""}]
["ETA-0391","Pige étalon","7,500 mm",null,null,"Afficher",0,null,null,null,null,null,null,{"$f":"IF('Choix de l''instrument '!$C$3=\"Etalonnage_Micromètre\",AND('Choix de l''instrument '!$D$3>=Etalonnage_Micromètre!G67,G67<>\"\"),\"\")","v":""}]
["ETA-0390","Pige étalon","6,500 mm",null,null,"Afficher",0,null,null,null,null,null,null,{"$f":"IF('Choix de l''instrument '!$C$3=\"Etalonnage_Micromètre\",AND('Choix de l''instrument '!$D$3>=Etalonnage_Micromètre!G68,G68<>\"\"),\"\")","v":""}]
["ETA-0389","Pige étalon","6,500 mm",null,null,"Afficher",0,null,null,null,null,null,null,{"$f":"IF('Choix de l''instrument '!$C$3=\"Etalonnage_Micromètre\",AND('Choix de l''instrument '!$D$3>=Etalonnage_Micromètre!G69,G69<>\"\"),\"\")","v":""}]
["ETA-0394","Pige étalon","8,000 mm",null,null,"Afficher",0,null,null,null,null,null,null,{"$f":"IF('Choix de l''instrument '!$C$3=\"Etalonnage_Micromètre\",AND('Choix de l''instrument '!$D$3>=Etalonnage_Micromètre!G70,G70<>\"\"),\"\")","v":""}]
["ETA-0393","Pige étalon","8,000 mm",null,null,"Afficher",0,null,null,null,null,null,null,{"$f":"IF('Choix de l''instrument '!$C$3=\"Etalonnage_Micromètre\",AND('Choix de l''instrument '!$D$3>=Etalonnage_Micromètre!G71,G71<>\"\"),\"\")","v":""}]
["ETA-0392","Pige étalon","7,500 mm",null,null,"Afficher",0,null,null,null,null,null,null,{"$f":"IF('Choix de l''instrument '!$C$3=\"Etalonnage_Micromètre\",AND('Choix de l''instrument '!$D$3>=Etalonnage_Micromètre!G72,G72<>\"\"),\"\")","v":""}]
["ETA-0388","Pige étalon","6,000 mm",null,null,"Afficher",0,null,null,null,null,null,null,{"$f":"IF('Choix de l''instrument '!$C$3=\"Etalonnage_Micromètre\",AND('Choix de l''instrument '!$D$3>=Etalonnage_Micromètre!G73,G73<>\"\"),\"\")","v":""}]
["ETA-0384","Pige étalon","5,000 mm",null,null,"Afficher",0,null,null,null,null,null,null,{"$f":"IF('Choix de l''instrument '!$C$3=\"Etalonnage_Micromètre\",AND('Choix de l''instrument '!$D$3>=Etalonnage_Micromètre!G74,G74<>\"\"),\"\")","v":""}]
["ETA-0383","Pige étalon","5,000 mm",null,null,"Afficher",0,null,null,null,null,null,null,{"$f":"IF('Choix de l''instrument '!$C$3=\"Etalonnage_Micromètre\",AND('Choix de l''instrument '!$D$3>=Etalonnage_Micromètre!G75,G75<>\"\"),\"\")","v":""}]
["ETA-0382","Pige étalon","4,500 mm",null,null,"Afficher",0,null,null,null,null,null,null,{"$f":"IF('Choix de l''instrument '!$C$3=\"Etalonnage_Micromètre\",AND('Choix de l''instrument '!$D$3>=Etalonnage_Micromètre!G76,G76<>\"\"),\"\")","v":""}]
["ETA-0387","Pige étalon","6,000 mm",null,null,"Afficher",0,null,null,null,null,null,null,{"$f":"IF('Choix de l''instrument '!$C$3=\"Etalonnage_Micromètre\",AND('Choix de l''instrument '!$D$3>=Etalonnage_Micromètre!G77,G77<>\"\"),\"\")","v":""}]
["ETA-0386","Pige étalon","5,500 mm",null,null,"Afficher",0,null,null,null,null,null,null,{"$f":"IF('Choix de l''instrument '!$C$3=\"Etalonnage_Micromètre\",AND('Choix de l''instrument '!$D$3>=Etalonnage_Micromètre!G78,G78<>\"\"),\"\")","v":""}]
["ETA-0385","Pige étalon","5,500 mm",null,null,"Afficher",0,null,null,null,null,null,null,{"$f":"IF('Choix de l''instrument '!$C$3=\"Etalonnage_Micromètre\",AND('Choix de l''instrument '!$D$3>=Etalonnage_Micromètre!G79,G79<>\"\"),\"\")","v":""}]
["ETA-0349","Pige étalon","1,500 mm",null,null,"Afficher",0,null,null,null,null,null,null,{"$f":"IF('Choix de l''instrument '!$C$3=\"Etalonnage_Micromètre\",AND('Choix de l''instrument '!$D$3>=Etalonnage_Micromètre!G80,G80<>\"\"),\"\")","v":""}]
["ETA-0348","Pige étalon","1 mm",null,null,"Afficher",0,null,null,null,null,null,null,{"$f":"IF('Choix de l''instrument '!$C$3=\"Etalonnage_Micromètre\",AND('Choix de l''instrument '!$D$3>=Etalonnage_Micromètre!G81,G81<>\"\"),\"\")","v":""}]
["ETA-0347","Pige étalon","0,5 mm",null,null,"Afficher",0,null,null,null,null,null,null,{"$f":"IF('Choix de l''instrument '!$C$3=\"Etalonnage_Micromètre\",AND('Choix de l''instrument '!$D$3>=Etalonnage_Micromètre!G82,G82<>\"\"),\"\")","v":""}]
["ETA-0352","Pige étalon","3,500 mm",null,null,"Afficher",0,null,null,null,null,null,null,{"$f":"IF('Choix de l''instrument '!$C$3=\"Etalonnage_Micromètre\",AND('Choix de l''instrument '!$D$3>=Etalonnage_Micromètre!G83,G83<>\"\"),\"\")","v":""}]
["ETA-0351","Pige étalon","3,000 mm",null,null,"Afficher",0,null,null,null,null,null,null,{"$f":"IF('Choix de l''instrument '!$C$3=\"Etalonnage_Micromètre\",AND('Choix de l''instrument '!$D$3>=Etalonnage_Micromètre!G84,G84<>\"\"),\"\")","v":""}]
["ETA-0350","Pige étalon","2,500 mm",null,null,"Afficher",0,null,null,null,null,null,null,{"$f":"IF('Choix de l''instrument '!$C$3=\"Etalonnage_Micromètre\",AND('Choix de l''instrument '!$D$3>=Etalonnage_Micromètre!G85,G85<>\"\"),\"\")","v":""}]
["ETA-0353","Pige étalon","4,000 mm",null,null,"Afficher",0,null,null,null,null,null,null,{"$f":"IF('Choix de l''instrument '!$C$3=\"Etalonnage_Micromètre\",AND('Choix de l''instrument '!$D$3>=Etalonnage_Micromètre!G86,G86<>\"\"),\"\")","v":""}]
["ETA-0364","Pige étalon","2,900 mm",null,null,"Afficher",0,null,null,null,null,null,null,{"$f":"IF('Choix de l''instrument '!$C$3=\"Etalonnage_Micromètre\",AND('Choix de l''instrument '!$D$3>=Etalonnage_Micromètre!G87,G87<>\"\"),\"\")","v":""}]
["ETA-0363","Pige étalon","0,15 mm",null,null,"Afficher",0,null,null,null,null,null,null,{"$f":"IF('Choix de l''instrument '!$C$3=\"Etalonnage_Micromètre\",AND('Choix de l''instrument '!$D$3>=Etalonnage_Micromètre!G88,G88<>\"\"),\"\")","v":""}]
["ETA-0361","Pige étalon","0,15 mm",null,null,"Afficher",0,null,null,null,null,null,null,{"$f":"IF('Choix de l''instrument '!$C$3=\"Etalonnage_Micromètre\",AND('Choix de l''instrument '!$D$3>=Etalonnage_Micromètre!G89,G89<>\"\"),\"\")","v":""}]
["ETA-0367","Pige étalon","6,09 mm",null,null,"Afficher",0,null,null,null,null,null,null,{"$f":"IF('Choix de l''instrument '!$C$3=\"Etalonnage_Micromètre\",AND('Choix de l''instrument '!$D$3>=Etalonnage_Micromètre!G90,G90<>\"\"),\"\")","v":""}]
["ETA-0366","Pige étalon","2,90 mm",null,null,"Afficher",0,null,null,null,null,null,null,{"$f":"IF('Choix de l''instrument '!$C$3=\"Etalonnage_Micromètre\",AND('Choix de l''instrument '!$D$3>=Etalonnage_Micromètre!G91,G91<>\"\"),\"\")","v":""}]
["ETA-0365","Pige étalon","2,89 mm",null,null,"Afficher",0,null,null,null,null,null,null,{"$f":"IF('Choix de l''instrument '!$C$3=\"Etalonnage_Micromètre\",AND('Choix de l''instrument '!$D$3>=Etalonnage_Micromètre!G92,G92<>\"\"),\"\")","v":""}]
["ETA-0360","Pige étalon","30,0000 mm",null,null,"Afficher",0,null,null,null,null,null,null,{"$f":"IF('Choix de l''instrument '!$C$3=\"Etalonnage_Micromètre\",AND('Choix de l''instrument '!$D$3>=Etalonnage_Micromètre!G93,G93<>\"\"),\"\")","v":""}]
["ETA-0356","Pige étalon","5,500 mm",null,null,"Afficher",0,null,null,null,null,null,null,{"$f":"IF('Choix de l''instrument '!$C$3=\"Etalonnage_Micromètre\",AND('Choix de l''instrument '!$D$3>=Etalonnage_Micromètre!G94,G94<>\"\"),\"\")","v":""}]
["ETA-0355","Pige étalon","5,000 mm",null,null,"Afficher",0,null,null,null,null,null,null,{"$f":"IF('Choix de l''instrument '!$C$3=\"Etalonnage_Micromètre\",AND('Choix de l''instrument '!$D$3>=Etalonnage_Micromètre!G95,G95<>\"\"),\"\")","v":""}]
["ETA-0354","Pige étalon","4,500 mm",null,null,"Afficher",0,null,null,null,null,null,null,{"$f":"IF('Choix de l''instrument '!$C$3=\"Etalonnage_Micromètre\",AND('Choix de l''instrument '!$D$3>=Etalonnage_Micromètre!G96,G96<>\"\"),\"\")","v":""}]
["ETA-0359","Pige étalon","30 mm",null,null,"Afficher",0,null,null,null,null,null,null,{"$f":"IF('Choix de l''instrument '!$C$3=\"Etalonnage_Micromètre\",AND('Choix de l''instrument '!$D$3>=Etalonnage_Micromètre!G97,G97<>\"\"),\"\")","v":""}]
["ETA-0358","Pige étalon","ø2,000",null,null,"Afficher",0,null,null,null,null,null,null,{"$f":"IF('Choix de l''instrument '!$C$3=\"Etalonnage_Micromètre\",AND('Choix de l''instrument '!$D$3>=Etalonnage_Micromètre!G98,G98<>\"\"),\"\")","v":""}]
["ETA-0357","Pige étalon","6,000 mm",null,null,"Afficher",0,null,null,null,null,null,null,{"$f":"IF('Choix de l''instrument '!$C$3=\"Etalonnage_Micromètre\",AND('Choix de l''instrument '!$D$3>=Etalonnage_Micromètre!G99,G99<>\"\"),\"\")","v":""}]
["ETA-0208","Pige étalon","0,2210 mm",null,null,"Afficher",0,null,null,null,null,null,null,{"$f":"IF('Choix de l''instrument '!$C$3=\"Etalonnage_Micromètre\",AND('Choix de l''instrument '!$D$3>=Etalonnage_Micromètre!G100,G100<>\"\"),\"\")","v":""}]
["ETA-0207","Pige étalon","0,2184 mm",null,null,"Afficher",0,null,null,null,null,null,null,{"$f":"IF('Choix de l''instrument '!$C$3=\"Etalonnage_Micromètre\",AND('Choix de l''instrument '!$D$3>=Etalonnage_Micromètre!G101,G101<>\"\"),\"\")","v":""}]
["ETA-0203","Pige étalon","0,2083 mm",null,null,"Afficher",0,null,null,null,null,null,null,{"$f":"IF('Choix de l''instrument '!$C$3=\"Etalonnage_Micromètre\",AND('Choix de l''instrument '!$D$3>=Etalonnage_Micromètre!G102,G102<>\"\"),\"\")","v":""}]
["ETA-0202","Pige étalon","0,2057 mm",null,null,"Afficher",0,null,null,null,null,null,null,{"$f":"IF('Choix de l''instrument '!$C$3=\"Etalonnage_Micromètre\",AND('Choix de l''instrument '!$D$3>=Etalonnage_Micromètre!G103,G103<>\"\"),\"\")","v":""}]
["ETA-0201","Pige étalon","0,2032 mm",null,null,"Afficher",0,null,null,null,null,null,null,{"$f":"IF('Choix de l''instrument '!$C$3=\"Etalonnage_Micromètre\",AND('Choix de l''instrument '!$D$3>=Etalonnage_Micromètre!G104,G104<>\"\"),\"\")","v":""}]
["ETA-0206","Pige étalon","0,2159 mm",null,null,"Afficher",0,null,null,null,null,null,null,{"$f":"IF('Choix de l''instrument '!$C$3=\"Etalonnage_Micromètre\",AND('Choix de l''instrument '!$D$3>=Etalonnage_Micromètre!G105,G105<>\"\"),\"\")","v":""}]
["ETA-0205","Pige étalon","0,2134 mm",null,null,"Afficher",0,null,null,null,null,null,null,{"$f":"IF('Choix de l''instrument '!$C$3=\"Etalonnage_Micromètre\",AND('Choix de l''instrument '!$D$3>=Etalonnage_Micromètre!G106,G106<>\"\"),\"\")","v":""}]
["ETA-0204","Pige étalon","0,2108 mm",null,null,"Afficher",0,null,null,null,null,null,null,{"$f":"IF('Choix de l''instrument '!$C$3=\"Etalonnage_Micromètre\",AND('Choix de l''instrument '!$D$3>=Etalonnage_Micromètre!G107,G107<>\"\"),\"\")","v":""}]
["ETA-0183","Pige étalon","0,1651 mm",null,null,"Afficher",0,null,null,null,null,null,null,{"$f":"IF('Choix de l''instrument '!$C$3=\"Etalonnage_Micromètre\",AND('Choix de l''instrument '!$D$3>=Etalonnage_Micromètre!G108,G108<>\"\"),\"\")","v":""}]
["ETA-0182","Pige étalon","0,1626 mm",null,null,"Afficher",0,null,null,null,null,null,null,{"$f":"IF('Choix de l''instrument '!$C$3=\"Etalonnage_Micromètre\",AND('Choix de l''instrument '!$D$3>=Etalonnage_Micromètre!G109,G109<>\"\"),\"\")","v":""}]
["ETA-0181","Pige étalon","0,1600 mm",null,null,"Afficher",0,null,null,null,null,null,null,{"$f":"IF('Choix de l''instrument '!$C$3=\"Etalonnage_Micromètre\",AND('Choix de l''instrument '!$D$3>=Etalonnage_Micromètre!G110,G110<>\"\"),\"\")","v":""}]
["ETA-0186","Pige étalon","0,1651 mm",null,null,"Afficher",0,null,null,null,null,null,null,{"$f":"IF('Choix de l''instrument '!$C$3=\"Etalonnage_Micromètre\",AND('Choix de l''instrument '!$D$3>=Etalonnage_Micromètre!G111,G111<>\"\"),\"\")","v":""}]
["ETA-0185","Pige étalon","0,1626 mm",null,null,"Afficher",0,null,null,null,null,null,null,{"$f":"IF('Choix de l''instrument '!$C$3=\"Etalonnage_Micromètre\",AND('Choix de l''instrument '!$D$3>=Etalonnage_Micromètre!G112,G112<>\"\"),\"\")","v":""}]
["ETA-0184","Pige étalon","0,1600 mm",null,null,"Afficher",0,null,null,null,null,null,null,{"$f":"IF('Choix de l''instrument '!$C$3=\"Etalonnage_Micromètre\",AND('Choix de l''instrument '!$D$3>=Etalonnage_Micromètre!G113,G113<>\"\"),\"\")","v":""}]
["ETA-0180","Pige étalon","0,1575 mm",null,null,"Afficher",0,null,null,null,null,null,null,{"$f":"IF('Choix de l''instrument '!$C$3=\"Etalonnage_Micromètre\",AND('Choix de l''instrument '!$D$3>=Etalonnage_Micromètre!G114,G114<>\"\"),\"\")","v":""}]
["ETA-0176","Pige étalon","0,1473 mm",null,null,"Afficher",0,null,null,null,null,null,null,{"$f":"IF('Choix de l''instrument '!$C$3=\"Etalonnage_Micromètre\",AND('Choix de l''instrument '!$D$3>=Etalonnage_Micromètre!G115,G115<>\"\"),\"\")","v":""}]
["ETA-0175","Pige étalon","0,1448 mm",null,null,"Afficher",0,null,null,null,null,null,null,{"$f":"IF('Choix de l''instrument '!$C$3=\"Etalonnage_Micromètre\",AND('Choix de l''instrument '!$D$3>=Etalonnage_Micromètre!G116,G116<>\"\"),\"\")","v":""}]
["ETA-0174","Pige étalon","0,1422 mm",null,null,"Afficher",0,null,null,null,null,null,null,{"$f":"IF('Choix de l''instrument '!$C$3=\"Etalonnage_Micromètre\",AND('Choix de l''instrument '!$D$3>=Etalonnage_Micromètre!G117,G117<>\"\"),\"\")","v":""}]
["ETA-0179","Pige étalon","0,1549 mm",null,null,"Afficher",0,null,null,null,null,null,null,{"$f":"IF('Choix de l''instrument '!$C$3=\"Etalonnage_Micromètre\",AND('Choix de l''instrument '!$D$3>=Etalonnage_Micromètre!G118,G118<>\"\"),\"\")","v":""}]
["ETA-0178","Pige étalon","0,1524 mm",null,null,"Afficher",0,null,null,null,null,null,null,{"$f":"IF('Choix de l''instrument '!$C$3=\"Etalonnage_Micromètre\",AND('Choix de l''instrument '!$D$3>=Etalonnage_Micromètre!G119,G119<>\"\"),\"\")","v":""}]
["ETA-0177","Pige étalon","0,1499 mm",null,null,"Afficher",0,null,null,null,null,null,null,{"$f":"IF('Choix de l''instrument '!$C$3=\"Etalonnage_Micromètre\",AND('Choix de l''instrument '!$D$3>=Etalonnage_Micromètre!G120,G120<>\"\"),\"\")","v":""}]
["ETA-0187","Pige étalon","0,1676 mm",null,null,"Afficher",0,null,null,null,null,null,null,{"$f":"IF('Choix de l''instrument '!$C$3=\"Etalonnage_Micromètre\",AND('Choix de l''instrument '!$D$3>=Etalonnage_Micromètre!G121,G121<>\"\"),\"\")","v":""}]
["ETA-0197","Pige étalon","0,1930 mm",null,null,"Afficher",0,null,null,null,null,null,null,{"$f":"IF('Choix de l''instrument '!$C$3=\"Etalonnage_Micromètre\",AND('Choix de l''instrument '!$D$3>=Etalonnage_Micromètre!G122,G122<>\"\"),\"\")","v":""}]
["ETA-0196","Pige étalon","0,1905 mm",null,null,"Afficher",0,null,null,null,null,null,null,{"$f":"IF('Choix de l''instrument '!$C$3=\"Etalonnage_Micromètre\",AND('Choix de l''instrument '!$D$3>=Etalonnage_Micromètre!G123,G123<>\"\"),\"\")","v":""}]
["ETA-0195","Pige étalon","0,1880 mm",null,null,"Afficher",0,null,null,null,null,null,null,{"$f":"IF('Choix de l''instrument '!$C$3=\"Etalonnage_Micromètre\",AND('Choix de l''instrument '!$D$3>=Etalonnage_Micromètre!G124,G124<>\"\"),\"\")","v":""}]
["ETA-0200","Pige étalon","0,2007 mm",null,null,"Afficher",0,null,null,null,null,null,null,{"$f":"IF('Choix de l''instrument '!$C$3=\"Etalonnage_Micromètre\",AND('Choix de l''instrument '!$D$3>=Etalonnage_Micromètre!G125,G125<>\"\"),\"\")","v":""}]
["ETA-0199","Pige étalon","0,1981 mm",null,null,"Afficher",0,null,null,null,null,null,null,{"$f":"IF('Choix de l''instrument '!$C$3=\"Etalonnage_Micromètre\",AND('Choix de l''instrument '!$D$3>=Etalonnage_Micromètre!G126,G126<>\"\"),\"\")","v":""}]
["ETA-0198","Pige étalon","0,1956 mm",null,null,"Afficher",0,null,null,null,null,null,null,{"$f":"IF('Choix de l''instrument '!$C$3=\"Etalonnage_Micromètre\",AND('Choix de l''instrument '!$D$3>=Etalonnage_Micromètre!G127,G127<>\"\"),\"\")","v":""}]
["ETA-0194","Pige étalon","0,1854 mm",null,null,"Afficher",0,null,null,null,null,null,null,{"$f":"IF('Choix de l''instrument '!$C$3=\"Etalonnage_Micromètre\",AND('Choix de l''instrument '!$D$3>=Etalonnage_Micromètre!G128,G128<>\"\"),\"\")","v":""}]
["ETA-0190","Pige étalon","0,1753 mm",null,null,"Afficher",0,null,null,null,null,null,null,{"$f":"IF('Choix de l''instrument '!$C$3=\"Etalonnage_Micromètre\",AND('Choix de l''instrument '!$D$3>=Etalonnage_Micromètre!G129,G129<>\"\"),\"\")","v":""}]
["ETA-0189","Pige étalon","0,1727 mm",null,null,"Afficher",0,null,null,null,null,null,null,{"$f":"IF('Choix de l''instrument '!$C$3=\"Etalonnage_Micromètre\",AND('Choix de l''instrument '!$D$3>=Etalonnage_Micromètre!G130,G130<>\"\"),\"\")","v":""}]
["ETA-0188","Pige étalon","0,1702 mm",null,null,"Afficher",0,null,null,null,null,null,null,{"$f":"IF('Choix de l''instrument '!$C$3=\"Etalonnage_Micromètre\",AND('Choix de l''instrument '!$D$3>=Etalonnage_Micromètre!G131,G131<>\"\"),\"\")","v":""}]
["ETA-0193","Pige étalon","0,1829 mm",null,null,"Afficher",0,null,null,null,null,null,null,{"$f":"IF('Choix de l''instrument '!$C$3=\"Etalonnage_Micromètre\",AND('Choix de l''instrument '!$D$3>=Etalonnage_Micromètre!G132,G132<>\"\"),\"\")","v":""}]
["ETA-0192","Pige étalon","0,1803 mm",null,null,"Afficher",0,null,null,null,null,null,null,{"$f":"IF('Choix de l''instrument '!$C$3=\"Etalonnage_Micromètre\",AND('Choix de l''instrument '!$D$3>=Etalonnage_Micromètre!G133,G133<>\"\"),\"\")","v":""}]
["ETA-0191","Pige étalon","0,1778 mm",null,null,"Afficher",0,null,null,null,null,null,null,{"$f":"IF('Choix de l''instrument '!$C$3=\"Etalonnage_Micromètre\",AND('Choix de l''instrument '!$D$3>=Etalonnage_Micromètre!G134,G134<>\"\"),\"\")","v":""}]
["ETA-0269","Pige étalon","0,15 mm",null,null,"Afficher",0,null,null,null,null,null,null,{"$f":"IF('Choix de l''instrument '!$C$3=\"Etalonnage_Micromètre\",AND('Choix de l''instrument '!$D$3>=Etalonnage_Micromètre!G135,G135<>\"\"),\"\")","v":""}]
["ETA-0261","Pige étalon","1,95 mm",null,null,"Afficher",0,null,null,null,null,null,null,{"$f":"IF('Choix de l''instrument '!$C$3=\"Etalonnage_Micromètre\",AND('Choix de l''instrument '!$D$3>=Etalonnage_Micromètre!G136,G136<>\"\"),\"\")","v":""}]
["ETA-0260","Pige étalon","2,15 mm",null,null,"Afficher",0,null,null,null,null,null,null,{"$f":"IF('Choix de l''instrument '!$C$3=\"Etalonnage_Micromètre\",AND('Choix de l''instrument '!$D$3>=Etalonnage_Micromètre!G137,G137<>\"\"),\"\")","v":""}]
["ETA-0242","Pige étalon","13 mm",null,null,"Afficher",0,null,null,null,null,null,null,{"$f":"IF('Choix de l''instrument '!$C$3=\"Etalonnage_Micromètre\",AND('Choix de l''instrument '!$D$3>=Etalonnage_Micromètre!G138,G138<>\"\"),\"\")","v":""}]
["ETA-0250","Pige étalon","0,5 mm",null,null,"Afficher",0,null,null,null,null,null,null,{"$f":"IF('Choix de l''instrument '!$C$3=\"Etalonnage_Micromètre\",AND('Choix de l''instrument '!$D$3>=Etalonnage_Micromètre!G139,G139<>\"\"),\"\")","v":""}]
["ETA-0245","Pige étalon","0,15 mm",null,null,"Afficher",0,null,null,null,null,null,null,{"$f":"IF('Choix de l''instrument '!$C$3=\"Etalonnage_Micromètre\",AND('Choix de l''instrument '!$D$3>=Etalonnage_Micromètre!G140,G140<>\"\"),\"\")","v":""}]
["ETA-0244","Pige étalon","5 mm",null,null,"Afficher",0,null,null,null,null,null,null,{"$f":"IF('Choix de l''instrument '!$C$3=\"Etalonnage_Micromètre\",AND('Choix de l''instrument '!$D$3>=Etalonnage_Micromètre!G141,G141<>\"\"),\"\")","v":""}]
["ETA-0243","Pige étalon","8 mm",null,null,"Afficher",0,null,null,null,null,null,null,{"$f":"IF('Choix de l''instrument '!$C$3=\"Etalonnage_Micromètre\",AND('Choix de l''instrument '!$D$3>=Etalonnage_Micromètre!G142,G142<>\"\"),\"\")","v":""}]
["ETA-0249","Pige étalon","0,5 mm",null,null,"Afficher",0,null,null,null,null,null,null,{"$f":"IF('Choix de l''instrument '!$C$3=\"Etalonnage_Micromètre\",AND('Choix de l''instrument '!$D$3>=Etalonnage_Micromètre!G143,G143<>\"\"),\"\")","v":""}]
["ETA-0248","Pige étalon","0,20 mm",null,null,"Afficher",0,null,null,null,null,null,null,{"$f":"IF('Choix de l''instrument '!$C$3=\"Etalonnage_Micromètre\",AND('Choix de l''instrument '!$D$3>=Etalonnage_Micromètre!G144,G144<>\"\"),\"\")","v":""}]
["ETA-0246","Pige étalon","0,15 mm",null,null,"Afficher",0,null,null,null,null,null,null,{"$f":"IF('Choix de l''instrument '!$C$3=\"Etalonnage_Micromètre\",AND('Choix de l''instrument '!$D$3>=Etalonnage_Micromètre!G145,G145<>\"\"),\"\")","v":""}]
["ETA-0507","Pige étalon","0,15 mm",null,null,"Afficher",0,null,null,null,null,null,null,{"$f":"IF('Choix de l''instrument '!$C$3=\"Etalonnage_Micromètre\",AND('Choix de l''instrument '!$D$3>=Etalonnage_Micromètre!G146,G146<>\"\"),\"\")","v":""}]
["ETA-0509","Pige étalon","0,15 mm",null,null,"Afficher",0,null,null,null,null,null,null,{"$f":"IF('Choix de l''instrument '!$C$3=\"Etalonnage_Micromètre\",AND('Choix de l''instrument '!$D$3>=Etalonnage_Micromètre!G147,G147<>\"\"),\"\")","v":""}]
["ETA-0508","Pige étalon","0,15 mm",null,null,"Afficher",0,null,null,null,null,null,null,{"$f":"IF('Choix de l''instrument '!$C$3=\"Etalonnage_Micromètre\",AND('Choix de l''instrument '!$D$3>=Etalonnage_Micromètre!G148,G148<>\"\"),\"\")","v":""}]
["GAB-0002","Pige étalon",null,null,null,"Afficher",0,null,null,null,null,null,null,{"$f":"IF('Choix de l''instrument '!$C$3=\"Etalonnage_Micromètre\",AND('Choix de l''instrument '!$D$3>=Etalonnage_Micromètre!G149,G149<>\"\"),\"\")","v":""}]
["GAB-0001","Pige étalon",null,null,null,"Afficher",0,null,null,null,null,null,null,{"$f":"IF('Choix de l''instrument '!$C$3=\"Etalonnage_Micromètre\",AND('Choix de l''instrument '!$D$3>=Etalonnage_Micromètre!G150,G150<>\"\"),\"\")","v":""}]
["GAB-0005","Pige étalon",null,null,null,"Afficher",0,null,null,null,null,null,null,{"$f":"IF('Choix de l''instrument '!$C$3=\"Etalonnage_Micromètre\",AND('Choix de l''instrument '!$D$3>=Etalonnage_Micromètre!G151,G151<>\"\"),\"\")","v":""}]
["GAB-0004","Pige étalon",null,null,null,"Afficher",0,null,null,null,null,null,null,{"$f":"IF('Choix de l''instrument '!$C$3=\"Etalonnage_Micromètre\",AND('Choix de l''instrument '!$D$3>=Etalonnage_Micromètre!G152,G152<>\"\"),\"\")","v":""}]
["GAB-0003","Pige étalon",null,null,null,"Afficher",0,null,null,null,null,null,null,{"$f":"IF('Choix de l''instrument '!$C$3=\"Etalonnage_Micromètre\",AND('Choix de l''instrument '!$D$3>=Etalonnage_Micromètre!G153,G153<>\"\"),\"\")","v":""}]
["GAB-0006","Pige étalon",null,null,null,"Afficher",0,null,null,null,null,null,null,{"$f":"IF('Choix de l''instrument '!$C$3=\"Etalonnage_Micromètre\",AND('Choix de l''instrument '!$D$3>=Etalonnage_Micromètre!G154,G154<>\"\"),\"\")","v":""}]
["ETA-0422","Pige étalon","16 mm",null,null,"Afficher",0,null,null,null,null,null,null,{"$f":"IF('Choix de l''instrument '!$C$3=\"Etalonnage_Micromètre\",AND('Choix de l''instrument '!$D$3>=Etalonnage_Micromètre!G155,G155<>\"\"),\"\")","v":""}]
["ETA-0404","Pige étalon","4,40 mm",null,null,"Afficher",0,null,null,null,null,null,null,{"$f":"IF('Choix de l''instrument '!$C$3=\"Etalonnage_Micromètre\",AND('Choix de l''instrument '!$D$3>=Etalonnage_Micromètre!G156,G156<>\"\"),\"\")","v":""}]
["ETA-0407","Pige étalon","3,50 mm",null,null,"Afficher",0,null,null,null,null,null,null,{"$f":"IF('Choix de l''instrument '!$C$3=\"Etalonnage_Micromètre\",AND('Choix de l''instrument '!$D$3>=Etalonnage_Micromètre!G157,G157<>\"\"),\"\")","v":""}]
["ETA-0406","Pige étalon","3,50 mm",null,null,"Afficher",0,null,null,null,null,null,null,{"$f":"IF('Choix de l''instrument '!$C$3=\"Etalonnage_Micromètre\",AND('Choix de l''instrument '!$D$3>=Etalonnage_Micromètre!G158,G158<>\"\"),\"\")","v":""}]
["ETA-0405","Pige étalon","4,60 mm",null,null,"Afficher",0,null,null,null,null,null,null,{"$f":"IF('Choix de l''instrument '!$C$3=\"Etalonnage_Micromètre\",AND('Choix de l''instrument '!$D$3>=Etalonnage_Micromètre!G159,G159<>\"\"),\"\")","v":""}]
["ETA-0401","Pige étalon","30,0000 mm",null,null,"Afficher",0,null,null,null,null,null,null,{"$f":"IF('Choix de l''instrument '!$C$3=\"Etalonnage_Micromètre\",AND('Choix de l''instrument '!$D$3>=Etalonnage_Micromètre!G160,G160<>\"\"),\"\")","v":""}]
["ETA-0397","Pige étalon","10,000 mm",null,null,"Afficher",0,null,null,null,null,null,null,{"$f":"IF('Choix de l''instrument '!$C$3=\"Etalonnage_Micromètre\",AND('Choix de l''instrument '!$D$3>=Etalonnage_Micromètre!G161,G161<>\"\"),\"\")","v":""}]
["ETA-0396","Pige étalon","8,500 mm",null,null,"Afficher",0,null,null,null,null,null,null,{"$f":"IF('Choix de l''instrument '!$C$3=\"Etalonnage_Micromètre\",AND('Choix de l''instrument '!$D$3>=Etalonnage_Micromètre!G162,G162<>\"\"),\"\")","v":""}]
["ETA-0395","Pige étalon","8,500 mm",null,null,"Afficher",0,null,null,null,null,null,null,{"$f":"IF('Choix de l''instrument '!$C$3=\"Etalonnage_Micromètre\",AND('Choix de l''instrument '!$D$3>=Etalonnage_Micromètre!G163,G163<>\"\"),\"\")","v":""}]
["ETA-0400","Pige étalon","25,0000 mm",null,null,"Afficher",0,null,null,null,null,null,null,{"$f":"IF('Choix de l''instrument '!$C$3=\"Etalonnage_Micromètre\",AND('Choix de l''instrument '!$D$3>=Etalonnage_Micromètre!G164,G164<>\"\"),\"\")","v":""}]
["ETA-0398","Pige étalon","10,000 mm",null,null,"Afficher",0,null,null,null,null,null,null,{"$f":"IF('Choix de l''instrument '!$C$3=\"Etalonnage_Micromètre\",AND('Choix de l''instrument '!$D$3>=Etalonnage_Micromètre!G165,G165<>\"\"),\"\")","v":""}]
["ETA-0408","Pige étalon","7 mm",null,null,"Afficher",0,null,null,null,null,null,null,{"$f":"IF('Choix de l''instrument '!$C$3=\"Etalonnage_Micromètre\",AND('Choix de l''instrument '!$D$3>=Etalonnage_Micromètre!G166,G166<>\"\"),\"\")","v":""}]
["ETA-0417","Pige étalon","ø 0,700",null,null,"Afficher",0,null,null,null,null,null,null,{"$f":"IF('Choix de l''instrument '!$C$3=\"Etalonnage_Micromètre\",AND('Choix de l''instrument '!$D$3>=Etalonnage_Micromètre!G167,G167<>\"\"),\"\")","v":""}]
["ETA-0416","Pige étalon","ø 0,650",null,null,"Afficher",0,null,null,null,null,null,null,{"$f":"IF('Choix de l''instrument '!$C$3=\"Etalonnage_Micromètre\",AND('Choix de l''instrument '!$D$3>=Etalonnage_Micromètre!G168,G168<>\"\"),\"\")","v":""}]
["ETA-0421","Pige étalon","13 mm",null,null,"Afficher",0,null,null,null,null,null,null,{"$f":"IF('Choix de l''instrument '!$C$3=\"Etalonnage_Micromètre\",AND('Choix de l''instrument '!$D$3>=Etalonnage_Micromètre!G169,G169<>\"\"),\"\")","v":""}]
["ETA-0415","Pige étalon","ø 0,600",null,null,"Afficher",0,null,null,null,null,null,null,{"$f":"IF('Choix de l''instrument '!$C$3=\"Etalonnage_Micromètre\",AND('Choix de l''instrument '!$D$3>=Etalonnage_Micromètre!G170,G170<>\"\"),\"\")","v":""}]
["ETA-0411","Pige étalon","9 mm",null,null,"Afficher",0,null,null,null,null,null,null,{"$f":"IF('Choix de l''instrument '!$C$3=\"Etalonnage_Micromètre\",AND('Choix de l''instrument '!$D$3>=Etalonnage_Micromètre!G171,G171<>\"\"),\"\")","v":""}]
["ETA-0410","Pige étalon","9 mm",null,null,"Afficher",0,null,null,null,null,null,null,{"$f":"IF('Choix de l''instrument '!$C$3=\"Etalonnage_Micromètre\",AND('Choix de l''instrument '!$D$3>=Etalonnage_Micromètre!G172,G172<>\"\"),\"\")","v":""}]
["ETA-0409","Pige étalon","7 mm",null,null,"Afficher",0,null,null,null,null,null,null,{"$f":"IF('Choix de l''instrument '!$C$3=\"Etalonnage_Micromètre\",AND('Choix de l''instrument '!$D$3>=Etalonnage_Micromètre!G173,G173<>\"\"),\"\")","v":""}]
["ETA-0414","Pige étalon","ø 0,550",null,null,"Afficher",0,null,null,null,null,null,null,{"$f":"IF('Choix de l''instrument '!$C$3=\"Etalonnage_Micromètre\",AND('Choix de l''instrument '!$D$3>=Etalonnage_Micromètre!G174,G174<>\"\"),\"\")","v":""}]
["ETA-0413","Pige étalon","9,5 mm",null,null,"Afficher",0,null,null,null,null,null,null,{"$f":"IF('Choix de l''instrument '!$C$3=\"Etalonnage_Micromètre\",AND('Choix de l''instrument '!$D$3>=Etalonnage_Micromètre!G175,G175<>\"\"),\"\")","v":""}]
["ETA-0412","Pige étalon","9,5 mm",null,null,"Afficher",0,null,null,null,null,null,null,{"$f":"IF('Choix de l''instrument '!$C$3=\"Etalonnage_Micromètre\",AND('Choix de l''instrument '!$D$3>=Etalonnage_Micromètre!G176,G176<>\"\"),\"\")","v":""}]
["ETA-0486","Pige étalon","1.70 mm",null,null,"Afficher",0,null,null,null,null,null,null,{"$f":"IF('Choix de l''instrument '!$C$3=\"Etalonnage_Micromètre\",AND('Choix de l''instrument '!$D$3>=Etalonnage_Micromètre!G177,G177<>\"\"),\"\")","v":""}]
["ETA-0485","Pige étalon","1.20 mm",null,null,"Afficher",0,null,null,null,null,null,null,{"$f":"IF('Choix de l''instrument '!$C$3=\"Etalonnage_Micromètre\",AND('Choix de l''instrument '!$D$3>=Etalonnage_Micromètre!G178,G178<>\"\"),\"\")","v":""}]
["ETA-0484","Pige étalon","0.90 mm",null,null,"Afficher",0,null,null,null,null,null,null,{"$f":"IF('Choix de l''instrument '!$C$3=\"Etalonnage_Micromètre\",AND('Choix de l''instrument '!$D$3>=Etalonnage_Micromètre!G179,G179<>\"\"),\"\")","v":""}]
["ETA-0487","Pige étalon","2,900 mm",null,null,"Afficher",0,null,null,null,null,null,null,{"$f":"IF('Choix de l''instrument '!$C$3=\"Etalonnage_Micromètre\",AND('Choix de l''instrument '!$D$3>=Etalonnage_Micromètre!G180,G180<>\"\"),\"\")","v":""}]
["ETA-0483","Pige étalon","0.60 mm",null,null,"Afficher",0,null,null,null,null,null,null,{"$f":"IF('Choix de l''instrument '!$C$3=\"Etalonnage_Micromètre\",AND('Choix de l''instrument '!$D$3>=Etalonnage_Micromètre!G181,G181<>\"\"),\"\")","v":""}]
["ETA-0482","Pige étalon","/",null,null,"Afficher",0,null,null,null,null,null,null,{"$f":"IF('Choix de l''instrument '!$C$3=\"Etalonnage_Micromètre\",AND('Choix de l''instrument '!$D$3>=Etalonnage_Micromètre!G182,G182<>\"\"),\"\")","v":""}]
["ETA-0500","Pige étalon","1 mm",null,null,"Afficher",0,null,null,null,null,null,null,{"$f":"IF('Choix de l''instrument '!$C$3=\"Etalonnage_Micromètre\",AND('Choix de l''instrument '!$D$3>=Etalonnage_Micromètre!G183,G183<>\"\"),\"\")","v":""}]
["ETA-0499","Pige étalon","14 mm",null,null,"Afficher",0,null,null,null,null,null,null,{"$f":"IF('Choix de l''instrument '!$C$3=\"Etalonnage_Micromètre\",AND('Choix de l''instrument '!$D$3>=Etalonnage_Micromètre!G184,G184<>\"\"),\"\")","v":""}]
["ETA-0498","Pige étalon","8 mm",null,null,"Afficher",0,null,null,null,null,null,null,{"$f":"IF('Choix de l''instrument '!$C$3=\"Etalonnage_Micromètre\",AND('Choix de l''instrument '!$D$3>=Etalonnage_Micromètre!G185,G185<>\"\"),\"\")","v":""}]
["ETA-0503","Pige étalon","0,15 mm",null,null,"Afficher",0,null,null,null,null,null,null,{"$f":"IF('Choix de l''instrument '!$C$3=\"Etalonnage_Micromètre\",AND('Choix de l''instrument '!$D$3>=Etalonnage_Micromètre!G186,G186<>\"\"),\"\")","v":""}]
["ETA-0502","Pige étalon","14 mm",null,null,"Afficher",0,null,null,null,null,null,null,{"$f":"IF('Choix de l''instrument '!$C$3=\"Etalonnage_Micromètre\",AND('Choix de l''instrument '!$D$3>=Etalonnage_Micromètre!G187,G187<>\"\"),\"\")","v":""}]
["ETA-0501","Pige étalon","8 mm",null,null,"Afficher",0,null,null,null,null,null,null,{"$f":"IF('Choix de l''instrument '!$C$3=\"Etalonnage_Micromètre\",AND('Choix de l''instrument '!$D$3>=Etalonnage_Micromètre!G188,G188<>\"\"),\"\")","v":""}]
["ETA-0497","Pige étalon","1 mm",null,null,"Afficher",0,null,null,null,null,null,null,{"$f":"IF('Choix de l''instrument '!$C$3=\"Etalonnage_Micromètre\",AND('Choix de l''instrument '!$D$3>=Etalonnage_Micromètre!G189,G189<>\"\"),\"\")","v":""}]
["ETA-0463","Pige étalon","0,15 mm",null,null,"Afficher",0,null,null,null,null,null,null,{"$f":"IF('Choix de l''instrument '!$C$3=\"Etalonnage_Micromètre\",AND('Choix de l''instrument '!$D$3>=Etalonnage_Micromètre!G190,G190<>\"\"),\"\")","v":""}]
["ETA-0473","Pige étalon","0,2498 mm",null,null,"Afficher",0,null,null,null,null,null,null,{"$f":"IF('Choix de l''instrument '!$C$3=\"Etalonnage_Micromètre\",AND('Choix de l''instrument '!$D$3>=Etalonnage_Micromètre!G191,G191<>\"\"),\"\")","v":""}]
["ETA-0466","Pige étalon","0,15 mm",null,null,"Afficher",0,null,null,null,null,null,null,{"$f":"IF('Choix de l''instrument '!$C$3=\"Etalonnage_Micromètre\",AND('Choix de l''instrument '!$D$3>=Etalonnage_Micromètre!G192,G192<>\"\"),\"\")","v":""}]
["ETA-0465","Pige étalon","0,15 mm",null,null,"Afficher",0,null,null,null,null,null,null,{"$f":"IF('Choix de l''instrument '!$C$3=\"Etalonnage_Micromètre\",AND('Choix de l''instrument '!$D$3>=Etalonnage_Micromètre!G193,G193<>\"\"),\"\")","v":""}]
["ETA-0464","Pige étalon","0,15 mm",null,null,"Afficher",0,null,null,null,null,null,null,{"$f":"IF('Choix de l''instrument '!$C$3=\"Etalonnage_Micromètre\",AND('Choix de l''instrument '!$D$3>=Etalonnage_Micromètre!G194,G194<>\"\"),\"\")","v":""}]
["PET-001","Pige étalon","2 mm",null,null,"Afficher",0,null,null,null,null,null,null,{"$f":"IF('Choix de l''instrument '!$C$3=\"Etalonnage_Micromètre\",AND('Choix de l''instrument '!$D$3>=Etalonnage_Micromètre!G195,G195<>\"\"),\"\")","v":""}]
["PET.019","Pige étalon","55,5 mm",null,null,"Afficher",0,null,null,null,null,null,null,{"$f":"IF('Choix de l''instrument '!$C$3=\"Etalonnage_Micromètre\",AND('Choix de l''instrument '!$D$3>=Etalonnage_Micromètre!G196,G196<>\"\"),\"\")","v":""}]
["PET-004","Pige étalon","2 mm",null,null,"Afficher",0,null,null,null,null,null,null,{"$f":"IF('Choix de l''instrument '!$C$3=\"Etalonnage_Micromètre\",AND('Choix de l''instrument '!$D$3>=Etalonnage_Micromètre!G197,G197<>\"\"),\"\")","v":""}]
["PET-003","Pige étalon","6 mm",null,null,"Afficher",0,null,null,null,null,null,null,{"$f":"IF('Choix de l''instrument '!$C$3=\"Etalonnage_Micromètre\",AND('Choix de l''instrument '!$D$3>=Etalonnage_Micromètre!G198,G198<>\"\"),\"\")","v":""}]
["PET-002","Pige étalon","6,00",null,null,"Afficher",0,null,null,null,null,null,null,{"$f":"IF('Choix de l''instrument '!$C$3=\"Etalonnage_Micromètre\",AND('Choix de l''instrument '!$D$3>=Etalonnage_Micromètre!G199,G199<>\"\"),\"\")","v":""}]
["PET-005","Pige étalon","6,35 mm",null,null,"Afficher",0,null,null,null,null,null,null,{"$f":"IF('Choix de l''instrument '!$C$3=\"Etalonnage_Micromètre\",AND('Choix de l''instrument '!$D$3>=Etalonnage_Micromètre!G200,G200<>\"\"),\"\")","v":""}]
["PET-154","Pige étalon","0,660 mm",null,null,"Afficher",0,null,null,null,null,null,null,{"$f":"IF('Choix de l''instrument '!$C$3=\"Etalonnage_Micromètre\",AND('Choix de l''instrument '!$D$3>=Etalonnage_Micromètre!G201,G201<>\"\"),\"\")","v":""}]
["PET-153","Pige étalon","0,65 mm",null,null,"Afficher",0,null,null,null,null,null,null,{"$f":"IF('Choix de l''instrument '!$C$3=\"Etalonnage_Micromètre\",AND('Choix de l''instrument '!$D$3>=Etalonnage_Micromètre!G202,G202<>\"\"),\"\")","v":""}]
["PET-122","Pige étalon","0,2 mm",null,null,"Afficher",0,null,null,null,null,null,null,{"$f":"IF('Choix de l''instrument '!$C$3=\"Etalonnage_Micromètre\",AND('Choix de l''instrument '!$D$3>=Etalonnage_Micromètre!G203,G203<>\"\"),\"\")","v":""}]
["PET-178","Pige étalon","2 mm",null,null,"Afficher",0,null,null,null,null,null,null,{"$f":"IF('Choix de l''instrument '!$C$3=\"Etalonnage_Micromètre\",AND('Choix de l''instrument '!$D$3>=Etalonnage_Micromètre!G204,G204<>\"\"),\"\")","v":""}]
["PET-177","Pige étalon","2 mm",null,null,"Afficher",0,null,null,null,null,null,null,{"$f":"IF('Choix de l''instrument '!$C$3=\"Etalonnage_Micromètre\",AND('Choix de l''instrument '!$D$3>=Etalonnage_Micromètre!G205,G205<>\"\"),\"\")","v":""}]
["PET-155","Pige étalon","1,300 mm",null,null,"Afficher",0,null,null,null,null,null,null,{"$f":"IF('Choix de l''instrument '!$C$3=\"Etalonnage_Micromètre\",AND('Choix de l''instrument '!$D$3>=Etalonnage_Micromètre!G206,G206<>\"\"),\"\")","v":""}]
["PET-018","Pige étalon","6 mm",null,null,"Afficher",0,null,null,null,null,null,null,{"$f":"IF('Choix de l''instrument '!$C$3=\"Etalonnage_Micromètre\",AND('Choix de l''instrument '!$D$3>=Etalonnage_Micromètre!G207,G207<>\"\"),\"\")","v":""}]
["PET-008","Pige étalon","6 mm",null,null,"Afficher",0,null,null,null,null,null,null,{"$f":"IF('Choix de l''instrument '!$C$3=\"Etalonnage_Micromètre\",AND('Choix de l''instrument '!$D$3>=Etalonnage_Micromètre!G208,G208<>\"\"),\"\")","v":""}]
["PET-007","Pige étalon","2 mm",null,null,"Afficher",0,null,null,null,null,null,null,{"$f":"IF('Choix de l''instrument '!$C$3=\"Etalonnage_Micromètre\",AND('Choix de l''instrument '!$D$3>=Etalonnage_Micromètre!G209,G209<>\"\"),\"\")","v":""}]
["PET-006","Pige étalon",null,null,null,"Afficher",0,null,null,null,null,null,null,{"$f":"IF('Choix de l''instrument '!$C$3=\"Etalonnage_Micromètre\",AND('Choix de l''instrument '!$D$3>=Etalonnage_Micromètre!G210,G210<>\"\"),\"\")","v":""}]
["PET-017","Pige étalon","6 mm",null,null,"Afficher",0,null,null,null,null,null,null,{"$f":"IF('Choix de l''instrument '!$C$3=\"Etalonnage_Micromètre\",AND('Choix de l''instrument '!$D$3>=Etalonnage_Micromètre!G211,G211<>\"\"),\"\")","v":""}]
["PET-016","Pige étalon","6 mm",null,null,"Afficher",0,null,null,null,null,null,null,{"$f":"IF('Choix de l''instrument '!$C$3=\"Etalonnage_Micromètre\",AND('Choix de l''instrument '!$D$3>=Etalonnage_Micromètre!G212,G212<>\"\"),\"\")","v":""}]
["PET-015","Pige étalon","2 mm",null,null,"Afficher",0,null,null,null,null,null,null,{"$f":"IF('Choix de l''instrument '!$C$3=\"Etalonnage_Micromètre\",AND('Choix de l''instrument '!$D$3>=Etalonnage_Micromètre!G213,G213<>\"\"),\"\")","v":""}]
["CAL-0481","Pige étalon","41 mm",null,null,"Afficher",0,null,null,null,null,null,null,{"$f":"IF('Choix de l''instrument '!$C$3=\"Etalonnage_Micromètre\",AND('Choix de l''instrument '!$D$3>=Etalonnage_Micromètre!G214,G214<>\"\"),\"\")","v":""}]
["CAL-0480","Pige étalon","35 mm",null,null,"Afficher",0,null,null,null,null,null,null,{"$f":"IF('Choix de l''instrument '!$C$3=\"Etalonnage_Micromètre\",AND('Choix de l''instrument '!$D$3>=Etalonnage_Micromètre!G215,G215<>\"\"),\"\")","v":""}]
["CAL-0473","Pige étalon",2.06,null,null,"Afficher",0,null,null,null,null,null,null,{"$f":"IF('Choix de l''instrument '!$C$3=\"Etalonnage_Micromètre\",AND('Choix de l''instrument '!$D$3>=Etalonnage_Micromètre!G216,G216<>\"\"),\"\")","v":""}]
["CAL-0472","Pige étalon",2.0299999999999998,null,null,"Afficher",0,null,null,null,null,null,null,{"$f":"IF('Choix de l''instrument '!$C$3=\"Etalonnage_Micromètre\",AND('Choix de l''instrument '!$D$3>=Etalonnage_Micromètre!G217,G217<>\"\"),\"\")","v":""}]
["CE.005A","Pige étalon","2 mm",null,null,"Afficher",0,null,null,null,null,null,null,{"$f":"IF('Choix de l''instrument '!$C$3=\"Etalonnage_Micromètre\",AND('Choix de l''instrument '!$D$3>=Etalonnage_Micromètre!G218,G218<>\"\"),\"\")","v":""}]
["CE.005","Pige étalon","6 mm",null,null,"Afficher",0,null,null,null,null,null,null,{"$f":"IF('Choix de l''instrument '!$C$3=\"Etalonnage_Micromètre\",AND('Choix de l''instrument '!$D$3>=Etalonnage_Micromètre!G219,G219<>\"\"),\"\")","v":""}]
["CE.011","Pige étalon","2 mm",null,null,"Afficher",0,null,null,null,null,null,null,{"$f":"IF('Choix de l''instrument '!$C$3=\"Etalonnage_Micromètre\",AND('Choix de l''instrument '!$D$3>=Etalonnage_Micromètre!G220,G220<>\"\"),\"\")","v":""}]
["CE.011A","Pige étalon","6 mm",null,null,"Afficher",0,null,null,null,null,null,null,{"$f":"IF('Choix de l''instrument '!$C$3=\"Etalonnage_Micromètre\",AND('Choix de l''instrument '!$D$3>=Etalonnage_Micromètre!G221,G221<>\"\"),\"\")","v":""}]
["CE.256","Pige étalon","0,2 mm",null,null,"Afficher",0,null,null,null,null,null,null,{"$f":"IF('Choix de l''instrument '!$C$3=\"Etalonnage_Micromètre\",AND('Choix de l''instrument '!$D$3>=Etalonnage_Micromètre!G222,G222<>\"\"),\"\")","v":""}]
["CE.172","Pige étalon","1,80",null,null,"Afficher",0,null,null,null,null,null,null,{"$f":"IF('Choix de l''instrument '!$C$3=\"Etalonnage_Micromètre\",AND('Choix de l''instrument '!$D$3>=Etalonnage_Micromètre!G223,G223<>\"\"),\"\")","v":""}]
["CAL-0072","Pige étalon","5 mm",null,null,"Afficher",0,null,null,null,null,null,null,{"$f":"IF('Choix de l''instrument '!$C$3=\"Etalonnage_Micromètre\",AND('Choix de l''instrument '!$D$3>=Etalonnage_Micromètre!G224,G224<>\"\"),\"\")","v":""}]
["CAL-0061","Pige étalon","0,345",null,null,"Afficher",0,null,null,null,null,null,null,{"$f":"IF('Choix de l''instrument '!$C$3=\"Etalonnage_Micromètre\",AND('Choix de l''instrument '!$D$3>=Etalonnage_Micromètre!G225,G225<>\"\"),\"\")","v":""}]
["ETA-0101","Pige étalon","0,6505 mm",null,null,"Afficher",0,null,null,null,null,null,null,{"$f":"IF('Choix de l''instrument '!$C$3=\"Etalonnage_Micromètre\",AND('Choix de l''instrument '!$D$3>=Etalonnage_Micromètre!G226,G226<>\"\"),\"\")","v":""}]
["ETA-0100","Pige étalon","0,6505 mm",null,null,"Afficher",0,null,null,null,null,null,null,{"$f":"IF('Choix de l''instrument '!$C$3=\"Etalonnage_Micromètre\",AND('Choix de l''instrument '!$D$3>=Etalonnage_Micromètre!G227,G227<>\"\"),\"\")","v":""}]
["ETA-0094","Pige étalon","0,500 mm",null,null,"Afficher",0,null,null,null,null,null,null,{"$f":"IF('Choix de l''instrument '!$C$3=\"Etalonnage_Micromètre\",AND('Choix de l''instrument '!$D$3>=Etalonnage_Micromètre!G228,G228<>\"\"),\"\")","v":""}]
["ETA-0093","Pige étalon","0,500 mm",null,null,"Afficher",0,null,null,null,null,null,null,{"$f":"IF('Choix de l''instrument '!$C$3=\"Etalonnage_Micromètre\",AND('Choix de l''instrument '!$D$3>=Etalonnage_Micromètre!G229,G229<>\"\"),\"\")","v":""}]
["ETA-0092","Pige étalon","0,500 mm",null,null,"Afficher",0,null,null,null,null,null,null,{"$f":"IF('Choix de l''instrument '!$C$3=\"Etalonnage_Micromètre\",AND('Choix de l''instrument '!$D$3>=Etalonnage_Micromètre!G230,G230<>\"\"),\"\")","v":""}]
["ETA-0095","Pige étalon","2,001 mm",null,null,"Afficher",0,null,null,null,null,null,null,{"$f":"IF('Choix de l''instrument '!$C$3=\"Etalonnage_Micromètre\",AND('Choix de l''instrument '!$D$3>=Etalonnage_Micromètre!G231,G231<>\"\"),\"\")","v":""}]
["ETA-0115","Pige étalon","25 mm",null,null,"Afficher",0,null,null,null,null,null,null,{"$f":"IF('Choix de l''instrument '!$C$3=\"Etalonnage_Micromètre\",AND('Choix de l''instrument '!$D$3>=Etalonnage_Micromètre!G232,G232<>\"\"),\"\")","v":""}]
["ETA-0114","Pige étalon","30 mm",null,null,"Afficher",0,null,null,null,null,null,null,{"$f":"IF('Choix de l''instrument '!$C$3=\"Etalonnage_Micromètre\",AND('Choix de l''instrument '!$D$3>=Etalonnage_Micromètre!G233,G233<>\"\"),\"\")","v":""}]
["ETA-0113","Pige étalon","2 mm",null,null,"Afficher",0,null,null,null,null,null,null,{"$f":"IF('Choix de l''instrument '!$C$3=\"Etalonnage_Micromètre\",AND('Choix de l''instrument '!$D$3>=Etalonnage_Micromètre!G234,G234<>\"\"),\"\")","v":""}]
["ETA-0118","Pige étalon","19 mm",null,null,"Afficher",0,null,null,null,null,null,null,{"$f":"IF('Choix de l''instrument '!$C$3=\"Etalonnage_Micromètre\",AND('Choix de l''instrument '!$D$3>=Etalonnage_Micromètre!G235,G235<>\"\"),\"\")","v":""}]
["ETA-0117","Pige étalon","30 mm",null,null,"Afficher",0,null,null,null,null,null,null,{"$f":"IF('Choix de l''instrument '!$C$3=\"Etalonnage_Micromètre\",AND('Choix de l''instrument '!$D$3>=Etalonnage_Micromètre!G236,G236<>\"\"),\"\")","v":""}]
["ETA-0116","Pige étalon","25 mm",null,null,"Afficher",0,null,null,null,null,null,null,{"$f":"IF('Choix de l''instrument '!$C$3=\"Etalonnage_Micromètre\",AND('Choix de l''instrument '!$D$3>=Etalonnage_Micromètre!G237,G237<>\"\"),\"\")","v":""}]
["ETA-0112","Pige étalon","2 mm",null,null,"Afficher",0,null,null,null,null,null,null,{"$f":"IF('Choix de l''instrument '!$C$3=\"Etalonnage_Micromètre\",AND('Choix de l''instrument '!$D$3>=Etalonnage_Micromètre!G238,G238<>\"\"),\"\")","v":""}]
["ETA-0111","Pige étalon","2 mm",null,null,"Afficher",0,null,null,null,null,null,null,{"$f":"IF('Choix de l''instrument '!$C$3=\"Etalonnage_Micromètre\",AND('Choix de l''instrument '!$D$3>=Etalonnage_Micromètre!G239,G239<>\"\"),\"\")","v":""}]
["ETA-0110","Pige étalon","0,300 mm",null,null,"Afficher",0,null,null,null,null,null,null,{"$f":"IF('Choix de l''instrument '!$C$3=\"Etalonnage_Micromètre\",AND('Choix de l''instrument '!$D$3>=Etalonnage_Micromètre!G240,G240<>\"\"),\"\")","v":""}]
["ETA-0109","Pige étalon","7 mm",null,null,"Afficher",0,null,null,null,null,null,null,{"$f":"IF('Choix de l''instrument '!$C$3=\"Etalonnage_Micromètre\",AND('Choix de l''instrument '!$D$3>=Etalonnage_Micromètre!G241,G241<>\"\"),\"\")","v":""}]
["ETA-0119","Pige étalon","19 mm",null,null,"Afficher",0,null,null,null,null,null,null,{"$f":"IF('Choix de l''instrument '!$C$3=\"Etalonnage_Micromètre\",AND('Choix de l''instrument '!$D$3>=Etalonnage_Micromètre!G242,G242<>\"\"),\"\")","v":""}]
["ETA-0156","Pige étalon","0,250 mm",null,null,"Afficher",0,null,null,null,null,null,null,{"$f":"IF('Choix de l''instrument '!$C$3=\"Etalonnage_Micromètre\",AND('Choix de l''instrument '!$D$3>=Etalonnage_Micromètre!G243,G243<>\"\"),\"\")","v":""}]
["ETA-0155","Pige étalon","0,250 mm",null,null,"Afficher",0,null,null,null,null,null,null,{"$f":"IF('Choix de l''instrument '!$C$3=\"Etalonnage_Micromètre\",AND('Choix de l''instrument '!$D$3>=Etalonnage_Micromètre!G244,G244<>\"\"),\"\")","v":""}]
["ETA-0154","Pige étalon","0,250 mm",null,null,"Afficher",0,null,null,null,null,null,null,{"$f":"IF('Choix de l''instrument '!$C$3=\"Etalonnage_Micromètre\",AND('Choix de l''instrument '!$D$3>=Etalonnage_Micromètre!G245,G245<>\"\"),\"\")","v":""}]
["ETA-0159","Pige étalon","0,1041 mm",null,null,"Afficher",0,null,null,null,null,null,null,{"$f":"IF('Choix de l''instrument '!$C$3=\"Etalonnage_Micromètre\",AND('Choix de l''instrument '!$D$3>=Etalonnage_Micromètre!G246,G246<>\"\"),\"\")","v":""}]
["ETA-0158","Pige étalon","0,300 mm",null,null,"Afficher",0,null,null,null,null,null,null,{"$f":"IF('Choix de l''instrument '!$C$3=\"Etalonnage_Micromètre\",AND('Choix de l''instrument '!$D$3>=Etalonnage_Micromètre!G247,G247<>\"\"),\"\")","v":""}]
["ETA-0157","Pige étalon","0,300 mm",null,null,"Afficher",0,null,null,null,null,null,null,{"$f":"IF('Choix de l''instrument '!$C$3=\"Etalonnage_Micromètre\",AND('Choix de l''instrument '!$D$3>=Etalonnage_Micromètre!G248,G248<>\"\"),\"\")","v":""}]
["ETA-0153","Pige étalon","0,250 mm",null,null,"Afficher",0,null,null,null,null,null,null,{"$f":"IF('Choix de l''instrument '!$C$3=\"Etalonnage_Micromètre\",AND('Choix de l''instrument '!$D$3>=Etalonnage_Micromètre!G249,G249<>\"\"),\"\")","v":""}]
["ETA-0149","Pige étalon","0,150 mm",null,null,"Afficher",0,null,null,null,null,null,null,{"$f":"IF('Choix de l''instrument '!$C$3=\"Etalonnage_Micromètre\",AND('Choix de l''instrument '!$D$3>=Etalonnage_Micromètre!G250,G250<>\"\"),\"\")","v":""}]
["ETA-0148","Pige étalon","18 mm",null,null,"Afficher",0,null,null,null,null,null,null,{"$f":"IF('Choix de l''instrument '!$C$3=\"Etalonnage_Micromètre\",AND('Choix de l''instrument '!$D$3>=Etalonnage_Micromètre!G251,G251<>\"\"),\"\")","v":""}]
["ETA-0147","Pige étalon","0,7 mm",null,null,"Afficher",0,null,null,null,null,null,null,{"$f":"IF('Choix de l''instrument '!$C$3=\"Etalonnage_Micromètre\",AND('Choix de l''instrument '!$D$3>=Etalonnage_Micromètre!G252,G252<>\"\"),\"\")","v":""}]
["ETA-0152","Pige étalon","0,250 mm",null,null,"Afficher",0,null,null,null,null,null,null,{"$f":"IF('Choix de l''instrument '!$C$3=\"Etalonnage_Micromètre\",AND('Choix de l''instrument '!$D$3>=Etalonnage_Micromètre!G253,G253<>\"\"),\"\")","v":""}]
["ETA-0151","Pige étalon","0,150 mm",null,null,"Afficher",0,null,null,null,null,null,null,{"$f":"IF('Choix de l''instrument '!$C$3=\"Etalonnage_Micromètre\",AND('Choix de l''instrument '!$D$3>=Etalonnage_Micromètre!G254,G254<>\"\"),\"\")","v":""}]
["ETA-0150","Pige étalon","0,150 mm",null,null,"Afficher",0,null,null,null,null,null,null,{"$f":"IF('Choix de l''instrument '!$C$3=\"Etalonnage_Micromètre\",AND('Choix de l''instrument '!$D$3>=Etalonnage_Micromètre!G255,G255<>\"\"),\"\")","v":""}]
["ETA-0160","Pige étalon","0,1067 mm",null,null,"Afficher",0,null,null,null,null,null,null,{"$f":"IF('Choix de l''instrument '!$C$3=\"Etalonnage_Micromètre\",AND('Choix de l''instrument '!$D$3>=Etalonnage_Micromètre!G256,G256<>\"\"),\"\")","v":""}]
["ETA-0170","Pige étalon","0,1321 mm",null,null,"Afficher",0,null,null,null,null,null,null,{"$f":"IF('Choix de l''instrument '!$C$3=\"Etalonnage_Micromètre\",AND('Choix de l''instrument '!$D$3>=Etalonnage_Micromètre!G257,G257<>\"\"),\"\")","v":""}]
["ETA-0169","Pige étalon","0,1295 mm",null,null,"Afficher",0,null,null,null,null,null,null,{"$f":"IF('Choix de l''instrument '!$C$3=\"Etalonnage_Micromètre\",AND('Choix de l''instrument '!$D$3>=Etalonnage_Micromètre!G258,G258<>\"\"),\"\")","v":""}]
["ETA-0168","Pige étalon","0,1270 mm",null,null,"Afficher",0,null,null,null,null,null,null,{"$f":"IF('Choix de l''instrument '!$C$3=\"Etalonnage_Micromètre\",AND('Choix de l''instrument '!$D$3>=Etalonnage_Micromètre!G259,G259<>\"\"),\"\")","v":""}]
["ETA-0173","Pige étalon","0,1397 mm",null,null,"Afficher",0,null,null,null,null,null,null,{"$f":"IF('Choix de l''instrument '!$C$3=\"Etalonnage_Micromètre\",AND('Choix de l''instrument '!$D$3>=Etalonnage_Micromètre!G260,G260<>\"\"),\"\")","v":""}]
["ETA-0172","Pige étalon","0,1372 mm",null,null,"Afficher",0,null,null,null,null,null,null,{"$f":"IF('Choix de l''instrument '!$C$3=\"Etalonnage_Micromètre\",AND('Choix de l''instrument '!$D$3>=Etalonnage_Micromètre!G261,G261<>\"\"),\"\")","v":""}]
["ETA-0171","Pige étalon","0,1346 mm",null,null,"Afficher",0,null,null,null,null,null,null,{"$f":"IF('Choix de l''instrument '!$C$3=\"Etalonnage_Micromètre\",AND('Choix de l''instrument '!$D$3>=Etalonnage_Micromètre!G262,G262<>\"\"),\"\")","v":""}]
["ETA-0167","Pige étalon","0,1245 mm",null,null,"Afficher",0,null,null,null,null,null,null,{"$f":"IF('Choix de l''instrument '!$C$3=\"Etalonnage_Micromètre\",AND('Choix de l''instrument '!$D$3>=Etalonnage_Micromètre!G263,G263<>\"\"),\"\")","v":""}]
["ETA-0163","Pige étalon","0,1143 mm",null,null,"Afficher",0,null,null,null,null,null,null,{"$f":"IF('Choix de l''instrument '!$C$3=\"Etalonnage_Micromètre\",AND('Choix de l''instrument '!$D$3>=Etalonnage_Micromètre!G264,G264<>\"\"),\"\")","v":""}]
["ETA-0162","Pige étalon","0,1118 mm",null,null,"Afficher",0,null,null,null,null,null,null,{"$f":"IF('Choix de l''instrument '!$C$3=\"Etalonnage_Micromètre\",AND('Choix de l''instrument '!$D$3>=Etalonnage_Micromètre!G265,G265<>\"\"),\"\")","v":""}]
["ETA-0161","Pige étalon","0,1092 mm",null,null,"Afficher",0,null,null,null,null,null,null,{"$f":"IF('Choix de l''instrument '!$C$3=\"Etalonnage_Micromètre\",AND('Choix de l''instrument '!$D$3>=Etalonnage_Micromètre!G266,G266<>\"\"),\"\")","v":""}]
["ETA-0166","Pige étalon","0,1219 mm",null,null,"Afficher",0,null,null,null,null,null,null,{"$f":"IF('Choix de l''instrument '!$C$3=\"Etalonnage_Micromètre\",AND('Choix de l''instrument '!$D$3>=Etalonnage_Micromètre!G267,G267<>\"\"),\"\")","v":""}]
["ETA-0165","Pige étalon","0,1194 mm",null,null,"Afficher",0,null,null,null,null,null,null,{"$f":"IF('Choix de l''instrument '!$C$3=\"Etalonnage_Micromètre\",AND('Choix de l''instrument '!$D$3>=Etalonnage_Micromètre!G268,G268<>\"\"),\"\")","v":""}]
["ETA-0164","Pige étalon","0,1168 mm",null,null,"Afficher",0,null,null,null,null,null,null,{"$f":"IF('Choix de l''instrument '!$C$3=\"Etalonnage_Micromètre\",AND('Choix de l''instrument '!$D$3>=Etalonnage_Micromètre!G269,G269<>\"\"),\"\")","v":""}]
["ETA-0129","Pige étalon","18 mm",null,null,"Afficher",0,null,null,null,null,null,null,{"$f":"IF('Choix de l''instrument '!$C$3=\"Etalonnage_Micromètre\",AND('Choix de l''instrument '!$D$3>=Etalonnage_Micromètre!G270,G270<>\"\"),\"\")","v":""}]
["ETA-0128","Pige étalon",null,null,null,"Afficher",0,null,null,null,null,null,null,{"$f":"IF('Choix de l''instrument '!$C$3=\"Etalonnage_Micromètre\",AND('Choix de l''instrument '!$D$3>=Etalonnage_Micromètre!G271,G271<>\"\"),\"\")","v":""}]
["ETA-0127","Pige étalon","3 mm",null,null,"Afficher",0,null,null,null,null,null,null,{"$f":"IF('Choix de l''instrument '!$C$3=\"Etalonnage_Micromètre\",AND('Choix de l''instrument '!$D$3>=Etalonnage_Micromètre!G272,G272<>\"\"),\"\")","v":""}]
["ETA-0132","Pige étalon","17 mm",null,null,"Afficher",0,null,null,null,null,null,null,{"$f":"IF('Choix de l''instrument '!$C$3=\"Etalonnage_Micromètre\",AND('Choix de l''instrument '!$D$3>=Etalonnage_Micromètre!G273,G273<>\"\"),\"\")","v":""}]
["ETA-0131","Pige étalon","17 mm",null,null,"Afficher",0,null,null,null,null,null,null,{"$f":"IF('Choix de l''instrument '!$C$3=\"Etalonnage_Micromètre\",AND('Choix de l''instrument '!$D$3>=Etalonnage_Micromètre!G274,G274<>\"\"),\"\")","v":""}]
["ETA-0130","Pige étalon","18 mm",null,null,"Afficher",0,null,null,null,null,null,null,{"$f":"IF('Choix de l''instrument '!$C$3=\"Etalonnage_Micromètre\",AND('Choix de l''instrument '!$D$3>=Etalonnage_Micromètre!G275,G275<>\"\"),\"\")","v":""}]
["ETA-0126","Pige étalon","3 mm",null,null,"Afficher",0,null,null,null,null,null,null,{"$f":"IF('Choix de l''instrument '!$C$3=\"Etalonnage_Micromètre\",AND('Choix de l''instrument '!$D$3>=Etalonnage_Micromètre!G276,G276<>\"\"),\"\")","v":""}]
["ETA-0122","Pige étalon","20 mm",null,null,"Afficher",0,null,null,null,null,null,null,{"$f":"IF('Choix de l''instrument '!$C$3=\"Etalonnage_Micromètre\",AND('Choix de l''instrument '!$D$3>=Etalonnage_Micromètre!G277,G277<>\"\"),\"\")","v":""}]
["ETA-0121","Pige étalon","20 mm",null,null,"Afficher",0,null,null,null,null,null,null,{"$f":"IF('Choix de l''instrument '!$C$3=\"Etalonnage_Micromètre\",AND('Choix de l''instrument '!$D$3>=Etalonnage_Micromètre!G278,G278<>\"\"),\"\")","v":""}]
["ETA-0125","Pige étalon","19 mm",null,null,"Afficher",0,null,null,null,null,null,null,{"$f":"IF('Choix de l''instrument '!$C$3=\"Etalonnage_Micromètre\",AND('Choix de l''instrument '!$D$3>=Etalonnage_Micromètre!G279,G279<>\"\"),\"\")","v":""}]
["ETA-0124","Pige étalon","20 mm",null,null,"Afficher",0,null,null,null,null,null,null,{"$f":"IF('Choix de l''instrument '!$C$3=\"Etalonnage_Micromètre\",AND('Choix de l''instrument '!$D$3>=Etalonnage_Micromètre!G280,G280<>\"\"),\"\")","v":""}]
["ETA-0123","Pige étalon","20 mm",null,null,"Afficher",0,null,null,null,null,null,null,{"$f":"IF('Choix de l''instrument '!$C$3=\"Etalonnage_Micromètre\",AND('Choix de l''instrument '!$D$3>=Etalonnage_Micromètre!G281,G281<>\"\"),\"\")","v":""}]
["ETA-0133","Pige étalon","13 mm",null,null,"Afficher",0,null,null,null,null,null,null,{"$f":"IF('Choix de l''instrument '!$C$3=\"Etalonnage_Micromètre\",AND('Choix de l''instrument '!$D$3>=Etalonnage_Micromètre!G282,G282<>\"\"),\"\")","v":""}]
["ETA-0143","Pige étalon","4 mm",null,null,"Afficher",0,null,null,null,null,null,null,{"$f":"IF('Choix de l''instrument '!$C$3=\"Etalonnage_Micromètre\",AND('Choix de l''instrument '!$D$3>=Etalonnage_Micromètre!G283,G283<>\"\"),\"\")","v":""}]
["ETA-0142","Pige étalon","4 mm",null,null,"Afficher",0,null,null,null,null,null,null,{"$f":"IF('Choix de l''instrument '!$C$3=\"Etalonnage_Micromètre\",AND('Choix de l''instrument '!$D$3>=Etalonnage_Micromètre!G284,G284<>\"\"),\"\")","v":""}]
["ETA-0141","Pige étalon","7 mm",null,null,"Afficher",0,null,null,null,null,null,null,{"$f":"IF('Choix de l''instrument '!$C$3=\"Etalonnage_Micromètre\",AND('Choix de l''instrument '!$D$3>=Etalonnage_Micromètre!G285,G285<>\"\"),\"\")","v":""}]
["ETA-0146","Pige étalon","0,7 mm",null,null,"Afficher",0,null,null,null,null,null,null,{"$f":"IF('Choix de l''instrument '!$C$3=\"Etalonnage_Micromètre\",AND('Choix de l''instrument '!$D$3>=Etalonnage_Micromètre!G286,G286<>\"\"),\"\")","v":""}]
["ETA-0145","Pige étalon","1,4 mm",null,null,"Afficher",0,null,null,null,null,null,null,{"$f":"IF('Choix de l''instrument '!$C$3=\"Etalonnage_Micromètre\",AND('Choix de l''instrument '!$D$3>=Etalonnage_Micromètre!G287,G287<>\"\"),\"\")","v":""}]
["ETA-0144","Pige étalon","1,4 mm",null,null,"Afficher",0,null,null,null,null,null,null,{"$f":"IF('Choix de l''instrument '!$C$3=\"Etalonnage_Micromètre\",AND('Choix de l''instrument '!$D$3>=Etalonnage_Micromètre!G288,G288<>\"\"),\"\")","v":""}]
["ETA-0140","Pige étalon","7 mm",null,null,"Afficher",0,null,null,null,null,null,null,{"$f":"IF('Choix de l''instrument '!$C$3=\"Etalonnage_Micromètre\",AND('Choix de l''instrument '!$D$3>=Etalonnage_Micromètre!G289,G289<>\"\"),\"\")","v":""}]
["ETA-0136","Pige étalon","10 mm",null,null,"Afficher",0,null,null,null,null,null,null,{"$f":"IF('Choix de l''instrument '!$C$3=\"Etalonnage_Micromètre\",AND('Choix de l''instrument '!$D$3>=Etalonnage_Micromètre!G290,G290<>\"\"),\"\")","v":""}]
["ETA-0135","Pige étalon","10 mm",null,null,"Afficher",0,null,null,null,null,null,null,{"$f":"IF('Choix de l''instrument '!$C$3=\"Etalonnage_Micromètre\",AND('Choix de l''instrument '!$D$3>=Etalonnage_Micromètre!G291,G291<>\"\"),\"\")","v":""}]
["ETA-0134","Pige étalon","13 mm",null,null,"Afficher",0,null,null,null,null,null,null,{"$f":"IF('Choix de l''instrument '!$C$3=\"Etalonnage_Micromètre\",AND('Choix de l''instrument '!$D$3>=Etalonnage_Micromètre!G292,G292<>\"\"),\"\")","v":""}]
["ETA-0139","Pige étalon","8 mm",null,null,"Afficher",0,null,null,null,null,null,null,{"$f":"IF('Choix de l''instrument '!$C$3=\"Etalonnage_Micromètre\",AND('Choix de l''instrument '!$D$3>=Etalonnage_Micromètre!G293,G293<>\"\"),\"\")","v":""}]
["ETA-0138","Pige étalon","8 mm",null,null,"Afficher",0,null,null,null,null,null,null,{"$f":"IF('Choix de l''instrument '!$C$3=\"Etalonnage_Micromètre\",AND('Choix de l''instrument '!$D$3>=Etalonnage_Micromètre!G294,G294<>\"\"),\"\")","v":""}]
["ETA-0137","Pige étalon","8 mm",null,null,"Afficher",0,null,null,null,null,null,null,{"$f":"IF('Choix de l''instrument '!$C$3=\"Etalonnage_Micromètre\",AND('Choix de l''instrument '!$D$3>=Etalonnage_Micromètre!G295,G295<>\"\"),\"\")","v":""}]
["ETA-0064","Pige étalon","2 mm",null,null,"Afficher",0,null,null,null,null,null,null,{"$f":"IF('Choix de l''instrument '!$C$3=\"Etalonnage_Micromètre\",AND('Choix de l''instrument '!$D$3>=Etalonnage_Micromètre!G296,G296<>\"\"),\"\")","v":""}]
["ETA-0039","Pige étalon","0,346",null,null,"Afficher",0,null,null,null,null,null,null,{"$f":"IF('Choix de l''instrument '!$C$3=\"Etalonnage_Micromètre\",AND('Choix de l''instrument '!$D$3>=Etalonnage_Micromètre!G297,G297<>\"\"),\"\")","v":""}]
["ETA-0038","Pige étalon","0,2",null,null,"Afficher",0,null,null,null,null,null,null,{"$f":"IF('Choix de l''instrument '!$C$3=\"Etalonnage_Micromètre\",AND('Choix de l''instrument '!$D$3>=Etalonnage_Micromètre!G298,G298<>\"\"),\"\")","v":""}]
["ETA-0037","Pige étalon","0,2",null,null,"Afficher",0,null,null,null,null,null,null,{"$f":"IF('Choix de l''instrument '!$C$3=\"Etalonnage_Micromètre\",AND('Choix de l''instrument '!$D$3>=Etalonnage_Micromètre!G299,G299<>\"\"),\"\")","v":""}]
["ETA-0060","Pige étalon","6 mm",null,null,"Afficher",0,null,null,null,null,null,null,{"$f":"IF('Choix de l''instrument '!$C$3=\"Etalonnage_Micromètre\",AND('Choix de l''instrument '!$D$3>=Etalonnage_Micromètre!G300,G300<>\"\"),\"\")","v":""}]
["ETA-0063","Pige étalon","2 mm",null,null,"Afficher",0,null,null,null,null,null,null,{"$f":"IF('Choix de l''instrument '!$C$3=\"Etalonnage_Micromètre\",AND('Choix de l''instrument '!$D$3>=Etalonnage_Micromètre!G301,G301<>\"\"),\"\")","v":""}]
["ETA-0062","Pige étalon","6 mm",null,null,"Afficher",0,null,null,null,null,null,null,{"$f":"IF('Choix de l''instrument '!$C$3=\"Etalonnage_Micromètre\",AND('Choix de l''instrument '!$D$3>=Etalonnage_Micromètre!G302,G302<>\"\"),\"\")","v":""}]
["ETA-0061","Pige étalon","6 mm",null,null,"Afficher",0,null,null,null,null,null,null,{"$f":"IF('Choix de l''instrument '!$C$3=\"Etalonnage_Micromètre\",AND('Choix de l''instrument '!$D$3>=Etalonnage_Micromètre!G303,G303<>\"\"),\"\")","v":""}]
["ETA-0034","Pige étalon","1,30 mm",null,null,"Afficher",0,null,null,null,null,null,null,{"$f":"IF('Choix de l''instrument '!$C$3=\"Etalonnage_Micromètre\",AND('Choix de l''instrument '!$D$3>=Etalonnage_Micromètre!G304,G304<>\"\"),\"\")","v":""}]
["ETA-0301","Cale d'épaisseur","100 mm",null,null,"Afficher",0,null,null,null,null,null,null,{"$f":"IF('Choix de l''instrument '!$C$3=\"Etalonnage_Micromètre\",AND('Choix de l''instrument '!$D$3>=Etalonnage_Micromètre!G305,G305<>\"\"),\"\")","v":""}]
["ETA-0300","Cale d'épaisseur","20 mm",null,null,"Afficher",0,null,null,null,null,null,null,{"$f":"IF('Choix de l''instrument '!$C$3=\"Etalonnage_Micromètre\",AND('Choix de l''instrument '!$D$3>=Etalonnage_Micromètre!G306,G306<>\"\"),\"\")","v":""}]
["ETA-0222","Cale d'épaisseur","3 mm",null,null,"Afficher",0,null,null,null,null,null,null,{"$f":"IF('Choix de l''instrument '!$C$3=\"Etalonnage_Micromètre\",AND('Choix de l''instrument '!$D$3>=Etalonnage_Micromètre!G307,G307<>\"\"),\"\")","v":""}]
["ETA-0221","Cale d'épaisseur","2 mm",null,null,"Afficher",0,null,null,null,null,null,null,{"$f":"IF('Choix de l''instrument '!$C$3=\"Etalonnage_Micromètre\",AND('Choix de l''instrument '!$D$3>=Etalonnage_Micromètre!G308,G308<>\"\"),\"\")","v":""}]
["ETA-0220","Cale d'épaisseur","1,2 mm",null,null,"Afficher",0,null,null,null,null,null,null,{"$f":"IF('Choix de l''instrument '!$C$3=\"Etalonnage_Micromètre\",AND('Choix de l''instrument '!$D$3>=Etalonnage_Micromètre!G309,G309<>\"\"),\"\")","v":""}]
["CEP-104","Cale d'épaisseur","0,15 mm",null,null,"Afficher",0,null,null,null,null,null,null,{"$f":"IF('Choix de l''instrument '!$C$3=\"Etalonnage_Micromètre\",AND('Choix de l''instrument '!$D$3>=Etalonnage_Micromètre!G310,G310<>\"\"),\"\")","v":""}]
["CEP-103","Cale d'épaisseur","0,15 mm",null,null,"Afficher",0,null,null,null,null,null,null,{"$f":"IF('Choix de l''instrument '!$C$3=\"Etalonnage_Micromètre\",AND('Choix de l''instrument '!$D$3>=Etalonnage_Micromètre!G311,G311<>\"\"),\"\")","v":""}]
["CEP-102","Cale d'épaisseur","0,15 mm",null,null,"Afficher",0,null,null,null,null,null,null,{"$f":"IF('Choix de l''instrument '!$C$3=\"Etalonnage_Micromètre\",AND('Choix de l''instrument '!$D$3>=Etalonnage_Micromètre!G312,G312<>\"\"),\"\")","v":""}]
["CEP-105","Cale d'épaisseur","0,15 mm",null,null,"Afficher",0,null,null,null,null,null,null,{"$f":"IF('Choix de l''instrument '!$C$3=\"Etalonnage_Micromètre\",AND('Choix de l''instrument '!$D$3>=Etalonnage_Micromètre!G313,G313<>\"\"),\"\")","v":""}]
["CEP-006","Cale d'épaisseur","0,1 mm",null,null,"Afficher",0,null,null,null,null,null,null,{"$f":"IF('Choix de l''instrument '!$C$3=\"Etalonnage_Micromètre\",AND('Choix de l''instrument '!$D$3>=Etalonnage_Micromètre!G314,G314<>\"\"),\"\")","v":""}]
["CEP-005","Cale d'épaisseur","0,150 mm",null,null,"Afficher",0,null,null,null,null,null,null,{"$f":"IF('Choix de l''instrument '!$C$3=\"Etalonnage_Micromètre\",AND('Choix de l''instrument '!$D$3>=Etalonnage_Micromètre!G315,G315<>\"\"),\"\")","v":""}]
["CEP-004","Cale d'épaisseur","0,200 mm",null,null,"Afficher",0,null,null,null,null,null,null,{"$f":"IF('Choix de l''instrument '!$C$3=\"Etalonnage_Micromètre\",AND('Choix de l''instrument '!$D$3>=Etalonnage_Micromètre!G316,G316<>\"\"),\"\")","v":""}]
["CEP-009","Cale d'épaisseur","0,250 mm",null,null,"Afficher",0,null,null,null,null,null,null,{"$f":"IF('Choix de l''instrument '!$C$3=\"Etalonnage_Micromètre\",AND('Choix de l''instrument '!$D$3>=Etalonnage_Micromètre!G317,G317<>\"\"),\"\")","v":""}]
["CEP-008","Cale d'épaisseur","0,1 mm",null,null,"Afficher",0,null,null,null,null,null,null,{"$f":"IF('Choix de l''instrument '!$C$3=\"Etalonnage_Micromètre\",AND('Choix de l''instrument '!$D$3>=Etalonnage_Micromètre!G318,G318<>\"\"),\"\")","v":""}]
["CEP-007","Cale d'épaisseur","0,201 mm",null,null,"Afficher",0,null,null,null,null,null,null,{"$f":"IF('Choix de l''instrument '!$C$3=\"Etalonnage_Micromètre\",AND('Choix de l''instrument '!$D$3>=Etalonnage_Micromètre!G319,G319<>\"\"),\"\")","v":""}]
["CEP-003","Cale d'épaisseur","0,160 mm",null,null,"Afficher",0,null,null,null,null,null,null,{"$f":"IF('Choix de l''instrument '!$C$3=\"Etalonnage_Micromètre\",AND('Choix de l''instrument '!$D$3>=Etalonnage_Micromètre!G320,G320<>\"\"),\"\")","v":""}]
["CEP-002","Cale d'épaisseur","0,150 mm",null,null,"Afficher",0,null,null,null,null,null,null,{"$f":"IF('Choix de l''instrument '!$C$3=\"Etalonnage_Micromètre\",AND('Choix de l''instrument '!$D$3>=Etalonnage_Micromètre!G321,G321<>\"\"),\"\")","v":""}]
["CEP-001","Cale d'épaisseur","0,100 mm",null,null,"Afficher",0,null,null,null,null,null,null,{"$f":"IF('Choix de l''instrument '!$C$3=\"Etalonnage_Micromètre\",AND('Choix de l''instrument '!$D$3>=Etalonnage_Micromètre!G322,G322<>\"\"),\"\")","v":""}]
["CEP-010","Cale d'épaisseur","1,005 mm",null,null,"Afficher",0,null,null,null,null,null,null,{"$f":"IF('Choix de l''instrument '!$C$3=\"Etalonnage_Micromètre\",AND('Choix de l''instrument '!$D$3>=Etalonnage_Micromètre!G323,G323<>\"\"),\"\")","v":""}]
["CEP-098","Cale d'épaisseur","0,15 mm",null,null,"Afficher",0,null,null,null,null,null,null,{"$f":"IF('Choix de l''instrument '!$C$3=\"Etalonnage_Micromètre\",AND('Choix de l''instrument '!$D$3>=Etalonnage_Micromètre!G324,G324<>\"\"),\"\")","v":""}]
["CEP-097","Cale d'épaisseur","0,1 mm",null,null,"Afficher",0,null,null,null,null,null,null,{"$f":"IF('Choix de l''instrument '!$C$3=\"Etalonnage_Micromètre\",AND('Choix de l''instrument '!$D$3>=Etalonnage_Micromètre!G325,G325<>\"\"),\"\")","v":""}]
["CEP-096","Cale d'épaisseur","0,1 mm",null,null,"Afficher",0,null,null,null,null,null,null,{"$f":"IF('Choix de l''instrument '!$C$3=\"Etalonnage_Micromètre\",AND('Choix de l''instrument '!$D$3>=Etalonnage_Micromètre!G326,G326<>\"\"),\"\")","v":""}]
["CEP-101","Cale d'épaisseur","0,15 mm",null,null,"Afficher",0,null,null,null,null,null,null,{"$f":"IF('Choix de l''instrument '!$C$3=\"Etalonnage_Micromètre\",AND('Choix de l''instrument '!$D$3>=Etalonnage_Micromètre!G327,G327<>\"\"),\"\")","v":""}]
["CEP-100","Cale d'épaisseur","0,15 mm",null,null,"Afficher",0,null,null,null,null,null,null,{"$f":"IF('Choix de l''instrument '!$C$3=\"Etalonnage_Micromètre\",AND('Choix de l''instrument '!$D$3>=Etalonnage_Micromètre!G328,G328<>\"\"),\"\")","v":""}]
["CEP-099","Cale d'épaisseur","0,15 mm",null,null,"Afficher",0,null,null,null,null,null,null,{"$f":"IF('Choix de l''instrument '!$C$3=\"Etalonnage_Micromètre\",AND('Choix de l''instrument '!$D$3>=Etalonnage_Micromètre!G329,G329<>\"\"),\"\")","v":""}]
["CEP-095","Cale d'épaisseur","0,1 mm",null,null,"Afficher",0,null,null,null,null,null,null,{"$f":"IF('Choix de l''instrument '!$C$3=\"Etalonnage_Micromètre\",AND('Choix de l''instrument '!$D$3>=Etalonnage_Micromètre!G330,G330<>\"\"),\"\")","v":""}]
["CEP-091","Cale d'épaisseur","0,1 mm",null,null,"Afficher",0,null,null,null,null,null,null,{"$f":"IF('Choix de l''instrument '!$C$3=\"Etalonnage_Micromètre\",AND('Choix de l''instrument '!$D$3>=Etalonnage_Micromètre!G331,G331<>\"\"),\"\")","v":""}]
["CEP-090","Cale d'épaisseur","0,1 mm",null,null,"Afficher",0,null,null,null,null,null,null,{"$f":"IF('Choix de l''instrument '!$C$3=\"Etalonnage_Micromètre\",AND('Choix de l''instrument '!$D$3>=Etalonnage_Micromètre!G332,G332<>\"\"),\"\")","v":""}]
["CEP-094","Cale d'épaisseur","0,1 mm",null,null,"Afficher",0,null,null,null,null,null,null,{"$f":"IF('Choix de l''instrument '!$C$3=\"Etalonnage_Micromètre\",AND('Choix de l''instrument '!$D$3>=Etalonnage_Micromètre!G333,G333<>\"\"),\"\")","v":""}]
["CEP-093","Cale d'épaisseur","0,1 mm",null,null,"Afficher",0,null,null,null,null,null,null,{"$f":"IF('Choix de l''instrument '!$C$3=\"Etalonnage_Micromètre\",AND('Choix de l''instrument '!$D$3>=Etalonnage_Micromètre!G334,G334<>\"\"),\"\")","v":""}]
["CEP-092","Cale d'épaisseur","0,1 mm",null,null,"Afficher",0,null,null,null,null,null,null,{"$f":"IF('Choix de l''instrument '!$C$3=\"Etalonnage_Micromètre\",AND('Choix de l''instrument '!$D$3>=Etalonnage_Micromètre!G335,G335<>\"\"),\"\")","v":""}]
["MET-0054","Cale étalon","0,200 mm",null,null,"Afficher",0,null,null,null,null,null,null,{"$f":"IF('Choix de l''instrument '!$C$3=\"Etalonnage_Micromètre\",AND('Choix de l''instrument '!$D$3>=Etalonnage_Micromètre!G336,G336<>\"\"),\"\")","v":""}]
["MET-0088","Cale étalon","0,1 mm",null,null,"Afficher",0,null,null,null,null,null,null,{"$f":"IF('Choix de l''instrument '!$C$3=\"Etalonnage_Micromètre\",AND('Choix de l''instrument '!$D$3>=Etalonnage_Micromètre!G337,G337<>\"\"),\"\")","v":""}]
["ETA-0321","Cale étalon","1,19 mm",null,null,"Afficher",0,null,null,null,null,null,null,{"$f":"IF('Choix de l''instrument '!$C$3=\"Etalonnage_Micromètre\",AND('Choix de l''instrument '!$D$3>=Etalonnage_Micromètre!G338,G338<>\"\"),\"\")","v":""}]
["ETA-0320","Cale étalon","1,18 mm",null,null,"Afficher",0,null,null,null,null,null,null,{"$f":"IF('Choix de l''instrument '!$C$3=\"Etalonnage_Micromètre\",AND('Choix de l''instrument '!$D$3>=Etalonnage_Micromètre!G339,G339<>\"\"),\"\")","v":""}]
["ETA-0319","Cale étalon","1,17 mm",null,null,"Afficher",0,null,null,null,null,null,null,{"$f":"IF('Choix de l''instrument '!$C$3=\"Etalonnage_Micromètre\",AND('Choix de l''instrument '!$D$3>=Etalonnage_Micromètre!G340,G340<>\"\"),\"\")","v":""}]
["ETA-0324","Cale étalon","1,4 mm",null,null,"Afficher",0,null,null,null,null,null,null,{"$f":"IF('Choix de l''instrument '!$C$3=\"Etalonnage_Micromètre\",AND('Choix de l''instrument '!$D$3>=Etalonnage_Micromètre!G341,G341<>\"\"),\"\")","v":""}]
["ETA-0323","Cale étalon","1,3 mm",null,null,"Afficher",0,null,null,null,null,null,null,{"$f":"IF('Choix de l''instrument '!$C$3=\"Etalonnage_Micromètre\",AND('Choix de l''instrument '!$D$3>=Etalonnage_Micromètre!G342,G342<>\"\"),\"\")","v":""}]
["ETA-0322","Cale étalon","1,20 mm",null,null,"Afficher",0,null,null,null,null,null,null,{"$f":"IF('Choix de l''instrument '!$C$3=\"Etalonnage_Micromètre\",AND('Choix de l''instrument '!$D$3>=Etalonnage_Micromètre!G343,G343<>\"\"),\"\")","v":""}]
["ETA-0318","Cale étalon","1,16 mm",null,null,"Afficher",0,null,null,null,null,null,null,{"$f":"IF('Choix de l''instrument '!$C$3=\"Etalonnage_Micromètre\",AND('Choix de l''instrument '!$D$3>=Etalonnage_Micromètre!G344,G344<>\"\"),\"\")","v":""}]
["ETA-0314","Cale étalon","1,12 mm",null,null,"Afficher",0,null,null,null,null,null,null,{"$f":"IF('Choix de l''instrument '!$C$3=\"Etalonnage_Micromètre\",AND('Choix de l''instrument '!$D$3>=Etalonnage_Micromètre!G345,G345<>\"\"),\"\")","v":""}]
["ETA-0313","Cale étalon","1,11 mm",null,null,"Afficher",0,null,null,null,null,null,null,{"$f":"IF('Choix de l''instrument '!$C$3=\"Etalonnage_Micromètre\",AND('Choix de l''instrument '!$D$3>=Etalonnage_Micromètre!G346,G346<>\"\"),\"\")","v":""}]
["ETA-0312","Cale étalon","1,10 mm",null,null,"Afficher",0,null,null,null,null,null,null,{"$f":"IF('Choix de l''instrument '!$C$3=\"Etalonnage_Micromètre\",AND('Choix de l''instrument '!$D$3>=Etalonnage_Micromètre!G347,G347<>\"\"),\"\")","v":""}]
["ETA-0317","Cale étalon","1,15 mm",null,null,"Afficher",0,null,null,null,null,null,null,{"$f":"IF('Choix de l''instrument '!$C$3=\"Etalonnage_Micromètre\",AND('Choix de l''instrument '!$D$3>=Etalonnage_Micromètre!G348,G348<>\"\"),\"\")","v":""}]
["ETA-0316","Cale étalon","1,14 mm",null,null,"Afficher",0,null,null,null,null,null,null,{"$f":"IF('Choix de l''instrument '!$C$3=\"Etalonnage_Micromètre\",AND('Choix de l''instrument '!$D$3>=Etalonnage_Micromètre!G349,G349<>\"\"),\"\")","v":""}]
["ETA-0315","Cale étalon","1,13 mm",null,null,"Afficher",0,null,null,null,null,null,null,{"$f":"IF('Choix de l''instrument '!$C$3=\"Etalonnage_Micromètre\",AND('Choix de l''instrument '!$D$3>=Etalonnage_Micromètre!G350,G350<>\"\"),\"\")","v":""}]
["ETA-0325","Cale étalon","1,5 mm",null,null,"Afficher",0,null,null,null,null,null,null,{"$f":"IF('Choix de l''instrument '!$C$3=\"Etalonnage_Micromètre\",AND('Choix de l''instrument '!$D$3>=Etalonnage_Micromètre!G351,G351<>\"\"),\"\")","v":""}]
["ETA-0335","Cale étalon","6 mm",null,null,"Afficher",0,null,null,null,null,null,null,{"$f":"IF('Choix de l''instrument '!$C$3=\"Etalonnage_Micromètre\",AND('Choix de l''instrument '!$D$3>=Etalonnage_Micromètre!G352,G352<>\"\"),\"\")","v":""}]
["ETA-0334","Cale étalon","5 mm",null,null,"Afficher",0,null,null,null,null,null,null,{"$f":"IF('Choix de l''instrument '!$C$3=\"Etalonnage_Micromètre\",AND('Choix de l''instrument '!$D$3>=Etalonnage_Micromètre!G353,G353<>\"\"),\"\")","v":""}]
["ETA-0333","Cale étalon","4 mm",null,null,"Afficher",0,null,null,null,null,null,null,{"$f":"IF('Choix de l''instrument '!$C$3=\"Etalonnage_Micromètre\",AND('Choix de l''instrument '!$D$3>=Etalonnage_Micromètre!G354,G354<>\"\"),\"\")","v":""}]
["ETA-0338","Cale étalon","9 mm",null,null,"Afficher",0,null,null,null,null,null,null,{"$f":"IF('Choix de l''instrument '!$C$3=\"Etalonnage_Micromètre\",AND('Choix de l''instrument '!$D$3>=Etalonnage_Micromètre!G355,G355<>\"\"),\"\")","v":""}]
["ETA-0337","Cale étalon","8 mm",null,null,"Afficher",0,null,null,null,null,null,null,{"$f":"IF('Choix de l''instrument '!$C$3=\"Etalonnage_Micromètre\",AND('Choix de l''instrument '!$D$3>=Etalonnage_Micromètre!G356,G356<>\"\"),\"\")","v":""}]
["ETA-0336","Cale étalon","7 mm",null,null,"Afficher",0,null,null,null,null,null,null,{"$f":"IF('Choix de l''instrument '!$C$3=\"Etalonnage_Micromètre\",AND('Choix de l''instrument '!$D$3>=Etalonnage_Micromètre!G357,G357<>\"\"),\"\")","v":""}]
["ETA-0332","Cale étalon","3 mm",null,null,"Afficher",0,null,null,null,null,null,null,{"$f":"IF('Choix de l''instrument '!$C$3=\"Etalonnage_Micromètre\",AND('Choix de l''instrument '!$D$3>=Etalonnage_Micromètre!G358,G358<>\"\"),\"\")","v":""}]
["ETA-0328","Cale étalon","1,8 mm",null,null,"Afficher",0,null,null,null,null,null,null,{"$f":"IF('Choix de l''instrument '!$C$3=\"Etalonnage_Micromètre\",AND('Choix de l''instrument '!$D$3>=Etalonnage_Micromètre!G359,G359<>\"\"),\"\")","v":""}]
["ETA-0327","Cale étalon","1,7 mm",null,null,"Afficher",0,null,null,null,null,null,null,{"$f":"IF('Choix de l''instrument '!$C$3=\"Etalonnage_Micromètre\",AND('Choix de l''instrument '!$D$3>=Etalonnage_Micromètre!G360,G360<>\"\"),\"\")","v":""}]
["ETA-0326","Cale étalon","1,6 mm",null,null,"Afficher",0,null,null,null,null,null,null,{"$f":"IF('Choix de l''instrument '!$C$3=\"Etalonnage_Micromètre\",AND('Choix de l''instrument '!$D$3>=Etalonnage_Micromètre!G361,G361<>\"\"),\"\")","v":""}]
["ETA-0331","Cale étalon","2 mm",null,null,"Afficher",0,null,null,null,null,null,null,{"$f":"IF('Choix de l''instrument '!$C$3=\"Etalonnage_Micromètre\",AND('Choix de l''instrument '!$D$3>=Etalonnage_Micromètre!G362,G362<>\"\"),\"\")","v":""}]
["ETA-0330","Cale étalon","1 mm",null,null,"Afficher",0,null,null,null,null,null,null,{"$f":"IF('Choix de l''instrument '!$C$3=\"Etalonnage_Micromètre\",AND('Choix de l''instrument '!$D$3>=Etalonnage_Micromètre!G363,G363<>\"\"),\"\")","v":""}]
["ETA-0329","Cale étalon","1,9 mm",null,null,"Afficher",0,null,null,null,null,null,null,{"$f":"IF('Choix de l''instrument '!$C$3=\"Etalonnage_Micromètre\",AND('Choix de l''instrument '!$D$3>=Etalonnage_Micromètre!G364,G364<>\"\"),\"\")","v":""}]
["ETA-0308","Cale étalon","1,06 mm",null,null,"Afficher",0,null,null,null,null,null,null,{"$f":"IF('Choix de l''instrument '!$C$3=\"Etalonnage_Micromètre\",AND('Choix de l''instrument '!$D$3>=Etalonnage_Micromètre!G365,G365<>\"\"),\"\")","v":""}]
["ETA-0307","Cale étalon","1,05 mm",null,null,"Afficher",0,null,null,null,null,null,null,{"$f":"IF('Choix de l''instrument '!$C$3=\"Etalonnage_Micromètre\",AND('Choix de l''instrument '!$D$3>=Etalonnage_Micromètre!G366,G366<>\"\"),\"\")","v":""}]
["ETA-0306","Cale étalon","1,04 mm",null,null,"Afficher",0,null,null,null,null,null,null,{"$f":"IF('Choix de l''instrument '!$C$3=\"Etalonnage_Micromètre\",AND('Choix de l''instrument '!$D$3>=Etalonnage_Micromètre!G367,G367<>\"\"),\"\")","v":""}]
["ETA-0311","Cale étalon","1,09 mm",null,null,"Afficher",0,null,null,null,null,null,null,{"$f":"IF('Choix de l''instrument '!$C$3=\"Etalonnage_Micromètre\",AND('Choix de l''instrument '!$D$3>=Etalonnage_Micromètre!G368,G368<>\"\"),\"\")","v":""}]
["ETA-0310","Cale étalon","1,08 mm",null,null,"Afficher",0,null,null,null,null,null,null,{"$f":"IF('Choix de l''instrument '!$C$3=\"Etalonnage_Micromètre\",AND('Choix de l''instrument '!$D$3>=Etalonnage_Micromètre!G369,G369<>\"\"),\"\")","v":""}]
["ETA-0309","Cale étalon","1,07 mm",null,null,"Afficher",0,null,null,null,null,null,null,{"$f":"IF('Choix de l''instrument '!$C$3=\"Etalonnage_Micromètre\",AND('Choix de l''instrument '!$D$3>=Etalonnage_Micromètre!G370,G370<>\"\"),\"\")","v":""}]
["ETA-0305","Cale étalon","1,03 mm",null,null,"Afficher",0,null,null,null,null,null,null,{"$f":"IF('Choix de l''instrument '!$C$3=\"Etalonnage_Micromètre\",AND('Choix de l''instrument '!$D$3>=Etalonnage_Micromètre!G371,G371<>\"\"),\"\")","v":""}]
["ETA-0304","Cale étalon","1,02 mm",null,null,"Afficher",0,null,null,null,null,null,null,{"$f":"IF('Choix de l''instrument '!$C$3=\"Etalonnage_Micromètre\",AND('Choix de l''instrument '!$D$3>=Etalonnage_Micromètre!G372,G372<>\"\"),\"\")","v":""}]
["ETA-0303","Cale étalon","1,01 mm",null,null,"Afficher",0,null,null,null,null,null,null,{"$f":"IF('Choix de l''instrument '!$C$3=\"Etalonnage_Micromètre\",AND('Choix de l''instrument '!$D$3>=Etalonnage_Micromètre!G373,G373<>\"\"),\"\")","v":""}]
["ETA-0302","Cale étalon","1,005 mm",null,null,"Afficher",0,null,null,null,null,null,null,{"$f":"IF('Choix de l''instrument '!$C$3=\"Etalonnage_Micromètre\",AND('Choix de l''instrument '!$D$3>=Etalonnage_Micromètre!G374,G374<>\"\"),\"\")","v":""}]
["ETA-0339","Cale étalon","10 mm",null,null,"Afficher",0,null,null,null,null,null,null,{"$f":"IF('Choix de l''instrument '!$C$3=\"Etalonnage_Micromètre\",AND('Choix de l''instrument '!$D$3>=Etalonnage_Micromètre!G375,G375<>\"\"),\"\")","v":""}]
["ETA-0346","Cale étalon","90 mm",null,null,"Afficher",0,null,null,null,null,null,null,{"$f":"IF('Choix de l''instrument '!$C$3=\"Etalonnage_Micromètre\",AND('Choix de l''instrument '!$D$3>=Etalonnage_Micromètre!G376,G376<>\"\"),\"\")","v":""}]
["ETA-0342","Cale étalon","50 mm",null,null,"Afficher",0,null,null,null,null,null,null,{"$f":"IF('Choix de l''instrument '!$C$3=\"Etalonnage_Micromètre\",AND('Choix de l''instrument '!$D$3>=Etalonnage_Micromètre!G377,G377<>\"\"),\"\")","v":""}]
["ETA-0341","Cale étalon","40 mm",null,null,"Afficher",0,null,null,null,null,null,null,{"$f":"IF('Choix de l''instrument '!$C$3=\"Etalonnage_Micromètre\",AND('Choix de l''instrument '!$D$3>=Etalonnage_Micromètre!G378,G378<>\"\"),\"\")","v":""}]
["ETA-0340","Cale étalon","30 mm",null,null,"Afficher",0,null,null,null,null,null,null,{"$f":"IF('Choix de l''instrument '!$C$3=\"Etalonnage_Micromètre\",AND('Choix de l''instrument '!$D$3>=Etalonnage_Micromètre!G379,G379<>\"\"),\"\")","v":""}]
["ETA-0345","Cale étalon","80 mm",null,null,"Afficher",0,null,null,null,null,null,null,{"$f":"IF('Choix de l''instrument '!$C$3=\"Etalonnage_Micromètre\",AND('Choix de l''instrument '!$D$3>=Etalonnage_Micromètre!G380,G380<>\"\"),\"\")","v":""}]
["ETA-0344","Cale étalon","70 mm",null,null,"Afficher",0,null,null,null,null,null,null,{"$f":"IF('Choix de l''instrument '!$C$3=\"Etalonnage_Micromètre\",AND('Choix de l''instrument '!$D$3>=Etalonnage_Micromètre!G381,G381<>\"\"),\"\")","v":""}]
["ETA-0343","Cale étalon","60 mm",null,null,"Afficher",0,null,null,null,null,null,null,{"$f":"IF('Choix de l''instrument '!$C$3=\"Etalonnage_Micromètre\",AND('Choix de l''instrument '!$D$3>=Etalonnage_Micromètre!G382,G382<>\"\"),\"\")","v":""}]
["ETA-0224","Cale étalon","0,200 mm",null,null,"Afficher",0,null,null,null,null,null,null,{"$f":"IF('Choix de l''instrument '!$C$3=\"Etalonnage_Micromètre\",AND('Choix de l''instrument '!$D$3>=Etalonnage_Micromètre!G383,G383<>\"\"),\"\")","v":""}]
["ETA-0227","Cale étalon","0,200 mm",null,null,"Afficher",0,null,null,null,null,null,null,{"$f":"IF('Choix de l''instrument '!$C$3=\"Etalonnage_Micromètre\",AND('Choix de l''instrument '!$D$3>=Etalonnage_Micromètre!G384,G384<>\"\"),\"\")","v":""}]
["ETA-0226","Cale étalon","0,200 mm",null,null,"Afficher",0,null,null,null,null,null,null,{"$f":"IF('Choix de l''instrument '!$C$3=\"Etalonnage_Micromètre\",AND('Choix de l''instrument '!$D$3>=Etalonnage_Micromètre!G385,G385<>\"\"),\"\")","v":""}]
["ETA-0225","Cale étalon","0,200 mm",null,null,"Afficher",0,null,null,null,null,null,null,{"$f":"IF('Choix de l''instrument '!$C$3=\"Etalonnage_Micromètre\",AND('Choix de l''instrument '!$D$3>=Etalonnage_Micromètre!G386,G386<>\"\"),\"\")","v":""}]
["ETA-0228","Cale étalon","0,200 mm",null,null,"Afficher",0,null,null,null,null,null,null,{"$f":"IF('Choix de l''instrument '!$C$3=\"Etalonnage_Micromètre\",AND('Choix de l''instrument '!$D$3>=Etalonnage_Micromètre!G387,G387<>\"\"),\"\")","v":""}]
["ETA-0231","Cale étalon","0,750 mm",null,null,"Afficher",0,null,null,null,null,null,null,{"$f":"IF('Choix de l''instrument '!$C$3=\"Etalonnage_Micromètre\",AND('Choix de l''instrument '!$D$3>=Etalonnage_Micromètre!G388,G388<>\"\"),\"\")","v":""}]
["ETA-0234","Cale étalon","0,750 mm",null,null,"Afficher",0,null,null,null,null,null,null,{"$f":"IF('Choix de l''instrument '!$C$3=\"Etalonnage_Micromètre\",AND('Choix de l''instrument '!$D$3>=Etalonnage_Micromètre!G389,G389<>\"\"),\"\")","v":""}]
["ETA-0233","Cale étalon","0,750 mm",null,null,"Afficher",0,null,null,null,null,null,null,{"$f":"IF('Choix de l''instrument '!$C$3=\"Etalonnage_Micromètre\",AND('Choix de l''instrument '!$D$3>=Etalonnage_Micromètre!G390,G390<>\"\"),\"\")","v":""}]
["ETA-0232","Cale étalon","0,750 mm",null,null,"Afficher",0,null,null,null,null,null,null,{"$f":"IF('Choix de l''instrument '!$C$3=\"Etalonnage_Micromètre\",AND('Choix de l''instrument '!$D$3>=Etalonnage_Micromètre!G391,G391<>\"\"),\"\")","v":""}]
["CET-214","Cale étalon","0,100 mm",null,null,"Afficher",0,null,null,null,null,null,null,{"$f":"IF('Choix de l''instrument '!$C$3=\"Etalonnage_Micromètre\",AND('Choix de l''instrument '!$D$3>=Etalonnage_Micromètre!G392,G392<>\"\"),\"\")","v":""}]
["CET-213","Cale étalon","0,1 mm",null,null,"Afficher",0,null,null,null,null,null,null,{"$f":"IF('Choix de l''instrument '!$C$3=\"Etalonnage_Micromètre\",AND('Choix de l''instrument '!$D$3>=Etalonnage_Micromètre!G393,G393<>\"\"),\"\")","v":""}]
["CET-212","Cale étalon","0,1 mm",null,null,"Afficher",0,null,null,null,null,null,null,{"$f":"IF('Choix de l''instrument '!$C$3=\"Etalonnage_Micromètre\",AND('Choix de l''instrument '!$D$3>=Etalonnage_Micromètre!G394,G394<>\"\"),\"\")","v":""}]
["CET-232","Cale étalon","100 mm",null,null,"Afficher",0,null,null,null,null,null,null,{"$f":"IF('Choix de l''instrument '!$C$3=\"Etalonnage_Micromètre\",AND('Choix de l''instrument '!$D$3>=Etalonnage_Micromètre!G395,G395<>\"\"),\"\")","v":""}]
["CET-231","Cale étalon","50 mm",null,null,"Afficher",0,null,null,null,null,null,null,{"$f":"IF('Choix de l''instrument '!$C$3=\"Etalonnage_Micromètre\",AND('Choix de l''instrument '!$D$3>=Etalonnage_Micromètre!G396,G396<>\"\"),\"\")","v":""}]
["CET-230","Cale étalon","5 mm",null,null,"Afficher",0,null,null,null,null,null,null,{"$f":"IF('Choix de l''instrument '!$C$3=\"Etalonnage_Micromètre\",AND('Choix de l''instrument '!$D$3>=Etalonnage_Micromètre!G397,G397<>\"\"),\"\")","v":""}]
["CET-211","Cale étalon","0,1 mm",null,null,"Afficher",0,null,null,null,null,null,null,{"$f":"IF('Choix de l''instrument '!$C$3=\"Etalonnage_Micromètre\",AND('Choix de l''instrument '!$D$3>=Etalonnage_Micromètre!G398,G398<>\"\"),\"\")","v":""}]
["CET-210","Cale étalon","0,100 mm",null,null,"Afficher",0,null,null,null,null,null,null,{"$f":"IF('Choix de l''instrument '!$C$3=\"Etalonnage_Micromètre\",AND('Choix de l''instrument '!$D$3>=Etalonnage_Micromètre!G399,G399<>\"\"),\"\")","v":""}]
["CET-001","Cale étalon","100 mm",null,null,"Afficher",0,null,null,null,null,null,null,{"$f":"IF('Choix de l''instrument '!$C$3=\"Etalonnage_Micromètre\",AND('Choix de l''instrument '!$D$3>=Etalonnage_Micromètre!G400,G400<>\"\"),\"\")","v":""}]
["CEP-011","Cale étalon","0,250",null,null,"Afficher",0,null,null,null,null,null,null,{"$f":"IF('Choix de l''instrument '!$C$3=\"Etalonnage_Micromètre\",AND('Choix de l''instrument '!$D$3>=Etalonnage_Micromètre!G401,G401<>\"\"),\"\")","v":""}]
["CF.067A","Cale étalon",25,null,null,"Afficher",0,null,null,null,null,null,null,{"$f":"IF('Choix de l''instrument '!$C$3=\"Etalonnage_Micromètre\",AND('Choix de l''instrument '!$D$3>=Etalonnage_Micromètre!G402,G402<>\"\"),\"\")","v":""}]
["ETA-0104","Cale étalon","0,200 mm",null,null,"Afficher",0,null,null,null,null,null,null,{"$f":"IF('Choix de l''instrument '!$C$3=\"Etalonnage_Micromètre\",AND('Choix de l''instrument '!$D$3>=Etalonnage_Micromètre!G403,G403<>\"\"),\"\")","v":""}]
["ETA-0103","Cale étalon","0,200 mm",null,null,"Afficher",0,null,null,null,null,null,null,{"$f":"IF('Choix de l''instrument '!$C$3=\"Etalonnage_Micromètre\",AND('Choix de l''instrument '!$D$3>=Etalonnage_Micromètre!G404,G404<>\"\"),\"\")","v":""}]
["ETA-0102","Cale étalon","0,200 mm",null,null,"Afficher",0,null,null,null,null,null,null,{"$f":"IF('Choix de l''instrument '!$C$3=\"Etalonnage_Micromètre\",AND('Choix de l''instrument '!$D$3>=Etalonnage_Micromètre!G405,G405<>\"\"),\"\")","v":""}]
["ETA-0097","Cale étalon","30 mm",null,null,"Afficher",0,null,null,null,null,null,null,{"$f":"IF('Choix de l''instrument '!$C$3=\"Etalonnage_Micromètre\",AND('Choix de l''instrument '!$D$3>=Etalonnage_Micromètre!G406,G406<>\"\"),\"\")","v":""}]
["ETA-0096","Cale étalon","30 mm",null,null,"Afficher",0,null,null,null,null,null,null,{"$f":"IF('Choix de l''instrument '!$C$3=\"Etalonnage_Micromètre\",AND('Choix de l''instrument '!$D$3>=Etalonnage_Micromètre!G407,G407<>\"\"),\"\")","v":""}]
["ETA-0105","Cale étalon","0,200 mm",null,null,"Afficher",0,null,null,null,null,null,null,{"$f":"IF('Choix de l''instrument '!$C$3=\"Etalonnage_Micromètre\",AND('Choix de l''instrument '!$D$3>=Etalonnage_Micromètre!G408,G408<>\"\"),\"\")","v":""}]
["ETA-0108","Cale étalon","0,200 mm",null,null,"Afficher",0,null,null,null,null,null,null,{"$f":"IF('Choix de l''instrument '!$C$3=\"Etalonnage_Micromètre\",AND('Choix de l''instrument '!$D$3>=Etalonnage_Micromètre!G409,G409<>\"\"),\"\")","v":""}]
["ETA-0107","Cale étalon","0,200 mm",null,null,"Afficher",0,null,null,null,null,null,null,{"$f":"IF('Choix de l''instrument '!$C$3=\"Etalonnage_Micromètre\",AND('Choix de l''instrument '!$D$3>=Etalonnage_Micromètre!G410,G410<>\"\"),\"\")","v":""}]
["ETA-0106","Cale étalon","0,200 mm",null,null,"Afficher",0,null,null,null,null,null,null,{"$f":"IF('Choix de l''instrument '!$C$3=\"Etalonnage_Micromètre\",AND('Choix de l''instrument '!$D$3>=Etalonnage_Micromètre!G411,G411<>\"\"),\"\")","v":""}]
["ETA-0074","Cale étalon","30 mm",null,null,"Afficher",0,null,null,null,null,null,null,{"$f":"IF('Choix de l''instrument '!$C$3=\"Etalonnage_Micromètre\",AND('Choix de l''instrument '!$D$3>=Etalonnage_Micromètre!G412,G412<>\"\"),\"\")","v":""}]
["ETA-0073","Cale étalon","30 mm",null,null,"Afficher",0,null,null,null,null,null,null,{"$f":"IF('Choix de l''instrument '!$C$3=\"Etalonnage_Micromètre\",AND('Choix de l''instrument '!$D$3>=Etalonnage_Micromètre!G413,G413<>\"\"),\"\")","v":""}]
["ETA-0072","Cale étalon","30 mm",null,null,"Afficher",0,null,null,null,null,null,null,{"$f":"IF('Choix de l''instrument '!$C$3=\"Etalonnage_Micromètre\",AND('Choix de l''instrument '!$D$3>=Etalonnage_Micromètre!G414,G414<>\"\"),\"\")","v":""}]
["ETA-0077","Cale étalon","90 mm",null,null,"Afficher",0,null,null,null,null,null,null,{"$f":"IF('Choix de l''instrument '!$C$3=\"Etalonnage_Micromètre\",AND('Choix de l''instrument '!$D$3>=Etalonnage_Micromètre!G415,G415<>\"\"),\"\")","v":""}]
["ETA-0076","Cale étalon","90 mm",null,null,"Afficher",0,null,null,null,null,null,null,{"$f":"IF('Choix de l''instrument '!$C$3=\"Etalonnage_Micromètre\",AND('Choix de l''instrument '!$D$3>=Etalonnage_Micromètre!G416,G416<>\"\"),\"\")","v":""}]
["ETA-0075","Cale étalon","30 mm",null,null,"Afficher",0,null,null,null,null,null,null,{"$f":"IF('Choix de l''instrument '!$C$3=\"Etalonnage_Micromètre\",AND('Choix de l''instrument '!$D$3>=Etalonnage_Micromètre!G417,G417<>\"\"),\"\")","v":""}]
["ETA-0071","Cale étalon","10 mm",null,null,"Afficher",0,null,null,null,null,null,null,{"$f":"IF('Choix de l''instrument '!$C$3=\"Etalonnage_Micromètre\",AND('Choix de l''instrument '!$D$3>=Etalonnage_Micromètre!G418,G418<>\"\"),\"\")","v":""}]
["ETA-0067","Cale étalon","10 mm",null,null,"Afficher",0,null,null,null,null,null,null,{"$f":"IF('Choix de l''instrument '!$C$3=\"Etalonnage_Micromètre\",AND('Choix de l''instrument '!$D$3>=Etalonnage_Micromètre!G419,G419<>\"\"),\"\")","v":""}]
["ETA-0066","Cale étalon","10 mm",null,null,"Afficher",0,null,null,null,null,null,null,{"$f":"IF('Choix de l''instrument '!$C$3=\"Etalonnage_Micromètre\",AND('Choix de l''instrument '!$D$3>=Etalonnage_Micromètre!G420,G420<>\"\"),\"\")","v":""}]
["ETA-0070","Cale étalon","10 mm",null,null,"Afficher",0,null,null,null,null,null,null,{"$f":"IF('Choix de l''instrument '!$C$3=\"Etalonnage_Micromètre\",AND('Choix de l''instrument '!$D$3>=Etalonnage_Micromètre!G421,G421<>\"\"),\"\")","v":""}]
["ETA-0069","Cale étalon","10 mm",null,null,"Afficher",0,null,null,null,null,null,null,{"$f":"IF('Choix de l''instrument '!$C$3=\"Etalonnage_Micromètre\",AND('Choix de l''instrument '!$D$3>=Etalonnage_Micromètre!G422,G422<>\"\"),\"\")","v":""}]
["ETA-0068","Cale étalon","10 mm",null,null,"Afficher",0,null,null,null,null,null,null,{"$f":"IF('Choix de l''instrument '!$C$3=\"Etalonnage_Micromètre\",AND('Choix de l''instrument '!$D$3>=Etalonnage_Micromètre!G423,G423<>\"\"),\"\")","v":""}]
["ETA-0078","Cale étalon","90 mm",null,null,"Afficher",0,null,null,null,null,null,null,{"$f":"IF('Choix de l''instrument '!$C$3=\"Etalonnage_Micromètre\",AND('Choix de l''instrument '!$D$3>=Etalonnage_Micromètre!G424,G424<>\"\"),\"\")","v":""}]
["ETA-0081","Cale étalon","90 mm",null,null,"Afficher",0,null,null,null,null,null,null,{"$f":"IF('Choix de l''instrument '!$C$3=\"Etalonnage_Micromètre\",AND('Choix de l''instrument '!$D$3>=Etalonnage_Micromètre!G425,G425<>\"\"),\"\")","v":""}]
["ETA-0080","Cale étalon","90 mm",null,null,"Afficher",0,null,null,null,null,null,null,{"$f":"IF('Choix de l''instrument '!$C$3=\"Etalonnage_Micromètre\",AND('Choix de l''instrument '!$D$3>=Etalonnage_Micromètre!G426,G426<>\"\"),\"\")","v":""}]
["ETA-0079","Cale étalon","90 mm",null,null,"Afficher",0,null,null,null,null,null,null,{"$f":"IF('Choix de l''instrument '!$C$3=\"Etalonnage_Micromètre\",AND('Choix de l''instrument '!$D$3>=Etalonnage_Micromètre!G427,G427<>\"\"),\"\")","v":""}]
["ETA-0082","Cale étalon","100 mm",null,null,"Afficher",0,null,null,null,null,null,null,{"$f":"IF('Choix de l''instrument '!$C$3=\"Etalonnage_Micromètre\",AND('Choix de l''instrument '!$D$3>=Etalonnage_Micromètre!G428,G428<>\"\"),\"\")","v":""}]
["ETA-0049","Cale étalon","0,200 mm",null,null,"Afficher",0,null,null,null,null,null,null,{"$f":"IF('Choix de l''instrument '!$C$3=\"Etalonnage_Micromètre\",AND('Choix de l''instrument '!$D$3>=Etalonnage_Micromètre!G429,G429<>\"\"),\"\")","v":""}]
["ETA-0048","Cale étalon","0,200 mm",null,null,"Afficher",0,null,null,null,null,null,null,{"$f":"IF('Choix de l''instrument '!$C$3=\"Etalonnage_Micromètre\",AND('Choix de l''instrument '!$D$3>=Etalonnage_Micromètre!G430,G430<>\"\"),\"\")","v":""}]
["ETA-0050","Cale étalon","0,200 mm",null,null,"Afficher",0,null,null,null,null,null,null,{"$f":"IF('Choix de l''instrument '!$C$3=\"Etalonnage_Micromètre\",AND('Choix de l''instrument '!$D$3>=Etalonnage_Micromètre!G431,G431<>\"\"),\"\")","v":""}]
["ETA-0052","Cale étalon","0,200 mm",null,null,"Afficher",0,null,null,null,null,null,null,{"$f":"IF('Choix de l''instrument '!$C$3=\"Etalonnage_Micromètre\",AND('Choix de l''instrument '!$D$3>=Etalonnage_Micromètre!G432,G432<>\"\"),\"\")","v":""}]
["ETA-0051","Cale étalon","0,200 mm",null,null,"Afficher",0,null,null,null,null,null,null,{"$f":"IF('Choix de l''instrument '!$C$3=\"Etalonnage_Micromètre\",AND('Choix de l''instrument '!$D$3>=Etalonnage_Micromètre!G433,G433<>\"\"),\"\")","v":""}]
["ETA-0022","Cale étalon","0,200 mm",null,null,"Afficher",0,null,null,null,null,null,null,{"$f":"IF('Choix de l''instrument '!$C$3=\"Etalonnage_Micromètre\",AND('Choix de l''instrument '!$D$3>=Etalonnage_Micromètre!G434,G434<>\"\"),\"\")","v":""}]
["ETA-0021","Cale étalon","0,200 mm",null,null,"Afficher",0,null,null,null,null,null,null,{"$f":"IF('Choix de l''instrument '!$C$3=\"Etalonnage_Micromètre\",AND('Choix de l''instrument '!$D$3>=Etalonnage_Micromètre!G435,G435<>\"\"),\"\")","v":""}]
["ETA-0020","Cale étalon","100 mm",null,null,"Afficher",0,null,null,null,null,null,null,{"$f":"IF('Choix de l''instrument '!$C$3=\"Etalonnage_Micromètre\",AND('Choix de l''instrument '!$D$3>=Etalonnage_Micromètre!G436,G436<>\"\"),\"\")","v":""}]
["ETA-0023","Cale étalon","0,200 mm",null,null,"Afficher",0,null,null,null,null,null,null,{"$f":"IF('Choix de l''instrument '!$C$3=\"Etalonnage_Micromètre\",AND('Choix de l''instrument '!$D$3>=Etalonnage_Micromètre!G437,G437<>\"\"),\"\")","v":""}]
["ETA-0031","Cale étalon","0,200 mm",null,null,"Afficher",0,null,null,null,null,null,null,{"$f":"IF('Choix de l''instrument '!$C$3=\"Etalonnage_Micromètre\",AND('Choix de l''instrument '!$D$3>=Etalonnage_Micromètre!G438,G438<>\"\"),\"\")","v":""}]
["ETA-0030","Cale étalon","0,200 mm",null,null,"Afficher",0,null,null,null,null,null,null,{"$f":"IF('Choix de l''instrument '!$C$3=\"Etalonnage_Micromètre\",AND('Choix de l''instrument '!$D$3>=Etalonnage_Micromètre!G439,G439<>\"\"),\"\")","v":""}]
["ETA-0026","Cale étalon","0,200 mm",null,null,"Afficher",0,null,null,null,null,null,null,{"$f":"IF('Choix de l''instrument '!$C$3=\"Etalonnage_Micromètre\",AND('Choix de l''instrument '!$D$3>=Etalonnage_Micromètre!G440,G440<>\"\"),\"\")","v":""}]
["ETA-0025","Cale étalon","0,200 mm",null,null,"Afficher",0,null,null,null,null,null,null,{"$f":"IF('Choix de l''instrument '!$C$3=\"Etalonnage_Micromètre\",AND('Choix de l''instrument '!$D$3>=Etalonnage_Micromètre!G441,G441<>\"\"),\"\")","v":""}]
["ETA-0024","Cale étalon","0,200 mm",null,null,"Afficher",0,null,null,null,null,null,null,{"$f":"IF('Choix de l''instrument '!$C$3=\"Etalonnage_Micromètre\",AND('Choix de l''instrument '!$D$3>=Etalonnage_Micromètre!G442,G442<>\"\"),\"\")","v":""}]
["ETA-0029","Cale étalon","0,200 mm",null,null,"Afficher",0,null,null,null,null,null,null,{"$f":"IF('Choix de l''instrument '!$C$3=\"Etalonnage_Micromètre\",AND('Choix de l''instrument '!$D$3>=Etalonnage_Micromètre!G443,G443<>\"\"),\"\")","v":""}]
["ETA-0028","Cale étalon","0,200 mm",null,null,"Afficher",0,null,null,null,null,null,null,{"$f":"IF('Choix de l''instrument '!$C$3=\"Etalonnage_Micromètre\",AND('Choix de l''instrument '!$D$3>=Etalonnage_Micromètre!G444,G444<>\"\"),\"\")","v":""}]
["ETA-0027","Cale étalon","0,200 mm",null,null,"Afficher",0,null,null,null,null,null,null,{"$f":"IF('Choix de l''instrument '!$C$3=\"Etalonnage_Micromètre\",AND('Choix de l''instrument '!$D$3>=Etalonnage_Micromètre!G445,G445<>\"\"),\"\")","v":""}]
["CF.441A","Cale étalon","8,90 mm",null,null,"Afficher",0,null,null,null,null,null,null,{"$f":"IF('Choix de l''instrument '!$C$3=\"Etalonnage_Micromètre\",AND('Choix de l''instrument '!$D$3>=Etalonnage_Micromètre!G446,G446<>\"\"),\"\")","v":""}]
["ETA-0253","Broche étalon","broche etalon 25 mm",null,null,"Afficher",0,null,null,null,null,null,null,{"$f":"IF('Choix de l''instrument '!$C$3=\"Etalonnage_Micromètre\",AND('Choix de l''instrument '!$D$3>=Etalonnage_Micromètre!G447,G447<>\"\"),\"\")","v":""}]
["ETA-0252","Broche étalon","broche etalon 25 mm",null,null,"Afficher",0,null,null,null,null,null,null,{"$f":"IF('Choix de l''instrument '!$C$3=\"Etalonnage_Micromètre\",AND('Choix de l''instrument '!$D$3>=Etalonnage_Micromètre!G448,G448<>\"\"),\"\")","v":""}]
["ETA-0251","Broche étalon","broche etalon 25 mm",null,null,"Afficher",0,null,null,null,null,null,null,{"$f":"IF('Choix de l''instrument '!$C$3=\"Etalonnage_Micromètre\",AND('Choix de l''instrument '!$D$3>=Etalonnage_Micromètre!G449,G449<>\"\"),\"\")","v":""}]
["ETA-0254","Broche étalon","broche etalon 25 mm",null,null,"Afficher",0,null,null,null,null,null,null,{"$f":"IF('Choix de l''instrument '!$C$3=\"Etalonnage_Micromètre\",AND('Choix de l''instrument '!$D$3>=Etalonnage_Micromètre!G450,G450<>\"\"),\"\")","v":""}]
["MET-0090","Broche étalon","25 mm",null,null,"Afficher",0,null,null,null,null,null,null,{"$f":"IF('Choix de l''instrument '!$C$3=\"Etalonnage_Micromètre\",AND('Choix de l''instrument '!$D$3>=Etalonnage_Micromètre!G451,G451<>\"\"),\"\")","v":""}]
["MEXT-008/E","Etalon pour micromètre","25 mm",null,null,"Afficher",0,null,null,null,null,null,null,{"$f":"IF('Choix de l''instrument '!$C$3=\"Etalonnage_Micromètre\",AND('Choix de l''instrument '!$D$3>=Etalonnage_Micromètre!G452,G452<>\"\"),\"\")","v":""}]
["MEXT-003 /E","Etalon pour micromètre","25 mm",null,null,"Afficher",0,null,null,null,null,null,null,{"$f":"IF('Choix de l''instrument '!$C$3=\"Etalonnage_Micromètre\",AND('Choix de l''instrument '!$D$3>=Etalonnage_Micromètre!G453,G453<>\"\"),\"\")","v":""}]
["ETA-0299","Etalon pour micromètre","25 mm",null,null,"Afficher",0,null,null,null,null,null,null,{"$f":"IF('Choix de l''instrument '!$C$3=\"Etalonnage_Micromètre\",AND('Choix de l''instrument '!$D$3>=Etalonnage_Micromètre!G454,G454<>\"\"),\"\")","v":""}]
["ETA-0059","Etalon pour micromètre","25 mm",null,null,"Afficher",0,null,null,null,null,null,null,{"$f":"IF('Choix de l''instrument '!$C$3=\"Etalonnage_Micromètre\",AND('Choix de l''instrument '!$D$3>=Etalonnage_Micromètre!G455,G455<>\"\"),\"\")","v":""}]
["ETA-0019","Etalon pour micromètre","25 mm",null,null,"Afficher",0,null,null,null,null,null,null,{"$f":"IF('Choix de l''instrument '!$C$3=\"Etalonnage_Micromètre\",AND('Choix de l''instrument '!$D$3>=Etalonnage_Micromètre!G456,G456<>\"\"),\"\")","v":""}]

{"sheet":"Etalonnage_Perte_de_charge","index":23,"n_rows":17,"n_cols":14,"rows_kept":17,"cut":false,"hidden":false,"merged":[]}
["Etalonnage_perte_de_charge"]
[null,null,null,null,null,null,"résolution g",null,null,null,null,null,null,"Résultat critère IT"]
["ETA-0489","Aiguille étalon pour pompe WATERS",null,null,null,"Afficher",0,null,null,null,null,null,null,{"$f":"IF('Choix de l''instrument '!$C$3=\"Etalonnage_Perte_de_charge\",AND('Choix de l''instrument '!$D$3>=Etalonnage_Perte_de_charge!G3,G3<>\"\"),\"\")","v":""}]
["ETA-0488","Aiguille étalon pour pompe WATERS",null,null,null,"Afficher",0,null,null,null,null,null,null,{"$f":"IF('Choix de l''instrument '!$C$3=\"Etalonnage_Perte_de_charge\",AND('Choix de l''instrument '!$D$3>=Etalonnage_Perte_de_charge!G4,G4<>\"\"),\"\")","v":""}]
["ETA-0490","Aiguille étalon pour pompe WATERS",null,null,null,"Afficher",0,null,null,null,null,null,null,{"$f":"IF('Choix de l''instrument '!$C$3=\"Etalonnage_Perte_de_charge\",AND('Choix de l''instrument '!$D$3>=Etalonnage_Perte_de_charge!G5,G5<>\"\"),\"\")","v":""}]
["ETA-0493","Aiguille étalon pour pompe WATERS",null,null,null,"Afficher",0,null,null,null,null,null,null,{"$f":"IF('Choix de l''instrument '!$C$3=\"Etalonnage_Perte_de_charge\",AND('Choix de l''instrument '!$D$3>=Etalonnage_Perte_de_charge!G6,G6<>\"\"),\"\")","v":""}]
["ETA-0492","Aiguille étalon pour pompe WATERS",null,null,null,"Afficher",0,null,null,null,null,null,null,{"$f":"IF('Choix de l''instrument '!$C$3=\"Etalonnage_Perte_de_charge\",AND('Choix de l''instrument '!$D$3>=Etalonnage_Perte_de_charge!G7,G7<>\"\"),\"\")","v":""}]
["ETA-0491","Aiguille étalon pour pompe WATERS",null,null,null,"Afficher",0,null,null,null,null,null,null,{"$f":"IF('Choix de l''instrument '!$C$3=\"Etalonnage_Perte_de_charge\",AND('Choix de l''instrument '!$D$3>=Etalonnage_Perte_de_charge!G8,G8<>\"\"),\"\")","v":""}]
["ETA-0496","Aiguille étalon pour pompe WATERS",null,null,null,"Afficher",0,null,null,null,null,null,null,{"$f":"IF('Choix de l''instrument '!$C$3=\"Etalonnage_Perte_de_charge\",AND('Choix de l''instrument '!$D$3>=Etalonnage_Perte_de_charge!G9,G9<>\"\"),\"\")","v":""}]
["ETA-0495","Aiguille étalon pour pompe WATERS",null,null,null,"Afficher",0,null,null,null,null,null,null,{"$f":"IF('Choix de l''instrument '!$C$3=\"Etalonnage_Perte_de_charge\",AND('Choix de l''instrument '!$D$3>=Etalonnage_Perte_de_charge!G10,G10<>\"\"),\"\")","v":""}]
["ETA-0494","Aiguille étalon pour pompe WATERS",null,null,null,"Afficher",0,null,null,null,null,null,null,{"$f":"IF('Choix de l''instrument '!$C$3=\"Etalonnage_Perte_de_charge\",AND('Choix de l''instrument '!$D$3>=Etalonnage_Perte_de_charge!G11,G11<>\"\"),\"\")","v":""}]
["ETA-0099","Aiguille étalon pour pompe WATERS",null,null,null,"Afficher",0,null,null,null,null,null,null,{"$f":"IF('Choix de l''instrument '!$C$3=\"Etalonnage_Perte_de_charge\",AND('Choix de l''instrument '!$D$3>=Etalonnage_Perte_de_charge!G12,G12<>\"\"),\"\")","v":""}]
["ETA-0098","Aiguille étalon pour pompe WATERS",null,null,null,"Afficher",0,null,null,null,null,null,null,{"$f":"IF('Choix de l''instrument '!$C$3=\"Etalonnage_Perte_de_charge\",AND('Choix de l''instrument '!$D$3>=Etalonnage_Perte_de_charge!G13,G13<>\"\"),\"\")","v":""}]
["ETA-0120","Aiguille étalon pour pompe WATERS",null,null,null,"Afficher",0,null,null,null,null,null,null,{"$f":"IF('Choix de l''instrument '!$C$3=\"Etalonnage_Perte_de_charge\",AND('Choix de l''instrument '!$D$3>=Etalonnage_Perte_de_charge!G14,G14<>\"\"),\"\")","v":""}]
["ETA-0058","Aiguille étalon pour pompe WATERS",null,null,null,"Afficher",0,null,null,null,null,null,null,{"$f":"IF('Choix de l''instrument '!$C$3=\"Etalonnage_Perte_de_charge\",AND('Choix de l''instrument '!$D$3>=Etalonnage_Perte_de_charge!G15,G15<>\"\"),\"\")","v":""}]
["ETA-0057","Aiguille étalon pour pompe WATERS",null,null,null,"Afficher",0,null,null,null,null,null,null,{"$f":"IF('Choix de l''instrument '!$C$3=\"Etalonnage_Perte_de_charge\",AND('Choix de l''instrument '!$D$3>=Etalonnage_Perte_de_charge!G16,G16<>\"\"),\"\")","v":""}]
["ETA-0056","Aiguille étalon pour pompe WATERS",null,null,null,"Afficher",0,null,null,null,null,null,null,{"$f":"IF('Choix de l''instrument '!$C$3=\"Etalonnage_Perte_de_charge\",AND('Choix de l''instrument '!$D$3>=Etalonnage_Perte_de_charge!G17,G17<>\"\"),\"\")","v":""}]

{"sheet":"Etalonnage_Pesage","index":24,"n_rows":39,"n_cols":14,"rows_kept":39,"cut":false,"hidden":false,"merged":[]}
["Etalonnage_pesage"]
[null,null,null,null,null,null,"résolution g",null,null,null,null,null,null,"Résultat critère IT"]
["MAS-0026","Masse étalon","500 g",null,null,"Afficher",0,null,null,null,null,null,null,{"$f":"IF('Choix de l''instrument '!$C$3=\"Etalonnage_Pesage\",AND('Choix de l''instrument '!$D$3>=Etalonnage_Pesage!G3,G3<>\"\"),\"\")","v":""}]
["MAS-0018","Masse étalon","100 g",null,null,"Afficher",0,null,null,null,null,null,null,{"$f":"IF('Choix de l''instrument '!$C$3=\"Etalonnage_Pesage\",AND('Choix de l''instrument '!$D$3>=Etalonnage_Pesage!G4,G4<>\"\"),\"\")","v":""}]
["MAS-0022","Masse étalon","20 kg",null,null,"Afficher",0,null,null,null,null,null,null,{"$f":"IF('Choix de l''instrument '!$C$3=\"Etalonnage_Pesage\",AND('Choix de l''instrument '!$D$3>=Etalonnage_Pesage!G5,G5<>\"\"),\"\")","v":""}]
["MAS-0031","Masse étalon","100 g",null,null,"Afficher",0,null,null,null,null,null,null,{"$f":"IF('Choix de l''instrument '!$C$3=\"Etalonnage_Pesage\",AND('Choix de l''instrument '!$D$3>=Etalonnage_Pesage!G6,G6<>\"\"),\"\")","v":""}]
["MAS-205","Masse étalon","100 g",null,null,"Afficher",0,null,null,null,null,null,null,{"$f":"IF('Choix de l''instrument '!$C$3=\"Etalonnage_Pesage\",AND('Choix de l''instrument '!$D$3>=Etalonnage_Pesage!G7,G7<>\"\"),\"\")","v":""}]
["MAS-170","Masse étalon","100 g",null,null,"Afficher",0,null,null,null,null,null,null,{"$f":"IF('Choix de l''instrument '!$C$3=\"Etalonnage_Pesage\",AND('Choix de l''instrument '!$D$3>=Etalonnage_Pesage!G8,G8<>\"\"),\"\")","v":""}]
["MAS-0034","Masse étalon","5000 g",null,null,"Afficher",0,null,null,null,null,null,null,{"$f":"IF('Choix de l''instrument '!$C$3=\"Etalonnage_Pesage\",AND('Choix de l''instrument '!$D$3>=Etalonnage_Pesage!G9,G9<>\"\"),\"\")","v":""}]
["MAS-0033","Masse étalon","100 g",null,null,"Afficher",0,null,null,null,null,null,null,{"$f":"IF('Choix de l''instrument '!$C$3=\"Etalonnage_Pesage\",AND('Choix de l''instrument '!$D$3>=Etalonnage_Pesage!G10,G10<>\"\"),\"\")","v":""}]
["MAS-0032","Masse étalon","100 g",null,null,"Afficher",0,null,null,null,null,null,null,{"$f":"IF('Choix de l''instrument '!$C$3=\"Etalonnage_Pesage\",AND('Choix de l''instrument '!$D$3>=Etalonnage_Pesage!G11,G11<>\"\"),\"\")","v":""}]
["MAS-0036","Masse étalon","5000 g",null,null,"Afficher",0,null,null,null,null,null,null,{"$f":"IF('Choix de l''instrument '!$C$3=\"Etalonnage_Pesage\",AND('Choix de l''instrument '!$D$3>=Etalonnage_Pesage!G12,G12<>\"\"),\"\")","v":""}]
["MAS-0035","Masse étalon","5000 g",null,null,"Afficher",0,null,null,null,null,null,null,{"$f":"IF('Choix de l''instrument '!$C$3=\"Etalonnage_Pesage\",AND('Choix de l''instrument '!$D$3>=Etalonnage_Pesage!G13,G13<>\"\"),\"\")","v":""}]
["MAS-0004","Masse étalon","350 g",null,null,"Afficher",0,null,null,null,null,null,null,{"$f":"IF('Choix de l''instrument '!$C$3=\"Etalonnage_Pesage\",AND('Choix de l''instrument '!$D$3>=Etalonnage_Pesage!G14,G14<>\"\"),\"\")","v":""}]
["MAS-0003","Masse étalon","500 g",null,null,"Afficher",0,null,null,null,null,null,null,{"$f":"IF('Choix de l''instrument '!$C$3=\"Etalonnage_Pesage\",AND('Choix de l''instrument '!$D$3>=Etalonnage_Pesage!G15,G15<>\"\"),\"\")","v":""}]
["MAS-0005","Masse étalon","100 g",null,null,"Afficher",0,null,null,null,null,null,null,{"$f":"IF('Choix de l''instrument '!$C$3=\"Etalonnage_Pesage\",AND('Choix de l''instrument '!$D$3>=Etalonnage_Pesage!G16,G16<>\"\"),\"\")","v":""}]
["MAS-0014","Masse étalon","5000 g",null,null,"Afficher",0,null,null,null,null,null,null,{"$f":"IF('Choix de l''instrument '!$C$3=\"Etalonnage_Pesage\",AND('Choix de l''instrument '!$D$3>=Etalonnage_Pesage!G17,G17<>\"\"),\"\")","v":""}]
["MAS-0013","Masse étalon","100 g",null,null,"Afficher",0,null,null,null,null,null,null,{"$f":"IF('Choix de l''instrument '!$C$3=\"Etalonnage_Pesage\",AND('Choix de l''instrument '!$D$3>=Etalonnage_Pesage!G18,G18<>\"\"),\"\")","v":""}]
["MAS-0012","Masse étalon","100 g",null,null,"Afficher",0,null,null,null,null,null,null,{"$f":"IF('Choix de l''instrument '!$C$3=\"Etalonnage_Pesage\",AND('Choix de l''instrument '!$D$3>=Etalonnage_Pesage!G19,G19<>\"\"),\"\")","v":""}]
["MAS-0017","Masse étalon","5000 g",null,null,"Afficher",0,null,null,null,null,null,null,{"$f":"IF('Choix de l''instrument '!$C$3=\"Etalonnage_Pesage\",AND('Choix de l''instrument '!$D$3>=Etalonnage_Pesage!G20,G20<>\"\"),\"\")","v":""}]
["MAS-0016","Masse étalon","5000 g",null,null,"Afficher",0,null,null,null,null,null,null,{"$f":"IF('Choix de l''instrument '!$C$3=\"Etalonnage_Pesage\",AND('Choix de l''instrument '!$D$3>=Etalonnage_Pesage!G21,G21<>\"\"),\"\")","v":""}]
["MAS-0015","Masse étalon","5000 g",null,null,"Afficher",0,null,null,null,null,null,null,{"$f":"IF('Choix de l''instrument '!$C$3=\"Etalonnage_Pesage\",AND('Choix de l''instrument '!$D$3>=Etalonnage_Pesage!G22,G22<>\"\"),\"\")","v":""}]
["MAS-0011","Masse étalon","100 g",null,null,"Afficher",0,null,null,null,null,null,null,{"$f":"IF('Choix de l''instrument '!$C$3=\"Etalonnage_Pesage\",AND('Choix de l''instrument '!$D$3>=Etalonnage_Pesage!G23,G23<>\"\"),\"\")","v":""}]
["MAS-0006","Masse étalon","38 g",null,null,"Afficher",0,null,null,null,null,null,null,{"$f":"IF('Choix de l''instrument '!$C$3=\"Etalonnage_Pesage\",AND('Choix de l''instrument '!$D$3>=Etalonnage_Pesage!G24,G24<>\"\"),\"\")","v":""}]
["MAS-0010","Masse étalon","100 g",null,null,"Afficher",0,null,null,null,null,null,null,{"$f":"IF('Choix de l''instrument '!$C$3=\"Etalonnage_Pesage\",AND('Choix de l''instrument '!$D$3>=Etalonnage_Pesage!G25,G25<>\"\"),\"\")","v":""}]
["MAS-001","Masse étalon","20 g",null,null,"Afficher",0,null,null,null,null,null,null,{"$f":"IF('Choix de l''instrument '!$C$3=\"Etalonnage_Pesage\",AND('Choix de l''instrument '!$D$3>=Etalonnage_Pesage!G26,G26<>\"\"),\"\")","v":""}]
["MAS-209/1","Masse étalon","20 mg",null,null,"Afficher",0,null,null,null,null,null,null,{"$f":"IF('Choix de l''instrument '!$C$3=\"Etalonnage_Pesage\",AND('Choix de l''instrument '!$D$3>=Etalonnage_Pesage!G27,G27<>\"\"),\"\")","v":""}]
["MAS-209","Masse étalon","20 mg",null,null,"Afficher",0,null,null,null,null,null,null,{"$f":"IF('Choix de l''instrument '!$C$3=\"Etalonnage_Pesage\",AND('Choix de l''instrument '!$D$3>=Etalonnage_Pesage!G28,G28<>\"\"),\"\")","v":""}]
["SQ.072","Masse étalon","5 kg",null,null,"Afficher",0,null,null,null,null,null,null,{"$f":"IF('Choix de l''instrument '!$C$3=\"Etalonnage_Pesage\",AND('Choix de l''instrument '!$D$3>=Etalonnage_Pesage!G29,G29<>\"\"),\"\")","v":""}]
["SQ.064","Masse étalon","100 g",null,null,"Afficher",0,null,null,null,null,null,null,{"$f":"IF('Choix de l''instrument '!$C$3=\"Etalonnage_Pesage\",AND('Choix de l''instrument '!$D$3>=Etalonnage_Pesage!G30,G30<>\"\"),\"\")","v":""}]
["SQ.067","Masse étalon","5 kg",null,null,"Afficher",0,null,null,null,null,null,null,{"$f":"IF('Choix de l''instrument '!$C$3=\"Etalonnage_Pesage\",AND('Choix de l''instrument '!$D$3>=Etalonnage_Pesage!G31,G31<>\"\"),\"\")","v":""}]
["SQ.066","Masse étalon","100 g",null,null,"Afficher",0,null,null,null,null,null,null,{"$f":"IF('Choix de l''instrument '!$C$3=\"Etalonnage_Pesage\",AND('Choix de l''instrument '!$D$3>=Etalonnage_Pesage!G32,G32<>\"\"),\"\")","v":""}]
["SQ.065","Masse étalon","5000 g",null,null,"Afficher",0,null,null,null,null,null,null,{"$f":"IF('Choix de l''instrument '!$C$3=\"Etalonnage_Pesage\",AND('Choix de l''instrument '!$D$3>=Etalonnage_Pesage!G33,G33<>\"\"),\"\")","v":""}]
["SQ.124","Masse étalon","100 g",null,null,"Afficher",0,null,null,null,null,null,null,{"$f":"IF('Choix de l''instrument '!$C$3=\"Etalonnage_Pesage\",AND('Choix de l''instrument '!$D$3>=Etalonnage_Pesage!G34,G34<>\"\"),\"\")","v":""}]
["SQ.123","Masse étalon","5 kg",null,null,"Afficher",0,null,null,null,null,null,null,{"$f":"IF('Choix de l''instrument '!$C$3=\"Etalonnage_Pesage\",AND('Choix de l''instrument '!$D$3>=Etalonnage_Pesage!G35,G35<>\"\"),\"\")","v":""}]
["B.061A","Masse étalon","20 mg",null,null,"Afficher",0,null,null,null,null,null,null,{"$f":"IF('Choix de l''instrument '!$C$3=\"Etalonnage_Pesage\",AND('Choix de l''instrument '!$D$3>=Etalonnage_Pesage!G36,G36<>\"\"),\"\")","v":""}]
["B.020A","Masse étalon","100 g",null,null,"Afficher",0,null,null,null,null,null,null,{"$f":"IF('Choix de l''instrument '!$C$3=\"Etalonnage_Pesage\",AND('Choix de l''instrument '!$D$3>=Etalonnage_Pesage!G37,G37<>\"\"),\"\")","v":""}]
["ED.000","Masse étalon","20 kg",null,null,"Afficher",0,null,null,null,null,null,null,{"$f":"IF('Choix de l''instrument '!$C$3=\"Etalonnage_Pesage\",AND('Choix de l''instrument '!$D$3>=Etalonnage_Pesage!G38,G38<>\"\"),\"\")","v":""}]
["JDME-001","Jeu de masses étalons","50 g à 500 g",null,null,"Afficher",0,null,null,null,null,null,null,{"$f":"IF('Choix de l''instrument '!$C$3=\"Etalonnage_Pesage\",AND('Choix de l''instrument '!$D$3>=Etalonnage_Pesage!G39,G39<>\"\"),\"\")","v":""}]

{"sheet":"Etalonnage_Pression","index":25,"n_rows":6,"n_cols":14,"rows_kept":6,"cut":false,"hidden":false,"merged":[]}
["Etalonnage_pression"]
[null,null,null,null,null,null,"résolution g",null,null,null,null,null,null,"Résultat critère IT"]
["PRE-0002","Etalon","6 / 11 bar",null,null,"Afficher",0,null,null,null,null,null,null,{"$f":"IF('Choix de l''instrument '!$C$3=\"Etalonnage_Pression\",AND('Choix de l''instrument '!$D$3>=Etalonnage_Pression!G3,G3<>\"\"),\"\")","v":""}]
["PRE-0007","Etalon","6 / 11 bar",null,null,"Afficher",0,null,null,null,null,null,null,{"$f":"IF('Choix de l''instrument '!$C$3=\"Etalonnage_Pression\",AND('Choix de l''instrument '!$D$3>=Etalonnage_Pression!G4,G4<>\"\"),\"\")","v":""}]
["PRE-0009","Etalon","6 / 11 bar",null,null,"Afficher",0,null,null,null,null,null,null,{"$f":"IF('Choix de l''instrument '!$C$3=\"Etalonnage_Pression\",AND('Choix de l''instrument '!$D$3>=Etalonnage_Pression!G5,G5<>\"\"),\"\")","v":""}]
["MET-0091","Manomètre","0 - 400 bar",null,null,"Afficher",0,null,null,null,null,null,null,{"$f":"IF('Choix de l''instrument '!$C$3=\"Etalonnage_Pression\",AND('Choix de l''instrument '!$D$3>=Etalonnage_Pression!G6,G6<>\"\"),\"\")","v":""}]

{"sheet":"Filetage","index":26,"n_rows":67,"n_cols":14,"rows_kept":67,"cut":false,"hidden":false,"merged":[]}
["Filetage"]
[null,null,null,null,null,null,"résolution g",null,null,null,null,null,null,"Résultat critère IT"]
["Afficher","M.200","Bague filetée","Entre","BFE M12X1-6G",null,0,null,null,null,null,null,null,{"$f":"IF('Choix de l''instrument '!$C$3=\"Filetage\",AND('Choix de l''instrument '!$D$3>=Filetage!G3,G3<>\"\"),\"\")","v":""}]
["Afficher","M.048A","Bague filetée","Entre","BFE M 40 x 1,5 - 6g",null,0,null,null,null,null,null,null,{"$f":"IF('Choix de l''instrument '!$C$3=\"Filetage\",AND('Choix de l''instrument '!$D$3>=Filetage!G4,G4<>\"\"),\"\")","v":""}]
["Afficher","THE.202","Bague filetée","N'entre pas","BFNEP M 4 x 0,35 - 6g",null,0,null,null,null,null,null,null,{"$f":"IF('Choix de l''instrument '!$C$3=\"Filetage\",AND('Choix de l''instrument '!$D$3>=Filetage!G5,G5<>\"\"),\"\")","v":""}]
["Afficher","THE.201","Bague filetée","Entre","BFE M 4 x 0,35 - 6g",null,0,null,null,null,null,null,null,{"$f":"IF('Choix de l''instrument '!$C$3=\"Filetage\",AND('Choix de l''instrument '!$D$3>=Filetage!G6,G6<>\"\"),\"\")","v":""}]
["Afficher","THE.203","Bague filetée","Entre","BFE M 14 x 1,5 - 6g",null,0,null,null,null,null,null,null,{"$f":"IF('Choix de l''instrument '!$C$3=\"Filetage\",AND('Choix de l''instrument '!$D$3>=Filetage!G7,G7<>\"\"),\"\")","v":""}]
["Afficher","THE.116","Bague filetée","Entre","BFE M 12 x 1 - 6g",null,0,null,null,null,null,null,null,{"$f":"IF('Choix de l''instrument '!$C$3=\"Filetage\",AND('Choix de l''instrument '!$D$3>=Filetage!G8,G8<>\"\"),\"\")","v":""}]
["Afficher","THE.121","Bague filetée","Entre","BFE M 14 x 2 - 6g",null,0,null,null,null,null,null,null,{"$f":"IF('Choix de l''instrument '!$C$3=\"Filetage\",AND('Choix de l''instrument '!$D$3>=Filetage!G9,G9<>\"\"),\"\")","v":""}]
["Afficher","THE.119","Bague filetée","Entre","BFE M 3 x 0,5 - 6g",null,0,null,null,null,null,null,null,{"$f":"IF('Choix de l''instrument '!$C$3=\"Filetage\",AND('Choix de l''instrument '!$D$3>=Filetage!G10,G10<>\"\"),\"\")","v":""}]
["Afficher","THE.114","Bague filetée","Entre","BFE M 4 x 0,35 - 6g",null,0,null,null,null,null,null,null,{"$f":"IF('Choix de l''instrument '!$C$3=\"Filetage\",AND('Choix de l''instrument '!$D$3>=Filetage!G11,G11<>\"\"),\"\")","v":""}]
["Afficher","THE.111","Bague filetée","Entre","BFE M 4 x 0,35 - 6g",null,0,null,null,null,null,null,null,{"$f":"IF('Choix de l''instrument '!$C$3=\"Filetage\",AND('Choix de l''instrument '!$D$3>=Filetage!G12,G12<>\"\"),\"\")","v":""}]
["Afficher","THE.145","Bague filetée","Entre","BFE UNF 1/4 x 28 - 2A",null,0,null,null,null,null,null,null,{"$f":"IF('Choix de l''instrument '!$C$3=\"Filetage\",AND('Choix de l''instrument '!$D$3>=Filetage!G13,G13<>\"\"),\"\")","v":""}]
["Afficher","THE.125","Bague filetée","Entre","BFE UNF 6 x 40 - 2A",null,0,null,null,null,null,null,null,{"$f":"IF('Choix de l''instrument '!$C$3=\"Filetage\",AND('Choix de l''instrument '!$D$3>=Filetage!G14,G14<>\"\"),\"\")","v":""}]
["Afficher","THE.124","Bague filetée","Entre","BFE M 6 x 1 - 6g",null,0,null,null,null,null,null,null,{"$f":"IF('Choix de l''instrument '!$C$3=\"Filetage\",AND('Choix de l''instrument '!$D$3>=Filetage!G15,G15<>\"\"),\"\")","v":""}]
["Afficher","THE.130","Bague filetée","Entre","BFE M 12 x 1 - 6h",null,0,null,null,null,null,null,null,{"$f":"IF('Choix de l''instrument '!$C$3=\"Filetage\",AND('Choix de l''instrument '!$D$3>=Filetage!G16,G16<>\"\"),\"\")","v":""}]
["Afficher","THE.067","Bague filetée","Entre","BFE M 3 x 0,35 - 6g",null,0,null,null,null,null,null,null,{"$f":"IF('Choix de l''instrument '!$C$3=\"Filetage\",AND('Choix de l''instrument '!$D$3>=Filetage!G17,G17<>\"\"),\"\")","v":""}]
["Afficher","THE.086","Bague filetée","N'entre pas","BFNEP M 3 x 0,5 - 6g",null,0,null,null,null,null,null,null,{"$f":"IF('Choix de l''instrument '!$C$3=\"Filetage\",AND('Choix de l''instrument '!$D$3>=Filetage!G18,G18<>\"\"),\"\")","v":""}]
["Afficher","THE.080","Bague filetée","N'entre pas","BFNEP M 5 x 0,8 - 6g",null,0,null,null,null,null,null,null,{"$f":"IF('Choix de l''instrument '!$C$3=\"Filetage\",AND('Choix de l''instrument '!$D$3>=Filetage!G19,G19<>\"\"),\"\")","v":""}]
["Afficher","SQ.103","Bague filetée","Entre","BFE 1,35 x 0,35 - 6g",null,0,null,null,null,null,null,null,{"$f":"IF('Choix de l''instrument '!$C$3=\"Filetage\",AND('Choix de l''instrument '!$D$3>=Filetage!G20,G20<>\"\"),\"\")","v":""}]
["Afficher","SQ.102","Bague filetée","N'entre pas","BFE UNF 24 x 3/8 - 2A",null,0,null,null,null,null,null,null,{"$f":"IF('Choix de l''instrument '!$C$3=\"Filetage\",AND('Choix de l''instrument '!$D$3>=Filetage!G21,G21<>\"\"),\"\")","v":""}]
["Afficher","SQ.101","Bague filetée","Entre","BFE UNF 24 x 3/8 - 2A",null,0,null,null,null,null,null,null,{"$f":"IF('Choix de l''instrument '!$C$3=\"Filetage\",AND('Choix de l''instrument '!$D$3>=Filetage!G22,G22<>\"\"),\"\")","v":""}]
["Afficher","SQ.104","Bague filetée","N'entre pas","BFNEP 1,35 x 0,35 - 6g",null,0,null,null,null,null,null,null,{"$f":"IF('Choix de l''instrument '!$C$3=\"Filetage\",AND('Choix de l''instrument '!$D$3>=Filetage!G23,G23<>\"\"),\"\")","v":""}]
["Afficher","TC.097","Bague filetée","N'entre pas","BFNEP M 5 x 0,8 - 6g",null,0,null,null,null,null,null,null,{"$f":"IF('Choix de l''instrument '!$C$3=\"Filetage\",AND('Choix de l''instrument '!$D$3>=Filetage!G24,G24<>\"\"),\"\")","v":""}]
["Afficher","TC.096","Bague filetée","Entre","BFE M 5 x 0,8 - 6g",null,0,null,null,null,null,null,null,{"$f":"IF('Choix de l''instrument '!$C$3=\"Filetage\",AND('Choix de l''instrument '!$D$3>=Filetage!G25,G25<>\"\"),\"\")","v":""}]
["Afficher","CAL-0491","Bague filetée","Entre","BFE -25",null,0,null,null,null,null,null,null,{"$f":"IF('Choix de l''instrument '!$C$3=\"Filetage\",AND('Choix de l''instrument '!$D$3>=Filetage!G26,G26<>\"\"),\"\")","v":""}]
["Afficher","CF.026A","Bague filetée","Entre","BFE M 8 x 1 - 6g",null,0,null,null,null,null,null,null,{"$f":"IF('Choix de l''instrument '!$C$3=\"Filetage\",AND('Choix de l''instrument '!$D$3>=Filetage!G27,G27<>\"\"),\"\")","v":""}]
["Afficher","CF.184","Bague filetée","Entre","BFE UNF 1/4 x 28 - 2A",null,0,null,null,null,null,null,null,{"$f":"IF('Choix de l''instrument '!$C$3=\"Filetage\",AND('Choix de l''instrument '!$D$3>=Filetage!G28,G28<>\"\"),\"\")","v":""}]
["Afficher","CF.183","Bague filetée","Entre","BFE M 5 x 0,8 - 6g",null,0,null,null,null,null,null,null,{"$f":"IF('Choix de l''instrument '!$C$3=\"Filetage\",AND('Choix de l''instrument '!$D$3>=Filetage!G29,G29<>\"\"),\"\")","v":""}]
["Afficher","CF.156A","Bague filetée","Entre","BFE M 10 x 0,75 - 6g",null,0,null,null,null,null,null,null,{"$f":"IF('Choix de l''instrument '!$C$3=\"Filetage\",AND('Choix de l''instrument '!$D$3>=Filetage!G30,G30<>\"\"),\"\")","v":""}]
["Afficher","CF.156","Bague filetée","N'entre pas","BFNEP M 10 x 0,75 - 6g",null,0,null,null,null,null,null,null,{"$f":"IF('Choix de l''instrument '!$C$3=\"Filetage\",AND('Choix de l''instrument '!$D$3>=Filetage!G31,G31<>\"\"),\"\")","v":""}]
["Afficher","CAL-0088","Bague filetée","Entre","BFE 0-80 UNF-2A",null,0,null,null,null,null,null,null,{"$f":"IF('Choix de l''instrument '!$C$3=\"Filetage\",AND('Choix de l''instrument '!$D$3>=Filetage!G32,G32<>\"\"),\"\")","v":""}]
["Afficher","CAL-0075","Bague filetée","N'entre pas","BFE M4*0,35-6g",null,0,null,null,null,null,null,null,{"$f":"IF('Choix de l''instrument '!$C$3=\"Filetage\",AND('Choix de l''instrument '!$D$3>=Filetage!G33,G33<>\"\"),\"\")","v":""}]
["Afficher","CAL-0074","Bague filetée","Entre","BFE M4*0,35-6g",null,0,null,null,null,null,null,null,{"$f":"IF('Choix de l''instrument '!$C$3=\"Filetage\",AND('Choix de l''instrument '!$D$3>=Filetage!G34,G34<>\"\"),\"\")","v":""}]
["Afficher","BF-001","Bague filetée","Entre","BFE M 23 x 1 - 6e",null,0,null,null,null,null,null,null,{"$f":"IF('Choix de l''instrument '!$C$3=\"Filetage\",AND('Choix de l''instrument '!$D$3>=Filetage!G35,G35<>\"\"),\"\")","v":""}]
["Afficher","BF-004","Bague filetée","N'entre pas","BFNEP M 3 x 050 - 6g",null,0,null,null,null,null,null,null,{"$f":"IF('Choix de l''instrument '!$C$3=\"Filetage\",AND('Choix de l''instrument '!$D$3>=Filetage!G36,G36<>\"\"),\"\")","v":""}]
["Afficher","BF-003","Bague filetée","Entre","BFE M 3 x 050 - 6g",null,0,null,null,null,null,null,null,{"$f":"IF('Choix de l''instrument '!$C$3=\"Filetage\",AND('Choix de l''instrument '!$D$3>=Filetage!G37,G37<>\"\"),\"\")","v":""}]
["Afficher","BF-002","Bague filetée","N'entre pas","BFNEP M 23 x 1 - 6e",null,0,null,null,null,null,null,null,{"$f":"IF('Choix de l''instrument '!$C$3=\"Filetage\",AND('Choix de l''instrument '!$D$3>=Filetage!G38,G38<>\"\"),\"\")","v":""}]
["Afficher","CAL-0147","Bague filetée","N'entre pas","BFNEP M x 5 - 6g",null,0,null,null,null,null,null,null,{"$f":"IF('Choix de l''instrument '!$C$3=\"Filetage\",AND('Choix de l''instrument '!$D$3>=Filetage!G39,G39<>\"\"),\"\")","v":""}]
["Afficher","CAL-0146","Bague filetée","N'entre pas","BFNEP 5 g6",null,0,null,null,null,null,null,null,{"$f":"IF('Choix de l''instrument '!$C$3=\"Filetage\",AND('Choix de l''instrument '!$D$3>=Filetage!G40,G40<>\"\"),\"\")","v":""}]
["Afficher","CAL-0165","Bague filetée","Entre","BFE M 23x1,00 6E",null,0,null,null,null,null,null,null,{"$f":"IF('Choix de l''instrument '!$C$3=\"Filetage\",AND('Choix de l''instrument '!$D$3>=Filetage!G41,G41<>\"\"),\"\")","v":""}]
["Afficher","CAL-0164","Bague filetée","N'entre pas","BFNEP M 23x1,00 6E",null,0,null,null,null,null,null,null,{"$f":"IF('Choix de l''instrument '!$C$3=\"Filetage\",AND('Choix de l''instrument '!$D$3>=Filetage!G42,G42<>\"\"),\"\")","v":""}]
["Afficher","CAL-0157","Bague filetée","Entre","BFE M x 4 - 6g",null,0,null,null,null,null,null,null,{"$f":"IF('Choix de l''instrument '!$C$3=\"Filetage\",AND('Choix de l''instrument '!$D$3>=Filetage!G43,G43<>\"\"),\"\")","v":""}]
["Afficher","CAL-0128","Bague filetée","Entre","BFE UNF 1/4 x 28 - 2A",null,0,null,null,null,null,null,null,{"$f":"IF('Choix de l''instrument '!$C$3=\"Filetage\",AND('Choix de l''instrument '!$D$3>=Filetage!G44,G44<>\"\"),\"\")","v":""}]
["Afficher","CAL-0136","Bague filetée","Entre","BFE 8 g6",null,0,null,null,null,null,null,null,{"$f":"IF('Choix de l''instrument '!$C$3=\"Filetage\",AND('Choix de l''instrument '!$D$3>=Filetage!G45,G45<>\"\"),\"\")","v":""}]
["Afficher","CAL-0131","Bague filetée","N'entre pas","BFNEP M 2,5 x - 6g",null,0,null,null,null,null,null,null,{"$f":"IF('Choix de l''instrument '!$C$3=\"Filetage\",AND('Choix de l''instrument '!$D$3>=Filetage!G46,G46<>\"\"),\"\")","v":""}]
["Afficher","CAL-0130","Bague filetée","Entre","BFE M x 2,5 - 6g",null,0,null,null,null,null,null,null,{"$f":"IF('Choix de l''instrument '!$C$3=\"Filetage\",AND('Choix de l''instrument '!$D$3>=Filetage!G47,G47<>\"\"),\"\")","v":""}]
["Afficher","CAL-0129","Bague filetée","N'entre pas","BFNEP UNF 1/4 x 28 - 2A",null,0,null,null,null,null,null,null,{"$f":"IF('Choix de l''instrument '!$C$3=\"Filetage\",AND('Choix de l''instrument '!$D$3>=Filetage!G48,G48<>\"\"),\"\")","v":""}]
["Afficher","CAL-0134","Bague filetée","Entre","BFE M 16 x 1,5 - 6h",null,0,null,null,null,null,null,null,{"$f":"IF('Choix de l''instrument '!$C$3=\"Filetage\",AND('Choix de l''instrument '!$D$3>=Filetage!G49,G49<>\"\"),\"\")","v":""}]
["Afficher","CAL-0133","Bague filetée","Entre","BFE M x 3 - 6g",null,0,null,null,null,null,null,null,{"$f":"IF('Choix de l''instrument '!$C$3=\"Filetage\",AND('Choix de l''instrument '!$D$3>=Filetage!G50,G50<>\"\"),\"\")","v":""}]
["Afficher","CAL-0132","Bague filetée","N'entre pas","BFNEP M 5 x 0,5 - 6g",null,0,null,null,null,null,null,null,{"$f":"IF('Choix de l''instrument '!$C$3=\"Filetage\",AND('Choix de l''instrument '!$D$3>=Filetage!G51,G51<>\"\"),\"\")","v":""}]
["Afficher","CF.453","Bague filetée","Entre","BFE UNF 1/4 x 28 - 2A",null,0,null,null,null,null,null,null,{"$f":"IF('Choix de l''instrument '!$C$3=\"Filetage\",AND('Choix de l''instrument '!$D$3>=Filetage!G52,G52<>\"\"),\"\")","v":""}]
["Afficher","CF.405","Bague filetée","N'entre pas","BFE M 14 x 1,5 - 6h",null,0,null,null,null,null,null,null,{"$f":"IF('Choix de l''instrument '!$C$3=\"Filetage\",AND('Choix de l''instrument '!$D$3>=Filetage!G53,G53<>\"\"),\"\")","v":""}]
["Afficher","CF.404","Bague filetée","Entre","BFE M 14 x 1,5 - 6h",null,0,null,null,null,null,null,null,{"$f":"IF('Choix de l''instrument '!$C$3=\"Filetage\",AND('Choix de l''instrument '!$D$3>=Filetage!G54,G54<>\"\"),\"\")","v":""}]
["Afficher","CF.415","Bague filetée","Entre","BFE M 8 x 1,25 - 6g",null,0,null,null,null,null,null,null,{"$f":"IF('Choix de l''instrument '!$C$3=\"Filetage\",AND('Choix de l''instrument '!$D$3>=Filetage!G55,G55<>\"\"),\"\")","v":""}]
["Afficher","CF.252","Bague filetée","Entre","BFE M 23 x 1 - 6g",null,0,null,null,null,null,null,null,{"$f":"IF('Choix de l''instrument '!$C$3=\"Filetage\",AND('Choix de l''instrument '!$D$3>=Filetage!G56,G56<>\"\"),\"\")","v":""}]
["Afficher","CF.251","Bague filetée","N'entre pas","BFNEP M 23 x 1 - 6g",null,0,null,null,null,null,null,null,{"$f":"IF('Choix de l''instrument '!$C$3=\"Filetage\",AND('Choix de l''instrument '!$D$3>=Filetage!G57,G57<>\"\"),\"\")","v":""}]
["Afficher","CF.253","Bague filetée","Entre","BFE M 6 x 1 - 6g",null,0,null,null,null,null,null,null,{"$f":"IF('Choix de l''instrument '!$C$3=\"Filetage\",AND('Choix de l''instrument '!$D$3>=Filetage!G58,G58<>\"\"),\"\")","v":""}]
["Afficher","CF.210","Bague filetée","N'entre pas","BFNEP M 8 x 1,25 - 6g",null,0,null,null,null,null,null,null,{"$f":"IF('Choix de l''instrument '!$C$3=\"Filetage\",AND('Choix de l''instrument '!$D$3>=Filetage!G59,G59<>\"\"),\"\")","v":""}]
["Afficher","CF.199","Bague filetée","N'entre pas","BFE M 5 x 0,8 - 6g",null,0,null,null,null,null,null,null,{"$f":"IF('Choix de l''instrument '!$C$3=\"Filetage\",AND('Choix de l''instrument '!$D$3>=Filetage!G60,G60<>\"\"),\"\")","v":""}]
["Afficher","CF.185","Bague filetée","N'entre pas","BFE UNF 1/4 x 28 - 2A",null,0,null,null,null,null,null,null,{"$f":"IF('Choix de l''instrument '!$C$3=\"Filetage\",AND('Choix de l''instrument '!$D$3>=Filetage!G61,G61<>\"\"),\"\")","v":""}]
["Afficher","CF.230","Bague filetée","N'entre pas","BFNEP M 10 x 1 - 6g",null,0,null,null,null,null,null,null,{"$f":"IF('Choix de l''instrument '!$C$3=\"Filetage\",AND('Choix de l''instrument '!$D$3>=Filetage!G62,G62<>\"\"),\"\")","v":""}]
["Afficher","CF.229A","Bague filetée","Entre","BFE M 10 x 1 - 6g",null,0,null,null,null,null,null,null,{"$f":"IF('Choix de l''instrument '!$C$3=\"Filetage\",AND('Choix de l''instrument '!$D$3>=Filetage!G63,G63<>\"\"),\"\")","v":""}]
["Afficher","CF.236","Bague filetée","Entre","BFE M 12 x 1 - 6g",null,0,null,null,null,null,null,null,{"$f":"IF('Choix de l''instrument '!$C$3=\"Filetage\",AND('Choix de l''instrument '!$D$3>=Filetage!G64,G64<>\"\"),\"\")","v":""}]
["Afficher","CF.217","Bague filetée","Entre","BFE M10X1-6g",null,0,null,null,null,null,null,null,{"$f":"IF('Choix de l''instrument '!$C$3=\"Filetage\",AND('Choix de l''instrument '!$D$3>=Filetage!G65,G65<>\"\"),\"\")","v":""}]
["Afficher","CF.224","Bague filetée","Entre","BFE M 1,6 x 0,35 - 6g",null,0,null,null,null,null,null,null,{"$f":"IF('Choix de l''instrument '!$C$3=\"Filetage\",AND('Choix de l''instrument '!$D$3>=Filetage!G66,G66<>\"\"),\"\")","v":""}]
["Afficher","CF.389","Bague filetée","Entre","BFE M 4 x 0,35 - 6g",null,0,null,null,null,null,null,null,{"$f":"IF('Choix de l''instrument '!$C$3=\"Filetage\",AND('Choix de l''instrument '!$D$3>=Filetage!G67,G67<>\"\"),\"\")","v":""}]

{"sheet":"Force","index":27,"n_rows":58,"n_cols":14,"rows_kept":58,"cut":false,"hidden":false,"merged":[]}
["Force"]
[null,null,null,null,null,null,"résolution g",null,null,null,null,null,null,"Résultat critère IT"]
["FOR-0014","Jauge de contrainte","200 kg",null,null,"Afficher",null,null,null,null,null,null,null,{"$f":"IF('Choix de l''instrument '!$C$3=\"Force\",AND('Choix de l''instrument '!$D$3>=Force!G3,G3<>\"\"),\"\")","v":""}]
["FOR-0013","Jauge de contrainte","500 kg",null,null,"Afficher",null,null,null,null,null,null,null,{"$f":"IF('Choix de l''instrument '!$C$3=\"Force\",AND('Choix de l''instrument '!$D$3>=Force!G4,G4<>\"\"),\"\")","v":""}]
["FOR-0008","Extensomètre","0 / 10 kN",null,null,"Afficher",null,null,null,null,null,null,null,{"$f":"IF('Choix de l''instrument '!$C$3=\"Force\",AND('Choix de l''instrument '!$D$3>=Force!G5,G5<>\"\"),\"\")","v":""}]
["FOR-0001","Extensomètre",{"$f":"-5 / 5","v":-1},null,null,"Afficher",null,null,null,null,null,null,null,{"$f":"IF('Choix de l''instrument '!$C$3=\"Force\",AND('Choix de l''instrument '!$D$3>=Force!G6,G6<>\"\"),\"\")","v":""}]
["EXT-240","Extensomètre",null,null,null,"Afficher",null,null,null,null,null,null,null,{"$f":"IF('Choix de l''instrument '!$C$3=\"Force\",AND('Choix de l''instrument '!$D$3>=Force!G7,G7<>\"\"),\"\")","v":""}]
["FOR-0004","Extensomètre",null,null,null,"Afficher",null,null,null,null,null,null,null,{"$f":"IF('Choix de l''instrument '!$C$3=\"Force\",AND('Choix de l''instrument '!$D$3>=Force!G8,G8<>\"\"),\"\")","v":""}]
["FOR-0003","Extensomètre",null,null,null,"Afficher",null,null,null,null,null,null,null,{"$f":"IF('Choix de l''instrument '!$C$3=\"Force\",AND('Choix de l''instrument '!$D$3>=Force!G9,G9<>\"\"),\"\")","v":""}]
["CF.120F","Extensomètre",null,null,null,"Afficher",null,null,null,null,null,null,null,{"$f":"IF('Choix de l''instrument '!$C$3=\"Force\",AND('Choix de l''instrument '!$D$3>=Force!G10,G10<>\"\"),\"\")","v":""}]
["CF.439","Extensomètre",null,null,null,"Afficher",null,null,null,null,null,null,null,{"$f":"IF('Choix de l''instrument '!$C$3=\"Force\",AND('Choix de l''instrument '!$D$3>=Force!G11,G11<>\"\"),\"\")","v":""}]
["CF.456","Extensomètre",null,null,null,"Afficher",null,null,null,null,null,null,null,{"$f":"IF('Choix de l''instrument '!$C$3=\"Force\",AND('Choix de l''instrument '!$D$3>=Force!G12,G12<>\"\"),\"\")","v":""}]
["CF.330A","Extensomètre",null,null,null,"Afficher",null,null,null,null,null,null,null,{"$f":"IF('Choix de l''instrument '!$C$3=\"Force\",AND('Choix de l''instrument '!$D$3>=Force!G13,G13<>\"\"),\"\")","v":""}]
["CF.330","Extensomètre",null,null,null,"Afficher",null,null,null,null,null,null,null,{"$f":"IF('Choix de l''instrument '!$C$3=\"Force\",AND('Choix de l''instrument '!$D$3>=Force!G14,G14<>\"\"),\"\")","v":""}]
["MACH-244","Machine d'essai de traction","0 / 50 kN",null,null,"Afficher",null,null,null,null,null,null,null,{"$f":"IF('Choix de l''instrument '!$C$3=\"Force\",AND('Choix de l''instrument '!$D$3>=Force!G15,G15<>\"\"),\"\")","v":""}]
["FOR-0009","Machine d'essai de traction/compression","0 / 10 kN",null,null,"Afficher",null,null,null,null,null,null,null,{"$f":"IF('Choix de l''instrument '!$C$3=\"Force\",AND('Choix de l''instrument '!$D$3>=Force!G16,G16<>\"\"),\"\")","v":""}]
["CF.120","Machine d'essai de traction/compression","0 / 10 kN",null,null,"Afficher",null,null,null,null,null,null,null,{"$f":"IF('Choix de l''instrument '!$C$3=\"Force\",AND('Choix de l''instrument '!$D$3>=Force!G17,G17<>\"\"),\"\")","v":""}]
["CF.328","Machine d'essai de traction/compression","0 / 30 kN",null,null,"Afficher",null,null,null,null,null,null,null,{"$f":"IF('Choix de l''instrument '!$C$3=\"Force\",AND('Choix de l''instrument '!$D$3>=Force!G18,G18<>\"\"),\"\")","v":""}]
["ACS-001","Mâchoire / Mors pneumatique",null,null,null,"Afficher",null,null,null,null,null,null,null,{"$f":"IF('Choix de l''instrument '!$C$3=\"Force\",AND('Choix de l''instrument '!$D$3>=Force!G19,G19<>\"\"),\"\")","v":""}]
["MET-0105","Capteur de force","500 / 7500 kg",null,null,"Afficher",null,null,null,null,null,null,null,{"$f":"IF('Choix de l''instrument '!$C$3=\"Force\",AND('Choix de l''instrument '!$D$3>=Force!G20,G20<>\"\"),\"\")","v":""}]
["MET-0106","Capteur de force","0 / 100 kN",null,null,"Afficher",null,null,null,null,null,null,null,{"$f":"IF('Choix de l''instrument '!$C$3=\"Force\",AND('Choix de l''instrument '!$D$3>=Force!G21,G21<>\"\"),\"\")","v":""}]
["FOR-0007","Capteur de force","0 / 10 kN",null,null,"Afficher",null,null,null,null,null,null,null,{"$f":"IF('Choix de l''instrument '!$C$3=\"Force\",AND('Choix de l''instrument '!$D$3>=Force!G22,G22<>\"\"),\"\")","v":""}]
["FOR-0006","Capteur de force","0 / 10 kN",null,null,"Afficher",null,null,null,null,null,null,null,{"$f":"IF('Choix de l''instrument '!$C$3=\"Force\",AND('Choix de l''instrument '!$D$3>=Force!G23,G23<>\"\"),\"\")","v":""}]
["FOR-0011","Capteur de force","0 / 10 kN",null,null,"Afficher",null,null,null,null,null,null,null,{"$f":"IF('Choix de l''instrument '!$C$3=\"Force\",AND('Choix de l''instrument '!$D$3>=Force!G24,G24<>\"\"),\"\")","v":""}]
["FOR-0010","Capteur de force","0 / 10 kN",null,null,"Afficher",null,null,null,null,null,null,null,{"$f":"IF('Choix de l''instrument '!$C$3=\"Force\",AND('Choix de l''instrument '!$D$3>=Force!G25,G25<>\"\"),\"\")","v":""}]
["FOR-0005","Capteur de force","0 / 50 kN",null,null,"Afficher",null,null,null,null,null,null,null,{"$f":"IF('Choix de l''instrument '!$C$3=\"Force\",AND('Choix de l''instrument '!$D$3>=Force!G26,G26<>\"\"),\"\")","v":""}]
["FOR-0002","Capteur de force","0 / 50 kN",null,null,"Afficher",null,null,null,null,null,null,null,{"$f":"IF('Choix de l''instrument '!$C$3=\"Force\",AND('Choix de l''instrument '!$D$3>=Force!G27,G27<>\"\"),\"\")","v":""}]
["FOR-0012","Capteur de force","0 / 500 N",null,null,"Afficher",null,null,null,null,null,null,null,{"$f":"IF('Choix de l''instrument '!$C$3=\"Force\",AND('Choix de l''instrument '!$D$3>=Force!G28,G28<>\"\"),\"\")","v":""}]
["FOR-0019","Capteur de force","0 / 20000 daN",null,null,"Afficher",null,null,null,null,null,null,null,{"$f":"IF('Choix de l''instrument '!$C$3=\"Force\",AND('Choix de l''instrument '!$D$3>=Force!G29,G29<>\"\"),\"\")","v":""}]
["FOR-0018","Capteur de force","0 / 10000 daN",null,null,"Afficher",null,null,null,null,null,null,null,{"$f":"IF('Choix de l''instrument '!$C$3=\"Force\",AND('Choix de l''instrument '!$D$3>=Force!G30,G30<>\"\"),\"\")","v":""}]
["SQ.077A","Capteur de force","0 / 3500 daN",null,null,"Afficher",null,null,null,null,null,null,null,{"$f":"IF('Choix de l''instrument '!$C$3=\"Force\",AND('Choix de l''instrument '!$D$3>=Force!G31,G31<>\"\"),\"\")","v":""}]
["SQ.076","Capteur de force","0 / 1000 daN",null,null,"Afficher",null,null,null,null,null,null,null,{"$f":"IF('Choix de l''instrument '!$C$3=\"Force\",AND('Choix de l''instrument '!$D$3>=Force!G32,G32<>\"\"),\"\")","v":""}]
["SQ.078","Capteur de force","0 / 1000 daN",null,null,"Afficher",null,null,null,null,null,null,null,{"$f":"IF('Choix de l''instrument '!$C$3=\"Force\",AND('Choix de l''instrument '!$D$3>=Force!G33,G33<>\"\"),\"\")","v":""}]
["SQ.139","Capteur de force","0 / 3500 daN",null,null,"Afficher",null,null,null,null,null,null,null,{"$f":"IF('Choix de l''instrument '!$C$3=\"Force\",AND('Choix de l''instrument '!$D$3>=Force!G34,G34<>\"\"),\"\")","v":""}]
["SQ.139A","Capteur de force","0 / 3500 daN",null,null,"Afficher",null,null,null,null,null,null,null,{"$f":"IF('Choix de l''instrument '!$C$3=\"Force\",AND('Choix de l''instrument '!$D$3>=Force!G35,G35<>\"\"),\"\")","v":""}]
["SQ.107B","Capteur de force","0 / 20 daN",null,null,"Afficher",null,null,null,null,null,null,null,{"$f":"IF('Choix de l''instrument '!$C$3=\"Force\",AND('Choix de l''instrument '!$D$3>=Force!G36,G36<>\"\"),\"\")","v":""}]
["SQ.107A","Capteur de force","0 / 50 daN",null,null,"Afficher",null,null,null,null,null,null,null,{"$f":"IF('Choix de l''instrument '!$C$3=\"Force\",AND('Choix de l''instrument '!$D$3>=Force!G37,G37<>\"\"),\"\")","v":""}]
["SQ.107","Capteur de force","0 / 50 daN",null,null,"Afficher",null,null,null,null,null,null,null,{"$f":"IF('Choix de l''instrument '!$C$3=\"Force\",AND('Choix de l''instrument '!$D$3>=Force!G38,G38<>\"\"),\"\")","v":""}]
["SQ.107C","Capteur de force","0 / 3500 daN",null,null,"Afficher",null,null,null,null,null,null,null,{"$f":"IF('Choix de l''instrument '!$C$3=\"Force\",AND('Choix de l''instrument '!$D$3>=Force!G39,G39<>\"\"),\"\")","v":""}]
["SQ.106A","Capteur de force","0 / 40 daN",null,null,"Afficher",null,null,null,null,null,null,null,{"$f":"IF('Choix de l''instrument '!$C$3=\"Force\",AND('Choix de l''instrument '!$D$3>=Force!G40,G40<>\"\"),\"\")","v":""}]
["SQ.106","Capteur de force","0 / 50 daN",null,null,"Afficher",null,null,null,null,null,null,null,{"$f":"IF('Choix de l''instrument '!$C$3=\"Force\",AND('Choix de l''instrument '!$D$3>=Force!G41,G41<>\"\"),\"\")","v":""}]
["CF.120C","Capteur de force","0 / 10 kN",null,null,"Afficher",null,null,null,null,null,null,null,{"$f":"IF('Choix de l''instrument '!$C$3=\"Force\",AND('Choix de l''instrument '!$D$3>=Force!G42,G42<>\"\"),\"\")","v":""}]
["CDF-003","Capteur de force","0 / 20000 daN",null,null,"Afficher",null,null,null,null,null,null,null,{"$f":"IF('Choix de l''instrument '!$C$3=\"Force\",AND('Choix de l''instrument '!$D$3>=Force!G43,G43<>\"\"),\"\")","v":""}]
["CDF-002","Capteur de force",null,null,null,"Afficher",null,null,null,null,null,null,null,{"$f":"IF('Choix de l''instrument '!$C$3=\"Force\",AND('Choix de l''instrument '!$D$3>=Force!G44,G44<>\"\"),\"\")","v":""}]
["CDF-001","Capteur de force","10000 daN",null,null,"Afficher",null,null,null,null,null,null,null,{"$f":"IF('Choix de l''instrument '!$C$3=\"Force\",AND('Choix de l''instrument '!$D$3>=Force!G45,G45<>\"\"),\"\")","v":""}]
["CF.435","Capteur de force","0 / 50 kN",null,null,"Afficher",null,null,null,null,null,null,null,{"$f":"IF('Choix de l''instrument '!$C$3=\"Force\",AND('Choix de l''instrument '!$D$3>=Force!G46,G46<>\"\"),\"\")","v":""}]
["CF.450A","Capteur de force","0 / 500 N",null,null,"Afficher",null,null,null,null,null,null,null,{"$f":"IF('Choix de l''instrument '!$C$3=\"Force\",AND('Choix de l''instrument '!$D$3>=Force!G47,G47<>\"\"),\"\")","v":""}]
["CF.450","Capteur de force","± 0 / 500 N",null,null,"Afficher",null,null,null,null,null,null,null,{"$f":"IF('Choix de l''instrument '!$C$3=\"Force\",AND('Choix de l''instrument '!$D$3>=Force!G48,G48<>\"\"),\"\")","v":""}]
["CF.416","Capteur de force","0 / 1 kN",null,null,"Afficher",null,null,null,null,null,null,null,{"$f":"IF('Choix de l''instrument '!$C$3=\"Force\",AND('Choix de l''instrument '!$D$3>=Force!G49,G49<>\"\"),\"\")","v":""}]
["CMF-001 /1","Capteur de force","0 / 5000 daN",null,null,"Afficher",null,null,null,null,null,null,null,{"$f":"IF('Choix de l''instrument '!$C$3=\"Force\",AND('Choix de l''instrument '!$D$3>=Force!G50,G50<>\"\"),\"\")","v":""}]
["CF.381","Capteur de force","0 / 30 kN",null,null,"Afficher",null,null,null,null,null,null,null,{"$f":"IF('Choix de l''instrument '!$C$3=\"Force\",AND('Choix de l''instrument '!$D$3>=Force!G51,G51<>\"\"),\"\")","v":""}]
["CF.331A","Capteur de force","0 / 1 kN",null,null,"Afficher",null,null,null,null,null,null,null,{"$f":"IF('Choix de l''instrument '!$C$3=\"Force\",AND('Choix de l''instrument '!$D$3>=Force!G52,G52<>\"\"),\"\")","v":""}]
["CF.329","Capteur de force","0 / 10 kN",null,null,"Afficher",null,null,null,null,null,null,null,{"$f":"IF('Choix de l''instrument '!$C$3=\"Force\",AND('Choix de l''instrument '!$D$3>=Force!G53,G53<>\"\"),\"\")","v":""}]
["DYN-003","Dynamomètre","30 / 300 N",null,null,"Afficher",null,null,null,null,null,null,null,{"$f":"IF('Choix de l''instrument '!$C$3=\"Force\",AND('Choix de l''instrument '!$D$3>=Force!G54,G54<>\"\"),\"\")","v":""}]
["CF.246","Dynamomètre",null,null,null,"Afficher",null,null,null,null,null,null,null,{"$f":"IF('Choix de l''instrument '!$C$3=\"Force\",AND('Choix de l''instrument '!$D$3>=Force!G55,G55<>\"\"),\"\")","v":""}]
["CP.076","Dynamomètre","0 / 20 kg",null,null,"Afficher",null,null,null,null,null,null,null,{"$f":"IF('Choix de l''instrument '!$C$3=\"Force\",AND('Choix de l''instrument '!$D$3>=Force!G56,G56<>\"\"),\"\")","v":""}]
["CMF-001","Chaîne de mesure de force","0 / 5000 daN",null,null,"Afficher",null,null,null,null,null,null,null,{"$f":"IF('Choix de l''instrument '!$C$3=\"Force\",AND('Choix de l''instrument '!$D$3>=Force!G57,G57<>\"\"),\"\")","v":""}]
["FOR-0015","Boîtier indicateur force","/",null,null,"Afficher",null,null,null,null,null,null,null,{"$f":"IF('Choix de l''instrument '!$C$3=\"Force\",AND('Choix de l''instrument '!$D$3>=Force!G58,G58<>\"\"),\"\")","v":""}]

{"sheet":"Fréquence","index":28,"n_rows":3,"n_cols":14,"rows_kept":3,"cut":false,"hidden":false,"merged":[]}
["Fréquence"]
[null,null,null,null,null,null,"résolution g",null,null,null,null,null,null,"Résultat critère IT"]
["THZ-0002","Vibromètre",null,null,null,"Afficher",null,null,null,null,null,null,null,{"$f":"IF('Choix de l''instrument '!$C$3=\"Fréquence\",AND('Choix de l''instrument '!$D$3>=Fréquence!G3,G3<>\"\"),\"\")","v":""}]

{"sheet":"Fuite","index":29,"n_rows":4,"n_cols":14,"rows_kept":4,"cut":false,"hidden":false,"merged":[]}
["Fuite"]
[null,null,null,null,null,null,"résolution g",null,null,null,null,null,null,"Résultat critère IT"]
["PRE-0001","Testeur d'etanchéité","0 / 5000 Pa",null,null,"Afficher",null,null,null,null,null,null,null,{"$f":"IF('Choix de l''instrument '!$C$3=\"Fuite\",AND('Choix de l''instrument '!$D$3>=Fuite!G3,G3<>\"\"),\"\")","v":""}]
["PRE-0008","Testeur d'etanchéité","0 / 5000 Pa",null,null,"Afficher",null,null,null,null,null,null,null,{"$f":"IF('Choix de l''instrument '!$C$3=\"Fuite\",AND('Choix de l''instrument '!$D$3>=Fuite!G4,G4<>\"\"),\"\")","v":""}]

{"sheet":"Géométrie","index":30,"n_rows":129,"n_cols":14,"rows_kept":129,"cut":false,"hidden":false,"merged":[]}
["Géométrie"]
[null,null,null,null,null,null,"résolution g",null,null,null,null,null,null,"Résultat critère IT"]
["M.222","Comparateur à levier","0 / 0,8 mm",null,null,"Afficher",null,null,null,null,null,null,null,{"$f":"IF('Choix de l''instrument '!$C$3=\"Géométrie\",AND('Choix de l''instrument '!$D$3>=Géométrie!G3,G3<>\"\"),\"\")","v":""}]
["M.286","Comparateur à levier","0 / 0,8 mm",null,null,"Afficher",null,null,null,null,null,null,null,{"$f":"IF('Choix de l''instrument '!$C$3=\"Géométrie\",AND('Choix de l''instrument '!$D$3>=Géométrie!G4,G4<>\"\"),\"\")","v":""}]
["M.252","Comparateur à levier","0 / 0,8 mm",null,null,"Afficher",null,null,null,null,null,null,null,{"$f":"IF('Choix de l''instrument '!$C$3=\"Géométrie\",AND('Choix de l''instrument '!$D$3>=Géométrie!G5,G5<>\"\"),\"\")","v":""}]
["M.094","Comparateur à levier","0 / 0,2 mm",null,null,"Afficher",null,null,null,null,null,null,null,{"$f":"IF('Choix de l''instrument '!$C$3=\"Géométrie\",AND('Choix de l''instrument '!$D$3>=Géométrie!G6,G6<>\"\"),\"\")","v":""}]
["M.102","Comparateur à levier","± 0 / 0,8 mm",null,null,"Afficher",null,null,null,null,null,null,null,{"$f":"IF('Choix de l''instrument '!$C$3=\"Géométrie\",AND('Choix de l''instrument '!$D$3>=Géométrie!G7,G7<>\"\"),\"\")","v":""}]
["M.297","Comparateur à levier",null,null,null,"Afficher",null,null,null,null,null,null,null,{"$f":"IF('Choix de l''instrument '!$C$3=\"Géométrie\",AND('Choix de l''instrument '!$D$3>=Géométrie!G8,G8<>\"\"),\"\")","v":""}]
["MET-0092","Comparateur à levier","0,2 mm avec touche de 0,5 mm",null,null,"Afficher",null,null,null,null,null,null,null,{"$f":"IF('Choix de l''instrument '!$C$3=\"Géométrie\",AND('Choix de l''instrument '!$D$3>=Géométrie!G9,G9<>\"\"),\"\")","v":""}]
["MET-0081","Comparateur à levier","0 / 0,2 mm",null,null,"Afficher",null,null,null,null,null,null,null,{"$f":"IF('Choix de l''instrument '!$C$3=\"Géométrie\",AND('Choix de l''instrument '!$D$3>=Géométrie!G10,G10<>\"\"),\"\")","v":""}]
["TR.041","Comparateur à levier","0 / 0,2 mm",null,null,"Afficher",null,null,null,null,null,null,null,{"$f":"IF('Choix de l''instrument '!$C$3=\"Géométrie\",AND('Choix de l''instrument '!$D$3>=Géométrie!G11,G11<>\"\"),\"\")","v":""}]
["CF.073","Comparateur à levier","± 1,5 / 1,5",null,null,"Afficher",null,null,null,null,null,null,null,{"$f":"IF('Choix de l''instrument '!$C$3=\"Géométrie\",AND('Choix de l''instrument '!$D$3>=Géométrie!G12,G12<>\"\"),\"\")","v":""}]
["DIM-0051","Comparateur à levier",null,null,null,"Afficher",null,null,null,null,null,null,null,{"$f":"IF('Choix de l''instrument '!$C$3=\"Géométrie\",AND('Choix de l''instrument '!$D$3>=Géométrie!G13,G13<>\"\"),\"\")","v":""}]
["DIM-0063","Comparateur à levier",null,null,null,"Afficher",null,null,null,null,null,null,null,{"$f":"IF('Choix de l''instrument '!$C$3=\"Géométrie\",AND('Choix de l''instrument '!$D$3>=Géométrie!G14,G14<>\"\"),\"\")","v":""}]
["DIM-0108","Comparateur à levier","0 / 5 mm",null,null,"Afficher",null,null,null,null,null,null,null,{"$f":"IF('Choix de l''instrument '!$C$3=\"Géométrie\",AND('Choix de l''instrument '!$D$3>=Géométrie!G15,G15<>\"\"),\"\")","v":""}]
["DIM-0075","Comparateur à levier","0 / 1,5 mm",null,null,"Afficher",null,null,null,null,null,null,null,{"$f":"IF('Choix de l''instrument '!$C$3=\"Géométrie\",AND('Choix de l''instrument '!$D$3>=Géométrie!G16,G16<>\"\"),\"\")","v":""}]
["DIM-0013","Comparateur à levier","0 / 1 mm",null,null,"Afficher",null,null,null,null,null,null,null,{"$f":"IF('Choix de l''instrument '!$C$3=\"Géométrie\",AND('Choix de l''instrument '!$D$3>=Géométrie!G17,G17<>\"\"),\"\")","v":""}]
["CPL-087","Comparateur à levier","0 / 10 mm",null,null,"Afficher",null,null,null,null,null,null,null,{"$f":"IF('Choix de l''instrument '!$C$3=\"Géométrie\",AND('Choix de l''instrument '!$D$3>=Géométrie!G18,G18<>\"\"),\"\")","v":""}]
["CPL-007","Comparateur à levier","0 / 1,6 mm",null,null,"Afficher",null,null,null,null,null,null,null,{"$f":"IF('Choix de l''instrument '!$C$3=\"Géométrie\",AND('Choix de l''instrument '!$D$3>=Géométrie!G19,G19<>\"\"),\"\")","v":""}]
["CPL-006","Comparateur à levier","0 / 5 mm",null,null,"Afficher",null,null,null,null,null,null,null,{"$f":"IF('Choix de l''instrument '!$C$3=\"Géométrie\",AND('Choix de l''instrument '!$D$3>=Géométrie!G20,G20<>\"\"),\"\")","v":""}]
["CPL-160","Comparateur à levier","0 / 0,2 mm",null,null,"Afficher",null,null,null,null,null,null,null,{"$f":"IF('Choix de l''instrument '!$C$3=\"Géométrie\",AND('Choix de l''instrument '!$D$3>=Géométrie!G21,G21<>\"\"),\"\")","v":""}]
["CPL-005","Comparateur à levier","0 / 5 mm",null,null,"Afficher",null,null,null,null,null,null,null,{"$f":"IF('Choix de l''instrument '!$C$3=\"Géométrie\",AND('Choix de l''instrument '!$D$3>=Géométrie!G22,G22<>\"\"),\"\")","v":""}]
["CPL-001","Comparateur à levier","0 / 40 mm",null,null,"Afficher",null,null,null,null,null,null,null,{"$f":"IF('Choix de l''instrument '!$C$3=\"Géométrie\",AND('Choix de l''instrument '!$D$3>=Géométrie!G23,G23<>\"\"),\"\")","v":""}]
["CPL-004","Comparateur à levier","0 / 5 mm",null,null,"Afficher",null,null,null,null,null,null,null,{"$f":"IF('Choix de l''instrument '!$C$3=\"Géométrie\",AND('Choix de l''instrument '!$D$3>=Géométrie!G24,G24<>\"\"),\"\")","v":""}]
["CPL-003","Comparateur à levier","0 / 3 mm",null,null,"Afficher",null,null,null,null,null,null,null,{"$f":"IF('Choix de l''instrument '!$C$3=\"Géométrie\",AND('Choix de l''instrument '!$D$3>=Géométrie!G25,G25<>\"\"),\"\")","v":""}]
["CPL-002","Comparateur à levier","0 / 0,4 mm",null,null,"Afficher",null,null,null,null,null,null,null,{"$f":"IF('Choix de l''instrument '!$C$3=\"Géométrie\",AND('Choix de l''instrument '!$D$3>=Géométrie!G26,G26<>\"\"),\"\")","v":""}]
["MET-0101","Comparateur à tige rentrante","0 / 15 mm",null,null,"Afficher",null,null,null,null,null,null,null,{"$f":"IF('Choix de l''instrument '!$C$3=\"Géométrie\",AND('Choix de l''instrument '!$D$3>=Géométrie!G27,G27<>\"\"),\"\")","v":""}]
["MET-0100","Comparateur à tige rentrante","0 / 15 mm",null,null,"Afficher",null,null,null,null,null,null,null,{"$f":"IF('Choix de l''instrument '!$C$3=\"Géométrie\",AND('Choix de l''instrument '!$D$3>=Géométrie!G28,G28<>\"\"),\"\")","v":""}]
["MET-0099","Comparateur à tige rentrante","0 / 15 mm",null,null,"Afficher",null,null,null,null,null,null,null,{"$f":"IF('Choix de l''instrument '!$C$3=\"Géométrie\",AND('Choix de l''instrument '!$D$3>=Géométrie!G29,G29<>\"\"),\"\")","v":""}]
["DIM-0099","Comparateur à tige rentrante",null,null,null,"Afficher",null,null,null,null,null,null,null,{"$f":"IF('Choix de l''instrument '!$C$3=\"Géométrie\",AND('Choix de l''instrument '!$D$3>=Géométrie!G30,G30<>\"\"),\"\")","v":""}]
["M.206","Comparateur à tige rentrante radiale","0 / 10 mm",null,null,"Afficher",null,null,null,null,null,null,null,{"$f":"IF('Choix de l''instrument '!$C$3=\"Géométrie\",AND('Choix de l''instrument '!$D$3>=Géométrie!G31,G31<>\"\"),\"\")","v":""}]
["M.291","Comparateur à tige rentrante radiale","0 / 10 mm",null,null,"Afficher",null,null,null,null,null,null,null,{"$f":"IF('Choix de l''instrument '!$C$3=\"Géométrie\",AND('Choix de l''instrument '!$D$3>=Géométrie!G32,G32<>\"\"),\"\")","v":""}]
["TR.011","Comparateur à tige rentrante radiale","0 / 30 mm",null,null,"Afficher",null,null,null,null,null,null,null,{"$f":"IF('Choix de l''instrument '!$C$3=\"Géométrie\",AND('Choix de l''instrument '!$D$3>=Géométrie!G33,G33<>\"\"),\"\")","v":""}]
["TR.053","Comparateur à tige rentrante radiale","0 / 12 mm",null,null,"Afficher",null,null,null,null,null,null,null,{"$f":"IF('Choix de l''instrument '!$C$3=\"Géométrie\",AND('Choix de l''instrument '!$D$3>=Géométrie!G34,G34<>\"\"),\"\")","v":""}]
["SQ.087","Comparateur à tige rentrante radiale","0,01 / 12,7 mm",null,null,"Afficher",null,null,null,null,null,null,null,{"$f":"IF('Choix de l''instrument '!$C$3=\"Géométrie\",AND('Choix de l''instrument '!$D$3>=Géométrie!G35,G35<>\"\"),\"\")","v":""}]
["TC.045","Comparateur à tige rentrante radiale","0 / 10 mm",null,null,"Afficher",null,null,null,null,null,null,null,{"$f":"IF('Choix de l''instrument '!$C$3=\"Géométrie\",AND('Choix de l''instrument '!$D$3>=Géométrie!G36,G36<>\"\"),\"\")","v":""}]
["TC.044","Comparateur à tige rentrante radiale","0 / 10 mm",null,null,"Afficher",null,null,null,null,null,null,null,{"$f":"IF('Choix de l''instrument '!$C$3=\"Géométrie\",AND('Choix de l''instrument '!$D$3>=Géométrie!G37,G37<>\"\"),\"\")","v":""}]
["CAT.090","Comparateur à tige rentrante radiale","0 / 12 mm",null,null,"Afficher",null,null,null,null,null,null,null,{"$f":"IF('Choix de l''instrument '!$C$3=\"Géométrie\",AND('Choix de l''instrument '!$D$3>=Géométrie!G38,G38<>\"\"),\"\")","v":""}]
["CAT.125","Comparateur à tige rentrante radiale","0 / 12 mm",null,null,"Afficher",null,null,null,null,null,null,null,{"$f":"IF('Choix de l''instrument '!$C$3=\"Géométrie\",AND('Choix de l''instrument '!$D$3>=Géométrie!G39,G39<>\"\"),\"\")","v":""}]
["CF.060","Comparateur à tige rentrante radiale","0 / 12 mm",null,null,"Afficher",null,null,null,null,null,null,null,{"$f":"IF('Choix de l''instrument '!$C$3=\"Géométrie\",AND('Choix de l''instrument '!$D$3>=Géométrie!G40,G40<>\"\"),\"\")","v":""}]
["CE.248","Comparateur à tige rentrante radiale","0 / 5 mm",null,null,"Afficher",null,null,null,null,null,null,null,{"$f":"IF('Choix de l''instrument '!$C$3=\"Géométrie\",AND('Choix de l''instrument '!$D$3>=Géométrie!G41,G41<>\"\"),\"\")","v":""}]
["C0MP-010","Comparateur à tige rentrante radiale","0 / 10 mm",null,null,"Afficher",null,null,null,null,null,null,null,{"$f":"IF('Choix de l''instrument '!$C$3=\"Géométrie\",AND('Choix de l''instrument '!$D$3>=Géométrie!G42,G42<>\"\"),\"\")","v":""}]
["ED.246","Comparateur à tige rentrante radiale","0 / 12 mm",null,null,"Afficher",null,null,null,null,null,null,null,{"$f":"IF('Choix de l''instrument '!$C$3=\"Géométrie\",AND('Choix de l''instrument '!$D$3>=Géométrie!G43,G43<>\"\"),\"\")","v":""}]
["DIM-0150","Comparateur à tige rentrante radiale","0 / 12 mm",null,null,"Afficher",null,null,null,null,null,null,null,{"$f":"IF('Choix de l''instrument '!$C$3=\"Géométrie\",AND('Choix de l''instrument '!$D$3>=Géométrie!G44,G44<>\"\"),\"\")","v":""}]
["DIM-0028","Comparateur à tige rentrante radiale",null,null,null,"Afficher",null,null,null,null,null,null,null,{"$f":"IF('Choix de l''instrument '!$C$3=\"Géométrie\",AND('Choix de l''instrument '!$D$3>=Géométrie!G45,G45<>\"\"),\"\")","v":""}]
["CTR-007","Comparateur à tige rentrante radiale","0 / 12,7 mm",null,null,"Afficher",null,null,null,null,null,null,null,{"$f":"IF('Choix de l''instrument '!$C$3=\"Géométrie\",AND('Choix de l''instrument '!$D$3>=Géométrie!G46,G46<>\"\"),\"\")","v":""}]
["CTR-003","Comparateur à tige rentrante radiale","0 / 30 mm",null,null,"Afficher",null,null,null,null,null,null,null,{"$f":"IF('Choix de l''instrument '!$C$3=\"Géométrie\",AND('Choix de l''instrument '!$D$3>=Géométrie!G47,G47<>\"\"),\"\")","v":""}]
["CTR-002","Comparateur à tige rentrante radiale","0 / 30 mm",null,null,"Afficher",null,null,null,null,null,null,null,{"$f":"IF('Choix de l''instrument '!$C$3=\"Géométrie\",AND('Choix de l''instrument '!$D$3>=Géométrie!G48,G48<>\"\"),\"\")","v":""}]
["CTR-001","Comparateur à tige rentrante radiale","0 / 50 mm",null,null,"Afficher",null,null,null,null,null,null,null,{"$f":"IF('Choix de l''instrument '!$C$3=\"Géométrie\",AND('Choix de l''instrument '!$D$3>=Géométrie!G49,G49<>\"\"),\"\")","v":""}]
["CTR-006","Comparateur à tige rentrante radiale","0 / 50 mm",null,null,"Afficher",null,null,null,null,null,null,null,{"$f":"IF('Choix de l''instrument '!$C$3=\"Géométrie\",AND('Choix de l''instrument '!$D$3>=Géométrie!G50,G50<>\"\"),\"\")","v":""}]
["CTR-005","Comparateur à tige rentrante radiale","0 / 50 mm",null,null,"Afficher",null,null,null,null,null,null,null,{"$f":"IF('Choix de l''instrument '!$C$3=\"Géométrie\",AND('Choix de l''instrument '!$D$3>=Géométrie!G51,G51<>\"\"),\"\")","v":""}]
["CTR-004","Comparateur à tige rentrante radiale","50 / 100 mm",null,null,"Afficher",null,null,null,null,null,null,null,{"$f":"IF('Choix de l''instrument '!$C$3=\"Géométrie\",AND('Choix de l''instrument '!$D$3>=Géométrie!G52,G52<>\"\"),\"\")","v":""}]
["CP.059","Comparateur à tige rentrante radiale","0 / 12,7 mm",null,null,"Afficher",null,null,null,null,null,null,null,{"$f":"IF('Choix de l''instrument '!$C$3=\"Géométrie\",AND('Choix de l''instrument '!$D$3>=Géométrie!G53,G53<>\"\"),\"\")","v":""}]
["CP.062","Comparateur à tige rentrante radiale","0 / 50 mm",null,null,"Afficher",null,null,null,null,null,null,null,{"$f":"IF('Choix de l''instrument '!$C$3=\"Géométrie\",AND('Choix de l''instrument '!$D$3>=Géométrie!G54,G54<>\"\"),\"\")","v":""}]
["CP.061","Comparateur à tige rentrante radiale","0 / 50 mm",null,null,"Afficher",null,null,null,null,null,null,null,{"$f":"IF('Choix de l''instrument '!$C$3=\"Géométrie\",AND('Choix de l''instrument '!$D$3>=Géométrie!G55,G55<>\"\"),\"\")","v":""}]
["COMP-001","Comparateur electronique","0 / 12 mm",null,null,"Afficher",null,null,null,null,null,null,null,{"$f":"IF('Choix de l''instrument '!$C$3=\"Géométrie\",AND('Choix de l''instrument '!$D$3>=Géométrie!G56,G56<>\"\"),\"\")","v":""}]
["M.194","Comparateur mécanique à cadran","0 / 10 mm",null,null,"Afficher",null,null,null,null,null,null,null,{"$f":"IF('Choix de l''instrument '!$C$3=\"Géométrie\",AND('Choix de l''instrument '!$D$3>=Géométrie!G57,G57<>\"\"),\"\")","v":""}]
["M.043","Comparateur mécanique à cadran","0 / 10 mm",null,null,"Afficher",null,null,null,null,null,null,null,{"$f":"IF('Choix de l''instrument '!$C$3=\"Géométrie\",AND('Choix de l''instrument '!$D$3>=Géométrie!G58,G58<>\"\"),\"\")","v":""}]
["M.044","Comparateur mécanique à cadran","0 / 10 mm",null,null,"Afficher",null,null,null,null,null,null,null,{"$f":"IF('Choix de l''instrument '!$C$3=\"Géométrie\",AND('Choix de l''instrument '!$D$3>=Géométrie!G59,G59<>\"\"),\"\")","v":""}]
["M.017","Comparateur mécanique à cadran","0 / 50 mm",null,null,"Afficher",null,null,null,null,null,null,null,{"$f":"IF('Choix de l''instrument '!$C$3=\"Géométrie\",AND('Choix de l''instrument '!$D$3>=Géométrie!G60,G60<>\"\"),\"\")","v":""}]
["PA.008","Comparateur mécanique à cadran","0 / 10 mm",null,null,"Afficher",null,null,null,null,null,null,null,{"$f":"IF('Choix de l''instrument '!$C$3=\"Géométrie\",AND('Choix de l''instrument '!$D$3>=Géométrie!G61,G61<>\"\"),\"\")","v":""}]
["PA.019","Comparateur mécanique à cadran","0 / 100 mm",null,null,"Afficher",null,null,null,null,null,null,null,{"$f":"IF('Choix de l''instrument '!$C$3=\"Géométrie\",AND('Choix de l''instrument '!$D$3>=Géométrie!G62,G62<>\"\"),\"\")","v":""}]
["PA.007","Comparateur mécanique à cadran","0 / 10 mm",null,null,"Afficher",null,null,null,null,null,null,null,{"$f":"IF('Choix de l''instrument '!$C$3=\"Géométrie\",AND('Choix de l''instrument '!$D$3>=Géométrie!G63,G63<>\"\"),\"\")","v":""}]
["THE.149","Comparateur mécanique à cadran","0 / 30 mm",null,null,"Afficher",null,null,null,null,null,null,null,{"$f":"IF('Choix de l''instrument '!$C$3=\"Géométrie\",AND('Choix de l''instrument '!$D$3>=Géométrie!G64,G64<>\"\"),\"\")","v":""}]
["TR.010","Comparateur mécanique à cadran","0 / 10 mm",null,null,"Afficher",null,null,null,null,null,null,null,{"$f":"IF('Choix de l''instrument '!$C$3=\"Géométrie\",AND('Choix de l''instrument '!$D$3>=Géométrie!G65,G65<>\"\"),\"\")","v":""}]
["THE.005","Comparateur mécanique à cadran","0 / 10 mm",null,null,"Afficher",null,null,null,null,null,null,null,{"$f":"IF('Choix de l''instrument '!$C$3=\"Géométrie\",AND('Choix de l''instrument '!$D$3>=Géométrie!G66,G66<>\"\"),\"\")","v":""}]
["THE.076","Comparateur mécanique à cadran","0 / 12 mm",null,null,"Afficher",null,null,null,null,null,null,null,{"$f":"IF('Choix de l''instrument '!$C$3=\"Géométrie\",AND('Choix de l''instrument '!$D$3>=Géométrie!G67,G67<>\"\"),\"\")","v":""}]
["SQ.098","Comparateur mécanique à cadran","0 / 12 mm",null,null,"Afficher",null,null,null,null,null,null,null,{"$f":"IF('Choix de l''instrument '!$C$3=\"Géométrie\",AND('Choix de l''instrument '!$D$3>=Géométrie!G68,G68<>\"\"),\"\")","v":""}]
["SQ.035","Comparateur mécanique à cadran","0 / 12 mm",null,null,"Afficher",null,null,null,null,null,null,null,{"$f":"IF('Choix de l''instrument '!$C$3=\"Géométrie\",AND('Choix de l''instrument '!$D$3>=Géométrie!G69,G69<>\"\"),\"\")","v":""}]
["TC.005","Comparateur mécanique à cadran","0 / 10 mm",null,null,"Afficher",null,null,null,null,null,null,null,{"$f":"IF('Choix de l''instrument '!$C$3=\"Géométrie\",AND('Choix de l''instrument '!$D$3>=Géométrie!G70,G70<>\"\"),\"\")","v":""}]
["TC.042","Comparateur mécanique à cadran","0 / 10 mm",null,null,"Afficher",null,null,null,null,null,null,null,{"$f":"IF('Choix de l''instrument '!$C$3=\"Géométrie\",AND('Choix de l''instrument '!$D$3>=Géométrie!G71,G71<>\"\"),\"\")","v":""}]
["TC.039","Comparateur mécanique à cadran","0 / 10 mm",null,null,"Afficher",null,null,null,null,null,null,null,{"$f":"IF('Choix de l''instrument '!$C$3=\"Géométrie\",AND('Choix de l''instrument '!$D$3>=Géométrie!G72,G72<>\"\"),\"\")","v":""}]
["TC.014","Comparateur mécanique à cadran","0 / 3 mm",null,null,"Afficher",null,null,null,null,null,null,null,{"$f":"IF('Choix de l''instrument '!$C$3=\"Géométrie\",AND('Choix de l''instrument '!$D$3>=Géométrie!G73,G73<>\"\"),\"\")","v":""}]
["TC.012","Comparateur mécanique à cadran","0 / 10 mm",null,null,"Afficher",null,null,null,null,null,null,null,{"$f":"IF('Choix de l''instrument '!$C$3=\"Géométrie\",AND('Choix de l''instrument '!$D$3>=Géométrie!G74,G74<>\"\"),\"\")","v":""}]
["PA.028","Comparateur mécanique à cadran","0 / 20 mm",null,null,"Afficher",null,null,null,null,null,null,null,{"$f":"IF('Choix de l''instrument '!$C$3=\"Géométrie\",AND('Choix de l''instrument '!$D$3>=Géométrie!G75,G75<>\"\"),\"\")","v":""}]
["TC.101","Comparateur mécanique à cadran","0 / 20 mm",null,null,"Afficher",null,null,null,null,null,null,null,{"$f":"IF('Choix de l''instrument '!$C$3=\"Géométrie\",AND('Choix de l''instrument '!$D$3>=Géométrie!G76,G76<>\"\"),\"\")","v":""}]
["TC.104","Comparateur mécanique à cadran","0 / 20 mm",null,null,"Afficher",null,null,null,null,null,null,null,{"$f":"IF('Choix de l''instrument '!$C$3=\"Géométrie\",AND('Choix de l''instrument '!$D$3>=Géométrie!G77,G77<>\"\"),\"\")","v":""}]
["TC.103","Comparateur mécanique à cadran","0 / 20 mm",null,null,"Afficher",null,null,null,null,null,null,null,{"$f":"IF('Choix de l''instrument '!$C$3=\"Géométrie\",AND('Choix de l''instrument '!$D$3>=Géométrie!G78,G78<>\"\"),\"\")","v":""}]
["TC.102","Comparateur mécanique à cadran","0 / 20 mm",null,null,"Afficher",null,null,null,null,null,null,null,{"$f":"IF('Choix de l''instrument '!$C$3=\"Géométrie\",AND('Choix de l''instrument '!$D$3>=Géométrie!G79,G79<>\"\"),\"\")","v":""}]
["TC.091","Comparateur mécanique à cadran","0 / 10 mm",null,null,"Afficher",null,null,null,null,null,null,null,{"$f":"IF('Choix de l''instrument '!$C$3=\"Géométrie\",AND('Choix de l''instrument '!$D$3>=Géométrie!G80,G80<>\"\"),\"\")","v":""}]
["CAT.070","Comparateur mécanique à cadran","0 / 5 mm",null,null,"Afficher",null,null,null,null,null,null,null,{"$f":"IF('Choix de l''instrument '!$C$3=\"Géométrie\",AND('Choix de l''instrument '!$D$3>=Géométrie!G81,G81<>\"\"),\"\")","v":""}]
["CAT.008","Comparateur mécanique à cadran","0 / 10 mm",null,null,"Afficher",null,null,null,null,null,null,null,{"$f":"IF('Choix de l''instrument '!$C$3=\"Géométrie\",AND('Choix de l''instrument '!$D$3>=Géométrie!G82,G82<>\"\"),\"\")","v":""}]
["CF.018","Comparateur mécanique à cadran","0 / 10 mm",null,null,"Afficher",null,null,null,null,null,null,null,{"$f":"IF('Choix de l''instrument '!$C$3=\"Géométrie\",AND('Choix de l''instrument '!$D$3>=Géométrie!G83,G83<>\"\"),\"\")","v":""}]
["CF.017","Comparateur mécanique à cadran","0 / 10 mm",null,null,"Afficher",null,null,null,null,null,null,null,{"$f":"IF('Choix de l''instrument '!$C$3=\"Géométrie\",AND('Choix de l''instrument '!$D$3>=Géométrie!G84,G84<>\"\"),\"\")","v":""}]
["CF.015","Comparateur mécanique à cadran","0 / 10 mm",null,null,"Afficher",null,null,null,null,null,null,null,{"$f":"IF('Choix de l''instrument '!$C$3=\"Géométrie\",AND('Choix de l''instrument '!$D$3>=Géométrie!G85,G85<>\"\"),\"\")","v":""}]
["CF.012","Comparateur mécanique à cadran","0 / 10 mm",null,null,"Afficher",null,null,null,null,null,null,null,{"$f":"IF('Choix de l''instrument '!$C$3=\"Géométrie\",AND('Choix de l''instrument '!$D$3>=Géométrie!G86,G86<>\"\"),\"\")","v":""}]
["CF.098","Comparateur mécanique à cadran","0 / 10 mm",null,null,"Afficher",null,null,null,null,null,null,null,{"$f":"IF('Choix de l''instrument '!$C$3=\"Géométrie\",AND('Choix de l''instrument '!$D$3>=Géométrie!G87,G87<>\"\"),\"\")","v":""}]
["CF.044","Comparateur mécanique à cadran","0 / 5 mm",null,null,"Afficher",null,null,null,null,null,null,null,{"$f":"IF('Choix de l''instrument '!$C$3=\"Géométrie\",AND('Choix de l''instrument '!$D$3>=Géométrie!G88,G88<>\"\"),\"\")","v":""}]
["CF.050","Comparateur mécanique à cadran","0 / 10 mm",null,null,"Afficher",null,null,null,null,null,null,null,{"$f":"IF('Choix de l''instrument '!$C$3=\"Géométrie\",AND('Choix de l''instrument '!$D$3>=Géométrie!G89,G89<>\"\"),\"\")","v":""}]
["CF.047","Comparateur mécanique à cadran","0 / 10 mm",null,null,"Afficher",null,null,null,null,null,null,null,{"$f":"IF('Choix de l''instrument '!$C$3=\"Géométrie\",AND('Choix de l''instrument '!$D$3>=Géométrie!G90,G90<>\"\"),\"\")","v":""}]
["CF.062","Comparateur mécanique à cadran","0 / 10 mm",null,null,"Afficher",null,null,null,null,null,null,null,{"$f":"IF('Choix de l''instrument '!$C$3=\"Géométrie\",AND('Choix de l''instrument '!$D$3>=Géométrie!G91,G91<>\"\"),\"\")","v":""}]
["CF.082","Comparateur mécanique à cadran","0 / 5 mm",null,null,"Afficher",null,null,null,null,null,null,null,{"$f":"IF('Choix de l''instrument '!$C$3=\"Géométrie\",AND('Choix de l''instrument '!$D$3>=Géométrie!G92,G92<>\"\"),\"\")","v":""}]
["CF.081","Comparateur mécanique à cadran","0 / 5 mm",null,null,"Afficher",null,null,null,null,null,null,null,{"$f":"IF('Choix de l''instrument '!$C$3=\"Géométrie\",AND('Choix de l''instrument '!$D$3>=Géométrie!G93,G93<>\"\"),\"\")","v":""}]
["CE.009","Comparateur mécanique à cadran","0 / 10 mm",null,null,"Afficher",null,null,null,null,null,null,null,{"$f":"IF('Choix de l''instrument '!$C$3=\"Géométrie\",AND('Choix de l''instrument '!$D$3>=Géométrie!G94,G94<>\"\"),\"\")","v":""}]
["CE.033","Comparateur mécanique à cadran","0 / 5 mm",null,null,"Afficher",null,null,null,null,null,null,null,{"$f":"IF('Choix de l''instrument '!$C$3=\"Géométrie\",AND('Choix de l''instrument '!$D$3>=Géométrie!G95,G95<>\"\"),\"\")","v":""}]
["CE.052","Comparateur mécanique à cadran","0 / 12 mm",null,null,"Afficher",null,null,null,null,null,null,null,{"$f":"IF('Choix de l''instrument '!$C$3=\"Géométrie\",AND('Choix de l''instrument '!$D$3>=Géométrie!G96,G96<>\"\"),\"\")","v":""}]
["EN.071","Comparateur mécanique à cadran","0 / 5 mm",null,null,"Afficher",null,null,null,null,null,null,null,{"$f":"IF('Choix de l''instrument '!$C$3=\"Géométrie\",AND('Choix de l''instrument '!$D$3>=Géométrie!G97,G97<>\"\"),\"\")","v":""}]
["EN.040","Comparateur mécanique à cadran","0 / 5 mm",null,null,"Afficher",null,null,null,null,null,null,null,{"$f":"IF('Choix de l''instrument '!$C$3=\"Géométrie\",AND('Choix de l''instrument '!$D$3>=Géométrie!G98,G98<>\"\"),\"\")","v":""}]
["EN.075","Comparateur mécanique à cadran","0 / 5 mm",null,null,"Afficher",null,null,null,null,null,null,null,{"$f":"IF('Choix de l''instrument '!$C$3=\"Géométrie\",AND('Choix de l''instrument '!$D$3>=Géométrie!G99,G99<>\"\"),\"\")","v":""}]
["EN.004","Comparateur mécanique à cadran","0 / 10 mm",null,null,"Afficher",null,null,null,null,null,null,null,{"$f":"IF('Choix de l''instrument '!$C$3=\"Géométrie\",AND('Choix de l''instrument '!$D$3>=Géométrie!G100,G100<>\"\"),\"\")","v":""}]
["DIM-0147","Comparateur mécanique à cadran","0 / 0,5",null,null,"Afficher",null,null,null,null,null,null,null,{"$f":"IF('Choix de l''instrument '!$C$3=\"Géométrie\",AND('Choix de l''instrument '!$D$3>=Géométrie!G101,G101<>\"\"),\"\")","v":""}]
["DIM-0146","Comparateur mécanique à cadran","0 / 0,14",null,null,"Afficher",null,null,null,null,null,null,null,{"$f":"IF('Choix de l''instrument '!$C$3=\"Géométrie\",AND('Choix de l''instrument '!$D$3>=Géométrie!G102,G102<>\"\"),\"\")","v":""}]
["ED.167","Comparateur mécanique à cadran","0 / 10 mm",null,null,"Afficher",null,null,null,null,null,null,null,{"$f":"IF('Choix de l''instrument '!$C$3=\"Géométrie\",AND('Choix de l''instrument '!$D$3>=Géométrie!G103,G103<>\"\"),\"\")","v":""}]
["COMP-006","Comparateur mécanique à cadran","0 / 30 mm",null,null,"Afficher",null,null,null,null,null,null,null,{"$f":"IF('Choix de l''instrument '!$C$3=\"Géométrie\",AND('Choix de l''instrument '!$D$3>=Géométrie!G104,G104<>\"\"),\"\")","v":""}]
["COMP-005","Comparateur mécanique à cadran","0 / 5 mm",null,null,"Afficher",null,null,null,null,null,null,null,{"$f":"IF('Choix de l''instrument '!$C$3=\"Géométrie\",AND('Choix de l''instrument '!$D$3>=Géométrie!G105,G105<>\"\"),\"\")","v":""}]
["COMP-004","Comparateur mécanique à cadran","0 / 5 mm",null,null,"Afficher",null,null,null,null,null,null,null,{"$f":"IF('Choix de l''instrument '!$C$3=\"Géométrie\",AND('Choix de l''instrument '!$D$3>=Géométrie!G106,G106<>\"\"),\"\")","v":""}]
["COMP-009","Comparateur mécanique à cadran","0 / 12 mm",null,null,"Afficher",null,null,null,null,null,null,null,{"$f":"IF('Choix de l''instrument '!$C$3=\"Géométrie\",AND('Choix de l''instrument '!$D$3>=Géométrie!G107,G107<>\"\"),\"\")","v":""}]
["COMP-008","Comparateur mécanique à cadran","0 / 10 mm",null,null,"Afficher",null,null,null,null,null,null,null,{"$f":"IF('Choix de l''instrument '!$C$3=\"Géométrie\",AND('Choix de l''instrument '!$D$3>=Géométrie!G108,G108<>\"\"),\"\")","v":""}]
["COMP-007","Comparateur mécanique à cadran","0 / 30 mm",null,null,"Afficher",null,null,null,null,null,null,null,{"$f":"IF('Choix de l''instrument '!$C$3=\"Géométrie\",AND('Choix de l''instrument '!$D$3>=Géométrie!G109,G109<>\"\"),\"\")","v":""}]
["COMP-003","Comparateur mécanique à cadran","0 / 5 mm",null,null,"Afficher",null,null,null,null,null,null,null,{"$f":"IF('Choix de l''instrument '!$C$3=\"Géométrie\",AND('Choix de l''instrument '!$D$3>=Géométrie!G110,G110<>\"\"),\"\")","v":""}]
["COMP-002","Comparateur mécanique à cadran","0 / 5 mm",null,null,"Afficher",null,null,null,null,null,null,null,{"$f":"IF('Choix de l''instrument '!$C$3=\"Géométrie\",AND('Choix de l''instrument '!$D$3>=Géométrie!G111,G111<>\"\"),\"\")","v":""}]
["COMP-010","Comparateur mécanique à cadran","0 / 10 mm",null,null,"Afficher",null,null,null,null,null,null,null,{"$f":"IF('Choix de l''instrument '!$C$3=\"Géométrie\",AND('Choix de l''instrument '!$D$3>=Géométrie!G112,G112<>\"\"),\"\")","v":""}]
["COMP-088","Comparateur mécanique à cadran","0 / 5 mm",null,null,"Afficher",null,null,null,null,null,null,null,{"$f":"IF('Choix de l''instrument '!$C$3=\"Géométrie\",AND('Choix de l''instrument '!$D$3>=Géométrie!G113,G113<>\"\"),\"\")","v":""}]
["COMP-086","Comparateur mécanique à cadran","0 / 5 mm",null,null,"Afficher",null,null,null,null,null,null,null,{"$f":"IF('Choix de l''instrument '!$C$3=\"Géométrie\",AND('Choix de l''instrument '!$D$3>=Géométrie!G114,G114<>\"\"),\"\")","v":""}]
["COMP-011","Comparateur mécanique à cadran","0 / 100 mm",null,null,"Afficher",null,null,null,null,null,null,null,{"$f":"IF('Choix de l''instrument '!$C$3=\"Géométrie\",AND('Choix de l''instrument '!$D$3>=Géométrie!G115,G115<>\"\"),\"\")","v":""}]
["COMP-250","Comparateur mécanique à cadran","0 / 10 mm",null,null,"Afficher",null,null,null,null,null,null,null,{"$f":"IF('Choix de l''instrument '!$C$3=\"Géométrie\",AND('Choix de l''instrument '!$D$3>=Géométrie!G116,G116<>\"\"),\"\")","v":""}]
["COMP-215","Comparateur mécanique à cadran","0 / 10 mm",null,null,"Afficher",null,null,null,null,null,null,null,{"$f":"IF('Choix de l''instrument '!$C$3=\"Géométrie\",AND('Choix de l''instrument '!$D$3>=Géométrie!G117,G117<>\"\"),\"\")","v":""}]
["COMP-206","Comparateur mécanique à cadran","0 / 12,7 mm",null,null,"Afficher",null,null,null,null,null,null,null,{"$f":"IF('Choix de l''instrument '!$C$3=\"Géométrie\",AND('Choix de l''instrument '!$D$3>=Géométrie!G118,G118<>\"\"),\"\")","v":""}]
["CF.374","Comparateur mécanique à cadran","0 / 12 mm",null,null,"Afficher",null,null,null,null,null,null,null,{"$f":"IF('Choix de l''instrument '!$C$3=\"Géométrie\",AND('Choix de l''instrument '!$D$3>=Géométrie!G119,G119<>\"\"),\"\")","v":""}]
["CF.388","Comparateur mécanique à cadran","0 / 50 mm",null,null,"Afficher",null,null,null,null,null,null,null,{"$f":"IF('Choix de l''instrument '!$C$3=\"Géométrie\",AND('Choix de l''instrument '!$D$3>=Géométrie!G120,G120<>\"\"),\"\")","v":""}]
["DIM-0022","Comparateur mécanique à cadran","0 / 12 mm",null,null,"Afficher",null,null,null,null,null,null,null,{"$f":"IF('Choix de l''instrument '!$C$3=\"Géométrie\",AND('Choix de l''instrument '!$D$3>=Géométrie!G121,G121<>\"\"),\"\")","v":""}]
["DIM-0027","Comparateur mécanique à cadran","0 / 5",null,null,"Afficher",null,null,null,null,null,null,null,{"$f":"IF('Choix de l''instrument '!$C$3=\"Géométrie\",AND('Choix de l''instrument '!$D$3>=Géométrie!G122,G122<>\"\"),\"\")","v":""}]
["DIM-0017","Comparateur mécanique à cadran","0 / 100 mm",null,null,"Afficher",null,null,null,null,null,null,null,{"$f":"IF('Choix de l''instrument '!$C$3=\"Géométrie\",AND('Choix de l''instrument '!$D$3>=Géométrie!G123,G123<>\"\"),\"\")","v":""}]
["CP.010","Comparateur mécanique à cadran","0 / 10 mm",null,null,"Afficher",null,null,null,null,null,null,null,{"$f":"IF('Choix de l''instrument '!$C$3=\"Géométrie\",AND('Choix de l''instrument '!$D$3>=Géométrie!G124,G124<>\"\"),\"\")","v":""}]
["CP.012","Comparateur mécanique à cadran","0 / 10 mm",null,null,"Afficher",null,null,null,null,null,null,null,{"$f":"IF('Choix de l''instrument '!$C$3=\"Géométrie\",AND('Choix de l''instrument '!$D$3>=Géométrie!G125,G125<>\"\"),\"\")","v":""}]
["CP.074","Comparateur mécanique à cadran","0 / 5 mm",null,null,"Afficher",null,null,null,null,null,null,null,{"$f":"IF('Choix de l''instrument '!$C$3=\"Géométrie\",AND('Choix de l''instrument '!$D$3>=Géométrie!G126,G126<>\"\"),\"\")","v":""}]
["MET-0059","Comparateur numerique à tige rentrante","0 / 12,7 mm",null,null,"Afficher",null,null,null,null,null,null,null,{"$f":"IF('Choix de l''instrument '!$C$3=\"Géométrie\",AND('Choix de l''instrument '!$D$3>=Géométrie!G127,G127<>\"\"),\"\")","v":""}]
["SQ.097","Comparateur numerique à tige rentrante","0 / 12 mm",null,null,"Afficher",null,null,null,null,null,null,null,{"$f":"IF('Choix de l''instrument '!$C$3=\"Géométrie\",AND('Choix de l''instrument '!$D$3>=Géométrie!G128,G128<>\"\"),\"\")","v":""}]
["DIM-0076","Comparateur numerique à tige rentrante","12,7 mm - 0,01mm",null,null,"Afficher",null,null,null,null,null,null,null,{"$f":"IF('Choix de l''instrument '!$C$3=\"Géométrie\",AND('Choix de l''instrument '!$D$3>=Géométrie!G129,G129<>\"\"),\"\")","v":""}]

{"sheet":"Intensité_amper","index":31,"n_rows":25,"n_cols":14,"rows_kept":25,"cut":false,"hidden":false,"merged":[]}
["Intensité_amper"]
[null,null,null,null,null,null,"résolution g",null,null,null,null,null,null,"Résultat critère IT"]
["M.235","Multimètre",null,null,null,"Afficher",null,null,null,null,null,null,null,{"$f":"IF('Choix de l''instrument '!$C$3=\"Intesité_amper\",AND('Choix de l''instrument '!$D$3>=Intensité_amper!G3,G3<>\"\"),\"\")","v":""}]
["M.256","Multimètre",null,null,null,"Afficher",null,null,null,null,null,null,null,{"$f":"IF('Choix de l''instrument '!$C$3=\"Intesité_amper\",AND('Choix de l''instrument '!$D$3>=Intensité_amper!G4,G4<>\"\"),\"\")","v":""}]
["MUL-006","Multimètre","T5-600",null,null,"Afficher",null,null,null,null,null,null,null,{"$f":"IF('Choix de l''instrument '!$C$3=\"Intesité_amper\",AND('Choix de l''instrument '!$D$3>=Intensité_amper!G5,G5<>\"\"),\"\")","v":""}]
["MUL-002","Multimètre","T5-600",null,null,"Afficher",null,null,null,null,null,null,null,{"$f":"IF('Choix de l''instrument '!$C$3=\"Intesité_amper\",AND('Choix de l''instrument '!$D$3>=Intensité_amper!G6,G6<>\"\"),\"\")","v":""}]
["MUL-001","Multimètre","FLUKE T5-600",null,null,"Afficher",null,null,null,null,null,null,null,{"$f":"IF('Choix de l''instrument '!$C$3=\"Intesité_amper\",AND('Choix de l''instrument '!$D$3>=Intensité_amper!G7,G7<>\"\"),\"\")","v":""}]
["MUL-005","Multimètre","T5 - 1000",null,null,"Afficher",null,null,null,null,null,null,null,{"$f":"IF('Choix de l''instrument '!$C$3=\"Intesité_amper\",AND('Choix de l''instrument '!$D$3>=Intensité_amper!G8,G8<>\"\"),\"\")","v":""}]
["MUL-004","Multimètre",null,null,null,"Afficher",null,null,null,null,null,null,null,{"$f":"IF('Choix de l''instrument '!$C$3=\"Intesité_amper\",AND('Choix de l''instrument '!$D$3>=Intensité_amper!G9,G9<>\"\"),\"\")","v":""}]
["MUL-003","Multimètre",null,null,null,"Afficher",null,null,null,null,null,null,null,{"$f":"IF('Choix de l''instrument '!$C$3=\"Intesité_amper\",AND('Choix de l''instrument '!$D$3>=Intensité_amper!G10,G10<>\"\"),\"\")","v":""}]
["THE.146","Multimètre",null,null,null,"Afficher",null,null,null,null,null,null,null,{"$f":"IF('Choix de l''instrument '!$C$3=\"Intesité_amper\",AND('Choix de l''instrument '!$D$3>=Intensité_amper!G11,G11<>\"\"),\"\")","v":""}]
["SQ.129","Multimètre",null,null,null,"Afficher",null,null,null,null,null,null,null,{"$f":"IF('Choix de l''instrument '!$C$3=\"Intesité_amper\",AND('Choix de l''instrument '!$D$3>=Intensité_amper!G12,G12<>\"\"),\"\")","v":""}]
["CAT.096","Multimètre",null,null,null,"Afficher",null,null,null,null,null,null,null,{"$f":"IF('Choix de l''instrument '!$C$3=\"Intesité_amper\",AND('Choix de l''instrument '!$D$3>=Intensité_amper!G13,G13<>\"\"),\"\")","v":""}]
["CAT.109","Multimètre",null,null,null,"Afficher",null,null,null,null,null,null,null,{"$f":"IF('Choix de l''instrument '!$C$3=\"Intesité_amper\",AND('Choix de l''instrument '!$D$3>=Intensité_amper!G14,G14<>\"\"),\"\")","v":""}]
["ELE-0009","Multimètre",null,null,null,"Afficher",null,null,null,null,null,null,null,{"$f":"IF('Choix de l''instrument '!$C$3=\"Intesité_amper\",AND('Choix de l''instrument '!$D$3>=Intensité_amper!G15,G15<>\"\"),\"\")","v":""}]
["ELE-0008","Multimètre",null,null,null,"Afficher",null,null,null,null,null,null,null,{"$f":"IF('Choix de l''instrument '!$C$3=\"Intesité_amper\",AND('Choix de l''instrument '!$D$3>=Intensité_amper!G16,G16<>\"\"),\"\")","v":""}]
["ELE-0007","Multimètre",null,null,null,"Afficher",null,null,null,null,null,null,null,{"$f":"IF('Choix de l''instrument '!$C$3=\"Intesité_amper\",AND('Choix de l''instrument '!$D$3>=Intensité_amper!G17,G17<>\"\"),\"\")","v":""}]
["ELE-0012","Multimètre",null,null,null,"Afficher",null,null,null,null,null,null,null,{"$f":"IF('Choix de l''instrument '!$C$3=\"Intesité_amper\",AND('Choix de l''instrument '!$D$3>=Intensité_amper!G18,G18<>\"\"),\"\")","v":""}]
["ELE-0010","Multimètre",null,null,null,"Afficher",null,null,null,null,null,null,null,{"$f":"IF('Choix de l''instrument '!$C$3=\"Intesité_amper\",AND('Choix de l''instrument '!$D$3>=Intensité_amper!G19,G19<>\"\"),\"\")","v":""}]
["CF.247","Multimètre","fluke 111",null,null,"Afficher",null,null,null,null,null,null,null,{"$f":"IF('Choix de l''instrument '!$C$3=\"Intesité_amper\",AND('Choix de l''instrument '!$D$3>=Intensité_amper!G20,G20<>\"\"),\"\")","v":""}]
["CF.385","Multimètre",null,null,null,"Afficher",null,null,null,null,null,null,null,{"$f":"IF('Choix de l''instrument '!$C$3=\"Intesité_amper\",AND('Choix de l''instrument '!$D$3>=Intensité_amper!G21,G21<>\"\"),\"\")","v":""}]
["AMP-126","Ampèremètre",null,null,null,"Afficher",null,null,null,null,null,null,null,{"$f":"IF('Choix de l''instrument '!$C$3=\"Intesité_amper\",AND('Choix de l''instrument '!$D$3>=Intensité_amper!G22,G22<>\"\"),\"\")","v":""}]
["AMP-083","Pince ampèremétrique",null,null,null,"Afficher",null,null,null,null,null,null,null,{"$f":"IF('Choix de l''instrument '!$C$3=\"Intesité_amper\",AND('Choix de l''instrument '!$D$3>=Intensité_amper!G23,G23<>\"\"),\"\")","v":""}]
["ELE-0005","Pince ampèremétrique","fkuke 376",null,null,"Afficher",null,null,null,null,null,null,null,{"$f":"IF('Choix de l''instrument '!$C$3=\"Intesité_amper\",AND('Choix de l''instrument '!$D$3>=Intensité_amper!G24,G24<>\"\"),\"\")","v":""}]
["ELE-0005 /1","Pince ampèremétrique(Cordon )",null,null,null,"Afficher",null,null,null,null,null,null,null,{"$f":"IF('Choix de l''instrument '!$C$3=\"Intesité_amper\",AND('Choix de l''instrument '!$D$3>=Intensité_amper!G25,G25<>\"\"),\"\")","v":""}]

{"sheet":"Hauteur","index":32,"n_rows":130,"n_cols":14,"rows_kept":130,"cut":false,"hidden":false,"merged":[]}
["Hauteur"]
[null,null,null,null,null,null,"résolution g",null,null,null,null,null,null,"Résultat critère IT"]
["MET-0082","Capteur Heidenhain","CERTO CT 6001",null,null,"Afficher",null,null,null,null,null,null,null,{"$f":"IF('Choix de l''instrument '!$C$3=\"Hauteur\",AND('Choix de l''instrument '!$D$3>=Hauteur!G3,G3<>\"\"),\"\")","v":""}]
["MET-0101","Comparateur à tige rentrante","0 / 15 mm",null,null,"Afficher",null,null,null,null,null,null,null,{"$f":"IF('Choix de l''instrument '!$C$3=\"Hauteur\",AND('Choix de l''instrument '!$D$3>=Hauteur!G4,G4<>\"\"),\"\")","v":""}]
["MET-0100","Comparateur à tige rentrante","0 / 15 mm",null,null,"Afficher",null,null,null,null,null,null,null,{"$f":"IF('Choix de l''instrument '!$C$3=\"Hauteur\",AND('Choix de l''instrument '!$D$3>=Hauteur!G5,G5<>\"\"),\"\")","v":""}]
["MET-0099","Comparateur à tige rentrante","0 / 15 mm",null,null,"Afficher",null,null,null,null,null,null,null,{"$f":"IF('Choix de l''instrument '!$C$3=\"Hauteur\",AND('Choix de l''instrument '!$D$3>=Hauteur!G6,G6<>\"\"),\"\")","v":""}]
["DIM-0099","Comparateur à tige rentrante",null,null,null,"Afficher",null,null,null,null,null,null,null,{"$f":"IF('Choix de l''instrument '!$C$3=\"Hauteur\",AND('Choix de l''instrument '!$D$3>=Hauteur!G7,G7<>\"\"),\"\")","v":""}]
["M.206","Comparateur à tige rentrante radiale","0 / 10 mm",null,null,"Afficher",null,null,null,null,null,null,null,{"$f":"IF('Choix de l''instrument '!$C$3=\"Hauteur\",AND('Choix de l''instrument '!$D$3>=Hauteur!G8,G8<>\"\"),\"\")","v":""}]
["M.291","Comparateur à tige rentrante radiale","0 / 10 mm",null,null,"Afficher",null,null,null,null,null,null,null,{"$f":"IF('Choix de l''instrument '!$C$3=\"Hauteur\",AND('Choix de l''instrument '!$D$3>=Hauteur!G9,G9<>\"\"),\"\")","v":""}]
["TR.011","Comparateur à tige rentrante radiale","0 / 30 mm",null,null,"Afficher",null,null,null,null,null,null,null,{"$f":"IF('Choix de l''instrument '!$C$3=\"Hauteur\",AND('Choix de l''instrument '!$D$3>=Hauteur!G10,G10<>\"\"),\"\")","v":""}]
["TR.053","Comparateur à tige rentrante radiale","0 / 12 mm",null,null,"Afficher",null,null,null,null,null,null,null,{"$f":"IF('Choix de l''instrument '!$C$3=\"Hauteur\",AND('Choix de l''instrument '!$D$3>=Hauteur!G11,G11<>\"\"),\"\")","v":""}]
["SQ.087","Comparateur à tige rentrante radiale","0,01 / 12,7 mm",null,null,"Afficher",null,null,null,null,null,null,null,{"$f":"IF('Choix de l''instrument '!$C$3=\"Hauteur\",AND('Choix de l''instrument '!$D$3>=Hauteur!G12,G12<>\"\"),\"\")","v":""}]
["TC.045","Comparateur à tige rentrante radiale","0 / 10 mm",null,null,"Afficher",null,null,null,null,null,null,null,{"$f":"IF('Choix de l''instrument '!$C$3=\"Hauteur\",AND('Choix de l''instrument '!$D$3>=Hauteur!G13,G13<>\"\"),\"\")","v":""}]
["TC.044","Comparateur à tige rentrante radiale","0 / 10 mm",null,null,"Afficher",null,null,null,null,null,null,null,{"$f":"IF('Choix de l''instrument '!$C$3=\"Hauteur\",AND('Choix de l''instrument '!$D$3>=Hauteur!G14,G14<>\"\"),\"\")","v":""}]
["CAT.090","Comparateur à tige rentrante radiale","0 / 12 mm",null,null,"Afficher",null,null,null,null,null,null,null,{"$f":"IF('Choix de l''instrument '!$C$3=\"Hauteur\",AND('Choix de l''instrument '!$D$3>=Hauteur!G15,G15<>\"\"),\"\")","v":""}]
["CAT.125","Comparateur à tige rentrante radiale","0 / 12 mm",null,null,"Afficher",null,null,null,null,null,null,null,{"$f":"IF('Choix de l''instrument '!$C$3=\"Hauteur\",AND('Choix de l''instrument '!$D$3>=Hauteur!G16,G16<>\"\"),\"\")","v":""}]
["CF.060","Comparateur à tige rentrante radiale","0 / 12 mm",null,null,"Afficher",null,null,null,null,null,null,null,{"$f":"IF('Choix de l''instrument '!$C$3=\"Hauteur\",AND('Choix de l''instrument '!$D$3>=Hauteur!G17,G17<>\"\"),\"\")","v":""}]
["CE.248","Comparateur à tige rentrante radiale","0 / 5 mm",null,null,"Afficher",null,null,null,null,null,null,null,{"$f":"IF('Choix de l''instrument '!$C$3=\"Hauteur\",AND('Choix de l''instrument '!$D$3>=Hauteur!G18,G18<>\"\"),\"\")","v":""}]
["C0MP-010","Comparateur à tige rentrante radiale","0 / 10 mm",null,null,"Afficher",null,null,null,null,null,null,null,{"$f":"IF('Choix de l''instrument '!$C$3=\"Hauteur\",AND('Choix de l''instrument '!$D$3>=Hauteur!G19,G19<>\"\"),\"\")","v":""}]
["ED.246","Comparateur à tige rentrante radiale","0 / 12 mm",null,null,"Afficher",null,null,null,null,null,null,null,{"$f":"IF('Choix de l''instrument '!$C$3=\"Hauteur\",AND('Choix de l''instrument '!$D$3>=Hauteur!G20,G20<>\"\"),\"\")","v":""}]
["DIM-0150","Comparateur à tige rentrante radiale","0 / 12 mm",null,null,"Afficher",null,null,null,null,null,null,null,{"$f":"IF('Choix de l''instrument '!$C$3=\"Hauteur\",AND('Choix de l''instrument '!$D$3>=Hauteur!G21,G21<>\"\"),\"\")","v":""}]
["DIM-0028","Comparateur à tige rentrante radiale",null,null,null,"Afficher",null,null,null,null,null,null,null,{"$f":"IF('Choix de l''instrument '!$C$3=\"Hauteur\",AND('Choix de l''instrument '!$D$3>=Hauteur!G22,G22<>\"\"),\"\")","v":""}]
["CTR-007","Comparateur à tige rentrante radiale","0 / 12,7 mm",null,null,"Afficher",null,null,null,null,null,null,null,{"$f":"IF('Choix de l''instrument '!$C$3=\"Hauteur\",AND('Choix de l''instrument '!$D$3>=Hauteur!G23,G23<>\"\"),\"\")","v":""}]
["CTR-003","Comparateur à tige rentrante radiale","0 / 30 mm",null,null,"Afficher",null,null,null,null,null,null,null,{"$f":"IF('Choix de l''instrument '!$C$3=\"Hauteur\",AND('Choix de l''instrument '!$D$3>=Hauteur!G24,G24<>\"\"),\"\")","v":""}]
["CTR-002","Comparateur à tige rentrante radiale","0 / 30 mm",null,null,"Afficher",null,null,null,null,null,null,null,{"$f":"IF('Choix de l''instrument '!$C$3=\"Hauteur\",AND('Choix de l''instrument '!$D$3>=Hauteur!G25,G25<>\"\"),\"\")","v":""}]
["CTR-001","Comparateur à tige rentrante radiale","0 / 50 mm",null,null,"Afficher",null,null,null,null,null,null,null,{"$f":"IF('Choix de l''instrument '!$C$3=\"Hauteur\",AND('Choix de l''instrument '!$D$3>=Hauteur!G26,G26<>\"\"),\"\")","v":""}]
["CTR-006","Comparateur à tige rentrante radiale","0 / 50 mm",null,null,"Afficher",null,null,null,null,null,null,null,{"$f":"IF('Choix de l''instrument '!$C$3=\"Hauteur\",AND('Choix de l''instrument '!$D$3>=Hauteur!G27,G27<>\"\"),\"\")","v":""}]
["CTR-005","Comparateur à tige rentrante radiale","0 / 50 mm",null,null,"Afficher",null,null,null,null,null,null,null,{"$f":"IF('Choix de l''instrument '!$C$3=\"Hauteur\",AND('Choix de l''instrument '!$D$3>=Hauteur!G28,G28<>\"\"),\"\")","v":""}]
["CTR-004","Comparateur à tige rentrante radiale","50 / 100 mm",null,null,"Afficher",null,null,null,null,null,null,null,{"$f":"IF('Choix de l''instrument '!$C$3=\"Hauteur\",AND('Choix de l''instrument '!$D$3>=Hauteur!G29,G29<>\"\"),\"\")","v":""}]
["CP.059","Comparateur à tige rentrante radiale","0 / 12,7 mm",null,null,"Afficher",null,null,null,null,null,null,null,{"$f":"IF('Choix de l''instrument '!$C$3=\"Hauteur\",AND('Choix de l''instrument '!$D$3>=Hauteur!G30,G30<>\"\"),\"\")","v":""}]
["CP.062","Comparateur à tige rentrante radiale","0 / 50 mm",null,null,"Afficher",null,null,null,null,null,null,null,{"$f":"IF('Choix de l''instrument '!$C$3=\"Hauteur\",AND('Choix de l''instrument '!$D$3>=Hauteur!G31,G31<>\"\"),\"\")","v":""}]
["CP.061","Comparateur à tige rentrante radiale","0 / 50 mm",null,null,"Afficher",null,null,null,null,null,null,null,{"$f":"IF('Choix de l''instrument '!$C$3=\"Hauteur\",AND('Choix de l''instrument '!$D$3>=Hauteur!G32,G32<>\"\"),\"\")","v":""}]
["COMP-001","Comparateur electronique","0 / 12 mm",null,null,"Afficher",null,null,null,null,null,null,null,{"$f":"IF('Choix de l''instrument '!$C$3=\"Hauteur\",AND('Choix de l''instrument '!$D$3>=Hauteur!G33,G33<>\"\"),\"\")","v":""}]
["M.194","Comparateur mécanique à cadran","0 / 10 mm",null,null,"Afficher",null,null,null,null,null,null,null,{"$f":"IF('Choix de l''instrument '!$C$3=\"Hauteur\",AND('Choix de l''instrument '!$D$3>=Hauteur!G34,G34<>\"\"),\"\")","v":""}]
["M.043","Comparateur mécanique à cadran","0 / 10 mm",null,null,"Afficher",null,null,null,null,null,null,null,{"$f":"IF('Choix de l''instrument '!$C$3=\"Hauteur\",AND('Choix de l''instrument '!$D$3>=Hauteur!G35,G35<>\"\"),\"\")","v":""}]
["M.044","Comparateur mécanique à cadran","0 / 10 mm",null,null,"Afficher",null,null,null,null,null,null,null,{"$f":"IF('Choix de l''instrument '!$C$3=\"Hauteur\",AND('Choix de l''instrument '!$D$3>=Hauteur!G36,G36<>\"\"),\"\")","v":""}]
["M.017","Comparateur mécanique à cadran","0 / 50 mm",null,null,"Afficher",null,null,null,null,null,null,null,{"$f":"IF('Choix de l''instrument '!$C$3=\"Hauteur\",AND('Choix de l''instrument '!$D$3>=Hauteur!G37,G37<>\"\"),\"\")","v":""}]
["PA.008","Comparateur mécanique à cadran","0 / 10 mm",null,null,"Afficher",null,null,null,null,null,null,null,{"$f":"IF('Choix de l''instrument '!$C$3=\"Hauteur\",AND('Choix de l''instrument '!$D$3>=Hauteur!G38,G38<>\"\"),\"\")","v":""}]
["PA.019","Comparateur mécanique à cadran","0 / 100 mm",null,null,"Afficher",null,null,null,null,null,null,null,{"$f":"IF('Choix de l''instrument '!$C$3=\"Hauteur\",AND('Choix de l''instrument '!$D$3>=Hauteur!G39,G39<>\"\"),\"\")","v":""}]
["PA.007","Comparateur mécanique à cadran","0 / 10 mm",null,null,"Afficher",null,null,null,null,null,null,null,{"$f":"IF('Choix de l''instrument '!$C$3=\"Hauteur\",AND('Choix de l''instrument '!$D$3>=Hauteur!G40,G40<>\"\"),\"\")","v":""}]
["THE.149","Comparateur mécanique à cadran","0 / 30 mm",null,null,"Afficher",null,null,null,null,null,null,null,{"$f":"IF('Choix de l''instrument '!$C$3=\"Hauteur\",AND('Choix de l''instrument '!$D$3>=Hauteur!G41,G41<>\"\"),\"\")","v":""}]
["TR.010","Comparateur mécanique à cadran","0 / 10 mm",null,null,"Afficher",null,null,null,null,null,null,null,{"$f":"IF('Choix de l''instrument '!$C$3=\"Hauteur\",AND('Choix de l''instrument '!$D$3>=Hauteur!G42,G42<>\"\"),\"\")","v":""}]
["THE.005","Comparateur mécanique à cadran","0 / 10 mm",null,null,"Afficher",null,null,null,null,null,null,null,{"$f":"IF('Choix de l''instrument '!$C$3=\"Hauteur\",AND('Choix de l''instrument '!$D$3>=Hauteur!G43,G43<>\"\"),\"\")","v":""}]
["THE.076","Comparateur mécanique à cadran","0 / 12 mm",null,null,"Afficher",null,null,null,null,null,null,null,{"$f":"IF('Choix de l''instrument '!$C$3=\"Hauteur\",AND('Choix de l''instrument '!$D$3>=Hauteur!G44,G44<>\"\"),\"\")","v":""}]
["SQ.098","Comparateur mécanique à cadran","0 / 12 mm",null,null,"Afficher",null,null,null,null,null,null,null,{"$f":"IF('Choix de l''instrument '!$C$3=\"Hauteur\",AND('Choix de l''instrument '!$D$3>=Hauteur!G45,G45<>\"\"),\"\")","v":""}]
["SQ.035","Comparateur mécanique à cadran","0 / 12 mm",null,null,"Afficher",null,null,null,null,null,null,null,{"$f":"IF('Choix de l''instrument '!$C$3=\"Hauteur\",AND('Choix de l''instrument '!$D$3>=Hauteur!G46,G46<>\"\"),\"\")","v":""}]
["TC.005","Comparateur mécanique à cadran","0 / 10 mm",null,null,"Afficher",null,null,null,null,null,null,null,{"$f":"IF('Choix de l''instrument '!$C$3=\"Hauteur\",AND('Choix de l''instrument '!$D$3>=Hauteur!G47,G47<>\"\"),\"\")","v":""}]
["TC.042","Comparateur mécanique à cadran","0 / 10 mm",null,null,"Afficher",null,null,null,null,null,null,null,{"$f":"IF('Choix de l''instrument '!$C$3=\"Hauteur\",AND('Choix de l''instrument '!$D$3>=Hauteur!G48,G48<>\"\"),\"\")","v":""}]
["TC.039","Comparateur mécanique à cadran","0 / 10 mm",null,null,"Afficher",null,null,null,null,null,null,null,{"$f":"IF('Choix de l''instrument '!$C$3=\"Hauteur\",AND('Choix de l''instrument '!$D$3>=Hauteur!G49,G49<>\"\"),\"\")","v":""}]
["TC.014","Comparateur mécanique à cadran","0 / 3 mm",null,null,"Afficher",null,null,null,null,null,null,null,{"$f":"IF('Choix de l''instrument '!$C$3=\"Hauteur\",AND('Choix de l''instrument '!$D$3>=Hauteur!G50,G50<>\"\"),\"\")","v":""}]
["TC.012","Comparateur mécanique à cadran","0 / 10 mm",null,null,"Afficher",null,null,null,null,null,null,null,{"$f":"IF('Choix de l''instrument '!$C$3=\"Hauteur\",AND('Choix de l''instrument '!$D$3>=Hauteur!G51,G51<>\"\"),\"\")","v":""}]
["PA.028","Comparateur mécanique à cadran","0 / 20 mm",null,null,"Afficher",null,null,null,null,null,null,null,{"$f":"IF('Choix de l''instrument '!$C$3=\"Hauteur\",AND('Choix de l''instrument '!$D$3>=Hauteur!G52,G52<>\"\"),\"\")","v":""}]
["TC.101","Comparateur mécanique à cadran","0 / 20 mm",null,null,"Afficher",null,null,null,null,null,null,null,{"$f":"IF('Choix de l''instrument '!$C$3=\"Hauteur\",AND('Choix de l''instrument '!$D$3>=Hauteur!G53,G53<>\"\"),\"\")","v":""}]
["TC.104","Comparateur mécanique à cadran","0 / 20 mm",null,null,"Afficher",null,null,null,null,null,null,null,{"$f":"IF('Choix de l''instrument '!$C$3=\"Hauteur\",AND('Choix de l''instrument '!$D$3>=Hauteur!G54,G54<>\"\"),\"\")","v":""}]
["TC.103","Comparateur mécanique à cadran","0 / 20 mm",null,null,"Afficher",null,null,null,null,null,null,null,{"$f":"IF('Choix de l''instrument '!$C$3=\"Hauteur\",AND('Choix de l''instrument '!$D$3>=Hauteur!G55,G55<>\"\"),\"\")","v":""}]
["TC.102","Comparateur mécanique à cadran","0 / 20 mm",null,null,"Afficher",null,null,null,null,null,null,null,{"$f":"IF('Choix de l''instrument '!$C$3=\"Hauteur\",AND('Choix de l''instrument '!$D$3>=Hauteur!G56,G56<>\"\"),\"\")","v":""}]
["TC.091","Comparateur mécanique à cadran","0 / 10 mm",null,null,"Afficher",null,null,null,null,null,null,null,{"$f":"IF('Choix de l''instrument '!$C$3=\"Hauteur\",AND('Choix de l''instrument '!$D$3>=Hauteur!G57,G57<>\"\"),\"\")","v":""}]
["CAT.070","Comparateur mécanique à cadran","0 / 5 mm",null,null,"Afficher",null,null,null,null,null,null,null,{"$f":"IF('Choix de l''instrument '!$C$3=\"Hauteur\",AND('Choix de l''instrument '!$D$3>=Hauteur!G58,G58<>\"\"),\"\")","v":""}]
["CAT.008","Comparateur mécanique à cadran","0 / 10 mm",null,null,"Afficher",null,null,null,null,null,null,null,{"$f":"IF('Choix de l''instrument '!$C$3=\"Hauteur\",AND('Choix de l''instrument '!$D$3>=Hauteur!G59,G59<>\"\"),\"\")","v":""}]
["CF.018","Comparateur mécanique à cadran","0 / 10 mm",null,null,"Afficher",null,null,null,null,null,null,null,{"$f":"IF('Choix de l''instrument '!$C$3=\"Hauteur\",AND('Choix de l''instrument '!$D$3>=Hauteur!G60,G60<>\"\"),\"\")","v":""}]
["CF.017","Comparateur mécanique à cadran","0 / 10 mm",null,null,"Afficher",null,null,null,null,null,null,null,{"$f":"IF('Choix de l''instrument '!$C$3=\"Hauteur\",AND('Choix de l''instrument '!$D$3>=Hauteur!G61,G61<>\"\"),\"\")","v":""}]
["CF.015","Comparateur mécanique à cadran","0 / 10 mm",null,null,"Afficher",null,null,null,null,null,null,null,{"$f":"IF('Choix de l''instrument '!$C$3=\"Hauteur\",AND('Choix de l''instrument '!$D$3>=Hauteur!G62,G62<>\"\"),\"\")","v":""}]
["CF.012","Comparateur mécanique à cadran","0 / 10 mm",null,null,"Afficher",null,null,null,null,null,null,null,{"$f":"IF('Choix de l''instrument '!$C$3=\"Hauteur\",AND('Choix de l''instrument '!$D$3>=Hauteur!G63,G63<>\"\"),\"\")","v":""}]
["CF.098","Comparateur mécanique à cadran","0 / 10 mm",null,null,"Afficher",null,null,null,null,null,null,null,{"$f":"IF('Choix de l''instrument '!$C$3=\"Hauteur\",AND('Choix de l''instrument '!$D$3>=Hauteur!G64,G64<>\"\"),\"\")","v":""}]
["CF.044","Comparateur mécanique à cadran","0 / 5 mm",null,null,"Afficher",null,null,null,null,null,null,null,{"$f":"IF('Choix de l''instrument '!$C$3=\"Hauteur\",AND('Choix de l''instrument '!$D$3>=Hauteur!G65,G65<>\"\"),\"\")","v":""}]
["CF.050","Comparateur mécanique à cadran","0 / 10 mm",null,null,"Afficher",null,null,null,null,null,null,null,{"$f":"IF('Choix de l''instrument '!$C$3=\"Hauteur\",AND('Choix de l''instrument '!$D$3>=Hauteur!G66,G66<>\"\"),\"\")","v":""}]
["CF.047","Comparateur mécanique à cadran","0 / 10 mm",null,null,"Afficher",null,null,null,null,null,null,null,{"$f":"IF('Choix de l''instrument '!$C$3=\"Hauteur\",AND('Choix de l''instrument '!$D$3>=Hauteur!G67,G67<>\"\"),\"\")","v":""}]
["CF.062","Comparateur mécanique à cadran","0 / 10 mm",null,null,"Afficher",null,null,null,null,null,null,null,{"$f":"IF('Choix de l''instrument '!$C$3=\"Hauteur\",AND('Choix de l''instrument '!$D$3>=Hauteur!G68,G68<>\"\"),\"\")","v":""}]
["CF.082","Comparateur mécanique à cadran","0 / 5 mm",null,null,"Afficher",null,null,null,null,null,null,null,{"$f":"IF('Choix de l''instrument '!$C$3=\"Hauteur\",AND('Choix de l''instrument '!$D$3>=Hauteur!G69,G69<>\"\"),\"\")","v":""}]
["CF.081","Comparateur mécanique à cadran","0 / 5 mm",null,null,"Afficher",null,null,null,null,null,null,null,{"$f":"IF('Choix de l''instrument '!$C$3=\"Hauteur\",AND('Choix de l''instrument '!$D$3>=Hauteur!G70,G70<>\"\"),\"\")","v":""}]
["CE.009","Comparateur mécanique à cadran","0 / 10 mm",null,null,"Afficher",null,null,null,null,null,null,null,{"$f":"IF('Choix de l''instrument '!$C$3=\"Hauteur\",AND('Choix de l''instrument '!$D$3>=Hauteur!G71,G71<>\"\"),\"\")","v":""}]
["CE.033","Comparateur mécanique à cadran","0 / 5 mm",null,null,"Afficher",null,null,null,null,null,null,null,{"$f":"IF('Choix de l''instrument '!$C$3=\"Hauteur\",AND('Choix de l''instrument '!$D$3>=Hauteur!G72,G72<>\"\"),\"\")","v":""}]
["CE.052","Comparateur mécanique à cadran","0 / 12 mm",null,null,"Afficher",null,null,null,null,null,null,null,{"$f":"IF('Choix de l''instrument '!$C$3=\"Hauteur\",AND('Choix de l''instrument '!$D$3>=Hauteur!G73,G73<>\"\"),\"\")","v":""}]
["EN.071","Comparateur mécanique à cadran","0 / 5 mm",null,null,"Afficher",null,null,null,null,null,null,null,{"$f":"IF('Choix de l''instrument '!$C$3=\"Hauteur\",AND('Choix de l''instrument '!$D$3>=Hauteur!G74,G74<>\"\"),\"\")","v":""}]
["EN.040","Comparateur mécanique à cadran","0 / 5 mm",null,null,"Afficher",null,null,null,null,null,null,null,{"$f":"IF('Choix de l''instrument '!$C$3=\"Hauteur\",AND('Choix de l''instrument '!$D$3>=Hauteur!G75,G75<>\"\"),\"\")","v":""}]
["EN.075","Comparateur mécanique à cadran","0 / 5 mm",null,null,"Afficher",null,null,null,null,null,null,null,{"$f":"IF('Choix de l''instrument '!$C$3=\"Hauteur\",AND('Choix de l''instrument '!$D$3>=Hauteur!G76,G76<>\"\"),\"\")","v":""}]
["EN.004","Comparateur mécanique à cadran","0 / 10 mm",null,null,"Afficher",null,null,null,null,null,null,null,{"$f":"IF('Choix de l''instrument '!$C$3=\"Hauteur\",AND('Choix de l''instrument '!$D$3>=Hauteur!G77,G77<>\"\"),\"\")","v":""}]
["DIM-0147","Comparateur mécanique à cadran","0 / 0,5",null,null,"Afficher",null,null,null,null,null,null,null,{"$f":"IF('Choix de l''instrument '!$C$3=\"Hauteur\",AND('Choix de l''instrument '!$D$3>=Hauteur!G78,G78<>\"\"),\"\")","v":""}]
["DIM-0146","Comparateur mécanique à cadran","0 / 0,14",null,null,"Afficher",null,null,null,null,null,null,null,{"$f":"IF('Choix de l''instrument '!$C$3=\"Hauteur\",AND('Choix de l''instrument '!$D$3>=Hauteur!G79,G79<>\"\"),\"\")","v":""}]
["ED.167","Comparateur mécanique à cadran","0 / 10 mm",null,null,"Afficher",null,null,null,null,null,null,null,{"$f":"IF('Choix de l''instrument '!$C$3=\"Hauteur\",AND('Choix de l''instrument '!$D$3>=Hauteur!G80,G80<>\"\"),\"\")","v":""}]
["COMP-006","Comparateur mécanique à cadran","0 / 30 mm",null,null,"Afficher",null,null,null,null,null,null,null,{"$f":"IF('Choix de l''instrument '!$C$3=\"Hauteur\",AND('Choix de l''instrument '!$D$3>=Hauteur!G81,G81<>\"\"),\"\")","v":""}]
["COMP-005","Comparateur mécanique à cadran","0 / 5 mm",null,null,"Afficher",null,null,null,null,null,null,null,{"$f":"IF('Choix de l''instrument '!$C$3=\"Hauteur\",AND('Choix de l''instrument '!$D$3>=Hauteur!G82,G82<>\"\"),\"\")","v":""}]
["COMP-004","Comparateur mécanique à cadran","0 / 5 mm",null,null,"Afficher",null,null,null,null,null,null,null,{"$f":"IF('Choix de l''instrument '!$C$3=\"Hauteur\",AND('Choix de l''instrument '!$D$3>=Hauteur!G83,G83<>\"\"),\"\")","v":""}]
["COMP-009","Comparateur mécanique à cadran","0 / 12 mm",null,null,"Afficher",null,null,null,null,null,null,null,{"$f":"IF('Choix de l''instrument '!$C$3=\"Hauteur\",AND('Choix de l''instrument '!$D$3>=Hauteur!G84,G84<>\"\"),\"\")","v":""}]
["COMP-008","Comparateur mécanique à cadran","0 / 10 mm",null,null,"Afficher",null,null,null,null,null,null,null,{"$f":"IF('Choix de l''instrument '!$C$3=\"Hauteur\",AND('Choix de l''instrument '!$D$3>=Hauteur!G85,G85<>\"\"),\"\")","v":""}]
["COMP-007","Comparateur mécanique à cadran","0 / 30 mm",null,null,"Afficher",null,null,null,null,null,null,null,{"$f":"IF('Choix de l''instrument '!$C$3=\"Hauteur\",AND('Choix de l''instrument '!$D$3>=Hauteur!G86,G86<>\"\"),\"\")","v":""}]
["COMP-003","Comparateur mécanique à cadran","0 / 5 mm",null,null,"Afficher",null,null,null,null,null,null,null,{"$f":"IF('Choix de l''instrument '!$C$3=\"Hauteur\",AND('Choix de l''instrument '!$D$3>=Hauteur!G87,G87<>\"\"),\"\")","v":""}]
["COMP-002","Comparateur mécanique à cadran","0 / 5 mm",null,null,"Afficher",null,null,null,null,null,null,null,{"$f":"IF('Choix de l''instrument '!$C$3=\"Hauteur\",AND('Choix de l''instrument '!$D$3>=Hauteur!G88,G88<>\"\"),\"\")","v":""}]
["COMP-010","Comparateur mécanique à cadran","0 / 10 mm",null,null,"Afficher",null,null,null,null,null,null,null,{"$f":"IF('Choix de l''instrument '!$C$3=\"Hauteur\",AND('Choix de l''instrument '!$D$3>=Hauteur!G89,G89<>\"\"),\"\")","v":""}]
["COMP-088","Comparateur mécanique à cadran","0 / 5 mm",null,null,"Afficher",null,null,null,null,null,null,null,{"$f":"IF('Choix de l''instrument '!$C$3=\"Hauteur\",AND('Choix de l''instrument '!$D$3>=Hauteur!G90,G90<>\"\"),\"\")","v":""}]
["COMP-086","Comparateur mécanique à cadran","0 / 5 mm",null,null,"Afficher",null,null,null,null,null,null,null,{"$f":"IF('Choix de l''instrument '!$C$3=\"Hauteur\",AND('Choix de l''instrument '!$D$3>=Hauteur!G91,G91<>\"\"),\"\")","v":""}]
["COMP-011","Comparateur mécanique à cadran","0 / 100 mm",null,null,"Afficher",null,null,null,null,null,null,null,{"$f":"IF('Choix de l''instrument '!$C$3=\"Hauteur\",AND('Choix de l''instrument '!$D$3>=Hauteur!G92,G92<>\"\"),\"\")","v":""}]
["COMP-250","Comparateur mécanique à cadran","0 / 10 mm",null,null,"Afficher",null,null,null,null,null,null,null,{"$f":"IF('Choix de l''instrument '!$C$3=\"Hauteur\",AND('Choix de l''instrument '!$D$3>=Hauteur!G93,G93<>\"\"),\"\")","v":""}]
["COMP-215","Comparateur mécanique à cadran","0 / 10 mm",null,null,"Afficher",null,null,null,null,null,null,null,{"$f":"IF('Choix de l''instrument '!$C$3=\"Hauteur\",AND('Choix de l''instrument '!$D$3>=Hauteur!G94,G94<>\"\"),\"\")","v":""}]
["COMP-206","Comparateur mécanique à cadran","0 / 12,7 mm",null,null,"Afficher",null,null,null,null,null,null,null,{"$f":"IF('Choix de l''instrument '!$C$3=\"Hauteur\",AND('Choix de l''instrument '!$D$3>=Hauteur!G95,G95<>\"\"),\"\")","v":""}]
["CF.374","Comparateur mécanique à cadran","0 / 12 mm",null,null,"Afficher",null,null,null,null,null,null,null,{"$f":"IF('Choix de l''instrument '!$C$3=\"Hauteur\",AND('Choix de l''instrument '!$D$3>=Hauteur!G96,G96<>\"\"),\"\")","v":""}]
["CF.388","Comparateur mécanique à cadran","0 / 50 mm",null,null,"Afficher",null,null,null,null,null,null,null,{"$f":"IF('Choix de l''instrument '!$C$3=\"Hauteur\",AND('Choix de l''instrument '!$D$3>=Hauteur!G97,G97<>\"\"),\"\")","v":""}]
["DIM-0022","Comparateur mécanique à cadran","0 / 12 mm",null,null,"Afficher",null,null,null,null,null,null,null,{"$f":"IF('Choix de l''instrument '!$C$3=\"Hauteur\",AND('Choix de l''instrument '!$D$3>=Hauteur!G98,G98<>\"\"),\"\")","v":""}]
["DIM-0027","Comparateur mécanique à cadran","0 / 5",null,null,"Afficher",null,null,null,null,null,null,null,{"$f":"IF('Choix de l''instrument '!$C$3=\"Hauteur\",AND('Choix de l''instrument '!$D$3>=Hauteur!G99,G99<>\"\"),\"\")","v":""}]
["DIM-0017","Comparateur mécanique à cadran","0 / 100 mm",null,null,"Afficher",null,null,null,null,null,null,null,{"$f":"IF('Choix de l''instrument '!$C$3=\"Hauteur\",AND('Choix de l''instrument '!$D$3>=Hauteur!G100,G100<>\"\"),\"\")","v":""}]
["CP.010","Comparateur mécanique à cadran","0 / 10 mm",null,null,"Afficher",null,null,null,null,null,null,null,{"$f":"IF('Choix de l''instrument '!$C$3=\"Hauteur\",AND('Choix de l''instrument '!$D$3>=Hauteur!G101,G101<>\"\"),\"\")","v":""}]
["CP.012","Comparateur mécanique à cadran","0 / 10 mm",null,null,"Afficher",null,null,null,null,null,null,null,{"$f":"IF('Choix de l''instrument '!$C$3=\"Hauteur\",AND('Choix de l''instrument '!$D$3>=Hauteur!G102,G102<>\"\"),\"\")","v":""}]
["CP.074","Comparateur mécanique à cadran","0 / 5 mm",null,null,"Afficher",null,null,null,null,null,null,null,{"$f":"IF('Choix de l''instrument '!$C$3=\"Hauteur\",AND('Choix de l''instrument '!$D$3>=Hauteur!G103,G103<>\"\"),\"\")","v":""}]
["MET-0059","Comparateur numerique à tige rentrante","0 / 12,7 mm",null,null,"Afficher",null,null,null,null,null,null,null,{"$f":"IF('Choix de l''instrument '!$C$3=\"Hauteur\",AND('Choix de l''instrument '!$D$3>=Hauteur!G104,G104<>\"\"),\"\")","v":""}]
["SQ.097","Comparateur numerique à tige rentrante","0 / 12 mm",null,null,"Afficher",null,null,null,null,null,null,null,{"$f":"IF('Choix de l''instrument '!$C$3=\"Hauteur\",AND('Choix de l''instrument '!$D$3>=Hauteur!G105,G105<>\"\"),\"\")","v":""}]
["DIM-0076","Comparateur numerique à tige rentrante","12,7 mm - 0,01mm",null,null,"Afficher",null,null,null,null,null,null,null,{"$f":"IF('Choix de l''instrument '!$C$3=\"Hauteur\",AND('Choix de l''instrument '!$D$3>=Hauteur!G106,G106<>\"\"),\"\")","v":""}]
["JDP-082","Jauge de profondeur","0 / 150",null,null,"Afficher",null,null,null,null,null,null,null,{"$f":"IF('Choix de l''instrument '!$C$3=\"Hauteur\",AND('Choix de l''instrument '!$D$3>=Hauteur!G107,G107<>\"\"),\"\")","v":""}]
["JDP-081","Jauge de profondeur","0/150mm",null,null,"Afficher",null,null,null,null,null,null,null,{"$f":"IF('Choix de l''instrument '!$C$3=\"Hauteur\",AND('Choix de l''instrument '!$D$3>=Hauteur!G108,G108<>\"\"),\"\")","v":""}]
["JDP-001","Jauge de profondeur","0 / 150 mm",null,null,"Afficher",null,null,null,null,null,null,null,{"$f":"IF('Choix de l''instrument '!$C$3=\"Hauteur\",AND('Choix de l''instrument '!$D$3>=Hauteur!G109,G109<>\"\"),\"\")","v":""}]
["M.287","Jauge de profondeur à coulisseau","0 / 150 mm",null,null,"Afficher",null,null,null,null,null,null,null,{"$f":"IF('Choix de l''instrument '!$C$3=\"Hauteur\",AND('Choix de l''instrument '!$D$3>=Hauteur!G110,G110<>\"\"),\"\")","v":""}]
["M.181","Jauge de profondeur à coulisseau","0 / 150 mm",null,null,"Afficher",null,null,null,null,null,null,null,{"$f":"IF('Choix de l''instrument '!$C$3=\"Hauteur\",AND('Choix de l''instrument '!$D$3>=Hauteur!G111,G111<>\"\"),\"\")","v":""}]
["JPC 002","Jauge de profondeur à coulisseau","0/150",null,null,"Afficher",null,null,null,null,null,null,null,{"$f":"IF('Choix de l''instrument '!$C$3=\"Hauteur\",AND('Choix de l''instrument '!$D$3>=Hauteur!G112,G112<>\"\"),\"\")","v":""}]
["THE.011","Jauge de profondeur à coulisseau","0 / 200 mm",null,null,"Afficher",null,null,null,null,null,null,null,{"$f":"IF('Choix de l''instrument '!$C$3=\"Hauteur\",AND('Choix de l''instrument '!$D$3>=Hauteur!G113,G113<>\"\"),\"\")","v":""}]
["THE.022","Jauge de profondeur à coulisseau","0 / 150 mm",null,null,"Afficher",null,null,null,null,null,null,null,{"$f":"IF('Choix de l''instrument '!$C$3=\"Hauteur\",AND('Choix de l''instrument '!$D$3>=Hauteur!G114,G114<>\"\"),\"\")","v":""}]
["CAT.014","Jauge de profondeur à coulisseau","0 / 200 mm",null,null,"Afficher",null,null,null,null,null,null,null,{"$f":"IF('Choix de l''instrument '!$C$3=\"Hauteur\",AND('Choix de l''instrument '!$D$3>=Hauteur!G115,G115<>\"\"),\"\")","v":""}]
["CF.133","Jauge de profondeur à coulisseau","0 / 200 mm",null,null,"Afficher",null,null,null,null,null,null,null,{"$f":"IF('Choix de l''instrument '!$C$3=\"Hauteur\",AND('Choix de l''instrument '!$D$3>=Hauteur!G116,G116<>\"\"),\"\")","v":""}]
["DIM-0046","Jauge de profondeur à coulisseau","0/150",null,null,"Afficher",null,null,null,null,null,null,null,{"$f":"IF('Choix de l''instrument '!$C$3=\"Hauteur\",AND('Choix de l''instrument '!$D$3>=Hauteur!G117,G117<>\"\"),\"\")","v":""}]
["M.201","Jauge de profondeur à vis","0 / 25 mm",null,null,"Afficher",null,null,null,null,null,null,null,{"$f":"IF('Choix de l''instrument '!$C$3=\"Hauteur\",AND('Choix de l''instrument '!$D$3>=Hauteur!G118,G118<>\"\"),\"\")","v":""}]
["MET-0056","Colonne",null,null,null,"Afficher",null,null,null,null,null,null,null,{"$f":"IF('Choix de l''instrument '!$C$3=\"Hauteur\",AND('Choix de l''instrument '!$D$3>=Hauteur!G119,G119<>\"\"),\"\")","v":""}]
["CAT.084","Machine à mesurer par vision",null,null,null,"Afficher",null,null,null,null,null,null,null,{"$f":"IF('Choix de l''instrument '!$C$3=\"Hauteur\",AND('Choix de l''instrument '!$D$3>=Hauteur!G120,G120<>\"\"),\"\")","v":""}]
["CF.375","Machine à mesurer par vision",null,null,null,"Afficher",null,null,null,null,null,null,null,{"$f":"IF('Choix de l''instrument '!$C$3=\"Hauteur\",AND('Choix de l''instrument '!$D$3>=Hauteur!G121,G121<>\"\"),\"\")","v":""}]
["CF.280","Machine à mesurer sans contact",null,null,null,"Afficher",null,null,null,null,null,null,null,{"$f":"IF('Choix de l''instrument '!$C$3=\"Hauteur\",AND('Choix de l''instrument '!$D$3>=Hauteur!G122,G122<>\"\"),\"\")","v":""}]
["OPT-0020","Projecteur de profils",null,null,null,"Afficher",null,null,null,null,null,null,null,{"$f":"IF('Choix de l''instrument '!$C$3=\"Hauteur\",AND('Choix de l''instrument '!$D$3>=Hauteur!G123,G123<>\"\"),\"\")","v":""}]
["OPT-0037","Projecteur de profils",null,null,null,"Afficher",null,null,null,null,null,null,null,{"$f":"IF('Choix de l''instrument '!$C$3=\"Hauteur\",AND('Choix de l''instrument '!$D$3>=Hauteur!G124,G124<>\"\"),\"\")","v":""}]
["OPT-0001","Projecteur de profils",null,null,null,"Afficher",null,null,null,null,null,null,null,{"$f":"IF('Choix de l''instrument '!$C$3=\"Hauteur\",AND('Choix de l''instrument '!$D$3>=Hauteur!G125,G125<>\"\"),\"\")","v":""}]
["OPT-0006","Projecteur de profils",null,null,null,"Afficher",null,null,null,null,null,null,null,{"$f":"IF('Choix de l''instrument '!$C$3=\"Hauteur\",AND('Choix de l''instrument '!$D$3>=Hauteur!G126,G126<>\"\"),\"\")","v":""}]
["OPT-0018","Projecteur de profils",null,null,null,"Afficher",null,null,null,null,null,null,null,{"$f":"IF('Choix de l''instrument '!$C$3=\"Hauteur\",AND('Choix de l''instrument '!$D$3>=Hauteur!G127,G127<>\"\"),\"\")","v":""}]
["OPT-0017","Projecteur de profils",null,null,null,"Afficher",null,null,null,null,null,null,null,{"$f":"IF('Choix de l''instrument '!$C$3=\"Hauteur\",AND('Choix de l''instrument '!$D$3>=Hauteur!G128,G128<>\"\"),\"\")","v":""}]
["CF.449","Projecteur de profils",null,null,null,"Afficher",null,null,null,null,null,null,null,{"$f":"IF('Choix de l''instrument '!$C$3=\"Hauteur\",AND('Choix de l''instrument '!$D$3>=Hauteur!G129,G129<>\"\"),\"\")","v":""}]
["CF.460","Projecteur de profils",null,null,null,"Afficher",null,null,null,null,null,null,null,{"$f":"IF('Choix de l''instrument '!$C$3=\"Hauteur\",AND('Choix de l''instrument '!$D$3>=Hauteur!G130,G130<>\"\"),\"\")","v":""}]

{"sheet":"Longueur","index":33,"n_rows":438,"n_cols":14,"rows_kept":438,"cut":false,"hidden":false,"merged":[]}
["Longueur"]
[null,null,null,null,null,null,"résolution g",null,null,null,null,null,null,"Résultat critère IT"]
["DIM-0145","Régle digitale","Production / 8507 / Micro Assemblage","0 / 150 mm",null,"Afficher",null,null,null,null,null,null,null,{"$f":"IF('Choix de l''instrument '!$C$3=\"Longueur\",AND('Choix de l''instrument '!$D$3>=Longueur!G3,G3<>\"\"),\"\")","v":""}]
["DIM-0074","Reglet","Production / 8414DIV / Contrôle tube divers","3000 mm",null,"Afficher",null,null,null,null,null,null,null,{"$f":"IF('Choix de l''instrument '!$C$3=\"Longueur\",AND('Choix de l''instrument '!$D$3>=Longueur!G4,G4<>\"\"),\"\")","v":""}]
["DIM-0008","Réglet","Production / 8509 / Tronconnage","0 / 3000 mm",null,"Afficher",null,null,null,null,null,null,null,{"$f":"IF('Choix de l''instrument '!$C$3=\"Longueur\",AND('Choix de l''instrument '!$D$3>=Longueur!G5,G5<>\"\"),\"\")","v":""}]
["DIM-0133","Dimensionnel","Production / 8400",null,null,"Afficher",null,null,null,null,null,null,null,{"$f":"IF('Choix de l''instrument '!$C$3=\"Longueur\",AND('Choix de l''instrument '!$D$3>=Longueur!G6,G6<>\"\"),\"\")","v":""}]
["BMIC-001","Butée micrométrique","Technique / 7700 / Armoire BOTT CG","0 / 25 mm",null,"Afficher",null,null,null,null,null,null,null,{"$f":"IF('Choix de l''instrument '!$C$3=\"Longueur\",AND('Choix de l''instrument '!$D$3>=Longueur!G7,G7<>\"\"),\"\")","v":""}]
["SQ.027","Règle graduée","Technique / 7700 / Armoire BOTT GG","0 / 50 mm",null,"Afficher",null,null,null,null,null,null,null,{"$f":"IF('Choix de l''instrument '!$C$3=\"Longueur\",AND('Choix de l''instrument '!$D$3>=Longueur!G8,G8<>\"\"),\"\")","v":""}]
["DIM-0072","Reglet","Production / 7700","3000 mm",null,"Afficher",null,null,null,null,null,null,null,{"$f":"IF('Choix de l''instrument '!$C$3=\"Longueur\",AND('Choix de l''instrument '!$D$3>=Longueur!G9,G9<>\"\"),\"\")","v":""}]
["DIM-0073","Reglet","Production / 7700 / Métrologie","3000 mm",null,"Afficher",null,null,null,null,null,null,null,{"$f":"IF('Choix de l''instrument '!$C$3=\"Longueur\",AND('Choix de l''instrument '!$D$3>=Longueur!G10,G10<>\"\"),\"\")","v":""}]
["CF.375","Machine à mesurer par vision","Production / 8509 / Tronconnage",null,null,"Afficher",null,null,null,null,null,null,null,{"$f":"IF('Choix de l''instrument '!$C$3=\"Longueur\",AND('Choix de l''instrument '!$D$3>=Longueur!G11,G11<>\"\"),\"\")","v":""}]
["CF.280","Machine à mesurer sans contact","Production / 8513 / Contrôle Final Pièces",null,null,"Afficher",null,null,null,null,null,null,null,{"$f":"IF('Choix de l''instrument '!$C$3=\"Longueur\",AND('Choix de l''instrument '!$D$3>=Longueur!G12,G12<>\"\"),\"\")","v":""}]
["CF.449","Projecteur de profils","Production / 8513 / Contrôle Final Pièces",null,null,"Afficher",null,null,null,null,null,null,null,{"$f":"IF('Choix de l''instrument '!$C$3=\"Longueur\",AND('Choix de l''instrument '!$D$3>=Longueur!G13,G13<>\"\"),\"\")","v":""}]
["CF.460","Projecteur de profils","Production / 8414 DIV / Contrôle Tubes Divers",null,null,"Afficher",null,null,null,null,null,null,null,{"$f":"IF('Choix de l''instrument '!$C$3=\"Longueur\",AND('Choix de l''instrument '!$D$3>=Longueur!G14,G14<>\"\"),\"\")","v":""}]
["OPT-0001","Projecteur de profils","Technique / 7245 / Prototype",null,null,"Afficher",null,null,null,null,null,null,null,{"$f":"IF('Choix de l''instrument '!$C$3=\"Longueur\",AND('Choix de l''instrument '!$D$3>=Longueur!G15,G15<>\"\"),\"\")","v":""}]
["OPT-0006","Projecteur de profils","Production / 8507 / micro assemblage",null,null,"Afficher",null,null,null,null,null,null,null,{"$f":"IF('Choix de l''instrument '!$C$3=\"Longueur\",AND('Choix de l''instrument '!$D$3>=Longueur!G16,G16<>\"\"),\"\")","v":""}]
["OPT-0017","Projecteur de profils","Production / 8510 / Tour de Reprise",null,null,"Afficher",null,null,null,null,null,null,null,{"$f":"IF('Choix de l''instrument '!$C$3=\"Longueur\",AND('Choix de l''instrument '!$D$3>=Longueur!G17,G17<>\"\"),\"\")","v":""}]
["OPT-0020","Projecteur de profils","Production / 8513 / Contrôle Final Pièces",null,null,"Afficher",null,null,null,null,null,null,null,{"$f":"IF('Choix de l''instrument '!$C$3=\"Longueur\",AND('Choix de l''instrument '!$D$3>=Longueur!G18,G18<>\"\"),\"\")","v":""}]
["OPT-0018","Projecteur de profils","Technique / 7700",null,null,"Afficher",null,null,null,null,null,null,null,{"$f":"IF('Choix de l''instrument '!$C$3=\"Longueur\",AND('Choix de l''instrument '!$D$3>=Longueur!G19,G19<>\"\"),\"\")","v":""}]
["CAT.084","Machine à mesurer par vision","Production / 8510",null,null,"Afficher",null,null,null,null,null,null,null,{"$f":"IF('Choix de l''instrument '!$C$3=\"Longueur\",AND('Choix de l''instrument '!$D$3>=Longueur!G20,G20<>\"\"),\"\")","v":""}]
[null,null,null,null,null,null,null,null,null,null,null,null,null,{"$f":"IF('Choix de l''instrument '!$C$3=\"Longueur\",AND('Choix de l''instrument '!$D$3>=Longueur!G21,G21<>\"\"),\"\")","v":""}]
["M.249","Pied à coulisse","0 / 150 mm",null,null,"Afficher",null,null,null,null,null,null,null,{"$f":"IF('Choix de l''instrument '!$C$3=\"Longueur\",AND('Choix de l''instrument '!$D$3>=Longueur!G22,G22<>\"\"),\"\")","v":""}]
["M.296","Pied à coulisse","0 / 150 mm",null,null,"Afficher",null,null,null,null,null,null,null,{"$f":"IF('Choix de l''instrument '!$C$3=\"Longueur\",AND('Choix de l''instrument '!$D$3>=Longueur!G23,G23<>\"\"),\"\")","v":""}]
["M.250","Pied à coulisse","0 / 150 mm",null,null,"Afficher",null,null,null,null,null,null,null,{"$f":"IF('Choix de l''instrument '!$C$3=\"Longueur\",AND('Choix de l''instrument '!$D$3>=Longueur!G24,G24<>\"\"),\"\")","v":""}]
["M.279","Pied à coulisse","0 / 150 mm",null,null,"Afficher",null,null,null,null,null,null,null,{"$f":"IF('Choix de l''instrument '!$C$3=\"Longueur\",AND('Choix de l''instrument '!$D$3>=Longueur!G25,G25<>\"\"),\"\")","v":""}]
["M.269","Pied à coulisse","0 / 150 mm",null,null,"Afficher",null,null,null,null,null,null,null,{"$f":"IF('Choix de l''instrument '!$C$3=\"Longueur\",AND('Choix de l''instrument '!$D$3>=Longueur!G26,G26<>\"\"),\"\")","v":""}]
["M.077","Pied à coulisse","0 / 150 mm",null,null,"Afficher",null,null,null,null,null,null,null,{"$f":"IF('Choix de l''instrument '!$C$3=\"Longueur\",AND('Choix de l''instrument '!$D$3>=Longueur!G27,G27<>\"\"),\"\")","v":""}]
["M.072","Pied à coulisse","0 / 500 mm",null,null,"Afficher",null,null,null,null,null,null,null,{"$f":"IF('Choix de l''instrument '!$C$3=\"Longueur\",AND('Choix de l''instrument '!$D$3>=Longueur!G28,G28<>\"\"),\"\")","v":""}]
["M.038","Pied à coulisse","0 / 300 mm",null,null,"Afficher",null,null,null,null,null,null,null,{"$f":"IF('Choix de l''instrument '!$C$3=\"Longueur\",AND('Choix de l''instrument '!$D$3>=Longueur!G29,G29<>\"\"),\"\")","v":""}]
["M.037","Pied à coulisse","0 / 150 mm",null,null,"Afficher",null,null,null,null,null,null,null,{"$f":"IF('Choix de l''instrument '!$C$3=\"Longueur\",AND('Choix de l''instrument '!$D$3>=Longueur!G30,G30<>\"\"),\"\")","v":""}]
["M.002","Pied à coulisse","0 / 150 mm",null,null,"Afficher",null,null,null,null,null,null,null,{"$f":"IF('Choix de l''instrument '!$C$3=\"Longueur\",AND('Choix de l''instrument '!$D$3>=Longueur!G31,G31<>\"\"),\"\")","v":""}]
["TR.014","Pied à coulisse","0 / 200 mm",null,null,"Afficher",null,null,null,null,null,null,null,{"$f":"IF('Choix de l''instrument '!$C$3=\"Longueur\",AND('Choix de l''instrument '!$D$3>=Longueur!G32,G32<>\"\"),\"\")","v":""}]
["TR.051","Pied à coulisse","0 / 1000 mm",null,null,"Afficher",null,null,null,null,null,null,null,{"$f":"IF('Choix de l''instrument '!$C$3=\"Longueur\",AND('Choix de l''instrument '!$D$3>=Longueur!G33,G33<>\"\"),\"\")","v":""}]
["TR.049","Pied à coulisse","0 / 200 mm",null,null,"Afficher",null,null,null,null,null,null,null,{"$f":"IF('Choix de l''instrument '!$C$3=\"Longueur\",AND('Choix de l''instrument '!$D$3>=Longueur!G34,G34<>\"\"),\"\")","v":""}]
["TR.052","Pied à coulisse","0 / 200 mm",null,null,"Afficher",null,null,null,null,null,null,null,{"$f":"IF('Choix de l''instrument '!$C$3=\"Longueur\",AND('Choix de l''instrument '!$D$3>=Longueur!G35,G35<>\"\"),\"\")","v":""}]
["TR.035","Pied à coulisse","0 / 200 mm",null,null,"Afficher",null,null,null,null,null,null,null,{"$f":"IF('Choix de l''instrument '!$C$3=\"Longueur\",AND('Choix de l''instrument '!$D$3>=Longueur!G36,G36<>\"\"),\"\")","v":""}]
["THE.014","Pied à coulisse","0 / 150 mm",null,null,"Afficher",null,null,null,null,null,null,null,{"$f":"IF('Choix de l''instrument '!$C$3=\"Longueur\",AND('Choix de l''instrument '!$D$3>=Longueur!G37,G37<>\"\"),\"\")","v":""}]
["THE.001","Pied à coulisse","0 / 150 mm",null,null,"Afficher",null,null,null,null,null,null,null,{"$f":"IF('Choix de l''instrument '!$C$3=\"Longueur\",AND('Choix de l''instrument '!$D$3>=Longueur!G38,G38<>\"\"),\"\")","v":""}]
["THE.122","Pied à coulisse","0 / 150 mm",null,null,"Afficher",null,null,null,null,null,null,null,{"$f":"IF('Choix de l''instrument '!$C$3=\"Longueur\",AND('Choix de l''instrument '!$D$3>=Longueur!G39,G39<>\"\"),\"\")","v":""}]
["THE.142","Pied à coulisse","0 / 200 mm",null,null,"Afficher",null,null,null,null,null,null,null,{"$f":"IF('Choix de l''instrument '!$C$3=\"Longueur\",AND('Choix de l''instrument '!$D$3>=Longueur!G40,G40<>\"\"),\"\")","v":""}]
["THE.141","Pied à coulisse","0 / 200 mm",null,null,"Afficher",null,null,null,null,null,null,null,{"$f":"IF('Choix de l''instrument '!$C$3=\"Longueur\",AND('Choix de l''instrument '!$D$3>=Longueur!G41,G41<>\"\"),\"\")","v":""}]
["THE.123","Pied à coulisse","0 / 200 mm",null,null,"Afficher",null,null,null,null,null,null,null,{"$f":"IF('Choix de l''instrument '!$C$3=\"Longueur\",AND('Choix de l''instrument '!$D$3>=Longueur!G42,G42<>\"\"),\"\")","v":""}]
["THE.055","Pied à coulisse","0 / 300 mm",null,null,"Afficher",null,null,null,null,null,null,null,{"$f":"IF('Choix de l''instrument '!$C$3=\"Longueur\",AND('Choix de l''instrument '!$D$3>=Longueur!G43,G43<>\"\"),\"\")","v":""}]
["THE.019","Pied à coulisse","0 / 500 mm",null,null,"Afficher",null,null,null,null,null,null,null,{"$f":"IF('Choix de l''instrument '!$C$3=\"Longueur\",AND('Choix de l''instrument '!$D$3>=Longueur!G44,G44<>\"\"),\"\")","v":""}]
["THE.023","Pied à coulisse","0 / 150 mm",null,null,"Afficher",null,null,null,null,null,null,null,{"$f":"IF('Choix de l''instrument '!$C$3=\"Longueur\",AND('Choix de l''instrument '!$D$3>=Longueur!G45,G45<>\"\"),\"\")","v":""}]
["THE.091","Pied à coulisse","0 / 150 mm",null,null,"Afficher",null,null,null,null,null,null,null,{"$f":"IF('Choix de l''instrument '!$C$3=\"Longueur\",AND('Choix de l''instrument '!$D$3>=Longueur!G46,G46<>\"\"),\"\")","v":""}]
["SQ.037","Pied à coulisse","0 / 150 mm",null,null,"Afficher",null,null,null,null,null,null,null,{"$f":"IF('Choix de l''instrument '!$C$3=\"Longueur\",AND('Choix de l''instrument '!$D$3>=Longueur!G47,G47<>\"\"),\"\")","v":""}]
["PAC-030","Pied à coulisse","0 / 150 mm",null,null,"Afficher",null,null,null,null,null,null,null,{"$f":"IF('Choix de l''instrument '!$C$3=\"Longueur\",AND('Choix de l''instrument '!$D$3>=Longueur!G48,G48<>\"\"),\"\")","v":""}]
["PAC-029","Pied à coulisse","0 / 150 mm",null,null,"Afficher",null,null,null,null,null,null,null,{"$f":"IF('Choix de l''instrument '!$C$3=\"Longueur\",AND('Choix de l''instrument '!$D$3>=Longueur!G49,G49<>\"\"),\"\")","v":""}]
["PAC-028","Pied à coulisse","0 / 200 mm",null,null,"Afficher",null,null,null,null,null,null,null,{"$f":"IF('Choix de l''instrument '!$C$3=\"Longueur\",AND('Choix de l''instrument '!$D$3>=Longueur!G50,G50<>\"\"),\"\")","v":""}]
["PAC-034","Pied à coulisse","0 / 150 mm",null,null,"Afficher",null,null,null,null,null,null,null,{"$f":"IF('Choix de l''instrument '!$C$3=\"Longueur\",AND('Choix de l''instrument '!$D$3>=Longueur!G51,G51<>\"\"),\"\")","v":""}]
["PAC-033","Pied à coulisse","0 / 200 mm",null,null,"Afficher",null,null,null,null,null,null,null,{"$f":"IF('Choix de l''instrument '!$C$3=\"Longueur\",AND('Choix de l''instrument '!$D$3>=Longueur!G52,G52<>\"\"),\"\")","v":""}]
["PAC-031","Pied à coulisse","0 / 150 mm",null,null,"Afficher",null,null,null,null,null,null,null,{"$f":"IF('Choix de l''instrument '!$C$3=\"Longueur\",AND('Choix de l''instrument '!$D$3>=Longueur!G53,G53<>\"\"),\"\")","v":""}]
["PAC-027","Pied à coulisse","0 / 200 mm",null,null,"Afficher",null,null,null,null,null,null,null,{"$f":"IF('Choix de l''instrument '!$C$3=\"Longueur\",AND('Choix de l''instrument '!$D$3>=Longueur!G54,G54<>\"\"),\"\")","v":""}]
["PAC-023","Pied à coulisse","0 / 600 mm",null,null,"Afficher",null,null,null,null,null,null,null,{"$f":"IF('Choix de l''instrument '!$C$3=\"Longueur\",AND('Choix de l''instrument '!$D$3>=Longueur!G55,G55<>\"\"),\"\")","v":""}]
["PAC-022","Pied à coulisse","0 / 200",null,null,"Afficher",null,null,null,null,null,null,null,{"$f":"IF('Choix de l''instrument '!$C$3=\"Longueur\",AND('Choix de l''instrument '!$D$3>=Longueur!G56,G56<>\"\"),\"\")","v":""}]
["PAC-021","Pied à coulisse","0 / 200 mm",null,null,"Afficher",null,null,null,null,null,null,null,{"$f":"IF('Choix de l''instrument '!$C$3=\"Longueur\",AND('Choix de l''instrument '!$D$3>=Longueur!G57,G57<>\"\"),\"\")","v":""}]
["PAC-026","Pied à coulisse","0 / 200 mm",null,null,"Afficher",null,null,null,null,null,null,null,{"$f":"IF('Choix de l''instrument '!$C$3=\"Longueur\",AND('Choix de l''instrument '!$D$3>=Longueur!G58,G58<>\"\"),\"\")","v":""}]
["PAC-025","Pied à coulisse","0 / 200 mm",null,null,"Afficher",null,null,null,null,null,null,null,{"$f":"IF('Choix de l''instrument '!$C$3=\"Longueur\",AND('Choix de l''instrument '!$D$3>=Longueur!G59,G59<>\"\"),\"\")","v":""}]
["PAC-024","Pied à coulisse","0 / 200 mm",null,null,"Afficher",null,null,null,null,null,null,null,{"$f":"IF('Choix de l''instrument '!$C$3=\"Longueur\",AND('Choix de l''instrument '!$D$3>=Longueur!G60,G60<>\"\"),\"\")","v":""}]
["PAC-035","Pied à coulisse","0 / 200 mm",null,null,"Afficher",null,null,null,null,null,null,null,{"$f":"IF('Choix de l''instrument '!$C$3=\"Longueur\",AND('Choix de l''instrument '!$D$3>=Longueur!G61,G61<>\"\"),\"\")","v":""}]
["PAC-119","Pied à coulisse","0 / 200 mm",null,null,"Afficher",null,null,null,null,null,null,null,{"$f":"IF('Choix de l''instrument '!$C$3=\"Longueur\",AND('Choix de l''instrument '!$D$3>=Longueur!G62,G62<>\"\"),\"\")","v":""}]
["PAC-118","Pied à coulisse","0 / 200 mm",null,null,"Afficher",null,null,null,null,null,null,null,{"$f":"IF('Choix de l''instrument '!$C$3=\"Longueur\",AND('Choix de l''instrument '!$D$3>=Longueur!G63,G63<>\"\"),\"\")","v":""}]
["PAC-110","Pied à coulisse","0 / 200 mm",null,null,"Afficher",null,null,null,null,null,null,null,{"$f":"IF('Choix de l''instrument '!$C$3=\"Longueur\",AND('Choix de l''instrument '!$D$3>=Longueur!G64,G64<>\"\"),\"\")","v":""}]
["PAC-236","Pied à coulisse","0 / 200 mm",null,null,"Afficher",null,null,null,null,null,null,null,{"$f":"IF('Choix de l''instrument '!$C$3=\"Longueur\",AND('Choix de l''instrument '!$D$3>=Longueur!G65,G65<>\"\"),\"\")","v":""}]
["PAC-208","Pied à coulisse","0 / 1000 mm",null,null,"Afficher",null,null,null,null,null,null,null,{"$f":"IF('Choix de l''instrument '!$C$3=\"Longueur\",AND('Choix de l''instrument '!$D$3>=Longueur!G66,G66<>\"\"),\"\")","v":""}]
["PAC-207","Pied à coulisse","0 / 600 mm",null,null,"Afficher",null,null,null,null,null,null,null,{"$f":"IF('Choix de l''instrument '!$C$3=\"Longueur\",AND('Choix de l''instrument '!$D$3>=Longueur!G67,G67<>\"\"),\"\")","v":""}]
["PAC-107","Pied à coulisse","0 / 300 mm",null,null,"Afficher",null,null,null,null,null,null,null,{"$f":"IF('Choix de l''instrument '!$C$3=\"Longueur\",AND('Choix de l''instrument '!$D$3>=Longueur!G68,G68<>\"\"),\"\")","v":""}]
["PAC-038","Pied à coulisse","0 / 200 mm",null,null,"Afficher",null,null,null,null,null,null,null,{"$f":"IF('Choix de l''instrument '!$C$3=\"Longueur\",AND('Choix de l''instrument '!$D$3>=Longueur!G69,G69<>\"\"),\"\")","v":""}]
["PAC-037","Pied à coulisse","0 / 200 mm",null,null,"Afficher",null,null,null,null,null,null,null,{"$f":"IF('Choix de l''instrument '!$C$3=\"Longueur\",AND('Choix de l''instrument '!$D$3>=Longueur!G70,G70<>\"\"),\"\")","v":""}]
["PAC-036","Pied à coulisse","0 / 200 mm",null,null,"Afficher",null,null,null,null,null,null,null,{"$f":"IF('Choix de l''instrument '!$C$3=\"Longueur\",AND('Choix de l''instrument '!$D$3>=Longueur!G71,G71<>\"\"),\"\")","v":""}]
["PAC-041","Pied à coulisse","0 / 200 mm",null,null,"Afficher",null,null,null,null,null,null,null,{"$f":"IF('Choix de l''instrument '!$C$3=\"Longueur\",AND('Choix de l''instrument '!$D$3>=Longueur!G72,G72<>\"\"),\"\")","v":""}]
["PAC-040","Pied à coulisse","0 / 200 mm",null,null,"Afficher",null,null,null,null,null,null,null,{"$f":"IF('Choix de l''instrument '!$C$3=\"Longueur\",AND('Choix de l''instrument '!$D$3>=Longueur!G73,G73<>\"\"),\"\")","v":""}]
["PAC-039","Pied à coulisse","0 / 200 mm",null,null,"Afficher",null,null,null,null,null,null,null,{"$f":"IF('Choix de l''instrument '!$C$3=\"Longueur\",AND('Choix de l''instrument '!$D$3>=Longueur!G74,G74<>\"\"),\"\")","v":""}]
["PAC-003","Pied à coulisse","0 / 200 mm",null,null,"Afficher",null,null,null,null,null,null,null,{"$f":"IF('Choix de l''instrument '!$C$3=\"Longueur\",AND('Choix de l''instrument '!$D$3>=Longueur!G75,G75<>\"\"),\"\")","v":""}]
["PAC-002","Pied à coulisse","0 / 200 mm",null,null,"Afficher",null,null,null,null,null,null,null,{"$f":"IF('Choix de l''instrument '!$C$3=\"Longueur\",AND('Choix de l''instrument '!$D$3>=Longueur!G76,G76<>\"\"),\"\")","v":""}]
["PAC-001","Pied à coulisse","0 / 200 mm",null,null,"Afficher",null,null,null,null,null,null,null,{"$f":"IF('Choix de l''instrument '!$C$3=\"Longueur\",AND('Choix de l''instrument '!$D$3>=Longueur!G77,G77<>\"\"),\"\")","v":""}]
["PAC-006","Pied à coulisse","0 / 200 mm",null,null,"Afficher",null,null,null,null,null,null,null,{"$f":"IF('Choix de l''instrument '!$C$3=\"Longueur\",AND('Choix de l''instrument '!$D$3>=Longueur!G78,G78<>\"\"),\"\")","v":""}]
["PAC-005","Pied à coulisse","0 / 200 mm",null,null,"Afficher",null,null,null,null,null,null,null,{"$f":"IF('Choix de l''instrument '!$C$3=\"Longueur\",AND('Choix de l''instrument '!$D$3>=Longueur!G79,G79<>\"\"),\"\")","v":""}]
["PAC-004","Pied à coulisse","0 / 200 mm",null,null,"Afficher",null,null,null,null,null,null,null,{"$f":"IF('Choix de l''instrument '!$C$3=\"Longueur\",AND('Choix de l''instrument '!$D$3>=Longueur!G80,G80<>\"\"),\"\")","v":""}]
["PA.024","Pied à coulisse","0 / 200 mm",null,null,"Afficher",null,null,null,null,null,null,null,{"$f":"IF('Choix de l''instrument '!$C$3=\"Longueur\",AND('Choix de l''instrument '!$D$3>=Longueur!G81,G81<>\"\"),\"\")","v":""}]
["PAC-007","Pied à coulisse","0 / 200 mm",null,null,"Afficher",null,null,null,null,null,null,null,{"$f":"IF('Choix de l''instrument '!$C$3=\"Longueur\",AND('Choix de l''instrument '!$D$3>=Longueur!G82,G82<>\"\"),\"\")","v":""}]
["PAC-017","Pied à coulisse","0 / 200 mm",null,null,"Afficher",null,null,null,null,null,null,null,{"$f":"IF('Choix de l''instrument '!$C$3=\"Longueur\",AND('Choix de l''instrument '!$D$3>=Longueur!G83,G83<>\"\"),\"\")","v":""}]
["PAC-016","Pied à coulisse","0 / 200 mm",null,null,"Afficher",null,null,null,null,null,null,null,{"$f":"IF('Choix de l''instrument '!$C$3=\"Longueur\",AND('Choix de l''instrument '!$D$3>=Longueur!G84,G84<>\"\"),\"\")","v":""}]
["PAC-015","Pied à coulisse","0 / 300 mm",null,null,"Afficher",null,null,null,null,null,null,null,{"$f":"IF('Choix de l''instrument '!$C$3=\"Longueur\",AND('Choix de l''instrument '!$D$3>=Longueur!G85,G85<>\"\"),\"\")","v":""}]
["PAC-020","Pied à coulisse","0 / 200 mm",null,null,"Afficher",null,null,null,null,null,null,null,{"$f":"IF('Choix de l''instrument '!$C$3=\"Longueur\",AND('Choix de l''instrument '!$D$3>=Longueur!G86,G86<>\"\"),\"\")","v":""}]
["PAC-019","Pied à coulisse","0 / 200 mm",null,null,"Afficher",null,null,null,null,null,null,null,{"$f":"IF('Choix de l''instrument '!$C$3=\"Longueur\",AND('Choix de l''instrument '!$D$3>=Longueur!G87,G87<>\"\"),\"\")","v":""}]
["PAC-018","Pied à coulisse","0 / 200 mm",null,null,"Afficher",null,null,null,null,null,null,null,{"$f":"IF('Choix de l''instrument '!$C$3=\"Longueur\",AND('Choix de l''instrument '!$D$3>=Longueur!G88,G88<>\"\"),\"\")","v":""}]
["PAC-014","Pied à coulisse","0 / 200 mm",null,null,"Afficher",null,null,null,null,null,null,null,{"$f":"IF('Choix de l''instrument '!$C$3=\"Longueur\",AND('Choix de l''instrument '!$D$3>=Longueur!G89,G89<>\"\"),\"\")","v":""}]
["PAC-010","Pied à coulisse",null,null,null,"Afficher",null,null,null,null,null,null,null,{"$f":"IF('Choix de l''instrument '!$C$3=\"Longueur\",AND('Choix de l''instrument '!$D$3>=Longueur!G90,G90<>\"\"),\"\")","v":""}]
["PAC-009","Pied à coulisse","0 / 300 mm",null,null,"Afficher",null,null,null,null,null,null,null,{"$f":"IF('Choix de l''instrument '!$C$3=\"Longueur\",AND('Choix de l''instrument '!$D$3>=Longueur!G91,G91<>\"\"),\"\")","v":""}]
["PAC-008","Pied à coulisse","0 / 200 mm",null,null,"Afficher",null,null,null,null,null,null,null,{"$f":"IF('Choix de l''instrument '!$C$3=\"Longueur\",AND('Choix de l''instrument '!$D$3>=Longueur!G92,G92<>\"\"),\"\")","v":""}]
["PAC-013","Pied à coulisse","0 / 200 mm",null,null,"Afficher",null,null,null,null,null,null,null,{"$f":"IF('Choix de l''instrument '!$C$3=\"Longueur\",AND('Choix de l''instrument '!$D$3>=Longueur!G93,G93<>\"\"),\"\")","v":""}]
["PAC-012","Pied à coulisse","0 / 1000 mm",null,null,"Afficher",null,null,null,null,null,null,null,{"$f":"IF('Choix de l''instrument '!$C$3=\"Longueur\",AND('Choix de l''instrument '!$D$3>=Longueur!G94,G94<>\"\"),\"\")","v":""}]
["PAC-011","Pied à coulisse","0 / 200 mm",null,null,"Afficher",null,null,null,null,null,null,null,{"$f":"IF('Choix de l''instrument '!$C$3=\"Longueur\",AND('Choix de l''instrument '!$D$3>=Longueur!G95,G95<>\"\"),\"\")","v":""}]
["PAC-237","Pied à coulisse","0 / 1000 mm",null,null,"Afficher",null,null,null,null,null,null,null,{"$f":"IF('Choix de l''instrument '!$C$3=\"Longueur\",AND('Choix de l''instrument '!$D$3>=Longueur!G96,G96<>\"\"),\"\")","v":""}]
["PCC.016","Pied à coulisse","0 / 200 mm",null,null,"Afficher",null,null,null,null,null,null,null,{"$f":"IF('Choix de l''instrument '!$C$3=\"Longueur\",AND('Choix de l''instrument '!$D$3>=Longueur!G97,G97<>\"\"),\"\")","v":""}]
["TC.087","Pied à coulisse","0 / 200 mm",null,null,"Afficher",null,null,null,null,null,null,null,{"$f":"IF('Choix de l''instrument '!$C$3=\"Longueur\",AND('Choix de l''instrument '!$D$3>=Longueur!G98,G98<>\"\"),\"\")","v":""}]
["TC.100","Pied à coulisse","0 / 150 mm",null,null,"Afficher",null,null,null,null,null,null,null,{"$f":"IF('Choix de l''instrument '!$C$3=\"Longueur\",AND('Choix de l''instrument '!$D$3>=Longueur!G99,G99<>\"\"),\"\")","v":""}]
["TC.099","Pied à coulisse","0 / 150 mm",null,null,"Afficher",null,null,null,null,null,null,null,{"$f":"IF('Choix de l''instrument '!$C$3=\"Longueur\",AND('Choix de l''instrument '!$D$3>=Longueur!G100,G100<>\"\"),\"\")","v":""}]
["TC.098","Pied à coulisse","0 / 150 mm",null,null,"Afficher",null,null,null,null,null,null,null,{"$f":"IF('Choix de l''instrument '!$C$3=\"Longueur\",AND('Choix de l''instrument '!$D$3>=Longueur!G101,G101<>\"\"),\"\")","v":""}]
["TC.090","Pied à coulisse","0 / 150 mm",null,null,"Afficher",null,null,null,null,null,null,null,{"$f":"IF('Choix de l''instrument '!$C$3=\"Longueur\",AND('Choix de l''instrument '!$D$3>=Longueur!G102,G102<>\"\"),\"\")","v":""}]
["CAT.075","Pied à coulisse","0 / 500 mm",null,null,"Afficher",null,null,null,null,null,null,null,{"$f":"IF('Choix de l''instrument '!$C$3=\"Longueur\",AND('Choix de l''instrument '!$D$3>=Longueur!G103,G103<>\"\"),\"\")","v":""}]
["CAT.080","Pied à coulisse","0 / 200 mm",null,null,"Afficher",null,null,null,null,null,null,null,{"$f":"IF('Choix de l''instrument '!$C$3=\"Longueur\",AND('Choix de l''instrument '!$D$3>=Longueur!G104,G104<>\"\"),\"\")","v":""}]
["CAT.079","Pied à coulisse","0 / 200 mm",null,null,"Afficher",null,null,null,null,null,null,null,{"$f":"IF('Choix de l''instrument '!$C$3=\"Longueur\",AND('Choix de l''instrument '!$D$3>=Longueur!G105,G105<>\"\"),\"\")","v":""}]
["CAT.078","Pied à coulisse","0 / 200 mm",null,null,"Afficher",null,null,null,null,null,null,null,{"$f":"IF('Choix de l''instrument '!$C$3=\"Longueur\",AND('Choix de l''instrument '!$D$3>=Longueur!G106,G106<>\"\"),\"\")","v":""}]
["CAT.118","Pied à coulisse","0 / 200 mm",null,null,"Afficher",null,null,null,null,null,null,null,{"$f":"IF('Choix de l''instrument '!$C$3=\"Longueur\",AND('Choix de l''instrument '!$D$3>=Longueur!G107,G107<>\"\"),\"\")","v":""}]
["CAT.117","Pied à coulisse","0 / 200 mm",null,null,"Afficher",null,null,null,null,null,null,null,{"$f":"IF('Choix de l''instrument '!$C$3=\"Longueur\",AND('Choix de l''instrument '!$D$3>=Longueur!G108,G108<>\"\"),\"\")","v":""}]
["CAT.015","Pied à coulisse",null,null,null,"Afficher",null,null,null,null,null,null,null,{"$f":"IF('Choix de l''instrument '!$C$3=\"Longueur\",AND('Choix de l''instrument '!$D$3>=Longueur!G109,G109<>\"\"),\"\")","v":""}]
["CAT.040","Pied à coulisse","0 / 300 mm",null,null,"Afficher",null,null,null,null,null,null,null,{"$f":"IF('Choix de l''instrument '!$C$3=\"Longueur\",AND('Choix de l''instrument '!$D$3>=Longueur!G110,G110<>\"\"),\"\")","v":""}]
["CAT.035","Pied à coulisse","0 / 150 mm",null,null,"Afficher",null,null,null,null,null,null,null,{"$f":"IF('Choix de l''instrument '!$C$3=\"Longueur\",AND('Choix de l''instrument '!$D$3>=Longueur!G111,G111<>\"\"),\"\")","v":""}]
["CF.087","Pied à coulisse","0 / 200 mm",null,null,"Afficher",null,null,null,null,null,null,null,{"$f":"IF('Choix de l''instrument '!$C$3=\"Longueur\",AND('Choix de l''instrument '!$D$3>=Longueur!G112,G112<>\"\"),\"\")","v":""}]
["CF.083","Pied à coulisse","0 / 200 mm",null,null,"Afficher",null,null,null,null,null,null,null,{"$f":"IF('Choix de l''instrument '!$C$3=\"Longueur\",AND('Choix de l''instrument '!$D$3>=Longueur!G113,G113<>\"\"),\"\")","v":""}]
["CF.054","Pied à coulisse","0 / 150 mm",null,null,"Afficher",null,null,null,null,null,null,null,{"$f":"IF('Choix de l''instrument '!$C$3=\"Longueur\",AND('Choix de l''instrument '!$D$3>=Longueur!G114,G114<>\"\"),\"\")","v":""}]
["CF.061","Pied à coulisse","0 / 500 mm",null,null,"Afficher",null,null,null,null,null,null,null,{"$f":"IF('Choix de l''instrument '!$C$3=\"Longueur\",AND('Choix de l''instrument '!$D$3>=Longueur!G115,G115<>\"\"),\"\")","v":""}]
["CF.040","Pied à coulisse","0 / 1000 mm",null,null,"Afficher",null,null,null,null,null,null,null,{"$f":"IF('Choix de l''instrument '!$C$3=\"Longueur\",AND('Choix de l''instrument '!$D$3>=Longueur!G116,G116<>\"\"),\"\")","v":""}]
["CF.048","Pied à coulisse","0 / 500 mm",null,null,"Afficher",null,null,null,null,null,null,null,{"$f":"IF('Choix de l''instrument '!$C$3=\"Longueur\",AND('Choix de l''instrument '!$D$3>=Longueur!G117,G117<>\"\"),\"\")","v":""}]
["CE.259","Pied à coulisse","0 / 300 mm",null,null,"Afficher",null,null,null,null,null,null,null,{"$f":"IF('Choix de l''instrument '!$C$3=\"Longueur\",AND('Choix de l''instrument '!$D$3>=Longueur!G118,G118<>\"\"),\"\")","v":""}]
["CAT.146","Pied à coulisse","0 / 200 mm",null,null,"Afficher",null,null,null,null,null,null,null,{"$f":"IF('Choix de l''instrument '!$C$3=\"Longueur\",AND('Choix de l''instrument '!$D$3>=Longueur!G119,G119<>\"\"),\"\")","v":""}]
["CAT.149","Pied à coulisse","0 / 200 mm",null,null,"Afficher",null,null,null,null,null,null,null,{"$f":"IF('Choix de l''instrument '!$C$3=\"Longueur\",AND('Choix de l''instrument '!$D$3>=Longueur!G120,G120<>\"\"),\"\")","v":""}]
["CAT.148","Pied à coulisse","0 / 200 mm",null,null,"Afficher",null,null,null,null,null,null,null,{"$f":"IF('Choix de l''instrument '!$C$3=\"Longueur\",AND('Choix de l''instrument '!$D$3>=Longueur!G121,G121<>\"\"),\"\")","v":""}]
["CAT.138","Pied à coulisse","0 / 200 mm",null,null,"Afficher",null,null,null,null,null,null,null,{"$f":"IF('Choix de l''instrument '!$C$3=\"Longueur\",AND('Choix de l''instrument '!$D$3>=Longueur!G122,G122<>\"\"),\"\")","v":""}]
["CAT.166","Pied à coulisse","0 / 200 mm",null,null,"Afficher",null,null,null,null,null,null,null,{"$f":"IF('Choix de l''instrument '!$C$3=\"Longueur\",AND('Choix de l''instrument '!$D$3>=Longueur!G123,G123<>\"\"),\"\")","v":""}]
["CE.251","Pied à coulisse","0 / 500 mm",null,null,"Afficher",null,null,null,null,null,null,null,{"$f":"IF('Choix de l''instrument '!$C$3=\"Longueur\",AND('Choix de l''instrument '!$D$3>=Longueur!G124,G124<>\"\"),\"\")","v":""}]
["CE.255","Pied à coulisse",null,null,null,"Afficher",null,null,null,null,null,null,null,{"$f":"IF('Choix de l''instrument '!$C$3=\"Longueur\",AND('Choix de l''instrument '!$D$3>=Longueur!G125,G125<>\"\"),\"\")","v":""}]
["CE.237","Pied à coulisse","0 / 500 mm",null,null,"Afficher",null,null,null,null,null,null,null,{"$f":"IF('Choix de l''instrument '!$C$3=\"Longueur\",AND('Choix de l''instrument '!$D$3>=Longueur!G126,G126<>\"\"),\"\")","v":""}]
["CE.243","Pied à coulisse","0 / 300 mm",null,null,"Afficher",null,null,null,null,null,null,null,{"$f":"IF('Choix de l''instrument '!$C$3=\"Longueur\",AND('Choix de l''instrument '!$D$3>=Longueur!G127,G127<>\"\"),\"\")","v":""}]
["CE.051","Pied à coulisse","0 / 150 mm",null,null,"Afficher",null,null,null,null,null,null,null,{"$f":"IF('Choix de l''instrument '!$C$3=\"Longueur\",AND('Choix de l''instrument '!$D$3>=Longueur!G128,G128<>\"\"),\"\")","v":""}]
["ED.186","Pied à coulisse","0 / 150 mm",null,null,"Afficher",null,null,null,null,null,null,null,{"$f":"IF('Choix de l''instrument '!$C$3=\"Longueur\",AND('Choix de l''instrument '!$D$3>=Longueur!G129,G129<>\"\"),\"\")","v":""}]
["DIM-0132","Pied à coulisse","0 / 150 mm",null,null,"Afficher",null,null,null,null,null,null,null,{"$f":"IF('Choix de l''instrument '!$C$3=\"Longueur\",AND('Choix de l''instrument '!$D$3>=Longueur!G130,G130<>\"\"),\"\")","v":""}]
["DIM-0148","Pied à coulisse","0 / 1000 mm",null,null,"Afficher",null,null,null,null,null,null,null,{"$f":"IF('Choix de l''instrument '!$C$3=\"Longueur\",AND('Choix de l''instrument '!$D$3>=Longueur!G131,G131<>\"\"),\"\")","v":""}]
["EC.128","Pied à coulisse","0 / 150 mm",null,null,"Afficher",null,null,null,null,null,null,null,{"$f":"IF('Choix de l''instrument '!$C$3=\"Longueur\",AND('Choix de l''instrument '!$D$3>=Longueur!G132,G132<>\"\"),\"\")","v":""}]
["ED.068","Pied à coulisse","0 / 150 mm",null,null,"Afficher",null,null,null,null,null,null,null,{"$f":"IF('Choix de l''instrument '!$C$3=\"Longueur\",AND('Choix de l''instrument '!$D$3>=Longueur!G133,G133<>\"\"),\"\")","v":""}]
["EN.134","Pied à coulisse","0 / 300 mm",null,null,"Afficher",null,null,null,null,null,null,null,{"$f":"IF('Choix de l''instrument '!$C$3=\"Longueur\",AND('Choix de l''instrument '!$D$3>=Longueur!G134,G134<>\"\"),\"\")","v":""}]
["EN.130","Pied à coulisse","0 / 1000 mm",null,null,"Afficher",null,null,null,null,null,null,null,{"$f":"IF('Choix de l''instrument '!$C$3=\"Longueur\",AND('Choix de l''instrument '!$D$3>=Longueur!G135,G135<>\"\"),\"\")","v":""}]
["CF.481","Pied à coulisse","0 / 600 mm",null,null,"Afficher",null,null,null,null,null,null,null,{"$f":"IF('Choix de l''instrument '!$C$3=\"Longueur\",AND('Choix de l''instrument '!$D$3>=Longueur!G136,G136<>\"\"),\"\")","v":""}]
["CF.478","Pied à coulisse","0 / 600 mm",null,null,"Afficher",null,null,null,null,null,null,null,{"$f":"IF('Choix de l''instrument '!$C$3=\"Longueur\",AND('Choix de l''instrument '!$D$3>=Longueur!G137,G137<>\"\"),\"\")","v":""}]
["CF.215","Pied à coulisse","0 / 150 mm",null,null,"Afficher",null,null,null,null,null,null,null,{"$f":"IF('Choix de l''instrument '!$C$3=\"Longueur\",AND('Choix de l''instrument '!$D$3>=Longueur!G138,G138<>\"\"),\"\")","v":""}]
["DIM-0050","Pied à coulisse","0 / 200",null,null,"Afficher",null,null,null,null,null,null,null,{"$f":"IF('Choix de l''instrument '!$C$3=\"Longueur\",AND('Choix de l''instrument '!$D$3>=Longueur!G139,G139<>\"\"),\"\")","v":""}]
["DIM-0048","Pied à coulisse","0 / 600 mm",null,null,"Afficher",null,null,null,null,null,null,null,{"$f":"IF('Choix de l''instrument '!$C$3=\"Longueur\",AND('Choix de l''instrument '!$D$3>=Longueur!G140,G140<>\"\"),\"\")","v":""}]
["DIM-0068","Pied à coulisse","0 / 200 mm",null,null,"Afficher",null,null,null,null,null,null,null,{"$f":"IF('Choix de l''instrument '!$C$3=\"Longueur\",AND('Choix de l''instrument '!$D$3>=Longueur!G141,G141<>\"\"),\"\")","v":""}]
["DIM-0067","Pied à coulisse","0 / 200 mm",null,null,"Afficher",null,null,null,null,null,null,null,{"$f":"IF('Choix de l''instrument '!$C$3=\"Longueur\",AND('Choix de l''instrument '!$D$3>=Longueur!G142,G142<>\"\"),\"\")","v":""}]
["DIM-0066","Pied à coulisse","0 / 200 mm",null,null,"Afficher",null,null,null,null,null,null,null,{"$f":"IF('Choix de l''instrument '!$C$3=\"Longueur\",AND('Choix de l''instrument '!$D$3>=Longueur!G143,G143<>\"\"),\"\")","v":""}]
["DIM-0021","Pied à coulisse","0 / 150 mm",null,null,"Afficher",null,null,null,null,null,null,null,{"$f":"IF('Choix de l''instrument '!$C$3=\"Longueur\",AND('Choix de l''instrument '!$D$3>=Longueur!G144,G144<>\"\"),\"\")","v":""}]
["DIM-0015","Pied à coulisse","0 / 200 mm",null,null,"Afficher",null,null,null,null,null,null,null,{"$f":"IF('Choix de l''instrument '!$C$3=\"Longueur\",AND('Choix de l''instrument '!$D$3>=Longueur!G145,G145<>\"\"),\"\")","v":""}]
["DIM-0105","Pied à coulisse","0 / 500 mm",null,null,"Afficher",null,null,null,null,null,null,null,{"$f":"IF('Choix de l''instrument '!$C$3=\"Longueur\",AND('Choix de l''instrument '!$D$3>=Longueur!G146,G146<>\"\"),\"\")","v":""}]
["DIM-0118","Pied à coulisse","0 / 150 mm",null,null,"Afficher",null,null,null,null,null,null,null,{"$f":"IF('Choix de l''instrument '!$C$3=\"Longueur\",AND('Choix de l''instrument '!$D$3>=Longueur!G147,G147<>\"\"),\"\")","v":""}]
["DIM-0114","Pied à coulisse","0 / 150 mm",null,null,"Afficher",null,null,null,null,null,null,null,{"$f":"IF('Choix de l''instrument '!$C$3=\"Longueur\",AND('Choix de l''instrument '!$D$3>=Longueur!G148,G148<>\"\"),\"\")","v":""}]
["DIM-0113","Pied à coulisse","0 / 150 mm",null,null,"Afficher",null,null,null,null,null,null,null,{"$f":"IF('Choix de l''instrument '!$C$3=\"Longueur\",AND('Choix de l''instrument '!$D$3>=Longueur!G149,G149<>\"\"),\"\")","v":""}]
["DIM-0112","Pied à coulisse","0 / 150 mm",null,null,"Afficher",null,null,null,null,null,null,null,{"$f":"IF('Choix de l''instrument '!$C$3=\"Longueur\",AND('Choix de l''instrument '!$D$3>=Longueur!G150,G150<>\"\"),\"\")","v":""}]
["DIM-0117","Pied à coulisse","0 / 150 mm",null,null,"Afficher",null,null,null,null,null,null,null,{"$f":"IF('Choix de l''instrument '!$C$3=\"Longueur\",AND('Choix de l''instrument '!$D$3>=Longueur!G151,G151<>\"\"),\"\")","v":""}]
["DIM-0116","Pied à coulisse","0 / 150 mm",null,null,"Afficher",null,null,null,null,null,null,null,{"$f":"IF('Choix de l''instrument '!$C$3=\"Longueur\",AND('Choix de l''instrument '!$D$3>=Longueur!G152,G152<>\"\"),\"\")","v":""}]
["DIM-0115","Pied à coulisse","0 / 150 mm",null,null,"Afficher",null,null,null,null,null,null,null,{"$f":"IF('Choix de l''instrument '!$C$3=\"Longueur\",AND('Choix de l''instrument '!$D$3>=Longueur!G153,G153<>\"\"),\"\")","v":""}]
["DIM-0079","Pied à coulisse","0 / 200 mm",null,null,"Afficher",null,null,null,null,null,null,null,{"$f":"IF('Choix de l''instrument '!$C$3=\"Longueur\",AND('Choix de l''instrument '!$D$3>=Longueur!G154,G154<>\"\"),\"\")","v":""}]
["DIM-0078","Pied à coulisse","0 / 200 mm",null,null,"Afficher",null,null,null,null,null,null,null,{"$f":"IF('Choix de l''instrument '!$C$3=\"Longueur\",AND('Choix de l''instrument '!$D$3>=Longueur!G155,G155<>\"\"),\"\")","v":""}]
["DIM-0082","Pied à coulisse","0 / 200 mm",null,null,"Afficher",null,null,null,null,null,null,null,{"$f":"IF('Choix de l''instrument '!$C$3=\"Longueur\",AND('Choix de l''instrument '!$D$3>=Longueur!G156,G156<>\"\"),\"\")","v":""}]
["DIM-0081","Pied à coulisse","0 / 200 mm",null,null,"Afficher",null,null,null,null,null,null,null,{"$f":"IF('Choix de l''instrument '!$C$3=\"Longueur\",AND('Choix de l''instrument '!$D$3>=Longueur!G157,G157<>\"\"),\"\")","v":""}]
["DIM-0080","Pied à coulisse","0 / 200 mm",null,null,"Afficher",null,null,null,null,null,null,null,{"$f":"IF('Choix de l''instrument '!$C$3=\"Longueur\",AND('Choix de l''instrument '!$D$3>=Longueur!G158,G158<>\"\"),\"\")","v":""}]
["DIM-0083","Pied à coulisse","0 / 200 mm",null,null,"Afficher",null,null,null,null,null,null,null,{"$f":"IF('Choix de l''instrument '!$C$3=\"Longueur\",AND('Choix de l''instrument '!$D$3>=Longueur!G159,G159<>\"\"),\"\")","v":""}]
["CP.021","Pied à coulisse","0 / 150 mm",null,null,"Afficher",null,null,null,null,null,null,null,{"$f":"IF('Choix de l''instrument '!$C$3=\"Longueur\",AND('Choix de l''instrument '!$D$3>=Longueur!G160,G160<>\"\"),\"\")","v":""}]
["CP.070","Pied à coulisse","0 / 150 mm",null,null,"Afficher",null,null,null,null,null,null,null,{"$f":"IF('Choix de l''instrument '!$C$3=\"Longueur\",AND('Choix de l''instrument '!$D$3>=Longueur!G161,G161<>\"\"),\"\")","v":""}]
["CP.069","Pied à coulisse","0 / 150 mm",null,null,"Afficher",null,null,null,null,null,null,null,{"$f":"IF('Choix de l''instrument '!$C$3=\"Longueur\",AND('Choix de l''instrument '!$D$3>=Longueur!G162,G162<>\"\"),\"\")","v":""}]
["CP.068","Pied à coulisse","0 / 150 mm",null,null,"Afficher",null,null,null,null,null,null,null,{"$f":"IF('Choix de l''instrument '!$C$3=\"Longueur\",AND('Choix de l''instrument '!$D$3>=Longueur!G163,G163<>\"\"),\"\")","v":""}]
["OPT-0020","Projecteur de profils",null,null,null,"Afficher",null,null,null,null,null,null,null,{"$f":"IF('Choix de l''instrument '!$C$3=\"Longueur\",AND('Choix de l''instrument '!$D$3>=Longueur!G164,G164<>\"\"),\"\")","v":""}]
["OPT-0037","Projecteur de profils",null,null,null,"Afficher",null,null,null,null,null,null,null,{"$f":"IF('Choix de l''instrument '!$C$3=\"Longueur\",AND('Choix de l''instrument '!$D$3>=Longueur!G165,G165<>\"\"),\"\")","v":""}]
["OPT-0001","Projecteur de profils",null,null,null,"Afficher",null,null,null,null,null,null,null,{"$f":"IF('Choix de l''instrument '!$C$3=\"Longueur\",AND('Choix de l''instrument '!$D$3>=Longueur!G166,G166<>\"\"),\"\")","v":""}]
["OPT-0006","Projecteur de profils",null,null,null,"Afficher",null,null,null,null,null,null,null,{"$f":"IF('Choix de l''instrument '!$C$3=\"Longueur\",AND('Choix de l''instrument '!$D$3>=Longueur!G167,G167<>\"\"),\"\")","v":""}]
["OPT-0018","Projecteur de profils",null,null,null,"Afficher",null,null,null,null,null,null,null,{"$f":"IF('Choix de l''instrument '!$C$3=\"Longueur\",AND('Choix de l''instrument '!$D$3>=Longueur!G168,G168<>\"\"),\"\")","v":""}]
["OPT-0017","Projecteur de profils",null,null,null,"Afficher",null,null,null,null,null,null,null,{"$f":"IF('Choix de l''instrument '!$C$3=\"Longueur\",AND('Choix de l''instrument '!$D$3>=Longueur!G169,G169<>\"\"),\"\")","v":""}]
["CF.449","Projecteur de profils",null,null,null,"Afficher",null,null,null,null,null,null,null,{"$f":"IF('Choix de l''instrument '!$C$3=\"Longueur\",AND('Choix de l''instrument '!$D$3>=Longueur!G170,G170<>\"\"),\"\")","v":""}]
["CF.460","Projecteur de profils",null,null,null,"Afficher",null,null,null,null,null,null,null,{"$f":"IF('Choix de l''instrument '!$C$3=\"Longueur\",AND('Choix de l''instrument '!$D$3>=Longueur!G171,G171<>\"\"),\"\")","v":""}]
["M.233","Micromètre d'extérieur à vis","0 / 25 mm",null,null,"Afficher",null,null,null,null,null,null,null,{"$f":"IF('Choix de l''instrument '!$C$3=\"Longueur\",AND('Choix de l''instrument '!$D$3>=Longueur!G172,G172<>\"\"),\"\")","v":""}]
["M.282","Micromètre d'extérieur à vis","0 / 25 mm",null,null,"Afficher",null,null,null,null,null,null,null,{"$f":"IF('Choix de l''instrument '!$C$3=\"Longueur\",AND('Choix de l''instrument '!$D$3>=Longueur!G173,G173<>\"\"),\"\")","v":""}]
["M.259","Micromètre d'extérieur à vis","75 / 100 mm",null,null,"Afficher",null,null,null,null,null,null,null,{"$f":"IF('Choix de l''instrument '!$C$3=\"Longueur\",AND('Choix de l''instrument '!$D$3>=Longueur!G174,G174<>\"\"),\"\")","v":""}]
["M.084","Micromètre d'extérieur à vis","50 / 75 mm",null,null,"Afficher",null,null,null,null,null,null,null,{"$f":"IF('Choix de l''instrument '!$C$3=\"Longueur\",AND('Choix de l''instrument '!$D$3>=Longueur!G175,G175<>\"\"),\"\")","v":""}]
["M.083","Micromètre d'extérieur à vis","25 / 50 mm",null,null,"Afficher",null,null,null,null,null,null,null,{"$f":"IF('Choix de l''instrument '!$C$3=\"Longueur\",AND('Choix de l''instrument '!$D$3>=Longueur!G176,G176<>\"\"),\"\")","v":""}]
["M.082","Micromètre d'extérieur à vis","0 / 25 mm",null,null,"Afficher",null,null,null,null,null,null,null,{"$f":"IF('Choix de l''instrument '!$C$3=\"Longueur\",AND('Choix de l''instrument '!$D$3>=Longueur!G177,G177<>\"\"),\"\")","v":""}]
["M.089","Micromètre d'extérieur à vis","0 / 25 mm",null,null,"Afficher",null,null,null,null,null,null,null,{"$f":"IF('Choix de l''instrument '!$C$3=\"Longueur\",AND('Choix de l''instrument '!$D$3>=Longueur!G178,G178<>\"\"),\"\")","v":""}]
["M.087","Micromètre d'extérieur à vis","0 / 25 mm",null,null,"Afficher",null,null,null,null,null,null,null,{"$f":"IF('Choix de l''instrument '!$C$3=\"Longueur\",AND('Choix de l''instrument '!$D$3>=Longueur!G179,G179<>\"\"),\"\")","v":""}]
["M.184B","Micromètre d'extérieur à vis","0 / 25 mm",null,null,"Afficher",null,null,null,null,null,null,null,{"$f":"IF('Choix de l''instrument '!$C$3=\"Longueur\",AND('Choix de l''instrument '!$D$3>=Longueur!G180,G180<>\"\"),\"\")","v":""}]
["M.098","Micromètre d'extérieur à vis","50 / 75 mm",null,null,"Afficher",null,null,null,null,null,null,null,{"$f":"IF('Choix de l''instrument '!$C$3=\"Longueur\",AND('Choix de l''instrument '!$D$3>=Longueur!G181,G181<>\"\"),\"\")","v":""}]
["M.095","Micromètre d'extérieur à vis","0 / 50 mm",null,null,"Afficher",null,null,null,null,null,null,null,{"$f":"IF('Choix de l''instrument '!$C$3=\"Longueur\",AND('Choix de l''instrument '!$D$3>=Longueur!G182,G182<>\"\"),\"\")","v":""}]
["M.022","Micromètre d'extérieur à vis","75 / 100 mm",null,null,"Afficher",null,null,null,null,null,null,null,{"$f":"IF('Choix de l''instrument '!$C$3=\"Longueur\",AND('Choix de l''instrument '!$D$3>=Longueur!G183,G183<>\"\"),\"\")","v":""}]
["M.008","Micromètre d'extérieur à vis","0 / 25 mm",null,null,"Afficher",null,null,null,null,null,null,null,{"$f":"IF('Choix de l''instrument '!$C$3=\"Longueur\",AND('Choix de l''instrument '!$D$3>=Longueur!G184,G184<>\"\"),\"\")","v":""}]
["M.023","Micromètre d'extérieur à vis","100 / 200 mm",null,null,"Afficher",null,null,null,null,null,null,null,{"$f":"IF('Choix de l''instrument '!$C$3=\"Longueur\",AND('Choix de l''instrument '!$D$3>=Longueur!G185,G185<>\"\"),\"\")","v":""}]
["MEXT-222","Micromètre d'extérieur à vis","0 / 25 mm",null,null,"Afficher",null,null,null,null,null,null,null,{"$f":"IF('Choix de l''instrument '!$C$3=\"Longueur\",AND('Choix de l''instrument '!$D$3>=Longueur!G186,G186<>\"\"),\"\")","v":""}]
["MEXT-130","Micromètre d'extérieur à vis","25 / 50 mm",null,null,"Afficher",null,null,null,null,null,null,null,{"$f":"IF('Choix de l''instrument '!$C$3=\"Longueur\",AND('Choix de l''instrument '!$D$3>=Longueur!G187,G187<>\"\"),\"\")","v":""}]
["MEXT-120","Micromètre d'extérieur à vis","0 / 25 mm",null,null,"Afficher",null,null,null,null,null,null,null,{"$f":"IF('Choix de l''instrument '!$C$3=\"Longueur\",AND('Choix de l''instrument '!$D$3>=Longueur!G188,G188<>\"\"),\"\")","v":""}]
["MIC 004","Micromètre d'extérieur à vis","0 / 25 mm",null,null,"Afficher",null,null,null,null,null,null,null,{"$f":"IF('Choix de l''instrument '!$C$3=\"Longueur\",AND('Choix de l''instrument '!$D$3>=Longueur!G189,G189<>\"\"),\"\")","v":""}]
["MEXT-040","Micromètre d'extérieur à vis","0 / 25 mm",null,null,"Afficher",null,null,null,null,null,null,null,{"$f":"IF('Choix de l''instrument '!$C$3=\"Longueur\",AND('Choix de l''instrument '!$D$3>=Longueur!G190,G190<>\"\"),\"\")","v":""}]
["MEXT-036","Micromètre d'extérieur à vis","0 / 25 mm",null,null,"Afficher",null,null,null,null,null,null,null,{"$f":"IF('Choix de l''instrument '!$C$3=\"Longueur\",AND('Choix de l''instrument '!$D$3>=Longueur!G191,G191<>\"\"),\"\")","v":""}]
["MEXT-035","Micromètre d'extérieur à vis","0 / 25",null,null,"Afficher",null,null,null,null,null,null,null,{"$f":"IF('Choix de l''instrument '!$C$3=\"Longueur\",AND('Choix de l''instrument '!$D$3>=Longueur!G192,G192<>\"\"),\"\")","v":""}]
["MEXT-034","Micromètre d'extérieur à vis","0 / 25",null,null,"Afficher",null,null,null,null,null,null,null,{"$f":"IF('Choix de l''instrument '!$C$3=\"Longueur\",AND('Choix de l''instrument '!$D$3>=Longueur!G193,G193<>\"\"),\"\")","v":""}]
["MEXT-039","Micromètre d'extérieur à vis","0 / 25 mm",null,null,"Afficher",null,null,null,null,null,null,null,{"$f":"IF('Choix de l''instrument '!$C$3=\"Longueur\",AND('Choix de l''instrument '!$D$3>=Longueur!G194,G194<>\"\"),\"\")","v":""}]
["MEXT-038","Micromètre d'extérieur à vis","0 / 25 mm",null,null,"Afficher",null,null,null,null,null,null,null,{"$f":"IF('Choix de l''instrument '!$C$3=\"Longueur\",AND('Choix de l''instrument '!$D$3>=Longueur!G195,G195<>\"\"),\"\")","v":""}]
["MEXT-037","Micromètre d'extérieur à vis","0 / 25 mm",null,null,"Afficher",null,null,null,null,null,null,null,{"$f":"IF('Choix de l''instrument '!$C$3=\"Longueur\",AND('Choix de l''instrument '!$D$3>=Longueur!G196,G196<>\"\"),\"\")","v":""}]
["MEXT-016","Micromètre d'extérieur à vis","0 / 25 mm",null,null,"Afficher",null,null,null,null,null,null,null,{"$f":"IF('Choix de l''instrument '!$C$3=\"Longueur\",AND('Choix de l''instrument '!$D$3>=Longueur!G197,G197<>\"\"),\"\")","v":""}]
["MEXT-015","Micromètre d'extérieur à vis","0 / 25 mm",null,null,"Afficher",null,null,null,null,null,null,null,{"$f":"IF('Choix de l''instrument '!$C$3=\"Longueur\",AND('Choix de l''instrument '!$D$3>=Longueur!G198,G198<>\"\"),\"\")","v":""}]
["MEXT-014","Micromètre d'extérieur à vis","0 / 25 mm",null,null,"Afficher",null,null,null,null,null,null,null,{"$f":"IF('Choix de l''instrument '!$C$3=\"Longueur\",AND('Choix de l''instrument '!$D$3>=Longueur!G199,G199<>\"\"),\"\")","v":""}]
["MEXT-019","Micromètre d'extérieur à vis","0 / 25 mm",null,null,"Afficher",null,null,null,null,null,null,null,{"$f":"IF('Choix de l''instrument '!$C$3=\"Longueur\",AND('Choix de l''instrument '!$D$3>=Longueur!G200,G200<>\"\"),\"\")","v":""}]
["MEXT-018","Micromètre d'extérieur à vis","0 / 25 mm",null,null,"Afficher",null,null,null,null,null,null,null,{"$f":"IF('Choix de l''instrument '!$C$3=\"Longueur\",AND('Choix de l''instrument '!$D$3>=Longueur!G201,G201<>\"\"),\"\")","v":""}]
["MEXT-017","Micromètre d'extérieur à vis","0 / 25 mm",null,null,"Afficher",null,null,null,null,null,null,null,{"$f":"IF('Choix de l''instrument '!$C$3=\"Longueur\",AND('Choix de l''instrument '!$D$3>=Longueur!G202,G202<>\"\"),\"\")","v":""}]
["MEXT-013","Micromètre d'extérieur à vis","0 / 25 mm",null,null,"Afficher",null,null,null,null,null,null,null,{"$f":"IF('Choix de l''instrument '!$C$3=\"Longueur\",AND('Choix de l''instrument '!$D$3>=Longueur!G203,G203<>\"\"),\"\")","v":""}]
["MEXT-009","Micromètre d'extérieur à vis","25 / 50 mm",null,null,"Afficher",null,null,null,null,null,null,null,{"$f":"IF('Choix de l''instrument '!$C$3=\"Longueur\",AND('Choix de l''instrument '!$D$3>=Longueur!G204,G204<>\"\"),\"\")","v":""}]
["MEXT-008","Micromètre d'extérieur à vis","25 / 50 mm",null,null,"Afficher",null,null,null,null,null,null,null,{"$f":"IF('Choix de l''instrument '!$C$3=\"Longueur\",AND('Choix de l''instrument '!$D$3>=Longueur!G205,G205<>\"\"),\"\")","v":""}]
["MEXT-012","Micromètre d'extérieur à vis","0 / 25 mm",null,null,"Afficher",null,null,null,null,null,null,null,{"$f":"IF('Choix de l''instrument '!$C$3=\"Longueur\",AND('Choix de l''instrument '!$D$3>=Longueur!G206,G206<>\"\"),\"\")","v":""}]
["MEXT-011","Micromètre d'extérieur à vis","0 / 25 mm",null,null,"Afficher",null,null,null,null,null,null,null,{"$f":"IF('Choix de l''instrument '!$C$3=\"Longueur\",AND('Choix de l''instrument '!$D$3>=Longueur!G207,G207<>\"\"),\"\")","v":""}]
["MEXT-010","Micromètre d'extérieur à vis","0 / 25 mm",null,null,"Afficher",null,null,null,null,null,null,null,{"$f":"IF('Choix de l''instrument '!$C$3=\"Longueur\",AND('Choix de l''instrument '!$D$3>=Longueur!G208,G208<>\"\"),\"\")","v":""}]
["MEXT-020","Micromètre d'extérieur à vis","0 / 25 mm",null,null,"Afficher",null,null,null,null,null,null,null,{"$f":"IF('Choix de l''instrument '!$C$3=\"Longueur\",AND('Choix de l''instrument '!$D$3>=Longueur!G209,G209<>\"\"),\"\")","v":""}]
["MEXT-030","Micromètre d'extérieur à vis","0 / 25 mm",null,null,"Afficher",null,null,null,null,null,null,null,{"$f":"IF('Choix de l''instrument '!$C$3=\"Longueur\",AND('Choix de l''instrument '!$D$3>=Longueur!G210,G210<>\"\"),\"\")","v":""}]
["MEXT-029","Micromètre d'extérieur à vis","25 / 50 mm",null,null,"Afficher",null,null,null,null,null,null,null,{"$f":"IF('Choix de l''instrument '!$C$3=\"Longueur\",AND('Choix de l''instrument '!$D$3>=Longueur!G211,G211<>\"\"),\"\")","v":""}]
["MEXT-028","Micromètre d'extérieur à vis","0 / 25 mm",null,null,"Afficher",null,null,null,null,null,null,null,{"$f":"IF('Choix de l''instrument '!$C$3=\"Longueur\",AND('Choix de l''instrument '!$D$3>=Longueur!G212,G212<>\"\"),\"\")","v":""}]
["MEXT-033","Micromètre d'extérieur à vis","0 / 25",null,null,"Afficher",null,null,null,null,null,null,null,{"$f":"IF('Choix de l''instrument '!$C$3=\"Longueur\",AND('Choix de l''instrument '!$D$3>=Longueur!G213,G213<>\"\"),\"\")","v":""}]
["MEXT-032","Micromètre d'extérieur à vis","0 / 25 mm",null,null,"Afficher",null,null,null,null,null,null,null,{"$f":"IF('Choix de l''instrument '!$C$3=\"Longueur\",AND('Choix de l''instrument '!$D$3>=Longueur!G214,G214<>\"\"),\"\")","v":""}]
["MEXT-031","Micromètre d'extérieur à vis","0 / 25 mm",null,null,"Afficher",null,null,null,null,null,null,null,{"$f":"IF('Choix de l''instrument '!$C$3=\"Longueur\",AND('Choix de l''instrument '!$D$3>=Longueur!G215,G215<>\"\"),\"\")","v":""}]
["MEXT-027","Micromètre d'extérieur à vis","0 / 25 mm",null,null,"Afficher",null,null,null,null,null,null,null,{"$f":"IF('Choix de l''instrument '!$C$3=\"Longueur\",AND('Choix de l''instrument '!$D$3>=Longueur!G216,G216<>\"\"),\"\")","v":""}]
["MEXT-023","Micromètre d'extérieur à vis","0 / 25 mm",null,null,"Afficher",null,null,null,null,null,null,null,{"$f":"IF('Choix de l''instrument '!$C$3=\"Longueur\",AND('Choix de l''instrument '!$D$3>=Longueur!G217,G217<>\"\"),\"\")","v":""}]
["MEXT-022","Micromètre d'extérieur à vis","0 / 25 mm",null,null,"Afficher",null,null,null,null,null,null,null,{"$f":"IF('Choix de l''instrument '!$C$3=\"Longueur\",AND('Choix de l''instrument '!$D$3>=Longueur!G218,G218<>\"\"),\"\")","v":""}]
["MEXT-021","Micromètre d'extérieur à vis","0 / 25 mm",null,null,"Afficher",null,null,null,null,null,null,null,{"$f":"IF('Choix de l''instrument '!$C$3=\"Longueur\",AND('Choix de l''instrument '!$D$3>=Longueur!G219,G219<>\"\"),\"\")","v":""}]
["MEXT-026","Micromètre d'extérieur à vis","0 / 25 mm",null,null,"Afficher",null,null,null,null,null,null,null,{"$f":"IF('Choix de l''instrument '!$C$3=\"Longueur\",AND('Choix de l''instrument '!$D$3>=Longueur!G220,G220<>\"\"),\"\")","v":""}]
["MEXT-025","Micromètre d'extérieur à vis","0 / 25 mm",null,null,"Afficher",null,null,null,null,null,null,null,{"$f":"IF('Choix de l''instrument '!$C$3=\"Longueur\",AND('Choix de l''instrument '!$D$3>=Longueur!G221,G221<>\"\"),\"\")","v":""}]
["MEXT-024","Micromètre d'extérieur à vis","0 / 25 mm",null,null,"Afficher",null,null,null,null,null,null,null,{"$f":"IF('Choix de l''instrument '!$C$3=\"Longueur\",AND('Choix de l''instrument '!$D$3>=Longueur!G222,G222<>\"\"),\"\")","v":""}]
["PA.010","Micromètre d'extérieur à vis","0 / 25 mm",null,null,"Afficher",null,null,null,null,null,null,null,{"$f":"IF('Choix de l''instrument '!$C$3=\"Longueur\",AND('Choix de l''instrument '!$D$3>=Longueur!G223,G223<>\"\"),\"\")","v":""}]
["PA.009","Micromètre d'extérieur à vis","0 / 25 mm",null,null,"Afficher",null,null,null,null,null,null,null,{"$f":"IF('Choix de l''instrument '!$C$3=\"Longueur\",AND('Choix de l''instrument '!$D$3>=Longueur!G224,G224<>\"\"),\"\")","v":""}]
["PA.021","Micromètre d'extérieur à vis","0 / 25 mm",null,null,"Afficher",null,null,null,null,null,null,null,{"$f":"IF('Choix de l''instrument '!$C$3=\"Longueur\",AND('Choix de l''instrument '!$D$3>=Longueur!G225,G225<>\"\"),\"\")","v":""}]
["PA.014","Micromètre d'extérieur à vis","0 / 25 mm",null,null,"Afficher",null,null,null,null,null,null,null,{"$f":"IF('Choix de l''instrument '!$C$3=\"Longueur\",AND('Choix de l''instrument '!$D$3>=Longueur!G226,G226<>\"\"),\"\")","v":""}]
["PA.003","Micromètre d'extérieur à vis","0 / 25 mm",null,null,"Afficher",null,null,null,null,null,null,null,{"$f":"IF('Choix de l''instrument '!$C$3=\"Longueur\",AND('Choix de l''instrument '!$D$3>=Longueur!G227,G227<>\"\"),\"\")","v":""}]
["PA.001","Micromètre d'extérieur à vis","0 / 25 mm",null,null,"Afficher",null,null,null,null,null,null,null,{"$f":"IF('Choix de l''instrument '!$C$3=\"Longueur\",AND('Choix de l''instrument '!$D$3>=Longueur!G228,G228<>\"\"),\"\")","v":""}]
["MEXT-007","Micromètre d'extérieur à vis","0 / 25 mm",null,null,"Afficher",null,null,null,null,null,null,null,{"$f":"IF('Choix de l''instrument '!$C$3=\"Longueur\",AND('Choix de l''instrument '!$D$3>=Longueur!G229,G229<>\"\"),\"\")","v":""}]
["MEXT-003","Micromètre d'extérieur à vis","25 / 50 mm",null,null,"Afficher",null,null,null,null,null,null,null,{"$f":"IF('Choix de l''instrument '!$C$3=\"Longueur\",AND('Choix de l''instrument '!$D$3>=Longueur!G230,G230<>\"\"),\"\")","v":""}]
["MEXT-006","Micromètre d'extérieur à vis","0 / 25 mm",null,null,"Afficher",null,null,null,null,null,null,null,{"$f":"IF('Choix de l''instrument '!$C$3=\"Longueur\",AND('Choix de l''instrument '!$D$3>=Longueur!G231,G231<>\"\"),\"\")","v":""}]
["MEXT-005","Micromètre d'extérieur à vis","0 / 25 mm",null,null,"Afficher",null,null,null,null,null,null,null,{"$f":"IF('Choix de l''instrument '!$C$3=\"Longueur\",AND('Choix de l''instrument '!$D$3>=Longueur!G232,G232<>\"\"),\"\")","v":""}]
["MEXT-004","Micromètre d'extérieur à vis","25 / 50 mm",null,null,"Afficher",null,null,null,null,null,null,null,{"$f":"IF('Choix de l''instrument '!$C$3=\"Longueur\",AND('Choix de l''instrument '!$D$3>=Longueur!G233,G233<>\"\"),\"\")","v":""}]
["MEXT-002","Micromètre d'extérieur à vis","25 / 50 mm",null,null,"Afficher",null,null,null,null,null,null,null,{"$f":"IF('Choix de l''instrument '!$C$3=\"Longueur\",AND('Choix de l''instrument '!$D$3>=Longueur!G234,G234<>\"\"),\"\")","v":""}]
["MEXT-001","Micromètre d'extérieur à vis","25 / 50 mm",null,null,"Afficher",null,null,null,null,null,null,null,{"$f":"IF('Choix de l''instrument '!$C$3=\"Longueur\",AND('Choix de l''instrument '!$D$3>=Longueur!G235,G235<>\"\"),\"\")","v":""}]
["THE.206","Micromètre d'extérieur à vis","25 / 50 mm",null,null,"Afficher",null,null,null,null,null,null,null,{"$f":"IF('Choix de l''instrument '!$C$3=\"Longueur\",AND('Choix de l''instrument '!$D$3>=Longueur!G236,G236<>\"\"),\"\")","v":""}]
["TR.005","Micromètre d'extérieur à vis","25 / 50 mm",null,null,"Afficher",null,null,null,null,null,null,null,{"$f":"IF('Choix de l''instrument '!$C$3=\"Longueur\",AND('Choix de l''instrument '!$D$3>=Longueur!G237,G237<>\"\"),\"\")","v":""}]
["TR.004","Micromètre d'extérieur à vis","0 / 25 mm",null,null,"Afficher",null,null,null,null,null,null,null,{"$f":"IF('Choix de l''instrument '!$C$3=\"Longueur\",AND('Choix de l''instrument '!$D$3>=Longueur!G238,G238<>\"\"),\"\")","v":""}]
["TR.002","Micromètre d'extérieur à vis","0 / 25 mm",null,null,"Afficher",null,null,null,null,null,null,null,{"$f":"IF('Choix de l''instrument '!$C$3=\"Longueur\",AND('Choix de l''instrument '!$D$3>=Longueur!G239,G239<>\"\"),\"\")","v":""}]
["THE.009","Micromètre d'extérieur à vis","0 / 25 mm",null,null,"Afficher",null,null,null,null,null,null,null,{"$f":"IF('Choix de l''instrument '!$C$3=\"Longueur\",AND('Choix de l''instrument '!$D$3>=Longueur!G240,G240<>\"\"),\"\")","v":""}]
["THE.013","Micromètre d'extérieur à vis","0 / 25 mm",null,null,"Afficher",null,null,null,null,null,null,null,{"$f":"IF('Choix de l''instrument '!$C$3=\"Longueur\",AND('Choix de l''instrument '!$D$3>=Longueur!G241,G241<>\"\"),\"\")","v":""}]
["THE.012","Micromètre d'extérieur à vis","0 / 25 mm",null,null,"Afficher",null,null,null,null,null,null,null,{"$f":"IF('Choix de l''instrument '!$C$3=\"Longueur\",AND('Choix de l''instrument '!$D$3>=Longueur!G242,G242<>\"\"),\"\")","v":""}]
["THE.006","Micromètre d'extérieur à vis","0 / 25 mm",null,null,"Afficher",null,null,null,null,null,null,null,{"$f":"IF('Choix de l''instrument '!$C$3=\"Longueur\",AND('Choix de l''instrument '!$D$3>=Longueur!G243,G243<>\"\"),\"\")","v":""}]
["THE.004","Micromètre d'extérieur à vis","0 / 25 mm",null,null,"Afficher",null,null,null,null,null,null,null,{"$f":"IF('Choix de l''instrument '!$C$3=\"Longueur\",AND('Choix de l''instrument '!$D$3>=Longueur!G244,G244<>\"\"),\"\")","v":""}]
["THE.015","Micromètre d'extérieur à vis","25 / 50 mm",null,null,"Afficher",null,null,null,null,null,null,null,{"$f":"IF('Choix de l''instrument '!$C$3=\"Longueur\",AND('Choix de l''instrument '!$D$3>=Longueur!G245,G245<>\"\"),\"\")","v":""}]
["THE.110","Micromètre d'extérieur à vis","0 / 25 mm",null,null,"Afficher",null,null,null,null,null,null,null,{"$f":"IF('Choix de l''instrument '!$C$3=\"Longueur\",AND('Choix de l''instrument '!$D$3>=Longueur!G246,G246<>\"\"),\"\")","v":""}]
["THE.017","Micromètre d'extérieur à vis","75 / 100 mm",null,null,"Afficher",null,null,null,null,null,null,null,{"$f":"IF('Choix de l''instrument '!$C$3=\"Longueur\",AND('Choix de l''instrument '!$D$3>=Longueur!G247,G247<>\"\"),\"\")","v":""}]
["THE.016","Micromètre d'extérieur à vis","50 / 75 mm",null,null,"Afficher",null,null,null,null,null,null,null,{"$f":"IF('Choix de l''instrument '!$C$3=\"Longueur\",AND('Choix de l''instrument '!$D$3>=Longueur!G248,G248<>\"\"),\"\")","v":""}]
["THE.020","Micromètre d'extérieur à vis","0 / 25 mm",null,null,"Afficher",null,null,null,null,null,null,null,{"$f":"IF('Choix de l''instrument '!$C$3=\"Longueur\",AND('Choix de l''instrument '!$D$3>=Longueur!G249,G249<>\"\"),\"\")","v":""}]
["SQ.003","Micromètre d'extérieur à vis","0 / 25 mm",null,null,"Afficher",null,null,null,null,null,null,null,{"$f":"IF('Choix de l''instrument '!$C$3=\"Longueur\",AND('Choix de l''instrument '!$D$3>=Longueur!G250,G250<>\"\"),\"\")","v":""}]
["SQ.036","Micromètre d'extérieur à vis","0 / 25 mm",null,null,"Afficher",null,null,null,null,null,null,null,{"$f":"IF('Choix de l''instrument '!$C$3=\"Longueur\",AND('Choix de l''instrument '!$D$3>=Longueur!G251,G251<>\"\"),\"\")","v":""}]
["SQ.048","Micromètre d'extérieur à vis","0 / 25 mm",null,null,"Afficher",null,null,null,null,null,null,null,{"$f":"IF('Choix de l''instrument '!$C$3=\"Longueur\",AND('Choix de l''instrument '!$D$3>=Longueur!G252,G252<>\"\"),\"\")","v":""}]
["SQ.038","Micromètre d'extérieur à vis","0 / 25 mm",null,null,"Afficher",null,null,null,null,null,null,null,{"$f":"IF('Choix de l''instrument '!$C$3=\"Longueur\",AND('Choix de l''instrument '!$D$3>=Longueur!G253,G253<>\"\"),\"\")","v":""}]
["SQ.028","Micromètre d'extérieur à vis","0 / 25 nm",null,null,"Afficher",null,null,null,null,null,null,null,{"$f":"IF('Choix de l''instrument '!$C$3=\"Longueur\",AND('Choix de l''instrument '!$D$3>=Longueur!G254,G254<>\"\"),\"\")","v":""}]
["TC.006","Micromètre d'extérieur à vis","0 / 25 mm",null,null,"Afficher",null,null,null,null,null,null,null,{"$f":"IF('Choix de l''instrument '!$C$3=\"Longueur\",AND('Choix de l''instrument '!$D$3>=Longueur!G255,G255<>\"\"),\"\")","v":""}]
["SQ.131","Micromètre d'extérieur à vis","0 / 25 mm",null,null,"Afficher",null,null,null,null,null,null,null,{"$f":"IF('Choix de l''instrument '!$C$3=\"Longueur\",AND('Choix de l''instrument '!$D$3>=Longueur!G256,G256<>\"\"),\"\")","v":""}]
["TC.008","Micromètre d'extérieur à vis","0 / 25 mm",null,null,"Afficher",null,null,null,null,null,null,null,{"$f":"IF('Choix de l''instrument '!$C$3=\"Longueur\",AND('Choix de l''instrument '!$D$3>=Longueur!G257,G257<>\"\"),\"\")","v":""}]
["TC.037","Micromètre d'extérieur à vis","75 / 100 mm",null,null,"Afficher",null,null,null,null,null,null,null,{"$f":"IF('Choix de l''instrument '!$C$3=\"Longueur\",AND('Choix de l''instrument '!$D$3>=Longueur!G258,G258<>\"\"),\"\")","v":""}]
["TC.028","Micromètre d'extérieur à vis","50 / 75 mm",null,null,"Afficher",null,null,null,null,null,null,null,{"$f":"IF('Choix de l''instrument '!$C$3=\"Longueur\",AND('Choix de l''instrument '!$D$3>=Longueur!G259,G259<>\"\"),\"\")","v":""}]
["TC.027","Micromètre d'extérieur à vis","25 / 50 mm",null,null,"Afficher",null,null,null,null,null,null,null,{"$f":"IF('Choix de l''instrument '!$C$3=\"Longueur\",AND('Choix de l''instrument '!$D$3>=Longueur!G260,G260<>\"\"),\"\")","v":""}]
["TC.041","Micromètre d'extérieur à vis","0 / 25 mm",null,null,"Afficher",null,null,null,null,null,null,null,{"$f":"IF('Choix de l''instrument '!$C$3=\"Longueur\",AND('Choix de l''instrument '!$D$3>=Longueur!G261,G261<>\"\"),\"\")","v":""}]
["TC.025","Micromètre d'extérieur à vis","0 / 25 mm",null,null,"Afficher",null,null,null,null,null,null,null,{"$f":"IF('Choix de l''instrument '!$C$3=\"Longueur\",AND('Choix de l''instrument '!$D$3>=Longueur!G262,G262<>\"\"),\"\")","v":""}]
["TC.015","Micromètre d'extérieur à vis","0 / 25 mm",null,null,"Afficher",null,null,null,null,null,null,null,{"$f":"IF('Choix de l''instrument '!$C$3=\"Longueur\",AND('Choix de l''instrument '!$D$3>=Longueur!G263,G263<>\"\"),\"\")","v":""}]
["TC.021","Micromètre d'extérieur à vis","25 / 50 mm",null,null,"Afficher",null,null,null,null,null,null,null,{"$f":"IF('Choix de l''instrument '!$C$3=\"Longueur\",AND('Choix de l''instrument '!$D$3>=Longueur!G264,G264<>\"\"),\"\")","v":""}]
["TC.020","Micromètre d'extérieur à vis","25 / 50 mm",null,null,"Afficher",null,null,null,null,null,null,null,{"$f":"IF('Choix de l''instrument '!$C$3=\"Longueur\",AND('Choix de l''instrument '!$D$3>=Longueur!G265,G265<>\"\"),\"\")","v":""}]
["TC.019","Micromètre d'extérieur à vis","50 / 75 mm",null,null,"Afficher",null,null,null,null,null,null,null,{"$f":"IF('Choix de l''instrument '!$C$3=\"Longueur\",AND('Choix de l''instrument '!$D$3>=Longueur!G266,G266<>\"\"),\"\")","v":""}]
["SQ.122","Micromètre d'extérieur à vis","0 / 25 mm",null,null,"Afficher",null,null,null,null,null,null,null,{"$f":"IF('Choix de l''instrument '!$C$3=\"Longueur\",AND('Choix de l''instrument '!$D$3>=Longueur!G267,G267<>\"\"),\"\")","v":""}]
["PA.023","Micromètre d'extérieur à vis","0 / 25 mm",null,null,"Afficher",null,null,null,null,null,null,null,{"$f":"IF('Choix de l''instrument '!$C$3=\"Longueur\",AND('Choix de l''instrument '!$D$3>=Longueur!G268,G268<>\"\"),\"\")","v":""}]
["PA.022","Micromètre d'extérieur à vis","0 / 25 mm",null,null,"Afficher",null,null,null,null,null,null,null,{"$f":"IF('Choix de l''instrument '!$C$3=\"Longueur\",AND('Choix de l''instrument '!$D$3>=Longueur!G269,G269<>\"\"),\"\")","v":""}]
["PA.027","Micromètre d'extérieur à vis","0 / 25 mm",null,null,"Afficher",null,null,null,null,null,null,null,{"$f":"IF('Choix de l''instrument '!$C$3=\"Longueur\",AND('Choix de l''instrument '!$D$3>=Longueur!G270,G270<>\"\"),\"\")","v":""}]
["PCC.015","Micromètre d'extérieur à vis","0 / 25 mm",null,null,"Afficher",null,null,null,null,null,null,null,{"$f":"IF('Choix de l''instrument '!$C$3=\"Longueur\",AND('Choix de l''instrument '!$D$3>=Longueur!G271,G271<>\"\"),\"\")","v":""}]
["TC.047","Micromètre d'extérieur à vis","0 / 25 mm",null,null,"Afficher",null,null,null,null,null,null,null,{"$f":"IF('Choix de l''instrument '!$C$3=\"Longueur\",AND('Choix de l''instrument '!$D$3>=Longueur!G272,G272<>\"\"),\"\")","v":""}]
["TC.049","Micromètre d'extérieur à vis","25 / 50 mm",null,null,"Afficher",null,null,null,null,null,null,null,{"$f":"IF('Choix de l''instrument '!$C$3=\"Longueur\",AND('Choix de l''instrument '!$D$3>=Longueur!G273,G273<>\"\"),\"\")","v":""}]
["CAT.091","Micromètre d'extérieur à vis","25 / 50 mm",null,null,"Afficher",null,null,null,null,null,null,null,{"$f":"IF('Choix de l''instrument '!$C$3=\"Longueur\",AND('Choix de l''instrument '!$D$3>=Longueur!G274,G274<>\"\"),\"\")","v":""}]
["CAT.097","Micromètre d'extérieur à vis","0 / 25 mm",null,null,"Afficher",null,null,null,null,null,null,null,{"$f":"IF('Choix de l''instrument '!$C$3=\"Longueur\",AND('Choix de l''instrument '!$D$3>=Longueur!G275,G275<>\"\"),\"\")","v":""}]
["CAT.009","Micromètre d'extérieur à vis","25 / 50 mm",null,null,"Afficher",null,null,null,null,null,null,null,{"$f":"IF('Choix de l''instrument '!$C$3=\"Longueur\",AND('Choix de l''instrument '!$D$3>=Longueur!G276,G276<>\"\"),\"\")","v":""}]
["CAT.002","Micromètre d'extérieur à vis","0 / 25 mm",null,null,"Afficher",null,null,null,null,null,null,null,{"$f":"IF('Choix de l''instrument '!$C$3=\"Longueur\",AND('Choix de l''instrument '!$D$3>=Longueur!G277,G277<>\"\"),\"\")","v":""}]
["CAT.047","Micromètre d'extérieur à vis","0 / 25 mm",null,null,"Afficher",null,null,null,null,null,null,null,{"$f":"IF('Choix de l''instrument '!$C$3=\"Longueur\",AND('Choix de l''instrument '!$D$3>=Longueur!G278,G278<>\"\"),\"\")","v":""}]
["CAT.023","Micromètre d'extérieur à vis","0 / 25 mm",null,null,"Afficher",null,null,null,null,null,null,null,{"$f":"IF('Choix de l''instrument '!$C$3=\"Longueur\",AND('Choix de l''instrument '!$D$3>=Longueur!G279,G279<>\"\"),\"\")","v":""}]
["CAT.026","Micromètre d'extérieur à vis","0 / 25 mm",null,null,"Afficher",null,null,null,null,null,null,null,{"$f":"IF('Choix de l''instrument '!$C$3=\"Longueur\",AND('Choix de l''instrument '!$D$3>=Longueur!G280,G280<>\"\"),\"\")","v":""}]
["CAT.024","Micromètre d'extérieur à vis","0 / 25 mm",null,null,"Afficher",null,null,null,null,null,null,null,{"$f":"IF('Choix de l''instrument '!$C$3=\"Longueur\",AND('Choix de l''instrument '!$D$3>=Longueur!G281,G281<>\"\"),\"\")","v":""}]
["CF.007","Micromètre d'extérieur à vis","0 / 25 mm",null,null,"Afficher",null,null,null,null,null,null,null,{"$f":"IF('Choix de l''instrument '!$C$3=\"Longueur\",AND('Choix de l''instrument '!$D$3>=Longueur!G282,G282<>\"\"),\"\")","v":""}]
["CF.004","Micromètre d'extérieur à vis","0 / 25 mm",null,null,"Afficher",null,null,null,null,null,null,null,{"$f":"IF('Choix de l''instrument '!$C$3=\"Longueur\",AND('Choix de l''instrument '!$D$3>=Longueur!G283,G283<>\"\"),\"\")","v":""}]
["CF.009","Micromètre d'extérieur à vis","50 / 75 mm",null,null,"Afficher",null,null,null,null,null,null,null,{"$f":"IF('Choix de l''instrument '!$C$3=\"Longueur\",AND('Choix de l''instrument '!$D$3>=Longueur!G284,G284<>\"\"),\"\")","v":""}]
["CF.008","Micromètre d'extérieur à vis","50 / 75 mm",null,null,"Afficher",null,null,null,null,null,null,null,{"$f":"IF('Choix de l''instrument '!$C$3=\"Longueur\",AND('Choix de l''instrument '!$D$3>=Longueur!G285,G285<>\"\"),\"\")","v":""}]
["CF.130","Micromètre d'extérieur à vis","0 / 25 mm",null,null,"Afficher",null,null,null,null,null,null,null,{"$f":"IF('Choix de l''instrument '!$C$3=\"Longueur\",AND('Choix de l''instrument '!$D$3>=Longueur!G286,G286<>\"\"),\"\")","v":""}]
["CF.055","Micromètre d'extérieur à vis","0 / 25 mm",null,null,"Afficher",null,null,null,null,null,null,null,{"$f":"IF('Choix de l''instrument '!$C$3=\"Longueur\",AND('Choix de l''instrument '!$D$3>=Longueur!G287,G287<>\"\"),\"\")","v":""}]
["CF.058","Micromètre d'extérieur à vis","25 / 50 mm",null,null,"Afficher",null,null,null,null,null,null,null,{"$f":"IF('Choix de l''instrument '!$C$3=\"Longueur\",AND('Choix de l''instrument '!$D$3>=Longueur!G288,G288<>\"\"),\"\")","v":""}]
["CF.051","Micromètre d'extérieur à vis","25 / 50 mm",null,null,"Afficher",null,null,null,null,null,null,null,{"$f":"IF('Choix de l''instrument '!$C$3=\"Longueur\",AND('Choix de l''instrument '!$D$3>=Longueur!G289,G289<>\"\"),\"\")","v":""}]
["CF.066","Micromètre d'extérieur à vis","0 / 25 mm",null,null,"Afficher",null,null,null,null,null,null,null,{"$f":"IF('Choix de l''instrument '!$C$3=\"Longueur\",AND('Choix de l''instrument '!$D$3>=Longueur!G290,G290<>\"\"),\"\")","v":""}]
["CF.063","Micromètre d'extérieur à vis","0 / 25 mm",null,null,"Afficher",null,null,null,null,null,null,null,{"$f":"IF('Choix de l''instrument '!$C$3=\"Longueur\",AND('Choix de l''instrument '!$D$3>=Longueur!G291,G291<>\"\"),\"\")","v":""}]
["CE.007","Micromètre d'extérieur à vis","0 / 25 mm",null,null,"Afficher",null,null,null,null,null,null,null,{"$f":"IF('Choix de l''instrument '!$C$3=\"Longueur\",AND('Choix de l''instrument '!$D$3>=Longueur!G292,G292<>\"\"),\"\")","v":""}]
["CE.001","Micromètre d'extérieur à vis","0 / 25 mm",null,null,"Afficher",null,null,null,null,null,null,null,{"$f":"IF('Choix de l''instrument '!$C$3=\"Longueur\",AND('Choix de l''instrument '!$D$3>=Longueur!G293,G293<>\"\"),\"\")","v":""}]
["CE.023","Micromètre d'extérieur à vis","0 / 25 mm",null,null,"Afficher",null,null,null,null,null,null,null,{"$f":"IF('Choix de l''instrument '!$C$3=\"Longueur\",AND('Choix de l''instrument '!$D$3>=Longueur!G294,G294<>\"\"),\"\")","v":""}]
["CAT.172","Micromètre d'extérieur à vis","25 / 50 mm",null,null,"Afficher",null,null,null,null,null,null,null,{"$f":"IF('Choix de l''instrument '!$C$3=\"Longueur\",AND('Choix de l''instrument '!$D$3>=Longueur!G295,G295<>\"\"),\"\")","v":""}]
["CE.210","Micromètre d'extérieur à vis","0 / 25 m",null,null,"Afficher",null,null,null,null,null,null,null,{"$f":"IF('Choix de l''instrument '!$C$3=\"Longueur\",AND('Choix de l''instrument '!$D$3>=Longueur!G296,G296<>\"\"),\"\")","v":""}]
["CE.192","Micromètre d'extérieur à vis","0 / 25 mm",null,null,"Afficher",null,null,null,null,null,null,null,{"$f":"IF('Choix de l''instrument '!$C$3=\"Longueur\",AND('Choix de l''instrument '!$D$3>=Longueur!G297,G297<>\"\"),\"\")","v":""}]
["CE.206","Micromètre d'extérieur à vis","0 / 25 mm",null,null,"Afficher",null,null,null,null,null,null,null,{"$f":"IF('Choix de l''instrument '!$C$3=\"Longueur\",AND('Choix de l''instrument '!$D$3>=Longueur!G298,G298<>\"\"),\"\")","v":""}]
["CE.106","Micromètre d'extérieur à vis","0 / 25 mm",null,null,"Afficher",null,null,null,null,null,null,null,{"$f":"IF('Choix de l''instrument '!$C$3=\"Longueur\",AND('Choix de l''instrument '!$D$3>=Longueur!G299,G299<>\"\"),\"\")","v":""}]
["CE.088","Micromètre d'extérieur à vis","0 / 25 mm",null,null,"Afficher",null,null,null,null,null,null,null,{"$f":"IF('Choix de l''instrument '!$C$3=\"Longueur\",AND('Choix de l''instrument '!$D$3>=Longueur!G300,G300<>\"\"),\"\")","v":""}]
["CE.060","Micromètre d'extérieur à vis","0 / 25 mm",null,null,"Afficher",null,null,null,null,null,null,null,{"$f":"IF('Choix de l''instrument '!$C$3=\"Longueur\",AND('Choix de l''instrument '!$D$3>=Longueur!G301,G301<>\"\"),\"\")","v":""}]
["CE.054","Micromètre d'extérieur à vis","0 / 25 mm",null,null,"Afficher",null,null,null,null,null,null,null,{"$f":"IF('Choix de l''instrument '!$C$3=\"Longueur\",AND('Choix de l''instrument '!$D$3>=Longueur!G302,G302<>\"\"),\"\")","v":""}]
["CE.191","Micromètre d'extérieur à vis","0 / 25 mm",null,null,"Afficher",null,null,null,null,null,null,null,{"$f":"IF('Choix de l''instrument '!$C$3=\"Longueur\",AND('Choix de l''instrument '!$D$3>=Longueur!G303,G303<>\"\"),\"\")","v":""}]
["ED.274","Micromètre d'extérieur à vis","0 / 25 mm",null,null,"Afficher",null,null,null,null,null,null,null,{"$f":"IF('Choix de l''instrument '!$C$3=\"Longueur\",AND('Choix de l''instrument '!$D$3>=Longueur!G304,G304<>\"\"),\"\")","v":""}]
["ED.273","Micromètre d'extérieur à vis","0 / 25 mm",null,null,"Afficher",null,null,null,null,null,null,null,{"$f":"IF('Choix de l''instrument '!$C$3=\"Longueur\",AND('Choix de l''instrument '!$D$3>=Longueur!G305,G305<>\"\"),\"\")","v":""}]
["ED.267","Micromètre d'extérieur à vis","0 / 25 mm",null,null,"Afficher",null,null,null,null,null,null,null,{"$f":"IF('Choix de l''instrument '!$C$3=\"Longueur\",AND('Choix de l''instrument '!$D$3>=Longueur!G306,G306<>\"\"),\"\")","v":""}]
["ED.266","Micromètre d'extérieur à vis","0 / 25 mm",null,null,"Afficher",null,null,null,null,null,null,null,{"$f":"IF('Choix de l''instrument '!$C$3=\"Longueur\",AND('Choix de l''instrument '!$D$3>=Longueur!G307,G307<>\"\"),\"\")","v":""}]
["ED.265","Micromètre d'extérieur à vis","0 / 25 mm",null,null,"Afficher",null,null,null,null,null,null,null,{"$f":"IF('Choix de l''instrument '!$C$3=\"Longueur\",AND('Choix de l''instrument '!$D$3>=Longueur!G308,G308<>\"\"),\"\")","v":""}]
["ED.230","Micromètre d'extérieur à vis","0 / 25 mm",null,null,"Afficher",null,null,null,null,null,null,null,{"$f":"IF('Choix de l''instrument '!$C$3=\"Longueur\",AND('Choix de l''instrument '!$D$3>=Longueur!G309,G309<>\"\"),\"\")","v":""}]
["ED.227","Micromètre d'extérieur à vis","0 / 25 mm",null,null,"Afficher",null,null,null,null,null,null,null,{"$f":"IF('Choix de l''instrument '!$C$3=\"Longueur\",AND('Choix de l''instrument '!$D$3>=Longueur!G310,G310<>\"\"),\"\")","v":""}]
["ED.211","Micromètre d'extérieur à vis","0 / 25 mm",null,null,"Afficher",null,null,null,null,null,null,null,{"$f":"IF('Choix de l''instrument '!$C$3=\"Longueur\",AND('Choix de l''instrument '!$D$3>=Longueur!G311,G311<>\"\"),\"\")","v":""}]
["ED.201","Micromètre d'extérieur à vis","0 / 25 mm",null,null,"Afficher",null,null,null,null,null,null,null,{"$f":"IF('Choix de l''instrument '!$C$3=\"Longueur\",AND('Choix de l''instrument '!$D$3>=Longueur!G312,G312<>\"\"),\"\")","v":""}]
["ED.233","Micromètre d'extérieur à vis",null,null,null,"Afficher",null,null,null,null,null,null,null,{"$f":"IF('Choix de l''instrument '!$C$3=\"Longueur\",AND('Choix de l''instrument '!$D$3>=Longueur!G313,G313<>\"\"),\"\")","v":""}]
["ED.236","Micromètre d'extérieur à vis","0 / 25 mm",null,null,"Afficher",null,null,null,null,null,null,null,{"$f":"IF('Choix de l''instrument '!$C$3=\"Longueur\",AND('Choix de l''instrument '!$D$3>=Longueur!G314,G314<>\"\"),\"\")","v":""}]
["ED.275","Micromètre d'extérieur à vis","0 / 25 mm",null,null,"Afficher",null,null,null,null,null,null,null,{"$f":"IF('Choix de l''instrument '!$C$3=\"Longueur\",AND('Choix de l''instrument '!$D$3>=Longueur!G315,G315<>\"\"),\"\")","v":""}]
["EN.078","Micromètre d'extérieur à vis","0 / 25 mm",null,null,"Afficher",null,null,null,null,null,null,null,{"$f":"IF('Choix de l''instrument '!$C$3=\"Longueur\",AND('Choix de l''instrument '!$D$3>=Longueur!G316,G316<>\"\"),\"\")","v":""}]
["EN.037","Micromètre d'extérieur à vis","0 / 25 mm",null,null,"Afficher",null,null,null,null,null,null,null,{"$f":"IF('Choix de l''instrument '!$C$3=\"Longueur\",AND('Choix de l''instrument '!$D$3>=Longueur!G317,G317<>\"\"),\"\")","v":""}]
["EN.077","Micromètre d'extérieur à vis","0 / 25 mm",null,null,"Afficher",null,null,null,null,null,null,null,{"$f":"IF('Choix de l''instrument '!$C$3=\"Longueur\",AND('Choix de l''instrument '!$D$3>=Longueur!G318,G318<>\"\"),\"\")","v":""}]
["EN.076","Micromètre d'extérieur à vis","0 / 25 mm",null,null,"Afficher",null,null,null,null,null,null,null,{"$f":"IF('Choix de l''instrument '!$C$3=\"Longueur\",AND('Choix de l''instrument '!$D$3>=Longueur!G319,G319<>\"\"),\"\")","v":""}]
["EN.114","Micromètre d'extérieur à vis","0 / 25 mm",null,null,"Afficher",null,null,null,null,null,null,null,{"$f":"IF('Choix de l''instrument '!$C$3=\"Longueur\",AND('Choix de l''instrument '!$D$3>=Longueur!G320,G320<>\"\"),\"\")","v":""}]
["ED.278","Micromètre d'extérieur à vis","0 / 25 mm",null,null,"Afficher",null,null,null,null,null,null,null,{"$f":"IF('Choix de l''instrument '!$C$3=\"Longueur\",AND('Choix de l''instrument '!$D$3>=Longueur!G321,G321<>\"\"),\"\")","v":""}]
["ED.277","Micromètre d'extérieur à vis","0 / 25 mm",null,null,"Afficher",null,null,null,null,null,null,null,{"$f":"IF('Choix de l''instrument '!$C$3=\"Longueur\",AND('Choix de l''instrument '!$D$3>=Longueur!G322,G322<>\"\"),\"\")","v":""}]
["EN.017","Micromètre d'extérieur à vis","0 / 25 mm",null,null,"Afficher",null,null,null,null,null,null,null,{"$f":"IF('Choix de l''instrument '!$C$3=\"Longueur\",AND('Choix de l''instrument '!$D$3>=Longueur!G323,G323<>\"\"),\"\")","v":""}]
["EN.016","Micromètre d'extérieur à vis","0 / 25 mm",null,null,"Afficher",null,null,null,null,null,null,null,{"$f":"IF('Choix de l''instrument '!$C$3=\"Longueur\",AND('Choix de l''instrument '!$D$3>=Longueur!G324,G324<>\"\"),\"\")","v":""}]
["EC.009","Micromètre d'extérieur à vis","0 / 25 mm",null,null,"Afficher",null,null,null,null,null,null,null,{"$f":"IF('Choix de l''instrument '!$C$3=\"Longueur\",AND('Choix de l''instrument '!$D$3>=Longueur!G325,G325<>\"\"),\"\")","v":""}]
["EC.034","Micromètre d'extérieur à vis","0 / 25 mm",null,null,"Afficher",null,null,null,null,null,null,null,{"$f":"IF('Choix de l''instrument '!$C$3=\"Longueur\",AND('Choix de l''instrument '!$D$3>=Longueur!G326,G326<>\"\"),\"\")","v":""}]
["DIM-0137","Micromètre d'extérieur à vis","0 / 25 mm",null,null,"Afficher",null,null,null,null,null,null,null,{"$f":"IF('Choix de l''instrument '!$C$3=\"Longueur\",AND('Choix de l''instrument '!$D$3>=Longueur!G327,G327<>\"\"),\"\")","v":""}]
["DIM-0135","Micromètre d'extérieur à vis","25 / 55 mm",null,null,"Afficher",null,null,null,null,null,null,null,{"$f":"IF('Choix de l''instrument '!$C$3=\"Longueur\",AND('Choix de l''instrument '!$D$3>=Longueur!G328,G328<>\"\"),\"\")","v":""}]
["DIM-0131","Micromètre d'extérieur à vis","0 / 25 mm",null,null,"Afficher",null,null,null,null,null,null,null,{"$f":"IF('Choix de l''instrument '!$C$3=\"Longueur\",AND('Choix de l''instrument '!$D$3>=Longueur!G329,G329<>\"\"),\"\")","v":""}]
["DIM-0127","Micromètre d'extérieur à vis","0 / 25 mm",null,null,"Afficher",null,null,null,null,null,null,null,{"$f":"IF('Choix de l''instrument '!$C$3=\"Longueur\",AND('Choix de l''instrument '!$D$3>=Longueur!G330,G330<>\"\"),\"\")","v":""}]
["DIM-0126","Micromètre d'extérieur à vis","0 / 25 mm",null,null,"Afficher",null,null,null,null,null,null,null,{"$f":"IF('Choix de l''instrument '!$C$3=\"Longueur\",AND('Choix de l''instrument '!$D$3>=Longueur!G331,G331<>\"\"),\"\")","v":""}]
["DIM-0125","Micromètre d'extérieur à vis","0 / 25 mm",null,null,"Afficher",null,null,null,null,null,null,null,{"$f":"IF('Choix de l''instrument '!$C$3=\"Longueur\",AND('Choix de l''instrument '!$D$3>=Longueur!G332,G332<>\"\"),\"\")","v":""}]
["DIM-0130","Micromètre d'extérieur à vis","0 / 25 mm",null,null,"Afficher",null,null,null,null,null,null,null,{"$f":"IF('Choix de l''instrument '!$C$3=\"Longueur\",AND('Choix de l''instrument '!$D$3>=Longueur!G333,G333<>\"\"),\"\")","v":""}]
["DIM-0129","Micromètre d'extérieur à vis","0 / 25 mm",null,null,"Afficher",null,null,null,null,null,null,null,{"$f":"IF('Choix de l''instrument '!$C$3=\"Longueur\",AND('Choix de l''instrument '!$D$3>=Longueur!G334,G334<>\"\"),\"\")","v":""}]
["DIM-0128","Micromètre d'extérieur à vis","0 / 25 mm",null,null,"Afficher",null,null,null,null,null,null,null,{"$f":"IF('Choix de l''instrument '!$C$3=\"Longueur\",AND('Choix de l''instrument '!$D$3>=Longueur!G335,G335<>\"\"),\"\")","v":""}]
["DIM-0141","Micromètre d'extérieur à vis","0 / 25 mm",null,null,"Afficher",null,null,null,null,null,null,null,{"$f":"IF('Choix de l''instrument '!$C$3=\"Longueur\",AND('Choix de l''instrument '!$D$3>=Longueur!G336,G336<>\"\"),\"\")","v":""}]
["DIM-0140","Micromètre d'extérieur à vis","0 / 25 mm",null,null,"Afficher",null,null,null,null,null,null,null,{"$f":"IF('Choix de l''instrument '!$C$3=\"Longueur\",AND('Choix de l''instrument '!$D$3>=Longueur!G337,G337<>\"\"),\"\")","v":""}]
["DIM-0139","Micromètre d'extérieur à vis","0 / 25 mm",null,null,"Afficher",null,null,null,null,null,null,null,{"$f":"IF('Choix de l''instrument '!$C$3=\"Longueur\",AND('Choix de l''instrument '!$D$3>=Longueur!G338,G338<>\"\"),\"\")","v":""}]
["DIM-0142","Micromètre d'extérieur à vis","0 / 25 mm",null,null,"Afficher",null,null,null,null,null,null,null,{"$f":"IF('Choix de l''instrument '!$C$3=\"Longueur\",AND('Choix de l''instrument '!$D$3>=Longueur!G339,G339<>\"\"),\"\")","v":""}]
["EC.097","Micromètre d'extérieur à vis","0 / 25 mm",null,null,"Afficher",null,null,null,null,null,null,null,{"$f":"IF('Choix de l''instrument '!$C$3=\"Longueur\",AND('Choix de l''instrument '!$D$3>=Longueur!G340,G340<>\"\"),\"\")","v":""}]
["ED.111","Micromètre d'extérieur à vis","0 / 25 mm",null,null,"Afficher",null,null,null,null,null,null,null,{"$f":"IF('Choix de l''instrument '!$C$3=\"Longueur\",AND('Choix de l''instrument '!$D$3>=Longueur!G341,G341<>\"\"),\"\")","v":""}]
["ED.100","Micromètre d'extérieur à vis","0 / 25 mm",null,null,"Afficher",null,null,null,null,null,null,null,{"$f":"IF('Choix de l''instrument '!$C$3=\"Longueur\",AND('Choix de l''instrument '!$D$3>=Longueur!G342,G342<>\"\"),\"\")","v":""}]
["ED.097","Micromètre d'extérieur à vis","0 / 25",null,null,"Afficher",null,null,null,null,null,null,null,{"$f":"IF('Choix de l''instrument '!$C$3=\"Longueur\",AND('Choix de l''instrument '!$D$3>=Longueur!G343,G343<>\"\"),\"\")","v":""}]
["ED.110","Micromètre d'extérieur à vis","0 / 25 mm",null,null,"Afficher",null,null,null,null,null,null,null,{"$f":"IF('Choix de l''instrument '!$C$3=\"Longueur\",AND('Choix de l''instrument '!$D$3>=Longueur!G344,G344<>\"\"),\"\")","v":""}]
["ED.104","Micromètre d'extérieur à vis","0 / 25 mm",null,null,"Afficher",null,null,null,null,null,null,null,{"$f":"IF('Choix de l''instrument '!$C$3=\"Longueur\",AND('Choix de l''instrument '!$D$3>=Longueur!G345,G345<>\"\"),\"\")","v":""}]
["ED.153","Micromètre d'extérieur à vis","0 / 25 mm",null,null,"Afficher",null,null,null,null,null,null,null,{"$f":"IF('Choix de l''instrument '!$C$3=\"Longueur\",AND('Choix de l''instrument '!$D$3>=Longueur!G346,G346<>\"\"),\"\")","v":""}]
["ED.150","Micromètre d'extérieur à vis","0 / 30 mm",null,null,"Afficher",null,null,null,null,null,null,null,{"$f":"IF('Choix de l''instrument '!$C$3=\"Longueur\",AND('Choix de l''instrument '!$D$3>=Longueur!G347,G347<>\"\"),\"\")","v":""}]
["ED.128","Micromètre d'extérieur à vis","0 / 25 mm",null,null,"Afficher",null,null,null,null,null,null,null,{"$f":"IF('Choix de l''instrument '!$C$3=\"Longueur\",AND('Choix de l''instrument '!$D$3>=Longueur!G348,G348<>\"\"),\"\")","v":""}]
["ED.126","Micromètre d'extérieur à vis","0 / 25 mm",null,null,"Afficher",null,null,null,null,null,null,null,{"$f":"IF('Choix de l''instrument '!$C$3=\"Longueur\",AND('Choix de l''instrument '!$D$3>=Longueur!G349,G349<>\"\"),\"\")","v":""}]
["ED.148","Micromètre d'extérieur à vis","0 / 25 mm",null,null,"Afficher",null,null,null,null,null,null,null,{"$f":"IF('Choix de l''instrument '!$C$3=\"Longueur\",AND('Choix de l''instrument '!$D$3>=Longueur!G350,G350<>\"\"),\"\")","v":""}]
["EC.108","Micromètre d'extérieur à vis","0 / 25 mm",null,null,"Afficher",null,null,null,null,null,null,null,{"$f":"IF('Choix de l''instrument '!$C$3=\"Longueur\",AND('Choix de l''instrument '!$D$3>=Longueur!G351,G351<>\"\"),\"\")","v":""}]
["EC.101","Micromètre d'extérieur à vis","0 / 25 mm",null,null,"Afficher",null,null,null,null,null,null,null,{"$f":"IF('Choix de l''instrument '!$C$3=\"Longueur\",AND('Choix de l''instrument '!$D$3>=Longueur!G352,G352<>\"\"),\"\")","v":""}]
["ED.012","Micromètre d'extérieur à vis","0 / 25 mm",null,null,"Afficher",null,null,null,null,null,null,null,{"$f":"IF('Choix de l''instrument '!$C$3=\"Longueur\",AND('Choix de l''instrument '!$D$3>=Longueur!G353,G353<>\"\"),\"\")","v":""}]
["ED.010","Micromètre d'extérieur à vis","0 / 25 mm",null,null,"Afficher",null,null,null,null,null,null,null,{"$f":"IF('Choix de l''instrument '!$C$3=\"Longueur\",AND('Choix de l''instrument '!$D$3>=Longueur!G354,G354<>\"\"),\"\")","v":""}]
["EC.133","Micromètre d'extérieur à vis","0 / 25 mm",null,null,"Afficher",null,null,null,null,null,null,null,{"$f":"IF('Choix de l''instrument '!$C$3=\"Longueur\",AND('Choix de l''instrument '!$D$3>=Longueur!G355,G355<>\"\"),\"\")","v":""}]
["EN.183","Micromètre d'extérieur à vis","0 / 25 mm",null,null,"Afficher",null,null,null,null,null,null,null,{"$f":"IF('Choix de l''instrument '!$C$3=\"Longueur\",AND('Choix de l''instrument '!$D$3>=Longueur!G356,G356<>\"\"),\"\")","v":""}]
["EN.143","Micromètre d'extérieur à vis","0 / 25 mm",null,null,"Afficher",null,null,null,null,null,null,null,{"$f":"IF('Choix de l''instrument '!$C$3=\"Longueur\",AND('Choix de l''instrument '!$D$3>=Longueur!G357,G357<>\"\"),\"\")","v":""}]
["EN.147","Micromètre d'extérieur à vis","0 / 25 mm",null,null,"Afficher",null,null,null,null,null,null,null,{"$f":"IF('Choix de l''instrument '!$C$3=\"Longueur\",AND('Choix de l''instrument '!$D$3>=Longueur!G358,G358<>\"\"),\"\")","v":""}]
["EN.145","Micromètre d'extérieur à vis","0 / 25 mm",null,null,"Afficher",null,null,null,null,null,null,null,{"$f":"IF('Choix de l''instrument '!$C$3=\"Longueur\",AND('Choix de l''instrument '!$D$3>=Longueur!G359,G359<>\"\"),\"\")","v":""}]
["EN.144","Micromètre d'extérieur à vis","0 / 25 mm",null,null,"Afficher",null,null,null,null,null,null,null,{"$f":"IF('Choix de l''instrument '!$C$3=\"Longueur\",AND('Choix de l''instrument '!$D$3>=Longueur!G360,G360<>\"\"),\"\")","v":""}]
["EN.122","Micromètre d'extérieur à vis","0 / 25 mm",null,null,"Afficher",null,null,null,null,null,null,null,{"$f":"IF('Choix de l''instrument '!$C$3=\"Longueur\",AND('Choix de l''instrument '!$D$3>=Longueur!G361,G361<>\"\"),\"\")","v":""}]
["EN.119","Micromètre d'extérieur à vis","0 / 25 mm",null,null,"Afficher",null,null,null,null,null,null,null,{"$f":"IF('Choix de l''instrument '!$C$3=\"Longueur\",AND('Choix de l''instrument '!$D$3>=Longueur!G362,G362<>\"\"),\"\")","v":""}]
["EN.125","Micromètre d'extérieur à vis","0 / 25 mm",null,null,"Afficher",null,null,null,null,null,null,null,{"$f":"IF('Choix de l''instrument '!$C$3=\"Longueur\",AND('Choix de l''instrument '!$D$3>=Longueur!G363,G363<>\"\"),\"\")","v":""}]
["EN.123","Micromètre d'extérieur à vis","0 / 25 mm",null,null,"Afficher",null,null,null,null,null,null,null,{"$f":"IF('Choix de l''instrument '!$C$3=\"Longueur\",AND('Choix de l''instrument '!$D$3>=Longueur!G364,G364<>\"\"),\"\")","v":""}]
["EN.151","Micromètre d'extérieur à vis","0 / 25",null,null,"Afficher",null,null,null,null,null,null,null,{"$f":"IF('Choix de l''instrument '!$C$3=\"Longueur\",AND('Choix de l''instrument '!$D$3>=Longueur!G365,G365<>\"\"),\"\")","v":""}]
["EN.167","Micromètre d'extérieur à vis","0 / 25 mm",null,null,"Afficher",null,null,null,null,null,null,null,{"$f":"IF('Choix de l''instrument '!$C$3=\"Longueur\",AND('Choix de l''instrument '!$D$3>=Longueur!G366,G366<>\"\"),\"\")","v":""}]
["EN.176","Micromètre d'extérieur à vis","0 / 25 mm",null,null,"Afficher",null,null,null,null,null,null,null,{"$f":"IF('Choix de l''instrument '!$C$3=\"Longueur\",AND('Choix de l''instrument '!$D$3>=Longueur!G367,G367<>\"\"),\"\")","v":""}]
["EN.175","Micromètre d'extérieur à vis","0 / 25 mm",null,null,"Afficher",null,null,null,null,null,null,null,{"$f":"IF('Choix de l''instrument '!$C$3=\"Longueur\",AND('Choix de l''instrument '!$D$3>=Longueur!G368,G368<>\"\"),\"\")","v":""}]
["EN.164","Micromètre d'extérieur à vis","0 / 25 mm",null,null,"Afficher",null,null,null,null,null,null,null,{"$f":"IF('Choix de l''instrument '!$C$3=\"Longueur\",AND('Choix de l''instrument '!$D$3>=Longueur!G369,G369<>\"\"),\"\")","v":""}]
["EN.153","Micromètre d'extérieur à vis","0 / 25 mm",null,null,"Afficher",null,null,null,null,null,null,null,{"$f":"IF('Choix de l''instrument '!$C$3=\"Longueur\",AND('Choix de l''instrument '!$D$3>=Longueur!G370,G370<>\"\"),\"\")","v":""}]
["EN.152","Micromètre d'extérieur à vis","0 / 25 mm",null,null,"Afficher",null,null,null,null,null,null,null,{"$f":"IF('Choix de l''instrument '!$C$3=\"Longueur\",AND('Choix de l''instrument '!$D$3>=Longueur!G371,G371<>\"\"),\"\")","v":""}]
["EN.157","Micromètre d'extérieur à vis","0 / 25 mm",null,null,"Afficher",null,null,null,null,null,null,null,{"$f":"IF('Choix de l''instrument '!$C$3=\"Longueur\",AND('Choix de l''instrument '!$D$3>=Longueur!G372,G372<>\"\"),\"\")","v":""}]
["EN.156","Micromètre d'extérieur à vis","0 / 25 mm",null,null,"Afficher",null,null,null,null,null,null,null,{"$f":"IF('Choix de l''instrument '!$C$3=\"Longueur\",AND('Choix de l''instrument '!$D$3>=Longueur!G373,G373<>\"\"),\"\")","v":""}]
["CF.441","Micromètre d'extérieur à vis","0 / 25 mm",null,null,"Afficher",null,null,null,null,null,null,null,{"$f":"IF('Choix de l''instrument '!$C$3=\"Longueur\",AND('Choix de l''instrument '!$D$3>=Longueur!G374,G374<>\"\"),\"\")","v":""}]
["CP.006","Micromètre d'extérieur à vis","25 / 50 mm",null,null,"Afficher",null,null,null,null,null,null,null,{"$f":"IF('Choix de l''instrument '!$C$3=\"Longueur\",AND('Choix de l''instrument '!$D$3>=Longueur!G375,G375<>\"\"),\"\")","v":""}]
["DIM-0054","Micromètre d'extérieur à vis","0 / 25 mm",null,null,"Afficher",null,null,null,null,null,null,null,{"$f":"IF('Choix de l''instrument '!$C$3=\"Longueur\",AND('Choix de l''instrument '!$D$3>=Longueur!G376,G376<>\"\"),\"\")","v":""}]
["DIM-0047","Micromètre d'extérieur à vis","0 / 25 mm",null,null,"Afficher",null,null,null,null,null,null,null,{"$f":"IF('Choix de l''instrument '!$C$3=\"Longueur\",AND('Choix de l''instrument '!$D$3>=Longueur!G377,G377<>\"\"),\"\")","v":""}]
["DIM-0045","Micromètre d'extérieur à vis","0 / 25 mm",null,null,"Afficher",null,null,null,null,null,null,null,{"$f":"IF('Choix de l''instrument '!$C$3=\"Longueur\",AND('Choix de l''instrument '!$D$3>=Longueur!G378,G378<>\"\"),\"\")","v":""}]
["DIM-0055","Micromètre d'extérieur à vis","0 / 25 mm",null,null,"Afficher",null,null,null,null,null,null,null,{"$f":"IF('Choix de l''instrument '!$C$3=\"Longueur\",AND('Choix de l''instrument '!$D$3>=Longueur!G379,G379<>\"\"),\"\")","v":""}]
["DIM-0058","Micromètre d'extérieur à vis","0 / 25 mm",null,null,"Afficher",null,null,null,null,null,null,null,{"$f":"IF('Choix de l''instrument '!$C$3=\"Longueur\",AND('Choix de l''instrument '!$D$3>=Longueur!G380,G380<>\"\"),\"\")","v":""}]
["DIM-0057","Micromètre d'extérieur à vis","0 / 25 mm",null,null,"Afficher",null,null,null,null,null,null,null,{"$f":"IF('Choix de l''instrument '!$C$3=\"Longueur\",AND('Choix de l''instrument '!$D$3>=Longueur!G381,G381<>\"\"),\"\")","v":""}]
["DIM-0056","Micromètre d'extérieur à vis","0 / 25 mm",null,null,"Afficher",null,null,null,null,null,null,null,{"$f":"IF('Choix de l''instrument '!$C$3=\"Longueur\",AND('Choix de l''instrument '!$D$3>=Longueur!G382,G382<>\"\"),\"\")","v":""}]
["DIM-0059","Micromètre d'extérieur à vis","0 / 25 mm",null,null,"Afficher",null,null,null,null,null,null,null,{"$f":"IF('Choix de l''instrument '!$C$3=\"Longueur\",AND('Choix de l''instrument '!$D$3>=Longueur!G383,G383<>\"\"),\"\")","v":""}]
["DIM-0020","Micromètre d'extérieur à vis","0 / 25 mm",null,null,"Afficher",null,null,null,null,null,null,null,{"$f":"IF('Choix de l''instrument '!$C$3=\"Longueur\",AND('Choix de l''instrument '!$D$3>=Longueur!G384,G384<>\"\"),\"\")","v":""}]
["DIM-0016","Micromètre d'extérieur à vis","0 / 25 mm",null,null,"Afficher",null,null,null,null,null,null,null,{"$f":"IF('Choix de l''instrument '!$C$3=\"Longueur\",AND('Choix de l''instrument '!$D$3>=Longueur!G385,G385<>\"\"),\"\")","v":""}]
["DIM-0014","Micromètre d'extérieur à vis","0 / 25 mm",null,null,"Afficher",null,null,null,null,null,null,null,{"$f":"IF('Choix de l''instrument '!$C$3=\"Longueur\",AND('Choix de l''instrument '!$D$3>=Longueur!G386,G386<>\"\"),\"\")","v":""}]
["DIM-0019","Micromètre d'extérieur à vis","0 / 25 mm",null,null,"Afficher",null,null,null,null,null,null,null,{"$f":"IF('Choix de l''instrument '!$C$3=\"Longueur\",AND('Choix de l''instrument '!$D$3>=Longueur!G387,G387<>\"\"),\"\")","v":""}]
["DIM-0018","Micromètre d'extérieur à vis","0 / 25 mm",null,null,"Afficher",null,null,null,null,null,null,null,{"$f":"IF('Choix de l''instrument '!$C$3=\"Longueur\",AND('Choix de l''instrument '!$D$3>=Longueur!G388,G388<>\"\"),\"\")","v":""}]
["DIM-0038","Micromètre d'extérieur à vis","0 / 25 mm",null,null,"Afficher",null,null,null,null,null,null,null,{"$f":"IF('Choix de l''instrument '!$C$3=\"Longueur\",AND('Choix de l''instrument '!$D$3>=Longueur!G389,G389<>\"\"),\"\")","v":""}]
["DIM-0037","Micromètre d'extérieur à vis","0 / 25 mm",null,null,"Afficher",null,null,null,null,null,null,null,{"$f":"IF('Choix de l''instrument '!$C$3=\"Longueur\",AND('Choix de l''instrument '!$D$3>=Longueur!G390,G390<>\"\"),\"\")","v":""}]
["DIM-0036","Micromètre d'extérieur à vis","0 / 25 mm",null,null,"Afficher",null,null,null,null,null,null,null,{"$f":"IF('Choix de l''instrument '!$C$3=\"Longueur\",AND('Choix de l''instrument '!$D$3>=Longueur!G391,G391<>\"\"),\"\")","v":""}]
["DIM-0041","Micromètre d'extérieur à vis","0 / 25 mm",null,null,"Afficher",null,null,null,null,null,null,null,{"$f":"IF('Choix de l''instrument '!$C$3=\"Longueur\",AND('Choix de l''instrument '!$D$3>=Longueur!G392,G392<>\"\"),\"\")","v":""}]
["DIM-0039","Micromètre d'extérieur à vis","0 / 25 mm",null,null,"Afficher",null,null,null,null,null,null,null,{"$f":"IF('Choix de l''instrument '!$C$3=\"Longueur\",AND('Choix de l''instrument '!$D$3>=Longueur!G393,G393<>\"\"),\"\")","v":""}]
["DIM-0035","Micromètre d'extérieur à vis","0 / 25 mm",null,null,"Afficher",null,null,null,null,null,null,null,{"$f":"IF('Choix de l''instrument '!$C$3=\"Longueur\",AND('Choix de l''instrument '!$D$3>=Longueur!G394,G394<>\"\"),\"\")","v":""}]
["DIM-0034","Micromètre d'extérieur à vis","0 / 25 mm",null,null,"Afficher",null,null,null,null,null,null,null,{"$f":"IF('Choix de l''instrument '!$C$3=\"Longueur\",AND('Choix de l''instrument '!$D$3>=Longueur!G395,G395<>\"\"),\"\")","v":""}]
["DIM-0033","Micromètre d'extérieur à vis","0 / 25 mm",null,null,"Afficher",null,null,null,null,null,null,null,{"$f":"IF('Choix de l''instrument '!$C$3=\"Longueur\",AND('Choix de l''instrument '!$D$3>=Longueur!G396,G396<>\"\"),\"\")","v":""}]
["DIM-0069","Micromètre d'extérieur à vis","0 / 25 mm",null,null,"Afficher",null,null,null,null,null,null,null,{"$f":"IF('Choix de l''instrument '!$C$3=\"Longueur\",AND('Choix de l''instrument '!$D$3>=Longueur!G397,G397<>\"\"),\"\")","v":""}]
["DIM-0107","Micromètre d'extérieur à vis","0 / 25 mm",null,null,"Afficher",null,null,null,null,null,null,null,{"$f":"IF('Choix de l''instrument '!$C$3=\"Longueur\",AND('Choix de l''instrument '!$D$3>=Longueur!G398,G398<>\"\"),\"\")","v":""}]
["DIM-0120","Micromètre d'extérieur à vis","25 / 50 mm",null,null,"Afficher",null,null,null,null,null,null,null,{"$f":"IF('Choix de l''instrument '!$C$3=\"Longueur\",AND('Choix de l''instrument '!$D$3>=Longueur!G399,G399<>\"\"),\"\")","v":""}]
["DIM-0119","Micromètre d'extérieur à vis","25 / 50 mm",null,null,"Afficher",null,null,null,null,null,null,null,{"$f":"IF('Choix de l''instrument '!$C$3=\"Longueur\",AND('Choix de l''instrument '!$D$3>=Longueur!G400,G400<>\"\"),\"\")","v":""}]
["DIM-0124","Micromètre d'extérieur à vis","0 / 25 mm",null,null,"Afficher",null,null,null,null,null,null,null,{"$f":"IF('Choix de l''instrument '!$C$3=\"Longueur\",AND('Choix de l''instrument '!$D$3>=Longueur!G401,G401<>\"\"),\"\")","v":""}]
["DIM-0123","Micromètre d'extérieur à vis","0 / 25 mm",null,null,"Afficher",null,null,null,null,null,null,null,{"$f":"IF('Choix de l''instrument '!$C$3=\"Longueur\",AND('Choix de l''instrument '!$D$3>=Longueur!G402,G402<>\"\"),\"\")","v":""}]
["DIM-0122","Micromètre d'extérieur à vis","0 / 25 mm",null,null,"Afficher",null,null,null,null,null,null,null,{"$f":"IF('Choix de l''instrument '!$C$3=\"Longueur\",AND('Choix de l''instrument '!$D$3>=Longueur!G403,G403<>\"\"),\"\")","v":""}]
["DIM-0071","Micromètre d'extérieur à vis","0 / 25 mm",null,null,"Afficher",null,null,null,null,null,null,null,{"$f":"IF('Choix de l''instrument '!$C$3=\"Longueur\",AND('Choix de l''instrument '!$D$3>=Longueur!G404,G404<>\"\"),\"\")","v":""}]
["DIM-0070","Micromètre d'extérieur à vis","0 / 25 mm",null,null,"Afficher",null,null,null,null,null,null,null,{"$f":"IF('Choix de l''instrument '!$C$3=\"Longueur\",AND('Choix de l''instrument '!$D$3>=Longueur!G405,G405<>\"\"),\"\")","v":""}]
["DIM-0093","Micromètre d'extérieur à vis","0 / 25 mm 1µ",null,null,"Afficher",null,null,null,null,null,null,null,{"$f":"IF('Choix de l''instrument '!$C$3=\"Longueur\",AND('Choix de l''instrument '!$D$3>=Longueur!G406,G406<>\"\"),\"\")","v":""}]
["DIM-0092","Micromètre d'extérieur à vis","0 / 25 mm 1µ",null,null,"Afficher",null,null,null,null,null,null,null,{"$f":"IF('Choix de l''instrument '!$C$3=\"Longueur\",AND('Choix de l''instrument '!$D$3>=Longueur!G407,G407<>\"\"),\"\")","v":""}]
["DIM-0091","Micromètre d'extérieur à vis","0 / 25 mm 1µ",null,null,"Afficher",null,null,null,null,null,null,null,{"$f":"IF('Choix de l''instrument '!$C$3=\"Longueur\",AND('Choix de l''instrument '!$D$3>=Longueur!G408,G408<>\"\"),\"\")","v":""}]
["DIM-0090","Micromètre d'extérieur à vis","0 / 25 mm 1µ",null,null,"Afficher",null,null,null,null,null,null,null,{"$f":"IF('Choix de l''instrument '!$C$3=\"Longueur\",AND('Choix de l''instrument '!$D$3>=Longueur!G409,G409<>\"\"),\"\")","v":""}]
["DIM-0086","Micromètre d'extérieur à vis","0 / 25 mm 1µ",null,null,"Afficher",null,null,null,null,null,null,null,{"$f":"IF('Choix de l''instrument '!$C$3=\"Longueur\",AND('Choix de l''instrument '!$D$3>=Longueur!G410,G410<>\"\"),\"\")","v":""}]
["DIM-0085","Micromètre d'extérieur à vis","0 / 25 mm 1µ",null,null,"Afficher",null,null,null,null,null,null,null,{"$f":"IF('Choix de l''instrument '!$C$3=\"Longueur\",AND('Choix de l''instrument '!$D$3>=Longueur!G411,G411<>\"\"),\"\")","v":""}]
["DIM-0089","Micromètre d'extérieur à vis","0 / 25 mm 1µ",null,null,"Afficher",null,null,null,null,null,null,null,{"$f":"IF('Choix de l''instrument '!$C$3=\"Longueur\",AND('Choix de l''instrument '!$D$3>=Longueur!G412,G412<>\"\"),\"\")","v":""}]
["DIM-0088","Micromètre d'extérieur à vis","0 / 25 mm 1µ",null,null,"Afficher",null,null,null,null,null,null,null,{"$f":"IF('Choix de l''instrument '!$C$3=\"Longueur\",AND('Choix de l''instrument '!$D$3>=Longueur!G413,G413<>\"\"),\"\")","v":""}]
["DIM-0087","Micromètre d'extérieur à vis","0 / 25 mm 1µ",null,null,"Afficher",null,null,null,null,null,null,null,{"$f":"IF('Choix de l''instrument '!$C$3=\"Longueur\",AND('Choix de l''instrument '!$D$3>=Longueur!G414,G414<>\"\"),\"\")","v":""}]
["CP.037","Micromètre d'extérieur à vis","0 / 25 mm",null,null,"Afficher",null,null,null,null,null,null,null,{"$f":"IF('Choix de l''instrument '!$C$3=\"Longueur\",AND('Choix de l''instrument '!$D$3>=Longueur!G415,G415<>\"\"),\"\")","v":""}]
["CP.009","Micromètre d'extérieur à vis","0 / 25 mm",null,null,"Afficher",null,null,null,null,null,null,null,{"$f":"IF('Choix de l''instrument '!$C$3=\"Longueur\",AND('Choix de l''instrument '!$D$3>=Longueur!G416,G416<>\"\"),\"\")","v":""}]
["CP.018","Micromètre d'extérieur à vis","50 / 75 mm",null,null,"Afficher",null,null,null,null,null,null,null,{"$f":"IF('Choix de l''instrument '!$C$3=\"Longueur\",AND('Choix de l''instrument '!$D$3>=Longueur!G417,G417<>\"\"),\"\")","v":""}]
["CP.073","Micromètre d'extérieur à vis","0 / 25 mm",null,null,"Afficher",null,null,null,null,null,null,null,{"$f":"IF('Choix de l''instrument '!$C$3=\"Longueur\",AND('Choix de l''instrument '!$D$3>=Longueur!G418,G418<>\"\"),\"\")","v":""}]
["CP.072","Micromètre d'extérieur à vis","0 / 25 mm",null,null,"Afficher",null,null,null,null,null,null,null,{"$f":"IF('Choix de l''instrument '!$C$3=\"Longueur\",AND('Choix de l''instrument '!$D$3>=Longueur!G419,G419<>\"\"),\"\")","v":""}]
["DIM-0007","Micromètre d'extérieur à vis","0 / 25 mm",null,null,"Afficher",null,null,null,null,null,null,null,{"$f":"IF('Choix de l''instrument '!$C$3=\"Longueur\",AND('Choix de l''instrument '!$D$3>=Longueur!G420,G420<>\"\"),\"\")","v":""}]
["DIM-0012","Micromètre d'extérieur à vis","25 / 55 mm",null,null,"Afficher",null,null,null,null,null,null,null,{"$f":"IF('Choix de l''instrument '!$C$3=\"Longueur\",AND('Choix de l''instrument '!$D$3>=Longueur!G421,G421<>\"\"),\"\")","v":""}]
["DIM-0011","Micromètre d'extérieur à vis","25 / 50 mm",null,null,"Afficher",null,null,null,null,null,null,null,{"$f":"IF('Choix de l''instrument '!$C$3=\"Longueur\",AND('Choix de l''instrument '!$D$3>=Longueur!G422,G422<>\"\"),\"\")","v":""}]
["DIM-0006","Micromètre d'extérieur à vis","0 / 25 mm",null,null,"Afficher",null,null,null,null,null,null,null,{"$f":"IF('Choix de l''instrument '!$C$3=\"Longueur\",AND('Choix de l''instrument '!$D$3>=Longueur!G423,G423<>\"\"),\"\")","v":""}]
["DIM-0005","Micromètre d'extérieur à vis","0 / 25 mm",null,null,"Afficher",null,null,null,null,null,null,null,{"$f":"IF('Choix de l''instrument '!$C$3=\"Longueur\",AND('Choix de l''instrument '!$D$3>=Longueur!G424,G424<>\"\"),\"\")","v":""}]
["DIM-0003","Micromètre d'extérieur à vis","± 25 / 50 mm",null,null,"Afficher",null,null,null,null,null,null,null,{"$f":"IF('Choix de l''instrument '!$C$3=\"Longueur\",AND('Choix de l''instrument '!$D$3>=Longueur!G425,G425<>\"\"),\"\")","v":""}]
["CAT.084","Machine à mesurer par vision",null,null,null,"Afficher",null,null,null,null,null,null,null,{"$f":"IF('Choix de l''instrument '!$C$3=\"Longueur\",AND('Choix de l''instrument '!$D$3>=Longueur!G426,G426<>\"\"),\"\")","v":""}]
["CF.375","Machine à mesurer par vision",null,null,null,"Afficher",null,null,null,null,null,null,null,{"$f":"IF('Choix de l''instrument '!$C$3=\"Longueur\",AND('Choix de l''instrument '!$D$3>=Longueur!G427,G427<>\"\"),\"\")","v":""}]
["CF.280","Machine à mesurer sans contact",null,null,null,"Afficher",null,null,null,null,null,null,null,{"$f":"IF('Choix de l''instrument '!$C$3=\"Longueur\",AND('Choix de l''instrument '!$D$3>=Longueur!G428,G428<>\"\"),\"\")","v":""}]
["DIM-0145","Régle digitale","0 / 150 mm",null,null,"Afficher",null,null,null,null,null,null,null,{"$f":"IF('Choix de l''instrument '!$C$3=\"Longueur\",AND('Choix de l''instrument '!$D$3>=Longueur!G429,G429<>\"\"),\"\")","v":""}]
["DIM-0072","Reglet","3000 mm",null,null,"Afficher",null,null,null,null,null,null,null,{"$f":"IF('Choix de l''instrument '!$C$3=\"Longueur\",AND('Choix de l''instrument '!$D$3>=Longueur!G430,G430<>\"\"),\"\")","v":""}]
["DIM-0074","Reglet","3000 mm",null,null,"Afficher",null,null,null,null,null,null,null,{"$f":"IF('Choix de l''instrument '!$C$3=\"Longueur\",AND('Choix de l''instrument '!$D$3>=Longueur!G431,G431<>\"\"),\"\")","v":""}]
["DIM-0073","Reglet","3000 mm",null,null,"Afficher",null,null,null,null,null,null,null,{"$f":"IF('Choix de l''instrument '!$C$3=\"Longueur\",AND('Choix de l''instrument '!$D$3>=Longueur!G432,G432<>\"\"),\"\")","v":""}]
["DIM-0008","Réglet","0 / 3000 mm",null,null,"Afficher",null,null,null,null,null,null,null,{"$f":"IF('Choix de l''instrument '!$C$3=\"Longueur\",AND('Choix de l''instrument '!$D$3>=Longueur!G433,G433<>\"\"),\"\")","v":""}]
["M.246","Trusquin","0 / 300 mm",null,null,"Afficher",null,null,null,null,null,null,null,{"$f":"IF('Choix de l''instrument '!$C$3=\"Longueur\",AND('Choix de l''instrument '!$D$3>=Longueur!G434,G434<>\"\"),\"\")","v":""}]
["M.048","Trusquin","0 / 250 mm",null,null,"Afficher",null,null,null,null,null,null,null,{"$f":"IF('Choix de l''instrument '!$C$3=\"Longueur\",AND('Choix de l''instrument '!$D$3>=Longueur!G435,G435<>\"\"),\"\")","v":""}]
["DIM-0121","Trusquin","0 / 200 mm",null,null,"Afficher",null,null,null,null,null,null,null,{"$f":"IF('Choix de l''instrument '!$C$3=\"Longueur\",AND('Choix de l''instrument '!$D$3>=Longueur!G436,G436<>\"\"),\"\")","v":""}]
["DIM-0133","Banc de mesure","0/4000 mm",null,null,"Afficher",null,null,null,null,null,null,null,{"$f":"IF('Choix de l''instrument '!$C$3=\"Longueur\",AND('Choix de l''instrument '!$D$3>=Longueur!G437,G437<>\"\"),\"\")","v":""}]
["BMIC-001","Butée micrométrique","0 / 25 mm",null,null,"Afficher",null,null,null,null,null,null,null,{"$f":"IF('Choix de l''instrument '!$C$3=\"Longueur\",AND('Choix de l''instrument '!$D$3>=Longueur!G438,G438<>\"\"),\"\")","v":""}]

{"sheet":"Lumière","index":34,"n_rows":4,"n_cols":14,"rows_kept":4,"cut":false,"hidden":false,"merged":[]}
["Lumière"]
[null,null,null,null,null,null,"résolution g",null,null,null,null,null,null,"Résultat critère IT"]
["CHI-0003","Mesureur de Brillance",null,null,null,"Afficher",null,null,null,null,null,null,null,{"$f":"IF('Choix de l''instrument '!$C$3=\"Lumière\",AND('Choix de l''instrument '!$D$3>=Lumière!G3,G3<>\"\"),\"\")","v":""}]
["SQ.086","Luxmètre",null,null,null,"Afficher",null,null,null,null,null,null,null,{"$f":"IF('Choix de l''instrument '!$C$3=\"Lumière\",AND('Choix de l''instrument '!$D$3>=Lumière!G4,G4<>\"\"),\"\")","v":""}]

{"sheet":"Pesage","index":35,"n_rows":76,"n_cols":16,"rows_kept":76,"cut":false,"hidden":false,"merged":[]}
["PESAGE"]
[null,null,null,null,null,null,"résolution g","Incertitude g","Justesse g","IT mini détectable g","Capacité mini g","Capacité Maxi g",null,"Résultat critère IT"]
["MAS-0025","Balance",null,null,null,"Afficher",null,null,null,null,null,null,null,{"$f":"IF('Choix de l''instrument '!$C$3=\"Pesage\",AND('Choix de l''instrument '!$D$3>=Pesage!G3,G3<>\"\"),\"\")","v":""}]
["MAS-0030","Balance","20 / 30000 g",null,null,"Afficher",null,null,null,null,null,null,null,{"$f":"IF('Choix de l''instrument '!$C$3=\"Pesage\",AND('Choix de l''instrument '!$D$3>=Pesage!G4,G4<>\"\"),\"\")","v":""},"=NBVAL(A:A)","=NB.SI(N3:N100;Vrai)"]
["MAS-0029","Balance","5 / 24100 g",null,null,"Afficher",null,null,null,null,null,null,null,{"$f":"IF('Choix de l''instrument '!$C$3=\"Pesage\",AND('Choix de l''instrument '!$D$3>=Pesage!G5,G5<>\"\"),\"\")","v":""}]
["MAS-0028","Balance","5 / 24100 g",null,null,"Afficher",null,null,null,null,null,null,null,{"$f":"IF('Choix de l''instrument '!$C$3=\"Pesage\",AND('Choix de l''instrument '!$D$3>=Pesage!G6,G6<>\"\"),\"\")","v":""}]
["MAS-0020","Balance",null,null,null,"Afficher",null,null,null,null,null,null,null,{"$f":"IF('Choix de l''instrument '!$C$3=\"Pesage\",AND('Choix de l''instrument '!$D$3>=Pesage!G7,G7<>\"\"),\"\")","v":""}]
["MAS-0019","Balance",null,null,null,"Afficher",null,null,null,null,null,null,null,{"$f":"IF('Choix de l''instrument '!$C$3=\"Pesage\",AND('Choix de l''instrument '!$D$3>=Pesage!G8,G8<>\"\"),\"\")","v":""}]
["MAS-0023","Balance","24 KG",null,null,"Afficher",null,null,null,null,null,null,null,{"$f":"IF('Choix de l''instrument '!$C$3=\"Pesage\",AND('Choix de l''instrument '!$D$3>=Pesage!G9,G9<>\"\"),\"\")","v":""}]
["MAS-0021","Balance","20 g/ 30000 g",null,null,"Afficher",null,null,null,null,null,null,null,{"$f":"IF('Choix de l''instrument '!$C$3=\"Pesage\",AND('Choix de l''instrument '!$D$3>=Pesage!G10,G10<>\"\"),\"\")","v":""}]
["MAS-0040 /D","Balance","10 / 30000 g",null,null,"Afficher",null,null,null,null,null,null,null,{"$f":"IF('Choix de l''instrument '!$C$3=\"Pesage\",AND('Choix de l''instrument '!$D$3>=Pesage!G11,G11<>\"\"),\"\")","v":""}]
["MAS-0040","Balance","10 / 30000 g",null,null,"Afficher",null,null,null,null,null,null,null,{"$f":"IF('Choix de l''instrument '!$C$3=\"Pesage\",AND('Choix de l''instrument '!$D$3>=Pesage!G12,G12<>\"\"),\"\")","v":""}]
["MAS-0039","Balance","0,01 / 120 g",null,null,"Afficher",null,null,null,null,null,null,null,{"$f":"IF('Choix de l''instrument '!$C$3=\"Pesage\",AND('Choix de l''instrument '!$D$3>=Pesage!G13,G13<>\"\"),\"\")","v":""}]
["MAS-0041","Balance","10 / 30000 g",null,null,"Afficher",null,null,null,null,null,null,null,{"$f":"IF('Choix de l''instrument '!$C$3=\"Pesage\",AND('Choix de l''instrument '!$D$3>=Pesage!G14,G14<>\"\"),\"\")","v":""}]
["MAS-0038","Balance","50 / 34100 g",null,null,"Afficher",null,null,null,null,null,null,null,{"$f":"IF('Choix de l''instrument '!$C$3=\"Pesage\",AND('Choix de l''instrument '!$D$3>=Pesage!G15,G15<>\"\"),\"\")","v":""}]
["MAS-0037","Balance","0,02 / 620 g",null,null,"Afficher",null,null,null,null,null,null,null,{"$f":"IF('Choix de l''instrument '!$C$3=\"Pesage\",AND('Choix de l''instrument '!$D$3>=Pesage!G16,G16<>\"\"),\"\")","v":""}]
["MAS-0001","Balance","0 / 300 kg",null,null,"Afficher",null,null,null,null,null,null,null,{"$f":"IF('Choix de l''instrument '!$C$3=\"Pesage\",AND('Choix de l''instrument '!$D$3>=Pesage!G17,G17<>\"\"),\"\")","v":""}]
["MAS-0002","Balance",null,null,null,"Afficher",null,null,null,null,null,null,null,{"$f":"IF('Choix de l''instrument '!$C$3=\"Pesage\",AND('Choix de l''instrument '!$D$3>=Pesage!G18,G18<>\"\"),\"\")","v":""}]
["MAS-0008","Balance","0,2 / 60 kg",null,null,"Afficher",null,null,null,null,null,null,null,{"$f":"IF('Choix de l''instrument '!$C$3=\"Pesage\",AND('Choix de l''instrument '!$D$3>=Pesage!G19,G19<>\"\"),\"\")","v":""}]
["MAS-0007","Balance","10 / 30000 g",null,null,"Afficher",null,null,null,null,null,null,null,{"$f":"IF('Choix de l''instrument '!$C$3=\"Pesage\",AND('Choix de l''instrument '!$D$3>=Pesage!G20,G20<>\"\"),\"\")","v":""}]
["MAS-0009","Balance","0,1 / 1000 g",null,null,"Afficher",null,null,null,null,null,null,null,{"$f":"IF('Choix de l''instrument '!$C$3=\"Pesage\",AND('Choix de l''instrument '!$D$3>=Pesage!G21,G21<>\"\"),\"\")","v":""}]
["B.065","Balance","100 / 31000 mg",null,null,"Afficher",null,null,null,null,null,null,null,{"$f":"IF('Choix de l''instrument '!$C$3=\"Pesage\",AND('Choix de l''instrument '!$D$3>=Pesage!G22,G22<>\"\"),\"\")","v":""}]
["B.064","Balance","50 / 34100 g",null,null,"Afficher",null,null,null,null,null,null,null,{"$f":"IF('Choix de l''instrument '!$C$3=\"Pesage\",AND('Choix de l''instrument '!$D$3>=Pesage!G23,G23<>\"\"),\"\")","v":""}]
["B.063","Balance","50 / 62000 g",null,null,"Afficher",null,null,null,null,null,null,null,{"$f":"IF('Choix de l''instrument '!$C$3=\"Pesage\",AND('Choix de l''instrument '!$D$3>=Pesage!G24,G24<>\"\"),\"\")","v":""}]
["B.068","Balance","10 / 2000 g",null,null,"Afficher",null,null,null,null,null,null,null,{"$f":"IF('Choix de l''instrument '!$C$3=\"Pesage\",AND('Choix de l''instrument '!$D$3>=Pesage!G25,G25<>\"\"),\"\")","v":""}]
["B.067","Balance","500 / 210000 mg",null,null,"Afficher",null,null,null,null,null,null,null,{"$f":"IF('Choix de l''instrument '!$C$3=\"Pesage\",AND('Choix de l''instrument '!$D$3>=Pesage!G26,G26<>\"\"),\"\")","v":""}]
["B.066","Balance","10 / 620 g",null,null,"Afficher",null,null,null,null,null,null,null,{"$f":"IF('Choix de l''instrument '!$C$3=\"Pesage\",AND('Choix de l''instrument '!$D$3>=Pesage!G27,G27<>\"\"),\"\")","v":""}]
["B.062","Balance","1 / 22000 g",null,null,"Afficher",null,null,null,null,null,null,null,{"$f":"IF('Choix de l''instrument '!$C$3=\"Pesage\",AND('Choix de l''instrument '!$D$3>=Pesage!G28,G28<>\"\"),\"\")","v":""}]
["B.059","Balance","22000 / 10 g",null,null,"Afficher",null,null,null,null,null,null,null,{"$f":"IF('Choix de l''instrument '!$C$3=\"Pesage\",AND('Choix de l''instrument '!$D$3>=Pesage!G29,G29<>\"\"),\"\")","v":""}]
["B.058","Balance","10000 / 600000 mg",null,null,"Afficher",null,null,null,null,null,null,null,{"$f":"IF('Choix de l''instrument '!$C$3=\"Pesage\",AND('Choix de l''instrument '!$D$3>=Pesage!G30,G30<>\"\"),\"\")","v":""}]
["B.057","Balance","0,5 / 2100 g",null,null,"Afficher",null,null,null,null,null,null,null,{"$f":"IF('Choix de l''instrument '!$C$3=\"Pesage\",AND('Choix de l''instrument '!$D$3>=Pesage!G31,G31<>\"\"),\"\")","v":""}]
["B.061","Balance","0,01 / 210 g",null,null,"Afficher",null,null,null,null,null,null,null,{"$f":"IF('Choix de l''instrument '!$C$3=\"Pesage\",AND('Choix de l''instrument '!$D$3>=Pesage!G32,G32<>\"\"),\"\")","v":""}]
["B.060","Balance","2 / 300 kg",null,null,"Afficher",null,null,null,null,null,null,null,{"$f":"IF('Choix de l''instrument '!$C$3=\"Pesage\",AND('Choix de l''instrument '!$D$3>=Pesage!G33,G33<>\"\"),\"\")","v":""}]
["B.069","Balance","1000 / 60000 g",null,null,"Afficher",null,null,null,null,null,null,null,{"$f":"IF('Choix de l''instrument '!$C$3=\"Pesage\",AND('Choix de l''instrument '!$D$3>=Pesage!G34,G34<>\"\"),\"\")","v":""}]
["BAL 001","Balance","0 / 220 g",null,null,"Afficher",null,null,null,null,null,null,null,{"$f":"IF('Choix de l''instrument '!$C$3=\"Pesage\",AND('Choix de l''instrument '!$D$3>=Pesage!G35,G35<>\"\"),\"\")","v":""}]
["B.079","Balance","1 / 150 kg",null,null,"Afficher",null,null,null,null,null,null,null,{"$f":"IF('Choix de l''instrument '!$C$3=\"Pesage\",AND('Choix de l''instrument '!$D$3>=Pesage!G36,G36<>\"\"),\"\")","v":""}]
["BAL-003","Balance",null,null,null,"Afficher",null,null,null,null,null,null,null,{"$f":"IF('Choix de l''instrument '!$C$3=\"Pesage\",AND('Choix de l''instrument '!$D$3>=Pesage!G37,G37<>\"\"),\"\")","v":""}]
["BAL-002","Balance","100 / 30000 g",null,null,"Afficher",null,null,null,null,null,null,null,{"$f":"IF('Choix de l''instrument '!$C$3=\"Pesage\",AND('Choix de l''instrument '!$D$3>=Pesage!G38,G38<>\"\"),\"\")","v":""}]
["BAL-001","Balance","0 / 300 kg",null,null,"Afficher",null,null,null,null,null,null,null,{"$f":"IF('Choix de l''instrument '!$C$3=\"Pesage\",AND('Choix de l''instrument '!$D$3>=Pesage!G39,G39<>\"\"),\"\")","v":""}]
["B.077","Balance","1 / 34100 g",null,null,"Afficher",null,null,null,null,null,null,null,{"$f":"IF('Choix de l''instrument '!$C$3=\"Pesage\",AND('Choix de l''instrument '!$D$3>=Pesage!G40,G40<>\"\"),\"\")","v":""}]
["B.072","Balance","1 / 30 kg",null,null,"Afficher",null,null,null,null,null,null,null,{"$f":"IF('Choix de l''instrument '!$C$3=\"Pesage\",AND('Choix de l''instrument '!$D$3>=Pesage!G41,G41<>\"\"),\"\")","v":""}]
["B.071","Balance","1 / 6200 g",null,null,"Afficher",null,null,null,null,null,null,null,{"$f":"IF('Choix de l''instrument '!$C$3=\"Pesage\",AND('Choix de l''instrument '!$D$3>=Pesage!G42,G42<>\"\"),\"\")","v":""}]
["B.070","Balance","0 / 2100 g",null,null,"Afficher",null,null,null,null,null,null,null,{"$f":"IF('Choix de l''instrument '!$C$3=\"Pesage\",AND('Choix de l''instrument '!$D$3>=Pesage!G43,G43<>\"\"),\"\")","v":""}]
["B.076","Balance","200 / 60000 g",null,null,"Afficher",null,null,null,null,null,null,null,{"$f":"IF('Choix de l''instrument '!$C$3=\"Pesage\",AND('Choix de l''instrument '!$D$3>=Pesage!G44,G44<>\"\"),\"\")","v":""}]
["B.075","Balance","250 / 1250 kg",null,null,"Afficher",null,null,null,null,null,null,null,{"$f":"IF('Choix de l''instrument '!$C$3=\"Pesage\",AND('Choix de l''instrument '!$D$3>=Pesage!G45,G45<>\"\"),\"\")","v":""}]
["B.074","Balance","25 / 1250 kg",null,null,"Afficher",null,null,null,null,null,null,null,{"$f":"IF('Choix de l''instrument '!$C$3=\"Pesage\",AND('Choix de l''instrument '!$D$3>=Pesage!G46,G46<>\"\"),\"\")","v":""}]
["B.020","Balance","1000 / 125000 mg",null,null,"Afficher",null,null,null,null,null,null,null,{"$f":"IF('Choix de l''instrument '!$C$3=\"Pesage\",AND('Choix de l''instrument '!$D$3>=Pesage!G47,G47<>\"\"),\"\")","v":""}]
["B.018","Balance","1 / 100 kg",null,null,"Afficher",null,null,null,null,null,null,null,{"$f":"IF('Choix de l''instrument '!$C$3=\"Pesage\",AND('Choix de l''instrument '!$D$3>=Pesage!G48,G48<>\"\"),\"\")","v":""}]
["B.016","Balance","10 / 30000 g",null,null,"Afficher",null,null,null,null,null,null,null,{"$f":"IF('Choix de l''instrument '!$C$3=\"Pesage\",AND('Choix de l''instrument '!$D$3>=Pesage!G49,G49<>\"\"),\"\")","v":""}]
["B.024","Balance","0,001 / 24 kg",null,null,"Afficher",null,null,null,null,null,null,null,{"$f":"IF('Choix de l''instrument '!$C$3=\"Pesage\",AND('Choix de l''instrument '!$D$3>=Pesage!G50,G50<>\"\"),\"\")","v":""}]
["B.023","Balance","1 / 120 g",null,null,"Afficher",null,null,null,null,null,null,null,{"$f":"IF('Choix de l''instrument '!$C$3=\"Pesage\",AND('Choix de l''instrument '!$D$3>=Pesage!G51,G51<>\"\"),\"\")","v":""}]
["B.010","Balance","500 / 30000 g",null,null,"Afficher",null,null,null,null,null,null,null,{"$f":"IF('Choix de l''instrument '!$C$3=\"Pesage\",AND('Choix de l''instrument '!$D$3>=Pesage!G52,G52<>\"\"),\"\")","v":""}]
["B.006","Balance","50 / 31000 g",null,null,"Afficher",null,null,null,null,null,null,null,{"$f":"IF('Choix de l''instrument '!$C$3=\"Pesage\",AND('Choix de l''instrument '!$D$3>=Pesage!G53,G53<>\"\"),\"\")","v":""}]
["B.005","Balance","500 / 310000 mg",null,null,"Afficher",null,null,null,null,null,null,null,{"$f":"IF('Choix de l''instrument '!$C$3=\"Pesage\",AND('Choix de l''instrument '!$D$3>=Pesage!G54,G54<>\"\"),\"\")","v":""}]
["B.001","Balance","1000 / 410000 mg",null,null,"Afficher",null,null,null,null,null,null,null,{"$f":"IF('Choix de l''instrument '!$C$3=\"Pesage\",AND('Choix de l''instrument '!$D$3>=Pesage!G55,G55<>\"\"),\"\")","v":""}]
["B.025","Balance","1 / 600 kg",null,null,"Afficher",null,null,null,null,null,null,null,{"$f":"IF('Choix de l''instrument '!$C$3=\"Pesage\",AND('Choix de l''instrument '!$D$3>=Pesage!G56,G56<>\"\"),\"\")","v":""}]
["B.050","Balance","1 / 22000 g",null,null,"Afficher",null,null,null,null,null,null,null,{"$f":"IF('Choix de l''instrument '!$C$3=\"Pesage\",AND('Choix de l''instrument '!$D$3>=Pesage!G57,G57<>\"\"),\"\")","v":""}]
["B.049","Balance","1 / 810 g",null,null,"Afficher",null,null,null,null,null,null,null,{"$f":"IF('Choix de l''instrument '!$C$3=\"Pesage\",AND('Choix de l''instrument '!$D$3>=Pesage!G58,G58<>\"\"),\"\")","v":""}]
["B.047","Balance","10 / 610 g",null,null,"Afficher",null,null,null,null,null,null,null,{"$f":"IF('Choix de l''instrument '!$C$3=\"Pesage\",AND('Choix de l''instrument '!$D$3>=Pesage!G59,G59<>\"\"),\"\")","v":""}]
["B.055","Balance","1 / 610 g",null,null,"Afficher",null,null,null,null,null,null,null,{"$f":"IF('Choix de l''instrument '!$C$3=\"Pesage\",AND('Choix de l''instrument '!$D$3>=Pesage!G60,G60<>\"\"),\"\")","v":""}]
["B.054","Balance","1 / 610 g",null,null,"Afficher",null,null,null,null,null,null,null,{"$f":"IF('Choix de l''instrument '!$C$3=\"Pesage\",AND('Choix de l''instrument '!$D$3>=Pesage!G61,G61<>\"\"),\"\")","v":""}]
["B.053","Balance","0,02 / 210 g",null,null,"Afficher",null,null,null,null,null,null,null,{"$f":"IF('Choix de l''instrument '!$C$3=\"Pesage\",AND('Choix de l''instrument '!$D$3>=Pesage!G62,G62<>\"\"),\"\")","v":""}]
["B.045","Balance","1 / 22000 g",null,null,"Afficher",null,null,null,null,null,null,null,{"$f":"IF('Choix de l''instrument '!$C$3=\"Pesage\",AND('Choix de l''instrument '!$D$3>=Pesage!G63,G63<>\"\"),\"\")","v":""}]
["B.041","Balance","10 / 22000 g",null,null,"Afficher",null,null,null,null,null,null,null,{"$f":"IF('Choix de l''instrument '!$C$3=\"Pesage\",AND('Choix de l''instrument '!$D$3>=Pesage!G64,G64<>\"\"),\"\")","v":""}]
["B.036","Balance","200 / 35000 g",null,null,"Afficher",null,null,null,null,null,null,null,{"$f":"IF('Choix de l''instrument '!$C$3=\"Pesage\",AND('Choix de l''instrument '!$D$3>=Pesage!G65,G65<>\"\"),\"\")","v":""}]
["B.027","Balance","0,001 / 15 kg",null,null,"Afficher",null,null,null,null,null,null,null,{"$f":"IF('Choix de l''instrument '!$C$3=\"Pesage\",AND('Choix de l''instrument '!$D$3>=Pesage!G66,G66<>\"\"),\"\")","v":""}]
["B.044","Balance","0,01 / 610 g",null,null,"Afficher",null,null,null,null,null,null,null,{"$f":"IF('Choix de l''instrument '!$C$3=\"Pesage\",AND('Choix de l''instrument '!$D$3>=Pesage!G67,G67<>\"\"),\"\")","v":""}]
["B.043","Balance","50 / 22000 g",null,null,"Afficher",null,null,null,null,null,null,null,{"$f":"IF('Choix de l''instrument '!$C$3=\"Pesage\",AND('Choix de l''instrument '!$D$3>=Pesage!G68,G68<>\"\"),\"\")","v":""}]
["B.042","Balance",null,null,null,"Afficher",null,null,null,null,null,null,null,{"$f":"IF('Choix de l''instrument '!$C$3=\"Pesage\",AND('Choix de l''instrument '!$D$3>=Pesage!G69,G69<>\"\"),\"\")","v":""}]
["BAL-004","Balance","0 / 300 kg",null,null,"Afficher",null,null,null,null,null,null,null,{"$f":"IF('Choix de l''instrument '!$C$3=\"Pesage\",AND('Choix de l''instrument '!$D$3>=Pesage!G70,G70<>\"\"),\"\")","v":""}]
["BAL-121","Balance",null,null,null,"Afficher",null,null,null,null,null,null,null,{"$f":"IF('Choix de l''instrument '!$C$3=\"Pesage\",AND('Choix de l''instrument '!$D$3>=Pesage!G71,G71<>\"\"),\"\")","v":""}]
["BAL-005","Balance","0,2 / 30 kg",null,null,"Afficher",null,null,null,null,null,null,null,{"$f":"IF('Choix de l''instrument '!$C$3=\"Pesage\",AND('Choix de l''instrument '!$D$3>=Pesage!G72,G72<>\"\"),\"\")","v":""}]
["CF.482","Balance","20 / 3000 g",null,null,"Afficher",null,null,null,null,null,null,null,{"$f":"IF('Choix de l''instrument '!$C$3=\"Pesage\",AND('Choix de l''instrument '!$D$3>=Pesage!G73,G73<>\"\"),\"\")","v":""}]
["MAS-0024","Balance compteuse","maxi 34100g / min 50 g",null,null,"Afficher",null,null,null,null,null,null,null,{"$f":"IF('Choix de l''instrument '!$C$3=\"Pesage\",AND('Choix de l''instrument '!$D$3>=Pesage!G74,G74<>\"\"),\"\")","v":""}]
["MAS-0027","Peson","0 / 1000 kg",null,null,"Afficher",null,null,null,null,null,null,null,{"$f":"IF('Choix de l''instrument '!$C$3=\"Pesage\",AND('Choix de l''instrument '!$D$3>=Pesage!G75,G75<>\"\"),\"\")","v":""}]
["B.078","Peson","1 / 300 kg",null,null,"Afficher",null,null,null,null,null,null,null,{"$f":"IF('Choix de l''instrument '!$C$3=\"Pesage\",AND('Choix de l''instrument '!$D$3>=Pesage!G76,G76<>\"\"),\"\")","v":""}]

{"sheet":"Physico_chimique","index":36,"n_rows":26,"n_cols":14,"rows_kept":26,"cut":false,"hidden":false,"merged":[]}
["Physico_chimique"]
[null,null,null,null,null,null,"résolution g",null,null,null,null,null,null,"Résultat critère IT"]
["PH-227","pH-mètre",null,null,null,"Afficher",null,null,null,null,null,null,null,{"$f":"IF('Choix de l''instrument '!$C$3=\"Physico_chimique\",AND('Choix de l''instrument '!$D$3>=Physico_chimique!G3,G3<>\"\"),\"\")","v":""}]
["PH-132","pH-mètre",null,null,null,"Afficher",null,null,null,null,null,null,null,{"$f":"IF('Choix de l''instrument '!$C$3=\"Physico_chimique\",AND('Choix de l''instrument '!$D$3>=Physico_chimique!G4,G4<>\"\"),\"\")","v":""}]
["PH-001","pH-mètre",null,null,null,"Afficher",null,null,null,null,null,null,null,{"$f":"IF('Choix de l''instrument '!$C$3=\"Physico_chimique\",AND('Choix de l''instrument '!$D$3>=Physico_chimique!G5,G5<>\"\"),\"\")","v":""}]
["ENV.010","pH-mètre",null,null,null,"Afficher",null,null,null,null,null,null,null,{"$f":"IF('Choix de l''instrument '!$C$3=\"Physico_chimique\",AND('Choix de l''instrument '!$D$3>=Physico_chimique!G6,G6<>\"\"),\"\")","v":""}]
["SPH-239","Solution pH",null,null,null,"Afficher",null,null,null,null,null,null,null,{"$f":"IF('Choix de l''instrument '!$C$3=\"Physico_chimique\",AND('Choix de l''instrument '!$D$3>=Physico_chimique!G7,G7<>\"\"),\"\")","v":""}]
["SPH-238","Solution pH",null,null,null,"Afficher",null,null,null,null,null,null,null,{"$f":"IF('Choix de l''instrument '!$C$3=\"Physico_chimique\",AND('Choix de l''instrument '!$D$3>=Physico_chimique!G8,G8<>\"\"),\"\")","v":""}]
["SDP-226","Sonde de pH",null,null,null,"Afficher",null,null,null,null,null,null,null,{"$f":"IF('Choix de l''instrument '!$C$3=\"Physico_chimique\",AND('Choix de l''instrument '!$D$3>=Physico_chimique!G9,G9<>\"\"),\"\")","v":""}]
["ETA-0297","Etalon de fluorescence",null,null,null,"Afficher",null,null,null,null,null,null,null,{"$f":"IF('Choix de l''instrument '!$C$3=\"Physico_chimique\",AND('Choix de l''instrument '!$D$3>=Physico_chimique!G10,G10<>\"\"),\"\")","v":""}]
["ETA-0298","Etalon de fluorescence",null,null,null,"Afficher",null,null,null,null,null,null,null,{"$f":"IF('Choix de l''instrument '!$C$3=\"Physico_chimique\",AND('Choix de l''instrument '!$D$3>=Physico_chimique!G11,G11<>\"\"),\"\")","v":""}]
["ETA-0504","Etalon de fluorescence",null,null,null,"Afficher",null,null,null,null,null,null,null,{"$f":"IF('Choix de l''instrument '!$C$3=\"Physico_chimique\",AND('Choix de l''instrument '!$D$3>=Physico_chimique!G12,G12<>\"\"),\"\")","v":""}]
["ETA-0418","Etalon de fluorescence",null,null,null,"Afficher",null,null,null,null,null,null,null,{"$f":"IF('Choix de l''instrument '!$C$3=\"Physico_chimique\",AND('Choix de l''instrument '!$D$3>=Physico_chimique!G13,G13<>\"\"),\"\")","v":""}]
["ETA-0420","Etalon de fluorescence","750 RFU",null,null,"Afficher",null,null,null,null,null,null,null,{"$f":"IF('Choix de l''instrument '!$C$3=\"Physico_chimique\",AND('Choix de l''instrument '!$D$3>=Physico_chimique!G14,G14<>\"\"),\"\")","v":""}]
["ETA-0419","Etalon de fluorescence","0 RFU",null,null,"Afficher",null,null,null,null,null,null,null,{"$f":"IF('Choix de l''instrument '!$C$3=\"Physico_chimique\",AND('Choix de l''instrument '!$D$3>=Physico_chimique!G15,G15<>\"\"),\"\")","v":""}]
["CHI-0001","Dyno Testeur",null,null,null,"Afficher",null,null,null,null,null,null,null,{"$f":"IF('Choix de l''instrument '!$C$3=\"Physico_chimique\",AND('Choix de l''instrument '!$D$3>=Physico_chimique!G16,G16<>\"\"),\"\")","v":""}]
["MET-0098","Analyseur portable par fluorescence X","0 / 100 %",null,null,"Afficher",null,null,null,null,null,null,null,{"$f":"IF('Choix de l''instrument '!$C$3=\"Physico_chimique\",AND('Choix de l''instrument '!$D$3>=Physico_chimique!G17,G17<>\"\"),\"\")","v":""}]
["MET-0097","Analyseur portable par fluorescence X","0 / 100 %",null,null,"Afficher",null,null,null,null,null,null,null,{"$f":"IF('Choix de l''instrument '!$C$3=\"Physico_chimique\",AND('Choix de l''instrument '!$D$3>=Physico_chimique!G18,G18<>\"\"),\"\")","v":""}]
["MET-0104","Analyseur portable par fluorescence X","0 / 100 %",null,null,"Afficher",null,null,null,null,null,null,null,{"$f":"IF('Choix de l''instrument '!$C$3=\"Physico_chimique\",AND('Choix de l''instrument '!$D$3>=Physico_chimique!G19,G19<>\"\"),\"\")","v":""}]
["POL-002","Appareil de prépolissage et d'attaque",null,null,null,"Afficher",null,null,null,null,null,null,null,{"$f":"IF('Choix de l''instrument '!$C$3=\"Physico_chimique\",AND('Choix de l''instrument '!$D$3>=Physico_chimique!G20,G20<>\"\"),\"\")","v":""}]
["POL-001","Appareil de prépolissage et d'attaque",null,null,null,"Afficher",null,null,null,null,null,null,null,{"$f":"IF('Choix de l''instrument '!$C$3=\"Physico_chimique\",AND('Choix de l''instrument '!$D$3>=Physico_chimique!G21,G21<>\"\"),\"\")","v":""}]
["ENV.014","Refractomètre",null,null,null,"Afficher",null,null,null,null,null,null,null,{"$f":"IF('Choix de l''instrument '!$C$3=\"Physico_chimique\",AND('Choix de l''instrument '!$D$3>=Physico_chimique!G22,G22<>\"\"),\"\")","v":""}]
["TEM-0230","Pyromètre optique",null,null,null,"Afficher",null,null,null,null,null,null,null,{"$f":"IF('Choix de l''instrument '!$C$3=\"Physico_chimique\",AND('Choix de l''instrument '!$D$3>=Physico_chimique!G23,G23<>\"\"),\"\")","v":""}]
["TEM-0229","Pyromètre optique",null,null,null,"Afficher",null,null,null,null,null,null,null,{"$f":"IF('Choix de l''instrument '!$C$3=\"Physico_chimique\",AND('Choix de l''instrument '!$D$3>=Physico_chimique!G24,G24<>\"\"),\"\")","v":""}]
["SQ.075A","Pyromètre optique",null,null,null,"Afficher",null,null,null,null,null,null,null,{"$f":"IF('Choix de l''instrument '!$C$3=\"Physico_chimique\",AND('Choix de l''instrument '!$D$3>=Physico_chimique!G25,G25<>\"\"),\"\")","v":""}]
["CHI-0002","Mesureur de fluorescence (RFU)",null,null,null,"Afficher",null,null,null,null,null,null,null,{"$f":"IF('Choix de l''instrument '!$C$3=\"Physico_chimique\",AND('Choix de l''instrument '!$D$3>=Physico_chimique!G26,G26<>\"\"),\"\")","v":""}]

{"sheet":"Pression","index":37,"n_rows":22,"n_cols":14,"rows_kept":22,"cut":false,"hidden":false,"merged":[]}
["PRESSION"]
[null,null,null,null,null,null,"résolution g","Incertitude g","Justesse g","IT mini détectable g","Capacité mini g","Capacité Maxi g",null,"Résultat critère IT"]
["PRE-0004","Boîtier indicateur pression",null,null,null,"Afficher",null,null,null,null,null,null,null,{"$f":"IF('Choix de l''instrument '!$C$3=\"Pression\",AND('Choix de l''instrument '!$D$3>=Pression!G3,G3<>\"\"),\"\")","v":""}]
["CDP-001/B","Boîtier indicateur pression",null,null,null,"Afficher",null,null,null,null,null,null,null,{"$f":"IF('Choix de l''instrument '!$C$3=\"Pression\",AND('Choix de l''instrument '!$D$3>=Pression!G4,G4<>\"\"),\"\")","v":""}]
["CDP-002/B","Boîtier indicateur pression",null,null,null,"Afficher",null,null,null,null,null,null,null,{"$f":"IF('Choix de l''instrument '!$C$3=\"Pression\",AND('Choix de l''instrument '!$D$3>=Pression!G5,G5<>\"\"),\"\")","v":""}]
["PRE-0003","Capteur de pression","0 / 400 bar",null,null,"Afficher",null,null,null,null,null,null,null,{"$f":"IF('Choix de l''instrument '!$C$3=\"Pression\",AND('Choix de l''instrument '!$D$3>=Pression!G6,G6<>\"\"),\"\")","v":""}]
["CDP-002","Capteur de pression","0 / 400 bar",null,null,"Afficher",null,null,null,null,null,null,null,{"$f":"IF('Choix de l''instrument '!$C$3=\"Pression\",AND('Choix de l''instrument '!$D$3>=Pression!G7,G7<>\"\"),\"\")","v":""}]
["CDP-001","Capteur de pression","0 / 400 bar",null,null,"Afficher",null,null,null,null,null,null,null,{"$f":"IF('Choix de l''instrument '!$C$3=\"Pression\",AND('Choix de l''instrument '!$D$3>=Pression!G8,G8<>\"\"),\"\")","v":""}]
["CDP-006","Capteur de pression","0 / 60 bar",null,null,"Afficher",null,null,null,null,null,null,null,{"$f":"IF('Choix de l''instrument '!$C$3=\"Pression\",AND('Choix de l''instrument '!$D$3>=Pression!G9,G9<>\"\"),\"\")","v":""}]
["ELE-0013","Capteur de pression","0 / 400 bar",null,null,"Afficher",null,null,null,null,null,null,null,{"$f":"IF('Choix de l''instrument '!$C$3=\"Pression\",AND('Choix de l''instrument '!$D$3>=Pression!G10,G10<>\"\"),\"\")","v":""}]
["MAN-007","Manomètre","0 / 10 bar",null,null,"Afficher",null,null,null,null,null,null,null,{"$f":"IF('Choix de l''instrument '!$C$3=\"Pression\",AND('Choix de l''instrument '!$D$3>=Pression!G11,G11<>\"\"),\"\")","v":""}]
["MAN-006","Manomètre","0 / 400 bar",null,null,"Afficher",null,null,null,null,null,null,null,{"$f":"IF('Choix de l''instrument '!$C$3=\"Pression\",AND('Choix de l''instrument '!$D$3>=Pression!G12,G12<>\"\"),\"\")","v":""}]
["MAN-005","Manomètre","0 / 60 bar",null,null,"Afficher",null,null,null,null,null,null,null,{"$f":"IF('Choix de l''instrument '!$C$3=\"Pression\",AND('Choix de l''instrument '!$D$3>=Pression!G13,G13<>\"\"),\"\")","v":""}]
["MAN-001","Manomètre","0 / 10 bar",null,null,"Afficher",null,null,null,null,null,null,null,{"$f":"IF('Choix de l''instrument '!$C$3=\"Pression\",AND('Choix de l''instrument '!$D$3>=Pression!G14,G14<>\"\"),\"\")","v":""}]
["MAN-004","Manomètre","0 / 10 bar",null,null,"Afficher",null,null,null,null,null,null,null,{"$f":"IF('Choix de l''instrument '!$C$3=\"Pression\",AND('Choix de l''instrument '!$D$3>=Pression!G15,G15<>\"\"),\"\")","v":""}]
["MAN-003","Manomètre","0 / 60 bar",null,null,"Afficher",null,null,null,null,null,null,null,{"$f":"IF('Choix de l''instrument '!$C$3=\"Pression\",AND('Choix de l''instrument '!$D$3>=Pression!G16,G16<>\"\"),\"\")","v":""}]
["MAN-002","Manomètre","0 / 10 bar",null,null,"Afficher",null,null,null,null,null,null,null,{"$f":"IF('Choix de l''instrument '!$C$3=\"Pression\",AND('Choix de l''instrument '!$D$3>=Pression!G17,G17<>\"\"),\"\")","v":""}]
["MET-0091","Manomètre","0 - 400 bar",null,null,"Afficher",null,null,null,null,null,null,null,{"$f":"IF('Choix de l''instrument '!$C$3=\"Pression\",AND('Choix de l''instrument '!$D$3>=Pression!G18,G18<>\"\"),\"\")","v":""}]
["PRE-0006","Manomètre","0 / 10 bar",null,null,"Afficher",null,null,null,null,null,null,null,{"$f":"IF('Choix de l''instrument '!$C$3=\"Pression\",AND('Choix de l''instrument '!$D$3>=Pression!G19,G19<>\"\"),\"\")","v":""}]
["PRE-0005","Manomètre","0 / 10 bar",null,null,"Afficher",null,null,null,null,null,null,null,{"$f":"IF('Choix de l''instrument '!$C$3=\"Pression\",AND('Choix de l''instrument '!$D$3>=Pression!G20,G20<>\"\"),\"\")","v":""}]
["CE.245A","Manomètre",null,null,null,"Afficher",null,null,null,null,null,null,null,{"$f":"IF('Choix de l''instrument '!$C$3=\"Pression\",AND('Choix de l''instrument '!$D$3>=Pression!G21,G21<>\"\"),\"\")","v":""}]
["PRES-001","Système de contrôle de pression pneumatique",null,null,null,"Afficher",null,null,null,null,null,null,null,{"$f":"IF('Choix de l''instrument '!$C$3=\"Pression\",AND('Choix de l''instrument '!$D$3>=Pression!G22,G22<>\"\"),\"\")","v":""}]

{"sheet":"Propreté_surface","index":38,"n_rows":11,"n_cols":16,"rows_kept":11,"cut":false,"hidden":false,"merged":[]}
["Propreté_surface"]
[null,null,null,null,null,null,"résolution g","Incertitude g","Justesse g","IT mini détectable g","Capacité mini g","Capacité Maxi g",null,"Résultat critère IT"]
["ETA-0297","Etalon de fluorescence",null,null,null,"Afficher",null,null,null,null,null,null,null,{"$f":"IF('Choix de l''instrument '!$C$3=\"Propreté_surface\",AND('Choix de l''instrument '!$D$3>=Propreté_surface!G3,G3<>\"\"),\"\")","v":""}]
["ETA-0298","Etalon de fluorescence",null,null,null,"Afficher",null,null,null,null,null,null,null,{"$f":"IF('Choix de l''instrument '!$C$3=\"Propreté_surface\",AND('Choix de l''instrument '!$D$3>=Propreté_surface!G4,G4<>\"\"),\"\")","v":""},"=NBVAL(A:A)","=NB.SI(N3:N100;Vrai)"]
["ETA-0504","Etalon de fluorescence",null,null,null,"Afficher",null,null,null,null,null,null,null,{"$f":"IF('Choix de l''instrument '!$C$3=\"Propreté_surface\",AND('Choix de l''instrument '!$D$3>=Propreté_surface!G5,G5<>\"\"),\"\")","v":""}]
["ETA-0418","Etalon de fluorescence",null,null,null,"Afficher",null,null,null,null,null,null,null,{"$f":"IF('Choix de l''instrument '!$C$3=\"Propreté_surface\",AND('Choix de l''instrument '!$D$3>=Propreté_surface!G6,G6<>\"\"),\"\")","v":""}]
["ETA-0420","Etalon de fluorescence","750 RFU",null,null,"Afficher",null,null,null,null,null,null,null,{"$f":"IF('Choix de l''instrument '!$C$3=\"Propreté_surface\",AND('Choix de l''instrument '!$D$3>=Propreté_surface!G7,G7<>\"\"),\"\")","v":""}]
["ETA-0419","Etalon de fluorescence","0 RFU",null,null,"Afficher",null,null,null,null,null,null,null,{"$f":"IF('Choix de l''instrument '!$C$3=\"Propreté_surface\",AND('Choix de l''instrument '!$D$3>=Propreté_surface!G8,G8<>\"\"),\"\")","v":""}]
["MET-0098","Analyseur portable par fluorescence X","0 / 100 %",null,null,"Afficher",null,null,null,null,null,null,null,{"$f":"IF('Choix de l''instrument '!$C$3=\"Propreté_surface\",AND('Choix de l''instrument '!$D$3>=Propreté_surface!G9,G9<>\"\"),\"\")","v":""}]
["MET-0097","Analyseur portable par fluorescence X","0 / 100 %",null,null,"Afficher",null,null,null,null,null,null,null,{"$f":"IF('Choix de l''instrument '!$C$3=\"Propreté_surface\",AND('Choix de l''instrument '!$D$3>=Propreté_surface!G10,G10<>\"\"),\"\")","v":""}]
["MET-0104","Analyseur portable par fluorescence X","0 / 100 %",null,null,"Afficher",null,null,null,null,null,null,null,{"$f":"IF('Choix de l''instrument '!$C$3=\"Propreté_surface\",AND('Choix de l''instrument '!$D$3>=Propreté_surface!G11,G11<>\"\"),\"\")","v":""}]

{"sheet":"Puissance","index":39,"n_rows":3,"n_cols":14,"rows_kept":3,"cut":false,"hidden":false,"merged":[]}
["Puissance"]
[null,null,null,null,null,null,"résolution g",null,null,null,null,null,null,"Résultat critère IT"]
["WAT-084","Wattmètre",null,null,null,"Afficher",null,null,null,null,null,null,null,{"$f":"IF('Choix de l''instrument '!$C$3=\"Puissance\",AND('Choix de l''instrument '!$D$3>=Puissance!G3,G3<>\"\"),\"\")","v":""}]

{"sheet":"Rectitude","index":40,"n_rows":30,"n_cols":14,"rows_kept":30,"cut":false,"hidden":false,"merged":[]}
["Rectitude"]
[null,null,null,null,null,null,"résolution g",null,null,null,null,null,null,"Résultat critère IT"]
["SQ.090A","Règle de rectitude",150,null,null,"Afficher",null,null,null,null,null,null,null,{"$f":"IF('Choix de l''instrument '!$C$3=\"Rectitude\",AND('Choix de l''instrument '!$D$3>=Rectitude!G3,G3<>\"\"),\"\")","v":""}]
["SQ.090","Règle de rectitude","1500 mm",null,null,"Afficher",null,null,null,null,null,null,null,{"$f":"IF('Choix de l''instrument '!$C$3=\"Rectitude\",AND('Choix de l''instrument '!$D$3>=Rectitude!G4,G4<>\"\"),\"\")","v":""}]
["REG-129","Règle de rectitude","1200 mm",null,null,"Afficher",null,null,null,null,null,null,null,{"$f":"IF('Choix de l''instrument '!$C$3=\"Rectitude\",AND('Choix de l''instrument '!$D$3>=Rectitude!G5,G5<>\"\"),\"\")","v":""}]
["REG-020","Règle de rectitude","800 mm",null,null,"Afficher",null,null,null,null,null,null,null,{"$f":"IF('Choix de l''instrument '!$C$3=\"Rectitude\",AND('Choix de l''instrument '!$D$3>=Rectitude!G6,G6<>\"\"),\"\")","v":""}]
["CE.265","Règle de rectitude","3 m",null,null,"Afficher",null,null,null,null,null,null,null,{"$f":"IF('Choix de l''instrument '!$C$3=\"Rectitude\",AND('Choix de l''instrument '!$D$3>=Rectitude!G7,G7<>\"\"),\"\")","v":""}]
["CE.184","Règle de rectitude","2 m",null,null,"Afficher",null,null,null,null,null,null,null,{"$f":"IF('Choix de l''instrument '!$C$3=\"Rectitude\",AND('Choix de l''instrument '!$D$3>=Rectitude!G8,G8<>\"\"),\"\")","v":""}]
["CE.003","Table de rectitude",null,null,null,"Afficher",null,null,null,null,null,null,null,{"$f":"IF('Choix de l''instrument '!$C$3=\"Rectitude\",AND('Choix de l''instrument '!$D$3>=Rectitude!G9,G9<>\"\"),\"\")","v":""}]
["CE.202","Table de rectitude",null,null,null,"Afficher",null,null,null,null,null,null,null,{"$f":"IF('Choix de l''instrument '!$C$3=\"Rectitude\",AND('Choix de l''instrument '!$D$3>=Rectitude!G10,G10<>\"\"),\"\")","v":""}]
["CE.201","Table de rectitude",null,null,null,"Afficher",null,null,null,null,null,null,null,{"$f":"IF('Choix de l''instrument '!$C$3=\"Rectitude\",AND('Choix de l''instrument '!$D$3>=Rectitude!G11,G11<>\"\"),\"\")","v":""}]
["CE.203","Table de rectitude",null,null,null,"Afficher",null,null,null,null,null,null,null,{"$f":"IF('Choix de l''instrument '!$C$3=\"Rectitude\",AND('Choix de l''instrument '!$D$3>=Rectitude!G12,G12<>\"\"),\"\")","v":""}]
["CE.190","Table de rectitude",null,null,null,"Afficher",null,null,null,null,null,null,null,{"$f":"IF('Choix de l''instrument '!$C$3=\"Rectitude\",AND('Choix de l''instrument '!$D$3>=Rectitude!G13,G13<>\"\"),\"\")","v":""}]
["ED.093","Table de rectitude",null,null,null,"Afficher",null,null,null,null,null,null,null,{"$f":"IF('Choix de l''instrument '!$C$3=\"Rectitude\",AND('Choix de l''instrument '!$D$3>=Rectitude!G14,G14<>\"\"),\"\")","v":""}]
["CF.461","Table de rectitude","0 / 3 m",null,null,"Afficher",null,null,null,null,null,null,null,{"$f":"IF('Choix de l''instrument '!$C$3=\"Rectitude\",AND('Choix de l''instrument '!$D$3>=Rectitude!G15,G15<>\"\"),\"\")","v":""}]
["M.068","Jauge d'épaisseur",null,null,null,"Afficher",null,null,null,null,null,null,null,{"$f":"IF('Choix de l''instrument '!$C$3=\"Rectitude\",AND('Choix de l''instrument '!$D$3>=Rectitude!G16,G16<>\"\"),\"\")","v":""}]
["M.065B","Jauge d'épaisseur","0,04 / 1 mm",null,null,"Afficher",null,null,null,null,null,null,null,{"$f":"IF('Choix de l''instrument '!$C$3=\"Rectitude\",AND('Choix de l''instrument '!$D$3>=Rectitude!G17,G17<>\"\"),\"\")","v":""}]
["M.065","Jauge d'épaisseur","0,05 / 1 mm",null,null,"Afficher",null,null,null,null,null,null,null,{"$f":"IF('Choix de l''instrument '!$C$3=\"Rectitude\",AND('Choix de l''instrument '!$D$3>=Rectitude!G18,G18<>\"\"),\"\")","v":""}]
["SQ.068","Jauge d'épaisseur","0,04 / 1 mm",null,null,"Afficher",null,null,null,null,null,null,null,{"$f":"IF('Choix de l''instrument '!$C$3=\"Rectitude\",AND('Choix de l''instrument '!$D$3>=Rectitude!G19,G19<>\"\"),\"\")","v":""}]
["JP-001","Jauge plate à faces parallèles",null,null,null,"Afficher",null,null,null,null,null,null,null,{"$f":"IF('Choix de l''instrument '!$C$3=\"Rectitude\",AND('Choix de l''instrument '!$D$3>=Rectitude!G20,G20<>\"\"),\"\")","v":""}]
["JP-004","Jauge plate à faces parallèles",null,null,null,"Afficher",null,null,null,null,null,null,null,{"$f":"IF('Choix de l''instrument '!$C$3=\"Rectitude\",AND('Choix de l''instrument '!$D$3>=Rectitude!G21,G21<>\"\"),\"\")","v":""}]
["JP-003","Jauge plate à faces parallèles",null,null,null,"Afficher",null,null,null,null,null,null,null,{"$f":"IF('Choix de l''instrument '!$C$3=\"Rectitude\",AND('Choix de l''instrument '!$D$3>=Rectitude!G22,G22<>\"\"),\"\")","v":""}]
["JP-002","Jauge plate à faces parallèles",null,null,null,"Afficher",null,null,null,null,null,null,null,{"$f":"IF('Choix de l''instrument '!$C$3=\"Rectitude\",AND('Choix de l''instrument '!$D$3>=Rectitude!G23,G23<>\"\"),\"\")","v":""}]
["JP-005","Jauge plate à faces parallèles",null,null,null,"Afficher",null,null,null,null,null,null,null,{"$f":"IF('Choix de l''instrument '!$C$3=\"Rectitude\",AND('Choix de l''instrument '!$D$3>=Rectitude!G24,G24<>\"\"),\"\")","v":""}]
["JP-010","Jauge plate à faces parallèles",null,null,null,"Afficher",null,null,null,null,null,null,null,{"$f":"IF('Choix de l''instrument '!$C$3=\"Rectitude\",AND('Choix de l''instrument '!$D$3>=Rectitude!G25,G25<>\"\"),\"\")","v":""}]
["JP-009","Jauge plate à faces parallèles",null,null,null,"Afficher",null,null,null,null,null,null,null,{"$f":"IF('Choix de l''instrument '!$C$3=\"Rectitude\",AND('Choix de l''instrument '!$D$3>=Rectitude!G26,G26<>\"\"),\"\")","v":""}]
["JP-008","Jauge plate à faces parallèles",null,null,null,"Afficher",null,null,null,null,null,null,null,{"$f":"IF('Choix de l''instrument '!$C$3=\"Rectitude\",AND('Choix de l''instrument '!$D$3>=Rectitude!G27,G27<>\"\"),\"\")","v":""}]
["CF.094","Jauge plate à faces parallèles","0,10/100",null,null,"Afficher",null,null,null,null,null,null,null,{"$f":"IF('Choix de l''instrument '!$C$3=\"Rectitude\",AND('Choix de l''instrument '!$D$3>=Rectitude!G28,G28<>\"\"),\"\")","v":""}]
["CE.254","Jauge plate à faces parallèles",null,null,null,"Afficher",null,null,null,null,null,null,null,{"$f":"IF('Choix de l''instrument '!$C$3=\"Rectitude\",AND('Choix de l''instrument '!$D$3>=Rectitude!G29,G29<>\"\"),\"\")","v":""}]
["CF.479","Table inclinée de rectitude","0 / 500 mm",null,null,"Afficher",null,null,null,null,null,null,null,{"$f":"IF('Choix de l''instrument '!$C$3=\"Rectitude\",AND('Choix de l''instrument '!$D$3>=Rectitude!G30,G30<>\"\"),\"\")","v":""}]

{"sheet":"Résistance_ohm","index":41,"n_rows":26,"n_cols":14,"rows_kept":26,"cut":false,"hidden":false,"merged":[]}
["Résistance_ohm"]
[null,null,null,null,null,null,"résolution g",null,null,null,null,null,null,"Résultat critère IT"]
["ENV.006","Résistivimètre",null,null,null,"Afficher",null,null,null,null,null,null,null,{"$f":"IF('Choix de l''instrument '!$C$3=\"Résistance_ohm\",AND('Choix de l''instrument '!$D$3>=Résistance_ohm!G3,G3<>\"\"),\"\")","v":""}]
["ENV.015","Résistivimètre",null,null,null,"Afficher",null,null,null,null,null,null,null,{"$f":"IF('Choix de l''instrument '!$C$3=\"Résistance_ohm\",AND('Choix de l''instrument '!$D$3>=Résistance_ohm!G4,G4<>\"\"),\"\")","v":""}]
["M.235","Multimètre",null,null,null,"Afficher",null,null,null,null,null,null,null,{"$f":"IF('Choix de l''instrument '!$C$3=\"Résistance_ohm\",AND('Choix de l''instrument '!$D$3>=Résistance_ohm!G5,G5<>\"\"),\"\")","v":""}]
["M.256","Multimètre",null,null,null,"Afficher",null,null,null,null,null,null,null,{"$f":"IF('Choix de l''instrument '!$C$3=\"Résistance_ohm\",AND('Choix de l''instrument '!$D$3>=Résistance_ohm!G6,G6<>\"\"),\"\")","v":""}]
["MUL-006","Multimètre","T5-600",null,null,"Afficher",null,null,null,null,null,null,null,{"$f":"IF('Choix de l''instrument '!$C$3=\"Résistance_ohm\",AND('Choix de l''instrument '!$D$3>=Résistance_ohm!G7,G7<>\"\"),\"\")","v":""}]
["MUL-002","Multimètre","T5-600",null,null,"Afficher",null,null,null,null,null,null,null,{"$f":"IF('Choix de l''instrument '!$C$3=\"Résistance_ohm\",AND('Choix de l''instrument '!$D$3>=Résistance_ohm!G8,G8<>\"\"),\"\")","v":""}]
["MUL-001","Multimètre","FLUKE T5-600",null,null,"Afficher",null,null,null,null,null,null,null,{"$f":"IF('Choix de l''instrument '!$C$3=\"Résistance_ohm\",AND('Choix de l''instrument '!$D$3>=Résistance_ohm!G9,G9<>\"\"),\"\")","v":""}]
["MUL-005","Multimètre","T5 - 1000",null,null,"Afficher",null,null,null,null,null,null,null,{"$f":"IF('Choix de l''instrument '!$C$3=\"Résistance_ohm\",AND('Choix de l''instrument '!$D$3>=Résistance_ohm!G10,G10<>\"\"),\"\")","v":""}]
["MUL-004","Multimètre",null,null,null,"Afficher",null,null,null,null,null,null,null,{"$f":"IF('Choix de l''instrument '!$C$3=\"Résistance_ohm\",AND('Choix de l''instrument '!$D$3>=Résistance_ohm!G11,G11<>\"\"),\"\")","v":""}]
["MUL-003","Multimètre",null,null,null,"Afficher",null,null,null,null,null,null,null,{"$f":"IF('Choix de l''instrument '!$C$3=\"Résistance_ohm\",AND('Choix de l''instrument '!$D$3>=Résistance_ohm!G12,G12<>\"\"),\"\")","v":""}]
["THE.146","Multimètre",null,null,null,"Afficher",null,null,null,null,null,null,null,{"$f":"IF('Choix de l''instrument '!$C$3=\"Résistance_ohm\",AND('Choix de l''instrument '!$D$3>=Résistance_ohm!G13,G13<>\"\"),\"\")","v":""}]
["SQ.129","Multimètre",null,null,null,"Afficher",null,null,null,null,null,null,null,{"$f":"IF('Choix de l''instrument '!$C$3=\"Résistance_ohm\",AND('Choix de l''instrument '!$D$3>=Résistance_ohm!G14,G14<>\"\"),\"\")","v":""}]
["CAT.096","Multimètre",null,null,null,"Afficher",null,null,null,null,null,null,null,{"$f":"IF('Choix de l''instrument '!$C$3=\"Résistance_ohm\",AND('Choix de l''instrument '!$D$3>=Résistance_ohm!G15,G15<>\"\"),\"\")","v":""}]
["CAT.109","Multimètre",null,null,null,"Afficher",null,null,null,null,null,null,null,{"$f":"IF('Choix de l''instrument '!$C$3=\"Résistance_ohm\",AND('Choix de l''instrument '!$D$3>=Résistance_ohm!G16,G16<>\"\"),\"\")","v":""}]
["ELE-0009","Multimètre",null,null,null,"Afficher",null,null,null,null,null,null,null,{"$f":"IF('Choix de l''instrument '!$C$3=\"Résistance_ohm\",AND('Choix de l''instrument '!$D$3>=Résistance_ohm!G17,G17<>\"\"),\"\")","v":""}]
["ELE-0008","Multimètre",null,null,null,"Afficher",null,null,null,null,null,null,null,{"$f":"IF('Choix de l''instrument '!$C$3=\"Résistance_ohm\",AND('Choix de l''instrument '!$D$3>=Résistance_ohm!G18,G18<>\"\"),\"\")","v":""}]
["ELE-0007","Multimètre",null,null,null,"Afficher",null,null,null,null,null,null,null,{"$f":"IF('Choix de l''instrument '!$C$3=\"Résistance_ohm\",AND('Choix de l''instrument '!$D$3>=Résistance_ohm!G19,G19<>\"\"),\"\")","v":""}]
["ELE-0012","Multimètre",null,null,null,"Afficher",null,null,null,null,null,null,null,{"$f":"IF('Choix de l''instrument '!$C$3=\"Résistance_ohm\",AND('Choix de l''instrument '!$D$3>=Résistance_ohm!G20,G20<>\"\"),\"\")","v":""}]
["ELE-0010","Multimètre",null,null,null,"Afficher",null,null,null,null,null,null,null,{"$f":"IF('Choix de l''instrument '!$C$3=\"Résistance_ohm\",AND('Choix de l''instrument '!$D$3>=Résistance_ohm!G21,G21<>\"\"),\"\")","v":""}]
["CF.247","Multimètre","fluke 111",null,null,"Afficher",null,null,null,null,null,null,null,{"$f":"IF('Choix de l''instrument '!$C$3=\"Résistance_ohm\",AND('Choix de l''instrument '!$D$3>=Résistance_ohm!G22,G22<>\"\"),\"\")","v":""}]
["CF.385","Multimètre",null,null,null,"Afficher",null,null,null,null,null,null,null,{"$f":"IF('Choix de l''instrument '!$C$3=\"Résistance_ohm\",AND('Choix de l''instrument '!$D$3>=Résistance_ohm!G23,G23<>\"\"),\"\")","v":""}]
["ELE-0011","Ohmmètre",null,null,null,"Afficher",null,null,null,null,null,null,null,{"$f":"IF('Choix de l''instrument '!$C$3=\"Résistance_ohm\",AND('Choix de l''instrument '!$D$3>=Résistance_ohm!G24,G24<>\"\"),\"\")","v":""}]
["MEG-001","Mégohmmètre",null,null,null,"Afficher",null,null,null,null,null,null,null,{"$f":"IF('Choix de l''instrument '!$C$3=\"Résistance_ohm\",AND('Choix de l''instrument '!$D$3>=Résistance_ohm!G25,G25<>\"\"),\"\")","v":""}]
["CAT.142","Mégohmmètre",null,null,null,"Afficher",null,null,null,null,null,null,null,{"$f":"IF('Choix de l''instrument '!$C$3=\"Résistance_ohm\",AND('Choix de l''instrument '!$D$3>=Résistance_ohm!G26,G26<>\"\"),\"\")","v":""}]

{"sheet":"Rugosité","index":42,"n_rows":8,"n_cols":14,"rows_kept":8,"cut":false,"hidden":false,"merged":[]}
["Rugosité"]
[null,null,null,null,null,null,"résolution g",null,null,null,null,null,null,"Résultat critère IT"]
["THE.010","Rugosimètre",null,null,null,"Afficher",null,null,null,null,null,null,null,{"$f":"IF('Choix de l''instrument '!$C$3=\"Rugosité\",AND('Choix de l''instrument '!$D$3>=Rugosité!G3,G3<>\"\"),\"\")","v":""}]
["CF.395","Rugosimètre",null,null,null,"Afficher",null,null,null,null,null,null,null,{"$f":"IF('Choix de l''instrument '!$C$3=\"Rugosité\",AND('Choix de l''instrument '!$D$3>=Rugosité!G4,G4<>\"\"),\"\")","v":""}]
["CF.267","Rugosimètre",null,null,null,"Afficher",null,null,null,null,null,null,null,{"$f":"IF('Choix de l''instrument '!$C$3=\"Rugosité\",AND('Choix de l''instrument '!$D$3>=Rugosité!G5,G5<>\"\"),\"\")","v":""}]
["DIM-0061","Rugosimètre",null,null,null,"Afficher",null,null,null,null,null,null,null,{"$f":"IF('Choix de l''instrument '!$C$3=\"Rugosité\",AND('Choix de l''instrument '!$D$3>=Rugosité!G6,G6<>\"\"),\"\")","v":""}]
["DIM-0104","Rugosimètre",null,null,null,"Afficher",null,null,null,null,null,null,null,{"$f":"IF('Choix de l''instrument '!$C$3=\"Rugosité\",AND('Choix de l''instrument '!$D$3>=Rugosité!G7,G7<>\"\"),\"\")","v":""}]
["CF.005","Rugotest",null,null,null,"Afficher",null,null,null,null,null,null,null,{"$f":"IF('Choix de l''instrument '!$C$3=\"Rugosité\",AND('Choix de l''instrument '!$D$3>=Rugosité!G8,G8<>\"\"),\"\")","v":""}]

{"sheet":"Son","index":43,"n_rows":4,"n_cols":16,"rows_kept":4,"cut":false,"hidden":false,"merged":[]}
["SON"]
[null,null,null,null,null,null,"résolution g","Incertitude g","Justesse g","IT mini détectable g","Capacité mini g","Capacité Maxi g",null,"Résultat critère IT"]
["M.285","Sonomètre",null,null,null,"Afficher",null,null,null,null,null,null,null,{"$f":"IF('Choix de l''instrument '!$C$3=\"Son\",AND('Choix de l''instrument '!$D$3>=Son!G3,G3<>\"\"),\"\")","v":""}]
[null,null,null,null,null,null,null,null,null,null,null,null,null,null,"=NBVAL(A:A)","=NB.SI(N3:N100;Vrai)"]

{"sheet":"Spectrométrie","index":44,"n_rows":8,"n_cols":14,"rows_kept":8,"cut":false,"hidden":false,"merged":[]}
["Spectrométrie"]
[null,null,null,null,null,null,"résolution g",null,null,null,null,null,null,"Résultat critère IT"]
["MET-0097","Analyseur portable par fluorescence X","Production / 8414 DIV / Contrôle Tubes Divers","0 / 100 %",null,"Afficher",null,null,null,null,null,null,null,{"$f":"IF('Choix de l''instrument '!$C$3=\"Spectrométrie\",AND('Choix de l''instrument '!$D$3>=Spectrométrie!G3,G3<>\"\"),\"\")","v":""}]
["MET-0098","Analyseur portable par fluorescence X","Production / 8414 DIV / Contrôle Tubes Divers","0 / 100 %",null,"Afficher",null,null,null,null,null,null,null,{"$f":"IF('Choix de l''instrument '!$C$3=\"Spectrométrie\",AND('Choix de l''instrument '!$D$3>=Spectrométrie!G4,G4<>\"\"),\"\")","v":""}]
["SQ.094","Générateur de rayons X","Production / 8414DIV / Contrôle tubes divers",null,null,"Afficher",null,null,null,null,null,null,null,{"$f":"IF('Choix de l''instrument '!$C$3=\"Spectrométrie\",AND('Choix de l''instrument '!$D$3>=Spectrométrie!G5,G5<>\"\"),\"\")","v":""}]
["MET-0104","Analyseur portable par fluorescence X","Production / 8414 DIV / Contrôle Tubes Divers","0 / 100 %",null,"Afficher",null,null,null,null,null,null,null,{"$f":"IF('Choix de l''instrument '!$C$3=\"Spectrométrie\",AND('Choix de l''instrument '!$D$3>=Spectrométrie!G6,G6<>\"\"),\"\")","v":""}]
["ENV.012","Spectrophotomètre",null,null,null,"Afficher",null,null,null,null,null,null,null,{"$f":"IF('Choix de l''instrument '!$C$3=\"Spectrométrie\",AND('Choix de l''instrument '!$D$3>=Spectrométrie!G7,G7<>\"\"),\"\")","v":""}]
["ENV.017","Spectrophotomètre",null,null,null,"Afficher",null,null,null,null,null,null,null,{"$f":"IF('Choix de l''instrument '!$C$3=\"Spectrométrie\",AND('Choix de l''instrument '!$D$3>=Spectrométrie!G8,G8<>\"\"),\"\")","v":""}]

{"sheet":"Statique_électricité","index":45,"n_rows":3,"n_cols":14,"rows_kept":3,"cut":false,"hidden":false,"merged":[]}
["Statique_électricité"]
[null,null,null,null,null,null,"résolution g",null,null,null,null,null,null,"Résultat critère IT"]
["CAT.170","Mesureur d'électricité statique",null,null,null,"Afficher",null,null,null,null,null,null,null,{"$f":"IF('Choix de l''instrument '!$C$3=\"Statique_électricité\",AND('Choix de l''instrument '!$D$3>=Statique_électricité!G3,G3<>\"\"),\"\")","v":""}]

{"sheet":"Taraudage","index":46,"n_rows":32,"n_cols":14,"rows_kept":32,"cut":false,"hidden":false,"merged":[]}
["Taraudage"]
[null,null,null,null,null,null,"résolution g",null,null,null,null,null,null,"Résultat critère IT"]
["TF-001","Tampon fileté","TFD M 6 x 0,5 - 6H",null,null,"Afficher",null,null,null,null,null,null,null,{"$f":"IF('Choix de l''instrument '!$C$3=\"Taraudage\",AND('Choix de l''instrument '!$D$3>=Taraudage!G3,G3<>\"\"),\"\")","v":""}]
["TF-195/1","Tampon fileté","TFD UNF 5/16 x 24 - 2B",null,null,"Afficher",null,null,null,null,null,null,null,{"$f":"IF('Choix de l''instrument '!$C$3=\"Taraudage\",AND('Choix de l''instrument '!$D$3>=Taraudage!G4,G4<>\"\"),\"\")","v":""}]
["TF-195","Tampon fileté","TFD UNF 5/16 x 24 - 2B",null,null,"Afficher",null,null,null,null,null,null,null,{"$f":"IF('Choix de l''instrument '!$C$3=\"Taraudage\",AND('Choix de l''instrument '!$D$3>=Taraudage!G5,G5<>\"\"),\"\")","v":""}]
["THE.115","Tampon fileté","TFE M 5 x 0,8 - 6G",null,null,"Afficher",null,null,null,null,null,null,null,{"$f":"IF('Choix de l''instrument '!$C$3=\"Taraudage\",AND('Choix de l''instrument '!$D$3>=Taraudage!G6,G6<>\"\"),\"\")","v":""}]
["THE.120","Tampon fileté","TFNEP M 4 x 0,35 - 6H",null,null,"Afficher",null,null,null,null,null,null,null,{"$f":"IF('Choix de l''instrument '!$C$3=\"Taraudage\",AND('Choix de l''instrument '!$D$3>=Taraudage!G7,G7<>\"\"),\"\")","v":""}]
["THE.088","Tampon fileté","TFNEP M 3 x 0,5 - 6H",null,null,"Afficher",null,null,null,null,null,null,null,{"$f":"IF('Choix de l''instrument '!$C$3=\"Taraudage\",AND('Choix de l''instrument '!$D$3>=Taraudage!G8,G8<>\"\"),\"\")","v":""}]
["THE.087","Tampon fileté","TFE M 3 x 0,5 - 6H",null,null,"Afficher",null,null,null,null,null,null,null,{"$f":"IF('Choix de l''instrument '!$C$3=\"Taraudage\",AND('Choix de l''instrument '!$D$3>=Taraudage!G9,G9<>\"\"),\"\")","v":""}]
["THE.099","Tampon fileté","TFE M 4 x 0,7 - 6H",null,null,"Afficher",null,null,null,null,null,null,null,{"$f":"IF('Choix de l''instrument '!$C$3=\"Taraudage\",AND('Choix de l''instrument '!$D$3>=Taraudage!G10,G10<>\"\"),\"\")","v":""}]
["THE.083","Tampon fileté","TFE M 4 x 0,35 - 6H",null,null,"Afficher",null,null,null,null,null,null,null,{"$f":"IF('Choix de l''instrument '!$C$3=\"Taraudage\",AND('Choix de l''instrument '!$D$3>=Taraudage!G11,G11<>\"\"),\"\")","v":""}]
["THE.073","Tampon fileté","TFE M 2,5 x 0,45 - 6H",null,null,"Afficher",null,null,null,null,null,null,null,{"$f":"IF('Choix de l''instrument '!$C$3=\"Taraudage\",AND('Choix de l''instrument '!$D$3>=Taraudage!G12,G12<>\"\"),\"\")","v":""}]
["CAL-0439","Tampon fileté","TFD 1/4-28UNF-2B",null,null,"Afficher",null,null,null,null,null,null,null,{"$f":"IF('Choix de l''instrument '!$C$3=\"Taraudage\",AND('Choix de l''instrument '!$D$3>=Taraudage!G13,G13<>\"\"),\"\")","v":""}]
["CAL-0086","Tampon fileté","TFD UNF 1/4 x 28 - 2B",null,null,"Afficher",null,null,null,null,null,null,null,{"$f":"IF('Choix de l''instrument '!$C$3=\"Taraudage\",AND('Choix de l''instrument '!$D$3>=Taraudage!G14,G14<>\"\"),\"\")","v":""}]
["CAL-0080","Tampon fileté","TFD / M3-6H x",null,null,"Afficher",null,null,null,null,null,null,null,{"$f":"IF('Choix de l''instrument '!$C$3=\"Taraudage\",AND('Choix de l''instrument '!$D$3>=Taraudage!G15,G15<>\"\"),\"\")","v":""}]
["CAL-0079","Tampon fileté","TFD M6*0,5-6H 0 / 0",null,null,"Afficher",null,null,null,null,null,null,null,{"$f":"IF('Choix de l''instrument '!$C$3=\"Taraudage\",AND('Choix de l''instrument '!$D$3>=Taraudage!G16,G16<>\"\"),\"\")","v":""}]
["CAL-0078","Tampon fileté","TFD 5/16-24 UNF-2B",null,null,"Afficher",null,null,null,null,null,null,null,{"$f":"IF('Choix de l''instrument '!$C$3=\"Taraudage\",AND('Choix de l''instrument '!$D$3>=Taraudage!G17,G17<>\"\"),\"\")","v":""}]
["CAL-0297","Tampon fileté","TFD 1/4-28UNF-2B",null,null,"Afficher",null,null,null,null,null,null,null,{"$f":"IF('Choix de l''instrument '!$C$3=\"Taraudage\",AND('Choix de l''instrument '!$D$3>=Taraudage!G18,G18<>\"\"),\"\")","v":""}]
["CAL-0163","Tampon fileté","TFNEP H M6 X 0,40 x 6",null,null,"Afficher",null,null,null,null,null,null,null,{"$f":"IF('Choix de l''instrument '!$C$3=\"Taraudage\",AND('Choix de l''instrument '!$D$3>=Taraudage!G19,G19<>\"\"),\"\")","v":""}]
["CAL-0162","Tampon fileté","TFE H M6 X 0,40 x 6",null,null,"Afficher",null,null,null,null,null,null,null,{"$f":"IF('Choix de l''instrument '!$C$3=\"Taraudage\",AND('Choix de l''instrument '!$D$3>=Taraudage!G20,G20<>\"\"),\"\")","v":""}]
["CAL-0158","Tampon fileté","TFD 10-32 B2",null,null,"Afficher",null,null,null,null,null,null,null,{"$f":"IF('Choix de l''instrument '!$C$3=\"Taraudage\",AND('Choix de l''instrument '!$D$3>=Taraudage!G21,G21<>\"\"),\"\")","v":""}]
["CAL-0161","Tampon fileté","TFD 5/16-24 B2",null,null,"Afficher",null,null,null,null,null,null,null,{"$f":"IF('Choix de l''instrument '!$C$3=\"Taraudage\",AND('Choix de l''instrument '!$D$3>=Taraudage!G22,G22<>\"\"),\"\")","v":""}]
["CF.452","Tampon fileté","TFD UNF 10 x 32 - 2B",null,null,"Afficher",null,null,null,null,null,null,null,{"$f":"IF('Choix de l''instrument '!$C$3=\"Taraudage\",AND('Choix de l''instrument '!$D$3>=Taraudage!G23,G23<>\"\"),\"\")","v":""}]
["CF.408","Tampon fileté","TFD M 3 x 0,5 - 6H",null,null,"Afficher",null,null,null,null,null,null,null,{"$f":"IF('Choix de l''instrument '!$C$3=\"Taraudage\",AND('Choix de l''instrument '!$D$3>=Taraudage!G24,G24<>\"\"),\"\")","v":""}]
["CF.477","Tampon fileté","TFD UNF 5/16 x 24 - 2B",null,null,"Afficher",null,null,null,null,null,null,null,{"$f":"IF('Choix de l''instrument '!$C$3=\"Taraudage\",AND('Choix de l''instrument '!$D$3>=Taraudage!G25,G25<>\"\"),\"\")","v":""}]
["CF.207","Tampon fileté","TFNEP M 6 x 0,4 - 6H",null,null,"Afficher",null,null,null,null,null,null,null,{"$f":"IF('Choix de l''instrument '!$C$3=\"Taraudage\",AND('Choix de l''instrument '!$D$3>=Taraudage!G26,G26<>\"\"),\"\")","v":""}]
["CF.206","Tampon fileté","TFNEP M 6 x 0,4 - 6H",null,null,"Afficher",null,null,null,null,null,null,null,{"$f":"IF('Choix de l''instrument '!$C$3=\"Taraudage\",AND('Choix de l''instrument '!$D$3>=Taraudage!G27,G27<>\"\"),\"\")","v":""}]
["CF.211","Tampon fileté","TFE M 6 x 0,4 - 6H",null,null,"Afficher",null,null,null,null,null,null,null,{"$f":"IF('Choix de l''instrument '!$C$3=\"Taraudage\",AND('Choix de l''instrument '!$D$3>=Taraudage!G28,G28<>\"\"),\"\")","v":""}]
["CF.205","Tampon fileté","TFE M 6 x 0,4 - 6H",null,null,"Afficher",null,null,null,null,null,null,null,{"$f":"IF('Choix de l''instrument '!$C$3=\"Taraudage\",AND('Choix de l''instrument '!$D$3>=Taraudage!G29,G29<>\"\"),\"\")","v":""}]
["CF.318","Tampon fileté","TFD M10X1-6H",null,null,"Afficher",null,null,null,null,null,null,null,{"$f":"IF('Choix de l''instrument '!$C$3=\"Taraudage\",AND('Choix de l''instrument '!$D$3>=Taraudage!G30,G30<>\"\"),\"\")","v":""}]
["CF.315","Tampon fileté","TFD M 18 x 1 - 6H",null,null,"Afficher",null,null,null,null,null,null,null,{"$f":"IF('Choix de l''instrument '!$C$3=\"Taraudage\",AND('Choix de l''instrument '!$D$3>=Taraudage!G31,G31<>\"\"),\"\")","v":""}]
["CF.327","Tampon fileté","TFD UNF 1/4 x 28 - 2B",null,null,"Afficher",null,null,null,null,null,null,null,{"$f":"IF('Choix de l''instrument '!$C$3=\"Taraudage\",AND('Choix de l''instrument '!$D$3>=Taraudage!G32,G32<>\"\"),\"\")","v":""}]

{"sheet":"Température","index":47,"n_rows":513,"n_cols":14,"rows_kept":513,"cut":false,"hidden":false,"merged":[]}
["Température"]
[null,null,null,null,null,null,"résolution g",null,null,null,null,null,null,"Résultat critère IT"]
["TEM-0221","Thermocouple","1100 / 1175 °C",null,null,"Afficher",null,null,null,null,null,null,null,{"$f":"IF('Choix de l''instrument '!$C$3=\"Température\",AND('Choix de l''instrument '!$D$3>=Température!G3,G3<>\"\"),\"\")","v":""}]
["TEM-0220","Thermocouple","1100 / 1175 °C",null,null,"Afficher",null,null,null,null,null,null,null,{"$f":"IF('Choix de l''instrument '!$C$3=\"Température\",AND('Choix de l''instrument '!$D$3>=Température!G4,G4<>\"\"),\"\")","v":""}]
["TEM-0219","Thermocouple","1100 / 1175 °C",null,null,"Afficher",null,null,null,null,null,null,null,{"$f":"IF('Choix de l''instrument '!$C$3=\"Température\",AND('Choix de l''instrument '!$D$3>=Température!G5,G5<>\"\"),\"\")","v":""}]
["TEM-0224","Thermocouple",null,null,null,"Afficher",null,null,null,null,null,null,null,{"$f":"IF('Choix de l''instrument '!$C$3=\"Température\",AND('Choix de l''instrument '!$D$3>=Température!G6,G6<>\"\"),\"\")","v":""}]
["TEM-0223","Thermocouple",null,null,null,"Afficher",null,null,null,null,null,null,null,{"$f":"IF('Choix de l''instrument '!$C$3=\"Température\",AND('Choix de l''instrument '!$D$3>=Température!G7,G7<>\"\"),\"\")","v":""}]
["TEM-0222","Thermocouple",null,null,null,"Afficher",null,null,null,null,null,null,null,{"$f":"IF('Choix de l''instrument '!$C$3=\"Température\",AND('Choix de l''instrument '!$D$3>=Température!G8,G8<>\"\"),\"\")","v":""}]
["TEM-0218","Thermocouple","1100 / 1175 °C",null,null,"Afficher",null,null,null,null,null,null,null,{"$f":"IF('Choix de l''instrument '!$C$3=\"Température\",AND('Choix de l''instrument '!$D$3>=Température!G9,G9<>\"\"),\"\")","v":""}]
["TEM-0214","Thermocouple","700 / 1150 °C",null,null,"Afficher",null,null,null,null,null,null,null,{"$f":"IF('Choix de l''instrument '!$C$3=\"Température\",AND('Choix de l''instrument '!$D$3>=Température!G10,G10<>\"\"),\"\")","v":""}]
["TEM-0213","Thermocouple","700 / 1150 °C",null,null,"Afficher",null,null,null,null,null,null,null,{"$f":"IF('Choix de l''instrument '!$C$3=\"Température\",AND('Choix de l''instrument '!$D$3>=Température!G11,G11<>\"\"),\"\")","v":""}]
["TEM-0212","Thermocouple","700 / 1150 °C",null,null,"Afficher",null,null,null,null,null,null,null,{"$f":"IF('Choix de l''instrument '!$C$3=\"Température\",AND('Choix de l''instrument '!$D$3>=Température!G12,G12<>\"\"),\"\")","v":""}]
["TEM-0217","Thermocouple","1100 / 1175 °C",null,null,"Afficher",null,null,null,null,null,null,null,{"$f":"IF('Choix de l''instrument '!$C$3=\"Température\",AND('Choix de l''instrument '!$D$3>=Température!G13,G13<>\"\"),\"\")","v":""}]
["TEM-0216","Thermocouple",null,null,null,"Afficher",null,null,null,null,null,null,null,{"$f":"IF('Choix de l''instrument '!$C$3=\"Température\",AND('Choix de l''instrument '!$D$3>=Température!G14,G14<>\"\"),\"\")","v":""}]
["TEM-0215","Thermocouple","1100 / 1175 °C",null,null,"Afficher",null,null,null,null,null,null,null,{"$f":"IF('Choix de l''instrument '!$C$3=\"Température\",AND('Choix de l''instrument '!$D$3>=Température!G15,G15<>\"\"),\"\")","v":""}]
["TEM-0235","Thermocouple","700° C",null,null,"Afficher",null,null,null,null,null,null,null,{"$f":"IF('Choix de l''instrument '!$C$3=\"Température\",AND('Choix de l''instrument '!$D$3>=Température!G16,G16<>\"\"),\"\")","v":""}]
["TEM-0234","Thermocouple","700° C",null,null,"Afficher",null,null,null,null,null,null,null,{"$f":"IF('Choix de l''instrument '!$C$3=\"Température\",AND('Choix de l''instrument '!$D$3>=Température!G17,G17<>\"\"),\"\")","v":""}]
["TEM-0238","Thermocouple","1050 / 1175 °C",null,null,"Afficher",null,null,null,null,null,null,null,{"$f":"IF('Choix de l''instrument '!$C$3=\"Température\",AND('Choix de l''instrument '!$D$3>=Température!G18,G18<>\"\"),\"\")","v":""}]
["TEM-0237","Thermocouple","1050 / 1175 °C",null,null,"Afficher",null,null,null,null,null,null,null,{"$f":"IF('Choix de l''instrument '!$C$3=\"Température\",AND('Choix de l''instrument '!$D$3>=Température!G19,G19<>\"\"),\"\")","v":""}]
["TEM-0194","Thermocouple","950 / 1050 °C",null,null,"Afficher",null,null,null,null,null,null,null,{"$f":"IF('Choix de l''instrument '!$C$3=\"Température\",AND('Choix de l''instrument '!$D$3>=Température!G20,G20<>\"\"),\"\")","v":""}]
["TEM-0193","Thermocouple","950 / 1050 °C",null,null,"Afficher",null,null,null,null,null,null,null,{"$f":"IF('Choix de l''instrument '!$C$3=\"Température\",AND('Choix de l''instrument '!$D$3>=Température!G21,G21<>\"\"),\"\")","v":""}]
["TEM-0192","Thermocouple","950 / 1050 °C",null,null,"Afficher",null,null,null,null,null,null,null,{"$f":"IF('Choix de l''instrument '!$C$3=\"Température\",AND('Choix de l''instrument '!$D$3>=Température!G22,G22<>\"\"),\"\")","v":""}]
["TEM-0197","Thermocouple","700 / 1150 °C",null,null,"Afficher",null,null,null,null,null,null,null,{"$f":"IF('Choix de l''instrument '!$C$3=\"Température\",AND('Choix de l''instrument '!$D$3>=Température!G23,G23<>\"\"),\"\")","v":""}]
["TEM-0196","Thermocouple","700 / 1150 °C",null,null,"Afficher",null,null,null,null,null,null,null,{"$f":"IF('Choix de l''instrument '!$C$3=\"Température\",AND('Choix de l''instrument '!$D$3>=Température!G24,G24<>\"\"),\"\")","v":""}]
["TEM-0195","Thermocouple","700 / 1150 °C",null,null,"Afficher",null,null,null,null,null,null,null,{"$f":"IF('Choix de l''instrument '!$C$3=\"Température\",AND('Choix de l''instrument '!$D$3>=Température!G25,G25<>\"\"),\"\")","v":""}]
["TEM-0191","Thermocouple","950 / 1050 °C",null,null,"Afficher",null,null,null,null,null,null,null,{"$f":"IF('Choix de l''instrument '!$C$3=\"Température\",AND('Choix de l''instrument '!$D$3>=Température!G26,G26<>\"\"),\"\")","v":""}]
["TEM-0187","Thermocouple","950 / 1050 °C",null,null,"Afficher",null,null,null,null,null,null,null,{"$f":"IF('Choix de l''instrument '!$C$3=\"Température\",AND('Choix de l''instrument '!$D$3>=Température!G27,G27<>\"\"),\"\")","v":""}]
["TEM-0186","Thermocouple","950 / 1050 °C",null,null,"Afficher",null,null,null,null,null,null,null,{"$f":"IF('Choix de l''instrument '!$C$3=\"Température\",AND('Choix de l''instrument '!$D$3>=Température!G28,G28<>\"\"),\"\")","v":""}]
["TEM-0185","Thermocouple","950 / 1050 °C",null,null,"Afficher",null,null,null,null,null,null,null,{"$f":"IF('Choix de l''instrument '!$C$3=\"Température\",AND('Choix de l''instrument '!$D$3>=Température!G29,G29<>\"\"),\"\")","v":""}]
["TEM-0190","Thermocouple","950 / 1050 °C",null,null,"Afficher",null,null,null,null,null,null,null,{"$f":"IF('Choix de l''instrument '!$C$3=\"Température\",AND('Choix de l''instrument '!$D$3>=Température!G30,G30<>\"\"),\"\")","v":""}]
["TEM-0189","Thermocouple","950 / 1050 °C",null,null,"Afficher",null,null,null,null,null,null,null,{"$f":"IF('Choix de l''instrument '!$C$3=\"Température\",AND('Choix de l''instrument '!$D$3>=Température!G31,G31<>\"\"),\"\")","v":""}]
["TEM-0188","Thermocouple","950 / 1050 °C",null,null,"Afficher",null,null,null,null,null,null,null,{"$f":"IF('Choix de l''instrument '!$C$3=\"Température\",AND('Choix de l''instrument '!$D$3>=Température!G32,G32<>\"\"),\"\")","v":""}]
["TEM-0198","Thermocouple","700 / 1150 °C",null,null,"Afficher",null,null,null,null,null,null,null,{"$f":"IF('Choix de l''instrument '!$C$3=\"Température\",AND('Choix de l''instrument '!$D$3>=Température!G33,G33<>\"\"),\"\")","v":""}]
["TEM-0208","Thermocouple","700 / 1150 °C",null,null,"Afficher",null,null,null,null,null,null,null,{"$f":"IF('Choix de l''instrument '!$C$3=\"Température\",AND('Choix de l''instrument '!$D$3>=Température!G34,G34<>\"\"),\"\")","v":""}]
["TEM-0207","Thermocouple","700 / 1150 °C",null,null,"Afficher",null,null,null,null,null,null,null,{"$f":"IF('Choix de l''instrument '!$C$3=\"Température\",AND('Choix de l''instrument '!$D$3>=Température!G35,G35<>\"\"),\"\")","v":""}]
["TEM-0206","Thermocouple","700 / 1150 °C",null,null,"Afficher",null,null,null,null,null,null,null,{"$f":"IF('Choix de l''instrument '!$C$3=\"Température\",AND('Choix de l''instrument '!$D$3>=Température!G36,G36<>\"\"),\"\")","v":""}]
["TEM-0211","Thermocouple","700 / 1150 °C",null,null,"Afficher",null,null,null,null,null,null,null,{"$f":"IF('Choix de l''instrument '!$C$3=\"Température\",AND('Choix de l''instrument '!$D$3>=Température!G37,G37<>\"\"),\"\")","v":""}]
["TEM-0210","Thermocouple","700 / 1150 °C",null,null,"Afficher",null,null,null,null,null,null,null,{"$f":"IF('Choix de l''instrument '!$C$3=\"Température\",AND('Choix de l''instrument '!$D$3>=Température!G38,G38<>\"\"),\"\")","v":""}]
["TEM-0209","Thermocouple","700 / 1150 °C",null,null,"Afficher",null,null,null,null,null,null,null,{"$f":"IF('Choix de l''instrument '!$C$3=\"Température\",AND('Choix de l''instrument '!$D$3>=Température!G39,G39<>\"\"),\"\")","v":""}]
["TEM-0205","Thermocouple","700 / 1150 °C",null,null,"Afficher",null,null,null,null,null,null,null,{"$f":"IF('Choix de l''instrument '!$C$3=\"Température\",AND('Choix de l''instrument '!$D$3>=Température!G40,G40<>\"\"),\"\")","v":""}]
["TEM-0201","Thermocouple","700 / 1150 °C",null,null,"Afficher",null,null,null,null,null,null,null,{"$f":"IF('Choix de l''instrument '!$C$3=\"Température\",AND('Choix de l''instrument '!$D$3>=Température!G41,G41<>\"\"),\"\")","v":""}]
["TEM-0200","Thermocouple","700 / 1150 °C",null,null,"Afficher",null,null,null,null,null,null,null,{"$f":"IF('Choix de l''instrument '!$C$3=\"Température\",AND('Choix de l''instrument '!$D$3>=Température!G42,G42<>\"\"),\"\")","v":""}]
["TEM-0199","Thermocouple","700 / 1150 °C",null,null,"Afficher",null,null,null,null,null,null,null,{"$f":"IF('Choix de l''instrument '!$C$3=\"Température\",AND('Choix de l''instrument '!$D$3>=Température!G43,G43<>\"\"),\"\")","v":""}]
["TEM-0204","Thermocouple","700 / 1150 °C",null,null,"Afficher",null,null,null,null,null,null,null,{"$f":"IF('Choix de l''instrument '!$C$3=\"Température\",AND('Choix de l''instrument '!$D$3>=Température!G44,G44<>\"\"),\"\")","v":""}]
["TEM-0203","Thermocouple","700 / 1150 °C",null,null,"Afficher",null,null,null,null,null,null,null,{"$f":"IF('Choix de l''instrument '!$C$3=\"Température\",AND('Choix de l''instrument '!$D$3>=Température!G45,G45<>\"\"),\"\")","v":""}]
["TEM-0202","Thermocouple","700 / 1150 °C",null,null,"Afficher",null,null,null,null,null,null,null,{"$f":"IF('Choix de l''instrument '!$C$3=\"Température\",AND('Choix de l''instrument '!$D$3>=Température!G46,G46<>\"\"),\"\")","v":""}]
["TEM-0239","Thermocouple","1050 / 1175 °C",null,null,"Afficher",null,null,null,null,null,null,null,{"$f":"IF('Choix de l''instrument '!$C$3=\"Température\",AND('Choix de l''instrument '!$D$3>=Température!G47,G47<>\"\"),\"\")","v":""}]
["TEM-0276","Thermocouple","1050 / 1175 °C",null,null,"Afficher",null,null,null,null,null,null,null,{"$f":"IF('Choix de l''instrument '!$C$3=\"Température\",AND('Choix de l''instrument '!$D$3>=Température!G48,G48<>\"\"),\"\")","v":""}]
["TEM-0275","Thermocouple","1050 / 1175 °C",null,null,"Afficher",null,null,null,null,null,null,null,{"$f":"IF('Choix de l''instrument '!$C$3=\"Température\",AND('Choix de l''instrument '!$D$3>=Température!G49,G49<>\"\"),\"\")","v":""}]
["TEM-0274","Thermocouple","1050 / 1175 °C",null,null,"Afficher",null,null,null,null,null,null,null,{"$f":"IF('Choix de l''instrument '!$C$3=\"Température\",AND('Choix de l''instrument '!$D$3>=Température!G50,G50<>\"\"),\"\")","v":""}]
["TEM-0279","Thermocouple","1050 / 1175 °C",null,null,"Afficher",null,null,null,null,null,null,null,{"$f":"IF('Choix de l''instrument '!$C$3=\"Température\",AND('Choix de l''instrument '!$D$3>=Température!G51,G51<>\"\"),\"\")","v":""}]
["TEM-0278","Thermocouple","1050 / 1175 °C",null,null,"Afficher",null,null,null,null,null,null,null,{"$f":"IF('Choix de l''instrument '!$C$3=\"Température\",AND('Choix de l''instrument '!$D$3>=Température!G52,G52<>\"\"),\"\")","v":""}]
["TEM-0277","Thermocouple","1050 / 1175 °C",null,null,"Afficher",null,null,null,null,null,null,null,{"$f":"IF('Choix de l''instrument '!$C$3=\"Température\",AND('Choix de l''instrument '!$D$3>=Température!G53,G53<>\"\"),\"\")","v":""}]
["TEM-0273","Thermocouple","1050 / 1175 °C",null,null,"Afficher",null,null,null,null,null,null,null,{"$f":"IF('Choix de l''instrument '!$C$3=\"Température\",AND('Choix de l''instrument '!$D$3>=Température!G54,G54<>\"\"),\"\")","v":""}]
["TEM-0269","Thermocouple","1050 / 1175 °C",null,null,"Afficher",null,null,null,null,null,null,null,{"$f":"IF('Choix de l''instrument '!$C$3=\"Température\",AND('Choix de l''instrument '!$D$3>=Température!G55,G55<>\"\"),\"\")","v":""}]
["TEM-0268","Thermocouple","1050 / 1175 °C",null,null,"Afficher",null,null,null,null,null,null,null,{"$f":"IF('Choix de l''instrument '!$C$3=\"Température\",AND('Choix de l''instrument '!$D$3>=Température!G56,G56<>\"\"),\"\")","v":""}]
["TEM-0267","Thermocouple","1050 / 1175 °C",null,null,"Afficher",null,null,null,null,null,null,null,{"$f":"IF('Choix de l''instrument '!$C$3=\"Température\",AND('Choix de l''instrument '!$D$3>=Température!G57,G57<>\"\"),\"\")","v":""}]
["TEM-0272","Thermocouple","1050 / 1175 °C",null,null,"Afficher",null,null,null,null,null,null,null,{"$f":"IF('Choix de l''instrument '!$C$3=\"Température\",AND('Choix de l''instrument '!$D$3>=Température!G58,G58<>\"\"),\"\")","v":""}]
["TEM-0271","Thermocouple","1050 / 1175 °C",null,null,"Afficher",null,null,null,null,null,null,null,{"$f":"IF('Choix de l''instrument '!$C$3=\"Température\",AND('Choix de l''instrument '!$D$3>=Température!G59,G59<>\"\"),\"\")","v":""}]
["TEM-0270","Thermocouple","1050 / 1175 °C",null,null,"Afficher",null,null,null,null,null,null,null,{"$f":"IF('Choix de l''instrument '!$C$3=\"Température\",AND('Choix de l''instrument '!$D$3>=Température!G60,G60<>\"\"),\"\")","v":""}]
["TEM-0280","Thermocouple","1050 / 1175 °C",null,null,"Afficher",null,null,null,null,null,null,null,{"$f":"IF('Choix de l''instrument '!$C$3=\"Température\",AND('Choix de l''instrument '!$D$3>=Température!G61,G61<>\"\"),\"\")","v":""}]
["TEM-0290","Thermocouple","1050 / 1175 °C",null,null,"Afficher",null,null,null,null,null,null,null,{"$f":"IF('Choix de l''instrument '!$C$3=\"Température\",AND('Choix de l''instrument '!$D$3>=Température!G62,G62<>\"\"),\"\")","v":""}]
["TEM-0289","Thermocouple","1050 / 1175 °C",null,null,"Afficher",null,null,null,null,null,null,null,{"$f":"IF('Choix de l''instrument '!$C$3=\"Température\",AND('Choix de l''instrument '!$D$3>=Température!G63,G63<>\"\"),\"\")","v":""}]
["TEM-0288","Thermocouple","1050 / 1175 °C",null,null,"Afficher",null,null,null,null,null,null,null,{"$f":"IF('Choix de l''instrument '!$C$3=\"Température\",AND('Choix de l''instrument '!$D$3>=Température!G64,G64<>\"\"),\"\")","v":""}]
["TEM-0293","Thermocouple","1050 / 1175 °C",null,null,"Afficher",null,null,null,null,null,null,null,{"$f":"IF('Choix de l''instrument '!$C$3=\"Température\",AND('Choix de l''instrument '!$D$3>=Température!G65,G65<>\"\"),\"\")","v":""}]
["TEM-0292","Thermocouple","1050 / 1175 °C",null,null,"Afficher",null,null,null,null,null,null,null,{"$f":"IF('Choix de l''instrument '!$C$3=\"Température\",AND('Choix de l''instrument '!$D$3>=Température!G66,G66<>\"\"),\"\")","v":""}]
["TEM-0291","Thermocouple","1050 / 1175 °C",null,null,"Afficher",null,null,null,null,null,null,null,{"$f":"IF('Choix de l''instrument '!$C$3=\"Température\",AND('Choix de l''instrument '!$D$3>=Température!G67,G67<>\"\"),\"\")","v":""}]
["TEM-0287","Thermocouple","1050 / 1175 °C",null,null,"Afficher",null,null,null,null,null,null,null,{"$f":"IF('Choix de l''instrument '!$C$3=\"Température\",AND('Choix de l''instrument '!$D$3>=Température!G68,G68<>\"\"),\"\")","v":""}]
["TEM-0283","Thermocouple","1050 / 1175 °C",null,null,"Afficher",null,null,null,null,null,null,null,{"$f":"IF('Choix de l''instrument '!$C$3=\"Température\",AND('Choix de l''instrument '!$D$3>=Température!G69,G69<>\"\"),\"\")","v":""}]
["TEM-0282","Thermocouple","1050 / 1175 °C",null,null,"Afficher",null,null,null,null,null,null,null,{"$f":"IF('Choix de l''instrument '!$C$3=\"Température\",AND('Choix de l''instrument '!$D$3>=Température!G70,G70<>\"\"),\"\")","v":""}]
["TEM-0281","Thermocouple","1050 / 1175 °C",null,null,"Afficher",null,null,null,null,null,null,null,{"$f":"IF('Choix de l''instrument '!$C$3=\"Température\",AND('Choix de l''instrument '!$D$3>=Température!G71,G71<>\"\"),\"\")","v":""}]
["TEM-0286","Thermocouple","1050 / 1175 °C",null,null,"Afficher",null,null,null,null,null,null,null,{"$f":"IF('Choix de l''instrument '!$C$3=\"Température\",AND('Choix de l''instrument '!$D$3>=Température!G72,G72<>\"\"),\"\")","v":""}]
["TEM-0285","Thermocouple","1050 / 1175 °C",null,null,"Afficher",null,null,null,null,null,null,null,{"$f":"IF('Choix de l''instrument '!$C$3=\"Température\",AND('Choix de l''instrument '!$D$3>=Température!G73,G73<>\"\"),\"\")","v":""}]
["TEM-0284","Thermocouple","1050 / 1175 °C",null,null,"Afficher",null,null,null,null,null,null,null,{"$f":"IF('Choix de l''instrument '!$C$3=\"Température\",AND('Choix de l''instrument '!$D$3>=Température!G74,G74<>\"\"),\"\")","v":""}]
["TEM-0249","Thermocouple","1050 / 1175 °C",null,null,"Afficher",null,null,null,null,null,null,null,{"$f":"IF('Choix de l''instrument '!$C$3=\"Température\",AND('Choix de l''instrument '!$D$3>=Température!G75,G75<>\"\"),\"\")","v":""}]
["TEM-0248","Thermocouple","1050 / 1175 °C",null,null,"Afficher",null,null,null,null,null,null,null,{"$f":"IF('Choix de l''instrument '!$C$3=\"Température\",AND('Choix de l''instrument '!$D$3>=Température!G76,G76<>\"\"),\"\")","v":""}]
["TEM-0247","Thermocouple","1050 / 1175 °C",null,null,"Afficher",null,null,null,null,null,null,null,{"$f":"IF('Choix de l''instrument '!$C$3=\"Température\",AND('Choix de l''instrument '!$D$3>=Température!G77,G77<>\"\"),\"\")","v":""}]
["TEM-0252","Thermocouple","1050 / 1175 °C",null,null,"Afficher",null,null,null,null,null,null,null,{"$f":"IF('Choix de l''instrument '!$C$3=\"Température\",AND('Choix de l''instrument '!$D$3>=Température!G78,G78<>\"\"),\"\")","v":""}]
["TEM-0251","Thermocouple","1050 / 1175 °C",null,null,"Afficher",null,null,null,null,null,null,null,{"$f":"IF('Choix de l''instrument '!$C$3=\"Température\",AND('Choix de l''instrument '!$D$3>=Température!G79,G79<>\"\"),\"\")","v":""}]
["TEM-0250","Thermocouple","1050 / 1175 °C",null,null,"Afficher",null,null,null,null,null,null,null,{"$f":"IF('Choix de l''instrument '!$C$3=\"Température\",AND('Choix de l''instrument '!$D$3>=Température!G80,G80<>\"\"),\"\")","v":""}]
["TEM-0246","Thermocouple","1050 / 1175 °C",null,null,"Afficher",null,null,null,null,null,null,null,{"$f":"IF('Choix de l''instrument '!$C$3=\"Température\",AND('Choix de l''instrument '!$D$3>=Température!G81,G81<>\"\"),\"\")","v":""}]
["TEM-0242","Thermocouple","1050 / 1175 °C",null,null,"Afficher",null,null,null,null,null,null,null,{"$f":"IF('Choix de l''instrument '!$C$3=\"Température\",AND('Choix de l''instrument '!$D$3>=Température!G82,G82<>\"\"),\"\")","v":""}]
["TEM-0241","Thermocouple","1050 / 1175 °C",null,null,"Afficher",null,null,null,null,null,null,null,{"$f":"IF('Choix de l''instrument '!$C$3=\"Température\",AND('Choix de l''instrument '!$D$3>=Température!G83,G83<>\"\"),\"\")","v":""}]
["TEM-0240","Thermocouple","1050 / 1175 °C",null,null,"Afficher",null,null,null,null,null,null,null,{"$f":"IF('Choix de l''instrument '!$C$3=\"Température\",AND('Choix de l''instrument '!$D$3>=Température!G84,G84<>\"\"),\"\")","v":""}]
["TEM-0245","Thermocouple","1050 / 1175 °C",null,null,"Afficher",null,null,null,null,null,null,null,{"$f":"IF('Choix de l''instrument '!$C$3=\"Température\",AND('Choix de l''instrument '!$D$3>=Température!G85,G85<>\"\"),\"\")","v":""}]
["TEM-0244","Thermocouple","1050 / 1175 °C",null,null,"Afficher",null,null,null,null,null,null,null,{"$f":"IF('Choix de l''instrument '!$C$3=\"Température\",AND('Choix de l''instrument '!$D$3>=Température!G86,G86<>\"\"),\"\")","v":""}]
["TEM-0243","Thermocouple","1050 / 1175 °C",null,null,"Afficher",null,null,null,null,null,null,null,{"$f":"IF('Choix de l''instrument '!$C$3=\"Température\",AND('Choix de l''instrument '!$D$3>=Température!G87,G87<>\"\"),\"\")","v":""}]
["TEM-0253","Thermocouple","1050 / 1175 °C",null,null,"Afficher",null,null,null,null,null,null,null,{"$f":"IF('Choix de l''instrument '!$C$3=\"Température\",AND('Choix de l''instrument '!$D$3>=Température!G88,G88<>\"\"),\"\")","v":""}]
["TEM-0263","Thermocouple","1050 / 1175 °C",null,null,"Afficher",null,null,null,null,null,null,null,{"$f":"IF('Choix de l''instrument '!$C$3=\"Température\",AND('Choix de l''instrument '!$D$3>=Température!G89,G89<>\"\"),\"\")","v":""}]
["TEM-0262","Thermocouple","1050 / 1175 °C",null,null,"Afficher",null,null,null,null,null,null,null,{"$f":"IF('Choix de l''instrument '!$C$3=\"Température\",AND('Choix de l''instrument '!$D$3>=Température!G90,G90<>\"\"),\"\")","v":""}]
["TEM-0261","Thermocouple","1050 / 1175 °C",null,null,"Afficher",null,null,null,null,null,null,null,{"$f":"IF('Choix de l''instrument '!$C$3=\"Température\",AND('Choix de l''instrument '!$D$3>=Température!G91,G91<>\"\"),\"\")","v":""}]
["TEM-0266","Thermocouple","1050 / 1175 °C",null,null,"Afficher",null,null,null,null,null,null,null,{"$f":"IF('Choix de l''instrument '!$C$3=\"Température\",AND('Choix de l''instrument '!$D$3>=Température!G92,G92<>\"\"),\"\")","v":""}]
["TEM-0265","Thermocouple","1050 / 1175 °C",null,null,"Afficher",null,null,null,null,null,null,null,{"$f":"IF('Choix de l''instrument '!$C$3=\"Température\",AND('Choix de l''instrument '!$D$3>=Température!G93,G93<>\"\"),\"\")","v":""}]
["TEM-0264","Thermocouple","1050 / 1175 °C",null,null,"Afficher",null,null,null,null,null,null,null,{"$f":"IF('Choix de l''instrument '!$C$3=\"Température\",AND('Choix de l''instrument '!$D$3>=Température!G94,G94<>\"\"),\"\")","v":""}]
["TEM-0260","Thermocouple","1050 / 1175 °C",null,null,"Afficher",null,null,null,null,null,null,null,{"$f":"IF('Choix de l''instrument '!$C$3=\"Température\",AND('Choix de l''instrument '!$D$3>=Température!G95,G95<>\"\"),\"\")","v":""}]
["TEM-0256","Thermocouple","1050 / 1175 °C",null,null,"Afficher",null,null,null,null,null,null,null,{"$f":"IF('Choix de l''instrument '!$C$3=\"Température\",AND('Choix de l''instrument '!$D$3>=Température!G96,G96<>\"\"),\"\")","v":""}]
["TEM-0255","Thermocouple","1050 / 1175 °C",null,null,"Afficher",null,null,null,null,null,null,null,{"$f":"IF('Choix de l''instrument '!$C$3=\"Température\",AND('Choix de l''instrument '!$D$3>=Température!G97,G97<>\"\"),\"\")","v":""}]
["TEM-0254","Thermocouple","1050 / 1175 °C",null,null,"Afficher",null,null,null,null,null,null,null,{"$f":"IF('Choix de l''instrument '!$C$3=\"Température\",AND('Choix de l''instrument '!$D$3>=Température!G98,G98<>\"\"),\"\")","v":""}]
["TEM-0259","Thermocouple","1050 / 1175 °C",null,null,"Afficher",null,null,null,null,null,null,null,{"$f":"IF('Choix de l''instrument '!$C$3=\"Température\",AND('Choix de l''instrument '!$D$3>=Température!G99,G99<>\"\"),\"\")","v":""}]
["TEM-0258","Thermocouple","1050 / 1175 °C",null,null,"Afficher",null,null,null,null,null,null,null,{"$f":"IF('Choix de l''instrument '!$C$3=\"Température\",AND('Choix de l''instrument '!$D$3>=Température!G100,G100<>\"\"),\"\")","v":""}]
["TEM-0257","Thermocouple","1050 / 1175 °C",null,null,"Afficher",null,null,null,null,null,null,null,{"$f":"IF('Choix de l''instrument '!$C$3=\"Température\",AND('Choix de l''instrument '!$D$3>=Température!G101,G101<>\"\"),\"\")","v":""}]
["TEM-0184","Thermocouple","950 / 1050 °C",null,null,"Afficher",null,null,null,null,null,null,null,{"$f":"IF('Choix de l''instrument '!$C$3=\"Température\",AND('Choix de l''instrument '!$D$3>=Température!G102,G102<>\"\"),\"\")","v":""}]
["TEM-0110","Thermocouple","1050 / 1150 °C",null,null,"Afficher",null,null,null,null,null,null,null,{"$f":"IF('Choix de l''instrument '!$C$3=\"Température\",AND('Choix de l''instrument '!$D$3>=Température!G103,G103<>\"\"),\"\")","v":""}]
["TEM-0114","Thermocouple","950 / 1175 °C",null,null,"Afficher",null,null,null,null,null,null,null,{"$f":"IF('Choix de l''instrument '!$C$3=\"Température\",AND('Choix de l''instrument '!$D$3>=Température!G104,G104<>\"\"),\"\")","v":""}]
["TEM-0115","Thermocouple","950 / 1175 °C",null,null,"Afficher",null,null,null,null,null,null,null,{"$f":"IF('Choix de l''instrument '!$C$3=\"Température\",AND('Choix de l''instrument '!$D$3>=Température!G105,G105<>\"\"),\"\")","v":""}]
["TEM-0125","Thermocouple","950 / 1175 °C",null,null,"Afficher",null,null,null,null,null,null,null,{"$f":"IF('Choix de l''instrument '!$C$3=\"Température\",AND('Choix de l''instrument '!$D$3>=Température!G106,G106<>\"\"),\"\")","v":""}]
["TEM-0124","Thermocouple","950 / 1175 °C",null,null,"Afficher",null,null,null,null,null,null,null,{"$f":"IF('Choix de l''instrument '!$C$3=\"Température\",AND('Choix de l''instrument '!$D$3>=Température!G107,G107<>\"\"),\"\")","v":""}]
["TEM-0123","Thermocouple","950 / 1175 °C",null,null,"Afficher",null,null,null,null,null,null,null,{"$f":"IF('Choix de l''instrument '!$C$3=\"Température\",AND('Choix de l''instrument '!$D$3>=Température!G108,G108<>\"\"),\"\")","v":""}]
["TEM-0128","Thermocouple","950 / 1175 °C",null,null,"Afficher",null,null,null,null,null,null,null,{"$f":"IF('Choix de l''instrument '!$C$3=\"Température\",AND('Choix de l''instrument '!$D$3>=Température!G109,G109<>\"\"),\"\")","v":""}]
["TEM-0127","Thermocouple","950 / 1175 °C",null,null,"Afficher",null,null,null,null,null,null,null,{"$f":"IF('Choix de l''instrument '!$C$3=\"Température\",AND('Choix de l''instrument '!$D$3>=Température!G110,G110<>\"\"),\"\")","v":""}]
["TEM-0126","Thermocouple","950 / 1175 °C",null,null,"Afficher",null,null,null,null,null,null,null,{"$f":"IF('Choix de l''instrument '!$C$3=\"Température\",AND('Choix de l''instrument '!$D$3>=Température!G111,G111<>\"\"),\"\")","v":""}]
["TEM-0122","Thermocouple","950 / 1175 °C",null,null,"Afficher",null,null,null,null,null,null,null,{"$f":"IF('Choix de l''instrument '!$C$3=\"Température\",AND('Choix de l''instrument '!$D$3>=Température!G112,G112<>\"\"),\"\")","v":""}]
["TEM-0118","Thermocouple","950 / 1175 °C",null,null,"Afficher",null,null,null,null,null,null,null,{"$f":"IF('Choix de l''instrument '!$C$3=\"Température\",AND('Choix de l''instrument '!$D$3>=Température!G113,G113<>\"\"),\"\")","v":""}]
["TEM-0117","Thermocouple","950 / 1175 °C",null,null,"Afficher",null,null,null,null,null,null,null,{"$f":"IF('Choix de l''instrument '!$C$3=\"Température\",AND('Choix de l''instrument '!$D$3>=Température!G114,G114<>\"\"),\"\")","v":""}]
["TEM-0116","Thermocouple","950 / 1175 °C",null,null,"Afficher",null,null,null,null,null,null,null,{"$f":"IF('Choix de l''instrument '!$C$3=\"Température\",AND('Choix de l''instrument '!$D$3>=Température!G115,G115<>\"\"),\"\")","v":""}]
["TEM-0121","Thermocouple","950 / 1175 °C",null,null,"Afficher",null,null,null,null,null,null,null,{"$f":"IF('Choix de l''instrument '!$C$3=\"Température\",AND('Choix de l''instrument '!$D$3>=Température!G116,G116<>\"\"),\"\")","v":""}]
["TEM-0120","Thermocouple","950 / 1175 °C",null,null,"Afficher",null,null,null,null,null,null,null,{"$f":"IF('Choix de l''instrument '!$C$3=\"Température\",AND('Choix de l''instrument '!$D$3>=Température!G117,G117<>\"\"),\"\")","v":""}]
["TEM-0119","Thermocouple","950 / 1175 °C",null,null,"Afficher",null,null,null,null,null,null,null,{"$f":"IF('Choix de l''instrument '!$C$3=\"Température\",AND('Choix de l''instrument '!$D$3>=Température!G118,G118<>\"\"),\"\")","v":""}]
["TEM-0084","Thermocouple","1050 / 1175 °C",null,null,"Afficher",null,null,null,null,null,null,null,{"$f":"IF('Choix de l''instrument '!$C$3=\"Température\",AND('Choix de l''instrument '!$D$3>=Température!G119,G119<>\"\"),\"\")","v":""}]
["TEM-0083","Thermocouple","1050 / 1175 °C",null,null,"Afficher",null,null,null,null,null,null,null,{"$f":"IF('Choix de l''instrument '!$C$3=\"Température\",AND('Choix de l''instrument '!$D$3>=Température!G120,G120<>\"\"),\"\")","v":""}]
["TEM-0082","Thermocouple","1050 / 1175 °C",null,null,"Afficher",null,null,null,null,null,null,null,{"$f":"IF('Choix de l''instrument '!$C$3=\"Température\",AND('Choix de l''instrument '!$D$3>=Température!G121,G121<>\"\"),\"\")","v":""}]
["TEM-0087","Thermocouple","1050 / 1175 °C",null,null,"Afficher",null,null,null,null,null,null,null,{"$f":"IF('Choix de l''instrument '!$C$3=\"Température\",AND('Choix de l''instrument '!$D$3>=Température!G122,G122<>\"\"),\"\")","v":""}]
["TEM-0086","Thermocouple","1050 / 1175 °C",null,null,"Afficher",null,null,null,null,null,null,null,{"$f":"IF('Choix de l''instrument '!$C$3=\"Température\",AND('Choix de l''instrument '!$D$3>=Température!G123,G123<>\"\"),\"\")","v":""}]
["TEM-0085","Thermocouple","1050 / 1175 °C",null,null,"Afficher",null,null,null,null,null,null,null,{"$f":"IF('Choix de l''instrument '!$C$3=\"Température\",AND('Choix de l''instrument '!$D$3>=Température!G124,G124<>\"\"),\"\")","v":""}]
["TEM-0081","Thermocouple","1050 / 1175 °C",null,null,"Afficher",null,null,null,null,null,null,null,{"$f":"IF('Choix de l''instrument '!$C$3=\"Température\",AND('Choix de l''instrument '!$D$3>=Température!G125,G125<>\"\"),\"\")","v":""}]
["TEM-0077","Thermocouple","1050 / 1175 °C",null,null,"Afficher",null,null,null,null,null,null,null,{"$f":"IF('Choix de l''instrument '!$C$3=\"Température\",AND('Choix de l''instrument '!$D$3>=Température!G126,G126<>\"\"),\"\")","v":""}]
["TEM-0076","Thermocouple","1050 / 1175 °C",null,null,"Afficher",null,null,null,null,null,null,null,{"$f":"IF('Choix de l''instrument '!$C$3=\"Température\",AND('Choix de l''instrument '!$D$3>=Température!G127,G127<>\"\"),\"\")","v":""}]
["TEM-0075","Thermocouple","1050 / 1175 °C",null,null,"Afficher",null,null,null,null,null,null,null,{"$f":"IF('Choix de l''instrument '!$C$3=\"Température\",AND('Choix de l''instrument '!$D$3>=Température!G128,G128<>\"\"),\"\")","v":""}]
["TEM-0080","Thermocouple","1050 / 1175 °C",null,null,"Afficher",null,null,null,null,null,null,null,{"$f":"IF('Choix de l''instrument '!$C$3=\"Température\",AND('Choix de l''instrument '!$D$3>=Température!G129,G129<>\"\"),\"\")","v":""}]
["TEM-0079","Thermocouple","1050 / 1175 °C",null,null,"Afficher",null,null,null,null,null,null,null,{"$f":"IF('Choix de l''instrument '!$C$3=\"Température\",AND('Choix de l''instrument '!$D$3>=Température!G130,G130<>\"\"),\"\")","v":""}]
["TEM-0078","Thermocouple","1050 / 1175 °C",null,null,"Afficher",null,null,null,null,null,null,null,{"$f":"IF('Choix de l''instrument '!$C$3=\"Température\",AND('Choix de l''instrument '!$D$3>=Température!G131,G131<>\"\"),\"\")","v":""}]
["TEM-0088","Thermocouple","1050 / 1175 °C",null,null,"Afficher",null,null,null,null,null,null,null,{"$f":"IF('Choix de l''instrument '!$C$3=\"Température\",AND('Choix de l''instrument '!$D$3>=Température!G132,G132<>\"\"),\"\")","v":""}]
["TEM-0098","Thermocouple","1050 / 1175 °C",null,null,"Afficher",null,null,null,null,null,null,null,{"$f":"IF('Choix de l''instrument '!$C$3=\"Température\",AND('Choix de l''instrument '!$D$3>=Température!G133,G133<>\"\"),\"\")","v":""}]
["TEM-0097","Thermocouple","1050 / 1175 °C",null,null,"Afficher",null,null,null,null,null,null,null,{"$f":"IF('Choix de l''instrument '!$C$3=\"Température\",AND('Choix de l''instrument '!$D$3>=Température!G134,G134<>\"\"),\"\")","v":""}]
["TEM-0096","Thermocouple","1050 / 1175 °C",null,null,"Afficher",null,null,null,null,null,null,null,{"$f":"IF('Choix de l''instrument '!$C$3=\"Température\",AND('Choix de l''instrument '!$D$3>=Température!G135,G135<>\"\"),\"\")","v":""}]
["TEM-0101","Thermocouple","1050 / 1175 °C",null,null,"Afficher",null,null,null,null,null,null,null,{"$f":"IF('Choix de l''instrument '!$C$3=\"Température\",AND('Choix de l''instrument '!$D$3>=Température!G136,G136<>\"\"),\"\")","v":""}]
["TEM-0100","Thermocouple","1050 / 1175 °C",null,null,"Afficher",null,null,null,null,null,null,null,{"$f":"IF('Choix de l''instrument '!$C$3=\"Température\",AND('Choix de l''instrument '!$D$3>=Température!G137,G137<>\"\"),\"\")","v":""}]
["TEM-0099","Thermocouple","1050 / 1175 °C",null,null,"Afficher",null,null,null,null,null,null,null,{"$f":"IF('Choix de l''instrument '!$C$3=\"Température\",AND('Choix de l''instrument '!$D$3>=Température!G138,G138<>\"\"),\"\")","v":""}]
["TEM-0095","Thermocouple","1050 / 1175 °C",null,null,"Afficher",null,null,null,null,null,null,null,{"$f":"IF('Choix de l''instrument '!$C$3=\"Température\",AND('Choix de l''instrument '!$D$3>=Température!G139,G139<>\"\"),\"\")","v":""}]
["TEM-0091","Thermocouple","1050 / 1175 °C",null,null,"Afficher",null,null,null,null,null,null,null,{"$f":"IF('Choix de l''instrument '!$C$3=\"Température\",AND('Choix de l''instrument '!$D$3>=Température!G140,G140<>\"\"),\"\")","v":""}]
["TEM-0090","Thermocouple","1050 / 1175 °C",null,null,"Afficher",null,null,null,null,null,null,null,{"$f":"IF('Choix de l''instrument '!$C$3=\"Température\",AND('Choix de l''instrument '!$D$3>=Température!G141,G141<>\"\"),\"\")","v":""}]
["TEM-0089","Thermocouple","1050 / 1175 °C",null,null,"Afficher",null,null,null,null,null,null,null,{"$f":"IF('Choix de l''instrument '!$C$3=\"Température\",AND('Choix de l''instrument '!$D$3>=Température!G142,G142<>\"\"),\"\")","v":""}]
["TEM-0094","Thermocouple","1050 / 1175 °C",null,null,"Afficher",null,null,null,null,null,null,null,{"$f":"IF('Choix de l''instrument '!$C$3=\"Température\",AND('Choix de l''instrument '!$D$3>=Température!G143,G143<>\"\"),\"\")","v":""}]
["TEM-0093","Thermocouple","1050 / 1175 °C",null,null,"Afficher",null,null,null,null,null,null,null,{"$f":"IF('Choix de l''instrument '!$C$3=\"Température\",AND('Choix de l''instrument '!$D$3>=Température!G144,G144<>\"\"),\"\")","v":""}]
["TEM-0092","Thermocouple","1050 / 1175 °C",null,null,"Afficher",null,null,null,null,null,null,null,{"$f":"IF('Choix de l''instrument '!$C$3=\"Température\",AND('Choix de l''instrument '!$D$3>=Température!G145,G145<>\"\"),\"\")","v":""}]
["TEM-0129","Thermocouple","950 / 1175 °C",null,null,"Afficher",null,null,null,null,null,null,null,{"$f":"IF('Choix de l''instrument '!$C$3=\"Température\",AND('Choix de l''instrument '!$D$3>=Température!G146,G146<>\"\"),\"\")","v":""}]
["TEM-0166","Thermocouple","1050 / 1175 °C",null,null,"Afficher",null,null,null,null,null,null,null,{"$f":"IF('Choix de l''instrument '!$C$3=\"Température\",AND('Choix de l''instrument '!$D$3>=Température!G147,G147<>\"\"),\"\")","v":""}]
["TEM-0165","Thermocouple","1050 / 1175 °C",null,null,"Afficher",null,null,null,null,null,null,null,{"$f":"IF('Choix de l''instrument '!$C$3=\"Température\",AND('Choix de l''instrument '!$D$3>=Température!G148,G148<>\"\"),\"\")","v":""}]
["TEM-0164","Thermocouple","1050 / 1175 °C",null,null,"Afficher",null,null,null,null,null,null,null,{"$f":"IF('Choix de l''instrument '!$C$3=\"Température\",AND('Choix de l''instrument '!$D$3>=Température!G149,G149<>\"\"),\"\")","v":""}]
["TEM-0169","Thermocouple","1050 / 1175 °C",null,null,"Afficher",null,null,null,null,null,null,null,{"$f":"IF('Choix de l''instrument '!$C$3=\"Température\",AND('Choix de l''instrument '!$D$3>=Température!G150,G150<>\"\"),\"\")","v":""}]
["TEM-0168","Thermocouple","1050 / 1175 °C",null,null,"Afficher",null,null,null,null,null,null,null,{"$f":"IF('Choix de l''instrument '!$C$3=\"Température\",AND('Choix de l''instrument '!$D$3>=Température!G151,G151<>\"\"),\"\")","v":""}]
["TEM-0167","Thermocouple","1050 / 1175 °C",null,null,"Afficher",null,null,null,null,null,null,null,{"$f":"IF('Choix de l''instrument '!$C$3=\"Température\",AND('Choix de l''instrument '!$D$3>=Température!G152,G152<>\"\"),\"\")","v":""}]
["TEM-0163","Thermocouple","1050 / 1175 °C",null,null,"Afficher",null,null,null,null,null,null,null,{"$f":"IF('Choix de l''instrument '!$C$3=\"Température\",AND('Choix de l''instrument '!$D$3>=Température!G153,G153<>\"\"),\"\")","v":""}]
["TEM-0159","Thermocouple","1050 / 1175 °C",null,null,"Afficher",null,null,null,null,null,null,null,{"$f":"IF('Choix de l''instrument '!$C$3=\"Température\",AND('Choix de l''instrument '!$D$3>=Température!G154,G154<>\"\"),\"\")","v":""}]
["TEM-0158","Thermocouple","1050 / 1175 °C",null,null,"Afficher",null,null,null,null,null,null,null,{"$f":"IF('Choix de l''instrument '!$C$3=\"Température\",AND('Choix de l''instrument '!$D$3>=Température!G155,G155<>\"\"),\"\")","v":""}]
["TEM-0157","Thermocouple","1050 / 1175 °C",null,null,"Afficher",null,null,null,null,null,null,null,{"$f":"IF('Choix de l''instrument '!$C$3=\"Température\",AND('Choix de l''instrument '!$D$3>=Température!G156,G156<>\"\"),\"\")","v":""}]
["TEM-0162","Thermocouple","1050 / 1175 °C",null,null,"Afficher",null,null,null,null,null,null,null,{"$f":"IF('Choix de l''instrument '!$C$3=\"Température\",AND('Choix de l''instrument '!$D$3>=Température!G157,G157<>\"\"),\"\")","v":""}]
["TEM-0161","Thermocouple","1050 / 1175 °C",null,null,"Afficher",null,null,null,null,null,null,null,{"$f":"IF('Choix de l''instrument '!$C$3=\"Température\",AND('Choix de l''instrument '!$D$3>=Température!G158,G158<>\"\"),\"\")","v":""}]
["TEM-0160","Thermocouple","1050 / 1175 °C",null,null,"Afficher",null,null,null,null,null,null,null,{"$f":"IF('Choix de l''instrument '!$C$3=\"Température\",AND('Choix de l''instrument '!$D$3>=Température!G159,G159<>\"\"),\"\")","v":""}]
["TEM-0170","Thermocouple","1050 / 1175 °C",null,null,"Afficher",null,null,null,null,null,null,null,{"$f":"IF('Choix de l''instrument '!$C$3=\"Température\",AND('Choix de l''instrument '!$D$3>=Température!G160,G160<>\"\"),\"\")","v":""}]
["TEM-0180","Thermocouple","950 / 1050 °C",null,null,"Afficher",null,null,null,null,null,null,null,{"$f":"IF('Choix de l''instrument '!$C$3=\"Température\",AND('Choix de l''instrument '!$D$3>=Température!G161,G161<>\"\"),\"\")","v":""}]
["TEM-0179","Thermocouple","950 / 1050 °C",null,null,"Afficher",null,null,null,null,null,null,null,{"$f":"IF('Choix de l''instrument '!$C$3=\"Température\",AND('Choix de l''instrument '!$D$3>=Température!G162,G162<>\"\"),\"\")","v":""}]
["TEM-0178","Thermocouple","950 / 1050 °C",null,null,"Afficher",null,null,null,null,null,null,null,{"$f":"IF('Choix de l''instrument '!$C$3=\"Température\",AND('Choix de l''instrument '!$D$3>=Température!G163,G163<>\"\"),\"\")","v":""}]
["TEM-0183","Thermocouple","950 / 1050 °C",null,null,"Afficher",null,null,null,null,null,null,null,{"$f":"IF('Choix de l''instrument '!$C$3=\"Température\",AND('Choix de l''instrument '!$D$3>=Température!G164,G164<>\"\"),\"\")","v":""}]
["TEM-0182","Thermocouple","950 / 1050 °C",null,null,"Afficher",null,null,null,null,null,null,null,{"$f":"IF('Choix de l''instrument '!$C$3=\"Température\",AND('Choix de l''instrument '!$D$3>=Température!G165,G165<>\"\"),\"\")","v":""}]
["TEM-0181","Thermocouple","950 / 1050 °C",null,null,"Afficher",null,null,null,null,null,null,null,{"$f":"IF('Choix de l''instrument '!$C$3=\"Température\",AND('Choix de l''instrument '!$D$3>=Température!G166,G166<>\"\"),\"\")","v":""}]
["TEM-0177","Thermocouple","950 / 1050 °C",null,null,"Afficher",null,null,null,null,null,null,null,{"$f":"IF('Choix de l''instrument '!$C$3=\"Température\",AND('Choix de l''instrument '!$D$3>=Température!G167,G167<>\"\"),\"\")","v":""}]
["TEM-0171","Thermocouple","1050 / 1175 °C",null,null,"Afficher",null,null,null,null,null,null,null,{"$f":"IF('Choix de l''instrument '!$C$3=\"Température\",AND('Choix de l''instrument '!$D$3>=Température!G168,G168<>\"\"),\"\")","v":""}]
["TEM-0176","Thermocouple","950 / 1050 °C",null,null,"Afficher",null,null,null,null,null,null,null,{"$f":"IF('Choix de l''instrument '!$C$3=\"Température\",AND('Choix de l''instrument '!$D$3>=Température!G169,G169<>\"\"),\"\")","v":""}]
["TEM-0175","Thermocouple","950 / 1050 °C",null,null,"Afficher",null,null,null,null,null,null,null,{"$f":"IF('Choix de l''instrument '!$C$3=\"Température\",AND('Choix de l''instrument '!$D$3>=Température!G170,G170<>\"\"),\"\")","v":""}]
["TEM-0139","Thermocouple","1050 / 1175 °C",null,null,"Afficher",null,null,null,null,null,null,null,{"$f":"IF('Choix de l''instrument '!$C$3=\"Température\",AND('Choix de l''instrument '!$D$3>=Température!G171,G171<>\"\"),\"\")","v":""}]
["TEM-0138","Thermocouple","1050 / 1175 °C",null,null,"Afficher",null,null,null,null,null,null,null,{"$f":"IF('Choix de l''instrument '!$C$3=\"Température\",AND('Choix de l''instrument '!$D$3>=Température!G172,G172<>\"\"),\"\")","v":""}]
["TEM-0137","Thermocouple","1050 / 1175 °C",null,null,"Afficher",null,null,null,null,null,null,null,{"$f":"IF('Choix de l''instrument '!$C$3=\"Température\",AND('Choix de l''instrument '!$D$3>=Température!G173,G173<>\"\"),\"\")","v":""}]
["TEM-0142","Thermocouple","1050 / 1175 °C",null,null,"Afficher",null,null,null,null,null,null,null,{"$f":"IF('Choix de l''instrument '!$C$3=\"Température\",AND('Choix de l''instrument '!$D$3>=Température!G174,G174<>\"\"),\"\")","v":""}]
["TEM-0141","Thermocouple","1050 / 1175 °C",null,null,"Afficher",null,null,null,null,null,null,null,{"$f":"IF('Choix de l''instrument '!$C$3=\"Température\",AND('Choix de l''instrument '!$D$3>=Température!G175,G175<>\"\"),\"\")","v":""}]
["TEM-0140","Thermocouple","1050 / 1175 °C",null,null,"Afficher",null,null,null,null,null,null,null,{"$f":"IF('Choix de l''instrument '!$C$3=\"Température\",AND('Choix de l''instrument '!$D$3>=Température!G176,G176<>\"\"),\"\")","v":""}]
["TEM-0136","Thermocouple","1050 / 1175 °C",null,null,"Afficher",null,null,null,null,null,null,null,{"$f":"IF('Choix de l''instrument '!$C$3=\"Température\",AND('Choix de l''instrument '!$D$3>=Température!G177,G177<>\"\"),\"\")","v":""}]
["TEM-0132","Thermocouple","675 / 800 °C",null,null,"Afficher",null,null,null,null,null,null,null,{"$f":"IF('Choix de l''instrument '!$C$3=\"Température\",AND('Choix de l''instrument '!$D$3>=Température!G178,G178<>\"\"),\"\")","v":""}]
["TEM-0130","Thermocouple","950 / 1175 °C",null,null,"Afficher",null,null,null,null,null,null,null,{"$f":"IF('Choix de l''instrument '!$C$3=\"Température\",AND('Choix de l''instrument '!$D$3>=Température!G179,G179<>\"\"),\"\")","v":""}]
["TEM-0135","Thermocouple","1050 / 1175 °C",null,null,"Afficher",null,null,null,null,null,null,null,{"$f":"IF('Choix de l''instrument '!$C$3=\"Température\",AND('Choix de l''instrument '!$D$3>=Température!G180,G180<>\"\"),\"\")","v":""}]
["TEM-0134","Thermocouple","1050 / 1175 °C",null,null,"Afficher",null,null,null,null,null,null,null,{"$f":"IF('Choix de l''instrument '!$C$3=\"Température\",AND('Choix de l''instrument '!$D$3>=Température!G181,G181<>\"\"),\"\")","v":""}]
["TEM-0133","Thermocouple","1050 / 1175 °C",null,null,"Afficher",null,null,null,null,null,null,null,{"$f":"IF('Choix de l''instrument '!$C$3=\"Température\",AND('Choix de l''instrument '!$D$3>=Température!G182,G182<>\"\"),\"\")","v":""}]
["TEM-0143","Thermocouple","1050 / 1175 °C",null,null,"Afficher",null,null,null,null,null,null,null,{"$f":"IF('Choix de l''instrument '!$C$3=\"Température\",AND('Choix de l''instrument '!$D$3>=Température!G183,G183<>\"\"),\"\")","v":""}]
["TEM-0153","Thermocouple","1050 / 1175 °C",null,null,"Afficher",null,null,null,null,null,null,null,{"$f":"IF('Choix de l''instrument '!$C$3=\"Température\",AND('Choix de l''instrument '!$D$3>=Température!G184,G184<>\"\"),\"\")","v":""}]
["TEM-0152","Thermocouple","1050 / 1175 °C",null,null,"Afficher",null,null,null,null,null,null,null,{"$f":"IF('Choix de l''instrument '!$C$3=\"Température\",AND('Choix de l''instrument '!$D$3>=Température!G185,G185<>\"\"),\"\")","v":""}]
["TEM-0151","Thermocouple","1050 / 1175 °C",null,null,"Afficher",null,null,null,null,null,null,null,{"$f":"IF('Choix de l''instrument '!$C$3=\"Température\",AND('Choix de l''instrument '!$D$3>=Température!G186,G186<>\"\"),\"\")","v":""}]
["TEM-0156","Thermocouple","1050 / 1175 °C",null,null,"Afficher",null,null,null,null,null,null,null,{"$f":"IF('Choix de l''instrument '!$C$3=\"Température\",AND('Choix de l''instrument '!$D$3>=Température!G187,G187<>\"\"),\"\")","v":""}]
["TEM-0155","Thermocouple","1050 / 1175 °C",null,null,"Afficher",null,null,null,null,null,null,null,{"$f":"IF('Choix de l''instrument '!$C$3=\"Température\",AND('Choix de l''instrument '!$D$3>=Température!G188,G188<>\"\"),\"\")","v":""}]
["TEM-0154","Thermocouple","1050 / 1175 °C",null,null,"Afficher",null,null,null,null,null,null,null,{"$f":"IF('Choix de l''instrument '!$C$3=\"Température\",AND('Choix de l''instrument '!$D$3>=Température!G189,G189<>\"\"),\"\")","v":""}]
["TEM-0150","Thermocouple","1050 / 1175 °C",null,null,"Afficher",null,null,null,null,null,null,null,{"$f":"IF('Choix de l''instrument '!$C$3=\"Température\",AND('Choix de l''instrument '!$D$3>=Température!G190,G190<>\"\"),\"\")","v":""}]
["TEM-0146","Thermocouple","1050 / 1175 °C",null,null,"Afficher",null,null,null,null,null,null,null,{"$f":"IF('Choix de l''instrument '!$C$3=\"Température\",AND('Choix de l''instrument '!$D$3>=Température!G191,G191<>\"\"),\"\")","v":""}]
["TEM-0145","Thermocouple","1050 / 1175 °C",null,null,"Afficher",null,null,null,null,null,null,null,{"$f":"IF('Choix de l''instrument '!$C$3=\"Température\",AND('Choix de l''instrument '!$D$3>=Température!G192,G192<>\"\"),\"\")","v":""}]
["TEM-0144","Thermocouple","1050 / 1175 °C",null,null,"Afficher",null,null,null,null,null,null,null,{"$f":"IF('Choix de l''instrument '!$C$3=\"Température\",AND('Choix de l''instrument '!$D$3>=Température!G193,G193<>\"\"),\"\")","v":""}]
["TEM-0149","Thermocouple","1050 / 1175 °C",null,null,"Afficher",null,null,null,null,null,null,null,{"$f":"IF('Choix de l''instrument '!$C$3=\"Température\",AND('Choix de l''instrument '!$D$3>=Température!G194,G194<>\"\"),\"\")","v":""}]
["TEM-0148","Thermocouple","1050 / 1175 °C",null,null,"Afficher",null,null,null,null,null,null,null,{"$f":"IF('Choix de l''instrument '!$C$3=\"Température\",AND('Choix de l''instrument '!$D$3>=Température!G195,G195<>\"\"),\"\")","v":""}]
["TEM-0147","Thermocouple","1050 / 1175 °C",null,null,"Afficher",null,null,null,null,null,null,null,{"$f":"IF('Choix de l''instrument '!$C$3=\"Température\",AND('Choix de l''instrument '!$D$3>=Température!G196,G196<>\"\"),\"\")","v":""}]
["TEM-0330","Thermocouple","1050 / 1175 °C",null,null,"Afficher",null,null,null,null,null,null,null,{"$f":"IF('Choix de l''instrument '!$C$3=\"Température\",AND('Choix de l''instrument '!$D$3>=Température!G197,G197<>\"\"),\"\")","v":""}]
["TEM-0329","Thermocouple","1050 / 1175 °C",null,null,"Afficher",null,null,null,null,null,null,null,{"$f":"IF('Choix de l''instrument '!$C$3=\"Température\",AND('Choix de l''instrument '!$D$3>=Température!G198,G198<>\"\"),\"\")","v":""}]
["TEM-0328","Thermocouple","1050 / 1175 °C",null,null,"Afficher",null,null,null,null,null,null,null,{"$f":"IF('Choix de l''instrument '!$C$3=\"Température\",AND('Choix de l''instrument '!$D$3>=Température!G199,G199<>\"\"),\"\")","v":""}]
["TEM-107","Thermocouple","1050 / 1150 °C",null,null,"Afficher",null,null,null,null,null,null,null,{"$f":"IF('Choix de l''instrument '!$C$3=\"Température\",AND('Choix de l''instrument '!$D$3>=Température!G200,G200<>\"\"),\"\")","v":""}]
["TEM-0331","Thermocouple","1050 / 1175 °C",null,null,"Afficher",null,null,null,null,null,null,null,{"$f":"IF('Choix de l''instrument '!$C$3=\"Température\",AND('Choix de l''instrument '!$D$3>=Température!G201,G201<>\"\"),\"\")","v":""}]
["TEM-0327","Thermocouple","1050 / 1175 °C",null,null,"Afficher",null,null,null,null,null,null,null,{"$f":"IF('Choix de l''instrument '!$C$3=\"Température\",AND('Choix de l''instrument '!$D$3>=Température!G202,G202<>\"\"),\"\")","v":""}]
["TEM-0323","Thermocouple","1050 / 1175 °C",null,null,"Afficher",null,null,null,null,null,null,null,{"$f":"IF('Choix de l''instrument '!$C$3=\"Température\",AND('Choix de l''instrument '!$D$3>=Température!G203,G203<>\"\"),\"\")","v":""}]
["TEM-0322","Thermocouple","1050 / 1175 °C",null,null,"Afficher",null,null,null,null,null,null,null,{"$f":"IF('Choix de l''instrument '!$C$3=\"Température\",AND('Choix de l''instrument '!$D$3>=Température!G204,G204<>\"\"),\"\")","v":""}]
["TEM-0321","Thermocouple","1050 / 1175 °C",null,null,"Afficher",null,null,null,null,null,null,null,{"$f":"IF('Choix de l''instrument '!$C$3=\"Température\",AND('Choix de l''instrument '!$D$3>=Température!G205,G205<>\"\"),\"\")","v":""}]
["TEM-0326","Thermocouple","1050 / 1175 °C",null,null,"Afficher",null,null,null,null,null,null,null,{"$f":"IF('Choix de l''instrument '!$C$3=\"Température\",AND('Choix de l''instrument '!$D$3>=Température!G206,G206<>\"\"),\"\")","v":""}]
["TEM-0325","Thermocouple","1050 / 1175 °C",null,null,"Afficher",null,null,null,null,null,null,null,{"$f":"IF('Choix de l''instrument '!$C$3=\"Température\",AND('Choix de l''instrument '!$D$3>=Température!G207,G207<>\"\"),\"\")","v":""}]
["TEM-0324","Thermocouple","1050 / 1175 °C",null,null,"Afficher",null,null,null,null,null,null,null,{"$f":"IF('Choix de l''instrument '!$C$3=\"Température\",AND('Choix de l''instrument '!$D$3>=Température!G208,G208<>\"\"),\"\")","v":""}]
["TEM-0296","Thermocouple","1050 / 1175 °C",null,null,"Afficher",null,null,null,null,null,null,null,{"$f":"IF('Choix de l''instrument '!$C$3=\"Température\",AND('Choix de l''instrument '!$D$3>=Température!G209,G209<>\"\"),\"\")","v":""}]
["TEM-0295","Thermocouple","1050 / 1175 °C",null,null,"Afficher",null,null,null,null,null,null,null,{"$f":"IF('Choix de l''instrument '!$C$3=\"Température\",AND('Choix de l''instrument '!$D$3>=Température!G210,G210<>\"\"),\"\")","v":""}]
["TEM-0294","Thermocouple","1050 / 1175 °C",null,null,"Afficher",null,null,null,null,null,null,null,{"$f":"IF('Choix de l''instrument '!$C$3=\"Température\",AND('Choix de l''instrument '!$D$3>=Température!G211,G211<>\"\"),\"\")","v":""}]
["TEM-0298","Thermocouple","1050 / 1175 °C",null,null,"Afficher",null,null,null,null,null,null,null,{"$f":"IF('Choix de l''instrument '!$C$3=\"Température\",AND('Choix de l''instrument '!$D$3>=Température!G212,G212<>\"\"),\"\")","v":""}]
["TEM-0297","Thermocouple","1050 / 1175 °C",null,null,"Afficher",null,null,null,null,null,null,null,{"$f":"IF('Choix de l''instrument '!$C$3=\"Température\",AND('Choix de l''instrument '!$D$3>=Température!G213,G213<>\"\"),\"\")","v":""}]
["TEM-0307","Thermocouple","300 / 300 °C",null,null,"Afficher",null,null,null,null,null,null,null,{"$f":"IF('Choix de l''instrument '!$C$3=\"Température\",AND('Choix de l''instrument '!$D$3>=Température!G214,G214<>\"\"),\"\")","v":""}]
["TEM-0317","Thermocouple","1050 / 1175 °C",null,null,"Afficher",null,null,null,null,null,null,null,{"$f":"IF('Choix de l''instrument '!$C$3=\"Température\",AND('Choix de l''instrument '!$D$3>=Température!G215,G215<>\"\"),\"\")","v":""}]
["TEM-0316","Thermocouple","1050 / 1175 °C",null,null,"Afficher",null,null,null,null,null,null,null,{"$f":"IF('Choix de l''instrument '!$C$3=\"Température\",AND('Choix de l''instrument '!$D$3>=Température!G216,G216<>\"\"),\"\")","v":""}]
["TEM-0315","Thermocouple","1050 / 1175 °C",null,null,"Afficher",null,null,null,null,null,null,null,{"$f":"IF('Choix de l''instrument '!$C$3=\"Température\",AND('Choix de l''instrument '!$D$3>=Température!G217,G217<>\"\"),\"\")","v":""}]
["TEM-0320","Thermocouple","1050 / 1175 °C",null,null,"Afficher",null,null,null,null,null,null,null,{"$f":"IF('Choix de l''instrument '!$C$3=\"Température\",AND('Choix de l''instrument '!$D$3>=Température!G218,G218<>\"\"),\"\")","v":""}]
["TEM-0319","Thermocouple","1050 / 1175 °C",null,null,"Afficher",null,null,null,null,null,null,null,{"$f":"IF('Choix de l''instrument '!$C$3=\"Température\",AND('Choix de l''instrument '!$D$3>=Température!G219,G219<>\"\"),\"\")","v":""}]
["TEM-0318","Thermocouple","1050 / 1175 °C",null,null,"Afficher",null,null,null,null,null,null,null,{"$f":"IF('Choix de l''instrument '!$C$3=\"Température\",AND('Choix de l''instrument '!$D$3>=Température!G220,G220<>\"\"),\"\")","v":""}]
["TEM-0314","Thermocouple","1050 / 1175 °C",null,null,"Afficher",null,null,null,null,null,null,null,{"$f":"IF('Choix de l''instrument '!$C$3=\"Température\",AND('Choix de l''instrument '!$D$3>=Température!G221,G221<>\"\"),\"\")","v":""}]
["TEM-0310","Thermocouple","1050 / 1175 °C",null,null,"Afficher",null,null,null,null,null,null,null,{"$f":"IF('Choix de l''instrument '!$C$3=\"Température\",AND('Choix de l''instrument '!$D$3>=Température!G222,G222<>\"\"),\"\")","v":""}]
["TEM-0309","Thermocouple","1050 / 1175 °C",null,null,"Afficher",null,null,null,null,null,null,null,{"$f":"IF('Choix de l''instrument '!$C$3=\"Température\",AND('Choix de l''instrument '!$D$3>=Température!G223,G223<>\"\"),\"\")","v":""}]
["TEM-0308","Thermocouple","1050 / 1175 °C",null,null,"Afficher",null,null,null,null,null,null,null,{"$f":"IF('Choix de l''instrument '!$C$3=\"Température\",AND('Choix de l''instrument '!$D$3>=Température!G224,G224<>\"\"),\"\")","v":""}]
["TEM-0313","Thermocouple","1050 / 1175 °C",null,null,"Afficher",null,null,null,null,null,null,null,{"$f":"IF('Choix de l''instrument '!$C$3=\"Température\",AND('Choix de l''instrument '!$D$3>=Température!G225,G225<>\"\"),\"\")","v":""}]
["TEM-0312","Thermocouple","1050 / 1175 °C",null,null,"Afficher",null,null,null,null,null,null,null,{"$f":"IF('Choix de l''instrument '!$C$3=\"Température\",AND('Choix de l''instrument '!$D$3>=Température!G226,G226<>\"\"),\"\")","v":""}]
["TEM-0311","Thermocouple","1050 / 1175 °C",null,null,"Afficher",null,null,null,null,null,null,null,{"$f":"IF('Choix de l''instrument '!$C$3=\"Température\",AND('Choix de l''instrument '!$D$3>=Température!G227,G227<>\"\"),\"\")","v":""}]
["TC-247","Thermocouple","0 / 1500 °C",null,null,"Afficher",null,null,null,null,null,null,null,{"$f":"IF('Choix de l''instrument '!$C$3=\"Température\",AND('Choix de l''instrument '!$D$3>=Température!G228,G228<>\"\"),\"\")","v":""}]
["TC-246","Thermocouple","950 / 1175 °C",null,null,"Afficher",null,null,null,null,null,null,null,{"$f":"IF('Choix de l''instrument '!$C$3=\"Température\",AND('Choix de l''instrument '!$D$3>=Température!G229,G229<>\"\"),\"\")","v":""}]
["TC-245","Thermocouple","0 / 1500 °C",null,null,"Afficher",null,null,null,null,null,null,null,{"$f":"IF('Choix de l''instrument '!$C$3=\"Température\",AND('Choix de l''instrument '!$D$3>=Température!G230,G230<>\"\"),\"\")","v":""}]
["TC-248","Thermocouple","0 / 1500 °C",null,null,"Afficher",null,null,null,null,null,null,null,{"$f":"IF('Choix de l''instrument '!$C$3=\"Température\",AND('Choix de l''instrument '!$D$3>=Température!G231,G231<>\"\"),\"\")","v":""}]
["TEM-0006","Thermocouple","-200 / 1100 °C",null,null,"Afficher",null,null,null,null,null,null,null,{"$f":"IF('Choix de l''instrument '!$C$3=\"Température\",AND('Choix de l''instrument '!$D$3>=Température!G232,G232<>\"\"),\"\")","v":""}]
["TEM-0016","Thermocouple","1050 / 1175 °C",null,null,"Afficher",null,null,null,null,null,null,null,{"$f":"IF('Choix de l''instrument '!$C$3=\"Température\",AND('Choix de l''instrument '!$D$3>=Température!G233,G233<>\"\"),\"\")","v":""}]
["TEM-0015","Thermocouple","1050 / 1175 °C",null,null,"Afficher",null,null,null,null,null,null,null,{"$f":"IF('Choix de l''instrument '!$C$3=\"Température\",AND('Choix de l''instrument '!$D$3>=Température!G234,G234<>\"\"),\"\")","v":""}]
["TEM-0014","Thermocouple","1050 / 1175 °C",null,null,"Afficher",null,null,null,null,null,null,null,{"$f":"IF('Choix de l''instrument '!$C$3=\"Température\",AND('Choix de l''instrument '!$D$3>=Température!G235,G235<>\"\"),\"\")","v":""}]
["TEM-0019","Thermocouple","1050 / 1175 °C",null,null,"Afficher",null,null,null,null,null,null,null,{"$f":"IF('Choix de l''instrument '!$C$3=\"Température\",AND('Choix de l''instrument '!$D$3>=Température!G236,G236<>\"\"),\"\")","v":""}]
["TEM-0018","Thermocouple","1050 / 1175 °C",null,null,"Afficher",null,null,null,null,null,null,null,{"$f":"IF('Choix de l''instrument '!$C$3=\"Température\",AND('Choix de l''instrument '!$D$3>=Température!G237,G237<>\"\"),\"\")","v":""}]
["TEM-0017","Thermocouple","1050 / 1175 °C",null,null,"Afficher",null,null,null,null,null,null,null,{"$f":"IF('Choix de l''instrument '!$C$3=\"Température\",AND('Choix de l''instrument '!$D$3>=Température!G238,G238<>\"\"),\"\")","v":""}]
["TEM-0009","Thermocouple","1050 / 1175 °C",null,null,"Afficher",null,null,null,null,null,null,null,{"$f":"IF('Choix de l''instrument '!$C$3=\"Température\",AND('Choix de l''instrument '!$D$3>=Température!G239,G239<>\"\"),\"\")","v":""}]
["TEM-0008","Thermocouple","0 / 1175 °C",null,null,"Afficher",null,null,null,null,null,null,null,{"$f":"IF('Choix de l''instrument '!$C$3=\"Température\",AND('Choix de l''instrument '!$D$3>=Température!G240,G240<>\"\"),\"\")","v":""}]
["TEM-0007","Thermocouple","0 / 1175 °C",null,null,"Afficher",null,null,null,null,null,null,null,{"$f":"IF('Choix de l''instrument '!$C$3=\"Température\",AND('Choix de l''instrument '!$D$3>=Température!G241,G241<>\"\"),\"\")","v":""}]
["TEM-0012","Thermocouple","0 / 1175 °C",null,null,"Afficher",null,null,null,null,null,null,null,{"$f":"IF('Choix de l''instrument '!$C$3=\"Température\",AND('Choix de l''instrument '!$D$3>=Température!G242,G242<>\"\"),\"\")","v":""}]
["TEM-0011","Thermocouple","0 / 1175 °C",null,null,"Afficher",null,null,null,null,null,null,null,{"$f":"IF('Choix de l''instrument '!$C$3=\"Température\",AND('Choix de l''instrument '!$D$3>=Température!G243,G243<>\"\"),\"\")","v":""}]
["TEM-0010","Thermocouple","0 / 1175 °C",null,null,"Afficher",null,null,null,null,null,null,null,{"$f":"IF('Choix de l''instrument '!$C$3=\"Température\",AND('Choix de l''instrument '!$D$3>=Température!G244,G244<>\"\"),\"\")","v":""}]
["TC-147","Thermocouple","950 / 1175 °C",null,null,"Afficher",null,null,null,null,null,null,null,{"$f":"IF('Choix de l''instrument '!$C$3=\"Température\",AND('Choix de l''instrument '!$D$3>=Température!G245,G245<>\"\"),\"\")","v":""}]
["TC-146","Thermocouple","0 / 1200 °C",null,null,"Afficher",null,null,null,null,null,null,null,{"$f":"IF('Choix de l''instrument '!$C$3=\"Température\",AND('Choix de l''instrument '!$D$3>=Température!G246,G246<>\"\"),\"\")","v":""}]
["TC-145","Thermocouple","0 / 1200 °C",null,null,"Afficher",null,null,null,null,null,null,null,{"$f":"IF('Choix de l''instrument '!$C$3=\"Température\",AND('Choix de l''instrument '!$D$3>=Température!G247,G247<>\"\"),\"\")","v":""}]
["TC-150","Thermocouple","0 / 1200 °C",null,null,"Afficher",null,null,null,null,null,null,null,{"$f":"IF('Choix de l''instrument '!$C$3=\"Température\",AND('Choix de l''instrument '!$D$3>=Température!G248,G248<>\"\"),\"\")","v":""}]
["TC-149","Thermocouple","0 / 1200 °C",null,null,"Afficher",null,null,null,null,null,null,null,{"$f":"IF('Choix de l''instrument '!$C$3=\"Température\",AND('Choix de l''instrument '!$D$3>=Température!G249,G249<>\"\"),\"\")","v":""}]
["TC-148","Thermocouple","0 / 1200 °C",null,null,"Afficher",null,null,null,null,null,null,null,{"$f":"IF('Choix de l''instrument '!$C$3=\"Température\",AND('Choix de l''instrument '!$D$3>=Température!G250,G250<>\"\"),\"\")","v":""}]
["TC-144","Thermocouple","0 / 1200 °C",null,null,"Afficher",null,null,null,null,null,null,null,{"$f":"IF('Choix de l''instrument '!$C$3=\"Température\",AND('Choix de l''instrument '!$D$3>=Température!G251,G251<>\"\"),\"\")","v":""}]
["TC-133","Thermocouple",null,null,null,"Afficher",null,null,null,null,null,null,null,{"$f":"IF('Choix de l''instrument '!$C$3=\"Température\",AND('Choix de l''instrument '!$D$3>=Température!G252,G252<>\"\"),\"\")","v":""}]
["TC-127","Thermocouple","1050 / 1175 °C",null,null,"Afficher",null,null,null,null,null,null,null,{"$f":"IF('Choix de l''instrument '!$C$3=\"Température\",AND('Choix de l''instrument '!$D$3>=Température!G253,G253<>\"\"),\"\")","v":""}]
["TC-113","Thermocouple","0 / 1200 °C",null,null,"Afficher",null,null,null,null,null,null,null,{"$f":"IF('Choix de l''instrument '!$C$3=\"Température\",AND('Choix de l''instrument '!$D$3>=Température!G254,G254<>\"\"),\"\")","v":""}]
["TC-143","Thermocouple","0 / 1200 °C",null,null,"Afficher",null,null,null,null,null,null,null,{"$f":"IF('Choix de l''instrument '!$C$3=\"Température\",AND('Choix de l''instrument '!$D$3>=Température!G255,G255<>\"\"),\"\")","v":""}]
["TC-142","Thermocouple","0 / 1200 °C",null,null,"Afficher",null,null,null,null,null,null,null,{"$f":"IF('Choix de l''instrument '!$C$3=\"Température\",AND('Choix de l''instrument '!$D$3>=Température!G256,G256<>\"\"),\"\")","v":""}]
["TC-134","Thermocouple",null,null,null,"Afficher",null,null,null,null,null,null,null,{"$f":"IF('Choix de l''instrument '!$C$3=\"Température\",AND('Choix de l''instrument '!$D$3>=Température!G257,G257<>\"\"),\"\")","v":""}]
["TC-156","Thermocouple","0 / 1200 °C",null,null,"Afficher",null,null,null,null,null,null,null,{"$f":"IF('Choix de l''instrument '!$C$3=\"Température\",AND('Choix de l''instrument '!$D$3>=Température!G258,G258<>\"\"),\"\")","v":""}]
["TC-223","Thermocouple","1050 / 1150 °C",null,null,"Afficher",null,null,null,null,null,null,null,{"$f":"IF('Choix de l''instrument '!$C$3=\"Température\",AND('Choix de l''instrument '!$D$3>=Température!G259,G259<>\"\"),\"\")","v":""}]
["TC-220","Thermocouple","950 / 1175 °C",null,null,"Afficher",null,null,null,null,null,null,null,{"$f":"IF('Choix de l''instrument '!$C$3=\"Température\",AND('Choix de l''instrument '!$D$3>=Température!G260,G260<>\"\"),\"\")","v":""}]
["TC-219","Thermocouple","950 / 1175 °C",null,null,"Afficher",null,null,null,null,null,null,null,{"$f":"IF('Choix de l''instrument '!$C$3=\"Température\",AND('Choix de l''instrument '!$D$3>=Température!G261,G261<>\"\"),\"\")","v":""}]
["TC-226","Thermocouple","510 / 1100 °C",null,null,"Afficher",null,null,null,null,null,null,null,{"$f":"IF('Choix de l''instrument '!$C$3=\"Température\",AND('Choix de l''instrument '!$D$3>=Température!G262,G262<>\"\"),\"\")","v":""}]
["TC-225","Thermocouple","1050 / 1100 °C",null,null,"Afficher",null,null,null,null,null,null,null,{"$f":"IF('Choix de l''instrument '!$C$3=\"Température\",AND('Choix de l''instrument '!$D$3>=Température!G263,G263<>\"\"),\"\")","v":""}]
["TC-224","Thermocouple","1050 / 1100 °C",null,null,"Afficher",null,null,null,null,null,null,null,{"$f":"IF('Choix de l''instrument '!$C$3=\"Température\",AND('Choix de l''instrument '!$D$3>=Température!G264,G264<>\"\"),\"\")","v":""}]
["TC-218","Thermocouple","0 / 1600 °C",null,null,"Afficher",null,null,null,null,null,null,null,{"$f":"IF('Choix de l''instrument '!$C$3=\"Température\",AND('Choix de l''instrument '!$D$3>=Température!G265,G265<>\"\"),\"\")","v":""}]
["TC-159","Thermocouple","0 / 1600 °C",null,null,"Afficher",null,null,null,null,null,null,null,{"$f":"IF('Choix de l''instrument '!$C$3=\"Température\",AND('Choix de l''instrument '!$D$3>=Température!G266,G266<>\"\"),\"\")","v":""}]
["TC-158","Thermocouple","0 / 1600 °C",null,null,"Afficher",null,null,null,null,null,null,null,{"$f":"IF('Choix de l''instrument '!$C$3=\"Température\",AND('Choix de l''instrument '!$D$3>=Température!G267,G267<>\"\"),\"\")","v":""}]
["TC-157","Thermocouple","0 / 1600 °C",null,null,"Afficher",null,null,null,null,null,null,null,{"$f":"IF('Choix de l''instrument '!$C$3=\"Température\",AND('Choix de l''instrument '!$D$3>=Température!G268,G268<>\"\"),\"\")","v":""}]
["TC-201","Thermocouple","0 / 1600 °C",null,null,"Afficher",null,null,null,null,null,null,null,{"$f":"IF('Choix de l''instrument '!$C$3=\"Température\",AND('Choix de l''instrument '!$D$3>=Température!G269,G269<>\"\"),\"\")","v":""}]
["TC-200","Thermocouple","950 / 1175 °C",null,null,"Afficher",null,null,null,null,null,null,null,{"$f":"IF('Choix de l''instrument '!$C$3=\"Température\",AND('Choix de l''instrument '!$D$3>=Température!G270,G270<>\"\"),\"\")","v":""}]
["TC-199","Thermocouple","0 / 1600 °C",null,null,"Afficher",null,null,null,null,null,null,null,{"$f":"IF('Choix de l''instrument '!$C$3=\"Température\",AND('Choix de l''instrument '!$D$3>=Température!G271,G271<>\"\"),\"\")","v":""}]
["TEM-0020","Thermocouple","1050 / 1175 °C",null,null,"Afficher",null,null,null,null,null,null,null,{"$f":"IF('Choix de l''instrument '!$C$3=\"Température\",AND('Choix de l''instrument '!$D$3>=Température!G272,G272<>\"\"),\"\")","v":""}]
["TEM-0057","Thermocouple","575 / 1100 °C",null,null,"Afficher",null,null,null,null,null,null,null,{"$f":"IF('Choix de l''instrument '!$C$3=\"Température\",AND('Choix de l''instrument '!$D$3>=Température!G273,G273<>\"\"),\"\")","v":""}]
["TEM-0055","Thermocouple","575 / 750 °C",null,null,"Afficher",null,null,null,null,null,null,null,{"$f":"IF('Choix de l''instrument '!$C$3=\"Température\",AND('Choix de l''instrument '!$D$3>=Température!G274,G274<>\"\"),\"\")","v":""}]
["TEM-0060","Thermocouple","850 / 1050 °C",null,null,"Afficher",null,null,null,null,null,null,null,{"$f":"IF('Choix de l''instrument '!$C$3=\"Température\",AND('Choix de l''instrument '!$D$3>=Température!G275,G275<>\"\"),\"\")","v":""}]
["TEM-0059","Thermocouple","850 / 1050 °C",null,null,"Afficher",null,null,null,null,null,null,null,{"$f":"IF('Choix de l''instrument '!$C$3=\"Température\",AND('Choix de l''instrument '!$D$3>=Température!G276,G276<>\"\"),\"\")","v":""}]
["TEM-0058","Thermocouple","800 / 1100 °C",null,null,"Afficher",null,null,null,null,null,null,null,{"$f":"IF('Choix de l''instrument '!$C$3=\"Température\",AND('Choix de l''instrument '!$D$3>=Température!G277,G277<>\"\"),\"\")","v":""}]
["TEM-0050","Thermocouple","1050 / 1175 °C",null,null,"Afficher",null,null,null,null,null,null,null,{"$f":"IF('Choix de l''instrument '!$C$3=\"Température\",AND('Choix de l''instrument '!$D$3>=Température!G278,G278<>\"\"),\"\")","v":""}]
["TEM-0049","Thermocouple","1050 / 1175 °C",null,null,"Afficher",null,null,null,null,null,null,null,{"$f":"IF('Choix de l''instrument '!$C$3=\"Température\",AND('Choix de l''instrument '!$D$3>=Température!G279,G279<>\"\"),\"\")","v":""}]
["TEM-0048","Thermocouple","1050 / 1175 °C",null,null,"Afficher",null,null,null,null,null,null,null,{"$f":"IF('Choix de l''instrument '!$C$3=\"Température\",AND('Choix de l''instrument '!$D$3>=Température!G280,G280<>\"\"),\"\")","v":""}]
["TEM-0053","Thermocouple","1050 / 1175 °C",null,null,"Afficher",null,null,null,null,null,null,null,{"$f":"IF('Choix de l''instrument '!$C$3=\"Température\",AND('Choix de l''instrument '!$D$3>=Température!G281,G281<>\"\"),\"\")","v":""}]
["TEM-0052","Thermocouple","1050 / 1175 °C",null,null,"Afficher",null,null,null,null,null,null,null,{"$f":"IF('Choix de l''instrument '!$C$3=\"Température\",AND('Choix de l''instrument '!$D$3>=Température!G282,G282<>\"\"),\"\")","v":""}]
["TEM-0051","Thermocouple","1050 / 1175 °C",null,null,"Afficher",null,null,null,null,null,null,null,{"$f":"IF('Choix de l''instrument '!$C$3=\"Température\",AND('Choix de l''instrument '!$D$3>=Température!G283,G283<>\"\"),\"\")","v":""}]
["TEM-0061","Thermocouple","400 / 800 °C",null,null,"Afficher",null,null,null,null,null,null,null,{"$f":"IF('Choix de l''instrument '!$C$3=\"Température\",AND('Choix de l''instrument '!$D$3>=Température!G284,G284<>\"\"),\"\")","v":""}]
["TEM-0074","Thermocouple","1050 / 1175 °C",null,null,"Afficher",null,null,null,null,null,null,null,{"$f":"IF('Choix de l''instrument '!$C$3=\"Température\",AND('Choix de l''instrument '!$D$3>=Température!G285,G285<>\"\"),\"\")","v":""}]
["TEM-0073","Thermocouple","1050 / 1175 °C",null,null,"Afficher",null,null,null,null,null,null,null,{"$f":"IF('Choix de l''instrument '!$C$3=\"Température\",AND('Choix de l''instrument '!$D$3>=Température!G286,G286<>\"\"),\"\")","v":""}]
["TEM-0072","Thermocouple","1050 / 1175 °C",null,null,"Afficher",null,null,null,null,null,null,null,{"$f":"IF('Choix de l''instrument '!$C$3=\"Température\",AND('Choix de l''instrument '!$D$3>=Température!G287,G287<>\"\"),\"\")","v":""}]
["TEM-0062","Thermocouple","400 / 800 °C",null,null,"Afficher",null,null,null,null,null,null,null,{"$f":"IF('Choix de l''instrument '!$C$3=\"Température\",AND('Choix de l''instrument '!$D$3>=Température!G288,G288<>\"\"),\"\")","v":""}]
["TEM-0067","Thermocouple","1050 / 1100 °C",null,null,"Afficher",null,null,null,null,null,null,null,{"$f":"IF('Choix de l''instrument '!$C$3=\"Température\",AND('Choix de l''instrument '!$D$3>=Température!G289,G289<>\"\"),\"\")","v":""}]
["TEM-0029","Thermocouple","1050 / 1175 °C",null,null,"Afficher",null,null,null,null,null,null,null,{"$f":"IF('Choix de l''instrument '!$C$3=\"Température\",AND('Choix de l''instrument '!$D$3>=Température!G290,G290<>\"\"),\"\")","v":""}]
["TEM-0028","Thermocouple","1050 / 1175 °C",null,null,"Afficher",null,null,null,null,null,null,null,{"$f":"IF('Choix de l''instrument '!$C$3=\"Température\",AND('Choix de l''instrument '!$D$3>=Température!G291,G291<>\"\"),\"\")","v":""}]
["TEM-0027","Thermocouple","1050 / 1175 °C",null,null,"Afficher",null,null,null,null,null,null,null,{"$f":"IF('Choix de l''instrument '!$C$3=\"Température\",AND('Choix de l''instrument '!$D$3>=Température!G292,G292<>\"\"),\"\")","v":""}]
["TEM-0023","Thermocouple","1050 / 1175 °C",null,null,"Afficher",null,null,null,null,null,null,null,{"$f":"IF('Choix de l''instrument '!$C$3=\"Température\",AND('Choix de l''instrument '!$D$3>=Température!G293,G293<>\"\"),\"\")","v":""}]
["TEM-0022","Thermocouple","1050 / 1175 °C",null,null,"Afficher",null,null,null,null,null,null,null,{"$f":"IF('Choix de l''instrument '!$C$3=\"Température\",AND('Choix de l''instrument '!$D$3>=Température!G294,G294<>\"\"),\"\")","v":""}]
["TEM-0021","Thermocouple","1050 / 1175 °C",null,null,"Afficher",null,null,null,null,null,null,null,{"$f":"IF('Choix de l''instrument '!$C$3=\"Température\",AND('Choix de l''instrument '!$D$3>=Température!G295,G295<>\"\"),\"\")","v":""}]
["TEM-0026","Thermocouple","1050 / 1175 °C",null,null,"Afficher",null,null,null,null,null,null,null,{"$f":"IF('Choix de l''instrument '!$C$3=\"Température\",AND('Choix de l''instrument '!$D$3>=Température!G296,G296<>\"\"),\"\")","v":""}]
["TEM-0025","Thermocouple","1050 / 1175 °C",null,null,"Afficher",null,null,null,null,null,null,null,{"$f":"IF('Choix de l''instrument '!$C$3=\"Température\",AND('Choix de l''instrument '!$D$3>=Température!G297,G297<>\"\"),\"\")","v":""}]
["TEM-0024","Thermocouple","1050 / 1175 °C",null,null,"Afficher",null,null,null,null,null,null,null,{"$f":"IF('Choix de l''instrument '!$C$3=\"Température\",AND('Choix de l''instrument '!$D$3>=Température!G298,G298<>\"\"),\"\")","v":""}]
["TEM-0044","Thermocouple","1050 / 1175 °C",null,null,"Afficher",null,null,null,null,null,null,null,{"$f":"IF('Choix de l''instrument '!$C$3=\"Température\",AND('Choix de l''instrument '!$D$3>=Température!G299,G299<>\"\"),\"\")","v":""}]
["TEM-0043","Thermocouple","1050 / 1175 °C",null,null,"Afficher",null,null,null,null,null,null,null,{"$f":"IF('Choix de l''instrument '!$C$3=\"Température\",AND('Choix de l''instrument '!$D$3>=Température!G300,G300<>\"\"),\"\")","v":""}]
["TEM-0042","Thermocouple","1050 / 1175 °C",null,null,"Afficher",null,null,null,null,null,null,null,{"$f":"IF('Choix de l''instrument '!$C$3=\"Température\",AND('Choix de l''instrument '!$D$3>=Température!G301,G301<>\"\"),\"\")","v":""}]
["TEM-0047","Thermocouple","1050 / 1175 °C",null,null,"Afficher",null,null,null,null,null,null,null,{"$f":"IF('Choix de l''instrument '!$C$3=\"Température\",AND('Choix de l''instrument '!$D$3>=Température!G302,G302<>\"\"),\"\")","v":""}]
["TEM-0046","Thermocouple","1050 / 1175 °C",null,null,"Afficher",null,null,null,null,null,null,null,{"$f":"IF('Choix de l''instrument '!$C$3=\"Température\",AND('Choix de l''instrument '!$D$3>=Température!G303,G303<>\"\"),\"\")","v":""}]
["TEM-0045","Thermocouple","1050 / 1175 °C",null,null,"Afficher",null,null,null,null,null,null,null,{"$f":"IF('Choix de l''instrument '!$C$3=\"Température\",AND('Choix de l''instrument '!$D$3>=Température!G304,G304<>\"\"),\"\")","v":""}]
["TEM-0041","Thermocouple","1050 / 1175 °C",null,null,"Afficher",null,null,null,null,null,null,null,{"$f":"IF('Choix de l''instrument '!$C$3=\"Température\",AND('Choix de l''instrument '!$D$3>=Température!G305,G305<>\"\"),\"\")","v":""}]
["TEM-0037","Thermocouple","1050 / 1175 °C",null,null,"Afficher",null,null,null,null,null,null,null,{"$f":"IF('Choix de l''instrument '!$C$3=\"Température\",AND('Choix de l''instrument '!$D$3>=Température!G306,G306<>\"\"),\"\")","v":""}]
["TEM-0036","Thermocouple","1050 / 1175 °C",null,null,"Afficher",null,null,null,null,null,null,null,{"$f":"IF('Choix de l''instrument '!$C$3=\"Température\",AND('Choix de l''instrument '!$D$3>=Température!G307,G307<>\"\"),\"\")","v":""}]
["TEM-0035","Thermocouple","1050 / 1175 °C",null,null,"Afficher",null,null,null,null,null,null,null,{"$f":"IF('Choix de l''instrument '!$C$3=\"Température\",AND('Choix de l''instrument '!$D$3>=Température!G308,G308<>\"\"),\"\")","v":""}]
["TEM-0040","Thermocouple","1050 / 1175 °C",null,null,"Afficher",null,null,null,null,null,null,null,{"$f":"IF('Choix de l''instrument '!$C$3=\"Température\",AND('Choix de l''instrument '!$D$3>=Température!G309,G309<>\"\"),\"\")","v":""}]
["TEM-0039","Thermocouple","1050 / 1175 °C",null,null,"Afficher",null,null,null,null,null,null,null,{"$f":"IF('Choix de l''instrument '!$C$3=\"Température\",AND('Choix de l''instrument '!$D$3>=Température!G310,G310<>\"\"),\"\")","v":""}]
["TEM-0038","Thermocouple","1050 / 1175 °C",null,null,"Afficher",null,null,null,null,null,null,null,{"$f":"IF('Choix de l''instrument '!$C$3=\"Température\",AND('Choix de l''instrument '!$D$3>=Température!G311,G311<>\"\"),\"\")","v":""}]
["TC-112","Thermocouple","800 / 1100 °C",null,null,"Afficher",null,null,null,null,null,null,null,{"$f":"IF('Choix de l''instrument '!$C$3=\"Température\",AND('Choix de l''instrument '!$D$3>=Température!G312,G312<>\"\"),\"\")","v":""}]
["TC-010","Thermocouple",null,null,null,"Afficher",null,null,null,null,null,null,null,{"$f":"IF('Choix de l''instrument '!$C$3=\"Température\",AND('Choix de l''instrument '!$D$3>=Température!G313,G313<>\"\"),\"\")","v":""}]
["TC-009","Thermocouple",null,null,null,"Afficher",null,null,null,null,null,null,null,{"$f":"IF('Choix de l''instrument '!$C$3=\"Température\",AND('Choix de l''instrument '!$D$3>=Température!G314,G314<>\"\"),\"\")","v":""}]
["TC-008","Thermocouple",null,null,null,"Afficher",null,null,null,null,null,null,null,{"$f":"IF('Choix de l''instrument '!$C$3=\"Température\",AND('Choix de l''instrument '!$D$3>=Température!G315,G315<>\"\"),\"\")","v":""}]
["TC-013","Thermocouple",null,null,null,"Afficher",null,null,null,null,null,null,null,{"$f":"IF('Choix de l''instrument '!$C$3=\"Température\",AND('Choix de l''instrument '!$D$3>=Température!G316,G316<>\"\"),\"\")","v":""}]
["TC-012","Thermocouple",null,null,null,"Afficher",null,null,null,null,null,null,null,{"$f":"IF('Choix de l''instrument '!$C$3=\"Température\",AND('Choix de l''instrument '!$D$3>=Température!G317,G317<>\"\"),\"\")","v":""}]
["TC-011","Thermocouple",null,null,null,"Afficher",null,null,null,null,null,null,null,{"$f":"IF('Choix de l''instrument '!$C$3=\"Température\",AND('Choix de l''instrument '!$D$3>=Température!G318,G318<>\"\"),\"\")","v":""}]
["TC-007","Thermocouple",null,null,null,"Afficher",null,null,null,null,null,null,null,{"$f":"IF('Choix de l''instrument '!$C$3=\"Température\",AND('Choix de l''instrument '!$D$3>=Température!G319,G319<>\"\"),\"\")","v":""}]
["TC-003","Thermocouple",null,null,null,"Afficher",null,null,null,null,null,null,null,{"$f":"IF('Choix de l''instrument '!$C$3=\"Température\",AND('Choix de l''instrument '!$D$3>=Température!G320,G320<>\"\"),\"\")","v":""}]
["TC-002","Thermocouple",null,null,null,"Afficher",null,null,null,null,null,null,null,{"$f":"IF('Choix de l''instrument '!$C$3=\"Température\",AND('Choix de l''instrument '!$D$3>=Température!G321,G321<>\"\"),\"\")","v":""}]
["TC-001","Thermocouple",null,null,null,"Afficher",null,null,null,null,null,null,null,{"$f":"IF('Choix de l''instrument '!$C$3=\"Température\",AND('Choix de l''instrument '!$D$3>=Température!G322,G322<>\"\"),\"\")","v":""}]
["TC-006","Thermocouple",null,null,null,"Afficher",null,null,null,null,null,null,null,{"$f":"IF('Choix de l''instrument '!$C$3=\"Température\",AND('Choix de l''instrument '!$D$3>=Température!G323,G323<>\"\"),\"\")","v":""}]
["TC-005","Thermocouple",null,null,null,"Afficher",null,null,null,null,null,null,null,{"$f":"IF('Choix de l''instrument '!$C$3=\"Température\",AND('Choix de l''instrument '!$D$3>=Température!G324,G324<>\"\"),\"\")","v":""}]
["TC-004","Thermocouple",null,null,null,"Afficher",null,null,null,null,null,null,null,{"$f":"IF('Choix de l''instrument '!$C$3=\"Température\",AND('Choix de l''instrument '!$D$3>=Température!G325,G325<>\"\"),\"\")","v":""}]
["TC-014","Thermocouple",null,null,null,"Afficher",null,null,null,null,null,null,null,{"$f":"IF('Choix de l''instrument '!$C$3=\"Température\",AND('Choix de l''instrument '!$D$3>=Température!G326,G326<>\"\"),\"\")","v":""}]
["TC-024","Thermocouple",null,null,null,"Afficher",null,null,null,null,null,null,null,{"$f":"IF('Choix de l''instrument '!$C$3=\"Température\",AND('Choix de l''instrument '!$D$3>=Température!G327,G327<>\"\"),\"\")","v":""}]
["TC-023","Thermocouple","1050 / 1175 °C",null,null,"Afficher",null,null,null,null,null,null,null,{"$f":"IF('Choix de l''instrument '!$C$3=\"Température\",AND('Choix de l''instrument '!$D$3>=Température!G328,G328<>\"\"),\"\")","v":""}]
["TC-022","Thermocouple","950 / 1175 °C",null,null,"Afficher",null,null,null,null,null,null,null,{"$f":"IF('Choix de l''instrument '!$C$3=\"Température\",AND('Choix de l''instrument '!$D$3>=Température!G329,G329<>\"\"),\"\")","v":""}]
["TC-027","Thermocouple",null,null,null,"Afficher",null,null,null,null,null,null,null,{"$f":"IF('Choix de l''instrument '!$C$3=\"Température\",AND('Choix de l''instrument '!$D$3>=Température!G330,G330<>\"\"),\"\")","v":""}]
["TC-026","Thermocouple",null,null,null,"Afficher",null,null,null,null,null,null,null,{"$f":"IF('Choix de l''instrument '!$C$3=\"Température\",AND('Choix de l''instrument '!$D$3>=Température!G331,G331<>\"\"),\"\")","v":""}]
["TC-025","Thermocouple","1050 / 1175 °C",null,null,"Afficher",null,null,null,null,null,null,null,{"$f":"IF('Choix de l''instrument '!$C$3=\"Température\",AND('Choix de l''instrument '!$D$3>=Température!G332,G332<>\"\"),\"\")","v":""}]
["TC-021","Thermocouple",null,null,null,"Afficher",null,null,null,null,null,null,null,{"$f":"IF('Choix de l''instrument '!$C$3=\"Température\",AND('Choix de l''instrument '!$D$3>=Température!G333,G333<>\"\"),\"\")","v":""}]
["TC-017","Thermocouple",null,null,null,"Afficher",null,null,null,null,null,null,null,{"$f":"IF('Choix de l''instrument '!$C$3=\"Température\",AND('Choix de l''instrument '!$D$3>=Température!G334,G334<>\"\"),\"\")","v":""}]
["TC-016","Thermocouple",null,null,null,"Afficher",null,null,null,null,null,null,null,{"$f":"IF('Choix de l''instrument '!$C$3=\"Température\",AND('Choix de l''instrument '!$D$3>=Température!G335,G335<>\"\"),\"\")","v":""}]
["TC-015","Thermocouple",null,null,null,"Afficher",null,null,null,null,null,null,null,{"$f":"IF('Choix de l''instrument '!$C$3=\"Température\",AND('Choix de l''instrument '!$D$3>=Température!G336,G336<>\"\"),\"\")","v":""}]
["TC-020","Thermocouple",null,null,null,"Afficher",null,null,null,null,null,null,null,{"$f":"IF('Choix de l''instrument '!$C$3=\"Température\",AND('Choix de l''instrument '!$D$3>=Température!G337,G337<>\"\"),\"\")","v":""}]
["TC-019","Thermocouple",null,null,null,"Afficher",null,null,null,null,null,null,null,{"$f":"IF('Choix de l''instrument '!$C$3=\"Température\",AND('Choix de l''instrument '!$D$3>=Température!G338,G338<>\"\"),\"\")","v":""}]
["TC-018","Thermocouple",null,null,null,"Afficher",null,null,null,null,null,null,null,{"$f":"IF('Choix de l''instrument '!$C$3=\"Température\",AND('Choix de l''instrument '!$D$3>=Température!G339,G339<>\"\"),\"\")","v":""}]
["TC-028","Thermocouple",null,null,null,"Afficher",null,null,null,null,null,null,null,{"$f":"IF('Choix de l''instrument '!$C$3=\"Température\",AND('Choix de l''instrument '!$D$3>=Température!G340,G340<>\"\"),\"\")","v":""}]
["TC-065","Thermocouple","0 / 1200",null,null,"Afficher",null,null,null,null,null,null,null,{"$f":"IF('Choix de l''instrument '!$C$3=\"Température\",AND('Choix de l''instrument '!$D$3>=Température!G341,G341<>\"\"),\"\")","v":""}]
["TC-064","Thermocouple","1000 / 1100 °C",null,null,"Afficher",null,null,null,null,null,null,null,{"$f":"IF('Choix de l''instrument '!$C$3=\"Température\",AND('Choix de l''instrument '!$D$3>=Température!G342,G342<>\"\"),\"\")","v":""}]
["TC-063","Thermocouple","1000 / 1100 °C",null,null,"Afficher",null,null,null,null,null,null,null,{"$f":"IF('Choix de l''instrument '!$C$3=\"Température\",AND('Choix de l''instrument '!$D$3>=Température!G343,G343<>\"\"),\"\")","v":""}]
["TC-068","Thermocouple","0 / 1250 °C",null,null,"Afficher",null,null,null,null,null,null,null,{"$f":"IF('Choix de l''instrument '!$C$3=\"Température\",AND('Choix de l''instrument '!$D$3>=Température!G344,G344<>\"\"),\"\")","v":""}]
["TC-067","Thermocouple","1050 / 1200 °C",null,null,"Afficher",null,null,null,null,null,null,null,{"$f":"IF('Choix de l''instrument '!$C$3=\"Température\",AND('Choix de l''instrument '!$D$3>=Température!G345,G345<>\"\"),\"\")","v":""}]
["TC-066","Thermocouple","1000 / 1100 °C",null,null,"Afficher",null,null,null,null,null,null,null,{"$f":"IF('Choix de l''instrument '!$C$3=\"Température\",AND('Choix de l''instrument '!$D$3>=Température!G346,G346<>\"\"),\"\")","v":""}]
["TC-062","Thermocouple","0 / 1200 °C",null,null,"Afficher",null,null,null,null,null,null,null,{"$f":"IF('Choix de l''instrument '!$C$3=\"Température\",AND('Choix de l''instrument '!$D$3>=Température!G347,G347<>\"\"),\"\")","v":""}]
["TC-058","Thermocouple",null,null,null,"Afficher",null,null,null,null,null,null,null,{"$f":"IF('Choix de l''instrument '!$C$3=\"Température\",AND('Choix de l''instrument '!$D$3>=Température!G348,G348<>\"\"),\"\")","v":""}]
["TC-057","Thermocouple","950 / 1175 °C",null,null,"Afficher",null,null,null,null,null,null,null,{"$f":"IF('Choix de l''instrument '!$C$3=\"Température\",AND('Choix de l''instrument '!$D$3>=Température!G349,G349<>\"\"),\"\")","v":""}]
["TC-056","Thermocouple",null,null,null,"Afficher",null,null,null,null,null,null,null,{"$f":"IF('Choix de l''instrument '!$C$3=\"Température\",AND('Choix de l''instrument '!$D$3>=Température!G350,G350<>\"\"),\"\")","v":""}]
["TC-061","Thermocouple","950 / 1175 °C",null,null,"Afficher",null,null,null,null,null,null,null,{"$f":"IF('Choix de l''instrument '!$C$3=\"Température\",AND('Choix de l''instrument '!$D$3>=Température!G351,G351<>\"\"),\"\")","v":""}]
["TC-060","Thermocouple","950 / 1175 °C",null,null,"Afficher",null,null,null,null,null,null,null,{"$f":"IF('Choix de l''instrument '!$C$3=\"Température\",AND('Choix de l''instrument '!$D$3>=Température!G352,G352<>\"\"),\"\")","v":""}]
["TC-059","Thermocouple",null,null,null,"Afficher",null,null,null,null,null,null,null,{"$f":"IF('Choix de l''instrument '!$C$3=\"Température\",AND('Choix de l''instrument '!$D$3>=Température!G353,G353<>\"\"),\"\")","v":""}]
["TC-069","Thermocouple",null,null,null,"Afficher",null,null,null,null,null,null,null,{"$f":"IF('Choix de l''instrument '!$C$3=\"Température\",AND('Choix de l''instrument '!$D$3>=Température!G354,G354<>\"\"),\"\")","v":""}]
["TC-079","Thermocouple","0 / 1250 °C",null,null,"Afficher",null,null,null,null,null,null,null,{"$f":"IF('Choix de l''instrument '!$C$3=\"Température\",AND('Choix de l''instrument '!$D$3>=Température!G355,G355<>\"\"),\"\")","v":""}]
["TC-078","Thermocouple","0 / 1250 °C",null,null,"Afficher",null,null,null,null,null,null,null,{"$f":"IF('Choix de l''instrument '!$C$3=\"Température\",AND('Choix de l''instrument '!$D$3>=Température!G356,G356<>\"\"),\"\")","v":""}]
["TC-077","Thermocouple","0 / 1250 °C",null,null,"Afficher",null,null,null,null,null,null,null,{"$f":"IF('Choix de l''instrument '!$C$3=\"Température\",AND('Choix de l''instrument '!$D$3>=Température!G357,G357<>\"\"),\"\")","v":""}]
["TC-082","Thermocouple",null,null,null,"Afficher",null,null,null,null,null,null,null,{"$f":"IF('Choix de l''instrument '!$C$3=\"Température\",AND('Choix de l''instrument '!$D$3>=Température!G358,G358<>\"\"),\"\")","v":""}]
["TC-081","Thermocouple","510 / 750 °C",null,null,"Afficher",null,null,null,null,null,null,null,{"$f":"IF('Choix de l''instrument '!$C$3=\"Température\",AND('Choix de l''instrument '!$D$3>=Température!G359,G359<>\"\"),\"\")","v":""}]
["TC-080","Thermocouple","0 / 1250 °C",null,null,"Afficher",null,null,null,null,null,null,null,{"$f":"IF('Choix de l''instrument '!$C$3=\"Température\",AND('Choix de l''instrument '!$D$3>=Température!G360,G360<>\"\"),\"\")","v":""}]
["TC-076","Thermocouple","0 / 1250 °C",null,null,"Afficher",null,null,null,null,null,null,null,{"$f":"IF('Choix de l''instrument '!$C$3=\"Température\",AND('Choix de l''instrument '!$D$3>=Température!G361,G361<>\"\"),\"\")","v":""}]
["TC-072","Thermocouple","0 / 1250 °C",null,null,"Afficher",null,null,null,null,null,null,null,{"$f":"IF('Choix de l''instrument '!$C$3=\"Température\",AND('Choix de l''instrument '!$D$3>=Température!G362,G362<>\"\"),\"\")","v":""}]
["TC-071","Thermocouple","0 / 1250 °C",null,null,"Afficher",null,null,null,null,null,null,null,{"$f":"IF('Choix de l''instrument '!$C$3=\"Température\",AND('Choix de l''instrument '!$D$3>=Température!G363,G363<>\"\"),\"\")","v":""}]
["TC-070","Thermocouple",null,null,null,"Afficher",null,null,null,null,null,null,null,{"$f":"IF('Choix de l''instrument '!$C$3=\"Température\",AND('Choix de l''instrument '!$D$3>=Température!G364,G364<>\"\"),\"\")","v":""}]
["TC-075","Thermocouple","0 / 1250 °C",null,null,"Afficher",null,null,null,null,null,null,null,{"$f":"IF('Choix de l''instrument '!$C$3=\"Température\",AND('Choix de l''instrument '!$D$3>=Température!G365,G365<>\"\"),\"\")","v":""}]
["TC-074","Thermocouple","0 / 1250 °C",null,null,"Afficher",null,null,null,null,null,null,null,{"$f":"IF('Choix de l''instrument '!$C$3=\"Température\",AND('Choix de l''instrument '!$D$3>=Température!G366,G366<>\"\"),\"\")","v":""}]
["TC-073","Thermocouple","0 / 1250 °C",null,null,"Afficher",null,null,null,null,null,null,null,{"$f":"IF('Choix de l''instrument '!$C$3=\"Température\",AND('Choix de l''instrument '!$D$3>=Température!G367,G367<>\"\"),\"\")","v":""}]
["TC-038","Thermocouple","0 / 1250 °C",null,null,"Afficher",null,null,null,null,null,null,null,{"$f":"IF('Choix de l''instrument '!$C$3=\"Température\",AND('Choix de l''instrument '!$D$3>=Température!G368,G368<>\"\"),\"\")","v":""}]
["TC-037","Thermocouple",null,null,null,"Afficher",null,null,null,null,null,null,null,{"$f":"IF('Choix de l''instrument '!$C$3=\"Température\",AND('Choix de l''instrument '!$D$3>=Température!G369,G369<>\"\"),\"\")","v":""}]
["TC-036","Thermocouple",null,null,null,"Afficher",null,null,null,null,null,null,null,{"$f":"IF('Choix de l''instrument '!$C$3=\"Température\",AND('Choix de l''instrument '!$D$3>=Température!G370,G370<>\"\"),\"\")","v":""}]
["TC-041","Thermocouple",null,null,null,"Afficher",null,null,null,null,null,null,null,{"$f":"IF('Choix de l''instrument '!$C$3=\"Température\",AND('Choix de l''instrument '!$D$3>=Température!G371,G371<>\"\"),\"\")","v":""}]
["TC-040","Thermocouple",null,null,null,"Afficher",null,null,null,null,null,null,null,{"$f":"IF('Choix de l''instrument '!$C$3=\"Température\",AND('Choix de l''instrument '!$D$3>=Température!G372,G372<>\"\"),\"\")","v":""}]
["TC-039","Thermocouple",null,null,null,"Afficher",null,null,null,null,null,null,null,{"$f":"IF('Choix de l''instrument '!$C$3=\"Température\",AND('Choix de l''instrument '!$D$3>=Température!G373,G373<>\"\"),\"\")","v":""}]
["TC-035","Thermocouple",null,null,null,"Afficher",null,null,null,null,null,null,null,{"$f":"IF('Choix de l''instrument '!$C$3=\"Température\",AND('Choix de l''instrument '!$D$3>=Température!G374,G374<>\"\"),\"\")","v":""}]
["TC-031","Thermocouple","510 / 750 °C",null,null,"Afficher",null,null,null,null,null,null,null,{"$f":"IF('Choix de l''instrument '!$C$3=\"Température\",AND('Choix de l''instrument '!$D$3>=Température!G375,G375<>\"\"),\"\")","v":""}]
["TC-030","Thermocouple",null,null,null,"Afficher",null,null,null,null,null,null,null,{"$f":"IF('Choix de l''instrument '!$C$3=\"Température\",AND('Choix de l''instrument '!$D$3>=Température!G376,G376<>\"\"),\"\")","v":""}]
["TC-029","Thermocouple",null,null,null,"Afficher",null,null,null,null,null,null,null,{"$f":"IF('Choix de l''instrument '!$C$3=\"Température\",AND('Choix de l''instrument '!$D$3>=Température!G377,G377<>\"\"),\"\")","v":""}]
["TC-034","Thermocouple",null,null,null,"Afficher",null,null,null,null,null,null,null,{"$f":"IF('Choix de l''instrument '!$C$3=\"Température\",AND('Choix de l''instrument '!$D$3>=Température!G378,G378<>\"\"),\"\")","v":""}]
["TC-033","Thermocouple",null,null,null,"Afficher",null,null,null,null,null,null,null,{"$f":"IF('Choix de l''instrument '!$C$3=\"Température\",AND('Choix de l''instrument '!$D$3>=Température!G379,G379<>\"\"),\"\")","v":""}]
["TC-032","Thermocouple","575 / 1100 °C",null,null,"Afficher",null,null,null,null,null,null,null,{"$f":"IF('Choix de l''instrument '!$C$3=\"Température\",AND('Choix de l''instrument '!$D$3>=Température!G380,G380<>\"\"),\"\")","v":""}]
["TC-042","Thermocouple",null,null,null,"Afficher",null,null,null,null,null,null,null,{"$f":"IF('Choix de l''instrument '!$C$3=\"Température\",AND('Choix de l''instrument '!$D$3>=Température!G381,G381<>\"\"),\"\")","v":""}]
["TC-052","Thermocouple",null,null,null,"Afficher",null,null,null,null,null,null,null,{"$f":"IF('Choix de l''instrument '!$C$3=\"Température\",AND('Choix de l''instrument '!$D$3>=Température!G382,G382<>\"\"),\"\")","v":""}]
["TC-051","Thermocouple",null,null,null,"Afficher",null,null,null,null,null,null,null,{"$f":"IF('Choix de l''instrument '!$C$3=\"Température\",AND('Choix de l''instrument '!$D$3>=Température!G383,G383<>\"\"),\"\")","v":""}]
["TC-050","Thermocouple",null,null,null,"Afficher",null,null,null,null,null,null,null,{"$f":"IF('Choix de l''instrument '!$C$3=\"Température\",AND('Choix de l''instrument '!$D$3>=Température!G384,G384<>\"\"),\"\")","v":""}]
["TC-055","Thermocouple",null,null,null,"Afficher",null,null,null,null,null,null,null,{"$f":"IF('Choix de l''instrument '!$C$3=\"Température\",AND('Choix de l''instrument '!$D$3>=Température!G385,G385<>\"\"),\"\")","v":""}]
["TC-054","Thermocouple",null,null,null,"Afficher",null,null,null,null,null,null,null,{"$f":"IF('Choix de l''instrument '!$C$3=\"Température\",AND('Choix de l''instrument '!$D$3>=Température!G386,G386<>\"\"),\"\")","v":""}]
["TC-053","Thermocouple",null,null,null,"Afficher",null,null,null,null,null,null,null,{"$f":"IF('Choix de l''instrument '!$C$3=\"Température\",AND('Choix de l''instrument '!$D$3>=Température!G387,G387<>\"\"),\"\")","v":""}]
["TC-049","Thermocouple","510 / 750 °C",null,null,"Afficher",null,null,null,null,null,null,null,{"$f":"IF('Choix de l''instrument '!$C$3=\"Température\",AND('Choix de l''instrument '!$D$3>=Température!G388,G388<>\"\"),\"\")","v":""}]
["TC-045","Thermocouple",null,null,null,"Afficher",null,null,null,null,null,null,null,{"$f":"IF('Choix de l''instrument '!$C$3=\"Température\",AND('Choix de l''instrument '!$D$3>=Température!G389,G389<>\"\"),\"\")","v":""}]
["TC-044","Thermocouple",null,null,null,"Afficher",null,null,null,null,null,null,null,{"$f":"IF('Choix de l''instrument '!$C$3=\"Température\",AND('Choix de l''instrument '!$D$3>=Température!G390,G390<>\"\"),\"\")","v":""}]
["TC-043","Thermocouple",null,null,null,"Afficher",null,null,null,null,null,null,null,{"$f":"IF('Choix de l''instrument '!$C$3=\"Température\",AND('Choix de l''instrument '!$D$3>=Température!G391,G391<>\"\"),\"\")","v":""}]
["TC-048","Thermocouple",null,null,null,"Afficher",null,null,null,null,null,null,null,{"$f":"IF('Choix de l''instrument '!$C$3=\"Température\",AND('Choix de l''instrument '!$D$3>=Température!G392,G392<>\"\"),\"\")","v":""}]
["TC-047","Thermocouple",null,null,null,"Afficher",null,null,null,null,null,null,null,{"$f":"IF('Choix de l''instrument '!$C$3=\"Température\",AND('Choix de l''instrument '!$D$3>=Température!G393,G393<>\"\"),\"\")","v":""}]
["TC-046","Thermocouple",null,null,null,"Afficher",null,null,null,null,null,null,null,{"$f":"IF('Choix de l''instrument '!$C$3=\"Température\",AND('Choix de l''instrument '!$D$3>=Température!G394,G394<>\"\"),\"\")","v":""}]
["ED.257A","Thermocouple",null,null,null,"Afficher",null,null,null,null,null,null,null,{"$f":"IF('Choix de l''instrument '!$C$3=\"Température\",AND('Choix de l''instrument '!$D$3>=Température!G395,G395<>\"\"),\"\")","v":""}]
["ED.256A","Thermocouple",null,null,null,"Afficher",null,null,null,null,null,null,null,{"$f":"IF('Choix de l''instrument '!$C$3=\"Température\",AND('Choix de l''instrument '!$D$3>=Température!G396,G396<>\"\"),\"\")","v":""}]
["ED.256","Thermocouple",null,null,null,"Afficher",null,null,null,null,null,null,null,{"$f":"IF('Choix de l''instrument '!$C$3=\"Température\",AND('Choix de l''instrument '!$D$3>=Température!G397,G397<>\"\"),\"\")","v":""}]
["ED.260","Thermocouple",null,null,null,"Afficher",null,null,null,null,null,null,null,{"$f":"IF('Choix de l''instrument '!$C$3=\"Température\",AND('Choix de l''instrument '!$D$3>=Température!G398,G398<>\"\"),\"\")","v":""}]
["ED.259A","Thermocouple",null,null,null,"Afficher",null,null,null,null,null,null,null,{"$f":"IF('Choix de l''instrument '!$C$3=\"Température\",AND('Choix de l''instrument '!$D$3>=Température!G399,G399<>\"\"),\"\")","v":""}]
["ED.258A","Thermocouple",null,null,null,"Afficher",null,null,null,null,null,null,null,{"$f":"IF('Choix de l''instrument '!$C$3=\"Température\",AND('Choix de l''instrument '!$D$3>=Température!G400,G400<>\"\"),\"\")","v":""}]
["ED.252C","Thermocouple",null,null,null,"Afficher",null,null,null,null,null,null,null,{"$f":"IF('Choix de l''instrument '!$C$3=\"Température\",AND('Choix de l''instrument '!$D$3>=Température!G401,G401<>\"\"),\"\")","v":""}]
["ED.249B","Thermocouple",null,null,null,"Afficher",null,null,null,null,null,null,null,{"$f":"IF('Choix de l''instrument '!$C$3=\"Température\",AND('Choix de l''instrument '!$D$3>=Température!G402,G402<>\"\"),\"\")","v":""}]
["ED.249A","Thermocouple",null,null,null,"Afficher",null,null,null,null,null,null,null,{"$f":"IF('Choix de l''instrument '!$C$3=\"Température\",AND('Choix de l''instrument '!$D$3>=Température!G403,G403<>\"\"),\"\")","v":""}]
["ED.248B","Thermocouple",null,null,null,"Afficher",null,null,null,null,null,null,null,{"$f":"IF('Choix de l''instrument '!$C$3=\"Température\",AND('Choix de l''instrument '!$D$3>=Température!G404,G404<>\"\"),\"\")","v":""}]
["ED.260A","Thermocouple",null,null,null,"Afficher",null,null,null,null,null,null,null,{"$f":"IF('Choix de l''instrument '!$C$3=\"Température\",AND('Choix de l''instrument '!$D$3>=Température!G405,G405<>\"\"),\"\")","v":""}]
["ED.271A","Thermocouple",null,null,null,"Afficher",null,null,null,null,null,null,null,{"$f":"IF('Choix de l''instrument '!$C$3=\"Température\",AND('Choix de l''instrument '!$D$3>=Température!G406,G406<>\"\"),\"\")","v":""}]
["ED.264A","Thermocouple",null,null,null,"Afficher",null,null,null,null,null,null,null,{"$f":"IF('Choix de l''instrument '!$C$3=\"Température\",AND('Choix de l''instrument '!$D$3>=Température!G407,G407<>\"\"),\"\")","v":""}]
["ED.261A","Thermocouple",null,null,null,"Afficher",null,null,null,null,null,null,null,{"$f":"IF('Choix de l''instrument '!$C$3=\"Température\",AND('Choix de l''instrument '!$D$3>=Température!G408,G408<>\"\"),\"\")","v":""}]
["ED.248A","Thermocouple",null,null,null,"Afficher",null,null,null,null,null,null,null,{"$f":"IF('Choix de l''instrument '!$C$3=\"Température\",AND('Choix de l''instrument '!$D$3>=Température!G409,G409<>\"\"),\"\")","v":""}]
["ED.247B","Thermocouple",null,null,null,"Afficher",null,null,null,null,null,null,null,{"$f":"IF('Choix de l''instrument '!$C$3=\"Température\",AND('Choix de l''instrument '!$D$3>=Température!G410,G410<>\"\"),\"\")","v":""}]
["ED.247A","Thermocouple",null,null,null,"Afficher",null,null,null,null,null,null,null,{"$f":"IF('Choix de l''instrument '!$C$3=\"Température\",AND('Choix de l''instrument '!$D$3>=Température!G411,G411<>\"\"),\"\")","v":""}]
["EN.108C","Thermocouple",null,null,null,"Afficher",null,null,null,null,null,null,null,{"$f":"IF('Choix de l''instrument '!$C$3=\"Température\",AND('Choix de l''instrument '!$D$3>=Température!G412,G412<>\"\"),\"\")","v":""}]
["ED.276B","Thermocouple",null,null,null,"Afficher",null,null,null,null,null,null,null,{"$f":"IF('Choix de l''instrument '!$C$3=\"Température\",AND('Choix de l''instrument '!$D$3>=Température!G413,G413<>\"\"),\"\")","v":""}]
["ED.276A","Thermocouple",null,null,null,"Afficher",null,null,null,null,null,null,null,{"$f":"IF('Choix de l''instrument '!$C$3=\"Température\",AND('Choix de l''instrument '!$D$3>=Température!G414,G414<>\"\"),\"\")","v":""}]
["ED.276","Thermocouple",null,null,null,"Afficher",null,null,null,null,null,null,null,{"$f":"IF('Choix de l''instrument '!$C$3=\"Température\",AND('Choix de l''instrument '!$D$3>=Température!G415,G415<>\"\"),\"\")","v":""}]
["ED.276C","Thermocouple",null,null,null,"Afficher",null,null,null,null,null,null,null,{"$f":"IF('Choix de l''instrument '!$C$3=\"Température\",AND('Choix de l''instrument '!$D$3>=Température!G416,G416<>\"\"),\"\")","v":""}]
["EC.125C","Thermocouple",null,null,null,"Afficher",null,null,null,null,null,null,null,{"$f":"IF('Choix de l''instrument '!$C$3=\"Température\",AND('Choix de l''instrument '!$D$3>=Température!G417,G417<>\"\"),\"\")","v":""}]
["EN.182A","Thermocouple",null,null,null,"Afficher",null,null,null,null,null,null,null,{"$f":"IF('Choix de l''instrument '!$C$3=\"Température\",AND('Choix de l''instrument '!$D$3>=Température!G418,G418<>\"\"),\"\")","v":""}]
["EN.181B","Thermocouple",null,null,null,"Afficher",null,null,null,null,null,null,null,{"$f":"IF('Choix de l''instrument '!$C$3=\"Température\",AND('Choix de l''instrument '!$D$3>=Température!G419,G419<>\"\"),\"\")","v":""}]
["TEM-0111","Thermomètre","-50 / 150 °C",null,null,"Afficher",null,null,null,null,null,null,null,{"$f":"IF('Choix de l''instrument '!$C$3=\"Température\",AND('Choix de l''instrument '!$D$3>=Température!G420,G420<>\"\"),\"\")","v":""}]
["TEM-0113","Thermomètre","-50 / 80 °C",null,null,"Afficher",null,null,null,null,null,null,null,{"$f":"IF('Choix de l''instrument '!$C$3=\"Température\",AND('Choix de l''instrument '!$D$3>=Température!G421,G421<>\"\"),\"\")","v":""}]
["TEM-0112","Thermomètre","-50 / 80 °C",null,null,"Afficher",null,null,null,null,null,null,null,{"$f":"IF('Choix de l''instrument '!$C$3=\"Température\",AND('Choix de l''instrument '!$D$3>=Température!G422,G422<>\"\"),\"\")","v":""}]
["TEM-0104","Thermomètre",-0.42857142857142855,null,null,"Afficher",null,null,null,null,null,null,null,{"$f":"IF('Choix de l''instrument '!$C$3=\"Température\",AND('Choix de l''instrument '!$D$3>=Température!G423,G423<>\"\"),\"\")","v":""}]
["TEM-0103","Thermomètre",-0.42857142857142855,null,null,"Afficher",null,null,null,null,null,null,null,{"$f":"IF('Choix de l''instrument '!$C$3=\"Température\",AND('Choix de l''instrument '!$D$3>=Température!G424,G424<>\"\"),\"\")","v":""}]
["TEM-0102","Thermomètre",-0.42857142857142855,null,null,"Afficher",null,null,null,null,null,null,null,{"$f":"IF('Choix de l''instrument '!$C$3=\"Température\",AND('Choix de l''instrument '!$D$3>=Température!G425,G425<>\"\"),\"\")","v":""}]
["TEM-0107","Thermomètre",null,null,null,"Afficher",null,null,null,null,null,null,null,{"$f":"IF('Choix de l''instrument '!$C$3=\"Température\",AND('Choix de l''instrument '!$D$3>=Température!G426,G426<>\"\"),\"\")","v":""}]
["TEM-0106","Thermomètre",null,null,null,"Afficher",null,null,null,null,null,null,null,{"$f":"IF('Choix de l''instrument '!$C$3=\"Température\",AND('Choix de l''instrument '!$D$3>=Température!G427,G427<>\"\"),\"\")","v":""}]
["TEM-0105","Thermomètre",-0.42857142857142855,null,null,"Afficher",null,null,null,null,null,null,null,{"$f":"IF('Choix de l''instrument '!$C$3=\"Température\",AND('Choix de l''instrument '!$D$3>=Température!G428,G428<>\"\"),\"\")","v":""}]
["TEM-0173","Thermomètre",-0.42857142857142855,null,null,"Afficher",null,null,null,null,null,null,null,{"$f":"IF('Choix de l''instrument '!$C$3=\"Température\",AND('Choix de l''instrument '!$D$3>=Température!G429,G429<>\"\"),\"\")","v":""}]
["TEM-0172","Thermomètre",-0.42857142857142855,null,null,"Afficher",null,null,null,null,null,null,null,{"$f":"IF('Choix de l''instrument '!$C$3=\"Température\",AND('Choix de l''instrument '!$D$3>=Température!G430,G430<>\"\"),\"\")","v":""}]
["TEM-0174","Thermomètre",-0.42857142857142855,null,null,"Afficher",null,null,null,null,null,null,null,{"$f":"IF('Choix de l''instrument '!$C$3=\"Température\",AND('Choix de l''instrument '!$D$3>=Température!G431,G431<>\"\"),\"\")","v":""}]
["THM-229","Thermomètre","-200 / 1400 °C",null,null,"Afficher",null,null,null,null,null,null,null,{"$f":"IF('Choix de l''instrument '!$C$3=\"Température\",AND('Choix de l''instrument '!$D$3>=Température!G432,G432<>\"\"),\"\")","v":""}]
["THM-003","Thermomètre",null,null,null,"Afficher",null,null,null,null,null,null,null,{"$f":"IF('Choix de l''instrument '!$C$3=\"Température\",AND('Choix de l''instrument '!$D$3>=Température!G433,G433<>\"\"),\"\")","v":""}]
["THM-002","Thermomètre",null,null,null,"Afficher",null,null,null,null,null,null,null,{"$f":"IF('Choix de l''instrument '!$C$3=\"Température\",AND('Choix de l''instrument '!$D$3>=Température!G434,G434<>\"\"),\"\")","v":""}]
["THM-001","Thermomètre","-200 / 1370 °C",null,null,"Afficher",null,null,null,null,null,null,null,{"$f":"IF('Choix de l''instrument '!$C$3=\"Température\",AND('Choix de l''instrument '!$D$3>=Température!G435,G435<>\"\"),\"\")","v":""}]
["THM-006","Thermomètre","-50 / 1350 °C",null,null,"Afficher",null,null,null,null,null,null,null,{"$f":"IF('Choix de l''instrument '!$C$3=\"Température\",AND('Choix de l''instrument '!$D$3>=Température!G436,G436<>\"\"),\"\")","v":""}]
["THM-004","Thermomètre",null,null,null,"Afficher",null,null,null,null,null,null,null,{"$f":"IF('Choix de l''instrument '!$C$3=\"Température\",AND('Choix de l''instrument '!$D$3>=Température!G437,G437<>\"\"),\"\")","v":""}]
["THM-007","Thermomètre","-50 / 1000 °C",null,null,"Afficher",null,null,null,null,null,null,null,{"$f":"IF('Choix de l''instrument '!$C$3=\"Température\",AND('Choix de l''instrument '!$D$3>=Température!G438,G438<>\"\"),\"\")","v":""}]
["THM-196","Thermomètre","0,1 / 90,0 °C",null,null,"Afficher",null,null,null,null,null,null,null,{"$f":"IF('Choix de l''instrument '!$C$3=\"Température\",AND('Choix de l''instrument '!$D$3>=Température!G439,G439<>\"\"),\"\")","v":""}]
["THM-131","Thermomètre",null,null,null,"Afficher",null,null,null,null,null,null,null,{"$f":"IF('Choix de l''instrument '!$C$3=\"Température\",AND('Choix de l''instrument '!$D$3>=Température!G440,G440<>\"\"),\"\")","v":""}]
["THM-111","Thermomètre","0 / 1200",null,null,"Afficher",null,null,null,null,null,null,null,{"$f":"IF('Choix de l''instrument '!$C$3=\"Température\",AND('Choix de l''instrument '!$D$3>=Température!G441,G441<>\"\"),\"\")","v":""}]
["THM-228","Thermomètre","-200 / 1400 °C",null,null,"Afficher",null,null,null,null,null,null,null,{"$f":"IF('Choix de l''instrument '!$C$3=\"Température\",AND('Choix de l''instrument '!$D$3>=Température!G442,G442<>\"\"),\"\")","v":""}]
["THM-217","Thermomètre","-150 / 1300 °C",null,null,"Afficher",null,null,null,null,null,null,null,{"$f":"IF('Choix de l''instrument '!$C$3=\"Température\",AND('Choix de l''instrument '!$D$3>=Température!G443,G443<>\"\"),\"\")","v":""}]
["THM-196/1","Thermomètre","0,1 / 90,0 °C",null,null,"Afficher",null,null,null,null,null,null,null,{"$f":"IF('Choix de l''instrument '!$C$3=\"Température\",AND('Choix de l''instrument '!$D$3>=Température!G444,G444<>\"\"),\"\")","v":""}]
["THM-109","Thermomètre","-20 / 120 °C",null,null,"Afficher",null,null,null,null,null,null,null,{"$f":"IF('Choix de l''instrument '!$C$3=\"Température\",AND('Choix de l''instrument '!$D$3>=Température!G445,G445<>\"\"),\"\")","v":""}]
["THM-009","Thermomètre","-50 / 150 °C",null,null,"Afficher",null,null,null,null,null,null,null,{"$f":"IF('Choix de l''instrument '!$C$3=\"Température\",AND('Choix de l''instrument '!$D$3>=Température!G446,G446<>\"\"),\"\")","v":""}]
["THM-008","Thermomètre","-60 / 400 °C",null,null,"Afficher",null,null,null,null,null,null,null,{"$f":"IF('Choix de l''instrument '!$C$3=\"Température\",AND('Choix de l''instrument '!$D$3>=Température!G447,G447<>\"\"),\"\")","v":""}]
["THM-108","Thermomètre","0 / 120 °C",null,null,"Afficher",null,null,null,null,null,null,null,{"$f":"IF('Choix de l''instrument '!$C$3=\"Température\",AND('Choix de l''instrument '!$D$3>=Température!G448,G448<>\"\"),\"\")","v":""}]
["THM-085","Thermomètre","-50 / 150 °C",null,null,"Afficher",null,null,null,null,null,null,null,{"$f":"IF('Choix de l''instrument '!$C$3=\"Température\",AND('Choix de l''instrument '!$D$3>=Température!G449,G449<>\"\"),\"\")","v":""}]
["THM-010","Thermomètre",null,null,null,"Afficher",null,null,null,null,null,null,null,{"$f":"IF('Choix de l''instrument '!$C$3=\"Température\",AND('Choix de l''instrument '!$D$3>=Température!G450,G450<>\"\"),\"\")","v":""}]
["TEM-0300","Thermomètre","20 / 40 °C",null,null,"Afficher",null,null,null,null,null,null,null,{"$f":"IF('Choix de l''instrument '!$C$3=\"Température\",AND('Choix de l''instrument '!$D$3>=Température!G451,G451<>\"\"),\"\")","v":""}]
["TEM-0299","Thermomètre","20 / 40 °C",null,null,"Afficher",null,null,null,null,null,null,null,{"$f":"IF('Choix de l''instrument '!$C$3=\"Température\",AND('Choix de l''instrument '!$D$3>=Température!G452,G452<>\"\"),\"\")","v":""}]
["THE.109","Thermomètre","-50 / 300 °C",null,null,"Afficher",null,null,null,null,null,null,null,{"$f":"IF('Choix de l''instrument '!$C$3=\"Température\",AND('Choix de l''instrument '!$D$3>=Température!G453,G453<>\"\"),\"\")","v":""}]
["SQ.105","Thermomètre",null,null,null,"Afficher",null,null,null,null,null,null,null,{"$f":"IF('Choix de l''instrument '!$C$3=\"Température\",AND('Choix de l''instrument '!$D$3>=Température!G454,G454<>\"\"),\"\")","v":""}]
["SQ.126","Thermomètre",null,null,null,"Afficher",null,null,null,null,null,null,null,{"$f":"IF('Choix de l''instrument '!$C$3=\"Température\",AND('Choix de l''instrument '!$D$3>=Température!G455,G455<>\"\"),\"\")","v":""}]
["TEM-0001","Thermomètre",null,null,null,"Afficher",null,null,null,null,null,null,null,{"$f":"IF('Choix de l''instrument '!$C$3=\"Température\",AND('Choix de l''instrument '!$D$3>=Température!G456,G456<>\"\"),\"\")","v":""}]
["TEM-0056","Thermomètre",null,null,null,"Afficher",null,null,null,null,null,null,null,{"$f":"IF('Choix de l''instrument '!$C$3=\"Température\",AND('Choix de l''instrument '!$D$3>=Température!G457,G457<>\"\"),\"\")","v":""}]
["TEM-0054","Thermomètre",null,null,null,"Afficher",null,null,null,null,null,null,null,{"$f":"IF('Choix de l''instrument '!$C$3=\"Température\",AND('Choix de l''instrument '!$D$3>=Température!G458,G458<>\"\"),\"\")","v":""}]
["TEM-0071","Thermomètre","1000 / 1100 °C",null,null,"Afficher",null,null,null,null,null,null,null,{"$f":"IF('Choix de l''instrument '!$C$3=\"Température\",AND('Choix de l''instrument '!$D$3>=Température!G459,G459<>\"\"),\"\")","v":""}]
["TEM-0070","Thermomètre",null,null,null,"Afficher",null,null,null,null,null,null,null,{"$f":"IF('Choix de l''instrument '!$C$3=\"Température\",AND('Choix de l''instrument '!$D$3>=Température!G460,G460<>\"\"),\"\")","v":""}]
["TEM-0068","Thermomètre","-20 / 120 °C",null,null,"Afficher",null,null,null,null,null,null,null,{"$f":"IF('Choix de l''instrument '!$C$3=\"Température\",AND('Choix de l''instrument '!$D$3>=Température!G461,G461<>\"\"),\"\")","v":""}]
["TEM-0064","Thermomètre",null,null,null,"Afficher",null,null,null,null,null,null,null,{"$f":"IF('Choix de l''instrument '!$C$3=\"Température\",AND('Choix de l''instrument '!$D$3>=Température!G462,G462<>\"\"),\"\")","v":""}]
["TEM-0063","Thermomètre",null,null,null,"Afficher",null,null,null,null,null,null,null,{"$f":"IF('Choix de l''instrument '!$C$3=\"Température\",AND('Choix de l''instrument '!$D$3>=Température!G463,G463<>\"\"),\"\")","v":""}]
["TEM-0066","Thermomètre",-0.42857142857142855,null,null,"Afficher",null,null,null,null,null,null,null,{"$f":"IF('Choix de l''instrument '!$C$3=\"Température\",AND('Choix de l''instrument '!$D$3>=Température!G464,G464<>\"\"),\"\")","v":""}]
["TEM-0065","Thermomètre",-0.42857142857142855,null,null,"Afficher",null,null,null,null,null,null,null,{"$f":"IF('Choix de l''instrument '!$C$3=\"Température\",AND('Choix de l''instrument '!$D$3>=Température!G465,G465<>\"\"),\"\")","v":""}]
["CAT.082","Thermomètre",null,null,null,"Afficher",null,null,null,null,null,null,null,{"$f":"IF('Choix de l''instrument '!$C$3=\"Température\",AND('Choix de l''instrument '!$D$3>=Température!G466,G466<>\"\"),\"\")","v":""}]
["ED.252","Thermomètre",null,null,null,"Afficher",null,null,null,null,null,null,null,{"$f":"IF('Choix de l''instrument '!$C$3=\"Température\",AND('Choix de l''instrument '!$D$3>=Température!G467,G467<>\"\"),\"\")","v":""}]
["ED.196","Thermomètre",null,null,null,"Afficher",null,null,null,null,null,null,null,{"$f":"IF('Choix de l''instrument '!$C$3=\"Température\",AND('Choix de l''instrument '!$D$3>=Température!G468,G468<>\"\"),\"\")","v":""}]
["ED.195","Thermomètre",null,null,null,"Afficher",null,null,null,null,null,null,null,{"$f":"IF('Choix de l''instrument '!$C$3=\"Température\",AND('Choix de l''instrument '!$D$3>=Température!G469,G469<>\"\"),\"\")","v":""}]
["EN.108","Thermomètre",null,null,null,"Afficher",null,null,null,null,null,null,null,{"$f":"IF('Choix de l''instrument '!$C$3=\"Température\",AND('Choix de l''instrument '!$D$3>=Température!G470,G470<>\"\"),\"\")","v":""}]
["EN.112","Thermomètre",null,null,null,"Afficher",null,null,null,null,null,null,null,{"$f":"IF('Choix de l''instrument '!$C$3=\"Température\",AND('Choix de l''instrument '!$D$3>=Température!G471,G471<>\"\"),\"\")","v":""}]
["ED.142","Thermomètre",null,null,null,"Afficher",null,null,null,null,null,null,null,{"$f":"IF('Choix de l''instrument '!$C$3=\"Température\",AND('Choix de l''instrument '!$D$3>=Température!G472,G472<>\"\"),\"\")","v":""}]
["ENV.023","Thermomètre",null,null,null,"Afficher",null,null,null,null,null,null,null,{"$f":"IF('Choix de l''instrument '!$C$3=\"Température\",AND('Choix de l''instrument '!$D$3>=Température!G473,G473<>\"\"),\"\")","v":""}]
["ENV.027","Thermomètre","-50 / 300 °C",null,null,"Afficher",null,null,null,null,null,null,null,{"$f":"IF('Choix de l''instrument '!$C$3=\"Température\",AND('Choix de l''instrument '!$D$3>=Température!G474,G474<>\"\"),\"\")","v":""}]
["EN.178","Thermomètre",null,null,null,"Afficher",null,null,null,null,null,null,null,{"$f":"IF('Choix de l''instrument '!$C$3=\"Température\",AND('Choix de l''instrument '!$D$3>=Température!G475,G475<>\"\"),\"\")","v":""}]
["TEM-0109","Thermomètre à infrarouge",null,null,null,"Afficher",null,null,null,null,null,null,null,{"$f":"IF('Choix de l''instrument '!$C$3=\"Température\",AND('Choix de l''instrument '!$D$3>=Température!G476,G476<>\"\"),\"\")","v":""}]
["TEM-0108","Thermomètre à infrarouge",null,null,null,"Afficher",null,null,null,null,null,null,null,{"$f":"IF('Choix de l''instrument '!$C$3=\"Température\",AND('Choix de l''instrument '!$D$3>=Température!G477,G477<>\"\"),\"\")","v":""}]
["TEM-0069","Thermomètre à pique","-20 / 120 °C",null,null,"Afficher",null,null,null,null,null,null,null,{"$f":"IF('Choix de l''instrument '!$C$3=\"Température\",AND('Choix de l''instrument '!$D$3>=Température!G478,G478<>\"\"),\"\")","v":""}]
["MET-0053","Sonde de température","-5 / 30 °C",null,null,"Afficher",null,null,null,null,null,null,null,{"$f":"IF('Choix de l''instrument '!$C$3=\"Température\",AND('Choix de l''instrument '!$D$3>=Température!G479,G479<>\"\"),\"\")","v":""}]
["THM-008/1","Sonde de température","-60 / 400 °C",null,null,"Afficher",null,null,null,null,null,null,null,{"$f":"IF('Choix de l''instrument '!$C$3=\"Température\",AND('Choix de l''instrument '!$D$3>=Température!G480,G480<>\"\"),\"\")","v":""}]
["SON-009","Sonde de température",null,null,null,"Afficher",null,null,null,null,null,null,null,{"$f":"IF('Choix de l''instrument '!$C$3=\"Température\",AND('Choix de l''instrument '!$D$3>=Température!G481,G481<>\"\"),\"\")","v":""}]
["SON-005","Sonde de température","38 / 40 °C",null,null,"Afficher",null,null,null,null,null,null,null,{"$f":"IF('Choix de l''instrument '!$C$3=\"Température\",AND('Choix de l''instrument '!$D$3>=Température!G482,G482<>\"\"),\"\")","v":""}]
["SON-008","Sonde de température",null,null,null,"Afficher",null,null,null,null,null,null,null,{"$f":"IF('Choix de l''instrument '!$C$3=\"Température\",AND('Choix de l''instrument '!$D$3>=Température!G483,G483<>\"\"),\"\")","v":""}]
["SON-007","Sonde de température",null,null,null,"Afficher",null,null,null,null,null,null,null,{"$f":"IF('Choix de l''instrument '!$C$3=\"Température\",AND('Choix de l''instrument '!$D$3>=Température!G484,G484<>\"\"),\"\")","v":""}]
["SON-006","Sonde de température",null,null,null,"Afficher",null,null,null,null,null,null,null,{"$f":"IF('Choix de l''instrument '!$C$3=\"Température\",AND('Choix de l''instrument '!$D$3>=Température!G485,G485<>\"\"),\"\")","v":""}]
["SON-001","Sonde de température",null,null,null,"Afficher",null,null,null,null,null,null,null,{"$f":"IF('Choix de l''instrument '!$C$3=\"Température\",AND('Choix de l''instrument '!$D$3>=Température!G486,G486<>\"\"),\"\")","v":""}]
["TEM-0030","Sonde de température",null,null,null,"Afficher",null,null,null,null,null,null,null,{"$f":"IF('Choix de l''instrument '!$C$3=\"Température\",AND('Choix de l''instrument '!$D$3>=Température!G487,G487<>\"\"),\"\")","v":""}]
["TEM-0033","Sonde de température",null,null,null,"Afficher",null,null,null,null,null,null,null,{"$f":"IF('Choix de l''instrument '!$C$3=\"Température\",AND('Choix de l''instrument '!$D$3>=Température!G488,G488<>\"\"),\"\")","v":""}]
["TEM-0032","Sonde de température",null,null,null,"Afficher",null,null,null,null,null,null,null,{"$f":"IF('Choix de l''instrument '!$C$3=\"Température\",AND('Choix de l''instrument '!$D$3>=Température!G489,G489<>\"\"),\"\")","v":""}]
["TEM-0031","Sonde de température",null,null,null,"Afficher",null,null,null,null,null,null,null,{"$f":"IF('Choix de l''instrument '!$C$3=\"Température\",AND('Choix de l''instrument '!$D$3>=Température!G490,G490<>\"\"),\"\")","v":""}]
["TEM-0034","Sonde de température",null,null,null,"Afficher",null,null,null,null,null,null,null,{"$f":"IF('Choix de l''instrument '!$C$3=\"Température\",AND('Choix de l''instrument '!$D$3>=Température!G491,G491<>\"\"),\"\")","v":""}]
["TEM-0303","Régulateur",null,null,null,"Afficher",null,null,null,null,null,null,null,{"$f":"IF('Choix de l''instrument '!$C$3=\"Température\",AND('Choix de l''instrument '!$D$3>=Température!G492,G492<>\"\"),\"\")","v":""}]
["TEM-0302","Régulateur",null,null,null,"Afficher",null,null,null,null,null,null,null,{"$f":"IF('Choix de l''instrument '!$C$3=\"Température\",AND('Choix de l''instrument '!$D$3>=Température!G493,G493<>\"\"),\"\")","v":""}]
["TEM-0301","Régulateur",null,null,null,"Afficher",null,null,null,null,null,null,null,{"$f":"IF('Choix de l''instrument '!$C$3=\"Température\",AND('Choix de l''instrument '!$D$3>=Température!G494,G494<>\"\"),\"\")","v":""}]
["TEM-0306","Régulateur",null,null,null,"Afficher",null,null,null,null,null,null,null,{"$f":"IF('Choix de l''instrument '!$C$3=\"Température\",AND('Choix de l''instrument '!$D$3>=Température!G495,G495<>\"\"),\"\")","v":""}]
["TEM-0305","Régulateur",null,null,null,"Afficher",null,null,null,null,null,null,null,{"$f":"IF('Choix de l''instrument '!$C$3=\"Température\",AND('Choix de l''instrument '!$D$3>=Température!G496,G496<>\"\"),\"\")","v":""}]
["TEM-0304","Régulateur",null,null,null,"Afficher",null,null,null,null,null,null,null,{"$f":"IF('Choix de l''instrument '!$C$3=\"Température\",AND('Choix de l''instrument '!$D$3>=Température!G497,G497<>\"\"),\"\")","v":""}]
["REGUL-005","Régulateur",null,null,null,"Afficher",null,null,null,null,null,null,null,{"$f":"IF('Choix de l''instrument '!$C$3=\"Température\",AND('Choix de l''instrument '!$D$3>=Température!G498,G498<>\"\"),\"\")","v":""}]
["REGUL-004","Régulateur",null,null,null,"Afficher",null,null,null,null,null,null,null,{"$f":"IF('Choix de l''instrument '!$C$3=\"Température\",AND('Choix de l''instrument '!$D$3>=Température!G499,G499<>\"\"),\"\")","v":""}]
["REGUL-003","Régulateur",null,null,null,"Afficher",null,null,null,null,null,null,null,{"$f":"IF('Choix de l''instrument '!$C$3=\"Température\",AND('Choix de l''instrument '!$D$3>=Température!G500,G500<>\"\"),\"\")","v":""}]
["REGUL-006","Régulateur",null,null,null,"Afficher",null,null,null,null,null,null,null,{"$f":"IF('Choix de l''instrument '!$C$3=\"Température\",AND('Choix de l''instrument '!$D$3>=Température!G501,G501<>\"\"),\"\")","v":""}]
["REGUL-002","Régulateur",null,null,null,"Afficher",null,null,null,null,null,null,null,{"$f":"IF('Choix de l''instrument '!$C$3=\"Température\",AND('Choix de l''instrument '!$D$3>=Température!G502,G502<>\"\"),\"\")","v":""}]
["REGUL-001","Régulateur",null,null,null,"Afficher",null,null,null,null,null,null,null,{"$f":"IF('Choix de l''instrument '!$C$3=\"Température\",AND('Choix de l''instrument '!$D$3>=Température!G503,G503<>\"\"),\"\")","v":""}]
["TEM-0236","Boîtier indicateur température","700° C",null,null,"Afficher",null,null,null,null,null,null,null,{"$f":"IF('Choix de l''instrument '!$C$3=\"Température\",AND('Choix de l''instrument '!$D$3>=Température!G504,G504<>\"\"),\"\")","v":""}]
["TEM-0228","Boîtier indicateur température","0 / 800 °C",null,null,"Afficher",null,null,null,null,null,null,null,{"$f":"IF('Choix de l''instrument '!$C$3=\"Température\",AND('Choix de l''instrument '!$D$3>=Température!G505,G505<>\"\"),\"\")","v":""}]
["ED.250","Calibrateur de température",null,null,null,"Afficher",null,null,null,null,null,null,null,{"$f":"IF('Choix de l''instrument '!$C$3=\"Température\",AND('Choix de l''instrument '!$D$3>=Température!G506,G506<>\"\"),\"\")","v":""}]
["TEM-0131","Enregistreur de température","675 / 800 °C",null,null,"Afficher",null,null,null,null,null,null,null,{"$f":"IF('Choix de l''instrument '!$C$3=\"Température\",AND('Choix de l''instrument '!$D$3>=Température!G507,G507<>\"\"),\"\")","v":""}]
["TEM-0002","Enregistreur de température",null,null,null,"Afficher",null,null,null,null,null,null,null,{"$f":"IF('Choix de l''instrument '!$C$3=\"Température\",AND('Choix de l''instrument '!$D$3>=Température!G508,G508<>\"\"),\"\")","v":""}]
["CAT.162A","Enregistreur de température",null,null,null,"Afficher",null,null,null,null,null,null,null,{"$f":"IF('Choix de l''instrument '!$C$3=\"Température\",AND('Choix de l''instrument '!$D$3>=Température!G509,G509<>\"\"),\"\")","v":""}]
["CAT.161A","Enregistreur de température",null,null,null,"Afficher",null,null,null,null,null,null,null,{"$f":"IF('Choix de l''instrument '!$C$3=\"Température\",AND('Choix de l''instrument '!$D$3>=Température!G510,G510<>\"\"),\"\")","v":""}]
["CAT.161","Enregistreur de température",null,null,null,"Afficher",null,null,null,null,null,null,null,{"$f":"IF('Choix de l''instrument '!$C$3=\"Température\",AND('Choix de l''instrument '!$D$3>=Température!G511,G511<>\"\"),\"\")","v":""}]
["ED.251","Enregistreur de température",null,null,null,"Afficher",null,null,null,null,null,null,null,{"$f":"IF('Choix de l''instrument '!$C$3=\"Température\",AND('Choix de l''instrument '!$D$3>=Température!G512,G512<>\"\"),\"\")","v":""}]
["ENR-001","Enregistreur de température","-100 / 1300 °C",null,null,"Afficher",null,null,null,null,null,null,null,{"$f":"IF('Choix de l''instrument '!$C$3=\"Température\",AND('Choix de l''instrument '!$D$3>=Température!G513,G513<>\"\"),\"\")","v":""}]

{"sheet":"Température_hygrométrie","index":48,"n_rows":15,"n_cols":14,"rows_kept":15,"cut":false,"hidden":false,"merged":[]}
["Température_hygrométrie"]
[null,null,null,null,null,null,"résolution g",null,null,null,null,null,null,"Résultat critère IT"]
["TEM-0225","Thermo-Hygromètre",null,null,null,"Afficher",null,null,null,null,null,null,null,{"$f":"IF('Choix de l''instrument '!$C$3=\"Température_hygrométrie\",AND('Choix de l''instrument '!$D$3>=Température_hygrométrie!G3,G3<>\"\"),\"\")","v":""}]
["TEM-0233","Thermo-Hygromètre",null,null,null,"Afficher",null,null,null,null,null,null,null,{"$f":"IF('Choix de l''instrument '!$C$3=\"Température_hygrométrie\",AND('Choix de l''instrument '!$D$3>=Température_hygrométrie!G4,G4<>\"\"),\"\")","v":""}]
["TEM-0232","Thermo-Hygromètre",null,null,null,"Afficher",null,null,null,null,null,null,null,{"$f":"IF('Choix de l''instrument '!$C$3=\"Température_hygrométrie\",AND('Choix de l''instrument '!$D$3>=Température_hygrométrie!G5,G5<>\"\"),\"\")","v":""}]
["TEM-0227","Thermo-Hygromètre",null,null,null,"Afficher",null,null,null,null,null,null,null,{"$f":"IF('Choix de l''instrument '!$C$3=\"Température_hygrométrie\",AND('Choix de l''instrument '!$D$3>=Température_hygrométrie!G6,G6<>\"\"),\"\")","v":""}]
["TEM-0226","Thermo-Hygromètre",null,null,null,"Afficher",null,null,null,null,null,null,null,{"$f":"IF('Choix de l''instrument '!$C$3=\"Température_hygrométrie\",AND('Choix de l''instrument '!$D$3>=Température_hygrométrie!G7,G7<>\"\"),\"\")","v":""}]
["TEM-0231","Thermo-Hygromètre",null,null,null,"Afficher",null,null,null,null,null,null,null,{"$f":"IF('Choix de l''instrument '!$C$3=\"Température_hygrométrie\",AND('Choix de l''instrument '!$D$3>=Température_hygrométrie!G8,G8<>\"\"),\"\")","v":""}]
["THM-005","Thermo-Hygromètre",null,null,null,"Afficher",null,null,null,null,null,null,null,{"$f":"IF('Choix de l''instrument '!$C$3=\"Température_hygrométrie\",AND('Choix de l''instrument '!$D$3>=Température_hygrométrie!G9,G9<>\"\"),\"\")","v":""}]
["THERM-003","Thermo-Hygromètre","Testo 608 - H2 // 2 %HR / 70 °C",null,null,"Afficher",null,null,null,null,null,null,null,{"$f":"IF('Choix de l''instrument '!$C$3=\"Température_hygrométrie\",AND('Choix de l''instrument '!$D$3>=Température_hygrométrie!G10,G10<>\"\"),\"\")","v":""}]
["THERM-002","Thermo-Hygromètre","TA 100 // 1 %HR / 70 °C",null,null,"Afficher",null,null,null,null,null,null,null,{"$f":"IF('Choix de l''instrument '!$C$3=\"Température_hygrométrie\",AND('Choix de l''instrument '!$D$3>=Température_hygrométrie!G11,G11<>\"\"),\"\")","v":""}]
["SQ.132","Thermo-Hygromètre",null,null,null,"Afficher",null,null,null,null,null,null,null,{"$f":"IF('Choix de l''instrument '!$C$3=\"Température_hygrométrie\",AND('Choix de l''instrument '!$D$3>=Température_hygrométrie!G12,G12<>\"\"),\"\")","v":""}]
["TEM-0005","Thermo-Hygromètre",null,null,null,"Afficher",null,null,null,null,null,null,null,{"$f":"IF('Choix de l''instrument '!$C$3=\"Température_hygrométrie\",AND('Choix de l''instrument '!$D$3>=Température_hygrométrie!G13,G13<>\"\"),\"\")","v":""}]
["TEM-0003","Thermo-Hygromètre",null,null,null,"Afficher",null,null,null,null,null,null,null,{"$f":"IF('Choix de l''instrument '!$C$3=\"Température_hygrométrie\",AND('Choix de l''instrument '!$D$3>=Température_hygrométrie!G14,G14<>\"\"),\"\")","v":""}]
["TEM-0004","Enregistreur de Température et Hygrometrie",null,null,null,"Afficher",null,null,null,null,null,null,null,{"$f":"IF('Choix de l''instrument '!$C$3=\"Température_hygrométrie\",AND('Choix de l''instrument '!$D$3>=Température_hygrométrie!G15,G15<>\"\"),\"\")","v":""}]

{"sheet":"Temps","index":49,"n_rows":7,"n_cols":14,"rows_kept":7,"cut":false,"hidden":false,"merged":[]}
["Temps"]
[null,null,null,null,null,null,"résolution g",null,null,null,null,null,null,"Résultat critère IT"]
["MINUT-001","Minuterie de travail",null,null,null,"Afficher",null,null,null,null,null,null,null,{"$f":"IF('Choix de l''instrument '!$C$3=\"Temps\",AND('Choix de l''instrument '!$D$3>=Temps!G3,G3<>\"\"),\"\")","v":""}]
["MINUT-004","Minuterie de travail",null,null,null,"Afficher",null,null,null,null,null,null,null,{"$f":"IF('Choix de l''instrument '!$C$3=\"Temps\",AND('Choix de l''instrument '!$D$3>=Temps!G4,G4<>\"\"),\"\")","v":""}]
["MINUT-003","Minuterie de travail",null,null,null,"Afficher",null,null,null,null,null,null,null,{"$f":"IF('Choix de l''instrument '!$C$3=\"Temps\",AND('Choix de l''instrument '!$D$3>=Temps!G5,G5<>\"\"),\"\")","v":""}]
["MINUT-002","Minuterie de travail",null,null,null,"Afficher",null,null,null,null,null,null,null,{"$f":"IF('Choix de l''instrument '!$C$3=\"Temps\",AND('Choix de l''instrument '!$D$3>=Temps!G6,G6<>\"\"),\"\")","v":""}]
["MINUT-005","Minuterie de travail",null,null,null,"Afficher",null,null,null,null,null,null,null,{"$f":"IF('Choix de l''instrument '!$C$3=\"Temps\",AND('Choix de l''instrument '!$D$3>=Temps!G7,G7<>\"\"),\"\")","v":""}]

{"sheet":"Vitesse","index":50,"n_rows":12,"n_cols":14,"rows_kept":12,"cut":false,"hidden":false,"merged":[]}
["Vitesse"]
[null,null,null,null,null,null,"résolution g",null,null,null,null,null,null,"Résultat critère IT"]
["M.217","Anémomètre",null,null,null,"Afficher",null,null,null,null,null,null,null,{"$f":"IF('Choix de l''instrument '!$C$3=\"Vitesse\",AND('Choix de l''instrument '!$D$3>=Vitesse!G3,G3<>\"\"),\"\")","v":""}]
["DEB-0003","Anémomètre",null,null,null,"Afficher",null,null,null,null,null,null,null,{"$f":"IF('Choix de l''instrument '!$C$3=\"Vitesse\",AND('Choix de l''instrument '!$D$3>=Vitesse!G4,G4<>\"\"),\"\")","v":""}]
["THZ-0001","Tachymètre","0 / 9999 tr/min",null,null,"Afficher",null,null,null,null,null,null,null,{"$f":"IF('Choix de l''instrument '!$C$3=\"Vitesse\",AND('Choix de l''instrument '!$D$3>=Vitesse!G5,G5<>\"\"),\"\")","v":""}]
["TAC-005","Tachymètre","1 / 99999 tr/mn",null,null,"Afficher",null,null,null,null,null,null,null,{"$f":"IF('Choix de l''instrument '!$C$3=\"Vitesse\",AND('Choix de l''instrument '!$D$3>=Vitesse!G6,G6<>\"\"),\"\")","v":""}]
["TAC-004","Tachymètre","1 / 99999 tr/mn",null,null,"Afficher",null,null,null,null,null,null,null,{"$f":"IF('Choix de l''instrument '!$C$3=\"Vitesse\",AND('Choix de l''instrument '!$D$3>=Vitesse!G7,G7<>\"\"),\"\")","v":""}]
["TAC-003","Tachymètre",null,null,null,"Afficher",null,null,null,null,null,null,null,{"$f":"IF('Choix de l''instrument '!$C$3=\"Vitesse\",AND('Choix de l''instrument '!$D$3>=Vitesse!G8,G8<>\"\"),\"\")","v":""}]
["TAC-002","Tachymètre",null,null,null,"Afficher",null,null,null,null,null,null,null,{"$f":"IF('Choix de l''instrument '!$C$3=\"Vitesse\",AND('Choix de l''instrument '!$D$3>=Vitesse!G9,G9<>\"\"),\"\")","v":""}]
["TAC-001","Tachymètre",null,null,null,"Afficher",null,null,null,null,null,null,null,{"$f":"IF('Choix de l''instrument '!$C$3=\"Vitesse\",AND('Choix de l''instrument '!$D$3>=Vitesse!G10,G10<>\"\"),\"\")","v":""}]
["ED.244","Tachymètre",null,null,null,"Afficher",null,null,null,null,null,null,null,{"$f":"IF('Choix de l''instrument '!$C$3=\"Vitesse\",AND('Choix de l''instrument '!$D$3>=Vitesse!G11,G11<>\"\"),\"\")","v":""}]
["EC.110","Tachymètre",null,null,null,"Afficher",null,null,null,null,null,null,null,{"$f":"IF('Choix de l''instrument '!$C$3=\"Vitesse\",AND('Choix de l''instrument '!$D$3>=Vitesse!G12,G12<>\"\"),\"\")","v":""}]

{"sheet":"Volume","index":51,"n_rows":13,"n_cols":14,"rows_kept":13,"cut":false,"hidden":false,"merged":[]}
["Volume"]
[null,null,null,null,null,null,"résolution g",null,null,null,null,null,null,"Résultat critère IT"]
["DEB-010","Débimètre volumique","Production / 8414 DIV / Contrôle Tubes Divers",null,null,"Afficher",null,null,null,null,null,null,null,{"$f":"IF('Choix de l''instrument '!$C$3=\"Volume\",AND('Choix de l''instrument '!$D$3>=Volume!G3,G3<>\"\"),\"\")","v":""}]
["DEB-005","Débimètre volumique","Production / 7700","2 / 20 l/min",null,"Afficher",null,null,null,null,null,null,null,{"$f":"IF('Choix de l''instrument '!$C$3=\"Volume\",AND('Choix de l''instrument '!$D$3>=Volume!G4,G4<>\"\"),\"\")","v":""}]
["DEB-012","Débimètre volumique","Technique / 7700","2 / 20 l/min",null,"Afficher",null,null,null,null,null,null,null,{"$f":"IF('Choix de l''instrument '!$C$3=\"Volume\",AND('Choix de l''instrument '!$D$3>=Volume!G5,G5<>\"\"),\"\")","v":""}]
["DEB-013","Débimètre volumique","Production / 7700","1 / 15 l/min",null,"Afficher",null,null,null,null,null,null,null,{"$f":"IF('Choix de l''instrument '!$C$3=\"Volume\",AND('Choix de l''instrument '!$D$3>=Volume!G6,G6<>\"\"),\"\")","v":""}]
["DEB-001","Débimètre volumique","Production / 7700","1 / 15 l/min",null,"Afficher",null,null,null,null,null,null,null,{"$f":"IF('Choix de l''instrument '!$C$3=\"Volume\",AND('Choix de l''instrument '!$D$3>=Volume!G7,G7<>\"\"),\"\")","v":""}]
["DEB-002","Débimètre volumique","Production / 7700","1 / 15 l/min",null,"Afficher",null,null,null,null,null,null,null,{"$f":"IF('Choix de l''instrument '!$C$3=\"Volume\",AND('Choix de l''instrument '!$D$3>=Volume!G8,G8<>\"\"),\"\")","v":""}]
["DEB-003","Débimètre volumique","Production / 7700","1 / 15 l/min",null,"Afficher",null,null,null,null,null,null,null,{"$f":"IF('Choix de l''instrument '!$C$3=\"Volume\",AND('Choix de l''instrument '!$D$3>=Volume!G9,G9<>\"\"),\"\")","v":""}]
["DEB-004","Débimètre volumique","Technique / 7700 / Armoire BOTT JM","1 / 15 l/min",null,"Afficher",null,null,null,null,null,null,null,{"$f":"IF('Choix de l''instrument '!$C$3=\"Volume\",AND('Choix de l''instrument '!$D$3>=Volume!G10,G10<>\"\"),\"\")","v":""}]
["DEB-006","Débimètre volumique","Technique / 7700","2 / 20 l/min",null,"Afficher",null,null,null,null,null,null,null,{"$f":"IF('Choix de l''instrument '!$C$3=\"Volume\",AND('Choix de l''instrument '!$D$3>=Volume!G11,G11<>\"\"),\"\")","v":""}]
["DEB-007","Débimètre volumique","Technique / 7700","2 / 20 l/min",null,"Afficher",null,null,null,null,null,null,null,{"$f":"IF('Choix de l''instrument '!$C$3=\"Volume\",AND('Choix de l''instrument '!$D$3>=Volume!G12,G12<>\"\"),\"\")","v":""}]
["DEB-008","Débimètre volumique","Technique / 7700","2 / 20 l/min",null,"Afficher",null,null,null,null,null,null,null,{"$f":"IF('Choix de l''instrument '!$C$3=\"Volume\",AND('Choix de l''instrument '!$D$3>=Volume!G13,G13<>\"\"),\"\")","v":""}]

{"sheet":"Volt","index":52,"n_rows":21,"n_cols":14,"rows_kept":21,"cut":false,"hidden":false,"merged":[]}
["Volt"]
[null,null,null,null,null,null,"résolution g",null,null,null,null,null,null,"Résultat critère IT"]
["M.235","Multimètre",null,null,null,"Afficher",null,null,null,null,null,null,null,{"$f":"IF('Choix de l''instrument '!$C$3=\"Volt\",AND('Choix de l''instrument '!$D$3>=Volt!G3,G3<>\"\"),\"\")","v":""}]
["M.256","Multimètre",null,null,null,"Afficher",null,null,null,null,null,null,null,{"$f":"IF('Choix de l''instrument '!$C$3=\"Volt\",AND('Choix de l''instrument '!$D$3>=Volt!G4,G4<>\"\"),\"\")","v":""}]
["MUL-006","Multimètre","T5-600",null,null,"Afficher",null,null,null,null,null,null,null,{"$f":"IF('Choix de l''instrument '!$C$3=\"Volt\",AND('Choix de l''instrument '!$D$3>=Volt!G5,G5<>\"\"),\"\")","v":""}]
["MUL-002","Multimètre","T5-600",null,null,"Afficher",null,null,null,null,null,null,null,{"$f":"IF('Choix de l''instrument '!$C$3=\"Volt\",AND('Choix de l''instrument '!$D$3>=Volt!G6,G6<>\"\"),\"\")","v":""}]
["MUL-001","Multimètre","FLUKE T5-600",null,null,"Afficher",null,null,null,null,null,null,null,{"$f":"IF('Choix de l''instrument '!$C$3=\"Volt\",AND('Choix de l''instrument '!$D$3>=Volt!G7,G7<>\"\"),\"\")","v":""}]
["MUL-005","Multimètre","T5 - 1000",null,null,"Afficher",null,null,null,null,null,null,null,{"$f":"IF('Choix de l''instrument '!$C$3=\"Volt\",AND('Choix de l''instrument '!$D$3>=Volt!G8,G8<>\"\"),\"\")","v":""}]
["MUL-004","Multimètre",null,null,null,"Afficher",null,null,null,null,null,null,null,{"$f":"IF('Choix de l''instrument '!$C$3=\"Volt\",AND('Choix de l''instrument '!$D$3>=Volt!G9,G9<>\"\"),\"\")","v":""}]
["MUL-003","Multimètre",null,null,null,"Afficher",null,null,null,null,null,null,null,{"$f":"IF('Choix de l''instrument '!$C$3=\"Volt\",AND('Choix de l''instrument '!$D$3>=Volt!G10,G10<>\"\"),\"\")","v":""}]
["THE.146","Multimètre",null,null,null,"Afficher",null,null,null,null,null,null,null,{"$f":"IF('Choix de l''instrument '!$C$3=\"Volt\",AND('Choix de l''instrument '!$D$3>=Volt!G11,G11<>\"\"),\"\")","v":""}]
["SQ.129","Multimètre",null,null,null,"Afficher",null,null,null,null,null,null,null,{"$f":"IF('Choix de l''instrument '!$C$3=\"Volt\",AND('Choix de l''instrument '!$D$3>=Volt!G12,G12<>\"\"),\"\")","v":""}]
["CAT.096","Multimètre",null,null,null,"Afficher",null,null,null,null,null,null,null,{"$f":"IF('Choix de l''instrument '!$C$3=\"Volt\",AND('Choix de l''instrument '!$D$3>=Volt!G13,G13<>\"\"),\"\")","v":""}]
["CAT.109","Multimètre",null,null,null,"Afficher",null,null,null,null,null,null,null,{"$f":"IF('Choix de l''instrument '!$C$3=\"Volt\",AND('Choix de l''instrument '!$D$3>=Volt!G14,G14<>\"\"),\"\")","v":""}]
["ELE-0009","Multimètre",null,null,null,"Afficher",null,null,null,null,null,null,null,{"$f":"IF('Choix de l''instrument '!$C$3=\"Volt\",AND('Choix de l''instrument '!$D$3>=Volt!G15,G15<>\"\"),\"\")","v":""}]
["ELE-0008","Multimètre",null,null,null,"Afficher",null,null,null,null,null,null,null,{"$f":"IF('Choix de l''instrument '!$C$3=\"Volt\",AND('Choix de l''instrument '!$D$3>=Volt!G16,G16<>\"\"),\"\")","v":""}]
["ELE-0007","Multimètre",null,null,null,"Afficher",null,null,null,null,null,null,null,{"$f":"IF('Choix de l''instrument '!$C$3=\"Volt\",AND('Choix de l''instrument '!$D$3>=Volt!G17,G17<>\"\"),\"\")","v":""}]
["ELE-0012","Multimètre",null,null,null,"Afficher",null,null,null,null,null,null,null,{"$f":"IF('Choix de l''instrument '!$C$3=\"Volt\",AND('Choix de l''instrument '!$D$3>=Volt!G18,G18<>\"\"),\"\")","v":""}]
["ELE-0010","Multimètre",null,null,null,"Afficher",null,null,null,null,null,null,null,{"$f":"IF('Choix de l''instrument '!$C$3=\"Volt\",AND('Choix de l''instrument '!$D$3>=Volt!G19,G19<>\"\"),\"\")","v":""}]
["CF.247","Multimètre","fluke 111",null,null,"Afficher",null,null,null,null,null,null,null,{"$f":"IF('Choix de l''instrument '!$C$3=\"Volt\",AND('Choix de l''instrument '!$D$3>=Volt!G20,G20<>\"\"),\"\")","v":""}]
["CF.385","Multimètre",null,null,null,"Afficher",null,null,null,null,null,null,null,{"$f":"IF('Choix de l''instrument '!$C$3=\"Volt\",AND('Choix de l''instrument '!$D$3>=Volt!G21,G21<>\"\"),\"\")","v":""}]

{"sheet":"Dim av contact 3d","index":53,"n_rows":0,"n_cols":0,"rows_kept":0,"cut":false,"hidden":true,"merged":[]}