{"text_format":"1","workbook":"xlsx","n_sheets":2,"sheets":["Budget FCFA","Budget EURO"],"not_rendered":{"charts":0,"images":0,"macros":1,"external_links":0,"defined_names":9,"comments":3,"pivot_tables":0},"unopened":[],"bounds":{"document_bytes":16777216,"sheet_cells":100000,"rows_first":2000,"rows_last":500,"rows_between":2000,"halvings":0,"cell_chars":16384,"cell_head_chars":4096},"cells_cut":0,"cells_raw":0,"read":"whole","date_system":"1900"}

{"sheet":"Budget FCFA","index":0,"n_rows":290,"n_cols":42,"rows_kept":290,"cut":false,"hidden":false,"merged":[[1,27,1,31],[218,27,218,31],[218,32,218,36],[218,37,218,41],[1,37,1,41],[1,32,1,34],[1,23,1,26],[218,23,218,26],[218,3,218,7],[218,8,218,12],[218,13,218,17],[218,18,218,22],[1,3,1,7],[1,8,1,12],[1,13,1,17],[1,18,1,22]]}
["TAUX DE CHANGE",null,null,655.95699999999999,null,null,null,null,655.95699999999999,null,null,null,null,655.95699999999999,null,null,null,null,655.95699999999999,null,null,null,null,655.95699999999999,null,null,null,655.95699999999999,null,null,null,null,655.95699999999999,null,null,null,null,655.95699999999999]
["Nb de mags ",6,"AFRIQUE 2021","JANVIER",null,null,null,null,"FEVRIER",null,null,null,null,"MARS",null,null,null,null,"AVRIL",null,null,null,null,"MAI",null,null,null,"JUIN",null,null,null,null,"JUILLET",null,null,null,null,"AOUT"]
[]
["Catégorie","Pays","Num OP + saison","PMA 10H20","PMA6H20","PMA7H20","x","JANVIER","PMA\nNEW CO FEVRIER","x","x","x","FEVRIER","PMA1 E21","PMA8 E20","SOLDES","x","MARS","PMA34E21","PMA33 E21 / PMA RAMADAN","x","x","AVRIL","PMA5 E21","PMA 31E21","x","MAI","PMA32 E21","x","x","x","JUIN","PMA8 E21","x","x","x","JUILLET","RDC","SOLDES","x","x","AOUT"]
["PUBHAART","ABIDJAN","Achats d'art standard (photos) interne KIABI",null,null,null,null,{"$f":"H10*48%","v":366014.56021920004},null,null,null,null,{"$f":"M10*48%","v":259082.02437599999},null,null,null,null,{"$f":"R10*48%","v":274081.92428639997},null,null,null,null,{"$f":"W10*48%","v":2060549.3039999998},null,null,null,{"$f":"AA10*48%","v":471816.75095999998},null,null,null,null,{"$f":"AF10*48%","v":17317.264800000001},null,null,null,null,{"$f":"AK10*#REF!","v":{"$error":"#REF!"}},null,null,null,null,{"$f":"AP10*#REF!","v":{"$error":"#REF!"}}]
["PUBHAART","BRAZZA","Achats d'art standard (photos) interne KIABI",null,null,null,null,{"$f":"H10*9.3%","v":70915.321042470023},null,null,null,null,{"$f":"M10*9.3%","v":50197.142222850009},null,null,null,null,{"$f":"R10*9.3%","v":53103.372830490007},null,null,null,null,{"$f":"W10*9.3%","v":399231.42765000003},null,null,null,{"$f":"AA10*9.3%","v":91414.495498500008},null,null,null,null,{"$f":"AF10*9.3%","v":3355.2200550000007},null,null,null,null,{"$f":"AK10*#REF!","v":{"$error":"#REF!"}},null,null,null,null,{"$f":"AP10*#REF!","v":{"$error":"#REF!"}}]
["PUBHAART","DAKAR","Achats d'art standard (photos) interne KIABI",null,null,null,null,{"$f":"H10*12.5%","v":95316.291723750008},null,null,null,null,{"$f":"M10*12.5%","v":67469.27718125},null,null,null,null,{"$f":"R10*12.5%","v":71375.501116250001},null,null,null,null,{"$f":"W10*12.5%","v":536601.38124999998},null,null,null,{"$f":"AA10*12.5%","v":122868.9455625},null,null,null,null,{"$f":"AF10*12.5%","v":4509.7043750000003},null,null,null,null,{"$f":"AK10*#REF!","v":{"$error":"#REF!"}},null,null,null,null,{"$f":"AP10*#REF!","v":{"$error":"#REF!"}}]
["PUBHAART","LIBREVILLE","Achats d'art standard (photos) interne KIABI",null,null,null,null,{"$f":"H10*17.7%","v":134967.86908083002},null,null,null,null,{"$f":"M10*17.7%","v":95536.496488649995},null,null,null,null,{"$f":"R10*17.7%","v":101067.70958061},null,null,null,null,{"$f":"W10*17.7%","v":759827.55584999989},null,null,null,{"$f":"AA10*17.7%","v":173982.4269165},null,null,null,null,{"$f":"AF10*17.7%","v":6385.741395},null,null,null,null,{"$f":"AK10*#REF!","v":{"$error":"#REF!"}},null,null,null,null,{"$f":"AP10*#REF!","v":{"$error":"#REF!"}}]
["PUBHAART","DOUALA","Achats d'art standard (photos) interne KIABI",null,null,null,null,{"$f":"H10*12.5%","v":95316.291723750008},null,null,null,null,{"$f":"M10*12.5%","v":67469.27718125},null,null,null,null,{"$f":"R10*12.5%","v":71375.501116250001},null,null,null,null,{"$f":"W10*12.5%","v":536601.38124999998},null,null,null,{"$f":"AA10*12.5%","v":122868.9455625},null,null,null,null,{"$f":"AF10*12.5%","v":4509.7043750000003},null,null,null,null,{"$f":"AK10*#REF!","v":{"$error":"#REF!"}},null,null,null,null,{"$f":"AP10*#REF!","v":{"$error":"#REF!"}}]
["PUBHAART","TOTAL","Total Achats Art (all)",null,null,null,null,{"$f":"1162.47*D1","v":762530.33379000006},null,null,null,null,{"$f":"822.85*I1","v":539754.21745},null,null,null,null,{"$f":"870.49*N1","v":571004.00893000001},null,null,null,null,{"$f":"6553.91*655","v":4292811.05},null,null,null,{"$f":"1498.5*X1","v":982951.56449999998},null,null,null,null,{"$f":"55*AB1","v":36077.635000000002},null,null,null,null,{"$f":"338.45*AG1","v":222008.64664999998},null,null,null,null,{"$f":"927.03*AG1","v":608091.81770999997}]
["PUBLIANT","ABIDJAN","Exercices précédents"]
["PUBLIANT","BRAZZA","Exercices précédents"]
["PUBLIANT","DAKAR","Exercices précédents"]
["PUBLIANT","LIBREVILLE","Exercices précédents"]
["PUBLIANT","DOUALA","Exercices précédents"]
["PUBLIANT","TOTAL","Total exercices précédents",{"$f":"SUM(D11:D15)","v":0},{"$f":"SUM(E11:E15)","v":0},0,0,{"$f":"0.16*D1","v":104.95312},0,0,0,0,{"$f":"23.44*I1","v":15375.632080000001},0,0,0,0,{"$f":"-56.76*I1","v":-37232.119319999998},0,0,0,0,{"$f":"29.65*S1","v":19449.125049999999},{"$f":"SUM(X11:X15)","v":0},0,0,0,0,0,0,0,{"$f":"5*AB1","v":3279.7849999999999},0,0,{"$f":"SUM(AI11:AI15)","v":0},0,0,0,0,0,0,0]
["PUBCATAL","ABIDJAN","EVE / Gravure tract ",null,null,null,null,null,null,null,null,null,null,null,null,null,null,{"$f":"(R22*48%)","v":245590.3008}]
["PUBCATAL","BRAZZA","EVE / Gravure tract ",null,null,null,null,null,null,null,null,null,null,null,null,null,null,{"$f":"R22*9.3%","v":47583.120780000012}]
["PUBCATAL","DAKAR","EVE / Gravure tract ",null,null,null,null,null,null,null,null,null,null,null,null,null,null,{"$f":"R22*12.5%","v":63955.807500000003}]
["PUBCATAL","LIBREVILLE","EVE / Gravure tract ",null,null,null,null,null,null,null,null,null,null,null,null,null,null,{"$f":"R22*17.7%","v":90561.423419999992}]
["PUBCATAL","DOUALA","EVE / Gravure tract ",null,null,null,null,null,null,null,null,null,null,null,null,null,null,{"$f":"R22*12.5%","v":63955.807500000003}]
["PUBCATAL","TOTAL","Total Eve / gravure tract",{"$f":"+SUM(D17:D21)","v":0},0,0,0,0,0,0,0,0,0,0,0,0,0,{"$f":"780*X1","v":511646.46},0,0,0,0,0,0,0,0,0,0,0,0,0,0,0,0,0,0,0,0,0,0,0,0]
["PUBCATAL","ABIDJAN","Gravure KIABI GROUPE "]
["PUBCATAL","BRAZZA","Gravure KIABI GROUPE "]
["PUBCATAL","DAKAR","Gravure KIABI GROUPE "]
["PUBCATAL","LIBREVILLE","Gravure KIABI GROUPE "]
["PUBCATAL","DOUALA","Gravure KIABI GROUPE "]
["PUBCATAL","TOTAL","Total Gravure Kiabi Groupe",null,null,null,null,null,null,null,null,null,null,null,null,null,null,null,null,null,null,null,null,null,null,null,null,null,null,null,{"$f":"(500*AA1)/12","v":0},null,null,{"$f":"(500*AD1)/12","v":0},{"$f":"(500*AE1)/12","v":0},{"$f":"(500*AF1)/12","v":0},null,null,null,{"$f":"(500*AJ1)/12","v":0},{"$f":"(500*AK1)/12","v":0}]
["PUBCATAL","ABIDJAN","Impression catalogue",null,75000,null,null,null,2250000,null,null,null,null,null,75000,{"$f":"1050000","v":1050000},null,null,null,{"$f":"2550000+375000","v":2925000},null,null,null,75000,null,null,null,{"$f":"75000+1150000","v":1225000},null,null,null,null,75000,null,null,null,null,{"$f":"75000+1805000+300000+2250000","v":4430000},75000]
["PUBCATAL","BRAZZA","Impression catalogue",null,null,null,null,null,null,null,null,null,null,null,null,null,null,null,null,null,null,null,null,null,null,null,{"$f":"885000+680000","v":1565000},null,null,null,null,null,null,null,null,null,null,{"$f":"70000+500000+500000","v":1070000}]
["PUBCATAL","DAKAR","Impression catalogue",null,null,null,null,null,{"$f":"190000+410000","v":600000},null,null,null,null,null,null,null,null,null,null,null,null,null,null,null,null,null,null,null,null,null,null,null,null,null,null,null,null,{"$f":"150000+410000+210000","v":770000}]
["PUBCATAL","LIBREVILLE","Impression catalogue",null,null,null,null,null,1186000,null,null,null,null,null,null,null,null,null,null,null,null,null,null,null,null,null,null,null,null,null,null,null,null,null,null,null,null,{"$f":"1400000+500000+300000","v":2200000}]
["PUBCATAL","DOUALA","Impression catalogue",null,null,null,null,null,920000,null,null,null,null,null,null,null,null,null,null,null,null,null,992000,null,null,null,null,null,null,null,null,null,null,null,null,null,null,{"$f":"825000+250000+(2500*3)+30000+60000+360000","v":1532500}]
["PUBCATAL","TOTAL","Total impression catalogue",{"$f":"SUM(D29:D33)","v":0},{"$f":"SUM(E29:E33)","v":75000},0,0,0,4956000,0,0,0,0,0,75000,1050000,0,0,0,{"$f":"SUM(T29:T33)","v":2925000},0,0,992000,75000,0,0,1565000,1225000,0,0,0,0,75000,0,{"$f":"SUM(AI29:AI33)","v":0},0,0,10002500,75000,0,0,0]
["PUBCATAL","TOTAL","Total catalogue",{"$f":"D22+D28+D34","v":0},{"$f":"E22+E28+E34","v":75000},0,0,0,4956000,0,0,0,0,0,75000,1050000,0,511646.46,0,2925000,0,0,992000,75000,0,0,1565000,1225000,0,0,0,0,75000,0,0,0,0,10002500,75000,0,0,0]
["PUBDISTR","ABIDJAN","Coût distribution",null,null,null,null,null,322000,null,null,null,null,null,null,{"$f":"990000+45000","v":1035000},null,null,null,{"$f":"70000+1680000+362000","v":2112000},null,null,null,null,null,null,null,402000,null,null,null,null,null,null,null,null,null,{"$f":"554000+2500000","v":3054000}]
["PUBDISTR","BRAZZA","Coût distribution",null,null,null,null,null,null,null,null,null,null,null,null,null,null,null,null,null,null,null,null,null,null,null,null,null,null,null,null,null,null,null,null,null,null,{"$f":"225000+50000+20000+150000+198000+40000+60000","v":743000}]
["PUBDISTR","DAKAR","Coût distribution",null,null,null,null,null,{"$f":"95000+1665000","v":1760000},null,null,null,null,null,null,null,null,null,null,null,null,null,null,null,null,null,null,null,null,null,null,null,null,null,null,null,null,{"$f":"889200+475000","v":1364200}]
["PUBDISTR","LIBREVILLE","Coût distribution",null,null,null,null,null,960000,null,null,null,null,null,null,null,null,null,null,null,null,null,null,null,null,null,null,null,null,null,null,null,null,null,null,null,null,{"$f":"884000+487491+100000","v":1471491}]
["PUBDISTR","DOUALA","Coût distribution",null,null,null,null,null,1879755,null,null,null,null,null,null,null,null,null,null,null,null,null,null,null,null,null,null,null,null,null,null,null,null,null,null,null,null,{"$f":"250000+175000+50000+1000000","v":1475000}]
["PUBDISTR","TOTAL","Total distribution",{"$f":"SUM(D36:D40)","v":0},0,0,0,0,4921755,0,0,0,0,0,0,1035000,0,0,0,{"$f":"SUM(T36:T40)","v":2112000},0,0,0,0,0,0,0,402000,0,0,0,0,0,0,{"$f":"SUM(AI36:AI40)","v":0},0,0,8107691,0,0,0,0]
["PUBAFFIC","ABIDJAN","Réseau affichage",122500,{"$f":"233640+60000","v":293640},null,null,180000,{"$f":"90000+193093","v":283093},null,null,null,180000,null,{"$f":"90000+217200","v":307200},1994200,null,180000,null,{"$f":"3666917+90000+217200","v":3974117},null,null,180000,null,null,null,{"$f":"180000","v":180000},{"$f":"217200+2451278+60000","v":2728478},null,null,null,180000,null,null,null,null,180000,{"$f":"2000000+700000+300000+342000+55000+122500+3000000","v":6519500},null,null,null,180000]
["PUBAFFIC","BRAZZA","Réseau affichage",null,null,480500,null,null,null,null,null,null,{"$f":"165000","v":165000},null,null,null,null,{"$f":"165000","v":165000},null,null,null,null,{"$f":"165000","v":165000},null,null,null,{"$f":"165000","v":165000},null,null,null,null,{"$f":"165000","v":165000},null,null,null,null,{"$f":"165000","v":165000},{"$f":"165000+351000+270000+90000+1300000+430000+100000","v":2706000},null,null,null,{"$f":"165000","v":165000}]
["PUBAFFIC","DAKAR","Réseau affichage",null,null,null,null,null,null,null,null,null,504000,null,null,{"$f":"358750","v":358750},null,null,null,null,null,null,null,null,null,null,null,null,null,null,null,null,null,null,null,null,null,null,240000]
["PUBAFFIC","LIBREVILLE","Réseau affichage",null,null,null,null,null,null,null,null,null,null,null,null,null,null,null,null,null,null,null,null,null,null,null,null,null,null,null,null,null,null,null,null,null,null,519403]
["PUBAFFIC","DOUALA","Réseau affichage",null,null,null,null,329600,{"$f":"700400+346080","v":1046480},null,null,null,null,null,null,null,null,456290,null,null,null,null,null,null,null,null,null,null,null,null,null,null,null,null,null,null,null,{"$f":"(6*110000)+(5*150000)","v":1410000}]
["PUBAFFIC","ABIDJAN","Frais de création affichage",null,null,null,null,37400,null,null,null,null,37400,null,null,null,null,37400,null,null,null,null,37400,null,null,null,37400,null,null,null,null,37400,null,null,null,null,37400,{"$f":"22500*30","v":675000},null,null,null,37400]
["PUBAFFIC","BRAZZA","Frais de création affichage",null,null,null,null,37400,null,null,null,null,37400,null,null,null,null,37400,null,null,null,null,37400,null,null,null,37400,null,null,null,null,37400,null,null,null,null,37400,null,null,null,null,37400]
["PUBAFFIC","DAKAR","Frais de création affichage",null,null,null,null,37400,null,null,null,null,37400,null,null,null,null,37400,null,null,null,null,37400,null,null,null,37400,null,null,null,null,37400,null,null,null,null,37400,null,null,null,null,37400]
["PUBAFFIC","LIBREVILLE","Frais de création affichage",null,null,null,null,37400,null,null,null,null,37400,null,null,null,null,37400,null,null,null,null,37400,null,null,null,37400,null,null,null,null,37400,null,null,null,null,37400,null,null,null,null,37400]
["PUBAFFIC","DOUALA","Frais de création affichage",null,null,null,null,37400,null,null,null,null,37400,null,null,null,null,37400,null,null,null,null,37400,null,null,null,37400,null,null,null,null,37400,null,null,null,null,37400,null,null,null,null,37400]
["PUBAFFIC","TOTAL","Total reseau affichage",{"$f":"SUM(D42:D51)","v":122500},293640,480500,0,696600,1329573,0,0,0,1036000,0,307200,2352950,0,988290,0,3974117,0,0,532000,0,0,0,532000,2728478,0,0,0,532000,0,0,{"$f":"SUM(AI42:AI51)","v":0},0,532000,11829903,240000,0,0,532000]
["PUBPRESS","ABIDJAN","Achat d'espace presse",null,null,null,null,null,null,null,null,null,null,null,null,null,null,null,null,null,null,null,null,null,null,null,null,null,null,null,null,null,null,null,null,null,null,660000]
["PUBPRESS","BRAZZA","Achat d'espace presse"]
["PUBPRESS","DAKAR","Achat d'espace presse",null,null,null,null,null,null,null,null,null,null,null,null,{"$f":"33333+300000+216666","v":549999},null,null,null,null,null,null,null,null,null,null,null,null,null,null,null,null,null,null,null,null,null,null,450000]
["PUBPRESS","LIBREVILLE","Achat d'espace presse",null,null,null,null,null,null,null,null,null,null,null,null,null,null,null,null,null,null,null,null,null,null,null,null,null,null,null,null,null,null,null,null,null,null,1883549,0]
["PUBPRESS","DOUALA","Achat d'espace presse"]
["PUBPRESS","ABIDJAN","Créa presse",null,null,null,null,null,null,null,null,null,null,null,null,null,null,null,null,null,null,null,null,null,null,null,null,null,null,null,null,null,null,null,null,null,null,957421]
["PUBPRESS","BRAZZA","Créa presse",null,null,null,null,null,null,null,null,null,null,null,null,null,null,null,null,null,null,null,null,null,null,null,null,null,null,null,null,null,null,null,null,null,null,183664]
["PUBPRESS","DAKAR","Créa presse",null,null,null,null,null,null,null,null,null,null,null,null,null,null,null,null,null,null,null,null,null,null,null,null,null,null,null,null,null,null,null,null,null,null,246132]
["PUBPRESS","LIBREVILLE","Créa presse",null,null,null,null,null,null,null,null,null,null,null,null,null,null,null,null,null,null,null,null,null,null,null,null,null,null,null,null,null,null,null,null,null,null,356263]
["PUBPRESS","DOUALA","Créa presse",null,null,null,null,null,null,null,null,null,null,null,null,null,null,null,null,null,null,null,null,null,null,null,null,null,null,null,null,null,null,null,null,null,null,256521]
["PUBPRESS","TOTAL","Total presse",{"$f":"SUM(D53:D62)","v":0},0,0,0,0,0,0,0,0,0,0,0,549999,0,0,0,0,0,0,0,0,0,0,0,0,0,0,0,0,0,0,{"$f":"SUM(AI53:AI62)","v":0},0,0,4543550,{"$f":"SUM(AM53:AM62)","v":450000},0,0,0]
["PUBRADIO","ABIDJAN","Achat d'espace radio",null,null,null,null,null,null,null,null,null,null,null,null,246859]
["PUBRADIO","BRAZZA","Achat d'espace radio"]
["PUBRADIO","DAKAR","Achat d'espace radio",null,null,null,null,null,null,null,null,null,null,null,null,322000,null,null,null,null,null,null,null,null,null,null,null,null,null,null,null,null,null,null,null,null,null,null,{"$f":"368000+322575","v":690575}]
["PUBRADIO","LIBREVILLE","Achat d'espace radio",null,null,null,null,null,null,null,null,null,null,null,null,800000]
["PUBRADIO","DOUALA","Achat d'espace radio",null,null,null,null,null,null,null,null,null,null,null,null,null,null,null,null,null,null,null,null,null,null,null,null,null,null,null,null,null,480000,null,null,null,null,{"$f":"(15000*30*2)+480000","v":1380000},{"$f":"15000*30*2","v":900000}]
["PUBRADIO","ABIDJAN","Création spot radio + Validation CSP "]
["PUBRADIO","BRAZZA","Création spot radio + Validation CSP "]
["PUBRADIO","DAKAR","Création spot radio + Validation CSP ",null,null,null,null,null,null,null,null,null,null,null,null,{"$f":"575000","v":575000},null,null,null,null,null,null,null,null,null,null,null,null,null,null,null,null,null,null,null,null,null,null,{"$f":"287000","v":287000}]
["PUBRADIO","LIBREVILLE","Création spot radio + Validation CSP "]
["PUBRADIO","DOUALA","Création spot radio + Validation CSP ",null,null,null,null,null,null,null,null,null,null,null,null,null,null,null,null,null,null,null,null,null,null,null,null,null,null,null,null,null,null,null,null,null,null,300000,300000]
["PUBRADIO","TOTAL","Total radio",{"$f":"SUM(D64:D73)","v":0},0,0,0,0,0,0,0,0,0,0,0,1943859,0,0,0,0,0,0,0,0,0,0,0,0,0,0,0,0,480000,0,{"$f":"SUM(AI64:AI73)","v":0},0,0,1680000,2177575,0,0,0]
["PUBTELEV","ABIDJAN","Achat d'espace TV / PARTENARIAT",null,null,null,null,null,null,null,null,null,null,null,null,null,null,null,null,null,null,null,null,null,null,null,null,null,null,null,null,null,null,null,null,null,null,20000000]
["PUBTELEV","BRAZZA","Achat d'espace TV / PARTENARIAT",null,null,null,null,null,null,null,null,null,null,null,null,null,null,null,null,null,null,null,null,null,null,null,null,null,null,null,null,null,null,null,null,null,null,1200000]
["PUBTELEV","DAKAR","Achat d'espace TV / PARTENARIAT",null,null,null,null,null,null,null,null,null,null,null,null,null,null,null,null,null,null,null,null,null,null,null,null,null,null,null,null,null,null,null,null,null,null,2500000]
["PUBTELEV","LIBREVILLE","Achat d'espace TV / PARTENARIAT",null,null,null,null,null,null,null,null,null,null,null,null,95833,null,null,null,null,null,null,null,null,null,null,null,null,null,null,null,null,null,null,null,null,null,2100000]
["PUBTELEV","DOUALA","Achat d'espace TV / PARTENARIAT"]
["PUBTELEV","ABIDJAN","Vidéos TV / WEB",null,null,null,null,null,null,null,null,null,null,null,null,null,null,null,null,null,null,null,null,null,null,null,null,null,null,null,null,null,null,null,null,null,null,2154197]
["PUBTELEV","BRAZZA","Vidéos TV / WEB",null,null,null,null,null,null,null,null,null,null,null,null,null,null,null,null,null,null,null,null,null,null,null,null,null,null,null,null,null,null,null,null,null,null,413244]
["PUBTELEV","DAKAR","Vidéos TV / WEB",null,null,null,null,null,null,null,null,null,null,null,null,null,null,null,null,null,null,null,null,null,null,null,null,null,null,null,null,null,null,null,null,null,null,553796]
["PUBTELEV","LIBREVILLE","Vidéos TV / WEB",null,null,null,null,null,null,null,null,null,null,null,null,null,null,null,null,null,null,null,null,null,null,null,null,null,null,null,null,null,null,null,null,null,null,801591]
["PUBTELEV","DOUALA","Vidéos TV / WEB",null,null,null,null,null,null,null,null,null,null,null,null,null,null,null,null,null,null,null,null,null,null,null,null,null,null,null,null,null,null,null,null,null,null,577172]
["PUBTELEV","TOTAL","Total TV",{"$f":"SUM(D75:D84)","v":0},0,0,0,0,0,0,0,0,0,0,0,95833,0,0,0,0,0,0,0,0,0,0,0,0,0,0,0,0,0,0,{"$f":"SUM(AI75:AI84)","v":0},0,0,30300000,0,0,0,0]
["PUBBRAND","ABIDJAN"]
["PUBBRAND","BRAZZA"]
["PUBBRAND","DAKAR"]
["PUBBRAND","LIBREVILLE"]
["PUBBRAND","DOUALA"]
["PUBBRAND","TOTAL",null,{"$f":"SUM(D86:D90)","v":0},0,0,0,0,0,0,0,0,0,0,0,0,0,0,0,0,0,0,0,0,0,0,0,0,0,0,0,0,0,0,{"$f":"SUM(AI86:AI90)","v":0},0,0,0,0,0,0,0]
["PUBVIDEO","ABIDJAN","PUB VIDEO (video magasin)",null,null,null,null,null,null,null,null,null,null,null,null,null,null,{"$f":"R97*48%","v":46473.241535999994},null,null,null,null,null,null,null,null,null,null,null,null,null,null,null,null,null,null,{"$f":"AK97*#REF!","v":{"$error":"#REF!"}},null,null,null,null,{"$f":"AP97*#REF!","v":{"$error":"#REF!"}}]
["PUBVIDEO","BRAZZA","PUB VIDEO (video magasin)",null,null,null,null,null,null,null,null,null,null,null,null,null,null,{"$f":"R97*9.3%","v":9004.1905476000011},null,null,null,null,null,null,null,null,null,null,null,null,null,null,null,null,null,null,{"$f":"AK97*#REF!","v":{"$error":"#REF!"}},null,null,null,null,{"$f":"AP97*#REF!","v":{"$error":"#REF!"}}]
["PUBVIDEO","DAKAR","PUB VIDEO (video magasin)",null,null,null,null,null,null,null,null,null,null,null,null,null,null,{"$f":"R97*12.5%","v":12102.406649999999},null,null,null,null,null,null,null,null,null,null,null,null,null,null,null,null,null,null,{"$f":"AK97*#REF!","v":{"$error":"#REF!"}},null,null,null,null,{"$f":"AP97*#REF!","v":{"$error":"#REF!"}}]
["PUBVIDEO","LIBREVILLE","PUB VIDEO (video magasin)",null,null,null,null,null,null,null,null,null,null,null,null,null,null,{"$f":"R97*17.7%","v":17137.007816399997},null,null,null,null,null,null,null,null,null,null,null,null,null,null,null,null,null,null,{"$f":"AK97*#REF!","v":{"$error":"#REF!"}},null,null,null,null,{"$f":"AP97*#REF!","v":{"$error":"#REF!"}}]
["PUBVIDEO","DOUALA","PUB VIDEO (video magasin)",null,null,null,null,null,null,null,null,null,null,null,null,null,null,{"$f":"R97*12.5%","v":12102.406649999999},null,null,null,null,null,null,null,null,null,null,null,null,null,null,null,null,null,null,{"$f":"AK97*#REF!","v":{"$error":"#REF!"}},null,null,null,null,{"$f":"AP97*#REF!","v":{"$error":"#REF!"}}]
["PUBVIDEO","TOTAL","TOTAL PUB VIDEO (video magasin)",{"$f":"SUM(D92:D96)","v":0},{"$f":"SUM(E92:E96)","v":0},{"$f":"SUM(F92:F96)","v":0},0,0,0,0,0,0,0,0,0,0,{"$f":"SUM(Q92:Q96)","v":0},{"$f":"147.6*N1","v":96819.253199999992},{"$f":"SUM(S92:S96)","v":0},{"$f":"SUM(T92:T96)","v":0},0,0,0,0,0,0,0,0,0,0,0,0,{"$f":"SUM(AG92:AG96)","v":0},{"$f":"SUM(AH92:AH96)","v":0},{"$f":"SUM(AI92:AI96)","v":0},{"$f":"SUM(AJ92:AJ96)","v":0},{"$f":"415.2*AG1","v":272353.34639999998},{"$f":"SUM(AL92:AL96)","v":0},{"$f":"SUM(AM92:AM96)","v":0},{"$f":"SUM(AN92:AN96)","v":0},{"$f":"SUM(AO92:AO96)","v":0}]
["WEBRESEA","ABIDJAN","Facebook adds BAPEE",null,null,null,null,{"$f":"342.47*D1","v":224645.59379000001},null,null,null,null,{"$f":"1029.24*I1","v":675137.18267999997},null,null,null,null,{"$f":"751.93*N1","v":493233.74700999993},null,null,null,null,{"$f":"440.69*S1","v":289073.69033000001},null,null,null,{"$f":"354*X1","v":232208.77799999999},null,null,null,null,{"$f":"881.97*AB1","v":578534.39529000001},null,null,null,null,{"$f":"325.96*AG1","v":213815.74372},null,null,null,null,{"$f":"1038.15*AL1","v":680981.75955000008}]
["WEBRESEA","BRAZZA","Facebook adds BAPEE",null,null,null,null,{"$f":"113.53*D1","v":74470.798209999994},null,null,null,null,{"$f":"114.96*I1","v":75408.816719999988},null,null,null,null,{"$f":"205.56*N1","v":134838.52092000001},null,null,null,null,{"$f":"(160.8+0.04)*S1","v":105504.12388},null,null,null,{"$f":"141.54*X1","v":92844.153779999993},null,null,null,null,{"$f":"467.32*AB1","v":306541.82523999998},null,null,null,null,{"$f":"363.11*AG1","v":238184.54627000002},null,null,null,null,{"$f":"203.93*AL1","v":133769.31101}]
["WEBRESEA","DAKAR","Facebook adds BAPEE",null,null,null,null,{"$f":"367.04*D1","v":240762.45728},null,null,null,null,{"$f":"610.15*I1","v":400232.16355},null,null,null,null,{"$f":"728.35*N1","v":477766.28094999999},null,null,null,null,{"$f":"582.13*S1","v":381852.24841},null,null,null,{"$f":"490.09*X1","v":321477.96612999996},null,null,null,null,{"$f":"630.79*AB1","v":413771.11602999998},null,null,null,null,{"$f":"300.5*AG1","v":197115.0785},null,null,null,null,{"$f":"746.36 *AL1","v":489580.06651999999}]
["WEBRESEA","LIBREVILLE","Facebook adds BAPEE",null,null,null,null,{"$f":"105.07*D1","v":68921.401989999998},null,null,null,null,{"$f":"125.07*I1","v":82040.541989999998},null,null,null,null,{"$f":"311.15*N1","v":204101.02054999999},null,null,null,null,{"$f":"248.85*S1","v":163234.89945},null,null,null,{"$f":"107.91*X1","v":70784.319869999992},null,null,null,null,{"$f":"129.54*AB1","v":84972.669779999997},null,null,null,null,{"$f":"106.28*AG1","v":69715.109960000002},null,null,null,null,{"$f":"410.99*AL1","v":269591.76743000001}]
["WEBRESEA","DOUALA","Facebook adds BAPEE",null,null,null,null,{"$f":"187.81*D1","v":123195.28417},null,null,null,null,{"$f":"188.84*I1","v":123870.91988},null,null,null,null,{"$f":"259.96*N1","v":170522.58171999999},null,null,null,null,{"$f":"435.45*S1","v":285636.47564999998},null,null,null,{"$f":"499.6*X1","v":327716.11720000004},null,null,null,null,{"$f":"187*AB1","v":122663.959},null,null,null,null,{"$f":"100.46*AG1","v":65897.440219999989},null,null,null,null,{"$f":"375.31*AL1","v":246187.22167}]
["WEBRESEA","TOTAL","Total Facebook",{"$f":"SUM(D98:D101)","v":0},{"$f":"SUM(E98:E101)","v":0},{"$f":"SUM(F98:F101)","v":0},{"$f":"SUM(G98:G101)","v":0},{"$f":"SUM(H98:H102)","v":731995.53544000001},0,0,0,0,1356689.62482,0,0,0,0,1480462.1511499998,0,0,0,0,1225301.43772,0,0,0,{"$f":"SUM(AA98:AA102)","v":1045031.33498},{"$f":"SUM(AB98:AB102)","v":0},0,0,0,1506483.9653399999,0,0,0,0,784727.91867000004,0,{"$f":"SUM(AM98:AM102)","v":0},0,0,1820110.1261800001]
["WEBPUSEA","ABIDJAN","Jeu concours"]
["WEBPUSEA","BRAZZA","Jeu concours"]
["WEBPUSEA","DAKAR","Jeu concours"]
["WEBPUSEA","LIBREVILLE","Jeu concours"]
["WEBPUSEA","DOUALA","Jeu concours"]
["WEBPUSEA","TOTAL","Total Jeu concours",{"$f":"SUM(D104:D108)","v":0},0,0,0,0,0,0,0,0,0,0,0,0,0,0,0,0,0,0,0,0,0,0,0,0,0,0,0,0,0,0,{"$f":"SUM(AI104:AI108)","v":0},0,0,0,0,0,0,0]
["WEBPUSEA","ABIDJAN","HA mots clés "]
["WEBPUSEA","BRAZZA","HA mots clés "]
["WEBPUSEA","DAKAR","HA mots clés "]
["WEBPUSEA","LIBREVILLE","HA mots clés "]
["WEBPUSEA","DOUALA","HA mots clés "]
["WEBPUSEA","TOTAL","Total HA mots clés ",{"$f":"SUM(D110:D114)","v":0},{"$f":"SUM(E110:E114)","v":0},0,0,0,0,0,0,0,0,0,0,0,0,0,0,0,0,0,0,0,0,0,0,0,0,0,0,0,0,0,0,0,0,0,0,0,0,0]
["WEBPUSEA","ABIDJAN","Création Bannières web"]
["WEBPUSEA","BRAZZA","Création Bannières web"]
["WEBPUSEA","DAKAR","Création Bannières web"]
["WEBPUSEA","LIBREVILLE","Création Bannières web"]
["WEBPUSEA","DOUALA","Création Bannières web"]
["WEBPUSEA","TOTAL","Achats d'espace bannières web",{"$f":"SUM(D116:D120)","v":0},{"$f":"SUM(E116:E120)","v":0},0,0,0,0,0,0,0,0,0,0,0,0,0,0,0,0,0,0,0,0,0,0,0,0,0,0,0,0,0,0,0,0,0,0,0,0,0]
["PUBWEB00","ABIDJAN","Envoi SMS ",783449,null,null,null,null,783436,null,null,null,null,null,null,{"$f":"311916+381290","v":693206},null,null,null,425510,null,null,null,426127,426121,null,null,426127,null,null,null,null,1452000,null,null,null,null,1452000,{"$f":"1452000*2","v":2904000}]
["PUBWEB00","BRAZZA","Envoi SMS ",null,null,null,null,null,null,null,null,null,null,null,59175,{"$f":"59175+59175","v":118350},null,null,null,61380,null,null,null,61395,61395,null,null,61380,null,null,null,61380,105000,null,null,null,null,105000,{"$f":"105000*2","v":210000}]
["PUBWEB00","DAKAR","Envoi SMS ",null,null,135000,null,null,135000,null,null,null,135000,null,null,{"$f":"135000+135000","v":270000},null,null,null,135000,null,null,null,135000,135000,null,null,null,null,null,null,null,225000,null,null,null,null,225000,{"$f":"225000*2","v":450000}]
["PUBWEB00","LIBREVILLE","Envoi SMS ",null,null,null,null,null,336362,null,null,null,null,null,null,{"$f":"482837+350334","v":833171},null,null,null,482837,null,null,null,482837,482837,null,null,482837,null,null,null,482837,{"$f":"875000","v":875000},null,null,null,null,{"$f":"875000","v":875000},{"$f":"875000","v":875000}]
["PUBWEB00","DOUALA","Envoi SMS ",null,null,null,null,null,null,null,null,null,null,null,114811,{"$f":"114818+114818","v":229636},null,null,null,114825,null,null,null,114825,114825,null,null,114818,null,null,null,114825,{"$f":"13*40000","v":520000},null,null,null,null,{"$f":"13*40000","v":520000},{"$f":"(13*40000)*2","v":1040000}]
["PUBWEB00","TOTAL","Total SMS",{"$f":"SUM(D122:D126)","v":783449},0,135000,0,0,1254798,0,0,0,135000,0,173986,2144363,0,0,0,1219552,0,0,0,1220184,1220178,0,0,1085162,0,0,0,659042,3177000,0,{"$f":"SUM(AI122:AI126)","v":0},0,0,3177000,5479000,0,0,0]
["WEBPUSEA","ABIDJAN","Location + envoi SMS"]
["WEBPUSEA","BRAZZA","Location + envoi SMS"]
["WEBPUSEA","DAKAR","Location + envoi SMS"]
["WEBPUSEA","LIBREVILLE","Location + envoi SMS"]
["WEBPUSEA","DOUALA","Location + envoi SMS"]
["WEBPUSEA","TOTAL","Total envoi SMS",{"$f":"SUM(D128:D132)","v":0},{"$f":"SUM(E128:E132)","v":0},0,0,0,0,0,0,0,0,0,0,0,0,0,0,0,0,0,0,0,0,0,0,0,0,0,0,0,0,0,0,0,0,0,0,0,0,0]
["WEBINFLU","ABIDJAN","Influenceurs",null,null,null,null,null,{"$f":"540000+174000","v":714000},null,null,null,{"$f":"(200000+90700)*48%","v":139536},null,null,null,null,{"$f":"(200000+51800)*48%","v":120864},null,{"$f":"420000+158000","v":578000},null,null,{"$f":"(190000+65300)*48%","v":122544},null,null,null,212500,null,null,null,null,{"$f":"(250000+49200)*48%","v":143616},null,null,null,null,119978,500000,null,null,null,119978]
["WEBINFLU","BRAZZA","Influenceurs",null,null,null,null,null,null,null,null,null,{"$f":"(200000+90700)*9.3%","v":27035.100000000002},null,null,null,null,{"$f":"(200000+51800)*9.3%","v":23417.400000000005},null,null,null,null,{"$f":"(190000+65300)*9.3%","v":23742.900000000005},null,null,null,null,null,null,null,null,{"$f":"(250000+49200)*9.3%","v":27825.600000000002},null,null,null,null,22958,null,null,null,null,22958]
["WEBINFLU","DAKAR","Influenceurs",null,null,null,null,null,null,null,null,null,{"$f":"(200000+90700)*12.5%","v":36337.5},null,null,null,null,{"$f":"(200000+51800)*12.5%","v":31475},null,null,null,null,{"$f":"(190000+65300)*12.5%","v":31912.5},null,null,null,null,null,null,null,null,{"$f":"(250000+49200)*12.5%","v":37400},null,null,null,null,30766,1000000,null,null,null,30766]
["WEBINFLU","LIBREVILLE","Influenceurs",null,null,null,null,null,null,null,null,null,{"$f":"((200000+90700)*17.7%)+400000","v":451453.9},null,null,null,null,{"$f":"((200000+51800)*17.7%)","v":44568.6},null,null,null,null,{"$f":"((190000+65300)*17.7%)","v":45188.1},null,null,null,null,null,null,null,null,{"$f":"((250000+49200)*17.7%)","v":52958.399999999994},null,null,null,null,44533,600000,null,null,null,44533]
["WEBINFLU","DOUALA","Influenceurs",null,null,null,null,null,null,null,null,null,{"$f":"(200000+90700)*12.5%","v":36337.5},null,null,null,null,{"$f":"(200000+51800)*12.5%","v":31475},null,null,null,null,{"$f":"(190000+65300)*12.5%","v":31912.5},null,null,null,null,null,null,null,null,{"$f":"(250000+49200)*12.5%","v":37400},null,null,null,null,32065,600000,null,null,null,32065]
["WEBINFLU","TOTAL","Total influenceurs",{"$f":"SUM(D134:D138)","v":0},0,0,0,0,714000,0,0,0,690700,0,0,0,0,251800,0,578000,0,0,255300,0,0,0,212500,0,0,0,0,299200,0,0,{"$f":"SUM(AI134:AI138)","v":0},0,250300,2700000,0,0,0,250300]
["WEBRESEA","TOTAL","Total web",{"$f":"D103+D109+D115+D121+D127+D133+D139","v":783449},0,{"$f":"F103+F109+F115+F121+F127+F133+F139","v":135000},0,{"$f":"H103+H109+H115+H121+H127+H133+H139","v":731995.53544000001},1968798,0,0,0,2182389.62482,0,173986,2144363,0,1732262.1511499998,0,1797552,0,0,1480601.43772,1220184,1220178,0,1257531.33498,1085162,0,0,0,2464725.9653399996,3177000,0,{"$f":"AI103+AI109+AI115+AI121+AI127+AI133+AI139","v":0},0,1035027.91867,5877000,5479000,0,0,2070410.1261800001]
["PUBTECHN","ABIDJAN","Exé Gravure PLV "]
["PUBTECHN","BRAZZA","Exé Gravure PLV "]
["PUBTECHN","DAKAR","Exé Gravure PLV "]
["PUBTECHN","LIBREVILLE","Exé Gravure PLV "]
["PUBTECHN","DOUALA","Exé Gravure PLV "]
["PUBTECHN","TOTAL","Total éxé gravure local",{"$f":"SUM(D141:D144)","v":0},{"$f":"SUM(E141:E145)","v":0},{"$f":"SUM(F141:F145)","v":0},0,0,0,0,0,0,0,0,0,0,0,0,0,0,0,0,0,0,0,0,0,0,0,0,0,0,0,0,0,0,0,0,0,0,0,0]
["PUBTECHN","ABIDJAN","Exé Gravure PLV fabriquée par la France ",null,null,null,null,null,null,null,null,null,null,null,null,null,null,{"$f":"72.33*N1","v":47445.369809999997},null,null,null,null,null,null,null,null,{"$f":"AA152*#REF!","v":{"$error":"#REF!"}},null,null,null,null,{"$f":"AF152*#REF!","v":{"$error":"#REF!"}},null,null,null,null,{"$f":"AK152*#REF!","v":{"$error":"#REF!"}},null,null,null,null,{"$f":"AP152*#REF!","v":{"$error":"#REF!"}}]
["PUBTECHN","BRAZZA","Exé Gravure PLV fabriquée par la France ",null,null,null,null,null,null,null,null,null,null,null,null,null,null,{"$f":"72.33*N1","v":47445.369809999997},null,null,null,null,null,null,null,null,{"$f":"AA152*#REF!","v":{"$error":"#REF!"}},null,null,null,null,{"$f":"AF152*#REF!","v":{"$error":"#REF!"}},null,null,null,null,{"$f":"AK152*#REF!","v":{"$error":"#REF!"}},null,null,null,null,{"$f":"AP152*#REF!","v":{"$error":"#REF!"}}]
["PUBTECHN","DAKAR","Exé Gravure PLV fabriquée par la France ",null,null,null,null,null,null,null,null,null,null,null,null,null,null,null,null,null,null,null,null,null,null,null,{"$f":"AA152*#REF!","v":{"$error":"#REF!"}},null,null,null,null,{"$f":"AF152*#REF!","v":{"$error":"#REF!"}},null,null,null,null,{"$f":"AK152*#REF!","v":{"$error":"#REF!"}},null,null,null,null,{"$f":"AP152*#REF!","v":{"$error":"#REF!"}}]
["PUBTECHN","LIBREVILLE","Exé Gravure PLV fabriquée par la France ",null,null,null,null,null,null,null,null,null,null,null,null,null,null,null,null,null,null,null,null,null,null,null,{"$f":"AA152*#REF!","v":{"$error":"#REF!"}},null,null,null,null,{"$f":"AF152*#REF!","v":{"$error":"#REF!"}},null,null,null,null,{"$f":"AK152*#REF!","v":{"$error":"#REF!"}},null,null,null,null,{"$f":"AP152*#REF!","v":{"$error":"#REF!"}}]
["PUBTECHN","DOUALA","Exé Gravure PLV fabriquée par la France ",null,null,null,null,null,null,null,null,null,null,null,null,null,null,null,null,null,null,null,{"$f":"403.57*S1","v":264724.56649},null,null,null,{"$f":"AA152*#REF!","v":{"$error":"#REF!"}},null,null,null,null,{"$f":"AF152*#REF!","v":{"$error":"#REF!"}},null,null,null,null,{"$f":"AK152*#REF!","v":{"$error":"#REF!"}},null,null,null,null,{"$f":"AP152*#REF!","v":{"$error":"#REF!"}}]
["PUBTECHN",null,"TOTAL FRAIS TECHNIQUES",null,null,null,null,null,null,null,null,null,null,null,null,null,null,{"$f":"SUM(R147:R151)","v":94890.739619999993},{"$f":"SUM(S147:S151)","v":0},0,0,0,264724.56649,null,null,null,null,null,null,{"$f":"(1380/12)*Z1","v":0},{"$f":"(1380/12)*AA1","v":0},null,null,null,null,null,null,null,null,null,null,{"$f":"377.06*AL1","v":247335.14642}]
["PUBTECHN","ABIDJAN","Vitrines"]
["PUBTECHN","BRAZZA","Vitrines"]
["PUBTECHN","DAKAR","Vitrines"]
["PUBTECHN","LIBREVILLE","Vitrines"]
["PUBTECHN","DOUALA","Vitrines"]
["PUBTECHN",null,"TOTAL VITRINES",{"$f":"SUM(D153:D157)","v":0},{"$f":"SUM(E153:E157)","v":0},0,0,0,0,0,0,0,0,0,0,0,0,0,0,0,0,0,0,0,0,0,0,0,0,0,0,0,0,0,0,0,0,0,0,0,0,0]
["PUBTECHN","ABIDJAN","Théatralisation & PLV fabriquées par la France (nodhos)"]
["PUBTECHN","BRAZZA","Théatralisation & PLV fabriquées par la France (nodhos)"]
["PUBTECHN","DAKAR","Théatralisation & PLV fabriquées par la France (nodhos)"]
["PUBTECHN","LIBREVILLE","Théatralisation & PLV fabriquées par la France (nodhos)"]
["PUBTECHN","DOUALA","Théatralisation & PLV fabriquées par la France (nodhos)"]
["PUBTECHN","TOTAL","Total théâtralisation",{"$f":"SUM(D159:D163)","v":0},{"$f":"SUM(E159:E163)","v":0},0,0,{"$f":"9.07*D1","v":5949.52999},0,0,0,0,{"$f":"10*I1","v":6559.57},0,0,0,0,{"$f":"10*N1","v":6559.57},0,0,0,0,{"$f":"499*S1","v":327322.54300000001},0,0,0,{"$f":"537.44*X1","v":352537.53008000006},{"$f":"SUM(AB159:AB163)","v":0},0,0,0,{"$f":"(555+57)*AB1","v":401445.68400000001},0,0,0,0,0,0,0,0,0,{"$f":"377.06*AL1","v":247335.14642}]
["PUBTECHN","ABIDJAN","PROD Local",null,280000,null,null,null,280000,null,null,null,{"$f":"400000+575000","v":975000},null,280000,1220000,null,null,null,280000,null,null,null,null,280000,null,160000,{"$f":"280000","v":280000},null,null,null,160000,280000,null,null,null,null,280000,280000]
["PUBTECHN","BRAZZA","PROD Local",null,23600,23600,null,null,28674,null,null,null,11800,null,23600,7000,null,null,null,23600,null,null,null,23500,23500,null,11800,23600,null,null,null,null,10000,null,null,null,null,10000,10000]
["PUBTECHN","DAKAR","PROD Local",null,null,20000,null,null,20000,null,null,null,null,null,20000,{"$f":"96000+20000+3333","v":119333},null,null,null,20000,null,null,null,20000,20000,null,40000,20000,null,null,null,20000,null,null,null,null,null,28500,{"$f":"(28500*2)+96000","v":153000}]
["PUBTECHN","LIBREVILLE","PROD Local",77720,null,null,null,null,167760,null,null,null,45000,null,77760,null,null,null,null,{"$f":"77760","v":77760},null,null,null,null,77760,null,101808,77760,null,null,null,{"$f":"101808","v":101808},78538,null,null,null,null,{"$f":"78538*3","v":235614},78538]
["PUBTECHN","DOUALA","PROD Local",null,null,null,null,143000,null,null,null,null,null,null,null,3409300,null,null,null,97850,null,null,null,97850,97850,null,53560,null,null,null,null,null,25000,null,null,null,null,25000,25000]
["PUBTECHN","TOTAL","Total prod locale",{"$f":"SUM(D165:D169)","v":77720},{"$f":"SUM(E165:E169)","v":303600},{"$f":"SUM(F165:F169)","v":43600},0,143000,496434,0,0,0,1031800,0,401360,4755633,0,0,0,499210,0,0,0,141350,499110,0,367168,401360,0,0,0,281808,393538,0,0,0,0,579114,546538,0,0,0]
["PUBTECHN","ABIDJAN","Exceptionnel",null,null,null,null,null,{"$f":"(180000+648300+700000+90000)*48%","v":776784},null,null,null,{"$f":"51000+864000+700000","v":1615000},null,null,null,null,{"$f":"363000+1500000+250000+121500+76500","v":2311000},null,{"$f":"(200000+587800+700000+100000)*48%","v":762144},null,null,{"$f":"135000+408920","v":543920},null,null,null,121500,null,null,null,null,288000,null,null,null,null,null,1129757]
["PUBTECHN","BRAZZA","Exceptionnel",null,null,null,null,null,{"$f":"(180000+648300+700000+90000)*9.3%","v":150501.90000000002},null,null,null,null,null,null,null,null,null,null,{"$f":"(200000+587800+700000+100000)*9.3%","v":147665.40000000002},null,null,530286,null,null,null,null,null,null,null,null,null,null,null,null,null,null,216724]
["PUBTECHN","DAKAR","Exceptionnel",null,null,null,null,null,{"$f":"(180000+648300+700000+90000)*12.5%","v":202287.5},null,null,null,null,null,null,null,null,null,null,{"$f":"(200000+587800+700000+100000)*12.5%","v":198475},null,null,null,null,null,null,null,null,null,null,null,null,null,null,null,null,null,290435]
["PUBTECHN","LIBREVILLE","Exceptionnel",null,null,null,null,null,{"$f":"(180000+648300+700000+90000)*17.7%","v":286439.09999999998},null,null,null,null,null,null,null,null,null,null,{"$f":"(200000+587800+700000+100000)*17.7%","v":281040.59999999998},null,null,{"$f":"133000+311000","v":444000},null,null,null,null,null,null,null,null,null,null,null,null,null,null,420390]
["PUBTECHN","DOUALA","Exceptionnel",null,null,null,null,null,{"$f":"(180000+648300+700000+90000)*12.5%","v":202287.5},null,null,null,null,null,null,null,null,null,null,{"$f":"(200000+587800+700000+100000)*12.5%","v":198475},null,null,null,null,null,null,{"$f":"705000+113000","v":818000},null,null,null,null,null,null,null,null,null,null,302695]
["PUBTECHN","TOTAL","Total exceptionnel",{"$f":"SUM(D171:D175)","v":0},{"$f":"SUM(E171:E175)","v":0},0,0,{"$f":"SUM(H171:H175)","v":0},{"$f":"SUM(I171:I175)","v":1618300},0,0,0,1615000,0,0,0,0,2311000,0,{"$f":"SUM(T171:T175)","v":1587800},0,0,1518206,{"$f":"SUM(T171:T175)","v":1587800},0,0,{"$f":"SUM(AA171:AA175)","v":939500},0,0,0,0,288000,0,0,0,0,0,2360001,0,0,0,0]
["PUBTECHN","TOTAL","Total frais techniques",{"$f":"(D176+D170+D164+D158+D152+D146)","v":77720},{"$f":"(E176+E170+E164+E158+E152+E146)","v":303600},43600,0,148949.52999000001,2114734,0,0,0,2653359.5699999998,0,401360,4755633,0,2412450.30962,0,2087010,0,0,2110253.1094900002,1729150,499110,0,1659205.5300799999,401360,0,0,0,971253.68400000001,393538,0,{"$f":"(AI176+AI170+AI164+AI158+AI152+AI146)","v":0},0,0,2939115,546538,0,0,494670.29284000001]
["PUBHONOR","ABIDJAN","Honoraires",null,null,null,null,{"$f":"H183*48%","v":56419.6487184},null,null,null,null,null,null,null,null,null,null,null,null,null,null,null,null,null,null,null,null,null,null,null,{"$f":"AF183*48%","v":117272.51722559999},null,null,null,null,{"$f":"AK183*#REF!","v":{"$error":"#REF!"}},null,null,null,null,{"$f":"AP183*#REF!","v":{"$error":"#REF!"}}]
["PUBHONOR","BRAZZA","Honoraires",null,null,null,null,{"$f":"H183*9.3%","v":10931.306939190001},null,null,null,null,null,null,null,null,null,null,null,null,null,null,null,null,null,null,null,null,null,null,null,{"$f":"AF183*9.3%","v":22721.550212460003},null,null,null,null,{"$f":"AK183*#REF!","v":{"$error":"#REF!"}},null,null,null,null,{"$f":"AP183*#REF!","v":{"$error":"#REF!"}}]
["PUBHONOR","DAKAR","Honoraires",null,null,null,null,{"$f":"H183*12.5%","v":14692.61685375},null,null,null,null,null,null,null,null,null,null,null,null,null,null,null,null,null,null,null,null,null,null,null,{"$f":"AF183*12.5%","v":30539.718027499999},null,null,null,null,{"$f":"AK183*#REF!","v":{"$error":"#REF!"}},null,null,null,null,{"$f":"AP183*#REF!","v":{"$error":"#REF!"}}]
["PUBHONOR","LIBREVILLE","Honoraires",null,null,null,null,{"$f":"H183*17.7%","v":20804.74546491},null,null,null,null,null,null,null,null,null,null,null,null,null,null,null,null,null,null,null,null,null,null,null,{"$f":"AF183*17.7%","v":43244.240726939999},null,null,null,null,{"$f":"AK183*#REF!","v":{"$error":"#REF!"}},null,null,null,null,{"$f":"AP183*#REF!","v":{"$error":"#REF!"}}]
["PUBHONOR","DOUALA","Honoraires",null,null,null,null,{"$f":"H183*12.5%","v":14692.61685375},null,null,null,null,null,null,null,null,null,null,null,null,null,null,null,null,null,null,null,null,null,null,null,{"$f":"AF183*12.5%","v":30539.718027499999},null,null,null,null,{"$f":"AK183*#REF!","v":{"$error":"#REF!"}},null,null,null,null,{"$f":"AP183*#REF!","v":{"$error":"#REF!"}}]
["PUBHONOR","TOTAL","Honoraires ",null,null,null,null,{"$f":"179.19*D1","v":117540.93483},null,null,null,null,null,null,null,null,null,null,null,null,null,null,null,null,null,null,null,null,null,null,null,{"$f":"372.46*X1","v":244317.74421999999},null,null,null,null,{"$f":"1019.53*AG1","v":668767.84020999994},null,null,null,null,{"$f":"358.86*AL1","v":235396.72902}]
["PUBLONCO","ABIDJAN","Longue conservation"]
["PUBLONCO","BRAZZA","Longue conservation"]
["PUBLONCO","DAKAR","Longue conservation"]
["PUBLONCO","LIBREVILLE","Longue conservation"]
["PUBLONCO","DOUALA","Longue conservation"]
["PUBLONCO","TOTAL","Longue conservation",{"$f":"SUM(D184:D188)","v":0},{"$f":"SUM(E184:E188)","v":0},0,0,0,0,0,0,0,0,0,0,0,0,0,0,0,0,0,0,0,0,0,0,0,0,0,0,0,0,0,0,0,0,0,0,0,0,0]
["PUBETUDE","ABIDJAN","Etudes",null,null,null,null,{"$f":"20*1*D1","v":13119.14},null,null,null,null,{"$f":"20*1*I1","v":13119.14},null,null,null,null,{"$f":"20*1*N1","v":13119.14},null,null,null,null,{"$f":"(20*2)*S1","v":26238.28},null,null,null,{"$f":"(20*2)*X1","v":26238.28},null,null,null,null,{"$f":"(40+330)*AB1","v":242704.09},null,null,null,null,{"$f":"325.96*AG1","v":213815.74372},null,null,null,null,{"$f":"20*2*AL1","v":26238.28}]
["PUBETUDE","BRAZZA","Etudes",null,null,null,null,{"$f":"20*D1","v":13119.14},null,null,null,null,{"$f":"20*I1","v":13119.14},null,null,null,null,{"$f":"20*N1","v":13119.14},null,null,null,null,{"$f":"20*S1","v":13119.14},null,null,null,{"$f":"20*X1","v":13119.14},null,null,null,null,{"$f":"(20+165)*AB1","v":121352.045},null,null,null,null,{"$f":"(185.21+177.9)*AG1","v":238184.54627000002},null,null,null,null,{"$f":"20*AL1","v":13119.14}]
["PUBETUDE","DAKAR","Etudes",null,null,null,null,{"$f":"20*D1","v":13119.14},null,null,null,null,{"$f":"20*I1","v":13119.14},null,null,null,null,{"$f":"20*N1","v":13119.14},null,null,null,null,{"$f":"20*S1","v":13119.14},null,null,null,{"$f":"20*X1","v":13119.14},null,null,null,null,{"$f":"(20+165)*AB1","v":121352.045},null,null,null,null,{"$f":"300.5*AG1","v":197115.0785},null,null,null,null,{"$f":"20*AL1","v":13119.14}]
["PUBETUDE","LIBREVILLE","Etudes",null,null,null,null,{"$f":"20*D1","v":13119.14},null,null,null,null,{"$f":"20*I1","v":13119.14},null,null,null,null,{"$f":"20*N1","v":13119.14},null,null,null,null,{"$f":"20*S1","v":13119.14},null,null,null,{"$f":"20*X1","v":13119.14},null,null,null,null,{"$f":"(20+165)*AB1","v":121352.045},null,null,null,null,{"$f":"106.28*AG1","v":69715.109960000002},null,null,null,null,{"$f":"20*AL1","v":13119.14}]
["PUBETUDE","DOUALA","Etudes",null,null,null,null,{"$f":"20*D1","v":13119.14},null,null,null,null,{"$f":"20*I1","v":13119.14},null,null,null,null,{"$f":"20*N1","v":13119.14},null,null,null,null,{"$f":"20*S1","v":13119.14},null,null,null,{"$f":"20*X1","v":13119.14},null,null,null,null,{"$f":"(20+165)*AB1","v":121352.045},null,null,null,null,{"$f":"100.46*AG1","v":65897.440219999989},null,null,null,null,{"$f":"20*AL1","v":13119.14}]
["PUBETUDE","TOTAL","Etudes ",{"$f":"SUM(D190:D194)","v":0},0,0,0,65595.7,0,0,0,0,65595.7,0,0,0,0,65595.7,0,0,0,0,78714.84,0,0,0,78714.84,null,{"$f":"SUM(AC190:AC194)","v":0},0,0,728112.27,0,0,{"$f":"SUM(AI190:AI194)","v":0},0,784727.91867000004,0,0,0,0,78714.84]
["PUBAMBIA","ABIDJAN","Evénement ",null,null,null,null,null,null,null,null,null,{"$f":"23539146+650000+5000000+100000+6125000","v":35414146},null,null,null,null,{"$f":"162000+175000+50000+250000+1500000+425000+80000+75000+60800+32800+420000+375000+2030000","v":5635600},null,null,null,null,null,null,null,null,null,null,null,null,null,{"$f":"1500000+900000+120000+270600+100000+100000+250000","v":3240600}]
["PUBAMBIA","BRAZZA","Evénement ",null,null,null,null,null,null,null,null,null,null,null,null,null,null,null,null,null,null,null,null,null,null,null,{"$f":"10080000+82500+59000","v":10221500},null,null,null,null,null,null,null,null,null,null,1637500]
["PUBAMBIA","DAKAR","Evénement ",null,null,null,null,null,null,null,null,null,null,null,null,null,null,null,null,null,null,null,null,null,null,null,{"$f":"9884872+250000+410000+1600000+120000+260000","v":12524872}]
["PUBAMBIA","LIBREVILLE","Evénement ",null,null,null,null,null,null,null,null,null,null,null,null,null,null,null,null,null,null,null,null,null,null,null,null,null,null,null,null,null,null,null,null,null,10000000]
["PUBAMBIA","DOUALA","Evénement ",null,null,null,null,null,null,null,null,null,null,null,null,null,null,null,null,null,null,null,12748494]
["PUBFIDEL","ABIDJAN","Production carte de fid"]
["PUBFIDEL","BRAZZA","Production carte de fid"]
["PUBFIDEL","DAKAR","Production carte de fid"]
["PUBFIDEL","LIBREVILLE","Production carte de fid"]
["PUBFIDEL","DOUALA","Production carte de fid"]
["PUBFIDEL","ABIDJAN","PLV Carte de Fid"]
["PUBFIDEL","BRAZZA","PLV Carte de Fid"]
["PUBFIDEL","DAKAR","PLV Carte de Fid"]
["PUBFIDEL","LIBREVILLE","PLV Carte de Fid"]
["PUBFIDEL","DOUALA","PLV Carte de Fid"]
["PUBMAGAS","TOTAL","Actions locales",{"$f":"SUM(D196:D210)","v":0},{"$f":"SUM(E196:E210)","v":0},0,0,0,0,0,0,0,35414146,0,0,0,0,5635600,0,0,0,0,12748494,0,0,0,22746372,0,0,0,0,{"$f":"SUM(AF196:AF210)","v":3240600},0,0,0,0,10000000,1637500,0,0,0,0]
["PUBCADOS","ABIDJAN","Cadeaux jeux (Bons d'HA)",null,null,null,null,null,null,null,null,null,{"$f":"5200000+754600","v":5954600},null,null,null,null,null,null,null,null,null,33300,null,null,null,null,null,null,null,null,200000,null,null,null,null,200000,400000,null,null,null,200000]
["PUBCADOS","BRAZZA","Cadeaux jeux (Bons d'HA)",null,null,null,null,null,null,null,null,null,null,null,null,null,null,null,null,null,null,null,null,null,null,null,{"$f":"3200000+121500+98600","v":3420100},null,null,null,null,null,null,null,null,null,100000,null,null,null,null,100000]
["PUBCADOS","DAKAR","Cadeaux jeux (Bons d'HA)",null,null,null,null,null,null,null,null,null,null,null,null,null,null,null,null,null,null,null,null,null,null,null,3200000,null,null,null,null,null,null,null,null,null,100000,400000,null,null,null,100000]
["PUBCADOS","LIBREVILLE","Cadeaux jeux (Bons d'HA)",null,null,null,null,null,198900,null,null,null,71400,null,null,null,null,null,null,null,null,null,null,null,null,null,null,null,null,null,null,null,null,null,null,null,100000,200000,null,null,null,100000]
["PUBCADOS","DOUALA","Cadeaux jeux (Bons d'HA)",null,null,null,null,null,null,null,null,null,null,null,null,null,null,null,null,null,null,null,3200000,null,null,null,null,null,null,null,null,null,null,null,null,null,null,400000,null,null,null,100000]
["PUBCADOS","TOTAL","Cadeaux jeux (bons d'HA)",{"$f":"SUM(D212:D216)","v":0},{"$f":"SUM(E212:E216)","v":0},0,0,0,{"$f":"SUM(I212:I216)","v":198900},0,0,0,6026000,0,0,0,0,0,0,0,0,0,3233300,0,0,0,6620100,0,0,0,0,200000,0,0,{"$f":"SUM(AI212:AI216)","v":0},0,500000,1400000,0,0,0,600000]
[null,"TOTAL","TOTAL budget MKG",{"$f":"D217+D211+D195+D189+D183+D177+D140+D97+D91+D85+D74+D63+D52+D41+D35+D16+D10","v":983669},{"$f":"E217+E211+E195+E189+E183+E177+E140+E97+E91+E85+E74+E63+E52+E41+E35+E16+E10","v":672240},659100,0,2523316.9871700001,15489760,{"$f":"J217+J211+J195+J189+J183+J177+J140+J97+J91+J85+J74+J63+J52+J41+J35+J16+J10","v":0},0,0,47932620.744350009,0,957546,13927637,0,11976435.76358,0,12895679,0,0,25487623.562260002,3024334,1719288,0,35441875.269560002,5842000,0,0,0,8420367.0835600011,{"$f":"AG217+AG211+AG195+AG189+AG183+AG177+AG140+AG97+AG91+AG85+AG74+AG63+AG52+AG41+AG35+AG16+AG10","v":4125538},0,{"$f":"AI217+AI211+AI195+AI189+AI183+AI177+AI140+AI97+AI91+AI85+AI74+AI63+AI52+AI41+AI35+AI16+AI10","v":0},0,14014885.670600001,78317259,8968113,0,0,4619283.8057500003]
[null,null,"TOTAL budget MKG Menusel",{"$f":"D218+E218+F218+H218","v":4838325.9871699996},null,null,null,null,{"$f":"I218+M218","v":63422380.744350009},null,null,null,null,{"$f":"N218+O218+R218+P218","v":26861618.763580002},null,null,null,null,{"$f":"SUM(S218:W218)","v":38383302.562260002},null,null,null,null,{"$f":"SUM(X218:AA218)","v":40185497.269560002},null,null,null,{"$f":"SUM(AB218:AF218)","v":14262367.083560001},null,null,null,null,{"$f":"AG218+AH218+AI218+AK218+AJ218","v":18140423.670600001},null,null,null,null,{"$f":"AL218+AM218+AN218+AP218+AO218","v":91904655.805749997}]
[null,null,null,"Total dépense","Contribution annuelle"]
[null,null,"Semestre 1",{"$f":"(D219+I219+N219+S219+X219+AB219)","v":187953492.41048002},{"$f":"D221/#REF!","v":{"$error":"#REF!"}}]
[null,null,"Semestre 2",{"$f":"(AG219+AL219+#REF!+#REF!+#REF!+#REF!)","v":{"$error":"#REF!"}},{"$f":"D222/#REF!","v":{"$error":"#REF!"}}]
[]
[]
[]
[null,null,"Contrôle cohérence Euros / Devise",{"$f":"D218/VLOOKUP('Budget EURO'!D2,'Budget FCFA'!#REF!,2,FALSE)-'Budget EURO'!D167","v":{"$error":"#REF!"}},{"$f":"E218/VLOOKUP('Budget EURO'!E2,'Budget FCFA'!#REF!,2,FALSE)-'Budget EURO'!E167","v":{"$error":"#REF!"}},{"$f":"F218/VLOOKUP('Budget EURO'!F2,'Budget FCFA'!#REF!,2,FALSE)-'Budget EURO'!F167","v":{"$error":"#REF!"}},{"$f":"G218/VLOOKUP('Budget EURO'!G2,'Budget FCFA'!#REF!,2,FALSE)-'Budget EURO'!G167","v":{"$error":"#REF!"}},{"$f":"H218/VLOOKUP('Budget EURO'!H2,'Budget FCFA'!#REF!,2,FALSE)-'Budget EURO'!H167","v":{"$error":"#REF!"}},{"$f":"I218/VLOOKUP('Budget EURO'!I2,'Budget FCFA'!#REF!,2,FALSE)-'Budget EURO'!I167","v":{"$error":"#REF!"}},{"$f":"J218/VLOOKUP('Budget EURO'!#REF!,'Budget FCFA'!#REF!,2,FALSE)-'Budget EURO'!#REF!","v":{"$error":"#REF!"}},{"$f":"K218/VLOOKUP('Budget EURO'!J2,'Budget FCFA'!#REF!,2,FALSE)-'Budget EURO'!J167","v":{"$error":"#REF!"}},{"$f":"L218/VLOOKUP('Budget EURO'!K2,'Budget FCFA'!#REF!,2,FALSE)-'Budget EURO'!K167","v":{"$error":"#REF!"}},{"$f":"M218/VLOOKUP('Budget EURO'!L2,'Budget FCFA'!#REF!,2,FALSE)-'Budget EURO'!L167","v":{"$error":"#REF!"}},{"$f":"N218/VLOOKUP('Budget EURO'!M2,'Budget FCFA'!#REF!,2,FALSE)-'Budget EURO'!M167","v":{"$error":"#REF!"}},{"$f":"O218/VLOOKUP('Budget EURO'!N2,'Budget FCFA'!#REF!,2,FALSE)-'Budget EURO'!N167","v":{"$error":"#REF!"}},{"$f":"P218/VLOOKUP('Budget EURO'!O2,'Budget FCFA'!#REF!,2,FALSE)-'Budget EURO'!O167","v":{"$error":"#REF!"}},{"$f":"Q218/VLOOKUP('Budget EURO'!P2,'Budget FCFA'!#REF!,2,FALSE)-'Budget EURO'!P167","v":{"$error":"#REF!"}},{"$f":"R218/VLOOKUP('Budget EURO'!Q2,'Budget FCFA'!#REF!,2,FALSE)-'Budget EURO'!Q167","v":{"$error":"#REF!"}},{"$f":"S218/VLOOKUP('Budget EURO'!R2,'Budget FCFA'!#REF!,2,FALSE)-'Budget EURO'!R167","v":{"$error":"#REF!"}},{"$f":"T218/VLOOKUP('Budget EURO'!S2,'Budget FCFA'!#REF!,2,FALSE)-'Budget EURO'!S167","v":{"$error":"#REF!"}},{"$f":"U218/VLOOKUP('Budget EURO'!T2,'Budget FCFA'!#REF!,2,FALSE)-'Budget EURO'!T167","v":{"$error":"#REF!"}},{"$f":"V218/VLOOKUP('Budget EURO'!U2,'Budget FCFA'!#REF!,2,FALSE)-'Budget EURO'!U167","v":{"$error":"#REF!"}},{"$f":"W218/VLOOKUP('Budget EURO'!V2,'Budget FCFA'!#REF!,2,FALSE)-'Budget EURO'!V167","v":{"$error":"#REF!"}},{"$f":"X218/VLOOKUP('Budget EURO'!W2,'Budget FCFA'!#REF!,2,FALSE)-'Budget EURO'!W167","v":{"$error":"#REF!"}},{"$f":"Y218/VLOOKUP('Budget EURO'!X2,'Budget FCFA'!#REF!,2,FALSE)-'Budget EURO'!X167","v":{"$error":"#REF!"}},{"$f":"Z218/VLOOKUP('Budget EURO'!Z2,'Budget FCFA'!#REF!,2,FALSE)-'Budget EURO'!Z167","v":{"$error":"#REF!"}},{"$f":"AA218/VLOOKUP('Budget EURO'!AA2,'Budget FCFA'!#REF!,2,FALSE)-'Budget EURO'!AA167","v":{"$error":"#REF!"}},{"$f":"AB218/VLOOKUP('Budget EURO'!AB2,'Budget FCFA'!#REF!,2,FALSE)-'Budget EURO'!AB167","v":{"$error":"#REF!"}},{"$f":"AC218/VLOOKUP('Budget EURO'!AC2,'Budget FCFA'!#REF!,2,FALSE)-'Budget EURO'!AC167","v":{"$error":"#REF!"}},{"$f":"AD218/VLOOKUP('Budget EURO'!AD2,'Budget FCFA'!#REF!,2,FALSE)-'Budget EURO'!AD167","v":{"$error":"#REF!"}},{"$f":"AE218/VLOOKUP('Budget EURO'!AE2,'Budget FCFA'!#REF!,2,FALSE)-'Budget EURO'!AE167","v":{"$error":"#REF!"}},{"$f":"AF218/VLOOKUP('Budget EURO'!AF2,'Budget FCFA'!#REF!,2,FALSE)-'Budget EURO'!AF167","v":{"$error":"#REF!"}},{"$f":"AG218/VLOOKUP('Budget EURO'!AG2,'Budget FCFA'!#REF!,2,FALSE)-'Budget EURO'!AG167","v":{"$error":"#REF!"}},{"$f":"AH218/VLOOKUP('Budget EURO'!AH2,'Budget FCFA'!#REF!,2,FALSE)-'Budget EURO'!AH167","v":{"$error":"#REF!"}},{"$f":"AI218/VLOOKUP('Budget EURO'!AI2,'Budget FCFA'!#REF!,2,FALSE)-'Budget EURO'!AI167","v":{"$error":"#REF!"}},{"$f":"AJ218/VLOOKUP('Budget EURO'!AJ2,'Budget FCFA'!#REF!,2,FALSE)-'Budget EURO'!AJ167","v":{"$error":"#REF!"}},{"$f":"AK218/VLOOKUP('Budget EURO'!AK2,'Budget FCFA'!#REF!,2,FALSE)-'Budget EURO'!AK167","v":{"$error":"#REF!"}},{"$f":"AL218/VLOOKUP('Budget EURO'!AL2,'Budget FCFA'!#REF!,2,FALSE)-'Budget EURO'!AL167","v":{"$error":"#REF!"}},{"$f":"AM218/VLOOKUP('Budget EURO'!AM2,'Budget FCFA'!#REF!,2,FALSE)-'Budget EURO'!AM167","v":{"$error":"#REF!"}},{"$f":"AN218/VLOOKUP('Budget EURO'!AN2,'Budget FCFA'!#REF!,2,FALSE)-'Budget EURO'!AN167","v":{"$error":"#REF!"}},{"$f":"AO218/VLOOKUP('Budget EURO'!AO2,'Budget FCFA'!#REF!,2,FALSE)-'Budget EURO'!AO167","v":{"$error":"#REF!"}},{"$f":"AP218/VLOOKUP('Budget EURO'!AP2,'Budget FCFA'!#REF!,2,FALSE)-'Budget EURO'!AP167","v":{"$error":"#REF!"}}]
[]
[]
[]
[]
[]
[]
[]
[]
[]
[]
[]
[]
[]
[]
[]
[]
[]
[]
[]
[]
[]
[]
[]
[]
[]
[]
[]
[]
[]
[]
[]
[]
[]
[]
[]
[]
[]
[]
[]
[]
[]
[]
[]
[]
[]
[]
[{"$f":"A10","v":"PUBHAART"},null,null,{"$f":"D10","v":0},0,0,0,762530.33379000006,0,0,0,0,539754.21745,0,0,0,0,571004.00893000001,0,0,0,0,4292811.05,0,0,0,982951.56449999998,0,0,0,0,36077.635000000002,0,0,{"$f":"AI10","v":0},0,222008.64664999998,0,0,0,0,608091.81770999997]
[{"$f":"A16","v":"PUBLIANT"},null,null,{"$f":"D16","v":0},0,0,0,104.95312,0,0,0,0,15375.632080000001,0,0,0,0,-37232.119319999998,0,0,0,0,19449.125049999999,0,0,0,0,0,0,0,0,3279.7849999999999,0,0,{"$f":"AI16","v":0},0,0,0,0,0,0,0]
[{"$f":"A35","v":"PUBCATAL"},null,null,{"$f":"D35","v":0},75000,0,0,0,4956000,0,0,0,0,0,75000,1050000,0,511646.46,0,2925000,0,0,992000,75000,0,0,1565000,1225000,0,0,0,0,75000,0,0,0,0,10002500,75000,0,0,0]
[{"$f":"A41","v":"PUBDISTR"},null,null,{"$f":"D41","v":0},0,0,0,0,4921755,0,0,0,0,0,0,1035000,0,0,0,2112000,0,0,0,0,0,0,0,402000,0,0,0,0,0,0,0,0,0,8107691,0,0,0,0]
[{"$f":"A52","v":"PUBAFFIC"},null,null,{"$f":"D52","v":122500},293640,480500,0,696600,1329573,0,0,0,1036000,0,307200,2352950,0,988290,0,3974117,0,0,532000,0,0,0,532000,2728478,0,0,0,532000,0,0,{"$f":"AI52","v":0},0,532000,11829903,240000,0,0,532000]
[{"$f":"A63","v":"PUBPRESS"},null,null,{"$f":"D63","v":0},0,0,0,0,0,0,0,0,0,0,0,549999,0,0,0,0,0,0,0,0,0,0,0,0,0,0,0,0,0,0,{"$f":"AI63","v":0},0,0,4543550,450000,0,0,0]
[{"$f":"A74","v":"PUBRADIO"},null,null,{"$f":"D74","v":0},0,0,0,0,0,0,0,0,0,0,0,1943859,0,0,0,0,0,0,0,0,0,0,0,0,0,0,0,0,480000,0,{"$f":"AI74","v":0},0,0,1680000,2177575,0,0,0]
[{"$f":"A85","v":"PUBTELEV"},null,null,{"$f":"D85","v":0},0,0,0,0,0,0,0,0,0,0,0,95833,0,0,0,0,0,0,0,0,0,0,0,0,0,0,0,0,0,0,{"$f":"AI85","v":0},0,0,30300000,0,0,0,0]
[{"$f":"A86","v":"PUBBRAND"},null,null,{"$f":"D86","v":0},0,0,0,0,0,0,0,0,0,0,0,0,0,0,0,0,0,0,0,0,0,0,0,0,0,0,0,0,0,0,{"$f":"AI86","v":0},0,0,0,0,0,0,0]
[{"$f":"A94","v":"PUBVIDEO"},null,null,{"$f":"D94","v":0},0,0,0,0,0,0,0,0,0,0,0,0,0,12102.406649999999,0,0,0,0,0,0,0,0,0,0,0,0,0,0,0,0,{"$f":"AI94","v":0},0,{"$error":"#REF!"},0,0,0,0,{"$error":"#REF!"}]
[{"$f":"A140","v":"WEBRESEA"},null,null,{"$f":"D140","v":783449},0,135000,0,731995.53544000001,1968798,0,0,0,2182389.62482,0,173986,2144363,0,1732262.1511499998,0,1797552,0,0,1480601.43772,1220184,1220178,0,1257531.33498,1085162,0,0,0,2464725.9653399996,3177000,0,{"$f":"AI140","v":0},0,1035027.91867,5877000,5479000,0,0,2070410.1261800001]
[{"$f":"A177","v":"PUBTECHN"},null,null,{"$f":"D177","v":77720},303600,43600,0,148949.52999000001,2114734,0,0,0,2653359.5699999998,0,401360,4755633,0,2412450.30962,0,2087010,0,0,2110253.1094900002,1729150,499110,0,1659205.5300799999,401360,0,0,0,971253.68400000001,393538,0,{"$f":"AI177","v":0},0,0,2939115,546538,0,0,494670.29284000001]
[{"$f":"A183","v":"PUBHONOR"},null,null,{"$f":"D183","v":0},0,0,0,117540.93483,0,0,0,0,0,0,0,0,0,0,0,0,0,0,0,0,0,0,0,0,0,0,0,244317.74421999999,0,0,{"$f":"AI183","v":0},0,668767.84020999994,0,0,0,0,235396.72902]
[{"$f":"A189","v":"PUBLONCO"},null,null,{"$f":"D190","v":0},0,0,0,13119.14,0,0,0,0,{"$f":"R190","v":13119.14},{"$f":"N190","v":0},{"$f":"O190","v":0},{"$f":"P190","v":0},{"$f":"Q190","v":0},{"$f":"R184","v":0},{"$f":"S190","v":0},0,0,0,{"$f":"W190","v":26238.28},0,0,0,26238.28,0,0,0,0,242704.09,0,0,0,0,213815.74372,0,0,0,0,26238.28]
[{"$f":"A195","v":"PUBETUDE"},null,null,{"$f":"D195","v":0},0,0,0,65595.7,0,0,0,0,65595.7,0,0,0,0,65595.7,0,0,0,0,78714.84,0,0,0,78714.84,0,0,0,0,728112.27,0,0,{"$f":"AI195","v":0},0,784727.91867000004,0,0,0,0,78714.84]
[{"$f":"A211","v":"PUBMAGAS"},null,null,{"$f":"D211","v":0},0,0,0,0,0,0,0,0,35414146,0,0,0,0,5635600,0,0,0,0,12748494,0,0,0,22746372,0,0,0,0,3240600,0,0,{"$f":"AI211","v":0},0,10000000,1637500,0,0,0,0]
[{"$f":"A217","v":"PUBCADOS"},null,null,{"$f":"D217","v":0},{"$f":"E217","v":0},0,0,0,198900,{"$f":"J217","v":0},0,0,6026000,0,{"$f":"O217","v":0},0,0,0,0,0,0,0,3233300,0,0,0,6620100,0,0,{"$f":"AD217","v":0},0,200000,0,0,{"$f":"AI217","v":0},0,500000,1400000,0,0,0,600000]
["TOTAL",null,null,{"$f":"SUM(D273:D289)","v":983669},{"$f":"SUM(E273:E289)","v":672240},659100,0,2536436.1271700007,{"$f":"SUM(I273:I289)","v":15489760},{"$f":"SUM(J273:J289)","v":0},{"$f":"SUM(K273:K289)","v":0},{"$f":"SUM(L273:L289)","v":0},{"$f":"SUM(M273:M289)","v":47945739.884350002},{"$f":"SUM(N273:N289)","v":0},{"$f":"SUM(O273:O289)","v":957546},{"$f":"SUM(P273:P289)","v":13927637},{"$f":"SUM(Q273:Q289)","v":0},{"$f":"SUM(R273:R289)","v":11891718.917029999},{"$f":"SUM(S273:S289)","v":0},{"$f":"SUM(T273:T289)","v":12895679},{"$f":"SUM(U273:U289)","v":0},{"$f":"SUM(V273:V289)","v":0},{"$f":"SUM(W273:W289)","v":25513861.842259999},{"$f":"SUM(X273:X289)","v":3024334},{"$f":"SUM(Y273:Y289)","v":1719288},{"$f":"SUM(Z273:Z289)","v":0},{"$f":"SUM(AA273:AA289)","v":35468113.549559996},{"$f":"SUM(AB273:AB289)","v":5842000},{"$f":"SUM(AC273:AC289)","v":0},0,{"$f":"SUM(AE273:AE289)","v":0},{"$f":"SUM(AF273:AF289)","v":8663071.1735599991},{"$f":"SUM(AG273:AG289)","v":4125538},{"$f":"SUM(AH273:AH289)","v":0},{"$f":"SUM(AI273:AI289)","v":0},{"$f":"SUM(AJ273:AJ289)","v":0},{"$f":"SUM(AK273:AK289)","v":{"$error":"#REF!"}},{"$f":"SUM(AL273:AL289)","v":78317259},{"$f":"SUM(AM273:AM289)","v":8968113},{"$f":"SUM(AN273:AN289)","v":0},{"$f":"SUM(AO273:AO289)","v":0},{"$f":"SUM(AP273:AP289)","v":{"$error":"#REF!"}}]

{"sheet":"Budget EURO","index":1,"n_rows":247,"n_cols":74,"rows_kept":247,"cut":false,"hidden":false,"merged":[[230,52,230,56],[230,57,230,61],[1,32,1,34],[1,37,1,41],[1,42,1,46],[1,47,1,51],[1,52,1,56],[1,57,1,61],[218,52,218,56],[218,57,218,61],[218,42,218,46],[218,47,218,51],[230,3,230,7],[230,8,230,11],[230,12,230,16],[230,17,230,21],[230,22,230,26],[230,27,230,31],[230,32,230,34],[230,37,230,41],[230,42,230,46],[230,47,230,51],[0,0,0,1],[1,3,1,7],[1,8,1,11],[1,12,1,16],[1,17,1,21],[218,3,218,7],[218,8,218,11],[218,12,218,16],[218,17,218,21],[218,22,218,26],[1,22,1,26],[1,27,1,31],[218,27,218,31],[218,32,218,36],[218,37,218,41]]}
["NE PAS TOUCHER CET ONGLET"]
["Nb de mags ",6,"AFRIQUE 2021","JANVIER","JANVIER","JANVIER","JANVIER","JANVIER","FEVRIER","FEVRIER","FEVRIER","FEVRIER","MARS","MARS","MARS","MARS","MARS","AVRIL","AVRIL","AVRIL","AVRIL","AVRIL","MAI","MAI","MAI","MAI","MAI","JUIN","JUIN","JUIN","JUIN","JUIN","JUILLET","JUILLET","JUILLET","JUILLET","JUILLET","AOUT","AOUT","AOUT","AOUT","AOUT","SEPTEMBRE","SEPTEMBRE","SEPTEMBRE","SEPTEMBRE","SEPTEMBRE","OCTOBRE","OCTOBRE","OCTOBRE","OCTOBRE","OCTOBRE","NOVEMBRE","NOVEMBRE","NOVEMBRE","NOVEMBRE","NOVEMBRE","DECEMBRE","DECEMBRE","DECEMBRE","DECEMBRE","DECEMBRE"]
[]
["Catégorie","Pays","Num OP + saison",{"$f":"'Budget FCFA'!D4","v":"PMA 10H20"},{"$f":"'Budget FCFA'!E4","v":"PMA6H20"},{"$f":"'Budget FCFA'!F4","v":"PMA7H20"},{"$f":"'Budget FCFA'!G4","v":"x"},{"$f":"'Budget FCFA'!H4","v":"JANVIER"},"PMA NEW CO FEVRIER",{"$f":"'Budget FCFA'!J4","v":"x"},{"$f":"'Budget FCFA'!K4","v":"x"},{"$f":"'Budget FCFA'!M4","v":"FEVRIER"},{"$f":"'Budget FCFA'!N4","v":"PMA1 E21"},{"$f":"'Budget FCFA'!O4","v":"PMA8 E20"},{"$f":"'Budget FCFA'!P4","v":"SOLDES"},{"$f":"'Budget FCFA'!Q4","v":"x"},{"$f":"'Budget FCFA'!R4","v":"MARS"},{"$f":"'Budget FCFA'!S4","v":"PMA34E21"},{"$f":"'Budget FCFA'!T4","v":"PMA33 E21 / PMA RAMADAN"},{"$f":"'Budget FCFA'!U4","v":"x"},{"$f":"'Budget FCFA'!V4","v":"x"},{"$f":"'Budget FCFA'!W4","v":"AVRIL"},{"$f":"'Budget FCFA'!X4","v":"PMA5 E21"},{"$f":"'Budget FCFA'!Y4","v":"PMA 31E21"},{"$f":"'Budget FCFA'!Z4","v":"x"},{"$f":"'Budget FCFA'!Z4","v":"x"},{"$f":"'Budget FCFA'!AA4","v":"MAI"},{"$f":"'Budget FCFA'!AB4","v":"PMA32 E21"},{"$f":"'Budget FCFA'!AC4","v":"x"},{"$f":"'Budget FCFA'!AD4","v":"x"},{"$f":"'Budget FCFA'!AE4","v":"x"},{"$f":"'Budget FCFA'!AF4","v":"JUIN"},{"$f":"'Budget FCFA'!AG4","v":"PMA8 E21"},{"$f":"'Budget FCFA'!AH4","v":"x"},{"$f":"'Budget FCFA'!AI4","v":"x"},{"$f":"'Budget FCFA'!AJ4","v":"x"},{"$f":"'Budget FCFA'!AK4","v":"JUILLET"},{"$f":"'Budget FCFA'!AL4","v":"RDC"},{"$f":"'Budget FCFA'!AM4","v":"SOLDES"},{"$f":"'Budget FCFA'!AN4","v":"x"},{"$f":"'Budget FCFA'!AO4","v":"x"},{"$f":"'Budget FCFA'!AP4","v":"AOUT"},{"$f":"'Budget FCFA'!#REF!","v":{"$error":"#REF!"}},{"$f":"'Budget FCFA'!#REF!","v":{"$error":"#REF!"}},{"$f":"'Budget FCFA'!#REF!","v":{"$error":"#REF!"}},{"$f":"'Budget FCFA'!#REF!","v":{"$error":"#REF!"}},{"$f":"'Budget FCFA'!#REF!","v":{"$error":"#REF!"}},{"$f":"'Budget FCFA'!#REF!","v":{"$error":"#REF!"}},{"$f":"'Budget FCFA'!#REF!","v":{"$error":"#REF!"}},{"$f":"'Budget FCFA'!#REF!","v":{"$error":"#REF!"}},{"$f":"'Budget FCFA'!#REF!","v":{"$error":"#REF!"}},{"$f":"'Budget FCFA'!#REF!","v":{"$error":"#REF!"}},{"$f":"'Budget FCFA'!#REF!","v":{"$error":"#REF!"}},{"$f":"'Budget FCFA'!#REF!","v":{"$error":"#REF!"}},{"$f":"'Budget FCFA'!#REF!","v":{"$error":"#REF!"}},{"$f":"'Budget FCFA'!#REF!","v":{"$error":"#REF!"}},{"$f":"'Budget FCFA'!#REF!","v":{"$error":"#REF!"}},{"$f":"'Budget FCFA'!#REF!","v":{"$error":"#REF!"}},{"$f":"'Budget FCFA'!#REF!","v":{"$error":"#REF!"}},{"$f":"'Budget FCFA'!#REF!","v":{"$error":"#REF!"}},{"$f":"'Budget FCFA'!#REF!","v":{"$error":"#REF!"}},{"$f":"'Budget FCFA'!#REF!","v":{"$error":"#REF!"}},"Total €"]
["PUBHAART","ABIDJAN","Achats d'art standard (photos) interne KIABI",{"$f":"'Budget FCFA'!D5/VLOOKUP(D$2,$BO$127:$BP$138,2,FALSE)","v":0},{"$f":"'Budget FCFA'!E5/VLOOKUP(E$2,$BO$127:$BP$138,2,FALSE)","v":0},{"$f":"'Budget FCFA'!F5/VLOOKUP(F$2,$BO$127:$BP$138,2,FALSE)","v":0},{"$f":"'Budget FCFA'!G5/VLOOKUP(G$2,$BO$127:$BP$138,2,FALSE)","v":0},{"$f":"'Budget FCFA'!H5/VLOOKUP(H$2,$BO$127:$BP$138,2,FALSE)","v":557.98560000000009},{"$f":"'Budget FCFA'!I5/VLOOKUP(I$2,$BO$127:$BP$138,2,FALSE)","v":0},{"$f":"'Budget FCFA'!J5/VLOOKUP(J$2,$BO$127:$BP$138,2,FALSE)","v":0},{"$f":"'Budget FCFA'!K5/VLOOKUP(K$2,$BO$127:$BP$138,2,FALSE)","v":0},{"$f":"'Budget FCFA'!L5/VLOOKUP(L$2,$BO$127:$BP$138,2,FALSE)","v":0},{"$f":"'Budget FCFA'!M5/VLOOKUP(M$2,$BO$127:$BP$138,2,FALSE)","v":394.96799999999996},{"$f":"'Budget FCFA'!N5/VLOOKUP(N$2,$BO$127:$BP$138,2,FALSE)","v":0},{"$f":"'Budget FCFA'!O5/VLOOKUP(O$2,$BO$127:$BP$138,2,FALSE)","v":0},{"$f":"'Budget FCFA'!P5/VLOOKUP(P$2,$BO$127:$BP$138,2,FALSE)","v":0},{"$f":"'Budget FCFA'!Q5/VLOOKUP(Q$2,$BO$127:$BP$138,2,FALSE)","v":0},{"$f":"'Budget FCFA'!R5/VLOOKUP(R$2,$BO$127:$BP$138,2,FALSE)","v":417.83519999999993},{"$f":"'Budget FCFA'!S5/VLOOKUP(S$2,$BO$127:$BP$138,2,FALSE)","v":0},{"$f":"'Budget FCFA'!T5/VLOOKUP(T$2,$BO$127:$BP$138,2,FALSE)","v":0},{"$f":"'Budget FCFA'!U5/VLOOKUP(U$2,$BO$127:$BP$138,2,FALSE)","v":0},{"$f":"'Budget FCFA'!V5/VLOOKUP(V$2,$BO$127:$BP$138,2,FALSE)","v":0},{"$f":"'Budget FCFA'!W5/VLOOKUP(W$2,$BO$127:$BP$138,2,FALSE)","v":3141.2871636402992},{"$f":"'Budget FCFA'!X5/VLOOKUP(X$2,$BO$127:$BP$138,2,FALSE)","v":0},{"$f":"'Budget FCFA'!Y5/VLOOKUP(Y$2,$BO$127:$BP$138,2,FALSE)","v":0},{"$f":"'Budget FCFA'!Z5/VLOOKUP(Z$2,$BO$127:$BP$138,2,FALSE)","v":0},{"$f":"'Budget FCFA'!AA5/VLOOKUP(AA$2,$BO$127:$BP$138,2,FALSE)","v":719.28},{"$f":"'Budget FCFA'!AB5/VLOOKUP(AB$2,$BO$127:$BP$138,2,FALSE)","v":0},{"$f":"'Budget FCFA'!AC5/VLOOKUP(AC$2,$BO$127:$BP$138,2,FALSE)","v":0},{"$f":"'Budget FCFA'!AD5/VLOOKUP(AD$2,$BO$127:$BP$138,2,FALSE)","v":0},{"$f":"'Budget FCFA'!AE5/VLOOKUP(AE$2,$BO$127:$BP$138,2,FALSE)","v":0},{"$f":"'Budget FCFA'!AF5/VLOOKUP(AF$2,$BO$127:$BP$138,2,FALSE)","v":26.359814721511455},{"$f":"'Budget FCFA'!AG5/VLOOKUP(AG$2,$BO$127:$BP$138,2,FALSE)","v":0},{"$f":"'Budget FCFA'!AH5/VLOOKUP(AH$2,$BO$127:$BP$138,2,FALSE)","v":0},{"$f":"'Budget FCFA'!AI5/VLOOKUP(AI$2,$BO$127:$BP$138,2,FALSE)","v":0},{"$f":"'Budget FCFA'!AJ5/VLOOKUP(AJ$2,$BO$127:$BP$138,2,FALSE)","v":0},{"$f":"'Budget FCFA'!AK5/VLOOKUP(AK$2,$BO$127:$BP$138,2,FALSE)","v":{"$error":"#REF!"}},{"$f":"'Budget FCFA'!AL5/VLOOKUP(AL$2,$BO$127:$BP$138,2,FALSE)","v":0},{"$f":"'Budget FCFA'!AM5/VLOOKUP(AM$2,$BO$127:$BP$138,2,FALSE)","v":0},{"$f":"'Budget FCFA'!AN5/VLOOKUP(AN$2,$BO$127:$BP$138,2,FALSE)","v":0},{"$f":"'Budget FCFA'!AO5/VLOOKUP(AO$2,$BO$127:$BP$138,2,FALSE)","v":0},{"$f":"'Budget FCFA'!AP5/VLOOKUP(AP$2,$BO$127:$BP$138,2,FALSE)","v":{"$error":"#REF!"}},{"$f":"'Budget FCFA'!#REF!/VLOOKUP(AQ$2,$BO$127:$BP$138,2,FALSE)","v":{"$error":"#REF!"}},{"$f":"'Budget FCFA'!#REF!/VLOOKUP(AR$2,$BO$127:$BP$138,2,FALSE)","v":{"$error":"#REF!"}},{"$f":"'Budget FCFA'!#REF!/VLOOKUP(AS$2,$BO$127:$BP$138,2,FALSE)","v":{"$error":"#REF!"}},{"$f":"'Budget FCFA'!#REF!/VLOOKUP(AT$2,$BO$127:$BP$138,2,FALSE)","v":{"$error":"#REF!"}},{"$f":"'Budget FCFA'!#REF!/VLOOKUP(AU$2,$BO$127:$BP$138,2,FALSE)","v":{"$error":"#REF!"}},{"$f":"'Budget FCFA'!#REF!/VLOOKUP(AV$2,$BO$127:$BP$138,2,FALSE)","v":{"$error":"#REF!"}},{"$f":"'Budget FCFA'!#REF!/VLOOKUP(AW$2,$BO$127:$BP$138,2,FALSE)","v":{"$error":"#REF!"}},{"$f":"'Budget FCFA'!#REF!/VLOOKUP(AX$2,$BO$127:$BP$138,2,FALSE)","v":{"$error":"#REF!"}},{"$f":"'Budget FCFA'!#REF!/VLOOKUP(AY$2,$BO$127:$BP$138,2,FALSE)","v":{"$error":"#REF!"}},{"$f":"'Budget FCFA'!#REF!/VLOOKUP(AZ$2,$BO$127:$BP$138,2,FALSE)","v":{"$error":"#REF!"}},{"$f":"'Budget FCFA'!#REF!/VLOOKUP(BA$2,$BO$127:$BP$138,2,FALSE)","v":{"$error":"#REF!"}},{"$f":"'Budget FCFA'!#REF!/VLOOKUP(BB$2,$BO$127:$BP$138,2,FALSE)","v":{"$error":"#REF!"}},{"$f":"'Budget FCFA'!#REF!/VLOOKUP(BC$2,$BO$127:$BP$138,2,FALSE)","v":{"$error":"#REF!"}},{"$f":"'Budget FCFA'!#REF!/VLOOKUP(BD$2,$BO$127:$BP$138,2,FALSE)","v":{"$error":"#REF!"}},{"$f":"'Budget FCFA'!#REF!/VLOOKUP(BE$2,$BO$127:$BP$138,2,FALSE)","v":{"$error":"#REF!"}},{"$f":"'Budget FCFA'!#REF!/VLOOKUP(BF$2,$BO$127:$BP$138,2,FALSE)","v":{"$error":"#REF!"}},{"$f":"'Budget FCFA'!#REF!/VLOOKUP(BG$2,$BO$127:$BP$138,2,FALSE)","v":{"$error":"#REF!"}},{"$f":"'Budget FCFA'!#REF!/VLOOKUP(BH$2,$BO$127:$BP$138,2,FALSE)","v":{"$error":"#REF!"}},{"$f":"'Budget FCFA'!#REF!/VLOOKUP(BI$2,$BO$127:$BP$138,2,FALSE)","v":{"$error":"#REF!"}},{"$f":"'Budget FCFA'!#REF!/VLOOKUP(BJ$2,$BO$127:$BP$138,2,FALSE)","v":{"$error":"#REF!"}},{"$f":"SUM(D5:BJ5)","v":{"$error":"#REF!"}},{"$f":"BK5-'Budget FCFA'!#REF!","v":{"$error":"#REF!"}}]
["PUBHAART","BRAZZA","Achats d'art standard (photos) interne KIABI",{"$f":"'Budget FCFA'!D6/VLOOKUP(D$2,$BO$127:$BP$138,2,FALSE)","v":0},{"$f":"'Budget FCFA'!E6/VLOOKUP(E$2,$BO$127:$BP$138,2,FALSE)","v":0},{"$f":"'Budget FCFA'!F6/VLOOKUP(F$2,$BO$127:$BP$138,2,FALSE)","v":0},{"$f":"'Budget FCFA'!G6/VLOOKUP(G$2,$BO$127:$BP$138,2,FALSE)","v":0},{"$f":"'Budget FCFA'!H6/VLOOKUP(H$2,$BO$127:$BP$138,2,FALSE)","v":108.10971000000004},{"$f":"'Budget FCFA'!I6/VLOOKUP(I$2,$BO$127:$BP$138,2,FALSE)","v":0},{"$f":"'Budget FCFA'!J6/VLOOKUP(J$2,$BO$127:$BP$138,2,FALSE)","v":0},{"$f":"'Budget FCFA'!K6/VLOOKUP(K$2,$BO$127:$BP$138,2,FALSE)","v":0},{"$f":"'Budget FCFA'!L6/VLOOKUP(L$2,$BO$127:$BP$138,2,FALSE)","v":0},{"$f":"'Budget FCFA'!M6/VLOOKUP(M$2,$BO$127:$BP$138,2,FALSE)","v":76.525050000000007},{"$f":"'Budget FCFA'!N6/VLOOKUP(N$2,$BO$127:$BP$138,2,FALSE)","v":0},{"$f":"'Budget FCFA'!O6/VLOOKUP(O$2,$BO$127:$BP$138,2,FALSE)","v":0},{"$f":"'Budget FCFA'!P6/VLOOKUP(P$2,$BO$127:$BP$138,2,FALSE)","v":0},{"$f":"'Budget FCFA'!Q6/VLOOKUP(Q$2,$BO$127:$BP$138,2,FALSE)","v":0},{"$f":"'Budget FCFA'!R6/VLOOKUP(R$2,$BO$127:$BP$138,2,FALSE)","v":80.955570000000009},{"$f":"'Budget FCFA'!S6/VLOOKUP(S$2,$BO$127:$BP$138,2,FALSE)","v":0},{"$f":"'Budget FCFA'!T6/VLOOKUP(T$2,$BO$127:$BP$138,2,FALSE)","v":0},{"$f":"'Budget FCFA'!U6/VLOOKUP(U$2,$BO$127:$BP$138,2,FALSE)","v":0},{"$f":"'Budget FCFA'!V6/VLOOKUP(V$2,$BO$127:$BP$138,2,FALSE)","v":0},{"$f":"'Budget FCFA'!W6/VLOOKUP(W$2,$BO$127:$BP$138,2,FALSE)","v":608.62438795530807},{"$f":"'Budget FCFA'!X6/VLOOKUP(X$2,$BO$127:$BP$138,2,FALSE)","v":0},{"$f":"'Budget FCFA'!Y6/VLOOKUP(Y$2,$BO$127:$BP$138,2,FALSE)","v":0},{"$f":"'Budget FCFA'!Z6/VLOOKUP(Z$2,$BO$127:$BP$138,2,FALSE)","v":0},{"$f":"'Budget FCFA'!AA6/VLOOKUP(AA$2,$BO$127:$BP$138,2,FALSE)","v":139.3605},{"$f":"'Budget FCFA'!AB6/VLOOKUP(AB$2,$BO$127:$BP$138,2,FALSE)","v":0},{"$f":"'Budget FCFA'!AC6/VLOOKUP(AC$2,$BO$127:$BP$138,2,FALSE)","v":0},{"$f":"'Budget FCFA'!AD6/VLOOKUP(AD$2,$BO$127:$BP$138,2,FALSE)","v":0},{"$f":"'Budget FCFA'!AE6/VLOOKUP(AE$2,$BO$127:$BP$138,2,FALSE)","v":0},{"$f":"'Budget FCFA'!AF6/VLOOKUP(AF$2,$BO$127:$BP$138,2,FALSE)","v":5.1072141022928452},{"$f":"'Budget FCFA'!AG6/VLOOKUP(AG$2,$BO$127:$BP$138,2,FALSE)","v":0},{"$f":"'Budget FCFA'!AH6/VLOOKUP(AH$2,$BO$127:$BP$138,2,FALSE)","v":0},{"$f":"'Budget FCFA'!AI6/VLOOKUP(AI$2,$BO$127:$BP$138,2,FALSE)","v":0},{"$f":"'Budget FCFA'!AJ6/VLOOKUP(AJ$2,$BO$127:$BP$138,2,FALSE)","v":0},{"$f":"'Budget FCFA'!AK6/VLOOKUP(AK$2,$BO$127:$BP$138,2,FALSE)","v":{"$error":"#REF!"}},{"$f":"'Budget FCFA'!AL6/VLOOKUP(AL$2,$BO$127:$BP$138,2,FALSE)","v":0},{"$f":"'Budget FCFA'!AM6/VLOOKUP(AM$2,$BO$127:$BP$138,2,FALSE)","v":0},{"$f":"'Budget FCFA'!AN6/VLOOKUP(AN$2,$BO$127:$BP$138,2,FALSE)","v":0},{"$f":"'Budget FCFA'!AO6/VLOOKUP(AO$2,$BO$127:$BP$138,2,FALSE)","v":0},{"$f":"'Budget FCFA'!AP6/VLOOKUP(AP$2,$BO$127:$BP$138,2,FALSE)","v":{"$error":"#REF!"}},{"$f":"'Budget FCFA'!#REF!/VLOOKUP(AQ$2,$BO$127:$BP$138,2,FALSE)","v":{"$error":"#REF!"}},{"$f":"'Budget FCFA'!#REF!/VLOOKUP(AR$2,$BO$127:$BP$138,2,FALSE)","v":{"$error":"#REF!"}},{"$f":"'Budget FCFA'!#REF!/VLOOKUP(AS$2,$BO$127:$BP$138,2,FALSE)","v":{"$error":"#REF!"}},{"$f":"'Budget FCFA'!#REF!/VLOOKUP(AT$2,$BO$127:$BP$138,2,FALSE)","v":{"$error":"#REF!"}},{"$f":"'Budget FCFA'!#REF!/VLOOKUP(AU$2,$BO$127:$BP$138,2,FALSE)","v":{"$error":"#REF!"}},{"$f":"'Budget FCFA'!#REF!/VLOOKUP(AV$2,$BO$127:$BP$138,2,FALSE)","v":{"$error":"#REF!"}},{"$f":"'Budget FCFA'!#REF!/VLOOKUP(AW$2,$BO$127:$BP$138,2,FALSE)","v":{"$error":"#REF!"}},{"$f":"'Budget FCFA'!#REF!/VLOOKUP(AX$2,$BO$127:$BP$138,2,FALSE)","v":{"$error":"#REF!"}},{"$f":"'Budget FCFA'!#REF!/VLOOKUP(AY$2,$BO$127:$BP$138,2,FALSE)","v":{"$error":"#REF!"}},{"$f":"'Budget FCFA'!#REF!/VLOOKUP(AZ$2,$BO$127:$BP$138,2,FALSE)","v":{"$error":"#REF!"}},{"$f":"'Budget FCFA'!#REF!/VLOOKUP(BA$2,$BO$127:$BP$138,2,FALSE)","v":{"$error":"#REF!"}},{"$f":"'Budget FCFA'!#REF!/VLOOKUP(BB$2,$BO$127:$BP$138,2,FALSE)","v":{"$error":"#REF!"}},{"$f":"'Budget FCFA'!#REF!/VLOOKUP(BC$2,$BO$127:$BP$138,2,FALSE)","v":{"$error":"#REF!"}},{"$f":"'Budget FCFA'!#REF!/VLOOKUP(BD$2,$BO$127:$BP$138,2,FALSE)","v":{"$error":"#REF!"}},{"$f":"'Budget FCFA'!#REF!/VLOOKUP(BE$2,$BO$127:$BP$138,2,FALSE)","v":{"$error":"#REF!"}},{"$f":"'Budget FCFA'!#REF!/VLOOKUP(BF$2,$BO$127:$BP$138,2,FALSE)","v":{"$error":"#REF!"}},{"$f":"'Budget FCFA'!#REF!/VLOOKUP(BG$2,$BO$127:$BP$138,2,FALSE)","v":{"$error":"#REF!"}},{"$f":"'Budget FCFA'!#REF!/VLOOKUP(BH$2,$BO$127:$BP$138,2,FALSE)","v":{"$error":"#REF!"}},{"$f":"'Budget FCFA'!#REF!/VLOOKUP(BI$2,$BO$127:$BP$138,2,FALSE)","v":{"$error":"#REF!"}},{"$f":"'Budget FCFA'!#REF!/VLOOKUP(BJ$2,$BO$127:$BP$138,2,FALSE)","v":{"$error":"#REF!"}},{"$f":"SUM(D6:BJ6)","v":{"$error":"#REF!"}},{"$f":"BK6-'Budget FCFA'!#REF!","v":{"$error":"#REF!"}}]
["PUBHAART","DAKAR","Achats d'art standard (photos) interne KIABI",{"$f":"'Budget FCFA'!D7/VLOOKUP(D$2,$BO$127:$BP$138,2,FALSE)","v":0},{"$f":"'Budget FCFA'!E7/VLOOKUP(E$2,$BO$127:$BP$138,2,FALSE)","v":0},{"$f":"'Budget FCFA'!F7/VLOOKUP(F$2,$BO$127:$BP$138,2,FALSE)","v":0},{"$f":"'Budget FCFA'!G7/VLOOKUP(G$2,$BO$127:$BP$138,2,FALSE)","v":0},{"$f":"'Budget FCFA'!H7/VLOOKUP(H$2,$BO$127:$BP$138,2,FALSE)","v":145.30875},{"$f":"'Budget FCFA'!I7/VLOOKUP(I$2,$BO$127:$BP$138,2,FALSE)","v":0},{"$f":"'Budget FCFA'!J7/VLOOKUP(J$2,$BO$127:$BP$138,2,FALSE)","v":0},{"$f":"'Budget FCFA'!K7/VLOOKUP(K$2,$BO$127:$BP$138,2,FALSE)","v":0},{"$f":"'Budget FCFA'!L7/VLOOKUP(L$2,$BO$127:$BP$138,2,FALSE)","v":0},{"$f":"'Budget FCFA'!M7/VLOOKUP(M$2,$BO$127:$BP$138,2,FALSE)","v":102.85625},{"$f":"'Budget FCFA'!N7/VLOOKUP(N$2,$BO$127:$BP$138,2,FALSE)","v":0},{"$f":"'Budget FCFA'!O7/VLOOKUP(O$2,$BO$127:$BP$138,2,FALSE)","v":0},{"$f":"'Budget FCFA'!P7/VLOOKUP(P$2,$BO$127:$BP$138,2,FALSE)","v":0},{"$f":"'Budget FCFA'!Q7/VLOOKUP(Q$2,$BO$127:$BP$138,2,FALSE)","v":0},{"$f":"'Budget FCFA'!R7/VLOOKUP(R$2,$BO$127:$BP$138,2,FALSE)","v":108.81125},{"$f":"'Budget FCFA'!S7/VLOOKUP(S$2,$BO$127:$BP$138,2,FALSE)","v":0},{"$f":"'Budget FCFA'!T7/VLOOKUP(T$2,$BO$127:$BP$138,2,FALSE)","v":0},{"$f":"'Budget FCFA'!U7/VLOOKUP(U$2,$BO$127:$BP$138,2,FALSE)","v":0},{"$f":"'Budget FCFA'!V7/VLOOKUP(V$2,$BO$127:$BP$138,2,FALSE)","v":0},{"$f":"'Budget FCFA'!W7/VLOOKUP(W$2,$BO$127:$BP$138,2,FALSE)","v":818.04353219799464},{"$f":"'Budget FCFA'!X7/VLOOKUP(X$2,$BO$127:$BP$138,2,FALSE)","v":0},{"$f":"'Budget FCFA'!Y7/VLOOKUP(Y$2,$BO$127:$BP$138,2,FALSE)","v":0},{"$f":"'Budget FCFA'!Z7/VLOOKUP(Z$2,$BO$127:$BP$138,2,FALSE)","v":0},{"$f":"'Budget FCFA'!AA7/VLOOKUP(AA$2,$BO$127:$BP$138,2,FALSE)","v":187.3125},{"$f":"'Budget FCFA'!AB7/VLOOKUP(AB$2,$BO$127:$BP$138,2,FALSE)","v":0},{"$f":"'Budget FCFA'!AC7/VLOOKUP(AC$2,$BO$127:$BP$138,2,FALSE)","v":0},{"$f":"'Budget FCFA'!AD7/VLOOKUP(AD$2,$BO$127:$BP$138,2,FALSE)","v":0},{"$f":"'Budget FCFA'!AE7/VLOOKUP(AE$2,$BO$127:$BP$138,2,FALSE)","v":0},{"$f":"'Budget FCFA'!AF7/VLOOKUP(AF$2,$BO$127:$BP$138,2,FALSE)","v":6.8645350837269419},{"$f":"'Budget FCFA'!AG7/VLOOKUP(AG$2,$BO$127:$BP$138,2,FALSE)","v":0},{"$f":"'Budget FCFA'!AH7/VLOOKUP(AH$2,$BO$127:$BP$138,2,FALSE)","v":0},{"$f":"'Budget FCFA'!AI7/VLOOKUP(AI$2,$BO$127:$BP$138,2,FALSE)","v":0},{"$f":"'Budget FCFA'!AJ7/VLOOKUP(AJ$2,$BO$127:$BP$138,2,FALSE)","v":0},{"$f":"'Budget FCFA'!AK7/VLOOKUP(AK$2,$BO$127:$BP$138,2,FALSE)","v":{"$error":"#REF!"}},{"$f":"'Budget FCFA'!AL7/VLOOKUP(AL$2,$BO$127:$BP$138,2,FALSE)","v":0},{"$f":"'Budget FCFA'!AM7/VLOOKUP(AM$2,$BO$127:$BP$138,2,FALSE)","v":0},{"$f":"'Budget FCFA'!AN7/VLOOKUP(AN$2,$BO$127:$BP$138,2,FALSE)","v":0},{"$f":"'Budget FCFA'!AO7/VLOOKUP(AO$2,$BO$127:$BP$138,2,FALSE)","v":0},{"$f":"'Budget FCFA'!AP7/VLOOKUP(AP$2,$BO$127:$BP$138,2,FALSE)","v":{"$error":"#REF!"}},{"$f":"'Budget FCFA'!#REF!/VLOOKUP(AQ$2,$BO$127:$BP$138,2,FALSE)","v":{"$error":"#REF!"}},{"$f":"'Budget FCFA'!#REF!/VLOOKUP(AR$2,$BO$127:$BP$138,2,FALSE)","v":{"$error":"#REF!"}},{"$f":"'Budget FCFA'!#REF!/VLOOKUP(AS$2,$BO$127:$BP$138,2,FALSE)","v":{"$error":"#REF!"}},{"$f":"'Budget FCFA'!#REF!/VLOOKUP(AT$2,$BO$127:$BP$138,2,FALSE)","v":{"$error":"#REF!"}},{"$f":"'Budget FCFA'!#REF!/VLOOKUP(AU$2,$BO$127:$BP$138,2,FALSE)","v":{"$error":"#REF!"}},{"$f":"'Budget FCFA'!#REF!/VLOOKUP(AV$2,$BO$127:$BP$138,2,FALSE)","v":{"$error":"#REF!"}},{"$f":"'Budget FCFA'!#REF!/VLOOKUP(AW$2,$BO$127:$BP$138,2,FALSE)","v":{"$error":"#REF!"}},{"$f":"'Budget FCFA'!#REF!/VLOOKUP(AX$2,$BO$127:$BP$138,2,FALSE)","v":{"$error":"#REF!"}},{"$f":"'Budget FCFA'!#REF!/VLOOKUP(AY$2,$BO$127:$BP$138,2,FALSE)","v":{"$error":"#REF!"}},{"$f":"'Budget FCFA'!#REF!/VLOOKUP(AZ$2,$BO$127:$BP$138,2,FALSE)","v":{"$error":"#REF!"}},{"$f":"'Budget FCFA'!#REF!/VLOOKUP(BA$2,$BO$127:$BP$138,2,FALSE)","v":{"$error":"#REF!"}},{"$f":"'Budget FCFA'!#REF!/VLOOKUP(BB$2,$BO$127:$BP$138,2,FALSE)","v":{"$error":"#REF!"}},{"$f":"'Budget FCFA'!#REF!/VLOOKUP(BC$2,$BO$127:$BP$138,2,FALSE)","v":{"$error":"#REF!"}},{"$f":"'Budget FCFA'!#REF!/VLOOKUP(BD$2,$BO$127:$BP$138,2,FALSE)","v":{"$error":"#REF!"}},{"$f":"'Budget FCFA'!#REF!/VLOOKUP(BE$2,$BO$127:$BP$138,2,FALSE)","v":{"$error":"#REF!"}},{"$f":"'Budget FCFA'!#REF!/VLOOKUP(BF$2,$BO$127:$BP$138,2,FALSE)","v":{"$error":"#REF!"}},{"$f":"'Budget FCFA'!#REF!/VLOOKUP(BG$2,$BO$127:$BP$138,2,FALSE)","v":{"$error":"#REF!"}},{"$f":"'Budget FCFA'!#REF!/VLOOKUP(BH$2,$BO$127:$BP$138,2,FALSE)","v":{"$error":"#REF!"}},{"$f":"'Budget FCFA'!#REF!/VLOOKUP(BI$2,$BO$127:$BP$138,2,FALSE)","v":{"$error":"#REF!"}},{"$f":"'Budget FCFA'!#REF!/VLOOKUP(BJ$2,$BO$127:$BP$138,2,FALSE)","v":{"$error":"#REF!"}},{"$error":"#REF!"},{"$f":"BK7-'Budget FCFA'!#REF!","v":{"$error":"#REF!"}}]
["PUBHAART","LIBREVILLE","Achats d'art standard (photos) interne KIABI",{"$f":"'Budget FCFA'!D8/VLOOKUP(D$2,$BO$127:$BP$138,2,FALSE)","v":0},{"$f":"'Budget FCFA'!E8/VLOOKUP(E$2,$BO$127:$BP$138,2,FALSE)","v":0},{"$f":"'Budget FCFA'!F8/VLOOKUP(F$2,$BO$127:$BP$138,2,FALSE)","v":0},{"$f":"'Budget FCFA'!G8/VLOOKUP(G$2,$BO$127:$BP$138,2,FALSE)","v":0},{"$f":"'Budget FCFA'!H8/VLOOKUP(H$2,$BO$127:$BP$138,2,FALSE)","v":205.75719000000004},{"$f":"'Budget FCFA'!I8/VLOOKUP(I$2,$BO$127:$BP$138,2,FALSE)","v":0},{"$f":"'Budget FCFA'!J8/VLOOKUP(J$2,$BO$127:$BP$138,2,FALSE)","v":0},{"$f":"'Budget FCFA'!K8/VLOOKUP(K$2,$BO$127:$BP$138,2,FALSE)","v":0},{"$f":"'Budget FCFA'!L8/VLOOKUP(L$2,$BO$127:$BP$138,2,FALSE)","v":0},{"$f":"'Budget FCFA'!M8/VLOOKUP(M$2,$BO$127:$BP$138,2,FALSE)","v":145.64445000000001},{"$f":"'Budget FCFA'!N8/VLOOKUP(N$2,$BO$127:$BP$138,2,FALSE)","v":0},{"$f":"'Budget FCFA'!O8/VLOOKUP(O$2,$BO$127:$BP$138,2,FALSE)","v":0},{"$f":"'Budget FCFA'!P8/VLOOKUP(P$2,$BO$127:$BP$138,2,FALSE)","v":0},{"$f":"'Budget FCFA'!Q8/VLOOKUP(Q$2,$BO$127:$BP$138,2,FALSE)","v":0},{"$f":"'Budget FCFA'!R8/VLOOKUP(R$2,$BO$127:$BP$138,2,FALSE)","v":154.07673},{"$f":"'Budget FCFA'!S8/VLOOKUP(S$2,$BO$127:$BP$138,2,FALSE)","v":0},{"$f":"'Budget FCFA'!T8/VLOOKUP(T$2,$BO$127:$BP$138,2,FALSE)","v":0},{"$f":"'Budget FCFA'!U8/VLOOKUP(U$2,$BO$127:$BP$138,2,FALSE)","v":0},{"$f":"'Budget FCFA'!V8/VLOOKUP(V$2,$BO$127:$BP$138,2,FALSE)","v":0},{"$f":"'Budget FCFA'!W8/VLOOKUP(W$2,$BO$127:$BP$138,2,FALSE)","v":1158.3496415923603},{"$f":"'Budget FCFA'!X8/VLOOKUP(X$2,$BO$127:$BP$138,2,FALSE)","v":0},{"$f":"'Budget FCFA'!Y8/VLOOKUP(Y$2,$BO$127:$BP$138,2,FALSE)","v":0},{"$f":"'Budget FCFA'!Z8/VLOOKUP(Z$2,$BO$127:$BP$138,2,FALSE)","v":0},{"$f":"'Budget FCFA'!AA8/VLOOKUP(AA$2,$BO$127:$BP$138,2,FALSE)","v":265.23450000000003},{"$f":"'Budget FCFA'!AB8/VLOOKUP(AB$2,$BO$127:$BP$138,2,FALSE)","v":0},{"$f":"'Budget FCFA'!AC8/VLOOKUP(AC$2,$BO$127:$BP$138,2,FALSE)","v":0},{"$f":"'Budget FCFA'!AD8/VLOOKUP(AD$2,$BO$127:$BP$138,2,FALSE)","v":0},{"$f":"'Budget FCFA'!AE8/VLOOKUP(AE$2,$BO$127:$BP$138,2,FALSE)","v":0},{"$f":"'Budget FCFA'!AF8/VLOOKUP(AF$2,$BO$127:$BP$138,2,FALSE)","v":9.7201816785573492},{"$f":"'Budget FCFA'!AG8/VLOOKUP(AG$2,$BO$127:$BP$138,2,FALSE)","v":0},{"$f":"'Budget FCFA'!AH8/VLOOKUP(AH$2,$BO$127:$BP$138,2,FALSE)","v":0},{"$f":"'Budget FCFA'!AI8/VLOOKUP(AI$2,$BO$127:$BP$138,2,FALSE)","v":0},{"$f":"'Budget FCFA'!AJ8/VLOOKUP(AJ$2,$BO$127:$BP$138,2,FALSE)","v":0},{"$f":"'Budget FCFA'!AK8/VLOOKUP(AK$2,$BO$127:$BP$138,2,FALSE)","v":{"$error":"#REF!"}},{"$f":"'Budget FCFA'!AL8/VLOOKUP(AL$2,$BO$127:$BP$138,2,FALSE)","v":0},{"$f":"'Budget FCFA'!AM8/VLOOKUP(AM$2,$BO$127:$BP$138,2,FALSE)","v":0},{"$f":"'Budget FCFA'!AN8/VLOOKUP(AN$2,$BO$127:$BP$138,2,FALSE)","v":0},{"$f":"'Budget FCFA'!AO8/VLOOKUP(AO$2,$BO$127:$BP$138,2,FALSE)","v":0},{"$f":"'Budget FCFA'!AP8/VLOOKUP(AP$2,$BO$127:$BP$138,2,FALSE)","v":{"$error":"#REF!"}},{"$f":"'Budget FCFA'!#REF!/VLOOKUP(AQ$2,$BO$127:$BP$138,2,FALSE)","v":{"$error":"#REF!"}},{"$f":"'Budget FCFA'!#REF!/VLOOKUP(AR$2,$BO$127:$BP$138,2,FALSE)","v":{"$error":"#REF!"}},{"$f":"'Budget FCFA'!#REF!/VLOOKUP(AS$2,$BO$127:$BP$138,2,FALSE)","v":{"$error":"#REF!"}},{"$f":"'Budget FCFA'!#REF!/VLOOKUP(AT$2,$BO$127:$BP$138,2,FALSE)","v":{"$error":"#REF!"}},{"$f":"'Budget FCFA'!#REF!/VLOOKUP(AU$2,$BO$127:$BP$138,2,FALSE)","v":{"$error":"#REF!"}},{"$f":"'Budget FCFA'!#REF!/VLOOKUP(AV$2,$BO$127:$BP$138,2,FALSE)","v":{"$error":"#REF!"}},{"$f":"'Budget FCFA'!#REF!/VLOOKUP(AW$2,$BO$127:$BP$138,2,FALSE)","v":{"$error":"#REF!"}},{"$f":"'Budget FCFA'!#REF!/VLOOKUP(AX$2,$BO$127:$BP$138,2,FALSE)","v":{"$error":"#REF!"}},{"$f":"'Budget FCFA'!#REF!/VLOOKUP(AY$2,$BO$127:$BP$138,2,FALSE)","v":{"$error":"#REF!"}},{"$f":"'Budget FCFA'!#REF!/VLOOKUP(AZ$2,$BO$127:$BP$138,2,FALSE)","v":{"$error":"#REF!"}},{"$f":"'Budget FCFA'!#REF!/VLOOKUP(BA$2,$BO$127:$BP$138,2,FALSE)","v":{"$error":"#REF!"}},{"$f":"'Budget FCFA'!#REF!/VLOOKUP(BB$2,$BO$127:$BP$138,2,FALSE)","v":{"$error":"#REF!"}},{"$f":"'Budget FCFA'!#REF!/VLOOKUP(BC$2,$BO$127:$BP$138,2,FALSE)","v":{"$error":"#REF!"}},{"$f":"'Budget FCFA'!#REF!/VLOOKUP(BD$2,$BO$127:$BP$138,2,FALSE)","v":{"$error":"#REF!"}},{"$f":"'Budget FCFA'!#REF!/VLOOKUP(BE$2,$BO$127:$BP$138,2,FALSE)","v":{"$error":"#REF!"}},{"$f":"'Budget FCFA'!#REF!/VLOOKUP(BF$2,$BO$127:$BP$138,2,FALSE)","v":{"$error":"#REF!"}},{"$f":"'Budget FCFA'!#REF!/VLOOKUP(BG$2,$BO$127:$BP$138,2,FALSE)","v":{"$error":"#REF!"}},{"$f":"'Budget FCFA'!#REF!/VLOOKUP(BH$2,$BO$127:$BP$138,2,FALSE)","v":{"$error":"#REF!"}},{"$f":"'Budget FCFA'!#REF!/VLOOKUP(BI$2,$BO$127:$BP$138,2,FALSE)","v":{"$error":"#REF!"}},{"$f":"'Budget FCFA'!#REF!/VLOOKUP(BJ$2,$BO$127:$BP$138,2,FALSE)","v":{"$error":"#REF!"}},{"$error":"#REF!"},{"$f":"BK8-'Budget FCFA'!#REF!","v":{"$error":"#REF!"}}]
["PUBHAART","DOUALA","Achats d'art standard (photos) interne KIABI",{"$f":"'Budget FCFA'!D9/VLOOKUP(D$2,$BO$127:$BP$138,2,FALSE)","v":0},{"$f":"'Budget FCFA'!E9/VLOOKUP(E$2,$BO$127:$BP$138,2,FALSE)","v":0},{"$f":"'Budget FCFA'!F9/VLOOKUP(F$2,$BO$127:$BP$138,2,FALSE)","v":0},{"$f":"'Budget FCFA'!G9/VLOOKUP(G$2,$BO$127:$BP$138,2,FALSE)","v":0},{"$f":"'Budget FCFA'!H9/VLOOKUP(H$2,$BO$127:$BP$138,2,FALSE)","v":145.30875},{"$f":"'Budget FCFA'!I9/VLOOKUP(I$2,$BO$127:$BP$138,2,FALSE)","v":0},{"$f":"'Budget FCFA'!J9/VLOOKUP(J$2,$BO$127:$BP$138,2,FALSE)","v":0},{"$f":"'Budget FCFA'!K9/VLOOKUP(K$2,$BO$127:$BP$138,2,FALSE)","v":0},{"$f":"'Budget FCFA'!L9/VLOOKUP(L$2,$BO$127:$BP$138,2,FALSE)","v":0},{"$f":"'Budget FCFA'!M9/VLOOKUP(M$2,$BO$127:$BP$138,2,FALSE)","v":102.85625},{"$f":"'Budget FCFA'!N9/VLOOKUP(N$2,$BO$127:$BP$138,2,FALSE)","v":0},{"$f":"'Budget FCFA'!O9/VLOOKUP(O$2,$BO$127:$BP$138,2,FALSE)","v":0},{"$f":"'Budget FCFA'!P9/VLOOKUP(P$2,$BO$127:$BP$138,2,FALSE)","v":0},{"$f":"'Budget FCFA'!Q9/VLOOKUP(Q$2,$BO$127:$BP$138,2,FALSE)","v":0},{"$f":"'Budget FCFA'!R9/VLOOKUP(R$2,$BO$127:$BP$138,2,FALSE)","v":108.81125},{"$f":"'Budget FCFA'!S9/VLOOKUP(S$2,$BO$127:$BP$138,2,FALSE)","v":0},{"$f":"'Budget FCFA'!T9/VLOOKUP(T$2,$BO$127:$BP$138,2,FALSE)","v":0},{"$f":"'Budget FCFA'!U9/VLOOKUP(U$2,$BO$127:$BP$138,2,FALSE)","v":0},{"$f":"'Budget FCFA'!V9/VLOOKUP(V$2,$BO$127:$BP$138,2,FALSE)","v":0},{"$f":"'Budget FCFA'!W9/VLOOKUP(W$2,$BO$127:$BP$138,2,FALSE)","v":818.04353219799464},{"$f":"'Budget FCFA'!X9/VLOOKUP(X$2,$BO$127:$BP$138,2,FALSE)","v":0},{"$f":"'Budget FCFA'!Y9/VLOOKUP(Y$2,$BO$127:$BP$138,2,FALSE)","v":0},{"$f":"'Budget FCFA'!Z9/VLOOKUP(Z$2,$BO$127:$BP$138,2,FALSE)","v":0},{"$f":"'Budget FCFA'!AA9/VLOOKUP(AA$2,$BO$127:$BP$138,2,FALSE)","v":187.3125},{"$f":"'Budget FCFA'!AB9/VLOOKUP(AB$2,$BO$127:$BP$138,2,FALSE)","v":0},{"$f":"'Budget FCFA'!AC9/VLOOKUP(AC$2,$BO$127:$BP$138,2,FALSE)","v":0},{"$f":"'Budget FCFA'!AD9/VLOOKUP(AD$2,$BO$127:$BP$138,2,FALSE)","v":0},{"$f":"'Budget FCFA'!AE9/VLOOKUP(AE$2,$BO$127:$BP$138,2,FALSE)","v":0},{"$f":"'Budget FCFA'!AF9/VLOOKUP(AF$2,$BO$127:$BP$138,2,FALSE)","v":6.8645350837269419},{"$f":"'Budget FCFA'!AG9/VLOOKUP(AG$2,$BO$127:$BP$138,2,FALSE)","v":0},{"$f":"'Budget FCFA'!AH9/VLOOKUP(AH$2,$BO$127:$BP$138,2,FALSE)","v":0},{"$f":"'Budget FCFA'!AI9/VLOOKUP(AI$2,$BO$127:$BP$138,2,FALSE)","v":0},{"$f":"'Budget FCFA'!AJ9/VLOOKUP(AJ$2,$BO$127:$BP$138,2,FALSE)","v":0},{"$f":"'Budget FCFA'!AK9/VLOOKUP(AK$2,$BO$127:$BP$138,2,FALSE)","v":{"$error":"#REF!"}},{"$f":"'Budget FCFA'!AL9/VLOOKUP(AL$2,$BO$127:$BP$138,2,FALSE)","v":0},{"$f":"'Budget FCFA'!AM9/VLOOKUP(AM$2,$BO$127:$BP$138,2,FALSE)","v":0},{"$f":"'Budget FCFA'!AN9/VLOOKUP(AN$2,$BO$127:$BP$138,2,FALSE)","v":0},{"$f":"'Budget FCFA'!AO9/VLOOKUP(AO$2,$BO$127:$BP$138,2,FALSE)","v":0},{"$f":"'Budget FCFA'!AP9/VLOOKUP(AP$2,$BO$127:$BP$138,2,FALSE)","v":{"$error":"#REF!"}},{"$f":"'Budget FCFA'!#REF!/VLOOKUP(AQ$2,$BO$127:$BP$138,2,FALSE)","v":{"$error":"#REF!"}},{"$f":"'Budget FCFA'!#REF!/VLOOKUP(AR$2,$BO$127:$BP$138,2,FALSE)","v":{"$error":"#REF!"}},{"$f":"'Budget FCFA'!#REF!/VLOOKUP(AS$2,$BO$127:$BP$138,2,FALSE)","v":{"$error":"#REF!"}},{"$f":"'Budget FCFA'!#REF!/VLOOKUP(AT$2,$BO$127:$BP$138,2,FALSE)","v":{"$error":"#REF!"}},{"$f":"'Budget FCFA'!#REF!/VLOOKUP(AU$2,$BO$127:$BP$138,2,FALSE)","v":{"$error":"#REF!"}},{"$f":"'Budget FCFA'!#REF!/VLOOKUP(AV$2,$BO$127:$BP$138,2,FALSE)","v":{"$error":"#REF!"}},{"$f":"'Budget FCFA'!#REF!/VLOOKUP(AW$2,$BO$127:$BP$138,2,FALSE)","v":{"$error":"#REF!"}},{"$f":"'Budget FCFA'!#REF!/VLOOKUP(AX$2,$BO$127:$BP$138,2,FALSE)","v":{"$error":"#REF!"}},{"$f":"'Budget FCFA'!#REF!/VLOOKUP(AY$2,$BO$127:$BP$138,2,FALSE)","v":{"$error":"#REF!"}},{"$f":"'Budget FCFA'!#REF!/VLOOKUP(AZ$2,$BO$127:$BP$138,2,FALSE)","v":{"$error":"#REF!"}},{"$f":"'Budget FCFA'!#REF!/VLOOKUP(BA$2,$BO$127:$BP$138,2,FALSE)","v":{"$error":"#REF!"}},{"$f":"'Budget FCFA'!#REF!/VLOOKUP(BB$2,$BO$127:$BP$138,2,FALSE)","v":{"$error":"#REF!"}},{"$f":"'Budget FCFA'!#REF!/VLOOKUP(BC$2,$BO$127:$BP$138,2,FALSE)","v":{"$error":"#REF!"}},{"$f":"'Budget FCFA'!#REF!/VLOOKUP(BD$2,$BO$127:$BP$138,2,FALSE)","v":{"$error":"#REF!"}},{"$f":"'Budget FCFA'!#REF!/VLOOKUP(BE$2,$BO$127:$BP$138,2,FALSE)","v":{"$error":"#REF!"}},{"$f":"'Budget FCFA'!#REF!/VLOOKUP(BF$2,$BO$127:$BP$138,2,FALSE)","v":{"$error":"#REF!"}},{"$f":"'Budget FCFA'!#REF!/VLOOKUP(BG$2,$BO$127:$BP$138,2,FALSE)","v":{"$error":"#REF!"}},{"$f":"'Budget FCFA'!#REF!/VLOOKUP(BH$2,$BO$127:$BP$138,2,FALSE)","v":{"$error":"#REF!"}},{"$f":"'Budget FCFA'!#REF!/VLOOKUP(BI$2,$BO$127:$BP$138,2,FALSE)","v":{"$error":"#REF!"}},{"$f":"'Budget FCFA'!#REF!/VLOOKUP(BJ$2,$BO$127:$BP$138,2,FALSE)","v":{"$error":"#REF!"}},{"$error":"#REF!"},{"$f":"BK9-'Budget FCFA'!#REF!","v":{"$error":"#REF!"}}]
["PUBHAART","TOTAL","Total Achats Art (all)",{"$f":"'Budget FCFA'!D10/VLOOKUP(D$2,$BO$127:$BP$138,2,FALSE)","v":0},{"$f":"'Budget FCFA'!E10/VLOOKUP(E$2,$BO$127:$BP$138,2,FALSE)","v":0},{"$f":"'Budget FCFA'!F10/VLOOKUP(F$2,$BO$127:$BP$138,2,FALSE)","v":0},{"$f":"'Budget FCFA'!G10/VLOOKUP(G$2,$BO$127:$BP$138,2,FALSE)","v":0},{"$f":"'Budget FCFA'!H10/VLOOKUP(H$2,$BO$127:$BP$138,2,FALSE)","v":1162.47},{"$f":"'Budget FCFA'!I10/VLOOKUP(I$2,$BO$127:$BP$138,2,FALSE)","v":0},{"$f":"'Budget FCFA'!J10/VLOOKUP(J$2,$BO$127:$BP$138,2,FALSE)","v":0},{"$f":"'Budget FCFA'!K10/VLOOKUP(K$2,$BO$127:$BP$138,2,FALSE)","v":0},{"$f":"'Budget FCFA'!L10/VLOOKUP(L$2,$BO$127:$BP$138,2,FALSE)","v":0},{"$f":"'Budget FCFA'!M10/VLOOKUP(M$2,$BO$127:$BP$138,2,FALSE)","v":822.85},{"$f":"'Budget FCFA'!N10/VLOOKUP(N$2,$BO$127:$BP$138,2,FALSE)","v":0},{"$f":"'Budget FCFA'!O10/VLOOKUP(O$2,$BO$127:$BP$138,2,FALSE)","v":0},{"$f":"'Budget FCFA'!P10/VLOOKUP(P$2,$BO$127:$BP$138,2,FALSE)","v":0},{"$f":"'Budget FCFA'!Q10/VLOOKUP(Q$2,$BO$127:$BP$138,2,FALSE)","v":0},{"$f":"'Budget FCFA'!R10/VLOOKUP(R$2,$BO$127:$BP$138,2,FALSE)","v":870.49},{"$f":"'Budget FCFA'!S10/VLOOKUP(S$2,$BO$127:$BP$138,2,FALSE)","v":0},{"$f":"'Budget FCFA'!T10/VLOOKUP(T$2,$BO$127:$BP$138,2,FALSE)","v":0},{"$f":"'Budget FCFA'!U10/VLOOKUP(U$2,$BO$127:$BP$138,2,FALSE)","v":0},{"$f":"'Budget FCFA'!V10/VLOOKUP(V$2,$BO$127:$BP$138,2,FALSE)","v":0},{"$f":"'Budget FCFA'!W10/VLOOKUP(W$2,$BO$127:$BP$138,2,FALSE)","v":6544.3482575839571},{"$f":"'Budget FCFA'!X10/VLOOKUP(X$2,$BO$127:$BP$138,2,FALSE)","v":0},{"$f":"'Budget FCFA'!Y10/VLOOKUP(Y$2,$BO$127:$BP$138,2,FALSE)","v":0},{"$f":"'Budget FCFA'!Z10/VLOOKUP(Z$2,$BO$127:$BP$138,2,FALSE)","v":0},{"$f":"'Budget FCFA'!AA10/VLOOKUP(AA$2,$BO$127:$BP$138,2,FALSE)","v":1498.5},{"$f":"'Budget FCFA'!AB10/VLOOKUP(AB$2,$BO$127:$BP$138,2,FALSE)","v":0},{"$f":"'Budget FCFA'!AC10/VLOOKUP(AC$2,$BO$127:$BP$138,2,FALSE)","v":0},{"$f":"'Budget FCFA'!AD10/VLOOKUP(AD$2,$BO$127:$BP$138,2,FALSE)","v":0},{"$f":"'Budget FCFA'!AE10/VLOOKUP(AE$2,$BO$127:$BP$138,2,FALSE)","v":0},{"$f":"'Budget FCFA'!AF10/VLOOKUP(AF$2,$BO$127:$BP$138,2,FALSE)","v":54.916280669815535},{"$f":"'Budget FCFA'!AG10/VLOOKUP(AG$2,$BO$127:$BP$138,2,FALSE)","v":0},{"$f":"'Budget FCFA'!AH10/VLOOKUP(AH$2,$BO$127:$BP$138,2,FALSE)","v":0},{"$f":"'Budget FCFA'!AI10/VLOOKUP(AI$2,$BO$127:$BP$138,2,FALSE)","v":0},{"$f":"'Budget FCFA'!AJ10/VLOOKUP(AJ$2,$BO$127:$BP$138,2,FALSE)","v":0},{"$f":"'Budget FCFA'!AK10/VLOOKUP(AK$2,$BO$127:$BP$138,2,FALSE)","v":338.45},{"$f":"'Budget FCFA'!AL10/VLOOKUP(AL$2,$BO$127:$BP$138,2,FALSE)","v":0},{"$f":"'Budget FCFA'!AM10/VLOOKUP(AM$2,$BO$127:$BP$138,2,FALSE)","v":0},{"$f":"'Budget FCFA'!AN10/VLOOKUP(AN$2,$BO$127:$BP$138,2,FALSE)","v":0},{"$f":"'Budget FCFA'!AO10/VLOOKUP(AO$2,$BO$127:$BP$138,2,FALSE)","v":0},{"$f":"'Budget FCFA'!AP10/VLOOKUP(AP$2,$BO$127:$BP$138,2,FALSE)","v":927.03},{"$f":"'Budget FCFA'!#REF!/VLOOKUP(AQ$2,$BO$127:$BP$138,2,FALSE)","v":{"$error":"#REF!"}},{"$f":"'Budget FCFA'!#REF!/VLOOKUP(AR$2,$BO$127:$BP$138,2,FALSE)","v":{"$error":"#REF!"}},{"$f":"'Budget FCFA'!#REF!/VLOOKUP(AS$2,$BO$127:$BP$138,2,FALSE)","v":{"$error":"#REF!"}},{"$f":"'Budget FCFA'!#REF!/VLOOKUP(AT$2,$BO$127:$BP$138,2,FALSE)","v":{"$error":"#REF!"}},{"$f":"'Budget FCFA'!#REF!/VLOOKUP(AU$2,$BO$127:$BP$138,2,FALSE)","v":{"$error":"#REF!"}},{"$f":"'Budget FCFA'!#REF!/VLOOKUP(AV$2,$BO$127:$BP$138,2,FALSE)","v":{"$error":"#REF!"}},{"$f":"'Budget FCFA'!#REF!/VLOOKUP(AW$2,$BO$127:$BP$138,2,FALSE)","v":{"$error":"#REF!"}},{"$f":"'Budget FCFA'!#REF!/VLOOKUP(AX$2,$BO$127:$BP$138,2,FALSE)","v":{"$error":"#REF!"}},{"$f":"'Budget FCFA'!#REF!/VLOOKUP(AY$2,$BO$127:$BP$138,2,FALSE)","v":{"$error":"#REF!"}},{"$f":"'Budget FCFA'!#REF!/VLOOKUP(AZ$2,$BO$127:$BP$138,2,FALSE)","v":{"$error":"#REF!"}},{"$f":"'Budget FCFA'!#REF!/VLOOKUP(BA$2,$BO$127:$BP$138,2,FALSE)","v":{"$error":"#REF!"}},{"$f":"'Budget FCFA'!#REF!/VLOOKUP(BB$2,$BO$127:$BP$138,2,FALSE)","v":{"$error":"#REF!"}},{"$f":"'Budget FCFA'!#REF!/VLOOKUP(BC$2,$BO$127:$BP$138,2,FALSE)","v":{"$error":"#REF!"}},{"$f":"'Budget FCFA'!#REF!/VLOOKUP(BD$2,$BO$127:$BP$138,2,FALSE)","v":{"$error":"#REF!"}},{"$f":"'Budget FCFA'!#REF!/VLOOKUP(BE$2,$BO$127:$BP$138,2,FALSE)","v":{"$error":"#REF!"}},{"$f":"'Budget FCFA'!#REF!/VLOOKUP(BF$2,$BO$127:$BP$138,2,FALSE)","v":{"$error":"#REF!"}},{"$f":"'Budget FCFA'!#REF!/VLOOKUP(BG$2,$BO$127:$BP$138,2,FALSE)","v":{"$error":"#REF!"}},{"$f":"'Budget FCFA'!#REF!/VLOOKUP(BH$2,$BO$127:$BP$138,2,FALSE)","v":{"$error":"#REF!"}},{"$f":"'Budget FCFA'!#REF!/VLOOKUP(BI$2,$BO$127:$BP$138,2,FALSE)","v":{"$error":"#REF!"}},{"$f":"'Budget FCFA'!#REF!/VLOOKUP(BJ$2,$BO$127:$BP$138,2,FALSE)","v":{"$error":"#REF!"}},{"$error":"#REF!"},{"$f":"BK10-'Budget FCFA'!#REF!","v":{"$error":"#REF!"}}]
["PUBLIANT","ABIDJAN","Exercices précédents",{"$f":"'Budget FCFA'!D11/VLOOKUP(D$2,$BO$127:$BP$138,2,FALSE)","v":0},{"$f":"'Budget FCFA'!E11/VLOOKUP(E$2,$BO$127:$BP$138,2,FALSE)","v":0},{"$f":"'Budget FCFA'!F11/VLOOKUP(F$2,$BO$127:$BP$138,2,FALSE)","v":0},{"$f":"'Budget FCFA'!G11/VLOOKUP(G$2,$BO$127:$BP$138,2,FALSE)","v":0},{"$f":"'Budget FCFA'!H11/VLOOKUP(H$2,$BO$127:$BP$138,2,FALSE)","v":0},{"$f":"'Budget FCFA'!I11/VLOOKUP(I$2,$BO$127:$BP$138,2,FALSE)","v":0},{"$f":"'Budget FCFA'!J11/VLOOKUP(J$2,$BO$127:$BP$138,2,FALSE)","v":0},{"$f":"'Budget FCFA'!K11/VLOOKUP(K$2,$BO$127:$BP$138,2,FALSE)","v":0},{"$f":"'Budget FCFA'!L11/VLOOKUP(L$2,$BO$127:$BP$138,2,FALSE)","v":0},{"$f":"'Budget FCFA'!M11/VLOOKUP(M$2,$BO$127:$BP$138,2,FALSE)","v":0},{"$f":"'Budget FCFA'!N11/VLOOKUP(N$2,$BO$127:$BP$138,2,FALSE)","v":0},{"$f":"'Budget FCFA'!O11/VLOOKUP(O$2,$BO$127:$BP$138,2,FALSE)","v":0},{"$f":"'Budget FCFA'!P11/VLOOKUP(P$2,$BO$127:$BP$138,2,FALSE)","v":0},{"$f":"'Budget FCFA'!Q11/VLOOKUP(Q$2,$BO$127:$BP$138,2,FALSE)","v":0},{"$f":"'Budget FCFA'!R11/VLOOKUP(R$2,$BO$127:$BP$138,2,FALSE)","v":0},{"$f":"'Budget FCFA'!S11/VLOOKUP(S$2,$BO$127:$BP$138,2,FALSE)","v":0},{"$f":"'Budget FCFA'!T11/VLOOKUP(T$2,$BO$127:$BP$138,2,FALSE)","v":0},{"$f":"'Budget FCFA'!U11/VLOOKUP(U$2,$BO$127:$BP$138,2,FALSE)","v":0},{"$f":"'Budget FCFA'!V11/VLOOKUP(V$2,$BO$127:$BP$138,2,FALSE)","v":0},{"$f":"'Budget FCFA'!W11/VLOOKUP(W$2,$BO$127:$BP$138,2,FALSE)","v":0},{"$f":"'Budget FCFA'!X11/VLOOKUP(X$2,$BO$127:$BP$138,2,FALSE)","v":0},{"$f":"'Budget FCFA'!Y11/VLOOKUP(Y$2,$BO$127:$BP$138,2,FALSE)","v":0},{"$f":"'Budget FCFA'!Z11/VLOOKUP(Z$2,$BO$127:$BP$138,2,FALSE)","v":0},{"$f":"'Budget FCFA'!AA11/VLOOKUP(AA$2,$BO$127:$BP$138,2,FALSE)","v":0},{"$f":"'Budget FCFA'!AB11/VLOOKUP(AB$2,$BO$127:$BP$138,2,FALSE)","v":0},{"$f":"'Budget FCFA'!AC11/VLOOKUP(AC$2,$BO$127:$BP$138,2,FALSE)","v":0},{"$f":"'Budget FCFA'!AD11/VLOOKUP(AD$2,$BO$127:$BP$138,2,FALSE)","v":0},{"$f":"'Budget FCFA'!AE11/VLOOKUP(AE$2,$BO$127:$BP$138,2,FALSE)","v":0},{"$f":"'Budget FCFA'!AF11/VLOOKUP(AF$2,$BO$127:$BP$138,2,FALSE)","v":0},{"$f":"'Budget FCFA'!AG11/VLOOKUP(AG$2,$BO$127:$BP$138,2,FALSE)","v":0},{"$f":"'Budget FCFA'!AH11/VLOOKUP(AH$2,$BO$127:$BP$138,2,FALSE)","v":0},{"$f":"'Budget FCFA'!AI11/VLOOKUP(AI$2,$BO$127:$BP$138,2,FALSE)","v":0},{"$f":"'Budget FCFA'!AJ11/VLOOKUP(AJ$2,$BO$127:$BP$138,2,FALSE)","v":0},{"$f":"'Budget FCFA'!AK11/VLOOKUP(AK$2,$BO$127:$BP$138,2,FALSE)","v":0},{"$f":"'Budget FCFA'!AL11/VLOOKUP(AL$2,$BO$127:$BP$138,2,FALSE)","v":0},{"$f":"'Budget FCFA'!AM11/VLOOKUP(AM$2,$BO$127:$BP$138,2,FALSE)","v":0},{"$f":"'Budget FCFA'!AN11/VLOOKUP(AN$2,$BO$127:$BP$138,2,FALSE)","v":0},{"$f":"'Budget FCFA'!AO11/VLOOKUP(AO$2,$BO$127:$BP$138,2,FALSE)","v":0},{"$f":"'Budget FCFA'!AP11/VLOOKUP(AP$2,$BO$127:$BP$138,2,FALSE)","v":0},{"$f":"'Budget FCFA'!#REF!/VLOOKUP(AQ$2,$BO$127:$BP$138,2,FALSE)","v":{"$error":"#REF!"}},{"$f":"'Budget FCFA'!#REF!/VLOOKUP(AR$2,$BO$127:$BP$138,2,FALSE)","v":{"$error":"#REF!"}},{"$f":"'Budget FCFA'!#REF!/VLOOKUP(AS$2,$BO$127:$BP$138,2,FALSE)","v":{"$error":"#REF!"}},{"$f":"'Budget FCFA'!#REF!/VLOOKUP(AT$2,$BO$127:$BP$138,2,FALSE)","v":{"$error":"#REF!"}},{"$f":"'Budget FCFA'!#REF!/VLOOKUP(AU$2,$BO$127:$BP$138,2,FALSE)","v":{"$error":"#REF!"}},{"$f":"'Budget FCFA'!#REF!/VLOOKUP(AV$2,$BO$127:$BP$138,2,FALSE)","v":{"$error":"#REF!"}},{"$f":"'Budget FCFA'!#REF!/VLOOKUP(AW$2,$BO$127:$BP$138,2,FALSE)","v":{"$error":"#REF!"}},{"$f":"'Budget FCFA'!#REF!/VLOOKUP(AX$2,$BO$127:$BP$138,2,FALSE)","v":{"$error":"#REF!"}},{"$f":"'Budget FCFA'!#REF!/VLOOKUP(AY$2,$BO$127:$BP$138,2,FALSE)","v":{"$error":"#REF!"}},{"$f":"'Budget FCFA'!#REF!/VLOOKUP(AZ$2,$BO$127:$BP$138,2,FALSE)","v":{"$error":"#REF!"}},{"$f":"'Budget FCFA'!#REF!/VLOOKUP(BA$2,$BO$127:$BP$138,2,FALSE)","v":{"$error":"#REF!"}},{"$f":"'Budget FCFA'!#REF!/VLOOKUP(BB$2,$BO$127:$BP$138,2,FALSE)","v":{"$error":"#REF!"}},{"$f":"'Budget FCFA'!#REF!/VLOOKUP(BC$2,$BO$127:$BP$138,2,FALSE)","v":{"$error":"#REF!"}},{"$f":"'Budget FCFA'!#REF!/VLOOKUP(BD$2,$BO$127:$BP$138,2,FALSE)","v":{"$error":"#REF!"}},{"$f":"'Budget FCFA'!#REF!/VLOOKUP(BE$2,$BO$127:$BP$138,2,FALSE)","v":{"$error":"#REF!"}},{"$f":"'Budget FCFA'!#REF!/VLOOKUP(BF$2,$BO$127:$BP$138,2,FALSE)","v":{"$error":"#REF!"}},{"$f":"'Budget FCFA'!#REF!/VLOOKUP(BG$2,$BO$127:$BP$138,2,FALSE)","v":{"$error":"#REF!"}},{"$f":"'Budget FCFA'!#REF!/VLOOKUP(BH$2,$BO$127:$BP$138,2,FALSE)","v":{"$error":"#REF!"}},{"$f":"'Budget FCFA'!#REF!/VLOOKUP(BI$2,$BO$127:$BP$138,2,FALSE)","v":{"$error":"#REF!"}},{"$f":"'Budget FCFA'!#REF!/VLOOKUP(BJ$2,$BO$127:$BP$138,2,FALSE)","v":{"$error":"#REF!"}},{"$error":"#REF!"},{"$f":"BK11-'Budget FCFA'!#REF!","v":{"$error":"#REF!"}}]
["PUBLIANT","BRAZZA","Exercices précédents",{"$f":"'Budget FCFA'!D12/VLOOKUP(D$2,$BO$127:$BP$138,2,FALSE)","v":0},{"$f":"'Budget FCFA'!E12/VLOOKUP(E$2,$BO$127:$BP$138,2,FALSE)","v":0},{"$f":"'Budget FCFA'!F12/VLOOKUP(F$2,$BO$127:$BP$138,2,FALSE)","v":0},{"$f":"'Budget FCFA'!G12/VLOOKUP(G$2,$BO$127:$BP$138,2,FALSE)","v":0},{"$f":"'Budget FCFA'!H12/VLOOKUP(H$2,$BO$127:$BP$138,2,FALSE)","v":0},{"$f":"'Budget FCFA'!I12/VLOOKUP(I$2,$BO$127:$BP$138,2,FALSE)","v":0},{"$f":"'Budget FCFA'!J12/VLOOKUP(J$2,$BO$127:$BP$138,2,FALSE)","v":0},{"$f":"'Budget FCFA'!K12/VLOOKUP(K$2,$BO$127:$BP$138,2,FALSE)","v":0},{"$f":"'Budget FCFA'!L12/VLOOKUP(L$2,$BO$127:$BP$138,2,FALSE)","v":0},{"$f":"'Budget FCFA'!M12/VLOOKUP(M$2,$BO$127:$BP$138,2,FALSE)","v":0},{"$f":"'Budget FCFA'!N12/VLOOKUP(N$2,$BO$127:$BP$138,2,FALSE)","v":0},{"$f":"'Budget FCFA'!O12/VLOOKUP(O$2,$BO$127:$BP$138,2,FALSE)","v":0},{"$f":"'Budget FCFA'!P12/VLOOKUP(P$2,$BO$127:$BP$138,2,FALSE)","v":0},{"$f":"'Budget FCFA'!Q12/VLOOKUP(Q$2,$BO$127:$BP$138,2,FALSE)","v":0},{"$f":"'Budget FCFA'!R12/VLOOKUP(R$2,$BO$127:$BP$138,2,FALSE)","v":0},{"$f":"'Budget FCFA'!S12/VLOOKUP(S$2,$BO$127:$BP$138,2,FALSE)","v":0},{"$f":"'Budget FCFA'!T12/VLOOKUP(T$2,$BO$127:$BP$138,2,FALSE)","v":0},{"$f":"'Budget FCFA'!U12/VLOOKUP(U$2,$BO$127:$BP$138,2,FALSE)","v":0},{"$f":"'Budget FCFA'!V12/VLOOKUP(V$2,$BO$127:$BP$138,2,FALSE)","v":0},{"$f":"'Budget FCFA'!W12/VLOOKUP(W$2,$BO$127:$BP$138,2,FALSE)","v":0},{"$f":"'Budget FCFA'!X12/VLOOKUP(X$2,$BO$127:$BP$138,2,FALSE)","v":0},{"$f":"'Budget FCFA'!Y12/VLOOKUP(Y$2,$BO$127:$BP$138,2,FALSE)","v":0},{"$f":"'Budget FCFA'!Z12/VLOOKUP(Z$2,$BO$127:$BP$138,2,FALSE)","v":0},{"$f":"'Budget FCFA'!AA12/VLOOKUP(AA$2,$BO$127:$BP$138,2,FALSE)","v":0},{"$f":"'Budget FCFA'!AB12/VLOOKUP(AB$2,$BO$127:$BP$138,2,FALSE)","v":0},{"$f":"'Budget FCFA'!AC12/VLOOKUP(AC$2,$BO$127:$BP$138,2,FALSE)","v":0},{"$f":"'Budget FCFA'!AD12/VLOOKUP(AD$2,$BO$127:$BP$138,2,FALSE)","v":0},{"$f":"'Budget FCFA'!AE12/VLOOKUP(AE$2,$BO$127:$BP$138,2,FALSE)","v":0},{"$f":"'Budget FCFA'!AF12/VLOOKUP(AF$2,$BO$127:$BP$138,2,FALSE)","v":0},{"$f":"'Budget FCFA'!AG12/VLOOKUP(AG$2,$BO$127:$BP$138,2,FALSE)","v":0},{"$f":"'Budget FCFA'!AH12/VLOOKUP(AH$2,$BO$127:$BP$138,2,FALSE)","v":0},{"$f":"'Budget FCFA'!AI12/VLOOKUP(AI$2,$BO$127:$BP$138,2,FALSE)","v":0},{"$f":"'Budget FCFA'!AJ12/VLOOKUP(AJ$2,$BO$127:$BP$138,2,FALSE)","v":0},{"$f":"'Budget FCFA'!AK12/VLOOKUP(AK$2,$BO$127:$BP$138,2,FALSE)","v":0},{"$f":"'Budget FCFA'!AL12/VLOOKUP(AL$2,$BO$127:$BP$138,2,FALSE)","v":0},{"$f":"'Budget FCFA'!AM12/VLOOKUP(AM$2,$BO$127:$BP$138,2,FALSE)","v":0},{"$f":"'Budget FCFA'!AN12/VLOOKUP(AN$2,$BO$127:$BP$138,2,FALSE)","v":0},{"$f":"'Budget FCFA'!AO12/VLOOKUP(AO$2,$BO$127:$BP$138,2,FALSE)","v":0},{"$f":"'Budget FCFA'!AP12/VLOOKUP(AP$2,$BO$127:$BP$138,2,FALSE)","v":0},{"$f":"'Budget FCFA'!#REF!/VLOOKUP(AQ$2,$BO$127:$BP$138,2,FALSE)","v":{"$error":"#REF!"}},{"$f":"'Budget FCFA'!#REF!/VLOOKUP(AR$2,$BO$127:$BP$138,2,FALSE)","v":{"$error":"#REF!"}},{"$f":"'Budget FCFA'!#REF!/VLOOKUP(AS$2,$BO$127:$BP$138,2,FALSE)","v":{"$error":"#REF!"}},{"$f":"'Budget FCFA'!#REF!/VLOOKUP(AT$2,$BO$127:$BP$138,2,FALSE)","v":{"$error":"#REF!"}},{"$f":"'Budget FCFA'!#REF!/VLOOKUP(AU$2,$BO$127:$BP$138,2,FALSE)","v":{"$error":"#REF!"}},{"$f":"'Budget FCFA'!#REF!/VLOOKUP(AV$2,$BO$127:$BP$138,2,FALSE)","v":{"$error":"#REF!"}},{"$f":"'Budget FCFA'!#REF!/VLOOKUP(AW$2,$BO$127:$BP$138,2,FALSE)","v":{"$error":"#REF!"}},{"$f":"'Budget FCFA'!#REF!/VLOOKUP(AX$2,$BO$127:$BP$138,2,FALSE)","v":{"$error":"#REF!"}},{"$f":"'Budget FCFA'!#REF!/VLOOKUP(AY$2,$BO$127:$BP$138,2,FALSE)","v":{"$error":"#REF!"}},{"$f":"'Budget FCFA'!#REF!/VLOOKUP(AZ$2,$BO$127:$BP$138,2,FALSE)","v":{"$error":"#REF!"}},{"$f":"'Budget FCFA'!#REF!/VLOOKUP(BA$2,$BO$127:$BP$138,2,FALSE)","v":{"$error":"#REF!"}},{"$f":"'Budget FCFA'!#REF!/VLOOKUP(BB$2,$BO$127:$BP$138,2,FALSE)","v":{"$error":"#REF!"}},{"$f":"'Budget FCFA'!#REF!/VLOOKUP(BC$2,$BO$127:$BP$138,2,FALSE)","v":{"$error":"#REF!"}},{"$f":"'Budget FCFA'!#REF!/VLOOKUP(BD$2,$BO$127:$BP$138,2,FALSE)","v":{"$error":"#REF!"}},{"$f":"'Budget FCFA'!#REF!/VLOOKUP(BE$2,$BO$127:$BP$138,2,FALSE)","v":{"$error":"#REF!"}},{"$f":"'Budget FCFA'!#REF!/VLOOKUP(BF$2,$BO$127:$BP$138,2,FALSE)","v":{"$error":"#REF!"}},{"$f":"'Budget FCFA'!#REF!/VLOOKUP(BG$2,$BO$127:$BP$138,2,FALSE)","v":{"$error":"#REF!"}},{"$f":"'Budget FCFA'!#REF!/VLOOKUP(BH$2,$BO$127:$BP$138,2,FALSE)","v":{"$error":"#REF!"}},{"$f":"'Budget FCFA'!#REF!/VLOOKUP(BI$2,$BO$127:$BP$138,2,FALSE)","v":{"$error":"#REF!"}},{"$f":"'Budget FCFA'!#REF!/VLOOKUP(BJ$2,$BO$127:$BP$138,2,FALSE)","v":{"$error":"#REF!"}},{"$error":"#REF!"},{"$f":"BK12-'Budget FCFA'!#REF!","v":{"$error":"#REF!"}}]
["PUBLIANT","DAKAR","Exercices précédents",{"$f":"'Budget FCFA'!D13/VLOOKUP(D$2,$BO$127:$BP$138,2,FALSE)","v":0},{"$f":"'Budget FCFA'!E13/VLOOKUP(E$2,$BO$127:$BP$138,2,FALSE)","v":0},{"$f":"'Budget FCFA'!F13/VLOOKUP(F$2,$BO$127:$BP$138,2,FALSE)","v":0},{"$f":"'Budget FCFA'!G13/VLOOKUP(G$2,$BO$127:$BP$138,2,FALSE)","v":0},{"$f":"'Budget FCFA'!H13/VLOOKUP(H$2,$BO$127:$BP$138,2,FALSE)","v":0},{"$f":"'Budget FCFA'!I13/VLOOKUP(I$2,$BO$127:$BP$138,2,FALSE)","v":0},{"$f":"'Budget FCFA'!J13/VLOOKUP(J$2,$BO$127:$BP$138,2,FALSE)","v":0},{"$f":"'Budget FCFA'!K13/VLOOKUP(K$2,$BO$127:$BP$138,2,FALSE)","v":0},{"$f":"'Budget FCFA'!L13/VLOOKUP(L$2,$BO$127:$BP$138,2,FALSE)","v":0},{"$f":"'Budget FCFA'!M13/VLOOKUP(M$2,$BO$127:$BP$138,2,FALSE)","v":0},{"$f":"'Budget FCFA'!N13/VLOOKUP(N$2,$BO$127:$BP$138,2,FALSE)","v":0},{"$f":"'Budget FCFA'!O13/VLOOKUP(O$2,$BO$127:$BP$138,2,FALSE)","v":0},{"$f":"'Budget FCFA'!P13/VLOOKUP(P$2,$BO$127:$BP$138,2,FALSE)","v":0},{"$f":"'Budget FCFA'!Q13/VLOOKUP(Q$2,$BO$127:$BP$138,2,FALSE)","v":0},{"$f":"'Budget FCFA'!R13/VLOOKUP(R$2,$BO$127:$BP$138,2,FALSE)","v":0},{"$f":"'Budget FCFA'!S13/VLOOKUP(S$2,$BO$127:$BP$138,2,FALSE)","v":0},{"$f":"'Budget FCFA'!T13/VLOOKUP(T$2,$BO$127:$BP$138,2,FALSE)","v":0},{"$f":"'Budget FCFA'!U13/VLOOKUP(U$2,$BO$127:$BP$138,2,FALSE)","v":0},{"$f":"'Budget FCFA'!V13/VLOOKUP(V$2,$BO$127:$BP$138,2,FALSE)","v":0},{"$f":"'Budget FCFA'!W13/VLOOKUP(W$2,$BO$127:$BP$138,2,FALSE)","v":0},{"$f":"'Budget FCFA'!X13/VLOOKUP(X$2,$BO$127:$BP$138,2,FALSE)","v":0},{"$f":"'Budget FCFA'!Y13/VLOOKUP(Y$2,$BO$127:$BP$138,2,FALSE)","v":0},{"$f":"'Budget FCFA'!Z13/VLOOKUP(Z$2,$BO$127:$BP$138,2,FALSE)","v":0},{"$f":"'Budget FCFA'!AA13/VLOOKUP(AA$2,$BO$127:$BP$138,2,FALSE)","v":0},{"$f":"'Budget FCFA'!AB13/VLOOKUP(AB$2,$BO$127:$BP$138,2,FALSE)","v":0},{"$f":"'Budget FCFA'!AC13/VLOOKUP(AC$2,$BO$127:$BP$138,2,FALSE)","v":0},{"$f":"'Budget FCFA'!AD13/VLOOKUP(AD$2,$BO$127:$BP$138,2,FALSE)","v":0},{"$f":"'Budget FCFA'!AE13/VLOOKUP(AE$2,$BO$127:$BP$138,2,FALSE)","v":0},{"$f":"'Budget FCFA'!AF13/VLOOKUP(AF$2,$BO$127:$BP$138,2,FALSE)","v":0},{"$f":"'Budget FCFA'!AG13/VLOOKUP(AG$2,$BO$127:$BP$138,2,FALSE)","v":0},{"$f":"'Budget FCFA'!AH13/VLOOKUP(AH$2,$BO$127:$BP$138,2,FALSE)","v":0},{"$f":"'Budget FCFA'!AI13/VLOOKUP(AI$2,$BO$127:$BP$138,2,FALSE)","v":0},{"$f":"'Budget FCFA'!AJ13/VLOOKUP(AJ$2,$BO$127:$BP$138,2,FALSE)","v":0},{"$f":"'Budget FCFA'!AK13/VLOOKUP(AK$2,$BO$127:$BP$138,2,FALSE)","v":0},{"$f":"'Budget FCFA'!AL13/VLOOKUP(AL$2,$BO$127:$BP$138,2,FALSE)","v":0},{"$f":"'Budget FCFA'!AM13/VLOOKUP(AM$2,$BO$127:$BP$138,2,FALSE)","v":0},{"$f":"'Budget FCFA'!AN13/VLOOKUP(AN$2,$BO$127:$BP$138,2,FALSE)","v":0},{"$f":"'Budget FCFA'!AO13/VLOOKUP(AO$2,$BO$127:$BP$138,2,FALSE)","v":0},{"$f":"'Budget FCFA'!AP13/VLOOKUP(AP$2,$BO$127:$BP$138,2,FALSE)","v":0},{"$f":"'Budget FCFA'!#REF!/VLOOKUP(AQ$2,$BO$127:$BP$138,2,FALSE)","v":{"$error":"#REF!"}},{"$f":"'Budget FCFA'!#REF!/VLOOKUP(AR$2,$BO$127:$BP$138,2,FALSE)","v":{"$error":"#REF!"}},{"$f":"'Budget FCFA'!#REF!/VLOOKUP(AS$2,$BO$127:$BP$138,2,FALSE)","v":{"$error":"#REF!"}},{"$f":"'Budget FCFA'!#REF!/VLOOKUP(AT$2,$BO$127:$BP$138,2,FALSE)","v":{"$error":"#REF!"}},{"$f":"'Budget FCFA'!#REF!/VLOOKUP(AU$2,$BO$127:$BP$138,2,FALSE)","v":{"$error":"#REF!"}},{"$f":"'Budget FCFA'!#REF!/VLOOKUP(AV$2,$BO$127:$BP$138,2,FALSE)","v":{"$error":"#REF!"}},{"$f":"'Budget FCFA'!#REF!/VLOOKUP(AW$2,$BO$127:$BP$138,2,FALSE)","v":{"$error":"#REF!"}},{"$f":"'Budget FCFA'!#REF!/VLOOKUP(AX$2,$BO$127:$BP$138,2,FALSE)","v":{"$error":"#REF!"}},{"$f":"'Budget FCFA'!#REF!/VLOOKUP(AY$2,$BO$127:$BP$138,2,FALSE)","v":{"$error":"#REF!"}},{"$f":"'Budget FCFA'!#REF!/VLOOKUP(AZ$2,$BO$127:$BP$138,2,FALSE)","v":{"$error":"#REF!"}},{"$f":"'Budget FCFA'!#REF!/VLOOKUP(BA$2,$BO$127:$BP$138,2,FALSE)","v":{"$error":"#REF!"}},{"$f":"'Budget FCFA'!#REF!/VLOOKUP(BB$2,$BO$127:$BP$138,2,FALSE)","v":{"$error":"#REF!"}},{"$f":"'Budget FCFA'!#REF!/VLOOKUP(BC$2,$BO$127:$BP$138,2,FALSE)","v":{"$error":"#REF!"}},{"$f":"'Budget FCFA'!#REF!/VLOOKUP(BD$2,$BO$127:$BP$138,2,FALSE)","v":{"$error":"#REF!"}},{"$f":"'Budget FCFA'!#REF!/VLOOKUP(BE$2,$BO$127:$BP$138,2,FALSE)","v":{"$error":"#REF!"}},{"$f":"'Budget FCFA'!#REF!/VLOOKUP(BF$2,$BO$127:$BP$138,2,FALSE)","v":{"$error":"#REF!"}},{"$f":"'Budget FCFA'!#REF!/VLOOKUP(BG$2,$BO$127:$BP$138,2,FALSE)","v":{"$error":"#REF!"}},{"$f":"'Budget FCFA'!#REF!/VLOOKUP(BH$2,$BO$127:$BP$138,2,FALSE)","v":{"$error":"#REF!"}},{"$f":"'Budget FCFA'!#REF!/VLOOKUP(BI$2,$BO$127:$BP$138,2,FALSE)","v":{"$error":"#REF!"}},{"$f":"'Budget FCFA'!#REF!/VLOOKUP(BJ$2,$BO$127:$BP$138,2,FALSE)","v":{"$error":"#REF!"}},{"$error":"#REF!"},{"$f":"BK13-'Budget FCFA'!#REF!","v":{"$error":"#REF!"}}]
["PUBLIANT","LIBREVILLE","Exercices précédents",{"$f":"'Budget FCFA'!D14/VLOOKUP(D$2,$BO$127:$BP$138,2,FALSE)","v":0},{"$f":"'Budget FCFA'!E14/VLOOKUP(E$2,$BO$127:$BP$138,2,FALSE)","v":0},{"$f":"'Budget FCFA'!F14/VLOOKUP(F$2,$BO$127:$BP$138,2,FALSE)","v":0},{"$f":"'Budget FCFA'!G14/VLOOKUP(G$2,$BO$127:$BP$138,2,FALSE)","v":0},{"$f":"'Budget FCFA'!H14/VLOOKUP(H$2,$BO$127:$BP$138,2,FALSE)","v":0},{"$f":"'Budget FCFA'!I14/VLOOKUP(I$2,$BO$127:$BP$138,2,FALSE)","v":0},{"$f":"'Budget FCFA'!J14/VLOOKUP(J$2,$BO$127:$BP$138,2,FALSE)","v":0},{"$f":"'Budget FCFA'!K14/VLOOKUP(K$2,$BO$127:$BP$138,2,FALSE)","v":0},{"$f":"'Budget FCFA'!L14/VLOOKUP(L$2,$BO$127:$BP$138,2,FALSE)","v":0},{"$f":"'Budget FCFA'!M14/VLOOKUP(M$2,$BO$127:$BP$138,2,FALSE)","v":0},{"$f":"'Budget FCFA'!N14/VLOOKUP(N$2,$BO$127:$BP$138,2,FALSE)","v":0},{"$f":"'Budget FCFA'!O14/VLOOKUP(O$2,$BO$127:$BP$138,2,FALSE)","v":0},{"$f":"'Budget FCFA'!P14/VLOOKUP(P$2,$BO$127:$BP$138,2,FALSE)","v":0},{"$f":"'Budget FCFA'!Q14/VLOOKUP(Q$2,$BO$127:$BP$138,2,FALSE)","v":0},{"$f":"'Budget FCFA'!R14/VLOOKUP(R$2,$BO$127:$BP$138,2,FALSE)","v":0},{"$f":"'Budget FCFA'!S14/VLOOKUP(S$2,$BO$127:$BP$138,2,FALSE)","v":0},{"$f":"'Budget FCFA'!T14/VLOOKUP(T$2,$BO$127:$BP$138,2,FALSE)","v":0},{"$f":"'Budget FCFA'!U14/VLOOKUP(U$2,$BO$127:$BP$138,2,FALSE)","v":0},{"$f":"'Budget FCFA'!V14/VLOOKUP(V$2,$BO$127:$BP$138,2,FALSE)","v":0},{"$f":"'Budget FCFA'!W14/VLOOKUP(W$2,$BO$127:$BP$138,2,FALSE)","v":0},{"$f":"'Budget FCFA'!X14/VLOOKUP(X$2,$BO$127:$BP$138,2,FALSE)","v":0},{"$f":"'Budget FCFA'!Y14/VLOOKUP(Y$2,$BO$127:$BP$138,2,FALSE)","v":0},{"$f":"'Budget FCFA'!Z14/VLOOKUP(Z$2,$BO$127:$BP$138,2,FALSE)","v":0},{"$f":"'Budget FCFA'!AA14/VLOOKUP(AA$2,$BO$127:$BP$138,2,FALSE)","v":0},{"$f":"'Budget FCFA'!AB14/VLOOKUP(AB$2,$BO$127:$BP$138,2,FALSE)","v":0},{"$f":"'Budget FCFA'!AC14/VLOOKUP(AC$2,$BO$127:$BP$138,2,FALSE)","v":0},{"$f":"'Budget FCFA'!AD14/VLOOKUP(AD$2,$BO$127:$BP$138,2,FALSE)","v":0},{"$f":"'Budget FCFA'!AE14/VLOOKUP(AE$2,$BO$127:$BP$138,2,FALSE)","v":0},{"$f":"'Budget FCFA'!AF14/VLOOKUP(AF$2,$BO$127:$BP$138,2,FALSE)","v":0},{"$f":"'Budget FCFA'!AG14/VLOOKUP(AG$2,$BO$127:$BP$138,2,FALSE)","v":0},{"$f":"'Budget FCFA'!AH14/VLOOKUP(AH$2,$BO$127:$BP$138,2,FALSE)","v":0},{"$f":"'Budget FCFA'!AI14/VLOOKUP(AI$2,$BO$127:$BP$138,2,FALSE)","v":0},{"$f":"'Budget FCFA'!AJ14/VLOOKUP(AJ$2,$BO$127:$BP$138,2,FALSE)","v":0},{"$f":"'Budget FCFA'!AK14/VLOOKUP(AK$2,$BO$127:$BP$138,2,FALSE)","v":0},{"$f":"'Budget FCFA'!AL14/VLOOKUP(AL$2,$BO$127:$BP$138,2,FALSE)","v":0},{"$f":"'Budget FCFA'!AM14/VLOOKUP(AM$2,$BO$127:$BP$138,2,FALSE)","v":0},{"$f":"'Budget FCFA'!AN14/VLOOKUP(AN$2,$BO$127:$BP$138,2,FALSE)","v":0},{"$f":"'Budget FCFA'!AO14/VLOOKUP(AO$2,$BO$127:$BP$138,2,FALSE)","v":0},{"$f":"'Budget FCFA'!AP14/VLOOKUP(AP$2,$BO$127:$BP$138,2,FALSE)","v":0},{"$f":"'Budget FCFA'!#REF!/VLOOKUP(AQ$2,$BO$127:$BP$138,2,FALSE)","v":{"$error":"#REF!"}},{"$f":"'Budget FCFA'!#REF!/VLOOKUP(AR$2,$BO$127:$BP$138,2,FALSE)","v":{"$error":"#REF!"}},{"$f":"'Budget FCFA'!#REF!/VLOOKUP(AS$2,$BO$127:$BP$138,2,FALSE)","v":{"$error":"#REF!"}},{"$f":"'Budget FCFA'!#REF!/VLOOKUP(AT$2,$BO$127:$BP$138,2,FALSE)","v":{"$error":"#REF!"}},{"$f":"'Budget FCFA'!#REF!/VLOOKUP(AU$2,$BO$127:$BP$138,2,FALSE)","v":{"$error":"#REF!"}},{"$f":"'Budget FCFA'!#REF!/VLOOKUP(AV$2,$BO$127:$BP$138,2,FALSE)","v":{"$error":"#REF!"}},{"$f":"'Budget FCFA'!#REF!/VLOOKUP(AW$2,$BO$127:$BP$138,2,FALSE)","v":{"$error":"#REF!"}},{"$f":"'Budget FCFA'!#REF!/VLOOKUP(AX$2,$BO$127:$BP$138,2,FALSE)","v":{"$error":"#REF!"}},{"$f":"'Budget FCFA'!#REF!/VLOOKUP(AY$2,$BO$127:$BP$138,2,FALSE)","v":{"$error":"#REF!"}},{"$f":"'Budget FCFA'!#REF!/VLOOKUP(AZ$2,$BO$127:$BP$138,2,FALSE)","v":{"$error":"#REF!"}},{"$f":"'Budget FCFA'!#REF!/VLOOKUP(BA$2,$BO$127:$BP$138,2,FALSE)","v":{"$error":"#REF!"}},{"$f":"'Budget FCFA'!#REF!/VLOOKUP(BB$2,$BO$127:$BP$138,2,FALSE)","v":{"$error":"#REF!"}},{"$f":"'Budget FCFA'!#REF!/VLOOKUP(BC$2,$BO$127:$BP$138,2,FALSE)","v":{"$error":"#REF!"}},{"$f":"'Budget FCFA'!#REF!/VLOOKUP(BD$2,$BO$127:$BP$138,2,FALSE)","v":{"$error":"#REF!"}},{"$f":"'Budget FCFA'!#REF!/VLOOKUP(BE$2,$BO$127:$BP$138,2,FALSE)","v":{"$error":"#REF!"}},{"$f":"'Budget FCFA'!#REF!/VLOOKUP(BF$2,$BO$127:$BP$138,2,FALSE)","v":{"$error":"#REF!"}},{"$f":"'Budget FCFA'!#REF!/VLOOKUP(BG$2,$BO$127:$BP$138,2,FALSE)","v":{"$error":"#REF!"}},{"$f":"'Budget FCFA'!#REF!/VLOOKUP(BH$2,$BO$127:$BP$138,2,FALSE)","v":{"$error":"#REF!"}},{"$f":"'Budget FCFA'!#REF!/VLOOKUP(BI$2,$BO$127:$BP$138,2,FALSE)","v":{"$error":"#REF!"}},{"$f":"'Budget FCFA'!#REF!/VLOOKUP(BJ$2,$BO$127:$BP$138,2,FALSE)","v":{"$error":"#REF!"}},{"$error":"#REF!"},{"$f":"BK14-'Budget FCFA'!#REF!","v":{"$error":"#REF!"}}]
["PUBLIANT","DOUALA","Exercices précédents",{"$f":"'Budget FCFA'!D15/VLOOKUP(D$2,$BO$127:$BP$138,2,FALSE)","v":0},{"$f":"'Budget FCFA'!E15/VLOOKUP(E$2,$BO$127:$BP$138,2,FALSE)","v":0},{"$f":"'Budget FCFA'!F15/VLOOKUP(F$2,$BO$127:$BP$138,2,FALSE)","v":0},{"$f":"'Budget FCFA'!G15/VLOOKUP(G$2,$BO$127:$BP$138,2,FALSE)","v":0},{"$f":"'Budget FCFA'!H15/VLOOKUP(H$2,$BO$127:$BP$138,2,FALSE)","v":0},{"$f":"'Budget FCFA'!I15/VLOOKUP(I$2,$BO$127:$BP$138,2,FALSE)","v":0},{"$f":"'Budget FCFA'!J15/VLOOKUP(J$2,$BO$127:$BP$138,2,FALSE)","v":0},{"$f":"'Budget FCFA'!K15/VLOOKUP(K$2,$BO$127:$BP$138,2,FALSE)","v":0},{"$f":"'Budget FCFA'!L15/VLOOKUP(L$2,$BO$127:$BP$138,2,FALSE)","v":0},{"$f":"'Budget FCFA'!M15/VLOOKUP(M$2,$BO$127:$BP$138,2,FALSE)","v":0},{"$f":"'Budget FCFA'!N15/VLOOKUP(N$2,$BO$127:$BP$138,2,FALSE)","v":0},{"$f":"'Budget FCFA'!O15/VLOOKUP(O$2,$BO$127:$BP$138,2,FALSE)","v":0},{"$f":"'Budget FCFA'!P15/VLOOKUP(P$2,$BO$127:$BP$138,2,FALSE)","v":0},{"$f":"'Budget FCFA'!Q15/VLOOKUP(Q$2,$BO$127:$BP$138,2,FALSE)","v":0},{"$f":"'Budget FCFA'!R15/VLOOKUP(R$2,$BO$127:$BP$138,2,FALSE)","v":0},{"$f":"'Budget FCFA'!S15/VLOOKUP(S$2,$BO$127:$BP$138,2,FALSE)","v":0},{"$f":"'Budget FCFA'!T15/VLOOKUP(T$2,$BO$127:$BP$138,2,FALSE)","v":0},{"$f":"'Budget FCFA'!U15/VLOOKUP(U$2,$BO$127:$BP$138,2,FALSE)","v":0},{"$f":"'Budget FCFA'!V15/VLOOKUP(V$2,$BO$127:$BP$138,2,FALSE)","v":0},{"$f":"'Budget FCFA'!W15/VLOOKUP(W$2,$BO$127:$BP$138,2,FALSE)","v":0},{"$f":"'Budget FCFA'!X15/VLOOKUP(X$2,$BO$127:$BP$138,2,FALSE)","v":0},{"$f":"'Budget FCFA'!Y15/VLOOKUP(Y$2,$BO$127:$BP$138,2,FALSE)","v":0},{"$f":"'Budget FCFA'!Z15/VLOOKUP(Z$2,$BO$127:$BP$138,2,FALSE)","v":0},{"$f":"'Budget FCFA'!AA15/VLOOKUP(AA$2,$BO$127:$BP$138,2,FALSE)","v":0},{"$f":"'Budget FCFA'!AB15/VLOOKUP(AB$2,$BO$127:$BP$138,2,FALSE)","v":0},{"$f":"'Budget FCFA'!AC15/VLOOKUP(AC$2,$BO$127:$BP$138,2,FALSE)","v":0},{"$f":"'Budget FCFA'!AD15/VLOOKUP(AD$2,$BO$127:$BP$138,2,FALSE)","v":0},{"$f":"'Budget FCFA'!AE15/VLOOKUP(AE$2,$BO$127:$BP$138,2,FALSE)","v":0},{"$f":"'Budget FCFA'!AF15/VLOOKUP(AF$2,$BO$127:$BP$138,2,FALSE)","v":0},{"$f":"'Budget FCFA'!AG15/VLOOKUP(AG$2,$BO$127:$BP$138,2,FALSE)","v":0},{"$f":"'Budget FCFA'!AH15/VLOOKUP(AH$2,$BO$127:$BP$138,2,FALSE)","v":0},{"$f":"'Budget FCFA'!AI15/VLOOKUP(AI$2,$BO$127:$BP$138,2,FALSE)","v":0},{"$f":"'Budget FCFA'!AJ15/VLOOKUP(AJ$2,$BO$127:$BP$138,2,FALSE)","v":0},{"$f":"'Budget FCFA'!AK15/VLOOKUP(AK$2,$BO$127:$BP$138,2,FALSE)","v":0},{"$f":"'Budget FCFA'!AL15/VLOOKUP(AL$2,$BO$127:$BP$138,2,FALSE)","v":0},{"$f":"'Budget FCFA'!AM15/VLOOKUP(AM$2,$BO$127:$BP$138,2,FALSE)","v":0},{"$f":"'Budget FCFA'!AN15/VLOOKUP(AN$2,$BO$127:$BP$138,2,FALSE)","v":0},{"$f":"'Budget FCFA'!AO15/VLOOKUP(AO$2,$BO$127:$BP$138,2,FALSE)","v":0},{"$f":"'Budget FCFA'!AP15/VLOOKUP(AP$2,$BO$127:$BP$138,2,FALSE)","v":0},{"$f":"'Budget FCFA'!#REF!/VLOOKUP(AQ$2,$BO$127:$BP$138,2,FALSE)","v":{"$error":"#REF!"}},{"$f":"'Budget FCFA'!#REF!/VLOOKUP(AR$2,$BO$127:$BP$138,2,FALSE)","v":{"$error":"#REF!"}},{"$f":"'Budget FCFA'!#REF!/VLOOKUP(AS$2,$BO$127:$BP$138,2,FALSE)","v":{"$error":"#REF!"}},{"$f":"'Budget FCFA'!#REF!/VLOOKUP(AT$2,$BO$127:$BP$138,2,FALSE)","v":{"$error":"#REF!"}},{"$f":"'Budget FCFA'!#REF!/VLOOKUP(AU$2,$BO$127:$BP$138,2,FALSE)","v":{"$error":"#REF!"}},{"$f":"'Budget FCFA'!#REF!/VLOOKUP(AV$2,$BO$127:$BP$138,2,FALSE)","v":{"$error":"#REF!"}},{"$f":"'Budget FCFA'!#REF!/VLOOKUP(AW$2,$BO$127:$BP$138,2,FALSE)","v":{"$error":"#REF!"}},{"$f":"'Budget FCFA'!#REF!/VLOOKUP(AX$2,$BO$127:$BP$138,2,FALSE)","v":{"$error":"#REF!"}},{"$f":"'Budget FCFA'!#REF!/VLOOKUP(AY$2,$BO$127:$BP$138,2,FALSE)","v":{"$error":"#REF!"}},{"$f":"'Budget FCFA'!#REF!/VLOOKUP(AZ$2,$BO$127:$BP$138,2,FALSE)","v":{"$error":"#REF!"}},{"$f":"'Budget FCFA'!#REF!/VLOOKUP(BA$2,$BO$127:$BP$138,2,FALSE)","v":{"$error":"#REF!"}},{"$f":"'Budget FCFA'!#REF!/VLOOKUP(BB$2,$BO$127:$BP$138,2,FALSE)","v":{"$error":"#REF!"}},{"$f":"'Budget FCFA'!#REF!/VLOOKUP(BC$2,$BO$127:$BP$138,2,FALSE)","v":{"$error":"#REF!"}},{"$f":"'Budget FCFA'!#REF!/VLOOKUP(BD$2,$BO$127:$BP$138,2,FALSE)","v":{"$error":"#REF!"}},{"$f":"'Budget FCFA'!#REF!/VLOOKUP(BE$2,$BO$127:$BP$138,2,FALSE)","v":{"$error":"#REF!"}},{"$f":"'Budget FCFA'!#REF!/VLOOKUP(BF$2,$BO$127:$BP$138,2,FALSE)","v":{"$error":"#REF!"}},{"$f":"'Budget FCFA'!#REF!/VLOOKUP(BG$2,$BO$127:$BP$138,2,FALSE)","v":{"$error":"#REF!"}},{"$f":"'Budget FCFA'!#REF!/VLOOKUP(BH$2,$BO$127:$BP$138,2,FALSE)","v":{"$error":"#REF!"}},{"$f":"'Budget FCFA'!#REF!/VLOOKUP(BI$2,$BO$127:$BP$138,2,FALSE)","v":{"$error":"#REF!"}},{"$f":"'Budget FCFA'!#REF!/VLOOKUP(BJ$2,$BO$127:$BP$138,2,FALSE)","v":{"$error":"#REF!"}},{"$error":"#REF!"},{"$f":"BK15-'Budget FCFA'!#REF!","v":{"$error":"#REF!"}}]
["PUBLIANT","TOTAL","Total exercices précédents",{"$f":"'Budget FCFA'!D16/VLOOKUP(D$2,$BO$127:$BP$138,2,FALSE)","v":0},{"$f":"'Budget FCFA'!E16/VLOOKUP(E$2,$BO$127:$BP$138,2,FALSE)","v":0},{"$f":"'Budget FCFA'!F16/VLOOKUP(F$2,$BO$127:$BP$138,2,FALSE)","v":0},{"$f":"'Budget FCFA'!G16/VLOOKUP(G$2,$BO$127:$BP$138,2,FALSE)","v":0},{"$f":"'Budget FCFA'!H16/VLOOKUP(H$2,$BO$127:$BP$138,2,FALSE)","v":0.16},{"$f":"'Budget FCFA'!I16/VLOOKUP(I$2,$BO$127:$BP$138,2,FALSE)","v":0},{"$f":"'Budget FCFA'!J16/VLOOKUP(J$2,$BO$127:$BP$138,2,FALSE)","v":0},{"$f":"'Budget FCFA'!K16/VLOOKUP(K$2,$BO$127:$BP$138,2,FALSE)","v":0},{"$f":"'Budget FCFA'!L16/VLOOKUP(L$2,$BO$127:$BP$138,2,FALSE)","v":0},{"$f":"'Budget FCFA'!M16/VLOOKUP(M$2,$BO$127:$BP$138,2,FALSE)","v":23.44},{"$f":"'Budget FCFA'!N16/VLOOKUP(N$2,$BO$127:$BP$138,2,FALSE)","v":0},{"$f":"'Budget FCFA'!O16/VLOOKUP(O$2,$BO$127:$BP$138,2,FALSE)","v":0},{"$f":"'Budget FCFA'!P16/VLOOKUP(P$2,$BO$127:$BP$138,2,FALSE)","v":0},{"$f":"'Budget FCFA'!Q16/VLOOKUP(Q$2,$BO$127:$BP$138,2,FALSE)","v":0},{"$f":"'Budget FCFA'!R16/VLOOKUP(R$2,$BO$127:$BP$138,2,FALSE)","v":-56.76},{"$f":"'Budget FCFA'!S16/VLOOKUP(S$2,$BO$127:$BP$138,2,FALSE)","v":0},{"$f":"'Budget FCFA'!T16/VLOOKUP(T$2,$BO$127:$BP$138,2,FALSE)","v":0},{"$f":"'Budget FCFA'!U16/VLOOKUP(U$2,$BO$127:$BP$138,2,FALSE)","v":0},{"$f":"'Budget FCFA'!V16/VLOOKUP(V$2,$BO$127:$BP$138,2,FALSE)","v":0},{"$f":"'Budget FCFA'!W16/VLOOKUP(W$2,$BO$127:$BP$138,2,FALSE)","v":29.65},{"$f":"'Budget FCFA'!X16/VLOOKUP(X$2,$BO$127:$BP$138,2,FALSE)","v":0},{"$f":"'Budget FCFA'!Y16/VLOOKUP(Y$2,$BO$127:$BP$138,2,FALSE)","v":0},{"$f":"'Budget FCFA'!Z16/VLOOKUP(Z$2,$BO$127:$BP$138,2,FALSE)","v":0},{"$f":"'Budget FCFA'!AA16/VLOOKUP(AA$2,$BO$127:$BP$138,2,FALSE)","v":0},{"$f":"'Budget FCFA'!AB16/VLOOKUP(AB$2,$BO$127:$BP$138,2,FALSE)","v":0},{"$f":"'Budget FCFA'!AC16/VLOOKUP(AC$2,$BO$127:$BP$138,2,FALSE)","v":0},{"$f":"'Budget FCFA'!AD16/VLOOKUP(AD$2,$BO$127:$BP$138,2,FALSE)","v":0},{"$f":"'Budget FCFA'!AE16/VLOOKUP(AE$2,$BO$127:$BP$138,2,FALSE)","v":0},{"$f":"'Budget FCFA'!AF16/VLOOKUP(AF$2,$BO$127:$BP$138,2,FALSE)","v":4.9923891518014116},{"$f":"'Budget FCFA'!AG16/VLOOKUP(AG$2,$BO$127:$BP$138,2,FALSE)","v":0},{"$f":"'Budget FCFA'!AH16/VLOOKUP(AH$2,$BO$127:$BP$138,2,FALSE)","v":0},{"$f":"'Budget FCFA'!AI16/VLOOKUP(AI$2,$BO$127:$BP$138,2,FALSE)","v":0},{"$f":"'Budget FCFA'!AJ16/VLOOKUP(AJ$2,$BO$127:$BP$138,2,FALSE)","v":0},{"$f":"'Budget FCFA'!AK16/VLOOKUP(AK$2,$BO$127:$BP$138,2,FALSE)","v":0},{"$f":"'Budget FCFA'!AL16/VLOOKUP(AL$2,$BO$127:$BP$138,2,FALSE)","v":0},{"$f":"'Budget FCFA'!AM16/VLOOKUP(AM$2,$BO$127:$BP$138,2,FALSE)","v":0},{"$f":"'Budget FCFA'!AN16/VLOOKUP(AN$2,$BO$127:$BP$138,2,FALSE)","v":0},{"$f":"'Budget FCFA'!AO16/VLOOKUP(AO$2,$BO$127:$BP$138,2,FALSE)","v":0},{"$f":"'Budget FCFA'!AP16/VLOOKUP(AP$2,$BO$127:$BP$138,2,FALSE)","v":0},{"$f":"'Budget FCFA'!#REF!/VLOOKUP(AQ$2,$BO$127:$BP$138,2,FALSE)","v":{"$error":"#REF!"}},{"$f":"'Budget FCFA'!#REF!/VLOOKUP(AR$2,$BO$127:$BP$138,2,FALSE)","v":{"$error":"#REF!"}},{"$f":"'Budget FCFA'!#REF!/VLOOKUP(AS$2,$BO$127:$BP$138,2,FALSE)","v":{"$error":"#REF!"}},{"$f":"'Budget FCFA'!#REF!/VLOOKUP(AT$2,$BO$127:$BP$138,2,FALSE)","v":{"$error":"#REF!"}},{"$f":"'Budget FCFA'!#REF!/VLOOKUP(AU$2,$BO$127:$BP$138,2,FALSE)","v":{"$error":"#REF!"}},{"$f":"'Budget FCFA'!#REF!/VLOOKUP(AV$2,$BO$127:$BP$138,2,FALSE)","v":{"$error":"#REF!"}},{"$f":"'Budget FCFA'!#REF!/VLOOKUP(AW$2,$BO$127:$BP$138,2,FALSE)","v":{"$error":"#REF!"}},{"$f":"'Budget FCFA'!#REF!/VLOOKUP(AX$2,$BO$127:$BP$138,2,FALSE)","v":{"$error":"#REF!"}},{"$f":"'Budget FCFA'!#REF!/VLOOKUP(AY$2,$BO$127:$BP$138,2,FALSE)","v":{"$error":"#REF!"}},{"$f":"'Budget FCFA'!#REF!/VLOOKUP(AZ$2,$BO$127:$BP$138,2,FALSE)","v":{"$error":"#REF!"}},{"$f":"'Budget FCFA'!#REF!/VLOOKUP(BA$2,$BO$127:$BP$138,2,FALSE)","v":{"$error":"#REF!"}},{"$f":"'Budget FCFA'!#REF!/VLOOKUP(BB$2,$BO$127:$BP$138,2,FALSE)","v":{"$error":"#REF!"}},{"$f":"'Budget FCFA'!#REF!/VLOOKUP(BC$2,$BO$127:$BP$138,2,FALSE)","v":{"$error":"#REF!"}},{"$f":"'Budget FCFA'!#REF!/VLOOKUP(BD$2,$BO$127:$BP$138,2,FALSE)","v":{"$error":"#REF!"}},{"$f":"'Budget FCFA'!#REF!/VLOOKUP(BE$2,$BO$127:$BP$138,2,FALSE)","v":{"$error":"#REF!"}},{"$f":"'Budget FCFA'!#REF!/VLOOKUP(BF$2,$BO$127:$BP$138,2,FALSE)","v":{"$error":"#REF!"}},{"$f":"'Budget FCFA'!#REF!/VLOOKUP(BG$2,$BO$127:$BP$138,2,FALSE)","v":{"$error":"#REF!"}},{"$f":"'Budget FCFA'!#REF!/VLOOKUP(BH$2,$BO$127:$BP$138,2,FALSE)","v":{"$error":"#REF!"}},{"$f":"'Budget FCFA'!#REF!/VLOOKUP(BI$2,$BO$127:$BP$138,2,FALSE)","v":{"$error":"#REF!"}},{"$f":"'Budget FCFA'!#REF!/VLOOKUP(BJ$2,$BO$127:$BP$138,2,FALSE)","v":{"$error":"#REF!"}},{"$error":"#REF!"},{"$f":"BK16-'Budget FCFA'!#REF!","v":{"$error":"#REF!"}}]
["PUBCATAL","ABIDJAN","EVE / Gravure tract ",{"$f":"'Budget FCFA'!D17/VLOOKUP(D$2,$BO$127:$BP$138,2,FALSE)","v":0},{"$f":"'Budget FCFA'!E17/VLOOKUP(E$2,$BO$127:$BP$138,2,FALSE)","v":0},{"$f":"'Budget FCFA'!F17/VLOOKUP(F$2,$BO$127:$BP$138,2,FALSE)","v":0},{"$f":"'Budget FCFA'!G17/VLOOKUP(G$2,$BO$127:$BP$138,2,FALSE)","v":0},{"$f":"'Budget FCFA'!H17/VLOOKUP(H$2,$BO$127:$BP$138,2,FALSE)","v":0},{"$f":"'Budget FCFA'!I17/VLOOKUP(I$2,$BO$127:$BP$138,2,FALSE)","v":0},{"$f":"'Budget FCFA'!J17/VLOOKUP(J$2,$BO$127:$BP$138,2,FALSE)","v":0},{"$f":"'Budget FCFA'!K17/VLOOKUP(K$2,$BO$127:$BP$138,2,FALSE)","v":0},{"$f":"'Budget FCFA'!L17/VLOOKUP(L$2,$BO$127:$BP$138,2,FALSE)","v":0},{"$f":"'Budget FCFA'!M17/VLOOKUP(M$2,$BO$127:$BP$138,2,FALSE)","v":0},{"$f":"'Budget FCFA'!N17/VLOOKUP(N$2,$BO$127:$BP$138,2,FALSE)","v":0},{"$f":"'Budget FCFA'!O17/VLOOKUP(O$2,$BO$127:$BP$138,2,FALSE)","v":0},{"$f":"'Budget FCFA'!P17/VLOOKUP(P$2,$BO$127:$BP$138,2,FALSE)","v":0},{"$f":"'Budget FCFA'!Q17/VLOOKUP(Q$2,$BO$127:$BP$138,2,FALSE)","v":0},{"$f":"'Budget FCFA'!R17/VLOOKUP(R$2,$BO$127:$BP$138,2,FALSE)","v":374.4},{"$f":"'Budget FCFA'!S17/VLOOKUP(S$2,$BO$127:$BP$138,2,FALSE)","v":0},{"$f":"'Budget FCFA'!T17/VLOOKUP(T$2,$BO$127:$BP$138,2,FALSE)","v":0},{"$f":"'Budget FCFA'!U17/VLOOKUP(U$2,$BO$127:$BP$138,2,FALSE)","v":0},{"$f":"'Budget FCFA'!V17/VLOOKUP(V$2,$BO$127:$BP$138,2,FALSE)","v":0},{"$f":"'Budget FCFA'!W17/VLOOKUP(W$2,$BO$127:$BP$138,2,FALSE)","v":0},{"$f":"'Budget FCFA'!X17/VLOOKUP(X$2,$BO$127:$BP$138,2,FALSE)","v":0},{"$f":"'Budget FCFA'!Y17/VLOOKUP(Y$2,$BO$127:$BP$138,2,FALSE)","v":0},{"$f":"'Budget FCFA'!Z17/VLOOKUP(Z$2,$BO$127:$BP$138,2,FALSE)","v":0},{"$f":"'Budget FCFA'!AA17/VLOOKUP(AA$2,$BO$127:$BP$138,2,FALSE)","v":0},{"$f":"'Budget FCFA'!AB17/VLOOKUP(AB$2,$BO$127:$BP$138,2,FALSE)","v":0},{"$f":"'Budget FCFA'!AC17/VLOOKUP(AC$2,$BO$127:$BP$138,2,FALSE)","v":0},{"$f":"'Budget FCFA'!AD17/VLOOKUP(AD$2,$BO$127:$BP$138,2,FALSE)","v":0},{"$f":"'Budget FCFA'!AE17/VLOOKUP(AE$2,$BO$127:$BP$138,2,FALSE)","v":0},{"$f":"'Budget FCFA'!AF17/VLOOKUP(AF$2,$BO$127:$BP$138,2,FALSE)","v":0},{"$f":"'Budget FCFA'!AG17/VLOOKUP(AG$2,$BO$127:$BP$138,2,FALSE)","v":0},{"$f":"'Budget FCFA'!AH17/VLOOKUP(AH$2,$BO$127:$BP$138,2,FALSE)","v":0},{"$f":"'Budget FCFA'!AI17/VLOOKUP(AI$2,$BO$127:$BP$138,2,FALSE)","v":0},{"$f":"'Budget FCFA'!AJ17/VLOOKUP(AJ$2,$BO$127:$BP$138,2,FALSE)","v":0},{"$f":"'Budget FCFA'!AK17/VLOOKUP(AK$2,$BO$127:$BP$138,2,FALSE)","v":0},{"$f":"'Budget FCFA'!AL17/VLOOKUP(AL$2,$BO$127:$BP$138,2,FALSE)","v":0},{"$f":"'Budget FCFA'!AM17/VLOOKUP(AM$2,$BO$127:$BP$138,2,FALSE)","v":0},{"$f":"'Budget FCFA'!AN17/VLOOKUP(AN$2,$BO$127:$BP$138,2,FALSE)","v":0},{"$f":"'Budget FCFA'!AO17/VLOOKUP(AO$2,$BO$127:$BP$138,2,FALSE)","v":0},{"$f":"'Budget FCFA'!AP17/VLOOKUP(AP$2,$BO$127:$BP$138,2,FALSE)","v":0},{"$f":"'Budget FCFA'!#REF!/VLOOKUP(AQ$2,$BO$127:$BP$138,2,FALSE)","v":{"$error":"#REF!"}},{"$f":"'Budget FCFA'!#REF!/VLOOKUP(AR$2,$BO$127:$BP$138,2,FALSE)","v":{"$error":"#REF!"}},{"$f":"'Budget FCFA'!#REF!/VLOOKUP(AS$2,$BO$127:$BP$138,2,FALSE)","v":{"$error":"#REF!"}},{"$f":"'Budget FCFA'!#REF!/VLOOKUP(AT$2,$BO$127:$BP$138,2,FALSE)","v":{"$error":"#REF!"}},{"$f":"'Budget FCFA'!#REF!/VLOOKUP(AU$2,$BO$127:$BP$138,2,FALSE)","v":{"$error":"#REF!"}},{"$f":"'Budget FCFA'!#REF!/VLOOKUP(AV$2,$BO$127:$BP$138,2,FALSE)","v":{"$error":"#REF!"}},{"$f":"'Budget FCFA'!#REF!/VLOOKUP(AW$2,$BO$127:$BP$138,2,FALSE)","v":{"$error":"#REF!"}},{"$f":"'Budget FCFA'!#REF!/VLOOKUP(AX$2,$BO$127:$BP$138,2,FALSE)","v":{"$error":"#REF!"}},{"$f":"'Budget FCFA'!#REF!/VLOOKUP(AY$2,$BO$127:$BP$138,2,FALSE)","v":{"$error":"#REF!"}},{"$f":"'Budget FCFA'!#REF!/VLOOKUP(AZ$2,$BO$127:$BP$138,2,FALSE)","v":{"$error":"#REF!"}},{"$f":"'Budget FCFA'!#REF!/VLOOKUP(BA$2,$BO$127:$BP$138,2,FALSE)","v":{"$error":"#REF!"}},{"$f":"'Budget FCFA'!#REF!/VLOOKUP(BB$2,$BO$127:$BP$138,2,FALSE)","v":{"$error":"#REF!"}},{"$f":"'Budget FCFA'!#REF!/VLOOKUP(BC$2,$BO$127:$BP$138,2,FALSE)","v":{"$error":"#REF!"}},{"$f":"'Budget FCFA'!#REF!/VLOOKUP(BD$2,$BO$127:$BP$138,2,FALSE)","v":{"$error":"#REF!"}},{"$f":"'Budget FCFA'!#REF!/VLOOKUP(BE$2,$BO$127:$BP$138,2,FALSE)","v":{"$error":"#REF!"}},{"$f":"'Budget FCFA'!#REF!/VLOOKUP(BF$2,$BO$127:$BP$138,2,FALSE)","v":{"$error":"#REF!"}},{"$f":"'Budget FCFA'!#REF!/VLOOKUP(BG$2,$BO$127:$BP$138,2,FALSE)","v":{"$error":"#REF!"}},{"$f":"'Budget FCFA'!#REF!/VLOOKUP(BH$2,$BO$127:$BP$138,2,FALSE)","v":{"$error":"#REF!"}},{"$f":"'Budget FCFA'!#REF!/VLOOKUP(BI$2,$BO$127:$BP$138,2,FALSE)","v":{"$error":"#REF!"}},{"$f":"'Budget FCFA'!#REF!/VLOOKUP(BJ$2,$BO$127:$BP$138,2,FALSE)","v":{"$error":"#REF!"}},{"$error":"#REF!"},{"$f":"BK17-'Budget FCFA'!#REF!","v":{"$error":"#REF!"}}]
["PUBCATAL","BRAZZA","EVE / Gravure tract ",{"$f":"'Budget FCFA'!D18/VLOOKUP(D$2,$BO$127:$BP$138,2,FALSE)","v":0},{"$f":"'Budget FCFA'!E18/VLOOKUP(E$2,$BO$127:$BP$138,2,FALSE)","v":0},{"$f":"'Budget FCFA'!F18/VLOOKUP(F$2,$BO$127:$BP$138,2,FALSE)","v":0},{"$f":"'Budget FCFA'!G18/VLOOKUP(G$2,$BO$127:$BP$138,2,FALSE)","v":0},{"$f":"'Budget FCFA'!H18/VLOOKUP(H$2,$BO$127:$BP$138,2,FALSE)","v":0},{"$f":"'Budget FCFA'!I18/VLOOKUP(I$2,$BO$127:$BP$138,2,FALSE)","v":0},{"$f":"'Budget FCFA'!J18/VLOOKUP(J$2,$BO$127:$BP$138,2,FALSE)","v":0},{"$f":"'Budget FCFA'!K18/VLOOKUP(K$2,$BO$127:$BP$138,2,FALSE)","v":0},{"$f":"'Budget FCFA'!L18/VLOOKUP(L$2,$BO$127:$BP$138,2,FALSE)","v":0},{"$f":"'Budget FCFA'!M18/VLOOKUP(M$2,$BO$127:$BP$138,2,FALSE)","v":0},{"$f":"'Budget FCFA'!N18/VLOOKUP(N$2,$BO$127:$BP$138,2,FALSE)","v":0},{"$f":"'Budget FCFA'!O18/VLOOKUP(O$2,$BO$127:$BP$138,2,FALSE)","v":0},{"$f":"'Budget FCFA'!P18/VLOOKUP(P$2,$BO$127:$BP$138,2,FALSE)","v":0},{"$f":"'Budget FCFA'!Q18/VLOOKUP(Q$2,$BO$127:$BP$138,2,FALSE)","v":0},{"$f":"'Budget FCFA'!R18/VLOOKUP(R$2,$BO$127:$BP$138,2,FALSE)","v":72.54000000000002},{"$f":"'Budget FCFA'!S18/VLOOKUP(S$2,$BO$127:$BP$138,2,FALSE)","v":0},{"$f":"'Budget FCFA'!T18/VLOOKUP(T$2,$BO$127:$BP$138,2,FALSE)","v":0},{"$f":"'Budget FCFA'!U18/VLOOKUP(U$2,$BO$127:$BP$138,2,FALSE)","v":0},{"$f":"'Budget FCFA'!V18/VLOOKUP(V$2,$BO$127:$BP$138,2,FALSE)","v":0},{"$f":"'Budget FCFA'!W18/VLOOKUP(W$2,$BO$127:$BP$138,2,FALSE)","v":0},{"$f":"'Budget FCFA'!X18/VLOOKUP(X$2,$BO$127:$BP$138,2,FALSE)","v":0},{"$f":"'Budget FCFA'!Y18/VLOOKUP(Y$2,$BO$127:$BP$138,2,FALSE)","v":0},{"$f":"'Budget FCFA'!Z18/VLOOKUP(Z$2,$BO$127:$BP$138,2,FALSE)","v":0},{"$f":"'Budget FCFA'!AA18/VLOOKUP(AA$2,$BO$127:$BP$138,2,FALSE)","v":0},{"$f":"'Budget FCFA'!AB18/VLOOKUP(AB$2,$BO$127:$BP$138,2,FALSE)","v":0},{"$f":"'Budget FCFA'!AC18/VLOOKUP(AC$2,$BO$127:$BP$138,2,FALSE)","v":0},{"$f":"'Budget FCFA'!AD18/VLOOKUP(AD$2,$BO$127:$BP$138,2,FALSE)","v":0},{"$f":"'Budget FCFA'!AE18/VLOOKUP(AE$2,$BO$127:$BP$138,2,FALSE)","v":0},{"$f":"'Budget FCFA'!AF18/VLOOKUP(AF$2,$BO$127:$BP$138,2,FALSE)","v":0},{"$f":"'Budget FCFA'!AG18/VLOOKUP(AG$2,$BO$127:$BP$138,2,FALSE)","v":0},{"$f":"'Budget FCFA'!AH18/VLOOKUP(AH$2,$BO$127:$BP$138,2,FALSE)","v":0},{"$f":"'Budget FCFA'!AI18/VLOOKUP(AI$2,$BO$127:$BP$138,2,FALSE)","v":0},{"$f":"'Budget FCFA'!AJ18/VLOOKUP(AJ$2,$BO$127:$BP$138,2,FALSE)","v":0},{"$f":"'Budget FCFA'!AK18/VLOOKUP(AK$2,$BO$127:$BP$138,2,FALSE)","v":0},{"$f":"'Budget FCFA'!AL18/VLOOKUP(AL$2,$BO$127:$BP$138,2,FALSE)","v":0},{"$f":"'Budget FCFA'!AM18/VLOOKUP(AM$2,$BO$127:$BP$138,2,FALSE)","v":0},{"$f":"'Budget FCFA'!AN18/VLOOKUP(AN$2,$BO$127:$BP$138,2,FALSE)","v":0},{"$f":"'Budget FCFA'!AO18/VLOOKUP(AO$2,$BO$127:$BP$138,2,FALSE)","v":0},{"$f":"'Budget FCFA'!AP18/VLOOKUP(AP$2,$BO$127:$BP$138,2,FALSE)","v":0},{"$f":"'Budget FCFA'!#REF!/VLOOKUP(AQ$2,$BO$127:$BP$138,2,FALSE)","v":{"$error":"#REF!"}},{"$f":"'Budget FCFA'!#REF!/VLOOKUP(AR$2,$BO$127:$BP$138,2,FALSE)","v":{"$error":"#REF!"}},{"$f":"'Budget FCFA'!#REF!/VLOOKUP(AS$2,$BO$127:$BP$138,2,FALSE)","v":{"$error":"#REF!"}},{"$f":"'Budget FCFA'!#REF!/VLOOKUP(AT$2,$BO$127:$BP$138,2,FALSE)","v":{"$error":"#REF!"}},{"$f":"'Budget FCFA'!#REF!/VLOOKUP(AU$2,$BO$127:$BP$138,2,FALSE)","v":{"$error":"#REF!"}},{"$f":"'Budget FCFA'!#REF!/VLOOKUP(AV$2,$BO$127:$BP$138,2,FALSE)","v":{"$error":"#REF!"}},{"$f":"'Budget FCFA'!#REF!/VLOOKUP(AW$2,$BO$127:$BP$138,2,FALSE)","v":{"$error":"#REF!"}},{"$f":"'Budget FCFA'!#REF!/VLOOKUP(AX$2,$BO$127:$BP$138,2,FALSE)","v":{"$error":"#REF!"}},{"$f":"'Budget FCFA'!#REF!/VLOOKUP(AY$2,$BO$127:$BP$138,2,FALSE)","v":{"$error":"#REF!"}},{"$f":"'Budget FCFA'!#REF!/VLOOKUP(AZ$2,$BO$127:$BP$138,2,FALSE)","v":{"$error":"#REF!"}},{"$f":"'Budget FCFA'!#REF!/VLOOKUP(BA$2,$BO$127:$BP$138,2,FALSE)","v":{"$error":"#REF!"}},{"$f":"'Budget FCFA'!#REF!/VLOOKUP(BB$2,$BO$127:$BP$138,2,FALSE)","v":{"$error":"#REF!"}},{"$f":"'Budget FCFA'!#REF!/VLOOKUP(BC$2,$BO$127:$BP$138,2,FALSE)","v":{"$error":"#REF!"}},{"$f":"'Budget FCFA'!#REF!/VLOOKUP(BD$2,$BO$127:$BP$138,2,FALSE)","v":{"$error":"#REF!"}},{"$f":"'Budget FCFA'!#REF!/VLOOKUP(BE$2,$BO$127:$BP$138,2,FALSE)","v":{"$error":"#REF!"}},{"$f":"'Budget FCFA'!#REF!/VLOOKUP(BF$2,$BO$127:$BP$138,2,FALSE)","v":{"$error":"#REF!"}},{"$f":"'Budget FCFA'!#REF!/VLOOKUP(BG$2,$BO$127:$BP$138,2,FALSE)","v":{"$error":"#REF!"}},{"$f":"'Budget FCFA'!#REF!/VLOOKUP(BH$2,$BO$127:$BP$138,2,FALSE)","v":{"$error":"#REF!"}},{"$f":"'Budget FCFA'!#REF!/VLOOKUP(BI$2,$BO$127:$BP$138,2,FALSE)","v":{"$error":"#REF!"}},{"$f":"'Budget FCFA'!#REF!/VLOOKUP(BJ$2,$BO$127:$BP$138,2,FALSE)","v":{"$error":"#REF!"}},{"$error":"#REF!"},{"$f":"BK18-'Budget FCFA'!#REF!","v":{"$error":"#REF!"}}]
["PUBCATAL","DAKAR","EVE / Gravure tract ",{"$f":"'Budget FCFA'!D19/VLOOKUP(D$2,$BO$127:$BP$138,2,FALSE)","v":0},{"$f":"'Budget FCFA'!E19/VLOOKUP(E$2,$BO$127:$BP$138,2,FALSE)","v":0},{"$f":"'Budget FCFA'!F19/VLOOKUP(F$2,$BO$127:$BP$138,2,FALSE)","v":0},{"$f":"'Budget FCFA'!G19/VLOOKUP(G$2,$BO$127:$BP$138,2,FALSE)","v":0},{"$f":"'Budget FCFA'!H19/VLOOKUP(H$2,$BO$127:$BP$138,2,FALSE)","v":0},{"$f":"'Budget FCFA'!I19/VLOOKUP(I$2,$BO$127:$BP$138,2,FALSE)","v":0},{"$f":"'Budget FCFA'!J19/VLOOKUP(J$2,$BO$127:$BP$138,2,FALSE)","v":0},{"$f":"'Budget FCFA'!K19/VLOOKUP(K$2,$BO$127:$BP$138,2,FALSE)","v":0},{"$f":"'Budget FCFA'!L19/VLOOKUP(L$2,$BO$127:$BP$138,2,FALSE)","v":0},{"$f":"'Budget FCFA'!M19/VLOOKUP(M$2,$BO$127:$BP$138,2,FALSE)","v":0},{"$f":"'Budget FCFA'!N19/VLOOKUP(N$2,$BO$127:$BP$138,2,FALSE)","v":0},{"$f":"'Budget FCFA'!O19/VLOOKUP(O$2,$BO$127:$BP$138,2,FALSE)","v":0},{"$f":"'Budget FCFA'!P19/VLOOKUP(P$2,$BO$127:$BP$138,2,FALSE)","v":0},{"$f":"'Budget FCFA'!Q19/VLOOKUP(Q$2,$BO$127:$BP$138,2,FALSE)","v":0},{"$f":"'Budget FCFA'!R19/VLOOKUP(R$2,$BO$127:$BP$138,2,FALSE)","v":97.5},{"$f":"'Budget FCFA'!S19/VLOOKUP(S$2,$BO$127:$BP$138,2,FALSE)","v":0},{"$f":"'Budget FCFA'!T19/VLOOKUP(T$2,$BO$127:$BP$138,2,FALSE)","v":0},{"$f":"'Budget FCFA'!U19/VLOOKUP(U$2,$BO$127:$BP$138,2,FALSE)","v":0},{"$f":"'Budget FCFA'!V19/VLOOKUP(V$2,$BO$127:$BP$138,2,FALSE)","v":0},{"$f":"'Budget FCFA'!W19/VLOOKUP(W$2,$BO$127:$BP$138,2,FALSE)","v":0},{"$f":"'Budget FCFA'!X19/VLOOKUP(X$2,$BO$127:$BP$138,2,FALSE)","v":0},{"$f":"'Budget FCFA'!Y19/VLOOKUP(Y$2,$BO$127:$BP$138,2,FALSE)","v":0},{"$f":"'Budget FCFA'!Z19/VLOOKUP(Z$2,$BO$127:$BP$138,2,FALSE)","v":0},{"$f":"'Budget FCFA'!AA19/VLOOKUP(AA$2,$BO$127:$BP$138,2,FALSE)","v":0},{"$f":"'Budget FCFA'!AB19/VLOOKUP(AB$2,$BO$127:$BP$138,2,FALSE)","v":0},{"$f":"'Budget FCFA'!AC19/VLOOKUP(AC$2,$BO$127:$BP$138,2,FALSE)","v":0},{"$f":"'Budget FCFA'!AD19/VLOOKUP(AD$2,$BO$127:$BP$138,2,FALSE)","v":0},{"$f":"'Budget FCFA'!AE19/VLOOKUP(AE$2,$BO$127:$BP$138,2,FALSE)","v":0},{"$f":"'Budget FCFA'!AF19/VLOOKUP(AF$2,$BO$127:$BP$138,2,FALSE)","v":0},{"$f":"'Budget FCFA'!AG19/VLOOKUP(AG$2,$BO$127:$BP$138,2,FALSE)","v":0},{"$f":"'Budget FCFA'!AH19/VLOOKUP(AH$2,$BO$127:$BP$138,2,FALSE)","v":0},{"$f":"'Budget FCFA'!AI19/VLOOKUP(AI$2,$BO$127:$BP$138,2,FALSE)","v":0},{"$f":"'Budget FCFA'!AJ19/VLOOKUP(AJ$2,$BO$127:$BP$138,2,FALSE)","v":0},{"$f":"'Budget FCFA'!AK19/VLOOKUP(AK$2,$BO$127:$BP$138,2,FALSE)","v":0},{"$f":"'Budget FCFA'!AL19/VLOOKUP(AL$2,$BO$127:$BP$138,2,FALSE)","v":0},{"$f":"'Budget FCFA'!AM19/VLOOKUP(AM$2,$BO$127:$BP$138,2,FALSE)","v":0},{"$f":"'Budget FCFA'!AN19/VLOOKUP(AN$2,$BO$127:$BP$138,2,FALSE)","v":0},{"$f":"'Budget FCFA'!AO19/VLOOKUP(AO$2,$BO$127:$BP$138,2,FALSE)","v":0},{"$f":"'Budget FCFA'!AP19/VLOOKUP(AP$2,$BO$127:$BP$138,2,FALSE)","v":0},{"$f":"'Budget FCFA'!#REF!/VLOOKUP(AQ$2,$BO$127:$BP$138,2,FALSE)","v":{"$error":"#REF!"}},{"$f":"'Budget FCFA'!#REF!/VLOOKUP(AR$2,$BO$127:$BP$138,2,FALSE)","v":{"$error":"#REF!"}},{"$f":"'Budget FCFA'!#REF!/VLOOKUP(AS$2,$BO$127:$BP$138,2,FALSE)","v":{"$error":"#REF!"}},{"$f":"'Budget FCFA'!#REF!/VLOOKUP(AT$2,$BO$127:$BP$138,2,FALSE)","v":{"$error":"#REF!"}},{"$f":"'Budget FCFA'!#REF!/VLOOKUP(AU$2,$BO$127:$BP$138,2,FALSE)","v":{"$error":"#REF!"}},{"$f":"'Budget FCFA'!#REF!/VLOOKUP(AV$2,$BO$127:$BP$138,2,FALSE)","v":{"$error":"#REF!"}},{"$f":"'Budget FCFA'!#REF!/VLOOKUP(AW$2,$BO$127:$BP$138,2,FALSE)","v":{"$error":"#REF!"}},{"$f":"'Budget FCFA'!#REF!/VLOOKUP(AX$2,$BO$127:$BP$138,2,FALSE)","v":{"$error":"#REF!"}},{"$f":"'Budget FCFA'!#REF!/VLOOKUP(AY$2,$BO$127:$BP$138,2,FALSE)","v":{"$error":"#REF!"}},{"$f":"'Budget FCFA'!#REF!/VLOOKUP(AZ$2,$BO$127:$BP$138,2,FALSE)","v":{"$error":"#REF!"}},{"$f":"'Budget FCFA'!#REF!/VLOOKUP(BA$2,$BO$127:$BP$138,2,FALSE)","v":{"$error":"#REF!"}},{"$f":"'Budget FCFA'!#REF!/VLOOKUP(BB$2,$BO$127:$BP$138,2,FALSE)","v":{"$error":"#REF!"}},{"$f":"'Budget FCFA'!#REF!/VLOOKUP(BC$2,$BO$127:$BP$138,2,FALSE)","v":{"$error":"#REF!"}},{"$f":"'Budget FCFA'!#REF!/VLOOKUP(BD$2,$BO$127:$BP$138,2,FALSE)","v":{"$error":"#REF!"}},{"$f":"'Budget FCFA'!#REF!/VLOOKUP(BE$2,$BO$127:$BP$138,2,FALSE)","v":{"$error":"#REF!"}},{"$f":"'Budget FCFA'!#REF!/VLOOKUP(BF$2,$BO$127:$BP$138,2,FALSE)","v":{"$error":"#REF!"}},{"$f":"'Budget FCFA'!#REF!/VLOOKUP(BG$2,$BO$127:$BP$138,2,FALSE)","v":{"$error":"#REF!"}},{"$f":"'Budget FCFA'!#REF!/VLOOKUP(BH$2,$BO$127:$BP$138,2,FALSE)","v":{"$error":"#REF!"}},{"$f":"'Budget FCFA'!#REF!/VLOOKUP(BI$2,$BO$127:$BP$138,2,FALSE)","v":{"$error":"#REF!"}},{"$f":"'Budget FCFA'!#REF!/VLOOKUP(BJ$2,$BO$127:$BP$138,2,FALSE)","v":{"$error":"#REF!"}},{"$error":"#REF!"},{"$f":"BK19-'Budget FCFA'!#REF!","v":{"$error":"#REF!"}}]
["PUBCATAL","LIBREVILLE","EVE / Gravure tract ",{"$f":"'Budget FCFA'!D20/VLOOKUP(D$2,$BO$127:$BP$138,2,FALSE)","v":0},{"$f":"'Budget FCFA'!E20/VLOOKUP(E$2,$BO$127:$BP$138,2,FALSE)","v":0},{"$f":"'Budget FCFA'!F20/VLOOKUP(F$2,$BO$127:$BP$138,2,FALSE)","v":0},{"$f":"'Budget FCFA'!G20/VLOOKUP(G$2,$BO$127:$BP$138,2,FALSE)","v":0},{"$f":"'Budget FCFA'!H20/VLOOKUP(H$2,$BO$127:$BP$138,2,FALSE)","v":0},{"$f":"'Budget FCFA'!I20/VLOOKUP(I$2,$BO$127:$BP$138,2,FALSE)","v":0},{"$f":"'Budget FCFA'!J20/VLOOKUP(J$2,$BO$127:$BP$138,2,FALSE)","v":0},{"$f":"'Budget FCFA'!K20/VLOOKUP(K$2,$BO$127:$BP$138,2,FALSE)","v":0},{"$f":"'Budget FCFA'!L20/VLOOKUP(L$2,$BO$127:$BP$138,2,FALSE)","v":0},{"$f":"'Budget FCFA'!M20/VLOOKUP(M$2,$BO$127:$BP$138,2,FALSE)","v":0},{"$f":"'Budget FCFA'!N20/VLOOKUP(N$2,$BO$127:$BP$138,2,FALSE)","v":0},{"$f":"'Budget FCFA'!O20/VLOOKUP(O$2,$BO$127:$BP$138,2,FALSE)","v":0},{"$f":"'Budget FCFA'!P20/VLOOKUP(P$2,$BO$127:$BP$138,2,FALSE)","v":0},{"$f":"'Budget FCFA'!Q20/VLOOKUP(Q$2,$BO$127:$BP$138,2,FALSE)","v":0},{"$f":"'Budget FCFA'!R20/VLOOKUP(R$2,$BO$127:$BP$138,2,FALSE)","v":138.06},{"$f":"'Budget FCFA'!S20/VLOOKUP(S$2,$BO$127:$BP$138,2,FALSE)","v":0},{"$f":"'Budget FCFA'!T20/VLOOKUP(T$2,$BO$127:$BP$138,2,FALSE)","v":0},{"$f":"'Budget FCFA'!U20/VLOOKUP(U$2,$BO$127:$BP$138,2,FALSE)","v":0},{"$f":"'Budget FCFA'!V20/VLOOKUP(V$2,$BO$127:$BP$138,2,FALSE)","v":0},{"$f":"'Budget FCFA'!W20/VLOOKUP(W$2,$BO$127:$BP$138,2,FALSE)","v":0},{"$f":"'Budget FCFA'!X20/VLOOKUP(X$2,$BO$127:$BP$138,2,FALSE)","v":0},{"$f":"'Budget FCFA'!Y20/VLOOKUP(Y$2,$BO$127:$BP$138,2,FALSE)","v":0},{"$f":"'Budget FCFA'!Z20/VLOOKUP(Z$2,$BO$127:$BP$138,2,FALSE)","v":0},{"$f":"'Budget FCFA'!AA20/VLOOKUP(AA$2,$BO$127:$BP$138,2,FALSE)","v":0},{"$f":"'Budget FCFA'!AB20/VLOOKUP(AB$2,$BO$127:$BP$138,2,FALSE)","v":0},{"$f":"'Budget FCFA'!AC20/VLOOKUP(AC$2,$BO$127:$BP$138,2,FALSE)","v":0},{"$f":"'Budget FCFA'!AD20/VLOOKUP(AD$2,$BO$127:$BP$138,2,FALSE)","v":0},{"$f":"'Budget FCFA'!AE20/VLOOKUP(AE$2,$BO$127:$BP$138,2,FALSE)","v":0},{"$f":"'Budget FCFA'!AF20/VLOOKUP(AF$2,$BO$127:$BP$138,2,FALSE)","v":0},{"$f":"'Budget FCFA'!AG20/VLOOKUP(AG$2,$BO$127:$BP$138,2,FALSE)","v":0},{"$f":"'Budget FCFA'!AH20/VLOOKUP(AH$2,$BO$127:$BP$138,2,FALSE)","v":0},{"$f":"'Budget FCFA'!AI20/VLOOKUP(AI$2,$BO$127:$BP$138,2,FALSE)","v":0},{"$f":"'Budget FCFA'!AJ20/VLOOKUP(AJ$2,$BO$127:$BP$138,2,FALSE)","v":0},{"$f":"'Budget FCFA'!AK20/VLOOKUP(AK$2,$BO$127:$BP$138,2,FALSE)","v":0},{"$f":"'Budget FCFA'!AL20/VLOOKUP(AL$2,$BO$127:$BP$138,2,FALSE)","v":0},{"$f":"'Budget FCFA'!AM20/VLOOKUP(AM$2,$BO$127:$BP$138,2,FALSE)","v":0},{"$f":"'Budget FCFA'!AN20/VLOOKUP(AN$2,$BO$127:$BP$138,2,FALSE)","v":0},{"$f":"'Budget FCFA'!AO20/VLOOKUP(AO$2,$BO$127:$BP$138,2,FALSE)","v":0},{"$f":"'Budget FCFA'!AP20/VLOOKUP(AP$2,$BO$127:$BP$138,2,FALSE)","v":0},{"$f":"'Budget FCFA'!#REF!/VLOOKUP(AQ$2,$BO$127:$BP$138,2,FALSE)","v":{"$error":"#REF!"}},{"$f":"'Budget FCFA'!#REF!/VLOOKUP(AR$2,$BO$127:$BP$138,2,FALSE)","v":{"$error":"#REF!"}},{"$f":"'Budget FCFA'!#REF!/VLOOKUP(AS$2,$BO$127:$BP$138,2,FALSE)","v":{"$error":"#REF!"}},{"$f":"'Budget FCFA'!#REF!/VLOOKUP(AT$2,$BO$127:$BP$138,2,FALSE)","v":{"$error":"#REF!"}},{"$f":"'Budget FCFA'!#REF!/VLOOKUP(AU$2,$BO$127:$BP$138,2,FALSE)","v":{"$error":"#REF!"}},{"$f":"'Budget FCFA'!#REF!/VLOOKUP(AV$2,$BO$127:$BP$138,2,FALSE)","v":{"$error":"#REF!"}},{"$f":"'Budget FCFA'!#REF!/VLOOKUP(AW$2,$BO$127:$BP$138,2,FALSE)","v":{"$error":"#REF!"}},{"$f":"'Budget FCFA'!#REF!/VLOOKUP(AX$2,$BO$127:$BP$138,2,FALSE)","v":{"$error":"#REF!"}},{"$f":"'Budget FCFA'!#REF!/VLOOKUP(AY$2,$BO$127:$BP$138,2,FALSE)","v":{"$error":"#REF!"}},{"$f":"'Budget FCFA'!#REF!/VLOOKUP(AZ$2,$BO$127:$BP$138,2,FALSE)","v":{"$error":"#REF!"}},{"$f":"'Budget FCFA'!#REF!/VLOOKUP(BA$2,$BO$127:$BP$138,2,FALSE)","v":{"$error":"#REF!"}},{"$f":"'Budget FCFA'!#REF!/VLOOKUP(BB$2,$BO$127:$BP$138,2,FALSE)","v":{"$error":"#REF!"}},{"$f":"'Budget FCFA'!#REF!/VLOOKUP(BC$2,$BO$127:$BP$138,2,FALSE)","v":{"$error":"#REF!"}},{"$f":"'Budget FCFA'!#REF!/VLOOKUP(BD$2,$BO$127:$BP$138,2,FALSE)","v":{"$error":"#REF!"}},{"$f":"'Budget FCFA'!#REF!/VLOOKUP(BE$2,$BO$127:$BP$138,2,FALSE)","v":{"$error":"#REF!"}},{"$f":"'Budget FCFA'!#REF!/VLOOKUP(BF$2,$BO$127:$BP$138,2,FALSE)","v":{"$error":"#REF!"}},{"$f":"'Budget FCFA'!#REF!/VLOOKUP(BG$2,$BO$127:$BP$138,2,FALSE)","v":{"$error":"#REF!"}},{"$f":"'Budget FCFA'!#REF!/VLOOKUP(BH$2,$BO$127:$BP$138,2,FALSE)","v":{"$error":"#REF!"}},{"$f":"'Budget FCFA'!#REF!/VLOOKUP(BI$2,$BO$127:$BP$138,2,FALSE)","v":{"$error":"#REF!"}},{"$f":"'Budget FCFA'!#REF!/VLOOKUP(BJ$2,$BO$127:$BP$138,2,FALSE)","v":{"$error":"#REF!"}},{"$error":"#REF!"},{"$f":"BK20-'Budget FCFA'!#REF!","v":{"$error":"#REF!"}}]
["PUBCATAL","DOUALA","EVE / Gravure tract ",{"$f":"'Budget FCFA'!D21/VLOOKUP(D$2,$BO$127:$BP$138,2,FALSE)","v":0},{"$f":"'Budget FCFA'!E21/VLOOKUP(E$2,$BO$127:$BP$138,2,FALSE)","v":0},{"$f":"'Budget FCFA'!F21/VLOOKUP(F$2,$BO$127:$BP$138,2,FALSE)","v":0},{"$f":"'Budget FCFA'!G21/VLOOKUP(G$2,$BO$127:$BP$138,2,FALSE)","v":0},{"$f":"'Budget FCFA'!H21/VLOOKUP(H$2,$BO$127:$BP$138,2,FALSE)","v":0},{"$f":"'Budget FCFA'!I21/VLOOKUP(I$2,$BO$127:$BP$138,2,FALSE)","v":0},{"$f":"'Budget FCFA'!J21/VLOOKUP(J$2,$BO$127:$BP$138,2,FALSE)","v":0},{"$f":"'Budget FCFA'!K21/VLOOKUP(K$2,$BO$127:$BP$138,2,FALSE)","v":0},{"$f":"'Budget FCFA'!L21/VLOOKUP(L$2,$BO$127:$BP$138,2,FALSE)","v":0},{"$f":"'Budget FCFA'!M21/VLOOKUP(M$2,$BO$127:$BP$138,2,FALSE)","v":0},{"$f":"'Budget FCFA'!N21/VLOOKUP(N$2,$BO$127:$BP$138,2,FALSE)","v":0},{"$f":"'Budget FCFA'!O21/VLOOKUP(O$2,$BO$127:$BP$138,2,FALSE)","v":0},{"$f":"'Budget FCFA'!P21/VLOOKUP(P$2,$BO$127:$BP$138,2,FALSE)","v":0},{"$f":"'Budget FCFA'!Q21/VLOOKUP(Q$2,$BO$127:$BP$138,2,FALSE)","v":0},{"$f":"'Budget FCFA'!R21/VLOOKUP(R$2,$BO$127:$BP$138,2,FALSE)","v":97.5},{"$f":"'Budget FCFA'!S21/VLOOKUP(S$2,$BO$127:$BP$138,2,FALSE)","v":0},{"$f":"'Budget FCFA'!T21/VLOOKUP(T$2,$BO$127:$BP$138,2,FALSE)","v":0},{"$f":"'Budget FCFA'!U21/VLOOKUP(U$2,$BO$127:$BP$138,2,FALSE)","v":0},{"$f":"'Budget FCFA'!V21/VLOOKUP(V$2,$BO$127:$BP$138,2,FALSE)","v":0},{"$f":"'Budget FCFA'!W21/VLOOKUP(W$2,$BO$127:$BP$138,2,FALSE)","v":0},{"$f":"'Budget FCFA'!X21/VLOOKUP(X$2,$BO$127:$BP$138,2,FALSE)","v":0},{"$f":"'Budget FCFA'!Y21/VLOOKUP(Y$2,$BO$127:$BP$138,2,FALSE)","v":0},{"$f":"'Budget FCFA'!Z21/VLOOKUP(Z$2,$BO$127:$BP$138,2,FALSE)","v":0},{"$f":"'Budget FCFA'!AA21/VLOOKUP(AA$2,$BO$127:$BP$138,2,FALSE)","v":0},{"$f":"'Budget FCFA'!AB21/VLOOKUP(AB$2,$BO$127:$BP$138,2,FALSE)","v":0},{"$f":"'Budget FCFA'!AC21/VLOOKUP(AC$2,$BO$127:$BP$138,2,FALSE)","v":0},{"$f":"'Budget FCFA'!AD21/VLOOKUP(AD$2,$BO$127:$BP$138,2,FALSE)","v":0},{"$f":"'Budget FCFA'!AE21/VLOOKUP(AE$2,$BO$127:$BP$138,2,FALSE)","v":0},{"$f":"'Budget FCFA'!AF21/VLOOKUP(AF$2,$BO$127:$BP$138,2,FALSE)","v":0},{"$f":"'Budget FCFA'!AG21/VLOOKUP(AG$2,$BO$127:$BP$138,2,FALSE)","v":0},{"$f":"'Budget FCFA'!AH21/VLOOKUP(AH$2,$BO$127:$BP$138,2,FALSE)","v":0},{"$f":"'Budget FCFA'!AI21/VLOOKUP(AI$2,$BO$127:$BP$138,2,FALSE)","v":0},{"$f":"'Budget FCFA'!AJ21/VLOOKUP(AJ$2,$BO$127:$BP$138,2,FALSE)","v":0},{"$f":"'Budget FCFA'!AK21/VLOOKUP(AK$2,$BO$127:$BP$138,2,FALSE)","v":0},{"$f":"'Budget FCFA'!AL21/VLOOKUP(AL$2,$BO$127:$BP$138,2,FALSE)","v":0},{"$f":"'Budget FCFA'!AM21/VLOOKUP(AM$2,$BO$127:$BP$138,2,FALSE)","v":0},{"$f":"'Budget FCFA'!AN21/VLOOKUP(AN$2,$BO$127:$BP$138,2,FALSE)","v":0},{"$f":"'Budget FCFA'!AO21/VLOOKUP(AO$2,$BO$127:$BP$138,2,FALSE)","v":0},{"$f":"'Budget FCFA'!AP21/VLOOKUP(AP$2,$BO$127:$BP$138,2,FALSE)","v":0},{"$f":"'Budget FCFA'!#REF!/VLOOKUP(AQ$2,$BO$127:$BP$138,2,FALSE)","v":{"$error":"#REF!"}},{"$f":"'Budget FCFA'!#REF!/VLOOKUP(AR$2,$BO$127:$BP$138,2,FALSE)","v":{"$error":"#REF!"}},{"$f":"'Budget FCFA'!#REF!/VLOOKUP(AS$2,$BO$127:$BP$138,2,FALSE)","v":{"$error":"#REF!"}},{"$f":"'Budget FCFA'!#REF!/VLOOKUP(AT$2,$BO$127:$BP$138,2,FALSE)","v":{"$error":"#REF!"}},{"$f":"'Budget FCFA'!#REF!/VLOOKUP(AU$2,$BO$127:$BP$138,2,FALSE)","v":{"$error":"#REF!"}},{"$f":"'Budget FCFA'!#REF!/VLOOKUP(AV$2,$BO$127:$BP$138,2,FALSE)","v":{"$error":"#REF!"}},{"$f":"'Budget FCFA'!#REF!/VLOOKUP(AW$2,$BO$127:$BP$138,2,FALSE)","v":{"$error":"#REF!"}},{"$f":"'Budget FCFA'!#REF!/VLOOKUP(AX$2,$BO$127:$BP$138,2,FALSE)","v":{"$error":"#REF!"}},{"$f":"'Budget FCFA'!#REF!/VLOOKUP(AY$2,$BO$127:$BP$138,2,FALSE)","v":{"$error":"#REF!"}},{"$f":"'Budget FCFA'!#REF!/VLOOKUP(AZ$2,$BO$127:$BP$138,2,FALSE)","v":{"$error":"#REF!"}},{"$f":"'Budget FCFA'!#REF!/VLOOKUP(BA$2,$BO$127:$BP$138,2,FALSE)","v":{"$error":"#REF!"}},{"$f":"'Budget FCFA'!#REF!/VLOOKUP(BB$2,$BO$127:$BP$138,2,FALSE)","v":{"$error":"#REF!"}},{"$f":"'Budget FCFA'!#REF!/VLOOKUP(BC$2,$BO$127:$BP$138,2,FALSE)","v":{"$error":"#REF!"}},{"$f":"'Budget FCFA'!#REF!/VLOOKUP(BD$2,$BO$127:$BP$138,2,FALSE)","v":{"$error":"#REF!"}},{"$f":"'Budget FCFA'!#REF!/VLOOKUP(BE$2,$BO$127:$BP$138,2,FALSE)","v":{"$error":"#REF!"}},{"$f":"'Budget FCFA'!#REF!/VLOOKUP(BF$2,$BO$127:$BP$138,2,FALSE)","v":{"$error":"#REF!"}},{"$f":"'Budget FCFA'!#REF!/VLOOKUP(BG$2,$BO$127:$BP$138,2,FALSE)","v":{"$error":"#REF!"}},{"$f":"'Budget FCFA'!#REF!/VLOOKUP(BH$2,$BO$127:$BP$138,2,FALSE)","v":{"$error":"#REF!"}},{"$f":"'Budget FCFA'!#REF!/VLOOKUP(BI$2,$BO$127:$BP$138,2,FALSE)","v":{"$error":"#REF!"}},{"$f":"'Budget FCFA'!#REF!/VLOOKUP(BJ$2,$BO$127:$BP$138,2,FALSE)","v":{"$error":"#REF!"}},{"$error":"#REF!"},{"$f":"BK21-'Budget FCFA'!#REF!","v":{"$error":"#REF!"}}]
["PUBCATAL","TOTAL","Total Eve / gravure tract",{"$f":"'Budget FCFA'!D22/VLOOKUP(D$2,$BO$127:$BP$138,2,FALSE)","v":0},{"$f":"'Budget FCFA'!E22/VLOOKUP(E$2,$BO$127:$BP$138,2,FALSE)","v":0},{"$f":"'Budget FCFA'!F22/VLOOKUP(F$2,$BO$127:$BP$138,2,FALSE)","v":0},{"$f":"'Budget FCFA'!G22/VLOOKUP(G$2,$BO$127:$BP$138,2,FALSE)","v":0},{"$f":"'Budget FCFA'!H22/VLOOKUP(H$2,$BO$127:$BP$138,2,FALSE)","v":0},{"$f":"'Budget FCFA'!I22/VLOOKUP(I$2,$BO$127:$BP$138,2,FALSE)","v":0},{"$f":"'Budget FCFA'!J22/VLOOKUP(J$2,$BO$127:$BP$138,2,FALSE)","v":0},{"$f":"'Budget FCFA'!K22/VLOOKUP(K$2,$BO$127:$BP$138,2,FALSE)","v":0},{"$f":"'Budget FCFA'!L22/VLOOKUP(L$2,$BO$127:$BP$138,2,FALSE)","v":0},{"$f":"'Budget FCFA'!M22/VLOOKUP(M$2,$BO$127:$BP$138,2,FALSE)","v":0},{"$f":"'Budget FCFA'!N22/VLOOKUP(N$2,$BO$127:$BP$138,2,FALSE)","v":0},{"$f":"'Budget FCFA'!O22/VLOOKUP(O$2,$BO$127:$BP$138,2,FALSE)","v":0},{"$f":"'Budget FCFA'!P22/VLOOKUP(P$2,$BO$127:$BP$138,2,FALSE)","v":0},{"$f":"'Budget FCFA'!Q22/VLOOKUP(Q$2,$BO$127:$BP$138,2,FALSE)","v":0},{"$f":"'Budget FCFA'!R22/VLOOKUP(R$2,$BO$127:$BP$138,2,FALSE)","v":780},{"$f":"'Budget FCFA'!S22/VLOOKUP(S$2,$BO$127:$BP$138,2,FALSE)","v":0},{"$f":"'Budget FCFA'!T22/VLOOKUP(T$2,$BO$127:$BP$138,2,FALSE)","v":0},{"$f":"'Budget FCFA'!U22/VLOOKUP(U$2,$BO$127:$BP$138,2,FALSE)","v":0},{"$f":"'Budget FCFA'!V22/VLOOKUP(V$2,$BO$127:$BP$138,2,FALSE)","v":0},{"$f":"'Budget FCFA'!W22/VLOOKUP(W$2,$BO$127:$BP$138,2,FALSE)","v":0},{"$f":"'Budget FCFA'!X22/VLOOKUP(X$2,$BO$127:$BP$138,2,FALSE)","v":0},{"$f":"'Budget FCFA'!Y22/VLOOKUP(Y$2,$BO$127:$BP$138,2,FALSE)","v":0},{"$f":"'Budget FCFA'!Z22/VLOOKUP(Z$2,$BO$127:$BP$138,2,FALSE)","v":0},{"$f":"'Budget FCFA'!AA22/VLOOKUP(AA$2,$BO$127:$BP$138,2,FALSE)","v":0},{"$f":"'Budget FCFA'!AB22/VLOOKUP(AB$2,$BO$127:$BP$138,2,FALSE)","v":0},{"$f":"'Budget FCFA'!AC22/VLOOKUP(AC$2,$BO$127:$BP$138,2,FALSE)","v":0},{"$f":"'Budget FCFA'!AD22/VLOOKUP(AD$2,$BO$127:$BP$138,2,FALSE)","v":0},{"$f":"'Budget FCFA'!AE22/VLOOKUP(AE$2,$BO$127:$BP$138,2,FALSE)","v":0},{"$f":"'Budget FCFA'!AF22/VLOOKUP(AF$2,$BO$127:$BP$138,2,FALSE)","v":0},{"$f":"'Budget FCFA'!AG22/VLOOKUP(AG$2,$BO$127:$BP$138,2,FALSE)","v":0},{"$f":"'Budget FCFA'!AH22/VLOOKUP(AH$2,$BO$127:$BP$138,2,FALSE)","v":0},{"$f":"'Budget FCFA'!AI22/VLOOKUP(AI$2,$BO$127:$BP$138,2,FALSE)","v":0},{"$f":"'Budget FCFA'!AJ22/VLOOKUP(AJ$2,$BO$127:$BP$138,2,FALSE)","v":0},{"$f":"'Budget FCFA'!AK22/VLOOKUP(AK$2,$BO$127:$BP$138,2,FALSE)","v":0},{"$f":"'Budget FCFA'!AL22/VLOOKUP(AL$2,$BO$127:$BP$138,2,FALSE)","v":0},{"$f":"'Budget FCFA'!AM22/VLOOKUP(AM$2,$BO$127:$BP$138,2,FALSE)","v":0},{"$f":"'Budget FCFA'!AN22/VLOOKUP(AN$2,$BO$127:$BP$138,2,FALSE)","v":0},{"$f":"'Budget FCFA'!AO22/VLOOKUP(AO$2,$BO$127:$BP$138,2,FALSE)","v":0},{"$f":"'Budget FCFA'!AP22/VLOOKUP(AP$2,$BO$127:$BP$138,2,FALSE)","v":0},{"$f":"'Budget FCFA'!#REF!/VLOOKUP(AQ$2,$BO$127:$BP$138,2,FALSE)","v":{"$error":"#REF!"}},{"$f":"'Budget FCFA'!#REF!/VLOOKUP(AR$2,$BO$127:$BP$138,2,FALSE)","v":{"$error":"#REF!"}},{"$f":"'Budget FCFA'!#REF!/VLOOKUP(AS$2,$BO$127:$BP$138,2,FALSE)","v":{"$error":"#REF!"}},{"$f":"'Budget FCFA'!#REF!/VLOOKUP(AT$2,$BO$127:$BP$138,2,FALSE)","v":{"$error":"#REF!"}},{"$f":"'Budget FCFA'!#REF!/VLOOKUP(AU$2,$BO$127:$BP$138,2,FALSE)","v":{"$error":"#REF!"}},{"$f":"'Budget FCFA'!#REF!/VLOOKUP(AV$2,$BO$127:$BP$138,2,FALSE)","v":{"$error":"#REF!"}},{"$f":"'Budget FCFA'!#REF!/VLOOKUP(AW$2,$BO$127:$BP$138,2,FALSE)","v":{"$error":"#REF!"}},{"$f":"'Budget FCFA'!#REF!/VLOOKUP(AX$2,$BO$127:$BP$138,2,FALSE)","v":{"$error":"#REF!"}},{"$f":"'Budget FCFA'!#REF!/VLOOKUP(AY$2,$BO$127:$BP$138,2,FALSE)","v":{"$error":"#REF!"}},{"$f":"'Budget FCFA'!#REF!/VLOOKUP(AZ$2,$BO$127:$BP$138,2,FALSE)","v":{"$error":"#REF!"}},{"$f":"'Budget FCFA'!#REF!/VLOOKUP(BA$2,$BO$127:$BP$138,2,FALSE)","v":{"$error":"#REF!"}},{"$f":"'Budget FCFA'!#REF!/VLOOKUP(BB$2,$BO$127:$BP$138,2,FALSE)","v":{"$error":"#REF!"}},{"$f":"'Budget FCFA'!#REF!/VLOOKUP(BC$2,$BO$127:$BP$138,2,FALSE)","v":{"$error":"#REF!"}},{"$f":"'Budget FCFA'!#REF!/VLOOKUP(BD$2,$BO$127:$BP$138,2,FALSE)","v":{"$error":"#REF!"}},{"$f":"'Budget FCFA'!#REF!/VLOOKUP(BE$2,$BO$127:$BP$138,2,FALSE)","v":{"$error":"#REF!"}},{"$f":"'Budget FCFA'!#REF!/VLOOKUP(BF$2,$BO$127:$BP$138,2,FALSE)","v":{"$error":"#REF!"}},{"$f":"'Budget FCFA'!#REF!/VLOOKUP(BG$2,$BO$127:$BP$138,2,FALSE)","v":{"$error":"#REF!"}},{"$f":"'Budget FCFA'!#REF!/VLOOKUP(BH$2,$BO$127:$BP$138,2,FALSE)","v":{"$error":"#REF!"}},{"$f":"'Budget FCFA'!#REF!/VLOOKUP(BI$2,$BO$127:$BP$138,2,FALSE)","v":{"$error":"#REF!"}},{"$f":"'Budget FCFA'!#REF!/VLOOKUP(BJ$2,$BO$127:$BP$138,2,FALSE)","v":{"$error":"#REF!"}},{"$error":"#REF!"},{"$f":"BK22-'Budget FCFA'!#REF!","v":{"$error":"#REF!"}}]
["PUBCATAL","ABIDJAN","Gravure KIABI GROUPE ",{"$f":"'Budget FCFA'!D23/VLOOKUP(D$2,$BO$127:$BP$138,2,FALSE)","v":0},{"$f":"'Budget FCFA'!E23/VLOOKUP(E$2,$BO$127:$BP$138,2,FALSE)","v":0},{"$f":"'Budget FCFA'!F23/VLOOKUP(F$2,$BO$127:$BP$138,2,FALSE)","v":0},{"$f":"'Budget FCFA'!G23/VLOOKUP(G$2,$BO$127:$BP$138,2,FALSE)","v":0},{"$f":"'Budget FCFA'!H23/VLOOKUP(H$2,$BO$127:$BP$138,2,FALSE)","v":0},{"$f":"'Budget FCFA'!I23/VLOOKUP(I$2,$BO$127:$BP$138,2,FALSE)","v":0},{"$f":"'Budget FCFA'!J23/VLOOKUP(J$2,$BO$127:$BP$138,2,FALSE)","v":0},{"$f":"'Budget FCFA'!K23/VLOOKUP(K$2,$BO$127:$BP$138,2,FALSE)","v":0},{"$f":"'Budget FCFA'!L23/VLOOKUP(L$2,$BO$127:$BP$138,2,FALSE)","v":0},{"$f":"'Budget FCFA'!M23/VLOOKUP(M$2,$BO$127:$BP$138,2,FALSE)","v":0},{"$f":"'Budget FCFA'!N23/VLOOKUP(N$2,$BO$127:$BP$138,2,FALSE)","v":0},{"$f":"'Budget FCFA'!O23/VLOOKUP(O$2,$BO$127:$BP$138,2,FALSE)","v":0},{"$f":"'Budget FCFA'!P23/VLOOKUP(P$2,$BO$127:$BP$138,2,FALSE)","v":0},{"$f":"'Budget FCFA'!Q23/VLOOKUP(Q$2,$BO$127:$BP$138,2,FALSE)","v":0},{"$f":"'Budget FCFA'!R23/VLOOKUP(R$2,$BO$127:$BP$138,2,FALSE)","v":0},{"$f":"'Budget FCFA'!S23/VLOOKUP(S$2,$BO$127:$BP$138,2,FALSE)","v":0},{"$f":"'Budget FCFA'!T23/VLOOKUP(T$2,$BO$127:$BP$138,2,FALSE)","v":0},{"$f":"'Budget FCFA'!U23/VLOOKUP(U$2,$BO$127:$BP$138,2,FALSE)","v":0},{"$f":"'Budget FCFA'!V23/VLOOKUP(V$2,$BO$127:$BP$138,2,FALSE)","v":0},{"$f":"'Budget FCFA'!W23/VLOOKUP(W$2,$BO$127:$BP$138,2,FALSE)","v":0},{"$f":"'Budget FCFA'!X23/VLOOKUP(X$2,$BO$127:$BP$138,2,FALSE)","v":0},{"$f":"'Budget FCFA'!Y23/VLOOKUP(Y$2,$BO$127:$BP$138,2,FALSE)","v":0},{"$f":"'Budget FCFA'!Z23/VLOOKUP(Z$2,$BO$127:$BP$138,2,FALSE)","v":0},{"$f":"'Budget FCFA'!AA23/VLOOKUP(AA$2,$BO$127:$BP$138,2,FALSE)","v":0},{"$f":"'Budget FCFA'!AB23/VLOOKUP(AB$2,$BO$127:$BP$138,2,FALSE)","v":0},{"$f":"'Budget FCFA'!AC23/VLOOKUP(AC$2,$BO$127:$BP$138,2,FALSE)","v":0},{"$f":"'Budget FCFA'!AD23/VLOOKUP(AD$2,$BO$127:$BP$138,2,FALSE)","v":0},{"$f":"'Budget FCFA'!AE23/VLOOKUP(AE$2,$BO$127:$BP$138,2,FALSE)","v":0},{"$f":"'Budget FCFA'!AF23/VLOOKUP(AF$2,$BO$127:$BP$138,2,FALSE)","v":0},{"$f":"'Budget FCFA'!AG23/VLOOKUP(AG$2,$BO$127:$BP$138,2,FALSE)","v":0},{"$f":"'Budget FCFA'!AH23/VLOOKUP(AH$2,$BO$127:$BP$138,2,FALSE)","v":0},{"$f":"'Budget FCFA'!AI23/VLOOKUP(AI$2,$BO$127:$BP$138,2,FALSE)","v":0},{"$f":"'Budget FCFA'!AJ23/VLOOKUP(AJ$2,$BO$127:$BP$138,2,FALSE)","v":0},{"$f":"'Budget FCFA'!AK23/VLOOKUP(AK$2,$BO$127:$BP$138,2,FALSE)","v":0},{"$f":"'Budget FCFA'!AL23/VLOOKUP(AL$2,$BO$127:$BP$138,2,FALSE)","v":0},{"$f":"'Budget FCFA'!AM23/VLOOKUP(AM$2,$BO$127:$BP$138,2,FALSE)","v":0},{"$f":"'Budget FCFA'!AN23/VLOOKUP(AN$2,$BO$127:$BP$138,2,FALSE)","v":0},{"$f":"'Budget FCFA'!AO23/VLOOKUP(AO$2,$BO$127:$BP$138,2,FALSE)","v":0},{"$f":"'Budget FCFA'!AP23/VLOOKUP(AP$2,$BO$127:$BP$138,2,FALSE)","v":0},{"$f":"'Budget FCFA'!#REF!/VLOOKUP(AQ$2,$BO$127:$BP$138,2,FALSE)","v":{"$error":"#REF!"}},{"$f":"'Budget FCFA'!#REF!/VLOOKUP(AR$2,$BO$127:$BP$138,2,FALSE)","v":{"$error":"#REF!"}},{"$f":"'Budget FCFA'!#REF!/VLOOKUP(AS$2,$BO$127:$BP$138,2,FALSE)","v":{"$error":"#REF!"}},{"$f":"'Budget FCFA'!#REF!/VLOOKUP(AT$2,$BO$127:$BP$138,2,FALSE)","v":{"$error":"#REF!"}},{"$f":"'Budget FCFA'!#REF!/VLOOKUP(AU$2,$BO$127:$BP$138,2,FALSE)","v":{"$error":"#REF!"}},{"$f":"'Budget FCFA'!#REF!/VLOOKUP(AV$2,$BO$127:$BP$138,2,FALSE)","v":{"$error":"#REF!"}},{"$f":"'Budget FCFA'!#REF!/VLOOKUP(AW$2,$BO$127:$BP$138,2,FALSE)","v":{"$error":"#REF!"}},{"$f":"'Budget FCFA'!#REF!/VLOOKUP(AX$2,$BO$127:$BP$138,2,FALSE)","v":{"$error":"#REF!"}},{"$f":"'Budget FCFA'!#REF!/VLOOKUP(AY$2,$BO$127:$BP$138,2,FALSE)","v":{"$error":"#REF!"}},{"$f":"'Budget FCFA'!#REF!/VLOOKUP(AZ$2,$BO$127:$BP$138,2,FALSE)","v":{"$error":"#REF!"}},{"$f":"'Budget FCFA'!#REF!/VLOOKUP(BA$2,$BO$127:$BP$138,2,FALSE)","v":{"$error":"#REF!"}},{"$f":"'Budget FCFA'!#REF!/VLOOKUP(BB$2,$BO$127:$BP$138,2,FALSE)","v":{"$error":"#REF!"}},{"$f":"'Budget FCFA'!#REF!/VLOOKUP(BC$2,$BO$127:$BP$138,2,FALSE)","v":{"$error":"#REF!"}},{"$f":"'Budget FCFA'!#REF!/VLOOKUP(BD$2,$BO$127:$BP$138,2,FALSE)","v":{"$error":"#REF!"}},{"$f":"'Budget FCFA'!#REF!/VLOOKUP(BE$2,$BO$127:$BP$138,2,FALSE)","v":{"$error":"#REF!"}},{"$f":"'Budget FCFA'!#REF!/VLOOKUP(BF$2,$BO$127:$BP$138,2,FALSE)","v":{"$error":"#REF!"}},{"$f":"'Budget FCFA'!#REF!/VLOOKUP(BG$2,$BO$127:$BP$138,2,FALSE)","v":{"$error":"#REF!"}},{"$f":"'Budget FCFA'!#REF!/VLOOKUP(BH$2,$BO$127:$BP$138,2,FALSE)","v":{"$error":"#REF!"}},{"$f":"'Budget FCFA'!#REF!/VLOOKUP(BI$2,$BO$127:$BP$138,2,FALSE)","v":{"$error":"#REF!"}},{"$f":"'Budget FCFA'!#REF!/VLOOKUP(BJ$2,$BO$127:$BP$138,2,FALSE)","v":{"$error":"#REF!"}},{"$error":"#REF!"},{"$f":"BK23-'Budget FCFA'!#REF!","v":{"$error":"#REF!"}}]
["PUBCATAL","BRAZZA","Gravure KIABI GROUPE ",{"$f":"'Budget FCFA'!D24/VLOOKUP(D$2,$BO$127:$BP$138,2,FALSE)","v":0},{"$f":"'Budget FCFA'!E24/VLOOKUP(E$2,$BO$127:$BP$138,2,FALSE)","v":0},{"$f":"'Budget FCFA'!F24/VLOOKUP(F$2,$BO$127:$BP$138,2,FALSE)","v":0},{"$f":"'Budget FCFA'!G24/VLOOKUP(G$2,$BO$127:$BP$138,2,FALSE)","v":0},{"$f":"'Budget FCFA'!H24/VLOOKUP(H$2,$BO$127:$BP$138,2,FALSE)","v":0},{"$f":"'Budget FCFA'!I24/VLOOKUP(I$2,$BO$127:$BP$138,2,FALSE)","v":0},{"$f":"'Budget FCFA'!J24/VLOOKUP(J$2,$BO$127:$BP$138,2,FALSE)","v":0},{"$f":"'Budget FCFA'!K24/VLOOKUP(K$2,$BO$127:$BP$138,2,FALSE)","v":0},{"$f":"'Budget FCFA'!L24/VLOOKUP(L$2,$BO$127:$BP$138,2,FALSE)","v":0},{"$f":"'Budget FCFA'!M24/VLOOKUP(M$2,$BO$127:$BP$138,2,FALSE)","v":0},{"$f":"'Budget FCFA'!N24/VLOOKUP(N$2,$BO$127:$BP$138,2,FALSE)","v":0},{"$f":"'Budget FCFA'!O24/VLOOKUP(O$2,$BO$127:$BP$138,2,FALSE)","v":0},{"$f":"'Budget FCFA'!P24/VLOOKUP(P$2,$BO$127:$BP$138,2,FALSE)","v":0},{"$f":"'Budget FCFA'!Q24/VLOOKUP(Q$2,$BO$127:$BP$138,2,FALSE)","v":0},{"$f":"'Budget FCFA'!R24/VLOOKUP(R$2,$BO$127:$BP$138,2,FALSE)","v":0},{"$f":"'Budget FCFA'!S24/VLOOKUP(S$2,$BO$127:$BP$138,2,FALSE)","v":0},{"$f":"'Budget FCFA'!T24/VLOOKUP(T$2,$BO$127:$BP$138,2,FALSE)","v":0},{"$f":"'Budget FCFA'!U24/VLOOKUP(U$2,$BO$127:$BP$138,2,FALSE)","v":0},{"$f":"'Budget FCFA'!V24/VLOOKUP(V$2,$BO$127:$BP$138,2,FALSE)","v":0},{"$f":"'Budget FCFA'!W24/VLOOKUP(W$2,$BO$127:$BP$138,2,FALSE)","v":0},{"$f":"'Budget FCFA'!X24/VLOOKUP(X$2,$BO$127:$BP$138,2,FALSE)","v":0},{"$f":"'Budget FCFA'!Y24/VLOOKUP(Y$2,$BO$127:$BP$138,2,FALSE)","v":0},{"$f":"'Budget FCFA'!Z24/VLOOKUP(Z$2,$BO$127:$BP$138,2,FALSE)","v":0},{"$f":"'Budget FCFA'!AA24/VLOOKUP(AA$2,$BO$127:$BP$138,2,FALSE)","v":0},{"$f":"'Budget FCFA'!AB24/VLOOKUP(AB$2,$BO$127:$BP$138,2,FALSE)","v":0},{"$f":"'Budget FCFA'!AC24/VLOOKUP(AC$2,$BO$127:$BP$138,2,FALSE)","v":0},{"$f":"'Budget FCFA'!AD24/VLOOKUP(AD$2,$BO$127:$BP$138,2,FALSE)","v":0},{"$f":"'Budget FCFA'!AE24/VLOOKUP(AE$2,$BO$127:$BP$138,2,FALSE)","v":0},{"$f":"'Budget FCFA'!AF24/VLOOKUP(AF$2,$BO$127:$BP$138,2,FALSE)","v":0},{"$f":"'Budget FCFA'!AG24/VLOOKUP(AG$2,$BO$127:$BP$138,2,FALSE)","v":0},{"$f":"'Budget FCFA'!AH24/VLOOKUP(AH$2,$BO$127:$BP$138,2,FALSE)","v":0},{"$f":"'Budget FCFA'!AI24/VLOOKUP(AI$2,$BO$127:$BP$138,2,FALSE)","v":0},{"$f":"'Budget FCFA'!AJ24/VLOOKUP(AJ$2,$BO$127:$BP$138,2,FALSE)","v":0},{"$f":"'Budget FCFA'!AK24/VLOOKUP(AK$2,$BO$127:$BP$138,2,FALSE)","v":0},{"$f":"'Budget FCFA'!AL24/VLOOKUP(AL$2,$BO$127:$BP$138,2,FALSE)","v":0},{"$f":"'Budget FCFA'!AM24/VLOOKUP(AM$2,$BO$127:$BP$138,2,FALSE)","v":0},{"$f":"'Budget FCFA'!AN24/VLOOKUP(AN$2,$BO$127:$BP$138,2,FALSE)","v":0},{"$f":"'Budget FCFA'!AO24/VLOOKUP(AO$2,$BO$127:$BP$138,2,FALSE)","v":0},{"$f":"'Budget FCFA'!AP24/VLOOKUP(AP$2,$BO$127:$BP$138,2,FALSE)","v":0},{"$f":"'Budget FCFA'!#REF!/VLOOKUP(AQ$2,$BO$127:$BP$138,2,FALSE)","v":{"$error":"#REF!"}},{"$f":"'Budget FCFA'!#REF!/VLOOKUP(AR$2,$BO$127:$BP$138,2,FALSE)","v":{"$error":"#REF!"}},{"$f":"'Budget FCFA'!#REF!/VLOOKUP(AS$2,$BO$127:$BP$138,2,FALSE)","v":{"$error":"#REF!"}},{"$f":"'Budget FCFA'!#REF!/VLOOKUP(AT$2,$BO$127:$BP$138,2,FALSE)","v":{"$error":"#REF!"}},{"$f":"'Budget FCFA'!#REF!/VLOOKUP(AU$2,$BO$127:$BP$138,2,FALSE)","v":{"$error":"#REF!"}},{"$f":"'Budget FCFA'!#REF!/VLOOKUP(AV$2,$BO$127:$BP$138,2,FALSE)","v":{"$error":"#REF!"}},{"$f":"'Budget FCFA'!#REF!/VLOOKUP(AW$2,$BO$127:$BP$138,2,FALSE)","v":{"$error":"#REF!"}},{"$f":"'Budget FCFA'!#REF!/VLOOKUP(AX$2,$BO$127:$BP$138,2,FALSE)","v":{"$error":"#REF!"}},{"$f":"'Budget FCFA'!#REF!/VLOOKUP(AY$2,$BO$127:$BP$138,2,FALSE)","v":{"$error":"#REF!"}},{"$f":"'Budget FCFA'!#REF!/VLOOKUP(AZ$2,$BO$127:$BP$138,2,FALSE)","v":{"$error":"#REF!"}},{"$f":"'Budget FCFA'!#REF!/VLOOKUP(BA$2,$BO$127:$BP$138,2,FALSE)","v":{"$error":"#REF!"}},{"$f":"'Budget FCFA'!#REF!/VLOOKUP(BB$2,$BO$127:$BP$138,2,FALSE)","v":{"$error":"#REF!"}},{"$f":"'Budget FCFA'!#REF!/VLOOKUP(BC$2,$BO$127:$BP$138,2,FALSE)","v":{"$error":"#REF!"}},{"$f":"'Budget FCFA'!#REF!/VLOOKUP(BD$2,$BO$127:$BP$138,2,FALSE)","v":{"$error":"#REF!"}},{"$f":"'Budget FCFA'!#REF!/VLOOKUP(BE$2,$BO$127:$BP$138,2,FALSE)","v":{"$error":"#REF!"}},{"$f":"'Budget FCFA'!#REF!/VLOOKUP(BF$2,$BO$127:$BP$138,2,FALSE)","v":{"$error":"#REF!"}},{"$f":"'Budget FCFA'!#REF!/VLOOKUP(BG$2,$BO$127:$BP$138,2,FALSE)","v":{"$error":"#REF!"}},{"$f":"'Budget FCFA'!#REF!/VLOOKUP(BH$2,$BO$127:$BP$138,2,FALSE)","v":{"$error":"#REF!"}},{"$f":"'Budget FCFA'!#REF!/VLOOKUP(BI$2,$BO$127:$BP$138,2,FALSE)","v":{"$error":"#REF!"}},{"$f":"'Budget FCFA'!#REF!/VLOOKUP(BJ$2,$BO$127:$BP$138,2,FALSE)","v":{"$error":"#REF!"}},{"$error":"#REF!"},{"$f":"BK24-'Budget FCFA'!#REF!","v":{"$error":"#REF!"}}]
["PUBCATAL","DAKAR","Gravure KIABI GROUPE ",{"$f":"'Budget FCFA'!D25/VLOOKUP(D$2,$BO$127:$BP$138,2,FALSE)","v":0},{"$f":"'Budget FCFA'!E25/VLOOKUP(E$2,$BO$127:$BP$138,2,FALSE)","v":0},{"$f":"'Budget FCFA'!F25/VLOOKUP(F$2,$BO$127:$BP$138,2,FALSE)","v":0},{"$f":"'Budget FCFA'!G25/VLOOKUP(G$2,$BO$127:$BP$138,2,FALSE)","v":0},{"$f":"'Budget FCFA'!H25/VLOOKUP(H$2,$BO$127:$BP$138,2,FALSE)","v":0},{"$f":"'Budget FCFA'!I25/VLOOKUP(I$2,$BO$127:$BP$138,2,FALSE)","v":0},{"$f":"'Budget FCFA'!J25/VLOOKUP(J$2,$BO$127:$BP$138,2,FALSE)","v":0},{"$f":"'Budget FCFA'!K25/VLOOKUP(K$2,$BO$127:$BP$138,2,FALSE)","v":0},{"$f":"'Budget FCFA'!L25/VLOOKUP(L$2,$BO$127:$BP$138,2,FALSE)","v":0},{"$f":"'Budget FCFA'!M25/VLOOKUP(M$2,$BO$127:$BP$138,2,FALSE)","v":0},{"$f":"'Budget FCFA'!N25/VLOOKUP(N$2,$BO$127:$BP$138,2,FALSE)","v":0},{"$f":"'Budget FCFA'!O25/VLOOKUP(O$2,$BO$127:$BP$138,2,FALSE)","v":0},{"$f":"'Budget FCFA'!P25/VLOOKUP(P$2,$BO$127:$BP$138,2,FALSE)","v":0},{"$f":"'Budget FCFA'!Q25/VLOOKUP(Q$2,$BO$127:$BP$138,2,FALSE)","v":0},{"$f":"'Budget FCFA'!R25/VLOOKUP(R$2,$BO$127:$BP$138,2,FALSE)","v":0},{"$f":"'Budget FCFA'!S25/VLOOKUP(S$2,$BO$127:$BP$138,2,FALSE)","v":0},{"$f":"'Budget FCFA'!T25/VLOOKUP(T$2,$BO$127:$BP$138,2,FALSE)","v":0},{"$f":"'Budget FCFA'!U25/VLOOKUP(U$2,$BO$127:$BP$138,2,FALSE)","v":0},{"$f":"'Budget FCFA'!V25/VLOOKUP(V$2,$BO$127:$BP$138,2,FALSE)","v":0},{"$f":"'Budget FCFA'!W25/VLOOKUP(W$2,$BO$127:$BP$138,2,FALSE)","v":0},{"$f":"'Budget FCFA'!X25/VLOOKUP(X$2,$BO$127:$BP$138,2,FALSE)","v":0},{"$f":"'Budget FCFA'!Y25/VLOOKUP(Y$2,$BO$127:$BP$138,2,FALSE)","v":0},{"$f":"'Budget FCFA'!Z25/VLOOKUP(Z$2,$BO$127:$BP$138,2,FALSE)","v":0},{"$f":"'Budget FCFA'!AA25/VLOOKUP(AA$2,$BO$127:$BP$138,2,FALSE)","v":0},{"$f":"'Budget FCFA'!AB25/VLOOKUP(AB$2,$BO$127:$BP$138,2,FALSE)","v":0},{"$f":"'Budget FCFA'!AC25/VLOOKUP(AC$2,$BO$127:$BP$138,2,FALSE)","v":0},{"$f":"'Budget FCFA'!AD25/VLOOKUP(AD$2,$BO$127:$BP$138,2,FALSE)","v":0},{"$f":"'Budget FCFA'!AE25/VLOOKUP(AE$2,$BO$127:$BP$138,2,FALSE)","v":0},{"$f":"'Budget FCFA'!AF25/VLOOKUP(AF$2,$BO$127:$BP$138,2,FALSE)","v":0},{"$f":"'Budget FCFA'!AG25/VLOOKUP(AG$2,$BO$127:$BP$138,2,FALSE)","v":0},{"$f":"'Budget FCFA'!AH25/VLOOKUP(AH$2,$BO$127:$BP$138,2,FALSE)","v":0},{"$f":"'Budget FCFA'!AI25/VLOOKUP(AI$2,$BO$127:$BP$138,2,FALSE)","v":0},{"$f":"'Budget FCFA'!AJ25/VLOOKUP(AJ$2,$BO$127:$BP$138,2,FALSE)","v":0},{"$f":"'Budget FCFA'!AK25/VLOOKUP(AK$2,$BO$127:$BP$138,2,FALSE)","v":0},{"$f":"'Budget FCFA'!AL25/VLOOKUP(AL$2,$BO$127:$BP$138,2,FALSE)","v":0},{"$f":"'Budget FCFA'!AM25/VLOOKUP(AM$2,$BO$127:$BP$138,2,FALSE)","v":0},{"$f":"'Budget FCFA'!AN25/VLOOKUP(AN$2,$BO$127:$BP$138,2,FALSE)","v":0},{"$f":"'Budget FCFA'!AO25/VLOOKUP(AO$2,$BO$127:$BP$138,2,FALSE)","v":0},{"$f":"'Budget FCFA'!AP25/VLOOKUP(AP$2,$BO$127:$BP$138,2,FALSE)","v":0},{"$f":"'Budget FCFA'!#REF!/VLOOKUP(AQ$2,$BO$127:$BP$138,2,FALSE)","v":{"$error":"#REF!"}},{"$f":"'Budget FCFA'!#REF!/VLOOKUP(AR$2,$BO$127:$BP$138,2,FALSE)","v":{"$error":"#REF!"}},{"$f":"'Budget FCFA'!#REF!/VLOOKUP(AS$2,$BO$127:$BP$138,2,FALSE)","v":{"$error":"#REF!"}},{"$f":"'Budget FCFA'!#REF!/VLOOKUP(AT$2,$BO$127:$BP$138,2,FALSE)","v":{"$error":"#REF!"}},{"$f":"'Budget FCFA'!#REF!/VLOOKUP(AU$2,$BO$127:$BP$138,2,FALSE)","v":{"$error":"#REF!"}},{"$f":"'Budget FCFA'!#REF!/VLOOKUP(AV$2,$BO$127:$BP$138,2,FALSE)","v":{"$error":"#REF!"}},{"$f":"'Budget FCFA'!#REF!/VLOOKUP(AW$2,$BO$127:$BP$138,2,FALSE)","v":{"$error":"#REF!"}},{"$f":"'Budget FCFA'!#REF!/VLOOKUP(AX$2,$BO$127:$BP$138,2,FALSE)","v":{"$error":"#REF!"}},{"$f":"'Budget FCFA'!#REF!/VLOOKUP(AY$2,$BO$127:$BP$138,2,FALSE)","v":{"$error":"#REF!"}},{"$f":"'Budget FCFA'!#REF!/VLOOKUP(AZ$2,$BO$127:$BP$138,2,FALSE)","v":{"$error":"#REF!"}},{"$f":"'Budget FCFA'!#REF!/VLOOKUP(BA$2,$BO$127:$BP$138,2,FALSE)","v":{"$error":"#REF!"}},{"$f":"'Budget FCFA'!#REF!/VLOOKUP(BB$2,$BO$127:$BP$138,2,FALSE)","v":{"$error":"#REF!"}},{"$f":"'Budget FCFA'!#REF!/VLOOKUP(BC$2,$BO$127:$BP$138,2,FALSE)","v":{"$error":"#REF!"}},{"$f":"'Budget FCFA'!#REF!/VLOOKUP(BD$2,$BO$127:$BP$138,2,FALSE)","v":{"$error":"#REF!"}},{"$f":"'Budget FCFA'!#REF!/VLOOKUP(BE$2,$BO$127:$BP$138,2,FALSE)","v":{"$error":"#REF!"}},{"$f":"'Budget FCFA'!#REF!/VLOOKUP(BF$2,$BO$127:$BP$138,2,FALSE)","v":{"$error":"#REF!"}},{"$f":"'Budget FCFA'!#REF!/VLOOKUP(BG$2,$BO$127:$BP$138,2,FALSE)","v":{"$error":"#REF!"}},{"$f":"'Budget FCFA'!#REF!/VLOOKUP(BH$2,$BO$127:$BP$138,2,FALSE)","v":{"$error":"#REF!"}},{"$f":"'Budget FCFA'!#REF!/VLOOKUP(BI$2,$BO$127:$BP$138,2,FALSE)","v":{"$error":"#REF!"}},{"$f":"'Budget FCFA'!#REF!/VLOOKUP(BJ$2,$BO$127:$BP$138,2,FALSE)","v":{"$error":"#REF!"}},{"$error":"#REF!"},{"$f":"BK25-'Budget FCFA'!#REF!","v":{"$error":"#REF!"}}]
["PUBCATAL","LIBREVILLE","Gravure KIABI GROUPE ",{"$f":"'Budget FCFA'!D26/VLOOKUP(D$2,$BO$127:$BP$138,2,FALSE)","v":0},{"$f":"'Budget FCFA'!E26/VLOOKUP(E$2,$BO$127:$BP$138,2,FALSE)","v":0},{"$f":"'Budget FCFA'!F26/VLOOKUP(F$2,$BO$127:$BP$138,2,FALSE)","v":0},{"$f":"'Budget FCFA'!G26/VLOOKUP(G$2,$BO$127:$BP$138,2,FALSE)","v":0},{"$f":"'Budget FCFA'!H26/VLOOKUP(H$2,$BO$127:$BP$138,2,FALSE)","v":0},{"$f":"'Budget FCFA'!I26/VLOOKUP(I$2,$BO$127:$BP$138,2,FALSE)","v":0},{"$f":"'Budget FCFA'!J26/VLOOKUP(J$2,$BO$127:$BP$138,2,FALSE)","v":0},{"$f":"'Budget FCFA'!K26/VLOOKUP(K$2,$BO$127:$BP$138,2,FALSE)","v":0},{"$f":"'Budget FCFA'!L26/VLOOKUP(L$2,$BO$127:$BP$138,2,FALSE)","v":0},{"$f":"'Budget FCFA'!M26/VLOOKUP(M$2,$BO$127:$BP$138,2,FALSE)","v":0},{"$f":"'Budget FCFA'!N26/VLOOKUP(N$2,$BO$127:$BP$138,2,FALSE)","v":0},{"$f":"'Budget FCFA'!O26/VLOOKUP(O$2,$BO$127:$BP$138,2,FALSE)","v":0},{"$f":"'Budget FCFA'!P26/VLOOKUP(P$2,$BO$127:$BP$138,2,FALSE)","v":0},{"$f":"'Budget FCFA'!Q26/VLOOKUP(Q$2,$BO$127:$BP$138,2,FALSE)","v":0},{"$f":"'Budget FCFA'!R26/VLOOKUP(R$2,$BO$127:$BP$138,2,FALSE)","v":0},{"$f":"'Budget FCFA'!S26/VLOOKUP(S$2,$BO$127:$BP$138,2,FALSE)","v":0},{"$f":"'Budget FCFA'!T26/VLOOKUP(T$2,$BO$127:$BP$138,2,FALSE)","v":0},{"$f":"'Budget FCFA'!U26/VLOOKUP(U$2,$BO$127:$BP$138,2,FALSE)","v":0},{"$f":"'Budget FCFA'!V26/VLOOKUP(V$2,$BO$127:$BP$138,2,FALSE)","v":0},{"$f":"'Budget FCFA'!W26/VLOOKUP(W$2,$BO$127:$BP$138,2,FALSE)","v":0},{"$f":"'Budget FCFA'!X26/VLOOKUP(X$2,$BO$127:$BP$138,2,FALSE)","v":0},{"$f":"'Budget FCFA'!Y26/VLOOKUP(Y$2,$BO$127:$BP$138,2,FALSE)","v":0},{"$f":"'Budget FCFA'!Z26/VLOOKUP(Z$2,$BO$127:$BP$138,2,FALSE)","v":0},{"$f":"'Budget FCFA'!AA26/VLOOKUP(AA$2,$BO$127:$BP$138,2,FALSE)","v":0},{"$f":"'Budget FCFA'!AB26/VLOOKUP(AB$2,$BO$127:$BP$138,2,FALSE)","v":0},{"$f":"'Budget FCFA'!AC26/VLOOKUP(AC$2,$BO$127:$BP$138,2,FALSE)","v":0},{"$f":"'Budget FCFA'!AD26/VLOOKUP(AD$2,$BO$127:$BP$138,2,FALSE)","v":0},{"$f":"'Budget FCFA'!AE26/VLOOKUP(AE$2,$BO$127:$BP$138,2,FALSE)","v":0},{"$f":"'Budget FCFA'!AF26/VLOOKUP(AF$2,$BO$127:$BP$138,2,FALSE)","v":0},{"$f":"'Budget FCFA'!AG26/VLOOKUP(AG$2,$BO$127:$BP$138,2,FALSE)","v":0},{"$f":"'Budget FCFA'!AH26/VLOOKUP(AH$2,$BO$127:$BP$138,2,FALSE)","v":0},{"$f":"'Budget FCFA'!AI26/VLOOKUP(AI$2,$BO$127:$BP$138,2,FALSE)","v":0},{"$f":"'Budget FCFA'!AJ26/VLOOKUP(AJ$2,$BO$127:$BP$138,2,FALSE)","v":0},{"$f":"'Budget FCFA'!AK26/VLOOKUP(AK$2,$BO$127:$BP$138,2,FALSE)","v":0},{"$f":"'Budget FCFA'!AL26/VLOOKUP(AL$2,$BO$127:$BP$138,2,FALSE)","v":0},{"$f":"'Budget FCFA'!AM26/VLOOKUP(AM$2,$BO$127:$BP$138,2,FALSE)","v":0},{"$f":"'Budget FCFA'!AN26/VLOOKUP(AN$2,$BO$127:$BP$138,2,FALSE)","v":0},{"$f":"'Budget FCFA'!AO26/VLOOKUP(AO$2,$BO$127:$BP$138,2,FALSE)","v":0},{"$f":"'Budget FCFA'!AP26/VLOOKUP(AP$2,$BO$127:$BP$138,2,FALSE)","v":0},{"$f":"'Budget FCFA'!#REF!/VLOOKUP(AQ$2,$BO$127:$BP$138,2,FALSE)","v":{"$error":"#REF!"}},{"$f":"'Budget FCFA'!#REF!/VLOOKUP(AR$2,$BO$127:$BP$138,2,FALSE)","v":{"$error":"#REF!"}},{"$f":"'Budget FCFA'!#REF!/VLOOKUP(AS$2,$BO$127:$BP$138,2,FALSE)","v":{"$error":"#REF!"}},{"$f":"'Budget FCFA'!#REF!/VLOOKUP(AT$2,$BO$127:$BP$138,2,FALSE)","v":{"$error":"#REF!"}},{"$f":"'Budget FCFA'!#REF!/VLOOKUP(AU$2,$BO$127:$BP$138,2,FALSE)","v":{"$error":"#REF!"}},{"$f":"'Budget FCFA'!#REF!/VLOOKUP(AV$2,$BO$127:$BP$138,2,FALSE)","v":{"$error":"#REF!"}},{"$f":"'Budget FCFA'!#REF!/VLOOKUP(AW$2,$BO$127:$BP$138,2,FALSE)","v":{"$error":"#REF!"}},{"$f":"'Budget FCFA'!#REF!/VLOOKUP(AX$2,$BO$127:$BP$138,2,FALSE)","v":{"$error":"#REF!"}},{"$f":"'Budget FCFA'!#REF!/VLOOKUP(AY$2,$BO$127:$BP$138,2,FALSE)","v":{"$error":"#REF!"}},{"$f":"'Budget FCFA'!#REF!/VLOOKUP(AZ$2,$BO$127:$BP$138,2,FALSE)","v":{"$error":"#REF!"}},{"$f":"'Budget FCFA'!#REF!/VLOOKUP(BA$2,$BO$127:$BP$138,2,FALSE)","v":{"$error":"#REF!"}},{"$f":"'Budget FCFA'!#REF!/VLOOKUP(BB$2,$BO$127:$BP$138,2,FALSE)","v":{"$error":"#REF!"}},{"$f":"'Budget FCFA'!#REF!/VLOOKUP(BC$2,$BO$127:$BP$138,2,FALSE)","v":{"$error":"#REF!"}},{"$f":"'Budget FCFA'!#REF!/VLOOKUP(BD$2,$BO$127:$BP$138,2,FALSE)","v":{"$error":"#REF!"}},{"$f":"'Budget FCFA'!#REF!/VLOOKUP(BE$2,$BO$127:$BP$138,2,FALSE)","v":{"$error":"#REF!"}},{"$f":"'Budget FCFA'!#REF!/VLOOKUP(BF$2,$BO$127:$BP$138,2,FALSE)","v":{"$error":"#REF!"}},{"$f":"'Budget FCFA'!#REF!/VLOOKUP(BG$2,$BO$127:$BP$138,2,FALSE)","v":{"$error":"#REF!"}},{"$f":"'Budget FCFA'!#REF!/VLOOKUP(BH$2,$BO$127:$BP$138,2,FALSE)","v":{"$error":"#REF!"}},{"$f":"'Budget FCFA'!#REF!/VLOOKUP(BI$2,$BO$127:$BP$138,2,FALSE)","v":{"$error":"#REF!"}},{"$f":"'Budget FCFA'!#REF!/VLOOKUP(BJ$2,$BO$127:$BP$138,2,FALSE)","v":{"$error":"#REF!"}},{"$error":"#REF!"},{"$f":"BK26-'Budget FCFA'!#REF!","v":{"$error":"#REF!"}}]
["PUBCATAL","DOUALA","Gravure KIABI GROUPE ",{"$f":"'Budget FCFA'!D27/VLOOKUP(D$2,$BO$127:$BP$138,2,FALSE)","v":0},{"$f":"'Budget FCFA'!E27/VLOOKUP(E$2,$BO$127:$BP$138,2,FALSE)","v":0},{"$f":"'Budget FCFA'!F27/VLOOKUP(F$2,$BO$127:$BP$138,2,FALSE)","v":0},{"$f":"'Budget FCFA'!G27/VLOOKUP(G$2,$BO$127:$BP$138,2,FALSE)","v":0},{"$f":"'Budget FCFA'!H27/VLOOKUP(H$2,$BO$127:$BP$138,2,FALSE)","v":0},{"$f":"'Budget FCFA'!I27/VLOOKUP(I$2,$BO$127:$BP$138,2,FALSE)","v":0},{"$f":"'Budget FCFA'!J27/VLOOKUP(J$2,$BO$127:$BP$138,2,FALSE)","v":0},{"$f":"'Budget FCFA'!K27/VLOOKUP(K$2,$BO$127:$BP$138,2,FALSE)","v":0},{"$f":"'Budget FCFA'!L27/VLOOKUP(L$2,$BO$127:$BP$138,2,FALSE)","v":0},{"$f":"'Budget FCFA'!M27/VLOOKUP(M$2,$BO$127:$BP$138,2,FALSE)","v":0},{"$f":"'Budget FCFA'!N27/VLOOKUP(N$2,$BO$127:$BP$138,2,FALSE)","v":0},{"$f":"'Budget FCFA'!O27/VLOOKUP(O$2,$BO$127:$BP$138,2,FALSE)","v":0},{"$f":"'Budget FCFA'!P27/VLOOKUP(P$2,$BO$127:$BP$138,2,FALSE)","v":0},{"$f":"'Budget FCFA'!Q27/VLOOKUP(Q$2,$BO$127:$BP$138,2,FALSE)","v":0},{"$f":"'Budget FCFA'!R27/VLOOKUP(R$2,$BO$127:$BP$138,2,FALSE)","v":0},{"$f":"'Budget FCFA'!S27/VLOOKUP(S$2,$BO$127:$BP$138,2,FALSE)","v":0},{"$f":"'Budget FCFA'!T27/VLOOKUP(T$2,$BO$127:$BP$138,2,FALSE)","v":0},{"$f":"'Budget FCFA'!U27/VLOOKUP(U$2,$BO$127:$BP$138,2,FALSE)","v":0},{"$f":"'Budget FCFA'!V27/VLOOKUP(V$2,$BO$127:$BP$138,2,FALSE)","v":0},{"$f":"'Budget FCFA'!W27/VLOOKUP(W$2,$BO$127:$BP$138,2,FALSE)","v":0},{"$f":"'Budget FCFA'!X27/VLOOKUP(X$2,$BO$127:$BP$138,2,FALSE)","v":0},{"$f":"'Budget FCFA'!Y27/VLOOKUP(Y$2,$BO$127:$BP$138,2,FALSE)","v":0},{"$f":"'Budget FCFA'!Z27/VLOOKUP(Z$2,$BO$127:$BP$138,2,FALSE)","v":0},{"$f":"'Budget FCFA'!AA27/VLOOKUP(AA$2,$BO$127:$BP$138,2,FALSE)","v":0},{"$f":"'Budget FCFA'!AB27/VLOOKUP(AB$2,$BO$127:$BP$138,2,FALSE)","v":0},{"$f":"'Budget FCFA'!AC27/VLOOKUP(AC$2,$BO$127:$BP$138,2,FALSE)","v":0},{"$f":"'Budget FCFA'!AD27/VLOOKUP(AD$2,$BO$127:$BP$138,2,FALSE)","v":0},{"$f":"'Budget FCFA'!AE27/VLOOKUP(AE$2,$BO$127:$BP$138,2,FALSE)","v":0},{"$f":"'Budget FCFA'!AF27/VLOOKUP(AF$2,$BO$127:$BP$138,2,FALSE)","v":0},{"$f":"'Budget FCFA'!AG27/VLOOKUP(AG$2,$BO$127:$BP$138,2,FALSE)","v":0},{"$f":"'Budget FCFA'!AH27/VLOOKUP(AH$2,$BO$127:$BP$138,2,FALSE)","v":0},{"$f":"'Budget FCFA'!AI27/VLOOKUP(AI$2,$BO$127:$BP$138,2,FALSE)","v":0},{"$f":"'Budget FCFA'!AJ27/VLOOKUP(AJ$2,$BO$127:$BP$138,2,FALSE)","v":0},{"$f":"'Budget FCFA'!AK27/VLOOKUP(AK$2,$BO$127:$BP$138,2,FALSE)","v":0},{"$f":"'Budget FCFA'!AL27/VLOOKUP(AL$2,$BO$127:$BP$138,2,FALSE)","v":0},{"$f":"'Budget FCFA'!AM27/VLOOKUP(AM$2,$BO$127:$BP$138,2,FALSE)","v":0},{"$f":"'Budget FCFA'!AN27/VLOOKUP(AN$2,$BO$127:$BP$138,2,FALSE)","v":0},{"$f":"'Budget FCFA'!AO27/VLOOKUP(AO$2,$BO$127:$BP$138,2,FALSE)","v":0},{"$f":"'Budget FCFA'!AP27/VLOOKUP(AP$2,$BO$127:$BP$138,2,FALSE)","v":0},{"$f":"'Budget FCFA'!#REF!/VLOOKUP(AQ$2,$BO$127:$BP$138,2,FALSE)","v":{"$error":"#REF!"}},{"$f":"'Budget FCFA'!#REF!/VLOOKUP(AR$2,$BO$127:$BP$138,2,FALSE)","v":{"$error":"#REF!"}},{"$f":"'Budget FCFA'!#REF!/VLOOKUP(AS$2,$BO$127:$BP$138,2,FALSE)","v":{"$error":"#REF!"}},{"$f":"'Budget FCFA'!#REF!/VLOOKUP(AT$2,$BO$127:$BP$138,2,FALSE)","v":{"$error":"#REF!"}},{"$f":"'Budget FCFA'!#REF!/VLOOKUP(AU$2,$BO$127:$BP$138,2,FALSE)","v":{"$error":"#REF!"}},{"$f":"'Budget FCFA'!#REF!/VLOOKUP(AV$2,$BO$127:$BP$138,2,FALSE)","v":{"$error":"#REF!"}},{"$f":"'Budget FCFA'!#REF!/VLOOKUP(AW$2,$BO$127:$BP$138,2,FALSE)","v":{"$error":"#REF!"}},{"$f":"'Budget FCFA'!#REF!/VLOOKUP(AX$2,$BO$127:$BP$138,2,FALSE)","v":{"$error":"#REF!"}},{"$f":"'Budget FCFA'!#REF!/VLOOKUP(AY$2,$BO$127:$BP$138,2,FALSE)","v":{"$error":"#REF!"}},{"$f":"'Budget FCFA'!#REF!/VLOOKUP(AZ$2,$BO$127:$BP$138,2,FALSE)","v":{"$error":"#REF!"}},{"$f":"'Budget FCFA'!#REF!/VLOOKUP(BA$2,$BO$127:$BP$138,2,FALSE)","v":{"$error":"#REF!"}},{"$f":"'Budget FCFA'!#REF!/VLOOKUP(BB$2,$BO$127:$BP$138,2,FALSE)","v":{"$error":"#REF!"}},{"$f":"'Budget FCFA'!#REF!/VLOOKUP(BC$2,$BO$127:$BP$138,2,FALSE)","v":{"$error":"#REF!"}},{"$f":"'Budget FCFA'!#REF!/VLOOKUP(BD$2,$BO$127:$BP$138,2,FALSE)","v":{"$error":"#REF!"}},{"$f":"'Budget FCFA'!#REF!/VLOOKUP(BE$2,$BO$127:$BP$138,2,FALSE)","v":{"$error":"#REF!"}},{"$f":"'Budget FCFA'!#REF!/VLOOKUP(BF$2,$BO$127:$BP$138,2,FALSE)","v":{"$error":"#REF!"}},{"$f":"'Budget FCFA'!#REF!/VLOOKUP(BG$2,$BO$127:$BP$138,2,FALSE)","v":{"$error":"#REF!"}},{"$f":"'Budget FCFA'!#REF!/VLOOKUP(BH$2,$BO$127:$BP$138,2,FALSE)","v":{"$error":"#REF!"}},{"$f":"'Budget FCFA'!#REF!/VLOOKUP(BI$2,$BO$127:$BP$138,2,FALSE)","v":{"$error":"#REF!"}},{"$f":"'Budget FCFA'!#REF!/VLOOKUP(BJ$2,$BO$127:$BP$138,2,FALSE)","v":{"$error":"#REF!"}},{"$error":"#REF!"},{"$f":"BK27-'Budget FCFA'!#REF!","v":{"$error":"#REF!"}}]
["PUBCATAL","TOTAL","Total Gravure Kiabi Groupe",{"$f":"'Budget FCFA'!D28/VLOOKUP(D$2,$BO$127:$BP$138,2,FALSE)","v":0},{"$f":"'Budget FCFA'!E28/VLOOKUP(E$2,$BO$127:$BP$138,2,FALSE)","v":0},{"$f":"'Budget FCFA'!F28/VLOOKUP(F$2,$BO$127:$BP$138,2,FALSE)","v":0},{"$f":"'Budget FCFA'!G28/VLOOKUP(G$2,$BO$127:$BP$138,2,FALSE)","v":0},{"$f":"'Budget FCFA'!H28/VLOOKUP(H$2,$BO$127:$BP$138,2,FALSE)","v":0},{"$f":"'Budget FCFA'!I28/VLOOKUP(I$2,$BO$127:$BP$138,2,FALSE)","v":0},{"$f":"'Budget FCFA'!J28/VLOOKUP(J$2,$BO$127:$BP$138,2,FALSE)","v":0},{"$f":"'Budget FCFA'!K28/VLOOKUP(K$2,$BO$127:$BP$138,2,FALSE)","v":0},{"$f":"'Budget FCFA'!L28/VLOOKUP(L$2,$BO$127:$BP$138,2,FALSE)","v":0},{"$f":"'Budget FCFA'!M28/VLOOKUP(M$2,$BO$127:$BP$138,2,FALSE)","v":0},{"$f":"'Budget FCFA'!N28/VLOOKUP(N$2,$BO$127:$BP$138,2,FALSE)","v":0},{"$f":"'Budget FCFA'!O28/VLOOKUP(O$2,$BO$127:$BP$138,2,FALSE)","v":0},{"$f":"'Budget FCFA'!P28/VLOOKUP(P$2,$BO$127:$BP$138,2,FALSE)","v":0},{"$f":"'Budget FCFA'!Q28/VLOOKUP(Q$2,$BO$127:$BP$138,2,FALSE)","v":0},{"$f":"'Budget FCFA'!R28/VLOOKUP(R$2,$BO$127:$BP$138,2,FALSE)","v":0},{"$f":"'Budget FCFA'!S28/VLOOKUP(S$2,$BO$127:$BP$138,2,FALSE)","v":0},{"$f":"'Budget FCFA'!T28/VLOOKUP(T$2,$BO$127:$BP$138,2,FALSE)","v":0},{"$f":"'Budget FCFA'!U28/VLOOKUP(U$2,$BO$127:$BP$138,2,FALSE)","v":0},{"$f":"'Budget FCFA'!V28/VLOOKUP(V$2,$BO$127:$BP$138,2,FALSE)","v":0},{"$f":"'Budget FCFA'!W28/VLOOKUP(W$2,$BO$127:$BP$138,2,FALSE)","v":0},{"$f":"'Budget FCFA'!X28/VLOOKUP(X$2,$BO$127:$BP$138,2,FALSE)","v":0},{"$f":"'Budget FCFA'!Y28/VLOOKUP(Y$2,$BO$127:$BP$138,2,FALSE)","v":0},{"$f":"'Budget FCFA'!Z28/VLOOKUP(Z$2,$BO$127:$BP$138,2,FALSE)","v":0},{"$f":"'Budget FCFA'!AA28/VLOOKUP(AA$2,$BO$127:$BP$138,2,FALSE)","v":0},{"$f":"'Budget FCFA'!AB28/VLOOKUP(AB$2,$BO$127:$BP$138,2,FALSE)","v":0},{"$f":"'Budget FCFA'!AC28/VLOOKUP(AC$2,$BO$127:$BP$138,2,FALSE)","v":0},{"$f":"'Budget FCFA'!AD28/VLOOKUP(AD$2,$BO$127:$BP$138,2,FALSE)","v":0},{"$f":"'Budget FCFA'!AE28/VLOOKUP(AE$2,$BO$127:$BP$138,2,FALSE)","v":0},{"$f":"'Budget FCFA'!AF28/VLOOKUP(AF$2,$BO$127:$BP$138,2,FALSE)","v":0},{"$f":"'Budget FCFA'!AG28/VLOOKUP(AG$2,$BO$127:$BP$138,2,FALSE)","v":0},{"$f":"'Budget FCFA'!AH28/VLOOKUP(AH$2,$BO$127:$BP$138,2,FALSE)","v":0},{"$f":"'Budget FCFA'!AI28/VLOOKUP(AI$2,$BO$127:$BP$138,2,FALSE)","v":0},{"$f":"'Budget FCFA'!AJ28/VLOOKUP(AJ$2,$BO$127:$BP$138,2,FALSE)","v":0},{"$f":"'Budget FCFA'!AK28/VLOOKUP(AK$2,$BO$127:$BP$138,2,FALSE)","v":0},{"$f":"'Budget FCFA'!AL28/VLOOKUP(AL$2,$BO$127:$BP$138,2,FALSE)","v":0},{"$f":"'Budget FCFA'!AM28/VLOOKUP(AM$2,$BO$127:$BP$138,2,FALSE)","v":0},{"$f":"'Budget FCFA'!AN28/VLOOKUP(AN$2,$BO$127:$BP$138,2,FALSE)","v":0},{"$f":"'Budget FCFA'!AO28/VLOOKUP(AO$2,$BO$127:$BP$138,2,FALSE)","v":0},{"$f":"'Budget FCFA'!AP28/VLOOKUP(AP$2,$BO$127:$BP$138,2,FALSE)","v":0},{"$f":"'Budget FCFA'!#REF!/VLOOKUP(AQ$2,$BO$127:$BP$138,2,FALSE)","v":{"$error":"#REF!"}},{"$f":"'Budget FCFA'!#REF!/VLOOKUP(AR$2,$BO$127:$BP$138,2,FALSE)","v":{"$error":"#REF!"}},{"$f":"'Budget FCFA'!#REF!/VLOOKUP(AS$2,$BO$127:$BP$138,2,FALSE)","v":{"$error":"#REF!"}},{"$f":"'Budget FCFA'!#REF!/VLOOKUP(AT$2,$BO$127:$BP$138,2,FALSE)","v":{"$error":"#REF!"}},{"$f":"'Budget FCFA'!#REF!/VLOOKUP(AU$2,$BO$127:$BP$138,2,FALSE)","v":{"$error":"#REF!"}},{"$f":"'Budget FCFA'!#REF!/VLOOKUP(AV$2,$BO$127:$BP$138,2,FALSE)","v":{"$error":"#REF!"}},{"$f":"'Budget FCFA'!#REF!/VLOOKUP(AW$2,$BO$127:$BP$138,2,FALSE)","v":{"$error":"#REF!"}},{"$f":"'Budget FCFA'!#REF!/VLOOKUP(AX$2,$BO$127:$BP$138,2,FALSE)","v":{"$error":"#REF!"}},{"$f":"'Budget FCFA'!#REF!/VLOOKUP(AY$2,$BO$127:$BP$138,2,FALSE)","v":{"$error":"#REF!"}},{"$f":"'Budget FCFA'!#REF!/VLOOKUP(AZ$2,$BO$127:$BP$138,2,FALSE)","v":{"$error":"#REF!"}},{"$f":"'Budget FCFA'!#REF!/VLOOKUP(BA$2,$BO$127:$BP$138,2,FALSE)","v":{"$error":"#REF!"}},{"$f":"'Budget FCFA'!#REF!/VLOOKUP(BB$2,$BO$127:$BP$138,2,FALSE)","v":{"$error":"#REF!"}},{"$f":"'Budget FCFA'!#REF!/VLOOKUP(BC$2,$BO$127:$BP$138,2,FALSE)","v":{"$error":"#REF!"}},{"$f":"'Budget FCFA'!#REF!/VLOOKUP(BD$2,$BO$127:$BP$138,2,FALSE)","v":{"$error":"#REF!"}},{"$f":"'Budget FCFA'!#REF!/VLOOKUP(BE$2,$BO$127:$BP$138,2,FALSE)","v":{"$error":"#REF!"}},{"$f":"'Budget FCFA'!#REF!/VLOOKUP(BF$2,$BO$127:$BP$138,2,FALSE)","v":{"$error":"#REF!"}},{"$f":"'Budget FCFA'!#REF!/VLOOKUP(BG$2,$BO$127:$BP$138,2,FALSE)","v":{"$error":"#REF!"}},{"$f":"'Budget FCFA'!#REF!/VLOOKUP(BH$2,$BO$127:$BP$138,2,FALSE)","v":{"$error":"#REF!"}},{"$f":"'Budget FCFA'!#REF!/VLOOKUP(BI$2,$BO$127:$BP$138,2,FALSE)","v":{"$error":"#REF!"}},{"$f":"'Budget FCFA'!#REF!/VLOOKUP(BJ$2,$BO$127:$BP$138,2,FALSE)","v":{"$error":"#REF!"}},{"$error":"#REF!"},{"$f":"BK28-'Budget FCFA'!#REF!","v":{"$error":"#REF!"}}]
["PUBCATAL","ABIDJAN","Impression catalogue",{"$f":"'Budget FCFA'!D29/VLOOKUP(D$2,$BO$127:$BP$138,2,FALSE)","v":0},{"$f":"'Budget FCFA'!E29/VLOOKUP(E$2,$BO$127:$BP$138,2,FALSE)","v":114.33676292805778},{"$f":"'Budget FCFA'!F29/VLOOKUP(F$2,$BO$127:$BP$138,2,FALSE)","v":0},{"$f":"'Budget FCFA'!G29/VLOOKUP(G$2,$BO$127:$BP$138,2,FALSE)","v":0},{"$f":"'Budget FCFA'!H29/VLOOKUP(H$2,$BO$127:$BP$138,2,FALSE)","v":0},{"$f":"'Budget FCFA'!I29/VLOOKUP(I$2,$BO$127:$BP$138,2,FALSE)","v":3430.1028878417337},{"$f":"'Budget FCFA'!J29/VLOOKUP(J$2,$BO$127:$BP$138,2,FALSE)","v":0},{"$f":"'Budget FCFA'!K29/VLOOKUP(K$2,$BO$127:$BP$138,2,FALSE)","v":0},{"$f":"'Budget FCFA'!L29/VLOOKUP(L$2,$BO$127:$BP$138,2,FALSE)","v":0},{"$f":"'Budget FCFA'!M29/VLOOKUP(M$2,$BO$127:$BP$138,2,FALSE)","v":0},{"$f":"'Budget FCFA'!N29/VLOOKUP(N$2,$BO$127:$BP$138,2,FALSE)","v":0},{"$f":"'Budget FCFA'!O29/VLOOKUP(O$2,$BO$127:$BP$138,2,FALSE)","v":114.33676292805778},{"$f":"'Budget FCFA'!P29/VLOOKUP(P$2,$BO$127:$BP$138,2,FALSE)","v":1600.714680992809},{"$f":"'Budget FCFA'!Q29/VLOOKUP(Q$2,$BO$127:$BP$138,2,FALSE)","v":0},{"$f":"'Budget FCFA'!R29/VLOOKUP(R$2,$BO$127:$BP$138,2,FALSE)","v":0},{"$f":"'Budget FCFA'!S29/VLOOKUP(S$2,$BO$127:$BP$138,2,FALSE)","v":0},{"$f":"'Budget FCFA'!T29/VLOOKUP(T$2,$BO$127:$BP$138,2,FALSE)","v":4459.1337541942539},{"$f":"'Budget FCFA'!U29/VLOOKUP(U$2,$BO$127:$BP$138,2,FALSE)","v":0},{"$f":"'Budget FCFA'!V29/VLOOKUP(V$2,$BO$127:$BP$138,2,FALSE)","v":0},{"$f":"'Budget FCFA'!W29/VLOOKUP(W$2,$BO$127:$BP$138,2,FALSE)","v":0},{"$f":"'Budget FCFA'!X29/VLOOKUP(X$2,$BO$127:$BP$138,2,FALSE)","v":114.33676292805778},{"$f":"'Budget FCFA'!Y29/VLOOKUP(Y$2,$BO$127:$BP$138,2,FALSE)","v":0},{"$f":"'Budget FCFA'!Z29/VLOOKUP(Z$2,$BO$127:$BP$138,2,FALSE)","v":0},{"$f":"'Budget FCFA'!AA29/VLOOKUP(AA$2,$BO$127:$BP$138,2,FALSE)","v":0},{"$f":"'Budget FCFA'!AB29/VLOOKUP(AB$2,$BO$127:$BP$138,2,FALSE)","v":1864.6578086541433},{"$f":"'Budget FCFA'!AC29/VLOOKUP(AC$2,$BO$127:$BP$138,2,FALSE)","v":0},{"$f":"'Budget FCFA'!AD29/VLOOKUP(AD$2,$BO$127:$BP$138,2,FALSE)","v":0},{"$f":"'Budget FCFA'!AE29/VLOOKUP(AE$2,$BO$127:$BP$138,2,FALSE)","v":0},{"$f":"'Budget FCFA'!AF29/VLOOKUP(AF$2,$BO$127:$BP$138,2,FALSE)","v":0},{"$f":"'Budget FCFA'!AG29/VLOOKUP(AG$2,$BO$127:$BP$138,2,FALSE)","v":114.33676292805778},{"$f":"'Budget FCFA'!AH29/VLOOKUP(AH$2,$BO$127:$BP$138,2,FALSE)","v":0},{"$f":"'Budget FCFA'!AI29/VLOOKUP(AI$2,$BO$127:$BP$138,2,FALSE)","v":0},{"$f":"'Budget FCFA'!AJ29/VLOOKUP(AJ$2,$BO$127:$BP$138,2,FALSE)","v":0},{"$f":"'Budget FCFA'!AK29/VLOOKUP(AK$2,$BO$127:$BP$138,2,FALSE)","v":0},{"$f":"'Budget FCFA'!AL29/VLOOKUP(AL$2,$BO$127:$BP$138,2,FALSE)","v":6753.4914636172798},{"$f":"'Budget FCFA'!AM29/VLOOKUP(AM$2,$BO$127:$BP$138,2,FALSE)","v":114.33676292805778},{"$f":"'Budget FCFA'!AN29/VLOOKUP(AN$2,$BO$127:$BP$138,2,FALSE)","v":0},{"$f":"'Budget FCFA'!AO29/VLOOKUP(AO$2,$BO$127:$BP$138,2,FALSE)","v":0},{"$f":"'Budget FCFA'!AP29/VLOOKUP(AP$2,$BO$127:$BP$138,2,FALSE)","v":0},{"$f":"'Budget FCFA'!#REF!/VLOOKUP(AQ$2,$BO$127:$BP$138,2,FALSE)","v":{"$error":"#REF!"}},{"$f":"'Budget FCFA'!#REF!/VLOOKUP(AR$2,$BO$127:$BP$138,2,FALSE)","v":{"$error":"#REF!"}},{"$f":"'Budget FCFA'!#REF!/VLOOKUP(AS$2,$BO$127:$BP$138,2,FALSE)","v":{"$error":"#REF!"}},{"$f":"'Budget FCFA'!#REF!/VLOOKUP(AT$2,$BO$127:$BP$138,2,FALSE)","v":{"$error":"#REF!"}},{"$f":"'Budget FCFA'!#REF!/VLOOKUP(AU$2,$BO$127:$BP$138,2,FALSE)","v":{"$error":"#REF!"}},{"$f":"'Budget FCFA'!#REF!/VLOOKUP(AV$2,$BO$127:$BP$138,2,FALSE)","v":{"$error":"#REF!"}},{"$f":"'Budget FCFA'!#REF!/VLOOKUP(AW$2,$BO$127:$BP$138,2,FALSE)","v":{"$error":"#REF!"}},{"$f":"'Budget FCFA'!#REF!/VLOOKUP(AX$2,$BO$127:$BP$138,2,FALSE)","v":{"$error":"#REF!"}},{"$f":"'Budget FCFA'!#REF!/VLOOKUP(AY$2,$BO$127:$BP$138,2,FALSE)","v":{"$error":"#REF!"}},{"$f":"'Budget FCFA'!#REF!/VLOOKUP(AZ$2,$BO$127:$BP$138,2,FALSE)","v":{"$error":"#REF!"}},{"$f":"'Budget FCFA'!#REF!/VLOOKUP(BA$2,$BO$127:$BP$138,2,FALSE)","v":{"$error":"#REF!"}},{"$f":"'Budget FCFA'!#REF!/VLOOKUP(BB$2,$BO$127:$BP$138,2,FALSE)","v":{"$error":"#REF!"}},{"$f":"'Budget FCFA'!#REF!/VLOOKUP(BC$2,$BO$127:$BP$138,2,FALSE)","v":{"$error":"#REF!"}},{"$f":"'Budget FCFA'!#REF!/VLOOKUP(BD$2,$BO$127:$BP$138,2,FALSE)","v":{"$error":"#REF!"}},{"$f":"'Budget FCFA'!#REF!/VLOOKUP(BE$2,$BO$127:$BP$138,2,FALSE)","v":{"$error":"#REF!"}},{"$f":"'Budget FCFA'!#REF!/VLOOKUP(BF$2,$BO$127:$BP$138,2,FALSE)","v":{"$error":"#REF!"}},{"$f":"'Budget FCFA'!#REF!/VLOOKUP(BG$2,$BO$127:$BP$138,2,FALSE)","v":{"$error":"#REF!"}},{"$f":"'Budget FCFA'!#REF!/VLOOKUP(BH$2,$BO$127:$BP$138,2,FALSE)","v":{"$error":"#REF!"}},{"$f":"'Budget FCFA'!#REF!/VLOOKUP(BI$2,$BO$127:$BP$138,2,FALSE)","v":{"$error":"#REF!"}},{"$f":"'Budget FCFA'!#REF!/VLOOKUP(BJ$2,$BO$127:$BP$138,2,FALSE)","v":{"$error":"#REF!"}},{"$error":"#REF!"},{"$f":"BK29-'Budget FCFA'!#REF!","v":{"$error":"#REF!"}}]
["PUBCATAL","BRAZZA","Impression catalogue",{"$f":"'Budget FCFA'!D30/VLOOKUP(D$2,$BO$127:$BP$138,2,FALSE)","v":0},{"$f":"'Budget FCFA'!E30/VLOOKUP(E$2,$BO$127:$BP$138,2,FALSE)","v":0},{"$f":"'Budget FCFA'!F30/VLOOKUP(F$2,$BO$127:$BP$138,2,FALSE)","v":0},{"$f":"'Budget FCFA'!G30/VLOOKUP(G$2,$BO$127:$BP$138,2,FALSE)","v":0},{"$f":"'Budget FCFA'!H30/VLOOKUP(H$2,$BO$127:$BP$138,2,FALSE)","v":0},{"$f":"'Budget FCFA'!I30/VLOOKUP(I$2,$BO$127:$BP$138,2,FALSE)","v":0},{"$f":"'Budget FCFA'!J30/VLOOKUP(J$2,$BO$127:$BP$138,2,FALSE)","v":0},{"$f":"'Budget FCFA'!K30/VLOOKUP(K$2,$BO$127:$BP$138,2,FALSE)","v":0},{"$f":"'Budget FCFA'!L30/VLOOKUP(L$2,$BO$127:$BP$138,2,FALSE)","v":0},{"$f":"'Budget FCFA'!M30/VLOOKUP(M$2,$BO$127:$BP$138,2,FALSE)","v":0},{"$f":"'Budget FCFA'!N30/VLOOKUP(N$2,$BO$127:$BP$138,2,FALSE)","v":0},{"$f":"'Budget FCFA'!O30/VLOOKUP(O$2,$BO$127:$BP$138,2,FALSE)","v":0},{"$f":"'Budget FCFA'!P30/VLOOKUP(P$2,$BO$127:$BP$138,2,FALSE)","v":0},{"$f":"'Budget FCFA'!Q30/VLOOKUP(Q$2,$BO$127:$BP$138,2,FALSE)","v":0},{"$f":"'Budget FCFA'!R30/VLOOKUP(R$2,$BO$127:$BP$138,2,FALSE)","v":0},{"$f":"'Budget FCFA'!S30/VLOOKUP(S$2,$BO$127:$BP$138,2,FALSE)","v":0},{"$f":"'Budget FCFA'!T30/VLOOKUP(T$2,$BO$127:$BP$138,2,FALSE)","v":0},{"$f":"'Budget FCFA'!U30/VLOOKUP(U$2,$BO$127:$BP$138,2,FALSE)","v":0},{"$f":"'Budget FCFA'!V30/VLOOKUP(V$2,$BO$127:$BP$138,2,FALSE)","v":0},{"$f":"'Budget FCFA'!W30/VLOOKUP(W$2,$BO$127:$BP$138,2,FALSE)","v":0},{"$f":"'Budget FCFA'!X30/VLOOKUP(X$2,$BO$127:$BP$138,2,FALSE)","v":0},{"$f":"'Budget FCFA'!Y30/VLOOKUP(Y$2,$BO$127:$BP$138,2,FALSE)","v":0},{"$f":"'Budget FCFA'!Z30/VLOOKUP(Z$2,$BO$127:$BP$138,2,FALSE)","v":0},{"$f":"'Budget FCFA'!AA30/VLOOKUP(AA$2,$BO$127:$BP$138,2,FALSE)","v":2385.8271197654726},{"$f":"'Budget FCFA'!AB30/VLOOKUP(AB$2,$BO$127:$BP$138,2,FALSE)","v":0},{"$f":"'Budget FCFA'!AC30/VLOOKUP(AC$2,$BO$127:$BP$138,2,FALSE)","v":0},{"$f":"'Budget FCFA'!AD30/VLOOKUP(AD$2,$BO$127:$BP$138,2,FALSE)","v":0},{"$f":"'Budget FCFA'!AE30/VLOOKUP(AE$2,$BO$127:$BP$138,2,FALSE)","v":0},{"$f":"'Budget FCFA'!AF30/VLOOKUP(AF$2,$BO$127:$BP$138,2,FALSE)","v":0},{"$f":"'Budget FCFA'!AG30/VLOOKUP(AG$2,$BO$127:$BP$138,2,FALSE)","v":0},{"$f":"'Budget FCFA'!AH30/VLOOKUP(AH$2,$BO$127:$BP$138,2,FALSE)","v":0},{"$f":"'Budget FCFA'!AI30/VLOOKUP(AI$2,$BO$127:$BP$138,2,FALSE)","v":0},{"$f":"'Budget FCFA'!AJ30/VLOOKUP(AJ$2,$BO$127:$BP$138,2,FALSE)","v":0},{"$f":"'Budget FCFA'!AK30/VLOOKUP(AK$2,$BO$127:$BP$138,2,FALSE)","v":0},{"$f":"'Budget FCFA'!AL30/VLOOKUP(AL$2,$BO$127:$BP$138,2,FALSE)","v":1631.204484440291},{"$f":"'Budget FCFA'!AM30/VLOOKUP(AM$2,$BO$127:$BP$138,2,FALSE)","v":0},{"$f":"'Budget FCFA'!AN30/VLOOKUP(AN$2,$BO$127:$BP$138,2,FALSE)","v":0},{"$f":"'Budget FCFA'!AO30/VLOOKUP(AO$2,$BO$127:$BP$138,2,FALSE)","v":0},{"$f":"'Budget FCFA'!AP30/VLOOKUP(AP$2,$BO$127:$BP$138,2,FALSE)","v":0},{"$f":"'Budget FCFA'!#REF!/VLOOKUP(AQ$2,$BO$127:$BP$138,2,FALSE)","v":{"$error":"#REF!"}},{"$f":"'Budget FCFA'!#REF!/VLOOKUP(AR$2,$BO$127:$BP$138,2,FALSE)","v":{"$error":"#REF!"}},{"$f":"'Budget FCFA'!#REF!/VLOOKUP(AS$2,$BO$127:$BP$138,2,FALSE)","v":{"$error":"#REF!"}},{"$f":"'Budget FCFA'!#REF!/VLOOKUP(AT$2,$BO$127:$BP$138,2,FALSE)","v":{"$error":"#REF!"}},{"$f":"'Budget FCFA'!#REF!/VLOOKUP(AU$2,$BO$127:$BP$138,2,FALSE)","v":{"$error":"#REF!"}},{"$f":"'Budget FCFA'!#REF!/VLOOKUP(AV$2,$BO$127:$BP$138,2,FALSE)","v":{"$error":"#REF!"}},{"$f":"'Budget FCFA'!#REF!/VLOOKUP(AW$2,$BO$127:$BP$138,2,FALSE)","v":{"$error":"#REF!"}},{"$f":"'Budget FCFA'!#REF!/VLOOKUP(AX$2,$BO$127:$BP$138,2,FALSE)","v":{"$error":"#REF!"}},{"$f":"'Budget FCFA'!#REF!/VLOOKUP(AY$2,$BO$127:$BP$138,2,FALSE)","v":{"$error":"#REF!"}},{"$f":"'Budget FCFA'!#REF!/VLOOKUP(AZ$2,$BO$127:$BP$138,2,FALSE)","v":{"$error":"#REF!"}},{"$f":"'Budget FCFA'!#REF!/VLOOKUP(BA$2,$BO$127:$BP$138,2,FALSE)","v":{"$error":"#REF!"}},{"$f":"'Budget FCFA'!#REF!/VLOOKUP(BB$2,$BO$127:$BP$138,2,FALSE)","v":{"$error":"#REF!"}},{"$f":"'Budget FCFA'!#REF!/VLOOKUP(BC$2,$BO$127:$BP$138,2,FALSE)","v":{"$error":"#REF!"}},{"$f":"'Budget FCFA'!#REF!/VLOOKUP(BD$2,$BO$127:$BP$138,2,FALSE)","v":{"$error":"#REF!"}},{"$f":"'Budget FCFA'!#REF!/VLOOKUP(BE$2,$BO$127:$BP$138,2,FALSE)","v":{"$error":"#REF!"}},{"$f":"'Budget FCFA'!#REF!/VLOOKUP(BF$2,$BO$127:$BP$138,2,FALSE)","v":{"$error":"#REF!"}},{"$f":"'Budget FCFA'!#REF!/VLOOKUP(BG$2,$BO$127:$BP$138,2,FALSE)","v":{"$error":"#REF!"}},{"$f":"'Budget FCFA'!#REF!/VLOOKUP(BH$2,$BO$127:$BP$138,2,FALSE)","v":{"$error":"#REF!"}},{"$f":"'Budget FCFA'!#REF!/VLOOKUP(BI$2,$BO$127:$BP$138,2,FALSE)","v":{"$error":"#REF!"}},{"$f":"'Budget FCFA'!#REF!/VLOOKUP(BJ$2,$BO$127:$BP$138,2,FALSE)","v":{"$error":"#REF!"}},{"$error":"#REF!"},{"$f":"BK30-'Budget FCFA'!#REF!","v":{"$error":"#REF!"}}]
["PUBCATAL","DAKAR","Impression catalogue",{"$f":"'Budget FCFA'!D31/VLOOKUP(D$2,$BO$127:$BP$138,2,FALSE)","v":0},{"$f":"'Budget FCFA'!E31/VLOOKUP(E$2,$BO$127:$BP$138,2,FALSE)","v":0},{"$f":"'Budget FCFA'!F31/VLOOKUP(F$2,$BO$127:$BP$138,2,FALSE)","v":0},{"$f":"'Budget FCFA'!G31/VLOOKUP(G$2,$BO$127:$BP$138,2,FALSE)","v":0},{"$f":"'Budget FCFA'!H31/VLOOKUP(H$2,$BO$127:$BP$138,2,FALSE)","v":0},{"$f":"'Budget FCFA'!I31/VLOOKUP(I$2,$BO$127:$BP$138,2,FALSE)","v":914.69410342446224},{"$f":"'Budget FCFA'!J31/VLOOKUP(J$2,$BO$127:$BP$138,2,FALSE)","v":0},{"$f":"'Budget FCFA'!K31/VLOOKUP(K$2,$BO$127:$BP$138,2,FALSE)","v":0},{"$f":"'Budget FCFA'!L31/VLOOKUP(L$2,$BO$127:$BP$138,2,FALSE)","v":0},{"$f":"'Budget FCFA'!M31/VLOOKUP(M$2,$BO$127:$BP$138,2,FALSE)","v":0},{"$f":"'Budget FCFA'!N31/VLOOKUP(N$2,$BO$127:$BP$138,2,FALSE)","v":0},{"$f":"'Budget FCFA'!O31/VLOOKUP(O$2,$BO$127:$BP$138,2,FALSE)","v":0},{"$f":"'Budget FCFA'!P31/VLOOKUP(P$2,$BO$127:$BP$138,2,FALSE)","v":0},{"$f":"'Budget FCFA'!Q31/VLOOKUP(Q$2,$BO$127:$BP$138,2,FALSE)","v":0},{"$f":"'Budget FCFA'!R31/VLOOKUP(R$2,$BO$127:$BP$138,2,FALSE)","v":0},{"$f":"'Budget FCFA'!S31/VLOOKUP(S$2,$BO$127:$BP$138,2,FALSE)","v":0},{"$f":"'Budget FCFA'!T31/VLOOKUP(T$2,$BO$127:$BP$138,2,FALSE)","v":0},{"$f":"'Budget FCFA'!U31/VLOOKUP(U$2,$BO$127:$BP$138,2,FALSE)","v":0},{"$f":"'Budget FCFA'!V31/VLOOKUP(V$2,$BO$127:$BP$138,2,FALSE)","v":0},{"$f":"'Budget FCFA'!W31/VLOOKUP(W$2,$BO$127:$BP$138,2,FALSE)","v":0},{"$f":"'Budget FCFA'!X31/VLOOKUP(X$2,$BO$127:$BP$138,2,FALSE)","v":0},{"$f":"'Budget FCFA'!Y31/VLOOKUP(Y$2,$BO$127:$BP$138,2,FALSE)","v":0},{"$f":"'Budget FCFA'!Z31/VLOOKUP(Z$2,$BO$127:$BP$138,2,FALSE)","v":0},{"$f":"'Budget FCFA'!AA31/VLOOKUP(AA$2,$BO$127:$BP$138,2,FALSE)","v":0},{"$f":"'Budget FCFA'!AB31/VLOOKUP(AB$2,$BO$127:$BP$138,2,FALSE)","v":0},{"$f":"'Budget FCFA'!AC31/VLOOKUP(AC$2,$BO$127:$BP$138,2,FALSE)","v":0},{"$f":"'Budget FCFA'!AD31/VLOOKUP(AD$2,$BO$127:$BP$138,2,FALSE)","v":0},{"$f":"'Budget FCFA'!AE31/VLOOKUP(AE$2,$BO$127:$BP$138,2,FALSE)","v":0},{"$f":"'Budget FCFA'!AF31/VLOOKUP(AF$2,$BO$127:$BP$138,2,FALSE)","v":0},{"$f":"'Budget FCFA'!AG31/VLOOKUP(AG$2,$BO$127:$BP$138,2,FALSE)","v":0},{"$f":"'Budget FCFA'!AH31/VLOOKUP(AH$2,$BO$127:$BP$138,2,FALSE)","v":0},{"$f":"'Budget FCFA'!AI31/VLOOKUP(AI$2,$BO$127:$BP$138,2,FALSE)","v":0},{"$f":"'Budget FCFA'!AJ31/VLOOKUP(AJ$2,$BO$127:$BP$138,2,FALSE)","v":0},{"$f":"'Budget FCFA'!AK31/VLOOKUP(AK$2,$BO$127:$BP$138,2,FALSE)","v":0},{"$f":"'Budget FCFA'!AL31/VLOOKUP(AL$2,$BO$127:$BP$138,2,FALSE)","v":1173.8574327280598},{"$f":"'Budget FCFA'!AM31/VLOOKUP(AM$2,$BO$127:$BP$138,2,FALSE)","v":0},{"$f":"'Budget FCFA'!AN31/VLOOKUP(AN$2,$BO$127:$BP$138,2,FALSE)","v":0},{"$f":"'Budget FCFA'!AO31/VLOOKUP(AO$2,$BO$127:$BP$138,2,FALSE)","v":0},{"$f":"'Budget FCFA'!AP31/VLOOKUP(AP$2,$BO$127:$BP$138,2,FALSE)","v":0},{"$f":"'Budget FCFA'!#REF!/VLOOKUP(AQ$2,$BO$127:$BP$138,2,FALSE)","v":{"$error":"#REF!"}},{"$f":"'Budget FCFA'!#REF!/VLOOKUP(AR$2,$BO$127:$BP$138,2,FALSE)","v":{"$error":"#REF!"}},{"$f":"'Budget FCFA'!#REF!/VLOOKUP(AS$2,$BO$127:$BP$138,2,FALSE)","v":{"$error":"#REF!"}},{"$f":"'Budget FCFA'!#REF!/VLOOKUP(AT$2,$BO$127:$BP$138,2,FALSE)","v":{"$error":"#REF!"}},{"$f":"'Budget FCFA'!#REF!/VLOOKUP(AU$2,$BO$127:$BP$138,2,FALSE)","v":{"$error":"#REF!"}},{"$f":"'Budget FCFA'!#REF!/VLOOKUP(AV$2,$BO$127:$BP$138,2,FALSE)","v":{"$error":"#REF!"}},{"$f":"'Budget FCFA'!#REF!/VLOOKUP(AW$2,$BO$127:$BP$138,2,FALSE)","v":{"$error":"#REF!"}},{"$f":"'Budget FCFA'!#REF!/VLOOKUP(AX$2,$BO$127:$BP$138,2,FALSE)","v":{"$error":"#REF!"}},{"$f":"'Budget FCFA'!#REF!/VLOOKUP(AY$2,$BO$127:$BP$138,2,FALSE)","v":{"$error":"#REF!"}},{"$f":"'Budget FCFA'!#REF!/VLOOKUP(AZ$2,$BO$127:$BP$138,2,FALSE)","v":{"$error":"#REF!"}},{"$f":"'Budget FCFA'!#REF!/VLOOKUP(BA$2,$BO$127:$BP$138,2,FALSE)","v":{"$error":"#REF!"}},{"$f":"'Budget FCFA'!#REF!/VLOOKUP(BB$2,$BO$127:$BP$138,2,FALSE)","v":{"$error":"#REF!"}},{"$f":"'Budget FCFA'!#REF!/VLOOKUP(BC$2,$BO$127:$BP$138,2,FALSE)","v":{"$error":"#REF!"}},{"$f":"'Budget FCFA'!#REF!/VLOOKUP(BD$2,$BO$127:$BP$138,2,FALSE)","v":{"$error":"#REF!"}},{"$f":"'Budget FCFA'!#REF!/VLOOKUP(BE$2,$BO$127:$BP$138,2,FALSE)","v":{"$error":"#REF!"}},{"$f":"'Budget FCFA'!#REF!/VLOOKUP(BF$2,$BO$127:$BP$138,2,FALSE)","v":{"$error":"#REF!"}},{"$f":"'Budget FCFA'!#REF!/VLOOKUP(BG$2,$BO$127:$BP$138,2,FALSE)","v":{"$error":"#REF!"}},{"$f":"'Budget FCFA'!#REF!/VLOOKUP(BH$2,$BO$127:$BP$138,2,FALSE)","v":{"$error":"#REF!"}},{"$f":"'Budget FCFA'!#REF!/VLOOKUP(BI$2,$BO$127:$BP$138,2,FALSE)","v":{"$error":"#REF!"}},{"$f":"'Budget FCFA'!#REF!/VLOOKUP(BJ$2,$BO$127:$BP$138,2,FALSE)","v":{"$error":"#REF!"}},{"$error":"#REF!"},{"$f":"BK31-'Budget FCFA'!#REF!","v":{"$error":"#REF!"}}]
["PUBCATAL","LIBREVILLE","Impression catalogue",{"$f":"'Budget FCFA'!D32/VLOOKUP(D$2,$BO$127:$BP$138,2,FALSE)","v":0},{"$f":"'Budget FCFA'!E32/VLOOKUP(E$2,$BO$127:$BP$138,2,FALSE)","v":0},{"$f":"'Budget FCFA'!F32/VLOOKUP(F$2,$BO$127:$BP$138,2,FALSE)","v":0},{"$f":"'Budget FCFA'!G32/VLOOKUP(G$2,$BO$127:$BP$138,2,FALSE)","v":0},{"$f":"'Budget FCFA'!H32/VLOOKUP(H$2,$BO$127:$BP$138,2,FALSE)","v":0},{"$f":"'Budget FCFA'!I32/VLOOKUP(I$2,$BO$127:$BP$138,2,FALSE)","v":1808.0453444356872},{"$f":"'Budget FCFA'!J32/VLOOKUP(J$2,$BO$127:$BP$138,2,FALSE)","v":0},{"$f":"'Budget FCFA'!K32/VLOOKUP(K$2,$BO$127:$BP$138,2,FALSE)","v":0},{"$f":"'Budget FCFA'!L32/VLOOKUP(L$2,$BO$127:$BP$138,2,FALSE)","v":0},{"$f":"'Budget FCFA'!M32/VLOOKUP(M$2,$BO$127:$BP$138,2,FALSE)","v":0},{"$f":"'Budget FCFA'!N32/VLOOKUP(N$2,$BO$127:$BP$138,2,FALSE)","v":0},{"$f":"'Budget FCFA'!O32/VLOOKUP(O$2,$BO$127:$BP$138,2,FALSE)","v":0},{"$f":"'Budget FCFA'!P32/VLOOKUP(P$2,$BO$127:$BP$138,2,FALSE)","v":0},{"$f":"'Budget FCFA'!Q32/VLOOKUP(Q$2,$BO$127:$BP$138,2,FALSE)","v":0},{"$f":"'Budget FCFA'!R32/VLOOKUP(R$2,$BO$127:$BP$138,2,FALSE)","v":0},{"$f":"'Budget FCFA'!S32/VLOOKUP(S$2,$BO$127:$BP$138,2,FALSE)","v":0},{"$f":"'Budget FCFA'!T32/VLOOKUP(T$2,$BO$127:$BP$138,2,FALSE)","v":0},{"$f":"'Budget FCFA'!U32/VLOOKUP(U$2,$BO$127:$BP$138,2,FALSE)","v":0},{"$f":"'Budget FCFA'!V32/VLOOKUP(V$2,$BO$127:$BP$138,2,FALSE)","v":0},{"$f":"'Budget FCFA'!W32/VLOOKUP(W$2,$BO$127:$BP$138,2,FALSE)","v":0},{"$f":"'Budget FCFA'!X32/VLOOKUP(X$2,$BO$127:$BP$138,2,FALSE)","v":0},{"$f":"'Budget FCFA'!Y32/VLOOKUP(Y$2,$BO$127:$BP$138,2,FALSE)","v":0},{"$f":"'Budget FCFA'!Z32/VLOOKUP(Z$2,$BO$127:$BP$138,2,FALSE)","v":0},{"$f":"'Budget FCFA'!AA32/VLOOKUP(AA$2,$BO$127:$BP$138,2,FALSE)","v":0},{"$f":"'Budget FCFA'!AB32/VLOOKUP(AB$2,$BO$127:$BP$138,2,FALSE)","v":0},{"$f":"'Budget FCFA'!AC32/VLOOKUP(AC$2,$BO$127:$BP$138,2,FALSE)","v":0},{"$f":"'Budget FCFA'!AD32/VLOOKUP(AD$2,$BO$127:$BP$138,2,FALSE)","v":0},{"$f":"'Budget FCFA'!AE32/VLOOKUP(AE$2,$BO$127:$BP$138,2,FALSE)","v":0},{"$f":"'Budget FCFA'!AF32/VLOOKUP(AF$2,$BO$127:$BP$138,2,FALSE)","v":0},{"$f":"'Budget FCFA'!AG32/VLOOKUP(AG$2,$BO$127:$BP$138,2,FALSE)","v":0},{"$f":"'Budget FCFA'!AH32/VLOOKUP(AH$2,$BO$127:$BP$138,2,FALSE)","v":0},{"$f":"'Budget FCFA'!AI32/VLOOKUP(AI$2,$BO$127:$BP$138,2,FALSE)","v":0},{"$f":"'Budget FCFA'!AJ32/VLOOKUP(AJ$2,$BO$127:$BP$138,2,FALSE)","v":0},{"$f":"'Budget FCFA'!AK32/VLOOKUP(AK$2,$BO$127:$BP$138,2,FALSE)","v":0},{"$f":"'Budget FCFA'!AL32/VLOOKUP(AL$2,$BO$127:$BP$138,2,FALSE)","v":3353.8783792230283},{"$f":"'Budget FCFA'!AM32/VLOOKUP(AM$2,$BO$127:$BP$138,2,FALSE)","v":0},{"$f":"'Budget FCFA'!AN32/VLOOKUP(AN$2,$BO$127:$BP$138,2,FALSE)","v":0},{"$f":"'Budget FCFA'!AO32/VLOOKUP(AO$2,$BO$127:$BP$138,2,FALSE)","v":0},{"$f":"'Budget FCFA'!AP32/VLOOKUP(AP$2,$BO$127:$BP$138,2,FALSE)","v":0},{"$f":"'Budget FCFA'!#REF!/VLOOKUP(AQ$2,$BO$127:$BP$138,2,FALSE)","v":{"$error":"#REF!"}},{"$f":"'Budget FCFA'!#REF!/VLOOKUP(AR$2,$BO$127:$BP$138,2,FALSE)","v":{"$error":"#REF!"}},{"$f":"'Budget FCFA'!#REF!/VLOOKUP(AS$2,$BO$127:$BP$138,2,FALSE)","v":{"$error":"#REF!"}},{"$f":"'Budget FCFA'!#REF!/VLOOKUP(AT$2,$BO$127:$BP$138,2,FALSE)","v":{"$error":"#REF!"}},{"$f":"'Budget FCFA'!#REF!/VLOOKUP(AU$2,$BO$127:$BP$138,2,FALSE)","v":{"$error":"#REF!"}},{"$f":"'Budget FCFA'!#REF!/VLOOKUP(AV$2,$BO$127:$BP$138,2,FALSE)","v":{"$error":"#REF!"}},{"$f":"'Budget FCFA'!#REF!/VLOOKUP(AW$2,$BO$127:$BP$138,2,FALSE)","v":{"$error":"#REF!"}},{"$f":"'Budget FCFA'!#REF!/VLOOKUP(AX$2,$BO$127:$BP$138,2,FALSE)","v":{"$error":"#REF!"}},{"$f":"'Budget FCFA'!#REF!/VLOOKUP(AY$2,$BO$127:$BP$138,2,FALSE)","v":{"$error":"#REF!"}},{"$f":"'Budget FCFA'!#REF!/VLOOKUP(AZ$2,$BO$127:$BP$138,2,FALSE)","v":{"$error":"#REF!"}},{"$f":"'Budget FCFA'!#REF!/VLOOKUP(BA$2,$BO$127:$BP$138,2,FALSE)","v":{"$error":"#REF!"}},{"$f":"'Budget FCFA'!#REF!/VLOOKUP(BB$2,$BO$127:$BP$138,2,FALSE)","v":{"$error":"#REF!"}},{"$f":"'Budget FCFA'!#REF!/VLOOKUP(BC$2,$BO$127:$BP$138,2,FALSE)","v":{"$error":"#REF!"}},{"$f":"'Budget FCFA'!#REF!/VLOOKUP(BD$2,$BO$127:$BP$138,2,FALSE)","v":{"$error":"#REF!"}},{"$f":"'Budget FCFA'!#REF!/VLOOKUP(BE$2,$BO$127:$BP$138,2,FALSE)","v":{"$error":"#REF!"}},{"$f":"'Budget FCFA'!#REF!/VLOOKUP(BF$2,$BO$127:$BP$138,2,FALSE)","v":{"$error":"#REF!"}},{"$f":"'Budget FCFA'!#REF!/VLOOKUP(BG$2,$BO$127:$BP$138,2,FALSE)","v":{"$error":"#REF!"}},{"$f":"'Budget FCFA'!#REF!/VLOOKUP(BH$2,$BO$127:$BP$138,2,FALSE)","v":{"$error":"#REF!"}},{"$f":"'Budget FCFA'!#REF!/VLOOKUP(BI$2,$BO$127:$BP$138,2,FALSE)","v":{"$error":"#REF!"}},{"$f":"'Budget FCFA'!#REF!/VLOOKUP(BJ$2,$BO$127:$BP$138,2,FALSE)","v":{"$error":"#REF!"}},{"$error":"#REF!"},{"$f":"BK32-'Budget FCFA'!#REF!","v":{"$error":"#REF!"}}]
["PUBCATAL","DOUALA","Impression catalogue",{"$f":"'Budget FCFA'!D33/VLOOKUP(D$2,$BO$127:$BP$138,2,FALSE)","v":0},{"$f":"'Budget FCFA'!E33/VLOOKUP(E$2,$BO$127:$BP$138,2,FALSE)","v":0},{"$f":"'Budget FCFA'!F33/VLOOKUP(F$2,$BO$127:$BP$138,2,FALSE)","v":0},{"$f":"'Budget FCFA'!G33/VLOOKUP(G$2,$BO$127:$BP$138,2,FALSE)","v":0},{"$f":"'Budget FCFA'!H33/VLOOKUP(H$2,$BO$127:$BP$138,2,FALSE)","v":0},{"$f":"'Budget FCFA'!I33/VLOOKUP(I$2,$BO$127:$BP$138,2,FALSE)","v":1402.5309585841756},{"$f":"'Budget FCFA'!J33/VLOOKUP(J$2,$BO$127:$BP$138,2,FALSE)","v":0},{"$f":"'Budget FCFA'!K33/VLOOKUP(K$2,$BO$127:$BP$138,2,FALSE)","v":0},{"$f":"'Budget FCFA'!L33/VLOOKUP(L$2,$BO$127:$BP$138,2,FALSE)","v":0},{"$f":"'Budget FCFA'!M33/VLOOKUP(M$2,$BO$127:$BP$138,2,FALSE)","v":0},{"$f":"'Budget FCFA'!N33/VLOOKUP(N$2,$BO$127:$BP$138,2,FALSE)","v":0},{"$f":"'Budget FCFA'!O33/VLOOKUP(O$2,$BO$127:$BP$138,2,FALSE)","v":0},{"$f":"'Budget FCFA'!P33/VLOOKUP(P$2,$BO$127:$BP$138,2,FALSE)","v":0},{"$f":"'Budget FCFA'!Q33/VLOOKUP(Q$2,$BO$127:$BP$138,2,FALSE)","v":0},{"$f":"'Budget FCFA'!R33/VLOOKUP(R$2,$BO$127:$BP$138,2,FALSE)","v":0},{"$f":"'Budget FCFA'!S33/VLOOKUP(S$2,$BO$127:$BP$138,2,FALSE)","v":0},{"$f":"'Budget FCFA'!T33/VLOOKUP(T$2,$BO$127:$BP$138,2,FALSE)","v":0},{"$f":"'Budget FCFA'!U33/VLOOKUP(U$2,$BO$127:$BP$138,2,FALSE)","v":0},{"$f":"'Budget FCFA'!V33/VLOOKUP(V$2,$BO$127:$BP$138,2,FALSE)","v":0},{"$f":"'Budget FCFA'!W33/VLOOKUP(W$2,$BO$127:$BP$138,2,FALSE)","v":1512.294250995111},{"$f":"'Budget FCFA'!X33/VLOOKUP(X$2,$BO$127:$BP$138,2,FALSE)","v":0},{"$f":"'Budget FCFA'!Y33/VLOOKUP(Y$2,$BO$127:$BP$138,2,FALSE)","v":0},{"$f":"'Budget FCFA'!Z33/VLOOKUP(Z$2,$BO$127:$BP$138,2,FALSE)","v":0},{"$f":"'Budget FCFA'!AA33/VLOOKUP(AA$2,$BO$127:$BP$138,2,FALSE)","v":0},{"$f":"'Budget FCFA'!AB33/VLOOKUP(AB$2,$BO$127:$BP$138,2,FALSE)","v":0},{"$f":"'Budget FCFA'!AC33/VLOOKUP(AC$2,$BO$127:$BP$138,2,FALSE)","v":0},{"$f":"'Budget FCFA'!AD33/VLOOKUP(AD$2,$BO$127:$BP$138,2,FALSE)","v":0},{"$f":"'Budget FCFA'!AE33/VLOOKUP(AE$2,$BO$127:$BP$138,2,FALSE)","v":0},{"$f":"'Budget FCFA'!AF33/VLOOKUP(AF$2,$BO$127:$BP$138,2,FALSE)","v":0},{"$f":"'Budget FCFA'!AG33/VLOOKUP(AG$2,$BO$127:$BP$138,2,FALSE)","v":0},{"$f":"'Budget FCFA'!AH33/VLOOKUP(AH$2,$BO$127:$BP$138,2,FALSE)","v":0},{"$f":"'Budget FCFA'!AI33/VLOOKUP(AI$2,$BO$127:$BP$138,2,FALSE)","v":0},{"$f":"'Budget FCFA'!AJ33/VLOOKUP(AJ$2,$BO$127:$BP$138,2,FALSE)","v":0},{"$f":"'Budget FCFA'!AK33/VLOOKUP(AK$2,$BO$127:$BP$138,2,FALSE)","v":0},{"$f":"'Budget FCFA'!AL33/VLOOKUP(AL$2,$BO$127:$BP$138,2,FALSE)","v":2336.2811891633141},{"$f":"'Budget FCFA'!AM33/VLOOKUP(AM$2,$BO$127:$BP$138,2,FALSE)","v":0},{"$f":"'Budget FCFA'!AN33/VLOOKUP(AN$2,$BO$127:$BP$138,2,FALSE)","v":0},{"$f":"'Budget FCFA'!AO33/VLOOKUP(AO$2,$BO$127:$BP$138,2,FALSE)","v":0},{"$f":"'Budget FCFA'!AP33/VLOOKUP(AP$2,$BO$127:$BP$138,2,FALSE)","v":0},{"$f":"'Budget FCFA'!#REF!/VLOOKUP(AQ$2,$BO$127:$BP$138,2,FALSE)","v":{"$error":"#REF!"}},{"$f":"'Budget FCFA'!#REF!/VLOOKUP(AR$2,$BO$127:$BP$138,2,FALSE)","v":{"$error":"#REF!"}},{"$f":"'Budget FCFA'!#REF!/VLOOKUP(AS$2,$BO$127:$BP$138,2,FALSE)","v":{"$error":"#REF!"}},{"$f":"'Budget FCFA'!#REF!/VLOOKUP(AT$2,$BO$127:$BP$138,2,FALSE)","v":{"$error":"#REF!"}},{"$f":"'Budget FCFA'!#REF!/VLOOKUP(AU$2,$BO$127:$BP$138,2,FALSE)","v":{"$error":"#REF!"}},{"$f":"'Budget FCFA'!#REF!/VLOOKUP(AV$2,$BO$127:$BP$138,2,FALSE)","v":{"$error":"#REF!"}},{"$f":"'Budget FCFA'!#REF!/VLOOKUP(AW$2,$BO$127:$BP$138,2,FALSE)","v":{"$error":"#REF!"}},{"$f":"'Budget FCFA'!#REF!/VLOOKUP(AX$2,$BO$127:$BP$138,2,FALSE)","v":{"$error":"#REF!"}},{"$f":"'Budget FCFA'!#REF!/VLOOKUP(AY$2,$BO$127:$BP$138,2,FALSE)","v":{"$error":"#REF!"}},{"$f":"'Budget FCFA'!#REF!/VLOOKUP(AZ$2,$BO$127:$BP$138,2,FALSE)","v":{"$error":"#REF!"}},{"$f":"'Budget FCFA'!#REF!/VLOOKUP(BA$2,$BO$127:$BP$138,2,FALSE)","v":{"$error":"#REF!"}},{"$f":"'Budget FCFA'!#REF!/VLOOKUP(BB$2,$BO$127:$BP$138,2,FALSE)","v":{"$error":"#REF!"}},{"$f":"'Budget FCFA'!#REF!/VLOOKUP(BC$2,$BO$127:$BP$138,2,FALSE)","v":{"$error":"#REF!"}},{"$f":"'Budget FCFA'!#REF!/VLOOKUP(BD$2,$BO$127:$BP$138,2,FALSE)","v":{"$error":"#REF!"}},{"$f":"'Budget FCFA'!#REF!/VLOOKUP(BE$2,$BO$127:$BP$138,2,FALSE)","v":{"$error":"#REF!"}},{"$f":"'Budget FCFA'!#REF!/VLOOKUP(BF$2,$BO$127:$BP$138,2,FALSE)","v":{"$error":"#REF!"}},{"$f":"'Budget FCFA'!#REF!/VLOOKUP(BG$2,$BO$127:$BP$138,2,FALSE)","v":{"$error":"#REF!"}},{"$f":"'Budget FCFA'!#REF!/VLOOKUP(BH$2,$BO$127:$BP$138,2,FALSE)","v":{"$error":"#REF!"}},{"$f":"'Budget FCFA'!#REF!/VLOOKUP(BI$2,$BO$127:$BP$138,2,FALSE)","v":{"$error":"#REF!"}},{"$f":"'Budget FCFA'!#REF!/VLOOKUP(BJ$2,$BO$127:$BP$138,2,FALSE)","v":{"$error":"#REF!"}},{"$error":"#REF!"},{"$f":"BK33-'Budget FCFA'!#REF!","v":{"$error":"#REF!"}}]
["PUBCATAL","TOTAL","Total impression catalogue",{"$f":"'Budget FCFA'!D34/VLOOKUP(D$2,$BO$127:$BP$138,2,FALSE)","v":0},{"$f":"'Budget FCFA'!E34/VLOOKUP(E$2,$BO$127:$BP$138,2,FALSE)","v":114.33676292805778},{"$f":"'Budget FCFA'!F34/VLOOKUP(F$2,$BO$127:$BP$138,2,FALSE)","v":0},{"$f":"'Budget FCFA'!G34/VLOOKUP(G$2,$BO$127:$BP$138,2,FALSE)","v":0},{"$f":"'Budget FCFA'!H34/VLOOKUP(H$2,$BO$127:$BP$138,2,FALSE)","v":0},{"$f":"'Budget FCFA'!I34/VLOOKUP(I$2,$BO$127:$BP$138,2,FALSE)","v":7555.3732942860588},{"$f":"'Budget FCFA'!J34/VLOOKUP(J$2,$BO$127:$BP$138,2,FALSE)","v":0},{"$f":"'Budget FCFA'!K34/VLOOKUP(K$2,$BO$127:$BP$138,2,FALSE)","v":0},{"$f":"'Budget FCFA'!L34/VLOOKUP(L$2,$BO$127:$BP$138,2,FALSE)","v":0},{"$f":"'Budget FCFA'!M34/VLOOKUP(M$2,$BO$127:$BP$138,2,FALSE)","v":0},{"$f":"'Budget FCFA'!N34/VLOOKUP(N$2,$BO$127:$BP$138,2,FALSE)","v":0},{"$f":"'Budget FCFA'!O34/VLOOKUP(O$2,$BO$127:$BP$138,2,FALSE)","v":114.33676292805778},{"$f":"'Budget FCFA'!P34/VLOOKUP(P$2,$BO$127:$BP$138,2,FALSE)","v":1600.714680992809},{"$f":"'Budget FCFA'!Q34/VLOOKUP(Q$2,$BO$127:$BP$138,2,FALSE)","v":0},{"$f":"'Budget FCFA'!R34/VLOOKUP(R$2,$BO$127:$BP$138,2,FALSE)","v":0},{"$f":"'Budget FCFA'!S34/VLOOKUP(S$2,$BO$127:$BP$138,2,FALSE)","v":0},{"$f":"'Budget FCFA'!T34/VLOOKUP(T$2,$BO$127:$BP$138,2,FALSE)","v":4459.1337541942539},{"$f":"'Budget FCFA'!U34/VLOOKUP(U$2,$BO$127:$BP$138,2,FALSE)","v":0},{"$f":"'Budget FCFA'!V34/VLOOKUP(V$2,$BO$127:$BP$138,2,FALSE)","v":0},{"$f":"'Budget FCFA'!W34/VLOOKUP(W$2,$BO$127:$BP$138,2,FALSE)","v":1512.294250995111},{"$f":"'Budget FCFA'!X34/VLOOKUP(X$2,$BO$127:$BP$138,2,FALSE)","v":114.33676292805778},{"$f":"'Budget FCFA'!Y34/VLOOKUP(Y$2,$BO$127:$BP$138,2,FALSE)","v":0},{"$f":"'Budget FCFA'!Z34/VLOOKUP(Z$2,$BO$127:$BP$138,2,FALSE)","v":0},{"$f":"'Budget FCFA'!AA34/VLOOKUP(AA$2,$BO$127:$BP$138,2,FALSE)","v":2385.8271197654726},{"$f":"'Budget FCFA'!AB34/VLOOKUP(AB$2,$BO$127:$BP$138,2,FALSE)","v":1864.6578086541433},{"$f":"'Budget FCFA'!AC34/VLOOKUP(AC$2,$BO$127:$BP$138,2,FALSE)","v":0},{"$f":"'Budget FCFA'!AD34/VLOOKUP(AD$2,$BO$127:$BP$138,2,FALSE)","v":0},{"$f":"'Budget FCFA'!AE34/VLOOKUP(AE$2,$BO$127:$BP$138,2,FALSE)","v":0},{"$f":"'Budget FCFA'!AF34/VLOOKUP(AF$2,$BO$127:$BP$138,2,FALSE)","v":0},{"$f":"'Budget FCFA'!AG34/VLOOKUP(AG$2,$BO$127:$BP$138,2,FALSE)","v":114.33676292805778},{"$f":"'Budget FCFA'!AH34/VLOOKUP(AH$2,$BO$127:$BP$138,2,FALSE)","v":0},{"$f":"'Budget FCFA'!AI34/VLOOKUP(AI$2,$BO$127:$BP$138,2,FALSE)","v":0},{"$f":"'Budget FCFA'!AJ34/VLOOKUP(AJ$2,$BO$127:$BP$138,2,FALSE)","v":0},{"$f":"'Budget FCFA'!AK34/VLOOKUP(AK$2,$BO$127:$BP$138,2,FALSE)","v":0},{"$f":"'Budget FCFA'!AL34/VLOOKUP(AL$2,$BO$127:$BP$138,2,FALSE)","v":15248.712949171973},{"$f":"'Budget FCFA'!AM34/VLOOKUP(AM$2,$BO$127:$BP$138,2,FALSE)","v":114.33676292805778},{"$f":"'Budget FCFA'!AN34/VLOOKUP(AN$2,$BO$127:$BP$138,2,FALSE)","v":0},{"$f":"'Budget FCFA'!AO34/VLOOKUP(AO$2,$BO$127:$BP$138,2,FALSE)","v":0},{"$f":"'Budget FCFA'!AP34/VLOOKUP(AP$2,$BO$127:$BP$138,2,FALSE)","v":0},{"$f":"'Budget FCFA'!#REF!/VLOOKUP(AQ$2,$BO$127:$BP$138,2,FALSE)","v":{"$error":"#REF!"}},{"$f":"'Budget FCFA'!#REF!/VLOOKUP(AR$2,$BO$127:$BP$138,2,FALSE)","v":{"$error":"#REF!"}},{"$f":"'Budget FCFA'!#REF!/VLOOKUP(AS$2,$BO$127:$BP$138,2,FALSE)","v":{"$error":"#REF!"}},{"$f":"'Budget FCFA'!#REF!/VLOOKUP(AT$2,$BO$127:$BP$138,2,FALSE)","v":{"$error":"#REF!"}},{"$f":"'Budget FCFA'!#REF!/VLOOKUP(AU$2,$BO$127:$BP$138,2,FALSE)","v":{"$error":"#REF!"}},{"$f":"'Budget FCFA'!#REF!/VLOOKUP(AV$2,$BO$127:$BP$138,2,FALSE)","v":{"$error":"#REF!"}},{"$f":"'Budget FCFA'!#REF!/VLOOKUP(AW$2,$BO$127:$BP$138,2,FALSE)","v":{"$error":"#REF!"}},{"$f":"'Budget FCFA'!#REF!/VLOOKUP(AX$2,$BO$127:$BP$138,2,FALSE)","v":{"$error":"#REF!"}},{"$f":"'Budget FCFA'!#REF!/VLOOKUP(AY$2,$BO$127:$BP$138,2,FALSE)","v":{"$error":"#REF!"}},{"$f":"'Budget FCFA'!#REF!/VLOOKUP(AZ$2,$BO$127:$BP$138,2,FALSE)","v":{"$error":"#REF!"}},{"$f":"'Budget FCFA'!#REF!/VLOOKUP(BA$2,$BO$127:$BP$138,2,FALSE)","v":{"$error":"#REF!"}},{"$f":"'Budget FCFA'!#REF!/VLOOKUP(BB$2,$BO$127:$BP$138,2,FALSE)","v":{"$error":"#REF!"}},{"$f":"'Budget FCFA'!#REF!/VLOOKUP(BC$2,$BO$127:$BP$138,2,FALSE)","v":{"$error":"#REF!"}},{"$f":"'Budget FCFA'!#REF!/VLOOKUP(BD$2,$BO$127:$BP$138,2,FALSE)","v":{"$error":"#REF!"}},{"$f":"'Budget FCFA'!#REF!/VLOOKUP(BE$2,$BO$127:$BP$138,2,FALSE)","v":{"$error":"#REF!"}},{"$f":"'Budget FCFA'!#REF!/VLOOKUP(BF$2,$BO$127:$BP$138,2,FALSE)","v":{"$error":"#REF!"}},{"$f":"'Budget FCFA'!#REF!/VLOOKUP(BG$2,$BO$127:$BP$138,2,FALSE)","v":{"$error":"#REF!"}},{"$f":"'Budget FCFA'!#REF!/VLOOKUP(BH$2,$BO$127:$BP$138,2,FALSE)","v":{"$error":"#REF!"}},{"$f":"'Budget FCFA'!#REF!/VLOOKUP(BI$2,$BO$127:$BP$138,2,FALSE)","v":{"$error":"#REF!"}},{"$f":"'Budget FCFA'!#REF!/VLOOKUP(BJ$2,$BO$127:$BP$138,2,FALSE)","v":{"$error":"#REF!"}},{"$error":"#REF!"},{"$f":"BK34-'Budget FCFA'!#REF!","v":{"$error":"#REF!"}}]
["PUBCATAL","TOTAL","Total catalogue",{"$f":"'Budget FCFA'!D35/VLOOKUP(D$2,$BO$127:$BP$138,2,FALSE)","v":0},{"$f":"'Budget FCFA'!E35/VLOOKUP(E$2,$BO$127:$BP$138,2,FALSE)","v":114.33676292805778},{"$f":"'Budget FCFA'!F35/VLOOKUP(F$2,$BO$127:$BP$138,2,FALSE)","v":0},{"$f":"'Budget FCFA'!G35/VLOOKUP(G$2,$BO$127:$BP$138,2,FALSE)","v":0},{"$f":"'Budget FCFA'!H35/VLOOKUP(H$2,$BO$127:$BP$138,2,FALSE)","v":0},{"$f":"'Budget FCFA'!I35/VLOOKUP(I$2,$BO$127:$BP$138,2,FALSE)","v":7555.3732942860588},{"$f":"'Budget FCFA'!J35/VLOOKUP(J$2,$BO$127:$BP$138,2,FALSE)","v":0},{"$f":"'Budget FCFA'!K35/VLOOKUP(K$2,$BO$127:$BP$138,2,FALSE)","v":0},{"$f":"'Budget FCFA'!L35/VLOOKUP(L$2,$BO$127:$BP$138,2,FALSE)","v":0},{"$f":"'Budget FCFA'!M35/VLOOKUP(M$2,$BO$127:$BP$138,2,FALSE)","v":0},{"$f":"'Budget FCFA'!N35/VLOOKUP(N$2,$BO$127:$BP$138,2,FALSE)","v":0},{"$f":"'Budget FCFA'!O35/VLOOKUP(O$2,$BO$127:$BP$138,2,FALSE)","v":114.33676292805778},{"$f":"'Budget FCFA'!P35/VLOOKUP(P$2,$BO$127:$BP$138,2,FALSE)","v":1600.714680992809},{"$f":"'Budget FCFA'!Q35/VLOOKUP(Q$2,$BO$127:$BP$138,2,FALSE)","v":0},{"$f":"'Budget FCFA'!R35/VLOOKUP(R$2,$BO$127:$BP$138,2,FALSE)","v":780},{"$f":"'Budget FCFA'!S35/VLOOKUP(S$2,$BO$127:$BP$138,2,FALSE)","v":0},{"$f":"'Budget FCFA'!T35/VLOOKUP(T$2,$BO$127:$BP$138,2,FALSE)","v":4459.1337541942539},{"$f":"'Budget FCFA'!U35/VLOOKUP(U$2,$BO$127:$BP$138,2,FALSE)","v":0},{"$f":"'Budget FCFA'!V35/VLOOKUP(V$2,$BO$127:$BP$138,2,FALSE)","v":0},{"$f":"'Budget FCFA'!W35/VLOOKUP(W$2,$BO$127:$BP$138,2,FALSE)","v":1512.294250995111},{"$f":"'Budget FCFA'!X35/VLOOKUP(X$2,$BO$127:$BP$138,2,FALSE)","v":114.33676292805778},{"$f":"'Budget FCFA'!Y35/VLOOKUP(Y$2,$BO$127:$BP$138,2,FALSE)","v":0},{"$f":"'Budget FCFA'!Z35/VLOOKUP(Z$2,$BO$127:$BP$138,2,FALSE)","v":0},{"$f":"'Budget FCFA'!AA35/VLOOKUP(AA$2,$BO$127:$BP$138,2,FALSE)","v":2385.8271197654726},{"$f":"'Budget FCFA'!AB35/VLOOKUP(AB$2,$BO$127:$BP$138,2,FALSE)","v":1864.6578086541433},{"$f":"'Budget FCFA'!AC35/VLOOKUP(AC$2,$BO$127:$BP$138,2,FALSE)","v":0},{"$f":"'Budget FCFA'!AD35/VLOOKUP(AD$2,$BO$127:$BP$138,2,FALSE)","v":0},{"$f":"'Budget FCFA'!AE35/VLOOKUP(AE$2,$BO$127:$BP$138,2,FALSE)","v":0},{"$f":"'Budget FCFA'!AF35/VLOOKUP(AF$2,$BO$127:$BP$138,2,FALSE)","v":0},{"$f":"'Budget FCFA'!AG35/VLOOKUP(AG$2,$BO$127:$BP$138,2,FALSE)","v":114.33676292805778},{"$f":"'Budget FCFA'!AH35/VLOOKUP(AH$2,$BO$127:$BP$138,2,FALSE)","v":0},{"$f":"'Budget FCFA'!AI35/VLOOKUP(AI$2,$BO$127:$BP$138,2,FALSE)","v":0},{"$f":"'Budget FCFA'!AJ35/VLOOKUP(AJ$2,$BO$127:$BP$138,2,FALSE)","v":0},{"$f":"'Budget FCFA'!AK35/VLOOKUP(AK$2,$BO$127:$BP$138,2,FALSE)","v":0},{"$f":"'Budget FCFA'!AL35/VLOOKUP(AL$2,$BO$127:$BP$138,2,FALSE)","v":15248.712949171973},{"$f":"'Budget FCFA'!AM35/VLOOKUP(AM$2,$BO$127:$BP$138,2,FALSE)","v":114.33676292805778},{"$f":"'Budget FCFA'!AN35/VLOOKUP(AN$2,$BO$127:$BP$138,2,FALSE)","v":0},{"$f":"'Budget FCFA'!AO35/VLOOKUP(AO$2,$BO$127:$BP$138,2,FALSE)","v":0},{"$f":"'Budget FCFA'!AP35/VLOOKUP(AP$2,$BO$127:$BP$138,2,FALSE)","v":0},{"$f":"'Budget FCFA'!#REF!/VLOOKUP(AQ$2,$BO$127:$BP$138,2,FALSE)","v":{"$error":"#REF!"}},{"$f":"'Budget FCFA'!#REF!/VLOOKUP(AR$2,$BO$127:$BP$138,2,FALSE)","v":{"$error":"#REF!"}},{"$f":"'Budget FCFA'!#REF!/VLOOKUP(AS$2,$BO$127:$BP$138,2,FALSE)","v":{"$error":"#REF!"}},{"$f":"'Budget FCFA'!#REF!/VLOOKUP(AT$2,$BO$127:$BP$138,2,FALSE)","v":{"$error":"#REF!"}},{"$f":"'Budget FCFA'!#REF!/VLOOKUP(AU$2,$BO$127:$BP$138,2,FALSE)","v":{"$error":"#REF!"}},{"$f":"'Budget FCFA'!#REF!/VLOOKUP(AV$2,$BO$127:$BP$138,2,FALSE)","v":{"$error":"#REF!"}},{"$f":"'Budget FCFA'!#REF!/VLOOKUP(AW$2,$BO$127:$BP$138,2,FALSE)","v":{"$error":"#REF!"}},{"$f":"'Budget FCFA'!#REF!/VLOOKUP(AX$2,$BO$127:$BP$138,2,FALSE)","v":{"$error":"#REF!"}},{"$f":"'Budget FCFA'!#REF!/VLOOKUP(AY$2,$BO$127:$BP$138,2,FALSE)","v":{"$error":"#REF!"}},{"$f":"'Budget FCFA'!#REF!/VLOOKUP(AZ$2,$BO$127:$BP$138,2,FALSE)","v":{"$error":"#REF!"}},{"$f":"'Budget FCFA'!#REF!/VLOOKUP(BA$2,$BO$127:$BP$138,2,FALSE)","v":{"$error":"#REF!"}},{"$f":"'Budget FCFA'!#REF!/VLOOKUP(BB$2,$BO$127:$BP$138,2,FALSE)","v":{"$error":"#REF!"}},{"$f":"'Budget FCFA'!#REF!/VLOOKUP(BC$2,$BO$127:$BP$138,2,FALSE)","v":{"$error":"#REF!"}},{"$f":"'Budget FCFA'!#REF!/VLOOKUP(BD$2,$BO$127:$BP$138,2,FALSE)","v":{"$error":"#REF!"}},{"$f":"'Budget FCFA'!#REF!/VLOOKUP(BE$2,$BO$127:$BP$138,2,FALSE)","v":{"$error":"#REF!"}},{"$f":"'Budget FCFA'!#REF!/VLOOKUP(BF$2,$BO$127:$BP$138,2,FALSE)","v":{"$error":"#REF!"}},{"$f":"'Budget FCFA'!#REF!/VLOOKUP(BG$2,$BO$127:$BP$138,2,FALSE)","v":{"$error":"#REF!"}},{"$f":"'Budget FCFA'!#REF!/VLOOKUP(BH$2,$BO$127:$BP$138,2,FALSE)","v":{"$error":"#REF!"}},{"$f":"'Budget FCFA'!#REF!/VLOOKUP(BI$2,$BO$127:$BP$138,2,FALSE)","v":{"$error":"#REF!"}},{"$f":"'Budget FCFA'!#REF!/VLOOKUP(BJ$2,$BO$127:$BP$138,2,FALSE)","v":{"$error":"#REF!"}},{"$error":"#REF!"},{"$f":"BK35-'Budget FCFA'!#REF!","v":{"$error":"#REF!"}}]
["PUBDISTR","ABIDJAN","Coût distribution",{"$f":"'Budget FCFA'!D36/VLOOKUP(D$2,$BO$127:$BP$138,2,FALSE)","v":0},{"$f":"'Budget FCFA'!E36/VLOOKUP(E$2,$BO$127:$BP$138,2,FALSE)","v":0},{"$f":"'Budget FCFA'!F36/VLOOKUP(F$2,$BO$127:$BP$138,2,FALSE)","v":0},{"$f":"'Budget FCFA'!G36/VLOOKUP(G$2,$BO$127:$BP$138,2,FALSE)","v":0},{"$f":"'Budget FCFA'!H36/VLOOKUP(H$2,$BO$127:$BP$138,2,FALSE)","v":0},{"$f":"'Budget FCFA'!I36/VLOOKUP(I$2,$BO$127:$BP$138,2,FALSE)","v":490.8858355044614},{"$f":"'Budget FCFA'!J36/VLOOKUP(J$2,$BO$127:$BP$138,2,FALSE)","v":0},{"$f":"'Budget FCFA'!K36/VLOOKUP(K$2,$BO$127:$BP$138,2,FALSE)","v":0},{"$f":"'Budget FCFA'!L36/VLOOKUP(L$2,$BO$127:$BP$138,2,FALSE)","v":0},{"$f":"'Budget FCFA'!M36/VLOOKUP(M$2,$BO$127:$BP$138,2,FALSE)","v":0},{"$f":"'Budget FCFA'!N36/VLOOKUP(N$2,$BO$127:$BP$138,2,FALSE)","v":0},{"$f":"'Budget FCFA'!O36/VLOOKUP(O$2,$BO$127:$BP$138,2,FALSE)","v":0},{"$f":"'Budget FCFA'!P36/VLOOKUP(P$2,$BO$127:$BP$138,2,FALSE)","v":1577.8473284071974},{"$f":"'Budget FCFA'!Q36/VLOOKUP(Q$2,$BO$127:$BP$138,2,FALSE)","v":0},{"$f":"'Budget FCFA'!R36/VLOOKUP(R$2,$BO$127:$BP$138,2,FALSE)","v":0},{"$f":"'Budget FCFA'!S36/VLOOKUP(S$2,$BO$127:$BP$138,2,FALSE)","v":0},{"$f":"'Budget FCFA'!T36/VLOOKUP(T$2,$BO$127:$BP$138,2,FALSE)","v":3219.7232440541075},{"$f":"'Budget FCFA'!U36/VLOOKUP(U$2,$BO$127:$BP$138,2,FALSE)","v":0},{"$f":"'Budget FCFA'!V36/VLOOKUP(V$2,$BO$127:$BP$138,2,FALSE)","v":0},{"$f":"'Budget FCFA'!W36/VLOOKUP(W$2,$BO$127:$BP$138,2,FALSE)","v":0},{"$f":"'Budget FCFA'!X36/VLOOKUP(X$2,$BO$127:$BP$138,2,FALSE)","v":0},{"$f":"'Budget FCFA'!Y36/VLOOKUP(Y$2,$BO$127:$BP$138,2,FALSE)","v":0},{"$f":"'Budget FCFA'!Z36/VLOOKUP(Z$2,$BO$127:$BP$138,2,FALSE)","v":0},{"$f":"'Budget FCFA'!AA36/VLOOKUP(AA$2,$BO$127:$BP$138,2,FALSE)","v":0},{"$f":"'Budget FCFA'!AB36/VLOOKUP(AB$2,$BO$127:$BP$138,2,FALSE)","v":611.91219516650256},{"$f":"'Budget FCFA'!AC36/VLOOKUP(AC$2,$BO$127:$BP$138,2,FALSE)","v":0},{"$f":"'Budget FCFA'!AD36/VLOOKUP(AD$2,$BO$127:$BP$138,2,FALSE)","v":0},{"$f":"'Budget FCFA'!AE36/VLOOKUP(AE$2,$BO$127:$BP$138,2,FALSE)","v":0},{"$f":"'Budget FCFA'!AF36/VLOOKUP(AF$2,$BO$127:$BP$138,2,FALSE)","v":0},{"$f":"'Budget FCFA'!AG36/VLOOKUP(AG$2,$BO$127:$BP$138,2,FALSE)","v":0},{"$f":"'Budget FCFA'!AH36/VLOOKUP(AH$2,$BO$127:$BP$138,2,FALSE)","v":0},{"$f":"'Budget FCFA'!AI36/VLOOKUP(AI$2,$BO$127:$BP$138,2,FALSE)","v":0},{"$f":"'Budget FCFA'!AJ36/VLOOKUP(AJ$2,$BO$127:$BP$138,2,FALSE)","v":0},{"$f":"'Budget FCFA'!AK36/VLOOKUP(AK$2,$BO$127:$BP$138,2,FALSE)","v":0},{"$f":"'Budget FCFA'!AL36/VLOOKUP(AL$2,$BO$127:$BP$138,2,FALSE)","v":4655.7929864305133},{"$f":"'Budget FCFA'!AM36/VLOOKUP(AM$2,$BO$127:$BP$138,2,FALSE)","v":0},{"$f":"'Budget FCFA'!AN36/VLOOKUP(AN$2,$BO$127:$BP$138,2,FALSE)","v":0},{"$f":"'Budget FCFA'!AO36/VLOOKUP(AO$2,$BO$127:$BP$138,2,FALSE)","v":0},{"$f":"'Budget FCFA'!AP36/VLOOKUP(AP$2,$BO$127:$BP$138,2,FALSE)","v":0},{"$f":"'Budget FCFA'!#REF!/VLOOKUP(AQ$2,$BO$127:$BP$138,2,FALSE)","v":{"$error":"#REF!"}},{"$f":"'Budget FCFA'!#REF!/VLOOKUP(AR$2,$BO$127:$BP$138,2,FALSE)","v":{"$error":"#REF!"}},{"$f":"'Budget FCFA'!#REF!/VLOOKUP(AS$2,$BO$127:$BP$138,2,FALSE)","v":{"$error":"#REF!"}},{"$f":"'Budget FCFA'!#REF!/VLOOKUP(AT$2,$BO$127:$BP$138,2,FALSE)","v":{"$error":"#REF!"}},{"$f":"'Budget FCFA'!#REF!/VLOOKUP(AU$2,$BO$127:$BP$138,2,FALSE)","v":{"$error":"#REF!"}},{"$f":"'Budget FCFA'!#REF!/VLOOKUP(AV$2,$BO$127:$BP$138,2,FALSE)","v":{"$error":"#REF!"}},{"$f":"'Budget FCFA'!#REF!/VLOOKUP(AW$2,$BO$127:$BP$138,2,FALSE)","v":{"$error":"#REF!"}},{"$f":"'Budget FCFA'!#REF!/VLOOKUP(AX$2,$BO$127:$BP$138,2,FALSE)","v":{"$error":"#REF!"}},{"$f":"'Budget FCFA'!#REF!/VLOOKUP(AY$2,$BO$127:$BP$138,2,FALSE)","v":{"$error":"#REF!"}},{"$f":"'Budget FCFA'!#REF!/VLOOKUP(AZ$2,$BO$127:$BP$138,2,FALSE)","v":{"$error":"#REF!"}},{"$f":"'Budget FCFA'!#REF!/VLOOKUP(BA$2,$BO$127:$BP$138,2,FALSE)","v":{"$error":"#REF!"}},{"$f":"'Budget FCFA'!#REF!/VLOOKUP(BB$2,$BO$127:$BP$138,2,FALSE)","v":{"$error":"#REF!"}},{"$f":"'Budget FCFA'!#REF!/VLOOKUP(BC$2,$BO$127:$BP$138,2,FALSE)","v":{"$error":"#REF!"}},{"$f":"'Budget FCFA'!#REF!/VLOOKUP(BD$2,$BO$127:$BP$138,2,FALSE)","v":{"$error":"#REF!"}},{"$f":"'Budget FCFA'!#REF!/VLOOKUP(BE$2,$BO$127:$BP$138,2,FALSE)","v":{"$error":"#REF!"}},{"$f":"'Budget FCFA'!#REF!/VLOOKUP(BF$2,$BO$127:$BP$138,2,FALSE)","v":{"$error":"#REF!"}},{"$f":"'Budget FCFA'!#REF!/VLOOKUP(BG$2,$BO$127:$BP$138,2,FALSE)","v":{"$error":"#REF!"}},{"$f":"'Budget FCFA'!#REF!/VLOOKUP(BH$2,$BO$127:$BP$138,2,FALSE)","v":{"$error":"#REF!"}},{"$f":"'Budget FCFA'!#REF!/VLOOKUP(BI$2,$BO$127:$BP$138,2,FALSE)","v":{"$error":"#REF!"}},{"$f":"'Budget FCFA'!#REF!/VLOOKUP(BJ$2,$BO$127:$BP$138,2,FALSE)","v":{"$error":"#REF!"}},{"$error":"#REF!"},{"$f":"BK36-'Budget FCFA'!#REF!","v":{"$error":"#REF!"}}]
["PUBDISTR","BRAZZA","Coût distribution",{"$f":"'Budget FCFA'!D37/VLOOKUP(D$2,$BO$127:$BP$138,2,FALSE)","v":0},{"$f":"'Budget FCFA'!E37/VLOOKUP(E$2,$BO$127:$BP$138,2,FALSE)","v":0},{"$f":"'Budget FCFA'!F37/VLOOKUP(F$2,$BO$127:$BP$138,2,FALSE)","v":0},{"$f":"'Budget FCFA'!G37/VLOOKUP(G$2,$BO$127:$BP$138,2,FALSE)","v":0},{"$f":"'Budget FCFA'!H37/VLOOKUP(H$2,$BO$127:$BP$138,2,FALSE)","v":0},{"$f":"'Budget FCFA'!I37/VLOOKUP(I$2,$BO$127:$BP$138,2,FALSE)","v":0},{"$f":"'Budget FCFA'!J37/VLOOKUP(J$2,$BO$127:$BP$138,2,FALSE)","v":0},{"$f":"'Budget FCFA'!K37/VLOOKUP(K$2,$BO$127:$BP$138,2,FALSE)","v":0},{"$f":"'Budget FCFA'!L37/VLOOKUP(L$2,$BO$127:$BP$138,2,FALSE)","v":0},{"$f":"'Budget FCFA'!M37/VLOOKUP(M$2,$BO$127:$BP$138,2,FALSE)","v":0},{"$f":"'Budget FCFA'!N37/VLOOKUP(N$2,$BO$127:$BP$138,2,FALSE)","v":0},{"$f":"'Budget FCFA'!O37/VLOOKUP(O$2,$BO$127:$BP$138,2,FALSE)","v":0},{"$f":"'Budget FCFA'!P37/VLOOKUP(P$2,$BO$127:$BP$138,2,FALSE)","v":0},{"$f":"'Budget FCFA'!Q37/VLOOKUP(Q$2,$BO$127:$BP$138,2,FALSE)","v":0},{"$f":"'Budget FCFA'!R37/VLOOKUP(R$2,$BO$127:$BP$138,2,FALSE)","v":0},{"$f":"'Budget FCFA'!S37/VLOOKUP(S$2,$BO$127:$BP$138,2,FALSE)","v":0},{"$f":"'Budget FCFA'!T37/VLOOKUP(T$2,$BO$127:$BP$138,2,FALSE)","v":0},{"$f":"'Budget FCFA'!U37/VLOOKUP(U$2,$BO$127:$BP$138,2,FALSE)","v":0},{"$f":"'Budget FCFA'!V37/VLOOKUP(V$2,$BO$127:$BP$138,2,FALSE)","v":0},{"$f":"'Budget FCFA'!W37/VLOOKUP(W$2,$BO$127:$BP$138,2,FALSE)","v":0},{"$f":"'Budget FCFA'!X37/VLOOKUP(X$2,$BO$127:$BP$138,2,FALSE)","v":0},{"$f":"'Budget FCFA'!Y37/VLOOKUP(Y$2,$BO$127:$BP$138,2,FALSE)","v":0},{"$f":"'Budget FCFA'!Z37/VLOOKUP(Z$2,$BO$127:$BP$138,2,FALSE)","v":0},{"$f":"'Budget FCFA'!AA37/VLOOKUP(AA$2,$BO$127:$BP$138,2,FALSE)","v":0},{"$f":"'Budget FCFA'!AB37/VLOOKUP(AB$2,$BO$127:$BP$138,2,FALSE)","v":0},{"$f":"'Budget FCFA'!AC37/VLOOKUP(AC$2,$BO$127:$BP$138,2,FALSE)","v":0},{"$f":"'Budget FCFA'!AD37/VLOOKUP(AD$2,$BO$127:$BP$138,2,FALSE)","v":0},{"$f":"'Budget FCFA'!AE37/VLOOKUP(AE$2,$BO$127:$BP$138,2,FALSE)","v":0},{"$f":"'Budget FCFA'!AF37/VLOOKUP(AF$2,$BO$127:$BP$138,2,FALSE)","v":0},{"$f":"'Budget FCFA'!AG37/VLOOKUP(AG$2,$BO$127:$BP$138,2,FALSE)","v":0},{"$f":"'Budget FCFA'!AH37/VLOOKUP(AH$2,$BO$127:$BP$138,2,FALSE)","v":0},{"$f":"'Budget FCFA'!AI37/VLOOKUP(AI$2,$BO$127:$BP$138,2,FALSE)","v":0},{"$f":"'Budget FCFA'!AJ37/VLOOKUP(AJ$2,$BO$127:$BP$138,2,FALSE)","v":0},{"$f":"'Budget FCFA'!AK37/VLOOKUP(AK$2,$BO$127:$BP$138,2,FALSE)","v":0},{"$f":"'Budget FCFA'!AL37/VLOOKUP(AL$2,$BO$127:$BP$138,2,FALSE)","v":1132.6961980739591},{"$f":"'Budget FCFA'!AM37/VLOOKUP(AM$2,$BO$127:$BP$138,2,FALSE)","v":0},{"$f":"'Budget FCFA'!AN37/VLOOKUP(AN$2,$BO$127:$BP$138,2,FALSE)","v":0},{"$f":"'Budget FCFA'!AO37/VLOOKUP(AO$2,$BO$127:$BP$138,2,FALSE)","v":0},{"$f":"'Budget FCFA'!AP37/VLOOKUP(AP$2,$BO$127:$BP$138,2,FALSE)","v":0},{"$f":"'Budget FCFA'!#REF!/VLOOKUP(AQ$2,$BO$127:$BP$138,2,FALSE)","v":{"$error":"#REF!"}},{"$f":"'Budget FCFA'!#REF!/VLOOKUP(AR$2,$BO$127:$BP$138,2,FALSE)","v":{"$error":"#REF!"}},{"$f":"'Budget FCFA'!#REF!/VLOOKUP(AS$2,$BO$127:$BP$138,2,FALSE)","v":{"$error":"#REF!"}},{"$f":"'Budget FCFA'!#REF!/VLOOKUP(AT$2,$BO$127:$BP$138,2,FALSE)","v":{"$error":"#REF!"}},{"$f":"'Budget FCFA'!#REF!/VLOOKUP(AU$2,$BO$127:$BP$138,2,FALSE)","v":{"$error":"#REF!"}},{"$f":"'Budget FCFA'!#REF!/VLOOKUP(AV$2,$BO$127:$BP$138,2,FALSE)","v":{"$error":"#REF!"}},{"$f":"'Budget FCFA'!#REF!/VLOOKUP(AW$2,$BO$127:$BP$138,2,FALSE)","v":{"$error":"#REF!"}},{"$f":"'Budget FCFA'!#REF!/VLOOKUP(AX$2,$BO$127:$BP$138,2,FALSE)","v":{"$error":"#REF!"}},{"$f":"'Budget FCFA'!#REF!/VLOOKUP(AY$2,$BO$127:$BP$138,2,FALSE)","v":{"$error":"#REF!"}},{"$f":"'Budget FCFA'!#REF!/VLOOKUP(AZ$2,$BO$127:$BP$138,2,FALSE)","v":{"$error":"#REF!"}},{"$f":"'Budget FCFA'!#REF!/VLOOKUP(BA$2,$BO$127:$BP$138,2,FALSE)","v":{"$error":"#REF!"}},{"$f":"'Budget FCFA'!#REF!/VLOOKUP(BB$2,$BO$127:$BP$138,2,FALSE)","v":{"$error":"#REF!"}},{"$f":"'Budget FCFA'!#REF!/VLOOKUP(BC$2,$BO$127:$BP$138,2,FALSE)","v":{"$error":"#REF!"}},{"$f":"'Budget FCFA'!#REF!/VLOOKUP(BD$2,$BO$127:$BP$138,2,FALSE)","v":{"$error":"#REF!"}},{"$f":"'Budget FCFA'!#REF!/VLOOKUP(BE$2,$BO$127:$BP$138,2,FALSE)","v":{"$error":"#REF!"}},{"$f":"'Budget FCFA'!#REF!/VLOOKUP(BF$2,$BO$127:$BP$138,2,FALSE)","v":{"$error":"#REF!"}},{"$f":"'Budget FCFA'!#REF!/VLOOKUP(BG$2,$BO$127:$BP$138,2,FALSE)","v":{"$error":"#REF!"}},{"$f":"'Budget FCFA'!#REF!/VLOOKUP(BH$2,$BO$127:$BP$138,2,FALSE)","v":{"$error":"#REF!"}},{"$f":"'Budget FCFA'!#REF!/VLOOKUP(BI$2,$BO$127:$BP$138,2,FALSE)","v":{"$error":"#REF!"}},{"$f":"'Budget FCFA'!#REF!/VLOOKUP(BJ$2,$BO$127:$BP$138,2,FALSE)","v":{"$error":"#REF!"}},{"$error":"#REF!"},{"$f":"BK37-'Budget FCFA'!#REF!","v":{"$error":"#REF!"}}]
["PUBDISTR","DAKAR","Coût distribution",{"$f":"'Budget FCFA'!D38/VLOOKUP(D$2,$BO$127:$BP$138,2,FALSE)","v":0},{"$f":"'Budget FCFA'!E38/VLOOKUP(E$2,$BO$127:$BP$138,2,FALSE)","v":0},{"$f":"'Budget FCFA'!F38/VLOOKUP(F$2,$BO$127:$BP$138,2,FALSE)","v":0},{"$f":"'Budget FCFA'!G38/VLOOKUP(G$2,$BO$127:$BP$138,2,FALSE)","v":0},{"$f":"'Budget FCFA'!H38/VLOOKUP(H$2,$BO$127:$BP$138,2,FALSE)","v":0},{"$f":"'Budget FCFA'!I38/VLOOKUP(I$2,$BO$127:$BP$138,2,FALSE)","v":2683.1027033784226},{"$f":"'Budget FCFA'!J38/VLOOKUP(J$2,$BO$127:$BP$138,2,FALSE)","v":0},{"$f":"'Budget FCFA'!K38/VLOOKUP(K$2,$BO$127:$BP$138,2,FALSE)","v":0},{"$f":"'Budget FCFA'!L38/VLOOKUP(L$2,$BO$127:$BP$138,2,FALSE)","v":0},{"$f":"'Budget FCFA'!M38/VLOOKUP(M$2,$BO$127:$BP$138,2,FALSE)","v":0},{"$f":"'Budget FCFA'!N38/VLOOKUP(N$2,$BO$127:$BP$138,2,FALSE)","v":0},{"$f":"'Budget FCFA'!O38/VLOOKUP(O$2,$BO$127:$BP$138,2,FALSE)","v":0},{"$f":"'Budget FCFA'!P38/VLOOKUP(P$2,$BO$127:$BP$138,2,FALSE)","v":0},{"$f":"'Budget FCFA'!Q38/VLOOKUP(Q$2,$BO$127:$BP$138,2,FALSE)","v":0},{"$f":"'Budget FCFA'!R38/VLOOKUP(R$2,$BO$127:$BP$138,2,FALSE)","v":0},{"$f":"'Budget FCFA'!S38/VLOOKUP(S$2,$BO$127:$BP$138,2,FALSE)","v":0},{"$f":"'Budget FCFA'!T38/VLOOKUP(T$2,$BO$127:$BP$138,2,FALSE)","v":0},{"$f":"'Budget FCFA'!U38/VLOOKUP(U$2,$BO$127:$BP$138,2,FALSE)","v":0},{"$f":"'Budget FCFA'!V38/VLOOKUP(V$2,$BO$127:$BP$138,2,FALSE)","v":0},{"$f":"'Budget FCFA'!W38/VLOOKUP(W$2,$BO$127:$BP$138,2,FALSE)","v":0},{"$f":"'Budget FCFA'!X38/VLOOKUP(X$2,$BO$127:$BP$138,2,FALSE)","v":0},{"$f":"'Budget FCFA'!Y38/VLOOKUP(Y$2,$BO$127:$BP$138,2,FALSE)","v":0},{"$f":"'Budget FCFA'!Z38/VLOOKUP(Z$2,$BO$127:$BP$138,2,FALSE)","v":0},{"$f":"'Budget FCFA'!AA38/VLOOKUP(AA$2,$BO$127:$BP$138,2,FALSE)","v":0},{"$f":"'Budget FCFA'!AB38/VLOOKUP(AB$2,$BO$127:$BP$138,2,FALSE)","v":0},{"$f":"'Budget FCFA'!AC38/VLOOKUP(AC$2,$BO$127:$BP$138,2,FALSE)","v":0},{"$f":"'Budget FCFA'!AD38/VLOOKUP(AD$2,$BO$127:$BP$138,2,FALSE)","v":0},{"$f":"'Budget FCFA'!AE38/VLOOKUP(AE$2,$BO$127:$BP$138,2,FALSE)","v":0},{"$f":"'Budget FCFA'!AF38/VLOOKUP(AF$2,$BO$127:$BP$138,2,FALSE)","v":0},{"$f":"'Budget FCFA'!AG38/VLOOKUP(AG$2,$BO$127:$BP$138,2,FALSE)","v":0},{"$f":"'Budget FCFA'!AH38/VLOOKUP(AH$2,$BO$127:$BP$138,2,FALSE)","v":0},{"$f":"'Budget FCFA'!AI38/VLOOKUP(AI$2,$BO$127:$BP$138,2,FALSE)","v":0},{"$f":"'Budget FCFA'!AJ38/VLOOKUP(AJ$2,$BO$127:$BP$138,2,FALSE)","v":0},{"$f":"'Budget FCFA'!AK38/VLOOKUP(AK$2,$BO$127:$BP$138,2,FALSE)","v":0},{"$f":"'Budget FCFA'!AL38/VLOOKUP(AL$2,$BO$127:$BP$138,2,FALSE)","v":2079.7094931527522},{"$f":"'Budget FCFA'!AM38/VLOOKUP(AM$2,$BO$127:$BP$138,2,FALSE)","v":0},{"$f":"'Budget FCFA'!AN38/VLOOKUP(AN$2,$BO$127:$BP$138,2,FALSE)","v":0},{"$f":"'Budget FCFA'!AO38/VLOOKUP(AO$2,$BO$127:$BP$138,2,FALSE)","v":0},{"$f":"'Budget FCFA'!AP38/VLOOKUP(AP$2,$BO$127:$BP$138,2,FALSE)","v":0},{"$f":"'Budget FCFA'!#REF!/VLOOKUP(AQ$2,$BO$127:$BP$138,2,FALSE)","v":{"$error":"#REF!"}},{"$f":"'Budget FCFA'!#REF!/VLOOKUP(AR$2,$BO$127:$BP$138,2,FALSE)","v":{"$error":"#REF!"}},{"$f":"'Budget FCFA'!#REF!/VLOOKUP(AS$2,$BO$127:$BP$138,2,FALSE)","v":{"$error":"#REF!"}},{"$f":"'Budget FCFA'!#REF!/VLOOKUP(AT$2,$BO$127:$BP$138,2,FALSE)","v":{"$error":"#REF!"}},{"$f":"'Budget FCFA'!#REF!/VLOOKUP(AU$2,$BO$127:$BP$138,2,FALSE)","v":{"$error":"#REF!"}},{"$f":"'Budget FCFA'!#REF!/VLOOKUP(AV$2,$BO$127:$BP$138,2,FALSE)","v":{"$error":"#REF!"}},{"$f":"'Budget FCFA'!#REF!/VLOOKUP(AW$2,$BO$127:$BP$138,2,FALSE)","v":{"$error":"#REF!"}},{"$f":"'Budget FCFA'!#REF!/VLOOKUP(AX$2,$BO$127:$BP$138,2,FALSE)","v":{"$error":"#REF!"}},{"$f":"'Budget FCFA'!#REF!/VLOOKUP(AY$2,$BO$127:$BP$138,2,FALSE)","v":{"$error":"#REF!"}},{"$f":"'Budget FCFA'!#REF!/VLOOKUP(AZ$2,$BO$127:$BP$138,2,FALSE)","v":{"$error":"#REF!"}},{"$f":"'Budget FCFA'!#REF!/VLOOKUP(BA$2,$BO$127:$BP$138,2,FALSE)","v":{"$error":"#REF!"}},{"$f":"'Budget FCFA'!#REF!/VLOOKUP(BB$2,$BO$127:$BP$138,2,FALSE)","v":{"$error":"#REF!"}},{"$f":"'Budget FCFA'!#REF!/VLOOKUP(BC$2,$BO$127:$BP$138,2,FALSE)","v":{"$error":"#REF!"}},{"$f":"'Budget FCFA'!#REF!/VLOOKUP(BD$2,$BO$127:$BP$138,2,FALSE)","v":{"$error":"#REF!"}},{"$f":"'Budget FCFA'!#REF!/VLOOKUP(BE$2,$BO$127:$BP$138,2,FALSE)","v":{"$error":"#REF!"}},{"$f":"'Budget FCFA'!#REF!/VLOOKUP(BF$2,$BO$127:$BP$138,2,FALSE)","v":{"$error":"#REF!"}},{"$f":"'Budget FCFA'!#REF!/VLOOKUP(BG$2,$BO$127:$BP$138,2,FALSE)","v":{"$error":"#REF!"}},{"$f":"'Budget FCFA'!#REF!/VLOOKUP(BH$2,$BO$127:$BP$138,2,FALSE)","v":{"$error":"#REF!"}},{"$f":"'Budget FCFA'!#REF!/VLOOKUP(BI$2,$BO$127:$BP$138,2,FALSE)","v":{"$error":"#REF!"}},{"$f":"'Budget FCFA'!#REF!/VLOOKUP(BJ$2,$BO$127:$BP$138,2,FALSE)","v":{"$error":"#REF!"}},{"$error":"#REF!"},{"$f":"BK38-'Budget FCFA'!#REF!","v":{"$error":"#REF!"}}]
["PUBDISTR","LIBREVILLE","Coût distribution",{"$f":"'Budget FCFA'!D39/VLOOKUP(D$2,$BO$127:$BP$138,2,FALSE)","v":0},{"$f":"'Budget FCFA'!E39/VLOOKUP(E$2,$BO$127:$BP$138,2,FALSE)","v":0},{"$f":"'Budget FCFA'!F39/VLOOKUP(F$2,$BO$127:$BP$138,2,FALSE)","v":0},{"$f":"'Budget FCFA'!G39/VLOOKUP(G$2,$BO$127:$BP$138,2,FALSE)","v":0},{"$f":"'Budget FCFA'!H39/VLOOKUP(H$2,$BO$127:$BP$138,2,FALSE)","v":0},{"$f":"'Budget FCFA'!I39/VLOOKUP(I$2,$BO$127:$BP$138,2,FALSE)","v":1463.5105654791396},{"$f":"'Budget FCFA'!J39/VLOOKUP(J$2,$BO$127:$BP$138,2,FALSE)","v":0},{"$f":"'Budget FCFA'!K39/VLOOKUP(K$2,$BO$127:$BP$138,2,FALSE)","v":0},{"$f":"'Budget FCFA'!L39/VLOOKUP(L$2,$BO$127:$BP$138,2,FALSE)","v":0},{"$f":"'Budget FCFA'!M39/VLOOKUP(M$2,$BO$127:$BP$138,2,FALSE)","v":0},{"$f":"'Budget FCFA'!N39/VLOOKUP(N$2,$BO$127:$BP$138,2,FALSE)","v":0},{"$f":"'Budget FCFA'!O39/VLOOKUP(O$2,$BO$127:$BP$138,2,FALSE)","v":0},{"$f":"'Budget FCFA'!P39/VLOOKUP(P$2,$BO$127:$BP$138,2,FALSE)","v":0},{"$f":"'Budget FCFA'!Q39/VLOOKUP(Q$2,$BO$127:$BP$138,2,FALSE)","v":0},{"$f":"'Budget FCFA'!R39/VLOOKUP(R$2,$BO$127:$BP$138,2,FALSE)","v":0},{"$f":"'Budget FCFA'!S39/VLOOKUP(S$2,$BO$127:$BP$138,2,FALSE)","v":0},{"$f":"'Budget FCFA'!T39/VLOOKUP(T$2,$BO$127:$BP$138,2,FALSE)","v":0},{"$f":"'Budget FCFA'!U39/VLOOKUP(U$2,$BO$127:$BP$138,2,FALSE)","v":0},{"$f":"'Budget FCFA'!V39/VLOOKUP(V$2,$BO$127:$BP$138,2,FALSE)","v":0},{"$f":"'Budget FCFA'!W39/VLOOKUP(W$2,$BO$127:$BP$138,2,FALSE)","v":0},{"$f":"'Budget FCFA'!X39/VLOOKUP(X$2,$BO$127:$BP$138,2,FALSE)","v":0},{"$f":"'Budget FCFA'!Y39/VLOOKUP(Y$2,$BO$127:$BP$138,2,FALSE)","v":0},{"$f":"'Budget FCFA'!Z39/VLOOKUP(Z$2,$BO$127:$BP$138,2,FALSE)","v":0},{"$f":"'Budget FCFA'!AA39/VLOOKUP(AA$2,$BO$127:$BP$138,2,FALSE)","v":0},{"$f":"'Budget FCFA'!AB39/VLOOKUP(AB$2,$BO$127:$BP$138,2,FALSE)","v":0},{"$f":"'Budget FCFA'!AC39/VLOOKUP(AC$2,$BO$127:$BP$138,2,FALSE)","v":0},{"$f":"'Budget FCFA'!AD39/VLOOKUP(AD$2,$BO$127:$BP$138,2,FALSE)","v":0},{"$f":"'Budget FCFA'!AE39/VLOOKUP(AE$2,$BO$127:$BP$138,2,FALSE)","v":0},{"$f":"'Budget FCFA'!AF39/VLOOKUP(AF$2,$BO$127:$BP$138,2,FALSE)","v":0},{"$f":"'Budget FCFA'!AG39/VLOOKUP(AG$2,$BO$127:$BP$138,2,FALSE)","v":0},{"$f":"'Budget FCFA'!AH39/VLOOKUP(AH$2,$BO$127:$BP$138,2,FALSE)","v":0},{"$f":"'Budget FCFA'!AI39/VLOOKUP(AI$2,$BO$127:$BP$138,2,FALSE)","v":0},{"$f":"'Budget FCFA'!AJ39/VLOOKUP(AJ$2,$BO$127:$BP$138,2,FALSE)","v":0},{"$f":"'Budget FCFA'!AK39/VLOOKUP(AK$2,$BO$127:$BP$138,2,FALSE)","v":0},{"$f":"'Budget FCFA'!AL39/VLOOKUP(AL$2,$BO$127:$BP$138,2,FALSE)","v":2243.2735682369425},{"$f":"'Budget FCFA'!AM39/VLOOKUP(AM$2,$BO$127:$BP$138,2,FALSE)","v":0},{"$f":"'Budget FCFA'!AN39/VLOOKUP(AN$2,$BO$127:$BP$138,2,FALSE)","v":0},{"$f":"'Budget FCFA'!AO39/VLOOKUP(AO$2,$BO$127:$BP$138,2,FALSE)","v":0},{"$f":"'Budget FCFA'!AP39/VLOOKUP(AP$2,$BO$127:$BP$138,2,FALSE)","v":0},{"$f":"'Budget FCFA'!#REF!/VLOOKUP(AQ$2,$BO$127:$BP$138,2,FALSE)","v":{"$error":"#REF!"}},{"$f":"'Budget FCFA'!#REF!/VLOOKUP(AR$2,$BO$127:$BP$138,2,FALSE)","v":{"$error":"#REF!"}},{"$f":"'Budget FCFA'!#REF!/VLOOKUP(AS$2,$BO$127:$BP$138,2,FALSE)","v":{"$error":"#REF!"}},{"$f":"'Budget FCFA'!#REF!/VLOOKUP(AT$2,$BO$127:$BP$138,2,FALSE)","v":{"$error":"#REF!"}},{"$f":"'Budget FCFA'!#REF!/VLOOKUP(AU$2,$BO$127:$BP$138,2,FALSE)","v":{"$error":"#REF!"}},{"$f":"'Budget FCFA'!#REF!/VLOOKUP(AV$2,$BO$127:$BP$138,2,FALSE)","v":{"$error":"#REF!"}},{"$f":"'Budget FCFA'!#REF!/VLOOKUP(AW$2,$BO$127:$BP$138,2,FALSE)","v":{"$error":"#REF!"}},{"$f":"'Budget FCFA'!#REF!/VLOOKUP(AX$2,$BO$127:$BP$138,2,FALSE)","v":{"$error":"#REF!"}},{"$f":"'Budget FCFA'!#REF!/VLOOKUP(AY$2,$BO$127:$BP$138,2,FALSE)","v":{"$error":"#REF!"}},{"$f":"'Budget FCFA'!#REF!/VLOOKUP(AZ$2,$BO$127:$BP$138,2,FALSE)","v":{"$error":"#REF!"}},{"$f":"'Budget FCFA'!#REF!/VLOOKUP(BA$2,$BO$127:$BP$138,2,FALSE)","v":{"$error":"#REF!"}},{"$f":"'Budget FCFA'!#REF!/VLOOKUP(BB$2,$BO$127:$BP$138,2,FALSE)","v":{"$error":"#REF!"}},{"$f":"'Budget FCFA'!#REF!/VLOOKUP(BC$2,$BO$127:$BP$138,2,FALSE)","v":{"$error":"#REF!"}},{"$f":"'Budget FCFA'!#REF!/VLOOKUP(BD$2,$BO$127:$BP$138,2,FALSE)","v":{"$error":"#REF!"}},{"$f":"'Budget FCFA'!#REF!/VLOOKUP(BE$2,$BO$127:$BP$138,2,FALSE)","v":{"$error":"#REF!"}},{"$f":"'Budget FCFA'!#REF!/VLOOKUP(BF$2,$BO$127:$BP$138,2,FALSE)","v":{"$error":"#REF!"}},{"$f":"'Budget FCFA'!#REF!/VLOOKUP(BG$2,$BO$127:$BP$138,2,FALSE)","v":{"$error":"#REF!"}},{"$f":"'Budget FCFA'!#REF!/VLOOKUP(BH$2,$BO$127:$BP$138,2,FALSE)","v":{"$error":"#REF!"}},{"$f":"'Budget FCFA'!#REF!/VLOOKUP(BI$2,$BO$127:$BP$138,2,FALSE)","v":{"$error":"#REF!"}},{"$f":"'Budget FCFA'!#REF!/VLOOKUP(BJ$2,$BO$127:$BP$138,2,FALSE)","v":{"$error":"#REF!"}},{"$error":"#REF!"},{"$f":"BK39-'Budget FCFA'!#REF!","v":{"$error":"#REF!"}}]
["PUBDISTR","DOUALA","Coût distribution",{"$f":"'Budget FCFA'!D40/VLOOKUP(D$2,$BO$127:$BP$138,2,FALSE)","v":0},{"$f":"'Budget FCFA'!E40/VLOOKUP(E$2,$BO$127:$BP$138,2,FALSE)","v":0},{"$f":"'Budget FCFA'!F40/VLOOKUP(F$2,$BO$127:$BP$138,2,FALSE)","v":0},{"$f":"'Budget FCFA'!G40/VLOOKUP(G$2,$BO$127:$BP$138,2,FALSE)","v":0},{"$f":"'Budget FCFA'!H40/VLOOKUP(H$2,$BO$127:$BP$138,2,FALSE)","v":0},{"$f":"'Budget FCFA'!I40/VLOOKUP(I$2,$BO$127:$BP$138,2,FALSE)","v":2865.6680239710836},{"$f":"'Budget FCFA'!J40/VLOOKUP(J$2,$BO$127:$BP$138,2,FALSE)","v":0},{"$f":"'Budget FCFA'!K40/VLOOKUP(K$2,$BO$127:$BP$138,2,FALSE)","v":0},{"$f":"'Budget FCFA'!L40/VLOOKUP(L$2,$BO$127:$BP$138,2,FALSE)","v":0},{"$f":"'Budget FCFA'!M40/VLOOKUP(M$2,$BO$127:$BP$138,2,FALSE)","v":0},{"$f":"'Budget FCFA'!N40/VLOOKUP(N$2,$BO$127:$BP$138,2,FALSE)","v":0},{"$f":"'Budget FCFA'!O40/VLOOKUP(O$2,$BO$127:$BP$138,2,FALSE)","v":0},{"$f":"'Budget FCFA'!P40/VLOOKUP(P$2,$BO$127:$BP$138,2,FALSE)","v":0},{"$f":"'Budget FCFA'!Q40/VLOOKUP(Q$2,$BO$127:$BP$138,2,FALSE)","v":0},{"$f":"'Budget FCFA'!R40/VLOOKUP(R$2,$BO$127:$BP$138,2,FALSE)","v":0},{"$f":"'Budget FCFA'!S40/VLOOKUP(S$2,$BO$127:$BP$138,2,FALSE)","v":0},{"$f":"'Budget FCFA'!T40/VLOOKUP(T$2,$BO$127:$BP$138,2,FALSE)","v":0},{"$f":"'Budget FCFA'!U40/VLOOKUP(U$2,$BO$127:$BP$138,2,FALSE)","v":0},{"$f":"'Budget FCFA'!V40/VLOOKUP(V$2,$BO$127:$BP$138,2,FALSE)","v":0},{"$f":"'Budget FCFA'!W40/VLOOKUP(W$2,$BO$127:$BP$138,2,FALSE)","v":0},{"$f":"'Budget FCFA'!X40/VLOOKUP(X$2,$BO$127:$BP$138,2,FALSE)","v":0},{"$f":"'Budget FCFA'!Y40/VLOOKUP(Y$2,$BO$127:$BP$138,2,FALSE)","v":0},{"$f":"'Budget FCFA'!Z40/VLOOKUP(Z$2,$BO$127:$BP$138,2,FALSE)","v":0},{"$f":"'Budget FCFA'!AA40/VLOOKUP(AA$2,$BO$127:$BP$138,2,FALSE)","v":0},{"$f":"'Budget FCFA'!AB40/VLOOKUP(AB$2,$BO$127:$BP$138,2,FALSE)","v":0},{"$f":"'Budget FCFA'!AC40/VLOOKUP(AC$2,$BO$127:$BP$138,2,FALSE)","v":0},{"$f":"'Budget FCFA'!AD40/VLOOKUP(AD$2,$BO$127:$BP$138,2,FALSE)","v":0},{"$f":"'Budget FCFA'!AE40/VLOOKUP(AE$2,$BO$127:$BP$138,2,FALSE)","v":0},{"$f":"'Budget FCFA'!AF40/VLOOKUP(AF$2,$BO$127:$BP$138,2,FALSE)","v":0},{"$f":"'Budget FCFA'!AG40/VLOOKUP(AG$2,$BO$127:$BP$138,2,FALSE)","v":0},{"$f":"'Budget FCFA'!AH40/VLOOKUP(AH$2,$BO$127:$BP$138,2,FALSE)","v":0},{"$f":"'Budget FCFA'!AI40/VLOOKUP(AI$2,$BO$127:$BP$138,2,FALSE)","v":0},{"$f":"'Budget FCFA'!AJ40/VLOOKUP(AJ$2,$BO$127:$BP$138,2,FALSE)","v":0},{"$f":"'Budget FCFA'!AK40/VLOOKUP(AK$2,$BO$127:$BP$138,2,FALSE)","v":0},{"$f":"'Budget FCFA'!AL40/VLOOKUP(AL$2,$BO$127:$BP$138,2,FALSE)","v":2248.6230042518032},{"$f":"'Budget FCFA'!AM40/VLOOKUP(AM$2,$BO$127:$BP$138,2,FALSE)","v":0},{"$f":"'Budget FCFA'!AN40/VLOOKUP(AN$2,$BO$127:$BP$138,2,FALSE)","v":0},{"$f":"'Budget FCFA'!AO40/VLOOKUP(AO$2,$BO$127:$BP$138,2,FALSE)","v":0},{"$f":"'Budget FCFA'!AP40/VLOOKUP(AP$2,$BO$127:$BP$138,2,FALSE)","v":0},{"$f":"'Budget FCFA'!#REF!/VLOOKUP(AQ$2,$BO$127:$BP$138,2,FALSE)","v":{"$error":"#REF!"}},{"$f":"'Budget FCFA'!#REF!/VLOOKUP(AR$2,$BO$127:$BP$138,2,FALSE)","v":{"$error":"#REF!"}},{"$f":"'Budget FCFA'!#REF!/VLOOKUP(AS$2,$BO$127:$BP$138,2,FALSE)","v":{"$error":"#REF!"}},{"$f":"'Budget FCFA'!#REF!/VLOOKUP(AT$2,$BO$127:$BP$138,2,FALSE)","v":{"$error":"#REF!"}},{"$f":"'Budget FCFA'!#REF!/VLOOKUP(AU$2,$BO$127:$BP$138,2,FALSE)","v":{"$error":"#REF!"}},{"$f":"'Budget FCFA'!#REF!/VLOOKUP(AV$2,$BO$127:$BP$138,2,FALSE)","v":{"$error":"#REF!"}},{"$f":"'Budget FCFA'!#REF!/VLOOKUP(AW$2,$BO$127:$BP$138,2,FALSE)","v":{"$error":"#REF!"}},{"$f":"'Budget FCFA'!#REF!/VLOOKUP(AX$2,$BO$127:$BP$138,2,FALSE)","v":{"$error":"#REF!"}},{"$f":"'Budget FCFA'!#REF!/VLOOKUP(AY$2,$BO$127:$BP$138,2,FALSE)","v":{"$error":"#REF!"}},{"$f":"'Budget FCFA'!#REF!/VLOOKUP(AZ$2,$BO$127:$BP$138,2,FALSE)","v":{"$error":"#REF!"}},{"$f":"'Budget FCFA'!#REF!/VLOOKUP(BA$2,$BO$127:$BP$138,2,FALSE)","v":{"$error":"#REF!"}},{"$f":"'Budget FCFA'!#REF!/VLOOKUP(BB$2,$BO$127:$BP$138,2,FALSE)","v":{"$error":"#REF!"}},{"$f":"'Budget FCFA'!#REF!/VLOOKUP(BC$2,$BO$127:$BP$138,2,FALSE)","v":{"$error":"#REF!"}},{"$f":"'Budget FCFA'!#REF!/VLOOKUP(BD$2,$BO$127:$BP$138,2,FALSE)","v":{"$error":"#REF!"}},{"$f":"'Budget FCFA'!#REF!/VLOOKUP(BE$2,$BO$127:$BP$138,2,FALSE)","v":{"$error":"#REF!"}},{"$f":"'Budget FCFA'!#REF!/VLOOKUP(BF$2,$BO$127:$BP$138,2,FALSE)","v":{"$error":"#REF!"}},{"$f":"'Budget FCFA'!#REF!/VLOOKUP(BG$2,$BO$127:$BP$138,2,FALSE)","v":{"$error":"#REF!"}},{"$f":"'Budget FCFA'!#REF!/VLOOKUP(BH$2,$BO$127:$BP$138,2,FALSE)","v":{"$error":"#REF!"}},{"$f":"'Budget FCFA'!#REF!/VLOOKUP(BI$2,$BO$127:$BP$138,2,FALSE)","v":{"$error":"#REF!"}},{"$f":"'Budget FCFA'!#REF!/VLOOKUP(BJ$2,$BO$127:$BP$138,2,FALSE)","v":{"$error":"#REF!"}},{"$error":"#REF!"},{"$f":"BK40-'Budget FCFA'!#REF!","v":{"$error":"#REF!"}}]
["PUBDISTR","TOTAL","Total distribution",{"$f":"'Budget FCFA'!D41/VLOOKUP(D$2,$BO$127:$BP$138,2,FALSE)","v":0},{"$f":"'Budget FCFA'!E41/VLOOKUP(E$2,$BO$127:$BP$138,2,FALSE)","v":0},{"$f":"'Budget FCFA'!F41/VLOOKUP(F$2,$BO$127:$BP$138,2,FALSE)","v":0},{"$f":"'Budget FCFA'!G41/VLOOKUP(G$2,$BO$127:$BP$138,2,FALSE)","v":0},{"$f":"'Budget FCFA'!H41/VLOOKUP(H$2,$BO$127:$BP$138,2,FALSE)","v":0},{"$f":"'Budget FCFA'!I41/VLOOKUP(I$2,$BO$127:$BP$138,2,FALSE)","v":7503.167128333107},{"$f":"'Budget FCFA'!J41/VLOOKUP(J$2,$BO$127:$BP$138,2,FALSE)","v":0},{"$f":"'Budget FCFA'!K41/VLOOKUP(K$2,$BO$127:$BP$138,2,FALSE)","v":0},{"$f":"'Budget FCFA'!L41/VLOOKUP(L$2,$BO$127:$BP$138,2,FALSE)","v":0},{"$f":"'Budget FCFA'!M41/VLOOKUP(M$2,$BO$127:$BP$138,2,FALSE)","v":0},{"$f":"'Budget FCFA'!N41/VLOOKUP(N$2,$BO$127:$BP$138,2,FALSE)","v":0},{"$f":"'Budget FCFA'!O41/VLOOKUP(O$2,$BO$127:$BP$138,2,FALSE)","v":0},{"$f":"'Budget FCFA'!P41/VLOOKUP(P$2,$BO$127:$BP$138,2,FALSE)","v":1577.8473284071974},{"$f":"'Budget FCFA'!Q41/VLOOKUP(Q$2,$BO$127:$BP$138,2,FALSE)","v":0},{"$f":"'Budget FCFA'!R41/VLOOKUP(R$2,$BO$127:$BP$138,2,FALSE)","v":0},{"$f":"'Budget FCFA'!S41/VLOOKUP(S$2,$BO$127:$BP$138,2,FALSE)","v":0},{"$f":"'Budget FCFA'!T41/VLOOKUP(T$2,$BO$127:$BP$138,2,FALSE)","v":3219.7232440541075},{"$f":"'Budget FCFA'!U41/VLOOKUP(U$2,$BO$127:$BP$138,2,FALSE)","v":0},{"$f":"'Budget FCFA'!V41/VLOOKUP(V$2,$BO$127:$BP$138,2,FALSE)","v":0},{"$f":"'Budget FCFA'!W41/VLOOKUP(W$2,$BO$127:$BP$138,2,FALSE)","v":0},{"$f":"'Budget FCFA'!X41/VLOOKUP(X$2,$BO$127:$BP$138,2,FALSE)","v":0},{"$f":"'Budget FCFA'!Y41/VLOOKUP(Y$2,$BO$127:$BP$138,2,FALSE)","v":0},{"$f":"'Budget FCFA'!Z41/VLOOKUP(Z$2,$BO$127:$BP$138,2,FALSE)","v":0},{"$f":"'Budget FCFA'!AA41/VLOOKUP(AA$2,$BO$127:$BP$138,2,FALSE)","v":0},{"$f":"'Budget FCFA'!AB41/VLOOKUP(AB$2,$BO$127:$BP$138,2,FALSE)","v":611.91219516650256},{"$f":"'Budget FCFA'!AC41/VLOOKUP(AC$2,$BO$127:$BP$138,2,FALSE)","v":0},{"$f":"'Budget FCFA'!AD41/VLOOKUP(AD$2,$BO$127:$BP$138,2,FALSE)","v":0},{"$f":"'Budget FCFA'!AE41/VLOOKUP(AE$2,$BO$127:$BP$138,2,FALSE)","v":0},{"$f":"'Budget FCFA'!AF41/VLOOKUP(AF$2,$BO$127:$BP$138,2,FALSE)","v":0},{"$f":"'Budget FCFA'!AG41/VLOOKUP(AG$2,$BO$127:$BP$138,2,FALSE)","v":0},{"$f":"'Budget FCFA'!AH41/VLOOKUP(AH$2,$BO$127:$BP$138,2,FALSE)","v":0},{"$f":"'Budget FCFA'!AI41/VLOOKUP(AI$2,$BO$127:$BP$138,2,FALSE)","v":0},{"$f":"'Budget FCFA'!AJ41/VLOOKUP(AJ$2,$BO$127:$BP$138,2,FALSE)","v":0},{"$f":"'Budget FCFA'!AK41/VLOOKUP(AK$2,$BO$127:$BP$138,2,FALSE)","v":0},{"$f":"'Budget FCFA'!AL41/VLOOKUP(AL$2,$BO$127:$BP$138,2,FALSE)","v":12360.095250145971},{"$f":"'Budget FCFA'!AM41/VLOOKUP(AM$2,$BO$127:$BP$138,2,FALSE)","v":0},{"$f":"'Budget FCFA'!AN41/VLOOKUP(AN$2,$BO$127:$BP$138,2,FALSE)","v":0},{"$f":"'Budget FCFA'!AO41/VLOOKUP(AO$2,$BO$127:$BP$138,2,FALSE)","v":0},{"$f":"'Budget FCFA'!AP41/VLOOKUP(AP$2,$BO$127:$BP$138,2,FALSE)","v":0},{"$f":"'Budget FCFA'!#REF!/VLOOKUP(AQ$2,$BO$127:$BP$138,2,FALSE)","v":{"$error":"#REF!"}},{"$f":"'Budget FCFA'!#REF!/VLOOKUP(AR$2,$BO$127:$BP$138,2,FALSE)","v":{"$error":"#REF!"}},{"$f":"'Budget FCFA'!#REF!/VLOOKUP(AS$2,$BO$127:$BP$138,2,FALSE)","v":{"$error":"#REF!"}},{"$f":"'Budget FCFA'!#REF!/VLOOKUP(AT$2,$BO$127:$BP$138,2,FALSE)","v":{"$error":"#REF!"}},{"$f":"'Budget FCFA'!#REF!/VLOOKUP(AU$2,$BO$127:$BP$138,2,FALSE)","v":{"$error":"#REF!"}},{"$f":"'Budget FCFA'!#REF!/VLOOKUP(AV$2,$BO$127:$BP$138,2,FALSE)","v":{"$error":"#REF!"}},{"$f":"'Budget FCFA'!#REF!/VLOOKUP(AW$2,$BO$127:$BP$138,2,FALSE)","v":{"$error":"#REF!"}},{"$f":"'Budget FCFA'!#REF!/VLOOKUP(AX$2,$BO$127:$BP$138,2,FALSE)","v":{"$error":"#REF!"}},{"$f":"'Budget FCFA'!#REF!/VLOOKUP(AY$2,$BO$127:$BP$138,2,FALSE)","v":{"$error":"#REF!"}},{"$f":"'Budget FCFA'!#REF!/VLOOKUP(AZ$2,$BO$127:$BP$138,2,FALSE)","v":{"$error":"#REF!"}},{"$f":"'Budget FCFA'!#REF!/VLOOKUP(BA$2,$BO$127:$BP$138,2,FALSE)","v":{"$error":"#REF!"}},{"$f":"'Budget FCFA'!#REF!/VLOOKUP(BB$2,$BO$127:$BP$138,2,FALSE)","v":{"$error":"#REF!"}},{"$f":"'Budget FCFA'!#REF!/VLOOKUP(BC$2,$BO$127:$BP$138,2,FALSE)","v":{"$error":"#REF!"}},{"$f":"'Budget FCFA'!#REF!/VLOOKUP(BD$2,$BO$127:$BP$138,2,FALSE)","v":{"$error":"#REF!"}},{"$f":"'Budget FCFA'!#REF!/VLOOKUP(BE$2,$BO$127:$BP$138,2,FALSE)","v":{"$error":"#REF!"}},{"$f":"'Budget FCFA'!#REF!/VLOOKUP(BF$2,$BO$127:$BP$138,2,FALSE)","v":{"$error":"#REF!"}},{"$f":"'Budget FCFA'!#REF!/VLOOKUP(BG$2,$BO$127:$BP$138,2,FALSE)","v":{"$error":"#REF!"}},{"$f":"'Budget FCFA'!#REF!/VLOOKUP(BH$2,$BO$127:$BP$138,2,FALSE)","v":{"$error":"#REF!"}},{"$f":"'Budget FCFA'!#REF!/VLOOKUP(BI$2,$BO$127:$BP$138,2,FALSE)","v":{"$error":"#REF!"}},{"$f":"'Budget FCFA'!#REF!/VLOOKUP(BJ$2,$BO$127:$BP$138,2,FALSE)","v":{"$error":"#REF!"}},{"$error":"#REF!"},{"$f":"BK41-'Budget FCFA'!#REF!","v":{"$error":"#REF!"}}]
["PUBAFFIC","ABIDJAN","Réseau affichage",{"$f":"'Budget FCFA'!D42/VLOOKUP(D$2,$BO$127:$BP$138,2,FALSE)","v":186.75004611582773},{"$f":"'Budget FCFA'!E42/VLOOKUP(E$2,$BO$127:$BP$138,2,FALSE)","v":447.65129421593184},{"$f":"'Budget FCFA'!F42/VLOOKUP(F$2,$BO$127:$BP$138,2,FALSE)","v":0},{"$f":"'Budget FCFA'!G42/VLOOKUP(G$2,$BO$127:$BP$138,2,FALSE)","v":0},{"$f":"'Budget FCFA'!H42/VLOOKUP(H$2,$BO$127:$BP$138,2,FALSE)","v":274.40823102733867},{"$f":"'Budget FCFA'!I42/VLOOKUP(I$2,$BO$127:$BP$138,2,FALSE)","v":431.57249636790215},{"$f":"'Budget FCFA'!J42/VLOOKUP(J$2,$BO$127:$BP$138,2,FALSE)","v":0},{"$f":"'Budget FCFA'!K42/VLOOKUP(K$2,$BO$127:$BP$138,2,FALSE)","v":0},{"$f":"'Budget FCFA'!L42/VLOOKUP(L$2,$BO$127:$BP$138,2,FALSE)","v":0},{"$f":"'Budget FCFA'!M42/VLOOKUP(M$2,$BO$127:$BP$138,2,FALSE)","v":274.40823102733867},{"$f":"'Budget FCFA'!N42/VLOOKUP(N$2,$BO$127:$BP$138,2,FALSE)","v":0},{"$f":"'Budget FCFA'!O42/VLOOKUP(O$2,$BO$127:$BP$138,2,FALSE)","v":468.32338095332472},{"$f":"'Budget FCFA'!P42/VLOOKUP(P$2,$BO$127:$BP$138,2,FALSE)","v":3040.1383017484377},{"$f":"'Budget FCFA'!Q42/VLOOKUP(Q$2,$BO$127:$BP$138,2,FALSE)","v":0},{"$f":"'Budget FCFA'!R42/VLOOKUP(R$2,$BO$127:$BP$138,2,FALSE)","v":274.40823102733867},{"$f":"'Budget FCFA'!S42/VLOOKUP(S$2,$BO$127:$BP$138,2,FALSE)","v":0},{"$f":"'Budget FCFA'!T42/VLOOKUP(T$2,$BO$127:$BP$138,2,FALSE)","v":6058.5023103648564},{"$f":"'Budget FCFA'!U42/VLOOKUP(U$2,$BO$127:$BP$138,2,FALSE)","v":0},{"$f":"'Budget FCFA'!V42/VLOOKUP(V$2,$BO$127:$BP$138,2,FALSE)","v":0},{"$f":"'Budget FCFA'!W42/VLOOKUP(W$2,$BO$127:$BP$138,2,FALSE)","v":274.40823102733867},{"$f":"'Budget FCFA'!X42/VLOOKUP(X$2,$BO$127:$BP$138,2,FALSE)","v":0},{"$f":"'Budget FCFA'!Y42/VLOOKUP(Y$2,$BO$127:$BP$138,2,FALSE)","v":0},{"$f":"'Budget FCFA'!Z42/VLOOKUP(Z$2,$BO$127:$BP$138,2,FALSE)","v":0},{"$f":"'Budget FCFA'!AA42/VLOOKUP(AA$2,$BO$127:$BP$138,2,FALSE)","v":274.40823102733867},{"$f":"'Budget FCFA'!AB42/VLOOKUP(AB$2,$BO$127:$BP$138,2,FALSE)","v":4153.2063742375831},{"$f":"'Budget FCFA'!AC42/VLOOKUP(AC$2,$BO$127:$BP$138,2,FALSE)","v":0},{"$f":"'Budget FCFA'!AD42/VLOOKUP(AD$2,$BO$127:$BP$138,2,FALSE)","v":0},{"$f":"'Budget FCFA'!AE42/VLOOKUP(AE$2,$BO$127:$BP$138,2,FALSE)","v":0},{"$f":"'Budget FCFA'!AF42/VLOOKUP(AF$2,$BO$127:$BP$138,2,FALSE)","v":273.99053514918023},{"$f":"'Budget FCFA'!AG42/VLOOKUP(AG$2,$BO$127:$BP$138,2,FALSE)","v":0},{"$f":"'Budget FCFA'!AH42/VLOOKUP(AH$2,$BO$127:$BP$138,2,FALSE)","v":0},{"$f":"'Budget FCFA'!AI42/VLOOKUP(AI$2,$BO$127:$BP$138,2,FALSE)","v":0},{"$f":"'Budget FCFA'!AJ42/VLOOKUP(AJ$2,$BO$127:$BP$138,2,FALSE)","v":0},{"$f":"'Budget FCFA'!AK42/VLOOKUP(AK$2,$BO$127:$BP$138,2,FALSE)","v":274.40823102733867},{"$f":"'Budget FCFA'!AL42/VLOOKUP(AL$2,$BO$127:$BP$138,2,FALSE)","v":9938.9136787929692},{"$f":"'Budget FCFA'!AM42/VLOOKUP(AM$2,$BO$127:$BP$138,2,FALSE)","v":0},{"$f":"'Budget FCFA'!AN42/VLOOKUP(AN$2,$BO$127:$BP$138,2,FALSE)","v":0},{"$f":"'Budget FCFA'!AO42/VLOOKUP(AO$2,$BO$127:$BP$138,2,FALSE)","v":0},{"$f":"'Budget FCFA'!AP42/VLOOKUP(AP$2,$BO$127:$BP$138,2,FALSE)","v":274.40823102733867},{"$f":"'Budget FCFA'!#REF!/VLOOKUP(AQ$2,$BO$127:$BP$138,2,FALSE)","v":{"$error":"#REF!"}},{"$f":"'Budget FCFA'!#REF!/VLOOKUP(AR$2,$BO$127:$BP$138,2,FALSE)","v":{"$error":"#REF!"}},{"$f":"'Budget FCFA'!#REF!/VLOOKUP(AS$2,$BO$127:$BP$138,2,FALSE)","v":{"$error":"#REF!"}},{"$f":"'Budget FCFA'!#REF!/VLOOKUP(AT$2,$BO$127:$BP$138,2,FALSE)","v":{"$error":"#REF!"}},{"$f":"'Budget FCFA'!#REF!/VLOOKUP(AU$2,$BO$127:$BP$138,2,FALSE)","v":{"$error":"#REF!"}},{"$f":"'Budget FCFA'!#REF!/VLOOKUP(AV$2,$BO$127:$BP$138,2,FALSE)","v":{"$error":"#REF!"}},{"$f":"'Budget FCFA'!#REF!/VLOOKUP(AW$2,$BO$127:$BP$138,2,FALSE)","v":{"$error":"#REF!"}},{"$f":"'Budget FCFA'!#REF!/VLOOKUP(AX$2,$BO$127:$BP$138,2,FALSE)","v":{"$error":"#REF!"}},{"$f":"'Budget FCFA'!#REF!/VLOOKUP(AY$2,$BO$127:$BP$138,2,FALSE)","v":{"$error":"#REF!"}},{"$f":"'Budget FCFA'!#REF!/VLOOKUP(AZ$2,$BO$127:$BP$138,2,FALSE)","v":{"$error":"#REF!"}},{"$f":"'Budget FCFA'!#REF!/VLOOKUP(BA$2,$BO$127:$BP$138,2,FALSE)","v":{"$error":"#REF!"}},{"$f":"'Budget FCFA'!#REF!/VLOOKUP(BB$2,$BO$127:$BP$138,2,FALSE)","v":{"$error":"#REF!"}},{"$f":"'Budget FCFA'!#REF!/VLOOKUP(BC$2,$BO$127:$BP$138,2,FALSE)","v":{"$error":"#REF!"}},{"$f":"'Budget FCFA'!#REF!/VLOOKUP(BD$2,$BO$127:$BP$138,2,FALSE)","v":{"$error":"#REF!"}},{"$f":"'Budget FCFA'!#REF!/VLOOKUP(BE$2,$BO$127:$BP$138,2,FALSE)","v":{"$error":"#REF!"}},{"$f":"'Budget FCFA'!#REF!/VLOOKUP(BF$2,$BO$127:$BP$138,2,FALSE)","v":{"$error":"#REF!"}},{"$f":"'Budget FCFA'!#REF!/VLOOKUP(BG$2,$BO$127:$BP$138,2,FALSE)","v":{"$error":"#REF!"}},{"$f":"'Budget FCFA'!#REF!/VLOOKUP(BH$2,$BO$127:$BP$138,2,FALSE)","v":{"$error":"#REF!"}},{"$f":"'Budget FCFA'!#REF!/VLOOKUP(BI$2,$BO$127:$BP$138,2,FALSE)","v":{"$error":"#REF!"}},{"$f":"'Budget FCFA'!#REF!/VLOOKUP(BJ$2,$BO$127:$BP$138,2,FALSE)","v":{"$error":"#REF!"}},{"$error":"#REF!"},{"$f":"BK42-'Budget FCFA'!#REF!","v":{"$error":"#REF!"}}]
["PUBAFFIC","BRAZZA","Réseau affichage",{"$f":"'Budget FCFA'!D43/VLOOKUP(D$2,$BO$127:$BP$138,2,FALSE)","v":0},{"$f":"'Budget FCFA'!E43/VLOOKUP(E$2,$BO$127:$BP$138,2,FALSE)","v":0},{"$f":"'Budget FCFA'!F43/VLOOKUP(F$2,$BO$127:$BP$138,2,FALSE)","v":732.51752782575693},{"$f":"'Budget FCFA'!G43/VLOOKUP(G$2,$BO$127:$BP$138,2,FALSE)","v":0},{"$f":"'Budget FCFA'!H43/VLOOKUP(H$2,$BO$127:$BP$138,2,FALSE)","v":0},{"$f":"'Budget FCFA'!I43/VLOOKUP(I$2,$BO$127:$BP$138,2,FALSE)","v":0},{"$f":"'Budget FCFA'!J43/VLOOKUP(J$2,$BO$127:$BP$138,2,FALSE)","v":0},{"$f":"'Budget FCFA'!K43/VLOOKUP(K$2,$BO$127:$BP$138,2,FALSE)","v":0},{"$f":"'Budget FCFA'!L43/VLOOKUP(L$2,$BO$127:$BP$138,2,FALSE)","v":0},{"$f":"'Budget FCFA'!M43/VLOOKUP(M$2,$BO$127:$BP$138,2,FALSE)","v":251.54087844172713},{"$f":"'Budget FCFA'!N43/VLOOKUP(N$2,$BO$127:$BP$138,2,FALSE)","v":0},{"$f":"'Budget FCFA'!O43/VLOOKUP(O$2,$BO$127:$BP$138,2,FALSE)","v":0},{"$f":"'Budget FCFA'!P43/VLOOKUP(P$2,$BO$127:$BP$138,2,FALSE)","v":0},{"$f":"'Budget FCFA'!Q43/VLOOKUP(Q$2,$BO$127:$BP$138,2,FALSE)","v":0},{"$f":"'Budget FCFA'!R43/VLOOKUP(R$2,$BO$127:$BP$138,2,FALSE)","v":251.54087844172713},{"$f":"'Budget FCFA'!S43/VLOOKUP(S$2,$BO$127:$BP$138,2,FALSE)","v":0},{"$f":"'Budget FCFA'!T43/VLOOKUP(T$2,$BO$127:$BP$138,2,FALSE)","v":0},{"$f":"'Budget FCFA'!U43/VLOOKUP(U$2,$BO$127:$BP$138,2,FALSE)","v":0},{"$f":"'Budget FCFA'!V43/VLOOKUP(V$2,$BO$127:$BP$138,2,FALSE)","v":0},{"$f":"'Budget FCFA'!W43/VLOOKUP(W$2,$BO$127:$BP$138,2,FALSE)","v":251.54087844172713},{"$f":"'Budget FCFA'!X43/VLOOKUP(X$2,$BO$127:$BP$138,2,FALSE)","v":0},{"$f":"'Budget FCFA'!Y43/VLOOKUP(Y$2,$BO$127:$BP$138,2,FALSE)","v":0},{"$f":"'Budget FCFA'!Z43/VLOOKUP(Z$2,$BO$127:$BP$138,2,FALSE)","v":0},{"$f":"'Budget FCFA'!AA43/VLOOKUP(AA$2,$BO$127:$BP$138,2,FALSE)","v":251.54087844172713},{"$f":"'Budget FCFA'!AB43/VLOOKUP(AB$2,$BO$127:$BP$138,2,FALSE)","v":0},{"$f":"'Budget FCFA'!AC43/VLOOKUP(AC$2,$BO$127:$BP$138,2,FALSE)","v":0},{"$f":"'Budget FCFA'!AD43/VLOOKUP(AD$2,$BO$127:$BP$138,2,FALSE)","v":0},{"$f":"'Budget FCFA'!AE43/VLOOKUP(AE$2,$BO$127:$BP$138,2,FALSE)","v":0},{"$f":"'Budget FCFA'!AF43/VLOOKUP(AF$2,$BO$127:$BP$138,2,FALSE)","v":251.15799055341523},{"$f":"'Budget FCFA'!AG43/VLOOKUP(AG$2,$BO$127:$BP$138,2,FALSE)","v":0},{"$f":"'Budget FCFA'!AH43/VLOOKUP(AH$2,$BO$127:$BP$138,2,FALSE)","v":0},{"$f":"'Budget FCFA'!AI43/VLOOKUP(AI$2,$BO$127:$BP$138,2,FALSE)","v":0},{"$f":"'Budget FCFA'!AJ43/VLOOKUP(AJ$2,$BO$127:$BP$138,2,FALSE)","v":0},{"$f":"'Budget FCFA'!AK43/VLOOKUP(AK$2,$BO$127:$BP$138,2,FALSE)","v":251.54087844172713},{"$f":"'Budget FCFA'!AL43/VLOOKUP(AL$2,$BO$127:$BP$138,2,FALSE)","v":4125.2704064443251},{"$f":"'Budget FCFA'!AM43/VLOOKUP(AM$2,$BO$127:$BP$138,2,FALSE)","v":0},{"$f":"'Budget FCFA'!AN43/VLOOKUP(AN$2,$BO$127:$BP$138,2,FALSE)","v":0},{"$f":"'Budget FCFA'!AO43/VLOOKUP(AO$2,$BO$127:$BP$138,2,FALSE)","v":0},{"$f":"'Budget FCFA'!AP43/VLOOKUP(AP$2,$BO$127:$BP$138,2,FALSE)","v":251.54087844172713},{"$f":"'Budget FCFA'!#REF!/VLOOKUP(AQ$2,$BO$127:$BP$138,2,FALSE)","v":{"$error":"#REF!"}},{"$f":"'Budget FCFA'!#REF!/VLOOKUP(AR$2,$BO$127:$BP$138,2,FALSE)","v":{"$error":"#REF!"}},{"$f":"'Budget FCFA'!#REF!/VLOOKUP(AS$2,$BO$127:$BP$138,2,FALSE)","v":{"$error":"#REF!"}},{"$f":"'Budget FCFA'!#REF!/VLOOKUP(AT$2,$BO$127:$BP$138,2,FALSE)","v":{"$error":"#REF!"}},{"$f":"'Budget FCFA'!#REF!/VLOOKUP(AU$2,$BO$127:$BP$138,2,FALSE)","v":{"$error":"#REF!"}},{"$f":"'Budget FCFA'!#REF!/VLOOKUP(AV$2,$BO$127:$BP$138,2,FALSE)","v":{"$error":"#REF!"}},{"$f":"'Budget FCFA'!#REF!/VLOOKUP(AW$2,$BO$127:$BP$138,2,FALSE)","v":{"$error":"#REF!"}},{"$f":"'Budget FCFA'!#REF!/VLOOKUP(AX$2,$BO$127:$BP$138,2,FALSE)","v":{"$error":"#REF!"}},{"$f":"'Budget FCFA'!#REF!/VLOOKUP(AY$2,$BO$127:$BP$138,2,FALSE)","v":{"$error":"#REF!"}},{"$f":"'Budget FCFA'!#REF!/VLOOKUP(AZ$2,$BO$127:$BP$138,2,FALSE)","v":{"$error":"#REF!"}},{"$f":"'Budget FCFA'!#REF!/VLOOKUP(BA$2,$BO$127:$BP$138,2,FALSE)","v":{"$error":"#REF!"}},{"$f":"'Budget FCFA'!#REF!/VLOOKUP(BB$2,$BO$127:$BP$138,2,FALSE)","v":{"$error":"#REF!"}},{"$f":"'Budget FCFA'!#REF!/VLOOKUP(BC$2,$BO$127:$BP$138,2,FALSE)","v":{"$error":"#REF!"}},{"$f":"'Budget FCFA'!#REF!/VLOOKUP(BD$2,$BO$127:$BP$138,2,FALSE)","v":{"$error":"#REF!"}},{"$f":"'Budget FCFA'!#REF!/VLOOKUP(BE$2,$BO$127:$BP$138,2,FALSE)","v":{"$error":"#REF!"}},{"$f":"'Budget FCFA'!#REF!/VLOOKUP(BF$2,$BO$127:$BP$138,2,FALSE)","v":{"$error":"#REF!"}},{"$f":"'Budget FCFA'!#REF!/VLOOKUP(BG$2,$BO$127:$BP$138,2,FALSE)","v":{"$error":"#REF!"}},{"$f":"'Budget FCFA'!#REF!/VLOOKUP(BH$2,$BO$127:$BP$138,2,FALSE)","v":{"$error":"#REF!"}},{"$f":"'Budget FCFA'!#REF!/VLOOKUP(BI$2,$BO$127:$BP$138,2,FALSE)","v":{"$error":"#REF!"}},{"$f":"'Budget FCFA'!#REF!/VLOOKUP(BJ$2,$BO$127:$BP$138,2,FALSE)","v":{"$error":"#REF!"}},{"$error":"#REF!"},{"$f":"BK43-'Budget FCFA'!#REF!","v":{"$error":"#REF!"}}]
["PUBAFFIC","DAKAR","Réseau affichage",{"$f":"'Budget FCFA'!D44/VLOOKUP(D$2,$BO$127:$BP$138,2,FALSE)","v":0},{"$f":"'Budget FCFA'!E44/VLOOKUP(E$2,$BO$127:$BP$138,2,FALSE)","v":0},{"$f":"'Budget FCFA'!F44/VLOOKUP(F$2,$BO$127:$BP$138,2,FALSE)","v":0},{"$f":"'Budget FCFA'!G44/VLOOKUP(G$2,$BO$127:$BP$138,2,FALSE)","v":0},{"$f":"'Budget FCFA'!H44/VLOOKUP(H$2,$BO$127:$BP$138,2,FALSE)","v":0},{"$f":"'Budget FCFA'!I44/VLOOKUP(I$2,$BO$127:$BP$138,2,FALSE)","v":0},{"$f":"'Budget FCFA'!J44/VLOOKUP(J$2,$BO$127:$BP$138,2,FALSE)","v":0},{"$f":"'Budget FCFA'!K44/VLOOKUP(K$2,$BO$127:$BP$138,2,FALSE)","v":0},{"$f":"'Budget FCFA'!L44/VLOOKUP(L$2,$BO$127:$BP$138,2,FALSE)","v":0},{"$f":"'Budget FCFA'!M44/VLOOKUP(M$2,$BO$127:$BP$138,2,FALSE)","v":768.34304687654833},{"$f":"'Budget FCFA'!N44/VLOOKUP(N$2,$BO$127:$BP$138,2,FALSE)","v":0},{"$f":"'Budget FCFA'!O44/VLOOKUP(O$2,$BO$127:$BP$138,2,FALSE)","v":0},{"$f":"'Budget FCFA'!P44/VLOOKUP(P$2,$BO$127:$BP$138,2,FALSE)","v":546.91084933920979},{"$f":"'Budget FCFA'!Q44/VLOOKUP(Q$2,$BO$127:$BP$138,2,FALSE)","v":0},{"$f":"'Budget FCFA'!R44/VLOOKUP(R$2,$BO$127:$BP$138,2,FALSE)","v":0},{"$f":"'Budget FCFA'!S44/VLOOKUP(S$2,$BO$127:$BP$138,2,FALSE)","v":0},{"$f":"'Budget FCFA'!T44/VLOOKUP(T$2,$BO$127:$BP$138,2,FALSE)","v":0},{"$f":"'Budget FCFA'!U44/VLOOKUP(U$2,$BO$127:$BP$138,2,FALSE)","v":0},{"$f":"'Budget FCFA'!V44/VLOOKUP(V$2,$BO$127:$BP$138,2,FALSE)","v":0},{"$f":"'Budget FCFA'!W44/VLOOKUP(W$2,$BO$127:$BP$138,2,FALSE)","v":0},{"$f":"'Budget FCFA'!X44/VLOOKUP(X$2,$BO$127:$BP$138,2,FALSE)","v":0},{"$f":"'Budget FCFA'!Y44/VLOOKUP(Y$2,$BO$127:$BP$138,2,FALSE)","v":0},{"$f":"'Budget FCFA'!Z44/VLOOKUP(Z$2,$BO$127:$BP$138,2,FALSE)","v":0},{"$f":"'Budget FCFA'!AA44/VLOOKUP(AA$2,$BO$127:$BP$138,2,FALSE)","v":0},{"$f":"'Budget FCFA'!AB44/VLOOKUP(AB$2,$BO$127:$BP$138,2,FALSE)","v":0},{"$f":"'Budget FCFA'!AC44/VLOOKUP(AC$2,$BO$127:$BP$138,2,FALSE)","v":0},{"$f":"'Budget FCFA'!AD44/VLOOKUP(AD$2,$BO$127:$BP$138,2,FALSE)","v":0},{"$f":"'Budget FCFA'!AE44/VLOOKUP(AE$2,$BO$127:$BP$138,2,FALSE)","v":0},{"$f":"'Budget FCFA'!AF44/VLOOKUP(AF$2,$BO$127:$BP$138,2,FALSE)","v":0},{"$f":"'Budget FCFA'!AG44/VLOOKUP(AG$2,$BO$127:$BP$138,2,FALSE)","v":0},{"$f":"'Budget FCFA'!AH44/VLOOKUP(AH$2,$BO$127:$BP$138,2,FALSE)","v":0},{"$f":"'Budget FCFA'!AI44/VLOOKUP(AI$2,$BO$127:$BP$138,2,FALSE)","v":0},{"$f":"'Budget FCFA'!AJ44/VLOOKUP(AJ$2,$BO$127:$BP$138,2,FALSE)","v":0},{"$f":"'Budget FCFA'!AK44/VLOOKUP(AK$2,$BO$127:$BP$138,2,FALSE)","v":0},{"$f":"'Budget FCFA'!AL44/VLOOKUP(AL$2,$BO$127:$BP$138,2,FALSE)","v":0},{"$f":"'Budget FCFA'!AM44/VLOOKUP(AM$2,$BO$127:$BP$138,2,FALSE)","v":365.8776413697849},{"$f":"'Budget FCFA'!AN44/VLOOKUP(AN$2,$BO$127:$BP$138,2,FALSE)","v":0},{"$f":"'Budget FCFA'!AO44/VLOOKUP(AO$2,$BO$127:$BP$138,2,FALSE)","v":0},{"$f":"'Budget FCFA'!AP44/VLOOKUP(AP$2,$BO$127:$BP$138,2,FALSE)","v":0},{"$f":"'Budget FCFA'!#REF!/VLOOKUP(AQ$2,$BO$127:$BP$138,2,FALSE)","v":{"$error":"#REF!"}},{"$f":"'Budget FCFA'!#REF!/VLOOKUP(AR$2,$BO$127:$BP$138,2,FALSE)","v":{"$error":"#REF!"}},{"$f":"'Budget FCFA'!#REF!/VLOOKUP(AS$2,$BO$127:$BP$138,2,FALSE)","v":{"$error":"#REF!"}},{"$f":"'Budget FCFA'!#REF!/VLOOKUP(AT$2,$BO$127:$BP$138,2,FALSE)","v":{"$error":"#REF!"}},{"$f":"'Budget FCFA'!#REF!/VLOOKUP(AU$2,$BO$127:$BP$138,2,FALSE)","v":{"$error":"#REF!"}},{"$f":"'Budget FCFA'!#REF!/VLOOKUP(AV$2,$BO$127:$BP$138,2,FALSE)","v":{"$error":"#REF!"}},{"$f":"'Budget FCFA'!#REF!/VLOOKUP(AW$2,$BO$127:$BP$138,2,FALSE)","v":{"$error":"#REF!"}},{"$f":"'Budget FCFA'!#REF!/VLOOKUP(AX$2,$BO$127:$BP$138,2,FALSE)","v":{"$error":"#REF!"}},{"$f":"'Budget FCFA'!#REF!/VLOOKUP(AY$2,$BO$127:$BP$138,2,FALSE)","v":{"$error":"#REF!"}},{"$f":"'Budget FCFA'!#REF!/VLOOKUP(AZ$2,$BO$127:$BP$138,2,FALSE)","v":{"$error":"#REF!"}},{"$f":"'Budget FCFA'!#REF!/VLOOKUP(BA$2,$BO$127:$BP$138,2,FALSE)","v":{"$error":"#REF!"}},{"$f":"'Budget FCFA'!#REF!/VLOOKUP(BB$2,$BO$127:$BP$138,2,FALSE)","v":{"$error":"#REF!"}},{"$f":"'Budget FCFA'!#REF!/VLOOKUP(BC$2,$BO$127:$BP$138,2,FALSE)","v":{"$error":"#REF!"}},{"$f":"'Budget FCFA'!#REF!/VLOOKUP(BD$2,$BO$127:$BP$138,2,FALSE)","v":{"$error":"#REF!"}},{"$f":"'Budget FCFA'!#REF!/VLOOKUP(BE$2,$BO$127:$BP$138,2,FALSE)","v":{"$error":"#REF!"}},{"$f":"'Budget FCFA'!#REF!/VLOOKUP(BF$2,$BO$127:$BP$138,2,FALSE)","v":{"$error":"#REF!"}},{"$f":"'Budget FCFA'!#REF!/VLOOKUP(BG$2,$BO$127:$BP$138,2,FALSE)","v":{"$error":"#REF!"}},{"$f":"'Budget FCFA'!#REF!/VLOOKUP(BH$2,$BO$127:$BP$138,2,FALSE)","v":{"$error":"#REF!"}},{"$f":"'Budget FCFA'!#REF!/VLOOKUP(BI$2,$BO$127:$BP$138,2,FALSE)","v":{"$error":"#REF!"}},{"$f":"'Budget FCFA'!#REF!/VLOOKUP(BJ$2,$BO$127:$BP$138,2,FALSE)","v":{"$error":"#REF!"}},{"$error":"#REF!"},{"$f":"BK44-'Budget FCFA'!#REF!","v":{"$error":"#REF!"}}]
["PUBAFFIC","LIBREVILLE","Réseau affichage",{"$f":"'Budget FCFA'!D45/VLOOKUP(D$2,$BO$127:$BP$138,2,FALSE)","v":0},{"$f":"'Budget FCFA'!E45/VLOOKUP(E$2,$BO$127:$BP$138,2,FALSE)","v":0},{"$f":"'Budget FCFA'!F45/VLOOKUP(F$2,$BO$127:$BP$138,2,FALSE)","v":0},{"$f":"'Budget FCFA'!G45/VLOOKUP(G$2,$BO$127:$BP$138,2,FALSE)","v":0},{"$f":"'Budget FCFA'!H45/VLOOKUP(H$2,$BO$127:$BP$138,2,FALSE)","v":0},{"$f":"'Budget FCFA'!I45/VLOOKUP(I$2,$BO$127:$BP$138,2,FALSE)","v":0},{"$f":"'Budget FCFA'!J45/VLOOKUP(J$2,$BO$127:$BP$138,2,FALSE)","v":0},{"$f":"'Budget FCFA'!K45/VLOOKUP(K$2,$BO$127:$BP$138,2,FALSE)","v":0},{"$f":"'Budget FCFA'!L45/VLOOKUP(L$2,$BO$127:$BP$138,2,FALSE)","v":0},{"$f":"'Budget FCFA'!M45/VLOOKUP(M$2,$BO$127:$BP$138,2,FALSE)","v":0},{"$f":"'Budget FCFA'!N45/VLOOKUP(N$2,$BO$127:$BP$138,2,FALSE)","v":0},{"$f":"'Budget FCFA'!O45/VLOOKUP(O$2,$BO$127:$BP$138,2,FALSE)","v":0},{"$f":"'Budget FCFA'!P45/VLOOKUP(P$2,$BO$127:$BP$138,2,FALSE)","v":0},{"$f":"'Budget FCFA'!Q45/VLOOKUP(Q$2,$BO$127:$BP$138,2,FALSE)","v":0},{"$f":"'Budget FCFA'!R45/VLOOKUP(R$2,$BO$127:$BP$138,2,FALSE)","v":0},{"$f":"'Budget FCFA'!S45/VLOOKUP(S$2,$BO$127:$BP$138,2,FALSE)","v":0},{"$f":"'Budget FCFA'!T45/VLOOKUP(T$2,$BO$127:$BP$138,2,FALSE)","v":0},{"$f":"'Budget FCFA'!U45/VLOOKUP(U$2,$BO$127:$BP$138,2,FALSE)","v":0},{"$f":"'Budget FCFA'!V45/VLOOKUP(V$2,$BO$127:$BP$138,2,FALSE)","v":0},{"$f":"'Budget FCFA'!W45/VLOOKUP(W$2,$BO$127:$BP$138,2,FALSE)","v":0},{"$f":"'Budget FCFA'!X45/VLOOKUP(X$2,$BO$127:$BP$138,2,FALSE)","v":0},{"$f":"'Budget FCFA'!Y45/VLOOKUP(Y$2,$BO$127:$BP$138,2,FALSE)","v":0},{"$f":"'Budget FCFA'!Z45/VLOOKUP(Z$2,$BO$127:$BP$138,2,FALSE)","v":0},{"$f":"'Budget FCFA'!AA45/VLOOKUP(AA$2,$BO$127:$BP$138,2,FALSE)","v":0},{"$f":"'Budget FCFA'!AB45/VLOOKUP(AB$2,$BO$127:$BP$138,2,FALSE)","v":0},{"$f":"'Budget FCFA'!AC45/VLOOKUP(AC$2,$BO$127:$BP$138,2,FALSE)","v":0},{"$f":"'Budget FCFA'!AD45/VLOOKUP(AD$2,$BO$127:$BP$138,2,FALSE)","v":0},{"$f":"'Budget FCFA'!AE45/VLOOKUP(AE$2,$BO$127:$BP$138,2,FALSE)","v":0},{"$f":"'Budget FCFA'!AF45/VLOOKUP(AF$2,$BO$127:$BP$138,2,FALSE)","v":0},{"$f":"'Budget FCFA'!AG45/VLOOKUP(AG$2,$BO$127:$BP$138,2,FALSE)","v":0},{"$f":"'Budget FCFA'!AH45/VLOOKUP(AH$2,$BO$127:$BP$138,2,FALSE)","v":0},{"$f":"'Budget FCFA'!AI45/VLOOKUP(AI$2,$BO$127:$BP$138,2,FALSE)","v":0},{"$f":"'Budget FCFA'!AJ45/VLOOKUP(AJ$2,$BO$127:$BP$138,2,FALSE)","v":0},{"$f":"'Budget FCFA'!AK45/VLOOKUP(AK$2,$BO$127:$BP$138,2,FALSE)","v":0},{"$f":"'Budget FCFA'!AL45/VLOOKUP(AL$2,$BO$127:$BP$138,2,FALSE)","v":791.82476900162669},{"$f":"'Budget FCFA'!AM45/VLOOKUP(AM$2,$BO$127:$BP$138,2,FALSE)","v":0},{"$f":"'Budget FCFA'!AN45/VLOOKUP(AN$2,$BO$127:$BP$138,2,FALSE)","v":0},{"$f":"'Budget FCFA'!AO45/VLOOKUP(AO$2,$BO$127:$BP$138,2,FALSE)","v":0},{"$f":"'Budget FCFA'!AP45/VLOOKUP(AP$2,$BO$127:$BP$138,2,FALSE)","v":0},{"$f":"'Budget FCFA'!#REF!/VLOOKUP(AQ$2,$BO$127:$BP$138,2,FALSE)","v":{"$error":"#REF!"}},{"$f":"'Budget FCFA'!#REF!/VLOOKUP(AR$2,$BO$127:$BP$138,2,FALSE)","v":{"$error":"#REF!"}},{"$f":"'Budget FCFA'!#REF!/VLOOKUP(AS$2,$BO$127:$BP$138,2,FALSE)","v":{"$error":"#REF!"}},{"$f":"'Budget FCFA'!#REF!/VLOOKUP(AT$2,$BO$127:$BP$138,2,FALSE)","v":{"$error":"#REF!"}},{"$f":"'Budget FCFA'!#REF!/VLOOKUP(AU$2,$BO$127:$BP$138,2,FALSE)","v":{"$error":"#REF!"}},{"$f":"'Budget FCFA'!#REF!/VLOOKUP(AV$2,$BO$127:$BP$138,2,FALSE)","v":{"$error":"#REF!"}},{"$f":"'Budget FCFA'!#REF!/VLOOKUP(AW$2,$BO$127:$BP$138,2,FALSE)","v":{"$error":"#REF!"}},{"$f":"'Budget FCFA'!#REF!/VLOOKUP(AX$2,$BO$127:$BP$138,2,FALSE)","v":{"$error":"#REF!"}},{"$f":"'Budget FCFA'!#REF!/VLOOKUP(AY$2,$BO$127:$BP$138,2,FALSE)","v":{"$error":"#REF!"}},{"$f":"'Budget FCFA'!#REF!/VLOOKUP(AZ$2,$BO$127:$BP$138,2,FALSE)","v":{"$error":"#REF!"}},{"$f":"'Budget FCFA'!#REF!/VLOOKUP(BA$2,$BO$127:$BP$138,2,FALSE)","v":{"$error":"#REF!"}},{"$f":"'Budget FCFA'!#REF!/VLOOKUP(BB$2,$BO$127:$BP$138,2,FALSE)","v":{"$error":"#REF!"}},{"$f":"'Budget FCFA'!#REF!/VLOOKUP(BC$2,$BO$127:$BP$138,2,FALSE)","v":{"$error":"#REF!"}},{"$f":"'Budget FCFA'!#REF!/VLOOKUP(BD$2,$BO$127:$BP$138,2,FALSE)","v":{"$error":"#REF!"}},{"$f":"'Budget FCFA'!#REF!/VLOOKUP(BE$2,$BO$127:$BP$138,2,FALSE)","v":{"$error":"#REF!"}},{"$f":"'Budget FCFA'!#REF!/VLOOKUP(BF$2,$BO$127:$BP$138,2,FALSE)","v":{"$error":"#REF!"}},{"$f":"'Budget FCFA'!#REF!/VLOOKUP(BG$2,$BO$127:$BP$138,2,FALSE)","v":{"$error":"#REF!"}},{"$f":"'Budget FCFA'!#REF!/VLOOKUP(BH$2,$BO$127:$BP$138,2,FALSE)","v":{"$error":"#REF!"}},{"$f":"'Budget FCFA'!#REF!/VLOOKUP(BI$2,$BO$127:$BP$138,2,FALSE)","v":{"$error":"#REF!"}},{"$f":"'Budget FCFA'!#REF!/VLOOKUP(BJ$2,$BO$127:$BP$138,2,FALSE)","v":{"$error":"#REF!"}},{"$error":"#REF!"},{"$f":"BK45-'Budget FCFA'!#REF!","v":{"$error":"#REF!"}}]
["PUBAFFIC","DOUALA","Réseau affichage",{"$f":"'Budget FCFA'!D46/VLOOKUP(D$2,$BO$127:$BP$138,2,FALSE)","v":0},{"$f":"'Budget FCFA'!E46/VLOOKUP(E$2,$BO$127:$BP$138,2,FALSE)","v":0},{"$f":"'Budget FCFA'!F46/VLOOKUP(F$2,$BO$127:$BP$138,2,FALSE)","v":0},{"$f":"'Budget FCFA'!G46/VLOOKUP(G$2,$BO$127:$BP$138,2,FALSE)","v":0},{"$f":"'Budget FCFA'!H46/VLOOKUP(H$2,$BO$127:$BP$138,2,FALSE)","v":502.4719608145046},{"$f":"'Budget FCFA'!I46/VLOOKUP(I$2,$BO$127:$BP$138,2,FALSE)","v":1595.3484755860522},{"$f":"'Budget FCFA'!J46/VLOOKUP(J$2,$BO$127:$BP$138,2,FALSE)","v":0},{"$f":"'Budget FCFA'!K46/VLOOKUP(K$2,$BO$127:$BP$138,2,FALSE)","v":0},{"$f":"'Budget FCFA'!L46/VLOOKUP(L$2,$BO$127:$BP$138,2,FALSE)","v":0},{"$f":"'Budget FCFA'!M46/VLOOKUP(M$2,$BO$127:$BP$138,2,FALSE)","v":0},{"$f":"'Budget FCFA'!N46/VLOOKUP(N$2,$BO$127:$BP$138,2,FALSE)","v":0},{"$f":"'Budget FCFA'!O46/VLOOKUP(O$2,$BO$127:$BP$138,2,FALSE)","v":0},{"$f":"'Budget FCFA'!P46/VLOOKUP(P$2,$BO$127:$BP$138,2,FALSE)","v":0},{"$f":"'Budget FCFA'!Q46/VLOOKUP(Q$2,$BO$127:$BP$138,2,FALSE)","v":0},{"$f":"'Budget FCFA'!R46/VLOOKUP(R$2,$BO$127:$BP$138,2,FALSE)","v":695.60962075257987},{"$f":"'Budget FCFA'!S46/VLOOKUP(S$2,$BO$127:$BP$138,2,FALSE)","v":0},{"$f":"'Budget FCFA'!T46/VLOOKUP(T$2,$BO$127:$BP$138,2,FALSE)","v":0},{"$f":"'Budget FCFA'!U46/VLOOKUP(U$2,$BO$127:$BP$138,2,FALSE)","v":0},{"$f":"'Budget FCFA'!V46/VLOOKUP(V$2,$BO$127:$BP$138,2,FALSE)","v":0},{"$f":"'Budget FCFA'!W46/VLOOKUP(W$2,$BO$127:$BP$138,2,FALSE)","v":0},{"$f":"'Budget FCFA'!X46/VLOOKUP(X$2,$BO$127:$BP$138,2,FALSE)","v":0},{"$f":"'Budget FCFA'!Y46/VLOOKUP(Y$2,$BO$127:$BP$138,2,FALSE)","v":0},{"$f":"'Budget FCFA'!Z46/VLOOKUP(Z$2,$BO$127:$BP$138,2,FALSE)","v":0},{"$f":"'Budget FCFA'!AA46/VLOOKUP(AA$2,$BO$127:$BP$138,2,FALSE)","v":0},{"$f":"'Budget FCFA'!AB46/VLOOKUP(AB$2,$BO$127:$BP$138,2,FALSE)","v":0},{"$f":"'Budget FCFA'!AC46/VLOOKUP(AC$2,$BO$127:$BP$138,2,FALSE)","v":0},{"$f":"'Budget FCFA'!AD46/VLOOKUP(AD$2,$BO$127:$BP$138,2,FALSE)","v":0},{"$f":"'Budget FCFA'!AE46/VLOOKUP(AE$2,$BO$127:$BP$138,2,FALSE)","v":0},{"$f":"'Budget FCFA'!AF46/VLOOKUP(AF$2,$BO$127:$BP$138,2,FALSE)","v":0},{"$f":"'Budget FCFA'!AG46/VLOOKUP(AG$2,$BO$127:$BP$138,2,FALSE)","v":0},{"$f":"'Budget FCFA'!AH46/VLOOKUP(AH$2,$BO$127:$BP$138,2,FALSE)","v":0},{"$f":"'Budget FCFA'!AI46/VLOOKUP(AI$2,$BO$127:$BP$138,2,FALSE)","v":0},{"$f":"'Budget FCFA'!AJ46/VLOOKUP(AJ$2,$BO$127:$BP$138,2,FALSE)","v":0},{"$f":"'Budget FCFA'!AK46/VLOOKUP(AK$2,$BO$127:$BP$138,2,FALSE)","v":0},{"$f":"'Budget FCFA'!AL46/VLOOKUP(AL$2,$BO$127:$BP$138,2,FALSE)","v":2149.5311430474862},{"$f":"'Budget FCFA'!AM46/VLOOKUP(AM$2,$BO$127:$BP$138,2,FALSE)","v":0},{"$f":"'Budget FCFA'!AN46/VLOOKUP(AN$2,$BO$127:$BP$138,2,FALSE)","v":0},{"$f":"'Budget FCFA'!AO46/VLOOKUP(AO$2,$BO$127:$BP$138,2,FALSE)","v":0},{"$f":"'Budget FCFA'!AP46/VLOOKUP(AP$2,$BO$127:$BP$138,2,FALSE)","v":0},{"$f":"'Budget FCFA'!#REF!/VLOOKUP(AQ$2,$BO$127:$BP$138,2,FALSE)","v":{"$error":"#REF!"}},{"$f":"'Budget FCFA'!#REF!/VLOOKUP(AR$2,$BO$127:$BP$138,2,FALSE)","v":{"$error":"#REF!"}},{"$f":"'Budget FCFA'!#REF!/VLOOKUP(AS$2,$BO$127:$BP$138,2,FALSE)","v":{"$error":"#REF!"}},{"$f":"'Budget FCFA'!#REF!/VLOOKUP(AT$2,$BO$127:$BP$138,2,FALSE)","v":{"$error":"#REF!"}},{"$f":"'Budget FCFA'!#REF!/VLOOKUP(AU$2,$BO$127:$BP$138,2,FALSE)","v":{"$error":"#REF!"}},{"$f":"'Budget FCFA'!#REF!/VLOOKUP(AV$2,$BO$127:$BP$138,2,FALSE)","v":{"$error":"#REF!"}},{"$f":"'Budget FCFA'!#REF!/VLOOKUP(AW$2,$BO$127:$BP$138,2,FALSE)","v":{"$error":"#REF!"}},{"$f":"'Budget FCFA'!#REF!/VLOOKUP(AX$2,$BO$127:$BP$138,2,FALSE)","v":{"$error":"#REF!"}},{"$f":"'Budget FCFA'!#REF!/VLOOKUP(AY$2,$BO$127:$BP$138,2,FALSE)","v":{"$error":"#REF!"}},{"$f":"'Budget FCFA'!#REF!/VLOOKUP(AZ$2,$BO$127:$BP$138,2,FALSE)","v":{"$error":"#REF!"}},{"$f":"'Budget FCFA'!#REF!/VLOOKUP(BA$2,$BO$127:$BP$138,2,FALSE)","v":{"$error":"#REF!"}},{"$f":"'Budget FCFA'!#REF!/VLOOKUP(BB$2,$BO$127:$BP$138,2,FALSE)","v":{"$error":"#REF!"}},{"$f":"'Budget FCFA'!#REF!/VLOOKUP(BC$2,$BO$127:$BP$138,2,FALSE)","v":{"$error":"#REF!"}},{"$f":"'Budget FCFA'!#REF!/VLOOKUP(BD$2,$BO$127:$BP$138,2,FALSE)","v":{"$error":"#REF!"}},{"$f":"'Budget FCFA'!#REF!/VLOOKUP(BE$2,$BO$127:$BP$138,2,FALSE)","v":{"$error":"#REF!"}},{"$f":"'Budget FCFA'!#REF!/VLOOKUP(BF$2,$BO$127:$BP$138,2,FALSE)","v":{"$error":"#REF!"}},{"$f":"'Budget FCFA'!#REF!/VLOOKUP(BG$2,$BO$127:$BP$138,2,FALSE)","v":{"$error":"#REF!"}},{"$f":"'Budget FCFA'!#REF!/VLOOKUP(BH$2,$BO$127:$BP$138,2,FALSE)","v":{"$error":"#REF!"}},{"$f":"'Budget FCFA'!#REF!/VLOOKUP(BI$2,$BO$127:$BP$138,2,FALSE)","v":{"$error":"#REF!"}},{"$f":"'Budget FCFA'!#REF!/VLOOKUP(BJ$2,$BO$127:$BP$138,2,FALSE)","v":{"$error":"#REF!"}},{"$error":"#REF!"},{"$f":"BK46-'Budget FCFA'!#REF!","v":{"$error":"#REF!"}}]
["PUBAFFIC","ABIDJAN","Frais de création affichage",{"$f":"'Budget FCFA'!D47/VLOOKUP(D$2,$BO$127:$BP$138,2,FALSE)","v":0},{"$f":"'Budget FCFA'!E47/VLOOKUP(E$2,$BO$127:$BP$138,2,FALSE)","v":0},{"$f":"'Budget FCFA'!F47/VLOOKUP(F$2,$BO$127:$BP$138,2,FALSE)","v":0},{"$f":"'Budget FCFA'!G47/VLOOKUP(G$2,$BO$127:$BP$138,2,FALSE)","v":0},{"$f":"'Budget FCFA'!H47/VLOOKUP(H$2,$BO$127:$BP$138,2,FALSE)","v":57.015932446791481},{"$f":"'Budget FCFA'!I47/VLOOKUP(I$2,$BO$127:$BP$138,2,FALSE)","v":0},{"$f":"'Budget FCFA'!J47/VLOOKUP(J$2,$BO$127:$BP$138,2,FALSE)","v":0},{"$f":"'Budget FCFA'!K47/VLOOKUP(K$2,$BO$127:$BP$138,2,FALSE)","v":0},{"$f":"'Budget FCFA'!L47/VLOOKUP(L$2,$BO$127:$BP$138,2,FALSE)","v":0},{"$f":"'Budget FCFA'!M47/VLOOKUP(M$2,$BO$127:$BP$138,2,FALSE)","v":57.015932446791481},{"$f":"'Budget FCFA'!N47/VLOOKUP(N$2,$BO$127:$BP$138,2,FALSE)","v":0},{"$f":"'Budget FCFA'!O47/VLOOKUP(O$2,$BO$127:$BP$138,2,FALSE)","v":0},{"$f":"'Budget FCFA'!P47/VLOOKUP(P$2,$BO$127:$BP$138,2,FALSE)","v":0},{"$f":"'Budget FCFA'!Q47/VLOOKUP(Q$2,$BO$127:$BP$138,2,FALSE)","v":0},{"$f":"'Budget FCFA'!R47/VLOOKUP(R$2,$BO$127:$BP$138,2,FALSE)","v":57.015932446791481},{"$f":"'Budget FCFA'!S47/VLOOKUP(S$2,$BO$127:$BP$138,2,FALSE)","v":0},{"$f":"'Budget FCFA'!T47/VLOOKUP(T$2,$BO$127:$BP$138,2,FALSE)","v":0},{"$f":"'Budget FCFA'!U47/VLOOKUP(U$2,$BO$127:$BP$138,2,FALSE)","v":0},{"$f":"'Budget FCFA'!V47/VLOOKUP(V$2,$BO$127:$BP$138,2,FALSE)","v":0},{"$f":"'Budget FCFA'!W47/VLOOKUP(W$2,$BO$127:$BP$138,2,FALSE)","v":57.015932446791481},{"$f":"'Budget FCFA'!X47/VLOOKUP(X$2,$BO$127:$BP$138,2,FALSE)","v":0},{"$f":"'Budget FCFA'!Y47/VLOOKUP(Y$2,$BO$127:$BP$138,2,FALSE)","v":0},{"$f":"'Budget FCFA'!Z47/VLOOKUP(Z$2,$BO$127:$BP$138,2,FALSE)","v":0},{"$f":"'Budget FCFA'!AA47/VLOOKUP(AA$2,$BO$127:$BP$138,2,FALSE)","v":57.015932446791481},{"$f":"'Budget FCFA'!AB47/VLOOKUP(AB$2,$BO$127:$BP$138,2,FALSE)","v":0},{"$f":"'Budget FCFA'!AC47/VLOOKUP(AC$2,$BO$127:$BP$138,2,FALSE)","v":0},{"$f":"'Budget FCFA'!AD47/VLOOKUP(AD$2,$BO$127:$BP$138,2,FALSE)","v":0},{"$f":"'Budget FCFA'!AE47/VLOOKUP(AE$2,$BO$127:$BP$138,2,FALSE)","v":0},{"$f":"'Budget FCFA'!AF47/VLOOKUP(AF$2,$BO$127:$BP$138,2,FALSE)","v":56.929144525440783},{"$f":"'Budget FCFA'!AG47/VLOOKUP(AG$2,$BO$127:$BP$138,2,FALSE)","v":0},{"$f":"'Budget FCFA'!AH47/VLOOKUP(AH$2,$BO$127:$BP$138,2,FALSE)","v":0},{"$f":"'Budget FCFA'!AI47/VLOOKUP(AI$2,$BO$127:$BP$138,2,FALSE)","v":0},{"$f":"'Budget FCFA'!AJ47/VLOOKUP(AJ$2,$BO$127:$BP$138,2,FALSE)","v":0},{"$f":"'Budget FCFA'!AK47/VLOOKUP(AK$2,$BO$127:$BP$138,2,FALSE)","v":57.015932446791481},{"$f":"'Budget FCFA'!AL47/VLOOKUP(AL$2,$BO$127:$BP$138,2,FALSE)","v":1029.03086635252},{"$f":"'Budget FCFA'!AM47/VLOOKUP(AM$2,$BO$127:$BP$138,2,FALSE)","v":0},{"$f":"'Budget FCFA'!AN47/VLOOKUP(AN$2,$BO$127:$BP$138,2,FALSE)","v":0},{"$f":"'Budget FCFA'!AO47/VLOOKUP(AO$2,$BO$127:$BP$138,2,FALSE)","v":0},{"$f":"'Budget FCFA'!AP47/VLOOKUP(AP$2,$BO$127:$BP$138,2,FALSE)","v":57.015932446791481},{"$f":"'Budget FCFA'!#REF!/VLOOKUP(AQ$2,$BO$127:$BP$138,2,FALSE)","v":{"$error":"#REF!"}},{"$f":"'Budget FCFA'!#REF!/VLOOKUP(AR$2,$BO$127:$BP$138,2,FALSE)","v":{"$error":"#REF!"}},{"$f":"'Budget FCFA'!#REF!/VLOOKUP(AS$2,$BO$127:$BP$138,2,FALSE)","v":{"$error":"#REF!"}},{"$f":"'Budget FCFA'!#REF!/VLOOKUP(AT$2,$BO$127:$BP$138,2,FALSE)","v":{"$error":"#REF!"}},{"$f":"'Budget FCFA'!#REF!/VLOOKUP(AU$2,$BO$127:$BP$138,2,FALSE)","v":{"$error":"#REF!"}},{"$f":"'Budget FCFA'!#REF!/VLOOKUP(AV$2,$BO$127:$BP$138,2,FALSE)","v":{"$error":"#REF!"}},{"$f":"'Budget FCFA'!#REF!/VLOOKUP(AW$2,$BO$127:$BP$138,2,FALSE)","v":{"$error":"#REF!"}},{"$f":"'Budget FCFA'!#REF!/VLOOKUP(AX$2,$BO$127:$BP$138,2,FALSE)","v":{"$error":"#REF!"}},{"$f":"'Budget FCFA'!#REF!/VLOOKUP(AY$2,$BO$127:$BP$138,2,FALSE)","v":{"$error":"#REF!"}},{"$f":"'Budget FCFA'!#REF!/VLOOKUP(AZ$2,$BO$127:$BP$138,2,FALSE)","v":{"$error":"#REF!"}},{"$f":"'Budget FCFA'!#REF!/VLOOKUP(BA$2,$BO$127:$BP$138,2,FALSE)","v":{"$error":"#REF!"}},{"$f":"'Budget FCFA'!#REF!/VLOOKUP(BB$2,$BO$127:$BP$138,2,FALSE)","v":{"$error":"#REF!"}},{"$f":"'Budget FCFA'!#REF!/VLOOKUP(BC$2,$BO$127:$BP$138,2,FALSE)","v":{"$error":"#REF!"}},{"$f":"'Budget FCFA'!#REF!/VLOOKUP(BD$2,$BO$127:$BP$138,2,FALSE)","v":{"$error":"#REF!"}},{"$f":"'Budget FCFA'!#REF!/VLOOKUP(BE$2,$BO$127:$BP$138,2,FALSE)","v":{"$error":"#REF!"}},{"$f":"'Budget FCFA'!#REF!/VLOOKUP(BF$2,$BO$127:$BP$138,2,FALSE)","v":{"$error":"#REF!"}},{"$f":"'Budget FCFA'!#REF!/VLOOKUP(BG$2,$BO$127:$BP$138,2,FALSE)","v":{"$error":"#REF!"}},{"$f":"'Budget FCFA'!#REF!/VLOOKUP(BH$2,$BO$127:$BP$138,2,FALSE)","v":{"$error":"#REF!"}},{"$f":"'Budget FCFA'!#REF!/VLOOKUP(BI$2,$BO$127:$BP$138,2,FALSE)","v":{"$error":"#REF!"}},{"$f":"'Budget FCFA'!#REF!/VLOOKUP(BJ$2,$BO$127:$BP$138,2,FALSE)","v":{"$error":"#REF!"}},{"$error":"#REF!"},{"$f":"BK47-'Budget FCFA'!#REF!","v":{"$error":"#REF!"}}]
["PUBAFFIC","BRAZZA","Frais de création affichage",{"$f":"'Budget FCFA'!D48/VLOOKUP(D$2,$BO$127:$BP$138,2,FALSE)","v":0},{"$f":"'Budget FCFA'!E48/VLOOKUP(E$2,$BO$127:$BP$138,2,FALSE)","v":0},{"$f":"'Budget FCFA'!F48/VLOOKUP(F$2,$BO$127:$BP$138,2,FALSE)","v":0},{"$f":"'Budget FCFA'!G48/VLOOKUP(G$2,$BO$127:$BP$138,2,FALSE)","v":0},{"$f":"'Budget FCFA'!H48/VLOOKUP(H$2,$BO$127:$BP$138,2,FALSE)","v":57.015932446791481},{"$f":"'Budget FCFA'!I48/VLOOKUP(I$2,$BO$127:$BP$138,2,FALSE)","v":0},{"$f":"'Budget FCFA'!J48/VLOOKUP(J$2,$BO$127:$BP$138,2,FALSE)","v":0},{"$f":"'Budget FCFA'!K48/VLOOKUP(K$2,$BO$127:$BP$138,2,FALSE)","v":0},{"$f":"'Budget FCFA'!L48/VLOOKUP(L$2,$BO$127:$BP$138,2,FALSE)","v":0},{"$f":"'Budget FCFA'!M48/VLOOKUP(M$2,$BO$127:$BP$138,2,FALSE)","v":57.015932446791481},{"$f":"'Budget FCFA'!N48/VLOOKUP(N$2,$BO$127:$BP$138,2,FALSE)","v":0},{"$f":"'Budget FCFA'!O48/VLOOKUP(O$2,$BO$127:$BP$138,2,FALSE)","v":0},{"$f":"'Budget FCFA'!P48/VLOOKUP(P$2,$BO$127:$BP$138,2,FALSE)","v":0},{"$f":"'Budget FCFA'!Q48/VLOOKUP(Q$2,$BO$127:$BP$138,2,FALSE)","v":0},{"$f":"'Budget FCFA'!R48/VLOOKUP(R$2,$BO$127:$BP$138,2,FALSE)","v":57.015932446791481},{"$f":"'Budget FCFA'!S48/VLOOKUP(S$2,$BO$127:$BP$138,2,FALSE)","v":0},{"$f":"'Budget FCFA'!T48/VLOOKUP(T$2,$BO$127:$BP$138,2,FALSE)","v":0},{"$f":"'Budget FCFA'!U48/VLOOKUP(U$2,$BO$127:$BP$138,2,FALSE)","v":0},{"$f":"'Budget FCFA'!V48/VLOOKUP(V$2,$BO$127:$BP$138,2,FALSE)","v":0},{"$f":"'Budget FCFA'!W48/VLOOKUP(W$2,$BO$127:$BP$138,2,FALSE)","v":57.015932446791481},{"$f":"'Budget FCFA'!X48/VLOOKUP(X$2,$BO$127:$BP$138,2,FALSE)","v":0},{"$f":"'Budget FCFA'!Y48/VLOOKUP(Y$2,$BO$127:$BP$138,2,FALSE)","v":0},{"$f":"'Budget FCFA'!Z48/VLOOKUP(Z$2,$BO$127:$BP$138,2,FALSE)","v":0},{"$f":"'Budget FCFA'!AA48/VLOOKUP(AA$2,$BO$127:$BP$138,2,FALSE)","v":57.015932446791481},{"$f":"'Budget FCFA'!AB48/VLOOKUP(AB$2,$BO$127:$BP$138,2,FALSE)","v":0},{"$f":"'Budget FCFA'!AC48/VLOOKUP(AC$2,$BO$127:$BP$138,2,FALSE)","v":0},{"$f":"'Budget FCFA'!AD48/VLOOKUP(AD$2,$BO$127:$BP$138,2,FALSE)","v":0},{"$f":"'Budget FCFA'!AE48/VLOOKUP(AE$2,$BO$127:$BP$138,2,FALSE)","v":0},{"$f":"'Budget FCFA'!AF48/VLOOKUP(AF$2,$BO$127:$BP$138,2,FALSE)","v":56.929144525440783},{"$f":"'Budget FCFA'!AG48/VLOOKUP(AG$2,$BO$127:$BP$138,2,FALSE)","v":0},{"$f":"'Budget FCFA'!AH48/VLOOKUP(AH$2,$BO$127:$BP$138,2,FALSE)","v":0},{"$f":"'Budget FCFA'!AI48/VLOOKUP(AI$2,$BO$127:$BP$138,2,FALSE)","v":0},{"$f":"'Budget FCFA'!AJ48/VLOOKUP(AJ$2,$BO$127:$BP$138,2,FALSE)","v":0},{"$f":"'Budget FCFA'!AK48/VLOOKUP(AK$2,$BO$127:$BP$138,2,FALSE)","v":57.015932446791481},{"$f":"'Budget FCFA'!AL48/VLOOKUP(AL$2,$BO$127:$BP$138,2,FALSE)","v":0},{"$f":"'Budget FCFA'!AM48/VLOOKUP(AM$2,$BO$127:$BP$138,2,FALSE)","v":0},{"$f":"'Budget FCFA'!AN48/VLOOKUP(AN$2,$BO$127:$BP$138,2,FALSE)","v":0},{"$f":"'Budget FCFA'!AO48/VLOOKUP(AO$2,$BO$127:$BP$138,2,FALSE)","v":0},{"$f":"'Budget FCFA'!AP48/VLOOKUP(AP$2,$BO$127:$BP$138,2,FALSE)","v":57.015932446791481},{"$f":"'Budget FCFA'!#REF!/VLOOKUP(AQ$2,$BO$127:$BP$138,2,FALSE)","v":{"$error":"#REF!"}},{"$f":"'Budget FCFA'!#REF!/VLOOKUP(AR$2,$BO$127:$BP$138,2,FALSE)","v":{"$error":"#REF!"}},{"$f":"'Budget FCFA'!#REF!/VLOOKUP(AS$2,$BO$127:$BP$138,2,FALSE)","v":{"$error":"#REF!"}},{"$f":"'Budget FCFA'!#REF!/VLOOKUP(AT$2,$BO$127:$BP$138,2,FALSE)","v":{"$error":"#REF!"}},{"$f":"'Budget FCFA'!#REF!/VLOOKUP(AU$2,$BO$127:$BP$138,2,FALSE)","v":{"$error":"#REF!"}},{"$f":"'Budget FCFA'!#REF!/VLOOKUP(AV$2,$BO$127:$BP$138,2,FALSE)","v":{"$error":"#REF!"}},{"$f":"'Budget FCFA'!#REF!/VLOOKUP(AW$2,$BO$127:$BP$138,2,FALSE)","v":{"$error":"#REF!"}},{"$f":"'Budget FCFA'!#REF!/VLOOKUP(AX$2,$BO$127:$BP$138,2,FALSE)","v":{"$error":"#REF!"}},{"$f":"'Budget FCFA'!#REF!/VLOOKUP(AY$2,$BO$127:$BP$138,2,FALSE)","v":{"$error":"#REF!"}},{"$f":"'Budget FCFA'!#REF!/VLOOKUP(AZ$2,$BO$127:$BP$138,2,FALSE)","v":{"$error":"#REF!"}},{"$f":"'Budget FCFA'!#REF!/VLOOKUP(BA$2,$BO$127:$BP$138,2,FALSE)","v":{"$error":"#REF!"}},{"$f":"'Budget FCFA'!#REF!/VLOOKUP(BB$2,$BO$127:$BP$138,2,FALSE)","v":{"$error":"#REF!"}},{"$f":"'Budget FCFA'!#REF!/VLOOKUP(BC$2,$BO$127:$BP$138,2,FALSE)","v":{"$error":"#REF!"}},{"$f":"'Budget FCFA'!#REF!/VLOOKUP(BD$2,$BO$127:$BP$138,2,FALSE)","v":{"$error":"#REF!"}},{"$f":"'Budget FCFA'!#REF!/VLOOKUP(BE$2,$BO$127:$BP$138,2,FALSE)","v":{"$error":"#REF!"}},{"$f":"'Budget FCFA'!#REF!/VLOOKUP(BF$2,$BO$127:$BP$138,2,FALSE)","v":{"$error":"#REF!"}},{"$f":"'Budget FCFA'!#REF!/VLOOKUP(BG$2,$BO$127:$BP$138,2,FALSE)","v":{"$error":"#REF!"}},{"$f":"'Budget FCFA'!#REF!/VLOOKUP(BH$2,$BO$127:$BP$138,2,FALSE)","v":{"$error":"#REF!"}},{"$f":"'Budget FCFA'!#REF!/VLOOKUP(BI$2,$BO$127:$BP$138,2,FALSE)","v":{"$error":"#REF!"}},{"$f":"'Budget FCFA'!#REF!/VLOOKUP(BJ$2,$BO$127:$BP$138,2,FALSE)","v":{"$error":"#REF!"}},{"$error":"#REF!"},{"$f":"BK48-'Budget FCFA'!#REF!","v":{"$error":"#REF!"}}]
["PUBAFFIC","DAKAR","Frais de création affichage",{"$f":"'Budget FCFA'!D49/VLOOKUP(D$2,$BO$127:$BP$138,2,FALSE)","v":0},{"$f":"'Budget FCFA'!E49/VLOOKUP(E$2,$BO$127:$BP$138,2,FALSE)","v":0},{"$f":"'Budget FCFA'!F49/VLOOKUP(F$2,$BO$127:$BP$138,2,FALSE)","v":0},{"$f":"'Budget FCFA'!G49/VLOOKUP(G$2,$BO$127:$BP$138,2,FALSE)","v":0},{"$f":"'Budget FCFA'!H49/VLOOKUP(H$2,$BO$127:$BP$138,2,FALSE)","v":57.015932446791481},{"$f":"'Budget FCFA'!I49/VLOOKUP(I$2,$BO$127:$BP$138,2,FALSE)","v":0},{"$f":"'Budget FCFA'!J49/VLOOKUP(J$2,$BO$127:$BP$138,2,FALSE)","v":0},{"$f":"'Budget FCFA'!K49/VLOOKUP(K$2,$BO$127:$BP$138,2,FALSE)","v":0},{"$f":"'Budget FCFA'!L49/VLOOKUP(L$2,$BO$127:$BP$138,2,FALSE)","v":0},{"$f":"'Budget FCFA'!M49/VLOOKUP(M$2,$BO$127:$BP$138,2,FALSE)","v":57.015932446791481},{"$f":"'Budget FCFA'!N49/VLOOKUP(N$2,$BO$127:$BP$138,2,FALSE)","v":0},{"$f":"'Budget FCFA'!O49/VLOOKUP(O$2,$BO$127:$BP$138,2,FALSE)","v":0},{"$f":"'Budget FCFA'!P49/VLOOKUP(P$2,$BO$127:$BP$138,2,FALSE)","v":0},{"$f":"'Budget FCFA'!Q49/VLOOKUP(Q$2,$BO$127:$BP$138,2,FALSE)","v":0},{"$f":"'Budget FCFA'!R49/VLOOKUP(R$2,$BO$127:$BP$138,2,FALSE)","v":57.015932446791481},{"$f":"'Budget FCFA'!S49/VLOOKUP(S$2,$BO$127:$BP$138,2,FALSE)","v":0},{"$f":"'Budget FCFA'!T49/VLOOKUP(T$2,$BO$127:$BP$138,2,FALSE)","v":0},{"$f":"'Budget FCFA'!U49/VLOOKUP(U$2,$BO$127:$BP$138,2,FALSE)","v":0},{"$f":"'Budget FCFA'!V49/VLOOKUP(V$2,$BO$127:$BP$138,2,FALSE)","v":0},{"$f":"'Budget FCFA'!W49/VLOOKUP(W$2,$BO$127:$BP$138,2,FALSE)","v":57.015932446791481},{"$f":"'Budget FCFA'!X49/VLOOKUP(X$2,$BO$127:$BP$138,2,FALSE)","v":0},{"$f":"'Budget FCFA'!Y49/VLOOKUP(Y$2,$BO$127:$BP$138,2,FALSE)","v":0},{"$f":"'Budget FCFA'!Z49/VLOOKUP(Z$2,$BO$127:$BP$138,2,FALSE)","v":0},{"$f":"'Budget FCFA'!AA49/VLOOKUP(AA$2,$BO$127:$BP$138,2,FALSE)","v":57.015932446791481},{"$f":"'Budget FCFA'!AB49/VLOOKUP(AB$2,$BO$127:$BP$138,2,FALSE)","v":0},{"$f":"'Budget FCFA'!AC49/VLOOKUP(AC$2,$BO$127:$BP$138,2,FALSE)","v":0},{"$f":"'Budget FCFA'!AD49/VLOOKUP(AD$2,$BO$127:$BP$138,2,FALSE)","v":0},{"$f":"'Budget FCFA'!AE49/VLOOKUP(AE$2,$BO$127:$BP$138,2,FALSE)","v":0},{"$f":"'Budget FCFA'!AF49/VLOOKUP(AF$2,$BO$127:$BP$138,2,FALSE)","v":56.929144525440783},{"$f":"'Budget FCFA'!AG49/VLOOKUP(AG$2,$BO$127:$BP$138,2,FALSE)","v":0},{"$f":"'Budget FCFA'!AH49/VLOOKUP(AH$2,$BO$127:$BP$138,2,FALSE)","v":0},{"$f":"'Budget FCFA'!AI49/VLOOKUP(AI$2,$BO$127:$BP$138,2,FALSE)","v":0},{"$f":"'Budget FCFA'!AJ49/VLOOKUP(AJ$2,$BO$127:$BP$138,2,FALSE)","v":0},{"$f":"'Budget FCFA'!AK49/VLOOKUP(AK$2,$BO$127:$BP$138,2,FALSE)","v":57.015932446791481},{"$f":"'Budget FCFA'!AL49/VLOOKUP(AL$2,$BO$127:$BP$138,2,FALSE)","v":0},{"$f":"'Budget FCFA'!AM49/VLOOKUP(AM$2,$BO$127:$BP$138,2,FALSE)","v":0},{"$f":"'Budget FCFA'!AN49/VLOOKUP(AN$2,$BO$127:$BP$138,2,FALSE)","v":0},{"$f":"'Budget FCFA'!AO49/VLOOKUP(AO$2,$BO$127:$BP$138,2,FALSE)","v":0},{"$f":"'Budget FCFA'!AP49/VLOOKUP(AP$2,$BO$127:$BP$138,2,FALSE)","v":57.015932446791481},{"$f":"'Budget FCFA'!#REF!/VLOOKUP(AQ$2,$BO$127:$BP$138,2,FALSE)","v":{"$error":"#REF!"}},{"$f":"'Budget FCFA'!#REF!/VLOOKUP(AR$2,$BO$127:$BP$138,2,FALSE)","v":{"$error":"#REF!"}},{"$f":"'Budget FCFA'!#REF!/VLOOKUP(AS$2,$BO$127:$BP$138,2,FALSE)","v":{"$error":"#REF!"}},{"$f":"'Budget FCFA'!#REF!/VLOOKUP(AT$2,$BO$127:$BP$138,2,FALSE)","v":{"$error":"#REF!"}},{"$f":"'Budget FCFA'!#REF!/VLOOKUP(AU$2,$BO$127:$BP$138,2,FALSE)","v":{"$error":"#REF!"}},{"$f":"'Budget FCFA'!#REF!/VLOOKUP(AV$2,$BO$127:$BP$138,2,FALSE)","v":{"$error":"#REF!"}},{"$f":"'Budget FCFA'!#REF!/VLOOKUP(AW$2,$BO$127:$BP$138,2,FALSE)","v":{"$error":"#REF!"}},{"$f":"'Budget FCFA'!#REF!/VLOOKUP(AX$2,$BO$127:$BP$138,2,FALSE)","v":{"$error":"#REF!"}},{"$f":"'Budget FCFA'!#REF!/VLOOKUP(AY$2,$BO$127:$BP$138,2,FALSE)","v":{"$error":"#REF!"}},{"$f":"'Budget FCFA'!#REF!/VLOOKUP(AZ$2,$BO$127:$BP$138,2,FALSE)","v":{"$error":"#REF!"}},{"$f":"'Budget FCFA'!#REF!/VLOOKUP(BA$2,$BO$127:$BP$138,2,FALSE)","v":{"$error":"#REF!"}},{"$f":"'Budget FCFA'!#REF!/VLOOKUP(BB$2,$BO$127:$BP$138,2,FALSE)","v":{"$error":"#REF!"}},{"$f":"'Budget FCFA'!#REF!/VLOOKUP(BC$2,$BO$127:$BP$138,2,FALSE)","v":{"$error":"#REF!"}},{"$f":"'Budget FCFA'!#REF!/VLOOKUP(BD$2,$BO$127:$BP$138,2,FALSE)","v":{"$error":"#REF!"}},{"$f":"'Budget FCFA'!#REF!/VLOOKUP(BE$2,$BO$127:$BP$138,2,FALSE)","v":{"$error":"#REF!"}},{"$f":"'Budget FCFA'!#REF!/VLOOKUP(BF$2,$BO$127:$BP$138,2,FALSE)","v":{"$error":"#REF!"}},{"$f":"'Budget FCFA'!#REF!/VLOOKUP(BG$2,$BO$127:$BP$138,2,FALSE)","v":{"$error":"#REF!"}},{"$f":"'Budget FCFA'!#REF!/VLOOKUP(BH$2,$BO$127:$BP$138,2,FALSE)","v":{"$error":"#REF!"}},{"$f":"'Budget FCFA'!#REF!/VLOOKUP(BI$2,$BO$127:$BP$138,2,FALSE)","v":{"$error":"#REF!"}},{"$f":"'Budget FCFA'!#REF!/VLOOKUP(BJ$2,$BO$127:$BP$138,2,FALSE)","v":{"$error":"#REF!"}},{"$error":"#REF!"},{"$f":"BK49-'Budget FCFA'!#REF!","v":{"$error":"#REF!"}}]
["PUBAFFIC","LIBREVILLE","Frais de création affichage",{"$f":"'Budget FCFA'!D50/VLOOKUP(D$2,$BO$127:$BP$138,2,FALSE)","v":0},{"$f":"'Budget FCFA'!E50/VLOOKUP(E$2,$BO$127:$BP$138,2,FALSE)","v":0},{"$f":"'Budget FCFA'!F50/VLOOKUP(F$2,$BO$127:$BP$138,2,FALSE)","v":0},{"$f":"'Budget FCFA'!G50/VLOOKUP(G$2,$BO$127:$BP$138,2,FALSE)","v":0},{"$f":"'Budget FCFA'!H50/VLOOKUP(H$2,$BO$127:$BP$138,2,FALSE)","v":57.015932446791481},{"$f":"'Budget FCFA'!I50/VLOOKUP(I$2,$BO$127:$BP$138,2,FALSE)","v":0},{"$f":"'Budget FCFA'!J50/VLOOKUP(J$2,$BO$127:$BP$138,2,FALSE)","v":0},{"$f":"'Budget FCFA'!K50/VLOOKUP(K$2,$BO$127:$BP$138,2,FALSE)","v":0},{"$f":"'Budget FCFA'!L50/VLOOKUP(L$2,$BO$127:$BP$138,2,FALSE)","v":0},{"$f":"'Budget FCFA'!M50/VLOOKUP(M$2,$BO$127:$BP$138,2,FALSE)","v":57.015932446791481},{"$f":"'Budget FCFA'!N50/VLOOKUP(N$2,$BO$127:$BP$138,2,FALSE)","v":0},{"$f":"'Budget FCFA'!O50/VLOOKUP(O$2,$BO$127:$BP$138,2,FALSE)","v":0},{"$f":"'Budget FCFA'!P50/VLOOKUP(P$2,$BO$127:$BP$138,2,FALSE)","v":0},{"$f":"'Budget FCFA'!Q50/VLOOKUP(Q$2,$BO$127:$BP$138,2,FALSE)","v":0},{"$f":"'Budget FCFA'!R50/VLOOKUP(R$2,$BO$127:$BP$138,2,FALSE)","v":57.015932446791481},{"$f":"'Budget FCFA'!S50/VLOOKUP(S$2,$BO$127:$BP$138,2,FALSE)","v":0},{"$f":"'Budget FCFA'!T50/VLOOKUP(T$2,$BO$127:$BP$138,2,FALSE)","v":0},{"$f":"'Budget FCFA'!U50/VLOOKUP(U$2,$BO$127:$BP$138,2,FALSE)","v":0},{"$f":"'Budget FCFA'!V50/VLOOKUP(V$2,$BO$127:$BP$138,2,FALSE)","v":0},{"$f":"'Budget FCFA'!W50/VLOOKUP(W$2,$BO$127:$BP$138,2,FALSE)","v":57.015932446791481},{"$f":"'Budget FCFA'!X50/VLOOKUP(X$2,$BO$127:$BP$138,2,FALSE)","v":0},{"$f":"'Budget FCFA'!Y50/VLOOKUP(Y$2,$BO$127:$BP$138,2,FALSE)","v":0},{"$f":"'Budget FCFA'!Z50/VLOOKUP(Z$2,$BO$127:$BP$138,2,FALSE)","v":0},{"$f":"'Budget FCFA'!AA50/VLOOKUP(AA$2,$BO$127:$BP$138,2,FALSE)","v":57.015932446791481},{"$f":"'Budget FCFA'!AB50/VLOOKUP(AB$2,$BO$127:$BP$138,2,FALSE)","v":0},{"$f":"'Budget FCFA'!AC50/VLOOKUP(AC$2,$BO$127:$BP$138,2,FALSE)","v":0},{"$f":"'Budget FCFA'!AD50/VLOOKUP(AD$2,$BO$127:$BP$138,2,FALSE)","v":0},{"$f":"'Budget FCFA'!AE50/VLOOKUP(AE$2,$BO$127:$BP$138,2,FALSE)","v":0},{"$f":"'Budget FCFA'!AF50/VLOOKUP(AF$2,$BO$127:$BP$138,2,FALSE)","v":56.929144525440783},{"$f":"'Budget FCFA'!AG50/VLOOKUP(AG$2,$BO$127:$BP$138,2,FALSE)","v":0},{"$f":"'Budget FCFA'!AH50/VLOOKUP(AH$2,$BO$127:$BP$138,2,FALSE)","v":0},{"$f":"'Budget FCFA'!AI50/VLOOKUP(AI$2,$BO$127:$BP$138,2,FALSE)","v":0},{"$f":"'Budget FCFA'!AJ50/VLOOKUP(AJ$2,$BO$127:$BP$138,2,FALSE)","v":0},{"$f":"'Budget FCFA'!AK50/VLOOKUP(AK$2,$BO$127:$BP$138,2,FALSE)","v":57.015932446791481},{"$f":"'Budget FCFA'!AL50/VLOOKUP(AL$2,$BO$127:$BP$138,2,FALSE)","v":0},{"$f":"'Budget FCFA'!AM50/VLOOKUP(AM$2,$BO$127:$BP$138,2,FALSE)","v":0},{"$f":"'Budget FCFA'!AN50/VLOOKUP(AN$2,$BO$127:$BP$138,2,FALSE)","v":0},{"$f":"'Budget FCFA'!AO50/VLOOKUP(AO$2,$BO$127:$BP$138,2,FALSE)","v":0},{"$f":"'Budget FCFA'!AP50/VLOOKUP(AP$2,$BO$127:$BP$138,2,FALSE)","v":57.015932446791481},{"$f":"'Budget FCFA'!#REF!/VLOOKUP(AQ$2,$BO$127:$BP$138,2,FALSE)","v":{"$error":"#REF!"}},{"$f":"'Budget FCFA'!#REF!/VLOOKUP(AR$2,$BO$127:$BP$138,2,FALSE)","v":{"$error":"#REF!"}},{"$f":"'Budget FCFA'!#REF!/VLOOKUP(AS$2,$BO$127:$BP$138,2,FALSE)","v":{"$error":"#REF!"}},{"$f":"'Budget FCFA'!#REF!/VLOOKUP(AT$2,$BO$127:$BP$138,2,FALSE)","v":{"$error":"#REF!"}},{"$f":"'Budget FCFA'!#REF!/VLOOKUP(AU$2,$BO$127:$BP$138,2,FALSE)","v":{"$error":"#REF!"}},{"$f":"'Budget FCFA'!#REF!/VLOOKUP(AV$2,$BO$127:$BP$138,2,FALSE)","v":{"$error":"#REF!"}},{"$f":"'Budget FCFA'!#REF!/VLOOKUP(AW$2,$BO$127:$BP$138,2,FALSE)","v":{"$error":"#REF!"}},{"$f":"'Budget FCFA'!#REF!/VLOOKUP(AX$2,$BO$127:$BP$138,2,FALSE)","v":{"$error":"#REF!"}},{"$f":"'Budget FCFA'!#REF!/VLOOKUP(AY$2,$BO$127:$BP$138,2,FALSE)","v":{"$error":"#REF!"}},{"$f":"'Budget FCFA'!#REF!/VLOOKUP(AZ$2,$BO$127:$BP$138,2,FALSE)","v":{"$error":"#REF!"}},{"$f":"'Budget FCFA'!#REF!/VLOOKUP(BA$2,$BO$127:$BP$138,2,FALSE)","v":{"$error":"#REF!"}},{"$f":"'Budget FCFA'!#REF!/VLOOKUP(BB$2,$BO$127:$BP$138,2,FALSE)","v":{"$error":"#REF!"}},{"$f":"'Budget FCFA'!#REF!/VLOOKUP(BC$2,$BO$127:$BP$138,2,FALSE)","v":{"$error":"#REF!"}},{"$f":"'Budget FCFA'!#REF!/VLOOKUP(BD$2,$BO$127:$BP$138,2,FALSE)","v":{"$error":"#REF!"}},{"$f":"'Budget FCFA'!#REF!/VLOOKUP(BE$2,$BO$127:$BP$138,2,FALSE)","v":{"$error":"#REF!"}},{"$f":"'Budget FCFA'!#REF!/VLOOKUP(BF$2,$BO$127:$BP$138,2,FALSE)","v":{"$error":"#REF!"}},{"$f":"'Budget FCFA'!#REF!/VLOOKUP(BG$2,$BO$127:$BP$138,2,FALSE)","v":{"$error":"#REF!"}},{"$f":"'Budget FCFA'!#REF!/VLOOKUP(BH$2,$BO$127:$BP$138,2,FALSE)","v":{"$error":"#REF!"}},{"$f":"'Budget FCFA'!#REF!/VLOOKUP(BI$2,$BO$127:$BP$138,2,FALSE)","v":{"$error":"#REF!"}},{"$f":"'Budget FCFA'!#REF!/VLOOKUP(BJ$2,$BO$127:$BP$138,2,FALSE)","v":{"$error":"#REF!"}},{"$error":"#REF!"},{"$f":"BK50-'Budget FCFA'!#REF!","v":{"$error":"#REF!"}}]
["PUBAFFIC","DOUALA","Frais de création affichage",{"$f":"'Budget FCFA'!D51/VLOOKUP(D$2,$BO$127:$BP$138,2,FALSE)","v":0},{"$f":"'Budget FCFA'!E51/VLOOKUP(E$2,$BO$127:$BP$138,2,FALSE)","v":0},{"$f":"'Budget FCFA'!F51/VLOOKUP(F$2,$BO$127:$BP$138,2,FALSE)","v":0},{"$f":"'Budget FCFA'!G51/VLOOKUP(G$2,$BO$127:$BP$138,2,FALSE)","v":0},{"$f":"'Budget FCFA'!H51/VLOOKUP(H$2,$BO$127:$BP$138,2,FALSE)","v":57.015932446791481},{"$f":"'Budget FCFA'!I51/VLOOKUP(I$2,$BO$127:$BP$138,2,FALSE)","v":0},{"$f":"'Budget FCFA'!J51/VLOOKUP(J$2,$BO$127:$BP$138,2,FALSE)","v":0},{"$f":"'Budget FCFA'!K51/VLOOKUP(K$2,$BO$127:$BP$138,2,FALSE)","v":0},{"$f":"'Budget FCFA'!L51/VLOOKUP(L$2,$BO$127:$BP$138,2,FALSE)","v":0},{"$f":"'Budget FCFA'!M51/VLOOKUP(M$2,$BO$127:$BP$138,2,FALSE)","v":57.015932446791481},{"$f":"'Budget FCFA'!N51/VLOOKUP(N$2,$BO$127:$BP$138,2,FALSE)","v":0},{"$f":"'Budget FCFA'!O51/VLOOKUP(O$2,$BO$127:$BP$138,2,FALSE)","v":0},{"$f":"'Budget FCFA'!P51/VLOOKUP(P$2,$BO$127:$BP$138,2,FALSE)","v":0},{"$f":"'Budget FCFA'!Q51/VLOOKUP(Q$2,$BO$127:$BP$138,2,FALSE)","v":0},{"$f":"'Budget FCFA'!R51/VLOOKUP(R$2,$BO$127:$BP$138,2,FALSE)","v":57.015932446791481},{"$f":"'Budget FCFA'!S51/VLOOKUP(S$2,$BO$127:$BP$138,2,FALSE)","v":0},{"$f":"'Budget FCFA'!T51/VLOOKUP(T$2,$BO$127:$BP$138,2,FALSE)","v":0},{"$f":"'Budget FCFA'!U51/VLOOKUP(U$2,$BO$127:$BP$138,2,FALSE)","v":0},{"$f":"'Budget FCFA'!V51/VLOOKUP(V$2,$BO$127:$BP$138,2,FALSE)","v":0},{"$f":"'Budget FCFA'!W51/VLOOKUP(W$2,$BO$127:$BP$138,2,FALSE)","v":57.015932446791481},{"$f":"'Budget FCFA'!X51/VLOOKUP(X$2,$BO$127:$BP$138,2,FALSE)","v":0},{"$f":"'Budget FCFA'!Y51/VLOOKUP(Y$2,$BO$127:$BP$138,2,FALSE)","v":0},{"$f":"'Budget FCFA'!Z51/VLOOKUP(Z$2,$BO$127:$BP$138,2,FALSE)","v":0},{"$f":"'Budget FCFA'!AA51/VLOOKUP(AA$2,$BO$127:$BP$138,2,FALSE)","v":57.015932446791481},{"$f":"'Budget FCFA'!AB51/VLOOKUP(AB$2,$BO$127:$BP$138,2,FALSE)","v":0},{"$f":"'Budget FCFA'!AC51/VLOOKUP(AC$2,$BO$127:$BP$138,2,FALSE)","v":0},{"$f":"'Budget FCFA'!AD51/VLOOKUP(AD$2,$BO$127:$BP$138,2,FALSE)","v":0},{"$f":"'Budget FCFA'!AE51/VLOOKUP(AE$2,$BO$127:$BP$138,2,FALSE)","v":0},{"$f":"'Budget FCFA'!AF51/VLOOKUP(AF$2,$BO$127:$BP$138,2,FALSE)","v":56.929144525440783},{"$f":"'Budget FCFA'!AG51/VLOOKUP(AG$2,$BO$127:$BP$138,2,FALSE)","v":0},{"$f":"'Budget FCFA'!AH51/VLOOKUP(AH$2,$BO$127:$BP$138,2,FALSE)","v":0},{"$f":"'Budget FCFA'!AI51/VLOOKUP(AI$2,$BO$127:$BP$138,2,FALSE)","v":0},{"$f":"'Budget FCFA'!AJ51/VLOOKUP(AJ$2,$BO$127:$BP$138,2,FALSE)","v":0},{"$f":"'Budget FCFA'!AK51/VLOOKUP(AK$2,$BO$127:$BP$138,2,FALSE)","v":57.015932446791481},{"$f":"'Budget FCFA'!AL51/VLOOKUP(AL$2,$BO$127:$BP$138,2,FALSE)","v":0},{"$f":"'Budget FCFA'!AM51/VLOOKUP(AM$2,$BO$127:$BP$138,2,FALSE)","v":0},{"$f":"'Budget FCFA'!AN51/VLOOKUP(AN$2,$BO$127:$BP$138,2,FALSE)","v":0},{"$f":"'Budget FCFA'!AO51/VLOOKUP(AO$2,$BO$127:$BP$138,2,FALSE)","v":0},{"$f":"'Budget FCFA'!AP51/VLOOKUP(AP$2,$BO$127:$BP$138,2,FALSE)","v":57.015932446791481},{"$f":"'Budget FCFA'!#REF!/VLOOKUP(AQ$2,$BO$127:$BP$138,2,FALSE)","v":{"$error":"#REF!"}},{"$f":"'Budget FCFA'!#REF!/VLOOKUP(AR$2,$BO$127:$BP$138,2,FALSE)","v":{"$error":"#REF!"}},{"$f":"'Budget FCFA'!#REF!/VLOOKUP(AS$2,$BO$127:$BP$138,2,FALSE)","v":{"$error":"#REF!"}},{"$f":"'Budget FCFA'!#REF!/VLOOKUP(AT$2,$BO$127:$BP$138,2,FALSE)","v":{"$error":"#REF!"}},{"$f":"'Budget FCFA'!#REF!/VLOOKUP(AU$2,$BO$127:$BP$138,2,FALSE)","v":{"$error":"#REF!"}},{"$f":"'Budget FCFA'!#REF!/VLOOKUP(AV$2,$BO$127:$BP$138,2,FALSE)","v":{"$error":"#REF!"}},{"$f":"'Budget FCFA'!#REF!/VLOOKUP(AW$2,$BO$127:$BP$138,2,FALSE)","v":{"$error":"#REF!"}},{"$f":"'Budget FCFA'!#REF!/VLOOKUP(AX$2,$BO$127:$BP$138,2,FALSE)","v":{"$error":"#REF!"}},{"$f":"'Budget FCFA'!#REF!/VLOOKUP(AY$2,$BO$127:$BP$138,2,FALSE)","v":{"$error":"#REF!"}},{"$f":"'Budget FCFA'!#REF!/VLOOKUP(AZ$2,$BO$127:$BP$138,2,FALSE)","v":{"$error":"#REF!"}},{"$f":"'Budget FCFA'!#REF!/VLOOKUP(BA$2,$BO$127:$BP$138,2,FALSE)","v":{"$error":"#REF!"}},{"$f":"'Budget FCFA'!#REF!/VLOOKUP(BB$2,$BO$127:$BP$138,2,FALSE)","v":{"$error":"#REF!"}},{"$f":"'Budget FCFA'!#REF!/VLOOKUP(BC$2,$BO$127:$BP$138,2,FALSE)","v":{"$error":"#REF!"}},{"$f":"'Budget FCFA'!#REF!/VLOOKUP(BD$2,$BO$127:$BP$138,2,FALSE)","v":{"$error":"#REF!"}},{"$f":"'Budget FCFA'!#REF!/VLOOKUP(BE$2,$BO$127:$BP$138,2,FALSE)","v":{"$error":"#REF!"}},{"$f":"'Budget FCFA'!#REF!/VLOOKUP(BF$2,$BO$127:$BP$138,2,FALSE)","v":{"$error":"#REF!"}},{"$f":"'Budget FCFA'!#REF!/VLOOKUP(BG$2,$BO$127:$BP$138,2,FALSE)","v":{"$error":"#REF!"}},{"$f":"'Budget FCFA'!#REF!/VLOOKUP(BH$2,$BO$127:$BP$138,2,FALSE)","v":{"$error":"#REF!"}},{"$f":"'Budget FCFA'!#REF!/VLOOKUP(BI$2,$BO$127:$BP$138,2,FALSE)","v":{"$error":"#REF!"}},{"$f":"'Budget FCFA'!#REF!/VLOOKUP(BJ$2,$BO$127:$BP$138,2,FALSE)","v":{"$error":"#REF!"}},{"$error":"#REF!"},{"$f":"BK51-'Budget FCFA'!#REF!","v":{"$error":"#REF!"}}]
["PUBAFFIC","TOTAL","Total reseau affichage",{"$f":"'Budget FCFA'!D52/VLOOKUP(D$2,$BO$127:$BP$138,2,FALSE)","v":186.75004611582773},{"$f":"'Budget FCFA'!E52/VLOOKUP(E$2,$BO$127:$BP$138,2,FALSE)","v":447.65129421593184},{"$f":"'Budget FCFA'!F52/VLOOKUP(F$2,$BO$127:$BP$138,2,FALSE)","v":732.51752782575693},{"$f":"'Budget FCFA'!G52/VLOOKUP(G$2,$BO$127:$BP$138,2,FALSE)","v":0},{"$f":"'Budget FCFA'!H52/VLOOKUP(H$2,$BO$127:$BP$138,2,FALSE)","v":1061.9598540758006},{"$f":"'Budget FCFA'!I52/VLOOKUP(I$2,$BO$127:$BP$138,2,FALSE)","v":2026.9209719539542},{"$f":"'Budget FCFA'!J52/VLOOKUP(J$2,$BO$127:$BP$138,2,FALSE)","v":0},{"$f":"'Budget FCFA'!K52/VLOOKUP(K$2,$BO$127:$BP$138,2,FALSE)","v":0},{"$f":"'Budget FCFA'!L52/VLOOKUP(L$2,$BO$127:$BP$138,2,FALSE)","v":0},{"$f":"'Budget FCFA'!M52/VLOOKUP(M$2,$BO$127:$BP$138,2,FALSE)","v":1579.3718185795715},{"$f":"'Budget FCFA'!N52/VLOOKUP(N$2,$BO$127:$BP$138,2,FALSE)","v":0},{"$f":"'Budget FCFA'!O52/VLOOKUP(O$2,$BO$127:$BP$138,2,FALSE)","v":468.32338095332472},{"$f":"'Budget FCFA'!P52/VLOOKUP(P$2,$BO$127:$BP$138,2,FALSE)","v":3587.0491510876477},{"$f":"'Budget FCFA'!Q52/VLOOKUP(Q$2,$BO$127:$BP$138,2,FALSE)","v":0},{"$f":"'Budget FCFA'!R52/VLOOKUP(R$2,$BO$127:$BP$138,2,FALSE)","v":1506.638392455603},{"$f":"'Budget FCFA'!S52/VLOOKUP(S$2,$BO$127:$BP$138,2,FALSE)","v":0},{"$f":"'Budget FCFA'!T52/VLOOKUP(T$2,$BO$127:$BP$138,2,FALSE)","v":6058.5023103648564},{"$f":"'Budget FCFA'!U52/VLOOKUP(U$2,$BO$127:$BP$138,2,FALSE)","v":0},{"$f":"'Budget FCFA'!V52/VLOOKUP(V$2,$BO$127:$BP$138,2,FALSE)","v":0},{"$f":"'Budget FCFA'!W52/VLOOKUP(W$2,$BO$127:$BP$138,2,FALSE)","v":811.02877170302327},{"$f":"'Budget FCFA'!X52/VLOOKUP(X$2,$BO$127:$BP$138,2,FALSE)","v":0},{"$f":"'Budget FCFA'!Y52/VLOOKUP(Y$2,$BO$127:$BP$138,2,FALSE)","v":0},{"$f":"'Budget FCFA'!Z52/VLOOKUP(Z$2,$BO$127:$BP$138,2,FALSE)","v":0},{"$f":"'Budget FCFA'!AA52/VLOOKUP(AA$2,$BO$127:$BP$138,2,FALSE)","v":811.02877170302327},{"$f":"'Budget FCFA'!AB52/VLOOKUP(AB$2,$BO$127:$BP$138,2,FALSE)","v":4153.2063742375831},{"$f":"'Budget FCFA'!AC52/VLOOKUP(AC$2,$BO$127:$BP$138,2,FALSE)","v":0},{"$f":"'Budget FCFA'!AD52/VLOOKUP(AD$2,$BO$127:$BP$138,2,FALSE)","v":0},{"$f":"'Budget FCFA'!AE52/VLOOKUP(AE$2,$BO$127:$BP$138,2,FALSE)","v":0},{"$f":"'Budget FCFA'!AF52/VLOOKUP(AF$2,$BO$127:$BP$138,2,FALSE)","v":809.79424832979942},{"$f":"'Budget FCFA'!AG52/VLOOKUP(AG$2,$BO$127:$BP$138,2,FALSE)","v":0},{"$f":"'Budget FCFA'!AH52/VLOOKUP(AH$2,$BO$127:$BP$138,2,FALSE)","v":0},{"$f":"'Budget FCFA'!AI52/VLOOKUP(AI$2,$BO$127:$BP$138,2,FALSE)","v":0},{"$f":"'Budget FCFA'!AJ52/VLOOKUP(AJ$2,$BO$127:$BP$138,2,FALSE)","v":0},{"$f":"'Budget FCFA'!AK52/VLOOKUP(AK$2,$BO$127:$BP$138,2,FALSE)","v":811.02877170302327},{"$f":"'Budget FCFA'!AL52/VLOOKUP(AL$2,$BO$127:$BP$138,2,FALSE)","v":18034.570863638928},{"$f":"'Budget FCFA'!AM52/VLOOKUP(AM$2,$BO$127:$BP$138,2,FALSE)","v":365.8776413697849},{"$f":"'Budget FCFA'!AN52/VLOOKUP(AN$2,$BO$127:$BP$138,2,FALSE)","v":0},{"$f":"'Budget FCFA'!AO52/VLOOKUP(AO$2,$BO$127:$BP$138,2,FALSE)","v":0},{"$f":"'Budget FCFA'!AP52/VLOOKUP(AP$2,$BO$127:$BP$138,2,FALSE)","v":811.02877170302327},{"$f":"'Budget FCFA'!#REF!/VLOOKUP(AQ$2,$BO$127:$BP$138,2,FALSE)","v":{"$error":"#REF!"}},{"$f":"'Budget FCFA'!#REF!/VLOOKUP(AR$2,$BO$127:$BP$138,2,FALSE)","v":{"$error":"#REF!"}},{"$f":"'Budget FCFA'!#REF!/VLOOKUP(AS$2,$BO$127:$BP$138,2,FALSE)","v":{"$error":"#REF!"}},{"$f":"'Budget FCFA'!#REF!/VLOOKUP(AT$2,$BO$127:$BP$138,2,FALSE)","v":{"$error":"#REF!"}},{"$f":"'Budget FCFA'!#REF!/VLOOKUP(AU$2,$BO$127:$BP$138,2,FALSE)","v":{"$error":"#REF!"}},{"$f":"'Budget FCFA'!#REF!/VLOOKUP(AV$2,$BO$127:$BP$138,2,FALSE)","v":{"$error":"#REF!"}},{"$f":"'Budget FCFA'!#REF!/VLOOKUP(AW$2,$BO$127:$BP$138,2,FALSE)","v":{"$error":"#REF!"}},{"$f":"'Budget FCFA'!#REF!/VLOOKUP(AX$2,$BO$127:$BP$138,2,FALSE)","v":{"$error":"#REF!"}},{"$f":"'Budget FCFA'!#REF!/VLOOKUP(AY$2,$BO$127:$BP$138,2,FALSE)","v":{"$error":"#REF!"}},{"$f":"'Budget FCFA'!#REF!/VLOOKUP(AZ$2,$BO$127:$BP$138,2,FALSE)","v":{"$error":"#REF!"}},{"$f":"'Budget FCFA'!#REF!/VLOOKUP(BA$2,$BO$127:$BP$138,2,FALSE)","v":{"$error":"#REF!"}},{"$f":"'Budget FCFA'!#REF!/VLOOKUP(BB$2,$BO$127:$BP$138,2,FALSE)","v":{"$error":"#REF!"}},{"$f":"'Budget FCFA'!#REF!/VLOOKUP(BC$2,$BO$127:$BP$138,2,FALSE)","v":{"$error":"#REF!"}},{"$f":"'Budget FCFA'!#REF!/VLOOKUP(BD$2,$BO$127:$BP$138,2,FALSE)","v":{"$error":"#REF!"}},{"$f":"'Budget FCFA'!#REF!/VLOOKUP(BE$2,$BO$127:$BP$138,2,FALSE)","v":{"$error":"#REF!"}},{"$f":"'Budget FCFA'!#REF!/VLOOKUP(BF$2,$BO$127:$BP$138,2,FALSE)","v":{"$error":"#REF!"}},{"$f":"'Budget FCFA'!#REF!/VLOOKUP(BG$2,$BO$127:$BP$138,2,FALSE)","v":{"$error":"#REF!"}},{"$f":"'Budget FCFA'!#REF!/VLOOKUP(BH$2,$BO$127:$BP$138,2,FALSE)","v":{"$error":"#REF!"}},{"$f":"'Budget FCFA'!#REF!/VLOOKUP(BI$2,$BO$127:$BP$138,2,FALSE)","v":{"$error":"#REF!"}},{"$f":"'Budget FCFA'!#REF!/VLOOKUP(BJ$2,$BO$127:$BP$138,2,FALSE)","v":{"$error":"#REF!"}},{"$error":"#REF!"},{"$f":"BK52-'Budget FCFA'!#REF!","v":{"$error":"#REF!"}}]
["PUBPRESS","ABIDJAN","Achat d'espace presse",{"$f":"'Budget FCFA'!D53/VLOOKUP(D$2,$BO$127:$BP$138,2,FALSE)","v":0},{"$f":"'Budget FCFA'!E53/VLOOKUP(E$2,$BO$127:$BP$138,2,FALSE)","v":0},{"$f":"'Budget FCFA'!F53/VLOOKUP(F$2,$BO$127:$BP$138,2,FALSE)","v":0},{"$f":"'Budget FCFA'!G53/VLOOKUP(G$2,$BO$127:$BP$138,2,FALSE)","v":0},{"$f":"'Budget FCFA'!H53/VLOOKUP(H$2,$BO$127:$BP$138,2,FALSE)","v":0},{"$f":"'Budget FCFA'!I53/VLOOKUP(I$2,$BO$127:$BP$138,2,FALSE)","v":0},{"$f":"'Budget FCFA'!J53/VLOOKUP(J$2,$BO$127:$BP$138,2,FALSE)","v":0},{"$f":"'Budget FCFA'!K53/VLOOKUP(K$2,$BO$127:$BP$138,2,FALSE)","v":0},{"$f":"'Budget FCFA'!L53/VLOOKUP(L$2,$BO$127:$BP$138,2,FALSE)","v":0},{"$f":"'Budget FCFA'!M53/VLOOKUP(M$2,$BO$127:$BP$138,2,FALSE)","v":0},{"$f":"'Budget FCFA'!N53/VLOOKUP(N$2,$BO$127:$BP$138,2,FALSE)","v":0},{"$f":"'Budget FCFA'!O53/VLOOKUP(O$2,$BO$127:$BP$138,2,FALSE)","v":0},{"$f":"'Budget FCFA'!P53/VLOOKUP(P$2,$BO$127:$BP$138,2,FALSE)","v":0},{"$f":"'Budget FCFA'!Q53/VLOOKUP(Q$2,$BO$127:$BP$138,2,FALSE)","v":0},{"$f":"'Budget FCFA'!R53/VLOOKUP(R$2,$BO$127:$BP$138,2,FALSE)","v":0},{"$f":"'Budget FCFA'!S53/VLOOKUP(S$2,$BO$127:$BP$138,2,FALSE)","v":0},{"$f":"'Budget FCFA'!T53/VLOOKUP(T$2,$BO$127:$BP$138,2,FALSE)","v":0},{"$f":"'Budget FCFA'!U53/VLOOKUP(U$2,$BO$127:$BP$138,2,FALSE)","v":0},{"$f":"'Budget FCFA'!V53/VLOOKUP(V$2,$BO$127:$BP$138,2,FALSE)","v":0},{"$f":"'Budget FCFA'!W53/VLOOKUP(W$2,$BO$127:$BP$138,2,FALSE)","v":0},{"$f":"'Budget FCFA'!X53/VLOOKUP(X$2,$BO$127:$BP$138,2,FALSE)","v":0},{"$f":"'Budget FCFA'!Y53/VLOOKUP(Y$2,$BO$127:$BP$138,2,FALSE)","v":0},{"$f":"'Budget FCFA'!Z53/VLOOKUP(Z$2,$BO$127:$BP$138,2,FALSE)","v":0},{"$f":"'Budget FCFA'!AA53/VLOOKUP(AA$2,$BO$127:$BP$138,2,FALSE)","v":0},{"$f":"'Budget FCFA'!AB53/VLOOKUP(AB$2,$BO$127:$BP$138,2,FALSE)","v":0},{"$f":"'Budget FCFA'!AC53/VLOOKUP(AC$2,$BO$127:$BP$138,2,FALSE)","v":0},{"$f":"'Budget FCFA'!AD53/VLOOKUP(AD$2,$BO$127:$BP$138,2,FALSE)","v":0},{"$f":"'Budget FCFA'!AE53/VLOOKUP(AE$2,$BO$127:$BP$138,2,FALSE)","v":0},{"$f":"'Budget FCFA'!AF53/VLOOKUP(AF$2,$BO$127:$BP$138,2,FALSE)","v":0},{"$f":"'Budget FCFA'!AG53/VLOOKUP(AG$2,$BO$127:$BP$138,2,FALSE)","v":0},{"$f":"'Budget FCFA'!AH53/VLOOKUP(AH$2,$BO$127:$BP$138,2,FALSE)","v":0},{"$f":"'Budget FCFA'!AI53/VLOOKUP(AI$2,$BO$127:$BP$138,2,FALSE)","v":0},{"$f":"'Budget FCFA'!AJ53/VLOOKUP(AJ$2,$BO$127:$BP$138,2,FALSE)","v":0},{"$f":"'Budget FCFA'!AK53/VLOOKUP(AK$2,$BO$127:$BP$138,2,FALSE)","v":0},{"$f":"'Budget FCFA'!AL53/VLOOKUP(AL$2,$BO$127:$BP$138,2,FALSE)","v":1006.1635137669085},{"$f":"'Budget FCFA'!AM53/VLOOKUP(AM$2,$BO$127:$BP$138,2,FALSE)","v":0},{"$f":"'Budget FCFA'!AN53/VLOOKUP(AN$2,$BO$127:$BP$138,2,FALSE)","v":0},{"$f":"'Budget FCFA'!AO53/VLOOKUP(AO$2,$BO$127:$BP$138,2,FALSE)","v":0},{"$f":"'Budget FCFA'!AP53/VLOOKUP(AP$2,$BO$127:$BP$138,2,FALSE)","v":0},{"$f":"'Budget FCFA'!#REF!/VLOOKUP(AQ$2,$BO$127:$BP$138,2,FALSE)","v":{"$error":"#REF!"}},{"$f":"'Budget FCFA'!#REF!/VLOOKUP(AR$2,$BO$127:$BP$138,2,FALSE)","v":{"$error":"#REF!"}},{"$f":"'Budget FCFA'!#REF!/VLOOKUP(AS$2,$BO$127:$BP$138,2,FALSE)","v":{"$error":"#REF!"}},{"$f":"'Budget FCFA'!#REF!/VLOOKUP(AT$2,$BO$127:$BP$138,2,FALSE)","v":{"$error":"#REF!"}},{"$f":"'Budget FCFA'!#REF!/VLOOKUP(AU$2,$BO$127:$BP$138,2,FALSE)","v":{"$error":"#REF!"}},{"$f":"'Budget FCFA'!#REF!/VLOOKUP(AV$2,$BO$127:$BP$138,2,FALSE)","v":{"$error":"#REF!"}},{"$f":"'Budget FCFA'!#REF!/VLOOKUP(AW$2,$BO$127:$BP$138,2,FALSE)","v":{"$error":"#REF!"}},{"$f":"'Budget FCFA'!#REF!/VLOOKUP(AX$2,$BO$127:$BP$138,2,FALSE)","v":{"$error":"#REF!"}},{"$f":"'Budget FCFA'!#REF!/VLOOKUP(AY$2,$BO$127:$BP$138,2,FALSE)","v":{"$error":"#REF!"}},{"$f":"'Budget FCFA'!#REF!/VLOOKUP(AZ$2,$BO$127:$BP$138,2,FALSE)","v":{"$error":"#REF!"}},{"$f":"'Budget FCFA'!#REF!/VLOOKUP(BA$2,$BO$127:$BP$138,2,FALSE)","v":{"$error":"#REF!"}},{"$f":"'Budget FCFA'!#REF!/VLOOKUP(BB$2,$BO$127:$BP$138,2,FALSE)","v":{"$error":"#REF!"}},{"$f":"'Budget FCFA'!#REF!/VLOOKUP(BC$2,$BO$127:$BP$138,2,FALSE)","v":{"$error":"#REF!"}},{"$f":"'Budget FCFA'!#REF!/VLOOKUP(BD$2,$BO$127:$BP$138,2,FALSE)","v":{"$error":"#REF!"}},{"$f":"'Budget FCFA'!#REF!/VLOOKUP(BE$2,$BO$127:$BP$138,2,FALSE)","v":{"$error":"#REF!"}},{"$f":"'Budget FCFA'!#REF!/VLOOKUP(BF$2,$BO$127:$BP$138,2,FALSE)","v":{"$error":"#REF!"}},{"$f":"'Budget FCFA'!#REF!/VLOOKUP(BG$2,$BO$127:$BP$138,2,FALSE)","v":{"$error":"#REF!"}},{"$f":"'Budget FCFA'!#REF!/VLOOKUP(BH$2,$BO$127:$BP$138,2,FALSE)","v":{"$error":"#REF!"}},{"$f":"'Budget FCFA'!#REF!/VLOOKUP(BI$2,$BO$127:$BP$138,2,FALSE)","v":{"$error":"#REF!"}},{"$f":"'Budget FCFA'!#REF!/VLOOKUP(BJ$2,$BO$127:$BP$138,2,FALSE)","v":{"$error":"#REF!"}},{"$error":"#REF!"},{"$f":"BK53-'Budget FCFA'!#REF!","v":{"$error":"#REF!"}}]
["PUBPRESS","BRAZZA","Achat d'espace presse",{"$f":"'Budget FCFA'!D54/VLOOKUP(D$2,$BO$127:$BP$138,2,FALSE)","v":0},{"$f":"'Budget FCFA'!E54/VLOOKUP(E$2,$BO$127:$BP$138,2,FALSE)","v":0},{"$f":"'Budget FCFA'!F54/VLOOKUP(F$2,$BO$127:$BP$138,2,FALSE)","v":0},{"$f":"'Budget FCFA'!G54/VLOOKUP(G$2,$BO$127:$BP$138,2,FALSE)","v":0},{"$f":"'Budget FCFA'!H54/VLOOKUP(H$2,$BO$127:$BP$138,2,FALSE)","v":0},{"$f":"'Budget FCFA'!I54/VLOOKUP(I$2,$BO$127:$BP$138,2,FALSE)","v":0},{"$f":"'Budget FCFA'!J54/VLOOKUP(J$2,$BO$127:$BP$138,2,FALSE)","v":0},{"$f":"'Budget FCFA'!K54/VLOOKUP(K$2,$BO$127:$BP$138,2,FALSE)","v":0},{"$f":"'Budget FCFA'!L54/VLOOKUP(L$2,$BO$127:$BP$138,2,FALSE)","v":0},{"$f":"'Budget FCFA'!M54/VLOOKUP(M$2,$BO$127:$BP$138,2,FALSE)","v":0},{"$f":"'Budget FCFA'!N54/VLOOKUP(N$2,$BO$127:$BP$138,2,FALSE)","v":0},{"$f":"'Budget FCFA'!O54/VLOOKUP(O$2,$BO$127:$BP$138,2,FALSE)","v":0},{"$f":"'Budget FCFA'!P54/VLOOKUP(P$2,$BO$127:$BP$138,2,FALSE)","v":0},{"$f":"'Budget FCFA'!Q54/VLOOKUP(Q$2,$BO$127:$BP$138,2,FALSE)","v":0},{"$f":"'Budget FCFA'!R54/VLOOKUP(R$2,$BO$127:$BP$138,2,FALSE)","v":0},{"$f":"'Budget FCFA'!S54/VLOOKUP(S$2,$BO$127:$BP$138,2,FALSE)","v":0},{"$f":"'Budget FCFA'!T54/VLOOKUP(T$2,$BO$127:$BP$138,2,FALSE)","v":0},{"$f":"'Budget FCFA'!U54/VLOOKUP(U$2,$BO$127:$BP$138,2,FALSE)","v":0},{"$f":"'Budget FCFA'!V54/VLOOKUP(V$2,$BO$127:$BP$138,2,FALSE)","v":0},{"$f":"'Budget FCFA'!W54/VLOOKUP(W$2,$BO$127:$BP$138,2,FALSE)","v":0},{"$f":"'Budget FCFA'!X54/VLOOKUP(X$2,$BO$127:$BP$138,2,FALSE)","v":0},{"$f":"'Budget FCFA'!Y54/VLOOKUP(Y$2,$BO$127:$BP$138,2,FALSE)","v":0},{"$f":"'Budget FCFA'!Z54/VLOOKUP(Z$2,$BO$127:$BP$138,2,FALSE)","v":0},{"$f":"'Budget FCFA'!AA54/VLOOKUP(AA$2,$BO$127:$BP$138,2,FALSE)","v":0},{"$f":"'Budget FCFA'!AB54/VLOOKUP(AB$2,$BO$127:$BP$138,2,FALSE)","v":0},{"$f":"'Budget FCFA'!AC54/VLOOKUP(AC$2,$BO$127:$BP$138,2,FALSE)","v":0},{"$f":"'Budget FCFA'!AD54/VLOOKUP(AD$2,$BO$127:$BP$138,2,FALSE)","v":0},{"$f":"'Budget FCFA'!AE54/VLOOKUP(AE$2,$BO$127:$BP$138,2,FALSE)","v":0},{"$f":"'Budget FCFA'!AF54/VLOOKUP(AF$2,$BO$127:$BP$138,2,FALSE)","v":0},{"$f":"'Budget FCFA'!AG54/VLOOKUP(AG$2,$BO$127:$BP$138,2,FALSE)","v":0},{"$f":"'Budget FCFA'!AH54/VLOOKUP(AH$2,$BO$127:$BP$138,2,FALSE)","v":0},{"$f":"'Budget FCFA'!AI54/VLOOKUP(AI$2,$BO$127:$BP$138,2,FALSE)","v":0},{"$f":"'Budget FCFA'!AJ54/VLOOKUP(AJ$2,$BO$127:$BP$138,2,FALSE)","v":0},{"$f":"'Budget FCFA'!AK54/VLOOKUP(AK$2,$BO$127:$BP$138,2,FALSE)","v":0},{"$f":"'Budget FCFA'!AL54/VLOOKUP(AL$2,$BO$127:$BP$138,2,FALSE)","v":0},{"$f":"'Budget FCFA'!AM54/VLOOKUP(AM$2,$BO$127:$BP$138,2,FALSE)","v":0},{"$f":"'Budget FCFA'!AN54/VLOOKUP(AN$2,$BO$127:$BP$138,2,FALSE)","v":0},{"$f":"'Budget FCFA'!AO54/VLOOKUP(AO$2,$BO$127:$BP$138,2,FALSE)","v":0},{"$f":"'Budget FCFA'!AP54/VLOOKUP(AP$2,$BO$127:$BP$138,2,FALSE)","v":0},{"$f":"'Budget FCFA'!#REF!/VLOOKUP(AQ$2,$BO$127:$BP$138,2,FALSE)","v":{"$error":"#REF!"}},{"$f":"'Budget FCFA'!#REF!/VLOOKUP(AR$2,$BO$127:$BP$138,2,FALSE)","v":{"$error":"#REF!"}},{"$f":"'Budget FCFA'!#REF!/VLOOKUP(AS$2,$BO$127:$BP$138,2,FALSE)","v":{"$error":"#REF!"}},{"$f":"'Budget FCFA'!#REF!/VLOOKUP(AT$2,$BO$127:$BP$138,2,FALSE)","v":{"$error":"#REF!"}},{"$f":"'Budget FCFA'!#REF!/VLOOKUP(AU$2,$BO$127:$BP$138,2,FALSE)","v":{"$error":"#REF!"}},{"$f":"'Budget FCFA'!#REF!/VLOOKUP(AV$2,$BO$127:$BP$138,2,FALSE)","v":{"$error":"#REF!"}},{"$f":"'Budget FCFA'!#REF!/VLOOKUP(AW$2,$BO$127:$BP$138,2,FALSE)","v":{"$error":"#REF!"}},{"$f":"'Budget FCFA'!#REF!/VLOOKUP(AX$2,$BO$127:$BP$138,2,FALSE)","v":{"$error":"#REF!"}},{"$f":"'Budget FCFA'!#REF!/VLOOKUP(AY$2,$BO$127:$BP$138,2,FALSE)","v":{"$error":"#REF!"}},{"$f":"'Budget FCFA'!#REF!/VLOOKUP(AZ$2,$BO$127:$BP$138,2,FALSE)","v":{"$error":"#REF!"}},{"$f":"'Budget FCFA'!#REF!/VLOOKUP(BA$2,$BO$127:$BP$138,2,FALSE)","v":{"$error":"#REF!"}},{"$f":"'Budget FCFA'!#REF!/VLOOKUP(BB$2,$BO$127:$BP$138,2,FALSE)","v":{"$error":"#REF!"}},{"$f":"'Budget FCFA'!#REF!/VLOOKUP(BC$2,$BO$127:$BP$138,2,FALSE)","v":{"$error":"#REF!"}},{"$f":"'Budget FCFA'!#REF!/VLOOKUP(BD$2,$BO$127:$BP$138,2,FALSE)","v":{"$error":"#REF!"}},{"$f":"'Budget FCFA'!#REF!/VLOOKUP(BE$2,$BO$127:$BP$138,2,FALSE)","v":{"$error":"#REF!"}},{"$f":"'Budget FCFA'!#REF!/VLOOKUP(BF$2,$BO$127:$BP$138,2,FALSE)","v":{"$error":"#REF!"}},{"$f":"'Budget FCFA'!#REF!/VLOOKUP(BG$2,$BO$127:$BP$138,2,FALSE)","v":{"$error":"#REF!"}},{"$f":"'Budget FCFA'!#REF!/VLOOKUP(BH$2,$BO$127:$BP$138,2,FALSE)","v":{"$error":"#REF!"}},{"$f":"'Budget FCFA'!#REF!/VLOOKUP(BI$2,$BO$127:$BP$138,2,FALSE)","v":{"$error":"#REF!"}},{"$f":"'Budget FCFA'!#REF!/VLOOKUP(BJ$2,$BO$127:$BP$138,2,FALSE)","v":{"$error":"#REF!"}},{"$error":"#REF!"},{"$f":"BK54-'Budget FCFA'!#REF!","v":{"$error":"#REF!"}}]
["PUBPRESS","DAKAR","Achat d'espace presse",{"$f":"'Budget FCFA'!D55/VLOOKUP(D$2,$BO$127:$BP$138,2,FALSE)","v":0},{"$f":"'Budget FCFA'!E55/VLOOKUP(E$2,$BO$127:$BP$138,2,FALSE)","v":0},{"$f":"'Budget FCFA'!F55/VLOOKUP(F$2,$BO$127:$BP$138,2,FALSE)","v":0},{"$f":"'Budget FCFA'!G55/VLOOKUP(G$2,$BO$127:$BP$138,2,FALSE)","v":0},{"$f":"'Budget FCFA'!H55/VLOOKUP(H$2,$BO$127:$BP$138,2,FALSE)","v":0},{"$f":"'Budget FCFA'!I55/VLOOKUP(I$2,$BO$127:$BP$138,2,FALSE)","v":0},{"$f":"'Budget FCFA'!J55/VLOOKUP(J$2,$BO$127:$BP$138,2,FALSE)","v":0},{"$f":"'Budget FCFA'!K55/VLOOKUP(K$2,$BO$127:$BP$138,2,FALSE)","v":0},{"$f":"'Budget FCFA'!L55/VLOOKUP(L$2,$BO$127:$BP$138,2,FALSE)","v":0},{"$f":"'Budget FCFA'!M55/VLOOKUP(M$2,$BO$127:$BP$138,2,FALSE)","v":0},{"$f":"'Budget FCFA'!N55/VLOOKUP(N$2,$BO$127:$BP$138,2,FALSE)","v":0},{"$f":"'Budget FCFA'!O55/VLOOKUP(O$2,$BO$127:$BP$138,2,FALSE)","v":0},{"$f":"'Budget FCFA'!P55/VLOOKUP(P$2,$BO$127:$BP$138,2,FALSE)","v":838.46807031558467},{"$f":"'Budget FCFA'!Q55/VLOOKUP(Q$2,$BO$127:$BP$138,2,FALSE)","v":0},{"$f":"'Budget FCFA'!R55/VLOOKUP(R$2,$BO$127:$BP$138,2,FALSE)","v":0},{"$f":"'Budget FCFA'!S55/VLOOKUP(S$2,$BO$127:$BP$138,2,FALSE)","v":0},{"$f":"'Budget FCFA'!T55/VLOOKUP(T$2,$BO$127:$BP$138,2,FALSE)","v":0},{"$f":"'Budget FCFA'!U55/VLOOKUP(U$2,$BO$127:$BP$138,2,FALSE)","v":0},{"$f":"'Budget FCFA'!V55/VLOOKUP(V$2,$BO$127:$BP$138,2,FALSE)","v":0},{"$f":"'Budget FCFA'!W55/VLOOKUP(W$2,$BO$127:$BP$138,2,FALSE)","v":0},{"$f":"'Budget FCFA'!X55/VLOOKUP(X$2,$BO$127:$BP$138,2,FALSE)","v":0},{"$f":"'Budget FCFA'!Y55/VLOOKUP(Y$2,$BO$127:$BP$138,2,FALSE)","v":0},{"$f":"'Budget FCFA'!Z55/VLOOKUP(Z$2,$BO$127:$BP$138,2,FALSE)","v":0},{"$f":"'Budget FCFA'!AA55/VLOOKUP(AA$2,$BO$127:$BP$138,2,FALSE)","v":0},{"$f":"'Budget FCFA'!AB55/VLOOKUP(AB$2,$BO$127:$BP$138,2,FALSE)","v":0},{"$f":"'Budget FCFA'!AC55/VLOOKUP(AC$2,$BO$127:$BP$138,2,FALSE)","v":0},{"$f":"'Budget FCFA'!AD55/VLOOKUP(AD$2,$BO$127:$BP$138,2,FALSE)","v":0},{"$f":"'Budget FCFA'!AE55/VLOOKUP(AE$2,$BO$127:$BP$138,2,FALSE)","v":0},{"$f":"'Budget FCFA'!AF55/VLOOKUP(AF$2,$BO$127:$BP$138,2,FALSE)","v":0},{"$f":"'Budget FCFA'!AG55/VLOOKUP(AG$2,$BO$127:$BP$138,2,FALSE)","v":0},{"$f":"'Budget FCFA'!AH55/VLOOKUP(AH$2,$BO$127:$BP$138,2,FALSE)","v":0},{"$f":"'Budget FCFA'!AI55/VLOOKUP(AI$2,$BO$127:$BP$138,2,FALSE)","v":0},{"$f":"'Budget FCFA'!AJ55/VLOOKUP(AJ$2,$BO$127:$BP$138,2,FALSE)","v":0},{"$f":"'Budget FCFA'!AK55/VLOOKUP(AK$2,$BO$127:$BP$138,2,FALSE)","v":0},{"$f":"'Budget FCFA'!AL55/VLOOKUP(AL$2,$BO$127:$BP$138,2,FALSE)","v":0},{"$f":"'Budget FCFA'!AM55/VLOOKUP(AM$2,$BO$127:$BP$138,2,FALSE)","v":686.02057756834677},{"$f":"'Budget FCFA'!AN55/VLOOKUP(AN$2,$BO$127:$BP$138,2,FALSE)","v":0},{"$f":"'Budget FCFA'!AO55/VLOOKUP(AO$2,$BO$127:$BP$138,2,FALSE)","v":0},{"$f":"'Budget FCFA'!AP55/VLOOKUP(AP$2,$BO$127:$BP$138,2,FALSE)","v":0},{"$f":"'Budget FCFA'!#REF!/VLOOKUP(AQ$2,$BO$127:$BP$138,2,FALSE)","v":{"$error":"#REF!"}},{"$f":"'Budget FCFA'!#REF!/VLOOKUP(AR$2,$BO$127:$BP$138,2,FALSE)","v":{"$error":"#REF!"}},{"$f":"'Budget FCFA'!#REF!/VLOOKUP(AS$2,$BO$127:$BP$138,2,FALSE)","v":{"$error":"#REF!"}},{"$f":"'Budget FCFA'!#REF!/VLOOKUP(AT$2,$BO$127:$BP$138,2,FALSE)","v":{"$error":"#REF!"}},{"$f":"'Budget FCFA'!#REF!/VLOOKUP(AU$2,$BO$127:$BP$138,2,FALSE)","v":{"$error":"#REF!"}},{"$f":"'Budget FCFA'!#REF!/VLOOKUP(AV$2,$BO$127:$BP$138,2,FALSE)","v":{"$error":"#REF!"}},{"$f":"'Budget FCFA'!#REF!/VLOOKUP(AW$2,$BO$127:$BP$138,2,FALSE)","v":{"$error":"#REF!"}},{"$f":"'Budget FCFA'!#REF!/VLOOKUP(AX$2,$BO$127:$BP$138,2,FALSE)","v":{"$error":"#REF!"}},{"$f":"'Budget FCFA'!#REF!/VLOOKUP(AY$2,$BO$127:$BP$138,2,FALSE)","v":{"$error":"#REF!"}},{"$f":"'Budget FCFA'!#REF!/VLOOKUP(AZ$2,$BO$127:$BP$138,2,FALSE)","v":{"$error":"#REF!"}},{"$f":"'Budget FCFA'!#REF!/VLOOKUP(BA$2,$BO$127:$BP$138,2,FALSE)","v":{"$error":"#REF!"}},{"$f":"'Budget FCFA'!#REF!/VLOOKUP(BB$2,$BO$127:$BP$138,2,FALSE)","v":{"$error":"#REF!"}},{"$f":"'Budget FCFA'!#REF!/VLOOKUP(BC$2,$BO$127:$BP$138,2,FALSE)","v":{"$error":"#REF!"}},{"$f":"'Budget FCFA'!#REF!/VLOOKUP(BD$2,$BO$127:$BP$138,2,FALSE)","v":{"$error":"#REF!"}},{"$f":"'Budget FCFA'!#REF!/VLOOKUP(BE$2,$BO$127:$BP$138,2,FALSE)","v":{"$error":"#REF!"}},{"$f":"'Budget FCFA'!#REF!/VLOOKUP(BF$2,$BO$127:$BP$138,2,FALSE)","v":{"$error":"#REF!"}},{"$f":"'Budget FCFA'!#REF!/VLOOKUP(BG$2,$BO$127:$BP$138,2,FALSE)","v":{"$error":"#REF!"}},{"$f":"'Budget FCFA'!#REF!/VLOOKUP(BH$2,$BO$127:$BP$138,2,FALSE)","v":{"$error":"#REF!"}},{"$f":"'Budget FCFA'!#REF!/VLOOKUP(BI$2,$BO$127:$BP$138,2,FALSE)","v":{"$error":"#REF!"}},{"$f":"'Budget FCFA'!#REF!/VLOOKUP(BJ$2,$BO$127:$BP$138,2,FALSE)","v":{"$error":"#REF!"}},{"$error":"#REF!"},{"$f":"BK55-'Budget FCFA'!#REF!","v":{"$error":"#REF!"}}]
["PUBPRESS","LIBREVILLE","Achat d'espace presse",{"$f":"'Budget FCFA'!D56/VLOOKUP(D$2,$BO$127:$BP$138,2,FALSE)","v":0},{"$f":"'Budget FCFA'!E56/VLOOKUP(E$2,$BO$127:$BP$138,2,FALSE)","v":0},{"$f":"'Budget FCFA'!F56/VLOOKUP(F$2,$BO$127:$BP$138,2,FALSE)","v":0},{"$f":"'Budget FCFA'!G56/VLOOKUP(G$2,$BO$127:$BP$138,2,FALSE)","v":0},{"$f":"'Budget FCFA'!H56/VLOOKUP(H$2,$BO$127:$BP$138,2,FALSE)","v":0},{"$f":"'Budget FCFA'!I56/VLOOKUP(I$2,$BO$127:$BP$138,2,FALSE)","v":0},{"$f":"'Budget FCFA'!J56/VLOOKUP(J$2,$BO$127:$BP$138,2,FALSE)","v":0},{"$f":"'Budget FCFA'!K56/VLOOKUP(K$2,$BO$127:$BP$138,2,FALSE)","v":0},{"$f":"'Budget FCFA'!L56/VLOOKUP(L$2,$BO$127:$BP$138,2,FALSE)","v":0},{"$f":"'Budget FCFA'!M56/VLOOKUP(M$2,$BO$127:$BP$138,2,FALSE)","v":0},{"$f":"'Budget FCFA'!N56/VLOOKUP(N$2,$BO$127:$BP$138,2,FALSE)","v":0},{"$f":"'Budget FCFA'!O56/VLOOKUP(O$2,$BO$127:$BP$138,2,FALSE)","v":0},{"$f":"'Budget FCFA'!P56/VLOOKUP(P$2,$BO$127:$BP$138,2,FALSE)","v":0},{"$f":"'Budget FCFA'!Q56/VLOOKUP(Q$2,$BO$127:$BP$138,2,FALSE)","v":0},{"$f":"'Budget FCFA'!R56/VLOOKUP(R$2,$BO$127:$BP$138,2,FALSE)","v":0},{"$f":"'Budget FCFA'!S56/VLOOKUP(S$2,$BO$127:$BP$138,2,FALSE)","v":0},{"$f":"'Budget FCFA'!T56/VLOOKUP(T$2,$BO$127:$BP$138,2,FALSE)","v":0},{"$f":"'Budget FCFA'!U56/VLOOKUP(U$2,$BO$127:$BP$138,2,FALSE)","v":0},{"$f":"'Budget FCFA'!V56/VLOOKUP(V$2,$BO$127:$BP$138,2,FALSE)","v":0},{"$f":"'Budget FCFA'!W56/VLOOKUP(W$2,$BO$127:$BP$138,2,FALSE)","v":0},{"$f":"'Budget FCFA'!X56/VLOOKUP(X$2,$BO$127:$BP$138,2,FALSE)","v":0},{"$f":"'Budget FCFA'!Y56/VLOOKUP(Y$2,$BO$127:$BP$138,2,FALSE)","v":0},{"$f":"'Budget FCFA'!Z56/VLOOKUP(Z$2,$BO$127:$BP$138,2,FALSE)","v":0},{"$f":"'Budget FCFA'!AA56/VLOOKUP(AA$2,$BO$127:$BP$138,2,FALSE)","v":0},{"$f":"'Budget FCFA'!AB56/VLOOKUP(AB$2,$BO$127:$BP$138,2,FALSE)","v":0},{"$f":"'Budget FCFA'!AC56/VLOOKUP(AC$2,$BO$127:$BP$138,2,FALSE)","v":0},{"$f":"'Budget FCFA'!AD56/VLOOKUP(AD$2,$BO$127:$BP$138,2,FALSE)","v":0},{"$f":"'Budget FCFA'!AE56/VLOOKUP(AE$2,$BO$127:$BP$138,2,FALSE)","v":0},{"$f":"'Budget FCFA'!AF56/VLOOKUP(AF$2,$BO$127:$BP$138,2,FALSE)","v":0},{"$f":"'Budget FCFA'!AG56/VLOOKUP(AG$2,$BO$127:$BP$138,2,FALSE)","v":0},{"$f":"'Budget FCFA'!AH56/VLOOKUP(AH$2,$BO$127:$BP$138,2,FALSE)","v":0},{"$f":"'Budget FCFA'!AI56/VLOOKUP(AI$2,$BO$127:$BP$138,2,FALSE)","v":0},{"$f":"'Budget FCFA'!AJ56/VLOOKUP(AJ$2,$BO$127:$BP$138,2,FALSE)","v":0},{"$f":"'Budget FCFA'!AK56/VLOOKUP(AK$2,$BO$127:$BP$138,2,FALSE)","v":0},{"$f":"'Budget FCFA'!AL56/VLOOKUP(AL$2,$BO$127:$BP$138,2,FALSE)","v":2871.451939685071},{"$f":"'Budget FCFA'!AM56/VLOOKUP(AM$2,$BO$127:$BP$138,2,FALSE)","v":0},{"$f":"'Budget FCFA'!AN56/VLOOKUP(AN$2,$BO$127:$BP$138,2,FALSE)","v":0},{"$f":"'Budget FCFA'!AO56/VLOOKUP(AO$2,$BO$127:$BP$138,2,FALSE)","v":0},{"$f":"'Budget FCFA'!AP56/VLOOKUP(AP$2,$BO$127:$BP$138,2,FALSE)","v":0},{"$f":"'Budget FCFA'!#REF!/VLOOKUP(AQ$2,$BO$127:$BP$138,2,FALSE)","v":{"$error":"#REF!"}},{"$f":"'Budget FCFA'!#REF!/VLOOKUP(AR$2,$BO$127:$BP$138,2,FALSE)","v":{"$error":"#REF!"}},{"$f":"'Budget FCFA'!#REF!/VLOOKUP(AS$2,$BO$127:$BP$138,2,FALSE)","v":{"$error":"#REF!"}},{"$f":"'Budget FCFA'!#REF!/VLOOKUP(AT$2,$BO$127:$BP$138,2,FALSE)","v":{"$error":"#REF!"}},{"$f":"'Budget FCFA'!#REF!/VLOOKUP(AU$2,$BO$127:$BP$138,2,FALSE)","v":{"$error":"#REF!"}},{"$f":"'Budget FCFA'!#REF!/VLOOKUP(AV$2,$BO$127:$BP$138,2,FALSE)","v":{"$error":"#REF!"}},{"$f":"'Budget FCFA'!#REF!/VLOOKUP(AW$2,$BO$127:$BP$138,2,FALSE)","v":{"$error":"#REF!"}},{"$f":"'Budget FCFA'!#REF!/VLOOKUP(AX$2,$BO$127:$BP$138,2,FALSE)","v":{"$error":"#REF!"}},{"$f":"'Budget FCFA'!#REF!/VLOOKUP(AY$2,$BO$127:$BP$138,2,FALSE)","v":{"$error":"#REF!"}},{"$f":"'Budget FCFA'!#REF!/VLOOKUP(AZ$2,$BO$127:$BP$138,2,FALSE)","v":{"$error":"#REF!"}},{"$f":"'Budget FCFA'!#REF!/VLOOKUP(BA$2,$BO$127:$BP$138,2,FALSE)","v":{"$error":"#REF!"}},{"$f":"'Budget FCFA'!#REF!/VLOOKUP(BB$2,$BO$127:$BP$138,2,FALSE)","v":{"$error":"#REF!"}},{"$f":"'Budget FCFA'!#REF!/VLOOKUP(BC$2,$BO$127:$BP$138,2,FALSE)","v":{"$error":"#REF!"}},{"$f":"'Budget FCFA'!#REF!/VLOOKUP(BD$2,$BO$127:$BP$138,2,FALSE)","v":{"$error":"#REF!"}},{"$f":"'Budget FCFA'!#REF!/VLOOKUP(BE$2,$BO$127:$BP$138,2,FALSE)","v":{"$error":"#REF!"}},{"$f":"'Budget FCFA'!#REF!/VLOOKUP(BF$2,$BO$127:$BP$138,2,FALSE)","v":{"$error":"#REF!"}},{"$f":"'Budget FCFA'!#REF!/VLOOKUP(BG$2,$BO$127:$BP$138,2,FALSE)","v":{"$error":"#REF!"}},{"$f":"'Budget FCFA'!#REF!/VLOOKUP(BH$2,$BO$127:$BP$138,2,FALSE)","v":{"$error":"#REF!"}},{"$f":"'Budget FCFA'!#REF!/VLOOKUP(BI$2,$BO$127:$BP$138,2,FALSE)","v":{"$error":"#REF!"}},{"$f":"'Budget FCFA'!#REF!/VLOOKUP(BJ$2,$BO$127:$BP$138,2,FALSE)","v":{"$error":"#REF!"}},{"$error":"#REF!"},{"$f":"BK56-'Budget FCFA'!#REF!","v":{"$error":"#REF!"}}]
["PUBPRESS","DOUALA","Achat d'espace presse",{"$f":"'Budget FCFA'!D57/VLOOKUP(D$2,$BO$127:$BP$138,2,FALSE)","v":0},{"$f":"'Budget FCFA'!E57/VLOOKUP(E$2,$BO$127:$BP$138,2,FALSE)","v":0},{"$f":"'Budget FCFA'!F57/VLOOKUP(F$2,$BO$127:$BP$138,2,FALSE)","v":0},{"$f":"'Budget FCFA'!G57/VLOOKUP(G$2,$BO$127:$BP$138,2,FALSE)","v":0},{"$f":"'Budget FCFA'!H57/VLOOKUP(H$2,$BO$127:$BP$138,2,FALSE)","v":0},{"$f":"'Budget FCFA'!I57/VLOOKUP(I$2,$BO$127:$BP$138,2,FALSE)","v":0},{"$f":"'Budget FCFA'!J57/VLOOKUP(J$2,$BO$127:$BP$138,2,FALSE)","v":0},{"$f":"'Budget FCFA'!K57/VLOOKUP(K$2,$BO$127:$BP$138,2,FALSE)","v":0},{"$f":"'Budget FCFA'!L57/VLOOKUP(L$2,$BO$127:$BP$138,2,FALSE)","v":0},{"$f":"'Budget FCFA'!M57/VLOOKUP(M$2,$BO$127:$BP$138,2,FALSE)","v":0},{"$f":"'Budget FCFA'!N57/VLOOKUP(N$2,$BO$127:$BP$138,2,FALSE)","v":0},{"$f":"'Budget FCFA'!O57/VLOOKUP(O$2,$BO$127:$BP$138,2,FALSE)","v":0},{"$f":"'Budget FCFA'!P57/VLOOKUP(P$2,$BO$127:$BP$138,2,FALSE)","v":0},{"$f":"'Budget FCFA'!Q57/VLOOKUP(Q$2,$BO$127:$BP$138,2,FALSE)","v":0},{"$f":"'Budget FCFA'!R57/VLOOKUP(R$2,$BO$127:$BP$138,2,FALSE)","v":0},{"$f":"'Budget FCFA'!S57/VLOOKUP(S$2,$BO$127:$BP$138,2,FALSE)","v":0},{"$f":"'Budget FCFA'!T57/VLOOKUP(T$2,$BO$127:$BP$138,2,FALSE)","v":0},{"$f":"'Budget FCFA'!U57/VLOOKUP(U$2,$BO$127:$BP$138,2,FALSE)","v":0},{"$f":"'Budget FCFA'!V57/VLOOKUP(V$2,$BO$127:$BP$138,2,FALSE)","v":0},{"$f":"'Budget FCFA'!W57/VLOOKUP(W$2,$BO$127:$BP$138,2,FALSE)","v":0},{"$f":"'Budget FCFA'!X57/VLOOKUP(X$2,$BO$127:$BP$138,2,FALSE)","v":0},{"$f":"'Budget FCFA'!Y57/VLOOKUP(Y$2,$BO$127:$BP$138,2,FALSE)","v":0},{"$f":"'Budget FCFA'!Z57/VLOOKUP(Z$2,$BO$127:$BP$138,2,FALSE)","v":0},{"$f":"'Budget FCFA'!AA57/VLOOKUP(AA$2,$BO$127:$BP$138,2,FALSE)","v":0},{"$f":"'Budget FCFA'!AB57/VLOOKUP(AB$2,$BO$127:$BP$138,2,FALSE)","v":0},{"$f":"'Budget FCFA'!AC57/VLOOKUP(AC$2,$BO$127:$BP$138,2,FALSE)","v":0},{"$f":"'Budget FCFA'!AD57/VLOOKUP(AD$2,$BO$127:$BP$138,2,FALSE)","v":0},{"$f":"'Budget FCFA'!AE57/VLOOKUP(AE$2,$BO$127:$BP$138,2,FALSE)","v":0},{"$f":"'Budget FCFA'!AF57/VLOOKUP(AF$2,$BO$127:$BP$138,2,FALSE)","v":0},{"$f":"'Budget FCFA'!AG57/VLOOKUP(AG$2,$BO$127:$BP$138,2,FALSE)","v":0},{"$f":"'Budget FCFA'!AH57/VLOOKUP(AH$2,$BO$127:$BP$138,2,FALSE)","v":0},{"$f":"'Budget FCFA'!AI57/VLOOKUP(AI$2,$BO$127:$BP$138,2,FALSE)","v":0},{"$f":"'Budget FCFA'!AJ57/VLOOKUP(AJ$2,$BO$127:$BP$138,2,FALSE)","v":0},{"$f":"'Budget FCFA'!AK57/VLOOKUP(AK$2,$BO$127:$BP$138,2,FALSE)","v":0},{"$f":"'Budget FCFA'!AL57/VLOOKUP(AL$2,$BO$127:$BP$138,2,FALSE)","v":0},{"$f":"'Budget FCFA'!AM57/VLOOKUP(AM$2,$BO$127:$BP$138,2,FALSE)","v":0},{"$f":"'Budget FCFA'!AN57/VLOOKUP(AN$2,$BO$127:$BP$138,2,FALSE)","v":0},{"$f":"'Budget FCFA'!AO57/VLOOKUP(AO$2,$BO$127:$BP$138,2,FALSE)","v":0},{"$f":"'Budget FCFA'!AP57/VLOOKUP(AP$2,$BO$127:$BP$138,2,FALSE)","v":0},{"$f":"'Budget FCFA'!#REF!/VLOOKUP(AQ$2,$BO$127:$BP$138,2,FALSE)","v":{"$error":"#REF!"}},{"$f":"'Budget FCFA'!#REF!/VLOOKUP(AR$2,$BO$127:$BP$138,2,FALSE)","v":{"$error":"#REF!"}},{"$f":"'Budget FCFA'!#REF!/VLOOKUP(AS$2,$BO$127:$BP$138,2,FALSE)","v":{"$error":"#REF!"}},{"$f":"'Budget FCFA'!#REF!/VLOOKUP(AT$2,$BO$127:$BP$138,2,FALSE)","v":{"$error":"#REF!"}},{"$f":"'Budget FCFA'!#REF!/VLOOKUP(AU$2,$BO$127:$BP$138,2,FALSE)","v":{"$error":"#REF!"}},{"$f":"'Budget FCFA'!#REF!/VLOOKUP(AV$2,$BO$127:$BP$138,2,FALSE)","v":{"$error":"#REF!"}},{"$f":"'Budget FCFA'!#REF!/VLOOKUP(AW$2,$BO$127:$BP$138,2,FALSE)","v":{"$error":"#REF!"}},{"$f":"'Budget FCFA'!#REF!/VLOOKUP(AX$2,$BO$127:$BP$138,2,FALSE)","v":{"$error":"#REF!"}},{"$f":"'Budget FCFA'!#REF!/VLOOKUP(AY$2,$BO$127:$BP$138,2,FALSE)","v":{"$error":"#REF!"}},{"$f":"'Budget FCFA'!#REF!/VLOOKUP(AZ$2,$BO$127:$BP$138,2,FALSE)","v":{"$error":"#REF!"}},{"$f":"'Budget FCFA'!#REF!/VLOOKUP(BA$2,$BO$127:$BP$138,2,FALSE)","v":{"$error":"#REF!"}},{"$f":"'Budget FCFA'!#REF!/VLOOKUP(BB$2,$BO$127:$BP$138,2,FALSE)","v":{"$error":"#REF!"}},{"$f":"'Budget FCFA'!#REF!/VLOOKUP(BC$2,$BO$127:$BP$138,2,FALSE)","v":{"$error":"#REF!"}},{"$f":"'Budget FCFA'!#REF!/VLOOKUP(BD$2,$BO$127:$BP$138,2,FALSE)","v":{"$error":"#REF!"}},{"$f":"'Budget FCFA'!#REF!/VLOOKUP(BE$2,$BO$127:$BP$138,2,FALSE)","v":{"$error":"#REF!"}},{"$f":"'Budget FCFA'!#REF!/VLOOKUP(BF$2,$BO$127:$BP$138,2,FALSE)","v":{"$error":"#REF!"}},{"$f":"'Budget FCFA'!#REF!/VLOOKUP(BG$2,$BO$127:$BP$138,2,FALSE)","v":{"$error":"#REF!"}},{"$f":"'Budget FCFA'!#REF!/VLOOKUP(BH$2,$BO$127:$BP$138,2,FALSE)","v":{"$error":"#REF!"}},{"$f":"'Budget FCFA'!#REF!/VLOOKUP(BI$2,$BO$127:$BP$138,2,FALSE)","v":{"$error":"#REF!"}},{"$f":"'Budget FCFA'!#REF!/VLOOKUP(BJ$2,$BO$127:$BP$138,2,FALSE)","v":{"$error":"#REF!"}},{"$error":"#REF!"},{"$f":"BK57-'Budget FCFA'!#REF!","v":{"$error":"#REF!"}}]
["PUBPRESS","ABIDJAN","Créa presse",{"$f":"'Budget FCFA'!D58/VLOOKUP(D$2,$BO$127:$BP$138,2,FALSE)","v":0},{"$f":"'Budget FCFA'!E58/VLOOKUP(E$2,$BO$127:$BP$138,2,FALSE)","v":0},{"$f":"'Budget FCFA'!F58/VLOOKUP(F$2,$BO$127:$BP$138,2,FALSE)","v":0},{"$f":"'Budget FCFA'!G58/VLOOKUP(G$2,$BO$127:$BP$138,2,FALSE)","v":0},{"$f":"'Budget FCFA'!H58/VLOOKUP(H$2,$BO$127:$BP$138,2,FALSE)","v":0},{"$f":"'Budget FCFA'!I58/VLOOKUP(I$2,$BO$127:$BP$138,2,FALSE)","v":0},{"$f":"'Budget FCFA'!J58/VLOOKUP(J$2,$BO$127:$BP$138,2,FALSE)","v":0},{"$f":"'Budget FCFA'!K58/VLOOKUP(K$2,$BO$127:$BP$138,2,FALSE)","v":0},{"$f":"'Budget FCFA'!L58/VLOOKUP(L$2,$BO$127:$BP$138,2,FALSE)","v":0},{"$f":"'Budget FCFA'!M58/VLOOKUP(M$2,$BO$127:$BP$138,2,FALSE)","v":0},{"$f":"'Budget FCFA'!N58/VLOOKUP(N$2,$BO$127:$BP$138,2,FALSE)","v":0},{"$f":"'Budget FCFA'!O58/VLOOKUP(O$2,$BO$127:$BP$138,2,FALSE)","v":0},{"$f":"'Budget FCFA'!P58/VLOOKUP(P$2,$BO$127:$BP$138,2,FALSE)","v":0},{"$f":"'Budget FCFA'!Q58/VLOOKUP(Q$2,$BO$127:$BP$138,2,FALSE)","v":0},{"$f":"'Budget FCFA'!R58/VLOOKUP(R$2,$BO$127:$BP$138,2,FALSE)","v":0},{"$f":"'Budget FCFA'!S58/VLOOKUP(S$2,$BO$127:$BP$138,2,FALSE)","v":0},{"$f":"'Budget FCFA'!T58/VLOOKUP(T$2,$BO$127:$BP$138,2,FALSE)","v":0},{"$f":"'Budget FCFA'!U58/VLOOKUP(U$2,$BO$127:$BP$138,2,FALSE)","v":0},{"$f":"'Budget FCFA'!V58/VLOOKUP(V$2,$BO$127:$BP$138,2,FALSE)","v":0},{"$f":"'Budget FCFA'!W58/VLOOKUP(W$2,$BO$127:$BP$138,2,FALSE)","v":0},{"$f":"'Budget FCFA'!X58/VLOOKUP(X$2,$BO$127:$BP$138,2,FALSE)","v":0},{"$f":"'Budget FCFA'!Y58/VLOOKUP(Y$2,$BO$127:$BP$138,2,FALSE)","v":0},{"$f":"'Budget FCFA'!Z58/VLOOKUP(Z$2,$BO$127:$BP$138,2,FALSE)","v":0},{"$f":"'Budget FCFA'!AA58/VLOOKUP(AA$2,$BO$127:$BP$138,2,FALSE)","v":0},{"$f":"'Budget FCFA'!AB58/VLOOKUP(AB$2,$BO$127:$BP$138,2,FALSE)","v":0},{"$f":"'Budget FCFA'!AC58/VLOOKUP(AC$2,$BO$127:$BP$138,2,FALSE)","v":0},{"$f":"'Budget FCFA'!AD58/VLOOKUP(AD$2,$BO$127:$BP$138,2,FALSE)","v":0},{"$f":"'Budget FCFA'!AE58/VLOOKUP(AE$2,$BO$127:$BP$138,2,FALSE)","v":0},{"$f":"'Budget FCFA'!AF58/VLOOKUP(AF$2,$BO$127:$BP$138,2,FALSE)","v":0},{"$f":"'Budget FCFA'!AG58/VLOOKUP(AG$2,$BO$127:$BP$138,2,FALSE)","v":0},{"$f":"'Budget FCFA'!AH58/VLOOKUP(AH$2,$BO$127:$BP$138,2,FALSE)","v":0},{"$f":"'Budget FCFA'!AI58/VLOOKUP(AI$2,$BO$127:$BP$138,2,FALSE)","v":0},{"$f":"'Budget FCFA'!AJ58/VLOOKUP(AJ$2,$BO$127:$BP$138,2,FALSE)","v":0},{"$f":"'Budget FCFA'!AK58/VLOOKUP(AK$2,$BO$127:$BP$138,2,FALSE)","v":0},{"$f":"'Budget FCFA'!AL58/VLOOKUP(AL$2,$BO$127:$BP$138,2,FALSE)","v":1459.5789053245869},{"$f":"'Budget FCFA'!AM58/VLOOKUP(AM$2,$BO$127:$BP$138,2,FALSE)","v":0},{"$f":"'Budget FCFA'!AN58/VLOOKUP(AN$2,$BO$127:$BP$138,2,FALSE)","v":0},{"$f":"'Budget FCFA'!AO58/VLOOKUP(AO$2,$BO$127:$BP$138,2,FALSE)","v":0},{"$f":"'Budget FCFA'!AP58/VLOOKUP(AP$2,$BO$127:$BP$138,2,FALSE)","v":0},{"$f":"'Budget FCFA'!#REF!/VLOOKUP(AQ$2,$BO$127:$BP$138,2,FALSE)","v":{"$error":"#REF!"}},{"$f":"'Budget FCFA'!#REF!/VLOOKUP(AR$2,$BO$127:$BP$138,2,FALSE)","v":{"$error":"#REF!"}},{"$f":"'Budget FCFA'!#REF!/VLOOKUP(AS$2,$BO$127:$BP$138,2,FALSE)","v":{"$error":"#REF!"}},{"$f":"'Budget FCFA'!#REF!/VLOOKUP(AT$2,$BO$127:$BP$138,2,FALSE)","v":{"$error":"#REF!"}},{"$f":"'Budget FCFA'!#REF!/VLOOKUP(AU$2,$BO$127:$BP$138,2,FALSE)","v":{"$error":"#REF!"}},{"$f":"'Budget FCFA'!#REF!/VLOOKUP(AV$2,$BO$127:$BP$138,2,FALSE)","v":{"$error":"#REF!"}},{"$f":"'Budget FCFA'!#REF!/VLOOKUP(AW$2,$BO$127:$BP$138,2,FALSE)","v":{"$error":"#REF!"}},{"$f":"'Budget FCFA'!#REF!/VLOOKUP(AX$2,$BO$127:$BP$138,2,FALSE)","v":{"$error":"#REF!"}},{"$f":"'Budget FCFA'!#REF!/VLOOKUP(AY$2,$BO$127:$BP$138,2,FALSE)","v":{"$error":"#REF!"}},{"$f":"'Budget FCFA'!#REF!/VLOOKUP(AZ$2,$BO$127:$BP$138,2,FALSE)","v":{"$error":"#REF!"}},{"$f":"'Budget FCFA'!#REF!/VLOOKUP(BA$2,$BO$127:$BP$138,2,FALSE)","v":{"$error":"#REF!"}},{"$f":"'Budget FCFA'!#REF!/VLOOKUP(BB$2,$BO$127:$BP$138,2,FALSE)","v":{"$error":"#REF!"}},{"$f":"'Budget FCFA'!#REF!/VLOOKUP(BC$2,$BO$127:$BP$138,2,FALSE)","v":{"$error":"#REF!"}},{"$f":"'Budget FCFA'!#REF!/VLOOKUP(BD$2,$BO$127:$BP$138,2,FALSE)","v":{"$error":"#REF!"}},{"$f":"'Budget FCFA'!#REF!/VLOOKUP(BE$2,$BO$127:$BP$138,2,FALSE)","v":{"$error":"#REF!"}},{"$f":"'Budget FCFA'!#REF!/VLOOKUP(BF$2,$BO$127:$BP$138,2,FALSE)","v":{"$error":"#REF!"}},{"$f":"'Budget FCFA'!#REF!/VLOOKUP(BG$2,$BO$127:$BP$138,2,FALSE)","v":{"$error":"#REF!"}},{"$f":"'Budget FCFA'!#REF!/VLOOKUP(BH$2,$BO$127:$BP$138,2,FALSE)","v":{"$error":"#REF!"}},{"$f":"'Budget FCFA'!#REF!/VLOOKUP(BI$2,$BO$127:$BP$138,2,FALSE)","v":{"$error":"#REF!"}},{"$f":"'Budget FCFA'!#REF!/VLOOKUP(BJ$2,$BO$127:$BP$138,2,FALSE)","v":{"$error":"#REF!"}},{"$error":"#REF!"},{"$f":"BK58-'Budget FCFA'!#REF!","v":{"$error":"#REF!"}}]
["PUBPRESS","BRAZZA","Créa presse",{"$f":"'Budget FCFA'!D59/VLOOKUP(D$2,$BO$127:$BP$138,2,FALSE)","v":0},{"$f":"'Budget FCFA'!E59/VLOOKUP(E$2,$BO$127:$BP$138,2,FALSE)","v":0},{"$f":"'Budget FCFA'!F59/VLOOKUP(F$2,$BO$127:$BP$138,2,FALSE)","v":0},{"$f":"'Budget FCFA'!G59/VLOOKUP(G$2,$BO$127:$BP$138,2,FALSE)","v":0},{"$f":"'Budget FCFA'!H59/VLOOKUP(H$2,$BO$127:$BP$138,2,FALSE)","v":0},{"$f":"'Budget FCFA'!I59/VLOOKUP(I$2,$BO$127:$BP$138,2,FALSE)","v":0},{"$f":"'Budget FCFA'!J59/VLOOKUP(J$2,$BO$127:$BP$138,2,FALSE)","v":0},{"$f":"'Budget FCFA'!K59/VLOOKUP(K$2,$BO$127:$BP$138,2,FALSE)","v":0},{"$f":"'Budget FCFA'!L59/VLOOKUP(L$2,$BO$127:$BP$138,2,FALSE)","v":0},{"$f":"'Budget FCFA'!M59/VLOOKUP(M$2,$BO$127:$BP$138,2,FALSE)","v":0},{"$f":"'Budget FCFA'!N59/VLOOKUP(N$2,$BO$127:$BP$138,2,FALSE)","v":0},{"$f":"'Budget FCFA'!O59/VLOOKUP(O$2,$BO$127:$BP$138,2,FALSE)","v":0},{"$f":"'Budget FCFA'!P59/VLOOKUP(P$2,$BO$127:$BP$138,2,FALSE)","v":0},{"$f":"'Budget FCFA'!Q59/VLOOKUP(Q$2,$BO$127:$BP$138,2,FALSE)","v":0},{"$f":"'Budget FCFA'!R59/VLOOKUP(R$2,$BO$127:$BP$138,2,FALSE)","v":0},{"$f":"'Budget FCFA'!S59/VLOOKUP(S$2,$BO$127:$BP$138,2,FALSE)","v":0},{"$f":"'Budget FCFA'!T59/VLOOKUP(T$2,$BO$127:$BP$138,2,FALSE)","v":0},{"$f":"'Budget FCFA'!U59/VLOOKUP(U$2,$BO$127:$BP$138,2,FALSE)","v":0},{"$f":"'Budget FCFA'!V59/VLOOKUP(V$2,$BO$127:$BP$138,2,FALSE)","v":0},{"$f":"'Budget FCFA'!W59/VLOOKUP(W$2,$BO$127:$BP$138,2,FALSE)","v":0},{"$f":"'Budget FCFA'!X59/VLOOKUP(X$2,$BO$127:$BP$138,2,FALSE)","v":0},{"$f":"'Budget FCFA'!Y59/VLOOKUP(Y$2,$BO$127:$BP$138,2,FALSE)","v":0},{"$f":"'Budget FCFA'!Z59/VLOOKUP(Z$2,$BO$127:$BP$138,2,FALSE)","v":0},{"$f":"'Budget FCFA'!AA59/VLOOKUP(AA$2,$BO$127:$BP$138,2,FALSE)","v":0},{"$f":"'Budget FCFA'!AB59/VLOOKUP(AB$2,$BO$127:$BP$138,2,FALSE)","v":0},{"$f":"'Budget FCFA'!AC59/VLOOKUP(AC$2,$BO$127:$BP$138,2,FALSE)","v":0},{"$f":"'Budget FCFA'!AD59/VLOOKUP(AD$2,$BO$127:$BP$138,2,FALSE)","v":0},{"$f":"'Budget FCFA'!AE59/VLOOKUP(AE$2,$BO$127:$BP$138,2,FALSE)","v":0},{"$f":"'Budget FCFA'!AF59/VLOOKUP(AF$2,$BO$127:$BP$138,2,FALSE)","v":0},{"$f":"'Budget FCFA'!AG59/VLOOKUP(AG$2,$BO$127:$BP$138,2,FALSE)","v":0},{"$f":"'Budget FCFA'!AH59/VLOOKUP(AH$2,$BO$127:$BP$138,2,FALSE)","v":0},{"$f":"'Budget FCFA'!AI59/VLOOKUP(AI$2,$BO$127:$BP$138,2,FALSE)","v":0},{"$f":"'Budget FCFA'!AJ59/VLOOKUP(AJ$2,$BO$127:$BP$138,2,FALSE)","v":0},{"$f":"'Budget FCFA'!AK59/VLOOKUP(AK$2,$BO$127:$BP$138,2,FALSE)","v":0},{"$f":"'Budget FCFA'!AL59/VLOOKUP(AL$2,$BO$127:$BP$138,2,FALSE)","v":279.99396301891738},{"$f":"'Budget FCFA'!AM59/VLOOKUP(AM$2,$BO$127:$BP$138,2,FALSE)","v":0},{"$f":"'Budget FCFA'!AN59/VLOOKUP(AN$2,$BO$127:$BP$138,2,FALSE)","v":0},{"$f":"'Budget FCFA'!AO59/VLOOKUP(AO$2,$BO$127:$BP$138,2,FALSE)","v":0},{"$f":"'Budget FCFA'!AP59/VLOOKUP(AP$2,$BO$127:$BP$138,2,FALSE)","v":0},{"$f":"'Budget FCFA'!#REF!/VLOOKUP(AQ$2,$BO$127:$BP$138,2,FALSE)","v":{"$error":"#REF!"}},{"$f":"'Budget FCFA'!#REF!/VLOOKUP(AR$2,$BO$127:$BP$138,2,FALSE)","v":{"$error":"#REF!"}},{"$f":"'Budget FCFA'!#REF!/VLOOKUP(AS$2,$BO$127:$BP$138,2,FALSE)","v":{"$error":"#REF!"}},{"$f":"'Budget FCFA'!#REF!/VLOOKUP(AT$2,$BO$127:$BP$138,2,FALSE)","v":{"$error":"#REF!"}},{"$f":"'Budget FCFA'!#REF!/VLOOKUP(AU$2,$BO$127:$BP$138,2,FALSE)","v":{"$error":"#REF!"}},{"$f":"'Budget FCFA'!#REF!/VLOOKUP(AV$2,$BO$127:$BP$138,2,FALSE)","v":{"$error":"#REF!"}},{"$f":"'Budget FCFA'!#REF!/VLOOKUP(AW$2,$BO$127:$BP$138,2,FALSE)","v":{"$error":"#REF!"}},{"$f":"'Budget FCFA'!#REF!/VLOOKUP(AX$2,$BO$127:$BP$138,2,FALSE)","v":{"$error":"#REF!"}},{"$f":"'Budget FCFA'!#REF!/VLOOKUP(AY$2,$BO$127:$BP$138,2,FALSE)","v":{"$error":"#REF!"}},{"$f":"'Budget FCFA'!#REF!/VLOOKUP(AZ$2,$BO$127:$BP$138,2,FALSE)","v":{"$error":"#REF!"}},{"$f":"'Budget FCFA'!#REF!/VLOOKUP(BA$2,$BO$127:$BP$138,2,FALSE)","v":{"$error":"#REF!"}},{"$f":"'Budget FCFA'!#REF!/VLOOKUP(BB$2,$BO$127:$BP$138,2,FALSE)","v":{"$error":"#REF!"}},{"$f":"'Budget FCFA'!#REF!/VLOOKUP(BC$2,$BO$127:$BP$138,2,FALSE)","v":{"$error":"#REF!"}},{"$f":"'Budget FCFA'!#REF!/VLOOKUP(BD$2,$BO$127:$BP$138,2,FALSE)","v":{"$error":"#REF!"}},{"$f":"'Budget FCFA'!#REF!/VLOOKUP(BE$2,$BO$127:$BP$138,2,FALSE)","v":{"$error":"#REF!"}},{"$f":"'Budget FCFA'!#REF!/VLOOKUP(BF$2,$BO$127:$BP$138,2,FALSE)","v":{"$error":"#REF!"}},{"$f":"'Budget FCFA'!#REF!/VLOOKUP(BG$2,$BO$127:$BP$138,2,FALSE)","v":{"$error":"#REF!"}},{"$f":"'Budget FCFA'!#REF!/VLOOKUP(BH$2,$BO$127:$BP$138,2,FALSE)","v":{"$error":"#REF!"}},{"$f":"'Budget FCFA'!#REF!/VLOOKUP(BI$2,$BO$127:$BP$138,2,FALSE)","v":{"$error":"#REF!"}},{"$f":"'Budget FCFA'!#REF!/VLOOKUP(BJ$2,$BO$127:$BP$138,2,FALSE)","v":{"$error":"#REF!"}},{"$error":"#REF!"},{"$f":"BK59-'Budget FCFA'!#REF!","v":{"$error":"#REF!"}}]
["PUBPRESS","DAKAR","Créa presse",{"$f":"'Budget FCFA'!D60/VLOOKUP(D$2,$BO$127:$BP$138,2,FALSE)","v":0},{"$f":"'Budget FCFA'!E60/VLOOKUP(E$2,$BO$127:$BP$138,2,FALSE)","v":0},{"$f":"'Budget FCFA'!F60/VLOOKUP(F$2,$BO$127:$BP$138,2,FALSE)","v":0},{"$f":"'Budget FCFA'!G60/VLOOKUP(G$2,$BO$127:$BP$138,2,FALSE)","v":0},{"$f":"'Budget FCFA'!H60/VLOOKUP(H$2,$BO$127:$BP$138,2,FALSE)","v":0},{"$f":"'Budget FCFA'!I60/VLOOKUP(I$2,$BO$127:$BP$138,2,FALSE)","v":0},{"$f":"'Budget FCFA'!J60/VLOOKUP(J$2,$BO$127:$BP$138,2,FALSE)","v":0},{"$f":"'Budget FCFA'!K60/VLOOKUP(K$2,$BO$127:$BP$138,2,FALSE)","v":0},{"$f":"'Budget FCFA'!L60/VLOOKUP(L$2,$BO$127:$BP$138,2,FALSE)","v":0},{"$f":"'Budget FCFA'!M60/VLOOKUP(M$2,$BO$127:$BP$138,2,FALSE)","v":0},{"$f":"'Budget FCFA'!N60/VLOOKUP(N$2,$BO$127:$BP$138,2,FALSE)","v":0},{"$f":"'Budget FCFA'!O60/VLOOKUP(O$2,$BO$127:$BP$138,2,FALSE)","v":0},{"$f":"'Budget FCFA'!P60/VLOOKUP(P$2,$BO$127:$BP$138,2,FALSE)","v":0},{"$f":"'Budget FCFA'!Q60/VLOOKUP(Q$2,$BO$127:$BP$138,2,FALSE)","v":0},{"$f":"'Budget FCFA'!R60/VLOOKUP(R$2,$BO$127:$BP$138,2,FALSE)","v":0},{"$f":"'Budget FCFA'!S60/VLOOKUP(S$2,$BO$127:$BP$138,2,FALSE)","v":0},{"$f":"'Budget FCFA'!T60/VLOOKUP(T$2,$BO$127:$BP$138,2,FALSE)","v":0},{"$f":"'Budget FCFA'!U60/VLOOKUP(U$2,$BO$127:$BP$138,2,FALSE)","v":0},{"$f":"'Budget FCFA'!V60/VLOOKUP(V$2,$BO$127:$BP$138,2,FALSE)","v":0},{"$f":"'Budget FCFA'!W60/VLOOKUP(W$2,$BO$127:$BP$138,2,FALSE)","v":0},{"$f":"'Budget FCFA'!X60/VLOOKUP(X$2,$BO$127:$BP$138,2,FALSE)","v":0},{"$f":"'Budget FCFA'!Y60/VLOOKUP(Y$2,$BO$127:$BP$138,2,FALSE)","v":0},{"$f":"'Budget FCFA'!Z60/VLOOKUP(Z$2,$BO$127:$BP$138,2,FALSE)","v":0},{"$f":"'Budget FCFA'!AA60/VLOOKUP(AA$2,$BO$127:$BP$138,2,FALSE)","v":0},{"$f":"'Budget FCFA'!AB60/VLOOKUP(AB$2,$BO$127:$BP$138,2,FALSE)","v":0},{"$f":"'Budget FCFA'!AC60/VLOOKUP(AC$2,$BO$127:$BP$138,2,FALSE)","v":0},{"$f":"'Budget FCFA'!AD60/VLOOKUP(AD$2,$BO$127:$BP$138,2,FALSE)","v":0},{"$f":"'Budget FCFA'!AE60/VLOOKUP(AE$2,$BO$127:$BP$138,2,FALSE)","v":0},{"$f":"'Budget FCFA'!AF60/VLOOKUP(AF$2,$BO$127:$BP$138,2,FALSE)","v":0},{"$f":"'Budget FCFA'!AG60/VLOOKUP(AG$2,$BO$127:$BP$138,2,FALSE)","v":0},{"$f":"'Budget FCFA'!AH60/VLOOKUP(AH$2,$BO$127:$BP$138,2,FALSE)","v":0},{"$f":"'Budget FCFA'!AI60/VLOOKUP(AI$2,$BO$127:$BP$138,2,FALSE)","v":0},{"$f":"'Budget FCFA'!AJ60/VLOOKUP(AJ$2,$BO$127:$BP$138,2,FALSE)","v":0},{"$f":"'Budget FCFA'!AK60/VLOOKUP(AK$2,$BO$127:$BP$138,2,FALSE)","v":0},{"$f":"'Budget FCFA'!AL60/VLOOKUP(AL$2,$BO$127:$BP$138,2,FALSE)","v":375.22581510678293},{"$f":"'Budget FCFA'!AM60/VLOOKUP(AM$2,$BO$127:$BP$138,2,FALSE)","v":0},{"$f":"'Budget FCFA'!AN60/VLOOKUP(AN$2,$BO$127:$BP$138,2,FALSE)","v":0},{"$f":"'Budget FCFA'!AO60/VLOOKUP(AO$2,$BO$127:$BP$138,2,FALSE)","v":0},{"$f":"'Budget FCFA'!AP60/VLOOKUP(AP$2,$BO$127:$BP$138,2,FALSE)","v":0},{"$f":"'Budget FCFA'!#REF!/VLOOKUP(AQ$2,$BO$127:$BP$138,2,FALSE)","v":{"$error":"#REF!"}},{"$f":"'Budget FCFA'!#REF!/VLOOKUP(AR$2,$BO$127:$BP$138,2,FALSE)","v":{"$error":"#REF!"}},{"$f":"'Budget FCFA'!#REF!/VLOOKUP(AS$2,$BO$127:$BP$138,2,FALSE)","v":{"$error":"#REF!"}},{"$f":"'Budget FCFA'!#REF!/VLOOKUP(AT$2,$BO$127:$BP$138,2,FALSE)","v":{"$error":"#REF!"}},{"$f":"'Budget FCFA'!#REF!/VLOOKUP(AU$2,$BO$127:$BP$138,2,FALSE)","v":{"$error":"#REF!"}},{"$f":"'Budget FCFA'!#REF!/VLOOKUP(AV$2,$BO$127:$BP$138,2,FALSE)","v":{"$error":"#REF!"}},{"$f":"'Budget FCFA'!#REF!/VLOOKUP(AW$2,$BO$127:$BP$138,2,FALSE)","v":{"$error":"#REF!"}},{"$f":"'Budget FCFA'!#REF!/VLOOKUP(AX$2,$BO$127:$BP$138,2,FALSE)","v":{"$error":"#REF!"}},{"$f":"'Budget FCFA'!#REF!/VLOOKUP(AY$2,$BO$127:$BP$138,2,FALSE)","v":{"$error":"#REF!"}},{"$f":"'Budget FCFA'!#REF!/VLOOKUP(AZ$2,$BO$127:$BP$138,2,FALSE)","v":{"$error":"#REF!"}},{"$f":"'Budget FCFA'!#REF!/VLOOKUP(BA$2,$BO$127:$BP$138,2,FALSE)","v":{"$error":"#REF!"}},{"$f":"'Budget FCFA'!#REF!/VLOOKUP(BB$2,$BO$127:$BP$138,2,FALSE)","v":{"$error":"#REF!"}},{"$f":"'Budget FCFA'!#REF!/VLOOKUP(BC$2,$BO$127:$BP$138,2,FALSE)","v":{"$error":"#REF!"}},{"$f":"'Budget FCFA'!#REF!/VLOOKUP(BD$2,$BO$127:$BP$138,2,FALSE)","v":{"$error":"#REF!"}},{"$f":"'Budget FCFA'!#REF!/VLOOKUP(BE$2,$BO$127:$BP$138,2,FALSE)","v":{"$error":"#REF!"}},{"$f":"'Budget FCFA'!#REF!/VLOOKUP(BF$2,$BO$127:$BP$138,2,FALSE)","v":{"$error":"#REF!"}},{"$f":"'Budget FCFA'!#REF!/VLOOKUP(BG$2,$BO$127:$BP$138,2,FALSE)","v":{"$error":"#REF!"}},{"$f":"'Budget FCFA'!#REF!/VLOOKUP(BH$2,$BO$127:$BP$138,2,FALSE)","v":{"$error":"#REF!"}},{"$f":"'Budget FCFA'!#REF!/VLOOKUP(BI$2,$BO$127:$BP$138,2,FALSE)","v":{"$error":"#REF!"}},{"$f":"'Budget FCFA'!#REF!/VLOOKUP(BJ$2,$BO$127:$BP$138,2,FALSE)","v":{"$error":"#REF!"}},{"$error":"#REF!"},{"$f":"BK60-'Budget FCFA'!#REF!","v":{"$error":"#REF!"}}]
["PUBPRESS","LIBREVILLE","Créa presse",{"$f":"'Budget FCFA'!D61/VLOOKUP(D$2,$BO$127:$BP$138,2,FALSE)","v":0},{"$f":"'Budget FCFA'!E61/VLOOKUP(E$2,$BO$127:$BP$138,2,FALSE)","v":0},{"$f":"'Budget FCFA'!F61/VLOOKUP(F$2,$BO$127:$BP$138,2,FALSE)","v":0},{"$f":"'Budget FCFA'!G61/VLOOKUP(G$2,$BO$127:$BP$138,2,FALSE)","v":0},{"$f":"'Budget FCFA'!H61/VLOOKUP(H$2,$BO$127:$BP$138,2,FALSE)","v":0},{"$f":"'Budget FCFA'!I61/VLOOKUP(I$2,$BO$127:$BP$138,2,FALSE)","v":0},{"$f":"'Budget FCFA'!J61/VLOOKUP(J$2,$BO$127:$BP$138,2,FALSE)","v":0},{"$f":"'Budget FCFA'!K61/VLOOKUP(K$2,$BO$127:$BP$138,2,FALSE)","v":0},{"$f":"'Budget FCFA'!L61/VLOOKUP(L$2,$BO$127:$BP$138,2,FALSE)","v":0},{"$f":"'Budget FCFA'!M61/VLOOKUP(M$2,$BO$127:$BP$138,2,FALSE)","v":0},{"$f":"'Budget FCFA'!N61/VLOOKUP(N$2,$BO$127:$BP$138,2,FALSE)","v":0},{"$f":"'Budget FCFA'!O61/VLOOKUP(O$2,$BO$127:$BP$138,2,FALSE)","v":0},{"$f":"'Budget FCFA'!P61/VLOOKUP(P$2,$BO$127:$BP$138,2,FALSE)","v":0},{"$f":"'Budget FCFA'!Q61/VLOOKUP(Q$2,$BO$127:$BP$138,2,FALSE)","v":0},{"$f":"'Budget FCFA'!R61/VLOOKUP(R$2,$BO$127:$BP$138,2,FALSE)","v":0},{"$f":"'Budget FCFA'!S61/VLOOKUP(S$2,$BO$127:$BP$138,2,FALSE)","v":0},{"$f":"'Budget FCFA'!T61/VLOOKUP(T$2,$BO$127:$BP$138,2,FALSE)","v":0},{"$f":"'Budget FCFA'!U61/VLOOKUP(U$2,$BO$127:$BP$138,2,FALSE)","v":0},{"$f":"'Budget FCFA'!V61/VLOOKUP(V$2,$BO$127:$BP$138,2,FALSE)","v":0},{"$f":"'Budget FCFA'!W61/VLOOKUP(W$2,$BO$127:$BP$138,2,FALSE)","v":0},{"$f":"'Budget FCFA'!X61/VLOOKUP(X$2,$BO$127:$BP$138,2,FALSE)","v":0},{"$f":"'Budget FCFA'!Y61/VLOOKUP(Y$2,$BO$127:$BP$138,2,FALSE)","v":0},{"$f":"'Budget FCFA'!Z61/VLOOKUP(Z$2,$BO$127:$BP$138,2,FALSE)","v":0},{"$f":"'Budget FCFA'!AA61/VLOOKUP(AA$2,$BO$127:$BP$138,2,FALSE)","v":0},{"$f":"'Budget FCFA'!AB61/VLOOKUP(AB$2,$BO$127:$BP$138,2,FALSE)","v":0},{"$f":"'Budget FCFA'!AC61/VLOOKUP(AC$2,$BO$127:$BP$138,2,FALSE)","v":0},{"$f":"'Budget FCFA'!AD61/VLOOKUP(AD$2,$BO$127:$BP$138,2,FALSE)","v":0},{"$f":"'Budget FCFA'!AE61/VLOOKUP(AE$2,$BO$127:$BP$138,2,FALSE)","v":0},{"$f":"'Budget FCFA'!AF61/VLOOKUP(AF$2,$BO$127:$BP$138,2,FALSE)","v":0},{"$f":"'Budget FCFA'!AG61/VLOOKUP(AG$2,$BO$127:$BP$138,2,FALSE)","v":0},{"$f":"'Budget FCFA'!AH61/VLOOKUP(AH$2,$BO$127:$BP$138,2,FALSE)","v":0},{"$f":"'Budget FCFA'!AI61/VLOOKUP(AI$2,$BO$127:$BP$138,2,FALSE)","v":0},{"$f":"'Budget FCFA'!AJ61/VLOOKUP(AJ$2,$BO$127:$BP$138,2,FALSE)","v":0},{"$f":"'Budget FCFA'!AK61/VLOOKUP(AK$2,$BO$127:$BP$138,2,FALSE)","v":0},{"$f":"'Budget FCFA'!AL61/VLOOKUP(AL$2,$BO$127:$BP$138,2,FALSE)","v":543.11944228051539},{"$f":"'Budget FCFA'!AM61/VLOOKUP(AM$2,$BO$127:$BP$138,2,FALSE)","v":0},{"$f":"'Budget FCFA'!AN61/VLOOKUP(AN$2,$BO$127:$BP$138,2,FALSE)","v":0},{"$f":"'Budget FCFA'!AO61/VLOOKUP(AO$2,$BO$127:$BP$138,2,FALSE)","v":0},{"$f":"'Budget FCFA'!AP61/VLOOKUP(AP$2,$BO$127:$BP$138,2,FALSE)","v":0},{"$f":"'Budget FCFA'!#REF!/VLOOKUP(AQ$2,$BO$127:$BP$138,2,FALSE)","v":{"$error":"#REF!"}},{"$f":"'Budget FCFA'!#REF!/VLOOKUP(AR$2,$BO$127:$BP$138,2,FALSE)","v":{"$error":"#REF!"}},{"$f":"'Budget FCFA'!#REF!/VLOOKUP(AS$2,$BO$127:$BP$138,2,FALSE)","v":{"$error":"#REF!"}},{"$f":"'Budget FCFA'!#REF!/VLOOKUP(AT$2,$BO$127:$BP$138,2,FALSE)","v":{"$error":"#REF!"}},{"$f":"'Budget FCFA'!#REF!/VLOOKUP(AU$2,$BO$127:$BP$138,2,FALSE)","v":{"$error":"#REF!"}},{"$f":"'Budget FCFA'!#REF!/VLOOKUP(AV$2,$BO$127:$BP$138,2,FALSE)","v":{"$error":"#REF!"}},{"$f":"'Budget FCFA'!#REF!/VLOOKUP(AW$2,$BO$127:$BP$138,2,FALSE)","v":{"$error":"#REF!"}},{"$f":"'Budget FCFA'!#REF!/VLOOKUP(AX$2,$BO$127:$BP$138,2,FALSE)","v":{"$error":"#REF!"}},{"$f":"'Budget FCFA'!#REF!/VLOOKUP(AY$2,$BO$127:$BP$138,2,FALSE)","v":{"$error":"#REF!"}},{"$f":"'Budget FCFA'!#REF!/VLOOKUP(AZ$2,$BO$127:$BP$138,2,FALSE)","v":{"$error":"#REF!"}},{"$f":"'Budget FCFA'!#REF!/VLOOKUP(BA$2,$BO$127:$BP$138,2,FALSE)","v":{"$error":"#REF!"}},{"$f":"'Budget FCFA'!#REF!/VLOOKUP(BB$2,$BO$127:$BP$138,2,FALSE)","v":{"$error":"#REF!"}},{"$f":"'Budget FCFA'!#REF!/VLOOKUP(BC$2,$BO$127:$BP$138,2,FALSE)","v":{"$error":"#REF!"}},{"$f":"'Budget FCFA'!#REF!/VLOOKUP(BD$2,$BO$127:$BP$138,2,FALSE)","v":{"$error":"#REF!"}},{"$f":"'Budget FCFA'!#REF!/VLOOKUP(BE$2,$BO$127:$BP$138,2,FALSE)","v":{"$error":"#REF!"}},{"$f":"'Budget FCFA'!#REF!/VLOOKUP(BF$2,$BO$127:$BP$138,2,FALSE)","v":{"$error":"#REF!"}},{"$f":"'Budget FCFA'!#REF!/VLOOKUP(BG$2,$BO$127:$BP$138,2,FALSE)","v":{"$error":"#REF!"}},{"$f":"'Budget FCFA'!#REF!/VLOOKUP(BH$2,$BO$127:$BP$138,2,FALSE)","v":{"$error":"#REF!"}},{"$f":"'Budget FCFA'!#REF!/VLOOKUP(BI$2,$BO$127:$BP$138,2,FALSE)","v":{"$error":"#REF!"}},{"$f":"'Budget FCFA'!#REF!/VLOOKUP(BJ$2,$BO$127:$BP$138,2,FALSE)","v":{"$error":"#REF!"}},{"$error":"#REF!"},{"$f":"BK61-'Budget FCFA'!#REF!","v":{"$error":"#REF!"}}]
["PUBPRESS","DOUALA","Créa presse",{"$f":"'Budget FCFA'!D62/VLOOKUP(D$2,$BO$127:$BP$138,2,FALSE)","v":0},{"$f":"'Budget FCFA'!E62/VLOOKUP(E$2,$BO$127:$BP$138,2,FALSE)","v":0},{"$f":"'Budget FCFA'!F62/VLOOKUP(F$2,$BO$127:$BP$138,2,FALSE)","v":0},{"$f":"'Budget FCFA'!G62/VLOOKUP(G$2,$BO$127:$BP$138,2,FALSE)","v":0},{"$f":"'Budget FCFA'!H62/VLOOKUP(H$2,$BO$127:$BP$138,2,FALSE)","v":0},{"$f":"'Budget FCFA'!I62/VLOOKUP(I$2,$BO$127:$BP$138,2,FALSE)","v":0},{"$f":"'Budget FCFA'!J62/VLOOKUP(J$2,$BO$127:$BP$138,2,FALSE)","v":0},{"$f":"'Budget FCFA'!K62/VLOOKUP(K$2,$BO$127:$BP$138,2,FALSE)","v":0},{"$f":"'Budget FCFA'!L62/VLOOKUP(L$2,$BO$127:$BP$138,2,FALSE)","v":0},{"$f":"'Budget FCFA'!M62/VLOOKUP(M$2,$BO$127:$BP$138,2,FALSE)","v":0},{"$f":"'Budget FCFA'!N62/VLOOKUP(N$2,$BO$127:$BP$138,2,FALSE)","v":0},{"$f":"'Budget FCFA'!O62/VLOOKUP(O$2,$BO$127:$BP$138,2,FALSE)","v":0},{"$f":"'Budget FCFA'!P62/VLOOKUP(P$2,$BO$127:$BP$138,2,FALSE)","v":0},{"$f":"'Budget FCFA'!Q62/VLOOKUP(Q$2,$BO$127:$BP$138,2,FALSE)","v":0},{"$f":"'Budget FCFA'!R62/VLOOKUP(R$2,$BO$127:$BP$138,2,FALSE)","v":0},{"$f":"'Budget FCFA'!S62/VLOOKUP(S$2,$BO$127:$BP$138,2,FALSE)","v":0},{"$f":"'Budget FCFA'!T62/VLOOKUP(T$2,$BO$127:$BP$138,2,FALSE)","v":0},{"$f":"'Budget FCFA'!U62/VLOOKUP(U$2,$BO$127:$BP$138,2,FALSE)","v":0},{"$f":"'Budget FCFA'!V62/VLOOKUP(V$2,$BO$127:$BP$138,2,FALSE)","v":0},{"$f":"'Budget FCFA'!W62/VLOOKUP(W$2,$BO$127:$BP$138,2,FALSE)","v":0},{"$f":"'Budget FCFA'!X62/VLOOKUP(X$2,$BO$127:$BP$138,2,FALSE)","v":0},{"$f":"'Budget FCFA'!Y62/VLOOKUP(Y$2,$BO$127:$BP$138,2,FALSE)","v":0},{"$f":"'Budget FCFA'!Z62/VLOOKUP(Z$2,$BO$127:$BP$138,2,FALSE)","v":0},{"$f":"'Budget FCFA'!AA62/VLOOKUP(AA$2,$BO$127:$BP$138,2,FALSE)","v":0},{"$f":"'Budget FCFA'!AB62/VLOOKUP(AB$2,$BO$127:$BP$138,2,FALSE)","v":0},{"$f":"'Budget FCFA'!AC62/VLOOKUP(AC$2,$BO$127:$BP$138,2,FALSE)","v":0},{"$f":"'Budget FCFA'!AD62/VLOOKUP(AD$2,$BO$127:$BP$138,2,FALSE)","v":0},{"$f":"'Budget FCFA'!AE62/VLOOKUP(AE$2,$BO$127:$BP$138,2,FALSE)","v":0},{"$f":"'Budget FCFA'!AF62/VLOOKUP(AF$2,$BO$127:$BP$138,2,FALSE)","v":0},{"$f":"'Budget FCFA'!AG62/VLOOKUP(AG$2,$BO$127:$BP$138,2,FALSE)","v":0},{"$f":"'Budget FCFA'!AH62/VLOOKUP(AH$2,$BO$127:$BP$138,2,FALSE)","v":0},{"$f":"'Budget FCFA'!AI62/VLOOKUP(AI$2,$BO$127:$BP$138,2,FALSE)","v":0},{"$f":"'Budget FCFA'!AJ62/VLOOKUP(AJ$2,$BO$127:$BP$138,2,FALSE)","v":0},{"$f":"'Budget FCFA'!AK62/VLOOKUP(AK$2,$BO$127:$BP$138,2,FALSE)","v":0},{"$f":"'Budget FCFA'!AL62/VLOOKUP(AL$2,$BO$127:$BP$138,2,FALSE)","v":391.0637435075775},{"$f":"'Budget FCFA'!AM62/VLOOKUP(AM$2,$BO$127:$BP$138,2,FALSE)","v":0},{"$f":"'Budget FCFA'!AN62/VLOOKUP(AN$2,$BO$127:$BP$138,2,FALSE)","v":0},{"$f":"'Budget FCFA'!AO62/VLOOKUP(AO$2,$BO$127:$BP$138,2,FALSE)","v":0},{"$f":"'Budget FCFA'!AP62/VLOOKUP(AP$2,$BO$127:$BP$138,2,FALSE)","v":0},{"$f":"'Budget FCFA'!#REF!/VLOOKUP(AQ$2,$BO$127:$BP$138,2,FALSE)","v":{"$error":"#REF!"}},{"$f":"'Budget FCFA'!#REF!/VLOOKUP(AR$2,$BO$127:$BP$138,2,FALSE)","v":{"$error":"#REF!"}},{"$f":"'Budget FCFA'!#REF!/VLOOKUP(AS$2,$BO$127:$BP$138,2,FALSE)","v":{"$error":"#REF!"}},{"$f":"'Budget FCFA'!#REF!/VLOOKUP(AT$2,$BO$127:$BP$138,2,FALSE)","v":{"$error":"#REF!"}},{"$f":"'Budget FCFA'!#REF!/VLOOKUP(AU$2,$BO$127:$BP$138,2,FALSE)","v":{"$error":"#REF!"}},{"$f":"'Budget FCFA'!#REF!/VLOOKUP(AV$2,$BO$127:$BP$138,2,FALSE)","v":{"$error":"#REF!"}},{"$f":"'Budget FCFA'!#REF!/VLOOKUP(AW$2,$BO$127:$BP$138,2,FALSE)","v":{"$error":"#REF!"}},{"$f":"'Budget FCFA'!#REF!/VLOOKUP(AX$2,$BO$127:$BP$138,2,FALSE)","v":{"$error":"#REF!"}},{"$f":"'Budget FCFA'!#REF!/VLOOKUP(AY$2,$BO$127:$BP$138,2,FALSE)","v":{"$error":"#REF!"}},{"$f":"'Budget FCFA'!#REF!/VLOOKUP(AZ$2,$BO$127:$BP$138,2,FALSE)","v":{"$error":"#REF!"}},{"$f":"'Budget FCFA'!#REF!/VLOOKUP(BA$2,$BO$127:$BP$138,2,FALSE)","v":{"$error":"#REF!"}},{"$f":"'Budget FCFA'!#REF!/VLOOKUP(BB$2,$BO$127:$BP$138,2,FALSE)","v":{"$error":"#REF!"}},{"$f":"'Budget FCFA'!#REF!/VLOOKUP(BC$2,$BO$127:$BP$138,2,FALSE)","v":{"$error":"#REF!"}},{"$f":"'Budget FCFA'!#REF!/VLOOKUP(BD$2,$BO$127:$BP$138,2,FALSE)","v":{"$error":"#REF!"}},{"$f":"'Budget FCFA'!#REF!/VLOOKUP(BE$2,$BO$127:$BP$138,2,FALSE)","v":{"$error":"#REF!"}},{"$f":"'Budget FCFA'!#REF!/VLOOKUP(BF$2,$BO$127:$BP$138,2,FALSE)","v":{"$error":"#REF!"}},{"$f":"'Budget FCFA'!#REF!/VLOOKUP(BG$2,$BO$127:$BP$138,2,FALSE)","v":{"$error":"#REF!"}},{"$f":"'Budget FCFA'!#REF!/VLOOKUP(BH$2,$BO$127:$BP$138,2,FALSE)","v":{"$error":"#REF!"}},{"$f":"'Budget FCFA'!#REF!/VLOOKUP(BI$2,$BO$127:$BP$138,2,FALSE)","v":{"$error":"#REF!"}},{"$f":"'Budget FCFA'!#REF!/VLOOKUP(BJ$2,$BO$127:$BP$138,2,FALSE)","v":{"$error":"#REF!"}},{"$error":"#REF!"},{"$f":"BK62-'Budget FCFA'!#REF!","v":{"$error":"#REF!"}}]
["PUBPRESS","TOTAL","Total presse",{"$f":"'Budget FCFA'!D63/VLOOKUP(D$2,$BO$127:$BP$138,2,FALSE)","v":0},{"$f":"'Budget FCFA'!E63/VLOOKUP(E$2,$BO$127:$BP$138,2,FALSE)","v":0},{"$f":"'Budget FCFA'!F63/VLOOKUP(F$2,$BO$127:$BP$138,2,FALSE)","v":0},{"$f":"'Budget FCFA'!G63/VLOOKUP(G$2,$BO$127:$BP$138,2,FALSE)","v":0},{"$f":"'Budget FCFA'!H63/VLOOKUP(H$2,$BO$127:$BP$138,2,FALSE)","v":0},{"$f":"'Budget FCFA'!I63/VLOOKUP(I$2,$BO$127:$BP$138,2,FALSE)","v":0},{"$f":"'Budget FCFA'!J63/VLOOKUP(J$2,$BO$127:$BP$138,2,FALSE)","v":0},{"$f":"'Budget FCFA'!K63/VLOOKUP(K$2,$BO$127:$BP$138,2,FALSE)","v":0},{"$f":"'Budget FCFA'!L63/VLOOKUP(L$2,$BO$127:$BP$138,2,FALSE)","v":0},{"$f":"'Budget FCFA'!M63/VLOOKUP(M$2,$BO$127:$BP$138,2,FALSE)","v":0},{"$f":"'Budget FCFA'!N63/VLOOKUP(N$2,$BO$127:$BP$138,2,FALSE)","v":0},{"$f":"'Budget FCFA'!O63/VLOOKUP(O$2,$BO$127:$BP$138,2,FALSE)","v":0},{"$f":"'Budget FCFA'!P63/VLOOKUP(P$2,$BO$127:$BP$138,2,FALSE)","v":838.46807031558467},{"$f":"'Budget FCFA'!Q63/VLOOKUP(Q$2,$BO$127:$BP$138,2,FALSE)","v":0},{"$f":"'Budget FCFA'!R63/VLOOKUP(R$2,$BO$127:$BP$138,2,FALSE)","v":0},{"$f":"'Budget FCFA'!S63/VLOOKUP(S$2,$BO$127:$BP$138,2,FALSE)","v":0},{"$f":"'Budget FCFA'!T63/VLOOKUP(T$2,$BO$127:$BP$138,2,FALSE)","v":0},{"$f":"'Budget FCFA'!U63/VLOOKUP(U$2,$BO$127:$BP$138,2,FALSE)","v":0},{"$f":"'Budget FCFA'!V63/VLOOKUP(V$2,$BO$127:$BP$138,2,FALSE)","v":0},{"$f":"'Budget FCFA'!W63/VLOOKUP(W$2,$BO$127:$BP$138,2,FALSE)","v":0},{"$f":"'Budget FCFA'!X63/VLOOKUP(X$2,$BO$127:$BP$138,2,FALSE)","v":0},{"$f":"'Budget FCFA'!Y63/VLOOKUP(Y$2,$BO$127:$BP$138,2,FALSE)","v":0},{"$f":"'Budget FCFA'!Z63/VLOOKUP(Z$2,$BO$127:$BP$138,2,FALSE)","v":0},{"$f":"'Budget FCFA'!AA63/VLOOKUP(AA$2,$BO$127:$BP$138,2,FALSE)","v":0},{"$f":"'Budget FCFA'!AB63/VLOOKUP(AB$2,$BO$127:$BP$138,2,FALSE)","v":0},{"$f":"'Budget FCFA'!AC63/VLOOKUP(AC$2,$BO$127:$BP$138,2,FALSE)","v":0},{"$f":"'Budget FCFA'!AD63/VLOOKUP(AD$2,$BO$127:$BP$138,2,FALSE)","v":0},{"$f":"'Budget FCFA'!AE63/VLOOKUP(AE$2,$BO$127:$BP$138,2,FALSE)","v":0},{"$f":"'Budget FCFA'!AF63/VLOOKUP(AF$2,$BO$127:$BP$138,2,FALSE)","v":0},{"$f":"'Budget FCFA'!AG63/VLOOKUP(AG$2,$BO$127:$BP$138,2,FALSE)","v":0},{"$f":"'Budget FCFA'!AH63/VLOOKUP(AH$2,$BO$127:$BP$138,2,FALSE)","v":0},{"$f":"'Budget FCFA'!AI63/VLOOKUP(AI$2,$BO$127:$BP$138,2,FALSE)","v":0},{"$f":"'Budget FCFA'!AJ63/VLOOKUP(AJ$2,$BO$127:$BP$138,2,FALSE)","v":0},{"$f":"'Budget FCFA'!AK63/VLOOKUP(AK$2,$BO$127:$BP$138,2,FALSE)","v":0},{"$f":"'Budget FCFA'!AL63/VLOOKUP(AL$2,$BO$127:$BP$138,2,FALSE)","v":6926.5973226903598},{"$f":"'Budget FCFA'!AM63/VLOOKUP(AM$2,$BO$127:$BP$138,2,FALSE)","v":686.02057756834677},{"$f":"'Budget FCFA'!AN63/VLOOKUP(AN$2,$BO$127:$BP$138,2,FALSE)","v":0},{"$f":"'Budget FCFA'!AO63/VLOOKUP(AO$2,$BO$127:$BP$138,2,FALSE)","v":0},{"$f":"'Budget FCFA'!AP63/VLOOKUP(AP$2,$BO$127:$BP$138,2,FALSE)","v":0},{"$f":"'Budget FCFA'!#REF!/VLOOKUP(AQ$2,$BO$127:$BP$138,2,FALSE)","v":{"$error":"#REF!"}},{"$f":"'Budget FCFA'!#REF!/VLOOKUP(AR$2,$BO$127:$BP$138,2,FALSE)","v":{"$error":"#REF!"}},{"$f":"'Budget FCFA'!#REF!/VLOOKUP(AS$2,$BO$127:$BP$138,2,FALSE)","v":{"$error":"#REF!"}},{"$f":"'Budget FCFA'!#REF!/VLOOKUP(AT$2,$BO$127:$BP$138,2,FALSE)","v":{"$error":"#REF!"}},{"$f":"'Budget FCFA'!#REF!/VLOOKUP(AU$2,$BO$127:$BP$138,2,FALSE)","v":{"$error":"#REF!"}},{"$f":"'Budget FCFA'!#REF!/VLOOKUP(AV$2,$BO$127:$BP$138,2,FALSE)","v":{"$error":"#REF!"}},{"$f":"'Budget FCFA'!#REF!/VLOOKUP(AW$2,$BO$127:$BP$138,2,FALSE)","v":{"$error":"#REF!"}},{"$f":"'Budget FCFA'!#REF!/VLOOKUP(AX$2,$BO$127:$BP$138,2,FALSE)","v":{"$error":"#REF!"}},{"$f":"'Budget FCFA'!#REF!/VLOOKUP(AY$2,$BO$127:$BP$138,2,FALSE)","v":{"$error":"#REF!"}},{"$f":"'Budget FCFA'!#REF!/VLOOKUP(AZ$2,$BO$127:$BP$138,2,FALSE)","v":{"$error":"#REF!"}},{"$f":"'Budget FCFA'!#REF!/VLOOKUP(BA$2,$BO$127:$BP$138,2,FALSE)","v":{"$error":"#REF!"}},{"$f":"'Budget FCFA'!#REF!/VLOOKUP(BB$2,$BO$127:$BP$138,2,FALSE)","v":{"$error":"#REF!"}},{"$f":"'Budget FCFA'!#REF!/VLOOKUP(BC$2,$BO$127:$BP$138,2,FALSE)","v":{"$error":"#REF!"}},{"$f":"'Budget FCFA'!#REF!/VLOOKUP(BD$2,$BO$127:$BP$138,2,FALSE)","v":{"$error":"#REF!"}},{"$f":"'Budget FCFA'!#REF!/VLOOKUP(BE$2,$BO$127:$BP$138,2,FALSE)","v":{"$error":"#REF!"}},{"$f":"'Budget FCFA'!#REF!/VLOOKUP(BF$2,$BO$127:$BP$138,2,FALSE)","v":{"$error":"#REF!"}},{"$f":"'Budget FCFA'!#REF!/VLOOKUP(BG$2,$BO$127:$BP$138,2,FALSE)","v":{"$error":"#REF!"}},{"$f":"'Budget FCFA'!#REF!/VLOOKUP(BH$2,$BO$127:$BP$138,2,FALSE)","v":{"$error":"#REF!"}},{"$f":"'Budget FCFA'!#REF!/VLOOKUP(BI$2,$BO$127:$BP$138,2,FALSE)","v":{"$error":"#REF!"}},{"$f":"'Budget FCFA'!#REF!/VLOOKUP(BJ$2,$BO$127:$BP$138,2,FALSE)","v":{"$error":"#REF!"}},{"$error":"#REF!"},{"$f":"BK63-'Budget FCFA'!#REF!","v":{"$error":"#REF!"}}]
["PUBRADIO","ABIDJAN","Achat d'espace radio",{"$f":"'Budget FCFA'!D64/VLOOKUP(D$2,$BO$127:$BP$138,2,FALSE)","v":0},{"$f":"'Budget FCFA'!E64/VLOOKUP(E$2,$BO$127:$BP$138,2,FALSE)","v":0},{"$f":"'Budget FCFA'!F64/VLOOKUP(F$2,$BO$127:$BP$138,2,FALSE)","v":0},{"$f":"'Budget FCFA'!G64/VLOOKUP(G$2,$BO$127:$BP$138,2,FALSE)","v":0},{"$f":"'Budget FCFA'!H64/VLOOKUP(H$2,$BO$127:$BP$138,2,FALSE)","v":0},{"$f":"'Budget FCFA'!I64/VLOOKUP(I$2,$BO$127:$BP$138,2,FALSE)","v":0},{"$f":"'Budget FCFA'!J64/VLOOKUP(J$2,$BO$127:$BP$138,2,FALSE)","v":0},{"$f":"'Budget FCFA'!K64/VLOOKUP(K$2,$BO$127:$BP$138,2,FALSE)","v":0},{"$f":"'Budget FCFA'!L64/VLOOKUP(L$2,$BO$127:$BP$138,2,FALSE)","v":0},{"$f":"'Budget FCFA'!M64/VLOOKUP(M$2,$BO$127:$BP$138,2,FALSE)","v":0},{"$f":"'Budget FCFA'!N64/VLOOKUP(N$2,$BO$127:$BP$138,2,FALSE)","v":0},{"$f":"'Budget FCFA'!O64/VLOOKUP(O$2,$BO$127:$BP$138,2,FALSE)","v":0},{"$f":"'Budget FCFA'!P64/VLOOKUP(P$2,$BO$127:$BP$138,2,FALSE)","v":376.3341194620989},{"$f":"'Budget FCFA'!Q64/VLOOKUP(Q$2,$BO$127:$BP$138,2,FALSE)","v":0},{"$f":"'Budget FCFA'!R64/VLOOKUP(R$2,$BO$127:$BP$138,2,FALSE)","v":0},{"$f":"'Budget FCFA'!S64/VLOOKUP(S$2,$BO$127:$BP$138,2,FALSE)","v":0},{"$f":"'Budget FCFA'!T64/VLOOKUP(T$2,$BO$127:$BP$138,2,FALSE)","v":0},{"$f":"'Budget FCFA'!U64/VLOOKUP(U$2,$BO$127:$BP$138,2,FALSE)","v":0},{"$f":"'Budget FCFA'!V64/VLOOKUP(V$2,$BO$127:$BP$138,2,FALSE)","v":0},{"$f":"'Budget FCFA'!W64/VLOOKUP(W$2,$BO$127:$BP$138,2,FALSE)","v":0},{"$f":"'Budget FCFA'!X64/VLOOKUP(X$2,$BO$127:$BP$138,2,FALSE)","v":0},{"$f":"'Budget FCFA'!Y64/VLOOKUP(Y$2,$BO$127:$BP$138,2,FALSE)","v":0},{"$f":"'Budget FCFA'!Z64/VLOOKUP(Z$2,$BO$127:$BP$138,2,FALSE)","v":0},{"$f":"'Budget FCFA'!AA64/VLOOKUP(AA$2,$BO$127:$BP$138,2,FALSE)","v":0},{"$f":"'Budget FCFA'!AB64/VLOOKUP(AB$2,$BO$127:$BP$138,2,FALSE)","v":0},{"$f":"'Budget FCFA'!AC64/VLOOKUP(AC$2,$BO$127:$BP$138,2,FALSE)","v":0},{"$f":"'Budget FCFA'!AD64/VLOOKUP(AD$2,$BO$127:$BP$138,2,FALSE)","v":0},{"$f":"'Budget FCFA'!AE64/VLOOKUP(AE$2,$BO$127:$BP$138,2,FALSE)","v":0},{"$f":"'Budget FCFA'!AF64/VLOOKUP(AF$2,$BO$127:$BP$138,2,FALSE)","v":0},{"$f":"'Budget FCFA'!AG64/VLOOKUP(AG$2,$BO$127:$BP$138,2,FALSE)","v":0},{"$f":"'Budget FCFA'!AH64/VLOOKUP(AH$2,$BO$127:$BP$138,2,FALSE)","v":0},{"$f":"'Budget FCFA'!AI64/VLOOKUP(AI$2,$BO$127:$BP$138,2,FALSE)","v":0},{"$f":"'Budget FCFA'!AJ64/VLOOKUP(AJ$2,$BO$127:$BP$138,2,FALSE)","v":0},{"$f":"'Budget FCFA'!AK64/VLOOKUP(AK$2,$BO$127:$BP$138,2,FALSE)","v":0},{"$f":"'Budget FCFA'!AL64/VLOOKUP(AL$2,$BO$127:$BP$138,2,FALSE)","v":0},{"$f":"'Budget FCFA'!AM64/VLOOKUP(AM$2,$BO$127:$BP$138,2,FALSE)","v":0},{"$f":"'Budget FCFA'!AN64/VLOOKUP(AN$2,$BO$127:$BP$138,2,FALSE)","v":0},{"$f":"'Budget FCFA'!AO64/VLOOKUP(AO$2,$BO$127:$BP$138,2,FALSE)","v":0},{"$f":"'Budget FCFA'!AP64/VLOOKUP(AP$2,$BO$127:$BP$138,2,FALSE)","v":0},{"$f":"'Budget FCFA'!#REF!/VLOOKUP(AQ$2,$BO$127:$BP$138,2,FALSE)","v":{"$error":"#REF!"}},{"$f":"'Budget FCFA'!#REF!/VLOOKUP(AR$2,$BO$127:$BP$138,2,FALSE)","v":{"$error":"#REF!"}},{"$f":"'Budget FCFA'!#REF!/VLOOKUP(AS$2,$BO$127:$BP$138,2,FALSE)","v":{"$error":"#REF!"}},{"$f":"'Budget FCFA'!#REF!/VLOOKUP(AT$2,$BO$127:$BP$138,2,FALSE)","v":{"$error":"#REF!"}},{"$f":"'Budget FCFA'!#REF!/VLOOKUP(AU$2,$BO$127:$BP$138,2,FALSE)","v":{"$error":"#REF!"}},{"$f":"'Budget FCFA'!#REF!/VLOOKUP(AV$2,$BO$127:$BP$138,2,FALSE)","v":{"$error":"#REF!"}},{"$f":"'Budget FCFA'!#REF!/VLOOKUP(AW$2,$BO$127:$BP$138,2,FALSE)","v":{"$error":"#REF!"}},{"$f":"'Budget FCFA'!#REF!/VLOOKUP(AX$2,$BO$127:$BP$138,2,FALSE)","v":{"$error":"#REF!"}},{"$f":"'Budget FCFA'!#REF!/VLOOKUP(AY$2,$BO$127:$BP$138,2,FALSE)","v":{"$error":"#REF!"}},{"$f":"'Budget FCFA'!#REF!/VLOOKUP(AZ$2,$BO$127:$BP$138,2,FALSE)","v":{"$error":"#REF!"}},{"$f":"'Budget FCFA'!#REF!/VLOOKUP(BA$2,$BO$127:$BP$138,2,FALSE)","v":{"$error":"#REF!"}},{"$f":"'Budget FCFA'!#REF!/VLOOKUP(BB$2,$BO$127:$BP$138,2,FALSE)","v":{"$error":"#REF!"}},{"$f":"'Budget FCFA'!#REF!/VLOOKUP(BC$2,$BO$127:$BP$138,2,FALSE)","v":{"$error":"#REF!"}},{"$f":"'Budget FCFA'!#REF!/VLOOKUP(BD$2,$BO$127:$BP$138,2,FALSE)","v":{"$error":"#REF!"}},{"$f":"'Budget FCFA'!#REF!/VLOOKUP(BE$2,$BO$127:$BP$138,2,FALSE)","v":{"$error":"#REF!"}},{"$f":"'Budget FCFA'!#REF!/VLOOKUP(BF$2,$BO$127:$BP$138,2,FALSE)","v":{"$error":"#REF!"}},{"$f":"'Budget FCFA'!#REF!/VLOOKUP(BG$2,$BO$127:$BP$138,2,FALSE)","v":{"$error":"#REF!"}},{"$f":"'Budget FCFA'!#REF!/VLOOKUP(BH$2,$BO$127:$BP$138,2,FALSE)","v":{"$error":"#REF!"}},{"$f":"'Budget FCFA'!#REF!/VLOOKUP(BI$2,$BO$127:$BP$138,2,FALSE)","v":{"$error":"#REF!"}},{"$f":"'Budget FCFA'!#REF!/VLOOKUP(BJ$2,$BO$127:$BP$138,2,FALSE)","v":{"$error":"#REF!"}},{"$error":"#REF!"},{"$f":"BK64-'Budget FCFA'!#REF!","v":{"$error":"#REF!"}}]
["PUBRADIO","BRAZZA","Achat d'espace radio",{"$f":"'Budget FCFA'!D65/VLOOKUP(D$2,$BO$127:$BP$138,2,FALSE)","v":0},{"$f":"'Budget FCFA'!E65/VLOOKUP(E$2,$BO$127:$BP$138,2,FALSE)","v":0},{"$f":"'Budget FCFA'!F65/VLOOKUP(F$2,$BO$127:$BP$138,2,FALSE)","v":0},{"$f":"'Budget FCFA'!G65/VLOOKUP(G$2,$BO$127:$BP$138,2,FALSE)","v":0},{"$f":"'Budget FCFA'!H65/VLOOKUP(H$2,$BO$127:$BP$138,2,FALSE)","v":0},{"$f":"'Budget FCFA'!I65/VLOOKUP(I$2,$BO$127:$BP$138,2,FALSE)","v":0},{"$f":"'Budget FCFA'!J65/VLOOKUP(J$2,$BO$127:$BP$138,2,FALSE)","v":0},{"$f":"'Budget FCFA'!K65/VLOOKUP(K$2,$BO$127:$BP$138,2,FALSE)","v":0},{"$f":"'Budget FCFA'!L65/VLOOKUP(L$2,$BO$127:$BP$138,2,FALSE)","v":0},{"$f":"'Budget FCFA'!M65/VLOOKUP(M$2,$BO$127:$BP$138,2,FALSE)","v":0},{"$f":"'Budget FCFA'!N65/VLOOKUP(N$2,$BO$127:$BP$138,2,FALSE)","v":0},{"$f":"'Budget FCFA'!O65/VLOOKUP(O$2,$BO$127:$BP$138,2,FALSE)","v":0},{"$f":"'Budget FCFA'!P65/VLOOKUP(P$2,$BO$127:$BP$138,2,FALSE)","v":0},{"$f":"'Budget FCFA'!Q65/VLOOKUP(Q$2,$BO$127:$BP$138,2,FALSE)","v":0},{"$f":"'Budget FCFA'!R65/VLOOKUP(R$2,$BO$127:$BP$138,2,FALSE)","v":0},{"$f":"'Budget FCFA'!S65/VLOOKUP(S$2,$BO$127:$BP$138,2,FALSE)","v":0},{"$f":"'Budget FCFA'!T65/VLOOKUP(T$2,$BO$127:$BP$138,2,FALSE)","v":0},{"$f":"'Budget FCFA'!U65/VLOOKUP(U$2,$BO$127:$BP$138,2,FALSE)","v":0},{"$f":"'Budget FCFA'!V65/VLOOKUP(V$2,$BO$127:$BP$138,2,FALSE)","v":0},{"$f":"'Budget FCFA'!W65/VLOOKUP(W$2,$BO$127:$BP$138,2,FALSE)","v":0},{"$f":"'Budget FCFA'!X65/VLOOKUP(X$2,$BO$127:$BP$138,2,FALSE)","v":0},{"$f":"'Budget FCFA'!Y65/VLOOKUP(Y$2,$BO$127:$BP$138,2,FALSE)","v":0},{"$f":"'Budget FCFA'!Z65/VLOOKUP(Z$2,$BO$127:$BP$138,2,FALSE)","v":0},{"$f":"'Budget FCFA'!AA65/VLOOKUP(AA$2,$BO$127:$BP$138,2,FALSE)","v":0},{"$f":"'Budget FCFA'!AB65/VLOOKUP(AB$2,$BO$127:$BP$138,2,FALSE)","v":0},{"$f":"'Budget FCFA'!AC65/VLOOKUP(AC$2,$BO$127:$BP$138,2,FALSE)","v":0},{"$f":"'Budget FCFA'!AD65/VLOOKUP(AD$2,$BO$127:$BP$138,2,FALSE)","v":0},{"$f":"'Budget FCFA'!AE65/VLOOKUP(AE$2,$BO$127:$BP$138,2,FALSE)","v":0},{"$f":"'Budget FCFA'!AF65/VLOOKUP(AF$2,$BO$127:$BP$138,2,FALSE)","v":0},{"$f":"'Budget FCFA'!AG65/VLOOKUP(AG$2,$BO$127:$BP$138,2,FALSE)","v":0},{"$f":"'Budget FCFA'!AH65/VLOOKUP(AH$2,$BO$127:$BP$138,2,FALSE)","v":0},{"$f":"'Budget FCFA'!AI65/VLOOKUP(AI$2,$BO$127:$BP$138,2,FALSE)","v":0},{"$f":"'Budget FCFA'!AJ65/VLOOKUP(AJ$2,$BO$127:$BP$138,2,FALSE)","v":0},{"$f":"'Budget FCFA'!AK65/VLOOKUP(AK$2,$BO$127:$BP$138,2,FALSE)","v":0},{"$f":"'Budget FCFA'!AL65/VLOOKUP(AL$2,$BO$127:$BP$138,2,FALSE)","v":0},{"$f":"'Budget FCFA'!AM65/VLOOKUP(AM$2,$BO$127:$BP$138,2,FALSE)","v":0},{"$f":"'Budget FCFA'!AN65/VLOOKUP(AN$2,$BO$127:$BP$138,2,FALSE)","v":0},{"$f":"'Budget FCFA'!AO65/VLOOKUP(AO$2,$BO$127:$BP$138,2,FALSE)","v":0},{"$f":"'Budget FCFA'!AP65/VLOOKUP(AP$2,$BO$127:$BP$138,2,FALSE)","v":0},{"$f":"'Budget FCFA'!#REF!/VLOOKUP(AQ$2,$BO$127:$BP$138,2,FALSE)","v":{"$error":"#REF!"}},{"$f":"'Budget FCFA'!#REF!/VLOOKUP(AR$2,$BO$127:$BP$138,2,FALSE)","v":{"$error":"#REF!"}},{"$f":"'Budget FCFA'!#REF!/VLOOKUP(AS$2,$BO$127:$BP$138,2,FALSE)","v":{"$error":"#REF!"}},{"$f":"'Budget FCFA'!#REF!/VLOOKUP(AT$2,$BO$127:$BP$138,2,FALSE)","v":{"$error":"#REF!"}},{"$f":"'Budget FCFA'!#REF!/VLOOKUP(AU$2,$BO$127:$BP$138,2,FALSE)","v":{"$error":"#REF!"}},{"$f":"'Budget FCFA'!#REF!/VLOOKUP(AV$2,$BO$127:$BP$138,2,FALSE)","v":{"$error":"#REF!"}},{"$f":"'Budget FCFA'!#REF!/VLOOKUP(AW$2,$BO$127:$BP$138,2,FALSE)","v":{"$error":"#REF!"}},{"$f":"'Budget FCFA'!#REF!/VLOOKUP(AX$2,$BO$127:$BP$138,2,FALSE)","v":{"$error":"#REF!"}},{"$f":"'Budget FCFA'!#REF!/VLOOKUP(AY$2,$BO$127:$BP$138,2,FALSE)","v":{"$error":"#REF!"}},{"$f":"'Budget FCFA'!#REF!/VLOOKUP(AZ$2,$BO$127:$BP$138,2,FALSE)","v":{"$error":"#REF!"}},{"$f":"'Budget FCFA'!#REF!/VLOOKUP(BA$2,$BO$127:$BP$138,2,FALSE)","v":{"$error":"#REF!"}},{"$f":"'Budget FCFA'!#REF!/VLOOKUP(BB$2,$BO$127:$BP$138,2,FALSE)","v":{"$error":"#REF!"}},{"$f":"'Budget FCFA'!#REF!/VLOOKUP(BC$2,$BO$127:$BP$138,2,FALSE)","v":{"$error":"#REF!"}},{"$f":"'Budget FCFA'!#REF!/VLOOKUP(BD$2,$BO$127:$BP$138,2,FALSE)","v":{"$error":"#REF!"}},{"$f":"'Budget FCFA'!#REF!/VLOOKUP(BE$2,$BO$127:$BP$138,2,FALSE)","v":{"$error":"#REF!"}},{"$f":"'Budget FCFA'!#REF!/VLOOKUP(BF$2,$BO$127:$BP$138,2,FALSE)","v":{"$error":"#REF!"}},{"$f":"'Budget FCFA'!#REF!/VLOOKUP(BG$2,$BO$127:$BP$138,2,FALSE)","v":{"$error":"#REF!"}},{"$f":"'Budget FCFA'!#REF!/VLOOKUP(BH$2,$BO$127:$BP$138,2,FALSE)","v":{"$error":"#REF!"}},{"$f":"'Budget FCFA'!#REF!/VLOOKUP(BI$2,$BO$127:$BP$138,2,FALSE)","v":{"$error":"#REF!"}},{"$f":"'Budget FCFA'!#REF!/VLOOKUP(BJ$2,$BO$127:$BP$138,2,FALSE)","v":{"$error":"#REF!"}},{"$error":"#REF!"},{"$f":"BK65-'Budget FCFA'!#REF!","v":{"$error":"#REF!"}}]
["PUBRADIO","DAKAR","Achat d'espace radio",{"$f":"'Budget FCFA'!D66/VLOOKUP(D$2,$BO$127:$BP$138,2,FALSE)","v":0},{"$f":"'Budget FCFA'!E66/VLOOKUP(E$2,$BO$127:$BP$138,2,FALSE)","v":0},{"$f":"'Budget FCFA'!F66/VLOOKUP(F$2,$BO$127:$BP$138,2,FALSE)","v":0},{"$f":"'Budget FCFA'!G66/VLOOKUP(G$2,$BO$127:$BP$138,2,FALSE)","v":0},{"$f":"'Budget FCFA'!H66/VLOOKUP(H$2,$BO$127:$BP$138,2,FALSE)","v":0},{"$f":"'Budget FCFA'!I66/VLOOKUP(I$2,$BO$127:$BP$138,2,FALSE)","v":0},{"$f":"'Budget FCFA'!J66/VLOOKUP(J$2,$BO$127:$BP$138,2,FALSE)","v":0},{"$f":"'Budget FCFA'!K66/VLOOKUP(K$2,$BO$127:$BP$138,2,FALSE)","v":0},{"$f":"'Budget FCFA'!L66/VLOOKUP(L$2,$BO$127:$BP$138,2,FALSE)","v":0},{"$f":"'Budget FCFA'!M66/VLOOKUP(M$2,$BO$127:$BP$138,2,FALSE)","v":0},{"$f":"'Budget FCFA'!N66/VLOOKUP(N$2,$BO$127:$BP$138,2,FALSE)","v":0},{"$f":"'Budget FCFA'!O66/VLOOKUP(O$2,$BO$127:$BP$138,2,FALSE)","v":0},{"$f":"'Budget FCFA'!P66/VLOOKUP(P$2,$BO$127:$BP$138,2,FALSE)","v":490.8858355044614},{"$f":"'Budget FCFA'!Q66/VLOOKUP(Q$2,$BO$127:$BP$138,2,FALSE)","v":0},{"$f":"'Budget FCFA'!R66/VLOOKUP(R$2,$BO$127:$BP$138,2,FALSE)","v":0},{"$f":"'Budget FCFA'!S66/VLOOKUP(S$2,$BO$127:$BP$138,2,FALSE)","v":0},{"$f":"'Budget FCFA'!T66/VLOOKUP(T$2,$BO$127:$BP$138,2,FALSE)","v":0},{"$f":"'Budget FCFA'!U66/VLOOKUP(U$2,$BO$127:$BP$138,2,FALSE)","v":0},{"$f":"'Budget FCFA'!V66/VLOOKUP(V$2,$BO$127:$BP$138,2,FALSE)","v":0},{"$f":"'Budget FCFA'!W66/VLOOKUP(W$2,$BO$127:$BP$138,2,FALSE)","v":0},{"$f":"'Budget FCFA'!X66/VLOOKUP(X$2,$BO$127:$BP$138,2,FALSE)","v":0},{"$f":"'Budget FCFA'!Y66/VLOOKUP(Y$2,$BO$127:$BP$138,2,FALSE)","v":0},{"$f":"'Budget FCFA'!Z66/VLOOKUP(Z$2,$BO$127:$BP$138,2,FALSE)","v":0},{"$f":"'Budget FCFA'!AA66/VLOOKUP(AA$2,$BO$127:$BP$138,2,FALSE)","v":0},{"$f":"'Budget FCFA'!AB66/VLOOKUP(AB$2,$BO$127:$BP$138,2,FALSE)","v":0},{"$f":"'Budget FCFA'!AC66/VLOOKUP(AC$2,$BO$127:$BP$138,2,FALSE)","v":0},{"$f":"'Budget FCFA'!AD66/VLOOKUP(AD$2,$BO$127:$BP$138,2,FALSE)","v":0},{"$f":"'Budget FCFA'!AE66/VLOOKUP(AE$2,$BO$127:$BP$138,2,FALSE)","v":0},{"$f":"'Budget FCFA'!AF66/VLOOKUP(AF$2,$BO$127:$BP$138,2,FALSE)","v":0},{"$f":"'Budget FCFA'!AG66/VLOOKUP(AG$2,$BO$127:$BP$138,2,FALSE)","v":0},{"$f":"'Budget FCFA'!AH66/VLOOKUP(AH$2,$BO$127:$BP$138,2,FALSE)","v":0},{"$f":"'Budget FCFA'!AI66/VLOOKUP(AI$2,$BO$127:$BP$138,2,FALSE)","v":0},{"$f":"'Budget FCFA'!AJ66/VLOOKUP(AJ$2,$BO$127:$BP$138,2,FALSE)","v":0},{"$f":"'Budget FCFA'!AK66/VLOOKUP(AK$2,$BO$127:$BP$138,2,FALSE)","v":0},{"$f":"'Budget FCFA'!AL66/VLOOKUP(AL$2,$BO$127:$BP$138,2,FALSE)","v":0},{"$f":"'Budget FCFA'!AM66/VLOOKUP(AM$2,$BO$127:$BP$138,2,FALSE)","v":1052.7748007872467},{"$f":"'Budget FCFA'!AN66/VLOOKUP(AN$2,$BO$127:$BP$138,2,FALSE)","v":0},{"$f":"'Budget FCFA'!AO66/VLOOKUP(AO$2,$BO$127:$BP$138,2,FALSE)","v":0},{"$f":"'Budget FCFA'!AP66/VLOOKUP(AP$2,$BO$127:$BP$138,2,FALSE)","v":0},{"$f":"'Budget FCFA'!#REF!/VLOOKUP(AQ$2,$BO$127:$BP$138,2,FALSE)","v":{"$error":"#REF!"}},{"$f":"'Budget FCFA'!#REF!/VLOOKUP(AR$2,$BO$127:$BP$138,2,FALSE)","v":{"$error":"#REF!"}},{"$f":"'Budget FCFA'!#REF!/VLOOKUP(AS$2,$BO$127:$BP$138,2,FALSE)","v":{"$error":"#REF!"}},{"$f":"'Budget FCFA'!#REF!/VLOOKUP(AT$2,$BO$127:$BP$138,2,FALSE)","v":{"$error":"#REF!"}},{"$f":"'Budget FCFA'!#REF!/VLOOKUP(AU$2,$BO$127:$BP$138,2,FALSE)","v":{"$error":"#REF!"}},{"$f":"'Budget FCFA'!#REF!/VLOOKUP(AV$2,$BO$127:$BP$138,2,FALSE)","v":{"$error":"#REF!"}},{"$f":"'Budget FCFA'!#REF!/VLOOKUP(AW$2,$BO$127:$BP$138,2,FALSE)","v":{"$error":"#REF!"}},{"$f":"'Budget FCFA'!#REF!/VLOOKUP(AX$2,$BO$127:$BP$138,2,FALSE)","v":{"$error":"#REF!"}},{"$f":"'Budget FCFA'!#REF!/VLOOKUP(AY$2,$BO$127:$BP$138,2,FALSE)","v":{"$error":"#REF!"}},{"$f":"'Budget FCFA'!#REF!/VLOOKUP(AZ$2,$BO$127:$BP$138,2,FALSE)","v":{"$error":"#REF!"}},{"$f":"'Budget FCFA'!#REF!/VLOOKUP(BA$2,$BO$127:$BP$138,2,FALSE)","v":{"$error":"#REF!"}},{"$f":"'Budget FCFA'!#REF!/VLOOKUP(BB$2,$BO$127:$BP$138,2,FALSE)","v":{"$error":"#REF!"}},{"$f":"'Budget FCFA'!#REF!/VLOOKUP(BC$2,$BO$127:$BP$138,2,FALSE)","v":{"$error":"#REF!"}},{"$f":"'Budget FCFA'!#REF!/VLOOKUP(BD$2,$BO$127:$BP$138,2,FALSE)","v":{"$error":"#REF!"}},{"$f":"'Budget FCFA'!#REF!/VLOOKUP(BE$2,$BO$127:$BP$138,2,FALSE)","v":{"$error":"#REF!"}},{"$f":"'Budget FCFA'!#REF!/VLOOKUP(BF$2,$BO$127:$BP$138,2,FALSE)","v":{"$error":"#REF!"}},{"$f":"'Budget FCFA'!#REF!/VLOOKUP(BG$2,$BO$127:$BP$138,2,FALSE)","v":{"$error":"#REF!"}},{"$f":"'Budget FCFA'!#REF!/VLOOKUP(BH$2,$BO$127:$BP$138,2,FALSE)","v":{"$error":"#REF!"}},{"$f":"'Budget FCFA'!#REF!/VLOOKUP(BI$2,$BO$127:$BP$138,2,FALSE)","v":{"$error":"#REF!"}},{"$f":"'Budget FCFA'!#REF!/VLOOKUP(BJ$2,$BO$127:$BP$138,2,FALSE)","v":{"$error":"#REF!"}},{"$error":"#REF!"},{"$f":"BK66-'Budget FCFA'!#REF!","v":{"$error":"#REF!"}}]
["PUBRADIO","LIBREVILLE","Achat d'espace radio",{"$f":"'Budget FCFA'!D67/VLOOKUP(D$2,$BO$127:$BP$138,2,FALSE)","v":0},{"$f":"'Budget FCFA'!E67/VLOOKUP(E$2,$BO$127:$BP$138,2,FALSE)","v":0},{"$f":"'Budget FCFA'!F67/VLOOKUP(F$2,$BO$127:$BP$138,2,FALSE)","v":0},{"$f":"'Budget FCFA'!G67/VLOOKUP(G$2,$BO$127:$BP$138,2,FALSE)","v":0},{"$f":"'Budget FCFA'!H67/VLOOKUP(H$2,$BO$127:$BP$138,2,FALSE)","v":0},{"$f":"'Budget FCFA'!I67/VLOOKUP(I$2,$BO$127:$BP$138,2,FALSE)","v":0},{"$f":"'Budget FCFA'!J67/VLOOKUP(J$2,$BO$127:$BP$138,2,FALSE)","v":0},{"$f":"'Budget FCFA'!K67/VLOOKUP(K$2,$BO$127:$BP$138,2,FALSE)","v":0},{"$f":"'Budget FCFA'!L67/VLOOKUP(L$2,$BO$127:$BP$138,2,FALSE)","v":0},{"$f":"'Budget FCFA'!M67/VLOOKUP(M$2,$BO$127:$BP$138,2,FALSE)","v":0},{"$f":"'Budget FCFA'!N67/VLOOKUP(N$2,$BO$127:$BP$138,2,FALSE)","v":0},{"$f":"'Budget FCFA'!O67/VLOOKUP(O$2,$BO$127:$BP$138,2,FALSE)","v":0},{"$f":"'Budget FCFA'!P67/VLOOKUP(P$2,$BO$127:$BP$138,2,FALSE)","v":1219.592137899283},{"$f":"'Budget FCFA'!Q67/VLOOKUP(Q$2,$BO$127:$BP$138,2,FALSE)","v":0},{"$f":"'Budget FCFA'!R67/VLOOKUP(R$2,$BO$127:$BP$138,2,FALSE)","v":0},{"$f":"'Budget FCFA'!S67/VLOOKUP(S$2,$BO$127:$BP$138,2,FALSE)","v":0},{"$f":"'Budget FCFA'!T67/VLOOKUP(T$2,$BO$127:$BP$138,2,FALSE)","v":0},{"$f":"'Budget FCFA'!U67/VLOOKUP(U$2,$BO$127:$BP$138,2,FALSE)","v":0},{"$f":"'Budget FCFA'!V67/VLOOKUP(V$2,$BO$127:$BP$138,2,FALSE)","v":0},{"$f":"'Budget FCFA'!W67/VLOOKUP(W$2,$BO$127:$BP$138,2,FALSE)","v":0},{"$f":"'Budget FCFA'!X67/VLOOKUP(X$2,$BO$127:$BP$138,2,FALSE)","v":0},{"$f":"'Budget FCFA'!Y67/VLOOKUP(Y$2,$BO$127:$BP$138,2,FALSE)","v":0},{"$f":"'Budget FCFA'!Z67/VLOOKUP(Z$2,$BO$127:$BP$138,2,FALSE)","v":0},{"$f":"'Budget FCFA'!AA67/VLOOKUP(AA$2,$BO$127:$BP$138,2,FALSE)","v":0},{"$f":"'Budget FCFA'!AB67/VLOOKUP(AB$2,$BO$127:$BP$138,2,FALSE)","v":0},{"$f":"'Budget FCFA'!AC67/VLOOKUP(AC$2,$BO$127:$BP$138,2,FALSE)","v":0},{"$f":"'Budget FCFA'!AD67/VLOOKUP(AD$2,$BO$127:$BP$138,2,FALSE)","v":0},{"$f":"'Budget FCFA'!AE67/VLOOKUP(AE$2,$BO$127:$BP$138,2,FALSE)","v":0},{"$f":"'Budget FCFA'!AF67/VLOOKUP(AF$2,$BO$127:$BP$138,2,FALSE)","v":0},{"$f":"'Budget FCFA'!AG67/VLOOKUP(AG$2,$BO$127:$BP$138,2,FALSE)","v":0},{"$f":"'Budget FCFA'!AH67/VLOOKUP(AH$2,$BO$127:$BP$138,2,FALSE)","v":0},{"$f":"'Budget FCFA'!AI67/VLOOKUP(AI$2,$BO$127:$BP$138,2,FALSE)","v":0},{"$f":"'Budget FCFA'!AJ67/VLOOKUP(AJ$2,$BO$127:$BP$138,2,FALSE)","v":0},{"$f":"'Budget FCFA'!AK67/VLOOKUP(AK$2,$BO$127:$BP$138,2,FALSE)","v":0},{"$f":"'Budget FCFA'!AL67/VLOOKUP(AL$2,$BO$127:$BP$138,2,FALSE)","v":0},{"$f":"'Budget FCFA'!AM67/VLOOKUP(AM$2,$BO$127:$BP$138,2,FALSE)","v":0},{"$f":"'Budget FCFA'!AN67/VLOOKUP(AN$2,$BO$127:$BP$138,2,FALSE)","v":0},{"$f":"'Budget FCFA'!AO67/VLOOKUP(AO$2,$BO$127:$BP$138,2,FALSE)","v":0},{"$f":"'Budget FCFA'!AP67/VLOOKUP(AP$2,$BO$127:$BP$138,2,FALSE)","v":0},{"$f":"'Budget FCFA'!#REF!/VLOOKUP(AQ$2,$BO$127:$BP$138,2,FALSE)","v":{"$error":"#REF!"}},{"$f":"'Budget FCFA'!#REF!/VLOOKUP(AR$2,$BO$127:$BP$138,2,FALSE)","v":{"$error":"#REF!"}},{"$f":"'Budget FCFA'!#REF!/VLOOKUP(AS$2,$BO$127:$BP$138,2,FALSE)","v":{"$error":"#REF!"}},{"$f":"'Budget FCFA'!#REF!/VLOOKUP(AT$2,$BO$127:$BP$138,2,FALSE)","v":{"$error":"#REF!"}},{"$f":"'Budget FCFA'!#REF!/VLOOKUP(AU$2,$BO$127:$BP$138,2,FALSE)","v":{"$error":"#REF!"}},{"$f":"'Budget FCFA'!#REF!/VLOOKUP(AV$2,$BO$127:$BP$138,2,FALSE)","v":{"$error":"#REF!"}},{"$f":"'Budget FCFA'!#REF!/VLOOKUP(AW$2,$BO$127:$BP$138,2,FALSE)","v":{"$error":"#REF!"}},{"$f":"'Budget FCFA'!#REF!/VLOOKUP(AX$2,$BO$127:$BP$138,2,FALSE)","v":{"$error":"#REF!"}},{"$f":"'Budget FCFA'!#REF!/VLOOKUP(AY$2,$BO$127:$BP$138,2,FALSE)","v":{"$error":"#REF!"}},{"$f":"'Budget FCFA'!#REF!/VLOOKUP(AZ$2,$BO$127:$BP$138,2,FALSE)","v":{"$error":"#REF!"}},{"$f":"'Budget FCFA'!#REF!/VLOOKUP(BA$2,$BO$127:$BP$138,2,FALSE)","v":{"$error":"#REF!"}},{"$f":"'Budget FCFA'!#REF!/VLOOKUP(BB$2,$BO$127:$BP$138,2,FALSE)","v":{"$error":"#REF!"}},{"$f":"'Budget FCFA'!#REF!/VLOOKUP(BC$2,$BO$127:$BP$138,2,FALSE)","v":{"$error":"#REF!"}},{"$f":"'Budget FCFA'!#REF!/VLOOKUP(BD$2,$BO$127:$BP$138,2,FALSE)","v":{"$error":"#REF!"}},{"$f":"'Budget FCFA'!#REF!/VLOOKUP(BE$2,$BO$127:$BP$138,2,FALSE)","v":{"$error":"#REF!"}},{"$f":"'Budget FCFA'!#REF!/VLOOKUP(BF$2,$BO$127:$BP$138,2,FALSE)","v":{"$error":"#REF!"}},{"$f":"'Budget FCFA'!#REF!/VLOOKUP(BG$2,$BO$127:$BP$138,2,FALSE)","v":{"$error":"#REF!"}},{"$f":"'Budget FCFA'!#REF!/VLOOKUP(BH$2,$BO$127:$BP$138,2,FALSE)","v":{"$error":"#REF!"}},{"$f":"'Budget FCFA'!#REF!/VLOOKUP(BI$2,$BO$127:$BP$138,2,FALSE)","v":{"$error":"#REF!"}},{"$f":"'Budget FCFA'!#REF!/VLOOKUP(BJ$2,$BO$127:$BP$138,2,FALSE)","v":{"$error":"#REF!"}},{"$error":"#REF!"},{"$f":"BK67-'Budget FCFA'!#REF!","v":{"$error":"#REF!"}}]
["PUBRADIO","DOUALA","Achat d'espace radio",{"$f":"'Budget FCFA'!D68/VLOOKUP(D$2,$BO$127:$BP$138,2,FALSE)","v":0},{"$f":"'Budget FCFA'!E68/VLOOKUP(E$2,$BO$127:$BP$138,2,FALSE)","v":0},{"$f":"'Budget FCFA'!F68/VLOOKUP(F$2,$BO$127:$BP$138,2,FALSE)","v":0},{"$f":"'Budget FCFA'!G68/VLOOKUP(G$2,$BO$127:$BP$138,2,FALSE)","v":0},{"$f":"'Budget FCFA'!H68/VLOOKUP(H$2,$BO$127:$BP$138,2,FALSE)","v":0},{"$f":"'Budget FCFA'!I68/VLOOKUP(I$2,$BO$127:$BP$138,2,FALSE)","v":0},{"$f":"'Budget FCFA'!J68/VLOOKUP(J$2,$BO$127:$BP$138,2,FALSE)","v":0},{"$f":"'Budget FCFA'!K68/VLOOKUP(K$2,$BO$127:$BP$138,2,FALSE)","v":0},{"$f":"'Budget FCFA'!L68/VLOOKUP(L$2,$BO$127:$BP$138,2,FALSE)","v":0},{"$f":"'Budget FCFA'!M68/VLOOKUP(M$2,$BO$127:$BP$138,2,FALSE)","v":0},{"$f":"'Budget FCFA'!N68/VLOOKUP(N$2,$BO$127:$BP$138,2,FALSE)","v":0},{"$f":"'Budget FCFA'!O68/VLOOKUP(O$2,$BO$127:$BP$138,2,FALSE)","v":0},{"$f":"'Budget FCFA'!P68/VLOOKUP(P$2,$BO$127:$BP$138,2,FALSE)","v":0},{"$f":"'Budget FCFA'!Q68/VLOOKUP(Q$2,$BO$127:$BP$138,2,FALSE)","v":0},{"$f":"'Budget FCFA'!R68/VLOOKUP(R$2,$BO$127:$BP$138,2,FALSE)","v":0},{"$f":"'Budget FCFA'!S68/VLOOKUP(S$2,$BO$127:$BP$138,2,FALSE)","v":0},{"$f":"'Budget FCFA'!T68/VLOOKUP(T$2,$BO$127:$BP$138,2,FALSE)","v":0},{"$f":"'Budget FCFA'!U68/VLOOKUP(U$2,$BO$127:$BP$138,2,FALSE)","v":0},{"$f":"'Budget FCFA'!V68/VLOOKUP(V$2,$BO$127:$BP$138,2,FALSE)","v":0},{"$f":"'Budget FCFA'!W68/VLOOKUP(W$2,$BO$127:$BP$138,2,FALSE)","v":0},{"$f":"'Budget FCFA'!X68/VLOOKUP(X$2,$BO$127:$BP$138,2,FALSE)","v":0},{"$f":"'Budget FCFA'!Y68/VLOOKUP(Y$2,$BO$127:$BP$138,2,FALSE)","v":0},{"$f":"'Budget FCFA'!Z68/VLOOKUP(Z$2,$BO$127:$BP$138,2,FALSE)","v":0},{"$f":"'Budget FCFA'!AA68/VLOOKUP(AA$2,$BO$127:$BP$138,2,FALSE)","v":0},{"$f":"'Budget FCFA'!AB68/VLOOKUP(AB$2,$BO$127:$BP$138,2,FALSE)","v":0},{"$f":"'Budget FCFA'!AC68/VLOOKUP(AC$2,$BO$127:$BP$138,2,FALSE)","v":0},{"$f":"'Budget FCFA'!AD68/VLOOKUP(AD$2,$BO$127:$BP$138,2,FALSE)","v":0},{"$f":"'Budget FCFA'!AE68/VLOOKUP(AE$2,$BO$127:$BP$138,2,FALSE)","v":0},{"$f":"'Budget FCFA'!AF68/VLOOKUP(AF$2,$BO$127:$BP$138,2,FALSE)","v":0},{"$f":"'Budget FCFA'!AG68/VLOOKUP(AG$2,$BO$127:$BP$138,2,FALSE)","v":731.75528273956979},{"$f":"'Budget FCFA'!AH68/VLOOKUP(AH$2,$BO$127:$BP$138,2,FALSE)","v":0},{"$f":"'Budget FCFA'!AI68/VLOOKUP(AI$2,$BO$127:$BP$138,2,FALSE)","v":0},{"$f":"'Budget FCFA'!AJ68/VLOOKUP(AJ$2,$BO$127:$BP$138,2,FALSE)","v":0},{"$f":"'Budget FCFA'!AK68/VLOOKUP(AK$2,$BO$127:$BP$138,2,FALSE)","v":0},{"$f":"'Budget FCFA'!AL68/VLOOKUP(AL$2,$BO$127:$BP$138,2,FALSE)","v":2103.7964378762631},{"$f":"'Budget FCFA'!AM68/VLOOKUP(AM$2,$BO$127:$BP$138,2,FALSE)","v":1372.0411551366935},{"$f":"'Budget FCFA'!AN68/VLOOKUP(AN$2,$BO$127:$BP$138,2,FALSE)","v":0},{"$f":"'Budget FCFA'!AO68/VLOOKUP(AO$2,$BO$127:$BP$138,2,FALSE)","v":0},{"$f":"'Budget FCFA'!AP68/VLOOKUP(AP$2,$BO$127:$BP$138,2,FALSE)","v":0},{"$f":"'Budget FCFA'!#REF!/VLOOKUP(AQ$2,$BO$127:$BP$138,2,FALSE)","v":{"$error":"#REF!"}},{"$f":"'Budget FCFA'!#REF!/VLOOKUP(AR$2,$BO$127:$BP$138,2,FALSE)","v":{"$error":"#REF!"}},{"$f":"'Budget FCFA'!#REF!/VLOOKUP(AS$2,$BO$127:$BP$138,2,FALSE)","v":{"$error":"#REF!"}},{"$f":"'Budget FCFA'!#REF!/VLOOKUP(AT$2,$BO$127:$BP$138,2,FALSE)","v":{"$error":"#REF!"}},{"$f":"'Budget FCFA'!#REF!/VLOOKUP(AU$2,$BO$127:$BP$138,2,FALSE)","v":{"$error":"#REF!"}},{"$f":"'Budget FCFA'!#REF!/VLOOKUP(AV$2,$BO$127:$BP$138,2,FALSE)","v":{"$error":"#REF!"}},{"$f":"'Budget FCFA'!#REF!/VLOOKUP(AW$2,$BO$127:$BP$138,2,FALSE)","v":{"$error":"#REF!"}},{"$f":"'Budget FCFA'!#REF!/VLOOKUP(AX$2,$BO$127:$BP$138,2,FALSE)","v":{"$error":"#REF!"}},{"$f":"'Budget FCFA'!#REF!/VLOOKUP(AY$2,$BO$127:$BP$138,2,FALSE)","v":{"$error":"#REF!"}},{"$f":"'Budget FCFA'!#REF!/VLOOKUP(AZ$2,$BO$127:$BP$138,2,FALSE)","v":{"$error":"#REF!"}},{"$f":"'Budget FCFA'!#REF!/VLOOKUP(BA$2,$BO$127:$BP$138,2,FALSE)","v":{"$error":"#REF!"}},{"$f":"'Budget FCFA'!#REF!/VLOOKUP(BB$2,$BO$127:$BP$138,2,FALSE)","v":{"$error":"#REF!"}},{"$f":"'Budget FCFA'!#REF!/VLOOKUP(BC$2,$BO$127:$BP$138,2,FALSE)","v":{"$error":"#REF!"}},{"$f":"'Budget FCFA'!#REF!/VLOOKUP(BD$2,$BO$127:$BP$138,2,FALSE)","v":{"$error":"#REF!"}},{"$f":"'Budget FCFA'!#REF!/VLOOKUP(BE$2,$BO$127:$BP$138,2,FALSE)","v":{"$error":"#REF!"}},{"$f":"'Budget FCFA'!#REF!/VLOOKUP(BF$2,$BO$127:$BP$138,2,FALSE)","v":{"$error":"#REF!"}},{"$f":"'Budget FCFA'!#REF!/VLOOKUP(BG$2,$BO$127:$BP$138,2,FALSE)","v":{"$error":"#REF!"}},{"$f":"'Budget FCFA'!#REF!/VLOOKUP(BH$2,$BO$127:$BP$138,2,FALSE)","v":{"$error":"#REF!"}},{"$f":"'Budget FCFA'!#REF!/VLOOKUP(BI$2,$BO$127:$BP$138,2,FALSE)","v":{"$error":"#REF!"}},{"$f":"'Budget FCFA'!#REF!/VLOOKUP(BJ$2,$BO$127:$BP$138,2,FALSE)","v":{"$error":"#REF!"}},{"$error":"#REF!"},{"$f":"BK68-'Budget FCFA'!#REF!","v":{"$error":"#REF!"}}]
["PUBRADIO","ABIDJAN","Création spot radio + Validation CSP ",{"$f":"'Budget FCFA'!D69/VLOOKUP(D$2,$BO$127:$BP$138,2,FALSE)","v":0},{"$f":"'Budget FCFA'!E69/VLOOKUP(E$2,$BO$127:$BP$138,2,FALSE)","v":0},{"$f":"'Budget FCFA'!F69/VLOOKUP(F$2,$BO$127:$BP$138,2,FALSE)","v":0},{"$f":"'Budget FCFA'!G69/VLOOKUP(G$2,$BO$127:$BP$138,2,FALSE)","v":0},{"$f":"'Budget FCFA'!H69/VLOOKUP(H$2,$BO$127:$BP$138,2,FALSE)","v":0},{"$f":"'Budget FCFA'!I69/VLOOKUP(I$2,$BO$127:$BP$138,2,FALSE)","v":0},{"$f":"'Budget FCFA'!J69/VLOOKUP(J$2,$BO$127:$BP$138,2,FALSE)","v":0},{"$f":"'Budget FCFA'!K69/VLOOKUP(K$2,$BO$127:$BP$138,2,FALSE)","v":0},{"$f":"'Budget FCFA'!L69/VLOOKUP(L$2,$BO$127:$BP$138,2,FALSE)","v":0},{"$f":"'Budget FCFA'!M69/VLOOKUP(M$2,$BO$127:$BP$138,2,FALSE)","v":0},{"$f":"'Budget FCFA'!N69/VLOOKUP(N$2,$BO$127:$BP$138,2,FALSE)","v":0},{"$f":"'Budget FCFA'!O69/VLOOKUP(O$2,$BO$127:$BP$138,2,FALSE)","v":0},{"$f":"'Budget FCFA'!P69/VLOOKUP(P$2,$BO$127:$BP$138,2,FALSE)","v":0},{"$f":"'Budget FCFA'!Q69/VLOOKUP(Q$2,$BO$127:$BP$138,2,FALSE)","v":0},{"$f":"'Budget FCFA'!R69/VLOOKUP(R$2,$BO$127:$BP$138,2,FALSE)","v":0},{"$f":"'Budget FCFA'!S69/VLOOKUP(S$2,$BO$127:$BP$138,2,FALSE)","v":0},{"$f":"'Budget FCFA'!T69/VLOOKUP(T$2,$BO$127:$BP$138,2,FALSE)","v":0},{"$f":"'Budget FCFA'!U69/VLOOKUP(U$2,$BO$127:$BP$138,2,FALSE)","v":0},{"$f":"'Budget FCFA'!V69/VLOOKUP(V$2,$BO$127:$BP$138,2,FALSE)","v":0},{"$f":"'Budget FCFA'!W69/VLOOKUP(W$2,$BO$127:$BP$138,2,FALSE)","v":0},{"$f":"'Budget FCFA'!X69/VLOOKUP(X$2,$BO$127:$BP$138,2,FALSE)","v":0},{"$f":"'Budget FCFA'!Y69/VLOOKUP(Y$2,$BO$127:$BP$138,2,FALSE)","v":0},{"$f":"'Budget FCFA'!Z69/VLOOKUP(Z$2,$BO$127:$BP$138,2,FALSE)","v":0},{"$f":"'Budget FCFA'!AA69/VLOOKUP(AA$2,$BO$127:$BP$138,2,FALSE)","v":0},{"$f":"'Budget FCFA'!AB69/VLOOKUP(AB$2,$BO$127:$BP$138,2,FALSE)","v":0},{"$f":"'Budget FCFA'!AC69/VLOOKUP(AC$2,$BO$127:$BP$138,2,FALSE)","v":0},{"$f":"'Budget FCFA'!AD69/VLOOKUP(AD$2,$BO$127:$BP$138,2,FALSE)","v":0},{"$f":"'Budget FCFA'!AE69/VLOOKUP(AE$2,$BO$127:$BP$138,2,FALSE)","v":0},{"$f":"'Budget FCFA'!AF69/VLOOKUP(AF$2,$BO$127:$BP$138,2,FALSE)","v":0},{"$f":"'Budget FCFA'!AG69/VLOOKUP(AG$2,$BO$127:$BP$138,2,FALSE)","v":0},{"$f":"'Budget FCFA'!AH69/VLOOKUP(AH$2,$BO$127:$BP$138,2,FALSE)","v":0},{"$f":"'Budget FCFA'!AI69/VLOOKUP(AI$2,$BO$127:$BP$138,2,FALSE)","v":0},{"$f":"'Budget FCFA'!AJ69/VLOOKUP(AJ$2,$BO$127:$BP$138,2,FALSE)","v":0},{"$f":"'Budget FCFA'!AK69/VLOOKUP(AK$2,$BO$127:$BP$138,2,FALSE)","v":0},{"$f":"'Budget FCFA'!AL69/VLOOKUP(AL$2,$BO$127:$BP$138,2,FALSE)","v":0},{"$f":"'Budget FCFA'!AM69/VLOOKUP(AM$2,$BO$127:$BP$138,2,FALSE)","v":0},{"$f":"'Budget FCFA'!AN69/VLOOKUP(AN$2,$BO$127:$BP$138,2,FALSE)","v":0},{"$f":"'Budget FCFA'!AO69/VLOOKUP(AO$2,$BO$127:$BP$138,2,FALSE)","v":0},{"$f":"'Budget FCFA'!AP69/VLOOKUP(AP$2,$BO$127:$BP$138,2,FALSE)","v":0},{"$f":"'Budget FCFA'!#REF!/VLOOKUP(AQ$2,$BO$127:$BP$138,2,FALSE)","v":{"$error":"#REF!"}},{"$f":"'Budget FCFA'!#REF!/VLOOKUP(AR$2,$BO$127:$BP$138,2,FALSE)","v":{"$error":"#REF!"}},{"$f":"'Budget FCFA'!#REF!/VLOOKUP(AS$2,$BO$127:$BP$138,2,FALSE)","v":{"$error":"#REF!"}},{"$f":"'Budget FCFA'!#REF!/VLOOKUP(AT$2,$BO$127:$BP$138,2,FALSE)","v":{"$error":"#REF!"}},{"$f":"'Budget FCFA'!#REF!/VLOOKUP(AU$2,$BO$127:$BP$138,2,FALSE)","v":{"$error":"#REF!"}},{"$f":"'Budget FCFA'!#REF!/VLOOKUP(AV$2,$BO$127:$BP$138,2,FALSE)","v":{"$error":"#REF!"}},{"$f":"'Budget FCFA'!#REF!/VLOOKUP(AW$2,$BO$127:$BP$138,2,FALSE)","v":{"$error":"#REF!"}},{"$f":"'Budget FCFA'!#REF!/VLOOKUP(AX$2,$BO$127:$BP$138,2,FALSE)","v":{"$error":"#REF!"}},{"$f":"'Budget FCFA'!#REF!/VLOOKUP(AY$2,$BO$127:$BP$138,2,FALSE)","v":{"$error":"#REF!"}},{"$f":"'Budget FCFA'!#REF!/VLOOKUP(AZ$2,$BO$127:$BP$138,2,FALSE)","v":{"$error":"#REF!"}},{"$f":"'Budget FCFA'!#REF!/VLOOKUP(BA$2,$BO$127:$BP$138,2,FALSE)","v":{"$error":"#REF!"}},{"$f":"'Budget FCFA'!#REF!/VLOOKUP(BB$2,$BO$127:$BP$138,2,FALSE)","v":{"$error":"#REF!"}},{"$f":"'Budget FCFA'!#REF!/VLOOKUP(BC$2,$BO$127:$BP$138,2,FALSE)","v":{"$error":"#REF!"}},{"$f":"'Budget FCFA'!#REF!/VLOOKUP(BD$2,$BO$127:$BP$138,2,FALSE)","v":{"$error":"#REF!"}},{"$f":"'Budget FCFA'!#REF!/VLOOKUP(BE$2,$BO$127:$BP$138,2,FALSE)","v":{"$error":"#REF!"}},{"$f":"'Budget FCFA'!#REF!/VLOOKUP(BF$2,$BO$127:$BP$138,2,FALSE)","v":{"$error":"#REF!"}},{"$f":"'Budget FCFA'!#REF!/VLOOKUP(BG$2,$BO$127:$BP$138,2,FALSE)","v":{"$error":"#REF!"}},{"$f":"'Budget FCFA'!#REF!/VLOOKUP(BH$2,$BO$127:$BP$138,2,FALSE)","v":{"$error":"#REF!"}},{"$f":"'Budget FCFA'!#REF!/VLOOKUP(BI$2,$BO$127:$BP$138,2,FALSE)","v":{"$error":"#REF!"}},{"$f":"'Budget FCFA'!#REF!/VLOOKUP(BJ$2,$BO$127:$BP$138,2,FALSE)","v":{"$error":"#REF!"}},{"$error":"#REF!"},{"$f":"BK69-'Budget FCFA'!#REF!","v":{"$error":"#REF!"}}]
["PUBRADIO","BRAZZA","Création spot radio + Validation CSP ",{"$f":"'Budget FCFA'!D70/VLOOKUP(D$2,$BO$127:$BP$138,2,FALSE)","v":0},{"$f":"'Budget FCFA'!E70/VLOOKUP(E$2,$BO$127:$BP$138,2,FALSE)","v":0},{"$f":"'Budget FCFA'!F70/VLOOKUP(F$2,$BO$127:$BP$138,2,FALSE)","v":0},{"$f":"'Budget FCFA'!G70/VLOOKUP(G$2,$BO$127:$BP$138,2,FALSE)","v":0},{"$f":"'Budget FCFA'!H70/VLOOKUP(H$2,$BO$127:$BP$138,2,FALSE)","v":0},{"$f":"'Budget FCFA'!I70/VLOOKUP(I$2,$BO$127:$BP$138,2,FALSE)","v":0},{"$f":"'Budget FCFA'!J70/VLOOKUP(J$2,$BO$127:$BP$138,2,FALSE)","v":0},{"$f":"'Budget FCFA'!K70/VLOOKUP(K$2,$BO$127:$BP$138,2,FALSE)","v":0},{"$f":"'Budget FCFA'!L70/VLOOKUP(L$2,$BO$127:$BP$138,2,FALSE)","v":0},{"$f":"'Budget FCFA'!M70/VLOOKUP(M$2,$BO$127:$BP$138,2,FALSE)","v":0},{"$f":"'Budget FCFA'!N70/VLOOKUP(N$2,$BO$127:$BP$138,2,FALSE)","v":0},{"$f":"'Budget FCFA'!O70/VLOOKUP(O$2,$BO$127:$BP$138,2,FALSE)","v":0},{"$f":"'Budget FCFA'!P70/VLOOKUP(P$2,$BO$127:$BP$138,2,FALSE)","v":0},{"$f":"'Budget FCFA'!Q70/VLOOKUP(Q$2,$BO$127:$BP$138,2,FALSE)","v":0},{"$f":"'Budget FCFA'!R70/VLOOKUP(R$2,$BO$127:$BP$138,2,FALSE)","v":0},{"$f":"'Budget FCFA'!S70/VLOOKUP(S$2,$BO$127:$BP$138,2,FALSE)","v":0},{"$f":"'Budget FCFA'!T70/VLOOKUP(T$2,$BO$127:$BP$138,2,FALSE)","v":0},{"$f":"'Budget FCFA'!U70/VLOOKUP(U$2,$BO$127:$BP$138,2,FALSE)","v":0},{"$f":"'Budget FCFA'!V70/VLOOKUP(V$2,$BO$127:$BP$138,2,FALSE)","v":0},{"$f":"'Budget FCFA'!W70/VLOOKUP(W$2,$BO$127:$BP$138,2,FALSE)","v":0},{"$f":"'Budget FCFA'!X70/VLOOKUP(X$2,$BO$127:$BP$138,2,FALSE)","v":0},{"$f":"'Budget FCFA'!Y70/VLOOKUP(Y$2,$BO$127:$BP$138,2,FALSE)","v":0},{"$f":"'Budget FCFA'!Z70/VLOOKUP(Z$2,$BO$127:$BP$138,2,FALSE)","v":0},{"$f":"'Budget FCFA'!AA70/VLOOKUP(AA$2,$BO$127:$BP$138,2,FALSE)","v":0},{"$f":"'Budget FCFA'!AB70/VLOOKUP(AB$2,$BO$127:$BP$138,2,FALSE)","v":0},{"$f":"'Budget FCFA'!AC70/VLOOKUP(AC$2,$BO$127:$BP$138,2,FALSE)","v":0},{"$f":"'Budget FCFA'!AD70/VLOOKUP(AD$2,$BO$127:$BP$138,2,FALSE)","v":0},{"$f":"'Budget FCFA'!AE70/VLOOKUP(AE$2,$BO$127:$BP$138,2,FALSE)","v":0},{"$f":"'Budget FCFA'!AF70/VLOOKUP(AF$2,$BO$127:$BP$138,2,FALSE)","v":0},{"$f":"'Budget FCFA'!AG70/VLOOKUP(AG$2,$BO$127:$BP$138,2,FALSE)","v":0},{"$f":"'Budget FCFA'!AH70/VLOOKUP(AH$2,$BO$127:$BP$138,2,FALSE)","v":0},{"$f":"'Budget FCFA'!AI70/VLOOKUP(AI$2,$BO$127:$BP$138,2,FALSE)","v":0},{"$f":"'Budget FCFA'!AJ70/VLOOKUP(AJ$2,$BO$127:$BP$138,2,FALSE)","v":0},{"$f":"'Budget FCFA'!AK70/VLOOKUP(AK$2,$BO$127:$BP$138,2,FALSE)","v":0},{"$f":"'Budget FCFA'!AL70/VLOOKUP(AL$2,$BO$127:$BP$138,2,FALSE)","v":0},{"$f":"'Budget FCFA'!AM70/VLOOKUP(AM$2,$BO$127:$BP$138,2,FALSE)","v":0},{"$f":"'Budget FCFA'!AN70/VLOOKUP(AN$2,$BO$127:$BP$138,2,FALSE)","v":0},{"$f":"'Budget FCFA'!AO70/VLOOKUP(AO$2,$BO$127:$BP$138,2,FALSE)","v":0},{"$f":"'Budget FCFA'!AP70/VLOOKUP(AP$2,$BO$127:$BP$138,2,FALSE)","v":0},{"$f":"'Budget FCFA'!#REF!/VLOOKUP(AQ$2,$BO$127:$BP$138,2,FALSE)","v":{"$error":"#REF!"}},{"$f":"'Budget FCFA'!#REF!/VLOOKUP(AR$2,$BO$127:$BP$138,2,FALSE)","v":{"$error":"#REF!"}},{"$f":"'Budget FCFA'!#REF!/VLOOKUP(AS$2,$BO$127:$BP$138,2,FALSE)","v":{"$error":"#REF!"}},{"$f":"'Budget FCFA'!#REF!/VLOOKUP(AT$2,$BO$127:$BP$138,2,FALSE)","v":{"$error":"#REF!"}},{"$f":"'Budget FCFA'!#REF!/VLOOKUP(AU$2,$BO$127:$BP$138,2,FALSE)","v":{"$error":"#REF!"}},{"$f":"'Budget FCFA'!#REF!/VLOOKUP(AV$2,$BO$127:$BP$138,2,FALSE)","v":{"$error":"#REF!"}},{"$f":"'Budget FCFA'!#REF!/VLOOKUP(AW$2,$BO$127:$BP$138,2,FALSE)","v":{"$error":"#REF!"}},{"$f":"'Budget FCFA'!#REF!/VLOOKUP(AX$2,$BO$127:$BP$138,2,FALSE)","v":{"$error":"#REF!"}},{"$f":"'Budget FCFA'!#REF!/VLOOKUP(AY$2,$BO$127:$BP$138,2,FALSE)","v":{"$error":"#REF!"}},{"$f":"'Budget FCFA'!#REF!/VLOOKUP(AZ$2,$BO$127:$BP$138,2,FALSE)","v":{"$error":"#REF!"}},{"$f":"'Budget FCFA'!#REF!/VLOOKUP(BA$2,$BO$127:$BP$138,2,FALSE)","v":{"$error":"#REF!"}},{"$f":"'Budget FCFA'!#REF!/VLOOKUP(BB$2,$BO$127:$BP$138,2,FALSE)","v":{"$error":"#REF!"}},{"$f":"'Budget FCFA'!#REF!/VLOOKUP(BC$2,$BO$127:$BP$138,2,FALSE)","v":{"$error":"#REF!"}},{"$f":"'Budget FCFA'!#REF!/VLOOKUP(BD$2,$BO$127:$BP$138,2,FALSE)","v":{"$error":"#REF!"}},{"$f":"'Budget FCFA'!#REF!/VLOOKUP(BE$2,$BO$127:$BP$138,2,FALSE)","v":{"$error":"#REF!"}},{"$f":"'Budget FCFA'!#REF!/VLOOKUP(BF$2,$BO$127:$BP$138,2,FALSE)","v":{"$error":"#REF!"}},{"$f":"'Budget FCFA'!#REF!/VLOOKUP(BG$2,$BO$127:$BP$138,2,FALSE)","v":{"$error":"#REF!"}},{"$f":"'Budget FCFA'!#REF!/VLOOKUP(BH$2,$BO$127:$BP$138,2,FALSE)","v":{"$error":"#REF!"}},{"$f":"'Budget FCFA'!#REF!/VLOOKUP(BI$2,$BO$127:$BP$138,2,FALSE)","v":{"$error":"#REF!"}},{"$f":"'Budget FCFA'!#REF!/VLOOKUP(BJ$2,$BO$127:$BP$138,2,FALSE)","v":{"$error":"#REF!"}},{"$f":"SUM(D70:BJ70)","v":{"$error":"#REF!"}},{"$f":"BK70-'Budget FCFA'!#REF!","v":{"$error":"#REF!"}}]
["PUBRADIO","DAKAR","Création spot radio + Validation CSP ",{"$f":"'Budget FCFA'!D71/VLOOKUP(D$2,$BO$127:$BP$138,2,FALSE)","v":0},{"$f":"'Budget FCFA'!E71/VLOOKUP(E$2,$BO$127:$BP$138,2,FALSE)","v":0},{"$f":"'Budget FCFA'!F71/VLOOKUP(F$2,$BO$127:$BP$138,2,FALSE)","v":0},{"$f":"'Budget FCFA'!G71/VLOOKUP(G$2,$BO$127:$BP$138,2,FALSE)","v":0},{"$f":"'Budget FCFA'!H71/VLOOKUP(H$2,$BO$127:$BP$138,2,FALSE)","v":0},{"$f":"'Budget FCFA'!I71/VLOOKUP(I$2,$BO$127:$BP$138,2,FALSE)","v":0},{"$f":"'Budget FCFA'!J71/VLOOKUP(J$2,$BO$127:$BP$138,2,FALSE)","v":0},{"$f":"'Budget FCFA'!K71/VLOOKUP(K$2,$BO$127:$BP$138,2,FALSE)","v":0},{"$f":"'Budget FCFA'!L71/VLOOKUP(L$2,$BO$127:$BP$138,2,FALSE)","v":0},{"$f":"'Budget FCFA'!M71/VLOOKUP(M$2,$BO$127:$BP$138,2,FALSE)","v":0},{"$f":"'Budget FCFA'!N71/VLOOKUP(N$2,$BO$127:$BP$138,2,FALSE)","v":0},{"$f":"'Budget FCFA'!O71/VLOOKUP(O$2,$BO$127:$BP$138,2,FALSE)","v":0},{"$f":"'Budget FCFA'!P71/VLOOKUP(P$2,$BO$127:$BP$138,2,FALSE)","v":876.58184911510966},{"$f":"'Budget FCFA'!Q71/VLOOKUP(Q$2,$BO$127:$BP$138,2,FALSE)","v":0},{"$f":"'Budget FCFA'!R71/VLOOKUP(R$2,$BO$127:$BP$138,2,FALSE)","v":0},{"$f":"'Budget FCFA'!S71/VLOOKUP(S$2,$BO$127:$BP$138,2,FALSE)","v":0},{"$f":"'Budget FCFA'!T71/VLOOKUP(T$2,$BO$127:$BP$138,2,FALSE)","v":0},{"$f":"'Budget FCFA'!U71/VLOOKUP(U$2,$BO$127:$BP$138,2,FALSE)","v":0},{"$f":"'Budget FCFA'!V71/VLOOKUP(V$2,$BO$127:$BP$138,2,FALSE)","v":0},{"$f":"'Budget FCFA'!W71/VLOOKUP(W$2,$BO$127:$BP$138,2,FALSE)","v":0},{"$f":"'Budget FCFA'!X71/VLOOKUP(X$2,$BO$127:$BP$138,2,FALSE)","v":0},{"$f":"'Budget FCFA'!Y71/VLOOKUP(Y$2,$BO$127:$BP$138,2,FALSE)","v":0},{"$f":"'Budget FCFA'!Z71/VLOOKUP(Z$2,$BO$127:$BP$138,2,FALSE)","v":0},{"$f":"'Budget FCFA'!AA71/VLOOKUP(AA$2,$BO$127:$BP$138,2,FALSE)","v":0},{"$f":"'Budget FCFA'!AB71/VLOOKUP(AB$2,$BO$127:$BP$138,2,FALSE)","v":0},{"$f":"'Budget FCFA'!AC71/VLOOKUP(AC$2,$BO$127:$BP$138,2,FALSE)","v":0},{"$f":"'Budget FCFA'!AD71/VLOOKUP(AD$2,$BO$127:$BP$138,2,FALSE)","v":0},{"$f":"'Budget FCFA'!AE71/VLOOKUP(AE$2,$BO$127:$BP$138,2,FALSE)","v":0},{"$f":"'Budget FCFA'!AF71/VLOOKUP(AF$2,$BO$127:$BP$138,2,FALSE)","v":0},{"$f":"'Budget FCFA'!AG71/VLOOKUP(AG$2,$BO$127:$BP$138,2,FALSE)","v":0},{"$f":"'Budget FCFA'!AH71/VLOOKUP(AH$2,$BO$127:$BP$138,2,FALSE)","v":0},{"$f":"'Budget FCFA'!AI71/VLOOKUP(AI$2,$BO$127:$BP$138,2,FALSE)","v":0},{"$f":"'Budget FCFA'!AJ71/VLOOKUP(AJ$2,$BO$127:$BP$138,2,FALSE)","v":0},{"$f":"'Budget FCFA'!AK71/VLOOKUP(AK$2,$BO$127:$BP$138,2,FALSE)","v":0},{"$f":"'Budget FCFA'!AL71/VLOOKUP(AL$2,$BO$127:$BP$138,2,FALSE)","v":0},{"$f":"'Budget FCFA'!AM71/VLOOKUP(AM$2,$BO$127:$BP$138,2,FALSE)","v":437.52867947136781},{"$f":"'Budget FCFA'!AN71/VLOOKUP(AN$2,$BO$127:$BP$138,2,FALSE)","v":0},{"$f":"'Budget FCFA'!AO71/VLOOKUP(AO$2,$BO$127:$BP$138,2,FALSE)","v":0},{"$f":"'Budget FCFA'!AP71/VLOOKUP(AP$2,$BO$127:$BP$138,2,FALSE)","v":0},{"$f":"'Budget FCFA'!#REF!/VLOOKUP(AQ$2,$BO$127:$BP$138,2,FALSE)","v":{"$error":"#REF!"}},{"$f":"'Budget FCFA'!#REF!/VLOOKUP(AR$2,$BO$127:$BP$138,2,FALSE)","v":{"$error":"#REF!"}},{"$f":"'Budget FCFA'!#REF!/VLOOKUP(AS$2,$BO$127:$BP$138,2,FALSE)","v":{"$error":"#REF!"}},{"$f":"'Budget FCFA'!#REF!/VLOOKUP(AT$2,$BO$127:$BP$138,2,FALSE)","v":{"$error":"#REF!"}},{"$f":"'Budget FCFA'!#REF!/VLOOKUP(AU$2,$BO$127:$BP$138,2,FALSE)","v":{"$error":"#REF!"}},{"$f":"'Budget FCFA'!#REF!/VLOOKUP(AV$2,$BO$127:$BP$138,2,FALSE)","v":{"$error":"#REF!"}},{"$f":"'Budget FCFA'!#REF!/VLOOKUP(AW$2,$BO$127:$BP$138,2,FALSE)","v":{"$error":"#REF!"}},{"$f":"'Budget FCFA'!#REF!/VLOOKUP(AX$2,$BO$127:$BP$138,2,FALSE)","v":{"$error":"#REF!"}},{"$f":"'Budget FCFA'!#REF!/VLOOKUP(AY$2,$BO$127:$BP$138,2,FALSE)","v":{"$error":"#REF!"}},{"$f":"'Budget FCFA'!#REF!/VLOOKUP(AZ$2,$BO$127:$BP$138,2,FALSE)","v":{"$error":"#REF!"}},{"$f":"'Budget FCFA'!#REF!/VLOOKUP(BA$2,$BO$127:$BP$138,2,FALSE)","v":{"$error":"#REF!"}},{"$f":"'Budget FCFA'!#REF!/VLOOKUP(BB$2,$BO$127:$BP$138,2,FALSE)","v":{"$error":"#REF!"}},{"$f":"'Budget FCFA'!#REF!/VLOOKUP(BC$2,$BO$127:$BP$138,2,FALSE)","v":{"$error":"#REF!"}},{"$f":"'Budget FCFA'!#REF!/VLOOKUP(BD$2,$BO$127:$BP$138,2,FALSE)","v":{"$error":"#REF!"}},{"$f":"'Budget FCFA'!#REF!/VLOOKUP(BE$2,$BO$127:$BP$138,2,FALSE)","v":{"$error":"#REF!"}},{"$f":"'Budget FCFA'!#REF!/VLOOKUP(BF$2,$BO$127:$BP$138,2,FALSE)","v":{"$error":"#REF!"}},{"$f":"'Budget FCFA'!#REF!/VLOOKUP(BG$2,$BO$127:$BP$138,2,FALSE)","v":{"$error":"#REF!"}},{"$f":"'Budget FCFA'!#REF!/VLOOKUP(BH$2,$BO$127:$BP$138,2,FALSE)","v":{"$error":"#REF!"}},{"$f":"'Budget FCFA'!#REF!/VLOOKUP(BI$2,$BO$127:$BP$138,2,FALSE)","v":{"$error":"#REF!"}},{"$f":"'Budget FCFA'!#REF!/VLOOKUP(BJ$2,$BO$127:$BP$138,2,FALSE)","v":{"$error":"#REF!"}},{"$error":"#REF!"},{"$f":"BK71-'Budget FCFA'!#REF!","v":{"$error":"#REF!"}}]
["PUBRADIO","LIBREVILLE","Création spot radio + Validation CSP ",{"$f":"'Budget FCFA'!D72/VLOOKUP(D$2,$BO$127:$BP$138,2,FALSE)","v":0},{"$f":"'Budget FCFA'!E72/VLOOKUP(E$2,$BO$127:$BP$138,2,FALSE)","v":0},{"$f":"'Budget FCFA'!F72/VLOOKUP(F$2,$BO$127:$BP$138,2,FALSE)","v":0},{"$f":"'Budget FCFA'!G72/VLOOKUP(G$2,$BO$127:$BP$138,2,FALSE)","v":0},{"$f":"'Budget FCFA'!H72/VLOOKUP(H$2,$BO$127:$BP$138,2,FALSE)","v":0},{"$f":"'Budget FCFA'!I72/VLOOKUP(I$2,$BO$127:$BP$138,2,FALSE)","v":0},{"$f":"'Budget FCFA'!J72/VLOOKUP(J$2,$BO$127:$BP$138,2,FALSE)","v":0},{"$f":"'Budget FCFA'!K72/VLOOKUP(K$2,$BO$127:$BP$138,2,FALSE)","v":0},{"$f":"'Budget FCFA'!L72/VLOOKUP(L$2,$BO$127:$BP$138,2,FALSE)","v":0},{"$f":"'Budget FCFA'!M72/VLOOKUP(M$2,$BO$127:$BP$138,2,FALSE)","v":0},{"$f":"'Budget FCFA'!N72/VLOOKUP(N$2,$BO$127:$BP$138,2,FALSE)","v":0},{"$f":"'Budget FCFA'!O72/VLOOKUP(O$2,$BO$127:$BP$138,2,FALSE)","v":0},{"$f":"'Budget FCFA'!P72/VLOOKUP(P$2,$BO$127:$BP$138,2,FALSE)","v":0},{"$f":"'Budget FCFA'!Q72/VLOOKUP(Q$2,$BO$127:$BP$138,2,FALSE)","v":0},{"$f":"'Budget FCFA'!R72/VLOOKUP(R$2,$BO$127:$BP$138,2,FALSE)","v":0},{"$f":"'Budget FCFA'!S72/VLOOKUP(S$2,$BO$127:$BP$138,2,FALSE)","v":0},{"$f":"'Budget FCFA'!T72/VLOOKUP(T$2,$BO$127:$BP$138,2,FALSE)","v":0},{"$f":"'Budget FCFA'!U72/VLOOKUP(U$2,$BO$127:$BP$138,2,FALSE)","v":0},{"$f":"'Budget FCFA'!V72/VLOOKUP(V$2,$BO$127:$BP$138,2,FALSE)","v":0},{"$f":"'Budget FCFA'!W72/VLOOKUP(W$2,$BO$127:$BP$138,2,FALSE)","v":0},{"$f":"'Budget FCFA'!X72/VLOOKUP(X$2,$BO$127:$BP$138,2,FALSE)","v":0},{"$f":"'Budget FCFA'!Y72/VLOOKUP(Y$2,$BO$127:$BP$138,2,FALSE)","v":0},{"$f":"'Budget FCFA'!Z72/VLOOKUP(Z$2,$BO$127:$BP$138,2,FALSE)","v":0},{"$f":"'Budget FCFA'!AA72/VLOOKUP(AA$2,$BO$127:$BP$138,2,FALSE)","v":0},{"$f":"'Budget FCFA'!AB72/VLOOKUP(AB$2,$BO$127:$BP$138,2,FALSE)","v":0},{"$f":"'Budget FCFA'!AC72/VLOOKUP(AC$2,$BO$127:$BP$138,2,FALSE)","v":0},{"$f":"'Budget FCFA'!AD72/VLOOKUP(AD$2,$BO$127:$BP$138,2,FALSE)","v":0},{"$f":"'Budget FCFA'!AE72/VLOOKUP(AE$2,$BO$127:$BP$138,2,FALSE)","v":0},{"$f":"'Budget FCFA'!AF72/VLOOKUP(AF$2,$BO$127:$BP$138,2,FALSE)","v":0},{"$f":"'Budget FCFA'!AG72/VLOOKUP(AG$2,$BO$127:$BP$138,2,FALSE)","v":0},{"$f":"'Budget FCFA'!AH72/VLOOKUP(AH$2,$BO$127:$BP$138,2,FALSE)","v":0},{"$f":"'Budget FCFA'!AI72/VLOOKUP(AI$2,$BO$127:$BP$138,2,FALSE)","v":0},{"$f":"'Budget FCFA'!AJ72/VLOOKUP(AJ$2,$BO$127:$BP$138,2,FALSE)","v":0},{"$f":"'Budget FCFA'!AK72/VLOOKUP(AK$2,$BO$127:$BP$138,2,FALSE)","v":0},{"$f":"'Budget FCFA'!AL72/VLOOKUP(AL$2,$BO$127:$BP$138,2,FALSE)","v":0},{"$f":"'Budget FCFA'!AM72/VLOOKUP(AM$2,$BO$127:$BP$138,2,FALSE)","v":0},{"$f":"'Budget FCFA'!AN72/VLOOKUP(AN$2,$BO$127:$BP$138,2,FALSE)","v":0},{"$f":"'Budget FCFA'!AO72/VLOOKUP(AO$2,$BO$127:$BP$138,2,FALSE)","v":0},{"$f":"'Budget FCFA'!AP72/VLOOKUP(AP$2,$BO$127:$BP$138,2,FALSE)","v":0},{"$f":"'Budget FCFA'!#REF!/VLOOKUP(AQ$2,$BO$127:$BP$138,2,FALSE)","v":{"$error":"#REF!"}},{"$f":"'Budget FCFA'!#REF!/VLOOKUP(AR$2,$BO$127:$BP$138,2,FALSE)","v":{"$error":"#REF!"}},{"$f":"'Budget FCFA'!#REF!/VLOOKUP(AS$2,$BO$127:$BP$138,2,FALSE)","v":{"$error":"#REF!"}},{"$f":"'Budget FCFA'!#REF!/VLOOKUP(AT$2,$BO$127:$BP$138,2,FALSE)","v":{"$error":"#REF!"}},{"$f":"'Budget FCFA'!#REF!/VLOOKUP(AU$2,$BO$127:$BP$138,2,FALSE)","v":{"$error":"#REF!"}},{"$f":"'Budget FCFA'!#REF!/VLOOKUP(AV$2,$BO$127:$BP$138,2,FALSE)","v":{"$error":"#REF!"}},{"$f":"'Budget FCFA'!#REF!/VLOOKUP(AW$2,$BO$127:$BP$138,2,FALSE)","v":{"$error":"#REF!"}},{"$f":"'Budget FCFA'!#REF!/VLOOKUP(AX$2,$BO$127:$BP$138,2,FALSE)","v":{"$error":"#REF!"}},{"$f":"'Budget FCFA'!#REF!/VLOOKUP(AY$2,$BO$127:$BP$138,2,FALSE)","v":{"$error":"#REF!"}},{"$f":"'Budget FCFA'!#REF!/VLOOKUP(AZ$2,$BO$127:$BP$138,2,FALSE)","v":{"$error":"#REF!"}},{"$f":"'Budget FCFA'!#REF!/VLOOKUP(BA$2,$BO$127:$BP$138,2,FALSE)","v":{"$error":"#REF!"}},{"$f":"'Budget FCFA'!#REF!/VLOOKUP(BB$2,$BO$127:$BP$138,2,FALSE)","v":{"$error":"#REF!"}},{"$f":"'Budget FCFA'!#REF!/VLOOKUP(BC$2,$BO$127:$BP$138,2,FALSE)","v":{"$error":"#REF!"}},{"$f":"'Budget FCFA'!#REF!/VLOOKUP(BD$2,$BO$127:$BP$138,2,FALSE)","v":{"$error":"#REF!"}},{"$f":"'Budget FCFA'!#REF!/VLOOKUP(BE$2,$BO$127:$BP$138,2,FALSE)","v":{"$error":"#REF!"}},{"$f":"'Budget FCFA'!#REF!/VLOOKUP(BF$2,$BO$127:$BP$138,2,FALSE)","v":{"$error":"#REF!"}},{"$f":"'Budget FCFA'!#REF!/VLOOKUP(BG$2,$BO$127:$BP$138,2,FALSE)","v":{"$error":"#REF!"}},{"$f":"'Budget FCFA'!#REF!/VLOOKUP(BH$2,$BO$127:$BP$138,2,FALSE)","v":{"$error":"#REF!"}},{"$f":"'Budget FCFA'!#REF!/VLOOKUP(BI$2,$BO$127:$BP$138,2,FALSE)","v":{"$error":"#REF!"}},{"$f":"'Budget FCFA'!#REF!/VLOOKUP(BJ$2,$BO$127:$BP$138,2,FALSE)","v":{"$error":"#REF!"}},{"$error":"#REF!"},{"$f":"BK72-'Budget FCFA'!#REF!","v":{"$error":"#REF!"}}]
["PUBRADIO","DOUALA","Création spot radio + Validation CSP ",{"$f":"'Budget FCFA'!D73/VLOOKUP(D$2,$BO$127:$BP$138,2,FALSE)","v":0},{"$f":"'Budget FCFA'!E73/VLOOKUP(E$2,$BO$127:$BP$138,2,FALSE)","v":0},{"$f":"'Budget FCFA'!F73/VLOOKUP(F$2,$BO$127:$BP$138,2,FALSE)","v":0},{"$f":"'Budget FCFA'!G73/VLOOKUP(G$2,$BO$127:$BP$138,2,FALSE)","v":0},{"$f":"'Budget FCFA'!H73/VLOOKUP(H$2,$BO$127:$BP$138,2,FALSE)","v":0},{"$f":"'Budget FCFA'!I73/VLOOKUP(I$2,$BO$127:$BP$138,2,FALSE)","v":0},{"$f":"'Budget FCFA'!J73/VLOOKUP(J$2,$BO$127:$BP$138,2,FALSE)","v":0},{"$f":"'Budget FCFA'!K73/VLOOKUP(K$2,$BO$127:$BP$138,2,FALSE)","v":0},{"$f":"'Budget FCFA'!L73/VLOOKUP(L$2,$BO$127:$BP$138,2,FALSE)","v":0},{"$f":"'Budget FCFA'!M73/VLOOKUP(M$2,$BO$127:$BP$138,2,FALSE)","v":0},{"$f":"'Budget FCFA'!N73/VLOOKUP(N$2,$BO$127:$BP$138,2,FALSE)","v":0},{"$f":"'Budget FCFA'!O73/VLOOKUP(O$2,$BO$127:$BP$138,2,FALSE)","v":0},{"$f":"'Budget FCFA'!P73/VLOOKUP(P$2,$BO$127:$BP$138,2,FALSE)","v":0},{"$f":"'Budget FCFA'!Q73/VLOOKUP(Q$2,$BO$127:$BP$138,2,FALSE)","v":0},{"$f":"'Budget FCFA'!R73/VLOOKUP(R$2,$BO$127:$BP$138,2,FALSE)","v":0},{"$f":"'Budget FCFA'!S73/VLOOKUP(S$2,$BO$127:$BP$138,2,FALSE)","v":0},{"$f":"'Budget FCFA'!T73/VLOOKUP(T$2,$BO$127:$BP$138,2,FALSE)","v":0},{"$f":"'Budget FCFA'!U73/VLOOKUP(U$2,$BO$127:$BP$138,2,FALSE)","v":0},{"$f":"'Budget FCFA'!V73/VLOOKUP(V$2,$BO$127:$BP$138,2,FALSE)","v":0},{"$f":"'Budget FCFA'!W73/VLOOKUP(W$2,$BO$127:$BP$138,2,FALSE)","v":0},{"$f":"'Budget FCFA'!X73/VLOOKUP(X$2,$BO$127:$BP$138,2,FALSE)","v":0},{"$f":"'Budget FCFA'!Y73/VLOOKUP(Y$2,$BO$127:$BP$138,2,FALSE)","v":0},{"$f":"'Budget FCFA'!Z73/VLOOKUP(Z$2,$BO$127:$BP$138,2,FALSE)","v":0},{"$f":"'Budget FCFA'!AA73/VLOOKUP(AA$2,$BO$127:$BP$138,2,FALSE)","v":0},{"$f":"'Budget FCFA'!AB73/VLOOKUP(AB$2,$BO$127:$BP$138,2,FALSE)","v":0},{"$f":"'Budget FCFA'!AC73/VLOOKUP(AC$2,$BO$127:$BP$138,2,FALSE)","v":0},{"$f":"'Budget FCFA'!AD73/VLOOKUP(AD$2,$BO$127:$BP$138,2,FALSE)","v":0},{"$f":"'Budget FCFA'!AE73/VLOOKUP(AE$2,$BO$127:$BP$138,2,FALSE)","v":0},{"$f":"'Budget FCFA'!AF73/VLOOKUP(AF$2,$BO$127:$BP$138,2,FALSE)","v":0},{"$f":"'Budget FCFA'!AG73/VLOOKUP(AG$2,$BO$127:$BP$138,2,FALSE)","v":0},{"$f":"'Budget FCFA'!AH73/VLOOKUP(AH$2,$BO$127:$BP$138,2,FALSE)","v":0},{"$f":"'Budget FCFA'!AI73/VLOOKUP(AI$2,$BO$127:$BP$138,2,FALSE)","v":0},{"$f":"'Budget FCFA'!AJ73/VLOOKUP(AJ$2,$BO$127:$BP$138,2,FALSE)","v":0},{"$f":"'Budget FCFA'!AK73/VLOOKUP(AK$2,$BO$127:$BP$138,2,FALSE)","v":0},{"$f":"'Budget FCFA'!AL73/VLOOKUP(AL$2,$BO$127:$BP$138,2,FALSE)","v":457.34705171223112},{"$f":"'Budget FCFA'!AM73/VLOOKUP(AM$2,$BO$127:$BP$138,2,FALSE)","v":457.34705171223112},{"$f":"'Budget FCFA'!AN73/VLOOKUP(AN$2,$BO$127:$BP$138,2,FALSE)","v":0},{"$f":"'Budget FCFA'!AO73/VLOOKUP(AO$2,$BO$127:$BP$138,2,FALSE)","v":0},{"$f":"'Budget FCFA'!AP73/VLOOKUP(AP$2,$BO$127:$BP$138,2,FALSE)","v":0},{"$f":"'Budget FCFA'!#REF!/VLOOKUP(AQ$2,$BO$127:$BP$138,2,FALSE)","v":{"$error":"#REF!"}},{"$f":"'Budget FCFA'!#REF!/VLOOKUP(AR$2,$BO$127:$BP$138,2,FALSE)","v":{"$error":"#REF!"}},{"$f":"'Budget FCFA'!#REF!/VLOOKUP(AS$2,$BO$127:$BP$138,2,FALSE)","v":{"$error":"#REF!"}},{"$f":"'Budget FCFA'!#REF!/VLOOKUP(AT$2,$BO$127:$BP$138,2,FALSE)","v":{"$error":"#REF!"}},{"$f":"'Budget FCFA'!#REF!/VLOOKUP(AU$2,$BO$127:$BP$138,2,FALSE)","v":{"$error":"#REF!"}},{"$f":"'Budget FCFA'!#REF!/VLOOKUP(AV$2,$BO$127:$BP$138,2,FALSE)","v":{"$error":"#REF!"}},{"$f":"'Budget FCFA'!#REF!/VLOOKUP(AW$2,$BO$127:$BP$138,2,FALSE)","v":{"$error":"#REF!"}},{"$f":"'Budget FCFA'!#REF!/VLOOKUP(AX$2,$BO$127:$BP$138,2,FALSE)","v":{"$error":"#REF!"}},{"$f":"'Budget FCFA'!#REF!/VLOOKUP(AY$2,$BO$127:$BP$138,2,FALSE)","v":{"$error":"#REF!"}},{"$f":"'Budget FCFA'!#REF!/VLOOKUP(AZ$2,$BO$127:$BP$138,2,FALSE)","v":{"$error":"#REF!"}},{"$f":"'Budget FCFA'!#REF!/VLOOKUP(BA$2,$BO$127:$BP$138,2,FALSE)","v":{"$error":"#REF!"}},{"$f":"'Budget FCFA'!#REF!/VLOOKUP(BB$2,$BO$127:$BP$138,2,FALSE)","v":{"$error":"#REF!"}},{"$f":"'Budget FCFA'!#REF!/VLOOKUP(BC$2,$BO$127:$BP$138,2,FALSE)","v":{"$error":"#REF!"}},{"$f":"'Budget FCFA'!#REF!/VLOOKUP(BD$2,$BO$127:$BP$138,2,FALSE)","v":{"$error":"#REF!"}},{"$f":"'Budget FCFA'!#REF!/VLOOKUP(BE$2,$BO$127:$BP$138,2,FALSE)","v":{"$error":"#REF!"}},{"$f":"'Budget FCFA'!#REF!/VLOOKUP(BF$2,$BO$127:$BP$138,2,FALSE)","v":{"$error":"#REF!"}},{"$f":"'Budget FCFA'!#REF!/VLOOKUP(BG$2,$BO$127:$BP$138,2,FALSE)","v":{"$error":"#REF!"}},{"$f":"'Budget FCFA'!#REF!/VLOOKUP(BH$2,$BO$127:$BP$138,2,FALSE)","v":{"$error":"#REF!"}},{"$f":"'Budget FCFA'!#REF!/VLOOKUP(BI$2,$BO$127:$BP$138,2,FALSE)","v":{"$error":"#REF!"}},{"$f":"'Budget FCFA'!#REF!/VLOOKUP(BJ$2,$BO$127:$BP$138,2,FALSE)","v":{"$error":"#REF!"}},{"$error":"#REF!"},{"$f":"BK73-'Budget FCFA'!#REF!","v":{"$error":"#REF!"}}]
["PUBRADIO","TOTAL","Total radio",{"$f":"'Budget FCFA'!D74/VLOOKUP(D$2,$BO$127:$BP$138,2,FALSE)","v":0},{"$f":"'Budget FCFA'!E74/VLOOKUP(E$2,$BO$127:$BP$138,2,FALSE)","v":0},{"$f":"'Budget FCFA'!F74/VLOOKUP(F$2,$BO$127:$BP$138,2,FALSE)","v":0},{"$f":"'Budget FCFA'!G74/VLOOKUP(G$2,$BO$127:$BP$138,2,FALSE)","v":0},{"$f":"'Budget FCFA'!H74/VLOOKUP(H$2,$BO$127:$BP$138,2,FALSE)","v":0},{"$f":"'Budget FCFA'!I74/VLOOKUP(I$2,$BO$127:$BP$138,2,FALSE)","v":0},{"$f":"'Budget FCFA'!J74/VLOOKUP(J$2,$BO$127:$BP$138,2,FALSE)","v":0},{"$f":"'Budget FCFA'!K74/VLOOKUP(K$2,$BO$127:$BP$138,2,FALSE)","v":0},{"$f":"'Budget FCFA'!L74/VLOOKUP(L$2,$BO$127:$BP$138,2,FALSE)","v":0},{"$f":"'Budget FCFA'!M74/VLOOKUP(M$2,$BO$127:$BP$138,2,FALSE)","v":0},{"$f":"'Budget FCFA'!N74/VLOOKUP(N$2,$BO$127:$BP$138,2,FALSE)","v":0},{"$f":"'Budget FCFA'!O74/VLOOKUP(O$2,$BO$127:$BP$138,2,FALSE)","v":0},{"$f":"'Budget FCFA'!P74/VLOOKUP(P$2,$BO$127:$BP$138,2,FALSE)","v":2963.3939419809531},{"$f":"'Budget FCFA'!Q74/VLOOKUP(Q$2,$BO$127:$BP$138,2,FALSE)","v":0},{"$f":"'Budget FCFA'!R74/VLOOKUP(R$2,$BO$127:$BP$138,2,FALSE)","v":0},{"$f":"'Budget FCFA'!S74/VLOOKUP(S$2,$BO$127:$BP$138,2,FALSE)","v":0},{"$f":"'Budget FCFA'!T74/VLOOKUP(T$2,$BO$127:$BP$138,2,FALSE)","v":0},{"$f":"'Budget FCFA'!U74/VLOOKUP(U$2,$BO$127:$BP$138,2,FALSE)","v":0},{"$f":"'Budget FCFA'!V74/VLOOKUP(V$2,$BO$127:$BP$138,2,FALSE)","v":0},{"$f":"'Budget FCFA'!W74/VLOOKUP(W$2,$BO$127:$BP$138,2,FALSE)","v":0},{"$f":"'Budget FCFA'!X74/VLOOKUP(X$2,$BO$127:$BP$138,2,FALSE)","v":0},{"$f":"'Budget FCFA'!Y74/VLOOKUP(Y$2,$BO$127:$BP$138,2,FALSE)","v":0},{"$f":"'Budget FCFA'!Z74/VLOOKUP(Z$2,$BO$127:$BP$138,2,FALSE)","v":0},{"$f":"'Budget FCFA'!AA74/VLOOKUP(AA$2,$BO$127:$BP$138,2,FALSE)","v":0},{"$f":"'Budget FCFA'!AB74/VLOOKUP(AB$2,$BO$127:$BP$138,2,FALSE)","v":0},{"$f":"'Budget FCFA'!AC74/VLOOKUP(AC$2,$BO$127:$BP$138,2,FALSE)","v":0},{"$f":"'Budget FCFA'!AD74/VLOOKUP(AD$2,$BO$127:$BP$138,2,FALSE)","v":0},{"$f":"'Budget FCFA'!AE74/VLOOKUP(AE$2,$BO$127:$BP$138,2,FALSE)","v":0},{"$f":"'Budget FCFA'!AF74/VLOOKUP(AF$2,$BO$127:$BP$138,2,FALSE)","v":0},{"$f":"'Budget FCFA'!AG74/VLOOKUP(AG$2,$BO$127:$BP$138,2,FALSE)","v":731.75528273956979},{"$f":"'Budget FCFA'!AH74/VLOOKUP(AH$2,$BO$127:$BP$138,2,FALSE)","v":0},{"$f":"'Budget FCFA'!AI74/VLOOKUP(AI$2,$BO$127:$BP$138,2,FALSE)","v":0},{"$f":"'Budget FCFA'!AJ74/VLOOKUP(AJ$2,$BO$127:$BP$138,2,FALSE)","v":0},{"$f":"'Budget FCFA'!AK74/VLOOKUP(AK$2,$BO$127:$BP$138,2,FALSE)","v":0},{"$f":"'Budget FCFA'!AL74/VLOOKUP(AL$2,$BO$127:$BP$138,2,FALSE)","v":2561.1434895884945},{"$f":"'Budget FCFA'!AM74/VLOOKUP(AM$2,$BO$127:$BP$138,2,FALSE)","v":3319.6916871075391},{"$f":"'Budget FCFA'!AN74/VLOOKUP(AN$2,$BO$127:$BP$138,2,FALSE)","v":0},{"$f":"'Budget FCFA'!AO74/VLOOKUP(AO$2,$BO$127:$BP$138,2,FALSE)","v":0},{"$f":"'Budget FCFA'!AP74/VLOOKUP(AP$2,$BO$127:$BP$138,2,FALSE)","v":0},{"$f":"'Budget FCFA'!#REF!/VLOOKUP(AQ$2,$BO$127:$BP$138,2,FALSE)","v":{"$error":"#REF!"}},{"$f":"'Budget FCFA'!#REF!/VLOOKUP(AR$2,$BO$127:$BP$138,2,FALSE)","v":{"$error":"#REF!"}},{"$f":"'Budget FCFA'!#REF!/VLOOKUP(AS$2,$BO$127:$BP$138,2,FALSE)","v":{"$error":"#REF!"}},{"$f":"'Budget FCFA'!#REF!/VLOOKUP(AT$2,$BO$127:$BP$138,2,FALSE)","v":{"$error":"#REF!"}},{"$f":"'Budget FCFA'!#REF!/VLOOKUP(AU$2,$BO$127:$BP$138,2,FALSE)","v":{"$error":"#REF!"}},{"$f":"'Budget FCFA'!#REF!/VLOOKUP(AV$2,$BO$127:$BP$138,2,FALSE)","v":{"$error":"#REF!"}},{"$f":"'Budget FCFA'!#REF!/VLOOKUP(AW$2,$BO$127:$BP$138,2,FALSE)","v":{"$error":"#REF!"}},{"$f":"'Budget FCFA'!#REF!/VLOOKUP(AX$2,$BO$127:$BP$138,2,FALSE)","v":{"$error":"#REF!"}},{"$f":"'Budget FCFA'!#REF!/VLOOKUP(AY$2,$BO$127:$BP$138,2,FALSE)","v":{"$error":"#REF!"}},{"$f":"'Budget FCFA'!#REF!/VLOOKUP(AZ$2,$BO$127:$BP$138,2,FALSE)","v":{"$error":"#REF!"}},{"$f":"'Budget FCFA'!#REF!/VLOOKUP(BA$2,$BO$127:$BP$138,2,FALSE)","v":{"$error":"#REF!"}},{"$f":"'Budget FCFA'!#REF!/VLOOKUP(BB$2,$BO$127:$BP$138,2,FALSE)","v":{"$error":"#REF!"}},{"$f":"'Budget FCFA'!#REF!/VLOOKUP(BC$2,$BO$127:$BP$138,2,FALSE)","v":{"$error":"#REF!"}},{"$f":"'Budget FCFA'!#REF!/VLOOKUP(BD$2,$BO$127:$BP$138,2,FALSE)","v":{"$error":"#REF!"}},{"$f":"'Budget FCFA'!#REF!/VLOOKUP(BE$2,$BO$127:$BP$138,2,FALSE)","v":{"$error":"#REF!"}},{"$f":"'Budget FCFA'!#REF!/VLOOKUP(BF$2,$BO$127:$BP$138,2,FALSE)","v":{"$error":"#REF!"}},{"$f":"'Budget FCFA'!#REF!/VLOOKUP(BG$2,$BO$127:$BP$138,2,FALSE)","v":{"$error":"#REF!"}},{"$f":"'Budget FCFA'!#REF!/VLOOKUP(BH$2,$BO$127:$BP$138,2,FALSE)","v":{"$error":"#REF!"}},{"$f":"'Budget FCFA'!#REF!/VLOOKUP(BI$2,$BO$127:$BP$138,2,FALSE)","v":{"$error":"#REF!"}},{"$f":"'Budget FCFA'!#REF!/VLOOKUP(BJ$2,$BO$127:$BP$138,2,FALSE)","v":{"$error":"#REF!"}},{"$error":"#REF!"},{"$f":"BK74-'Budget FCFA'!#REF!","v":{"$error":"#REF!"}}]
["PUBTELEV","ABIDJAN","Achat d'espace TV / PARTENARIAT",{"$f":"'Budget FCFA'!D75/VLOOKUP(D$2,$BO$127:$BP$138,2,FALSE)","v":0},{"$f":"'Budget FCFA'!E75/VLOOKUP(E$2,$BO$127:$BP$138,2,FALSE)","v":0},{"$f":"'Budget FCFA'!F75/VLOOKUP(F$2,$BO$127:$BP$138,2,FALSE)","v":0},{"$f":"'Budget FCFA'!G75/VLOOKUP(G$2,$BO$127:$BP$138,2,FALSE)","v":0},{"$f":"'Budget FCFA'!H75/VLOOKUP(H$2,$BO$127:$BP$138,2,FALSE)","v":0},{"$f":"'Budget FCFA'!I75/VLOOKUP(I$2,$BO$127:$BP$138,2,FALSE)","v":0},{"$f":"'Budget FCFA'!J75/VLOOKUP(J$2,$BO$127:$BP$138,2,FALSE)","v":0},{"$f":"'Budget FCFA'!K75/VLOOKUP(K$2,$BO$127:$BP$138,2,FALSE)","v":0},{"$f":"'Budget FCFA'!L75/VLOOKUP(L$2,$BO$127:$BP$138,2,FALSE)","v":0},{"$f":"'Budget FCFA'!M75/VLOOKUP(M$2,$BO$127:$BP$138,2,FALSE)","v":0},{"$f":"'Budget FCFA'!N75/VLOOKUP(N$2,$BO$127:$BP$138,2,FALSE)","v":0},{"$f":"'Budget FCFA'!O75/VLOOKUP(O$2,$BO$127:$BP$138,2,FALSE)","v":0},{"$f":"'Budget FCFA'!P75/VLOOKUP(P$2,$BO$127:$BP$138,2,FALSE)","v":0},{"$f":"'Budget FCFA'!Q75/VLOOKUP(Q$2,$BO$127:$BP$138,2,FALSE)","v":0},{"$f":"'Budget FCFA'!R75/VLOOKUP(R$2,$BO$127:$BP$138,2,FALSE)","v":0},{"$f":"'Budget FCFA'!S75/VLOOKUP(S$2,$BO$127:$BP$138,2,FALSE)","v":0},{"$f":"'Budget FCFA'!T75/VLOOKUP(T$2,$BO$127:$BP$138,2,FALSE)","v":0},{"$f":"'Budget FCFA'!U75/VLOOKUP(U$2,$BO$127:$BP$138,2,FALSE)","v":0},{"$f":"'Budget FCFA'!V75/VLOOKUP(V$2,$BO$127:$BP$138,2,FALSE)","v":0},{"$f":"'Budget FCFA'!W75/VLOOKUP(W$2,$BO$127:$BP$138,2,FALSE)","v":0},{"$f":"'Budget FCFA'!X75/VLOOKUP(X$2,$BO$127:$BP$138,2,FALSE)","v":0},{"$f":"'Budget FCFA'!Y75/VLOOKUP(Y$2,$BO$127:$BP$138,2,FALSE)","v":0},{"$f":"'Budget FCFA'!Z75/VLOOKUP(Z$2,$BO$127:$BP$138,2,FALSE)","v":0},{"$f":"'Budget FCFA'!AA75/VLOOKUP(AA$2,$BO$127:$BP$138,2,FALSE)","v":0},{"$f":"'Budget FCFA'!AB75/VLOOKUP(AB$2,$BO$127:$BP$138,2,FALSE)","v":0},{"$f":"'Budget FCFA'!AC75/VLOOKUP(AC$2,$BO$127:$BP$138,2,FALSE)","v":0},{"$f":"'Budget FCFA'!AD75/VLOOKUP(AD$2,$BO$127:$BP$138,2,FALSE)","v":0},{"$f":"'Budget FCFA'!AE75/VLOOKUP(AE$2,$BO$127:$BP$138,2,FALSE)","v":0},{"$f":"'Budget FCFA'!AF75/VLOOKUP(AF$2,$BO$127:$BP$138,2,FALSE)","v":0},{"$f":"'Budget FCFA'!AG75/VLOOKUP(AG$2,$BO$127:$BP$138,2,FALSE)","v":0},{"$f":"'Budget FCFA'!AH75/VLOOKUP(AH$2,$BO$127:$BP$138,2,FALSE)","v":0},{"$f":"'Budget FCFA'!AI75/VLOOKUP(AI$2,$BO$127:$BP$138,2,FALSE)","v":0},{"$f":"'Budget FCFA'!AJ75/VLOOKUP(AJ$2,$BO$127:$BP$138,2,FALSE)","v":0},{"$f":"'Budget FCFA'!AK75/VLOOKUP(AK$2,$BO$127:$BP$138,2,FALSE)","v":0},{"$f":"'Budget FCFA'!AL75/VLOOKUP(AL$2,$BO$127:$BP$138,2,FALSE)","v":30489.803447482078},{"$f":"'Budget FCFA'!AM75/VLOOKUP(AM$2,$BO$127:$BP$138,2,FALSE)","v":0},{"$f":"'Budget FCFA'!AN75/VLOOKUP(AN$2,$BO$127:$BP$138,2,FALSE)","v":0},{"$f":"'Budget FCFA'!AO75/VLOOKUP(AO$2,$BO$127:$BP$138,2,FALSE)","v":0},{"$f":"'Budget FCFA'!AP75/VLOOKUP(AP$2,$BO$127:$BP$138,2,FALSE)","v":0},{"$f":"'Budget FCFA'!#REF!/VLOOKUP(AQ$2,$BO$127:$BP$138,2,FALSE)","v":{"$error":"#REF!"}},{"$f":"'Budget FCFA'!#REF!/VLOOKUP(AR$2,$BO$127:$BP$138,2,FALSE)","v":{"$error":"#REF!"}},{"$f":"'Budget FCFA'!#REF!/VLOOKUP(AS$2,$BO$127:$BP$138,2,FALSE)","v":{"$error":"#REF!"}},{"$f":"'Budget FCFA'!#REF!/VLOOKUP(AT$2,$BO$127:$BP$138,2,FALSE)","v":{"$error":"#REF!"}},{"$f":"'Budget FCFA'!#REF!/VLOOKUP(AU$2,$BO$127:$BP$138,2,FALSE)","v":{"$error":"#REF!"}},{"$f":"'Budget FCFA'!#REF!/VLOOKUP(AV$2,$BO$127:$BP$138,2,FALSE)","v":{"$error":"#REF!"}},{"$f":"'Budget FCFA'!#REF!/VLOOKUP(AW$2,$BO$127:$BP$138,2,FALSE)","v":{"$error":"#REF!"}},{"$f":"'Budget FCFA'!#REF!/VLOOKUP(AX$2,$BO$127:$BP$138,2,FALSE)","v":{"$error":"#REF!"}},{"$f":"'Budget FCFA'!#REF!/VLOOKUP(AY$2,$BO$127:$BP$138,2,FALSE)","v":{"$error":"#REF!"}},{"$f":"'Budget FCFA'!#REF!/VLOOKUP(AZ$2,$BO$127:$BP$138,2,FALSE)","v":{"$error":"#REF!"}},{"$f":"'Budget FCFA'!#REF!/VLOOKUP(BA$2,$BO$127:$BP$138,2,FALSE)","v":{"$error":"#REF!"}},{"$f":"'Budget FCFA'!#REF!/VLOOKUP(BB$2,$BO$127:$BP$138,2,FALSE)","v":{"$error":"#REF!"}},{"$f":"'Budget FCFA'!#REF!/VLOOKUP(BC$2,$BO$127:$BP$138,2,FALSE)","v":{"$error":"#REF!"}},{"$f":"'Budget FCFA'!#REF!/VLOOKUP(BD$2,$BO$127:$BP$138,2,FALSE)","v":{"$error":"#REF!"}},{"$f":"'Budget FCFA'!#REF!/VLOOKUP(BE$2,$BO$127:$BP$138,2,FALSE)","v":{"$error":"#REF!"}},{"$f":"'Budget FCFA'!#REF!/VLOOKUP(BF$2,$BO$127:$BP$138,2,FALSE)","v":{"$error":"#REF!"}},{"$f":"'Budget FCFA'!#REF!/VLOOKUP(BG$2,$BO$127:$BP$138,2,FALSE)","v":{"$error":"#REF!"}},{"$f":"'Budget FCFA'!#REF!/VLOOKUP(BH$2,$BO$127:$BP$138,2,FALSE)","v":{"$error":"#REF!"}},{"$f":"'Budget FCFA'!#REF!/VLOOKUP(BI$2,$BO$127:$BP$138,2,FALSE)","v":{"$error":"#REF!"}},{"$f":"'Budget FCFA'!#REF!/VLOOKUP(BJ$2,$BO$127:$BP$138,2,FALSE)","v":{"$error":"#REF!"}},{"$error":"#REF!"},{"$f":"BK75-'Budget FCFA'!#REF!","v":{"$error":"#REF!"}}]
["PUBTELEV","BRAZZA","Achat d'espace TV / PARTENARIAT",{"$f":"'Budget FCFA'!D76/VLOOKUP(D$2,$BO$127:$BP$138,2,FALSE)","v":0},{"$f":"'Budget FCFA'!E76/VLOOKUP(E$2,$BO$127:$BP$138,2,FALSE)","v":0},{"$f":"'Budget FCFA'!F76/VLOOKUP(F$2,$BO$127:$BP$138,2,FALSE)","v":0},{"$f":"'Budget FCFA'!G76/VLOOKUP(G$2,$BO$127:$BP$138,2,FALSE)","v":0},{"$f":"'Budget FCFA'!H76/VLOOKUP(H$2,$BO$127:$BP$138,2,FALSE)","v":0},{"$f":"'Budget FCFA'!I76/VLOOKUP(I$2,$BO$127:$BP$138,2,FALSE)","v":0},{"$f":"'Budget FCFA'!J76/VLOOKUP(J$2,$BO$127:$BP$138,2,FALSE)","v":0},{"$f":"'Budget FCFA'!K76/VLOOKUP(K$2,$BO$127:$BP$138,2,FALSE)","v":0},{"$f":"'Budget FCFA'!L76/VLOOKUP(L$2,$BO$127:$BP$138,2,FALSE)","v":0},{"$f":"'Budget FCFA'!M76/VLOOKUP(M$2,$BO$127:$BP$138,2,FALSE)","v":0},{"$f":"'Budget FCFA'!N76/VLOOKUP(N$2,$BO$127:$BP$138,2,FALSE)","v":0},{"$f":"'Budget FCFA'!O76/VLOOKUP(O$2,$BO$127:$BP$138,2,FALSE)","v":0},{"$f":"'Budget FCFA'!P76/VLOOKUP(P$2,$BO$127:$BP$138,2,FALSE)","v":0},{"$f":"'Budget FCFA'!Q76/VLOOKUP(Q$2,$BO$127:$BP$138,2,FALSE)","v":0},{"$f":"'Budget FCFA'!R76/VLOOKUP(R$2,$BO$127:$BP$138,2,FALSE)","v":0},{"$f":"'Budget FCFA'!S76/VLOOKUP(S$2,$BO$127:$BP$138,2,FALSE)","v":0},{"$f":"'Budget FCFA'!T76/VLOOKUP(T$2,$BO$127:$BP$138,2,FALSE)","v":0},{"$f":"'Budget FCFA'!U76/VLOOKUP(U$2,$BO$127:$BP$138,2,FALSE)","v":0},{"$f":"'Budget FCFA'!V76/VLOOKUP(V$2,$BO$127:$BP$138,2,FALSE)","v":0},{"$f":"'Budget FCFA'!W76/VLOOKUP(W$2,$BO$127:$BP$138,2,FALSE)","v":0},{"$f":"'Budget FCFA'!X76/VLOOKUP(X$2,$BO$127:$BP$138,2,FALSE)","v":0},{"$f":"'Budget FCFA'!Y76/VLOOKUP(Y$2,$BO$127:$BP$138,2,FALSE)","v":0},{"$f":"'Budget FCFA'!Z76/VLOOKUP(Z$2,$BO$127:$BP$138,2,FALSE)","v":0},{"$f":"'Budget FCFA'!AA76/VLOOKUP(AA$2,$BO$127:$BP$138,2,FALSE)","v":0},{"$f":"'Budget FCFA'!AB76/VLOOKUP(AB$2,$BO$127:$BP$138,2,FALSE)","v":0},{"$f":"'Budget FCFA'!AC76/VLOOKUP(AC$2,$BO$127:$BP$138,2,FALSE)","v":0},{"$f":"'Budget FCFA'!AD76/VLOOKUP(AD$2,$BO$127:$BP$138,2,FALSE)","v":0},{"$f":"'Budget FCFA'!AE76/VLOOKUP(AE$2,$BO$127:$BP$138,2,FALSE)","v":0},{"$f":"'Budget FCFA'!AF76/VLOOKUP(AF$2,$BO$127:$BP$138,2,FALSE)","v":0},{"$f":"'Budget FCFA'!AG76/VLOOKUP(AG$2,$BO$127:$BP$138,2,FALSE)","v":0},{"$f":"'Budget FCFA'!AH76/VLOOKUP(AH$2,$BO$127:$BP$138,2,FALSE)","v":0},{"$f":"'Budget FCFA'!AI76/VLOOKUP(AI$2,$BO$127:$BP$138,2,FALSE)","v":0},{"$f":"'Budget FCFA'!AJ76/VLOOKUP(AJ$2,$BO$127:$BP$138,2,FALSE)","v":0},{"$f":"'Budget FCFA'!AK76/VLOOKUP(AK$2,$BO$127:$BP$138,2,FALSE)","v":0},{"$f":"'Budget FCFA'!AL76/VLOOKUP(AL$2,$BO$127:$BP$138,2,FALSE)","v":1829.3882068489245},{"$f":"'Budget FCFA'!AM76/VLOOKUP(AM$2,$BO$127:$BP$138,2,FALSE)","v":0},{"$f":"'Budget FCFA'!AN76/VLOOKUP(AN$2,$BO$127:$BP$138,2,FALSE)","v":0},{"$f":"'Budget FCFA'!AO76/VLOOKUP(AO$2,$BO$127:$BP$138,2,FALSE)","v":0},{"$f":"'Budget FCFA'!AP76/VLOOKUP(AP$2,$BO$127:$BP$138,2,FALSE)","v":0},{"$f":"'Budget FCFA'!#REF!/VLOOKUP(AQ$2,$BO$127:$BP$138,2,FALSE)","v":{"$error":"#REF!"}},{"$f":"'Budget FCFA'!#REF!/VLOOKUP(AR$2,$BO$127:$BP$138,2,FALSE)","v":{"$error":"#REF!"}},{"$f":"'Budget FCFA'!#REF!/VLOOKUP(AS$2,$BO$127:$BP$138,2,FALSE)","v":{"$error":"#REF!"}},{"$f":"'Budget FCFA'!#REF!/VLOOKUP(AT$2,$BO$127:$BP$138,2,FALSE)","v":{"$error":"#REF!"}},{"$f":"'Budget FCFA'!#REF!/VLOOKUP(AU$2,$BO$127:$BP$138,2,FALSE)","v":{"$error":"#REF!"}},{"$f":"'Budget FCFA'!#REF!/VLOOKUP(AV$2,$BO$127:$BP$138,2,FALSE)","v":{"$error":"#REF!"}},{"$f":"'Budget FCFA'!#REF!/VLOOKUP(AW$2,$BO$127:$BP$138,2,FALSE)","v":{"$error":"#REF!"}},{"$f":"'Budget FCFA'!#REF!/VLOOKUP(AX$2,$BO$127:$BP$138,2,FALSE)","v":{"$error":"#REF!"}},{"$f":"'Budget FCFA'!#REF!/VLOOKUP(AY$2,$BO$127:$BP$138,2,FALSE)","v":{"$error":"#REF!"}},{"$f":"'Budget FCFA'!#REF!/VLOOKUP(AZ$2,$BO$127:$BP$138,2,FALSE)","v":{"$error":"#REF!"}},{"$f":"'Budget FCFA'!#REF!/VLOOKUP(BA$2,$BO$127:$BP$138,2,FALSE)","v":{"$error":"#REF!"}},{"$f":"'Budget FCFA'!#REF!/VLOOKUP(BB$2,$BO$127:$BP$138,2,FALSE)","v":{"$error":"#REF!"}},{"$f":"'Budget FCFA'!#REF!/VLOOKUP(BC$2,$BO$127:$BP$138,2,FALSE)","v":{"$error":"#REF!"}},{"$f":"'Budget FCFA'!#REF!/VLOOKUP(BD$2,$BO$127:$BP$138,2,FALSE)","v":{"$error":"#REF!"}},{"$f":"'Budget FCFA'!#REF!/VLOOKUP(BE$2,$BO$127:$BP$138,2,FALSE)","v":{"$error":"#REF!"}},{"$f":"'Budget FCFA'!#REF!/VLOOKUP(BF$2,$BO$127:$BP$138,2,FALSE)","v":{"$error":"#REF!"}},{"$f":"'Budget FCFA'!#REF!/VLOOKUP(BG$2,$BO$127:$BP$138,2,FALSE)","v":{"$error":"#REF!"}},{"$f":"'Budget FCFA'!#REF!/VLOOKUP(BH$2,$BO$127:$BP$138,2,FALSE)","v":{"$error":"#REF!"}},{"$f":"'Budget FCFA'!#REF!/VLOOKUP(BI$2,$BO$127:$BP$138,2,FALSE)","v":{"$error":"#REF!"}},{"$f":"'Budget FCFA'!#REF!/VLOOKUP(BJ$2,$BO$127:$BP$138,2,FALSE)","v":{"$error":"#REF!"}},{"$error":"#REF!"},{"$f":"BK76-'Budget FCFA'!#REF!","v":{"$error":"#REF!"}}]
["PUBTELEV","DAKAR","Achat d'espace TV / PARTENARIAT",{"$f":"'Budget FCFA'!D77/VLOOKUP(D$2,$BO$127:$BP$138,2,FALSE)","v":0},{"$f":"'Budget FCFA'!E77/VLOOKUP(E$2,$BO$127:$BP$138,2,FALSE)","v":0},{"$f":"'Budget FCFA'!F77/VLOOKUP(F$2,$BO$127:$BP$138,2,FALSE)","v":0},{"$f":"'Budget FCFA'!G77/VLOOKUP(G$2,$BO$127:$BP$138,2,FALSE)","v":0},{"$f":"'Budget FCFA'!H77/VLOOKUP(H$2,$BO$127:$BP$138,2,FALSE)","v":0},{"$f":"'Budget FCFA'!I77/VLOOKUP(I$2,$BO$127:$BP$138,2,FALSE)","v":0},{"$f":"'Budget FCFA'!J77/VLOOKUP(J$2,$BO$127:$BP$138,2,FALSE)","v":0},{"$f":"'Budget FCFA'!K77/VLOOKUP(K$2,$BO$127:$BP$138,2,FALSE)","v":0},{"$f":"'Budget FCFA'!L77/VLOOKUP(L$2,$BO$127:$BP$138,2,FALSE)","v":0},{"$f":"'Budget FCFA'!M77/VLOOKUP(M$2,$BO$127:$BP$138,2,FALSE)","v":0},{"$f":"'Budget FCFA'!N77/VLOOKUP(N$2,$BO$127:$BP$138,2,FALSE)","v":0},{"$f":"'Budget FCFA'!O77/VLOOKUP(O$2,$BO$127:$BP$138,2,FALSE)","v":0},{"$f":"'Budget FCFA'!P77/VLOOKUP(P$2,$BO$127:$BP$138,2,FALSE)","v":0},{"$f":"'Budget FCFA'!Q77/VLOOKUP(Q$2,$BO$127:$BP$138,2,FALSE)","v":0},{"$f":"'Budget FCFA'!R77/VLOOKUP(R$2,$BO$127:$BP$138,2,FALSE)","v":0},{"$f":"'Budget FCFA'!S77/VLOOKUP(S$2,$BO$127:$BP$138,2,FALSE)","v":0},{"$f":"'Budget FCFA'!T77/VLOOKUP(T$2,$BO$127:$BP$138,2,FALSE)","v":0},{"$f":"'Budget FCFA'!U77/VLOOKUP(U$2,$BO$127:$BP$138,2,FALSE)","v":0},{"$f":"'Budget FCFA'!V77/VLOOKUP(V$2,$BO$127:$BP$138,2,FALSE)","v":0},{"$f":"'Budget FCFA'!W77/VLOOKUP(W$2,$BO$127:$BP$138,2,FALSE)","v":0},{"$f":"'Budget FCFA'!X77/VLOOKUP(X$2,$BO$127:$BP$138,2,FALSE)","v":0},{"$f":"'Budget FCFA'!Y77/VLOOKUP(Y$2,$BO$127:$BP$138,2,FALSE)","v":0},{"$f":"'Budget FCFA'!Z77/VLOOKUP(Z$2,$BO$127:$BP$138,2,FALSE)","v":0},{"$f":"'Budget FCFA'!AA77/VLOOKUP(AA$2,$BO$127:$BP$138,2,FALSE)","v":0},{"$f":"'Budget FCFA'!AB77/VLOOKUP(AB$2,$BO$127:$BP$138,2,FALSE)","v":0},{"$f":"'Budget FCFA'!AC77/VLOOKUP(AC$2,$BO$127:$BP$138,2,FALSE)","v":0},{"$f":"'Budget FCFA'!AD77/VLOOKUP(AD$2,$BO$127:$BP$138,2,FALSE)","v":0},{"$f":"'Budget FCFA'!AE77/VLOOKUP(AE$2,$BO$127:$BP$138,2,FALSE)","v":0},{"$f":"'Budget FCFA'!AF77/VLOOKUP(AF$2,$BO$127:$BP$138,2,FALSE)","v":0},{"$f":"'Budget FCFA'!AG77/VLOOKUP(AG$2,$BO$127:$BP$138,2,FALSE)","v":0},{"$f":"'Budget FCFA'!AH77/VLOOKUP(AH$2,$BO$127:$BP$138,2,FALSE)","v":0},{"$f":"'Budget FCFA'!AI77/VLOOKUP(AI$2,$BO$127:$BP$138,2,FALSE)","v":0},{"$f":"'Budget FCFA'!AJ77/VLOOKUP(AJ$2,$BO$127:$BP$138,2,FALSE)","v":0},{"$f":"'Budget FCFA'!AK77/VLOOKUP(AK$2,$BO$127:$BP$138,2,FALSE)","v":0},{"$f":"'Budget FCFA'!AL77/VLOOKUP(AL$2,$BO$127:$BP$138,2,FALSE)","v":3811.2254309352597},{"$f":"'Budget FCFA'!AM77/VLOOKUP(AM$2,$BO$127:$BP$138,2,FALSE)","v":0},{"$f":"'Budget FCFA'!AN77/VLOOKUP(AN$2,$BO$127:$BP$138,2,FALSE)","v":0},{"$f":"'Budget FCFA'!AO77/VLOOKUP(AO$2,$BO$127:$BP$138,2,FALSE)","v":0},{"$f":"'Budget FCFA'!AP77/VLOOKUP(AP$2,$BO$127:$BP$138,2,FALSE)","v":0},{"$f":"'Budget FCFA'!#REF!/VLOOKUP(AQ$2,$BO$127:$BP$138,2,FALSE)","v":{"$error":"#REF!"}},{"$f":"'Budget FCFA'!#REF!/VLOOKUP(AR$2,$BO$127:$BP$138,2,FALSE)","v":{"$error":"#REF!"}},{"$f":"'Budget FCFA'!#REF!/VLOOKUP(AS$2,$BO$127:$BP$138,2,FALSE)","v":{"$error":"#REF!"}},{"$f":"'Budget FCFA'!#REF!/VLOOKUP(AT$2,$BO$127:$BP$138,2,FALSE)","v":{"$error":"#REF!"}},{"$f":"'Budget FCFA'!#REF!/VLOOKUP(AU$2,$BO$127:$BP$138,2,FALSE)","v":{"$error":"#REF!"}},{"$f":"'Budget FCFA'!#REF!/VLOOKUP(AV$2,$BO$127:$BP$138,2,FALSE)","v":{"$error":"#REF!"}},{"$f":"'Budget FCFA'!#REF!/VLOOKUP(AW$2,$BO$127:$BP$138,2,FALSE)","v":{"$error":"#REF!"}},{"$f":"'Budget FCFA'!#REF!/VLOOKUP(AX$2,$BO$127:$BP$138,2,FALSE)","v":{"$error":"#REF!"}},{"$f":"'Budget FCFA'!#REF!/VLOOKUP(AY$2,$BO$127:$BP$138,2,FALSE)","v":{"$error":"#REF!"}},{"$f":"'Budget FCFA'!#REF!/VLOOKUP(AZ$2,$BO$127:$BP$138,2,FALSE)","v":{"$error":"#REF!"}},{"$f":"'Budget FCFA'!#REF!/VLOOKUP(BA$2,$BO$127:$BP$138,2,FALSE)","v":{"$error":"#REF!"}},{"$f":"'Budget FCFA'!#REF!/VLOOKUP(BB$2,$BO$127:$BP$138,2,FALSE)","v":{"$error":"#REF!"}},{"$f":"'Budget FCFA'!#REF!/VLOOKUP(BC$2,$BO$127:$BP$138,2,FALSE)","v":{"$error":"#REF!"}},{"$f":"'Budget FCFA'!#REF!/VLOOKUP(BD$2,$BO$127:$BP$138,2,FALSE)","v":{"$error":"#REF!"}},{"$f":"'Budget FCFA'!#REF!/VLOOKUP(BE$2,$BO$127:$BP$138,2,FALSE)","v":{"$error":"#REF!"}},{"$f":"'Budget FCFA'!#REF!/VLOOKUP(BF$2,$BO$127:$BP$138,2,FALSE)","v":{"$error":"#REF!"}},{"$f":"'Budget FCFA'!#REF!/VLOOKUP(BG$2,$BO$127:$BP$138,2,FALSE)","v":{"$error":"#REF!"}},{"$f":"'Budget FCFA'!#REF!/VLOOKUP(BH$2,$BO$127:$BP$138,2,FALSE)","v":{"$error":"#REF!"}},{"$f":"'Budget FCFA'!#REF!/VLOOKUP(BI$2,$BO$127:$BP$138,2,FALSE)","v":{"$error":"#REF!"}},{"$f":"'Budget FCFA'!#REF!/VLOOKUP(BJ$2,$BO$127:$BP$138,2,FALSE)","v":{"$error":"#REF!"}},{"$error":"#REF!"},{"$f":"BK77-'Budget FCFA'!#REF!","v":{"$error":"#REF!"}}]
["PUBTELEV","LIBREVILLE","Achat d'espace TV / PARTENARIAT",{"$f":"'Budget FCFA'!D78/VLOOKUP(D$2,$BO$127:$BP$138,2,FALSE)","v":0},{"$f":"'Budget FCFA'!E78/VLOOKUP(E$2,$BO$127:$BP$138,2,FALSE)","v":0},{"$f":"'Budget FCFA'!F78/VLOOKUP(F$2,$BO$127:$BP$138,2,FALSE)","v":0},{"$f":"'Budget FCFA'!G78/VLOOKUP(G$2,$BO$127:$BP$138,2,FALSE)","v":0},{"$f":"'Budget FCFA'!H78/VLOOKUP(H$2,$BO$127:$BP$138,2,FALSE)","v":0},{"$f":"'Budget FCFA'!I78/VLOOKUP(I$2,$BO$127:$BP$138,2,FALSE)","v":0},{"$f":"'Budget FCFA'!J78/VLOOKUP(J$2,$BO$127:$BP$138,2,FALSE)","v":0},{"$f":"'Budget FCFA'!K78/VLOOKUP(K$2,$BO$127:$BP$138,2,FALSE)","v":0},{"$f":"'Budget FCFA'!L78/VLOOKUP(L$2,$BO$127:$BP$138,2,FALSE)","v":0},{"$f":"'Budget FCFA'!M78/VLOOKUP(M$2,$BO$127:$BP$138,2,FALSE)","v":0},{"$f":"'Budget FCFA'!N78/VLOOKUP(N$2,$BO$127:$BP$138,2,FALSE)","v":0},{"$f":"'Budget FCFA'!O78/VLOOKUP(O$2,$BO$127:$BP$138,2,FALSE)","v":0},{"$f":"'Budget FCFA'!P78/VLOOKUP(P$2,$BO$127:$BP$138,2,FALSE)","v":146.09646668912748},{"$f":"'Budget FCFA'!Q78/VLOOKUP(Q$2,$BO$127:$BP$138,2,FALSE)","v":0},{"$f":"'Budget FCFA'!R78/VLOOKUP(R$2,$BO$127:$BP$138,2,FALSE)","v":0},{"$f":"'Budget FCFA'!S78/VLOOKUP(S$2,$BO$127:$BP$138,2,FALSE)","v":0},{"$f":"'Budget FCFA'!T78/VLOOKUP(T$2,$BO$127:$BP$138,2,FALSE)","v":0},{"$f":"'Budget FCFA'!U78/VLOOKUP(U$2,$BO$127:$BP$138,2,FALSE)","v":0},{"$f":"'Budget FCFA'!V78/VLOOKUP(V$2,$BO$127:$BP$138,2,FALSE)","v":0},{"$f":"'Budget FCFA'!W78/VLOOKUP(W$2,$BO$127:$BP$138,2,FALSE)","v":0},{"$f":"'Budget FCFA'!X78/VLOOKUP(X$2,$BO$127:$BP$138,2,FALSE)","v":0},{"$f":"'Budget FCFA'!Y78/VLOOKUP(Y$2,$BO$127:$BP$138,2,FALSE)","v":0},{"$f":"'Budget FCFA'!Z78/VLOOKUP(Z$2,$BO$127:$BP$138,2,FALSE)","v":0},{"$f":"'Budget FCFA'!AA78/VLOOKUP(AA$2,$BO$127:$BP$138,2,FALSE)","v":0},{"$f":"'Budget FCFA'!AB78/VLOOKUP(AB$2,$BO$127:$BP$138,2,FALSE)","v":0},{"$f":"'Budget FCFA'!AC78/VLOOKUP(AC$2,$BO$127:$BP$138,2,FALSE)","v":0},{"$f":"'Budget FCFA'!AD78/VLOOKUP(AD$2,$BO$127:$BP$138,2,FALSE)","v":0},{"$f":"'Budget FCFA'!AE78/VLOOKUP(AE$2,$BO$127:$BP$138,2,FALSE)","v":0},{"$f":"'Budget FCFA'!AF78/VLOOKUP(AF$2,$BO$127:$BP$138,2,FALSE)","v":0},{"$f":"'Budget FCFA'!AG78/VLOOKUP(AG$2,$BO$127:$BP$138,2,FALSE)","v":0},{"$f":"'Budget FCFA'!AH78/VLOOKUP(AH$2,$BO$127:$BP$138,2,FALSE)","v":0},{"$f":"'Budget FCFA'!AI78/VLOOKUP(AI$2,$BO$127:$BP$138,2,FALSE)","v":0},{"$f":"'Budget FCFA'!AJ78/VLOOKUP(AJ$2,$BO$127:$BP$138,2,FALSE)","v":0},{"$f":"'Budget FCFA'!AK78/VLOOKUP(AK$2,$BO$127:$BP$138,2,FALSE)","v":0},{"$f":"'Budget FCFA'!AL78/VLOOKUP(AL$2,$BO$127:$BP$138,2,FALSE)","v":3201.429361985618},{"$f":"'Budget FCFA'!AM78/VLOOKUP(AM$2,$BO$127:$BP$138,2,FALSE)","v":0},{"$f":"'Budget FCFA'!AN78/VLOOKUP(AN$2,$BO$127:$BP$138,2,FALSE)","v":0},{"$f":"'Budget FCFA'!AO78/VLOOKUP(AO$2,$BO$127:$BP$138,2,FALSE)","v":0},{"$f":"'Budget FCFA'!AP78/VLOOKUP(AP$2,$BO$127:$BP$138,2,FALSE)","v":0},{"$f":"'Budget FCFA'!#REF!/VLOOKUP(AQ$2,$BO$127:$BP$138,2,FALSE)","v":{"$error":"#REF!"}},{"$f":"'Budget FCFA'!#REF!/VLOOKUP(AR$2,$BO$127:$BP$138,2,FALSE)","v":{"$error":"#REF!"}},{"$f":"'Budget FCFA'!#REF!/VLOOKUP(AS$2,$BO$127:$BP$138,2,FALSE)","v":{"$error":"#REF!"}},{"$f":"'Budget FCFA'!#REF!/VLOOKUP(AT$2,$BO$127:$BP$138,2,FALSE)","v":{"$error":"#REF!"}},{"$f":"'Budget FCFA'!#REF!/VLOOKUP(AU$2,$BO$127:$BP$138,2,FALSE)","v":{"$error":"#REF!"}},{"$f":"'Budget FCFA'!#REF!/VLOOKUP(AV$2,$BO$127:$BP$138,2,FALSE)","v":{"$error":"#REF!"}},{"$f":"'Budget FCFA'!#REF!/VLOOKUP(AW$2,$BO$127:$BP$138,2,FALSE)","v":{"$error":"#REF!"}},{"$f":"'Budget FCFA'!#REF!/VLOOKUP(AX$2,$BO$127:$BP$138,2,FALSE)","v":{"$error":"#REF!"}},{"$f":"'Budget FCFA'!#REF!/VLOOKUP(AY$2,$BO$127:$BP$138,2,FALSE)","v":{"$error":"#REF!"}},{"$f":"'Budget FCFA'!#REF!/VLOOKUP(AZ$2,$BO$127:$BP$138,2,FALSE)","v":{"$error":"#REF!"}},{"$f":"'Budget FCFA'!#REF!/VLOOKUP(BA$2,$BO$127:$BP$138,2,FALSE)","v":{"$error":"#REF!"}},{"$f":"'Budget FCFA'!#REF!/VLOOKUP(BB$2,$BO$127:$BP$138,2,FALSE)","v":{"$error":"#REF!"}},{"$f":"'Budget FCFA'!#REF!/VLOOKUP(BC$2,$BO$127:$BP$138,2,FALSE)","v":{"$error":"#REF!"}},{"$f":"'Budget FCFA'!#REF!/VLOOKUP(BD$2,$BO$127:$BP$138,2,FALSE)","v":{"$error":"#REF!"}},{"$f":"'Budget FCFA'!#REF!/VLOOKUP(BE$2,$BO$127:$BP$138,2,FALSE)","v":{"$error":"#REF!"}},{"$f":"'Budget FCFA'!#REF!/VLOOKUP(BF$2,$BO$127:$BP$138,2,FALSE)","v":{"$error":"#REF!"}},{"$f":"'Budget FCFA'!#REF!/VLOOKUP(BG$2,$BO$127:$BP$138,2,FALSE)","v":{"$error":"#REF!"}},{"$f":"'Budget FCFA'!#REF!/VLOOKUP(BH$2,$BO$127:$BP$138,2,FALSE)","v":{"$error":"#REF!"}},{"$f":"'Budget FCFA'!#REF!/VLOOKUP(BI$2,$BO$127:$BP$138,2,FALSE)","v":{"$error":"#REF!"}},{"$f":"'Budget FCFA'!#REF!/VLOOKUP(BJ$2,$BO$127:$BP$138,2,FALSE)","v":{"$error":"#REF!"}},{"$error":"#REF!"},{"$f":"BK78-'Budget FCFA'!#REF!","v":{"$error":"#REF!"}}]
["PUBTELEV","DOUALA","Achat d'espace TV / PARTENARIAT",{"$f":"'Budget FCFA'!D79/VLOOKUP(D$2,$BO$127:$BP$138,2,FALSE)","v":0},{"$f":"'Budget FCFA'!E79/VLOOKUP(E$2,$BO$127:$BP$138,2,FALSE)","v":0},{"$f":"'Budget FCFA'!F79/VLOOKUP(F$2,$BO$127:$BP$138,2,FALSE)","v":0},{"$f":"'Budget FCFA'!G79/VLOOKUP(G$2,$BO$127:$BP$138,2,FALSE)","v":0},{"$f":"'Budget FCFA'!H79/VLOOKUP(H$2,$BO$127:$BP$138,2,FALSE)","v":0},{"$f":"'Budget FCFA'!I79/VLOOKUP(I$2,$BO$127:$BP$138,2,FALSE)","v":0},{"$f":"'Budget FCFA'!J79/VLOOKUP(J$2,$BO$127:$BP$138,2,FALSE)","v":0},{"$f":"'Budget FCFA'!K79/VLOOKUP(K$2,$BO$127:$BP$138,2,FALSE)","v":0},{"$f":"'Budget FCFA'!L79/VLOOKUP(L$2,$BO$127:$BP$138,2,FALSE)","v":0},{"$f":"'Budget FCFA'!M79/VLOOKUP(M$2,$BO$127:$BP$138,2,FALSE)","v":0},{"$f":"'Budget FCFA'!N79/VLOOKUP(N$2,$BO$127:$BP$138,2,FALSE)","v":0},{"$f":"'Budget FCFA'!O79/VLOOKUP(O$2,$BO$127:$BP$138,2,FALSE)","v":0},{"$f":"'Budget FCFA'!P79/VLOOKUP(P$2,$BO$127:$BP$138,2,FALSE)","v":0},{"$f":"'Budget FCFA'!Q79/VLOOKUP(Q$2,$BO$127:$BP$138,2,FALSE)","v":0},{"$f":"'Budget FCFA'!R79/VLOOKUP(R$2,$BO$127:$BP$138,2,FALSE)","v":0},{"$f":"'Budget FCFA'!S79/VLOOKUP(S$2,$BO$127:$BP$138,2,FALSE)","v":0},{"$f":"'Budget FCFA'!T79/VLOOKUP(T$2,$BO$127:$BP$138,2,FALSE)","v":0},{"$f":"'Budget FCFA'!U79/VLOOKUP(U$2,$BO$127:$BP$138,2,FALSE)","v":0},{"$f":"'Budget FCFA'!V79/VLOOKUP(V$2,$BO$127:$BP$138,2,FALSE)","v":0},{"$f":"'Budget FCFA'!W79/VLOOKUP(W$2,$BO$127:$BP$138,2,FALSE)","v":0},{"$f":"'Budget FCFA'!X79/VLOOKUP(X$2,$BO$127:$BP$138,2,FALSE)","v":0},{"$f":"'Budget FCFA'!Y79/VLOOKUP(Y$2,$BO$127:$BP$138,2,FALSE)","v":0},{"$f":"'Budget FCFA'!Z79/VLOOKUP(Z$2,$BO$127:$BP$138,2,FALSE)","v":0},{"$f":"'Budget FCFA'!AA79/VLOOKUP(AA$2,$BO$127:$BP$138,2,FALSE)","v":0},{"$f":"'Budget FCFA'!AB79/VLOOKUP(AB$2,$BO$127:$BP$138,2,FALSE)","v":0},{"$f":"'Budget FCFA'!AC79/VLOOKUP(AC$2,$BO$127:$BP$138,2,FALSE)","v":0},{"$f":"'Budget FCFA'!AD79/VLOOKUP(AD$2,$BO$127:$BP$138,2,FALSE)","v":0},{"$f":"'Budget FCFA'!AE79/VLOOKUP(AE$2,$BO$127:$BP$138,2,FALSE)","v":0},{"$f":"'Budget FCFA'!AF79/VLOOKUP(AF$2,$BO$127:$BP$138,2,FALSE)","v":0},{"$f":"'Budget FCFA'!AG79/VLOOKUP(AG$2,$BO$127:$BP$138,2,FALSE)","v":0},{"$f":"'Budget FCFA'!AH79/VLOOKUP(AH$2,$BO$127:$BP$138,2,FALSE)","v":0},{"$f":"'Budget FCFA'!AI79/VLOOKUP(AI$2,$BO$127:$BP$138,2,FALSE)","v":0},{"$f":"'Budget FCFA'!AJ79/VLOOKUP(AJ$2,$BO$127:$BP$138,2,FALSE)","v":0},{"$f":"'Budget FCFA'!AK79/VLOOKUP(AK$2,$BO$127:$BP$138,2,FALSE)","v":0},{"$f":"'Budget FCFA'!AL79/VLOOKUP(AL$2,$BO$127:$BP$138,2,FALSE)","v":0},{"$f":"'Budget FCFA'!AM79/VLOOKUP(AM$2,$BO$127:$BP$138,2,FALSE)","v":0},{"$f":"'Budget FCFA'!AN79/VLOOKUP(AN$2,$BO$127:$BP$138,2,FALSE)","v":0},{"$f":"'Budget FCFA'!AO79/VLOOKUP(AO$2,$BO$127:$BP$138,2,FALSE)","v":0},{"$f":"'Budget FCFA'!AP79/VLOOKUP(AP$2,$BO$127:$BP$138,2,FALSE)","v":0},{"$f":"'Budget FCFA'!#REF!/VLOOKUP(AQ$2,$BO$127:$BP$138,2,FALSE)","v":{"$error":"#REF!"}},{"$f":"'Budget FCFA'!#REF!/VLOOKUP(AR$2,$BO$127:$BP$138,2,FALSE)","v":{"$error":"#REF!"}},{"$f":"'Budget FCFA'!#REF!/VLOOKUP(AS$2,$BO$127:$BP$138,2,FALSE)","v":{"$error":"#REF!"}},{"$f":"'Budget FCFA'!#REF!/VLOOKUP(AT$2,$BO$127:$BP$138,2,FALSE)","v":{"$error":"#REF!"}},{"$f":"'Budget FCFA'!#REF!/VLOOKUP(AU$2,$BO$127:$BP$138,2,FALSE)","v":{"$error":"#REF!"}},{"$f":"'Budget FCFA'!#REF!/VLOOKUP(AV$2,$BO$127:$BP$138,2,FALSE)","v":{"$error":"#REF!"}},{"$f":"'Budget FCFA'!#REF!/VLOOKUP(AW$2,$BO$127:$BP$138,2,FALSE)","v":{"$error":"#REF!"}},{"$f":"'Budget FCFA'!#REF!/VLOOKUP(AX$2,$BO$127:$BP$138,2,FALSE)","v":{"$error":"#REF!"}},{"$f":"'Budget FCFA'!#REF!/VLOOKUP(AY$2,$BO$127:$BP$138,2,FALSE)","v":{"$error":"#REF!"}},{"$f":"'Budget FCFA'!#REF!/VLOOKUP(AZ$2,$BO$127:$BP$138,2,FALSE)","v":{"$error":"#REF!"}},{"$f":"'Budget FCFA'!#REF!/VLOOKUP(BA$2,$BO$127:$BP$138,2,FALSE)","v":{"$error":"#REF!"}},{"$f":"'Budget FCFA'!#REF!/VLOOKUP(BB$2,$BO$127:$BP$138,2,FALSE)","v":{"$error":"#REF!"}},{"$f":"'Budget FCFA'!#REF!/VLOOKUP(BC$2,$BO$127:$BP$138,2,FALSE)","v":{"$error":"#REF!"}},{"$f":"'Budget FCFA'!#REF!/VLOOKUP(BD$2,$BO$127:$BP$138,2,FALSE)","v":{"$error":"#REF!"}},{"$f":"'Budget FCFA'!#REF!/VLOOKUP(BE$2,$BO$127:$BP$138,2,FALSE)","v":{"$error":"#REF!"}},{"$f":"'Budget FCFA'!#REF!/VLOOKUP(BF$2,$BO$127:$BP$138,2,FALSE)","v":{"$error":"#REF!"}},{"$f":"'Budget FCFA'!#REF!/VLOOKUP(BG$2,$BO$127:$BP$138,2,FALSE)","v":{"$error":"#REF!"}},{"$f":"'Budget FCFA'!#REF!/VLOOKUP(BH$2,$BO$127:$BP$138,2,FALSE)","v":{"$error":"#REF!"}},{"$f":"'Budget FCFA'!#REF!/VLOOKUP(BI$2,$BO$127:$BP$138,2,FALSE)","v":{"$error":"#REF!"}},{"$f":"'Budget FCFA'!#REF!/VLOOKUP(BJ$2,$BO$127:$BP$138,2,FALSE)","v":{"$error":"#REF!"}},{"$error":"#REF!"},{"$f":"BK79-'Budget FCFA'!#REF!","v":{"$error":"#REF!"}}]
["PUBTELEV","ABIDJAN","Vidéos TV / WEB",{"$f":"'Budget FCFA'!D80/VLOOKUP(D$2,$BO$127:$BP$138,2,FALSE)","v":0},{"$f":"'Budget FCFA'!E80/VLOOKUP(E$2,$BO$127:$BP$138,2,FALSE)","v":0},{"$f":"'Budget FCFA'!F80/VLOOKUP(F$2,$BO$127:$BP$138,2,FALSE)","v":0},{"$f":"'Budget FCFA'!G80/VLOOKUP(G$2,$BO$127:$BP$138,2,FALSE)","v":0},{"$f":"'Budget FCFA'!H80/VLOOKUP(H$2,$BO$127:$BP$138,2,FALSE)","v":0},{"$f":"'Budget FCFA'!I80/VLOOKUP(I$2,$BO$127:$BP$138,2,FALSE)","v":0},{"$f":"'Budget FCFA'!J80/VLOOKUP(J$2,$BO$127:$BP$138,2,FALSE)","v":0},{"$f":"'Budget FCFA'!K80/VLOOKUP(K$2,$BO$127:$BP$138,2,FALSE)","v":0},{"$f":"'Budget FCFA'!L80/VLOOKUP(L$2,$BO$127:$BP$138,2,FALSE)","v":0},{"$f":"'Budget FCFA'!M80/VLOOKUP(M$2,$BO$127:$BP$138,2,FALSE)","v":0},{"$f":"'Budget FCFA'!N80/VLOOKUP(N$2,$BO$127:$BP$138,2,FALSE)","v":0},{"$f":"'Budget FCFA'!O80/VLOOKUP(O$2,$BO$127:$BP$138,2,FALSE)","v":0},{"$f":"'Budget FCFA'!P80/VLOOKUP(P$2,$BO$127:$BP$138,2,FALSE)","v":0},{"$f":"'Budget FCFA'!Q80/VLOOKUP(Q$2,$BO$127:$BP$138,2,FALSE)","v":0},{"$f":"'Budget FCFA'!R80/VLOOKUP(R$2,$BO$127:$BP$138,2,FALSE)","v":0},{"$f":"'Budget FCFA'!S80/VLOOKUP(S$2,$BO$127:$BP$138,2,FALSE)","v":0},{"$f":"'Budget FCFA'!T80/VLOOKUP(T$2,$BO$127:$BP$138,2,FALSE)","v":0},{"$f":"'Budget FCFA'!U80/VLOOKUP(U$2,$BO$127:$BP$138,2,FALSE)","v":0},{"$f":"'Budget FCFA'!V80/VLOOKUP(V$2,$BO$127:$BP$138,2,FALSE)","v":0},{"$f":"'Budget FCFA'!W80/VLOOKUP(W$2,$BO$127:$BP$138,2,FALSE)","v":0},{"$f":"'Budget FCFA'!X80/VLOOKUP(X$2,$BO$127:$BP$138,2,FALSE)","v":0},{"$f":"'Budget FCFA'!Y80/VLOOKUP(Y$2,$BO$127:$BP$138,2,FALSE)","v":0},{"$f":"'Budget FCFA'!Z80/VLOOKUP(Z$2,$BO$127:$BP$138,2,FALSE)","v":0},{"$f":"'Budget FCFA'!AA80/VLOOKUP(AA$2,$BO$127:$BP$138,2,FALSE)","v":0},{"$f":"'Budget FCFA'!AB80/VLOOKUP(AB$2,$BO$127:$BP$138,2,FALSE)","v":0},{"$f":"'Budget FCFA'!AC80/VLOOKUP(AC$2,$BO$127:$BP$138,2,FALSE)","v":0},{"$f":"'Budget FCFA'!AD80/VLOOKUP(AD$2,$BO$127:$BP$138,2,FALSE)","v":0},{"$f":"'Budget FCFA'!AE80/VLOOKUP(AE$2,$BO$127:$BP$138,2,FALSE)","v":0},{"$f":"'Budget FCFA'!AF80/VLOOKUP(AF$2,$BO$127:$BP$138,2,FALSE)","v":0},{"$f":"'Budget FCFA'!AG80/VLOOKUP(AG$2,$BO$127:$BP$138,2,FALSE)","v":0},{"$f":"'Budget FCFA'!AH80/VLOOKUP(AH$2,$BO$127:$BP$138,2,FALSE)","v":0},{"$f":"'Budget FCFA'!AI80/VLOOKUP(AI$2,$BO$127:$BP$138,2,FALSE)","v":0},{"$f":"'Budget FCFA'!AJ80/VLOOKUP(AJ$2,$BO$127:$BP$138,2,FALSE)","v":0},{"$f":"'Budget FCFA'!AK80/VLOOKUP(AK$2,$BO$127:$BP$138,2,FALSE)","v":0},{"$f":"'Budget FCFA'!AL80/VLOOKUP(AL$2,$BO$127:$BP$138,2,FALSE)","v":3284.0521558577775},{"$f":"'Budget FCFA'!AM80/VLOOKUP(AM$2,$BO$127:$BP$138,2,FALSE)","v":0},{"$f":"'Budget FCFA'!AN80/VLOOKUP(AN$2,$BO$127:$BP$138,2,FALSE)","v":0},{"$f":"'Budget FCFA'!AO80/VLOOKUP(AO$2,$BO$127:$BP$138,2,FALSE)","v":0},{"$f":"'Budget FCFA'!AP80/VLOOKUP(AP$2,$BO$127:$BP$138,2,FALSE)","v":0},{"$f":"'Budget FCFA'!#REF!/VLOOKUP(AQ$2,$BO$127:$BP$138,2,FALSE)","v":{"$error":"#REF!"}},{"$f":"'Budget FCFA'!#REF!/VLOOKUP(AR$2,$BO$127:$BP$138,2,FALSE)","v":{"$error":"#REF!"}},{"$f":"'Budget FCFA'!#REF!/VLOOKUP(AS$2,$BO$127:$BP$138,2,FALSE)","v":{"$error":"#REF!"}},{"$f":"'Budget FCFA'!#REF!/VLOOKUP(AT$2,$BO$127:$BP$138,2,FALSE)","v":{"$error":"#REF!"}},{"$f":"'Budget FCFA'!#REF!/VLOOKUP(AU$2,$BO$127:$BP$138,2,FALSE)","v":{"$error":"#REF!"}},{"$f":"'Budget FCFA'!#REF!/VLOOKUP(AV$2,$BO$127:$BP$138,2,FALSE)","v":{"$error":"#REF!"}},{"$f":"'Budget FCFA'!#REF!/VLOOKUP(AW$2,$BO$127:$BP$138,2,FALSE)","v":{"$error":"#REF!"}},{"$f":"'Budget FCFA'!#REF!/VLOOKUP(AX$2,$BO$127:$BP$138,2,FALSE)","v":{"$error":"#REF!"}},{"$f":"'Budget FCFA'!#REF!/VLOOKUP(AY$2,$BO$127:$BP$138,2,FALSE)","v":{"$error":"#REF!"}},{"$f":"'Budget FCFA'!#REF!/VLOOKUP(AZ$2,$BO$127:$BP$138,2,FALSE)","v":{"$error":"#REF!"}},{"$f":"'Budget FCFA'!#REF!/VLOOKUP(BA$2,$BO$127:$BP$138,2,FALSE)","v":{"$error":"#REF!"}},{"$f":"'Budget FCFA'!#REF!/VLOOKUP(BB$2,$BO$127:$BP$138,2,FALSE)","v":{"$error":"#REF!"}},{"$f":"'Budget FCFA'!#REF!/VLOOKUP(BC$2,$BO$127:$BP$138,2,FALSE)","v":{"$error":"#REF!"}},{"$f":"'Budget FCFA'!#REF!/VLOOKUP(BD$2,$BO$127:$BP$138,2,FALSE)","v":{"$error":"#REF!"}},{"$f":"'Budget FCFA'!#REF!/VLOOKUP(BE$2,$BO$127:$BP$138,2,FALSE)","v":{"$error":"#REF!"}},{"$f":"'Budget FCFA'!#REF!/VLOOKUP(BF$2,$BO$127:$BP$138,2,FALSE)","v":{"$error":"#REF!"}},{"$f":"'Budget FCFA'!#REF!/VLOOKUP(BG$2,$BO$127:$BP$138,2,FALSE)","v":{"$error":"#REF!"}},{"$f":"'Budget FCFA'!#REF!/VLOOKUP(BH$2,$BO$127:$BP$138,2,FALSE)","v":{"$error":"#REF!"}},{"$f":"'Budget FCFA'!#REF!/VLOOKUP(BI$2,$BO$127:$BP$138,2,FALSE)","v":{"$error":"#REF!"}},{"$f":"'Budget FCFA'!#REF!/VLOOKUP(BJ$2,$BO$127:$BP$138,2,FALSE)","v":{"$error":"#REF!"}},{"$error":"#REF!"},{"$f":"BK80-'Budget FCFA'!#REF!","v":{"$error":"#REF!"}}]
["PUBTELEV","BRAZZA","Vidéos TV / WEB",{"$f":"'Budget FCFA'!D81/VLOOKUP(D$2,$BO$127:$BP$138,2,FALSE)","v":0},{"$f":"'Budget FCFA'!E81/VLOOKUP(E$2,$BO$127:$BP$138,2,FALSE)","v":0},{"$f":"'Budget FCFA'!F81/VLOOKUP(F$2,$BO$127:$BP$138,2,FALSE)","v":0},{"$f":"'Budget FCFA'!G81/VLOOKUP(G$2,$BO$127:$BP$138,2,FALSE)","v":0},{"$f":"'Budget FCFA'!H81/VLOOKUP(H$2,$BO$127:$BP$138,2,FALSE)","v":0},{"$f":"'Budget FCFA'!I81/VLOOKUP(I$2,$BO$127:$BP$138,2,FALSE)","v":0},{"$f":"'Budget FCFA'!J81/VLOOKUP(J$2,$BO$127:$BP$138,2,FALSE)","v":0},{"$f":"'Budget FCFA'!K81/VLOOKUP(K$2,$BO$127:$BP$138,2,FALSE)","v":0},{"$f":"'Budget FCFA'!L81/VLOOKUP(L$2,$BO$127:$BP$138,2,FALSE)","v":0},{"$f":"'Budget FCFA'!M81/VLOOKUP(M$2,$BO$127:$BP$138,2,FALSE)","v":0},{"$f":"'Budget FCFA'!N81/VLOOKUP(N$2,$BO$127:$BP$138,2,FALSE)","v":0},{"$f":"'Budget FCFA'!O81/VLOOKUP(O$2,$BO$127:$BP$138,2,FALSE)","v":0},{"$f":"'Budget FCFA'!P81/VLOOKUP(P$2,$BO$127:$BP$138,2,FALSE)","v":0},{"$f":"'Budget FCFA'!Q81/VLOOKUP(Q$2,$BO$127:$BP$138,2,FALSE)","v":0},{"$f":"'Budget FCFA'!R81/VLOOKUP(R$2,$BO$127:$BP$138,2,FALSE)","v":0},{"$f":"'Budget FCFA'!S81/VLOOKUP(S$2,$BO$127:$BP$138,2,FALSE)","v":0},{"$f":"'Budget FCFA'!T81/VLOOKUP(T$2,$BO$127:$BP$138,2,FALSE)","v":0},{"$f":"'Budget FCFA'!U81/VLOOKUP(U$2,$BO$127:$BP$138,2,FALSE)","v":0},{"$f":"'Budget FCFA'!V81/VLOOKUP(V$2,$BO$127:$BP$138,2,FALSE)","v":0},{"$f":"'Budget FCFA'!W81/VLOOKUP(W$2,$BO$127:$BP$138,2,FALSE)","v":0},{"$f":"'Budget FCFA'!X81/VLOOKUP(X$2,$BO$127:$BP$138,2,FALSE)","v":0},{"$f":"'Budget FCFA'!Y81/VLOOKUP(Y$2,$BO$127:$BP$138,2,FALSE)","v":0},{"$f":"'Budget FCFA'!Z81/VLOOKUP(Z$2,$BO$127:$BP$138,2,FALSE)","v":0},{"$f":"'Budget FCFA'!AA81/VLOOKUP(AA$2,$BO$127:$BP$138,2,FALSE)","v":0},{"$f":"'Budget FCFA'!AB81/VLOOKUP(AB$2,$BO$127:$BP$138,2,FALSE)","v":0},{"$f":"'Budget FCFA'!AC81/VLOOKUP(AC$2,$BO$127:$BP$138,2,FALSE)","v":0},{"$f":"'Budget FCFA'!AD81/VLOOKUP(AD$2,$BO$127:$BP$138,2,FALSE)","v":0},{"$f":"'Budget FCFA'!AE81/VLOOKUP(AE$2,$BO$127:$BP$138,2,FALSE)","v":0},{"$f":"'Budget FCFA'!AF81/VLOOKUP(AF$2,$BO$127:$BP$138,2,FALSE)","v":0},{"$f":"'Budget FCFA'!AG81/VLOOKUP(AG$2,$BO$127:$BP$138,2,FALSE)","v":0},{"$f":"'Budget FCFA'!AH81/VLOOKUP(AH$2,$BO$127:$BP$138,2,FALSE)","v":0},{"$f":"'Budget FCFA'!AI81/VLOOKUP(AI$2,$BO$127:$BP$138,2,FALSE)","v":0},{"$f":"'Budget FCFA'!AJ81/VLOOKUP(AJ$2,$BO$127:$BP$138,2,FALSE)","v":0},{"$f":"'Budget FCFA'!AK81/VLOOKUP(AK$2,$BO$127:$BP$138,2,FALSE)","v":0},{"$f":"'Budget FCFA'!AL81/VLOOKUP(AL$2,$BO$127:$BP$138,2,FALSE)","v":629.98641679256411},{"$f":"'Budget FCFA'!AM81/VLOOKUP(AM$2,$BO$127:$BP$138,2,FALSE)","v":0},{"$f":"'Budget FCFA'!AN81/VLOOKUP(AN$2,$BO$127:$BP$138,2,FALSE)","v":0},{"$f":"'Budget FCFA'!AO81/VLOOKUP(AO$2,$BO$127:$BP$138,2,FALSE)","v":0},{"$f":"'Budget FCFA'!AP81/VLOOKUP(AP$2,$BO$127:$BP$138,2,FALSE)","v":0},{"$f":"'Budget FCFA'!#REF!/VLOOKUP(AQ$2,$BO$127:$BP$138,2,FALSE)","v":{"$error":"#REF!"}},{"$f":"'Budget FCFA'!#REF!/VLOOKUP(AR$2,$BO$127:$BP$138,2,FALSE)","v":{"$error":"#REF!"}},{"$f":"'Budget FCFA'!#REF!/VLOOKUP(AS$2,$BO$127:$BP$138,2,FALSE)","v":{"$error":"#REF!"}},{"$f":"'Budget FCFA'!#REF!/VLOOKUP(AT$2,$BO$127:$BP$138,2,FALSE)","v":{"$error":"#REF!"}},{"$f":"'Budget FCFA'!#REF!/VLOOKUP(AU$2,$BO$127:$BP$138,2,FALSE)","v":{"$error":"#REF!"}},{"$f":"'Budget FCFA'!#REF!/VLOOKUP(AV$2,$BO$127:$BP$138,2,FALSE)","v":{"$error":"#REF!"}},{"$f":"'Budget FCFA'!#REF!/VLOOKUP(AW$2,$BO$127:$BP$138,2,FALSE)","v":{"$error":"#REF!"}},{"$f":"'Budget FCFA'!#REF!/VLOOKUP(AX$2,$BO$127:$BP$138,2,FALSE)","v":{"$error":"#REF!"}},{"$f":"'Budget FCFA'!#REF!/VLOOKUP(AY$2,$BO$127:$BP$138,2,FALSE)","v":{"$error":"#REF!"}},{"$f":"'Budget FCFA'!#REF!/VLOOKUP(AZ$2,$BO$127:$BP$138,2,FALSE)","v":{"$error":"#REF!"}},{"$f":"'Budget FCFA'!#REF!/VLOOKUP(BA$2,$BO$127:$BP$138,2,FALSE)","v":{"$error":"#REF!"}},{"$f":"'Budget FCFA'!#REF!/VLOOKUP(BB$2,$BO$127:$BP$138,2,FALSE)","v":{"$error":"#REF!"}},{"$f":"'Budget FCFA'!#REF!/VLOOKUP(BC$2,$BO$127:$BP$138,2,FALSE)","v":{"$error":"#REF!"}},{"$f":"'Budget FCFA'!#REF!/VLOOKUP(BD$2,$BO$127:$BP$138,2,FALSE)","v":{"$error":"#REF!"}},{"$f":"'Budget FCFA'!#REF!/VLOOKUP(BE$2,$BO$127:$BP$138,2,FALSE)","v":{"$error":"#REF!"}},{"$f":"'Budget FCFA'!#REF!/VLOOKUP(BF$2,$BO$127:$BP$138,2,FALSE)","v":{"$error":"#REF!"}},{"$f":"'Budget FCFA'!#REF!/VLOOKUP(BG$2,$BO$127:$BP$138,2,FALSE)","v":{"$error":"#REF!"}},{"$f":"'Budget FCFA'!#REF!/VLOOKUP(BH$2,$BO$127:$BP$138,2,FALSE)","v":{"$error":"#REF!"}},{"$f":"'Budget FCFA'!#REF!/VLOOKUP(BI$2,$BO$127:$BP$138,2,FALSE)","v":{"$error":"#REF!"}},{"$f":"'Budget FCFA'!#REF!/VLOOKUP(BJ$2,$BO$127:$BP$138,2,FALSE)","v":{"$error":"#REF!"}},{"$error":"#REF!"},{"$f":"BK81-'Budget FCFA'!#REF!","v":{"$error":"#REF!"}}]
["PUBTELEV","DAKAR","Vidéos TV / WEB",{"$f":"'Budget FCFA'!D82/VLOOKUP(D$2,$BO$127:$BP$138,2,FALSE)","v":0},{"$f":"'Budget FCFA'!E82/VLOOKUP(E$2,$BO$127:$BP$138,2,FALSE)","v":0},{"$f":"'Budget FCFA'!F82/VLOOKUP(F$2,$BO$127:$BP$138,2,FALSE)","v":0},{"$f":"'Budget FCFA'!G82/VLOOKUP(G$2,$BO$127:$BP$138,2,FALSE)","v":0},{"$f":"'Budget FCFA'!H82/VLOOKUP(H$2,$BO$127:$BP$138,2,FALSE)","v":0},{"$f":"'Budget FCFA'!I82/VLOOKUP(I$2,$BO$127:$BP$138,2,FALSE)","v":0},{"$f":"'Budget FCFA'!J82/VLOOKUP(J$2,$BO$127:$BP$138,2,FALSE)","v":0},{"$f":"'Budget FCFA'!K82/VLOOKUP(K$2,$BO$127:$BP$138,2,FALSE)","v":0},{"$f":"'Budget FCFA'!L82/VLOOKUP(L$2,$BO$127:$BP$138,2,FALSE)","v":0},{"$f":"'Budget FCFA'!M82/VLOOKUP(M$2,$BO$127:$BP$138,2,FALSE)","v":0},{"$f":"'Budget FCFA'!N82/VLOOKUP(N$2,$BO$127:$BP$138,2,FALSE)","v":0},{"$f":"'Budget FCFA'!O82/VLOOKUP(O$2,$BO$127:$BP$138,2,FALSE)","v":0},{"$f":"'Budget FCFA'!P82/VLOOKUP(P$2,$BO$127:$BP$138,2,FALSE)","v":0},{"$f":"'Budget FCFA'!Q82/VLOOKUP(Q$2,$BO$127:$BP$138,2,FALSE)","v":0},{"$f":"'Budget FCFA'!R82/VLOOKUP(R$2,$BO$127:$BP$138,2,FALSE)","v":0},{"$f":"'Budget FCFA'!S82/VLOOKUP(S$2,$BO$127:$BP$138,2,FALSE)","v":0},{"$f":"'Budget FCFA'!T82/VLOOKUP(T$2,$BO$127:$BP$138,2,FALSE)","v":0},{"$f":"'Budget FCFA'!U82/VLOOKUP(U$2,$BO$127:$BP$138,2,FALSE)","v":0},{"$f":"'Budget FCFA'!V82/VLOOKUP(V$2,$BO$127:$BP$138,2,FALSE)","v":0},{"$f":"'Budget FCFA'!W82/VLOOKUP(W$2,$BO$127:$BP$138,2,FALSE)","v":0},{"$f":"'Budget FCFA'!X82/VLOOKUP(X$2,$BO$127:$BP$138,2,FALSE)","v":0},{"$f":"'Budget FCFA'!Y82/VLOOKUP(Y$2,$BO$127:$BP$138,2,FALSE)","v":0},{"$f":"'Budget FCFA'!Z82/VLOOKUP(Z$2,$BO$127:$BP$138,2,FALSE)","v":0},{"$f":"'Budget FCFA'!AA82/VLOOKUP(AA$2,$BO$127:$BP$138,2,FALSE)","v":0},{"$f":"'Budget FCFA'!AB82/VLOOKUP(AB$2,$BO$127:$BP$138,2,FALSE)","v":0},{"$f":"'Budget FCFA'!AC82/VLOOKUP(AC$2,$BO$127:$BP$138,2,FALSE)","v":0},{"$f":"'Budget FCFA'!AD82/VLOOKUP(AD$2,$BO$127:$BP$138,2,FALSE)","v":0},{"$f":"'Budget FCFA'!AE82/VLOOKUP(AE$2,$BO$127:$BP$138,2,FALSE)","v":0},{"$f":"'Budget FCFA'!AF82/VLOOKUP(AF$2,$BO$127:$BP$138,2,FALSE)","v":0},{"$f":"'Budget FCFA'!AG82/VLOOKUP(AG$2,$BO$127:$BP$138,2,FALSE)","v":0},{"$f":"'Budget FCFA'!AH82/VLOOKUP(AH$2,$BO$127:$BP$138,2,FALSE)","v":0},{"$f":"'Budget FCFA'!AI82/VLOOKUP(AI$2,$BO$127:$BP$138,2,FALSE)","v":0},{"$f":"'Budget FCFA'!AJ82/VLOOKUP(AJ$2,$BO$127:$BP$138,2,FALSE)","v":0},{"$f":"'Budget FCFA'!AK82/VLOOKUP(AK$2,$BO$127:$BP$138,2,FALSE)","v":0},{"$f":"'Budget FCFA'!AL82/VLOOKUP(AL$2,$BO$127:$BP$138,2,FALSE)","v":844.25655950008922},{"$f":"'Budget FCFA'!AM82/VLOOKUP(AM$2,$BO$127:$BP$138,2,FALSE)","v":0},{"$f":"'Budget FCFA'!AN82/VLOOKUP(AN$2,$BO$127:$BP$138,2,FALSE)","v":0},{"$f":"'Budget FCFA'!AO82/VLOOKUP(AO$2,$BO$127:$BP$138,2,FALSE)","v":0},{"$f":"'Budget FCFA'!AP82/VLOOKUP(AP$2,$BO$127:$BP$138,2,FALSE)","v":0},{"$f":"'Budget FCFA'!#REF!/VLOOKUP(AQ$2,$BO$127:$BP$138,2,FALSE)","v":{"$error":"#REF!"}},{"$f":"'Budget FCFA'!#REF!/VLOOKUP(AR$2,$BO$127:$BP$138,2,FALSE)","v":{"$error":"#REF!"}},{"$f":"'Budget FCFA'!#REF!/VLOOKUP(AS$2,$BO$127:$BP$138,2,FALSE)","v":{"$error":"#REF!"}},{"$f":"'Budget FCFA'!#REF!/VLOOKUP(AT$2,$BO$127:$BP$138,2,FALSE)","v":{"$error":"#REF!"}},{"$f":"'Budget FCFA'!#REF!/VLOOKUP(AU$2,$BO$127:$BP$138,2,FALSE)","v":{"$error":"#REF!"}},{"$f":"'Budget FCFA'!#REF!/VLOOKUP(AV$2,$BO$127:$BP$138,2,FALSE)","v":{"$error":"#REF!"}},{"$f":"'Budget FCFA'!#REF!/VLOOKUP(AW$2,$BO$127:$BP$138,2,FALSE)","v":{"$error":"#REF!"}},{"$f":"'Budget FCFA'!#REF!/VLOOKUP(AX$2,$BO$127:$BP$138,2,FALSE)","v":{"$error":"#REF!"}},{"$f":"'Budget FCFA'!#REF!/VLOOKUP(AY$2,$BO$127:$BP$138,2,FALSE)","v":{"$error":"#REF!"}},{"$f":"'Budget FCFA'!#REF!/VLOOKUP(AZ$2,$BO$127:$BP$138,2,FALSE)","v":{"$error":"#REF!"}},{"$f":"'Budget FCFA'!#REF!/VLOOKUP(BA$2,$BO$127:$BP$138,2,FALSE)","v":{"$error":"#REF!"}},{"$f":"'Budget FCFA'!#REF!/VLOOKUP(BB$2,$BO$127:$BP$138,2,FALSE)","v":{"$error":"#REF!"}},{"$f":"'Budget FCFA'!#REF!/VLOOKUP(BC$2,$BO$127:$BP$138,2,FALSE)","v":{"$error":"#REF!"}},{"$f":"'Budget FCFA'!#REF!/VLOOKUP(BD$2,$BO$127:$BP$138,2,FALSE)","v":{"$error":"#REF!"}},{"$f":"'Budget FCFA'!#REF!/VLOOKUP(BE$2,$BO$127:$BP$138,2,FALSE)","v":{"$error":"#REF!"}},{"$f":"'Budget FCFA'!#REF!/VLOOKUP(BF$2,$BO$127:$BP$138,2,FALSE)","v":{"$error":"#REF!"}},{"$f":"'Budget FCFA'!#REF!/VLOOKUP(BG$2,$BO$127:$BP$138,2,FALSE)","v":{"$error":"#REF!"}},{"$f":"'Budget FCFA'!#REF!/VLOOKUP(BH$2,$BO$127:$BP$138,2,FALSE)","v":{"$error":"#REF!"}},{"$f":"'Budget FCFA'!#REF!/VLOOKUP(BI$2,$BO$127:$BP$138,2,FALSE)","v":{"$error":"#REF!"}},{"$f":"'Budget FCFA'!#REF!/VLOOKUP(BJ$2,$BO$127:$BP$138,2,FALSE)","v":{"$error":"#REF!"}},{"$error":"#REF!"},{"$f":"BK82-'Budget FCFA'!#REF!","v":{"$error":"#REF!"}}]
["PUBTELEV","LIBREVILLE","Vidéos TV / WEB",{"$f":"'Budget FCFA'!D83/VLOOKUP(D$2,$BO$127:$BP$138,2,FALSE)","v":0},{"$f":"'Budget FCFA'!E83/VLOOKUP(E$2,$BO$127:$BP$138,2,FALSE)","v":0},{"$f":"'Budget FCFA'!F83/VLOOKUP(F$2,$BO$127:$BP$138,2,FALSE)","v":0},{"$f":"'Budget FCFA'!G83/VLOOKUP(G$2,$BO$127:$BP$138,2,FALSE)","v":0},{"$f":"'Budget FCFA'!H83/VLOOKUP(H$2,$BO$127:$BP$138,2,FALSE)","v":0},{"$f":"'Budget FCFA'!I83/VLOOKUP(I$2,$BO$127:$BP$138,2,FALSE)","v":0},{"$f":"'Budget FCFA'!J83/VLOOKUP(J$2,$BO$127:$BP$138,2,FALSE)","v":0},{"$f":"'Budget FCFA'!K83/VLOOKUP(K$2,$BO$127:$BP$138,2,FALSE)","v":0},{"$f":"'Budget FCFA'!L83/VLOOKUP(L$2,$BO$127:$BP$138,2,FALSE)","v":0},{"$f":"'Budget FCFA'!M83/VLOOKUP(M$2,$BO$127:$BP$138,2,FALSE)","v":0},{"$f":"'Budget FCFA'!N83/VLOOKUP(N$2,$BO$127:$BP$138,2,FALSE)","v":0},{"$f":"'Budget FCFA'!O83/VLOOKUP(O$2,$BO$127:$BP$138,2,FALSE)","v":0},{"$f":"'Budget FCFA'!P83/VLOOKUP(P$2,$BO$127:$BP$138,2,FALSE)","v":0},{"$f":"'Budget FCFA'!Q83/VLOOKUP(Q$2,$BO$127:$BP$138,2,FALSE)","v":0},{"$f":"'Budget FCFA'!R83/VLOOKUP(R$2,$BO$127:$BP$138,2,FALSE)","v":0},{"$f":"'Budget FCFA'!S83/VLOOKUP(S$2,$BO$127:$BP$138,2,FALSE)","v":0},{"$f":"'Budget FCFA'!T83/VLOOKUP(T$2,$BO$127:$BP$138,2,FALSE)","v":0},{"$f":"'Budget FCFA'!U83/VLOOKUP(U$2,$BO$127:$BP$138,2,FALSE)","v":0},{"$f":"'Budget FCFA'!V83/VLOOKUP(V$2,$BO$127:$BP$138,2,FALSE)","v":0},{"$f":"'Budget FCFA'!W83/VLOOKUP(W$2,$BO$127:$BP$138,2,FALSE)","v":0},{"$f":"'Budget FCFA'!X83/VLOOKUP(X$2,$BO$127:$BP$138,2,FALSE)","v":0},{"$f":"'Budget FCFA'!Y83/VLOOKUP(Y$2,$BO$127:$BP$138,2,FALSE)","v":0},{"$f":"'Budget FCFA'!Z83/VLOOKUP(Z$2,$BO$127:$BP$138,2,FALSE)","v":0},{"$f":"'Budget FCFA'!AA83/VLOOKUP(AA$2,$BO$127:$BP$138,2,FALSE)","v":0},{"$f":"'Budget FCFA'!AB83/VLOOKUP(AB$2,$BO$127:$BP$138,2,FALSE)","v":0},{"$f":"'Budget FCFA'!AC83/VLOOKUP(AC$2,$BO$127:$BP$138,2,FALSE)","v":0},{"$f":"'Budget FCFA'!AD83/VLOOKUP(AD$2,$BO$127:$BP$138,2,FALSE)","v":0},{"$f":"'Budget FCFA'!AE83/VLOOKUP(AE$2,$BO$127:$BP$138,2,FALSE)","v":0},{"$f":"'Budget FCFA'!AF83/VLOOKUP(AF$2,$BO$127:$BP$138,2,FALSE)","v":0},{"$f":"'Budget FCFA'!AG83/VLOOKUP(AG$2,$BO$127:$BP$138,2,FALSE)","v":0},{"$f":"'Budget FCFA'!AH83/VLOOKUP(AH$2,$BO$127:$BP$138,2,FALSE)","v":0},{"$f":"'Budget FCFA'!AI83/VLOOKUP(AI$2,$BO$127:$BP$138,2,FALSE)","v":0},{"$f":"'Budget FCFA'!AJ83/VLOOKUP(AJ$2,$BO$127:$BP$138,2,FALSE)","v":0},{"$f":"'Budget FCFA'!AK83/VLOOKUP(AK$2,$BO$127:$BP$138,2,FALSE)","v":0},{"$f":"'Budget FCFA'!AL83/VLOOKUP(AL$2,$BO$127:$BP$138,2,FALSE)","v":1222.0176017635301},{"$f":"'Budget FCFA'!AM83/VLOOKUP(AM$2,$BO$127:$BP$138,2,FALSE)","v":0},{"$f":"'Budget FCFA'!AN83/VLOOKUP(AN$2,$BO$127:$BP$138,2,FALSE)","v":0},{"$f":"'Budget FCFA'!AO83/VLOOKUP(AO$2,$BO$127:$BP$138,2,FALSE)","v":0},{"$f":"'Budget FCFA'!AP83/VLOOKUP(AP$2,$BO$127:$BP$138,2,FALSE)","v":0},{"$f":"'Budget FCFA'!#REF!/VLOOKUP(AQ$2,$BO$127:$BP$138,2,FALSE)","v":{"$error":"#REF!"}},{"$f":"'Budget FCFA'!#REF!/VLOOKUP(AR$2,$BO$127:$BP$138,2,FALSE)","v":{"$error":"#REF!"}},{"$f":"'Budget FCFA'!#REF!/VLOOKUP(AS$2,$BO$127:$BP$138,2,FALSE)","v":{"$error":"#REF!"}},{"$f":"'Budget FCFA'!#REF!/VLOOKUP(AT$2,$BO$127:$BP$138,2,FALSE)","v":{"$error":"#REF!"}},{"$f":"'Budget FCFA'!#REF!/VLOOKUP(AU$2,$BO$127:$BP$138,2,FALSE)","v":{"$error":"#REF!"}},{"$f":"'Budget FCFA'!#REF!/VLOOKUP(AV$2,$BO$127:$BP$138,2,FALSE)","v":{"$error":"#REF!"}},{"$f":"'Budget FCFA'!#REF!/VLOOKUP(AW$2,$BO$127:$BP$138,2,FALSE)","v":{"$error":"#REF!"}},{"$f":"'Budget FCFA'!#REF!/VLOOKUP(AX$2,$BO$127:$BP$138,2,FALSE)","v":{"$error":"#REF!"}},{"$f":"'Budget FCFA'!#REF!/VLOOKUP(AY$2,$BO$127:$BP$138,2,FALSE)","v":{"$error":"#REF!"}},{"$f":"'Budget FCFA'!#REF!/VLOOKUP(AZ$2,$BO$127:$BP$138,2,FALSE)","v":{"$error":"#REF!"}},{"$f":"'Budget FCFA'!#REF!/VLOOKUP(BA$2,$BO$127:$BP$138,2,FALSE)","v":{"$error":"#REF!"}},{"$f":"'Budget FCFA'!#REF!/VLOOKUP(BB$2,$BO$127:$BP$138,2,FALSE)","v":{"$error":"#REF!"}},{"$f":"'Budget FCFA'!#REF!/VLOOKUP(BC$2,$BO$127:$BP$138,2,FALSE)","v":{"$error":"#REF!"}},{"$f":"'Budget FCFA'!#REF!/VLOOKUP(BD$2,$BO$127:$BP$138,2,FALSE)","v":{"$error":"#REF!"}},{"$f":"'Budget FCFA'!#REF!/VLOOKUP(BE$2,$BO$127:$BP$138,2,FALSE)","v":{"$error":"#REF!"}},{"$f":"'Budget FCFA'!#REF!/VLOOKUP(BF$2,$BO$127:$BP$138,2,FALSE)","v":{"$error":"#REF!"}},{"$f":"'Budget FCFA'!#REF!/VLOOKUP(BG$2,$BO$127:$BP$138,2,FALSE)","v":{"$error":"#REF!"}},{"$f":"'Budget FCFA'!#REF!/VLOOKUP(BH$2,$BO$127:$BP$138,2,FALSE)","v":{"$error":"#REF!"}},{"$f":"'Budget FCFA'!#REF!/VLOOKUP(BI$2,$BO$127:$BP$138,2,FALSE)","v":{"$error":"#REF!"}},{"$f":"'Budget FCFA'!#REF!/VLOOKUP(BJ$2,$BO$127:$BP$138,2,FALSE)","v":{"$error":"#REF!"}},{"$error":"#REF!"},{"$f":"BK83-'Budget FCFA'!#REF!","v":{"$error":"#REF!"}}]
["PUBTELEV","DOUALA","Vidéos TV / WEB",{"$f":"'Budget FCFA'!D84/VLOOKUP(D$2,$BO$127:$BP$138,2,FALSE)","v":0},{"$f":"'Budget FCFA'!E84/VLOOKUP(E$2,$BO$127:$BP$138,2,FALSE)","v":0},{"$f":"'Budget FCFA'!F84/VLOOKUP(F$2,$BO$127:$BP$138,2,FALSE)","v":0},{"$f":"'Budget FCFA'!G84/VLOOKUP(G$2,$BO$127:$BP$138,2,FALSE)","v":0},{"$f":"'Budget FCFA'!H84/VLOOKUP(H$2,$BO$127:$BP$138,2,FALSE)","v":0},{"$f":"'Budget FCFA'!I84/VLOOKUP(I$2,$BO$127:$BP$138,2,FALSE)","v":0},{"$f":"'Budget FCFA'!J84/VLOOKUP(J$2,$BO$127:$BP$138,2,FALSE)","v":0},{"$f":"'Budget FCFA'!K84/VLOOKUP(K$2,$BO$127:$BP$138,2,FALSE)","v":0},{"$f":"'Budget FCFA'!L84/VLOOKUP(L$2,$BO$127:$BP$138,2,FALSE)","v":0},{"$f":"'Budget FCFA'!M84/VLOOKUP(M$2,$BO$127:$BP$138,2,FALSE)","v":0},{"$f":"'Budget FCFA'!N84/VLOOKUP(N$2,$BO$127:$BP$138,2,FALSE)","v":0},{"$f":"'Budget FCFA'!O84/VLOOKUP(O$2,$BO$127:$BP$138,2,FALSE)","v":0},{"$f":"'Budget FCFA'!P84/VLOOKUP(P$2,$BO$127:$BP$138,2,FALSE)","v":0},{"$f":"'Budget FCFA'!Q84/VLOOKUP(Q$2,$BO$127:$BP$138,2,FALSE)","v":0},{"$f":"'Budget FCFA'!R84/VLOOKUP(R$2,$BO$127:$BP$138,2,FALSE)","v":0},{"$f":"'Budget FCFA'!S84/VLOOKUP(S$2,$BO$127:$BP$138,2,FALSE)","v":0},{"$f":"'Budget FCFA'!T84/VLOOKUP(T$2,$BO$127:$BP$138,2,FALSE)","v":0},{"$f":"'Budget FCFA'!U84/VLOOKUP(U$2,$BO$127:$BP$138,2,FALSE)","v":0},{"$f":"'Budget FCFA'!V84/VLOOKUP(V$2,$BO$127:$BP$138,2,FALSE)","v":0},{"$f":"'Budget FCFA'!W84/VLOOKUP(W$2,$BO$127:$BP$138,2,FALSE)","v":0},{"$f":"'Budget FCFA'!X84/VLOOKUP(X$2,$BO$127:$BP$138,2,FALSE)","v":0},{"$f":"'Budget FCFA'!Y84/VLOOKUP(Y$2,$BO$127:$BP$138,2,FALSE)","v":0},{"$f":"'Budget FCFA'!Z84/VLOOKUP(Z$2,$BO$127:$BP$138,2,FALSE)","v":0},{"$f":"'Budget FCFA'!AA84/VLOOKUP(AA$2,$BO$127:$BP$138,2,FALSE)","v":0},{"$f":"'Budget FCFA'!AB84/VLOOKUP(AB$2,$BO$127:$BP$138,2,FALSE)","v":0},{"$f":"'Budget FCFA'!AC84/VLOOKUP(AC$2,$BO$127:$BP$138,2,FALSE)","v":0},{"$f":"'Budget FCFA'!AD84/VLOOKUP(AD$2,$BO$127:$BP$138,2,FALSE)","v":0},{"$f":"'Budget FCFA'!AE84/VLOOKUP(AE$2,$BO$127:$BP$138,2,FALSE)","v":0},{"$f":"'Budget FCFA'!AF84/VLOOKUP(AF$2,$BO$127:$BP$138,2,FALSE)","v":0},{"$f":"'Budget FCFA'!AG84/VLOOKUP(AG$2,$BO$127:$BP$138,2,FALSE)","v":0},{"$f":"'Budget FCFA'!AH84/VLOOKUP(AH$2,$BO$127:$BP$138,2,FALSE)","v":0},{"$f":"'Budget FCFA'!AI84/VLOOKUP(AI$2,$BO$127:$BP$138,2,FALSE)","v":0},{"$f":"'Budget FCFA'!AJ84/VLOOKUP(AJ$2,$BO$127:$BP$138,2,FALSE)","v":0},{"$f":"'Budget FCFA'!AK84/VLOOKUP(AK$2,$BO$127:$BP$138,2,FALSE)","v":0},{"$f":"'Budget FCFA'!AL84/VLOOKUP(AL$2,$BO$127:$BP$138,2,FALSE)","v":879.89304176950623},{"$f":"'Budget FCFA'!AM84/VLOOKUP(AM$2,$BO$127:$BP$138,2,FALSE)","v":0},{"$f":"'Budget FCFA'!AN84/VLOOKUP(AN$2,$BO$127:$BP$138,2,FALSE)","v":0},{"$f":"'Budget FCFA'!AO84/VLOOKUP(AO$2,$BO$127:$BP$138,2,FALSE)","v":0},{"$f":"'Budget FCFA'!AP84/VLOOKUP(AP$2,$BO$127:$BP$138,2,FALSE)","v":0},{"$f":"'Budget FCFA'!#REF!/VLOOKUP(AQ$2,$BO$127:$BP$138,2,FALSE)","v":{"$error":"#REF!"}},{"$f":"'Budget FCFA'!#REF!/VLOOKUP(AR$2,$BO$127:$BP$138,2,FALSE)","v":{"$error":"#REF!"}},{"$f":"'Budget FCFA'!#REF!/VLOOKUP(AS$2,$BO$127:$BP$138,2,FALSE)","v":{"$error":"#REF!"}},{"$f":"'Budget FCFA'!#REF!/VLOOKUP(AT$2,$BO$127:$BP$138,2,FALSE)","v":{"$error":"#REF!"}},{"$f":"'Budget FCFA'!#REF!/VLOOKUP(AU$2,$BO$127:$BP$138,2,FALSE)","v":{"$error":"#REF!"}},{"$f":"'Budget FCFA'!#REF!/VLOOKUP(AV$2,$BO$127:$BP$138,2,FALSE)","v":{"$error":"#REF!"}},{"$f":"'Budget FCFA'!#REF!/VLOOKUP(AW$2,$BO$127:$BP$138,2,FALSE)","v":{"$error":"#REF!"}},{"$f":"'Budget FCFA'!#REF!/VLOOKUP(AX$2,$BO$127:$BP$138,2,FALSE)","v":{"$error":"#REF!"}},{"$f":"'Budget FCFA'!#REF!/VLOOKUP(AY$2,$BO$127:$BP$138,2,FALSE)","v":{"$error":"#REF!"}},{"$f":"'Budget FCFA'!#REF!/VLOOKUP(AZ$2,$BO$127:$BP$138,2,FALSE)","v":{"$error":"#REF!"}},{"$f":"'Budget FCFA'!#REF!/VLOOKUP(BA$2,$BO$127:$BP$138,2,FALSE)","v":{"$error":"#REF!"}},{"$f":"'Budget FCFA'!#REF!/VLOOKUP(BB$2,$BO$127:$BP$138,2,FALSE)","v":{"$error":"#REF!"}},{"$f":"'Budget FCFA'!#REF!/VLOOKUP(BC$2,$BO$127:$BP$138,2,FALSE)","v":{"$error":"#REF!"}},{"$f":"'Budget FCFA'!#REF!/VLOOKUP(BD$2,$BO$127:$BP$138,2,FALSE)","v":{"$error":"#REF!"}},{"$f":"'Budget FCFA'!#REF!/VLOOKUP(BE$2,$BO$127:$BP$138,2,FALSE)","v":{"$error":"#REF!"}},{"$f":"'Budget FCFA'!#REF!/VLOOKUP(BF$2,$BO$127:$BP$138,2,FALSE)","v":{"$error":"#REF!"}},{"$f":"'Budget FCFA'!#REF!/VLOOKUP(BG$2,$BO$127:$BP$138,2,FALSE)","v":{"$error":"#REF!"}},{"$f":"'Budget FCFA'!#REF!/VLOOKUP(BH$2,$BO$127:$BP$138,2,FALSE)","v":{"$error":"#REF!"}},{"$f":"'Budget FCFA'!#REF!/VLOOKUP(BI$2,$BO$127:$BP$138,2,FALSE)","v":{"$error":"#REF!"}},{"$f":"'Budget FCFA'!#REF!/VLOOKUP(BJ$2,$BO$127:$BP$138,2,FALSE)","v":{"$error":"#REF!"}},{"$error":"#REF!"},{"$f":"BK84-'Budget FCFA'!#REF!","v":{"$error":"#REF!"}}]
["PUBTELEV","TOTAL","Total TV",{"$f":"'Budget FCFA'!D85/VLOOKUP(D$2,$BO$127:$BP$138,2,FALSE)","v":0},{"$f":"'Budget FCFA'!E85/VLOOKUP(E$2,$BO$127:$BP$138,2,FALSE)","v":0},{"$f":"'Budget FCFA'!F85/VLOOKUP(F$2,$BO$127:$BP$138,2,FALSE)","v":0},{"$f":"'Budget FCFA'!G85/VLOOKUP(G$2,$BO$127:$BP$138,2,FALSE)","v":0},{"$f":"'Budget FCFA'!H85/VLOOKUP(H$2,$BO$127:$BP$138,2,FALSE)","v":0},{"$f":"'Budget FCFA'!I85/VLOOKUP(I$2,$BO$127:$BP$138,2,FALSE)","v":0},{"$f":"'Budget FCFA'!J85/VLOOKUP(J$2,$BO$127:$BP$138,2,FALSE)","v":0},{"$f":"'Budget FCFA'!K85/VLOOKUP(K$2,$BO$127:$BP$138,2,FALSE)","v":0},{"$f":"'Budget FCFA'!L85/VLOOKUP(L$2,$BO$127:$BP$138,2,FALSE)","v":0},{"$f":"'Budget FCFA'!M85/VLOOKUP(M$2,$BO$127:$BP$138,2,FALSE)","v":0},{"$f":"'Budget FCFA'!N85/VLOOKUP(N$2,$BO$127:$BP$138,2,FALSE)","v":0},{"$f":"'Budget FCFA'!O85/VLOOKUP(O$2,$BO$127:$BP$138,2,FALSE)","v":0},{"$f":"'Budget FCFA'!P85/VLOOKUP(P$2,$BO$127:$BP$138,2,FALSE)","v":146.09646668912748},{"$f":"'Budget FCFA'!Q85/VLOOKUP(Q$2,$BO$127:$BP$138,2,FALSE)","v":0},{"$f":"'Budget FCFA'!R85/VLOOKUP(R$2,$BO$127:$BP$138,2,FALSE)","v":0},{"$f":"'Budget FCFA'!S85/VLOOKUP(S$2,$BO$127:$BP$138,2,FALSE)","v":0},{"$f":"'Budget FCFA'!T85/VLOOKUP(T$2,$BO$127:$BP$138,2,FALSE)","v":0},{"$f":"'Budget FCFA'!U85/VLOOKUP(U$2,$BO$127:$BP$138,2,FALSE)","v":0},{"$f":"'Budget FCFA'!V85/VLOOKUP(V$2,$BO$127:$BP$138,2,FALSE)","v":0},{"$f":"'Budget FCFA'!W85/VLOOKUP(W$2,$BO$127:$BP$138,2,FALSE)","v":0},{"$f":"'Budget FCFA'!X85/VLOOKUP(X$2,$BO$127:$BP$138,2,FALSE)","v":0},{"$f":"'Budget FCFA'!Y85/VLOOKUP(Y$2,$BO$127:$BP$138,2,FALSE)","v":0},{"$f":"'Budget FCFA'!Z85/VLOOKUP(Z$2,$BO$127:$BP$138,2,FALSE)","v":0},{"$f":"'Budget FCFA'!AA85/VLOOKUP(AA$2,$BO$127:$BP$138,2,FALSE)","v":0},{"$f":"'Budget FCFA'!AB85/VLOOKUP(AB$2,$BO$127:$BP$138,2,FALSE)","v":0},{"$f":"'Budget FCFA'!AC85/VLOOKUP(AC$2,$BO$127:$BP$138,2,FALSE)","v":0},{"$f":"'Budget FCFA'!AD85/VLOOKUP(AD$2,$BO$127:$BP$138,2,FALSE)","v":0},{"$f":"'Budget FCFA'!AE85/VLOOKUP(AE$2,$BO$127:$BP$138,2,FALSE)","v":0},{"$f":"'Budget FCFA'!AF85/VLOOKUP(AF$2,$BO$127:$BP$138,2,FALSE)","v":0},{"$f":"'Budget FCFA'!AG85/VLOOKUP(AG$2,$BO$127:$BP$138,2,FALSE)","v":0},{"$f":"'Budget FCFA'!AH85/VLOOKUP(AH$2,$BO$127:$BP$138,2,FALSE)","v":0},{"$f":"'Budget FCFA'!AI85/VLOOKUP(AI$2,$BO$127:$BP$138,2,FALSE)","v":0},{"$f":"'Budget FCFA'!AJ85/VLOOKUP(AJ$2,$BO$127:$BP$138,2,FALSE)","v":0},{"$f":"'Budget FCFA'!AK85/VLOOKUP(AK$2,$BO$127:$BP$138,2,FALSE)","v":0},{"$f":"'Budget FCFA'!AL85/VLOOKUP(AL$2,$BO$127:$BP$138,2,FALSE)","v":46192.052222935345},{"$f":"'Budget FCFA'!AM85/VLOOKUP(AM$2,$BO$127:$BP$138,2,FALSE)","v":0},{"$f":"'Budget FCFA'!AN85/VLOOKUP(AN$2,$BO$127:$BP$138,2,FALSE)","v":0},{"$f":"'Budget FCFA'!AO85/VLOOKUP(AO$2,$BO$127:$BP$138,2,FALSE)","v":0},{"$f":"'Budget FCFA'!AP85/VLOOKUP(AP$2,$BO$127:$BP$138,2,FALSE)","v":0},{"$f":"'Budget FCFA'!#REF!/VLOOKUP(AQ$2,$BO$127:$BP$138,2,FALSE)","v":{"$error":"#REF!"}},{"$f":"'Budget FCFA'!#REF!/VLOOKUP(AR$2,$BO$127:$BP$138,2,FALSE)","v":{"$error":"#REF!"}},{"$f":"'Budget FCFA'!#REF!/VLOOKUP(AS$2,$BO$127:$BP$138,2,FALSE)","v":{"$error":"#REF!"}},{"$f":"'Budget FCFA'!#REF!/VLOOKUP(AT$2,$BO$127:$BP$138,2,FALSE)","v":{"$error":"#REF!"}},{"$f":"'Budget FCFA'!#REF!/VLOOKUP(AU$2,$BO$127:$BP$138,2,FALSE)","v":{"$error":"#REF!"}},{"$f":"'Budget FCFA'!#REF!/VLOOKUP(AV$2,$BO$127:$BP$138,2,FALSE)","v":{"$error":"#REF!"}},{"$f":"'Budget FCFA'!#REF!/VLOOKUP(AW$2,$BO$127:$BP$138,2,FALSE)","v":{"$error":"#REF!"}},{"$f":"'Budget FCFA'!#REF!/VLOOKUP(AX$2,$BO$127:$BP$138,2,FALSE)","v":{"$error":"#REF!"}},{"$f":"'Budget FCFA'!#REF!/VLOOKUP(AY$2,$BO$127:$BP$138,2,FALSE)","v":{"$error":"#REF!"}},{"$f":"'Budget FCFA'!#REF!/VLOOKUP(AZ$2,$BO$127:$BP$138,2,FALSE)","v":{"$error":"#REF!"}},{"$f":"'Budget FCFA'!#REF!/VLOOKUP(BA$2,$BO$127:$BP$138,2,FALSE)","v":{"$error":"#REF!"}},{"$f":"'Budget FCFA'!#REF!/VLOOKUP(BB$2,$BO$127:$BP$138,2,FALSE)","v":{"$error":"#REF!"}},{"$f":"'Budget FCFA'!#REF!/VLOOKUP(BC$2,$BO$127:$BP$138,2,FALSE)","v":{"$error":"#REF!"}},{"$f":"'Budget FCFA'!#REF!/VLOOKUP(BD$2,$BO$127:$BP$138,2,FALSE)","v":{"$error":"#REF!"}},{"$f":"'Budget FCFA'!#REF!/VLOOKUP(BE$2,$BO$127:$BP$138,2,FALSE)","v":{"$error":"#REF!"}},{"$f":"'Budget FCFA'!#REF!/VLOOKUP(BF$2,$BO$127:$BP$138,2,FALSE)","v":{"$error":"#REF!"}},{"$f":"'Budget FCFA'!#REF!/VLOOKUP(BG$2,$BO$127:$BP$138,2,FALSE)","v":{"$error":"#REF!"}},{"$f":"'Budget FCFA'!#REF!/VLOOKUP(BH$2,$BO$127:$BP$138,2,FALSE)","v":{"$error":"#REF!"}},{"$f":"'Budget FCFA'!#REF!/VLOOKUP(BI$2,$BO$127:$BP$138,2,FALSE)","v":{"$error":"#REF!"}},{"$f":"'Budget FCFA'!#REF!/VLOOKUP(BJ$2,$BO$127:$BP$138,2,FALSE)","v":{"$error":"#REF!"}},{"$error":"#REF!"},{"$f":"BK85-'Budget FCFA'!#REF!","v":{"$error":"#REF!"}}]
["PUBBRAND","ABIDJAN",null,{"$f":"'Budget FCFA'!D86/VLOOKUP(D$2,$BO$127:$BP$138,2,FALSE)","v":0},{"$f":"'Budget FCFA'!E86/VLOOKUP(E$2,$BO$127:$BP$138,2,FALSE)","v":0},{"$f":"'Budget FCFA'!F86/VLOOKUP(F$2,$BO$127:$BP$138,2,FALSE)","v":0},{"$f":"'Budget FCFA'!G86/VLOOKUP(G$2,$BO$127:$BP$138,2,FALSE)","v":0},{"$f":"'Budget FCFA'!H86/VLOOKUP(H$2,$BO$127:$BP$138,2,FALSE)","v":0},{"$f":"'Budget FCFA'!I86/VLOOKUP(I$2,$BO$127:$BP$138,2,FALSE)","v":0},{"$f":"'Budget FCFA'!J86/VLOOKUP(J$2,$BO$127:$BP$138,2,FALSE)","v":0},{"$f":"'Budget FCFA'!K86/VLOOKUP(K$2,$BO$127:$BP$138,2,FALSE)","v":0},{"$f":"'Budget FCFA'!L86/VLOOKUP(L$2,$BO$127:$BP$138,2,FALSE)","v":0},{"$f":"'Budget FCFA'!M86/VLOOKUP(M$2,$BO$127:$BP$138,2,FALSE)","v":0},{"$f":"'Budget FCFA'!N86/VLOOKUP(N$2,$BO$127:$BP$138,2,FALSE)","v":0},{"$f":"'Budget FCFA'!O86/VLOOKUP(O$2,$BO$127:$BP$138,2,FALSE)","v":0},{"$f":"'Budget FCFA'!P86/VLOOKUP(P$2,$BO$127:$BP$138,2,FALSE)","v":0},{"$f":"'Budget FCFA'!Q86/VLOOKUP(Q$2,$BO$127:$BP$138,2,FALSE)","v":0},{"$f":"'Budget FCFA'!R86/VLOOKUP(R$2,$BO$127:$BP$138,2,FALSE)","v":0},{"$f":"'Budget FCFA'!S86/VLOOKUP(S$2,$BO$127:$BP$138,2,FALSE)","v":0},{"$f":"'Budget FCFA'!T86/VLOOKUP(T$2,$BO$127:$BP$138,2,FALSE)","v":0},{"$f":"'Budget FCFA'!U86/VLOOKUP(U$2,$BO$127:$BP$138,2,FALSE)","v":0},{"$f":"'Budget FCFA'!V86/VLOOKUP(V$2,$BO$127:$BP$138,2,FALSE)","v":0},{"$f":"'Budget FCFA'!W86/VLOOKUP(W$2,$BO$127:$BP$138,2,FALSE)","v":0},{"$f":"'Budget FCFA'!X86/VLOOKUP(X$2,$BO$127:$BP$138,2,FALSE)","v":0},{"$f":"'Budget FCFA'!Y86/VLOOKUP(Y$2,$BO$127:$BP$138,2,FALSE)","v":0},{"$f":"'Budget FCFA'!Z86/VLOOKUP(Z$2,$BO$127:$BP$138,2,FALSE)","v":0},{"$f":"'Budget FCFA'!AA86/VLOOKUP(AA$2,$BO$127:$BP$138,2,FALSE)","v":0},{"$f":"'Budget FCFA'!AB86/VLOOKUP(AB$2,$BO$127:$BP$138,2,FALSE)","v":0},{"$f":"'Budget FCFA'!AC86/VLOOKUP(AC$2,$BO$127:$BP$138,2,FALSE)","v":0},{"$f":"'Budget FCFA'!AD86/VLOOKUP(AD$2,$BO$127:$BP$138,2,FALSE)","v":0},{"$f":"'Budget FCFA'!AE86/VLOOKUP(AE$2,$BO$127:$BP$138,2,FALSE)","v":0},{"$f":"'Budget FCFA'!AF86/VLOOKUP(AF$2,$BO$127:$BP$138,2,FALSE)","v":0},{"$f":"'Budget FCFA'!AG86/VLOOKUP(AG$2,$BO$127:$BP$138,2,FALSE)","v":0},{"$f":"'Budget FCFA'!AH86/VLOOKUP(AH$2,$BO$127:$BP$138,2,FALSE)","v":0},{"$f":"'Budget FCFA'!AI86/VLOOKUP(AI$2,$BO$127:$BP$138,2,FALSE)","v":0},{"$f":"'Budget FCFA'!AJ86/VLOOKUP(AJ$2,$BO$127:$BP$138,2,FALSE)","v":0},{"$f":"'Budget FCFA'!AK86/VLOOKUP(AK$2,$BO$127:$BP$138,2,FALSE)","v":0},{"$f":"'Budget FCFA'!AL86/VLOOKUP(AL$2,$BO$127:$BP$138,2,FALSE)","v":0},{"$f":"'Budget FCFA'!AM86/VLOOKUP(AM$2,$BO$127:$BP$138,2,FALSE)","v":0},{"$f":"'Budget FCFA'!AN86/VLOOKUP(AN$2,$BO$127:$BP$138,2,FALSE)","v":0},{"$f":"'Budget FCFA'!AO86/VLOOKUP(AO$2,$BO$127:$BP$138,2,FALSE)","v":0},{"$f":"'Budget FCFA'!AP86/VLOOKUP(AP$2,$BO$127:$BP$138,2,FALSE)","v":0},{"$f":"'Budget FCFA'!#REF!/VLOOKUP(AQ$2,$BO$127:$BP$138,2,FALSE)","v":{"$error":"#REF!"}},{"$f":"'Budget FCFA'!#REF!/VLOOKUP(AR$2,$BO$127:$BP$138,2,FALSE)","v":{"$error":"#REF!"}},{"$f":"'Budget FCFA'!#REF!/VLOOKUP(AS$2,$BO$127:$BP$138,2,FALSE)","v":{"$error":"#REF!"}},{"$f":"'Budget FCFA'!#REF!/VLOOKUP(AT$2,$BO$127:$BP$138,2,FALSE)","v":{"$error":"#REF!"}},{"$f":"'Budget FCFA'!#REF!/VLOOKUP(AU$2,$BO$127:$BP$138,2,FALSE)","v":{"$error":"#REF!"}},{"$f":"'Budget FCFA'!#REF!/VLOOKUP(AV$2,$BO$127:$BP$138,2,FALSE)","v":{"$error":"#REF!"}},{"$f":"'Budget FCFA'!#REF!/VLOOKUP(AW$2,$BO$127:$BP$138,2,FALSE)","v":{"$error":"#REF!"}},{"$f":"'Budget FCFA'!#REF!/VLOOKUP(AX$2,$BO$127:$BP$138,2,FALSE)","v":{"$error":"#REF!"}},{"$f":"'Budget FCFA'!#REF!/VLOOKUP(AY$2,$BO$127:$BP$138,2,FALSE)","v":{"$error":"#REF!"}},{"$f":"'Budget FCFA'!#REF!/VLOOKUP(AZ$2,$BO$127:$BP$138,2,FALSE)","v":{"$error":"#REF!"}},{"$f":"'Budget FCFA'!#REF!/VLOOKUP(BA$2,$BO$127:$BP$138,2,FALSE)","v":{"$error":"#REF!"}},{"$f":"'Budget FCFA'!#REF!/VLOOKUP(BB$2,$BO$127:$BP$138,2,FALSE)","v":{"$error":"#REF!"}},{"$f":"'Budget FCFA'!#REF!/VLOOKUP(BC$2,$BO$127:$BP$138,2,FALSE)","v":{"$error":"#REF!"}},{"$f":"'Budget FCFA'!#REF!/VLOOKUP(BD$2,$BO$127:$BP$138,2,FALSE)","v":{"$error":"#REF!"}},{"$f":"'Budget FCFA'!#REF!/VLOOKUP(BE$2,$BO$127:$BP$138,2,FALSE)","v":{"$error":"#REF!"}},{"$f":"'Budget FCFA'!#REF!/VLOOKUP(BF$2,$BO$127:$BP$138,2,FALSE)","v":{"$error":"#REF!"}},{"$f":"'Budget FCFA'!#REF!/VLOOKUP(BG$2,$BO$127:$BP$138,2,FALSE)","v":{"$error":"#REF!"}},{"$f":"'Budget FCFA'!#REF!/VLOOKUP(BH$2,$BO$127:$BP$138,2,FALSE)","v":{"$error":"#REF!"}},{"$f":"'Budget FCFA'!#REF!/VLOOKUP(BI$2,$BO$127:$BP$138,2,FALSE)","v":{"$error":"#REF!"}},{"$f":"'Budget FCFA'!#REF!/VLOOKUP(BJ$2,$BO$127:$BP$138,2,FALSE)","v":{"$error":"#REF!"}},{"$error":"#REF!"},{"$f":"BK86-'Budget FCFA'!#REF!","v":{"$error":"#REF!"}}]
["PUBBRAND","BRAZZA",null,{"$f":"'Budget FCFA'!D87/VLOOKUP(D$2,$BO$127:$BP$138,2,FALSE)","v":0},{"$f":"'Budget FCFA'!E87/VLOOKUP(E$2,$BO$127:$BP$138,2,FALSE)","v":0},{"$f":"'Budget FCFA'!F87/VLOOKUP(F$2,$BO$127:$BP$138,2,FALSE)","v":0},{"$f":"'Budget FCFA'!G87/VLOOKUP(G$2,$BO$127:$BP$138,2,FALSE)","v":0},{"$f":"'Budget FCFA'!H87/VLOOKUP(H$2,$BO$127:$BP$138,2,FALSE)","v":0},{"$f":"'Budget FCFA'!I87/VLOOKUP(I$2,$BO$127:$BP$138,2,FALSE)","v":0},{"$f":"'Budget FCFA'!J87/VLOOKUP(J$2,$BO$127:$BP$138,2,FALSE)","v":0},{"$f":"'Budget FCFA'!K87/VLOOKUP(K$2,$BO$127:$BP$138,2,FALSE)","v":0},{"$f":"'Budget FCFA'!L87/VLOOKUP(L$2,$BO$127:$BP$138,2,FALSE)","v":0},{"$f":"'Budget FCFA'!M87/VLOOKUP(M$2,$BO$127:$BP$138,2,FALSE)","v":0},{"$f":"'Budget FCFA'!N87/VLOOKUP(N$2,$BO$127:$BP$138,2,FALSE)","v":0},{"$f":"'Budget FCFA'!O87/VLOOKUP(O$2,$BO$127:$BP$138,2,FALSE)","v":0},{"$f":"'Budget FCFA'!P87/VLOOKUP(P$2,$BO$127:$BP$138,2,FALSE)","v":0},{"$f":"'Budget FCFA'!Q87/VLOOKUP(Q$2,$BO$127:$BP$138,2,FALSE)","v":0},{"$f":"'Budget FCFA'!R87/VLOOKUP(R$2,$BO$127:$BP$138,2,FALSE)","v":0},{"$f":"'Budget FCFA'!S87/VLOOKUP(S$2,$BO$127:$BP$138,2,FALSE)","v":0},{"$f":"'Budget FCFA'!T87/VLOOKUP(T$2,$BO$127:$BP$138,2,FALSE)","v":0},{"$f":"'Budget FCFA'!U87/VLOOKUP(U$2,$BO$127:$BP$138,2,FALSE)","v":0},{"$f":"'Budget FCFA'!V87/VLOOKUP(V$2,$BO$127:$BP$138,2,FALSE)","v":0},{"$f":"'Budget FCFA'!W87/VLOOKUP(W$2,$BO$127:$BP$138,2,FALSE)","v":0},{"$f":"'Budget FCFA'!X87/VLOOKUP(X$2,$BO$127:$BP$138,2,FALSE)","v":0},{"$f":"'Budget FCFA'!Y87/VLOOKUP(Y$2,$BO$127:$BP$138,2,FALSE)","v":0},{"$f":"'Budget FCFA'!Z87/VLOOKUP(Z$2,$BO$127:$BP$138,2,FALSE)","v":0},{"$f":"'Budget FCFA'!AA87/VLOOKUP(AA$2,$BO$127:$BP$138,2,FALSE)","v":0},{"$f":"'Budget FCFA'!AB87/VLOOKUP(AB$2,$BO$127:$BP$138,2,FALSE)","v":0},{"$f":"'Budget FCFA'!AC87/VLOOKUP(AC$2,$BO$127:$BP$138,2,FALSE)","v":0},{"$f":"'Budget FCFA'!AD87/VLOOKUP(AD$2,$BO$127:$BP$138,2,FALSE)","v":0},{"$f":"'Budget FCFA'!AE87/VLOOKUP(AE$2,$BO$127:$BP$138,2,FALSE)","v":0},{"$f":"'Budget FCFA'!AF87/VLOOKUP(AF$2,$BO$127:$BP$138,2,FALSE)","v":0},{"$f":"'Budget FCFA'!AG87/VLOOKUP(AG$2,$BO$127:$BP$138,2,FALSE)","v":0},{"$f":"'Budget FCFA'!AH87/VLOOKUP(AH$2,$BO$127:$BP$138,2,FALSE)","v":0},{"$f":"'Budget FCFA'!AI87/VLOOKUP(AI$2,$BO$127:$BP$138,2,FALSE)","v":0},{"$f":"'Budget FCFA'!AJ87/VLOOKUP(AJ$2,$BO$127:$BP$138,2,FALSE)","v":0},{"$f":"'Budget FCFA'!AK87/VLOOKUP(AK$2,$BO$127:$BP$138,2,FALSE)","v":0},{"$f":"'Budget FCFA'!AL87/VLOOKUP(AL$2,$BO$127:$BP$138,2,FALSE)","v":0},{"$f":"'Budget FCFA'!AM87/VLOOKUP(AM$2,$BO$127:$BP$138,2,FALSE)","v":0},{"$f":"'Budget FCFA'!AN87/VLOOKUP(AN$2,$BO$127:$BP$138,2,FALSE)","v":0},{"$f":"'Budget FCFA'!AO87/VLOOKUP(AO$2,$BO$127:$BP$138,2,FALSE)","v":0},{"$f":"'Budget FCFA'!AP87/VLOOKUP(AP$2,$BO$127:$BP$138,2,FALSE)","v":0},{"$f":"'Budget FCFA'!#REF!/VLOOKUP(AQ$2,$BO$127:$BP$138,2,FALSE)","v":{"$error":"#REF!"}},{"$f":"'Budget FCFA'!#REF!/VLOOKUP(AR$2,$BO$127:$BP$138,2,FALSE)","v":{"$error":"#REF!"}},{"$f":"'Budget FCFA'!#REF!/VLOOKUP(AS$2,$BO$127:$BP$138,2,FALSE)","v":{"$error":"#REF!"}},{"$f":"'Budget FCFA'!#REF!/VLOOKUP(AT$2,$BO$127:$BP$138,2,FALSE)","v":{"$error":"#REF!"}},{"$f":"'Budget FCFA'!#REF!/VLOOKUP(AU$2,$BO$127:$BP$138,2,FALSE)","v":{"$error":"#REF!"}},{"$f":"'Budget FCFA'!#REF!/VLOOKUP(AV$2,$BO$127:$BP$138,2,FALSE)","v":{"$error":"#REF!"}},{"$f":"'Budget FCFA'!#REF!/VLOOKUP(AW$2,$BO$127:$BP$138,2,FALSE)","v":{"$error":"#REF!"}},{"$f":"'Budget FCFA'!#REF!/VLOOKUP(AX$2,$BO$127:$BP$138,2,FALSE)","v":{"$error":"#REF!"}},{"$f":"'Budget FCFA'!#REF!/VLOOKUP(AY$2,$BO$127:$BP$138,2,FALSE)","v":{"$error":"#REF!"}},{"$f":"'Budget FCFA'!#REF!/VLOOKUP(AZ$2,$BO$127:$BP$138,2,FALSE)","v":{"$error":"#REF!"}},{"$f":"'Budget FCFA'!#REF!/VLOOKUP(BA$2,$BO$127:$BP$138,2,FALSE)","v":{"$error":"#REF!"}},{"$f":"'Budget FCFA'!#REF!/VLOOKUP(BB$2,$BO$127:$BP$138,2,FALSE)","v":{"$error":"#REF!"}},{"$f":"'Budget FCFA'!#REF!/VLOOKUP(BC$2,$BO$127:$BP$138,2,FALSE)","v":{"$error":"#REF!"}},{"$f":"'Budget FCFA'!#REF!/VLOOKUP(BD$2,$BO$127:$BP$138,2,FALSE)","v":{"$error":"#REF!"}},{"$f":"'Budget FCFA'!#REF!/VLOOKUP(BE$2,$BO$127:$BP$138,2,FALSE)","v":{"$error":"#REF!"}},{"$f":"'Budget FCFA'!#REF!/VLOOKUP(BF$2,$BO$127:$BP$138,2,FALSE)","v":{"$error":"#REF!"}},{"$f":"'Budget FCFA'!#REF!/VLOOKUP(BG$2,$BO$127:$BP$138,2,FALSE)","v":{"$error":"#REF!"}},{"$f":"'Budget FCFA'!#REF!/VLOOKUP(BH$2,$BO$127:$BP$138,2,FALSE)","v":{"$error":"#REF!"}},{"$f":"'Budget FCFA'!#REF!/VLOOKUP(BI$2,$BO$127:$BP$138,2,FALSE)","v":{"$error":"#REF!"}},{"$f":"'Budget FCFA'!#REF!/VLOOKUP(BJ$2,$BO$127:$BP$138,2,FALSE)","v":{"$error":"#REF!"}},{"$error":"#REF!"},{"$f":"BK87-'Budget FCFA'!#REF!","v":{"$error":"#REF!"}}]
["PUBBRAND","DAKAR",null,{"$f":"'Budget FCFA'!D88/VLOOKUP(D$2,$BO$127:$BP$138,2,FALSE)","v":0},{"$f":"'Budget FCFA'!E88/VLOOKUP(E$2,$BO$127:$BP$138,2,FALSE)","v":0},{"$f":"'Budget FCFA'!F88/VLOOKUP(F$2,$BO$127:$BP$138,2,FALSE)","v":0},{"$f":"'Budget FCFA'!G88/VLOOKUP(G$2,$BO$127:$BP$138,2,FALSE)","v":0},{"$f":"'Budget FCFA'!H88/VLOOKUP(H$2,$BO$127:$BP$138,2,FALSE)","v":0},{"$f":"'Budget FCFA'!I88/VLOOKUP(I$2,$BO$127:$BP$138,2,FALSE)","v":0},{"$f":"'Budget FCFA'!J88/VLOOKUP(J$2,$BO$127:$BP$138,2,FALSE)","v":0},{"$f":"'Budget FCFA'!K88/VLOOKUP(K$2,$BO$127:$BP$138,2,FALSE)","v":0},{"$f":"'Budget FCFA'!L88/VLOOKUP(L$2,$BO$127:$BP$138,2,FALSE)","v":0},{"$f":"'Budget FCFA'!M88/VLOOKUP(M$2,$BO$127:$BP$138,2,FALSE)","v":0},{"$f":"'Budget FCFA'!N88/VLOOKUP(N$2,$BO$127:$BP$138,2,FALSE)","v":0},{"$f":"'Budget FCFA'!O88/VLOOKUP(O$2,$BO$127:$BP$138,2,FALSE)","v":0},{"$f":"'Budget FCFA'!P88/VLOOKUP(P$2,$BO$127:$BP$138,2,FALSE)","v":0},{"$f":"'Budget FCFA'!Q88/VLOOKUP(Q$2,$BO$127:$BP$138,2,FALSE)","v":0},{"$f":"'Budget FCFA'!R88/VLOOKUP(R$2,$BO$127:$BP$138,2,FALSE)","v":0},{"$f":"'Budget FCFA'!S88/VLOOKUP(S$2,$BO$127:$BP$138,2,FALSE)","v":0},{"$f":"'Budget FCFA'!T88/VLOOKUP(T$2,$BO$127:$BP$138,2,FALSE)","v":0},{"$f":"'Budget FCFA'!U88/VLOOKUP(U$2,$BO$127:$BP$138,2,FALSE)","v":0},{"$f":"'Budget FCFA'!V88/VLOOKUP(V$2,$BO$127:$BP$138,2,FALSE)","v":0},{"$f":"'Budget FCFA'!W88/VLOOKUP(W$2,$BO$127:$BP$138,2,FALSE)","v":0},{"$f":"'Budget FCFA'!X88/VLOOKUP(X$2,$BO$127:$BP$138,2,FALSE)","v":0},{"$f":"'Budget FCFA'!Y88/VLOOKUP(Y$2,$BO$127:$BP$138,2,FALSE)","v":0},{"$f":"'Budget FCFA'!Z88/VLOOKUP(Z$2,$BO$127:$BP$138,2,FALSE)","v":0},{"$f":"'Budget FCFA'!AA88/VLOOKUP(AA$2,$BO$127:$BP$138,2,FALSE)","v":0},{"$f":"'Budget FCFA'!AB88/VLOOKUP(AB$2,$BO$127:$BP$138,2,FALSE)","v":0},{"$f":"'Budget FCFA'!AC88/VLOOKUP(AC$2,$BO$127:$BP$138,2,FALSE)","v":0},{"$f":"'Budget FCFA'!AD88/VLOOKUP(AD$2,$BO$127:$BP$138,2,FALSE)","v":0},{"$f":"'Budget FCFA'!AE88/VLOOKUP(AE$2,$BO$127:$BP$138,2,FALSE)","v":0},{"$f":"'Budget FCFA'!AF88/VLOOKUP(AF$2,$BO$127:$BP$138,2,FALSE)","v":0},{"$f":"'Budget FCFA'!AG88/VLOOKUP(AG$2,$BO$127:$BP$138,2,FALSE)","v":0},{"$f":"'Budget FCFA'!AH88/VLOOKUP(AH$2,$BO$127:$BP$138,2,FALSE)","v":0},{"$f":"'Budget FCFA'!AI88/VLOOKUP(AI$2,$BO$127:$BP$138,2,FALSE)","v":0},{"$f":"'Budget FCFA'!AJ88/VLOOKUP(AJ$2,$BO$127:$BP$138,2,FALSE)","v":0},{"$f":"'Budget FCFA'!AK88/VLOOKUP(AK$2,$BO$127:$BP$138,2,FALSE)","v":0},{"$f":"'Budget FCFA'!AL88/VLOOKUP(AL$2,$BO$127:$BP$138,2,FALSE)","v":0},{"$f":"'Budget FCFA'!AM88/VLOOKUP(AM$2,$BO$127:$BP$138,2,FALSE)","v":0},{"$f":"'Budget FCFA'!AN88/VLOOKUP(AN$2,$BO$127:$BP$138,2,FALSE)","v":0},{"$f":"'Budget FCFA'!AO88/VLOOKUP(AO$2,$BO$127:$BP$138,2,FALSE)","v":0},{"$f":"'Budget FCFA'!AP88/VLOOKUP(AP$2,$BO$127:$BP$138,2,FALSE)","v":0},{"$f":"'Budget FCFA'!#REF!/VLOOKUP(AQ$2,$BO$127:$BP$138,2,FALSE)","v":{"$error":"#REF!"}},{"$f":"'Budget FCFA'!#REF!/VLOOKUP(AR$2,$BO$127:$BP$138,2,FALSE)","v":{"$error":"#REF!"}},{"$f":"'Budget FCFA'!#REF!/VLOOKUP(AS$2,$BO$127:$BP$138,2,FALSE)","v":{"$error":"#REF!"}},{"$f":"'Budget FCFA'!#REF!/VLOOKUP(AT$2,$BO$127:$BP$138,2,FALSE)","v":{"$error":"#REF!"}},{"$f":"'Budget FCFA'!#REF!/VLOOKUP(AU$2,$BO$127:$BP$138,2,FALSE)","v":{"$error":"#REF!"}},{"$f":"'Budget FCFA'!#REF!/VLOOKUP(AV$2,$BO$127:$BP$138,2,FALSE)","v":{"$error":"#REF!"}},{"$f":"'Budget FCFA'!#REF!/VLOOKUP(AW$2,$BO$127:$BP$138,2,FALSE)","v":{"$error":"#REF!"}},{"$f":"'Budget FCFA'!#REF!/VLOOKUP(AX$2,$BO$127:$BP$138,2,FALSE)","v":{"$error":"#REF!"}},{"$f":"'Budget FCFA'!#REF!/VLOOKUP(AY$2,$BO$127:$BP$138,2,FALSE)","v":{"$error":"#REF!"}},{"$f":"'Budget FCFA'!#REF!/VLOOKUP(AZ$2,$BO$127:$BP$138,2,FALSE)","v":{"$error":"#REF!"}},{"$f":"'Budget FCFA'!#REF!/VLOOKUP(BA$2,$BO$127:$BP$138,2,FALSE)","v":{"$error":"#REF!"}},{"$f":"'Budget FCFA'!#REF!/VLOOKUP(BB$2,$BO$127:$BP$138,2,FALSE)","v":{"$error":"#REF!"}},{"$f":"'Budget FCFA'!#REF!/VLOOKUP(BC$2,$BO$127:$BP$138,2,FALSE)","v":{"$error":"#REF!"}},{"$f":"'Budget FCFA'!#REF!/VLOOKUP(BD$2,$BO$127:$BP$138,2,FALSE)","v":{"$error":"#REF!"}},{"$f":"'Budget FCFA'!#REF!/VLOOKUP(BE$2,$BO$127:$BP$138,2,FALSE)","v":{"$error":"#REF!"}},{"$f":"'Budget FCFA'!#REF!/VLOOKUP(BF$2,$BO$127:$BP$138,2,FALSE)","v":{"$error":"#REF!"}},{"$f":"'Budget FCFA'!#REF!/VLOOKUP(BG$2,$BO$127:$BP$138,2,FALSE)","v":{"$error":"#REF!"}},{"$f":"'Budget FCFA'!#REF!/VLOOKUP(BH$2,$BO$127:$BP$138,2,FALSE)","v":{"$error":"#REF!"}},{"$f":"'Budget FCFA'!#REF!/VLOOKUP(BI$2,$BO$127:$BP$138,2,FALSE)","v":{"$error":"#REF!"}},{"$f":"'Budget FCFA'!#REF!/VLOOKUP(BJ$2,$BO$127:$BP$138,2,FALSE)","v":{"$error":"#REF!"}},{"$error":"#REF!"},{"$f":"BK88-'Budget FCFA'!#REF!","v":{"$error":"#REF!"}}]
["PUBBRAND","LIBREVILLE",null,{"$f":"'Budget FCFA'!D89/VLOOKUP(D$2,$BO$127:$BP$138,2,FALSE)","v":0},{"$f":"'Budget FCFA'!E89/VLOOKUP(E$2,$BO$127:$BP$138,2,FALSE)","v":0},{"$f":"'Budget FCFA'!F89/VLOOKUP(F$2,$BO$127:$BP$138,2,FALSE)","v":0},{"$f":"'Budget FCFA'!G89/VLOOKUP(G$2,$BO$127:$BP$138,2,FALSE)","v":0},{"$f":"'Budget FCFA'!H89/VLOOKUP(H$2,$BO$127:$BP$138,2,FALSE)","v":0},{"$f":"'Budget FCFA'!I89/VLOOKUP(I$2,$BO$127:$BP$138,2,FALSE)","v":0},{"$f":"'Budget FCFA'!J89/VLOOKUP(J$2,$BO$127:$BP$138,2,FALSE)","v":0},{"$f":"'Budget FCFA'!K89/VLOOKUP(K$2,$BO$127:$BP$138,2,FALSE)","v":0},{"$f":"'Budget FCFA'!L89/VLOOKUP(L$2,$BO$127:$BP$138,2,FALSE)","v":0},{"$f":"'Budget FCFA'!M89/VLOOKUP(M$2,$BO$127:$BP$138,2,FALSE)","v":0},{"$f":"'Budget FCFA'!N89/VLOOKUP(N$2,$BO$127:$BP$138,2,FALSE)","v":0},{"$f":"'Budget FCFA'!O89/VLOOKUP(O$2,$BO$127:$BP$138,2,FALSE)","v":0},{"$f":"'Budget FCFA'!P89/VLOOKUP(P$2,$BO$127:$BP$138,2,FALSE)","v":0},{"$f":"'Budget FCFA'!Q89/VLOOKUP(Q$2,$BO$127:$BP$138,2,FALSE)","v":0},{"$f":"'Budget FCFA'!R89/VLOOKUP(R$2,$BO$127:$BP$138,2,FALSE)","v":0},{"$f":"'Budget FCFA'!S89/VLOOKUP(S$2,$BO$127:$BP$138,2,FALSE)","v":0},{"$f":"'Budget FCFA'!T89/VLOOKUP(T$2,$BO$127:$BP$138,2,FALSE)","v":0},{"$f":"'Budget FCFA'!U89/VLOOKUP(U$2,$BO$127:$BP$138,2,FALSE)","v":0},{"$f":"'Budget FCFA'!V89/VLOOKUP(V$2,$BO$127:$BP$138,2,FALSE)","v":0},{"$f":"'Budget FCFA'!W89/VLOOKUP(W$2,$BO$127:$BP$138,2,FALSE)","v":0},{"$f":"'Budget FCFA'!X89/VLOOKUP(X$2,$BO$127:$BP$138,2,FALSE)","v":0},{"$f":"'Budget FCFA'!Y89/VLOOKUP(Y$2,$BO$127:$BP$138,2,FALSE)","v":0},{"$f":"'Budget FCFA'!Z89/VLOOKUP(Z$2,$BO$127:$BP$138,2,FALSE)","v":0},{"$f":"'Budget FCFA'!AA89/VLOOKUP(AA$2,$BO$127:$BP$138,2,FALSE)","v":0},{"$f":"'Budget FCFA'!AB89/VLOOKUP(AB$2,$BO$127:$BP$138,2,FALSE)","v":0},{"$f":"'Budget FCFA'!AC89/VLOOKUP(AC$2,$BO$127:$BP$138,2,FALSE)","v":0},{"$f":"'Budget FCFA'!AD89/VLOOKUP(AD$2,$BO$127:$BP$138,2,FALSE)","v":0},{"$f":"'Budget FCFA'!AE89/VLOOKUP(AE$2,$BO$127:$BP$138,2,FALSE)","v":0},{"$f":"'Budget FCFA'!AF89/VLOOKUP(AF$2,$BO$127:$BP$138,2,FALSE)","v":0},{"$f":"'Budget FCFA'!AG89/VLOOKUP(AG$2,$BO$127:$BP$138,2,FALSE)","v":0},{"$f":"'Budget FCFA'!AH89/VLOOKUP(AH$2,$BO$127:$BP$138,2,FALSE)","v":0},{"$f":"'Budget FCFA'!AI89/VLOOKUP(AI$2,$BO$127:$BP$138,2,FALSE)","v":0},{"$f":"'Budget FCFA'!AJ89/VLOOKUP(AJ$2,$BO$127:$BP$138,2,FALSE)","v":0},{"$f":"'Budget FCFA'!AK89/VLOOKUP(AK$2,$BO$127:$BP$138,2,FALSE)","v":0},{"$f":"'Budget FCFA'!AL89/VLOOKUP(AL$2,$BO$127:$BP$138,2,FALSE)","v":0},{"$f":"'Budget FCFA'!AM89/VLOOKUP(AM$2,$BO$127:$BP$138,2,FALSE)","v":0},{"$f":"'Budget FCFA'!AN89/VLOOKUP(AN$2,$BO$127:$BP$138,2,FALSE)","v":0},{"$f":"'Budget FCFA'!AO89/VLOOKUP(AO$2,$BO$127:$BP$138,2,FALSE)","v":0},{"$f":"'Budget FCFA'!AP89/VLOOKUP(AP$2,$BO$127:$BP$138,2,FALSE)","v":0},{"$f":"'Budget FCFA'!#REF!/VLOOKUP(AQ$2,$BO$127:$BP$138,2,FALSE)","v":{"$error":"#REF!"}},{"$f":"'Budget FCFA'!#REF!/VLOOKUP(AR$2,$BO$127:$BP$138,2,FALSE)","v":{"$error":"#REF!"}},{"$f":"'Budget FCFA'!#REF!/VLOOKUP(AS$2,$BO$127:$BP$138,2,FALSE)","v":{"$error":"#REF!"}},{"$f":"'Budget FCFA'!#REF!/VLOOKUP(AT$2,$BO$127:$BP$138,2,FALSE)","v":{"$error":"#REF!"}},{"$f":"'Budget FCFA'!#REF!/VLOOKUP(AU$2,$BO$127:$BP$138,2,FALSE)","v":{"$error":"#REF!"}},{"$f":"'Budget FCFA'!#REF!/VLOOKUP(AV$2,$BO$127:$BP$138,2,FALSE)","v":{"$error":"#REF!"}},{"$f":"'Budget FCFA'!#REF!/VLOOKUP(AW$2,$BO$127:$BP$138,2,FALSE)","v":{"$error":"#REF!"}},{"$f":"'Budget FCFA'!#REF!/VLOOKUP(AX$2,$BO$127:$BP$138,2,FALSE)","v":{"$error":"#REF!"}},{"$f":"'Budget FCFA'!#REF!/VLOOKUP(AY$2,$BO$127:$BP$138,2,FALSE)","v":{"$error":"#REF!"}},{"$f":"'Budget FCFA'!#REF!/VLOOKUP(AZ$2,$BO$127:$BP$138,2,FALSE)","v":{"$error":"#REF!"}},{"$f":"'Budget FCFA'!#REF!/VLOOKUP(BA$2,$BO$127:$BP$138,2,FALSE)","v":{"$error":"#REF!"}},{"$f":"'Budget FCFA'!#REF!/VLOOKUP(BB$2,$BO$127:$BP$138,2,FALSE)","v":{"$error":"#REF!"}},{"$f":"'Budget FCFA'!#REF!/VLOOKUP(BC$2,$BO$127:$BP$138,2,FALSE)","v":{"$error":"#REF!"}},{"$f":"'Budget FCFA'!#REF!/VLOOKUP(BD$2,$BO$127:$BP$138,2,FALSE)","v":{"$error":"#REF!"}},{"$f":"'Budget FCFA'!#REF!/VLOOKUP(BE$2,$BO$127:$BP$138,2,FALSE)","v":{"$error":"#REF!"}},{"$f":"'Budget FCFA'!#REF!/VLOOKUP(BF$2,$BO$127:$BP$138,2,FALSE)","v":{"$error":"#REF!"}},{"$f":"'Budget FCFA'!#REF!/VLOOKUP(BG$2,$BO$127:$BP$138,2,FALSE)","v":{"$error":"#REF!"}},{"$f":"'Budget FCFA'!#REF!/VLOOKUP(BH$2,$BO$127:$BP$138,2,FALSE)","v":{"$error":"#REF!"}},{"$f":"'Budget FCFA'!#REF!/VLOOKUP(BI$2,$BO$127:$BP$138,2,FALSE)","v":{"$error":"#REF!"}},{"$f":"'Budget FCFA'!#REF!/VLOOKUP(BJ$2,$BO$127:$BP$138,2,FALSE)","v":{"$error":"#REF!"}},{"$error":"#REF!"},{"$f":"BK89-'Budget FCFA'!#REF!","v":{"$error":"#REF!"}}]
["PUBBRAND","DOUALA",null,{"$f":"'Budget FCFA'!D90/VLOOKUP(D$2,$BO$127:$BP$138,2,FALSE)","v":0},{"$f":"'Budget FCFA'!E90/VLOOKUP(E$2,$BO$127:$BP$138,2,FALSE)","v":0},{"$f":"'Budget FCFA'!F90/VLOOKUP(F$2,$BO$127:$BP$138,2,FALSE)","v":0},{"$f":"'Budget FCFA'!G90/VLOOKUP(G$2,$BO$127:$BP$138,2,FALSE)","v":0},{"$f":"'Budget FCFA'!H90/VLOOKUP(H$2,$BO$127:$BP$138,2,FALSE)","v":0},{"$f":"'Budget FCFA'!I90/VLOOKUP(I$2,$BO$127:$BP$138,2,FALSE)","v":0},{"$f":"'Budget FCFA'!J90/VLOOKUP(J$2,$BO$127:$BP$138,2,FALSE)","v":0},{"$f":"'Budget FCFA'!K90/VLOOKUP(K$2,$BO$127:$BP$138,2,FALSE)","v":0},{"$f":"'Budget FCFA'!L90/VLOOKUP(L$2,$BO$127:$BP$138,2,FALSE)","v":0},{"$f":"'Budget FCFA'!M90/VLOOKUP(M$2,$BO$127:$BP$138,2,FALSE)","v":0},{"$f":"'Budget FCFA'!N90/VLOOKUP(N$2,$BO$127:$BP$138,2,FALSE)","v":0},{"$f":"'Budget FCFA'!O90/VLOOKUP(O$2,$BO$127:$BP$138,2,FALSE)","v":0},{"$f":"'Budget FCFA'!P90/VLOOKUP(P$2,$BO$127:$BP$138,2,FALSE)","v":0},{"$f":"'Budget FCFA'!Q90/VLOOKUP(Q$2,$BO$127:$BP$138,2,FALSE)","v":0},{"$f":"'Budget FCFA'!R90/VLOOKUP(R$2,$BO$127:$BP$138,2,FALSE)","v":0},{"$f":"'Budget FCFA'!S90/VLOOKUP(S$2,$BO$127:$BP$138,2,FALSE)","v":0},{"$f":"'Budget FCFA'!T90/VLOOKUP(T$2,$BO$127:$BP$138,2,FALSE)","v":0},{"$f":"'Budget FCFA'!U90/VLOOKUP(U$2,$BO$127:$BP$138,2,FALSE)","v":0},{"$f":"'Budget FCFA'!V90/VLOOKUP(V$2,$BO$127:$BP$138,2,FALSE)","v":0},{"$f":"'Budget FCFA'!W90/VLOOKUP(W$2,$BO$127:$BP$138,2,FALSE)","v":0},{"$f":"'Budget FCFA'!X90/VLOOKUP(X$2,$BO$127:$BP$138,2,FALSE)","v":0},{"$f":"'Budget FCFA'!Y90/VLOOKUP(Y$2,$BO$127:$BP$138,2,FALSE)","v":0},{"$f":"'Budget FCFA'!Z90/VLOOKUP(Z$2,$BO$127:$BP$138,2,FALSE)","v":0},{"$f":"'Budget FCFA'!AA90/VLOOKUP(AA$2,$BO$127:$BP$138,2,FALSE)","v":0},{"$f":"'Budget FCFA'!AB90/VLOOKUP(AB$2,$BO$127:$BP$138,2,FALSE)","v":0},{"$f":"'Budget FCFA'!AC90/VLOOKUP(AC$2,$BO$127:$BP$138,2,FALSE)","v":0},{"$f":"'Budget FCFA'!AD90/VLOOKUP(AD$2,$BO$127:$BP$138,2,FALSE)","v":0},{"$f":"'Budget FCFA'!AE90/VLOOKUP(AE$2,$BO$127:$BP$138,2,FALSE)","v":0},{"$f":"'Budget FCFA'!AF90/VLOOKUP(AF$2,$BO$127:$BP$138,2,FALSE)","v":0},{"$f":"'Budget FCFA'!AG90/VLOOKUP(AG$2,$BO$127:$BP$138,2,FALSE)","v":0},{"$f":"'Budget FCFA'!AH90/VLOOKUP(AH$2,$BO$127:$BP$138,2,FALSE)","v":0},{"$f":"'Budget FCFA'!AI90/VLOOKUP(AI$2,$BO$127:$BP$138,2,FALSE)","v":0},{"$f":"'Budget FCFA'!AJ90/VLOOKUP(AJ$2,$BO$127:$BP$138,2,FALSE)","v":0},{"$f":"'Budget FCFA'!AK90/VLOOKUP(AK$2,$BO$127:$BP$138,2,FALSE)","v":0},{"$f":"'Budget FCFA'!AL90/VLOOKUP(AL$2,$BO$127:$BP$138,2,FALSE)","v":0},{"$f":"'Budget FCFA'!AM90/VLOOKUP(AM$2,$BO$127:$BP$138,2,FALSE)","v":0},{"$f":"'Budget FCFA'!AN90/VLOOKUP(AN$2,$BO$127:$BP$138,2,FALSE)","v":0},{"$f":"'Budget FCFA'!AO90/VLOOKUP(AO$2,$BO$127:$BP$138,2,FALSE)","v":0},{"$f":"'Budget FCFA'!AP90/VLOOKUP(AP$2,$BO$127:$BP$138,2,FALSE)","v":0},{"$f":"'Budget FCFA'!#REF!/VLOOKUP(AQ$2,$BO$127:$BP$138,2,FALSE)","v":{"$error":"#REF!"}},{"$f":"'Budget FCFA'!#REF!/VLOOKUP(AR$2,$BO$127:$BP$138,2,FALSE)","v":{"$error":"#REF!"}},{"$f":"'Budget FCFA'!#REF!/VLOOKUP(AS$2,$BO$127:$BP$138,2,FALSE)","v":{"$error":"#REF!"}},{"$f":"'Budget FCFA'!#REF!/VLOOKUP(AT$2,$BO$127:$BP$138,2,FALSE)","v":{"$error":"#REF!"}},{"$f":"'Budget FCFA'!#REF!/VLOOKUP(AU$2,$BO$127:$BP$138,2,FALSE)","v":{"$error":"#REF!"}},{"$f":"'Budget FCFA'!#REF!/VLOOKUP(AV$2,$BO$127:$BP$138,2,FALSE)","v":{"$error":"#REF!"}},{"$f":"'Budget FCFA'!#REF!/VLOOKUP(AW$2,$BO$127:$BP$138,2,FALSE)","v":{"$error":"#REF!"}},{"$f":"'Budget FCFA'!#REF!/VLOOKUP(AX$2,$BO$127:$BP$138,2,FALSE)","v":{"$error":"#REF!"}},{"$f":"'Budget FCFA'!#REF!/VLOOKUP(AY$2,$BO$127:$BP$138,2,FALSE)","v":{"$error":"#REF!"}},{"$f":"'Budget FCFA'!#REF!/VLOOKUP(AZ$2,$BO$127:$BP$138,2,FALSE)","v":{"$error":"#REF!"}},{"$f":"'Budget FCFA'!#REF!/VLOOKUP(BA$2,$BO$127:$BP$138,2,FALSE)","v":{"$error":"#REF!"}},{"$f":"'Budget FCFA'!#REF!/VLOOKUP(BB$2,$BO$127:$BP$138,2,FALSE)","v":{"$error":"#REF!"}},{"$f":"'Budget FCFA'!#REF!/VLOOKUP(BC$2,$BO$127:$BP$138,2,FALSE)","v":{"$error":"#REF!"}},{"$f":"'Budget FCFA'!#REF!/VLOOKUP(BD$2,$BO$127:$BP$138,2,FALSE)","v":{"$error":"#REF!"}},{"$f":"'Budget FCFA'!#REF!/VLOOKUP(BE$2,$BO$127:$BP$138,2,FALSE)","v":{"$error":"#REF!"}},{"$f":"'Budget FCFA'!#REF!/VLOOKUP(BF$2,$BO$127:$BP$138,2,FALSE)","v":{"$error":"#REF!"}},{"$f":"'Budget FCFA'!#REF!/VLOOKUP(BG$2,$BO$127:$BP$138,2,FALSE)","v":{"$error":"#REF!"}},{"$f":"'Budget FCFA'!#REF!/VLOOKUP(BH$2,$BO$127:$BP$138,2,FALSE)","v":{"$error":"#REF!"}},{"$f":"'Budget FCFA'!#REF!/VLOOKUP(BI$2,$BO$127:$BP$138,2,FALSE)","v":{"$error":"#REF!"}},{"$f":"'Budget FCFA'!#REF!/VLOOKUP(BJ$2,$BO$127:$BP$138,2,FALSE)","v":{"$error":"#REF!"}},{"$error":"#REF!"},{"$f":"BK90-'Budget FCFA'!#REF!","v":{"$error":"#REF!"}}]
["PUBBRAND","TOTAL",null,{"$f":"'Budget FCFA'!D91/VLOOKUP(D$2,$BO$127:$BP$138,2,FALSE)","v":0},{"$f":"'Budget FCFA'!E91/VLOOKUP(E$2,$BO$127:$BP$138,2,FALSE)","v":0},{"$f":"'Budget FCFA'!F91/VLOOKUP(F$2,$BO$127:$BP$138,2,FALSE)","v":0},{"$f":"'Budget FCFA'!G91/VLOOKUP(G$2,$BO$127:$BP$138,2,FALSE)","v":0},{"$f":"'Budget FCFA'!H91/VLOOKUP(H$2,$BO$127:$BP$138,2,FALSE)","v":0},{"$f":"'Budget FCFA'!I91/VLOOKUP(I$2,$BO$127:$BP$138,2,FALSE)","v":0},{"$f":"'Budget FCFA'!J91/VLOOKUP(J$2,$BO$127:$BP$138,2,FALSE)","v":0},{"$f":"'Budget FCFA'!K91/VLOOKUP(K$2,$BO$127:$BP$138,2,FALSE)","v":0},{"$f":"'Budget FCFA'!L91/VLOOKUP(L$2,$BO$127:$BP$138,2,FALSE)","v":0},{"$f":"'Budget FCFA'!M91/VLOOKUP(M$2,$BO$127:$BP$138,2,FALSE)","v":0},{"$f":"'Budget FCFA'!N91/VLOOKUP(N$2,$BO$127:$BP$138,2,FALSE)","v":0},{"$f":"'Budget FCFA'!O91/VLOOKUP(O$2,$BO$127:$BP$138,2,FALSE)","v":0},{"$f":"'Budget FCFA'!P91/VLOOKUP(P$2,$BO$127:$BP$138,2,FALSE)","v":0},{"$f":"'Budget FCFA'!Q91/VLOOKUP(Q$2,$BO$127:$BP$138,2,FALSE)","v":0},{"$f":"'Budget FCFA'!R91/VLOOKUP(R$2,$BO$127:$BP$138,2,FALSE)","v":0},{"$f":"'Budget FCFA'!S91/VLOOKUP(S$2,$BO$127:$BP$138,2,FALSE)","v":0},{"$f":"'Budget FCFA'!T91/VLOOKUP(T$2,$BO$127:$BP$138,2,FALSE)","v":0},{"$f":"'Budget FCFA'!U91/VLOOKUP(U$2,$BO$127:$BP$138,2,FALSE)","v":0},{"$f":"'Budget FCFA'!V91/VLOOKUP(V$2,$BO$127:$BP$138,2,FALSE)","v":0},{"$f":"'Budget FCFA'!W91/VLOOKUP(W$2,$BO$127:$BP$138,2,FALSE)","v":0},{"$f":"'Budget FCFA'!X91/VLOOKUP(X$2,$BO$127:$BP$138,2,FALSE)","v":0},{"$f":"'Budget FCFA'!Y91/VLOOKUP(Y$2,$BO$127:$BP$138,2,FALSE)","v":0},{"$f":"'Budget FCFA'!Z91/VLOOKUP(Z$2,$BO$127:$BP$138,2,FALSE)","v":0},{"$f":"'Budget FCFA'!AA91/VLOOKUP(AA$2,$BO$127:$BP$138,2,FALSE)","v":0},{"$f":"'Budget FCFA'!AB91/VLOOKUP(AB$2,$BO$127:$BP$138,2,FALSE)","v":0},{"$f":"'Budget FCFA'!AC91/VLOOKUP(AC$2,$BO$127:$BP$138,2,FALSE)","v":0},{"$f":"'Budget FCFA'!AD91/VLOOKUP(AD$2,$BO$127:$BP$138,2,FALSE)","v":0},{"$f":"'Budget FCFA'!AE91/VLOOKUP(AE$2,$BO$127:$BP$138,2,FALSE)","v":0},{"$f":"'Budget FCFA'!AF91/VLOOKUP(AF$2,$BO$127:$BP$138,2,FALSE)","v":0},{"$f":"'Budget FCFA'!AG91/VLOOKUP(AG$2,$BO$127:$BP$138,2,FALSE)","v":0},{"$f":"'Budget FCFA'!AH91/VLOOKUP(AH$2,$BO$127:$BP$138,2,FALSE)","v":0},{"$f":"'Budget FCFA'!AI91/VLOOKUP(AI$2,$BO$127:$BP$138,2,FALSE)","v":0},{"$f":"'Budget FCFA'!AJ91/VLOOKUP(AJ$2,$BO$127:$BP$138,2,FALSE)","v":0},{"$f":"'Budget FCFA'!AK91/VLOOKUP(AK$2,$BO$127:$BP$138,2,FALSE)","v":0},{"$f":"'Budget FCFA'!AL91/VLOOKUP(AL$2,$BO$127:$BP$138,2,FALSE)","v":0},{"$f":"'Budget FCFA'!AM91/VLOOKUP(AM$2,$BO$127:$BP$138,2,FALSE)","v":0},{"$f":"'Budget FCFA'!AN91/VLOOKUP(AN$2,$BO$127:$BP$138,2,FALSE)","v":0},{"$f":"'Budget FCFA'!AO91/VLOOKUP(AO$2,$BO$127:$BP$138,2,FALSE)","v":0},{"$f":"'Budget FCFA'!AP91/VLOOKUP(AP$2,$BO$127:$BP$138,2,FALSE)","v":0},{"$f":"'Budget FCFA'!#REF!/VLOOKUP(AQ$2,$BO$127:$BP$138,2,FALSE)","v":{"$error":"#REF!"}},{"$f":"'Budget FCFA'!#REF!/VLOOKUP(AR$2,$BO$127:$BP$138,2,FALSE)","v":{"$error":"#REF!"}},{"$f":"'Budget FCFA'!#REF!/VLOOKUP(AS$2,$BO$127:$BP$138,2,FALSE)","v":{"$error":"#REF!"}},{"$f":"'Budget FCFA'!#REF!/VLOOKUP(AT$2,$BO$127:$BP$138,2,FALSE)","v":{"$error":"#REF!"}},{"$f":"'Budget FCFA'!#REF!/VLOOKUP(AU$2,$BO$127:$BP$138,2,FALSE)","v":{"$error":"#REF!"}},{"$f":"'Budget FCFA'!#REF!/VLOOKUP(AV$2,$BO$127:$BP$138,2,FALSE)","v":{"$error":"#REF!"}},{"$f":"'Budget FCFA'!#REF!/VLOOKUP(AW$2,$BO$127:$BP$138,2,FALSE)","v":{"$error":"#REF!"}},{"$f":"'Budget FCFA'!#REF!/VLOOKUP(AX$2,$BO$127:$BP$138,2,FALSE)","v":{"$error":"#REF!"}},{"$f":"'Budget FCFA'!#REF!/VLOOKUP(AY$2,$BO$127:$BP$138,2,FALSE)","v":{"$error":"#REF!"}},{"$f":"'Budget FCFA'!#REF!/VLOOKUP(AZ$2,$BO$127:$BP$138,2,FALSE)","v":{"$error":"#REF!"}},{"$f":"'Budget FCFA'!#REF!/VLOOKUP(BA$2,$BO$127:$BP$138,2,FALSE)","v":{"$error":"#REF!"}},{"$f":"'Budget FCFA'!#REF!/VLOOKUP(BB$2,$BO$127:$BP$138,2,FALSE)","v":{"$error":"#REF!"}},{"$f":"'Budget FCFA'!#REF!/VLOOKUP(BC$2,$BO$127:$BP$138,2,FALSE)","v":{"$error":"#REF!"}},{"$f":"'Budget FCFA'!#REF!/VLOOKUP(BD$2,$BO$127:$BP$138,2,FALSE)","v":{"$error":"#REF!"}},{"$f":"'Budget FCFA'!#REF!/VLOOKUP(BE$2,$BO$127:$BP$138,2,FALSE)","v":{"$error":"#REF!"}},{"$f":"'Budget FCFA'!#REF!/VLOOKUP(BF$2,$BO$127:$BP$138,2,FALSE)","v":{"$error":"#REF!"}},{"$f":"'Budget FCFA'!#REF!/VLOOKUP(BG$2,$BO$127:$BP$138,2,FALSE)","v":{"$error":"#REF!"}},{"$f":"'Budget FCFA'!#REF!/VLOOKUP(BH$2,$BO$127:$BP$138,2,FALSE)","v":{"$error":"#REF!"}},{"$f":"'Budget FCFA'!#REF!/VLOOKUP(BI$2,$BO$127:$BP$138,2,FALSE)","v":{"$error":"#REF!"}},{"$f":"'Budget FCFA'!#REF!/VLOOKUP(BJ$2,$BO$127:$BP$138,2,FALSE)","v":{"$error":"#REF!"}},{"$error":"#REF!"},{"$f":"BK91-'Budget FCFA'!#REF!","v":{"$error":"#REF!"}}]
["PUBVIDEO","ABIDJAN","PUB VIDEO (video magasin)",{"$f":"'Budget FCFA'!D92/VLOOKUP(D$2,$BO$127:$BP$138,2,FALSE)","v":0},{"$f":"'Budget FCFA'!E92/VLOOKUP(E$2,$BO$127:$BP$138,2,FALSE)","v":0},{"$f":"'Budget FCFA'!F92/VLOOKUP(F$2,$BO$127:$BP$138,2,FALSE)","v":0},{"$f":"'Budget FCFA'!G92/VLOOKUP(G$2,$BO$127:$BP$138,2,FALSE)","v":0},{"$f":"'Budget FCFA'!H92/VLOOKUP(H$2,$BO$127:$BP$138,2,FALSE)","v":0},{"$f":"'Budget FCFA'!I92/VLOOKUP(I$2,$BO$127:$BP$138,2,FALSE)","v":0},{"$f":"'Budget FCFA'!J92/VLOOKUP(J$2,$BO$127:$BP$138,2,FALSE)","v":0},{"$f":"'Budget FCFA'!K92/VLOOKUP(K$2,$BO$127:$BP$138,2,FALSE)","v":0},{"$f":"'Budget FCFA'!L92/VLOOKUP(L$2,$BO$127:$BP$138,2,FALSE)","v":0},{"$f":"'Budget FCFA'!M92/VLOOKUP(M$2,$BO$127:$BP$138,2,FALSE)","v":0},{"$f":"'Budget FCFA'!N92/VLOOKUP(N$2,$BO$127:$BP$138,2,FALSE)","v":0},{"$f":"'Budget FCFA'!O92/VLOOKUP(O$2,$BO$127:$BP$138,2,FALSE)","v":0},{"$f":"'Budget FCFA'!P92/VLOOKUP(P$2,$BO$127:$BP$138,2,FALSE)","v":0},{"$f":"'Budget FCFA'!Q92/VLOOKUP(Q$2,$BO$127:$BP$138,2,FALSE)","v":0},{"$f":"'Budget FCFA'!R92/VLOOKUP(R$2,$BO$127:$BP$138,2,FALSE)","v":70.847999999999985},{"$f":"'Budget FCFA'!S92/VLOOKUP(S$2,$BO$127:$BP$138,2,FALSE)","v":0},{"$f":"'Budget FCFA'!T92/VLOOKUP(T$2,$BO$127:$BP$138,2,FALSE)","v":0},{"$f":"'Budget FCFA'!U92/VLOOKUP(U$2,$BO$127:$BP$138,2,FALSE)","v":0},{"$f":"'Budget FCFA'!V92/VLOOKUP(V$2,$BO$127:$BP$138,2,FALSE)","v":0},{"$f":"'Budget FCFA'!W92/VLOOKUP(W$2,$BO$127:$BP$138,2,FALSE)","v":0},{"$f":"'Budget FCFA'!X92/VLOOKUP(X$2,$BO$127:$BP$138,2,FALSE)","v":0},{"$f":"'Budget FCFA'!Y92/VLOOKUP(Y$2,$BO$127:$BP$138,2,FALSE)","v":0},{"$f":"'Budget FCFA'!Z92/VLOOKUP(Z$2,$BO$127:$BP$138,2,FALSE)","v":0},{"$f":"'Budget FCFA'!AA92/VLOOKUP(AA$2,$BO$127:$BP$138,2,FALSE)","v":0},{"$f":"'Budget FCFA'!AB92/VLOOKUP(AB$2,$BO$127:$BP$138,2,FALSE)","v":0},{"$f":"'Budget FCFA'!AC92/VLOOKUP(AC$2,$BO$127:$BP$138,2,FALSE)","v":0},{"$f":"'Budget FCFA'!AD92/VLOOKUP(AD$2,$BO$127:$BP$138,2,FALSE)","v":0},{"$f":"'Budget FCFA'!AE92/VLOOKUP(AE$2,$BO$127:$BP$138,2,FALSE)","v":0},{"$f":"'Budget FCFA'!AF92/VLOOKUP(AF$2,$BO$127:$BP$138,2,FALSE)","v":0},{"$f":"'Budget FCFA'!AG92/VLOOKUP(AG$2,$BO$127:$BP$138,2,FALSE)","v":0},{"$f":"'Budget FCFA'!AH92/VLOOKUP(AH$2,$BO$127:$BP$138,2,FALSE)","v":0},{"$f":"'Budget FCFA'!AI92/VLOOKUP(AI$2,$BO$127:$BP$138,2,FALSE)","v":0},{"$f":"'Budget FCFA'!AJ92/VLOOKUP(AJ$2,$BO$127:$BP$138,2,FALSE)","v":0},{"$f":"'Budget FCFA'!AK92/VLOOKUP(AK$2,$BO$127:$BP$138,2,FALSE)","v":{"$error":"#REF!"}},{"$f":"'Budget FCFA'!AL92/VLOOKUP(AL$2,$BO$127:$BP$138,2,FALSE)","v":0},{"$f":"'Budget FCFA'!AM92/VLOOKUP(AM$2,$BO$127:$BP$138,2,FALSE)","v":0},{"$f":"'Budget FCFA'!AN92/VLOOKUP(AN$2,$BO$127:$BP$138,2,FALSE)","v":0},{"$f":"'Budget FCFA'!AO92/VLOOKUP(AO$2,$BO$127:$BP$138,2,FALSE)","v":0},{"$f":"'Budget FCFA'!AP92/VLOOKUP(AP$2,$BO$127:$BP$138,2,FALSE)","v":{"$error":"#REF!"}},{"$f":"'Budget FCFA'!#REF!/VLOOKUP(AQ$2,$BO$127:$BP$138,2,FALSE)","v":{"$error":"#REF!"}},{"$f":"'Budget FCFA'!#REF!/VLOOKUP(AR$2,$BO$127:$BP$138,2,FALSE)","v":{"$error":"#REF!"}},{"$f":"'Budget FCFA'!#REF!/VLOOKUP(AS$2,$BO$127:$BP$138,2,FALSE)","v":{"$error":"#REF!"}},{"$f":"'Budget FCFA'!#REF!/VLOOKUP(AT$2,$BO$127:$BP$138,2,FALSE)","v":{"$error":"#REF!"}},{"$f":"'Budget FCFA'!#REF!/VLOOKUP(AU$2,$BO$127:$BP$138,2,FALSE)","v":{"$error":"#REF!"}},{"$f":"'Budget FCFA'!#REF!/VLOOKUP(AV$2,$BO$127:$BP$138,2,FALSE)","v":{"$error":"#REF!"}},{"$f":"'Budget FCFA'!#REF!/VLOOKUP(AW$2,$BO$127:$BP$138,2,FALSE)","v":{"$error":"#REF!"}},{"$f":"'Budget FCFA'!#REF!/VLOOKUP(AX$2,$BO$127:$BP$138,2,FALSE)","v":{"$error":"#REF!"}},{"$f":"'Budget FCFA'!#REF!/VLOOKUP(AY$2,$BO$127:$BP$138,2,FALSE)","v":{"$error":"#REF!"}},{"$f":"'Budget FCFA'!#REF!/VLOOKUP(AZ$2,$BO$127:$BP$138,2,FALSE)","v":{"$error":"#REF!"}},{"$f":"'Budget FCFA'!#REF!/VLOOKUP(BA$2,$BO$127:$BP$138,2,FALSE)","v":{"$error":"#REF!"}},{"$f":"'Budget FCFA'!#REF!/VLOOKUP(BB$2,$BO$127:$BP$138,2,FALSE)","v":{"$error":"#REF!"}},{"$f":"'Budget FCFA'!#REF!/VLOOKUP(BC$2,$BO$127:$BP$138,2,FALSE)","v":{"$error":"#REF!"}},{"$f":"'Budget FCFA'!#REF!/VLOOKUP(BD$2,$BO$127:$BP$138,2,FALSE)","v":{"$error":"#REF!"}},{"$f":"'Budget FCFA'!#REF!/VLOOKUP(BE$2,$BO$127:$BP$138,2,FALSE)","v":{"$error":"#REF!"}},{"$f":"'Budget FCFA'!#REF!/VLOOKUP(BF$2,$BO$127:$BP$138,2,FALSE)","v":{"$error":"#REF!"}},{"$f":"'Budget FCFA'!#REF!/VLOOKUP(BG$2,$BO$127:$BP$138,2,FALSE)","v":{"$error":"#REF!"}},{"$f":"'Budget FCFA'!#REF!/VLOOKUP(BH$2,$BO$127:$BP$138,2,FALSE)","v":{"$error":"#REF!"}},{"$f":"'Budget FCFA'!#REF!/VLOOKUP(BI$2,$BO$127:$BP$138,2,FALSE)","v":{"$error":"#REF!"}},{"$f":"'Budget FCFA'!#REF!/VLOOKUP(BJ$2,$BO$127:$BP$138,2,FALSE)","v":{"$error":"#REF!"}},{"$error":"#REF!"},{"$f":"BK92-'Budget FCFA'!#REF!","v":{"$error":"#REF!"}}]
["PUBVIDEO","BRAZZA","PUB VIDEO (video magasin)",{"$f":"'Budget FCFA'!D93/VLOOKUP(D$2,$BO$127:$BP$138,2,FALSE)","v":0},{"$f":"'Budget FCFA'!E93/VLOOKUP(E$2,$BO$127:$BP$138,2,FALSE)","v":0},{"$f":"'Budget FCFA'!F93/VLOOKUP(F$2,$BO$127:$BP$138,2,FALSE)","v":0},{"$f":"'Budget FCFA'!G93/VLOOKUP(G$2,$BO$127:$BP$138,2,FALSE)","v":0},{"$f":"'Budget FCFA'!H93/VLOOKUP(H$2,$BO$127:$BP$138,2,FALSE)","v":0},{"$f":"'Budget FCFA'!I93/VLOOKUP(I$2,$BO$127:$BP$138,2,FALSE)","v":0},{"$f":"'Budget FCFA'!J93/VLOOKUP(J$2,$BO$127:$BP$138,2,FALSE)","v":0},{"$f":"'Budget FCFA'!K93/VLOOKUP(K$2,$BO$127:$BP$138,2,FALSE)","v":0},{"$f":"'Budget FCFA'!L93/VLOOKUP(L$2,$BO$127:$BP$138,2,FALSE)","v":0},{"$f":"'Budget FCFA'!M93/VLOOKUP(M$2,$BO$127:$BP$138,2,FALSE)","v":0},{"$f":"'Budget FCFA'!N93/VLOOKUP(N$2,$BO$127:$BP$138,2,FALSE)","v":0},{"$f":"'Budget FCFA'!O93/VLOOKUP(O$2,$BO$127:$BP$138,2,FALSE)","v":0},{"$f":"'Budget FCFA'!P93/VLOOKUP(P$2,$BO$127:$BP$138,2,FALSE)","v":0},{"$f":"'Budget FCFA'!Q93/VLOOKUP(Q$2,$BO$127:$BP$138,2,FALSE)","v":0},{"$f":"'Budget FCFA'!R93/VLOOKUP(R$2,$BO$127:$BP$138,2,FALSE)","v":13.726800000000003},{"$f":"'Budget FCFA'!S93/VLOOKUP(S$2,$BO$127:$BP$138,2,FALSE)","v":0},{"$f":"'Budget FCFA'!T93/VLOOKUP(T$2,$BO$127:$BP$138,2,FALSE)","v":0},{"$f":"'Budget FCFA'!U93/VLOOKUP(U$2,$BO$127:$BP$138,2,FALSE)","v":0},{"$f":"'Budget FCFA'!V93/VLOOKUP(V$2,$BO$127:$BP$138,2,FALSE)","v":0},{"$f":"'Budget FCFA'!W93/VLOOKUP(W$2,$BO$127:$BP$138,2,FALSE)","v":0},{"$f":"'Budget FCFA'!X93/VLOOKUP(X$2,$BO$127:$BP$138,2,FALSE)","v":0},{"$f":"'Budget FCFA'!Y93/VLOOKUP(Y$2,$BO$127:$BP$138,2,FALSE)","v":0},{"$f":"'Budget FCFA'!Z93/VLOOKUP(Z$2,$BO$127:$BP$138,2,FALSE)","v":0},{"$f":"'Budget FCFA'!AA93/VLOOKUP(AA$2,$BO$127:$BP$138,2,FALSE)","v":0},{"$f":"'Budget FCFA'!AB93/VLOOKUP(AB$2,$BO$127:$BP$138,2,FALSE)","v":0},{"$f":"'Budget FCFA'!AC93/VLOOKUP(AC$2,$BO$127:$BP$138,2,FALSE)","v":0},{"$f":"'Budget FCFA'!AD93/VLOOKUP(AD$2,$BO$127:$BP$138,2,FALSE)","v":0},{"$f":"'Budget FCFA'!AE93/VLOOKUP(AE$2,$BO$127:$BP$138,2,FALSE)","v":0},{"$f":"'Budget FCFA'!AF93/VLOOKUP(AF$2,$BO$127:$BP$138,2,FALSE)","v":0},{"$f":"'Budget FCFA'!AG93/VLOOKUP(AG$2,$BO$127:$BP$138,2,FALSE)","v":0},{"$f":"'Budget FCFA'!AH93/VLOOKUP(AH$2,$BO$127:$BP$138,2,FALSE)","v":0},{"$f":"'Budget FCFA'!AI93/VLOOKUP(AI$2,$BO$127:$BP$138,2,FALSE)","v":0},{"$f":"'Budget FCFA'!AJ93/VLOOKUP(AJ$2,$BO$127:$BP$138,2,FALSE)","v":0},{"$f":"'Budget FCFA'!AK93/VLOOKUP(AK$2,$BO$127:$BP$138,2,FALSE)","v":{"$error":"#REF!"}},{"$f":"'Budget FCFA'!AL93/VLOOKUP(AL$2,$BO$127:$BP$138,2,FALSE)","v":0},{"$f":"'Budget FCFA'!AM93/VLOOKUP(AM$2,$BO$127:$BP$138,2,FALSE)","v":0},{"$f":"'Budget FCFA'!AN93/VLOOKUP(AN$2,$BO$127:$BP$138,2,FALSE)","v":0},{"$f":"'Budget FCFA'!AO93/VLOOKUP(AO$2,$BO$127:$BP$138,2,FALSE)","v":0},{"$f":"'Budget FCFA'!AP93/VLOOKUP(AP$2,$BO$127:$BP$138,2,FALSE)","v":{"$error":"#REF!"}},{"$f":"'Budget FCFA'!#REF!/VLOOKUP(AQ$2,$BO$127:$BP$138,2,FALSE)","v":{"$error":"#REF!"}},{"$f":"'Budget FCFA'!#REF!/VLOOKUP(AR$2,$BO$127:$BP$138,2,FALSE)","v":{"$error":"#REF!"}},{"$f":"'Budget FCFA'!#REF!/VLOOKUP(AS$2,$BO$127:$BP$138,2,FALSE)","v":{"$error":"#REF!"}},{"$f":"'Budget FCFA'!#REF!/VLOOKUP(AT$2,$BO$127:$BP$138,2,FALSE)","v":{"$error":"#REF!"}},{"$f":"'Budget FCFA'!#REF!/VLOOKUP(AU$2,$BO$127:$BP$138,2,FALSE)","v":{"$error":"#REF!"}},{"$f":"'Budget FCFA'!#REF!/VLOOKUP(AV$2,$BO$127:$BP$138,2,FALSE)","v":{"$error":"#REF!"}},{"$f":"'Budget FCFA'!#REF!/VLOOKUP(AW$2,$BO$127:$BP$138,2,FALSE)","v":{"$error":"#REF!"}},{"$f":"'Budget FCFA'!#REF!/VLOOKUP(AX$2,$BO$127:$BP$138,2,FALSE)","v":{"$error":"#REF!"}},{"$f":"'Budget FCFA'!#REF!/VLOOKUP(AY$2,$BO$127:$BP$138,2,FALSE)","v":{"$error":"#REF!"}},{"$f":"'Budget FCFA'!#REF!/VLOOKUP(AZ$2,$BO$127:$BP$138,2,FALSE)","v":{"$error":"#REF!"}},{"$f":"'Budget FCFA'!#REF!/VLOOKUP(BA$2,$BO$127:$BP$138,2,FALSE)","v":{"$error":"#REF!"}},{"$f":"'Budget FCFA'!#REF!/VLOOKUP(BB$2,$BO$127:$BP$138,2,FALSE)","v":{"$error":"#REF!"}},{"$f":"'Budget FCFA'!#REF!/VLOOKUP(BC$2,$BO$127:$BP$138,2,FALSE)","v":{"$error":"#REF!"}},{"$f":"'Budget FCFA'!#REF!/VLOOKUP(BD$2,$BO$127:$BP$138,2,FALSE)","v":{"$error":"#REF!"}},{"$f":"'Budget FCFA'!#REF!/VLOOKUP(BE$2,$BO$127:$BP$138,2,FALSE)","v":{"$error":"#REF!"}},{"$f":"'Budget FCFA'!#REF!/VLOOKUP(BF$2,$BO$127:$BP$138,2,FALSE)","v":{"$error":"#REF!"}},{"$f":"'Budget FCFA'!#REF!/VLOOKUP(BG$2,$BO$127:$BP$138,2,FALSE)","v":{"$error":"#REF!"}},{"$f":"'Budget FCFA'!#REF!/VLOOKUP(BH$2,$BO$127:$BP$138,2,FALSE)","v":{"$error":"#REF!"}},{"$f":"'Budget FCFA'!#REF!/VLOOKUP(BI$2,$BO$127:$BP$138,2,FALSE)","v":{"$error":"#REF!"}},{"$f":"'Budget FCFA'!#REF!/VLOOKUP(BJ$2,$BO$127:$BP$138,2,FALSE)","v":{"$error":"#REF!"}},{"$error":"#REF!"},{"$f":"BK93-'Budget FCFA'!#REF!","v":{"$error":"#REF!"}}]
["PUBVIDEO","DAKAR","PUB VIDEO (video magasin)",{"$f":"'Budget FCFA'!D94/VLOOKUP(D$2,$BO$127:$BP$138,2,FALSE)","v":0},{"$f":"'Budget FCFA'!E94/VLOOKUP(E$2,$BO$127:$BP$138,2,FALSE)","v":0},{"$f":"'Budget FCFA'!F94/VLOOKUP(F$2,$BO$127:$BP$138,2,FALSE)","v":0},{"$f":"'Budget FCFA'!G94/VLOOKUP(G$2,$BO$127:$BP$138,2,FALSE)","v":0},{"$f":"'Budget FCFA'!H94/VLOOKUP(H$2,$BO$127:$BP$138,2,FALSE)","v":0},{"$f":"'Budget FCFA'!I94/VLOOKUP(I$2,$BO$127:$BP$138,2,FALSE)","v":0},{"$f":"'Budget FCFA'!J94/VLOOKUP(J$2,$BO$127:$BP$138,2,FALSE)","v":0},{"$f":"'Budget FCFA'!K94/VLOOKUP(K$2,$BO$127:$BP$138,2,FALSE)","v":0},{"$f":"'Budget FCFA'!L94/VLOOKUP(L$2,$BO$127:$BP$138,2,FALSE)","v":0},{"$f":"'Budget FCFA'!M94/VLOOKUP(M$2,$BO$127:$BP$138,2,FALSE)","v":0},{"$f":"'Budget FCFA'!N94/VLOOKUP(N$2,$BO$127:$BP$138,2,FALSE)","v":0},{"$f":"'Budget FCFA'!O94/VLOOKUP(O$2,$BO$127:$BP$138,2,FALSE)","v":0},{"$f":"'Budget FCFA'!P94/VLOOKUP(P$2,$BO$127:$BP$138,2,FALSE)","v":0},{"$f":"'Budget FCFA'!Q94/VLOOKUP(Q$2,$BO$127:$BP$138,2,FALSE)","v":0},{"$f":"'Budget FCFA'!R94/VLOOKUP(R$2,$BO$127:$BP$138,2,FALSE)","v":18.45},{"$f":"'Budget FCFA'!S94/VLOOKUP(S$2,$BO$127:$BP$138,2,FALSE)","v":0},{"$f":"'Budget FCFA'!T94/VLOOKUP(T$2,$BO$127:$BP$138,2,FALSE)","v":0},{"$f":"'Budget FCFA'!U94/VLOOKUP(U$2,$BO$127:$BP$138,2,FALSE)","v":0},{"$f":"'Budget FCFA'!V94/VLOOKUP(V$2,$BO$127:$BP$138,2,FALSE)","v":0},{"$f":"'Budget FCFA'!W94/VLOOKUP(W$2,$BO$127:$BP$138,2,FALSE)","v":0},{"$f":"'Budget FCFA'!X94/VLOOKUP(X$2,$BO$127:$BP$138,2,FALSE)","v":0},{"$f":"'Budget FCFA'!Y94/VLOOKUP(Y$2,$BO$127:$BP$138,2,FALSE)","v":0},{"$f":"'Budget FCFA'!Z94/VLOOKUP(Z$2,$BO$127:$BP$138,2,FALSE)","v":0},{"$f":"'Budget FCFA'!AA94/VLOOKUP(AA$2,$BO$127:$BP$138,2,FALSE)","v":0},{"$f":"'Budget FCFA'!AB94/VLOOKUP(AB$2,$BO$127:$BP$138,2,FALSE)","v":0},{"$f":"'Budget FCFA'!AC94/VLOOKUP(AC$2,$BO$127:$BP$138,2,FALSE)","v":0},{"$f":"'Budget FCFA'!AD94/VLOOKUP(AD$2,$BO$127:$BP$138,2,FALSE)","v":0},{"$f":"'Budget FCFA'!AE94/VLOOKUP(AE$2,$BO$127:$BP$138,2,FALSE)","v":0},{"$f":"'Budget FCFA'!AF94/VLOOKUP(AF$2,$BO$127:$BP$138,2,FALSE)","v":0},{"$f":"'Budget FCFA'!AG94/VLOOKUP(AG$2,$BO$127:$BP$138,2,FALSE)","v":0},{"$f":"'Budget FCFA'!AH94/VLOOKUP(AH$2,$BO$127:$BP$138,2,FALSE)","v":0},{"$f":"'Budget FCFA'!AI94/VLOOKUP(AI$2,$BO$127:$BP$138,2,FALSE)","v":0},{"$f":"'Budget FCFA'!AJ94/VLOOKUP(AJ$2,$BO$127:$BP$138,2,FALSE)","v":0},{"$f":"'Budget FCFA'!AK94/VLOOKUP(AK$2,$BO$127:$BP$138,2,FALSE)","v":{"$error":"#REF!"}},{"$f":"'Budget FCFA'!AL94/VLOOKUP(AL$2,$BO$127:$BP$138,2,FALSE)","v":0},{"$f":"'Budget FCFA'!AM94/VLOOKUP(AM$2,$BO$127:$BP$138,2,FALSE)","v":0},{"$f":"'Budget FCFA'!AN94/VLOOKUP(AN$2,$BO$127:$BP$138,2,FALSE)","v":0},{"$f":"'Budget FCFA'!AO94/VLOOKUP(AO$2,$BO$127:$BP$138,2,FALSE)","v":0},{"$f":"'Budget FCFA'!AP94/VLOOKUP(AP$2,$BO$127:$BP$138,2,FALSE)","v":{"$error":"#REF!"}},{"$f":"'Budget FCFA'!#REF!/VLOOKUP(AQ$2,$BO$127:$BP$138,2,FALSE)","v":{"$error":"#REF!"}},{"$f":"'Budget FCFA'!#REF!/VLOOKUP(AR$2,$BO$127:$BP$138,2,FALSE)","v":{"$error":"#REF!"}},{"$f":"'Budget FCFA'!#REF!/VLOOKUP(AS$2,$BO$127:$BP$138,2,FALSE)","v":{"$error":"#REF!"}},{"$f":"'Budget FCFA'!#REF!/VLOOKUP(AT$2,$BO$127:$BP$138,2,FALSE)","v":{"$error":"#REF!"}},{"$f":"'Budget FCFA'!#REF!/VLOOKUP(AU$2,$BO$127:$BP$138,2,FALSE)","v":{"$error":"#REF!"}},{"$f":"'Budget FCFA'!#REF!/VLOOKUP(AV$2,$BO$127:$BP$138,2,FALSE)","v":{"$error":"#REF!"}},{"$f":"'Budget FCFA'!#REF!/VLOOKUP(AW$2,$BO$127:$BP$138,2,FALSE)","v":{"$error":"#REF!"}},{"$f":"'Budget FCFA'!#REF!/VLOOKUP(AX$2,$BO$127:$BP$138,2,FALSE)","v":{"$error":"#REF!"}},{"$f":"'Budget FCFA'!#REF!/VLOOKUP(AY$2,$BO$127:$BP$138,2,FALSE)","v":{"$error":"#REF!"}},{"$f":"'Budget FCFA'!#REF!/VLOOKUP(AZ$2,$BO$127:$BP$138,2,FALSE)","v":{"$error":"#REF!"}},{"$f":"'Budget FCFA'!#REF!/VLOOKUP(BA$2,$BO$127:$BP$138,2,FALSE)","v":{"$error":"#REF!"}},{"$f":"'Budget FCFA'!#REF!/VLOOKUP(BB$2,$BO$127:$BP$138,2,FALSE)","v":{"$error":"#REF!"}},{"$f":"'Budget FCFA'!#REF!/VLOOKUP(BC$2,$BO$127:$BP$138,2,FALSE)","v":{"$error":"#REF!"}},{"$f":"'Budget FCFA'!#REF!/VLOOKUP(BD$2,$BO$127:$BP$138,2,FALSE)","v":{"$error":"#REF!"}},{"$f":"'Budget FCFA'!#REF!/VLOOKUP(BE$2,$BO$127:$BP$138,2,FALSE)","v":{"$error":"#REF!"}},{"$f":"'Budget FCFA'!#REF!/VLOOKUP(BF$2,$BO$127:$BP$138,2,FALSE)","v":{"$error":"#REF!"}},{"$f":"'Budget FCFA'!#REF!/VLOOKUP(BG$2,$BO$127:$BP$138,2,FALSE)","v":{"$error":"#REF!"}},{"$f":"'Budget FCFA'!#REF!/VLOOKUP(BH$2,$BO$127:$BP$138,2,FALSE)","v":{"$error":"#REF!"}},{"$f":"'Budget FCFA'!#REF!/VLOOKUP(BI$2,$BO$127:$BP$138,2,FALSE)","v":{"$error":"#REF!"}},{"$f":"'Budget FCFA'!#REF!/VLOOKUP(BJ$2,$BO$127:$BP$138,2,FALSE)","v":{"$error":"#REF!"}},{"$error":"#REF!"},{"$f":"BK94-'Budget FCFA'!#REF!","v":{"$error":"#REF!"}}]
["PUBVIDEO","LIBREVILLE","PUB VIDEO (video magasin)",{"$f":"'Budget FCFA'!D95/VLOOKUP(D$2,$BO$127:$BP$138,2,FALSE)","v":0},{"$f":"'Budget FCFA'!E95/VLOOKUP(E$2,$BO$127:$BP$138,2,FALSE)","v":0},{"$f":"'Budget FCFA'!F95/VLOOKUP(F$2,$BO$127:$BP$138,2,FALSE)","v":0},{"$f":"'Budget FCFA'!G95/VLOOKUP(G$2,$BO$127:$BP$138,2,FALSE)","v":0},{"$f":"'Budget FCFA'!H95/VLOOKUP(H$2,$BO$127:$BP$138,2,FALSE)","v":0},{"$f":"'Budget FCFA'!I95/VLOOKUP(I$2,$BO$127:$BP$138,2,FALSE)","v":0},{"$f":"'Budget FCFA'!J95/VLOOKUP(J$2,$BO$127:$BP$138,2,FALSE)","v":0},{"$f":"'Budget FCFA'!K95/VLOOKUP(K$2,$BO$127:$BP$138,2,FALSE)","v":0},{"$f":"'Budget FCFA'!L95/VLOOKUP(L$2,$BO$127:$BP$138,2,FALSE)","v":0},{"$f":"'Budget FCFA'!M95/VLOOKUP(M$2,$BO$127:$BP$138,2,FALSE)","v":0},{"$f":"'Budget FCFA'!N95/VLOOKUP(N$2,$BO$127:$BP$138,2,FALSE)","v":0},{"$f":"'Budget FCFA'!O95/VLOOKUP(O$2,$BO$127:$BP$138,2,FALSE)","v":0},{"$f":"'Budget FCFA'!P95/VLOOKUP(P$2,$BO$127:$BP$138,2,FALSE)","v":0},{"$f":"'Budget FCFA'!Q95/VLOOKUP(Q$2,$BO$127:$BP$138,2,FALSE)","v":0},{"$f":"'Budget FCFA'!R95/VLOOKUP(R$2,$BO$127:$BP$138,2,FALSE)","v":26.125199999999996},{"$f":"'Budget FCFA'!S95/VLOOKUP(S$2,$BO$127:$BP$138,2,FALSE)","v":0},{"$f":"'Budget FCFA'!T95/VLOOKUP(T$2,$BO$127:$BP$138,2,FALSE)","v":0},{"$f":"'Budget FCFA'!U95/VLOOKUP(U$2,$BO$127:$BP$138,2,FALSE)","v":0},{"$f":"'Budget FCFA'!V95/VLOOKUP(V$2,$BO$127:$BP$138,2,FALSE)","v":0},{"$f":"'Budget FCFA'!W95/VLOOKUP(W$2,$BO$127:$BP$138,2,FALSE)","v":0},{"$f":"'Budget FCFA'!X95/VLOOKUP(X$2,$BO$127:$BP$138,2,FALSE)","v":0},{"$f":"'Budget FCFA'!Y95/VLOOKUP(Y$2,$BO$127:$BP$138,2,FALSE)","v":0},{"$f":"'Budget FCFA'!Z95/VLOOKUP(Z$2,$BO$127:$BP$138,2,FALSE)","v":0},{"$f":"'Budget FCFA'!AA95/VLOOKUP(AA$2,$BO$127:$BP$138,2,FALSE)","v":0},{"$f":"'Budget FCFA'!AB95/VLOOKUP(AB$2,$BO$127:$BP$138,2,FALSE)","v":0},{"$f":"'Budget FCFA'!AC95/VLOOKUP(AC$2,$BO$127:$BP$138,2,FALSE)","v":0},{"$f":"'Budget FCFA'!AD95/VLOOKUP(AD$2,$BO$127:$BP$138,2,FALSE)","v":0},{"$f":"'Budget FCFA'!AE95/VLOOKUP(AE$2,$BO$127:$BP$138,2,FALSE)","v":0},{"$f":"'Budget FCFA'!AF95/VLOOKUP(AF$2,$BO$127:$BP$138,2,FALSE)","v":0},{"$f":"'Budget FCFA'!AG95/VLOOKUP(AG$2,$BO$127:$BP$138,2,FALSE)","v":0},{"$f":"'Budget FCFA'!AH95/VLOOKUP(AH$2,$BO$127:$BP$138,2,FALSE)","v":0},{"$f":"'Budget FCFA'!AI95/VLOOKUP(AI$2,$BO$127:$BP$138,2,FALSE)","v":0},{"$f":"'Budget FCFA'!AJ95/VLOOKUP(AJ$2,$BO$127:$BP$138,2,FALSE)","v":0},{"$f":"'Budget FCFA'!AK95/VLOOKUP(AK$2,$BO$127:$BP$138,2,FALSE)","v":{"$error":"#REF!"}},{"$f":"'Budget FCFA'!AL95/VLOOKUP(AL$2,$BO$127:$BP$138,2,FALSE)","v":0},{"$f":"'Budget FCFA'!AM95/VLOOKUP(AM$2,$BO$127:$BP$138,2,FALSE)","v":0},{"$f":"'Budget FCFA'!AN95/VLOOKUP(AN$2,$BO$127:$BP$138,2,FALSE)","v":0},{"$f":"'Budget FCFA'!AO95/VLOOKUP(AO$2,$BO$127:$BP$138,2,FALSE)","v":0},{"$f":"'Budget FCFA'!AP95/VLOOKUP(AP$2,$BO$127:$BP$138,2,FALSE)","v":{"$error":"#REF!"}},{"$f":"'Budget FCFA'!#REF!/VLOOKUP(AQ$2,$BO$127:$BP$138,2,FALSE)","v":{"$error":"#REF!"}},{"$f":"'Budget FCFA'!#REF!/VLOOKUP(AR$2,$BO$127:$BP$138,2,FALSE)","v":{"$error":"#REF!"}},{"$f":"'Budget FCFA'!#REF!/VLOOKUP(AS$2,$BO$127:$BP$138,2,FALSE)","v":{"$error":"#REF!"}},{"$f":"'Budget FCFA'!#REF!/VLOOKUP(AT$2,$BO$127:$BP$138,2,FALSE)","v":{"$error":"#REF!"}},{"$f":"'Budget FCFA'!#REF!/VLOOKUP(AU$2,$BO$127:$BP$138,2,FALSE)","v":{"$error":"#REF!"}},{"$f":"'Budget FCFA'!#REF!/VLOOKUP(AV$2,$BO$127:$BP$138,2,FALSE)","v":{"$error":"#REF!"}},{"$f":"'Budget FCFA'!#REF!/VLOOKUP(AW$2,$BO$127:$BP$138,2,FALSE)","v":{"$error":"#REF!"}},{"$f":"'Budget FCFA'!#REF!/VLOOKUP(AX$2,$BO$127:$BP$138,2,FALSE)","v":{"$error":"#REF!"}},{"$f":"'Budget FCFA'!#REF!/VLOOKUP(AY$2,$BO$127:$BP$138,2,FALSE)","v":{"$error":"#REF!"}},{"$f":"'Budget FCFA'!#REF!/VLOOKUP(AZ$2,$BO$127:$BP$138,2,FALSE)","v":{"$error":"#REF!"}},{"$f":"'Budget FCFA'!#REF!/VLOOKUP(BA$2,$BO$127:$BP$138,2,FALSE)","v":{"$error":"#REF!"}},{"$f":"'Budget FCFA'!#REF!/VLOOKUP(BB$2,$BO$127:$BP$138,2,FALSE)","v":{"$error":"#REF!"}},{"$f":"'Budget FCFA'!#REF!/VLOOKUP(BC$2,$BO$127:$BP$138,2,FALSE)","v":{"$error":"#REF!"}},{"$f":"'Budget FCFA'!#REF!/VLOOKUP(BD$2,$BO$127:$BP$138,2,FALSE)","v":{"$error":"#REF!"}},{"$f":"'Budget FCFA'!#REF!/VLOOKUP(BE$2,$BO$127:$BP$138,2,FALSE)","v":{"$error":"#REF!"}},{"$f":"'Budget FCFA'!#REF!/VLOOKUP(BF$2,$BO$127:$BP$138,2,FALSE)","v":{"$error":"#REF!"}},{"$f":"'Budget FCFA'!#REF!/VLOOKUP(BG$2,$BO$127:$BP$138,2,FALSE)","v":{"$error":"#REF!"}},{"$f":"'Budget FCFA'!#REF!/VLOOKUP(BH$2,$BO$127:$BP$138,2,FALSE)","v":{"$error":"#REF!"}},{"$f":"'Budget FCFA'!#REF!/VLOOKUP(BI$2,$BO$127:$BP$138,2,FALSE)","v":{"$error":"#REF!"}},{"$f":"'Budget FCFA'!#REF!/VLOOKUP(BJ$2,$BO$127:$BP$138,2,FALSE)","v":{"$error":"#REF!"}},{"$error":"#REF!"},{"$f":"BK95-'Budget FCFA'!#REF!","v":{"$error":"#REF!"}}]
["PUBVIDEO","DOUALA","PUB VIDEO (video magasin)",{"$f":"'Budget FCFA'!D96/VLOOKUP(D$2,$BO$127:$BP$138,2,FALSE)","v":0},{"$f":"'Budget FCFA'!E96/VLOOKUP(E$2,$BO$127:$BP$138,2,FALSE)","v":0},{"$f":"'Budget FCFA'!F96/VLOOKUP(F$2,$BO$127:$BP$138,2,FALSE)","v":0},{"$f":"'Budget FCFA'!G96/VLOOKUP(G$2,$BO$127:$BP$138,2,FALSE)","v":0},{"$f":"'Budget FCFA'!H96/VLOOKUP(H$2,$BO$127:$BP$138,2,FALSE)","v":0},{"$f":"'Budget FCFA'!I96/VLOOKUP(I$2,$BO$127:$BP$138,2,FALSE)","v":0},{"$f":"'Budget FCFA'!J96/VLOOKUP(J$2,$BO$127:$BP$138,2,FALSE)","v":0},{"$f":"'Budget FCFA'!K96/VLOOKUP(K$2,$BO$127:$BP$138,2,FALSE)","v":0},{"$f":"'Budget FCFA'!L96/VLOOKUP(L$2,$BO$127:$BP$138,2,FALSE)","v":0},{"$f":"'Budget FCFA'!M96/VLOOKUP(M$2,$BO$127:$BP$138,2,FALSE)","v":0},{"$f":"'Budget FCFA'!N96/VLOOKUP(N$2,$BO$127:$BP$138,2,FALSE)","v":0},{"$f":"'Budget FCFA'!O96/VLOOKUP(O$2,$BO$127:$BP$138,2,FALSE)","v":0},{"$f":"'Budget FCFA'!P96/VLOOKUP(P$2,$BO$127:$BP$138,2,FALSE)","v":0},{"$f":"'Budget FCFA'!Q96/VLOOKUP(Q$2,$BO$127:$BP$138,2,FALSE)","v":0},{"$f":"'Budget FCFA'!R96/VLOOKUP(R$2,$BO$127:$BP$138,2,FALSE)","v":18.45},{"$f":"'Budget FCFA'!S96/VLOOKUP(S$2,$BO$127:$BP$138,2,FALSE)","v":0},{"$f":"'Budget FCFA'!T96/VLOOKUP(T$2,$BO$127:$BP$138,2,FALSE)","v":0},{"$f":"'Budget FCFA'!U96/VLOOKUP(U$2,$BO$127:$BP$138,2,FALSE)","v":0},{"$f":"'Budget FCFA'!V96/VLOOKUP(V$2,$BO$127:$BP$138,2,FALSE)","v":0},{"$f":"'Budget FCFA'!W96/VLOOKUP(W$2,$BO$127:$BP$138,2,FALSE)","v":0},{"$f":"'Budget FCFA'!X96/VLOOKUP(X$2,$BO$127:$BP$138,2,FALSE)","v":0},{"$f":"'Budget FCFA'!Y96/VLOOKUP(Y$2,$BO$127:$BP$138,2,FALSE)","v":0},{"$f":"'Budget FCFA'!Z96/VLOOKUP(Z$2,$BO$127:$BP$138,2,FALSE)","v":0},{"$f":"'Budget FCFA'!AA96/VLOOKUP(AA$2,$BO$127:$BP$138,2,FALSE)","v":0},{"$f":"'Budget FCFA'!AB96/VLOOKUP(AB$2,$BO$127:$BP$138,2,FALSE)","v":0},{"$f":"'Budget FCFA'!AC96/VLOOKUP(AC$2,$BO$127:$BP$138,2,FALSE)","v":0},{"$f":"'Budget FCFA'!AD96/VLOOKUP(AD$2,$BO$127:$BP$138,2,FALSE)","v":0},{"$f":"'Budget FCFA'!AE96/VLOOKUP(AE$2,$BO$127:$BP$138,2,FALSE)","v":0},{"$f":"'Budget FCFA'!AF96/VLOOKUP(AF$2,$BO$127:$BP$138,2,FALSE)","v":0},{"$f":"'Budget FCFA'!AG96/VLOOKUP(AG$2,$BO$127:$BP$138,2,FALSE)","v":0},{"$f":"'Budget FCFA'!AH96/VLOOKUP(AH$2,$BO$127:$BP$138,2,FALSE)","v":0},{"$f":"'Budget FCFA'!AI96/VLOOKUP(AI$2,$BO$127:$BP$138,2,FALSE)","v":0},{"$f":"'Budget FCFA'!AJ96/VLOOKUP(AJ$2,$BO$127:$BP$138,2,FALSE)","v":0},{"$f":"'Budget FCFA'!AK96/VLOOKUP(AK$2,$BO$127:$BP$138,2,FALSE)","v":{"$error":"#REF!"}},{"$f":"'Budget FCFA'!AL96/VLOOKUP(AL$2,$BO$127:$BP$138,2,FALSE)","v":0},{"$f":"'Budget FCFA'!AM96/VLOOKUP(AM$2,$BO$127:$BP$138,2,FALSE)","v":0},{"$f":"'Budget FCFA'!AN96/VLOOKUP(AN$2,$BO$127:$BP$138,2,FALSE)","v":0},{"$f":"'Budget FCFA'!AO96/VLOOKUP(AO$2,$BO$127:$BP$138,2,FALSE)","v":0},{"$f":"'Budget FCFA'!AP96/VLOOKUP(AP$2,$BO$127:$BP$138,2,FALSE)","v":{"$error":"#REF!"}},{"$f":"'Budget FCFA'!#REF!/VLOOKUP(AQ$2,$BO$127:$BP$138,2,FALSE)","v":{"$error":"#REF!"}},{"$f":"'Budget FCFA'!#REF!/VLOOKUP(AR$2,$BO$127:$BP$138,2,FALSE)","v":{"$error":"#REF!"}},{"$f":"'Budget FCFA'!#REF!/VLOOKUP(AS$2,$BO$127:$BP$138,2,FALSE)","v":{"$error":"#REF!"}},{"$f":"'Budget FCFA'!#REF!/VLOOKUP(AT$2,$BO$127:$BP$138,2,FALSE)","v":{"$error":"#REF!"}},{"$f":"'Budget FCFA'!#REF!/VLOOKUP(AU$2,$BO$127:$BP$138,2,FALSE)","v":{"$error":"#REF!"}},{"$f":"'Budget FCFA'!#REF!/VLOOKUP(AV$2,$BO$127:$BP$138,2,FALSE)","v":{"$error":"#REF!"}},{"$f":"'Budget FCFA'!#REF!/VLOOKUP(AW$2,$BO$127:$BP$138,2,FALSE)","v":{"$error":"#REF!"}},{"$f":"'Budget FCFA'!#REF!/VLOOKUP(AX$2,$BO$127:$BP$138,2,FALSE)","v":{"$error":"#REF!"}},{"$f":"'Budget FCFA'!#REF!/VLOOKUP(AY$2,$BO$127:$BP$138,2,FALSE)","v":{"$error":"#REF!"}},{"$f":"'Budget FCFA'!#REF!/VLOOKUP(AZ$2,$BO$127:$BP$138,2,FALSE)","v":{"$error":"#REF!"}},{"$f":"'Budget FCFA'!#REF!/VLOOKUP(BA$2,$BO$127:$BP$138,2,FALSE)","v":{"$error":"#REF!"}},{"$f":"'Budget FCFA'!#REF!/VLOOKUP(BB$2,$BO$127:$BP$138,2,FALSE)","v":{"$error":"#REF!"}},{"$f":"'Budget FCFA'!#REF!/VLOOKUP(BC$2,$BO$127:$BP$138,2,FALSE)","v":{"$error":"#REF!"}},{"$f":"'Budget FCFA'!#REF!/VLOOKUP(BD$2,$BO$127:$BP$138,2,FALSE)","v":{"$error":"#REF!"}},{"$f":"'Budget FCFA'!#REF!/VLOOKUP(BE$2,$BO$127:$BP$138,2,FALSE)","v":{"$error":"#REF!"}},{"$f":"'Budget FCFA'!#REF!/VLOOKUP(BF$2,$BO$127:$BP$138,2,FALSE)","v":{"$error":"#REF!"}},{"$f":"'Budget FCFA'!#REF!/VLOOKUP(BG$2,$BO$127:$BP$138,2,FALSE)","v":{"$error":"#REF!"}},{"$f":"'Budget FCFA'!#REF!/VLOOKUP(BH$2,$BO$127:$BP$138,2,FALSE)","v":{"$error":"#REF!"}},{"$f":"'Budget FCFA'!#REF!/VLOOKUP(BI$2,$BO$127:$BP$138,2,FALSE)","v":{"$error":"#REF!"}},{"$f":"'Budget FCFA'!#REF!/VLOOKUP(BJ$2,$BO$127:$BP$138,2,FALSE)","v":{"$error":"#REF!"}},{"$error":"#REF!"},{"$f":"BK96-'Budget FCFA'!#REF!","v":{"$error":"#REF!"}}]
["PUBVIDEO","TOTAL","TOTAL PUB VIDEO (video magasin)",{"$f":"'Budget FCFA'!D97/VLOOKUP(D$2,$BO$127:$BP$138,2,FALSE)","v":0},{"$f":"'Budget FCFA'!E97/VLOOKUP(E$2,$BO$127:$BP$138,2,FALSE)","v":0},{"$f":"'Budget FCFA'!F97/VLOOKUP(F$2,$BO$127:$BP$138,2,FALSE)","v":0},{"$f":"'Budget FCFA'!G97/VLOOKUP(G$2,$BO$127:$BP$138,2,FALSE)","v":0},{"$f":"'Budget FCFA'!H97/VLOOKUP(H$2,$BO$127:$BP$138,2,FALSE)","v":0},{"$f":"'Budget FCFA'!I97/VLOOKUP(I$2,$BO$127:$BP$138,2,FALSE)","v":0},{"$f":"'Budget FCFA'!J97/VLOOKUP(J$2,$BO$127:$BP$138,2,FALSE)","v":0},{"$f":"'Budget FCFA'!K97/VLOOKUP(K$2,$BO$127:$BP$138,2,FALSE)","v":0},{"$f":"'Budget FCFA'!L97/VLOOKUP(L$2,$BO$127:$BP$138,2,FALSE)","v":0},{"$f":"'Budget FCFA'!M97/VLOOKUP(M$2,$BO$127:$BP$138,2,FALSE)","v":0},{"$f":"'Budget FCFA'!N97/VLOOKUP(N$2,$BO$127:$BP$138,2,FALSE)","v":0},{"$f":"'Budget FCFA'!O97/VLOOKUP(O$2,$BO$127:$BP$138,2,FALSE)","v":0},{"$f":"'Budget FCFA'!P97/VLOOKUP(P$2,$BO$127:$BP$138,2,FALSE)","v":0},{"$f":"'Budget FCFA'!Q97/VLOOKUP(Q$2,$BO$127:$BP$138,2,FALSE)","v":0},{"$f":"'Budget FCFA'!R97/VLOOKUP(R$2,$BO$127:$BP$138,2,FALSE)","v":147.6},{"$f":"'Budget FCFA'!S97/VLOOKUP(S$2,$BO$127:$BP$138,2,FALSE)","v":0},{"$f":"'Budget FCFA'!T97/VLOOKUP(T$2,$BO$127:$BP$138,2,FALSE)","v":0},{"$f":"'Budget FCFA'!U97/VLOOKUP(U$2,$BO$127:$BP$138,2,FALSE)","v":0},{"$f":"'Budget FCFA'!V97/VLOOKUP(V$2,$BO$127:$BP$138,2,FALSE)","v":0},{"$f":"'Budget FCFA'!W97/VLOOKUP(W$2,$BO$127:$BP$138,2,FALSE)","v":0},{"$f":"'Budget FCFA'!X97/VLOOKUP(X$2,$BO$127:$BP$138,2,FALSE)","v":0},{"$f":"'Budget FCFA'!Y97/VLOOKUP(Y$2,$BO$127:$BP$138,2,FALSE)","v":0},{"$f":"'Budget FCFA'!Z97/VLOOKUP(Z$2,$BO$127:$BP$138,2,FALSE)","v":0},{"$f":"'Budget FCFA'!AA97/VLOOKUP(AA$2,$BO$127:$BP$138,2,FALSE)","v":0},{"$f":"'Budget FCFA'!AB97/VLOOKUP(AB$2,$BO$127:$BP$138,2,FALSE)","v":0},{"$f":"'Budget FCFA'!AC97/VLOOKUP(AC$2,$BO$127:$BP$138,2,FALSE)","v":0},{"$f":"'Budget FCFA'!AD97/VLOOKUP(AD$2,$BO$127:$BP$138,2,FALSE)","v":0},{"$f":"'Budget FCFA'!AE97/VLOOKUP(AE$2,$BO$127:$BP$138,2,FALSE)","v":0},{"$f":"'Budget FCFA'!AF97/VLOOKUP(AF$2,$BO$127:$BP$138,2,FALSE)","v":0},{"$f":"'Budget FCFA'!AG97/VLOOKUP(AG$2,$BO$127:$BP$138,2,FALSE)","v":0},{"$f":"'Budget FCFA'!AH97/VLOOKUP(AH$2,$BO$127:$BP$138,2,FALSE)","v":0},{"$f":"'Budget FCFA'!AI97/VLOOKUP(AI$2,$BO$127:$BP$138,2,FALSE)","v":0},{"$f":"'Budget FCFA'!AJ97/VLOOKUP(AJ$2,$BO$127:$BP$138,2,FALSE)","v":0},{"$f":"'Budget FCFA'!AK97/VLOOKUP(AK$2,$BO$127:$BP$138,2,FALSE)","v":415.2},{"$f":"'Budget FCFA'!AL97/VLOOKUP(AL$2,$BO$127:$BP$138,2,FALSE)","v":0},{"$f":"'Budget FCFA'!AM97/VLOOKUP(AM$2,$BO$127:$BP$138,2,FALSE)","v":0},{"$f":"'Budget FCFA'!AN97/VLOOKUP(AN$2,$BO$127:$BP$138,2,FALSE)","v":0},{"$f":"'Budget FCFA'!AO97/VLOOKUP(AO$2,$BO$127:$BP$138,2,FALSE)","v":0},{"$f":"'Budget FCFA'!AP97/VLOOKUP(AP$2,$BO$127:$BP$138,2,FALSE)","v":0},{"$f":"'Budget FCFA'!#REF!/VLOOKUP(AQ$2,$BO$127:$BP$138,2,FALSE)","v":{"$error":"#REF!"}},{"$f":"'Budget FCFA'!#REF!/VLOOKUP(AR$2,$BO$127:$BP$138,2,FALSE)","v":{"$error":"#REF!"}},{"$f":"'Budget FCFA'!#REF!/VLOOKUP(AS$2,$BO$127:$BP$138,2,FALSE)","v":{"$error":"#REF!"}},{"$f":"'Budget FCFA'!#REF!/VLOOKUP(AT$2,$BO$127:$BP$138,2,FALSE)","v":{"$error":"#REF!"}},{"$f":"'Budget FCFA'!#REF!/VLOOKUP(AU$2,$BO$127:$BP$138,2,FALSE)","v":{"$error":"#REF!"}},{"$f":"'Budget FCFA'!#REF!/VLOOKUP(AV$2,$BO$127:$BP$138,2,FALSE)","v":{"$error":"#REF!"}},{"$f":"'Budget FCFA'!#REF!/VLOOKUP(AW$2,$BO$127:$BP$138,2,FALSE)","v":{"$error":"#REF!"}},{"$f":"'Budget FCFA'!#REF!/VLOOKUP(AX$2,$BO$127:$BP$138,2,FALSE)","v":{"$error":"#REF!"}},{"$f":"'Budget FCFA'!#REF!/VLOOKUP(AY$2,$BO$127:$BP$138,2,FALSE)","v":{"$error":"#REF!"}},{"$f":"'Budget FCFA'!#REF!/VLOOKUP(AZ$2,$BO$127:$BP$138,2,FALSE)","v":{"$error":"#REF!"}},{"$f":"'Budget FCFA'!#REF!/VLOOKUP(BA$2,$BO$127:$BP$138,2,FALSE)","v":{"$error":"#REF!"}},{"$f":"'Budget FCFA'!#REF!/VLOOKUP(BB$2,$BO$127:$BP$138,2,FALSE)","v":{"$error":"#REF!"}},{"$f":"'Budget FCFA'!#REF!/VLOOKUP(BC$2,$BO$127:$BP$138,2,FALSE)","v":{"$error":"#REF!"}},{"$f":"'Budget FCFA'!#REF!/VLOOKUP(BD$2,$BO$127:$BP$138,2,FALSE)","v":{"$error":"#REF!"}},{"$f":"'Budget FCFA'!#REF!/VLOOKUP(BE$2,$BO$127:$BP$138,2,FALSE)","v":{"$error":"#REF!"}},{"$f":"'Budget FCFA'!#REF!/VLOOKUP(BF$2,$BO$127:$BP$138,2,FALSE)","v":{"$error":"#REF!"}},{"$f":"'Budget FCFA'!#REF!/VLOOKUP(BG$2,$BO$127:$BP$138,2,FALSE)","v":{"$error":"#REF!"}},{"$f":"'Budget FCFA'!#REF!/VLOOKUP(BH$2,$BO$127:$BP$138,2,FALSE)","v":{"$error":"#REF!"}},{"$f":"'Budget FCFA'!#REF!/VLOOKUP(BI$2,$BO$127:$BP$138,2,FALSE)","v":{"$error":"#REF!"}},{"$f":"'Budget FCFA'!#REF!/VLOOKUP(BJ$2,$BO$127:$BP$138,2,FALSE)","v":{"$error":"#REF!"}},{"$error":"#REF!"},{"$f":"BK97-'Budget FCFA'!#REF!","v":{"$error":"#REF!"}}]
["WEBRESEA","ABIDJAN","Facebook adds BAPEE",{"$f":"'Budget FCFA'!D98/VLOOKUP(D$2,$BO$127:$BP$138,2,FALSE)","v":0},{"$f":"'Budget FCFA'!E98/VLOOKUP(E$2,$BO$127:$BP$138,2,FALSE)","v":0},{"$f":"'Budget FCFA'!F98/VLOOKUP(F$2,$BO$127:$BP$138,2,FALSE)","v":0},{"$f":"'Budget FCFA'!G98/VLOOKUP(G$2,$BO$127:$BP$138,2,FALSE)","v":0},{"$f":"'Budget FCFA'!H98/VLOOKUP(H$2,$BO$127:$BP$138,2,FALSE)","v":342.47},{"$f":"'Budget FCFA'!I98/VLOOKUP(I$2,$BO$127:$BP$138,2,FALSE)","v":0},{"$f":"'Budget FCFA'!J98/VLOOKUP(J$2,$BO$127:$BP$138,2,FALSE)","v":0},{"$f":"'Budget FCFA'!K98/VLOOKUP(K$2,$BO$127:$BP$138,2,FALSE)","v":0},{"$f":"'Budget FCFA'!L98/VLOOKUP(L$2,$BO$127:$BP$138,2,FALSE)","v":0},{"$f":"'Budget FCFA'!M98/VLOOKUP(M$2,$BO$127:$BP$138,2,FALSE)","v":1029.24},{"$f":"'Budget FCFA'!N98/VLOOKUP(N$2,$BO$127:$BP$138,2,FALSE)","v":0},{"$f":"'Budget FCFA'!O98/VLOOKUP(O$2,$BO$127:$BP$138,2,FALSE)","v":0},{"$f":"'Budget FCFA'!P98/VLOOKUP(P$2,$BO$127:$BP$138,2,FALSE)","v":0},{"$f":"'Budget FCFA'!Q98/VLOOKUP(Q$2,$BO$127:$BP$138,2,FALSE)","v":0},{"$f":"'Budget FCFA'!R98/VLOOKUP(R$2,$BO$127:$BP$138,2,FALSE)","v":751.93},{"$f":"'Budget FCFA'!S98/VLOOKUP(S$2,$BO$127:$BP$138,2,FALSE)","v":0},{"$f":"'Budget FCFA'!T98/VLOOKUP(T$2,$BO$127:$BP$138,2,FALSE)","v":0},{"$f":"'Budget FCFA'!U98/VLOOKUP(U$2,$BO$127:$BP$138,2,FALSE)","v":0},{"$f":"'Budget FCFA'!V98/VLOOKUP(V$2,$BO$127:$BP$138,2,FALSE)","v":0},{"$f":"'Budget FCFA'!W98/VLOOKUP(W$2,$BO$127:$BP$138,2,FALSE)","v":440.69},{"$f":"'Budget FCFA'!X98/VLOOKUP(X$2,$BO$127:$BP$138,2,FALSE)","v":0},{"$f":"'Budget FCFA'!Y98/VLOOKUP(Y$2,$BO$127:$BP$138,2,FALSE)","v":0},{"$f":"'Budget FCFA'!Z98/VLOOKUP(Z$2,$BO$127:$BP$138,2,FALSE)","v":0},{"$f":"'Budget FCFA'!AA98/VLOOKUP(AA$2,$BO$127:$BP$138,2,FALSE)","v":354},{"$f":"'Budget FCFA'!AB98/VLOOKUP(AB$2,$BO$127:$BP$138,2,FALSE)","v":0},{"$f":"'Budget FCFA'!AC98/VLOOKUP(AC$2,$BO$127:$BP$138,2,FALSE)","v":0},{"$f":"'Budget FCFA'!AD98/VLOOKUP(AD$2,$BO$127:$BP$138,2,FALSE)","v":0},{"$f":"'Budget FCFA'!AE98/VLOOKUP(AE$2,$BO$127:$BP$138,2,FALSE)","v":0},{"$f":"'Budget FCFA'!AF98/VLOOKUP(AF$2,$BO$127:$BP$138,2,FALSE)","v":880.62749204285819},{"$f":"'Budget FCFA'!AG98/VLOOKUP(AG$2,$BO$127:$BP$138,2,FALSE)","v":0},{"$f":"'Budget FCFA'!AH98/VLOOKUP(AH$2,$BO$127:$BP$138,2,FALSE)","v":0},{"$f":"'Budget FCFA'!AI98/VLOOKUP(AI$2,$BO$127:$BP$138,2,FALSE)","v":0},{"$f":"'Budget FCFA'!AJ98/VLOOKUP(AJ$2,$BO$127:$BP$138,2,FALSE)","v":0},{"$f":"'Budget FCFA'!AK98/VLOOKUP(AK$2,$BO$127:$BP$138,2,FALSE)","v":325.95999999999998},{"$f":"'Budget FCFA'!AL98/VLOOKUP(AL$2,$BO$127:$BP$138,2,FALSE)","v":0},{"$f":"'Budget FCFA'!AM98/VLOOKUP(AM$2,$BO$127:$BP$138,2,FALSE)","v":0},{"$f":"'Budget FCFA'!AN98/VLOOKUP(AN$2,$BO$127:$BP$138,2,FALSE)","v":0},{"$f":"'Budget FCFA'!AO98/VLOOKUP(AO$2,$BO$127:$BP$138,2,FALSE)","v":0},{"$f":"'Budget FCFA'!AP98/VLOOKUP(AP$2,$BO$127:$BP$138,2,FALSE)","v":1038.1500000000001},{"$f":"'Budget FCFA'!#REF!/VLOOKUP(AQ$2,$BO$127:$BP$138,2,FALSE)","v":{"$error":"#REF!"}},{"$f":"'Budget FCFA'!#REF!/VLOOKUP(AR$2,$BO$127:$BP$138,2,FALSE)","v":{"$error":"#REF!"}},{"$f":"'Budget FCFA'!#REF!/VLOOKUP(AS$2,$BO$127:$BP$138,2,FALSE)","v":{"$error":"#REF!"}},{"$f":"'Budget FCFA'!#REF!/VLOOKUP(AT$2,$BO$127:$BP$138,2,FALSE)","v":{"$error":"#REF!"}},{"$f":"'Budget FCFA'!#REF!/VLOOKUP(AU$2,$BO$127:$BP$138,2,FALSE)","v":{"$error":"#REF!"}},{"$f":"'Budget FCFA'!#REF!/VLOOKUP(AV$2,$BO$127:$BP$138,2,FALSE)","v":{"$error":"#REF!"}},{"$f":"'Budget FCFA'!#REF!/VLOOKUP(AW$2,$BO$127:$BP$138,2,FALSE)","v":{"$error":"#REF!"}},{"$f":"'Budget FCFA'!#REF!/VLOOKUP(AX$2,$BO$127:$BP$138,2,FALSE)","v":{"$error":"#REF!"}},{"$f":"'Budget FCFA'!#REF!/VLOOKUP(AY$2,$BO$127:$BP$138,2,FALSE)","v":{"$error":"#REF!"}},{"$f":"'Budget FCFA'!#REF!/VLOOKUP(AZ$2,$BO$127:$BP$138,2,FALSE)","v":{"$error":"#REF!"}},{"$f":"'Budget FCFA'!#REF!/VLOOKUP(BA$2,$BO$127:$BP$138,2,FALSE)","v":{"$error":"#REF!"}},{"$f":"'Budget FCFA'!#REF!/VLOOKUP(BB$2,$BO$127:$BP$138,2,FALSE)","v":{"$error":"#REF!"}},{"$f":"'Budget FCFA'!#REF!/VLOOKUP(BC$2,$BO$127:$BP$138,2,FALSE)","v":{"$error":"#REF!"}},{"$f":"'Budget FCFA'!#REF!/VLOOKUP(BD$2,$BO$127:$BP$138,2,FALSE)","v":{"$error":"#REF!"}},{"$f":"'Budget FCFA'!#REF!/VLOOKUP(BE$2,$BO$127:$BP$138,2,FALSE)","v":{"$error":"#REF!"}},{"$f":"'Budget FCFA'!#REF!/VLOOKUP(BF$2,$BO$127:$BP$138,2,FALSE)","v":{"$error":"#REF!"}},{"$f":"'Budget FCFA'!#REF!/VLOOKUP(BG$2,$BO$127:$BP$138,2,FALSE)","v":{"$error":"#REF!"}},{"$f":"'Budget FCFA'!#REF!/VLOOKUP(BH$2,$BO$127:$BP$138,2,FALSE)","v":{"$error":"#REF!"}},{"$f":"'Budget FCFA'!#REF!/VLOOKUP(BI$2,$BO$127:$BP$138,2,FALSE)","v":{"$error":"#REF!"}},{"$f":"'Budget FCFA'!#REF!/VLOOKUP(BJ$2,$BO$127:$BP$138,2,FALSE)","v":{"$error":"#REF!"}},{"$error":"#REF!"},{"$f":"BK98-'Budget FCFA'!#REF!","v":{"$error":"#REF!"}}]
["WEBRESEA","BRAZZA","Facebook adds BAPEE",{"$f":"'Budget FCFA'!D99/VLOOKUP(D$2,$BO$127:$BP$138,2,FALSE)","v":0},{"$f":"'Budget FCFA'!E99/VLOOKUP(E$2,$BO$127:$BP$138,2,FALSE)","v":0},{"$f":"'Budget FCFA'!F99/VLOOKUP(F$2,$BO$127:$BP$138,2,FALSE)","v":0},{"$f":"'Budget FCFA'!G99/VLOOKUP(G$2,$BO$127:$BP$138,2,FALSE)","v":0},{"$f":"'Budget FCFA'!H99/VLOOKUP(H$2,$BO$127:$BP$138,2,FALSE)","v":113.52999999999999},{"$f":"'Budget FCFA'!I99/VLOOKUP(I$2,$BO$127:$BP$138,2,FALSE)","v":0},{"$f":"'Budget FCFA'!J99/VLOOKUP(J$2,$BO$127:$BP$138,2,FALSE)","v":0},{"$f":"'Budget FCFA'!K99/VLOOKUP(K$2,$BO$127:$BP$138,2,FALSE)","v":0},{"$f":"'Budget FCFA'!L99/VLOOKUP(L$2,$BO$127:$BP$138,2,FALSE)","v":0},{"$f":"'Budget FCFA'!M99/VLOOKUP(M$2,$BO$127:$BP$138,2,FALSE)","v":114.95999999999998},{"$f":"'Budget FCFA'!N99/VLOOKUP(N$2,$BO$127:$BP$138,2,FALSE)","v":0},{"$f":"'Budget FCFA'!O99/VLOOKUP(O$2,$BO$127:$BP$138,2,FALSE)","v":0},{"$f":"'Budget FCFA'!P99/VLOOKUP(P$2,$BO$127:$BP$138,2,FALSE)","v":0},{"$f":"'Budget FCFA'!Q99/VLOOKUP(Q$2,$BO$127:$BP$138,2,FALSE)","v":0},{"$f":"'Budget FCFA'!R99/VLOOKUP(R$2,$BO$127:$BP$138,2,FALSE)","v":205.56000000000003},{"$f":"'Budget FCFA'!S99/VLOOKUP(S$2,$BO$127:$BP$138,2,FALSE)","v":0},{"$f":"'Budget FCFA'!T99/VLOOKUP(T$2,$BO$127:$BP$138,2,FALSE)","v":0},{"$f":"'Budget FCFA'!U99/VLOOKUP(U$2,$BO$127:$BP$138,2,FALSE)","v":0},{"$f":"'Budget FCFA'!V99/VLOOKUP(V$2,$BO$127:$BP$138,2,FALSE)","v":0},{"$f":"'Budget FCFA'!W99/VLOOKUP(W$2,$BO$127:$BP$138,2,FALSE)","v":160.84},{"$f":"'Budget FCFA'!X99/VLOOKUP(X$2,$BO$127:$BP$138,2,FALSE)","v":0},{"$f":"'Budget FCFA'!Y99/VLOOKUP(Y$2,$BO$127:$BP$138,2,FALSE)","v":0},{"$f":"'Budget FCFA'!Z99/VLOOKUP(Z$2,$BO$127:$BP$138,2,FALSE)","v":0},{"$f":"'Budget FCFA'!AA99/VLOOKUP(AA$2,$BO$127:$BP$138,2,FALSE)","v":141.54},{"$f":"'Budget FCFA'!AB99/VLOOKUP(AB$2,$BO$127:$BP$138,2,FALSE)","v":0},{"$f":"'Budget FCFA'!AC99/VLOOKUP(AC$2,$BO$127:$BP$138,2,FALSE)","v":0},{"$f":"'Budget FCFA'!AD99/VLOOKUP(AD$2,$BO$127:$BP$138,2,FALSE)","v":0},{"$f":"'Budget FCFA'!AE99/VLOOKUP(AE$2,$BO$127:$BP$138,2,FALSE)","v":0},{"$f":"'Budget FCFA'!AF99/VLOOKUP(AF$2,$BO$127:$BP$138,2,FALSE)","v":466.60865968396712},{"$f":"'Budget FCFA'!AG99/VLOOKUP(AG$2,$BO$127:$BP$138,2,FALSE)","v":0},{"$f":"'Budget FCFA'!AH99/VLOOKUP(AH$2,$BO$127:$BP$138,2,FALSE)","v":0},{"$f":"'Budget FCFA'!AI99/VLOOKUP(AI$2,$BO$127:$BP$138,2,FALSE)","v":0},{"$f":"'Budget FCFA'!AJ99/VLOOKUP(AJ$2,$BO$127:$BP$138,2,FALSE)","v":0},{"$f":"'Budget FCFA'!AK99/VLOOKUP(AK$2,$BO$127:$BP$138,2,FALSE)","v":363.11},{"$f":"'Budget FCFA'!AL99/VLOOKUP(AL$2,$BO$127:$BP$138,2,FALSE)","v":0},{"$f":"'Budget FCFA'!AM99/VLOOKUP(AM$2,$BO$127:$BP$138,2,FALSE)","v":0},{"$f":"'Budget FCFA'!AN99/VLOOKUP(AN$2,$BO$127:$BP$138,2,FALSE)","v":0},{"$f":"'Budget FCFA'!AO99/VLOOKUP(AO$2,$BO$127:$BP$138,2,FALSE)","v":0},{"$f":"'Budget FCFA'!AP99/VLOOKUP(AP$2,$BO$127:$BP$138,2,FALSE)","v":203.93},{"$f":"'Budget FCFA'!#REF!/VLOOKUP(AQ$2,$BO$127:$BP$138,2,FALSE)","v":{"$error":"#REF!"}},{"$f":"'Budget FCFA'!#REF!/VLOOKUP(AR$2,$BO$127:$BP$138,2,FALSE)","v":{"$error":"#REF!"}},{"$f":"'Budget FCFA'!#REF!/VLOOKUP(AS$2,$BO$127:$BP$138,2,FALSE)","v":{"$error":"#REF!"}},{"$f":"'Budget FCFA'!#REF!/VLOOKUP(AT$2,$BO$127:$BP$138,2,FALSE)","v":{"$error":"#REF!"}},{"$f":"'Budget FCFA'!#REF!/VLOOKUP(AU$2,$BO$127:$BP$138,2,FALSE)","v":{"$error":"#REF!"}},{"$f":"'Budget FCFA'!#REF!/VLOOKUP(AV$2,$BO$127:$BP$138,2,FALSE)","v":{"$error":"#REF!"}},{"$f":"'Budget FCFA'!#REF!/VLOOKUP(AW$2,$BO$127:$BP$138,2,FALSE)","v":{"$error":"#REF!"}},{"$f":"'Budget FCFA'!#REF!/VLOOKUP(AX$2,$BO$127:$BP$138,2,FALSE)","v":{"$error":"#REF!"}},{"$f":"'Budget FCFA'!#REF!/VLOOKUP(AY$2,$BO$127:$BP$138,2,FALSE)","v":{"$error":"#REF!"}},{"$f":"'Budget FCFA'!#REF!/VLOOKUP(AZ$2,$BO$127:$BP$138,2,FALSE)","v":{"$error":"#REF!"}},{"$f":"'Budget FCFA'!#REF!/VLOOKUP(BA$2,$BO$127:$BP$138,2,FALSE)","v":{"$error":"#REF!"}},{"$f":"'Budget FCFA'!#REF!/VLOOKUP(BB$2,$BO$127:$BP$138,2,FALSE)","v":{"$error":"#REF!"}},{"$f":"'Budget FCFA'!#REF!/VLOOKUP(BC$2,$BO$127:$BP$138,2,FALSE)","v":{"$error":"#REF!"}},{"$f":"'Budget FCFA'!#REF!/VLOOKUP(BD$2,$BO$127:$BP$138,2,FALSE)","v":{"$error":"#REF!"}},{"$f":"'Budget FCFA'!#REF!/VLOOKUP(BE$2,$BO$127:$BP$138,2,FALSE)","v":{"$error":"#REF!"}},{"$f":"'Budget FCFA'!#REF!/VLOOKUP(BF$2,$BO$127:$BP$138,2,FALSE)","v":{"$error":"#REF!"}},{"$f":"'Budget FCFA'!#REF!/VLOOKUP(BG$2,$BO$127:$BP$138,2,FALSE)","v":{"$error":"#REF!"}},{"$f":"'Budget FCFA'!#REF!/VLOOKUP(BH$2,$BO$127:$BP$138,2,FALSE)","v":{"$error":"#REF!"}},{"$f":"'Budget FCFA'!#REF!/VLOOKUP(BI$2,$BO$127:$BP$138,2,FALSE)","v":{"$error":"#REF!"}},{"$f":"'Budget FCFA'!#REF!/VLOOKUP(BJ$2,$BO$127:$BP$138,2,FALSE)","v":{"$error":"#REF!"}},{"$error":"#REF!"},{"$f":"BK99-'Budget FCFA'!#REF!","v":{"$error":"#REF!"}}]
["WEBRESEA","DAKAR","Facebook adds BAPEE",{"$f":"'Budget FCFA'!D100/VLOOKUP(D$2,$BO$127:$BP$138,2,FALSE)","v":0},{"$f":"'Budget FCFA'!E100/VLOOKUP(E$2,$BO$127:$BP$138,2,FALSE)","v":0},{"$f":"'Budget FCFA'!F100/VLOOKUP(F$2,$BO$127:$BP$138,2,FALSE)","v":0},{"$f":"'Budget FCFA'!G100/VLOOKUP(G$2,$BO$127:$BP$138,2,FALSE)","v":0},{"$f":"'Budget FCFA'!H100/VLOOKUP(H$2,$BO$127:$BP$138,2,FALSE)","v":367.04},{"$f":"'Budget FCFA'!I100/VLOOKUP(I$2,$BO$127:$BP$138,2,FALSE)","v":0},{"$f":"'Budget FCFA'!J100/VLOOKUP(J$2,$BO$127:$BP$138,2,FALSE)","v":0},{"$f":"'Budget FCFA'!K100/VLOOKUP(K$2,$BO$127:$BP$138,2,FALSE)","v":0},{"$f":"'Budget FCFA'!L100/VLOOKUP(L$2,$BO$127:$BP$138,2,FALSE)","v":0},{"$f":"'Budget FCFA'!M100/VLOOKUP(M$2,$BO$127:$BP$138,2,FALSE)","v":610.15},{"$f":"'Budget FCFA'!N100/VLOOKUP(N$2,$BO$127:$BP$138,2,FALSE)","v":0},{"$f":"'Budget FCFA'!O100/VLOOKUP(O$2,$BO$127:$BP$138,2,FALSE)","v":0},{"$f":"'Budget FCFA'!P100/VLOOKUP(P$2,$BO$127:$BP$138,2,FALSE)","v":0},{"$f":"'Budget FCFA'!Q100/VLOOKUP(Q$2,$BO$127:$BP$138,2,FALSE)","v":0},{"$f":"'Budget FCFA'!R100/VLOOKUP(R$2,$BO$127:$BP$138,2,FALSE)","v":728.35},{"$f":"'Budget FCFA'!S100/VLOOKUP(S$2,$BO$127:$BP$138,2,FALSE)","v":0},{"$f":"'Budget FCFA'!T100/VLOOKUP(T$2,$BO$127:$BP$138,2,FALSE)","v":0},{"$f":"'Budget FCFA'!U100/VLOOKUP(U$2,$BO$127:$BP$138,2,FALSE)","v":0},{"$f":"'Budget FCFA'!V100/VLOOKUP(V$2,$BO$127:$BP$138,2,FALSE)","v":0},{"$f":"'Budget FCFA'!W100/VLOOKUP(W$2,$BO$127:$BP$138,2,FALSE)","v":582.13},{"$f":"'Budget FCFA'!X100/VLOOKUP(X$2,$BO$127:$BP$138,2,FALSE)","v":0},{"$f":"'Budget FCFA'!Y100/VLOOKUP(Y$2,$BO$127:$BP$138,2,FALSE)","v":0},{"$f":"'Budget FCFA'!Z100/VLOOKUP(Z$2,$BO$127:$BP$138,2,FALSE)","v":0},{"$f":"'Budget FCFA'!AA100/VLOOKUP(AA$2,$BO$127:$BP$138,2,FALSE)","v":490.08999999999992},{"$f":"'Budget FCFA'!AB100/VLOOKUP(AB$2,$BO$127:$BP$138,2,FALSE)","v":0},{"$f":"'Budget FCFA'!AC100/VLOOKUP(AC$2,$BO$127:$BP$138,2,FALSE)","v":0},{"$f":"'Budget FCFA'!AD100/VLOOKUP(AD$2,$BO$127:$BP$138,2,FALSE)","v":0},{"$f":"'Budget FCFA'!AE100/VLOOKUP(AE$2,$BO$127:$BP$138,2,FALSE)","v":0},{"$f":"'Budget FCFA'!AF100/VLOOKUP(AF$2,$BO$127:$BP$138,2,FALSE)","v":629.8298306129625},{"$f":"'Budget FCFA'!AG100/VLOOKUP(AG$2,$BO$127:$BP$138,2,FALSE)","v":0},{"$f":"'Budget FCFA'!AH100/VLOOKUP(AH$2,$BO$127:$BP$138,2,FALSE)","v":0},{"$f":"'Budget FCFA'!AI100/VLOOKUP(AI$2,$BO$127:$BP$138,2,FALSE)","v":0},{"$f":"'Budget FCFA'!AJ100/VLOOKUP(AJ$2,$BO$127:$BP$138,2,FALSE)","v":0},{"$f":"'Budget FCFA'!AK100/VLOOKUP(AK$2,$BO$127:$BP$138,2,FALSE)","v":300.5},{"$f":"'Budget FCFA'!AL100/VLOOKUP(AL$2,$BO$127:$BP$138,2,FALSE)","v":0},{"$f":"'Budget FCFA'!AM100/VLOOKUP(AM$2,$BO$127:$BP$138,2,FALSE)","v":0},{"$f":"'Budget FCFA'!AN100/VLOOKUP(AN$2,$BO$127:$BP$138,2,FALSE)","v":0},{"$f":"'Budget FCFA'!AO100/VLOOKUP(AO$2,$BO$127:$BP$138,2,FALSE)","v":0},{"$f":"'Budget FCFA'!AP100/VLOOKUP(AP$2,$BO$127:$BP$138,2,FALSE)","v":746.36},{"$f":"'Budget FCFA'!#REF!/VLOOKUP(AQ$2,$BO$127:$BP$138,2,FALSE)","v":{"$error":"#REF!"}},{"$f":"'Budget FCFA'!#REF!/VLOOKUP(AR$2,$BO$127:$BP$138,2,FALSE)","v":{"$error":"#REF!"}},{"$f":"'Budget FCFA'!#REF!/VLOOKUP(AS$2,$BO$127:$BP$138,2,FALSE)","v":{"$error":"#REF!"}},{"$f":"'Budget FCFA'!#REF!/VLOOKUP(AT$2,$BO$127:$BP$138,2,FALSE)","v":{"$error":"#REF!"}},{"$f":"'Budget FCFA'!#REF!/VLOOKUP(AU$2,$BO$127:$BP$138,2,FALSE)","v":{"$error":"#REF!"}},{"$f":"'Budget FCFA'!#REF!/VLOOKUP(AV$2,$BO$127:$BP$138,2,FALSE)","v":{"$error":"#REF!"}},{"$f":"'Budget FCFA'!#REF!/VLOOKUP(AW$2,$BO$127:$BP$138,2,FALSE)","v":{"$error":"#REF!"}},{"$f":"'Budget FCFA'!#REF!/VLOOKUP(AX$2,$BO$127:$BP$138,2,FALSE)","v":{"$error":"#REF!"}},{"$f":"'Budget FCFA'!#REF!/VLOOKUP(AY$2,$BO$127:$BP$138,2,FALSE)","v":{"$error":"#REF!"}},{"$f":"'Budget FCFA'!#REF!/VLOOKUP(AZ$2,$BO$127:$BP$138,2,FALSE)","v":{"$error":"#REF!"}},{"$f":"'Budget FCFA'!#REF!/VLOOKUP(BA$2,$BO$127:$BP$138,2,FALSE)","v":{"$error":"#REF!"}},{"$f":"'Budget FCFA'!#REF!/VLOOKUP(BB$2,$BO$127:$BP$138,2,FALSE)","v":{"$error":"#REF!"}},{"$f":"'Budget FCFA'!#REF!/VLOOKUP(BC$2,$BO$127:$BP$138,2,FALSE)","v":{"$error":"#REF!"}},{"$f":"'Budget FCFA'!#REF!/VLOOKUP(BD$2,$BO$127:$BP$138,2,FALSE)","v":{"$error":"#REF!"}},{"$f":"'Budget FCFA'!#REF!/VLOOKUP(BE$2,$BO$127:$BP$138,2,FALSE)","v":{"$error":"#REF!"}},{"$f":"'Budget FCFA'!#REF!/VLOOKUP(BF$2,$BO$127:$BP$138,2,FALSE)","v":{"$error":"#REF!"}},{"$f":"'Budget FCFA'!#REF!/VLOOKUP(BG$2,$BO$127:$BP$138,2,FALSE)","v":{"$error":"#REF!"}},{"$f":"'Budget FCFA'!#REF!/VLOOKUP(BH$2,$BO$127:$BP$138,2,FALSE)","v":{"$error":"#REF!"}},{"$f":"'Budget FCFA'!#REF!/VLOOKUP(BI$2,$BO$127:$BP$138,2,FALSE)","v":{"$error":"#REF!"}},{"$f":"'Budget FCFA'!#REF!/VLOOKUP(BJ$2,$BO$127:$BP$138,2,FALSE)","v":{"$error":"#REF!"}},{"$error":"#REF!"},{"$f":"BK100-'Budget FCFA'!#REF!","v":{"$error":"#REF!"}}]
["WEBRESEA","LIBREVILLE","Facebook adds BAPEE",{"$f":"'Budget FCFA'!D101/VLOOKUP(D$2,$BO$127:$BP$138,2,FALSE)","v":0},{"$f":"'Budget FCFA'!E101/VLOOKUP(E$2,$BO$127:$BP$138,2,FALSE)","v":0},{"$f":"'Budget FCFA'!F101/VLOOKUP(F$2,$BO$127:$BP$138,2,FALSE)","v":0},{"$f":"'Budget FCFA'!G101/VLOOKUP(G$2,$BO$127:$BP$138,2,FALSE)","v":0},{"$f":"'Budget FCFA'!H101/VLOOKUP(H$2,$BO$127:$BP$138,2,FALSE)","v":105.07},{"$f":"'Budget FCFA'!I101/VLOOKUP(I$2,$BO$127:$BP$138,2,FALSE)","v":0},{"$f":"'Budget FCFA'!J101/VLOOKUP(J$2,$BO$127:$BP$138,2,FALSE)","v":0},{"$f":"'Budget FCFA'!K101/VLOOKUP(K$2,$BO$127:$BP$138,2,FALSE)","v":0},{"$f":"'Budget FCFA'!L101/VLOOKUP(L$2,$BO$127:$BP$138,2,FALSE)","v":0},{"$f":"'Budget FCFA'!M101/VLOOKUP(M$2,$BO$127:$BP$138,2,FALSE)","v":125.07},{"$f":"'Budget FCFA'!N101/VLOOKUP(N$2,$BO$127:$BP$138,2,FALSE)","v":0},{"$f":"'Budget FCFA'!O101/VLOOKUP(O$2,$BO$127:$BP$138,2,FALSE)","v":0},{"$f":"'Budget FCFA'!P101/VLOOKUP(P$2,$BO$127:$BP$138,2,FALSE)","v":0},{"$f":"'Budget FCFA'!Q101/VLOOKUP(Q$2,$BO$127:$BP$138,2,FALSE)","v":0},{"$f":"'Budget FCFA'!R101/VLOOKUP(R$2,$BO$127:$BP$138,2,FALSE)","v":311.14999999999998},{"$f":"'Budget FCFA'!S101/VLOOKUP(S$2,$BO$127:$BP$138,2,FALSE)","v":0},{"$f":"'Budget FCFA'!T101/VLOOKUP(T$2,$BO$127:$BP$138,2,FALSE)","v":0},{"$f":"'Budget FCFA'!U101/VLOOKUP(U$2,$BO$127:$BP$138,2,FALSE)","v":0},{"$f":"'Budget FCFA'!V101/VLOOKUP(V$2,$BO$127:$BP$138,2,FALSE)","v":0},{"$f":"'Budget FCFA'!W101/VLOOKUP(W$2,$BO$127:$BP$138,2,FALSE)","v":248.85},{"$f":"'Budget FCFA'!X101/VLOOKUP(X$2,$BO$127:$BP$138,2,FALSE)","v":0},{"$f":"'Budget FCFA'!Y101/VLOOKUP(Y$2,$BO$127:$BP$138,2,FALSE)","v":0},{"$f":"'Budget FCFA'!Z101/VLOOKUP(Z$2,$BO$127:$BP$138,2,FALSE)","v":0},{"$f":"'Budget FCFA'!AA101/VLOOKUP(AA$2,$BO$127:$BP$138,2,FALSE)","v":107.90999999999998},{"$f":"'Budget FCFA'!AB101/VLOOKUP(AB$2,$BO$127:$BP$138,2,FALSE)","v":0},{"$f":"'Budget FCFA'!AC101/VLOOKUP(AC$2,$BO$127:$BP$138,2,FALSE)","v":0},{"$f":"'Budget FCFA'!AD101/VLOOKUP(AD$2,$BO$127:$BP$138,2,FALSE)","v":0},{"$f":"'Budget FCFA'!AE101/VLOOKUP(AE$2,$BO$127:$BP$138,2,FALSE)","v":0},{"$f":"'Budget FCFA'!AF101/VLOOKUP(AF$2,$BO$127:$BP$138,2,FALSE)","v":129.34281814487096},{"$f":"'Budget FCFA'!AG101/VLOOKUP(AG$2,$BO$127:$BP$138,2,FALSE)","v":0},{"$f":"'Budget FCFA'!AH101/VLOOKUP(AH$2,$BO$127:$BP$138,2,FALSE)","v":0},{"$f":"'Budget FCFA'!AI101/VLOOKUP(AI$2,$BO$127:$BP$138,2,FALSE)","v":0},{"$f":"'Budget FCFA'!AJ101/VLOOKUP(AJ$2,$BO$127:$BP$138,2,FALSE)","v":0},{"$f":"'Budget FCFA'!AK101/VLOOKUP(AK$2,$BO$127:$BP$138,2,FALSE)","v":106.28},{"$f":"'Budget FCFA'!AL101/VLOOKUP(AL$2,$BO$127:$BP$138,2,FALSE)","v":0},{"$f":"'Budget FCFA'!AM101/VLOOKUP(AM$2,$BO$127:$BP$138,2,FALSE)","v":0},{"$f":"'Budget FCFA'!AN101/VLOOKUP(AN$2,$BO$127:$BP$138,2,FALSE)","v":0},{"$f":"'Budget FCFA'!AO101/VLOOKUP(AO$2,$BO$127:$BP$138,2,FALSE)","v":0},{"$f":"'Budget FCFA'!AP101/VLOOKUP(AP$2,$BO$127:$BP$138,2,FALSE)","v":410.99},{"$f":"'Budget FCFA'!#REF!/VLOOKUP(AQ$2,$BO$127:$BP$138,2,FALSE)","v":{"$error":"#REF!"}},{"$f":"'Budget FCFA'!#REF!/VLOOKUP(AR$2,$BO$127:$BP$138,2,FALSE)","v":{"$error":"#REF!"}},{"$f":"'Budget FCFA'!#REF!/VLOOKUP(AS$2,$BO$127:$BP$138,2,FALSE)","v":{"$error":"#REF!"}},{"$f":"'Budget FCFA'!#REF!/VLOOKUP(AT$2,$BO$127:$BP$138,2,FALSE)","v":{"$error":"#REF!"}},{"$f":"'Budget FCFA'!#REF!/VLOOKUP(AU$2,$BO$127:$BP$138,2,FALSE)","v":{"$error":"#REF!"}},{"$f":"'Budget FCFA'!#REF!/VLOOKUP(AV$2,$BO$127:$BP$138,2,FALSE)","v":{"$error":"#REF!"}},{"$f":"'Budget FCFA'!#REF!/VLOOKUP(AW$2,$BO$127:$BP$138,2,FALSE)","v":{"$error":"#REF!"}},{"$f":"'Budget FCFA'!#REF!/VLOOKUP(AX$2,$BO$127:$BP$138,2,FALSE)","v":{"$error":"#REF!"}},{"$f":"'Budget FCFA'!#REF!/VLOOKUP(AY$2,$BO$127:$BP$138,2,FALSE)","v":{"$error":"#REF!"}},{"$f":"'Budget FCFA'!#REF!/VLOOKUP(AZ$2,$BO$127:$BP$138,2,FALSE)","v":{"$error":"#REF!"}},{"$f":"'Budget FCFA'!#REF!/VLOOKUP(BA$2,$BO$127:$BP$138,2,FALSE)","v":{"$error":"#REF!"}},{"$f":"'Budget FCFA'!#REF!/VLOOKUP(BB$2,$BO$127:$BP$138,2,FALSE)","v":{"$error":"#REF!"}},{"$f":"'Budget FCFA'!#REF!/VLOOKUP(BC$2,$BO$127:$BP$138,2,FALSE)","v":{"$error":"#REF!"}},{"$f":"'Budget FCFA'!#REF!/VLOOKUP(BD$2,$BO$127:$BP$138,2,FALSE)","v":{"$error":"#REF!"}},{"$f":"'Budget FCFA'!#REF!/VLOOKUP(BE$2,$BO$127:$BP$138,2,FALSE)","v":{"$error":"#REF!"}},{"$f":"'Budget FCFA'!#REF!/VLOOKUP(BF$2,$BO$127:$BP$138,2,FALSE)","v":{"$error":"#REF!"}},{"$f":"'Budget FCFA'!#REF!/VLOOKUP(BG$2,$BO$127:$BP$138,2,FALSE)","v":{"$error":"#REF!"}},{"$f":"'Budget FCFA'!#REF!/VLOOKUP(BH$2,$BO$127:$BP$138,2,FALSE)","v":{"$error":"#REF!"}},{"$f":"'Budget FCFA'!#REF!/VLOOKUP(BI$2,$BO$127:$BP$138,2,FALSE)","v":{"$error":"#REF!"}},{"$f":"'Budget FCFA'!#REF!/VLOOKUP(BJ$2,$BO$127:$BP$138,2,FALSE)","v":{"$error":"#REF!"}},{"$error":"#REF!"},{"$f":"BK101-'Budget FCFA'!#REF!","v":{"$error":"#REF!"}}]
["WEBRESEA","DOUALA","Facebook adds BAPEE",{"$f":"'Budget FCFA'!D102/VLOOKUP(D$2,$BO$127:$BP$138,2,FALSE)","v":0},{"$f":"'Budget FCFA'!E102/VLOOKUP(E$2,$BO$127:$BP$138,2,FALSE)","v":0},{"$f":"'Budget FCFA'!F102/VLOOKUP(F$2,$BO$127:$BP$138,2,FALSE)","v":0},{"$f":"'Budget FCFA'!G102/VLOOKUP(G$2,$BO$127:$BP$138,2,FALSE)","v":0},{"$f":"'Budget FCFA'!H102/VLOOKUP(H$2,$BO$127:$BP$138,2,FALSE)","v":187.81},{"$f":"'Budget FCFA'!I102/VLOOKUP(I$2,$BO$127:$BP$138,2,FALSE)","v":0},{"$f":"'Budget FCFA'!J102/VLOOKUP(J$2,$BO$127:$BP$138,2,FALSE)","v":0},{"$f":"'Budget FCFA'!K102/VLOOKUP(K$2,$BO$127:$BP$138,2,FALSE)","v":0},{"$f":"'Budget FCFA'!L102/VLOOKUP(L$2,$BO$127:$BP$138,2,FALSE)","v":0},{"$f":"'Budget FCFA'!M102/VLOOKUP(M$2,$BO$127:$BP$138,2,FALSE)","v":188.84},{"$f":"'Budget FCFA'!N102/VLOOKUP(N$2,$BO$127:$BP$138,2,FALSE)","v":0},{"$f":"'Budget FCFA'!O102/VLOOKUP(O$2,$BO$127:$BP$138,2,FALSE)","v":0},{"$f":"'Budget FCFA'!P102/VLOOKUP(P$2,$BO$127:$BP$138,2,FALSE)","v":0},{"$f":"'Budget FCFA'!Q102/VLOOKUP(Q$2,$BO$127:$BP$138,2,FALSE)","v":0},{"$f":"'Budget FCFA'!R102/VLOOKUP(R$2,$BO$127:$BP$138,2,FALSE)","v":259.95999999999998},{"$f":"'Budget FCFA'!S102/VLOOKUP(S$2,$BO$127:$BP$138,2,FALSE)","v":0},{"$f":"'Budget FCFA'!T102/VLOOKUP(T$2,$BO$127:$BP$138,2,FALSE)","v":0},{"$f":"'Budget FCFA'!U102/VLOOKUP(U$2,$BO$127:$BP$138,2,FALSE)","v":0},{"$f":"'Budget FCFA'!V102/VLOOKUP(V$2,$BO$127:$BP$138,2,FALSE)","v":0},{"$f":"'Budget FCFA'!W102/VLOOKUP(W$2,$BO$127:$BP$138,2,FALSE)","v":435.45},{"$f":"'Budget FCFA'!X102/VLOOKUP(X$2,$BO$127:$BP$138,2,FALSE)","v":0},{"$f":"'Budget FCFA'!Y102/VLOOKUP(Y$2,$BO$127:$BP$138,2,FALSE)","v":0},{"$f":"'Budget FCFA'!Z102/VLOOKUP(Z$2,$BO$127:$BP$138,2,FALSE)","v":0},{"$f":"'Budget FCFA'!AA102/VLOOKUP(AA$2,$BO$127:$BP$138,2,FALSE)","v":499.60000000000008},{"$f":"'Budget FCFA'!AB102/VLOOKUP(AB$2,$BO$127:$BP$138,2,FALSE)","v":0},{"$f":"'Budget FCFA'!AC102/VLOOKUP(AC$2,$BO$127:$BP$138,2,FALSE)","v":0},{"$f":"'Budget FCFA'!AD102/VLOOKUP(AD$2,$BO$127:$BP$138,2,FALSE)","v":0},{"$f":"'Budget FCFA'!AE102/VLOOKUP(AE$2,$BO$127:$BP$138,2,FALSE)","v":0},{"$f":"'Budget FCFA'!AF102/VLOOKUP(AF$2,$BO$127:$BP$138,2,FALSE)","v":186.7153542773728},{"$f":"'Budget FCFA'!AG102/VLOOKUP(AG$2,$BO$127:$BP$138,2,FALSE)","v":0},{"$f":"'Budget FCFA'!AH102/VLOOKUP(AH$2,$BO$127:$BP$138,2,FALSE)","v":0},{"$f":"'Budget FCFA'!AI102/VLOOKUP(AI$2,$BO$127:$BP$138,2,FALSE)","v":0},{"$f":"'Budget FCFA'!AJ102/VLOOKUP(AJ$2,$BO$127:$BP$138,2,FALSE)","v":0},{"$f":"'Budget FCFA'!AK102/VLOOKUP(AK$2,$BO$127:$BP$138,2,FALSE)","v":100.45999999999998},{"$f":"'Budget FCFA'!AL102/VLOOKUP(AL$2,$BO$127:$BP$138,2,FALSE)","v":0},{"$f":"'Budget FCFA'!AM102/VLOOKUP(AM$2,$BO$127:$BP$138,2,FALSE)","v":0},{"$f":"'Budget FCFA'!AN102/VLOOKUP(AN$2,$BO$127:$BP$138,2,FALSE)","v":0},{"$f":"'Budget FCFA'!AO102/VLOOKUP(AO$2,$BO$127:$BP$138,2,FALSE)","v":0},{"$f":"'Budget FCFA'!AP102/VLOOKUP(AP$2,$BO$127:$BP$138,2,FALSE)","v":375.31},{"$f":"'Budget FCFA'!#REF!/VLOOKUP(AQ$2,$BO$127:$BP$138,2,FALSE)","v":{"$error":"#REF!"}},{"$f":"'Budget FCFA'!#REF!/VLOOKUP(AR$2,$BO$127:$BP$138,2,FALSE)","v":{"$error":"#REF!"}},{"$f":"'Budget FCFA'!#REF!/VLOOKUP(AS$2,$BO$127:$BP$138,2,FALSE)","v":{"$error":"#REF!"}},{"$f":"'Budget FCFA'!#REF!/VLOOKUP(AT$2,$BO$127:$BP$138,2,FALSE)","v":{"$error":"#REF!"}},{"$f":"'Budget FCFA'!#REF!/VLOOKUP(AU$2,$BO$127:$BP$138,2,FALSE)","v":{"$error":"#REF!"}},{"$f":"'Budget FCFA'!#REF!/VLOOKUP(AV$2,$BO$127:$BP$138,2,FALSE)","v":{"$error":"#REF!"}},{"$f":"'Budget FCFA'!#REF!/VLOOKUP(AW$2,$BO$127:$BP$138,2,FALSE)","v":{"$error":"#REF!"}},{"$f":"'Budget FCFA'!#REF!/VLOOKUP(AX$2,$BO$127:$BP$138,2,FALSE)","v":{"$error":"#REF!"}},{"$f":"'Budget FCFA'!#REF!/VLOOKUP(AY$2,$BO$127:$BP$138,2,FALSE)","v":{"$error":"#REF!"}},{"$f":"'Budget FCFA'!#REF!/VLOOKUP(AZ$2,$BO$127:$BP$138,2,FALSE)","v":{"$error":"#REF!"}},{"$f":"'Budget FCFA'!#REF!/VLOOKUP(BA$2,$BO$127:$BP$138,2,FALSE)","v":{"$error":"#REF!"}},{"$f":"'Budget FCFA'!#REF!/VLOOKUP(BB$2,$BO$127:$BP$138,2,FALSE)","v":{"$error":"#REF!"}},{"$f":"'Budget FCFA'!#REF!/VLOOKUP(BC$2,$BO$127:$BP$138,2,FALSE)","v":{"$error":"#REF!"}},{"$f":"'Budget FCFA'!#REF!/VLOOKUP(BD$2,$BO$127:$BP$138,2,FALSE)","v":{"$error":"#REF!"}},{"$f":"'Budget FCFA'!#REF!/VLOOKUP(BE$2,$BO$127:$BP$138,2,FALSE)","v":{"$error":"#REF!"}},{"$f":"'Budget FCFA'!#REF!/VLOOKUP(BF$2,$BO$127:$BP$138,2,FALSE)","v":{"$error":"#REF!"}},{"$f":"'Budget FCFA'!#REF!/VLOOKUP(BG$2,$BO$127:$BP$138,2,FALSE)","v":{"$error":"#REF!"}},{"$f":"'Budget FCFA'!#REF!/VLOOKUP(BH$2,$BO$127:$BP$138,2,FALSE)","v":{"$error":"#REF!"}},{"$f":"'Budget FCFA'!#REF!/VLOOKUP(BI$2,$BO$127:$BP$138,2,FALSE)","v":{"$error":"#REF!"}},{"$f":"'Budget FCFA'!#REF!/VLOOKUP(BJ$2,$BO$127:$BP$138,2,FALSE)","v":{"$error":"#REF!"}},{"$error":"#REF!"},{"$f":"BK102-'Budget FCFA'!#REF!","v":{"$error":"#REF!"}}]
["WEBRESEA","TOTAL","Total Facebook",{"$f":"'Budget FCFA'!D103/VLOOKUP(D$2,$BO$127:$BP$138,2,FALSE)","v":0},{"$f":"'Budget FCFA'!E103/VLOOKUP(E$2,$BO$127:$BP$138,2,FALSE)","v":0},{"$f":"'Budget FCFA'!F103/VLOOKUP(F$2,$BO$127:$BP$138,2,FALSE)","v":0},{"$f":"'Budget FCFA'!G103/VLOOKUP(G$2,$BO$127:$BP$138,2,FALSE)","v":0},{"$f":"'Budget FCFA'!H103/VLOOKUP(H$2,$BO$127:$BP$138,2,FALSE)","v":1115.92},{"$f":"'Budget FCFA'!I103/VLOOKUP(I$2,$BO$127:$BP$138,2,FALSE)","v":0},{"$f":"'Budget FCFA'!J103/VLOOKUP(J$2,$BO$127:$BP$138,2,FALSE)","v":0},{"$f":"'Budget FCFA'!K103/VLOOKUP(K$2,$BO$127:$BP$138,2,FALSE)","v":0},{"$f":"'Budget FCFA'!L103/VLOOKUP(L$2,$BO$127:$BP$138,2,FALSE)","v":0},{"$f":"'Budget FCFA'!M103/VLOOKUP(M$2,$BO$127:$BP$138,2,FALSE)","v":2068.2600000000002},{"$f":"'Budget FCFA'!N103/VLOOKUP(N$2,$BO$127:$BP$138,2,FALSE)","v":0},{"$f":"'Budget FCFA'!O103/VLOOKUP(O$2,$BO$127:$BP$138,2,FALSE)","v":0},{"$f":"'Budget FCFA'!P103/VLOOKUP(P$2,$BO$127:$BP$138,2,FALSE)","v":0},{"$f":"'Budget FCFA'!Q103/VLOOKUP(Q$2,$BO$127:$BP$138,2,FALSE)","v":0},{"$f":"'Budget FCFA'!R103/VLOOKUP(R$2,$BO$127:$BP$138,2,FALSE)","v":2256.9499999999998},{"$f":"'Budget FCFA'!S103/VLOOKUP(S$2,$BO$127:$BP$138,2,FALSE)","v":0},{"$f":"'Budget FCFA'!T103/VLOOKUP(T$2,$BO$127:$BP$138,2,FALSE)","v":0},{"$f":"'Budget FCFA'!U103/VLOOKUP(U$2,$BO$127:$BP$138,2,FALSE)","v":0},{"$f":"'Budget FCFA'!V103/VLOOKUP(V$2,$BO$127:$BP$138,2,FALSE)","v":0},{"$f":"'Budget FCFA'!W103/VLOOKUP(W$2,$BO$127:$BP$138,2,FALSE)","v":1867.96},{"$f":"'Budget FCFA'!X103/VLOOKUP(X$2,$BO$127:$BP$138,2,FALSE)","v":0},{"$f":"'Budget FCFA'!Y103/VLOOKUP(Y$2,$BO$127:$BP$138,2,FALSE)","v":0},{"$f":"'Budget FCFA'!Z103/VLOOKUP(Z$2,$BO$127:$BP$138,2,FALSE)","v":0},{"$f":"'Budget FCFA'!AA103/VLOOKUP(AA$2,$BO$127:$BP$138,2,FALSE)","v":1593.14},{"$f":"'Budget FCFA'!AB103/VLOOKUP(AB$2,$BO$127:$BP$138,2,FALSE)","v":0},{"$f":"'Budget FCFA'!AC103/VLOOKUP(AC$2,$BO$127:$BP$138,2,FALSE)","v":0},{"$f":"'Budget FCFA'!AD103/VLOOKUP(AD$2,$BO$127:$BP$138,2,FALSE)","v":0},{"$f":"'Budget FCFA'!AE103/VLOOKUP(AE$2,$BO$127:$BP$138,2,FALSE)","v":0},{"$f":"'Budget FCFA'!AF103/VLOOKUP(AF$2,$BO$127:$BP$138,2,FALSE)","v":2293.1241547620316},{"$f":"'Budget FCFA'!AG103/VLOOKUP(AG$2,$BO$127:$BP$138,2,FALSE)","v":0},{"$f":"'Budget FCFA'!AH103/VLOOKUP(AH$2,$BO$127:$BP$138,2,FALSE)","v":0},{"$f":"'Budget FCFA'!AI103/VLOOKUP(AI$2,$BO$127:$BP$138,2,FALSE)","v":0},{"$f":"'Budget FCFA'!AJ103/VLOOKUP(AJ$2,$BO$127:$BP$138,2,FALSE)","v":0},{"$f":"'Budget FCFA'!AK103/VLOOKUP(AK$2,$BO$127:$BP$138,2,FALSE)","v":1196.3100000000002},{"$f":"'Budget FCFA'!AL103/VLOOKUP(AL$2,$BO$127:$BP$138,2,FALSE)","v":0},{"$f":"'Budget FCFA'!AM103/VLOOKUP(AM$2,$BO$127:$BP$138,2,FALSE)","v":0},{"$f":"'Budget FCFA'!AN103/VLOOKUP(AN$2,$BO$127:$BP$138,2,FALSE)","v":0},{"$f":"'Budget FCFA'!AO103/VLOOKUP(AO$2,$BO$127:$BP$138,2,FALSE)","v":0},{"$f":"'Budget FCFA'!AP103/VLOOKUP(AP$2,$BO$127:$BP$138,2,FALSE)","v":2774.7400000000002},{"$f":"'Budget FCFA'!#REF!/VLOOKUP(AQ$2,$BO$127:$BP$138,2,FALSE)","v":{"$error":"#REF!"}},{"$f":"'Budget FCFA'!#REF!/VLOOKUP(AR$2,$BO$127:$BP$138,2,FALSE)","v":{"$error":"#REF!"}},{"$f":"'Budget FCFA'!#REF!/VLOOKUP(AS$2,$BO$127:$BP$138,2,FALSE)","v":{"$error":"#REF!"}},{"$f":"'Budget FCFA'!#REF!/VLOOKUP(AT$2,$BO$127:$BP$138,2,FALSE)","v":{"$error":"#REF!"}},{"$f":"'Budget FCFA'!#REF!/VLOOKUP(AU$2,$BO$127:$BP$138,2,FALSE)","v":{"$error":"#REF!"}},{"$f":"'Budget FCFA'!#REF!/VLOOKUP(AV$2,$BO$127:$BP$138,2,FALSE)","v":{"$error":"#REF!"}},{"$f":"'Budget FCFA'!#REF!/VLOOKUP(AW$2,$BO$127:$BP$138,2,FALSE)","v":{"$error":"#REF!"}},{"$f":"'Budget FCFA'!#REF!/VLOOKUP(AX$2,$BO$127:$BP$138,2,FALSE)","v":{"$error":"#REF!"}},{"$f":"'Budget FCFA'!#REF!/VLOOKUP(AY$2,$BO$127:$BP$138,2,FALSE)","v":{"$error":"#REF!"}},{"$f":"'Budget FCFA'!#REF!/VLOOKUP(AZ$2,$BO$127:$BP$138,2,FALSE)","v":{"$error":"#REF!"}},{"$f":"'Budget FCFA'!#REF!/VLOOKUP(BA$2,$BO$127:$BP$138,2,FALSE)","v":{"$error":"#REF!"}},{"$f":"'Budget FCFA'!#REF!/VLOOKUP(BB$2,$BO$127:$BP$138,2,FALSE)","v":{"$error":"#REF!"}},{"$f":"'Budget FCFA'!#REF!/VLOOKUP(BC$2,$BO$127:$BP$138,2,FALSE)","v":{"$error":"#REF!"}},{"$f":"'Budget FCFA'!#REF!/VLOOKUP(BD$2,$BO$127:$BP$138,2,FALSE)","v":{"$error":"#REF!"}},{"$f":"'Budget FCFA'!#REF!/VLOOKUP(BE$2,$BO$127:$BP$138,2,FALSE)","v":{"$error":"#REF!"}},{"$f":"'Budget FCFA'!#REF!/VLOOKUP(BF$2,$BO$127:$BP$138,2,FALSE)","v":{"$error":"#REF!"}},{"$f":"'Budget FCFA'!#REF!/VLOOKUP(BG$2,$BO$127:$BP$138,2,FALSE)","v":{"$error":"#REF!"}},{"$f":"'Budget FCFA'!#REF!/VLOOKUP(BH$2,$BO$127:$BP$138,2,FALSE)","v":{"$error":"#REF!"}},{"$f":"'Budget FCFA'!#REF!/VLOOKUP(BI$2,$BO$127:$BP$138,2,FALSE)","v":{"$error":"#REF!"}},{"$f":"'Budget FCFA'!#REF!/VLOOKUP(BJ$2,$BO$127:$BP$138,2,FALSE)","v":{"$error":"#REF!"}},{"$error":"#REF!"},{"$f":"BK103-'Budget FCFA'!#REF!","v":{"$error":"#REF!"}}]
["WEBPUSEA","ABIDJAN","Jeu concours",{"$f":"'Budget FCFA'!D104/VLOOKUP(D$2,$BO$127:$BP$138,2,FALSE)","v":0},{"$f":"'Budget FCFA'!E104/VLOOKUP(E$2,$BO$127:$BP$138,2,FALSE)","v":0},{"$f":"'Budget FCFA'!F104/VLOOKUP(F$2,$BO$127:$BP$138,2,FALSE)","v":0},{"$f":"'Budget FCFA'!G104/VLOOKUP(G$2,$BO$127:$BP$138,2,FALSE)","v":0},{"$f":"'Budget FCFA'!H104/VLOOKUP(H$2,$BO$127:$BP$138,2,FALSE)","v":0},{"$f":"'Budget FCFA'!I104/VLOOKUP(I$2,$BO$127:$BP$138,2,FALSE)","v":0},{"$f":"'Budget FCFA'!J104/VLOOKUP(J$2,$BO$127:$BP$138,2,FALSE)","v":0},{"$f":"'Budget FCFA'!K104/VLOOKUP(K$2,$BO$127:$BP$138,2,FALSE)","v":0},{"$f":"'Budget FCFA'!L104/VLOOKUP(L$2,$BO$127:$BP$138,2,FALSE)","v":0},{"$f":"'Budget FCFA'!M104/VLOOKUP(M$2,$BO$127:$BP$138,2,FALSE)","v":0},{"$f":"'Budget FCFA'!N104/VLOOKUP(N$2,$BO$127:$BP$138,2,FALSE)","v":0},{"$f":"'Budget FCFA'!O104/VLOOKUP(O$2,$BO$127:$BP$138,2,FALSE)","v":0},{"$f":"'Budget FCFA'!P104/VLOOKUP(P$2,$BO$127:$BP$138,2,FALSE)","v":0},{"$f":"'Budget FCFA'!Q104/VLOOKUP(Q$2,$BO$127:$BP$138,2,FALSE)","v":0},{"$f":"'Budget FCFA'!R104/VLOOKUP(R$2,$BO$127:$BP$138,2,FALSE)","v":0},{"$f":"'Budget FCFA'!S104/VLOOKUP(S$2,$BO$127:$BP$138,2,FALSE)","v":0},{"$f":"'Budget FCFA'!T104/VLOOKUP(T$2,$BO$127:$BP$138,2,FALSE)","v":0},{"$f":"'Budget FCFA'!U104/VLOOKUP(U$2,$BO$127:$BP$138,2,FALSE)","v":0},{"$f":"'Budget FCFA'!V104/VLOOKUP(V$2,$BO$127:$BP$138,2,FALSE)","v":0},{"$f":"'Budget FCFA'!W104/VLOOKUP(W$2,$BO$127:$BP$138,2,FALSE)","v":0},{"$f":"'Budget FCFA'!X104/VLOOKUP(X$2,$BO$127:$BP$138,2,FALSE)","v":0},{"$f":"'Budget FCFA'!Y104/VLOOKUP(Y$2,$BO$127:$BP$138,2,FALSE)","v":0},{"$f":"'Budget FCFA'!Z104/VLOOKUP(Z$2,$BO$127:$BP$138,2,FALSE)","v":0},{"$f":"'Budget FCFA'!AA104/VLOOKUP(AA$2,$BO$127:$BP$138,2,FALSE)","v":0},{"$f":"'Budget FCFA'!AB104/VLOOKUP(AB$2,$BO$127:$BP$138,2,FALSE)","v":0},{"$f":"'Budget FCFA'!AC104/VLOOKUP(AC$2,$BO$127:$BP$138,2,FALSE)","v":0},{"$f":"'Budget FCFA'!AD104/VLOOKUP(AD$2,$BO$127:$BP$138,2,FALSE)","v":0},{"$f":"'Budget FCFA'!AE104/VLOOKUP(AE$2,$BO$127:$BP$138,2,FALSE)","v":0},{"$f":"'Budget FCFA'!AF104/VLOOKUP(AF$2,$BO$127:$BP$138,2,FALSE)","v":0},{"$f":"'Budget FCFA'!AG104/VLOOKUP(AG$2,$BO$127:$BP$138,2,FALSE)","v":0},{"$f":"'Budget FCFA'!AH104/VLOOKUP(AH$2,$BO$127:$BP$138,2,FALSE)","v":0},{"$f":"'Budget FCFA'!AI104/VLOOKUP(AI$2,$BO$127:$BP$138,2,FALSE)","v":0},{"$f":"'Budget FCFA'!AJ104/VLOOKUP(AJ$2,$BO$127:$BP$138,2,FALSE)","v":0},{"$f":"'Budget FCFA'!AK104/VLOOKUP(AK$2,$BO$127:$BP$138,2,FALSE)","v":0},{"$f":"'Budget FCFA'!AL104/VLOOKUP(AL$2,$BO$127:$BP$138,2,FALSE)","v":0},{"$f":"'Budget FCFA'!AM104/VLOOKUP(AM$2,$BO$127:$BP$138,2,FALSE)","v":0},{"$f":"'Budget FCFA'!AN104/VLOOKUP(AN$2,$BO$127:$BP$138,2,FALSE)","v":0},{"$f":"'Budget FCFA'!AO104/VLOOKUP(AO$2,$BO$127:$BP$138,2,FALSE)","v":0},{"$f":"'Budget FCFA'!AP104/VLOOKUP(AP$2,$BO$127:$BP$138,2,FALSE)","v":0},{"$f":"'Budget FCFA'!#REF!/VLOOKUP(AQ$2,$BO$127:$BP$138,2,FALSE)","v":{"$error":"#REF!"}},{"$f":"'Budget FCFA'!#REF!/VLOOKUP(AR$2,$BO$127:$BP$138,2,FALSE)","v":{"$error":"#REF!"}},{"$f":"'Budget FCFA'!#REF!/VLOOKUP(AS$2,$BO$127:$BP$138,2,FALSE)","v":{"$error":"#REF!"}},{"$f":"'Budget FCFA'!#REF!/VLOOKUP(AT$2,$BO$127:$BP$138,2,FALSE)","v":{"$error":"#REF!"}},{"$f":"'Budget FCFA'!#REF!/VLOOKUP(AU$2,$BO$127:$BP$138,2,FALSE)","v":{"$error":"#REF!"}},{"$f":"'Budget FCFA'!#REF!/VLOOKUP(AV$2,$BO$127:$BP$138,2,FALSE)","v":{"$error":"#REF!"}},{"$f":"'Budget FCFA'!#REF!/VLOOKUP(AW$2,$BO$127:$BP$138,2,FALSE)","v":{"$error":"#REF!"}},{"$f":"'Budget FCFA'!#REF!/VLOOKUP(AX$2,$BO$127:$BP$138,2,FALSE)","v":{"$error":"#REF!"}},{"$f":"'Budget FCFA'!#REF!/VLOOKUP(AY$2,$BO$127:$BP$138,2,FALSE)","v":{"$error":"#REF!"}},{"$f":"'Budget FCFA'!#REF!/VLOOKUP(AZ$2,$BO$127:$BP$138,2,FALSE)","v":{"$error":"#REF!"}},{"$f":"'Budget FCFA'!#REF!/VLOOKUP(BA$2,$BO$127:$BP$138,2,FALSE)","v":{"$error":"#REF!"}},{"$f":"'Budget FCFA'!#REF!/VLOOKUP(BB$2,$BO$127:$BP$138,2,FALSE)","v":{"$error":"#REF!"}},{"$f":"'Budget FCFA'!#REF!/VLOOKUP(BC$2,$BO$127:$BP$138,2,FALSE)","v":{"$error":"#REF!"}},{"$f":"'Budget FCFA'!#REF!/VLOOKUP(BD$2,$BO$127:$BP$138,2,FALSE)","v":{"$error":"#REF!"}},{"$f":"'Budget FCFA'!#REF!/VLOOKUP(BE$2,$BO$127:$BP$138,2,FALSE)","v":{"$error":"#REF!"}},{"$f":"'Budget FCFA'!#REF!/VLOOKUP(BF$2,$BO$127:$BP$138,2,FALSE)","v":{"$error":"#REF!"}},{"$f":"'Budget FCFA'!#REF!/VLOOKUP(BG$2,$BO$127:$BP$138,2,FALSE)","v":{"$error":"#REF!"}},{"$f":"'Budget FCFA'!#REF!/VLOOKUP(BH$2,$BO$127:$BP$138,2,FALSE)","v":{"$error":"#REF!"}},{"$f":"'Budget FCFA'!#REF!/VLOOKUP(BI$2,$BO$127:$BP$138,2,FALSE)","v":{"$error":"#REF!"}},{"$f":"'Budget FCFA'!#REF!/VLOOKUP(BJ$2,$BO$127:$BP$138,2,FALSE)","v":{"$error":"#REF!"}},{"$error":"#REF!"},{"$f":"BK104-'Budget FCFA'!#REF!","v":{"$error":"#REF!"}}]
["WEBPUSEA","BRAZZA","Jeu concours",{"$f":"'Budget FCFA'!D105/VLOOKUP(D$2,$BO$127:$BP$138,2,FALSE)","v":0},{"$f":"'Budget FCFA'!E105/VLOOKUP(E$2,$BO$127:$BP$138,2,FALSE)","v":0},{"$f":"'Budget FCFA'!F105/VLOOKUP(F$2,$BO$127:$BP$138,2,FALSE)","v":0},{"$f":"'Budget FCFA'!G105/VLOOKUP(G$2,$BO$127:$BP$138,2,FALSE)","v":0},{"$f":"'Budget FCFA'!H105/VLOOKUP(H$2,$BO$127:$BP$138,2,FALSE)","v":0},{"$f":"'Budget FCFA'!I105/VLOOKUP(I$2,$BO$127:$BP$138,2,FALSE)","v":0},{"$f":"'Budget FCFA'!J105/VLOOKUP(J$2,$BO$127:$BP$138,2,FALSE)","v":0},{"$f":"'Budget FCFA'!K105/VLOOKUP(K$2,$BO$127:$BP$138,2,FALSE)","v":0},{"$f":"'Budget FCFA'!L105/VLOOKUP(L$2,$BO$127:$BP$138,2,FALSE)","v":0},{"$f":"'Budget FCFA'!M105/VLOOKUP(M$2,$BO$127:$BP$138,2,FALSE)","v":0},{"$f":"'Budget FCFA'!N105/VLOOKUP(N$2,$BO$127:$BP$138,2,FALSE)","v":0},{"$f":"'Budget FCFA'!O105/VLOOKUP(O$2,$BO$127:$BP$138,2,FALSE)","v":0},{"$f":"'Budget FCFA'!P105/VLOOKUP(P$2,$BO$127:$BP$138,2,FALSE)","v":0},{"$f":"'Budget FCFA'!Q105/VLOOKUP(Q$2,$BO$127:$BP$138,2,FALSE)","v":0},{"$f":"'Budget FCFA'!R105/VLOOKUP(R$2,$BO$127:$BP$138,2,FALSE)","v":0},{"$f":"'Budget FCFA'!S105/VLOOKUP(S$2,$BO$127:$BP$138,2,FALSE)","v":0},{"$f":"'Budget FCFA'!T105/VLOOKUP(T$2,$BO$127:$BP$138,2,FALSE)","v":0},{"$f":"'Budget FCFA'!U105/VLOOKUP(U$2,$BO$127:$BP$138,2,FALSE)","v":0},{"$f":"'Budget FCFA'!V105/VLOOKUP(V$2,$BO$127:$BP$138,2,FALSE)","v":0},{"$f":"'Budget FCFA'!W105/VLOOKUP(W$2,$BO$127:$BP$138,2,FALSE)","v":0},{"$f":"'Budget FCFA'!X105/VLOOKUP(X$2,$BO$127:$BP$138,2,FALSE)","v":0},{"$f":"'Budget FCFA'!Y105/VLOOKUP(Y$2,$BO$127:$BP$138,2,FALSE)","v":0},{"$f":"'Budget FCFA'!Z105/VLOOKUP(Z$2,$BO$127:$BP$138,2,FALSE)","v":0},{"$f":"'Budget FCFA'!AA105/VLOOKUP(AA$2,$BO$127:$BP$138,2,FALSE)","v":0},{"$f":"'Budget FCFA'!AB105/VLOOKUP(AB$2,$BO$127:$BP$138,2,FALSE)","v":0},{"$f":"'Budget FCFA'!AC105/VLOOKUP(AC$2,$BO$127:$BP$138,2,FALSE)","v":0},{"$f":"'Budget FCFA'!AD105/VLOOKUP(AD$2,$BO$127:$BP$138,2,FALSE)","v":0},{"$f":"'Budget FCFA'!AE105/VLOOKUP(AE$2,$BO$127:$BP$138,2,FALSE)","v":0},{"$f":"'Budget FCFA'!AF105/VLOOKUP(AF$2,$BO$127:$BP$138,2,FALSE)","v":0},{"$f":"'Budget FCFA'!AG105/VLOOKUP(AG$2,$BO$127:$BP$138,2,FALSE)","v":0},{"$f":"'Budget FCFA'!AH105/VLOOKUP(AH$2,$BO$127:$BP$138,2,FALSE)","v":0},{"$f":"'Budget FCFA'!AI105/VLOOKUP(AI$2,$BO$127:$BP$138,2,FALSE)","v":0},{"$f":"'Budget FCFA'!AJ105/VLOOKUP(AJ$2,$BO$127:$BP$138,2,FALSE)","v":0},{"$f":"'Budget FCFA'!AK105/VLOOKUP(AK$2,$BO$127:$BP$138,2,FALSE)","v":0},{"$f":"'Budget FCFA'!AL105/VLOOKUP(AL$2,$BO$127:$BP$138,2,FALSE)","v":0},{"$f":"'Budget FCFA'!AM105/VLOOKUP(AM$2,$BO$127:$BP$138,2,FALSE)","v":0},{"$f":"'Budget FCFA'!AN105/VLOOKUP(AN$2,$BO$127:$BP$138,2,FALSE)","v":0},{"$f":"'Budget FCFA'!AO105/VLOOKUP(AO$2,$BO$127:$BP$138,2,FALSE)","v":0},{"$f":"'Budget FCFA'!AP105/VLOOKUP(AP$2,$BO$127:$BP$138,2,FALSE)","v":0},{"$f":"'Budget FCFA'!#REF!/VLOOKUP(AQ$2,$BO$127:$BP$138,2,FALSE)","v":{"$error":"#REF!"}},{"$f":"'Budget FCFA'!#REF!/VLOOKUP(AR$2,$BO$127:$BP$138,2,FALSE)","v":{"$error":"#REF!"}},{"$f":"'Budget FCFA'!#REF!/VLOOKUP(AS$2,$BO$127:$BP$138,2,FALSE)","v":{"$error":"#REF!"}},{"$f":"'Budget FCFA'!#REF!/VLOOKUP(AT$2,$BO$127:$BP$138,2,FALSE)","v":{"$error":"#REF!"}},{"$f":"'Budget FCFA'!#REF!/VLOOKUP(AU$2,$BO$127:$BP$138,2,FALSE)","v":{"$error":"#REF!"}},{"$f":"'Budget FCFA'!#REF!/VLOOKUP(AV$2,$BO$127:$BP$138,2,FALSE)","v":{"$error":"#REF!"}},{"$f":"'Budget FCFA'!#REF!/VLOOKUP(AW$2,$BO$127:$BP$138,2,FALSE)","v":{"$error":"#REF!"}},{"$f":"'Budget FCFA'!#REF!/VLOOKUP(AX$2,$BO$127:$BP$138,2,FALSE)","v":{"$error":"#REF!"}},{"$f":"'Budget FCFA'!#REF!/VLOOKUP(AY$2,$BO$127:$BP$138,2,FALSE)","v":{"$error":"#REF!"}},{"$f":"'Budget FCFA'!#REF!/VLOOKUP(AZ$2,$BO$127:$BP$138,2,FALSE)","v":{"$error":"#REF!"}},{"$f":"'Budget FCFA'!#REF!/VLOOKUP(BA$2,$BO$127:$BP$138,2,FALSE)","v":{"$error":"#REF!"}},{"$f":"'Budget FCFA'!#REF!/VLOOKUP(BB$2,$BO$127:$BP$138,2,FALSE)","v":{"$error":"#REF!"}},{"$f":"'Budget FCFA'!#REF!/VLOOKUP(BC$2,$BO$127:$BP$138,2,FALSE)","v":{"$error":"#REF!"}},{"$f":"'Budget FCFA'!#REF!/VLOOKUP(BD$2,$BO$127:$BP$138,2,FALSE)","v":{"$error":"#REF!"}},{"$f":"'Budget FCFA'!#REF!/VLOOKUP(BE$2,$BO$127:$BP$138,2,FALSE)","v":{"$error":"#REF!"}},{"$f":"'Budget FCFA'!#REF!/VLOOKUP(BF$2,$BO$127:$BP$138,2,FALSE)","v":{"$error":"#REF!"}},{"$f":"'Budget FCFA'!#REF!/VLOOKUP(BG$2,$BO$127:$BP$138,2,FALSE)","v":{"$error":"#REF!"}},{"$f":"'Budget FCFA'!#REF!/VLOOKUP(BH$2,$BO$127:$BP$138,2,FALSE)","v":{"$error":"#REF!"}},{"$f":"'Budget FCFA'!#REF!/VLOOKUP(BI$2,$BO$127:$BP$138,2,FALSE)","v":{"$error":"#REF!"}},{"$f":"'Budget FCFA'!#REF!/VLOOKUP(BJ$2,$BO$127:$BP$138,2,FALSE)","v":{"$error":"#REF!"}},{"$error":"#REF!"},{"$f":"BK105-'Budget FCFA'!#REF!","v":{"$error":"#REF!"}}]
["WEBPUSEA","DAKAR","Jeu concours",{"$f":"'Budget FCFA'!D106/VLOOKUP(D$2,$BO$127:$BP$138,2,FALSE)","v":0},{"$f":"'Budget FCFA'!E106/VLOOKUP(E$2,$BO$127:$BP$138,2,FALSE)","v":0},{"$f":"'Budget FCFA'!F106/VLOOKUP(F$2,$BO$127:$BP$138,2,FALSE)","v":0},{"$f":"'Budget FCFA'!G106/VLOOKUP(G$2,$BO$127:$BP$138,2,FALSE)","v":0},{"$f":"'Budget FCFA'!H106/VLOOKUP(H$2,$BO$127:$BP$138,2,FALSE)","v":0},{"$f":"'Budget FCFA'!I106/VLOOKUP(I$2,$BO$127:$BP$138,2,FALSE)","v":0},{"$f":"'Budget FCFA'!J106/VLOOKUP(J$2,$BO$127:$BP$138,2,FALSE)","v":0},{"$f":"'Budget FCFA'!K106/VLOOKUP(K$2,$BO$127:$BP$138,2,FALSE)","v":0},{"$f":"'Budget FCFA'!L106/VLOOKUP(L$2,$BO$127:$BP$138,2,FALSE)","v":0},{"$f":"'Budget FCFA'!M106/VLOOKUP(M$2,$BO$127:$BP$138,2,FALSE)","v":0},{"$f":"'Budget FCFA'!N106/VLOOKUP(N$2,$BO$127:$BP$138,2,FALSE)","v":0},{"$f":"'Budget FCFA'!O106/VLOOKUP(O$2,$BO$127:$BP$138,2,FALSE)","v":0},{"$f":"'Budget FCFA'!P106/VLOOKUP(P$2,$BO$127:$BP$138,2,FALSE)","v":0},{"$f":"'Budget FCFA'!Q106/VLOOKUP(Q$2,$BO$127:$BP$138,2,FALSE)","v":0},{"$f":"'Budget FCFA'!R106/VLOOKUP(R$2,$BO$127:$BP$138,2,FALSE)","v":0},{"$f":"'Budget FCFA'!S106/VLOOKUP(S$2,$BO$127:$BP$138,2,FALSE)","v":0},{"$f":"'Budget FCFA'!T106/VLOOKUP(T$2,$BO$127:$BP$138,2,FALSE)","v":0},{"$f":"'Budget FCFA'!U106/VLOOKUP(U$2,$BO$127:$BP$138,2,FALSE)","v":0},{"$f":"'Budget FCFA'!V106/VLOOKUP(V$2,$BO$127:$BP$138,2,FALSE)","v":0},{"$f":"'Budget FCFA'!W106/VLOOKUP(W$2,$BO$127:$BP$138,2,FALSE)","v":0},{"$f":"'Budget FCFA'!X106/VLOOKUP(X$2,$BO$127:$BP$138,2,FALSE)","v":0},{"$f":"'Budget FCFA'!Y106/VLOOKUP(Y$2,$BO$127:$BP$138,2,FALSE)","v":0},{"$f":"'Budget FCFA'!Z106/VLOOKUP(Z$2,$BO$127:$BP$138,2,FALSE)","v":0},{"$f":"'Budget FCFA'!AA106/VLOOKUP(AA$2,$BO$127:$BP$138,2,FALSE)","v":0},{"$f":"'Budget FCFA'!AB106/VLOOKUP(AB$2,$BO$127:$BP$138,2,FALSE)","v":0},{"$f":"'Budget FCFA'!AC106/VLOOKUP(AC$2,$BO$127:$BP$138,2,FALSE)","v":0},{"$f":"'Budget FCFA'!AD106/VLOOKUP(AD$2,$BO$127:$BP$138,2,FALSE)","v":0},{"$f":"'Budget FCFA'!AE106/VLOOKUP(AE$2,$BO$127:$BP$138,2,FALSE)","v":0},{"$f":"'Budget FCFA'!AF106/VLOOKUP(AF$2,$BO$127:$BP$138,2,FALSE)","v":0},{"$f":"'Budget FCFA'!AG106/VLOOKUP(AG$2,$BO$127:$BP$138,2,FALSE)","v":0},{"$f":"'Budget FCFA'!AH106/VLOOKUP(AH$2,$BO$127:$BP$138,2,FALSE)","v":0},{"$f":"'Budget FCFA'!AI106/VLOOKUP(AI$2,$BO$127:$BP$138,2,FALSE)","v":0},{"$f":"'Budget FCFA'!AJ106/VLOOKUP(AJ$2,$BO$127:$BP$138,2,FALSE)","v":0},{"$f":"'Budget FCFA'!AK106/VLOOKUP(AK$2,$BO$127:$BP$138,2,FALSE)","v":0},{"$f":"'Budget FCFA'!AL106/VLOOKUP(AL$2,$BO$127:$BP$138,2,FALSE)","v":0},{"$f":"'Budget FCFA'!AM106/VLOOKUP(AM$2,$BO$127:$BP$138,2,FALSE)","v":0},{"$f":"'Budget FCFA'!AN106/VLOOKUP(AN$2,$BO$127:$BP$138,2,FALSE)","v":0},{"$f":"'Budget FCFA'!AO106/VLOOKUP(AO$2,$BO$127:$BP$138,2,FALSE)","v":0},{"$f":"'Budget FCFA'!AP106/VLOOKUP(AP$2,$BO$127:$BP$138,2,FALSE)","v":0},{"$f":"'Budget FCFA'!#REF!/VLOOKUP(AQ$2,$BO$127:$BP$138,2,FALSE)","v":{"$error":"#REF!"}},{"$f":"'Budget FCFA'!#REF!/VLOOKUP(AR$2,$BO$127:$BP$138,2,FALSE)","v":{"$error":"#REF!"}},{"$f":"'Budget FCFA'!#REF!/VLOOKUP(AS$2,$BO$127:$BP$138,2,FALSE)","v":{"$error":"#REF!"}},{"$f":"'Budget FCFA'!#REF!/VLOOKUP(AT$2,$BO$127:$BP$138,2,FALSE)","v":{"$error":"#REF!"}},{"$f":"'Budget FCFA'!#REF!/VLOOKUP(AU$2,$BO$127:$BP$138,2,FALSE)","v":{"$error":"#REF!"}},{"$f":"'Budget FCFA'!#REF!/VLOOKUP(AV$2,$BO$127:$BP$138,2,FALSE)","v":{"$error":"#REF!"}},{"$f":"'Budget FCFA'!#REF!/VLOOKUP(AW$2,$BO$127:$BP$138,2,FALSE)","v":{"$error":"#REF!"}},{"$f":"'Budget FCFA'!#REF!/VLOOKUP(AX$2,$BO$127:$BP$138,2,FALSE)","v":{"$error":"#REF!"}},{"$f":"'Budget FCFA'!#REF!/VLOOKUP(AY$2,$BO$127:$BP$138,2,FALSE)","v":{"$error":"#REF!"}},{"$f":"'Budget FCFA'!#REF!/VLOOKUP(AZ$2,$BO$127:$BP$138,2,FALSE)","v":{"$error":"#REF!"}},{"$f":"'Budget FCFA'!#REF!/VLOOKUP(BA$2,$BO$127:$BP$138,2,FALSE)","v":{"$error":"#REF!"}},{"$f":"'Budget FCFA'!#REF!/VLOOKUP(BB$2,$BO$127:$BP$138,2,FALSE)","v":{"$error":"#REF!"}},{"$f":"'Budget FCFA'!#REF!/VLOOKUP(BC$2,$BO$127:$BP$138,2,FALSE)","v":{"$error":"#REF!"}},{"$f":"'Budget FCFA'!#REF!/VLOOKUP(BD$2,$BO$127:$BP$138,2,FALSE)","v":{"$error":"#REF!"}},{"$f":"'Budget FCFA'!#REF!/VLOOKUP(BE$2,$BO$127:$BP$138,2,FALSE)","v":{"$error":"#REF!"}},{"$f":"'Budget FCFA'!#REF!/VLOOKUP(BF$2,$BO$127:$BP$138,2,FALSE)","v":{"$error":"#REF!"}},{"$f":"'Budget FCFA'!#REF!/VLOOKUP(BG$2,$BO$127:$BP$138,2,FALSE)","v":{"$error":"#REF!"}},{"$f":"'Budget FCFA'!#REF!/VLOOKUP(BH$2,$BO$127:$BP$138,2,FALSE)","v":{"$error":"#REF!"}},{"$f":"'Budget FCFA'!#REF!/VLOOKUP(BI$2,$BO$127:$BP$138,2,FALSE)","v":{"$error":"#REF!"}},{"$f":"'Budget FCFA'!#REF!/VLOOKUP(BJ$2,$BO$127:$BP$138,2,FALSE)","v":{"$error":"#REF!"}},{"$error":"#REF!"},{"$f":"BK106-'Budget FCFA'!#REF!","v":{"$error":"#REF!"}}]
["WEBPUSEA","LIBREVILLE","Jeu concours",{"$f":"'Budget FCFA'!D107/VLOOKUP(D$2,$BO$127:$BP$138,2,FALSE)","v":0},{"$f":"'Budget FCFA'!E107/VLOOKUP(E$2,$BO$127:$BP$138,2,FALSE)","v":0},{"$f":"'Budget FCFA'!F107/VLOOKUP(F$2,$BO$127:$BP$138,2,FALSE)","v":0},{"$f":"'Budget FCFA'!G107/VLOOKUP(G$2,$BO$127:$BP$138,2,FALSE)","v":0},{"$f":"'Budget FCFA'!H107/VLOOKUP(H$2,$BO$127:$BP$138,2,FALSE)","v":0},{"$f":"'Budget FCFA'!I107/VLOOKUP(I$2,$BO$127:$BP$138,2,FALSE)","v":0},{"$f":"'Budget FCFA'!J107/VLOOKUP(J$2,$BO$127:$BP$138,2,FALSE)","v":0},{"$f":"'Budget FCFA'!K107/VLOOKUP(K$2,$BO$127:$BP$138,2,FALSE)","v":0},{"$f":"'Budget FCFA'!L107/VLOOKUP(L$2,$BO$127:$BP$138,2,FALSE)","v":0},{"$f":"'Budget FCFA'!M107/VLOOKUP(M$2,$BO$127:$BP$138,2,FALSE)","v":0},{"$f":"'Budget FCFA'!N107/VLOOKUP(N$2,$BO$127:$BP$138,2,FALSE)","v":0},{"$f":"'Budget FCFA'!O107/VLOOKUP(O$2,$BO$127:$BP$138,2,FALSE)","v":0},{"$f":"'Budget FCFA'!P107/VLOOKUP(P$2,$BO$127:$BP$138,2,FALSE)","v":0},{"$f":"'Budget FCFA'!Q107/VLOOKUP(Q$2,$BO$127:$BP$138,2,FALSE)","v":0},{"$f":"'Budget FCFA'!R107/VLOOKUP(R$2,$BO$127:$BP$138,2,FALSE)","v":0},{"$f":"'Budget FCFA'!S107/VLOOKUP(S$2,$BO$127:$BP$138,2,FALSE)","v":0},{"$f":"'Budget FCFA'!T107/VLOOKUP(T$2,$BO$127:$BP$138,2,FALSE)","v":0},{"$f":"'Budget FCFA'!U107/VLOOKUP(U$2,$BO$127:$BP$138,2,FALSE)","v":0},{"$f":"'Budget FCFA'!V107/VLOOKUP(V$2,$BO$127:$BP$138,2,FALSE)","v":0},{"$f":"'Budget FCFA'!W107/VLOOKUP(W$2,$BO$127:$BP$138,2,FALSE)","v":0},{"$f":"'Budget FCFA'!X107/VLOOKUP(X$2,$BO$127:$BP$138,2,FALSE)","v":0},{"$f":"'Budget FCFA'!Y107/VLOOKUP(Y$2,$BO$127:$BP$138,2,FALSE)","v":0},{"$f":"'Budget FCFA'!Z107/VLOOKUP(Z$2,$BO$127:$BP$138,2,FALSE)","v":0},{"$f":"'Budget FCFA'!AA107/VLOOKUP(AA$2,$BO$127:$BP$138,2,FALSE)","v":0},{"$f":"'Budget FCFA'!AB107/VLOOKUP(AB$2,$BO$127:$BP$138,2,FALSE)","v":0},{"$f":"'Budget FCFA'!AC107/VLOOKUP(AC$2,$BO$127:$BP$138,2,FALSE)","v":0},{"$f":"'Budget FCFA'!AD107/VLOOKUP(AD$2,$BO$127:$BP$138,2,FALSE)","v":0},{"$f":"'Budget FCFA'!AE107/VLOOKUP(AE$2,$BO$127:$BP$138,2,FALSE)","v":0},{"$f":"'Budget FCFA'!AF107/VLOOKUP(AF$2,$BO$127:$BP$138,2,FALSE)","v":0},{"$f":"'Budget FCFA'!AG107/VLOOKUP(AG$2,$BO$127:$BP$138,2,FALSE)","v":0},{"$f":"'Budget FCFA'!AH107/VLOOKUP(AH$2,$BO$127:$BP$138,2,FALSE)","v":0},{"$f":"'Budget FCFA'!AI107/VLOOKUP(AI$2,$BO$127:$BP$138,2,FALSE)","v":0},{"$f":"'Budget FCFA'!AJ107/VLOOKUP(AJ$2,$BO$127:$BP$138,2,FALSE)","v":0},{"$f":"'Budget FCFA'!AK107/VLOOKUP(AK$2,$BO$127:$BP$138,2,FALSE)","v":0},{"$f":"'Budget FCFA'!AL107/VLOOKUP(AL$2,$BO$127:$BP$138,2,FALSE)","v":0},{"$f":"'Budget FCFA'!AM107/VLOOKUP(AM$2,$BO$127:$BP$138,2,FALSE)","v":0},{"$f":"'Budget FCFA'!AN107/VLOOKUP(AN$2,$BO$127:$BP$138,2,FALSE)","v":0},{"$f":"'Budget FCFA'!AO107/VLOOKUP(AO$2,$BO$127:$BP$138,2,FALSE)","v":0},{"$f":"'Budget FCFA'!AP107/VLOOKUP(AP$2,$BO$127:$BP$138,2,FALSE)","v":0},{"$f":"'Budget FCFA'!#REF!/VLOOKUP(AQ$2,$BO$127:$BP$138,2,FALSE)","v":{"$error":"#REF!"}},{"$f":"'Budget FCFA'!#REF!/VLOOKUP(AR$2,$BO$127:$BP$138,2,FALSE)","v":{"$error":"#REF!"}},{"$f":"'Budget FCFA'!#REF!/VLOOKUP(AS$2,$BO$127:$BP$138,2,FALSE)","v":{"$error":"#REF!"}},{"$f":"'Budget FCFA'!#REF!/VLOOKUP(AT$2,$BO$127:$BP$138,2,FALSE)","v":{"$error":"#REF!"}},{"$f":"'Budget FCFA'!#REF!/VLOOKUP(AU$2,$BO$127:$BP$138,2,FALSE)","v":{"$error":"#REF!"}},{"$f":"'Budget FCFA'!#REF!/VLOOKUP(AV$2,$BO$127:$BP$138,2,FALSE)","v":{"$error":"#REF!"}},{"$f":"'Budget FCFA'!#REF!/VLOOKUP(AW$2,$BO$127:$BP$138,2,FALSE)","v":{"$error":"#REF!"}},{"$f":"'Budget FCFA'!#REF!/VLOOKUP(AX$2,$BO$127:$BP$138,2,FALSE)","v":{"$error":"#REF!"}},{"$f":"'Budget FCFA'!#REF!/VLOOKUP(AY$2,$BO$127:$BP$138,2,FALSE)","v":{"$error":"#REF!"}},{"$f":"'Budget FCFA'!#REF!/VLOOKUP(AZ$2,$BO$127:$BP$138,2,FALSE)","v":{"$error":"#REF!"}},{"$f":"'Budget FCFA'!#REF!/VLOOKUP(BA$2,$BO$127:$BP$138,2,FALSE)","v":{"$error":"#REF!"}},{"$f":"'Budget FCFA'!#REF!/VLOOKUP(BB$2,$BO$127:$BP$138,2,FALSE)","v":{"$error":"#REF!"}},{"$f":"'Budget FCFA'!#REF!/VLOOKUP(BC$2,$BO$127:$BP$138,2,FALSE)","v":{"$error":"#REF!"}},{"$f":"'Budget FCFA'!#REF!/VLOOKUP(BD$2,$BO$127:$BP$138,2,FALSE)","v":{"$error":"#REF!"}},{"$f":"'Budget FCFA'!#REF!/VLOOKUP(BE$2,$BO$127:$BP$138,2,FALSE)","v":{"$error":"#REF!"}},{"$f":"'Budget FCFA'!#REF!/VLOOKUP(BF$2,$BO$127:$BP$138,2,FALSE)","v":{"$error":"#REF!"}},{"$f":"'Budget FCFA'!#REF!/VLOOKUP(BG$2,$BO$127:$BP$138,2,FALSE)","v":{"$error":"#REF!"}},{"$f":"'Budget FCFA'!#REF!/VLOOKUP(BH$2,$BO$127:$BP$138,2,FALSE)","v":{"$error":"#REF!"}},{"$f":"'Budget FCFA'!#REF!/VLOOKUP(BI$2,$BO$127:$BP$138,2,FALSE)","v":{"$error":"#REF!"}},{"$f":"'Budget FCFA'!#REF!/VLOOKUP(BJ$2,$BO$127:$BP$138,2,FALSE)","v":{"$error":"#REF!"}},{"$error":"#REF!"},{"$f":"BK107-'Budget FCFA'!#REF!","v":{"$error":"#REF!"}}]
["WEBPUSEA","DOUALA","Jeu concours",{"$f":"'Budget FCFA'!D108/VLOOKUP(D$2,$BO$127:$BP$138,2,FALSE)","v":0},{"$f":"'Budget FCFA'!E108/VLOOKUP(E$2,$BO$127:$BP$138,2,FALSE)","v":0},{"$f":"'Budget FCFA'!F108/VLOOKUP(F$2,$BO$127:$BP$138,2,FALSE)","v":0},{"$f":"'Budget FCFA'!G108/VLOOKUP(G$2,$BO$127:$BP$138,2,FALSE)","v":0},{"$f":"'Budget FCFA'!H108/VLOOKUP(H$2,$BO$127:$BP$138,2,FALSE)","v":0},{"$f":"'Budget FCFA'!I108/VLOOKUP(I$2,$BO$127:$BP$138,2,FALSE)","v":0},{"$f":"'Budget FCFA'!J108/VLOOKUP(J$2,$BO$127:$BP$138,2,FALSE)","v":0},{"$f":"'Budget FCFA'!K108/VLOOKUP(K$2,$BO$127:$BP$138,2,FALSE)","v":0},{"$f":"'Budget FCFA'!L108/VLOOKUP(L$2,$BO$127:$BP$138,2,FALSE)","v":0},{"$f":"'Budget FCFA'!M108/VLOOKUP(M$2,$BO$127:$BP$138,2,FALSE)","v":0},{"$f":"'Budget FCFA'!N108/VLOOKUP(N$2,$BO$127:$BP$138,2,FALSE)","v":0},{"$f":"'Budget FCFA'!O108/VLOOKUP(O$2,$BO$127:$BP$138,2,FALSE)","v":0},{"$f":"'Budget FCFA'!P108/VLOOKUP(P$2,$BO$127:$BP$138,2,FALSE)","v":0},{"$f":"'Budget FCFA'!Q108/VLOOKUP(Q$2,$BO$127:$BP$138,2,FALSE)","v":0},{"$f":"'Budget FCFA'!R108/VLOOKUP(R$2,$BO$127:$BP$138,2,FALSE)","v":0},{"$f":"'Budget FCFA'!S108/VLOOKUP(S$2,$BO$127:$BP$138,2,FALSE)","v":0},{"$f":"'Budget FCFA'!T108/VLOOKUP(T$2,$BO$127:$BP$138,2,FALSE)","v":0},{"$f":"'Budget FCFA'!U108/VLOOKUP(U$2,$BO$127:$BP$138,2,FALSE)","v":0},{"$f":"'Budget FCFA'!V108/VLOOKUP(V$2,$BO$127:$BP$138,2,FALSE)","v":0},{"$f":"'Budget FCFA'!W108/VLOOKUP(W$2,$BO$127:$BP$138,2,FALSE)","v":0},{"$f":"'Budget FCFA'!X108/VLOOKUP(X$2,$BO$127:$BP$138,2,FALSE)","v":0},{"$f":"'Budget FCFA'!Y108/VLOOKUP(Y$2,$BO$127:$BP$138,2,FALSE)","v":0},{"$f":"'Budget FCFA'!Z108/VLOOKUP(Z$2,$BO$127:$BP$138,2,FALSE)","v":0},{"$f":"'Budget FCFA'!AA108/VLOOKUP(AA$2,$BO$127:$BP$138,2,FALSE)","v":0},{"$f":"'Budget FCFA'!AB108/VLOOKUP(AB$2,$BO$127:$BP$138,2,FALSE)","v":0},{"$f":"'Budget FCFA'!AC108/VLOOKUP(AC$2,$BO$127:$BP$138,2,FALSE)","v":0},{"$f":"'Budget FCFA'!AD108/VLOOKUP(AD$2,$BO$127:$BP$138,2,FALSE)","v":0},{"$f":"'Budget FCFA'!AE108/VLOOKUP(AE$2,$BO$127:$BP$138,2,FALSE)","v":0},{"$f":"'Budget FCFA'!AF108/VLOOKUP(AF$2,$BO$127:$BP$138,2,FALSE)","v":0},{"$f":"'Budget FCFA'!AG108/VLOOKUP(AG$2,$BO$127:$BP$138,2,FALSE)","v":0},{"$f":"'Budget FCFA'!AH108/VLOOKUP(AH$2,$BO$127:$BP$138,2,FALSE)","v":0},{"$f":"'Budget FCFA'!AI108/VLOOKUP(AI$2,$BO$127:$BP$138,2,FALSE)","v":0},{"$f":"'Budget FCFA'!AJ108/VLOOKUP(AJ$2,$BO$127:$BP$138,2,FALSE)","v":0},{"$f":"'Budget FCFA'!AK108/VLOOKUP(AK$2,$BO$127:$BP$138,2,FALSE)","v":0},{"$f":"'Budget FCFA'!AL108/VLOOKUP(AL$2,$BO$127:$BP$138,2,FALSE)","v":0},{"$f":"'Budget FCFA'!AM108/VLOOKUP(AM$2,$BO$127:$BP$138,2,FALSE)","v":0},{"$f":"'Budget FCFA'!AN108/VLOOKUP(AN$2,$BO$127:$BP$138,2,FALSE)","v":0},{"$f":"'Budget FCFA'!AO108/VLOOKUP(AO$2,$BO$127:$BP$138,2,FALSE)","v":0},{"$f":"'Budget FCFA'!AP108/VLOOKUP(AP$2,$BO$127:$BP$138,2,FALSE)","v":0},{"$f":"'Budget FCFA'!#REF!/VLOOKUP(AQ$2,$BO$127:$BP$138,2,FALSE)","v":{"$error":"#REF!"}},{"$f":"'Budget FCFA'!#REF!/VLOOKUP(AR$2,$BO$127:$BP$138,2,FALSE)","v":{"$error":"#REF!"}},{"$f":"'Budget FCFA'!#REF!/VLOOKUP(AS$2,$BO$127:$BP$138,2,FALSE)","v":{"$error":"#REF!"}},{"$f":"'Budget FCFA'!#REF!/VLOOKUP(AT$2,$BO$127:$BP$138,2,FALSE)","v":{"$error":"#REF!"}},{"$f":"'Budget FCFA'!#REF!/VLOOKUP(AU$2,$BO$127:$BP$138,2,FALSE)","v":{"$error":"#REF!"}},{"$f":"'Budget FCFA'!#REF!/VLOOKUP(AV$2,$BO$127:$BP$138,2,FALSE)","v":{"$error":"#REF!"}},{"$f":"'Budget FCFA'!#REF!/VLOOKUP(AW$2,$BO$127:$BP$138,2,FALSE)","v":{"$error":"#REF!"}},{"$f":"'Budget FCFA'!#REF!/VLOOKUP(AX$2,$BO$127:$BP$138,2,FALSE)","v":{"$error":"#REF!"}},{"$f":"'Budget FCFA'!#REF!/VLOOKUP(AY$2,$BO$127:$BP$138,2,FALSE)","v":{"$error":"#REF!"}},{"$f":"'Budget FCFA'!#REF!/VLOOKUP(AZ$2,$BO$127:$BP$138,2,FALSE)","v":{"$error":"#REF!"}},{"$f":"'Budget FCFA'!#REF!/VLOOKUP(BA$2,$BO$127:$BP$138,2,FALSE)","v":{"$error":"#REF!"}},{"$f":"'Budget FCFA'!#REF!/VLOOKUP(BB$2,$BO$127:$BP$138,2,FALSE)","v":{"$error":"#REF!"}},{"$f":"'Budget FCFA'!#REF!/VLOOKUP(BC$2,$BO$127:$BP$138,2,FALSE)","v":{"$error":"#REF!"}},{"$f":"'Budget FCFA'!#REF!/VLOOKUP(BD$2,$BO$127:$BP$138,2,FALSE)","v":{"$error":"#REF!"}},{"$f":"'Budget FCFA'!#REF!/VLOOKUP(BE$2,$BO$127:$BP$138,2,FALSE)","v":{"$error":"#REF!"}},{"$f":"'Budget FCFA'!#REF!/VLOOKUP(BF$2,$BO$127:$BP$138,2,FALSE)","v":{"$error":"#REF!"}},{"$f":"'Budget FCFA'!#REF!/VLOOKUP(BG$2,$BO$127:$BP$138,2,FALSE)","v":{"$error":"#REF!"}},{"$f":"'Budget FCFA'!#REF!/VLOOKUP(BH$2,$BO$127:$BP$138,2,FALSE)","v":{"$error":"#REF!"}},{"$f":"'Budget FCFA'!#REF!/VLOOKUP(BI$2,$BO$127:$BP$138,2,FALSE)","v":{"$error":"#REF!"}},{"$f":"'Budget FCFA'!#REF!/VLOOKUP(BJ$2,$BO$127:$BP$138,2,FALSE)","v":{"$error":"#REF!"}},{"$error":"#REF!"},{"$f":"BK108-'Budget FCFA'!#REF!","v":{"$error":"#REF!"}}]
["WEBPUSEA","TOTAL","Total Jeu concours",{"$f":"'Budget FCFA'!D109/VLOOKUP(D$2,$BO$127:$BP$138,2,FALSE)","v":0},{"$f":"'Budget FCFA'!E109/VLOOKUP(E$2,$BO$127:$BP$138,2,FALSE)","v":0},{"$f":"'Budget FCFA'!F109/VLOOKUP(F$2,$BO$127:$BP$138,2,FALSE)","v":0},{"$f":"'Budget FCFA'!G109/VLOOKUP(G$2,$BO$127:$BP$138,2,FALSE)","v":0},{"$f":"'Budget FCFA'!H109/VLOOKUP(H$2,$BO$127:$BP$138,2,FALSE)","v":0},{"$f":"'Budget FCFA'!I109/VLOOKUP(I$2,$BO$127:$BP$138,2,FALSE)","v":0},{"$f":"'Budget FCFA'!J109/VLOOKUP(J$2,$BO$127:$BP$138,2,FALSE)","v":0},{"$f":"'Budget FCFA'!K109/VLOOKUP(K$2,$BO$127:$BP$138,2,FALSE)","v":0},{"$f":"'Budget FCFA'!L109/VLOOKUP(L$2,$BO$127:$BP$138,2,FALSE)","v":0},{"$f":"'Budget FCFA'!M109/VLOOKUP(M$2,$BO$127:$BP$138,2,FALSE)","v":0},{"$f":"'Budget FCFA'!N109/VLOOKUP(N$2,$BO$127:$BP$138,2,FALSE)","v":0},{"$f":"'Budget FCFA'!O109/VLOOKUP(O$2,$BO$127:$BP$138,2,FALSE)","v":0},{"$f":"'Budget FCFA'!P109/VLOOKUP(P$2,$BO$127:$BP$138,2,FALSE)","v":0},{"$f":"'Budget FCFA'!Q109/VLOOKUP(Q$2,$BO$127:$BP$138,2,FALSE)","v":0},{"$f":"'Budget FCFA'!R109/VLOOKUP(R$2,$BO$127:$BP$138,2,FALSE)","v":0},{"$f":"'Budget FCFA'!S109/VLOOKUP(S$2,$BO$127:$BP$138,2,FALSE)","v":0},{"$f":"'Budget FCFA'!T109/VLOOKUP(T$2,$BO$127:$BP$138,2,FALSE)","v":0},{"$f":"'Budget FCFA'!U109/VLOOKUP(U$2,$BO$127:$BP$138,2,FALSE)","v":0},{"$f":"'Budget FCFA'!V109/VLOOKUP(V$2,$BO$127:$BP$138,2,FALSE)","v":0},{"$f":"'Budget FCFA'!W109/VLOOKUP(W$2,$BO$127:$BP$138,2,FALSE)","v":0},{"$f":"'Budget FCFA'!X109/VLOOKUP(X$2,$BO$127:$BP$138,2,FALSE)","v":0},{"$f":"'Budget FCFA'!Y109/VLOOKUP(Y$2,$BO$127:$BP$138,2,FALSE)","v":0},{"$f":"'Budget FCFA'!Z109/VLOOKUP(Z$2,$BO$127:$BP$138,2,FALSE)","v":0},{"$f":"'Budget FCFA'!AA109/VLOOKUP(AA$2,$BO$127:$BP$138,2,FALSE)","v":0},{"$f":"'Budget FCFA'!AB109/VLOOKUP(AB$2,$BO$127:$BP$138,2,FALSE)","v":0},{"$f":"'Budget FCFA'!AC109/VLOOKUP(AC$2,$BO$127:$BP$138,2,FALSE)","v":0},{"$f":"'Budget FCFA'!AD109/VLOOKUP(AD$2,$BO$127:$BP$138,2,FALSE)","v":0},{"$f":"'Budget FCFA'!AE109/VLOOKUP(AE$2,$BO$127:$BP$138,2,FALSE)","v":0},{"$f":"'Budget FCFA'!AF109/VLOOKUP(AF$2,$BO$127:$BP$138,2,FALSE)","v":0},{"$f":"'Budget FCFA'!AG109/VLOOKUP(AG$2,$BO$127:$BP$138,2,FALSE)","v":0},{"$f":"'Budget FCFA'!AH109/VLOOKUP(AH$2,$BO$127:$BP$138,2,FALSE)","v":0},{"$f":"'Budget FCFA'!AI109/VLOOKUP(AI$2,$BO$127:$BP$138,2,FALSE)","v":0},{"$f":"'Budget FCFA'!AJ109/VLOOKUP(AJ$2,$BO$127:$BP$138,2,FALSE)","v":0},{"$f":"'Budget FCFA'!AK109/VLOOKUP(AK$2,$BO$127:$BP$138,2,FALSE)","v":0},{"$f":"'Budget FCFA'!AL109/VLOOKUP(AL$2,$BO$127:$BP$138,2,FALSE)","v":0},{"$f":"'Budget FCFA'!AM109/VLOOKUP(AM$2,$BO$127:$BP$138,2,FALSE)","v":0},{"$f":"'Budget FCFA'!AN109/VLOOKUP(AN$2,$BO$127:$BP$138,2,FALSE)","v":0},{"$f":"'Budget FCFA'!AO109/VLOOKUP(AO$2,$BO$127:$BP$138,2,FALSE)","v":0},{"$f":"'Budget FCFA'!AP109/VLOOKUP(AP$2,$BO$127:$BP$138,2,FALSE)","v":0},{"$f":"'Budget FCFA'!#REF!/VLOOKUP(AQ$2,$BO$127:$BP$138,2,FALSE)","v":{"$error":"#REF!"}},{"$f":"'Budget FCFA'!#REF!/VLOOKUP(AR$2,$BO$127:$BP$138,2,FALSE)","v":{"$error":"#REF!"}},{"$f":"'Budget FCFA'!#REF!/VLOOKUP(AS$2,$BO$127:$BP$138,2,FALSE)","v":{"$error":"#REF!"}},{"$f":"'Budget FCFA'!#REF!/VLOOKUP(AT$2,$BO$127:$BP$138,2,FALSE)","v":{"$error":"#REF!"}},{"$f":"'Budget FCFA'!#REF!/VLOOKUP(AU$2,$BO$127:$BP$138,2,FALSE)","v":{"$error":"#REF!"}},{"$f":"'Budget FCFA'!#REF!/VLOOKUP(AV$2,$BO$127:$BP$138,2,FALSE)","v":{"$error":"#REF!"}},{"$f":"'Budget FCFA'!#REF!/VLOOKUP(AW$2,$BO$127:$BP$138,2,FALSE)","v":{"$error":"#REF!"}},{"$f":"'Budget FCFA'!#REF!/VLOOKUP(AX$2,$BO$127:$BP$138,2,FALSE)","v":{"$error":"#REF!"}},{"$f":"'Budget FCFA'!#REF!/VLOOKUP(AY$2,$BO$127:$BP$138,2,FALSE)","v":{"$error":"#REF!"}},{"$f":"'Budget FCFA'!#REF!/VLOOKUP(AZ$2,$BO$127:$BP$138,2,FALSE)","v":{"$error":"#REF!"}},{"$f":"'Budget FCFA'!#REF!/VLOOKUP(BA$2,$BO$127:$BP$138,2,FALSE)","v":{"$error":"#REF!"}},{"$f":"'Budget FCFA'!#REF!/VLOOKUP(BB$2,$BO$127:$BP$138,2,FALSE)","v":{"$error":"#REF!"}},{"$f":"'Budget FCFA'!#REF!/VLOOKUP(BC$2,$BO$127:$BP$138,2,FALSE)","v":{"$error":"#REF!"}},{"$f":"'Budget FCFA'!#REF!/VLOOKUP(BD$2,$BO$127:$BP$138,2,FALSE)","v":{"$error":"#REF!"}},{"$f":"'Budget FCFA'!#REF!/VLOOKUP(BE$2,$BO$127:$BP$138,2,FALSE)","v":{"$error":"#REF!"}},{"$f":"'Budget FCFA'!#REF!/VLOOKUP(BF$2,$BO$127:$BP$138,2,FALSE)","v":{"$error":"#REF!"}},{"$f":"'Budget FCFA'!#REF!/VLOOKUP(BG$2,$BO$127:$BP$138,2,FALSE)","v":{"$error":"#REF!"}},{"$f":"'Budget FCFA'!#REF!/VLOOKUP(BH$2,$BO$127:$BP$138,2,FALSE)","v":{"$error":"#REF!"}},{"$f":"'Budget FCFA'!#REF!/VLOOKUP(BI$2,$BO$127:$BP$138,2,FALSE)","v":{"$error":"#REF!"}},{"$f":"'Budget FCFA'!#REF!/VLOOKUP(BJ$2,$BO$127:$BP$138,2,FALSE)","v":{"$error":"#REF!"}},{"$error":"#REF!"},{"$f":"BK109-'Budget FCFA'!#REF!","v":{"$error":"#REF!"}}]
["WEBPUSEA","ABIDJAN","HA mots clés ",{"$f":"'Budget FCFA'!D110/VLOOKUP(D$2,$BO$127:$BP$138,2,FALSE)","v":0},{"$f":"'Budget FCFA'!E110/VLOOKUP(E$2,$BO$127:$BP$138,2,FALSE)","v":0},{"$f":"'Budget FCFA'!F110/VLOOKUP(F$2,$BO$127:$BP$138,2,FALSE)","v":0},{"$f":"'Budget FCFA'!G110/VLOOKUP(G$2,$BO$127:$BP$138,2,FALSE)","v":0},{"$f":"'Budget FCFA'!H110/VLOOKUP(H$2,$BO$127:$BP$138,2,FALSE)","v":0},{"$f":"'Budget FCFA'!I110/VLOOKUP(I$2,$BO$127:$BP$138,2,FALSE)","v":0},{"$f":"'Budget FCFA'!J110/VLOOKUP(J$2,$BO$127:$BP$138,2,FALSE)","v":0},{"$f":"'Budget FCFA'!K110/VLOOKUP(K$2,$BO$127:$BP$138,2,FALSE)","v":0},{"$f":"'Budget FCFA'!L110/VLOOKUP(L$2,$BO$127:$BP$138,2,FALSE)","v":0},{"$f":"'Budget FCFA'!M110/VLOOKUP(M$2,$BO$127:$BP$138,2,FALSE)","v":0},{"$f":"'Budget FCFA'!N110/VLOOKUP(N$2,$BO$127:$BP$138,2,FALSE)","v":0},{"$f":"'Budget FCFA'!O110/VLOOKUP(O$2,$BO$127:$BP$138,2,FALSE)","v":0},{"$f":"'Budget FCFA'!P110/VLOOKUP(P$2,$BO$127:$BP$138,2,FALSE)","v":0},{"$f":"'Budget FCFA'!Q110/VLOOKUP(Q$2,$BO$127:$BP$138,2,FALSE)","v":0},{"$f":"'Budget FCFA'!R110/VLOOKUP(R$2,$BO$127:$BP$138,2,FALSE)","v":0},{"$f":"'Budget FCFA'!S110/VLOOKUP(S$2,$BO$127:$BP$138,2,FALSE)","v":0},{"$f":"'Budget FCFA'!T110/VLOOKUP(T$2,$BO$127:$BP$138,2,FALSE)","v":0},{"$f":"'Budget FCFA'!U110/VLOOKUP(U$2,$BO$127:$BP$138,2,FALSE)","v":0},{"$f":"'Budget FCFA'!V110/VLOOKUP(V$2,$BO$127:$BP$138,2,FALSE)","v":0},{"$f":"'Budget FCFA'!W110/VLOOKUP(W$2,$BO$127:$BP$138,2,FALSE)","v":0},{"$f":"'Budget FCFA'!X110/VLOOKUP(X$2,$BO$127:$BP$138,2,FALSE)","v":0},{"$f":"'Budget FCFA'!Y110/VLOOKUP(Y$2,$BO$127:$BP$138,2,FALSE)","v":0},{"$f":"'Budget FCFA'!Z110/VLOOKUP(Z$2,$BO$127:$BP$138,2,FALSE)","v":0},{"$f":"'Budget FCFA'!AA110/VLOOKUP(AA$2,$BO$127:$BP$138,2,FALSE)","v":0},{"$f":"'Budget FCFA'!AB110/VLOOKUP(AB$2,$BO$127:$BP$138,2,FALSE)","v":0},{"$f":"'Budget FCFA'!AC110/VLOOKUP(AC$2,$BO$127:$BP$138,2,FALSE)","v":0},{"$f":"'Budget FCFA'!AD110/VLOOKUP(AD$2,$BO$127:$BP$138,2,FALSE)","v":0},{"$f":"'Budget FCFA'!AE110/VLOOKUP(AE$2,$BO$127:$BP$138,2,FALSE)","v":0},{"$f":"'Budget FCFA'!AF110/VLOOKUP(AF$2,$BO$127:$BP$138,2,FALSE)","v":0},{"$f":"'Budget FCFA'!AG110/VLOOKUP(AG$2,$BO$127:$BP$138,2,FALSE)","v":0},{"$f":"'Budget FCFA'!AH110/VLOOKUP(AH$2,$BO$127:$BP$138,2,FALSE)","v":0},{"$f":"'Budget FCFA'!AI110/VLOOKUP(AI$2,$BO$127:$BP$138,2,FALSE)","v":0},{"$f":"'Budget FCFA'!AJ110/VLOOKUP(AJ$2,$BO$127:$BP$138,2,FALSE)","v":0},{"$f":"'Budget FCFA'!AK110/VLOOKUP(AK$2,$BO$127:$BP$138,2,FALSE)","v":0},{"$f":"'Budget FCFA'!AL110/VLOOKUP(AL$2,$BO$127:$BP$138,2,FALSE)","v":0},{"$f":"'Budget FCFA'!AM110/VLOOKUP(AM$2,$BO$127:$BP$138,2,FALSE)","v":0},{"$f":"'Budget FCFA'!AN110/VLOOKUP(AN$2,$BO$127:$BP$138,2,FALSE)","v":0},{"$f":"'Budget FCFA'!AO110/VLOOKUP(AO$2,$BO$127:$BP$138,2,FALSE)","v":0},{"$f":"'Budget FCFA'!AP110/VLOOKUP(AP$2,$BO$127:$BP$138,2,FALSE)","v":0},{"$f":"'Budget FCFA'!#REF!/VLOOKUP(AQ$2,$BO$127:$BP$138,2,FALSE)","v":{"$error":"#REF!"}},{"$f":"'Budget FCFA'!#REF!/VLOOKUP(AR$2,$BO$127:$BP$138,2,FALSE)","v":{"$error":"#REF!"}},{"$f":"'Budget FCFA'!#REF!/VLOOKUP(AS$2,$BO$127:$BP$138,2,FALSE)","v":{"$error":"#REF!"}},{"$f":"'Budget FCFA'!#REF!/VLOOKUP(AT$2,$BO$127:$BP$138,2,FALSE)","v":{"$error":"#REF!"}},{"$f":"'Budget FCFA'!#REF!/VLOOKUP(AU$2,$BO$127:$BP$138,2,FALSE)","v":{"$error":"#REF!"}},{"$f":"'Budget FCFA'!#REF!/VLOOKUP(AV$2,$BO$127:$BP$138,2,FALSE)","v":{"$error":"#REF!"}},{"$f":"'Budget FCFA'!#REF!/VLOOKUP(AW$2,$BO$127:$BP$138,2,FALSE)","v":{"$error":"#REF!"}},{"$f":"'Budget FCFA'!#REF!/VLOOKUP(AX$2,$BO$127:$BP$138,2,FALSE)","v":{"$error":"#REF!"}},{"$f":"'Budget FCFA'!#REF!/VLOOKUP(AY$2,$BO$127:$BP$138,2,FALSE)","v":{"$error":"#REF!"}},{"$f":"'Budget FCFA'!#REF!/VLOOKUP(AZ$2,$BO$127:$BP$138,2,FALSE)","v":{"$error":"#REF!"}},{"$f":"'Budget FCFA'!#REF!/VLOOKUP(BA$2,$BO$127:$BP$138,2,FALSE)","v":{"$error":"#REF!"}},{"$f":"'Budget FCFA'!#REF!/VLOOKUP(BB$2,$BO$127:$BP$138,2,FALSE)","v":{"$error":"#REF!"}},{"$f":"'Budget FCFA'!#REF!/VLOOKUP(BC$2,$BO$127:$BP$138,2,FALSE)","v":{"$error":"#REF!"}},{"$f":"'Budget FCFA'!#REF!/VLOOKUP(BD$2,$BO$127:$BP$138,2,FALSE)","v":{"$error":"#REF!"}},{"$f":"'Budget FCFA'!#REF!/VLOOKUP(BE$2,$BO$127:$BP$138,2,FALSE)","v":{"$error":"#REF!"}},{"$f":"'Budget FCFA'!#REF!/VLOOKUP(BF$2,$BO$127:$BP$138,2,FALSE)","v":{"$error":"#REF!"}},{"$f":"'Budget FCFA'!#REF!/VLOOKUP(BG$2,$BO$127:$BP$138,2,FALSE)","v":{"$error":"#REF!"}},{"$f":"'Budget FCFA'!#REF!/VLOOKUP(BH$2,$BO$127:$BP$138,2,FALSE)","v":{"$error":"#REF!"}},{"$f":"'Budget FCFA'!#REF!/VLOOKUP(BI$2,$BO$127:$BP$138,2,FALSE)","v":{"$error":"#REF!"}},{"$f":"'Budget FCFA'!#REF!/VLOOKUP(BJ$2,$BO$127:$BP$138,2,FALSE)","v":{"$error":"#REF!"}},{"$error":"#REF!"},{"$f":"BK110-'Budget FCFA'!#REF!","v":{"$error":"#REF!"}}]
["WEBPUSEA","BRAZZA","HA mots clés ",{"$f":"'Budget FCFA'!D111/VLOOKUP(D$2,$BO$127:$BP$138,2,FALSE)","v":0},{"$f":"'Budget FCFA'!E111/VLOOKUP(E$2,$BO$127:$BP$138,2,FALSE)","v":0},{"$f":"'Budget FCFA'!F111/VLOOKUP(F$2,$BO$127:$BP$138,2,FALSE)","v":0},{"$f":"'Budget FCFA'!G111/VLOOKUP(G$2,$BO$127:$BP$138,2,FALSE)","v":0},{"$f":"'Budget FCFA'!H111/VLOOKUP(H$2,$BO$127:$BP$138,2,FALSE)","v":0},{"$f":"'Budget FCFA'!I111/VLOOKUP(I$2,$BO$127:$BP$138,2,FALSE)","v":0},{"$f":"'Budget FCFA'!J111/VLOOKUP(J$2,$BO$127:$BP$138,2,FALSE)","v":0},{"$f":"'Budget FCFA'!K111/VLOOKUP(K$2,$BO$127:$BP$138,2,FALSE)","v":0},{"$f":"'Budget FCFA'!L111/VLOOKUP(L$2,$BO$127:$BP$138,2,FALSE)","v":0},{"$f":"'Budget FCFA'!M111/VLOOKUP(M$2,$BO$127:$BP$138,2,FALSE)","v":0},{"$f":"'Budget FCFA'!N111/VLOOKUP(N$2,$BO$127:$BP$138,2,FALSE)","v":0},{"$f":"'Budget FCFA'!O111/VLOOKUP(O$2,$BO$127:$BP$138,2,FALSE)","v":0},{"$f":"'Budget FCFA'!P111/VLOOKUP(P$2,$BO$127:$BP$138,2,FALSE)","v":0},{"$f":"'Budget FCFA'!Q111/VLOOKUP(Q$2,$BO$127:$BP$138,2,FALSE)","v":0},{"$f":"'Budget FCFA'!R111/VLOOKUP(R$2,$BO$127:$BP$138,2,FALSE)","v":0},{"$f":"'Budget FCFA'!S111/VLOOKUP(S$2,$BO$127:$BP$138,2,FALSE)","v":0},{"$f":"'Budget FCFA'!T111/VLOOKUP(T$2,$BO$127:$BP$138,2,FALSE)","v":0},{"$f":"'Budget FCFA'!U111/VLOOKUP(U$2,$BO$127:$BP$138,2,FALSE)","v":0},{"$f":"'Budget FCFA'!V111/VLOOKUP(V$2,$BO$127:$BP$138,2,FALSE)","v":0},{"$f":"'Budget FCFA'!W111/VLOOKUP(W$2,$BO$127:$BP$138,2,FALSE)","v":0},{"$f":"'Budget FCFA'!X111/VLOOKUP(X$2,$BO$127:$BP$138,2,FALSE)","v":0},{"$f":"'Budget FCFA'!Y111/VLOOKUP(Y$2,$BO$127:$BP$138,2,FALSE)","v":0},{"$f":"'Budget FCFA'!Z111/VLOOKUP(Z$2,$BO$127:$BP$138,2,FALSE)","v":0},{"$f":"'Budget FCFA'!AA111/VLOOKUP(AA$2,$BO$127:$BP$138,2,FALSE)","v":0},{"$f":"'Budget FCFA'!AB111/VLOOKUP(AB$2,$BO$127:$BP$138,2,FALSE)","v":0},{"$f":"'Budget FCFA'!AC111/VLOOKUP(AC$2,$BO$127:$BP$138,2,FALSE)","v":0},{"$f":"'Budget FCFA'!AD111/VLOOKUP(AD$2,$BO$127:$BP$138,2,FALSE)","v":0},{"$f":"'Budget FCFA'!AE111/VLOOKUP(AE$2,$BO$127:$BP$138,2,FALSE)","v":0},{"$f":"'Budget FCFA'!AF111/VLOOKUP(AF$2,$BO$127:$BP$138,2,FALSE)","v":0},{"$f":"'Budget FCFA'!AG111/VLOOKUP(AG$2,$BO$127:$BP$138,2,FALSE)","v":0},{"$f":"'Budget FCFA'!AH111/VLOOKUP(AH$2,$BO$127:$BP$138,2,FALSE)","v":0},{"$f":"'Budget FCFA'!AI111/VLOOKUP(AI$2,$BO$127:$BP$138,2,FALSE)","v":0},{"$f":"'Budget FCFA'!AJ111/VLOOKUP(AJ$2,$BO$127:$BP$138,2,FALSE)","v":0},{"$f":"'Budget FCFA'!AK111/VLOOKUP(AK$2,$BO$127:$BP$138,2,FALSE)","v":0},{"$f":"'Budget FCFA'!AL111/VLOOKUP(AL$2,$BO$127:$BP$138,2,FALSE)","v":0},{"$f":"'Budget FCFA'!AM111/VLOOKUP(AM$2,$BO$127:$BP$138,2,FALSE)","v":0},{"$f":"'Budget FCFA'!AN111/VLOOKUP(AN$2,$BO$127:$BP$138,2,FALSE)","v":0},{"$f":"'Budget FCFA'!AO111/VLOOKUP(AO$2,$BO$127:$BP$138,2,FALSE)","v":0},{"$f":"'Budget FCFA'!AP111/VLOOKUP(AP$2,$BO$127:$BP$138,2,FALSE)","v":0},{"$f":"'Budget FCFA'!#REF!/VLOOKUP(AQ$2,$BO$127:$BP$138,2,FALSE)","v":{"$error":"#REF!"}},{"$f":"'Budget FCFA'!#REF!/VLOOKUP(AR$2,$BO$127:$BP$138,2,FALSE)","v":{"$error":"#REF!"}},{"$f":"'Budget FCFA'!#REF!/VLOOKUP(AS$2,$BO$127:$BP$138,2,FALSE)","v":{"$error":"#REF!"}},{"$f":"'Budget FCFA'!#REF!/VLOOKUP(AT$2,$BO$127:$BP$138,2,FALSE)","v":{"$error":"#REF!"}},{"$f":"'Budget FCFA'!#REF!/VLOOKUP(AU$2,$BO$127:$BP$138,2,FALSE)","v":{"$error":"#REF!"}},{"$f":"'Budget FCFA'!#REF!/VLOOKUP(AV$2,$BO$127:$BP$138,2,FALSE)","v":{"$error":"#REF!"}},{"$f":"'Budget FCFA'!#REF!/VLOOKUP(AW$2,$BO$127:$BP$138,2,FALSE)","v":{"$error":"#REF!"}},{"$f":"'Budget FCFA'!#REF!/VLOOKUP(AX$2,$BO$127:$BP$138,2,FALSE)","v":{"$error":"#REF!"}},{"$f":"'Budget FCFA'!#REF!/VLOOKUP(AY$2,$BO$127:$BP$138,2,FALSE)","v":{"$error":"#REF!"}},{"$f":"'Budget FCFA'!#REF!/VLOOKUP(AZ$2,$BO$127:$BP$138,2,FALSE)","v":{"$error":"#REF!"}},{"$f":"'Budget FCFA'!#REF!/VLOOKUP(BA$2,$BO$127:$BP$138,2,FALSE)","v":{"$error":"#REF!"}},{"$f":"'Budget FCFA'!#REF!/VLOOKUP(BB$2,$BO$127:$BP$138,2,FALSE)","v":{"$error":"#REF!"}},{"$f":"'Budget FCFA'!#REF!/VLOOKUP(BC$2,$BO$127:$BP$138,2,FALSE)","v":{"$error":"#REF!"}},{"$f":"'Budget FCFA'!#REF!/VLOOKUP(BD$2,$BO$127:$BP$138,2,FALSE)","v":{"$error":"#REF!"}},{"$f":"'Budget FCFA'!#REF!/VLOOKUP(BE$2,$BO$127:$BP$138,2,FALSE)","v":{"$error":"#REF!"}},{"$f":"'Budget FCFA'!#REF!/VLOOKUP(BF$2,$BO$127:$BP$138,2,FALSE)","v":{"$error":"#REF!"}},{"$f":"'Budget FCFA'!#REF!/VLOOKUP(BG$2,$BO$127:$BP$138,2,FALSE)","v":{"$error":"#REF!"}},{"$f":"'Budget FCFA'!#REF!/VLOOKUP(BH$2,$BO$127:$BP$138,2,FALSE)","v":{"$error":"#REF!"}},{"$f":"'Budget FCFA'!#REF!/VLOOKUP(BI$2,$BO$127:$BP$138,2,FALSE)","v":{"$error":"#REF!"}},{"$f":"'Budget FCFA'!#REF!/VLOOKUP(BJ$2,$BO$127:$BP$138,2,FALSE)","v":{"$error":"#REF!"}},{"$error":"#REF!"},{"$f":"BK111-'Budget FCFA'!#REF!","v":{"$error":"#REF!"}}]
["WEBPUSEA","DAKAR","HA mots clés ",{"$f":"'Budget FCFA'!D112/VLOOKUP(D$2,$BO$127:$BP$138,2,FALSE)","v":0},{"$f":"'Budget FCFA'!E112/VLOOKUP(E$2,$BO$127:$BP$138,2,FALSE)","v":0},{"$f":"'Budget FCFA'!F112/VLOOKUP(F$2,$BO$127:$BP$138,2,FALSE)","v":0},{"$f":"'Budget FCFA'!G112/VLOOKUP(G$2,$BO$127:$BP$138,2,FALSE)","v":0},{"$f":"'Budget FCFA'!H112/VLOOKUP(H$2,$BO$127:$BP$138,2,FALSE)","v":0},{"$f":"'Budget FCFA'!I112/VLOOKUP(I$2,$BO$127:$BP$138,2,FALSE)","v":0},{"$f":"'Budget FCFA'!J112/VLOOKUP(J$2,$BO$127:$BP$138,2,FALSE)","v":0},{"$f":"'Budget FCFA'!K112/VLOOKUP(K$2,$BO$127:$BP$138,2,FALSE)","v":0},{"$f":"'Budget FCFA'!L112/VLOOKUP(L$2,$BO$127:$BP$138,2,FALSE)","v":0},{"$f":"'Budget FCFA'!M112/VLOOKUP(M$2,$BO$127:$BP$138,2,FALSE)","v":0},{"$f":"'Budget FCFA'!N112/VLOOKUP(N$2,$BO$127:$BP$138,2,FALSE)","v":0},{"$f":"'Budget FCFA'!O112/VLOOKUP(O$2,$BO$127:$BP$138,2,FALSE)","v":0},{"$f":"'Budget FCFA'!P112/VLOOKUP(P$2,$BO$127:$BP$138,2,FALSE)","v":0},{"$f":"'Budget FCFA'!Q112/VLOOKUP(Q$2,$BO$127:$BP$138,2,FALSE)","v":0},{"$f":"'Budget FCFA'!R112/VLOOKUP(R$2,$BO$127:$BP$138,2,FALSE)","v":0},{"$f":"'Budget FCFA'!S112/VLOOKUP(S$2,$BO$127:$BP$138,2,FALSE)","v":0},{"$f":"'Budget FCFA'!T112/VLOOKUP(T$2,$BO$127:$BP$138,2,FALSE)","v":0},{"$f":"'Budget FCFA'!U112/VLOOKUP(U$2,$BO$127:$BP$138,2,FALSE)","v":0},{"$f":"'Budget FCFA'!V112/VLOOKUP(V$2,$BO$127:$BP$138,2,FALSE)","v":0},{"$f":"'Budget FCFA'!W112/VLOOKUP(W$2,$BO$127:$BP$138,2,FALSE)","v":0},{"$f":"'Budget FCFA'!X112/VLOOKUP(X$2,$BO$127:$BP$138,2,FALSE)","v":0},{"$f":"'Budget FCFA'!Y112/VLOOKUP(Y$2,$BO$127:$BP$138,2,FALSE)","v":0},{"$f":"'Budget FCFA'!Z112/VLOOKUP(Z$2,$BO$127:$BP$138,2,FALSE)","v":0},{"$f":"'Budget FCFA'!AA112/VLOOKUP(AA$2,$BO$127:$BP$138,2,FALSE)","v":0},{"$f":"'Budget FCFA'!AB112/VLOOKUP(AB$2,$BO$127:$BP$138,2,FALSE)","v":0},{"$f":"'Budget FCFA'!AC112/VLOOKUP(AC$2,$BO$127:$BP$138,2,FALSE)","v":0},{"$f":"'Budget FCFA'!AD112/VLOOKUP(AD$2,$BO$127:$BP$138,2,FALSE)","v":0},{"$f":"'Budget FCFA'!AE112/VLOOKUP(AE$2,$BO$127:$BP$138,2,FALSE)","v":0},{"$f":"'Budget FCFA'!AF112/VLOOKUP(AF$2,$BO$127:$BP$138,2,FALSE)","v":0},{"$f":"'Budget FCFA'!AG112/VLOOKUP(AG$2,$BO$127:$BP$138,2,FALSE)","v":0},{"$f":"'Budget FCFA'!AH112/VLOOKUP(AH$2,$BO$127:$BP$138,2,FALSE)","v":0},{"$f":"'Budget FCFA'!AI112/VLOOKUP(AI$2,$BO$127:$BP$138,2,FALSE)","v":0},{"$f":"'Budget FCFA'!AJ112/VLOOKUP(AJ$2,$BO$127:$BP$138,2,FALSE)","v":0},{"$f":"'Budget FCFA'!AK112/VLOOKUP(AK$2,$BO$127:$BP$138,2,FALSE)","v":0},{"$f":"'Budget FCFA'!AL112/VLOOKUP(AL$2,$BO$127:$BP$138,2,FALSE)","v":0},{"$f":"'Budget FCFA'!AM112/VLOOKUP(AM$2,$BO$127:$BP$138,2,FALSE)","v":0},{"$f":"'Budget FCFA'!AN112/VLOOKUP(AN$2,$BO$127:$BP$138,2,FALSE)","v":0},{"$f":"'Budget FCFA'!AO112/VLOOKUP(AO$2,$BO$127:$BP$138,2,FALSE)","v":0},{"$f":"'Budget FCFA'!AP112/VLOOKUP(AP$2,$BO$127:$BP$138,2,FALSE)","v":0},{"$f":"'Budget FCFA'!#REF!/VLOOKUP(AQ$2,$BO$127:$BP$138,2,FALSE)","v":{"$error":"#REF!"}},{"$f":"'Budget FCFA'!#REF!/VLOOKUP(AR$2,$BO$127:$BP$138,2,FALSE)","v":{"$error":"#REF!"}},{"$f":"'Budget FCFA'!#REF!/VLOOKUP(AS$2,$BO$127:$BP$138,2,FALSE)","v":{"$error":"#REF!"}},{"$f":"'Budget FCFA'!#REF!/VLOOKUP(AT$2,$BO$127:$BP$138,2,FALSE)","v":{"$error":"#REF!"}},{"$f":"'Budget FCFA'!#REF!/VLOOKUP(AU$2,$BO$127:$BP$138,2,FALSE)","v":{"$error":"#REF!"}},{"$f":"'Budget FCFA'!#REF!/VLOOKUP(AV$2,$BO$127:$BP$138,2,FALSE)","v":{"$error":"#REF!"}},{"$f":"'Budget FCFA'!#REF!/VLOOKUP(AW$2,$BO$127:$BP$138,2,FALSE)","v":{"$error":"#REF!"}},{"$f":"'Budget FCFA'!#REF!/VLOOKUP(AX$2,$BO$127:$BP$138,2,FALSE)","v":{"$error":"#REF!"}},{"$f":"'Budget FCFA'!#REF!/VLOOKUP(AY$2,$BO$127:$BP$138,2,FALSE)","v":{"$error":"#REF!"}},{"$f":"'Budget FCFA'!#REF!/VLOOKUP(AZ$2,$BO$127:$BP$138,2,FALSE)","v":{"$error":"#REF!"}},{"$f":"'Budget FCFA'!#REF!/VLOOKUP(BA$2,$BO$127:$BP$138,2,FALSE)","v":{"$error":"#REF!"}},{"$f":"'Budget FCFA'!#REF!/VLOOKUP(BB$2,$BO$127:$BP$138,2,FALSE)","v":{"$error":"#REF!"}},{"$f":"'Budget FCFA'!#REF!/VLOOKUP(BC$2,$BO$127:$BP$138,2,FALSE)","v":{"$error":"#REF!"}},{"$f":"'Budget FCFA'!#REF!/VLOOKUP(BD$2,$BO$127:$BP$138,2,FALSE)","v":{"$error":"#REF!"}},{"$f":"'Budget FCFA'!#REF!/VLOOKUP(BE$2,$BO$127:$BP$138,2,FALSE)","v":{"$error":"#REF!"}},{"$f":"'Budget FCFA'!#REF!/VLOOKUP(BF$2,$BO$127:$BP$138,2,FALSE)","v":{"$error":"#REF!"}},{"$f":"'Budget FCFA'!#REF!/VLOOKUP(BG$2,$BO$127:$BP$138,2,FALSE)","v":{"$error":"#REF!"}},{"$f":"'Budget FCFA'!#REF!/VLOOKUP(BH$2,$BO$127:$BP$138,2,FALSE)","v":{"$error":"#REF!"}},{"$f":"'Budget FCFA'!#REF!/VLOOKUP(BI$2,$BO$127:$BP$138,2,FALSE)","v":{"$error":"#REF!"}},{"$f":"'Budget FCFA'!#REF!/VLOOKUP(BJ$2,$BO$127:$BP$138,2,FALSE)","v":{"$error":"#REF!"}},{"$error":"#REF!"},{"$f":"BK112-'Budget FCFA'!#REF!","v":{"$error":"#REF!"}}]
["WEBPUSEA","LIBREVILLE","HA mots clés ",{"$f":"'Budget FCFA'!D113/VLOOKUP(D$2,$BO$127:$BP$138,2,FALSE)","v":0},{"$f":"'Budget FCFA'!E113/VLOOKUP(E$2,$BO$127:$BP$138,2,FALSE)","v":0},{"$f":"'Budget FCFA'!F113/VLOOKUP(F$2,$BO$127:$BP$138,2,FALSE)","v":0},{"$f":"'Budget FCFA'!G113/VLOOKUP(G$2,$BO$127:$BP$138,2,FALSE)","v":0},{"$f":"'Budget FCFA'!H113/VLOOKUP(H$2,$BO$127:$BP$138,2,FALSE)","v":0},{"$f":"'Budget FCFA'!I113/VLOOKUP(I$2,$BO$127:$BP$138,2,FALSE)","v":0},{"$f":"'Budget FCFA'!J113/VLOOKUP(J$2,$BO$127:$BP$138,2,FALSE)","v":0},{"$f":"'Budget FCFA'!K113/VLOOKUP(K$2,$BO$127:$BP$138,2,FALSE)","v":0},{"$f":"'Budget FCFA'!L113/VLOOKUP(L$2,$BO$127:$BP$138,2,FALSE)","v":0},{"$f":"'Budget FCFA'!M113/VLOOKUP(M$2,$BO$127:$BP$138,2,FALSE)","v":0},{"$f":"'Budget FCFA'!N113/VLOOKUP(N$2,$BO$127:$BP$138,2,FALSE)","v":0},{"$f":"'Budget FCFA'!O113/VLOOKUP(O$2,$BO$127:$BP$138,2,FALSE)","v":0},{"$f":"'Budget FCFA'!P113/VLOOKUP(P$2,$BO$127:$BP$138,2,FALSE)","v":0},{"$f":"'Budget FCFA'!Q113/VLOOKUP(Q$2,$BO$127:$BP$138,2,FALSE)","v":0},{"$f":"'Budget FCFA'!R113/VLOOKUP(R$2,$BO$127:$BP$138,2,FALSE)","v":0},{"$f":"'Budget FCFA'!S113/VLOOKUP(S$2,$BO$127:$BP$138,2,FALSE)","v":0},{"$f":"'Budget FCFA'!T113/VLOOKUP(T$2,$BO$127:$BP$138,2,FALSE)","v":0},{"$f":"'Budget FCFA'!U113/VLOOKUP(U$2,$BO$127:$BP$138,2,FALSE)","v":0},{"$f":"'Budget FCFA'!V113/VLOOKUP(V$2,$BO$127:$BP$138,2,FALSE)","v":0},{"$f":"'Budget FCFA'!W113/VLOOKUP(W$2,$BO$127:$BP$138,2,FALSE)","v":0},{"$f":"'Budget FCFA'!X113/VLOOKUP(X$2,$BO$127:$BP$138,2,FALSE)","v":0},{"$f":"'Budget FCFA'!Y113/VLOOKUP(Y$2,$BO$127:$BP$138,2,FALSE)","v":0},{"$f":"'Budget FCFA'!Z113/VLOOKUP(Z$2,$BO$127:$BP$138,2,FALSE)","v":0},{"$f":"'Budget FCFA'!AA113/VLOOKUP(AA$2,$BO$127:$BP$138,2,FALSE)","v":0},{"$f":"'Budget FCFA'!AB113/VLOOKUP(AB$2,$BO$127:$BP$138,2,FALSE)","v":0},{"$f":"'Budget FCFA'!AC113/VLOOKUP(AC$2,$BO$127:$BP$138,2,FALSE)","v":0},{"$f":"'Budget FCFA'!AD113/VLOOKUP(AD$2,$BO$127:$BP$138,2,FALSE)","v":0},{"$f":"'Budget FCFA'!AE113/VLOOKUP(AE$2,$BO$127:$BP$138,2,FALSE)","v":0},{"$f":"'Budget FCFA'!AF113/VLOOKUP(AF$2,$BO$127:$BP$138,2,FALSE)","v":0},{"$f":"'Budget FCFA'!AG113/VLOOKUP(AG$2,$BO$127:$BP$138,2,FALSE)","v":0},{"$f":"'Budget FCFA'!AH113/VLOOKUP(AH$2,$BO$127:$BP$138,2,FALSE)","v":0},{"$f":"'Budget FCFA'!AI113/VLOOKUP(AI$2,$BO$127:$BP$138,2,FALSE)","v":0},{"$f":"'Budget FCFA'!AJ113/VLOOKUP(AJ$2,$BO$127:$BP$138,2,FALSE)","v":0},{"$f":"'Budget FCFA'!AK113/VLOOKUP(AK$2,$BO$127:$BP$138,2,FALSE)","v":0},{"$f":"'Budget FCFA'!AL113/VLOOKUP(AL$2,$BO$127:$BP$138,2,FALSE)","v":0},{"$f":"'Budget FCFA'!AM113/VLOOKUP(AM$2,$BO$127:$BP$138,2,FALSE)","v":0},{"$f":"'Budget FCFA'!AN113/VLOOKUP(AN$2,$BO$127:$BP$138,2,FALSE)","v":0},{"$f":"'Budget FCFA'!AO113/VLOOKUP(AO$2,$BO$127:$BP$138,2,FALSE)","v":0},{"$f":"'Budget FCFA'!AP113/VLOOKUP(AP$2,$BO$127:$BP$138,2,FALSE)","v":0},{"$f":"'Budget FCFA'!#REF!/VLOOKUP(AQ$2,$BO$127:$BP$138,2,FALSE)","v":{"$error":"#REF!"}},{"$f":"'Budget FCFA'!#REF!/VLOOKUP(AR$2,$BO$127:$BP$138,2,FALSE)","v":{"$error":"#REF!"}},{"$f":"'Budget FCFA'!#REF!/VLOOKUP(AS$2,$BO$127:$BP$138,2,FALSE)","v":{"$error":"#REF!"}},{"$f":"'Budget FCFA'!#REF!/VLOOKUP(AT$2,$BO$127:$BP$138,2,FALSE)","v":{"$error":"#REF!"}},{"$f":"'Budget FCFA'!#REF!/VLOOKUP(AU$2,$BO$127:$BP$138,2,FALSE)","v":{"$error":"#REF!"}},{"$f":"'Budget FCFA'!#REF!/VLOOKUP(AV$2,$BO$127:$BP$138,2,FALSE)","v":{"$error":"#REF!"}},{"$f":"'Budget FCFA'!#REF!/VLOOKUP(AW$2,$BO$127:$BP$138,2,FALSE)","v":{"$error":"#REF!"}},{"$f":"'Budget FCFA'!#REF!/VLOOKUP(AX$2,$BO$127:$BP$138,2,FALSE)","v":{"$error":"#REF!"}},{"$f":"'Budget FCFA'!#REF!/VLOOKUP(AY$2,$BO$127:$BP$138,2,FALSE)","v":{"$error":"#REF!"}},{"$f":"'Budget FCFA'!#REF!/VLOOKUP(AZ$2,$BO$127:$BP$138,2,FALSE)","v":{"$error":"#REF!"}},{"$f":"'Budget FCFA'!#REF!/VLOOKUP(BA$2,$BO$127:$BP$138,2,FALSE)","v":{"$error":"#REF!"}},{"$f":"'Budget FCFA'!#REF!/VLOOKUP(BB$2,$BO$127:$BP$138,2,FALSE)","v":{"$error":"#REF!"}},{"$f":"'Budget FCFA'!#REF!/VLOOKUP(BC$2,$BO$127:$BP$138,2,FALSE)","v":{"$error":"#REF!"}},{"$f":"'Budget FCFA'!#REF!/VLOOKUP(BD$2,$BO$127:$BP$138,2,FALSE)","v":{"$error":"#REF!"}},{"$f":"'Budget FCFA'!#REF!/VLOOKUP(BE$2,$BO$127:$BP$138,2,FALSE)","v":{"$error":"#REF!"}},{"$f":"'Budget FCFA'!#REF!/VLOOKUP(BF$2,$BO$127:$BP$138,2,FALSE)","v":{"$error":"#REF!"}},{"$f":"'Budget FCFA'!#REF!/VLOOKUP(BG$2,$BO$127:$BP$138,2,FALSE)","v":{"$error":"#REF!"}},{"$f":"'Budget FCFA'!#REF!/VLOOKUP(BH$2,$BO$127:$BP$138,2,FALSE)","v":{"$error":"#REF!"}},{"$f":"'Budget FCFA'!#REF!/VLOOKUP(BI$2,$BO$127:$BP$138,2,FALSE)","v":{"$error":"#REF!"}},{"$f":"'Budget FCFA'!#REF!/VLOOKUP(BJ$2,$BO$127:$BP$138,2,FALSE)","v":{"$error":"#REF!"}},{"$error":"#REF!"},{"$f":"BK113-'Budget FCFA'!#REF!","v":{"$error":"#REF!"}}]
["WEBPUSEA","DOUALA","HA mots clés ",{"$f":"'Budget FCFA'!D114/VLOOKUP(D$2,$BO$127:$BP$138,2,FALSE)","v":0},{"$f":"'Budget FCFA'!E114/VLOOKUP(E$2,$BO$127:$BP$138,2,FALSE)","v":0},{"$f":"'Budget FCFA'!F114/VLOOKUP(F$2,$BO$127:$BP$138,2,FALSE)","v":0},{"$f":"'Budget FCFA'!G114/VLOOKUP(G$2,$BO$127:$BP$138,2,FALSE)","v":0},{"$f":"'Budget FCFA'!H114/VLOOKUP(H$2,$BO$127:$BP$138,2,FALSE)","v":0},{"$f":"'Budget FCFA'!I114/VLOOKUP(I$2,$BO$127:$BP$138,2,FALSE)","v":0},{"$f":"'Budget FCFA'!J114/VLOOKUP(J$2,$BO$127:$BP$138,2,FALSE)","v":0},{"$f":"'Budget FCFA'!K114/VLOOKUP(K$2,$BO$127:$BP$138,2,FALSE)","v":0},{"$f":"'Budget FCFA'!L114/VLOOKUP(L$2,$BO$127:$BP$138,2,FALSE)","v":0},{"$f":"'Budget FCFA'!M114/VLOOKUP(M$2,$BO$127:$BP$138,2,FALSE)","v":0},{"$f":"'Budget FCFA'!N114/VLOOKUP(N$2,$BO$127:$BP$138,2,FALSE)","v":0},{"$f":"'Budget FCFA'!O114/VLOOKUP(O$2,$BO$127:$BP$138,2,FALSE)","v":0},{"$f":"'Budget FCFA'!P114/VLOOKUP(P$2,$BO$127:$BP$138,2,FALSE)","v":0},{"$f":"'Budget FCFA'!Q114/VLOOKUP(Q$2,$BO$127:$BP$138,2,FALSE)","v":0},{"$f":"'Budget FCFA'!R114/VLOOKUP(R$2,$BO$127:$BP$138,2,FALSE)","v":0},{"$f":"'Budget FCFA'!S114/VLOOKUP(S$2,$BO$127:$BP$138,2,FALSE)","v":0},{"$f":"'Budget FCFA'!T114/VLOOKUP(T$2,$BO$127:$BP$138,2,FALSE)","v":0},{"$f":"'Budget FCFA'!U114/VLOOKUP(U$2,$BO$127:$BP$138,2,FALSE)","v":0},{"$f":"'Budget FCFA'!V114/VLOOKUP(V$2,$BO$127:$BP$138,2,FALSE)","v":0},{"$f":"'Budget FCFA'!W114/VLOOKUP(W$2,$BO$127:$BP$138,2,FALSE)","v":0},{"$f":"'Budget FCFA'!X114/VLOOKUP(X$2,$BO$127:$BP$138,2,FALSE)","v":0},{"$f":"'Budget FCFA'!Y114/VLOOKUP(Y$2,$BO$127:$BP$138,2,FALSE)","v":0},{"$f":"'Budget FCFA'!Z114/VLOOKUP(Z$2,$BO$127:$BP$138,2,FALSE)","v":0},{"$f":"'Budget FCFA'!AA114/VLOOKUP(AA$2,$BO$127:$BP$138,2,FALSE)","v":0},{"$f":"'Budget FCFA'!AB114/VLOOKUP(AB$2,$BO$127:$BP$138,2,FALSE)","v":0},{"$f":"'Budget FCFA'!AC114/VLOOKUP(AC$2,$BO$127:$BP$138,2,FALSE)","v":0},{"$f":"'Budget FCFA'!AD114/VLOOKUP(AD$2,$BO$127:$BP$138,2,FALSE)","v":0},{"$f":"'Budget FCFA'!AE114/VLOOKUP(AE$2,$BO$127:$BP$138,2,FALSE)","v":0},{"$f":"'Budget FCFA'!AF114/VLOOKUP(AF$2,$BO$127:$BP$138,2,FALSE)","v":0},{"$f":"'Budget FCFA'!AG114/VLOOKUP(AG$2,$BO$127:$BP$138,2,FALSE)","v":0},{"$f":"'Budget FCFA'!AH114/VLOOKUP(AH$2,$BO$127:$BP$138,2,FALSE)","v":0},{"$f":"'Budget FCFA'!AI114/VLOOKUP(AI$2,$BO$127:$BP$138,2,FALSE)","v":0},{"$f":"'Budget FCFA'!AJ114/VLOOKUP(AJ$2,$BO$127:$BP$138,2,FALSE)","v":0},{"$f":"'Budget FCFA'!AK114/VLOOKUP(AK$2,$BO$127:$BP$138,2,FALSE)","v":0},{"$f":"'Budget FCFA'!AL114/VLOOKUP(AL$2,$BO$127:$BP$138,2,FALSE)","v":0},{"$f":"'Budget FCFA'!AM114/VLOOKUP(AM$2,$BO$127:$BP$138,2,FALSE)","v":0},{"$f":"'Budget FCFA'!AN114/VLOOKUP(AN$2,$BO$127:$BP$138,2,FALSE)","v":0},{"$f":"'Budget FCFA'!AO114/VLOOKUP(AO$2,$BO$127:$BP$138,2,FALSE)","v":0},{"$f":"'Budget FCFA'!AP114/VLOOKUP(AP$2,$BO$127:$BP$138,2,FALSE)","v":0},{"$f":"'Budget FCFA'!#REF!/VLOOKUP(AQ$2,$BO$127:$BP$138,2,FALSE)","v":{"$error":"#REF!"}},{"$f":"'Budget FCFA'!#REF!/VLOOKUP(AR$2,$BO$127:$BP$138,2,FALSE)","v":{"$error":"#REF!"}},{"$f":"'Budget FCFA'!#REF!/VLOOKUP(AS$2,$BO$127:$BP$138,2,FALSE)","v":{"$error":"#REF!"}},{"$f":"'Budget FCFA'!#REF!/VLOOKUP(AT$2,$BO$127:$BP$138,2,FALSE)","v":{"$error":"#REF!"}},{"$f":"'Budget FCFA'!#REF!/VLOOKUP(AU$2,$BO$127:$BP$138,2,FALSE)","v":{"$error":"#REF!"}},{"$f":"'Budget FCFA'!#REF!/VLOOKUP(AV$2,$BO$127:$BP$138,2,FALSE)","v":{"$error":"#REF!"}},{"$f":"'Budget FCFA'!#REF!/VLOOKUP(AW$2,$BO$127:$BP$138,2,FALSE)","v":{"$error":"#REF!"}},{"$f":"'Budget FCFA'!#REF!/VLOOKUP(AX$2,$BO$127:$BP$138,2,FALSE)","v":{"$error":"#REF!"}},{"$f":"'Budget FCFA'!#REF!/VLOOKUP(AY$2,$BO$127:$BP$138,2,FALSE)","v":{"$error":"#REF!"}},{"$f":"'Budget FCFA'!#REF!/VLOOKUP(AZ$2,$BO$127:$BP$138,2,FALSE)","v":{"$error":"#REF!"}},{"$f":"'Budget FCFA'!#REF!/VLOOKUP(BA$2,$BO$127:$BP$138,2,FALSE)","v":{"$error":"#REF!"}},{"$f":"'Budget FCFA'!#REF!/VLOOKUP(BB$2,$BO$127:$BP$138,2,FALSE)","v":{"$error":"#REF!"}},{"$f":"'Budget FCFA'!#REF!/VLOOKUP(BC$2,$BO$127:$BP$138,2,FALSE)","v":{"$error":"#REF!"}},{"$f":"'Budget FCFA'!#REF!/VLOOKUP(BD$2,$BO$127:$BP$138,2,FALSE)","v":{"$error":"#REF!"}},{"$f":"'Budget FCFA'!#REF!/VLOOKUP(BE$2,$BO$127:$BP$138,2,FALSE)","v":{"$error":"#REF!"}},{"$f":"'Budget FCFA'!#REF!/VLOOKUP(BF$2,$BO$127:$BP$138,2,FALSE)","v":{"$error":"#REF!"}},{"$f":"'Budget FCFA'!#REF!/VLOOKUP(BG$2,$BO$127:$BP$138,2,FALSE)","v":{"$error":"#REF!"}},{"$f":"'Budget FCFA'!#REF!/VLOOKUP(BH$2,$BO$127:$BP$138,2,FALSE)","v":{"$error":"#REF!"}},{"$f":"'Budget FCFA'!#REF!/VLOOKUP(BI$2,$BO$127:$BP$138,2,FALSE)","v":{"$error":"#REF!"}},{"$f":"'Budget FCFA'!#REF!/VLOOKUP(BJ$2,$BO$127:$BP$138,2,FALSE)","v":{"$error":"#REF!"}},{"$error":"#REF!"},{"$f":"BK114-'Budget FCFA'!#REF!","v":{"$error":"#REF!"}}]
["WEBPUSEA","TOTAL","Total HA mots clés ",{"$f":"'Budget FCFA'!D115/VLOOKUP(D$2,$BO$127:$BP$138,2,FALSE)","v":0},{"$f":"'Budget FCFA'!E115/VLOOKUP(E$2,$BO$127:$BP$138,2,FALSE)","v":0},{"$f":"'Budget FCFA'!F115/VLOOKUP(F$2,$BO$127:$BP$138,2,FALSE)","v":0},{"$f":"'Budget FCFA'!G115/VLOOKUP(G$2,$BO$127:$BP$138,2,FALSE)","v":0},{"$f":"'Budget FCFA'!H115/VLOOKUP(H$2,$BO$127:$BP$138,2,FALSE)","v":0},{"$f":"'Budget FCFA'!I115/VLOOKUP(I$2,$BO$127:$BP$138,2,FALSE)","v":0},{"$f":"'Budget FCFA'!J115/VLOOKUP(J$2,$BO$127:$BP$138,2,FALSE)","v":0},{"$f":"'Budget FCFA'!K115/VLOOKUP(K$2,$BO$127:$BP$138,2,FALSE)","v":0},{"$f":"'Budget FCFA'!L115/VLOOKUP(L$2,$BO$127:$BP$138,2,FALSE)","v":0},{"$f":"'Budget FCFA'!M115/VLOOKUP(M$2,$BO$127:$BP$138,2,FALSE)","v":0},{"$f":"'Budget FCFA'!N115/VLOOKUP(N$2,$BO$127:$BP$138,2,FALSE)","v":0},{"$f":"'Budget FCFA'!O115/VLOOKUP(O$2,$BO$127:$BP$138,2,FALSE)","v":0},{"$f":"'Budget FCFA'!P115/VLOOKUP(P$2,$BO$127:$BP$138,2,FALSE)","v":0},{"$f":"'Budget FCFA'!Q115/VLOOKUP(Q$2,$BO$127:$BP$138,2,FALSE)","v":0},{"$f":"'Budget FCFA'!R115/VLOOKUP(R$2,$BO$127:$BP$138,2,FALSE)","v":0},{"$f":"'Budget FCFA'!S115/VLOOKUP(S$2,$BO$127:$BP$138,2,FALSE)","v":0},{"$f":"'Budget FCFA'!T115/VLOOKUP(T$2,$BO$127:$BP$138,2,FALSE)","v":0},{"$f":"'Budget FCFA'!U115/VLOOKUP(U$2,$BO$127:$BP$138,2,FALSE)","v":0},{"$f":"'Budget FCFA'!V115/VLOOKUP(V$2,$BO$127:$BP$138,2,FALSE)","v":0},{"$f":"'Budget FCFA'!W115/VLOOKUP(W$2,$BO$127:$BP$138,2,FALSE)","v":0},{"$f":"'Budget FCFA'!X115/VLOOKUP(X$2,$BO$127:$BP$138,2,FALSE)","v":0},{"$f":"'Budget FCFA'!Y115/VLOOKUP(Y$2,$BO$127:$BP$138,2,FALSE)","v":0},{"$f":"'Budget FCFA'!Z115/VLOOKUP(Z$2,$BO$127:$BP$138,2,FALSE)","v":0},{"$f":"'Budget FCFA'!AA115/VLOOKUP(AA$2,$BO$127:$BP$138,2,FALSE)","v":0},{"$f":"'Budget FCFA'!AB115/VLOOKUP(AB$2,$BO$127:$BP$138,2,FALSE)","v":0},{"$f":"'Budget FCFA'!AC115/VLOOKUP(AC$2,$BO$127:$BP$138,2,FALSE)","v":0},{"$f":"'Budget FCFA'!AD115/VLOOKUP(AD$2,$BO$127:$BP$138,2,FALSE)","v":0},{"$f":"'Budget FCFA'!AE115/VLOOKUP(AE$2,$BO$127:$BP$138,2,FALSE)","v":0},{"$f":"'Budget FCFA'!AF115/VLOOKUP(AF$2,$BO$127:$BP$138,2,FALSE)","v":0},{"$f":"'Budget FCFA'!AG115/VLOOKUP(AG$2,$BO$127:$BP$138,2,FALSE)","v":0},{"$f":"'Budget FCFA'!AH115/VLOOKUP(AH$2,$BO$127:$BP$138,2,FALSE)","v":0},{"$f":"'Budget FCFA'!AI115/VLOOKUP(AI$2,$BO$127:$BP$138,2,FALSE)","v":0},{"$f":"'Budget FCFA'!AJ115/VLOOKUP(AJ$2,$BO$127:$BP$138,2,FALSE)","v":0},{"$f":"'Budget FCFA'!AK115/VLOOKUP(AK$2,$BO$127:$BP$138,2,FALSE)","v":0},{"$f":"'Budget FCFA'!AL115/VLOOKUP(AL$2,$BO$127:$BP$138,2,FALSE)","v":0},{"$f":"'Budget FCFA'!AM115/VLOOKUP(AM$2,$BO$127:$BP$138,2,FALSE)","v":0},{"$f":"'Budget FCFA'!AN115/VLOOKUP(AN$2,$BO$127:$BP$138,2,FALSE)","v":0},{"$f":"'Budget FCFA'!AO115/VLOOKUP(AO$2,$BO$127:$BP$138,2,FALSE)","v":0},{"$f":"'Budget FCFA'!AP115/VLOOKUP(AP$2,$BO$127:$BP$138,2,FALSE)","v":0},{"$f":"'Budget FCFA'!#REF!/VLOOKUP(AQ$2,$BO$127:$BP$138,2,FALSE)","v":{"$error":"#REF!"}},{"$f":"'Budget FCFA'!#REF!/VLOOKUP(AR$2,$BO$127:$BP$138,2,FALSE)","v":{"$error":"#REF!"}},{"$f":"'Budget FCFA'!#REF!/VLOOKUP(AS$2,$BO$127:$BP$138,2,FALSE)","v":{"$error":"#REF!"}},{"$f":"'Budget FCFA'!#REF!/VLOOKUP(AT$2,$BO$127:$BP$138,2,FALSE)","v":{"$error":"#REF!"}},{"$f":"'Budget FCFA'!#REF!/VLOOKUP(AU$2,$BO$127:$BP$138,2,FALSE)","v":{"$error":"#REF!"}},{"$f":"'Budget FCFA'!#REF!/VLOOKUP(AV$2,$BO$127:$BP$138,2,FALSE)","v":{"$error":"#REF!"}},{"$f":"'Budget FCFA'!#REF!/VLOOKUP(AW$2,$BO$127:$BP$138,2,FALSE)","v":{"$error":"#REF!"}},{"$f":"'Budget FCFA'!#REF!/VLOOKUP(AX$2,$BO$127:$BP$138,2,FALSE)","v":{"$error":"#REF!"}},{"$f":"'Budget FCFA'!#REF!/VLOOKUP(AY$2,$BO$127:$BP$138,2,FALSE)","v":{"$error":"#REF!"}},{"$f":"'Budget FCFA'!#REF!/VLOOKUP(AZ$2,$BO$127:$BP$138,2,FALSE)","v":{"$error":"#REF!"}},{"$f":"'Budget FCFA'!#REF!/VLOOKUP(BA$2,$BO$127:$BP$138,2,FALSE)","v":{"$error":"#REF!"}},{"$f":"'Budget FCFA'!#REF!/VLOOKUP(BB$2,$BO$127:$BP$138,2,FALSE)","v":{"$error":"#REF!"}},{"$f":"'Budget FCFA'!#REF!/VLOOKUP(BC$2,$BO$127:$BP$138,2,FALSE)","v":{"$error":"#REF!"}},{"$f":"'Budget FCFA'!#REF!/VLOOKUP(BD$2,$BO$127:$BP$138,2,FALSE)","v":{"$error":"#REF!"}},{"$f":"'Budget FCFA'!#REF!/VLOOKUP(BE$2,$BO$127:$BP$138,2,FALSE)","v":{"$error":"#REF!"}},{"$f":"'Budget FCFA'!#REF!/VLOOKUP(BF$2,$BO$127:$BP$138,2,FALSE)","v":{"$error":"#REF!"}},{"$f":"'Budget FCFA'!#REF!/VLOOKUP(BG$2,$BO$127:$BP$138,2,FALSE)","v":{"$error":"#REF!"}},{"$f":"'Budget FCFA'!#REF!/VLOOKUP(BH$2,$BO$127:$BP$138,2,FALSE)","v":{"$error":"#REF!"}},{"$f":"'Budget FCFA'!#REF!/VLOOKUP(BI$2,$BO$127:$BP$138,2,FALSE)","v":{"$error":"#REF!"}},{"$f":"'Budget FCFA'!#REF!/VLOOKUP(BJ$2,$BO$127:$BP$138,2,FALSE)","v":{"$error":"#REF!"}},{"$error":"#REF!"},{"$f":"BK115-'Budget FCFA'!#REF!","v":{"$error":"#REF!"}}]
["WEBPUSEA","ABIDJAN","Création Bannières web",{"$f":"'Budget FCFA'!D116/VLOOKUP(D$2,$BO$127:$BP$138,2,FALSE)","v":0},{"$f":"'Budget FCFA'!E116/VLOOKUP(E$2,$BO$127:$BP$138,2,FALSE)","v":0},{"$f":"'Budget FCFA'!F116/VLOOKUP(F$2,$BO$127:$BP$138,2,FALSE)","v":0},{"$f":"'Budget FCFA'!G116/VLOOKUP(G$2,$BO$127:$BP$138,2,FALSE)","v":0},{"$f":"'Budget FCFA'!H116/VLOOKUP(H$2,$BO$127:$BP$138,2,FALSE)","v":0},{"$f":"'Budget FCFA'!I116/VLOOKUP(I$2,$BO$127:$BP$138,2,FALSE)","v":0},{"$f":"'Budget FCFA'!J116/VLOOKUP(J$2,$BO$127:$BP$138,2,FALSE)","v":0},{"$f":"'Budget FCFA'!K116/VLOOKUP(K$2,$BO$127:$BP$138,2,FALSE)","v":0},{"$f":"'Budget FCFA'!L116/VLOOKUP(L$2,$BO$127:$BP$138,2,FALSE)","v":0},{"$f":"'Budget FCFA'!M116/VLOOKUP(M$2,$BO$127:$BP$138,2,FALSE)","v":0},{"$f":"'Budget FCFA'!N116/VLOOKUP(N$2,$BO$127:$BP$138,2,FALSE)","v":0},{"$f":"'Budget FCFA'!O116/VLOOKUP(O$2,$BO$127:$BP$138,2,FALSE)","v":0},{"$f":"'Budget FCFA'!P116/VLOOKUP(P$2,$BO$127:$BP$138,2,FALSE)","v":0},{"$f":"'Budget FCFA'!Q116/VLOOKUP(Q$2,$BO$127:$BP$138,2,FALSE)","v":0},{"$f":"'Budget FCFA'!R116/VLOOKUP(R$2,$BO$127:$BP$138,2,FALSE)","v":0},{"$f":"'Budget FCFA'!S116/VLOOKUP(S$2,$BO$127:$BP$138,2,FALSE)","v":0},{"$f":"'Budget FCFA'!T116/VLOOKUP(T$2,$BO$127:$BP$138,2,FALSE)","v":0},{"$f":"'Budget FCFA'!U116/VLOOKUP(U$2,$BO$127:$BP$138,2,FALSE)","v":0},{"$f":"'Budget FCFA'!V116/VLOOKUP(V$2,$BO$127:$BP$138,2,FALSE)","v":0},{"$f":"'Budget FCFA'!W116/VLOOKUP(W$2,$BO$127:$BP$138,2,FALSE)","v":0},{"$f":"'Budget FCFA'!X116/VLOOKUP(X$2,$BO$127:$BP$138,2,FALSE)","v":0},{"$f":"'Budget FCFA'!Y116/VLOOKUP(Y$2,$BO$127:$BP$138,2,FALSE)","v":0},{"$f":"'Budget FCFA'!Z116/VLOOKUP(Z$2,$BO$127:$BP$138,2,FALSE)","v":0},{"$f":"'Budget FCFA'!AA116/VLOOKUP(AA$2,$BO$127:$BP$138,2,FALSE)","v":0},{"$f":"'Budget FCFA'!AB116/VLOOKUP(AB$2,$BO$127:$BP$138,2,FALSE)","v":0},{"$f":"'Budget FCFA'!AC116/VLOOKUP(AC$2,$BO$127:$BP$138,2,FALSE)","v":0},{"$f":"'Budget FCFA'!AD116/VLOOKUP(AD$2,$BO$127:$BP$138,2,FALSE)","v":0},{"$f":"'Budget FCFA'!AE116/VLOOKUP(AE$2,$BO$127:$BP$138,2,FALSE)","v":0},{"$f":"'Budget FCFA'!AF116/VLOOKUP(AF$2,$BO$127:$BP$138,2,FALSE)","v":0},{"$f":"'Budget FCFA'!AG116/VLOOKUP(AG$2,$BO$127:$BP$138,2,FALSE)","v":0},{"$f":"'Budget FCFA'!AH116/VLOOKUP(AH$2,$BO$127:$BP$138,2,FALSE)","v":0},{"$f":"'Budget FCFA'!AI116/VLOOKUP(AI$2,$BO$127:$BP$138,2,FALSE)","v":0},{"$f":"'Budget FCFA'!AJ116/VLOOKUP(AJ$2,$BO$127:$BP$138,2,FALSE)","v":0},{"$f":"'Budget FCFA'!AK116/VLOOKUP(AK$2,$BO$127:$BP$138,2,FALSE)","v":0},{"$f":"'Budget FCFA'!AL116/VLOOKUP(AL$2,$BO$127:$BP$138,2,FALSE)","v":0},{"$f":"'Budget FCFA'!AM116/VLOOKUP(AM$2,$BO$127:$BP$138,2,FALSE)","v":0},{"$f":"'Budget FCFA'!AN116/VLOOKUP(AN$2,$BO$127:$BP$138,2,FALSE)","v":0},{"$f":"'Budget FCFA'!AO116/VLOOKUP(AO$2,$BO$127:$BP$138,2,FALSE)","v":0},{"$f":"'Budget FCFA'!AP116/VLOOKUP(AP$2,$BO$127:$BP$138,2,FALSE)","v":0},{"$f":"'Budget FCFA'!#REF!/VLOOKUP(AQ$2,$BO$127:$BP$138,2,FALSE)","v":{"$error":"#REF!"}},{"$f":"'Budget FCFA'!#REF!/VLOOKUP(AR$2,$BO$127:$BP$138,2,FALSE)","v":{"$error":"#REF!"}},{"$f":"'Budget FCFA'!#REF!/VLOOKUP(AS$2,$BO$127:$BP$138,2,FALSE)","v":{"$error":"#REF!"}},{"$f":"'Budget FCFA'!#REF!/VLOOKUP(AT$2,$BO$127:$BP$138,2,FALSE)","v":{"$error":"#REF!"}},{"$f":"'Budget FCFA'!#REF!/VLOOKUP(AU$2,$BO$127:$BP$138,2,FALSE)","v":{"$error":"#REF!"}},{"$f":"'Budget FCFA'!#REF!/VLOOKUP(AV$2,$BO$127:$BP$138,2,FALSE)","v":{"$error":"#REF!"}},{"$f":"'Budget FCFA'!#REF!/VLOOKUP(AW$2,$BO$127:$BP$138,2,FALSE)","v":{"$error":"#REF!"}},{"$f":"'Budget FCFA'!#REF!/VLOOKUP(AX$2,$BO$127:$BP$138,2,FALSE)","v":{"$error":"#REF!"}},{"$f":"'Budget FCFA'!#REF!/VLOOKUP(AY$2,$BO$127:$BP$138,2,FALSE)","v":{"$error":"#REF!"}},{"$f":"'Budget FCFA'!#REF!/VLOOKUP(AZ$2,$BO$127:$BP$138,2,FALSE)","v":{"$error":"#REF!"}},{"$f":"'Budget FCFA'!#REF!/VLOOKUP(BA$2,$BO$127:$BP$138,2,FALSE)","v":{"$error":"#REF!"}},{"$f":"'Budget FCFA'!#REF!/VLOOKUP(BB$2,$BO$127:$BP$138,2,FALSE)","v":{"$error":"#REF!"}},{"$f":"'Budget FCFA'!#REF!/VLOOKUP(BC$2,$BO$127:$BP$138,2,FALSE)","v":{"$error":"#REF!"}},{"$f":"'Budget FCFA'!#REF!/VLOOKUP(BD$2,$BO$127:$BP$138,2,FALSE)","v":{"$error":"#REF!"}},{"$f":"'Budget FCFA'!#REF!/VLOOKUP(BE$2,$BO$127:$BP$138,2,FALSE)","v":{"$error":"#REF!"}},{"$f":"'Budget FCFA'!#REF!/VLOOKUP(BF$2,$BO$127:$BP$138,2,FALSE)","v":{"$error":"#REF!"}},{"$f":"'Budget FCFA'!#REF!/VLOOKUP(BG$2,$BO$127:$BP$138,2,FALSE)","v":{"$error":"#REF!"}},{"$f":"'Budget FCFA'!#REF!/VLOOKUP(BH$2,$BO$127:$BP$138,2,FALSE)","v":{"$error":"#REF!"}},{"$f":"'Budget FCFA'!#REF!/VLOOKUP(BI$2,$BO$127:$BP$138,2,FALSE)","v":{"$error":"#REF!"}},{"$f":"'Budget FCFA'!#REF!/VLOOKUP(BJ$2,$BO$127:$BP$138,2,FALSE)","v":{"$error":"#REF!"}},{"$error":"#REF!"},{"$f":"BK116-'Budget FCFA'!#REF!","v":{"$error":"#REF!"}}]
["WEBPUSEA","BRAZZA","Création Bannières web",{"$f":"'Budget FCFA'!D117/VLOOKUP(D$2,$BO$127:$BP$138,2,FALSE)","v":0},{"$f":"'Budget FCFA'!E117/VLOOKUP(E$2,$BO$127:$BP$138,2,FALSE)","v":0},{"$f":"'Budget FCFA'!F117/VLOOKUP(F$2,$BO$127:$BP$138,2,FALSE)","v":0},{"$f":"'Budget FCFA'!G117/VLOOKUP(G$2,$BO$127:$BP$138,2,FALSE)","v":0},{"$f":"'Budget FCFA'!H117/VLOOKUP(H$2,$BO$127:$BP$138,2,FALSE)","v":0},{"$f":"'Budget FCFA'!I117/VLOOKUP(I$2,$BO$127:$BP$138,2,FALSE)","v":0},{"$f":"'Budget FCFA'!J117/VLOOKUP(J$2,$BO$127:$BP$138,2,FALSE)","v":0},{"$f":"'Budget FCFA'!K117/VLOOKUP(K$2,$BO$127:$BP$138,2,FALSE)","v":0},{"$f":"'Budget FCFA'!L117/VLOOKUP(L$2,$BO$127:$BP$138,2,FALSE)","v":0},{"$f":"'Budget FCFA'!M117/VLOOKUP(M$2,$BO$127:$BP$138,2,FALSE)","v":0},{"$f":"'Budget FCFA'!N117/VLOOKUP(N$2,$BO$127:$BP$138,2,FALSE)","v":0},{"$f":"'Budget FCFA'!O117/VLOOKUP(O$2,$BO$127:$BP$138,2,FALSE)","v":0},{"$f":"'Budget FCFA'!P117/VLOOKUP(P$2,$BO$127:$BP$138,2,FALSE)","v":0},{"$f":"'Budget FCFA'!Q117/VLOOKUP(Q$2,$BO$127:$BP$138,2,FALSE)","v":0},{"$f":"'Budget FCFA'!R117/VLOOKUP(R$2,$BO$127:$BP$138,2,FALSE)","v":0},{"$f":"'Budget FCFA'!S117/VLOOKUP(S$2,$BO$127:$BP$138,2,FALSE)","v":0},{"$f":"'Budget FCFA'!T117/VLOOKUP(T$2,$BO$127:$BP$138,2,FALSE)","v":0},{"$f":"'Budget FCFA'!U117/VLOOKUP(U$2,$BO$127:$BP$138,2,FALSE)","v":0},{"$f":"'Budget FCFA'!V117/VLOOKUP(V$2,$BO$127:$BP$138,2,FALSE)","v":0},{"$f":"'Budget FCFA'!W117/VLOOKUP(W$2,$BO$127:$BP$138,2,FALSE)","v":0},{"$f":"'Budget FCFA'!X117/VLOOKUP(X$2,$BO$127:$BP$138,2,FALSE)","v":0},{"$f":"'Budget FCFA'!Y117/VLOOKUP(Y$2,$BO$127:$BP$138,2,FALSE)","v":0},{"$f":"'Budget FCFA'!Z117/VLOOKUP(Z$2,$BO$127:$BP$138,2,FALSE)","v":0},{"$f":"'Budget FCFA'!AA117/VLOOKUP(AA$2,$BO$127:$BP$138,2,FALSE)","v":0},{"$f":"'Budget FCFA'!AB117/VLOOKUP(AB$2,$BO$127:$BP$138,2,FALSE)","v":0},{"$f":"'Budget FCFA'!AC117/VLOOKUP(AC$2,$BO$127:$BP$138,2,FALSE)","v":0},{"$f":"'Budget FCFA'!AD117/VLOOKUP(AD$2,$BO$127:$BP$138,2,FALSE)","v":0},{"$f":"'Budget FCFA'!AE117/VLOOKUP(AE$2,$BO$127:$BP$138,2,FALSE)","v":0},{"$f":"'Budget FCFA'!AF117/VLOOKUP(AF$2,$BO$127:$BP$138,2,FALSE)","v":0},{"$f":"'Budget FCFA'!AG117/VLOOKUP(AG$2,$BO$127:$BP$138,2,FALSE)","v":0},{"$f":"'Budget FCFA'!AH117/VLOOKUP(AH$2,$BO$127:$BP$138,2,FALSE)","v":0},{"$f":"'Budget FCFA'!AI117/VLOOKUP(AI$2,$BO$127:$BP$138,2,FALSE)","v":0},{"$f":"'Budget FCFA'!AJ117/VLOOKUP(AJ$2,$BO$127:$BP$138,2,FALSE)","v":0},{"$f":"'Budget FCFA'!AK117/VLOOKUP(AK$2,$BO$127:$BP$138,2,FALSE)","v":0},{"$f":"'Budget FCFA'!AL117/VLOOKUP(AL$2,$BO$127:$BP$138,2,FALSE)","v":0},{"$f":"'Budget FCFA'!AM117/VLOOKUP(AM$2,$BO$127:$BP$138,2,FALSE)","v":0},{"$f":"'Budget FCFA'!AN117/VLOOKUP(AN$2,$BO$127:$BP$138,2,FALSE)","v":0},{"$f":"'Budget FCFA'!AO117/VLOOKUP(AO$2,$BO$127:$BP$138,2,FALSE)","v":0},{"$f":"'Budget FCFA'!AP117/VLOOKUP(AP$2,$BO$127:$BP$138,2,FALSE)","v":0},{"$f":"'Budget FCFA'!#REF!/VLOOKUP(AQ$2,$BO$127:$BP$138,2,FALSE)","v":{"$error":"#REF!"}},{"$f":"'Budget FCFA'!#REF!/VLOOKUP(AR$2,$BO$127:$BP$138,2,FALSE)","v":{"$error":"#REF!"}},{"$f":"'Budget FCFA'!#REF!/VLOOKUP(AS$2,$BO$127:$BP$138,2,FALSE)","v":{"$error":"#REF!"}},{"$f":"'Budget FCFA'!#REF!/VLOOKUP(AT$2,$BO$127:$BP$138,2,FALSE)","v":{"$error":"#REF!"}},{"$f":"'Budget FCFA'!#REF!/VLOOKUP(AU$2,$BO$127:$BP$138,2,FALSE)","v":{"$error":"#REF!"}},{"$f":"'Budget FCFA'!#REF!/VLOOKUP(AV$2,$BO$127:$BP$138,2,FALSE)","v":{"$error":"#REF!"}},{"$f":"'Budget FCFA'!#REF!/VLOOKUP(AW$2,$BO$127:$BP$138,2,FALSE)","v":{"$error":"#REF!"}},{"$f":"'Budget FCFA'!#REF!/VLOOKUP(AX$2,$BO$127:$BP$138,2,FALSE)","v":{"$error":"#REF!"}},{"$f":"'Budget FCFA'!#REF!/VLOOKUP(AY$2,$BO$127:$BP$138,2,FALSE)","v":{"$error":"#REF!"}},{"$f":"'Budget FCFA'!#REF!/VLOOKUP(AZ$2,$BO$127:$BP$138,2,FALSE)","v":{"$error":"#REF!"}},{"$f":"'Budget FCFA'!#REF!/VLOOKUP(BA$2,$BO$127:$BP$138,2,FALSE)","v":{"$error":"#REF!"}},{"$f":"'Budget FCFA'!#REF!/VLOOKUP(BB$2,$BO$127:$BP$138,2,FALSE)","v":{"$error":"#REF!"}},{"$f":"'Budget FCFA'!#REF!/VLOOKUP(BC$2,$BO$127:$BP$138,2,FALSE)","v":{"$error":"#REF!"}},{"$f":"'Budget FCFA'!#REF!/VLOOKUP(BD$2,$BO$127:$BP$138,2,FALSE)","v":{"$error":"#REF!"}},{"$f":"'Budget FCFA'!#REF!/VLOOKUP(BE$2,$BO$127:$BP$138,2,FALSE)","v":{"$error":"#REF!"}},{"$f":"'Budget FCFA'!#REF!/VLOOKUP(BF$2,$BO$127:$BP$138,2,FALSE)","v":{"$error":"#REF!"}},{"$f":"'Budget FCFA'!#REF!/VLOOKUP(BG$2,$BO$127:$BP$138,2,FALSE)","v":{"$error":"#REF!"}},{"$f":"'Budget FCFA'!#REF!/VLOOKUP(BH$2,$BO$127:$BP$138,2,FALSE)","v":{"$error":"#REF!"}},{"$f":"'Budget FCFA'!#REF!/VLOOKUP(BI$2,$BO$127:$BP$138,2,FALSE)","v":{"$error":"#REF!"}},{"$f":"'Budget FCFA'!#REF!/VLOOKUP(BJ$2,$BO$127:$BP$138,2,FALSE)","v":{"$error":"#REF!"}},{"$error":"#REF!"},{"$f":"BK117-'Budget FCFA'!#REF!","v":{"$error":"#REF!"}}]
["WEBPUSEA","DAKAR","Création Bannières web",{"$f":"'Budget FCFA'!D118/VLOOKUP(D$2,$BO$127:$BP$138,2,FALSE)","v":0},{"$f":"'Budget FCFA'!E118/VLOOKUP(E$2,$BO$127:$BP$138,2,FALSE)","v":0},{"$f":"'Budget FCFA'!F118/VLOOKUP(F$2,$BO$127:$BP$138,2,FALSE)","v":0},{"$f":"'Budget FCFA'!G118/VLOOKUP(G$2,$BO$127:$BP$138,2,FALSE)","v":0},{"$f":"'Budget FCFA'!H118/VLOOKUP(H$2,$BO$127:$BP$138,2,FALSE)","v":0},{"$f":"'Budget FCFA'!I118/VLOOKUP(I$2,$BO$127:$BP$138,2,FALSE)","v":0},{"$f":"'Budget FCFA'!J118/VLOOKUP(J$2,$BO$127:$BP$138,2,FALSE)","v":0},{"$f":"'Budget FCFA'!K118/VLOOKUP(K$2,$BO$127:$BP$138,2,FALSE)","v":0},{"$f":"'Budget FCFA'!L118/VLOOKUP(L$2,$BO$127:$BP$138,2,FALSE)","v":0},{"$f":"'Budget FCFA'!M118/VLOOKUP(M$2,$BO$127:$BP$138,2,FALSE)","v":0},{"$f":"'Budget FCFA'!N118/VLOOKUP(N$2,$BO$127:$BP$138,2,FALSE)","v":0},{"$f":"'Budget FCFA'!O118/VLOOKUP(O$2,$BO$127:$BP$138,2,FALSE)","v":0},{"$f":"'Budget FCFA'!P118/VLOOKUP(P$2,$BO$127:$BP$138,2,FALSE)","v":0},{"$f":"'Budget FCFA'!Q118/VLOOKUP(Q$2,$BO$127:$BP$138,2,FALSE)","v":0},{"$f":"'Budget FCFA'!R118/VLOOKUP(R$2,$BO$127:$BP$138,2,FALSE)","v":0},{"$f":"'Budget FCFA'!S118/VLOOKUP(S$2,$BO$127:$BP$138,2,FALSE)","v":0},{"$f":"'Budget FCFA'!T118/VLOOKUP(T$2,$BO$127:$BP$138,2,FALSE)","v":0},{"$f":"'Budget FCFA'!U118/VLOOKUP(U$2,$BO$127:$BP$138,2,FALSE)","v":0},{"$f":"'Budget FCFA'!V118/VLOOKUP(V$2,$BO$127:$BP$138,2,FALSE)","v":0},{"$f":"'Budget FCFA'!W118/VLOOKUP(W$2,$BO$127:$BP$138,2,FALSE)","v":0},{"$f":"'Budget FCFA'!X118/VLOOKUP(X$2,$BO$127:$BP$138,2,FALSE)","v":0},{"$f":"'Budget FCFA'!Y118/VLOOKUP(Y$2,$BO$127:$BP$138,2,FALSE)","v":0},{"$f":"'Budget FCFA'!Z118/VLOOKUP(Z$2,$BO$127:$BP$138,2,FALSE)","v":0},{"$f":"'Budget FCFA'!AA118/VLOOKUP(AA$2,$BO$127:$BP$138,2,FALSE)","v":0},{"$f":"'Budget FCFA'!AB118/VLOOKUP(AB$2,$BO$127:$BP$138,2,FALSE)","v":0},{"$f":"'Budget FCFA'!AC118/VLOOKUP(AC$2,$BO$127:$BP$138,2,FALSE)","v":0},{"$f":"'Budget FCFA'!AD118/VLOOKUP(AD$2,$BO$127:$BP$138,2,FALSE)","v":0},{"$f":"'Budget FCFA'!AE118/VLOOKUP(AE$2,$BO$127:$BP$138,2,FALSE)","v":0},{"$f":"'Budget FCFA'!AF118/VLOOKUP(AF$2,$BO$127:$BP$138,2,FALSE)","v":0},{"$f":"'Budget FCFA'!AG118/VLOOKUP(AG$2,$BO$127:$BP$138,2,FALSE)","v":0},{"$f":"'Budget FCFA'!AH118/VLOOKUP(AH$2,$BO$127:$BP$138,2,FALSE)","v":0},{"$f":"'Budget FCFA'!AI118/VLOOKUP(AI$2,$BO$127:$BP$138,2,FALSE)","v":0},{"$f":"'Budget FCFA'!AJ118/VLOOKUP(AJ$2,$BO$127:$BP$138,2,FALSE)","v":0},{"$f":"'Budget FCFA'!AK118/VLOOKUP(AK$2,$BO$127:$BP$138,2,FALSE)","v":0},{"$f":"'Budget FCFA'!AL118/VLOOKUP(AL$2,$BO$127:$BP$138,2,FALSE)","v":0},{"$f":"'Budget FCFA'!AM118/VLOOKUP(AM$2,$BO$127:$BP$138,2,FALSE)","v":0},{"$f":"'Budget FCFA'!AN118/VLOOKUP(AN$2,$BO$127:$BP$138,2,FALSE)","v":0},{"$f":"'Budget FCFA'!AO118/VLOOKUP(AO$2,$BO$127:$BP$138,2,FALSE)","v":0},{"$f":"'Budget FCFA'!AP118/VLOOKUP(AP$2,$BO$127:$BP$138,2,FALSE)","v":0},{"$f":"'Budget FCFA'!#REF!/VLOOKUP(AQ$2,$BO$127:$BP$138,2,FALSE)","v":{"$error":"#REF!"}},{"$f":"'Budget FCFA'!#REF!/VLOOKUP(AR$2,$BO$127:$BP$138,2,FALSE)","v":{"$error":"#REF!"}},{"$f":"'Budget FCFA'!#REF!/VLOOKUP(AS$2,$BO$127:$BP$138,2,FALSE)","v":{"$error":"#REF!"}},{"$f":"'Budget FCFA'!#REF!/VLOOKUP(AT$2,$BO$127:$BP$138,2,FALSE)","v":{"$error":"#REF!"}},{"$f":"'Budget FCFA'!#REF!/VLOOKUP(AU$2,$BO$127:$BP$138,2,FALSE)","v":{"$error":"#REF!"}},{"$f":"'Budget FCFA'!#REF!/VLOOKUP(AV$2,$BO$127:$BP$138,2,FALSE)","v":{"$error":"#REF!"}},{"$f":"'Budget FCFA'!#REF!/VLOOKUP(AW$2,$BO$127:$BP$138,2,FALSE)","v":{"$error":"#REF!"}},{"$f":"'Budget FCFA'!#REF!/VLOOKUP(AX$2,$BO$127:$BP$138,2,FALSE)","v":{"$error":"#REF!"}},{"$f":"'Budget FCFA'!#REF!/VLOOKUP(AY$2,$BO$127:$BP$138,2,FALSE)","v":{"$error":"#REF!"}},{"$f":"'Budget FCFA'!#REF!/VLOOKUP(AZ$2,$BO$127:$BP$138,2,FALSE)","v":{"$error":"#REF!"}},{"$f":"'Budget FCFA'!#REF!/VLOOKUP(BA$2,$BO$127:$BP$138,2,FALSE)","v":{"$error":"#REF!"}},{"$f":"'Budget FCFA'!#REF!/VLOOKUP(BB$2,$BO$127:$BP$138,2,FALSE)","v":{"$error":"#REF!"}},{"$f":"'Budget FCFA'!#REF!/VLOOKUP(BC$2,$BO$127:$BP$138,2,FALSE)","v":{"$error":"#REF!"}},{"$f":"'Budget FCFA'!#REF!/VLOOKUP(BD$2,$BO$127:$BP$138,2,FALSE)","v":{"$error":"#REF!"}},{"$f":"'Budget FCFA'!#REF!/VLOOKUP(BE$2,$BO$127:$BP$138,2,FALSE)","v":{"$error":"#REF!"}},{"$f":"'Budget FCFA'!#REF!/VLOOKUP(BF$2,$BO$127:$BP$138,2,FALSE)","v":{"$error":"#REF!"}},{"$f":"'Budget FCFA'!#REF!/VLOOKUP(BG$2,$BO$127:$BP$138,2,FALSE)","v":{"$error":"#REF!"}},{"$f":"'Budget FCFA'!#REF!/VLOOKUP(BH$2,$BO$127:$BP$138,2,FALSE)","v":{"$error":"#REF!"}},{"$f":"'Budget FCFA'!#REF!/VLOOKUP(BI$2,$BO$127:$BP$138,2,FALSE)","v":{"$error":"#REF!"}},{"$f":"'Budget FCFA'!#REF!/VLOOKUP(BJ$2,$BO$127:$BP$138,2,FALSE)","v":{"$error":"#REF!"}},{"$error":"#REF!"},{"$f":"BK118-'Budget FCFA'!#REF!","v":{"$error":"#REF!"}}]
["WEBPUSEA","LIBREVILLE","Création Bannières web",{"$f":"'Budget FCFA'!D119/VLOOKUP(D$2,$BO$127:$BP$138,2,FALSE)","v":0},{"$f":"'Budget FCFA'!E119/VLOOKUP(E$2,$BO$127:$BP$138,2,FALSE)","v":0},{"$f":"'Budget FCFA'!F119/VLOOKUP(F$2,$BO$127:$BP$138,2,FALSE)","v":0},{"$f":"'Budget FCFA'!G119/VLOOKUP(G$2,$BO$127:$BP$138,2,FALSE)","v":0},{"$f":"'Budget FCFA'!H119/VLOOKUP(H$2,$BO$127:$BP$138,2,FALSE)","v":0},{"$f":"'Budget FCFA'!I119/VLOOKUP(I$2,$BO$127:$BP$138,2,FALSE)","v":0},{"$f":"'Budget FCFA'!J119/VLOOKUP(J$2,$BO$127:$BP$138,2,FALSE)","v":0},{"$f":"'Budget FCFA'!K119/VLOOKUP(K$2,$BO$127:$BP$138,2,FALSE)","v":0},{"$f":"'Budget FCFA'!L119/VLOOKUP(L$2,$BO$127:$BP$138,2,FALSE)","v":0},{"$f":"'Budget FCFA'!M119/VLOOKUP(M$2,$BO$127:$BP$138,2,FALSE)","v":0},{"$f":"'Budget FCFA'!N119/VLOOKUP(N$2,$BO$127:$BP$138,2,FALSE)","v":0},{"$f":"'Budget FCFA'!O119/VLOOKUP(O$2,$BO$127:$BP$138,2,FALSE)","v":0},{"$f":"'Budget FCFA'!P119/VLOOKUP(P$2,$BO$127:$BP$138,2,FALSE)","v":0},{"$f":"'Budget FCFA'!Q119/VLOOKUP(Q$2,$BO$127:$BP$138,2,FALSE)","v":0},{"$f":"'Budget FCFA'!R119/VLOOKUP(R$2,$BO$127:$BP$138,2,FALSE)","v":0},{"$f":"'Budget FCFA'!S119/VLOOKUP(S$2,$BO$127:$BP$138,2,FALSE)","v":0},{"$f":"'Budget FCFA'!T119/VLOOKUP(T$2,$BO$127:$BP$138,2,FALSE)","v":0},{"$f":"'Budget FCFA'!U119/VLOOKUP(U$2,$BO$127:$BP$138,2,FALSE)","v":0},{"$f":"'Budget FCFA'!V119/VLOOKUP(V$2,$BO$127:$BP$138,2,FALSE)","v":0},{"$f":"'Budget FCFA'!W119/VLOOKUP(W$2,$BO$127:$BP$138,2,FALSE)","v":0},{"$f":"'Budget FCFA'!X119/VLOOKUP(X$2,$BO$127:$BP$138,2,FALSE)","v":0},{"$f":"'Budget FCFA'!Y119/VLOOKUP(Y$2,$BO$127:$BP$138,2,FALSE)","v":0},{"$f":"'Budget FCFA'!Z119/VLOOKUP(Z$2,$BO$127:$BP$138,2,FALSE)","v":0},{"$f":"'Budget FCFA'!AA119/VLOOKUP(AA$2,$BO$127:$BP$138,2,FALSE)","v":0},{"$f":"'Budget FCFA'!AB119/VLOOKUP(AB$2,$BO$127:$BP$138,2,FALSE)","v":0},{"$f":"'Budget FCFA'!AC119/VLOOKUP(AC$2,$BO$127:$BP$138,2,FALSE)","v":0},{"$f":"'Budget FCFA'!AD119/VLOOKUP(AD$2,$BO$127:$BP$138,2,FALSE)","v":0},{"$f":"'Budget FCFA'!AE119/VLOOKUP(AE$2,$BO$127:$BP$138,2,FALSE)","v":0},{"$f":"'Budget FCFA'!AF119/VLOOKUP(AF$2,$BO$127:$BP$138,2,FALSE)","v":0},{"$f":"'Budget FCFA'!AG119/VLOOKUP(AG$2,$BO$127:$BP$138,2,FALSE)","v":0},{"$f":"'Budget FCFA'!AH119/VLOOKUP(AH$2,$BO$127:$BP$138,2,FALSE)","v":0},{"$f":"'Budget FCFA'!AI119/VLOOKUP(AI$2,$BO$127:$BP$138,2,FALSE)","v":0},{"$f":"'Budget FCFA'!AJ119/VLOOKUP(AJ$2,$BO$127:$BP$138,2,FALSE)","v":0},{"$f":"'Budget FCFA'!AK119/VLOOKUP(AK$2,$BO$127:$BP$138,2,FALSE)","v":0},{"$f":"'Budget FCFA'!AL119/VLOOKUP(AL$2,$BO$127:$BP$138,2,FALSE)","v":0},{"$f":"'Budget FCFA'!AM119/VLOOKUP(AM$2,$BO$127:$BP$138,2,FALSE)","v":0},{"$f":"'Budget FCFA'!AN119/VLOOKUP(AN$2,$BO$127:$BP$138,2,FALSE)","v":0},{"$f":"'Budget FCFA'!AO119/VLOOKUP(AO$2,$BO$127:$BP$138,2,FALSE)","v":0},{"$f":"'Budget FCFA'!AP119/VLOOKUP(AP$2,$BO$127:$BP$138,2,FALSE)","v":0},{"$f":"'Budget FCFA'!#REF!/VLOOKUP(AQ$2,$BO$127:$BP$138,2,FALSE)","v":{"$error":"#REF!"}},{"$f":"'Budget FCFA'!#REF!/VLOOKUP(AR$2,$BO$127:$BP$138,2,FALSE)","v":{"$error":"#REF!"}},{"$f":"'Budget FCFA'!#REF!/VLOOKUP(AS$2,$BO$127:$BP$138,2,FALSE)","v":{"$error":"#REF!"}},{"$f":"'Budget FCFA'!#REF!/VLOOKUP(AT$2,$BO$127:$BP$138,2,FALSE)","v":{"$error":"#REF!"}},{"$f":"'Budget FCFA'!#REF!/VLOOKUP(AU$2,$BO$127:$BP$138,2,FALSE)","v":{"$error":"#REF!"}},{"$f":"'Budget FCFA'!#REF!/VLOOKUP(AV$2,$BO$127:$BP$138,2,FALSE)","v":{"$error":"#REF!"}},{"$f":"'Budget FCFA'!#REF!/VLOOKUP(AW$2,$BO$127:$BP$138,2,FALSE)","v":{"$error":"#REF!"}},{"$f":"'Budget FCFA'!#REF!/VLOOKUP(AX$2,$BO$127:$BP$138,2,FALSE)","v":{"$error":"#REF!"}},{"$f":"'Budget FCFA'!#REF!/VLOOKUP(AY$2,$BO$127:$BP$138,2,FALSE)","v":{"$error":"#REF!"}},{"$f":"'Budget FCFA'!#REF!/VLOOKUP(AZ$2,$BO$127:$BP$138,2,FALSE)","v":{"$error":"#REF!"}},{"$f":"'Budget FCFA'!#REF!/VLOOKUP(BA$2,$BO$127:$BP$138,2,FALSE)","v":{"$error":"#REF!"}},{"$f":"'Budget FCFA'!#REF!/VLOOKUP(BB$2,$BO$127:$BP$138,2,FALSE)","v":{"$error":"#REF!"}},{"$f":"'Budget FCFA'!#REF!/VLOOKUP(BC$2,$BO$127:$BP$138,2,FALSE)","v":{"$error":"#REF!"}},{"$f":"'Budget FCFA'!#REF!/VLOOKUP(BD$2,$BO$127:$BP$138,2,FALSE)","v":{"$error":"#REF!"}},{"$f":"'Budget FCFA'!#REF!/VLOOKUP(BE$2,$BO$127:$BP$138,2,FALSE)","v":{"$error":"#REF!"}},{"$f":"'Budget FCFA'!#REF!/VLOOKUP(BF$2,$BO$127:$BP$138,2,FALSE)","v":{"$error":"#REF!"}},{"$f":"'Budget FCFA'!#REF!/VLOOKUP(BG$2,$BO$127:$BP$138,2,FALSE)","v":{"$error":"#REF!"}},{"$f":"'Budget FCFA'!#REF!/VLOOKUP(BH$2,$BO$127:$BP$138,2,FALSE)","v":{"$error":"#REF!"}},{"$f":"'Budget FCFA'!#REF!/VLOOKUP(BI$2,$BO$127:$BP$138,2,FALSE)","v":{"$error":"#REF!"}},{"$f":"'Budget FCFA'!#REF!/VLOOKUP(BJ$2,$BO$127:$BP$138,2,FALSE)","v":{"$error":"#REF!"}},{"$error":"#REF!"},{"$f":"BK119-'Budget FCFA'!#REF!","v":{"$error":"#REF!"}}]
["WEBPUSEA","DOUALA","Création Bannières web",{"$f":"'Budget FCFA'!D120/VLOOKUP(D$2,$BO$127:$BP$138,2,FALSE)","v":0},{"$f":"'Budget FCFA'!E120/VLOOKUP(E$2,$BO$127:$BP$138,2,FALSE)","v":0},{"$f":"'Budget FCFA'!F120/VLOOKUP(F$2,$BO$127:$BP$138,2,FALSE)","v":0},{"$f":"'Budget FCFA'!G120/VLOOKUP(G$2,$BO$127:$BP$138,2,FALSE)","v":0},{"$f":"'Budget FCFA'!H120/VLOOKUP(H$2,$BO$127:$BP$138,2,FALSE)","v":0},{"$f":"'Budget FCFA'!I120/VLOOKUP(I$2,$BO$127:$BP$138,2,FALSE)","v":0},{"$f":"'Budget FCFA'!J120/VLOOKUP(J$2,$BO$127:$BP$138,2,FALSE)","v":0},{"$f":"'Budget FCFA'!K120/VLOOKUP(K$2,$BO$127:$BP$138,2,FALSE)","v":0},{"$f":"'Budget FCFA'!L120/VLOOKUP(L$2,$BO$127:$BP$138,2,FALSE)","v":0},{"$f":"'Budget FCFA'!M120/VLOOKUP(M$2,$BO$127:$BP$138,2,FALSE)","v":0},{"$f":"'Budget FCFA'!N120/VLOOKUP(N$2,$BO$127:$BP$138,2,FALSE)","v":0},{"$f":"'Budget FCFA'!O120/VLOOKUP(O$2,$BO$127:$BP$138,2,FALSE)","v":0},{"$f":"'Budget FCFA'!P120/VLOOKUP(P$2,$BO$127:$BP$138,2,FALSE)","v":0},{"$f":"'Budget FCFA'!Q120/VLOOKUP(Q$2,$BO$127:$BP$138,2,FALSE)","v":0},{"$f":"'Budget FCFA'!R120/VLOOKUP(R$2,$BO$127:$BP$138,2,FALSE)","v":0},{"$f":"'Budget FCFA'!S120/VLOOKUP(S$2,$BO$127:$BP$138,2,FALSE)","v":0},{"$f":"'Budget FCFA'!T120/VLOOKUP(T$2,$BO$127:$BP$138,2,FALSE)","v":0},{"$f":"'Budget FCFA'!U120/VLOOKUP(U$2,$BO$127:$BP$138,2,FALSE)","v":0},{"$f":"'Budget FCFA'!V120/VLOOKUP(V$2,$BO$127:$BP$138,2,FALSE)","v":0},{"$f":"'Budget FCFA'!W120/VLOOKUP(W$2,$BO$127:$BP$138,2,FALSE)","v":0},{"$f":"'Budget FCFA'!X120/VLOOKUP(X$2,$BO$127:$BP$138,2,FALSE)","v":0},{"$f":"'Budget FCFA'!Y120/VLOOKUP(Y$2,$BO$127:$BP$138,2,FALSE)","v":0},{"$f":"'Budget FCFA'!Z120/VLOOKUP(Z$2,$BO$127:$BP$138,2,FALSE)","v":0},{"$f":"'Budget FCFA'!AA120/VLOOKUP(AA$2,$BO$127:$BP$138,2,FALSE)","v":0},{"$f":"'Budget FCFA'!AB120/VLOOKUP(AB$2,$BO$127:$BP$138,2,FALSE)","v":0},{"$f":"'Budget FCFA'!AC120/VLOOKUP(AC$2,$BO$127:$BP$138,2,FALSE)","v":0},{"$f":"'Budget FCFA'!AD120/VLOOKUP(AD$2,$BO$127:$BP$138,2,FALSE)","v":0},{"$f":"'Budget FCFA'!AE120/VLOOKUP(AE$2,$BO$127:$BP$138,2,FALSE)","v":0},{"$f":"'Budget FCFA'!AF120/VLOOKUP(AF$2,$BO$127:$BP$138,2,FALSE)","v":0},{"$f":"'Budget FCFA'!AG120/VLOOKUP(AG$2,$BO$127:$BP$138,2,FALSE)","v":0},{"$f":"'Budget FCFA'!AH120/VLOOKUP(AH$2,$BO$127:$BP$138,2,FALSE)","v":0},{"$f":"'Budget FCFA'!AI120/VLOOKUP(AI$2,$BO$127:$BP$138,2,FALSE)","v":0},{"$f":"'Budget FCFA'!AJ120/VLOOKUP(AJ$2,$BO$127:$BP$138,2,FALSE)","v":0},{"$f":"'Budget FCFA'!AK120/VLOOKUP(AK$2,$BO$127:$BP$138,2,FALSE)","v":0},{"$f":"'Budget FCFA'!AL120/VLOOKUP(AL$2,$BO$127:$BP$138,2,FALSE)","v":0},{"$f":"'Budget FCFA'!AM120/VLOOKUP(AM$2,$BO$127:$BP$138,2,FALSE)","v":0},{"$f":"'Budget FCFA'!AN120/VLOOKUP(AN$2,$BO$127:$BP$138,2,FALSE)","v":0},{"$f":"'Budget FCFA'!AO120/VLOOKUP(AO$2,$BO$127:$BP$138,2,FALSE)","v":0},{"$f":"'Budget FCFA'!AP120/VLOOKUP(AP$2,$BO$127:$BP$138,2,FALSE)","v":0},{"$f":"'Budget FCFA'!#REF!/VLOOKUP(AQ$2,$BO$127:$BP$138,2,FALSE)","v":{"$error":"#REF!"}},{"$f":"'Budget FCFA'!#REF!/VLOOKUP(AR$2,$BO$127:$BP$138,2,FALSE)","v":{"$error":"#REF!"}},{"$f":"'Budget FCFA'!#REF!/VLOOKUP(AS$2,$BO$127:$BP$138,2,FALSE)","v":{"$error":"#REF!"}},{"$f":"'Budget FCFA'!#REF!/VLOOKUP(AT$2,$BO$127:$BP$138,2,FALSE)","v":{"$error":"#REF!"}},{"$f":"'Budget FCFA'!#REF!/VLOOKUP(AU$2,$BO$127:$BP$138,2,FALSE)","v":{"$error":"#REF!"}},{"$f":"'Budget FCFA'!#REF!/VLOOKUP(AV$2,$BO$127:$BP$138,2,FALSE)","v":{"$error":"#REF!"}},{"$f":"'Budget FCFA'!#REF!/VLOOKUP(AW$2,$BO$127:$BP$138,2,FALSE)","v":{"$error":"#REF!"}},{"$f":"'Budget FCFA'!#REF!/VLOOKUP(AX$2,$BO$127:$BP$138,2,FALSE)","v":{"$error":"#REF!"}},{"$f":"'Budget FCFA'!#REF!/VLOOKUP(AY$2,$BO$127:$BP$138,2,FALSE)","v":{"$error":"#REF!"}},{"$f":"'Budget FCFA'!#REF!/VLOOKUP(AZ$2,$BO$127:$BP$138,2,FALSE)","v":{"$error":"#REF!"}},{"$f":"'Budget FCFA'!#REF!/VLOOKUP(BA$2,$BO$127:$BP$138,2,FALSE)","v":{"$error":"#REF!"}},{"$f":"'Budget FCFA'!#REF!/VLOOKUP(BB$2,$BO$127:$BP$138,2,FALSE)","v":{"$error":"#REF!"}},{"$f":"'Budget FCFA'!#REF!/VLOOKUP(BC$2,$BO$127:$BP$138,2,FALSE)","v":{"$error":"#REF!"}},{"$f":"'Budget FCFA'!#REF!/VLOOKUP(BD$2,$BO$127:$BP$138,2,FALSE)","v":{"$error":"#REF!"}},{"$f":"'Budget FCFA'!#REF!/VLOOKUP(BE$2,$BO$127:$BP$138,2,FALSE)","v":{"$error":"#REF!"}},{"$f":"'Budget FCFA'!#REF!/VLOOKUP(BF$2,$BO$127:$BP$138,2,FALSE)","v":{"$error":"#REF!"}},{"$f":"'Budget FCFA'!#REF!/VLOOKUP(BG$2,$BO$127:$BP$138,2,FALSE)","v":{"$error":"#REF!"}},{"$f":"'Budget FCFA'!#REF!/VLOOKUP(BH$2,$BO$127:$BP$138,2,FALSE)","v":{"$error":"#REF!"}},{"$f":"'Budget FCFA'!#REF!/VLOOKUP(BI$2,$BO$127:$BP$138,2,FALSE)","v":{"$error":"#REF!"}},{"$f":"'Budget FCFA'!#REF!/VLOOKUP(BJ$2,$BO$127:$BP$138,2,FALSE)","v":{"$error":"#REF!"}},{"$error":"#REF!"},{"$f":"BK120-'Budget FCFA'!#REF!","v":{"$error":"#REF!"}}]
["WEBPUSEA","TOTAL","Achats d'espace bannières web",{"$f":"'Budget FCFA'!D121/VLOOKUP(D$2,$BO$127:$BP$138,2,FALSE)","v":0},{"$f":"'Budget FCFA'!E121/VLOOKUP(E$2,$BO$127:$BP$138,2,FALSE)","v":0},{"$f":"'Budget FCFA'!F121/VLOOKUP(F$2,$BO$127:$BP$138,2,FALSE)","v":0},{"$f":"'Budget FCFA'!G121/VLOOKUP(G$2,$BO$127:$BP$138,2,FALSE)","v":0},{"$f":"'Budget FCFA'!H121/VLOOKUP(H$2,$BO$127:$BP$138,2,FALSE)","v":0},{"$f":"'Budget FCFA'!I121/VLOOKUP(I$2,$BO$127:$BP$138,2,FALSE)","v":0},{"$f":"'Budget FCFA'!J121/VLOOKUP(J$2,$BO$127:$BP$138,2,FALSE)","v":0},{"$f":"'Budget FCFA'!K121/VLOOKUP(K$2,$BO$127:$BP$138,2,FALSE)","v":0},{"$f":"'Budget FCFA'!L121/VLOOKUP(L$2,$BO$127:$BP$138,2,FALSE)","v":0},{"$f":"'Budget FCFA'!M121/VLOOKUP(M$2,$BO$127:$BP$138,2,FALSE)","v":0},{"$f":"'Budget FCFA'!N121/VLOOKUP(N$2,$BO$127:$BP$138,2,FALSE)","v":0},{"$f":"'Budget FCFA'!O121/VLOOKUP(O$2,$BO$127:$BP$138,2,FALSE)","v":0},{"$f":"'Budget FCFA'!P121/VLOOKUP(P$2,$BO$127:$BP$138,2,FALSE)","v":0},{"$f":"'Budget FCFA'!Q121/VLOOKUP(Q$2,$BO$127:$BP$138,2,FALSE)","v":0},{"$f":"'Budget FCFA'!R121/VLOOKUP(R$2,$BO$127:$BP$138,2,FALSE)","v":0},{"$f":"'Budget FCFA'!S121/VLOOKUP(S$2,$BO$127:$BP$138,2,FALSE)","v":0},{"$f":"'Budget FCFA'!T121/VLOOKUP(T$2,$BO$127:$BP$138,2,FALSE)","v":0},{"$f":"'Budget FCFA'!U121/VLOOKUP(U$2,$BO$127:$BP$138,2,FALSE)","v":0},{"$f":"'Budget FCFA'!V121/VLOOKUP(V$2,$BO$127:$BP$138,2,FALSE)","v":0},{"$f":"'Budget FCFA'!W121/VLOOKUP(W$2,$BO$127:$BP$138,2,FALSE)","v":0},{"$f":"'Budget FCFA'!X121/VLOOKUP(X$2,$BO$127:$BP$138,2,FALSE)","v":0},{"$f":"'Budget FCFA'!Y121/VLOOKUP(Y$2,$BO$127:$BP$138,2,FALSE)","v":0},{"$f":"'Budget FCFA'!Z121/VLOOKUP(Z$2,$BO$127:$BP$138,2,FALSE)","v":0},{"$f":"'Budget FCFA'!AA121/VLOOKUP(AA$2,$BO$127:$BP$138,2,FALSE)","v":0},{"$f":"'Budget FCFA'!AB121/VLOOKUP(AB$2,$BO$127:$BP$138,2,FALSE)","v":0},{"$f":"'Budget FCFA'!AC121/VLOOKUP(AC$2,$BO$127:$BP$138,2,FALSE)","v":0},{"$f":"'Budget FCFA'!AD121/VLOOKUP(AD$2,$BO$127:$BP$138,2,FALSE)","v":0},{"$f":"'Budget FCFA'!AE121/VLOOKUP(AE$2,$BO$127:$BP$138,2,FALSE)","v":0},{"$f":"'Budget FCFA'!AF121/VLOOKUP(AF$2,$BO$127:$BP$138,2,FALSE)","v":0},{"$f":"'Budget FCFA'!AG121/VLOOKUP(AG$2,$BO$127:$BP$138,2,FALSE)","v":0},{"$f":"'Budget FCFA'!AH121/VLOOKUP(AH$2,$BO$127:$BP$138,2,FALSE)","v":0},{"$f":"'Budget FCFA'!AI121/VLOOKUP(AI$2,$BO$127:$BP$138,2,FALSE)","v":0},{"$f":"'Budget FCFA'!AJ121/VLOOKUP(AJ$2,$BO$127:$BP$138,2,FALSE)","v":0},{"$f":"'Budget FCFA'!AK121/VLOOKUP(AK$2,$BO$127:$BP$138,2,FALSE)","v":0},{"$f":"'Budget FCFA'!AL121/VLOOKUP(AL$2,$BO$127:$BP$138,2,FALSE)","v":0},{"$f":"'Budget FCFA'!AM121/VLOOKUP(AM$2,$BO$127:$BP$138,2,FALSE)","v":0},{"$f":"'Budget FCFA'!AN121/VLOOKUP(AN$2,$BO$127:$BP$138,2,FALSE)","v":0},{"$f":"'Budget FCFA'!AO121/VLOOKUP(AO$2,$BO$127:$BP$138,2,FALSE)","v":0},{"$f":"'Budget FCFA'!AP121/VLOOKUP(AP$2,$BO$127:$BP$138,2,FALSE)","v":0},{"$f":"'Budget FCFA'!#REF!/VLOOKUP(AQ$2,$BO$127:$BP$138,2,FALSE)","v":{"$error":"#REF!"}},{"$f":"'Budget FCFA'!#REF!/VLOOKUP(AR$2,$BO$127:$BP$138,2,FALSE)","v":{"$error":"#REF!"}},{"$f":"'Budget FCFA'!#REF!/VLOOKUP(AS$2,$BO$127:$BP$138,2,FALSE)","v":{"$error":"#REF!"}},{"$f":"'Budget FCFA'!#REF!/VLOOKUP(AT$2,$BO$127:$BP$138,2,FALSE)","v":{"$error":"#REF!"}},{"$f":"'Budget FCFA'!#REF!/VLOOKUP(AU$2,$BO$127:$BP$138,2,FALSE)","v":{"$error":"#REF!"}},{"$f":"'Budget FCFA'!#REF!/VLOOKUP(AV$2,$BO$127:$BP$138,2,FALSE)","v":{"$error":"#REF!"}},{"$f":"'Budget FCFA'!#REF!/VLOOKUP(AW$2,$BO$127:$BP$138,2,FALSE)","v":{"$error":"#REF!"}},{"$f":"'Budget FCFA'!#REF!/VLOOKUP(AX$2,$BO$127:$BP$138,2,FALSE)","v":{"$error":"#REF!"}},{"$f":"'Budget FCFA'!#REF!/VLOOKUP(AY$2,$BO$127:$BP$138,2,FALSE)","v":{"$error":"#REF!"}},{"$f":"'Budget FCFA'!#REF!/VLOOKUP(AZ$2,$BO$127:$BP$138,2,FALSE)","v":{"$error":"#REF!"}},{"$f":"'Budget FCFA'!#REF!/VLOOKUP(BA$2,$BO$127:$BP$138,2,FALSE)","v":{"$error":"#REF!"}},{"$f":"'Budget FCFA'!#REF!/VLOOKUP(BB$2,$BO$127:$BP$138,2,FALSE)","v":{"$error":"#REF!"}},{"$f":"'Budget FCFA'!#REF!/VLOOKUP(BC$2,$BO$127:$BP$138,2,FALSE)","v":{"$error":"#REF!"}},{"$f":"'Budget FCFA'!#REF!/VLOOKUP(BD$2,$BO$127:$BP$138,2,FALSE)","v":{"$error":"#REF!"}},{"$f":"'Budget FCFA'!#REF!/VLOOKUP(BE$2,$BO$127:$BP$138,2,FALSE)","v":{"$error":"#REF!"}},{"$f":"'Budget FCFA'!#REF!/VLOOKUP(BF$2,$BO$127:$BP$138,2,FALSE)","v":{"$error":"#REF!"}},{"$f":"'Budget FCFA'!#REF!/VLOOKUP(BG$2,$BO$127:$BP$138,2,FALSE)","v":{"$error":"#REF!"}},{"$f":"'Budget FCFA'!#REF!/VLOOKUP(BH$2,$BO$127:$BP$138,2,FALSE)","v":{"$error":"#REF!"}},{"$f":"'Budget FCFA'!#REF!/VLOOKUP(BI$2,$BO$127:$BP$138,2,FALSE)","v":{"$error":"#REF!"}},{"$f":"'Budget FCFA'!#REF!/VLOOKUP(BJ$2,$BO$127:$BP$138,2,FALSE)","v":{"$error":"#REF!"}},{"$error":"#REF!"},{"$f":"BK121-'Budget FCFA'!#REF!","v":{"$error":"#REF!"}}]
["PUBWEB00","ABIDJAN","Envoi SMS ",{"$f":"'Budget FCFA'!D122/VLOOKUP(D$2,$BO$127:$BP$138,2,FALSE)","v":1194.3603010563193},{"$f":"'Budget FCFA'!E122/VLOOKUP(E$2,$BO$127:$BP$138,2,FALSE)","v":0},{"$f":"'Budget FCFA'!F122/VLOOKUP(F$2,$BO$127:$BP$138,2,FALSE)","v":0},{"$f":"'Budget FCFA'!G122/VLOOKUP(G$2,$BO$127:$BP$138,2,FALSE)","v":0},{"$f":"'Budget FCFA'!H122/VLOOKUP(H$2,$BO$127:$BP$138,2,FALSE)","v":0},{"$f":"'Budget FCFA'!I122/VLOOKUP(I$2,$BO$127:$BP$138,2,FALSE)","v":1194.3404826840783},{"$f":"'Budget FCFA'!J122/VLOOKUP(J$2,$BO$127:$BP$138,2,FALSE)","v":0},{"$f":"'Budget FCFA'!K122/VLOOKUP(K$2,$BO$127:$BP$138,2,FALSE)","v":0},{"$f":"'Budget FCFA'!L122/VLOOKUP(L$2,$BO$127:$BP$138,2,FALSE)","v":0},{"$f":"'Budget FCFA'!M122/VLOOKUP(M$2,$BO$127:$BP$138,2,FALSE)","v":0},{"$f":"'Budget FCFA'!N122/VLOOKUP(N$2,$BO$127:$BP$138,2,FALSE)","v":0},{"$f":"'Budget FCFA'!O122/VLOOKUP(O$2,$BO$127:$BP$138,2,FALSE)","v":0},{"$f":"'Budget FCFA'!P122/VLOOKUP(P$2,$BO$127:$BP$138,2,FALSE)","v":1056.7857344307631},{"$f":"'Budget FCFA'!Q122/VLOOKUP(Q$2,$BO$127:$BP$138,2,FALSE)","v":0},{"$f":"'Budget FCFA'!R122/VLOOKUP(R$2,$BO$127:$BP$138,2,FALSE)","v":0},{"$f":"'Budget FCFA'!S122/VLOOKUP(S$2,$BO$127:$BP$138,2,FALSE)","v":0},{"$f":"'Budget FCFA'!T122/VLOOKUP(T$2,$BO$127:$BP$138,2,FALSE)","v":648.6858132469049},{"$f":"'Budget FCFA'!U122/VLOOKUP(U$2,$BO$127:$BP$138,2,FALSE)","v":0},{"$f":"'Budget FCFA'!V122/VLOOKUP(V$2,$BO$127:$BP$138,2,FALSE)","v":0},{"$f":"'Budget FCFA'!W122/VLOOKUP(W$2,$BO$127:$BP$138,2,FALSE)","v":0},{"$f":"'Budget FCFA'!X122/VLOOKUP(X$2,$BO$127:$BP$138,2,FALSE)","v":649.62642368325976},{"$f":"'Budget FCFA'!Y122/VLOOKUP(Y$2,$BO$127:$BP$138,2,FALSE)","v":649.6172767422255},{"$f":"'Budget FCFA'!Z122/VLOOKUP(Z$2,$BO$127:$BP$138,2,FALSE)","v":0},{"$f":"'Budget FCFA'!AA122/VLOOKUP(AA$2,$BO$127:$BP$138,2,FALSE)","v":0},{"$f":"'Budget FCFA'!AB122/VLOOKUP(AB$2,$BO$127:$BP$138,2,FALSE)","v":648.63758206397074},{"$f":"'Budget FCFA'!AC122/VLOOKUP(AC$2,$BO$127:$BP$138,2,FALSE)","v":0},{"$f":"'Budget FCFA'!AD122/VLOOKUP(AD$2,$BO$127:$BP$138,2,FALSE)","v":0},{"$f":"'Budget FCFA'!AE122/VLOOKUP(AE$2,$BO$127:$BP$138,2,FALSE)","v":0},{"$f":"'Budget FCFA'!AF122/VLOOKUP(AF$2,$BO$127:$BP$138,2,FALSE)","v":0},{"$f":"'Budget FCFA'!AG122/VLOOKUP(AG$2,$BO$127:$BP$138,2,FALSE)","v":2213.5597302871988},{"$f":"'Budget FCFA'!AH122/VLOOKUP(AH$2,$BO$127:$BP$138,2,FALSE)","v":0},{"$f":"'Budget FCFA'!AI122/VLOOKUP(AI$2,$BO$127:$BP$138,2,FALSE)","v":0},{"$f":"'Budget FCFA'!AJ122/VLOOKUP(AJ$2,$BO$127:$BP$138,2,FALSE)","v":0},{"$f":"'Budget FCFA'!AK122/VLOOKUP(AK$2,$BO$127:$BP$138,2,FALSE)","v":0},{"$f":"'Budget FCFA'!AL122/VLOOKUP(AL$2,$BO$127:$BP$138,2,FALSE)","v":2213.5597302871988},{"$f":"'Budget FCFA'!AM122/VLOOKUP(AM$2,$BO$127:$BP$138,2,FALSE)","v":4427.1194605743976},{"$f":"'Budget FCFA'!AN122/VLOOKUP(AN$2,$BO$127:$BP$138,2,FALSE)","v":0},{"$f":"'Budget FCFA'!AO122/VLOOKUP(AO$2,$BO$127:$BP$138,2,FALSE)","v":0},{"$f":"'Budget FCFA'!AP122/VLOOKUP(AP$2,$BO$127:$BP$138,2,FALSE)","v":0},{"$f":"'Budget FCFA'!#REF!/VLOOKUP(AQ$2,$BO$127:$BP$138,2,FALSE)","v":{"$error":"#REF!"}},{"$f":"'Budget FCFA'!#REF!/VLOOKUP(AR$2,$BO$127:$BP$138,2,FALSE)","v":{"$error":"#REF!"}},{"$f":"'Budget FCFA'!#REF!/VLOOKUP(AS$2,$BO$127:$BP$138,2,FALSE)","v":{"$error":"#REF!"}},{"$f":"'Budget FCFA'!#REF!/VLOOKUP(AT$2,$BO$127:$BP$138,2,FALSE)","v":{"$error":"#REF!"}},{"$f":"'Budget FCFA'!#REF!/VLOOKUP(AU$2,$BO$127:$BP$138,2,FALSE)","v":{"$error":"#REF!"}},{"$f":"'Budget FCFA'!#REF!/VLOOKUP(AV$2,$BO$127:$BP$138,2,FALSE)","v":{"$error":"#REF!"}},{"$f":"'Budget FCFA'!#REF!/VLOOKUP(AW$2,$BO$127:$BP$138,2,FALSE)","v":{"$error":"#REF!"}},{"$f":"'Budget FCFA'!#REF!/VLOOKUP(AX$2,$BO$127:$BP$138,2,FALSE)","v":{"$error":"#REF!"}},{"$f":"'Budget FCFA'!#REF!/VLOOKUP(AY$2,$BO$127:$BP$138,2,FALSE)","v":{"$error":"#REF!"}},{"$f":"'Budget FCFA'!#REF!/VLOOKUP(AZ$2,$BO$127:$BP$138,2,FALSE)","v":{"$error":"#REF!"}},{"$f":"'Budget FCFA'!#REF!/VLOOKUP(BA$2,$BO$127:$BP$138,2,FALSE)","v":{"$error":"#REF!"}},{"$f":"'Budget FCFA'!#REF!/VLOOKUP(BB$2,$BO$127:$BP$138,2,FALSE)","v":{"$error":"#REF!"}},{"$f":"'Budget FCFA'!#REF!/VLOOKUP(BC$2,$BO$127:$BP$138,2,FALSE)","v":{"$error":"#REF!"}},{"$f":"'Budget FCFA'!#REF!/VLOOKUP(BD$2,$BO$127:$BP$138,2,FALSE)","v":{"$error":"#REF!"}},{"$f":"'Budget FCFA'!#REF!/VLOOKUP(BE$2,$BO$127:$BP$138,2,FALSE)","v":{"$error":"#REF!"}},{"$f":"'Budget FCFA'!#REF!/VLOOKUP(BF$2,$BO$127:$BP$138,2,FALSE)","v":{"$error":"#REF!"}},{"$f":"'Budget FCFA'!#REF!/VLOOKUP(BG$2,$BO$127:$BP$138,2,FALSE)","v":{"$error":"#REF!"}},{"$f":"'Budget FCFA'!#REF!/VLOOKUP(BH$2,$BO$127:$BP$138,2,FALSE)","v":{"$error":"#REF!"}},{"$f":"'Budget FCFA'!#REF!/VLOOKUP(BI$2,$BO$127:$BP$138,2,FALSE)","v":{"$error":"#REF!"}},{"$f":"'Budget FCFA'!#REF!/VLOOKUP(BJ$2,$BO$127:$BP$138,2,FALSE)","v":{"$error":"#REF!"}},{"$error":"#REF!"},{"$f":"BK122-'Budget FCFA'!#REF!","v":{"$error":"#REF!"}}]
["PUBWEB00","BRAZZA","Envoi SMS ",{"$f":"'Budget FCFA'!D123/VLOOKUP(D$2,$BO$127:$BP$138,2,FALSE)","v":0},{"$f":"'Budget FCFA'!E123/VLOOKUP(E$2,$BO$127:$BP$138,2,FALSE)","v":0},{"$f":"'Budget FCFA'!F123/VLOOKUP(F$2,$BO$127:$BP$138,2,FALSE)","v":0},{"$f":"'Budget FCFA'!G123/VLOOKUP(G$2,$BO$127:$BP$138,2,FALSE)","v":0},{"$f":"'Budget FCFA'!H123/VLOOKUP(H$2,$BO$127:$BP$138,2,FALSE)","v":0},{"$f":"'Budget FCFA'!I123/VLOOKUP(I$2,$BO$127:$BP$138,2,FALSE)","v":0},{"$f":"'Budget FCFA'!J123/VLOOKUP(J$2,$BO$127:$BP$138,2,FALSE)","v":0},{"$f":"'Budget FCFA'!K123/VLOOKUP(K$2,$BO$127:$BP$138,2,FALSE)","v":0},{"$f":"'Budget FCFA'!L123/VLOOKUP(L$2,$BO$127:$BP$138,2,FALSE)","v":0},{"$f":"'Budget FCFA'!M123/VLOOKUP(M$2,$BO$127:$BP$138,2,FALSE)","v":0},{"$f":"'Budget FCFA'!N123/VLOOKUP(N$2,$BO$127:$BP$138,2,FALSE)","v":0},{"$f":"'Budget FCFA'!O123/VLOOKUP(O$2,$BO$127:$BP$138,2,FALSE)","v":90.211705950237587},{"$f":"'Budget FCFA'!P123/VLOOKUP(P$2,$BO$127:$BP$138,2,FALSE)","v":180.42341190047517},{"$f":"'Budget FCFA'!Q123/VLOOKUP(Q$2,$BO$127:$BP$138,2,FALSE)","v":0},{"$f":"'Budget FCFA'!R123/VLOOKUP(R$2,$BO$127:$BP$138,2,FALSE)","v":0},{"$f":"'Budget FCFA'!S123/VLOOKUP(S$2,$BO$127:$BP$138,2,FALSE)","v":0},{"$f":"'Budget FCFA'!T123/VLOOKUP(T$2,$BO$127:$BP$138,2,FALSE)","v":93.573206780322494},{"$f":"'Budget FCFA'!U123/VLOOKUP(U$2,$BO$127:$BP$138,2,FALSE)","v":0},{"$f":"'Budget FCFA'!V123/VLOOKUP(V$2,$BO$127:$BP$138,2,FALSE)","v":0},{"$f":"'Budget FCFA'!W123/VLOOKUP(W$2,$BO$127:$BP$138,2,FALSE)","v":0},{"$f":"'Budget FCFA'!X123/VLOOKUP(X$2,$BO$127:$BP$138,2,FALSE)","v":93.5960741329081},{"$f":"'Budget FCFA'!Y123/VLOOKUP(Y$2,$BO$127:$BP$138,2,FALSE)","v":93.5960741329081},{"$f":"'Budget FCFA'!Z123/VLOOKUP(Z$2,$BO$127:$BP$138,2,FALSE)","v":0},{"$f":"'Budget FCFA'!AA123/VLOOKUP(AA$2,$BO$127:$BP$138,2,FALSE)","v":0},{"$f":"'Budget FCFA'!AB123/VLOOKUP(AB$2,$BO$127:$BP$138,2,FALSE)","v":93.430772485870463},{"$f":"'Budget FCFA'!AC123/VLOOKUP(AC$2,$BO$127:$BP$138,2,FALSE)","v":0},{"$f":"'Budget FCFA'!AD123/VLOOKUP(AD$2,$BO$127:$BP$138,2,FALSE)","v":0},{"$f":"'Budget FCFA'!AE123/VLOOKUP(AE$2,$BO$127:$BP$138,2,FALSE)","v":0},{"$f":"'Budget FCFA'!AF123/VLOOKUP(AF$2,$BO$127:$BP$138,2,FALSE)","v":93.430772485870463},{"$f":"'Budget FCFA'!AG123/VLOOKUP(AG$2,$BO$127:$BP$138,2,FALSE)","v":160.07146809928091},{"$f":"'Budget FCFA'!AH123/VLOOKUP(AH$2,$BO$127:$BP$138,2,FALSE)","v":0},{"$f":"'Budget FCFA'!AI123/VLOOKUP(AI$2,$BO$127:$BP$138,2,FALSE)","v":0},{"$f":"'Budget FCFA'!AJ123/VLOOKUP(AJ$2,$BO$127:$BP$138,2,FALSE)","v":0},{"$f":"'Budget FCFA'!AK123/VLOOKUP(AK$2,$BO$127:$BP$138,2,FALSE)","v":0},{"$f":"'Budget FCFA'!AL123/VLOOKUP(AL$2,$BO$127:$BP$138,2,FALSE)","v":160.07146809928091},{"$f":"'Budget FCFA'!AM123/VLOOKUP(AM$2,$BO$127:$BP$138,2,FALSE)","v":320.14293619856181},{"$f":"'Budget FCFA'!AN123/VLOOKUP(AN$2,$BO$127:$BP$138,2,FALSE)","v":0},{"$f":"'Budget FCFA'!AO123/VLOOKUP(AO$2,$BO$127:$BP$138,2,FALSE)","v":0},{"$f":"'Budget FCFA'!AP123/VLOOKUP(AP$2,$BO$127:$BP$138,2,FALSE)","v":0},{"$f":"'Budget FCFA'!#REF!/VLOOKUP(AQ$2,$BO$127:$BP$138,2,FALSE)","v":{"$error":"#REF!"}},{"$f":"'Budget FCFA'!#REF!/VLOOKUP(AR$2,$BO$127:$BP$138,2,FALSE)","v":{"$error":"#REF!"}},{"$f":"'Budget FCFA'!#REF!/VLOOKUP(AS$2,$BO$127:$BP$138,2,FALSE)","v":{"$error":"#REF!"}},{"$f":"'Budget FCFA'!#REF!/VLOOKUP(AT$2,$BO$127:$BP$138,2,FALSE)","v":{"$error":"#REF!"}},{"$f":"'Budget FCFA'!#REF!/VLOOKUP(AU$2,$BO$127:$BP$138,2,FALSE)","v":{"$error":"#REF!"}},{"$f":"'Budget FCFA'!#REF!/VLOOKUP(AV$2,$BO$127:$BP$138,2,FALSE)","v":{"$error":"#REF!"}},{"$f":"'Budget FCFA'!#REF!/VLOOKUP(AW$2,$BO$127:$BP$138,2,FALSE)","v":{"$error":"#REF!"}},{"$f":"'Budget FCFA'!#REF!/VLOOKUP(AX$2,$BO$127:$BP$138,2,FALSE)","v":{"$error":"#REF!"}},{"$f":"'Budget FCFA'!#REF!/VLOOKUP(AY$2,$BO$127:$BP$138,2,FALSE)","v":{"$error":"#REF!"}},{"$f":"'Budget FCFA'!#REF!/VLOOKUP(AZ$2,$BO$127:$BP$138,2,FALSE)","v":{"$error":"#REF!"}},{"$f":"'Budget FCFA'!#REF!/VLOOKUP(BA$2,$BO$127:$BP$138,2,FALSE)","v":{"$error":"#REF!"}},{"$f":"'Budget FCFA'!#REF!/VLOOKUP(BB$2,$BO$127:$BP$138,2,FALSE)","v":{"$error":"#REF!"}},{"$f":"'Budget FCFA'!#REF!/VLOOKUP(BC$2,$BO$127:$BP$138,2,FALSE)","v":{"$error":"#REF!"}},{"$f":"'Budget FCFA'!#REF!/VLOOKUP(BD$2,$BO$127:$BP$138,2,FALSE)","v":{"$error":"#REF!"}},{"$f":"'Budget FCFA'!#REF!/VLOOKUP(BE$2,$BO$127:$BP$138,2,FALSE)","v":{"$error":"#REF!"}},{"$f":"'Budget FCFA'!#REF!/VLOOKUP(BF$2,$BO$127:$BP$138,2,FALSE)","v":{"$error":"#REF!"}},{"$f":"'Budget FCFA'!#REF!/VLOOKUP(BG$2,$BO$127:$BP$138,2,FALSE)","v":{"$error":"#REF!"}},{"$f":"'Budget FCFA'!#REF!/VLOOKUP(BH$2,$BO$127:$BP$138,2,FALSE)","v":{"$error":"#REF!"}},{"$f":"'Budget FCFA'!#REF!/VLOOKUP(BI$2,$BO$127:$BP$138,2,FALSE)","v":{"$error":"#REF!"}},{"$f":"'Budget FCFA'!#REF!/VLOOKUP(BJ$2,$BO$127:$BP$138,2,FALSE)","v":{"$error":"#REF!"}},{"$error":"#REF!"},{"$f":"BK123-'Budget FCFA'!#REF!","v":{"$error":"#REF!"}}]
["PUBWEB00","DAKAR","Envoi SMS ",{"$f":"'Budget FCFA'!D124/VLOOKUP(D$2,$BO$127:$BP$138,2,FALSE)","v":0},{"$f":"'Budget FCFA'!E124/VLOOKUP(E$2,$BO$127:$BP$138,2,FALSE)","v":0},{"$f":"'Budget FCFA'!F124/VLOOKUP(F$2,$BO$127:$BP$138,2,FALSE)","v":205.80617327050402},{"$f":"'Budget FCFA'!G124/VLOOKUP(G$2,$BO$127:$BP$138,2,FALSE)","v":0},{"$f":"'Budget FCFA'!H124/VLOOKUP(H$2,$BO$127:$BP$138,2,FALSE)","v":0},{"$f":"'Budget FCFA'!I124/VLOOKUP(I$2,$BO$127:$BP$138,2,FALSE)","v":205.80617327050402},{"$f":"'Budget FCFA'!J124/VLOOKUP(J$2,$BO$127:$BP$138,2,FALSE)","v":0},{"$f":"'Budget FCFA'!K124/VLOOKUP(K$2,$BO$127:$BP$138,2,FALSE)","v":0},{"$f":"'Budget FCFA'!L124/VLOOKUP(L$2,$BO$127:$BP$138,2,FALSE)","v":0},{"$f":"'Budget FCFA'!M124/VLOOKUP(M$2,$BO$127:$BP$138,2,FALSE)","v":205.80617327050402},{"$f":"'Budget FCFA'!N124/VLOOKUP(N$2,$BO$127:$BP$138,2,FALSE)","v":0},{"$f":"'Budget FCFA'!O124/VLOOKUP(O$2,$BO$127:$BP$138,2,FALSE)","v":0},{"$f":"'Budget FCFA'!P124/VLOOKUP(P$2,$BO$127:$BP$138,2,FALSE)","v":411.61234654100804},{"$f":"'Budget FCFA'!Q124/VLOOKUP(Q$2,$BO$127:$BP$138,2,FALSE)","v":0},{"$f":"'Budget FCFA'!R124/VLOOKUP(R$2,$BO$127:$BP$138,2,FALSE)","v":0},{"$f":"'Budget FCFA'!S124/VLOOKUP(S$2,$BO$127:$BP$138,2,FALSE)","v":0},{"$f":"'Budget FCFA'!T124/VLOOKUP(T$2,$BO$127:$BP$138,2,FALSE)","v":205.80617327050402},{"$f":"'Budget FCFA'!U124/VLOOKUP(U$2,$BO$127:$BP$138,2,FALSE)","v":0},{"$f":"'Budget FCFA'!V124/VLOOKUP(V$2,$BO$127:$BP$138,2,FALSE)","v":0},{"$f":"'Budget FCFA'!W124/VLOOKUP(W$2,$BO$127:$BP$138,2,FALSE)","v":0},{"$f":"'Budget FCFA'!X124/VLOOKUP(X$2,$BO$127:$BP$138,2,FALSE)","v":205.80617327050402},{"$f":"'Budget FCFA'!Y124/VLOOKUP(Y$2,$BO$127:$BP$138,2,FALSE)","v":205.80617327050402},{"$f":"'Budget FCFA'!Z124/VLOOKUP(Z$2,$BO$127:$BP$138,2,FALSE)","v":0},{"$f":"'Budget FCFA'!AA124/VLOOKUP(AA$2,$BO$127:$BP$138,2,FALSE)","v":0},{"$f":"'Budget FCFA'!AB124/VLOOKUP(AB$2,$BO$127:$BP$138,2,FALSE)","v":0},{"$f":"'Budget FCFA'!AC124/VLOOKUP(AC$2,$BO$127:$BP$138,2,FALSE)","v":0},{"$f":"'Budget FCFA'!AD124/VLOOKUP(AD$2,$BO$127:$BP$138,2,FALSE)","v":0},{"$f":"'Budget FCFA'!AE124/VLOOKUP(AE$2,$BO$127:$BP$138,2,FALSE)","v":0},{"$f":"'Budget FCFA'!AF124/VLOOKUP(AF$2,$BO$127:$BP$138,2,FALSE)","v":0},{"$f":"'Budget FCFA'!AG124/VLOOKUP(AG$2,$BO$127:$BP$138,2,FALSE)","v":343.01028878417338},{"$f":"'Budget FCFA'!AH124/VLOOKUP(AH$2,$BO$127:$BP$138,2,FALSE)","v":0},{"$f":"'Budget FCFA'!AI124/VLOOKUP(AI$2,$BO$127:$BP$138,2,FALSE)","v":0},{"$f":"'Budget FCFA'!AJ124/VLOOKUP(AJ$2,$BO$127:$BP$138,2,FALSE)","v":0},{"$f":"'Budget FCFA'!AK124/VLOOKUP(AK$2,$BO$127:$BP$138,2,FALSE)","v":0},{"$f":"'Budget FCFA'!AL124/VLOOKUP(AL$2,$BO$127:$BP$138,2,FALSE)","v":343.01028878417338},{"$f":"'Budget FCFA'!AM124/VLOOKUP(AM$2,$BO$127:$BP$138,2,FALSE)","v":686.02057756834677},{"$f":"'Budget FCFA'!AN124/VLOOKUP(AN$2,$BO$127:$BP$138,2,FALSE)","v":0},{"$f":"'Budget FCFA'!AO124/VLOOKUP(AO$2,$BO$127:$BP$138,2,FALSE)","v":0},{"$f":"'Budget FCFA'!AP124/VLOOKUP(AP$2,$BO$127:$BP$138,2,FALSE)","v":0},{"$f":"'Budget FCFA'!#REF!/VLOOKUP(AQ$2,$BO$127:$BP$138,2,FALSE)","v":{"$error":"#REF!"}},{"$f":"'Budget FCFA'!#REF!/VLOOKUP(AR$2,$BO$127:$BP$138,2,FALSE)","v":{"$error":"#REF!"}},{"$f":"'Budget FCFA'!#REF!/VLOOKUP(AS$2,$BO$127:$BP$138,2,FALSE)","v":{"$error":"#REF!"}},{"$f":"'Budget FCFA'!#REF!/VLOOKUP(AT$2,$BO$127:$BP$138,2,FALSE)","v":{"$error":"#REF!"}},{"$f":"'Budget FCFA'!#REF!/VLOOKUP(AU$2,$BO$127:$BP$138,2,FALSE)","v":{"$error":"#REF!"}},{"$f":"'Budget FCFA'!#REF!/VLOOKUP(AV$2,$BO$127:$BP$138,2,FALSE)","v":{"$error":"#REF!"}},{"$f":"'Budget FCFA'!#REF!/VLOOKUP(AW$2,$BO$127:$BP$138,2,FALSE)","v":{"$error":"#REF!"}},{"$f":"'Budget FCFA'!#REF!/VLOOKUP(AX$2,$BO$127:$BP$138,2,FALSE)","v":{"$error":"#REF!"}},{"$f":"'Budget FCFA'!#REF!/VLOOKUP(AY$2,$BO$127:$BP$138,2,FALSE)","v":{"$error":"#REF!"}},{"$f":"'Budget FCFA'!#REF!/VLOOKUP(AZ$2,$BO$127:$BP$138,2,FALSE)","v":{"$error":"#REF!"}},{"$f":"'Budget FCFA'!#REF!/VLOOKUP(BA$2,$BO$127:$BP$138,2,FALSE)","v":{"$error":"#REF!"}},{"$f":"'Budget FCFA'!#REF!/VLOOKUP(BB$2,$BO$127:$BP$138,2,FALSE)","v":{"$error":"#REF!"}},{"$f":"'Budget FCFA'!#REF!/VLOOKUP(BC$2,$BO$127:$BP$138,2,FALSE)","v":{"$error":"#REF!"}},{"$f":"'Budget FCFA'!#REF!/VLOOKUP(BD$2,$BO$127:$BP$138,2,FALSE)","v":{"$error":"#REF!"}},{"$f":"'Budget FCFA'!#REF!/VLOOKUP(BE$2,$BO$127:$BP$138,2,FALSE)","v":{"$error":"#REF!"}},{"$f":"'Budget FCFA'!#REF!/VLOOKUP(BF$2,$BO$127:$BP$138,2,FALSE)","v":{"$error":"#REF!"}},{"$f":"'Budget FCFA'!#REF!/VLOOKUP(BG$2,$BO$127:$BP$138,2,FALSE)","v":{"$error":"#REF!"}},{"$f":"'Budget FCFA'!#REF!/VLOOKUP(BH$2,$BO$127:$BP$138,2,FALSE)","v":{"$error":"#REF!"}},{"$f":"'Budget FCFA'!#REF!/VLOOKUP(BI$2,$BO$127:$BP$138,2,FALSE)","v":{"$error":"#REF!"}},{"$f":"'Budget FCFA'!#REF!/VLOOKUP(BJ$2,$BO$127:$BP$138,2,FALSE)","v":{"$error":"#REF!"}},{"$error":"#REF!"},{"$f":"BK124-'Budget FCFA'!#REF!","v":{"$error":"#REF!"}}]
["PUBWEB00","LIBREVILLE","Envoi SMS ",{"$f":"'Budget FCFA'!D125/VLOOKUP(D$2,$BO$127:$BP$138,2,FALSE)","v":0},{"$f":"'Budget FCFA'!E125/VLOOKUP(E$2,$BO$127:$BP$138,2,FALSE)","v":0},{"$f":"'Budget FCFA'!F125/VLOOKUP(F$2,$BO$127:$BP$138,2,FALSE)","v":0},{"$f":"'Budget FCFA'!G125/VLOOKUP(G$2,$BO$127:$BP$138,2,FALSE)","v":0},{"$f":"'Budget FCFA'!H125/VLOOKUP(H$2,$BO$127:$BP$138,2,FALSE)","v":0},{"$f":"'Budget FCFA'!I125/VLOOKUP(I$2,$BO$127:$BP$138,2,FALSE)","v":512.78056336009831},{"$f":"'Budget FCFA'!J125/VLOOKUP(J$2,$BO$127:$BP$138,2,FALSE)","v":0},{"$f":"'Budget FCFA'!K125/VLOOKUP(K$2,$BO$127:$BP$138,2,FALSE)","v":0},{"$f":"'Budget FCFA'!L125/VLOOKUP(L$2,$BO$127:$BP$138,2,FALSE)","v":0},{"$f":"'Budget FCFA'!M125/VLOOKUP(M$2,$BO$127:$BP$138,2,FALSE)","v":0},{"$f":"'Budget FCFA'!N125/VLOOKUP(N$2,$BO$127:$BP$138,2,FALSE)","v":0},{"$f":"'Budget FCFA'!O125/VLOOKUP(O$2,$BO$127:$BP$138,2,FALSE)","v":0},{"$f":"'Budget FCFA'!P125/VLOOKUP(P$2,$BO$127:$BP$138,2,FALSE)","v":1270.1610014071045},{"$f":"'Budget FCFA'!Q125/VLOOKUP(Q$2,$BO$127:$BP$138,2,FALSE)","v":0},{"$f":"'Budget FCFA'!R125/VLOOKUP(R$2,$BO$127:$BP$138,2,FALSE)","v":0},{"$f":"'Budget FCFA'!S125/VLOOKUP(S$2,$BO$127:$BP$138,2,FALSE)","v":0},{"$f":"'Budget FCFA'!T125/VLOOKUP(T$2,$BO$127:$BP$138,2,FALSE)","v":736.08026135859518},{"$f":"'Budget FCFA'!U125/VLOOKUP(U$2,$BO$127:$BP$138,2,FALSE)","v":0},{"$f":"'Budget FCFA'!V125/VLOOKUP(V$2,$BO$127:$BP$138,2,FALSE)","v":0},{"$f":"'Budget FCFA'!W125/VLOOKUP(W$2,$BO$127:$BP$138,2,FALSE)","v":0},{"$f":"'Budget FCFA'!X125/VLOOKUP(X$2,$BO$127:$BP$138,2,FALSE)","v":736.08026135859518},{"$f":"'Budget FCFA'!Y125/VLOOKUP(Y$2,$BO$127:$BP$138,2,FALSE)","v":736.08026135859518},{"$f":"'Budget FCFA'!Z125/VLOOKUP(Z$2,$BO$127:$BP$138,2,FALSE)","v":0},{"$f":"'Budget FCFA'!AA125/VLOOKUP(AA$2,$BO$127:$BP$138,2,FALSE)","v":0},{"$f":"'Budget FCFA'!AB125/VLOOKUP(AB$2,$BO$127:$BP$138,2,FALSE)","v":734.95982233235964},{"$f":"'Budget FCFA'!AC125/VLOOKUP(AC$2,$BO$127:$BP$138,2,FALSE)","v":0},{"$f":"'Budget FCFA'!AD125/VLOOKUP(AD$2,$BO$127:$BP$138,2,FALSE)","v":0},{"$f":"'Budget FCFA'!AE125/VLOOKUP(AE$2,$BO$127:$BP$138,2,FALSE)","v":0},{"$f":"'Budget FCFA'!AF125/VLOOKUP(AF$2,$BO$127:$BP$138,2,FALSE)","v":734.95982233235964},{"$f":"'Budget FCFA'!AG125/VLOOKUP(AG$2,$BO$127:$BP$138,2,FALSE)","v":1333.9289008273408},{"$f":"'Budget FCFA'!AH125/VLOOKUP(AH$2,$BO$127:$BP$138,2,FALSE)","v":0},{"$f":"'Budget FCFA'!AI125/VLOOKUP(AI$2,$BO$127:$BP$138,2,FALSE)","v":0},{"$f":"'Budget FCFA'!AJ125/VLOOKUP(AJ$2,$BO$127:$BP$138,2,FALSE)","v":0},{"$f":"'Budget FCFA'!AK125/VLOOKUP(AK$2,$BO$127:$BP$138,2,FALSE)","v":0},{"$f":"'Budget FCFA'!AL125/VLOOKUP(AL$2,$BO$127:$BP$138,2,FALSE)","v":1333.9289008273408},{"$f":"'Budget FCFA'!AM125/VLOOKUP(AM$2,$BO$127:$BP$138,2,FALSE)","v":1333.9289008273408},{"$f":"'Budget FCFA'!AN125/VLOOKUP(AN$2,$BO$127:$BP$138,2,FALSE)","v":0},{"$f":"'Budget FCFA'!AO125/VLOOKUP(AO$2,$BO$127:$BP$138,2,FALSE)","v":0},{"$f":"'Budget FCFA'!AP125/VLOOKUP(AP$2,$BO$127:$BP$138,2,FALSE)","v":0},{"$f":"'Budget FCFA'!#REF!/VLOOKUP(AQ$2,$BO$127:$BP$138,2,FALSE)","v":{"$error":"#REF!"}},{"$f":"'Budget FCFA'!#REF!/VLOOKUP(AR$2,$BO$127:$BP$138,2,FALSE)","v":{"$error":"#REF!"}},{"$f":"'Budget FCFA'!#REF!/VLOOKUP(AS$2,$BO$127:$BP$138,2,FALSE)","v":{"$error":"#REF!"}},{"$f":"'Budget FCFA'!#REF!/VLOOKUP(AT$2,$BO$127:$BP$138,2,FALSE)","v":{"$error":"#REF!"}},{"$f":"'Budget FCFA'!#REF!/VLOOKUP(AU$2,$BO$127:$BP$138,2,FALSE)","v":{"$error":"#REF!"}},{"$f":"'Budget FCFA'!#REF!/VLOOKUP(AV$2,$BO$127:$BP$138,2,FALSE)","v":{"$error":"#REF!"}},{"$f":"'Budget FCFA'!#REF!/VLOOKUP(AW$2,$BO$127:$BP$138,2,FALSE)","v":{"$error":"#REF!"}},{"$f":"'Budget FCFA'!#REF!/VLOOKUP(AX$2,$BO$127:$BP$138,2,FALSE)","v":{"$error":"#REF!"}},{"$f":"'Budget FCFA'!#REF!/VLOOKUP(AY$2,$BO$127:$BP$138,2,FALSE)","v":{"$error":"#REF!"}},{"$f":"'Budget FCFA'!#REF!/VLOOKUP(AZ$2,$BO$127:$BP$138,2,FALSE)","v":{"$error":"#REF!"}},{"$f":"'Budget FCFA'!#REF!/VLOOKUP(BA$2,$BO$127:$BP$138,2,FALSE)","v":{"$error":"#REF!"}},{"$f":"'Budget FCFA'!#REF!/VLOOKUP(BB$2,$BO$127:$BP$138,2,FALSE)","v":{"$error":"#REF!"}},{"$f":"'Budget FCFA'!#REF!/VLOOKUP(BC$2,$BO$127:$BP$138,2,FALSE)","v":{"$error":"#REF!"}},{"$f":"'Budget FCFA'!#REF!/VLOOKUP(BD$2,$BO$127:$BP$138,2,FALSE)","v":{"$error":"#REF!"}},{"$f":"'Budget FCFA'!#REF!/VLOOKUP(BE$2,$BO$127:$BP$138,2,FALSE)","v":{"$error":"#REF!"}},{"$f":"'Budget FCFA'!#REF!/VLOOKUP(BF$2,$BO$127:$BP$138,2,FALSE)","v":{"$error":"#REF!"}},{"$f":"'Budget FCFA'!#REF!/VLOOKUP(BG$2,$BO$127:$BP$138,2,FALSE)","v":{"$error":"#REF!"}},{"$f":"'Budget FCFA'!#REF!/VLOOKUP(BH$2,$BO$127:$BP$138,2,FALSE)","v":{"$error":"#REF!"}},{"$f":"'Budget FCFA'!#REF!/VLOOKUP(BI$2,$BO$127:$BP$138,2,FALSE)","v":{"$error":"#REF!"}},{"$f":"'Budget FCFA'!#REF!/VLOOKUP(BJ$2,$BO$127:$BP$138,2,FALSE)","v":{"$error":"#REF!"}},{"$error":"#REF!"},{"$f":"BK125-'Budget FCFA'!#REF!","v":{"$error":"#REF!"}}]
["PUBWEB00","DOUALA","Envoi SMS ",{"$f":"'Budget FCFA'!D126/VLOOKUP(D$2,$BO$127:$BP$138,2,FALSE)","v":0},{"$f":"'Budget FCFA'!E126/VLOOKUP(E$2,$BO$127:$BP$138,2,FALSE)","v":0},{"$f":"'Budget FCFA'!F126/VLOOKUP(F$2,$BO$127:$BP$138,2,FALSE)","v":0},{"$f":"'Budget FCFA'!G126/VLOOKUP(G$2,$BO$127:$BP$138,2,FALSE)","v":0},{"$f":"'Budget FCFA'!H126/VLOOKUP(H$2,$BO$127:$BP$138,2,FALSE)","v":0},{"$f":"'Budget FCFA'!I126/VLOOKUP(I$2,$BO$127:$BP$138,2,FALSE)","v":0},{"$f":"'Budget FCFA'!J126/VLOOKUP(J$2,$BO$127:$BP$138,2,FALSE)","v":0},{"$f":"'Budget FCFA'!K126/VLOOKUP(K$2,$BO$127:$BP$138,2,FALSE)","v":0},{"$f":"'Budget FCFA'!L126/VLOOKUP(L$2,$BO$127:$BP$138,2,FALSE)","v":0},{"$f":"'Budget FCFA'!M126/VLOOKUP(M$2,$BO$127:$BP$138,2,FALSE)","v":0},{"$f":"'Budget FCFA'!N126/VLOOKUP(N$2,$BO$127:$BP$138,2,FALSE)","v":0},{"$f":"'Budget FCFA'!O126/VLOOKUP(O$2,$BO$127:$BP$138,2,FALSE)","v":175.02824118044325},{"$f":"'Budget FCFA'!P126/VLOOKUP(P$2,$BO$127:$BP$138,2,FALSE)","v":350.07782522329973},{"$f":"'Budget FCFA'!Q126/VLOOKUP(Q$2,$BO$127:$BP$138,2,FALSE)","v":0},{"$f":"'Budget FCFA'!R126/VLOOKUP(R$2,$BO$127:$BP$138,2,FALSE)","v":0},{"$f":"'Budget FCFA'!S126/VLOOKUP(S$2,$BO$127:$BP$138,2,FALSE)","v":0},{"$f":"'Budget FCFA'!T126/VLOOKUP(T$2,$BO$127:$BP$138,2,FALSE)","v":175.04958404285648},{"$f":"'Budget FCFA'!U126/VLOOKUP(U$2,$BO$127:$BP$138,2,FALSE)","v":0},{"$f":"'Budget FCFA'!V126/VLOOKUP(V$2,$BO$127:$BP$138,2,FALSE)","v":0},{"$f":"'Budget FCFA'!W126/VLOOKUP(W$2,$BO$127:$BP$138,2,FALSE)","v":0},{"$f":"'Budget FCFA'!X126/VLOOKUP(X$2,$BO$127:$BP$138,2,FALSE)","v":175.04958404285648},{"$f":"'Budget FCFA'!Y126/VLOOKUP(Y$2,$BO$127:$BP$138,2,FALSE)","v":175.04958404285648},{"$f":"'Budget FCFA'!Z126/VLOOKUP(Z$2,$BO$127:$BP$138,2,FALSE)","v":0},{"$f":"'Budget FCFA'!AA126/VLOOKUP(AA$2,$BO$127:$BP$138,2,FALSE)","v":0},{"$f":"'Budget FCFA'!AB126/VLOOKUP(AB$2,$BO$127:$BP$138,2,FALSE)","v":174.77247369310319},{"$f":"'Budget FCFA'!AC126/VLOOKUP(AC$2,$BO$127:$BP$138,2,FALSE)","v":0},{"$f":"'Budget FCFA'!AD126/VLOOKUP(AD$2,$BO$127:$BP$138,2,FALSE)","v":0},{"$f":"'Budget FCFA'!AE126/VLOOKUP(AE$2,$BO$127:$BP$138,2,FALSE)","v":0},{"$f":"'Budget FCFA'!AF126/VLOOKUP(AF$2,$BO$127:$BP$138,2,FALSE)","v":174.78312888058122},{"$f":"'Budget FCFA'!AG126/VLOOKUP(AG$2,$BO$127:$BP$138,2,FALSE)","v":792.73488963453394},{"$f":"'Budget FCFA'!AH126/VLOOKUP(AH$2,$BO$127:$BP$138,2,FALSE)","v":0},{"$f":"'Budget FCFA'!AI126/VLOOKUP(AI$2,$BO$127:$BP$138,2,FALSE)","v":0},{"$f":"'Budget FCFA'!AJ126/VLOOKUP(AJ$2,$BO$127:$BP$138,2,FALSE)","v":0},{"$f":"'Budget FCFA'!AK126/VLOOKUP(AK$2,$BO$127:$BP$138,2,FALSE)","v":0},{"$f":"'Budget FCFA'!AL126/VLOOKUP(AL$2,$BO$127:$BP$138,2,FALSE)","v":792.73488963453394},{"$f":"'Budget FCFA'!AM126/VLOOKUP(AM$2,$BO$127:$BP$138,2,FALSE)","v":1585.4697792690679},{"$f":"'Budget FCFA'!AN126/VLOOKUP(AN$2,$BO$127:$BP$138,2,FALSE)","v":0},{"$f":"'Budget FCFA'!AO126/VLOOKUP(AO$2,$BO$127:$BP$138,2,FALSE)","v":0},{"$f":"'Budget FCFA'!AP126/VLOOKUP(AP$2,$BO$127:$BP$138,2,FALSE)","v":0},{"$f":"'Budget FCFA'!#REF!/VLOOKUP(AQ$2,$BO$127:$BP$138,2,FALSE)","v":{"$error":"#REF!"}},{"$f":"'Budget FCFA'!#REF!/VLOOKUP(AR$2,$BO$127:$BP$138,2,FALSE)","v":{"$error":"#REF!"}},{"$f":"'Budget FCFA'!#REF!/VLOOKUP(AS$2,$BO$127:$BP$138,2,FALSE)","v":{"$error":"#REF!"}},{"$f":"'Budget FCFA'!#REF!/VLOOKUP(AT$2,$BO$127:$BP$138,2,FALSE)","v":{"$error":"#REF!"}},{"$f":"'Budget FCFA'!#REF!/VLOOKUP(AU$2,$BO$127:$BP$138,2,FALSE)","v":{"$error":"#REF!"}},{"$f":"'Budget FCFA'!#REF!/VLOOKUP(AV$2,$BO$127:$BP$138,2,FALSE)","v":{"$error":"#REF!"}},{"$f":"'Budget FCFA'!#REF!/VLOOKUP(AW$2,$BO$127:$BP$138,2,FALSE)","v":{"$error":"#REF!"}},{"$f":"'Budget FCFA'!#REF!/VLOOKUP(AX$2,$BO$127:$BP$138,2,FALSE)","v":{"$error":"#REF!"}},{"$f":"'Budget FCFA'!#REF!/VLOOKUP(AY$2,$BO$127:$BP$138,2,FALSE)","v":{"$error":"#REF!"}},{"$f":"'Budget FCFA'!#REF!/VLOOKUP(AZ$2,$BO$127:$BP$138,2,FALSE)","v":{"$error":"#REF!"}},{"$f":"'Budget FCFA'!#REF!/VLOOKUP(BA$2,$BO$127:$BP$138,2,FALSE)","v":{"$error":"#REF!"}},{"$f":"'Budget FCFA'!#REF!/VLOOKUP(BB$2,$BO$127:$BP$138,2,FALSE)","v":{"$error":"#REF!"}},{"$f":"'Budget FCFA'!#REF!/VLOOKUP(BC$2,$BO$127:$BP$138,2,FALSE)","v":{"$error":"#REF!"}},{"$f":"'Budget FCFA'!#REF!/VLOOKUP(BD$2,$BO$127:$BP$138,2,FALSE)","v":{"$error":"#REF!"}},{"$f":"'Budget FCFA'!#REF!/VLOOKUP(BE$2,$BO$127:$BP$138,2,FALSE)","v":{"$error":"#REF!"}},{"$f":"'Budget FCFA'!#REF!/VLOOKUP(BF$2,$BO$127:$BP$138,2,FALSE)","v":{"$error":"#REF!"}},{"$f":"'Budget FCFA'!#REF!/VLOOKUP(BG$2,$BO$127:$BP$138,2,FALSE)","v":{"$error":"#REF!"}},{"$f":"'Budget FCFA'!#REF!/VLOOKUP(BH$2,$BO$127:$BP$138,2,FALSE)","v":{"$error":"#REF!"}},{"$f":"'Budget FCFA'!#REF!/VLOOKUP(BI$2,$BO$127:$BP$138,2,FALSE)","v":{"$error":"#REF!"}},{"$f":"'Budget FCFA'!#REF!/VLOOKUP(BJ$2,$BO$127:$BP$138,2,FALSE)","v":{"$error":"#REF!"}},{"$error":"#REF!"},{"$f":"BK126-'Budget FCFA'!#REF!","v":{"$error":"#REF!"}},null,null,null,"Taux de change"]
["PUBWEB00","TOTAL","Total SMS",{"$f":"'Budget FCFA'!D127/VLOOKUP(D$2,$BO$127:$BP$138,2,FALSE)","v":1194.3603010563193},{"$f":"'Budget FCFA'!E127/VLOOKUP(E$2,$BO$127:$BP$138,2,FALSE)","v":0},{"$f":"'Budget FCFA'!F127/VLOOKUP(F$2,$BO$127:$BP$138,2,FALSE)","v":205.80617327050402},{"$f":"'Budget FCFA'!G127/VLOOKUP(G$2,$BO$127:$BP$138,2,FALSE)","v":0},{"$f":"'Budget FCFA'!H127/VLOOKUP(H$2,$BO$127:$BP$138,2,FALSE)","v":0},{"$f":"'Budget FCFA'!I127/VLOOKUP(I$2,$BO$127:$BP$138,2,FALSE)","v":1912.9272193146808},{"$f":"'Budget FCFA'!J127/VLOOKUP(J$2,$BO$127:$BP$138,2,FALSE)","v":0},{"$f":"'Budget FCFA'!K127/VLOOKUP(K$2,$BO$127:$BP$138,2,FALSE)","v":0},{"$f":"'Budget FCFA'!L127/VLOOKUP(L$2,$BO$127:$BP$138,2,FALSE)","v":0},{"$f":"'Budget FCFA'!M127/VLOOKUP(M$2,$BO$127:$BP$138,2,FALSE)","v":205.80617327050402},{"$f":"'Budget FCFA'!N127/VLOOKUP(N$2,$BO$127:$BP$138,2,FALSE)","v":0},{"$f":"'Budget FCFA'!O127/VLOOKUP(O$2,$BO$127:$BP$138,2,FALSE)","v":265.23994713068083},{"$f":"'Budget FCFA'!P127/VLOOKUP(P$2,$BO$127:$BP$138,2,FALSE)","v":3269.0603195026501},{"$f":"'Budget FCFA'!Q127/VLOOKUP(Q$2,$BO$127:$BP$138,2,FALSE)","v":0},{"$f":"'Budget FCFA'!R127/VLOOKUP(R$2,$BO$127:$BP$138,2,FALSE)","v":0},{"$f":"'Budget FCFA'!S127/VLOOKUP(S$2,$BO$127:$BP$138,2,FALSE)","v":0},{"$f":"'Budget FCFA'!T127/VLOOKUP(T$2,$BO$127:$BP$138,2,FALSE)","v":1859.195038699183},{"$f":"'Budget FCFA'!U127/VLOOKUP(U$2,$BO$127:$BP$138,2,FALSE)","v":0},{"$f":"'Budget FCFA'!V127/VLOOKUP(V$2,$BO$127:$BP$138,2,FALSE)","v":0},{"$f":"'Budget FCFA'!W127/VLOOKUP(W$2,$BO$127:$BP$138,2,FALSE)","v":0},{"$f":"'Budget FCFA'!X127/VLOOKUP(X$2,$BO$127:$BP$138,2,FALSE)","v":1860.1585164881235},{"$f":"'Budget FCFA'!Y127/VLOOKUP(Y$2,$BO$127:$BP$138,2,FALSE)","v":1860.1493695470892},{"$f":"'Budget FCFA'!Z127/VLOOKUP(Z$2,$BO$127:$BP$138,2,FALSE)","v":0},{"$f":"'Budget FCFA'!AA127/VLOOKUP(AA$2,$BO$127:$BP$138,2,FALSE)","v":0},{"$f":"'Budget FCFA'!AB127/VLOOKUP(AB$2,$BO$127:$BP$138,2,FALSE)","v":1651.800650575304},{"$f":"'Budget FCFA'!AC127/VLOOKUP(AC$2,$BO$127:$BP$138,2,FALSE)","v":0},{"$f":"'Budget FCFA'!AD127/VLOOKUP(AD$2,$BO$127:$BP$138,2,FALSE)","v":0},{"$f":"'Budget FCFA'!AE127/VLOOKUP(AE$2,$BO$127:$BP$138,2,FALSE)","v":0},{"$f":"'Budget FCFA'!AF127/VLOOKUP(AF$2,$BO$127:$BP$138,2,FALSE)","v":1003.1737236988114},{"$f":"'Budget FCFA'!AG127/VLOOKUP(AG$2,$BO$127:$BP$138,2,FALSE)","v":4843.3052776325276},{"$f":"'Budget FCFA'!AH127/VLOOKUP(AH$2,$BO$127:$BP$138,2,FALSE)","v":0},{"$f":"'Budget FCFA'!AI127/VLOOKUP(AI$2,$BO$127:$BP$138,2,FALSE)","v":0},{"$f":"'Budget FCFA'!AJ127/VLOOKUP(AJ$2,$BO$127:$BP$138,2,FALSE)","v":0},{"$f":"'Budget FCFA'!AK127/VLOOKUP(AK$2,$BO$127:$BP$138,2,FALSE)","v":0},{"$f":"'Budget FCFA'!AL127/VLOOKUP(AL$2,$BO$127:$BP$138,2,FALSE)","v":4843.3052776325276},{"$f":"'Budget FCFA'!AM127/VLOOKUP(AM$2,$BO$127:$BP$138,2,FALSE)","v":8352.6816544377143},{"$f":"'Budget FCFA'!AN127/VLOOKUP(AN$2,$BO$127:$BP$138,2,FALSE)","v":0},{"$f":"'Budget FCFA'!AO127/VLOOKUP(AO$2,$BO$127:$BP$138,2,FALSE)","v":0},{"$f":"'Budget FCFA'!AP127/VLOOKUP(AP$2,$BO$127:$BP$138,2,FALSE)","v":0},{"$f":"'Budget FCFA'!#REF!/VLOOKUP(AQ$2,$BO$127:$BP$138,2,FALSE)","v":{"$error":"#REF!"}},{"$f":"'Budget FCFA'!#REF!/VLOOKUP(AR$2,$BO$127:$BP$138,2,FALSE)","v":{"$error":"#REF!"}},{"$f":"'Budget FCFA'!#REF!/VLOOKUP(AS$2,$BO$127:$BP$138,2,FALSE)","v":{"$error":"#REF!"}},{"$f":"'Budget FCFA'!#REF!/VLOOKUP(AT$2,$BO$127:$BP$138,2,FALSE)","v":{"$error":"#REF!"}},{"$f":"'Budget FCFA'!#REF!/VLOOKUP(AU$2,$BO$127:$BP$138,2,FALSE)","v":{"$error":"#REF!"}},{"$f":"'Budget FCFA'!#REF!/VLOOKUP(AV$2,$BO$127:$BP$138,2,FALSE)","v":{"$error":"#REF!"}},{"$f":"'Budget FCFA'!#REF!/VLOOKUP(AW$2,$BO$127:$BP$138,2,FALSE)","v":{"$error":"#REF!"}},{"$f":"'Budget FCFA'!#REF!/VLOOKUP(AX$2,$BO$127:$BP$138,2,FALSE)","v":{"$error":"#REF!"}},{"$f":"'Budget FCFA'!#REF!/VLOOKUP(AY$2,$BO$127:$BP$138,2,FALSE)","v":{"$error":"#REF!"}},{"$f":"'Budget FCFA'!#REF!/VLOOKUP(AZ$2,$BO$127:$BP$138,2,FALSE)","v":{"$error":"#REF!"}},{"$f":"'Budget FCFA'!#REF!/VLOOKUP(BA$2,$BO$127:$BP$138,2,FALSE)","v":{"$error":"#REF!"}},{"$f":"'Budget FCFA'!#REF!/VLOOKUP(BB$2,$BO$127:$BP$138,2,FALSE)","v":{"$error":"#REF!"}},{"$f":"'Budget FCFA'!#REF!/VLOOKUP(BC$2,$BO$127:$BP$138,2,FALSE)","v":{"$error":"#REF!"}},{"$f":"'Budget FCFA'!#REF!/VLOOKUP(BD$2,$BO$127:$BP$138,2,FALSE)","v":{"$error":"#REF!"}},{"$f":"'Budget FCFA'!#REF!/VLOOKUP(BE$2,$BO$127:$BP$138,2,FALSE)","v":{"$error":"#REF!"}},{"$f":"'Budget FCFA'!#REF!/VLOOKUP(BF$2,$BO$127:$BP$138,2,FALSE)","v":{"$error":"#REF!"}},{"$f":"'Budget FCFA'!#REF!/VLOOKUP(BG$2,$BO$127:$BP$138,2,FALSE)","v":{"$error":"#REF!"}},{"$f":"'Budget FCFA'!#REF!/VLOOKUP(BH$2,$BO$127:$BP$138,2,FALSE)","v":{"$error":"#REF!"}},{"$f":"'Budget FCFA'!#REF!/VLOOKUP(BI$2,$BO$127:$BP$138,2,FALSE)","v":{"$error":"#REF!"}},{"$f":"'Budget FCFA'!#REF!/VLOOKUP(BJ$2,$BO$127:$BP$138,2,FALSE)","v":{"$error":"#REF!"}},{"$error":"#REF!"},{"$f":"BK127-'Budget FCFA'!#REF!","v":{"$error":"#REF!"}},null,null,"JANVIER",655.95699999999999]
["WEBPUSEA","ABIDJAN","Location + envoi SMS",{"$f":"'Budget FCFA'!D128/VLOOKUP(D$2,$BO$127:$BP$138,2,FALSE)","v":0},{"$f":"'Budget FCFA'!E128/VLOOKUP(E$2,$BO$127:$BP$138,2,FALSE)","v":0},{"$f":"'Budget FCFA'!F128/VLOOKUP(F$2,$BO$127:$BP$138,2,FALSE)","v":0},{"$f":"'Budget FCFA'!G128/VLOOKUP(G$2,$BO$127:$BP$138,2,FALSE)","v":0},{"$f":"'Budget FCFA'!H128/VLOOKUP(H$2,$BO$127:$BP$138,2,FALSE)","v":0},{"$f":"'Budget FCFA'!I128/VLOOKUP(I$2,$BO$127:$BP$138,2,FALSE)","v":0},{"$f":"'Budget FCFA'!J128/VLOOKUP(J$2,$BO$127:$BP$138,2,FALSE)","v":0},{"$f":"'Budget FCFA'!K128/VLOOKUP(K$2,$BO$127:$BP$138,2,FALSE)","v":0},{"$f":"'Budget FCFA'!L128/VLOOKUP(L$2,$BO$127:$BP$138,2,FALSE)","v":0},{"$f":"'Budget FCFA'!M128/VLOOKUP(M$2,$BO$127:$BP$138,2,FALSE)","v":0},{"$f":"'Budget FCFA'!N128/VLOOKUP(N$2,$BO$127:$BP$138,2,FALSE)","v":0},{"$f":"'Budget FCFA'!O128/VLOOKUP(O$2,$BO$127:$BP$138,2,FALSE)","v":0},{"$f":"'Budget FCFA'!P128/VLOOKUP(P$2,$BO$127:$BP$138,2,FALSE)","v":0},{"$f":"'Budget FCFA'!Q128/VLOOKUP(Q$2,$BO$127:$BP$138,2,FALSE)","v":0},{"$f":"'Budget FCFA'!R128/VLOOKUP(R$2,$BO$127:$BP$138,2,FALSE)","v":0},{"$f":"'Budget FCFA'!S128/VLOOKUP(S$2,$BO$127:$BP$138,2,FALSE)","v":0},{"$f":"'Budget FCFA'!T128/VLOOKUP(T$2,$BO$127:$BP$138,2,FALSE)","v":0},{"$f":"'Budget FCFA'!U128/VLOOKUP(U$2,$BO$127:$BP$138,2,FALSE)","v":0},{"$f":"'Budget FCFA'!V128/VLOOKUP(V$2,$BO$127:$BP$138,2,FALSE)","v":0},{"$f":"'Budget FCFA'!W128/VLOOKUP(W$2,$BO$127:$BP$138,2,FALSE)","v":0},{"$f":"'Budget FCFA'!X128/VLOOKUP(X$2,$BO$127:$BP$138,2,FALSE)","v":0},{"$f":"'Budget FCFA'!Y128/VLOOKUP(Y$2,$BO$127:$BP$138,2,FALSE)","v":0},{"$f":"'Budget FCFA'!Z128/VLOOKUP(Z$2,$BO$127:$BP$138,2,FALSE)","v":0},{"$f":"'Budget FCFA'!AA128/VLOOKUP(AA$2,$BO$127:$BP$138,2,FALSE)","v":0},{"$f":"'Budget FCFA'!AB128/VLOOKUP(AB$2,$BO$127:$BP$138,2,FALSE)","v":0},{"$f":"'Budget FCFA'!AC128/VLOOKUP(AC$2,$BO$127:$BP$138,2,FALSE)","v":0},{"$f":"'Budget FCFA'!AD128/VLOOKUP(AD$2,$BO$127:$BP$138,2,FALSE)","v":0},{"$f":"'Budget FCFA'!AE128/VLOOKUP(AE$2,$BO$127:$BP$138,2,FALSE)","v":0},{"$f":"'Budget FCFA'!AF128/VLOOKUP(AF$2,$BO$127:$BP$138,2,FALSE)","v":0},{"$f":"'Budget FCFA'!AG128/VLOOKUP(AG$2,$BO$127:$BP$138,2,FALSE)","v":0},{"$f":"'Budget FCFA'!AH128/VLOOKUP(AH$2,$BO$127:$BP$138,2,FALSE)","v":0},{"$f":"'Budget FCFA'!AI128/VLOOKUP(AI$2,$BO$127:$BP$138,2,FALSE)","v":0},{"$f":"'Budget FCFA'!AJ128/VLOOKUP(AJ$2,$BO$127:$BP$138,2,FALSE)","v":0},{"$f":"'Budget FCFA'!AK128/VLOOKUP(AK$2,$BO$127:$BP$138,2,FALSE)","v":0},{"$f":"'Budget FCFA'!AL128/VLOOKUP(AL$2,$BO$127:$BP$138,2,FALSE)","v":0},{"$f":"'Budget FCFA'!AM128/VLOOKUP(AM$2,$BO$127:$BP$138,2,FALSE)","v":0},{"$f":"'Budget FCFA'!AN128/VLOOKUP(AN$2,$BO$127:$BP$138,2,FALSE)","v":0},{"$f":"'Budget FCFA'!AO128/VLOOKUP(AO$2,$BO$127:$BP$138,2,FALSE)","v":0},{"$f":"'Budget FCFA'!AP128/VLOOKUP(AP$2,$BO$127:$BP$138,2,FALSE)","v":0},{"$f":"'Budget FCFA'!#REF!/VLOOKUP(AQ$2,$BO$127:$BP$138,2,FALSE)","v":{"$error":"#REF!"}},{"$f":"'Budget FCFA'!#REF!/VLOOKUP(AR$2,$BO$127:$BP$138,2,FALSE)","v":{"$error":"#REF!"}},{"$f":"'Budget FCFA'!#REF!/VLOOKUP(AS$2,$BO$127:$BP$138,2,FALSE)","v":{"$error":"#REF!"}},{"$f":"'Budget FCFA'!#REF!/VLOOKUP(AT$2,$BO$127:$BP$138,2,FALSE)","v":{"$error":"#REF!"}},{"$f":"'Budget FCFA'!#REF!/VLOOKUP(AU$2,$BO$127:$BP$138,2,FALSE)","v":{"$error":"#REF!"}},{"$f":"'Budget FCFA'!#REF!/VLOOKUP(AV$2,$BO$127:$BP$138,2,FALSE)","v":{"$error":"#REF!"}},{"$f":"'Budget FCFA'!#REF!/VLOOKUP(AW$2,$BO$127:$BP$138,2,FALSE)","v":{"$error":"#REF!"}},{"$f":"'Budget FCFA'!#REF!/VLOOKUP(AX$2,$BO$127:$BP$138,2,FALSE)","v":{"$error":"#REF!"}},{"$f":"'Budget FCFA'!#REF!/VLOOKUP(AY$2,$BO$127:$BP$138,2,FALSE)","v":{"$error":"#REF!"}},{"$f":"'Budget FCFA'!#REF!/VLOOKUP(AZ$2,$BO$127:$BP$138,2,FALSE)","v":{"$error":"#REF!"}},{"$f":"'Budget FCFA'!#REF!/VLOOKUP(BA$2,$BO$127:$BP$138,2,FALSE)","v":{"$error":"#REF!"}},{"$f":"'Budget FCFA'!#REF!/VLOOKUP(BB$2,$BO$127:$BP$138,2,FALSE)","v":{"$error":"#REF!"}},{"$f":"'Budget FCFA'!#REF!/VLOOKUP(BC$2,$BO$127:$BP$138,2,FALSE)","v":{"$error":"#REF!"}},{"$f":"'Budget FCFA'!#REF!/VLOOKUP(BD$2,$BO$127:$BP$138,2,FALSE)","v":{"$error":"#REF!"}},{"$f":"'Budget FCFA'!#REF!/VLOOKUP(BE$2,$BO$127:$BP$138,2,FALSE)","v":{"$error":"#REF!"}},{"$f":"'Budget FCFA'!#REF!/VLOOKUP(BF$2,$BO$127:$BP$138,2,FALSE)","v":{"$error":"#REF!"}},{"$f":"'Budget FCFA'!#REF!/VLOOKUP(BG$2,$BO$127:$BP$138,2,FALSE)","v":{"$error":"#REF!"}},{"$f":"'Budget FCFA'!#REF!/VLOOKUP(BH$2,$BO$127:$BP$138,2,FALSE)","v":{"$error":"#REF!"}},{"$f":"'Budget FCFA'!#REF!/VLOOKUP(BI$2,$BO$127:$BP$138,2,FALSE)","v":{"$error":"#REF!"}},{"$f":"'Budget FCFA'!#REF!/VLOOKUP(BJ$2,$BO$127:$BP$138,2,FALSE)","v":{"$error":"#REF!"}},{"$error":"#REF!"},{"$f":"BK128-'Budget FCFA'!#REF!","v":{"$error":"#REF!"}},null,null,"FEVRIER",655.95699999999999]
["WEBPUSEA","BRAZZA","Location + envoi SMS",{"$f":"'Budget FCFA'!D129/VLOOKUP(D$2,$BO$127:$BP$138,2,FALSE)","v":0},{"$f":"'Budget FCFA'!E129/VLOOKUP(E$2,$BO$127:$BP$138,2,FALSE)","v":0},{"$f":"'Budget FCFA'!F129/VLOOKUP(F$2,$BO$127:$BP$138,2,FALSE)","v":0},{"$f":"'Budget FCFA'!G129/VLOOKUP(G$2,$BO$127:$BP$138,2,FALSE)","v":0},{"$f":"'Budget FCFA'!H129/VLOOKUP(H$2,$BO$127:$BP$138,2,FALSE)","v":0},{"$f":"'Budget FCFA'!I129/VLOOKUP(I$2,$BO$127:$BP$138,2,FALSE)","v":0},{"$f":"'Budget FCFA'!J129/VLOOKUP(J$2,$BO$127:$BP$138,2,FALSE)","v":0},{"$f":"'Budget FCFA'!K129/VLOOKUP(K$2,$BO$127:$BP$138,2,FALSE)","v":0},{"$f":"'Budget FCFA'!L129/VLOOKUP(L$2,$BO$127:$BP$138,2,FALSE)","v":0},{"$f":"'Budget FCFA'!M129/VLOOKUP(M$2,$BO$127:$BP$138,2,FALSE)","v":0},{"$f":"'Budget FCFA'!N129/VLOOKUP(N$2,$BO$127:$BP$138,2,FALSE)","v":0},{"$f":"'Budget FCFA'!O129/VLOOKUP(O$2,$BO$127:$BP$138,2,FALSE)","v":0},{"$f":"'Budget FCFA'!P129/VLOOKUP(P$2,$BO$127:$BP$138,2,FALSE)","v":0},{"$f":"'Budget FCFA'!Q129/VLOOKUP(Q$2,$BO$127:$BP$138,2,FALSE)","v":0},{"$f":"'Budget FCFA'!R129/VLOOKUP(R$2,$BO$127:$BP$138,2,FALSE)","v":0},{"$f":"'Budget FCFA'!S129/VLOOKUP(S$2,$BO$127:$BP$138,2,FALSE)","v":0},{"$f":"'Budget FCFA'!T129/VLOOKUP(T$2,$BO$127:$BP$138,2,FALSE)","v":0},{"$f":"'Budget FCFA'!U129/VLOOKUP(U$2,$BO$127:$BP$138,2,FALSE)","v":0},{"$f":"'Budget FCFA'!V129/VLOOKUP(V$2,$BO$127:$BP$138,2,FALSE)","v":0},{"$f":"'Budget FCFA'!W129/VLOOKUP(W$2,$BO$127:$BP$138,2,FALSE)","v":0},{"$f":"'Budget FCFA'!X129/VLOOKUP(X$2,$BO$127:$BP$138,2,FALSE)","v":0},{"$f":"'Budget FCFA'!Y129/VLOOKUP(Y$2,$BO$127:$BP$138,2,FALSE)","v":0},{"$f":"'Budget FCFA'!Z129/VLOOKUP(Z$2,$BO$127:$BP$138,2,FALSE)","v":0},{"$f":"'Budget FCFA'!AA129/VLOOKUP(AA$2,$BO$127:$BP$138,2,FALSE)","v":0},{"$f":"'Budget FCFA'!AB129/VLOOKUP(AB$2,$BO$127:$BP$138,2,FALSE)","v":0},{"$f":"'Budget FCFA'!AC129/VLOOKUP(AC$2,$BO$127:$BP$138,2,FALSE)","v":0},{"$f":"'Budget FCFA'!AD129/VLOOKUP(AD$2,$BO$127:$BP$138,2,FALSE)","v":0},{"$f":"'Budget FCFA'!AE129/VLOOKUP(AE$2,$BO$127:$BP$138,2,FALSE)","v":0},{"$f":"'Budget FCFA'!AF129/VLOOKUP(AF$2,$BO$127:$BP$138,2,FALSE)","v":0},{"$f":"'Budget FCFA'!AG129/VLOOKUP(AG$2,$BO$127:$BP$138,2,FALSE)","v":0},{"$f":"'Budget FCFA'!AH129/VLOOKUP(AH$2,$BO$127:$BP$138,2,FALSE)","v":0},{"$f":"'Budget FCFA'!AI129/VLOOKUP(AI$2,$BO$127:$BP$138,2,FALSE)","v":0},{"$f":"'Budget FCFA'!AJ129/VLOOKUP(AJ$2,$BO$127:$BP$138,2,FALSE)","v":0},{"$f":"'Budget FCFA'!AK129/VLOOKUP(AK$2,$BO$127:$BP$138,2,FALSE)","v":0},{"$f":"'Budget FCFA'!AL129/VLOOKUP(AL$2,$BO$127:$BP$138,2,FALSE)","v":0},{"$f":"'Budget FCFA'!AM129/VLOOKUP(AM$2,$BO$127:$BP$138,2,FALSE)","v":0},{"$f":"'Budget FCFA'!AN129/VLOOKUP(AN$2,$BO$127:$BP$138,2,FALSE)","v":0},{"$f":"'Budget FCFA'!AO129/VLOOKUP(AO$2,$BO$127:$BP$138,2,FALSE)","v":0},{"$f":"'Budget FCFA'!AP129/VLOOKUP(AP$2,$BO$127:$BP$138,2,FALSE)","v":0},{"$f":"'Budget FCFA'!#REF!/VLOOKUP(AQ$2,$BO$127:$BP$138,2,FALSE)","v":{"$error":"#REF!"}},{"$f":"'Budget FCFA'!#REF!/VLOOKUP(AR$2,$BO$127:$BP$138,2,FALSE)","v":{"$error":"#REF!"}},{"$f":"'Budget FCFA'!#REF!/VLOOKUP(AS$2,$BO$127:$BP$138,2,FALSE)","v":{"$error":"#REF!"}},{"$f":"'Budget FCFA'!#REF!/VLOOKUP(AT$2,$BO$127:$BP$138,2,FALSE)","v":{"$error":"#REF!"}},{"$f":"'Budget FCFA'!#REF!/VLOOKUP(AU$2,$BO$127:$BP$138,2,FALSE)","v":{"$error":"#REF!"}},{"$f":"'Budget FCFA'!#REF!/VLOOKUP(AV$2,$BO$127:$BP$138,2,FALSE)","v":{"$error":"#REF!"}},{"$f":"'Budget FCFA'!#REF!/VLOOKUP(AW$2,$BO$127:$BP$138,2,FALSE)","v":{"$error":"#REF!"}},{"$f":"'Budget FCFA'!#REF!/VLOOKUP(AX$2,$BO$127:$BP$138,2,FALSE)","v":{"$error":"#REF!"}},{"$f":"'Budget FCFA'!#REF!/VLOOKUP(AY$2,$BO$127:$BP$138,2,FALSE)","v":{"$error":"#REF!"}},{"$f":"'Budget FCFA'!#REF!/VLOOKUP(AZ$2,$BO$127:$BP$138,2,FALSE)","v":{"$error":"#REF!"}},{"$f":"'Budget FCFA'!#REF!/VLOOKUP(BA$2,$BO$127:$BP$138,2,FALSE)","v":{"$error":"#REF!"}},{"$f":"'Budget FCFA'!#REF!/VLOOKUP(BB$2,$BO$127:$BP$138,2,FALSE)","v":{"$error":"#REF!"}},{"$f":"'Budget FCFA'!#REF!/VLOOKUP(BC$2,$BO$127:$BP$138,2,FALSE)","v":{"$error":"#REF!"}},{"$f":"'Budget FCFA'!#REF!/VLOOKUP(BD$2,$BO$127:$BP$138,2,FALSE)","v":{"$error":"#REF!"}},{"$f":"'Budget FCFA'!#REF!/VLOOKUP(BE$2,$BO$127:$BP$138,2,FALSE)","v":{"$error":"#REF!"}},{"$f":"'Budget FCFA'!#REF!/VLOOKUP(BF$2,$BO$127:$BP$138,2,FALSE)","v":{"$error":"#REF!"}},{"$f":"'Budget FCFA'!#REF!/VLOOKUP(BG$2,$BO$127:$BP$138,2,FALSE)","v":{"$error":"#REF!"}},{"$f":"'Budget FCFA'!#REF!/VLOOKUP(BH$2,$BO$127:$BP$138,2,FALSE)","v":{"$error":"#REF!"}},{"$f":"'Budget FCFA'!#REF!/VLOOKUP(BI$2,$BO$127:$BP$138,2,FALSE)","v":{"$error":"#REF!"}},{"$f":"'Budget FCFA'!#REF!/VLOOKUP(BJ$2,$BO$127:$BP$138,2,FALSE)","v":{"$error":"#REF!"}},{"$error":"#REF!"},{"$f":"BK129-'Budget FCFA'!#REF!","v":{"$error":"#REF!"}},null,null,"MARS",655.95699999999999]
["WEBPUSEA","DAKAR","Location + envoi SMS",{"$f":"'Budget FCFA'!D130/VLOOKUP(D$2,$BO$127:$BP$138,2,FALSE)","v":0},{"$f":"'Budget FCFA'!E130/VLOOKUP(E$2,$BO$127:$BP$138,2,FALSE)","v":0},{"$f":"'Budget FCFA'!F130/VLOOKUP(F$2,$BO$127:$BP$138,2,FALSE)","v":0},{"$f":"'Budget FCFA'!G130/VLOOKUP(G$2,$BO$127:$BP$138,2,FALSE)","v":0},{"$f":"'Budget FCFA'!H130/VLOOKUP(H$2,$BO$127:$BP$138,2,FALSE)","v":0},{"$f":"'Budget FCFA'!I130/VLOOKUP(I$2,$BO$127:$BP$138,2,FALSE)","v":0},{"$f":"'Budget FCFA'!J130/VLOOKUP(J$2,$BO$127:$BP$138,2,FALSE)","v":0},{"$f":"'Budget FCFA'!K130/VLOOKUP(K$2,$BO$127:$BP$138,2,FALSE)","v":0},{"$f":"'Budget FCFA'!L130/VLOOKUP(L$2,$BO$127:$BP$138,2,FALSE)","v":0},{"$f":"'Budget FCFA'!M130/VLOOKUP(M$2,$BO$127:$BP$138,2,FALSE)","v":0},{"$f":"'Budget FCFA'!N130/VLOOKUP(N$2,$BO$127:$BP$138,2,FALSE)","v":0},{"$f":"'Budget FCFA'!O130/VLOOKUP(O$2,$BO$127:$BP$138,2,FALSE)","v":0},{"$f":"'Budget FCFA'!P130/VLOOKUP(P$2,$BO$127:$BP$138,2,FALSE)","v":0},{"$f":"'Budget FCFA'!Q130/VLOOKUP(Q$2,$BO$127:$BP$138,2,FALSE)","v":0},{"$f":"'Budget FCFA'!R130/VLOOKUP(R$2,$BO$127:$BP$138,2,FALSE)","v":0},{"$f":"'Budget FCFA'!S130/VLOOKUP(S$2,$BO$127:$BP$138,2,FALSE)","v":0},{"$f":"'Budget FCFA'!T130/VLOOKUP(T$2,$BO$127:$BP$138,2,FALSE)","v":0},{"$f":"'Budget FCFA'!U130/VLOOKUP(U$2,$BO$127:$BP$138,2,FALSE)","v":0},{"$f":"'Budget FCFA'!V130/VLOOKUP(V$2,$BO$127:$BP$138,2,FALSE)","v":0},{"$f":"'Budget FCFA'!W130/VLOOKUP(W$2,$BO$127:$BP$138,2,FALSE)","v":0},{"$f":"'Budget FCFA'!X130/VLOOKUP(X$2,$BO$127:$BP$138,2,FALSE)","v":0},{"$f":"'Budget FCFA'!Y130/VLOOKUP(Y$2,$BO$127:$BP$138,2,FALSE)","v":0},{"$f":"'Budget FCFA'!Z130/VLOOKUP(Z$2,$BO$127:$BP$138,2,FALSE)","v":0},{"$f":"'Budget FCFA'!AA130/VLOOKUP(AA$2,$BO$127:$BP$138,2,FALSE)","v":0},{"$f":"'Budget FCFA'!AB130/VLOOKUP(AB$2,$BO$127:$BP$138,2,FALSE)","v":0},{"$f":"'Budget FCFA'!AC130/VLOOKUP(AC$2,$BO$127:$BP$138,2,FALSE)","v":0},{"$f":"'Budget FCFA'!AD130/VLOOKUP(AD$2,$BO$127:$BP$138,2,FALSE)","v":0},{"$f":"'Budget FCFA'!AE130/VLOOKUP(AE$2,$BO$127:$BP$138,2,FALSE)","v":0},{"$f":"'Budget FCFA'!AF130/VLOOKUP(AF$2,$BO$127:$BP$138,2,FALSE)","v":0},{"$f":"'Budget FCFA'!AG130/VLOOKUP(AG$2,$BO$127:$BP$138,2,FALSE)","v":0},{"$f":"'Budget FCFA'!AH130/VLOOKUP(AH$2,$BO$127:$BP$138,2,FALSE)","v":0},{"$f":"'Budget FCFA'!AI130/VLOOKUP(AI$2,$BO$127:$BP$138,2,FALSE)","v":0},{"$f":"'Budget FCFA'!AJ130/VLOOKUP(AJ$2,$BO$127:$BP$138,2,FALSE)","v":0},{"$f":"'Budget FCFA'!AK130/VLOOKUP(AK$2,$BO$127:$BP$138,2,FALSE)","v":0},{"$f":"'Budget FCFA'!AL130/VLOOKUP(AL$2,$BO$127:$BP$138,2,FALSE)","v":0},{"$f":"'Budget FCFA'!AM130/VLOOKUP(AM$2,$BO$127:$BP$138,2,FALSE)","v":0},{"$f":"'Budget FCFA'!AN130/VLOOKUP(AN$2,$BO$127:$BP$138,2,FALSE)","v":0},{"$f":"'Budget FCFA'!AO130/VLOOKUP(AO$2,$BO$127:$BP$138,2,FALSE)","v":0},{"$f":"'Budget FCFA'!AP130/VLOOKUP(AP$2,$BO$127:$BP$138,2,FALSE)","v":0},{"$f":"'Budget FCFA'!#REF!/VLOOKUP(AQ$2,$BO$127:$BP$138,2,FALSE)","v":{"$error":"#REF!"}},{"$f":"'Budget FCFA'!#REF!/VLOOKUP(AR$2,$BO$127:$BP$138,2,FALSE)","v":{"$error":"#REF!"}},{"$f":"'Budget FCFA'!#REF!/VLOOKUP(AS$2,$BO$127:$BP$138,2,FALSE)","v":{"$error":"#REF!"}},{"$f":"'Budget FCFA'!#REF!/VLOOKUP(AT$2,$BO$127:$BP$138,2,FALSE)","v":{"$error":"#REF!"}},{"$f":"'Budget FCFA'!#REF!/VLOOKUP(AU$2,$BO$127:$BP$138,2,FALSE)","v":{"$error":"#REF!"}},{"$f":"'Budget FCFA'!#REF!/VLOOKUP(AV$2,$BO$127:$BP$138,2,FALSE)","v":{"$error":"#REF!"}},{"$f":"'Budget FCFA'!#REF!/VLOOKUP(AW$2,$BO$127:$BP$138,2,FALSE)","v":{"$error":"#REF!"}},{"$f":"'Budget FCFA'!#REF!/VLOOKUP(AX$2,$BO$127:$BP$138,2,FALSE)","v":{"$error":"#REF!"}},{"$f":"'Budget FCFA'!#REF!/VLOOKUP(AY$2,$BO$127:$BP$138,2,FALSE)","v":{"$error":"#REF!"}},{"$f":"'Budget FCFA'!#REF!/VLOOKUP(AZ$2,$BO$127:$BP$138,2,FALSE)","v":{"$error":"#REF!"}},{"$f":"'Budget FCFA'!#REF!/VLOOKUP(BA$2,$BO$127:$BP$138,2,FALSE)","v":{"$error":"#REF!"}},{"$f":"'Budget FCFA'!#REF!/VLOOKUP(BB$2,$BO$127:$BP$138,2,FALSE)","v":{"$error":"#REF!"}},{"$f":"'Budget FCFA'!#REF!/VLOOKUP(BC$2,$BO$127:$BP$138,2,FALSE)","v":{"$error":"#REF!"}},{"$f":"'Budget FCFA'!#REF!/VLOOKUP(BD$2,$BO$127:$BP$138,2,FALSE)","v":{"$error":"#REF!"}},{"$f":"'Budget FCFA'!#REF!/VLOOKUP(BE$2,$BO$127:$BP$138,2,FALSE)","v":{"$error":"#REF!"}},{"$f":"'Budget FCFA'!#REF!/VLOOKUP(BF$2,$BO$127:$BP$138,2,FALSE)","v":{"$error":"#REF!"}},{"$f":"'Budget FCFA'!#REF!/VLOOKUP(BG$2,$BO$127:$BP$138,2,FALSE)","v":{"$error":"#REF!"}},{"$f":"'Budget FCFA'!#REF!/VLOOKUP(BH$2,$BO$127:$BP$138,2,FALSE)","v":{"$error":"#REF!"}},{"$f":"'Budget FCFA'!#REF!/VLOOKUP(BI$2,$BO$127:$BP$138,2,FALSE)","v":{"$error":"#REF!"}},{"$f":"'Budget FCFA'!#REF!/VLOOKUP(BJ$2,$BO$127:$BP$138,2,FALSE)","v":{"$error":"#REF!"}},{"$error":"#REF!"},{"$f":"BK130-'Budget FCFA'!#REF!","v":{"$error":"#REF!"}},null,null,"AVRIL",655.95699999999999]
["WEBPUSEA","LIBREVILLE","Location + envoi SMS",{"$f":"'Budget FCFA'!D131/VLOOKUP(D$2,$BO$127:$BP$138,2,FALSE)","v":0},{"$f":"'Budget FCFA'!E131/VLOOKUP(E$2,$BO$127:$BP$138,2,FALSE)","v":0},{"$f":"'Budget FCFA'!F131/VLOOKUP(F$2,$BO$127:$BP$138,2,FALSE)","v":0},{"$f":"'Budget FCFA'!G131/VLOOKUP(G$2,$BO$127:$BP$138,2,FALSE)","v":0},{"$f":"'Budget FCFA'!H131/VLOOKUP(H$2,$BO$127:$BP$138,2,FALSE)","v":0},{"$f":"'Budget FCFA'!I131/VLOOKUP(I$2,$BO$127:$BP$138,2,FALSE)","v":0},{"$f":"'Budget FCFA'!J131/VLOOKUP(J$2,$BO$127:$BP$138,2,FALSE)","v":0},{"$f":"'Budget FCFA'!K131/VLOOKUP(K$2,$BO$127:$BP$138,2,FALSE)","v":0},{"$f":"'Budget FCFA'!L131/VLOOKUP(L$2,$BO$127:$BP$138,2,FALSE)","v":0},{"$f":"'Budget FCFA'!M131/VLOOKUP(M$2,$BO$127:$BP$138,2,FALSE)","v":0},{"$f":"'Budget FCFA'!N131/VLOOKUP(N$2,$BO$127:$BP$138,2,FALSE)","v":0},{"$f":"'Budget FCFA'!O131/VLOOKUP(O$2,$BO$127:$BP$138,2,FALSE)","v":0},{"$f":"'Budget FCFA'!P131/VLOOKUP(P$2,$BO$127:$BP$138,2,FALSE)","v":0},{"$f":"'Budget FCFA'!Q131/VLOOKUP(Q$2,$BO$127:$BP$138,2,FALSE)","v":0},{"$f":"'Budget FCFA'!R131/VLOOKUP(R$2,$BO$127:$BP$138,2,FALSE)","v":0},{"$f":"'Budget FCFA'!S131/VLOOKUP(S$2,$BO$127:$BP$138,2,FALSE)","v":0},{"$f":"'Budget FCFA'!T131/VLOOKUP(T$2,$BO$127:$BP$138,2,FALSE)","v":0},{"$f":"'Budget FCFA'!U131/VLOOKUP(U$2,$BO$127:$BP$138,2,FALSE)","v":0},{"$f":"'Budget FCFA'!V131/VLOOKUP(V$2,$BO$127:$BP$138,2,FALSE)","v":0},{"$f":"'Budget FCFA'!W131/VLOOKUP(W$2,$BO$127:$BP$138,2,FALSE)","v":0},{"$f":"'Budget FCFA'!X131/VLOOKUP(X$2,$BO$127:$BP$138,2,FALSE)","v":0},{"$f":"'Budget FCFA'!Y131/VLOOKUP(Y$2,$BO$127:$BP$138,2,FALSE)","v":0},{"$f":"'Budget FCFA'!Z131/VLOOKUP(Z$2,$BO$127:$BP$138,2,FALSE)","v":0},{"$f":"'Budget FCFA'!AA131/VLOOKUP(AA$2,$BO$127:$BP$138,2,FALSE)","v":0},{"$f":"'Budget FCFA'!AB131/VLOOKUP(AB$2,$BO$127:$BP$138,2,FALSE)","v":0},{"$f":"'Budget FCFA'!AC131/VLOOKUP(AC$2,$BO$127:$BP$138,2,FALSE)","v":0},{"$f":"'Budget FCFA'!AD131/VLOOKUP(AD$2,$BO$127:$BP$138,2,FALSE)","v":0},{"$f":"'Budget FCFA'!AE131/VLOOKUP(AE$2,$BO$127:$BP$138,2,FALSE)","v":0},{"$f":"'Budget FCFA'!AF131/VLOOKUP(AF$2,$BO$127:$BP$138,2,FALSE)","v":0},{"$f":"'Budget FCFA'!AG131/VLOOKUP(AG$2,$BO$127:$BP$138,2,FALSE)","v":0},{"$f":"'Budget FCFA'!AH131/VLOOKUP(AH$2,$BO$127:$BP$138,2,FALSE)","v":0},{"$f":"'Budget FCFA'!AI131/VLOOKUP(AI$2,$BO$127:$BP$138,2,FALSE)","v":0},{"$f":"'Budget FCFA'!AJ131/VLOOKUP(AJ$2,$BO$127:$BP$138,2,FALSE)","v":0},{"$f":"'Budget FCFA'!AK131/VLOOKUP(AK$2,$BO$127:$BP$138,2,FALSE)","v":0},{"$f":"'Budget FCFA'!AL131/VLOOKUP(AL$2,$BO$127:$BP$138,2,FALSE)","v":0},{"$f":"'Budget FCFA'!AM131/VLOOKUP(AM$2,$BO$127:$BP$138,2,FALSE)","v":0},{"$f":"'Budget FCFA'!AN131/VLOOKUP(AN$2,$BO$127:$BP$138,2,FALSE)","v":0},{"$f":"'Budget FCFA'!AO131/VLOOKUP(AO$2,$BO$127:$BP$138,2,FALSE)","v":0},{"$f":"'Budget FCFA'!AP131/VLOOKUP(AP$2,$BO$127:$BP$138,2,FALSE)","v":0},{"$f":"'Budget FCFA'!#REF!/VLOOKUP(AQ$2,$BO$127:$BP$138,2,FALSE)","v":{"$error":"#REF!"}},{"$f":"'Budget FCFA'!#REF!/VLOOKUP(AR$2,$BO$127:$BP$138,2,FALSE)","v":{"$error":"#REF!"}},{"$f":"'Budget FCFA'!#REF!/VLOOKUP(AS$2,$BO$127:$BP$138,2,FALSE)","v":{"$error":"#REF!"}},{"$f":"'Budget FCFA'!#REF!/VLOOKUP(AT$2,$BO$127:$BP$138,2,FALSE)","v":{"$error":"#REF!"}},{"$f":"'Budget FCFA'!#REF!/VLOOKUP(AU$2,$BO$127:$BP$138,2,FALSE)","v":{"$error":"#REF!"}},{"$f":"'Budget FCFA'!#REF!/VLOOKUP(AV$2,$BO$127:$BP$138,2,FALSE)","v":{"$error":"#REF!"}},{"$f":"'Budget FCFA'!#REF!/VLOOKUP(AW$2,$BO$127:$BP$138,2,FALSE)","v":{"$error":"#REF!"}},{"$f":"'Budget FCFA'!#REF!/VLOOKUP(AX$2,$BO$127:$BP$138,2,FALSE)","v":{"$error":"#REF!"}},{"$f":"'Budget FCFA'!#REF!/VLOOKUP(AY$2,$BO$127:$BP$138,2,FALSE)","v":{"$error":"#REF!"}},{"$f":"'Budget FCFA'!#REF!/VLOOKUP(AZ$2,$BO$127:$BP$138,2,FALSE)","v":{"$error":"#REF!"}},{"$f":"'Budget FCFA'!#REF!/VLOOKUP(BA$2,$BO$127:$BP$138,2,FALSE)","v":{"$error":"#REF!"}},{"$f":"'Budget FCFA'!#REF!/VLOOKUP(BB$2,$BO$127:$BP$138,2,FALSE)","v":{"$error":"#REF!"}},{"$f":"'Budget FCFA'!#REF!/VLOOKUP(BC$2,$BO$127:$BP$138,2,FALSE)","v":{"$error":"#REF!"}},{"$f":"'Budget FCFA'!#REF!/VLOOKUP(BD$2,$BO$127:$BP$138,2,FALSE)","v":{"$error":"#REF!"}},{"$f":"'Budget FCFA'!#REF!/VLOOKUP(BE$2,$BO$127:$BP$138,2,FALSE)","v":{"$error":"#REF!"}},{"$f":"'Budget FCFA'!#REF!/VLOOKUP(BF$2,$BO$127:$BP$138,2,FALSE)","v":{"$error":"#REF!"}},{"$f":"'Budget FCFA'!#REF!/VLOOKUP(BG$2,$BO$127:$BP$138,2,FALSE)","v":{"$error":"#REF!"}},{"$f":"'Budget FCFA'!#REF!/VLOOKUP(BH$2,$BO$127:$BP$138,2,FALSE)","v":{"$error":"#REF!"}},{"$f":"'Budget FCFA'!#REF!/VLOOKUP(BI$2,$BO$127:$BP$138,2,FALSE)","v":{"$error":"#REF!"}},{"$f":"'Budget FCFA'!#REF!/VLOOKUP(BJ$2,$BO$127:$BP$138,2,FALSE)","v":{"$error":"#REF!"}},{"$error":"#REF!"},{"$f":"BK131-'Budget FCFA'!#REF!","v":{"$error":"#REF!"}},null,null,"MAI",655.95699999999999]
["WEBPUSEA","DOUALA","Location + envoi SMS",{"$f":"'Budget FCFA'!D132/VLOOKUP(D$2,$BO$127:$BP$138,2,FALSE)","v":0},{"$f":"'Budget FCFA'!E132/VLOOKUP(E$2,$BO$127:$BP$138,2,FALSE)","v":0},{"$f":"'Budget FCFA'!F132/VLOOKUP(F$2,$BO$127:$BP$138,2,FALSE)","v":0},{"$f":"'Budget FCFA'!G132/VLOOKUP(G$2,$BO$127:$BP$138,2,FALSE)","v":0},{"$f":"'Budget FCFA'!H132/VLOOKUP(H$2,$BO$127:$BP$138,2,FALSE)","v":0},{"$f":"'Budget FCFA'!I132/VLOOKUP(I$2,$BO$127:$BP$138,2,FALSE)","v":0},{"$f":"'Budget FCFA'!J132/VLOOKUP(J$2,$BO$127:$BP$138,2,FALSE)","v":0},{"$f":"'Budget FCFA'!K132/VLOOKUP(K$2,$BO$127:$BP$138,2,FALSE)","v":0},{"$f":"'Budget FCFA'!L132/VLOOKUP(L$2,$BO$127:$BP$138,2,FALSE)","v":0},{"$f":"'Budget FCFA'!M132/VLOOKUP(M$2,$BO$127:$BP$138,2,FALSE)","v":0},{"$f":"'Budget FCFA'!N132/VLOOKUP(N$2,$BO$127:$BP$138,2,FALSE)","v":0},{"$f":"'Budget FCFA'!O132/VLOOKUP(O$2,$BO$127:$BP$138,2,FALSE)","v":0},{"$f":"'Budget FCFA'!P132/VLOOKUP(P$2,$BO$127:$BP$138,2,FALSE)","v":0},{"$f":"'Budget FCFA'!Q132/VLOOKUP(Q$2,$BO$127:$BP$138,2,FALSE)","v":0},{"$f":"'Budget FCFA'!R132/VLOOKUP(R$2,$BO$127:$BP$138,2,FALSE)","v":0},{"$f":"'Budget FCFA'!S132/VLOOKUP(S$2,$BO$127:$BP$138,2,FALSE)","v":0},{"$f":"'Budget FCFA'!T132/VLOOKUP(T$2,$BO$127:$BP$138,2,FALSE)","v":0},{"$f":"'Budget FCFA'!U132/VLOOKUP(U$2,$BO$127:$BP$138,2,FALSE)","v":0},{"$f":"'Budget FCFA'!V132/VLOOKUP(V$2,$BO$127:$BP$138,2,FALSE)","v":0},{"$f":"'Budget FCFA'!W132/VLOOKUP(W$2,$BO$127:$BP$138,2,FALSE)","v":0},{"$f":"'Budget FCFA'!X132/VLOOKUP(X$2,$BO$127:$BP$138,2,FALSE)","v":0},{"$f":"'Budget FCFA'!Y132/VLOOKUP(Y$2,$BO$127:$BP$138,2,FALSE)","v":0},{"$f":"'Budget FCFA'!Z132/VLOOKUP(Z$2,$BO$127:$BP$138,2,FALSE)","v":0},{"$f":"'Budget FCFA'!AA132/VLOOKUP(AA$2,$BO$127:$BP$138,2,FALSE)","v":0},{"$f":"'Budget FCFA'!AB132/VLOOKUP(AB$2,$BO$127:$BP$138,2,FALSE)","v":0},{"$f":"'Budget FCFA'!AC132/VLOOKUP(AC$2,$BO$127:$BP$138,2,FALSE)","v":0},{"$f":"'Budget FCFA'!AD132/VLOOKUP(AD$2,$BO$127:$BP$138,2,FALSE)","v":0},{"$f":"'Budget FCFA'!AE132/VLOOKUP(AE$2,$BO$127:$BP$138,2,FALSE)","v":0},{"$f":"'Budget FCFA'!AF132/VLOOKUP(AF$2,$BO$127:$BP$138,2,FALSE)","v":0},{"$f":"'Budget FCFA'!AG132/VLOOKUP(AG$2,$BO$127:$BP$138,2,FALSE)","v":0},{"$f":"'Budget FCFA'!AH132/VLOOKUP(AH$2,$BO$127:$BP$138,2,FALSE)","v":0},{"$f":"'Budget FCFA'!AI132/VLOOKUP(AI$2,$BO$127:$BP$138,2,FALSE)","v":0},{"$f":"'Budget FCFA'!AJ132/VLOOKUP(AJ$2,$BO$127:$BP$138,2,FALSE)","v":0},{"$f":"'Budget FCFA'!AK132/VLOOKUP(AK$2,$BO$127:$BP$138,2,FALSE)","v":0},{"$f":"'Budget FCFA'!AL132/VLOOKUP(AL$2,$BO$127:$BP$138,2,FALSE)","v":0},{"$f":"'Budget FCFA'!AM132/VLOOKUP(AM$2,$BO$127:$BP$138,2,FALSE)","v":0},{"$f":"'Budget FCFA'!AN132/VLOOKUP(AN$2,$BO$127:$BP$138,2,FALSE)","v":0},{"$f":"'Budget FCFA'!AO132/VLOOKUP(AO$2,$BO$127:$BP$138,2,FALSE)","v":0},{"$f":"'Budget FCFA'!AP132/VLOOKUP(AP$2,$BO$127:$BP$138,2,FALSE)","v":0},{"$f":"'Budget FCFA'!#REF!/VLOOKUP(AQ$2,$BO$127:$BP$138,2,FALSE)","v":{"$error":"#REF!"}},{"$f":"'Budget FCFA'!#REF!/VLOOKUP(AR$2,$BO$127:$BP$138,2,FALSE)","v":{"$error":"#REF!"}},{"$f":"'Budget FCFA'!#REF!/VLOOKUP(AS$2,$BO$127:$BP$138,2,FALSE)","v":{"$error":"#REF!"}},{"$f":"'Budget FCFA'!#REF!/VLOOKUP(AT$2,$BO$127:$BP$138,2,FALSE)","v":{"$error":"#REF!"}},{"$f":"'Budget FCFA'!#REF!/VLOOKUP(AU$2,$BO$127:$BP$138,2,FALSE)","v":{"$error":"#REF!"}},{"$f":"'Budget FCFA'!#REF!/VLOOKUP(AV$2,$BO$127:$BP$138,2,FALSE)","v":{"$error":"#REF!"}},{"$f":"'Budget FCFA'!#REF!/VLOOKUP(AW$2,$BO$127:$BP$138,2,FALSE)","v":{"$error":"#REF!"}},{"$f":"'Budget FCFA'!#REF!/VLOOKUP(AX$2,$BO$127:$BP$138,2,FALSE)","v":{"$error":"#REF!"}},{"$f":"'Budget FCFA'!#REF!/VLOOKUP(AY$2,$BO$127:$BP$138,2,FALSE)","v":{"$error":"#REF!"}},{"$f":"'Budget FCFA'!#REF!/VLOOKUP(AZ$2,$BO$127:$BP$138,2,FALSE)","v":{"$error":"#REF!"}},{"$f":"'Budget FCFA'!#REF!/VLOOKUP(BA$2,$BO$127:$BP$138,2,FALSE)","v":{"$error":"#REF!"}},{"$f":"'Budget FCFA'!#REF!/VLOOKUP(BB$2,$BO$127:$BP$138,2,FALSE)","v":{"$error":"#REF!"}},{"$f":"'Budget FCFA'!#REF!/VLOOKUP(BC$2,$BO$127:$BP$138,2,FALSE)","v":{"$error":"#REF!"}},{"$f":"'Budget FCFA'!#REF!/VLOOKUP(BD$2,$BO$127:$BP$138,2,FALSE)","v":{"$error":"#REF!"}},{"$f":"'Budget FCFA'!#REF!/VLOOKUP(BE$2,$BO$127:$BP$138,2,FALSE)","v":{"$error":"#REF!"}},{"$f":"'Budget FCFA'!#REF!/VLOOKUP(BF$2,$BO$127:$BP$138,2,FALSE)","v":{"$error":"#REF!"}},{"$f":"'Budget FCFA'!#REF!/VLOOKUP(BG$2,$BO$127:$BP$138,2,FALSE)","v":{"$error":"#REF!"}},{"$f":"'Budget FCFA'!#REF!/VLOOKUP(BH$2,$BO$127:$BP$138,2,FALSE)","v":{"$error":"#REF!"}},{"$f":"'Budget FCFA'!#REF!/VLOOKUP(BI$2,$BO$127:$BP$138,2,FALSE)","v":{"$error":"#REF!"}},{"$f":"'Budget FCFA'!#REF!/VLOOKUP(BJ$2,$BO$127:$BP$138,2,FALSE)","v":{"$error":"#REF!"}},{"$error":"#REF!"},{"$f":"BK132-'Budget FCFA'!#REF!","v":{"$error":"#REF!"}},null,null,"JUIN",656.95699999999999]
["WEBPUSEA","TOTAL","Total envoi SMS",{"$f":"'Budget FCFA'!D133/VLOOKUP(D$2,$BO$127:$BP$138,2,FALSE)","v":0},{"$f":"'Budget FCFA'!E133/VLOOKUP(E$2,$BO$127:$BP$138,2,FALSE)","v":0},{"$f":"'Budget FCFA'!F133/VLOOKUP(F$2,$BO$127:$BP$138,2,FALSE)","v":0},{"$f":"'Budget FCFA'!G133/VLOOKUP(G$2,$BO$127:$BP$138,2,FALSE)","v":0},{"$f":"'Budget FCFA'!H133/VLOOKUP(H$2,$BO$127:$BP$138,2,FALSE)","v":0},{"$f":"'Budget FCFA'!I133/VLOOKUP(I$2,$BO$127:$BP$138,2,FALSE)","v":0},{"$f":"'Budget FCFA'!J133/VLOOKUP(J$2,$BO$127:$BP$138,2,FALSE)","v":0},{"$f":"'Budget FCFA'!K133/VLOOKUP(K$2,$BO$127:$BP$138,2,FALSE)","v":0},{"$f":"'Budget FCFA'!L133/VLOOKUP(L$2,$BO$127:$BP$138,2,FALSE)","v":0},{"$f":"'Budget FCFA'!M133/VLOOKUP(M$2,$BO$127:$BP$138,2,FALSE)","v":0},{"$f":"'Budget FCFA'!N133/VLOOKUP(N$2,$BO$127:$BP$138,2,FALSE)","v":0},{"$f":"'Budget FCFA'!O133/VLOOKUP(O$2,$BO$127:$BP$138,2,FALSE)","v":0},{"$f":"'Budget FCFA'!P133/VLOOKUP(P$2,$BO$127:$BP$138,2,FALSE)","v":0},{"$f":"'Budget FCFA'!Q133/VLOOKUP(Q$2,$BO$127:$BP$138,2,FALSE)","v":0},{"$f":"'Budget FCFA'!R133/VLOOKUP(R$2,$BO$127:$BP$138,2,FALSE)","v":0},{"$f":"'Budget FCFA'!S133/VLOOKUP(S$2,$BO$127:$BP$138,2,FALSE)","v":0},{"$f":"'Budget FCFA'!T133/VLOOKUP(T$2,$BO$127:$BP$138,2,FALSE)","v":0},{"$f":"'Budget FCFA'!U133/VLOOKUP(U$2,$BO$127:$BP$138,2,FALSE)","v":0},{"$f":"'Budget FCFA'!V133/VLOOKUP(V$2,$BO$127:$BP$138,2,FALSE)","v":0},{"$f":"'Budget FCFA'!W133/VLOOKUP(W$2,$BO$127:$BP$138,2,FALSE)","v":0},{"$f":"'Budget FCFA'!X133/VLOOKUP(X$2,$BO$127:$BP$138,2,FALSE)","v":0},{"$f":"'Budget FCFA'!Y133/VLOOKUP(Y$2,$BO$127:$BP$138,2,FALSE)","v":0},{"$f":"'Budget FCFA'!Z133/VLOOKUP(Z$2,$BO$127:$BP$138,2,FALSE)","v":0},{"$f":"'Budget FCFA'!AA133/VLOOKUP(AA$2,$BO$127:$BP$138,2,FALSE)","v":0},{"$f":"'Budget FCFA'!AB133/VLOOKUP(AB$2,$BO$127:$BP$138,2,FALSE)","v":0},{"$f":"'Budget FCFA'!AC133/VLOOKUP(AC$2,$BO$127:$BP$138,2,FALSE)","v":0},{"$f":"'Budget FCFA'!AD133/VLOOKUP(AD$2,$BO$127:$BP$138,2,FALSE)","v":0},{"$f":"'Budget FCFA'!AE133/VLOOKUP(AE$2,$BO$127:$BP$138,2,FALSE)","v":0},{"$f":"'Budget FCFA'!AF133/VLOOKUP(AF$2,$BO$127:$BP$138,2,FALSE)","v":0},{"$f":"'Budget FCFA'!AG133/VLOOKUP(AG$2,$BO$127:$BP$138,2,FALSE)","v":0},{"$f":"'Budget FCFA'!AH133/VLOOKUP(AH$2,$BO$127:$BP$138,2,FALSE)","v":0},{"$f":"'Budget FCFA'!AI133/VLOOKUP(AI$2,$BO$127:$BP$138,2,FALSE)","v":0},{"$f":"'Budget FCFA'!AJ133/VLOOKUP(AJ$2,$BO$127:$BP$138,2,FALSE)","v":0},{"$f":"'Budget FCFA'!AK133/VLOOKUP(AK$2,$BO$127:$BP$138,2,FALSE)","v":0},{"$f":"'Budget FCFA'!AL133/VLOOKUP(AL$2,$BO$127:$BP$138,2,FALSE)","v":0},{"$f":"'Budget FCFA'!AM133/VLOOKUP(AM$2,$BO$127:$BP$138,2,FALSE)","v":0},{"$f":"'Budget FCFA'!AN133/VLOOKUP(AN$2,$BO$127:$BP$138,2,FALSE)","v":0},{"$f":"'Budget FCFA'!AO133/VLOOKUP(AO$2,$BO$127:$BP$138,2,FALSE)","v":0},{"$f":"'Budget FCFA'!AP133/VLOOKUP(AP$2,$BO$127:$BP$138,2,FALSE)","v":0},{"$f":"'Budget FCFA'!#REF!/VLOOKUP(AQ$2,$BO$127:$BP$138,2,FALSE)","v":{"$error":"#REF!"}},{"$f":"'Budget FCFA'!#REF!/VLOOKUP(AR$2,$BO$127:$BP$138,2,FALSE)","v":{"$error":"#REF!"}},{"$f":"'Budget FCFA'!#REF!/VLOOKUP(AS$2,$BO$127:$BP$138,2,FALSE)","v":{"$error":"#REF!"}},{"$f":"'Budget FCFA'!#REF!/VLOOKUP(AT$2,$BO$127:$BP$138,2,FALSE)","v":{"$error":"#REF!"}},{"$f":"'Budget FCFA'!#REF!/VLOOKUP(AU$2,$BO$127:$BP$138,2,FALSE)","v":{"$error":"#REF!"}},{"$f":"'Budget FCFA'!#REF!/VLOOKUP(AV$2,$BO$127:$BP$138,2,FALSE)","v":{"$error":"#REF!"}},{"$f":"'Budget FCFA'!#REF!/VLOOKUP(AW$2,$BO$127:$BP$138,2,FALSE)","v":{"$error":"#REF!"}},{"$f":"'Budget FCFA'!#REF!/VLOOKUP(AX$2,$BO$127:$BP$138,2,FALSE)","v":{"$error":"#REF!"}},{"$f":"'Budget FCFA'!#REF!/VLOOKUP(AY$2,$BO$127:$BP$138,2,FALSE)","v":{"$error":"#REF!"}},{"$f":"'Budget FCFA'!#REF!/VLOOKUP(AZ$2,$BO$127:$BP$138,2,FALSE)","v":{"$error":"#REF!"}},{"$f":"'Budget FCFA'!#REF!/VLOOKUP(BA$2,$BO$127:$BP$138,2,FALSE)","v":{"$error":"#REF!"}},{"$f":"'Budget FCFA'!#REF!/VLOOKUP(BB$2,$BO$127:$BP$138,2,FALSE)","v":{"$error":"#REF!"}},{"$f":"'Budget FCFA'!#REF!/VLOOKUP(BC$2,$BO$127:$BP$138,2,FALSE)","v":{"$error":"#REF!"}},{"$f":"'Budget FCFA'!#REF!/VLOOKUP(BD$2,$BO$127:$BP$138,2,FALSE)","v":{"$error":"#REF!"}},{"$f":"'Budget FCFA'!#REF!/VLOOKUP(BE$2,$BO$127:$BP$138,2,FALSE)","v":{"$error":"#REF!"}},{"$f":"'Budget FCFA'!#REF!/VLOOKUP(BF$2,$BO$127:$BP$138,2,FALSE)","v":{"$error":"#REF!"}},{"$f":"'Budget FCFA'!#REF!/VLOOKUP(BG$2,$BO$127:$BP$138,2,FALSE)","v":{"$error":"#REF!"}},{"$f":"'Budget FCFA'!#REF!/VLOOKUP(BH$2,$BO$127:$BP$138,2,FALSE)","v":{"$error":"#REF!"}},{"$f":"'Budget FCFA'!#REF!/VLOOKUP(BI$2,$BO$127:$BP$138,2,FALSE)","v":{"$error":"#REF!"}},{"$f":"'Budget FCFA'!#REF!/VLOOKUP(BJ$2,$BO$127:$BP$138,2,FALSE)","v":{"$error":"#REF!"}},{"$error":"#REF!"},{"$f":"BK133-'Budget FCFA'!#REF!","v":{"$error":"#REF!"}},null,null,"JUILLET",655.95699999999999]
["WEBINFLU","ABIDJAN","Influenceurs",{"$f":"'Budget FCFA'!D134/VLOOKUP(D$2,$BO$127:$BP$138,2,FALSE)","v":0},{"$f":"'Budget FCFA'!E134/VLOOKUP(E$2,$BO$127:$BP$138,2,FALSE)","v":0},{"$f":"'Budget FCFA'!F134/VLOOKUP(F$2,$BO$127:$BP$138,2,FALSE)","v":0},{"$f":"'Budget FCFA'!G134/VLOOKUP(G$2,$BO$127:$BP$138,2,FALSE)","v":0},{"$f":"'Budget FCFA'!H134/VLOOKUP(H$2,$BO$127:$BP$138,2,FALSE)","v":0},{"$f":"'Budget FCFA'!I134/VLOOKUP(I$2,$BO$127:$BP$138,2,FALSE)","v":1088.4859830751102},{"$f":"'Budget FCFA'!J134/VLOOKUP(J$2,$BO$127:$BP$138,2,FALSE)","v":0},{"$f":"'Budget FCFA'!K134/VLOOKUP(K$2,$BO$127:$BP$138,2,FALSE)","v":0},{"$f":"'Budget FCFA'!L134/VLOOKUP(L$2,$BO$127:$BP$138,2,FALSE)","v":0},{"$f":"'Budget FCFA'!M134/VLOOKUP(M$2,$BO$127:$BP$138,2,FALSE)","v":212.72126069239295},{"$f":"'Budget FCFA'!N134/VLOOKUP(N$2,$BO$127:$BP$138,2,FALSE)","v":0},{"$f":"'Budget FCFA'!O134/VLOOKUP(O$2,$BO$127:$BP$138,2,FALSE)","v":0},{"$f":"'Budget FCFA'!P134/VLOOKUP(P$2,$BO$127:$BP$138,2,FALSE)","v":0},{"$f":"'Budget FCFA'!Q134/VLOOKUP(Q$2,$BO$127:$BP$138,2,FALSE)","v":0},{"$f":"'Budget FCFA'!R134/VLOOKUP(R$2,$BO$127:$BP$138,2,FALSE)","v":184.25598019382369},{"$f":"'Budget FCFA'!S134/VLOOKUP(S$2,$BO$127:$BP$138,2,FALSE)","v":0},{"$f":"'Budget FCFA'!T134/VLOOKUP(T$2,$BO$127:$BP$138,2,FALSE)","v":881.15531963223202},{"$f":"'Budget FCFA'!U134/VLOOKUP(U$2,$BO$127:$BP$138,2,FALSE)","v":0},{"$f":"'Budget FCFA'!V134/VLOOKUP(V$2,$BO$127:$BP$138,2,FALSE)","v":0},{"$f":"'Budget FCFA'!W134/VLOOKUP(W$2,$BO$127:$BP$138,2,FALSE)","v":186.81712368341218},{"$f":"'Budget FCFA'!X134/VLOOKUP(X$2,$BO$127:$BP$138,2,FALSE)","v":0},{"$f":"'Budget FCFA'!Y134/VLOOKUP(Y$2,$BO$127:$BP$138,2,FALSE)","v":0},{"$f":"'Budget FCFA'!Z134/VLOOKUP(Z$2,$BO$127:$BP$138,2,FALSE)","v":0},{"$f":"'Budget FCFA'!AA134/VLOOKUP(AA$2,$BO$127:$BP$138,2,FALSE)","v":323.95416162949704},{"$f":"'Budget FCFA'!AB134/VLOOKUP(AB$2,$BO$127:$BP$138,2,FALSE)","v":0},{"$f":"'Budget FCFA'!AC134/VLOOKUP(AC$2,$BO$127:$BP$138,2,FALSE)","v":0},{"$f":"'Budget FCFA'!AD134/VLOOKUP(AD$2,$BO$127:$BP$138,2,FALSE)","v":0},{"$f":"'Budget FCFA'!AE134/VLOOKUP(AE$2,$BO$127:$BP$138,2,FALSE)","v":0},{"$f":"'Budget FCFA'!AF134/VLOOKUP(AF$2,$BO$127:$BP$138,2,FALSE)","v":218.60791497769262},{"$f":"'Budget FCFA'!AG134/VLOOKUP(AG$2,$BO$127:$BP$138,2,FALSE)","v":0},{"$f":"'Budget FCFA'!AH134/VLOOKUP(AH$2,$BO$127:$BP$138,2,FALSE)","v":0},{"$f":"'Budget FCFA'!AI134/VLOOKUP(AI$2,$BO$127:$BP$138,2,FALSE)","v":0},{"$f":"'Budget FCFA'!AJ134/VLOOKUP(AJ$2,$BO$127:$BP$138,2,FALSE)","v":0},{"$f":"'Budget FCFA'!AK134/VLOOKUP(AK$2,$BO$127:$BP$138,2,FALSE)","v":182.90528190110024},{"$f":"'Budget FCFA'!AL134/VLOOKUP(AL$2,$BO$127:$BP$138,2,FALSE)","v":762.24508618705192},{"$f":"'Budget FCFA'!AM134/VLOOKUP(AM$2,$BO$127:$BP$138,2,FALSE)","v":0},{"$f":"'Budget FCFA'!AN134/VLOOKUP(AN$2,$BO$127:$BP$138,2,FALSE)","v":0},{"$f":"'Budget FCFA'!AO134/VLOOKUP(AO$2,$BO$127:$BP$138,2,FALSE)","v":0},{"$f":"'Budget FCFA'!AP134/VLOOKUP(AP$2,$BO$127:$BP$138,2,FALSE)","v":182.90528190110024},{"$f":"'Budget FCFA'!#REF!/VLOOKUP(AQ$2,$BO$127:$BP$138,2,FALSE)","v":{"$error":"#REF!"}},{"$f":"'Budget FCFA'!#REF!/VLOOKUP(AR$2,$BO$127:$BP$138,2,FALSE)","v":{"$error":"#REF!"}},{"$f":"'Budget FCFA'!#REF!/VLOOKUP(AS$2,$BO$127:$BP$138,2,FALSE)","v":{"$error":"#REF!"}},{"$f":"'Budget FCFA'!#REF!/VLOOKUP(AT$2,$BO$127:$BP$138,2,FALSE)","v":{"$error":"#REF!"}},{"$f":"'Budget FCFA'!#REF!/VLOOKUP(AU$2,$BO$127:$BP$138,2,FALSE)","v":{"$error":"#REF!"}},{"$f":"'Budget FCFA'!#REF!/VLOOKUP(AV$2,$BO$127:$BP$138,2,FALSE)","v":{"$error":"#REF!"}},{"$f":"'Budget FCFA'!#REF!/VLOOKUP(AW$2,$BO$127:$BP$138,2,FALSE)","v":{"$error":"#REF!"}},{"$f":"'Budget FCFA'!#REF!/VLOOKUP(AX$2,$BO$127:$BP$138,2,FALSE)","v":{"$error":"#REF!"}},{"$f":"'Budget FCFA'!#REF!/VLOOKUP(AY$2,$BO$127:$BP$138,2,FALSE)","v":{"$error":"#REF!"}},{"$f":"'Budget FCFA'!#REF!/VLOOKUP(AZ$2,$BO$127:$BP$138,2,FALSE)","v":{"$error":"#REF!"}},{"$f":"'Budget FCFA'!#REF!/VLOOKUP(BA$2,$BO$127:$BP$138,2,FALSE)","v":{"$error":"#REF!"}},{"$f":"'Budget FCFA'!#REF!/VLOOKUP(BB$2,$BO$127:$BP$138,2,FALSE)","v":{"$error":"#REF!"}},{"$f":"'Budget FCFA'!#REF!/VLOOKUP(BC$2,$BO$127:$BP$138,2,FALSE)","v":{"$error":"#REF!"}},{"$f":"'Budget FCFA'!#REF!/VLOOKUP(BD$2,$BO$127:$BP$138,2,FALSE)","v":{"$error":"#REF!"}},{"$f":"'Budget FCFA'!#REF!/VLOOKUP(BE$2,$BO$127:$BP$138,2,FALSE)","v":{"$error":"#REF!"}},{"$f":"'Budget FCFA'!#REF!/VLOOKUP(BF$2,$BO$127:$BP$138,2,FALSE)","v":{"$error":"#REF!"}},{"$f":"'Budget FCFA'!#REF!/VLOOKUP(BG$2,$BO$127:$BP$138,2,FALSE)","v":{"$error":"#REF!"}},{"$f":"'Budget FCFA'!#REF!/VLOOKUP(BH$2,$BO$127:$BP$138,2,FALSE)","v":{"$error":"#REF!"}},{"$f":"'Budget FCFA'!#REF!/VLOOKUP(BI$2,$BO$127:$BP$138,2,FALSE)","v":{"$error":"#REF!"}},{"$f":"'Budget FCFA'!#REF!/VLOOKUP(BJ$2,$BO$127:$BP$138,2,FALSE)","v":{"$error":"#REF!"}},{"$f":"SUM(D134:BJ134)","v":{"$error":"#REF!"}},{"$f":"BK134-'Budget FCFA'!#REF!","v":{"$error":"#REF!"}},null,null,"AOUT",655.95699999999999]
["WEBINFLU","BRAZZA","Influenceurs",{"$f":"'Budget FCFA'!D135/VLOOKUP(D$2,$BO$127:$BP$138,2,FALSE)","v":0},{"$f":"'Budget FCFA'!E135/VLOOKUP(E$2,$BO$127:$BP$138,2,FALSE)","v":0},{"$f":"'Budget FCFA'!F135/VLOOKUP(F$2,$BO$127:$BP$138,2,FALSE)","v":0},{"$f":"'Budget FCFA'!G135/VLOOKUP(G$2,$BO$127:$BP$138,2,FALSE)","v":0},{"$f":"'Budget FCFA'!H135/VLOOKUP(H$2,$BO$127:$BP$138,2,FALSE)","v":0},{"$f":"'Budget FCFA'!I135/VLOOKUP(I$2,$BO$127:$BP$138,2,FALSE)","v":0},{"$f":"'Budget FCFA'!J135/VLOOKUP(J$2,$BO$127:$BP$138,2,FALSE)","v":0},{"$f":"'Budget FCFA'!K135/VLOOKUP(K$2,$BO$127:$BP$138,2,FALSE)","v":0},{"$f":"'Budget FCFA'!L135/VLOOKUP(L$2,$BO$127:$BP$138,2,FALSE)","v":0},{"$f":"'Budget FCFA'!M135/VLOOKUP(M$2,$BO$127:$BP$138,2,FALSE)","v":41.214744259151139},{"$f":"'Budget FCFA'!N135/VLOOKUP(N$2,$BO$127:$BP$138,2,FALSE)","v":0},{"$f":"'Budget FCFA'!O135/VLOOKUP(O$2,$BO$127:$BP$138,2,FALSE)","v":0},{"$f":"'Budget FCFA'!P135/VLOOKUP(P$2,$BO$127:$BP$138,2,FALSE)","v":0},{"$f":"'Budget FCFA'!Q135/VLOOKUP(Q$2,$BO$127:$BP$138,2,FALSE)","v":0},{"$f":"'Budget FCFA'!R135/VLOOKUP(R$2,$BO$127:$BP$138,2,FALSE)","v":35.699596162553348},{"$f":"'Budget FCFA'!S135/VLOOKUP(S$2,$BO$127:$BP$138,2,FALSE)","v":0},{"$f":"'Budget FCFA'!T135/VLOOKUP(T$2,$BO$127:$BP$138,2,FALSE)","v":0},{"$f":"'Budget FCFA'!U135/VLOOKUP(U$2,$BO$127:$BP$138,2,FALSE)","v":0},{"$f":"'Budget FCFA'!V135/VLOOKUP(V$2,$BO$127:$BP$138,2,FALSE)","v":0},{"$f":"'Budget FCFA'!W135/VLOOKUP(W$2,$BO$127:$BP$138,2,FALSE)","v":36.195817713661114},{"$f":"'Budget FCFA'!X135/VLOOKUP(X$2,$BO$127:$BP$138,2,FALSE)","v":0},{"$f":"'Budget FCFA'!Y135/VLOOKUP(Y$2,$BO$127:$BP$138,2,FALSE)","v":0},{"$f":"'Budget FCFA'!Z135/VLOOKUP(Z$2,$BO$127:$BP$138,2,FALSE)","v":0},{"$f":"'Budget FCFA'!AA135/VLOOKUP(AA$2,$BO$127:$BP$138,2,FALSE)","v":0},{"$f":"'Budget FCFA'!AB135/VLOOKUP(AB$2,$BO$127:$BP$138,2,FALSE)","v":0},{"$f":"'Budget FCFA'!AC135/VLOOKUP(AC$2,$BO$127:$BP$138,2,FALSE)","v":0},{"$f":"'Budget FCFA'!AD135/VLOOKUP(AD$2,$BO$127:$BP$138,2,FALSE)","v":0},{"$f":"'Budget FCFA'!AE135/VLOOKUP(AE$2,$BO$127:$BP$138,2,FALSE)","v":0},{"$f":"'Budget FCFA'!AF135/VLOOKUP(AF$2,$BO$127:$BP$138,2,FALSE)","v":42.355283526927948},{"$f":"'Budget FCFA'!AG135/VLOOKUP(AG$2,$BO$127:$BP$138,2,FALSE)","v":0},{"$f":"'Budget FCFA'!AH135/VLOOKUP(AH$2,$BO$127:$BP$138,2,FALSE)","v":0},{"$f":"'Budget FCFA'!AI135/VLOOKUP(AI$2,$BO$127:$BP$138,2,FALSE)","v":0},{"$f":"'Budget FCFA'!AJ135/VLOOKUP(AJ$2,$BO$127:$BP$138,2,FALSE)","v":0},{"$f":"'Budget FCFA'!AK135/VLOOKUP(AK$2,$BO$127:$BP$138,2,FALSE)","v":34.999245377364673},{"$f":"'Budget FCFA'!AL135/VLOOKUP(AL$2,$BO$127:$BP$138,2,FALSE)","v":0},{"$f":"'Budget FCFA'!AM135/VLOOKUP(AM$2,$BO$127:$BP$138,2,FALSE)","v":0},{"$f":"'Budget FCFA'!AN135/VLOOKUP(AN$2,$BO$127:$BP$138,2,FALSE)","v":0},{"$f":"'Budget FCFA'!AO135/VLOOKUP(AO$2,$BO$127:$BP$138,2,FALSE)","v":0},{"$f":"'Budget FCFA'!AP135/VLOOKUP(AP$2,$BO$127:$BP$138,2,FALSE)","v":34.999245377364673},{"$f":"'Budget FCFA'!#REF!/VLOOKUP(AQ$2,$BO$127:$BP$138,2,FALSE)","v":{"$error":"#REF!"}},{"$f":"'Budget FCFA'!#REF!/VLOOKUP(AR$2,$BO$127:$BP$138,2,FALSE)","v":{"$error":"#REF!"}},{"$f":"'Budget FCFA'!#REF!/VLOOKUP(AS$2,$BO$127:$BP$138,2,FALSE)","v":{"$error":"#REF!"}},{"$f":"'Budget FCFA'!#REF!/VLOOKUP(AT$2,$BO$127:$BP$138,2,FALSE)","v":{"$error":"#REF!"}},{"$f":"'Budget FCFA'!#REF!/VLOOKUP(AU$2,$BO$127:$BP$138,2,FALSE)","v":{"$error":"#REF!"}},{"$f":"'Budget FCFA'!#REF!/VLOOKUP(AV$2,$BO$127:$BP$138,2,FALSE)","v":{"$error":"#REF!"}},{"$f":"'Budget FCFA'!#REF!/VLOOKUP(AW$2,$BO$127:$BP$138,2,FALSE)","v":{"$error":"#REF!"}},{"$f":"'Budget FCFA'!#REF!/VLOOKUP(AX$2,$BO$127:$BP$138,2,FALSE)","v":{"$error":"#REF!"}},{"$f":"'Budget FCFA'!#REF!/VLOOKUP(AY$2,$BO$127:$BP$138,2,FALSE)","v":{"$error":"#REF!"}},{"$f":"'Budget FCFA'!#REF!/VLOOKUP(AZ$2,$BO$127:$BP$138,2,FALSE)","v":{"$error":"#REF!"}},{"$f":"'Budget FCFA'!#REF!/VLOOKUP(BA$2,$BO$127:$BP$138,2,FALSE)","v":{"$error":"#REF!"}},{"$f":"'Budget FCFA'!#REF!/VLOOKUP(BB$2,$BO$127:$BP$138,2,FALSE)","v":{"$error":"#REF!"}},{"$f":"'Budget FCFA'!#REF!/VLOOKUP(BC$2,$BO$127:$BP$138,2,FALSE)","v":{"$error":"#REF!"}},{"$f":"'Budget FCFA'!#REF!/VLOOKUP(BD$2,$BO$127:$BP$138,2,FALSE)","v":{"$error":"#REF!"}},{"$f":"'Budget FCFA'!#REF!/VLOOKUP(BE$2,$BO$127:$BP$138,2,FALSE)","v":{"$error":"#REF!"}},{"$f":"'Budget FCFA'!#REF!/VLOOKUP(BF$2,$BO$127:$BP$138,2,FALSE)","v":{"$error":"#REF!"}},{"$f":"'Budget FCFA'!#REF!/VLOOKUP(BG$2,$BO$127:$BP$138,2,FALSE)","v":{"$error":"#REF!"}},{"$f":"'Budget FCFA'!#REF!/VLOOKUP(BH$2,$BO$127:$BP$138,2,FALSE)","v":{"$error":"#REF!"}},{"$f":"'Budget FCFA'!#REF!/VLOOKUP(BI$2,$BO$127:$BP$138,2,FALSE)","v":{"$error":"#REF!"}},{"$f":"'Budget FCFA'!#REF!/VLOOKUP(BJ$2,$BO$127:$BP$138,2,FALSE)","v":{"$error":"#REF!"}},{"$error":"#REF!"},{"$f":"BK135-'Budget FCFA'!#REF!","v":{"$error":"#REF!"}},null,null,"SEPTEMBRE",655.95699999999999]
["WEBINFLU","DAKAR","Influenceurs",{"$f":"'Budget FCFA'!D136/VLOOKUP(D$2,$BO$127:$BP$138,2,FALSE)","v":0},{"$f":"'Budget FCFA'!E136/VLOOKUP(E$2,$BO$127:$BP$138,2,FALSE)","v":0},{"$f":"'Budget FCFA'!F136/VLOOKUP(F$2,$BO$127:$BP$138,2,FALSE)","v":0},{"$f":"'Budget FCFA'!G136/VLOOKUP(G$2,$BO$127:$BP$138,2,FALSE)","v":0},{"$f":"'Budget FCFA'!H136/VLOOKUP(H$2,$BO$127:$BP$138,2,FALSE)","v":0},{"$f":"'Budget FCFA'!I136/VLOOKUP(I$2,$BO$127:$BP$138,2,FALSE)","v":0},{"$f":"'Budget FCFA'!J136/VLOOKUP(J$2,$BO$127:$BP$138,2,FALSE)","v":0},{"$f":"'Budget FCFA'!K136/VLOOKUP(K$2,$BO$127:$BP$138,2,FALSE)","v":0},{"$f":"'Budget FCFA'!L136/VLOOKUP(L$2,$BO$127:$BP$138,2,FALSE)","v":0},{"$f":"'Budget FCFA'!M136/VLOOKUP(M$2,$BO$127:$BP$138,2,FALSE)","v":55.396161638643996},{"$f":"'Budget FCFA'!N136/VLOOKUP(N$2,$BO$127:$BP$138,2,FALSE)","v":0},{"$f":"'Budget FCFA'!O136/VLOOKUP(O$2,$BO$127:$BP$138,2,FALSE)","v":0},{"$f":"'Budget FCFA'!P136/VLOOKUP(P$2,$BO$127:$BP$138,2,FALSE)","v":0},{"$f":"'Budget FCFA'!Q136/VLOOKUP(Q$2,$BO$127:$BP$138,2,FALSE)","v":0},{"$f":"'Budget FCFA'!R136/VLOOKUP(R$2,$BO$127:$BP$138,2,FALSE)","v":47.983328175474917},{"$f":"'Budget FCFA'!S136/VLOOKUP(S$2,$BO$127:$BP$138,2,FALSE)","v":0},{"$f":"'Budget FCFA'!T136/VLOOKUP(T$2,$BO$127:$BP$138,2,FALSE)","v":0},{"$f":"'Budget FCFA'!U136/VLOOKUP(U$2,$BO$127:$BP$138,2,FALSE)","v":0},{"$f":"'Budget FCFA'!V136/VLOOKUP(V$2,$BO$127:$BP$138,2,FALSE)","v":0},{"$f":"'Budget FCFA'!W136/VLOOKUP(W$2,$BO$127:$BP$138,2,FALSE)","v":48.650292625888589},{"$f":"'Budget FCFA'!X136/VLOOKUP(X$2,$BO$127:$BP$138,2,FALSE)","v":0},{"$f":"'Budget FCFA'!Y136/VLOOKUP(Y$2,$BO$127:$BP$138,2,FALSE)","v":0},{"$f":"'Budget FCFA'!Z136/VLOOKUP(Z$2,$BO$127:$BP$138,2,FALSE)","v":0},{"$f":"'Budget FCFA'!AA136/VLOOKUP(AA$2,$BO$127:$BP$138,2,FALSE)","v":0},{"$f":"'Budget FCFA'!AB136/VLOOKUP(AB$2,$BO$127:$BP$138,2,FALSE)","v":0},{"$f":"'Budget FCFA'!AC136/VLOOKUP(AC$2,$BO$127:$BP$138,2,FALSE)","v":0},{"$f":"'Budget FCFA'!AD136/VLOOKUP(AD$2,$BO$127:$BP$138,2,FALSE)","v":0},{"$f":"'Budget FCFA'!AE136/VLOOKUP(AE$2,$BO$127:$BP$138,2,FALSE)","v":0},{"$f":"'Budget FCFA'!AF136/VLOOKUP(AF$2,$BO$127:$BP$138,2,FALSE)","v":56.929144525440783},{"$f":"'Budget FCFA'!AG136/VLOOKUP(AG$2,$BO$127:$BP$138,2,FALSE)","v":0},{"$f":"'Budget FCFA'!AH136/VLOOKUP(AH$2,$BO$127:$BP$138,2,FALSE)","v":0},{"$f":"'Budget FCFA'!AI136/VLOOKUP(AI$2,$BO$127:$BP$138,2,FALSE)","v":0},{"$f":"'Budget FCFA'!AJ136/VLOOKUP(AJ$2,$BO$127:$BP$138,2,FALSE)","v":0},{"$f":"'Budget FCFA'!AK136/VLOOKUP(AK$2,$BO$127:$BP$138,2,FALSE)","v":46.902464643261681},{"$f":"'Budget FCFA'!AL136/VLOOKUP(AL$2,$BO$127:$BP$138,2,FALSE)","v":1524.4901723741038},{"$f":"'Budget FCFA'!AM136/VLOOKUP(AM$2,$BO$127:$BP$138,2,FALSE)","v":0},{"$f":"'Budget FCFA'!AN136/VLOOKUP(AN$2,$BO$127:$BP$138,2,FALSE)","v":0},{"$f":"'Budget FCFA'!AO136/VLOOKUP(AO$2,$BO$127:$BP$138,2,FALSE)","v":0},{"$f":"'Budget FCFA'!AP136/VLOOKUP(AP$2,$BO$127:$BP$138,2,FALSE)","v":46.902464643261681},{"$f":"'Budget FCFA'!#REF!/VLOOKUP(AQ$2,$BO$127:$BP$138,2,FALSE)","v":{"$error":"#REF!"}},{"$f":"'Budget FCFA'!#REF!/VLOOKUP(AR$2,$BO$127:$BP$138,2,FALSE)","v":{"$error":"#REF!"}},{"$f":"'Budget FCFA'!#REF!/VLOOKUP(AS$2,$BO$127:$BP$138,2,FALSE)","v":{"$error":"#REF!"}},{"$f":"'Budget FCFA'!#REF!/VLOOKUP(AT$2,$BO$127:$BP$138,2,FALSE)","v":{"$error":"#REF!"}},{"$f":"'Budget FCFA'!#REF!/VLOOKUP(AU$2,$BO$127:$BP$138,2,FALSE)","v":{"$error":"#REF!"}},{"$f":"'Budget FCFA'!#REF!/VLOOKUP(AV$2,$BO$127:$BP$138,2,FALSE)","v":{"$error":"#REF!"}},{"$f":"'Budget FCFA'!#REF!/VLOOKUP(AW$2,$BO$127:$BP$138,2,FALSE)","v":{"$error":"#REF!"}},{"$f":"'Budget FCFA'!#REF!/VLOOKUP(AX$2,$BO$127:$BP$138,2,FALSE)","v":{"$error":"#REF!"}},{"$f":"'Budget FCFA'!#REF!/VLOOKUP(AY$2,$BO$127:$BP$138,2,FALSE)","v":{"$error":"#REF!"}},{"$f":"'Budget FCFA'!#REF!/VLOOKUP(AZ$2,$BO$127:$BP$138,2,FALSE)","v":{"$error":"#REF!"}},{"$f":"'Budget FCFA'!#REF!/VLOOKUP(BA$2,$BO$127:$BP$138,2,FALSE)","v":{"$error":"#REF!"}},{"$f":"'Budget FCFA'!#REF!/VLOOKUP(BB$2,$BO$127:$BP$138,2,FALSE)","v":{"$error":"#REF!"}},{"$f":"'Budget FCFA'!#REF!/VLOOKUP(BC$2,$BO$127:$BP$138,2,FALSE)","v":{"$error":"#REF!"}},{"$f":"'Budget FCFA'!#REF!/VLOOKUP(BD$2,$BO$127:$BP$138,2,FALSE)","v":{"$error":"#REF!"}},{"$f":"'Budget FCFA'!#REF!/VLOOKUP(BE$2,$BO$127:$BP$138,2,FALSE)","v":{"$error":"#REF!"}},{"$f":"'Budget FCFA'!#REF!/VLOOKUP(BF$2,$BO$127:$BP$138,2,FALSE)","v":{"$error":"#REF!"}},{"$f":"'Budget FCFA'!#REF!/VLOOKUP(BG$2,$BO$127:$BP$138,2,FALSE)","v":{"$error":"#REF!"}},{"$f":"'Budget FCFA'!#REF!/VLOOKUP(BH$2,$BO$127:$BP$138,2,FALSE)","v":{"$error":"#REF!"}},{"$f":"'Budget FCFA'!#REF!/VLOOKUP(BI$2,$BO$127:$BP$138,2,FALSE)","v":{"$error":"#REF!"}},{"$f":"'Budget FCFA'!#REF!/VLOOKUP(BJ$2,$BO$127:$BP$138,2,FALSE)","v":{"$error":"#REF!"}},{"$error":"#REF!"},{"$f":"BK136-'Budget FCFA'!#REF!","v":{"$error":"#REF!"}},null,null,"OCTOBRE",655.95699999999999]
["WEBINFLU","LIBREVILLE","Influenceurs",{"$f":"'Budget FCFA'!D137/VLOOKUP(D$2,$BO$127:$BP$138,2,FALSE)","v":0},{"$f":"'Budget FCFA'!E137/VLOOKUP(E$2,$BO$127:$BP$138,2,FALSE)","v":0},{"$f":"'Budget FCFA'!F137/VLOOKUP(F$2,$BO$127:$BP$138,2,FALSE)","v":0},{"$f":"'Budget FCFA'!G137/VLOOKUP(G$2,$BO$127:$BP$138,2,FALSE)","v":0},{"$f":"'Budget FCFA'!H137/VLOOKUP(H$2,$BO$127:$BP$138,2,FALSE)","v":0},{"$f":"'Budget FCFA'!I137/VLOOKUP(I$2,$BO$127:$BP$138,2,FALSE)","v":0},{"$f":"'Budget FCFA'!J137/VLOOKUP(J$2,$BO$127:$BP$138,2,FALSE)","v":0},{"$f":"'Budget FCFA'!K137/VLOOKUP(K$2,$BO$127:$BP$138,2,FALSE)","v":0},{"$f":"'Budget FCFA'!L137/VLOOKUP(L$2,$BO$127:$BP$138,2,FALSE)","v":0},{"$f":"'Budget FCFA'!M137/VLOOKUP(M$2,$BO$127:$BP$138,2,FALSE)","v":688.23703382996143},{"$f":"'Budget FCFA'!N137/VLOOKUP(N$2,$BO$127:$BP$138,2,FALSE)","v":0},{"$f":"'Budget FCFA'!O137/VLOOKUP(O$2,$BO$127:$BP$138,2,FALSE)","v":0},{"$f":"'Budget FCFA'!P137/VLOOKUP(P$2,$BO$127:$BP$138,2,FALSE)","v":0},{"$f":"'Budget FCFA'!Q137/VLOOKUP(Q$2,$BO$127:$BP$138,2,FALSE)","v":0},{"$f":"'Budget FCFA'!R137/VLOOKUP(R$2,$BO$127:$BP$138,2,FALSE)","v":67.944392696472477},{"$f":"'Budget FCFA'!S137/VLOOKUP(S$2,$BO$127:$BP$138,2,FALSE)","v":0},{"$f":"'Budget FCFA'!T137/VLOOKUP(T$2,$BO$127:$BP$138,2,FALSE)","v":0},{"$f":"'Budget FCFA'!U137/VLOOKUP(U$2,$BO$127:$BP$138,2,FALSE)","v":0},{"$f":"'Budget FCFA'!V137/VLOOKUP(V$2,$BO$127:$BP$138,2,FALSE)","v":0},{"$f":"'Budget FCFA'!W137/VLOOKUP(W$2,$BO$127:$BP$138,2,FALSE)","v":68.888814358258244},{"$f":"'Budget FCFA'!X137/VLOOKUP(X$2,$BO$127:$BP$138,2,FALSE)","v":0},{"$f":"'Budget FCFA'!Y137/VLOOKUP(Y$2,$BO$127:$BP$138,2,FALSE)","v":0},{"$f":"'Budget FCFA'!Z137/VLOOKUP(Z$2,$BO$127:$BP$138,2,FALSE)","v":0},{"$f":"'Budget FCFA'!AA137/VLOOKUP(AA$2,$BO$127:$BP$138,2,FALSE)","v":0},{"$f":"'Budget FCFA'!AB137/VLOOKUP(AB$2,$BO$127:$BP$138,2,FALSE)","v":0},{"$f":"'Budget FCFA'!AC137/VLOOKUP(AC$2,$BO$127:$BP$138,2,FALSE)","v":0},{"$f":"'Budget FCFA'!AD137/VLOOKUP(AD$2,$BO$127:$BP$138,2,FALSE)","v":0},{"$f":"'Budget FCFA'!AE137/VLOOKUP(AE$2,$BO$127:$BP$138,2,FALSE)","v":0},{"$f":"'Budget FCFA'!AF137/VLOOKUP(AF$2,$BO$127:$BP$138,2,FALSE)","v":80.611668648024136},{"$f":"'Budget FCFA'!AG137/VLOOKUP(AG$2,$BO$127:$BP$138,2,FALSE)","v":0},{"$f":"'Budget FCFA'!AH137/VLOOKUP(AH$2,$BO$127:$BP$138,2,FALSE)","v":0},{"$f":"'Budget FCFA'!AI137/VLOOKUP(AI$2,$BO$127:$BP$138,2,FALSE)","v":0},{"$f":"'Budget FCFA'!AJ137/VLOOKUP(AJ$2,$BO$127:$BP$138,2,FALSE)","v":0},{"$f":"'Budget FCFA'!AK137/VLOOKUP(AK$2,$BO$127:$BP$138,2,FALSE)","v":67.890120846335961},{"$f":"'Budget FCFA'!AL137/VLOOKUP(AL$2,$BO$127:$BP$138,2,FALSE)","v":914.69410342446224},{"$f":"'Budget FCFA'!AM137/VLOOKUP(AM$2,$BO$127:$BP$138,2,FALSE)","v":0},{"$f":"'Budget FCFA'!AN137/VLOOKUP(AN$2,$BO$127:$BP$138,2,FALSE)","v":0},{"$f":"'Budget FCFA'!AO137/VLOOKUP(AO$2,$BO$127:$BP$138,2,FALSE)","v":0},{"$f":"'Budget FCFA'!AP137/VLOOKUP(AP$2,$BO$127:$BP$138,2,FALSE)","v":67.890120846335961},{"$f":"'Budget FCFA'!#REF!/VLOOKUP(AQ$2,$BO$127:$BP$138,2,FALSE)","v":{"$error":"#REF!"}},{"$f":"'Budget FCFA'!#REF!/VLOOKUP(AR$2,$BO$127:$BP$138,2,FALSE)","v":{"$error":"#REF!"}},{"$f":"'Budget FCFA'!#REF!/VLOOKUP(AS$2,$BO$127:$BP$138,2,FALSE)","v":{"$error":"#REF!"}},{"$f":"'Budget FCFA'!#REF!/VLOOKUP(AT$2,$BO$127:$BP$138,2,FALSE)","v":{"$error":"#REF!"}},{"$f":"'Budget FCFA'!#REF!/VLOOKUP(AU$2,$BO$127:$BP$138,2,FALSE)","v":{"$error":"#REF!"}},{"$f":"'Budget FCFA'!#REF!/VLOOKUP(AV$2,$BO$127:$BP$138,2,FALSE)","v":{"$error":"#REF!"}},{"$f":"'Budget FCFA'!#REF!/VLOOKUP(AW$2,$BO$127:$BP$138,2,FALSE)","v":{"$error":"#REF!"}},{"$f":"'Budget FCFA'!#REF!/VLOOKUP(AX$2,$BO$127:$BP$138,2,FALSE)","v":{"$error":"#REF!"}},{"$f":"'Budget FCFA'!#REF!/VLOOKUP(AY$2,$BO$127:$BP$138,2,FALSE)","v":{"$error":"#REF!"}},{"$f":"'Budget FCFA'!#REF!/VLOOKUP(AZ$2,$BO$127:$BP$138,2,FALSE)","v":{"$error":"#REF!"}},{"$f":"'Budget FCFA'!#REF!/VLOOKUP(BA$2,$BO$127:$BP$138,2,FALSE)","v":{"$error":"#REF!"}},{"$f":"'Budget FCFA'!#REF!/VLOOKUP(BB$2,$BO$127:$BP$138,2,FALSE)","v":{"$error":"#REF!"}},{"$f":"'Budget FCFA'!#REF!/VLOOKUP(BC$2,$BO$127:$BP$138,2,FALSE)","v":{"$error":"#REF!"}},{"$f":"'Budget FCFA'!#REF!/VLOOKUP(BD$2,$BO$127:$BP$138,2,FALSE)","v":{"$error":"#REF!"}},{"$f":"'Budget FCFA'!#REF!/VLOOKUP(BE$2,$BO$127:$BP$138,2,FALSE)","v":{"$error":"#REF!"}},{"$f":"'Budget FCFA'!#REF!/VLOOKUP(BF$2,$BO$127:$BP$138,2,FALSE)","v":{"$error":"#REF!"}},{"$f":"'Budget FCFA'!#REF!/VLOOKUP(BG$2,$BO$127:$BP$138,2,FALSE)","v":{"$error":"#REF!"}},{"$f":"'Budget FCFA'!#REF!/VLOOKUP(BH$2,$BO$127:$BP$138,2,FALSE)","v":{"$error":"#REF!"}},{"$f":"'Budget FCFA'!#REF!/VLOOKUP(BI$2,$BO$127:$BP$138,2,FALSE)","v":{"$error":"#REF!"}},{"$f":"'Budget FCFA'!#REF!/VLOOKUP(BJ$2,$BO$127:$BP$138,2,FALSE)","v":{"$error":"#REF!"}},{"$error":"#REF!"},{"$f":"BK137-'Budget FCFA'!#REF!","v":{"$error":"#REF!"}},null,null,"NOVEMBRE",655.95699999999999]
["WEBINFLU","DOUALA","Influenceurs",{"$f":"'Budget FCFA'!D138/VLOOKUP(D$2,$BO$127:$BP$138,2,FALSE)","v":0},{"$f":"'Budget FCFA'!E138/VLOOKUP(E$2,$BO$127:$BP$138,2,FALSE)","v":0},{"$f":"'Budget FCFA'!F138/VLOOKUP(F$2,$BO$127:$BP$138,2,FALSE)","v":0},{"$f":"'Budget FCFA'!G138/VLOOKUP(G$2,$BO$127:$BP$138,2,FALSE)","v":0},{"$f":"'Budget FCFA'!H138/VLOOKUP(H$2,$BO$127:$BP$138,2,FALSE)","v":0},{"$f":"'Budget FCFA'!I138/VLOOKUP(I$2,$BO$127:$BP$138,2,FALSE)","v":0},{"$f":"'Budget FCFA'!J138/VLOOKUP(J$2,$BO$127:$BP$138,2,FALSE)","v":0},{"$f":"'Budget FCFA'!K138/VLOOKUP(K$2,$BO$127:$BP$138,2,FALSE)","v":0},{"$f":"'Budget FCFA'!L138/VLOOKUP(L$2,$BO$127:$BP$138,2,FALSE)","v":0},{"$f":"'Budget FCFA'!M138/VLOOKUP(M$2,$BO$127:$BP$138,2,FALSE)","v":55.396161638643996},{"$f":"'Budget FCFA'!N138/VLOOKUP(N$2,$BO$127:$BP$138,2,FALSE)","v":0},{"$f":"'Budget FCFA'!O138/VLOOKUP(O$2,$BO$127:$BP$138,2,FALSE)","v":0},{"$f":"'Budget FCFA'!P138/VLOOKUP(P$2,$BO$127:$BP$138,2,FALSE)","v":0},{"$f":"'Budget FCFA'!Q138/VLOOKUP(Q$2,$BO$127:$BP$138,2,FALSE)","v":0},{"$f":"'Budget FCFA'!R138/VLOOKUP(R$2,$BO$127:$BP$138,2,FALSE)","v":47.983328175474917},{"$f":"'Budget FCFA'!S138/VLOOKUP(S$2,$BO$127:$BP$138,2,FALSE)","v":0},{"$f":"'Budget FCFA'!T138/VLOOKUP(T$2,$BO$127:$BP$138,2,FALSE)","v":0},{"$f":"'Budget FCFA'!U138/VLOOKUP(U$2,$BO$127:$BP$138,2,FALSE)","v":0},{"$f":"'Budget FCFA'!V138/VLOOKUP(V$2,$BO$127:$BP$138,2,FALSE)","v":0},{"$f":"'Budget FCFA'!W138/VLOOKUP(W$2,$BO$127:$BP$138,2,FALSE)","v":48.650292625888589},{"$f":"'Budget FCFA'!X138/VLOOKUP(X$2,$BO$127:$BP$138,2,FALSE)","v":0},{"$f":"'Budget FCFA'!Y138/VLOOKUP(Y$2,$BO$127:$BP$138,2,FALSE)","v":0},{"$f":"'Budget FCFA'!Z138/VLOOKUP(Z$2,$BO$127:$BP$138,2,FALSE)","v":0},{"$f":"'Budget FCFA'!AA138/VLOOKUP(AA$2,$BO$127:$BP$138,2,FALSE)","v":0},{"$f":"'Budget FCFA'!AB138/VLOOKUP(AB$2,$BO$127:$BP$138,2,FALSE)","v":0},{"$f":"'Budget FCFA'!AC138/VLOOKUP(AC$2,$BO$127:$BP$138,2,FALSE)","v":0},{"$f":"'Budget FCFA'!AD138/VLOOKUP(AD$2,$BO$127:$BP$138,2,FALSE)","v":0},{"$f":"'Budget FCFA'!AE138/VLOOKUP(AE$2,$BO$127:$BP$138,2,FALSE)","v":0},{"$f":"'Budget FCFA'!AF138/VLOOKUP(AF$2,$BO$127:$BP$138,2,FALSE)","v":56.929144525440783},{"$f":"'Budget FCFA'!AG138/VLOOKUP(AG$2,$BO$127:$BP$138,2,FALSE)","v":0},{"$f":"'Budget FCFA'!AH138/VLOOKUP(AH$2,$BO$127:$BP$138,2,FALSE)","v":0},{"$f":"'Budget FCFA'!AI138/VLOOKUP(AI$2,$BO$127:$BP$138,2,FALSE)","v":0},{"$f":"'Budget FCFA'!AJ138/VLOOKUP(AJ$2,$BO$127:$BP$138,2,FALSE)","v":0},{"$f":"'Budget FCFA'!AK138/VLOOKUP(AK$2,$BO$127:$BP$138,2,FALSE)","v":48.882777377175636},{"$f":"'Budget FCFA'!AL138/VLOOKUP(AL$2,$BO$127:$BP$138,2,FALSE)","v":914.69410342446224},{"$f":"'Budget FCFA'!AM138/VLOOKUP(AM$2,$BO$127:$BP$138,2,FALSE)","v":0},{"$f":"'Budget FCFA'!AN138/VLOOKUP(AN$2,$BO$127:$BP$138,2,FALSE)","v":0},{"$f":"'Budget FCFA'!AO138/VLOOKUP(AO$2,$BO$127:$BP$138,2,FALSE)","v":0},{"$f":"'Budget FCFA'!AP138/VLOOKUP(AP$2,$BO$127:$BP$138,2,FALSE)","v":48.882777377175636},{"$f":"'Budget FCFA'!#REF!/VLOOKUP(AQ$2,$BO$127:$BP$138,2,FALSE)","v":{"$error":"#REF!"}},{"$f":"'Budget FCFA'!#REF!/VLOOKUP(AR$2,$BO$127:$BP$138,2,FALSE)","v":{"$error":"#REF!"}},{"$f":"'Budget FCFA'!#REF!/VLOOKUP(AS$2,$BO$127:$BP$138,2,FALSE)","v":{"$error":"#REF!"}},{"$f":"'Budget FCFA'!#REF!/VLOOKUP(AT$2,$BO$127:$BP$138,2,FALSE)","v":{"$error":"#REF!"}},{"$f":"'Budget FCFA'!#REF!/VLOOKUP(AU$2,$BO$127:$BP$138,2,FALSE)","v":{"$error":"#REF!"}},{"$f":"'Budget FCFA'!#REF!/VLOOKUP(AV$2,$BO$127:$BP$138,2,FALSE)","v":{"$error":"#REF!"}},{"$f":"'Budget FCFA'!#REF!/VLOOKUP(AW$2,$BO$127:$BP$138,2,FALSE)","v":{"$error":"#REF!"}},{"$f":"'Budget FCFA'!#REF!/VLOOKUP(AX$2,$BO$127:$BP$138,2,FALSE)","v":{"$error":"#REF!"}},{"$f":"'Budget FCFA'!#REF!/VLOOKUP(AY$2,$BO$127:$BP$138,2,FALSE)","v":{"$error":"#REF!"}},{"$f":"'Budget FCFA'!#REF!/VLOOKUP(AZ$2,$BO$127:$BP$138,2,FALSE)","v":{"$error":"#REF!"}},{"$f":"'Budget FCFA'!#REF!/VLOOKUP(BA$2,$BO$127:$BP$138,2,FALSE)","v":{"$error":"#REF!"}},{"$f":"'Budget FCFA'!#REF!/VLOOKUP(BB$2,$BO$127:$BP$138,2,FALSE)","v":{"$error":"#REF!"}},{"$f":"'Budget FCFA'!#REF!/VLOOKUP(BC$2,$BO$127:$BP$138,2,FALSE)","v":{"$error":"#REF!"}},{"$f":"'Budget FCFA'!#REF!/VLOOKUP(BD$2,$BO$127:$BP$138,2,FALSE)","v":{"$error":"#REF!"}},{"$f":"'Budget FCFA'!#REF!/VLOOKUP(BE$2,$BO$127:$BP$138,2,FALSE)","v":{"$error":"#REF!"}},{"$f":"'Budget FCFA'!#REF!/VLOOKUP(BF$2,$BO$127:$BP$138,2,FALSE)","v":{"$error":"#REF!"}},{"$f":"'Budget FCFA'!#REF!/VLOOKUP(BG$2,$BO$127:$BP$138,2,FALSE)","v":{"$error":"#REF!"}},{"$f":"'Budget FCFA'!#REF!/VLOOKUP(BH$2,$BO$127:$BP$138,2,FALSE)","v":{"$error":"#REF!"}},{"$f":"'Budget FCFA'!#REF!/VLOOKUP(BI$2,$BO$127:$BP$138,2,FALSE)","v":{"$error":"#REF!"}},{"$f":"'Budget FCFA'!#REF!/VLOOKUP(BJ$2,$BO$127:$BP$138,2,FALSE)","v":{"$error":"#REF!"}},{"$error":"#REF!"},{"$f":"BK138-'Budget FCFA'!#REF!","v":{"$error":"#REF!"}},null,null,"DECEMBRE",655.95699999999999]
["WEBINFLU","TOTAL","Total influenceurs",{"$f":"'Budget FCFA'!D139/VLOOKUP(D$2,$BO$127:$BP$138,2,FALSE)","v":0},{"$f":"'Budget FCFA'!E139/VLOOKUP(E$2,$BO$127:$BP$138,2,FALSE)","v":0},{"$f":"'Budget FCFA'!F139/VLOOKUP(F$2,$BO$127:$BP$138,2,FALSE)","v":0},{"$f":"'Budget FCFA'!G139/VLOOKUP(G$2,$BO$127:$BP$138,2,FALSE)","v":0},{"$f":"'Budget FCFA'!H139/VLOOKUP(H$2,$BO$127:$BP$138,2,FALSE)","v":0},{"$f":"'Budget FCFA'!I139/VLOOKUP(I$2,$BO$127:$BP$138,2,FALSE)","v":1088.4859830751102},{"$f":"'Budget FCFA'!J139/VLOOKUP(J$2,$BO$127:$BP$138,2,FALSE)","v":0},{"$f":"'Budget FCFA'!K139/VLOOKUP(K$2,$BO$127:$BP$138,2,FALSE)","v":0},{"$f":"'Budget FCFA'!L139/VLOOKUP(L$2,$BO$127:$BP$138,2,FALSE)","v":0},{"$f":"'Budget FCFA'!M139/VLOOKUP(M$2,$BO$127:$BP$138,2,FALSE)","v":1052.9653620587935},{"$f":"'Budget FCFA'!N139/VLOOKUP(N$2,$BO$127:$BP$138,2,FALSE)","v":0},{"$f":"'Budget FCFA'!O139/VLOOKUP(O$2,$BO$127:$BP$138,2,FALSE)","v":0},{"$f":"'Budget FCFA'!P139/VLOOKUP(P$2,$BO$127:$BP$138,2,FALSE)","v":0},{"$f":"'Budget FCFA'!Q139/VLOOKUP(Q$2,$BO$127:$BP$138,2,FALSE)","v":0},{"$f":"'Budget FCFA'!R139/VLOOKUP(R$2,$BO$127:$BP$138,2,FALSE)","v":383.86662540379933},{"$f":"'Budget FCFA'!S139/VLOOKUP(S$2,$BO$127:$BP$138,2,FALSE)","v":0},{"$f":"'Budget FCFA'!T139/VLOOKUP(T$2,$BO$127:$BP$138,2,FALSE)","v":881.15531963223202},{"$f":"'Budget FCFA'!U139/VLOOKUP(U$2,$BO$127:$BP$138,2,FALSE)","v":0},{"$f":"'Budget FCFA'!V139/VLOOKUP(V$2,$BO$127:$BP$138,2,FALSE)","v":0},{"$f":"'Budget FCFA'!W139/VLOOKUP(W$2,$BO$127:$BP$138,2,FALSE)","v":389.20234100710871},{"$f":"'Budget FCFA'!X139/VLOOKUP(X$2,$BO$127:$BP$138,2,FALSE)","v":0},{"$f":"'Budget FCFA'!Y139/VLOOKUP(Y$2,$BO$127:$BP$138,2,FALSE)","v":0},{"$f":"'Budget FCFA'!Z139/VLOOKUP(Z$2,$BO$127:$BP$138,2,FALSE)","v":0},{"$f":"'Budget FCFA'!AA139/VLOOKUP(AA$2,$BO$127:$BP$138,2,FALSE)","v":323.95416162949704},{"$f":"'Budget FCFA'!AB139/VLOOKUP(AB$2,$BO$127:$BP$138,2,FALSE)","v":0},{"$f":"'Budget FCFA'!AC139/VLOOKUP(AC$2,$BO$127:$BP$138,2,FALSE)","v":0},{"$f":"'Budget FCFA'!AD139/VLOOKUP(AD$2,$BO$127:$BP$138,2,FALSE)","v":0},{"$f":"'Budget FCFA'!AE139/VLOOKUP(AE$2,$BO$127:$BP$138,2,FALSE)","v":0},{"$f":"'Budget FCFA'!AF139/VLOOKUP(AF$2,$BO$127:$BP$138,2,FALSE)","v":455.43315620352627},{"$f":"'Budget FCFA'!AG139/VLOOKUP(AG$2,$BO$127:$BP$138,2,FALSE)","v":0},{"$f":"'Budget FCFA'!AH139/VLOOKUP(AH$2,$BO$127:$BP$138,2,FALSE)","v":0},{"$f":"'Budget FCFA'!AI139/VLOOKUP(AI$2,$BO$127:$BP$138,2,FALSE)","v":0},{"$f":"'Budget FCFA'!AJ139/VLOOKUP(AJ$2,$BO$127:$BP$138,2,FALSE)","v":0},{"$f":"'Budget FCFA'!AK139/VLOOKUP(AK$2,$BO$127:$BP$138,2,FALSE)","v":381.57989014523821},{"$f":"'Budget FCFA'!AL139/VLOOKUP(AL$2,$BO$127:$BP$138,2,FALSE)","v":4116.1234654100799},{"$f":"'Budget FCFA'!AM139/VLOOKUP(AM$2,$BO$127:$BP$138,2,FALSE)","v":0},{"$f":"'Budget FCFA'!AN139/VLOOKUP(AN$2,$BO$127:$BP$138,2,FALSE)","v":0},{"$f":"'Budget FCFA'!AO139/VLOOKUP(AO$2,$BO$127:$BP$138,2,FALSE)","v":0},{"$f":"'Budget FCFA'!AP139/VLOOKUP(AP$2,$BO$127:$BP$138,2,FALSE)","v":381.57989014523821},{"$f":"'Budget FCFA'!#REF!/VLOOKUP(AQ$2,$BO$127:$BP$138,2,FALSE)","v":{"$error":"#REF!"}},{"$f":"'Budget FCFA'!#REF!/VLOOKUP(AR$2,$BO$127:$BP$138,2,FALSE)","v":{"$error":"#REF!"}},{"$f":"'Budget FCFA'!#REF!/VLOOKUP(AS$2,$BO$127:$BP$138,2,FALSE)","v":{"$error":"#REF!"}},{"$f":"'Budget FCFA'!#REF!/VLOOKUP(AT$2,$BO$127:$BP$138,2,FALSE)","v":{"$error":"#REF!"}},{"$f":"'Budget FCFA'!#REF!/VLOOKUP(AU$2,$BO$127:$BP$138,2,FALSE)","v":{"$error":"#REF!"}},{"$f":"'Budget FCFA'!#REF!/VLOOKUP(AV$2,$BO$127:$BP$138,2,FALSE)","v":{"$error":"#REF!"}},{"$f":"'Budget FCFA'!#REF!/VLOOKUP(AW$2,$BO$127:$BP$138,2,FALSE)","v":{"$error":"#REF!"}},{"$f":"'Budget FCFA'!#REF!/VLOOKUP(AX$2,$BO$127:$BP$138,2,FALSE)","v":{"$error":"#REF!"}},{"$f":"'Budget FCFA'!#REF!/VLOOKUP(AY$2,$BO$127:$BP$138,2,FALSE)","v":{"$error":"#REF!"}},{"$f":"'Budget FCFA'!#REF!/VLOOKUP(AZ$2,$BO$127:$BP$138,2,FALSE)","v":{"$error":"#REF!"}},{"$f":"'Budget FCFA'!#REF!/VLOOKUP(BA$2,$BO$127:$BP$138,2,FALSE)","v":{"$error":"#REF!"}},{"$f":"'Budget FCFA'!#REF!/VLOOKUP(BB$2,$BO$127:$BP$138,2,FALSE)","v":{"$error":"#REF!"}},{"$f":"'Budget FCFA'!#REF!/VLOOKUP(BC$2,$BO$127:$BP$138,2,FALSE)","v":{"$error":"#REF!"}},{"$f":"'Budget FCFA'!#REF!/VLOOKUP(BD$2,$BO$127:$BP$138,2,FALSE)","v":{"$error":"#REF!"}},{"$f":"'Budget FCFA'!#REF!/VLOOKUP(BE$2,$BO$127:$BP$138,2,FALSE)","v":{"$error":"#REF!"}},{"$f":"'Budget FCFA'!#REF!/VLOOKUP(BF$2,$BO$127:$BP$138,2,FALSE)","v":{"$error":"#REF!"}},{"$f":"'Budget FCFA'!#REF!/VLOOKUP(BG$2,$BO$127:$BP$138,2,FALSE)","v":{"$error":"#REF!"}},{"$f":"'Budget FCFA'!#REF!/VLOOKUP(BH$2,$BO$127:$BP$138,2,FALSE)","v":{"$error":"#REF!"}},{"$f":"'Budget FCFA'!#REF!/VLOOKUP(BI$2,$BO$127:$BP$138,2,FALSE)","v":{"$error":"#REF!"}},{"$f":"'Budget FCFA'!#REF!/VLOOKUP(BJ$2,$BO$127:$BP$138,2,FALSE)","v":{"$error":"#REF!"}},{"$error":"#REF!"},{"$f":"BK139-'Budget FCFA'!#REF!","v":{"$error":"#REF!"}}]
["WEBRESEA","TOTAL","Total web",{"$f":"'Budget FCFA'!D140/VLOOKUP(D$2,$BO$127:$BP$138,2,FALSE)","v":1194.3603010563193},{"$f":"'Budget FCFA'!E140/VLOOKUP(E$2,$BO$127:$BP$138,2,FALSE)","v":0},{"$f":"'Budget FCFA'!F140/VLOOKUP(F$2,$BO$127:$BP$138,2,FALSE)","v":205.80617327050402},{"$f":"'Budget FCFA'!G140/VLOOKUP(G$2,$BO$127:$BP$138,2,FALSE)","v":0},{"$f":"'Budget FCFA'!H140/VLOOKUP(H$2,$BO$127:$BP$138,2,FALSE)","v":1115.92},{"$f":"'Budget FCFA'!I140/VLOOKUP(I$2,$BO$127:$BP$138,2,FALSE)","v":3001.413202389791},{"$f":"'Budget FCFA'!J140/VLOOKUP(J$2,$BO$127:$BP$138,2,FALSE)","v":0},{"$f":"'Budget FCFA'!K140/VLOOKUP(K$2,$BO$127:$BP$138,2,FALSE)","v":0},{"$f":"'Budget FCFA'!L140/VLOOKUP(L$2,$BO$127:$BP$138,2,FALSE)","v":0},{"$f":"'Budget FCFA'!M140/VLOOKUP(M$2,$BO$127:$BP$138,2,FALSE)","v":3327.0315353292976},{"$f":"'Budget FCFA'!N140/VLOOKUP(N$2,$BO$127:$BP$138,2,FALSE)","v":0},{"$f":"'Budget FCFA'!O140/VLOOKUP(O$2,$BO$127:$BP$138,2,FALSE)","v":265.23994713068083},{"$f":"'Budget FCFA'!P140/VLOOKUP(P$2,$BO$127:$BP$138,2,FALSE)","v":3269.0603195026501},{"$f":"'Budget FCFA'!Q140/VLOOKUP(Q$2,$BO$127:$BP$138,2,FALSE)","v":0},{"$f":"'Budget FCFA'!R140/VLOOKUP(R$2,$BO$127:$BP$138,2,FALSE)","v":2640.8166254037992},{"$f":"'Budget FCFA'!S140/VLOOKUP(S$2,$BO$127:$BP$138,2,FALSE)","v":0},{"$f":"'Budget FCFA'!T140/VLOOKUP(T$2,$BO$127:$BP$138,2,FALSE)","v":2740.350358331415},{"$f":"'Budget FCFA'!U140/VLOOKUP(U$2,$BO$127:$BP$138,2,FALSE)","v":0},{"$f":"'Budget FCFA'!V140/VLOOKUP(V$2,$BO$127:$BP$138,2,FALSE)","v":0},{"$f":"'Budget FCFA'!W140/VLOOKUP(W$2,$BO$127:$BP$138,2,FALSE)","v":2257.1623410071088},{"$f":"'Budget FCFA'!X140/VLOOKUP(X$2,$BO$127:$BP$138,2,FALSE)","v":1860.1585164881235},{"$f":"'Budget FCFA'!Y140/VLOOKUP(Y$2,$BO$127:$BP$138,2,FALSE)","v":1860.1493695470892},{"$f":"'Budget FCFA'!Z140/VLOOKUP(Z$2,$BO$127:$BP$138,2,FALSE)","v":0},{"$f":"'Budget FCFA'!AA140/VLOOKUP(AA$2,$BO$127:$BP$138,2,FALSE)","v":1917.0941616294972},{"$f":"'Budget FCFA'!AB140/VLOOKUP(AB$2,$BO$127:$BP$138,2,FALSE)","v":1651.800650575304},{"$f":"'Budget FCFA'!AC140/VLOOKUP(AC$2,$BO$127:$BP$138,2,FALSE)","v":0},{"$f":"'Budget FCFA'!AD140/VLOOKUP(AD$2,$BO$127:$BP$138,2,FALSE)","v":0},{"$f":"'Budget FCFA'!AE140/VLOOKUP(AE$2,$BO$127:$BP$138,2,FALSE)","v":0},{"$f":"'Budget FCFA'!AF140/VLOOKUP(AF$2,$BO$127:$BP$138,2,FALSE)","v":3751.7310346643685},{"$f":"'Budget FCFA'!AG140/VLOOKUP(AG$2,$BO$127:$BP$138,2,FALSE)","v":4843.3052776325276},{"$f":"'Budget FCFA'!AH140/VLOOKUP(AH$2,$BO$127:$BP$138,2,FALSE)","v":0},{"$f":"'Budget FCFA'!AI140/VLOOKUP(AI$2,$BO$127:$BP$138,2,FALSE)","v":0},{"$f":"'Budget FCFA'!AJ140/VLOOKUP(AJ$2,$BO$127:$BP$138,2,FALSE)","v":0},{"$f":"'Budget FCFA'!AK140/VLOOKUP(AK$2,$BO$127:$BP$138,2,FALSE)","v":1577.8898901452383},{"$f":"'Budget FCFA'!AL140/VLOOKUP(AL$2,$BO$127:$BP$138,2,FALSE)","v":8959.4287430426084},{"$f":"'Budget FCFA'!AM140/VLOOKUP(AM$2,$BO$127:$BP$138,2,FALSE)","v":8352.6816544377143},{"$f":"'Budget FCFA'!AN140/VLOOKUP(AN$2,$BO$127:$BP$138,2,FALSE)","v":0},{"$f":"'Budget FCFA'!AO140/VLOOKUP(AO$2,$BO$127:$BP$138,2,FALSE)","v":0},{"$f":"'Budget FCFA'!AP140/VLOOKUP(AP$2,$BO$127:$BP$138,2,FALSE)","v":3156.3198901452383},{"$f":"'Budget FCFA'!#REF!/VLOOKUP(AQ$2,$BO$127:$BP$138,2,FALSE)","v":{"$error":"#REF!"}},{"$f":"'Budget FCFA'!#REF!/VLOOKUP(AR$2,$BO$127:$BP$138,2,FALSE)","v":{"$error":"#REF!"}},{"$f":"'Budget FCFA'!#REF!/VLOOKUP(AS$2,$BO$127:$BP$138,2,FALSE)","v":{"$error":"#REF!"}},{"$f":"'Budget FCFA'!#REF!/VLOOKUP(AT$2,$BO$127:$BP$138,2,FALSE)","v":{"$error":"#REF!"}},{"$f":"'Budget FCFA'!#REF!/VLOOKUP(AU$2,$BO$127:$BP$138,2,FALSE)","v":{"$error":"#REF!"}},{"$f":"'Budget FCFA'!#REF!/VLOOKUP(AV$2,$BO$127:$BP$138,2,FALSE)","v":{"$error":"#REF!"}},{"$f":"'Budget FCFA'!#REF!/VLOOKUP(AW$2,$BO$127:$BP$138,2,FALSE)","v":{"$error":"#REF!"}},{"$f":"'Budget FCFA'!#REF!/VLOOKUP(AX$2,$BO$127:$BP$138,2,FALSE)","v":{"$error":"#REF!"}},{"$f":"'Budget FCFA'!#REF!/VLOOKUP(AY$2,$BO$127:$BP$138,2,FALSE)","v":{"$error":"#REF!"}},{"$f":"'Budget FCFA'!#REF!/VLOOKUP(AZ$2,$BO$127:$BP$138,2,FALSE)","v":{"$error":"#REF!"}},{"$f":"'Budget FCFA'!#REF!/VLOOKUP(BA$2,$BO$127:$BP$138,2,FALSE)","v":{"$error":"#REF!"}},{"$f":"'Budget FCFA'!#REF!/VLOOKUP(BB$2,$BO$127:$BP$138,2,FALSE)","v":{"$error":"#REF!"}},{"$f":"'Budget FCFA'!#REF!/VLOOKUP(BC$2,$BO$127:$BP$138,2,FALSE)","v":{"$error":"#REF!"}},{"$f":"'Budget FCFA'!#REF!/VLOOKUP(BD$2,$BO$127:$BP$138,2,FALSE)","v":{"$error":"#REF!"}},{"$f":"'Budget FCFA'!#REF!/VLOOKUP(BE$2,$BO$127:$BP$138,2,FALSE)","v":{"$error":"#REF!"}},{"$f":"'Budget FCFA'!#REF!/VLOOKUP(BF$2,$BO$127:$BP$138,2,FALSE)","v":{"$error":"#REF!"}},{"$f":"'Budget FCFA'!#REF!/VLOOKUP(BG$2,$BO$127:$BP$138,2,FALSE)","v":{"$error":"#REF!"}},{"$f":"'Budget FCFA'!#REF!/VLOOKUP(BH$2,$BO$127:$BP$138,2,FALSE)","v":{"$error":"#REF!"}},{"$f":"'Budget FCFA'!#REF!/VLOOKUP(BI$2,$BO$127:$BP$138,2,FALSE)","v":{"$error":"#REF!"}},{"$f":"'Budget FCFA'!#REF!/VLOOKUP(BJ$2,$BO$127:$BP$138,2,FALSE)","v":{"$error":"#REF!"}},{"$error":"#REF!"},{"$f":"BK140-'Budget FCFA'!#REF!","v":{"$error":"#REF!"}}]
["PUBTECHN","ABIDJAN","Exé Gravure PLV ",{"$f":"'Budget FCFA'!D141/VLOOKUP(D$2,$BO$127:$BP$138,2,FALSE)","v":0},{"$f":"'Budget FCFA'!E141/VLOOKUP(E$2,$BO$127:$BP$138,2,FALSE)","v":0},{"$f":"'Budget FCFA'!F141/VLOOKUP(F$2,$BO$127:$BP$138,2,FALSE)","v":0},{"$f":"'Budget FCFA'!G141/VLOOKUP(G$2,$BO$127:$BP$138,2,FALSE)","v":0},{"$f":"'Budget FCFA'!H141/VLOOKUP(H$2,$BO$127:$BP$138,2,FALSE)","v":0},{"$f":"'Budget FCFA'!I141/VLOOKUP(I$2,$BO$127:$BP$138,2,FALSE)","v":0},{"$f":"'Budget FCFA'!J141/VLOOKUP(J$2,$BO$127:$BP$138,2,FALSE)","v":0},{"$f":"'Budget FCFA'!K141/VLOOKUP(K$2,$BO$127:$BP$138,2,FALSE)","v":0},{"$f":"'Budget FCFA'!L141/VLOOKUP(L$2,$BO$127:$BP$138,2,FALSE)","v":0},{"$f":"'Budget FCFA'!M141/VLOOKUP(M$2,$BO$127:$BP$138,2,FALSE)","v":0},{"$f":"'Budget FCFA'!N141/VLOOKUP(N$2,$BO$127:$BP$138,2,FALSE)","v":0},{"$f":"'Budget FCFA'!O141/VLOOKUP(O$2,$BO$127:$BP$138,2,FALSE)","v":0},{"$f":"'Budget FCFA'!P141/VLOOKUP(P$2,$BO$127:$BP$138,2,FALSE)","v":0},{"$f":"'Budget FCFA'!Q141/VLOOKUP(Q$2,$BO$127:$BP$138,2,FALSE)","v":0},{"$f":"'Budget FCFA'!R141/VLOOKUP(R$2,$BO$127:$BP$138,2,FALSE)","v":0},{"$f":"'Budget FCFA'!S141/VLOOKUP(S$2,$BO$127:$BP$138,2,FALSE)","v":0},{"$f":"'Budget FCFA'!T141/VLOOKUP(T$2,$BO$127:$BP$138,2,FALSE)","v":0},{"$f":"'Budget FCFA'!U141/VLOOKUP(U$2,$BO$127:$BP$138,2,FALSE)","v":0},{"$f":"'Budget FCFA'!V141/VLOOKUP(V$2,$BO$127:$BP$138,2,FALSE)","v":0},{"$f":"'Budget FCFA'!W141/VLOOKUP(W$2,$BO$127:$BP$138,2,FALSE)","v":0},{"$f":"'Budget FCFA'!X141/VLOOKUP(X$2,$BO$127:$BP$138,2,FALSE)","v":0},{"$f":"'Budget FCFA'!Y141/VLOOKUP(Y$2,$BO$127:$BP$138,2,FALSE)","v":0},{"$f":"'Budget FCFA'!Z141/VLOOKUP(Z$2,$BO$127:$BP$138,2,FALSE)","v":0},{"$f":"'Budget FCFA'!AA141/VLOOKUP(AA$2,$BO$127:$BP$138,2,FALSE)","v":0},{"$f":"'Budget FCFA'!AB141/VLOOKUP(AB$2,$BO$127:$BP$138,2,FALSE)","v":0},{"$f":"'Budget FCFA'!AC141/VLOOKUP(AC$2,$BO$127:$BP$138,2,FALSE)","v":0},{"$f":"'Budget FCFA'!AD141/VLOOKUP(AD$2,$BO$127:$BP$138,2,FALSE)","v":0},{"$f":"'Budget FCFA'!AE141/VLOOKUP(AE$2,$BO$127:$BP$138,2,FALSE)","v":0},{"$f":"'Budget FCFA'!AF141/VLOOKUP(AF$2,$BO$127:$BP$138,2,FALSE)","v":0},{"$f":"'Budget FCFA'!AG141/VLOOKUP(AG$2,$BO$127:$BP$138,2,FALSE)","v":0},{"$f":"'Budget FCFA'!AH141/VLOOKUP(AH$2,$BO$127:$BP$138,2,FALSE)","v":0},{"$f":"'Budget FCFA'!AI141/VLOOKUP(AI$2,$BO$127:$BP$138,2,FALSE)","v":0},{"$f":"'Budget FCFA'!AJ141/VLOOKUP(AJ$2,$BO$127:$BP$138,2,FALSE)","v":0},{"$f":"'Budget FCFA'!AK141/VLOOKUP(AK$2,$BO$127:$BP$138,2,FALSE)","v":0},{"$f":"'Budget FCFA'!AL141/VLOOKUP(AL$2,$BO$127:$BP$138,2,FALSE)","v":0},{"$f":"'Budget FCFA'!AM141/VLOOKUP(AM$2,$BO$127:$BP$138,2,FALSE)","v":0},{"$f":"'Budget FCFA'!AN141/VLOOKUP(AN$2,$BO$127:$BP$138,2,FALSE)","v":0},{"$f":"'Budget FCFA'!AO141/VLOOKUP(AO$2,$BO$127:$BP$138,2,FALSE)","v":0},{"$f":"'Budget FCFA'!AP141/VLOOKUP(AP$2,$BO$127:$BP$138,2,FALSE)","v":0},{"$f":"'Budget FCFA'!#REF!/VLOOKUP(AQ$2,$BO$127:$BP$138,2,FALSE)","v":{"$error":"#REF!"}},{"$f":"'Budget FCFA'!#REF!/VLOOKUP(AR$2,$BO$127:$BP$138,2,FALSE)","v":{"$error":"#REF!"}},{"$f":"'Budget FCFA'!#REF!/VLOOKUP(AS$2,$BO$127:$BP$138,2,FALSE)","v":{"$error":"#REF!"}},{"$f":"'Budget FCFA'!#REF!/VLOOKUP(AT$2,$BO$127:$BP$138,2,FALSE)","v":{"$error":"#REF!"}},{"$f":"'Budget FCFA'!#REF!/VLOOKUP(AU$2,$BO$127:$BP$138,2,FALSE)","v":{"$error":"#REF!"}},{"$f":"'Budget FCFA'!#REF!/VLOOKUP(AV$2,$BO$127:$BP$138,2,FALSE)","v":{"$error":"#REF!"}},{"$f":"'Budget FCFA'!#REF!/VLOOKUP(AW$2,$BO$127:$BP$138,2,FALSE)","v":{"$error":"#REF!"}},{"$f":"'Budget FCFA'!#REF!/VLOOKUP(AX$2,$BO$127:$BP$138,2,FALSE)","v":{"$error":"#REF!"}},{"$f":"'Budget FCFA'!#REF!/VLOOKUP(AY$2,$BO$127:$BP$138,2,FALSE)","v":{"$error":"#REF!"}},{"$f":"'Budget FCFA'!#REF!/VLOOKUP(AZ$2,$BO$127:$BP$138,2,FALSE)","v":{"$error":"#REF!"}},{"$f":"'Budget FCFA'!#REF!/VLOOKUP(BA$2,$BO$127:$BP$138,2,FALSE)","v":{"$error":"#REF!"}},{"$f":"'Budget FCFA'!#REF!/VLOOKUP(BB$2,$BO$127:$BP$138,2,FALSE)","v":{"$error":"#REF!"}},{"$f":"'Budget FCFA'!#REF!/VLOOKUP(BC$2,$BO$127:$BP$138,2,FALSE)","v":{"$error":"#REF!"}},{"$f":"'Budget FCFA'!#REF!/VLOOKUP(BD$2,$BO$127:$BP$138,2,FALSE)","v":{"$error":"#REF!"}},{"$f":"'Budget FCFA'!#REF!/VLOOKUP(BE$2,$BO$127:$BP$138,2,FALSE)","v":{"$error":"#REF!"}},{"$f":"'Budget FCFA'!#REF!/VLOOKUP(BF$2,$BO$127:$BP$138,2,FALSE)","v":{"$error":"#REF!"}},{"$f":"'Budget FCFA'!#REF!/VLOOKUP(BG$2,$BO$127:$BP$138,2,FALSE)","v":{"$error":"#REF!"}},{"$f":"'Budget FCFA'!#REF!/VLOOKUP(BH$2,$BO$127:$BP$138,2,FALSE)","v":{"$error":"#REF!"}},{"$f":"'Budget FCFA'!#REF!/VLOOKUP(BI$2,$BO$127:$BP$138,2,FALSE)","v":{"$error":"#REF!"}},{"$f":"'Budget FCFA'!#REF!/VLOOKUP(BJ$2,$BO$127:$BP$138,2,FALSE)","v":{"$error":"#REF!"}},{"$error":"#REF!"},{"$f":"BK141-'Budget FCFA'!#REF!","v":{"$error":"#REF!"}},null,null,"BUDGET","ABIDJAN","BRAZZA","DAKAR","LIBREVILLE","ABIDJAN 2","DOUALA","TOTAL"]
["PUBTECHN","BRAZZA","Exé Gravure PLV ",{"$f":"'Budget FCFA'!D142/VLOOKUP(D$2,$BO$127:$BP$138,2,FALSE)","v":0},{"$f":"'Budget FCFA'!E142/VLOOKUP(E$2,$BO$127:$BP$138,2,FALSE)","v":0},{"$f":"'Budget FCFA'!F142/VLOOKUP(F$2,$BO$127:$BP$138,2,FALSE)","v":0},{"$f":"'Budget FCFA'!G142/VLOOKUP(G$2,$BO$127:$BP$138,2,FALSE)","v":0},{"$f":"'Budget FCFA'!H142/VLOOKUP(H$2,$BO$127:$BP$138,2,FALSE)","v":0},{"$f":"'Budget FCFA'!I142/VLOOKUP(I$2,$BO$127:$BP$138,2,FALSE)","v":0},{"$f":"'Budget FCFA'!J142/VLOOKUP(J$2,$BO$127:$BP$138,2,FALSE)","v":0},{"$f":"'Budget FCFA'!K142/VLOOKUP(K$2,$BO$127:$BP$138,2,FALSE)","v":0},{"$f":"'Budget FCFA'!L142/VLOOKUP(L$2,$BO$127:$BP$138,2,FALSE)","v":0},{"$f":"'Budget FCFA'!M142/VLOOKUP(M$2,$BO$127:$BP$138,2,FALSE)","v":0},{"$f":"'Budget FCFA'!N142/VLOOKUP(N$2,$BO$127:$BP$138,2,FALSE)","v":0},{"$f":"'Budget FCFA'!O142/VLOOKUP(O$2,$BO$127:$BP$138,2,FALSE)","v":0},{"$f":"'Budget FCFA'!P142/VLOOKUP(P$2,$BO$127:$BP$138,2,FALSE)","v":0},{"$f":"'Budget FCFA'!Q142/VLOOKUP(Q$2,$BO$127:$BP$138,2,FALSE)","v":0},{"$f":"'Budget FCFA'!R142/VLOOKUP(R$2,$BO$127:$BP$138,2,FALSE)","v":0},{"$f":"'Budget FCFA'!S142/VLOOKUP(S$2,$BO$127:$BP$138,2,FALSE)","v":0},{"$f":"'Budget FCFA'!T142/VLOOKUP(T$2,$BO$127:$BP$138,2,FALSE)","v":0},{"$f":"'Budget FCFA'!U142/VLOOKUP(U$2,$BO$127:$BP$138,2,FALSE)","v":0},{"$f":"'Budget FCFA'!V142/VLOOKUP(V$2,$BO$127:$BP$138,2,FALSE)","v":0},{"$f":"'Budget FCFA'!W142/VLOOKUP(W$2,$BO$127:$BP$138,2,FALSE)","v":0},{"$f":"'Budget FCFA'!X142/VLOOKUP(X$2,$BO$127:$BP$138,2,FALSE)","v":0},{"$f":"'Budget FCFA'!Y142/VLOOKUP(Y$2,$BO$127:$BP$138,2,FALSE)","v":0},{"$f":"'Budget FCFA'!Z142/VLOOKUP(Z$2,$BO$127:$BP$138,2,FALSE)","v":0},{"$f":"'Budget FCFA'!AA142/VLOOKUP(AA$2,$BO$127:$BP$138,2,FALSE)","v":0},{"$f":"'Budget FCFA'!AB142/VLOOKUP(AB$2,$BO$127:$BP$138,2,FALSE)","v":0},{"$f":"'Budget FCFA'!AC142/VLOOKUP(AC$2,$BO$127:$BP$138,2,FALSE)","v":0},{"$f":"'Budget FCFA'!AD142/VLOOKUP(AD$2,$BO$127:$BP$138,2,FALSE)","v":0},{"$f":"'Budget FCFA'!AE142/VLOOKUP(AE$2,$BO$127:$BP$138,2,FALSE)","v":0},{"$f":"'Budget FCFA'!AF142/VLOOKUP(AF$2,$BO$127:$BP$138,2,FALSE)","v":0},{"$f":"'Budget FCFA'!AG142/VLOOKUP(AG$2,$BO$127:$BP$138,2,FALSE)","v":0},{"$f":"'Budget FCFA'!AH142/VLOOKUP(AH$2,$BO$127:$BP$138,2,FALSE)","v":0},{"$f":"'Budget FCFA'!AI142/VLOOKUP(AI$2,$BO$127:$BP$138,2,FALSE)","v":0},{"$f":"'Budget FCFA'!AJ142/VLOOKUP(AJ$2,$BO$127:$BP$138,2,FALSE)","v":0},{"$f":"'Budget FCFA'!AK142/VLOOKUP(AK$2,$BO$127:$BP$138,2,FALSE)","v":0},{"$f":"'Budget FCFA'!AL142/VLOOKUP(AL$2,$BO$127:$BP$138,2,FALSE)","v":0},{"$f":"'Budget FCFA'!AM142/VLOOKUP(AM$2,$BO$127:$BP$138,2,FALSE)","v":0},{"$f":"'Budget FCFA'!AN142/VLOOKUP(AN$2,$BO$127:$BP$138,2,FALSE)","v":0},{"$f":"'Budget FCFA'!AO142/VLOOKUP(AO$2,$BO$127:$BP$138,2,FALSE)","v":0},{"$f":"'Budget FCFA'!AP142/VLOOKUP(AP$2,$BO$127:$BP$138,2,FALSE)","v":0},{"$f":"'Budget FCFA'!#REF!/VLOOKUP(AQ$2,$BO$127:$BP$138,2,FALSE)","v":{"$error":"#REF!"}},{"$f":"'Budget FCFA'!#REF!/VLOOKUP(AR$2,$BO$127:$BP$138,2,FALSE)","v":{"$error":"#REF!"}},{"$f":"'Budget FCFA'!#REF!/VLOOKUP(AS$2,$BO$127:$BP$138,2,FALSE)","v":{"$error":"#REF!"}},{"$f":"'Budget FCFA'!#REF!/VLOOKUP(AT$2,$BO$127:$BP$138,2,FALSE)","v":{"$error":"#REF!"}},{"$f":"'Budget FCFA'!#REF!/VLOOKUP(AU$2,$BO$127:$BP$138,2,FALSE)","v":{"$error":"#REF!"}},{"$f":"'Budget FCFA'!#REF!/VLOOKUP(AV$2,$BO$127:$BP$138,2,FALSE)","v":{"$error":"#REF!"}},{"$f":"'Budget FCFA'!#REF!/VLOOKUP(AW$2,$BO$127:$BP$138,2,FALSE)","v":{"$error":"#REF!"}},{"$f":"'Budget FCFA'!#REF!/VLOOKUP(AX$2,$BO$127:$BP$138,2,FALSE)","v":{"$error":"#REF!"}},{"$f":"'Budget FCFA'!#REF!/VLOOKUP(AY$2,$BO$127:$BP$138,2,FALSE)","v":{"$error":"#REF!"}},{"$f":"'Budget FCFA'!#REF!/VLOOKUP(AZ$2,$BO$127:$BP$138,2,FALSE)","v":{"$error":"#REF!"}},{"$f":"'Budget FCFA'!#REF!/VLOOKUP(BA$2,$BO$127:$BP$138,2,FALSE)","v":{"$error":"#REF!"}},{"$f":"'Budget FCFA'!#REF!/VLOOKUP(BB$2,$BO$127:$BP$138,2,FALSE)","v":{"$error":"#REF!"}},{"$f":"'Budget FCFA'!#REF!/VLOOKUP(BC$2,$BO$127:$BP$138,2,FALSE)","v":{"$error":"#REF!"}},{"$f":"'Budget FCFA'!#REF!/VLOOKUP(BD$2,$BO$127:$BP$138,2,FALSE)","v":{"$error":"#REF!"}},{"$f":"'Budget FCFA'!#REF!/VLOOKUP(BE$2,$BO$127:$BP$138,2,FALSE)","v":{"$error":"#REF!"}},{"$f":"'Budget FCFA'!#REF!/VLOOKUP(BF$2,$BO$127:$BP$138,2,FALSE)","v":{"$error":"#REF!"}},{"$f":"'Budget FCFA'!#REF!/VLOOKUP(BG$2,$BO$127:$BP$138,2,FALSE)","v":{"$error":"#REF!"}},{"$f":"'Budget FCFA'!#REF!/VLOOKUP(BH$2,$BO$127:$BP$138,2,FALSE)","v":{"$error":"#REF!"}},{"$f":"'Budget FCFA'!#REF!/VLOOKUP(BI$2,$BO$127:$BP$138,2,FALSE)","v":{"$error":"#REF!"}},{"$f":"'Budget FCFA'!#REF!/VLOOKUP(BJ$2,$BO$127:$BP$138,2,FALSE)","v":{"$error":"#REF!"}},{"$error":"#REF!"},{"$f":"BK142-'Budget FCFA'!#REF!","v":{"$error":"#REF!"}},null,null,"JANVIER",{"$f":"'Budget FCFA'!#REF!/VLOOKUP($BO142,$BO$127:$BP$138,2,FALSE)","v":{"$error":"#REF!"}},{"$f":"'Budget FCFA'!#REF!/VLOOKUP($BO142,$BO$127:$BP$138,2,FALSE)","v":{"$error":"#REF!"}},{"$f":"'Budget FCFA'!#REF!/VLOOKUP($BO142,$BO$127:$BP$138,2,FALSE)","v":{"$error":"#REF!"}},{"$f":"'Budget FCFA'!#REF!/VLOOKUP($BO142,$BO$127:$BP$138,2,FALSE)","v":{"$error":"#REF!"}},{"$f":"'Budget FCFA'!#REF!/VLOOKUP($BO142,$BO$127:$BP$138,2,FALSE)","v":{"$error":"#REF!"}},{"$f":"'Budget FCFA'!#REF!/VLOOKUP($BO142,$BO$127:$BP$138,2,FALSE)","v":{"$error":"#REF!"}},{"$f":"SUM(BP142:BS142)","v":{"$error":"#REF!"}}]
["PUBTECHN","DAKAR","Exé Gravure PLV ",{"$f":"'Budget FCFA'!D143/VLOOKUP(D$2,$BO$127:$BP$138,2,FALSE)","v":0},{"$f":"'Budget FCFA'!E143/VLOOKUP(E$2,$BO$127:$BP$138,2,FALSE)","v":0},{"$f":"'Budget FCFA'!F143/VLOOKUP(F$2,$BO$127:$BP$138,2,FALSE)","v":0},{"$f":"'Budget FCFA'!G143/VLOOKUP(G$2,$BO$127:$BP$138,2,FALSE)","v":0},{"$f":"'Budget FCFA'!H143/VLOOKUP(H$2,$BO$127:$BP$138,2,FALSE)","v":0},{"$f":"'Budget FCFA'!I143/VLOOKUP(I$2,$BO$127:$BP$138,2,FALSE)","v":0},{"$f":"'Budget FCFA'!J143/VLOOKUP(J$2,$BO$127:$BP$138,2,FALSE)","v":0},{"$f":"'Budget FCFA'!K143/VLOOKUP(K$2,$BO$127:$BP$138,2,FALSE)","v":0},{"$f":"'Budget FCFA'!L143/VLOOKUP(L$2,$BO$127:$BP$138,2,FALSE)","v":0},{"$f":"'Budget FCFA'!M143/VLOOKUP(M$2,$BO$127:$BP$138,2,FALSE)","v":0},{"$f":"'Budget FCFA'!N143/VLOOKUP(N$2,$BO$127:$BP$138,2,FALSE)","v":0},{"$f":"'Budget FCFA'!O143/VLOOKUP(O$2,$BO$127:$BP$138,2,FALSE)","v":0},{"$f":"'Budget FCFA'!P143/VLOOKUP(P$2,$BO$127:$BP$138,2,FALSE)","v":0},{"$f":"'Budget FCFA'!Q143/VLOOKUP(Q$2,$BO$127:$BP$138,2,FALSE)","v":0},{"$f":"'Budget FCFA'!R143/VLOOKUP(R$2,$BO$127:$BP$138,2,FALSE)","v":0},{"$f":"'Budget FCFA'!S143/VLOOKUP(S$2,$BO$127:$BP$138,2,FALSE)","v":0},{"$f":"'Budget FCFA'!T143/VLOOKUP(T$2,$BO$127:$BP$138,2,FALSE)","v":0},{"$f":"'Budget FCFA'!U143/VLOOKUP(U$2,$BO$127:$BP$138,2,FALSE)","v":0},{"$f":"'Budget FCFA'!V143/VLOOKUP(V$2,$BO$127:$BP$138,2,FALSE)","v":0},{"$f":"'Budget FCFA'!W143/VLOOKUP(W$2,$BO$127:$BP$138,2,FALSE)","v":0},{"$f":"'Budget FCFA'!X143/VLOOKUP(X$2,$BO$127:$BP$138,2,FALSE)","v":0},{"$f":"'Budget FCFA'!Y143/VLOOKUP(Y$2,$BO$127:$BP$138,2,FALSE)","v":0},{"$f":"'Budget FCFA'!Z143/VLOOKUP(Z$2,$BO$127:$BP$138,2,FALSE)","v":0},{"$f":"'Budget FCFA'!AA143/VLOOKUP(AA$2,$BO$127:$BP$138,2,FALSE)","v":0},{"$f":"'Budget FCFA'!AB143/VLOOKUP(AB$2,$BO$127:$BP$138,2,FALSE)","v":0},{"$f":"'Budget FCFA'!AC143/VLOOKUP(AC$2,$BO$127:$BP$138,2,FALSE)","v":0},{"$f":"'Budget FCFA'!AD143/VLOOKUP(AD$2,$BO$127:$BP$138,2,FALSE)","v":0},{"$f":"'Budget FCFA'!AE143/VLOOKUP(AE$2,$BO$127:$BP$138,2,FALSE)","v":0},{"$f":"'Budget FCFA'!AF143/VLOOKUP(AF$2,$BO$127:$BP$138,2,FALSE)","v":0},{"$f":"'Budget FCFA'!AG143/VLOOKUP(AG$2,$BO$127:$BP$138,2,FALSE)","v":0},{"$f":"'Budget FCFA'!AH143/VLOOKUP(AH$2,$BO$127:$BP$138,2,FALSE)","v":0},{"$f":"'Budget FCFA'!AI143/VLOOKUP(AI$2,$BO$127:$BP$138,2,FALSE)","v":0},{"$f":"'Budget FCFA'!AJ143/VLOOKUP(AJ$2,$BO$127:$BP$138,2,FALSE)","v":0},{"$f":"'Budget FCFA'!AK143/VLOOKUP(AK$2,$BO$127:$BP$138,2,FALSE)","v":0},{"$f":"'Budget FCFA'!AL143/VLOOKUP(AL$2,$BO$127:$BP$138,2,FALSE)","v":0},{"$f":"'Budget FCFA'!AM143/VLOOKUP(AM$2,$BO$127:$BP$138,2,FALSE)","v":0},{"$f":"'Budget FCFA'!AN143/VLOOKUP(AN$2,$BO$127:$BP$138,2,FALSE)","v":0},{"$f":"'Budget FCFA'!AO143/VLOOKUP(AO$2,$BO$127:$BP$138,2,FALSE)","v":0},{"$f":"'Budget FCFA'!AP143/VLOOKUP(AP$2,$BO$127:$BP$138,2,FALSE)","v":0},{"$f":"'Budget FCFA'!#REF!/VLOOKUP(AQ$2,$BO$127:$BP$138,2,FALSE)","v":{"$error":"#REF!"}},{"$f":"'Budget FCFA'!#REF!/VLOOKUP(AR$2,$BO$127:$BP$138,2,FALSE)","v":{"$error":"#REF!"}},{"$f":"'Budget FCFA'!#REF!/VLOOKUP(AS$2,$BO$127:$BP$138,2,FALSE)","v":{"$error":"#REF!"}},{"$f":"'Budget FCFA'!#REF!/VLOOKUP(AT$2,$BO$127:$BP$138,2,FALSE)","v":{"$error":"#REF!"}},{"$f":"'Budget FCFA'!#REF!/VLOOKUP(AU$2,$BO$127:$BP$138,2,FALSE)","v":{"$error":"#REF!"}},{"$f":"'Budget FCFA'!#REF!/VLOOKUP(AV$2,$BO$127:$BP$138,2,FALSE)","v":{"$error":"#REF!"}},{"$f":"'Budget FCFA'!#REF!/VLOOKUP(AW$2,$BO$127:$BP$138,2,FALSE)","v":{"$error":"#REF!"}},{"$f":"'Budget FCFA'!#REF!/VLOOKUP(AX$2,$BO$127:$BP$138,2,FALSE)","v":{"$error":"#REF!"}},{"$f":"'Budget FCFA'!#REF!/VLOOKUP(AY$2,$BO$127:$BP$138,2,FALSE)","v":{"$error":"#REF!"}},{"$f":"'Budget FCFA'!#REF!/VLOOKUP(AZ$2,$BO$127:$BP$138,2,FALSE)","v":{"$error":"#REF!"}},{"$f":"'Budget FCFA'!#REF!/VLOOKUP(BA$2,$BO$127:$BP$138,2,FALSE)","v":{"$error":"#REF!"}},{"$f":"'Budget FCFA'!#REF!/VLOOKUP(BB$2,$BO$127:$BP$138,2,FALSE)","v":{"$error":"#REF!"}},{"$f":"'Budget FCFA'!#REF!/VLOOKUP(BC$2,$BO$127:$BP$138,2,FALSE)","v":{"$error":"#REF!"}},{"$f":"'Budget FCFA'!#REF!/VLOOKUP(BD$2,$BO$127:$BP$138,2,FALSE)","v":{"$error":"#REF!"}},{"$f":"'Budget FCFA'!#REF!/VLOOKUP(BE$2,$BO$127:$BP$138,2,FALSE)","v":{"$error":"#REF!"}},{"$f":"'Budget FCFA'!#REF!/VLOOKUP(BF$2,$BO$127:$BP$138,2,FALSE)","v":{"$error":"#REF!"}},{"$f":"'Budget FCFA'!#REF!/VLOOKUP(BG$2,$BO$127:$BP$138,2,FALSE)","v":{"$error":"#REF!"}},{"$f":"'Budget FCFA'!#REF!/VLOOKUP(BH$2,$BO$127:$BP$138,2,FALSE)","v":{"$error":"#REF!"}},{"$f":"'Budget FCFA'!#REF!/VLOOKUP(BI$2,$BO$127:$BP$138,2,FALSE)","v":{"$error":"#REF!"}},{"$f":"'Budget FCFA'!#REF!/VLOOKUP(BJ$2,$BO$127:$BP$138,2,FALSE)","v":{"$error":"#REF!"}},{"$error":"#REF!"},{"$f":"BK143-'Budget FCFA'!#REF!","v":{"$error":"#REF!"}},null,null,"FEVRIER",{"$f":"'Budget FCFA'!#REF!/VLOOKUP($BO143,$BO$127:$BP$138,2,FALSE)","v":{"$error":"#REF!"}},{"$f":"'Budget FCFA'!#REF!/VLOOKUP($BO143,$BO$127:$BP$138,2,FALSE)","v":{"$error":"#REF!"}},{"$f":"'Budget FCFA'!#REF!/VLOOKUP($BO143,$BO$127:$BP$138,2,FALSE)","v":{"$error":"#REF!"}},{"$f":"'Budget FCFA'!#REF!/VLOOKUP($BO143,$BO$127:$BP$138,2,FALSE)","v":{"$error":"#REF!"}},{"$f":"'Budget FCFA'!#REF!/VLOOKUP($BO143,$BO$127:$BP$138,2,FALSE)","v":{"$error":"#REF!"}},{"$f":"'Budget FCFA'!#REF!/VLOOKUP($BO143,$BO$127:$BP$138,2,FALSE)","v":{"$error":"#REF!"}},{"$error":"#REF!"}]
["PUBTECHN","LIBREVILLE","Exé Gravure PLV ",{"$f":"'Budget FCFA'!D144/VLOOKUP(D$2,$BO$127:$BP$138,2,FALSE)","v":0},{"$f":"'Budget FCFA'!E144/VLOOKUP(E$2,$BO$127:$BP$138,2,FALSE)","v":0},{"$f":"'Budget FCFA'!F144/VLOOKUP(F$2,$BO$127:$BP$138,2,FALSE)","v":0},{"$f":"'Budget FCFA'!G144/VLOOKUP(G$2,$BO$127:$BP$138,2,FALSE)","v":0},{"$f":"'Budget FCFA'!H144/VLOOKUP(H$2,$BO$127:$BP$138,2,FALSE)","v":0},{"$f":"'Budget FCFA'!I144/VLOOKUP(I$2,$BO$127:$BP$138,2,FALSE)","v":0},{"$f":"'Budget FCFA'!J144/VLOOKUP(J$2,$BO$127:$BP$138,2,FALSE)","v":0},{"$f":"'Budget FCFA'!K144/VLOOKUP(K$2,$BO$127:$BP$138,2,FALSE)","v":0},{"$f":"'Budget FCFA'!L144/VLOOKUP(L$2,$BO$127:$BP$138,2,FALSE)","v":0},{"$f":"'Budget FCFA'!M144/VLOOKUP(M$2,$BO$127:$BP$138,2,FALSE)","v":0},{"$f":"'Budget FCFA'!N144/VLOOKUP(N$2,$BO$127:$BP$138,2,FALSE)","v":0},{"$f":"'Budget FCFA'!O144/VLOOKUP(O$2,$BO$127:$BP$138,2,FALSE)","v":0},{"$f":"'Budget FCFA'!P144/VLOOKUP(P$2,$BO$127:$BP$138,2,FALSE)","v":0},{"$f":"'Budget FCFA'!Q144/VLOOKUP(Q$2,$BO$127:$BP$138,2,FALSE)","v":0},{"$f":"'Budget FCFA'!R144/VLOOKUP(R$2,$BO$127:$BP$138,2,FALSE)","v":0},{"$f":"'Budget FCFA'!S144/VLOOKUP(S$2,$BO$127:$BP$138,2,FALSE)","v":0},{"$f":"'Budget FCFA'!T144/VLOOKUP(T$2,$BO$127:$BP$138,2,FALSE)","v":0},{"$f":"'Budget FCFA'!U144/VLOOKUP(U$2,$BO$127:$BP$138,2,FALSE)","v":0},{"$f":"'Budget FCFA'!V144/VLOOKUP(V$2,$BO$127:$BP$138,2,FALSE)","v":0},{"$f":"'Budget FCFA'!W144/VLOOKUP(W$2,$BO$127:$BP$138,2,FALSE)","v":0},{"$f":"'Budget FCFA'!X144/VLOOKUP(X$2,$BO$127:$BP$138,2,FALSE)","v":0},{"$f":"'Budget FCFA'!Y144/VLOOKUP(Y$2,$BO$127:$BP$138,2,FALSE)","v":0},{"$f":"'Budget FCFA'!Z144/VLOOKUP(Z$2,$BO$127:$BP$138,2,FALSE)","v":0},{"$f":"'Budget FCFA'!AA144/VLOOKUP(AA$2,$BO$127:$BP$138,2,FALSE)","v":0},{"$f":"'Budget FCFA'!AB144/VLOOKUP(AB$2,$BO$127:$BP$138,2,FALSE)","v":0},{"$f":"'Budget FCFA'!AC144/VLOOKUP(AC$2,$BO$127:$BP$138,2,FALSE)","v":0},{"$f":"'Budget FCFA'!AD144/VLOOKUP(AD$2,$BO$127:$BP$138,2,FALSE)","v":0},{"$f":"'Budget FCFA'!AE144/VLOOKUP(AE$2,$BO$127:$BP$138,2,FALSE)","v":0},{"$f":"'Budget FCFA'!AF144/VLOOKUP(AF$2,$BO$127:$BP$138,2,FALSE)","v":0},{"$f":"'Budget FCFA'!AG144/VLOOKUP(AG$2,$BO$127:$BP$138,2,FALSE)","v":0},{"$f":"'Budget FCFA'!AH144/VLOOKUP(AH$2,$BO$127:$BP$138,2,FALSE)","v":0},{"$f":"'Budget FCFA'!AI144/VLOOKUP(AI$2,$BO$127:$BP$138,2,FALSE)","v":0},{"$f":"'Budget FCFA'!AJ144/VLOOKUP(AJ$2,$BO$127:$BP$138,2,FALSE)","v":0},{"$f":"'Budget FCFA'!AK144/VLOOKUP(AK$2,$BO$127:$BP$138,2,FALSE)","v":0},{"$f":"'Budget FCFA'!AL144/VLOOKUP(AL$2,$BO$127:$BP$138,2,FALSE)","v":0},{"$f":"'Budget FCFA'!AM144/VLOOKUP(AM$2,$BO$127:$BP$138,2,FALSE)","v":0},{"$f":"'Budget FCFA'!AN144/VLOOKUP(AN$2,$BO$127:$BP$138,2,FALSE)","v":0},{"$f":"'Budget FCFA'!AO144/VLOOKUP(AO$2,$BO$127:$BP$138,2,FALSE)","v":0},{"$f":"'Budget FCFA'!AP144/VLOOKUP(AP$2,$BO$127:$BP$138,2,FALSE)","v":0},{"$f":"'Budget FCFA'!#REF!/VLOOKUP(AQ$2,$BO$127:$BP$138,2,FALSE)","v":{"$error":"#REF!"}},{"$f":"'Budget FCFA'!#REF!/VLOOKUP(AR$2,$BO$127:$BP$138,2,FALSE)","v":{"$error":"#REF!"}},{"$f":"'Budget FCFA'!#REF!/VLOOKUP(AS$2,$BO$127:$BP$138,2,FALSE)","v":{"$error":"#REF!"}},{"$f":"'Budget FCFA'!#REF!/VLOOKUP(AT$2,$BO$127:$BP$138,2,FALSE)","v":{"$error":"#REF!"}},{"$f":"'Budget FCFA'!#REF!/VLOOKUP(AU$2,$BO$127:$BP$138,2,FALSE)","v":{"$error":"#REF!"}},{"$f":"'Budget FCFA'!#REF!/VLOOKUP(AV$2,$BO$127:$BP$138,2,FALSE)","v":{"$error":"#REF!"}},{"$f":"'Budget FCFA'!#REF!/VLOOKUP(AW$2,$BO$127:$BP$138,2,FALSE)","v":{"$error":"#REF!"}},{"$f":"'Budget FCFA'!#REF!/VLOOKUP(AX$2,$BO$127:$BP$138,2,FALSE)","v":{"$error":"#REF!"}},{"$f":"'Budget FCFA'!#REF!/VLOOKUP(AY$2,$BO$127:$BP$138,2,FALSE)","v":{"$error":"#REF!"}},{"$f":"'Budget FCFA'!#REF!/VLOOKUP(AZ$2,$BO$127:$BP$138,2,FALSE)","v":{"$error":"#REF!"}},{"$f":"'Budget FCFA'!#REF!/VLOOKUP(BA$2,$BO$127:$BP$138,2,FALSE)","v":{"$error":"#REF!"}},{"$f":"'Budget FCFA'!#REF!/VLOOKUP(BB$2,$BO$127:$BP$138,2,FALSE)","v":{"$error":"#REF!"}},{"$f":"'Budget FCFA'!#REF!/VLOOKUP(BC$2,$BO$127:$BP$138,2,FALSE)","v":{"$error":"#REF!"}},{"$f":"'Budget FCFA'!#REF!/VLOOKUP(BD$2,$BO$127:$BP$138,2,FALSE)","v":{"$error":"#REF!"}},{"$f":"'Budget FCFA'!#REF!/VLOOKUP(BE$2,$BO$127:$BP$138,2,FALSE)","v":{"$error":"#REF!"}},{"$f":"'Budget FCFA'!#REF!/VLOOKUP(BF$2,$BO$127:$BP$138,2,FALSE)","v":{"$error":"#REF!"}},{"$f":"'Budget FCFA'!#REF!/VLOOKUP(BG$2,$BO$127:$BP$138,2,FALSE)","v":{"$error":"#REF!"}},{"$f":"'Budget FCFA'!#REF!/VLOOKUP(BH$2,$BO$127:$BP$138,2,FALSE)","v":{"$error":"#REF!"}},{"$f":"'Budget FCFA'!#REF!/VLOOKUP(BI$2,$BO$127:$BP$138,2,FALSE)","v":{"$error":"#REF!"}},{"$f":"'Budget FCFA'!#REF!/VLOOKUP(BJ$2,$BO$127:$BP$138,2,FALSE)","v":{"$error":"#REF!"}},{"$error":"#REF!"},{"$f":"BK144-'Budget FCFA'!#REF!","v":{"$error":"#REF!"}},null,null,"MARS",{"$f":"'Budget FCFA'!#REF!/VLOOKUP($BO144,$BO$127:$BP$138,2,FALSE)","v":{"$error":"#REF!"}},{"$f":"'Budget FCFA'!#REF!/VLOOKUP($BO144,$BO$127:$BP$138,2,FALSE)","v":{"$error":"#REF!"}},{"$f":"'Budget FCFA'!#REF!/VLOOKUP($BO144,$BO$127:$BP$138,2,FALSE)","v":{"$error":"#REF!"}},{"$f":"'Budget FCFA'!#REF!/VLOOKUP($BO144,$BO$127:$BP$138,2,FALSE)","v":{"$error":"#REF!"}},{"$f":"'Budget FCFA'!#REF!/VLOOKUP($BO144,$BO$127:$BP$138,2,FALSE)","v":{"$error":"#REF!"}},{"$f":"'Budget FCFA'!#REF!/VLOOKUP($BO144,$BO$127:$BP$138,2,FALSE)","v":{"$error":"#REF!"}},{"$error":"#REF!"}]
["PUBTECHN","DOUALA","Exé Gravure PLV ",{"$f":"'Budget FCFA'!D145/VLOOKUP(D$2,$BO$127:$BP$138,2,FALSE)","v":0},{"$f":"'Budget FCFA'!E145/VLOOKUP(E$2,$BO$127:$BP$138,2,FALSE)","v":0},{"$f":"'Budget FCFA'!F145/VLOOKUP(F$2,$BO$127:$BP$138,2,FALSE)","v":0},{"$f":"'Budget FCFA'!G145/VLOOKUP(G$2,$BO$127:$BP$138,2,FALSE)","v":0},{"$f":"'Budget FCFA'!H145/VLOOKUP(H$2,$BO$127:$BP$138,2,FALSE)","v":0},{"$f":"'Budget FCFA'!I145/VLOOKUP(I$2,$BO$127:$BP$138,2,FALSE)","v":0},{"$f":"'Budget FCFA'!J145/VLOOKUP(J$2,$BO$127:$BP$138,2,FALSE)","v":0},{"$f":"'Budget FCFA'!K145/VLOOKUP(K$2,$BO$127:$BP$138,2,FALSE)","v":0},{"$f":"'Budget FCFA'!L145/VLOOKUP(L$2,$BO$127:$BP$138,2,FALSE)","v":0},{"$f":"'Budget FCFA'!M145/VLOOKUP(M$2,$BO$127:$BP$138,2,FALSE)","v":0},{"$f":"'Budget FCFA'!N145/VLOOKUP(N$2,$BO$127:$BP$138,2,FALSE)","v":0},{"$f":"'Budget FCFA'!O145/VLOOKUP(O$2,$BO$127:$BP$138,2,FALSE)","v":0},{"$f":"'Budget FCFA'!P145/VLOOKUP(P$2,$BO$127:$BP$138,2,FALSE)","v":0},{"$f":"'Budget FCFA'!Q145/VLOOKUP(Q$2,$BO$127:$BP$138,2,FALSE)","v":0},{"$f":"'Budget FCFA'!R145/VLOOKUP(R$2,$BO$127:$BP$138,2,FALSE)","v":0},{"$f":"'Budget FCFA'!S145/VLOOKUP(S$2,$BO$127:$BP$138,2,FALSE)","v":0},{"$f":"'Budget FCFA'!T145/VLOOKUP(T$2,$BO$127:$BP$138,2,FALSE)","v":0},{"$f":"'Budget FCFA'!U145/VLOOKUP(U$2,$BO$127:$BP$138,2,FALSE)","v":0},{"$f":"'Budget FCFA'!V145/VLOOKUP(V$2,$BO$127:$BP$138,2,FALSE)","v":0},{"$f":"'Budget FCFA'!W145/VLOOKUP(W$2,$BO$127:$BP$138,2,FALSE)","v":0},{"$f":"'Budget FCFA'!X145/VLOOKUP(X$2,$BO$127:$BP$138,2,FALSE)","v":0},{"$f":"'Budget FCFA'!Y145/VLOOKUP(Y$2,$BO$127:$BP$138,2,FALSE)","v":0},{"$f":"'Budget FCFA'!Z145/VLOOKUP(Z$2,$BO$127:$BP$138,2,FALSE)","v":0},{"$f":"'Budget FCFA'!AA145/VLOOKUP(AA$2,$BO$127:$BP$138,2,FALSE)","v":0},{"$f":"'Budget FCFA'!AB145/VLOOKUP(AB$2,$BO$127:$BP$138,2,FALSE)","v":0},{"$f":"'Budget FCFA'!AC145/VLOOKUP(AC$2,$BO$127:$BP$138,2,FALSE)","v":0},{"$f":"'Budget FCFA'!AD145/VLOOKUP(AD$2,$BO$127:$BP$138,2,FALSE)","v":0},{"$f":"'Budget FCFA'!AE145/VLOOKUP(AE$2,$BO$127:$BP$138,2,FALSE)","v":0},{"$f":"'Budget FCFA'!AF145/VLOOKUP(AF$2,$BO$127:$BP$138,2,FALSE)","v":0},{"$f":"'Budget FCFA'!AG145/VLOOKUP(AG$2,$BO$127:$BP$138,2,FALSE)","v":0},{"$f":"'Budget FCFA'!AH145/VLOOKUP(AH$2,$BO$127:$BP$138,2,FALSE)","v":0},{"$f":"'Budget FCFA'!AI145/VLOOKUP(AI$2,$BO$127:$BP$138,2,FALSE)","v":0},{"$f":"'Budget FCFA'!AJ145/VLOOKUP(AJ$2,$BO$127:$BP$138,2,FALSE)","v":0},{"$f":"'Budget FCFA'!AK145/VLOOKUP(AK$2,$BO$127:$BP$138,2,FALSE)","v":0},{"$f":"'Budget FCFA'!AL145/VLOOKUP(AL$2,$BO$127:$BP$138,2,FALSE)","v":0},{"$f":"'Budget FCFA'!AM145/VLOOKUP(AM$2,$BO$127:$BP$138,2,FALSE)","v":0},{"$f":"'Budget FCFA'!AN145/VLOOKUP(AN$2,$BO$127:$BP$138,2,FALSE)","v":0},{"$f":"'Budget FCFA'!AO145/VLOOKUP(AO$2,$BO$127:$BP$138,2,FALSE)","v":0},{"$f":"'Budget FCFA'!AP145/VLOOKUP(AP$2,$BO$127:$BP$138,2,FALSE)","v":0},{"$f":"'Budget FCFA'!#REF!/VLOOKUP(AQ$2,$BO$127:$BP$138,2,FALSE)","v":{"$error":"#REF!"}},{"$f":"'Budget FCFA'!#REF!/VLOOKUP(AR$2,$BO$127:$BP$138,2,FALSE)","v":{"$error":"#REF!"}},{"$f":"'Budget FCFA'!#REF!/VLOOKUP(AS$2,$BO$127:$BP$138,2,FALSE)","v":{"$error":"#REF!"}},{"$f":"'Budget FCFA'!#REF!/VLOOKUP(AT$2,$BO$127:$BP$138,2,FALSE)","v":{"$error":"#REF!"}},{"$f":"'Budget FCFA'!#REF!/VLOOKUP(AU$2,$BO$127:$BP$138,2,FALSE)","v":{"$error":"#REF!"}},{"$f":"'Budget FCFA'!#REF!/VLOOKUP(AV$2,$BO$127:$BP$138,2,FALSE)","v":{"$error":"#REF!"}},{"$f":"'Budget FCFA'!#REF!/VLOOKUP(AW$2,$BO$127:$BP$138,2,FALSE)","v":{"$error":"#REF!"}},{"$f":"'Budget FCFA'!#REF!/VLOOKUP(AX$2,$BO$127:$BP$138,2,FALSE)","v":{"$error":"#REF!"}},{"$f":"'Budget FCFA'!#REF!/VLOOKUP(AY$2,$BO$127:$BP$138,2,FALSE)","v":{"$error":"#REF!"}},{"$f":"'Budget FCFA'!#REF!/VLOOKUP(AZ$2,$BO$127:$BP$138,2,FALSE)","v":{"$error":"#REF!"}},{"$f":"'Budget FCFA'!#REF!/VLOOKUP(BA$2,$BO$127:$BP$138,2,FALSE)","v":{"$error":"#REF!"}},{"$f":"'Budget FCFA'!#REF!/VLOOKUP(BB$2,$BO$127:$BP$138,2,FALSE)","v":{"$error":"#REF!"}},{"$f":"'Budget FCFA'!#REF!/VLOOKUP(BC$2,$BO$127:$BP$138,2,FALSE)","v":{"$error":"#REF!"}},{"$f":"'Budget FCFA'!#REF!/VLOOKUP(BD$2,$BO$127:$BP$138,2,FALSE)","v":{"$error":"#REF!"}},{"$f":"'Budget FCFA'!#REF!/VLOOKUP(BE$2,$BO$127:$BP$138,2,FALSE)","v":{"$error":"#REF!"}},{"$f":"'Budget FCFA'!#REF!/VLOOKUP(BF$2,$BO$127:$BP$138,2,FALSE)","v":{"$error":"#REF!"}},{"$f":"'Budget FCFA'!#REF!/VLOOKUP(BG$2,$BO$127:$BP$138,2,FALSE)","v":{"$error":"#REF!"}},{"$f":"'Budget FCFA'!#REF!/VLOOKUP(BH$2,$BO$127:$BP$138,2,FALSE)","v":{"$error":"#REF!"}},{"$f":"'Budget FCFA'!#REF!/VLOOKUP(BI$2,$BO$127:$BP$138,2,FALSE)","v":{"$error":"#REF!"}},{"$f":"'Budget FCFA'!#REF!/VLOOKUP(BJ$2,$BO$127:$BP$138,2,FALSE)","v":{"$error":"#REF!"}},{"$error":"#REF!"},{"$f":"BK145-'Budget FCFA'!#REF!","v":{"$error":"#REF!"}},null,null,"AVRIL",{"$f":"'Budget FCFA'!#REF!/VLOOKUP($BO145,$BO$127:$BP$138,2,FALSE)","v":{"$error":"#REF!"}},{"$f":"'Budget FCFA'!#REF!/VLOOKUP($BO145,$BO$127:$BP$138,2,FALSE)","v":{"$error":"#REF!"}},{"$f":"'Budget FCFA'!#REF!/VLOOKUP($BO145,$BO$127:$BP$138,2,FALSE)","v":{"$error":"#REF!"}},{"$f":"'Budget FCFA'!#REF!/VLOOKUP($BO145,$BO$127:$BP$138,2,FALSE)","v":{"$error":"#REF!"}},{"$f":"'Budget FCFA'!#REF!/VLOOKUP($BO145,$BO$127:$BP$138,2,FALSE)","v":{"$error":"#REF!"}},{"$f":"'Budget FCFA'!#REF!/VLOOKUP($BO145,$BO$127:$BP$138,2,FALSE)","v":{"$error":"#REF!"}},{"$error":"#REF!"}]
["PUBTECHN","TOTAL","Total éxé gravure local",{"$f":"'Budget FCFA'!D146/VLOOKUP(D$2,$BO$127:$BP$138,2,FALSE)","v":0},{"$f":"'Budget FCFA'!E146/VLOOKUP(E$2,$BO$127:$BP$138,2,FALSE)","v":0},{"$f":"'Budget FCFA'!F146/VLOOKUP(F$2,$BO$127:$BP$138,2,FALSE)","v":0},{"$f":"'Budget FCFA'!G146/VLOOKUP(G$2,$BO$127:$BP$138,2,FALSE)","v":0},{"$f":"'Budget FCFA'!H146/VLOOKUP(H$2,$BO$127:$BP$138,2,FALSE)","v":0},{"$f":"'Budget FCFA'!I146/VLOOKUP(I$2,$BO$127:$BP$138,2,FALSE)","v":0},{"$f":"'Budget FCFA'!J146/VLOOKUP(J$2,$BO$127:$BP$138,2,FALSE)","v":0},{"$f":"'Budget FCFA'!K146/VLOOKUP(K$2,$BO$127:$BP$138,2,FALSE)","v":0},{"$f":"'Budget FCFA'!L146/VLOOKUP(L$2,$BO$127:$BP$138,2,FALSE)","v":0},{"$f":"'Budget FCFA'!M146/VLOOKUP(M$2,$BO$127:$BP$138,2,FALSE)","v":0},{"$f":"'Budget FCFA'!N146/VLOOKUP(N$2,$BO$127:$BP$138,2,FALSE)","v":0},{"$f":"'Budget FCFA'!O146/VLOOKUP(O$2,$BO$127:$BP$138,2,FALSE)","v":0},{"$f":"'Budget FCFA'!P146/VLOOKUP(P$2,$BO$127:$BP$138,2,FALSE)","v":0},{"$f":"'Budget FCFA'!Q146/VLOOKUP(Q$2,$BO$127:$BP$138,2,FALSE)","v":0},{"$f":"'Budget FCFA'!R146/VLOOKUP(R$2,$BO$127:$BP$138,2,FALSE)","v":0},{"$f":"'Budget FCFA'!S146/VLOOKUP(S$2,$BO$127:$BP$138,2,FALSE)","v":0},{"$f":"'Budget FCFA'!T146/VLOOKUP(T$2,$BO$127:$BP$138,2,FALSE)","v":0},{"$f":"'Budget FCFA'!U146/VLOOKUP(U$2,$BO$127:$BP$138,2,FALSE)","v":0},{"$f":"'Budget FCFA'!V146/VLOOKUP(V$2,$BO$127:$BP$138,2,FALSE)","v":0},{"$f":"'Budget FCFA'!W146/VLOOKUP(W$2,$BO$127:$BP$138,2,FALSE)","v":0},{"$f":"'Budget FCFA'!X146/VLOOKUP(X$2,$BO$127:$BP$138,2,FALSE)","v":0},{"$f":"'Budget FCFA'!Y146/VLOOKUP(Y$2,$BO$127:$BP$138,2,FALSE)","v":0},{"$f":"'Budget FCFA'!Z146/VLOOKUP(Z$2,$BO$127:$BP$138,2,FALSE)","v":0},{"$f":"'Budget FCFA'!AA146/VLOOKUP(AA$2,$BO$127:$BP$138,2,FALSE)","v":0},{"$f":"'Budget FCFA'!AB146/VLOOKUP(AB$2,$BO$127:$BP$138,2,FALSE)","v":0},{"$f":"'Budget FCFA'!AC146/VLOOKUP(AC$2,$BO$127:$BP$138,2,FALSE)","v":0},{"$f":"'Budget FCFA'!AD146/VLOOKUP(AD$2,$BO$127:$BP$138,2,FALSE)","v":0},{"$f":"'Budget FCFA'!AE146/VLOOKUP(AE$2,$BO$127:$BP$138,2,FALSE)","v":0},{"$f":"'Budget FCFA'!AF146/VLOOKUP(AF$2,$BO$127:$BP$138,2,FALSE)","v":0},{"$f":"'Budget FCFA'!AG146/VLOOKUP(AG$2,$BO$127:$BP$138,2,FALSE)","v":0},{"$f":"'Budget FCFA'!AH146/VLOOKUP(AH$2,$BO$127:$BP$138,2,FALSE)","v":0},{"$f":"'Budget FCFA'!AI146/VLOOKUP(AI$2,$BO$127:$BP$138,2,FALSE)","v":0},{"$f":"'Budget FCFA'!AJ146/VLOOKUP(AJ$2,$BO$127:$BP$138,2,FALSE)","v":0},{"$f":"'Budget FCFA'!AK146/VLOOKUP(AK$2,$BO$127:$BP$138,2,FALSE)","v":0},{"$f":"'Budget FCFA'!AL146/VLOOKUP(AL$2,$BO$127:$BP$138,2,FALSE)","v":0},{"$f":"'Budget FCFA'!AM146/VLOOKUP(AM$2,$BO$127:$BP$138,2,FALSE)","v":0},{"$f":"'Budget FCFA'!AN146/VLOOKUP(AN$2,$BO$127:$BP$138,2,FALSE)","v":0},{"$f":"'Budget FCFA'!AO146/VLOOKUP(AO$2,$BO$127:$BP$138,2,FALSE)","v":0},{"$f":"'Budget FCFA'!AP146/VLOOKUP(AP$2,$BO$127:$BP$138,2,FALSE)","v":0},{"$f":"'Budget FCFA'!#REF!/VLOOKUP(AQ$2,$BO$127:$BP$138,2,FALSE)","v":{"$error":"#REF!"}},{"$f":"'Budget FCFA'!#REF!/VLOOKUP(AR$2,$BO$127:$BP$138,2,FALSE)","v":{"$error":"#REF!"}},{"$f":"'Budget FCFA'!#REF!/VLOOKUP(AS$2,$BO$127:$BP$138,2,FALSE)","v":{"$error":"#REF!"}},{"$f":"'Budget FCFA'!#REF!/VLOOKUP(AT$2,$BO$127:$BP$138,2,FALSE)","v":{"$error":"#REF!"}},{"$f":"'Budget FCFA'!#REF!/VLOOKUP(AU$2,$BO$127:$BP$138,2,FALSE)","v":{"$error":"#REF!"}},{"$f":"'Budget FCFA'!#REF!/VLOOKUP(AV$2,$BO$127:$BP$138,2,FALSE)","v":{"$error":"#REF!"}},{"$f":"'Budget FCFA'!#REF!/VLOOKUP(AW$2,$BO$127:$BP$138,2,FALSE)","v":{"$error":"#REF!"}},{"$f":"'Budget FCFA'!#REF!/VLOOKUP(AX$2,$BO$127:$BP$138,2,FALSE)","v":{"$error":"#REF!"}},{"$f":"'Budget FCFA'!#REF!/VLOOKUP(AY$2,$BO$127:$BP$138,2,FALSE)","v":{"$error":"#REF!"}},{"$f":"'Budget FCFA'!#REF!/VLOOKUP(AZ$2,$BO$127:$BP$138,2,FALSE)","v":{"$error":"#REF!"}},{"$f":"'Budget FCFA'!#REF!/VLOOKUP(BA$2,$BO$127:$BP$138,2,FALSE)","v":{"$error":"#REF!"}},{"$f":"'Budget FCFA'!#REF!/VLOOKUP(BB$2,$BO$127:$BP$138,2,FALSE)","v":{"$error":"#REF!"}},{"$f":"'Budget FCFA'!#REF!/VLOOKUP(BC$2,$BO$127:$BP$138,2,FALSE)","v":{"$error":"#REF!"}},{"$f":"'Budget FCFA'!#REF!/VLOOKUP(BD$2,$BO$127:$BP$138,2,FALSE)","v":{"$error":"#REF!"}},{"$f":"'Budget FCFA'!#REF!/VLOOKUP(BE$2,$BO$127:$BP$138,2,FALSE)","v":{"$error":"#REF!"}},{"$f":"'Budget FCFA'!#REF!/VLOOKUP(BF$2,$BO$127:$BP$138,2,FALSE)","v":{"$error":"#REF!"}},{"$f":"'Budget FCFA'!#REF!/VLOOKUP(BG$2,$BO$127:$BP$138,2,FALSE)","v":{"$error":"#REF!"}},{"$f":"'Budget FCFA'!#REF!/VLOOKUP(BH$2,$BO$127:$BP$138,2,FALSE)","v":{"$error":"#REF!"}},{"$f":"'Budget FCFA'!#REF!/VLOOKUP(BI$2,$BO$127:$BP$138,2,FALSE)","v":{"$error":"#REF!"}},{"$f":"'Budget FCFA'!#REF!/VLOOKUP(BJ$2,$BO$127:$BP$138,2,FALSE)","v":{"$error":"#REF!"}},{"$error":"#REF!"},{"$f":"BK146-'Budget FCFA'!#REF!","v":{"$error":"#REF!"}},null,null,"JUIN",{"$f":"'Budget FCFA'!#REF!/VLOOKUP($BO146,$BO$127:$BP$138,2,FALSE)","v":{"$error":"#REF!"}},{"$f":"'Budget FCFA'!#REF!/VLOOKUP($BO146,$BO$127:$BP$138,2,FALSE)","v":{"$error":"#REF!"}},{"$f":"'Budget FCFA'!#REF!/VLOOKUP($BO146,$BO$127:$BP$138,2,FALSE)","v":{"$error":"#REF!"}},{"$f":"'Budget FCFA'!#REF!/VLOOKUP($BO146,$BO$127:$BP$138,2,FALSE)","v":{"$error":"#REF!"}},{"$f":"'Budget FCFA'!#REF!/VLOOKUP($BO146,$BO$127:$BP$138,2,FALSE)","v":{"$error":"#REF!"}},{"$f":"'Budget FCFA'!#REF!/VLOOKUP($BO146,$BO$127:$BP$138,2,FALSE)","v":{"$error":"#REF!"}},{"$error":"#REF!"}]
["PUBTECHN","ABIDJAN","Exé Gravure PLV fabriquée par la France ",{"$f":"'Budget FCFA'!D147/VLOOKUP(D$2,$BO$127:$BP$138,2,FALSE)","v":0},{"$f":"'Budget FCFA'!E147/VLOOKUP(E$2,$BO$127:$BP$138,2,FALSE)","v":0},{"$f":"'Budget FCFA'!F147/VLOOKUP(F$2,$BO$127:$BP$138,2,FALSE)","v":0},{"$f":"'Budget FCFA'!G147/VLOOKUP(G$2,$BO$127:$BP$138,2,FALSE)","v":0},{"$f":"'Budget FCFA'!H147/VLOOKUP(H$2,$BO$127:$BP$138,2,FALSE)","v":0},{"$f":"'Budget FCFA'!I147/VLOOKUP(I$2,$BO$127:$BP$138,2,FALSE)","v":0},{"$f":"'Budget FCFA'!J147/VLOOKUP(J$2,$BO$127:$BP$138,2,FALSE)","v":0},{"$f":"'Budget FCFA'!K147/VLOOKUP(K$2,$BO$127:$BP$138,2,FALSE)","v":0},{"$f":"'Budget FCFA'!L147/VLOOKUP(L$2,$BO$127:$BP$138,2,FALSE)","v":0},{"$f":"'Budget FCFA'!M147/VLOOKUP(M$2,$BO$127:$BP$138,2,FALSE)","v":0},{"$f":"'Budget FCFA'!N147/VLOOKUP(N$2,$BO$127:$BP$138,2,FALSE)","v":0},{"$f":"'Budget FCFA'!O147/VLOOKUP(O$2,$BO$127:$BP$138,2,FALSE)","v":0},{"$f":"'Budget FCFA'!P147/VLOOKUP(P$2,$BO$127:$BP$138,2,FALSE)","v":0},{"$f":"'Budget FCFA'!Q147/VLOOKUP(Q$2,$BO$127:$BP$138,2,FALSE)","v":0},{"$f":"'Budget FCFA'!R147/VLOOKUP(R$2,$BO$127:$BP$138,2,FALSE)","v":72.33},{"$f":"'Budget FCFA'!S147/VLOOKUP(S$2,$BO$127:$BP$138,2,FALSE)","v":0},{"$f":"'Budget FCFA'!T147/VLOOKUP(T$2,$BO$127:$BP$138,2,FALSE)","v":0},{"$f":"'Budget FCFA'!U147/VLOOKUP(U$2,$BO$127:$BP$138,2,FALSE)","v":0},{"$f":"'Budget FCFA'!V147/VLOOKUP(V$2,$BO$127:$BP$138,2,FALSE)","v":0},{"$f":"'Budget FCFA'!W147/VLOOKUP(W$2,$BO$127:$BP$138,2,FALSE)","v":0},{"$f":"'Budget FCFA'!X147/VLOOKUP(X$2,$BO$127:$BP$138,2,FALSE)","v":0},{"$f":"'Budget FCFA'!Y147/VLOOKUP(Y$2,$BO$127:$BP$138,2,FALSE)","v":0},{"$f":"'Budget FCFA'!Z147/VLOOKUP(Z$2,$BO$127:$BP$138,2,FALSE)","v":0},{"$f":"'Budget FCFA'!AA147/VLOOKUP(AA$2,$BO$127:$BP$138,2,FALSE)","v":{"$error":"#REF!"}},{"$f":"'Budget FCFA'!AB147/VLOOKUP(AB$2,$BO$127:$BP$138,2,FALSE)","v":0},{"$f":"'Budget FCFA'!AC147/VLOOKUP(AC$2,$BO$127:$BP$138,2,FALSE)","v":0},{"$f":"'Budget FCFA'!AD147/VLOOKUP(AD$2,$BO$127:$BP$138,2,FALSE)","v":0},{"$f":"'Budget FCFA'!AE147/VLOOKUP(AE$2,$BO$127:$BP$138,2,FALSE)","v":0},{"$f":"'Budget FCFA'!AF147/VLOOKUP(AF$2,$BO$127:$BP$138,2,FALSE)","v":{"$error":"#REF!"}},{"$f":"'Budget FCFA'!AG147/VLOOKUP(AG$2,$BO$127:$BP$138,2,FALSE)","v":0},{"$f":"'Budget FCFA'!AH147/VLOOKUP(AH$2,$BO$127:$BP$138,2,FALSE)","v":0},{"$f":"'Budget FCFA'!AI147/VLOOKUP(AI$2,$BO$127:$BP$138,2,FALSE)","v":0},{"$f":"'Budget FCFA'!AJ147/VLOOKUP(AJ$2,$BO$127:$BP$138,2,FALSE)","v":0},{"$f":"'Budget FCFA'!AK147/VLOOKUP(AK$2,$BO$127:$BP$138,2,FALSE)","v":{"$error":"#REF!"}},{"$f":"'Budget FCFA'!AL147/VLOOKUP(AL$2,$BO$127:$BP$138,2,FALSE)","v":0},{"$f":"'Budget FCFA'!AM147/VLOOKUP(AM$2,$BO$127:$BP$138,2,FALSE)","v":0},{"$f":"'Budget FCFA'!AN147/VLOOKUP(AN$2,$BO$127:$BP$138,2,FALSE)","v":0},{"$f":"'Budget FCFA'!AO147/VLOOKUP(AO$2,$BO$127:$BP$138,2,FALSE)","v":0},{"$f":"'Budget FCFA'!AP147/VLOOKUP(AP$2,$BO$127:$BP$138,2,FALSE)","v":{"$error":"#REF!"}},{"$f":"'Budget FCFA'!#REF!/VLOOKUP(AQ$2,$BO$127:$BP$138,2,FALSE)","v":{"$error":"#REF!"}},{"$f":"'Budget FCFA'!#REF!/VLOOKUP(AR$2,$BO$127:$BP$138,2,FALSE)","v":{"$error":"#REF!"}},{"$f":"'Budget FCFA'!#REF!/VLOOKUP(AS$2,$BO$127:$BP$138,2,FALSE)","v":{"$error":"#REF!"}},{"$f":"'Budget FCFA'!#REF!/VLOOKUP(AT$2,$BO$127:$BP$138,2,FALSE)","v":{"$error":"#REF!"}},{"$f":"'Budget FCFA'!#REF!/VLOOKUP(AU$2,$BO$127:$BP$138,2,FALSE)","v":{"$error":"#REF!"}},{"$f":"'Budget FCFA'!#REF!/VLOOKUP(AV$2,$BO$127:$BP$138,2,FALSE)","v":{"$error":"#REF!"}},{"$f":"'Budget FCFA'!#REF!/VLOOKUP(AW$2,$BO$127:$BP$138,2,FALSE)","v":{"$error":"#REF!"}},{"$f":"'Budget FCFA'!#REF!/VLOOKUP(AX$2,$BO$127:$BP$138,2,FALSE)","v":{"$error":"#REF!"}},{"$f":"'Budget FCFA'!#REF!/VLOOKUP(AY$2,$BO$127:$BP$138,2,FALSE)","v":{"$error":"#REF!"}},{"$f":"'Budget FCFA'!#REF!/VLOOKUP(AZ$2,$BO$127:$BP$138,2,FALSE)","v":{"$error":"#REF!"}},{"$f":"'Budget FCFA'!#REF!/VLOOKUP(BA$2,$BO$127:$BP$138,2,FALSE)","v":{"$error":"#REF!"}},{"$f":"'Budget FCFA'!#REF!/VLOOKUP(BB$2,$BO$127:$BP$138,2,FALSE)","v":{"$error":"#REF!"}},{"$f":"'Budget FCFA'!#REF!/VLOOKUP(BC$2,$BO$127:$BP$138,2,FALSE)","v":{"$error":"#REF!"}},{"$f":"'Budget FCFA'!#REF!/VLOOKUP(BD$2,$BO$127:$BP$138,2,FALSE)","v":{"$error":"#REF!"}},{"$f":"'Budget FCFA'!#REF!/VLOOKUP(BE$2,$BO$127:$BP$138,2,FALSE)","v":{"$error":"#REF!"}},{"$f":"'Budget FCFA'!#REF!/VLOOKUP(BF$2,$BO$127:$BP$138,2,FALSE)","v":{"$error":"#REF!"}},{"$f":"'Budget FCFA'!#REF!/VLOOKUP(BG$2,$BO$127:$BP$138,2,FALSE)","v":{"$error":"#REF!"}},{"$f":"'Budget FCFA'!#REF!/VLOOKUP(BH$2,$BO$127:$BP$138,2,FALSE)","v":{"$error":"#REF!"}},{"$f":"'Budget FCFA'!#REF!/VLOOKUP(BI$2,$BO$127:$BP$138,2,FALSE)","v":{"$error":"#REF!"}},{"$f":"'Budget FCFA'!#REF!/VLOOKUP(BJ$2,$BO$127:$BP$138,2,FALSE)","v":{"$error":"#REF!"}},{"$error":"#REF!"},{"$f":"BK147-'Budget FCFA'!#REF!","v":{"$error":"#REF!"}},null,null,"JUILLET",{"$f":"'Budget FCFA'!#REF!/VLOOKUP($BO147,$BO$127:$BP$138,2,FALSE)","v":{"$error":"#REF!"}},{"$f":"'Budget FCFA'!#REF!/VLOOKUP($BO147,$BO$127:$BP$138,2,FALSE)","v":{"$error":"#REF!"}},{"$f":"'Budget FCFA'!#REF!/VLOOKUP($BO147,$BO$127:$BP$138,2,FALSE)","v":{"$error":"#REF!"}},{"$f":"'Budget FCFA'!#REF!/VLOOKUP($BO147,$BO$127:$BP$138,2,FALSE)","v":{"$error":"#REF!"}},{"$f":"'Budget FCFA'!#REF!/VLOOKUP($BO147,$BO$127:$BP$138,2,FALSE)","v":{"$error":"#REF!"}},{"$f":"'Budget FCFA'!#REF!/VLOOKUP($BO147,$BO$127:$BP$138,2,FALSE)","v":{"$error":"#REF!"}},{"$error":"#REF!"}]
["PUBTECHN","BRAZZA","Exé Gravure PLV fabriquée par la France ",{"$f":"'Budget FCFA'!D148/VLOOKUP(D$2,$BO$127:$BP$138,2,FALSE)","v":0},{"$f":"'Budget FCFA'!E148/VLOOKUP(E$2,$BO$127:$BP$138,2,FALSE)","v":0},{"$f":"'Budget FCFA'!F148/VLOOKUP(F$2,$BO$127:$BP$138,2,FALSE)","v":0},{"$f":"'Budget FCFA'!G148/VLOOKUP(G$2,$BO$127:$BP$138,2,FALSE)","v":0},{"$f":"'Budget FCFA'!H148/VLOOKUP(H$2,$BO$127:$BP$138,2,FALSE)","v":0},{"$f":"'Budget FCFA'!I148/VLOOKUP(I$2,$BO$127:$BP$138,2,FALSE)","v":0},{"$f":"'Budget FCFA'!J148/VLOOKUP(J$2,$BO$127:$BP$138,2,FALSE)","v":0},{"$f":"'Budget FCFA'!K148/VLOOKUP(K$2,$BO$127:$BP$138,2,FALSE)","v":0},{"$f":"'Budget FCFA'!L148/VLOOKUP(L$2,$BO$127:$BP$138,2,FALSE)","v":0},{"$f":"'Budget FCFA'!M148/VLOOKUP(M$2,$BO$127:$BP$138,2,FALSE)","v":0},{"$f":"'Budget FCFA'!N148/VLOOKUP(N$2,$BO$127:$BP$138,2,FALSE)","v":0},{"$f":"'Budget FCFA'!O148/VLOOKUP(O$2,$BO$127:$BP$138,2,FALSE)","v":0},{"$f":"'Budget FCFA'!P148/VLOOKUP(P$2,$BO$127:$BP$138,2,FALSE)","v":0},{"$f":"'Budget FCFA'!Q148/VLOOKUP(Q$2,$BO$127:$BP$138,2,FALSE)","v":0},{"$f":"'Budget FCFA'!R148/VLOOKUP(R$2,$BO$127:$BP$138,2,FALSE)","v":72.33},{"$f":"'Budget FCFA'!S148/VLOOKUP(S$2,$BO$127:$BP$138,2,FALSE)","v":0},{"$f":"'Budget FCFA'!T148/VLOOKUP(T$2,$BO$127:$BP$138,2,FALSE)","v":0},{"$f":"'Budget FCFA'!U148/VLOOKUP(U$2,$BO$127:$BP$138,2,FALSE)","v":0},{"$f":"'Budget FCFA'!V148/VLOOKUP(V$2,$BO$127:$BP$138,2,FALSE)","v":0},{"$f":"'Budget FCFA'!W148/VLOOKUP(W$2,$BO$127:$BP$138,2,FALSE)","v":0},{"$f":"'Budget FCFA'!X148/VLOOKUP(X$2,$BO$127:$BP$138,2,FALSE)","v":0},{"$f":"'Budget FCFA'!Y148/VLOOKUP(Y$2,$BO$127:$BP$138,2,FALSE)","v":0},{"$f":"'Budget FCFA'!Z148/VLOOKUP(Z$2,$BO$127:$BP$138,2,FALSE)","v":0},{"$f":"'Budget FCFA'!AA148/VLOOKUP(AA$2,$BO$127:$BP$138,2,FALSE)","v":{"$error":"#REF!"}},{"$f":"'Budget FCFA'!AB148/VLOOKUP(AB$2,$BO$127:$BP$138,2,FALSE)","v":0},{"$f":"'Budget FCFA'!AC148/VLOOKUP(AC$2,$BO$127:$BP$138,2,FALSE)","v":0},{"$f":"'Budget FCFA'!AD148/VLOOKUP(AD$2,$BO$127:$BP$138,2,FALSE)","v":0},{"$f":"'Budget FCFA'!AE148/VLOOKUP(AE$2,$BO$127:$BP$138,2,FALSE)","v":0},{"$f":"'Budget FCFA'!AF148/VLOOKUP(AF$2,$BO$127:$BP$138,2,FALSE)","v":{"$error":"#REF!"}},{"$f":"'Budget FCFA'!AG148/VLOOKUP(AG$2,$BO$127:$BP$138,2,FALSE)","v":0},{"$f":"'Budget FCFA'!AH148/VLOOKUP(AH$2,$BO$127:$BP$138,2,FALSE)","v":0},{"$f":"'Budget FCFA'!AI148/VLOOKUP(AI$2,$BO$127:$BP$138,2,FALSE)","v":0},{"$f":"'Budget FCFA'!AJ148/VLOOKUP(AJ$2,$BO$127:$BP$138,2,FALSE)","v":0},{"$f":"'Budget FCFA'!AK148/VLOOKUP(AK$2,$BO$127:$BP$138,2,FALSE)","v":{"$error":"#REF!"}},{"$f":"'Budget FCFA'!AL148/VLOOKUP(AL$2,$BO$127:$BP$138,2,FALSE)","v":0},{"$f":"'Budget FCFA'!AM148/VLOOKUP(AM$2,$BO$127:$BP$138,2,FALSE)","v":0},{"$f":"'Budget FCFA'!AN148/VLOOKUP(AN$2,$BO$127:$BP$138,2,FALSE)","v":0},{"$f":"'Budget FCFA'!AO148/VLOOKUP(AO$2,$BO$127:$BP$138,2,FALSE)","v":0},{"$f":"'Budget FCFA'!AP148/VLOOKUP(AP$2,$BO$127:$BP$138,2,FALSE)","v":{"$error":"#REF!"}},{"$f":"'Budget FCFA'!#REF!/VLOOKUP(AQ$2,$BO$127:$BP$138,2,FALSE)","v":{"$error":"#REF!"}},{"$f":"'Budget FCFA'!#REF!/VLOOKUP(AR$2,$BO$127:$BP$138,2,FALSE)","v":{"$error":"#REF!"}},{"$f":"'Budget FCFA'!#REF!/VLOOKUP(AS$2,$BO$127:$BP$138,2,FALSE)","v":{"$error":"#REF!"}},{"$f":"'Budget FCFA'!#REF!/VLOOKUP(AT$2,$BO$127:$BP$138,2,FALSE)","v":{"$error":"#REF!"}},{"$f":"'Budget FCFA'!#REF!/VLOOKUP(AU$2,$BO$127:$BP$138,2,FALSE)","v":{"$error":"#REF!"}},{"$f":"'Budget FCFA'!#REF!/VLOOKUP(AV$2,$BO$127:$BP$138,2,FALSE)","v":{"$error":"#REF!"}},{"$f":"'Budget FCFA'!#REF!/VLOOKUP(AW$2,$BO$127:$BP$138,2,FALSE)","v":{"$error":"#REF!"}},{"$f":"'Budget FCFA'!#REF!/VLOOKUP(AX$2,$BO$127:$BP$138,2,FALSE)","v":{"$error":"#REF!"}},{"$f":"'Budget FCFA'!#REF!/VLOOKUP(AY$2,$BO$127:$BP$138,2,FALSE)","v":{"$error":"#REF!"}},{"$f":"'Budget FCFA'!#REF!/VLOOKUP(AZ$2,$BO$127:$BP$138,2,FALSE)","v":{"$error":"#REF!"}},{"$f":"'Budget FCFA'!#REF!/VLOOKUP(BA$2,$BO$127:$BP$138,2,FALSE)","v":{"$error":"#REF!"}},{"$f":"'Budget FCFA'!#REF!/VLOOKUP(BB$2,$BO$127:$BP$138,2,FALSE)","v":{"$error":"#REF!"}},{"$f":"'Budget FCFA'!#REF!/VLOOKUP(BC$2,$BO$127:$BP$138,2,FALSE)","v":{"$error":"#REF!"}},{"$f":"'Budget FCFA'!#REF!/VLOOKUP(BD$2,$BO$127:$BP$138,2,FALSE)","v":{"$error":"#REF!"}},{"$f":"'Budget FCFA'!#REF!/VLOOKUP(BE$2,$BO$127:$BP$138,2,FALSE)","v":{"$error":"#REF!"}},{"$f":"'Budget FCFA'!#REF!/VLOOKUP(BF$2,$BO$127:$BP$138,2,FALSE)","v":{"$error":"#REF!"}},{"$f":"'Budget FCFA'!#REF!/VLOOKUP(BG$2,$BO$127:$BP$138,2,FALSE)","v":{"$error":"#REF!"}},{"$f":"'Budget FCFA'!#REF!/VLOOKUP(BH$2,$BO$127:$BP$138,2,FALSE)","v":{"$error":"#REF!"}},{"$f":"'Budget FCFA'!#REF!/VLOOKUP(BI$2,$BO$127:$BP$138,2,FALSE)","v":{"$error":"#REF!"}},{"$f":"'Budget FCFA'!#REF!/VLOOKUP(BJ$2,$BO$127:$BP$138,2,FALSE)","v":{"$error":"#REF!"}},{"$error":"#REF!"},{"$f":"BK148-'Budget FCFA'!#REF!","v":{"$error":"#REF!"}},null,null,"AOUT",{"$f":"'Budget FCFA'!#REF!/VLOOKUP($BO148,$BO$127:$BP$138,2,FALSE)","v":{"$error":"#REF!"}},{"$f":"'Budget FCFA'!#REF!/VLOOKUP($BO148,$BO$127:$BP$138,2,FALSE)","v":{"$error":"#REF!"}},{"$f":"'Budget FCFA'!#REF!/VLOOKUP($BO148,$BO$127:$BP$138,2,FALSE)","v":{"$error":"#REF!"}},{"$f":"'Budget FCFA'!#REF!/VLOOKUP($BO148,$BO$127:$BP$138,2,FALSE)","v":{"$error":"#REF!"}},{"$f":"'Budget FCFA'!#REF!/VLOOKUP($BO148,$BO$127:$BP$138,2,FALSE)","v":{"$error":"#REF!"}},{"$f":"'Budget FCFA'!#REF!/VLOOKUP($BO148,$BO$127:$BP$138,2,FALSE)","v":{"$error":"#REF!"}},{"$error":"#REF!"}]
["PUBTECHN","DAKAR","Exé Gravure PLV fabriquée par la France ",{"$f":"'Budget FCFA'!D149/VLOOKUP(D$2,$BO$127:$BP$138,2,FALSE)","v":0},{"$f":"'Budget FCFA'!E149/VLOOKUP(E$2,$BO$127:$BP$138,2,FALSE)","v":0},{"$f":"'Budget FCFA'!F149/VLOOKUP(F$2,$BO$127:$BP$138,2,FALSE)","v":0},{"$f":"'Budget FCFA'!G149/VLOOKUP(G$2,$BO$127:$BP$138,2,FALSE)","v":0},{"$f":"'Budget FCFA'!H149/VLOOKUP(H$2,$BO$127:$BP$138,2,FALSE)","v":0},{"$f":"'Budget FCFA'!I149/VLOOKUP(I$2,$BO$127:$BP$138,2,FALSE)","v":0},{"$f":"'Budget FCFA'!J149/VLOOKUP(J$2,$BO$127:$BP$138,2,FALSE)","v":0},{"$f":"'Budget FCFA'!K149/VLOOKUP(K$2,$BO$127:$BP$138,2,FALSE)","v":0},{"$f":"'Budget FCFA'!L149/VLOOKUP(L$2,$BO$127:$BP$138,2,FALSE)","v":0},{"$f":"'Budget FCFA'!M149/VLOOKUP(M$2,$BO$127:$BP$138,2,FALSE)","v":0},{"$f":"'Budget FCFA'!N149/VLOOKUP(N$2,$BO$127:$BP$138,2,FALSE)","v":0},{"$f":"'Budget FCFA'!O149/VLOOKUP(O$2,$BO$127:$BP$138,2,FALSE)","v":0},{"$f":"'Budget FCFA'!P149/VLOOKUP(P$2,$BO$127:$BP$138,2,FALSE)","v":0},{"$f":"'Budget FCFA'!Q149/VLOOKUP(Q$2,$BO$127:$BP$138,2,FALSE)","v":0},{"$f":"'Budget FCFA'!R149/VLOOKUP(R$2,$BO$127:$BP$138,2,FALSE)","v":0},{"$f":"'Budget FCFA'!S149/VLOOKUP(S$2,$BO$127:$BP$138,2,FALSE)","v":0},{"$f":"'Budget FCFA'!T149/VLOOKUP(T$2,$BO$127:$BP$138,2,FALSE)","v":0},{"$f":"'Budget FCFA'!U149/VLOOKUP(U$2,$BO$127:$BP$138,2,FALSE)","v":0},{"$f":"'Budget FCFA'!V149/VLOOKUP(V$2,$BO$127:$BP$138,2,FALSE)","v":0},{"$f":"'Budget FCFA'!W149/VLOOKUP(W$2,$BO$127:$BP$138,2,FALSE)","v":0},{"$f":"'Budget FCFA'!X149/VLOOKUP(X$2,$BO$127:$BP$138,2,FALSE)","v":0},{"$f":"'Budget FCFA'!Y149/VLOOKUP(Y$2,$BO$127:$BP$138,2,FALSE)","v":0},{"$f":"'Budget FCFA'!Z149/VLOOKUP(Z$2,$BO$127:$BP$138,2,FALSE)","v":0},{"$f":"'Budget FCFA'!AA149/VLOOKUP(AA$2,$BO$127:$BP$138,2,FALSE)","v":{"$error":"#REF!"}},{"$f":"'Budget FCFA'!AB149/VLOOKUP(AB$2,$BO$127:$BP$138,2,FALSE)","v":0},{"$f":"'Budget FCFA'!AC149/VLOOKUP(AC$2,$BO$127:$BP$138,2,FALSE)","v":0},{"$f":"'Budget FCFA'!AD149/VLOOKUP(AD$2,$BO$127:$BP$138,2,FALSE)","v":0},{"$f":"'Budget FCFA'!AE149/VLOOKUP(AE$2,$BO$127:$BP$138,2,FALSE)","v":0},{"$f":"'Budget FCFA'!AF149/VLOOKUP(AF$2,$BO$127:$BP$138,2,FALSE)","v":{"$error":"#REF!"}},{"$f":"'Budget FCFA'!AG149/VLOOKUP(AG$2,$BO$127:$BP$138,2,FALSE)","v":0},{"$f":"'Budget FCFA'!AH149/VLOOKUP(AH$2,$BO$127:$BP$138,2,FALSE)","v":0},{"$f":"'Budget FCFA'!AI149/VLOOKUP(AI$2,$BO$127:$BP$138,2,FALSE)","v":0},{"$f":"'Budget FCFA'!AJ149/VLOOKUP(AJ$2,$BO$127:$BP$138,2,FALSE)","v":0},{"$f":"'Budget FCFA'!AK149/VLOOKUP(AK$2,$BO$127:$BP$138,2,FALSE)","v":{"$error":"#REF!"}},{"$f":"'Budget FCFA'!AL149/VLOOKUP(AL$2,$BO$127:$BP$138,2,FALSE)","v":0},{"$f":"'Budget FCFA'!AM149/VLOOKUP(AM$2,$BO$127:$BP$138,2,FALSE)","v":0},{"$f":"'Budget FCFA'!AN149/VLOOKUP(AN$2,$BO$127:$BP$138,2,FALSE)","v":0},{"$f":"'Budget FCFA'!AO149/VLOOKUP(AO$2,$BO$127:$BP$138,2,FALSE)","v":0},{"$f":"'Budget FCFA'!AP149/VLOOKUP(AP$2,$BO$127:$BP$138,2,FALSE)","v":{"$error":"#REF!"}},{"$f":"'Budget FCFA'!#REF!/VLOOKUP(AQ$2,$BO$127:$BP$138,2,FALSE)","v":{"$error":"#REF!"}},{"$f":"'Budget FCFA'!#REF!/VLOOKUP(AR$2,$BO$127:$BP$138,2,FALSE)","v":{"$error":"#REF!"}},{"$f":"'Budget FCFA'!#REF!/VLOOKUP(AS$2,$BO$127:$BP$138,2,FALSE)","v":{"$error":"#REF!"}},{"$f":"'Budget FCFA'!#REF!/VLOOKUP(AT$2,$BO$127:$BP$138,2,FALSE)","v":{"$error":"#REF!"}},{"$f":"'Budget FCFA'!#REF!/VLOOKUP(AU$2,$BO$127:$BP$138,2,FALSE)","v":{"$error":"#REF!"}},{"$f":"'Budget FCFA'!#REF!/VLOOKUP(AV$2,$BO$127:$BP$138,2,FALSE)","v":{"$error":"#REF!"}},{"$f":"'Budget FCFA'!#REF!/VLOOKUP(AW$2,$BO$127:$BP$138,2,FALSE)","v":{"$error":"#REF!"}},{"$f":"'Budget FCFA'!#REF!/VLOOKUP(AX$2,$BO$127:$BP$138,2,FALSE)","v":{"$error":"#REF!"}},{"$f":"'Budget FCFA'!#REF!/VLOOKUP(AY$2,$BO$127:$BP$138,2,FALSE)","v":{"$error":"#REF!"}},{"$f":"'Budget FCFA'!#REF!/VLOOKUP(AZ$2,$BO$127:$BP$138,2,FALSE)","v":{"$error":"#REF!"}},{"$f":"'Budget FCFA'!#REF!/VLOOKUP(BA$2,$BO$127:$BP$138,2,FALSE)","v":{"$error":"#REF!"}},{"$f":"'Budget FCFA'!#REF!/VLOOKUP(BB$2,$BO$127:$BP$138,2,FALSE)","v":{"$error":"#REF!"}},{"$f":"'Budget FCFA'!#REF!/VLOOKUP(BC$2,$BO$127:$BP$138,2,FALSE)","v":{"$error":"#REF!"}},{"$f":"'Budget FCFA'!#REF!/VLOOKUP(BD$2,$BO$127:$BP$138,2,FALSE)","v":{"$error":"#REF!"}},{"$f":"'Budget FCFA'!#REF!/VLOOKUP(BE$2,$BO$127:$BP$138,2,FALSE)","v":{"$error":"#REF!"}},{"$f":"'Budget FCFA'!#REF!/VLOOKUP(BF$2,$BO$127:$BP$138,2,FALSE)","v":{"$error":"#REF!"}},{"$f":"'Budget FCFA'!#REF!/VLOOKUP(BG$2,$BO$127:$BP$138,2,FALSE)","v":{"$error":"#REF!"}},{"$f":"'Budget FCFA'!#REF!/VLOOKUP(BH$2,$BO$127:$BP$138,2,FALSE)","v":{"$error":"#REF!"}},{"$f":"'Budget FCFA'!#REF!/VLOOKUP(BI$2,$BO$127:$BP$138,2,FALSE)","v":{"$error":"#REF!"}},{"$f":"'Budget FCFA'!#REF!/VLOOKUP(BJ$2,$BO$127:$BP$138,2,FALSE)","v":{"$error":"#REF!"}},{"$error":"#REF!"},{"$f":"BK149-'Budget FCFA'!#REF!","v":{"$error":"#REF!"}},null,null,"SEPTEMBRE",{"$f":"'Budget FCFA'!#REF!/VLOOKUP($BO149,$BO$127:$BP$138,2,FALSE)","v":{"$error":"#REF!"}},{"$f":"'Budget FCFA'!#REF!/VLOOKUP($BO149,$BO$127:$BP$138,2,FALSE)","v":{"$error":"#REF!"}},{"$f":"'Budget FCFA'!#REF!/VLOOKUP($BO149,$BO$127:$BP$138,2,FALSE)","v":{"$error":"#REF!"}},{"$f":"'Budget FCFA'!#REF!/VLOOKUP($BO149,$BO$127:$BP$138,2,FALSE)","v":{"$error":"#REF!"}},{"$f":"'Budget FCFA'!#REF!/VLOOKUP($BO149,$BO$127:$BP$138,2,FALSE)","v":{"$error":"#REF!"}},{"$f":"'Budget FCFA'!#REF!/VLOOKUP($BO149,$BO$127:$BP$138,2,FALSE)","v":{"$error":"#REF!"}},{"$error":"#REF!"}]
["PUBTECHN","LIBREVILLE","Exé Gravure PLV fabriquée par la France ",{"$f":"'Budget FCFA'!D150/VLOOKUP(D$2,$BO$127:$BP$138,2,FALSE)","v":0},{"$f":"'Budget FCFA'!E150/VLOOKUP(E$2,$BO$127:$BP$138,2,FALSE)","v":0},{"$f":"'Budget FCFA'!F150/VLOOKUP(F$2,$BO$127:$BP$138,2,FALSE)","v":0},{"$f":"'Budget FCFA'!G150/VLOOKUP(G$2,$BO$127:$BP$138,2,FALSE)","v":0},{"$f":"'Budget FCFA'!H150/VLOOKUP(H$2,$BO$127:$BP$138,2,FALSE)","v":0},{"$f":"'Budget FCFA'!I150/VLOOKUP(I$2,$BO$127:$BP$138,2,FALSE)","v":0},{"$f":"'Budget FCFA'!J150/VLOOKUP(J$2,$BO$127:$BP$138,2,FALSE)","v":0},{"$f":"'Budget FCFA'!K150/VLOOKUP(K$2,$BO$127:$BP$138,2,FALSE)","v":0},{"$f":"'Budget FCFA'!L150/VLOOKUP(L$2,$BO$127:$BP$138,2,FALSE)","v":0},{"$f":"'Budget FCFA'!M150/VLOOKUP(M$2,$BO$127:$BP$138,2,FALSE)","v":0},{"$f":"'Budget FCFA'!N150/VLOOKUP(N$2,$BO$127:$BP$138,2,FALSE)","v":0},{"$f":"'Budget FCFA'!O150/VLOOKUP(O$2,$BO$127:$BP$138,2,FALSE)","v":0},{"$f":"'Budget FCFA'!P150/VLOOKUP(P$2,$BO$127:$BP$138,2,FALSE)","v":0},{"$f":"'Budget FCFA'!Q150/VLOOKUP(Q$2,$BO$127:$BP$138,2,FALSE)","v":0},{"$f":"'Budget FCFA'!R150/VLOOKUP(R$2,$BO$127:$BP$138,2,FALSE)","v":0},{"$f":"'Budget FCFA'!S150/VLOOKUP(S$2,$BO$127:$BP$138,2,FALSE)","v":0},{"$f":"'Budget FCFA'!T150/VLOOKUP(T$2,$BO$127:$BP$138,2,FALSE)","v":0},{"$f":"'Budget FCFA'!U150/VLOOKUP(U$2,$BO$127:$BP$138,2,FALSE)","v":0},{"$f":"'Budget FCFA'!V150/VLOOKUP(V$2,$BO$127:$BP$138,2,FALSE)","v":0},{"$f":"'Budget FCFA'!W150/VLOOKUP(W$2,$BO$127:$BP$138,2,FALSE)","v":0},{"$f":"'Budget FCFA'!X150/VLOOKUP(X$2,$BO$127:$BP$138,2,FALSE)","v":0},{"$f":"'Budget FCFA'!Y150/VLOOKUP(Y$2,$BO$127:$BP$138,2,FALSE)","v":0},{"$f":"'Budget FCFA'!Z150/VLOOKUP(Z$2,$BO$127:$BP$138,2,FALSE)","v":0},{"$f":"'Budget FCFA'!AA150/VLOOKUP(AA$2,$BO$127:$BP$138,2,FALSE)","v":{"$error":"#REF!"}},{"$f":"'Budget FCFA'!AB150/VLOOKUP(AB$2,$BO$127:$BP$138,2,FALSE)","v":0},{"$f":"'Budget FCFA'!AC150/VLOOKUP(AC$2,$BO$127:$BP$138,2,FALSE)","v":0},{"$f":"'Budget FCFA'!AD150/VLOOKUP(AD$2,$BO$127:$BP$138,2,FALSE)","v":0},{"$f":"'Budget FCFA'!AE150/VLOOKUP(AE$2,$BO$127:$BP$138,2,FALSE)","v":0},{"$f":"'Budget FCFA'!AF150/VLOOKUP(AF$2,$BO$127:$BP$138,2,FALSE)","v":{"$error":"#REF!"}},{"$f":"'Budget FCFA'!AG150/VLOOKUP(AG$2,$BO$127:$BP$138,2,FALSE)","v":0},{"$f":"'Budget FCFA'!AH150/VLOOKUP(AH$2,$BO$127:$BP$138,2,FALSE)","v":0},{"$f":"'Budget FCFA'!AI150/VLOOKUP(AI$2,$BO$127:$BP$138,2,FALSE)","v":0},{"$f":"'Budget FCFA'!AJ150/VLOOKUP(AJ$2,$BO$127:$BP$138,2,FALSE)","v":0},{"$f":"'Budget FCFA'!AK150/VLOOKUP(AK$2,$BO$127:$BP$138,2,FALSE)","v":{"$error":"#REF!"}},{"$f":"'Budget FCFA'!AL150/VLOOKUP(AL$2,$BO$127:$BP$138,2,FALSE)","v":0},{"$f":"'Budget FCFA'!AM150/VLOOKUP(AM$2,$BO$127:$BP$138,2,FALSE)","v":0},{"$f":"'Budget FCFA'!AN150/VLOOKUP(AN$2,$BO$127:$BP$138,2,FALSE)","v":0},{"$f":"'Budget FCFA'!AO150/VLOOKUP(AO$2,$BO$127:$BP$138,2,FALSE)","v":0},{"$f":"'Budget FCFA'!AP150/VLOOKUP(AP$2,$BO$127:$BP$138,2,FALSE)","v":{"$error":"#REF!"}},{"$f":"'Budget FCFA'!#REF!/VLOOKUP(AQ$2,$BO$127:$BP$138,2,FALSE)","v":{"$error":"#REF!"}},{"$f":"'Budget FCFA'!#REF!/VLOOKUP(AR$2,$BO$127:$BP$138,2,FALSE)","v":{"$error":"#REF!"}},{"$f":"'Budget FCFA'!#REF!/VLOOKUP(AS$2,$BO$127:$BP$138,2,FALSE)","v":{"$error":"#REF!"}},{"$f":"'Budget FCFA'!#REF!/VLOOKUP(AT$2,$BO$127:$BP$138,2,FALSE)","v":{"$error":"#REF!"}},{"$f":"'Budget FCFA'!#REF!/VLOOKUP(AU$2,$BO$127:$BP$138,2,FALSE)","v":{"$error":"#REF!"}},{"$f":"'Budget FCFA'!#REF!/VLOOKUP(AV$2,$BO$127:$BP$138,2,FALSE)","v":{"$error":"#REF!"}},{"$f":"'Budget FCFA'!#REF!/VLOOKUP(AW$2,$BO$127:$BP$138,2,FALSE)","v":{"$error":"#REF!"}},{"$f":"'Budget FCFA'!#REF!/VLOOKUP(AX$2,$BO$127:$BP$138,2,FALSE)","v":{"$error":"#REF!"}},{"$f":"'Budget FCFA'!#REF!/VLOOKUP(AY$2,$BO$127:$BP$138,2,FALSE)","v":{"$error":"#REF!"}},{"$f":"'Budget FCFA'!#REF!/VLOOKUP(AZ$2,$BO$127:$BP$138,2,FALSE)","v":{"$error":"#REF!"}},{"$f":"'Budget FCFA'!#REF!/VLOOKUP(BA$2,$BO$127:$BP$138,2,FALSE)","v":{"$error":"#REF!"}},{"$f":"'Budget FCFA'!#REF!/VLOOKUP(BB$2,$BO$127:$BP$138,2,FALSE)","v":{"$error":"#REF!"}},{"$f":"'Budget FCFA'!#REF!/VLOOKUP(BC$2,$BO$127:$BP$138,2,FALSE)","v":{"$error":"#REF!"}},{"$f":"'Budget FCFA'!#REF!/VLOOKUP(BD$2,$BO$127:$BP$138,2,FALSE)","v":{"$error":"#REF!"}},{"$f":"'Budget FCFA'!#REF!/VLOOKUP(BE$2,$BO$127:$BP$138,2,FALSE)","v":{"$error":"#REF!"}},{"$f":"'Budget FCFA'!#REF!/VLOOKUP(BF$2,$BO$127:$BP$138,2,FALSE)","v":{"$error":"#REF!"}},{"$f":"'Budget FCFA'!#REF!/VLOOKUP(BG$2,$BO$127:$BP$138,2,FALSE)","v":{"$error":"#REF!"}},{"$f":"'Budget FCFA'!#REF!/VLOOKUP(BH$2,$BO$127:$BP$138,2,FALSE)","v":{"$error":"#REF!"}},{"$f":"'Budget FCFA'!#REF!/VLOOKUP(BI$2,$BO$127:$BP$138,2,FALSE)","v":{"$error":"#REF!"}},{"$f":"'Budget FCFA'!#REF!/VLOOKUP(BJ$2,$BO$127:$BP$138,2,FALSE)","v":{"$error":"#REF!"}},{"$error":"#REF!"},{"$f":"BK150-'Budget FCFA'!#REF!","v":{"$error":"#REF!"}},null,null,"OCTOBRE",{"$f":"'Budget FCFA'!#REF!/VLOOKUP($BO150,$BO$127:$BP$138,2,FALSE)","v":{"$error":"#REF!"}},{"$f":"'Budget FCFA'!#REF!/VLOOKUP($BO150,$BO$127:$BP$138,2,FALSE)","v":{"$error":"#REF!"}},{"$f":"'Budget FCFA'!#REF!/VLOOKUP($BO150,$BO$127:$BP$138,2,FALSE)","v":{"$error":"#REF!"}},{"$f":"'Budget FCFA'!#REF!/VLOOKUP($BO150,$BO$127:$BP$138,2,FALSE)","v":{"$error":"#REF!"}},{"$f":"'Budget FCFA'!#REF!/VLOOKUP($BO150,$BO$127:$BP$138,2,FALSE)","v":{"$error":"#REF!"}},{"$f":"'Budget FCFA'!#REF!/VLOOKUP($BO150,$BO$127:$BP$138,2,FALSE)","v":{"$error":"#REF!"}},{"$error":"#REF!"}]
["PUBTECHN","DOUALA","Exé Gravure PLV fabriquée par la France ",{"$f":"'Budget FCFA'!D151/VLOOKUP(D$2,$BO$127:$BP$138,2,FALSE)","v":0},{"$f":"'Budget FCFA'!E151/VLOOKUP(E$2,$BO$127:$BP$138,2,FALSE)","v":0},{"$f":"'Budget FCFA'!F151/VLOOKUP(F$2,$BO$127:$BP$138,2,FALSE)","v":0},{"$f":"'Budget FCFA'!G151/VLOOKUP(G$2,$BO$127:$BP$138,2,FALSE)","v":0},{"$f":"'Budget FCFA'!H151/VLOOKUP(H$2,$BO$127:$BP$138,2,FALSE)","v":0},{"$f":"'Budget FCFA'!I151/VLOOKUP(I$2,$BO$127:$BP$138,2,FALSE)","v":0},{"$f":"'Budget FCFA'!J151/VLOOKUP(J$2,$BO$127:$BP$138,2,FALSE)","v":0},{"$f":"'Budget FCFA'!K151/VLOOKUP(K$2,$BO$127:$BP$138,2,FALSE)","v":0},{"$f":"'Budget FCFA'!L151/VLOOKUP(L$2,$BO$127:$BP$138,2,FALSE)","v":0},{"$f":"'Budget FCFA'!M151/VLOOKUP(M$2,$BO$127:$BP$138,2,FALSE)","v":0},{"$f":"'Budget FCFA'!N151/VLOOKUP(N$2,$BO$127:$BP$138,2,FALSE)","v":0},{"$f":"'Budget FCFA'!O151/VLOOKUP(O$2,$BO$127:$BP$138,2,FALSE)","v":0},{"$f":"'Budget FCFA'!P151/VLOOKUP(P$2,$BO$127:$BP$138,2,FALSE)","v":0},{"$f":"'Budget FCFA'!Q151/VLOOKUP(Q$2,$BO$127:$BP$138,2,FALSE)","v":0},{"$f":"'Budget FCFA'!R151/VLOOKUP(R$2,$BO$127:$BP$138,2,FALSE)","v":0},{"$f":"'Budget FCFA'!S151/VLOOKUP(S$2,$BO$127:$BP$138,2,FALSE)","v":0},{"$f":"'Budget FCFA'!T151/VLOOKUP(T$2,$BO$127:$BP$138,2,FALSE)","v":0},{"$f":"'Budget FCFA'!U151/VLOOKUP(U$2,$BO$127:$BP$138,2,FALSE)","v":0},{"$f":"'Budget FCFA'!V151/VLOOKUP(V$2,$BO$127:$BP$138,2,FALSE)","v":0},{"$f":"'Budget FCFA'!W151/VLOOKUP(W$2,$BO$127:$BP$138,2,FALSE)","v":403.57},{"$f":"'Budget FCFA'!X151/VLOOKUP(X$2,$BO$127:$BP$138,2,FALSE)","v":0},{"$f":"'Budget FCFA'!Y151/VLOOKUP(Y$2,$BO$127:$BP$138,2,FALSE)","v":0},{"$f":"'Budget FCFA'!Z151/VLOOKUP(Z$2,$BO$127:$BP$138,2,FALSE)","v":0},{"$f":"'Budget FCFA'!AA151/VLOOKUP(AA$2,$BO$127:$BP$138,2,FALSE)","v":{"$error":"#REF!"}},{"$f":"'Budget FCFA'!AB151/VLOOKUP(AB$2,$BO$127:$BP$138,2,FALSE)","v":0},{"$f":"'Budget FCFA'!AC151/VLOOKUP(AC$2,$BO$127:$BP$138,2,FALSE)","v":0},{"$f":"'Budget FCFA'!AD151/VLOOKUP(AD$2,$BO$127:$BP$138,2,FALSE)","v":0},{"$f":"'Budget FCFA'!AE151/VLOOKUP(AE$2,$BO$127:$BP$138,2,FALSE)","v":0},{"$f":"'Budget FCFA'!AF151/VLOOKUP(AF$2,$BO$127:$BP$138,2,FALSE)","v":{"$error":"#REF!"}},{"$f":"'Budget FCFA'!AG151/VLOOKUP(AG$2,$BO$127:$BP$138,2,FALSE)","v":0},{"$f":"'Budget FCFA'!AH151/VLOOKUP(AH$2,$BO$127:$BP$138,2,FALSE)","v":0},{"$f":"'Budget FCFA'!AI151/VLOOKUP(AI$2,$BO$127:$BP$138,2,FALSE)","v":0},{"$f":"'Budget FCFA'!AJ151/VLOOKUP(AJ$2,$BO$127:$BP$138,2,FALSE)","v":0},{"$f":"'Budget FCFA'!AK151/VLOOKUP(AK$2,$BO$127:$BP$138,2,FALSE)","v":{"$error":"#REF!"}},{"$f":"'Budget FCFA'!AL151/VLOOKUP(AL$2,$BO$127:$BP$138,2,FALSE)","v":0},{"$f":"'Budget FCFA'!AM151/VLOOKUP(AM$2,$BO$127:$BP$138,2,FALSE)","v":0},{"$f":"'Budget FCFA'!AN151/VLOOKUP(AN$2,$BO$127:$BP$138,2,FALSE)","v":0},{"$f":"'Budget FCFA'!AO151/VLOOKUP(AO$2,$BO$127:$BP$138,2,FALSE)","v":0},{"$f":"'Budget FCFA'!AP151/VLOOKUP(AP$2,$BO$127:$BP$138,2,FALSE)","v":{"$error":"#REF!"}},{"$f":"'Budget FCFA'!#REF!/VLOOKUP(AQ$2,$BO$127:$BP$138,2,FALSE)","v":{"$error":"#REF!"}},{"$f":"'Budget FCFA'!#REF!/VLOOKUP(AR$2,$BO$127:$BP$138,2,FALSE)","v":{"$error":"#REF!"}},{"$f":"'Budget FCFA'!#REF!/VLOOKUP(AS$2,$BO$127:$BP$138,2,FALSE)","v":{"$error":"#REF!"}},{"$f":"'Budget FCFA'!#REF!/VLOOKUP(AT$2,$BO$127:$BP$138,2,FALSE)","v":{"$error":"#REF!"}},{"$f":"'Budget FCFA'!#REF!/VLOOKUP(AU$2,$BO$127:$BP$138,2,FALSE)","v":{"$error":"#REF!"}},{"$f":"'Budget FCFA'!#REF!/VLOOKUP(AV$2,$BO$127:$BP$138,2,FALSE)","v":{"$error":"#REF!"}},{"$f":"'Budget FCFA'!#REF!/VLOOKUP(AW$2,$BO$127:$BP$138,2,FALSE)","v":{"$error":"#REF!"}},{"$f":"'Budget FCFA'!#REF!/VLOOKUP(AX$2,$BO$127:$BP$138,2,FALSE)","v":{"$error":"#REF!"}},{"$f":"'Budget FCFA'!#REF!/VLOOKUP(AY$2,$BO$127:$BP$138,2,FALSE)","v":{"$error":"#REF!"}},{"$f":"'Budget FCFA'!#REF!/VLOOKUP(AZ$2,$BO$127:$BP$138,2,FALSE)","v":{"$error":"#REF!"}},{"$f":"'Budget FCFA'!#REF!/VLOOKUP(BA$2,$BO$127:$BP$138,2,FALSE)","v":{"$error":"#REF!"}},{"$f":"'Budget FCFA'!#REF!/VLOOKUP(BB$2,$BO$127:$BP$138,2,FALSE)","v":{"$error":"#REF!"}},{"$f":"'Budget FCFA'!#REF!/VLOOKUP(BC$2,$BO$127:$BP$138,2,FALSE)","v":{"$error":"#REF!"}},{"$f":"'Budget FCFA'!#REF!/VLOOKUP(BD$2,$BO$127:$BP$138,2,FALSE)","v":{"$error":"#REF!"}},{"$f":"'Budget FCFA'!#REF!/VLOOKUP(BE$2,$BO$127:$BP$138,2,FALSE)","v":{"$error":"#REF!"}},{"$f":"'Budget FCFA'!#REF!/VLOOKUP(BF$2,$BO$127:$BP$138,2,FALSE)","v":{"$error":"#REF!"}},{"$f":"'Budget FCFA'!#REF!/VLOOKUP(BG$2,$BO$127:$BP$138,2,FALSE)","v":{"$error":"#REF!"}},{"$f":"'Budget FCFA'!#REF!/VLOOKUP(BH$2,$BO$127:$BP$138,2,FALSE)","v":{"$error":"#REF!"}},{"$f":"'Budget FCFA'!#REF!/VLOOKUP(BI$2,$BO$127:$BP$138,2,FALSE)","v":{"$error":"#REF!"}},{"$f":"'Budget FCFA'!#REF!/VLOOKUP(BJ$2,$BO$127:$BP$138,2,FALSE)","v":{"$error":"#REF!"}},{"$error":"#REF!"},{"$f":"BK151-'Budget FCFA'!#REF!","v":{"$error":"#REF!"}},null,null,"NOVEMBRE",{"$f":"'Budget FCFA'!#REF!/VLOOKUP($BO151,$BO$127:$BP$138,2,FALSE)","v":{"$error":"#REF!"}},{"$f":"'Budget FCFA'!#REF!/VLOOKUP($BO151,$BO$127:$BP$138,2,FALSE)","v":{"$error":"#REF!"}},{"$f":"'Budget FCFA'!#REF!/VLOOKUP($BO151,$BO$127:$BP$138,2,FALSE)","v":{"$error":"#REF!"}},{"$f":"'Budget FCFA'!#REF!/VLOOKUP($BO151,$BO$127:$BP$138,2,FALSE)","v":{"$error":"#REF!"}},{"$f":"'Budget FCFA'!#REF!/VLOOKUP($BO151,$BO$127:$BP$138,2,FALSE)","v":{"$error":"#REF!"}},{"$f":"'Budget FCFA'!#REF!/VLOOKUP($BO151,$BO$127:$BP$138,2,FALSE)","v":{"$error":"#REF!"}},{"$error":"#REF!"}]
["PUBTECHN","TOTAL","Total éxé gravure France",{"$f":"'Budget FCFA'!D152/VLOOKUP(D$2,$BO$127:$BP$138,2,FALSE)","v":0},{"$f":"'Budget FCFA'!E152/VLOOKUP(E$2,$BO$127:$BP$138,2,FALSE)","v":0},{"$f":"'Budget FCFA'!F152/VLOOKUP(F$2,$BO$127:$BP$138,2,FALSE)","v":0},{"$f":"'Budget FCFA'!G152/VLOOKUP(G$2,$BO$127:$BP$138,2,FALSE)","v":0},{"$f":"'Budget FCFA'!H152/VLOOKUP(H$2,$BO$127:$BP$138,2,FALSE)","v":0},{"$f":"'Budget FCFA'!I152/VLOOKUP(I$2,$BO$127:$BP$138,2,FALSE)","v":0},{"$f":"'Budget FCFA'!J152/VLOOKUP(J$2,$BO$127:$BP$138,2,FALSE)","v":0},{"$f":"'Budget FCFA'!K152/VLOOKUP(K$2,$BO$127:$BP$138,2,FALSE)","v":0},{"$f":"'Budget FCFA'!L152/VLOOKUP(L$2,$BO$127:$BP$138,2,FALSE)","v":0},{"$f":"'Budget FCFA'!M152/VLOOKUP(M$2,$BO$127:$BP$138,2,FALSE)","v":0},{"$f":"'Budget FCFA'!N152/VLOOKUP(N$2,$BO$127:$BP$138,2,FALSE)","v":0},{"$f":"'Budget FCFA'!O152/VLOOKUP(O$2,$BO$127:$BP$138,2,FALSE)","v":0},{"$f":"'Budget FCFA'!P152/VLOOKUP(P$2,$BO$127:$BP$138,2,FALSE)","v":0},{"$f":"'Budget FCFA'!Q152/VLOOKUP(Q$2,$BO$127:$BP$138,2,FALSE)","v":0},{"$f":"'Budget FCFA'!R152/VLOOKUP(R$2,$BO$127:$BP$138,2,FALSE)","v":144.66},{"$f":"'Budget FCFA'!S152/VLOOKUP(S$2,$BO$127:$BP$138,2,FALSE)","v":0},{"$f":"'Budget FCFA'!T152/VLOOKUP(T$2,$BO$127:$BP$138,2,FALSE)","v":0},{"$f":"'Budget FCFA'!U152/VLOOKUP(U$2,$BO$127:$BP$138,2,FALSE)","v":0},{"$f":"'Budget FCFA'!V152/VLOOKUP(V$2,$BO$127:$BP$138,2,FALSE)","v":0},{"$f":"'Budget FCFA'!W152/VLOOKUP(W$2,$BO$127:$BP$138,2,FALSE)","v":403.57},{"$f":"'Budget FCFA'!X152/VLOOKUP(X$2,$BO$127:$BP$138,2,FALSE)","v":0},{"$f":"'Budget FCFA'!Y152/VLOOKUP(Y$2,$BO$127:$BP$138,2,FALSE)","v":0},{"$f":"'Budget FCFA'!Z152/VLOOKUP(Z$2,$BO$127:$BP$138,2,FALSE)","v":0},{"$f":"'Budget FCFA'!AA152/VLOOKUP(AA$2,$BO$127:$BP$138,2,FALSE)","v":0},{"$f":"'Budget FCFA'!AB152/VLOOKUP(AB$2,$BO$127:$BP$138,2,FALSE)","v":0},{"$f":"'Budget FCFA'!AC152/VLOOKUP(AC$2,$BO$127:$BP$138,2,FALSE)","v":0},{"$f":"'Budget FCFA'!AD152/VLOOKUP(AD$2,$BO$127:$BP$138,2,FALSE)","v":0},{"$f":"'Budget FCFA'!AE152/VLOOKUP(AE$2,$BO$127:$BP$138,2,FALSE)","v":0},{"$f":"'Budget FCFA'!AF152/VLOOKUP(AF$2,$BO$127:$BP$138,2,FALSE)","v":0},{"$f":"'Budget FCFA'!AG152/VLOOKUP(AG$2,$BO$127:$BP$138,2,FALSE)","v":0},{"$f":"'Budget FCFA'!AH152/VLOOKUP(AH$2,$BO$127:$BP$138,2,FALSE)","v":0},{"$f":"'Budget FCFA'!AI152/VLOOKUP(AI$2,$BO$127:$BP$138,2,FALSE)","v":0},{"$f":"'Budget FCFA'!AJ152/VLOOKUP(AJ$2,$BO$127:$BP$138,2,FALSE)","v":0},{"$f":"'Budget FCFA'!AK152/VLOOKUP(AK$2,$BO$127:$BP$138,2,FALSE)","v":0},{"$f":"'Budget FCFA'!AL152/VLOOKUP(AL$2,$BO$127:$BP$138,2,FALSE)","v":0},{"$f":"'Budget FCFA'!AM152/VLOOKUP(AM$2,$BO$127:$BP$138,2,FALSE)","v":0},{"$f":"'Budget FCFA'!AN152/VLOOKUP(AN$2,$BO$127:$BP$138,2,FALSE)","v":0},{"$f":"'Budget FCFA'!AO152/VLOOKUP(AO$2,$BO$127:$BP$138,2,FALSE)","v":0},{"$f":"'Budget FCFA'!AP152/VLOOKUP(AP$2,$BO$127:$BP$138,2,FALSE)","v":377.06},{"$f":"'Budget FCFA'!#REF!/VLOOKUP(AQ$2,$BO$127:$BP$138,2,FALSE)","v":{"$error":"#REF!"}},{"$f":"'Budget FCFA'!#REF!/VLOOKUP(AR$2,$BO$127:$BP$138,2,FALSE)","v":{"$error":"#REF!"}},{"$f":"'Budget FCFA'!#REF!/VLOOKUP(AS$2,$BO$127:$BP$138,2,FALSE)","v":{"$error":"#REF!"}},{"$f":"'Budget FCFA'!#REF!/VLOOKUP(AT$2,$BO$127:$BP$138,2,FALSE)","v":{"$error":"#REF!"}},{"$f":"'Budget FCFA'!#REF!/VLOOKUP(AU$2,$BO$127:$BP$138,2,FALSE)","v":{"$error":"#REF!"}},{"$f":"'Budget FCFA'!#REF!/VLOOKUP(AV$2,$BO$127:$BP$138,2,FALSE)","v":{"$error":"#REF!"}},{"$f":"'Budget FCFA'!#REF!/VLOOKUP(AW$2,$BO$127:$BP$138,2,FALSE)","v":{"$error":"#REF!"}},{"$f":"'Budget FCFA'!#REF!/VLOOKUP(AX$2,$BO$127:$BP$138,2,FALSE)","v":{"$error":"#REF!"}},{"$f":"'Budget FCFA'!#REF!/VLOOKUP(AY$2,$BO$127:$BP$138,2,FALSE)","v":{"$error":"#REF!"}},{"$f":"'Budget FCFA'!#REF!/VLOOKUP(AZ$2,$BO$127:$BP$138,2,FALSE)","v":{"$error":"#REF!"}},{"$f":"'Budget FCFA'!#REF!/VLOOKUP(BA$2,$BO$127:$BP$138,2,FALSE)","v":{"$error":"#REF!"}},{"$f":"'Budget FCFA'!#REF!/VLOOKUP(BB$2,$BO$127:$BP$138,2,FALSE)","v":{"$error":"#REF!"}},{"$f":"'Budget FCFA'!#REF!/VLOOKUP(BC$2,$BO$127:$BP$138,2,FALSE)","v":{"$error":"#REF!"}},{"$f":"'Budget FCFA'!#REF!/VLOOKUP(BD$2,$BO$127:$BP$138,2,FALSE)","v":{"$error":"#REF!"}},{"$f":"'Budget FCFA'!#REF!/VLOOKUP(BE$2,$BO$127:$BP$138,2,FALSE)","v":{"$error":"#REF!"}},{"$f":"'Budget FCFA'!#REF!/VLOOKUP(BF$2,$BO$127:$BP$138,2,FALSE)","v":{"$error":"#REF!"}},{"$f":"'Budget FCFA'!#REF!/VLOOKUP(BG$2,$BO$127:$BP$138,2,FALSE)","v":{"$error":"#REF!"}},{"$f":"'Budget FCFA'!#REF!/VLOOKUP(BH$2,$BO$127:$BP$138,2,FALSE)","v":{"$error":"#REF!"}},{"$f":"'Budget FCFA'!#REF!/VLOOKUP(BI$2,$BO$127:$BP$138,2,FALSE)","v":{"$error":"#REF!"}},{"$f":"'Budget FCFA'!#REF!/VLOOKUP(BJ$2,$BO$127:$BP$138,2,FALSE)","v":{"$error":"#REF!"}},{"$error":"#REF!"},{"$f":"BK152-'Budget FCFA'!#REF!","v":{"$error":"#REF!"}},null,null,"TOTAL",{"$f":"SUM(BP142:BP151)","v":{"$error":"#REF!"}},{"$error":"#REF!"},{"$error":"#REF!"},{"$error":"#REF!"},{"$error":"#REF!"},{"$error":"#REF!"},{"$error":"#REF!"}]
["PUBTECHN","ABIDJAN","Vitrines",{"$f":"'Budget FCFA'!D153/VLOOKUP(D$2,$BO$127:$BP$138,2,FALSE)","v":0},{"$f":"'Budget FCFA'!E153/VLOOKUP(E$2,$BO$127:$BP$138,2,FALSE)","v":0},{"$f":"'Budget FCFA'!F153/VLOOKUP(F$2,$BO$127:$BP$138,2,FALSE)","v":0},{"$f":"'Budget FCFA'!G153/VLOOKUP(G$2,$BO$127:$BP$138,2,FALSE)","v":0},{"$f":"'Budget FCFA'!H153/VLOOKUP(H$2,$BO$127:$BP$138,2,FALSE)","v":0},{"$f":"'Budget FCFA'!I153/VLOOKUP(I$2,$BO$127:$BP$138,2,FALSE)","v":0},{"$f":"'Budget FCFA'!J153/VLOOKUP(J$2,$BO$127:$BP$138,2,FALSE)","v":0},{"$f":"'Budget FCFA'!K153/VLOOKUP(K$2,$BO$127:$BP$138,2,FALSE)","v":0},{"$f":"'Budget FCFA'!L153/VLOOKUP(L$2,$BO$127:$BP$138,2,FALSE)","v":0},{"$f":"'Budget FCFA'!M153/VLOOKUP(M$2,$BO$127:$BP$138,2,FALSE)","v":0},{"$f":"'Budget FCFA'!N153/VLOOKUP(N$2,$BO$127:$BP$138,2,FALSE)","v":0},{"$f":"'Budget FCFA'!O153/VLOOKUP(O$2,$BO$127:$BP$138,2,FALSE)","v":0},{"$f":"'Budget FCFA'!P153/VLOOKUP(P$2,$BO$127:$BP$138,2,FALSE)","v":0},{"$f":"'Budget FCFA'!Q153/VLOOKUP(Q$2,$BO$127:$BP$138,2,FALSE)","v":0},{"$f":"'Budget FCFA'!R153/VLOOKUP(R$2,$BO$127:$BP$138,2,FALSE)","v":0},{"$f":"'Budget FCFA'!S153/VLOOKUP(S$2,$BO$127:$BP$138,2,FALSE)","v":0},{"$f":"'Budget FCFA'!T153/VLOOKUP(T$2,$BO$127:$BP$138,2,FALSE)","v":0},{"$f":"'Budget FCFA'!U153/VLOOKUP(U$2,$BO$127:$BP$138,2,FALSE)","v":0},{"$f":"'Budget FCFA'!V153/VLOOKUP(V$2,$BO$127:$BP$138,2,FALSE)","v":0},{"$f":"'Budget FCFA'!W153/VLOOKUP(W$2,$BO$127:$BP$138,2,FALSE)","v":0},{"$f":"'Budget FCFA'!X153/VLOOKUP(X$2,$BO$127:$BP$138,2,FALSE)","v":0},{"$f":"'Budget FCFA'!Y153/VLOOKUP(Y$2,$BO$127:$BP$138,2,FALSE)","v":0},{"$f":"'Budget FCFA'!Z153/VLOOKUP(Z$2,$BO$127:$BP$138,2,FALSE)","v":0},{"$f":"'Budget FCFA'!AA153/VLOOKUP(AA$2,$BO$127:$BP$138,2,FALSE)","v":0},{"$f":"'Budget FCFA'!AB153/VLOOKUP(AB$2,$BO$127:$BP$138,2,FALSE)","v":0},{"$f":"'Budget FCFA'!AC153/VLOOKUP(AC$2,$BO$127:$BP$138,2,FALSE)","v":0},{"$f":"'Budget FCFA'!AD153/VLOOKUP(AD$2,$BO$127:$BP$138,2,FALSE)","v":0},{"$f":"'Budget FCFA'!AE153/VLOOKUP(AE$2,$BO$127:$BP$138,2,FALSE)","v":0},{"$f":"'Budget FCFA'!AF153/VLOOKUP(AF$2,$BO$127:$BP$138,2,FALSE)","v":0},{"$f":"'Budget FCFA'!AG153/VLOOKUP(AG$2,$BO$127:$BP$138,2,FALSE)","v":0},{"$f":"'Budget FCFA'!AH153/VLOOKUP(AH$2,$BO$127:$BP$138,2,FALSE)","v":0},{"$f":"'Budget FCFA'!AI153/VLOOKUP(AI$2,$BO$127:$BP$138,2,FALSE)","v":0},{"$f":"'Budget FCFA'!AJ153/VLOOKUP(AJ$2,$BO$127:$BP$138,2,FALSE)","v":0},{"$f":"'Budget FCFA'!AK153/VLOOKUP(AK$2,$BO$127:$BP$138,2,FALSE)","v":0},{"$f":"'Budget FCFA'!AL153/VLOOKUP(AL$2,$BO$127:$BP$138,2,FALSE)","v":0},{"$f":"'Budget FCFA'!AM153/VLOOKUP(AM$2,$BO$127:$BP$138,2,FALSE)","v":0},{"$f":"'Budget FCFA'!AN153/VLOOKUP(AN$2,$BO$127:$BP$138,2,FALSE)","v":0},{"$f":"'Budget FCFA'!AO153/VLOOKUP(AO$2,$BO$127:$BP$138,2,FALSE)","v":0},{"$f":"'Budget FCFA'!AP153/VLOOKUP(AP$2,$BO$127:$BP$138,2,FALSE)","v":0},{"$f":"'Budget FCFA'!#REF!/VLOOKUP(AQ$2,$BO$127:$BP$138,2,FALSE)","v":{"$error":"#REF!"}},{"$f":"'Budget FCFA'!#REF!/VLOOKUP(AR$2,$BO$127:$BP$138,2,FALSE)","v":{"$error":"#REF!"}},{"$f":"'Budget FCFA'!#REF!/VLOOKUP(AS$2,$BO$127:$BP$138,2,FALSE)","v":{"$error":"#REF!"}},{"$f":"'Budget FCFA'!#REF!/VLOOKUP(AT$2,$BO$127:$BP$138,2,FALSE)","v":{"$error":"#REF!"}},{"$f":"'Budget FCFA'!#REF!/VLOOKUP(AU$2,$BO$127:$BP$138,2,FALSE)","v":{"$error":"#REF!"}},{"$f":"'Budget FCFA'!#REF!/VLOOKUP(AV$2,$BO$127:$BP$138,2,FALSE)","v":{"$error":"#REF!"}},{"$f":"'Budget FCFA'!#REF!/VLOOKUP(AW$2,$BO$127:$BP$138,2,FALSE)","v":{"$error":"#REF!"}},{"$f":"'Budget FCFA'!#REF!/VLOOKUP(AX$2,$BO$127:$BP$138,2,FALSE)","v":{"$error":"#REF!"}},{"$f":"'Budget FCFA'!#REF!/VLOOKUP(AY$2,$BO$127:$BP$138,2,FALSE)","v":{"$error":"#REF!"}},{"$f":"'Budget FCFA'!#REF!/VLOOKUP(AZ$2,$BO$127:$BP$138,2,FALSE)","v":{"$error":"#REF!"}},{"$f":"'Budget FCFA'!#REF!/VLOOKUP(BA$2,$BO$127:$BP$138,2,FALSE)","v":{"$error":"#REF!"}},{"$f":"'Budget FCFA'!#REF!/VLOOKUP(BB$2,$BO$127:$BP$138,2,FALSE)","v":{"$error":"#REF!"}},{"$f":"'Budget FCFA'!#REF!/VLOOKUP(BC$2,$BO$127:$BP$138,2,FALSE)","v":{"$error":"#REF!"}},{"$f":"'Budget FCFA'!#REF!/VLOOKUP(BD$2,$BO$127:$BP$138,2,FALSE)","v":{"$error":"#REF!"}},{"$f":"'Budget FCFA'!#REF!/VLOOKUP(BE$2,$BO$127:$BP$138,2,FALSE)","v":{"$error":"#REF!"}},{"$f":"'Budget FCFA'!#REF!/VLOOKUP(BF$2,$BO$127:$BP$138,2,FALSE)","v":{"$error":"#REF!"}},{"$f":"'Budget FCFA'!#REF!/VLOOKUP(BG$2,$BO$127:$BP$138,2,FALSE)","v":{"$error":"#REF!"}},{"$f":"'Budget FCFA'!#REF!/VLOOKUP(BH$2,$BO$127:$BP$138,2,FALSE)","v":{"$error":"#REF!"}},{"$f":"'Budget FCFA'!#REF!/VLOOKUP(BI$2,$BO$127:$BP$138,2,FALSE)","v":{"$error":"#REF!"}},{"$f":"'Budget FCFA'!#REF!/VLOOKUP(BJ$2,$BO$127:$BP$138,2,FALSE)","v":{"$error":"#REF!"}},{"$error":"#REF!"},{"$f":"BK153-'Budget FCFA'!#REF!","v":{"$error":"#REF!"}}]
["PUBTECHN","BRAZZA","Vitrines",{"$f":"'Budget FCFA'!D154/VLOOKUP(D$2,$BO$127:$BP$138,2,FALSE)","v":0},{"$f":"'Budget FCFA'!E154/VLOOKUP(E$2,$BO$127:$BP$138,2,FALSE)","v":0},{"$f":"'Budget FCFA'!F154/VLOOKUP(F$2,$BO$127:$BP$138,2,FALSE)","v":0},{"$f":"'Budget FCFA'!G154/VLOOKUP(G$2,$BO$127:$BP$138,2,FALSE)","v":0},{"$f":"'Budget FCFA'!H154/VLOOKUP(H$2,$BO$127:$BP$138,2,FALSE)","v":0},{"$f":"'Budget FCFA'!I154/VLOOKUP(I$2,$BO$127:$BP$138,2,FALSE)","v":0},{"$f":"'Budget FCFA'!J154/VLOOKUP(J$2,$BO$127:$BP$138,2,FALSE)","v":0},{"$f":"'Budget FCFA'!K154/VLOOKUP(K$2,$BO$127:$BP$138,2,FALSE)","v":0},{"$f":"'Budget FCFA'!L154/VLOOKUP(L$2,$BO$127:$BP$138,2,FALSE)","v":0},{"$f":"'Budget FCFA'!M154/VLOOKUP(M$2,$BO$127:$BP$138,2,FALSE)","v":0},{"$f":"'Budget FCFA'!N154/VLOOKUP(N$2,$BO$127:$BP$138,2,FALSE)","v":0},{"$f":"'Budget FCFA'!O154/VLOOKUP(O$2,$BO$127:$BP$138,2,FALSE)","v":0},{"$f":"'Budget FCFA'!P154/VLOOKUP(P$2,$BO$127:$BP$138,2,FALSE)","v":0},{"$f":"'Budget FCFA'!Q154/VLOOKUP(Q$2,$BO$127:$BP$138,2,FALSE)","v":0},{"$f":"'Budget FCFA'!R154/VLOOKUP(R$2,$BO$127:$BP$138,2,FALSE)","v":0},{"$f":"'Budget FCFA'!S154/VLOOKUP(S$2,$BO$127:$BP$138,2,FALSE)","v":0},{"$f":"'Budget FCFA'!T154/VLOOKUP(T$2,$BO$127:$BP$138,2,FALSE)","v":0},{"$f":"'Budget FCFA'!U154/VLOOKUP(U$2,$BO$127:$BP$138,2,FALSE)","v":0},{"$f":"'Budget FCFA'!V154/VLOOKUP(V$2,$BO$127:$BP$138,2,FALSE)","v":0},{"$f":"'Budget FCFA'!W154/VLOOKUP(W$2,$BO$127:$BP$138,2,FALSE)","v":0},{"$f":"'Budget FCFA'!X154/VLOOKUP(X$2,$BO$127:$BP$138,2,FALSE)","v":0},{"$f":"'Budget FCFA'!Y154/VLOOKUP(Y$2,$BO$127:$BP$138,2,FALSE)","v":0},{"$f":"'Budget FCFA'!Z154/VLOOKUP(Z$2,$BO$127:$BP$138,2,FALSE)","v":0},{"$f":"'Budget FCFA'!AA154/VLOOKUP(AA$2,$BO$127:$BP$138,2,FALSE)","v":0},{"$f":"'Budget FCFA'!AB154/VLOOKUP(AB$2,$BO$127:$BP$138,2,FALSE)","v":0},{"$f":"'Budget FCFA'!AC154/VLOOKUP(AC$2,$BO$127:$BP$138,2,FALSE)","v":0},{"$f":"'Budget FCFA'!AD154/VLOOKUP(AD$2,$BO$127:$BP$138,2,FALSE)","v":0},{"$f":"'Budget FCFA'!AE154/VLOOKUP(AE$2,$BO$127:$BP$138,2,FALSE)","v":0},{"$f":"'Budget FCFA'!AF154/VLOOKUP(AF$2,$BO$127:$BP$138,2,FALSE)","v":0},{"$f":"'Budget FCFA'!AG154/VLOOKUP(AG$2,$BO$127:$BP$138,2,FALSE)","v":0},{"$f":"'Budget FCFA'!AH154/VLOOKUP(AH$2,$BO$127:$BP$138,2,FALSE)","v":0},{"$f":"'Budget FCFA'!AI154/VLOOKUP(AI$2,$BO$127:$BP$138,2,FALSE)","v":0},{"$f":"'Budget FCFA'!AJ154/VLOOKUP(AJ$2,$BO$127:$BP$138,2,FALSE)","v":0},{"$f":"'Budget FCFA'!AK154/VLOOKUP(AK$2,$BO$127:$BP$138,2,FALSE)","v":0},{"$f":"'Budget FCFA'!AL154/VLOOKUP(AL$2,$BO$127:$BP$138,2,FALSE)","v":0},{"$f":"'Budget FCFA'!AM154/VLOOKUP(AM$2,$BO$127:$BP$138,2,FALSE)","v":0},{"$f":"'Budget FCFA'!AN154/VLOOKUP(AN$2,$BO$127:$BP$138,2,FALSE)","v":0},{"$f":"'Budget FCFA'!AO154/VLOOKUP(AO$2,$BO$127:$BP$138,2,FALSE)","v":0},{"$f":"'Budget FCFA'!AP154/VLOOKUP(AP$2,$BO$127:$BP$138,2,FALSE)","v":0},{"$f":"'Budget FCFA'!#REF!/VLOOKUP(AQ$2,$BO$127:$BP$138,2,FALSE)","v":{"$error":"#REF!"}},{"$f":"'Budget FCFA'!#REF!/VLOOKUP(AR$2,$BO$127:$BP$138,2,FALSE)","v":{"$error":"#REF!"}},{"$f":"'Budget FCFA'!#REF!/VLOOKUP(AS$2,$BO$127:$BP$138,2,FALSE)","v":{"$error":"#REF!"}},{"$f":"'Budget FCFA'!#REF!/VLOOKUP(AT$2,$BO$127:$BP$138,2,FALSE)","v":{"$error":"#REF!"}},{"$f":"'Budget FCFA'!#REF!/VLOOKUP(AU$2,$BO$127:$BP$138,2,FALSE)","v":{"$error":"#REF!"}},{"$f":"'Budget FCFA'!#REF!/VLOOKUP(AV$2,$BO$127:$BP$138,2,FALSE)","v":{"$error":"#REF!"}},{"$f":"'Budget FCFA'!#REF!/VLOOKUP(AW$2,$BO$127:$BP$138,2,FALSE)","v":{"$error":"#REF!"}},{"$f":"'Budget FCFA'!#REF!/VLOOKUP(AX$2,$BO$127:$BP$138,2,FALSE)","v":{"$error":"#REF!"}},{"$f":"'Budget FCFA'!#REF!/VLOOKUP(AY$2,$BO$127:$BP$138,2,FALSE)","v":{"$error":"#REF!"}},{"$f":"'Budget FCFA'!#REF!/VLOOKUP(AZ$2,$BO$127:$BP$138,2,FALSE)","v":{"$error":"#REF!"}},{"$f":"'Budget FCFA'!#REF!/VLOOKUP(BA$2,$BO$127:$BP$138,2,FALSE)","v":{"$error":"#REF!"}},{"$f":"'Budget FCFA'!#REF!/VLOOKUP(BB$2,$BO$127:$BP$138,2,FALSE)","v":{"$error":"#REF!"}},{"$f":"'Budget FCFA'!#REF!/VLOOKUP(BC$2,$BO$127:$BP$138,2,FALSE)","v":{"$error":"#REF!"}},{"$f":"'Budget FCFA'!#REF!/VLOOKUP(BD$2,$BO$127:$BP$138,2,FALSE)","v":{"$error":"#REF!"}},{"$f":"'Budget FCFA'!#REF!/VLOOKUP(BE$2,$BO$127:$BP$138,2,FALSE)","v":{"$error":"#REF!"}},{"$f":"'Budget FCFA'!#REF!/VLOOKUP(BF$2,$BO$127:$BP$138,2,FALSE)","v":{"$error":"#REF!"}},{"$f":"'Budget FCFA'!#REF!/VLOOKUP(BG$2,$BO$127:$BP$138,2,FALSE)","v":{"$error":"#REF!"}},{"$f":"'Budget FCFA'!#REF!/VLOOKUP(BH$2,$BO$127:$BP$138,2,FALSE)","v":{"$error":"#REF!"}},{"$f":"'Budget FCFA'!#REF!/VLOOKUP(BI$2,$BO$127:$BP$138,2,FALSE)","v":{"$error":"#REF!"}},{"$f":"'Budget FCFA'!#REF!/VLOOKUP(BJ$2,$BO$127:$BP$138,2,FALSE)","v":{"$error":"#REF!"}},{"$error":"#REF!"},{"$f":"BK154-'Budget FCFA'!#REF!","v":{"$error":"#REF!"}}]
["PUBTECHN","DAKAR","Vitrines",{"$f":"'Budget FCFA'!D155/VLOOKUP(D$2,$BO$127:$BP$138,2,FALSE)","v":0},{"$f":"'Budget FCFA'!E155/VLOOKUP(E$2,$BO$127:$BP$138,2,FALSE)","v":0},{"$f":"'Budget FCFA'!F155/VLOOKUP(F$2,$BO$127:$BP$138,2,FALSE)","v":0},{"$f":"'Budget FCFA'!G155/VLOOKUP(G$2,$BO$127:$BP$138,2,FALSE)","v":0},{"$f":"'Budget FCFA'!H155/VLOOKUP(H$2,$BO$127:$BP$138,2,FALSE)","v":0},{"$f":"'Budget FCFA'!I155/VLOOKUP(I$2,$BO$127:$BP$138,2,FALSE)","v":0},{"$f":"'Budget FCFA'!J155/VLOOKUP(J$2,$BO$127:$BP$138,2,FALSE)","v":0},{"$f":"'Budget FCFA'!K155/VLOOKUP(K$2,$BO$127:$BP$138,2,FALSE)","v":0},{"$f":"'Budget FCFA'!L155/VLOOKUP(L$2,$BO$127:$BP$138,2,FALSE)","v":0},{"$f":"'Budget FCFA'!M155/VLOOKUP(M$2,$BO$127:$BP$138,2,FALSE)","v":0},{"$f":"'Budget FCFA'!N155/VLOOKUP(N$2,$BO$127:$BP$138,2,FALSE)","v":0},{"$f":"'Budget FCFA'!O155/VLOOKUP(O$2,$BO$127:$BP$138,2,FALSE)","v":0},{"$f":"'Budget FCFA'!P155/VLOOKUP(P$2,$BO$127:$BP$138,2,FALSE)","v":0},{"$f":"'Budget FCFA'!Q155/VLOOKUP(Q$2,$BO$127:$BP$138,2,FALSE)","v":0},{"$f":"'Budget FCFA'!R155/VLOOKUP(R$2,$BO$127:$BP$138,2,FALSE)","v":0},{"$f":"'Budget FCFA'!S155/VLOOKUP(S$2,$BO$127:$BP$138,2,FALSE)","v":0},{"$f":"'Budget FCFA'!T155/VLOOKUP(T$2,$BO$127:$BP$138,2,FALSE)","v":0},{"$f":"'Budget FCFA'!U155/VLOOKUP(U$2,$BO$127:$BP$138,2,FALSE)","v":0},{"$f":"'Budget FCFA'!V155/VLOOKUP(V$2,$BO$127:$BP$138,2,FALSE)","v":0},{"$f":"'Budget FCFA'!W155/VLOOKUP(W$2,$BO$127:$BP$138,2,FALSE)","v":0},{"$f":"'Budget FCFA'!X155/VLOOKUP(X$2,$BO$127:$BP$138,2,FALSE)","v":0},{"$f":"'Budget FCFA'!Y155/VLOOKUP(Y$2,$BO$127:$BP$138,2,FALSE)","v":0},{"$f":"'Budget FCFA'!Z155/VLOOKUP(Z$2,$BO$127:$BP$138,2,FALSE)","v":0},{"$f":"'Budget FCFA'!AA155/VLOOKUP(AA$2,$BO$127:$BP$138,2,FALSE)","v":0},{"$f":"'Budget FCFA'!AB155/VLOOKUP(AB$2,$BO$127:$BP$138,2,FALSE)","v":0},{"$f":"'Budget FCFA'!AC155/VLOOKUP(AC$2,$BO$127:$BP$138,2,FALSE)","v":0},{"$f":"'Budget FCFA'!AD155/VLOOKUP(AD$2,$BO$127:$BP$138,2,FALSE)","v":0},{"$f":"'Budget FCFA'!AE155/VLOOKUP(AE$2,$BO$127:$BP$138,2,FALSE)","v":0},{"$f":"'Budget FCFA'!AF155/VLOOKUP(AF$2,$BO$127:$BP$138,2,FALSE)","v":0},{"$f":"'Budget FCFA'!AG155/VLOOKUP(AG$2,$BO$127:$BP$138,2,FALSE)","v":0},{"$f":"'Budget FCFA'!AH155/VLOOKUP(AH$2,$BO$127:$BP$138,2,FALSE)","v":0},{"$f":"'Budget FCFA'!AI155/VLOOKUP(AI$2,$BO$127:$BP$138,2,FALSE)","v":0},{"$f":"'Budget FCFA'!AJ155/VLOOKUP(AJ$2,$BO$127:$BP$138,2,FALSE)","v":0},{"$f":"'Budget FCFA'!AK155/VLOOKUP(AK$2,$BO$127:$BP$138,2,FALSE)","v":0},{"$f":"'Budget FCFA'!AL155/VLOOKUP(AL$2,$BO$127:$BP$138,2,FALSE)","v":0},{"$f":"'Budget FCFA'!AM155/VLOOKUP(AM$2,$BO$127:$BP$138,2,FALSE)","v":0},{"$f":"'Budget FCFA'!AN155/VLOOKUP(AN$2,$BO$127:$BP$138,2,FALSE)","v":0},{"$f":"'Budget FCFA'!AO155/VLOOKUP(AO$2,$BO$127:$BP$138,2,FALSE)","v":0},{"$f":"'Budget FCFA'!AP155/VLOOKUP(AP$2,$BO$127:$BP$138,2,FALSE)","v":0},{"$f":"'Budget FCFA'!#REF!/VLOOKUP(AQ$2,$BO$127:$BP$138,2,FALSE)","v":{"$error":"#REF!"}},{"$f":"'Budget FCFA'!#REF!/VLOOKUP(AR$2,$BO$127:$BP$138,2,FALSE)","v":{"$error":"#REF!"}},{"$f":"'Budget FCFA'!#REF!/VLOOKUP(AS$2,$BO$127:$BP$138,2,FALSE)","v":{"$error":"#REF!"}},{"$f":"'Budget FCFA'!#REF!/VLOOKUP(AT$2,$BO$127:$BP$138,2,FALSE)","v":{"$error":"#REF!"}},{"$f":"'Budget FCFA'!#REF!/VLOOKUP(AU$2,$BO$127:$BP$138,2,FALSE)","v":{"$error":"#REF!"}},{"$f":"'Budget FCFA'!#REF!/VLOOKUP(AV$2,$BO$127:$BP$138,2,FALSE)","v":{"$error":"#REF!"}},{"$f":"'Budget FCFA'!#REF!/VLOOKUP(AW$2,$BO$127:$BP$138,2,FALSE)","v":{"$error":"#REF!"}},{"$f":"'Budget FCFA'!#REF!/VLOOKUP(AX$2,$BO$127:$BP$138,2,FALSE)","v":{"$error":"#REF!"}},{"$f":"'Budget FCFA'!#REF!/VLOOKUP(AY$2,$BO$127:$BP$138,2,FALSE)","v":{"$error":"#REF!"}},{"$f":"'Budget FCFA'!#REF!/VLOOKUP(AZ$2,$BO$127:$BP$138,2,FALSE)","v":{"$error":"#REF!"}},{"$f":"'Budget FCFA'!#REF!/VLOOKUP(BA$2,$BO$127:$BP$138,2,FALSE)","v":{"$error":"#REF!"}},{"$f":"'Budget FCFA'!#REF!/VLOOKUP(BB$2,$BO$127:$BP$138,2,FALSE)","v":{"$error":"#REF!"}},{"$f":"'Budget FCFA'!#REF!/VLOOKUP(BC$2,$BO$127:$BP$138,2,FALSE)","v":{"$error":"#REF!"}},{"$f":"'Budget FCFA'!#REF!/VLOOKUP(BD$2,$BO$127:$BP$138,2,FALSE)","v":{"$error":"#REF!"}},{"$f":"'Budget FCFA'!#REF!/VLOOKUP(BE$2,$BO$127:$BP$138,2,FALSE)","v":{"$error":"#REF!"}},{"$f":"'Budget FCFA'!#REF!/VLOOKUP(BF$2,$BO$127:$BP$138,2,FALSE)","v":{"$error":"#REF!"}},{"$f":"'Budget FCFA'!#REF!/VLOOKUP(BG$2,$BO$127:$BP$138,2,FALSE)","v":{"$error":"#REF!"}},{"$f":"'Budget FCFA'!#REF!/VLOOKUP(BH$2,$BO$127:$BP$138,2,FALSE)","v":{"$error":"#REF!"}},{"$f":"'Budget FCFA'!#REF!/VLOOKUP(BI$2,$BO$127:$BP$138,2,FALSE)","v":{"$error":"#REF!"}},{"$f":"'Budget FCFA'!#REF!/VLOOKUP(BJ$2,$BO$127:$BP$138,2,FALSE)","v":{"$error":"#REF!"}},{"$error":"#REF!"},{"$f":"BK155-'Budget FCFA'!#REF!","v":{"$error":"#REF!"}}]
["PUBTECHN","LIBREVILLE","Vitrines",{"$f":"'Budget FCFA'!D156/VLOOKUP(D$2,$BO$127:$BP$138,2,FALSE)","v":0},{"$f":"'Budget FCFA'!E156/VLOOKUP(E$2,$BO$127:$BP$138,2,FALSE)","v":0},{"$f":"'Budget FCFA'!F156/VLOOKUP(F$2,$BO$127:$BP$138,2,FALSE)","v":0},{"$f":"'Budget FCFA'!G156/VLOOKUP(G$2,$BO$127:$BP$138,2,FALSE)","v":0},{"$f":"'Budget FCFA'!H156/VLOOKUP(H$2,$BO$127:$BP$138,2,FALSE)","v":0},{"$f":"'Budget FCFA'!I156/VLOOKUP(I$2,$BO$127:$BP$138,2,FALSE)","v":0},{"$f":"'Budget FCFA'!J156/VLOOKUP(J$2,$BO$127:$BP$138,2,FALSE)","v":0},{"$f":"'Budget FCFA'!K156/VLOOKUP(K$2,$BO$127:$BP$138,2,FALSE)","v":0},{"$f":"'Budget FCFA'!L156/VLOOKUP(L$2,$BO$127:$BP$138,2,FALSE)","v":0},{"$f":"'Budget FCFA'!M156/VLOOKUP(M$2,$BO$127:$BP$138,2,FALSE)","v":0},{"$f":"'Budget FCFA'!N156/VLOOKUP(N$2,$BO$127:$BP$138,2,FALSE)","v":0},{"$f":"'Budget FCFA'!O156/VLOOKUP(O$2,$BO$127:$BP$138,2,FALSE)","v":0},{"$f":"'Budget FCFA'!P156/VLOOKUP(P$2,$BO$127:$BP$138,2,FALSE)","v":0},{"$f":"'Budget FCFA'!Q156/VLOOKUP(Q$2,$BO$127:$BP$138,2,FALSE)","v":0},{"$f":"'Budget FCFA'!R156/VLOOKUP(R$2,$BO$127:$BP$138,2,FALSE)","v":0},{"$f":"'Budget FCFA'!S156/VLOOKUP(S$2,$BO$127:$BP$138,2,FALSE)","v":0},{"$f":"'Budget FCFA'!T156/VLOOKUP(T$2,$BO$127:$BP$138,2,FALSE)","v":0},{"$f":"'Budget FCFA'!U156/VLOOKUP(U$2,$BO$127:$BP$138,2,FALSE)","v":0},{"$f":"'Budget FCFA'!V156/VLOOKUP(V$2,$BO$127:$BP$138,2,FALSE)","v":0},{"$f":"'Budget FCFA'!W156/VLOOKUP(W$2,$BO$127:$BP$138,2,FALSE)","v":0},{"$f":"'Budget FCFA'!X156/VLOOKUP(X$2,$BO$127:$BP$138,2,FALSE)","v":0},{"$f":"'Budget FCFA'!Y156/VLOOKUP(Y$2,$BO$127:$BP$138,2,FALSE)","v":0},{"$f":"'Budget FCFA'!Z156/VLOOKUP(Z$2,$BO$127:$BP$138,2,FALSE)","v":0},{"$f":"'Budget FCFA'!AA156/VLOOKUP(AA$2,$BO$127:$BP$138,2,FALSE)","v":0},{"$f":"'Budget FCFA'!AB156/VLOOKUP(AB$2,$BO$127:$BP$138,2,FALSE)","v":0},{"$f":"'Budget FCFA'!AC156/VLOOKUP(AC$2,$BO$127:$BP$138,2,FALSE)","v":0},{"$f":"'Budget FCFA'!AD156/VLOOKUP(AD$2,$BO$127:$BP$138,2,FALSE)","v":0},{"$f":"'Budget FCFA'!AE156/VLOOKUP(AE$2,$BO$127:$BP$138,2,FALSE)","v":0},{"$f":"'Budget FCFA'!AF156/VLOOKUP(AF$2,$BO$127:$BP$138,2,FALSE)","v":0},{"$f":"'Budget FCFA'!AG156/VLOOKUP(AG$2,$BO$127:$BP$138,2,FALSE)","v":0},{"$f":"'Budget FCFA'!AH156/VLOOKUP(AH$2,$BO$127:$BP$138,2,FALSE)","v":0},{"$f":"'Budget FCFA'!AI156/VLOOKUP(AI$2,$BO$127:$BP$138,2,FALSE)","v":0},{"$f":"'Budget FCFA'!AJ156/VLOOKUP(AJ$2,$BO$127:$BP$138,2,FALSE)","v":0},{"$f":"'Budget FCFA'!AK156/VLOOKUP(AK$2,$BO$127:$BP$138,2,FALSE)","v":0},{"$f":"'Budget FCFA'!AL156/VLOOKUP(AL$2,$BO$127:$BP$138,2,FALSE)","v":0},{"$f":"'Budget FCFA'!AM156/VLOOKUP(AM$2,$BO$127:$BP$138,2,FALSE)","v":0},{"$f":"'Budget FCFA'!AN156/VLOOKUP(AN$2,$BO$127:$BP$138,2,FALSE)","v":0},{"$f":"'Budget FCFA'!AO156/VLOOKUP(AO$2,$BO$127:$BP$138,2,FALSE)","v":0},{"$f":"'Budget FCFA'!AP156/VLOOKUP(AP$2,$BO$127:$BP$138,2,FALSE)","v":0},{"$f":"'Budget FCFA'!#REF!/VLOOKUP(AQ$2,$BO$127:$BP$138,2,FALSE)","v":{"$error":"#REF!"}},{"$f":"'Budget FCFA'!#REF!/VLOOKUP(AR$2,$BO$127:$BP$138,2,FALSE)","v":{"$error":"#REF!"}},{"$f":"'Budget FCFA'!#REF!/VLOOKUP(AS$2,$BO$127:$BP$138,2,FALSE)","v":{"$error":"#REF!"}},{"$f":"'Budget FCFA'!#REF!/VLOOKUP(AT$2,$BO$127:$BP$138,2,FALSE)","v":{"$error":"#REF!"}},{"$f":"'Budget FCFA'!#REF!/VLOOKUP(AU$2,$BO$127:$BP$138,2,FALSE)","v":{"$error":"#REF!"}},{"$f":"'Budget FCFA'!#REF!/VLOOKUP(AV$2,$BO$127:$BP$138,2,FALSE)","v":{"$error":"#REF!"}},{"$f":"'Budget FCFA'!#REF!/VLOOKUP(AW$2,$BO$127:$BP$138,2,FALSE)","v":{"$error":"#REF!"}},{"$f":"'Budget FCFA'!#REF!/VLOOKUP(AX$2,$BO$127:$BP$138,2,FALSE)","v":{"$error":"#REF!"}},{"$f":"'Budget FCFA'!#REF!/VLOOKUP(AY$2,$BO$127:$BP$138,2,FALSE)","v":{"$error":"#REF!"}},{"$f":"'Budget FCFA'!#REF!/VLOOKUP(AZ$2,$BO$127:$BP$138,2,FALSE)","v":{"$error":"#REF!"}},{"$f":"'Budget FCFA'!#REF!/VLOOKUP(BA$2,$BO$127:$BP$138,2,FALSE)","v":{"$error":"#REF!"}},{"$f":"'Budget FCFA'!#REF!/VLOOKUP(BB$2,$BO$127:$BP$138,2,FALSE)","v":{"$error":"#REF!"}},{"$f":"'Budget FCFA'!#REF!/VLOOKUP(BC$2,$BO$127:$BP$138,2,FALSE)","v":{"$error":"#REF!"}},{"$f":"'Budget FCFA'!#REF!/VLOOKUP(BD$2,$BO$127:$BP$138,2,FALSE)","v":{"$error":"#REF!"}},{"$f":"'Budget FCFA'!#REF!/VLOOKUP(BE$2,$BO$127:$BP$138,2,FALSE)","v":{"$error":"#REF!"}},{"$f":"'Budget FCFA'!#REF!/VLOOKUP(BF$2,$BO$127:$BP$138,2,FALSE)","v":{"$error":"#REF!"}},{"$f":"'Budget FCFA'!#REF!/VLOOKUP(BG$2,$BO$127:$BP$138,2,FALSE)","v":{"$error":"#REF!"}},{"$f":"'Budget FCFA'!#REF!/VLOOKUP(BH$2,$BO$127:$BP$138,2,FALSE)","v":{"$error":"#REF!"}},{"$f":"'Budget FCFA'!#REF!/VLOOKUP(BI$2,$BO$127:$BP$138,2,FALSE)","v":{"$error":"#REF!"}},{"$f":"'Budget FCFA'!#REF!/VLOOKUP(BJ$2,$BO$127:$BP$138,2,FALSE)","v":{"$error":"#REF!"}},{"$error":"#REF!"},{"$f":"BK156-'Budget FCFA'!#REF!","v":{"$error":"#REF!"}}]
["PUBTECHN","DOUALA","Vitrines",{"$f":"'Budget FCFA'!D157/VLOOKUP(D$2,$BO$127:$BP$138,2,FALSE)","v":0},{"$f":"'Budget FCFA'!E157/VLOOKUP(E$2,$BO$127:$BP$138,2,FALSE)","v":0},{"$f":"'Budget FCFA'!F157/VLOOKUP(F$2,$BO$127:$BP$138,2,FALSE)","v":0},{"$f":"'Budget FCFA'!G157/VLOOKUP(G$2,$BO$127:$BP$138,2,FALSE)","v":0},{"$f":"'Budget FCFA'!H157/VLOOKUP(H$2,$BO$127:$BP$138,2,FALSE)","v":0},{"$f":"'Budget FCFA'!I157/VLOOKUP(I$2,$BO$127:$BP$138,2,FALSE)","v":0},{"$f":"'Budget FCFA'!J157/VLOOKUP(J$2,$BO$127:$BP$138,2,FALSE)","v":0},{"$f":"'Budget FCFA'!K157/VLOOKUP(K$2,$BO$127:$BP$138,2,FALSE)","v":0},{"$f":"'Budget FCFA'!L157/VLOOKUP(L$2,$BO$127:$BP$138,2,FALSE)","v":0},{"$f":"'Budget FCFA'!M157/VLOOKUP(M$2,$BO$127:$BP$138,2,FALSE)","v":0},{"$f":"'Budget FCFA'!N157/VLOOKUP(N$2,$BO$127:$BP$138,2,FALSE)","v":0},{"$f":"'Budget FCFA'!O157/VLOOKUP(O$2,$BO$127:$BP$138,2,FALSE)","v":0},{"$f":"'Budget FCFA'!P157/VLOOKUP(P$2,$BO$127:$BP$138,2,FALSE)","v":0},{"$f":"'Budget FCFA'!Q157/VLOOKUP(Q$2,$BO$127:$BP$138,2,FALSE)","v":0},{"$f":"'Budget FCFA'!R157/VLOOKUP(R$2,$BO$127:$BP$138,2,FALSE)","v":0},{"$f":"'Budget FCFA'!S157/VLOOKUP(S$2,$BO$127:$BP$138,2,FALSE)","v":0},{"$f":"'Budget FCFA'!T157/VLOOKUP(T$2,$BO$127:$BP$138,2,FALSE)","v":0},{"$f":"'Budget FCFA'!U157/VLOOKUP(U$2,$BO$127:$BP$138,2,FALSE)","v":0},{"$f":"'Budget FCFA'!V157/VLOOKUP(V$2,$BO$127:$BP$138,2,FALSE)","v":0},{"$f":"'Budget FCFA'!W157/VLOOKUP(W$2,$BO$127:$BP$138,2,FALSE)","v":0},{"$f":"'Budget FCFA'!X157/VLOOKUP(X$2,$BO$127:$BP$138,2,FALSE)","v":0},{"$f":"'Budget FCFA'!Y157/VLOOKUP(Y$2,$BO$127:$BP$138,2,FALSE)","v":0},{"$f":"'Budget FCFA'!Z157/VLOOKUP(Z$2,$BO$127:$BP$138,2,FALSE)","v":0},{"$f":"'Budget FCFA'!AA157/VLOOKUP(AA$2,$BO$127:$BP$138,2,FALSE)","v":0},{"$f":"'Budget FCFA'!AB157/VLOOKUP(AB$2,$BO$127:$BP$138,2,FALSE)","v":0},{"$f":"'Budget FCFA'!AC157/VLOOKUP(AC$2,$BO$127:$BP$138,2,FALSE)","v":0},{"$f":"'Budget FCFA'!AD157/VLOOKUP(AD$2,$BO$127:$BP$138,2,FALSE)","v":0},{"$f":"'Budget FCFA'!AE157/VLOOKUP(AE$2,$BO$127:$BP$138,2,FALSE)","v":0},{"$f":"'Budget FCFA'!AF157/VLOOKUP(AF$2,$BO$127:$BP$138,2,FALSE)","v":0},{"$f":"'Budget FCFA'!AG157/VLOOKUP(AG$2,$BO$127:$BP$138,2,FALSE)","v":0},{"$f":"'Budget FCFA'!AH157/VLOOKUP(AH$2,$BO$127:$BP$138,2,FALSE)","v":0},{"$f":"'Budget FCFA'!AI157/VLOOKUP(AI$2,$BO$127:$BP$138,2,FALSE)","v":0},{"$f":"'Budget FCFA'!AJ157/VLOOKUP(AJ$2,$BO$127:$BP$138,2,FALSE)","v":0},{"$f":"'Budget FCFA'!AK157/VLOOKUP(AK$2,$BO$127:$BP$138,2,FALSE)","v":0},{"$f":"'Budget FCFA'!AL157/VLOOKUP(AL$2,$BO$127:$BP$138,2,FALSE)","v":0},{"$f":"'Budget FCFA'!AM157/VLOOKUP(AM$2,$BO$127:$BP$138,2,FALSE)","v":0},{"$f":"'Budget FCFA'!AN157/VLOOKUP(AN$2,$BO$127:$BP$138,2,FALSE)","v":0},{"$f":"'Budget FCFA'!AO157/VLOOKUP(AO$2,$BO$127:$BP$138,2,FALSE)","v":0},{"$f":"'Budget FCFA'!AP157/VLOOKUP(AP$2,$BO$127:$BP$138,2,FALSE)","v":0},{"$f":"'Budget FCFA'!#REF!/VLOOKUP(AQ$2,$BO$127:$BP$138,2,FALSE)","v":{"$error":"#REF!"}},{"$f":"'Budget FCFA'!#REF!/VLOOKUP(AR$2,$BO$127:$BP$138,2,FALSE)","v":{"$error":"#REF!"}},{"$f":"'Budget FCFA'!#REF!/VLOOKUP(AS$2,$BO$127:$BP$138,2,FALSE)","v":{"$error":"#REF!"}},{"$f":"'Budget FCFA'!#REF!/VLOOKUP(AT$2,$BO$127:$BP$138,2,FALSE)","v":{"$error":"#REF!"}},{"$f":"'Budget FCFA'!#REF!/VLOOKUP(AU$2,$BO$127:$BP$138,2,FALSE)","v":{"$error":"#REF!"}},{"$f":"'Budget FCFA'!#REF!/VLOOKUP(AV$2,$BO$127:$BP$138,2,FALSE)","v":{"$error":"#REF!"}},{"$f":"'Budget FCFA'!#REF!/VLOOKUP(AW$2,$BO$127:$BP$138,2,FALSE)","v":{"$error":"#REF!"}},{"$f":"'Budget FCFA'!#REF!/VLOOKUP(AX$2,$BO$127:$BP$138,2,FALSE)","v":{"$error":"#REF!"}},{"$f":"'Budget FCFA'!#REF!/VLOOKUP(AY$2,$BO$127:$BP$138,2,FALSE)","v":{"$error":"#REF!"}},{"$f":"'Budget FCFA'!#REF!/VLOOKUP(AZ$2,$BO$127:$BP$138,2,FALSE)","v":{"$error":"#REF!"}},{"$f":"'Budget FCFA'!#REF!/VLOOKUP(BA$2,$BO$127:$BP$138,2,FALSE)","v":{"$error":"#REF!"}},{"$f":"'Budget FCFA'!#REF!/VLOOKUP(BB$2,$BO$127:$BP$138,2,FALSE)","v":{"$error":"#REF!"}},{"$f":"'Budget FCFA'!#REF!/VLOOKUP(BC$2,$BO$127:$BP$138,2,FALSE)","v":{"$error":"#REF!"}},{"$f":"'Budget FCFA'!#REF!/VLOOKUP(BD$2,$BO$127:$BP$138,2,FALSE)","v":{"$error":"#REF!"}},{"$f":"'Budget FCFA'!#REF!/VLOOKUP(BE$2,$BO$127:$BP$138,2,FALSE)","v":{"$error":"#REF!"}},{"$f":"'Budget FCFA'!#REF!/VLOOKUP(BF$2,$BO$127:$BP$138,2,FALSE)","v":{"$error":"#REF!"}},{"$f":"'Budget FCFA'!#REF!/VLOOKUP(BG$2,$BO$127:$BP$138,2,FALSE)","v":{"$error":"#REF!"}},{"$f":"'Budget FCFA'!#REF!/VLOOKUP(BH$2,$BO$127:$BP$138,2,FALSE)","v":{"$error":"#REF!"}},{"$f":"'Budget FCFA'!#REF!/VLOOKUP(BI$2,$BO$127:$BP$138,2,FALSE)","v":{"$error":"#REF!"}},{"$f":"'Budget FCFA'!#REF!/VLOOKUP(BJ$2,$BO$127:$BP$138,2,FALSE)","v":{"$error":"#REF!"}},{"$error":"#REF!"},{"$f":"BK157-'Budget FCFA'!#REF!","v":{"$error":"#REF!"}},null,null,"REALISABLE","ABIDJAN","BRAZZA","DAKAR","LIBREVILLE","ABIDJAN 2","DOUALA","TOTAL"]
["PUBTECHN","TOTAL","Total vitrines",{"$f":"'Budget FCFA'!D158/VLOOKUP(D$2,$BO$127:$BP$138,2,FALSE)","v":0},{"$f":"'Budget FCFA'!E158/VLOOKUP(E$2,$BO$127:$BP$138,2,FALSE)","v":0},{"$f":"'Budget FCFA'!F158/VLOOKUP(F$2,$BO$127:$BP$138,2,FALSE)","v":0},{"$f":"'Budget FCFA'!G158/VLOOKUP(G$2,$BO$127:$BP$138,2,FALSE)","v":0},{"$f":"'Budget FCFA'!H158/VLOOKUP(H$2,$BO$127:$BP$138,2,FALSE)","v":0},{"$f":"'Budget FCFA'!I158/VLOOKUP(I$2,$BO$127:$BP$138,2,FALSE)","v":0},{"$f":"'Budget FCFA'!J158/VLOOKUP(J$2,$BO$127:$BP$138,2,FALSE)","v":0},{"$f":"'Budget FCFA'!K158/VLOOKUP(K$2,$BO$127:$BP$138,2,FALSE)","v":0},{"$f":"'Budget FCFA'!L158/VLOOKUP(L$2,$BO$127:$BP$138,2,FALSE)","v":0},{"$f":"'Budget FCFA'!M158/VLOOKUP(M$2,$BO$127:$BP$138,2,FALSE)","v":0},{"$f":"'Budget FCFA'!N158/VLOOKUP(N$2,$BO$127:$BP$138,2,FALSE)","v":0},{"$f":"'Budget FCFA'!O158/VLOOKUP(O$2,$BO$127:$BP$138,2,FALSE)","v":0},{"$f":"'Budget FCFA'!P158/VLOOKUP(P$2,$BO$127:$BP$138,2,FALSE)","v":0},{"$f":"'Budget FCFA'!Q158/VLOOKUP(Q$2,$BO$127:$BP$138,2,FALSE)","v":0},{"$f":"'Budget FCFA'!R158/VLOOKUP(R$2,$BO$127:$BP$138,2,FALSE)","v":0},{"$f":"'Budget FCFA'!S158/VLOOKUP(S$2,$BO$127:$BP$138,2,FALSE)","v":0},{"$f":"'Budget FCFA'!T158/VLOOKUP(T$2,$BO$127:$BP$138,2,FALSE)","v":0},{"$f":"'Budget FCFA'!U158/VLOOKUP(U$2,$BO$127:$BP$138,2,FALSE)","v":0},{"$f":"'Budget FCFA'!V158/VLOOKUP(V$2,$BO$127:$BP$138,2,FALSE)","v":0},{"$f":"'Budget FCFA'!W158/VLOOKUP(W$2,$BO$127:$BP$138,2,FALSE)","v":0},{"$f":"'Budget FCFA'!X158/VLOOKUP(X$2,$BO$127:$BP$138,2,FALSE)","v":0},{"$f":"'Budget FCFA'!Y158/VLOOKUP(Y$2,$BO$127:$BP$138,2,FALSE)","v":0},{"$f":"'Budget FCFA'!Z158/VLOOKUP(Z$2,$BO$127:$BP$138,2,FALSE)","v":0},{"$f":"'Budget FCFA'!AA158/VLOOKUP(AA$2,$BO$127:$BP$138,2,FALSE)","v":0},{"$f":"'Budget FCFA'!AB158/VLOOKUP(AB$2,$BO$127:$BP$138,2,FALSE)","v":0},{"$f":"'Budget FCFA'!AC158/VLOOKUP(AC$2,$BO$127:$BP$138,2,FALSE)","v":0},{"$f":"'Budget FCFA'!AD158/VLOOKUP(AD$2,$BO$127:$BP$138,2,FALSE)","v":0},{"$f":"'Budget FCFA'!AE158/VLOOKUP(AE$2,$BO$127:$BP$138,2,FALSE)","v":0},{"$f":"'Budget FCFA'!AF158/VLOOKUP(AF$2,$BO$127:$BP$138,2,FALSE)","v":0},{"$f":"'Budget FCFA'!AG158/VLOOKUP(AG$2,$BO$127:$BP$138,2,FALSE)","v":0},{"$f":"'Budget FCFA'!AH158/VLOOKUP(AH$2,$BO$127:$BP$138,2,FALSE)","v":0},{"$f":"'Budget FCFA'!AI158/VLOOKUP(AI$2,$BO$127:$BP$138,2,FALSE)","v":0},{"$f":"'Budget FCFA'!AJ158/VLOOKUP(AJ$2,$BO$127:$BP$138,2,FALSE)","v":0},{"$f":"'Budget FCFA'!AK158/VLOOKUP(AK$2,$BO$127:$BP$138,2,FALSE)","v":0},{"$f":"'Budget FCFA'!AL158/VLOOKUP(AL$2,$BO$127:$BP$138,2,FALSE)","v":0},{"$f":"'Budget FCFA'!AM158/VLOOKUP(AM$2,$BO$127:$BP$138,2,FALSE)","v":0},{"$f":"'Budget FCFA'!AN158/VLOOKUP(AN$2,$BO$127:$BP$138,2,FALSE)","v":0},{"$f":"'Budget FCFA'!AO158/VLOOKUP(AO$2,$BO$127:$BP$138,2,FALSE)","v":0},{"$f":"'Budget FCFA'!AP158/VLOOKUP(AP$2,$BO$127:$BP$138,2,FALSE)","v":0},{"$f":"'Budget FCFA'!#REF!/VLOOKUP(AQ$2,$BO$127:$BP$138,2,FALSE)","v":{"$error":"#REF!"}},{"$f":"'Budget FCFA'!#REF!/VLOOKUP(AR$2,$BO$127:$BP$138,2,FALSE)","v":{"$error":"#REF!"}},{"$f":"'Budget FCFA'!#REF!/VLOOKUP(AS$2,$BO$127:$BP$138,2,FALSE)","v":{"$error":"#REF!"}},{"$f":"'Budget FCFA'!#REF!/VLOOKUP(AT$2,$BO$127:$BP$138,2,FALSE)","v":{"$error":"#REF!"}},{"$f":"'Budget FCFA'!#REF!/VLOOKUP(AU$2,$BO$127:$BP$138,2,FALSE)","v":{"$error":"#REF!"}},{"$f":"'Budget FCFA'!#REF!/VLOOKUP(AV$2,$BO$127:$BP$138,2,FALSE)","v":{"$error":"#REF!"}},{"$f":"'Budget FCFA'!#REF!/VLOOKUP(AW$2,$BO$127:$BP$138,2,FALSE)","v":{"$error":"#REF!"}},{"$f":"'Budget FCFA'!#REF!/VLOOKUP(AX$2,$BO$127:$BP$138,2,FALSE)","v":{"$error":"#REF!"}},{"$f":"'Budget FCFA'!#REF!/VLOOKUP(AY$2,$BO$127:$BP$138,2,FALSE)","v":{"$error":"#REF!"}},{"$f":"'Budget FCFA'!#REF!/VLOOKUP(AZ$2,$BO$127:$BP$138,2,FALSE)","v":{"$error":"#REF!"}},{"$f":"'Budget FCFA'!#REF!/VLOOKUP(BA$2,$BO$127:$BP$138,2,FALSE)","v":{"$error":"#REF!"}},{"$f":"'Budget FCFA'!#REF!/VLOOKUP(BB$2,$BO$127:$BP$138,2,FALSE)","v":{"$error":"#REF!"}},{"$f":"'Budget FCFA'!#REF!/VLOOKUP(BC$2,$BO$127:$BP$138,2,FALSE)","v":{"$error":"#REF!"}},{"$f":"'Budget FCFA'!#REF!/VLOOKUP(BD$2,$BO$127:$BP$138,2,FALSE)","v":{"$error":"#REF!"}},{"$f":"'Budget FCFA'!#REF!/VLOOKUP(BE$2,$BO$127:$BP$138,2,FALSE)","v":{"$error":"#REF!"}},{"$f":"'Budget FCFA'!#REF!/VLOOKUP(BF$2,$BO$127:$BP$138,2,FALSE)","v":{"$error":"#REF!"}},{"$f":"'Budget FCFA'!#REF!/VLOOKUP(BG$2,$BO$127:$BP$138,2,FALSE)","v":{"$error":"#REF!"}},{"$f":"'Budget FCFA'!#REF!/VLOOKUP(BH$2,$BO$127:$BP$138,2,FALSE)","v":{"$error":"#REF!"}},{"$f":"'Budget FCFA'!#REF!/VLOOKUP(BI$2,$BO$127:$BP$138,2,FALSE)","v":{"$error":"#REF!"}},{"$f":"'Budget FCFA'!#REF!/VLOOKUP(BJ$2,$BO$127:$BP$138,2,FALSE)","v":{"$error":"#REF!"}},{"$error":"#REF!"},{"$f":"BK158-'Budget FCFA'!#REF!","v":{"$error":"#REF!"}},null,null,"FEVRIER",{"$f":"'Budget FCFA'!#REF!/VLOOKUP($BO158,$BO$127:$BP$138,2,FALSE)","v":{"$error":"#REF!"}},{"$f":"'Budget FCFA'!#REF!/VLOOKUP($BO158,$BO$127:$BP$138,2,FALSE)","v":{"$error":"#REF!"}},{"$f":"'Budget FCFA'!#REF!/VLOOKUP($BO158,$BO$127:$BP$138,2,FALSE)","v":{"$error":"#REF!"}},{"$f":"'Budget FCFA'!#REF!/VLOOKUP($BO158,$BO$127:$BP$138,2,FALSE)","v":{"$error":"#REF!"}},{"$f":"'Budget FCFA'!#REF!/VLOOKUP($BO158,$BO$127:$BP$138,2,FALSE)","v":{"$error":"#REF!"}},{"$f":"'Budget FCFA'!#REF!/VLOOKUP($BO158,$BO$127:$BP$138,2,FALSE)","v":{"$error":"#REF!"}},{"$f":"SUM(BP158:BS158)","v":{"$error":"#REF!"}}]
["PUBTECHN","ABIDJAN","Théatralisation & PLV fabriquées par la France (nodhos)",{"$f":"'Budget FCFA'!D159/VLOOKUP(D$2,$BO$127:$BP$138,2,FALSE)","v":0},{"$f":"'Budget FCFA'!E159/VLOOKUP(E$2,$BO$127:$BP$138,2,FALSE)","v":0},{"$f":"'Budget FCFA'!F159/VLOOKUP(F$2,$BO$127:$BP$138,2,FALSE)","v":0},{"$f":"'Budget FCFA'!G159/VLOOKUP(G$2,$BO$127:$BP$138,2,FALSE)","v":0},{"$f":"'Budget FCFA'!H159/VLOOKUP(H$2,$BO$127:$BP$138,2,FALSE)","v":0},{"$f":"'Budget FCFA'!I159/VLOOKUP(I$2,$BO$127:$BP$138,2,FALSE)","v":0},{"$f":"'Budget FCFA'!J159/VLOOKUP(J$2,$BO$127:$BP$138,2,FALSE)","v":0},{"$f":"'Budget FCFA'!K159/VLOOKUP(K$2,$BO$127:$BP$138,2,FALSE)","v":0},{"$f":"'Budget FCFA'!L159/VLOOKUP(L$2,$BO$127:$BP$138,2,FALSE)","v":0},{"$f":"'Budget FCFA'!M159/VLOOKUP(M$2,$BO$127:$BP$138,2,FALSE)","v":0},{"$f":"'Budget FCFA'!N159/VLOOKUP(N$2,$BO$127:$BP$138,2,FALSE)","v":0},{"$f":"'Budget FCFA'!O159/VLOOKUP(O$2,$BO$127:$BP$138,2,FALSE)","v":0},{"$f":"'Budget FCFA'!P159/VLOOKUP(P$2,$BO$127:$BP$138,2,FALSE)","v":0},{"$f":"'Budget FCFA'!Q159/VLOOKUP(Q$2,$BO$127:$BP$138,2,FALSE)","v":0},{"$f":"'Budget FCFA'!R159/VLOOKUP(R$2,$BO$127:$BP$138,2,FALSE)","v":0},{"$f":"'Budget FCFA'!S159/VLOOKUP(S$2,$BO$127:$BP$138,2,FALSE)","v":0},{"$f":"'Budget FCFA'!T159/VLOOKUP(T$2,$BO$127:$BP$138,2,FALSE)","v":0},{"$f":"'Budget FCFA'!U159/VLOOKUP(U$2,$BO$127:$BP$138,2,FALSE)","v":0},{"$f":"'Budget FCFA'!V159/VLOOKUP(V$2,$BO$127:$BP$138,2,FALSE)","v":0},{"$f":"'Budget FCFA'!W159/VLOOKUP(W$2,$BO$127:$BP$138,2,FALSE)","v":0},{"$f":"'Budget FCFA'!X159/VLOOKUP(X$2,$BO$127:$BP$138,2,FALSE)","v":0},{"$f":"'Budget FCFA'!Y159/VLOOKUP(Y$2,$BO$127:$BP$138,2,FALSE)","v":0},{"$f":"'Budget FCFA'!Z159/VLOOKUP(Z$2,$BO$127:$BP$138,2,FALSE)","v":0},{"$f":"'Budget FCFA'!AA159/VLOOKUP(AA$2,$BO$127:$BP$138,2,FALSE)","v":0},{"$f":"'Budget FCFA'!AB159/VLOOKUP(AB$2,$BO$127:$BP$138,2,FALSE)","v":0},{"$f":"'Budget FCFA'!AC159/VLOOKUP(AC$2,$BO$127:$BP$138,2,FALSE)","v":0},{"$f":"'Budget FCFA'!AD159/VLOOKUP(AD$2,$BO$127:$BP$138,2,FALSE)","v":0},{"$f":"'Budget FCFA'!AE159/VLOOKUP(AE$2,$BO$127:$BP$138,2,FALSE)","v":0},{"$f":"'Budget FCFA'!AF159/VLOOKUP(AF$2,$BO$127:$BP$138,2,FALSE)","v":0},{"$f":"'Budget FCFA'!AG159/VLOOKUP(AG$2,$BO$127:$BP$138,2,FALSE)","v":0},{"$f":"'Budget FCFA'!AH159/VLOOKUP(AH$2,$BO$127:$BP$138,2,FALSE)","v":0},{"$f":"'Budget FCFA'!AI159/VLOOKUP(AI$2,$BO$127:$BP$138,2,FALSE)","v":0},{"$f":"'Budget FCFA'!AJ159/VLOOKUP(AJ$2,$BO$127:$BP$138,2,FALSE)","v":0},{"$f":"'Budget FCFA'!AK159/VLOOKUP(AK$2,$BO$127:$BP$138,2,FALSE)","v":0},{"$f":"'Budget FCFA'!AL159/VLOOKUP(AL$2,$BO$127:$BP$138,2,FALSE)","v":0},{"$f":"'Budget FCFA'!AM159/VLOOKUP(AM$2,$BO$127:$BP$138,2,FALSE)","v":0},{"$f":"'Budget FCFA'!AN159/VLOOKUP(AN$2,$BO$127:$BP$138,2,FALSE)","v":0},{"$f":"'Budget FCFA'!AO159/VLOOKUP(AO$2,$BO$127:$BP$138,2,FALSE)","v":0},{"$f":"'Budget FCFA'!AP159/VLOOKUP(AP$2,$BO$127:$BP$138,2,FALSE)","v":0},{"$f":"'Budget FCFA'!#REF!/VLOOKUP(AQ$2,$BO$127:$BP$138,2,FALSE)","v":{"$error":"#REF!"}},{"$f":"'Budget FCFA'!#REF!/VLOOKUP(AR$2,$BO$127:$BP$138,2,FALSE)","v":{"$error":"#REF!"}},{"$f":"'Budget FCFA'!#REF!/VLOOKUP(AS$2,$BO$127:$BP$138,2,FALSE)","v":{"$error":"#REF!"}},{"$f":"'Budget FCFA'!#REF!/VLOOKUP(AT$2,$BO$127:$BP$138,2,FALSE)","v":{"$error":"#REF!"}},{"$f":"'Budget FCFA'!#REF!/VLOOKUP(AU$2,$BO$127:$BP$138,2,FALSE)","v":{"$error":"#REF!"}},{"$f":"'Budget FCFA'!#REF!/VLOOKUP(AV$2,$BO$127:$BP$138,2,FALSE)","v":{"$error":"#REF!"}},{"$f":"'Budget FCFA'!#REF!/VLOOKUP(AW$2,$BO$127:$BP$138,2,FALSE)","v":{"$error":"#REF!"}},{"$f":"'Budget FCFA'!#REF!/VLOOKUP(AX$2,$BO$127:$BP$138,2,FALSE)","v":{"$error":"#REF!"}},{"$f":"'Budget FCFA'!#REF!/VLOOKUP(AY$2,$BO$127:$BP$138,2,FALSE)","v":{"$error":"#REF!"}},{"$f":"'Budget FCFA'!#REF!/VLOOKUP(AZ$2,$BO$127:$BP$138,2,FALSE)","v":{"$error":"#REF!"}},{"$f":"'Budget FCFA'!#REF!/VLOOKUP(BA$2,$BO$127:$BP$138,2,FALSE)","v":{"$error":"#REF!"}},{"$f":"'Budget FCFA'!#REF!/VLOOKUP(BB$2,$BO$127:$BP$138,2,FALSE)","v":{"$error":"#REF!"}},{"$f":"'Budget FCFA'!#REF!/VLOOKUP(BC$2,$BO$127:$BP$138,2,FALSE)","v":{"$error":"#REF!"}},{"$f":"'Budget FCFA'!#REF!/VLOOKUP(BD$2,$BO$127:$BP$138,2,FALSE)","v":{"$error":"#REF!"}},{"$f":"'Budget FCFA'!#REF!/VLOOKUP(BE$2,$BO$127:$BP$138,2,FALSE)","v":{"$error":"#REF!"}},{"$f":"'Budget FCFA'!#REF!/VLOOKUP(BF$2,$BO$127:$BP$138,2,FALSE)","v":{"$error":"#REF!"}},{"$f":"'Budget FCFA'!#REF!/VLOOKUP(BG$2,$BO$127:$BP$138,2,FALSE)","v":{"$error":"#REF!"}},{"$f":"'Budget FCFA'!#REF!/VLOOKUP(BH$2,$BO$127:$BP$138,2,FALSE)","v":{"$error":"#REF!"}},{"$f":"'Budget FCFA'!#REF!/VLOOKUP(BI$2,$BO$127:$BP$138,2,FALSE)","v":{"$error":"#REF!"}},{"$f":"'Budget FCFA'!#REF!/VLOOKUP(BJ$2,$BO$127:$BP$138,2,FALSE)","v":{"$error":"#REF!"}},{"$error":"#REF!"},{"$f":"BK159-'Budget FCFA'!#REF!","v":{"$error":"#REF!"}},null,null,"MARS",{"$f":"'Budget FCFA'!#REF!/VLOOKUP($BO159,$BO$127:$BP$138,2,FALSE)","v":{"$error":"#REF!"}},{"$f":"'Budget FCFA'!#REF!/VLOOKUP($BO159,$BO$127:$BP$138,2,FALSE)","v":{"$error":"#REF!"}},{"$f":"'Budget FCFA'!#REF!/VLOOKUP($BO159,$BO$127:$BP$138,2,FALSE)","v":{"$error":"#REF!"}},{"$f":"'Budget FCFA'!#REF!/VLOOKUP($BO159,$BO$127:$BP$138,2,FALSE)","v":{"$error":"#REF!"}},{"$f":"'Budget FCFA'!#REF!/VLOOKUP($BO159,$BO$127:$BP$138,2,FALSE)","v":{"$error":"#REF!"}},{"$f":"'Budget FCFA'!#REF!/VLOOKUP($BO159,$BO$127:$BP$138,2,FALSE)","v":{"$error":"#REF!"}},{"$error":"#REF!"}]
["PUBTECHN","BRAZZA","Théatralisation & PLV fabriquées par la France (nodhos)",{"$f":"'Budget FCFA'!D160/VLOOKUP(D$2,$BO$127:$BP$138,2,FALSE)","v":0},{"$f":"'Budget FCFA'!E160/VLOOKUP(E$2,$BO$127:$BP$138,2,FALSE)","v":0},{"$f":"'Budget FCFA'!F160/VLOOKUP(F$2,$BO$127:$BP$138,2,FALSE)","v":0},{"$f":"'Budget FCFA'!G160/VLOOKUP(G$2,$BO$127:$BP$138,2,FALSE)","v":0},{"$f":"'Budget FCFA'!H160/VLOOKUP(H$2,$BO$127:$BP$138,2,FALSE)","v":0},{"$f":"'Budget FCFA'!I160/VLOOKUP(I$2,$BO$127:$BP$138,2,FALSE)","v":0},{"$f":"'Budget FCFA'!J160/VLOOKUP(J$2,$BO$127:$BP$138,2,FALSE)","v":0},{"$f":"'Budget FCFA'!K160/VLOOKUP(K$2,$BO$127:$BP$138,2,FALSE)","v":0},{"$f":"'Budget FCFA'!L160/VLOOKUP(L$2,$BO$127:$BP$138,2,FALSE)","v":0},{"$f":"'Budget FCFA'!M160/VLOOKUP(M$2,$BO$127:$BP$138,2,FALSE)","v":0},{"$f":"'Budget FCFA'!N160/VLOOKUP(N$2,$BO$127:$BP$138,2,FALSE)","v":0},{"$f":"'Budget FCFA'!O160/VLOOKUP(O$2,$BO$127:$BP$138,2,FALSE)","v":0},{"$f":"'Budget FCFA'!P160/VLOOKUP(P$2,$BO$127:$BP$138,2,FALSE)","v":0},{"$f":"'Budget FCFA'!Q160/VLOOKUP(Q$2,$BO$127:$BP$138,2,FALSE)","v":0},{"$f":"'Budget FCFA'!R160/VLOOKUP(R$2,$BO$127:$BP$138,2,FALSE)","v":0},{"$f":"'Budget FCFA'!S160/VLOOKUP(S$2,$BO$127:$BP$138,2,FALSE)","v":0},{"$f":"'Budget FCFA'!T160/VLOOKUP(T$2,$BO$127:$BP$138,2,FALSE)","v":0},{"$f":"'Budget FCFA'!U160/VLOOKUP(U$2,$BO$127:$BP$138,2,FALSE)","v":0},{"$f":"'Budget FCFA'!V160/VLOOKUP(V$2,$BO$127:$BP$138,2,FALSE)","v":0},{"$f":"'Budget FCFA'!W160/VLOOKUP(W$2,$BO$127:$BP$138,2,FALSE)","v":0},{"$f":"'Budget FCFA'!X160/VLOOKUP(X$2,$BO$127:$BP$138,2,FALSE)","v":0},{"$f":"'Budget FCFA'!Y160/VLOOKUP(Y$2,$BO$127:$BP$138,2,FALSE)","v":0},{"$f":"'Budget FCFA'!Z160/VLOOKUP(Z$2,$BO$127:$BP$138,2,FALSE)","v":0},{"$f":"'Budget FCFA'!AA160/VLOOKUP(AA$2,$BO$127:$BP$138,2,FALSE)","v":0},{"$f":"'Budget FCFA'!AB160/VLOOKUP(AB$2,$BO$127:$BP$138,2,FALSE)","v":0},{"$f":"'Budget FCFA'!AC160/VLOOKUP(AC$2,$BO$127:$BP$138,2,FALSE)","v":0},{"$f":"'Budget FCFA'!AD160/VLOOKUP(AD$2,$BO$127:$BP$138,2,FALSE)","v":0},{"$f":"'Budget FCFA'!AE160/VLOOKUP(AE$2,$BO$127:$BP$138,2,FALSE)","v":0},{"$f":"'Budget FCFA'!AF160/VLOOKUP(AF$2,$BO$127:$BP$138,2,FALSE)","v":0},{"$f":"'Budget FCFA'!AG160/VLOOKUP(AG$2,$BO$127:$BP$138,2,FALSE)","v":0},{"$f":"'Budget FCFA'!AH160/VLOOKUP(AH$2,$BO$127:$BP$138,2,FALSE)","v":0},{"$f":"'Budget FCFA'!AI160/VLOOKUP(AI$2,$BO$127:$BP$138,2,FALSE)","v":0},{"$f":"'Budget FCFA'!AJ160/VLOOKUP(AJ$2,$BO$127:$BP$138,2,FALSE)","v":0},{"$f":"'Budget FCFA'!AK160/VLOOKUP(AK$2,$BO$127:$BP$138,2,FALSE)","v":0},{"$f":"'Budget FCFA'!AL160/VLOOKUP(AL$2,$BO$127:$BP$138,2,FALSE)","v":0},{"$f":"'Budget FCFA'!AM160/VLOOKUP(AM$2,$BO$127:$BP$138,2,FALSE)","v":0},{"$f":"'Budget FCFA'!AN160/VLOOKUP(AN$2,$BO$127:$BP$138,2,FALSE)","v":0},{"$f":"'Budget FCFA'!AO160/VLOOKUP(AO$2,$BO$127:$BP$138,2,FALSE)","v":0},{"$f":"'Budget FCFA'!AP160/VLOOKUP(AP$2,$BO$127:$BP$138,2,FALSE)","v":0},{"$f":"'Budget FCFA'!#REF!/VLOOKUP(AQ$2,$BO$127:$BP$138,2,FALSE)","v":{"$error":"#REF!"}},{"$f":"'Budget FCFA'!#REF!/VLOOKUP(AR$2,$BO$127:$BP$138,2,FALSE)","v":{"$error":"#REF!"}},{"$f":"'Budget FCFA'!#REF!/VLOOKUP(AS$2,$BO$127:$BP$138,2,FALSE)","v":{"$error":"#REF!"}},{"$f":"'Budget FCFA'!#REF!/VLOOKUP(AT$2,$BO$127:$BP$138,2,FALSE)","v":{"$error":"#REF!"}},{"$f":"'Budget FCFA'!#REF!/VLOOKUP(AU$2,$BO$127:$BP$138,2,FALSE)","v":{"$error":"#REF!"}},{"$f":"'Budget FCFA'!#REF!/VLOOKUP(AV$2,$BO$127:$BP$138,2,FALSE)","v":{"$error":"#REF!"}},{"$f":"'Budget FCFA'!#REF!/VLOOKUP(AW$2,$BO$127:$BP$138,2,FALSE)","v":{"$error":"#REF!"}},{"$f":"'Budget FCFA'!#REF!/VLOOKUP(AX$2,$BO$127:$BP$138,2,FALSE)","v":{"$error":"#REF!"}},{"$f":"'Budget FCFA'!#REF!/VLOOKUP(AY$2,$BO$127:$BP$138,2,FALSE)","v":{"$error":"#REF!"}},{"$f":"'Budget FCFA'!#REF!/VLOOKUP(AZ$2,$BO$127:$BP$138,2,FALSE)","v":{"$error":"#REF!"}},{"$f":"'Budget FCFA'!#REF!/VLOOKUP(BA$2,$BO$127:$BP$138,2,FALSE)","v":{"$error":"#REF!"}},{"$f":"'Budget FCFA'!#REF!/VLOOKUP(BB$2,$BO$127:$BP$138,2,FALSE)","v":{"$error":"#REF!"}},{"$f":"'Budget FCFA'!#REF!/VLOOKUP(BC$2,$BO$127:$BP$138,2,FALSE)","v":{"$error":"#REF!"}},{"$f":"'Budget FCFA'!#REF!/VLOOKUP(BD$2,$BO$127:$BP$138,2,FALSE)","v":{"$error":"#REF!"}},{"$f":"'Budget FCFA'!#REF!/VLOOKUP(BE$2,$BO$127:$BP$138,2,FALSE)","v":{"$error":"#REF!"}},{"$f":"'Budget FCFA'!#REF!/VLOOKUP(BF$2,$BO$127:$BP$138,2,FALSE)","v":{"$error":"#REF!"}},{"$f":"'Budget FCFA'!#REF!/VLOOKUP(BG$2,$BO$127:$BP$138,2,FALSE)","v":{"$error":"#REF!"}},{"$f":"'Budget FCFA'!#REF!/VLOOKUP(BH$2,$BO$127:$BP$138,2,FALSE)","v":{"$error":"#REF!"}},{"$f":"'Budget FCFA'!#REF!/VLOOKUP(BI$2,$BO$127:$BP$138,2,FALSE)","v":{"$error":"#REF!"}},{"$f":"'Budget FCFA'!#REF!/VLOOKUP(BJ$2,$BO$127:$BP$138,2,FALSE)","v":{"$error":"#REF!"}},{"$error":"#REF!"},{"$f":"BK160-'Budget FCFA'!#REF!","v":{"$error":"#REF!"}},null,null,"AVRIL",{"$f":"'Budget FCFA'!#REF!/VLOOKUP($BO160,$BO$127:$BP$138,2,FALSE)","v":{"$error":"#REF!"}},{"$f":"'Budget FCFA'!#REF!/VLOOKUP($BO160,$BO$127:$BP$138,2,FALSE)","v":{"$error":"#REF!"}},{"$f":"'Budget FCFA'!#REF!/VLOOKUP($BO160,$BO$127:$BP$138,2,FALSE)","v":{"$error":"#REF!"}},{"$f":"'Budget FCFA'!#REF!/VLOOKUP($BO160,$BO$127:$BP$138,2,FALSE)","v":{"$error":"#REF!"}},{"$f":"'Budget FCFA'!#REF!/VLOOKUP($BO160,$BO$127:$BP$138,2,FALSE)","v":{"$error":"#REF!"}},{"$f":"'Budget FCFA'!#REF!/VLOOKUP($BO160,$BO$127:$BP$138,2,FALSE)","v":{"$error":"#REF!"}},{"$error":"#REF!"}]
["PUBTECHN","DAKAR","Théatralisation & PLV fabriquées par la France (nodhos)",{"$f":"'Budget FCFA'!D161/VLOOKUP(D$2,$BO$127:$BP$138,2,FALSE)","v":0},{"$f":"'Budget FCFA'!E161/VLOOKUP(E$2,$BO$127:$BP$138,2,FALSE)","v":0},{"$f":"'Budget FCFA'!F161/VLOOKUP(F$2,$BO$127:$BP$138,2,FALSE)","v":0},{"$f":"'Budget FCFA'!G161/VLOOKUP(G$2,$BO$127:$BP$138,2,FALSE)","v":0},{"$f":"'Budget FCFA'!H161/VLOOKUP(H$2,$BO$127:$BP$138,2,FALSE)","v":0},{"$f":"'Budget FCFA'!I161/VLOOKUP(I$2,$BO$127:$BP$138,2,FALSE)","v":0},{"$f":"'Budget FCFA'!J161/VLOOKUP(J$2,$BO$127:$BP$138,2,FALSE)","v":0},{"$f":"'Budget FCFA'!K161/VLOOKUP(K$2,$BO$127:$BP$138,2,FALSE)","v":0},{"$f":"'Budget FCFA'!L161/VLOOKUP(L$2,$BO$127:$BP$138,2,FALSE)","v":0},{"$f":"'Budget FCFA'!M161/VLOOKUP(M$2,$BO$127:$BP$138,2,FALSE)","v":0},{"$f":"'Budget FCFA'!N161/VLOOKUP(N$2,$BO$127:$BP$138,2,FALSE)","v":0},{"$f":"'Budget FCFA'!O161/VLOOKUP(O$2,$BO$127:$BP$138,2,FALSE)","v":0},{"$f":"'Budget FCFA'!P161/VLOOKUP(P$2,$BO$127:$BP$138,2,FALSE)","v":0},{"$f":"'Budget FCFA'!Q161/VLOOKUP(Q$2,$BO$127:$BP$138,2,FALSE)","v":0},{"$f":"'Budget FCFA'!R161/VLOOKUP(R$2,$BO$127:$BP$138,2,FALSE)","v":0},{"$f":"'Budget FCFA'!S161/VLOOKUP(S$2,$BO$127:$BP$138,2,FALSE)","v":0},{"$f":"'Budget FCFA'!T161/VLOOKUP(T$2,$BO$127:$BP$138,2,FALSE)","v":0},{"$f":"'Budget FCFA'!U161/VLOOKUP(U$2,$BO$127:$BP$138,2,FALSE)","v":0},{"$f":"'Budget FCFA'!V161/VLOOKUP(V$2,$BO$127:$BP$138,2,FALSE)","v":0},{"$f":"'Budget FCFA'!W161/VLOOKUP(W$2,$BO$127:$BP$138,2,FALSE)","v":0},{"$f":"'Budget FCFA'!X161/VLOOKUP(X$2,$BO$127:$BP$138,2,FALSE)","v":0},{"$f":"'Budget FCFA'!Y161/VLOOKUP(Y$2,$BO$127:$BP$138,2,FALSE)","v":0},{"$f":"'Budget FCFA'!Z161/VLOOKUP(Z$2,$BO$127:$BP$138,2,FALSE)","v":0},{"$f":"'Budget FCFA'!AA161/VLOOKUP(AA$2,$BO$127:$BP$138,2,FALSE)","v":0},{"$f":"'Budget FCFA'!AB161/VLOOKUP(AB$2,$BO$127:$BP$138,2,FALSE)","v":0},{"$f":"'Budget FCFA'!AC161/VLOOKUP(AC$2,$BO$127:$BP$138,2,FALSE)","v":0},{"$f":"'Budget FCFA'!AD161/VLOOKUP(AD$2,$BO$127:$BP$138,2,FALSE)","v":0},{"$f":"'Budget FCFA'!AE161/VLOOKUP(AE$2,$BO$127:$BP$138,2,FALSE)","v":0},{"$f":"'Budget FCFA'!AF161/VLOOKUP(AF$2,$BO$127:$BP$138,2,FALSE)","v":0},{"$f":"'Budget FCFA'!AG161/VLOOKUP(AG$2,$BO$127:$BP$138,2,FALSE)","v":0},{"$f":"'Budget FCFA'!AH161/VLOOKUP(AH$2,$BO$127:$BP$138,2,FALSE)","v":0},{"$f":"'Budget FCFA'!AI161/VLOOKUP(AI$2,$BO$127:$BP$138,2,FALSE)","v":0},{"$f":"'Budget FCFA'!AJ161/VLOOKUP(AJ$2,$BO$127:$BP$138,2,FALSE)","v":0},{"$f":"'Budget FCFA'!AK161/VLOOKUP(AK$2,$BO$127:$BP$138,2,FALSE)","v":0},{"$f":"'Budget FCFA'!AL161/VLOOKUP(AL$2,$BO$127:$BP$138,2,FALSE)","v":0},{"$f":"'Budget FCFA'!AM161/VLOOKUP(AM$2,$BO$127:$BP$138,2,FALSE)","v":0},{"$f":"'Budget FCFA'!AN161/VLOOKUP(AN$2,$BO$127:$BP$138,2,FALSE)","v":0},{"$f":"'Budget FCFA'!AO161/VLOOKUP(AO$2,$BO$127:$BP$138,2,FALSE)","v":0},{"$f":"'Budget FCFA'!AP161/VLOOKUP(AP$2,$BO$127:$BP$138,2,FALSE)","v":0},{"$f":"'Budget FCFA'!#REF!/VLOOKUP(AQ$2,$BO$127:$BP$138,2,FALSE)","v":{"$error":"#REF!"}},{"$f":"'Budget FCFA'!#REF!/VLOOKUP(AR$2,$BO$127:$BP$138,2,FALSE)","v":{"$error":"#REF!"}},{"$f":"'Budget FCFA'!#REF!/VLOOKUP(AS$2,$BO$127:$BP$138,2,FALSE)","v":{"$error":"#REF!"}},{"$f":"'Budget FCFA'!#REF!/VLOOKUP(AT$2,$BO$127:$BP$138,2,FALSE)","v":{"$error":"#REF!"}},{"$f":"'Budget FCFA'!#REF!/VLOOKUP(AU$2,$BO$127:$BP$138,2,FALSE)","v":{"$error":"#REF!"}},{"$f":"'Budget FCFA'!#REF!/VLOOKUP(AV$2,$BO$127:$BP$138,2,FALSE)","v":{"$error":"#REF!"}},{"$f":"'Budget FCFA'!#REF!/VLOOKUP(AW$2,$BO$127:$BP$138,2,FALSE)","v":{"$error":"#REF!"}},{"$f":"'Budget FCFA'!#REF!/VLOOKUP(AX$2,$BO$127:$BP$138,2,FALSE)","v":{"$error":"#REF!"}},{"$f":"'Budget FCFA'!#REF!/VLOOKUP(AY$2,$BO$127:$BP$138,2,FALSE)","v":{"$error":"#REF!"}},{"$f":"'Budget FCFA'!#REF!/VLOOKUP(AZ$2,$BO$127:$BP$138,2,FALSE)","v":{"$error":"#REF!"}},{"$f":"'Budget FCFA'!#REF!/VLOOKUP(BA$2,$BO$127:$BP$138,2,FALSE)","v":{"$error":"#REF!"}},{"$f":"'Budget FCFA'!#REF!/VLOOKUP(BB$2,$BO$127:$BP$138,2,FALSE)","v":{"$error":"#REF!"}},{"$f":"'Budget FCFA'!#REF!/VLOOKUP(BC$2,$BO$127:$BP$138,2,FALSE)","v":{"$error":"#REF!"}},{"$f":"'Budget FCFA'!#REF!/VLOOKUP(BD$2,$BO$127:$BP$138,2,FALSE)","v":{"$error":"#REF!"}},{"$f":"'Budget FCFA'!#REF!/VLOOKUP(BE$2,$BO$127:$BP$138,2,FALSE)","v":{"$error":"#REF!"}},{"$f":"'Budget FCFA'!#REF!/VLOOKUP(BF$2,$BO$127:$BP$138,2,FALSE)","v":{"$error":"#REF!"}},{"$f":"'Budget FCFA'!#REF!/VLOOKUP(BG$2,$BO$127:$BP$138,2,FALSE)","v":{"$error":"#REF!"}},{"$f":"'Budget FCFA'!#REF!/VLOOKUP(BH$2,$BO$127:$BP$138,2,FALSE)","v":{"$error":"#REF!"}},{"$f":"'Budget FCFA'!#REF!/VLOOKUP(BI$2,$BO$127:$BP$138,2,FALSE)","v":{"$error":"#REF!"}},{"$f":"'Budget FCFA'!#REF!/VLOOKUP(BJ$2,$BO$127:$BP$138,2,FALSE)","v":{"$error":"#REF!"}},{"$error":"#REF!"},{"$f":"BK161-'Budget FCFA'!#REF!","v":{"$error":"#REF!"}},null,null,"MAI",{"$f":"'Budget FCFA'!#REF!/VLOOKUP($BO161,$BO$127:$BP$138,2,FALSE)","v":{"$error":"#REF!"}},{"$f":"'Budget FCFA'!#REF!/VLOOKUP($BO161,$BO$127:$BP$138,2,FALSE)","v":{"$error":"#REF!"}},{"$f":"'Budget FCFA'!#REF!/VLOOKUP($BO161,$BO$127:$BP$138,2,FALSE)","v":{"$error":"#REF!"}},{"$f":"'Budget FCFA'!#REF!/VLOOKUP($BO161,$BO$127:$BP$138,2,FALSE)","v":{"$error":"#REF!"}},{"$f":"'Budget FCFA'!#REF!/VLOOKUP($BO161,$BO$127:$BP$138,2,FALSE)","v":{"$error":"#REF!"}},{"$f":"'Budget FCFA'!#REF!/VLOOKUP($BO161,$BO$127:$BP$138,2,FALSE)","v":{"$error":"#REF!"}},{"$error":"#REF!"}]
["PUBTECHN","LIBREVILLE","Théatralisation & PLV fabriquées par la France (nodhos)",{"$f":"'Budget FCFA'!D162/VLOOKUP(D$2,$BO$127:$BP$138,2,FALSE)","v":0},{"$f":"'Budget FCFA'!E162/VLOOKUP(E$2,$BO$127:$BP$138,2,FALSE)","v":0},{"$f":"'Budget FCFA'!F162/VLOOKUP(F$2,$BO$127:$BP$138,2,FALSE)","v":0},{"$f":"'Budget FCFA'!G162/VLOOKUP(G$2,$BO$127:$BP$138,2,FALSE)","v":0},{"$f":"'Budget FCFA'!H162/VLOOKUP(H$2,$BO$127:$BP$138,2,FALSE)","v":0},{"$f":"'Budget FCFA'!I162/VLOOKUP(I$2,$BO$127:$BP$138,2,FALSE)","v":0},{"$f":"'Budget FCFA'!J162/VLOOKUP(J$2,$BO$127:$BP$138,2,FALSE)","v":0},{"$f":"'Budget FCFA'!K162/VLOOKUP(K$2,$BO$127:$BP$138,2,FALSE)","v":0},{"$f":"'Budget FCFA'!L162/VLOOKUP(L$2,$BO$127:$BP$138,2,FALSE)","v":0},{"$f":"'Budget FCFA'!M162/VLOOKUP(M$2,$BO$127:$BP$138,2,FALSE)","v":0},{"$f":"'Budget FCFA'!N162/VLOOKUP(N$2,$BO$127:$BP$138,2,FALSE)","v":0},{"$f":"'Budget FCFA'!O162/VLOOKUP(O$2,$BO$127:$BP$138,2,FALSE)","v":0},{"$f":"'Budget FCFA'!P162/VLOOKUP(P$2,$BO$127:$BP$138,2,FALSE)","v":0},{"$f":"'Budget FCFA'!Q162/VLOOKUP(Q$2,$BO$127:$BP$138,2,FALSE)","v":0},{"$f":"'Budget FCFA'!R162/VLOOKUP(R$2,$BO$127:$BP$138,2,FALSE)","v":0},{"$f":"'Budget FCFA'!S162/VLOOKUP(S$2,$BO$127:$BP$138,2,FALSE)","v":0},{"$f":"'Budget FCFA'!T162/VLOOKUP(T$2,$BO$127:$BP$138,2,FALSE)","v":0},{"$f":"'Budget FCFA'!U162/VLOOKUP(U$2,$BO$127:$BP$138,2,FALSE)","v":0},{"$f":"'Budget FCFA'!V162/VLOOKUP(V$2,$BO$127:$BP$138,2,FALSE)","v":0},{"$f":"'Budget FCFA'!W162/VLOOKUP(W$2,$BO$127:$BP$138,2,FALSE)","v":0},{"$f":"'Budget FCFA'!X162/VLOOKUP(X$2,$BO$127:$BP$138,2,FALSE)","v":0},{"$f":"'Budget FCFA'!Y162/VLOOKUP(Y$2,$BO$127:$BP$138,2,FALSE)","v":0},{"$f":"'Budget FCFA'!Z162/VLOOKUP(Z$2,$BO$127:$BP$138,2,FALSE)","v":0},{"$f":"'Budget FCFA'!AA162/VLOOKUP(AA$2,$BO$127:$BP$138,2,FALSE)","v":0},{"$f":"'Budget FCFA'!AB162/VLOOKUP(AB$2,$BO$127:$BP$138,2,FALSE)","v":0},{"$f":"'Budget FCFA'!AC162/VLOOKUP(AC$2,$BO$127:$BP$138,2,FALSE)","v":0},{"$f":"'Budget FCFA'!AD162/VLOOKUP(AD$2,$BO$127:$BP$138,2,FALSE)","v":0},{"$f":"'Budget FCFA'!AE162/VLOOKUP(AE$2,$BO$127:$BP$138,2,FALSE)","v":0},{"$f":"'Budget FCFA'!AF162/VLOOKUP(AF$2,$BO$127:$BP$138,2,FALSE)","v":0},{"$f":"'Budget FCFA'!AG162/VLOOKUP(AG$2,$BO$127:$BP$138,2,FALSE)","v":0},{"$f":"'Budget FCFA'!AH162/VLOOKUP(AH$2,$BO$127:$BP$138,2,FALSE)","v":0},{"$f":"'Budget FCFA'!AI162/VLOOKUP(AI$2,$BO$127:$BP$138,2,FALSE)","v":0},{"$f":"'Budget FCFA'!AJ162/VLOOKUP(AJ$2,$BO$127:$BP$138,2,FALSE)","v":0},{"$f":"'Budget FCFA'!AK162/VLOOKUP(AK$2,$BO$127:$BP$138,2,FALSE)","v":0},{"$f":"'Budget FCFA'!AL162/VLOOKUP(AL$2,$BO$127:$BP$138,2,FALSE)","v":0},{"$f":"'Budget FCFA'!AM162/VLOOKUP(AM$2,$BO$127:$BP$138,2,FALSE)","v":0},{"$f":"'Budget FCFA'!AN162/VLOOKUP(AN$2,$BO$127:$BP$138,2,FALSE)","v":0},{"$f":"'Budget FCFA'!AO162/VLOOKUP(AO$2,$BO$127:$BP$138,2,FALSE)","v":0},{"$f":"'Budget FCFA'!AP162/VLOOKUP(AP$2,$BO$127:$BP$138,2,FALSE)","v":0},{"$f":"'Budget FCFA'!#REF!/VLOOKUP(AQ$2,$BO$127:$BP$138,2,FALSE)","v":{"$error":"#REF!"}},{"$f":"'Budget FCFA'!#REF!/VLOOKUP(AR$2,$BO$127:$BP$138,2,FALSE)","v":{"$error":"#REF!"}},{"$f":"'Budget FCFA'!#REF!/VLOOKUP(AS$2,$BO$127:$BP$138,2,FALSE)","v":{"$error":"#REF!"}},{"$f":"'Budget FCFA'!#REF!/VLOOKUP(AT$2,$BO$127:$BP$138,2,FALSE)","v":{"$error":"#REF!"}},{"$f":"'Budget FCFA'!#REF!/VLOOKUP(AU$2,$BO$127:$BP$138,2,FALSE)","v":{"$error":"#REF!"}},{"$f":"'Budget FCFA'!#REF!/VLOOKUP(AV$2,$BO$127:$BP$138,2,FALSE)","v":{"$error":"#REF!"}},{"$f":"'Budget FCFA'!#REF!/VLOOKUP(AW$2,$BO$127:$BP$138,2,FALSE)","v":{"$error":"#REF!"}},{"$f":"'Budget FCFA'!#REF!/VLOOKUP(AX$2,$BO$127:$BP$138,2,FALSE)","v":{"$error":"#REF!"}},{"$f":"'Budget FCFA'!#REF!/VLOOKUP(AY$2,$BO$127:$BP$138,2,FALSE)","v":{"$error":"#REF!"}},{"$f":"'Budget FCFA'!#REF!/VLOOKUP(AZ$2,$BO$127:$BP$138,2,FALSE)","v":{"$error":"#REF!"}},{"$f":"'Budget FCFA'!#REF!/VLOOKUP(BA$2,$BO$127:$BP$138,2,FALSE)","v":{"$error":"#REF!"}},{"$f":"'Budget FCFA'!#REF!/VLOOKUP(BB$2,$BO$127:$BP$138,2,FALSE)","v":{"$error":"#REF!"}},{"$f":"'Budget FCFA'!#REF!/VLOOKUP(BC$2,$BO$127:$BP$138,2,FALSE)","v":{"$error":"#REF!"}},{"$f":"'Budget FCFA'!#REF!/VLOOKUP(BD$2,$BO$127:$BP$138,2,FALSE)","v":{"$error":"#REF!"}},{"$f":"'Budget FCFA'!#REF!/VLOOKUP(BE$2,$BO$127:$BP$138,2,FALSE)","v":{"$error":"#REF!"}},{"$f":"'Budget FCFA'!#REF!/VLOOKUP(BF$2,$BO$127:$BP$138,2,FALSE)","v":{"$error":"#REF!"}},{"$f":"'Budget FCFA'!#REF!/VLOOKUP(BG$2,$BO$127:$BP$138,2,FALSE)","v":{"$error":"#REF!"}},{"$f":"'Budget FCFA'!#REF!/VLOOKUP(BH$2,$BO$127:$BP$138,2,FALSE)","v":{"$error":"#REF!"}},{"$f":"'Budget FCFA'!#REF!/VLOOKUP(BI$2,$BO$127:$BP$138,2,FALSE)","v":{"$error":"#REF!"}},{"$f":"'Budget FCFA'!#REF!/VLOOKUP(BJ$2,$BO$127:$BP$138,2,FALSE)","v":{"$error":"#REF!"}},{"$error":"#REF!"},{"$f":"BK162-'Budget FCFA'!#REF!","v":{"$error":"#REF!"}},null,null,"JUIN",{"$f":"'Budget FCFA'!#REF!/VLOOKUP($BO162,$BO$127:$BP$138,2,FALSE)","v":{"$error":"#REF!"}},{"$f":"'Budget FCFA'!#REF!/VLOOKUP($BO162,$BO$127:$BP$138,2,FALSE)","v":{"$error":"#REF!"}},{"$f":"'Budget FCFA'!#REF!/VLOOKUP($BO162,$BO$127:$BP$138,2,FALSE)","v":{"$error":"#REF!"}},{"$f":"'Budget FCFA'!#REF!/VLOOKUP($BO162,$BO$127:$BP$138,2,FALSE)","v":{"$error":"#REF!"}},{"$f":"'Budget FCFA'!#REF!/VLOOKUP($BO162,$BO$127:$BP$138,2,FALSE)","v":{"$error":"#REF!"}},{"$f":"'Budget FCFA'!#REF!/VLOOKUP($BO162,$BO$127:$BP$138,2,FALSE)","v":{"$error":"#REF!"}},{"$error":"#REF!"}]
["PUBTECHN","DOUALA","Théatralisation & PLV fabriquées par la France (nodhos)",{"$f":"'Budget FCFA'!D163/VLOOKUP(D$2,$BO$127:$BP$138,2,FALSE)","v":0},{"$f":"'Budget FCFA'!E163/VLOOKUP(E$2,$BO$127:$BP$138,2,FALSE)","v":0},{"$f":"'Budget FCFA'!F163/VLOOKUP(F$2,$BO$127:$BP$138,2,FALSE)","v":0},{"$f":"'Budget FCFA'!G163/VLOOKUP(G$2,$BO$127:$BP$138,2,FALSE)","v":0},{"$f":"'Budget FCFA'!H163/VLOOKUP(H$2,$BO$127:$BP$138,2,FALSE)","v":0},{"$f":"'Budget FCFA'!I163/VLOOKUP(I$2,$BO$127:$BP$138,2,FALSE)","v":0},{"$f":"'Budget FCFA'!J163/VLOOKUP(J$2,$BO$127:$BP$138,2,FALSE)","v":0},{"$f":"'Budget FCFA'!K163/VLOOKUP(K$2,$BO$127:$BP$138,2,FALSE)","v":0},{"$f":"'Budget FCFA'!L163/VLOOKUP(L$2,$BO$127:$BP$138,2,FALSE)","v":0},{"$f":"'Budget FCFA'!M163/VLOOKUP(M$2,$BO$127:$BP$138,2,FALSE)","v":0},{"$f":"'Budget FCFA'!N163/VLOOKUP(N$2,$BO$127:$BP$138,2,FALSE)","v":0},{"$f":"'Budget FCFA'!O163/VLOOKUP(O$2,$BO$127:$BP$138,2,FALSE)","v":0},{"$f":"'Budget FCFA'!P163/VLOOKUP(P$2,$BO$127:$BP$138,2,FALSE)","v":0},{"$f":"'Budget FCFA'!Q163/VLOOKUP(Q$2,$BO$127:$BP$138,2,FALSE)","v":0},{"$f":"'Budget FCFA'!R163/VLOOKUP(R$2,$BO$127:$BP$138,2,FALSE)","v":0},{"$f":"'Budget FCFA'!S163/VLOOKUP(S$2,$BO$127:$BP$138,2,FALSE)","v":0},{"$f":"'Budget FCFA'!T163/VLOOKUP(T$2,$BO$127:$BP$138,2,FALSE)","v":0},{"$f":"'Budget FCFA'!U163/VLOOKUP(U$2,$BO$127:$BP$138,2,FALSE)","v":0},{"$f":"'Budget FCFA'!V163/VLOOKUP(V$2,$BO$127:$BP$138,2,FALSE)","v":0},{"$f":"'Budget FCFA'!W163/VLOOKUP(W$2,$BO$127:$BP$138,2,FALSE)","v":0},{"$f":"'Budget FCFA'!X163/VLOOKUP(X$2,$BO$127:$BP$138,2,FALSE)","v":0},{"$f":"'Budget FCFA'!Y163/VLOOKUP(Y$2,$BO$127:$BP$138,2,FALSE)","v":0},{"$f":"'Budget FCFA'!Z163/VLOOKUP(Z$2,$BO$127:$BP$138,2,FALSE)","v":0},{"$f":"'Budget FCFA'!AA163/VLOOKUP(AA$2,$BO$127:$BP$138,2,FALSE)","v":0},{"$f":"'Budget FCFA'!AB163/VLOOKUP(AB$2,$BO$127:$BP$138,2,FALSE)","v":0},{"$f":"'Budget FCFA'!AC163/VLOOKUP(AC$2,$BO$127:$BP$138,2,FALSE)","v":0},{"$f":"'Budget FCFA'!AD163/VLOOKUP(AD$2,$BO$127:$BP$138,2,FALSE)","v":0},{"$f":"'Budget FCFA'!AE163/VLOOKUP(AE$2,$BO$127:$BP$138,2,FALSE)","v":0},{"$f":"'Budget FCFA'!AF163/VLOOKUP(AF$2,$BO$127:$BP$138,2,FALSE)","v":0},{"$f":"'Budget FCFA'!AG163/VLOOKUP(AG$2,$BO$127:$BP$138,2,FALSE)","v":0},{"$f":"'Budget FCFA'!AH163/VLOOKUP(AH$2,$BO$127:$BP$138,2,FALSE)","v":0},{"$f":"'Budget FCFA'!AI163/VLOOKUP(AI$2,$BO$127:$BP$138,2,FALSE)","v":0},{"$f":"'Budget FCFA'!AJ163/VLOOKUP(AJ$2,$BO$127:$BP$138,2,FALSE)","v":0},{"$f":"'Budget FCFA'!AK163/VLOOKUP(AK$2,$BO$127:$BP$138,2,FALSE)","v":0},{"$f":"'Budget FCFA'!AL163/VLOOKUP(AL$2,$BO$127:$BP$138,2,FALSE)","v":0},{"$f":"'Budget FCFA'!AM163/VLOOKUP(AM$2,$BO$127:$BP$138,2,FALSE)","v":0},{"$f":"'Budget FCFA'!AN163/VLOOKUP(AN$2,$BO$127:$BP$138,2,FALSE)","v":0},{"$f":"'Budget FCFA'!AO163/VLOOKUP(AO$2,$BO$127:$BP$138,2,FALSE)","v":0},{"$f":"'Budget FCFA'!AP163/VLOOKUP(AP$2,$BO$127:$BP$138,2,FALSE)","v":0},{"$f":"'Budget FCFA'!#REF!/VLOOKUP(AQ$2,$BO$127:$BP$138,2,FALSE)","v":{"$error":"#REF!"}},{"$f":"'Budget FCFA'!#REF!/VLOOKUP(AR$2,$BO$127:$BP$138,2,FALSE)","v":{"$error":"#REF!"}},{"$f":"'Budget FCFA'!#REF!/VLOOKUP(AS$2,$BO$127:$BP$138,2,FALSE)","v":{"$error":"#REF!"}},{"$f":"'Budget FCFA'!#REF!/VLOOKUP(AT$2,$BO$127:$BP$138,2,FALSE)","v":{"$error":"#REF!"}},{"$f":"'Budget FCFA'!#REF!/VLOOKUP(AU$2,$BO$127:$BP$138,2,FALSE)","v":{"$error":"#REF!"}},{"$f":"'Budget FCFA'!#REF!/VLOOKUP(AV$2,$BO$127:$BP$138,2,FALSE)","v":{"$error":"#REF!"}},{"$f":"'Budget FCFA'!#REF!/VLOOKUP(AW$2,$BO$127:$BP$138,2,FALSE)","v":{"$error":"#REF!"}},{"$f":"'Budget FCFA'!#REF!/VLOOKUP(AX$2,$BO$127:$BP$138,2,FALSE)","v":{"$error":"#REF!"}},{"$f":"'Budget FCFA'!#REF!/VLOOKUP(AY$2,$BO$127:$BP$138,2,FALSE)","v":{"$error":"#REF!"}},{"$f":"'Budget FCFA'!#REF!/VLOOKUP(AZ$2,$BO$127:$BP$138,2,FALSE)","v":{"$error":"#REF!"}},{"$f":"'Budget FCFA'!#REF!/VLOOKUP(BA$2,$BO$127:$BP$138,2,FALSE)","v":{"$error":"#REF!"}},{"$f":"'Budget FCFA'!#REF!/VLOOKUP(BB$2,$BO$127:$BP$138,2,FALSE)","v":{"$error":"#REF!"}},{"$f":"'Budget FCFA'!#REF!/VLOOKUP(BC$2,$BO$127:$BP$138,2,FALSE)","v":{"$error":"#REF!"}},{"$f":"'Budget FCFA'!#REF!/VLOOKUP(BD$2,$BO$127:$BP$138,2,FALSE)","v":{"$error":"#REF!"}},{"$f":"'Budget FCFA'!#REF!/VLOOKUP(BE$2,$BO$127:$BP$138,2,FALSE)","v":{"$error":"#REF!"}},{"$f":"'Budget FCFA'!#REF!/VLOOKUP(BF$2,$BO$127:$BP$138,2,FALSE)","v":{"$error":"#REF!"}},{"$f":"'Budget FCFA'!#REF!/VLOOKUP(BG$2,$BO$127:$BP$138,2,FALSE)","v":{"$error":"#REF!"}},{"$f":"'Budget FCFA'!#REF!/VLOOKUP(BH$2,$BO$127:$BP$138,2,FALSE)","v":{"$error":"#REF!"}},{"$f":"'Budget FCFA'!#REF!/VLOOKUP(BI$2,$BO$127:$BP$138,2,FALSE)","v":{"$error":"#REF!"}},{"$f":"'Budget FCFA'!#REF!/VLOOKUP(BJ$2,$BO$127:$BP$138,2,FALSE)","v":{"$error":"#REF!"}},{"$error":"#REF!"},{"$f":"BK163-'Budget FCFA'!#REF!","v":{"$error":"#REF!"}},null,null,"JUILLET",{"$f":"'Budget FCFA'!#REF!/VLOOKUP($BO163,$BO$127:$BP$138,2,FALSE)","v":{"$error":"#REF!"}},{"$f":"'Budget FCFA'!#REF!/VLOOKUP($BO163,$BO$127:$BP$138,2,FALSE)","v":{"$error":"#REF!"}},{"$f":"'Budget FCFA'!#REF!/VLOOKUP($BO163,$BO$127:$BP$138,2,FALSE)","v":{"$error":"#REF!"}},{"$f":"'Budget FCFA'!#REF!/VLOOKUP($BO163,$BO$127:$BP$138,2,FALSE)","v":{"$error":"#REF!"}},{"$f":"'Budget FCFA'!#REF!/VLOOKUP($BO163,$BO$127:$BP$138,2,FALSE)","v":{"$error":"#REF!"}},{"$f":"'Budget FCFA'!#REF!/VLOOKUP($BO163,$BO$127:$BP$138,2,FALSE)","v":{"$error":"#REF!"}},{"$error":"#REF!"}]
["PUBTECHN","TOTAL","Total théâtralisation",{"$f":"'Budget FCFA'!D164/VLOOKUP(D$2,$BO$127:$BP$138,2,FALSE)","v":0},{"$f":"'Budget FCFA'!E164/VLOOKUP(E$2,$BO$127:$BP$138,2,FALSE)","v":0},{"$f":"'Budget FCFA'!F164/VLOOKUP(F$2,$BO$127:$BP$138,2,FALSE)","v":0},{"$f":"'Budget FCFA'!G164/VLOOKUP(G$2,$BO$127:$BP$138,2,FALSE)","v":0},{"$f":"'Budget FCFA'!H164/VLOOKUP(H$2,$BO$127:$BP$138,2,FALSE)","v":9.07},{"$f":"'Budget FCFA'!I164/VLOOKUP(I$2,$BO$127:$BP$138,2,FALSE)","v":0},{"$f":"'Budget FCFA'!J164/VLOOKUP(J$2,$BO$127:$BP$138,2,FALSE)","v":0},{"$f":"'Budget FCFA'!K164/VLOOKUP(K$2,$BO$127:$BP$138,2,FALSE)","v":0},{"$f":"'Budget FCFA'!L164/VLOOKUP(L$2,$BO$127:$BP$138,2,FALSE)","v":0},{"$f":"'Budget FCFA'!M164/VLOOKUP(M$2,$BO$127:$BP$138,2,FALSE)","v":10},{"$f":"'Budget FCFA'!N164/VLOOKUP(N$2,$BO$127:$BP$138,2,FALSE)","v":0},{"$f":"'Budget FCFA'!O164/VLOOKUP(O$2,$BO$127:$BP$138,2,FALSE)","v":0},{"$f":"'Budget FCFA'!P164/VLOOKUP(P$2,$BO$127:$BP$138,2,FALSE)","v":0},{"$f":"'Budget FCFA'!Q164/VLOOKUP(Q$2,$BO$127:$BP$138,2,FALSE)","v":0},{"$f":"'Budget FCFA'!R164/VLOOKUP(R$2,$BO$127:$BP$138,2,FALSE)","v":10},{"$f":"'Budget FCFA'!S164/VLOOKUP(S$2,$BO$127:$BP$138,2,FALSE)","v":0},{"$f":"'Budget FCFA'!T164/VLOOKUP(T$2,$BO$127:$BP$138,2,FALSE)","v":0},{"$f":"'Budget FCFA'!U164/VLOOKUP(U$2,$BO$127:$BP$138,2,FALSE)","v":0},{"$f":"'Budget FCFA'!V164/VLOOKUP(V$2,$BO$127:$BP$138,2,FALSE)","v":0},{"$f":"'Budget FCFA'!W164/VLOOKUP(W$2,$BO$127:$BP$138,2,FALSE)","v":499},{"$f":"'Budget FCFA'!X164/VLOOKUP(X$2,$BO$127:$BP$138,2,FALSE)","v":0},{"$f":"'Budget FCFA'!Y164/VLOOKUP(Y$2,$BO$127:$BP$138,2,FALSE)","v":0},{"$f":"'Budget FCFA'!Z164/VLOOKUP(Z$2,$BO$127:$BP$138,2,FALSE)","v":0},{"$f":"'Budget FCFA'!AA164/VLOOKUP(AA$2,$BO$127:$BP$138,2,FALSE)","v":537.44000000000005},{"$f":"'Budget FCFA'!AB164/VLOOKUP(AB$2,$BO$127:$BP$138,2,FALSE)","v":0},{"$f":"'Budget FCFA'!AC164/VLOOKUP(AC$2,$BO$127:$BP$138,2,FALSE)","v":0},{"$f":"'Budget FCFA'!AD164/VLOOKUP(AD$2,$BO$127:$BP$138,2,FALSE)","v":0},{"$f":"'Budget FCFA'!AE164/VLOOKUP(AE$2,$BO$127:$BP$138,2,FALSE)","v":0},{"$f":"'Budget FCFA'!AF164/VLOOKUP(AF$2,$BO$127:$BP$138,2,FALSE)","v":611.06843218049278},{"$f":"'Budget FCFA'!AG164/VLOOKUP(AG$2,$BO$127:$BP$138,2,FALSE)","v":0},{"$f":"'Budget FCFA'!AH164/VLOOKUP(AH$2,$BO$127:$BP$138,2,FALSE)","v":0},{"$f":"'Budget FCFA'!AI164/VLOOKUP(AI$2,$BO$127:$BP$138,2,FALSE)","v":0},{"$f":"'Budget FCFA'!AJ164/VLOOKUP(AJ$2,$BO$127:$BP$138,2,FALSE)","v":0},{"$f":"'Budget FCFA'!AK164/VLOOKUP(AK$2,$BO$127:$BP$138,2,FALSE)","v":0},{"$f":"'Budget FCFA'!AL164/VLOOKUP(AL$2,$BO$127:$BP$138,2,FALSE)","v":0},{"$f":"'Budget FCFA'!AM164/VLOOKUP(AM$2,$BO$127:$BP$138,2,FALSE)","v":0},{"$f":"'Budget FCFA'!AN164/VLOOKUP(AN$2,$BO$127:$BP$138,2,FALSE)","v":0},{"$f":"'Budget FCFA'!AO164/VLOOKUP(AO$2,$BO$127:$BP$138,2,FALSE)","v":0},{"$f":"'Budget FCFA'!AP164/VLOOKUP(AP$2,$BO$127:$BP$138,2,FALSE)","v":377.06},{"$f":"'Budget FCFA'!#REF!/VLOOKUP(AQ$2,$BO$127:$BP$138,2,FALSE)","v":{"$error":"#REF!"}},{"$f":"'Budget FCFA'!#REF!/VLOOKUP(AR$2,$BO$127:$BP$138,2,FALSE)","v":{"$error":"#REF!"}},{"$f":"'Budget FCFA'!#REF!/VLOOKUP(AS$2,$BO$127:$BP$138,2,FALSE)","v":{"$error":"#REF!"}},{"$f":"'Budget FCFA'!#REF!/VLOOKUP(AT$2,$BO$127:$BP$138,2,FALSE)","v":{"$error":"#REF!"}},{"$f":"'Budget FCFA'!#REF!/VLOOKUP(AU$2,$BO$127:$BP$138,2,FALSE)","v":{"$error":"#REF!"}},{"$f":"'Budget FCFA'!#REF!/VLOOKUP(AV$2,$BO$127:$BP$138,2,FALSE)","v":{"$error":"#REF!"}},{"$f":"'Budget FCFA'!#REF!/VLOOKUP(AW$2,$BO$127:$BP$138,2,FALSE)","v":{"$error":"#REF!"}},{"$f":"'Budget FCFA'!#REF!/VLOOKUP(AX$2,$BO$127:$BP$138,2,FALSE)","v":{"$error":"#REF!"}},{"$f":"'Budget FCFA'!#REF!/VLOOKUP(AY$2,$BO$127:$BP$138,2,FALSE)","v":{"$error":"#REF!"}},{"$f":"'Budget FCFA'!#REF!/VLOOKUP(AZ$2,$BO$127:$BP$138,2,FALSE)","v":{"$error":"#REF!"}},{"$f":"'Budget FCFA'!#REF!/VLOOKUP(BA$2,$BO$127:$BP$138,2,FALSE)","v":{"$error":"#REF!"}},{"$f":"'Budget FCFA'!#REF!/VLOOKUP(BB$2,$BO$127:$BP$138,2,FALSE)","v":{"$error":"#REF!"}},{"$f":"'Budget FCFA'!#REF!/VLOOKUP(BC$2,$BO$127:$BP$138,2,FALSE)","v":{"$error":"#REF!"}},{"$f":"'Budget FCFA'!#REF!/VLOOKUP(BD$2,$BO$127:$BP$138,2,FALSE)","v":{"$error":"#REF!"}},{"$f":"'Budget FCFA'!#REF!/VLOOKUP(BE$2,$BO$127:$BP$138,2,FALSE)","v":{"$error":"#REF!"}},{"$f":"'Budget FCFA'!#REF!/VLOOKUP(BF$2,$BO$127:$BP$138,2,FALSE)","v":{"$error":"#REF!"}},{"$f":"'Budget FCFA'!#REF!/VLOOKUP(BG$2,$BO$127:$BP$138,2,FALSE)","v":{"$error":"#REF!"}},{"$f":"'Budget FCFA'!#REF!/VLOOKUP(BH$2,$BO$127:$BP$138,2,FALSE)","v":{"$error":"#REF!"}},{"$f":"'Budget FCFA'!#REF!/VLOOKUP(BI$2,$BO$127:$BP$138,2,FALSE)","v":{"$error":"#REF!"}},{"$f":"'Budget FCFA'!#REF!/VLOOKUP(BJ$2,$BO$127:$BP$138,2,FALSE)","v":{"$error":"#REF!"}},{"$error":"#REF!"},{"$f":"BK164-'Budget FCFA'!#REF!","v":{"$error":"#REF!"}},null,null,"SEPTEMBRE",{"$f":"'Budget FCFA'!#REF!/VLOOKUP($BO164,$BO$127:$BP$138,2,FALSE)","v":{"$error":"#REF!"}},{"$f":"'Budget FCFA'!#REF!/VLOOKUP($BO164,$BO$127:$BP$138,2,FALSE)","v":{"$error":"#REF!"}},{"$f":"'Budget FCFA'!#REF!/VLOOKUP($BO164,$BO$127:$BP$138,2,FALSE)","v":{"$error":"#REF!"}},{"$f":"'Budget FCFA'!#REF!/VLOOKUP($BO164,$BO$127:$BP$138,2,FALSE)","v":{"$error":"#REF!"}},{"$f":"'Budget FCFA'!#REF!/VLOOKUP($BO164,$BO$127:$BP$138,2,FALSE)","v":{"$error":"#REF!"}},{"$f":"'Budget FCFA'!#REF!/VLOOKUP($BO164,$BO$127:$BP$138,2,FALSE)","v":{"$error":"#REF!"}},{"$error":"#REF!"}]
["PUBTECHN","ABIDJAN","PROD Local",{"$f":"'Budget FCFA'!D165/VLOOKUP(D$2,$BO$127:$BP$138,2,FALSE)","v":0},{"$f":"'Budget FCFA'!E165/VLOOKUP(E$2,$BO$127:$BP$138,2,FALSE)","v":426.85724826474905},{"$f":"'Budget FCFA'!F165/VLOOKUP(F$2,$BO$127:$BP$138,2,FALSE)","v":0},{"$f":"'Budget FCFA'!G165/VLOOKUP(G$2,$BO$127:$BP$138,2,FALSE)","v":0},{"$f":"'Budget FCFA'!H165/VLOOKUP(H$2,$BO$127:$BP$138,2,FALSE)","v":0},{"$f":"'Budget FCFA'!I165/VLOOKUP(I$2,$BO$127:$BP$138,2,FALSE)","v":426.85724826474905},{"$f":"'Budget FCFA'!J165/VLOOKUP(J$2,$BO$127:$BP$138,2,FALSE)","v":0},{"$f":"'Budget FCFA'!K165/VLOOKUP(K$2,$BO$127:$BP$138,2,FALSE)","v":0},{"$f":"'Budget FCFA'!L165/VLOOKUP(L$2,$BO$127:$BP$138,2,FALSE)","v":0},{"$f":"'Budget FCFA'!M165/VLOOKUP(M$2,$BO$127:$BP$138,2,FALSE)","v":1486.3779180647512},{"$f":"'Budget FCFA'!N165/VLOOKUP(N$2,$BO$127:$BP$138,2,FALSE)","v":0},{"$f":"'Budget FCFA'!O165/VLOOKUP(O$2,$BO$127:$BP$138,2,FALSE)","v":426.85724826474905},{"$f":"'Budget FCFA'!P165/VLOOKUP(P$2,$BO$127:$BP$138,2,FALSE)","v":1859.8780102964067},{"$f":"'Budget FCFA'!Q165/VLOOKUP(Q$2,$BO$127:$BP$138,2,FALSE)","v":0},{"$f":"'Budget FCFA'!R165/VLOOKUP(R$2,$BO$127:$BP$138,2,FALSE)","v":0},{"$f":"'Budget FCFA'!S165/VLOOKUP(S$2,$BO$127:$BP$138,2,FALSE)","v":0},{"$f":"'Budget FCFA'!T165/VLOOKUP(T$2,$BO$127:$BP$138,2,FALSE)","v":426.85724826474905},{"$f":"'Budget FCFA'!U165/VLOOKUP(U$2,$BO$127:$BP$138,2,FALSE)","v":0},{"$f":"'Budget FCFA'!V165/VLOOKUP(V$2,$BO$127:$BP$138,2,FALSE)","v":0},{"$f":"'Budget FCFA'!W165/VLOOKUP(W$2,$BO$127:$BP$138,2,FALSE)","v":0},{"$f":"'Budget FCFA'!X165/VLOOKUP(X$2,$BO$127:$BP$138,2,FALSE)","v":0},{"$f":"'Budget FCFA'!Y165/VLOOKUP(Y$2,$BO$127:$BP$138,2,FALSE)","v":426.85724826474905},{"$f":"'Budget FCFA'!Z165/VLOOKUP(Z$2,$BO$127:$BP$138,2,FALSE)","v":0},{"$f":"'Budget FCFA'!AA165/VLOOKUP(AA$2,$BO$127:$BP$138,2,FALSE)","v":243.9184275798566},{"$f":"'Budget FCFA'!AB165/VLOOKUP(AB$2,$BO$127:$BP$138,2,FALSE)","v":426.20749912094703},{"$f":"'Budget FCFA'!AC165/VLOOKUP(AC$2,$BO$127:$BP$138,2,FALSE)","v":0},{"$f":"'Budget FCFA'!AD165/VLOOKUP(AD$2,$BO$127:$BP$138,2,FALSE)","v":0},{"$f":"'Budget FCFA'!AE165/VLOOKUP(AE$2,$BO$127:$BP$138,2,FALSE)","v":0},{"$f":"'Budget FCFA'!AF165/VLOOKUP(AF$2,$BO$127:$BP$138,2,FALSE)","v":243.54714235482689},{"$f":"'Budget FCFA'!AG165/VLOOKUP(AG$2,$BO$127:$BP$138,2,FALSE)","v":426.85724826474905},{"$f":"'Budget FCFA'!AH165/VLOOKUP(AH$2,$BO$127:$BP$138,2,FALSE)","v":0},{"$f":"'Budget FCFA'!AI165/VLOOKUP(AI$2,$BO$127:$BP$138,2,FALSE)","v":0},{"$f":"'Budget FCFA'!AJ165/VLOOKUP(AJ$2,$BO$127:$BP$138,2,FALSE)","v":0},{"$f":"'Budget FCFA'!AK165/VLOOKUP(AK$2,$BO$127:$BP$138,2,FALSE)","v":0},{"$f":"'Budget FCFA'!AL165/VLOOKUP(AL$2,$BO$127:$BP$138,2,FALSE)","v":426.85724826474905},{"$f":"'Budget FCFA'!AM165/VLOOKUP(AM$2,$BO$127:$BP$138,2,FALSE)","v":426.85724826474905},{"$f":"'Budget FCFA'!AN165/VLOOKUP(AN$2,$BO$127:$BP$138,2,FALSE)","v":0},{"$f":"'Budget FCFA'!AO165/VLOOKUP(AO$2,$BO$127:$BP$138,2,FALSE)","v":0},{"$f":"'Budget FCFA'!AP165/VLOOKUP(AP$2,$BO$127:$BP$138,2,FALSE)","v":0},{"$f":"'Budget FCFA'!#REF!/VLOOKUP(AQ$2,$BO$127:$BP$138,2,FALSE)","v":{"$error":"#REF!"}},{"$f":"'Budget FCFA'!#REF!/VLOOKUP(AR$2,$BO$127:$BP$138,2,FALSE)","v":{"$error":"#REF!"}},{"$f":"'Budget FCFA'!#REF!/VLOOKUP(AS$2,$BO$127:$BP$138,2,FALSE)","v":{"$error":"#REF!"}},{"$f":"'Budget FCFA'!#REF!/VLOOKUP(AT$2,$BO$127:$BP$138,2,FALSE)","v":{"$error":"#REF!"}},{"$f":"'Budget FCFA'!#REF!/VLOOKUP(AU$2,$BO$127:$BP$138,2,FALSE)","v":{"$error":"#REF!"}},{"$f":"'Budget FCFA'!#REF!/VLOOKUP(AV$2,$BO$127:$BP$138,2,FALSE)","v":{"$error":"#REF!"}},{"$f":"'Budget FCFA'!#REF!/VLOOKUP(AW$2,$BO$127:$BP$138,2,FALSE)","v":{"$error":"#REF!"}},{"$f":"'Budget FCFA'!#REF!/VLOOKUP(AX$2,$BO$127:$BP$138,2,FALSE)","v":{"$error":"#REF!"}},{"$f":"'Budget FCFA'!#REF!/VLOOKUP(AY$2,$BO$127:$BP$138,2,FALSE)","v":{"$error":"#REF!"}},{"$f":"'Budget FCFA'!#REF!/VLOOKUP(AZ$2,$BO$127:$BP$138,2,FALSE)","v":{"$error":"#REF!"}},{"$f":"'Budget FCFA'!#REF!/VLOOKUP(BA$2,$BO$127:$BP$138,2,FALSE)","v":{"$error":"#REF!"}},{"$f":"'Budget FCFA'!#REF!/VLOOKUP(BB$2,$BO$127:$BP$138,2,FALSE)","v":{"$error":"#REF!"}},{"$f":"'Budget FCFA'!#REF!/VLOOKUP(BC$2,$BO$127:$BP$138,2,FALSE)","v":{"$error":"#REF!"}},{"$f":"'Budget FCFA'!#REF!/VLOOKUP(BD$2,$BO$127:$BP$138,2,FALSE)","v":{"$error":"#REF!"}},{"$f":"'Budget FCFA'!#REF!/VLOOKUP(BE$2,$BO$127:$BP$138,2,FALSE)","v":{"$error":"#REF!"}},{"$f":"'Budget FCFA'!#REF!/VLOOKUP(BF$2,$BO$127:$BP$138,2,FALSE)","v":{"$error":"#REF!"}},{"$f":"'Budget FCFA'!#REF!/VLOOKUP(BG$2,$BO$127:$BP$138,2,FALSE)","v":{"$error":"#REF!"}},{"$f":"'Budget FCFA'!#REF!/VLOOKUP(BH$2,$BO$127:$BP$138,2,FALSE)","v":{"$error":"#REF!"}},{"$f":"'Budget FCFA'!#REF!/VLOOKUP(BI$2,$BO$127:$BP$138,2,FALSE)","v":{"$error":"#REF!"}},{"$f":"'Budget FCFA'!#REF!/VLOOKUP(BJ$2,$BO$127:$BP$138,2,FALSE)","v":{"$error":"#REF!"}},{"$error":"#REF!"},{"$f":"BK165-'Budget FCFA'!#REF!","v":{"$error":"#REF!"}},null,null,"OCTOBRE",{"$f":"'Budget FCFA'!#REF!/VLOOKUP($BO165,$BO$127:$BP$138,2,FALSE)","v":{"$error":"#REF!"}},{"$f":"'Budget FCFA'!#REF!/VLOOKUP($BO165,$BO$127:$BP$138,2,FALSE)","v":{"$error":"#REF!"}},{"$f":"'Budget FCFA'!#REF!/VLOOKUP($BO165,$BO$127:$BP$138,2,FALSE)","v":{"$error":"#REF!"}},{"$f":"'Budget FCFA'!#REF!/VLOOKUP($BO165,$BO$127:$BP$138,2,FALSE)","v":{"$error":"#REF!"}},{"$f":"'Budget FCFA'!#REF!/VLOOKUP($BO165,$BO$127:$BP$138,2,FALSE)","v":{"$error":"#REF!"}},{"$f":"'Budget FCFA'!#REF!/VLOOKUP($BO165,$BO$127:$BP$138,2,FALSE)","v":{"$error":"#REF!"}},{"$error":"#REF!"}]
["PUBTECHN","BRAZZA","PROD Local",{"$f":"'Budget FCFA'!D166/VLOOKUP(D$2,$BO$127:$BP$138,2,FALSE)","v":0},{"$f":"'Budget FCFA'!E166/VLOOKUP(E$2,$BO$127:$BP$138,2,FALSE)","v":35.977968068028851},{"$f":"'Budget FCFA'!F166/VLOOKUP(F$2,$BO$127:$BP$138,2,FALSE)","v":35.977968068028851},{"$f":"'Budget FCFA'!G166/VLOOKUP(G$2,$BO$127:$BP$138,2,FALSE)","v":0},{"$f":"'Budget FCFA'!H166/VLOOKUP(H$2,$BO$127:$BP$138,2,FALSE)","v":0},{"$f":"'Budget FCFA'!I166/VLOOKUP(I$2,$BO$127:$BP$138,2,FALSE)","v":43.713231202655052},{"$f":"'Budget FCFA'!J166/VLOOKUP(J$2,$BO$127:$BP$138,2,FALSE)","v":0},{"$f":"'Budget FCFA'!K166/VLOOKUP(K$2,$BO$127:$BP$138,2,FALSE)","v":0},{"$f":"'Budget FCFA'!L166/VLOOKUP(L$2,$BO$127:$BP$138,2,FALSE)","v":0},{"$f":"'Budget FCFA'!M166/VLOOKUP(M$2,$BO$127:$BP$138,2,FALSE)","v":17.988984034014425},{"$f":"'Budget FCFA'!N166/VLOOKUP(N$2,$BO$127:$BP$138,2,FALSE)","v":0},{"$f":"'Budget FCFA'!O166/VLOOKUP(O$2,$BO$127:$BP$138,2,FALSE)","v":35.977968068028851},{"$f":"'Budget FCFA'!P166/VLOOKUP(P$2,$BO$127:$BP$138,2,FALSE)","v":10.671431206618726},{"$f":"'Budget FCFA'!Q166/VLOOKUP(Q$2,$BO$127:$BP$138,2,FALSE)","v":0},{"$f":"'Budget FCFA'!R166/VLOOKUP(R$2,$BO$127:$BP$138,2,FALSE)","v":0},{"$f":"'Budget FCFA'!S166/VLOOKUP(S$2,$BO$127:$BP$138,2,FALSE)","v":0},{"$f":"'Budget FCFA'!T166/VLOOKUP(T$2,$BO$127:$BP$138,2,FALSE)","v":35.977968068028851},{"$f":"'Budget FCFA'!U166/VLOOKUP(U$2,$BO$127:$BP$138,2,FALSE)","v":0},{"$f":"'Budget FCFA'!V166/VLOOKUP(V$2,$BO$127:$BP$138,2,FALSE)","v":0},{"$f":"'Budget FCFA'!W166/VLOOKUP(W$2,$BO$127:$BP$138,2,FALSE)","v":0},{"$f":"'Budget FCFA'!X166/VLOOKUP(X$2,$BO$127:$BP$138,2,FALSE)","v":35.825519050791442},{"$f":"'Budget FCFA'!Y166/VLOOKUP(Y$2,$BO$127:$BP$138,2,FALSE)","v":35.825519050791442},{"$f":"'Budget FCFA'!Z166/VLOOKUP(Z$2,$BO$127:$BP$138,2,FALSE)","v":0},{"$f":"'Budget FCFA'!AA166/VLOOKUP(AA$2,$BO$127:$BP$138,2,FALSE)","v":17.988984034014425},{"$f":"'Budget FCFA'!AB166/VLOOKUP(AB$2,$BO$127:$BP$138,2,FALSE)","v":35.923203497336964},{"$f":"'Budget FCFA'!AC166/VLOOKUP(AC$2,$BO$127:$BP$138,2,FALSE)","v":0},{"$f":"'Budget FCFA'!AD166/VLOOKUP(AD$2,$BO$127:$BP$138,2,FALSE)","v":0},{"$f":"'Budget FCFA'!AE166/VLOOKUP(AE$2,$BO$127:$BP$138,2,FALSE)","v":0},{"$f":"'Budget FCFA'!AF166/VLOOKUP(AF$2,$BO$127:$BP$138,2,FALSE)","v":0},{"$f":"'Budget FCFA'!AG166/VLOOKUP(AG$2,$BO$127:$BP$138,2,FALSE)","v":15.244901723741037},{"$f":"'Budget FCFA'!AH166/VLOOKUP(AH$2,$BO$127:$BP$138,2,FALSE)","v":0},{"$f":"'Budget FCFA'!AI166/VLOOKUP(AI$2,$BO$127:$BP$138,2,FALSE)","v":0},{"$f":"'Budget FCFA'!AJ166/VLOOKUP(AJ$2,$BO$127:$BP$138,2,FALSE)","v":0},{"$f":"'Budget FCFA'!AK166/VLOOKUP(AK$2,$BO$127:$BP$138,2,FALSE)","v":0},{"$f":"'Budget FCFA'!AL166/VLOOKUP(AL$2,$BO$127:$BP$138,2,FALSE)","v":15.244901723741037},{"$f":"'Budget FCFA'!AM166/VLOOKUP(AM$2,$BO$127:$BP$138,2,FALSE)","v":15.244901723741037},{"$f":"'Budget FCFA'!AN166/VLOOKUP(AN$2,$BO$127:$BP$138,2,FALSE)","v":0},{"$f":"'Budget FCFA'!AO166/VLOOKUP(AO$2,$BO$127:$BP$138,2,FALSE)","v":0},{"$f":"'Budget FCFA'!AP166/VLOOKUP(AP$2,$BO$127:$BP$138,2,FALSE)","v":0},{"$f":"'Budget FCFA'!#REF!/VLOOKUP(AQ$2,$BO$127:$BP$138,2,FALSE)","v":{"$error":"#REF!"}},{"$f":"'Budget FCFA'!#REF!/VLOOKUP(AR$2,$BO$127:$BP$138,2,FALSE)","v":{"$error":"#REF!"}},{"$f":"'Budget FCFA'!#REF!/VLOOKUP(AS$2,$BO$127:$BP$138,2,FALSE)","v":{"$error":"#REF!"}},{"$f":"'Budget FCFA'!#REF!/VLOOKUP(AT$2,$BO$127:$BP$138,2,FALSE)","v":{"$error":"#REF!"}},{"$f":"'Budget FCFA'!#REF!/VLOOKUP(AU$2,$BO$127:$BP$138,2,FALSE)","v":{"$error":"#REF!"}},{"$f":"'Budget FCFA'!#REF!/VLOOKUP(AV$2,$BO$127:$BP$138,2,FALSE)","v":{"$error":"#REF!"}},{"$f":"'Budget FCFA'!#REF!/VLOOKUP(AW$2,$BO$127:$BP$138,2,FALSE)","v":{"$error":"#REF!"}},{"$f":"'Budget FCFA'!#REF!/VLOOKUP(AX$2,$BO$127:$BP$138,2,FALSE)","v":{"$error":"#REF!"}},{"$f":"'Budget FCFA'!#REF!/VLOOKUP(AY$2,$BO$127:$BP$138,2,FALSE)","v":{"$error":"#REF!"}},{"$f":"'Budget FCFA'!#REF!/VLOOKUP(AZ$2,$BO$127:$BP$138,2,FALSE)","v":{"$error":"#REF!"}},{"$f":"'Budget FCFA'!#REF!/VLOOKUP(BA$2,$BO$127:$BP$138,2,FALSE)","v":{"$error":"#REF!"}},{"$f":"'Budget FCFA'!#REF!/VLOOKUP(BB$2,$BO$127:$BP$138,2,FALSE)","v":{"$error":"#REF!"}},{"$f":"'Budget FCFA'!#REF!/VLOOKUP(BC$2,$BO$127:$BP$138,2,FALSE)","v":{"$error":"#REF!"}},{"$f":"'Budget FCFA'!#REF!/VLOOKUP(BD$2,$BO$127:$BP$138,2,FALSE)","v":{"$error":"#REF!"}},{"$f":"'Budget FCFA'!#REF!/VLOOKUP(BE$2,$BO$127:$BP$138,2,FALSE)","v":{"$error":"#REF!"}},{"$f":"'Budget FCFA'!#REF!/VLOOKUP(BF$2,$BO$127:$BP$138,2,FALSE)","v":{"$error":"#REF!"}},{"$f":"'Budget FCFA'!#REF!/VLOOKUP(BG$2,$BO$127:$BP$138,2,FALSE)","v":{"$error":"#REF!"}},{"$f":"'Budget FCFA'!#REF!/VLOOKUP(BH$2,$BO$127:$BP$138,2,FALSE)","v":{"$error":"#REF!"}},{"$f":"'Budget FCFA'!#REF!/VLOOKUP(BI$2,$BO$127:$BP$138,2,FALSE)","v":{"$error":"#REF!"}},{"$f":"'Budget FCFA'!#REF!/VLOOKUP(BJ$2,$BO$127:$BP$138,2,FALSE)","v":{"$error":"#REF!"}},{"$error":"#REF!"},{"$f":"BK166-'Budget FCFA'!#REF!","v":{"$error":"#REF!"}},null,null,"NOVEMBRE",{"$f":"'Budget FCFA'!#REF!/VLOOKUP($BO166,$BO$127:$BP$138,2,FALSE)","v":{"$error":"#REF!"}},{"$f":"'Budget FCFA'!#REF!/VLOOKUP($BO166,$BO$127:$BP$138,2,FALSE)","v":{"$error":"#REF!"}},{"$f":"'Budget FCFA'!#REF!/VLOOKUP($BO166,$BO$127:$BP$138,2,FALSE)","v":{"$error":"#REF!"}},{"$f":"'Budget FCFA'!#REF!/VLOOKUP($BO166,$BO$127:$BP$138,2,FALSE)","v":{"$error":"#REF!"}},{"$f":"'Budget FCFA'!#REF!/VLOOKUP($BO166,$BO$127:$BP$138,2,FALSE)","v":{"$error":"#REF!"}},{"$f":"'Budget FCFA'!#REF!/VLOOKUP($BO166,$BO$127:$BP$138,2,FALSE)","v":{"$error":"#REF!"}},{"$error":"#REF!"}]
["PUBTECHN","DAKAR","PROD Local",{"$f":"'Budget FCFA'!D167/VLOOKUP(D$2,$BO$127:$BP$138,2,FALSE)","v":0},{"$f":"'Budget FCFA'!E167/VLOOKUP(E$2,$BO$127:$BP$138,2,FALSE)","v":0},{"$f":"'Budget FCFA'!F167/VLOOKUP(F$2,$BO$127:$BP$138,2,FALSE)","v":30.489803447482075},{"$f":"'Budget FCFA'!G167/VLOOKUP(G$2,$BO$127:$BP$138,2,FALSE)","v":0},{"$f":"'Budget FCFA'!H167/VLOOKUP(H$2,$BO$127:$BP$138,2,FALSE)","v":0},{"$f":"'Budget FCFA'!I167/VLOOKUP(I$2,$BO$127:$BP$138,2,FALSE)","v":30.489803447482075},{"$f":"'Budget FCFA'!J167/VLOOKUP(J$2,$BO$127:$BP$138,2,FALSE)","v":0},{"$f":"'Budget FCFA'!K167/VLOOKUP(K$2,$BO$127:$BP$138,2,FALSE)","v":0},{"$f":"'Budget FCFA'!L167/VLOOKUP(L$2,$BO$127:$BP$138,2,FALSE)","v":0},{"$f":"'Budget FCFA'!M167/VLOOKUP(M$2,$BO$127:$BP$138,2,FALSE)","v":0},{"$f":"'Budget FCFA'!N167/VLOOKUP(N$2,$BO$127:$BP$138,2,FALSE)","v":0},{"$f":"'Budget FCFA'!O167/VLOOKUP(O$2,$BO$127:$BP$138,2,FALSE)","v":30.489803447482075},{"$f":"'Budget FCFA'!P167/VLOOKUP(P$2,$BO$127:$BP$138,2,FALSE)","v":181.92198573991894},{"$f":"'Budget FCFA'!Q167/VLOOKUP(Q$2,$BO$127:$BP$138,2,FALSE)","v":0},{"$f":"'Budget FCFA'!R167/VLOOKUP(R$2,$BO$127:$BP$138,2,FALSE)","v":0},{"$f":"'Budget FCFA'!S167/VLOOKUP(S$2,$BO$127:$BP$138,2,FALSE)","v":0},{"$f":"'Budget FCFA'!T167/VLOOKUP(T$2,$BO$127:$BP$138,2,FALSE)","v":30.489803447482075},{"$f":"'Budget FCFA'!U167/VLOOKUP(U$2,$BO$127:$BP$138,2,FALSE)","v":0},{"$f":"'Budget FCFA'!V167/VLOOKUP(V$2,$BO$127:$BP$138,2,FALSE)","v":0},{"$f":"'Budget FCFA'!W167/VLOOKUP(W$2,$BO$127:$BP$138,2,FALSE)","v":0},{"$f":"'Budget FCFA'!X167/VLOOKUP(X$2,$BO$127:$BP$138,2,FALSE)","v":30.489803447482075},{"$f":"'Budget FCFA'!Y167/VLOOKUP(Y$2,$BO$127:$BP$138,2,FALSE)","v":30.489803447482075},{"$f":"'Budget FCFA'!Z167/VLOOKUP(Z$2,$BO$127:$BP$138,2,FALSE)","v":0},{"$f":"'Budget FCFA'!AA167/VLOOKUP(AA$2,$BO$127:$BP$138,2,FALSE)","v":60.979606894964149},{"$f":"'Budget FCFA'!AB167/VLOOKUP(AB$2,$BO$127:$BP$138,2,FALSE)","v":30.443392794353361},{"$f":"'Budget FCFA'!AC167/VLOOKUP(AC$2,$BO$127:$BP$138,2,FALSE)","v":0},{"$f":"'Budget FCFA'!AD167/VLOOKUP(AD$2,$BO$127:$BP$138,2,FALSE)","v":0},{"$f":"'Budget FCFA'!AE167/VLOOKUP(AE$2,$BO$127:$BP$138,2,FALSE)","v":0},{"$f":"'Budget FCFA'!AF167/VLOOKUP(AF$2,$BO$127:$BP$138,2,FALSE)","v":30.443392794353361},{"$f":"'Budget FCFA'!AG167/VLOOKUP(AG$2,$BO$127:$BP$138,2,FALSE)","v":0},{"$f":"'Budget FCFA'!AH167/VLOOKUP(AH$2,$BO$127:$BP$138,2,FALSE)","v":0},{"$f":"'Budget FCFA'!AI167/VLOOKUP(AI$2,$BO$127:$BP$138,2,FALSE)","v":0},{"$f":"'Budget FCFA'!AJ167/VLOOKUP(AJ$2,$BO$127:$BP$138,2,FALSE)","v":0},{"$f":"'Budget FCFA'!AK167/VLOOKUP(AK$2,$BO$127:$BP$138,2,FALSE)","v":0},{"$f":"'Budget FCFA'!AL167/VLOOKUP(AL$2,$BO$127:$BP$138,2,FALSE)","v":43.447969912661961},{"$f":"'Budget FCFA'!AM167/VLOOKUP(AM$2,$BO$127:$BP$138,2,FALSE)","v":233.24699637323789},{"$f":"'Budget FCFA'!AN167/VLOOKUP(AN$2,$BO$127:$BP$138,2,FALSE)","v":0},{"$f":"'Budget FCFA'!AO167/VLOOKUP(AO$2,$BO$127:$BP$138,2,FALSE)","v":0},{"$f":"'Budget FCFA'!AP167/VLOOKUP(AP$2,$BO$127:$BP$138,2,FALSE)","v":0},{"$f":"'Budget FCFA'!#REF!/VLOOKUP(AQ$2,$BO$127:$BP$138,2,FALSE)","v":{"$error":"#REF!"}},{"$f":"'Budget FCFA'!#REF!/VLOOKUP(AR$2,$BO$127:$BP$138,2,FALSE)","v":{"$error":"#REF!"}},{"$f":"'Budget FCFA'!#REF!/VLOOKUP(AS$2,$BO$127:$BP$138,2,FALSE)","v":{"$error":"#REF!"}},{"$f":"'Budget FCFA'!#REF!/VLOOKUP(AT$2,$BO$127:$BP$138,2,FALSE)","v":{"$error":"#REF!"}},{"$f":"'Budget FCFA'!#REF!/VLOOKUP(AU$2,$BO$127:$BP$138,2,FALSE)","v":{"$error":"#REF!"}},{"$f":"'Budget FCFA'!#REF!/VLOOKUP(AV$2,$BO$127:$BP$138,2,FALSE)","v":{"$error":"#REF!"}},{"$f":"'Budget FCFA'!#REF!/VLOOKUP(AW$2,$BO$127:$BP$138,2,FALSE)","v":{"$error":"#REF!"}},{"$f":"'Budget FCFA'!#REF!/VLOOKUP(AX$2,$BO$127:$BP$138,2,FALSE)","v":{"$error":"#REF!"}},{"$f":"'Budget FCFA'!#REF!/VLOOKUP(AY$2,$BO$127:$BP$138,2,FALSE)","v":{"$error":"#REF!"}},{"$f":"'Budget FCFA'!#REF!/VLOOKUP(AZ$2,$BO$127:$BP$138,2,FALSE)","v":{"$error":"#REF!"}},{"$f":"'Budget FCFA'!#REF!/VLOOKUP(BA$2,$BO$127:$BP$138,2,FALSE)","v":{"$error":"#REF!"}},{"$f":"'Budget FCFA'!#REF!/VLOOKUP(BB$2,$BO$127:$BP$138,2,FALSE)","v":{"$error":"#REF!"}},{"$f":"'Budget FCFA'!#REF!/VLOOKUP(BC$2,$BO$127:$BP$138,2,FALSE)","v":{"$error":"#REF!"}},{"$f":"'Budget FCFA'!#REF!/VLOOKUP(BD$2,$BO$127:$BP$138,2,FALSE)","v":{"$error":"#REF!"}},{"$f":"'Budget FCFA'!#REF!/VLOOKUP(BE$2,$BO$127:$BP$138,2,FALSE)","v":{"$error":"#REF!"}},{"$f":"'Budget FCFA'!#REF!/VLOOKUP(BF$2,$BO$127:$BP$138,2,FALSE)","v":{"$error":"#REF!"}},{"$f":"'Budget FCFA'!#REF!/VLOOKUP(BG$2,$BO$127:$BP$138,2,FALSE)","v":{"$error":"#REF!"}},{"$f":"'Budget FCFA'!#REF!/VLOOKUP(BH$2,$BO$127:$BP$138,2,FALSE)","v":{"$error":"#REF!"}},{"$f":"'Budget FCFA'!#REF!/VLOOKUP(BI$2,$BO$127:$BP$138,2,FALSE)","v":{"$error":"#REF!"}},{"$f":"'Budget FCFA'!#REF!/VLOOKUP(BJ$2,$BO$127:$BP$138,2,FALSE)","v":{"$error":"#REF!"}},{"$error":"#REF!"},{"$f":"BK167-'Budget FCFA'!#REF!","v":{"$error":"#REF!"}},null,null,"DECEMBRE",{"$f":"'Budget FCFA'!#REF!/VLOOKUP($BO167,$BO$127:$BP$138,2,FALSE)","v":{"$error":"#REF!"}},{"$f":"'Budget FCFA'!#REF!/VLOOKUP($BO167,$BO$127:$BP$138,2,FALSE)","v":{"$error":"#REF!"}},{"$f":"'Budget FCFA'!#REF!/VLOOKUP($BO167,$BO$127:$BP$138,2,FALSE)","v":{"$error":"#REF!"}},{"$f":"'Budget FCFA'!#REF!/VLOOKUP($BO167,$BO$127:$BP$138,2,FALSE)","v":{"$error":"#REF!"}},{"$f":"'Budget FCFA'!#REF!/VLOOKUP($BO167,$BO$127:$BP$138,2,FALSE)","v":{"$error":"#REF!"}},{"$f":"'Budget FCFA'!#REF!/VLOOKUP($BO167,$BO$127:$BP$138,2,FALSE)","v":{"$error":"#REF!"}},{"$error":"#REF!"}]
["PUBTECHN","LIBREVILLE","PROD Local",{"$f":"'Budget FCFA'!D168/VLOOKUP(D$2,$BO$127:$BP$138,2,FALSE)","v":118.48337619691534},{"$f":"'Budget FCFA'!E168/VLOOKUP(E$2,$BO$127:$BP$138,2,FALSE)","v":0},{"$f":"'Budget FCFA'!F168/VLOOKUP(F$2,$BO$127:$BP$138,2,FALSE)","v":0},{"$f":"'Budget FCFA'!G168/VLOOKUP(G$2,$BO$127:$BP$138,2,FALSE)","v":0},{"$f":"'Budget FCFA'!H168/VLOOKUP(H$2,$BO$127:$BP$138,2,FALSE)","v":0},{"$f":"'Budget FCFA'!I168/VLOOKUP(I$2,$BO$127:$BP$138,2,FALSE)","v":255.74847131747964},{"$f":"'Budget FCFA'!J168/VLOOKUP(J$2,$BO$127:$BP$138,2,FALSE)","v":0},{"$f":"'Budget FCFA'!K168/VLOOKUP(K$2,$BO$127:$BP$138,2,FALSE)","v":0},{"$f":"'Budget FCFA'!L168/VLOOKUP(L$2,$BO$127:$BP$138,2,FALSE)","v":0},{"$f":"'Budget FCFA'!M168/VLOOKUP(M$2,$BO$127:$BP$138,2,FALSE)","v":68.602057756834668},{"$f":"'Budget FCFA'!N168/VLOOKUP(N$2,$BO$127:$BP$138,2,FALSE)","v":0},{"$f":"'Budget FCFA'!O168/VLOOKUP(O$2,$BO$127:$BP$138,2,FALSE)","v":118.5443558038103},{"$f":"'Budget FCFA'!P168/VLOOKUP(P$2,$BO$127:$BP$138,2,FALSE)","v":0},{"$f":"'Budget FCFA'!Q168/VLOOKUP(Q$2,$BO$127:$BP$138,2,FALSE)","v":0},{"$f":"'Budget FCFA'!R168/VLOOKUP(R$2,$BO$127:$BP$138,2,FALSE)","v":0},{"$f":"'Budget FCFA'!S168/VLOOKUP(S$2,$BO$127:$BP$138,2,FALSE)","v":0},{"$f":"'Budget FCFA'!T168/VLOOKUP(T$2,$BO$127:$BP$138,2,FALSE)","v":118.5443558038103},{"$f":"'Budget FCFA'!U168/VLOOKUP(U$2,$BO$127:$BP$138,2,FALSE)","v":0},{"$f":"'Budget FCFA'!V168/VLOOKUP(V$2,$BO$127:$BP$138,2,FALSE)","v":0},{"$f":"'Budget FCFA'!W168/VLOOKUP(W$2,$BO$127:$BP$138,2,FALSE)","v":0},{"$f":"'Budget FCFA'!X168/VLOOKUP(X$2,$BO$127:$BP$138,2,FALSE)","v":0},{"$f":"'Budget FCFA'!Y168/VLOOKUP(Y$2,$BO$127:$BP$138,2,FALSE)","v":118.5443558038103},{"$f":"'Budget FCFA'!Z168/VLOOKUP(Z$2,$BO$127:$BP$138,2,FALSE)","v":0},{"$f":"'Budget FCFA'!AA168/VLOOKUP(AA$2,$BO$127:$BP$138,2,FALSE)","v":155.20529546906275},{"$f":"'Budget FCFA'!AB168/VLOOKUP(AB$2,$BO$127:$BP$138,2,FALSE)","v":118.36391118444587},{"$f":"'Budget FCFA'!AC168/VLOOKUP(AC$2,$BO$127:$BP$138,2,FALSE)","v":0},{"$f":"'Budget FCFA'!AD168/VLOOKUP(AD$2,$BO$127:$BP$138,2,FALSE)","v":0},{"$f":"'Budget FCFA'!AE168/VLOOKUP(AE$2,$BO$127:$BP$138,2,FALSE)","v":0},{"$f":"'Budget FCFA'!AF168/VLOOKUP(AF$2,$BO$127:$BP$138,2,FALSE)","v":154.96904668037635},{"$f":"'Budget FCFA'!AG168/VLOOKUP(AG$2,$BO$127:$BP$138,2,FALSE)","v":119.73040915791736},{"$f":"'Budget FCFA'!AH168/VLOOKUP(AH$2,$BO$127:$BP$138,2,FALSE)","v":0},{"$f":"'Budget FCFA'!AI168/VLOOKUP(AI$2,$BO$127:$BP$138,2,FALSE)","v":0},{"$f":"'Budget FCFA'!AJ168/VLOOKUP(AJ$2,$BO$127:$BP$138,2,FALSE)","v":0},{"$f":"'Budget FCFA'!AK168/VLOOKUP(AK$2,$BO$127:$BP$138,2,FALSE)","v":0},{"$f":"'Budget FCFA'!AL168/VLOOKUP(AL$2,$BO$127:$BP$138,2,FALSE)","v":359.19122747375212},{"$f":"'Budget FCFA'!AM168/VLOOKUP(AM$2,$BO$127:$BP$138,2,FALSE)","v":119.73040915791736},{"$f":"'Budget FCFA'!AN168/VLOOKUP(AN$2,$BO$127:$BP$138,2,FALSE)","v":0},{"$f":"'Budget FCFA'!AO168/VLOOKUP(AO$2,$BO$127:$BP$138,2,FALSE)","v":0},{"$f":"'Budget FCFA'!AP168/VLOOKUP(AP$2,$BO$127:$BP$138,2,FALSE)","v":0},{"$f":"'Budget FCFA'!#REF!/VLOOKUP(AQ$2,$BO$127:$BP$138,2,FALSE)","v":{"$error":"#REF!"}},{"$f":"'Budget FCFA'!#REF!/VLOOKUP(AR$2,$BO$127:$BP$138,2,FALSE)","v":{"$error":"#REF!"}},{"$f":"'Budget FCFA'!#REF!/VLOOKUP(AS$2,$BO$127:$BP$138,2,FALSE)","v":{"$error":"#REF!"}},{"$f":"'Budget FCFA'!#REF!/VLOOKUP(AT$2,$BO$127:$BP$138,2,FALSE)","v":{"$error":"#REF!"}},{"$f":"'Budget FCFA'!#REF!/VLOOKUP(AU$2,$BO$127:$BP$138,2,FALSE)","v":{"$error":"#REF!"}},{"$f":"'Budget FCFA'!#REF!/VLOOKUP(AV$2,$BO$127:$BP$138,2,FALSE)","v":{"$error":"#REF!"}},{"$f":"'Budget FCFA'!#REF!/VLOOKUP(AW$2,$BO$127:$BP$138,2,FALSE)","v":{"$error":"#REF!"}},{"$f":"'Budget FCFA'!#REF!/VLOOKUP(AX$2,$BO$127:$BP$138,2,FALSE)","v":{"$error":"#REF!"}},{"$f":"'Budget FCFA'!#REF!/VLOOKUP(AY$2,$BO$127:$BP$138,2,FALSE)","v":{"$error":"#REF!"}},{"$f":"'Budget FCFA'!#REF!/VLOOKUP(AZ$2,$BO$127:$BP$138,2,FALSE)","v":{"$error":"#REF!"}},{"$f":"'Budget FCFA'!#REF!/VLOOKUP(BA$2,$BO$127:$BP$138,2,FALSE)","v":{"$error":"#REF!"}},{"$f":"'Budget FCFA'!#REF!/VLOOKUP(BB$2,$BO$127:$BP$138,2,FALSE)","v":{"$error":"#REF!"}},{"$f":"'Budget FCFA'!#REF!/VLOOKUP(BC$2,$BO$127:$BP$138,2,FALSE)","v":{"$error":"#REF!"}},{"$f":"'Budget FCFA'!#REF!/VLOOKUP(BD$2,$BO$127:$BP$138,2,FALSE)","v":{"$error":"#REF!"}},{"$f":"'Budget FCFA'!#REF!/VLOOKUP(BE$2,$BO$127:$BP$138,2,FALSE)","v":{"$error":"#REF!"}},{"$f":"'Budget FCFA'!#REF!/VLOOKUP(BF$2,$BO$127:$BP$138,2,FALSE)","v":{"$error":"#REF!"}},{"$f":"'Budget FCFA'!#REF!/VLOOKUP(BG$2,$BO$127:$BP$138,2,FALSE)","v":{"$error":"#REF!"}},{"$f":"'Budget FCFA'!#REF!/VLOOKUP(BH$2,$BO$127:$BP$138,2,FALSE)","v":{"$error":"#REF!"}},{"$f":"'Budget FCFA'!#REF!/VLOOKUP(BI$2,$BO$127:$BP$138,2,FALSE)","v":{"$error":"#REF!"}},{"$f":"'Budget FCFA'!#REF!/VLOOKUP(BJ$2,$BO$127:$BP$138,2,FALSE)","v":{"$error":"#REF!"}},{"$error":"#REF!"},{"$f":"BK168-'Budget FCFA'!#REF!","v":{"$error":"#REF!"}},null,null,"TOTAL",{"$f":"SUM(BP158:BP167)","v":{"$error":"#REF!"}},{"$error":"#REF!"},{"$error":"#REF!"},{"$error":"#REF!"},{"$error":"#REF!"},{"$error":"#REF!"},{"$error":"#REF!"}]
["PUBTECHN","DOUALA","PROD Local",{"$f":"'Budget FCFA'!D169/VLOOKUP(D$2,$BO$127:$BP$138,2,FALSE)","v":0},{"$f":"'Budget FCFA'!E169/VLOOKUP(E$2,$BO$127:$BP$138,2,FALSE)","v":0},{"$f":"'Budget FCFA'!F169/VLOOKUP(F$2,$BO$127:$BP$138,2,FALSE)","v":0},{"$f":"'Budget FCFA'!G169/VLOOKUP(G$2,$BO$127:$BP$138,2,FALSE)","v":0},{"$f":"'Budget FCFA'!H169/VLOOKUP(H$2,$BO$127:$BP$138,2,FALSE)","v":218.00209464949685},{"$f":"'Budget FCFA'!I169/VLOOKUP(I$2,$BO$127:$BP$138,2,FALSE)","v":0},{"$f":"'Budget FCFA'!J169/VLOOKUP(J$2,$BO$127:$BP$138,2,FALSE)","v":0},{"$f":"'Budget FCFA'!K169/VLOOKUP(K$2,$BO$127:$BP$138,2,FALSE)","v":0},{"$f":"'Budget FCFA'!L169/VLOOKUP(L$2,$BO$127:$BP$138,2,FALSE)","v":0},{"$f":"'Budget FCFA'!M169/VLOOKUP(M$2,$BO$127:$BP$138,2,FALSE)","v":0},{"$f":"'Budget FCFA'!N169/VLOOKUP(N$2,$BO$127:$BP$138,2,FALSE)","v":0},{"$f":"'Budget FCFA'!O169/VLOOKUP(O$2,$BO$127:$BP$138,2,FALSE)","v":0},{"$f":"'Budget FCFA'!P169/VLOOKUP(P$2,$BO$127:$BP$138,2,FALSE)","v":5197.444344675032},{"$f":"'Budget FCFA'!Q169/VLOOKUP(Q$2,$BO$127:$BP$138,2,FALSE)","v":0},{"$f":"'Budget FCFA'!R169/VLOOKUP(R$2,$BO$127:$BP$138,2,FALSE)","v":0},{"$f":"'Budget FCFA'!S169/VLOOKUP(S$2,$BO$127:$BP$138,2,FALSE)","v":0},{"$f":"'Budget FCFA'!T169/VLOOKUP(T$2,$BO$127:$BP$138,2,FALSE)","v":149.17136336680605},{"$f":"'Budget FCFA'!U169/VLOOKUP(U$2,$BO$127:$BP$138,2,FALSE)","v":0},{"$f":"'Budget FCFA'!V169/VLOOKUP(V$2,$BO$127:$BP$138,2,FALSE)","v":0},{"$f":"'Budget FCFA'!W169/VLOOKUP(W$2,$BO$127:$BP$138,2,FALSE)","v":0},{"$f":"'Budget FCFA'!X169/VLOOKUP(X$2,$BO$127:$BP$138,2,FALSE)","v":149.17136336680605},{"$f":"'Budget FCFA'!Y169/VLOOKUP(Y$2,$BO$127:$BP$138,2,FALSE)","v":149.17136336680605},{"$f":"'Budget FCFA'!Z169/VLOOKUP(Z$2,$BO$127:$BP$138,2,FALSE)","v":0},{"$f":"'Budget FCFA'!AA169/VLOOKUP(AA$2,$BO$127:$BP$138,2,FALSE)","v":81.651693632356995},{"$f":"'Budget FCFA'!AB169/VLOOKUP(AB$2,$BO$127:$BP$138,2,FALSE)","v":0},{"$f":"'Budget FCFA'!AC169/VLOOKUP(AC$2,$BO$127:$BP$138,2,FALSE)","v":0},{"$f":"'Budget FCFA'!AD169/VLOOKUP(AD$2,$BO$127:$BP$138,2,FALSE)","v":0},{"$f":"'Budget FCFA'!AE169/VLOOKUP(AE$2,$BO$127:$BP$138,2,FALSE)","v":0},{"$f":"'Budget FCFA'!AF169/VLOOKUP(AF$2,$BO$127:$BP$138,2,FALSE)","v":0},{"$f":"'Budget FCFA'!AG169/VLOOKUP(AG$2,$BO$127:$BP$138,2,FALSE)","v":38.112254309352593},{"$f":"'Budget FCFA'!AH169/VLOOKUP(AH$2,$BO$127:$BP$138,2,FALSE)","v":0},{"$f":"'Budget FCFA'!AI169/VLOOKUP(AI$2,$BO$127:$BP$138,2,FALSE)","v":0},{"$f":"'Budget FCFA'!AJ169/VLOOKUP(AJ$2,$BO$127:$BP$138,2,FALSE)","v":0},{"$f":"'Budget FCFA'!AK169/VLOOKUP(AK$2,$BO$127:$BP$138,2,FALSE)","v":0},{"$f":"'Budget FCFA'!AL169/VLOOKUP(AL$2,$BO$127:$BP$138,2,FALSE)","v":38.112254309352593},{"$f":"'Budget FCFA'!AM169/VLOOKUP(AM$2,$BO$127:$BP$138,2,FALSE)","v":38.112254309352593},{"$f":"'Budget FCFA'!AN169/VLOOKUP(AN$2,$BO$127:$BP$138,2,FALSE)","v":0},{"$f":"'Budget FCFA'!AO169/VLOOKUP(AO$2,$BO$127:$BP$138,2,FALSE)","v":0},{"$f":"'Budget FCFA'!AP169/VLOOKUP(AP$2,$BO$127:$BP$138,2,FALSE)","v":0},{"$f":"'Budget FCFA'!#REF!/VLOOKUP(AQ$2,$BO$127:$BP$138,2,FALSE)","v":{"$error":"#REF!"}},{"$f":"'Budget FCFA'!#REF!/VLOOKUP(AR$2,$BO$127:$BP$138,2,FALSE)","v":{"$error":"#REF!"}},{"$f":"'Budget FCFA'!#REF!/VLOOKUP(AS$2,$BO$127:$BP$138,2,FALSE)","v":{"$error":"#REF!"}},{"$f":"'Budget FCFA'!#REF!/VLOOKUP(AT$2,$BO$127:$BP$138,2,FALSE)","v":{"$error":"#REF!"}},{"$f":"'Budget FCFA'!#REF!/VLOOKUP(AU$2,$BO$127:$BP$138,2,FALSE)","v":{"$error":"#REF!"}},{"$f":"'Budget FCFA'!#REF!/VLOOKUP(AV$2,$BO$127:$BP$138,2,FALSE)","v":{"$error":"#REF!"}},{"$f":"'Budget FCFA'!#REF!/VLOOKUP(AW$2,$BO$127:$BP$138,2,FALSE)","v":{"$error":"#REF!"}},{"$f":"'Budget FCFA'!#REF!/VLOOKUP(AX$2,$BO$127:$BP$138,2,FALSE)","v":{"$error":"#REF!"}},{"$f":"'Budget FCFA'!#REF!/VLOOKUP(AY$2,$BO$127:$BP$138,2,FALSE)","v":{"$error":"#REF!"}},{"$f":"'Budget FCFA'!#REF!/VLOOKUP(AZ$2,$BO$127:$BP$138,2,FALSE)","v":{"$error":"#REF!"}},{"$f":"'Budget FCFA'!#REF!/VLOOKUP(BA$2,$BO$127:$BP$138,2,FALSE)","v":{"$error":"#REF!"}},{"$f":"'Budget FCFA'!#REF!/VLOOKUP(BB$2,$BO$127:$BP$138,2,FALSE)","v":{"$error":"#REF!"}},{"$f":"'Budget FCFA'!#REF!/VLOOKUP(BC$2,$BO$127:$BP$138,2,FALSE)","v":{"$error":"#REF!"}},{"$f":"'Budget FCFA'!#REF!/VLOOKUP(BD$2,$BO$127:$BP$138,2,FALSE)","v":{"$error":"#REF!"}},{"$f":"'Budget FCFA'!#REF!/VLOOKUP(BE$2,$BO$127:$BP$138,2,FALSE)","v":{"$error":"#REF!"}},{"$f":"'Budget FCFA'!#REF!/VLOOKUP(BF$2,$BO$127:$BP$138,2,FALSE)","v":{"$error":"#REF!"}},{"$f":"'Budget FCFA'!#REF!/VLOOKUP(BG$2,$BO$127:$BP$138,2,FALSE)","v":{"$error":"#REF!"}},{"$f":"'Budget FCFA'!#REF!/VLOOKUP(BH$2,$BO$127:$BP$138,2,FALSE)","v":{"$error":"#REF!"}},{"$f":"'Budget FCFA'!#REF!/VLOOKUP(BI$2,$BO$127:$BP$138,2,FALSE)","v":{"$error":"#REF!"}},{"$f":"'Budget FCFA'!#REF!/VLOOKUP(BJ$2,$BO$127:$BP$138,2,FALSE)","v":{"$error":"#REF!"}},{"$error":"#REF!"},{"$f":"BK169-'Budget FCFA'!#REF!","v":{"$error":"#REF!"}}]
["PUBTECHN","TOTAL","Total prod locale",{"$f":"'Budget FCFA'!D170/VLOOKUP(D$2,$BO$127:$BP$138,2,FALSE)","v":118.48337619691534},{"$f":"'Budget FCFA'!E170/VLOOKUP(E$2,$BO$127:$BP$138,2,FALSE)","v":462.83521633277792},{"$f":"'Budget FCFA'!F170/VLOOKUP(F$2,$BO$127:$BP$138,2,FALSE)","v":66.467771515510933},{"$f":"'Budget FCFA'!G170/VLOOKUP(G$2,$BO$127:$BP$138,2,FALSE)","v":0},{"$f":"'Budget FCFA'!H170/VLOOKUP(H$2,$BO$127:$BP$138,2,FALSE)","v":218.00209464949685},{"$f":"'Budget FCFA'!I170/VLOOKUP(I$2,$BO$127:$BP$138,2,FALSE)","v":756.8087542323658},{"$f":"'Budget FCFA'!J170/VLOOKUP(J$2,$BO$127:$BP$138,2,FALSE)","v":0},{"$f":"'Budget FCFA'!K170/VLOOKUP(K$2,$BO$127:$BP$138,2,FALSE)","v":0},{"$f":"'Budget FCFA'!L170/VLOOKUP(L$2,$BO$127:$BP$138,2,FALSE)","v":0},{"$f":"'Budget FCFA'!M170/VLOOKUP(M$2,$BO$127:$BP$138,2,FALSE)","v":1572.9689598556004},{"$f":"'Budget FCFA'!N170/VLOOKUP(N$2,$BO$127:$BP$138,2,FALSE)","v":0},{"$f":"'Budget FCFA'!O170/VLOOKUP(O$2,$BO$127:$BP$138,2,FALSE)","v":611.86937558407033},{"$f":"'Budget FCFA'!P170/VLOOKUP(P$2,$BO$127:$BP$138,2,FALSE)","v":7249.9157719179766},{"$f":"'Budget FCFA'!Q170/VLOOKUP(Q$2,$BO$127:$BP$138,2,FALSE)","v":0},{"$f":"'Budget FCFA'!R170/VLOOKUP(R$2,$BO$127:$BP$138,2,FALSE)","v":0},{"$f":"'Budget FCFA'!S170/VLOOKUP(S$2,$BO$127:$BP$138,2,FALSE)","v":0},{"$f":"'Budget FCFA'!T170/VLOOKUP(T$2,$BO$127:$BP$138,2,FALSE)","v":761.0407389508764},{"$f":"'Budget FCFA'!U170/VLOOKUP(U$2,$BO$127:$BP$138,2,FALSE)","v":0},{"$f":"'Budget FCFA'!V170/VLOOKUP(V$2,$BO$127:$BP$138,2,FALSE)","v":0},{"$f":"'Budget FCFA'!W170/VLOOKUP(W$2,$BO$127:$BP$138,2,FALSE)","v":0},{"$f":"'Budget FCFA'!X170/VLOOKUP(X$2,$BO$127:$BP$138,2,FALSE)","v":215.48668586507958},{"$f":"'Budget FCFA'!Y170/VLOOKUP(Y$2,$BO$127:$BP$138,2,FALSE)","v":760.88828993363893},{"$f":"'Budget FCFA'!Z170/VLOOKUP(Z$2,$BO$127:$BP$138,2,FALSE)","v":0},{"$f":"'Budget FCFA'!AA170/VLOOKUP(AA$2,$BO$127:$BP$138,2,FALSE)","v":559.74400761025493},{"$f":"'Budget FCFA'!AB170/VLOOKUP(AB$2,$BO$127:$BP$138,2,FALSE)","v":610.93800659708324},{"$f":"'Budget FCFA'!AC170/VLOOKUP(AC$2,$BO$127:$BP$138,2,FALSE)","v":0},{"$f":"'Budget FCFA'!AD170/VLOOKUP(AD$2,$BO$127:$BP$138,2,FALSE)","v":0},{"$f":"'Budget FCFA'!AE170/VLOOKUP(AE$2,$BO$127:$BP$138,2,FALSE)","v":0},{"$f":"'Budget FCFA'!AF170/VLOOKUP(AF$2,$BO$127:$BP$138,2,FALSE)","v":428.95958182955656},{"$f":"'Budget FCFA'!AG170/VLOOKUP(AG$2,$BO$127:$BP$138,2,FALSE)","v":599.94481345576003},{"$f":"'Budget FCFA'!AH170/VLOOKUP(AH$2,$BO$127:$BP$138,2,FALSE)","v":0},{"$f":"'Budget FCFA'!AI170/VLOOKUP(AI$2,$BO$127:$BP$138,2,FALSE)","v":0},{"$f":"'Budget FCFA'!AJ170/VLOOKUP(AJ$2,$BO$127:$BP$138,2,FALSE)","v":0},{"$f":"'Budget FCFA'!AK170/VLOOKUP(AK$2,$BO$127:$BP$138,2,FALSE)","v":0},{"$f":"'Budget FCFA'!AL170/VLOOKUP(AL$2,$BO$127:$BP$138,2,FALSE)","v":882.85360168425677},{"$f":"'Budget FCFA'!AM170/VLOOKUP(AM$2,$BO$127:$BP$138,2,FALSE)","v":833.19180982899798},{"$f":"'Budget FCFA'!AN170/VLOOKUP(AN$2,$BO$127:$BP$138,2,FALSE)","v":0},{"$f":"'Budget FCFA'!AO170/VLOOKUP(AO$2,$BO$127:$BP$138,2,FALSE)","v":0},{"$f":"'Budget FCFA'!AP170/VLOOKUP(AP$2,$BO$127:$BP$138,2,FALSE)","v":0},{"$f":"'Budget FCFA'!#REF!/VLOOKUP(AQ$2,$BO$127:$BP$138,2,FALSE)","v":{"$error":"#REF!"}},{"$f":"'Budget FCFA'!#REF!/VLOOKUP(AR$2,$BO$127:$BP$138,2,FALSE)","v":{"$error":"#REF!"}},{"$f":"'Budget FCFA'!#REF!/VLOOKUP(AS$2,$BO$127:$BP$138,2,FALSE)","v":{"$error":"#REF!"}},{"$f":"'Budget FCFA'!#REF!/VLOOKUP(AT$2,$BO$127:$BP$138,2,FALSE)","v":{"$error":"#REF!"}},{"$f":"'Budget FCFA'!#REF!/VLOOKUP(AU$2,$BO$127:$BP$138,2,FALSE)","v":{"$error":"#REF!"}},{"$f":"'Budget FCFA'!#REF!/VLOOKUP(AV$2,$BO$127:$BP$138,2,FALSE)","v":{"$error":"#REF!"}},{"$f":"'Budget FCFA'!#REF!/VLOOKUP(AW$2,$BO$127:$BP$138,2,FALSE)","v":{"$error":"#REF!"}},{"$f":"'Budget FCFA'!#REF!/VLOOKUP(AX$2,$BO$127:$BP$138,2,FALSE)","v":{"$error":"#REF!"}},{"$f":"'Budget FCFA'!#REF!/VLOOKUP(AY$2,$BO$127:$BP$138,2,FALSE)","v":{"$error":"#REF!"}},{"$f":"'Budget FCFA'!#REF!/VLOOKUP(AZ$2,$BO$127:$BP$138,2,FALSE)","v":{"$error":"#REF!"}},{"$f":"'Budget FCFA'!#REF!/VLOOKUP(BA$2,$BO$127:$BP$138,2,FALSE)","v":{"$error":"#REF!"}},{"$f":"'Budget FCFA'!#REF!/VLOOKUP(BB$2,$BO$127:$BP$138,2,FALSE)","v":{"$error":"#REF!"}},{"$f":"'Budget FCFA'!#REF!/VLOOKUP(BC$2,$BO$127:$BP$138,2,FALSE)","v":{"$error":"#REF!"}},{"$f":"'Budget FCFA'!#REF!/VLOOKUP(BD$2,$BO$127:$BP$138,2,FALSE)","v":{"$error":"#REF!"}},{"$f":"'Budget FCFA'!#REF!/VLOOKUP(BE$2,$BO$127:$BP$138,2,FALSE)","v":{"$error":"#REF!"}},{"$f":"'Budget FCFA'!#REF!/VLOOKUP(BF$2,$BO$127:$BP$138,2,FALSE)","v":{"$error":"#REF!"}},{"$f":"'Budget FCFA'!#REF!/VLOOKUP(BG$2,$BO$127:$BP$138,2,FALSE)","v":{"$error":"#REF!"}},{"$f":"'Budget FCFA'!#REF!/VLOOKUP(BH$2,$BO$127:$BP$138,2,FALSE)","v":{"$error":"#REF!"}},{"$f":"'Budget FCFA'!#REF!/VLOOKUP(BI$2,$BO$127:$BP$138,2,FALSE)","v":{"$error":"#REF!"}},{"$f":"'Budget FCFA'!#REF!/VLOOKUP(BJ$2,$BO$127:$BP$138,2,FALSE)","v":{"$error":"#REF!"}},{"$error":"#REF!"},{"$f":"BK170-'Budget FCFA'!#REF!","v":{"$error":"#REF!"}}]
["PUBTECHN","ABIDJAN","Exceptionnel",{"$f":"'Budget FCFA'!D171/VLOOKUP(D$2,$BO$127:$BP$138,2,FALSE)","v":0},{"$f":"'Budget FCFA'!E171/VLOOKUP(E$2,$BO$127:$BP$138,2,FALSE)","v":0},{"$f":"'Budget FCFA'!F171/VLOOKUP(F$2,$BO$127:$BP$138,2,FALSE)","v":0},{"$f":"'Budget FCFA'!G171/VLOOKUP(G$2,$BO$127:$BP$138,2,FALSE)","v":0},{"$f":"'Budget FCFA'!H171/VLOOKUP(H$2,$BO$127:$BP$138,2,FALSE)","v":0},{"$f":"'Budget FCFA'!I171/VLOOKUP(I$2,$BO$127:$BP$138,2,FALSE)","v":1184.1995740574459},{"$f":"'Budget FCFA'!J171/VLOOKUP(J$2,$BO$127:$BP$138,2,FALSE)","v":0},{"$f":"'Budget FCFA'!K171/VLOOKUP(K$2,$BO$127:$BP$138,2,FALSE)","v":0},{"$f":"'Budget FCFA'!L171/VLOOKUP(L$2,$BO$127:$BP$138,2,FALSE)","v":0},{"$f":"'Budget FCFA'!M171/VLOOKUP(M$2,$BO$127:$BP$138,2,FALSE)","v":2462.0516283841775},{"$f":"'Budget FCFA'!N171/VLOOKUP(N$2,$BO$127:$BP$138,2,FALSE)","v":0},{"$f":"'Budget FCFA'!O171/VLOOKUP(O$2,$BO$127:$BP$138,2,FALSE)","v":0},{"$f":"'Budget FCFA'!P171/VLOOKUP(P$2,$BO$127:$BP$138,2,FALSE)","v":0},{"$f":"'Budget FCFA'!Q171/VLOOKUP(Q$2,$BO$127:$BP$138,2,FALSE)","v":0},{"$f":"'Budget FCFA'!R171/VLOOKUP(R$2,$BO$127:$BP$138,2,FALSE)","v":3523.096788356554},{"$f":"'Budget FCFA'!S171/VLOOKUP(S$2,$BO$127:$BP$138,2,FALSE)","v":0},{"$f":"'Budget FCFA'!T171/VLOOKUP(T$2,$BO$127:$BP$138,2,FALSE)","v":1161.881037933889},{"$f":"'Budget FCFA'!U171/VLOOKUP(U$2,$BO$127:$BP$138,2,FALSE)","v":0},{"$f":"'Budget FCFA'!V171/VLOOKUP(V$2,$BO$127:$BP$138,2,FALSE)","v":0},{"$f":"'Budget FCFA'!W171/VLOOKUP(W$2,$BO$127:$BP$138,2,FALSE)","v":829.2006945577225},{"$f":"'Budget FCFA'!X171/VLOOKUP(X$2,$BO$127:$BP$138,2,FALSE)","v":0},{"$f":"'Budget FCFA'!Y171/VLOOKUP(Y$2,$BO$127:$BP$138,2,FALSE)","v":0},{"$f":"'Budget FCFA'!Z171/VLOOKUP(Z$2,$BO$127:$BP$138,2,FALSE)","v":0},{"$f":"'Budget FCFA'!AA171/VLOOKUP(AA$2,$BO$127:$BP$138,2,FALSE)","v":185.2255559434536},{"$f":"'Budget FCFA'!AB171/VLOOKUP(AB$2,$BO$127:$BP$138,2,FALSE)","v":0},{"$f":"'Budget FCFA'!AC171/VLOOKUP(AC$2,$BO$127:$BP$138,2,FALSE)","v":0},{"$f":"'Budget FCFA'!AD171/VLOOKUP(AD$2,$BO$127:$BP$138,2,FALSE)","v":0},{"$f":"'Budget FCFA'!AE171/VLOOKUP(AE$2,$BO$127:$BP$138,2,FALSE)","v":0},{"$f":"'Budget FCFA'!AF171/VLOOKUP(AF$2,$BO$127:$BP$138,2,FALSE)","v":438.38485623868837},{"$f":"'Budget FCFA'!AG171/VLOOKUP(AG$2,$BO$127:$BP$138,2,FALSE)","v":0},{"$f":"'Budget FCFA'!AH171/VLOOKUP(AH$2,$BO$127:$BP$138,2,FALSE)","v":0},{"$f":"'Budget FCFA'!AI171/VLOOKUP(AI$2,$BO$127:$BP$138,2,FALSE)","v":0},{"$f":"'Budget FCFA'!AJ171/VLOOKUP(AJ$2,$BO$127:$BP$138,2,FALSE)","v":0},{"$f":"'Budget FCFA'!AK171/VLOOKUP(AK$2,$BO$127:$BP$138,2,FALSE)","v":0},{"$f":"'Budget FCFA'!AL171/VLOOKUP(AL$2,$BO$127:$BP$138,2,FALSE)","v":1722.3034436708504},{"$f":"'Budget FCFA'!AM171/VLOOKUP(AM$2,$BO$127:$BP$138,2,FALSE)","v":0},{"$f":"'Budget FCFA'!AN171/VLOOKUP(AN$2,$BO$127:$BP$138,2,FALSE)","v":0},{"$f":"'Budget FCFA'!AO171/VLOOKUP(AO$2,$BO$127:$BP$138,2,FALSE)","v":0},{"$f":"'Budget FCFA'!AP171/VLOOKUP(AP$2,$BO$127:$BP$138,2,FALSE)","v":0},{"$f":"'Budget FCFA'!#REF!/VLOOKUP(AQ$2,$BO$127:$BP$138,2,FALSE)","v":{"$error":"#REF!"}},{"$f":"'Budget FCFA'!#REF!/VLOOKUP(AR$2,$BO$127:$BP$138,2,FALSE)","v":{"$error":"#REF!"}},{"$f":"'Budget FCFA'!#REF!/VLOOKUP(AS$2,$BO$127:$BP$138,2,FALSE)","v":{"$error":"#REF!"}},{"$f":"'Budget FCFA'!#REF!/VLOOKUP(AT$2,$BO$127:$BP$138,2,FALSE)","v":{"$error":"#REF!"}},{"$f":"'Budget FCFA'!#REF!/VLOOKUP(AU$2,$BO$127:$BP$138,2,FALSE)","v":{"$error":"#REF!"}},{"$f":"'Budget FCFA'!#REF!/VLOOKUP(AV$2,$BO$127:$BP$138,2,FALSE)","v":{"$error":"#REF!"}},{"$f":"'Budget FCFA'!#REF!/VLOOKUP(AW$2,$BO$127:$BP$138,2,FALSE)","v":{"$error":"#REF!"}},{"$f":"'Budget FCFA'!#REF!/VLOOKUP(AX$2,$BO$127:$BP$138,2,FALSE)","v":{"$error":"#REF!"}},{"$f":"'Budget FCFA'!#REF!/VLOOKUP(AY$2,$BO$127:$BP$138,2,FALSE)","v":{"$error":"#REF!"}},{"$f":"'Budget FCFA'!#REF!/VLOOKUP(AZ$2,$BO$127:$BP$138,2,FALSE)","v":{"$error":"#REF!"}},{"$f":"'Budget FCFA'!#REF!/VLOOKUP(BA$2,$BO$127:$BP$138,2,FALSE)","v":{"$error":"#REF!"}},{"$f":"'Budget FCFA'!#REF!/VLOOKUP(BB$2,$BO$127:$BP$138,2,FALSE)","v":{"$error":"#REF!"}},{"$f":"'Budget FCFA'!#REF!/VLOOKUP(BC$2,$BO$127:$BP$138,2,FALSE)","v":{"$error":"#REF!"}},{"$f":"'Budget FCFA'!#REF!/VLOOKUP(BD$2,$BO$127:$BP$138,2,FALSE)","v":{"$error":"#REF!"}},{"$f":"'Budget FCFA'!#REF!/VLOOKUP(BE$2,$BO$127:$BP$138,2,FALSE)","v":{"$error":"#REF!"}},{"$f":"'Budget FCFA'!#REF!/VLOOKUP(BF$2,$BO$127:$BP$138,2,FALSE)","v":{"$error":"#REF!"}},{"$f":"'Budget FCFA'!#REF!/VLOOKUP(BG$2,$BO$127:$BP$138,2,FALSE)","v":{"$error":"#REF!"}},{"$f":"'Budget FCFA'!#REF!/VLOOKUP(BH$2,$BO$127:$BP$138,2,FALSE)","v":{"$error":"#REF!"}},{"$f":"'Budget FCFA'!#REF!/VLOOKUP(BI$2,$BO$127:$BP$138,2,FALSE)","v":{"$error":"#REF!"}},{"$f":"'Budget FCFA'!#REF!/VLOOKUP(BJ$2,$BO$127:$BP$138,2,FALSE)","v":{"$error":"#REF!"}},{"$error":"#REF!"},{"$f":"BK171-'Budget FCFA'!#REF!","v":{"$error":"#REF!"}}]
["PUBTECHN","BRAZZA","Exceptionnel",{"$f":"'Budget FCFA'!D172/VLOOKUP(D$2,$BO$127:$BP$138,2,FALSE)","v":0},{"$f":"'Budget FCFA'!E172/VLOOKUP(E$2,$BO$127:$BP$138,2,FALSE)","v":0},{"$f":"'Budget FCFA'!F172/VLOOKUP(F$2,$BO$127:$BP$138,2,FALSE)","v":0},{"$f":"'Budget FCFA'!G172/VLOOKUP(G$2,$BO$127:$BP$138,2,FALSE)","v":0},{"$f":"'Budget FCFA'!H172/VLOOKUP(H$2,$BO$127:$BP$138,2,FALSE)","v":0},{"$f":"'Budget FCFA'!I172/VLOOKUP(I$2,$BO$127:$BP$138,2,FALSE)","v":229.43866747363018},{"$f":"'Budget FCFA'!J172/VLOOKUP(J$2,$BO$127:$BP$138,2,FALSE)","v":0},{"$f":"'Budget FCFA'!K172/VLOOKUP(K$2,$BO$127:$BP$138,2,FALSE)","v":0},{"$f":"'Budget FCFA'!L172/VLOOKUP(L$2,$BO$127:$BP$138,2,FALSE)","v":0},{"$f":"'Budget FCFA'!M172/VLOOKUP(M$2,$BO$127:$BP$138,2,FALSE)","v":0},{"$f":"'Budget FCFA'!N172/VLOOKUP(N$2,$BO$127:$BP$138,2,FALSE)","v":0},{"$f":"'Budget FCFA'!O172/VLOOKUP(O$2,$BO$127:$BP$138,2,FALSE)","v":0},{"$f":"'Budget FCFA'!P172/VLOOKUP(P$2,$BO$127:$BP$138,2,FALSE)","v":0},{"$f":"'Budget FCFA'!Q172/VLOOKUP(Q$2,$BO$127:$BP$138,2,FALSE)","v":0},{"$f":"'Budget FCFA'!R172/VLOOKUP(R$2,$BO$127:$BP$138,2,FALSE)","v":0},{"$f":"'Budget FCFA'!S172/VLOOKUP(S$2,$BO$127:$BP$138,2,FALSE)","v":0},{"$f":"'Budget FCFA'!T172/VLOOKUP(T$2,$BO$127:$BP$138,2,FALSE)","v":225.11445109969102},{"$f":"'Budget FCFA'!U172/VLOOKUP(U$2,$BO$127:$BP$138,2,FALSE)","v":0},{"$f":"'Budget FCFA'!V172/VLOOKUP(V$2,$BO$127:$BP$138,2,FALSE)","v":0},{"$f":"'Budget FCFA'!W172/VLOOKUP(W$2,$BO$127:$BP$138,2,FALSE)","v":808.41579554757402},{"$f":"'Budget FCFA'!X172/VLOOKUP(X$2,$BO$127:$BP$138,2,FALSE)","v":0},{"$f":"'Budget FCFA'!Y172/VLOOKUP(Y$2,$BO$127:$BP$138,2,FALSE)","v":0},{"$f":"'Budget FCFA'!Z172/VLOOKUP(Z$2,$BO$127:$BP$138,2,FALSE)","v":0},{"$f":"'Budget FCFA'!AA172/VLOOKUP(AA$2,$BO$127:$BP$138,2,FALSE)","v":0},{"$f":"'Budget FCFA'!AB172/VLOOKUP(AB$2,$BO$127:$BP$138,2,FALSE)","v":0},{"$f":"'Budget FCFA'!AC172/VLOOKUP(AC$2,$BO$127:$BP$138,2,FALSE)","v":0},{"$f":"'Budget FCFA'!AD172/VLOOKUP(AD$2,$BO$127:$BP$138,2,FALSE)","v":0},{"$f":"'Budget FCFA'!AE172/VLOOKUP(AE$2,$BO$127:$BP$138,2,FALSE)","v":0},{"$f":"'Budget FCFA'!AF172/VLOOKUP(AF$2,$BO$127:$BP$138,2,FALSE)","v":0},{"$f":"'Budget FCFA'!AG172/VLOOKUP(AG$2,$BO$127:$BP$138,2,FALSE)","v":0},{"$f":"'Budget FCFA'!AH172/VLOOKUP(AH$2,$BO$127:$BP$138,2,FALSE)","v":0},{"$f":"'Budget FCFA'!AI172/VLOOKUP(AI$2,$BO$127:$BP$138,2,FALSE)","v":0},{"$f":"'Budget FCFA'!AJ172/VLOOKUP(AJ$2,$BO$127:$BP$138,2,FALSE)","v":0},{"$f":"'Budget FCFA'!AK172/VLOOKUP(AK$2,$BO$127:$BP$138,2,FALSE)","v":0},{"$f":"'Budget FCFA'!AL172/VLOOKUP(AL$2,$BO$127:$BP$138,2,FALSE)","v":330.39360811760525},{"$f":"'Budget FCFA'!AM172/VLOOKUP(AM$2,$BO$127:$BP$138,2,FALSE)","v":0},{"$f":"'Budget FCFA'!AN172/VLOOKUP(AN$2,$BO$127:$BP$138,2,FALSE)","v":0},{"$f":"'Budget FCFA'!AO172/VLOOKUP(AO$2,$BO$127:$BP$138,2,FALSE)","v":0},{"$f":"'Budget FCFA'!AP172/VLOOKUP(AP$2,$BO$127:$BP$138,2,FALSE)","v":0},{"$f":"'Budget FCFA'!#REF!/VLOOKUP(AQ$2,$BO$127:$BP$138,2,FALSE)","v":{"$error":"#REF!"}},{"$f":"'Budget FCFA'!#REF!/VLOOKUP(AR$2,$BO$127:$BP$138,2,FALSE)","v":{"$error":"#REF!"}},{"$f":"'Budget FCFA'!#REF!/VLOOKUP(AS$2,$BO$127:$BP$138,2,FALSE)","v":{"$error":"#REF!"}},{"$f":"'Budget FCFA'!#REF!/VLOOKUP(AT$2,$BO$127:$BP$138,2,FALSE)","v":{"$error":"#REF!"}},{"$f":"'Budget FCFA'!#REF!/VLOOKUP(AU$2,$BO$127:$BP$138,2,FALSE)","v":{"$error":"#REF!"}},{"$f":"'Budget FCFA'!#REF!/VLOOKUP(AV$2,$BO$127:$BP$138,2,FALSE)","v":{"$error":"#REF!"}},{"$f":"'Budget FCFA'!#REF!/VLOOKUP(AW$2,$BO$127:$BP$138,2,FALSE)","v":{"$error":"#REF!"}},{"$f":"'Budget FCFA'!#REF!/VLOOKUP(AX$2,$BO$127:$BP$138,2,FALSE)","v":{"$error":"#REF!"}},{"$f":"'Budget FCFA'!#REF!/VLOOKUP(AY$2,$BO$127:$BP$138,2,FALSE)","v":{"$error":"#REF!"}},{"$f":"'Budget FCFA'!#REF!/VLOOKUP(AZ$2,$BO$127:$BP$138,2,FALSE)","v":{"$error":"#REF!"}},{"$f":"'Budget FCFA'!#REF!/VLOOKUP(BA$2,$BO$127:$BP$138,2,FALSE)","v":{"$error":"#REF!"}},{"$f":"'Budget FCFA'!#REF!/VLOOKUP(BB$2,$BO$127:$BP$138,2,FALSE)","v":{"$error":"#REF!"}},{"$f":"'Budget FCFA'!#REF!/VLOOKUP(BC$2,$BO$127:$BP$138,2,FALSE)","v":{"$error":"#REF!"}},{"$f":"'Budget FCFA'!#REF!/VLOOKUP(BD$2,$BO$127:$BP$138,2,FALSE)","v":{"$error":"#REF!"}},{"$f":"'Budget FCFA'!#REF!/VLOOKUP(BE$2,$BO$127:$BP$138,2,FALSE)","v":{"$error":"#REF!"}},{"$f":"'Budget FCFA'!#REF!/VLOOKUP(BF$2,$BO$127:$BP$138,2,FALSE)","v":{"$error":"#REF!"}},{"$f":"'Budget FCFA'!#REF!/VLOOKUP(BG$2,$BO$127:$BP$138,2,FALSE)","v":{"$error":"#REF!"}},{"$f":"'Budget FCFA'!#REF!/VLOOKUP(BH$2,$BO$127:$BP$138,2,FALSE)","v":{"$error":"#REF!"}},{"$f":"'Budget FCFA'!#REF!/VLOOKUP(BI$2,$BO$127:$BP$138,2,FALSE)","v":{"$error":"#REF!"}},{"$f":"'Budget FCFA'!#REF!/VLOOKUP(BJ$2,$BO$127:$BP$138,2,FALSE)","v":{"$error":"#REF!"}},{"$error":"#REF!"},{"$f":"BK172-'Budget FCFA'!#REF!","v":{"$error":"#REF!"}}]
["PUBTECHN","DAKAR","Exceptionnel",{"$f":"'Budget FCFA'!D173/VLOOKUP(D$2,$BO$127:$BP$138,2,FALSE)","v":0},{"$f":"'Budget FCFA'!E173/VLOOKUP(E$2,$BO$127:$BP$138,2,FALSE)","v":0},{"$f":"'Budget FCFA'!F173/VLOOKUP(F$2,$BO$127:$BP$138,2,FALSE)","v":0},{"$f":"'Budget FCFA'!G173/VLOOKUP(G$2,$BO$127:$BP$138,2,FALSE)","v":0},{"$f":"'Budget FCFA'!H173/VLOOKUP(H$2,$BO$127:$BP$138,2,FALSE)","v":0},{"$f":"'Budget FCFA'!I173/VLOOKUP(I$2,$BO$127:$BP$138,2,FALSE)","v":308.38530574412653},{"$f":"'Budget FCFA'!J173/VLOOKUP(J$2,$BO$127:$BP$138,2,FALSE)","v":0},{"$f":"'Budget FCFA'!K173/VLOOKUP(K$2,$BO$127:$BP$138,2,FALSE)","v":0},{"$f":"'Budget FCFA'!L173/VLOOKUP(L$2,$BO$127:$BP$138,2,FALSE)","v":0},{"$f":"'Budget FCFA'!M173/VLOOKUP(M$2,$BO$127:$BP$138,2,FALSE)","v":0},{"$f":"'Budget FCFA'!N173/VLOOKUP(N$2,$BO$127:$BP$138,2,FALSE)","v":0},{"$f":"'Budget FCFA'!O173/VLOOKUP(O$2,$BO$127:$BP$138,2,FALSE)","v":0},{"$f":"'Budget FCFA'!P173/VLOOKUP(P$2,$BO$127:$BP$138,2,FALSE)","v":0},{"$f":"'Budget FCFA'!Q173/VLOOKUP(Q$2,$BO$127:$BP$138,2,FALSE)","v":0},{"$f":"'Budget FCFA'!R173/VLOOKUP(R$2,$BO$127:$BP$138,2,FALSE)","v":0},{"$f":"'Budget FCFA'!S173/VLOOKUP(S$2,$BO$127:$BP$138,2,FALSE)","v":0},{"$f":"'Budget FCFA'!T173/VLOOKUP(T$2,$BO$127:$BP$138,2,FALSE)","v":302.57318696195023},{"$f":"'Budget FCFA'!U173/VLOOKUP(U$2,$BO$127:$BP$138,2,FALSE)","v":0},{"$f":"'Budget FCFA'!V173/VLOOKUP(V$2,$BO$127:$BP$138,2,FALSE)","v":0},{"$f":"'Budget FCFA'!W173/VLOOKUP(W$2,$BO$127:$BP$138,2,FALSE)","v":0},{"$f":"'Budget FCFA'!X173/VLOOKUP(X$2,$BO$127:$BP$138,2,FALSE)","v":0},{"$f":"'Budget FCFA'!Y173/VLOOKUP(Y$2,$BO$127:$BP$138,2,FALSE)","v":0},{"$f":"'Budget FCFA'!Z173/VLOOKUP(Z$2,$BO$127:$BP$138,2,FALSE)","v":0},{"$f":"'Budget FCFA'!AA173/VLOOKUP(AA$2,$BO$127:$BP$138,2,FALSE)","v":0},{"$f":"'Budget FCFA'!AB173/VLOOKUP(AB$2,$BO$127:$BP$138,2,FALSE)","v":0},{"$f":"'Budget FCFA'!AC173/VLOOKUP(AC$2,$BO$127:$BP$138,2,FALSE)","v":0},{"$f":"'Budget FCFA'!AD173/VLOOKUP(AD$2,$BO$127:$BP$138,2,FALSE)","v":0},{"$f":"'Budget FCFA'!AE173/VLOOKUP(AE$2,$BO$127:$BP$138,2,FALSE)","v":0},{"$f":"'Budget FCFA'!AF173/VLOOKUP(AF$2,$BO$127:$BP$138,2,FALSE)","v":0},{"$f":"'Budget FCFA'!AG173/VLOOKUP(AG$2,$BO$127:$BP$138,2,FALSE)","v":0},{"$f":"'Budget FCFA'!AH173/VLOOKUP(AH$2,$BO$127:$BP$138,2,FALSE)","v":0},{"$f":"'Budget FCFA'!AI173/VLOOKUP(AI$2,$BO$127:$BP$138,2,FALSE)","v":0},{"$f":"'Budget FCFA'!AJ173/VLOOKUP(AJ$2,$BO$127:$BP$138,2,FALSE)","v":0},{"$f":"'Budget FCFA'!AK173/VLOOKUP(AK$2,$BO$127:$BP$138,2,FALSE)","v":0},{"$f":"'Budget FCFA'!AL173/VLOOKUP(AL$2,$BO$127:$BP$138,2,FALSE)","v":442.76530321347286},{"$f":"'Budget FCFA'!AM173/VLOOKUP(AM$2,$BO$127:$BP$138,2,FALSE)","v":0},{"$f":"'Budget FCFA'!AN173/VLOOKUP(AN$2,$BO$127:$BP$138,2,FALSE)","v":0},{"$f":"'Budget FCFA'!AO173/VLOOKUP(AO$2,$BO$127:$BP$138,2,FALSE)","v":0},{"$f":"'Budget FCFA'!AP173/VLOOKUP(AP$2,$BO$127:$BP$138,2,FALSE)","v":0},{"$f":"'Budget FCFA'!#REF!/VLOOKUP(AQ$2,$BO$127:$BP$138,2,FALSE)","v":{"$error":"#REF!"}},{"$f":"'Budget FCFA'!#REF!/VLOOKUP(AR$2,$BO$127:$BP$138,2,FALSE)","v":{"$error":"#REF!"}},{"$f":"'Budget FCFA'!#REF!/VLOOKUP(AS$2,$BO$127:$BP$138,2,FALSE)","v":{"$error":"#REF!"}},{"$f":"'Budget FCFA'!#REF!/VLOOKUP(AT$2,$BO$127:$BP$138,2,FALSE)","v":{"$error":"#REF!"}},{"$f":"'Budget FCFA'!#REF!/VLOOKUP(AU$2,$BO$127:$BP$138,2,FALSE)","v":{"$error":"#REF!"}},{"$f":"'Budget FCFA'!#REF!/VLOOKUP(AV$2,$BO$127:$BP$138,2,FALSE)","v":{"$error":"#REF!"}},{"$f":"'Budget FCFA'!#REF!/VLOOKUP(AW$2,$BO$127:$BP$138,2,FALSE)","v":{"$error":"#REF!"}},{"$f":"'Budget FCFA'!#REF!/VLOOKUP(AX$2,$BO$127:$BP$138,2,FALSE)","v":{"$error":"#REF!"}},{"$f":"'Budget FCFA'!#REF!/VLOOKUP(AY$2,$BO$127:$BP$138,2,FALSE)","v":{"$error":"#REF!"}},{"$f":"'Budget FCFA'!#REF!/VLOOKUP(AZ$2,$BO$127:$BP$138,2,FALSE)","v":{"$error":"#REF!"}},{"$f":"'Budget FCFA'!#REF!/VLOOKUP(BA$2,$BO$127:$BP$138,2,FALSE)","v":{"$error":"#REF!"}},{"$f":"'Budget FCFA'!#REF!/VLOOKUP(BB$2,$BO$127:$BP$138,2,FALSE)","v":{"$error":"#REF!"}},{"$f":"'Budget FCFA'!#REF!/VLOOKUP(BC$2,$BO$127:$BP$138,2,FALSE)","v":{"$error":"#REF!"}},{"$f":"'Budget FCFA'!#REF!/VLOOKUP(BD$2,$BO$127:$BP$138,2,FALSE)","v":{"$error":"#REF!"}},{"$f":"'Budget FCFA'!#REF!/VLOOKUP(BE$2,$BO$127:$BP$138,2,FALSE)","v":{"$error":"#REF!"}},{"$f":"'Budget FCFA'!#REF!/VLOOKUP(BF$2,$BO$127:$BP$138,2,FALSE)","v":{"$error":"#REF!"}},{"$f":"'Budget FCFA'!#REF!/VLOOKUP(BG$2,$BO$127:$BP$138,2,FALSE)","v":{"$error":"#REF!"}},{"$f":"'Budget FCFA'!#REF!/VLOOKUP(BH$2,$BO$127:$BP$138,2,FALSE)","v":{"$error":"#REF!"}},{"$f":"'Budget FCFA'!#REF!/VLOOKUP(BI$2,$BO$127:$BP$138,2,FALSE)","v":{"$error":"#REF!"}},{"$f":"'Budget FCFA'!#REF!/VLOOKUP(BJ$2,$BO$127:$BP$138,2,FALSE)","v":{"$error":"#REF!"}},{"$error":"#REF!"},{"$f":"BK173-'Budget FCFA'!#REF!","v":{"$error":"#REF!"}}]
["PUBTECHN","LIBREVILLE","Exceptionnel",{"$f":"'Budget FCFA'!D174/VLOOKUP(D$2,$BO$127:$BP$138,2,FALSE)","v":0},{"$f":"'Budget FCFA'!E174/VLOOKUP(E$2,$BO$127:$BP$138,2,FALSE)","v":0},{"$f":"'Budget FCFA'!F174/VLOOKUP(F$2,$BO$127:$BP$138,2,FALSE)","v":0},{"$f":"'Budget FCFA'!G174/VLOOKUP(G$2,$BO$127:$BP$138,2,FALSE)","v":0},{"$f":"'Budget FCFA'!H174/VLOOKUP(H$2,$BO$127:$BP$138,2,FALSE)","v":0},{"$f":"'Budget FCFA'!I174/VLOOKUP(I$2,$BO$127:$BP$138,2,FALSE)","v":436.6735929336831},{"$f":"'Budget FCFA'!J174/VLOOKUP(J$2,$BO$127:$BP$138,2,FALSE)","v":0},{"$f":"'Budget FCFA'!K174/VLOOKUP(K$2,$BO$127:$BP$138,2,FALSE)","v":0},{"$f":"'Budget FCFA'!L174/VLOOKUP(L$2,$BO$127:$BP$138,2,FALSE)","v":0},{"$f":"'Budget FCFA'!M174/VLOOKUP(M$2,$BO$127:$BP$138,2,FALSE)","v":0},{"$f":"'Budget FCFA'!N174/VLOOKUP(N$2,$BO$127:$BP$138,2,FALSE)","v":0},{"$f":"'Budget FCFA'!O174/VLOOKUP(O$2,$BO$127:$BP$138,2,FALSE)","v":0},{"$f":"'Budget FCFA'!P174/VLOOKUP(P$2,$BO$127:$BP$138,2,FALSE)","v":0},{"$f":"'Budget FCFA'!Q174/VLOOKUP(Q$2,$BO$127:$BP$138,2,FALSE)","v":0},{"$f":"'Budget FCFA'!R174/VLOOKUP(R$2,$BO$127:$BP$138,2,FALSE)","v":0},{"$f":"'Budget FCFA'!S174/VLOOKUP(S$2,$BO$127:$BP$138,2,FALSE)","v":0},{"$f":"'Budget FCFA'!T174/VLOOKUP(T$2,$BO$127:$BP$138,2,FALSE)","v":428.44363273812155},{"$f":"'Budget FCFA'!U174/VLOOKUP(U$2,$BO$127:$BP$138,2,FALSE)","v":0},{"$f":"'Budget FCFA'!V174/VLOOKUP(V$2,$BO$127:$BP$138,2,FALSE)","v":0},{"$f":"'Budget FCFA'!W174/VLOOKUP(W$2,$BO$127:$BP$138,2,FALSE)","v":676.87363653410205},{"$f":"'Budget FCFA'!X174/VLOOKUP(X$2,$BO$127:$BP$138,2,FALSE)","v":0},{"$f":"'Budget FCFA'!Y174/VLOOKUP(Y$2,$BO$127:$BP$138,2,FALSE)","v":0},{"$f":"'Budget FCFA'!Z174/VLOOKUP(Z$2,$BO$127:$BP$138,2,FALSE)","v":0},{"$f":"'Budget FCFA'!AA174/VLOOKUP(AA$2,$BO$127:$BP$138,2,FALSE)","v":0},{"$f":"'Budget FCFA'!AB174/VLOOKUP(AB$2,$BO$127:$BP$138,2,FALSE)","v":0},{"$f":"'Budget FCFA'!AC174/VLOOKUP(AC$2,$BO$127:$BP$138,2,FALSE)","v":0},{"$f":"'Budget FCFA'!AD174/VLOOKUP(AD$2,$BO$127:$BP$138,2,FALSE)","v":0},{"$f":"'Budget FCFA'!AE174/VLOOKUP(AE$2,$BO$127:$BP$138,2,FALSE)","v":0},{"$f":"'Budget FCFA'!AF174/VLOOKUP(AF$2,$BO$127:$BP$138,2,FALSE)","v":0},{"$f":"'Budget FCFA'!AG174/VLOOKUP(AG$2,$BO$127:$BP$138,2,FALSE)","v":0},{"$f":"'Budget FCFA'!AH174/VLOOKUP(AH$2,$BO$127:$BP$138,2,FALSE)","v":0},{"$f":"'Budget FCFA'!AI174/VLOOKUP(AI$2,$BO$127:$BP$138,2,FALSE)","v":0},{"$f":"'Budget FCFA'!AJ174/VLOOKUP(AJ$2,$BO$127:$BP$138,2,FALSE)","v":0},{"$f":"'Budget FCFA'!AK174/VLOOKUP(AK$2,$BO$127:$BP$138,2,FALSE)","v":0},{"$f":"'Budget FCFA'!AL174/VLOOKUP(AL$2,$BO$127:$BP$138,2,FALSE)","v":640.88042356434948},{"$f":"'Budget FCFA'!AM174/VLOOKUP(AM$2,$BO$127:$BP$138,2,FALSE)","v":0},{"$f":"'Budget FCFA'!AN174/VLOOKUP(AN$2,$BO$127:$BP$138,2,FALSE)","v":0},{"$f":"'Budget FCFA'!AO174/VLOOKUP(AO$2,$BO$127:$BP$138,2,FALSE)","v":0},{"$f":"'Budget FCFA'!AP174/VLOOKUP(AP$2,$BO$127:$BP$138,2,FALSE)","v":0},{"$f":"'Budget FCFA'!#REF!/VLOOKUP(AQ$2,$BO$127:$BP$138,2,FALSE)","v":{"$error":"#REF!"}},{"$f":"'Budget FCFA'!#REF!/VLOOKUP(AR$2,$BO$127:$BP$138,2,FALSE)","v":{"$error":"#REF!"}},{"$f":"'Budget FCFA'!#REF!/VLOOKUP(AS$2,$BO$127:$BP$138,2,FALSE)","v":{"$error":"#REF!"}},{"$f":"'Budget FCFA'!#REF!/VLOOKUP(AT$2,$BO$127:$BP$138,2,FALSE)","v":{"$error":"#REF!"}},{"$f":"'Budget FCFA'!#REF!/VLOOKUP(AU$2,$BO$127:$BP$138,2,FALSE)","v":{"$error":"#REF!"}},{"$f":"'Budget FCFA'!#REF!/VLOOKUP(AV$2,$BO$127:$BP$138,2,FALSE)","v":{"$error":"#REF!"}},{"$f":"'Budget FCFA'!#REF!/VLOOKUP(AW$2,$BO$127:$BP$138,2,FALSE)","v":{"$error":"#REF!"}},{"$f":"'Budget FCFA'!#REF!/VLOOKUP(AX$2,$BO$127:$BP$138,2,FALSE)","v":{"$error":"#REF!"}},{"$f":"'Budget FCFA'!#REF!/VLOOKUP(AY$2,$BO$127:$BP$138,2,FALSE)","v":{"$error":"#REF!"}},{"$f":"'Budget FCFA'!#REF!/VLOOKUP(AZ$2,$BO$127:$BP$138,2,FALSE)","v":{"$error":"#REF!"}},{"$f":"'Budget FCFA'!#REF!/VLOOKUP(BA$2,$BO$127:$BP$138,2,FALSE)","v":{"$error":"#REF!"}},{"$f":"'Budget FCFA'!#REF!/VLOOKUP(BB$2,$BO$127:$BP$138,2,FALSE)","v":{"$error":"#REF!"}},{"$f":"'Budget FCFA'!#REF!/VLOOKUP(BC$2,$BO$127:$BP$138,2,FALSE)","v":{"$error":"#REF!"}},{"$f":"'Budget FCFA'!#REF!/VLOOKUP(BD$2,$BO$127:$BP$138,2,FALSE)","v":{"$error":"#REF!"}},{"$f":"'Budget FCFA'!#REF!/VLOOKUP(BE$2,$BO$127:$BP$138,2,FALSE)","v":{"$error":"#REF!"}},{"$f":"'Budget FCFA'!#REF!/VLOOKUP(BF$2,$BO$127:$BP$138,2,FALSE)","v":{"$error":"#REF!"}},{"$f":"'Budget FCFA'!#REF!/VLOOKUP(BG$2,$BO$127:$BP$138,2,FALSE)","v":{"$error":"#REF!"}},{"$f":"'Budget FCFA'!#REF!/VLOOKUP(BH$2,$BO$127:$BP$138,2,FALSE)","v":{"$error":"#REF!"}},{"$f":"'Budget FCFA'!#REF!/VLOOKUP(BI$2,$BO$127:$BP$138,2,FALSE)","v":{"$error":"#REF!"}},{"$f":"'Budget FCFA'!#REF!/VLOOKUP(BJ$2,$BO$127:$BP$138,2,FALSE)","v":{"$error":"#REF!"}},{"$error":"#REF!"},{"$f":"BK174-'Budget FCFA'!#REF!","v":{"$error":"#REF!"}}]
["PUBTECHN","DOUALA","Exceptionnel",{"$f":"'Budget FCFA'!D175/VLOOKUP(D$2,$BO$127:$BP$138,2,FALSE)","v":0},{"$f":"'Budget FCFA'!E175/VLOOKUP(E$2,$BO$127:$BP$138,2,FALSE)","v":0},{"$f":"'Budget FCFA'!F175/VLOOKUP(F$2,$BO$127:$BP$138,2,FALSE)","v":0},{"$f":"'Budget FCFA'!G175/VLOOKUP(G$2,$BO$127:$BP$138,2,FALSE)","v":0},{"$f":"'Budget FCFA'!H175/VLOOKUP(H$2,$BO$127:$BP$138,2,FALSE)","v":0},{"$f":"'Budget FCFA'!I175/VLOOKUP(I$2,$BO$127:$BP$138,2,FALSE)","v":308.38530574412653},{"$f":"'Budget FCFA'!J175/VLOOKUP(J$2,$BO$127:$BP$138,2,FALSE)","v":0},{"$f":"'Budget FCFA'!K175/VLOOKUP(K$2,$BO$127:$BP$138,2,FALSE)","v":0},{"$f":"'Budget FCFA'!L175/VLOOKUP(L$2,$BO$127:$BP$138,2,FALSE)","v":0},{"$f":"'Budget FCFA'!M175/VLOOKUP(M$2,$BO$127:$BP$138,2,FALSE)","v":0},{"$f":"'Budget FCFA'!N175/VLOOKUP(N$2,$BO$127:$BP$138,2,FALSE)","v":0},{"$f":"'Budget FCFA'!O175/VLOOKUP(O$2,$BO$127:$BP$138,2,FALSE)","v":0},{"$f":"'Budget FCFA'!P175/VLOOKUP(P$2,$BO$127:$BP$138,2,FALSE)","v":0},{"$f":"'Budget FCFA'!Q175/VLOOKUP(Q$2,$BO$127:$BP$138,2,FALSE)","v":0},{"$f":"'Budget FCFA'!R175/VLOOKUP(R$2,$BO$127:$BP$138,2,FALSE)","v":0},{"$f":"'Budget FCFA'!S175/VLOOKUP(S$2,$BO$127:$BP$138,2,FALSE)","v":0},{"$f":"'Budget FCFA'!T175/VLOOKUP(T$2,$BO$127:$BP$138,2,FALSE)","v":302.57318696195023},{"$f":"'Budget FCFA'!U175/VLOOKUP(U$2,$BO$127:$BP$138,2,FALSE)","v":0},{"$f":"'Budget FCFA'!V175/VLOOKUP(V$2,$BO$127:$BP$138,2,FALSE)","v":0},{"$f":"'Budget FCFA'!W175/VLOOKUP(W$2,$BO$127:$BP$138,2,FALSE)","v":0},{"$f":"'Budget FCFA'!X175/VLOOKUP(X$2,$BO$127:$BP$138,2,FALSE)","v":0},{"$f":"'Budget FCFA'!Y175/VLOOKUP(Y$2,$BO$127:$BP$138,2,FALSE)","v":0},{"$f":"'Budget FCFA'!Z175/VLOOKUP(Z$2,$BO$127:$BP$138,2,FALSE)","v":0},{"$f":"'Budget FCFA'!AA175/VLOOKUP(AA$2,$BO$127:$BP$138,2,FALSE)","v":1247.0329610020169},{"$f":"'Budget FCFA'!AB175/VLOOKUP(AB$2,$BO$127:$BP$138,2,FALSE)","v":0},{"$f":"'Budget FCFA'!AC175/VLOOKUP(AC$2,$BO$127:$BP$138,2,FALSE)","v":0},{"$f":"'Budget FCFA'!AD175/VLOOKUP(AD$2,$BO$127:$BP$138,2,FALSE)","v":0},{"$f":"'Budget FCFA'!AE175/VLOOKUP(AE$2,$BO$127:$BP$138,2,FALSE)","v":0},{"$f":"'Budget FCFA'!AF175/VLOOKUP(AF$2,$BO$127:$BP$138,2,FALSE)","v":0},{"$f":"'Budget FCFA'!AG175/VLOOKUP(AG$2,$BO$127:$BP$138,2,FALSE)","v":0},{"$f":"'Budget FCFA'!AH175/VLOOKUP(AH$2,$BO$127:$BP$138,2,FALSE)","v":0},{"$f":"'Budget FCFA'!AI175/VLOOKUP(AI$2,$BO$127:$BP$138,2,FALSE)","v":0},{"$f":"'Budget FCFA'!AJ175/VLOOKUP(AJ$2,$BO$127:$BP$138,2,FALSE)","v":0},{"$f":"'Budget FCFA'!AK175/VLOOKUP(AK$2,$BO$127:$BP$138,2,FALSE)","v":0},{"$f":"'Budget FCFA'!AL175/VLOOKUP(AL$2,$BO$127:$BP$138,2,FALSE)","v":461.45555272677933},{"$f":"'Budget FCFA'!AM175/VLOOKUP(AM$2,$BO$127:$BP$138,2,FALSE)","v":0},{"$f":"'Budget FCFA'!AN175/VLOOKUP(AN$2,$BO$127:$BP$138,2,FALSE)","v":0},{"$f":"'Budget FCFA'!AO175/VLOOKUP(AO$2,$BO$127:$BP$138,2,FALSE)","v":0},{"$f":"'Budget FCFA'!AP175/VLOOKUP(AP$2,$BO$127:$BP$138,2,FALSE)","v":0},{"$f":"'Budget FCFA'!#REF!/VLOOKUP(AQ$2,$BO$127:$BP$138,2,FALSE)","v":{"$error":"#REF!"}},{"$f":"'Budget FCFA'!#REF!/VLOOKUP(AR$2,$BO$127:$BP$138,2,FALSE)","v":{"$error":"#REF!"}},{"$f":"'Budget FCFA'!#REF!/VLOOKUP(AS$2,$BO$127:$BP$138,2,FALSE)","v":{"$error":"#REF!"}},{"$f":"'Budget FCFA'!#REF!/VLOOKUP(AT$2,$BO$127:$BP$138,2,FALSE)","v":{"$error":"#REF!"}},{"$f":"'Budget FCFA'!#REF!/VLOOKUP(AU$2,$BO$127:$BP$138,2,FALSE)","v":{"$error":"#REF!"}},{"$f":"'Budget FCFA'!#REF!/VLOOKUP(AV$2,$BO$127:$BP$138,2,FALSE)","v":{"$error":"#REF!"}},{"$f":"'Budget FCFA'!#REF!/VLOOKUP(AW$2,$BO$127:$BP$138,2,FALSE)","v":{"$error":"#REF!"}},{"$f":"'Budget FCFA'!#REF!/VLOOKUP(AX$2,$BO$127:$BP$138,2,FALSE)","v":{"$error":"#REF!"}},{"$f":"'Budget FCFA'!#REF!/VLOOKUP(AY$2,$BO$127:$BP$138,2,FALSE)","v":{"$error":"#REF!"}},{"$f":"'Budget FCFA'!#REF!/VLOOKUP(AZ$2,$BO$127:$BP$138,2,FALSE)","v":{"$error":"#REF!"}},{"$f":"'Budget FCFA'!#REF!/VLOOKUP(BA$2,$BO$127:$BP$138,2,FALSE)","v":{"$error":"#REF!"}},{"$f":"'Budget FCFA'!#REF!/VLOOKUP(BB$2,$BO$127:$BP$138,2,FALSE)","v":{"$error":"#REF!"}},{"$f":"'Budget FCFA'!#REF!/VLOOKUP(BC$2,$BO$127:$BP$138,2,FALSE)","v":{"$error":"#REF!"}},{"$f":"'Budget FCFA'!#REF!/VLOOKUP(BD$2,$BO$127:$BP$138,2,FALSE)","v":{"$error":"#REF!"}},{"$f":"'Budget FCFA'!#REF!/VLOOKUP(BE$2,$BO$127:$BP$138,2,FALSE)","v":{"$error":"#REF!"}},{"$f":"'Budget FCFA'!#REF!/VLOOKUP(BF$2,$BO$127:$BP$138,2,FALSE)","v":{"$error":"#REF!"}},{"$f":"'Budget FCFA'!#REF!/VLOOKUP(BG$2,$BO$127:$BP$138,2,FALSE)","v":{"$error":"#REF!"}},{"$f":"'Budget FCFA'!#REF!/VLOOKUP(BH$2,$BO$127:$BP$138,2,FALSE)","v":{"$error":"#REF!"}},{"$f":"'Budget FCFA'!#REF!/VLOOKUP(BI$2,$BO$127:$BP$138,2,FALSE)","v":{"$error":"#REF!"}},{"$f":"'Budget FCFA'!#REF!/VLOOKUP(BJ$2,$BO$127:$BP$138,2,FALSE)","v":{"$error":"#REF!"}},{"$error":"#REF!"},{"$f":"BK175-'Budget FCFA'!#REF!","v":{"$error":"#REF!"}}]
["PUBTECHN","TOTAL","Total exceptionnel",{"$f":"'Budget FCFA'!D176/VLOOKUP(D$2,$BO$127:$BP$138,2,FALSE)","v":0},{"$f":"'Budget FCFA'!E176/VLOOKUP(E$2,$BO$127:$BP$138,2,FALSE)","v":0},{"$f":"'Budget FCFA'!F176/VLOOKUP(F$2,$BO$127:$BP$138,2,FALSE)","v":0},{"$f":"'Budget FCFA'!G176/VLOOKUP(G$2,$BO$127:$BP$138,2,FALSE)","v":0},{"$f":"'Budget FCFA'!H176/VLOOKUP(H$2,$BO$127:$BP$138,2,FALSE)","v":0},{"$f":"'Budget FCFA'!I176/VLOOKUP(I$2,$BO$127:$BP$138,2,FALSE)","v":2467.0824459530122},{"$f":"'Budget FCFA'!J176/VLOOKUP(J$2,$BO$127:$BP$138,2,FALSE)","v":0},{"$f":"'Budget FCFA'!K176/VLOOKUP(K$2,$BO$127:$BP$138,2,FALSE)","v":0},{"$f":"'Budget FCFA'!L176/VLOOKUP(L$2,$BO$127:$BP$138,2,FALSE)","v":0},{"$f":"'Budget FCFA'!M176/VLOOKUP(M$2,$BO$127:$BP$138,2,FALSE)","v":2462.0516283841775},{"$f":"'Budget FCFA'!N176/VLOOKUP(N$2,$BO$127:$BP$138,2,FALSE)","v":0},{"$f":"'Budget FCFA'!O176/VLOOKUP(O$2,$BO$127:$BP$138,2,FALSE)","v":0},{"$f":"'Budget FCFA'!P176/VLOOKUP(P$2,$BO$127:$BP$138,2,FALSE)","v":0},{"$f":"'Budget FCFA'!Q176/VLOOKUP(Q$2,$BO$127:$BP$138,2,FALSE)","v":0},{"$f":"'Budget FCFA'!R176/VLOOKUP(R$2,$BO$127:$BP$138,2,FALSE)","v":3523.096788356554},{"$f":"'Budget FCFA'!S176/VLOOKUP(S$2,$BO$127:$BP$138,2,FALSE)","v":0},{"$f":"'Budget FCFA'!T176/VLOOKUP(T$2,$BO$127:$BP$138,2,FALSE)","v":2420.5854956956018},{"$f":"'Budget FCFA'!U176/VLOOKUP(U$2,$BO$127:$BP$138,2,FALSE)","v":0},{"$f":"'Budget FCFA'!V176/VLOOKUP(V$2,$BO$127:$BP$138,2,FALSE)","v":0},{"$f":"'Budget FCFA'!W176/VLOOKUP(W$2,$BO$127:$BP$138,2,FALSE)","v":2314.4901266393986},{"$f":"'Budget FCFA'!X176/VLOOKUP(X$2,$BO$127:$BP$138,2,FALSE)","v":2420.5854956956018},{"$f":"'Budget FCFA'!Y176/VLOOKUP(Y$2,$BO$127:$BP$138,2,FALSE)","v":0},{"$f":"'Budget FCFA'!Z176/VLOOKUP(Z$2,$BO$127:$BP$138,2,FALSE)","v":0},{"$f":"'Budget FCFA'!AA176/VLOOKUP(AA$2,$BO$127:$BP$138,2,FALSE)","v":1432.2585169454705},{"$f":"'Budget FCFA'!AB176/VLOOKUP(AB$2,$BO$127:$BP$138,2,FALSE)","v":0},{"$f":"'Budget FCFA'!AC176/VLOOKUP(AC$2,$BO$127:$BP$138,2,FALSE)","v":0},{"$f":"'Budget FCFA'!AD176/VLOOKUP(AD$2,$BO$127:$BP$138,2,FALSE)","v":0},{"$f":"'Budget FCFA'!AE176/VLOOKUP(AE$2,$BO$127:$BP$138,2,FALSE)","v":0},{"$f":"'Budget FCFA'!AF176/VLOOKUP(AF$2,$BO$127:$BP$138,2,FALSE)","v":438.38485623868837},{"$f":"'Budget FCFA'!AG176/VLOOKUP(AG$2,$BO$127:$BP$138,2,FALSE)","v":0},{"$f":"'Budget FCFA'!AH176/VLOOKUP(AH$2,$BO$127:$BP$138,2,FALSE)","v":0},{"$f":"'Budget FCFA'!AI176/VLOOKUP(AI$2,$BO$127:$BP$138,2,FALSE)","v":0},{"$f":"'Budget FCFA'!AJ176/VLOOKUP(AJ$2,$BO$127:$BP$138,2,FALSE)","v":0},{"$f":"'Budget FCFA'!AK176/VLOOKUP(AK$2,$BO$127:$BP$138,2,FALSE)","v":0},{"$f":"'Budget FCFA'!AL176/VLOOKUP(AL$2,$BO$127:$BP$138,2,FALSE)","v":3597.7983312930573},{"$f":"'Budget FCFA'!AM176/VLOOKUP(AM$2,$BO$127:$BP$138,2,FALSE)","v":0},{"$f":"'Budget FCFA'!AN176/VLOOKUP(AN$2,$BO$127:$BP$138,2,FALSE)","v":0},{"$f":"'Budget FCFA'!AO176/VLOOKUP(AO$2,$BO$127:$BP$138,2,FALSE)","v":0},{"$f":"'Budget FCFA'!AP176/VLOOKUP(AP$2,$BO$127:$BP$138,2,FALSE)","v":0},{"$f":"'Budget FCFA'!#REF!/VLOOKUP(AQ$2,$BO$127:$BP$138,2,FALSE)","v":{"$error":"#REF!"}},{"$f":"'Budget FCFA'!#REF!/VLOOKUP(AR$2,$BO$127:$BP$138,2,FALSE)","v":{"$error":"#REF!"}},{"$f":"'Budget FCFA'!#REF!/VLOOKUP(AS$2,$BO$127:$BP$138,2,FALSE)","v":{"$error":"#REF!"}},{"$f":"'Budget FCFA'!#REF!/VLOOKUP(AT$2,$BO$127:$BP$138,2,FALSE)","v":{"$error":"#REF!"}},{"$f":"'Budget FCFA'!#REF!/VLOOKUP(AU$2,$BO$127:$BP$138,2,FALSE)","v":{"$error":"#REF!"}},{"$f":"'Budget FCFA'!#REF!/VLOOKUP(AV$2,$BO$127:$BP$138,2,FALSE)","v":{"$error":"#REF!"}},{"$f":"'Budget FCFA'!#REF!/VLOOKUP(AW$2,$BO$127:$BP$138,2,FALSE)","v":{"$error":"#REF!"}},{"$f":"'Budget FCFA'!#REF!/VLOOKUP(AX$2,$BO$127:$BP$138,2,FALSE)","v":{"$error":"#REF!"}},{"$f":"'Budget FCFA'!#REF!/VLOOKUP(AY$2,$BO$127:$BP$138,2,FALSE)","v":{"$error":"#REF!"}},{"$f":"'Budget FCFA'!#REF!/VLOOKUP(AZ$2,$BO$127:$BP$138,2,FALSE)","v":{"$error":"#REF!"}},{"$f":"'Budget FCFA'!#REF!/VLOOKUP(BA$2,$BO$127:$BP$138,2,FALSE)","v":{"$error":"#REF!"}},{"$f":"'Budget FCFA'!#REF!/VLOOKUP(BB$2,$BO$127:$BP$138,2,FALSE)","v":{"$error":"#REF!"}},{"$f":"'Budget FCFA'!#REF!/VLOOKUP(BC$2,$BO$127:$BP$138,2,FALSE)","v":{"$error":"#REF!"}},{"$f":"'Budget FCFA'!#REF!/VLOOKUP(BD$2,$BO$127:$BP$138,2,FALSE)","v":{"$error":"#REF!"}},{"$f":"'Budget FCFA'!#REF!/VLOOKUP(BE$2,$BO$127:$BP$138,2,FALSE)","v":{"$error":"#REF!"}},{"$f":"'Budget FCFA'!#REF!/VLOOKUP(BF$2,$BO$127:$BP$138,2,FALSE)","v":{"$error":"#REF!"}},{"$f":"'Budget FCFA'!#REF!/VLOOKUP(BG$2,$BO$127:$BP$138,2,FALSE)","v":{"$error":"#REF!"}},{"$f":"'Budget FCFA'!#REF!/VLOOKUP(BH$2,$BO$127:$BP$138,2,FALSE)","v":{"$error":"#REF!"}},{"$f":"'Budget FCFA'!#REF!/VLOOKUP(BI$2,$BO$127:$BP$138,2,FALSE)","v":{"$error":"#REF!"}},{"$f":"'Budget FCFA'!#REF!/VLOOKUP(BJ$2,$BO$127:$BP$138,2,FALSE)","v":{"$error":"#REF!"}},{"$error":"#REF!"},{"$f":"BK176-'Budget FCFA'!#REF!","v":{"$error":"#REF!"}}]
["PUBTECHN","TOTAL","Total frais techniques",{"$f":"'Budget FCFA'!D177/VLOOKUP(D$2,$BO$127:$BP$138,2,FALSE)","v":118.48337619691534},{"$f":"'Budget FCFA'!E177/VLOOKUP(E$2,$BO$127:$BP$138,2,FALSE)","v":462.83521633277792},{"$f":"'Budget FCFA'!F177/VLOOKUP(F$2,$BO$127:$BP$138,2,FALSE)","v":66.467771515510933},{"$f":"'Budget FCFA'!G177/VLOOKUP(G$2,$BO$127:$BP$138,2,FALSE)","v":0},{"$f":"'Budget FCFA'!H177/VLOOKUP(H$2,$BO$127:$BP$138,2,FALSE)","v":227.07209464949685},{"$f":"'Budget FCFA'!I177/VLOOKUP(I$2,$BO$127:$BP$138,2,FALSE)","v":3223.8912001853782},{"$f":"'Budget FCFA'!J177/VLOOKUP(J$2,$BO$127:$BP$138,2,FALSE)","v":0},{"$f":"'Budget FCFA'!K177/VLOOKUP(K$2,$BO$127:$BP$138,2,FALSE)","v":0},{"$f":"'Budget FCFA'!L177/VLOOKUP(L$2,$BO$127:$BP$138,2,FALSE)","v":0},{"$f":"'Budget FCFA'!M177/VLOOKUP(M$2,$BO$127:$BP$138,2,FALSE)","v":4045.0205882397777},{"$f":"'Budget FCFA'!N177/VLOOKUP(N$2,$BO$127:$BP$138,2,FALSE)","v":0},{"$f":"'Budget FCFA'!O177/VLOOKUP(O$2,$BO$127:$BP$138,2,FALSE)","v":611.86937558407033},{"$f":"'Budget FCFA'!P177/VLOOKUP(P$2,$BO$127:$BP$138,2,FALSE)","v":7249.9157719179766},{"$f":"'Budget FCFA'!Q177/VLOOKUP(Q$2,$BO$127:$BP$138,2,FALSE)","v":0},{"$f":"'Budget FCFA'!R177/VLOOKUP(R$2,$BO$127:$BP$138,2,FALSE)","v":3677.7567883565539},{"$f":"'Budget FCFA'!S177/VLOOKUP(S$2,$BO$127:$BP$138,2,FALSE)","v":0},{"$f":"'Budget FCFA'!T177/VLOOKUP(T$2,$BO$127:$BP$138,2,FALSE)","v":3181.6262346464782},{"$f":"'Budget FCFA'!U177/VLOOKUP(U$2,$BO$127:$BP$138,2,FALSE)","v":0},{"$f":"'Budget FCFA'!V177/VLOOKUP(V$2,$BO$127:$BP$138,2,FALSE)","v":0},{"$f":"'Budget FCFA'!W177/VLOOKUP(W$2,$BO$127:$BP$138,2,FALSE)","v":3217.0601266393987},{"$f":"'Budget FCFA'!X177/VLOOKUP(X$2,$BO$127:$BP$138,2,FALSE)","v":2636.0721815606817},{"$f":"'Budget FCFA'!Y177/VLOOKUP(Y$2,$BO$127:$BP$138,2,FALSE)","v":760.88828993363893},{"$f":"'Budget FCFA'!Z177/VLOOKUP(Z$2,$BO$127:$BP$138,2,FALSE)","v":0},{"$f":"'Budget FCFA'!AA177/VLOOKUP(AA$2,$BO$127:$BP$138,2,FALSE)","v":2529.4425245557254},{"$f":"'Budget FCFA'!AB177/VLOOKUP(AB$2,$BO$127:$BP$138,2,FALSE)","v":610.93800659708324},{"$f":"'Budget FCFA'!AC177/VLOOKUP(AC$2,$BO$127:$BP$138,2,FALSE)","v":0},{"$f":"'Budget FCFA'!AD177/VLOOKUP(AD$2,$BO$127:$BP$138,2,FALSE)","v":0},{"$f":"'Budget FCFA'!AE177/VLOOKUP(AE$2,$BO$127:$BP$138,2,FALSE)","v":0},{"$f":"'Budget FCFA'!AF177/VLOOKUP(AF$2,$BO$127:$BP$138,2,FALSE)","v":1478.4128702487378},{"$f":"'Budget FCFA'!AG177/VLOOKUP(AG$2,$BO$127:$BP$138,2,FALSE)","v":599.94481345576003},{"$f":"'Budget FCFA'!AH177/VLOOKUP(AH$2,$BO$127:$BP$138,2,FALSE)","v":0},{"$f":"'Budget FCFA'!AI177/VLOOKUP(AI$2,$BO$127:$BP$138,2,FALSE)","v":0},{"$f":"'Budget FCFA'!AJ177/VLOOKUP(AJ$2,$BO$127:$BP$138,2,FALSE)","v":0},{"$f":"'Budget FCFA'!AK177/VLOOKUP(AK$2,$BO$127:$BP$138,2,FALSE)","v":0},{"$f":"'Budget FCFA'!AL177/VLOOKUP(AL$2,$BO$127:$BP$138,2,FALSE)","v":4480.6519329773137},{"$f":"'Budget FCFA'!AM177/VLOOKUP(AM$2,$BO$127:$BP$138,2,FALSE)","v":833.19180982899798},{"$f":"'Budget FCFA'!AN177/VLOOKUP(AN$2,$BO$127:$BP$138,2,FALSE)","v":0},{"$f":"'Budget FCFA'!AO177/VLOOKUP(AO$2,$BO$127:$BP$138,2,FALSE)","v":0},{"$f":"'Budget FCFA'!AP177/VLOOKUP(AP$2,$BO$127:$BP$138,2,FALSE)","v":754.12},{"$f":"'Budget FCFA'!#REF!/VLOOKUP(AQ$2,$BO$127:$BP$138,2,FALSE)","v":{"$error":"#REF!"}},{"$f":"'Budget FCFA'!#REF!/VLOOKUP(AR$2,$BO$127:$BP$138,2,FALSE)","v":{"$error":"#REF!"}},{"$f":"'Budget FCFA'!#REF!/VLOOKUP(AS$2,$BO$127:$BP$138,2,FALSE)","v":{"$error":"#REF!"}},{"$f":"'Budget FCFA'!#REF!/VLOOKUP(AT$2,$BO$127:$BP$138,2,FALSE)","v":{"$error":"#REF!"}},{"$f":"'Budget FCFA'!#REF!/VLOOKUP(AU$2,$BO$127:$BP$138,2,FALSE)","v":{"$error":"#REF!"}},{"$f":"'Budget FCFA'!#REF!/VLOOKUP(AV$2,$BO$127:$BP$138,2,FALSE)","v":{"$error":"#REF!"}},{"$f":"'Budget FCFA'!#REF!/VLOOKUP(AW$2,$BO$127:$BP$138,2,FALSE)","v":{"$error":"#REF!"}},{"$f":"'Budget FCFA'!#REF!/VLOOKUP(AX$2,$BO$127:$BP$138,2,FALSE)","v":{"$error":"#REF!"}},{"$f":"'Budget FCFA'!#REF!/VLOOKUP(AY$2,$BO$127:$BP$138,2,FALSE)","v":{"$error":"#REF!"}},{"$f":"'Budget FCFA'!#REF!/VLOOKUP(AZ$2,$BO$127:$BP$138,2,FALSE)","v":{"$error":"#REF!"}},{"$f":"'Budget FCFA'!#REF!/VLOOKUP(BA$2,$BO$127:$BP$138,2,FALSE)","v":{"$error":"#REF!"}},{"$f":"'Budget FCFA'!#REF!/VLOOKUP(BB$2,$BO$127:$BP$138,2,FALSE)","v":{"$error":"#REF!"}},{"$f":"'Budget FCFA'!#REF!/VLOOKUP(BC$2,$BO$127:$BP$138,2,FALSE)","v":{"$error":"#REF!"}},{"$f":"'Budget FCFA'!#REF!/VLOOKUP(BD$2,$BO$127:$BP$138,2,FALSE)","v":{"$error":"#REF!"}},{"$f":"'Budget FCFA'!#REF!/VLOOKUP(BE$2,$BO$127:$BP$138,2,FALSE)","v":{"$error":"#REF!"}},{"$f":"'Budget FCFA'!#REF!/VLOOKUP(BF$2,$BO$127:$BP$138,2,FALSE)","v":{"$error":"#REF!"}},{"$f":"'Budget FCFA'!#REF!/VLOOKUP(BG$2,$BO$127:$BP$138,2,FALSE)","v":{"$error":"#REF!"}},{"$f":"'Budget FCFA'!#REF!/VLOOKUP(BH$2,$BO$127:$BP$138,2,FALSE)","v":{"$error":"#REF!"}},{"$f":"'Budget FCFA'!#REF!/VLOOKUP(BI$2,$BO$127:$BP$138,2,FALSE)","v":{"$error":"#REF!"}},{"$f":"'Budget FCFA'!#REF!/VLOOKUP(BJ$2,$BO$127:$BP$138,2,FALSE)","v":{"$error":"#REF!"}},{"$error":"#REF!"},{"$f":"BK177-'Budget FCFA'!#REF!","v":{"$error":"#REF!"}}]
["PUBHONOR","ABIDJAN","Honoraires",{"$f":"'Budget FCFA'!D178/VLOOKUP(D$2,$BO$127:$BP$138,2,FALSE)","v":0},{"$f":"'Budget FCFA'!E178/VLOOKUP(E$2,$BO$127:$BP$138,2,FALSE)","v":0},{"$f":"'Budget FCFA'!F178/VLOOKUP(F$2,$BO$127:$BP$138,2,FALSE)","v":0},{"$f":"'Budget FCFA'!G178/VLOOKUP(G$2,$BO$127:$BP$138,2,FALSE)","v":0},{"$f":"'Budget FCFA'!H178/VLOOKUP(H$2,$BO$127:$BP$138,2,FALSE)","v":86.011200000000002},{"$f":"'Budget FCFA'!I178/VLOOKUP(I$2,$BO$127:$BP$138,2,FALSE)","v":0},{"$f":"'Budget FCFA'!J178/VLOOKUP(J$2,$BO$127:$BP$138,2,FALSE)","v":0},{"$f":"'Budget FCFA'!K178/VLOOKUP(K$2,$BO$127:$BP$138,2,FALSE)","v":0},{"$f":"'Budget FCFA'!L178/VLOOKUP(L$2,$BO$127:$BP$138,2,FALSE)","v":0},{"$f":"'Budget FCFA'!M178/VLOOKUP(M$2,$BO$127:$BP$138,2,FALSE)","v":0},{"$f":"'Budget FCFA'!N178/VLOOKUP(N$2,$BO$127:$BP$138,2,FALSE)","v":0},{"$f":"'Budget FCFA'!O178/VLOOKUP(O$2,$BO$127:$BP$138,2,FALSE)","v":0},{"$f":"'Budget FCFA'!P178/VLOOKUP(P$2,$BO$127:$BP$138,2,FALSE)","v":0},{"$f":"'Budget FCFA'!Q178/VLOOKUP(Q$2,$BO$127:$BP$138,2,FALSE)","v":0},{"$f":"'Budget FCFA'!R178/VLOOKUP(R$2,$BO$127:$BP$138,2,FALSE)","v":0},{"$f":"'Budget FCFA'!S178/VLOOKUP(S$2,$BO$127:$BP$138,2,FALSE)","v":0},{"$f":"'Budget FCFA'!T178/VLOOKUP(T$2,$BO$127:$BP$138,2,FALSE)","v":0},{"$f":"'Budget FCFA'!U178/VLOOKUP(U$2,$BO$127:$BP$138,2,FALSE)","v":0},{"$f":"'Budget FCFA'!V178/VLOOKUP(V$2,$BO$127:$BP$138,2,FALSE)","v":0},{"$f":"'Budget FCFA'!W178/VLOOKUP(W$2,$BO$127:$BP$138,2,FALSE)","v":0},{"$f":"'Budget FCFA'!X178/VLOOKUP(X$2,$BO$127:$BP$138,2,FALSE)","v":0},{"$f":"'Budget FCFA'!Y178/VLOOKUP(Y$2,$BO$127:$BP$138,2,FALSE)","v":0},{"$f":"'Budget FCFA'!Z178/VLOOKUP(Z$2,$BO$127:$BP$138,2,FALSE)","v":0},{"$f":"'Budget FCFA'!AA178/VLOOKUP(AA$2,$BO$127:$BP$138,2,FALSE)","v":0},{"$f":"'Budget FCFA'!AB178/VLOOKUP(AB$2,$BO$127:$BP$138,2,FALSE)","v":0},{"$f":"'Budget FCFA'!AC178/VLOOKUP(AC$2,$BO$127:$BP$138,2,FALSE)","v":0},{"$f":"'Budget FCFA'!AD178/VLOOKUP(AD$2,$BO$127:$BP$138,2,FALSE)","v":0},{"$f":"'Budget FCFA'!AE178/VLOOKUP(AE$2,$BO$127:$BP$138,2,FALSE)","v":0},{"$f":"'Budget FCFA'!AF178/VLOOKUP(AF$2,$BO$127:$BP$138,2,FALSE)","v":178.50866529407554},{"$f":"'Budget FCFA'!AG178/VLOOKUP(AG$2,$BO$127:$BP$138,2,FALSE)","v":0},{"$f":"'Budget FCFA'!AH178/VLOOKUP(AH$2,$BO$127:$BP$138,2,FALSE)","v":0},{"$f":"'Budget FCFA'!AI178/VLOOKUP(AI$2,$BO$127:$BP$138,2,FALSE)","v":0},{"$f":"'Budget FCFA'!AJ178/VLOOKUP(AJ$2,$BO$127:$BP$138,2,FALSE)","v":0},{"$f":"'Budget FCFA'!AK178/VLOOKUP(AK$2,$BO$127:$BP$138,2,FALSE)","v":{"$error":"#REF!"}},{"$f":"'Budget FCFA'!AL178/VLOOKUP(AL$2,$BO$127:$BP$138,2,FALSE)","v":0},{"$f":"'Budget FCFA'!AM178/VLOOKUP(AM$2,$BO$127:$BP$138,2,FALSE)","v":0},{"$f":"'Budget FCFA'!AN178/VLOOKUP(AN$2,$BO$127:$BP$138,2,FALSE)","v":0},{"$f":"'Budget FCFA'!AO178/VLOOKUP(AO$2,$BO$127:$BP$138,2,FALSE)","v":0},{"$f":"'Budget FCFA'!AP178/VLOOKUP(AP$2,$BO$127:$BP$138,2,FALSE)","v":{"$error":"#REF!"}},{"$f":"'Budget FCFA'!#REF!/VLOOKUP(AQ$2,$BO$127:$BP$138,2,FALSE)","v":{"$error":"#REF!"}},{"$f":"'Budget FCFA'!#REF!/VLOOKUP(AR$2,$BO$127:$BP$138,2,FALSE)","v":{"$error":"#REF!"}},{"$f":"'Budget FCFA'!#REF!/VLOOKUP(AS$2,$BO$127:$BP$138,2,FALSE)","v":{"$error":"#REF!"}},{"$f":"'Budget FCFA'!#REF!/VLOOKUP(AT$2,$BO$127:$BP$138,2,FALSE)","v":{"$error":"#REF!"}},{"$f":"'Budget FCFA'!#REF!/VLOOKUP(AU$2,$BO$127:$BP$138,2,FALSE)","v":{"$error":"#REF!"}},{"$f":"'Budget FCFA'!#REF!/VLOOKUP(AV$2,$BO$127:$BP$138,2,FALSE)","v":{"$error":"#REF!"}},{"$f":"'Budget FCFA'!#REF!/VLOOKUP(AW$2,$BO$127:$BP$138,2,FALSE)","v":{"$error":"#REF!"}},{"$f":"'Budget FCFA'!#REF!/VLOOKUP(AX$2,$BO$127:$BP$138,2,FALSE)","v":{"$error":"#REF!"}},{"$f":"'Budget FCFA'!#REF!/VLOOKUP(AY$2,$BO$127:$BP$138,2,FALSE)","v":{"$error":"#REF!"}},{"$f":"'Budget FCFA'!#REF!/VLOOKUP(AZ$2,$BO$127:$BP$138,2,FALSE)","v":{"$error":"#REF!"}},{"$f":"'Budget FCFA'!#REF!/VLOOKUP(BA$2,$BO$127:$BP$138,2,FALSE)","v":{"$error":"#REF!"}},{"$f":"'Budget FCFA'!#REF!/VLOOKUP(BB$2,$BO$127:$BP$138,2,FALSE)","v":{"$error":"#REF!"}},{"$f":"'Budget FCFA'!#REF!/VLOOKUP(BC$2,$BO$127:$BP$138,2,FALSE)","v":{"$error":"#REF!"}},{"$f":"'Budget FCFA'!#REF!/VLOOKUP(BD$2,$BO$127:$BP$138,2,FALSE)","v":{"$error":"#REF!"}},{"$f":"'Budget FCFA'!#REF!/VLOOKUP(BE$2,$BO$127:$BP$138,2,FALSE)","v":{"$error":"#REF!"}},{"$f":"'Budget FCFA'!#REF!/VLOOKUP(BF$2,$BO$127:$BP$138,2,FALSE)","v":{"$error":"#REF!"}},{"$f":"'Budget FCFA'!#REF!/VLOOKUP(BG$2,$BO$127:$BP$138,2,FALSE)","v":{"$error":"#REF!"}},{"$f":"'Budget FCFA'!#REF!/VLOOKUP(BH$2,$BO$127:$BP$138,2,FALSE)","v":{"$error":"#REF!"}},{"$f":"'Budget FCFA'!#REF!/VLOOKUP(BI$2,$BO$127:$BP$138,2,FALSE)","v":{"$error":"#REF!"}},{"$f":"'Budget FCFA'!#REF!/VLOOKUP(BJ$2,$BO$127:$BP$138,2,FALSE)","v":{"$error":"#REF!"}},{"$error":"#REF!"},{"$f":"BK178-'Budget FCFA'!#REF!","v":{"$error":"#REF!"}}]
["PUBHONOR","BRAZZA","Honoraires",{"$f":"'Budget FCFA'!D179/VLOOKUP(D$2,$BO$127:$BP$138,2,FALSE)","v":0},{"$f":"'Budget FCFA'!E179/VLOOKUP(E$2,$BO$127:$BP$138,2,FALSE)","v":0},{"$f":"'Budget FCFA'!F179/VLOOKUP(F$2,$BO$127:$BP$138,2,FALSE)","v":0},{"$f":"'Budget FCFA'!G179/VLOOKUP(G$2,$BO$127:$BP$138,2,FALSE)","v":0},{"$f":"'Budget FCFA'!H179/VLOOKUP(H$2,$BO$127:$BP$138,2,FALSE)","v":16.664670000000001},{"$f":"'Budget FCFA'!I179/VLOOKUP(I$2,$BO$127:$BP$138,2,FALSE)","v":0},{"$f":"'Budget FCFA'!J179/VLOOKUP(J$2,$BO$127:$BP$138,2,FALSE)","v":0},{"$f":"'Budget FCFA'!K179/VLOOKUP(K$2,$BO$127:$BP$138,2,FALSE)","v":0},{"$f":"'Budget FCFA'!L179/VLOOKUP(L$2,$BO$127:$BP$138,2,FALSE)","v":0},{"$f":"'Budget FCFA'!M179/VLOOKUP(M$2,$BO$127:$BP$138,2,FALSE)","v":0},{"$f":"'Budget FCFA'!N179/VLOOKUP(N$2,$BO$127:$BP$138,2,FALSE)","v":0},{"$f":"'Budget FCFA'!O179/VLOOKUP(O$2,$BO$127:$BP$138,2,FALSE)","v":0},{"$f":"'Budget FCFA'!P179/VLOOKUP(P$2,$BO$127:$BP$138,2,FALSE)","v":0},{"$f":"'Budget FCFA'!Q179/VLOOKUP(Q$2,$BO$127:$BP$138,2,FALSE)","v":0},{"$f":"'Budget FCFA'!R179/VLOOKUP(R$2,$BO$127:$BP$138,2,FALSE)","v":0},{"$f":"'Budget FCFA'!S179/VLOOKUP(S$2,$BO$127:$BP$138,2,FALSE)","v":0},{"$f":"'Budget FCFA'!T179/VLOOKUP(T$2,$BO$127:$BP$138,2,FALSE)","v":0},{"$f":"'Budget FCFA'!U179/VLOOKUP(U$2,$BO$127:$BP$138,2,FALSE)","v":0},{"$f":"'Budget FCFA'!V179/VLOOKUP(V$2,$BO$127:$BP$138,2,FALSE)","v":0},{"$f":"'Budget FCFA'!W179/VLOOKUP(W$2,$BO$127:$BP$138,2,FALSE)","v":0},{"$f":"'Budget FCFA'!X179/VLOOKUP(X$2,$BO$127:$BP$138,2,FALSE)","v":0},{"$f":"'Budget FCFA'!Y179/VLOOKUP(Y$2,$BO$127:$BP$138,2,FALSE)","v":0},{"$f":"'Budget FCFA'!Z179/VLOOKUP(Z$2,$BO$127:$BP$138,2,FALSE)","v":0},{"$f":"'Budget FCFA'!AA179/VLOOKUP(AA$2,$BO$127:$BP$138,2,FALSE)","v":0},{"$f":"'Budget FCFA'!AB179/VLOOKUP(AB$2,$BO$127:$BP$138,2,FALSE)","v":0},{"$f":"'Budget FCFA'!AC179/VLOOKUP(AC$2,$BO$127:$BP$138,2,FALSE)","v":0},{"$f":"'Budget FCFA'!AD179/VLOOKUP(AD$2,$BO$127:$BP$138,2,FALSE)","v":0},{"$f":"'Budget FCFA'!AE179/VLOOKUP(AE$2,$BO$127:$BP$138,2,FALSE)","v":0},{"$f":"'Budget FCFA'!AF179/VLOOKUP(AF$2,$BO$127:$BP$138,2,FALSE)","v":34.586053900727144},{"$f":"'Budget FCFA'!AG179/VLOOKUP(AG$2,$BO$127:$BP$138,2,FALSE)","v":0},{"$f":"'Budget FCFA'!AH179/VLOOKUP(AH$2,$BO$127:$BP$138,2,FALSE)","v":0},{"$f":"'Budget FCFA'!AI179/VLOOKUP(AI$2,$BO$127:$BP$138,2,FALSE)","v":0},{"$f":"'Budget FCFA'!AJ179/VLOOKUP(AJ$2,$BO$127:$BP$138,2,FALSE)","v":0},{"$f":"'Budget FCFA'!AK179/VLOOKUP(AK$2,$BO$127:$BP$138,2,FALSE)","v":{"$error":"#REF!"}},{"$f":"'Budget FCFA'!AL179/VLOOKUP(AL$2,$BO$127:$BP$138,2,FALSE)","v":0},{"$f":"'Budget FCFA'!AM179/VLOOKUP(AM$2,$BO$127:$BP$138,2,FALSE)","v":0},{"$f":"'Budget FCFA'!AN179/VLOOKUP(AN$2,$BO$127:$BP$138,2,FALSE)","v":0},{"$f":"'Budget FCFA'!AO179/VLOOKUP(AO$2,$BO$127:$BP$138,2,FALSE)","v":0},{"$f":"'Budget FCFA'!AP179/VLOOKUP(AP$2,$BO$127:$BP$138,2,FALSE)","v":{"$error":"#REF!"}},{"$f":"'Budget FCFA'!#REF!/VLOOKUP(AQ$2,$BO$127:$BP$138,2,FALSE)","v":{"$error":"#REF!"}},{"$f":"'Budget FCFA'!#REF!/VLOOKUP(AR$2,$BO$127:$BP$138,2,FALSE)","v":{"$error":"#REF!"}},{"$f":"'Budget FCFA'!#REF!/VLOOKUP(AS$2,$BO$127:$BP$138,2,FALSE)","v":{"$error":"#REF!"}},{"$f":"'Budget FCFA'!#REF!/VLOOKUP(AT$2,$BO$127:$BP$138,2,FALSE)","v":{"$error":"#REF!"}},{"$f":"'Budget FCFA'!#REF!/VLOOKUP(AU$2,$BO$127:$BP$138,2,FALSE)","v":{"$error":"#REF!"}},{"$f":"'Budget FCFA'!#REF!/VLOOKUP(AV$2,$BO$127:$BP$138,2,FALSE)","v":{"$error":"#REF!"}},{"$f":"'Budget FCFA'!#REF!/VLOOKUP(AW$2,$BO$127:$BP$138,2,FALSE)","v":{"$error":"#REF!"}},{"$f":"'Budget FCFA'!#REF!/VLOOKUP(AX$2,$BO$127:$BP$138,2,FALSE)","v":{"$error":"#REF!"}},{"$f":"'Budget FCFA'!#REF!/VLOOKUP(AY$2,$BO$127:$BP$138,2,FALSE)","v":{"$error":"#REF!"}},{"$f":"'Budget FCFA'!#REF!/VLOOKUP(AZ$2,$BO$127:$BP$138,2,FALSE)","v":{"$error":"#REF!"}},{"$f":"'Budget FCFA'!#REF!/VLOOKUP(BA$2,$BO$127:$BP$138,2,FALSE)","v":{"$error":"#REF!"}},{"$f":"'Budget FCFA'!#REF!/VLOOKUP(BB$2,$BO$127:$BP$138,2,FALSE)","v":{"$error":"#REF!"}},{"$f":"'Budget FCFA'!#REF!/VLOOKUP(BC$2,$BO$127:$BP$138,2,FALSE)","v":{"$error":"#REF!"}},{"$f":"'Budget FCFA'!#REF!/VLOOKUP(BD$2,$BO$127:$BP$138,2,FALSE)","v":{"$error":"#REF!"}},{"$f":"'Budget FCFA'!#REF!/VLOOKUP(BE$2,$BO$127:$BP$138,2,FALSE)","v":{"$error":"#REF!"}},{"$f":"'Budget FCFA'!#REF!/VLOOKUP(BF$2,$BO$127:$BP$138,2,FALSE)","v":{"$error":"#REF!"}},{"$f":"'Budget FCFA'!#REF!/VLOOKUP(BG$2,$BO$127:$BP$138,2,FALSE)","v":{"$error":"#REF!"}},{"$f":"'Budget FCFA'!#REF!/VLOOKUP(BH$2,$BO$127:$BP$138,2,FALSE)","v":{"$error":"#REF!"}},{"$f":"'Budget FCFA'!#REF!/VLOOKUP(BI$2,$BO$127:$BP$138,2,FALSE)","v":{"$error":"#REF!"}},{"$f":"'Budget FCFA'!#REF!/VLOOKUP(BJ$2,$BO$127:$BP$138,2,FALSE)","v":{"$error":"#REF!"}},{"$error":"#REF!"},{"$f":"BK179-'Budget FCFA'!#REF!","v":{"$error":"#REF!"}}]
["PUBHONOR","DAKAR","Honoraires",{"$f":"'Budget FCFA'!D180/VLOOKUP(D$2,$BO$127:$BP$138,2,FALSE)","v":0},{"$f":"'Budget FCFA'!E180/VLOOKUP(E$2,$BO$127:$BP$138,2,FALSE)","v":0},{"$f":"'Budget FCFA'!F180/VLOOKUP(F$2,$BO$127:$BP$138,2,FALSE)","v":0},{"$f":"'Budget FCFA'!G180/VLOOKUP(G$2,$BO$127:$BP$138,2,FALSE)","v":0},{"$f":"'Budget FCFA'!H180/VLOOKUP(H$2,$BO$127:$BP$138,2,FALSE)","v":22.39875},{"$f":"'Budget FCFA'!I180/VLOOKUP(I$2,$BO$127:$BP$138,2,FALSE)","v":0},{"$f":"'Budget FCFA'!J180/VLOOKUP(J$2,$BO$127:$BP$138,2,FALSE)","v":0},{"$f":"'Budget FCFA'!K180/VLOOKUP(K$2,$BO$127:$BP$138,2,FALSE)","v":0},{"$f":"'Budget FCFA'!L180/VLOOKUP(L$2,$BO$127:$BP$138,2,FALSE)","v":0},{"$f":"'Budget FCFA'!M180/VLOOKUP(M$2,$BO$127:$BP$138,2,FALSE)","v":0},{"$f":"'Budget FCFA'!N180/VLOOKUP(N$2,$BO$127:$BP$138,2,FALSE)","v":0},{"$f":"'Budget FCFA'!O180/VLOOKUP(O$2,$BO$127:$BP$138,2,FALSE)","v":0},{"$f":"'Budget FCFA'!P180/VLOOKUP(P$2,$BO$127:$BP$138,2,FALSE)","v":0},{"$f":"'Budget FCFA'!Q180/VLOOKUP(Q$2,$BO$127:$BP$138,2,FALSE)","v":0},{"$f":"'Budget FCFA'!R180/VLOOKUP(R$2,$BO$127:$BP$138,2,FALSE)","v":0},{"$f":"'Budget FCFA'!S180/VLOOKUP(S$2,$BO$127:$BP$138,2,FALSE)","v":0},{"$f":"'Budget FCFA'!T180/VLOOKUP(T$2,$BO$127:$BP$138,2,FALSE)","v":0},{"$f":"'Budget FCFA'!U180/VLOOKUP(U$2,$BO$127:$BP$138,2,FALSE)","v":0},{"$f":"'Budget FCFA'!V180/VLOOKUP(V$2,$BO$127:$BP$138,2,FALSE)","v":0},{"$f":"'Budget FCFA'!W180/VLOOKUP(W$2,$BO$127:$BP$138,2,FALSE)","v":0},{"$f":"'Budget FCFA'!X180/VLOOKUP(X$2,$BO$127:$BP$138,2,FALSE)","v":0},{"$f":"'Budget FCFA'!Y180/VLOOKUP(Y$2,$BO$127:$BP$138,2,FALSE)","v":0},{"$f":"'Budget FCFA'!Z180/VLOOKUP(Z$2,$BO$127:$BP$138,2,FALSE)","v":0},{"$f":"'Budget FCFA'!AA180/VLOOKUP(AA$2,$BO$127:$BP$138,2,FALSE)","v":0},{"$f":"'Budget FCFA'!AB180/VLOOKUP(AB$2,$BO$127:$BP$138,2,FALSE)","v":0},{"$f":"'Budget FCFA'!AC180/VLOOKUP(AC$2,$BO$127:$BP$138,2,FALSE)","v":0},{"$f":"'Budget FCFA'!AD180/VLOOKUP(AD$2,$BO$127:$BP$138,2,FALSE)","v":0},{"$f":"'Budget FCFA'!AE180/VLOOKUP(AE$2,$BO$127:$BP$138,2,FALSE)","v":0},{"$f":"'Budget FCFA'!AF180/VLOOKUP(AF$2,$BO$127:$BP$138,2,FALSE)","v":46.486631586998847},{"$f":"'Budget FCFA'!AG180/VLOOKUP(AG$2,$BO$127:$BP$138,2,FALSE)","v":0},{"$f":"'Budget FCFA'!AH180/VLOOKUP(AH$2,$BO$127:$BP$138,2,FALSE)","v":0},{"$f":"'Budget FCFA'!AI180/VLOOKUP(AI$2,$BO$127:$BP$138,2,FALSE)","v":0},{"$f":"'Budget FCFA'!AJ180/VLOOKUP(AJ$2,$BO$127:$BP$138,2,FALSE)","v":0},{"$f":"'Budget FCFA'!AK180/VLOOKUP(AK$2,$BO$127:$BP$138,2,FALSE)","v":{"$error":"#REF!"}},{"$f":"'Budget FCFA'!AL180/VLOOKUP(AL$2,$BO$127:$BP$138,2,FALSE)","v":0},{"$f":"'Budget FCFA'!AM180/VLOOKUP(AM$2,$BO$127:$BP$138,2,FALSE)","v":0},{"$f":"'Budget FCFA'!AN180/VLOOKUP(AN$2,$BO$127:$BP$138,2,FALSE)","v":0},{"$f":"'Budget FCFA'!AO180/VLOOKUP(AO$2,$BO$127:$BP$138,2,FALSE)","v":0},{"$f":"'Budget FCFA'!AP180/VLOOKUP(AP$2,$BO$127:$BP$138,2,FALSE)","v":{"$error":"#REF!"}},{"$f":"'Budget FCFA'!#REF!/VLOOKUP(AQ$2,$BO$127:$BP$138,2,FALSE)","v":{"$error":"#REF!"}},{"$f":"'Budget FCFA'!#REF!/VLOOKUP(AR$2,$BO$127:$BP$138,2,FALSE)","v":{"$error":"#REF!"}},{"$f":"'Budget FCFA'!#REF!/VLOOKUP(AS$2,$BO$127:$BP$138,2,FALSE)","v":{"$error":"#REF!"}},{"$f":"'Budget FCFA'!#REF!/VLOOKUP(AT$2,$BO$127:$BP$138,2,FALSE)","v":{"$error":"#REF!"}},{"$f":"'Budget FCFA'!#REF!/VLOOKUP(AU$2,$BO$127:$BP$138,2,FALSE)","v":{"$error":"#REF!"}},{"$f":"'Budget FCFA'!#REF!/VLOOKUP(AV$2,$BO$127:$BP$138,2,FALSE)","v":{"$error":"#REF!"}},{"$f":"'Budget FCFA'!#REF!/VLOOKUP(AW$2,$BO$127:$BP$138,2,FALSE)","v":{"$error":"#REF!"}},{"$f":"'Budget FCFA'!#REF!/VLOOKUP(AX$2,$BO$127:$BP$138,2,FALSE)","v":{"$error":"#REF!"}},{"$f":"'Budget FCFA'!#REF!/VLOOKUP(AY$2,$BO$127:$BP$138,2,FALSE)","v":{"$error":"#REF!"}},{"$f":"'Budget FCFA'!#REF!/VLOOKUP(AZ$2,$BO$127:$BP$138,2,FALSE)","v":{"$error":"#REF!"}},{"$f":"'Budget FCFA'!#REF!/VLOOKUP(BA$2,$BO$127:$BP$138,2,FALSE)","v":{"$error":"#REF!"}},{"$f":"'Budget FCFA'!#REF!/VLOOKUP(BB$2,$BO$127:$BP$138,2,FALSE)","v":{"$error":"#REF!"}},{"$f":"'Budget FCFA'!#REF!/VLOOKUP(BC$2,$BO$127:$BP$138,2,FALSE)","v":{"$error":"#REF!"}},{"$f":"'Budget FCFA'!#REF!/VLOOKUP(BD$2,$BO$127:$BP$138,2,FALSE)","v":{"$error":"#REF!"}},{"$f":"'Budget FCFA'!#REF!/VLOOKUP(BE$2,$BO$127:$BP$138,2,FALSE)","v":{"$error":"#REF!"}},{"$f":"'Budget FCFA'!#REF!/VLOOKUP(BF$2,$BO$127:$BP$138,2,FALSE)","v":{"$error":"#REF!"}},{"$f":"'Budget FCFA'!#REF!/VLOOKUP(BG$2,$BO$127:$BP$138,2,FALSE)","v":{"$error":"#REF!"}},{"$f":"'Budget FCFA'!#REF!/VLOOKUP(BH$2,$BO$127:$BP$138,2,FALSE)","v":{"$error":"#REF!"}},{"$f":"'Budget FCFA'!#REF!/VLOOKUP(BI$2,$BO$127:$BP$138,2,FALSE)","v":{"$error":"#REF!"}},{"$f":"'Budget FCFA'!#REF!/VLOOKUP(BJ$2,$BO$127:$BP$138,2,FALSE)","v":{"$error":"#REF!"}},{"$error":"#REF!"},{"$f":"BK180-'Budget FCFA'!#REF!","v":{"$error":"#REF!"}}]
["PUBHONOR","LIBREVILLE","Honoraires",{"$f":"'Budget FCFA'!D181/VLOOKUP(D$2,$BO$127:$BP$138,2,FALSE)","v":0},{"$f":"'Budget FCFA'!E181/VLOOKUP(E$2,$BO$127:$BP$138,2,FALSE)","v":0},{"$f":"'Budget FCFA'!F181/VLOOKUP(F$2,$BO$127:$BP$138,2,FALSE)","v":0},{"$f":"'Budget FCFA'!G181/VLOOKUP(G$2,$BO$127:$BP$138,2,FALSE)","v":0},{"$f":"'Budget FCFA'!H181/VLOOKUP(H$2,$BO$127:$BP$138,2,FALSE)","v":31.716630000000002},{"$f":"'Budget FCFA'!I181/VLOOKUP(I$2,$BO$127:$BP$138,2,FALSE)","v":0},{"$f":"'Budget FCFA'!J181/VLOOKUP(J$2,$BO$127:$BP$138,2,FALSE)","v":0},{"$f":"'Budget FCFA'!K181/VLOOKUP(K$2,$BO$127:$BP$138,2,FALSE)","v":0},{"$f":"'Budget FCFA'!L181/VLOOKUP(L$2,$BO$127:$BP$138,2,FALSE)","v":0},{"$f":"'Budget FCFA'!M181/VLOOKUP(M$2,$BO$127:$BP$138,2,FALSE)","v":0},{"$f":"'Budget FCFA'!N181/VLOOKUP(N$2,$BO$127:$BP$138,2,FALSE)","v":0},{"$f":"'Budget FCFA'!O181/VLOOKUP(O$2,$BO$127:$BP$138,2,FALSE)","v":0},{"$f":"'Budget FCFA'!P181/VLOOKUP(P$2,$BO$127:$BP$138,2,FALSE)","v":0},{"$f":"'Budget FCFA'!Q181/VLOOKUP(Q$2,$BO$127:$BP$138,2,FALSE)","v":0},{"$f":"'Budget FCFA'!R181/VLOOKUP(R$2,$BO$127:$BP$138,2,FALSE)","v":0},{"$f":"'Budget FCFA'!S181/VLOOKUP(S$2,$BO$127:$BP$138,2,FALSE)","v":0},{"$f":"'Budget FCFA'!T181/VLOOKUP(T$2,$BO$127:$BP$138,2,FALSE)","v":0},{"$f":"'Budget FCFA'!U181/VLOOKUP(U$2,$BO$127:$BP$138,2,FALSE)","v":0},{"$f":"'Budget FCFA'!V181/VLOOKUP(V$2,$BO$127:$BP$138,2,FALSE)","v":0},{"$f":"'Budget FCFA'!W181/VLOOKUP(W$2,$BO$127:$BP$138,2,FALSE)","v":0},{"$f":"'Budget FCFA'!X181/VLOOKUP(X$2,$BO$127:$BP$138,2,FALSE)","v":0},{"$f":"'Budget FCFA'!Y181/VLOOKUP(Y$2,$BO$127:$BP$138,2,FALSE)","v":0},{"$f":"'Budget FCFA'!Z181/VLOOKUP(Z$2,$BO$127:$BP$138,2,FALSE)","v":0},{"$f":"'Budget FCFA'!AA181/VLOOKUP(AA$2,$BO$127:$BP$138,2,FALSE)","v":0},{"$f":"'Budget FCFA'!AB181/VLOOKUP(AB$2,$BO$127:$BP$138,2,FALSE)","v":0},{"$f":"'Budget FCFA'!AC181/VLOOKUP(AC$2,$BO$127:$BP$138,2,FALSE)","v":0},{"$f":"'Budget FCFA'!AD181/VLOOKUP(AD$2,$BO$127:$BP$138,2,FALSE)","v":0},{"$f":"'Budget FCFA'!AE181/VLOOKUP(AE$2,$BO$127:$BP$138,2,FALSE)","v":0},{"$f":"'Budget FCFA'!AF181/VLOOKUP(AF$2,$BO$127:$BP$138,2,FALSE)","v":65.82507032719036},{"$f":"'Budget FCFA'!AG181/VLOOKUP(AG$2,$BO$127:$BP$138,2,FALSE)","v":0},{"$f":"'Budget FCFA'!AH181/VLOOKUP(AH$2,$BO$127:$BP$138,2,FALSE)","v":0},{"$f":"'Budget FCFA'!AI181/VLOOKUP(AI$2,$BO$127:$BP$138,2,FALSE)","v":0},{"$f":"'Budget FCFA'!AJ181/VLOOKUP(AJ$2,$BO$127:$BP$138,2,FALSE)","v":0},{"$f":"'Budget FCFA'!AK181/VLOOKUP(AK$2,$BO$127:$BP$138,2,FALSE)","v":{"$error":"#REF!"}},{"$f":"'Budget FCFA'!AL181/VLOOKUP(AL$2,$BO$127:$BP$138,2,FALSE)","v":0},{"$f":"'Budget FCFA'!AM181/VLOOKUP(AM$2,$BO$127:$BP$138,2,FALSE)","v":0},{"$f":"'Budget FCFA'!AN181/VLOOKUP(AN$2,$BO$127:$BP$138,2,FALSE)","v":0},{"$f":"'Budget FCFA'!AO181/VLOOKUP(AO$2,$BO$127:$BP$138,2,FALSE)","v":0},{"$f":"'Budget FCFA'!AP181/VLOOKUP(AP$2,$BO$127:$BP$138,2,FALSE)","v":{"$error":"#REF!"}},{"$f":"'Budget FCFA'!#REF!/VLOOKUP(AQ$2,$BO$127:$BP$138,2,FALSE)","v":{"$error":"#REF!"}},{"$f":"'Budget FCFA'!#REF!/VLOOKUP(AR$2,$BO$127:$BP$138,2,FALSE)","v":{"$error":"#REF!"}},{"$f":"'Budget FCFA'!#REF!/VLOOKUP(AS$2,$BO$127:$BP$138,2,FALSE)","v":{"$error":"#REF!"}},{"$f":"'Budget FCFA'!#REF!/VLOOKUP(AT$2,$BO$127:$BP$138,2,FALSE)","v":{"$error":"#REF!"}},{"$f":"'Budget FCFA'!#REF!/VLOOKUP(AU$2,$BO$127:$BP$138,2,FALSE)","v":{"$error":"#REF!"}},{"$f":"'Budget FCFA'!#REF!/VLOOKUP(AV$2,$BO$127:$BP$138,2,FALSE)","v":{"$error":"#REF!"}},{"$f":"'Budget FCFA'!#REF!/VLOOKUP(AW$2,$BO$127:$BP$138,2,FALSE)","v":{"$error":"#REF!"}},{"$f":"'Budget FCFA'!#REF!/VLOOKUP(AX$2,$BO$127:$BP$138,2,FALSE)","v":{"$error":"#REF!"}},{"$f":"'Budget FCFA'!#REF!/VLOOKUP(AY$2,$BO$127:$BP$138,2,FALSE)","v":{"$error":"#REF!"}},{"$f":"'Budget FCFA'!#REF!/VLOOKUP(AZ$2,$BO$127:$BP$138,2,FALSE)","v":{"$error":"#REF!"}},{"$f":"'Budget FCFA'!#REF!/VLOOKUP(BA$2,$BO$127:$BP$138,2,FALSE)","v":{"$error":"#REF!"}},{"$f":"'Budget FCFA'!#REF!/VLOOKUP(BB$2,$BO$127:$BP$138,2,FALSE)","v":{"$error":"#REF!"}},{"$f":"'Budget FCFA'!#REF!/VLOOKUP(BC$2,$BO$127:$BP$138,2,FALSE)","v":{"$error":"#REF!"}},{"$f":"'Budget FCFA'!#REF!/VLOOKUP(BD$2,$BO$127:$BP$138,2,FALSE)","v":{"$error":"#REF!"}},{"$f":"'Budget FCFA'!#REF!/VLOOKUP(BE$2,$BO$127:$BP$138,2,FALSE)","v":{"$error":"#REF!"}},{"$f":"'Budget FCFA'!#REF!/VLOOKUP(BF$2,$BO$127:$BP$138,2,FALSE)","v":{"$error":"#REF!"}},{"$f":"'Budget FCFA'!#REF!/VLOOKUP(BG$2,$BO$127:$BP$138,2,FALSE)","v":{"$error":"#REF!"}},{"$f":"'Budget FCFA'!#REF!/VLOOKUP(BH$2,$BO$127:$BP$138,2,FALSE)","v":{"$error":"#REF!"}},{"$f":"'Budget FCFA'!#REF!/VLOOKUP(BI$2,$BO$127:$BP$138,2,FALSE)","v":{"$error":"#REF!"}},{"$f":"'Budget FCFA'!#REF!/VLOOKUP(BJ$2,$BO$127:$BP$138,2,FALSE)","v":{"$error":"#REF!"}},{"$error":"#REF!"},{"$f":"BK181-'Budget FCFA'!#REF!","v":{"$error":"#REF!"}}]
["PUBHONOR","DOUALA","Honoraires",{"$f":"'Budget FCFA'!D182/VLOOKUP(D$2,$BO$127:$BP$138,2,FALSE)","v":0},{"$f":"'Budget FCFA'!E182/VLOOKUP(E$2,$BO$127:$BP$138,2,FALSE)","v":0},{"$f":"'Budget FCFA'!F182/VLOOKUP(F$2,$BO$127:$BP$138,2,FALSE)","v":0},{"$f":"'Budget FCFA'!G182/VLOOKUP(G$2,$BO$127:$BP$138,2,FALSE)","v":0},{"$f":"'Budget FCFA'!H182/VLOOKUP(H$2,$BO$127:$BP$138,2,FALSE)","v":22.39875},{"$f":"'Budget FCFA'!I182/VLOOKUP(I$2,$BO$127:$BP$138,2,FALSE)","v":0},{"$f":"'Budget FCFA'!J182/VLOOKUP(J$2,$BO$127:$BP$138,2,FALSE)","v":0},{"$f":"'Budget FCFA'!K182/VLOOKUP(K$2,$BO$127:$BP$138,2,FALSE)","v":0},{"$f":"'Budget FCFA'!L182/VLOOKUP(L$2,$BO$127:$BP$138,2,FALSE)","v":0},{"$f":"'Budget FCFA'!M182/VLOOKUP(M$2,$BO$127:$BP$138,2,FALSE)","v":0},{"$f":"'Budget FCFA'!N182/VLOOKUP(N$2,$BO$127:$BP$138,2,FALSE)","v":0},{"$f":"'Budget FCFA'!O182/VLOOKUP(O$2,$BO$127:$BP$138,2,FALSE)","v":0},{"$f":"'Budget FCFA'!P182/VLOOKUP(P$2,$BO$127:$BP$138,2,FALSE)","v":0},{"$f":"'Budget FCFA'!Q182/VLOOKUP(Q$2,$BO$127:$BP$138,2,FALSE)","v":0},{"$f":"'Budget FCFA'!R182/VLOOKUP(R$2,$BO$127:$BP$138,2,FALSE)","v":0},{"$f":"'Budget FCFA'!S182/VLOOKUP(S$2,$BO$127:$BP$138,2,FALSE)","v":0},{"$f":"'Budget FCFA'!T182/VLOOKUP(T$2,$BO$127:$BP$138,2,FALSE)","v":0},{"$f":"'Budget FCFA'!U182/VLOOKUP(U$2,$BO$127:$BP$138,2,FALSE)","v":0},{"$f":"'Budget FCFA'!V182/VLOOKUP(V$2,$BO$127:$BP$138,2,FALSE)","v":0},{"$f":"'Budget FCFA'!W182/VLOOKUP(W$2,$BO$127:$BP$138,2,FALSE)","v":0},{"$f":"'Budget FCFA'!X182/VLOOKUP(X$2,$BO$127:$BP$138,2,FALSE)","v":0},{"$f":"'Budget FCFA'!Y182/VLOOKUP(Y$2,$BO$127:$BP$138,2,FALSE)","v":0},{"$f":"'Budget FCFA'!Z182/VLOOKUP(Z$2,$BO$127:$BP$138,2,FALSE)","v":0},{"$f":"'Budget FCFA'!AA182/VLOOKUP(AA$2,$BO$127:$BP$138,2,FALSE)","v":0},{"$f":"'Budget FCFA'!AB182/VLOOKUP(AB$2,$BO$127:$BP$138,2,FALSE)","v":0},{"$f":"'Budget FCFA'!AC182/VLOOKUP(AC$2,$BO$127:$BP$138,2,FALSE)","v":0},{"$f":"'Budget FCFA'!AD182/VLOOKUP(AD$2,$BO$127:$BP$138,2,FALSE)","v":0},{"$f":"'Budget FCFA'!AE182/VLOOKUP(AE$2,$BO$127:$BP$138,2,FALSE)","v":0},{"$f":"'Budget FCFA'!AF182/VLOOKUP(AF$2,$BO$127:$BP$138,2,FALSE)","v":46.486631586998847},{"$f":"'Budget FCFA'!AG182/VLOOKUP(AG$2,$BO$127:$BP$138,2,FALSE)","v":0},{"$f":"'Budget FCFA'!AH182/VLOOKUP(AH$2,$BO$127:$BP$138,2,FALSE)","v":0},{"$f":"'Budget FCFA'!AI182/VLOOKUP(AI$2,$BO$127:$BP$138,2,FALSE)","v":0},{"$f":"'Budget FCFA'!AJ182/VLOOKUP(AJ$2,$BO$127:$BP$138,2,FALSE)","v":0},{"$f":"'Budget FCFA'!AK182/VLOOKUP(AK$2,$BO$127:$BP$138,2,FALSE)","v":{"$error":"#REF!"}},{"$f":"'Budget FCFA'!AL182/VLOOKUP(AL$2,$BO$127:$BP$138,2,FALSE)","v":0},{"$f":"'Budget FCFA'!AM182/VLOOKUP(AM$2,$BO$127:$BP$138,2,FALSE)","v":0},{"$f":"'Budget FCFA'!AN182/VLOOKUP(AN$2,$BO$127:$BP$138,2,FALSE)","v":0},{"$f":"'Budget FCFA'!AO182/VLOOKUP(AO$2,$BO$127:$BP$138,2,FALSE)","v":0},{"$f":"'Budget FCFA'!AP182/VLOOKUP(AP$2,$BO$127:$BP$138,2,FALSE)","v":{"$error":"#REF!"}},{"$f":"'Budget FCFA'!#REF!/VLOOKUP(AQ$2,$BO$127:$BP$138,2,FALSE)","v":{"$error":"#REF!"}},{"$f":"'Budget FCFA'!#REF!/VLOOKUP(AR$2,$BO$127:$BP$138,2,FALSE)","v":{"$error":"#REF!"}},{"$f":"'Budget FCFA'!#REF!/VLOOKUP(AS$2,$BO$127:$BP$138,2,FALSE)","v":{"$error":"#REF!"}},{"$f":"'Budget FCFA'!#REF!/VLOOKUP(AT$2,$BO$127:$BP$138,2,FALSE)","v":{"$error":"#REF!"}},{"$f":"'Budget FCFA'!#REF!/VLOOKUP(AU$2,$BO$127:$BP$138,2,FALSE)","v":{"$error":"#REF!"}},{"$f":"'Budget FCFA'!#REF!/VLOOKUP(AV$2,$BO$127:$BP$138,2,FALSE)","v":{"$error":"#REF!"}},{"$f":"'Budget FCFA'!#REF!/VLOOKUP(AW$2,$BO$127:$BP$138,2,FALSE)","v":{"$error":"#REF!"}},{"$f":"'Budget FCFA'!#REF!/VLOOKUP(AX$2,$BO$127:$BP$138,2,FALSE)","v":{"$error":"#REF!"}},{"$f":"'Budget FCFA'!#REF!/VLOOKUP(AY$2,$BO$127:$BP$138,2,FALSE)","v":{"$error":"#REF!"}},{"$f":"'Budget FCFA'!#REF!/VLOOKUP(AZ$2,$BO$127:$BP$138,2,FALSE)","v":{"$error":"#REF!"}},{"$f":"'Budget FCFA'!#REF!/VLOOKUP(BA$2,$BO$127:$BP$138,2,FALSE)","v":{"$error":"#REF!"}},{"$f":"'Budget FCFA'!#REF!/VLOOKUP(BB$2,$BO$127:$BP$138,2,FALSE)","v":{"$error":"#REF!"}},{"$f":"'Budget FCFA'!#REF!/VLOOKUP(BC$2,$BO$127:$BP$138,2,FALSE)","v":{"$error":"#REF!"}},{"$f":"'Budget FCFA'!#REF!/VLOOKUP(BD$2,$BO$127:$BP$138,2,FALSE)","v":{"$error":"#REF!"}},{"$f":"'Budget FCFA'!#REF!/VLOOKUP(BE$2,$BO$127:$BP$138,2,FALSE)","v":{"$error":"#REF!"}},{"$f":"'Budget FCFA'!#REF!/VLOOKUP(BF$2,$BO$127:$BP$138,2,FALSE)","v":{"$error":"#REF!"}},{"$f":"'Budget FCFA'!#REF!/VLOOKUP(BG$2,$BO$127:$BP$138,2,FALSE)","v":{"$error":"#REF!"}},{"$f":"'Budget FCFA'!#REF!/VLOOKUP(BH$2,$BO$127:$BP$138,2,FALSE)","v":{"$error":"#REF!"}},{"$f":"'Budget FCFA'!#REF!/VLOOKUP(BI$2,$BO$127:$BP$138,2,FALSE)","v":{"$error":"#REF!"}},{"$f":"'Budget FCFA'!#REF!/VLOOKUP(BJ$2,$BO$127:$BP$138,2,FALSE)","v":{"$error":"#REF!"}},{"$error":"#REF!"},{"$f":"BK182-'Budget FCFA'!#REF!","v":{"$error":"#REF!"}}]
["PUBHONOR","TOTAL","Honoraires ",{"$f":"'Budget FCFA'!D183/VLOOKUP(D$2,$BO$127:$BP$138,2,FALSE)","v":0},{"$f":"'Budget FCFA'!E183/VLOOKUP(E$2,$BO$127:$BP$138,2,FALSE)","v":0},{"$f":"'Budget FCFA'!F183/VLOOKUP(F$2,$BO$127:$BP$138,2,FALSE)","v":0},{"$f":"'Budget FCFA'!G183/VLOOKUP(G$2,$BO$127:$BP$138,2,FALSE)","v":0},{"$f":"'Budget FCFA'!H183/VLOOKUP(H$2,$BO$127:$BP$138,2,FALSE)","v":179.19},{"$f":"'Budget FCFA'!I183/VLOOKUP(I$2,$BO$127:$BP$138,2,FALSE)","v":0},{"$f":"'Budget FCFA'!J183/VLOOKUP(J$2,$BO$127:$BP$138,2,FALSE)","v":0},{"$f":"'Budget FCFA'!K183/VLOOKUP(K$2,$BO$127:$BP$138,2,FALSE)","v":0},{"$f":"'Budget FCFA'!L183/VLOOKUP(L$2,$BO$127:$BP$138,2,FALSE)","v":0},{"$f":"'Budget FCFA'!M183/VLOOKUP(M$2,$BO$127:$BP$138,2,FALSE)","v":0},{"$f":"'Budget FCFA'!N183/VLOOKUP(N$2,$BO$127:$BP$138,2,FALSE)","v":0},{"$f":"'Budget FCFA'!O183/VLOOKUP(O$2,$BO$127:$BP$138,2,FALSE)","v":0},{"$f":"'Budget FCFA'!P183/VLOOKUP(P$2,$BO$127:$BP$138,2,FALSE)","v":0},{"$f":"'Budget FCFA'!Q183/VLOOKUP(Q$2,$BO$127:$BP$138,2,FALSE)","v":0},{"$f":"'Budget FCFA'!R183/VLOOKUP(R$2,$BO$127:$BP$138,2,FALSE)","v":0},{"$f":"'Budget FCFA'!S183/VLOOKUP(S$2,$BO$127:$BP$138,2,FALSE)","v":0},{"$f":"'Budget FCFA'!T183/VLOOKUP(T$2,$BO$127:$BP$138,2,FALSE)","v":0},{"$f":"'Budget FCFA'!U183/VLOOKUP(U$2,$BO$127:$BP$138,2,FALSE)","v":0},{"$f":"'Budget FCFA'!V183/VLOOKUP(V$2,$BO$127:$BP$138,2,FALSE)","v":0},{"$f":"'Budget FCFA'!W183/VLOOKUP(W$2,$BO$127:$BP$138,2,FALSE)","v":0},{"$f":"'Budget FCFA'!X183/VLOOKUP(X$2,$BO$127:$BP$138,2,FALSE)","v":0},{"$f":"'Budget FCFA'!Y183/VLOOKUP(Y$2,$BO$127:$BP$138,2,FALSE)","v":0},{"$f":"'Budget FCFA'!Z183/VLOOKUP(Z$2,$BO$127:$BP$138,2,FALSE)","v":0},{"$f":"'Budget FCFA'!AA183/VLOOKUP(AA$2,$BO$127:$BP$138,2,FALSE)","v":0},{"$f":"'Budget FCFA'!AB183/VLOOKUP(AB$2,$BO$127:$BP$138,2,FALSE)","v":0},{"$f":"'Budget FCFA'!AC183/VLOOKUP(AC$2,$BO$127:$BP$138,2,FALSE)","v":0},{"$f":"'Budget FCFA'!AD183/VLOOKUP(AD$2,$BO$127:$BP$138,2,FALSE)","v":0},{"$f":"'Budget FCFA'!AE183/VLOOKUP(AE$2,$BO$127:$BP$138,2,FALSE)","v":0},{"$f":"'Budget FCFA'!AF183/VLOOKUP(AF$2,$BO$127:$BP$138,2,FALSE)","v":371.89305269599078},{"$f":"'Budget FCFA'!AG183/VLOOKUP(AG$2,$BO$127:$BP$138,2,FALSE)","v":0},{"$f":"'Budget FCFA'!AH183/VLOOKUP(AH$2,$BO$127:$BP$138,2,FALSE)","v":0},{"$f":"'Budget FCFA'!AI183/VLOOKUP(AI$2,$BO$127:$BP$138,2,FALSE)","v":0},{"$f":"'Budget FCFA'!AJ183/VLOOKUP(AJ$2,$BO$127:$BP$138,2,FALSE)","v":0},{"$f":"'Budget FCFA'!AK183/VLOOKUP(AK$2,$BO$127:$BP$138,2,FALSE)","v":1019.5299999999999},{"$f":"'Budget FCFA'!AL183/VLOOKUP(AL$2,$BO$127:$BP$138,2,FALSE)","v":0},{"$f":"'Budget FCFA'!AM183/VLOOKUP(AM$2,$BO$127:$BP$138,2,FALSE)","v":0},{"$f":"'Budget FCFA'!AN183/VLOOKUP(AN$2,$BO$127:$BP$138,2,FALSE)","v":0},{"$f":"'Budget FCFA'!AO183/VLOOKUP(AO$2,$BO$127:$BP$138,2,FALSE)","v":0},{"$f":"'Budget FCFA'!AP183/VLOOKUP(AP$2,$BO$127:$BP$138,2,FALSE)","v":358.86},{"$f":"'Budget FCFA'!#REF!/VLOOKUP(AQ$2,$BO$127:$BP$138,2,FALSE)","v":{"$error":"#REF!"}},{"$f":"'Budget FCFA'!#REF!/VLOOKUP(AR$2,$BO$127:$BP$138,2,FALSE)","v":{"$error":"#REF!"}},{"$f":"'Budget FCFA'!#REF!/VLOOKUP(AS$2,$BO$127:$BP$138,2,FALSE)","v":{"$error":"#REF!"}},{"$f":"'Budget FCFA'!#REF!/VLOOKUP(AT$2,$BO$127:$BP$138,2,FALSE)","v":{"$error":"#REF!"}},{"$f":"'Budget FCFA'!#REF!/VLOOKUP(AU$2,$BO$127:$BP$138,2,FALSE)","v":{"$error":"#REF!"}},{"$f":"'Budget FCFA'!#REF!/VLOOKUP(AV$2,$BO$127:$BP$138,2,FALSE)","v":{"$error":"#REF!"}},{"$f":"'Budget FCFA'!#REF!/VLOOKUP(AW$2,$BO$127:$BP$138,2,FALSE)","v":{"$error":"#REF!"}},{"$f":"'Budget FCFA'!#REF!/VLOOKUP(AX$2,$BO$127:$BP$138,2,FALSE)","v":{"$error":"#REF!"}},{"$f":"'Budget FCFA'!#REF!/VLOOKUP(AY$2,$BO$127:$BP$138,2,FALSE)","v":{"$error":"#REF!"}},{"$f":"'Budget FCFA'!#REF!/VLOOKUP(AZ$2,$BO$127:$BP$138,2,FALSE)","v":{"$error":"#REF!"}},{"$f":"'Budget FCFA'!#REF!/VLOOKUP(BA$2,$BO$127:$BP$138,2,FALSE)","v":{"$error":"#REF!"}},{"$f":"'Budget FCFA'!#REF!/VLOOKUP(BB$2,$BO$127:$BP$138,2,FALSE)","v":{"$error":"#REF!"}},{"$f":"'Budget FCFA'!#REF!/VLOOKUP(BC$2,$BO$127:$BP$138,2,FALSE)","v":{"$error":"#REF!"}},{"$f":"'Budget FCFA'!#REF!/VLOOKUP(BD$2,$BO$127:$BP$138,2,FALSE)","v":{"$error":"#REF!"}},{"$f":"'Budget FCFA'!#REF!/VLOOKUP(BE$2,$BO$127:$BP$138,2,FALSE)","v":{"$error":"#REF!"}},{"$f":"'Budget FCFA'!#REF!/VLOOKUP(BF$2,$BO$127:$BP$138,2,FALSE)","v":{"$error":"#REF!"}},{"$f":"'Budget FCFA'!#REF!/VLOOKUP(BG$2,$BO$127:$BP$138,2,FALSE)","v":{"$error":"#REF!"}},{"$f":"'Budget FCFA'!#REF!/VLOOKUP(BH$2,$BO$127:$BP$138,2,FALSE)","v":{"$error":"#REF!"}},{"$f":"'Budget FCFA'!#REF!/VLOOKUP(BI$2,$BO$127:$BP$138,2,FALSE)","v":{"$error":"#REF!"}},{"$f":"'Budget FCFA'!#REF!/VLOOKUP(BJ$2,$BO$127:$BP$138,2,FALSE)","v":{"$error":"#REF!"}},{"$error":"#REF!"},{"$f":"BK183-'Budget FCFA'!#REF!","v":{"$error":"#REF!"}}]
["PUBLONCO","ABIDJAN","Longue conservation",{"$f":"'Budget FCFA'!D184/VLOOKUP(D$2,$BO$127:$BP$138,2,FALSE)","v":0},{"$f":"'Budget FCFA'!E184/VLOOKUP(E$2,$BO$127:$BP$138,2,FALSE)","v":0},{"$f":"'Budget FCFA'!F184/VLOOKUP(F$2,$BO$127:$BP$138,2,FALSE)","v":0},{"$f":"'Budget FCFA'!G184/VLOOKUP(G$2,$BO$127:$BP$138,2,FALSE)","v":0},{"$f":"'Budget FCFA'!H184/VLOOKUP(H$2,$BO$127:$BP$138,2,FALSE)","v":0},{"$f":"'Budget FCFA'!I184/VLOOKUP(I$2,$BO$127:$BP$138,2,FALSE)","v":0},{"$f":"'Budget FCFA'!J184/VLOOKUP(J$2,$BO$127:$BP$138,2,FALSE)","v":0},{"$f":"'Budget FCFA'!K184/VLOOKUP(K$2,$BO$127:$BP$138,2,FALSE)","v":0},{"$f":"'Budget FCFA'!L184/VLOOKUP(L$2,$BO$127:$BP$138,2,FALSE)","v":0},{"$f":"'Budget FCFA'!M184/VLOOKUP(M$2,$BO$127:$BP$138,2,FALSE)","v":0},{"$f":"'Budget FCFA'!N184/VLOOKUP(N$2,$BO$127:$BP$138,2,FALSE)","v":0},{"$f":"'Budget FCFA'!O184/VLOOKUP(O$2,$BO$127:$BP$138,2,FALSE)","v":0},{"$f":"'Budget FCFA'!P184/VLOOKUP(P$2,$BO$127:$BP$138,2,FALSE)","v":0},{"$f":"'Budget FCFA'!Q184/VLOOKUP(Q$2,$BO$127:$BP$138,2,FALSE)","v":0},{"$f":"'Budget FCFA'!R184/VLOOKUP(R$2,$BO$127:$BP$138,2,FALSE)","v":0},{"$f":"'Budget FCFA'!S184/VLOOKUP(S$2,$BO$127:$BP$138,2,FALSE)","v":0},{"$f":"'Budget FCFA'!T184/VLOOKUP(T$2,$BO$127:$BP$138,2,FALSE)","v":0},{"$f":"'Budget FCFA'!U184/VLOOKUP(U$2,$BO$127:$BP$138,2,FALSE)","v":0},{"$f":"'Budget FCFA'!V184/VLOOKUP(V$2,$BO$127:$BP$138,2,FALSE)","v":0},{"$f":"'Budget FCFA'!W184/VLOOKUP(W$2,$BO$127:$BP$138,2,FALSE)","v":0},{"$f":"'Budget FCFA'!X184/VLOOKUP(X$2,$BO$127:$BP$138,2,FALSE)","v":0},{"$f":"'Budget FCFA'!Y184/VLOOKUP(Y$2,$BO$127:$BP$138,2,FALSE)","v":0},{"$f":"'Budget FCFA'!Z184/VLOOKUP(Z$2,$BO$127:$BP$138,2,FALSE)","v":0},{"$f":"'Budget FCFA'!AA184/VLOOKUP(AA$2,$BO$127:$BP$138,2,FALSE)","v":0},{"$f":"'Budget FCFA'!AB184/VLOOKUP(AB$2,$BO$127:$BP$138,2,FALSE)","v":0},{"$f":"'Budget FCFA'!AC184/VLOOKUP(AC$2,$BO$127:$BP$138,2,FALSE)","v":0},{"$f":"'Budget FCFA'!AD184/VLOOKUP(AD$2,$BO$127:$BP$138,2,FALSE)","v":0},{"$f":"'Budget FCFA'!AE184/VLOOKUP(AE$2,$BO$127:$BP$138,2,FALSE)","v":0},{"$f":"'Budget FCFA'!AF184/VLOOKUP(AF$2,$BO$127:$BP$138,2,FALSE)","v":0},{"$f":"'Budget FCFA'!AG184/VLOOKUP(AG$2,$BO$127:$BP$138,2,FALSE)","v":0},{"$f":"'Budget FCFA'!AH184/VLOOKUP(AH$2,$BO$127:$BP$138,2,FALSE)","v":0},{"$f":"'Budget FCFA'!AI184/VLOOKUP(AI$2,$BO$127:$BP$138,2,FALSE)","v":0},{"$f":"'Budget FCFA'!AJ184/VLOOKUP(AJ$2,$BO$127:$BP$138,2,FALSE)","v":0},{"$f":"'Budget FCFA'!AK184/VLOOKUP(AK$2,$BO$127:$BP$138,2,FALSE)","v":0},{"$f":"'Budget FCFA'!AL184/VLOOKUP(AL$2,$BO$127:$BP$138,2,FALSE)","v":0},{"$f":"'Budget FCFA'!AM184/VLOOKUP(AM$2,$BO$127:$BP$138,2,FALSE)","v":0},{"$f":"'Budget FCFA'!AN184/VLOOKUP(AN$2,$BO$127:$BP$138,2,FALSE)","v":0},{"$f":"'Budget FCFA'!AO184/VLOOKUP(AO$2,$BO$127:$BP$138,2,FALSE)","v":0},{"$f":"'Budget FCFA'!AP184/VLOOKUP(AP$2,$BO$127:$BP$138,2,FALSE)","v":0},{"$f":"'Budget FCFA'!#REF!/VLOOKUP(AQ$2,$BO$127:$BP$138,2,FALSE)","v":{"$error":"#REF!"}},{"$f":"'Budget FCFA'!#REF!/VLOOKUP(AR$2,$BO$127:$BP$138,2,FALSE)","v":{"$error":"#REF!"}},{"$f":"'Budget FCFA'!#REF!/VLOOKUP(AS$2,$BO$127:$BP$138,2,FALSE)","v":{"$error":"#REF!"}},{"$f":"'Budget FCFA'!#REF!/VLOOKUP(AT$2,$BO$127:$BP$138,2,FALSE)","v":{"$error":"#REF!"}},{"$f":"'Budget FCFA'!#REF!/VLOOKUP(AU$2,$BO$127:$BP$138,2,FALSE)","v":{"$error":"#REF!"}},{"$f":"'Budget FCFA'!#REF!/VLOOKUP(AV$2,$BO$127:$BP$138,2,FALSE)","v":{"$error":"#REF!"}},{"$f":"'Budget FCFA'!#REF!/VLOOKUP(AW$2,$BO$127:$BP$138,2,FALSE)","v":{"$error":"#REF!"}},{"$f":"'Budget FCFA'!#REF!/VLOOKUP(AX$2,$BO$127:$BP$138,2,FALSE)","v":{"$error":"#REF!"}},{"$f":"'Budget FCFA'!#REF!/VLOOKUP(AY$2,$BO$127:$BP$138,2,FALSE)","v":{"$error":"#REF!"}},{"$f":"'Budget FCFA'!#REF!/VLOOKUP(AZ$2,$BO$127:$BP$138,2,FALSE)","v":{"$error":"#REF!"}},{"$f":"'Budget FCFA'!#REF!/VLOOKUP(BA$2,$BO$127:$BP$138,2,FALSE)","v":{"$error":"#REF!"}},{"$f":"'Budget FCFA'!#REF!/VLOOKUP(BB$2,$BO$127:$BP$138,2,FALSE)","v":{"$error":"#REF!"}},{"$f":"'Budget FCFA'!#REF!/VLOOKUP(BC$2,$BO$127:$BP$138,2,FALSE)","v":{"$error":"#REF!"}},{"$f":"'Budget FCFA'!#REF!/VLOOKUP(BD$2,$BO$127:$BP$138,2,FALSE)","v":{"$error":"#REF!"}},{"$f":"'Budget FCFA'!#REF!/VLOOKUP(BE$2,$BO$127:$BP$138,2,FALSE)","v":{"$error":"#REF!"}},{"$f":"'Budget FCFA'!#REF!/VLOOKUP(BF$2,$BO$127:$BP$138,2,FALSE)","v":{"$error":"#REF!"}},{"$f":"'Budget FCFA'!#REF!/VLOOKUP(BG$2,$BO$127:$BP$138,2,FALSE)","v":{"$error":"#REF!"}},{"$f":"'Budget FCFA'!#REF!/VLOOKUP(BH$2,$BO$127:$BP$138,2,FALSE)","v":{"$error":"#REF!"}},{"$f":"'Budget FCFA'!#REF!/VLOOKUP(BI$2,$BO$127:$BP$138,2,FALSE)","v":{"$error":"#REF!"}},{"$f":"'Budget FCFA'!#REF!/VLOOKUP(BJ$2,$BO$127:$BP$138,2,FALSE)","v":{"$error":"#REF!"}},{"$error":"#REF!"},{"$f":"BK184-'Budget FCFA'!#REF!","v":{"$error":"#REF!"}}]
["PUBLONCO","BRAZZA","Longue conservation",{"$f":"'Budget FCFA'!D185/VLOOKUP(D$2,$BO$127:$BP$138,2,FALSE)","v":0},{"$f":"'Budget FCFA'!E185/VLOOKUP(E$2,$BO$127:$BP$138,2,FALSE)","v":0},{"$f":"'Budget FCFA'!F185/VLOOKUP(F$2,$BO$127:$BP$138,2,FALSE)","v":0},{"$f":"'Budget FCFA'!G185/VLOOKUP(G$2,$BO$127:$BP$138,2,FALSE)","v":0},{"$f":"'Budget FCFA'!H185/VLOOKUP(H$2,$BO$127:$BP$138,2,FALSE)","v":0},{"$f":"'Budget FCFA'!I185/VLOOKUP(I$2,$BO$127:$BP$138,2,FALSE)","v":0},{"$f":"'Budget FCFA'!J185/VLOOKUP(J$2,$BO$127:$BP$138,2,FALSE)","v":0},{"$f":"'Budget FCFA'!K185/VLOOKUP(K$2,$BO$127:$BP$138,2,FALSE)","v":0},{"$f":"'Budget FCFA'!L185/VLOOKUP(L$2,$BO$127:$BP$138,2,FALSE)","v":0},{"$f":"'Budget FCFA'!M185/VLOOKUP(M$2,$BO$127:$BP$138,2,FALSE)","v":0},{"$f":"'Budget FCFA'!N185/VLOOKUP(N$2,$BO$127:$BP$138,2,FALSE)","v":0},{"$f":"'Budget FCFA'!O185/VLOOKUP(O$2,$BO$127:$BP$138,2,FALSE)","v":0},{"$f":"'Budget FCFA'!P185/VLOOKUP(P$2,$BO$127:$BP$138,2,FALSE)","v":0},{"$f":"'Budget FCFA'!Q185/VLOOKUP(Q$2,$BO$127:$BP$138,2,FALSE)","v":0},{"$f":"'Budget FCFA'!R185/VLOOKUP(R$2,$BO$127:$BP$138,2,FALSE)","v":0},{"$f":"'Budget FCFA'!S185/VLOOKUP(S$2,$BO$127:$BP$138,2,FALSE)","v":0},{"$f":"'Budget FCFA'!T185/VLOOKUP(T$2,$BO$127:$BP$138,2,FALSE)","v":0},{"$f":"'Budget FCFA'!U185/VLOOKUP(U$2,$BO$127:$BP$138,2,FALSE)","v":0},{"$f":"'Budget FCFA'!V185/VLOOKUP(V$2,$BO$127:$BP$138,2,FALSE)","v":0},{"$f":"'Budget FCFA'!W185/VLOOKUP(W$2,$BO$127:$BP$138,2,FALSE)","v":0},{"$f":"'Budget FCFA'!X185/VLOOKUP(X$2,$BO$127:$BP$138,2,FALSE)","v":0},{"$f":"'Budget FCFA'!Y185/VLOOKUP(Y$2,$BO$127:$BP$138,2,FALSE)","v":0},{"$f":"'Budget FCFA'!Z185/VLOOKUP(Z$2,$BO$127:$BP$138,2,FALSE)","v":0},{"$f":"'Budget FCFA'!AA185/VLOOKUP(AA$2,$BO$127:$BP$138,2,FALSE)","v":0},{"$f":"'Budget FCFA'!AB185/VLOOKUP(AB$2,$BO$127:$BP$138,2,FALSE)","v":0},{"$f":"'Budget FCFA'!AC185/VLOOKUP(AC$2,$BO$127:$BP$138,2,FALSE)","v":0},{"$f":"'Budget FCFA'!AD185/VLOOKUP(AD$2,$BO$127:$BP$138,2,FALSE)","v":0},{"$f":"'Budget FCFA'!AE185/VLOOKUP(AE$2,$BO$127:$BP$138,2,FALSE)","v":0},{"$f":"'Budget FCFA'!AF185/VLOOKUP(AF$2,$BO$127:$BP$138,2,FALSE)","v":0},{"$f":"'Budget FCFA'!AG185/VLOOKUP(AG$2,$BO$127:$BP$138,2,FALSE)","v":0},{"$f":"'Budget FCFA'!AH185/VLOOKUP(AH$2,$BO$127:$BP$138,2,FALSE)","v":0},{"$f":"'Budget FCFA'!AI185/VLOOKUP(AI$2,$BO$127:$BP$138,2,FALSE)","v":0},{"$f":"'Budget FCFA'!AJ185/VLOOKUP(AJ$2,$BO$127:$BP$138,2,FALSE)","v":0},{"$f":"'Budget FCFA'!AK185/VLOOKUP(AK$2,$BO$127:$BP$138,2,FALSE)","v":0},{"$f":"'Budget FCFA'!AL185/VLOOKUP(AL$2,$BO$127:$BP$138,2,FALSE)","v":0},{"$f":"'Budget FCFA'!AM185/VLOOKUP(AM$2,$BO$127:$BP$138,2,FALSE)","v":0},{"$f":"'Budget FCFA'!AN185/VLOOKUP(AN$2,$BO$127:$BP$138,2,FALSE)","v":0},{"$f":"'Budget FCFA'!AO185/VLOOKUP(AO$2,$BO$127:$BP$138,2,FALSE)","v":0},{"$f":"'Budget FCFA'!AP185/VLOOKUP(AP$2,$BO$127:$BP$138,2,FALSE)","v":0},{"$f":"'Budget FCFA'!#REF!/VLOOKUP(AQ$2,$BO$127:$BP$138,2,FALSE)","v":{"$error":"#REF!"}},{"$f":"'Budget FCFA'!#REF!/VLOOKUP(AR$2,$BO$127:$BP$138,2,FALSE)","v":{"$error":"#REF!"}},{"$f":"'Budget FCFA'!#REF!/VLOOKUP(AS$2,$BO$127:$BP$138,2,FALSE)","v":{"$error":"#REF!"}},{"$f":"'Budget FCFA'!#REF!/VLOOKUP(AT$2,$BO$127:$BP$138,2,FALSE)","v":{"$error":"#REF!"}},{"$f":"'Budget FCFA'!#REF!/VLOOKUP(AU$2,$BO$127:$BP$138,2,FALSE)","v":{"$error":"#REF!"}},{"$f":"'Budget FCFA'!#REF!/VLOOKUP(AV$2,$BO$127:$BP$138,2,FALSE)","v":{"$error":"#REF!"}},{"$f":"'Budget FCFA'!#REF!/VLOOKUP(AW$2,$BO$127:$BP$138,2,FALSE)","v":{"$error":"#REF!"}},{"$f":"'Budget FCFA'!#REF!/VLOOKUP(AX$2,$BO$127:$BP$138,2,FALSE)","v":{"$error":"#REF!"}},{"$f":"'Budget FCFA'!#REF!/VLOOKUP(AY$2,$BO$127:$BP$138,2,FALSE)","v":{"$error":"#REF!"}},{"$f":"'Budget FCFA'!#REF!/VLOOKUP(AZ$2,$BO$127:$BP$138,2,FALSE)","v":{"$error":"#REF!"}},{"$f":"'Budget FCFA'!#REF!/VLOOKUP(BA$2,$BO$127:$BP$138,2,FALSE)","v":{"$error":"#REF!"}},{"$f":"'Budget FCFA'!#REF!/VLOOKUP(BB$2,$BO$127:$BP$138,2,FALSE)","v":{"$error":"#REF!"}},{"$f":"'Budget FCFA'!#REF!/VLOOKUP(BC$2,$BO$127:$BP$138,2,FALSE)","v":{"$error":"#REF!"}},{"$f":"'Budget FCFA'!#REF!/VLOOKUP(BD$2,$BO$127:$BP$138,2,FALSE)","v":{"$error":"#REF!"}},{"$f":"'Budget FCFA'!#REF!/VLOOKUP(BE$2,$BO$127:$BP$138,2,FALSE)","v":{"$error":"#REF!"}},{"$f":"'Budget FCFA'!#REF!/VLOOKUP(BF$2,$BO$127:$BP$138,2,FALSE)","v":{"$error":"#REF!"}},{"$f":"'Budget FCFA'!#REF!/VLOOKUP(BG$2,$BO$127:$BP$138,2,FALSE)","v":{"$error":"#REF!"}},{"$f":"'Budget FCFA'!#REF!/VLOOKUP(BH$2,$BO$127:$BP$138,2,FALSE)","v":{"$error":"#REF!"}},{"$f":"'Budget FCFA'!#REF!/VLOOKUP(BI$2,$BO$127:$BP$138,2,FALSE)","v":{"$error":"#REF!"}},{"$f":"'Budget FCFA'!#REF!/VLOOKUP(BJ$2,$BO$127:$BP$138,2,FALSE)","v":{"$error":"#REF!"}},{"$error":"#REF!"},{"$f":"BK185-'Budget FCFA'!#REF!","v":{"$error":"#REF!"}}]
["PUBLONCO","DAKAR","Longue conservation",{"$f":"'Budget FCFA'!D186/VLOOKUP(D$2,$BO$127:$BP$138,2,FALSE)","v":0},{"$f":"'Budget FCFA'!E186/VLOOKUP(E$2,$BO$127:$BP$138,2,FALSE)","v":0},{"$f":"'Budget FCFA'!F186/VLOOKUP(F$2,$BO$127:$BP$138,2,FALSE)","v":0},{"$f":"'Budget FCFA'!G186/VLOOKUP(G$2,$BO$127:$BP$138,2,FALSE)","v":0},{"$f":"'Budget FCFA'!H186/VLOOKUP(H$2,$BO$127:$BP$138,2,FALSE)","v":0},{"$f":"'Budget FCFA'!I186/VLOOKUP(I$2,$BO$127:$BP$138,2,FALSE)","v":0},{"$f":"'Budget FCFA'!J186/VLOOKUP(J$2,$BO$127:$BP$138,2,FALSE)","v":0},{"$f":"'Budget FCFA'!K186/VLOOKUP(K$2,$BO$127:$BP$138,2,FALSE)","v":0},{"$f":"'Budget FCFA'!L186/VLOOKUP(L$2,$BO$127:$BP$138,2,FALSE)","v":0},{"$f":"'Budget FCFA'!M186/VLOOKUP(M$2,$BO$127:$BP$138,2,FALSE)","v":0},{"$f":"'Budget FCFA'!N186/VLOOKUP(N$2,$BO$127:$BP$138,2,FALSE)","v":0},{"$f":"'Budget FCFA'!O186/VLOOKUP(O$2,$BO$127:$BP$138,2,FALSE)","v":0},{"$f":"'Budget FCFA'!P186/VLOOKUP(P$2,$BO$127:$BP$138,2,FALSE)","v":0},{"$f":"'Budget FCFA'!Q186/VLOOKUP(Q$2,$BO$127:$BP$138,2,FALSE)","v":0},{"$f":"'Budget FCFA'!R186/VLOOKUP(R$2,$BO$127:$BP$138,2,FALSE)","v":0},{"$f":"'Budget FCFA'!S186/VLOOKUP(S$2,$BO$127:$BP$138,2,FALSE)","v":0},{"$f":"'Budget FCFA'!T186/VLOOKUP(T$2,$BO$127:$BP$138,2,FALSE)","v":0},{"$f":"'Budget FCFA'!U186/VLOOKUP(U$2,$BO$127:$BP$138,2,FALSE)","v":0},{"$f":"'Budget FCFA'!V186/VLOOKUP(V$2,$BO$127:$BP$138,2,FALSE)","v":0},{"$f":"'Budget FCFA'!W186/VLOOKUP(W$2,$BO$127:$BP$138,2,FALSE)","v":0},{"$f":"'Budget FCFA'!X186/VLOOKUP(X$2,$BO$127:$BP$138,2,FALSE)","v":0},{"$f":"'Budget FCFA'!Y186/VLOOKUP(Y$2,$BO$127:$BP$138,2,FALSE)","v":0},{"$f":"'Budget FCFA'!Z186/VLOOKUP(Z$2,$BO$127:$BP$138,2,FALSE)","v":0},{"$f":"'Budget FCFA'!AA186/VLOOKUP(AA$2,$BO$127:$BP$138,2,FALSE)","v":0},{"$f":"'Budget FCFA'!AB186/VLOOKUP(AB$2,$BO$127:$BP$138,2,FALSE)","v":0},{"$f":"'Budget FCFA'!AC186/VLOOKUP(AC$2,$BO$127:$BP$138,2,FALSE)","v":0},{"$f":"'Budget FCFA'!AD186/VLOOKUP(AD$2,$BO$127:$BP$138,2,FALSE)","v":0},{"$f":"'Budget FCFA'!AE186/VLOOKUP(AE$2,$BO$127:$BP$138,2,FALSE)","v":0},{"$f":"'Budget FCFA'!AF186/VLOOKUP(AF$2,$BO$127:$BP$138,2,FALSE)","v":0},{"$f":"'Budget FCFA'!AG186/VLOOKUP(AG$2,$BO$127:$BP$138,2,FALSE)","v":0},{"$f":"'Budget FCFA'!AH186/VLOOKUP(AH$2,$BO$127:$BP$138,2,FALSE)","v":0},{"$f":"'Budget FCFA'!AI186/VLOOKUP(AI$2,$BO$127:$BP$138,2,FALSE)","v":0},{"$f":"'Budget FCFA'!AJ186/VLOOKUP(AJ$2,$BO$127:$BP$138,2,FALSE)","v":0},{"$f":"'Budget FCFA'!AK186/VLOOKUP(AK$2,$BO$127:$BP$138,2,FALSE)","v":0},{"$f":"'Budget FCFA'!AL186/VLOOKUP(AL$2,$BO$127:$BP$138,2,FALSE)","v":0},{"$f":"'Budget FCFA'!AM186/VLOOKUP(AM$2,$BO$127:$BP$138,2,FALSE)","v":0},{"$f":"'Budget FCFA'!AN186/VLOOKUP(AN$2,$BO$127:$BP$138,2,FALSE)","v":0},{"$f":"'Budget FCFA'!AO186/VLOOKUP(AO$2,$BO$127:$BP$138,2,FALSE)","v":0},{"$f":"'Budget FCFA'!AP186/VLOOKUP(AP$2,$BO$127:$BP$138,2,FALSE)","v":0},{"$f":"'Budget FCFA'!#REF!/VLOOKUP(AQ$2,$BO$127:$BP$138,2,FALSE)","v":{"$error":"#REF!"}},{"$f":"'Budget FCFA'!#REF!/VLOOKUP(AR$2,$BO$127:$BP$138,2,FALSE)","v":{"$error":"#REF!"}},{"$f":"'Budget FCFA'!#REF!/VLOOKUP(AS$2,$BO$127:$BP$138,2,FALSE)","v":{"$error":"#REF!"}},{"$f":"'Budget FCFA'!#REF!/VLOOKUP(AT$2,$BO$127:$BP$138,2,FALSE)","v":{"$error":"#REF!"}},{"$f":"'Budget FCFA'!#REF!/VLOOKUP(AU$2,$BO$127:$BP$138,2,FALSE)","v":{"$error":"#REF!"}},{"$f":"'Budget FCFA'!#REF!/VLOOKUP(AV$2,$BO$127:$BP$138,2,FALSE)","v":{"$error":"#REF!"}},{"$f":"'Budget FCFA'!#REF!/VLOOKUP(AW$2,$BO$127:$BP$138,2,FALSE)","v":{"$error":"#REF!"}},{"$f":"'Budget FCFA'!#REF!/VLOOKUP(AX$2,$BO$127:$BP$138,2,FALSE)","v":{"$error":"#REF!"}},{"$f":"'Budget FCFA'!#REF!/VLOOKUP(AY$2,$BO$127:$BP$138,2,FALSE)","v":{"$error":"#REF!"}},{"$f":"'Budget FCFA'!#REF!/VLOOKUP(AZ$2,$BO$127:$BP$138,2,FALSE)","v":{"$error":"#REF!"}},{"$f":"'Budget FCFA'!#REF!/VLOOKUP(BA$2,$BO$127:$BP$138,2,FALSE)","v":{"$error":"#REF!"}},{"$f":"'Budget FCFA'!#REF!/VLOOKUP(BB$2,$BO$127:$BP$138,2,FALSE)","v":{"$error":"#REF!"}},{"$f":"'Budget FCFA'!#REF!/VLOOKUP(BC$2,$BO$127:$BP$138,2,FALSE)","v":{"$error":"#REF!"}},{"$f":"'Budget FCFA'!#REF!/VLOOKUP(BD$2,$BO$127:$BP$138,2,FALSE)","v":{"$error":"#REF!"}},{"$f":"'Budget FCFA'!#REF!/VLOOKUP(BE$2,$BO$127:$BP$138,2,FALSE)","v":{"$error":"#REF!"}},{"$f":"'Budget FCFA'!#REF!/VLOOKUP(BF$2,$BO$127:$BP$138,2,FALSE)","v":{"$error":"#REF!"}},{"$f":"'Budget FCFA'!#REF!/VLOOKUP(BG$2,$BO$127:$BP$138,2,FALSE)","v":{"$error":"#REF!"}},{"$f":"'Budget FCFA'!#REF!/VLOOKUP(BH$2,$BO$127:$BP$138,2,FALSE)","v":{"$error":"#REF!"}},{"$f":"'Budget FCFA'!#REF!/VLOOKUP(BI$2,$BO$127:$BP$138,2,FALSE)","v":{"$error":"#REF!"}},{"$f":"'Budget FCFA'!#REF!/VLOOKUP(BJ$2,$BO$127:$BP$138,2,FALSE)","v":{"$error":"#REF!"}},{"$error":"#REF!"},{"$f":"BK186-'Budget FCFA'!#REF!","v":{"$error":"#REF!"}}]
["PUBLONCO","LIBREVILLE","Longue conservation",{"$f":"'Budget FCFA'!D187/VLOOKUP(D$2,$BO$127:$BP$138,2,FALSE)","v":0},{"$f":"'Budget FCFA'!E187/VLOOKUP(E$2,$BO$127:$BP$138,2,FALSE)","v":0},{"$f":"'Budget FCFA'!F187/VLOOKUP(F$2,$BO$127:$BP$138,2,FALSE)","v":0},{"$f":"'Budget FCFA'!G187/VLOOKUP(G$2,$BO$127:$BP$138,2,FALSE)","v":0},{"$f":"'Budget FCFA'!H187/VLOOKUP(H$2,$BO$127:$BP$138,2,FALSE)","v":0},{"$f":"'Budget FCFA'!I187/VLOOKUP(I$2,$BO$127:$BP$138,2,FALSE)","v":0},{"$f":"'Budget FCFA'!J187/VLOOKUP(J$2,$BO$127:$BP$138,2,FALSE)","v":0},{"$f":"'Budget FCFA'!K187/VLOOKUP(K$2,$BO$127:$BP$138,2,FALSE)","v":0},{"$f":"'Budget FCFA'!L187/VLOOKUP(L$2,$BO$127:$BP$138,2,FALSE)","v":0},{"$f":"'Budget FCFA'!M187/VLOOKUP(M$2,$BO$127:$BP$138,2,FALSE)","v":0},{"$f":"'Budget FCFA'!N187/VLOOKUP(N$2,$BO$127:$BP$138,2,FALSE)","v":0},{"$f":"'Budget FCFA'!O187/VLOOKUP(O$2,$BO$127:$BP$138,2,FALSE)","v":0},{"$f":"'Budget FCFA'!P187/VLOOKUP(P$2,$BO$127:$BP$138,2,FALSE)","v":0},{"$f":"'Budget FCFA'!Q187/VLOOKUP(Q$2,$BO$127:$BP$138,2,FALSE)","v":0},{"$f":"'Budget FCFA'!R187/VLOOKUP(R$2,$BO$127:$BP$138,2,FALSE)","v":0},{"$f":"'Budget FCFA'!S187/VLOOKUP(S$2,$BO$127:$BP$138,2,FALSE)","v":0},{"$f":"'Budget FCFA'!T187/VLOOKUP(T$2,$BO$127:$BP$138,2,FALSE)","v":0},{"$f":"'Budget FCFA'!U187/VLOOKUP(U$2,$BO$127:$BP$138,2,FALSE)","v":0},{"$f":"'Budget FCFA'!V187/VLOOKUP(V$2,$BO$127:$BP$138,2,FALSE)","v":0},{"$f":"'Budget FCFA'!W187/VLOOKUP(W$2,$BO$127:$BP$138,2,FALSE)","v":0},{"$f":"'Budget FCFA'!X187/VLOOKUP(X$2,$BO$127:$BP$138,2,FALSE)","v":0},{"$f":"'Budget FCFA'!Y187/VLOOKUP(Y$2,$BO$127:$BP$138,2,FALSE)","v":0},{"$f":"'Budget FCFA'!Z187/VLOOKUP(Z$2,$BO$127:$BP$138,2,FALSE)","v":0},{"$f":"'Budget FCFA'!AA187/VLOOKUP(AA$2,$BO$127:$BP$138,2,FALSE)","v":0},{"$f":"'Budget FCFA'!AB187/VLOOKUP(AB$2,$BO$127:$BP$138,2,FALSE)","v":0},{"$f":"'Budget FCFA'!AC187/VLOOKUP(AC$2,$BO$127:$BP$138,2,FALSE)","v":0},{"$f":"'Budget FCFA'!AD187/VLOOKUP(AD$2,$BO$127:$BP$138,2,FALSE)","v":0},{"$f":"'Budget FCFA'!AE187/VLOOKUP(AE$2,$BO$127:$BP$138,2,FALSE)","v":0},{"$f":"'Budget FCFA'!AF187/VLOOKUP(AF$2,$BO$127:$BP$138,2,FALSE)","v":0},{"$f":"'Budget FCFA'!AG187/VLOOKUP(AG$2,$BO$127:$BP$138,2,FALSE)","v":0},{"$f":"'Budget FCFA'!AH187/VLOOKUP(AH$2,$BO$127:$BP$138,2,FALSE)","v":0},{"$f":"'Budget FCFA'!AI187/VLOOKUP(AI$2,$BO$127:$BP$138,2,FALSE)","v":0},{"$f":"'Budget FCFA'!AJ187/VLOOKUP(AJ$2,$BO$127:$BP$138,2,FALSE)","v":0},{"$f":"'Budget FCFA'!AK187/VLOOKUP(AK$2,$BO$127:$BP$138,2,FALSE)","v":0},{"$f":"'Budget FCFA'!AL187/VLOOKUP(AL$2,$BO$127:$BP$138,2,FALSE)","v":0},{"$f":"'Budget FCFA'!AM187/VLOOKUP(AM$2,$BO$127:$BP$138,2,FALSE)","v":0},{"$f":"'Budget FCFA'!AN187/VLOOKUP(AN$2,$BO$127:$BP$138,2,FALSE)","v":0},{"$f":"'Budget FCFA'!AO187/VLOOKUP(AO$2,$BO$127:$BP$138,2,FALSE)","v":0},{"$f":"'Budget FCFA'!AP187/VLOOKUP(AP$2,$BO$127:$BP$138,2,FALSE)","v":0},{"$f":"'Budget FCFA'!#REF!/VLOOKUP(AQ$2,$BO$127:$BP$138,2,FALSE)","v":{"$error":"#REF!"}},{"$f":"'Budget FCFA'!#REF!/VLOOKUP(AR$2,$BO$127:$BP$138,2,FALSE)","v":{"$error":"#REF!"}},{"$f":"'Budget FCFA'!#REF!/VLOOKUP(AS$2,$BO$127:$BP$138,2,FALSE)","v":{"$error":"#REF!"}},{"$f":"'Budget FCFA'!#REF!/VLOOKUP(AT$2,$BO$127:$BP$138,2,FALSE)","v":{"$error":"#REF!"}},{"$f":"'Budget FCFA'!#REF!/VLOOKUP(AU$2,$BO$127:$BP$138,2,FALSE)","v":{"$error":"#REF!"}},{"$f":"'Budget FCFA'!#REF!/VLOOKUP(AV$2,$BO$127:$BP$138,2,FALSE)","v":{"$error":"#REF!"}},{"$f":"'Budget FCFA'!#REF!/VLOOKUP(AW$2,$BO$127:$BP$138,2,FALSE)","v":{"$error":"#REF!"}},{"$f":"'Budget FCFA'!#REF!/VLOOKUP(AX$2,$BO$127:$BP$138,2,FALSE)","v":{"$error":"#REF!"}},{"$f":"'Budget FCFA'!#REF!/VLOOKUP(AY$2,$BO$127:$BP$138,2,FALSE)","v":{"$error":"#REF!"}},{"$f":"'Budget FCFA'!#REF!/VLOOKUP(AZ$2,$BO$127:$BP$138,2,FALSE)","v":{"$error":"#REF!"}},{"$f":"'Budget FCFA'!#REF!/VLOOKUP(BA$2,$BO$127:$BP$138,2,FALSE)","v":{"$error":"#REF!"}},{"$f":"'Budget FCFA'!#REF!/VLOOKUP(BB$2,$BO$127:$BP$138,2,FALSE)","v":{"$error":"#REF!"}},{"$f":"'Budget FCFA'!#REF!/VLOOKUP(BC$2,$BO$127:$BP$138,2,FALSE)","v":{"$error":"#REF!"}},{"$f":"'Budget FCFA'!#REF!/VLOOKUP(BD$2,$BO$127:$BP$138,2,FALSE)","v":{"$error":"#REF!"}},{"$f":"'Budget FCFA'!#REF!/VLOOKUP(BE$2,$BO$127:$BP$138,2,FALSE)","v":{"$error":"#REF!"}},{"$f":"'Budget FCFA'!#REF!/VLOOKUP(BF$2,$BO$127:$BP$138,2,FALSE)","v":{"$error":"#REF!"}},{"$f":"'Budget FCFA'!#REF!/VLOOKUP(BG$2,$BO$127:$BP$138,2,FALSE)","v":{"$error":"#REF!"}},{"$f":"'Budget FCFA'!#REF!/VLOOKUP(BH$2,$BO$127:$BP$138,2,FALSE)","v":{"$error":"#REF!"}},{"$f":"'Budget FCFA'!#REF!/VLOOKUP(BI$2,$BO$127:$BP$138,2,FALSE)","v":{"$error":"#REF!"}},{"$f":"'Budget FCFA'!#REF!/VLOOKUP(BJ$2,$BO$127:$BP$138,2,FALSE)","v":{"$error":"#REF!"}},{"$error":"#REF!"},{"$f":"BK187-'Budget FCFA'!#REF!","v":{"$error":"#REF!"}}]
["PUBLONCO","DOUALA","Longue conservation",{"$f":"'Budget FCFA'!D188/VLOOKUP(D$2,$BO$127:$BP$138,2,FALSE)","v":0},{"$f":"'Budget FCFA'!E188/VLOOKUP(E$2,$BO$127:$BP$138,2,FALSE)","v":0},{"$f":"'Budget FCFA'!F188/VLOOKUP(F$2,$BO$127:$BP$138,2,FALSE)","v":0},{"$f":"'Budget FCFA'!G188/VLOOKUP(G$2,$BO$127:$BP$138,2,FALSE)","v":0},{"$f":"'Budget FCFA'!H188/VLOOKUP(H$2,$BO$127:$BP$138,2,FALSE)","v":0},{"$f":"'Budget FCFA'!I188/VLOOKUP(I$2,$BO$127:$BP$138,2,FALSE)","v":0},{"$f":"'Budget FCFA'!J188/VLOOKUP(J$2,$BO$127:$BP$138,2,FALSE)","v":0},{"$f":"'Budget FCFA'!K188/VLOOKUP(K$2,$BO$127:$BP$138,2,FALSE)","v":0},{"$f":"'Budget FCFA'!L188/VLOOKUP(L$2,$BO$127:$BP$138,2,FALSE)","v":0},{"$f":"'Budget FCFA'!M188/VLOOKUP(M$2,$BO$127:$BP$138,2,FALSE)","v":0},{"$f":"'Budget FCFA'!N188/VLOOKUP(N$2,$BO$127:$BP$138,2,FALSE)","v":0},{"$f":"'Budget FCFA'!O188/VLOOKUP(O$2,$BO$127:$BP$138,2,FALSE)","v":0},{"$f":"'Budget FCFA'!P188/VLOOKUP(P$2,$BO$127:$BP$138,2,FALSE)","v":0},{"$f":"'Budget FCFA'!Q188/VLOOKUP(Q$2,$BO$127:$BP$138,2,FALSE)","v":0},{"$f":"'Budget FCFA'!R188/VLOOKUP(R$2,$BO$127:$BP$138,2,FALSE)","v":0},{"$f":"'Budget FCFA'!S188/VLOOKUP(S$2,$BO$127:$BP$138,2,FALSE)","v":0},{"$f":"'Budget FCFA'!T188/VLOOKUP(T$2,$BO$127:$BP$138,2,FALSE)","v":0},{"$f":"'Budget FCFA'!U188/VLOOKUP(U$2,$BO$127:$BP$138,2,FALSE)","v":0},{"$f":"'Budget FCFA'!V188/VLOOKUP(V$2,$BO$127:$BP$138,2,FALSE)","v":0},{"$f":"'Budget FCFA'!W188/VLOOKUP(W$2,$BO$127:$BP$138,2,FALSE)","v":0},{"$f":"'Budget FCFA'!X188/VLOOKUP(X$2,$BO$127:$BP$138,2,FALSE)","v":0},{"$f":"'Budget FCFA'!Y188/VLOOKUP(Y$2,$BO$127:$BP$138,2,FALSE)","v":0},{"$f":"'Budget FCFA'!Z188/VLOOKUP(Z$2,$BO$127:$BP$138,2,FALSE)","v":0},{"$f":"'Budget FCFA'!AA188/VLOOKUP(AA$2,$BO$127:$BP$138,2,FALSE)","v":0},{"$f":"'Budget FCFA'!AB188/VLOOKUP(AB$2,$BO$127:$BP$138,2,FALSE)","v":0},{"$f":"'Budget FCFA'!AC188/VLOOKUP(AC$2,$BO$127:$BP$138,2,FALSE)","v":0},{"$f":"'Budget FCFA'!AD188/VLOOKUP(AD$2,$BO$127:$BP$138,2,FALSE)","v":0},{"$f":"'Budget FCFA'!AE188/VLOOKUP(AE$2,$BO$127:$BP$138,2,FALSE)","v":0},{"$f":"'Budget FCFA'!AF188/VLOOKUP(AF$2,$BO$127:$BP$138,2,FALSE)","v":0},{"$f":"'Budget FCFA'!AG188/VLOOKUP(AG$2,$BO$127:$BP$138,2,FALSE)","v":0},{"$f":"'Budget FCFA'!AH188/VLOOKUP(AH$2,$BO$127:$BP$138,2,FALSE)","v":0},{"$f":"'Budget FCFA'!AI188/VLOOKUP(AI$2,$BO$127:$BP$138,2,FALSE)","v":0},{"$f":"'Budget FCFA'!AJ188/VLOOKUP(AJ$2,$BO$127:$BP$138,2,FALSE)","v":0},{"$f":"'Budget FCFA'!AK188/VLOOKUP(AK$2,$BO$127:$BP$138,2,FALSE)","v":0},{"$f":"'Budget FCFA'!AL188/VLOOKUP(AL$2,$BO$127:$BP$138,2,FALSE)","v":0},{"$f":"'Budget FCFA'!AM188/VLOOKUP(AM$2,$BO$127:$BP$138,2,FALSE)","v":0},{"$f":"'Budget FCFA'!AN188/VLOOKUP(AN$2,$BO$127:$BP$138,2,FALSE)","v":0},{"$f":"'Budget FCFA'!AO188/VLOOKUP(AO$2,$BO$127:$BP$138,2,FALSE)","v":0},{"$f":"'Budget FCFA'!AP188/VLOOKUP(AP$2,$BO$127:$BP$138,2,FALSE)","v":0},{"$f":"'Budget FCFA'!#REF!/VLOOKUP(AQ$2,$BO$127:$BP$138,2,FALSE)","v":{"$error":"#REF!"}},{"$f":"'Budget FCFA'!#REF!/VLOOKUP(AR$2,$BO$127:$BP$138,2,FALSE)","v":{"$error":"#REF!"}},{"$f":"'Budget FCFA'!#REF!/VLOOKUP(AS$2,$BO$127:$BP$138,2,FALSE)","v":{"$error":"#REF!"}},{"$f":"'Budget FCFA'!#REF!/VLOOKUP(AT$2,$BO$127:$BP$138,2,FALSE)","v":{"$error":"#REF!"}},{"$f":"'Budget FCFA'!#REF!/VLOOKUP(AU$2,$BO$127:$BP$138,2,FALSE)","v":{"$error":"#REF!"}},{"$f":"'Budget FCFA'!#REF!/VLOOKUP(AV$2,$BO$127:$BP$138,2,FALSE)","v":{"$error":"#REF!"}},{"$f":"'Budget FCFA'!#REF!/VLOOKUP(AW$2,$BO$127:$BP$138,2,FALSE)","v":{"$error":"#REF!"}},{"$f":"'Budget FCFA'!#REF!/VLOOKUP(AX$2,$BO$127:$BP$138,2,FALSE)","v":{"$error":"#REF!"}},{"$f":"'Budget FCFA'!#REF!/VLOOKUP(AY$2,$BO$127:$BP$138,2,FALSE)","v":{"$error":"#REF!"}},{"$f":"'Budget FCFA'!#REF!/VLOOKUP(AZ$2,$BO$127:$BP$138,2,FALSE)","v":{"$error":"#REF!"}},{"$f":"'Budget FCFA'!#REF!/VLOOKUP(BA$2,$BO$127:$BP$138,2,FALSE)","v":{"$error":"#REF!"}},{"$f":"'Budget FCFA'!#REF!/VLOOKUP(BB$2,$BO$127:$BP$138,2,FALSE)","v":{"$error":"#REF!"}},{"$f":"'Budget FCFA'!#REF!/VLOOKUP(BC$2,$BO$127:$BP$138,2,FALSE)","v":{"$error":"#REF!"}},{"$f":"'Budget FCFA'!#REF!/VLOOKUP(BD$2,$BO$127:$BP$138,2,FALSE)","v":{"$error":"#REF!"}},{"$f":"'Budget FCFA'!#REF!/VLOOKUP(BE$2,$BO$127:$BP$138,2,FALSE)","v":{"$error":"#REF!"}},{"$f":"'Budget FCFA'!#REF!/VLOOKUP(BF$2,$BO$127:$BP$138,2,FALSE)","v":{"$error":"#REF!"}},{"$f":"'Budget FCFA'!#REF!/VLOOKUP(BG$2,$BO$127:$BP$138,2,FALSE)","v":{"$error":"#REF!"}},{"$f":"'Budget FCFA'!#REF!/VLOOKUP(BH$2,$BO$127:$BP$138,2,FALSE)","v":{"$error":"#REF!"}},{"$f":"'Budget FCFA'!#REF!/VLOOKUP(BI$2,$BO$127:$BP$138,2,FALSE)","v":{"$error":"#REF!"}},{"$f":"'Budget FCFA'!#REF!/VLOOKUP(BJ$2,$BO$127:$BP$138,2,FALSE)","v":{"$error":"#REF!"}},{"$error":"#REF!"},{"$f":"BK188-'Budget FCFA'!#REF!","v":{"$error":"#REF!"}}]
["PUBLONCO","TOTAL","Longue conservation",{"$f":"'Budget FCFA'!D189/VLOOKUP(D$2,$BO$127:$BP$138,2,FALSE)","v":0},{"$f":"'Budget FCFA'!E189/VLOOKUP(E$2,$BO$127:$BP$138,2,FALSE)","v":0},{"$f":"'Budget FCFA'!F189/VLOOKUP(F$2,$BO$127:$BP$138,2,FALSE)","v":0},{"$f":"'Budget FCFA'!G189/VLOOKUP(G$2,$BO$127:$BP$138,2,FALSE)","v":0},{"$f":"'Budget FCFA'!H189/VLOOKUP(H$2,$BO$127:$BP$138,2,FALSE)","v":0},{"$f":"'Budget FCFA'!I189/VLOOKUP(I$2,$BO$127:$BP$138,2,FALSE)","v":0},{"$f":"'Budget FCFA'!J189/VLOOKUP(J$2,$BO$127:$BP$138,2,FALSE)","v":0},{"$f":"'Budget FCFA'!K189/VLOOKUP(K$2,$BO$127:$BP$138,2,FALSE)","v":0},{"$f":"'Budget FCFA'!L189/VLOOKUP(L$2,$BO$127:$BP$138,2,FALSE)","v":0},{"$f":"'Budget FCFA'!M189/VLOOKUP(M$2,$BO$127:$BP$138,2,FALSE)","v":0},{"$f":"'Budget FCFA'!N189/VLOOKUP(N$2,$BO$127:$BP$138,2,FALSE)","v":0},{"$f":"'Budget FCFA'!O189/VLOOKUP(O$2,$BO$127:$BP$138,2,FALSE)","v":0},{"$f":"'Budget FCFA'!P189/VLOOKUP(P$2,$BO$127:$BP$138,2,FALSE)","v":0},{"$f":"'Budget FCFA'!Q189/VLOOKUP(Q$2,$BO$127:$BP$138,2,FALSE)","v":0},{"$f":"'Budget FCFA'!R189/VLOOKUP(R$2,$BO$127:$BP$138,2,FALSE)","v":0},{"$f":"'Budget FCFA'!S189/VLOOKUP(S$2,$BO$127:$BP$138,2,FALSE)","v":0},{"$f":"'Budget FCFA'!T189/VLOOKUP(T$2,$BO$127:$BP$138,2,FALSE)","v":0},{"$f":"'Budget FCFA'!U189/VLOOKUP(U$2,$BO$127:$BP$138,2,FALSE)","v":0},{"$f":"'Budget FCFA'!V189/VLOOKUP(V$2,$BO$127:$BP$138,2,FALSE)","v":0},{"$f":"'Budget FCFA'!W189/VLOOKUP(W$2,$BO$127:$BP$138,2,FALSE)","v":0},{"$f":"'Budget FCFA'!X189/VLOOKUP(X$2,$BO$127:$BP$138,2,FALSE)","v":0},{"$f":"'Budget FCFA'!Y189/VLOOKUP(Y$2,$BO$127:$BP$138,2,FALSE)","v":0},{"$f":"'Budget FCFA'!Z189/VLOOKUP(Z$2,$BO$127:$BP$138,2,FALSE)","v":0},{"$f":"'Budget FCFA'!AA189/VLOOKUP(AA$2,$BO$127:$BP$138,2,FALSE)","v":0},{"$f":"'Budget FCFA'!AB189/VLOOKUP(AB$2,$BO$127:$BP$138,2,FALSE)","v":0},{"$f":"'Budget FCFA'!AC189/VLOOKUP(AC$2,$BO$127:$BP$138,2,FALSE)","v":0},{"$f":"'Budget FCFA'!AD189/VLOOKUP(AD$2,$BO$127:$BP$138,2,FALSE)","v":0},{"$f":"'Budget FCFA'!AE189/VLOOKUP(AE$2,$BO$127:$BP$138,2,FALSE)","v":0},{"$f":"'Budget FCFA'!AF189/VLOOKUP(AF$2,$BO$127:$BP$138,2,FALSE)","v":0},{"$f":"'Budget FCFA'!AG189/VLOOKUP(AG$2,$BO$127:$BP$138,2,FALSE)","v":0},{"$f":"'Budget FCFA'!AH189/VLOOKUP(AH$2,$BO$127:$BP$138,2,FALSE)","v":0},{"$f":"'Budget FCFA'!AI189/VLOOKUP(AI$2,$BO$127:$BP$138,2,FALSE)","v":0},{"$f":"'Budget FCFA'!AJ189/VLOOKUP(AJ$2,$BO$127:$BP$138,2,FALSE)","v":0},{"$f":"'Budget FCFA'!AK189/VLOOKUP(AK$2,$BO$127:$BP$138,2,FALSE)","v":0},{"$f":"'Budget FCFA'!AL189/VLOOKUP(AL$2,$BO$127:$BP$138,2,FALSE)","v":0},{"$f":"'Budget FCFA'!AM189/VLOOKUP(AM$2,$BO$127:$BP$138,2,FALSE)","v":0},{"$f":"'Budget FCFA'!AN189/VLOOKUP(AN$2,$BO$127:$BP$138,2,FALSE)","v":0},{"$f":"'Budget FCFA'!AO189/VLOOKUP(AO$2,$BO$127:$BP$138,2,FALSE)","v":0},{"$f":"'Budget FCFA'!AP189/VLOOKUP(AP$2,$BO$127:$BP$138,2,FALSE)","v":0},{"$f":"'Budget FCFA'!#REF!/VLOOKUP(AQ$2,$BO$127:$BP$138,2,FALSE)","v":{"$error":"#REF!"}},{"$f":"'Budget FCFA'!#REF!/VLOOKUP(AR$2,$BO$127:$BP$138,2,FALSE)","v":{"$error":"#REF!"}},{"$f":"'Budget FCFA'!#REF!/VLOOKUP(AS$2,$BO$127:$BP$138,2,FALSE)","v":{"$error":"#REF!"}},{"$f":"'Budget FCFA'!#REF!/VLOOKUP(AT$2,$BO$127:$BP$138,2,FALSE)","v":{"$error":"#REF!"}},{"$f":"'Budget FCFA'!#REF!/VLOOKUP(AU$2,$BO$127:$BP$138,2,FALSE)","v":{"$error":"#REF!"}},{"$f":"'Budget FCFA'!#REF!/VLOOKUP(AV$2,$BO$127:$BP$138,2,FALSE)","v":{"$error":"#REF!"}},{"$f":"'Budget FCFA'!#REF!/VLOOKUP(AW$2,$BO$127:$BP$138,2,FALSE)","v":{"$error":"#REF!"}},{"$f":"'Budget FCFA'!#REF!/VLOOKUP(AX$2,$BO$127:$BP$138,2,FALSE)","v":{"$error":"#REF!"}},{"$f":"'Budget FCFA'!#REF!/VLOOKUP(AY$2,$BO$127:$BP$138,2,FALSE)","v":{"$error":"#REF!"}},{"$f":"'Budget FCFA'!#REF!/VLOOKUP(AZ$2,$BO$127:$BP$138,2,FALSE)","v":{"$error":"#REF!"}},{"$f":"'Budget FCFA'!#REF!/VLOOKUP(BA$2,$BO$127:$BP$138,2,FALSE)","v":{"$error":"#REF!"}},{"$f":"'Budget FCFA'!#REF!/VLOOKUP(BB$2,$BO$127:$BP$138,2,FALSE)","v":{"$error":"#REF!"}},{"$f":"'Budget FCFA'!#REF!/VLOOKUP(BC$2,$BO$127:$BP$138,2,FALSE)","v":{"$error":"#REF!"}},{"$f":"'Budget FCFA'!#REF!/VLOOKUP(BD$2,$BO$127:$BP$138,2,FALSE)","v":{"$error":"#REF!"}},{"$f":"'Budget FCFA'!#REF!/VLOOKUP(BE$2,$BO$127:$BP$138,2,FALSE)","v":{"$error":"#REF!"}},{"$f":"'Budget FCFA'!#REF!/VLOOKUP(BF$2,$BO$127:$BP$138,2,FALSE)","v":{"$error":"#REF!"}},{"$f":"'Budget FCFA'!#REF!/VLOOKUP(BG$2,$BO$127:$BP$138,2,FALSE)","v":{"$error":"#REF!"}},{"$f":"'Budget FCFA'!#REF!/VLOOKUP(BH$2,$BO$127:$BP$138,2,FALSE)","v":{"$error":"#REF!"}},{"$f":"'Budget FCFA'!#REF!/VLOOKUP(BI$2,$BO$127:$BP$138,2,FALSE)","v":{"$error":"#REF!"}},{"$f":"'Budget FCFA'!#REF!/VLOOKUP(BJ$2,$BO$127:$BP$138,2,FALSE)","v":{"$error":"#REF!"}},{"$error":"#REF!"},{"$f":"BK189-'Budget FCFA'!#REF!","v":{"$error":"#REF!"}}]
["PUBETUDE","ABIDJAN","Etudes",{"$f":"'Budget FCFA'!D190/VLOOKUP(D$2,$BO$127:$BP$138,2,FALSE)","v":0},{"$f":"'Budget FCFA'!E190/VLOOKUP(E$2,$BO$127:$BP$138,2,FALSE)","v":0},{"$f":"'Budget FCFA'!F190/VLOOKUP(F$2,$BO$127:$BP$138,2,FALSE)","v":0},{"$f":"'Budget FCFA'!G190/VLOOKUP(G$2,$BO$127:$BP$138,2,FALSE)","v":0},{"$f":"'Budget FCFA'!H190/VLOOKUP(H$2,$BO$127:$BP$138,2,FALSE)","v":20},{"$f":"'Budget FCFA'!I190/VLOOKUP(I$2,$BO$127:$BP$138,2,FALSE)","v":0},{"$f":"'Budget FCFA'!J190/VLOOKUP(J$2,$BO$127:$BP$138,2,FALSE)","v":0},{"$f":"'Budget FCFA'!K190/VLOOKUP(K$2,$BO$127:$BP$138,2,FALSE)","v":0},{"$f":"'Budget FCFA'!L190/VLOOKUP(L$2,$BO$127:$BP$138,2,FALSE)","v":0},{"$f":"'Budget FCFA'!M190/VLOOKUP(M$2,$BO$127:$BP$138,2,FALSE)","v":20},{"$f":"'Budget FCFA'!N190/VLOOKUP(N$2,$BO$127:$BP$138,2,FALSE)","v":0},{"$f":"'Budget FCFA'!O190/VLOOKUP(O$2,$BO$127:$BP$138,2,FALSE)","v":0},{"$f":"'Budget FCFA'!P190/VLOOKUP(P$2,$BO$127:$BP$138,2,FALSE)","v":0},{"$f":"'Budget FCFA'!Q190/VLOOKUP(Q$2,$BO$127:$BP$138,2,FALSE)","v":0},{"$f":"'Budget FCFA'!R190/VLOOKUP(R$2,$BO$127:$BP$138,2,FALSE)","v":20},{"$f":"'Budget FCFA'!S190/VLOOKUP(S$2,$BO$127:$BP$138,2,FALSE)","v":0},{"$f":"'Budget FCFA'!T190/VLOOKUP(T$2,$BO$127:$BP$138,2,FALSE)","v":0},{"$f":"'Budget FCFA'!U190/VLOOKUP(U$2,$BO$127:$BP$138,2,FALSE)","v":0},{"$f":"'Budget FCFA'!V190/VLOOKUP(V$2,$BO$127:$BP$138,2,FALSE)","v":0},{"$f":"'Budget FCFA'!W190/VLOOKUP(W$2,$BO$127:$BP$138,2,FALSE)","v":40},{"$f":"'Budget FCFA'!X190/VLOOKUP(X$2,$BO$127:$BP$138,2,FALSE)","v":0},{"$f":"'Budget FCFA'!Y190/VLOOKUP(Y$2,$BO$127:$BP$138,2,FALSE)","v":0},{"$f":"'Budget FCFA'!Z190/VLOOKUP(Z$2,$BO$127:$BP$138,2,FALSE)","v":0},{"$f":"'Budget FCFA'!AA190/VLOOKUP(AA$2,$BO$127:$BP$138,2,FALSE)","v":40},{"$f":"'Budget FCFA'!AB190/VLOOKUP(AB$2,$BO$127:$BP$138,2,FALSE)","v":0},{"$f":"'Budget FCFA'!AC190/VLOOKUP(AC$2,$BO$127:$BP$138,2,FALSE)","v":0},{"$f":"'Budget FCFA'!AD190/VLOOKUP(AD$2,$BO$127:$BP$138,2,FALSE)","v":0},{"$f":"'Budget FCFA'!AE190/VLOOKUP(AE$2,$BO$127:$BP$138,2,FALSE)","v":0},{"$f":"'Budget FCFA'!AF190/VLOOKUP(AF$2,$BO$127:$BP$138,2,FALSE)","v":369.43679723330445},{"$f":"'Budget FCFA'!AG190/VLOOKUP(AG$2,$BO$127:$BP$138,2,FALSE)","v":0},{"$f":"'Budget FCFA'!AH190/VLOOKUP(AH$2,$BO$127:$BP$138,2,FALSE)","v":0},{"$f":"'Budget FCFA'!AI190/VLOOKUP(AI$2,$BO$127:$BP$138,2,FALSE)","v":0},{"$f":"'Budget FCFA'!AJ190/VLOOKUP(AJ$2,$BO$127:$BP$138,2,FALSE)","v":0},{"$f":"'Budget FCFA'!AK190/VLOOKUP(AK$2,$BO$127:$BP$138,2,FALSE)","v":325.95999999999998},{"$f":"'Budget FCFA'!AL190/VLOOKUP(AL$2,$BO$127:$BP$138,2,FALSE)","v":0},{"$f":"'Budget FCFA'!AM190/VLOOKUP(AM$2,$BO$127:$BP$138,2,FALSE)","v":0},{"$f":"'Budget FCFA'!AN190/VLOOKUP(AN$2,$BO$127:$BP$138,2,FALSE)","v":0},{"$f":"'Budget FCFA'!AO190/VLOOKUP(AO$2,$BO$127:$BP$138,2,FALSE)","v":0},{"$f":"'Budget FCFA'!AP190/VLOOKUP(AP$2,$BO$127:$BP$138,2,FALSE)","v":40},{"$f":"'Budget FCFA'!#REF!/VLOOKUP(AQ$2,$BO$127:$BP$138,2,FALSE)","v":{"$error":"#REF!"}},{"$f":"'Budget FCFA'!#REF!/VLOOKUP(AR$2,$BO$127:$BP$138,2,FALSE)","v":{"$error":"#REF!"}},{"$f":"'Budget FCFA'!#REF!/VLOOKUP(AS$2,$BO$127:$BP$138,2,FALSE)","v":{"$error":"#REF!"}},{"$f":"'Budget FCFA'!#REF!/VLOOKUP(AT$2,$BO$127:$BP$138,2,FALSE)","v":{"$error":"#REF!"}},{"$f":"'Budget FCFA'!#REF!/VLOOKUP(AU$2,$BO$127:$BP$138,2,FALSE)","v":{"$error":"#REF!"}},{"$f":"'Budget FCFA'!#REF!/VLOOKUP(AV$2,$BO$127:$BP$138,2,FALSE)","v":{"$error":"#REF!"}},{"$f":"'Budget FCFA'!#REF!/VLOOKUP(AW$2,$BO$127:$BP$138,2,FALSE)","v":{"$error":"#REF!"}},{"$f":"'Budget FCFA'!#REF!/VLOOKUP(AX$2,$BO$127:$BP$138,2,FALSE)","v":{"$error":"#REF!"}},{"$f":"'Budget FCFA'!#REF!/VLOOKUP(AY$2,$BO$127:$BP$138,2,FALSE)","v":{"$error":"#REF!"}},{"$f":"'Budget FCFA'!#REF!/VLOOKUP(AZ$2,$BO$127:$BP$138,2,FALSE)","v":{"$error":"#REF!"}},{"$f":"'Budget FCFA'!#REF!/VLOOKUP(BA$2,$BO$127:$BP$138,2,FALSE)","v":{"$error":"#REF!"}},{"$f":"'Budget FCFA'!#REF!/VLOOKUP(BB$2,$BO$127:$BP$138,2,FALSE)","v":{"$error":"#REF!"}},{"$f":"'Budget FCFA'!#REF!/VLOOKUP(BC$2,$BO$127:$BP$138,2,FALSE)","v":{"$error":"#REF!"}},{"$f":"'Budget FCFA'!#REF!/VLOOKUP(BD$2,$BO$127:$BP$138,2,FALSE)","v":{"$error":"#REF!"}},{"$f":"'Budget FCFA'!#REF!/VLOOKUP(BE$2,$BO$127:$BP$138,2,FALSE)","v":{"$error":"#REF!"}},{"$f":"'Budget FCFA'!#REF!/VLOOKUP(BF$2,$BO$127:$BP$138,2,FALSE)","v":{"$error":"#REF!"}},{"$f":"'Budget FCFA'!#REF!/VLOOKUP(BG$2,$BO$127:$BP$138,2,FALSE)","v":{"$error":"#REF!"}},{"$f":"'Budget FCFA'!#REF!/VLOOKUP(BH$2,$BO$127:$BP$138,2,FALSE)","v":{"$error":"#REF!"}},{"$f":"'Budget FCFA'!#REF!/VLOOKUP(BI$2,$BO$127:$BP$138,2,FALSE)","v":{"$error":"#REF!"}},{"$f":"'Budget FCFA'!#REF!/VLOOKUP(BJ$2,$BO$127:$BP$138,2,FALSE)","v":{"$error":"#REF!"}},{"$error":"#REF!"},{"$f":"BK190-'Budget FCFA'!#REF!","v":{"$error":"#REF!"}}]
["PUBETUDE","BRAZZA","Etudes",{"$f":"'Budget FCFA'!D191/VLOOKUP(D$2,$BO$127:$BP$138,2,FALSE)","v":0},{"$f":"'Budget FCFA'!E191/VLOOKUP(E$2,$BO$127:$BP$138,2,FALSE)","v":0},{"$f":"'Budget FCFA'!F191/VLOOKUP(F$2,$BO$127:$BP$138,2,FALSE)","v":0},{"$f":"'Budget FCFA'!G191/VLOOKUP(G$2,$BO$127:$BP$138,2,FALSE)","v":0},{"$f":"'Budget FCFA'!H191/VLOOKUP(H$2,$BO$127:$BP$138,2,FALSE)","v":20},{"$f":"'Budget FCFA'!I191/VLOOKUP(I$2,$BO$127:$BP$138,2,FALSE)","v":0},{"$f":"'Budget FCFA'!J191/VLOOKUP(J$2,$BO$127:$BP$138,2,FALSE)","v":0},{"$f":"'Budget FCFA'!K191/VLOOKUP(K$2,$BO$127:$BP$138,2,FALSE)","v":0},{"$f":"'Budget FCFA'!L191/VLOOKUP(L$2,$BO$127:$BP$138,2,FALSE)","v":0},{"$f":"'Budget FCFA'!M191/VLOOKUP(M$2,$BO$127:$BP$138,2,FALSE)","v":20},{"$f":"'Budget FCFA'!N191/VLOOKUP(N$2,$BO$127:$BP$138,2,FALSE)","v":0},{"$f":"'Budget FCFA'!O191/VLOOKUP(O$2,$BO$127:$BP$138,2,FALSE)","v":0},{"$f":"'Budget FCFA'!P191/VLOOKUP(P$2,$BO$127:$BP$138,2,FALSE)","v":0},{"$f":"'Budget FCFA'!Q191/VLOOKUP(Q$2,$BO$127:$BP$138,2,FALSE)","v":0},{"$f":"'Budget FCFA'!R191/VLOOKUP(R$2,$BO$127:$BP$138,2,FALSE)","v":20},{"$f":"'Budget FCFA'!S191/VLOOKUP(S$2,$BO$127:$BP$138,2,FALSE)","v":0},{"$f":"'Budget FCFA'!T191/VLOOKUP(T$2,$BO$127:$BP$138,2,FALSE)","v":0},{"$f":"'Budget FCFA'!U191/VLOOKUP(U$2,$BO$127:$BP$138,2,FALSE)","v":0},{"$f":"'Budget FCFA'!V191/VLOOKUP(V$2,$BO$127:$BP$138,2,FALSE)","v":0},{"$f":"'Budget FCFA'!W191/VLOOKUP(W$2,$BO$127:$BP$138,2,FALSE)","v":20},{"$f":"'Budget FCFA'!X191/VLOOKUP(X$2,$BO$127:$BP$138,2,FALSE)","v":0},{"$f":"'Budget FCFA'!Y191/VLOOKUP(Y$2,$BO$127:$BP$138,2,FALSE)","v":0},{"$f":"'Budget FCFA'!Z191/VLOOKUP(Z$2,$BO$127:$BP$138,2,FALSE)","v":0},{"$f":"'Budget FCFA'!AA191/VLOOKUP(AA$2,$BO$127:$BP$138,2,FALSE)","v":20},{"$f":"'Budget FCFA'!AB191/VLOOKUP(AB$2,$BO$127:$BP$138,2,FALSE)","v":0},{"$f":"'Budget FCFA'!AC191/VLOOKUP(AC$2,$BO$127:$BP$138,2,FALSE)","v":0},{"$f":"'Budget FCFA'!AD191/VLOOKUP(AD$2,$BO$127:$BP$138,2,FALSE)","v":0},{"$f":"'Budget FCFA'!AE191/VLOOKUP(AE$2,$BO$127:$BP$138,2,FALSE)","v":0},{"$f":"'Budget FCFA'!AF191/VLOOKUP(AF$2,$BO$127:$BP$138,2,FALSE)","v":184.71839861665222},{"$f":"'Budget FCFA'!AG191/VLOOKUP(AG$2,$BO$127:$BP$138,2,FALSE)","v":0},{"$f":"'Budget FCFA'!AH191/VLOOKUP(AH$2,$BO$127:$BP$138,2,FALSE)","v":0},{"$f":"'Budget FCFA'!AI191/VLOOKUP(AI$2,$BO$127:$BP$138,2,FALSE)","v":0},{"$f":"'Budget FCFA'!AJ191/VLOOKUP(AJ$2,$BO$127:$BP$138,2,FALSE)","v":0},{"$f":"'Budget FCFA'!AK191/VLOOKUP(AK$2,$BO$127:$BP$138,2,FALSE)","v":363.11},{"$f":"'Budget FCFA'!AL191/VLOOKUP(AL$2,$BO$127:$BP$138,2,FALSE)","v":0},{"$f":"'Budget FCFA'!AM191/VLOOKUP(AM$2,$BO$127:$BP$138,2,FALSE)","v":0},{"$f":"'Budget FCFA'!AN191/VLOOKUP(AN$2,$BO$127:$BP$138,2,FALSE)","v":0},{"$f":"'Budget FCFA'!AO191/VLOOKUP(AO$2,$BO$127:$BP$138,2,FALSE)","v":0},{"$f":"'Budget FCFA'!AP191/VLOOKUP(AP$2,$BO$127:$BP$138,2,FALSE)","v":20},{"$f":"'Budget FCFA'!#REF!/VLOOKUP(AQ$2,$BO$127:$BP$138,2,FALSE)","v":{"$error":"#REF!"}},{"$f":"'Budget FCFA'!#REF!/VLOOKUP(AR$2,$BO$127:$BP$138,2,FALSE)","v":{"$error":"#REF!"}},{"$f":"'Budget FCFA'!#REF!/VLOOKUP(AS$2,$BO$127:$BP$138,2,FALSE)","v":{"$error":"#REF!"}},{"$f":"'Budget FCFA'!#REF!/VLOOKUP(AT$2,$BO$127:$BP$138,2,FALSE)","v":{"$error":"#REF!"}},{"$f":"'Budget FCFA'!#REF!/VLOOKUP(AU$2,$BO$127:$BP$138,2,FALSE)","v":{"$error":"#REF!"}},{"$f":"'Budget FCFA'!#REF!/VLOOKUP(AV$2,$BO$127:$BP$138,2,FALSE)","v":{"$error":"#REF!"}},{"$f":"'Budget FCFA'!#REF!/VLOOKUP(AW$2,$BO$127:$BP$138,2,FALSE)","v":{"$error":"#REF!"}},{"$f":"'Budget FCFA'!#REF!/VLOOKUP(AX$2,$BO$127:$BP$138,2,FALSE)","v":{"$error":"#REF!"}},{"$f":"'Budget FCFA'!#REF!/VLOOKUP(AY$2,$BO$127:$BP$138,2,FALSE)","v":{"$error":"#REF!"}},{"$f":"'Budget FCFA'!#REF!/VLOOKUP(AZ$2,$BO$127:$BP$138,2,FALSE)","v":{"$error":"#REF!"}},{"$f":"'Budget FCFA'!#REF!/VLOOKUP(BA$2,$BO$127:$BP$138,2,FALSE)","v":{"$error":"#REF!"}},{"$f":"'Budget FCFA'!#REF!/VLOOKUP(BB$2,$BO$127:$BP$138,2,FALSE)","v":{"$error":"#REF!"}},{"$f":"'Budget FCFA'!#REF!/VLOOKUP(BC$2,$BO$127:$BP$138,2,FALSE)","v":{"$error":"#REF!"}},{"$f":"'Budget FCFA'!#REF!/VLOOKUP(BD$2,$BO$127:$BP$138,2,FALSE)","v":{"$error":"#REF!"}},{"$f":"'Budget FCFA'!#REF!/VLOOKUP(BE$2,$BO$127:$BP$138,2,FALSE)","v":{"$error":"#REF!"}},{"$f":"'Budget FCFA'!#REF!/VLOOKUP(BF$2,$BO$127:$BP$138,2,FALSE)","v":{"$error":"#REF!"}},{"$f":"'Budget FCFA'!#REF!/VLOOKUP(BG$2,$BO$127:$BP$138,2,FALSE)","v":{"$error":"#REF!"}},{"$f":"'Budget FCFA'!#REF!/VLOOKUP(BH$2,$BO$127:$BP$138,2,FALSE)","v":{"$error":"#REF!"}},{"$f":"'Budget FCFA'!#REF!/VLOOKUP(BI$2,$BO$127:$BP$138,2,FALSE)","v":{"$error":"#REF!"}},{"$f":"'Budget FCFA'!#REF!/VLOOKUP(BJ$2,$BO$127:$BP$138,2,FALSE)","v":{"$error":"#REF!"}},{"$error":"#REF!"},{"$f":"BK191-'Budget FCFA'!#REF!","v":{"$error":"#REF!"}}]
["PUBETUDE","DAKAR","Etudes",{"$f":"'Budget FCFA'!D192/VLOOKUP(D$2,$BO$127:$BP$138,2,FALSE)","v":0},{"$f":"'Budget FCFA'!E192/VLOOKUP(E$2,$BO$127:$BP$138,2,FALSE)","v":0},{"$f":"'Budget FCFA'!F192/VLOOKUP(F$2,$BO$127:$BP$138,2,FALSE)","v":0},{"$f":"'Budget FCFA'!G192/VLOOKUP(G$2,$BO$127:$BP$138,2,FALSE)","v":0},{"$f":"'Budget FCFA'!H192/VLOOKUP(H$2,$BO$127:$BP$138,2,FALSE)","v":20},{"$f":"'Budget FCFA'!I192/VLOOKUP(I$2,$BO$127:$BP$138,2,FALSE)","v":0},{"$f":"'Budget FCFA'!J192/VLOOKUP(J$2,$BO$127:$BP$138,2,FALSE)","v":0},{"$f":"'Budget FCFA'!K192/VLOOKUP(K$2,$BO$127:$BP$138,2,FALSE)","v":0},{"$f":"'Budget FCFA'!L192/VLOOKUP(L$2,$BO$127:$BP$138,2,FALSE)","v":0},{"$f":"'Budget FCFA'!M192/VLOOKUP(M$2,$BO$127:$BP$138,2,FALSE)","v":20},{"$f":"'Budget FCFA'!N192/VLOOKUP(N$2,$BO$127:$BP$138,2,FALSE)","v":0},{"$f":"'Budget FCFA'!O192/VLOOKUP(O$2,$BO$127:$BP$138,2,FALSE)","v":0},{"$f":"'Budget FCFA'!P192/VLOOKUP(P$2,$BO$127:$BP$138,2,FALSE)","v":0},{"$f":"'Budget FCFA'!Q192/VLOOKUP(Q$2,$BO$127:$BP$138,2,FALSE)","v":0},{"$f":"'Budget FCFA'!R192/VLOOKUP(R$2,$BO$127:$BP$138,2,FALSE)","v":20},{"$f":"'Budget FCFA'!S192/VLOOKUP(S$2,$BO$127:$BP$138,2,FALSE)","v":0},{"$f":"'Budget FCFA'!T192/VLOOKUP(T$2,$BO$127:$BP$138,2,FALSE)","v":0},{"$f":"'Budget FCFA'!U192/VLOOKUP(U$2,$BO$127:$BP$138,2,FALSE)","v":0},{"$f":"'Budget FCFA'!V192/VLOOKUP(V$2,$BO$127:$BP$138,2,FALSE)","v":0},{"$f":"'Budget FCFA'!W192/VLOOKUP(W$2,$BO$127:$BP$138,2,FALSE)","v":20},{"$f":"'Budget FCFA'!X192/VLOOKUP(X$2,$BO$127:$BP$138,2,FALSE)","v":0},{"$f":"'Budget FCFA'!Y192/VLOOKUP(Y$2,$BO$127:$BP$138,2,FALSE)","v":0},{"$f":"'Budget FCFA'!Z192/VLOOKUP(Z$2,$BO$127:$BP$138,2,FALSE)","v":0},{"$f":"'Budget FCFA'!AA192/VLOOKUP(AA$2,$BO$127:$BP$138,2,FALSE)","v":20},{"$f":"'Budget FCFA'!AB192/VLOOKUP(AB$2,$BO$127:$BP$138,2,FALSE)","v":0},{"$f":"'Budget FCFA'!AC192/VLOOKUP(AC$2,$BO$127:$BP$138,2,FALSE)","v":0},{"$f":"'Budget FCFA'!AD192/VLOOKUP(AD$2,$BO$127:$BP$138,2,FALSE)","v":0},{"$f":"'Budget FCFA'!AE192/VLOOKUP(AE$2,$BO$127:$BP$138,2,FALSE)","v":0},{"$f":"'Budget FCFA'!AF192/VLOOKUP(AF$2,$BO$127:$BP$138,2,FALSE)","v":184.71839861665222},{"$f":"'Budget FCFA'!AG192/VLOOKUP(AG$2,$BO$127:$BP$138,2,FALSE)","v":0},{"$f":"'Budget FCFA'!AH192/VLOOKUP(AH$2,$BO$127:$BP$138,2,FALSE)","v":0},{"$f":"'Budget FCFA'!AI192/VLOOKUP(AI$2,$BO$127:$BP$138,2,FALSE)","v":0},{"$f":"'Budget FCFA'!AJ192/VLOOKUP(AJ$2,$BO$127:$BP$138,2,FALSE)","v":0},{"$f":"'Budget FCFA'!AK192/VLOOKUP(AK$2,$BO$127:$BP$138,2,FALSE)","v":300.5},{"$f":"'Budget FCFA'!AL192/VLOOKUP(AL$2,$BO$127:$BP$138,2,FALSE)","v":0},{"$f":"'Budget FCFA'!AM192/VLOOKUP(AM$2,$BO$127:$BP$138,2,FALSE)","v":0},{"$f":"'Budget FCFA'!AN192/VLOOKUP(AN$2,$BO$127:$BP$138,2,FALSE)","v":0},{"$f":"'Budget FCFA'!AO192/VLOOKUP(AO$2,$BO$127:$BP$138,2,FALSE)","v":0},{"$f":"'Budget FCFA'!AP192/VLOOKUP(AP$2,$BO$127:$BP$138,2,FALSE)","v":20},{"$f":"'Budget FCFA'!#REF!/VLOOKUP(AQ$2,$BO$127:$BP$138,2,FALSE)","v":{"$error":"#REF!"}},{"$f":"'Budget FCFA'!#REF!/VLOOKUP(AR$2,$BO$127:$BP$138,2,FALSE)","v":{"$error":"#REF!"}},{"$f":"'Budget FCFA'!#REF!/VLOOKUP(AS$2,$BO$127:$BP$138,2,FALSE)","v":{"$error":"#REF!"}},{"$f":"'Budget FCFA'!#REF!/VLOOKUP(AT$2,$BO$127:$BP$138,2,FALSE)","v":{"$error":"#REF!"}},{"$f":"'Budget FCFA'!#REF!/VLOOKUP(AU$2,$BO$127:$BP$138,2,FALSE)","v":{"$error":"#REF!"}},{"$f":"'Budget FCFA'!#REF!/VLOOKUP(AV$2,$BO$127:$BP$138,2,FALSE)","v":{"$error":"#REF!"}},{"$f":"'Budget FCFA'!#REF!/VLOOKUP(AW$2,$BO$127:$BP$138,2,FALSE)","v":{"$error":"#REF!"}},{"$f":"'Budget FCFA'!#REF!/VLOOKUP(AX$2,$BO$127:$BP$138,2,FALSE)","v":{"$error":"#REF!"}},{"$f":"'Budget FCFA'!#REF!/VLOOKUP(AY$2,$BO$127:$BP$138,2,FALSE)","v":{"$error":"#REF!"}},{"$f":"'Budget FCFA'!#REF!/VLOOKUP(AZ$2,$BO$127:$BP$138,2,FALSE)","v":{"$error":"#REF!"}},{"$f":"'Budget FCFA'!#REF!/VLOOKUP(BA$2,$BO$127:$BP$138,2,FALSE)","v":{"$error":"#REF!"}},{"$f":"'Budget FCFA'!#REF!/VLOOKUP(BB$2,$BO$127:$BP$138,2,FALSE)","v":{"$error":"#REF!"}},{"$f":"'Budget FCFA'!#REF!/VLOOKUP(BC$2,$BO$127:$BP$138,2,FALSE)","v":{"$error":"#REF!"}},{"$f":"'Budget FCFA'!#REF!/VLOOKUP(BD$2,$BO$127:$BP$138,2,FALSE)","v":{"$error":"#REF!"}},{"$f":"'Budget FCFA'!#REF!/VLOOKUP(BE$2,$BO$127:$BP$138,2,FALSE)","v":{"$error":"#REF!"}},{"$f":"'Budget FCFA'!#REF!/VLOOKUP(BF$2,$BO$127:$BP$138,2,FALSE)","v":{"$error":"#REF!"}},{"$f":"'Budget FCFA'!#REF!/VLOOKUP(BG$2,$BO$127:$BP$138,2,FALSE)","v":{"$error":"#REF!"}},{"$f":"'Budget FCFA'!#REF!/VLOOKUP(BH$2,$BO$127:$BP$138,2,FALSE)","v":{"$error":"#REF!"}},{"$f":"'Budget FCFA'!#REF!/VLOOKUP(BI$2,$BO$127:$BP$138,2,FALSE)","v":{"$error":"#REF!"}},{"$f":"'Budget FCFA'!#REF!/VLOOKUP(BJ$2,$BO$127:$BP$138,2,FALSE)","v":{"$error":"#REF!"}},{"$error":"#REF!"},{"$f":"BK192-'Budget FCFA'!#REF!","v":{"$error":"#REF!"}}]
["PUBETUDE","LIBREVILLE","Etudes",{"$f":"'Budget FCFA'!D193/VLOOKUP(D$2,$BO$127:$BP$138,2,FALSE)","v":0},{"$f":"'Budget FCFA'!E193/VLOOKUP(E$2,$BO$127:$BP$138,2,FALSE)","v":0},{"$f":"'Budget FCFA'!F193/VLOOKUP(F$2,$BO$127:$BP$138,2,FALSE)","v":0},{"$f":"'Budget FCFA'!G193/VLOOKUP(G$2,$BO$127:$BP$138,2,FALSE)","v":0},{"$f":"'Budget FCFA'!H193/VLOOKUP(H$2,$BO$127:$BP$138,2,FALSE)","v":20},{"$f":"'Budget FCFA'!I193/VLOOKUP(I$2,$BO$127:$BP$138,2,FALSE)","v":0},{"$f":"'Budget FCFA'!J193/VLOOKUP(J$2,$BO$127:$BP$138,2,FALSE)","v":0},{"$f":"'Budget FCFA'!K193/VLOOKUP(K$2,$BO$127:$BP$138,2,FALSE)","v":0},{"$f":"'Budget FCFA'!L193/VLOOKUP(L$2,$BO$127:$BP$138,2,FALSE)","v":0},{"$f":"'Budget FCFA'!M193/VLOOKUP(M$2,$BO$127:$BP$138,2,FALSE)","v":20},{"$f":"'Budget FCFA'!N193/VLOOKUP(N$2,$BO$127:$BP$138,2,FALSE)","v":0},{"$f":"'Budget FCFA'!O193/VLOOKUP(O$2,$BO$127:$BP$138,2,FALSE)","v":0},{"$f":"'Budget FCFA'!P193/VLOOKUP(P$2,$BO$127:$BP$138,2,FALSE)","v":0},{"$f":"'Budget FCFA'!Q193/VLOOKUP(Q$2,$BO$127:$BP$138,2,FALSE)","v":0},{"$f":"'Budget FCFA'!R193/VLOOKUP(R$2,$BO$127:$BP$138,2,FALSE)","v":20},{"$f":"'Budget FCFA'!S193/VLOOKUP(S$2,$BO$127:$BP$138,2,FALSE)","v":0},{"$f":"'Budget FCFA'!T193/VLOOKUP(T$2,$BO$127:$BP$138,2,FALSE)","v":0},{"$f":"'Budget FCFA'!U193/VLOOKUP(U$2,$BO$127:$BP$138,2,FALSE)","v":0},{"$f":"'Budget FCFA'!V193/VLOOKUP(V$2,$BO$127:$BP$138,2,FALSE)","v":0},{"$f":"'Budget FCFA'!W193/VLOOKUP(W$2,$BO$127:$BP$138,2,FALSE)","v":20},{"$f":"'Budget FCFA'!X193/VLOOKUP(X$2,$BO$127:$BP$138,2,FALSE)","v":0},{"$f":"'Budget FCFA'!Y193/VLOOKUP(Y$2,$BO$127:$BP$138,2,FALSE)","v":0},{"$f":"'Budget FCFA'!Z193/VLOOKUP(Z$2,$BO$127:$BP$138,2,FALSE)","v":0},{"$f":"'Budget FCFA'!AA193/VLOOKUP(AA$2,$BO$127:$BP$138,2,FALSE)","v":20},{"$f":"'Budget FCFA'!AB193/VLOOKUP(AB$2,$BO$127:$BP$138,2,FALSE)","v":0},{"$f":"'Budget FCFA'!AC193/VLOOKUP(AC$2,$BO$127:$BP$138,2,FALSE)","v":0},{"$f":"'Budget FCFA'!AD193/VLOOKUP(AD$2,$BO$127:$BP$138,2,FALSE)","v":0},{"$f":"'Budget FCFA'!AE193/VLOOKUP(AE$2,$BO$127:$BP$138,2,FALSE)","v":0},{"$f":"'Budget FCFA'!AF193/VLOOKUP(AF$2,$BO$127:$BP$138,2,FALSE)","v":184.71839861665222},{"$f":"'Budget FCFA'!AG193/VLOOKUP(AG$2,$BO$127:$BP$138,2,FALSE)","v":0},{"$f":"'Budget FCFA'!AH193/VLOOKUP(AH$2,$BO$127:$BP$138,2,FALSE)","v":0},{"$f":"'Budget FCFA'!AI193/VLOOKUP(AI$2,$BO$127:$BP$138,2,FALSE)","v":0},{"$f":"'Budget FCFA'!AJ193/VLOOKUP(AJ$2,$BO$127:$BP$138,2,FALSE)","v":0},{"$f":"'Budget FCFA'!AK193/VLOOKUP(AK$2,$BO$127:$BP$138,2,FALSE)","v":106.28},{"$f":"'Budget FCFA'!AL193/VLOOKUP(AL$2,$BO$127:$BP$138,2,FALSE)","v":0},{"$f":"'Budget FCFA'!AM193/VLOOKUP(AM$2,$BO$127:$BP$138,2,FALSE)","v":0},{"$f":"'Budget FCFA'!AN193/VLOOKUP(AN$2,$BO$127:$BP$138,2,FALSE)","v":0},{"$f":"'Budget FCFA'!AO193/VLOOKUP(AO$2,$BO$127:$BP$138,2,FALSE)","v":0},{"$f":"'Budget FCFA'!AP193/VLOOKUP(AP$2,$BO$127:$BP$138,2,FALSE)","v":20},{"$f":"'Budget FCFA'!#REF!/VLOOKUP(AQ$2,$BO$127:$BP$138,2,FALSE)","v":{"$error":"#REF!"}},{"$f":"'Budget FCFA'!#REF!/VLOOKUP(AR$2,$BO$127:$BP$138,2,FALSE)","v":{"$error":"#REF!"}},{"$f":"'Budget FCFA'!#REF!/VLOOKUP(AS$2,$BO$127:$BP$138,2,FALSE)","v":{"$error":"#REF!"}},{"$f":"'Budget FCFA'!#REF!/VLOOKUP(AT$2,$BO$127:$BP$138,2,FALSE)","v":{"$error":"#REF!"}},{"$f":"'Budget FCFA'!#REF!/VLOOKUP(AU$2,$BO$127:$BP$138,2,FALSE)","v":{"$error":"#REF!"}},{"$f":"'Budget FCFA'!#REF!/VLOOKUP(AV$2,$BO$127:$BP$138,2,FALSE)","v":{"$error":"#REF!"}},{"$f":"'Budget FCFA'!#REF!/VLOOKUP(AW$2,$BO$127:$BP$138,2,FALSE)","v":{"$error":"#REF!"}},{"$f":"'Budget FCFA'!#REF!/VLOOKUP(AX$2,$BO$127:$BP$138,2,FALSE)","v":{"$error":"#REF!"}},{"$f":"'Budget FCFA'!#REF!/VLOOKUP(AY$2,$BO$127:$BP$138,2,FALSE)","v":{"$error":"#REF!"}},{"$f":"'Budget FCFA'!#REF!/VLOOKUP(AZ$2,$BO$127:$BP$138,2,FALSE)","v":{"$error":"#REF!"}},{"$f":"'Budget FCFA'!#REF!/VLOOKUP(BA$2,$BO$127:$BP$138,2,FALSE)","v":{"$error":"#REF!"}},{"$f":"'Budget FCFA'!#REF!/VLOOKUP(BB$2,$BO$127:$BP$138,2,FALSE)","v":{"$error":"#REF!"}},{"$f":"'Budget FCFA'!#REF!/VLOOKUP(BC$2,$BO$127:$BP$138,2,FALSE)","v":{"$error":"#REF!"}},{"$f":"'Budget FCFA'!#REF!/VLOOKUP(BD$2,$BO$127:$BP$138,2,FALSE)","v":{"$error":"#REF!"}},{"$f":"'Budget FCFA'!#REF!/VLOOKUP(BE$2,$BO$127:$BP$138,2,FALSE)","v":{"$error":"#REF!"}},{"$f":"'Budget FCFA'!#REF!/VLOOKUP(BF$2,$BO$127:$BP$138,2,FALSE)","v":{"$error":"#REF!"}},{"$f":"'Budget FCFA'!#REF!/VLOOKUP(BG$2,$BO$127:$BP$138,2,FALSE)","v":{"$error":"#REF!"}},{"$f":"'Budget FCFA'!#REF!/VLOOKUP(BH$2,$BO$127:$BP$138,2,FALSE)","v":{"$error":"#REF!"}},{"$f":"'Budget FCFA'!#REF!/VLOOKUP(BI$2,$BO$127:$BP$138,2,FALSE)","v":{"$error":"#REF!"}},{"$f":"'Budget FCFA'!#REF!/VLOOKUP(BJ$2,$BO$127:$BP$138,2,FALSE)","v":{"$error":"#REF!"}},{"$error":"#REF!"},{"$f":"BK193-'Budget FCFA'!#REF!","v":{"$error":"#REF!"}}]
["PUBETUDE","DOUALA","Etudes",{"$f":"'Budget FCFA'!D194/VLOOKUP(D$2,$BO$127:$BP$138,2,FALSE)","v":0},{"$f":"'Budget FCFA'!E194/VLOOKUP(E$2,$BO$127:$BP$138,2,FALSE)","v":0},{"$f":"'Budget FCFA'!F194/VLOOKUP(F$2,$BO$127:$BP$138,2,FALSE)","v":0},{"$f":"'Budget FCFA'!G194/VLOOKUP(G$2,$BO$127:$BP$138,2,FALSE)","v":0},{"$f":"'Budget FCFA'!H194/VLOOKUP(H$2,$BO$127:$BP$138,2,FALSE)","v":20},{"$f":"'Budget FCFA'!I194/VLOOKUP(I$2,$BO$127:$BP$138,2,FALSE)","v":0},{"$f":"'Budget FCFA'!J194/VLOOKUP(J$2,$BO$127:$BP$138,2,FALSE)","v":0},{"$f":"'Budget FCFA'!K194/VLOOKUP(K$2,$BO$127:$BP$138,2,FALSE)","v":0},{"$f":"'Budget FCFA'!L194/VLOOKUP(L$2,$BO$127:$BP$138,2,FALSE)","v":0},{"$f":"'Budget FCFA'!M194/VLOOKUP(M$2,$BO$127:$BP$138,2,FALSE)","v":20},{"$f":"'Budget FCFA'!N194/VLOOKUP(N$2,$BO$127:$BP$138,2,FALSE)","v":0},{"$f":"'Budget FCFA'!O194/VLOOKUP(O$2,$BO$127:$BP$138,2,FALSE)","v":0},{"$f":"'Budget FCFA'!P194/VLOOKUP(P$2,$BO$127:$BP$138,2,FALSE)","v":0},{"$f":"'Budget FCFA'!Q194/VLOOKUP(Q$2,$BO$127:$BP$138,2,FALSE)","v":0},{"$f":"'Budget FCFA'!R194/VLOOKUP(R$2,$BO$127:$BP$138,2,FALSE)","v":20},{"$f":"'Budget FCFA'!S194/VLOOKUP(S$2,$BO$127:$BP$138,2,FALSE)","v":0},{"$f":"'Budget FCFA'!T194/VLOOKUP(T$2,$BO$127:$BP$138,2,FALSE)","v":0},{"$f":"'Budget FCFA'!U194/VLOOKUP(U$2,$BO$127:$BP$138,2,FALSE)","v":0},{"$f":"'Budget FCFA'!V194/VLOOKUP(V$2,$BO$127:$BP$138,2,FALSE)","v":0},{"$f":"'Budget FCFA'!W194/VLOOKUP(W$2,$BO$127:$BP$138,2,FALSE)","v":20},{"$f":"'Budget FCFA'!X194/VLOOKUP(X$2,$BO$127:$BP$138,2,FALSE)","v":0},{"$f":"'Budget FCFA'!Y194/VLOOKUP(Y$2,$BO$127:$BP$138,2,FALSE)","v":0},{"$f":"'Budget FCFA'!Z194/VLOOKUP(Z$2,$BO$127:$BP$138,2,FALSE)","v":0},{"$f":"'Budget FCFA'!AA194/VLOOKUP(AA$2,$BO$127:$BP$138,2,FALSE)","v":20},{"$f":"'Budget FCFA'!AB194/VLOOKUP(AB$2,$BO$127:$BP$138,2,FALSE)","v":0},{"$f":"'Budget FCFA'!AC194/VLOOKUP(AC$2,$BO$127:$BP$138,2,FALSE)","v":0},{"$f":"'Budget FCFA'!AD194/VLOOKUP(AD$2,$BO$127:$BP$138,2,FALSE)","v":0},{"$f":"'Budget FCFA'!AE194/VLOOKUP(AE$2,$BO$127:$BP$138,2,FALSE)","v":0},{"$f":"'Budget FCFA'!AF194/VLOOKUP(AF$2,$BO$127:$BP$138,2,FALSE)","v":184.71839861665222},{"$f":"'Budget FCFA'!AG194/VLOOKUP(AG$2,$BO$127:$BP$138,2,FALSE)","v":0},{"$f":"'Budget FCFA'!AH194/VLOOKUP(AH$2,$BO$127:$BP$138,2,FALSE)","v":0},{"$f":"'Budget FCFA'!AI194/VLOOKUP(AI$2,$BO$127:$BP$138,2,FALSE)","v":0},{"$f":"'Budget FCFA'!AJ194/VLOOKUP(AJ$2,$BO$127:$BP$138,2,FALSE)","v":0},{"$f":"'Budget FCFA'!AK194/VLOOKUP(AK$2,$BO$127:$BP$138,2,FALSE)","v":100.45999999999998},{"$f":"'Budget FCFA'!AL194/VLOOKUP(AL$2,$BO$127:$BP$138,2,FALSE)","v":0},{"$f":"'Budget FCFA'!AM194/VLOOKUP(AM$2,$BO$127:$BP$138,2,FALSE)","v":0},{"$f":"'Budget FCFA'!AN194/VLOOKUP(AN$2,$BO$127:$BP$138,2,FALSE)","v":0},{"$f":"'Budget FCFA'!AO194/VLOOKUP(AO$2,$BO$127:$BP$138,2,FALSE)","v":0},{"$f":"'Budget FCFA'!AP194/VLOOKUP(AP$2,$BO$127:$BP$138,2,FALSE)","v":20},{"$f":"'Budget FCFA'!#REF!/VLOOKUP(AQ$2,$BO$127:$BP$138,2,FALSE)","v":{"$error":"#REF!"}},{"$f":"'Budget FCFA'!#REF!/VLOOKUP(AR$2,$BO$127:$BP$138,2,FALSE)","v":{"$error":"#REF!"}},{"$f":"'Budget FCFA'!#REF!/VLOOKUP(AS$2,$BO$127:$BP$138,2,FALSE)","v":{"$error":"#REF!"}},{"$f":"'Budget FCFA'!#REF!/VLOOKUP(AT$2,$BO$127:$BP$138,2,FALSE)","v":{"$error":"#REF!"}},{"$f":"'Budget FCFA'!#REF!/VLOOKUP(AU$2,$BO$127:$BP$138,2,FALSE)","v":{"$error":"#REF!"}},{"$f":"'Budget FCFA'!#REF!/VLOOKUP(AV$2,$BO$127:$BP$138,2,FALSE)","v":{"$error":"#REF!"}},{"$f":"'Budget FCFA'!#REF!/VLOOKUP(AW$2,$BO$127:$BP$138,2,FALSE)","v":{"$error":"#REF!"}},{"$f":"'Budget FCFA'!#REF!/VLOOKUP(AX$2,$BO$127:$BP$138,2,FALSE)","v":{"$error":"#REF!"}},{"$f":"'Budget FCFA'!#REF!/VLOOKUP(AY$2,$BO$127:$BP$138,2,FALSE)","v":{"$error":"#REF!"}},{"$f":"'Budget FCFA'!#REF!/VLOOKUP(AZ$2,$BO$127:$BP$138,2,FALSE)","v":{"$error":"#REF!"}},{"$f":"'Budget FCFA'!#REF!/VLOOKUP(BA$2,$BO$127:$BP$138,2,FALSE)","v":{"$error":"#REF!"}},{"$f":"'Budget FCFA'!#REF!/VLOOKUP(BB$2,$BO$127:$BP$138,2,FALSE)","v":{"$error":"#REF!"}},{"$f":"'Budget FCFA'!#REF!/VLOOKUP(BC$2,$BO$127:$BP$138,2,FALSE)","v":{"$error":"#REF!"}},{"$f":"'Budget FCFA'!#REF!/VLOOKUP(BD$2,$BO$127:$BP$138,2,FALSE)","v":{"$error":"#REF!"}},{"$f":"'Budget FCFA'!#REF!/VLOOKUP(BE$2,$BO$127:$BP$138,2,FALSE)","v":{"$error":"#REF!"}},{"$f":"'Budget FCFA'!#REF!/VLOOKUP(BF$2,$BO$127:$BP$138,2,FALSE)","v":{"$error":"#REF!"}},{"$f":"'Budget FCFA'!#REF!/VLOOKUP(BG$2,$BO$127:$BP$138,2,FALSE)","v":{"$error":"#REF!"}},{"$f":"'Budget FCFA'!#REF!/VLOOKUP(BH$2,$BO$127:$BP$138,2,FALSE)","v":{"$error":"#REF!"}},{"$f":"'Budget FCFA'!#REF!/VLOOKUP(BI$2,$BO$127:$BP$138,2,FALSE)","v":{"$error":"#REF!"}},{"$f":"'Budget FCFA'!#REF!/VLOOKUP(BJ$2,$BO$127:$BP$138,2,FALSE)","v":{"$error":"#REF!"}},{"$error":"#REF!"},{"$f":"BK194-'Budget FCFA'!#REF!","v":{"$error":"#REF!"}}]
["PUBETUDE","TOTAL","Etudes ",{"$f":"'Budget FCFA'!D195/VLOOKUP(D$2,$BO$127:$BP$138,2,FALSE)","v":0},{"$f":"'Budget FCFA'!E195/VLOOKUP(E$2,$BO$127:$BP$138,2,FALSE)","v":0},{"$f":"'Budget FCFA'!F195/VLOOKUP(F$2,$BO$127:$BP$138,2,FALSE)","v":0},{"$f":"'Budget FCFA'!G195/VLOOKUP(G$2,$BO$127:$BP$138,2,FALSE)","v":0},{"$f":"'Budget FCFA'!H195/VLOOKUP(H$2,$BO$127:$BP$138,2,FALSE)","v":100},{"$f":"'Budget FCFA'!I195/VLOOKUP(I$2,$BO$127:$BP$138,2,FALSE)","v":0},{"$f":"'Budget FCFA'!J195/VLOOKUP(J$2,$BO$127:$BP$138,2,FALSE)","v":0},{"$f":"'Budget FCFA'!K195/VLOOKUP(K$2,$BO$127:$BP$138,2,FALSE)","v":0},{"$f":"'Budget FCFA'!L195/VLOOKUP(L$2,$BO$127:$BP$138,2,FALSE)","v":0},{"$f":"'Budget FCFA'!M195/VLOOKUP(M$2,$BO$127:$BP$138,2,FALSE)","v":100},{"$f":"'Budget FCFA'!N195/VLOOKUP(N$2,$BO$127:$BP$138,2,FALSE)","v":0},{"$f":"'Budget FCFA'!O195/VLOOKUP(O$2,$BO$127:$BP$138,2,FALSE)","v":0},{"$f":"'Budget FCFA'!P195/VLOOKUP(P$2,$BO$127:$BP$138,2,FALSE)","v":0},{"$f":"'Budget FCFA'!Q195/VLOOKUP(Q$2,$BO$127:$BP$138,2,FALSE)","v":0},{"$f":"'Budget FCFA'!R195/VLOOKUP(R$2,$BO$127:$BP$138,2,FALSE)","v":100},{"$f":"'Budget FCFA'!S195/VLOOKUP(S$2,$BO$127:$BP$138,2,FALSE)","v":0},{"$f":"'Budget FCFA'!T195/VLOOKUP(T$2,$BO$127:$BP$138,2,FALSE)","v":0},{"$f":"'Budget FCFA'!U195/VLOOKUP(U$2,$BO$127:$BP$138,2,FALSE)","v":0},{"$f":"'Budget FCFA'!V195/VLOOKUP(V$2,$BO$127:$BP$138,2,FALSE)","v":0},{"$f":"'Budget FCFA'!W195/VLOOKUP(W$2,$BO$127:$BP$138,2,FALSE)","v":120},{"$f":"'Budget FCFA'!X195/VLOOKUP(X$2,$BO$127:$BP$138,2,FALSE)","v":0},{"$f":"'Budget FCFA'!Y195/VLOOKUP(Y$2,$BO$127:$BP$138,2,FALSE)","v":0},{"$f":"'Budget FCFA'!Z195/VLOOKUP(Z$2,$BO$127:$BP$138,2,FALSE)","v":0},{"$f":"'Budget FCFA'!AA195/VLOOKUP(AA$2,$BO$127:$BP$138,2,FALSE)","v":120},{"$f":"'Budget FCFA'!AB195/VLOOKUP(AB$2,$BO$127:$BP$138,2,FALSE)","v":0},{"$f":"'Budget FCFA'!AC195/VLOOKUP(AC$2,$BO$127:$BP$138,2,FALSE)","v":0},{"$f":"'Budget FCFA'!AD195/VLOOKUP(AD$2,$BO$127:$BP$138,2,FALSE)","v":0},{"$f":"'Budget FCFA'!AE195/VLOOKUP(AE$2,$BO$127:$BP$138,2,FALSE)","v":0},{"$f":"'Budget FCFA'!AF195/VLOOKUP(AF$2,$BO$127:$BP$138,2,FALSE)","v":1108.3103916999135},{"$f":"'Budget FCFA'!AG195/VLOOKUP(AG$2,$BO$127:$BP$138,2,FALSE)","v":0},{"$f":"'Budget FCFA'!AH195/VLOOKUP(AH$2,$BO$127:$BP$138,2,FALSE)","v":0},{"$f":"'Budget FCFA'!AI195/VLOOKUP(AI$2,$BO$127:$BP$138,2,FALSE)","v":0},{"$f":"'Budget FCFA'!AJ195/VLOOKUP(AJ$2,$BO$127:$BP$138,2,FALSE)","v":0},{"$f":"'Budget FCFA'!AK195/VLOOKUP(AK$2,$BO$127:$BP$138,2,FALSE)","v":1196.3100000000002},{"$f":"'Budget FCFA'!AL195/VLOOKUP(AL$2,$BO$127:$BP$138,2,FALSE)","v":0},{"$f":"'Budget FCFA'!AM195/VLOOKUP(AM$2,$BO$127:$BP$138,2,FALSE)","v":0},{"$f":"'Budget FCFA'!AN195/VLOOKUP(AN$2,$BO$127:$BP$138,2,FALSE)","v":0},{"$f":"'Budget FCFA'!AO195/VLOOKUP(AO$2,$BO$127:$BP$138,2,FALSE)","v":0},{"$f":"'Budget FCFA'!AP195/VLOOKUP(AP$2,$BO$127:$BP$138,2,FALSE)","v":120},{"$f":"'Budget FCFA'!#REF!/VLOOKUP(AQ$2,$BO$127:$BP$138,2,FALSE)","v":{"$error":"#REF!"}},{"$f":"'Budget FCFA'!#REF!/VLOOKUP(AR$2,$BO$127:$BP$138,2,FALSE)","v":{"$error":"#REF!"}},{"$f":"'Budget FCFA'!#REF!/VLOOKUP(AS$2,$BO$127:$BP$138,2,FALSE)","v":{"$error":"#REF!"}},{"$f":"'Budget FCFA'!#REF!/VLOOKUP(AT$2,$BO$127:$BP$138,2,FALSE)","v":{"$error":"#REF!"}},{"$f":"'Budget FCFA'!#REF!/VLOOKUP(AU$2,$BO$127:$BP$138,2,FALSE)","v":{"$error":"#REF!"}},{"$f":"'Budget FCFA'!#REF!/VLOOKUP(AV$2,$BO$127:$BP$138,2,FALSE)","v":{"$error":"#REF!"}},{"$f":"'Budget FCFA'!#REF!/VLOOKUP(AW$2,$BO$127:$BP$138,2,FALSE)","v":{"$error":"#REF!"}},{"$f":"'Budget FCFA'!#REF!/VLOOKUP(AX$2,$BO$127:$BP$138,2,FALSE)","v":{"$error":"#REF!"}},{"$f":"'Budget FCFA'!#REF!/VLOOKUP(AY$2,$BO$127:$BP$138,2,FALSE)","v":{"$error":"#REF!"}},{"$f":"'Budget FCFA'!#REF!/VLOOKUP(AZ$2,$BO$127:$BP$138,2,FALSE)","v":{"$error":"#REF!"}},{"$f":"'Budget FCFA'!#REF!/VLOOKUP(BA$2,$BO$127:$BP$138,2,FALSE)","v":{"$error":"#REF!"}},{"$f":"'Budget FCFA'!#REF!/VLOOKUP(BB$2,$BO$127:$BP$138,2,FALSE)","v":{"$error":"#REF!"}},{"$f":"'Budget FCFA'!#REF!/VLOOKUP(BC$2,$BO$127:$BP$138,2,FALSE)","v":{"$error":"#REF!"}},{"$f":"'Budget FCFA'!#REF!/VLOOKUP(BD$2,$BO$127:$BP$138,2,FALSE)","v":{"$error":"#REF!"}},{"$f":"'Budget FCFA'!#REF!/VLOOKUP(BE$2,$BO$127:$BP$138,2,FALSE)","v":{"$error":"#REF!"}},{"$f":"'Budget FCFA'!#REF!/VLOOKUP(BF$2,$BO$127:$BP$138,2,FALSE)","v":{"$error":"#REF!"}},{"$f":"'Budget FCFA'!#REF!/VLOOKUP(BG$2,$BO$127:$BP$138,2,FALSE)","v":{"$error":"#REF!"}},{"$f":"'Budget FCFA'!#REF!/VLOOKUP(BH$2,$BO$127:$BP$138,2,FALSE)","v":{"$error":"#REF!"}},{"$f":"'Budget FCFA'!#REF!/VLOOKUP(BI$2,$BO$127:$BP$138,2,FALSE)","v":{"$error":"#REF!"}},{"$f":"'Budget FCFA'!#REF!/VLOOKUP(BJ$2,$BO$127:$BP$138,2,FALSE)","v":{"$error":"#REF!"}},{"$error":"#REF!"},{"$f":"BK195-'Budget FCFA'!#REF!","v":{"$error":"#REF!"}}]
["PUBAMBIA","ABIDJAN","Evénement ",{"$f":"'Budget FCFA'!D196/VLOOKUP(D$2,$BO$127:$BP$138,2,FALSE)","v":0},{"$f":"'Budget FCFA'!E196/VLOOKUP(E$2,$BO$127:$BP$138,2,FALSE)","v":0},{"$f":"'Budget FCFA'!F196/VLOOKUP(F$2,$BO$127:$BP$138,2,FALSE)","v":0},{"$f":"'Budget FCFA'!G196/VLOOKUP(G$2,$BO$127:$BP$138,2,FALSE)","v":0},{"$f":"'Budget FCFA'!H196/VLOOKUP(H$2,$BO$127:$BP$138,2,FALSE)","v":0},{"$f":"'Budget FCFA'!I196/VLOOKUP(I$2,$BO$127:$BP$138,2,FALSE)","v":0},{"$f":"'Budget FCFA'!J196/VLOOKUP(J$2,$BO$127:$BP$138,2,FALSE)","v":0},{"$f":"'Budget FCFA'!K196/VLOOKUP(K$2,$BO$127:$BP$138,2,FALSE)","v":0},{"$f":"'Budget FCFA'!L196/VLOOKUP(L$2,$BO$127:$BP$138,2,FALSE)","v":0},{"$f":"'Budget FCFA'!M196/VLOOKUP(M$2,$BO$127:$BP$138,2,FALSE)","v":53988.517540021676},{"$f":"'Budget FCFA'!N196/VLOOKUP(N$2,$BO$127:$BP$138,2,FALSE)","v":0},{"$f":"'Budget FCFA'!O196/VLOOKUP(O$2,$BO$127:$BP$138,2,FALSE)","v":0},{"$f":"'Budget FCFA'!P196/VLOOKUP(P$2,$BO$127:$BP$138,2,FALSE)","v":0},{"$f":"'Budget FCFA'!Q196/VLOOKUP(Q$2,$BO$127:$BP$138,2,FALSE)","v":0},{"$f":"'Budget FCFA'!R196/VLOOKUP(R$2,$BO$127:$BP$138,2,FALSE)","v":8591.4168154314993},{"$f":"'Budget FCFA'!S196/VLOOKUP(S$2,$BO$127:$BP$138,2,FALSE)","v":0},{"$f":"'Budget FCFA'!T196/VLOOKUP(T$2,$BO$127:$BP$138,2,FALSE)","v":0},{"$f":"'Budget FCFA'!U196/VLOOKUP(U$2,$BO$127:$BP$138,2,FALSE)","v":0},{"$f":"'Budget FCFA'!V196/VLOOKUP(V$2,$BO$127:$BP$138,2,FALSE)","v":0},{"$f":"'Budget FCFA'!W196/VLOOKUP(W$2,$BO$127:$BP$138,2,FALSE)","v":0},{"$f":"'Budget FCFA'!X196/VLOOKUP(X$2,$BO$127:$BP$138,2,FALSE)","v":0},{"$f":"'Budget FCFA'!Y196/VLOOKUP(Y$2,$BO$127:$BP$138,2,FALSE)","v":0},{"$f":"'Budget FCFA'!Z196/VLOOKUP(Z$2,$BO$127:$BP$138,2,FALSE)","v":0},{"$f":"'Budget FCFA'!AA196/VLOOKUP(AA$2,$BO$127:$BP$138,2,FALSE)","v":0},{"$f":"'Budget FCFA'!AB196/VLOOKUP(AB$2,$BO$127:$BP$138,2,FALSE)","v":0},{"$f":"'Budget FCFA'!AC196/VLOOKUP(AC$2,$BO$127:$BP$138,2,FALSE)","v":0},{"$f":"'Budget FCFA'!AD196/VLOOKUP(AD$2,$BO$127:$BP$138,2,FALSE)","v":0},{"$f":"'Budget FCFA'!AE196/VLOOKUP(AE$2,$BO$127:$BP$138,2,FALSE)","v":0},{"$f":"'Budget FCFA'!AF196/VLOOKUP(AF$2,$BO$127:$BP$138,2,FALSE)","v":4932.7429344690745},{"$f":"'Budget FCFA'!AG196/VLOOKUP(AG$2,$BO$127:$BP$138,2,FALSE)","v":0},{"$f":"'Budget FCFA'!AH196/VLOOKUP(AH$2,$BO$127:$BP$138,2,FALSE)","v":0},{"$f":"'Budget FCFA'!AI196/VLOOKUP(AI$2,$BO$127:$BP$138,2,FALSE)","v":0},{"$f":"'Budget FCFA'!AJ196/VLOOKUP(AJ$2,$BO$127:$BP$138,2,FALSE)","v":0},{"$f":"'Budget FCFA'!AK196/VLOOKUP(AK$2,$BO$127:$BP$138,2,FALSE)","v":0},{"$f":"'Budget FCFA'!AL196/VLOOKUP(AL$2,$BO$127:$BP$138,2,FALSE)","v":0},{"$f":"'Budget FCFA'!AM196/VLOOKUP(AM$2,$BO$127:$BP$138,2,FALSE)","v":0},{"$f":"'Budget FCFA'!AN196/VLOOKUP(AN$2,$BO$127:$BP$138,2,FALSE)","v":0},{"$f":"'Budget FCFA'!AO196/VLOOKUP(AO$2,$BO$127:$BP$138,2,FALSE)","v":0},{"$f":"'Budget FCFA'!AP196/VLOOKUP(AP$2,$BO$127:$BP$138,2,FALSE)","v":0},{"$f":"'Budget FCFA'!#REF!/VLOOKUP(AQ$2,$BO$127:$BP$138,2,FALSE)","v":{"$error":"#REF!"}},{"$f":"'Budget FCFA'!#REF!/VLOOKUP(AR$2,$BO$127:$BP$138,2,FALSE)","v":{"$error":"#REF!"}},{"$f":"'Budget FCFA'!#REF!/VLOOKUP(AS$2,$BO$127:$BP$138,2,FALSE)","v":{"$error":"#REF!"}},{"$f":"'Budget FCFA'!#REF!/VLOOKUP(AT$2,$BO$127:$BP$138,2,FALSE)","v":{"$error":"#REF!"}},{"$f":"'Budget FCFA'!#REF!/VLOOKUP(AU$2,$BO$127:$BP$138,2,FALSE)","v":{"$error":"#REF!"}},{"$f":"'Budget FCFA'!#REF!/VLOOKUP(AV$2,$BO$127:$BP$138,2,FALSE)","v":{"$error":"#REF!"}},{"$f":"'Budget FCFA'!#REF!/VLOOKUP(AW$2,$BO$127:$BP$138,2,FALSE)","v":{"$error":"#REF!"}},{"$f":"'Budget FCFA'!#REF!/VLOOKUP(AX$2,$BO$127:$BP$138,2,FALSE)","v":{"$error":"#REF!"}},{"$f":"'Budget FCFA'!#REF!/VLOOKUP(AY$2,$BO$127:$BP$138,2,FALSE)","v":{"$error":"#REF!"}},{"$f":"'Budget FCFA'!#REF!/VLOOKUP(AZ$2,$BO$127:$BP$138,2,FALSE)","v":{"$error":"#REF!"}},{"$f":"'Budget FCFA'!#REF!/VLOOKUP(BA$2,$BO$127:$BP$138,2,FALSE)","v":{"$error":"#REF!"}},{"$f":"'Budget FCFA'!#REF!/VLOOKUP(BB$2,$BO$127:$BP$138,2,FALSE)","v":{"$error":"#REF!"}},{"$f":"'Budget FCFA'!#REF!/VLOOKUP(BC$2,$BO$127:$BP$138,2,FALSE)","v":{"$error":"#REF!"}},{"$f":"'Budget FCFA'!#REF!/VLOOKUP(BD$2,$BO$127:$BP$138,2,FALSE)","v":{"$error":"#REF!"}},{"$f":"'Budget FCFA'!#REF!/VLOOKUP(BE$2,$BO$127:$BP$138,2,FALSE)","v":{"$error":"#REF!"}},{"$f":"'Budget FCFA'!#REF!/VLOOKUP(BF$2,$BO$127:$BP$138,2,FALSE)","v":{"$error":"#REF!"}},{"$f":"'Budget FCFA'!#REF!/VLOOKUP(BG$2,$BO$127:$BP$138,2,FALSE)","v":{"$error":"#REF!"}},{"$f":"'Budget FCFA'!#REF!/VLOOKUP(BH$2,$BO$127:$BP$138,2,FALSE)","v":{"$error":"#REF!"}},{"$f":"'Budget FCFA'!#REF!/VLOOKUP(BI$2,$BO$127:$BP$138,2,FALSE)","v":{"$error":"#REF!"}},{"$f":"'Budget FCFA'!#REF!/VLOOKUP(BJ$2,$BO$127:$BP$138,2,FALSE)","v":{"$error":"#REF!"}},{"$error":"#REF!"},{"$f":"BK196-'Budget FCFA'!#REF!","v":{"$error":"#REF!"}}]
["PUBAMBIA","BRAZZA","Evénement ",{"$f":"'Budget FCFA'!D197/VLOOKUP(D$2,$BO$127:$BP$138,2,FALSE)","v":0},{"$f":"'Budget FCFA'!E197/VLOOKUP(E$2,$BO$127:$BP$138,2,FALSE)","v":0},{"$f":"'Budget FCFA'!F197/VLOOKUP(F$2,$BO$127:$BP$138,2,FALSE)","v":0},{"$f":"'Budget FCFA'!G197/VLOOKUP(G$2,$BO$127:$BP$138,2,FALSE)","v":0},{"$f":"'Budget FCFA'!H197/VLOOKUP(H$2,$BO$127:$BP$138,2,FALSE)","v":0},{"$f":"'Budget FCFA'!I197/VLOOKUP(I$2,$BO$127:$BP$138,2,FALSE)","v":0},{"$f":"'Budget FCFA'!J197/VLOOKUP(J$2,$BO$127:$BP$138,2,FALSE)","v":0},{"$f":"'Budget FCFA'!K197/VLOOKUP(K$2,$BO$127:$BP$138,2,FALSE)","v":0},{"$f":"'Budget FCFA'!L197/VLOOKUP(L$2,$BO$127:$BP$138,2,FALSE)","v":0},{"$f":"'Budget FCFA'!M197/VLOOKUP(M$2,$BO$127:$BP$138,2,FALSE)","v":0},{"$f":"'Budget FCFA'!N197/VLOOKUP(N$2,$BO$127:$BP$138,2,FALSE)","v":0},{"$f":"'Budget FCFA'!O197/VLOOKUP(O$2,$BO$127:$BP$138,2,FALSE)","v":0},{"$f":"'Budget FCFA'!P197/VLOOKUP(P$2,$BO$127:$BP$138,2,FALSE)","v":0},{"$f":"'Budget FCFA'!Q197/VLOOKUP(Q$2,$BO$127:$BP$138,2,FALSE)","v":0},{"$f":"'Budget FCFA'!R197/VLOOKUP(R$2,$BO$127:$BP$138,2,FALSE)","v":0},{"$f":"'Budget FCFA'!S197/VLOOKUP(S$2,$BO$127:$BP$138,2,FALSE)","v":0},{"$f":"'Budget FCFA'!T197/VLOOKUP(T$2,$BO$127:$BP$138,2,FALSE)","v":0},{"$f":"'Budget FCFA'!U197/VLOOKUP(U$2,$BO$127:$BP$138,2,FALSE)","v":0},{"$f":"'Budget FCFA'!V197/VLOOKUP(V$2,$BO$127:$BP$138,2,FALSE)","v":0},{"$f":"'Budget FCFA'!W197/VLOOKUP(W$2,$BO$127:$BP$138,2,FALSE)","v":0},{"$f":"'Budget FCFA'!X197/VLOOKUP(X$2,$BO$127:$BP$138,2,FALSE)","v":0},{"$f":"'Budget FCFA'!Y197/VLOOKUP(Y$2,$BO$127:$BP$138,2,FALSE)","v":0},{"$f":"'Budget FCFA'!Z197/VLOOKUP(Z$2,$BO$127:$BP$138,2,FALSE)","v":0},{"$f":"'Budget FCFA'!AA197/VLOOKUP(AA$2,$BO$127:$BP$138,2,FALSE)","v":15582.576296921901},{"$f":"'Budget FCFA'!AB197/VLOOKUP(AB$2,$BO$127:$BP$138,2,FALSE)","v":0},{"$f":"'Budget FCFA'!AC197/VLOOKUP(AC$2,$BO$127:$BP$138,2,FALSE)","v":0},{"$f":"'Budget FCFA'!AD197/VLOOKUP(AD$2,$BO$127:$BP$138,2,FALSE)","v":0},{"$f":"'Budget FCFA'!AE197/VLOOKUP(AE$2,$BO$127:$BP$138,2,FALSE)","v":0},{"$f":"'Budget FCFA'!AF197/VLOOKUP(AF$2,$BO$127:$BP$138,2,FALSE)","v":0},{"$f":"'Budget FCFA'!AG197/VLOOKUP(AG$2,$BO$127:$BP$138,2,FALSE)","v":0},{"$f":"'Budget FCFA'!AH197/VLOOKUP(AH$2,$BO$127:$BP$138,2,FALSE)","v":0},{"$f":"'Budget FCFA'!AI197/VLOOKUP(AI$2,$BO$127:$BP$138,2,FALSE)","v":0},{"$f":"'Budget FCFA'!AJ197/VLOOKUP(AJ$2,$BO$127:$BP$138,2,FALSE)","v":0},{"$f":"'Budget FCFA'!AK197/VLOOKUP(AK$2,$BO$127:$BP$138,2,FALSE)","v":0},{"$f":"'Budget FCFA'!AL197/VLOOKUP(AL$2,$BO$127:$BP$138,2,FALSE)","v":2496.3526572625951},{"$f":"'Budget FCFA'!AM197/VLOOKUP(AM$2,$BO$127:$BP$138,2,FALSE)","v":0},{"$f":"'Budget FCFA'!AN197/VLOOKUP(AN$2,$BO$127:$BP$138,2,FALSE)","v":0},{"$f":"'Budget FCFA'!AO197/VLOOKUP(AO$2,$BO$127:$BP$138,2,FALSE)","v":0},{"$f":"'Budget FCFA'!AP197/VLOOKUP(AP$2,$BO$127:$BP$138,2,FALSE)","v":0},{"$f":"'Budget FCFA'!#REF!/VLOOKUP(AQ$2,$BO$127:$BP$138,2,FALSE)","v":{"$error":"#REF!"}},{"$f":"'Budget FCFA'!#REF!/VLOOKUP(AR$2,$BO$127:$BP$138,2,FALSE)","v":{"$error":"#REF!"}},{"$f":"'Budget FCFA'!#REF!/VLOOKUP(AS$2,$BO$127:$BP$138,2,FALSE)","v":{"$error":"#REF!"}},{"$f":"'Budget FCFA'!#REF!/VLOOKUP(AT$2,$BO$127:$BP$138,2,FALSE)","v":{"$error":"#REF!"}},{"$f":"'Budget FCFA'!#REF!/VLOOKUP(AU$2,$BO$127:$BP$138,2,FALSE)","v":{"$error":"#REF!"}},{"$f":"'Budget FCFA'!#REF!/VLOOKUP(AV$2,$BO$127:$BP$138,2,FALSE)","v":{"$error":"#REF!"}},{"$f":"'Budget FCFA'!#REF!/VLOOKUP(AW$2,$BO$127:$BP$138,2,FALSE)","v":{"$error":"#REF!"}},{"$f":"'Budget FCFA'!#REF!/VLOOKUP(AX$2,$BO$127:$BP$138,2,FALSE)","v":{"$error":"#REF!"}},{"$f":"'Budget FCFA'!#REF!/VLOOKUP(AY$2,$BO$127:$BP$138,2,FALSE)","v":{"$error":"#REF!"}},{"$f":"'Budget FCFA'!#REF!/VLOOKUP(AZ$2,$BO$127:$BP$138,2,FALSE)","v":{"$error":"#REF!"}},{"$f":"'Budget FCFA'!#REF!/VLOOKUP(BA$2,$BO$127:$BP$138,2,FALSE)","v":{"$error":"#REF!"}},{"$f":"'Budget FCFA'!#REF!/VLOOKUP(BB$2,$BO$127:$BP$138,2,FALSE)","v":{"$error":"#REF!"}},{"$f":"'Budget FCFA'!#REF!/VLOOKUP(BC$2,$BO$127:$BP$138,2,FALSE)","v":{"$error":"#REF!"}},{"$f":"'Budget FCFA'!#REF!/VLOOKUP(BD$2,$BO$127:$BP$138,2,FALSE)","v":{"$error":"#REF!"}},{"$f":"'Budget FCFA'!#REF!/VLOOKUP(BE$2,$BO$127:$BP$138,2,FALSE)","v":{"$error":"#REF!"}},{"$f":"'Budget FCFA'!#REF!/VLOOKUP(BF$2,$BO$127:$BP$138,2,FALSE)","v":{"$error":"#REF!"}},{"$f":"'Budget FCFA'!#REF!/VLOOKUP(BG$2,$BO$127:$BP$138,2,FALSE)","v":{"$error":"#REF!"}},{"$f":"'Budget FCFA'!#REF!/VLOOKUP(BH$2,$BO$127:$BP$138,2,FALSE)","v":{"$error":"#REF!"}},{"$f":"'Budget FCFA'!#REF!/VLOOKUP(BI$2,$BO$127:$BP$138,2,FALSE)","v":{"$error":"#REF!"}},{"$f":"'Budget FCFA'!#REF!/VLOOKUP(BJ$2,$BO$127:$BP$138,2,FALSE)","v":{"$error":"#REF!"}},{"$error":"#REF!"},{"$f":"BK197-'Budget FCFA'!#REF!","v":{"$error":"#REF!"}}]
["PUBAMBIA","DAKAR","Evénement ",{"$f":"'Budget FCFA'!D198/VLOOKUP(D$2,$BO$127:$BP$138,2,FALSE)","v":0},{"$f":"'Budget FCFA'!E198/VLOOKUP(E$2,$BO$127:$BP$138,2,FALSE)","v":0},{"$f":"'Budget FCFA'!F198/VLOOKUP(F$2,$BO$127:$BP$138,2,FALSE)","v":0},{"$f":"'Budget FCFA'!G198/VLOOKUP(G$2,$BO$127:$BP$138,2,FALSE)","v":0},{"$f":"'Budget FCFA'!H198/VLOOKUP(H$2,$BO$127:$BP$138,2,FALSE)","v":0},{"$f":"'Budget FCFA'!I198/VLOOKUP(I$2,$BO$127:$BP$138,2,FALSE)","v":0},{"$f":"'Budget FCFA'!J198/VLOOKUP(J$2,$BO$127:$BP$138,2,FALSE)","v":0},{"$f":"'Budget FCFA'!K198/VLOOKUP(K$2,$BO$127:$BP$138,2,FALSE)","v":0},{"$f":"'Budget FCFA'!L198/VLOOKUP(L$2,$BO$127:$BP$138,2,FALSE)","v":0},{"$f":"'Budget FCFA'!M198/VLOOKUP(M$2,$BO$127:$BP$138,2,FALSE)","v":0},{"$f":"'Budget FCFA'!N198/VLOOKUP(N$2,$BO$127:$BP$138,2,FALSE)","v":0},{"$f":"'Budget FCFA'!O198/VLOOKUP(O$2,$BO$127:$BP$138,2,FALSE)","v":0},{"$f":"'Budget FCFA'!P198/VLOOKUP(P$2,$BO$127:$BP$138,2,FALSE)","v":0},{"$f":"'Budget FCFA'!Q198/VLOOKUP(Q$2,$BO$127:$BP$138,2,FALSE)","v":0},{"$f":"'Budget FCFA'!R198/VLOOKUP(R$2,$BO$127:$BP$138,2,FALSE)","v":0},{"$f":"'Budget FCFA'!S198/VLOOKUP(S$2,$BO$127:$BP$138,2,FALSE)","v":0},{"$f":"'Budget FCFA'!T198/VLOOKUP(T$2,$BO$127:$BP$138,2,FALSE)","v":0},{"$f":"'Budget FCFA'!U198/VLOOKUP(U$2,$BO$127:$BP$138,2,FALSE)","v":0},{"$f":"'Budget FCFA'!V198/VLOOKUP(V$2,$BO$127:$BP$138,2,FALSE)","v":0},{"$f":"'Budget FCFA'!W198/VLOOKUP(W$2,$BO$127:$BP$138,2,FALSE)","v":0},{"$f":"'Budget FCFA'!X198/VLOOKUP(X$2,$BO$127:$BP$138,2,FALSE)","v":0},{"$f":"'Budget FCFA'!Y198/VLOOKUP(Y$2,$BO$127:$BP$138,2,FALSE)","v":0},{"$f":"'Budget FCFA'!Z198/VLOOKUP(Z$2,$BO$127:$BP$138,2,FALSE)","v":0},{"$f":"'Budget FCFA'!AA198/VLOOKUP(AA$2,$BO$127:$BP$138,2,FALSE)","v":19094.044274243588},{"$f":"'Budget FCFA'!AB198/VLOOKUP(AB$2,$BO$127:$BP$138,2,FALSE)","v":0},{"$f":"'Budget FCFA'!AC198/VLOOKUP(AC$2,$BO$127:$BP$138,2,FALSE)","v":0},{"$f":"'Budget FCFA'!AD198/VLOOKUP(AD$2,$BO$127:$BP$138,2,FALSE)","v":0},{"$f":"'Budget FCFA'!AE198/VLOOKUP(AE$2,$BO$127:$BP$138,2,FALSE)","v":0},{"$f":"'Budget FCFA'!AF198/VLOOKUP(AF$2,$BO$127:$BP$138,2,FALSE)","v":0},{"$f":"'Budget FCFA'!AG198/VLOOKUP(AG$2,$BO$127:$BP$138,2,FALSE)","v":0},{"$f":"'Budget FCFA'!AH198/VLOOKUP(AH$2,$BO$127:$BP$138,2,FALSE)","v":0},{"$f":"'Budget FCFA'!AI198/VLOOKUP(AI$2,$BO$127:$BP$138,2,FALSE)","v":0},{"$f":"'Budget FCFA'!AJ198/VLOOKUP(AJ$2,$BO$127:$BP$138,2,FALSE)","v":0},{"$f":"'Budget FCFA'!AK198/VLOOKUP(AK$2,$BO$127:$BP$138,2,FALSE)","v":0},{"$f":"'Budget FCFA'!AL198/VLOOKUP(AL$2,$BO$127:$BP$138,2,FALSE)","v":0},{"$f":"'Budget FCFA'!AM198/VLOOKUP(AM$2,$BO$127:$BP$138,2,FALSE)","v":0},{"$f":"'Budget FCFA'!AN198/VLOOKUP(AN$2,$BO$127:$BP$138,2,FALSE)","v":0},{"$f":"'Budget FCFA'!AO198/VLOOKUP(AO$2,$BO$127:$BP$138,2,FALSE)","v":0},{"$f":"'Budget FCFA'!AP198/VLOOKUP(AP$2,$BO$127:$BP$138,2,FALSE)","v":0},{"$f":"'Budget FCFA'!#REF!/VLOOKUP(AQ$2,$BO$127:$BP$138,2,FALSE)","v":{"$error":"#REF!"}},{"$f":"'Budget FCFA'!#REF!/VLOOKUP(AR$2,$BO$127:$BP$138,2,FALSE)","v":{"$error":"#REF!"}},{"$f":"'Budget FCFA'!#REF!/VLOOKUP(AS$2,$BO$127:$BP$138,2,FALSE)","v":{"$error":"#REF!"}},{"$f":"'Budget FCFA'!#REF!/VLOOKUP(AT$2,$BO$127:$BP$138,2,FALSE)","v":{"$error":"#REF!"}},{"$f":"'Budget FCFA'!#REF!/VLOOKUP(AU$2,$BO$127:$BP$138,2,FALSE)","v":{"$error":"#REF!"}},{"$f":"'Budget FCFA'!#REF!/VLOOKUP(AV$2,$BO$127:$BP$138,2,FALSE)","v":{"$error":"#REF!"}},{"$f":"'Budget FCFA'!#REF!/VLOOKUP(AW$2,$BO$127:$BP$138,2,FALSE)","v":{"$error":"#REF!"}},{"$f":"'Budget FCFA'!#REF!/VLOOKUP(AX$2,$BO$127:$BP$138,2,FALSE)","v":{"$error":"#REF!"}},{"$f":"'Budget FCFA'!#REF!/VLOOKUP(AY$2,$BO$127:$BP$138,2,FALSE)","v":{"$error":"#REF!"}},{"$f":"'Budget FCFA'!#REF!/VLOOKUP(AZ$2,$BO$127:$BP$138,2,FALSE)","v":{"$error":"#REF!"}},{"$f":"'Budget FCFA'!#REF!/VLOOKUP(BA$2,$BO$127:$BP$138,2,FALSE)","v":{"$error":"#REF!"}},{"$f":"'Budget FCFA'!#REF!/VLOOKUP(BB$2,$BO$127:$BP$138,2,FALSE)","v":{"$error":"#REF!"}},{"$f":"'Budget FCFA'!#REF!/VLOOKUP(BC$2,$BO$127:$BP$138,2,FALSE)","v":{"$error":"#REF!"}},{"$f":"'Budget FCFA'!#REF!/VLOOKUP(BD$2,$BO$127:$BP$138,2,FALSE)","v":{"$error":"#REF!"}},{"$f":"'Budget FCFA'!#REF!/VLOOKUP(BE$2,$BO$127:$BP$138,2,FALSE)","v":{"$error":"#REF!"}},{"$f":"'Budget FCFA'!#REF!/VLOOKUP(BF$2,$BO$127:$BP$138,2,FALSE)","v":{"$error":"#REF!"}},{"$f":"'Budget FCFA'!#REF!/VLOOKUP(BG$2,$BO$127:$BP$138,2,FALSE)","v":{"$error":"#REF!"}},{"$f":"'Budget FCFA'!#REF!/VLOOKUP(BH$2,$BO$127:$BP$138,2,FALSE)","v":{"$error":"#REF!"}},{"$f":"'Budget FCFA'!#REF!/VLOOKUP(BI$2,$BO$127:$BP$138,2,FALSE)","v":{"$error":"#REF!"}},{"$f":"'Budget FCFA'!#REF!/VLOOKUP(BJ$2,$BO$127:$BP$138,2,FALSE)","v":{"$error":"#REF!"}},{"$f":"SUM(D198:BJ198)","v":{"$error":"#REF!"}},{"$f":"BK198-'Budget FCFA'!#REF!","v":{"$error":"#REF!"}}]
["PUBAMBIA","LIBREVILLE","Evénement ",{"$f":"'Budget FCFA'!D199/VLOOKUP(D$2,$BO$127:$BP$138,2,FALSE)","v":0},{"$f":"'Budget FCFA'!E199/VLOOKUP(E$2,$BO$127:$BP$138,2,FALSE)","v":0},{"$f":"'Budget FCFA'!F199/VLOOKUP(F$2,$BO$127:$BP$138,2,FALSE)","v":0},{"$f":"'Budget FCFA'!G199/VLOOKUP(G$2,$BO$127:$BP$138,2,FALSE)","v":0},{"$f":"'Budget FCFA'!H199/VLOOKUP(H$2,$BO$127:$BP$138,2,FALSE)","v":0},{"$f":"'Budget FCFA'!I199/VLOOKUP(I$2,$BO$127:$BP$138,2,FALSE)","v":0},{"$f":"'Budget FCFA'!J199/VLOOKUP(J$2,$BO$127:$BP$138,2,FALSE)","v":0},{"$f":"'Budget FCFA'!K199/VLOOKUP(K$2,$BO$127:$BP$138,2,FALSE)","v":0},{"$f":"'Budget FCFA'!L199/VLOOKUP(L$2,$BO$127:$BP$138,2,FALSE)","v":0},{"$f":"'Budget FCFA'!M199/VLOOKUP(M$2,$BO$127:$BP$138,2,FALSE)","v":0},{"$f":"'Budget FCFA'!N199/VLOOKUP(N$2,$BO$127:$BP$138,2,FALSE)","v":0},{"$f":"'Budget FCFA'!O199/VLOOKUP(O$2,$BO$127:$BP$138,2,FALSE)","v":0},{"$f":"'Budget FCFA'!P199/VLOOKUP(P$2,$BO$127:$BP$138,2,FALSE)","v":0},{"$f":"'Budget FCFA'!Q199/VLOOKUP(Q$2,$BO$127:$BP$138,2,FALSE)","v":0},{"$f":"'Budget FCFA'!R199/VLOOKUP(R$2,$BO$127:$BP$138,2,FALSE)","v":0},{"$f":"'Budget FCFA'!S199/VLOOKUP(S$2,$BO$127:$BP$138,2,FALSE)","v":0},{"$f":"'Budget FCFA'!T199/VLOOKUP(T$2,$BO$127:$BP$138,2,FALSE)","v":0},{"$f":"'Budget FCFA'!U199/VLOOKUP(U$2,$BO$127:$BP$138,2,FALSE)","v":0},{"$f":"'Budget FCFA'!V199/VLOOKUP(V$2,$BO$127:$BP$138,2,FALSE)","v":0},{"$f":"'Budget FCFA'!W199/VLOOKUP(W$2,$BO$127:$BP$138,2,FALSE)","v":0},{"$f":"'Budget FCFA'!X199/VLOOKUP(X$2,$BO$127:$BP$138,2,FALSE)","v":0},{"$f":"'Budget FCFA'!Y199/VLOOKUP(Y$2,$BO$127:$BP$138,2,FALSE)","v":0},{"$f":"'Budget FCFA'!Z199/VLOOKUP(Z$2,$BO$127:$BP$138,2,FALSE)","v":0},{"$f":"'Budget FCFA'!AA199/VLOOKUP(AA$2,$BO$127:$BP$138,2,FALSE)","v":0},{"$f":"'Budget FCFA'!AB199/VLOOKUP(AB$2,$BO$127:$BP$138,2,FALSE)","v":0},{"$f":"'Budget FCFA'!AC199/VLOOKUP(AC$2,$BO$127:$BP$138,2,FALSE)","v":0},{"$f":"'Budget FCFA'!AD199/VLOOKUP(AD$2,$BO$127:$BP$138,2,FALSE)","v":0},{"$f":"'Budget FCFA'!AE199/VLOOKUP(AE$2,$BO$127:$BP$138,2,FALSE)","v":0},{"$f":"'Budget FCFA'!AF199/VLOOKUP(AF$2,$BO$127:$BP$138,2,FALSE)","v":0},{"$f":"'Budget FCFA'!AG199/VLOOKUP(AG$2,$BO$127:$BP$138,2,FALSE)","v":0},{"$f":"'Budget FCFA'!AH199/VLOOKUP(AH$2,$BO$127:$BP$138,2,FALSE)","v":0},{"$f":"'Budget FCFA'!AI199/VLOOKUP(AI$2,$BO$127:$BP$138,2,FALSE)","v":0},{"$f":"'Budget FCFA'!AJ199/VLOOKUP(AJ$2,$BO$127:$BP$138,2,FALSE)","v":0},{"$f":"'Budget FCFA'!AK199/VLOOKUP(AK$2,$BO$127:$BP$138,2,FALSE)","v":15244.901723741039},{"$f":"'Budget FCFA'!AL199/VLOOKUP(AL$2,$BO$127:$BP$138,2,FALSE)","v":0},{"$f":"'Budget FCFA'!AM199/VLOOKUP(AM$2,$BO$127:$BP$138,2,FALSE)","v":0},{"$f":"'Budget FCFA'!AN199/VLOOKUP(AN$2,$BO$127:$BP$138,2,FALSE)","v":0},{"$f":"'Budget FCFA'!AO199/VLOOKUP(AO$2,$BO$127:$BP$138,2,FALSE)","v":0},{"$f":"'Budget FCFA'!AP199/VLOOKUP(AP$2,$BO$127:$BP$138,2,FALSE)","v":0},{"$f":"'Budget FCFA'!#REF!/VLOOKUP(AQ$2,$BO$127:$BP$138,2,FALSE)","v":{"$error":"#REF!"}},{"$f":"'Budget FCFA'!#REF!/VLOOKUP(AR$2,$BO$127:$BP$138,2,FALSE)","v":{"$error":"#REF!"}},{"$f":"'Budget FCFA'!#REF!/VLOOKUP(AS$2,$BO$127:$BP$138,2,FALSE)","v":{"$error":"#REF!"}},{"$f":"'Budget FCFA'!#REF!/VLOOKUP(AT$2,$BO$127:$BP$138,2,FALSE)","v":{"$error":"#REF!"}},{"$f":"'Budget FCFA'!#REF!/VLOOKUP(AU$2,$BO$127:$BP$138,2,FALSE)","v":{"$error":"#REF!"}},{"$f":"'Budget FCFA'!#REF!/VLOOKUP(AV$2,$BO$127:$BP$138,2,FALSE)","v":{"$error":"#REF!"}},{"$f":"'Budget FCFA'!#REF!/VLOOKUP(AW$2,$BO$127:$BP$138,2,FALSE)","v":{"$error":"#REF!"}},{"$f":"'Budget FCFA'!#REF!/VLOOKUP(AX$2,$BO$127:$BP$138,2,FALSE)","v":{"$error":"#REF!"}},{"$f":"'Budget FCFA'!#REF!/VLOOKUP(AY$2,$BO$127:$BP$138,2,FALSE)","v":{"$error":"#REF!"}},{"$f":"'Budget FCFA'!#REF!/VLOOKUP(AZ$2,$BO$127:$BP$138,2,FALSE)","v":{"$error":"#REF!"}},{"$f":"'Budget FCFA'!#REF!/VLOOKUP(BA$2,$BO$127:$BP$138,2,FALSE)","v":{"$error":"#REF!"}},{"$f":"'Budget FCFA'!#REF!/VLOOKUP(BB$2,$BO$127:$BP$138,2,FALSE)","v":{"$error":"#REF!"}},{"$f":"'Budget FCFA'!#REF!/VLOOKUP(BC$2,$BO$127:$BP$138,2,FALSE)","v":{"$error":"#REF!"}},{"$f":"'Budget FCFA'!#REF!/VLOOKUP(BD$2,$BO$127:$BP$138,2,FALSE)","v":{"$error":"#REF!"}},{"$f":"'Budget FCFA'!#REF!/VLOOKUP(BE$2,$BO$127:$BP$138,2,FALSE)","v":{"$error":"#REF!"}},{"$f":"'Budget FCFA'!#REF!/VLOOKUP(BF$2,$BO$127:$BP$138,2,FALSE)","v":{"$error":"#REF!"}},{"$f":"'Budget FCFA'!#REF!/VLOOKUP(BG$2,$BO$127:$BP$138,2,FALSE)","v":{"$error":"#REF!"}},{"$f":"'Budget FCFA'!#REF!/VLOOKUP(BH$2,$BO$127:$BP$138,2,FALSE)","v":{"$error":"#REF!"}},{"$f":"'Budget FCFA'!#REF!/VLOOKUP(BI$2,$BO$127:$BP$138,2,FALSE)","v":{"$error":"#REF!"}},{"$f":"'Budget FCFA'!#REF!/VLOOKUP(BJ$2,$BO$127:$BP$138,2,FALSE)","v":{"$error":"#REF!"}},{"$error":"#REF!"},{"$f":"BK199-'Budget FCFA'!#REF!","v":{"$error":"#REF!"}}]
["PUBAMBIA","DOUALA","Evénement ",{"$f":"'Budget FCFA'!D200/VLOOKUP(D$2,$BO$127:$BP$138,2,FALSE)","v":0},{"$f":"'Budget FCFA'!E200/VLOOKUP(E$2,$BO$127:$BP$138,2,FALSE)","v":0},{"$f":"'Budget FCFA'!F200/VLOOKUP(F$2,$BO$127:$BP$138,2,FALSE)","v":0},{"$f":"'Budget FCFA'!G200/VLOOKUP(G$2,$BO$127:$BP$138,2,FALSE)","v":0},{"$f":"'Budget FCFA'!H200/VLOOKUP(H$2,$BO$127:$BP$138,2,FALSE)","v":0},{"$f":"'Budget FCFA'!I200/VLOOKUP(I$2,$BO$127:$BP$138,2,FALSE)","v":0},{"$f":"'Budget FCFA'!J200/VLOOKUP(J$2,$BO$127:$BP$138,2,FALSE)","v":0},{"$f":"'Budget FCFA'!K200/VLOOKUP(K$2,$BO$127:$BP$138,2,FALSE)","v":0},{"$f":"'Budget FCFA'!L200/VLOOKUP(L$2,$BO$127:$BP$138,2,FALSE)","v":0},{"$f":"'Budget FCFA'!M200/VLOOKUP(M$2,$BO$127:$BP$138,2,FALSE)","v":0},{"$f":"'Budget FCFA'!N200/VLOOKUP(N$2,$BO$127:$BP$138,2,FALSE)","v":0},{"$f":"'Budget FCFA'!O200/VLOOKUP(O$2,$BO$127:$BP$138,2,FALSE)","v":0},{"$f":"'Budget FCFA'!P200/VLOOKUP(P$2,$BO$127:$BP$138,2,FALSE)","v":0},{"$f":"'Budget FCFA'!Q200/VLOOKUP(Q$2,$BO$127:$BP$138,2,FALSE)","v":0},{"$f":"'Budget FCFA'!R200/VLOOKUP(R$2,$BO$127:$BP$138,2,FALSE)","v":0},{"$f":"'Budget FCFA'!S200/VLOOKUP(S$2,$BO$127:$BP$138,2,FALSE)","v":0},{"$f":"'Budget FCFA'!T200/VLOOKUP(T$2,$BO$127:$BP$138,2,FALSE)","v":0},{"$f":"'Budget FCFA'!U200/VLOOKUP(U$2,$BO$127:$BP$138,2,FALSE)","v":0},{"$f":"'Budget FCFA'!V200/VLOOKUP(V$2,$BO$127:$BP$138,2,FALSE)","v":0},{"$f":"'Budget FCFA'!W200/VLOOKUP(W$2,$BO$127:$BP$138,2,FALSE)","v":19434.953815570228},{"$f":"'Budget FCFA'!X200/VLOOKUP(X$2,$BO$127:$BP$138,2,FALSE)","v":0},{"$f":"'Budget FCFA'!Y200/VLOOKUP(Y$2,$BO$127:$BP$138,2,FALSE)","v":0},{"$f":"'Budget FCFA'!Z200/VLOOKUP(Z$2,$BO$127:$BP$138,2,FALSE)","v":0},{"$f":"'Budget FCFA'!AA200/VLOOKUP(AA$2,$BO$127:$BP$138,2,FALSE)","v":0},{"$f":"'Budget FCFA'!AB200/VLOOKUP(AB$2,$BO$127:$BP$138,2,FALSE)","v":0},{"$f":"'Budget FCFA'!AC200/VLOOKUP(AC$2,$BO$127:$BP$138,2,FALSE)","v":0},{"$f":"'Budget FCFA'!AD200/VLOOKUP(AD$2,$BO$127:$BP$138,2,FALSE)","v":0},{"$f":"'Budget FCFA'!AE200/VLOOKUP(AE$2,$BO$127:$BP$138,2,FALSE)","v":0},{"$f":"'Budget FCFA'!AF200/VLOOKUP(AF$2,$BO$127:$BP$138,2,FALSE)","v":0},{"$f":"'Budget FCFA'!AG200/VLOOKUP(AG$2,$BO$127:$BP$138,2,FALSE)","v":0},{"$f":"'Budget FCFA'!AH200/VLOOKUP(AH$2,$BO$127:$BP$138,2,FALSE)","v":0},{"$f":"'Budget FCFA'!AI200/VLOOKUP(AI$2,$BO$127:$BP$138,2,FALSE)","v":0},{"$f":"'Budget FCFA'!AJ200/VLOOKUP(AJ$2,$BO$127:$BP$138,2,FALSE)","v":0},{"$f":"'Budget FCFA'!AK200/VLOOKUP(AK$2,$BO$127:$BP$138,2,FALSE)","v":0},{"$f":"'Budget FCFA'!AL200/VLOOKUP(AL$2,$BO$127:$BP$138,2,FALSE)","v":0},{"$f":"'Budget FCFA'!AM200/VLOOKUP(AM$2,$BO$127:$BP$138,2,FALSE)","v":0},{"$f":"'Budget FCFA'!AN200/VLOOKUP(AN$2,$BO$127:$BP$138,2,FALSE)","v":0},{"$f":"'Budget FCFA'!AO200/VLOOKUP(AO$2,$BO$127:$BP$138,2,FALSE)","v":0},{"$f":"'Budget FCFA'!AP200/VLOOKUP(AP$2,$BO$127:$BP$138,2,FALSE)","v":0},{"$f":"'Budget FCFA'!#REF!/VLOOKUP(AQ$2,$BO$127:$BP$138,2,FALSE)","v":{"$error":"#REF!"}},{"$f":"'Budget FCFA'!#REF!/VLOOKUP(AR$2,$BO$127:$BP$138,2,FALSE)","v":{"$error":"#REF!"}},{"$f":"'Budget FCFA'!#REF!/VLOOKUP(AS$2,$BO$127:$BP$138,2,FALSE)","v":{"$error":"#REF!"}},{"$f":"'Budget FCFA'!#REF!/VLOOKUP(AT$2,$BO$127:$BP$138,2,FALSE)","v":{"$error":"#REF!"}},{"$f":"'Budget FCFA'!#REF!/VLOOKUP(AU$2,$BO$127:$BP$138,2,FALSE)","v":{"$error":"#REF!"}},{"$f":"'Budget FCFA'!#REF!/VLOOKUP(AV$2,$BO$127:$BP$138,2,FALSE)","v":{"$error":"#REF!"}},{"$f":"'Budget FCFA'!#REF!/VLOOKUP(AW$2,$BO$127:$BP$138,2,FALSE)","v":{"$error":"#REF!"}},{"$f":"'Budget FCFA'!#REF!/VLOOKUP(AX$2,$BO$127:$BP$138,2,FALSE)","v":{"$error":"#REF!"}},{"$f":"'Budget FCFA'!#REF!/VLOOKUP(AY$2,$BO$127:$BP$138,2,FALSE)","v":{"$error":"#REF!"}},{"$f":"'Budget FCFA'!#REF!/VLOOKUP(AZ$2,$BO$127:$BP$138,2,FALSE)","v":{"$error":"#REF!"}},{"$f":"'Budget FCFA'!#REF!/VLOOKUP(BA$2,$BO$127:$BP$138,2,FALSE)","v":{"$error":"#REF!"}},{"$f":"'Budget FCFA'!#REF!/VLOOKUP(BB$2,$BO$127:$BP$138,2,FALSE)","v":{"$error":"#REF!"}},{"$f":"'Budget FCFA'!#REF!/VLOOKUP(BC$2,$BO$127:$BP$138,2,FALSE)","v":{"$error":"#REF!"}},{"$f":"'Budget FCFA'!#REF!/VLOOKUP(BD$2,$BO$127:$BP$138,2,FALSE)","v":{"$error":"#REF!"}},{"$f":"'Budget FCFA'!#REF!/VLOOKUP(BE$2,$BO$127:$BP$138,2,FALSE)","v":{"$error":"#REF!"}},{"$f":"'Budget FCFA'!#REF!/VLOOKUP(BF$2,$BO$127:$BP$138,2,FALSE)","v":{"$error":"#REF!"}},{"$f":"'Budget FCFA'!#REF!/VLOOKUP(BG$2,$BO$127:$BP$138,2,FALSE)","v":{"$error":"#REF!"}},{"$f":"'Budget FCFA'!#REF!/VLOOKUP(BH$2,$BO$127:$BP$138,2,FALSE)","v":{"$error":"#REF!"}},{"$f":"'Budget FCFA'!#REF!/VLOOKUP(BI$2,$BO$127:$BP$138,2,FALSE)","v":{"$error":"#REF!"}},{"$f":"'Budget FCFA'!#REF!/VLOOKUP(BJ$2,$BO$127:$BP$138,2,FALSE)","v":{"$error":"#REF!"}},{"$error":"#REF!"},{"$f":"BK200-'Budget FCFA'!#REF!","v":{"$error":"#REF!"}}]
["PUBFIDEL","ABIDJAN","Production carte de fid",{"$f":"'Budget FCFA'!D201/VLOOKUP(D$2,$BO$127:$BP$138,2,FALSE)","v":0},{"$f":"'Budget FCFA'!E201/VLOOKUP(E$2,$BO$127:$BP$138,2,FALSE)","v":0},{"$f":"'Budget FCFA'!F201/VLOOKUP(F$2,$BO$127:$BP$138,2,FALSE)","v":0},{"$f":"'Budget FCFA'!G201/VLOOKUP(G$2,$BO$127:$BP$138,2,FALSE)","v":0},{"$f":"'Budget FCFA'!H201/VLOOKUP(H$2,$BO$127:$BP$138,2,FALSE)","v":0},{"$f":"'Budget FCFA'!I201/VLOOKUP(I$2,$BO$127:$BP$138,2,FALSE)","v":0},{"$f":"'Budget FCFA'!J201/VLOOKUP(J$2,$BO$127:$BP$138,2,FALSE)","v":0},{"$f":"'Budget FCFA'!K201/VLOOKUP(K$2,$BO$127:$BP$138,2,FALSE)","v":0},{"$f":"'Budget FCFA'!L201/VLOOKUP(L$2,$BO$127:$BP$138,2,FALSE)","v":0},{"$f":"'Budget FCFA'!M201/VLOOKUP(M$2,$BO$127:$BP$138,2,FALSE)","v":0},{"$f":"'Budget FCFA'!N201/VLOOKUP(N$2,$BO$127:$BP$138,2,FALSE)","v":0},{"$f":"'Budget FCFA'!O201/VLOOKUP(O$2,$BO$127:$BP$138,2,FALSE)","v":0},{"$f":"'Budget FCFA'!P201/VLOOKUP(P$2,$BO$127:$BP$138,2,FALSE)","v":0},{"$f":"'Budget FCFA'!Q201/VLOOKUP(Q$2,$BO$127:$BP$138,2,FALSE)","v":0},{"$f":"'Budget FCFA'!R201/VLOOKUP(R$2,$BO$127:$BP$138,2,FALSE)","v":0},{"$f":"'Budget FCFA'!S201/VLOOKUP(S$2,$BO$127:$BP$138,2,FALSE)","v":0},{"$f":"'Budget FCFA'!T201/VLOOKUP(T$2,$BO$127:$BP$138,2,FALSE)","v":0},{"$f":"'Budget FCFA'!U201/VLOOKUP(U$2,$BO$127:$BP$138,2,FALSE)","v":0},{"$f":"'Budget FCFA'!V201/VLOOKUP(V$2,$BO$127:$BP$138,2,FALSE)","v":0},{"$f":"'Budget FCFA'!W201/VLOOKUP(W$2,$BO$127:$BP$138,2,FALSE)","v":0},{"$f":"'Budget FCFA'!X201/VLOOKUP(X$2,$BO$127:$BP$138,2,FALSE)","v":0},{"$f":"'Budget FCFA'!Y201/VLOOKUP(Y$2,$BO$127:$BP$138,2,FALSE)","v":0},{"$f":"'Budget FCFA'!Z201/VLOOKUP(Z$2,$BO$127:$BP$138,2,FALSE)","v":0},{"$f":"'Budget FCFA'!AA201/VLOOKUP(AA$2,$BO$127:$BP$138,2,FALSE)","v":0},{"$f":"'Budget FCFA'!AB201/VLOOKUP(AB$2,$BO$127:$BP$138,2,FALSE)","v":0},{"$f":"'Budget FCFA'!AC201/VLOOKUP(AC$2,$BO$127:$BP$138,2,FALSE)","v":0},{"$f":"'Budget FCFA'!AD201/VLOOKUP(AD$2,$BO$127:$BP$138,2,FALSE)","v":0},{"$f":"'Budget FCFA'!AE201/VLOOKUP(AE$2,$BO$127:$BP$138,2,FALSE)","v":0},{"$f":"'Budget FCFA'!AF201/VLOOKUP(AF$2,$BO$127:$BP$138,2,FALSE)","v":0},{"$f":"'Budget FCFA'!AG201/VLOOKUP(AG$2,$BO$127:$BP$138,2,FALSE)","v":0},{"$f":"'Budget FCFA'!AH201/VLOOKUP(AH$2,$BO$127:$BP$138,2,FALSE)","v":0},{"$f":"'Budget FCFA'!AI201/VLOOKUP(AI$2,$BO$127:$BP$138,2,FALSE)","v":0},{"$f":"'Budget FCFA'!AJ201/VLOOKUP(AJ$2,$BO$127:$BP$138,2,FALSE)","v":0},{"$f":"'Budget FCFA'!AK201/VLOOKUP(AK$2,$BO$127:$BP$138,2,FALSE)","v":0},{"$f":"'Budget FCFA'!AL201/VLOOKUP(AL$2,$BO$127:$BP$138,2,FALSE)","v":0},{"$f":"'Budget FCFA'!AM201/VLOOKUP(AM$2,$BO$127:$BP$138,2,FALSE)","v":0},{"$f":"'Budget FCFA'!AN201/VLOOKUP(AN$2,$BO$127:$BP$138,2,FALSE)","v":0},{"$f":"'Budget FCFA'!AO201/VLOOKUP(AO$2,$BO$127:$BP$138,2,FALSE)","v":0},{"$f":"'Budget FCFA'!AP201/VLOOKUP(AP$2,$BO$127:$BP$138,2,FALSE)","v":0},{"$f":"'Budget FCFA'!#REF!/VLOOKUP(AQ$2,$BO$127:$BP$138,2,FALSE)","v":{"$error":"#REF!"}},{"$f":"'Budget FCFA'!#REF!/VLOOKUP(AR$2,$BO$127:$BP$138,2,FALSE)","v":{"$error":"#REF!"}},{"$f":"'Budget FCFA'!#REF!/VLOOKUP(AS$2,$BO$127:$BP$138,2,FALSE)","v":{"$error":"#REF!"}},{"$f":"'Budget FCFA'!#REF!/VLOOKUP(AT$2,$BO$127:$BP$138,2,FALSE)","v":{"$error":"#REF!"}},{"$f":"'Budget FCFA'!#REF!/VLOOKUP(AU$2,$BO$127:$BP$138,2,FALSE)","v":{"$error":"#REF!"}},{"$f":"'Budget FCFA'!#REF!/VLOOKUP(AV$2,$BO$127:$BP$138,2,FALSE)","v":{"$error":"#REF!"}},{"$f":"'Budget FCFA'!#REF!/VLOOKUP(AW$2,$BO$127:$BP$138,2,FALSE)","v":{"$error":"#REF!"}},{"$f":"'Budget FCFA'!#REF!/VLOOKUP(AX$2,$BO$127:$BP$138,2,FALSE)","v":{"$error":"#REF!"}},{"$f":"'Budget FCFA'!#REF!/VLOOKUP(AY$2,$BO$127:$BP$138,2,FALSE)","v":{"$error":"#REF!"}},{"$f":"'Budget FCFA'!#REF!/VLOOKUP(AZ$2,$BO$127:$BP$138,2,FALSE)","v":{"$error":"#REF!"}},{"$f":"'Budget FCFA'!#REF!/VLOOKUP(BA$2,$BO$127:$BP$138,2,FALSE)","v":{"$error":"#REF!"}},{"$f":"'Budget FCFA'!#REF!/VLOOKUP(BB$2,$BO$127:$BP$138,2,FALSE)","v":{"$error":"#REF!"}},{"$f":"'Budget FCFA'!#REF!/VLOOKUP(BC$2,$BO$127:$BP$138,2,FALSE)","v":{"$error":"#REF!"}},{"$f":"'Budget FCFA'!#REF!/VLOOKUP(BD$2,$BO$127:$BP$138,2,FALSE)","v":{"$error":"#REF!"}},{"$f":"'Budget FCFA'!#REF!/VLOOKUP(BE$2,$BO$127:$BP$138,2,FALSE)","v":{"$error":"#REF!"}},{"$f":"'Budget FCFA'!#REF!/VLOOKUP(BF$2,$BO$127:$BP$138,2,FALSE)","v":{"$error":"#REF!"}},{"$f":"'Budget FCFA'!#REF!/VLOOKUP(BG$2,$BO$127:$BP$138,2,FALSE)","v":{"$error":"#REF!"}},{"$f":"'Budget FCFA'!#REF!/VLOOKUP(BH$2,$BO$127:$BP$138,2,FALSE)","v":{"$error":"#REF!"}},{"$f":"'Budget FCFA'!#REF!/VLOOKUP(BI$2,$BO$127:$BP$138,2,FALSE)","v":{"$error":"#REF!"}},{"$f":"'Budget FCFA'!#REF!/VLOOKUP(BJ$2,$BO$127:$BP$138,2,FALSE)","v":{"$error":"#REF!"}},{"$error":"#REF!"},{"$f":"BK201-'Budget FCFA'!#REF!","v":{"$error":"#REF!"}}]
["PUBFIDEL","BRAZZA","Production carte de fid",{"$f":"'Budget FCFA'!D202/VLOOKUP(D$2,$BO$127:$BP$138,2,FALSE)","v":0},{"$f":"'Budget FCFA'!E202/VLOOKUP(E$2,$BO$127:$BP$138,2,FALSE)","v":0},{"$f":"'Budget FCFA'!F202/VLOOKUP(F$2,$BO$127:$BP$138,2,FALSE)","v":0},{"$f":"'Budget FCFA'!G202/VLOOKUP(G$2,$BO$127:$BP$138,2,FALSE)","v":0},{"$f":"'Budget FCFA'!H202/VLOOKUP(H$2,$BO$127:$BP$138,2,FALSE)","v":0},{"$f":"'Budget FCFA'!I202/VLOOKUP(I$2,$BO$127:$BP$138,2,FALSE)","v":0},{"$f":"'Budget FCFA'!J202/VLOOKUP(J$2,$BO$127:$BP$138,2,FALSE)","v":0},{"$f":"'Budget FCFA'!K202/VLOOKUP(K$2,$BO$127:$BP$138,2,FALSE)","v":0},{"$f":"'Budget FCFA'!L202/VLOOKUP(L$2,$BO$127:$BP$138,2,FALSE)","v":0},{"$f":"'Budget FCFA'!M202/VLOOKUP(M$2,$BO$127:$BP$138,2,FALSE)","v":0},{"$f":"'Budget FCFA'!N202/VLOOKUP(N$2,$BO$127:$BP$138,2,FALSE)","v":0},{"$f":"'Budget FCFA'!O202/VLOOKUP(O$2,$BO$127:$BP$138,2,FALSE)","v":0},{"$f":"'Budget FCFA'!P202/VLOOKUP(P$2,$BO$127:$BP$138,2,FALSE)","v":0},{"$f":"'Budget FCFA'!Q202/VLOOKUP(Q$2,$BO$127:$BP$138,2,FALSE)","v":0},{"$f":"'Budget FCFA'!R202/VLOOKUP(R$2,$BO$127:$BP$138,2,FALSE)","v":0},{"$f":"'Budget FCFA'!S202/VLOOKUP(S$2,$BO$127:$BP$138,2,FALSE)","v":0},{"$f":"'Budget FCFA'!T202/VLOOKUP(T$2,$BO$127:$BP$138,2,FALSE)","v":0},{"$f":"'Budget FCFA'!U202/VLOOKUP(U$2,$BO$127:$BP$138,2,FALSE)","v":0},{"$f":"'Budget FCFA'!V202/VLOOKUP(V$2,$BO$127:$BP$138,2,FALSE)","v":0},{"$f":"'Budget FCFA'!W202/VLOOKUP(W$2,$BO$127:$BP$138,2,FALSE)","v":0},{"$f":"'Budget FCFA'!X202/VLOOKUP(X$2,$BO$127:$BP$138,2,FALSE)","v":0},{"$f":"'Budget FCFA'!Y202/VLOOKUP(Y$2,$BO$127:$BP$138,2,FALSE)","v":0},{"$f":"'Budget FCFA'!Z202/VLOOKUP(Z$2,$BO$127:$BP$138,2,FALSE)","v":0},{"$f":"'Budget FCFA'!AA202/VLOOKUP(AA$2,$BO$127:$BP$138,2,FALSE)","v":0},{"$f":"'Budget FCFA'!AB202/VLOOKUP(AB$2,$BO$127:$BP$138,2,FALSE)","v":0},{"$f":"'Budget FCFA'!AC202/VLOOKUP(AC$2,$BO$127:$BP$138,2,FALSE)","v":0},{"$f":"'Budget FCFA'!AD202/VLOOKUP(AD$2,$BO$127:$BP$138,2,FALSE)","v":0},{"$f":"'Budget FCFA'!AE202/VLOOKUP(AE$2,$BO$127:$BP$138,2,FALSE)","v":0},{"$f":"'Budget FCFA'!AF202/VLOOKUP(AF$2,$BO$127:$BP$138,2,FALSE)","v":0},{"$f":"'Budget FCFA'!AG202/VLOOKUP(AG$2,$BO$127:$BP$138,2,FALSE)","v":0},{"$f":"'Budget FCFA'!AH202/VLOOKUP(AH$2,$BO$127:$BP$138,2,FALSE)","v":0},{"$f":"'Budget FCFA'!AI202/VLOOKUP(AI$2,$BO$127:$BP$138,2,FALSE)","v":0},{"$f":"'Budget FCFA'!AJ202/VLOOKUP(AJ$2,$BO$127:$BP$138,2,FALSE)","v":0},{"$f":"'Budget FCFA'!AK202/VLOOKUP(AK$2,$BO$127:$BP$138,2,FALSE)","v":0},{"$f":"'Budget FCFA'!AL202/VLOOKUP(AL$2,$BO$127:$BP$138,2,FALSE)","v":0},{"$f":"'Budget FCFA'!AM202/VLOOKUP(AM$2,$BO$127:$BP$138,2,FALSE)","v":0},{"$f":"'Budget FCFA'!AN202/VLOOKUP(AN$2,$BO$127:$BP$138,2,FALSE)","v":0},{"$f":"'Budget FCFA'!AO202/VLOOKUP(AO$2,$BO$127:$BP$138,2,FALSE)","v":0},{"$f":"'Budget FCFA'!AP202/VLOOKUP(AP$2,$BO$127:$BP$138,2,FALSE)","v":0},{"$f":"'Budget FCFA'!#REF!/VLOOKUP(AQ$2,$BO$127:$BP$138,2,FALSE)","v":{"$error":"#REF!"}},{"$f":"'Budget FCFA'!#REF!/VLOOKUP(AR$2,$BO$127:$BP$138,2,FALSE)","v":{"$error":"#REF!"}},{"$f":"'Budget FCFA'!#REF!/VLOOKUP(AS$2,$BO$127:$BP$138,2,FALSE)","v":{"$error":"#REF!"}},{"$f":"'Budget FCFA'!#REF!/VLOOKUP(AT$2,$BO$127:$BP$138,2,FALSE)","v":{"$error":"#REF!"}},{"$f":"'Budget FCFA'!#REF!/VLOOKUP(AU$2,$BO$127:$BP$138,2,FALSE)","v":{"$error":"#REF!"}},{"$f":"'Budget FCFA'!#REF!/VLOOKUP(AV$2,$BO$127:$BP$138,2,FALSE)","v":{"$error":"#REF!"}},{"$f":"'Budget FCFA'!#REF!/VLOOKUP(AW$2,$BO$127:$BP$138,2,FALSE)","v":{"$error":"#REF!"}},{"$f":"'Budget FCFA'!#REF!/VLOOKUP(AX$2,$BO$127:$BP$138,2,FALSE)","v":{"$error":"#REF!"}},{"$f":"'Budget FCFA'!#REF!/VLOOKUP(AY$2,$BO$127:$BP$138,2,FALSE)","v":{"$error":"#REF!"}},{"$f":"'Budget FCFA'!#REF!/VLOOKUP(AZ$2,$BO$127:$BP$138,2,FALSE)","v":{"$error":"#REF!"}},{"$f":"'Budget FCFA'!#REF!/VLOOKUP(BA$2,$BO$127:$BP$138,2,FALSE)","v":{"$error":"#REF!"}},{"$f":"'Budget FCFA'!#REF!/VLOOKUP(BB$2,$BO$127:$BP$138,2,FALSE)","v":{"$error":"#REF!"}},{"$f":"'Budget FCFA'!#REF!/VLOOKUP(BC$2,$BO$127:$BP$138,2,FALSE)","v":{"$error":"#REF!"}},{"$f":"'Budget FCFA'!#REF!/VLOOKUP(BD$2,$BO$127:$BP$138,2,FALSE)","v":{"$error":"#REF!"}},{"$f":"'Budget FCFA'!#REF!/VLOOKUP(BE$2,$BO$127:$BP$138,2,FALSE)","v":{"$error":"#REF!"}},{"$f":"'Budget FCFA'!#REF!/VLOOKUP(BF$2,$BO$127:$BP$138,2,FALSE)","v":{"$error":"#REF!"}},{"$f":"'Budget FCFA'!#REF!/VLOOKUP(BG$2,$BO$127:$BP$138,2,FALSE)","v":{"$error":"#REF!"}},{"$f":"'Budget FCFA'!#REF!/VLOOKUP(BH$2,$BO$127:$BP$138,2,FALSE)","v":{"$error":"#REF!"}},{"$f":"'Budget FCFA'!#REF!/VLOOKUP(BI$2,$BO$127:$BP$138,2,FALSE)","v":{"$error":"#REF!"}},{"$f":"'Budget FCFA'!#REF!/VLOOKUP(BJ$2,$BO$127:$BP$138,2,FALSE)","v":{"$error":"#REF!"}},{"$error":"#REF!"},{"$f":"BK202-'Budget FCFA'!#REF!","v":{"$error":"#REF!"}}]
["PUBFIDEL","DAKAR","Production carte de fid",{"$f":"'Budget FCFA'!D203/VLOOKUP(D$2,$BO$127:$BP$138,2,FALSE)","v":0},{"$f":"'Budget FCFA'!E203/VLOOKUP(E$2,$BO$127:$BP$138,2,FALSE)","v":0},{"$f":"'Budget FCFA'!F203/VLOOKUP(F$2,$BO$127:$BP$138,2,FALSE)","v":0},{"$f":"'Budget FCFA'!G203/VLOOKUP(G$2,$BO$127:$BP$138,2,FALSE)","v":0},{"$f":"'Budget FCFA'!H203/VLOOKUP(H$2,$BO$127:$BP$138,2,FALSE)","v":0},{"$f":"'Budget FCFA'!I203/VLOOKUP(I$2,$BO$127:$BP$138,2,FALSE)","v":0},{"$f":"'Budget FCFA'!J203/VLOOKUP(J$2,$BO$127:$BP$138,2,FALSE)","v":0},{"$f":"'Budget FCFA'!K203/VLOOKUP(K$2,$BO$127:$BP$138,2,FALSE)","v":0},{"$f":"'Budget FCFA'!L203/VLOOKUP(L$2,$BO$127:$BP$138,2,FALSE)","v":0},{"$f":"'Budget FCFA'!M203/VLOOKUP(M$2,$BO$127:$BP$138,2,FALSE)","v":0},{"$f":"'Budget FCFA'!N203/VLOOKUP(N$2,$BO$127:$BP$138,2,FALSE)","v":0},{"$f":"'Budget FCFA'!O203/VLOOKUP(O$2,$BO$127:$BP$138,2,FALSE)","v":0},{"$f":"'Budget FCFA'!P203/VLOOKUP(P$2,$BO$127:$BP$138,2,FALSE)","v":0},{"$f":"'Budget FCFA'!Q203/VLOOKUP(Q$2,$BO$127:$BP$138,2,FALSE)","v":0},{"$f":"'Budget FCFA'!R203/VLOOKUP(R$2,$BO$127:$BP$138,2,FALSE)","v":0},{"$f":"'Budget FCFA'!S203/VLOOKUP(S$2,$BO$127:$BP$138,2,FALSE)","v":0},{"$f":"'Budget FCFA'!T203/VLOOKUP(T$2,$BO$127:$BP$138,2,FALSE)","v":0},{"$f":"'Budget FCFA'!U203/VLOOKUP(U$2,$BO$127:$BP$138,2,FALSE)","v":0},{"$f":"'Budget FCFA'!V203/VLOOKUP(V$2,$BO$127:$BP$138,2,FALSE)","v":0},{"$f":"'Budget FCFA'!W203/VLOOKUP(W$2,$BO$127:$BP$138,2,FALSE)","v":0},{"$f":"'Budget FCFA'!X203/VLOOKUP(X$2,$BO$127:$BP$138,2,FALSE)","v":0},{"$f":"'Budget FCFA'!Y203/VLOOKUP(Y$2,$BO$127:$BP$138,2,FALSE)","v":0},{"$f":"'Budget FCFA'!Z203/VLOOKUP(Z$2,$BO$127:$BP$138,2,FALSE)","v":0},{"$f":"'Budget FCFA'!AA203/VLOOKUP(AA$2,$BO$127:$BP$138,2,FALSE)","v":0},{"$f":"'Budget FCFA'!AB203/VLOOKUP(AB$2,$BO$127:$BP$138,2,FALSE)","v":0},{"$f":"'Budget FCFA'!AC203/VLOOKUP(AC$2,$BO$127:$BP$138,2,FALSE)","v":0},{"$f":"'Budget FCFA'!AD203/VLOOKUP(AD$2,$BO$127:$BP$138,2,FALSE)","v":0},{"$f":"'Budget FCFA'!AE203/VLOOKUP(AE$2,$BO$127:$BP$138,2,FALSE)","v":0},{"$f":"'Budget FCFA'!AF203/VLOOKUP(AF$2,$BO$127:$BP$138,2,FALSE)","v":0},{"$f":"'Budget FCFA'!AG203/VLOOKUP(AG$2,$BO$127:$BP$138,2,FALSE)","v":0},{"$f":"'Budget FCFA'!AH203/VLOOKUP(AH$2,$BO$127:$BP$138,2,FALSE)","v":0},{"$f":"'Budget FCFA'!AI203/VLOOKUP(AI$2,$BO$127:$BP$138,2,FALSE)","v":0},{"$f":"'Budget FCFA'!AJ203/VLOOKUP(AJ$2,$BO$127:$BP$138,2,FALSE)","v":0},{"$f":"'Budget FCFA'!AK203/VLOOKUP(AK$2,$BO$127:$BP$138,2,FALSE)","v":0},{"$f":"'Budget FCFA'!AL203/VLOOKUP(AL$2,$BO$127:$BP$138,2,FALSE)","v":0},{"$f":"'Budget FCFA'!AM203/VLOOKUP(AM$2,$BO$127:$BP$138,2,FALSE)","v":0},{"$f":"'Budget FCFA'!AN203/VLOOKUP(AN$2,$BO$127:$BP$138,2,FALSE)","v":0},{"$f":"'Budget FCFA'!AO203/VLOOKUP(AO$2,$BO$127:$BP$138,2,FALSE)","v":0},{"$f":"'Budget FCFA'!AP203/VLOOKUP(AP$2,$BO$127:$BP$138,2,FALSE)","v":0},{"$f":"'Budget FCFA'!#REF!/VLOOKUP(AQ$2,$BO$127:$BP$138,2,FALSE)","v":{"$error":"#REF!"}},{"$f":"'Budget FCFA'!#REF!/VLOOKUP(AR$2,$BO$127:$BP$138,2,FALSE)","v":{"$error":"#REF!"}},{"$f":"'Budget FCFA'!#REF!/VLOOKUP(AS$2,$BO$127:$BP$138,2,FALSE)","v":{"$error":"#REF!"}},{"$f":"'Budget FCFA'!#REF!/VLOOKUP(AT$2,$BO$127:$BP$138,2,FALSE)","v":{"$error":"#REF!"}},{"$f":"'Budget FCFA'!#REF!/VLOOKUP(AU$2,$BO$127:$BP$138,2,FALSE)","v":{"$error":"#REF!"}},{"$f":"'Budget FCFA'!#REF!/VLOOKUP(AV$2,$BO$127:$BP$138,2,FALSE)","v":{"$error":"#REF!"}},{"$f":"'Budget FCFA'!#REF!/VLOOKUP(AW$2,$BO$127:$BP$138,2,FALSE)","v":{"$error":"#REF!"}},{"$f":"'Budget FCFA'!#REF!/VLOOKUP(AX$2,$BO$127:$BP$138,2,FALSE)","v":{"$error":"#REF!"}},{"$f":"'Budget FCFA'!#REF!/VLOOKUP(AY$2,$BO$127:$BP$138,2,FALSE)","v":{"$error":"#REF!"}},{"$f":"'Budget FCFA'!#REF!/VLOOKUP(AZ$2,$BO$127:$BP$138,2,FALSE)","v":{"$error":"#REF!"}},{"$f":"'Budget FCFA'!#REF!/VLOOKUP(BA$2,$BO$127:$BP$138,2,FALSE)","v":{"$error":"#REF!"}},{"$f":"'Budget FCFA'!#REF!/VLOOKUP(BB$2,$BO$127:$BP$138,2,FALSE)","v":{"$error":"#REF!"}},{"$f":"'Budget FCFA'!#REF!/VLOOKUP(BC$2,$BO$127:$BP$138,2,FALSE)","v":{"$error":"#REF!"}},{"$f":"'Budget FCFA'!#REF!/VLOOKUP(BD$2,$BO$127:$BP$138,2,FALSE)","v":{"$error":"#REF!"}},{"$f":"'Budget FCFA'!#REF!/VLOOKUP(BE$2,$BO$127:$BP$138,2,FALSE)","v":{"$error":"#REF!"}},{"$f":"'Budget FCFA'!#REF!/VLOOKUP(BF$2,$BO$127:$BP$138,2,FALSE)","v":{"$error":"#REF!"}},{"$f":"'Budget FCFA'!#REF!/VLOOKUP(BG$2,$BO$127:$BP$138,2,FALSE)","v":{"$error":"#REF!"}},{"$f":"'Budget FCFA'!#REF!/VLOOKUP(BH$2,$BO$127:$BP$138,2,FALSE)","v":{"$error":"#REF!"}},{"$f":"'Budget FCFA'!#REF!/VLOOKUP(BI$2,$BO$127:$BP$138,2,FALSE)","v":{"$error":"#REF!"}},{"$f":"'Budget FCFA'!#REF!/VLOOKUP(BJ$2,$BO$127:$BP$138,2,FALSE)","v":{"$error":"#REF!"}},{"$error":"#REF!"},{"$f":"BK203-'Budget FCFA'!#REF!","v":{"$error":"#REF!"}}]
["PUBFIDEL","LIBREVILLE","Production carte de fid",{"$f":"'Budget FCFA'!D204/VLOOKUP(D$2,$BO$127:$BP$138,2,FALSE)","v":0},{"$f":"'Budget FCFA'!E204/VLOOKUP(E$2,$BO$127:$BP$138,2,FALSE)","v":0},{"$f":"'Budget FCFA'!F204/VLOOKUP(F$2,$BO$127:$BP$138,2,FALSE)","v":0},{"$f":"'Budget FCFA'!G204/VLOOKUP(G$2,$BO$127:$BP$138,2,FALSE)","v":0},{"$f":"'Budget FCFA'!H204/VLOOKUP(H$2,$BO$127:$BP$138,2,FALSE)","v":0},{"$f":"'Budget FCFA'!I204/VLOOKUP(I$2,$BO$127:$BP$138,2,FALSE)","v":0},{"$f":"'Budget FCFA'!J204/VLOOKUP(J$2,$BO$127:$BP$138,2,FALSE)","v":0},{"$f":"'Budget FCFA'!K204/VLOOKUP(K$2,$BO$127:$BP$138,2,FALSE)","v":0},{"$f":"'Budget FCFA'!L204/VLOOKUP(L$2,$BO$127:$BP$138,2,FALSE)","v":0},{"$f":"'Budget FCFA'!M204/VLOOKUP(M$2,$BO$127:$BP$138,2,FALSE)","v":0},{"$f":"'Budget FCFA'!N204/VLOOKUP(N$2,$BO$127:$BP$138,2,FALSE)","v":0},{"$f":"'Budget FCFA'!O204/VLOOKUP(O$2,$BO$127:$BP$138,2,FALSE)","v":0},{"$f":"'Budget FCFA'!P204/VLOOKUP(P$2,$BO$127:$BP$138,2,FALSE)","v":0},{"$f":"'Budget FCFA'!Q204/VLOOKUP(Q$2,$BO$127:$BP$138,2,FALSE)","v":0},{"$f":"'Budget FCFA'!R204/VLOOKUP(R$2,$BO$127:$BP$138,2,FALSE)","v":0},{"$f":"'Budget FCFA'!S204/VLOOKUP(S$2,$BO$127:$BP$138,2,FALSE)","v":0},{"$f":"'Budget FCFA'!T204/VLOOKUP(T$2,$BO$127:$BP$138,2,FALSE)","v":0},{"$f":"'Budget FCFA'!U204/VLOOKUP(U$2,$BO$127:$BP$138,2,FALSE)","v":0},{"$f":"'Budget FCFA'!V204/VLOOKUP(V$2,$BO$127:$BP$138,2,FALSE)","v":0},{"$f":"'Budget FCFA'!W204/VLOOKUP(W$2,$BO$127:$BP$138,2,FALSE)","v":0},{"$f":"'Budget FCFA'!X204/VLOOKUP(X$2,$BO$127:$BP$138,2,FALSE)","v":0},{"$f":"'Budget FCFA'!Y204/VLOOKUP(Y$2,$BO$127:$BP$138,2,FALSE)","v":0},{"$f":"'Budget FCFA'!Z204/VLOOKUP(Z$2,$BO$127:$BP$138,2,FALSE)","v":0},{"$f":"'Budget FCFA'!AA204/VLOOKUP(AA$2,$BO$127:$BP$138,2,FALSE)","v":0},{"$f":"'Budget FCFA'!AB204/VLOOKUP(AB$2,$BO$127:$BP$138,2,FALSE)","v":0},{"$f":"'Budget FCFA'!AC204/VLOOKUP(AC$2,$BO$127:$BP$138,2,FALSE)","v":0},{"$f":"'Budget FCFA'!AD204/VLOOKUP(AD$2,$BO$127:$BP$138,2,FALSE)","v":0},{"$f":"'Budget FCFA'!AE204/VLOOKUP(AE$2,$BO$127:$BP$138,2,FALSE)","v":0},{"$f":"'Budget FCFA'!AF204/VLOOKUP(AF$2,$BO$127:$BP$138,2,FALSE)","v":0},{"$f":"'Budget FCFA'!AG204/VLOOKUP(AG$2,$BO$127:$BP$138,2,FALSE)","v":0},{"$f":"'Budget FCFA'!AH204/VLOOKUP(AH$2,$BO$127:$BP$138,2,FALSE)","v":0},{"$f":"'Budget FCFA'!AI204/VLOOKUP(AI$2,$BO$127:$BP$138,2,FALSE)","v":0},{"$f":"'Budget FCFA'!AJ204/VLOOKUP(AJ$2,$BO$127:$BP$138,2,FALSE)","v":0},{"$f":"'Budget FCFA'!AK204/VLOOKUP(AK$2,$BO$127:$BP$138,2,FALSE)","v":0},{"$f":"'Budget FCFA'!AL204/VLOOKUP(AL$2,$BO$127:$BP$138,2,FALSE)","v":0},{"$f":"'Budget FCFA'!AM204/VLOOKUP(AM$2,$BO$127:$BP$138,2,FALSE)","v":0},{"$f":"'Budget FCFA'!AN204/VLOOKUP(AN$2,$BO$127:$BP$138,2,FALSE)","v":0},{"$f":"'Budget FCFA'!AO204/VLOOKUP(AO$2,$BO$127:$BP$138,2,FALSE)","v":0},{"$f":"'Budget FCFA'!AP204/VLOOKUP(AP$2,$BO$127:$BP$138,2,FALSE)","v":0},{"$f":"'Budget FCFA'!#REF!/VLOOKUP(AQ$2,$BO$127:$BP$138,2,FALSE)","v":{"$error":"#REF!"}},{"$f":"'Budget FCFA'!#REF!/VLOOKUP(AR$2,$BO$127:$BP$138,2,FALSE)","v":{"$error":"#REF!"}},{"$f":"'Budget FCFA'!#REF!/VLOOKUP(AS$2,$BO$127:$BP$138,2,FALSE)","v":{"$error":"#REF!"}},{"$f":"'Budget FCFA'!#REF!/VLOOKUP(AT$2,$BO$127:$BP$138,2,FALSE)","v":{"$error":"#REF!"}},{"$f":"'Budget FCFA'!#REF!/VLOOKUP(AU$2,$BO$127:$BP$138,2,FALSE)","v":{"$error":"#REF!"}},{"$f":"'Budget FCFA'!#REF!/VLOOKUP(AV$2,$BO$127:$BP$138,2,FALSE)","v":{"$error":"#REF!"}},{"$f":"'Budget FCFA'!#REF!/VLOOKUP(AW$2,$BO$127:$BP$138,2,FALSE)","v":{"$error":"#REF!"}},{"$f":"'Budget FCFA'!#REF!/VLOOKUP(AX$2,$BO$127:$BP$138,2,FALSE)","v":{"$error":"#REF!"}},{"$f":"'Budget FCFA'!#REF!/VLOOKUP(AY$2,$BO$127:$BP$138,2,FALSE)","v":{"$error":"#REF!"}},{"$f":"'Budget FCFA'!#REF!/VLOOKUP(AZ$2,$BO$127:$BP$138,2,FALSE)","v":{"$error":"#REF!"}},{"$f":"'Budget FCFA'!#REF!/VLOOKUP(BA$2,$BO$127:$BP$138,2,FALSE)","v":{"$error":"#REF!"}},{"$f":"'Budget FCFA'!#REF!/VLOOKUP(BB$2,$BO$127:$BP$138,2,FALSE)","v":{"$error":"#REF!"}},{"$f":"'Budget FCFA'!#REF!/VLOOKUP(BC$2,$BO$127:$BP$138,2,FALSE)","v":{"$error":"#REF!"}},{"$f":"'Budget FCFA'!#REF!/VLOOKUP(BD$2,$BO$127:$BP$138,2,FALSE)","v":{"$error":"#REF!"}},{"$f":"'Budget FCFA'!#REF!/VLOOKUP(BE$2,$BO$127:$BP$138,2,FALSE)","v":{"$error":"#REF!"}},{"$f":"'Budget FCFA'!#REF!/VLOOKUP(BF$2,$BO$127:$BP$138,2,FALSE)","v":{"$error":"#REF!"}},{"$f":"'Budget FCFA'!#REF!/VLOOKUP(BG$2,$BO$127:$BP$138,2,FALSE)","v":{"$error":"#REF!"}},{"$f":"'Budget FCFA'!#REF!/VLOOKUP(BH$2,$BO$127:$BP$138,2,FALSE)","v":{"$error":"#REF!"}},{"$f":"'Budget FCFA'!#REF!/VLOOKUP(BI$2,$BO$127:$BP$138,2,FALSE)","v":{"$error":"#REF!"}},{"$f":"'Budget FCFA'!#REF!/VLOOKUP(BJ$2,$BO$127:$BP$138,2,FALSE)","v":{"$error":"#REF!"}},{"$error":"#REF!"},{"$f":"BK204-'Budget FCFA'!#REF!","v":{"$error":"#REF!"}}]
["PUBFIDEL","DOUALA","Production carte de fid",{"$f":"'Budget FCFA'!D205/VLOOKUP(D$2,$BO$127:$BP$138,2,FALSE)","v":0},{"$f":"'Budget FCFA'!E205/VLOOKUP(E$2,$BO$127:$BP$138,2,FALSE)","v":0},{"$f":"'Budget FCFA'!F205/VLOOKUP(F$2,$BO$127:$BP$138,2,FALSE)","v":0},{"$f":"'Budget FCFA'!G205/VLOOKUP(G$2,$BO$127:$BP$138,2,FALSE)","v":0},{"$f":"'Budget FCFA'!H205/VLOOKUP(H$2,$BO$127:$BP$138,2,FALSE)","v":0},{"$f":"'Budget FCFA'!I205/VLOOKUP(I$2,$BO$127:$BP$138,2,FALSE)","v":0},{"$f":"'Budget FCFA'!J205/VLOOKUP(J$2,$BO$127:$BP$138,2,FALSE)","v":0},{"$f":"'Budget FCFA'!K205/VLOOKUP(K$2,$BO$127:$BP$138,2,FALSE)","v":0},{"$f":"'Budget FCFA'!L205/VLOOKUP(L$2,$BO$127:$BP$138,2,FALSE)","v":0},{"$f":"'Budget FCFA'!M205/VLOOKUP(M$2,$BO$127:$BP$138,2,FALSE)","v":0},{"$f":"'Budget FCFA'!N205/VLOOKUP(N$2,$BO$127:$BP$138,2,FALSE)","v":0},{"$f":"'Budget FCFA'!O205/VLOOKUP(O$2,$BO$127:$BP$138,2,FALSE)","v":0},{"$f":"'Budget FCFA'!P205/VLOOKUP(P$2,$BO$127:$BP$138,2,FALSE)","v":0},{"$f":"'Budget FCFA'!Q205/VLOOKUP(Q$2,$BO$127:$BP$138,2,FALSE)","v":0},{"$f":"'Budget FCFA'!R205/VLOOKUP(R$2,$BO$127:$BP$138,2,FALSE)","v":0},{"$f":"'Budget FCFA'!S205/VLOOKUP(S$2,$BO$127:$BP$138,2,FALSE)","v":0},{"$f":"'Budget FCFA'!T205/VLOOKUP(T$2,$BO$127:$BP$138,2,FALSE)","v":0},{"$f":"'Budget FCFA'!U205/VLOOKUP(U$2,$BO$127:$BP$138,2,FALSE)","v":0},{"$f":"'Budget FCFA'!V205/VLOOKUP(V$2,$BO$127:$BP$138,2,FALSE)","v":0},{"$f":"'Budget FCFA'!W205/VLOOKUP(W$2,$BO$127:$BP$138,2,FALSE)","v":0},{"$f":"'Budget FCFA'!X205/VLOOKUP(X$2,$BO$127:$BP$138,2,FALSE)","v":0},{"$f":"'Budget FCFA'!Y205/VLOOKUP(Y$2,$BO$127:$BP$138,2,FALSE)","v":0},{"$f":"'Budget FCFA'!Z205/VLOOKUP(Z$2,$BO$127:$BP$138,2,FALSE)","v":0},{"$f":"'Budget FCFA'!AA205/VLOOKUP(AA$2,$BO$127:$BP$138,2,FALSE)","v":0},{"$f":"'Budget FCFA'!AB205/VLOOKUP(AB$2,$BO$127:$BP$138,2,FALSE)","v":0},{"$f":"'Budget FCFA'!AC205/VLOOKUP(AC$2,$BO$127:$BP$138,2,FALSE)","v":0},{"$f":"'Budget FCFA'!AD205/VLOOKUP(AD$2,$BO$127:$BP$138,2,FALSE)","v":0},{"$f":"'Budget FCFA'!AE205/VLOOKUP(AE$2,$BO$127:$BP$138,2,FALSE)","v":0},{"$f":"'Budget FCFA'!AF205/VLOOKUP(AF$2,$BO$127:$BP$138,2,FALSE)","v":0},{"$f":"'Budget FCFA'!AG205/VLOOKUP(AG$2,$BO$127:$BP$138,2,FALSE)","v":0},{"$f":"'Budget FCFA'!AH205/VLOOKUP(AH$2,$BO$127:$BP$138,2,FALSE)","v":0},{"$f":"'Budget FCFA'!AI205/VLOOKUP(AI$2,$BO$127:$BP$138,2,FALSE)","v":0},{"$f":"'Budget FCFA'!AJ205/VLOOKUP(AJ$2,$BO$127:$BP$138,2,FALSE)","v":0},{"$f":"'Budget FCFA'!AK205/VLOOKUP(AK$2,$BO$127:$BP$138,2,FALSE)","v":0},{"$f":"'Budget FCFA'!AL205/VLOOKUP(AL$2,$BO$127:$BP$138,2,FALSE)","v":0},{"$f":"'Budget FCFA'!AM205/VLOOKUP(AM$2,$BO$127:$BP$138,2,FALSE)","v":0},{"$f":"'Budget FCFA'!AN205/VLOOKUP(AN$2,$BO$127:$BP$138,2,FALSE)","v":0},{"$f":"'Budget FCFA'!AO205/VLOOKUP(AO$2,$BO$127:$BP$138,2,FALSE)","v":0},{"$f":"'Budget FCFA'!AP205/VLOOKUP(AP$2,$BO$127:$BP$138,2,FALSE)","v":0},{"$f":"'Budget FCFA'!#REF!/VLOOKUP(AQ$2,$BO$127:$BP$138,2,FALSE)","v":{"$error":"#REF!"}},{"$f":"'Budget FCFA'!#REF!/VLOOKUP(AR$2,$BO$127:$BP$138,2,FALSE)","v":{"$error":"#REF!"}},{"$f":"'Budget FCFA'!#REF!/VLOOKUP(AS$2,$BO$127:$BP$138,2,FALSE)","v":{"$error":"#REF!"}},{"$f":"'Budget FCFA'!#REF!/VLOOKUP(AT$2,$BO$127:$BP$138,2,FALSE)","v":{"$error":"#REF!"}},{"$f":"'Budget FCFA'!#REF!/VLOOKUP(AU$2,$BO$127:$BP$138,2,FALSE)","v":{"$error":"#REF!"}},{"$f":"'Budget FCFA'!#REF!/VLOOKUP(AV$2,$BO$127:$BP$138,2,FALSE)","v":{"$error":"#REF!"}},{"$f":"'Budget FCFA'!#REF!/VLOOKUP(AW$2,$BO$127:$BP$138,2,FALSE)","v":{"$error":"#REF!"}},{"$f":"'Budget FCFA'!#REF!/VLOOKUP(AX$2,$BO$127:$BP$138,2,FALSE)","v":{"$error":"#REF!"}},{"$f":"'Budget FCFA'!#REF!/VLOOKUP(AY$2,$BO$127:$BP$138,2,FALSE)","v":{"$error":"#REF!"}},{"$f":"'Budget FCFA'!#REF!/VLOOKUP(AZ$2,$BO$127:$BP$138,2,FALSE)","v":{"$error":"#REF!"}},{"$f":"'Budget FCFA'!#REF!/VLOOKUP(BA$2,$BO$127:$BP$138,2,FALSE)","v":{"$error":"#REF!"}},{"$f":"'Budget FCFA'!#REF!/VLOOKUP(BB$2,$BO$127:$BP$138,2,FALSE)","v":{"$error":"#REF!"}},{"$f":"'Budget FCFA'!#REF!/VLOOKUP(BC$2,$BO$127:$BP$138,2,FALSE)","v":{"$error":"#REF!"}},{"$f":"'Budget FCFA'!#REF!/VLOOKUP(BD$2,$BO$127:$BP$138,2,FALSE)","v":{"$error":"#REF!"}},{"$f":"'Budget FCFA'!#REF!/VLOOKUP(BE$2,$BO$127:$BP$138,2,FALSE)","v":{"$error":"#REF!"}},{"$f":"'Budget FCFA'!#REF!/VLOOKUP(BF$2,$BO$127:$BP$138,2,FALSE)","v":{"$error":"#REF!"}},{"$f":"'Budget FCFA'!#REF!/VLOOKUP(BG$2,$BO$127:$BP$138,2,FALSE)","v":{"$error":"#REF!"}},{"$f":"'Budget FCFA'!#REF!/VLOOKUP(BH$2,$BO$127:$BP$138,2,FALSE)","v":{"$error":"#REF!"}},{"$f":"'Budget FCFA'!#REF!/VLOOKUP(BI$2,$BO$127:$BP$138,2,FALSE)","v":{"$error":"#REF!"}},{"$f":"'Budget FCFA'!#REF!/VLOOKUP(BJ$2,$BO$127:$BP$138,2,FALSE)","v":{"$error":"#REF!"}},{"$error":"#REF!"},{"$f":"BK205-'Budget FCFA'!#REF!","v":{"$error":"#REF!"}}]
["PUBFIDEL","ABIDJAN","PLV Carte de Fid",{"$f":"'Budget FCFA'!D206/VLOOKUP(D$2,$BO$127:$BP$138,2,FALSE)","v":0},{"$f":"'Budget FCFA'!E206/VLOOKUP(E$2,$BO$127:$BP$138,2,FALSE)","v":0},{"$f":"'Budget FCFA'!F206/VLOOKUP(F$2,$BO$127:$BP$138,2,FALSE)","v":0},{"$f":"'Budget FCFA'!G206/VLOOKUP(G$2,$BO$127:$BP$138,2,FALSE)","v":0},{"$f":"'Budget FCFA'!H206/VLOOKUP(H$2,$BO$127:$BP$138,2,FALSE)","v":0},{"$f":"'Budget FCFA'!I206/VLOOKUP(I$2,$BO$127:$BP$138,2,FALSE)","v":0},{"$f":"'Budget FCFA'!J206/VLOOKUP(J$2,$BO$127:$BP$138,2,FALSE)","v":0},{"$f":"'Budget FCFA'!K206/VLOOKUP(K$2,$BO$127:$BP$138,2,FALSE)","v":0},{"$f":"'Budget FCFA'!L206/VLOOKUP(L$2,$BO$127:$BP$138,2,FALSE)","v":0},{"$f":"'Budget FCFA'!M206/VLOOKUP(M$2,$BO$127:$BP$138,2,FALSE)","v":0},{"$f":"'Budget FCFA'!N206/VLOOKUP(N$2,$BO$127:$BP$138,2,FALSE)","v":0},{"$f":"'Budget FCFA'!O206/VLOOKUP(O$2,$BO$127:$BP$138,2,FALSE)","v":0},{"$f":"'Budget FCFA'!P206/VLOOKUP(P$2,$BO$127:$BP$138,2,FALSE)","v":0},{"$f":"'Budget FCFA'!Q206/VLOOKUP(Q$2,$BO$127:$BP$138,2,FALSE)","v":0},{"$f":"'Budget FCFA'!R206/VLOOKUP(R$2,$BO$127:$BP$138,2,FALSE)","v":0},{"$f":"'Budget FCFA'!S206/VLOOKUP(S$2,$BO$127:$BP$138,2,FALSE)","v":0},{"$f":"'Budget FCFA'!T206/VLOOKUP(T$2,$BO$127:$BP$138,2,FALSE)","v":0},{"$f":"'Budget FCFA'!U206/VLOOKUP(U$2,$BO$127:$BP$138,2,FALSE)","v":0},{"$f":"'Budget FCFA'!V206/VLOOKUP(V$2,$BO$127:$BP$138,2,FALSE)","v":0},{"$f":"'Budget FCFA'!W206/VLOOKUP(W$2,$BO$127:$BP$138,2,FALSE)","v":0},{"$f":"'Budget FCFA'!X206/VLOOKUP(X$2,$BO$127:$BP$138,2,FALSE)","v":0},{"$f":"'Budget FCFA'!Y206/VLOOKUP(Y$2,$BO$127:$BP$138,2,FALSE)","v":0},{"$f":"'Budget FCFA'!Z206/VLOOKUP(Z$2,$BO$127:$BP$138,2,FALSE)","v":0},{"$f":"'Budget FCFA'!AA206/VLOOKUP(AA$2,$BO$127:$BP$138,2,FALSE)","v":0},{"$f":"'Budget FCFA'!AB206/VLOOKUP(AB$2,$BO$127:$BP$138,2,FALSE)","v":0},{"$f":"'Budget FCFA'!AC206/VLOOKUP(AC$2,$BO$127:$BP$138,2,FALSE)","v":0},{"$f":"'Budget FCFA'!AD206/VLOOKUP(AD$2,$BO$127:$BP$138,2,FALSE)","v":0},{"$f":"'Budget FCFA'!AE206/VLOOKUP(AE$2,$BO$127:$BP$138,2,FALSE)","v":0},{"$f":"'Budget FCFA'!AF206/VLOOKUP(AF$2,$BO$127:$BP$138,2,FALSE)","v":0},{"$f":"'Budget FCFA'!AG206/VLOOKUP(AG$2,$BO$127:$BP$138,2,FALSE)","v":0},{"$f":"'Budget FCFA'!AH206/VLOOKUP(AH$2,$BO$127:$BP$138,2,FALSE)","v":0},{"$f":"'Budget FCFA'!AI206/VLOOKUP(AI$2,$BO$127:$BP$138,2,FALSE)","v":0},{"$f":"'Budget FCFA'!AJ206/VLOOKUP(AJ$2,$BO$127:$BP$138,2,FALSE)","v":0},{"$f":"'Budget FCFA'!AK206/VLOOKUP(AK$2,$BO$127:$BP$138,2,FALSE)","v":0},{"$f":"'Budget FCFA'!AL206/VLOOKUP(AL$2,$BO$127:$BP$138,2,FALSE)","v":0},{"$f":"'Budget FCFA'!AM206/VLOOKUP(AM$2,$BO$127:$BP$138,2,FALSE)","v":0},{"$f":"'Budget FCFA'!AN206/VLOOKUP(AN$2,$BO$127:$BP$138,2,FALSE)","v":0},{"$f":"'Budget FCFA'!AO206/VLOOKUP(AO$2,$BO$127:$BP$138,2,FALSE)","v":0},{"$f":"'Budget FCFA'!AP206/VLOOKUP(AP$2,$BO$127:$BP$138,2,FALSE)","v":0},{"$f":"'Budget FCFA'!#REF!/VLOOKUP(AQ$2,$BO$127:$BP$138,2,FALSE)","v":{"$error":"#REF!"}},{"$f":"'Budget FCFA'!#REF!/VLOOKUP(AR$2,$BO$127:$BP$138,2,FALSE)","v":{"$error":"#REF!"}},{"$f":"'Budget FCFA'!#REF!/VLOOKUP(AS$2,$BO$127:$BP$138,2,FALSE)","v":{"$error":"#REF!"}},{"$f":"'Budget FCFA'!#REF!/VLOOKUP(AT$2,$BO$127:$BP$138,2,FALSE)","v":{"$error":"#REF!"}},{"$f":"'Budget FCFA'!#REF!/VLOOKUP(AU$2,$BO$127:$BP$138,2,FALSE)","v":{"$error":"#REF!"}},{"$f":"'Budget FCFA'!#REF!/VLOOKUP(AV$2,$BO$127:$BP$138,2,FALSE)","v":{"$error":"#REF!"}},{"$f":"'Budget FCFA'!#REF!/VLOOKUP(AW$2,$BO$127:$BP$138,2,FALSE)","v":{"$error":"#REF!"}},{"$f":"'Budget FCFA'!#REF!/VLOOKUP(AX$2,$BO$127:$BP$138,2,FALSE)","v":{"$error":"#REF!"}},{"$f":"'Budget FCFA'!#REF!/VLOOKUP(AY$2,$BO$127:$BP$138,2,FALSE)","v":{"$error":"#REF!"}},{"$f":"'Budget FCFA'!#REF!/VLOOKUP(AZ$2,$BO$127:$BP$138,2,FALSE)","v":{"$error":"#REF!"}},{"$f":"'Budget FCFA'!#REF!/VLOOKUP(BA$2,$BO$127:$BP$138,2,FALSE)","v":{"$error":"#REF!"}},{"$f":"'Budget FCFA'!#REF!/VLOOKUP(BB$2,$BO$127:$BP$138,2,FALSE)","v":{"$error":"#REF!"}},{"$f":"'Budget FCFA'!#REF!/VLOOKUP(BC$2,$BO$127:$BP$138,2,FALSE)","v":{"$error":"#REF!"}},{"$f":"'Budget FCFA'!#REF!/VLOOKUP(BD$2,$BO$127:$BP$138,2,FALSE)","v":{"$error":"#REF!"}},{"$f":"'Budget FCFA'!#REF!/VLOOKUP(BE$2,$BO$127:$BP$138,2,FALSE)","v":{"$error":"#REF!"}},{"$f":"'Budget FCFA'!#REF!/VLOOKUP(BF$2,$BO$127:$BP$138,2,FALSE)","v":{"$error":"#REF!"}},{"$f":"'Budget FCFA'!#REF!/VLOOKUP(BG$2,$BO$127:$BP$138,2,FALSE)","v":{"$error":"#REF!"}},{"$f":"'Budget FCFA'!#REF!/VLOOKUP(BH$2,$BO$127:$BP$138,2,FALSE)","v":{"$error":"#REF!"}},{"$f":"'Budget FCFA'!#REF!/VLOOKUP(BI$2,$BO$127:$BP$138,2,FALSE)","v":{"$error":"#REF!"}},{"$f":"'Budget FCFA'!#REF!/VLOOKUP(BJ$2,$BO$127:$BP$138,2,FALSE)","v":{"$error":"#REF!"}},{"$error":"#REF!"},{"$f":"BK206-'Budget FCFA'!#REF!","v":{"$error":"#REF!"}}]
["PUBFIDEL","BRAZZA","PLV Carte de Fid",{"$f":"'Budget FCFA'!D207/VLOOKUP(D$2,$BO$127:$BP$138,2,FALSE)","v":0},{"$f":"'Budget FCFA'!E207/VLOOKUP(E$2,$BO$127:$BP$138,2,FALSE)","v":0},{"$f":"'Budget FCFA'!F207/VLOOKUP(F$2,$BO$127:$BP$138,2,FALSE)","v":0},{"$f":"'Budget FCFA'!G207/VLOOKUP(G$2,$BO$127:$BP$138,2,FALSE)","v":0},{"$f":"'Budget FCFA'!H207/VLOOKUP(H$2,$BO$127:$BP$138,2,FALSE)","v":0},{"$f":"'Budget FCFA'!I207/VLOOKUP(I$2,$BO$127:$BP$138,2,FALSE)","v":0},{"$f":"'Budget FCFA'!J207/VLOOKUP(J$2,$BO$127:$BP$138,2,FALSE)","v":0},{"$f":"'Budget FCFA'!K207/VLOOKUP(K$2,$BO$127:$BP$138,2,FALSE)","v":0},{"$f":"'Budget FCFA'!L207/VLOOKUP(L$2,$BO$127:$BP$138,2,FALSE)","v":0},{"$f":"'Budget FCFA'!M207/VLOOKUP(M$2,$BO$127:$BP$138,2,FALSE)","v":0},{"$f":"'Budget FCFA'!N207/VLOOKUP(N$2,$BO$127:$BP$138,2,FALSE)","v":0},{"$f":"'Budget FCFA'!O207/VLOOKUP(O$2,$BO$127:$BP$138,2,FALSE)","v":0},{"$f":"'Budget FCFA'!P207/VLOOKUP(P$2,$BO$127:$BP$138,2,FALSE)","v":0},{"$f":"'Budget FCFA'!Q207/VLOOKUP(Q$2,$BO$127:$BP$138,2,FALSE)","v":0},{"$f":"'Budget FCFA'!R207/VLOOKUP(R$2,$BO$127:$BP$138,2,FALSE)","v":0},{"$f":"'Budget FCFA'!S207/VLOOKUP(S$2,$BO$127:$BP$138,2,FALSE)","v":0},{"$f":"'Budget FCFA'!T207/VLOOKUP(T$2,$BO$127:$BP$138,2,FALSE)","v":0},{"$f":"'Budget FCFA'!U207/VLOOKUP(U$2,$BO$127:$BP$138,2,FALSE)","v":0},{"$f":"'Budget FCFA'!V207/VLOOKUP(V$2,$BO$127:$BP$138,2,FALSE)","v":0},{"$f":"'Budget FCFA'!W207/VLOOKUP(W$2,$BO$127:$BP$138,2,FALSE)","v":0},{"$f":"'Budget FCFA'!X207/VLOOKUP(X$2,$BO$127:$BP$138,2,FALSE)","v":0},{"$f":"'Budget FCFA'!Y207/VLOOKUP(Y$2,$BO$127:$BP$138,2,FALSE)","v":0},{"$f":"'Budget FCFA'!Z207/VLOOKUP(Z$2,$BO$127:$BP$138,2,FALSE)","v":0},{"$f":"'Budget FCFA'!AA207/VLOOKUP(AA$2,$BO$127:$BP$138,2,FALSE)","v":0},{"$f":"'Budget FCFA'!AB207/VLOOKUP(AB$2,$BO$127:$BP$138,2,FALSE)","v":0},{"$f":"'Budget FCFA'!AC207/VLOOKUP(AC$2,$BO$127:$BP$138,2,FALSE)","v":0},{"$f":"'Budget FCFA'!AD207/VLOOKUP(AD$2,$BO$127:$BP$138,2,FALSE)","v":0},{"$f":"'Budget FCFA'!AE207/VLOOKUP(AE$2,$BO$127:$BP$138,2,FALSE)","v":0},{"$f":"'Budget FCFA'!AF207/VLOOKUP(AF$2,$BO$127:$BP$138,2,FALSE)","v":0},{"$f":"'Budget FCFA'!AG207/VLOOKUP(AG$2,$BO$127:$BP$138,2,FALSE)","v":0},{"$f":"'Budget FCFA'!AH207/VLOOKUP(AH$2,$BO$127:$BP$138,2,FALSE)","v":0},{"$f":"'Budget FCFA'!AI207/VLOOKUP(AI$2,$BO$127:$BP$138,2,FALSE)","v":0},{"$f":"'Budget FCFA'!AJ207/VLOOKUP(AJ$2,$BO$127:$BP$138,2,FALSE)","v":0},{"$f":"'Budget FCFA'!AK207/VLOOKUP(AK$2,$BO$127:$BP$138,2,FALSE)","v":0},{"$f":"'Budget FCFA'!AL207/VLOOKUP(AL$2,$BO$127:$BP$138,2,FALSE)","v":0},{"$f":"'Budget FCFA'!AM207/VLOOKUP(AM$2,$BO$127:$BP$138,2,FALSE)","v":0},{"$f":"'Budget FCFA'!AN207/VLOOKUP(AN$2,$BO$127:$BP$138,2,FALSE)","v":0},{"$f":"'Budget FCFA'!AO207/VLOOKUP(AO$2,$BO$127:$BP$138,2,FALSE)","v":0},{"$f":"'Budget FCFA'!AP207/VLOOKUP(AP$2,$BO$127:$BP$138,2,FALSE)","v":0},{"$f":"'Budget FCFA'!#REF!/VLOOKUP(AQ$2,$BO$127:$BP$138,2,FALSE)","v":{"$error":"#REF!"}},{"$f":"'Budget FCFA'!#REF!/VLOOKUP(AR$2,$BO$127:$BP$138,2,FALSE)","v":{"$error":"#REF!"}},{"$f":"'Budget FCFA'!#REF!/VLOOKUP(AS$2,$BO$127:$BP$138,2,FALSE)","v":{"$error":"#REF!"}},{"$f":"'Budget FCFA'!#REF!/VLOOKUP(AT$2,$BO$127:$BP$138,2,FALSE)","v":{"$error":"#REF!"}},{"$f":"'Budget FCFA'!#REF!/VLOOKUP(AU$2,$BO$127:$BP$138,2,FALSE)","v":{"$error":"#REF!"}},{"$f":"'Budget FCFA'!#REF!/VLOOKUP(AV$2,$BO$127:$BP$138,2,FALSE)","v":{"$error":"#REF!"}},{"$f":"'Budget FCFA'!#REF!/VLOOKUP(AW$2,$BO$127:$BP$138,2,FALSE)","v":{"$error":"#REF!"}},{"$f":"'Budget FCFA'!#REF!/VLOOKUP(AX$2,$BO$127:$BP$138,2,FALSE)","v":{"$error":"#REF!"}},{"$f":"'Budget FCFA'!#REF!/VLOOKUP(AY$2,$BO$127:$BP$138,2,FALSE)","v":{"$error":"#REF!"}},{"$f":"'Budget FCFA'!#REF!/VLOOKUP(AZ$2,$BO$127:$BP$138,2,FALSE)","v":{"$error":"#REF!"}},{"$f":"'Budget FCFA'!#REF!/VLOOKUP(BA$2,$BO$127:$BP$138,2,FALSE)","v":{"$error":"#REF!"}},{"$f":"'Budget FCFA'!#REF!/VLOOKUP(BB$2,$BO$127:$BP$138,2,FALSE)","v":{"$error":"#REF!"}},{"$f":"'Budget FCFA'!#REF!/VLOOKUP(BC$2,$BO$127:$BP$138,2,FALSE)","v":{"$error":"#REF!"}},{"$f":"'Budget FCFA'!#REF!/VLOOKUP(BD$2,$BO$127:$BP$138,2,FALSE)","v":{"$error":"#REF!"}},{"$f":"'Budget FCFA'!#REF!/VLOOKUP(BE$2,$BO$127:$BP$138,2,FALSE)","v":{"$error":"#REF!"}},{"$f":"'Budget FCFA'!#REF!/VLOOKUP(BF$2,$BO$127:$BP$138,2,FALSE)","v":{"$error":"#REF!"}},{"$f":"'Budget FCFA'!#REF!/VLOOKUP(BG$2,$BO$127:$BP$138,2,FALSE)","v":{"$error":"#REF!"}},{"$f":"'Budget FCFA'!#REF!/VLOOKUP(BH$2,$BO$127:$BP$138,2,FALSE)","v":{"$error":"#REF!"}},{"$f":"'Budget FCFA'!#REF!/VLOOKUP(BI$2,$BO$127:$BP$138,2,FALSE)","v":{"$error":"#REF!"}},{"$f":"'Budget FCFA'!#REF!/VLOOKUP(BJ$2,$BO$127:$BP$138,2,FALSE)","v":{"$error":"#REF!"}},{"$error":"#REF!"},{"$f":"BK207-'Budget FCFA'!#REF!","v":{"$error":"#REF!"}}]
["PUBFIDEL","DAKAR","PLV Carte de Fid",{"$f":"'Budget FCFA'!D208/VLOOKUP(D$2,$BO$127:$BP$138,2,FALSE)","v":0},{"$f":"'Budget FCFA'!E208/VLOOKUP(E$2,$BO$127:$BP$138,2,FALSE)","v":0},{"$f":"'Budget FCFA'!F208/VLOOKUP(F$2,$BO$127:$BP$138,2,FALSE)","v":0},{"$f":"'Budget FCFA'!G208/VLOOKUP(G$2,$BO$127:$BP$138,2,FALSE)","v":0},{"$f":"'Budget FCFA'!H208/VLOOKUP(H$2,$BO$127:$BP$138,2,FALSE)","v":0},{"$f":"'Budget FCFA'!I208/VLOOKUP(I$2,$BO$127:$BP$138,2,FALSE)","v":0},{"$f":"'Budget FCFA'!J208/VLOOKUP(J$2,$BO$127:$BP$138,2,FALSE)","v":0},{"$f":"'Budget FCFA'!K208/VLOOKUP(K$2,$BO$127:$BP$138,2,FALSE)","v":0},{"$f":"'Budget FCFA'!L208/VLOOKUP(L$2,$BO$127:$BP$138,2,FALSE)","v":0},{"$f":"'Budget FCFA'!M208/VLOOKUP(M$2,$BO$127:$BP$138,2,FALSE)","v":0},{"$f":"'Budget FCFA'!N208/VLOOKUP(N$2,$BO$127:$BP$138,2,FALSE)","v":0},{"$f":"'Budget FCFA'!O208/VLOOKUP(O$2,$BO$127:$BP$138,2,FALSE)","v":0},{"$f":"'Budget FCFA'!P208/VLOOKUP(P$2,$BO$127:$BP$138,2,FALSE)","v":0},{"$f":"'Budget FCFA'!Q208/VLOOKUP(Q$2,$BO$127:$BP$138,2,FALSE)","v":0},{"$f":"'Budget FCFA'!R208/VLOOKUP(R$2,$BO$127:$BP$138,2,FALSE)","v":0},{"$f":"'Budget FCFA'!S208/VLOOKUP(S$2,$BO$127:$BP$138,2,FALSE)","v":0},{"$f":"'Budget FCFA'!T208/VLOOKUP(T$2,$BO$127:$BP$138,2,FALSE)","v":0},{"$f":"'Budget FCFA'!U208/VLOOKUP(U$2,$BO$127:$BP$138,2,FALSE)","v":0},{"$f":"'Budget FCFA'!V208/VLOOKUP(V$2,$BO$127:$BP$138,2,FALSE)","v":0},{"$f":"'Budget FCFA'!W208/VLOOKUP(W$2,$BO$127:$BP$138,2,FALSE)","v":0},{"$f":"'Budget FCFA'!X208/VLOOKUP(X$2,$BO$127:$BP$138,2,FALSE)","v":0},{"$f":"'Budget FCFA'!Y208/VLOOKUP(Y$2,$BO$127:$BP$138,2,FALSE)","v":0},{"$f":"'Budget FCFA'!Z208/VLOOKUP(Z$2,$BO$127:$BP$138,2,FALSE)","v":0},{"$f":"'Budget FCFA'!AA208/VLOOKUP(AA$2,$BO$127:$BP$138,2,FALSE)","v":0},{"$f":"'Budget FCFA'!AB208/VLOOKUP(AB$2,$BO$127:$BP$138,2,FALSE)","v":0},{"$f":"'Budget FCFA'!AC208/VLOOKUP(AC$2,$BO$127:$BP$138,2,FALSE)","v":0},{"$f":"'Budget FCFA'!AD208/VLOOKUP(AD$2,$BO$127:$BP$138,2,FALSE)","v":0},{"$f":"'Budget FCFA'!AE208/VLOOKUP(AE$2,$BO$127:$BP$138,2,FALSE)","v":0},{"$f":"'Budget FCFA'!AF208/VLOOKUP(AF$2,$BO$127:$BP$138,2,FALSE)","v":0},{"$f":"'Budget FCFA'!AG208/VLOOKUP(AG$2,$BO$127:$BP$138,2,FALSE)","v":0},{"$f":"'Budget FCFA'!AH208/VLOOKUP(AH$2,$BO$127:$BP$138,2,FALSE)","v":0},{"$f":"'Budget FCFA'!AI208/VLOOKUP(AI$2,$BO$127:$BP$138,2,FALSE)","v":0},{"$f":"'Budget FCFA'!AJ208/VLOOKUP(AJ$2,$BO$127:$BP$138,2,FALSE)","v":0},{"$f":"'Budget FCFA'!AK208/VLOOKUP(AK$2,$BO$127:$BP$138,2,FALSE)","v":0},{"$f":"'Budget FCFA'!AL208/VLOOKUP(AL$2,$BO$127:$BP$138,2,FALSE)","v":0},{"$f":"'Budget FCFA'!AM208/VLOOKUP(AM$2,$BO$127:$BP$138,2,FALSE)","v":0},{"$f":"'Budget FCFA'!AN208/VLOOKUP(AN$2,$BO$127:$BP$138,2,FALSE)","v":0},{"$f":"'Budget FCFA'!AO208/VLOOKUP(AO$2,$BO$127:$BP$138,2,FALSE)","v":0},{"$f":"'Budget FCFA'!AP208/VLOOKUP(AP$2,$BO$127:$BP$138,2,FALSE)","v":0},{"$f":"'Budget FCFA'!#REF!/VLOOKUP(AQ$2,$BO$127:$BP$138,2,FALSE)","v":{"$error":"#REF!"}},{"$f":"'Budget FCFA'!#REF!/VLOOKUP(AR$2,$BO$127:$BP$138,2,FALSE)","v":{"$error":"#REF!"}},{"$f":"'Budget FCFA'!#REF!/VLOOKUP(AS$2,$BO$127:$BP$138,2,FALSE)","v":{"$error":"#REF!"}},{"$f":"'Budget FCFA'!#REF!/VLOOKUP(AT$2,$BO$127:$BP$138,2,FALSE)","v":{"$error":"#REF!"}},{"$f":"'Budget FCFA'!#REF!/VLOOKUP(AU$2,$BO$127:$BP$138,2,FALSE)","v":{"$error":"#REF!"}},{"$f":"'Budget FCFA'!#REF!/VLOOKUP(AV$2,$BO$127:$BP$138,2,FALSE)","v":{"$error":"#REF!"}},{"$f":"'Budget FCFA'!#REF!/VLOOKUP(AW$2,$BO$127:$BP$138,2,FALSE)","v":{"$error":"#REF!"}},{"$f":"'Budget FCFA'!#REF!/VLOOKUP(AX$2,$BO$127:$BP$138,2,FALSE)","v":{"$error":"#REF!"}},{"$f":"'Budget FCFA'!#REF!/VLOOKUP(AY$2,$BO$127:$BP$138,2,FALSE)","v":{"$error":"#REF!"}},{"$f":"'Budget FCFA'!#REF!/VLOOKUP(AZ$2,$BO$127:$BP$138,2,FALSE)","v":{"$error":"#REF!"}},{"$f":"'Budget FCFA'!#REF!/VLOOKUP(BA$2,$BO$127:$BP$138,2,FALSE)","v":{"$error":"#REF!"}},{"$f":"'Budget FCFA'!#REF!/VLOOKUP(BB$2,$BO$127:$BP$138,2,FALSE)","v":{"$error":"#REF!"}},{"$f":"'Budget FCFA'!#REF!/VLOOKUP(BC$2,$BO$127:$BP$138,2,FALSE)","v":{"$error":"#REF!"}},{"$f":"'Budget FCFA'!#REF!/VLOOKUP(BD$2,$BO$127:$BP$138,2,FALSE)","v":{"$error":"#REF!"}},{"$f":"'Budget FCFA'!#REF!/VLOOKUP(BE$2,$BO$127:$BP$138,2,FALSE)","v":{"$error":"#REF!"}},{"$f":"'Budget FCFA'!#REF!/VLOOKUP(BF$2,$BO$127:$BP$138,2,FALSE)","v":{"$error":"#REF!"}},{"$f":"'Budget FCFA'!#REF!/VLOOKUP(BG$2,$BO$127:$BP$138,2,FALSE)","v":{"$error":"#REF!"}},{"$f":"'Budget FCFA'!#REF!/VLOOKUP(BH$2,$BO$127:$BP$138,2,FALSE)","v":{"$error":"#REF!"}},{"$f":"'Budget FCFA'!#REF!/VLOOKUP(BI$2,$BO$127:$BP$138,2,FALSE)","v":{"$error":"#REF!"}},{"$f":"'Budget FCFA'!#REF!/VLOOKUP(BJ$2,$BO$127:$BP$138,2,FALSE)","v":{"$error":"#REF!"}},{"$error":"#REF!"},{"$f":"BK208-'Budget FCFA'!#REF!","v":{"$error":"#REF!"}}]
["PUBFIDEL","LIBREVILLE","PLV Carte de Fid",{"$f":"'Budget FCFA'!D209/VLOOKUP(D$2,$BO$127:$BP$138,2,FALSE)","v":0},{"$f":"'Budget FCFA'!E209/VLOOKUP(E$2,$BO$127:$BP$138,2,FALSE)","v":0},{"$f":"'Budget FCFA'!F209/VLOOKUP(F$2,$BO$127:$BP$138,2,FALSE)","v":0},{"$f":"'Budget FCFA'!G209/VLOOKUP(G$2,$BO$127:$BP$138,2,FALSE)","v":0},{"$f":"'Budget FCFA'!H209/VLOOKUP(H$2,$BO$127:$BP$138,2,FALSE)","v":0},{"$f":"'Budget FCFA'!I209/VLOOKUP(I$2,$BO$127:$BP$138,2,FALSE)","v":0},{"$f":"'Budget FCFA'!J209/VLOOKUP(J$2,$BO$127:$BP$138,2,FALSE)","v":0},{"$f":"'Budget FCFA'!K209/VLOOKUP(K$2,$BO$127:$BP$138,2,FALSE)","v":0},{"$f":"'Budget FCFA'!L209/VLOOKUP(L$2,$BO$127:$BP$138,2,FALSE)","v":0},{"$f":"'Budget FCFA'!M209/VLOOKUP(M$2,$BO$127:$BP$138,2,FALSE)","v":0},{"$f":"'Budget FCFA'!N209/VLOOKUP(N$2,$BO$127:$BP$138,2,FALSE)","v":0},{"$f":"'Budget FCFA'!O209/VLOOKUP(O$2,$BO$127:$BP$138,2,FALSE)","v":0},{"$f":"'Budget FCFA'!P209/VLOOKUP(P$2,$BO$127:$BP$138,2,FALSE)","v":0},{"$f":"'Budget FCFA'!Q209/VLOOKUP(Q$2,$BO$127:$BP$138,2,FALSE)","v":0},{"$f":"'Budget FCFA'!R209/VLOOKUP(R$2,$BO$127:$BP$138,2,FALSE)","v":0},{"$f":"'Budget FCFA'!S209/VLOOKUP(S$2,$BO$127:$BP$138,2,FALSE)","v":0},{"$f":"'Budget FCFA'!T209/VLOOKUP(T$2,$BO$127:$BP$138,2,FALSE)","v":0},{"$f":"'Budget FCFA'!U209/VLOOKUP(U$2,$BO$127:$BP$138,2,FALSE)","v":0},{"$f":"'Budget FCFA'!V209/VLOOKUP(V$2,$BO$127:$BP$138,2,FALSE)","v":0},{"$f":"'Budget FCFA'!W209/VLOOKUP(W$2,$BO$127:$BP$138,2,FALSE)","v":0},{"$f":"'Budget FCFA'!X209/VLOOKUP(X$2,$BO$127:$BP$138,2,FALSE)","v":0},{"$f":"'Budget FCFA'!Y209/VLOOKUP(Y$2,$BO$127:$BP$138,2,FALSE)","v":0},{"$f":"'Budget FCFA'!Z209/VLOOKUP(Z$2,$BO$127:$BP$138,2,FALSE)","v":0},{"$f":"'Budget FCFA'!AA209/VLOOKUP(AA$2,$BO$127:$BP$138,2,FALSE)","v":0},{"$f":"'Budget FCFA'!AB209/VLOOKUP(AB$2,$BO$127:$BP$138,2,FALSE)","v":0},{"$f":"'Budget FCFA'!AC209/VLOOKUP(AC$2,$BO$127:$BP$138,2,FALSE)","v":0},{"$f":"'Budget FCFA'!AD209/VLOOKUP(AD$2,$BO$127:$BP$138,2,FALSE)","v":0},{"$f":"'Budget FCFA'!AE209/VLOOKUP(AE$2,$BO$127:$BP$138,2,FALSE)","v":0},{"$f":"'Budget FCFA'!AF209/VLOOKUP(AF$2,$BO$127:$BP$138,2,FALSE)","v":0},{"$f":"'Budget FCFA'!AG209/VLOOKUP(AG$2,$BO$127:$BP$138,2,FALSE)","v":0},{"$f":"'Budget FCFA'!AH209/VLOOKUP(AH$2,$BO$127:$BP$138,2,FALSE)","v":0},{"$f":"'Budget FCFA'!AI209/VLOOKUP(AI$2,$BO$127:$BP$138,2,FALSE)","v":0},{"$f":"'Budget FCFA'!AJ209/VLOOKUP(AJ$2,$BO$127:$BP$138,2,FALSE)","v":0},{"$f":"'Budget FCFA'!AK209/VLOOKUP(AK$2,$BO$127:$BP$138,2,FALSE)","v":0},{"$f":"'Budget FCFA'!AL209/VLOOKUP(AL$2,$BO$127:$BP$138,2,FALSE)","v":0},{"$f":"'Budget FCFA'!AM209/VLOOKUP(AM$2,$BO$127:$BP$138,2,FALSE)","v":0},{"$f":"'Budget FCFA'!AN209/VLOOKUP(AN$2,$BO$127:$BP$138,2,FALSE)","v":0},{"$f":"'Budget FCFA'!AO209/VLOOKUP(AO$2,$BO$127:$BP$138,2,FALSE)","v":0},{"$f":"'Budget FCFA'!AP209/VLOOKUP(AP$2,$BO$127:$BP$138,2,FALSE)","v":0},{"$f":"'Budget FCFA'!#REF!/VLOOKUP(AQ$2,$BO$127:$BP$138,2,FALSE)","v":{"$error":"#REF!"}},{"$f":"'Budget FCFA'!#REF!/VLOOKUP(AR$2,$BO$127:$BP$138,2,FALSE)","v":{"$error":"#REF!"}},{"$f":"'Budget FCFA'!#REF!/VLOOKUP(AS$2,$BO$127:$BP$138,2,FALSE)","v":{"$error":"#REF!"}},{"$f":"'Budget FCFA'!#REF!/VLOOKUP(AT$2,$BO$127:$BP$138,2,FALSE)","v":{"$error":"#REF!"}},{"$f":"'Budget FCFA'!#REF!/VLOOKUP(AU$2,$BO$127:$BP$138,2,FALSE)","v":{"$error":"#REF!"}},{"$f":"'Budget FCFA'!#REF!/VLOOKUP(AV$2,$BO$127:$BP$138,2,FALSE)","v":{"$error":"#REF!"}},{"$f":"'Budget FCFA'!#REF!/VLOOKUP(AW$2,$BO$127:$BP$138,2,FALSE)","v":{"$error":"#REF!"}},{"$f":"'Budget FCFA'!#REF!/VLOOKUP(AX$2,$BO$127:$BP$138,2,FALSE)","v":{"$error":"#REF!"}},{"$f":"'Budget FCFA'!#REF!/VLOOKUP(AY$2,$BO$127:$BP$138,2,FALSE)","v":{"$error":"#REF!"}},{"$f":"'Budget FCFA'!#REF!/VLOOKUP(AZ$2,$BO$127:$BP$138,2,FALSE)","v":{"$error":"#REF!"}},{"$f":"'Budget FCFA'!#REF!/VLOOKUP(BA$2,$BO$127:$BP$138,2,FALSE)","v":{"$error":"#REF!"}},{"$f":"'Budget FCFA'!#REF!/VLOOKUP(BB$2,$BO$127:$BP$138,2,FALSE)","v":{"$error":"#REF!"}},{"$f":"'Budget FCFA'!#REF!/VLOOKUP(BC$2,$BO$127:$BP$138,2,FALSE)","v":{"$error":"#REF!"}},{"$f":"'Budget FCFA'!#REF!/VLOOKUP(BD$2,$BO$127:$BP$138,2,FALSE)","v":{"$error":"#REF!"}},{"$f":"'Budget FCFA'!#REF!/VLOOKUP(BE$2,$BO$127:$BP$138,2,FALSE)","v":{"$error":"#REF!"}},{"$f":"'Budget FCFA'!#REF!/VLOOKUP(BF$2,$BO$127:$BP$138,2,FALSE)","v":{"$error":"#REF!"}},{"$f":"'Budget FCFA'!#REF!/VLOOKUP(BG$2,$BO$127:$BP$138,2,FALSE)","v":{"$error":"#REF!"}},{"$f":"'Budget FCFA'!#REF!/VLOOKUP(BH$2,$BO$127:$BP$138,2,FALSE)","v":{"$error":"#REF!"}},{"$f":"'Budget FCFA'!#REF!/VLOOKUP(BI$2,$BO$127:$BP$138,2,FALSE)","v":{"$error":"#REF!"}},{"$f":"'Budget FCFA'!#REF!/VLOOKUP(BJ$2,$BO$127:$BP$138,2,FALSE)","v":{"$error":"#REF!"}},{"$error":"#REF!"},{"$f":"BK209-'Budget FCFA'!#REF!","v":{"$error":"#REF!"}}]
["PUBFIDEL","DOUALA","PLV Carte de Fid",{"$f":"'Budget FCFA'!D210/VLOOKUP(D$2,$BO$127:$BP$138,2,FALSE)","v":0},{"$f":"'Budget FCFA'!E210/VLOOKUP(E$2,$BO$127:$BP$138,2,FALSE)","v":0},{"$f":"'Budget FCFA'!F210/VLOOKUP(F$2,$BO$127:$BP$138,2,FALSE)","v":0},{"$f":"'Budget FCFA'!G210/VLOOKUP(G$2,$BO$127:$BP$138,2,FALSE)","v":0},{"$f":"'Budget FCFA'!H210/VLOOKUP(H$2,$BO$127:$BP$138,2,FALSE)","v":0},{"$f":"'Budget FCFA'!I210/VLOOKUP(I$2,$BO$127:$BP$138,2,FALSE)","v":0},{"$f":"'Budget FCFA'!J210/VLOOKUP(J$2,$BO$127:$BP$138,2,FALSE)","v":0},{"$f":"'Budget FCFA'!K210/VLOOKUP(K$2,$BO$127:$BP$138,2,FALSE)","v":0},{"$f":"'Budget FCFA'!L210/VLOOKUP(L$2,$BO$127:$BP$138,2,FALSE)","v":0},{"$f":"'Budget FCFA'!M210/VLOOKUP(M$2,$BO$127:$BP$138,2,FALSE)","v":0},{"$f":"'Budget FCFA'!N210/VLOOKUP(N$2,$BO$127:$BP$138,2,FALSE)","v":0},{"$f":"'Budget FCFA'!O210/VLOOKUP(O$2,$BO$127:$BP$138,2,FALSE)","v":0},{"$f":"'Budget FCFA'!P210/VLOOKUP(P$2,$BO$127:$BP$138,2,FALSE)","v":0},{"$f":"'Budget FCFA'!Q210/VLOOKUP(Q$2,$BO$127:$BP$138,2,FALSE)","v":0},{"$f":"'Budget FCFA'!R210/VLOOKUP(R$2,$BO$127:$BP$138,2,FALSE)","v":0},{"$f":"'Budget FCFA'!S210/VLOOKUP(S$2,$BO$127:$BP$138,2,FALSE)","v":0},{"$f":"'Budget FCFA'!T210/VLOOKUP(T$2,$BO$127:$BP$138,2,FALSE)","v":0},{"$f":"'Budget FCFA'!U210/VLOOKUP(U$2,$BO$127:$BP$138,2,FALSE)","v":0},{"$f":"'Budget FCFA'!V210/VLOOKUP(V$2,$BO$127:$BP$138,2,FALSE)","v":0},{"$f":"'Budget FCFA'!W210/VLOOKUP(W$2,$BO$127:$BP$138,2,FALSE)","v":0},{"$f":"'Budget FCFA'!X210/VLOOKUP(X$2,$BO$127:$BP$138,2,FALSE)","v":0},{"$f":"'Budget FCFA'!Y210/VLOOKUP(Y$2,$BO$127:$BP$138,2,FALSE)","v":0},{"$f":"'Budget FCFA'!Z210/VLOOKUP(Z$2,$BO$127:$BP$138,2,FALSE)","v":0},{"$f":"'Budget FCFA'!AA210/VLOOKUP(AA$2,$BO$127:$BP$138,2,FALSE)","v":0},{"$f":"'Budget FCFA'!AB210/VLOOKUP(AB$2,$BO$127:$BP$138,2,FALSE)","v":0},{"$f":"'Budget FCFA'!AC210/VLOOKUP(AC$2,$BO$127:$BP$138,2,FALSE)","v":0},{"$f":"'Budget FCFA'!AD210/VLOOKUP(AD$2,$BO$127:$BP$138,2,FALSE)","v":0},{"$f":"'Budget FCFA'!AE210/VLOOKUP(AE$2,$BO$127:$BP$138,2,FALSE)","v":0},{"$f":"'Budget FCFA'!AF210/VLOOKUP(AF$2,$BO$127:$BP$138,2,FALSE)","v":0},{"$f":"'Budget FCFA'!AG210/VLOOKUP(AG$2,$BO$127:$BP$138,2,FALSE)","v":0},{"$f":"'Budget FCFA'!AH210/VLOOKUP(AH$2,$BO$127:$BP$138,2,FALSE)","v":0},{"$f":"'Budget FCFA'!AI210/VLOOKUP(AI$2,$BO$127:$BP$138,2,FALSE)","v":0},{"$f":"'Budget FCFA'!AJ210/VLOOKUP(AJ$2,$BO$127:$BP$138,2,FALSE)","v":0},{"$f":"'Budget FCFA'!AK210/VLOOKUP(AK$2,$BO$127:$BP$138,2,FALSE)","v":0},{"$f":"'Budget FCFA'!AL210/VLOOKUP(AL$2,$BO$127:$BP$138,2,FALSE)","v":0},{"$f":"'Budget FCFA'!AM210/VLOOKUP(AM$2,$BO$127:$BP$138,2,FALSE)","v":0},{"$f":"'Budget FCFA'!AN210/VLOOKUP(AN$2,$BO$127:$BP$138,2,FALSE)","v":0},{"$f":"'Budget FCFA'!AO210/VLOOKUP(AO$2,$BO$127:$BP$138,2,FALSE)","v":0},{"$f":"'Budget FCFA'!AP210/VLOOKUP(AP$2,$BO$127:$BP$138,2,FALSE)","v":0},{"$f":"'Budget FCFA'!#REF!/VLOOKUP(AQ$2,$BO$127:$BP$138,2,FALSE)","v":{"$error":"#REF!"}},{"$f":"'Budget FCFA'!#REF!/VLOOKUP(AR$2,$BO$127:$BP$138,2,FALSE)","v":{"$error":"#REF!"}},{"$f":"'Budget FCFA'!#REF!/VLOOKUP(AS$2,$BO$127:$BP$138,2,FALSE)","v":{"$error":"#REF!"}},{"$f":"'Budget FCFA'!#REF!/VLOOKUP(AT$2,$BO$127:$BP$138,2,FALSE)","v":{"$error":"#REF!"}},{"$f":"'Budget FCFA'!#REF!/VLOOKUP(AU$2,$BO$127:$BP$138,2,FALSE)","v":{"$error":"#REF!"}},{"$f":"'Budget FCFA'!#REF!/VLOOKUP(AV$2,$BO$127:$BP$138,2,FALSE)","v":{"$error":"#REF!"}},{"$f":"'Budget FCFA'!#REF!/VLOOKUP(AW$2,$BO$127:$BP$138,2,FALSE)","v":{"$error":"#REF!"}},{"$f":"'Budget FCFA'!#REF!/VLOOKUP(AX$2,$BO$127:$BP$138,2,FALSE)","v":{"$error":"#REF!"}},{"$f":"'Budget FCFA'!#REF!/VLOOKUP(AY$2,$BO$127:$BP$138,2,FALSE)","v":{"$error":"#REF!"}},{"$f":"'Budget FCFA'!#REF!/VLOOKUP(AZ$2,$BO$127:$BP$138,2,FALSE)","v":{"$error":"#REF!"}},{"$f":"'Budget FCFA'!#REF!/VLOOKUP(BA$2,$BO$127:$BP$138,2,FALSE)","v":{"$error":"#REF!"}},{"$f":"'Budget FCFA'!#REF!/VLOOKUP(BB$2,$BO$127:$BP$138,2,FALSE)","v":{"$error":"#REF!"}},{"$f":"'Budget FCFA'!#REF!/VLOOKUP(BC$2,$BO$127:$BP$138,2,FALSE)","v":{"$error":"#REF!"}},{"$f":"'Budget FCFA'!#REF!/VLOOKUP(BD$2,$BO$127:$BP$138,2,FALSE)","v":{"$error":"#REF!"}},{"$f":"'Budget FCFA'!#REF!/VLOOKUP(BE$2,$BO$127:$BP$138,2,FALSE)","v":{"$error":"#REF!"}},{"$f":"'Budget FCFA'!#REF!/VLOOKUP(BF$2,$BO$127:$BP$138,2,FALSE)","v":{"$error":"#REF!"}},{"$f":"'Budget FCFA'!#REF!/VLOOKUP(BG$2,$BO$127:$BP$138,2,FALSE)","v":{"$error":"#REF!"}},{"$f":"'Budget FCFA'!#REF!/VLOOKUP(BH$2,$BO$127:$BP$138,2,FALSE)","v":{"$error":"#REF!"}},{"$f":"'Budget FCFA'!#REF!/VLOOKUP(BI$2,$BO$127:$BP$138,2,FALSE)","v":{"$error":"#REF!"}},{"$f":"'Budget FCFA'!#REF!/VLOOKUP(BJ$2,$BO$127:$BP$138,2,FALSE)","v":{"$error":"#REF!"}},{"$error":"#REF!"},{"$f":"BK210-'Budget FCFA'!#REF!","v":{"$error":"#REF!"}}]
["PUBMAGAS","TOTAL","Actions locales",{"$f":"'Budget FCFA'!D211/VLOOKUP(D$2,$BO$127:$BP$138,2,FALSE)","v":0},{"$f":"'Budget FCFA'!E211/VLOOKUP(E$2,$BO$127:$BP$138,2,FALSE)","v":0},{"$f":"'Budget FCFA'!F211/VLOOKUP(F$2,$BO$127:$BP$138,2,FALSE)","v":0},{"$f":"'Budget FCFA'!G211/VLOOKUP(G$2,$BO$127:$BP$138,2,FALSE)","v":0},{"$f":"'Budget FCFA'!H211/VLOOKUP(H$2,$BO$127:$BP$138,2,FALSE)","v":0},{"$f":"'Budget FCFA'!I211/VLOOKUP(I$2,$BO$127:$BP$138,2,FALSE)","v":0},{"$f":"'Budget FCFA'!J211/VLOOKUP(J$2,$BO$127:$BP$138,2,FALSE)","v":0},{"$f":"'Budget FCFA'!K211/VLOOKUP(K$2,$BO$127:$BP$138,2,FALSE)","v":0},{"$f":"'Budget FCFA'!L211/VLOOKUP(L$2,$BO$127:$BP$138,2,FALSE)","v":0},{"$f":"'Budget FCFA'!M211/VLOOKUP(M$2,$BO$127:$BP$138,2,FALSE)","v":53988.517540021676},{"$f":"'Budget FCFA'!N211/VLOOKUP(N$2,$BO$127:$BP$138,2,FALSE)","v":0},{"$f":"'Budget FCFA'!O211/VLOOKUP(O$2,$BO$127:$BP$138,2,FALSE)","v":0},{"$f":"'Budget FCFA'!P211/VLOOKUP(P$2,$BO$127:$BP$138,2,FALSE)","v":0},{"$f":"'Budget FCFA'!Q211/VLOOKUP(Q$2,$BO$127:$BP$138,2,FALSE)","v":0},{"$f":"'Budget FCFA'!R211/VLOOKUP(R$2,$BO$127:$BP$138,2,FALSE)","v":8591.4168154314993},{"$f":"'Budget FCFA'!S211/VLOOKUP(S$2,$BO$127:$BP$138,2,FALSE)","v":0},{"$f":"'Budget FCFA'!T211/VLOOKUP(T$2,$BO$127:$BP$138,2,FALSE)","v":0},{"$f":"'Budget FCFA'!U211/VLOOKUP(U$2,$BO$127:$BP$138,2,FALSE)","v":0},{"$f":"'Budget FCFA'!V211/VLOOKUP(V$2,$BO$127:$BP$138,2,FALSE)","v":0},{"$f":"'Budget FCFA'!W211/VLOOKUP(W$2,$BO$127:$BP$138,2,FALSE)","v":19434.953815570228},{"$f":"'Budget FCFA'!X211/VLOOKUP(X$2,$BO$127:$BP$138,2,FALSE)","v":0},{"$f":"'Budget FCFA'!Y211/VLOOKUP(Y$2,$BO$127:$BP$138,2,FALSE)","v":0},{"$f":"'Budget FCFA'!Z211/VLOOKUP(Z$2,$BO$127:$BP$138,2,FALSE)","v":0},{"$f":"'Budget FCFA'!AA211/VLOOKUP(AA$2,$BO$127:$BP$138,2,FALSE)","v":34676.620571165491},{"$f":"'Budget FCFA'!AB211/VLOOKUP(AB$2,$BO$127:$BP$138,2,FALSE)","v":0},{"$f":"'Budget FCFA'!AC211/VLOOKUP(AC$2,$BO$127:$BP$138,2,FALSE)","v":0},{"$f":"'Budget FCFA'!AD211/VLOOKUP(AD$2,$BO$127:$BP$138,2,FALSE)","v":0},{"$f":"'Budget FCFA'!AE211/VLOOKUP(AE$2,$BO$127:$BP$138,2,FALSE)","v":0},{"$f":"'Budget FCFA'!AF211/VLOOKUP(AF$2,$BO$127:$BP$138,2,FALSE)","v":4932.7429344690745},{"$f":"'Budget FCFA'!AG211/VLOOKUP(AG$2,$BO$127:$BP$138,2,FALSE)","v":0},{"$f":"'Budget FCFA'!AH211/VLOOKUP(AH$2,$BO$127:$BP$138,2,FALSE)","v":0},{"$f":"'Budget FCFA'!AI211/VLOOKUP(AI$2,$BO$127:$BP$138,2,FALSE)","v":0},{"$f":"'Budget FCFA'!AJ211/VLOOKUP(AJ$2,$BO$127:$BP$138,2,FALSE)","v":0},{"$f":"'Budget FCFA'!AK211/VLOOKUP(AK$2,$BO$127:$BP$138,2,FALSE)","v":15244.901723741039},{"$f":"'Budget FCFA'!AL211/VLOOKUP(AL$2,$BO$127:$BP$138,2,FALSE)","v":2496.3526572625951},{"$f":"'Budget FCFA'!AM211/VLOOKUP(AM$2,$BO$127:$BP$138,2,FALSE)","v":0},{"$f":"'Budget FCFA'!AN211/VLOOKUP(AN$2,$BO$127:$BP$138,2,FALSE)","v":0},{"$f":"'Budget FCFA'!AO211/VLOOKUP(AO$2,$BO$127:$BP$138,2,FALSE)","v":0},{"$f":"'Budget FCFA'!AP211/VLOOKUP(AP$2,$BO$127:$BP$138,2,FALSE)","v":0},{"$f":"'Budget FCFA'!#REF!/VLOOKUP(AQ$2,$BO$127:$BP$138,2,FALSE)","v":{"$error":"#REF!"}},{"$f":"'Budget FCFA'!#REF!/VLOOKUP(AR$2,$BO$127:$BP$138,2,FALSE)","v":{"$error":"#REF!"}},{"$f":"'Budget FCFA'!#REF!/VLOOKUP(AS$2,$BO$127:$BP$138,2,FALSE)","v":{"$error":"#REF!"}},{"$f":"'Budget FCFA'!#REF!/VLOOKUP(AT$2,$BO$127:$BP$138,2,FALSE)","v":{"$error":"#REF!"}},{"$f":"'Budget FCFA'!#REF!/VLOOKUP(AU$2,$BO$127:$BP$138,2,FALSE)","v":{"$error":"#REF!"}},{"$f":"'Budget FCFA'!#REF!/VLOOKUP(AV$2,$BO$127:$BP$138,2,FALSE)","v":{"$error":"#REF!"}},{"$f":"'Budget FCFA'!#REF!/VLOOKUP(AW$2,$BO$127:$BP$138,2,FALSE)","v":{"$error":"#REF!"}},{"$f":"'Budget FCFA'!#REF!/VLOOKUP(AX$2,$BO$127:$BP$138,2,FALSE)","v":{"$error":"#REF!"}},{"$f":"'Budget FCFA'!#REF!/VLOOKUP(AY$2,$BO$127:$BP$138,2,FALSE)","v":{"$error":"#REF!"}},{"$f":"'Budget FCFA'!#REF!/VLOOKUP(AZ$2,$BO$127:$BP$138,2,FALSE)","v":{"$error":"#REF!"}},{"$f":"'Budget FCFA'!#REF!/VLOOKUP(BA$2,$BO$127:$BP$138,2,FALSE)","v":{"$error":"#REF!"}},{"$f":"'Budget FCFA'!#REF!/VLOOKUP(BB$2,$BO$127:$BP$138,2,FALSE)","v":{"$error":"#REF!"}},{"$f":"'Budget FCFA'!#REF!/VLOOKUP(BC$2,$BO$127:$BP$138,2,FALSE)","v":{"$error":"#REF!"}},{"$f":"'Budget FCFA'!#REF!/VLOOKUP(BD$2,$BO$127:$BP$138,2,FALSE)","v":{"$error":"#REF!"}},{"$f":"'Budget FCFA'!#REF!/VLOOKUP(BE$2,$BO$127:$BP$138,2,FALSE)","v":{"$error":"#REF!"}},{"$f":"'Budget FCFA'!#REF!/VLOOKUP(BF$2,$BO$127:$BP$138,2,FALSE)","v":{"$error":"#REF!"}},{"$f":"'Budget FCFA'!#REF!/VLOOKUP(BG$2,$BO$127:$BP$138,2,FALSE)","v":{"$error":"#REF!"}},{"$f":"'Budget FCFA'!#REF!/VLOOKUP(BH$2,$BO$127:$BP$138,2,FALSE)","v":{"$error":"#REF!"}},{"$f":"'Budget FCFA'!#REF!/VLOOKUP(BI$2,$BO$127:$BP$138,2,FALSE)","v":{"$error":"#REF!"}},{"$f":"'Budget FCFA'!#REF!/VLOOKUP(BJ$2,$BO$127:$BP$138,2,FALSE)","v":{"$error":"#REF!"}},{"$error":"#REF!"},{"$f":"BK211-'Budget FCFA'!#REF!","v":{"$error":"#REF!"}}]
["PUBCADOS","ABIDJAN","Cadeaux jeux (Bons d'HA)",{"$f":"'Budget FCFA'!D212/VLOOKUP(D$2,$BO$127:$BP$138,2,FALSE)","v":0},{"$f":"'Budget FCFA'!E212/VLOOKUP(E$2,$BO$127:$BP$138,2,FALSE)","v":0},{"$f":"'Budget FCFA'!F212/VLOOKUP(F$2,$BO$127:$BP$138,2,FALSE)","v":0},{"$f":"'Budget FCFA'!G212/VLOOKUP(G$2,$BO$127:$BP$138,2,FALSE)","v":0},{"$f":"'Budget FCFA'!H212/VLOOKUP(H$2,$BO$127:$BP$138,2,FALSE)","v":0},{"$f":"'Budget FCFA'!I212/VLOOKUP(I$2,$BO$127:$BP$138,2,FALSE)","v":0},{"$f":"'Budget FCFA'!J212/VLOOKUP(J$2,$BO$127:$BP$138,2,FALSE)","v":0},{"$f":"'Budget FCFA'!K212/VLOOKUP(K$2,$BO$127:$BP$138,2,FALSE)","v":0},{"$f":"'Budget FCFA'!L212/VLOOKUP(L$2,$BO$127:$BP$138,2,FALSE)","v":0},{"$f":"'Budget FCFA'!M212/VLOOKUP(M$2,$BO$127:$BP$138,2,FALSE)","v":9077.729180418839},{"$f":"'Budget FCFA'!N212/VLOOKUP(N$2,$BO$127:$BP$138,2,FALSE)","v":0},{"$f":"'Budget FCFA'!O212/VLOOKUP(O$2,$BO$127:$BP$138,2,FALSE)","v":0},{"$f":"'Budget FCFA'!P212/VLOOKUP(P$2,$BO$127:$BP$138,2,FALSE)","v":0},{"$f":"'Budget FCFA'!Q212/VLOOKUP(Q$2,$BO$127:$BP$138,2,FALSE)","v":0},{"$f":"'Budget FCFA'!R212/VLOOKUP(R$2,$BO$127:$BP$138,2,FALSE)","v":0},{"$f":"'Budget FCFA'!S212/VLOOKUP(S$2,$BO$127:$BP$138,2,FALSE)","v":0},{"$f":"'Budget FCFA'!T212/VLOOKUP(T$2,$BO$127:$BP$138,2,FALSE)","v":0},{"$f":"'Budget FCFA'!U212/VLOOKUP(U$2,$BO$127:$BP$138,2,FALSE)","v":0},{"$f":"'Budget FCFA'!V212/VLOOKUP(V$2,$BO$127:$BP$138,2,FALSE)","v":0},{"$f":"'Budget FCFA'!W212/VLOOKUP(W$2,$BO$127:$BP$138,2,FALSE)","v":50.765522740057655},{"$f":"'Budget FCFA'!X212/VLOOKUP(X$2,$BO$127:$BP$138,2,FALSE)","v":0},{"$f":"'Budget FCFA'!Y212/VLOOKUP(Y$2,$BO$127:$BP$138,2,FALSE)","v":0},{"$f":"'Budget FCFA'!Z212/VLOOKUP(Z$2,$BO$127:$BP$138,2,FALSE)","v":0},{"$f":"'Budget FCFA'!AA212/VLOOKUP(AA$2,$BO$127:$BP$138,2,FALSE)","v":0},{"$f":"'Budget FCFA'!AB212/VLOOKUP(AB$2,$BO$127:$BP$138,2,FALSE)","v":0},{"$f":"'Budget FCFA'!AC212/VLOOKUP(AC$2,$BO$127:$BP$138,2,FALSE)","v":0},{"$f":"'Budget FCFA'!AD212/VLOOKUP(AD$2,$BO$127:$BP$138,2,FALSE)","v":0},{"$f":"'Budget FCFA'!AE212/VLOOKUP(AE$2,$BO$127:$BP$138,2,FALSE)","v":0},{"$f":"'Budget FCFA'!AF212/VLOOKUP(AF$2,$BO$127:$BP$138,2,FALSE)","v":304.4339279435336},{"$f":"'Budget FCFA'!AG212/VLOOKUP(AG$2,$BO$127:$BP$138,2,FALSE)","v":0},{"$f":"'Budget FCFA'!AH212/VLOOKUP(AH$2,$BO$127:$BP$138,2,FALSE)","v":0},{"$f":"'Budget FCFA'!AI212/VLOOKUP(AI$2,$BO$127:$BP$138,2,FALSE)","v":0},{"$f":"'Budget FCFA'!AJ212/VLOOKUP(AJ$2,$BO$127:$BP$138,2,FALSE)","v":0},{"$f":"'Budget FCFA'!AK212/VLOOKUP(AK$2,$BO$127:$BP$138,2,FALSE)","v":304.89803447482075},{"$f":"'Budget FCFA'!AL212/VLOOKUP(AL$2,$BO$127:$BP$138,2,FALSE)","v":609.79606894964149},{"$f":"'Budget FCFA'!AM212/VLOOKUP(AM$2,$BO$127:$BP$138,2,FALSE)","v":0},{"$f":"'Budget FCFA'!AN212/VLOOKUP(AN$2,$BO$127:$BP$138,2,FALSE)","v":0},{"$f":"'Budget FCFA'!AO212/VLOOKUP(AO$2,$BO$127:$BP$138,2,FALSE)","v":0},{"$f":"'Budget FCFA'!AP212/VLOOKUP(AP$2,$BO$127:$BP$138,2,FALSE)","v":304.89803447482075},{"$f":"'Budget FCFA'!#REF!/VLOOKUP(AQ$2,$BO$127:$BP$138,2,FALSE)","v":{"$error":"#REF!"}},{"$f":"'Budget FCFA'!#REF!/VLOOKUP(AR$2,$BO$127:$BP$138,2,FALSE)","v":{"$error":"#REF!"}},{"$f":"'Budget FCFA'!#REF!/VLOOKUP(AS$2,$BO$127:$BP$138,2,FALSE)","v":{"$error":"#REF!"}},{"$f":"'Budget FCFA'!#REF!/VLOOKUP(AT$2,$BO$127:$BP$138,2,FALSE)","v":{"$error":"#REF!"}},{"$f":"'Budget FCFA'!#REF!/VLOOKUP(AU$2,$BO$127:$BP$138,2,FALSE)","v":{"$error":"#REF!"}},{"$f":"'Budget FCFA'!#REF!/VLOOKUP(AV$2,$BO$127:$BP$138,2,FALSE)","v":{"$error":"#REF!"}},{"$f":"'Budget FCFA'!#REF!/VLOOKUP(AW$2,$BO$127:$BP$138,2,FALSE)","v":{"$error":"#REF!"}},{"$f":"'Budget FCFA'!#REF!/VLOOKUP(AX$2,$BO$127:$BP$138,2,FALSE)","v":{"$error":"#REF!"}},{"$f":"'Budget FCFA'!#REF!/VLOOKUP(AY$2,$BO$127:$BP$138,2,FALSE)","v":{"$error":"#REF!"}},{"$f":"'Budget FCFA'!#REF!/VLOOKUP(AZ$2,$BO$127:$BP$138,2,FALSE)","v":{"$error":"#REF!"}},{"$f":"'Budget FCFA'!#REF!/VLOOKUP(BA$2,$BO$127:$BP$138,2,FALSE)","v":{"$error":"#REF!"}},{"$f":"'Budget FCFA'!#REF!/VLOOKUP(BB$2,$BO$127:$BP$138,2,FALSE)","v":{"$error":"#REF!"}},{"$f":"'Budget FCFA'!#REF!/VLOOKUP(BC$2,$BO$127:$BP$138,2,FALSE)","v":{"$error":"#REF!"}},{"$f":"'Budget FCFA'!#REF!/VLOOKUP(BD$2,$BO$127:$BP$138,2,FALSE)","v":{"$error":"#REF!"}},{"$f":"'Budget FCFA'!#REF!/VLOOKUP(BE$2,$BO$127:$BP$138,2,FALSE)","v":{"$error":"#REF!"}},{"$f":"'Budget FCFA'!#REF!/VLOOKUP(BF$2,$BO$127:$BP$138,2,FALSE)","v":{"$error":"#REF!"}},{"$f":"'Budget FCFA'!#REF!/VLOOKUP(BG$2,$BO$127:$BP$138,2,FALSE)","v":{"$error":"#REF!"}},{"$f":"'Budget FCFA'!#REF!/VLOOKUP(BH$2,$BO$127:$BP$138,2,FALSE)","v":{"$error":"#REF!"}},{"$f":"'Budget FCFA'!#REF!/VLOOKUP(BI$2,$BO$127:$BP$138,2,FALSE)","v":{"$error":"#REF!"}},{"$f":"'Budget FCFA'!#REF!/VLOOKUP(BJ$2,$BO$127:$BP$138,2,FALSE)","v":{"$error":"#REF!"}},{"$error":"#REF!"},{"$f":"BK212-'Budget FCFA'!#REF!","v":{"$error":"#REF!"}}]
["PUBCADOS","BRAZZA","Cadeaux jeux (Bons d'HA)",{"$f":"'Budget FCFA'!D213/VLOOKUP(D$2,$BO$127:$BP$138,2,FALSE)","v":0},{"$f":"'Budget FCFA'!E213/VLOOKUP(E$2,$BO$127:$BP$138,2,FALSE)","v":0},{"$f":"'Budget FCFA'!F213/VLOOKUP(F$2,$BO$127:$BP$138,2,FALSE)","v":0},{"$f":"'Budget FCFA'!G213/VLOOKUP(G$2,$BO$127:$BP$138,2,FALSE)","v":0},{"$f":"'Budget FCFA'!H213/VLOOKUP(H$2,$BO$127:$BP$138,2,FALSE)","v":0},{"$f":"'Budget FCFA'!I213/VLOOKUP(I$2,$BO$127:$BP$138,2,FALSE)","v":0},{"$f":"'Budget FCFA'!J213/VLOOKUP(J$2,$BO$127:$BP$138,2,FALSE)","v":0},{"$f":"'Budget FCFA'!K213/VLOOKUP(K$2,$BO$127:$BP$138,2,FALSE)","v":0},{"$f":"'Budget FCFA'!L213/VLOOKUP(L$2,$BO$127:$BP$138,2,FALSE)","v":0},{"$f":"'Budget FCFA'!M213/VLOOKUP(M$2,$BO$127:$BP$138,2,FALSE)","v":0},{"$f":"'Budget FCFA'!N213/VLOOKUP(N$2,$BO$127:$BP$138,2,FALSE)","v":0},{"$f":"'Budget FCFA'!O213/VLOOKUP(O$2,$BO$127:$BP$138,2,FALSE)","v":0},{"$f":"'Budget FCFA'!P213/VLOOKUP(P$2,$BO$127:$BP$138,2,FALSE)","v":0},{"$f":"'Budget FCFA'!Q213/VLOOKUP(Q$2,$BO$127:$BP$138,2,FALSE)","v":0},{"$f":"'Budget FCFA'!R213/VLOOKUP(R$2,$BO$127:$BP$138,2,FALSE)","v":0},{"$f":"'Budget FCFA'!S213/VLOOKUP(S$2,$BO$127:$BP$138,2,FALSE)","v":0},{"$f":"'Budget FCFA'!T213/VLOOKUP(T$2,$BO$127:$BP$138,2,FALSE)","v":0},{"$f":"'Budget FCFA'!U213/VLOOKUP(U$2,$BO$127:$BP$138,2,FALSE)","v":0},{"$f":"'Budget FCFA'!V213/VLOOKUP(V$2,$BO$127:$BP$138,2,FALSE)","v":0},{"$f":"'Budget FCFA'!W213/VLOOKUP(W$2,$BO$127:$BP$138,2,FALSE)","v":0},{"$f":"'Budget FCFA'!X213/VLOOKUP(X$2,$BO$127:$BP$138,2,FALSE)","v":0},{"$f":"'Budget FCFA'!Y213/VLOOKUP(Y$2,$BO$127:$BP$138,2,FALSE)","v":0},{"$f":"'Budget FCFA'!Z213/VLOOKUP(Z$2,$BO$127:$BP$138,2,FALSE)","v":0},{"$f":"'Budget FCFA'!AA213/VLOOKUP(AA$2,$BO$127:$BP$138,2,FALSE)","v":5213.9088385366722},{"$f":"'Budget FCFA'!AB213/VLOOKUP(AB$2,$BO$127:$BP$138,2,FALSE)","v":0},{"$f":"'Budget FCFA'!AC213/VLOOKUP(AC$2,$BO$127:$BP$138,2,FALSE)","v":0},{"$f":"'Budget FCFA'!AD213/VLOOKUP(AD$2,$BO$127:$BP$138,2,FALSE)","v":0},{"$f":"'Budget FCFA'!AE213/VLOOKUP(AE$2,$BO$127:$BP$138,2,FALSE)","v":0},{"$f":"'Budget FCFA'!AF213/VLOOKUP(AF$2,$BO$127:$BP$138,2,FALSE)","v":0},{"$f":"'Budget FCFA'!AG213/VLOOKUP(AG$2,$BO$127:$BP$138,2,FALSE)","v":0},{"$f":"'Budget FCFA'!AH213/VLOOKUP(AH$2,$BO$127:$BP$138,2,FALSE)","v":0},{"$f":"'Budget FCFA'!AI213/VLOOKUP(AI$2,$BO$127:$BP$138,2,FALSE)","v":0},{"$f":"'Budget FCFA'!AJ213/VLOOKUP(AJ$2,$BO$127:$BP$138,2,FALSE)","v":0},{"$f":"'Budget FCFA'!AK213/VLOOKUP(AK$2,$BO$127:$BP$138,2,FALSE)","v":152.44901723741037},{"$f":"'Budget FCFA'!AL213/VLOOKUP(AL$2,$BO$127:$BP$138,2,FALSE)","v":0},{"$f":"'Budget FCFA'!AM213/VLOOKUP(AM$2,$BO$127:$BP$138,2,FALSE)","v":0},{"$f":"'Budget FCFA'!AN213/VLOOKUP(AN$2,$BO$127:$BP$138,2,FALSE)","v":0},{"$f":"'Budget FCFA'!AO213/VLOOKUP(AO$2,$BO$127:$BP$138,2,FALSE)","v":0},{"$f":"'Budget FCFA'!AP213/VLOOKUP(AP$2,$BO$127:$BP$138,2,FALSE)","v":152.44901723741037},{"$f":"'Budget FCFA'!#REF!/VLOOKUP(AQ$2,$BO$127:$BP$138,2,FALSE)","v":{"$error":"#REF!"}},{"$f":"'Budget FCFA'!#REF!/VLOOKUP(AR$2,$BO$127:$BP$138,2,FALSE)","v":{"$error":"#REF!"}},{"$f":"'Budget FCFA'!#REF!/VLOOKUP(AS$2,$BO$127:$BP$138,2,FALSE)","v":{"$error":"#REF!"}},{"$f":"'Budget FCFA'!#REF!/VLOOKUP(AT$2,$BO$127:$BP$138,2,FALSE)","v":{"$error":"#REF!"}},{"$f":"'Budget FCFA'!#REF!/VLOOKUP(AU$2,$BO$127:$BP$138,2,FALSE)","v":{"$error":"#REF!"}},{"$f":"'Budget FCFA'!#REF!/VLOOKUP(AV$2,$BO$127:$BP$138,2,FALSE)","v":{"$error":"#REF!"}},{"$f":"'Budget FCFA'!#REF!/VLOOKUP(AW$2,$BO$127:$BP$138,2,FALSE)","v":{"$error":"#REF!"}},{"$f":"'Budget FCFA'!#REF!/VLOOKUP(AX$2,$BO$127:$BP$138,2,FALSE)","v":{"$error":"#REF!"}},{"$f":"'Budget FCFA'!#REF!/VLOOKUP(AY$2,$BO$127:$BP$138,2,FALSE)","v":{"$error":"#REF!"}},{"$f":"'Budget FCFA'!#REF!/VLOOKUP(AZ$2,$BO$127:$BP$138,2,FALSE)","v":{"$error":"#REF!"}},{"$f":"'Budget FCFA'!#REF!/VLOOKUP(BA$2,$BO$127:$BP$138,2,FALSE)","v":{"$error":"#REF!"}},{"$f":"'Budget FCFA'!#REF!/VLOOKUP(BB$2,$BO$127:$BP$138,2,FALSE)","v":{"$error":"#REF!"}},{"$f":"'Budget FCFA'!#REF!/VLOOKUP(BC$2,$BO$127:$BP$138,2,FALSE)","v":{"$error":"#REF!"}},{"$f":"'Budget FCFA'!#REF!/VLOOKUP(BD$2,$BO$127:$BP$138,2,FALSE)","v":{"$error":"#REF!"}},{"$f":"'Budget FCFA'!#REF!/VLOOKUP(BE$2,$BO$127:$BP$138,2,FALSE)","v":{"$error":"#REF!"}},{"$f":"'Budget FCFA'!#REF!/VLOOKUP(BF$2,$BO$127:$BP$138,2,FALSE)","v":{"$error":"#REF!"}},{"$f":"'Budget FCFA'!#REF!/VLOOKUP(BG$2,$BO$127:$BP$138,2,FALSE)","v":{"$error":"#REF!"}},{"$f":"'Budget FCFA'!#REF!/VLOOKUP(BH$2,$BO$127:$BP$138,2,FALSE)","v":{"$error":"#REF!"}},{"$f":"'Budget FCFA'!#REF!/VLOOKUP(BI$2,$BO$127:$BP$138,2,FALSE)","v":{"$error":"#REF!"}},{"$f":"'Budget FCFA'!#REF!/VLOOKUP(BJ$2,$BO$127:$BP$138,2,FALSE)","v":{"$error":"#REF!"}},{"$error":"#REF!"},{"$f":"BK213-'Budget FCFA'!#REF!","v":{"$error":"#REF!"}}]
["PUBCADOS","DAKAR","Cadeaux jeux (Bons d'HA)",{"$f":"'Budget FCFA'!D214/VLOOKUP(D$2,$BO$127:$BP$138,2,FALSE)","v":0},{"$f":"'Budget FCFA'!E214/VLOOKUP(E$2,$BO$127:$BP$138,2,FALSE)","v":0},{"$f":"'Budget FCFA'!F214/VLOOKUP(F$2,$BO$127:$BP$138,2,FALSE)","v":0},{"$f":"'Budget FCFA'!G214/VLOOKUP(G$2,$BO$127:$BP$138,2,FALSE)","v":0},{"$f":"'Budget FCFA'!H214/VLOOKUP(H$2,$BO$127:$BP$138,2,FALSE)","v":0},{"$f":"'Budget FCFA'!I214/VLOOKUP(I$2,$BO$127:$BP$138,2,FALSE)","v":0},{"$f":"'Budget FCFA'!J214/VLOOKUP(J$2,$BO$127:$BP$138,2,FALSE)","v":0},{"$f":"'Budget FCFA'!K214/VLOOKUP(K$2,$BO$127:$BP$138,2,FALSE)","v":0},{"$f":"'Budget FCFA'!L214/VLOOKUP(L$2,$BO$127:$BP$138,2,FALSE)","v":0},{"$f":"'Budget FCFA'!M214/VLOOKUP(M$2,$BO$127:$BP$138,2,FALSE)","v":0},{"$f":"'Budget FCFA'!N214/VLOOKUP(N$2,$BO$127:$BP$138,2,FALSE)","v":0},{"$f":"'Budget FCFA'!O214/VLOOKUP(O$2,$BO$127:$BP$138,2,FALSE)","v":0},{"$f":"'Budget FCFA'!P214/VLOOKUP(P$2,$BO$127:$BP$138,2,FALSE)","v":0},{"$f":"'Budget FCFA'!Q214/VLOOKUP(Q$2,$BO$127:$BP$138,2,FALSE)","v":0},{"$f":"'Budget FCFA'!R214/VLOOKUP(R$2,$BO$127:$BP$138,2,FALSE)","v":0},{"$f":"'Budget FCFA'!S214/VLOOKUP(S$2,$BO$127:$BP$138,2,FALSE)","v":0},{"$f":"'Budget FCFA'!T214/VLOOKUP(T$2,$BO$127:$BP$138,2,FALSE)","v":0},{"$f":"'Budget FCFA'!U214/VLOOKUP(U$2,$BO$127:$BP$138,2,FALSE)","v":0},{"$f":"'Budget FCFA'!V214/VLOOKUP(V$2,$BO$127:$BP$138,2,FALSE)","v":0},{"$f":"'Budget FCFA'!W214/VLOOKUP(W$2,$BO$127:$BP$138,2,FALSE)","v":0},{"$f":"'Budget FCFA'!X214/VLOOKUP(X$2,$BO$127:$BP$138,2,FALSE)","v":0},{"$f":"'Budget FCFA'!Y214/VLOOKUP(Y$2,$BO$127:$BP$138,2,FALSE)","v":0},{"$f":"'Budget FCFA'!Z214/VLOOKUP(Z$2,$BO$127:$BP$138,2,FALSE)","v":0},{"$f":"'Budget FCFA'!AA214/VLOOKUP(AA$2,$BO$127:$BP$138,2,FALSE)","v":4878.368551597132},{"$f":"'Budget FCFA'!AB214/VLOOKUP(AB$2,$BO$127:$BP$138,2,FALSE)","v":0},{"$f":"'Budget FCFA'!AC214/VLOOKUP(AC$2,$BO$127:$BP$138,2,FALSE)","v":0},{"$f":"'Budget FCFA'!AD214/VLOOKUP(AD$2,$BO$127:$BP$138,2,FALSE)","v":0},{"$f":"'Budget FCFA'!AE214/VLOOKUP(AE$2,$BO$127:$BP$138,2,FALSE)","v":0},{"$f":"'Budget FCFA'!AF214/VLOOKUP(AF$2,$BO$127:$BP$138,2,FALSE)","v":0},{"$f":"'Budget FCFA'!AG214/VLOOKUP(AG$2,$BO$127:$BP$138,2,FALSE)","v":0},{"$f":"'Budget FCFA'!AH214/VLOOKUP(AH$2,$BO$127:$BP$138,2,FALSE)","v":0},{"$f":"'Budget FCFA'!AI214/VLOOKUP(AI$2,$BO$127:$BP$138,2,FALSE)","v":0},{"$f":"'Budget FCFA'!AJ214/VLOOKUP(AJ$2,$BO$127:$BP$138,2,FALSE)","v":0},{"$f":"'Budget FCFA'!AK214/VLOOKUP(AK$2,$BO$127:$BP$138,2,FALSE)","v":152.44901723741037},{"$f":"'Budget FCFA'!AL214/VLOOKUP(AL$2,$BO$127:$BP$138,2,FALSE)","v":609.79606894964149},{"$f":"'Budget FCFA'!AM214/VLOOKUP(AM$2,$BO$127:$BP$138,2,FALSE)","v":0},{"$f":"'Budget FCFA'!AN214/VLOOKUP(AN$2,$BO$127:$BP$138,2,FALSE)","v":0},{"$f":"'Budget FCFA'!AO214/VLOOKUP(AO$2,$BO$127:$BP$138,2,FALSE)","v":0},{"$f":"'Budget FCFA'!AP214/VLOOKUP(AP$2,$BO$127:$BP$138,2,FALSE)","v":152.44901723741037},{"$f":"'Budget FCFA'!#REF!/VLOOKUP(AQ$2,$BO$127:$BP$138,2,FALSE)","v":{"$error":"#REF!"}},{"$f":"'Budget FCFA'!#REF!/VLOOKUP(AR$2,$BO$127:$BP$138,2,FALSE)","v":{"$error":"#REF!"}},{"$f":"'Budget FCFA'!#REF!/VLOOKUP(AS$2,$BO$127:$BP$138,2,FALSE)","v":{"$error":"#REF!"}},{"$f":"'Budget FCFA'!#REF!/VLOOKUP(AT$2,$BO$127:$BP$138,2,FALSE)","v":{"$error":"#REF!"}},{"$f":"'Budget FCFA'!#REF!/VLOOKUP(AU$2,$BO$127:$BP$138,2,FALSE)","v":{"$error":"#REF!"}},{"$f":"'Budget FCFA'!#REF!/VLOOKUP(AV$2,$BO$127:$BP$138,2,FALSE)","v":{"$error":"#REF!"}},{"$f":"'Budget FCFA'!#REF!/VLOOKUP(AW$2,$BO$127:$BP$138,2,FALSE)","v":{"$error":"#REF!"}},{"$f":"'Budget FCFA'!#REF!/VLOOKUP(AX$2,$BO$127:$BP$138,2,FALSE)","v":{"$error":"#REF!"}},{"$f":"'Budget FCFA'!#REF!/VLOOKUP(AY$2,$BO$127:$BP$138,2,FALSE)","v":{"$error":"#REF!"}},{"$f":"'Budget FCFA'!#REF!/VLOOKUP(AZ$2,$BO$127:$BP$138,2,FALSE)","v":{"$error":"#REF!"}},{"$f":"'Budget FCFA'!#REF!/VLOOKUP(BA$2,$BO$127:$BP$138,2,FALSE)","v":{"$error":"#REF!"}},{"$f":"'Budget FCFA'!#REF!/VLOOKUP(BB$2,$BO$127:$BP$138,2,FALSE)","v":{"$error":"#REF!"}},{"$f":"'Budget FCFA'!#REF!/VLOOKUP(BC$2,$BO$127:$BP$138,2,FALSE)","v":{"$error":"#REF!"}},{"$f":"'Budget FCFA'!#REF!/VLOOKUP(BD$2,$BO$127:$BP$138,2,FALSE)","v":{"$error":"#REF!"}},{"$f":"'Budget FCFA'!#REF!/VLOOKUP(BE$2,$BO$127:$BP$138,2,FALSE)","v":{"$error":"#REF!"}},{"$f":"'Budget FCFA'!#REF!/VLOOKUP(BF$2,$BO$127:$BP$138,2,FALSE)","v":{"$error":"#REF!"}},{"$f":"'Budget FCFA'!#REF!/VLOOKUP(BG$2,$BO$127:$BP$138,2,FALSE)","v":{"$error":"#REF!"}},{"$f":"'Budget FCFA'!#REF!/VLOOKUP(BH$2,$BO$127:$BP$138,2,FALSE)","v":{"$error":"#REF!"}},{"$f":"'Budget FCFA'!#REF!/VLOOKUP(BI$2,$BO$127:$BP$138,2,FALSE)","v":{"$error":"#REF!"}},{"$f":"'Budget FCFA'!#REF!/VLOOKUP(BJ$2,$BO$127:$BP$138,2,FALSE)","v":{"$error":"#REF!"}},{"$error":"#REF!"},{"$f":"BK214-'Budget FCFA'!#REF!","v":{"$error":"#REF!"}}]
["PUBCADOS","LIBREVILLE","Cadeaux jeux (Bons d'HA)",{"$f":"'Budget FCFA'!D215/VLOOKUP(D$2,$BO$127:$BP$138,2,FALSE)","v":0},{"$f":"'Budget FCFA'!E215/VLOOKUP(E$2,$BO$127:$BP$138,2,FALSE)","v":0},{"$f":"'Budget FCFA'!F215/VLOOKUP(F$2,$BO$127:$BP$138,2,FALSE)","v":0},{"$f":"'Budget FCFA'!G215/VLOOKUP(G$2,$BO$127:$BP$138,2,FALSE)","v":0},{"$f":"'Budget FCFA'!H215/VLOOKUP(H$2,$BO$127:$BP$138,2,FALSE)","v":0},{"$f":"'Budget FCFA'!I215/VLOOKUP(I$2,$BO$127:$BP$138,2,FALSE)","v":303.22109528520923},{"$f":"'Budget FCFA'!J215/VLOOKUP(J$2,$BO$127:$BP$138,2,FALSE)","v":0},{"$f":"'Budget FCFA'!K215/VLOOKUP(K$2,$BO$127:$BP$138,2,FALSE)","v":0},{"$f":"'Budget FCFA'!L215/VLOOKUP(L$2,$BO$127:$BP$138,2,FALSE)","v":0},{"$f":"'Budget FCFA'!M215/VLOOKUP(M$2,$BO$127:$BP$138,2,FALSE)","v":108.84859830751101},{"$f":"'Budget FCFA'!N215/VLOOKUP(N$2,$BO$127:$BP$138,2,FALSE)","v":0},{"$f":"'Budget FCFA'!O215/VLOOKUP(O$2,$BO$127:$BP$138,2,FALSE)","v":0},{"$f":"'Budget FCFA'!P215/VLOOKUP(P$2,$BO$127:$BP$138,2,FALSE)","v":0},{"$f":"'Budget FCFA'!Q215/VLOOKUP(Q$2,$BO$127:$BP$138,2,FALSE)","v":0},{"$f":"'Budget FCFA'!R215/VLOOKUP(R$2,$BO$127:$BP$138,2,FALSE)","v":0},{"$f":"'Budget FCFA'!S215/VLOOKUP(S$2,$BO$127:$BP$138,2,FALSE)","v":0},{"$f":"'Budget FCFA'!T215/VLOOKUP(T$2,$BO$127:$BP$138,2,FALSE)","v":0},{"$f":"'Budget FCFA'!U215/VLOOKUP(U$2,$BO$127:$BP$138,2,FALSE)","v":0},{"$f":"'Budget FCFA'!V215/VLOOKUP(V$2,$BO$127:$BP$138,2,FALSE)","v":0},{"$f":"'Budget FCFA'!W215/VLOOKUP(W$2,$BO$127:$BP$138,2,FALSE)","v":0},{"$f":"'Budget FCFA'!X215/VLOOKUP(X$2,$BO$127:$BP$138,2,FALSE)","v":0},{"$f":"'Budget FCFA'!Y215/VLOOKUP(Y$2,$BO$127:$BP$138,2,FALSE)","v":0},{"$f":"'Budget FCFA'!Z215/VLOOKUP(Z$2,$BO$127:$BP$138,2,FALSE)","v":0},{"$f":"'Budget FCFA'!AA215/VLOOKUP(AA$2,$BO$127:$BP$138,2,FALSE)","v":0},{"$f":"'Budget FCFA'!AB215/VLOOKUP(AB$2,$BO$127:$BP$138,2,FALSE)","v":0},{"$f":"'Budget FCFA'!AC215/VLOOKUP(AC$2,$BO$127:$BP$138,2,FALSE)","v":0},{"$f":"'Budget FCFA'!AD215/VLOOKUP(AD$2,$BO$127:$BP$138,2,FALSE)","v":0},{"$f":"'Budget FCFA'!AE215/VLOOKUP(AE$2,$BO$127:$BP$138,2,FALSE)","v":0},{"$f":"'Budget FCFA'!AF215/VLOOKUP(AF$2,$BO$127:$BP$138,2,FALSE)","v":0},{"$f":"'Budget FCFA'!AG215/VLOOKUP(AG$2,$BO$127:$BP$138,2,FALSE)","v":0},{"$f":"'Budget FCFA'!AH215/VLOOKUP(AH$2,$BO$127:$BP$138,2,FALSE)","v":0},{"$f":"'Budget FCFA'!AI215/VLOOKUP(AI$2,$BO$127:$BP$138,2,FALSE)","v":0},{"$f":"'Budget FCFA'!AJ215/VLOOKUP(AJ$2,$BO$127:$BP$138,2,FALSE)","v":0},{"$f":"'Budget FCFA'!AK215/VLOOKUP(AK$2,$BO$127:$BP$138,2,FALSE)","v":152.44901723741037},{"$f":"'Budget FCFA'!AL215/VLOOKUP(AL$2,$BO$127:$BP$138,2,FALSE)","v":304.89803447482075},{"$f":"'Budget FCFA'!AM215/VLOOKUP(AM$2,$BO$127:$BP$138,2,FALSE)","v":0},{"$f":"'Budget FCFA'!AN215/VLOOKUP(AN$2,$BO$127:$BP$138,2,FALSE)","v":0},{"$f":"'Budget FCFA'!AO215/VLOOKUP(AO$2,$BO$127:$BP$138,2,FALSE)","v":0},{"$f":"'Budget FCFA'!AP215/VLOOKUP(AP$2,$BO$127:$BP$138,2,FALSE)","v":152.44901723741037},{"$f":"'Budget FCFA'!#REF!/VLOOKUP(AQ$2,$BO$127:$BP$138,2,FALSE)","v":{"$error":"#REF!"}},{"$f":"'Budget FCFA'!#REF!/VLOOKUP(AR$2,$BO$127:$BP$138,2,FALSE)","v":{"$error":"#REF!"}},{"$f":"'Budget FCFA'!#REF!/VLOOKUP(AS$2,$BO$127:$BP$138,2,FALSE)","v":{"$error":"#REF!"}},{"$f":"'Budget FCFA'!#REF!/VLOOKUP(AT$2,$BO$127:$BP$138,2,FALSE)","v":{"$error":"#REF!"}},{"$f":"'Budget FCFA'!#REF!/VLOOKUP(AU$2,$BO$127:$BP$138,2,FALSE)","v":{"$error":"#REF!"}},{"$f":"'Budget FCFA'!#REF!/VLOOKUP(AV$2,$BO$127:$BP$138,2,FALSE)","v":{"$error":"#REF!"}},{"$f":"'Budget FCFA'!#REF!/VLOOKUP(AW$2,$BO$127:$BP$138,2,FALSE)","v":{"$error":"#REF!"}},{"$f":"'Budget FCFA'!#REF!/VLOOKUP(AX$2,$BO$127:$BP$138,2,FALSE)","v":{"$error":"#REF!"}},{"$f":"'Budget FCFA'!#REF!/VLOOKUP(AY$2,$BO$127:$BP$138,2,FALSE)","v":{"$error":"#REF!"}},{"$f":"'Budget FCFA'!#REF!/VLOOKUP(AZ$2,$BO$127:$BP$138,2,FALSE)","v":{"$error":"#REF!"}},{"$f":"'Budget FCFA'!#REF!/VLOOKUP(BA$2,$BO$127:$BP$138,2,FALSE)","v":{"$error":"#REF!"}},{"$f":"'Budget FCFA'!#REF!/VLOOKUP(BB$2,$BO$127:$BP$138,2,FALSE)","v":{"$error":"#REF!"}},{"$f":"'Budget FCFA'!#REF!/VLOOKUP(BC$2,$BO$127:$BP$138,2,FALSE)","v":{"$error":"#REF!"}},{"$f":"'Budget FCFA'!#REF!/VLOOKUP(BD$2,$BO$127:$BP$138,2,FALSE)","v":{"$error":"#REF!"}},{"$f":"'Budget FCFA'!#REF!/VLOOKUP(BE$2,$BO$127:$BP$138,2,FALSE)","v":{"$error":"#REF!"}},{"$f":"'Budget FCFA'!#REF!/VLOOKUP(BF$2,$BO$127:$BP$138,2,FALSE)","v":{"$error":"#REF!"}},{"$f":"'Budget FCFA'!#REF!/VLOOKUP(BG$2,$BO$127:$BP$138,2,FALSE)","v":{"$error":"#REF!"}},{"$f":"'Budget FCFA'!#REF!/VLOOKUP(BH$2,$BO$127:$BP$138,2,FALSE)","v":{"$error":"#REF!"}},{"$f":"'Budget FCFA'!#REF!/VLOOKUP(BI$2,$BO$127:$BP$138,2,FALSE)","v":{"$error":"#REF!"}},{"$f":"'Budget FCFA'!#REF!/VLOOKUP(BJ$2,$BO$127:$BP$138,2,FALSE)","v":{"$error":"#REF!"}},{"$error":"#REF!"},{"$f":"BK215-'Budget FCFA'!#REF!","v":{"$error":"#REF!"}}]
["PUBCADOS","DOUALA","Cadeaux jeux (Bons d'HA)",{"$f":"'Budget FCFA'!D216/VLOOKUP(D$2,$BO$127:$BP$138,2,FALSE)","v":0},{"$f":"'Budget FCFA'!E216/VLOOKUP(E$2,$BO$127:$BP$138,2,FALSE)","v":0},{"$f":"'Budget FCFA'!F216/VLOOKUP(F$2,$BO$127:$BP$138,2,FALSE)","v":0},{"$f":"'Budget FCFA'!G216/VLOOKUP(G$2,$BO$127:$BP$138,2,FALSE)","v":0},{"$f":"'Budget FCFA'!H216/VLOOKUP(H$2,$BO$127:$BP$138,2,FALSE)","v":0},{"$f":"'Budget FCFA'!I216/VLOOKUP(I$2,$BO$127:$BP$138,2,FALSE)","v":0},{"$f":"'Budget FCFA'!J216/VLOOKUP(J$2,$BO$127:$BP$138,2,FALSE)","v":0},{"$f":"'Budget FCFA'!K216/VLOOKUP(K$2,$BO$127:$BP$138,2,FALSE)","v":0},{"$f":"'Budget FCFA'!L216/VLOOKUP(L$2,$BO$127:$BP$138,2,FALSE)","v":0},{"$f":"'Budget FCFA'!M216/VLOOKUP(M$2,$BO$127:$BP$138,2,FALSE)","v":0},{"$f":"'Budget FCFA'!N216/VLOOKUP(N$2,$BO$127:$BP$138,2,FALSE)","v":0},{"$f":"'Budget FCFA'!O216/VLOOKUP(O$2,$BO$127:$BP$138,2,FALSE)","v":0},{"$f":"'Budget FCFA'!P216/VLOOKUP(P$2,$BO$127:$BP$138,2,FALSE)","v":0},{"$f":"'Budget FCFA'!Q216/VLOOKUP(Q$2,$BO$127:$BP$138,2,FALSE)","v":0},{"$f":"'Budget FCFA'!R216/VLOOKUP(R$2,$BO$127:$BP$138,2,FALSE)","v":0},{"$f":"'Budget FCFA'!S216/VLOOKUP(S$2,$BO$127:$BP$138,2,FALSE)","v":0},{"$f":"'Budget FCFA'!T216/VLOOKUP(T$2,$BO$127:$BP$138,2,FALSE)","v":0},{"$f":"'Budget FCFA'!U216/VLOOKUP(U$2,$BO$127:$BP$138,2,FALSE)","v":0},{"$f":"'Budget FCFA'!V216/VLOOKUP(V$2,$BO$127:$BP$138,2,FALSE)","v":0},{"$f":"'Budget FCFA'!W216/VLOOKUP(W$2,$BO$127:$BP$138,2,FALSE)","v":4878.368551597132},{"$f":"'Budget FCFA'!X216/VLOOKUP(X$2,$BO$127:$BP$138,2,FALSE)","v":0},{"$f":"'Budget FCFA'!Y216/VLOOKUP(Y$2,$BO$127:$BP$138,2,FALSE)","v":0},{"$f":"'Budget FCFA'!Z216/VLOOKUP(Z$2,$BO$127:$BP$138,2,FALSE)","v":0},{"$f":"'Budget FCFA'!AA216/VLOOKUP(AA$2,$BO$127:$BP$138,2,FALSE)","v":0},{"$f":"'Budget FCFA'!AB216/VLOOKUP(AB$2,$BO$127:$BP$138,2,FALSE)","v":0},{"$f":"'Budget FCFA'!AC216/VLOOKUP(AC$2,$BO$127:$BP$138,2,FALSE)","v":0},{"$f":"'Budget FCFA'!AD216/VLOOKUP(AD$2,$BO$127:$BP$138,2,FALSE)","v":0},{"$f":"'Budget FCFA'!AE216/VLOOKUP(AE$2,$BO$127:$BP$138,2,FALSE)","v":0},{"$f":"'Budget FCFA'!AF216/VLOOKUP(AF$2,$BO$127:$BP$138,2,FALSE)","v":0},{"$f":"'Budget FCFA'!AG216/VLOOKUP(AG$2,$BO$127:$BP$138,2,FALSE)","v":0},{"$f":"'Budget FCFA'!AH216/VLOOKUP(AH$2,$BO$127:$BP$138,2,FALSE)","v":0},{"$f":"'Budget FCFA'!AI216/VLOOKUP(AI$2,$BO$127:$BP$138,2,FALSE)","v":0},{"$f":"'Budget FCFA'!AJ216/VLOOKUP(AJ$2,$BO$127:$BP$138,2,FALSE)","v":0},{"$f":"'Budget FCFA'!AK216/VLOOKUP(AK$2,$BO$127:$BP$138,2,FALSE)","v":0},{"$f":"'Budget FCFA'!AL216/VLOOKUP(AL$2,$BO$127:$BP$138,2,FALSE)","v":609.79606894964149},{"$f":"'Budget FCFA'!AM216/VLOOKUP(AM$2,$BO$127:$BP$138,2,FALSE)","v":0},{"$f":"'Budget FCFA'!AN216/VLOOKUP(AN$2,$BO$127:$BP$138,2,FALSE)","v":0},{"$f":"'Budget FCFA'!AO216/VLOOKUP(AO$2,$BO$127:$BP$138,2,FALSE)","v":0},{"$f":"'Budget FCFA'!AP216/VLOOKUP(AP$2,$BO$127:$BP$138,2,FALSE)","v":152.44901723741037},{"$f":"'Budget FCFA'!#REF!/VLOOKUP(AQ$2,$BO$127:$BP$138,2,FALSE)","v":{"$error":"#REF!"}},{"$f":"'Budget FCFA'!#REF!/VLOOKUP(AR$2,$BO$127:$BP$138,2,FALSE)","v":{"$error":"#REF!"}},{"$f":"'Budget FCFA'!#REF!/VLOOKUP(AS$2,$BO$127:$BP$138,2,FALSE)","v":{"$error":"#REF!"}},{"$f":"'Budget FCFA'!#REF!/VLOOKUP(AT$2,$BO$127:$BP$138,2,FALSE)","v":{"$error":"#REF!"}},{"$f":"'Budget FCFA'!#REF!/VLOOKUP(AU$2,$BO$127:$BP$138,2,FALSE)","v":{"$error":"#REF!"}},{"$f":"'Budget FCFA'!#REF!/VLOOKUP(AV$2,$BO$127:$BP$138,2,FALSE)","v":{"$error":"#REF!"}},{"$f":"'Budget FCFA'!#REF!/VLOOKUP(AW$2,$BO$127:$BP$138,2,FALSE)","v":{"$error":"#REF!"}},{"$f":"'Budget FCFA'!#REF!/VLOOKUP(AX$2,$BO$127:$BP$138,2,FALSE)","v":{"$error":"#REF!"}},{"$f":"'Budget FCFA'!#REF!/VLOOKUP(AY$2,$BO$127:$BP$138,2,FALSE)","v":{"$error":"#REF!"}},{"$f":"'Budget FCFA'!#REF!/VLOOKUP(AZ$2,$BO$127:$BP$138,2,FALSE)","v":{"$error":"#REF!"}},{"$f":"'Budget FCFA'!#REF!/VLOOKUP(BA$2,$BO$127:$BP$138,2,FALSE)","v":{"$error":"#REF!"}},{"$f":"'Budget FCFA'!#REF!/VLOOKUP(BB$2,$BO$127:$BP$138,2,FALSE)","v":{"$error":"#REF!"}},{"$f":"'Budget FCFA'!#REF!/VLOOKUP(BC$2,$BO$127:$BP$138,2,FALSE)","v":{"$error":"#REF!"}},{"$f":"'Budget FCFA'!#REF!/VLOOKUP(BD$2,$BO$127:$BP$138,2,FALSE)","v":{"$error":"#REF!"}},{"$f":"'Budget FCFA'!#REF!/VLOOKUP(BE$2,$BO$127:$BP$138,2,FALSE)","v":{"$error":"#REF!"}},{"$f":"'Budget FCFA'!#REF!/VLOOKUP(BF$2,$BO$127:$BP$138,2,FALSE)","v":{"$error":"#REF!"}},{"$f":"'Budget FCFA'!#REF!/VLOOKUP(BG$2,$BO$127:$BP$138,2,FALSE)","v":{"$error":"#REF!"}},{"$f":"'Budget FCFA'!#REF!/VLOOKUP(BH$2,$BO$127:$BP$138,2,FALSE)","v":{"$error":"#REF!"}},{"$f":"'Budget FCFA'!#REF!/VLOOKUP(BI$2,$BO$127:$BP$138,2,FALSE)","v":{"$error":"#REF!"}},{"$f":"'Budget FCFA'!#REF!/VLOOKUP(BJ$2,$BO$127:$BP$138,2,FALSE)","v":{"$error":"#REF!"}},{"$error":"#REF!"},{"$f":"BK216-'Budget FCFA'!#REF!","v":{"$error":"#REF!"}}]
["PUBCADOS","TOTAL","Cadeaux jeux (bons d'HA)",{"$f":"'Budget FCFA'!D217/VLOOKUP(D$2,$BO$127:$BP$138,2,FALSE)","v":0},{"$f":"'Budget FCFA'!E217/VLOOKUP(E$2,$BO$127:$BP$138,2,FALSE)","v":0},{"$f":"'Budget FCFA'!F217/VLOOKUP(F$2,$BO$127:$BP$138,2,FALSE)","v":0},{"$f":"'Budget FCFA'!G217/VLOOKUP(G$2,$BO$127:$BP$138,2,FALSE)","v":0},{"$f":"'Budget FCFA'!H217/VLOOKUP(H$2,$BO$127:$BP$138,2,FALSE)","v":0},{"$f":"'Budget FCFA'!I217/VLOOKUP(I$2,$BO$127:$BP$138,2,FALSE)","v":303.22109528520923},{"$f":"'Budget FCFA'!J217/VLOOKUP(J$2,$BO$127:$BP$138,2,FALSE)","v":0},{"$f":"'Budget FCFA'!K217/VLOOKUP(K$2,$BO$127:$BP$138,2,FALSE)","v":0},{"$f":"'Budget FCFA'!L217/VLOOKUP(L$2,$BO$127:$BP$138,2,FALSE)","v":0},{"$f":"'Budget FCFA'!M217/VLOOKUP(M$2,$BO$127:$BP$138,2,FALSE)","v":9186.5777787263487},{"$f":"'Budget FCFA'!N217/VLOOKUP(N$2,$BO$127:$BP$138,2,FALSE)","v":0},{"$f":"'Budget FCFA'!O217/VLOOKUP(O$2,$BO$127:$BP$138,2,FALSE)","v":0},{"$f":"'Budget FCFA'!P217/VLOOKUP(P$2,$BO$127:$BP$138,2,FALSE)","v":0},{"$f":"'Budget FCFA'!Q217/VLOOKUP(Q$2,$BO$127:$BP$138,2,FALSE)","v":0},{"$f":"'Budget FCFA'!R217/VLOOKUP(R$2,$BO$127:$BP$138,2,FALSE)","v":0},{"$f":"'Budget FCFA'!S217/VLOOKUP(S$2,$BO$127:$BP$138,2,FALSE)","v":0},{"$f":"'Budget FCFA'!T217/VLOOKUP(T$2,$BO$127:$BP$138,2,FALSE)","v":0},{"$f":"'Budget FCFA'!U217/VLOOKUP(U$2,$BO$127:$BP$138,2,FALSE)","v":0},{"$f":"'Budget FCFA'!V217/VLOOKUP(V$2,$BO$127:$BP$138,2,FALSE)","v":0},{"$f":"'Budget FCFA'!W217/VLOOKUP(W$2,$BO$127:$BP$138,2,FALSE)","v":4929.1340743371902},{"$f":"'Budget FCFA'!X217/VLOOKUP(X$2,$BO$127:$BP$138,2,FALSE)","v":0},{"$f":"'Budget FCFA'!Y217/VLOOKUP(Y$2,$BO$127:$BP$138,2,FALSE)","v":0},{"$f":"'Budget FCFA'!Z217/VLOOKUP(Z$2,$BO$127:$BP$138,2,FALSE)","v":0},{"$f":"'Budget FCFA'!AA217/VLOOKUP(AA$2,$BO$127:$BP$138,2,FALSE)","v":10092.277390133804},{"$f":"'Budget FCFA'!AB217/VLOOKUP(AB$2,$BO$127:$BP$138,2,FALSE)","v":0},{"$f":"'Budget FCFA'!AC217/VLOOKUP(AC$2,$BO$127:$BP$138,2,FALSE)","v":0},{"$f":"'Budget FCFA'!AD217/VLOOKUP(AD$2,$BO$127:$BP$138,2,FALSE)","v":0},{"$f":"'Budget FCFA'!AE217/VLOOKUP(AE$2,$BO$127:$BP$138,2,FALSE)","v":0},{"$f":"'Budget FCFA'!AF217/VLOOKUP(AF$2,$BO$127:$BP$138,2,FALSE)","v":304.4339279435336},{"$f":"'Budget FCFA'!AG217/VLOOKUP(AG$2,$BO$127:$BP$138,2,FALSE)","v":0},{"$f":"'Budget FCFA'!AH217/VLOOKUP(AH$2,$BO$127:$BP$138,2,FALSE)","v":0},{"$f":"'Budget FCFA'!AI217/VLOOKUP(AI$2,$BO$127:$BP$138,2,FALSE)","v":0},{"$f":"'Budget FCFA'!AJ217/VLOOKUP(AJ$2,$BO$127:$BP$138,2,FALSE)","v":0},{"$f":"'Budget FCFA'!AK217/VLOOKUP(AK$2,$BO$127:$BP$138,2,FALSE)","v":762.24508618705192},{"$f":"'Budget FCFA'!AL217/VLOOKUP(AL$2,$BO$127:$BP$138,2,FALSE)","v":2134.2862413237453},{"$f":"'Budget FCFA'!AM217/VLOOKUP(AM$2,$BO$127:$BP$138,2,FALSE)","v":0},{"$f":"'Budget FCFA'!AN217/VLOOKUP(AN$2,$BO$127:$BP$138,2,FALSE)","v":0},{"$f":"'Budget FCFA'!AO217/VLOOKUP(AO$2,$BO$127:$BP$138,2,FALSE)","v":0},{"$f":"'Budget FCFA'!AP217/VLOOKUP(AP$2,$BO$127:$BP$138,2,FALSE)","v":914.69410342446224},{"$f":"'Budget FCFA'!#REF!/VLOOKUP(AQ$2,$BO$127:$BP$138,2,FALSE)","v":{"$error":"#REF!"}},{"$f":"'Budget FCFA'!#REF!/VLOOKUP(AR$2,$BO$127:$BP$138,2,FALSE)","v":{"$error":"#REF!"}},{"$f":"'Budget FCFA'!#REF!/VLOOKUP(AS$2,$BO$127:$BP$138,2,FALSE)","v":{"$error":"#REF!"}},{"$f":"'Budget FCFA'!#REF!/VLOOKUP(AT$2,$BO$127:$BP$138,2,FALSE)","v":{"$error":"#REF!"}},{"$f":"'Budget FCFA'!#REF!/VLOOKUP(AU$2,$BO$127:$BP$138,2,FALSE)","v":{"$error":"#REF!"}},{"$f":"'Budget FCFA'!#REF!/VLOOKUP(AV$2,$BO$127:$BP$138,2,FALSE)","v":{"$error":"#REF!"}},{"$f":"'Budget FCFA'!#REF!/VLOOKUP(AW$2,$BO$127:$BP$138,2,FALSE)","v":{"$error":"#REF!"}},{"$f":"'Budget FCFA'!#REF!/VLOOKUP(AX$2,$BO$127:$BP$138,2,FALSE)","v":{"$error":"#REF!"}},{"$f":"'Budget FCFA'!#REF!/VLOOKUP(AY$2,$BO$127:$BP$138,2,FALSE)","v":{"$error":"#REF!"}},{"$f":"'Budget FCFA'!#REF!/VLOOKUP(AZ$2,$BO$127:$BP$138,2,FALSE)","v":{"$error":"#REF!"}},{"$f":"'Budget FCFA'!#REF!/VLOOKUP(BA$2,$BO$127:$BP$138,2,FALSE)","v":{"$error":"#REF!"}},{"$f":"'Budget FCFA'!#REF!/VLOOKUP(BB$2,$BO$127:$BP$138,2,FALSE)","v":{"$error":"#REF!"}},{"$f":"'Budget FCFA'!#REF!/VLOOKUP(BC$2,$BO$127:$BP$138,2,FALSE)","v":{"$error":"#REF!"}},{"$f":"'Budget FCFA'!#REF!/VLOOKUP(BD$2,$BO$127:$BP$138,2,FALSE)","v":{"$error":"#REF!"}},{"$f":"'Budget FCFA'!#REF!/VLOOKUP(BE$2,$BO$127:$BP$138,2,FALSE)","v":{"$error":"#REF!"}},{"$f":"'Budget FCFA'!#REF!/VLOOKUP(BF$2,$BO$127:$BP$138,2,FALSE)","v":{"$error":"#REF!"}},{"$f":"'Budget FCFA'!#REF!/VLOOKUP(BG$2,$BO$127:$BP$138,2,FALSE)","v":{"$error":"#REF!"}},{"$f":"'Budget FCFA'!#REF!/VLOOKUP(BH$2,$BO$127:$BP$138,2,FALSE)","v":{"$error":"#REF!"}},{"$f":"'Budget FCFA'!#REF!/VLOOKUP(BI$2,$BO$127:$BP$138,2,FALSE)","v":{"$error":"#REF!"}},{"$f":"'Budget FCFA'!#REF!/VLOOKUP(BJ$2,$BO$127:$BP$138,2,FALSE)","v":{"$error":"#REF!"}},{"$error":"#REF!"},{"$f":"BK217-'Budget FCFA'!#REF!","v":{"$error":"#REF!"}}]
[null,"TOTAL","TOTAL budget MKG",{"$f":"D217+D211+D195+D189+D183+D177+D140+D97+D91+D85+D74+D63+D52+D41+D35+D16+D10","v":1499.5937233690622},{"$f":"E217+E211+E195+E189+E183+E177+E140+E97+E91+E85+E74+E63+E52+E41+E35+E16+E10","v":1024.8232734767676},1004.791472611772,0,3846.7719487252971,23613.986892433499,0,0,0,73072.809260896684,0,1459.7694665961337,21232.545730893948,0,18257.958621647456,0,19659.335901591112,0,0,38855.631637836013,4610.5674609768621,2621.0376594807281,0,54030.790538953021,8892.5150352306173,0,0,0,12817.227129873034,6289.342136755914,0,0,0,21365.555471776352,119393.89167277733,13671.80013324044,0,0,7042.0527652727233,{"$error":"#REF!"},{"$error":"#REF!"},{"$error":"#REF!"},{"$error":"#REF!"},{"$error":"#REF!"},{"$error":"#REF!"},{"$error":"#REF!"},{"$error":"#REF!"},{"$error":"#REF!"},{"$error":"#REF!"},{"$error":"#REF!"},{"$error":"#REF!"},{"$error":"#REF!"},{"$error":"#REF!"},{"$error":"#REF!"},{"$error":"#REF!"},{"$error":"#REF!"},{"$error":"#REF!"},{"$error":"#REF!"},{"$error":"#REF!"},{"$f":"SUM(D218:BJ218)","v":{"$error":"#REF!"}},{"$f":"BK218-'Budget FCFA'!#REF!","v":{"$error":"#REF!"}}]
[null,null,"TOTAL budget MKG Menusel",{"$f":"D218+E218+F218+G218+H218","v":7375.9804181828986},{"$f":"E162","v":0},{"$f":"F162","v":0},{"$f":"G162","v":0},{"$f":"H162","v":0},{"$f":"I218+J218+K218+L218","v":23613.986892433499},{"$f":"J162","v":0},{"$f":"K162","v":0},{"$f":"L162","v":0},{"$f":"M218+N218+O218+P218+Q218","v":95765.124458386766},{"$f":"N162","v":0},{"$f":"O162","v":0},{"$f":"P162","v":0},{"$f":"Q162","v":0},{"$f":"R218+S218+T218+U218+V218","v":37917.294523238568},{"$f":"S162","v":0},{"$f":"T162","v":0},{"$f":"U162","v":0},{"$f":"V162","v":0},{"$f":"W218+X218+Y218+Z218+AA218","v":100118.02729724662},{"$f":"X162","v":0},{"$f":"Y162","v":0},{"$f":"Z162","v":0},{"$f":"AA162","v":0},{"$f":"AB218+AC218+AD218+AE218+AF218","v":21709.742165103649},{"$f":"AC162","v":0},{"$f":"AD162","v":0},{"$f":"AE162","v":0},{"$f":"AF162","v":0},{"$f":"AG218+AH218+AI218+AJ218+AK218","v":27654.897608532265},{"$f":"AH162","v":0},{"$f":"AI162","v":0},{"$f":"AJ162","v":0},{"$f":"AK162","v":0},{"$f":"AL218+AM218+AN218+AO218+AP218","v":140107.7445712905},{"$f":"AM162","v":0},{"$f":"AN162","v":0},{"$f":"AO162","v":0},{"$f":"AP162","v":0},{"$f":"AQ218+AR218+AS218+AT218+AU218","v":{"$error":"#REF!"}},{"$f":"AR162","v":{"$error":"#REF!"}},{"$f":"AS162","v":{"$error":"#REF!"}},{"$f":"AT162","v":{"$error":"#REF!"}},{"$f":"AU162","v":{"$error":"#REF!"}},{"$f":"AV218+AW218+AX218+AY218+AZ218","v":{"$error":"#REF!"}},{"$f":"AW162","v":{"$error":"#REF!"}},{"$f":"AX162","v":{"$error":"#REF!"}},{"$f":"AY162","v":{"$error":"#REF!"}},{"$f":"AZ162","v":{"$error":"#REF!"}},{"$f":"BA218+BB218+BC218+BD218+BE218","v":{"$error":"#REF!"}},{"$f":"BB162","v":{"$error":"#REF!"}},{"$f":"BC162","v":{"$error":"#REF!"}},{"$f":"BD162","v":{"$error":"#REF!"}},{"$f":"BE162","v":{"$error":"#REF!"}},{"$f":"BF218+BG218+BH218+BI218+BJ218","v":{"$error":"#REF!"}},{"$f":"BG162","v":{"$error":"#REF!"}},{"$f":"BH162","v":{"$error":"#REF!"}},{"$f":"BI162","v":{"$error":"#REF!"}},{"$f":"BJ162","v":{"$error":"#REF!"}}]
[null,null,null,null,null,null,null,null,null,null,null,null,null,null,null,null,null,null,null,null,null,null,null,null,null,null,null,null,null,null,null,null,null,null,null,null,null,null,null,null,null,null,null,null,null,null,null,null,null,null,null,null,null,null,null,null,null,null,null,null,null,null,{"$f":"BK218/BV152","v":{"$error":"#REF!"}}]
[null,null,null,null,null,null,null,null,null,null,null,null,null,null,null,null,null,null,null,null,null,null,null,null,null,null,null,null,null,null,null,null,null,null,null,null,null,null,null,null,null,null,null,null,null,null,null,null,null,null,null,null,null,null,null,null,null,null,null,null,null,"Budget Pub 3%",{"$f":"BT204*3%","v":0}]
[]
[null,null,null,null,null,null,null,null,null,null,null,null,null,null,null,null,null,null,null,null,null,null,null,null,null,null,null,null,null,null,null,null,null,null,null,null,null,null,null,null,null,null,null,null,null,null,null,null,null,null,null,null,null,null,null,null,null,null,null,null,null,"reste à dépenser",{"$f":"BK221-BK218","v":{"$error":"#REF!"}}]
[]
[]
[]
[]
[]
[]
[]
[null,null,"en Euro","JANVIER","JANVIER","JANVIER","JANVIER","JANVIER","FEVRIER","FEVRIER","FEVRIER","FEVRIER","MARS","MARS","MARS","MARS","MARS","AVRIL","AVRIL","AVRIL","AVRIL","AVRIL","MAI","MAI","MAI","MAI","MAI","JUIN","JUIN","JUIN","JUIN","JUIN","JUILLET","JUILLET","JUILLET","JUILLET","JUILLET","AOUT","AOUT","AOUT","AOUT","AOUT","SEPTEMBRE","SEPTEMBRE","SEPTEMBRE","SEPTEMBRE","SEPTEMBRE","OCTOBRE","OCTOBRE","OCTOBRE","OCTOBRE","OCTOBRE","NOVEMBRE","NOVEMBRE","NOVEMBRE","NOVEMBRE","NOVEMBRE","DECEMBRE","DECEMBRE","DECEMBRE","DECEMBRE","DECEMBRE","TOTAL"]
[null,"PUBCATAL",null,null,null,null,null,{"$f":"SUM(D218:H218)","v":7375.9804181828986},null,null,null,{"$f":"SUM(I218:L218)","v":23613.986892433499},null,null,null,null,{"$f":"SUM(M218:Q218)","v":95765.124458386766},null,null,null,null,{"$f":"SUM(R218:V218)","v":37917.294523238568},null,null,null,null,{"$f":"SUM(W218:AA218)","v":100118.02729724662},null,null,null,null,{"$f":"SUM(AB218:AF218)","v":21709.742165103649},null,null,null,null,{"$f":"SUM(AG218:AK218)","v":27654.897608532265},null,null,null,null,{"$f":"SUM(AL218:AP218)","v":140107.7445712905},null,null,null,null,{"$f":"SUM(AQ218:AU218)","v":{"$error":"#REF!"}},null,null,null,null,{"$f":"SUM(AV218:AZ218)","v":{"$error":"#REF!"}},null,null,null,null,{"$f":"SUM(BA218:BE218)","v":{"$error":"#REF!"}},null,null,null,null,{"$f":"SUM(BF218:BJ218)","v":{"$error":"#REF!"}},{"$f":"SUM(D232:BJ232)","v":{"$error":"#REF!"}}]
[null,null,"TOTAL",null,null,null,null,{"$f":"SUM(H232:H232)","v":7375.9804181828986},null,null,null,{"$f":"SUM(L232:L232)","v":23613.986892433499},null,null,null,null,{"$f":"SUM(Q232:Q232)","v":95765.124458386766},null,null,null,null,{"$f":"SUM(V232:V232)","v":37917.294523238568},null,null,null,null,{"$f":"SUM(AA232:AA232)","v":100118.02729724662},null,null,null,null,{"$f":"SUM(AF232:AF232)","v":21709.742165103649},null,null,null,null,{"$f":"SUM(AK232:AK232)","v":27654.897608532265},null,null,null,null,{"$f":"SUM(AP232:AP232)","v":140107.7445712905},null,null,null,null,{"$f":"SUM(AU232:AU232)","v":{"$error":"#REF!"}},null,null,null,null,{"$f":"SUM(AZ232:AZ232)","v":{"$error":"#REF!"}},null,null,null,null,{"$f":"SUM(BE232:BE232)","v":{"$error":"#REF!"}},null,null,null,null,{"$f":"SUM(BJ232:BJ232)","v":{"$error":"#REF!"}},{"$f":"SUM(D233:BJ233)","v":{"$error":"#REF!"}}]
[null,null,"TOTAL ANNUEL",null,null,null,null,{"$f":"H233","v":7375.9804181828986},null,null,null,{"$f":"H234+L233","v":30989.967310616397},null,null,null,null,{"$f":"L234+Q233","v":126755.09176900316},null,null,null,null,{"$f":"Q234+V233","v":164672.38629224175},null,null,null,null,{"$f":"V234+AA233","v":264790.41358948837},null,null,null,null,{"$f":"AA234+AF233","v":286500.15575459204},null,null,null,null,{"$f":"AF234+AK233","v":314155.05336312432},null,null,null,null,{"$f":"AK234+AP233","v":454262.79793441482},null,null,null,null,{"$f":"AP234+AU233","v":{"$error":"#REF!"}},null,null,null,null,{"$f":"AU234+AZ233","v":{"$error":"#REF!"}},null,null,null,null,{"$f":"AZ234+BE233","v":{"$error":"#REF!"}},null,null,null,null,{"$f":"BE234+BJ233","v":{"$error":"#REF!"}},{"$f":"BJ234","v":{"$error":"#REF!"}}]
[]
[null,null,"en Euro",{"$f":"D231","v":"JANVIER"},null,null,null,null,{"$f":"I231","v":"FEVRIER"},null,null,null,{"$f":"M231","v":"MARS"},null,null,null,null,{"$f":"R231","v":"AVRIL"},null,null,null,null,{"$f":"W231","v":"MAI"},null,null,null,null,{"$f":"AB231","v":"JUIN"},null,null,null,null,{"$f":"AG231","v":"JUILLET"},null,null,null,null,{"$f":"AL231","v":"AOUT"},null,null,null,null,{"$f":"AQ231","v":"SEPTEMBRE"},null,null,null,null,{"$f":"AV231","v":"OCTOBRE"},null,null,null,null,{"$f":"BA231","v":"NOVEMBRE"},null,null,null,null,{"$f":"BF231","v":"DECEMBRE"},null,null,null,null,"TOTAL"]
[null,"PUBCATAL",null,null,null,null,null,{"$f":"IF($BK$220<=3%,H232/2,($BV$152*3%/2)*(H232)/($BK$167))","v":{"$error":"#REF!"}},null,null,null,{"$f":"IF($BK$220<=3%,L232/2,($BV$152*3%/2)*(L232)/($BK$167))","v":{"$error":"#REF!"}},null,null,null,null,{"$f":"IF($BK$220<=3%,Q232/2,($BV$152*3%/2)*(Q232)/($BK$167))","v":{"$error":"#REF!"}},null,null,null,null,{"$f":"IF($BK$220<=3%,V232/2,($BV$152*3%/2)*(V232)/($BK$167))","v":{"$error":"#REF!"}},null,null,null,null,{"$f":"IF($BK$220<=3%,AA232/2,($BV$152*3%/2)*(AA232)/($BK$167))","v":{"$error":"#REF!"}},null,null,null,null,{"$f":"IF($BK$220<=3%,AF232/2,($BV$152*3%/2)*(AF232)/($BK$167))","v":{"$error":"#REF!"}},null,null,null,null,{"$f":"IF($BK$220<=3%,AK232/2,($BV$152*3%/2)*(AK232)/($BK$167))","v":{"$error":"#REF!"}},null,null,null,null,{"$f":"IF($BK$220<=3%,AP232/2,($BV$152*3%/2)*(AP232)/($BK$167))","v":{"$error":"#REF!"}},null,null,null,null,{"$f":"IF($BK$220<=3%,AU232/2,($BV$152*3%/2)*(AU232)/($BK$167))","v":{"$error":"#REF!"}},null,null,null,null,{"$f":"IF($BK$220<=3%,AZ232/2,($BV$152*3%/2)*(AZ232)/($BK$167))","v":{"$error":"#REF!"}},null,null,null,null,{"$f":"IF($BK$220<=3%,BE232/2,($BV$152*3%/2)*(BE232)/($BK$167))","v":{"$error":"#REF!"}},null,null,null,null,{"$f":"IF($BK$220<=3%,BJ232/2,($BV$152*3%/2)*(BJ232)/($BK$167))","v":{"$error":"#REF!"}},{"$f":"+SUM(D237:BJ237)","v":{"$error":"#REF!"}}]
[null,null,"KID hors BAPEES ET CONSOPROV",null,null,null,null,{"$f":"SUM(H237:H237)","v":{"$error":"#REF!"}},null,null,null,{"$f":"SUM(L237:L237)","v":{"$error":"#REF!"}},null,null,null,null,{"$f":"SUM(Q237:Q237)","v":{"$error":"#REF!"}},null,null,null,null,{"$f":"SUM(V237:V237)","v":{"$error":"#REF!"}},null,null,null,null,{"$f":"SUM(AA237:AA237)","v":{"$error":"#REF!"}},null,null,null,null,{"$f":"SUM(AF237:AF237)","v":{"$error":"#REF!"}},null,null,null,null,{"$f":"SUM(AK237:AK237)","v":{"$error":"#REF!"}},null,null,null,null,{"$f":"SUM(AP237:AP237)","v":{"$error":"#REF!"}},null,null,null,null,{"$f":"SUM(AU237:AU237)","v":{"$error":"#REF!"}},null,null,null,null,{"$f":"SUM(AZ237:AZ237)","v":{"$error":"#REF!"}},null,null,null,null,{"$f":"SUM(BE237:BE237)","v":{"$error":"#REF!"}},null,null,null,null,{"$f":"SUM(BJ237:BJ237)","v":{"$error":"#REF!"}},{"$f":"+SUM(D238:BJ238)","v":{"$error":"#REF!"}}]
[null,null,"KID hors BAPEES ET CONSOPROV ANNUEL",null,null,null,null,{"$f":"H238","v":{"$error":"#REF!"}},null,null,null,{"$f":"H239+L238","v":{"$error":"#REF!"}},null,null,null,null,{"$f":"L239+Q238","v":{"$error":"#REF!"}},null,null,null,null,{"$f":"Q239+V238","v":{"$error":"#REF!"}},null,null,null,null,{"$f":"V239+AA238","v":{"$error":"#REF!"}},null,null,null,null,{"$f":"AA239+AF238","v":{"$error":"#REF!"}},null,null,null,null,{"$f":"AF239+AK238","v":{"$error":"#REF!"}},null,null,null,null,{"$f":"AK239+AP238","v":{"$error":"#REF!"}},null,null,null,null,{"$f":"AP239+AU238","v":{"$error":"#REF!"}},null,null,null,null,{"$f":"AU239+AZ238","v":{"$error":"#REF!"}},null,null,null,null,{"$f":"AZ239+BE238","v":{"$error":"#REF!"}},null,null,null,null,{"$f":"BE239+BJ238","v":{"$error":"#REF!"}},{"$f":"BJ239","v":{"$error":"#REF!"}}]
[null,null,null,null,null,null,null,"INFO COMPTA AU CUMUL"]
[null,"PUBCATAL","COMPTA",null,null,null,null,null,null,null,null,null,null,null,null,null,null,null,null,null,null,null,null,null,null,null,null,null,null,null,null,null,null,null,null,null,145422.5,null,null,null,null,149976.21999999997,null,null,null,null,154883.49999999991,null,null,null,null,null,null,null,null,null,null,null,null,null,null,null,{"$f":"+SUM(D241:BJ241)","v":450282.21999999986}]
[null,null,"TOTAL BAPEE + CONSOPROV",null,null,null,null,{"$f":"SUM(H241:H241)","v":0},null,null,null,{"$f":"SUM(L241:L241)","v":0},null,null,null,null,{"$f":"SUM(Q241:Q241)","v":0},null,null,null,null,{"$f":"SUM(V241:V241)","v":0},null,null,null,null,{"$f":"SUM(AA241:AA241)","v":0},null,null,null,null,{"$f":"SUM(AF241:AF241)","v":0},null,null,null,null,{"$f":"SUM(AK241:AK241)","v":145422.5},null,null,null,null,{"$f":"SUM(AP241:AP241)","v":149976.21999999997},null,null,null,null,{"$f":"SUM(AU241:AU241)","v":154883.49999999991},null,null,null,null,{"$f":"SUM(AZ241:AZ241)","v":0},null,null,null,null,{"$f":"SUM(BE241:BE241)","v":0},null,null,null,null,{"$f":"SUM(BJ241:BJ241)","v":0},{"$f":"SUM(BK241:BK241)","v":450282.21999999986}]
[null,null,"TOTAL BAPEE + CONSOPROV SEMESTRE",null,null,null,null,{"$f":"H242","v":0},null,null,null,{"$f":"L242","v":0},null,null,null,null,{"$f":"Q242","v":0},null,null,null,null,{"$f":"V242","v":0},null,null,null,null,{"$f":"AA242","v":0},null,null,null,null,{"$f":"AF242","v":0},null,null,null,null,{"$f":"AK242","v":145422.5},null,null,null,null,{"$f":"AP242","v":149976.21999999997},null,null,null,null,{"$f":"AU242","v":154883.49999999991},null,null,null,null,{"$f":"AZ242","v":0},null,null,null,null,{"$f":"BE242","v":0},null,null,null,null,{"$f":"BJ242","v":0},{"$f":"BJ243","v":0}]
[]
[null,"PUBCATAL",null,null,null,null,null,{"$f":"IF($BJ$76<=3%,H241/2,($AY$87*3%/2)*(H241)/($BJ$75))","v":{"$error":"#REF!"}},null,null,null,{"$f":"IF($BJ$76<=3%,L241/2,($AY$87*3%/2)*(L241)/($BJ$75))","v":{"$error":"#REF!"}},null,null,null,null,{"$f":"IF($BJ$76<=3%,Q241/2,($AY$87*3%/2)*(Q241)/($BJ$75))","v":{"$error":"#REF!"}},null,null,null,null,{"$f":"IF($BJ$76<=3%,V241/2,($AY$87*3%/2)*(V241)/($BJ$75))","v":{"$error":"#REF!"}},null,null,null,null,{"$f":"IF($BJ$76<=3%,AA241/2,($AY$87*3%/2)*(AA241)/($BJ$75))","v":{"$error":"#REF!"}},null,null,null,null,{"$f":"IF($BJ$76<=3%,AF241/2,($AY$87*3%/2)*(AF241)/($BJ$75))","v":{"$error":"#REF!"}},null,null,null,null,{"$f":"IF($BJ$76<=3%,AK241/2,($AY$87*3%/2)*(AK241)/($BJ$75))","v":{"$error":"#REF!"}},null,null,null,null,{"$f":"IF($BJ$76<=3%,AP241/2,($AY$87*3%/2)*(AP241)/($BJ$75))","v":{"$error":"#REF!"}},null,null,null,null,{"$f":"IF($BJ$76<=3%,AU241/2,($AY$87*3%/2)*(AU241)/($BJ$75))","v":{"$error":"#REF!"}},null,null,null,null,{"$f":"IF($BJ$76<=3%,AZ241/2,($AY$87*3%/2)*(AZ241)/($BJ$75))","v":{"$error":"#REF!"}},null,null,null,null,{"$f":"IF($BJ$76<=3%,BE241/2,($AY$87*3%/2)*(BE241)/($BJ$75))","v":{"$error":"#REF!"}},null,null,null,null,{"$f":"IF($BJ$76<=3%,BJ241/2,($AY$87*3%/2)*(BJ241)/($BJ$75))","v":{"$error":"#REF!"}},{"$f":"BE245+BJ245","v":{"$error":"#REF!"}}]
[null,null,"KID BAPEE + CONSOPROV",null,null,null,null,{"$f":"SUM(H245:H245)","v":{"$error":"#REF!"}},null,null,null,{"$f":"SUM(L245:L245)","v":{"$error":"#REF!"}},null,null,null,null,{"$f":"SUM(Q245:Q245)","v":{"$error":"#REF!"}},null,null,null,null,{"$f":"SUM(V245:V245)","v":{"$error":"#REF!"}},null,null,null,null,{"$f":"SUM(AA245:AA245)","v":{"$error":"#REF!"}},null,null,null,null,{"$f":"SUM(AF245:AF245)","v":{"$error":"#REF!"}},null,null,null,null,{"$f":"SUM(AK245:AK245)","v":{"$error":"#REF!"}},null,null,null,null,{"$f":"SUM(AP245:AP245)","v":{"$error":"#REF!"}},null,null,null,null,{"$f":"SUM(AU245:AU245)","v":{"$error":"#REF!"}},null,null,null,null,{"$f":"SUM(AZ245:AZ245)","v":{"$error":"#REF!"}},null,null,null,null,{"$f":"SUM(BE245:BE245)","v":{"$error":"#REF!"}},null,null,null,null,{"$f":"SUM(BJ245:BJ245)","v":{"$error":"#REF!"}},{"$f":"SUM(BK245:BK245)","v":{"$error":"#REF!"}}]
[null,null,"KID BAPEE + CONSOPROV SEMESTRE",null,null,null,null,{"$f":"H246","v":{"$error":"#REF!"}},null,null,null,{"$f":"H247+L246","v":{"$error":"#REF!"}},null,null,null,null,{"$f":"L247+Q246","v":{"$error":"#REF!"}},null,null,null,null,{"$f":"Q247+V246","v":{"$error":"#REF!"}},null,null,null,null,{"$f":"AA246","v":{"$error":"#REF!"}},null,null,null,null,{"$f":"AF246","v":{"$error":"#REF!"}},null,null,null,null,{"$f":"AK246","v":{"$error":"#REF!"}},null,null,null,null,{"$f":"AP246","v":{"$error":"#REF!"}},null,null,null,null,{"$f":"AU246","v":{"$error":"#REF!"}},null,null,null,null,{"$f":"AU247+AZ246","v":{"$error":"#REF!"}},null,null,null,null,{"$f":"AZ247+BE246","v":{"$error":"#REF!"}},null,null,null,null,{"$f":"BE247+BJ246","v":{"$error":"#REF!"}},{"$f":"BJ247","v":{"$error":"#REF!"}}]