{"text_format":"1","workbook":"xlsx","n_sheets":2,"sheets":["Feuil1","Feuil2"],"not_rendered":{"charts":0,"images":0,"macros":1,"external_links":0,"defined_names":1,"comments":0,"pivot_tables":0},"unopened":[],"bounds":{"document_bytes":16777216,"sheet_cells":100000,"rows_first":2000,"rows_last":500,"rows_between":2000,"halvings":0,"cell_chars":16384,"cell_head_chars":4096},"cells_cut":0,"cells_raw":0,"read":"whole","date_system":"1900"}

{"sheet":"Feuil1","index":0,"n_rows":4,"n_cols":7,"rows_kept":4,"cut":false,"hidden":false,"merged":[]}
[]
[1,"az","OK",23,"OP",90,"accepté"]
[]
[1,"az","OK",23,"OP",90,"accepté"]

{"sheet":"Feuil2","index":1,"n_rows":12,"n_cols":7,"rows_kept":12,"cut":false,"hidden":false,"merged":[]}
["colonne 1","colonne 2","colonne 3","colonne 4","colonne 5","colonne 6","colonne 7"]
[{"$f":"IF(Feuil1!$G2=\"accepté\",Feuil1!A2,\"\")","v":1},{"$f":"IF(Feuil1!$G2=\"accepté\",Feuil1!B2,\"\")","v":"az"},{"$f":"IF(Feuil1!$G2=\"accepté\",Feuil1!C2,\"\")","v":"OK"},{"$f":"IF(Feuil1!$G2=\"accepté\",Feuil1!D2,\"\")","v":23},{"$f":"IF(Feuil1!$G2=\"accepté\",Feuil1!E2,\"\")","v":"OP"},{"$f":"IF(Feuil1!$G2=\"accepté\",Feuil1!F2,\"\")","v":90},{"$f":"IF(Feuil1!$G2=\"accepté\",Feuil1!G2,\"\")","v":"accepté"}]
[{"$f":"IF(Feuil1!$G3=\"accepté\",Feuil1!A3,\"\")","v":""},{"$f":"IF(Feuil1!$G3=\"accepté\",Feuil1!B3,\"\")","v":""},{"$f":"IF(Feuil1!$G3=\"accepté\",Feuil1!C3,\"\")","v":""},{"$f":"IF(Feuil1!$G3=\"accepté\",Feuil1!D3,\"\")","v":""},{"$f":"IF(Feuil1!$G3=\"accepté\",Feuil1!E3,\"\")","v":""},{"$f":"IF(Feuil1!$G3=\"accepté\",Feuil1!F3,\"\")","v":""},{"$f":"IF(Feuil1!$G3=\"accepté\",Feuil1!G3,\"\")","v":""}]
[{"$f":"IF(Feuil1!$G4=\"accepté\",Feuil1!A4,\"\")","v":1},{"$f":"IF(Feuil1!$G4=\"accepté\",Feuil1!B4,\"\")","v":"az"},{"$f":"IF(Feuil1!$G4=\"accepté\",Feuil1!C4,\"\")","v":"OK"},{"$f":"IF(Feuil1!$G4=\"accepté\",Feuil1!D4,\"\")","v":23},{"$f":"IF(Feuil1!$G4=\"accepté\",Feuil1!E4,\"\")","v":"OP"},{"$f":"IF(Feuil1!$G4=\"accepté\",Feuil1!F4,\"\")","v":90},{"$f":"IF(Feuil1!$G4=\"accepté\",Feuil1!G4,\"\")","v":"accepté"}]
[{"$f":"IF(Feuil1!$G5=\"accepté\",Feuil1!A5,\"\")","v":""},{"$f":"IF(Feuil1!$G5=\"accepté\",Feuil1!B5,\"\")","v":""},{"$f":"IF(Feuil1!$G5=\"accepté\",Feuil1!C5,\"\")","v":""},{"$f":"IF(Feuil1!$G5=\"accepté\",Feuil1!D5,\"\")","v":""},{"$f":"IF(Feuil1!$G5=\"accepté\",Feuil1!E5,\"\")","v":""},{"$f":"IF(Feuil1!$G5=\"accepté\",Feuil1!F5,\"\")","v":""},{"$f":"IF(Feuil1!$G5=\"accepté\",Feuil1!G5,\"\")","v":""}]
[{"$f":"IF(Feuil1!$G6=\"accepté\",Feuil1!A6,\"\")","v":""},{"$f":"IF(Feuil1!$G6=\"accepté\",Feuil1!B6,\"\")","v":""},{"$f":"IF(Feuil1!$G6=\"accepté\",Feuil1!C6,\"\")","v":""},{"$f":"IF(Feuil1!$G6=\"accepté\",Feuil1!D6,\"\")","v":""},{"$f":"IF(Feuil1!$G6=\"accepté\",Feuil1!E6,\"\")","v":""},{"$f":"IF(Feuil1!$G6=\"accepté\",Feuil1!F6,\"\")","v":""},{"$f":"IF(Feuil1!$G6=\"accepté\",Feuil1!G6,\"\")","v":""}]
[{"$f":"IF(Feuil1!$G7=\"accepté\",Feuil1!A7,\"\")","v":""},{"$f":"IF(Feuil1!$G7=\"accepté\",Feuil1!B7,\"\")","v":""},{"$f":"IF(Feuil1!$G7=\"accepté\",Feuil1!C7,\"\")","v":""},{"$f":"IF(Feuil1!$G7=\"accepté\",Feuil1!D7,\"\")","v":""},{"$f":"IF(Feuil1!$G7=\"accepté\",Feuil1!E7,\"\")","v":""},{"$f":"IF(Feuil1!$G7=\"accepté\",Feuil1!F7,\"\")","v":""},{"$f":"IF(Feuil1!$G7=\"accepté\",Feuil1!G7,\"\")","v":""}]
[{"$f":"IF(Feuil1!$G8=\"accepté\",Feuil1!A8,\"\")","v":""},{"$f":"IF(Feuil1!$G8=\"accepté\",Feuil1!B8,\"\")","v":""},{"$f":"IF(Feuil1!$G8=\"accepté\",Feuil1!C8,\"\")","v":""},{"$f":"IF(Feuil1!$G8=\"accepté\",Feuil1!D8,\"\")","v":""},{"$f":"IF(Feuil1!$G8=\"accepté\",Feuil1!E8,\"\")","v":""},{"$f":"IF(Feuil1!$G8=\"accepté\",Feuil1!F8,\"\")","v":""},{"$f":"IF(Feuil1!$G8=\"accepté\",Feuil1!G8,\"\")","v":""}]
[{"$f":"IF(Feuil1!$G9=\"accepté\",Feuil1!A9,\"\")","v":""},{"$f":"IF(Feuil1!$G9=\"accepté\",Feuil1!B9,\"\")","v":""},{"$f":"IF(Feuil1!$G9=\"accepté\",Feuil1!C9,\"\")","v":""},{"$f":"IF(Feuil1!$G9=\"accepté\",Feuil1!D9,\"\")","v":""},{"$f":"IF(Feuil1!$G9=\"accepté\",Feuil1!E9,\"\")","v":""},{"$f":"IF(Feuil1!$G9=\"accepté\",Feuil1!F9,\"\")","v":""},{"$f":"IF(Feuil1!$G9=\"accepté\",Feuil1!G9,\"\")","v":""}]
[{"$f":"IF(Feuil1!$G10=\"accepté\",Feuil1!A10,\"\")","v":""},{"$f":"IF(Feuil1!$G10=\"accepté\",Feuil1!B10,\"\")","v":""},{"$f":"IF(Feuil1!$G10=\"accepté\",Feuil1!C10,\"\")","v":""},{"$f":"IF(Feuil1!$G10=\"accepté\",Feuil1!D10,\"\")","v":""},{"$f":"IF(Feuil1!$G10=\"accepté\",Feuil1!E10,\"\")","v":""},{"$f":"IF(Feuil1!$G10=\"accepté\",Feuil1!F10,\"\")","v":""},{"$f":"IF(Feuil1!$G10=\"accepté\",Feuil1!G10,\"\")","v":""}]
[{"$f":"IF(Feuil1!$G11=\"accepté\",Feuil1!A11,\"\")","v":""},{"$f":"IF(Feuil1!$G11=\"accepté\",Feuil1!B11,\"\")","v":""},{"$f":"IF(Feuil1!$G11=\"accepté\",Feuil1!C11,\"\")","v":""},{"$f":"IF(Feuil1!$G11=\"accepté\",Feuil1!D11,\"\")","v":""},{"$f":"IF(Feuil1!$G11=\"accepté\",Feuil1!E11,\"\")","v":""},{"$f":"IF(Feuil1!$G11=\"accepté\",Feuil1!F11,\"\")","v":""},{"$f":"IF(Feuil1!$G11=\"accepté\",Feuil1!G11,\"\")","v":""}]
[{"$f":"IF(Feuil1!$G12=\"accepté\",Feuil1!A12,\"\")","v":""},{"$f":"IF(Feuil1!$G12=\"accepté\",Feuil1!B12,\"\")","v":""},{"$f":"IF(Feuil1!$G12=\"accepté\",Feuil1!C12,\"\")","v":""},{"$f":"IF(Feuil1!$G12=\"accepté\",Feuil1!D12,\"\")","v":""},{"$f":"IF(Feuil1!$G12=\"accepté\",Feuil1!E12,\"\")","v":""},{"$f":"IF(Feuil1!$G12=\"accepté\",Feuil1!F12,\"\")","v":""},{"$f":"IF(Feuil1!$G12=\"accepté\",Feuil1!G12,\"\")","v":""}]