{"text_format":"1","workbook":"xlsx","n_sheets":2,"sheets":["Basic Elements","Schedule"],"not_rendered":{"charts":0,"images":0,"macros":1,"external_links":0,"defined_names":4,"comments":0,"pivot_tables":0},"unopened":[],"bounds":{"document_bytes":16777216,"sheet_cells":100000,"rows_first":2000,"rows_last":500,"rows_between":2000,"halvings":0,"cell_chars":16384,"cell_head_chars":4096},"cells_cut":0,"cells_raw":0,"read":"whole","date_system":"1900"}

{"sheet":"Basic Elements","index":0,"n_rows":374,"n_cols":17,"rows_kept":374,"cut":false,"hidden":false,"merged":[[3,3,3,16],[0,0,0,16],[43,3,43,4],[7,0,7,1],[3,0,4,0],[3,1,4,1]]}
["Basic elements for feeding the tables on the following pages"]
[]
[]
["Start year",2022,null,"Title positions and hourly wage year"]
[null,null,null,"Name employees","Work station","Jan-00","January-01","mars-21","avr.-21","mai-21","juin-21","juil.-21","août-21","sept.-21","oct.-21","nov.-21","déc.-21"]
[null,null,null,"Employé 1","Position 1",0,0,0,0,0,0,0,0,0,0,0,0]
[null,null,null,"Employé 2","Position 2",0,0,0,0,0,0,0,0,0,0,0,0]
["Annual Calendar ",null,null,"Employé 3","Position 3",15,15,15,15,15,15,15,15,15,15,15,15]
["Days","Dates",null,"Employé 4","Position 4",25,25,25,25,25,25,25,25,25,25,25,25]
["Saturday",{"$f":"DATE(B4,1,1)","v":"2022-01-01"},null,"Employé 5","Position 5",11,11,11,11,11,11,11,11,11,11,11,11]
["Sunday",{"$f":"B10+1","v":"2022-01-02"},null,"Employé 6","Position 6",16,16,16,16,16,16,16,16,16,16,16,16]
["Monday",{"$f":"B11+1","v":"2022-01-03"},null,"Employé 7","Position 7",13,13,13,13,13,13,13,13,13,13,13,13]
["Tuesday",{"$f":"B12+1","v":"2022-01-04"},null,"Employé 8","Position 8",13,13,13,13,13,13,13,13,13,13,13,13]
["Wednesday","2022-01-05",null,"Employé 9","Position 9",13,13,13,13,13,13,13,13,13,13,13,13]
["Thursday","2022-01-06",null,"Employé 10","Position 10",10,10,10,10,10,10,10,10,10,10,10,10]
["Friday","2022-01-07",null,"Employé 11","Position 11",12,12,12,12,12,12,12,12,12,12,12,12]
["Saturday","2022-01-08",null,"Employé 12","Position 12",14,14,14,14,14,14,14,14,14,14,14,14]
["Sunday","2022-01-09",null,"Employé 13","Position 13",18,18,18,18,18,18,18,18,18,18,18,18]
["Monday","2022-01-10",null,"Employé 14","Position 14",11,11,11,11,11,11,11,11,11,11,11,11]
["Tuesday","2022-01-11",null,"Employé 15","Position 15",11,11,11,11,11,11,11,11,11,11,11,11]
["Wednesday","2022-01-12",null,"Employé 16","Position 16",11,11,11,11,11,11,11,11,11,11,11,11]
["Thursday","2022-01-13",null,"Employé 17","Position 17",11,11,11,11,11,11,11,11,11,11,11,11]
["Friday","2022-01-14",null,"Employé 18","Position 18",11,11,11,11,11,11,11,11,11,11,11,11]
["Saturday","2022-01-15",null,"Employé 19","Position 19",11,11,11,11,11,11,11,11,11,11,11,11]
["Sunday","2022-01-16",null,"Employé 20","Position 20",11,11,11,11,11,11,11,11,11,11,11,11]
["Monday","2022-01-17",null,"Employé 21","Position 21",11,11,11,11,11,11,11,11,11,11,11,11]
["Tuesday","2022-01-18",null,"Employé 22","Position 22",11,11,11,11,11,11,11,11,11,11,11,11]
["Wednesday","2022-01-19",null,"Employé 23","Position 23"]
["Thursday","2022-01-20",null,"Employé 24","Position 24"]
["Friday","2022-01-21",null,"Employé 25","Position 25"]
["Saturday","2022-01-22",null,"Employé 26","Position 26"]
["Sunday","2022-01-23",null,"Employé 27","Position 27"]
["Monday","2022-01-24",null,"Employé 28","Position 28"]
["Tuesday","2022-01-25",null,"Employé 29","Position 29"]
["Wednesday","2022-01-26",null,"Employé 30","Position 30"]
["Thursday","2022-01-27",null,"Employé 31","Position 31"]
["Friday","2022-01-28",null,"Employé 32","Position 32"]
["Saturday","2022-01-29",null,"Employé 33","Position 33"]
["Sunday","2022-01-30",null,"Employé 34","Position 34"]
["Monday","2022-01-31",null,"Employé 35","Position 35"]
["Tuesday","2022-02-01",null,"Employé 36","Position 36"]
["Wednesday","2022-02-02"]
["Thursday","2022-02-03"]
["Friday","2022-02-04",null,"Gross salary expenses"]
["Saturday","2022-02-05"]
["Sunday","2022-02-06",null,"FED FIT"]
["Monday","2022-02-07",null,"FED SOCSEC"]
["Tuesday","2022-02-08",null,"FED MEDCARE"]
["Wednesday","2022-02-09",null,"FED SOCSEC-ER"]
["Thursday","2022-02-10",null,"FED MEDCARE-ER"]
["Friday","2022-02-11",null,"FED FUTA"]
["Saturday","2022-02-12",null,"FL SUI-ER"]
["Sunday","2022-02-13"]
["Monday","2022-02-14"]
["Tuesday","2022-02-15"]
["Wednesday","2022-02-16"]
["Thursday","2022-02-17"]
["Friday","2022-02-18"]
["Saturday","2022-02-19"]
["Sunday","2022-02-20"]
["Monday","2022-02-21"]
["Tuesday","2022-02-22"]
["Wednesday","2022-02-23"]
["Thursday","2022-02-24"]
["Friday","2022-02-25"]
["Saturday","2022-02-26"]
["Sunday","2022-02-27"]
["Monday","2022-02-28"]
["Tuesday","2022-03-01"]
["Wednesday","2022-03-02"]
["Thursday","2022-03-03"]
["Friday","2022-03-04"]
["Saturday","2022-03-05"]
["Sunday","2022-03-06"]
["Monday","2022-03-07"]
["Tuesday","2022-03-08"]
["Wednesday",{"$f":"B76+1","v":"2022-03-09"}]
["Thursday","2022-03-10"]
["Friday","2022-03-11"]
["Saturday","2022-03-12"]
["Sunday","2022-03-13"]
["Monday","2022-03-14"]
["Tuesday","2022-03-15"]
["Wednesday","2022-03-16"]
["Thursday","2022-03-17"]
["Friday","2022-03-18"]
["Saturday","2022-03-19"]
["Sunday","2022-03-20"]
["Monday","2022-03-21"]
["Tuesday","2022-03-22"]
["Wednesday","2022-03-23"]
["Thursday","2022-03-24"]
["Friday","2022-03-25"]
["Saturday","2022-03-26"]
["Sunday","2022-03-27"]
["Monday","2022-03-28"]
["Tuesday","2022-03-29"]
["Wednesday","2022-03-30"]
["Thursday","2022-03-31"]
["Friday","2022-04-01"]
["Saturday","2022-04-02"]
["Sunday","2022-04-03"]
["Monday","2022-04-04"]
["Tuesday","2022-04-05"]
["Wednesday","2022-04-06"]
["Thursday","2022-04-07"]
["Friday","2022-04-08"]
["Saturday","2022-04-09"]
["Sunday","2022-04-10"]
["Monday","2022-04-11"]
["Tuesday","2022-04-12"]
["Wednesday","2022-04-13"]
["Thursday","2022-04-14"]
["Friday","2022-04-15"]
["Saturday","2022-04-16"]
["Sunday","2022-04-17"]
["Monday","2022-04-18"]
["Tuesday","2022-04-19"]
["Wednesday","2022-04-20"]
["Thursday","2022-04-21"]
["Friday","2022-04-22"]
["Saturday","2022-04-23"]
["Sunday","2022-04-24"]
["Monday","2022-04-25"]
["Tuesday","2022-04-26"]
["Wednesday","2022-04-27"]
["Thursday","2022-04-28"]
["Friday","2022-04-29"]
["Saturday","2022-04-30"]
["Sunday","2022-05-01"]
["Monday","2022-05-02"]
["Tuesday","2022-05-03"]
["Wednesday","2022-05-04"]
["Thursday","2022-05-05"]
["Friday","2022-05-06"]
["Saturday","2022-05-07"]
["Sunday","2022-05-08"]
["Monday","2022-05-09"]
["Tuesday","2022-05-10"]
["Wednesday","2022-05-11"]
["Thursday",{"$f":"B140+1","v":"2022-05-12"}]
["Friday","2022-05-13"]
["Saturday","2022-05-14"]
["Sunday","2022-05-15"]
["Monday","2022-05-16"]
["Tuesday","2022-05-17"]
["Wednesday","2022-05-18"]
["Thursday","2022-05-19"]
["Friday","2022-05-20"]
["Saturday","2022-05-21"]
["Sunday","2022-05-22"]
["Monday","2022-05-23"]
["Tuesday","2022-05-24"]
["Wednesday","2022-05-25"]
["Thursday","2022-05-26"]
["Friday","2022-05-27"]
["Saturday","2022-05-28"]
["Sunday","2022-05-29"]
["Monday","2022-05-30"]
["Tuesday","2022-05-31"]
["Wednesday","2022-06-01"]
["Thursday","2022-06-02"]
["Friday","2022-06-03"]
["Saturday","2022-06-04"]
["Sunday","2022-06-05"]
["Monday","2022-06-06"]
["Tuesday","2022-06-07"]
["Wednesday","2022-06-08"]
["Thursday","2022-06-09"]
["Friday","2022-06-10"]
["Saturday","2022-06-11"]
["Sunday","2022-06-12"]
["Monday","2022-06-13"]
["Tuesday","2022-06-14"]
["Wednesday","2022-06-15"]
["Thursday","2022-06-16"]
["Friday","2022-06-17"]
["Saturday","2022-06-18"]
["Sunday","2022-06-19"]
["Monday","2022-06-20"]
["Tuesday","2022-06-21"]
["Wednesday","2022-06-22"]
["Thursday","2022-06-23"]
["Friday","2022-06-24"]
["Saturday","2022-06-25"]
["Sunday","2022-06-26"]
["Monday","2022-06-27"]
["Tuesday","2022-06-28"]
["Wednesday","2022-06-29"]
["Thursday","2022-06-30"]
["Friday","2022-07-01"]
["Saturday","2022-07-02"]
["Sunday","2022-07-03"]
["Monday","2022-07-04"]
["Tuesday","2022-07-05"]
["Wednesday","2022-07-06"]
["Thursday","2022-07-07"]
["Friday","2022-07-08"]
["Saturday","2022-07-09"]
["Sunday","2022-07-10"]
["Monday","2022-07-11"]
["Tuesday","2022-07-12"]
["Wednesday","2022-07-13"]
["Thursday","2022-07-14"]
["Friday",{"$f":"B204+1","v":"2022-07-15"}]
["Saturday","2022-07-16"]
["Sunday","2022-07-17"]
["Monday","2022-07-18"]
["Tuesday","2022-07-19"]
["Wednesday","2022-07-20"]
["Thursday","2022-07-21"]
["Friday","2022-07-22"]
["Saturday","2022-07-23"]
["Sunday","2022-07-24"]
["Monday","2022-07-25"]
["Tuesday","2022-07-26"]
["Wednesday","2022-07-27"]
["Thursday","2022-07-28"]
["Friday","2022-07-29"]
["Saturday","2022-07-30"]
["Sunday","2022-07-31"]
["Monday","2022-08-01"]
["Tuesday","2022-08-02"]
["Wednesday","2022-08-03"]
["Thursday","2022-08-04"]
["Friday","2022-08-05"]
["Saturday","2022-08-06"]
["Sunday","2022-08-07"]
["Monday","2022-08-08"]
["Tuesday","2022-08-09"]
["Wednesday","2022-08-10"]
["Thursday","2022-08-11"]
["Friday","2022-08-12"]
["Saturday","2022-08-13"]
["Sunday","2022-08-14"]
["Monday","2022-08-15"]
["Tuesday","2022-08-16"]
["Wednesday","2022-08-17"]
["Thursday","2022-08-18"]
["Friday","2022-08-19"]
["Saturday","2022-08-20"]
["Sunday","2022-08-21"]
["Monday","2022-08-22"]
["Tuesday","2022-08-23"]
["Wednesday","2022-08-24"]
["Thursday","2022-08-25"]
["Friday","2022-08-26"]
["Saturday","2022-08-27"]
["Sunday","2022-08-28"]
["Monday","2022-08-29"]
["Tuesday","2022-08-30"]
["Wednesday","2022-08-31"]
["Thursday","2022-09-01"]
["Friday","2022-09-02"]
["Saturday","2022-09-03"]
["Sunday","2022-09-04"]
["Monday","2022-09-05"]
["Tuesday","2022-09-06"]
["Wednesday","2022-09-07"]
["Thursday","2022-09-08"]
["Friday","2022-09-09"]
["Saturday","2022-09-10"]
["Sunday","2022-09-11"]
["Monday","2022-09-12"]
["Tuesday","2022-09-13"]
["Wednesday","2022-09-14"]
["Thursday","2022-09-15"]
["Friday","2022-09-16"]
["Saturday",{"$f":"B268+1","v":"2022-09-17"}]
["Sunday","2022-09-18"]
["Monday","2022-09-19"]
["Tuesday","2022-09-20"]
["Wednesday","2022-09-21"]
["Thursday","2022-09-22"]
["Friday","2022-09-23"]
["Saturday","2022-09-24"]
["Sunday","2022-09-25"]
["Monday","2022-09-26"]
["Tuesday","2022-09-27"]
["Wednesday","2022-09-28"]
["Thursday","2022-09-29"]
["Friday","2022-09-30"]
["Saturday","2022-10-01"]
["Sunday","2022-10-02"]
["Monday","2022-10-03"]
["Tuesday","2022-10-04"]
["Wednesday","2022-10-05"]
["Thursday","2022-10-06"]
["Friday","2022-10-07"]
["Saturday","2022-10-08"]
["Sunday","2022-10-09"]
["Monday","2022-10-10"]
["Tuesday","2022-10-11"]
["Wednesday","2022-10-12"]
["Thursday","2022-10-13"]
["Friday","2022-10-14"]
["Saturday","2022-10-15"]
["Sunday","2022-10-16"]
["Monday","2022-10-17"]
["Tuesday","2022-10-18"]
["Wednesday","2022-10-19"]
["Thursday","2022-10-20"]
["Friday","2022-10-21"]
["Saturday","2022-10-22"]
["Sunday","2022-10-23"]
["Monday","2022-10-24"]
["Tuesday","2022-10-25"]
["Wednesday","2022-10-26"]
["Thursday","2022-10-27"]
["Friday","2022-10-28"]
["Saturday","2022-10-29"]
["Sunday","2022-10-30"]
["Monday","2022-10-31"]
["Tuesday","2022-11-01"]
["Wednesday","2022-11-02"]
["Thursday","2022-11-03"]
["Friday","2022-11-04"]
["Saturday","2022-11-05"]
["Sunday","2022-11-06"]
["Monday","2022-11-07"]
["Tuesday","2022-11-08"]
["Wednesday","2022-11-09"]
["Thursday","2022-11-10"]
["Friday","2022-11-11"]
["Saturday","2022-11-12"]
["Sunday","2022-11-13"]
["Monday","2022-11-14"]
["Tuesday","2022-11-15"]
["Wednesday","2022-11-16"]
["Thursday","2022-11-17"]
["Friday","2022-11-18"]
["Saturday","2022-11-19"]
["Sunday",{"$f":"B332+1","v":"2022-11-20"}]
["Monday","2022-11-21"]
["Tuesday","2022-11-22"]
["Wednesday","2022-11-23"]
["Thursday","2022-11-24"]
["Friday","2022-11-25"]
["Saturday","2022-11-26"]
["Sunday","2022-11-27"]
["Monday","2022-11-28"]
["Tuesday","2022-11-29"]
["Wednesday","2022-11-30"]
["Thursday","2022-12-01"]
["Friday","2022-12-02"]
["Saturday","2022-12-03"]
["Sunday","2022-12-04"]
["Monday","2022-12-05"]
["Tuesday","2022-12-06"]
["Wednesday","2022-12-07"]
["Thursday","2022-12-08"]
["Friday","2022-12-09"]
["Saturday","2022-12-10"]
["Sunday","2022-12-11"]
["Monday","2022-12-12"]
["Tuesday","2022-12-13"]
["Wednesday","2022-12-14"]
["Thursday","2022-12-15"]
["Friday","2022-12-16"]
["Saturday","2022-12-17"]
["Sunday","2022-12-18"]
["Monday","2022-12-19"]
["Tuesday","2022-12-20"]
["Wednesday","2022-12-21"]
["Thursday","2022-12-22"]
["Friday","2022-12-23"]
["Saturday","2022-12-24"]
["Sunday","2022-12-25"]
["Monday","2022-12-26"]
["Tuesday","2022-12-27"]
["Wednesday","2022-12-28"]
["Thursday","2022-12-29"]
["Friday","2022-12-30"]
["Saturday","2022-12-31"]

{"sheet":"Schedule","index":1,"n_rows":1117,"n_cols":11,"rows_kept":1117,"cut":false,"hidden":false,"merged":[]}
["Days","Dates","Employees","Clock In First Part","Clock Out First Part","Workplace First Part","Clock In Second Part","Clock Out Second Part","Workplace Second Part","Total Hours","Hourly wage"]
[{"$f":"'Basic Elements'!A$10","v":"Saturday"},{"$f":"'Basic Elements'!B$10","v":"2022-01-01"},{"$f":"'Basic Elements'!$D$6","v":"Employé 1"},null,null,null,null,null,null,{"$f":"(E2-D2)+(H2-G2)","v":"00:00:00"}]
[{"$f":"'Basic Elements'!A$10","v":"Saturday"},{"$f":"'Basic Elements'!B$10","v":"2022-01-01"},{"$f":"'Basic Elements'!$D$7","v":"Employé 2"},null,null,null,null,null,null,"00:00:00"]
[{"$f":"'Basic Elements'!A$10","v":"Saturday"},{"$f":"'Basic Elements'!B$10","v":"2022-01-01"},{"$f":"'Basic Elements'!$D$8","v":"Employé 3"},null,null,null,null,null,null,"00:00:00"]
[{"$f":"'Basic Elements'!A$10","v":"Saturday"},{"$f":"'Basic Elements'!B$10","v":"2022-01-01"},{"$f":"'Basic Elements'!$D$9","v":"Employé 4"},null,null,null,null,null,null,"00:00:00"]
[{"$f":"'Basic Elements'!A$10","v":"Saturday"},{"$f":"'Basic Elements'!B$10","v":"2022-01-01"},{"$f":"'Basic Elements'!$D$10","v":"Employé 5"},null,null,null,null,null,null,"00:00:00"]
[{"$f":"'Basic Elements'!A$10","v":"Saturday"},{"$f":"'Basic Elements'!B$10","v":"2022-01-01"},{"$f":"'Basic Elements'!$D$11","v":"Employé 6"},null,null,null,null,null,null,"00:00:00"]
[{"$f":"'Basic Elements'!A$10","v":"Saturday"},{"$f":"'Basic Elements'!B$10","v":"2022-01-01"},{"$f":"'Basic Elements'!$D$12","v":"Employé 7"},null,null,null,null,null,null,"00:00:00"]
[{"$f":"'Basic Elements'!A$10","v":"Saturday"},{"$f":"'Basic Elements'!B$10","v":"2022-01-01"},{"$f":"'Basic Elements'!$D$13","v":"Employé 8"},null,null,null,null,null,null,"00:00:00"]
[{"$f":"'Basic Elements'!A$10","v":"Saturday"},{"$f":"'Basic Elements'!B$10","v":"2022-01-01"},{"$f":"'Basic Elements'!$D$14","v":"Employé 9"},null,null,null,null,null,null,"00:00:00"]
[{"$f":"'Basic Elements'!A$10","v":"Saturday"},{"$f":"'Basic Elements'!B$10","v":"2022-01-01"},{"$f":"'Basic Elements'!$D$15","v":"Employé 10"},null,null,null,null,null,null,"00:00:00"]
[{"$f":"'Basic Elements'!A$10","v":"Saturday"},{"$f":"'Basic Elements'!B$10","v":"2022-01-01"},{"$f":"'Basic Elements'!$D$16","v":"Employé 11"},null,null,null,null,null,null,"00:00:00"]
[{"$f":"'Basic Elements'!A$10","v":"Saturday"},{"$f":"'Basic Elements'!B$10","v":"2022-01-01"},{"$f":"'Basic Elements'!$D$17","v":"Employé 12"},null,null,null,null,null,null,"00:00:00"]
[{"$f":"'Basic Elements'!A$10","v":"Saturday"},{"$f":"'Basic Elements'!B$10","v":"2022-01-01"},{"$f":"'Basic Elements'!$D$18","v":"Employé 13"},null,null,null,null,null,null,"00:00:00"]
[{"$f":"'Basic Elements'!A$10","v":"Saturday"},{"$f":"'Basic Elements'!B$10","v":"2022-01-01"},{"$f":"'Basic Elements'!$D$19","v":"Employé 14"},null,null,null,null,null,null,"00:00:00"]
[{"$f":"'Basic Elements'!A$10","v":"Saturday"},{"$f":"'Basic Elements'!B$10","v":"2022-01-01"},{"$f":"'Basic Elements'!$D$20","v":"Employé 15"},null,null,null,null,null,null,"00:00:00"]
[{"$f":"'Basic Elements'!A$10","v":"Saturday"},{"$f":"'Basic Elements'!B$10","v":"2022-01-01"},{"$f":"'Basic Elements'!$D$21","v":"Employé 16"},null,null,null,null,null,null,"00:00:00"]
[{"$f":"'Basic Elements'!A$10","v":"Saturday"},{"$f":"'Basic Elements'!B$10","v":"2022-01-01"},{"$f":"'Basic Elements'!$D$22","v":"Employé 17"},null,null,null,null,null,null,"00:00:00"]
[{"$f":"'Basic Elements'!A$10","v":"Saturday"},{"$f":"'Basic Elements'!B$10","v":"2022-01-01"},{"$f":"'Basic Elements'!$D$23","v":"Employé 18"},null,null,null,null,null,null,"00:00:00"]
[{"$f":"'Basic Elements'!A$10","v":"Saturday"},{"$f":"'Basic Elements'!B$10","v":"2022-01-01"},{"$f":"'Basic Elements'!$D$24","v":"Employé 19"},null,null,null,null,null,null,"00:00:00"]
[{"$f":"'Basic Elements'!A$10","v":"Saturday"},{"$f":"'Basic Elements'!B$10","v":"2022-01-01"},{"$f":"'Basic Elements'!$D$25","v":"Employé 20"},null,null,null,null,null,null,"00:00:00"]
[{"$f":"'Basic Elements'!A$10","v":"Saturday"},{"$f":"'Basic Elements'!B$10","v":"2022-01-01"},{"$f":"'Basic Elements'!$D$26","v":"Employé 21"},null,null,null,null,null,null,"00:00:00"]
[{"$f":"'Basic Elements'!A$10","v":"Saturday"},{"$f":"'Basic Elements'!B$10","v":"2022-01-01"},{"$f":"'Basic Elements'!$D$27","v":"Employé 22"},null,null,null,null,null,null,"00:00:00"]
[{"$f":"'Basic Elements'!A$10","v":"Saturday"},{"$f":"'Basic Elements'!B$10","v":"2022-01-01"},{"$f":"'Basic Elements'!$D$28","v":"Employé 23"},null,null,null,null,null,null,"00:00:00"]
[{"$f":"'Basic Elements'!A$10","v":"Saturday"},{"$f":"'Basic Elements'!B$10","v":"2022-01-01"},{"$f":"'Basic Elements'!$D$29","v":"Employé 24"},null,null,null,null,null,null,"00:00:00"]
[{"$f":"'Basic Elements'!A$10","v":"Saturday"},{"$f":"'Basic Elements'!B$10","v":"2022-01-01"},{"$f":"'Basic Elements'!$D$30","v":"Employé 25"},null,null,null,null,null,null,"00:00:00"]
[{"$f":"'Basic Elements'!A$10","v":"Saturday"},{"$f":"'Basic Elements'!B$10","v":"2022-01-01"},{"$f":"'Basic Elements'!$D$31","v":"Employé 26"},null,null,null,null,null,null,"00:00:00"]
[{"$f":"'Basic Elements'!A$10","v":"Saturday"},{"$f":"'Basic Elements'!B$10","v":"2022-01-01"},{"$f":"'Basic Elements'!$D$32","v":"Employé 27"},null,null,null,null,null,null,"00:00:00"]
[{"$f":"'Basic Elements'!A$10","v":"Saturday"},{"$f":"'Basic Elements'!B$10","v":"2022-01-01"},{"$f":"'Basic Elements'!$D$33","v":"Employé 28"},null,null,null,null,null,null,"00:00:00"]
[{"$f":"'Basic Elements'!A$10","v":"Saturday"},{"$f":"'Basic Elements'!B$10","v":"2022-01-01"},{"$f":"'Basic Elements'!$D$34","v":"Employé 29"},null,null,null,null,null,null,"00:00:00"]
[{"$f":"'Basic Elements'!A$10","v":"Saturday"},{"$f":"'Basic Elements'!B$10","v":"2022-01-01"},{"$f":"'Basic Elements'!$D$35","v":"Employé 30"},null,null,null,null,null,null,"00:00:00"]
[{"$f":"'Basic Elements'!A$10","v":"Saturday"},{"$f":"'Basic Elements'!B$10","v":"2022-01-01"},{"$f":"'Basic Elements'!$D$36","v":"Employé 31"},null,null,null,null,null,null,"00:00:00"]
[{"$f":"'Basic Elements'!A$10","v":"Saturday"},{"$f":"'Basic Elements'!B$10","v":"2022-01-01"},{"$f":"'Basic Elements'!$D$37","v":"Employé 32"},null,null,null,null,null,null,"00:00:00"]
[{"$f":"'Basic Elements'!A$10","v":"Saturday"},{"$f":"'Basic Elements'!B$10","v":"2022-01-01"},{"$f":"'Basic Elements'!$D$38","v":"Employé 33"},null,null,null,null,null,null,{"$f":"(E34-D34)+(H34-G34)","v":"00:00:00"}]
[{"$f":"'Basic Elements'!A$10","v":"Saturday"},{"$f":"'Basic Elements'!B$10","v":"2022-01-01"},{"$f":"'Basic Elements'!$D$39","v":"Employé 34"},null,null,null,null,null,null,"00:00:00"]
[{"$f":"'Basic Elements'!A$10","v":"Saturday"},{"$f":"'Basic Elements'!B$10","v":"2022-01-01"},{"$f":"'Basic Elements'!$D$40","v":"Employé 35"},null,null,null,null,null,null,"00:00:00"]
[{"$f":"'Basic Elements'!A$10","v":"Saturday"},{"$f":"'Basic Elements'!B$10","v":"2022-01-01"},{"$f":"'Basic Elements'!$D$41","v":"Employé 36"},null,null,null,null,null,null,"00:00:00"]
[{"$f":"'Basic Elements'!A$11","v":"Sunday"},{"$f":"'Basic Elements'!B$11","v":"2022-01-02"},{"$f":"'Basic Elements'!$D$6","v":"Employé 1"},null,null,null,null,null,null,"00:00:00"]
[{"$f":"'Basic Elements'!A$11","v":"Sunday"},{"$f":"'Basic Elements'!B$11","v":"2022-01-02"},{"$f":"'Basic Elements'!$D$7","v":"Employé 2"},null,null,null,null,null,null,"00:00:00"]
[{"$f":"'Basic Elements'!A$11","v":"Sunday"},{"$f":"'Basic Elements'!B$11","v":"2022-01-02"},{"$f":"'Basic Elements'!$D$8","v":"Employé 3"},null,null,null,null,null,null,"00:00:00"]
[{"$f":"'Basic Elements'!A$11","v":"Sunday"},{"$f":"'Basic Elements'!B$11","v":"2022-01-02"},{"$f":"'Basic Elements'!$D$9","v":"Employé 4"},"02:00:00","10:00:00","PA",null,null,null,"08:00:00"]
[{"$f":"'Basic Elements'!A$11","v":"Sunday"},{"$f":"'Basic Elements'!B$11","v":"2022-01-02"},{"$f":"'Basic Elements'!$D$10","v":"Employé 5"},"02:00:00","10:00:00","PA",null,null,null,"08:00:00"]
[{"$f":"'Basic Elements'!A$11","v":"Sunday"},{"$f":"'Basic Elements'!B$11","v":"2022-01-02"},{"$f":"'Basic Elements'!$D$11","v":"Employé 6"},null,null,"Off",null,null,null,"00:00:00"]
[{"$f":"'Basic Elements'!A$11","v":"Sunday"},{"$f":"'Basic Elements'!B$11","v":"2022-01-02"},{"$f":"'Basic Elements'!$D$12","v":"Employé 7"},"07:30:00","15:00:00","SM",null,null,null,"07:30:00"]
[{"$f":"'Basic Elements'!A$11","v":"Sunday"},{"$f":"'Basic Elements'!B$11","v":"2022-01-02"},{"$f":"'Basic Elements'!$D$13","v":"Employé 8"},"08:30:00","16:30:00","SM",null,null,null,"08:00:00"]
[{"$f":"'Basic Elements'!A$11","v":"Sunday"},{"$f":"'Basic Elements'!B$11","v":"2022-01-02"},{"$f":"'Basic Elements'!$D$14","v":"Employé 9"},"10:00:00","16:30:00","SM",null,null,null,"06:30:00"]
[{"$f":"'Basic Elements'!A$11","v":"Sunday"},{"$f":"'Basic Elements'!B$11","v":"2022-01-02"},{"$f":"'Basic Elements'!$D$15","v":"Employé 10"},"07:30:00","15:00:00","SW",null,null,null,"07:30:00"]
[{"$f":"'Basic Elements'!A$11","v":"Sunday"},{"$f":"'Basic Elements'!B$11","v":"2022-01-02"},{"$f":"'Basic Elements'!$D$16","v":"Employé 11"},"08:30:00","16:30:00","SW",null,null,null,"08:00:00"]
[{"$f":"'Basic Elements'!A$11","v":"Sunday"},{"$f":"'Basic Elements'!B$11","v":"2022-01-02"},{"$f":"'Basic Elements'!$D$17","v":"Employé 12"},"10:00:00","16:30:00","SW",null,null,null,"06:30:00"]
[{"$f":"'Basic Elements'!A$11","v":"Sunday"},{"$f":"'Basic Elements'!B$11","v":"2022-01-02"},{"$f":"'Basic Elements'!$D$18","v":"Employé 13"},null,null,"Off",null,null,null,"00:00:00"]
[{"$f":"'Basic Elements'!A$11","v":"Sunday"},{"$f":"'Basic Elements'!B$11","v":"2022-01-02"},{"$f":"'Basic Elements'!$D$19","v":"Employé 14"},"07:30:00","16:30:00","BA",null,null,null,"09:00:00"]
[{"$f":"'Basic Elements'!A$11","v":"Sunday"},{"$f":"'Basic Elements'!B$11","v":"2022-01-02"},{"$f":"'Basic Elements'!$D$20","v":"Employé 15"},null,null,"Off",null,null,null,"00:00:00"]
[{"$f":"'Basic Elements'!A$11","v":"Sunday"},{"$f":"'Basic Elements'!B$11","v":"2022-01-02"},{"$f":"'Basic Elements'!$D$21","v":"Employé 16"},null,null,"Off",null,null,null,"00:00:00"]
[{"$f":"'Basic Elements'!A$11","v":"Sunday"},{"$f":"'Basic Elements'!B$11","v":"2022-01-02"},{"$f":"'Basic Elements'!$D$22","v":"Employé 17"},null,null,null,null,null,null,"00:00:00"]
[{"$f":"'Basic Elements'!A$11","v":"Sunday"},{"$f":"'Basic Elements'!B$11","v":"2022-01-02"},{"$f":"'Basic Elements'!$D$23","v":"Employé 18"},"09:00:00","18:00:00","D",null,null,null,"09:00:00"]
[{"$f":"'Basic Elements'!A$11","v":"Sunday"},{"$f":"'Basic Elements'!B$11","v":"2022-01-02"},{"$f":"'Basic Elements'!$D$24","v":"Employé 19"},null,null,"Off",null,null,null,"00:00:00"]
[{"$f":"'Basic Elements'!A$11","v":"Sunday"},{"$f":"'Basic Elements'!B$11","v":"2022-01-02"},{"$f":"'Basic Elements'!$D$25","v":"Employé 20"},null,null,null,null,null,null,"00:00:00"]
[{"$f":"'Basic Elements'!A$11","v":"Sunday"},{"$f":"'Basic Elements'!B$11","v":"2022-01-02"},{"$f":"'Basic Elements'!$D$26","v":"Employé 21"},"09:00:00","16:30:00","BU",null,null,null,"07:30:00"]
[{"$f":"'Basic Elements'!A$11","v":"Sunday"},{"$f":"'Basic Elements'!B$11","v":"2022-01-02"},{"$f":"'Basic Elements'!$D$27","v":"Employé 22"},null,null,null,null,null,null,"00:00:00"]
[{"$f":"'Basic Elements'!A$11","v":"Sunday"},{"$f":"'Basic Elements'!B$11","v":"2022-01-02"},{"$f":"'Basic Elements'!$D$28","v":"Employé 23"},null,null,null,null,null,null,"00:00:00"]
[{"$f":"'Basic Elements'!A$11","v":"Sunday"},{"$f":"'Basic Elements'!B$11","v":"2022-01-02"},{"$f":"'Basic Elements'!$D$29","v":"Employé 24"},null,null,null,null,null,null,"00:00:00"]
[{"$f":"'Basic Elements'!A$11","v":"Sunday"},{"$f":"'Basic Elements'!B$11","v":"2022-01-02"},{"$f":"'Basic Elements'!$D$30","v":"Employé 25"},null,null,null,null,null,null,"00:00:00"]
[{"$f":"'Basic Elements'!A$11","v":"Sunday"},{"$f":"'Basic Elements'!B$11","v":"2022-01-02"},{"$f":"'Basic Elements'!$D$31","v":"Employé 26"},null,null,null,null,null,null,"00:00:00"]
[{"$f":"'Basic Elements'!A$11","v":"Sunday"},{"$f":"'Basic Elements'!B$11","v":"2022-01-02"},{"$f":"'Basic Elements'!$D$32","v":"Employé 27"},null,null,null,null,null,null,"00:00:00"]
[{"$f":"'Basic Elements'!A$11","v":"Sunday"},{"$f":"'Basic Elements'!B$11","v":"2022-01-02"},{"$f":"'Basic Elements'!$D$33","v":"Employé 28"},null,null,null,null,null,null,"00:00:00"]
[{"$f":"'Basic Elements'!A$11","v":"Sunday"},{"$f":"'Basic Elements'!B$11","v":"2022-01-02"},{"$f":"'Basic Elements'!$D$34","v":"Employé 29"},null,null,null,null,null,null,{"$f":"(E66-D66)+(H66-G66)","v":"00:00:00"}]
[{"$f":"'Basic Elements'!A$11","v":"Sunday"},{"$f":"'Basic Elements'!B$11","v":"2022-01-02"},{"$f":"'Basic Elements'!$D$35","v":"Employé 30"},null,null,null,null,null,null,"00:00:00"]
[{"$f":"'Basic Elements'!A$11","v":"Sunday"},{"$f":"'Basic Elements'!B$11","v":"2022-01-02"},{"$f":"'Basic Elements'!$D$36","v":"Employé 31"},null,null,null,null,null,null,"00:00:00"]
[{"$f":"'Basic Elements'!A$11","v":"Sunday"},{"$f":"'Basic Elements'!B$11","v":"2022-01-02"},{"$f":"'Basic Elements'!$D$37","v":"Employé 32"},null,null,null,null,null,null,"00:00:00"]
[{"$f":"'Basic Elements'!A$11","v":"Sunday"},{"$f":"'Basic Elements'!B$11","v":"2022-01-02"},{"$f":"'Basic Elements'!$D$38","v":"Employé 33"},null,null,null,null,null,null,"00:00:00"]
[{"$f":"'Basic Elements'!A$11","v":"Sunday"},{"$f":"'Basic Elements'!B$11","v":"2022-01-02"},{"$f":"'Basic Elements'!$D$39","v":"Employé 34"},null,null,null,null,null,null,"00:00:00"]
[{"$f":"'Basic Elements'!A$11","v":"Sunday"},{"$f":"'Basic Elements'!B$11","v":"2022-01-02"},{"$f":"'Basic Elements'!$D$40","v":"Employé 35"},null,null,null,null,null,null,"00:00:00"]
[{"$f":"'Basic Elements'!A$11","v":"Sunday"},{"$f":"'Basic Elements'!B$11","v":"2022-01-02"},{"$f":"'Basic Elements'!$D$41","v":"Employé 36"},null,null,null,null,null,null,"00:00:00"]
[{"$f":"'Basic Elements'!A$12","v":"Monday"},{"$f":"'Basic Elements'!B$12","v":"2022-01-03"},{"$f":"'Basic Elements'!$D$6","v":"Employé 1"},null,null,null,null,null,null,"00:00:00"]
[{"$f":"'Basic Elements'!A$12","v":"Monday"},{"$f":"'Basic Elements'!B$12","v":"2022-01-03"},{"$f":"'Basic Elements'!$D$7","v":"Employé 2"},null,null,null,null,null,null,"00:00:00"]
[{"$f":"'Basic Elements'!A$12","v":"Monday"},{"$f":"'Basic Elements'!B$12","v":"2022-01-03"},{"$f":"'Basic Elements'!$D$8","v":"Employé 3"},null,null,null,null,null,null,"00:00:00"]
[{"$f":"'Basic Elements'!A$12","v":"Monday"},{"$f":"'Basic Elements'!B$12","v":"2022-01-03"},{"$f":"'Basic Elements'!$D$9","v":"Employé 4"},"02:00:00","10:00:00","PA",null,null,null,"08:00:00"]
[{"$f":"'Basic Elements'!A$12","v":"Monday"},{"$f":"'Basic Elements'!B$12","v":"2022-01-03"},{"$f":"'Basic Elements'!$D$10","v":"Employé 5"},null,null,"Off",null,null,null,"00:00:00"]
[{"$f":"'Basic Elements'!A$12","v":"Monday"},{"$f":"'Basic Elements'!B$12","v":"2022-01-03"},{"$f":"'Basic Elements'!$D$11","v":"Employé 6"},null,null,"Off",null,null,null,"00:00:00"]
[{"$f":"'Basic Elements'!A$12","v":"Monday"},{"$f":"'Basic Elements'!B$12","v":"2022-01-03"},{"$f":"'Basic Elements'!$D$12","v":"Employé 7"},"07:30:00","15:00:00","SM",null,null,null,"07:30:00"]
[{"$f":"'Basic Elements'!A$12","v":"Monday"},{"$f":"'Basic Elements'!B$12","v":"2022-01-03"},{"$f":"'Basic Elements'!$D$13","v":"Employé 8"},"08:30:00","16:00:00","SM",null,null,null,"07:30:00"]
[{"$f":"'Basic Elements'!A$12","v":"Monday"},{"$f":"'Basic Elements'!B$12","v":"2022-01-03"},{"$f":"'Basic Elements'!$D$14","v":"Employé 9"},"12:00:00","18:30:00","SM",null,null,null,"06:30:00"]
[{"$f":"'Basic Elements'!A$12","v":"Monday"},{"$f":"'Basic Elements'!B$12","v":"2022-01-03"},{"$f":"'Basic Elements'!$D$15","v":"Employé 10"},"07:30:00","15:00:00","SW",null,null,null,"07:30:00"]
[{"$f":"'Basic Elements'!A$12","v":"Monday"},{"$f":"'Basic Elements'!B$12","v":"2022-01-03"},{"$f":"'Basic Elements'!$D$16","v":"Employé 11"},"08:30:00","16:00:00","SW",null,null,null,"07:30:00"]
[{"$f":"'Basic Elements'!A$12","v":"Monday"},{"$f":"'Basic Elements'!B$12","v":"2022-01-03"},{"$f":"'Basic Elements'!$D$17","v":"Employé 12"},"12:00:00","18:30:00","SW",null,null,null,"06:30:00"]
[{"$f":"'Basic Elements'!A$12","v":"Monday"},{"$f":"'Basic Elements'!B$12","v":"2022-01-03"},{"$f":"'Basic Elements'!$D$18","v":"Employé 13"},null,null,"Off",null,null,null,"00:00:00"]
[{"$f":"'Basic Elements'!A$12","v":"Monday"},{"$f":"'Basic Elements'!B$12","v":"2022-01-03"},{"$f":"'Basic Elements'!$D$19","v":"Employé 14"},"07:30:00","17:00:00","BA",null,null,null,"09:30:00"]
[{"$f":"'Basic Elements'!A$12","v":"Monday"},{"$f":"'Basic Elements'!B$12","v":"2022-01-03"},{"$f":"'Basic Elements'!$D$20","v":"Employé 15"},null,null,"Off",null,null,null,"00:00:00"]
[{"$f":"'Basic Elements'!A$12","v":"Monday"},{"$f":"'Basic Elements'!B$12","v":"2022-01-03"},{"$f":"'Basic Elements'!$D$21","v":"Employé 16"},"09:00:00","18:00:00","PR",null,null,null,"09:00:00"]
[{"$f":"'Basic Elements'!A$12","v":"Monday"},{"$f":"'Basic Elements'!B$12","v":"2022-01-03"},{"$f":"'Basic Elements'!$D$22","v":"Employé 17"},null,null,null,null,null,null,"00:00:00"]
[{"$f":"'Basic Elements'!A$12","v":"Monday"},{"$f":"'Basic Elements'!B$12","v":"2022-01-03"},{"$f":"'Basic Elements'!$D$23","v":"Employé 18"},"09:00:00","20:00:00","D",null,null,null,"11:00:00"]
[{"$f":"'Basic Elements'!A$12","v":"Monday"},{"$f":"'Basic Elements'!B$12","v":"2022-01-03"},{"$f":"'Basic Elements'!$D$24","v":"Employé 19"},null,null,"Off",null,null,null,"00:00:00"]
[{"$f":"'Basic Elements'!A$12","v":"Monday"},{"$f":"'Basic Elements'!B$12","v":"2022-01-03"},{"$f":"'Basic Elements'!$D$25","v":"Employé 20"},null,null,null,null,null,null,"00:00:00"]
[{"$f":"'Basic Elements'!A$12","v":"Monday"},{"$f":"'Basic Elements'!B$12","v":"2022-01-03"},{"$f":"'Basic Elements'!$D$26","v":"Employé 21"},null,null,"Off",null,null,null,"00:00:00"]
[{"$f":"'Basic Elements'!A$12","v":"Monday"},{"$f":"'Basic Elements'!B$12","v":"2022-01-03"},{"$f":"'Basic Elements'!$D$27","v":"Employé 22"},null,null,null,null,null,null,"00:00:00"]
[{"$f":"'Basic Elements'!A$12","v":"Monday"},{"$f":"'Basic Elements'!B$12","v":"2022-01-03"},{"$f":"'Basic Elements'!$D$28","v":"Employé 23"},null,null,null,null,null,null,"00:00:00"]
[{"$f":"'Basic Elements'!A$12","v":"Monday"},{"$f":"'Basic Elements'!B$12","v":"2022-01-03"},{"$f":"'Basic Elements'!$D$29","v":"Employé 24"},null,null,null,null,null,null,"00:00:00"]
[{"$f":"'Basic Elements'!A$12","v":"Monday"},{"$f":"'Basic Elements'!B$12","v":"2022-01-03"},{"$f":"'Basic Elements'!$D$30","v":"Employé 25"},null,null,null,null,null,null,{"$f":"(E98-D98)+(H98-G98)","v":"00:00:00"}]
[{"$f":"'Basic Elements'!A$12","v":"Monday"},{"$f":"'Basic Elements'!B$12","v":"2022-01-03"},{"$f":"'Basic Elements'!$D$31","v":"Employé 26"},null,null,null,null,null,null,"00:00:00"]
[{"$f":"'Basic Elements'!A$12","v":"Monday"},{"$f":"'Basic Elements'!B$12","v":"2022-01-03"},{"$f":"'Basic Elements'!$D$32","v":"Employé 27"},null,null,null,null,null,null,"00:00:00"]
[{"$f":"'Basic Elements'!A$12","v":"Monday"},{"$f":"'Basic Elements'!B$12","v":"2022-01-03"},{"$f":"'Basic Elements'!$D$33","v":"Employé 28"},null,null,null,null,null,null,"00:00:00"]
[{"$f":"'Basic Elements'!A$12","v":"Monday"},{"$f":"'Basic Elements'!B$12","v":"2022-01-03"},{"$f":"'Basic Elements'!$D$34","v":"Employé 29"},null,null,null,null,null,null,"00:00:00"]
[{"$f":"'Basic Elements'!A$12","v":"Monday"},{"$f":"'Basic Elements'!B$12","v":"2022-01-03"},{"$f":"'Basic Elements'!$D$35","v":"Employé 30"},null,null,null,null,null,null,"00:00:00"]
[{"$f":"'Basic Elements'!A$12","v":"Monday"},{"$f":"'Basic Elements'!B$12","v":"2022-01-03"},{"$f":"'Basic Elements'!$D$36","v":"Employé 31"},null,null,null,null,null,null,"00:00:00"]
[{"$f":"'Basic Elements'!A$12","v":"Monday"},{"$f":"'Basic Elements'!B$12","v":"2022-01-03"},{"$f":"'Basic Elements'!$D$37","v":"Employé 32"},null,null,null,null,null,null,"00:00:00"]
[{"$f":"'Basic Elements'!A$12","v":"Monday"},{"$f":"'Basic Elements'!B$12","v":"2022-01-03"},{"$f":"'Basic Elements'!$D$38","v":"Employé 33"},null,null,null,null,null,null,"00:00:00"]
[{"$f":"'Basic Elements'!A$12","v":"Monday"},{"$f":"'Basic Elements'!B$12","v":"2022-01-03"},{"$f":"'Basic Elements'!$D$39","v":"Employé 34"},null,null,null,null,null,null,"00:00:00"]
[{"$f":"'Basic Elements'!A$12","v":"Monday"},{"$f":"'Basic Elements'!B$12","v":"2022-01-03"},{"$f":"'Basic Elements'!$D$40","v":"Employé 35"},null,null,null,null,null,null,"00:00:00"]
[{"$f":"'Basic Elements'!A$12","v":"Monday"},{"$f":"'Basic Elements'!B$12","v":"2022-01-03"},{"$f":"'Basic Elements'!$D$41","v":"Employé 36"},null,null,null,null,null,null,"00:00:00"]
[{"$f":"'Basic Elements'!A$13","v":"Tuesday"},{"$f":"'Basic Elements'!B$13","v":"2022-01-04"},{"$f":"'Basic Elements'!$D$6","v":"Employé 1"},null,null,null,null,null,null,"00:00:00"]
[{"$f":"'Basic Elements'!A$13","v":"Tuesday"},{"$f":"'Basic Elements'!B$13","v":"2022-01-04"},{"$f":"'Basic Elements'!$D$7","v":"Employé 2"},null,null,null,null,null,null,"00:00:00"]
[{"$f":"'Basic Elements'!A$13","v":"Tuesday"},{"$f":"'Basic Elements'!B$13","v":"2022-01-04"},{"$f":"'Basic Elements'!$D$8","v":"Employé 3"},null,null,null,null,null,null,"00:00:00"]
[{"$f":"'Basic Elements'!A$13","v":"Tuesday"},{"$f":"'Basic Elements'!B$13","v":"2022-01-04"},{"$f":"'Basic Elements'!$D$9","v":"Employé 4"},"02:00:00","10:00:00","PA",null,null,null,"08:00:00"]
[{"$f":"'Basic Elements'!A$13","v":"Tuesday"},{"$f":"'Basic Elements'!B$13","v":"2022-01-04"},{"$f":"'Basic Elements'!$D$10","v":"Employé 5"},null,null,"Off",null,null,null,"00:00:00"]
[{"$f":"'Basic Elements'!A$13","v":"Tuesday"},{"$f":"'Basic Elements'!B$13","v":"2022-01-04"},{"$f":"'Basic Elements'!$D$11","v":"Employé 6"},"12:00:00","18:30:00","SM",null,null,null,"06:30:00"]
[{"$f":"'Basic Elements'!A$13","v":"Tuesday"},{"$f":"'Basic Elements'!B$13","v":"2022-01-04"},{"$f":"'Basic Elements'!$D$12","v":"Employé 7"},null,null,"Off",null,null,null,"00:00:00"]
[{"$f":"'Basic Elements'!A$13","v":"Tuesday"},{"$f":"'Basic Elements'!B$13","v":"2022-01-04"},{"$f":"'Basic Elements'!$D$13","v":"Employé 8"},"07:30:00","15:00:00","SM",null,null,null,"07:30:00"]
[{"$f":"'Basic Elements'!A$13","v":"Tuesday"},{"$f":"'Basic Elements'!B$13","v":"2022-01-04"},{"$f":"'Basic Elements'!$D$14","v":"Employé 9"},"08:30:00","16:00:00","SM",null,null,null,"07:30:00"]
[{"$f":"'Basic Elements'!A$13","v":"Tuesday"},{"$f":"'Basic Elements'!B$13","v":"2022-01-04"},{"$f":"'Basic Elements'!$D$15","v":"Employé 10"},null,null,"Off",null,null,null,"00:00:00"]
[{"$f":"'Basic Elements'!A$13","v":"Tuesday"},{"$f":"'Basic Elements'!B$13","v":"2022-01-04"},{"$f":"'Basic Elements'!$D$16","v":"Employé 11"},"07:30:00","15:00:00","SW",null,null,null,"07:30:00"]
[{"$f":"'Basic Elements'!A$13","v":"Tuesday"},{"$f":"'Basic Elements'!B$13","v":"2022-01-04"},{"$f":"'Basic Elements'!$D$17","v":"Employé 12"},"08:30:00","16:00:00","SW",null,null,null,"07:30:00"]
[{"$f":"'Basic Elements'!A$13","v":"Tuesday"},{"$f":"'Basic Elements'!B$13","v":"2022-01-04"},{"$f":"'Basic Elements'!$D$18","v":"Employé 13"},"12:00:00","18:30:00","SW",null,null,null,"06:30:00"]
[{"$f":"'Basic Elements'!A$13","v":"Tuesday"},{"$f":"'Basic Elements'!B$13","v":"2022-01-04"},{"$f":"'Basic Elements'!$D$19","v":"Employé 14"},"07:30:00","12:00:00","BA",null,null,null,"04:30:00"]
[{"$f":"'Basic Elements'!A$13","v":"Tuesday"},{"$f":"'Basic Elements'!B$13","v":"2022-01-04"},{"$f":"'Basic Elements'!$D$20","v":"Employé 15"},"12:00:00","17:00:00","BA",null,null,null,"05:00:00"]
[{"$f":"'Basic Elements'!A$13","v":"Tuesday"},{"$f":"'Basic Elements'!B$13","v":"2022-01-04"},{"$f":"'Basic Elements'!$D$21","v":"Employé 16"},"09:00:00","16:00:00","PR",null,null,null,"07:00:00"]
[{"$f":"'Basic Elements'!A$13","v":"Tuesday"},{"$f":"'Basic Elements'!B$13","v":"2022-01-04"},{"$f":"'Basic Elements'!$D$22","v":"Employé 17"},null,null,null,null,null,null,"00:00:00"]
[{"$f":"'Basic Elements'!A$13","v":"Tuesday"},{"$f":"'Basic Elements'!B$13","v":"2022-01-04"},{"$f":"'Basic Elements'!$D$23","v":"Employé 18"},"14:30:00","20:00:00","D",null,null,null,"05:30:00"]
[{"$f":"'Basic Elements'!A$13","v":"Tuesday"},{"$f":"'Basic Elements'!B$13","v":"2022-01-04"},{"$f":"'Basic Elements'!$D$24","v":"Employé 19"},"09:00:00","14:30:00","D",null,null,null,"05:30:00"]
[{"$f":"'Basic Elements'!A$13","v":"Tuesday"},{"$f":"'Basic Elements'!B$13","v":"2022-01-04"},{"$f":"'Basic Elements'!$D$25","v":"Employé 20"},null,null,null,null,null,null,"00:00:00"]
[{"$f":"'Basic Elements'!A$13","v":"Tuesday"},{"$f":"'Basic Elements'!B$13","v":"2022-01-04"},{"$f":"'Basic Elements'!$D$26","v":"Employé 21"},null,null,"Off",null,null,null,{"$f":"(E130-D130)+(H130-G130)","v":"00:00:00"}]
[{"$f":"'Basic Elements'!A$13","v":"Tuesday"},{"$f":"'Basic Elements'!B$13","v":"2022-01-04"},{"$f":"'Basic Elements'!$D$27","v":"Employé 22"},null,null,null,null,null,null,"00:00:00"]
[{"$f":"'Basic Elements'!A$13","v":"Tuesday"},{"$f":"'Basic Elements'!B$13","v":"2022-01-04"},{"$f":"'Basic Elements'!$D$28","v":"Employé 23"},null,null,null,null,null,null,"00:00:00"]
[{"$f":"'Basic Elements'!A$13","v":"Tuesday"},{"$f":"'Basic Elements'!B$13","v":"2022-01-04"},{"$f":"'Basic Elements'!$D$29","v":"Employé 24"},null,null,null,null,null,null,"00:00:00"]
[{"$f":"'Basic Elements'!A$13","v":"Tuesday"},{"$f":"'Basic Elements'!B$13","v":"2022-01-04"},{"$f":"'Basic Elements'!$D$30","v":"Employé 25"},null,null,null,null,null,null,"00:00:00"]
[{"$f":"'Basic Elements'!A$13","v":"Tuesday"},{"$f":"'Basic Elements'!B$13","v":"2022-01-04"},{"$f":"'Basic Elements'!$D$31","v":"Employé 26"},null,null,null,null,null,null,"00:00:00"]
[{"$f":"'Basic Elements'!A$13","v":"Tuesday"},{"$f":"'Basic Elements'!B$13","v":"2022-01-04"},{"$f":"'Basic Elements'!$D$32","v":"Employé 27"},null,null,null,null,null,null,"00:00:00"]
[{"$f":"'Basic Elements'!A$13","v":"Tuesday"},{"$f":"'Basic Elements'!B$13","v":"2022-01-04"},{"$f":"'Basic Elements'!$D$33","v":"Employé 28"},null,null,null,null,null,null,"00:00:00"]
[{"$f":"'Basic Elements'!A$13","v":"Tuesday"},{"$f":"'Basic Elements'!B$13","v":"2022-01-04"},{"$f":"'Basic Elements'!$D$34","v":"Employé 29"},null,null,null,null,null,null,"00:00:00"]
[{"$f":"'Basic Elements'!A$13","v":"Tuesday"},{"$f":"'Basic Elements'!B$13","v":"2022-01-04"},{"$f":"'Basic Elements'!$D$35","v":"Employé 30"},null,null,null,null,null,null,"00:00:00"]
[{"$f":"'Basic Elements'!A$13","v":"Tuesday"},{"$f":"'Basic Elements'!B$13","v":"2022-01-04"},{"$f":"'Basic Elements'!$D$36","v":"Employé 31"},null,null,null,null,null,null,"00:00:00"]
[{"$f":"'Basic Elements'!A$13","v":"Tuesday"},{"$f":"'Basic Elements'!B$13","v":"2022-01-04"},{"$f":"'Basic Elements'!$D$37","v":"Employé 32"},null,null,null,null,null,null,"00:00:00"]
[{"$f":"'Basic Elements'!A$13","v":"Tuesday"},{"$f":"'Basic Elements'!B$13","v":"2022-01-04"},{"$f":"'Basic Elements'!$D$38","v":"Employé 33"},null,null,null,null,null,null,"00:00:00"]
[{"$f":"'Basic Elements'!A$13","v":"Tuesday"},{"$f":"'Basic Elements'!B$13","v":"2022-01-04"},{"$f":"'Basic Elements'!$D$39","v":"Employé 34"},null,null,null,null,null,null,"00:00:00"]
[{"$f":"'Basic Elements'!A$13","v":"Tuesday"},{"$f":"'Basic Elements'!B$13","v":"2022-01-04"},{"$f":"'Basic Elements'!$D$40","v":"Employé 35"},null,null,null,null,null,null,"00:00:00"]
[{"$f":"'Basic Elements'!A$13","v":"Tuesday"},{"$f":"'Basic Elements'!B$13","v":"2022-01-04"},{"$f":"'Basic Elements'!$D$41","v":"Employé 36"},null,null,null,null,null,null,"00:00:00"]
[{"$f":"'Basic Elements'!A$14","v":"Wednesday"},{"$f":"'Basic Elements'!B$14","v":"2022-01-05"},{"$f":"'Basic Elements'!$D$6","v":"Employé 1"},null,null,null,null,null,null,"00:00:00"]
[{"$f":"'Basic Elements'!A$14","v":"Wednesday"},{"$f":"'Basic Elements'!B$14","v":"2022-01-05"},{"$f":"'Basic Elements'!$D$7","v":"Employé 2"},null,null,null,null,null,null,"00:00:00"]
[{"$f":"'Basic Elements'!A$14","v":"Wednesday"},{"$f":"'Basic Elements'!B$14","v":"2022-01-05"},{"$f":"'Basic Elements'!$D$8","v":"Employé 3"},null,null,null,null,null,null,"00:00:00"]
[{"$f":"'Basic Elements'!A$14","v":"Wednesday"},{"$f":"'Basic Elements'!B$14","v":"2022-01-05"},{"$f":"'Basic Elements'!$D$9","v":"Employé 4"},null,null,"Off",null,null,null,"00:00:00"]
[{"$f":"'Basic Elements'!A$14","v":"Wednesday"},{"$f":"'Basic Elements'!B$14","v":"2022-01-05"},{"$f":"'Basic Elements'!$D$10","v":"Employé 5"},"02:00:00","10:00:00","PA",null,null,null,{"$f":"(E148-D148)+(H150-G150)","v":"00:00:00"}]
[{"$f":"'Basic Elements'!A$14","v":"Wednesday"},{"$f":"'Basic Elements'!B$14","v":"2022-01-05"},{"$f":"'Basic Elements'!$D$11","v":"Employé 6"},"12:00:00","18:30:00","SM",null,null,null,{"$f":"(E151-D151)+(H151-G151)","v":"06:30:00"}]
[{"$f":"'Basic Elements'!A$14","v":"Wednesday"},{"$f":"'Basic Elements'!B$14","v":"2022-01-05"},{"$f":"'Basic Elements'!$D$12","v":"Employé 7"},null,null,"Off",null,null,null,"00:00:00"]
[{"$f":"'Basic Elements'!A$14","v":"Wednesday"},{"$f":"'Basic Elements'!B$14","v":"2022-01-05"},{"$f":"'Basic Elements'!$D$13","v":"Employé 8"},"07:30:00","15:00:00","SM",null,null,null,"07:30:00"]
[{"$f":"'Basic Elements'!A$14","v":"Wednesday"},{"$f":"'Basic Elements'!B$14","v":"2022-01-05"},{"$f":"'Basic Elements'!$D$14","v":"Employé 9"},"08:30:00","16:00:00","SM",null,null,null,"07:30:00"]
[{"$f":"'Basic Elements'!A$14","v":"Wednesday"},{"$f":"'Basic Elements'!B$14","v":"2022-01-05"},{"$f":"'Basic Elements'!$D$15","v":"Employé 10"},null,null,"Off",null,null,null,"00:00:00"]
[{"$f":"'Basic Elements'!A$14","v":"Wednesday"},{"$f":"'Basic Elements'!B$14","v":"2022-01-05"},{"$f":"'Basic Elements'!$D$16","v":"Employé 11"},"07:30:00","15:00:00","SW",null,null,null,"07:30:00"]
[{"$f":"'Basic Elements'!A$14","v":"Wednesday"},{"$f":"'Basic Elements'!B$14","v":"2022-01-05"},{"$f":"'Basic Elements'!$D$17","v":"Employé 12"},"08:30:00","16:00:00","SW",null,null,null,"07:30:00"]
[{"$f":"'Basic Elements'!A$14","v":"Wednesday"},{"$f":"'Basic Elements'!B$14","v":"2022-01-05"},{"$f":"'Basic Elements'!$D$18","v":"Employé 13"},"12:00:00","18:30:00","SW",null,null,null,"06:30:00"]
[{"$f":"'Basic Elements'!A$14","v":"Wednesday"},{"$f":"'Basic Elements'!B$14","v":"2022-01-05"},{"$f":"'Basic Elements'!$D$19","v":"Employé 14"},"07:30:00","12:00:00","BA",null,null,null,"04:30:00"]
[{"$f":"'Basic Elements'!A$14","v":"Wednesday"},{"$f":"'Basic Elements'!B$14","v":"2022-01-05"},{"$f":"'Basic Elements'!$D$20","v":"Employé 15"},"12:00:00","17:00:00","BA",null,null,null,"05:00:00"]
[{"$f":"'Basic Elements'!A$14","v":"Wednesday"},{"$f":"'Basic Elements'!B$14","v":"2022-01-05"},{"$f":"'Basic Elements'!$D$21","v":"Employé 16"},"09:00:00","16:00:00","PR",null,null,null,"07:00:00"]
[{"$f":"'Basic Elements'!A$14","v":"Wednesday"},{"$f":"'Basic Elements'!B$14","v":"2022-01-05"},{"$f":"'Basic Elements'!$D$22","v":"Employé 17"},null,null,null,null,null,null,"00:00:00"]
[{"$f":"'Basic Elements'!A$14","v":"Wednesday"},{"$f":"'Basic Elements'!B$14","v":"2022-01-05"},{"$f":"'Basic Elements'!$D$23","v":"Employé 18"},"14:30:00","20:00:00","D",null,null,null,"05:30:00"]
[{"$f":"'Basic Elements'!A$14","v":"Wednesday"},{"$f":"'Basic Elements'!B$14","v":"2022-01-05"},{"$f":"'Basic Elements'!$D$24","v":"Employé 19"},"09:00:00","14:30:00","D",null,null,null,"05:30:00"]
[{"$f":"'Basic Elements'!A$14","v":"Wednesday"},{"$f":"'Basic Elements'!B$14","v":"2022-01-05"},{"$f":"'Basic Elements'!$D$25","v":"Employé 20"},null,null,null,null,null,null,"00:00:00"]
[{"$f":"'Basic Elements'!A$14","v":"Wednesday"},{"$f":"'Basic Elements'!B$14","v":"2022-01-05"},{"$f":"'Basic Elements'!$D$26","v":"Employé 21"},null,null,"Off",null,null,null,"00:00:00"]
[{"$f":"'Basic Elements'!A$14","v":"Wednesday"},{"$f":"'Basic Elements'!B$14","v":"2022-01-05"},{"$f":"'Basic Elements'!$D$27","v":"Employé 22"},null,null,null,null,null,null,"00:00:00"]
[{"$f":"'Basic Elements'!A$14","v":"Wednesday"},{"$f":"'Basic Elements'!B$14","v":"2022-01-05"},{"$f":"'Basic Elements'!$D$28","v":"Employé 23"},null,null,null,null,null,null,"00:00:00"]
[{"$f":"'Basic Elements'!A$14","v":"Wednesday"},{"$f":"'Basic Elements'!B$14","v":"2022-01-05"},{"$f":"'Basic Elements'!$D$29","v":"Employé 24"},null,null,null,null,null,null,"00:00:00"]
[{"$f":"'Basic Elements'!A$14","v":"Wednesday"},{"$f":"'Basic Elements'!B$14","v":"2022-01-05"},{"$f":"'Basic Elements'!$D$30","v":"Employé 25"},null,null,null,null,null,null,"00:00:00"]
[{"$f":"'Basic Elements'!A$14","v":"Wednesday"},{"$f":"'Basic Elements'!B$14","v":"2022-01-05"},{"$f":"'Basic Elements'!$D$31","v":"Employé 26"},null,null,null,null,null,null,"00:00:00"]
[{"$f":"'Basic Elements'!A$14","v":"Wednesday"},{"$f":"'Basic Elements'!B$14","v":"2022-01-05"},{"$f":"'Basic Elements'!$D$32","v":"Employé 27"},null,null,null,null,null,null,"00:00:00"]
[{"$f":"'Basic Elements'!A$14","v":"Wednesday"},{"$f":"'Basic Elements'!B$14","v":"2022-01-05"},{"$f":"'Basic Elements'!$D$33","v":"Employé 28"},null,null,null,null,null,null,"00:00:00"]
[{"$f":"'Basic Elements'!A$14","v":"Wednesday"},{"$f":"'Basic Elements'!B$14","v":"2022-01-05"},{"$f":"'Basic Elements'!$D$34","v":"Employé 29"},null,null,null,null,null,null,"00:00:00"]
[{"$f":"'Basic Elements'!A$14","v":"Wednesday"},{"$f":"'Basic Elements'!B$14","v":"2022-01-05"},{"$f":"'Basic Elements'!$D$35","v":"Employé 30"},null,null,null,null,null,null,"00:00:00"]
[{"$f":"'Basic Elements'!A$14","v":"Wednesday"},{"$f":"'Basic Elements'!B$14","v":"2022-01-05"},{"$f":"'Basic Elements'!$D$36","v":"Employé 31"},null,null,null,null,null,null,"00:00:00"]
[{"$f":"'Basic Elements'!A$14","v":"Wednesday"},{"$f":"'Basic Elements'!B$14","v":"2022-01-05"},{"$f":"'Basic Elements'!$D$37","v":"Employé 32"},null,null,null,null,null,null,"00:00:00"]
[{"$f":"'Basic Elements'!A$14","v":"Wednesday"},{"$f":"'Basic Elements'!B$14","v":"2022-01-05"},{"$f":"'Basic Elements'!$D$38","v":"Employé 33"},null,null,null,null,null,null,"00:00:00"]
[{"$f":"'Basic Elements'!A$14","v":"Wednesday"},{"$f":"'Basic Elements'!B$14","v":"2022-01-05"},{"$f":"'Basic Elements'!$D$39","v":"Employé 34"},null,null,null,null,null,null,"00:00:00"]
[{"$f":"'Basic Elements'!A$14","v":"Wednesday"},{"$f":"'Basic Elements'!B$14","v":"2022-01-05"},{"$f":"'Basic Elements'!$D$40","v":"Employé 35"},null,null,null,null,null,null,"00:00:00"]
[{"$f":"'Basic Elements'!A$14","v":"Wednesday"},{"$f":"'Basic Elements'!B$14","v":"2022-01-05"},{"$f":"'Basic Elements'!$D$41","v":"Employé 36"},null,null,null,null,null,null,"00:00:00"]
[{"$f":"'Basic Elements'!A$15","v":"Thursday"},{"$f":"'Basic Elements'!B$15","v":"2022-01-06"},{"$f":"'Basic Elements'!$D$6","v":"Employé 1"},null,null,null,null,null,null,"00:00:00"]
[{"$f":"'Basic Elements'!A$15","v":"Thursday"},{"$f":"'Basic Elements'!B$15","v":"2022-01-06"},{"$f":"'Basic Elements'!$D$7","v":"Employé 2"},null,null,null,null,null,null,"00:00:00"]
[{"$f":"'Basic Elements'!A$15","v":"Thursday"},{"$f":"'Basic Elements'!B$15","v":"2022-01-06"},{"$f":"'Basic Elements'!$D$8","v":"Employé 3"},null,null,null,null,null,null,"00:00:00"]
[{"$f":"'Basic Elements'!A$15","v":"Thursday"},{"$f":"'Basic Elements'!B$15","v":"2022-01-06"},{"$f":"'Basic Elements'!$D$9","v":"Employé 4"},null,null,"Off",null,null,null,"00:00:00"]
[{"$f":"'Basic Elements'!A$15","v":"Thursday"},{"$f":"'Basic Elements'!B$15","v":"2022-01-06"},{"$f":"'Basic Elements'!$D$10","v":"Employé 5"},"02:00:00","10:00:00","PA",null,null,null,"08:00:00"]
[{"$f":"'Basic Elements'!A$15","v":"Thursday"},{"$f":"'Basic Elements'!B$15","v":"2022-01-06"},{"$f":"'Basic Elements'!$D$11","v":"Employé 6"},"08:30:00","16:00:00","SM",null,null,null,"07:30:00"]
[{"$f":"'Basic Elements'!A$15","v":"Thursday"},{"$f":"'Basic Elements'!B$15","v":"2022-01-06"},{"$f":"'Basic Elements'!$D$12","v":"Employé 7"},"12:00:00","18:30:00","SM",null,null,null,"06:30:00"]
[{"$f":"'Basic Elements'!A$15","v":"Thursday"},{"$f":"'Basic Elements'!B$15","v":"2022-01-06"},{"$f":"'Basic Elements'!$D$13","v":"Employé 8"},null,null,"Off",null,null,null,"00:00:00"]
[{"$f":"'Basic Elements'!A$15","v":"Thursday"},{"$f":"'Basic Elements'!B$15","v":"2022-01-06"},{"$f":"'Basic Elements'!$D$14","v":"Employé 9"},"07:30:00","15:00:00","SM",null,null,null,"07:30:00"]
[{"$f":"'Basic Elements'!A$15","v":"Thursday"},{"$f":"'Basic Elements'!B$15","v":"2022-01-06"},{"$f":"'Basic Elements'!$D$15","v":"Employé 10"},"12:00:00","18:30:00","SW",null,null,null,"06:30:00"]
[{"$f":"'Basic Elements'!A$15","v":"Thursday"},{"$f":"'Basic Elements'!B$15","v":"2022-01-06"},{"$f":"'Basic Elements'!$D$16","v":"Employé 11"},null,null,"Off",null,null,null,"00:00:00"]
[{"$f":"'Basic Elements'!A$15","v":"Thursday"},{"$f":"'Basic Elements'!B$15","v":"2022-01-06"},{"$f":"'Basic Elements'!$D$17","v":"Employé 12"},"07:30:00","15:00:00","SW",null,null,null,"07:30:00"]
[{"$f":"'Basic Elements'!A$15","v":"Thursday"},{"$f":"'Basic Elements'!B$15","v":"2022-01-06"},{"$f":"'Basic Elements'!$D$18","v":"Employé 13"},"08:30:00","16:00:00","SW",null,null,null,"07:30:00"]
[{"$f":"'Basic Elements'!A$15","v":"Thursday"},{"$f":"'Basic Elements'!B$15","v":"2022-01-06"},{"$f":"'Basic Elements'!$D$19","v":"Employé 14"},null,null,"Off",null,null,null,"00:00:00"]
[{"$f":"'Basic Elements'!A$15","v":"Thursday"},{"$f":"'Basic Elements'!B$15","v":"2022-01-06"},{"$f":"'Basic Elements'!$D$20","v":"Employé 15"},"07:30:00","17:00:00","BA",null,null,null,"09:30:00"]
[{"$f":"'Basic Elements'!A$15","v":"Thursday"},{"$f":"'Basic Elements'!B$15","v":"2022-01-06"},{"$f":"'Basic Elements'!$D$21","v":"Employé 16"},"09:00:00","16:00:00","PR",null,null,null,"07:00:00"]
[{"$f":"'Basic Elements'!A$15","v":"Thursday"},{"$f":"'Basic Elements'!B$15","v":"2022-01-06"},{"$f":"'Basic Elements'!$D$22","v":"Employé 17"},null,null,null,null,null,null,"00:00:00"]
[{"$f":"'Basic Elements'!A$15","v":"Thursday"},{"$f":"'Basic Elements'!B$15","v":"2022-01-06"},{"$f":"'Basic Elements'!$D$23","v":"Employé 18"},null,null,"Off",null,null,null,"00:00:00"]
[{"$f":"'Basic Elements'!A$15","v":"Thursday"},{"$f":"'Basic Elements'!B$15","v":"2022-01-06"},{"$f":"'Basic Elements'!$D$24","v":"Employé 19"},"09:00:00","20:00:00","D",null,null,null,"11:00:00"]
[{"$f":"'Basic Elements'!A$15","v":"Thursday"},{"$f":"'Basic Elements'!B$15","v":"2022-01-06"},{"$f":"'Basic Elements'!$D$25","v":"Employé 20"},null,null,null,null,null,null,"00:00:00"]
[{"$f":"'Basic Elements'!A$15","v":"Thursday"},{"$f":"'Basic Elements'!B$15","v":"2022-01-06"},{"$f":"'Basic Elements'!$D$26","v":"Employé 21"},null,null,"Off",null,null,null,"00:00:00"]
[{"$f":"'Basic Elements'!A$15","v":"Thursday"},{"$f":"'Basic Elements'!B$15","v":"2022-01-06"},{"$f":"'Basic Elements'!$D$27","v":"Employé 22"},null,null,null,null,null,null,"00:00:00"]
[{"$f":"'Basic Elements'!A$15","v":"Thursday"},{"$f":"'Basic Elements'!B$15","v":"2022-01-06"},{"$f":"'Basic Elements'!$D$28","v":"Employé 23"},null,null,null,null,null,null,"00:00:00"]
[{"$f":"'Basic Elements'!A$15","v":"Thursday"},{"$f":"'Basic Elements'!B$15","v":"2022-01-06"},{"$f":"'Basic Elements'!$D$29","v":"Employé 24"},null,null,null,null,null,null,"00:00:00"]
[{"$f":"'Basic Elements'!A$15","v":"Thursday"},{"$f":"'Basic Elements'!B$15","v":"2022-01-06"},{"$f":"'Basic Elements'!$D$30","v":"Employé 25"},null,null,null,null,null,null,"00:00:00"]
[{"$f":"'Basic Elements'!A$15","v":"Thursday"},{"$f":"'Basic Elements'!B$15","v":"2022-01-06"},{"$f":"'Basic Elements'!$D$31","v":"Employé 26"},null,null,null,null,null,null,"00:00:00"]
[{"$f":"'Basic Elements'!A$15","v":"Thursday"},{"$f":"'Basic Elements'!B$15","v":"2022-01-06"},{"$f":"'Basic Elements'!$D$32","v":"Employé 27"},null,null,null,null,null,null,"00:00:00"]
[{"$f":"'Basic Elements'!A$15","v":"Thursday"},{"$f":"'Basic Elements'!B$15","v":"2022-01-06"},{"$f":"'Basic Elements'!$D$33","v":"Employé 28"},null,null,null,null,null,null,"00:00:00"]
[{"$f":"'Basic Elements'!A$15","v":"Thursday"},{"$f":"'Basic Elements'!B$15","v":"2022-01-06"},{"$f":"'Basic Elements'!$D$34","v":"Employé 29"},null,null,null,null,null,null,"00:00:00"]
[{"$f":"'Basic Elements'!A$15","v":"Thursday"},{"$f":"'Basic Elements'!B$15","v":"2022-01-06"},{"$f":"'Basic Elements'!$D$35","v":"Employé 30"},null,null,null,null,null,null,"00:00:00"]
[{"$f":"'Basic Elements'!A$15","v":"Thursday"},{"$f":"'Basic Elements'!B$15","v":"2022-01-06"},{"$f":"'Basic Elements'!$D$36","v":"Employé 31"},null,null,null,null,null,null,"00:00:00"]
[{"$f":"'Basic Elements'!A$15","v":"Thursday"},{"$f":"'Basic Elements'!B$15","v":"2022-01-06"},{"$f":"'Basic Elements'!$D$37","v":"Employé 32"},null,null,null,null,null,null,"00:00:00"]
[{"$f":"'Basic Elements'!A$15","v":"Thursday"},{"$f":"'Basic Elements'!B$15","v":"2022-01-06"},{"$f":"'Basic Elements'!$D$38","v":"Employé 33"},null,null,null,null,null,null,"00:00:00"]
[{"$f":"'Basic Elements'!A$15","v":"Thursday"},{"$f":"'Basic Elements'!B$15","v":"2022-01-06"},{"$f":"'Basic Elements'!$D$39","v":"Employé 34"},null,null,null,null,null,null,{"$f":"(E215-D215)+(H215-G215)","v":"00:00:00"}]
[{"$f":"'Basic Elements'!A$15","v":"Thursday"},{"$f":"'Basic Elements'!B$15","v":"2022-01-06"},{"$f":"'Basic Elements'!$D$40","v":"Employé 35"},null,null,null,null,null,null,"00:00:00"]
[{"$f":"'Basic Elements'!A$15","v":"Thursday"},{"$f":"'Basic Elements'!B$15","v":"2022-01-06"},{"$f":"'Basic Elements'!$D$41","v":"Employé 36"},null,null,null,null,null,null,"00:00:00"]
[{"$f":"'Basic Elements'!A$16","v":"Friday"},{"$f":"'Basic Elements'!B$16","v":"2022-01-07"},{"$f":"'Basic Elements'!$D$6","v":"Employé 1"},null,null,null,null,null,null,"00:00:00"]
[{"$f":"'Basic Elements'!A$16","v":"Friday"},{"$f":"'Basic Elements'!B$16","v":"2022-01-07"},{"$f":"'Basic Elements'!$D$7","v":"Employé 2"},null,null,null,null,null,null,"00:00:00"]
[{"$f":"'Basic Elements'!A$16","v":"Friday"},{"$f":"'Basic Elements'!B$16","v":"2022-01-07"},{"$f":"'Basic Elements'!$D$8","v":"Employé 3"},null,null,null,null,null,null,"00:00:00"]
[{"$f":"'Basic Elements'!A$16","v":"Friday"},{"$f":"'Basic Elements'!B$16","v":"2022-01-07"},{"$f":"'Basic Elements'!$D$9","v":"Employé 4"},"02:00:00","10:00:00","PA",null,null,null,"08:00:00"]
[{"$f":"'Basic Elements'!A$16","v":"Friday"},{"$f":"'Basic Elements'!B$16","v":"2022-01-07"},{"$f":"'Basic Elements'!$D$10","v":"Employé 5"},"02:00:00","10:00:00","PA",null,null,null,"08:00:00"]
[{"$f":"'Basic Elements'!A$16","v":"Friday"},{"$f":"'Basic Elements'!B$16","v":"2022-01-07"},{"$f":"'Basic Elements'!$D$11","v":"Employé 6"},"08:30:00","16:00:00","SM",null,null,null,"07:30:00"]
[{"$f":"'Basic Elements'!A$16","v":"Friday"},{"$f":"'Basic Elements'!B$16","v":"2022-01-07"},{"$f":"'Basic Elements'!$D$12","v":"Employé 7"},"12:00:00","18:30:00","SM",null,null,null,"06:30:00"]
[{"$f":"'Basic Elements'!A$16","v":"Friday"},{"$f":"'Basic Elements'!B$16","v":"2022-01-07"},{"$f":"'Basic Elements'!$D$13","v":"Employé 8"},null,null,"Off",null,null,null,"00:00:00"]
[{"$f":"'Basic Elements'!A$16","v":"Friday"},{"$f":"'Basic Elements'!B$16","v":"2022-01-07"},{"$f":"'Basic Elements'!$D$14","v":"Employé 9"},"07:30:00","15:00:00","SM",null,null,null,"07:30:00"]
[{"$f":"'Basic Elements'!A$16","v":"Friday"},{"$f":"'Basic Elements'!B$16","v":"2022-01-07"},{"$f":"'Basic Elements'!$D$15","v":"Employé 10"},"12:00:00","18:30:00","SW",null,null,null,"06:30:00"]
[{"$f":"'Basic Elements'!A$16","v":"Friday"},{"$f":"'Basic Elements'!B$16","v":"2022-01-07"},{"$f":"'Basic Elements'!$D$16","v":"Employé 11"},null,null,"Off",null,null,null,"00:00:00"]
[{"$f":"'Basic Elements'!A$16","v":"Friday"},{"$f":"'Basic Elements'!B$16","v":"2022-01-07"},{"$f":"'Basic Elements'!$D$17","v":"Employé 12"},"07:30:00","15:00:00","SW",null,null,null,"07:30:00"]
[{"$f":"'Basic Elements'!A$16","v":"Friday"},{"$f":"'Basic Elements'!B$16","v":"2022-01-07"},{"$f":"'Basic Elements'!$D$18","v":"Employé 13"},"08:30:00","16:00:00","SW",null,null,null,"07:30:00"]
[{"$f":"'Basic Elements'!A$16","v":"Friday"},{"$f":"'Basic Elements'!B$16","v":"2022-01-07"},{"$f":"'Basic Elements'!$D$19","v":"Employé 14"},null,null,"Off",null,null,null,"00:00:00"]
[{"$f":"'Basic Elements'!A$16","v":"Friday"},{"$f":"'Basic Elements'!B$16","v":"2022-01-07"},{"$f":"'Basic Elements'!$D$20","v":"Employé 15"},"07:30:00","17:00:00","BA",null,null,null,"09:30:00"]
[{"$f":"'Basic Elements'!A$16","v":"Friday"},{"$f":"'Basic Elements'!B$16","v":"2022-01-07"},{"$f":"'Basic Elements'!$D$21","v":"Employé 16"},"09:00:00","18:00:00","PR",null,null,null,"09:00:00"]
[{"$f":"'Basic Elements'!A$16","v":"Friday"},{"$f":"'Basic Elements'!B$16","v":"2022-01-07"},{"$f":"'Basic Elements'!$D$22","v":"Employé 17"},null,null,null,null,null,null,"00:00:00"]
[{"$f":"'Basic Elements'!A$16","v":"Friday"},{"$f":"'Basic Elements'!B$16","v":"2022-01-07"},{"$f":"'Basic Elements'!$D$23","v":"Employé 18"},null,null,"Off",null,null,null,"00:00:00"]
[{"$f":"'Basic Elements'!A$16","v":"Friday"},{"$f":"'Basic Elements'!B$16","v":"2022-01-07"},{"$f":"'Basic Elements'!$D$24","v":"Employé 19"},"09:00:00","20:00:00","D",null,null,null,"11:00:00"]
[{"$f":"'Basic Elements'!A$16","v":"Friday"},{"$f":"'Basic Elements'!B$16","v":"2022-01-07"},{"$f":"'Basic Elements'!$D$25","v":"Employé 20"},null,null,null,null,null,null,"00:00:00"]
[{"$f":"'Basic Elements'!A$16","v":"Friday"},{"$f":"'Basic Elements'!B$16","v":"2022-01-07"},{"$f":"'Basic Elements'!$D$26","v":"Employé 21"},"09:00:00","16:30:00","BU",null,null,null,"07:30:00"]
[{"$f":"'Basic Elements'!A$16","v":"Friday"},{"$f":"'Basic Elements'!B$16","v":"2022-01-07"},{"$f":"'Basic Elements'!$D$27","v":"Employé 22"},null,null,null,null,null,null,"00:00:00"]
[{"$f":"'Basic Elements'!A$16","v":"Friday"},{"$f":"'Basic Elements'!B$16","v":"2022-01-07"},{"$f":"'Basic Elements'!$D$28","v":"Employé 23"},null,null,null,null,null,null,"00:00:00"]
[{"$f":"'Basic Elements'!A$16","v":"Friday"},{"$f":"'Basic Elements'!B$16","v":"2022-01-07"},{"$f":"'Basic Elements'!$D$29","v":"Employé 24"},null,null,null,null,null,null,"00:00:00"]
[{"$f":"'Basic Elements'!A$16","v":"Friday"},{"$f":"'Basic Elements'!B$16","v":"2022-01-07"},{"$f":"'Basic Elements'!$D$30","v":"Employé 25"},null,null,null,null,null,null,"00:00:00"]
[{"$f":"'Basic Elements'!A$16","v":"Friday"},{"$f":"'Basic Elements'!B$16","v":"2022-01-07"},{"$f":"'Basic Elements'!$D$31","v":"Employé 26"},null,null,null,null,null,null,"00:00:00"]
[{"$f":"'Basic Elements'!A$16","v":"Friday"},{"$f":"'Basic Elements'!B$16","v":"2022-01-07"},{"$f":"'Basic Elements'!$D$32","v":"Employé 27"},null,null,null,null,null,null,"00:00:00"]
[{"$f":"'Basic Elements'!A$16","v":"Friday"},{"$f":"'Basic Elements'!B$16","v":"2022-01-07"},{"$f":"'Basic Elements'!$D$33","v":"Employé 28"},null,null,null,null,null,null,"00:00:00"]
[{"$f":"'Basic Elements'!A$16","v":"Friday"},{"$f":"'Basic Elements'!B$16","v":"2022-01-07"},{"$f":"'Basic Elements'!$D$34","v":"Employé 29"},null,null,null,null,null,null,"00:00:00"]
[{"$f":"'Basic Elements'!A$16","v":"Friday"},{"$f":"'Basic Elements'!B$16","v":"2022-01-07"},{"$f":"'Basic Elements'!$D$35","v":"Employé 30"},null,null,null,null,null,null,"00:00:00"]
[{"$f":"'Basic Elements'!A$16","v":"Friday"},{"$f":"'Basic Elements'!B$16","v":"2022-01-07"},{"$f":"'Basic Elements'!$D$36","v":"Employé 31"},null,null,null,null,null,null,"00:00:00"]
[{"$f":"'Basic Elements'!A$16","v":"Friday"},{"$f":"'Basic Elements'!B$16","v":"2022-01-07"},{"$f":"'Basic Elements'!$D$37","v":"Employé 32"},null,null,null,null,null,null,"00:00:00"]
[{"$f":"'Basic Elements'!A$16","v":"Friday"},{"$f":"'Basic Elements'!B$16","v":"2022-01-07"},{"$f":"'Basic Elements'!$D$38","v":"Employé 33"},null,null,null,null,null,null,"00:00:00"]
[{"$f":"'Basic Elements'!A$16","v":"Friday"},{"$f":"'Basic Elements'!B$16","v":"2022-01-07"},{"$f":"'Basic Elements'!$D$39","v":"Employé 34"},null,null,null,null,null,null,"00:00:00"]
[{"$f":"'Basic Elements'!A$16","v":"Friday"},{"$f":"'Basic Elements'!B$16","v":"2022-01-07"},{"$f":"'Basic Elements'!$D$40","v":"Employé 35"},null,null,null,null,null,null,"00:00:00"]
[{"$f":"'Basic Elements'!A$16","v":"Friday"},{"$f":"'Basic Elements'!B$16","v":"2022-01-07"},{"$f":"'Basic Elements'!$D$41","v":"Employé 36"},null,null,null,null,null,null,"00:00:00"]
[{"$f":"'Basic Elements'!A$17","v":"Saturday"},{"$f":"'Basic Elements'!B$17","v":"2022-01-08"},{"$f":"'Basic Elements'!$D$6","v":"Employé 1"},null,null,null,null,null,null,"00:00:00"]
[{"$f":"'Basic Elements'!A$17","v":"Saturday"},{"$f":"'Basic Elements'!B$17","v":"2022-01-08"},{"$f":"'Basic Elements'!$D$7","v":"Employé 2"},null,null,null,null,null,null,"00:00:00"]
[{"$f":"'Basic Elements'!A$17","v":"Saturday"},{"$f":"'Basic Elements'!B$17","v":"2022-01-08"},{"$f":"'Basic Elements'!$D$8","v":"Employé 3"},null,null,null,null,null,null,"00:00:00"]
[{"$f":"'Basic Elements'!A$17","v":"Saturday"},{"$f":"'Basic Elements'!B$17","v":"2022-01-08"},{"$f":"'Basic Elements'!$D$9","v":"Employé 4"},"02:00:00","10:00:00","PA",null,null,null,"08:00:00"]
[{"$f":"'Basic Elements'!A$17","v":"Saturday"},{"$f":"'Basic Elements'!B$17","v":"2022-01-08"},{"$f":"'Basic Elements'!$D$10","v":"Employé 5"},"02:00:00","10:00:00","PA",null,null,null,"08:00:00"]
[{"$f":"'Basic Elements'!A$17","v":"Saturday"},{"$f":"'Basic Elements'!B$17","v":"2022-01-08"},{"$f":"'Basic Elements'!$D$11","v":"Employé 6"},"07:30:00","15:00:00","SM",null,null,null,"07:30:00"]
[{"$f":"'Basic Elements'!A$17","v":"Saturday"},{"$f":"'Basic Elements'!B$17","v":"2022-01-08"},{"$f":"'Basic Elements'!$D$12","v":"Employé 7"},"08:30:00","17:00:00","SM",null,null,null,"08:30:00"]
[{"$f":"'Basic Elements'!A$17","v":"Saturday"},{"$f":"'Basic Elements'!B$17","v":"2022-01-08"},{"$f":"'Basic Elements'!$D$13","v":"Employé 8"},"10:00:00","18:30:00","SM",null,null,null,"08:30:00"]
[{"$f":"'Basic Elements'!A$17","v":"Saturday"},{"$f":"'Basic Elements'!B$17","v":"2022-01-08"},{"$f":"'Basic Elements'!$D$14","v":"Employé 9"},null,null,"Off",null,null,null,"00:00:00"]
[{"$f":"'Basic Elements'!A$17","v":"Saturday"},{"$f":"'Basic Elements'!B$17","v":"2022-01-08"},{"$f":"'Basic Elements'!$D$15","v":"Employé 10"},"08:30:00","17:00:00","SW",null,null,null,"08:30:00"]
[{"$f":"'Basic Elements'!A$17","v":"Saturday"},{"$f":"'Basic Elements'!B$17","v":"2022-01-08"},{"$f":"'Basic Elements'!$D$16","v":"Employé 11"},"10:00:00","18:30:00","SW",null,null,null,"08:30:00"]
[{"$f":"'Basic Elements'!A$17","v":"Saturday"},{"$f":"'Basic Elements'!B$17","v":"2022-01-08"},{"$f":"'Basic Elements'!$D$17","v":"Employé 12"},null,null,"Off",null,null,null,"00:00:00"]
[{"$f":"'Basic Elements'!A$17","v":"Saturday"},{"$f":"'Basic Elements'!B$17","v":"2022-01-08"},{"$f":"'Basic Elements'!$D$18","v":"Employé 13"},"07:30:00","15:00:00","SW",null,null,null,"07:30:00"]
[{"$f":"'Basic Elements'!A$17","v":"Saturday"},{"$f":"'Basic Elements'!B$17","v":"2022-01-08"},{"$f":"'Basic Elements'!$D$19","v":"Employé 14"},"07:30:00","17:00:00","BA",null,null,null,"09:30:00"]
[{"$f":"'Basic Elements'!A$17","v":"Saturday"},{"$f":"'Basic Elements'!B$17","v":"2022-01-08"},{"$f":"'Basic Elements'!$D$20","v":"Employé 15"},null,null,"Off",null,null,null,"00:00:00"]
[{"$f":"'Basic Elements'!A$17","v":"Saturday"},{"$f":"'Basic Elements'!B$17","v":"2022-01-08"},{"$f":"'Basic Elements'!$D$21","v":"Employé 16"},null,null,"Off",null,null,null,"00:00:00"]
[{"$f":"'Basic Elements'!A$17","v":"Saturday"},{"$f":"'Basic Elements'!B$17","v":"2022-01-08"},{"$f":"'Basic Elements'!$D$22","v":"Employé 17"},null,null,null,null,null,null,"00:00:00"]
[{"$f":"'Basic Elements'!A$17","v":"Saturday"},{"$f":"'Basic Elements'!B$17","v":"2022-01-08"},{"$f":"'Basic Elements'!$D$23","v":"Employé 18"},"09:00:00","20:00:00","D",null,null,null,"11:00:00"]
[{"$f":"'Basic Elements'!A$17","v":"Saturday"},{"$f":"'Basic Elements'!B$17","v":"2022-01-08"},{"$f":"'Basic Elements'!$D$24","v":"Employé 19"},null,null,"Off",null,null,null,"00:00:00"]
[{"$f":"'Basic Elements'!A$17","v":"Saturday"},{"$f":"'Basic Elements'!B$17","v":"2022-01-08"},{"$f":"'Basic Elements'!$D$25","v":"Employé 20"},null,null,null,null,null,null,"00:00:00"]
[{"$f":"'Basic Elements'!A$17","v":"Saturday"},{"$f":"'Basic Elements'!B$17","v":"2022-01-08"},{"$f":"'Basic Elements'!$D$26","v":"Employé 21"},"09:00:00","16:30:00","BU",null,null,null,"07:30:00"]
[{"$f":"'Basic Elements'!A$17","v":"Saturday"},{"$f":"'Basic Elements'!B$17","v":"2022-01-08"},{"$f":"'Basic Elements'!$D$27","v":"Employé 22"},null,null,null,null,null,null,"00:00:00"]
[{"$f":"'Basic Elements'!A$17","v":"Saturday"},{"$f":"'Basic Elements'!B$17","v":"2022-01-08"},{"$f":"'Basic Elements'!$D$28","v":"Employé 23"},null,null,null,null,null,null,"00:00:00"]
[{"$f":"'Basic Elements'!A$17","v":"Saturday"},{"$f":"'Basic Elements'!B$17","v":"2022-01-08"},{"$f":"'Basic Elements'!$D$29","v":"Employé 24"},null,null,null,null,null,null,"00:00:00"]
[{"$f":"'Basic Elements'!A$17","v":"Saturday"},{"$f":"'Basic Elements'!B$17","v":"2022-01-08"},{"$f":"'Basic Elements'!$D$30","v":"Employé 25"},null,null,null,null,null,null,"00:00:00"]
[{"$f":"'Basic Elements'!A$17","v":"Saturday"},{"$f":"'Basic Elements'!B$17","v":"2022-01-08"},{"$f":"'Basic Elements'!$D$31","v":"Employé 26"},null,null,null,null,null,null,{"$f":"(E279-D279)+(H279-G279)","v":"00:00:00"}]
[{"$f":"'Basic Elements'!A$17","v":"Saturday"},{"$f":"'Basic Elements'!B$17","v":"2022-01-08"},{"$f":"'Basic Elements'!$D$32","v":"Employé 27"},null,null,null,null,null,null,"00:00:00"]
[{"$f":"'Basic Elements'!A$17","v":"Saturday"},{"$f":"'Basic Elements'!B$17","v":"2022-01-08"},{"$f":"'Basic Elements'!$D$33","v":"Employé 28"},null,null,null,null,null,null,"00:00:00"]
[{"$f":"'Basic Elements'!A$17","v":"Saturday"},{"$f":"'Basic Elements'!B$17","v":"2022-01-08"},{"$f":"'Basic Elements'!$D$34","v":"Employé 29"},null,null,null,null,null,null,"00:00:00"]
[{"$f":"'Basic Elements'!A$17","v":"Saturday"},{"$f":"'Basic Elements'!B$17","v":"2022-01-08"},{"$f":"'Basic Elements'!$D$35","v":"Employé 30"},null,null,null,null,null,null,"00:00:00"]
[{"$f":"'Basic Elements'!A$17","v":"Saturday"},{"$f":"'Basic Elements'!B$17","v":"2022-01-08"},{"$f":"'Basic Elements'!$D$36","v":"Employé 31"},null,null,null,null,null,null,"00:00:00"]
[{"$f":"'Basic Elements'!A$17","v":"Saturday"},{"$f":"'Basic Elements'!B$17","v":"2022-01-08"},{"$f":"'Basic Elements'!$D$37","v":"Employé 32"},null,null,null,null,null,null,"00:00:00"]
[{"$f":"'Basic Elements'!A$17","v":"Saturday"},{"$f":"'Basic Elements'!B$17","v":"2022-01-08"},{"$f":"'Basic Elements'!$D$38","v":"Employé 33"},null,null,null,null,null,null,"00:00:00"]
[{"$f":"'Basic Elements'!A$17","v":"Saturday"},{"$f":"'Basic Elements'!B$17","v":"2022-01-08"},{"$f":"'Basic Elements'!$D$39","v":"Employé 34"},null,null,null,null,null,null,"00:00:00"]
[{"$f":"'Basic Elements'!A$17","v":"Saturday"},{"$f":"'Basic Elements'!B$17","v":"2022-01-08"},{"$f":"'Basic Elements'!$D$40","v":"Employé 35"},null,null,null,null,null,null,"00:00:00"]
[{"$f":"'Basic Elements'!A$17","v":"Saturday"},{"$f":"'Basic Elements'!B$17","v":"2022-01-08"},{"$f":"'Basic Elements'!$D$41","v":"Employé 36"},null,null,null,null,null,null,"00:00:00"]
[{"$f":"'Basic Elements'!A$18","v":"Sunday"},{"$f":"'Basic Elements'!B$18","v":"2022-01-09"},{"$f":"'Basic Elements'!$D$6","v":"Employé 1"},null,null,null,null,null,null,"00:00:00"]
[{"$f":"'Basic Elements'!A$18","v":"Sunday"},{"$f":"'Basic Elements'!B$18","v":"2022-01-09"},{"$f":"'Basic Elements'!$D$7","v":"Employé 2"},null,null,null,null,null,null,"00:00:00"]
[{"$f":"'Basic Elements'!A$18","v":"Sunday"},{"$f":"'Basic Elements'!B$18","v":"2022-01-09"},{"$f":"'Basic Elements'!$D$8","v":"Employé 3"},null,null,null,null,null,null,"00:00:00"]
[{"$f":"'Basic Elements'!A$18","v":"Sunday"},{"$f":"'Basic Elements'!B$18","v":"2022-01-09"},{"$f":"'Basic Elements'!$D$9","v":"Employé 4"},"02:00:00","10:00:00","PA",null,null,null,"08:00:00"]
[{"$f":"'Basic Elements'!A$18","v":"Sunday"},{"$f":"'Basic Elements'!B$18","v":"2022-01-09"},{"$f":"'Basic Elements'!$D$10","v":"Employé 5"},"02:00:00","10:00:00","PA",null,null,null,"08:00:00"]
[{"$f":"'Basic Elements'!A$18","v":"Sunday"},{"$f":"'Basic Elements'!B$18","v":"2022-01-09"},{"$f":"'Basic Elements'!$D$11","v":"Employé 6"},"07:30:00","15:00:00","SM",null,null,null,"07:30:00"]
[{"$f":"'Basic Elements'!A$18","v":"Sunday"},{"$f":"'Basic Elements'!B$18","v":"2022-01-09"},{"$f":"'Basic Elements'!$D$12","v":"Employé 7"},"08:30:00","16:30:00","SM",null,null,null,"08:00:00"]
[{"$f":"'Basic Elements'!A$18","v":"Sunday"},{"$f":"'Basic Elements'!B$18","v":"2022-01-09"},{"$f":"'Basic Elements'!$D$13","v":"Employé 8"},"10:00:00","16:30:00","SM",null,null,null,"06:30:00"]
[{"$f":"'Basic Elements'!A$18","v":"Sunday"},{"$f":"'Basic Elements'!B$18","v":"2022-01-09"},{"$f":"'Basic Elements'!$D$14","v":"Employé 9"},null,null,"Off",null,null,null,"00:00:00"]
[{"$f":"'Basic Elements'!A$18","v":"Sunday"},{"$f":"'Basic Elements'!B$18","v":"2022-01-09"},{"$f":"'Basic Elements'!$D$15","v":"Employé 10"},"08:30:00","16:30:00","SW",null,null,null,"08:00:00"]
[{"$f":"'Basic Elements'!A$18","v":"Sunday"},{"$f":"'Basic Elements'!B$18","v":"2022-01-09"},{"$f":"'Basic Elements'!$D$16","v":"Employé 11"},"10:00:00","16:30:00","SW",null,null,null,"06:30:00"]
[{"$f":"'Basic Elements'!A$18","v":"Sunday"},{"$f":"'Basic Elements'!B$18","v":"2022-01-09"},{"$f":"'Basic Elements'!$D$17","v":"Employé 12"},null,null,"Off",null,null,null,"00:00:00"]
[{"$f":"'Basic Elements'!A$18","v":"Sunday"},{"$f":"'Basic Elements'!B$18","v":"2022-01-09"},{"$f":"'Basic Elements'!$D$18","v":"Employé 13"},"07:30:00","15:00:00","SW",null,null,null,"07:30:00"]
[{"$f":"'Basic Elements'!A$18","v":"Sunday"},{"$f":"'Basic Elements'!B$18","v":"2022-01-09"},{"$f":"'Basic Elements'!$D$19","v":"Employé 14"},"07:30:00","16:30:00","BA",null,null,null,"09:00:00"]
[{"$f":"'Basic Elements'!A$18","v":"Sunday"},{"$f":"'Basic Elements'!B$18","v":"2022-01-09"},{"$f":"'Basic Elements'!$D$20","v":"Employé 15"},null,null,"Off",null,null,null,"00:00:00"]
[{"$f":"'Basic Elements'!A$18","v":"Sunday"},{"$f":"'Basic Elements'!B$18","v":"2022-01-09"},{"$f":"'Basic Elements'!$D$21","v":"Employé 16"},null,null,"Off",null,null,null,"00:00:00"]
[{"$f":"'Basic Elements'!A$18","v":"Sunday"},{"$f":"'Basic Elements'!B$18","v":"2022-01-09"},{"$f":"'Basic Elements'!$D$22","v":"Employé 17"},null,null,null,null,null,null,"00:00:00"]
[{"$f":"'Basic Elements'!A$18","v":"Sunday"},{"$f":"'Basic Elements'!B$18","v":"2022-01-09"},{"$f":"'Basic Elements'!$D$23","v":"Employé 18"},"09:00:00","18:00:00","D",null,null,null,"09:00:00"]
[{"$f":"'Basic Elements'!A$18","v":"Sunday"},{"$f":"'Basic Elements'!B$18","v":"2022-01-09"},{"$f":"'Basic Elements'!$D$24","v":"Employé 19"},null,null,"Off",null,null,null,"00:00:00"]
[{"$f":"'Basic Elements'!A$18","v":"Sunday"},{"$f":"'Basic Elements'!B$18","v":"2022-01-09"},{"$f":"'Basic Elements'!$D$25","v":"Employé 20"},null,null,null,null,null,null,"00:00:00"]
[{"$f":"'Basic Elements'!A$18","v":"Sunday"},{"$f":"'Basic Elements'!B$18","v":"2022-01-09"},{"$f":"'Basic Elements'!$D$26","v":"Employé 21"},"09:00:00","16:30:00","BU",null,null,null,"07:30:00"]
[{"$f":"'Basic Elements'!A$18","v":"Sunday"},{"$f":"'Basic Elements'!B$18","v":"2022-01-09"},{"$f":"'Basic Elements'!$D$27","v":"Employé 22"},null,null,null,null,null,null,"00:00:00"]
[{"$f":"'Basic Elements'!A$18","v":"Sunday"},{"$f":"'Basic Elements'!B$18","v":"2022-01-09"},{"$f":"'Basic Elements'!$D$28","v":"Employé 23"},null,null,null,null,null,null,"00:00:00"]
[{"$f":"'Basic Elements'!A$18","v":"Sunday"},{"$f":"'Basic Elements'!B$18","v":"2022-01-09"},{"$f":"'Basic Elements'!$D$29","v":"Employé 24"},null,null,null,null,null,null,"00:00:00"]
[{"$f":"'Basic Elements'!A$18","v":"Sunday"},{"$f":"'Basic Elements'!B$18","v":"2022-01-09"},{"$f":"'Basic Elements'!$D$30","v":"Employé 25"},null,null,null,null,null,null,"00:00:00"]
[{"$f":"'Basic Elements'!A$18","v":"Sunday"},{"$f":"'Basic Elements'!B$18","v":"2022-01-09"},{"$f":"'Basic Elements'!$D$31","v":"Employé 26"},null,null,null,null,null,null,"00:00:00"]
[{"$f":"'Basic Elements'!A$18","v":"Sunday"},{"$f":"'Basic Elements'!B$18","v":"2022-01-09"},{"$f":"'Basic Elements'!$D$32","v":"Employé 27"},null,null,null,null,null,null,"00:00:00"]
[{"$f":"'Basic Elements'!A$18","v":"Sunday"},{"$f":"'Basic Elements'!B$18","v":"2022-01-09"},{"$f":"'Basic Elements'!$D$33","v":"Employé 28"},null,null,null,null,null,null,"00:00:00"]
[{"$f":"'Basic Elements'!A$18","v":"Sunday"},{"$f":"'Basic Elements'!B$18","v":"2022-01-09"},{"$f":"'Basic Elements'!$D$34","v":"Employé 29"},null,null,null,null,null,null,"00:00:00"]
[{"$f":"'Basic Elements'!A$18","v":"Sunday"},{"$f":"'Basic Elements'!B$18","v":"2022-01-09"},{"$f":"'Basic Elements'!$D$35","v":"Employé 30"},null,null,null,null,null,null,"00:00:00"]
[{"$f":"'Basic Elements'!A$18","v":"Sunday"},{"$f":"'Basic Elements'!B$18","v":"2022-01-09"},{"$f":"'Basic Elements'!$D$36","v":"Employé 31"},null,null,null,null,null,null,"00:00:00"]
[{"$f":"'Basic Elements'!A$18","v":"Sunday"},{"$f":"'Basic Elements'!B$18","v":"2022-01-09"},{"$f":"'Basic Elements'!$D$37","v":"Employé 32"},null,null,null,null,null,null,"00:00:00"]
[{"$f":"'Basic Elements'!A$18","v":"Sunday"},{"$f":"'Basic Elements'!B$18","v":"2022-01-09"},{"$f":"'Basic Elements'!$D$38","v":"Employé 33"},null,null,null,null,null,null,"00:00:00"]
[{"$f":"'Basic Elements'!A$18","v":"Sunday"},{"$f":"'Basic Elements'!B$18","v":"2022-01-09"},{"$f":"'Basic Elements'!$D$39","v":"Employé 34"},null,null,null,null,null,null,"00:00:00"]
[{"$f":"'Basic Elements'!A$18","v":"Sunday"},{"$f":"'Basic Elements'!B$18","v":"2022-01-09"},{"$f":"'Basic Elements'!$D$40","v":"Employé 35"},null,null,null,null,null,null,"00:00:00"]
[{"$f":"'Basic Elements'!A$18","v":"Sunday"},{"$f":"'Basic Elements'!B$18","v":"2022-01-09"},{"$f":"'Basic Elements'!$D$41","v":"Employé 36"},null,null,null,null,null,null,"00:00:00"]
[{"$f":"'Basic Elements'!A$19","v":"Monday"},{"$f":"'Basic Elements'!B$19","v":"2022-01-10"},{"$f":"'Basic Elements'!$D$6","v":"Employé 1"},null,null,null,null,null,null,"00:00:00"]
[{"$f":"'Basic Elements'!A$19","v":"Monday"},{"$f":"'Basic Elements'!B$19","v":"2022-01-10"},{"$f":"'Basic Elements'!$D$7","v":"Employé 2"},null,null,null,null,null,null,"00:00:00"]
[{"$f":"'Basic Elements'!A$19","v":"Monday"},{"$f":"'Basic Elements'!B$19","v":"2022-01-10"},{"$f":"'Basic Elements'!$D$8","v":"Employé 3"},null,null,null,null,null,null,"00:00:00"]
[{"$f":"'Basic Elements'!A$19","v":"Monday"},{"$f":"'Basic Elements'!B$19","v":"2022-01-10"},{"$f":"'Basic Elements'!$D$9","v":"Employé 4"},"02:00:00","10:00:00","PA",null,null,null,"08:00:00"]
[{"$f":"'Basic Elements'!A$19","v":"Monday"},{"$f":"'Basic Elements'!B$19","v":"2022-01-10"},{"$f":"'Basic Elements'!$D$10","v":"Employé 5"},null,null,"Off",null,null,null,"00:00:00"]
[{"$f":"'Basic Elements'!A$19","v":"Monday"},{"$f":"'Basic Elements'!B$19","v":"2022-01-10"},{"$f":"'Basic Elements'!$D$11","v":"Employé 6"},null,null,"Off",null,null,null,"00:00:00"]
[{"$f":"'Basic Elements'!A$19","v":"Monday"},{"$f":"'Basic Elements'!B$19","v":"2022-01-10"},{"$f":"'Basic Elements'!$D$12","v":"Employé 7"},"07:30:00","15:00:00","SM",null,null,null,"07:30:00"]
[{"$f":"'Basic Elements'!A$19","v":"Monday"},{"$f":"'Basic Elements'!B$19","v":"2022-01-10"},{"$f":"'Basic Elements'!$D$13","v":"Employé 8"},"08:30:00","16:00:00","SM",null,null,null,"07:30:00"]
[{"$f":"'Basic Elements'!A$19","v":"Monday"},{"$f":"'Basic Elements'!B$19","v":"2022-01-10"},{"$f":"'Basic Elements'!$D$14","v":"Employé 9"},"12:00:00","18:30:00","SM",null,null,null,"06:30:00"]
[{"$f":"'Basic Elements'!A$19","v":"Monday"},{"$f":"'Basic Elements'!B$19","v":"2022-01-10"},{"$f":"'Basic Elements'!$D$15","v":"Employé 10"},"07:30:00","15:00:00","SW",null,null,null,"07:30:00"]
[{"$f":"'Basic Elements'!A$19","v":"Monday"},{"$f":"'Basic Elements'!B$19","v":"2022-01-10"},{"$f":"'Basic Elements'!$D$16","v":"Employé 11"},"08:30:00","16:00:00","SW",null,null,null,"07:30:00"]
[{"$f":"'Basic Elements'!A$19","v":"Monday"},{"$f":"'Basic Elements'!B$19","v":"2022-01-10"},{"$f":"'Basic Elements'!$D$17","v":"Employé 12"},"12:00:00","18:30:00","SW",null,null,null,"06:30:00"]
[{"$f":"'Basic Elements'!A$19","v":"Monday"},{"$f":"'Basic Elements'!B$19","v":"2022-01-10"},{"$f":"'Basic Elements'!$D$18","v":"Employé 13"},null,null,"Off",null,null,null,"00:00:00"]
[{"$f":"'Basic Elements'!A$19","v":"Monday"},{"$f":"'Basic Elements'!B$19","v":"2022-01-10"},{"$f":"'Basic Elements'!$D$19","v":"Employé 14"},"12:00:00","17:00:00","BA",null,null,null,"05:00:00"]
[{"$f":"'Basic Elements'!A$19","v":"Monday"},{"$f":"'Basic Elements'!B$19","v":"2022-01-10"},{"$f":"'Basic Elements'!$D$20","v":"Employé 15"},"07:30:00","12:00:00","BA",null,null,null,"04:30:00"]
[{"$f":"'Basic Elements'!A$19","v":"Monday"},{"$f":"'Basic Elements'!B$19","v":"2022-01-10"},{"$f":"'Basic Elements'!$D$21","v":"Employé 16"},"09:00:00","18:00:00","PR",null,null,null,"09:00:00"]
[{"$f":"'Basic Elements'!A$19","v":"Monday"},{"$f":"'Basic Elements'!B$19","v":"2022-01-10"},{"$f":"'Basic Elements'!$D$22","v":"Employé 17"},null,null,null,null,null,null,"00:00:00"]
[{"$f":"'Basic Elements'!A$19","v":"Monday"},{"$f":"'Basic Elements'!B$19","v":"2022-01-10"},{"$f":"'Basic Elements'!$D$23","v":"Employé 18"},"09:00:00","14:30:00","D",null,null,null,{"$f":"(E343-D343)+(H343-G343)","v":"05:30:00"}]
[{"$f":"'Basic Elements'!A$19","v":"Monday"},{"$f":"'Basic Elements'!B$19","v":"2022-01-10"},{"$f":"'Basic Elements'!$D$24","v":"Employé 19"},"14:30:00","20:00:00","D",null,null,null,"05:30:00"]
[{"$f":"'Basic Elements'!A$19","v":"Monday"},{"$f":"'Basic Elements'!B$19","v":"2022-01-10"},{"$f":"'Basic Elements'!$D$25","v":"Employé 20"},null,null,null,null,null,null,"00:00:00"]
[{"$f":"'Basic Elements'!A$19","v":"Monday"},{"$f":"'Basic Elements'!B$19","v":"2022-01-10"},{"$f":"'Basic Elements'!$D$26","v":"Employé 21"},null,null,"Off",null,null,null,"00:00:00"]
[{"$f":"'Basic Elements'!A$19","v":"Monday"},{"$f":"'Basic Elements'!B$19","v":"2022-01-10"},{"$f":"'Basic Elements'!$D$27","v":"Employé 22"},null,null,null,null,null,null,"00:00:00"]
[{"$f":"'Basic Elements'!A$19","v":"Monday"},{"$f":"'Basic Elements'!B$19","v":"2022-01-10"},{"$f":"'Basic Elements'!$D$28","v":"Employé 23"},null,null,null,null,null,null,"00:00:00"]
[{"$f":"'Basic Elements'!A$19","v":"Monday"},{"$f":"'Basic Elements'!B$19","v":"2022-01-10"},{"$f":"'Basic Elements'!$D$29","v":"Employé 24"},null,null,null,null,null,null,"00:00:00"]
[{"$f":"'Basic Elements'!A$19","v":"Monday"},{"$f":"'Basic Elements'!B$19","v":"2022-01-10"},{"$f":"'Basic Elements'!$D$30","v":"Employé 25"},null,null,null,null,null,null,"00:00:00"]
[{"$f":"'Basic Elements'!A$19","v":"Monday"},{"$f":"'Basic Elements'!B$19","v":"2022-01-10"},{"$f":"'Basic Elements'!$D$31","v":"Employé 26"},null,null,null,null,null,null,"00:00:00"]
[{"$f":"'Basic Elements'!A$19","v":"Monday"},{"$f":"'Basic Elements'!B$19","v":"2022-01-10"},{"$f":"'Basic Elements'!$D$32","v":"Employé 27"},null,null,null,null,null,null,"00:00:00"]
[{"$f":"'Basic Elements'!A$19","v":"Monday"},{"$f":"'Basic Elements'!B$19","v":"2022-01-10"},{"$f":"'Basic Elements'!$D$33","v":"Employé 28"},null,null,null,null,null,null,"00:00:00"]
[{"$f":"'Basic Elements'!A$19","v":"Monday"},{"$f":"'Basic Elements'!B$19","v":"2022-01-10"},{"$f":"'Basic Elements'!$D$34","v":"Employé 29"},null,null,null,null,null,null,"00:00:00"]
[{"$f":"'Basic Elements'!A$19","v":"Monday"},{"$f":"'Basic Elements'!B$19","v":"2022-01-10"},{"$f":"'Basic Elements'!$D$35","v":"Employé 30"},null,null,null,null,null,null,"00:00:00"]
[{"$f":"'Basic Elements'!A$19","v":"Monday"},{"$f":"'Basic Elements'!B$19","v":"2022-01-10"},{"$f":"'Basic Elements'!$D$36","v":"Employé 31"},null,null,null,null,null,null,"00:00:00"]
[{"$f":"'Basic Elements'!A$19","v":"Monday"},{"$f":"'Basic Elements'!B$19","v":"2022-01-10"},{"$f":"'Basic Elements'!$D$37","v":"Employé 32"},null,null,null,null,null,null,"00:00:00"]
[{"$f":"'Basic Elements'!A$19","v":"Monday"},{"$f":"'Basic Elements'!B$19","v":"2022-01-10"},{"$f":"'Basic Elements'!$D$38","v":"Employé 33"},null,null,null,null,null,null,"00:00:00"]
[{"$f":"'Basic Elements'!A$19","v":"Monday"},{"$f":"'Basic Elements'!B$19","v":"2022-01-10"},{"$f":"'Basic Elements'!$D$39","v":"Employé 34"},null,null,null,null,null,null,"00:00:00"]
[{"$f":"'Basic Elements'!A$19","v":"Monday"},{"$f":"'Basic Elements'!B$19","v":"2022-01-10"},{"$f":"'Basic Elements'!$D$40","v":"Employé 35"},null,null,null,null,null,null,"00:00:00"]
[{"$f":"'Basic Elements'!A$19","v":"Monday"},{"$f":"'Basic Elements'!B$19","v":"2022-01-10"},{"$f":"'Basic Elements'!$D$41","v":"Employé 36"},null,null,null,null,null,null,"00:00:00"]
[{"$f":"'Basic Elements'!A$20","v":"Tuesday"},{"$f":"'Basic Elements'!B$20","v":"2022-01-11"},{"$f":"'Basic Elements'!$D$6","v":"Employé 1"},null,null,null,null,null,null,"00:00:00"]
[{"$f":"'Basic Elements'!A$20","v":"Tuesday"},{"$f":"'Basic Elements'!B$20","v":"2022-01-11"},{"$f":"'Basic Elements'!$D$7","v":"Employé 2"},null,null,null,null,null,null,"00:00:00"]
[{"$f":"'Basic Elements'!A$20","v":"Tuesday"},{"$f":"'Basic Elements'!B$20","v":"2022-01-11"},{"$f":"'Basic Elements'!$D$8","v":"Employé 3"},null,null,null,null,null,null,"00:00:00"]
[{"$f":"'Basic Elements'!A$20","v":"Tuesday"},{"$f":"'Basic Elements'!B$20","v":"2022-01-11"},{"$f":"'Basic Elements'!$D$9","v":"Employé 4"},"02:00:00","10:00:00","PA",null,null,null,"08:00:00"]
[{"$f":"'Basic Elements'!A$20","v":"Tuesday"},{"$f":"'Basic Elements'!B$20","v":"2022-01-11"},{"$f":"'Basic Elements'!$D$10","v":"Employé 5"},null,null,"Off",null,null,null,"00:00:00"]
[{"$f":"'Basic Elements'!A$20","v":"Tuesday"},{"$f":"'Basic Elements'!B$20","v":"2022-01-11"},{"$f":"'Basic Elements'!$D$11","v":"Employé 6"},null,null,"Off",null,null,null,"00:00:00"]
[{"$f":"'Basic Elements'!A$20","v":"Tuesday"},{"$f":"'Basic Elements'!B$20","v":"2022-01-11"},{"$f":"'Basic Elements'!$D$12","v":"Employé 7"},"07:30:00","15:00:00","SM",null,null,null,"07:30:00"]
[{"$f":"'Basic Elements'!A$20","v":"Tuesday"},{"$f":"'Basic Elements'!B$20","v":"2022-01-11"},{"$f":"'Basic Elements'!$D$13","v":"Employé 8"},"08:30:00","16:00:00","SM",null,null,null,"07:30:00"]
[{"$f":"'Basic Elements'!A$20","v":"Tuesday"},{"$f":"'Basic Elements'!B$20","v":"2022-01-11"},{"$f":"'Basic Elements'!$D$14","v":"Employé 9"},"12:00:00","18:30:00","SM",null,null,null,"06:30:00"]
[{"$f":"'Basic Elements'!A$20","v":"Tuesday"},{"$f":"'Basic Elements'!B$20","v":"2022-01-11"},{"$f":"'Basic Elements'!$D$15","v":"Employé 10"},"07:30:00","15:00:00","SW",null,null,null,"07:30:00"]
[{"$f":"'Basic Elements'!A$20","v":"Tuesday"},{"$f":"'Basic Elements'!B$20","v":"2022-01-11"},{"$f":"'Basic Elements'!$D$16","v":"Employé 11"},"08:30:00","16:00:00","SW",null,null,null,"07:30:00"]
[{"$f":"'Basic Elements'!A$20","v":"Tuesday"},{"$f":"'Basic Elements'!B$20","v":"2022-01-11"},{"$f":"'Basic Elements'!$D$17","v":"Employé 12"},"12:00:00","18:30:00","SW",null,null,null,"06:30:00"]
[{"$f":"'Basic Elements'!A$20","v":"Tuesday"},{"$f":"'Basic Elements'!B$20","v":"2022-01-11"},{"$f":"'Basic Elements'!$D$18","v":"Employé 13"},null,null,"Off",null,null,null,"00:00:00"]
[{"$f":"'Basic Elements'!A$20","v":"Tuesday"},{"$f":"'Basic Elements'!B$20","v":"2022-01-11"},{"$f":"'Basic Elements'!$D$19","v":"Employé 14"},"12:00:00","17:00:00","BA",null,null,null,"05:00:00"]
[{"$f":"'Basic Elements'!A$20","v":"Tuesday"},{"$f":"'Basic Elements'!B$20","v":"2022-01-11"},{"$f":"'Basic Elements'!$D$20","v":"Employé 15"},"07:30:00","12:00:00","BA",null,null,null,"04:30:00"]
[{"$f":"'Basic Elements'!A$20","v":"Tuesday"},{"$f":"'Basic Elements'!B$20","v":"2022-01-11"},{"$f":"'Basic Elements'!$D$21","v":"Employé 16"},"09:00:00","16:00:00","PR",null,null,null,"07:00:00"]
[{"$f":"'Basic Elements'!A$20","v":"Tuesday"},{"$f":"'Basic Elements'!B$20","v":"2022-01-11"},{"$f":"'Basic Elements'!$D$22","v":"Employé 17"},null,null,null,null,null,null,"00:00:00"]
[{"$f":"'Basic Elements'!A$20","v":"Tuesday"},{"$f":"'Basic Elements'!B$20","v":"2022-01-11"},{"$f":"'Basic Elements'!$D$23","v":"Employé 18"},"09:00:00","14:30:00","D",null,null,null,"05:30:00"]
[{"$f":"'Basic Elements'!A$20","v":"Tuesday"},{"$f":"'Basic Elements'!B$20","v":"2022-01-11"},{"$f":"'Basic Elements'!$D$24","v":"Employé 19"},"14:30:00","20:00:00","D",null,null,null,"05:30:00"]
[{"$f":"'Basic Elements'!A$20","v":"Tuesday"},{"$f":"'Basic Elements'!B$20","v":"2022-01-11"},{"$f":"'Basic Elements'!$D$25","v":"Employé 20"},null,null,null,null,null,null,"00:00:00"]
[{"$f":"'Basic Elements'!A$20","v":"Tuesday"},{"$f":"'Basic Elements'!B$20","v":"2022-01-11"},{"$f":"'Basic Elements'!$D$26","v":"Employé 21"},null,null,"Off",null,null,null,"00:00:00"]
[{"$f":"'Basic Elements'!A$20","v":"Tuesday"},{"$f":"'Basic Elements'!B$20","v":"2022-01-11"},{"$f":"'Basic Elements'!$D$27","v":"Employé 22"},null,null,null,null,null,null,"00:00:00"]
[{"$f":"'Basic Elements'!A$20","v":"Tuesday"},{"$f":"'Basic Elements'!B$20","v":"2022-01-11"},{"$f":"'Basic Elements'!$D$28","v":"Employé 23"},null,null,null,null,null,null,"00:00:00"]
[{"$f":"'Basic Elements'!A$20","v":"Tuesday"},{"$f":"'Basic Elements'!B$20","v":"2022-01-11"},{"$f":"'Basic Elements'!$D$29","v":"Employé 24"},null,null,null,null,null,null,"00:00:00"]
[{"$f":"'Basic Elements'!A$20","v":"Tuesday"},{"$f":"'Basic Elements'!B$20","v":"2022-01-11"},{"$f":"'Basic Elements'!$D$30","v":"Employé 25"},null,null,null,null,null,null,"00:00:00"]
[{"$f":"'Basic Elements'!A$20","v":"Tuesday"},{"$f":"'Basic Elements'!B$20","v":"2022-01-11"},{"$f":"'Basic Elements'!$D$31","v":"Employé 26"},null,null,null,null,null,null,"00:00:00"]
[{"$f":"'Basic Elements'!A$20","v":"Tuesday"},{"$f":"'Basic Elements'!B$20","v":"2022-01-11"},{"$f":"'Basic Elements'!$D$32","v":"Employé 27"},null,null,null,null,null,null,"00:00:00"]
[{"$f":"'Basic Elements'!A$20","v":"Tuesday"},{"$f":"'Basic Elements'!B$20","v":"2022-01-11"},{"$f":"'Basic Elements'!$D$33","v":"Employé 28"},null,null,null,null,null,null,"00:00:00"]
[{"$f":"'Basic Elements'!A$20","v":"Tuesday"},{"$f":"'Basic Elements'!B$20","v":"2022-01-11"},{"$f":"'Basic Elements'!$D$34","v":"Employé 29"},null,null,null,null,null,null,"00:00:00"]
[{"$f":"'Basic Elements'!A$20","v":"Tuesday"},{"$f":"'Basic Elements'!B$20","v":"2022-01-11"},{"$f":"'Basic Elements'!$D$35","v":"Employé 30"},null,null,null,null,null,null,"00:00:00"]
[{"$f":"'Basic Elements'!A$20","v":"Tuesday"},{"$f":"'Basic Elements'!B$20","v":"2022-01-11"},{"$f":"'Basic Elements'!$D$36","v":"Employé 31"},null,null,null,null,null,null,"00:00:00"]
[{"$f":"'Basic Elements'!A$20","v":"Tuesday"},{"$f":"'Basic Elements'!B$20","v":"2022-01-11"},{"$f":"'Basic Elements'!$D$37","v":"Employé 32"},null,null,null,null,null,null,"00:00:00"]
[{"$f":"'Basic Elements'!A$20","v":"Tuesday"},{"$f":"'Basic Elements'!B$20","v":"2022-01-11"},{"$f":"'Basic Elements'!$D$38","v":"Employé 33"},null,null,null,null,null,null,"00:00:00"]
[{"$f":"'Basic Elements'!A$20","v":"Tuesday"},{"$f":"'Basic Elements'!B$20","v":"2022-01-11"},{"$f":"'Basic Elements'!$D$39","v":"Employé 34"},null,null,null,null,null,null,"00:00:00"]
[{"$f":"'Basic Elements'!A$20","v":"Tuesday"},{"$f":"'Basic Elements'!B$20","v":"2022-01-11"},{"$f":"'Basic Elements'!$D$40","v":"Employé 35"},null,null,null,null,null,null,"00:00:00"]
[{"$f":"'Basic Elements'!A$20","v":"Tuesday"},{"$f":"'Basic Elements'!B$20","v":"2022-01-11"},{"$f":"'Basic Elements'!$D$41","v":"Employé 36"},null,null,null,null,null,null,"00:00:00"]
[{"$f":"'Basic Elements'!A$21","v":"Wednesday"},{"$f":"'Basic Elements'!B$21","v":"2022-01-12"},{"$f":"'Basic Elements'!$D$6","v":"Employé 1"},null,null,null,null,null,null,"00:00:00"]
[{"$f":"'Basic Elements'!A$21","v":"Wednesday"},{"$f":"'Basic Elements'!B$21","v":"2022-01-12"},{"$f":"'Basic Elements'!$D$7","v":"Employé 2"},null,null,null,null,null,null,"00:00:00"]
[{"$f":"'Basic Elements'!A$21","v":"Wednesday"},{"$f":"'Basic Elements'!B$21","v":"2022-01-12"},{"$f":"'Basic Elements'!$D$8","v":"Employé 3"},null,null,null,null,null,null,"00:00:00"]
[{"$f":"'Basic Elements'!A$21","v":"Wednesday"},{"$f":"'Basic Elements'!B$21","v":"2022-01-12"},{"$f":"'Basic Elements'!$D$9","v":"Employé 4"},null,null,"Off",null,null,null,"00:00:00"]
[{"$f":"'Basic Elements'!A$21","v":"Wednesday"},{"$f":"'Basic Elements'!B$21","v":"2022-01-12"},{"$f":"'Basic Elements'!$D$10","v":"Employé 5"},"02:00:00","10:00:00","PA",null,null,null,"08:00:00"]
[{"$f":"'Basic Elements'!A$21","v":"Wednesday"},{"$f":"'Basic Elements'!B$21","v":"2022-01-12"},{"$f":"'Basic Elements'!$D$11","v":"Employé 6"},"12:00:00","18:30:00","SM",null,null,null,"06:30:00"]
[{"$f":"'Basic Elements'!A$21","v":"Wednesday"},{"$f":"'Basic Elements'!B$21","v":"2022-01-12"},{"$f":"'Basic Elements'!$D$12","v":"Employé 7"},null,null,"Off",null,null,null,"00:00:00"]
[{"$f":"'Basic Elements'!A$21","v":"Wednesday"},{"$f":"'Basic Elements'!B$21","v":"2022-01-12"},{"$f":"'Basic Elements'!$D$13","v":"Employé 8"},"07:30:00","15:00:00","SM",null,null,null,"07:30:00"]
[{"$f":"'Basic Elements'!A$21","v":"Wednesday"},{"$f":"'Basic Elements'!B$21","v":"2022-01-12"},{"$f":"'Basic Elements'!$D$14","v":"Employé 9"},"08:30:00","16:00:00","SM",null,null,null,"07:30:00"]
[{"$f":"'Basic Elements'!A$21","v":"Wednesday"},{"$f":"'Basic Elements'!B$21","v":"2022-01-12"},{"$f":"'Basic Elements'!$D$15","v":"Employé 10"},null,null,"Off",null,null,null,{"$f":"(E407-D407)+(H407-G407)","v":"00:00:00"}]
[{"$f":"'Basic Elements'!A$21","v":"Wednesday"},{"$f":"'Basic Elements'!B$21","v":"2022-01-12"},{"$f":"'Basic Elements'!$D$16","v":"Employé 11"},"07:30:00","15:00:00","SW",null,null,null,"07:30:00"]
[{"$f":"'Basic Elements'!A$21","v":"Wednesday"},{"$f":"'Basic Elements'!B$21","v":"2022-01-12"},{"$f":"'Basic Elements'!$D$17","v":"Employé 12"},"08:30:00","16:00:00","SW",null,null,null,"07:30:00"]
[{"$f":"'Basic Elements'!A$21","v":"Wednesday"},{"$f":"'Basic Elements'!B$21","v":"2022-01-12"},{"$f":"'Basic Elements'!$D$18","v":"Employé 13"},"12:00:00","18:30:00","SW",null,null,null,"06:30:00"]
[{"$f":"'Basic Elements'!A$21","v":"Wednesday"},{"$f":"'Basic Elements'!B$21","v":"2022-01-12"},{"$f":"'Basic Elements'!$D$19","v":"Employé 14"},null,null,"Off",null,null,null,"00:00:00"]
[{"$f":"'Basic Elements'!A$21","v":"Wednesday"},{"$f":"'Basic Elements'!B$21","v":"2022-01-12"},{"$f":"'Basic Elements'!$D$20","v":"Employé 15"},"07:30:00","17:00:00","BA",null,null,null,"09:30:00"]
[{"$f":"'Basic Elements'!A$21","v":"Wednesday"},{"$f":"'Basic Elements'!B$21","v":"2022-01-12"},{"$f":"'Basic Elements'!$D$21","v":"Employé 16"},"09:00:00","16:00:00","PR",null,null,null,"07:00:00"]
[{"$f":"'Basic Elements'!A$21","v":"Wednesday"},{"$f":"'Basic Elements'!B$21","v":"2022-01-12"},{"$f":"'Basic Elements'!$D$22","v":"Employé 17"},null,null,null,null,null,null,"00:00:00"]
[{"$f":"'Basic Elements'!A$21","v":"Wednesday"},{"$f":"'Basic Elements'!B$21","v":"2022-01-12"},{"$f":"'Basic Elements'!$D$23","v":"Employé 18"},null,null,"Off",null,null,null,"00:00:00"]
[{"$f":"'Basic Elements'!A$21","v":"Wednesday"},{"$f":"'Basic Elements'!B$21","v":"2022-01-12"},{"$f":"'Basic Elements'!$D$24","v":"Employé 19"},"09:00:00","20:00:00","D",null,null,null,"11:00:00"]
[{"$f":"'Basic Elements'!A$21","v":"Wednesday"},{"$f":"'Basic Elements'!B$21","v":"2022-01-12"},{"$f":"'Basic Elements'!$D$25","v":"Employé 20"},null,null,null,null,null,null,"00:00:00"]
[{"$f":"'Basic Elements'!A$21","v":"Wednesday"},{"$f":"'Basic Elements'!B$21","v":"2022-01-12"},{"$f":"'Basic Elements'!$D$26","v":"Employé 21"},null,null,"Off",null,null,null,"00:00:00"]
[{"$f":"'Basic Elements'!A$21","v":"Wednesday"},{"$f":"'Basic Elements'!B$21","v":"2022-01-12"},{"$f":"'Basic Elements'!$D$27","v":"Employé 22"},null,null,null,null,null,null,"00:00:00"]
[{"$f":"'Basic Elements'!A$21","v":"Wednesday"},{"$f":"'Basic Elements'!B$21","v":"2022-01-12"},{"$f":"'Basic Elements'!$D$28","v":"Employé 23"},null,null,null,null,null,null,"00:00:00"]
[{"$f":"'Basic Elements'!A$21","v":"Wednesday"},{"$f":"'Basic Elements'!B$21","v":"2022-01-12"},{"$f":"'Basic Elements'!$D$29","v":"Employé 24"},null,null,null,null,null,null,"00:00:00"]
[{"$f":"'Basic Elements'!A$21","v":"Wednesday"},{"$f":"'Basic Elements'!B$21","v":"2022-01-12"},{"$f":"'Basic Elements'!$D$30","v":"Employé 25"},null,null,null,null,null,null,"00:00:00"]
[{"$f":"'Basic Elements'!A$21","v":"Wednesday"},{"$f":"'Basic Elements'!B$21","v":"2022-01-12"},{"$f":"'Basic Elements'!$D$31","v":"Employé 26"},null,null,null,null,null,null,"00:00:00"]
[{"$f":"'Basic Elements'!A$21","v":"Wednesday"},{"$f":"'Basic Elements'!B$21","v":"2022-01-12"},{"$f":"'Basic Elements'!$D$32","v":"Employé 27"},null,null,null,null,null,null,"00:00:00"]
[{"$f":"'Basic Elements'!A$21","v":"Wednesday"},{"$f":"'Basic Elements'!B$21","v":"2022-01-12"},{"$f":"'Basic Elements'!$D$33","v":"Employé 28"},null,null,null,null,null,null,"00:00:00"]
[{"$f":"'Basic Elements'!A$21","v":"Wednesday"},{"$f":"'Basic Elements'!B$21","v":"2022-01-12"},{"$f":"'Basic Elements'!$D$34","v":"Employé 29"},null,null,null,null,null,null,"00:00:00"]
[{"$f":"'Basic Elements'!A$21","v":"Wednesday"},{"$f":"'Basic Elements'!B$21","v":"2022-01-12"},{"$f":"'Basic Elements'!$D$35","v":"Employé 30"},null,null,null,null,null,null,"00:00:00"]
[{"$f":"'Basic Elements'!A$21","v":"Wednesday"},{"$f":"'Basic Elements'!B$21","v":"2022-01-12"},{"$f":"'Basic Elements'!$D$36","v":"Employé 31"},null,null,null,null,null,null,"00:00:00"]
[{"$f":"'Basic Elements'!A$21","v":"Wednesday"},{"$f":"'Basic Elements'!B$21","v":"2022-01-12"},{"$f":"'Basic Elements'!$D$37","v":"Employé 32"},null,null,null,null,null,null,"00:00:00"]
[{"$f":"'Basic Elements'!A$21","v":"Wednesday"},{"$f":"'Basic Elements'!B$21","v":"2022-01-12"},{"$f":"'Basic Elements'!$D$38","v":"Employé 33"},null,null,null,null,null,null,"00:00:00"]
[{"$f":"'Basic Elements'!A$21","v":"Wednesday"},{"$f":"'Basic Elements'!B$21","v":"2022-01-12"},{"$f":"'Basic Elements'!$D$39","v":"Employé 34"},null,null,null,null,null,null,"00:00:00"]
[{"$f":"'Basic Elements'!A$21","v":"Wednesday"},{"$f":"'Basic Elements'!B$21","v":"2022-01-12"},{"$f":"'Basic Elements'!$D$40","v":"Employé 35"},null,null,null,null,null,null,"00:00:00"]
[{"$f":"'Basic Elements'!A$21","v":"Wednesday"},{"$f":"'Basic Elements'!B$21","v":"2022-01-12"},{"$f":"'Basic Elements'!$D$41","v":"Employé 36"},null,null,null,null,null,null,"00:00:00"]
[{"$f":"'Basic Elements'!A$22","v":"Thursday"},{"$f":"'Basic Elements'!B$22","v":"2022-01-13"},{"$f":"'Basic Elements'!$D$6","v":"Employé 1"},null,null,null,null,null,null,"00:00:00"]
[{"$f":"'Basic Elements'!A$22","v":"Thursday"},{"$f":"'Basic Elements'!B$22","v":"2022-01-13"},{"$f":"'Basic Elements'!$D$7","v":"Employé 2"},null,null,null,null,null,null,"00:00:00"]
[{"$f":"'Basic Elements'!A$22","v":"Thursday"},{"$f":"'Basic Elements'!B$22","v":"2022-01-13"},{"$f":"'Basic Elements'!$D$8","v":"Employé 3"},null,null,null,null,null,null,"00:00:00"]
[{"$f":"'Basic Elements'!A$22","v":"Thursday"},{"$f":"'Basic Elements'!B$22","v":"2022-01-13"},{"$f":"'Basic Elements'!$D$9","v":"Employé 4"},null,null,"Off",null,null,null,"00:00:00"]
[{"$f":"'Basic Elements'!A$22","v":"Thursday"},{"$f":"'Basic Elements'!B$22","v":"2022-01-13"},{"$f":"'Basic Elements'!$D$10","v":"Employé 5"},"02:00:00","10:00:00","PA",null,null,null,"08:00:00"]
[{"$f":"'Basic Elements'!A$22","v":"Thursday"},{"$f":"'Basic Elements'!B$22","v":"2022-01-13"},{"$f":"'Basic Elements'!$D$11","v":"Employé 6"},"12:00:00","18:30:00","SM",null,null,null,"06:30:00"]
[{"$f":"'Basic Elements'!A$22","v":"Thursday"},{"$f":"'Basic Elements'!B$22","v":"2022-01-13"},{"$f":"'Basic Elements'!$D$12","v":"Employé 7"},null,null,"Off",null,null,null,"00:00:00"]
[{"$f":"'Basic Elements'!A$22","v":"Thursday"},{"$f":"'Basic Elements'!B$22","v":"2022-01-13"},{"$f":"'Basic Elements'!$D$13","v":"Employé 8"},"07:30:00","15:00:00","SM",null,null,null,"07:30:00"]
[{"$f":"'Basic Elements'!A$22","v":"Thursday"},{"$f":"'Basic Elements'!B$22","v":"2022-01-13"},{"$f":"'Basic Elements'!$D$14","v":"Employé 9"},"08:30:00","16:00:00","SM",null,null,null,"07:30:00"]
[{"$f":"'Basic Elements'!A$22","v":"Thursday"},{"$f":"'Basic Elements'!B$22","v":"2022-01-13"},{"$f":"'Basic Elements'!$D$15","v":"Employé 10"},null,null,"Off",null,null,null,"00:00:00"]
[{"$f":"'Basic Elements'!A$22","v":"Thursday"},{"$f":"'Basic Elements'!B$22","v":"2022-01-13"},{"$f":"'Basic Elements'!$D$16","v":"Employé 11"},"07:30:00","15:00:00","SW",null,null,null,"07:30:00"]
[{"$f":"'Basic Elements'!A$22","v":"Thursday"},{"$f":"'Basic Elements'!B$22","v":"2022-01-13"},{"$f":"'Basic Elements'!$D$17","v":"Employé 12"},"08:30:00","16:00:00","SW",null,null,null,"07:30:00"]
[{"$f":"'Basic Elements'!A$22","v":"Thursday"},{"$f":"'Basic Elements'!B$22","v":"2022-01-13"},{"$f":"'Basic Elements'!$D$18","v":"Employé 13"},"12:00:00","18:30:00","SW",null,null,null,"06:30:00"]
[{"$f":"'Basic Elements'!A$22","v":"Thursday"},{"$f":"'Basic Elements'!B$22","v":"2022-01-13"},{"$f":"'Basic Elements'!$D$19","v":"Employé 14"},null,null,"Off",null,null,null,"00:00:00"]
[{"$f":"'Basic Elements'!A$22","v":"Thursday"},{"$f":"'Basic Elements'!B$22","v":"2022-01-13"},{"$f":"'Basic Elements'!$D$20","v":"Employé 15"},"07:30:00","17:00:00","BA",null,null,null,"09:30:00"]
[{"$f":"'Basic Elements'!A$22","v":"Thursday"},{"$f":"'Basic Elements'!B$22","v":"2022-01-13"},{"$f":"'Basic Elements'!$D$21","v":"Employé 16"},"09:00:00","16:00:00","PR",null,null,null,"07:00:00"]
[{"$f":"'Basic Elements'!A$22","v":"Thursday"},{"$f":"'Basic Elements'!B$22","v":"2022-01-13"},{"$f":"'Basic Elements'!$D$22","v":"Employé 17"},null,null,null,null,null,null,"00:00:00"]
[{"$f":"'Basic Elements'!A$22","v":"Thursday"},{"$f":"'Basic Elements'!B$22","v":"2022-01-13"},{"$f":"'Basic Elements'!$D$23","v":"Employé 18"},null,null,"Off",null,null,null,"00:00:00"]
[{"$f":"'Basic Elements'!A$22","v":"Thursday"},{"$f":"'Basic Elements'!B$22","v":"2022-01-13"},{"$f":"'Basic Elements'!$D$24","v":"Employé 19"},"09:00:00","20:00:00","D",null,null,null,"11:00:00"]
[{"$f":"'Basic Elements'!A$22","v":"Thursday"},{"$f":"'Basic Elements'!B$22","v":"2022-01-13"},{"$f":"'Basic Elements'!$D$25","v":"Employé 20"},null,null,null,null,null,null,"00:00:00"]
[{"$f":"'Basic Elements'!A$22","v":"Thursday"},{"$f":"'Basic Elements'!B$22","v":"2022-01-13"},{"$f":"'Basic Elements'!$D$26","v":"Employé 21"},null,null,"Off",null,null,null,"00:00:00"]
[{"$f":"'Basic Elements'!A$22","v":"Thursday"},{"$f":"'Basic Elements'!B$22","v":"2022-01-13"},{"$f":"'Basic Elements'!$D$27","v":"Employé 22"},null,null,null,null,null,null,"00:00:00"]
[{"$f":"'Basic Elements'!A$22","v":"Thursday"},{"$f":"'Basic Elements'!B$22","v":"2022-01-13"},{"$f":"'Basic Elements'!$D$28","v":"Employé 23"},null,null,null,null,null,null,"00:00:00"]
[{"$f":"'Basic Elements'!A$22","v":"Thursday"},{"$f":"'Basic Elements'!B$22","v":"2022-01-13"},{"$f":"'Basic Elements'!$D$29","v":"Employé 24"},null,null,null,null,null,null,"00:00:00"]
[{"$f":"'Basic Elements'!A$22","v":"Thursday"},{"$f":"'Basic Elements'!B$22","v":"2022-01-13"},{"$f":"'Basic Elements'!$D$30","v":"Employé 25"},null,null,null,null,null,null,"00:00:00"]
[{"$f":"'Basic Elements'!A$22","v":"Thursday"},{"$f":"'Basic Elements'!B$22","v":"2022-01-13"},{"$f":"'Basic Elements'!$D$31","v":"Employé 26"},null,null,null,null,null,null,"00:00:00"]
[{"$f":"'Basic Elements'!A$22","v":"Thursday"},{"$f":"'Basic Elements'!B$22","v":"2022-01-13"},{"$f":"'Basic Elements'!$D$32","v":"Employé 27"},null,null,null,null,null,null,"00:00:00"]
[{"$f":"'Basic Elements'!A$22","v":"Thursday"},{"$f":"'Basic Elements'!B$22","v":"2022-01-13"},{"$f":"'Basic Elements'!$D$33","v":"Employé 28"},null,null,null,null,null,null,"00:00:00"]
[{"$f":"'Basic Elements'!A$22","v":"Thursday"},{"$f":"'Basic Elements'!B$22","v":"2022-01-13"},{"$f":"'Basic Elements'!$D$34","v":"Employé 29"},null,null,null,null,null,null,"00:00:00"]
[{"$f":"'Basic Elements'!A$22","v":"Thursday"},{"$f":"'Basic Elements'!B$22","v":"2022-01-13"},{"$f":"'Basic Elements'!$D$35","v":"Employé 30"},null,null,null,null,null,null,"00:00:00"]
[{"$f":"'Basic Elements'!A$22","v":"Thursday"},{"$f":"'Basic Elements'!B$22","v":"2022-01-13"},{"$f":"'Basic Elements'!$D$36","v":"Employé 31"},null,null,null,null,null,null,"00:00:00"]
[{"$f":"'Basic Elements'!A$22","v":"Thursday"},{"$f":"'Basic Elements'!B$22","v":"2022-01-13"},{"$f":"'Basic Elements'!$D$37","v":"Employé 32"},null,null,null,null,null,null,"00:00:00"]
[{"$f":"'Basic Elements'!A$22","v":"Thursday"},{"$f":"'Basic Elements'!B$22","v":"2022-01-13"},{"$f":"'Basic Elements'!$D$38","v":"Employé 33"},null,null,null,null,null,null,"00:00:00"]
[{"$f":"'Basic Elements'!A$22","v":"Thursday"},{"$f":"'Basic Elements'!B$22","v":"2022-01-13"},{"$f":"'Basic Elements'!$D$39","v":"Employé 34"},null,null,null,null,null,null,"00:00:00"]
[{"$f":"'Basic Elements'!A$22","v":"Thursday"},{"$f":"'Basic Elements'!B$22","v":"2022-01-13"},{"$f":"'Basic Elements'!$D$40","v":"Employé 35"},null,null,null,null,null,null,"00:00:00"]
[{"$f":"'Basic Elements'!A$22","v":"Thursday"},{"$f":"'Basic Elements'!B$22","v":"2022-01-13"},{"$f":"'Basic Elements'!$D$41","v":"Employé 36"},null,null,null,null,null,null,"00:00:00"]
[{"$f":"'Basic Elements'!A$23","v":"Friday"},{"$f":"'Basic Elements'!B$23","v":"2022-01-14"},{"$f":"'Basic Elements'!$D$6","v":"Employé 1"},null,null,null,null,null,null,"00:00:00"]
[{"$f":"'Basic Elements'!A$23","v":"Friday"},{"$f":"'Basic Elements'!B$23","v":"2022-01-14"},{"$f":"'Basic Elements'!$D$7","v":"Employé 2"},null,null,null,null,null,null,{"$f":"(E471-D471)+(H471-G471)","v":"00:00:00"}]
[{"$f":"'Basic Elements'!A$23","v":"Friday"},{"$f":"'Basic Elements'!B$23","v":"2022-01-14"},{"$f":"'Basic Elements'!$D$8","v":"Employé 3"},null,null,null,null,null,null,"00:00:00"]
[{"$f":"'Basic Elements'!A$23","v":"Friday"},{"$f":"'Basic Elements'!B$23","v":"2022-01-14"},{"$f":"'Basic Elements'!$D$9","v":"Employé 4"},"02:00:00","10:00:00","PA",null,null,null,"08:00:00"]
[{"$f":"'Basic Elements'!A$23","v":"Friday"},{"$f":"'Basic Elements'!B$23","v":"2022-01-14"},{"$f":"'Basic Elements'!$D$10","v":"Employé 5"},"02:00:00","10:00:00","PA",null,null,null,"08:00:00"]
[{"$f":"'Basic Elements'!A$23","v":"Friday"},{"$f":"'Basic Elements'!B$23","v":"2022-01-14"},{"$f":"'Basic Elements'!$D$11","v":"Employé 6"},"08:30:00","16:00:00","SM",null,null,null,"07:30:00"]
[{"$f":"'Basic Elements'!A$23","v":"Friday"},{"$f":"'Basic Elements'!B$23","v":"2022-01-14"},{"$f":"'Basic Elements'!$D$12","v":"Employé 7"},"12:00:00","18:30:00","SM",null,null,null,"06:30:00"]
[{"$f":"'Basic Elements'!A$23","v":"Friday"},{"$f":"'Basic Elements'!B$23","v":"2022-01-14"},{"$f":"'Basic Elements'!$D$13","v":"Employé 8"},null,null,"Off",null,null,null,"00:00:00"]
[{"$f":"'Basic Elements'!A$23","v":"Friday"},{"$f":"'Basic Elements'!B$23","v":"2022-01-14"},{"$f":"'Basic Elements'!$D$14","v":"Employé 9"},"07:30:00","15:00:00","SM",null,null,null,"07:30:00"]
[{"$f":"'Basic Elements'!A$23","v":"Friday"},{"$f":"'Basic Elements'!B$23","v":"2022-01-14"},{"$f":"'Basic Elements'!$D$15","v":"Employé 10"},"12:00:00","18:30:00","SW",null,null,null,"06:30:00"]
[{"$f":"'Basic Elements'!A$23","v":"Friday"},{"$f":"'Basic Elements'!B$23","v":"2022-01-14"},{"$f":"'Basic Elements'!$D$16","v":"Employé 11"},null,null,"Off",null,null,null,"00:00:00"]
[{"$f":"'Basic Elements'!A$23","v":"Friday"},{"$f":"'Basic Elements'!B$23","v":"2022-01-14"},{"$f":"'Basic Elements'!$D$17","v":"Employé 12"},"07:30:00","15:00:00","SW",null,null,null,"07:30:00"]
[{"$f":"'Basic Elements'!A$23","v":"Friday"},{"$f":"'Basic Elements'!B$23","v":"2022-01-14"},{"$f":"'Basic Elements'!$D$18","v":"Employé 13"},"08:30:00","16:00:00","SW",null,null,null,"07:30:00"]
[{"$f":"'Basic Elements'!A$23","v":"Friday"},{"$f":"'Basic Elements'!B$23","v":"2022-01-14"},{"$f":"'Basic Elements'!$D$19","v":"Employé 14"},"07:30:00","17:00:00","BA",null,null,null,"09:30:00"]
[{"$f":"'Basic Elements'!A$23","v":"Friday"},{"$f":"'Basic Elements'!B$23","v":"2022-01-14"},{"$f":"'Basic Elements'!$D$20","v":"Employé 15"},null,null,"Off",null,null,null,"00:00:00"]
[{"$f":"'Basic Elements'!A$23","v":"Friday"},{"$f":"'Basic Elements'!B$23","v":"2022-01-14"},{"$f":"'Basic Elements'!$D$21","v":"Employé 16"},"09:00:00","18:00:00","PR",null,null,null,"09:00:00"]
[{"$f":"'Basic Elements'!A$23","v":"Friday"},{"$f":"'Basic Elements'!B$23","v":"2022-01-14"},{"$f":"'Basic Elements'!$D$22","v":"Employé 17"},null,null,null,null,null,null,"00:00:00"]
[{"$f":"'Basic Elements'!A$23","v":"Friday"},{"$f":"'Basic Elements'!B$23","v":"2022-01-14"},{"$f":"'Basic Elements'!$D$23","v":"Employé 18"},"09:00:00","20:00:00","D",null,null,null,"11:00:00"]
[{"$f":"'Basic Elements'!A$23","v":"Friday"},{"$f":"'Basic Elements'!B$23","v":"2022-01-14"},{"$f":"'Basic Elements'!$D$24","v":"Employé 19"},null,null,"Off",null,null,null,"00:00:00"]
[{"$f":"'Basic Elements'!A$23","v":"Friday"},{"$f":"'Basic Elements'!B$23","v":"2022-01-14"},{"$f":"'Basic Elements'!$D$25","v":"Employé 20"},null,null,null,null,null,null,"00:00:00"]
[{"$f":"'Basic Elements'!A$23","v":"Friday"},{"$f":"'Basic Elements'!B$23","v":"2022-01-14"},{"$f":"'Basic Elements'!$D$26","v":"Employé 21"},"09:00:00","16:30:00","BU",null,null,null,"07:30:00"]
[{"$f":"'Basic Elements'!A$23","v":"Friday"},{"$f":"'Basic Elements'!B$23","v":"2022-01-14"},{"$f":"'Basic Elements'!$D$27","v":"Employé 22"},null,null,null,null,null,null,"00:00:00"]
[{"$f":"'Basic Elements'!A$23","v":"Friday"},{"$f":"'Basic Elements'!B$23","v":"2022-01-14"},{"$f":"'Basic Elements'!$D$28","v":"Employé 23"},null,null,null,null,null,null,"00:00:00"]
[{"$f":"'Basic Elements'!A$23","v":"Friday"},{"$f":"'Basic Elements'!B$23","v":"2022-01-14"},{"$f":"'Basic Elements'!$D$29","v":"Employé 24"},null,null,null,null,null,null,"00:00:00"]
[{"$f":"'Basic Elements'!A$23","v":"Friday"},{"$f":"'Basic Elements'!B$23","v":"2022-01-14"},{"$f":"'Basic Elements'!$D$30","v":"Employé 25"},null,null,null,null,null,null,"00:00:00"]
[{"$f":"'Basic Elements'!A$23","v":"Friday"},{"$f":"'Basic Elements'!B$23","v":"2022-01-14"},{"$f":"'Basic Elements'!$D$31","v":"Employé 26"},null,null,null,null,null,null,"00:00:00"]
[{"$f":"'Basic Elements'!A$23","v":"Friday"},{"$f":"'Basic Elements'!B$23","v":"2022-01-14"},{"$f":"'Basic Elements'!$D$32","v":"Employé 27"},null,null,null,null,null,null,"00:00:00"]
[{"$f":"'Basic Elements'!A$23","v":"Friday"},{"$f":"'Basic Elements'!B$23","v":"2022-01-14"},{"$f":"'Basic Elements'!$D$33","v":"Employé 28"},null,null,null,null,null,null,"00:00:00"]
[{"$f":"'Basic Elements'!A$23","v":"Friday"},{"$f":"'Basic Elements'!B$23","v":"2022-01-14"},{"$f":"'Basic Elements'!$D$34","v":"Employé 29"},null,null,null,null,null,null,"00:00:00"]
[{"$f":"'Basic Elements'!A$23","v":"Friday"},{"$f":"'Basic Elements'!B$23","v":"2022-01-14"},{"$f":"'Basic Elements'!$D$35","v":"Employé 30"},null,null,null,null,null,null,"00:00:00"]
[{"$f":"'Basic Elements'!A$23","v":"Friday"},{"$f":"'Basic Elements'!B$23","v":"2022-01-14"},{"$f":"'Basic Elements'!$D$36","v":"Employé 31"},null,null,null,null,null,null,"00:00:00"]
[{"$f":"'Basic Elements'!A$23","v":"Friday"},{"$f":"'Basic Elements'!B$23","v":"2022-01-14"},{"$f":"'Basic Elements'!$D$37","v":"Employé 32"},null,null,null,null,null,null,"00:00:00"]
[{"$f":"'Basic Elements'!A$23","v":"Friday"},{"$f":"'Basic Elements'!B$23","v":"2022-01-14"},{"$f":"'Basic Elements'!$D$38","v":"Employé 33"},null,null,null,null,null,null,"00:00:00"]
[{"$f":"'Basic Elements'!A$23","v":"Friday"},{"$f":"'Basic Elements'!B$23","v":"2022-01-14"},{"$f":"'Basic Elements'!$D$39","v":"Employé 34"},null,null,null,null,null,null,"00:00:00"]
[{"$f":"'Basic Elements'!A$23","v":"Friday"},{"$f":"'Basic Elements'!B$23","v":"2022-01-14"},{"$f":"'Basic Elements'!$D$40","v":"Employé 35"},null,null,null,null,null,null,"00:00:00"]
[{"$f":"'Basic Elements'!A$23","v":"Friday"},{"$f":"'Basic Elements'!B$23","v":"2022-01-14"},{"$f":"'Basic Elements'!$D$41","v":"Employé 36"},null,null,null,null,null,null,"00:00:00"]
[{"$f":"'Basic Elements'!A$24","v":"Saturday"},{"$f":"'Basic Elements'!B$24","v":"2022-01-15"},{"$f":"'Basic Elements'!$D$6","v":"Employé 1"},null,null,null,null,null,null,"00:00:00"]
[{"$f":"'Basic Elements'!A$24","v":"Saturday"},{"$f":"'Basic Elements'!B$24","v":"2022-01-15"},{"$f":"'Basic Elements'!$D$7","v":"Employé 2"},null,null,null,null,null,null,"00:00:00"]
[{"$f":"'Basic Elements'!A$24","v":"Saturday"},{"$f":"'Basic Elements'!B$24","v":"2022-01-15"},{"$f":"'Basic Elements'!$D$8","v":"Employé 3"},null,null,null,null,null,null,"00:00:00"]
[{"$f":"'Basic Elements'!A$24","v":"Saturday"},{"$f":"'Basic Elements'!B$24","v":"2022-01-15"},{"$f":"'Basic Elements'!$D$9","v":"Employé 4"},"02:00:00","10:00:00","PA",null,null,null,"08:00:00"]
[{"$f":"'Basic Elements'!A$24","v":"Saturday"},{"$f":"'Basic Elements'!B$24","v":"2022-01-15"},{"$f":"'Basic Elements'!$D$10","v":"Employé 5"},"02:00:00","10:00:00","PA",null,null,null,"08:00:00"]
[{"$f":"'Basic Elements'!A$24","v":"Saturday"},{"$f":"'Basic Elements'!B$24","v":"2022-01-15"},{"$f":"'Basic Elements'!$D$11","v":"Employé 6"},"08:30:00","17:00:00","SM",null,null,null,"08:30:00"]
[{"$f":"'Basic Elements'!A$24","v":"Saturday"},{"$f":"'Basic Elements'!B$24","v":"2022-01-15"},{"$f":"'Basic Elements'!$D$12","v":"Employé 7"},"10:00:00","18:30:00","SM",null,null,null,"08:30:00"]
[{"$f":"'Basic Elements'!A$24","v":"Saturday"},{"$f":"'Basic Elements'!B$24","v":"2022-01-15"},{"$f":"'Basic Elements'!$D$13","v":"Employé 8"},null,null,"Off",null,null,null,"00:00:00"]
[{"$f":"'Basic Elements'!A$24","v":"Saturday"},{"$f":"'Basic Elements'!B$24","v":"2022-01-15"},{"$f":"'Basic Elements'!$D$14","v":"Employé 9"},"07:30:00","15:00:00","SM",null,null,null,"07:30:00"]
[{"$f":"'Basic Elements'!A$24","v":"Saturday"},{"$f":"'Basic Elements'!B$24","v":"2022-01-15"},{"$f":"'Basic Elements'!$D$15","v":"Employé 10"},"10:00:00","18:30:00","SW",null,null,null,"08:30:00"]
[{"$f":"'Basic Elements'!A$24","v":"Saturday"},{"$f":"'Basic Elements'!B$24","v":"2022-01-15"},{"$f":"'Basic Elements'!$D$16","v":"Employé 11"},null,null,"Off",null,null,null,"00:00:00"]
[{"$f":"'Basic Elements'!A$24","v":"Saturday"},{"$f":"'Basic Elements'!B$24","v":"2022-01-15"},{"$f":"'Basic Elements'!$D$17","v":"Employé 12"},"07:30:00","15:00:00","SW",null,null,null,"07:30:00"]
[{"$f":"'Basic Elements'!A$24","v":"Saturday"},{"$f":"'Basic Elements'!B$24","v":"2022-01-15"},{"$f":"'Basic Elements'!$D$18","v":"Employé 13"},"08:30:00","17:00:00","SW",null,null,null,"08:30:00"]
[{"$f":"'Basic Elements'!A$24","v":"Saturday"},{"$f":"'Basic Elements'!B$24","v":"2022-01-15"},{"$f":"'Basic Elements'!$D$19","v":"Employé 14"},"07:30:00","17:00:00","BA",null,null,null,"09:30:00"]
[{"$f":"'Basic Elements'!A$24","v":"Saturday"},{"$f":"'Basic Elements'!B$24","v":"2022-01-15"},{"$f":"'Basic Elements'!$D$20","v":"Employé 15"},null,null,"Off",null,null,null,"00:00:00"]
[{"$f":"'Basic Elements'!A$24","v":"Saturday"},{"$f":"'Basic Elements'!B$24","v":"2022-01-15"},{"$f":"'Basic Elements'!$D$21","v":"Employé 16"},null,null,"Off",null,null,null,"00:00:00"]
[{"$f":"'Basic Elements'!A$24","v":"Saturday"},{"$f":"'Basic Elements'!B$24","v":"2022-01-15"},{"$f":"'Basic Elements'!$D$22","v":"Employé 17"},null,null,null,null,null,null,"00:00:00"]
[{"$f":"'Basic Elements'!A$24","v":"Saturday"},{"$f":"'Basic Elements'!B$24","v":"2022-01-15"},{"$f":"'Basic Elements'!$D$23","v":"Employé 18"},"09:00:00","20:00:00","D",null,null,null,"11:00:00"]
[{"$f":"'Basic Elements'!A$24","v":"Saturday"},{"$f":"'Basic Elements'!B$24","v":"2022-01-15"},{"$f":"'Basic Elements'!$D$24","v":"Employé 19"},null,null,"Off",null,null,null,"00:00:00"]
[{"$f":"'Basic Elements'!A$24","v":"Saturday"},{"$f":"'Basic Elements'!B$24","v":"2022-01-15"},{"$f":"'Basic Elements'!$D$25","v":"Employé 20"},null,null,null,null,null,null,"00:00:00"]
[{"$f":"'Basic Elements'!A$24","v":"Saturday"},{"$f":"'Basic Elements'!B$24","v":"2022-01-15"},{"$f":"'Basic Elements'!$D$26","v":"Employé 21"},"09:00:00","16:30:00","BU",null,null,null,"07:30:00"]
[{"$f":"'Basic Elements'!A$24","v":"Saturday"},{"$f":"'Basic Elements'!B$24","v":"2022-01-15"},{"$f":"'Basic Elements'!$D$27","v":"Employé 22"},null,null,null,null,null,null,"00:00:00"]
[{"$f":"'Basic Elements'!A$24","v":"Saturday"},{"$f":"'Basic Elements'!B$24","v":"2022-01-15"},{"$f":"'Basic Elements'!$D$28","v":"Employé 23"},null,null,null,null,null,null,"00:00:00"]
[{"$f":"'Basic Elements'!A$24","v":"Saturday"},{"$f":"'Basic Elements'!B$24","v":"2022-01-15"},{"$f":"'Basic Elements'!$D$29","v":"Employé 24"},null,null,null,null,null,null,"00:00:00"]
[{"$f":"'Basic Elements'!A$24","v":"Saturday"},{"$f":"'Basic Elements'!B$24","v":"2022-01-15"},{"$f":"'Basic Elements'!$D$30","v":"Employé 25"},null,null,null,null,null,null,"00:00:00"]
[{"$f":"'Basic Elements'!A$24","v":"Saturday"},{"$f":"'Basic Elements'!B$24","v":"2022-01-15"},{"$f":"'Basic Elements'!$D$31","v":"Employé 26"},null,null,null,null,null,null,"00:00:00"]
[{"$f":"'Basic Elements'!A$24","v":"Saturday"},{"$f":"'Basic Elements'!B$24","v":"2022-01-15"},{"$f":"'Basic Elements'!$D$32","v":"Employé 27"},null,null,null,null,null,null,"00:00:00"]
[{"$f":"'Basic Elements'!A$24","v":"Saturday"},{"$f":"'Basic Elements'!B$24","v":"2022-01-15"},{"$f":"'Basic Elements'!$D$33","v":"Employé 28"},null,null,null,null,null,null,"00:00:00"]
[{"$f":"'Basic Elements'!A$24","v":"Saturday"},{"$f":"'Basic Elements'!B$24","v":"2022-01-15"},{"$f":"'Basic Elements'!$D$34","v":"Employé 29"},null,null,null,null,null,null,"00:00:00"]
[{"$f":"'Basic Elements'!A$24","v":"Saturday"},{"$f":"'Basic Elements'!B$24","v":"2022-01-15"},{"$f":"'Basic Elements'!$D$35","v":"Employé 30"},null,null,null,null,null,null,{"$f":"(E535-D535)+(H535-G535)","v":"00:00:00"}]
[{"$f":"'Basic Elements'!A$24","v":"Saturday"},{"$f":"'Basic Elements'!B$24","v":"2022-01-15"},{"$f":"'Basic Elements'!$D$36","v":"Employé 31"},null,null,null,null,null,null,"00:00:00"]
[{"$f":"'Basic Elements'!A$24","v":"Saturday"},{"$f":"'Basic Elements'!B$24","v":"2022-01-15"},{"$f":"'Basic Elements'!$D$37","v":"Employé 32"},null,null,null,null,null,null,"00:00:00"]
[{"$f":"'Basic Elements'!A$24","v":"Saturday"},{"$f":"'Basic Elements'!B$24","v":"2022-01-15"},{"$f":"'Basic Elements'!$D$38","v":"Employé 33"},null,null,null,null,null,null,"00:00:00"]
[{"$f":"'Basic Elements'!A$24","v":"Saturday"},{"$f":"'Basic Elements'!B$24","v":"2022-01-15"},{"$f":"'Basic Elements'!$D$39","v":"Employé 34"},null,null,null,null,null,null,"00:00:00"]
[{"$f":"'Basic Elements'!A$24","v":"Saturday"},{"$f":"'Basic Elements'!B$24","v":"2022-01-15"},{"$f":"'Basic Elements'!$D$40","v":"Employé 35"},null,null,null,null,null,null,"00:00:00"]
[{"$f":"'Basic Elements'!A$24","v":"Saturday"},{"$f":"'Basic Elements'!B$24","v":"2022-01-15"},{"$f":"'Basic Elements'!$D$41","v":"Employé 36"},null,null,null,null,null,null,"00:00:00"]
[{"$f":"'Basic Elements'!A$25","v":"Sunday"},{"$f":"'Basic Elements'!B$25","v":"2022-01-16"},{"$f":"'Basic Elements'!$D$6","v":"Employé 1"},null,null,null,null,null,null,"00:00:00"]
[{"$f":"'Basic Elements'!A$25","v":"Sunday"},{"$f":"'Basic Elements'!B$25","v":"2022-01-16"},{"$f":"'Basic Elements'!$D$7","v":"Employé 2"},null,null,null,null,null,null,"00:00:00"]
[{"$f":"'Basic Elements'!A$25","v":"Sunday"},{"$f":"'Basic Elements'!B$25","v":"2022-01-16"},{"$f":"'Basic Elements'!$D$8","v":"Employé 3"},null,null,null,null,null,null,"00:00:00"]
[{"$f":"'Basic Elements'!A$25","v":"Sunday"},{"$f":"'Basic Elements'!B$25","v":"2022-01-16"},{"$f":"'Basic Elements'!$D$9","v":"Employé 4"},"02:00:00","10:00:00","PA",null,null,null,"08:00:00"]
[{"$f":"'Basic Elements'!A$25","v":"Sunday"},{"$f":"'Basic Elements'!B$25","v":"2022-01-16"},{"$f":"'Basic Elements'!$D$10","v":"Employé 5"},"02:00:00","10:00:00","PA",null,null,null,"08:00:00"]
[{"$f":"'Basic Elements'!A$25","v":"Sunday"},{"$f":"'Basic Elements'!B$25","v":"2022-01-16"},{"$f":"'Basic Elements'!$D$11","v":"Employé 6"},"07:30:00","15:00:00","SM",null,null,null,"07:30:00"]
[{"$f":"'Basic Elements'!A$25","v":"Sunday"},{"$f":"'Basic Elements'!B$25","v":"2022-01-16"},{"$f":"'Basic Elements'!$D$12","v":"Employé 7"},"08:30:00","16:30:00","SM",null,null,null,"08:00:00"]
[{"$f":"'Basic Elements'!A$25","v":"Sunday"},{"$f":"'Basic Elements'!B$25","v":"2022-01-16"},{"$f":"'Basic Elements'!$D$13","v":"Employé 8"},"10:00:00","16:30:00","SM",null,null,null,"06:30:00"]
[{"$f":"'Basic Elements'!A$25","v":"Sunday"},{"$f":"'Basic Elements'!B$25","v":"2022-01-16"},{"$f":"'Basic Elements'!$D$14","v":"Employé 9"},null,null,"Off",null,null,null,"00:00:00"]
[{"$f":"'Basic Elements'!A$25","v":"Sunday"},{"$f":"'Basic Elements'!B$25","v":"2022-01-16"},{"$f":"'Basic Elements'!$D$15","v":"Employé 10"},"08:30:00","16:30:00","SW",null,null,null,"08:00:00"]
[{"$f":"'Basic Elements'!A$25","v":"Sunday"},{"$f":"'Basic Elements'!B$25","v":"2022-01-16"},{"$f":"'Basic Elements'!$D$16","v":"Employé 11"},"10:00:00","16:30:00","SW",null,null,null,"06:30:00"]
[{"$f":"'Basic Elements'!A$25","v":"Sunday"},{"$f":"'Basic Elements'!B$25","v":"2022-01-16"},{"$f":"'Basic Elements'!$D$17","v":"Employé 12"},null,null,"Off",null,null,null,"00:00:00"]
[{"$f":"'Basic Elements'!A$25","v":"Sunday"},{"$f":"'Basic Elements'!B$25","v":"2022-01-16"},{"$f":"'Basic Elements'!$D$18","v":"Employé 13"},"07:30:00","15:00:00","SW",null,null,null,"07:30:00"]
[{"$f":"'Basic Elements'!A$25","v":"Sunday"},{"$f":"'Basic Elements'!B$25","v":"2022-01-16"},{"$f":"'Basic Elements'!$D$19","v":"Employé 14"},"07:30:00","12:00:00","BA",null,null,null,"04:30:00"]
[{"$f":"'Basic Elements'!A$25","v":"Sunday"},{"$f":"'Basic Elements'!B$25","v":"2022-01-16"},{"$f":"'Basic Elements'!$D$20","v":"Employé 15"},"12:00:00","16:30:00","BA",null,null,null,"04:30:00"]
[{"$f":"'Basic Elements'!A$25","v":"Sunday"},{"$f":"'Basic Elements'!B$25","v":"2022-01-16"},{"$f":"'Basic Elements'!$D$21","v":"Employé 16"},null,null,"Off",null,null,null,"00:00:00"]
[{"$f":"'Basic Elements'!A$25","v":"Sunday"},{"$f":"'Basic Elements'!B$25","v":"2022-01-16"},{"$f":"'Basic Elements'!$D$22","v":"Employé 17"},null,null,null,null,null,null,"00:00:00"]
[{"$f":"'Basic Elements'!A$25","v":"Sunday"},{"$f":"'Basic Elements'!B$25","v":"2022-01-16"},{"$f":"'Basic Elements'!$D$23","v":"Employé 18"},"13:30:00","18:00:00","D",null,null,null,"04:30:00"]
[{"$f":"'Basic Elements'!A$25","v":"Sunday"},{"$f":"'Basic Elements'!B$25","v":"2022-01-16"},{"$f":"'Basic Elements'!$D$24","v":"Employé 19"},"09:00:00","13:30:00","D",null,null,null,"04:30:00"]
[{"$f":"'Basic Elements'!A$25","v":"Sunday"},{"$f":"'Basic Elements'!B$25","v":"2022-01-16"},{"$f":"'Basic Elements'!$D$25","v":"Employé 20"},null,null,null,null,null,null,"00:00:00"]
[{"$f":"'Basic Elements'!A$25","v":"Sunday"},{"$f":"'Basic Elements'!B$25","v":"2022-01-16"},{"$f":"'Basic Elements'!$D$26","v":"Employé 21"},"09:00:00","16:30:00","BU",null,null,null,"07:30:00"]
[{"$f":"'Basic Elements'!A$25","v":"Sunday"},{"$f":"'Basic Elements'!B$25","v":"2022-01-16"},{"$f":"'Basic Elements'!$D$27","v":"Employé 22"},null,null,null,null,null,null,"00:00:00"]
[{"$f":"'Basic Elements'!A$25","v":"Sunday"},{"$f":"'Basic Elements'!B$25","v":"2022-01-16"},{"$f":"'Basic Elements'!$D$28","v":"Employé 23"},null,null,null,null,null,null,"00:00:00"]
[{"$f":"'Basic Elements'!A$25","v":"Sunday"},{"$f":"'Basic Elements'!B$25","v":"2022-01-16"},{"$f":"'Basic Elements'!$D$29","v":"Employé 24"},null,null,null,null,null,null,"00:00:00"]
[{"$f":"'Basic Elements'!A$25","v":"Sunday"},{"$f":"'Basic Elements'!B$25","v":"2022-01-16"},{"$f":"'Basic Elements'!$D$30","v":"Employé 25"},null,null,null,null,null,null,"00:00:00"]
[{"$f":"'Basic Elements'!A$25","v":"Sunday"},{"$f":"'Basic Elements'!B$25","v":"2022-01-16"},{"$f":"'Basic Elements'!$D$31","v":"Employé 26"},null,null,null,null,null,null,"00:00:00"]
[{"$f":"'Basic Elements'!A$25","v":"Sunday"},{"$f":"'Basic Elements'!B$25","v":"2022-01-16"},{"$f":"'Basic Elements'!$D$32","v":"Employé 27"},null,null,null,null,null,null,"00:00:00"]
[{"$f":"'Basic Elements'!A$25","v":"Sunday"},{"$f":"'Basic Elements'!B$25","v":"2022-01-16"},{"$f":"'Basic Elements'!$D$33","v":"Employé 28"},null,null,null,null,null,null,"00:00:00"]
[{"$f":"'Basic Elements'!A$25","v":"Sunday"},{"$f":"'Basic Elements'!B$25","v":"2022-01-16"},{"$f":"'Basic Elements'!$D$34","v":"Employé 29"},null,null,null,null,null,null,"00:00:00"]
[{"$f":"'Basic Elements'!A$25","v":"Sunday"},{"$f":"'Basic Elements'!B$25","v":"2022-01-16"},{"$f":"'Basic Elements'!$D$35","v":"Employé 30"},null,null,null,null,null,null,"00:00:00"]
[{"$f":"'Basic Elements'!A$25","v":"Sunday"},{"$f":"'Basic Elements'!B$25","v":"2022-01-16"},{"$f":"'Basic Elements'!$D$36","v":"Employé 31"},null,null,null,null,null,null,"00:00:00"]
[{"$f":"'Basic Elements'!A$25","v":"Sunday"},{"$f":"'Basic Elements'!B$25","v":"2022-01-16"},{"$f":"'Basic Elements'!$D$37","v":"Employé 32"},null,null,null,null,null,null,"00:00:00"]
[{"$f":"'Basic Elements'!A$25","v":"Sunday"},{"$f":"'Basic Elements'!B$25","v":"2022-01-16"},{"$f":"'Basic Elements'!$D$38","v":"Employé 33"},null,null,null,null,null,null,"00:00:00"]
[{"$f":"'Basic Elements'!A$25","v":"Sunday"},{"$f":"'Basic Elements'!B$25","v":"2022-01-16"},{"$f":"'Basic Elements'!$D$39","v":"Employé 34"},null,null,null,null,null,null,"00:00:00"]
[{"$f":"'Basic Elements'!A$25","v":"Sunday"},{"$f":"'Basic Elements'!B$25","v":"2022-01-16"},{"$f":"'Basic Elements'!$D$40","v":"Employé 35"},null,null,null,null,null,null,"00:00:00"]
[{"$f":"'Basic Elements'!A$25","v":"Sunday"},{"$f":"'Basic Elements'!B$25","v":"2022-01-16"},{"$f":"'Basic Elements'!$D$41","v":"Employé 36"},null,null,null,null,null,null,"00:00:00"]
[{"$f":"'Basic Elements'!A$26","v":"Monday"},{"$f":"'Basic Elements'!B$26","v":"2022-01-17"},{"$f":"'Basic Elements'!$D$6","v":"Employé 1"},null,null,null,null,null,null,"00:00:00"]
[{"$f":"'Basic Elements'!A$26","v":"Monday"},{"$f":"'Basic Elements'!B$26","v":"2022-01-17"},{"$f":"'Basic Elements'!$D$7","v":"Employé 2"},null,null,null,null,null,null,"00:00:00"]
[{"$f":"'Basic Elements'!A$26","v":"Monday"},{"$f":"'Basic Elements'!B$26","v":"2022-01-17"},{"$f":"'Basic Elements'!$D$8","v":"Employé 3"},null,null,null,null,null,null,"00:00:00"]
[{"$f":"'Basic Elements'!A$26","v":"Monday"},{"$f":"'Basic Elements'!B$26","v":"2022-01-17"},{"$f":"'Basic Elements'!$D$9","v":"Employé 4"},"02:00:00","10:00:00","PA",null,null,null,"08:00:00"]
[{"$f":"'Basic Elements'!A$26","v":"Monday"},{"$f":"'Basic Elements'!B$26","v":"2022-01-17"},{"$f":"'Basic Elements'!$D$10","v":"Employé 5"},null,null,"Off",null,null,null,"00:00:00"]
[{"$f":"'Basic Elements'!A$26","v":"Monday"},{"$f":"'Basic Elements'!B$26","v":"2022-01-17"},{"$f":"'Basic Elements'!$D$11","v":"Employé 6"},"07:30:00","15:00:00","SM",null,null,null,"07:30:00"]
[{"$f":"'Basic Elements'!A$26","v":"Monday"},{"$f":"'Basic Elements'!B$26","v":"2022-01-17"},{"$f":"'Basic Elements'!$D$12","v":"Employé 7"},"08:30:00","16:00:00","SM",null,null,null,"07:30:00"]
[{"$f":"'Basic Elements'!A$26","v":"Monday"},{"$f":"'Basic Elements'!B$26","v":"2022-01-17"},{"$f":"'Basic Elements'!$D$13","v":"Employé 8"},"12:00:00","18:30:00","SM",null,null,null,"06:30:00"]
[{"$f":"'Basic Elements'!A$26","v":"Monday"},{"$f":"'Basic Elements'!B$26","v":"2022-01-17"},{"$f":"'Basic Elements'!$D$14","v":"Employé 9"},null,null,"Off",null,null,null,"00:00:00"]
[{"$f":"'Basic Elements'!A$26","v":"Monday"},{"$f":"'Basic Elements'!B$26","v":"2022-01-17"},{"$f":"'Basic Elements'!$D$15","v":"Employé 10"},"08:30:00","16:00:00","SW",null,null,null,"07:30:00"]
[{"$f":"'Basic Elements'!A$26","v":"Monday"},{"$f":"'Basic Elements'!B$26","v":"2022-01-17"},{"$f":"'Basic Elements'!$D$16","v":"Employé 11"},"12:00:00","18:30:00","SW",null,null,null,"06:30:00"]
[{"$f":"'Basic Elements'!A$26","v":"Monday"},{"$f":"'Basic Elements'!B$26","v":"2022-01-17"},{"$f":"'Basic Elements'!$D$17","v":"Employé 12"},null,null,"Off",null,null,null,"00:00:00"]
[{"$f":"'Basic Elements'!A$26","v":"Monday"},{"$f":"'Basic Elements'!B$26","v":"2022-01-17"},{"$f":"'Basic Elements'!$D$18","v":"Employé 13"},"07:30:00","15:00:00","SW",null,null,null,"07:30:00"]
[{"$f":"'Basic Elements'!A$26","v":"Monday"},{"$f":"'Basic Elements'!B$26","v":"2022-01-17"},{"$f":"'Basic Elements'!$D$19","v":"Employé 14"},"07:30:00","12:00:00","BA",null,null,null,"04:30:00"]
[{"$f":"'Basic Elements'!A$26","v":"Monday"},{"$f":"'Basic Elements'!B$26","v":"2022-01-17"},{"$f":"'Basic Elements'!$D$20","v":"Employé 15"},"12:00:00","17:00:00","BA",null,null,null,"05:00:00"]
[{"$f":"'Basic Elements'!A$26","v":"Monday"},{"$f":"'Basic Elements'!B$26","v":"2022-01-17"},{"$f":"'Basic Elements'!$D$21","v":"Employé 16"},"09:00:00","18:00:00","PR",null,null,null,"09:00:00"]
[{"$f":"'Basic Elements'!A$26","v":"Monday"},{"$f":"'Basic Elements'!B$26","v":"2022-01-17"},{"$f":"'Basic Elements'!$D$22","v":"Employé 17"},null,null,null,null,null,null,"00:00:00"]
[{"$f":"'Basic Elements'!A$26","v":"Monday"},{"$f":"'Basic Elements'!B$26","v":"2022-01-17"},{"$f":"'Basic Elements'!$D$23","v":"Employé 18"},"14:30:00","20:00:00","D",null,null,null,"05:30:00"]
[{"$f":"'Basic Elements'!A$26","v":"Monday"},{"$f":"'Basic Elements'!B$26","v":"2022-01-17"},{"$f":"'Basic Elements'!$D$24","v":"Employé 19"},"09:00:00","14:30:00","D",null,null,null,"05:30:00"]
[{"$f":"'Basic Elements'!A$26","v":"Monday"},{"$f":"'Basic Elements'!B$26","v":"2022-01-17"},{"$f":"'Basic Elements'!$D$25","v":"Employé 20"},null,null,null,null,null,null,"00:00:00"]
[{"$f":"'Basic Elements'!A$26","v":"Monday"},{"$f":"'Basic Elements'!B$26","v":"2022-01-17"},{"$f":"'Basic Elements'!$D$26","v":"Employé 21"},null,null,"Off",null,null,null,"00:00:00"]
[{"$f":"'Basic Elements'!A$26","v":"Monday"},{"$f":"'Basic Elements'!B$26","v":"2022-01-17"},{"$f":"'Basic Elements'!$D$27","v":"Employé 22"},null,null,null,null,null,null,{"$f":"(E599-D599)+(H599-G599)","v":"00:00:00"}]
[{"$f":"'Basic Elements'!A$26","v":"Monday"},{"$f":"'Basic Elements'!B$26","v":"2022-01-17"},{"$f":"'Basic Elements'!$D$28","v":"Employé 23"},null,null,null,null,null,null,"00:00:00"]
[{"$f":"'Basic Elements'!A$26","v":"Monday"},{"$f":"'Basic Elements'!B$26","v":"2022-01-17"},{"$f":"'Basic Elements'!$D$29","v":"Employé 24"},null,null,null,null,null,null,"00:00:00"]
[{"$f":"'Basic Elements'!A$26","v":"Monday"},{"$f":"'Basic Elements'!B$26","v":"2022-01-17"},{"$f":"'Basic Elements'!$D$30","v":"Employé 25"},null,null,null,null,null,null,"00:00:00"]
[{"$f":"'Basic Elements'!A$26","v":"Monday"},{"$f":"'Basic Elements'!B$26","v":"2022-01-17"},{"$f":"'Basic Elements'!$D$31","v":"Employé 26"},null,null,null,null,null,null,"00:00:00"]
[{"$f":"'Basic Elements'!A$26","v":"Monday"},{"$f":"'Basic Elements'!B$26","v":"2022-01-17"},{"$f":"'Basic Elements'!$D$32","v":"Employé 27"},null,null,null,null,null,null,"00:00:00"]
[{"$f":"'Basic Elements'!A$26","v":"Monday"},{"$f":"'Basic Elements'!B$26","v":"2022-01-17"},{"$f":"'Basic Elements'!$D$33","v":"Employé 28"},null,null,null,null,null,null,"00:00:00"]
[{"$f":"'Basic Elements'!A$26","v":"Monday"},{"$f":"'Basic Elements'!B$26","v":"2022-01-17"},{"$f":"'Basic Elements'!$D$34","v":"Employé 29"},null,null,null,null,null,null,"00:00:00"]
[{"$f":"'Basic Elements'!A$26","v":"Monday"},{"$f":"'Basic Elements'!B$26","v":"2022-01-17"},{"$f":"'Basic Elements'!$D$35","v":"Employé 30"},null,null,null,null,null,null,"00:00:00"]
[{"$f":"'Basic Elements'!A$26","v":"Monday"},{"$f":"'Basic Elements'!B$26","v":"2022-01-17"},{"$f":"'Basic Elements'!$D$36","v":"Employé 31"},null,null,null,null,null,null,"00:00:00"]
[{"$f":"'Basic Elements'!A$26","v":"Monday"},{"$f":"'Basic Elements'!B$26","v":"2022-01-17"},{"$f":"'Basic Elements'!$D$37","v":"Employé 32"},null,null,null,null,null,null,"00:00:00"]
[{"$f":"'Basic Elements'!A$26","v":"Monday"},{"$f":"'Basic Elements'!B$26","v":"2022-01-17"},{"$f":"'Basic Elements'!$D$38","v":"Employé 33"},null,null,null,null,null,null,"00:00:00"]
[{"$f":"'Basic Elements'!A$26","v":"Monday"},{"$f":"'Basic Elements'!B$26","v":"2022-01-17"},{"$f":"'Basic Elements'!$D$39","v":"Employé 34"},null,null,null,null,null,null,"00:00:00"]
[{"$f":"'Basic Elements'!A$26","v":"Monday"},{"$f":"'Basic Elements'!B$26","v":"2022-01-17"},{"$f":"'Basic Elements'!$D$40","v":"Employé 35"},null,null,null,null,null,null,"00:00:00"]
[{"$f":"'Basic Elements'!A$26","v":"Monday"},{"$f":"'Basic Elements'!B$26","v":"2022-01-17"},{"$f":"'Basic Elements'!$D$41","v":"Employé 36"},null,null,null,null,null,null,"00:00:00"]
[{"$f":"'Basic Elements'!A$27","v":"Tuesday"},{"$f":"'Basic Elements'!B$27","v":"2022-01-18"},{"$f":"'Basic Elements'!$D$6","v":"Employé 1"},null,null,null,null,null,null,"00:00:00"]
[{"$f":"'Basic Elements'!A$27","v":"Tuesday"},{"$f":"'Basic Elements'!B$27","v":"2022-01-18"},{"$f":"'Basic Elements'!$D$7","v":"Employé 2"},null,null,null,null,null,null,"00:00:00"]
[{"$f":"'Basic Elements'!A$27","v":"Tuesday"},{"$f":"'Basic Elements'!B$27","v":"2022-01-18"},{"$f":"'Basic Elements'!$D$8","v":"Employé 3"},null,null,null,null,null,null,"00:00:00"]
[{"$f":"'Basic Elements'!A$27","v":"Tuesday"},{"$f":"'Basic Elements'!B$27","v":"2022-01-18"},{"$f":"'Basic Elements'!$D$9","v":"Employé 4"},"02:00:00","10:00:00","PA",null,null,null,"08:00:00"]
[{"$f":"'Basic Elements'!A$27","v":"Tuesday"},{"$f":"'Basic Elements'!B$27","v":"2022-01-18"},{"$f":"'Basic Elements'!$D$10","v":"Employé 5"},null,null,"Off",null,null,null,"00:00:00"]
[{"$f":"'Basic Elements'!A$27","v":"Tuesday"},{"$f":"'Basic Elements'!B$27","v":"2022-01-18"},{"$f":"'Basic Elements'!$D$11","v":"Employé 6"},null,null,"Off",null,null,null,"00:00:00"]
[{"$f":"'Basic Elements'!A$27","v":"Tuesday"},{"$f":"'Basic Elements'!B$27","v":"2022-01-18"},{"$f":"'Basic Elements'!$D$12","v":"Employé 7"},"07:30:00","15:00:00","SM",null,null,null,"07:30:00"]
[{"$f":"'Basic Elements'!A$27","v":"Tuesday"},{"$f":"'Basic Elements'!B$27","v":"2022-01-18"},{"$f":"'Basic Elements'!$D$13","v":"Employé 8"},"08:30:00","16:00:00","SM",null,null,null,"07:30:00"]
[{"$f":"'Basic Elements'!A$27","v":"Tuesday"},{"$f":"'Basic Elements'!B$27","v":"2022-01-18"},{"$f":"'Basic Elements'!$D$14","v":"Employé 9"},"12:00:00","18:30:00","SM",null,null,null,"06:30:00"]
[{"$f":"'Basic Elements'!A$27","v":"Tuesday"},{"$f":"'Basic Elements'!B$27","v":"2022-01-18"},{"$f":"'Basic Elements'!$D$15","v":"Employé 10"},"07:30:00","15:00:00","SW",null,null,null,"07:30:00"]
[{"$f":"'Basic Elements'!A$27","v":"Tuesday"},{"$f":"'Basic Elements'!B$27","v":"2022-01-18"},{"$f":"'Basic Elements'!$D$16","v":"Employé 11"},"08:30:00","16:00:00","SW",null,null,null,"07:30:00"]
[{"$f":"'Basic Elements'!A$27","v":"Tuesday"},{"$f":"'Basic Elements'!B$27","v":"2022-01-18"},{"$f":"'Basic Elements'!$D$17","v":"Employé 12"},"12:00:00","18:30:00","SW",null,null,null,"06:30:00"]
[{"$f":"'Basic Elements'!A$27","v":"Tuesday"},{"$f":"'Basic Elements'!B$27","v":"2022-01-18"},{"$f":"'Basic Elements'!$D$18","v":"Employé 13"},null,null,"Off",null,null,null,"00:00:00"]
[{"$f":"'Basic Elements'!A$27","v":"Tuesday"},{"$f":"'Basic Elements'!B$27","v":"2022-01-18"},{"$f":"'Basic Elements'!$D$19","v":"Employé 14"},null,null,"Off",null,null,null,"00:00:00"]
[{"$f":"'Basic Elements'!A$27","v":"Tuesday"},{"$f":"'Basic Elements'!B$27","v":"2022-01-18"},{"$f":"'Basic Elements'!$D$20","v":"Employé 15"},"07:30:00","17:00:00","BA",null,null,null,"09:30:00"]
[{"$f":"'Basic Elements'!A$27","v":"Tuesday"},{"$f":"'Basic Elements'!B$27","v":"2022-01-18"},{"$f":"'Basic Elements'!$D$21","v":"Employé 16"},"09:00:00","16:00:00","PR",null,null,null,"07:00:00"]
[{"$f":"'Basic Elements'!A$27","v":"Tuesday"},{"$f":"'Basic Elements'!B$27","v":"2022-01-18"},{"$f":"'Basic Elements'!$D$22","v":"Employé 17"},null,null,null,null,null,null,"00:00:00"]
[{"$f":"'Basic Elements'!A$27","v":"Tuesday"},{"$f":"'Basic Elements'!B$27","v":"2022-01-18"},{"$f":"'Basic Elements'!$D$23","v":"Employé 18"},null,null,"Off",null,null,null,"00:00:00"]
[{"$f":"'Basic Elements'!A$27","v":"Tuesday"},{"$f":"'Basic Elements'!B$27","v":"2022-01-18"},{"$f":"'Basic Elements'!$D$24","v":"Employé 19"},"09:00:00","20:00:00","D",null,null,null,"11:00:00"]
[{"$f":"'Basic Elements'!A$27","v":"Tuesday"},{"$f":"'Basic Elements'!B$27","v":"2022-01-18"},{"$f":"'Basic Elements'!$D$25","v":"Employé 20"},null,null,null,null,null,null,"00:00:00"]
[{"$f":"'Basic Elements'!A$27","v":"Tuesday"},{"$f":"'Basic Elements'!B$27","v":"2022-01-18"},{"$f":"'Basic Elements'!$D$26","v":"Employé 21"},null,null,"Off",null,null,null,"00:00:00"]
[{"$f":"'Basic Elements'!A$27","v":"Tuesday"},{"$f":"'Basic Elements'!B$27","v":"2022-01-18"},{"$f":"'Basic Elements'!$D$27","v":"Employé 22"},null,null,null,null,null,null,"00:00:00"]
[{"$f":"'Basic Elements'!A$27","v":"Tuesday"},{"$f":"'Basic Elements'!B$27","v":"2022-01-18"},{"$f":"'Basic Elements'!$D$28","v":"Employé 23"},null,null,null,null,null,null,"00:00:00"]
[{"$f":"'Basic Elements'!A$27","v":"Tuesday"},{"$f":"'Basic Elements'!B$27","v":"2022-01-18"},{"$f":"'Basic Elements'!$D$29","v":"Employé 24"},null,null,null,null,null,null,"00:00:00"]
[{"$f":"'Basic Elements'!A$27","v":"Tuesday"},{"$f":"'Basic Elements'!B$27","v":"2022-01-18"},{"$f":"'Basic Elements'!$D$30","v":"Employé 25"},null,null,null,null,null,null,"00:00:00"]
[{"$f":"'Basic Elements'!A$27","v":"Tuesday"},{"$f":"'Basic Elements'!B$27","v":"2022-01-18"},{"$f":"'Basic Elements'!$D$31","v":"Employé 26"},null,null,null,null,null,null,"00:00:00"]
[{"$f":"'Basic Elements'!A$27","v":"Tuesday"},{"$f":"'Basic Elements'!B$27","v":"2022-01-18"},{"$f":"'Basic Elements'!$D$32","v":"Employé 27"},null,null,null,null,null,null,"00:00:00"]
[{"$f":"'Basic Elements'!A$27","v":"Tuesday"},{"$f":"'Basic Elements'!B$27","v":"2022-01-18"},{"$f":"'Basic Elements'!$D$33","v":"Employé 28"},null,null,null,null,null,null,"00:00:00"]
[{"$f":"'Basic Elements'!A$27","v":"Tuesday"},{"$f":"'Basic Elements'!B$27","v":"2022-01-18"},{"$f":"'Basic Elements'!$D$34","v":"Employé 29"},null,null,null,null,null,null,"00:00:00"]
[{"$f":"'Basic Elements'!A$27","v":"Tuesday"},{"$f":"'Basic Elements'!B$27","v":"2022-01-18"},{"$f":"'Basic Elements'!$D$35","v":"Employé 30"},null,null,null,null,null,null,"00:00:00"]
[{"$f":"'Basic Elements'!A$27","v":"Tuesday"},{"$f":"'Basic Elements'!B$27","v":"2022-01-18"},{"$f":"'Basic Elements'!$D$36","v":"Employé 31"},null,null,null,null,null,null,"00:00:00"]
[{"$f":"'Basic Elements'!A$27","v":"Tuesday"},{"$f":"'Basic Elements'!B$27","v":"2022-01-18"},{"$f":"'Basic Elements'!$D$37","v":"Employé 32"},null,null,null,null,null,null,"00:00:00"]
[{"$f":"'Basic Elements'!A$27","v":"Tuesday"},{"$f":"'Basic Elements'!B$27","v":"2022-01-18"},{"$f":"'Basic Elements'!$D$38","v":"Employé 33"},null,null,null,null,null,null,"00:00:00"]
[{"$f":"'Basic Elements'!A$27","v":"Tuesday"},{"$f":"'Basic Elements'!B$27","v":"2022-01-18"},{"$f":"'Basic Elements'!$D$39","v":"Employé 34"},null,null,null,null,null,null,"00:00:00"]
[{"$f":"'Basic Elements'!A$27","v":"Tuesday"},{"$f":"'Basic Elements'!B$27","v":"2022-01-18"},{"$f":"'Basic Elements'!$D$40","v":"Employé 35"},null,null,null,null,null,null,"00:00:00"]
[{"$f":"'Basic Elements'!A$27","v":"Tuesday"},{"$f":"'Basic Elements'!B$27","v":"2022-01-18"},{"$f":"'Basic Elements'!$D$41","v":"Employé 36"},null,null,null,null,null,null,"00:00:00"]
[{"$f":"'Basic Elements'!A$28","v":"Wednesday"},{"$f":"'Basic Elements'!B$28","v":"2022-01-19"},{"$f":"'Basic Elements'!$D$6","v":"Employé 1"},null,null,null,null,null,null,"00:00:00"]
[{"$f":"'Basic Elements'!A$28","v":"Wednesday"},{"$f":"'Basic Elements'!B$28","v":"2022-01-19"},{"$f":"'Basic Elements'!$D$7","v":"Employé 2"},null,null,null,null,null,null,"00:00:00"]
[{"$f":"'Basic Elements'!A$28","v":"Wednesday"},{"$f":"'Basic Elements'!B$28","v":"2022-01-19"},{"$f":"'Basic Elements'!$D$8","v":"Employé 3"},null,null,null,null,null,null,"00:00:00"]
[{"$f":"'Basic Elements'!A$28","v":"Wednesday"},{"$f":"'Basic Elements'!B$28","v":"2022-01-19"},{"$f":"'Basic Elements'!$D$9","v":"Employé 4"},null,null,"Off",null,null,null,"00:00:00"]
[{"$f":"'Basic Elements'!A$28","v":"Wednesday"},{"$f":"'Basic Elements'!B$28","v":"2022-01-19"},{"$f":"'Basic Elements'!$D$10","v":"Employé 5"},"02:00:00","10:00:00","PA",null,null,null,"08:00:00"]
[{"$f":"'Basic Elements'!A$28","v":"Wednesday"},{"$f":"'Basic Elements'!B$28","v":"2022-01-19"},{"$f":"'Basic Elements'!$D$11","v":"Employé 6"},null,null,"Off",null,null,null,"00:00:00"]
[{"$f":"'Basic Elements'!A$28","v":"Wednesday"},{"$f":"'Basic Elements'!B$28","v":"2022-01-19"},{"$f":"'Basic Elements'!$D$12","v":"Employé 7"},"07:30:00","15:00:00","SM",null,null,null,"07:30:00"]
[{"$f":"'Basic Elements'!A$28","v":"Wednesday"},{"$f":"'Basic Elements'!B$28","v":"2022-01-19"},{"$f":"'Basic Elements'!$D$13","v":"Employé 8"},"08:30:00","16:00:00","SM",null,null,null,"07:30:00"]
[{"$f":"'Basic Elements'!A$28","v":"Wednesday"},{"$f":"'Basic Elements'!B$28","v":"2022-01-19"},{"$f":"'Basic Elements'!$D$14","v":"Employé 9"},"12:00:00","18:30:00","SM",null,null,null,"06:30:00"]
[{"$f":"'Basic Elements'!A$28","v":"Wednesday"},{"$f":"'Basic Elements'!B$28","v":"2022-01-19"},{"$f":"'Basic Elements'!$D$15","v":"Employé 10"},"07:30:00","15:00:00","SW",null,null,null,"07:30:00"]
[{"$f":"'Basic Elements'!A$28","v":"Wednesday"},{"$f":"'Basic Elements'!B$28","v":"2022-01-19"},{"$f":"'Basic Elements'!$D$16","v":"Employé 11"},"08:30:00","16:00:00","SW",null,null,null,"07:30:00"]
[{"$f":"'Basic Elements'!A$28","v":"Wednesday"},{"$f":"'Basic Elements'!B$28","v":"2022-01-19"},{"$f":"'Basic Elements'!$D$17","v":"Employé 12"},"12:00:00","18:30:00","SW",null,null,null,"06:30:00"]
[{"$f":"'Basic Elements'!A$28","v":"Wednesday"},{"$f":"'Basic Elements'!B$28","v":"2022-01-19"},{"$f":"'Basic Elements'!$D$18","v":"Employé 13"},null,null,"Off",null,null,null,"00:00:00"]
[{"$f":"'Basic Elements'!A$28","v":"Wednesday"},{"$f":"'Basic Elements'!B$28","v":"2022-01-19"},{"$f":"'Basic Elements'!$D$19","v":"Employé 14"},null,null,"Off",null,null,null,{"$f":"(E663-D663)+(H663-G663)","v":"00:00:00"}]
[{"$f":"'Basic Elements'!A$28","v":"Wednesday"},{"$f":"'Basic Elements'!B$28","v":"2022-01-19"},{"$f":"'Basic Elements'!$D$20","v":"Employé 15"},"07:30:00","17:00:00","BA",null,null,null,"09:30:00"]
[{"$f":"'Basic Elements'!A$28","v":"Wednesday"},{"$f":"'Basic Elements'!B$28","v":"2022-01-19"},{"$f":"'Basic Elements'!$D$21","v":"Employé 16"},"09:00:00","16:00:00","PR",null,null,null,"07:00:00"]
[{"$f":"'Basic Elements'!A$28","v":"Wednesday"},{"$f":"'Basic Elements'!B$28","v":"2022-01-19"},{"$f":"'Basic Elements'!$D$22","v":"Employé 17"},null,null,null,null,null,null,"00:00:00"]
[{"$f":"'Basic Elements'!A$28","v":"Wednesday"},{"$f":"'Basic Elements'!B$28","v":"2022-01-19"},{"$f":"'Basic Elements'!$D$23","v":"Employé 18"},null,null,"Off",null,null,null,"00:00:00"]
[{"$f":"'Basic Elements'!A$28","v":"Wednesday"},{"$f":"'Basic Elements'!B$28","v":"2022-01-19"},{"$f":"'Basic Elements'!$D$24","v":"Employé 19"},"09:00:00","20:00:00","D",null,null,null,"11:00:00"]
[{"$f":"'Basic Elements'!A$28","v":"Wednesday"},{"$f":"'Basic Elements'!B$28","v":"2022-01-19"},{"$f":"'Basic Elements'!$D$25","v":"Employé 20"},null,null,null,null,null,null,"00:00:00"]
[{"$f":"'Basic Elements'!A$28","v":"Wednesday"},{"$f":"'Basic Elements'!B$28","v":"2022-01-19"},{"$f":"'Basic Elements'!$D$26","v":"Employé 21"},null,null,"Off",null,null,null,"00:00:00"]
[{"$f":"'Basic Elements'!A$28","v":"Wednesday"},{"$f":"'Basic Elements'!B$28","v":"2022-01-19"},{"$f":"'Basic Elements'!$D$27","v":"Employé 22"},null,null,null,null,null,null,"00:00:00"]
[{"$f":"'Basic Elements'!A$28","v":"Wednesday"},{"$f":"'Basic Elements'!B$28","v":"2022-01-19"},{"$f":"'Basic Elements'!$D$28","v":"Employé 23"},null,null,null,null,null,null,"00:00:00"]
[{"$f":"'Basic Elements'!A$28","v":"Wednesday"},{"$f":"'Basic Elements'!B$28","v":"2022-01-19"},{"$f":"'Basic Elements'!$D$29","v":"Employé 24"},null,null,null,null,null,null,"00:00:00"]
[{"$f":"'Basic Elements'!A$28","v":"Wednesday"},{"$f":"'Basic Elements'!B$28","v":"2022-01-19"},{"$f":"'Basic Elements'!$D$30","v":"Employé 25"},null,null,null,null,null,null,"00:00:00"]
[{"$f":"'Basic Elements'!A$28","v":"Wednesday"},{"$f":"'Basic Elements'!B$28","v":"2022-01-19"},{"$f":"'Basic Elements'!$D$31","v":"Employé 26"},null,null,null,null,null,null,"00:00:00"]
[{"$f":"'Basic Elements'!A$28","v":"Wednesday"},{"$f":"'Basic Elements'!B$28","v":"2022-01-19"},{"$f":"'Basic Elements'!$D$32","v":"Employé 27"},null,null,null,null,null,null,"00:00:00"]
[{"$f":"'Basic Elements'!A$28","v":"Wednesday"},{"$f":"'Basic Elements'!B$28","v":"2022-01-19"},{"$f":"'Basic Elements'!$D$33","v":"Employé 28"},null,null,null,null,null,null,"00:00:00"]
[{"$f":"'Basic Elements'!A$28","v":"Wednesday"},{"$f":"'Basic Elements'!B$28","v":"2022-01-19"},{"$f":"'Basic Elements'!$D$34","v":"Employé 29"},null,null,null,null,null,null,"00:00:00"]
[{"$f":"'Basic Elements'!A$28","v":"Wednesday"},{"$f":"'Basic Elements'!B$28","v":"2022-01-19"},{"$f":"'Basic Elements'!$D$35","v":"Employé 30"},null,null,null,null,null,null,"00:00:00"]
[{"$f":"'Basic Elements'!A$28","v":"Wednesday"},{"$f":"'Basic Elements'!B$28","v":"2022-01-19"},{"$f":"'Basic Elements'!$D$36","v":"Employé 31"},null,null,null,null,null,null,"00:00:00"]
[{"$f":"'Basic Elements'!A$28","v":"Wednesday"},{"$f":"'Basic Elements'!B$28","v":"2022-01-19"},{"$f":"'Basic Elements'!$D$37","v":"Employé 32"},null,null,null,null,null,null,"00:00:00"]
[{"$f":"'Basic Elements'!A$28","v":"Wednesday"},{"$f":"'Basic Elements'!B$28","v":"2022-01-19"},{"$f":"'Basic Elements'!$D$38","v":"Employé 33"},null,null,null,null,null,null,"00:00:00"]
[{"$f":"'Basic Elements'!A$28","v":"Wednesday"},{"$f":"'Basic Elements'!B$28","v":"2022-01-19"},{"$f":"'Basic Elements'!$D$39","v":"Employé 34"},null,null,null,null,null,null,"00:00:00"]
[{"$f":"'Basic Elements'!A$28","v":"Wednesday"},{"$f":"'Basic Elements'!B$28","v":"2022-01-19"},{"$f":"'Basic Elements'!$D$40","v":"Employé 35"},null,null,null,null,null,null,"00:00:00"]
[{"$f":"'Basic Elements'!A$28","v":"Wednesday"},{"$f":"'Basic Elements'!B$28","v":"2022-01-19"},{"$f":"'Basic Elements'!$D$41","v":"Employé 36"},null,null,null,null,null,null,"00:00:00"]
[{"$f":"'Basic Elements'!A$29","v":"Thursday"},{"$f":"'Basic Elements'!B$29","v":"2022-01-20"},{"$f":"'Basic Elements'!$D$6","v":"Employé 1"},null,null,null,null,null,null,"00:00:00"]
[{"$f":"'Basic Elements'!A$29","v":"Thursday"},{"$f":"'Basic Elements'!B$29","v":"2022-01-20"},{"$f":"'Basic Elements'!$D$7","v":"Employé 2"},null,null,null,null,null,null,"00:00:00"]
[{"$f":"'Basic Elements'!A$29","v":"Thursday"},{"$f":"'Basic Elements'!B$29","v":"2022-01-20"},{"$f":"'Basic Elements'!$D$8","v":"Employé 3"},null,null,null,null,null,null,"00:00:00"]
[{"$f":"'Basic Elements'!A$29","v":"Thursday"},{"$f":"'Basic Elements'!B$29","v":"2022-01-20"},{"$f":"'Basic Elements'!$D$9","v":"Employé 4"},null,null,"Off",null,null,null,"00:00:00"]
[{"$f":"'Basic Elements'!A$29","v":"Thursday"},{"$f":"'Basic Elements'!B$29","v":"2022-01-20"},{"$f":"'Basic Elements'!$D$10","v":"Employé 5"},"02:00:00","10:00:00","PA",null,null,null,"08:00:00"]
[{"$f":"'Basic Elements'!A$29","v":"Thursday"},{"$f":"'Basic Elements'!B$29","v":"2022-01-20"},{"$f":"'Basic Elements'!$D$11","v":"Employé 6"},"12:00:00","18:30:00","SM",null,null,null,"06:30:00"]
[{"$f":"'Basic Elements'!A$29","v":"Thursday"},{"$f":"'Basic Elements'!B$29","v":"2022-01-20"},{"$f":"'Basic Elements'!$D$12","v":"Employé 7"},null,null,"Off",null,null,null,"00:00:00"]
[{"$f":"'Basic Elements'!A$29","v":"Thursday"},{"$f":"'Basic Elements'!B$29","v":"2022-01-20"},{"$f":"'Basic Elements'!$D$13","v":"Employé 8"},"07:30:00","15:00:00","SM",null,null,null,"07:30:00"]
[{"$f":"'Basic Elements'!A$29","v":"Thursday"},{"$f":"'Basic Elements'!B$29","v":"2022-01-20"},{"$f":"'Basic Elements'!$D$14","v":"Employé 9"},"08:30:00","16:00:00","SM",null,null,null,"07:30:00"]
[{"$f":"'Basic Elements'!A$29","v":"Thursday"},{"$f":"'Basic Elements'!B$29","v":"2022-01-20"},{"$f":"'Basic Elements'!$D$15","v":"Employé 10"},null,null,"Off",null,null,null,"00:00:00"]
[{"$f":"'Basic Elements'!A$29","v":"Thursday"},{"$f":"'Basic Elements'!B$29","v":"2022-01-20"},{"$f":"'Basic Elements'!$D$16","v":"Employé 11"},"07:30:00","15:00:00","SW",null,null,null,"07:30:00"]
[{"$f":"'Basic Elements'!A$29","v":"Thursday"},{"$f":"'Basic Elements'!B$29","v":"2022-01-20"},{"$f":"'Basic Elements'!$D$17","v":"Employé 12"},"08:30:00","16:00:00","SW",null,null,null,"07:30:00"]
[{"$f":"'Basic Elements'!A$29","v":"Thursday"},{"$f":"'Basic Elements'!B$29","v":"2022-01-20"},{"$f":"'Basic Elements'!$D$18","v":"Employé 13"},"12:00:00","18:30:00","SW",null,null,null,"06:30:00"]
[{"$f":"'Basic Elements'!A$29","v":"Thursday"},{"$f":"'Basic Elements'!B$29","v":"2022-01-20"},{"$f":"'Basic Elements'!$D$19","v":"Employé 14"},"07:30:00","17:00:00","BA",null,null,null,"09:30:00"]
[{"$f":"'Basic Elements'!A$29","v":"Thursday"},{"$f":"'Basic Elements'!B$29","v":"2022-01-20"},{"$f":"'Basic Elements'!$D$20","v":"Employé 15"},null,null,"Off",null,null,null,"00:00:00"]
[{"$f":"'Basic Elements'!A$29","v":"Thursday"},{"$f":"'Basic Elements'!B$29","v":"2022-01-20"},{"$f":"'Basic Elements'!$D$21","v":"Employé 16"},"09:00:00","16:00:00","PR",null,null,null,"07:00:00"]
[{"$f":"'Basic Elements'!A$29","v":"Thursday"},{"$f":"'Basic Elements'!B$29","v":"2022-01-20"},{"$f":"'Basic Elements'!$D$22","v":"Employé 17"},null,null,null,null,null,null,"00:00:00"]
[{"$f":"'Basic Elements'!A$29","v":"Thursday"},{"$f":"'Basic Elements'!B$29","v":"2022-01-20"},{"$f":"'Basic Elements'!$D$23","v":"Employé 18"},"09:00:00","20:00:00","D",null,null,null,"11:00:00"]
[{"$f":"'Basic Elements'!A$29","v":"Thursday"},{"$f":"'Basic Elements'!B$29","v":"2022-01-20"},{"$f":"'Basic Elements'!$D$24","v":"Employé 19"},null,null,"Off",null,null,null,"00:00:00"]
[{"$f":"'Basic Elements'!A$29","v":"Thursday"},{"$f":"'Basic Elements'!B$29","v":"2022-01-20"},{"$f":"'Basic Elements'!$D$25","v":"Employé 20"},null,null,null,null,null,null,"00:00:00"]
[{"$f":"'Basic Elements'!A$29","v":"Thursday"},{"$f":"'Basic Elements'!B$29","v":"2022-01-20"},{"$f":"'Basic Elements'!$D$26","v":"Employé 21"},null,null,"Off",null,null,null,"00:00:00"]
[{"$f":"'Basic Elements'!A$29","v":"Thursday"},{"$f":"'Basic Elements'!B$29","v":"2022-01-20"},{"$f":"'Basic Elements'!$D$27","v":"Employé 22"},null,null,null,null,null,null,"00:00:00"]
[{"$f":"'Basic Elements'!A$29","v":"Thursday"},{"$f":"'Basic Elements'!B$29","v":"2022-01-20"},{"$f":"'Basic Elements'!$D$28","v":"Employé 23"},null,null,null,null,null,null,"00:00:00"]
[{"$f":"'Basic Elements'!A$29","v":"Thursday"},{"$f":"'Basic Elements'!B$29","v":"2022-01-20"},{"$f":"'Basic Elements'!$D$29","v":"Employé 24"},null,null,null,null,null,null,"00:00:00"]
[{"$f":"'Basic Elements'!A$29","v":"Thursday"},{"$f":"'Basic Elements'!B$29","v":"2022-01-20"},{"$f":"'Basic Elements'!$D$30","v":"Employé 25"},null,null,null,null,null,null,"00:00:00"]
[{"$f":"'Basic Elements'!A$29","v":"Thursday"},{"$f":"'Basic Elements'!B$29","v":"2022-01-20"},{"$f":"'Basic Elements'!$D$31","v":"Employé 26"},null,null,null,null,null,null,"00:00:00"]
[{"$f":"'Basic Elements'!A$29","v":"Thursday"},{"$f":"'Basic Elements'!B$29","v":"2022-01-20"},{"$f":"'Basic Elements'!$D$32","v":"Employé 27"},null,null,null,null,null,null,"00:00:00"]
[{"$f":"'Basic Elements'!A$29","v":"Thursday"},{"$f":"'Basic Elements'!B$29","v":"2022-01-20"},{"$f":"'Basic Elements'!$D$33","v":"Employé 28"},null,null,null,null,null,null,"00:00:00"]
[{"$f":"'Basic Elements'!A$29","v":"Thursday"},{"$f":"'Basic Elements'!B$29","v":"2022-01-20"},{"$f":"'Basic Elements'!$D$34","v":"Employé 29"},null,null,null,null,null,null,"00:00:00"]
[{"$f":"'Basic Elements'!A$29","v":"Thursday"},{"$f":"'Basic Elements'!B$29","v":"2022-01-20"},{"$f":"'Basic Elements'!$D$35","v":"Employé 30"},null,null,null,null,null,null,"00:00:00"]
[{"$f":"'Basic Elements'!A$29","v":"Thursday"},{"$f":"'Basic Elements'!B$29","v":"2022-01-20"},{"$f":"'Basic Elements'!$D$36","v":"Employé 31"},null,null,null,null,null,null,"00:00:00"]
[{"$f":"'Basic Elements'!A$29","v":"Thursday"},{"$f":"'Basic Elements'!B$29","v":"2022-01-20"},{"$f":"'Basic Elements'!$D$37","v":"Employé 32"},null,null,null,null,null,null,"00:00:00"]
[{"$f":"'Basic Elements'!A$29","v":"Thursday"},{"$f":"'Basic Elements'!B$29","v":"2022-01-20"},{"$f":"'Basic Elements'!$D$38","v":"Employé 33"},null,null,null,null,null,null,"00:00:00"]
[{"$f":"'Basic Elements'!A$29","v":"Thursday"},{"$f":"'Basic Elements'!B$29","v":"2022-01-20"},{"$f":"'Basic Elements'!$D$39","v":"Employé 34"},null,null,null,null,null,null,"00:00:00"]
[{"$f":"'Basic Elements'!A$29","v":"Thursday"},{"$f":"'Basic Elements'!B$29","v":"2022-01-20"},{"$f":"'Basic Elements'!$D$40","v":"Employé 35"},null,null,null,null,null,null,"00:00:00"]
[{"$f":"'Basic Elements'!A$29","v":"Thursday"},{"$f":"'Basic Elements'!B$29","v":"2022-01-20"},{"$f":"'Basic Elements'!$D$41","v":"Employé 36"},null,null,null,null,null,null,"00:00:00"]
[{"$f":"'Basic Elements'!A$30","v":"Friday"},{"$f":"'Basic Elements'!B$30","v":"2022-01-21"},{"$f":"'Basic Elements'!$D$6","v":"Employé 1"},null,null,null,null,null,null,"00:00:00"]
[{"$f":"'Basic Elements'!A$30","v":"Friday"},{"$f":"'Basic Elements'!B$30","v":"2022-01-21"},{"$f":"'Basic Elements'!$D$7","v":"Employé 2"},null,null,null,null,null,null,"00:00:00"]
[{"$f":"'Basic Elements'!A$30","v":"Friday"},{"$f":"'Basic Elements'!B$30","v":"2022-01-21"},{"$f":"'Basic Elements'!$D$8","v":"Employé 3"},null,null,null,null,null,null,"00:00:00"]
[{"$f":"'Basic Elements'!A$30","v":"Friday"},{"$f":"'Basic Elements'!B$30","v":"2022-01-21"},{"$f":"'Basic Elements'!$D$9","v":"Employé 4"},"02:00:00","10:00:00","PA",null,null,null,"08:00:00"]
[{"$f":"'Basic Elements'!A$30","v":"Friday"},{"$f":"'Basic Elements'!B$30","v":"2022-01-21"},{"$f":"'Basic Elements'!$D$10","v":"Employé 5"},"02:00:00","10:00:00","PA",null,null,null,"08:00:00"]
[{"$f":"'Basic Elements'!A$30","v":"Friday"},{"$f":"'Basic Elements'!B$30","v":"2022-01-21"},{"$f":"'Basic Elements'!$D$11","v":"Employé 6"},"12:00:00","18:30:00","SM",null,null,null,{"$f":"(E727-D727)+(H727-G727)","v":"06:30:00"}]
[{"$f":"'Basic Elements'!A$30","v":"Friday"},{"$f":"'Basic Elements'!B$30","v":"2022-01-21"},{"$f":"'Basic Elements'!$D$12","v":"Employé 7"},null,null,"Off",null,null,null,"00:00:00"]
[{"$f":"'Basic Elements'!A$30","v":"Friday"},{"$f":"'Basic Elements'!B$30","v":"2022-01-21"},{"$f":"'Basic Elements'!$D$13","v":"Employé 8"},"07:30:00","15:00:00","SM",null,null,null,"07:30:00"]
[{"$f":"'Basic Elements'!A$30","v":"Friday"},{"$f":"'Basic Elements'!B$30","v":"2022-01-21"},{"$f":"'Basic Elements'!$D$14","v":"Employé 9"},"08:30:00","16:00:00","SM",null,null,null,"07:30:00"]
[{"$f":"'Basic Elements'!A$30","v":"Friday"},{"$f":"'Basic Elements'!B$30","v":"2022-01-21"},{"$f":"'Basic Elements'!$D$15","v":"Employé 10"},null,null,"Off",null,null,null,"00:00:00"]
[{"$f":"'Basic Elements'!A$30","v":"Friday"},{"$f":"'Basic Elements'!B$30","v":"2022-01-21"},{"$f":"'Basic Elements'!$D$16","v":"Employé 11"},"07:30:00","15:00:00","SW",null,null,null,"07:30:00"]
[{"$f":"'Basic Elements'!A$30","v":"Friday"},{"$f":"'Basic Elements'!B$30","v":"2022-01-21"},{"$f":"'Basic Elements'!$D$17","v":"Employé 12"},"08:30:00","16:00:00","SW",null,null,null,"07:30:00"]
[{"$f":"'Basic Elements'!A$30","v":"Friday"},{"$f":"'Basic Elements'!B$30","v":"2022-01-21"},{"$f":"'Basic Elements'!$D$18","v":"Employé 13"},"12:00:00","18:30:00","SW",null,null,null,"06:30:00"]
[{"$f":"'Basic Elements'!A$30","v":"Friday"},{"$f":"'Basic Elements'!B$30","v":"2022-01-21"},{"$f":"'Basic Elements'!$D$19","v":"Employé 14"},"07:30:00","17:00:00","BA",null,null,null,"09:30:00"]
[{"$f":"'Basic Elements'!A$30","v":"Friday"},{"$f":"'Basic Elements'!B$30","v":"2022-01-21"},{"$f":"'Basic Elements'!$D$20","v":"Employé 15"},null,null,"Off",null,null,null,"00:00:00"]
[{"$f":"'Basic Elements'!A$30","v":"Friday"},{"$f":"'Basic Elements'!B$30","v":"2022-01-21"},{"$f":"'Basic Elements'!$D$21","v":"Employé 16"},"09:00:00","18:00:00","PR",null,null,null,"09:00:00"]
[{"$f":"'Basic Elements'!A$30","v":"Friday"},{"$f":"'Basic Elements'!B$30","v":"2022-01-21"},{"$f":"'Basic Elements'!$D$22","v":"Employé 17"},null,null,null,null,null,null,"00:00:00"]
[{"$f":"'Basic Elements'!A$30","v":"Friday"},{"$f":"'Basic Elements'!B$30","v":"2022-01-21"},{"$f":"'Basic Elements'!$D$23","v":"Employé 18"},"09:00:00","20:00:00","D",null,null,null,"11:00:00"]
[{"$f":"'Basic Elements'!A$30","v":"Friday"},{"$f":"'Basic Elements'!B$30","v":"2022-01-21"},{"$f":"'Basic Elements'!$D$24","v":"Employé 19"},null,null,"Off",null,null,null,"00:00:00"]
[{"$f":"'Basic Elements'!A$30","v":"Friday"},{"$f":"'Basic Elements'!B$30","v":"2022-01-21"},{"$f":"'Basic Elements'!$D$25","v":"Employé 20"},null,null,null,null,null,null,"00:00:00"]
[{"$f":"'Basic Elements'!A$30","v":"Friday"},{"$f":"'Basic Elements'!B$30","v":"2022-01-21"},{"$f":"'Basic Elements'!$D$26","v":"Employé 21"},"09:00:00","16:30:00","BU",null,null,null,"07:30:00"]
[{"$f":"'Basic Elements'!A$30","v":"Friday"},{"$f":"'Basic Elements'!B$30","v":"2022-01-21"},{"$f":"'Basic Elements'!$D$27","v":"Employé 22"},null,null,null,null,null,null,"00:00:00"]
[{"$f":"'Basic Elements'!A$30","v":"Friday"},{"$f":"'Basic Elements'!B$30","v":"2022-01-21"},{"$f":"'Basic Elements'!$D$28","v":"Employé 23"},null,null,null,null,null,null,"00:00:00"]
[{"$f":"'Basic Elements'!A$30","v":"Friday"},{"$f":"'Basic Elements'!B$30","v":"2022-01-21"},{"$f":"'Basic Elements'!$D$29","v":"Employé 24"},null,null,null,null,null,null,"00:00:00"]
[{"$f":"'Basic Elements'!A$30","v":"Friday"},{"$f":"'Basic Elements'!B$30","v":"2022-01-21"},{"$f":"'Basic Elements'!$D$30","v":"Employé 25"},null,null,null,null,null,null,"00:00:00"]
[{"$f":"'Basic Elements'!A$30","v":"Friday"},{"$f":"'Basic Elements'!B$30","v":"2022-01-21"},{"$f":"'Basic Elements'!$D$31","v":"Employé 26"},null,null,null,null,null,null,"00:00:00"]
[{"$f":"'Basic Elements'!A$30","v":"Friday"},{"$f":"'Basic Elements'!B$30","v":"2022-01-21"},{"$f":"'Basic Elements'!$D$32","v":"Employé 27"},null,null,null,null,null,null,"00:00:00"]
[{"$f":"'Basic Elements'!A$30","v":"Friday"},{"$f":"'Basic Elements'!B$30","v":"2022-01-21"},{"$f":"'Basic Elements'!$D$33","v":"Employé 28"},null,null,null,null,null,null,"00:00:00"]
[{"$f":"'Basic Elements'!A$30","v":"Friday"},{"$f":"'Basic Elements'!B$30","v":"2022-01-21"},{"$f":"'Basic Elements'!$D$34","v":"Employé 29"},null,null,null,null,null,null,"00:00:00"]
[{"$f":"'Basic Elements'!A$30","v":"Friday"},{"$f":"'Basic Elements'!B$30","v":"2022-01-21"},{"$f":"'Basic Elements'!$D$35","v":"Employé 30"},null,null,null,null,null,null,"00:00:00"]
[{"$f":"'Basic Elements'!A$30","v":"Friday"},{"$f":"'Basic Elements'!B$30","v":"2022-01-21"},{"$f":"'Basic Elements'!$D$36","v":"Employé 31"},null,null,null,null,null,null,"00:00:00"]
[{"$f":"'Basic Elements'!A$30","v":"Friday"},{"$f":"'Basic Elements'!B$30","v":"2022-01-21"},{"$f":"'Basic Elements'!$D$37","v":"Employé 32"},null,null,null,null,null,null,"00:00:00"]
[{"$f":"'Basic Elements'!A$30","v":"Friday"},{"$f":"'Basic Elements'!B$30","v":"2022-01-21"},{"$f":"'Basic Elements'!$D$38","v":"Employé 33"},null,null,null,null,null,null,"00:00:00"]
[{"$f":"'Basic Elements'!A$30","v":"Friday"},{"$f":"'Basic Elements'!B$30","v":"2022-01-21"},{"$f":"'Basic Elements'!$D$39","v":"Employé 34"},null,null,null,null,null,null,"00:00:00"]
[{"$f":"'Basic Elements'!A$30","v":"Friday"},{"$f":"'Basic Elements'!B$30","v":"2022-01-21"},{"$f":"'Basic Elements'!$D$40","v":"Employé 35"},null,null,null,null,null,null,"00:00:00"]
[{"$f":"'Basic Elements'!A$30","v":"Friday"},{"$f":"'Basic Elements'!B$30","v":"2022-01-21"},{"$f":"'Basic Elements'!$D$41","v":"Employé 36"},null,null,null,null,null,null,"00:00:00"]
[{"$f":"'Basic Elements'!A$31","v":"Saturday"},{"$f":"'Basic Elements'!B$31","v":"2022-01-22"},{"$f":"'Basic Elements'!$D$6","v":"Employé 1"},null,null,null,null,null,null,"00:00:00"]
[{"$f":"'Basic Elements'!A$31","v":"Saturday"},{"$f":"'Basic Elements'!B$31","v":"2022-01-22"},{"$f":"'Basic Elements'!$D$7","v":"Employé 2"},null,null,null,null,null,null,"00:00:00"]
[{"$f":"'Basic Elements'!A$31","v":"Saturday"},{"$f":"'Basic Elements'!B$31","v":"2022-01-22"},{"$f":"'Basic Elements'!$D$8","v":"Employé 3"},null,null,null,null,null,null,"00:00:00"]
[{"$f":"'Basic Elements'!A$31","v":"Saturday"},{"$f":"'Basic Elements'!B$31","v":"2022-01-22"},{"$f":"'Basic Elements'!$D$9","v":"Employé 4"},"02:00:00","10:00:00","PA",null,null,null,"08:00:00"]
[{"$f":"'Basic Elements'!A$31","v":"Saturday"},{"$f":"'Basic Elements'!B$31","v":"2022-01-22"},{"$f":"'Basic Elements'!$D$10","v":"Employé 5"},"02:00:00","10:00:00","PA",null,null,null,"08:00:00"]
[{"$f":"'Basic Elements'!A$31","v":"Saturday"},{"$f":"'Basic Elements'!B$31","v":"2022-01-22"},{"$f":"'Basic Elements'!$D$11","v":"Employé 6"},"08:30:00","17:00:00","SM",null,null,null,"08:30:00"]
[{"$f":"'Basic Elements'!A$31","v":"Saturday"},{"$f":"'Basic Elements'!B$31","v":"2022-01-22"},{"$f":"'Basic Elements'!$D$12","v":"Employé 7"},"10:00:00","18:30:00","SM",null,null,null,"08:30:00"]
[{"$f":"'Basic Elements'!A$31","v":"Saturday"},{"$f":"'Basic Elements'!B$31","v":"2022-01-22"},{"$f":"'Basic Elements'!$D$13","v":"Employé 8"},null,null,"Off",null,null,null,"00:00:00"]
[{"$f":"'Basic Elements'!A$31","v":"Saturday"},{"$f":"'Basic Elements'!B$31","v":"2022-01-22"},{"$f":"'Basic Elements'!$D$14","v":"Employé 9"},"07:30:00","15:00:00","SM",null,null,null,"07:30:00"]
[{"$f":"'Basic Elements'!A$31","v":"Saturday"},{"$f":"'Basic Elements'!B$31","v":"2022-01-22"},{"$f":"'Basic Elements'!$D$15","v":"Employé 10"},"10:00:00","18:30:00","SW",null,null,null,"08:30:00"]
[{"$f":"'Basic Elements'!A$31","v":"Saturday"},{"$f":"'Basic Elements'!B$31","v":"2022-01-22"},{"$f":"'Basic Elements'!$D$16","v":"Employé 11"},null,null,"Off",null,null,null,"00:00:00"]
[{"$f":"'Basic Elements'!A$31","v":"Saturday"},{"$f":"'Basic Elements'!B$31","v":"2022-01-22"},{"$f":"'Basic Elements'!$D$17","v":"Employé 12"},"07:30:00","15:00:00","SW",null,null,null,"07:30:00"]
[{"$f":"'Basic Elements'!A$31","v":"Saturday"},{"$f":"'Basic Elements'!B$31","v":"2022-01-22"},{"$f":"'Basic Elements'!$D$18","v":"Employé 13"},"08:30:00","17:00:00","SW",null,null,null,"08:30:00"]
[{"$f":"'Basic Elements'!A$31","v":"Saturday"},{"$f":"'Basic Elements'!B$31","v":"2022-01-22"},{"$f":"'Basic Elements'!$D$19","v":"Employé 14"},"12:00:00","17:00:00","BA",null,null,null,"05:00:00"]
[{"$f":"'Basic Elements'!A$31","v":"Saturday"},{"$f":"'Basic Elements'!B$31","v":"2022-01-22"},{"$f":"'Basic Elements'!$D$20","v":"Employé 15"},"07:30:00","12:00:00","BA",null,null,null,"04:30:00"]
[{"$f":"'Basic Elements'!A$31","v":"Saturday"},{"$f":"'Basic Elements'!B$31","v":"2022-01-22"},{"$f":"'Basic Elements'!$D$21","v":"Employé 16"},null,null,"Off",null,null,null,"00:00:00"]
[{"$f":"'Basic Elements'!A$31","v":"Saturday"},{"$f":"'Basic Elements'!B$31","v":"2022-01-22"},{"$f":"'Basic Elements'!$D$22","v":"Employé 17"},null,null,null,null,null,null,"00:00:00"]
[{"$f":"'Basic Elements'!A$31","v":"Saturday"},{"$f":"'Basic Elements'!B$31","v":"2022-01-22"},{"$f":"'Basic Elements'!$D$23","v":"Employé 18"},"09:00:00","14:30:00","D",null,null,null,"05:30:00"]
[{"$f":"'Basic Elements'!A$31","v":"Saturday"},{"$f":"'Basic Elements'!B$31","v":"2022-01-22"},{"$f":"'Basic Elements'!$D$24","v":"Employé 19"},"14:30:00","20:00:00","D",null,null,null,"05:30:00"]
[{"$f":"'Basic Elements'!A$31","v":"Saturday"},{"$f":"'Basic Elements'!B$31","v":"2022-01-22"},{"$f":"'Basic Elements'!$D$25","v":"Employé 20"},null,null,null,null,null,null,"00:00:00"]
[{"$f":"'Basic Elements'!A$31","v":"Saturday"},{"$f":"'Basic Elements'!B$31","v":"2022-01-22"},{"$f":"'Basic Elements'!$D$26","v":"Employé 21"},"09:00:00","16:30:00","BU",null,null,null,"07:30:00"]
[{"$f":"'Basic Elements'!A$31","v":"Saturday"},{"$f":"'Basic Elements'!B$31","v":"2022-01-22"},{"$f":"'Basic Elements'!$D$27","v":"Employé 22"},null,null,null,null,null,null,"00:00:00"]
[{"$f":"'Basic Elements'!A$31","v":"Saturday"},{"$f":"'Basic Elements'!B$31","v":"2022-01-22"},{"$f":"'Basic Elements'!$D$28","v":"Employé 23"},null,null,null,null,null,null,"00:00:00"]
[{"$f":"'Basic Elements'!A$31","v":"Saturday"},{"$f":"'Basic Elements'!B$31","v":"2022-01-22"},{"$f":"'Basic Elements'!$D$29","v":"Employé 24"},null,null,null,null,null,null,"00:00:00"]
[{"$f":"'Basic Elements'!A$31","v":"Saturday"},{"$f":"'Basic Elements'!B$31","v":"2022-01-22"},{"$f":"'Basic Elements'!$D$30","v":"Employé 25"},null,null,null,null,null,null,"00:00:00"]
[{"$f":"'Basic Elements'!A$31","v":"Saturday"},{"$f":"'Basic Elements'!B$31","v":"2022-01-22"},{"$f":"'Basic Elements'!$D$31","v":"Employé 26"},null,null,null,null,null,null,"00:00:00"]
[{"$f":"'Basic Elements'!A$31","v":"Saturday"},{"$f":"'Basic Elements'!B$31","v":"2022-01-22"},{"$f":"'Basic Elements'!$D$32","v":"Employé 27"},null,null,null,null,null,null,"00:00:00"]
[{"$f":"'Basic Elements'!A$31","v":"Saturday"},{"$f":"'Basic Elements'!B$31","v":"2022-01-22"},{"$f":"'Basic Elements'!$D$33","v":"Employé 28"},null,null,null,null,null,null,"00:00:00"]
[{"$f":"'Basic Elements'!A$31","v":"Saturday"},{"$f":"'Basic Elements'!B$31","v":"2022-01-22"},{"$f":"'Basic Elements'!$D$34","v":"Employé 29"},null,null,null,null,null,null,"00:00:00"]
[{"$f":"'Basic Elements'!A$31","v":"Saturday"},{"$f":"'Basic Elements'!B$31","v":"2022-01-22"},{"$f":"'Basic Elements'!$D$35","v":"Employé 30"},null,null,null,null,null,null,"00:00:00"]
[{"$f":"'Basic Elements'!A$31","v":"Saturday"},{"$f":"'Basic Elements'!B$31","v":"2022-01-22"},{"$f":"'Basic Elements'!$D$36","v":"Employé 31"},null,null,null,null,null,null,"00:00:00"]
[{"$f":"'Basic Elements'!A$31","v":"Saturday"},{"$f":"'Basic Elements'!B$31","v":"2022-01-22"},{"$f":"'Basic Elements'!$D$37","v":"Employé 32"},null,null,null,null,null,null,"00:00:00"]
[{"$f":"'Basic Elements'!A$31","v":"Saturday"},{"$f":"'Basic Elements'!B$31","v":"2022-01-22"},{"$f":"'Basic Elements'!$D$38","v":"Employé 33"},null,null,null,null,null,null,"00:00:00"]
[{"$f":"'Basic Elements'!A$31","v":"Saturday"},{"$f":"'Basic Elements'!B$31","v":"2022-01-22"},{"$f":"'Basic Elements'!$D$39","v":"Employé 34"},null,null,null,null,null,null,{"$f":"(E791-D791)+(H791-G791)","v":"00:00:00"}]
[{"$f":"'Basic Elements'!A$31","v":"Saturday"},{"$f":"'Basic Elements'!B$31","v":"2022-01-22"},{"$f":"'Basic Elements'!$D$40","v":"Employé 35"},null,null,null,null,null,null,"00:00:00"]
[{"$f":"'Basic Elements'!A$31","v":"Saturday"},{"$f":"'Basic Elements'!B$31","v":"2022-01-22"},{"$f":"'Basic Elements'!$D$41","v":"Employé 36"},null,null,null,null,null,null,"00:00:00"]
[{"$f":"'Basic Elements'!A$32","v":"Sunday"},{"$f":"'Basic Elements'!B$32","v":"2022-01-23"},{"$f":"'Basic Elements'!$D$6","v":"Employé 1"},null,null,null,null,null,null,"00:00:00"]
[{"$f":"'Basic Elements'!A$32","v":"Sunday"},{"$f":"'Basic Elements'!B$32","v":"2022-01-23"},{"$f":"'Basic Elements'!$D$7","v":"Employé 2"},null,null,null,null,null,null,"00:00:00"]
[{"$f":"'Basic Elements'!A$32","v":"Sunday"},{"$f":"'Basic Elements'!B$32","v":"2022-01-23"},{"$f":"'Basic Elements'!$D$8","v":"Employé 3"},null,null,null,null,null,null,"00:00:00"]
[{"$f":"'Basic Elements'!A$32","v":"Sunday"},{"$f":"'Basic Elements'!B$32","v":"2022-01-23"},{"$f":"'Basic Elements'!$D$9","v":"Employé 4"},"02:00:00","10:00:00","PA",null,null,null,"08:00:00"]
[{"$f":"'Basic Elements'!A$32","v":"Sunday"},{"$f":"'Basic Elements'!B$32","v":"2022-01-23"},{"$f":"'Basic Elements'!$D$10","v":"Employé 5"},"02:00:00","10:00:00","PA",null,null,null,"08:00:00"]
[{"$f":"'Basic Elements'!A$32","v":"Sunday"},{"$f":"'Basic Elements'!B$32","v":"2022-01-23"},{"$f":"'Basic Elements'!$D$11","v":"Employé 6"},"08:30:00","16:30:00","SM",null,null,null,"08:00:00"]
[{"$f":"'Basic Elements'!A$32","v":"Sunday"},{"$f":"'Basic Elements'!B$32","v":"2022-01-23"},{"$f":"'Basic Elements'!$D$12","v":"Employé 7"},"10:00:00","16:30:00","SM",null,null,null,"06:30:00"]
[{"$f":"'Basic Elements'!A$32","v":"Sunday"},{"$f":"'Basic Elements'!B$32","v":"2022-01-23"},{"$f":"'Basic Elements'!$D$13","v":"Employé 8"},null,null,"Off",null,null,null,"00:00:00"]
[{"$f":"'Basic Elements'!A$32","v":"Sunday"},{"$f":"'Basic Elements'!B$32","v":"2022-01-23"},{"$f":"'Basic Elements'!$D$14","v":"Employé 9"},"07:30:00","15:00:00","SM",null,null,null,"07:30:00"]
[{"$f":"'Basic Elements'!A$32","v":"Sunday"},{"$f":"'Basic Elements'!B$32","v":"2022-01-23"},{"$f":"'Basic Elements'!$D$15","v":"Employé 10"},"10:00:00","16:30:00","SW",null,null,null,"06:30:00"]
[{"$f":"'Basic Elements'!A$32","v":"Sunday"},{"$f":"'Basic Elements'!B$32","v":"2022-01-23"},{"$f":"'Basic Elements'!$D$16","v":"Employé 11"},null,null,"Off",null,null,null,"00:00:00"]
[{"$f":"'Basic Elements'!A$32","v":"Sunday"},{"$f":"'Basic Elements'!B$32","v":"2022-01-23"},{"$f":"'Basic Elements'!$D$17","v":"Employé 12"},"07:30:00","15:00:00","SW",null,null,null,"07:30:00"]
[{"$f":"'Basic Elements'!A$32","v":"Sunday"},{"$f":"'Basic Elements'!B$32","v":"2022-01-23"},{"$f":"'Basic Elements'!$D$18","v":"Employé 13"},"08:30:00","16:30:00","SW",null,null,null,"08:00:00"]
[{"$f":"'Basic Elements'!A$32","v":"Sunday"},{"$f":"'Basic Elements'!B$32","v":"2022-01-23"},{"$f":"'Basic Elements'!$D$19","v":"Employé 14"},"12:00:00","16:30:00","BA",null,null,null,"04:30:00"]
[{"$f":"'Basic Elements'!A$32","v":"Sunday"},{"$f":"'Basic Elements'!B$32","v":"2022-01-23"},{"$f":"'Basic Elements'!$D$20","v":"Employé 15"},"07:30:00","12:00:00","BA",null,null,null,"04:30:00"]
[{"$f":"'Basic Elements'!A$32","v":"Sunday"},{"$f":"'Basic Elements'!B$32","v":"2022-01-23"},{"$f":"'Basic Elements'!$D$21","v":"Employé 16"},null,null,"Off",null,null,null,"00:00:00"]
[{"$f":"'Basic Elements'!A$32","v":"Sunday"},{"$f":"'Basic Elements'!B$32","v":"2022-01-23"},{"$f":"'Basic Elements'!$D$22","v":"Employé 17"},null,null,null,null,null,null,"00:00:00"]
[{"$f":"'Basic Elements'!A$32","v":"Sunday"},{"$f":"'Basic Elements'!B$32","v":"2022-01-23"},{"$f":"'Basic Elements'!$D$23","v":"Employé 18"},"09:00:00","13:30:00","D",null,null,null,"04:30:00"]
[{"$f":"'Basic Elements'!A$32","v":"Sunday"},{"$f":"'Basic Elements'!B$32","v":"2022-01-23"},{"$f":"'Basic Elements'!$D$24","v":"Employé 19"},"13:30:00","18:00:00","D",null,null,null,"04:30:00"]
[{"$f":"'Basic Elements'!A$32","v":"Sunday"},{"$f":"'Basic Elements'!B$32","v":"2022-01-23"},{"$f":"'Basic Elements'!$D$25","v":"Employé 20"},null,null,null,null,null,null,"00:00:00"]
[{"$f":"'Basic Elements'!A$32","v":"Sunday"},{"$f":"'Basic Elements'!B$32","v":"2022-01-23"},{"$f":"'Basic Elements'!$D$26","v":"Employé 21"},"09:00:00","16:30:00","BU",null,null,null,"07:30:00"]
[{"$f":"'Basic Elements'!A$32","v":"Sunday"},{"$f":"'Basic Elements'!B$32","v":"2022-01-23"},{"$f":"'Basic Elements'!$D$27","v":"Employé 22"},null,null,null,null,null,null,"00:00:00"]
[{"$f":"'Basic Elements'!A$32","v":"Sunday"},{"$f":"'Basic Elements'!B$32","v":"2022-01-23"},{"$f":"'Basic Elements'!$D$28","v":"Employé 23"},null,null,null,null,null,null,"00:00:00"]
[{"$f":"'Basic Elements'!A$32","v":"Sunday"},{"$f":"'Basic Elements'!B$32","v":"2022-01-23"},{"$f":"'Basic Elements'!$D$29","v":"Employé 24"},null,null,null,null,null,null,"00:00:00"]
[{"$f":"'Basic Elements'!A$32","v":"Sunday"},{"$f":"'Basic Elements'!B$32","v":"2022-01-23"},{"$f":"'Basic Elements'!$D$30","v":"Employé 25"},null,null,null,null,null,null,"00:00:00"]
[{"$f":"'Basic Elements'!A$32","v":"Sunday"},{"$f":"'Basic Elements'!B$32","v":"2022-01-23"},{"$f":"'Basic Elements'!$D$31","v":"Employé 26"},null,null,null,null,null,null,"00:00:00"]
[{"$f":"'Basic Elements'!A$32","v":"Sunday"},{"$f":"'Basic Elements'!B$32","v":"2022-01-23"},{"$f":"'Basic Elements'!$D$32","v":"Employé 27"},null,null,null,null,null,null,"00:00:00"]
[{"$f":"'Basic Elements'!A$32","v":"Sunday"},{"$f":"'Basic Elements'!B$32","v":"2022-01-23"},{"$f":"'Basic Elements'!$D$33","v":"Employé 28"},null,null,null,null,null,null,"00:00:00"]
[{"$f":"'Basic Elements'!A$32","v":"Sunday"},{"$f":"'Basic Elements'!B$32","v":"2022-01-23"},{"$f":"'Basic Elements'!$D$34","v":"Employé 29"},null,null,null,null,null,null,"00:00:00"]
[{"$f":"'Basic Elements'!A$32","v":"Sunday"},{"$f":"'Basic Elements'!B$32","v":"2022-01-23"},{"$f":"'Basic Elements'!$D$35","v":"Employé 30"},null,null,null,null,null,null,"00:00:00"]
[{"$f":"'Basic Elements'!A$32","v":"Sunday"},{"$f":"'Basic Elements'!B$32","v":"2022-01-23"},{"$f":"'Basic Elements'!$D$36","v":"Employé 31"},null,null,null,null,null,null,"00:00:00"]
[{"$f":"'Basic Elements'!A$32","v":"Sunday"},{"$f":"'Basic Elements'!B$32","v":"2022-01-23"},{"$f":"'Basic Elements'!$D$37","v":"Employé 32"},null,null,null,null,null,null,"00:00:00"]
[{"$f":"'Basic Elements'!A$32","v":"Sunday"},{"$f":"'Basic Elements'!B$32","v":"2022-01-23"},{"$f":"'Basic Elements'!$D$38","v":"Employé 33"},null,null,null,null,null,null,"00:00:00"]
[{"$f":"'Basic Elements'!A$32","v":"Sunday"},{"$f":"'Basic Elements'!B$32","v":"2022-01-23"},{"$f":"'Basic Elements'!$D$39","v":"Employé 34"},null,null,null,null,null,null,"00:00:00"]
[{"$f":"'Basic Elements'!A$32","v":"Sunday"},{"$f":"'Basic Elements'!B$32","v":"2022-01-23"},{"$f":"'Basic Elements'!$D$40","v":"Employé 35"},null,null,null,null,null,null,"00:00:00"]
[{"$f":"'Basic Elements'!A$32","v":"Sunday"},{"$f":"'Basic Elements'!B$32","v":"2022-01-23"},{"$f":"'Basic Elements'!$D$41","v":"Employé 36"},null,null,null,null,null,null,"00:00:00"]
[{"$f":"'Basic Elements'!A$33","v":"Monday"},{"$f":"'Basic Elements'!B$33","v":"2022-01-24"},{"$f":"'Basic Elements'!$D$6","v":"Employé 1"},null,null,null,null,null,null,"00:00:00"]
[{"$f":"'Basic Elements'!A$33","v":"Monday"},{"$f":"'Basic Elements'!B$33","v":"2022-01-24"},{"$f":"'Basic Elements'!$D$7","v":"Employé 2"},null,null,null,null,null,null,"00:00:00"]
[{"$f":"'Basic Elements'!A$33","v":"Monday"},{"$f":"'Basic Elements'!B$33","v":"2022-01-24"},{"$f":"'Basic Elements'!$D$8","v":"Employé 3"},null,null,null,null,null,null,"00:00:00"]
[{"$f":"'Basic Elements'!A$33","v":"Monday"},{"$f":"'Basic Elements'!B$33","v":"2022-01-24"},{"$f":"'Basic Elements'!$D$9","v":"Employé 4"},"02:00:00","10:00:00","PA",null,null,null,"08:00:00"]
[{"$f":"'Basic Elements'!A$33","v":"Monday"},{"$f":"'Basic Elements'!B$33","v":"2022-01-24"},{"$f":"'Basic Elements'!$D$10","v":"Employé 5"},null,null,"Off",null,null,null,"00:00:00"]
[{"$f":"'Basic Elements'!A$33","v":"Monday"},{"$f":"'Basic Elements'!B$33","v":"2022-01-24"},{"$f":"'Basic Elements'!$D$11","v":"Employé 6"},"07:30:00","15:00:00","SM",null,null,null,"07:30:00"]
[{"$f":"'Basic Elements'!A$33","v":"Monday"},{"$f":"'Basic Elements'!B$33","v":"2022-01-24"},{"$f":"'Basic Elements'!$D$12","v":"Employé 7"},"08:30:00","16:00:00","SM",null,null,null,"07:30:00"]
[{"$f":"'Basic Elements'!A$33","v":"Monday"},{"$f":"'Basic Elements'!B$33","v":"2022-01-24"},{"$f":"'Basic Elements'!$D$13","v":"Employé 8"},"12:00:00","18:30:00","SM",null,null,null,"06:30:00"]
[{"$f":"'Basic Elements'!A$33","v":"Monday"},{"$f":"'Basic Elements'!B$33","v":"2022-01-24"},{"$f":"'Basic Elements'!$D$14","v":"Employé 9"},null,null,"Off",null,null,null,"00:00:00"]
[{"$f":"'Basic Elements'!A$33","v":"Monday"},{"$f":"'Basic Elements'!B$33","v":"2022-01-24"},{"$f":"'Basic Elements'!$D$15","v":"Employé 10"},"08:30:00","16:00:00","SW",null,null,null,"07:30:00"]
[{"$f":"'Basic Elements'!A$33","v":"Monday"},{"$f":"'Basic Elements'!B$33","v":"2022-01-24"},{"$f":"'Basic Elements'!$D$16","v":"Employé 11"},"12:00:00","18:30:00","SW",null,null,null,"06:30:00"]
[{"$f":"'Basic Elements'!A$33","v":"Monday"},{"$f":"'Basic Elements'!B$33","v":"2022-01-24"},{"$f":"'Basic Elements'!$D$17","v":"Employé 12"},null,null,"Off",null,null,null,"00:00:00"]
[{"$f":"'Basic Elements'!A$33","v":"Monday"},{"$f":"'Basic Elements'!B$33","v":"2022-01-24"},{"$f":"'Basic Elements'!$D$18","v":"Employé 13"},"07:30:00","15:00:00","SW",null,null,null,"07:30:00"]
[{"$f":"'Basic Elements'!A$33","v":"Monday"},{"$f":"'Basic Elements'!B$33","v":"2022-01-24"},{"$f":"'Basic Elements'!$D$19","v":"Employé 14"},null,null,"Off",null,null,null,"00:00:00"]
[{"$f":"'Basic Elements'!A$33","v":"Monday"},{"$f":"'Basic Elements'!B$33","v":"2022-01-24"},{"$f":"'Basic Elements'!$D$20","v":"Employé 15"},"07:30:00","17:00:00","BA",null,null,null,"09:30:00"]
[{"$f":"'Basic Elements'!A$33","v":"Monday"},{"$f":"'Basic Elements'!B$33","v":"2022-01-24"},{"$f":"'Basic Elements'!$D$21","v":"Employé 16"},"09:00:00","18:00:00","PR",null,null,null,"09:00:00"]
[{"$f":"'Basic Elements'!A$33","v":"Monday"},{"$f":"'Basic Elements'!B$33","v":"2022-01-24"},{"$f":"'Basic Elements'!$D$22","v":"Employé 17"},null,null,null,null,null,null,"00:00:00"]
[{"$f":"'Basic Elements'!A$33","v":"Monday"},{"$f":"'Basic Elements'!B$33","v":"2022-01-24"},{"$f":"'Basic Elements'!$D$23","v":"Employé 18"},null,null,"Off",null,null,null,"00:00:00"]
[{"$f":"'Basic Elements'!A$33","v":"Monday"},{"$f":"'Basic Elements'!B$33","v":"2022-01-24"},{"$f":"'Basic Elements'!$D$24","v":"Employé 19"},"09:00:00","20:00:00","D",null,null,null,"11:00:00"]
[{"$f":"'Basic Elements'!A$33","v":"Monday"},{"$f":"'Basic Elements'!B$33","v":"2022-01-24"},{"$f":"'Basic Elements'!$D$25","v":"Employé 20"},null,null,null,null,null,null,"00:00:00"]
[{"$f":"'Basic Elements'!A$33","v":"Monday"},{"$f":"'Basic Elements'!B$33","v":"2022-01-24"},{"$f":"'Basic Elements'!$D$26","v":"Employé 21"},null,null,"Off",null,null,null,"00:00:00"]
[{"$f":"'Basic Elements'!A$33","v":"Monday"},{"$f":"'Basic Elements'!B$33","v":"2022-01-24"},{"$f":"'Basic Elements'!$D$27","v":"Employé 22"},null,null,null,null,null,null,"00:00:00"]
[{"$f":"'Basic Elements'!A$33","v":"Monday"},{"$f":"'Basic Elements'!B$33","v":"2022-01-24"},{"$f":"'Basic Elements'!$D$28","v":"Employé 23"},null,null,null,null,null,null,"00:00:00"]
[{"$f":"'Basic Elements'!A$33","v":"Monday"},{"$f":"'Basic Elements'!B$33","v":"2022-01-24"},{"$f":"'Basic Elements'!$D$29","v":"Employé 24"},null,null,null,null,null,null,"00:00:00"]
[{"$f":"'Basic Elements'!A$33","v":"Monday"},{"$f":"'Basic Elements'!B$33","v":"2022-01-24"},{"$f":"'Basic Elements'!$D$30","v":"Employé 25"},null,null,null,null,null,null,"00:00:00"]
[{"$f":"'Basic Elements'!A$33","v":"Monday"},{"$f":"'Basic Elements'!B$33","v":"2022-01-24"},{"$f":"'Basic Elements'!$D$31","v":"Employé 26"},null,null,null,null,null,null,{"$f":"(E855-D855)+(H855-G855)","v":"00:00:00"}]
[{"$f":"'Basic Elements'!A$33","v":"Monday"},{"$f":"'Basic Elements'!B$33","v":"2022-01-24"},{"$f":"'Basic Elements'!$D$32","v":"Employé 27"},null,null,null,null,null,null,"00:00:00"]
[{"$f":"'Basic Elements'!A$33","v":"Monday"},{"$f":"'Basic Elements'!B$33","v":"2022-01-24"},{"$f":"'Basic Elements'!$D$33","v":"Employé 28"},null,null,null,null,null,null,"00:00:00"]
[{"$f":"'Basic Elements'!A$33","v":"Monday"},{"$f":"'Basic Elements'!B$33","v":"2022-01-24"},{"$f":"'Basic Elements'!$D$34","v":"Employé 29"},null,null,null,null,null,null,"00:00:00"]
[{"$f":"'Basic Elements'!A$33","v":"Monday"},{"$f":"'Basic Elements'!B$33","v":"2022-01-24"},{"$f":"'Basic Elements'!$D$35","v":"Employé 30"},null,null,null,null,null,null,"00:00:00"]
[{"$f":"'Basic Elements'!A$33","v":"Monday"},{"$f":"'Basic Elements'!B$33","v":"2022-01-24"},{"$f":"'Basic Elements'!$D$36","v":"Employé 31"},null,null,null,null,null,null,"00:00:00"]
[{"$f":"'Basic Elements'!A$33","v":"Monday"},{"$f":"'Basic Elements'!B$33","v":"2022-01-24"},{"$f":"'Basic Elements'!$D$37","v":"Employé 32"},null,null,null,null,null,null,"00:00:00"]
[{"$f":"'Basic Elements'!A$33","v":"Monday"},{"$f":"'Basic Elements'!B$33","v":"2022-01-24"},{"$f":"'Basic Elements'!$D$38","v":"Employé 33"},null,null,null,null,null,null,"00:00:00"]
[{"$f":"'Basic Elements'!A$33","v":"Monday"},{"$f":"'Basic Elements'!B$33","v":"2022-01-24"},{"$f":"'Basic Elements'!$D$39","v":"Employé 34"},null,null,null,null,null,null,"00:00:00"]
[{"$f":"'Basic Elements'!A$33","v":"Monday"},{"$f":"'Basic Elements'!B$33","v":"2022-01-24"},{"$f":"'Basic Elements'!$D$40","v":"Employé 35"},null,null,null,null,null,null,"00:00:00"]
[{"$f":"'Basic Elements'!A$33","v":"Monday"},{"$f":"'Basic Elements'!B$33","v":"2022-01-24"},{"$f":"'Basic Elements'!$D$41","v":"Employé 36"},null,null,null,null,null,null,"00:00:00"]
[{"$f":"'Basic Elements'!A$34","v":"Tuesday"},{"$f":"'Basic Elements'!B$34","v":"2022-01-25"},{"$f":"'Basic Elements'!$D$6","v":"Employé 1"},null,null,null,null,null,null,"00:00:00"]
[{"$f":"'Basic Elements'!A$34","v":"Tuesday"},{"$f":"'Basic Elements'!B$34","v":"2022-01-25"},{"$f":"'Basic Elements'!$D$7","v":"Employé 2"},null,null,null,null,null,null,"00:00:00"]
[{"$f":"'Basic Elements'!A$34","v":"Tuesday"},{"$f":"'Basic Elements'!B$34","v":"2022-01-25"},{"$f":"'Basic Elements'!$D$8","v":"Employé 3"},null,null,null,null,null,null,"00:00:00"]
[{"$f":"'Basic Elements'!A$34","v":"Tuesday"},{"$f":"'Basic Elements'!B$34","v":"2022-01-25"},{"$f":"'Basic Elements'!$D$9","v":"Employé 4"},"02:00:00","10:00:00","PA",null,null,null,"08:00:00"]
[{"$f":"'Basic Elements'!A$34","v":"Tuesday"},{"$f":"'Basic Elements'!B$34","v":"2022-01-25"},{"$f":"'Basic Elements'!$D$10","v":"Employé 5"},null,null,"Off",null,null,null,"00:00:00"]
[{"$f":"'Basic Elements'!A$34","v":"Tuesday"},{"$f":"'Basic Elements'!B$34","v":"2022-01-25"},{"$f":"'Basic Elements'!$D$11","v":"Employé 6"},"07:30:00","15:00:00","SM",null,null,null,"07:30:00"]
[{"$f":"'Basic Elements'!A$34","v":"Tuesday"},{"$f":"'Basic Elements'!B$34","v":"2022-01-25"},{"$f":"'Basic Elements'!$D$12","v":"Employé 7"},"08:30:00","16:00:00","SM",null,null,null,"07:30:00"]
[{"$f":"'Basic Elements'!A$34","v":"Tuesday"},{"$f":"'Basic Elements'!B$34","v":"2022-01-25"},{"$f":"'Basic Elements'!$D$13","v":"Employé 8"},"12:00:00","18:30:00","SM",null,null,null,"06:30:00"]
[{"$f":"'Basic Elements'!A$34","v":"Tuesday"},{"$f":"'Basic Elements'!B$34","v":"2022-01-25"},{"$f":"'Basic Elements'!$D$14","v":"Employé 9"},null,null,"Off",null,null,null,"00:00:00"]
[{"$f":"'Basic Elements'!A$34","v":"Tuesday"},{"$f":"'Basic Elements'!B$34","v":"2022-01-25"},{"$f":"'Basic Elements'!$D$15","v":"Employé 10"},"08:30:00","16:00:00","SW",null,null,null,"07:30:00"]
[{"$f":"'Basic Elements'!A$34","v":"Tuesday"},{"$f":"'Basic Elements'!B$34","v":"2022-01-25"},{"$f":"'Basic Elements'!$D$16","v":"Employé 11"},"12:00:00","18:30:00","SW",null,null,null,"06:30:00"]
[{"$f":"'Basic Elements'!A$34","v":"Tuesday"},{"$f":"'Basic Elements'!B$34","v":"2022-01-25"},{"$f":"'Basic Elements'!$D$17","v":"Employé 12"},null,null,"Off",null,null,null,"00:00:00"]
[{"$f":"'Basic Elements'!A$34","v":"Tuesday"},{"$f":"'Basic Elements'!B$34","v":"2022-01-25"},{"$f":"'Basic Elements'!$D$18","v":"Employé 13"},"07:30:00","15:00:00","SW",null,null,null,"07:30:00"]
[{"$f":"'Basic Elements'!A$34","v":"Tuesday"},{"$f":"'Basic Elements'!B$34","v":"2022-01-25"},{"$f":"'Basic Elements'!$D$19","v":"Employé 14"},null,null,"Off",null,null,null,"00:00:00"]
[{"$f":"'Basic Elements'!A$34","v":"Tuesday"},{"$f":"'Basic Elements'!B$34","v":"2022-01-25"},{"$f":"'Basic Elements'!$D$20","v":"Employé 15"},"07:30:00","17:00:00","BA",null,null,null,"09:30:00"]
[{"$f":"'Basic Elements'!A$34","v":"Tuesday"},{"$f":"'Basic Elements'!B$34","v":"2022-01-25"},{"$f":"'Basic Elements'!$D$21","v":"Employé 16"},"09:00:00","16:00:00","PR",null,null,null,"07:00:00"]
[{"$f":"'Basic Elements'!A$34","v":"Tuesday"},{"$f":"'Basic Elements'!B$34","v":"2022-01-25"},{"$f":"'Basic Elements'!$D$22","v":"Employé 17"},null,null,null,null,null,null,"00:00:00"]
[{"$f":"'Basic Elements'!A$34","v":"Tuesday"},{"$f":"'Basic Elements'!B$34","v":"2022-01-25"},{"$f":"'Basic Elements'!$D$23","v":"Employé 18"},null,null,"Off",null,null,null,"00:00:00"]
[{"$f":"'Basic Elements'!A$34","v":"Tuesday"},{"$f":"'Basic Elements'!B$34","v":"2022-01-25"},{"$f":"'Basic Elements'!$D$24","v":"Employé 19"},"09:00:00","20:00:00","D",null,null,null,"11:00:00"]
[{"$f":"'Basic Elements'!A$34","v":"Tuesday"},{"$f":"'Basic Elements'!B$34","v":"2022-01-25"},{"$f":"'Basic Elements'!$D$25","v":"Employé 20"},null,null,null,null,null,null,"00:00:00"]
[{"$f":"'Basic Elements'!A$34","v":"Tuesday"},{"$f":"'Basic Elements'!B$34","v":"2022-01-25"},{"$f":"'Basic Elements'!$D$26","v":"Employé 21"},null,null,"Off",null,null,null,"00:00:00"]
[{"$f":"'Basic Elements'!A$34","v":"Tuesday"},{"$f":"'Basic Elements'!B$34","v":"2022-01-25"},{"$f":"'Basic Elements'!$D$27","v":"Employé 22"},null,null,null,null,null,null,"00:00:00"]
[{"$f":"'Basic Elements'!A$34","v":"Tuesday"},{"$f":"'Basic Elements'!B$34","v":"2022-01-25"},{"$f":"'Basic Elements'!$D$28","v":"Employé 23"},null,null,null,null,null,null,"00:00:00"]
[{"$f":"'Basic Elements'!A$34","v":"Tuesday"},{"$f":"'Basic Elements'!B$34","v":"2022-01-25"},{"$f":"'Basic Elements'!$D$29","v":"Employé 24"},null,null,null,null,null,null,"00:00:00"]
[{"$f":"'Basic Elements'!A$34","v":"Tuesday"},{"$f":"'Basic Elements'!B$34","v":"2022-01-25"},{"$f":"'Basic Elements'!$D$30","v":"Employé 25"},null,null,null,null,null,null,"00:00:00"]
[{"$f":"'Basic Elements'!A$34","v":"Tuesday"},{"$f":"'Basic Elements'!B$34","v":"2022-01-25"},{"$f":"'Basic Elements'!$D$31","v":"Employé 26"},null,null,null,null,null,null,"00:00:00"]
[{"$f":"'Basic Elements'!A$34","v":"Tuesday"},{"$f":"'Basic Elements'!B$34","v":"2022-01-25"},{"$f":"'Basic Elements'!$D$32","v":"Employé 27"},null,null,null,null,null,null,"00:00:00"]
[{"$f":"'Basic Elements'!A$34","v":"Tuesday"},{"$f":"'Basic Elements'!B$34","v":"2022-01-25"},{"$f":"'Basic Elements'!$D$33","v":"Employé 28"},null,null,null,null,null,null,"00:00:00"]
[{"$f":"'Basic Elements'!A$34","v":"Tuesday"},{"$f":"'Basic Elements'!B$34","v":"2022-01-25"},{"$f":"'Basic Elements'!$D$34","v":"Employé 29"},null,null,null,null,null,null,"00:00:00"]
[{"$f":"'Basic Elements'!A$34","v":"Tuesday"},{"$f":"'Basic Elements'!B$34","v":"2022-01-25"},{"$f":"'Basic Elements'!$D$35","v":"Employé 30"},null,null,null,null,null,null,"00:00:00"]
[{"$f":"'Basic Elements'!A$34","v":"Tuesday"},{"$f":"'Basic Elements'!B$34","v":"2022-01-25"},{"$f":"'Basic Elements'!$D$36","v":"Employé 31"},null,null,null,null,null,null,"00:00:00"]
[{"$f":"'Basic Elements'!A$34","v":"Tuesday"},{"$f":"'Basic Elements'!B$34","v":"2022-01-25"},{"$f":"'Basic Elements'!$D$37","v":"Employé 32"},null,null,null,null,null,null,"00:00:00"]
[{"$f":"'Basic Elements'!A$34","v":"Tuesday"},{"$f":"'Basic Elements'!B$34","v":"2022-01-25"},{"$f":"'Basic Elements'!$D$38","v":"Employé 33"},null,null,null,null,null,null,"00:00:00"]
[{"$f":"'Basic Elements'!A$34","v":"Tuesday"},{"$f":"'Basic Elements'!B$34","v":"2022-01-25"},{"$f":"'Basic Elements'!$D$39","v":"Employé 34"},null,null,null,null,null,null,"00:00:00"]
[{"$f":"'Basic Elements'!A$34","v":"Tuesday"},{"$f":"'Basic Elements'!B$34","v":"2022-01-25"},{"$f":"'Basic Elements'!$D$40","v":"Employé 35"},null,null,null,null,null,null,"00:00:00"]
[{"$f":"'Basic Elements'!A$34","v":"Tuesday"},{"$f":"'Basic Elements'!B$34","v":"2022-01-25"},{"$f":"'Basic Elements'!$D$41","v":"Employé 36"},null,null,null,null,null,null,"00:00:00"]
[{"$f":"'Basic Elements'!A$35","v":"Wednesday"},{"$f":"'Basic Elements'!B$35","v":"2022-01-26"},{"$f":"'Basic Elements'!$D$6","v":"Employé 1"},null,null,null,null,null,null,"00:00:00"]
[{"$f":"'Basic Elements'!A$35","v":"Wednesday"},{"$f":"'Basic Elements'!B$35","v":"2022-01-26"},{"$f":"'Basic Elements'!$D$7","v":"Employé 2"},null,null,null,null,null,null,"00:00:00"]
[{"$f":"'Basic Elements'!A$35","v":"Wednesday"},{"$f":"'Basic Elements'!B$35","v":"2022-01-26"},{"$f":"'Basic Elements'!$D$8","v":"Employé 3"},null,null,null,null,null,null,"00:00:00"]
[{"$f":"'Basic Elements'!A$35","v":"Wednesday"},{"$f":"'Basic Elements'!B$35","v":"2022-01-26"},{"$f":"'Basic Elements'!$D$9","v":"Employé 4"},null,null,"Off",null,null,null,"00:00:00"]
[{"$f":"'Basic Elements'!A$35","v":"Wednesday"},{"$f":"'Basic Elements'!B$35","v":"2022-01-26"},{"$f":"'Basic Elements'!$D$10","v":"Employé 5"},"02:00:00","10:00:00","PA",null,null,null,"08:00:00"]
[{"$f":"'Basic Elements'!A$35","v":"Wednesday"},{"$f":"'Basic Elements'!B$35","v":"2022-01-26"},{"$f":"'Basic Elements'!$D$11","v":"Employé 6"},null,null,"Off",null,null,null,"00:00:00"]
[{"$f":"'Basic Elements'!A$35","v":"Wednesday"},{"$f":"'Basic Elements'!B$35","v":"2022-01-26"},{"$f":"'Basic Elements'!$D$12","v":"Employé 7"},"07:30:00","15:00:00","SM",null,null,null,"07:30:00"]
[{"$f":"'Basic Elements'!A$35","v":"Wednesday"},{"$f":"'Basic Elements'!B$35","v":"2022-01-26"},{"$f":"'Basic Elements'!$D$13","v":"Employé 8"},"08:30:00","16:00:00","SM",null,null,null,"07:30:00"]
[{"$f":"'Basic Elements'!A$35","v":"Wednesday"},{"$f":"'Basic Elements'!B$35","v":"2022-01-26"},{"$f":"'Basic Elements'!$D$14","v":"Employé 9"},"12:00:00","18:30:00","SM",null,null,null,"06:30:00"]
[{"$f":"'Basic Elements'!A$35","v":"Wednesday"},{"$f":"'Basic Elements'!B$35","v":"2022-01-26"},{"$f":"'Basic Elements'!$D$15","v":"Employé 10"},"07:30:00","15:00:00","SW",null,null,null,"07:30:00"]
[{"$f":"'Basic Elements'!A$35","v":"Wednesday"},{"$f":"'Basic Elements'!B$35","v":"2022-01-26"},{"$f":"'Basic Elements'!$D$16","v":"Employé 11"},"08:30:00","16:00:00","SW",null,null,null,"07:30:00"]
[{"$f":"'Basic Elements'!A$35","v":"Wednesday"},{"$f":"'Basic Elements'!B$35","v":"2022-01-26"},{"$f":"'Basic Elements'!$D$17","v":"Employé 12"},"12:00:00","18:30:00","SW",null,null,null,"06:30:00"]
[{"$f":"'Basic Elements'!A$35","v":"Wednesday"},{"$f":"'Basic Elements'!B$35","v":"2022-01-26"},{"$f":"'Basic Elements'!$D$18","v":"Employé 13"},null,null,"Off",null,null,null,"00:00:00"]
[{"$f":"'Basic Elements'!A$35","v":"Wednesday"},{"$f":"'Basic Elements'!B$35","v":"2022-01-26"},{"$f":"'Basic Elements'!$D$19","v":"Employé 14"},"07:30:00","17:00:00","BA",null,null,null,"09:30:00"]
[{"$f":"'Basic Elements'!A$35","v":"Wednesday"},{"$f":"'Basic Elements'!B$35","v":"2022-01-26"},{"$f":"'Basic Elements'!$D$20","v":"Employé 15"},null,null,"Off",null,null,null,"00:00:00"]
[{"$f":"'Basic Elements'!A$35","v":"Wednesday"},{"$f":"'Basic Elements'!B$35","v":"2022-01-26"},{"$f":"'Basic Elements'!$D$21","v":"Employé 16"},"09:00:00","16:00:00","PR",null,null,null,"07:00:00"]
[{"$f":"'Basic Elements'!A$35","v":"Wednesday"},{"$f":"'Basic Elements'!B$35","v":"2022-01-26"},{"$f":"'Basic Elements'!$D$22","v":"Employé 17"},null,null,null,null,null,null,"00:00:00"]
[{"$f":"'Basic Elements'!A$35","v":"Wednesday"},{"$f":"'Basic Elements'!B$35","v":"2022-01-26"},{"$f":"'Basic Elements'!$D$23","v":"Employé 18"},"09:00:00","20:00:00","D",null,null,null,{"$f":"(E919-D919)+(H919-G919)","v":"11:00:00"}]
[{"$f":"'Basic Elements'!A$35","v":"Wednesday"},{"$f":"'Basic Elements'!B$35","v":"2022-01-26"},{"$f":"'Basic Elements'!$D$24","v":"Employé 19"},null,null,"Off",null,null,null,"00:00:00"]
[{"$f":"'Basic Elements'!A$35","v":"Wednesday"},{"$f":"'Basic Elements'!B$35","v":"2022-01-26"},{"$f":"'Basic Elements'!$D$25","v":"Employé 20"},null,null,null,null,null,null,"00:00:00"]
[{"$f":"'Basic Elements'!A$35","v":"Wednesday"},{"$f":"'Basic Elements'!B$35","v":"2022-01-26"},{"$f":"'Basic Elements'!$D$26","v":"Employé 21"},null,null,"Off",null,null,null,"00:00:00"]
[{"$f":"'Basic Elements'!A$35","v":"Wednesday"},{"$f":"'Basic Elements'!B$35","v":"2022-01-26"},{"$f":"'Basic Elements'!$D$27","v":"Employé 22"},null,null,null,null,null,null,"00:00:00"]
[{"$f":"'Basic Elements'!A$35","v":"Wednesday"},{"$f":"'Basic Elements'!B$35","v":"2022-01-26"},{"$f":"'Basic Elements'!$D$28","v":"Employé 23"},null,null,null,null,null,null,"00:00:00"]
[{"$f":"'Basic Elements'!A$35","v":"Wednesday"},{"$f":"'Basic Elements'!B$35","v":"2022-01-26"},{"$f":"'Basic Elements'!$D$29","v":"Employé 24"},null,null,null,null,null,null,"00:00:00"]
[{"$f":"'Basic Elements'!A$35","v":"Wednesday"},{"$f":"'Basic Elements'!B$35","v":"2022-01-26"},{"$f":"'Basic Elements'!$D$30","v":"Employé 25"},null,null,null,null,null,null,"00:00:00"]
[{"$f":"'Basic Elements'!A$35","v":"Wednesday"},{"$f":"'Basic Elements'!B$35","v":"2022-01-26"},{"$f":"'Basic Elements'!$D$31","v":"Employé 26"},null,null,null,null,null,null,"00:00:00"]
[{"$f":"'Basic Elements'!A$35","v":"Wednesday"},{"$f":"'Basic Elements'!B$35","v":"2022-01-26"},{"$f":"'Basic Elements'!$D$32","v":"Employé 27"},null,null,null,null,null,null,"00:00:00"]
[{"$f":"'Basic Elements'!A$35","v":"Wednesday"},{"$f":"'Basic Elements'!B$35","v":"2022-01-26"},{"$f":"'Basic Elements'!$D$33","v":"Employé 28"},null,null,null,null,null,null,"00:00:00"]
[{"$f":"'Basic Elements'!A$35","v":"Wednesday"},{"$f":"'Basic Elements'!B$35","v":"2022-01-26"},{"$f":"'Basic Elements'!$D$34","v":"Employé 29"},null,null,null,null,null,null,"00:00:00"]
[{"$f":"'Basic Elements'!A$35","v":"Wednesday"},{"$f":"'Basic Elements'!B$35","v":"2022-01-26"},{"$f":"'Basic Elements'!$D$35","v":"Employé 30"},null,null,null,null,null,null,"00:00:00"]
[{"$f":"'Basic Elements'!A$35","v":"Wednesday"},{"$f":"'Basic Elements'!B$35","v":"2022-01-26"},{"$f":"'Basic Elements'!$D$36","v":"Employé 31"},null,null,null,null,null,null,"00:00:00"]
[{"$f":"'Basic Elements'!A$35","v":"Wednesday"},{"$f":"'Basic Elements'!B$35","v":"2022-01-26"},{"$f":"'Basic Elements'!$D$37","v":"Employé 32"},null,null,null,null,null,null,"00:00:00"]
[{"$f":"'Basic Elements'!A$35","v":"Wednesday"},{"$f":"'Basic Elements'!B$35","v":"2022-01-26"},{"$f":"'Basic Elements'!$D$38","v":"Employé 33"},null,null,null,null,null,null,"00:00:00"]
[{"$f":"'Basic Elements'!A$35","v":"Wednesday"},{"$f":"'Basic Elements'!B$35","v":"2022-01-26"},{"$f":"'Basic Elements'!$D$39","v":"Employé 34"},null,null,null,null,null,null,"00:00:00"]
[{"$f":"'Basic Elements'!A$35","v":"Wednesday"},{"$f":"'Basic Elements'!B$35","v":"2022-01-26"},{"$f":"'Basic Elements'!$D$40","v":"Employé 35"},null,null,null,null,null,null,"00:00:00"]
[{"$f":"'Basic Elements'!A$35","v":"Wednesday"},{"$f":"'Basic Elements'!B$35","v":"2022-01-26"},{"$f":"'Basic Elements'!$D$41","v":"Employé 36"},null,null,null,null,null,null,"00:00:00"]
[{"$f":"'Basic Elements'!A$36","v":"Thursday"},{"$f":"'Basic Elements'!B$36","v":"2022-01-27"},{"$f":"'Basic Elements'!$D$6","v":"Employé 1"},null,null,null,null,null,null,"00:00:00"]
[{"$f":"'Basic Elements'!A$36","v":"Thursday"},{"$f":"'Basic Elements'!B$36","v":"2022-01-27"},{"$f":"'Basic Elements'!$D$7","v":"Employé 2"},null,null,null,null,null,null,"00:00:00"]
[{"$f":"'Basic Elements'!A$36","v":"Thursday"},{"$f":"'Basic Elements'!B$36","v":"2022-01-27"},{"$f":"'Basic Elements'!$D$8","v":"Employé 3"},null,null,null,null,null,null,"00:00:00"]
[{"$f":"'Basic Elements'!A$36","v":"Thursday"},{"$f":"'Basic Elements'!B$36","v":"2022-01-27"},{"$f":"'Basic Elements'!$D$9","v":"Employé 4"},null,null,"Off",null,null,null,"00:00:00"]
[{"$f":"'Basic Elements'!A$36","v":"Thursday"},{"$f":"'Basic Elements'!B$36","v":"2022-01-27"},{"$f":"'Basic Elements'!$D$10","v":"Employé 5"},"02:00:00","10:00:00","PA",null,null,null,"08:00:00"]
[{"$f":"'Basic Elements'!A$36","v":"Thursday"},{"$f":"'Basic Elements'!B$36","v":"2022-01-27"},{"$f":"'Basic Elements'!$D$11","v":"Employé 6"},null,null,"Off",null,null,null,"00:00:00"]
[{"$f":"'Basic Elements'!A$36","v":"Thursday"},{"$f":"'Basic Elements'!B$36","v":"2022-01-27"},{"$f":"'Basic Elements'!$D$12","v":"Employé 7"},"07:30:00","15:00:00","SM",null,null,null,"07:30:00"]
[{"$f":"'Basic Elements'!A$36","v":"Thursday"},{"$f":"'Basic Elements'!B$36","v":"2022-01-27"},{"$f":"'Basic Elements'!$D$13","v":"Employé 8"},"08:30:00","16:00:00","SM",null,null,null,"07:30:00"]
[{"$f":"'Basic Elements'!A$36","v":"Thursday"},{"$f":"'Basic Elements'!B$36","v":"2022-01-27"},{"$f":"'Basic Elements'!$D$14","v":"Employé 9"},"12:00:00","18:30:00","SM",null,null,null,"06:30:00"]
[{"$f":"'Basic Elements'!A$36","v":"Thursday"},{"$f":"'Basic Elements'!B$36","v":"2022-01-27"},{"$f":"'Basic Elements'!$D$15","v":"Employé 10"},"07:30:00","15:00:00","SW",null,null,null,"07:30:00"]
[{"$f":"'Basic Elements'!A$36","v":"Thursday"},{"$f":"'Basic Elements'!B$36","v":"2022-01-27"},{"$f":"'Basic Elements'!$D$16","v":"Employé 11"},"08:30:00","16:00:00","SW",null,null,null,"07:30:00"]
[{"$f":"'Basic Elements'!A$36","v":"Thursday"},{"$f":"'Basic Elements'!B$36","v":"2022-01-27"},{"$f":"'Basic Elements'!$D$17","v":"Employé 12"},"12:00:00","18:30:00","SW",null,null,null,"06:30:00"]
[{"$f":"'Basic Elements'!A$36","v":"Thursday"},{"$f":"'Basic Elements'!B$36","v":"2022-01-27"},{"$f":"'Basic Elements'!$D$18","v":"Employé 13"},null,null,"Off",null,null,null,"00:00:00"]
[{"$f":"'Basic Elements'!A$36","v":"Thursday"},{"$f":"'Basic Elements'!B$36","v":"2022-01-27"},{"$f":"'Basic Elements'!$D$19","v":"Employé 14"},"07:30:00","17:00:00","BA",null,null,null,"09:30:00"]
[{"$f":"'Basic Elements'!A$36","v":"Thursday"},{"$f":"'Basic Elements'!B$36","v":"2022-01-27"},{"$f":"'Basic Elements'!$D$20","v":"Employé 15"},null,null,"Off",null,null,null,"00:00:00"]
[{"$f":"'Basic Elements'!A$36","v":"Thursday"},{"$f":"'Basic Elements'!B$36","v":"2022-01-27"},{"$f":"'Basic Elements'!$D$21","v":"Employé 16"},"09:00:00","16:00:00","PR",null,null,null,"07:00:00"]
[{"$f":"'Basic Elements'!A$36","v":"Thursday"},{"$f":"'Basic Elements'!B$36","v":"2022-01-27"},{"$f":"'Basic Elements'!$D$22","v":"Employé 17"},null,null,null,null,null,null,"00:00:00"]
[{"$f":"'Basic Elements'!A$36","v":"Thursday"},{"$f":"'Basic Elements'!B$36","v":"2022-01-27"},{"$f":"'Basic Elements'!$D$23","v":"Employé 18"},"09:00:00","20:00:00","D",null,null,null,"11:00:00"]
[{"$f":"'Basic Elements'!A$36","v":"Thursday"},{"$f":"'Basic Elements'!B$36","v":"2022-01-27"},{"$f":"'Basic Elements'!$D$24","v":"Employé 19"},null,null,"Off",null,null,null,"00:00:00"]
[{"$f":"'Basic Elements'!A$36","v":"Thursday"},{"$f":"'Basic Elements'!B$36","v":"2022-01-27"},{"$f":"'Basic Elements'!$D$25","v":"Employé 20"},null,null,null,null,null,null,"00:00:00"]
[{"$f":"'Basic Elements'!A$36","v":"Thursday"},{"$f":"'Basic Elements'!B$36","v":"2022-01-27"},{"$f":"'Basic Elements'!$D$26","v":"Employé 21"},null,null,"Off",null,null,null,"00:00:00"]
[{"$f":"'Basic Elements'!A$36","v":"Thursday"},{"$f":"'Basic Elements'!B$36","v":"2022-01-27"},{"$f":"'Basic Elements'!$D$27","v":"Employé 22"},null,null,null,null,null,null,"00:00:00"]
[{"$f":"'Basic Elements'!A$36","v":"Thursday"},{"$f":"'Basic Elements'!B$36","v":"2022-01-27"},{"$f":"'Basic Elements'!$D$28","v":"Employé 23"},null,null,null,null,null,null,"00:00:00"]
[{"$f":"'Basic Elements'!A$36","v":"Thursday"},{"$f":"'Basic Elements'!B$36","v":"2022-01-27"},{"$f":"'Basic Elements'!$D$29","v":"Employé 24"},null,null,null,null,null,null,"00:00:00"]
[{"$f":"'Basic Elements'!A$36","v":"Thursday"},{"$f":"'Basic Elements'!B$36","v":"2022-01-27"},{"$f":"'Basic Elements'!$D$30","v":"Employé 25"},null,null,null,null,null,null,"00:00:00"]
[{"$f":"'Basic Elements'!A$36","v":"Thursday"},{"$f":"'Basic Elements'!B$36","v":"2022-01-27"},{"$f":"'Basic Elements'!$D$31","v":"Employé 26"},null,null,null,null,null,null,"00:00:00"]
[{"$f":"'Basic Elements'!A$36","v":"Thursday"},{"$f":"'Basic Elements'!B$36","v":"2022-01-27"},{"$f":"'Basic Elements'!$D$32","v":"Employé 27"},null,null,null,null,null,null,"00:00:00"]
[{"$f":"'Basic Elements'!A$36","v":"Thursday"},{"$f":"'Basic Elements'!B$36","v":"2022-01-27"},{"$f":"'Basic Elements'!$D$33","v":"Employé 28"},null,null,null,null,null,null,"00:00:00"]
[{"$f":"'Basic Elements'!A$36","v":"Thursday"},{"$f":"'Basic Elements'!B$36","v":"2022-01-27"},{"$f":"'Basic Elements'!$D$34","v":"Employé 29"},null,null,null,null,null,null,"00:00:00"]
[{"$f":"'Basic Elements'!A$36","v":"Thursday"},{"$f":"'Basic Elements'!B$36","v":"2022-01-27"},{"$f":"'Basic Elements'!$D$35","v":"Employé 30"},null,null,null,null,null,null,"00:00:00"]
[{"$f":"'Basic Elements'!A$36","v":"Thursday"},{"$f":"'Basic Elements'!B$36","v":"2022-01-27"},{"$f":"'Basic Elements'!$D$36","v":"Employé 31"},null,null,null,null,null,null,"00:00:00"]
[{"$f":"'Basic Elements'!A$36","v":"Thursday"},{"$f":"'Basic Elements'!B$36","v":"2022-01-27"},{"$f":"'Basic Elements'!$D$37","v":"Employé 32"},null,null,null,null,null,null,"00:00:00"]
[{"$f":"'Basic Elements'!A$36","v":"Thursday"},{"$f":"'Basic Elements'!B$36","v":"2022-01-27"},{"$f":"'Basic Elements'!$D$38","v":"Employé 33"},null,null,null,null,null,null,"00:00:00"]
[{"$f":"'Basic Elements'!A$36","v":"Thursday"},{"$f":"'Basic Elements'!B$36","v":"2022-01-27"},{"$f":"'Basic Elements'!$D$39","v":"Employé 34"},null,null,null,null,null,null,"00:00:00"]
[{"$f":"'Basic Elements'!A$36","v":"Thursday"},{"$f":"'Basic Elements'!B$36","v":"2022-01-27"},{"$f":"'Basic Elements'!$D$40","v":"Employé 35"},null,null,null,null,null,null,"00:00:00"]
[{"$f":"'Basic Elements'!A$36","v":"Thursday"},{"$f":"'Basic Elements'!B$36","v":"2022-01-27"},{"$f":"'Basic Elements'!$D$41","v":"Employé 36"},null,null,null,null,null,null,"00:00:00"]
[{"$f":"'Basic Elements'!A$37","v":"Friday"},{"$f":"'Basic Elements'!B$37","v":"2022-01-28"},{"$f":"'Basic Elements'!$D$6","v":"Employé 1"},null,null,null,null,null,null,"00:00:00"]
[{"$f":"'Basic Elements'!A$37","v":"Friday"},{"$f":"'Basic Elements'!B$37","v":"2022-01-28"},{"$f":"'Basic Elements'!$D$7","v":"Employé 2"},null,null,null,null,null,null,"00:00:00"]
[{"$f":"'Basic Elements'!A$37","v":"Friday"},{"$f":"'Basic Elements'!B$37","v":"2022-01-28"},{"$f":"'Basic Elements'!$D$8","v":"Employé 3"},null,null,null,null,null,null,"00:00:00"]
[{"$f":"'Basic Elements'!A$37","v":"Friday"},{"$f":"'Basic Elements'!B$37","v":"2022-01-28"},{"$f":"'Basic Elements'!$D$9","v":"Employé 4"},"02:00:00","10:00:00","PA",null,null,null,"08:00:00"]
[{"$f":"'Basic Elements'!A$37","v":"Friday"},{"$f":"'Basic Elements'!B$37","v":"2022-01-28"},{"$f":"'Basic Elements'!$D$10","v":"Employé 5"},"02:00:00","10:00:00","PA",null,null,null,"08:00:00"]
[{"$f":"'Basic Elements'!A$37","v":"Friday"},{"$f":"'Basic Elements'!B$37","v":"2022-01-28"},{"$f":"'Basic Elements'!$D$11","v":"Employé 6"},"12:00:00","18:30:00","SM",null,null,null,"06:30:00"]
[{"$f":"'Basic Elements'!A$37","v":"Friday"},{"$f":"'Basic Elements'!B$37","v":"2022-01-28"},{"$f":"'Basic Elements'!$D$12","v":"Employé 7"},null,null,"Off",null,null,null,"00:00:00"]
[{"$f":"'Basic Elements'!A$37","v":"Friday"},{"$f":"'Basic Elements'!B$37","v":"2022-01-28"},{"$f":"'Basic Elements'!$D$13","v":"Employé 8"},"07:30:00","15:00:00","SM",null,null,null,"07:30:00"]
[{"$f":"'Basic Elements'!A$37","v":"Friday"},{"$f":"'Basic Elements'!B$37","v":"2022-01-28"},{"$f":"'Basic Elements'!$D$14","v":"Employé 9"},"08:30:00","16:00:00","SM",null,null,null,"07:30:00"]
[{"$f":"'Basic Elements'!A$37","v":"Friday"},{"$f":"'Basic Elements'!B$37","v":"2022-01-28"},{"$f":"'Basic Elements'!$D$15","v":"Employé 10"},null,null,"Off",null,null,null,{"$f":"(E983-D983)+(H983-G983)","v":"00:00:00"}]
[{"$f":"'Basic Elements'!A$37","v":"Friday"},{"$f":"'Basic Elements'!B$37","v":"2022-01-28"},{"$f":"'Basic Elements'!$D$16","v":"Employé 11"},"07:30:00","15:00:00","SW",null,null,null,"07:30:00"]
[{"$f":"'Basic Elements'!A$37","v":"Friday"},{"$f":"'Basic Elements'!B$37","v":"2022-01-28"},{"$f":"'Basic Elements'!$D$17","v":"Employé 12"},"08:30:00","16:00:00","SW",null,null,null,"07:30:00"]
[{"$f":"'Basic Elements'!A$37","v":"Friday"},{"$f":"'Basic Elements'!B$37","v":"2022-01-28"},{"$f":"'Basic Elements'!$D$18","v":"Employé 13"},"12:00:00","18:30:00","SW",null,null,null,"06:30:00"]
[{"$f":"'Basic Elements'!A$37","v":"Friday"},{"$f":"'Basic Elements'!B$37","v":"2022-01-28"},{"$f":"'Basic Elements'!$D$19","v":"Employé 14"},"07:30:00","12:00:00","BA",null,null,null,"04:30:00"]
[{"$f":"'Basic Elements'!A$37","v":"Friday"},{"$f":"'Basic Elements'!B$37","v":"2022-01-28"},{"$f":"'Basic Elements'!$D$20","v":"Employé 15"},"12:00:00","17:00:00","BA",null,null,null,"05:00:00"]
[{"$f":"'Basic Elements'!A$37","v":"Friday"},{"$f":"'Basic Elements'!B$37","v":"2022-01-28"},{"$f":"'Basic Elements'!$D$21","v":"Employé 16"},"09:00:00","18:00:00","PR",null,null,null,"09:00:00"]
[{"$f":"'Basic Elements'!A$37","v":"Friday"},{"$f":"'Basic Elements'!B$37","v":"2022-01-28"},{"$f":"'Basic Elements'!$D$22","v":"Employé 17"},null,null,null,null,null,null,"00:00:00"]
[{"$f":"'Basic Elements'!A$37","v":"Friday"},{"$f":"'Basic Elements'!B$37","v":"2022-01-28"},{"$f":"'Basic Elements'!$D$23","v":"Employé 18"},"14:30:00","20:00:00","D",null,null,null,"05:30:00"]
[{"$f":"'Basic Elements'!A$37","v":"Friday"},{"$f":"'Basic Elements'!B$37","v":"2022-01-28"},{"$f":"'Basic Elements'!$D$24","v":"Employé 19"},"09:00:00","14:30:00","D",null,null,null,"05:30:00"]
[{"$f":"'Basic Elements'!A$37","v":"Friday"},{"$f":"'Basic Elements'!B$37","v":"2022-01-28"},{"$f":"'Basic Elements'!$D$25","v":"Employé 20"},null,null,null,null,null,null,"00:00:00"]
[{"$f":"'Basic Elements'!A$37","v":"Friday"},{"$f":"'Basic Elements'!B$37","v":"2022-01-28"},{"$f":"'Basic Elements'!$D$26","v":"Employé 21"},"09:00:00","16:30:00","BU",null,null,null,"07:30:00"]
[{"$f":"'Basic Elements'!A$37","v":"Friday"},{"$f":"'Basic Elements'!B$37","v":"2022-01-28"},{"$f":"'Basic Elements'!$D$27","v":"Employé 22"},null,null,null,null,null,null,"00:00:00"]
[{"$f":"'Basic Elements'!A$37","v":"Friday"},{"$f":"'Basic Elements'!B$37","v":"2022-01-28"},{"$f":"'Basic Elements'!$D$28","v":"Employé 23"},null,null,null,null,null,null,"00:00:00"]
[{"$f":"'Basic Elements'!A$37","v":"Friday"},{"$f":"'Basic Elements'!B$37","v":"2022-01-28"},{"$f":"'Basic Elements'!$D$29","v":"Employé 24"},null,null,null,null,null,null,"00:00:00"]
[{"$f":"'Basic Elements'!A$37","v":"Friday"},{"$f":"'Basic Elements'!B$37","v":"2022-01-28"},{"$f":"'Basic Elements'!$D$30","v":"Employé 25"},null,null,null,null,null,null,"00:00:00"]
[{"$f":"'Basic Elements'!A$37","v":"Friday"},{"$f":"'Basic Elements'!B$37","v":"2022-01-28"},{"$f":"'Basic Elements'!$D$31","v":"Employé 26"},null,null,null,null,null,null,"00:00:00"]
[{"$f":"'Basic Elements'!A$37","v":"Friday"},{"$f":"'Basic Elements'!B$37","v":"2022-01-28"},{"$f":"'Basic Elements'!$D$32","v":"Employé 27"},null,null,null,null,null,null,"00:00:00"]
[{"$f":"'Basic Elements'!A$37","v":"Friday"},{"$f":"'Basic Elements'!B$37","v":"2022-01-28"},{"$f":"'Basic Elements'!$D$33","v":"Employé 28"},null,null,null,null,null,null,"00:00:00"]
[{"$f":"'Basic Elements'!A$37","v":"Friday"},{"$f":"'Basic Elements'!B$37","v":"2022-01-28"},{"$f":"'Basic Elements'!$D$34","v":"Employé 29"},null,null,null,null,null,null,"00:00:00"]
[{"$f":"'Basic Elements'!A$37","v":"Friday"},{"$f":"'Basic Elements'!B$37","v":"2022-01-28"},{"$f":"'Basic Elements'!$D$35","v":"Employé 30"},null,null,null,null,null,null,"00:00:00"]
[{"$f":"'Basic Elements'!A$37","v":"Friday"},{"$f":"'Basic Elements'!B$37","v":"2022-01-28"},{"$f":"'Basic Elements'!$D$36","v":"Employé 31"},null,null,null,null,null,null,"00:00:00"]
[{"$f":"'Basic Elements'!A$37","v":"Friday"},{"$f":"'Basic Elements'!B$37","v":"2022-01-28"},{"$f":"'Basic Elements'!$D$37","v":"Employé 32"},null,null,null,null,null,null,"00:00:00"]
[{"$f":"'Basic Elements'!A$37","v":"Friday"},{"$f":"'Basic Elements'!B$37","v":"2022-01-28"},{"$f":"'Basic Elements'!$D$38","v":"Employé 33"},null,null,null,null,null,null,"00:00:00"]
[{"$f":"'Basic Elements'!A$37","v":"Friday"},{"$f":"'Basic Elements'!B$37","v":"2022-01-28"},{"$f":"'Basic Elements'!$D$39","v":"Employé 34"},null,null,null,null,null,null,"00:00:00"]
[{"$f":"'Basic Elements'!A$37","v":"Friday"},{"$f":"'Basic Elements'!B$37","v":"2022-01-28"},{"$f":"'Basic Elements'!$D$40","v":"Employé 35"},null,null,null,null,null,null,"00:00:00"]
[{"$f":"'Basic Elements'!A$37","v":"Friday"},{"$f":"'Basic Elements'!B$37","v":"2022-01-28"},{"$f":"'Basic Elements'!$D$41","v":"Employé 36"},null,null,null,null,null,null,"00:00:00"]
[{"$f":"'Basic Elements'!A$38","v":"Saturday"},{"$f":"'Basic Elements'!B$38","v":"2022-01-29"},{"$f":"'Basic Elements'!$D$6","v":"Employé 1"},null,null,null,null,null,null,"00:00:00"]
[{"$f":"'Basic Elements'!A$38","v":"Saturday"},{"$f":"'Basic Elements'!B$38","v":"2022-01-29"},{"$f":"'Basic Elements'!$D$7","v":"Employé 2"},null,null,null,null,null,null,"00:00:00"]
[{"$f":"'Basic Elements'!A$38","v":"Saturday"},{"$f":"'Basic Elements'!B$38","v":"2022-01-29"},{"$f":"'Basic Elements'!$D$8","v":"Employé 3"},null,null,null,null,null,null,"00:00:00"]
[{"$f":"'Basic Elements'!A$38","v":"Saturday"},{"$f":"'Basic Elements'!B$38","v":"2022-01-29"},{"$f":"'Basic Elements'!$D$9","v":"Employé 4"},"02:00:00","10:00:00","PA",null,null,null,"08:00:00"]
[{"$f":"'Basic Elements'!A$38","v":"Saturday"},{"$f":"'Basic Elements'!B$38","v":"2022-01-29"},{"$f":"'Basic Elements'!$D$10","v":"Employé 5"},"02:00:00","10:00:00","PA",null,null,null,"08:00:00"]
[{"$f":"'Basic Elements'!A$38","v":"Saturday"},{"$f":"'Basic Elements'!B$38","v":"2022-01-29"},{"$f":"'Basic Elements'!$D$11","v":"Employé 6"},"10:00:00","18:30:00","SM",null,null,null,"08:30:00"]
[{"$f":"'Basic Elements'!A$38","v":"Saturday"},{"$f":"'Basic Elements'!B$38","v":"2022-01-29"},{"$f":"'Basic Elements'!$D$12","v":"Employé 7"},null,null,"Off",null,null,null,"00:00:00"]
[{"$f":"'Basic Elements'!A$38","v":"Saturday"},{"$f":"'Basic Elements'!B$38","v":"2022-01-29"},{"$f":"'Basic Elements'!$D$13","v":"Employé 8"},"07:30:00","15:00:00","SM",null,null,null,"07:30:00"]
[{"$f":"'Basic Elements'!A$38","v":"Saturday"},{"$f":"'Basic Elements'!B$38","v":"2022-01-29"},{"$f":"'Basic Elements'!$D$14","v":"Employé 9"},"08:30:00","17:00:00","SM",null,null,null,"08:30:00"]
[{"$f":"'Basic Elements'!A$38","v":"Saturday"},{"$f":"'Basic Elements'!B$38","v":"2022-01-29"},{"$f":"'Basic Elements'!$D$15","v":"Employé 10"},null,null,"Off",null,null,null,"00:00:00"]
[{"$f":"'Basic Elements'!A$38","v":"Saturday"},{"$f":"'Basic Elements'!B$38","v":"2022-01-29"},{"$f":"'Basic Elements'!$D$16","v":"Employé 11"},"07:30:00","15:00:00","SW",null,null,null,"07:30:00"]
[{"$f":"'Basic Elements'!A$38","v":"Saturday"},{"$f":"'Basic Elements'!B$38","v":"2022-01-29"},{"$f":"'Basic Elements'!$D$17","v":"Employé 12"},"08:30:00","17:00:00","SW",null,null,null,"08:30:00"]
[{"$f":"'Basic Elements'!A$38","v":"Saturday"},{"$f":"'Basic Elements'!B$38","v":"2022-01-29"},{"$f":"'Basic Elements'!$D$18","v":"Employé 13"},"10:00:00","18:30:00","SW",null,null,null,"08:30:00"]
[{"$f":"'Basic Elements'!A$38","v":"Saturday"},{"$f":"'Basic Elements'!B$38","v":"2022-01-29"},{"$f":"'Basic Elements'!$D$19","v":"Employé 14"},"07:30:00","12:00:00","BA",null,null,null,"04:30:00"]
[{"$f":"'Basic Elements'!A$38","v":"Saturday"},{"$f":"'Basic Elements'!B$38","v":"2022-01-29"},{"$f":"'Basic Elements'!$D$20","v":"Employé 15"},"12:00:00","17:00:00","BA",null,null,null,"05:00:00"]
[{"$f":"'Basic Elements'!A$38","v":"Saturday"},{"$f":"'Basic Elements'!B$38","v":"2022-01-29"},{"$f":"'Basic Elements'!$D$21","v":"Employé 16"},null,null,"Off",null,null,null,"00:00:00"]
[{"$f":"'Basic Elements'!A$38","v":"Saturday"},{"$f":"'Basic Elements'!B$38","v":"2022-01-29"},{"$f":"'Basic Elements'!$D$22","v":"Employé 17"},null,null,null,null,null,null,"00:00:00"]
[{"$f":"'Basic Elements'!A$38","v":"Saturday"},{"$f":"'Basic Elements'!B$38","v":"2022-01-29"},{"$f":"'Basic Elements'!$D$23","v":"Employé 18"},"14:30:00","20:00:00","D",null,null,null,"05:30:00"]
[{"$f":"'Basic Elements'!A$38","v":"Saturday"},{"$f":"'Basic Elements'!B$38","v":"2022-01-29"},{"$f":"'Basic Elements'!$D$24","v":"Employé 19"},"09:00:00","14:30:00","D",null,null,null,"05:30:00"]
[{"$f":"'Basic Elements'!A$38","v":"Saturday"},{"$f":"'Basic Elements'!B$38","v":"2022-01-29"},{"$f":"'Basic Elements'!$D$25","v":"Employé 20"},null,null,null,null,null,null,"00:00:00"]
[{"$f":"'Basic Elements'!A$38","v":"Saturday"},{"$f":"'Basic Elements'!B$38","v":"2022-01-29"},{"$f":"'Basic Elements'!$D$26","v":"Employé 21"},"09:00:00","16:30:00","BU",null,null,null,"07:30:00"]
[{"$f":"'Basic Elements'!A$38","v":"Saturday"},{"$f":"'Basic Elements'!B$38","v":"2022-01-29"},{"$f":"'Basic Elements'!$D$27","v":"Employé 22"},null,null,null,null,null,null,"00:00:00"]
[{"$f":"'Basic Elements'!A$38","v":"Saturday"},{"$f":"'Basic Elements'!B$38","v":"2022-01-29"},{"$f":"'Basic Elements'!$D$28","v":"Employé 23"},null,null,null,null,null,null,"00:00:00"]
[{"$f":"'Basic Elements'!A$38","v":"Saturday"},{"$f":"'Basic Elements'!B$38","v":"2022-01-29"},{"$f":"'Basic Elements'!$D$29","v":"Employé 24"},null,null,null,null,null,null,"00:00:00"]
[{"$f":"'Basic Elements'!A$38","v":"Saturday"},{"$f":"'Basic Elements'!B$38","v":"2022-01-29"},{"$f":"'Basic Elements'!$D$30","v":"Employé 25"},null,null,null,null,null,null,"00:00:00"]
[{"$f":"'Basic Elements'!A$38","v":"Saturday"},{"$f":"'Basic Elements'!B$38","v":"2022-01-29"},{"$f":"'Basic Elements'!$D$31","v":"Employé 26"},null,null,null,null,null,null,"00:00:00"]
[{"$f":"'Basic Elements'!A$38","v":"Saturday"},{"$f":"'Basic Elements'!B$38","v":"2022-01-29"},{"$f":"'Basic Elements'!$D$32","v":"Employé 27"},null,null,null,null,null,null,"00:00:00"]
[{"$f":"'Basic Elements'!A$38","v":"Saturday"},{"$f":"'Basic Elements'!B$38","v":"2022-01-29"},{"$f":"'Basic Elements'!$D$33","v":"Employé 28"},null,null,null,null,null,null,"00:00:00"]
[{"$f":"'Basic Elements'!A$38","v":"Saturday"},{"$f":"'Basic Elements'!B$38","v":"2022-01-29"},{"$f":"'Basic Elements'!$D$34","v":"Employé 29"},null,null,null,null,null,null,"00:00:00"]
[{"$f":"'Basic Elements'!A$38","v":"Saturday"},{"$f":"'Basic Elements'!B$38","v":"2022-01-29"},{"$f":"'Basic Elements'!$D$35","v":"Employé 30"},null,null,null,null,null,null,"00:00:00"]
[{"$f":"'Basic Elements'!A$38","v":"Saturday"},{"$f":"'Basic Elements'!B$38","v":"2022-01-29"},{"$f":"'Basic Elements'!$D$36","v":"Employé 31"},null,null,null,null,null,null,"00:00:00"]
[{"$f":"'Basic Elements'!A$38","v":"Saturday"},{"$f":"'Basic Elements'!B$38","v":"2022-01-29"},{"$f":"'Basic Elements'!$D$37","v":"Employé 32"},null,null,null,null,null,null,"00:00:00"]
[{"$f":"'Basic Elements'!A$38","v":"Saturday"},{"$f":"'Basic Elements'!B$38","v":"2022-01-29"},{"$f":"'Basic Elements'!$D$38","v":"Employé 33"},null,null,null,null,null,null,"00:00:00"]
[{"$f":"'Basic Elements'!A$38","v":"Saturday"},{"$f":"'Basic Elements'!B$38","v":"2022-01-29"},{"$f":"'Basic Elements'!$D$39","v":"Employé 34"},null,null,null,null,null,null,"00:00:00"]
[{"$f":"'Basic Elements'!A$38","v":"Saturday"},{"$f":"'Basic Elements'!B$38","v":"2022-01-29"},{"$f":"'Basic Elements'!$D$40","v":"Employé 35"},null,null,null,null,null,null,"00:00:00"]
[{"$f":"'Basic Elements'!A$38","v":"Saturday"},{"$f":"'Basic Elements'!B$38","v":"2022-01-29"},{"$f":"'Basic Elements'!$D$41","v":"Employé 36"},null,null,null,null,null,null,"00:00:00"]
[{"$f":"'Basic Elements'!A$39","v":"Sunday"},{"$f":"'Basic Elements'!B$39","v":"2022-01-30"},{"$f":"'Basic Elements'!$D$6","v":"Employé 1"},null,null,null,null,null,null,"00:00:00"]
[{"$f":"'Basic Elements'!A$39","v":"Sunday"},{"$f":"'Basic Elements'!B$39","v":"2022-01-30"},{"$f":"'Basic Elements'!$D$7","v":"Employé 2"},null,null,null,null,null,null,{"$f":"(E1047-D1047)+(H1047-G1047)","v":"00:00:00"}]
[{"$f":"'Basic Elements'!A$39","v":"Sunday"},{"$f":"'Basic Elements'!B$39","v":"2022-01-30"},{"$f":"'Basic Elements'!$D$8","v":"Employé 3"},null,null,null,null,null,null,"00:00:00"]
[{"$f":"'Basic Elements'!A$39","v":"Sunday"},{"$f":"'Basic Elements'!B$39","v":"2022-01-30"},{"$f":"'Basic Elements'!$D$9","v":"Employé 4"},"02:00:00","10:00:00","PA",null,null,null,"08:00:00"]
[{"$f":"'Basic Elements'!A$39","v":"Sunday"},{"$f":"'Basic Elements'!B$39","v":"2022-01-30"},{"$f":"'Basic Elements'!$D$10","v":"Employé 5"},"02:00:00","10:00:00","PA",null,null,null,"08:00:00"]
[{"$f":"'Basic Elements'!A$39","v":"Sunday"},{"$f":"'Basic Elements'!B$39","v":"2022-01-30"},{"$f":"'Basic Elements'!$D$11","v":"Employé 6"},"08:30:00","16:30:00","SM",null,null,null,"08:00:00"]
[{"$f":"'Basic Elements'!A$39","v":"Sunday"},{"$f":"'Basic Elements'!B$39","v":"2022-01-30"},{"$f":"'Basic Elements'!$D$12","v":"Employé 7"},"10:00:00","16:30:00","SM",null,null,null,"06:30:00"]
[{"$f":"'Basic Elements'!A$39","v":"Sunday"},{"$f":"'Basic Elements'!B$39","v":"2022-01-30"},{"$f":"'Basic Elements'!$D$13","v":"Employé 8"},null,null,"Off",null,null,null,"00:00:00"]
[{"$f":"'Basic Elements'!A$39","v":"Sunday"},{"$f":"'Basic Elements'!B$39","v":"2022-01-30"},{"$f":"'Basic Elements'!$D$14","v":"Employé 9"},"07:30:00","15:00:00","SM",null,null,null,"07:30:00"]
[{"$f":"'Basic Elements'!A$39","v":"Sunday"},{"$f":"'Basic Elements'!B$39","v":"2022-01-30"},{"$f":"'Basic Elements'!$D$15","v":"Employé 10"},"10:00:00","16:30:00","SW",null,null,null,"06:30:00"]
[{"$f":"'Basic Elements'!A$39","v":"Sunday"},{"$f":"'Basic Elements'!B$39","v":"2022-01-30"},{"$f":"'Basic Elements'!$D$16","v":"Employé 11"},null,null,"Off",null,null,null,"00:00:00"]
[{"$f":"'Basic Elements'!A$39","v":"Sunday"},{"$f":"'Basic Elements'!B$39","v":"2022-01-30"},{"$f":"'Basic Elements'!$D$17","v":"Employé 12"},"07:30:00","15:00:00","SW",null,null,null,"07:30:00"]
[{"$f":"'Basic Elements'!A$39","v":"Sunday"},{"$f":"'Basic Elements'!B$39","v":"2022-01-30"},{"$f":"'Basic Elements'!$D$18","v":"Employé 13"},"08:30:00","16:30:00","SW",null,null,null,"08:00:00"]
[{"$f":"'Basic Elements'!A$39","v":"Sunday"},{"$f":"'Basic Elements'!B$39","v":"2022-01-30"},{"$f":"'Basic Elements'!$D$19","v":"Employé 14"},null,null,"Off",null,null,null,"00:00:00"]
[{"$f":"'Basic Elements'!A$39","v":"Sunday"},{"$f":"'Basic Elements'!B$39","v":"2022-01-30"},{"$f":"'Basic Elements'!$D$20","v":"Employé 15"},"07:30:00","16:30:00","BA",null,null,null,"09:00:00"]
[{"$f":"'Basic Elements'!A$39","v":"Sunday"},{"$f":"'Basic Elements'!B$39","v":"2022-01-30"},{"$f":"'Basic Elements'!$D$21","v":"Employé 16"},null,null,"Off",null,null,null,"00:00:00"]
[{"$f":"'Basic Elements'!A$39","v":"Sunday"},{"$f":"'Basic Elements'!B$39","v":"2022-01-30"},{"$f":"'Basic Elements'!$D$22","v":"Employé 17"},null,null,null,null,null,null,"00:00:00"]
[{"$f":"'Basic Elements'!A$39","v":"Sunday"},{"$f":"'Basic Elements'!B$39","v":"2022-01-30"},{"$f":"'Basic Elements'!$D$23","v":"Employé 18"},null,null,"Off",null,null,null,"00:00:00"]
[{"$f":"'Basic Elements'!A$39","v":"Sunday"},{"$f":"'Basic Elements'!B$39","v":"2022-01-30"},{"$f":"'Basic Elements'!$D$24","v":"Employé 19"},"09:00:00","18:00:00","D",null,null,null,"09:00:00"]
[{"$f":"'Basic Elements'!A$39","v":"Sunday"},{"$f":"'Basic Elements'!B$39","v":"2022-01-30"},{"$f":"'Basic Elements'!$D$25","v":"Employé 20"},null,null,null,null,null,null,"00:00:00"]
[{"$f":"'Basic Elements'!A$39","v":"Sunday"},{"$f":"'Basic Elements'!B$39","v":"2022-01-30"},{"$f":"'Basic Elements'!$D$26","v":"Employé 21"},"09:00:00","16:30:00","BU",null,null,null,"07:30:00"]
[{"$f":"'Basic Elements'!A$39","v":"Sunday"},{"$f":"'Basic Elements'!B$39","v":"2022-01-30"},{"$f":"'Basic Elements'!$D$27","v":"Employé 22"},null,null,null,null,null,null,"00:00:00"]
[{"$f":"'Basic Elements'!A$39","v":"Sunday"},{"$f":"'Basic Elements'!B$39","v":"2022-01-30"},{"$f":"'Basic Elements'!$D$28","v":"Employé 23"},null,null,null,null,null,null,"00:00:00"]
[{"$f":"'Basic Elements'!A$39","v":"Sunday"},{"$f":"'Basic Elements'!B$39","v":"2022-01-30"},{"$f":"'Basic Elements'!$D$29","v":"Employé 24"},null,null,null,null,null,null,"00:00:00"]
[{"$f":"'Basic Elements'!A$39","v":"Sunday"},{"$f":"'Basic Elements'!B$39","v":"2022-01-30"},{"$f":"'Basic Elements'!$D$30","v":"Employé 25"},null,null,null,null,null,null,"00:00:00"]
[{"$f":"'Basic Elements'!A$39","v":"Sunday"},{"$f":"'Basic Elements'!B$39","v":"2022-01-30"},{"$f":"'Basic Elements'!$D$31","v":"Employé 26"},null,null,null,null,null,null,"00:00:00"]
[{"$f":"'Basic Elements'!A$39","v":"Sunday"},{"$f":"'Basic Elements'!B$39","v":"2022-01-30"},{"$f":"'Basic Elements'!$D$32","v":"Employé 27"},null,null,null,null,null,null,"00:00:00"]
[{"$f":"'Basic Elements'!A$39","v":"Sunday"},{"$f":"'Basic Elements'!B$39","v":"2022-01-30"},{"$f":"'Basic Elements'!$D$33","v":"Employé 28"},null,null,null,null,null,null,"00:00:00"]
[{"$f":"'Basic Elements'!A$39","v":"Sunday"},{"$f":"'Basic Elements'!B$39","v":"2022-01-30"},{"$f":"'Basic Elements'!$D$34","v":"Employé 29"},null,null,null,null,null,null,"00:00:00"]
[{"$f":"'Basic Elements'!A$39","v":"Sunday"},{"$f":"'Basic Elements'!B$39","v":"2022-01-30"},{"$f":"'Basic Elements'!$D$35","v":"Employé 30"},null,null,null,null,null,null,"00:00:00"]
[{"$f":"'Basic Elements'!A$39","v":"Sunday"},{"$f":"'Basic Elements'!B$39","v":"2022-01-30"},{"$f":"'Basic Elements'!$D$36","v":"Employé 31"},null,null,null,null,null,null,"00:00:00"]
[{"$f":"'Basic Elements'!A$39","v":"Sunday"},{"$f":"'Basic Elements'!B$39","v":"2022-01-30"},{"$f":"'Basic Elements'!$D$37","v":"Employé 32"},null,null,null,null,null,null,"00:00:00"]
[{"$f":"'Basic Elements'!A$39","v":"Sunday"},{"$f":"'Basic Elements'!B$39","v":"2022-01-30"},{"$f":"'Basic Elements'!$D$38","v":"Employé 33"},null,null,null,null,null,null,"00:00:00"]
[{"$f":"'Basic Elements'!A$39","v":"Sunday"},{"$f":"'Basic Elements'!B$39","v":"2022-01-30"},{"$f":"'Basic Elements'!$D$39","v":"Employé 34"},null,null,null,null,null,null,"00:00:00"]
[{"$f":"'Basic Elements'!A$39","v":"Sunday"},{"$f":"'Basic Elements'!B$39","v":"2022-01-30"},{"$f":"'Basic Elements'!$D$40","v":"Employé 35"},null,null,null,null,null,null,"00:00:00"]
[{"$f":"'Basic Elements'!A$39","v":"Sunday"},{"$f":"'Basic Elements'!B$39","v":"2022-01-30"},{"$f":"'Basic Elements'!$D$41","v":"Employé 36"},null,null,null,null,null,null,"00:00:00"]
[{"$f":"'Basic Elements'!A$40","v":"Monday"},{"$f":"'Basic Elements'!B$40","v":"2022-01-31"},{"$f":"'Basic Elements'!$D$6","v":"Employé 1"},null,null,null,null,null,null,"00:00:00"]
[{"$f":"'Basic Elements'!A$40","v":"Monday"},{"$f":"'Basic Elements'!B$40","v":"2022-01-31"},{"$f":"'Basic Elements'!$D$7","v":"Employé 2"},null,null,null,null,null,null,"00:00:00"]
[{"$f":"'Basic Elements'!A$40","v":"Monday"},{"$f":"'Basic Elements'!B$40","v":"2022-01-31"},{"$f":"'Basic Elements'!$D$8","v":"Employé 3"},null,null,null,null,null,null,"00:00:00"]
[{"$f":"'Basic Elements'!A$40","v":"Monday"},{"$f":"'Basic Elements'!B$40","v":"2022-01-31"},{"$f":"'Basic Elements'!$D$9","v":"Employé 4"},"02:00:00","10:00:00","PA",null,null,null,"08:00:00"]
[{"$f":"'Basic Elements'!A$40","v":"Monday"},{"$f":"'Basic Elements'!B$40","v":"2022-01-31"},{"$f":"'Basic Elements'!$D$10","v":"Employé 5"},null,null,"Off",null,null,null,"00:00:00"]
[{"$f":"'Basic Elements'!A$40","v":"Monday"},{"$f":"'Basic Elements'!B$40","v":"2022-01-31"},{"$f":"'Basic Elements'!$D$11","v":"Employé 6"},"08:30:00","16:00:00","SM",null,null,null,"07:30:00"]
[{"$f":"'Basic Elements'!A$40","v":"Monday"},{"$f":"'Basic Elements'!B$40","v":"2022-01-31"},{"$f":"'Basic Elements'!$D$12","v":"Employé 7"},"12:00:00","18:30:00","SM",null,null,null,"06:30:00"]
[{"$f":"'Basic Elements'!A$40","v":"Monday"},{"$f":"'Basic Elements'!B$40","v":"2022-01-31"},{"$f":"'Basic Elements'!$D$13","v":"Employé 8"},null,null,"Off",null,null,null,"00:00:00"]
[{"$f":"'Basic Elements'!A$40","v":"Monday"},{"$f":"'Basic Elements'!B$40","v":"2022-01-31"},{"$f":"'Basic Elements'!$D$14","v":"Employé 9"},"07:30:00","15:00:00","SM",null,null,null,"07:30:00"]
[{"$f":"'Basic Elements'!A$40","v":"Monday"},{"$f":"'Basic Elements'!B$40","v":"2022-01-31"},{"$f":"'Basic Elements'!$D$15","v":"Employé 10"},"12:00:00","18:30:00","SW",null,null,null,"06:30:00"]
[{"$f":"'Basic Elements'!A$40","v":"Monday"},{"$f":"'Basic Elements'!B$40","v":"2022-01-31"},{"$f":"'Basic Elements'!$D$16","v":"Employé 11"},null,null,"Off",null,null,null,"00:00:00"]
[{"$f":"'Basic Elements'!A$40","v":"Monday"},{"$f":"'Basic Elements'!B$40","v":"2022-01-31"},{"$f":"'Basic Elements'!$D$17","v":"Employé 12"},"07:30:00","15:00:00","SW",null,null,null,"07:30:00"]
[{"$f":"'Basic Elements'!A$40","v":"Monday"},{"$f":"'Basic Elements'!B$40","v":"2022-01-31"},{"$f":"'Basic Elements'!$D$18","v":"Employé 13"},"08:30:00","16:00:00","SW",null,null,null,"07:30:00"]
[{"$f":"'Basic Elements'!A$40","v":"Monday"},{"$f":"'Basic Elements'!B$40","v":"2022-01-31"},{"$f":"'Basic Elements'!$D$19","v":"Employé 14"},null,null,"Off",null,null,null,"00:00:00"]
[{"$f":"'Basic Elements'!A$40","v":"Monday"},{"$f":"'Basic Elements'!B$40","v":"2022-01-31"},{"$f":"'Basic Elements'!$D$20","v":"Employé 15"},"07:30:00","17:00:00","BA",null,null,null,"09:30:00"]
[{"$f":"'Basic Elements'!A$40","v":"Monday"},{"$f":"'Basic Elements'!B$40","v":"2022-01-31"},{"$f":"'Basic Elements'!$D$21","v":"Employé 16"},"09:00:00","18:00:00","PR",null,null,null,"09:00:00"]
[{"$f":"'Basic Elements'!A$40","v":"Monday"},{"$f":"'Basic Elements'!B$40","v":"2022-01-31"},{"$f":"'Basic Elements'!$D$22","v":"Employé 17"},null,null,null,null,null,null,"00:00:00"]
[{"$f":"'Basic Elements'!A$40","v":"Monday"},{"$f":"'Basic Elements'!B$40","v":"2022-01-31"},{"$f":"'Basic Elements'!$D$23","v":"Employé 18"},null,null,"Off",null,null,null,"00:00:00"]
[{"$f":"'Basic Elements'!A$40","v":"Monday"},{"$f":"'Basic Elements'!B$40","v":"2022-01-31"},{"$f":"'Basic Elements'!$D$24","v":"Employé 19"},"09:00:00","20:00:00","D",null,null,null,"11:00:00"]
[{"$f":"'Basic Elements'!A$40","v":"Monday"},{"$f":"'Basic Elements'!B$40","v":"2022-01-31"},{"$f":"'Basic Elements'!$D$25","v":"Employé 20"},null,null,null,null,null,null,"00:00:00"]
[{"$f":"'Basic Elements'!A$40","v":"Monday"},{"$f":"'Basic Elements'!B$40","v":"2022-01-31"},{"$f":"'Basic Elements'!$D$26","v":"Employé 21"},null,null,"Off",null,null,null,"00:00:00"]
[{"$f":"'Basic Elements'!A$40","v":"Monday"},{"$f":"'Basic Elements'!B$40","v":"2022-01-31"},{"$f":"'Basic Elements'!$D$27","v":"Employé 22"},null,null,null,null,null,null,"00:00:00"]
[{"$f":"'Basic Elements'!A$40","v":"Monday"},{"$f":"'Basic Elements'!B$40","v":"2022-01-31"},{"$f":"'Basic Elements'!$D$28","v":"Employé 23"},null,null,null,null,null,null,"00:00:00"]
[{"$f":"'Basic Elements'!A$40","v":"Monday"},{"$f":"'Basic Elements'!B$40","v":"2022-01-31"},{"$f":"'Basic Elements'!$D$29","v":"Employé 24"},null,null,null,null,null,null,"00:00:00"]
[{"$f":"'Basic Elements'!A$40","v":"Monday"},{"$f":"'Basic Elements'!B$40","v":"2022-01-31"},{"$f":"'Basic Elements'!$D$30","v":"Employé 25"},null,null,null,null,null,null,"00:00:00"]
[{"$f":"'Basic Elements'!A$40","v":"Monday"},{"$f":"'Basic Elements'!B$40","v":"2022-01-31"},{"$f":"'Basic Elements'!$D$31","v":"Employé 26"},null,null,null,null,null,null,"00:00:00"]
[{"$f":"'Basic Elements'!A$40","v":"Monday"},{"$f":"'Basic Elements'!B$40","v":"2022-01-31"},{"$f":"'Basic Elements'!$D$32","v":"Employé 27"},null,null,null,null,null,null,"00:00:00"]
[{"$f":"'Basic Elements'!A$40","v":"Monday"},{"$f":"'Basic Elements'!B$40","v":"2022-01-31"},{"$f":"'Basic Elements'!$D$33","v":"Employé 28"},null,null,null,null,null,null,"00:00:00"]
[{"$f":"'Basic Elements'!A$40","v":"Monday"},{"$f":"'Basic Elements'!B$40","v":"2022-01-31"},{"$f":"'Basic Elements'!$D$34","v":"Employé 29"},null,null,null,null,null,null,"00:00:00"]
[{"$f":"'Basic Elements'!A$40","v":"Monday"},{"$f":"'Basic Elements'!B$40","v":"2022-01-31"},{"$f":"'Basic Elements'!$D$35","v":"Employé 30"},null,null,null,null,null,null,{"$f":"(E1111-D1111)+(H1111-G1111)","v":"00:00:00"}]
[{"$f":"'Basic Elements'!A$40","v":"Monday"},{"$f":"'Basic Elements'!B$40","v":"2022-01-31"},{"$f":"'Basic Elements'!$D$36","v":"Employé 31"},null,null,null,null,null,null,"00:00:00"]
[{"$f":"'Basic Elements'!A$40","v":"Monday"},{"$f":"'Basic Elements'!B$40","v":"2022-01-31"},{"$f":"'Basic Elements'!$D$37","v":"Employé 32"},null,null,null,null,null,null,"00:00:00"]
[{"$f":"'Basic Elements'!A$40","v":"Monday"},{"$f":"'Basic Elements'!B$40","v":"2022-01-31"},{"$f":"'Basic Elements'!$D$38","v":"Employé 33"},null,null,null,null,null,null,"00:00:00"]
[{"$f":"'Basic Elements'!A$40","v":"Monday"},{"$f":"'Basic Elements'!B$40","v":"2022-01-31"},{"$f":"'Basic Elements'!$D$39","v":"Employé 34"},null,null,null,null,null,null,"00:00:00"]
[{"$f":"'Basic Elements'!A$40","v":"Monday"},{"$f":"'Basic Elements'!B$40","v":"2022-01-31"},{"$f":"'Basic Elements'!$D$40","v":"Employé 35"},null,null,null,null,null,null,"00:00:00"]
[{"$f":"'Basic Elements'!A$40","v":"Monday"},{"$f":"'Basic Elements'!B$40","v":"2022-01-31"},{"$f":"'Basic Elements'!$D$41","v":"Employé 36"},null,null,null,null,null,null,"00:00:00"]