{"text_format":"1","workbook":"xlsx","n_sheets":5,"sheets":["Menu","Historique Commande","Trame Bon de Commande","GestionLISTE","Gestion Mot DE Passe"],"not_rendered":{"charts":0,"images":19,"macros":1,"external_links":2,"defined_names":142,"comments":1,"pivot_tables":0},"unopened":[],"bounds":{"document_bytes":16777216,"sheet_cells":100000,"rows_first":2000,"rows_last":500,"rows_between":2000,"halvings":0,"cell_chars":16384,"cell_head_chars":4096},"cells_cut":0,"cells_raw":0,"read":"whole","date_system":"1900"}

{"sheet":"Menu","index":0,"n_rows":15,"n_cols":1,"rows_kept":15,"cut":false,"hidden":false,"merged":[]}
[]
[]
[]
[]
[]
[]
[]
[]
[]
[]
[]
[]
[]
[]
["                                             "]

{"sheet":"Historique Commande","index":1,"n_rows":4885,"n_cols":9,"rows_kept":4885,"cut":false,"hidden":true,"merged":[]}
[null,null,null,null,null,null,null,{"$f":"IF(ISNA(VLOOKUP(\"Retard\",I3:I4952,1,FALSE)),\"OK\",VLOOKUP(\"Retard\",I3:I4952,1,FALSE))","v":"Retard"},{"$f":"TODAY()","v":"2021-06-01"}]
["N°Co","Saisi Par","Lieu de vie","Réf Produit","Quantité","Date de commande","Date livraison prévue","Date réception","Etat"]
["A-2021-001","ALBANHAC Magde",null,"Gants Vinyle S","20","2021-05-13","2021-05-13","2021-12-12",{"$f":"IF(F3=\"\",\"\",IF(H3<>\"\",\"OK\",IF(AND(G3<>\"\",G3<TODAY()),\"Retard\",\"Attente de Livraison\")))","v":"OK"}]
["A-2021-002","ALBANHAC Magde","LV 1","Gants Vinyle Taille L","20","2021-05-13","2021-05-13","2021-12-12",{"$f":"IF(F4=\"\",\"\",IF(H4<>\"\",\"OK\",IF(AND(G4<>\"\",G4<TODAY()),\"Retard\",\"Attente de Livraison\")))","v":"OK"}]
["A-2021-003","ARNAUD Cédric","LV 5","Gants Vinyle Taille L","10","2021-05-28","2021-05-14","2021-12-13","OK"]
["A-2021-004","ALET-AUREJAC Nadine","LV 1","Gants Vinyle Taille M","20","2021-05-28","2021-05-15","2021-12-14","OK"]
["A-2021-004","ALET-AUREJAC Nadine","LV 1","Gants Nitrile Taille S","10","2021-05-28","2021-05-16","2021-12-15","OK"]
["A-2021-005","ALle ","LV 1","Gants Vinyle S","20","2021-05-28","2021-05-17","2021-12-16","OK"]
["A-2021-005","ALle ","LV 1","Gants Vinyle S","10","2021-05-28","2021-05-18","2021-12-17","OK"]
["A-2021-006","ALET-AUREJAC Nadine","LV 1","Gants Vinyle Taille M","10","2021-05-28","2021-05-19","2021-12-18","OK"]
["A-2021-007","ALBANHAC Magde","LV 1","Gants Vinyle S","25","2021-05-28","2021-05-20","2021-12-19","OK"]
["A-2021-008","ALBINET Claudine","LV 1","Gants Vinyle Taille M","25","2021-05-28","2021-05-21","2021-12-20","OK"]
["A-2021-008","ALBINET Claudine","LV 1","Gants Vinyle Taille M","10","2021-05-28","2021-05-22","2021-12-21","OK"]
["A-2021-009","ALET-AUREJAC Nadine","LV 1","Gants Nitrile Taille S","25","2021-05-28","2021-05-23","2021-12-22","OK"]
["A-2021-010","ALBINET Claudine","LV 1","Gants Vinyle Taille M","10","2021-05-28","2021-05-24","2021-12-23","OK"]
["A-2021-011","ALBANHAC Magde","LV 1","Gants Vinyle Taille M","5","2021-05-28","2021-05-25","2021-12-24","OK"]
["A-2021-012","ALET-AUREJAC Nadine","LV 1","Gants Vinyle Taille M","10","2021-05-28","2021-05-26","2021-12-25","OK"]
["A-2021-013","ALBINET Claudine","LV 1","Gants Vinyle Taille M","1000","2021-05-28","2021-05-27","2021-12-26","OK"]
["A-2021-014","ALBINET Claudine","LV 1","Gants Vinyle Taille M","10","2021-05-13","2021-05-28","2021-12-27","OK"]
["A-2021-015","ALBANHAC Magde","LV 1","Gants Vinyle Taille L","12","2021-05-20","2021-05-21",null,{"$f":"IF(F20=\"\",\"\",IF(H20<>\"\",\"OK\",IF(AND(G20<>\"\",G20<TODAY()),\"Retard\",\"Attente de Livraison\")))","v":"Retard"}]
["A-2021-016","ALBINET Claudine","LV 5","Gants Vinyle Taille M","10","2021-05-13",null,null,{"$f":"IF(F21=\"\",\"\",IF(H21<>\"\",\"OK\",IF(AND(#REF!<>\"\",#REF!<TODAY()),\"Retard\",\"Attente de Livraison\")))","v":{"$error":"#REF!"}}]
["A-2021-017","ALBINET Claudine","LV 1","Gants Vinyle Taille M","10","2021-05-13",null,null,{"$f":"IF(F22=\"\",\"\",IF(H22<>\"\",\"OK\",IF(AND(#REF!<>\"\",#REF!<TODAY()),\"Retard\",\"Attente de Livraison\")))","v":{"$error":"#REF!"}}]
["A-2021-018","ALle ","LV 1","Gants Vinyle Taille L","10","2021-05-13",null,null,{"$f":"IF(F23=\"\",\"\",IF(H23<>\"\",\"OK\",IF(AND(#REF!<>\"\",#REF!<TODAY()),\"Retard\",\"Attente de Livraison\")))","v":{"$error":"#REF!"}}]
["A-2021-019","ALET-AUREJAC Nadine","LV 1","Gants Vinyle S","10","2021-05-13",null,null,{"$f":"IF(F24=\"\",\"\",IF(H24<>\"\",\"OK\",IF(AND(#REF!<>\"\",#REF!<TODAY()),\"Retard\",\"Attente de Livraison\")))","v":{"$error":"#REF!"}}]
["A-2021-020","ALle ","LV 1","Gants Vinyle Taille M","20","2021-05-19",null,null,{"$f":"IF(F25=\"\",\"\",IF(H25<>\"\",\"OK\",IF(AND(#REF!<>\"\",#REF!<TODAY()),\"Retard\",\"Attente de Livraison\")))","v":{"$error":"#REF!"}}]
[null,null,null,null,null,null,null,null,{"$f":"IF(F26=\"\",\"\",IF(H26<>\"\",\"OK\",IF(AND(#REF!<>\"\",#REF!<TODAY()),\"Retard\",\"Attente de Livraison\")))","v":""}]
[null,null,null,null,null,null,null,null,{"$f":"IF(F27=\"\",\"\",IF(H27<>\"\",\"OK\",IF(AND(#REF!<>\"\",#REF!<TODAY()),\"Retard\",\"Attente de Livraison\")))","v":""}]
[null,null,null,null,null,null,null,null,{"$f":"IF(F28=\"\",\"\",IF(H28<>\"\",\"OK\",IF(AND(#REF!<>\"\",#REF!<TODAY()),\"Retard\",\"Attente de Livraison\")))","v":""}]
[null,null,null,null,null,null,null,null,{"$f":"IF(F29=\"\",\"\",IF(H29<>\"\",\"OK\",IF(AND(#REF!<>\"\",#REF!<TODAY()),\"Retard\",\"Attente de Livraison\")))","v":""}]
[null,null,null,null,null,null,null,null,{"$f":"IF(F30=\"\",\"\",IF(H30<>\"\",\"OK\",IF(AND(#REF!<>\"\",#REF!<TODAY()),\"Retard\",\"Attente de Livraison\")))","v":""}]
[null,null,null,null,null,null,null,null,{"$f":"IF(F31=\"\",\"\",IF(H31<>\"\",\"OK\",IF(AND(#REF!<>\"\",#REF!<TODAY()),\"Retard\",\"Attente de Livraison\")))","v":""}]
[null,null,null,null,null,null,null,null,{"$f":"IF(F32=\"\",\"\",IF(H32<>\"\",\"OK\",IF(AND(#REF!<>\"\",#REF!<TODAY()),\"Retard\",\"Attente de Livraison\")))","v":""}]
[null,null,null,null,null,null,null,null,{"$f":"IF(F33=\"\",\"\",IF(H33<>\"\",\"OK\",IF(AND(#REF!<>\"\",#REF!<TODAY()),\"Retard\",\"Attente de Livraison\")))","v":""}]
[null,null,null,null,null,null,null,null,{"$f":"IF(F34=\"\",\"\",IF(H34<>\"\",\"OK\",IF(AND(#REF!<>\"\",#REF!<TODAY()),\"Retard\",\"Attente de Livraison\")))","v":""}]
[null,null,null,null,null,null,null,null,{"$f":"IF(F35=\"\",\"\",IF(H35<>\"\",\"OK\",IF(AND(#REF!<>\"\",#REF!<TODAY()),\"Retard\",\"Attente de Livraison\")))","v":""}]
[null,null,null,null,null,null,null,null,{"$f":"IF(F36=\"\",\"\",IF(H36<>\"\",\"OK\",IF(AND(#REF!<>\"\",#REF!<TODAY()),\"Retard\",\"Attente de Livraison\")))","v":""}]
[null,null,null,null,null,null,null,null,{"$f":"IF(F37=\"\",\"\",IF(H37<>\"\",\"OK\",IF(AND(#REF!<>\"\",#REF!<TODAY()),\"Retard\",\"Attente de Livraison\")))","v":""}]
[null,null,null,null,null,null,null,null,{"$f":"IF(F38=\"\",\"\",IF(H38<>\"\",\"OK\",IF(AND(#REF!<>\"\",#REF!<TODAY()),\"Retard\",\"Attente de Livraison\")))","v":""}]
[null,null,null,null,null,null,null,null,{"$f":"IF(F39=\"\",\"\",IF(H39<>\"\",\"OK\",IF(AND(#REF!<>\"\",#REF!<TODAY()),\"Retard\",\"Attente de Livraison\")))","v":""}]
[null,null,null,null,null,null,null,null,{"$f":"IF(F40=\"\",\"\",IF(H40<>\"\",\"OK\",IF(AND(#REF!<>\"\",#REF!<TODAY()),\"Retard\",\"Attente de Livraison\")))","v":""}]
[null,null,null,null,null,null,null,null,{"$f":"IF(F41=\"\",\"\",IF(H41<>\"\",\"OK\",IF(AND(#REF!<>\"\",#REF!<TODAY()),\"Retard\",\"Attente de Livraison\")))","v":""}]
[null,null,null,null,null,null,null,null,{"$f":"IF(F42=\"\",\"\",IF(H42<>\"\",\"OK\",IF(AND(#REF!<>\"\",#REF!<TODAY()),\"Retard\",\"Attente de Livraison\")))","v":""}]
[null,null,null,null,null,null,null,null,{"$f":"IF(F43=\"\",\"\",IF(H43<>\"\",\"OK\",IF(AND(#REF!<>\"\",#REF!<TODAY()),\"Retard\",\"Attente de Livraison\")))","v":""}]
[null,null,null,null,null,null,null,null,{"$f":"IF(F44=\"\",\"\",IF(H44<>\"\",\"OK\",IF(AND(#REF!<>\"\",#REF!<TODAY()),\"Retard\",\"Attente de Livraison\")))","v":""}]
[null,null,null,null,null,null,null,null,{"$f":"IF(F45=\"\",\"\",IF(H45<>\"\",\"OK\",IF(AND(#REF!<>\"\",#REF!<TODAY()),\"Retard\",\"Attente de Livraison\")))","v":""}]
[null,null,null,null,null,null,null,null,{"$f":"IF(F46=\"\",\"\",IF(H46<>\"\",\"OK\",IF(AND(#REF!<>\"\",#REF!<TODAY()),\"Retard\",\"Attente de Livraison\")))","v":""}]
[null,null,null,null,null,null,null,null,{"$f":"IF(F47=\"\",\"\",IF(H47<>\"\",\"OK\",IF(AND(#REF!<>\"\",#REF!<TODAY()),\"Retard\",\"Attente de Livraison\")))","v":""}]
[null,null,null,null,null,null,null,null,{"$f":"IF(F48=\"\",\"\",IF(H48<>\"\",\"OK\",IF(AND(#REF!<>\"\",#REF!<TODAY()),\"Retard\",\"Attente de Livraison\")))","v":""}]
[null,null,null,null,null,null,null,null,{"$f":"IF(F49=\"\",\"\",IF(H49<>\"\",\"OK\",IF(AND(#REF!<>\"\",#REF!<TODAY()),\"Retard\",\"Attente de Livraison\")))","v":""}]
[null,null,null,null,null,null,null,null,{"$f":"IF(F50=\"\",\"\",IF(H50<>\"\",\"OK\",IF(AND(#REF!<>\"\",#REF!<TODAY()),\"Retard\",\"Attente de Livraison\")))","v":""}]
[null,null,null,null,null,null,null,null,{"$f":"IF(F51=\"\",\"\",IF(H51<>\"\",\"OK\",IF(AND(#REF!<>\"\",#REF!<TODAY()),\"Retard\",\"Attente de Livraison\")))","v":""}]
[null,null,null,null,null,null,null,null,{"$f":"IF(F52=\"\",\"\",IF(H52<>\"\",\"OK\",IF(AND(#REF!<>\"\",#REF!<TODAY()),\"Retard\",\"Attente de Livraison\")))","v":""}]
[null,null,null,null,null,null,null,null,{"$f":"IF(F53=\"\",\"\",IF(H53<>\"\",\"OK\",IF(AND(#REF!<>\"\",#REF!<TODAY()),\"Retard\",\"Attente de Livraison\")))","v":""}]
[null,null,null,null,null,null,null,null,{"$f":"IF(F54=\"\",\"\",IF(H54<>\"\",\"OK\",IF(AND(#REF!<>\"\",#REF!<TODAY()),\"Retard\",\"Attente de Livraison\")))","v":""}]
[null,null,null,null,null,null,null,null,{"$f":"IF(F55=\"\",\"\",IF(H55<>\"\",\"OK\",IF(AND(#REF!<>\"\",#REF!<TODAY()),\"Retard\",\"Attente de Livraison\")))","v":""}]
[null,null,null,null,null,null,null,null,{"$f":"IF(F56=\"\",\"\",IF(H56<>\"\",\"OK\",IF(AND(#REF!<>\"\",#REF!<TODAY()),\"Retard\",\"Attente de Livraison\")))","v":""}]
[null,null,null,null,null,null,null,null,{"$f":"IF(F57=\"\",\"\",IF(H57<>\"\",\"OK\",IF(AND(#REF!<>\"\",#REF!<TODAY()),\"Retard\",\"Attente de Livraison\")))","v":""}]
[null,null,null,null,null,null,null,null,{"$f":"IF(F58=\"\",\"\",IF(H58<>\"\",\"OK\",IF(AND(#REF!<>\"\",#REF!<TODAY()),\"Retard\",\"Attente de Livraison\")))","v":""}]
[null,null,null,null,null,null,null,null,{"$f":"IF(F59=\"\",\"\",IF(H59<>\"\",\"OK\",IF(AND(#REF!<>\"\",#REF!<TODAY()),\"Retard\",\"Attente de Livraison\")))","v":""}]
[null,null,null,null,null,null,null,null,{"$f":"IF(F60=\"\",\"\",IF(H60<>\"\",\"OK\",IF(AND(#REF!<>\"\",#REF!<TODAY()),\"Retard\",\"Attente de Livraison\")))","v":""}]
[null,null,null,null,null,null,null,null,{"$f":"IF(F61=\"\",\"\",IF(H61<>\"\",\"OK\",IF(AND(#REF!<>\"\",#REF!<TODAY()),\"Retard\",\"Attente de Livraison\")))","v":""}]
[null,null,null,null,null,null,null,null,{"$f":"IF(F62=\"\",\"\",IF(H62<>\"\",\"OK\",IF(AND(#REF!<>\"\",#REF!<TODAY()),\"Retard\",\"Attente de Livraison\")))","v":""}]
[null,null,null,null,null,null,null,null,{"$f":"IF(F63=\"\",\"\",IF(H63<>\"\",\"OK\",IF(AND(#REF!<>\"\",#REF!<TODAY()),\"Retard\",\"Attente de Livraison\")))","v":""}]
[null,null,null,null,null,null,null,null,{"$f":"IF(F64=\"\",\"\",IF(H64<>\"\",\"OK\",IF(AND(#REF!<>\"\",#REF!<TODAY()),\"Retard\",\"Attente de Livraison\")))","v":""}]
[null,null,null,null,null,null,null,null,{"$f":"IF(F65=\"\",\"\",IF(H65<>\"\",\"OK\",IF(AND(#REF!<>\"\",#REF!<TODAY()),\"Retard\",\"Attente de Livraison\")))","v":""}]
[null,null,null,null,null,null,null,null,{"$f":"IF(F66=\"\",\"\",IF(H66<>\"\",\"OK\",IF(AND(#REF!<>\"\",#REF!<TODAY()),\"Retard\",\"Attente de Livraison\")))","v":""}]
[null,null,null,null,null,null,null,null,{"$f":"IF(F67=\"\",\"\",IF(H67<>\"\",\"OK\",IF(AND(#REF!<>\"\",#REF!<TODAY()),\"Retard\",\"Attente de Livraison\")))","v":""}]
[null,null,null,null,null,null,null,null,{"$f":"IF(F68=\"\",\"\",IF(H68<>\"\",\"OK\",IF(AND(#REF!<>\"\",#REF!<TODAY()),\"Retard\",\"Attente de Livraison\")))","v":""}]
[null,null,null,null,null,null,null,null,{"$f":"IF(F69=\"\",\"\",IF(H69<>\"\",\"OK\",IF(AND(#REF!<>\"\",#REF!<TODAY()),\"Retard\",\"Attente de Livraison\")))","v":""}]
[null,null,null,null,null,null,null,null,{"$f":"IF(F70=\"\",\"\",IF(H70<>\"\",\"OK\",IF(AND(#REF!<>\"\",#REF!<TODAY()),\"Retard\",\"Attente de Livraison\")))","v":""}]
[null,null,null,null,null,null,null,null,{"$f":"IF(F71=\"\",\"\",IF(H71<>\"\",\"OK\",IF(AND(#REF!<>\"\",#REF!<TODAY()),\"Retard\",\"Attente de Livraison\")))","v":""}]
[null,null,null,null,null,null,null,null,{"$f":"IF(F72=\"\",\"\",IF(H72<>\"\",\"OK\",IF(AND(#REF!<>\"\",#REF!<TODAY()),\"Retard\",\"Attente de Livraison\")))","v":""}]
[null,null,null,null,null,null,null,null,{"$f":"IF(F73=\"\",\"\",IF(H73<>\"\",\"OK\",IF(AND(#REF!<>\"\",#REF!<TODAY()),\"Retard\",\"Attente de Livraison\")))","v":""}]
[null,null,null,null,null,null,null,null,{"$f":"IF(F74=\"\",\"\",IF(H74<>\"\",\"OK\",IF(AND(#REF!<>\"\",#REF!<TODAY()),\"Retard\",\"Attente de Livraison\")))","v":""}]
[null,null,null,null,null,null,null,null,{"$f":"IF(F75=\"\",\"\",IF(H75<>\"\",\"OK\",IF(AND(#REF!<>\"\",#REF!<TODAY()),\"Retard\",\"Attente de Livraison\")))","v":""}]
[null,null,null,null,null,null,null,null,{"$f":"IF(F76=\"\",\"\",IF(H76<>\"\",\"OK\",IF(AND(#REF!<>\"\",#REF!<TODAY()),\"Retard\",\"Attente de Livraison\")))","v":""}]
[null,null,null,null,null,null,null,null,{"$f":"IF(F77=\"\",\"\",IF(H77<>\"\",\"OK\",IF(AND(#REF!<>\"\",#REF!<TODAY()),\"Retard\",\"Attente de Livraison\")))","v":""}]
[null,null,null,null,null,null,null,null,{"$f":"IF(F78=\"\",\"\",IF(H78<>\"\",\"OK\",IF(AND(#REF!<>\"\",#REF!<TODAY()),\"Retard\",\"Attente de Livraison\")))","v":""}]
[null,null,null,null,null,null,null,null,{"$f":"IF(F79=\"\",\"\",IF(H79<>\"\",\"OK\",IF(AND(#REF!<>\"\",#REF!<TODAY()),\"Retard\",\"Attente de Livraison\")))","v":""}]
[null,null,null,null,null,null,null,null,{"$f":"IF(F80=\"\",\"\",IF(H80<>\"\",\"OK\",IF(AND(#REF!<>\"\",#REF!<TODAY()),\"Retard\",\"Attente de Livraison\")))","v":""}]
[null,null,null,null,null,null,null,null,{"$f":"IF(F81=\"\",\"\",IF(H81<>\"\",\"OK\",IF(AND(#REF!<>\"\",#REF!<TODAY()),\"Retard\",\"Attente de Livraison\")))","v":""}]
[null,null,null,null,null,null,null,null,{"$f":"IF(F82=\"\",\"\",IF(H82<>\"\",\"OK\",IF(AND(#REF!<>\"\",#REF!<TODAY()),\"Retard\",\"Attente de Livraison\")))","v":""}]
[null,null,null,null,null,null,null,null,{"$f":"IF(F83=\"\",\"\",IF(H83<>\"\",\"OK\",IF(AND(#REF!<>\"\",#REF!<TODAY()),\"Retard\",\"Attente de Livraison\")))","v":""}]
[null,null,null,null,null,null,null,null,{"$f":"IF(F84=\"\",\"\",IF(H84<>\"\",\"OK\",IF(AND(#REF!<>\"\",#REF!<TODAY()),\"Retard\",\"Attente de Livraison\")))","v":""}]
[null,null,null,null,null,null,null,null,{"$f":"IF(F85=\"\",\"\",IF(H85<>\"\",\"OK\",IF(AND(#REF!<>\"\",#REF!<TODAY()),\"Retard\",\"Attente de Livraison\")))","v":""}]
[null,null,null,null,null,null,null,null,{"$f":"IF(F86=\"\",\"\",IF(H86<>\"\",\"OK\",IF(AND(#REF!<>\"\",#REF!<TODAY()),\"Retard\",\"Attente de Livraison\")))","v":""}]
[null,null,null,null,null,null,null,null,{"$f":"IF(F87=\"\",\"\",IF(H87<>\"\",\"OK\",IF(AND(#REF!<>\"\",#REF!<TODAY()),\"Retard\",\"Attente de Livraison\")))","v":""}]
[null,null,null,null,null,null,null,null,{"$f":"IF(F88=\"\",\"\",IF(H88<>\"\",\"OK\",IF(AND(#REF!<>\"\",#REF!<TODAY()),\"Retard\",\"Attente de Livraison\")))","v":""}]
[null,null,null,null,null,null,null,null,{"$f":"IF(F89=\"\",\"\",IF(H89<>\"\",\"OK\",IF(AND(#REF!<>\"\",#REF!<TODAY()),\"Retard\",\"Attente de Livraison\")))","v":""}]
[null,null,null,null,null,null,null,null,{"$f":"IF(F90=\"\",\"\",IF(H90<>\"\",\"OK\",IF(AND(#REF!<>\"\",#REF!<TODAY()),\"Retard\",\"Attente de Livraison\")))","v":""}]
[null,null,null,null,null,null,null,null,{"$f":"IF(F91=\"\",\"\",IF(H91<>\"\",\"OK\",IF(AND(#REF!<>\"\",#REF!<TODAY()),\"Retard\",\"Attente de Livraison\")))","v":""}]
[null,null,null,null,null,null,null,null,{"$f":"IF(F92=\"\",\"\",IF(H92<>\"\",\"OK\",IF(AND(#REF!<>\"\",#REF!<TODAY()),\"Retard\",\"Attente de Livraison\")))","v":""}]
[null,null,null,null,null,null,null,null,{"$f":"IF(F93=\"\",\"\",IF(H93<>\"\",\"OK\",IF(AND(#REF!<>\"\",#REF!<TODAY()),\"Retard\",\"Attente de Livraison\")))","v":""}]
[null,null,null,null,null,null,null,null,{"$f":"IF(F94=\"\",\"\",IF(H94<>\"\",\"OK\",IF(AND(#REF!<>\"\",#REF!<TODAY()),\"Retard\",\"Attente de Livraison\")))","v":""}]
[null,null,null,null,null,null,null,null,{"$f":"IF(F95=\"\",\"\",IF(H95<>\"\",\"OK\",IF(AND(#REF!<>\"\",#REF!<TODAY()),\"Retard\",\"Attente de Livraison\")))","v":""}]
[null,null,null,null,null,null,null,null,{"$f":"IF(F96=\"\",\"\",IF(H96<>\"\",\"OK\",IF(AND(#REF!<>\"\",#REF!<TODAY()),\"Retard\",\"Attente de Livraison\")))","v":""}]
[null,null,null,null,null,null,null,null,{"$f":"IF(F97=\"\",\"\",IF(H97<>\"\",\"OK\",IF(AND(#REF!<>\"\",#REF!<TODAY()),\"Retard\",\"Attente de Livraison\")))","v":""}]
[null,null,null,null,null,null,null,null,{"$f":"IF(F98=\"\",\"\",IF(H98<>\"\",\"OK\",IF(AND(#REF!<>\"\",#REF!<TODAY()),\"Retard\",\"Attente de Livraison\")))","v":""}]
[null,null,null,null,null,null,null,null,{"$f":"IF(F99=\"\",\"\",IF(H99<>\"\",\"OK\",IF(AND(#REF!<>\"\",#REF!<TODAY()),\"Retard\",\"Attente de Livraison\")))","v":""}]
[null,null,null,null,null,null,null,null,{"$f":"IF(F100=\"\",\"\",IF(H100<>\"\",\"OK\",IF(AND(#REF!<>\"\",#REF!<TODAY()),\"Retard\",\"Attente de Livraison\")))","v":""}]
[null,null,null,null,null,null,null,null,{"$f":"IF(F101=\"\",\"\",IF(H101<>\"\",\"OK\",IF(AND(#REF!<>\"\",#REF!<TODAY()),\"Retard\",\"Attente de Livraison\")))","v":""}]
[null,null,null,null,null,null,null,null,{"$f":"IF(F102=\"\",\"\",IF(H102<>\"\",\"OK\",IF(AND(#REF!<>\"\",#REF!<TODAY()),\"Retard\",\"Attente de Livraison\")))","v":""}]
[null,null,null,null,null,null,null,null,{"$f":"IF(F103=\"\",\"\",IF(H103<>\"\",\"OK\",IF(AND(#REF!<>\"\",#REF!<TODAY()),\"Retard\",\"Attente de Livraison\")))","v":""}]
[null,null,null,null,null,null,null,null,{"$f":"IF(F104=\"\",\"\",IF(H104<>\"\",\"OK\",IF(AND(#REF!<>\"\",#REF!<TODAY()),\"Retard\",\"Attente de Livraison\")))","v":""}]
[null,null,null,null,null,null,null,null,{"$f":"IF(F105=\"\",\"\",IF(H105<>\"\",\"OK\",IF(AND(#REF!<>\"\",#REF!<TODAY()),\"Retard\",\"Attente de Livraison\")))","v":""}]
[null,null,null,null,null,null,null,null,{"$f":"IF(F106=\"\",\"\",IF(H106<>\"\",\"OK\",IF(AND(#REF!<>\"\",#REF!<TODAY()),\"Retard\",\"Attente de Livraison\")))","v":""}]
[null,null,null,null,null,null,null,null,{"$f":"IF(F107=\"\",\"\",IF(H107<>\"\",\"OK\",IF(AND(#REF!<>\"\",#REF!<TODAY()),\"Retard\",\"Attente de Livraison\")))","v":""}]
[null,null,null,null,null,null,null,null,{"$f":"IF(F108=\"\",\"\",IF(H108<>\"\",\"OK\",IF(AND(#REF!<>\"\",#REF!<TODAY()),\"Retard\",\"Attente de Livraison\")))","v":""}]
[null,null,null,null,null,null,null,null,{"$f":"IF(F109=\"\",\"\",IF(H109<>\"\",\"OK\",IF(AND(#REF!<>\"\",#REF!<TODAY()),\"Retard\",\"Attente de Livraison\")))","v":""}]
[null,null,null,null,null,null,null,null,{"$f":"IF(F110=\"\",\"\",IF(H110<>\"\",\"OK\",IF(AND(#REF!<>\"\",#REF!<TODAY()),\"Retard\",\"Attente de Livraison\")))","v":""}]
[null,null,null,null,null,null,null,null,{"$f":"IF(F111=\"\",\"\",IF(H111<>\"\",\"OK\",IF(AND(#REF!<>\"\",#REF!<TODAY()),\"Retard\",\"Attente de Livraison\")))","v":""}]
[null,null,null,null,null,null,null,null,{"$f":"IF(F112=\"\",\"\",IF(H112<>\"\",\"OK\",IF(AND(#REF!<>\"\",#REF!<TODAY()),\"Retard\",\"Attente de Livraison\")))","v":""}]
[null,null,null,null,null,null,null,null,{"$f":"IF(F113=\"\",\"\",IF(H113<>\"\",\"OK\",IF(AND(#REF!<>\"\",#REF!<TODAY()),\"Retard\",\"Attente de Livraison\")))","v":""}]
[null,null,null,null,null,null,null,null,{"$f":"IF(F114=\"\",\"\",IF(H114<>\"\",\"OK\",IF(AND(#REF!<>\"\",#REF!<TODAY()),\"Retard\",\"Attente de Livraison\")))","v":""}]
[null,null,null,null,null,null,null,null,{"$f":"IF(F115=\"\",\"\",IF(H115<>\"\",\"OK\",IF(AND(#REF!<>\"\",#REF!<TODAY()),\"Retard\",\"Attente de Livraison\")))","v":""}]
[null,null,null,null,null,null,null,null,{"$f":"IF(F116=\"\",\"\",IF(H116<>\"\",\"OK\",IF(AND(#REF!<>\"\",#REF!<TODAY()),\"Retard\",\"Attente de Livraison\")))","v":""}]
[null,null,null,null,null,null,null,null,{"$f":"IF(F117=\"\",\"\",IF(H117<>\"\",\"OK\",IF(AND(#REF!<>\"\",#REF!<TODAY()),\"Retard\",\"Attente de Livraison\")))","v":""}]
[null,null,null,null,null,null,null,null,{"$f":"IF(F118=\"\",\"\",IF(H118<>\"\",\"OK\",IF(AND(#REF!<>\"\",#REF!<TODAY()),\"Retard\",\"Attente de Livraison\")))","v":""}]
[null,null,null,null,null,null,null,null,{"$f":"IF(F119=\"\",\"\",IF(H119<>\"\",\"OK\",IF(AND(#REF!<>\"\",#REF!<TODAY()),\"Retard\",\"Attente de Livraison\")))","v":""}]
[null,null,null,null,null,null,null,null,{"$f":"IF(F120=\"\",\"\",IF(H120<>\"\",\"OK\",IF(AND(#REF!<>\"\",#REF!<TODAY()),\"Retard\",\"Attente de Livraison\")))","v":""}]
[null,null,null,null,null,null,null,null,{"$f":"IF(F121=\"\",\"\",IF(H121<>\"\",\"OK\",IF(AND(#REF!<>\"\",#REF!<TODAY()),\"Retard\",\"Attente de Livraison\")))","v":""}]
[null,null,null,null,null,null,null,null,{"$f":"IF(F122=\"\",\"\",IF(H122<>\"\",\"OK\",IF(AND(#REF!<>\"\",#REF!<TODAY()),\"Retard\",\"Attente de Livraison\")))","v":""}]
[null,null,null,null,null,null,null,null,{"$f":"IF(F123=\"\",\"\",IF(H123<>\"\",\"OK\",IF(AND(#REF!<>\"\",#REF!<TODAY()),\"Retard\",\"Attente de Livraison\")))","v":""}]
[null,null,null,null,null,null,null,null,{"$f":"IF(F124=\"\",\"\",IF(H124<>\"\",\"OK\",IF(AND(#REF!<>\"\",#REF!<TODAY()),\"Retard\",\"Attente de Livraison\")))","v":""}]
[null,null,null,null,null,null,null,null,{"$f":"IF(F125=\"\",\"\",IF(H125<>\"\",\"OK\",IF(AND(#REF!<>\"\",#REF!<TODAY()),\"Retard\",\"Attente de Livraison\")))","v":""}]
[null,null,null,null,null,null,null,null,{"$f":"IF(F126=\"\",\"\",IF(H126<>\"\",\"OK\",IF(AND(#REF!<>\"\",#REF!<TODAY()),\"Retard\",\"Attente de Livraison\")))","v":""}]
[null,null,null,null,null,null,null,null,{"$f":"IF(F127=\"\",\"\",IF(H127<>\"\",\"OK\",IF(AND(#REF!<>\"\",#REF!<TODAY()),\"Retard\",\"Attente de Livraison\")))","v":""}]
[null,null,null,null,null,null,null,null,{"$f":"IF(F128=\"\",\"\",IF(H128<>\"\",\"OK\",IF(AND(#REF!<>\"\",#REF!<TODAY()),\"Retard\",\"Attente de Livraison\")))","v":""}]
[null,null,null,null,null,null,null,null,{"$f":"IF(F129=\"\",\"\",IF(H129<>\"\",\"OK\",IF(AND(#REF!<>\"\",#REF!<TODAY()),\"Retard\",\"Attente de Livraison\")))","v":""}]
[null,null,null,null,null,null,null,null,{"$f":"IF(F130=\"\",\"\",IF(H130<>\"\",\"OK\",IF(AND(#REF!<>\"\",#REF!<TODAY()),\"Retard\",\"Attente de Livraison\")))","v":""}]
[null,null,null,null,null,null,null,null,{"$f":"IF(F131=\"\",\"\",IF(H131<>\"\",\"OK\",IF(AND(#REF!<>\"\",#REF!<TODAY()),\"Retard\",\"Attente de Livraison\")))","v":""}]
[null,null,null,null,null,null,null,null,{"$f":"IF(F132=\"\",\"\",IF(H132<>\"\",\"OK\",IF(AND(#REF!<>\"\",#REF!<TODAY()),\"Retard\",\"Attente de Livraison\")))","v":""}]
[null,null,null,null,null,null,null,null,{"$f":"IF(F133=\"\",\"\",IF(H133<>\"\",\"OK\",IF(AND(#REF!<>\"\",#REF!<TODAY()),\"Retard\",\"Attente de Livraison\")))","v":""}]
[null,null,null,null,null,null,null,null,{"$f":"IF(F134=\"\",\"\",IF(H134<>\"\",\"OK\",IF(AND(#REF!<>\"\",#REF!<TODAY()),\"Retard\",\"Attente de Livraison\")))","v":""}]
[null,null,null,null,null,null,null,null,{"$f":"IF(F135=\"\",\"\",IF(H135<>\"\",\"OK\",IF(AND(#REF!<>\"\",#REF!<TODAY()),\"Retard\",\"Attente de Livraison\")))","v":""}]
[null,null,null,null,null,null,null,null,{"$f":"IF(F136=\"\",\"\",IF(H136<>\"\",\"OK\",IF(AND(#REF!<>\"\",#REF!<TODAY()),\"Retard\",\"Attente de Livraison\")))","v":""}]
[null,null,null,null,null,null,null,null,{"$f":"IF(F137=\"\",\"\",IF(H137<>\"\",\"OK\",IF(AND(#REF!<>\"\",#REF!<TODAY()),\"Retard\",\"Attente de Livraison\")))","v":""}]
[null,null,null,null,null,null,null,null,{"$f":"IF(F138=\"\",\"\",IF(H138<>\"\",\"OK\",IF(AND(#REF!<>\"\",#REF!<TODAY()),\"Retard\",\"Attente de Livraison\")))","v":""}]
[null,null,null,null,null,null,null,null,{"$f":"IF(F139=\"\",\"\",IF(H139<>\"\",\"OK\",IF(AND(#REF!<>\"\",#REF!<TODAY()),\"Retard\",\"Attente de Livraison\")))","v":""}]
[null,null,null,null,null,null,null,null,{"$f":"IF(F140=\"\",\"\",IF(H140<>\"\",\"OK\",IF(AND(#REF!<>\"\",#REF!<TODAY()),\"Retard\",\"Attente de Livraison\")))","v":""}]
[null,null,null,null,null,null,null,null,{"$f":"IF(F141=\"\",\"\",IF(H141<>\"\",\"OK\",IF(AND(#REF!<>\"\",#REF!<TODAY()),\"Retard\",\"Attente de Livraison\")))","v":""}]
[null,null,null,null,null,null,null,null,{"$f":"IF(F142=\"\",\"\",IF(H142<>\"\",\"OK\",IF(AND(#REF!<>\"\",#REF!<TODAY()),\"Retard\",\"Attente de Livraison\")))","v":""}]
[null,null,null,null,null,null,null,null,{"$f":"IF(F143=\"\",\"\",IF(H143<>\"\",\"OK\",IF(AND(#REF!<>\"\",#REF!<TODAY()),\"Retard\",\"Attente de Livraison\")))","v":""}]
[null,null,null,null,null,null,null,null,{"$f":"IF(F144=\"\",\"\",IF(H144<>\"\",\"OK\",IF(AND(#REF!<>\"\",#REF!<TODAY()),\"Retard\",\"Attente de Livraison\")))","v":""}]
[null,null,null,null,null,null,null,null,{"$f":"IF(F145=\"\",\"\",IF(H145<>\"\",\"OK\",IF(AND(#REF!<>\"\",#REF!<TODAY()),\"Retard\",\"Attente de Livraison\")))","v":""}]
[null,null,null,null,null,null,null,null,{"$f":"IF(F146=\"\",\"\",IF(H146<>\"\",\"OK\",IF(AND(#REF!<>\"\",#REF!<TODAY()),\"Retard\",\"Attente de Livraison\")))","v":""}]
[null,null,null,null,null,null,null,null,{"$f":"IF(F147=\"\",\"\",IF(H147<>\"\",\"OK\",IF(AND(#REF!<>\"\",#REF!<TODAY()),\"Retard\",\"Attente de Livraison\")))","v":""}]
[null,null,null,null,null,null,null,null,{"$f":"IF(F148=\"\",\"\",IF(H148<>\"\",\"OK\",IF(AND(#REF!<>\"\",#REF!<TODAY()),\"Retard\",\"Attente de Livraison\")))","v":""}]
[null,null,null,null,null,null,null,null,{"$f":"IF(F149=\"\",\"\",IF(H149<>\"\",\"OK\",IF(AND(#REF!<>\"\",#REF!<TODAY()),\"Retard\",\"Attente de Livraison\")))","v":""}]
[null,null,null,null,null,null,null,null,{"$f":"IF(F150=\"\",\"\",IF(H150<>\"\",\"OK\",IF(AND(#REF!<>\"\",#REF!<TODAY()),\"Retard\",\"Attente de Livraison\")))","v":""}]
[null,null,null,null,null,null,null,null,{"$f":"IF(F151=\"\",\"\",IF(H151<>\"\",\"OK\",IF(AND(#REF!<>\"\",#REF!<TODAY()),\"Retard\",\"Attente de Livraison\")))","v":""}]
[null,null,null,null,null,null,null,null,{"$f":"IF(F152=\"\",\"\",IF(H152<>\"\",\"OK\",IF(AND(#REF!<>\"\",#REF!<TODAY()),\"Retard\",\"Attente de Livraison\")))","v":""}]
[null,null,null,null,null,null,null,null,{"$f":"IF(F153=\"\",\"\",IF(H153<>\"\",\"OK\",IF(AND(#REF!<>\"\",#REF!<TODAY()),\"Retard\",\"Attente de Livraison\")))","v":""}]
[null,null,null,null,null,null,null,null,{"$f":"IF(F154=\"\",\"\",IF(H154<>\"\",\"OK\",IF(AND(#REF!<>\"\",#REF!<TODAY()),\"Retard\",\"Attente de Livraison\")))","v":""}]
[null,null,null,null,null,null,null,null,{"$f":"IF(F155=\"\",\"\",IF(H155<>\"\",\"OK\",IF(AND(#REF!<>\"\",#REF!<TODAY()),\"Retard\",\"Attente de Livraison\")))","v":""}]
[null,null,null,null,null,null,null,null,{"$f":"IF(F156=\"\",\"\",IF(H156<>\"\",\"OK\",IF(AND(#REF!<>\"\",#REF!<TODAY()),\"Retard\",\"Attente de Livraison\")))","v":""}]
[null,null,null,null,null,null,null,null,{"$f":"IF(F157=\"\",\"\",IF(H157<>\"\",\"OK\",IF(AND(#REF!<>\"\",#REF!<TODAY()),\"Retard\",\"Attente de Livraison\")))","v":""}]
[null,null,null,null,null,null,null,null,{"$f":"IF(F158=\"\",\"\",IF(H158<>\"\",\"OK\",IF(AND(#REF!<>\"\",#REF!<TODAY()),\"Retard\",\"Attente de Livraison\")))","v":""}]
[null,null,null,null,null,null,null,null,{"$f":"IF(F159=\"\",\"\",IF(H159<>\"\",\"OK\",IF(AND(#REF!<>\"\",#REF!<TODAY()),\"Retard\",\"Attente de Livraison\")))","v":""}]
[null,null,null,null,null,null,null,null,{"$f":"IF(F160=\"\",\"\",IF(H160<>\"\",\"OK\",IF(AND(#REF!<>\"\",#REF!<TODAY()),\"Retard\",\"Attente de Livraison\")))","v":""}]
[null,null,null,null,null,null,null,null,{"$f":"IF(F161=\"\",\"\",IF(H161<>\"\",\"OK\",IF(AND(#REF!<>\"\",#REF!<TODAY()),\"Retard\",\"Attente de Livraison\")))","v":""}]
[null,null,null,null,null,null,null,null,{"$f":"IF(F162=\"\",\"\",IF(H162<>\"\",\"OK\",IF(AND(#REF!<>\"\",#REF!<TODAY()),\"Retard\",\"Attente de Livraison\")))","v":""}]
[null,null,null,null,null,null,null,null,{"$f":"IF(F163=\"\",\"\",IF(H163<>\"\",\"OK\",IF(AND(#REF!<>\"\",#REF!<TODAY()),\"Retard\",\"Attente de Livraison\")))","v":""}]
[null,null,null,null,null,null,null,null,{"$f":"IF(F164=\"\",\"\",IF(H164<>\"\",\"OK\",IF(AND(#REF!<>\"\",#REF!<TODAY()),\"Retard\",\"Attente de Livraison\")))","v":""}]
[null,null,null,null,null,null,null,null,{"$f":"IF(F165=\"\",\"\",IF(H165<>\"\",\"OK\",IF(AND(#REF!<>\"\",#REF!<TODAY()),\"Retard\",\"Attente de Livraison\")))","v":""}]
[null,null,null,null,null,null,null,null,{"$f":"IF(F166=\"\",\"\",IF(H166<>\"\",\"OK\",IF(AND(#REF!<>\"\",#REF!<TODAY()),\"Retard\",\"Attente de Livraison\")))","v":""}]
[null,null,null,null,null,null,null,null,{"$f":"IF(F167=\"\",\"\",IF(H167<>\"\",\"OK\",IF(AND(#REF!<>\"\",#REF!<TODAY()),\"Retard\",\"Attente de Livraison\")))","v":""}]
[null,null,null,null,null,null,null,null,{"$f":"IF(F168=\"\",\"\",IF(H168<>\"\",\"OK\",IF(AND(#REF!<>\"\",#REF!<TODAY()),\"Retard\",\"Attente de Livraison\")))","v":""}]
[null,null,null,null,null,null,null,null,{"$f":"IF(F169=\"\",\"\",IF(H169<>\"\",\"OK\",IF(AND(#REF!<>\"\",#REF!<TODAY()),\"Retard\",\"Attente de Livraison\")))","v":""}]
[null,null,null,null,null,null,null,null,{"$f":"IF(F170=\"\",\"\",IF(H170<>\"\",\"OK\",IF(AND(#REF!<>\"\",#REF!<TODAY()),\"Retard\",\"Attente de Livraison\")))","v":""}]
[null,null,null,null,null,null,null,null,{"$f":"IF(F171=\"\",\"\",IF(H171<>\"\",\"OK\",IF(AND(#REF!<>\"\",#REF!<TODAY()),\"Retard\",\"Attente de Livraison\")))","v":""}]
[null,null,null,null,null,null,null,null,{"$f":"IF(F172=\"\",\"\",IF(H172<>\"\",\"OK\",IF(AND(#REF!<>\"\",#REF!<TODAY()),\"Retard\",\"Attente de Livraison\")))","v":""}]
[null,null,null,null,null,null,null,null,{"$f":"IF(F173=\"\",\"\",IF(H173<>\"\",\"OK\",IF(AND(#REF!<>\"\",#REF!<TODAY()),\"Retard\",\"Attente de Livraison\")))","v":""}]
[null,null,null,null,null,null,null,null,{"$f":"IF(F174=\"\",\"\",IF(H174<>\"\",\"OK\",IF(AND(#REF!<>\"\",#REF!<TODAY()),\"Retard\",\"Attente de Livraison\")))","v":""}]
[null,null,null,null,null,null,null,null,{"$f":"IF(F175=\"\",\"\",IF(H175<>\"\",\"OK\",IF(AND(#REF!<>\"\",#REF!<TODAY()),\"Retard\",\"Attente de Livraison\")))","v":""}]
[null,null,null,null,null,null,null,null,{"$f":"IF(F176=\"\",\"\",IF(H176<>\"\",\"OK\",IF(AND(#REF!<>\"\",#REF!<TODAY()),\"Retard\",\"Attente de Livraison\")))","v":""}]
[null,null,null,null,null,null,null,null,{"$f":"IF(F177=\"\",\"\",IF(H177<>\"\",\"OK\",IF(AND(#REF!<>\"\",#REF!<TODAY()),\"Retard\",\"Attente de Livraison\")))","v":""}]
[null,null,null,null,null,null,null,null,{"$f":"IF(F178=\"\",\"\",IF(H178<>\"\",\"OK\",IF(AND(#REF!<>\"\",#REF!<TODAY()),\"Retard\",\"Attente de Livraison\")))","v":""}]
[null,null,null,null,null,null,null,null,{"$f":"IF(F179=\"\",\"\",IF(H179<>\"\",\"OK\",IF(AND(#REF!<>\"\",#REF!<TODAY()),\"Retard\",\"Attente de Livraison\")))","v":""}]
[null,null,null,null,null,null,null,null,{"$f":"IF(F180=\"\",\"\",IF(H180<>\"\",\"OK\",IF(AND(#REF!<>\"\",#REF!<TODAY()),\"Retard\",\"Attente de Livraison\")))","v":""}]
[null,null,null,null,null,null,null,null,{"$f":"IF(F181=\"\",\"\",IF(H181<>\"\",\"OK\",IF(AND(#REF!<>\"\",#REF!<TODAY()),\"Retard\",\"Attente de Livraison\")))","v":""}]
[null,null,null,null,null,null,null,null,{"$f":"IF(F182=\"\",\"\",IF(H182<>\"\",\"OK\",IF(AND(#REF!<>\"\",#REF!<TODAY()),\"Retard\",\"Attente de Livraison\")))","v":""}]
[null,null,null,null,null,null,null,null,{"$f":"IF(F183=\"\",\"\",IF(H183<>\"\",\"OK\",IF(AND(#REF!<>\"\",#REF!<TODAY()),\"Retard\",\"Attente de Livraison\")))","v":""}]
[null,null,null,null,null,null,null,null,{"$f":"IF(F184=\"\",\"\",IF(H184<>\"\",\"OK\",IF(AND(#REF!<>\"\",#REF!<TODAY()),\"Retard\",\"Attente de Livraison\")))","v":""}]
[null,null,null,null,null,null,null,null,{"$f":"IF(F185=\"\",\"\",IF(H185<>\"\",\"OK\",IF(AND(#REF!<>\"\",#REF!<TODAY()),\"Retard\",\"Attente de Livraison\")))","v":""}]
[null,null,null,null,null,null,null,null,{"$f":"IF(F186=\"\",\"\",IF(H186<>\"\",\"OK\",IF(AND(#REF!<>\"\",#REF!<TODAY()),\"Retard\",\"Attente de Livraison\")))","v":""}]
[null,null,null,null,null,null,null,null,{"$f":"IF(F187=\"\",\"\",IF(H187<>\"\",\"OK\",IF(AND(#REF!<>\"\",#REF!<TODAY()),\"Retard\",\"Attente de Livraison\")))","v":""}]
[null,null,null,null,null,null,null,null,{"$f":"IF(F188=\"\",\"\",IF(H188<>\"\",\"OK\",IF(AND(#REF!<>\"\",#REF!<TODAY()),\"Retard\",\"Attente de Livraison\")))","v":""}]
[null,null,null,null,null,null,null,null,{"$f":"IF(F189=\"\",\"\",IF(H189<>\"\",\"OK\",IF(AND(#REF!<>\"\",#REF!<TODAY()),\"Retard\",\"Attente de Livraison\")))","v":""}]
[null,null,null,null,null,null,null,null,{"$f":"IF(F190=\"\",\"\",IF(H190<>\"\",\"OK\",IF(AND(#REF!<>\"\",#REF!<TODAY()),\"Retard\",\"Attente de Livraison\")))","v":""}]
[null,null,null,null,null,null,null,null,{"$f":"IF(F191=\"\",\"\",IF(H191<>\"\",\"OK\",IF(AND(#REF!<>\"\",#REF!<TODAY()),\"Retard\",\"Attente de Livraison\")))","v":""}]
[null,null,null,null,null,null,null,null,{"$f":"IF(F192=\"\",\"\",IF(H192<>\"\",\"OK\",IF(AND(#REF!<>\"\",#REF!<TODAY()),\"Retard\",\"Attente de Livraison\")))","v":""}]
[null,null,null,null,null,null,null,null,{"$f":"IF(F193=\"\",\"\",IF(H193<>\"\",\"OK\",IF(AND(#REF!<>\"\",#REF!<TODAY()),\"Retard\",\"Attente de Livraison\")))","v":""}]
[null,null,null,null,null,null,null,null,{"$f":"IF(F194=\"\",\"\",IF(H194<>\"\",\"OK\",IF(AND(#REF!<>\"\",#REF!<TODAY()),\"Retard\",\"Attente de Livraison\")))","v":""}]
[null,null,null,null,null,null,null,null,{"$f":"IF(F195=\"\",\"\",IF(H195<>\"\",\"OK\",IF(AND(#REF!<>\"\",#REF!<TODAY()),\"Retard\",\"Attente de Livraison\")))","v":""}]
[null,null,null,null,null,null,null,null,{"$f":"IF(F196=\"\",\"\",IF(H196<>\"\",\"OK\",IF(AND(#REF!<>\"\",#REF!<TODAY()),\"Retard\",\"Attente de Livraison\")))","v":""}]
[null,null,null,null,null,null,null,null,{"$f":"IF(F197=\"\",\"\",IF(H197<>\"\",\"OK\",IF(AND(#REF!<>\"\",#REF!<TODAY()),\"Retard\",\"Attente de Livraison\")))","v":""}]
[null,null,null,null,null,null,null,null,{"$f":"IF(F198=\"\",\"\",IF(H198<>\"\",\"OK\",IF(AND(#REF!<>\"\",#REF!<TODAY()),\"Retard\",\"Attente de Livraison\")))","v":""}]
[null,null,null,null,null,null,null,null,{"$f":"IF(F199=\"\",\"\",IF(H199<>\"\",\"OK\",IF(AND(#REF!<>\"\",#REF!<TODAY()),\"Retard\",\"Attente de Livraison\")))","v":""}]
[null,null,null,null,null,null,null,null,{"$f":"IF(F200=\"\",\"\",IF(H200<>\"\",\"OK\",IF(AND(#REF!<>\"\",#REF!<TODAY()),\"Retard\",\"Attente de Livraison\")))","v":""}]
[null,null,null,null,null,null,null,null,{"$f":"IF(F201=\"\",\"\",IF(H201<>\"\",\"OK\",IF(AND(#REF!<>\"\",#REF!<TODAY()),\"Retard\",\"Attente de Livraison\")))","v":""}]
[null,null,null,null,null,null,null,null,{"$f":"IF(F202=\"\",\"\",IF(H202<>\"\",\"OK\",IF(AND(#REF!<>\"\",#REF!<TODAY()),\"Retard\",\"Attente de Livraison\")))","v":""}]
[null,null,null,null,null,null,null,null,{"$f":"IF(F203=\"\",\"\",IF(H203<>\"\",\"OK\",IF(AND(#REF!<>\"\",#REF!<TODAY()),\"Retard\",\"Attente de Livraison\")))","v":""}]
[null,null,null,null,null,null,null,null,{"$f":"IF(F204=\"\",\"\",IF(H204<>\"\",\"OK\",IF(AND(#REF!<>\"\",#REF!<TODAY()),\"Retard\",\"Attente de Livraison\")))","v":""}]
[null,null,null,null,null,null,null,null,{"$f":"IF(F205=\"\",\"\",IF(H205<>\"\",\"OK\",IF(AND(#REF!<>\"\",#REF!<TODAY()),\"Retard\",\"Attente de Livraison\")))","v":""}]
[null,null,null,null,null,null,null,null,{"$f":"IF(F206=\"\",\"\",IF(H206<>\"\",\"OK\",IF(AND(#REF!<>\"\",#REF!<TODAY()),\"Retard\",\"Attente de Livraison\")))","v":""}]
[null,null,null,null,null,null,null,null,{"$f":"IF(F207=\"\",\"\",IF(H207<>\"\",\"OK\",IF(AND(#REF!<>\"\",#REF!<TODAY()),\"Retard\",\"Attente de Livraison\")))","v":""}]
[null,null,null,null,null,null,null,null,{"$f":"IF(F208=\"\",\"\",IF(H208<>\"\",\"OK\",IF(AND(#REF!<>\"\",#REF!<TODAY()),\"Retard\",\"Attente de Livraison\")))","v":""}]
[null,null,null,null,null,null,null,null,{"$f":"IF(F209=\"\",\"\",IF(H209<>\"\",\"OK\",IF(AND(#REF!<>\"\",#REF!<TODAY()),\"Retard\",\"Attente de Livraison\")))","v":""}]
[null,null,null,null,null,null,null,null,{"$f":"IF(F210=\"\",\"\",IF(H210<>\"\",\"OK\",IF(AND(#REF!<>\"\",#REF!<TODAY()),\"Retard\",\"Attente de Livraison\")))","v":""}]
[null,null,null,null,null,null,null,null,{"$f":"IF(F211=\"\",\"\",IF(H211<>\"\",\"OK\",IF(AND(#REF!<>\"\",#REF!<TODAY()),\"Retard\",\"Attente de Livraison\")))","v":""}]
[null,null,null,null,null,null,null,null,{"$f":"IF(F212=\"\",\"\",IF(H212<>\"\",\"OK\",IF(AND(#REF!<>\"\",#REF!<TODAY()),\"Retard\",\"Attente de Livraison\")))","v":""}]
[null,null,null,null,null,null,null,null,{"$f":"IF(F213=\"\",\"\",IF(H213<>\"\",\"OK\",IF(AND(#REF!<>\"\",#REF!<TODAY()),\"Retard\",\"Attente de Livraison\")))","v":""}]
[null,null,null,null,null,null,null,null,{"$f":"IF(F214=\"\",\"\",IF(H214<>\"\",\"OK\",IF(AND(#REF!<>\"\",#REF!<TODAY()),\"Retard\",\"Attente de Livraison\")))","v":""}]
[null,null,null,null,null,null,null,null,{"$f":"IF(F215=\"\",\"\",IF(H215<>\"\",\"OK\",IF(AND(#REF!<>\"\",#REF!<TODAY()),\"Retard\",\"Attente de Livraison\")))","v":""}]
[null,null,null,null,null,null,null,null,{"$f":"IF(F216=\"\",\"\",IF(H216<>\"\",\"OK\",IF(AND(#REF!<>\"\",#REF!<TODAY()),\"Retard\",\"Attente de Livraison\")))","v":""}]
[null,null,null,null,null,null,null,null,{"$f":"IF(F217=\"\",\"\",IF(H217<>\"\",\"OK\",IF(AND(#REF!<>\"\",#REF!<TODAY()),\"Retard\",\"Attente de Livraison\")))","v":""}]
[null,null,null,null,null,null,null,null,{"$f":"IF(F218=\"\",\"\",IF(H218<>\"\",\"OK\",IF(AND(#REF!<>\"\",#REF!<TODAY()),\"Retard\",\"Attente de Livraison\")))","v":""}]
[null,null,null,null,null,null,null,null,{"$f":"IF(F219=\"\",\"\",IF(H219<>\"\",\"OK\",IF(AND(#REF!<>\"\",#REF!<TODAY()),\"Retard\",\"Attente de Livraison\")))","v":""}]
[null,null,null,null,null,null,null,null,{"$f":"IF(F220=\"\",\"\",IF(H220<>\"\",\"OK\",IF(AND(#REF!<>\"\",#REF!<TODAY()),\"Retard\",\"Attente de Livraison\")))","v":""}]
[null,null,null,null,null,null,null,null,{"$f":"IF(F221=\"\",\"\",IF(H221<>\"\",\"OK\",IF(AND(#REF!<>\"\",#REF!<TODAY()),\"Retard\",\"Attente de Livraison\")))","v":""}]
[null,null,null,null,null,null,null,null,{"$f":"IF(F222=\"\",\"\",IF(H222<>\"\",\"OK\",IF(AND(#REF!<>\"\",#REF!<TODAY()),\"Retard\",\"Attente de Livraison\")))","v":""}]
[null,null,null,null,null,null,null,null,{"$f":"IF(F223=\"\",\"\",IF(H223<>\"\",\"OK\",IF(AND(#REF!<>\"\",#REF!<TODAY()),\"Retard\",\"Attente de Livraison\")))","v":""}]
[null,null,null,null,null,null,null,null,{"$f":"IF(F224=\"\",\"\",IF(H224<>\"\",\"OK\",IF(AND(#REF!<>\"\",#REF!<TODAY()),\"Retard\",\"Attente de Livraison\")))","v":""}]
[null,null,null,null,null,null,null,null,{"$f":"IF(F225=\"\",\"\",IF(H225<>\"\",\"OK\",IF(AND(#REF!<>\"\",#REF!<TODAY()),\"Retard\",\"Attente de Livraison\")))","v":""}]
[null,null,null,null,null,null,null,null,{"$f":"IF(F226=\"\",\"\",IF(H226<>\"\",\"OK\",IF(AND(#REF!<>\"\",#REF!<TODAY()),\"Retard\",\"Attente de Livraison\")))","v":""}]
[null,null,null,null,null,null,null,null,{"$f":"IF(F227=\"\",\"\",IF(H227<>\"\",\"OK\",IF(AND(#REF!<>\"\",#REF!<TODAY()),\"Retard\",\"Attente de Livraison\")))","v":""}]
[null,null,null,null,null,null,null,null,{"$f":"IF(F228=\"\",\"\",IF(H228<>\"\",\"OK\",IF(AND(#REF!<>\"\",#REF!<TODAY()),\"Retard\",\"Attente de Livraison\")))","v":""}]
[null,null,null,null,null,null,null,null,{"$f":"IF(F229=\"\",\"\",IF(H229<>\"\",\"OK\",IF(AND(#REF!<>\"\",#REF!<TODAY()),\"Retard\",\"Attente de Livraison\")))","v":""}]
[null,null,null,null,null,null,null,null,{"$f":"IF(F230=\"\",\"\",IF(H230<>\"\",\"OK\",IF(AND(#REF!<>\"\",#REF!<TODAY()),\"Retard\",\"Attente de Livraison\")))","v":""}]
[null,null,null,null,null,null,null,null,{"$f":"IF(F231=\"\",\"\",IF(H231<>\"\",\"OK\",IF(AND(#REF!<>\"\",#REF!<TODAY()),\"Retard\",\"Attente de Livraison\")))","v":""}]
[null,null,null,null,null,null,null,null,{"$f":"IF(F232=\"\",\"\",IF(H232<>\"\",\"OK\",IF(AND(#REF!<>\"\",#REF!<TODAY()),\"Retard\",\"Attente de Livraison\")))","v":""}]
[null,null,null,null,null,null,null,null,{"$f":"IF(F233=\"\",\"\",IF(H233<>\"\",\"OK\",IF(AND(#REF!<>\"\",#REF!<TODAY()),\"Retard\",\"Attente de Livraison\")))","v":""}]
[null,null,null,null,null,null,null,null,{"$f":"IF(F234=\"\",\"\",IF(H234<>\"\",\"OK\",IF(AND(#REF!<>\"\",#REF!<TODAY()),\"Retard\",\"Attente de Livraison\")))","v":""}]
[null,null,null,null,null,null,null,null,{"$f":"IF(F235=\"\",\"\",IF(H235<>\"\",\"OK\",IF(AND(#REF!<>\"\",#REF!<TODAY()),\"Retard\",\"Attente de Livraison\")))","v":""}]
[null,null,null,null,null,null,null,null,{"$f":"IF(F236=\"\",\"\",IF(H236<>\"\",\"OK\",IF(AND(#REF!<>\"\",#REF!<TODAY()),\"Retard\",\"Attente de Livraison\")))","v":""}]
[null,null,null,null,null,null,null,null,{"$f":"IF(F237=\"\",\"\",IF(H237<>\"\",\"OK\",IF(AND(#REF!<>\"\",#REF!<TODAY()),\"Retard\",\"Attente de Livraison\")))","v":""}]
[null,null,null,null,null,null,null,null,{"$f":"IF(F238=\"\",\"\",IF(H238<>\"\",\"OK\",IF(AND(#REF!<>\"\",#REF!<TODAY()),\"Retard\",\"Attente de Livraison\")))","v":""}]
[null,null,null,null,null,null,null,null,{"$f":"IF(F239=\"\",\"\",IF(H239<>\"\",\"OK\",IF(AND(#REF!<>\"\",#REF!<TODAY()),\"Retard\",\"Attente de Livraison\")))","v":""}]
[null,null,null,null,null,null,null,null,{"$f":"IF(F240=\"\",\"\",IF(H240<>\"\",\"OK\",IF(AND(#REF!<>\"\",#REF!<TODAY()),\"Retard\",\"Attente de Livraison\")))","v":""}]
[null,null,null,null,null,null,null,null,{"$f":"IF(F241=\"\",\"\",IF(H241<>\"\",\"OK\",IF(AND(#REF!<>\"\",#REF!<TODAY()),\"Retard\",\"Attente de Livraison\")))","v":""}]
[null,null,null,null,null,null,null,null,{"$f":"IF(F242=\"\",\"\",IF(H242<>\"\",\"OK\",IF(AND(#REF!<>\"\",#REF!<TODAY()),\"Retard\",\"Attente de Livraison\")))","v":""}]
[null,null,null,null,null,null,null,null,{"$f":"IF(F243=\"\",\"\",IF(H243<>\"\",\"OK\",IF(AND(#REF!<>\"\",#REF!<TODAY()),\"Retard\",\"Attente de Livraison\")))","v":""}]
[null,null,null,null,null,null,null,null,{"$f":"IF(F244=\"\",\"\",IF(H244<>\"\",\"OK\",IF(AND(#REF!<>\"\",#REF!<TODAY()),\"Retard\",\"Attente de Livraison\")))","v":""}]
[null,null,null,null,null,null,null,null,{"$f":"IF(F245=\"\",\"\",IF(H245<>\"\",\"OK\",IF(AND(#REF!<>\"\",#REF!<TODAY()),\"Retard\",\"Attente de Livraison\")))","v":""}]
[null,null,null,null,null,null,null,null,{"$f":"IF(F246=\"\",\"\",IF(H246<>\"\",\"OK\",IF(AND(#REF!<>\"\",#REF!<TODAY()),\"Retard\",\"Attente de Livraison\")))","v":""}]
[null,null,null,null,null,null,null,null,{"$f":"IF(F247=\"\",\"\",IF(H247<>\"\",\"OK\",IF(AND(#REF!<>\"\",#REF!<TODAY()),\"Retard\",\"Attente de Livraison\")))","v":""}]
[null,null,null,null,null,null,null,null,{"$f":"IF(F248=\"\",\"\",IF(H248<>\"\",\"OK\",IF(AND(#REF!<>\"\",#REF!<TODAY()),\"Retard\",\"Attente de Livraison\")))","v":""}]
[null,null,null,null,null,null,null,null,{"$f":"IF(F249=\"\",\"\",IF(H249<>\"\",\"OK\",IF(AND(#REF!<>\"\",#REF!<TODAY()),\"Retard\",\"Attente de Livraison\")))","v":""}]
[null,null,null,null,null,null,null,null,{"$f":"IF(F250=\"\",\"\",IF(H250<>\"\",\"OK\",IF(AND(#REF!<>\"\",#REF!<TODAY()),\"Retard\",\"Attente de Livraison\")))","v":""}]
[null,null,null,null,null,null,null,null,{"$f":"IF(F251=\"\",\"\",IF(H251<>\"\",\"OK\",IF(AND(#REF!<>\"\",#REF!<TODAY()),\"Retard\",\"Attente de Livraison\")))","v":""}]
[null,null,null,null,null,null,null,null,{"$f":"IF(F252=\"\",\"\",IF(H252<>\"\",\"OK\",IF(AND(#REF!<>\"\",#REF!<TODAY()),\"Retard\",\"Attente de Livraison\")))","v":""}]
[null,null,null,null,null,null,null,null,{"$f":"IF(F253=\"\",\"\",IF(H253<>\"\",\"OK\",IF(AND(#REF!<>\"\",#REF!<TODAY()),\"Retard\",\"Attente de Livraison\")))","v":""}]
[null,null,null,null,null,null,null,null,{"$f":"IF(F254=\"\",\"\",IF(H254<>\"\",\"OK\",IF(AND(#REF!<>\"\",#REF!<TODAY()),\"Retard\",\"Attente de Livraison\")))","v":""}]
[null,null,null,null,null,null,null,null,{"$f":"IF(F255=\"\",\"\",IF(H255<>\"\",\"OK\",IF(AND(#REF!<>\"\",#REF!<TODAY()),\"Retard\",\"Attente de Livraison\")))","v":""}]
[null,null,null,null,null,null,null,null,{"$f":"IF(F256=\"\",\"\",IF(H256<>\"\",\"OK\",IF(AND(#REF!<>\"\",#REF!<TODAY()),\"Retard\",\"Attente de Livraison\")))","v":""}]
[null,null,null,null,null,null,null,null,{"$f":"IF(F257=\"\",\"\",IF(H257<>\"\",\"OK\",IF(AND(#REF!<>\"\",#REF!<TODAY()),\"Retard\",\"Attente de Livraison\")))","v":""}]
[null,null,null,null,null,null,null,null,{"$f":"IF(F258=\"\",\"\",IF(H258<>\"\",\"OK\",IF(AND(#REF!<>\"\",#REF!<TODAY()),\"Retard\",\"Attente de Livraison\")))","v":""}]
[null,null,null,null,null,null,null,null,{"$f":"IF(F259=\"\",\"\",IF(H259<>\"\",\"OK\",IF(AND(#REF!<>\"\",#REF!<TODAY()),\"Retard\",\"Attente de Livraison\")))","v":""}]
[null,null,null,null,null,null,null,null,{"$f":"IF(F260=\"\",\"\",IF(H260<>\"\",\"OK\",IF(AND(#REF!<>\"\",#REF!<TODAY()),\"Retard\",\"Attente de Livraison\")))","v":""}]
[null,null,null,null,null,null,null,null,{"$f":"IF(F261=\"\",\"\",IF(H261<>\"\",\"OK\",IF(AND(#REF!<>\"\",#REF!<TODAY()),\"Retard\",\"Attente de Livraison\")))","v":""}]
[null,null,null,null,null,null,null,null,{"$f":"IF(F262=\"\",\"\",IF(H262<>\"\",\"OK\",IF(AND(#REF!<>\"\",#REF!<TODAY()),\"Retard\",\"Attente de Livraison\")))","v":""}]
[null,null,null,null,null,null,null,null,{"$f":"IF(F263=\"\",\"\",IF(H263<>\"\",\"OK\",IF(AND(#REF!<>\"\",#REF!<TODAY()),\"Retard\",\"Attente de Livraison\")))","v":""}]
[null,null,null,null,null,null,null,null,{"$f":"IF(F264=\"\",\"\",IF(H264<>\"\",\"OK\",IF(AND(#REF!<>\"\",#REF!<TODAY()),\"Retard\",\"Attente de Livraison\")))","v":""}]
[null,null,null,null,null,null,null,null,{"$f":"IF(F265=\"\",\"\",IF(H265<>\"\",\"OK\",IF(AND(#REF!<>\"\",#REF!<TODAY()),\"Retard\",\"Attente de Livraison\")))","v":""}]
[null,null,null,null,null,null,null,null,{"$f":"IF(F266=\"\",\"\",IF(H266<>\"\",\"OK\",IF(AND(#REF!<>\"\",#REF!<TODAY()),\"Retard\",\"Attente de Livraison\")))","v":""}]
[null,null,null,null,null,null,null,null,{"$f":"IF(F267=\"\",\"\",IF(H267<>\"\",\"OK\",IF(AND(#REF!<>\"\",#REF!<TODAY()),\"Retard\",\"Attente de Livraison\")))","v":""}]
[null,null,null,null,null,null,null,null,{"$f":"IF(F268=\"\",\"\",IF(H268<>\"\",\"OK\",IF(AND(#REF!<>\"\",#REF!<TODAY()),\"Retard\",\"Attente de Livraison\")))","v":""}]
[null,null,null,null,null,null,null,null,{"$f":"IF(F269=\"\",\"\",IF(H269<>\"\",\"OK\",IF(AND(#REF!<>\"\",#REF!<TODAY()),\"Retard\",\"Attente de Livraison\")))","v":""}]
[null,null,null,null,null,null,null,null,{"$f":"IF(F270=\"\",\"\",IF(H270<>\"\",\"OK\",IF(AND(#REF!<>\"\",#REF!<TODAY()),\"Retard\",\"Attente de Livraison\")))","v":""}]
[null,null,null,null,null,null,null,null,{"$f":"IF(F271=\"\",\"\",IF(H271<>\"\",\"OK\",IF(AND(#REF!<>\"\",#REF!<TODAY()),\"Retard\",\"Attente de Livraison\")))","v":""}]
[null,null,null,null,null,null,null,null,{"$f":"IF(F272=\"\",\"\",IF(H272<>\"\",\"OK\",IF(AND(#REF!<>\"\",#REF!<TODAY()),\"Retard\",\"Attente de Livraison\")))","v":""}]
[null,null,null,null,null,null,null,null,{"$f":"IF(F273=\"\",\"\",IF(H273<>\"\",\"OK\",IF(AND(#REF!<>\"\",#REF!<TODAY()),\"Retard\",\"Attente de Livraison\")))","v":""}]
[null,null,null,null,null,null,null,null,{"$f":"IF(F274=\"\",\"\",IF(H274<>\"\",\"OK\",IF(AND(#REF!<>\"\",#REF!<TODAY()),\"Retard\",\"Attente de Livraison\")))","v":""}]
[null,null,null,null,null,null,null,null,{"$f":"IF(F275=\"\",\"\",IF(H275<>\"\",\"OK\",IF(AND(#REF!<>\"\",#REF!<TODAY()),\"Retard\",\"Attente de Livraison\")))","v":""}]
[null,null,null,null,null,null,null,null,{"$f":"IF(F276=\"\",\"\",IF(H276<>\"\",\"OK\",IF(AND(#REF!<>\"\",#REF!<TODAY()),\"Retard\",\"Attente de Livraison\")))","v":""}]
[null,null,null,null,null,null,null,null,{"$f":"IF(F277=\"\",\"\",IF(H277<>\"\",\"OK\",IF(AND(#REF!<>\"\",#REF!<TODAY()),\"Retard\",\"Attente de Livraison\")))","v":""}]
[null,null,null,null,null,null,null,null,{"$f":"IF(F278=\"\",\"\",IF(H278<>\"\",\"OK\",IF(AND(#REF!<>\"\",#REF!<TODAY()),\"Retard\",\"Attente de Livraison\")))","v":""}]
[null,null,null,null,null,null,null,null,{"$f":"IF(F279=\"\",\"\",IF(H279<>\"\",\"OK\",IF(AND(#REF!<>\"\",#REF!<TODAY()),\"Retard\",\"Attente de Livraison\")))","v":""}]
[null,null,null,null,null,null,null,null,{"$f":"IF(F280=\"\",\"\",IF(H280<>\"\",\"OK\",IF(AND(#REF!<>\"\",#REF!<TODAY()),\"Retard\",\"Attente de Livraison\")))","v":""}]
[null,null,null,null,null,null,null,null,{"$f":"IF(F281=\"\",\"\",IF(H281<>\"\",\"OK\",IF(AND(#REF!<>\"\",#REF!<TODAY()),\"Retard\",\"Attente de Livraison\")))","v":""}]
[null,null,null,null,null,null,null,null,{"$f":"IF(F282=\"\",\"\",IF(H282<>\"\",\"OK\",IF(AND(#REF!<>\"\",#REF!<TODAY()),\"Retard\",\"Attente de Livraison\")))","v":""}]
[null,null,null,null,null,null,null,null,{"$f":"IF(F283=\"\",\"\",IF(H283<>\"\",\"OK\",IF(AND(#REF!<>\"\",#REF!<TODAY()),\"Retard\",\"Attente de Livraison\")))","v":""}]
[null,null,null,null,null,null,null,null,{"$f":"IF(F284=\"\",\"\",IF(H284<>\"\",\"OK\",IF(AND(#REF!<>\"\",#REF!<TODAY()),\"Retard\",\"Attente de Livraison\")))","v":""}]
[null,null,null,null,null,null,null,null,{"$f":"IF(F285=\"\",\"\",IF(H285<>\"\",\"OK\",IF(AND(#REF!<>\"\",#REF!<TODAY()),\"Retard\",\"Attente de Livraison\")))","v":""}]
[null,null,null,null,null,null,null,null,{"$f":"IF(F286=\"\",\"\",IF(H286<>\"\",\"OK\",IF(AND(#REF!<>\"\",#REF!<TODAY()),\"Retard\",\"Attente de Livraison\")))","v":""}]
[null,null,null,null,null,null,null,null,{"$f":"IF(F287=\"\",\"\",IF(H287<>\"\",\"OK\",IF(AND(#REF!<>\"\",#REF!<TODAY()),\"Retard\",\"Attente de Livraison\")))","v":""}]
[null,null,null,null,null,null,null,null,{"$f":"IF(F288=\"\",\"\",IF(H288<>\"\",\"OK\",IF(AND(#REF!<>\"\",#REF!<TODAY()),\"Retard\",\"Attente de Livraison\")))","v":""}]
[null,null,null,null,null,null,null,null,{"$f":"IF(F289=\"\",\"\",IF(H289<>\"\",\"OK\",IF(AND(#REF!<>\"\",#REF!<TODAY()),\"Retard\",\"Attente de Livraison\")))","v":""}]
[null,null,null,null,null,null,null,null,{"$f":"IF(F290=\"\",\"\",IF(H290<>\"\",\"OK\",IF(AND(#REF!<>\"\",#REF!<TODAY()),\"Retard\",\"Attente de Livraison\")))","v":""}]
[null,null,null,null,null,null,null,null,{"$f":"IF(F291=\"\",\"\",IF(H291<>\"\",\"OK\",IF(AND(#REF!<>\"\",#REF!<TODAY()),\"Retard\",\"Attente de Livraison\")))","v":""}]
[null,null,null,null,null,null,null,null,{"$f":"IF(F292=\"\",\"\",IF(H292<>\"\",\"OK\",IF(AND(#REF!<>\"\",#REF!<TODAY()),\"Retard\",\"Attente de Livraison\")))","v":""}]
[null,null,null,null,null,null,null,null,{"$f":"IF(F293=\"\",\"\",IF(H293<>\"\",\"OK\",IF(AND(#REF!<>\"\",#REF!<TODAY()),\"Retard\",\"Attente de Livraison\")))","v":""}]
[null,null,null,null,null,null,null,null,{"$f":"IF(F294=\"\",\"\",IF(H294<>\"\",\"OK\",IF(AND(#REF!<>\"\",#REF!<TODAY()),\"Retard\",\"Attente de Livraison\")))","v":""}]
[null,null,null,null,null,null,null,null,{"$f":"IF(F295=\"\",\"\",IF(H295<>\"\",\"OK\",IF(AND(#REF!<>\"\",#REF!<TODAY()),\"Retard\",\"Attente de Livraison\")))","v":""}]
[null,null,null,null,null,null,null,null,{"$f":"IF(F296=\"\",\"\",IF(H296<>\"\",\"OK\",IF(AND(#REF!<>\"\",#REF!<TODAY()),\"Retard\",\"Attente de Livraison\")))","v":""}]
[null,null,null,null,null,null,null,null,{"$f":"IF(F297=\"\",\"\",IF(H297<>\"\",\"OK\",IF(AND(#REF!<>\"\",#REF!<TODAY()),\"Retard\",\"Attente de Livraison\")))","v":""}]
[null,null,null,null,null,null,null,null,{"$f":"IF(F298=\"\",\"\",IF(H298<>\"\",\"OK\",IF(AND(#REF!<>\"\",#REF!<TODAY()),\"Retard\",\"Attente de Livraison\")))","v":""}]
[null,null,null,null,null,null,null,null,{"$f":"IF(F299=\"\",\"\",IF(H299<>\"\",\"OK\",IF(AND(#REF!<>\"\",#REF!<TODAY()),\"Retard\",\"Attente de Livraison\")))","v":""}]
[null,null,null,null,null,null,null,null,{"$f":"IF(F300=\"\",\"\",IF(H300<>\"\",\"OK\",IF(AND(#REF!<>\"\",#REF!<TODAY()),\"Retard\",\"Attente de Livraison\")))","v":""}]
[null,null,null,null,null,null,null,null,{"$f":"IF(F301=\"\",\"\",IF(H301<>\"\",\"OK\",IF(AND(#REF!<>\"\",#REF!<TODAY()),\"Retard\",\"Attente de Livraison\")))","v":""}]
[null,null,null,null,null,null,null,null,{"$f":"IF(F302=\"\",\"\",IF(H302<>\"\",\"OK\",IF(AND(#REF!<>\"\",#REF!<TODAY()),\"Retard\",\"Attente de Livraison\")))","v":""}]
[null,null,null,null,null,null,null,null,{"$f":"IF(F303=\"\",\"\",IF(H303<>\"\",\"OK\",IF(AND(#REF!<>\"\",#REF!<TODAY()),\"Retard\",\"Attente de Livraison\")))","v":""}]
[null,null,null,null,null,null,null,null,{"$f":"IF(F304=\"\",\"\",IF(H304<>\"\",\"OK\",IF(AND(#REF!<>\"\",#REF!<TODAY()),\"Retard\",\"Attente de Livraison\")))","v":""}]
[null,null,null,null,null,null,null,null,{"$f":"IF(F305=\"\",\"\",IF(H305<>\"\",\"OK\",IF(AND(#REF!<>\"\",#REF!<TODAY()),\"Retard\",\"Attente de Livraison\")))","v":""}]
[null,null,null,null,null,null,null,null,{"$f":"IF(F306=\"\",\"\",IF(H306<>\"\",\"OK\",IF(AND(#REF!<>\"\",#REF!<TODAY()),\"Retard\",\"Attente de Livraison\")))","v":""}]
[null,null,null,null,null,null,null,null,{"$f":"IF(F307=\"\",\"\",IF(H307<>\"\",\"OK\",IF(AND(#REF!<>\"\",#REF!<TODAY()),\"Retard\",\"Attente de Livraison\")))","v":""}]
[null,null,null,null,null,null,null,null,{"$f":"IF(F308=\"\",\"\",IF(H308<>\"\",\"OK\",IF(AND(#REF!<>\"\",#REF!<TODAY()),\"Retard\",\"Attente de Livraison\")))","v":""}]
[null,null,null,null,null,null,null,null,{"$f":"IF(F309=\"\",\"\",IF(H309<>\"\",\"OK\",IF(AND(#REF!<>\"\",#REF!<TODAY()),\"Retard\",\"Attente de Livraison\")))","v":""}]
[null,null,null,null,null,null,null,null,{"$f":"IF(F310=\"\",\"\",IF(H310<>\"\",\"OK\",IF(AND(#REF!<>\"\",#REF!<TODAY()),\"Retard\",\"Attente de Livraison\")))","v":""}]
[null,null,null,null,null,null,null,null,{"$f":"IF(F311=\"\",\"\",IF(H311<>\"\",\"OK\",IF(AND(#REF!<>\"\",#REF!<TODAY()),\"Retard\",\"Attente de Livraison\")))","v":""}]
[null,null,null,null,null,null,null,null,{"$f":"IF(F312=\"\",\"\",IF(H312<>\"\",\"OK\",IF(AND(#REF!<>\"\",#REF!<TODAY()),\"Retard\",\"Attente de Livraison\")))","v":""}]
[null,null,null,null,null,null,null,null,{"$f":"IF(F313=\"\",\"\",IF(H313<>\"\",\"OK\",IF(AND(#REF!<>\"\",#REF!<TODAY()),\"Retard\",\"Attente de Livraison\")))","v":""}]
[null,null,null,null,null,null,null,null,{"$f":"IF(F314=\"\",\"\",IF(H314<>\"\",\"OK\",IF(AND(#REF!<>\"\",#REF!<TODAY()),\"Retard\",\"Attente de Livraison\")))","v":""}]
[null,null,null,null,null,null,null,null,{"$f":"IF(F315=\"\",\"\",IF(H315<>\"\",\"OK\",IF(AND(#REF!<>\"\",#REF!<TODAY()),\"Retard\",\"Attente de Livraison\")))","v":""}]
[null,null,null,null,null,null,null,null,{"$f":"IF(F316=\"\",\"\",IF(H316<>\"\",\"OK\",IF(AND(#REF!<>\"\",#REF!<TODAY()),\"Retard\",\"Attente de Livraison\")))","v":""}]
[null,null,null,null,null,null,null,null,{"$f":"IF(F317=\"\",\"\",IF(H317<>\"\",\"OK\",IF(AND(#REF!<>\"\",#REF!<TODAY()),\"Retard\",\"Attente de Livraison\")))","v":""}]
[null,null,null,null,null,null,null,null,{"$f":"IF(F318=\"\",\"\",IF(H318<>\"\",\"OK\",IF(AND(#REF!<>\"\",#REF!<TODAY()),\"Retard\",\"Attente de Livraison\")))","v":""}]
[null,null,null,null,null,null,null,null,{"$f":"IF(F319=\"\",\"\",IF(H319<>\"\",\"OK\",IF(AND(#REF!<>\"\",#REF!<TODAY()),\"Retard\",\"Attente de Livraison\")))","v":""}]
[null,null,null,null,null,null,null,null,{"$f":"IF(F320=\"\",\"\",IF(H320<>\"\",\"OK\",IF(AND(#REF!<>\"\",#REF!<TODAY()),\"Retard\",\"Attente de Livraison\")))","v":""}]
[null,null,null,null,null,null,null,null,{"$f":"IF(F321=\"\",\"\",IF(H321<>\"\",\"OK\",IF(AND(#REF!<>\"\",#REF!<TODAY()),\"Retard\",\"Attente de Livraison\")))","v":""}]
[null,null,null,null,null,null,null,null,{"$f":"IF(F322=\"\",\"\",IF(H322<>\"\",\"OK\",IF(AND(#REF!<>\"\",#REF!<TODAY()),\"Retard\",\"Attente de Livraison\")))","v":""}]
[null,null,null,null,null,null,null,null,{"$f":"IF(F323=\"\",\"\",IF(H323<>\"\",\"OK\",IF(AND(#REF!<>\"\",#REF!<TODAY()),\"Retard\",\"Attente de Livraison\")))","v":""}]
[null,null,null,null,null,null,null,null,{"$f":"IF(F324=\"\",\"\",IF(H324<>\"\",\"OK\",IF(AND(#REF!<>\"\",#REF!<TODAY()),\"Retard\",\"Attente de Livraison\")))","v":""}]
[null,null,null,null,null,null,null,null,{"$f":"IF(F325=\"\",\"\",IF(H325<>\"\",\"OK\",IF(AND(#REF!<>\"\",#REF!<TODAY()),\"Retard\",\"Attente de Livraison\")))","v":""}]
[null,null,null,null,null,null,null,null,{"$f":"IF(F326=\"\",\"\",IF(H326<>\"\",\"OK\",IF(AND(#REF!<>\"\",#REF!<TODAY()),\"Retard\",\"Attente de Livraison\")))","v":""}]
[null,null,null,null,null,null,null,null,{"$f":"IF(F327=\"\",\"\",IF(H327<>\"\",\"OK\",IF(AND(#REF!<>\"\",#REF!<TODAY()),\"Retard\",\"Attente de Livraison\")))","v":""}]
[null,null,null,null,null,null,null,null,{"$f":"IF(F328=\"\",\"\",IF(H328<>\"\",\"OK\",IF(AND(#REF!<>\"\",#REF!<TODAY()),\"Retard\",\"Attente de Livraison\")))","v":""}]
[null,null,null,null,null,null,null,null,{"$f":"IF(F329=\"\",\"\",IF(H329<>\"\",\"OK\",IF(AND(#REF!<>\"\",#REF!<TODAY()),\"Retard\",\"Attente de Livraison\")))","v":""}]
[null,null,null,null,null,null,null,null,{"$f":"IF(F330=\"\",\"\",IF(H330<>\"\",\"OK\",IF(AND(#REF!<>\"\",#REF!<TODAY()),\"Retard\",\"Attente de Livraison\")))","v":""}]
[null,null,null,null,null,null,null,null,{"$f":"IF(F331=\"\",\"\",IF(H331<>\"\",\"OK\",IF(AND(#REF!<>\"\",#REF!<TODAY()),\"Retard\",\"Attente de Livraison\")))","v":""}]
[null,null,null,null,null,null,null,null,{"$f":"IF(F332=\"\",\"\",IF(H332<>\"\",\"OK\",IF(AND(#REF!<>\"\",#REF!<TODAY()),\"Retard\",\"Attente de Livraison\")))","v":""}]
[null,null,null,null,null,null,null,null,{"$f":"IF(F333=\"\",\"\",IF(H333<>\"\",\"OK\",IF(AND(#REF!<>\"\",#REF!<TODAY()),\"Retard\",\"Attente de Livraison\")))","v":""}]
[null,null,null,null,null,null,null,null,{"$f":"IF(F334=\"\",\"\",IF(H334<>\"\",\"OK\",IF(AND(#REF!<>\"\",#REF!<TODAY()),\"Retard\",\"Attente de Livraison\")))","v":""}]
[null,null,null,null,null,null,null,null,{"$f":"IF(F335=\"\",\"\",IF(H335<>\"\",\"OK\",IF(AND(#REF!<>\"\",#REF!<TODAY()),\"Retard\",\"Attente de Livraison\")))","v":""}]
[null,null,null,null,null,null,null,null,{"$f":"IF(F336=\"\",\"\",IF(H336<>\"\",\"OK\",IF(AND(#REF!<>\"\",#REF!<TODAY()),\"Retard\",\"Attente de Livraison\")))","v":""}]
[null,null,null,null,null,null,null,null,{"$f":"IF(F337=\"\",\"\",IF(H337<>\"\",\"OK\",IF(AND(#REF!<>\"\",#REF!<TODAY()),\"Retard\",\"Attente de Livraison\")))","v":""}]
[null,null,null,null,null,null,null,null,{"$f":"IF(F338=\"\",\"\",IF(H338<>\"\",\"OK\",IF(AND(#REF!<>\"\",#REF!<TODAY()),\"Retard\",\"Attente de Livraison\")))","v":""}]
[null,null,null,null,null,null,null,null,{"$f":"IF(F339=\"\",\"\",IF(H339<>\"\",\"OK\",IF(AND(#REF!<>\"\",#REF!<TODAY()),\"Retard\",\"Attente de Livraison\")))","v":""}]
[null,null,null,null,null,null,null,null,{"$f":"IF(F340=\"\",\"\",IF(H340<>\"\",\"OK\",IF(AND(#REF!<>\"\",#REF!<TODAY()),\"Retard\",\"Attente de Livraison\")))","v":""}]
[null,null,null,null,null,null,null,null,{"$f":"IF(F341=\"\",\"\",IF(H341<>\"\",\"OK\",IF(AND(#REF!<>\"\",#REF!<TODAY()),\"Retard\",\"Attente de Livraison\")))","v":""}]
[null,null,null,null,null,null,null,null,{"$f":"IF(F342=\"\",\"\",IF(H342<>\"\",\"OK\",IF(AND(#REF!<>\"\",#REF!<TODAY()),\"Retard\",\"Attente de Livraison\")))","v":""}]
[null,null,null,null,null,null,null,null,{"$f":"IF(F343=\"\",\"\",IF(H343<>\"\",\"OK\",IF(AND(#REF!<>\"\",#REF!<TODAY()),\"Retard\",\"Attente de Livraison\")))","v":""}]
[null,null,null,null,null,null,null,null,{"$f":"IF(F344=\"\",\"\",IF(H344<>\"\",\"OK\",IF(AND(#REF!<>\"\",#REF!<TODAY()),\"Retard\",\"Attente de Livraison\")))","v":""}]
[null,null,null,null,null,null,null,null,{"$f":"IF(F345=\"\",\"\",IF(H345<>\"\",\"OK\",IF(AND(#REF!<>\"\",#REF!<TODAY()),\"Retard\",\"Attente de Livraison\")))","v":""}]
[null,null,null,null,null,null,null,null,{"$f":"IF(F346=\"\",\"\",IF(H346<>\"\",\"OK\",IF(AND(#REF!<>\"\",#REF!<TODAY()),\"Retard\",\"Attente de Livraison\")))","v":""}]
[null,null,null,null,null,null,null,null,{"$f":"IF(F347=\"\",\"\",IF(H347<>\"\",\"OK\",IF(AND(#REF!<>\"\",#REF!<TODAY()),\"Retard\",\"Attente de Livraison\")))","v":""}]
[null,null,null,null,null,null,null,null,{"$f":"IF(F348=\"\",\"\",IF(H348<>\"\",\"OK\",IF(AND(#REF!<>\"\",#REF!<TODAY()),\"Retard\",\"Attente de Livraison\")))","v":""}]
[null,null,null,null,null,null,null,null,{"$f":"IF(F349=\"\",\"\",IF(H349<>\"\",\"OK\",IF(AND(#REF!<>\"\",#REF!<TODAY()),\"Retard\",\"Attente de Livraison\")))","v":""}]
[null,null,null,null,null,null,null,null,{"$f":"IF(F350=\"\",\"\",IF(H350<>\"\",\"OK\",IF(AND(#REF!<>\"\",#REF!<TODAY()),\"Retard\",\"Attente de Livraison\")))","v":""}]
[null,null,null,null,null,null,null,null,{"$f":"IF(F351=\"\",\"\",IF(H351<>\"\",\"OK\",IF(AND(#REF!<>\"\",#REF!<TODAY()),\"Retard\",\"Attente de Livraison\")))","v":""}]
[null,null,null,null,null,null,null,null,{"$f":"IF(F352=\"\",\"\",IF(H352<>\"\",\"OK\",IF(AND(#REF!<>\"\",#REF!<TODAY()),\"Retard\",\"Attente de Livraison\")))","v":""}]
[null,null,null,null,null,null,null,null,{"$f":"IF(F353=\"\",\"\",IF(H353<>\"\",\"OK\",IF(AND(#REF!<>\"\",#REF!<TODAY()),\"Retard\",\"Attente de Livraison\")))","v":""}]
[null,null,null,null,null,null,null,null,{"$f":"IF(F354=\"\",\"\",IF(H354<>\"\",\"OK\",IF(AND(#REF!<>\"\",#REF!<TODAY()),\"Retard\",\"Attente de Livraison\")))","v":""}]
[null,null,null,null,null,null,null,null,{"$f":"IF(F355=\"\",\"\",IF(H355<>\"\",\"OK\",IF(AND(#REF!<>\"\",#REF!<TODAY()),\"Retard\",\"Attente de Livraison\")))","v":""}]
[null,null,null,null,null,null,null,null,{"$f":"IF(F356=\"\",\"\",IF(H356<>\"\",\"OK\",IF(AND(#REF!<>\"\",#REF!<TODAY()),\"Retard\",\"Attente de Livraison\")))","v":""}]
[null,null,null,null,null,null,null,null,{"$f":"IF(F357=\"\",\"\",IF(H357<>\"\",\"OK\",IF(AND(#REF!<>\"\",#REF!<TODAY()),\"Retard\",\"Attente de Livraison\")))","v":""}]
[null,null,null,null,null,null,null,null,{"$f":"IF(F358=\"\",\"\",IF(H358<>\"\",\"OK\",IF(AND(#REF!<>\"\",#REF!<TODAY()),\"Retard\",\"Attente de Livraison\")))","v":""}]
[null,null,null,null,null,null,null,null,{"$f":"IF(F359=\"\",\"\",IF(H359<>\"\",\"OK\",IF(AND(#REF!<>\"\",#REF!<TODAY()),\"Retard\",\"Attente de Livraison\")))","v":""}]
[null,null,null,null,null,null,null,null,{"$f":"IF(F360=\"\",\"\",IF(H360<>\"\",\"OK\",IF(AND(#REF!<>\"\",#REF!<TODAY()),\"Retard\",\"Attente de Livraison\")))","v":""}]
[null,null,null,null,null,null,null,null,{"$f":"IF(F361=\"\",\"\",IF(H361<>\"\",\"OK\",IF(AND(#REF!<>\"\",#REF!<TODAY()),\"Retard\",\"Attente de Livraison\")))","v":""}]
[null,null,null,null,null,null,null,null,{"$f":"IF(F362=\"\",\"\",IF(H362<>\"\",\"OK\",IF(AND(#REF!<>\"\",#REF!<TODAY()),\"Retard\",\"Attente de Livraison\")))","v":""}]
[null,null,null,null,null,null,null,null,{"$f":"IF(F363=\"\",\"\",IF(H363<>\"\",\"OK\",IF(AND(#REF!<>\"\",#REF!<TODAY()),\"Retard\",\"Attente de Livraison\")))","v":""}]
[null,null,null,null,null,null,null,null,{"$f":"IF(F364=\"\",\"\",IF(H364<>\"\",\"OK\",IF(AND(#REF!<>\"\",#REF!<TODAY()),\"Retard\",\"Attente de Livraison\")))","v":""}]
[null,null,null,null,null,null,null,null,{"$f":"IF(F365=\"\",\"\",IF(H365<>\"\",\"OK\",IF(AND(#REF!<>\"\",#REF!<TODAY()),\"Retard\",\"Attente de Livraison\")))","v":""}]
[null,null,null,null,null,null,null,null,{"$f":"IF(F366=\"\",\"\",IF(H366<>\"\",\"OK\",IF(AND(#REF!<>\"\",#REF!<TODAY()),\"Retard\",\"Attente de Livraison\")))","v":""}]
[null,null,null,null,null,null,null,null,{"$f":"IF(F367=\"\",\"\",IF(H367<>\"\",\"OK\",IF(AND(#REF!<>\"\",#REF!<TODAY()),\"Retard\",\"Attente de Livraison\")))","v":""}]
[null,null,null,null,null,null,null,null,{"$f":"IF(F368=\"\",\"\",IF(H368<>\"\",\"OK\",IF(AND(#REF!<>\"\",#REF!<TODAY()),\"Retard\",\"Attente de Livraison\")))","v":""}]
[null,null,null,null,null,null,null,null,{"$f":"IF(F369=\"\",\"\",IF(H369<>\"\",\"OK\",IF(AND(#REF!<>\"\",#REF!<TODAY()),\"Retard\",\"Attente de Livraison\")))","v":""}]
[null,null,null,null,null,null,null,null,{"$f":"IF(F370=\"\",\"\",IF(H370<>\"\",\"OK\",IF(AND(#REF!<>\"\",#REF!<TODAY()),\"Retard\",\"Attente de Livraison\")))","v":""}]
[null,null,null,null,null,null,null,null,{"$f":"IF(F371=\"\",\"\",IF(H371<>\"\",\"OK\",IF(AND(#REF!<>\"\",#REF!<TODAY()),\"Retard\",\"Attente de Livraison\")))","v":""}]
[null,null,null,null,null,null,null,null,{"$f":"IF(F372=\"\",\"\",IF(H372<>\"\",\"OK\",IF(AND(#REF!<>\"\",#REF!<TODAY()),\"Retard\",\"Attente de Livraison\")))","v":""}]
[null,null,null,null,null,null,null,null,{"$f":"IF(F373=\"\",\"\",IF(H373<>\"\",\"OK\",IF(AND(#REF!<>\"\",#REF!<TODAY()),\"Retard\",\"Attente de Livraison\")))","v":""}]
[null,null,null,null,null,null,null,null,{"$f":"IF(F374=\"\",\"\",IF(H374<>\"\",\"OK\",IF(AND(#REF!<>\"\",#REF!<TODAY()),\"Retard\",\"Attente de Livraison\")))","v":""}]
[null,null,null,null,null,null,null,null,{"$f":"IF(F375=\"\",\"\",IF(H375<>\"\",\"OK\",IF(AND(#REF!<>\"\",#REF!<TODAY()),\"Retard\",\"Attente de Livraison\")))","v":""}]
[null,null,null,null,null,null,null,null,{"$f":"IF(F376=\"\",\"\",IF(H376<>\"\",\"OK\",IF(AND(#REF!<>\"\",#REF!<TODAY()),\"Retard\",\"Attente de Livraison\")))","v":""}]
[null,null,null,null,null,null,null,null,{"$f":"IF(F377=\"\",\"\",IF(H377<>\"\",\"OK\",IF(AND(#REF!<>\"\",#REF!<TODAY()),\"Retard\",\"Attente de Livraison\")))","v":""}]
[null,null,null,null,null,null,null,null,{"$f":"IF(F378=\"\",\"\",IF(H378<>\"\",\"OK\",IF(AND(#REF!<>\"\",#REF!<TODAY()),\"Retard\",\"Attente de Livraison\")))","v":""}]
[null,null,null,null,null,null,null,null,{"$f":"IF(F379=\"\",\"\",IF(H379<>\"\",\"OK\",IF(AND(#REF!<>\"\",#REF!<TODAY()),\"Retard\",\"Attente de Livraison\")))","v":""}]
[null,null,null,null,null,null,null,null,{"$f":"IF(F380=\"\",\"\",IF(H380<>\"\",\"OK\",IF(AND(#REF!<>\"\",#REF!<TODAY()),\"Retard\",\"Attente de Livraison\")))","v":""}]
[null,null,null,null,null,null,null,null,{"$f":"IF(F381=\"\",\"\",IF(H381<>\"\",\"OK\",IF(AND(#REF!<>\"\",#REF!<TODAY()),\"Retard\",\"Attente de Livraison\")))","v":""}]
[null,null,null,null,null,null,null,null,{"$f":"IF(F382=\"\",\"\",IF(H382<>\"\",\"OK\",IF(AND(#REF!<>\"\",#REF!<TODAY()),\"Retard\",\"Attente de Livraison\")))","v":""}]
[null,null,null,null,null,null,null,null,{"$f":"IF(F383=\"\",\"\",IF(H383<>\"\",\"OK\",IF(AND(#REF!<>\"\",#REF!<TODAY()),\"Retard\",\"Attente de Livraison\")))","v":""}]
[null,null,null,null,null,null,null,null,{"$f":"IF(F384=\"\",\"\",IF(H384<>\"\",\"OK\",IF(AND(#REF!<>\"\",#REF!<TODAY()),\"Retard\",\"Attente de Livraison\")))","v":""}]
[null,null,null,null,null,null,null,null,{"$f":"IF(F385=\"\",\"\",IF(H385<>\"\",\"OK\",IF(AND(#REF!<>\"\",#REF!<TODAY()),\"Retard\",\"Attente de Livraison\")))","v":""}]
[null,null,null,null,null,null,null,null,{"$f":"IF(F386=\"\",\"\",IF(H386<>\"\",\"OK\",IF(AND(#REF!<>\"\",#REF!<TODAY()),\"Retard\",\"Attente de Livraison\")))","v":""}]
[null,null,null,null,null,null,null,null,{"$f":"IF(F387=\"\",\"\",IF(H387<>\"\",\"OK\",IF(AND(#REF!<>\"\",#REF!<TODAY()),\"Retard\",\"Attente de Livraison\")))","v":""}]
[null,null,null,null,null,null,null,null,{"$f":"IF(F388=\"\",\"\",IF(H388<>\"\",\"OK\",IF(AND(#REF!<>\"\",#REF!<TODAY()),\"Retard\",\"Attente de Livraison\")))","v":""}]
[null,null,null,null,null,null,null,null,{"$f":"IF(F389=\"\",\"\",IF(H389<>\"\",\"OK\",IF(AND(#REF!<>\"\",#REF!<TODAY()),\"Retard\",\"Attente de Livraison\")))","v":""}]
[null,null,null,null,null,null,null,null,{"$f":"IF(F390=\"\",\"\",IF(H390<>\"\",\"OK\",IF(AND(#REF!<>\"\",#REF!<TODAY()),\"Retard\",\"Attente de Livraison\")))","v":""}]
[null,null,null,null,null,null,null,null,{"$f":"IF(F391=\"\",\"\",IF(H391<>\"\",\"OK\",IF(AND(#REF!<>\"\",#REF!<TODAY()),\"Retard\",\"Attente de Livraison\")))","v":""}]
[null,null,null,null,null,null,null,null,{"$f":"IF(F392=\"\",\"\",IF(H392<>\"\",\"OK\",IF(AND(#REF!<>\"\",#REF!<TODAY()),\"Retard\",\"Attente de Livraison\")))","v":""}]
[null,null,null,null,null,null,null,null,{"$f":"IF(F393=\"\",\"\",IF(H393<>\"\",\"OK\",IF(AND(#REF!<>\"\",#REF!<TODAY()),\"Retard\",\"Attente de Livraison\")))","v":""}]
[null,null,null,null,null,null,null,null,{"$f":"IF(F394=\"\",\"\",IF(H394<>\"\",\"OK\",IF(AND(#REF!<>\"\",#REF!<TODAY()),\"Retard\",\"Attente de Livraison\")))","v":""}]
[null,null,null,null,null,null,null,null,{"$f":"IF(F395=\"\",\"\",IF(H395<>\"\",\"OK\",IF(AND(#REF!<>\"\",#REF!<TODAY()),\"Retard\",\"Attente de Livraison\")))","v":""}]
[null,null,null,null,null,null,null,null,{"$f":"IF(F396=\"\",\"\",IF(H396<>\"\",\"OK\",IF(AND(#REF!<>\"\",#REF!<TODAY()),\"Retard\",\"Attente de Livraison\")))","v":""}]
[null,null,null,null,null,null,null,null,{"$f":"IF(F397=\"\",\"\",IF(H397<>\"\",\"OK\",IF(AND(#REF!<>\"\",#REF!<TODAY()),\"Retard\",\"Attente de Livraison\")))","v":""}]
[null,null,null,null,null,null,null,null,{"$f":"IF(F398=\"\",\"\",IF(H398<>\"\",\"OK\",IF(AND(#REF!<>\"\",#REF!<TODAY()),\"Retard\",\"Attente de Livraison\")))","v":""}]
[null,null,null,null,null,null,null,null,{"$f":"IF(F399=\"\",\"\",IF(H399<>\"\",\"OK\",IF(AND(#REF!<>\"\",#REF!<TODAY()),\"Retard\",\"Attente de Livraison\")))","v":""}]
[null,null,null,null,null,null,null,null,{"$f":"IF(F400=\"\",\"\",IF(H400<>\"\",\"OK\",IF(AND(#REF!<>\"\",#REF!<TODAY()),\"Retard\",\"Attente de Livraison\")))","v":""}]
[null,null,null,null,null,null,null,null,{"$f":"IF(F401=\"\",\"\",IF(H401<>\"\",\"OK\",IF(AND(#REF!<>\"\",#REF!<TODAY()),\"Retard\",\"Attente de Livraison\")))","v":""}]
[null,null,null,null,null,null,null,null,{"$f":"IF(F402=\"\",\"\",IF(H402<>\"\",\"OK\",IF(AND(#REF!<>\"\",#REF!<TODAY()),\"Retard\",\"Attente de Livraison\")))","v":""}]
[null,null,null,null,null,null,null,null,{"$f":"IF(F403=\"\",\"\",IF(H403<>\"\",\"OK\",IF(AND(#REF!<>\"\",#REF!<TODAY()),\"Retard\",\"Attente de Livraison\")))","v":""}]
[null,null,null,null,null,null,null,null,{"$f":"IF(F404=\"\",\"\",IF(H404<>\"\",\"OK\",IF(AND(#REF!<>\"\",#REF!<TODAY()),\"Retard\",\"Attente de Livraison\")))","v":""}]
[null,null,null,null,null,null,null,null,{"$f":"IF(F405=\"\",\"\",IF(H405<>\"\",\"OK\",IF(AND(#REF!<>\"\",#REF!<TODAY()),\"Retard\",\"Attente de Livraison\")))","v":""}]
[null,null,null,null,null,null,null,null,{"$f":"IF(F406=\"\",\"\",IF(H406<>\"\",\"OK\",IF(AND(#REF!<>\"\",#REF!<TODAY()),\"Retard\",\"Attente de Livraison\")))","v":""}]
[null,null,null,null,null,null,null,null,{"$f":"IF(F407=\"\",\"\",IF(H407<>\"\",\"OK\",IF(AND(#REF!<>\"\",#REF!<TODAY()),\"Retard\",\"Attente de Livraison\")))","v":""}]
[null,null,null,null,null,null,null,null,{"$f":"IF(F408=\"\",\"\",IF(H408<>\"\",\"OK\",IF(AND(#REF!<>\"\",#REF!<TODAY()),\"Retard\",\"Attente de Livraison\")))","v":""}]
[null,null,null,null,null,null,null,null,{"$f":"IF(F409=\"\",\"\",IF(H409<>\"\",\"OK\",IF(AND(#REF!<>\"\",#REF!<TODAY()),\"Retard\",\"Attente de Livraison\")))","v":""}]
[null,null,null,null,null,null,null,null,{"$f":"IF(F410=\"\",\"\",IF(H410<>\"\",\"OK\",IF(AND(#REF!<>\"\",#REF!<TODAY()),\"Retard\",\"Attente de Livraison\")))","v":""}]
[null,null,null,null,null,null,null,null,{"$f":"IF(F411=\"\",\"\",IF(H411<>\"\",\"OK\",IF(AND(#REF!<>\"\",#REF!<TODAY()),\"Retard\",\"Attente de Livraison\")))","v":""}]
[null,null,null,null,null,null,null,null,{"$f":"IF(F412=\"\",\"\",IF(H412<>\"\",\"OK\",IF(AND(#REF!<>\"\",#REF!<TODAY()),\"Retard\",\"Attente de Livraison\")))","v":""}]
[null,null,null,null,null,null,null,null,{"$f":"IF(F413=\"\",\"\",IF(H413<>\"\",\"OK\",IF(AND(#REF!<>\"\",#REF!<TODAY()),\"Retard\",\"Attente de Livraison\")))","v":""}]
[null,null,null,null,null,null,null,null,{"$f":"IF(F414=\"\",\"\",IF(H414<>\"\",\"OK\",IF(AND(#REF!<>\"\",#REF!<TODAY()),\"Retard\",\"Attente de Livraison\")))","v":""}]
[null,null,null,null,null,null,null,null,{"$f":"IF(F415=\"\",\"\",IF(H415<>\"\",\"OK\",IF(AND(#REF!<>\"\",#REF!<TODAY()),\"Retard\",\"Attente de Livraison\")))","v":""}]
[null,null,null,null,null,null,null,null,{"$f":"IF(F416=\"\",\"\",IF(H416<>\"\",\"OK\",IF(AND(#REF!<>\"\",#REF!<TODAY()),\"Retard\",\"Attente de Livraison\")))","v":""}]
[null,null,null,null,null,null,null,null,{"$f":"IF(F417=\"\",\"\",IF(H417<>\"\",\"OK\",IF(AND(#REF!<>\"\",#REF!<TODAY()),\"Retard\",\"Attente de Livraison\")))","v":""}]
[null,null,null,null,null,null,null,null,{"$f":"IF(F418=\"\",\"\",IF(H418<>\"\",\"OK\",IF(AND(#REF!<>\"\",#REF!<TODAY()),\"Retard\",\"Attente de Livraison\")))","v":""}]
[null,null,null,null,null,null,null,null,{"$f":"IF(F419=\"\",\"\",IF(H419<>\"\",\"OK\",IF(AND(#REF!<>\"\",#REF!<TODAY()),\"Retard\",\"Attente de Livraison\")))","v":""}]
[null,null,null,null,null,null,null,null,{"$f":"IF(F420=\"\",\"\",IF(H420<>\"\",\"OK\",IF(AND(#REF!<>\"\",#REF!<TODAY()),\"Retard\",\"Attente de Livraison\")))","v":""}]
[null,null,null,null,null,null,null,null,{"$f":"IF(F421=\"\",\"\",IF(H421<>\"\",\"OK\",IF(AND(#REF!<>\"\",#REF!<TODAY()),\"Retard\",\"Attente de Livraison\")))","v":""}]
[null,null,null,null,null,null,null,null,{"$f":"IF(F422=\"\",\"\",IF(H422<>\"\",\"OK\",IF(AND(#REF!<>\"\",#REF!<TODAY()),\"Retard\",\"Attente de Livraison\")))","v":""}]
[null,null,null,null,null,null,null,null,{"$f":"IF(F423=\"\",\"\",IF(H423<>\"\",\"OK\",IF(AND(#REF!<>\"\",#REF!<TODAY()),\"Retard\",\"Attente de Livraison\")))","v":""}]
[null,null,null,null,null,null,null,null,{"$f":"IF(F424=\"\",\"\",IF(H424<>\"\",\"OK\",IF(AND(#REF!<>\"\",#REF!<TODAY()),\"Retard\",\"Attente de Livraison\")))","v":""}]
[null,null,null,null,null,null,null,null,{"$f":"IF(F425=\"\",\"\",IF(H425<>\"\",\"OK\",IF(AND(#REF!<>\"\",#REF!<TODAY()),\"Retard\",\"Attente de Livraison\")))","v":""}]
[null,null,null,null,null,null,null,null,{"$f":"IF(F426=\"\",\"\",IF(H426<>\"\",\"OK\",IF(AND(#REF!<>\"\",#REF!<TODAY()),\"Retard\",\"Attente de Livraison\")))","v":""}]
[null,null,null,null,null,null,null,null,{"$f":"IF(F427=\"\",\"\",IF(H427<>\"\",\"OK\",IF(AND(#REF!<>\"\",#REF!<TODAY()),\"Retard\",\"Attente de Livraison\")))","v":""}]
[null,null,null,null,null,null,null,null,{"$f":"IF(F428=\"\",\"\",IF(H428<>\"\",\"OK\",IF(AND(#REF!<>\"\",#REF!<TODAY()),\"Retard\",\"Attente de Livraison\")))","v":""}]
[null,null,null,null,null,null,null,null,{"$f":"IF(F429=\"\",\"\",IF(H429<>\"\",\"OK\",IF(AND(#REF!<>\"\",#REF!<TODAY()),\"Retard\",\"Attente de Livraison\")))","v":""}]
[null,null,null,null,null,null,null,null,{"$f":"IF(F430=\"\",\"\",IF(H430<>\"\",\"OK\",IF(AND(#REF!<>\"\",#REF!<TODAY()),\"Retard\",\"Attente de Livraison\")))","v":""}]
[null,null,null,null,null,null,null,null,{"$f":"IF(F431=\"\",\"\",IF(H431<>\"\",\"OK\",IF(AND(#REF!<>\"\",#REF!<TODAY()),\"Retard\",\"Attente de Livraison\")))","v":""}]
[null,null,null,null,null,null,null,null,{"$f":"IF(F432=\"\",\"\",IF(H432<>\"\",\"OK\",IF(AND(#REF!<>\"\",#REF!<TODAY()),\"Retard\",\"Attente de Livraison\")))","v":""}]
[null,null,null,null,null,null,null,null,{"$f":"IF(F433=\"\",\"\",IF(H433<>\"\",\"OK\",IF(AND(#REF!<>\"\",#REF!<TODAY()),\"Retard\",\"Attente de Livraison\")))","v":""}]
[null,null,null,null,null,null,null,null,{"$f":"IF(F434=\"\",\"\",IF(H434<>\"\",\"OK\",IF(AND(#REF!<>\"\",#REF!<TODAY()),\"Retard\",\"Attente de Livraison\")))","v":""}]
[null,null,null,null,null,null,null,null,{"$f":"IF(F435=\"\",\"\",IF(H435<>\"\",\"OK\",IF(AND(#REF!<>\"\",#REF!<TODAY()),\"Retard\",\"Attente de Livraison\")))","v":""}]
[null,null,null,null,null,null,null,null,{"$f":"IF(F436=\"\",\"\",IF(H436<>\"\",\"OK\",IF(AND(#REF!<>\"\",#REF!<TODAY()),\"Retard\",\"Attente de Livraison\")))","v":""}]
[null,null,null,null,null,null,null,null,{"$f":"IF(F437=\"\",\"\",IF(H437<>\"\",\"OK\",IF(AND(#REF!<>\"\",#REF!<TODAY()),\"Retard\",\"Attente de Livraison\")))","v":""}]
[null,null,null,null,null,null,null,null,{"$f":"IF(F438=\"\",\"\",IF(H438<>\"\",\"OK\",IF(AND(#REF!<>\"\",#REF!<TODAY()),\"Retard\",\"Attente de Livraison\")))","v":""}]
[null,null,null,null,null,null,null,null,{"$f":"IF(F439=\"\",\"\",IF(H439<>\"\",\"OK\",IF(AND(#REF!<>\"\",#REF!<TODAY()),\"Retard\",\"Attente de Livraison\")))","v":""}]
[null,null,null,null,null,null,null,null,{"$f":"IF(F440=\"\",\"\",IF(H440<>\"\",\"OK\",IF(AND(#REF!<>\"\",#REF!<TODAY()),\"Retard\",\"Attente de Livraison\")))","v":""}]
[null,null,null,null,null,null,null,null,{"$f":"IF(F441=\"\",\"\",IF(H441<>\"\",\"OK\",IF(AND(#REF!<>\"\",#REF!<TODAY()),\"Retard\",\"Attente de Livraison\")))","v":""}]
[null,null,null,null,null,null,null,null,{"$f":"IF(F442=\"\",\"\",IF(H442<>\"\",\"OK\",IF(AND(#REF!<>\"\",#REF!<TODAY()),\"Retard\",\"Attente de Livraison\")))","v":""}]
[null,null,null,null,null,null,null,null,{"$f":"IF(F443=\"\",\"\",IF(H443<>\"\",\"OK\",IF(AND(#REF!<>\"\",#REF!<TODAY()),\"Retard\",\"Attente de Livraison\")))","v":""}]
[null,null,null,null,null,null,null,null,{"$f":"IF(F444=\"\",\"\",IF(H444<>\"\",\"OK\",IF(AND(#REF!<>\"\",#REF!<TODAY()),\"Retard\",\"Attente de Livraison\")))","v":""}]
[null,null,null,null,null,null,null,null,{"$f":"IF(F445=\"\",\"\",IF(H445<>\"\",\"OK\",IF(AND(#REF!<>\"\",#REF!<TODAY()),\"Retard\",\"Attente de Livraison\")))","v":""}]
[null,null,null,null,null,null,null,null,{"$f":"IF(F446=\"\",\"\",IF(H446<>\"\",\"OK\",IF(AND(#REF!<>\"\",#REF!<TODAY()),\"Retard\",\"Attente de Livraison\")))","v":""}]
[null,null,null,null,null,null,null,null,{"$f":"IF(F447=\"\",\"\",IF(H447<>\"\",\"OK\",IF(AND(#REF!<>\"\",#REF!<TODAY()),\"Retard\",\"Attente de Livraison\")))","v":""}]
[null,null,null,null,null,null,null,null,{"$f":"IF(F448=\"\",\"\",IF(H448<>\"\",\"OK\",IF(AND(#REF!<>\"\",#REF!<TODAY()),\"Retard\",\"Attente de Livraison\")))","v":""}]
[null,null,null,null,null,null,null,null,{"$f":"IF(F449=\"\",\"\",IF(H449<>\"\",\"OK\",IF(AND(#REF!<>\"\",#REF!<TODAY()),\"Retard\",\"Attente de Livraison\")))","v":""}]
[null,null,null,null,null,null,null,null,{"$f":"IF(F450=\"\",\"\",IF(H450<>\"\",\"OK\",IF(AND(#REF!<>\"\",#REF!<TODAY()),\"Retard\",\"Attente de Livraison\")))","v":""}]
[null,null,null,null,null,null,null,null,{"$f":"IF(F451=\"\",\"\",IF(H451<>\"\",\"OK\",IF(AND(#REF!<>\"\",#REF!<TODAY()),\"Retard\",\"Attente de Livraison\")))","v":""}]
[null,null,null,null,null,null,null,null,{"$f":"IF(F452=\"\",\"\",IF(H452<>\"\",\"OK\",IF(AND(#REF!<>\"\",#REF!<TODAY()),\"Retard\",\"Attente de Livraison\")))","v":""}]
[null,null,null,null,null,null,null,null,{"$f":"IF(F453=\"\",\"\",IF(H453<>\"\",\"OK\",IF(AND(#REF!<>\"\",#REF!<TODAY()),\"Retard\",\"Attente de Livraison\")))","v":""}]
[null,null,null,null,null,null,null,null,{"$f":"IF(F454=\"\",\"\",IF(H454<>\"\",\"OK\",IF(AND(#REF!<>\"\",#REF!<TODAY()),\"Retard\",\"Attente de Livraison\")))","v":""}]
[null,null,null,null,null,null,null,null,{"$f":"IF(F455=\"\",\"\",IF(H455<>\"\",\"OK\",IF(AND(#REF!<>\"\",#REF!<TODAY()),\"Retard\",\"Attente de Livraison\")))","v":""}]
[null,null,null,null,null,null,null,null,{"$f":"IF(F456=\"\",\"\",IF(H456<>\"\",\"OK\",IF(AND(#REF!<>\"\",#REF!<TODAY()),\"Retard\",\"Attente de Livraison\")))","v":""}]
[null,null,null,null,null,null,null,null,{"$f":"IF(F457=\"\",\"\",IF(H457<>\"\",\"OK\",IF(AND(#REF!<>\"\",#REF!<TODAY()),\"Retard\",\"Attente de Livraison\")))","v":""}]
[null,null,null,null,null,null,null,null,{"$f":"IF(F458=\"\",\"\",IF(H458<>\"\",\"OK\",IF(AND(#REF!<>\"\",#REF!<TODAY()),\"Retard\",\"Attente de Livraison\")))","v":""}]
[null,null,null,null,null,null,null,null,{"$f":"IF(F459=\"\",\"\",IF(H459<>\"\",\"OK\",IF(AND(#REF!<>\"\",#REF!<TODAY()),\"Retard\",\"Attente de Livraison\")))","v":""}]
[null,null,null,null,null,null,null,null,{"$f":"IF(F460=\"\",\"\",IF(H460<>\"\",\"OK\",IF(AND(#REF!<>\"\",#REF!<TODAY()),\"Retard\",\"Attente de Livraison\")))","v":""}]
[null,null,null,null,null,null,null,null,{"$f":"IF(F461=\"\",\"\",IF(H461<>\"\",\"OK\",IF(AND(#REF!<>\"\",#REF!<TODAY()),\"Retard\",\"Attente de Livraison\")))","v":""}]
[null,null,null,null,null,null,null,null,{"$f":"IF(F462=\"\",\"\",IF(H462<>\"\",\"OK\",IF(AND(#REF!<>\"\",#REF!<TODAY()),\"Retard\",\"Attente de Livraison\")))","v":""}]
[null,null,null,null,null,null,null,null,{"$f":"IF(F463=\"\",\"\",IF(H463<>\"\",\"OK\",IF(AND(#REF!<>\"\",#REF!<TODAY()),\"Retard\",\"Attente de Livraison\")))","v":""}]
[null,null,null,null,null,null,null,null,{"$f":"IF(F464=\"\",\"\",IF(H464<>\"\",\"OK\",IF(AND(#REF!<>\"\",#REF!<TODAY()),\"Retard\",\"Attente de Livraison\")))","v":""}]
[null,null,null,null,null,null,null,null,{"$f":"IF(F465=\"\",\"\",IF(H465<>\"\",\"OK\",IF(AND(#REF!<>\"\",#REF!<TODAY()),\"Retard\",\"Attente de Livraison\")))","v":""}]
[null,null,null,null,null,null,null,null,{"$f":"IF(F466=\"\",\"\",IF(H466<>\"\",\"OK\",IF(AND(#REF!<>\"\",#REF!<TODAY()),\"Retard\",\"Attente de Livraison\")))","v":""}]
[null,null,null,null,null,null,null,null,{"$f":"IF(F467=\"\",\"\",IF(H467<>\"\",\"OK\",IF(AND(#REF!<>\"\",#REF!<TODAY()),\"Retard\",\"Attente de Livraison\")))","v":""}]
[null,null,null,null,null,null,null,null,{"$f":"IF(F468=\"\",\"\",IF(H468<>\"\",\"OK\",IF(AND(#REF!<>\"\",#REF!<TODAY()),\"Retard\",\"Attente de Livraison\")))","v":""}]
[null,null,null,null,null,null,null,null,{"$f":"IF(F469=\"\",\"\",IF(H469<>\"\",\"OK\",IF(AND(#REF!<>\"\",#REF!<TODAY()),\"Retard\",\"Attente de Livraison\")))","v":""}]
[null,null,null,null,null,null,null,null,{"$f":"IF(F470=\"\",\"\",IF(H470<>\"\",\"OK\",IF(AND(#REF!<>\"\",#REF!<TODAY()),\"Retard\",\"Attente de Livraison\")))","v":""}]
[null,null,null,null,null,null,null,null,{"$f":"IF(F471=\"\",\"\",IF(H471<>\"\",\"OK\",IF(AND(#REF!<>\"\",#REF!<TODAY()),\"Retard\",\"Attente de Livraison\")))","v":""}]
[null,null,null,null,null,null,null,null,{"$f":"IF(F472=\"\",\"\",IF(H472<>\"\",\"OK\",IF(AND(#REF!<>\"\",#REF!<TODAY()),\"Retard\",\"Attente de Livraison\")))","v":""}]
[null,null,null,null,null,null,null,null,{"$f":"IF(F473=\"\",\"\",IF(H473<>\"\",\"OK\",IF(AND(#REF!<>\"\",#REF!<TODAY()),\"Retard\",\"Attente de Livraison\")))","v":""}]
[null,null,null,null,null,null,null,null,{"$f":"IF(F474=\"\",\"\",IF(H474<>\"\",\"OK\",IF(AND(#REF!<>\"\",#REF!<TODAY()),\"Retard\",\"Attente de Livraison\")))","v":""}]
[null,null,null,null,null,null,null,null,{"$f":"IF(F475=\"\",\"\",IF(H475<>\"\",\"OK\",IF(AND(#REF!<>\"\",#REF!<TODAY()),\"Retard\",\"Attente de Livraison\")))","v":""}]
[null,null,null,null,null,null,null,null,{"$f":"IF(F476=\"\",\"\",IF(H476<>\"\",\"OK\",IF(AND(#REF!<>\"\",#REF!<TODAY()),\"Retard\",\"Attente de Livraison\")))","v":""}]
[null,null,null,null,null,null,null,null,{"$f":"IF(F477=\"\",\"\",IF(H477<>\"\",\"OK\",IF(AND(#REF!<>\"\",#REF!<TODAY()),\"Retard\",\"Attente de Livraison\")))","v":""}]
[null,null,null,null,null,null,null,null,{"$f":"IF(F478=\"\",\"\",IF(H478<>\"\",\"OK\",IF(AND(#REF!<>\"\",#REF!<TODAY()),\"Retard\",\"Attente de Livraison\")))","v":""}]
[null,null,null,null,null,null,null,null,{"$f":"IF(F479=\"\",\"\",IF(H479<>\"\",\"OK\",IF(AND(#REF!<>\"\",#REF!<TODAY()),\"Retard\",\"Attente de Livraison\")))","v":""}]
[null,null,null,null,null,null,null,null,{"$f":"IF(F480=\"\",\"\",IF(H480<>\"\",\"OK\",IF(AND(#REF!<>\"\",#REF!<TODAY()),\"Retard\",\"Attente de Livraison\")))","v":""}]
[null,null,null,null,null,null,null,null,{"$f":"IF(F481=\"\",\"\",IF(H481<>\"\",\"OK\",IF(AND(#REF!<>\"\",#REF!<TODAY()),\"Retard\",\"Attente de Livraison\")))","v":""}]
[null,null,null,null,null,null,null,null,{"$f":"IF(F482=\"\",\"\",IF(H482<>\"\",\"OK\",IF(AND(#REF!<>\"\",#REF!<TODAY()),\"Retard\",\"Attente de Livraison\")))","v":""}]
[null,null,null,null,null,null,null,null,{"$f":"IF(F483=\"\",\"\",IF(H483<>\"\",\"OK\",IF(AND(#REF!<>\"\",#REF!<TODAY()),\"Retard\",\"Attente de Livraison\")))","v":""}]
[null,null,null,null,null,null,null,null,{"$f":"IF(F484=\"\",\"\",IF(H484<>\"\",\"OK\",IF(AND(#REF!<>\"\",#REF!<TODAY()),\"Retard\",\"Attente de Livraison\")))","v":""}]
[null,null,null,null,null,null,null,null,{"$f":"IF(F485=\"\",\"\",IF(H485<>\"\",\"OK\",IF(AND(#REF!<>\"\",#REF!<TODAY()),\"Retard\",\"Attente de Livraison\")))","v":""}]
[null,null,null,null,null,null,null,null,{"$f":"IF(F486=\"\",\"\",IF(H486<>\"\",\"OK\",IF(AND(#REF!<>\"\",#REF!<TODAY()),\"Retard\",\"Attente de Livraison\")))","v":""}]
[null,null,null,null,null,null,null,null,{"$f":"IF(F487=\"\",\"\",IF(H487<>\"\",\"OK\",IF(AND(#REF!<>\"\",#REF!<TODAY()),\"Retard\",\"Attente de Livraison\")))","v":""}]
[null,null,null,null,null,null,null,null,{"$f":"IF(F488=\"\",\"\",IF(H488<>\"\",\"OK\",IF(AND(#REF!<>\"\",#REF!<TODAY()),\"Retard\",\"Attente de Livraison\")))","v":""}]
[null,null,null,null,null,null,null,null,{"$f":"IF(F489=\"\",\"\",IF(H489<>\"\",\"OK\",IF(AND(#REF!<>\"\",#REF!<TODAY()),\"Retard\",\"Attente de Livraison\")))","v":""}]
[null,null,null,null,null,null,null,null,{"$f":"IF(F490=\"\",\"\",IF(H490<>\"\",\"OK\",IF(AND(#REF!<>\"\",#REF!<TODAY()),\"Retard\",\"Attente de Livraison\")))","v":""}]
[null,null,null,null,null,null,null,null,{"$f":"IF(F491=\"\",\"\",IF(H491<>\"\",\"OK\",IF(AND(#REF!<>\"\",#REF!<TODAY()),\"Retard\",\"Attente de Livraison\")))","v":""}]
[null,null,null,null,null,null,null,null,{"$f":"IF(F492=\"\",\"\",IF(H492<>\"\",\"OK\",IF(AND(#REF!<>\"\",#REF!<TODAY()),\"Retard\",\"Attente de Livraison\")))","v":""}]
[null,null,null,null,null,null,null,null,{"$f":"IF(F493=\"\",\"\",IF(H493<>\"\",\"OK\",IF(AND(#REF!<>\"\",#REF!<TODAY()),\"Retard\",\"Attente de Livraison\")))","v":""}]
[null,null,null,null,null,null,null,null,{"$f":"IF(F494=\"\",\"\",IF(H494<>\"\",\"OK\",IF(AND(#REF!<>\"\",#REF!<TODAY()),\"Retard\",\"Attente de Livraison\")))","v":""}]
[null,null,null,null,null,null,null,null,{"$f":"IF(F495=\"\",\"\",IF(H495<>\"\",\"OK\",IF(AND(#REF!<>\"\",#REF!<TODAY()),\"Retard\",\"Attente de Livraison\")))","v":""}]
[null,null,null,null,null,null,null,null,{"$f":"IF(F496=\"\",\"\",IF(H496<>\"\",\"OK\",IF(AND(#REF!<>\"\",#REF!<TODAY()),\"Retard\",\"Attente de Livraison\")))","v":""}]
[null,null,null,null,null,null,null,null,{"$f":"IF(F497=\"\",\"\",IF(H497<>\"\",\"OK\",IF(AND(#REF!<>\"\",#REF!<TODAY()),\"Retard\",\"Attente de Livraison\")))","v":""}]
[null,null,null,null,null,null,null,null,{"$f":"IF(F498=\"\",\"\",IF(H498<>\"\",\"OK\",IF(AND(#REF!<>\"\",#REF!<TODAY()),\"Retard\",\"Attente de Livraison\")))","v":""}]
[null,null,null,null,null,null,null,null,{"$f":"IF(F499=\"\",\"\",IF(H499<>\"\",\"OK\",IF(AND(#REF!<>\"\",#REF!<TODAY()),\"Retard\",\"Attente de Livraison\")))","v":""}]
[null,null,null,null,null,null,null,null,{"$f":"IF(F500=\"\",\"\",IF(H500<>\"\",\"OK\",IF(AND(#REF!<>\"\",#REF!<TODAY()),\"Retard\",\"Attente de Livraison\")))","v":""}]
[null,null,null,null,null,null,null,null,{"$f":"IF(F501=\"\",\"\",IF(H501<>\"\",\"OK\",IF(AND(#REF!<>\"\",#REF!<TODAY()),\"Retard\",\"Attente de Livraison\")))","v":""}]
[null,null,null,null,null,null,null,null,{"$f":"IF(F502=\"\",\"\",IF(H502<>\"\",\"OK\",IF(AND(#REF!<>\"\",#REF!<TODAY()),\"Retard\",\"Attente de Livraison\")))","v":""}]
[null,null,null,null,null,null,null,null,{"$f":"IF(F503=\"\",\"\",IF(H503<>\"\",\"OK\",IF(AND(#REF!<>\"\",#REF!<TODAY()),\"Retard\",\"Attente de Livraison\")))","v":""}]
[null,null,null,null,null,null,null,null,{"$f":"IF(F504=\"\",\"\",IF(H504<>\"\",\"OK\",IF(AND(#REF!<>\"\",#REF!<TODAY()),\"Retard\",\"Attente de Livraison\")))","v":""}]
[null,null,null,null,null,null,null,null,{"$f":"IF(F505=\"\",\"\",IF(H505<>\"\",\"OK\",IF(AND(#REF!<>\"\",#REF!<TODAY()),\"Retard\",\"Attente de Livraison\")))","v":""}]
[null,null,null,null,null,null,null,null,{"$f":"IF(F506=\"\",\"\",IF(H506<>\"\",\"OK\",IF(AND(#REF!<>\"\",#REF!<TODAY()),\"Retard\",\"Attente de Livraison\")))","v":""}]
[null,null,null,null,null,null,null,null,{"$f":"IF(F507=\"\",\"\",IF(H507<>\"\",\"OK\",IF(AND(#REF!<>\"\",#REF!<TODAY()),\"Retard\",\"Attente de Livraison\")))","v":""}]
[null,null,null,null,null,null,null,null,{"$f":"IF(F508=\"\",\"\",IF(H508<>\"\",\"OK\",IF(AND(#REF!<>\"\",#REF!<TODAY()),\"Retard\",\"Attente de Livraison\")))","v":""}]
[null,null,null,null,null,null,null,null,{"$f":"IF(F509=\"\",\"\",IF(H509<>\"\",\"OK\",IF(AND(#REF!<>\"\",#REF!<TODAY()),\"Retard\",\"Attente de Livraison\")))","v":""}]
[null,null,null,null,null,null,null,null,{"$f":"IF(F510=\"\",\"\",IF(H510<>\"\",\"OK\",IF(AND(#REF!<>\"\",#REF!<TODAY()),\"Retard\",\"Attente de Livraison\")))","v":""}]
[null,null,null,null,null,null,null,null,{"$f":"IF(F511=\"\",\"\",IF(H511<>\"\",\"OK\",IF(AND(#REF!<>\"\",#REF!<TODAY()),\"Retard\",\"Attente de Livraison\")))","v":""}]
[null,null,null,null,null,null,null,null,{"$f":"IF(F512=\"\",\"\",IF(H512<>\"\",\"OK\",IF(AND(#REF!<>\"\",#REF!<TODAY()),\"Retard\",\"Attente de Livraison\")))","v":""}]
[null,null,null,null,null,null,null,null,{"$f":"IF(F513=\"\",\"\",IF(H513<>\"\",\"OK\",IF(AND(#REF!<>\"\",#REF!<TODAY()),\"Retard\",\"Attente de Livraison\")))","v":""}]
[null,null,null,null,null,null,null,null,{"$f":"IF(F514=\"\",\"\",IF(H514<>\"\",\"OK\",IF(AND(#REF!<>\"\",#REF!<TODAY()),\"Retard\",\"Attente de Livraison\")))","v":""}]
[null,null,null,null,null,null,null,null,{"$f":"IF(F515=\"\",\"\",IF(H515<>\"\",\"OK\",IF(AND(#REF!<>\"\",#REF!<TODAY()),\"Retard\",\"Attente de Livraison\")))","v":""}]
[null,null,null,null,null,null,null,null,{"$f":"IF(F516=\"\",\"\",IF(H516<>\"\",\"OK\",IF(AND(#REF!<>\"\",#REF!<TODAY()),\"Retard\",\"Attente de Livraison\")))","v":""}]
[null,null,null,null,null,null,null,null,{"$f":"IF(F517=\"\",\"\",IF(H517<>\"\",\"OK\",IF(AND(#REF!<>\"\",#REF!<TODAY()),\"Retard\",\"Attente de Livraison\")))","v":""}]
[null,null,null,null,null,null,null,null,{"$f":"IF(F518=\"\",\"\",IF(H518<>\"\",\"OK\",IF(AND(#REF!<>\"\",#REF!<TODAY()),\"Retard\",\"Attente de Livraison\")))","v":""}]
[null,null,null,null,null,null,null,null,{"$f":"IF(F519=\"\",\"\",IF(H519<>\"\",\"OK\",IF(AND(#REF!<>\"\",#REF!<TODAY()),\"Retard\",\"Attente de Livraison\")))","v":""}]
[null,null,null,null,null,null,null,null,{"$f":"IF(F520=\"\",\"\",IF(H520<>\"\",\"OK\",IF(AND(#REF!<>\"\",#REF!<TODAY()),\"Retard\",\"Attente de Livraison\")))","v":""}]
[null,null,null,null,null,null,null,null,{"$f":"IF(F521=\"\",\"\",IF(H521<>\"\",\"OK\",IF(AND(#REF!<>\"\",#REF!<TODAY()),\"Retard\",\"Attente de Livraison\")))","v":""}]
[null,null,null,null,null,null,null,null,{"$f":"IF(F522=\"\",\"\",IF(H522<>\"\",\"OK\",IF(AND(#REF!<>\"\",#REF!<TODAY()),\"Retard\",\"Attente de Livraison\")))","v":""}]
[null,null,null,null,null,null,null,null,{"$f":"IF(F523=\"\",\"\",IF(H523<>\"\",\"OK\",IF(AND(#REF!<>\"\",#REF!<TODAY()),\"Retard\",\"Attente de Livraison\")))","v":""}]
[null,null,null,null,null,null,null,null,{"$f":"IF(F524=\"\",\"\",IF(H524<>\"\",\"OK\",IF(AND(#REF!<>\"\",#REF!<TODAY()),\"Retard\",\"Attente de Livraison\")))","v":""}]
[null,null,null,null,null,null,null,null,{"$f":"IF(F525=\"\",\"\",IF(H525<>\"\",\"OK\",IF(AND(#REF!<>\"\",#REF!<TODAY()),\"Retard\",\"Attente de Livraison\")))","v":""}]
[null,null,null,null,null,null,null,null,{"$f":"IF(F526=\"\",\"\",IF(H526<>\"\",\"OK\",IF(AND(#REF!<>\"\",#REF!<TODAY()),\"Retard\",\"Attente de Livraison\")))","v":""}]
[null,null,null,null,null,null,null,null,{"$f":"IF(F527=\"\",\"\",IF(H527<>\"\",\"OK\",IF(AND(#REF!<>\"\",#REF!<TODAY()),\"Retard\",\"Attente de Livraison\")))","v":""}]
[null,null,null,null,null,null,null,null,{"$f":"IF(F528=\"\",\"\",IF(H528<>\"\",\"OK\",IF(AND(#REF!<>\"\",#REF!<TODAY()),\"Retard\",\"Attente de Livraison\")))","v":""}]
[null,null,null,null,null,null,null,null,{"$f":"IF(F529=\"\",\"\",IF(H529<>\"\",\"OK\",IF(AND(#REF!<>\"\",#REF!<TODAY()),\"Retard\",\"Attente de Livraison\")))","v":""}]
[null,null,null,null,null,null,null,null,{"$f":"IF(F530=\"\",\"\",IF(H530<>\"\",\"OK\",IF(AND(#REF!<>\"\",#REF!<TODAY()),\"Retard\",\"Attente de Livraison\")))","v":""}]
[null,null,null,null,null,null,null,null,{"$f":"IF(F531=\"\",\"\",IF(H531<>\"\",\"OK\",IF(AND(#REF!<>\"\",#REF!<TODAY()),\"Retard\",\"Attente de Livraison\")))","v":""}]
[null,null,null,null,null,null,null,null,{"$f":"IF(F532=\"\",\"\",IF(H532<>\"\",\"OK\",IF(AND(#REF!<>\"\",#REF!<TODAY()),\"Retard\",\"Attente de Livraison\")))","v":""}]
[null,null,null,null,null,null,null,null,{"$f":"IF(F533=\"\",\"\",IF(H533<>\"\",\"OK\",IF(AND(#REF!<>\"\",#REF!<TODAY()),\"Retard\",\"Attente de Livraison\")))","v":""}]
[null,null,null,null,null,null,null,null,{"$f":"IF(F534=\"\",\"\",IF(H534<>\"\",\"OK\",IF(AND(#REF!<>\"\",#REF!<TODAY()),\"Retard\",\"Attente de Livraison\")))","v":""}]
[null,null,null,null,null,null,null,null,{"$f":"IF(F535=\"\",\"\",IF(H535<>\"\",\"OK\",IF(AND(#REF!<>\"\",#REF!<TODAY()),\"Retard\",\"Attente de Livraison\")))","v":""}]
[null,null,null,null,null,null,null,null,{"$f":"IF(F536=\"\",\"\",IF(H536<>\"\",\"OK\",IF(AND(#REF!<>\"\",#REF!<TODAY()),\"Retard\",\"Attente de Livraison\")))","v":""}]
[null,null,null,null,null,null,null,null,{"$f":"IF(F537=\"\",\"\",IF(H537<>\"\",\"OK\",IF(AND(#REF!<>\"\",#REF!<TODAY()),\"Retard\",\"Attente de Livraison\")))","v":""}]
[null,null,null,null,null,null,null,null,{"$f":"IF(F538=\"\",\"\",IF(H538<>\"\",\"OK\",IF(AND(#REF!<>\"\",#REF!<TODAY()),\"Retard\",\"Attente de Livraison\")))","v":""}]
[null,null,null,null,null,null,null,null,{"$f":"IF(F539=\"\",\"\",IF(H539<>\"\",\"OK\",IF(AND(#REF!<>\"\",#REF!<TODAY()),\"Retard\",\"Attente de Livraison\")))","v":""}]
[null,null,null,null,null,null,null,null,{"$f":"IF(F540=\"\",\"\",IF(H540<>\"\",\"OK\",IF(AND(#REF!<>\"\",#REF!<TODAY()),\"Retard\",\"Attente de Livraison\")))","v":""}]
[null,null,null,null,null,null,null,null,{"$f":"IF(F541=\"\",\"\",IF(H541<>\"\",\"OK\",IF(AND(#REF!<>\"\",#REF!<TODAY()),\"Retard\",\"Attente de Livraison\")))","v":""}]
[null,null,null,null,null,null,null,null,{"$f":"IF(F542=\"\",\"\",IF(H542<>\"\",\"OK\",IF(AND(#REF!<>\"\",#REF!<TODAY()),\"Retard\",\"Attente de Livraison\")))","v":""}]
[null,null,null,null,null,null,null,null,{"$f":"IF(F543=\"\",\"\",IF(H543<>\"\",\"OK\",IF(AND(#REF!<>\"\",#REF!<TODAY()),\"Retard\",\"Attente de Livraison\")))","v":""}]
[null,null,null,null,null,null,null,null,{"$f":"IF(F544=\"\",\"\",IF(H544<>\"\",\"OK\",IF(AND(#REF!<>\"\",#REF!<TODAY()),\"Retard\",\"Attente de Livraison\")))","v":""}]
[null,null,null,null,null,null,null,null,{"$f":"IF(F545=\"\",\"\",IF(H545<>\"\",\"OK\",IF(AND(#REF!<>\"\",#REF!<TODAY()),\"Retard\",\"Attente de Livraison\")))","v":""}]
[null,null,null,null,null,null,null,null,{"$f":"IF(F546=\"\",\"\",IF(H546<>\"\",\"OK\",IF(AND(#REF!<>\"\",#REF!<TODAY()),\"Retard\",\"Attente de Livraison\")))","v":""}]
[null,null,null,null,null,null,null,null,{"$f":"IF(F547=\"\",\"\",IF(H547<>\"\",\"OK\",IF(AND(#REF!<>\"\",#REF!<TODAY()),\"Retard\",\"Attente de Livraison\")))","v":""}]
[null,null,null,null,null,null,null,null,{"$f":"IF(F548=\"\",\"\",IF(H548<>\"\",\"OK\",IF(AND(#REF!<>\"\",#REF!<TODAY()),\"Retard\",\"Attente de Livraison\")))","v":""}]
[null,null,null,null,null,null,null,null,{"$f":"IF(F549=\"\",\"\",IF(H549<>\"\",\"OK\",IF(AND(#REF!<>\"\",#REF!<TODAY()),\"Retard\",\"Attente de Livraison\")))","v":""}]
[null,null,null,null,null,null,null,null,{"$f":"IF(F550=\"\",\"\",IF(H550<>\"\",\"OK\",IF(AND(#REF!<>\"\",#REF!<TODAY()),\"Retard\",\"Attente de Livraison\")))","v":""}]
[null,null,null,null,null,null,null,null,{"$f":"IF(F551=\"\",\"\",IF(H551<>\"\",\"OK\",IF(AND(#REF!<>\"\",#REF!<TODAY()),\"Retard\",\"Attente de Livraison\")))","v":""}]
[null,null,null,null,null,null,null,null,{"$f":"IF(F552=\"\",\"\",IF(H552<>\"\",\"OK\",IF(AND(#REF!<>\"\",#REF!<TODAY()),\"Retard\",\"Attente de Livraison\")))","v":""}]
[null,null,null,null,null,null,null,null,{"$f":"IF(F553=\"\",\"\",IF(H553<>\"\",\"OK\",IF(AND(#REF!<>\"\",#REF!<TODAY()),\"Retard\",\"Attente de Livraison\")))","v":""}]
[null,null,null,null,null,null,null,null,{"$f":"IF(F554=\"\",\"\",IF(H554<>\"\",\"OK\",IF(AND(#REF!<>\"\",#REF!<TODAY()),\"Retard\",\"Attente de Livraison\")))","v":""}]
[null,null,null,null,null,null,null,null,{"$f":"IF(F555=\"\",\"\",IF(H555<>\"\",\"OK\",IF(AND(#REF!<>\"\",#REF!<TODAY()),\"Retard\",\"Attente de Livraison\")))","v":""}]
[null,null,null,null,null,null,null,null,{"$f":"IF(F556=\"\",\"\",IF(H556<>\"\",\"OK\",IF(AND(#REF!<>\"\",#REF!<TODAY()),\"Retard\",\"Attente de Livraison\")))","v":""}]
[null,null,null,null,null,null,null,null,{"$f":"IF(F557=\"\",\"\",IF(H557<>\"\",\"OK\",IF(AND(#REF!<>\"\",#REF!<TODAY()),\"Retard\",\"Attente de Livraison\")))","v":""}]
[null,null,null,null,null,null,null,null,{"$f":"IF(F558=\"\",\"\",IF(H558<>\"\",\"OK\",IF(AND(#REF!<>\"\",#REF!<TODAY()),\"Retard\",\"Attente de Livraison\")))","v":""}]
[null,null,null,null,null,null,null,null,{"$f":"IF(F559=\"\",\"\",IF(H559<>\"\",\"OK\",IF(AND(#REF!<>\"\",#REF!<TODAY()),\"Retard\",\"Attente de Livraison\")))","v":""}]
[null,null,null,null,null,null,null,null,{"$f":"IF(F560=\"\",\"\",IF(H560<>\"\",\"OK\",IF(AND(#REF!<>\"\",#REF!<TODAY()),\"Retard\",\"Attente de Livraison\")))","v":""}]
[null,null,null,null,null,null,null,null,{"$f":"IF(F561=\"\",\"\",IF(H561<>\"\",\"OK\",IF(AND(#REF!<>\"\",#REF!<TODAY()),\"Retard\",\"Attente de Livraison\")))","v":""}]
[null,null,null,null,null,null,null,null,{"$f":"IF(F562=\"\",\"\",IF(H562<>\"\",\"OK\",IF(AND(#REF!<>\"\",#REF!<TODAY()),\"Retard\",\"Attente de Livraison\")))","v":""}]
[null,null,null,null,null,null,null,null,{"$f":"IF(F563=\"\",\"\",IF(H563<>\"\",\"OK\",IF(AND(#REF!<>\"\",#REF!<TODAY()),\"Retard\",\"Attente de Livraison\")))","v":""}]
[null,null,null,null,null,null,null,null,{"$f":"IF(F564=\"\",\"\",IF(H564<>\"\",\"OK\",IF(AND(#REF!<>\"\",#REF!<TODAY()),\"Retard\",\"Attente de Livraison\")))","v":""}]
[null,null,null,null,null,null,null,null,{"$f":"IF(F565=\"\",\"\",IF(H565<>\"\",\"OK\",IF(AND(#REF!<>\"\",#REF!<TODAY()),\"Retard\",\"Attente de Livraison\")))","v":""}]
[null,null,null,null,null,null,null,null,{"$f":"IF(F566=\"\",\"\",IF(H566<>\"\",\"OK\",IF(AND(#REF!<>\"\",#REF!<TODAY()),\"Retard\",\"Attente de Livraison\")))","v":""}]
[null,null,null,null,null,null,null,null,{"$f":"IF(F567=\"\",\"\",IF(H567<>\"\",\"OK\",IF(AND(#REF!<>\"\",#REF!<TODAY()),\"Retard\",\"Attente de Livraison\")))","v":""}]
[null,null,null,null,null,null,null,null,{"$f":"IF(F568=\"\",\"\",IF(H568<>\"\",\"OK\",IF(AND(#REF!<>\"\",#REF!<TODAY()),\"Retard\",\"Attente de Livraison\")))","v":""}]
[null,null,null,null,null,null,null,null,{"$f":"IF(F569=\"\",\"\",IF(H569<>\"\",\"OK\",IF(AND(#REF!<>\"\",#REF!<TODAY()),\"Retard\",\"Attente de Livraison\")))","v":""}]
[null,null,null,null,null,null,null,null,{"$f":"IF(F570=\"\",\"\",IF(H570<>\"\",\"OK\",IF(AND(#REF!<>\"\",#REF!<TODAY()),\"Retard\",\"Attente de Livraison\")))","v":""}]
[null,null,null,null,null,null,null,null,{"$f":"IF(F571=\"\",\"\",IF(H571<>\"\",\"OK\",IF(AND(#REF!<>\"\",#REF!<TODAY()),\"Retard\",\"Attente de Livraison\")))","v":""}]
[null,null,null,null,null,null,null,null,{"$f":"IF(F572=\"\",\"\",IF(H572<>\"\",\"OK\",IF(AND(#REF!<>\"\",#REF!<TODAY()),\"Retard\",\"Attente de Livraison\")))","v":""}]
[null,null,null,null,null,null,null,null,{"$f":"IF(F573=\"\",\"\",IF(H573<>\"\",\"OK\",IF(AND(#REF!<>\"\",#REF!<TODAY()),\"Retard\",\"Attente de Livraison\")))","v":""}]
[null,null,null,null,null,null,null,null,{"$f":"IF(F574=\"\",\"\",IF(H574<>\"\",\"OK\",IF(AND(#REF!<>\"\",#REF!<TODAY()),\"Retard\",\"Attente de Livraison\")))","v":""}]
[null,null,null,null,null,null,null,null,{"$f":"IF(F575=\"\",\"\",IF(H575<>\"\",\"OK\",IF(AND(#REF!<>\"\",#REF!<TODAY()),\"Retard\",\"Attente de Livraison\")))","v":""}]
[null,null,null,null,null,null,null,null,{"$f":"IF(F576=\"\",\"\",IF(H576<>\"\",\"OK\",IF(AND(#REF!<>\"\",#REF!<TODAY()),\"Retard\",\"Attente de Livraison\")))","v":""}]
[null,null,null,null,null,null,null,null,{"$f":"IF(F577=\"\",\"\",IF(H577<>\"\",\"OK\",IF(AND(#REF!<>\"\",#REF!<TODAY()),\"Retard\",\"Attente de Livraison\")))","v":""}]
[null,null,null,null,null,null,null,null,{"$f":"IF(F578=\"\",\"\",IF(H578<>\"\",\"OK\",IF(AND(#REF!<>\"\",#REF!<TODAY()),\"Retard\",\"Attente de Livraison\")))","v":""}]
[null,null,null,null,null,null,null,null,{"$f":"IF(F579=\"\",\"\",IF(H579<>\"\",\"OK\",IF(AND(#REF!<>\"\",#REF!<TODAY()),\"Retard\",\"Attente de Livraison\")))","v":""}]
[null,null,null,null,null,null,null,null,{"$f":"IF(F580=\"\",\"\",IF(H580<>\"\",\"OK\",IF(AND(#REF!<>\"\",#REF!<TODAY()),\"Retard\",\"Attente de Livraison\")))","v":""}]
[null,null,null,null,null,null,null,null,{"$f":"IF(F581=\"\",\"\",IF(H581<>\"\",\"OK\",IF(AND(#REF!<>\"\",#REF!<TODAY()),\"Retard\",\"Attente de Livraison\")))","v":""}]
[null,null,null,null,null,null,null,null,{"$f":"IF(F582=\"\",\"\",IF(H582<>\"\",\"OK\",IF(AND(#REF!<>\"\",#REF!<TODAY()),\"Retard\",\"Attente de Livraison\")))","v":""}]
[null,null,null,null,null,null,null,null,{"$f":"IF(F583=\"\",\"\",IF(H583<>\"\",\"OK\",IF(AND(#REF!<>\"\",#REF!<TODAY()),\"Retard\",\"Attente de Livraison\")))","v":""}]
[null,null,null,null,null,null,null,null,{"$f":"IF(F584=\"\",\"\",IF(H584<>\"\",\"OK\",IF(AND(#REF!<>\"\",#REF!<TODAY()),\"Retard\",\"Attente de Livraison\")))","v":""}]
[null,null,null,null,null,null,null,null,{"$f":"IF(F585=\"\",\"\",IF(H585<>\"\",\"OK\",IF(AND(#REF!<>\"\",#REF!<TODAY()),\"Retard\",\"Attente de Livraison\")))","v":""}]
[null,null,null,null,null,null,null,null,{"$f":"IF(F586=\"\",\"\",IF(H586<>\"\",\"OK\",IF(AND(#REF!<>\"\",#REF!<TODAY()),\"Retard\",\"Attente de Livraison\")))","v":""}]
[null,null,null,null,null,null,null,null,{"$f":"IF(F587=\"\",\"\",IF(H587<>\"\",\"OK\",IF(AND(#REF!<>\"\",#REF!<TODAY()),\"Retard\",\"Attente de Livraison\")))","v":""}]
[null,null,null,null,null,null,null,null,{"$f":"IF(F588=\"\",\"\",IF(H588<>\"\",\"OK\",IF(AND(#REF!<>\"\",#REF!<TODAY()),\"Retard\",\"Attente de Livraison\")))","v":""}]
[null,null,null,null,null,null,null,null,{"$f":"IF(F589=\"\",\"\",IF(H589<>\"\",\"OK\",IF(AND(#REF!<>\"\",#REF!<TODAY()),\"Retard\",\"Attente de Livraison\")))","v":""}]
[null,null,null,null,null,null,null,null,{"$f":"IF(F590=\"\",\"\",IF(H590<>\"\",\"OK\",IF(AND(#REF!<>\"\",#REF!<TODAY()),\"Retard\",\"Attente de Livraison\")))","v":""}]
[null,null,null,null,null,null,null,null,{"$f":"IF(F591=\"\",\"\",IF(H591<>\"\",\"OK\",IF(AND(#REF!<>\"\",#REF!<TODAY()),\"Retard\",\"Attente de Livraison\")))","v":""}]
[null,null,null,null,null,null,null,null,{"$f":"IF(F592=\"\",\"\",IF(H592<>\"\",\"OK\",IF(AND(#REF!<>\"\",#REF!<TODAY()),\"Retard\",\"Attente de Livraison\")))","v":""}]
[null,null,null,null,null,null,null,null,{"$f":"IF(F593=\"\",\"\",IF(H593<>\"\",\"OK\",IF(AND(#REF!<>\"\",#REF!<TODAY()),\"Retard\",\"Attente de Livraison\")))","v":""}]
[null,null,null,null,null,null,null,null,{"$f":"IF(F594=\"\",\"\",IF(H594<>\"\",\"OK\",IF(AND(#REF!<>\"\",#REF!<TODAY()),\"Retard\",\"Attente de Livraison\")))","v":""}]
[null,null,null,null,null,null,null,null,{"$f":"IF(F595=\"\",\"\",IF(H595<>\"\",\"OK\",IF(AND(#REF!<>\"\",#REF!<TODAY()),\"Retard\",\"Attente de Livraison\")))","v":""}]
[null,null,null,null,null,null,null,null,{"$f":"IF(F596=\"\",\"\",IF(H596<>\"\",\"OK\",IF(AND(#REF!<>\"\",#REF!<TODAY()),\"Retard\",\"Attente de Livraison\")))","v":""}]
[null,null,null,null,null,null,null,null,{"$f":"IF(F597=\"\",\"\",IF(H597<>\"\",\"OK\",IF(AND(#REF!<>\"\",#REF!<TODAY()),\"Retard\",\"Attente de Livraison\")))","v":""}]
[null,null,null,null,null,null,null,null,{"$f":"IF(F598=\"\",\"\",IF(H598<>\"\",\"OK\",IF(AND(#REF!<>\"\",#REF!<TODAY()),\"Retard\",\"Attente de Livraison\")))","v":""}]
[null,null,null,null,null,null,null,null,{"$f":"IF(F599=\"\",\"\",IF(H599<>\"\",\"OK\",IF(AND(#REF!<>\"\",#REF!<TODAY()),\"Retard\",\"Attente de Livraison\")))","v":""}]
[null,null,null,null,null,null,null,null,{"$f":"IF(F600=\"\",\"\",IF(H600<>\"\",\"OK\",IF(AND(#REF!<>\"\",#REF!<TODAY()),\"Retard\",\"Attente de Livraison\")))","v":""}]
[null,null,null,null,null,null,null,null,{"$f":"IF(F601=\"\",\"\",IF(H601<>\"\",\"OK\",IF(AND(#REF!<>\"\",#REF!<TODAY()),\"Retard\",\"Attente de Livraison\")))","v":""}]
[null,null,null,null,null,null,null,null,{"$f":"IF(F602=\"\",\"\",IF(H602<>\"\",\"OK\",IF(AND(#REF!<>\"\",#REF!<TODAY()),\"Retard\",\"Attente de Livraison\")))","v":""}]
[null,null,null,null,null,null,null,null,{"$f":"IF(F603=\"\",\"\",IF(H603<>\"\",\"OK\",IF(AND(#REF!<>\"\",#REF!<TODAY()),\"Retard\",\"Attente de Livraison\")))","v":""}]
[null,null,null,null,null,null,null,null,{"$f":"IF(F604=\"\",\"\",IF(H604<>\"\",\"OK\",IF(AND(#REF!<>\"\",#REF!<TODAY()),\"Retard\",\"Attente de Livraison\")))","v":""}]
[null,null,null,null,null,null,null,null,{"$f":"IF(F605=\"\",\"\",IF(H605<>\"\",\"OK\",IF(AND(#REF!<>\"\",#REF!<TODAY()),\"Retard\",\"Attente de Livraison\")))","v":""}]
[null,null,null,null,null,null,null,null,{"$f":"IF(F606=\"\",\"\",IF(H606<>\"\",\"OK\",IF(AND(#REF!<>\"\",#REF!<TODAY()),\"Retard\",\"Attente de Livraison\")))","v":""}]
[null,null,null,null,null,null,null,null,{"$f":"IF(F607=\"\",\"\",IF(H607<>\"\",\"OK\",IF(AND(#REF!<>\"\",#REF!<TODAY()),\"Retard\",\"Attente de Livraison\")))","v":""}]
[null,null,null,null,null,null,null,null,{"$f":"IF(F608=\"\",\"\",IF(H608<>\"\",\"OK\",IF(AND(#REF!<>\"\",#REF!<TODAY()),\"Retard\",\"Attente de Livraison\")))","v":""}]
[null,null,null,null,null,null,null,null,{"$f":"IF(F609=\"\",\"\",IF(H609<>\"\",\"OK\",IF(AND(#REF!<>\"\",#REF!<TODAY()),\"Retard\",\"Attente de Livraison\")))","v":""}]
[null,null,null,null,null,null,null,null,{"$f":"IF(F610=\"\",\"\",IF(H610<>\"\",\"OK\",IF(AND(#REF!<>\"\",#REF!<TODAY()),\"Retard\",\"Attente de Livraison\")))","v":""}]
[null,null,null,null,null,null,null,null,{"$f":"IF(F611=\"\",\"\",IF(H611<>\"\",\"OK\",IF(AND(#REF!<>\"\",#REF!<TODAY()),\"Retard\",\"Attente de Livraison\")))","v":""}]
[null,null,null,null,null,null,null,null,{"$f":"IF(F612=\"\",\"\",IF(H612<>\"\",\"OK\",IF(AND(#REF!<>\"\",#REF!<TODAY()),\"Retard\",\"Attente de Livraison\")))","v":""}]
[null,null,null,null,null,null,null,null,{"$f":"IF(F613=\"\",\"\",IF(H613<>\"\",\"OK\",IF(AND(#REF!<>\"\",#REF!<TODAY()),\"Retard\",\"Attente de Livraison\")))","v":""}]
[null,null,null,null,null,null,null,null,{"$f":"IF(F614=\"\",\"\",IF(H614<>\"\",\"OK\",IF(AND(#REF!<>\"\",#REF!<TODAY()),\"Retard\",\"Attente de Livraison\")))","v":""}]
[null,null,null,null,null,null,null,null,{"$f":"IF(F615=\"\",\"\",IF(H615<>\"\",\"OK\",IF(AND(#REF!<>\"\",#REF!<TODAY()),\"Retard\",\"Attente de Livraison\")))","v":""}]
[null,null,null,null,null,null,null,null,{"$f":"IF(F616=\"\",\"\",IF(H616<>\"\",\"OK\",IF(AND(#REF!<>\"\",#REF!<TODAY()),\"Retard\",\"Attente de Livraison\")))","v":""}]
[null,null,null,null,null,null,null,null,{"$f":"IF(F617=\"\",\"\",IF(H617<>\"\",\"OK\",IF(AND(#REF!<>\"\",#REF!<TODAY()),\"Retard\",\"Attente de Livraison\")))","v":""}]
[null,null,null,null,null,null,null,null,{"$f":"IF(F618=\"\",\"\",IF(H618<>\"\",\"OK\",IF(AND(#REF!<>\"\",#REF!<TODAY()),\"Retard\",\"Attente de Livraison\")))","v":""}]
[null,null,null,null,null,null,null,null,{"$f":"IF(F619=\"\",\"\",IF(H619<>\"\",\"OK\",IF(AND(#REF!<>\"\",#REF!<TODAY()),\"Retard\",\"Attente de Livraison\")))","v":""}]
[null,null,null,null,null,null,null,null,{"$f":"IF(F620=\"\",\"\",IF(H620<>\"\",\"OK\",IF(AND(#REF!<>\"\",#REF!<TODAY()),\"Retard\",\"Attente de Livraison\")))","v":""}]
[null,null,null,null,null,null,null,null,{"$f":"IF(F621=\"\",\"\",IF(H621<>\"\",\"OK\",IF(AND(#REF!<>\"\",#REF!<TODAY()),\"Retard\",\"Attente de Livraison\")))","v":""}]
[null,null,null,null,null,null,null,null,{"$f":"IF(F622=\"\",\"\",IF(H622<>\"\",\"OK\",IF(AND(#REF!<>\"\",#REF!<TODAY()),\"Retard\",\"Attente de Livraison\")))","v":""}]
[null,null,null,null,null,null,null,null,{"$f":"IF(F623=\"\",\"\",IF(H623<>\"\",\"OK\",IF(AND(#REF!<>\"\",#REF!<TODAY()),\"Retard\",\"Attente de Livraison\")))","v":""}]
[null,null,null,null,null,null,null,null,{"$f":"IF(F624=\"\",\"\",IF(H624<>\"\",\"OK\",IF(AND(#REF!<>\"\",#REF!<TODAY()),\"Retard\",\"Attente de Livraison\")))","v":""}]
[null,null,null,null,null,null,null,null,{"$f":"IF(F625=\"\",\"\",IF(H625<>\"\",\"OK\",IF(AND(#REF!<>\"\",#REF!<TODAY()),\"Retard\",\"Attente de Livraison\")))","v":""}]
[null,null,null,null,null,null,null,null,{"$f":"IF(F626=\"\",\"\",IF(H626<>\"\",\"OK\",IF(AND(#REF!<>\"\",#REF!<TODAY()),\"Retard\",\"Attente de Livraison\")))","v":""}]
[null,null,null,null,null,null,null,null,{"$f":"IF(F627=\"\",\"\",IF(H627<>\"\",\"OK\",IF(AND(#REF!<>\"\",#REF!<TODAY()),\"Retard\",\"Attente de Livraison\")))","v":""}]
[null,null,null,null,null,null,null,null,{"$f":"IF(F628=\"\",\"\",IF(H628<>\"\",\"OK\",IF(AND(#REF!<>\"\",#REF!<TODAY()),\"Retard\",\"Attente de Livraison\")))","v":""}]
[null,null,null,null,null,null,null,null,{"$f":"IF(F629=\"\",\"\",IF(H629<>\"\",\"OK\",IF(AND(#REF!<>\"\",#REF!<TODAY()),\"Retard\",\"Attente de Livraison\")))","v":""}]
[null,null,null,null,null,null,null,null,{"$f":"IF(F630=\"\",\"\",IF(H630<>\"\",\"OK\",IF(AND(#REF!<>\"\",#REF!<TODAY()),\"Retard\",\"Attente de Livraison\")))","v":""}]
[null,null,null,null,null,null,null,null,{"$f":"IF(F631=\"\",\"\",IF(H631<>\"\",\"OK\",IF(AND(#REF!<>\"\",#REF!<TODAY()),\"Retard\",\"Attente de Livraison\")))","v":""}]
[null,null,null,null,null,null,null,null,{"$f":"IF(F632=\"\",\"\",IF(H632<>\"\",\"OK\",IF(AND(#REF!<>\"\",#REF!<TODAY()),\"Retard\",\"Attente de Livraison\")))","v":""}]
[null,null,null,null,null,null,null,null,{"$f":"IF(F633=\"\",\"\",IF(H633<>\"\",\"OK\",IF(AND(#REF!<>\"\",#REF!<TODAY()),\"Retard\",\"Attente de Livraison\")))","v":""}]
[null,null,null,null,null,null,null,null,{"$f":"IF(F634=\"\",\"\",IF(H634<>\"\",\"OK\",IF(AND(#REF!<>\"\",#REF!<TODAY()),\"Retard\",\"Attente de Livraison\")))","v":""}]
[null,null,null,null,null,null,null,null,{"$f":"IF(F635=\"\",\"\",IF(H635<>\"\",\"OK\",IF(AND(#REF!<>\"\",#REF!<TODAY()),\"Retard\",\"Attente de Livraison\")))","v":""}]
[null,null,null,null,null,null,null,null,{"$f":"IF(F636=\"\",\"\",IF(H636<>\"\",\"OK\",IF(AND(#REF!<>\"\",#REF!<TODAY()),\"Retard\",\"Attente de Livraison\")))","v":""}]
[null,null,null,null,null,null,null,null,{"$f":"IF(F637=\"\",\"\",IF(H637<>\"\",\"OK\",IF(AND(#REF!<>\"\",#REF!<TODAY()),\"Retard\",\"Attente de Livraison\")))","v":""}]
[null,null,null,null,null,null,null,null,{"$f":"IF(F638=\"\",\"\",IF(H638<>\"\",\"OK\",IF(AND(#REF!<>\"\",#REF!<TODAY()),\"Retard\",\"Attente de Livraison\")))","v":""}]
[null,null,null,null,null,null,null,null,{"$f":"IF(F639=\"\",\"\",IF(H639<>\"\",\"OK\",IF(AND(#REF!<>\"\",#REF!<TODAY()),\"Retard\",\"Attente de Livraison\")))","v":""}]
[null,null,null,null,null,null,null,null,{"$f":"IF(F640=\"\",\"\",IF(H640<>\"\",\"OK\",IF(AND(#REF!<>\"\",#REF!<TODAY()),\"Retard\",\"Attente de Livraison\")))","v":""}]
[null,null,null,null,null,null,null,null,{"$f":"IF(F641=\"\",\"\",IF(H641<>\"\",\"OK\",IF(AND(#REF!<>\"\",#REF!<TODAY()),\"Retard\",\"Attente de Livraison\")))","v":""}]
[null,null,null,null,null,null,null,null,{"$f":"IF(F642=\"\",\"\",IF(H642<>\"\",\"OK\",IF(AND(#REF!<>\"\",#REF!<TODAY()),\"Retard\",\"Attente de Livraison\")))","v":""}]
[null,null,null,null,null,null,null,null,{"$f":"IF(F643=\"\",\"\",IF(H643<>\"\",\"OK\",IF(AND(#REF!<>\"\",#REF!<TODAY()),\"Retard\",\"Attente de Livraison\")))","v":""}]
[null,null,null,null,null,null,null,null,{"$f":"IF(F644=\"\",\"\",IF(H644<>\"\",\"OK\",IF(AND(#REF!<>\"\",#REF!<TODAY()),\"Retard\",\"Attente de Livraison\")))","v":""}]
[null,null,null,null,null,null,null,null,{"$f":"IF(F645=\"\",\"\",IF(H645<>\"\",\"OK\",IF(AND(#REF!<>\"\",#REF!<TODAY()),\"Retard\",\"Attente de Livraison\")))","v":""}]
[null,null,null,null,null,null,null,null,{"$f":"IF(F646=\"\",\"\",IF(H646<>\"\",\"OK\",IF(AND(#REF!<>\"\",#REF!<TODAY()),\"Retard\",\"Attente de Livraison\")))","v":""}]
[null,null,null,null,null,null,null,null,{"$f":"IF(F647=\"\",\"\",IF(H647<>\"\",\"OK\",IF(AND(#REF!<>\"\",#REF!<TODAY()),\"Retard\",\"Attente de Livraison\")))","v":""}]
[null,null,null,null,null,null,null,null,{"$f":"IF(F648=\"\",\"\",IF(H648<>\"\",\"OK\",IF(AND(#REF!<>\"\",#REF!<TODAY()),\"Retard\",\"Attente de Livraison\")))","v":""}]
[null,null,null,null,null,null,null,null,{"$f":"IF(F649=\"\",\"\",IF(H649<>\"\",\"OK\",IF(AND(#REF!<>\"\",#REF!<TODAY()),\"Retard\",\"Attente de Livraison\")))","v":""}]
[null,null,null,null,null,null,null,null,{"$f":"IF(F650=\"\",\"\",IF(H650<>\"\",\"OK\",IF(AND(#REF!<>\"\",#REF!<TODAY()),\"Retard\",\"Attente de Livraison\")))","v":""}]
[null,null,null,null,null,null,null,null,{"$f":"IF(F651=\"\",\"\",IF(H651<>\"\",\"OK\",IF(AND(#REF!<>\"\",#REF!<TODAY()),\"Retard\",\"Attente de Livraison\")))","v":""}]
[null,null,null,null,null,null,null,null,{"$f":"IF(F652=\"\",\"\",IF(H652<>\"\",\"OK\",IF(AND(#REF!<>\"\",#REF!<TODAY()),\"Retard\",\"Attente de Livraison\")))","v":""}]
[null,null,null,null,null,null,null,null,{"$f":"IF(F653=\"\",\"\",IF(H653<>\"\",\"OK\",IF(AND(#REF!<>\"\",#REF!<TODAY()),\"Retard\",\"Attente de Livraison\")))","v":""}]
[null,null,null,null,null,null,null,null,{"$f":"IF(F654=\"\",\"\",IF(H654<>\"\",\"OK\",IF(AND(#REF!<>\"\",#REF!<TODAY()),\"Retard\",\"Attente de Livraison\")))","v":""}]
[null,null,null,null,null,null,null,null,{"$f":"IF(F655=\"\",\"\",IF(H655<>\"\",\"OK\",IF(AND(#REF!<>\"\",#REF!<TODAY()),\"Retard\",\"Attente de Livraison\")))","v":""}]
[null,null,null,null,null,null,null,null,{"$f":"IF(F656=\"\",\"\",IF(H656<>\"\",\"OK\",IF(AND(#REF!<>\"\",#REF!<TODAY()),\"Retard\",\"Attente de Livraison\")))","v":""}]
[null,null,null,null,null,null,null,null,{"$f":"IF(F657=\"\",\"\",IF(H657<>\"\",\"OK\",IF(AND(#REF!<>\"\",#REF!<TODAY()),\"Retard\",\"Attente de Livraison\")))","v":""}]
[null,null,null,null,null,null,null,null,{"$f":"IF(F658=\"\",\"\",IF(H658<>\"\",\"OK\",IF(AND(#REF!<>\"\",#REF!<TODAY()),\"Retard\",\"Attente de Livraison\")))","v":""}]
[null,null,null,null,null,null,null,null,{"$f":"IF(F659=\"\",\"\",IF(H659<>\"\",\"OK\",IF(AND(#REF!<>\"\",#REF!<TODAY()),\"Retard\",\"Attente de Livraison\")))","v":""}]
[null,null,null,null,null,null,null,null,{"$f":"IF(F660=\"\",\"\",IF(H660<>\"\",\"OK\",IF(AND(#REF!<>\"\",#REF!<TODAY()),\"Retard\",\"Attente de Livraison\")))","v":""}]
[null,null,null,null,null,null,null,null,{"$f":"IF(F661=\"\",\"\",IF(H661<>\"\",\"OK\",IF(AND(#REF!<>\"\",#REF!<TODAY()),\"Retard\",\"Attente de Livraison\")))","v":""}]
[null,null,null,null,null,null,null,null,{"$f":"IF(F662=\"\",\"\",IF(H662<>\"\",\"OK\",IF(AND(#REF!<>\"\",#REF!<TODAY()),\"Retard\",\"Attente de Livraison\")))","v":""}]
[null,null,null,null,null,null,null,null,{"$f":"IF(F663=\"\",\"\",IF(H663<>\"\",\"OK\",IF(AND(#REF!<>\"\",#REF!<TODAY()),\"Retard\",\"Attente de Livraison\")))","v":""}]
[null,null,null,null,null,null,null,null,{"$f":"IF(F664=\"\",\"\",IF(H664<>\"\",\"OK\",IF(AND(#REF!<>\"\",#REF!<TODAY()),\"Retard\",\"Attente de Livraison\")))","v":""}]
[null,null,null,null,null,null,null,null,{"$f":"IF(F665=\"\",\"\",IF(H665<>\"\",\"OK\",IF(AND(#REF!<>\"\",#REF!<TODAY()),\"Retard\",\"Attente de Livraison\")))","v":""}]
[null,null,null,null,null,null,null,null,{"$f":"IF(F666=\"\",\"\",IF(H666<>\"\",\"OK\",IF(AND(#REF!<>\"\",#REF!<TODAY()),\"Retard\",\"Attente de Livraison\")))","v":""}]
[null,null,null,null,null,null,null,null,{"$f":"IF(F667=\"\",\"\",IF(H667<>\"\",\"OK\",IF(AND(#REF!<>\"\",#REF!<TODAY()),\"Retard\",\"Attente de Livraison\")))","v":""}]
[null,null,null,null,null,null,null,null,{"$f":"IF(F668=\"\",\"\",IF(H668<>\"\",\"OK\",IF(AND(#REF!<>\"\",#REF!<TODAY()),\"Retard\",\"Attente de Livraison\")))","v":""}]
[null,null,null,null,null,null,null,null,{"$f":"IF(F669=\"\",\"\",IF(H669<>\"\",\"OK\",IF(AND(#REF!<>\"\",#REF!<TODAY()),\"Retard\",\"Attente de Livraison\")))","v":""}]
[null,null,null,null,null,null,null,null,{"$f":"IF(F670=\"\",\"\",IF(H670<>\"\",\"OK\",IF(AND(#REF!<>\"\",#REF!<TODAY()),\"Retard\",\"Attente de Livraison\")))","v":""}]
[null,null,null,null,null,null,null,null,{"$f":"IF(F671=\"\",\"\",IF(H671<>\"\",\"OK\",IF(AND(#REF!<>\"\",#REF!<TODAY()),\"Retard\",\"Attente de Livraison\")))","v":""}]
[null,null,null,null,null,null,null,null,{"$f":"IF(F672=\"\",\"\",IF(H672<>\"\",\"OK\",IF(AND(#REF!<>\"\",#REF!<TODAY()),\"Retard\",\"Attente de Livraison\")))","v":""}]
[null,null,null,null,null,null,null,null,{"$f":"IF(F673=\"\",\"\",IF(H673<>\"\",\"OK\",IF(AND(#REF!<>\"\",#REF!<TODAY()),\"Retard\",\"Attente de Livraison\")))","v":""}]
[null,null,null,null,null,null,null,null,{"$f":"IF(F674=\"\",\"\",IF(H674<>\"\",\"OK\",IF(AND(#REF!<>\"\",#REF!<TODAY()),\"Retard\",\"Attente de Livraison\")))","v":""}]
[null,null,null,null,null,null,null,null,{"$f":"IF(F675=\"\",\"\",IF(H675<>\"\",\"OK\",IF(AND(#REF!<>\"\",#REF!<TODAY()),\"Retard\",\"Attente de Livraison\")))","v":""}]
[null,null,null,null,null,null,null,null,{"$f":"IF(F676=\"\",\"\",IF(H676<>\"\",\"OK\",IF(AND(#REF!<>\"\",#REF!<TODAY()),\"Retard\",\"Attente de Livraison\")))","v":""}]
[null,null,null,null,null,null,null,null,{"$f":"IF(F677=\"\",\"\",IF(H677<>\"\",\"OK\",IF(AND(#REF!<>\"\",#REF!<TODAY()),\"Retard\",\"Attente de Livraison\")))","v":""}]
[null,null,null,null,null,null,null,null,{"$f":"IF(F678=\"\",\"\",IF(H678<>\"\",\"OK\",IF(AND(#REF!<>\"\",#REF!<TODAY()),\"Retard\",\"Attente de Livraison\")))","v":""}]
[null,null,null,null,null,null,null,null,{"$f":"IF(F679=\"\",\"\",IF(H679<>\"\",\"OK\",IF(AND(#REF!<>\"\",#REF!<TODAY()),\"Retard\",\"Attente de Livraison\")))","v":""}]
[null,null,null,null,null,null,null,null,{"$f":"IF(F680=\"\",\"\",IF(H680<>\"\",\"OK\",IF(AND(#REF!<>\"\",#REF!<TODAY()),\"Retard\",\"Attente de Livraison\")))","v":""}]
[null,null,null,null,null,null,null,null,{"$f":"IF(F681=\"\",\"\",IF(H681<>\"\",\"OK\",IF(AND(#REF!<>\"\",#REF!<TODAY()),\"Retard\",\"Attente de Livraison\")))","v":""}]
[null,null,null,null,null,null,null,null,{"$f":"IF(F682=\"\",\"\",IF(H682<>\"\",\"OK\",IF(AND(#REF!<>\"\",#REF!<TODAY()),\"Retard\",\"Attente de Livraison\")))","v":""}]
[null,null,null,null,null,null,null,null,{"$f":"IF(F683=\"\",\"\",IF(H683<>\"\",\"OK\",IF(AND(#REF!<>\"\",#REF!<TODAY()),\"Retard\",\"Attente de Livraison\")))","v":""}]
[null,null,null,null,null,null,null,null,{"$f":"IF(F684=\"\",\"\",IF(H684<>\"\",\"OK\",IF(AND(#REF!<>\"\",#REF!<TODAY()),\"Retard\",\"Attente de Livraison\")))","v":""}]
[null,null,null,null,null,null,null,null,{"$f":"IF(F685=\"\",\"\",IF(H685<>\"\",\"OK\",IF(AND(#REF!<>\"\",#REF!<TODAY()),\"Retard\",\"Attente de Livraison\")))","v":""}]
[null,null,null,null,null,null,null,null,{"$f":"IF(F686=\"\",\"\",IF(H686<>\"\",\"OK\",IF(AND(#REF!<>\"\",#REF!<TODAY()),\"Retard\",\"Attente de Livraison\")))","v":""}]
[null,null,null,null,null,null,null,null,{"$f":"IF(F687=\"\",\"\",IF(H687<>\"\",\"OK\",IF(AND(#REF!<>\"\",#REF!<TODAY()),\"Retard\",\"Attente de Livraison\")))","v":""}]
[null,null,null,null,null,null,null,null,{"$f":"IF(F688=\"\",\"\",IF(H688<>\"\",\"OK\",IF(AND(#REF!<>\"\",#REF!<TODAY()),\"Retard\",\"Attente de Livraison\")))","v":""}]
[null,null,null,null,null,null,null,null,{"$f":"IF(F689=\"\",\"\",IF(H689<>\"\",\"OK\",IF(AND(#REF!<>\"\",#REF!<TODAY()),\"Retard\",\"Attente de Livraison\")))","v":""}]
[null,null,null,null,null,null,null,null,{"$f":"IF(F690=\"\",\"\",IF(H690<>\"\",\"OK\",IF(AND(#REF!<>\"\",#REF!<TODAY()),\"Retard\",\"Attente de Livraison\")))","v":""}]
[null,null,null,null,null,null,null,null,{"$f":"IF(F691=\"\",\"\",IF(H691<>\"\",\"OK\",IF(AND(#REF!<>\"\",#REF!<TODAY()),\"Retard\",\"Attente de Livraison\")))","v":""}]
[null,null,null,null,null,null,null,null,{"$f":"IF(F692=\"\",\"\",IF(H692<>\"\",\"OK\",IF(AND(#REF!<>\"\",#REF!<TODAY()),\"Retard\",\"Attente de Livraison\")))","v":""}]
[null,null,null,null,null,null,null,null,{"$f":"IF(F693=\"\",\"\",IF(H693<>\"\",\"OK\",IF(AND(#REF!<>\"\",#REF!<TODAY()),\"Retard\",\"Attente de Livraison\")))","v":""}]
[null,null,null,null,null,null,null,null,{"$f":"IF(F694=\"\",\"\",IF(H694<>\"\",\"OK\",IF(AND(#REF!<>\"\",#REF!<TODAY()),\"Retard\",\"Attente de Livraison\")))","v":""}]
[null,null,null,null,null,null,null,null,{"$f":"IF(F695=\"\",\"\",IF(H695<>\"\",\"OK\",IF(AND(#REF!<>\"\",#REF!<TODAY()),\"Retard\",\"Attente de Livraison\")))","v":""}]
[null,null,null,null,null,null,null,null,{"$f":"IF(F696=\"\",\"\",IF(H696<>\"\",\"OK\",IF(AND(#REF!<>\"\",#REF!<TODAY()),\"Retard\",\"Attente de Livraison\")))","v":""}]
[null,null,null,null,null,null,null,null,{"$f":"IF(F697=\"\",\"\",IF(H697<>\"\",\"OK\",IF(AND(#REF!<>\"\",#REF!<TODAY()),\"Retard\",\"Attente de Livraison\")))","v":""}]
[null,null,null,null,null,null,null,null,{"$f":"IF(F698=\"\",\"\",IF(H698<>\"\",\"OK\",IF(AND(#REF!<>\"\",#REF!<TODAY()),\"Retard\",\"Attente de Livraison\")))","v":""}]
[null,null,null,null,null,null,null,null,{"$f":"IF(F699=\"\",\"\",IF(H699<>\"\",\"OK\",IF(AND(#REF!<>\"\",#REF!<TODAY()),\"Retard\",\"Attente de Livraison\")))","v":""}]
[null,null,null,null,null,null,null,null,{"$f":"IF(F700=\"\",\"\",IF(H700<>\"\",\"OK\",IF(AND(#REF!<>\"\",#REF!<TODAY()),\"Retard\",\"Attente de Livraison\")))","v":""}]
[null,null,null,null,null,null,null,null,{"$f":"IF(F701=\"\",\"\",IF(H701<>\"\",\"OK\",IF(AND(#REF!<>\"\",#REF!<TODAY()),\"Retard\",\"Attente de Livraison\")))","v":""}]
[null,null,null,null,null,null,null,null,{"$f":"IF(F702=\"\",\"\",IF(H702<>\"\",\"OK\",IF(AND(#REF!<>\"\",#REF!<TODAY()),\"Retard\",\"Attente de Livraison\")))","v":""}]
[null,null,null,null,null,null,null,null,{"$f":"IF(F703=\"\",\"\",IF(H703<>\"\",\"OK\",IF(AND(#REF!<>\"\",#REF!<TODAY()),\"Retard\",\"Attente de Livraison\")))","v":""}]
[null,null,null,null,null,null,null,null,{"$f":"IF(F704=\"\",\"\",IF(H704<>\"\",\"OK\",IF(AND(#REF!<>\"\",#REF!<TODAY()),\"Retard\",\"Attente de Livraison\")))","v":""}]
[null,null,null,null,null,null,null,null,{"$f":"IF(F705=\"\",\"\",IF(H705<>\"\",\"OK\",IF(AND(#REF!<>\"\",#REF!<TODAY()),\"Retard\",\"Attente de Livraison\")))","v":""}]
[null,null,null,null,null,null,null,null,{"$f":"IF(F706=\"\",\"\",IF(H706<>\"\",\"OK\",IF(AND(#REF!<>\"\",#REF!<TODAY()),\"Retard\",\"Attente de Livraison\")))","v":""}]
[null,null,null,null,null,null,null,null,{"$f":"IF(F707=\"\",\"\",IF(H707<>\"\",\"OK\",IF(AND(#REF!<>\"\",#REF!<TODAY()),\"Retard\",\"Attente de Livraison\")))","v":""}]
[null,null,null,null,null,null,null,null,{"$f":"IF(F708=\"\",\"\",IF(H708<>\"\",\"OK\",IF(AND(#REF!<>\"\",#REF!<TODAY()),\"Retard\",\"Attente de Livraison\")))","v":""}]
[null,null,null,null,null,null,null,null,{"$f":"IF(F709=\"\",\"\",IF(H709<>\"\",\"OK\",IF(AND(#REF!<>\"\",#REF!<TODAY()),\"Retard\",\"Attente de Livraison\")))","v":""}]
[null,null,null,null,null,null,null,null,{"$f":"IF(F710=\"\",\"\",IF(H710<>\"\",\"OK\",IF(AND(#REF!<>\"\",#REF!<TODAY()),\"Retard\",\"Attente de Livraison\")))","v":""}]
[null,null,null,null,null,null,null,null,{"$f":"IF(F711=\"\",\"\",IF(H711<>\"\",\"OK\",IF(AND(#REF!<>\"\",#REF!<TODAY()),\"Retard\",\"Attente de Livraison\")))","v":""}]
[null,null,null,null,null,null,null,null,{"$f":"IF(F712=\"\",\"\",IF(H712<>\"\",\"OK\",IF(AND(#REF!<>\"\",#REF!<TODAY()),\"Retard\",\"Attente de Livraison\")))","v":""}]
[null,null,null,null,null,null,null,null,{"$f":"IF(F713=\"\",\"\",IF(H713<>\"\",\"OK\",IF(AND(#REF!<>\"\",#REF!<TODAY()),\"Retard\",\"Attente de Livraison\")))","v":""}]
[null,null,null,null,null,null,null,null,{"$f":"IF(F714=\"\",\"\",IF(H714<>\"\",\"OK\",IF(AND(#REF!<>\"\",#REF!<TODAY()),\"Retard\",\"Attente de Livraison\")))","v":""}]
[null,null,null,null,null,null,null,null,{"$f":"IF(F715=\"\",\"\",IF(H715<>\"\",\"OK\",IF(AND(#REF!<>\"\",#REF!<TODAY()),\"Retard\",\"Attente de Livraison\")))","v":""}]
[null,null,null,null,null,null,null,null,{"$f":"IF(F716=\"\",\"\",IF(H716<>\"\",\"OK\",IF(AND(#REF!<>\"\",#REF!<TODAY()),\"Retard\",\"Attente de Livraison\")))","v":""}]
[null,null,null,null,null,null,null,null,{"$f":"IF(F717=\"\",\"\",IF(H717<>\"\",\"OK\",IF(AND(#REF!<>\"\",#REF!<TODAY()),\"Retard\",\"Attente de Livraison\")))","v":""}]
[null,null,null,null,null,null,null,null,{"$f":"IF(F718=\"\",\"\",IF(H718<>\"\",\"OK\",IF(AND(#REF!<>\"\",#REF!<TODAY()),\"Retard\",\"Attente de Livraison\")))","v":""}]
[null,null,null,null,null,null,null,null,{"$f":"IF(F719=\"\",\"\",IF(H719<>\"\",\"OK\",IF(AND(#REF!<>\"\",#REF!<TODAY()),\"Retard\",\"Attente de Livraison\")))","v":""}]
[null,null,null,null,null,null,null,null,{"$f":"IF(F720=\"\",\"\",IF(H720<>\"\",\"OK\",IF(AND(#REF!<>\"\",#REF!<TODAY()),\"Retard\",\"Attente de Livraison\")))","v":""}]
[null,null,null,null,null,null,null,null,{"$f":"IF(F721=\"\",\"\",IF(H721<>\"\",\"OK\",IF(AND(#REF!<>\"\",#REF!<TODAY()),\"Retard\",\"Attente de Livraison\")))","v":""}]
[null,null,null,null,null,null,null,null,{"$f":"IF(F722=\"\",\"\",IF(H722<>\"\",\"OK\",IF(AND(#REF!<>\"\",#REF!<TODAY()),\"Retard\",\"Attente de Livraison\")))","v":""}]
[null,null,null,null,null,null,null,null,{"$f":"IF(F723=\"\",\"\",IF(H723<>\"\",\"OK\",IF(AND(#REF!<>\"\",#REF!<TODAY()),\"Retard\",\"Attente de Livraison\")))","v":""}]
[null,null,null,null,null,null,null,null,{"$f":"IF(F724=\"\",\"\",IF(H724<>\"\",\"OK\",IF(AND(#REF!<>\"\",#REF!<TODAY()),\"Retard\",\"Attente de Livraison\")))","v":""}]
[null,null,null,null,null,null,null,null,{"$f":"IF(F725=\"\",\"\",IF(H725<>\"\",\"OK\",IF(AND(#REF!<>\"\",#REF!<TODAY()),\"Retard\",\"Attente de Livraison\")))","v":""}]
[null,null,null,null,null,null,null,null,{"$f":"IF(F726=\"\",\"\",IF(H726<>\"\",\"OK\",IF(AND(#REF!<>\"\",#REF!<TODAY()),\"Retard\",\"Attente de Livraison\")))","v":""}]
[null,null,null,null,null,null,null,null,{"$f":"IF(F727=\"\",\"\",IF(H727<>\"\",\"OK\",IF(AND(#REF!<>\"\",#REF!<TODAY()),\"Retard\",\"Attente de Livraison\")))","v":""}]
[null,null,null,null,null,null,null,null,{"$f":"IF(F728=\"\",\"\",IF(H728<>\"\",\"OK\",IF(AND(#REF!<>\"\",#REF!<TODAY()),\"Retard\",\"Attente de Livraison\")))","v":""}]
[null,null,null,null,null,null,null,null,{"$f":"IF(F729=\"\",\"\",IF(H729<>\"\",\"OK\",IF(AND(#REF!<>\"\",#REF!<TODAY()),\"Retard\",\"Attente de Livraison\")))","v":""}]
[null,null,null,null,null,null,null,null,{"$f":"IF(F730=\"\",\"\",IF(H730<>\"\",\"OK\",IF(AND(#REF!<>\"\",#REF!<TODAY()),\"Retard\",\"Attente de Livraison\")))","v":""}]
[null,null,null,null,null,null,null,null,{"$f":"IF(F731=\"\",\"\",IF(H731<>\"\",\"OK\",IF(AND(#REF!<>\"\",#REF!<TODAY()),\"Retard\",\"Attente de Livraison\")))","v":""}]
[null,null,null,null,null,null,null,null,{"$f":"IF(F732=\"\",\"\",IF(H732<>\"\",\"OK\",IF(AND(#REF!<>\"\",#REF!<TODAY()),\"Retard\",\"Attente de Livraison\")))","v":""}]
[null,null,null,null,null,null,null,null,{"$f":"IF(F733=\"\",\"\",IF(H733<>\"\",\"OK\",IF(AND(#REF!<>\"\",#REF!<TODAY()),\"Retard\",\"Attente de Livraison\")))","v":""}]
[null,null,null,null,null,null,null,null,{"$f":"IF(F734=\"\",\"\",IF(H734<>\"\",\"OK\",IF(AND(#REF!<>\"\",#REF!<TODAY()),\"Retard\",\"Attente de Livraison\")))","v":""}]
[null,null,null,null,null,null,null,null,{"$f":"IF(F735=\"\",\"\",IF(H735<>\"\",\"OK\",IF(AND(#REF!<>\"\",#REF!<TODAY()),\"Retard\",\"Attente de Livraison\")))","v":""}]
[null,null,null,null,null,null,null,null,{"$f":"IF(F736=\"\",\"\",IF(H736<>\"\",\"OK\",IF(AND(#REF!<>\"\",#REF!<TODAY()),\"Retard\",\"Attente de Livraison\")))","v":""}]
[null,null,null,null,null,null,null,null,{"$f":"IF(F737=\"\",\"\",IF(H737<>\"\",\"OK\",IF(AND(#REF!<>\"\",#REF!<TODAY()),\"Retard\",\"Attente de Livraison\")))","v":""}]
[null,null,null,null,null,null,null,null,{"$f":"IF(F738=\"\",\"\",IF(H738<>\"\",\"OK\",IF(AND(#REF!<>\"\",#REF!<TODAY()),\"Retard\",\"Attente de Livraison\")))","v":""}]
[null,null,null,null,null,null,null,null,{"$f":"IF(F739=\"\",\"\",IF(H739<>\"\",\"OK\",IF(AND(#REF!<>\"\",#REF!<TODAY()),\"Retard\",\"Attente de Livraison\")))","v":""}]
[null,null,null,null,null,null,null,null,{"$f":"IF(F740=\"\",\"\",IF(H740<>\"\",\"OK\",IF(AND(#REF!<>\"\",#REF!<TODAY()),\"Retard\",\"Attente de Livraison\")))","v":""}]
[null,null,null,null,null,null,null,null,{"$f":"IF(F741=\"\",\"\",IF(H741<>\"\",\"OK\",IF(AND(#REF!<>\"\",#REF!<TODAY()),\"Retard\",\"Attente de Livraison\")))","v":""}]
[null,null,null,null,null,null,null,null,{"$f":"IF(F742=\"\",\"\",IF(H742<>\"\",\"OK\",IF(AND(#REF!<>\"\",#REF!<TODAY()),\"Retard\",\"Attente de Livraison\")))","v":""}]
[null,null,null,null,null,null,null,null,{"$f":"IF(F743=\"\",\"\",IF(H743<>\"\",\"OK\",IF(AND(#REF!<>\"\",#REF!<TODAY()),\"Retard\",\"Attente de Livraison\")))","v":""}]
[null,null,null,null,null,null,null,null,{"$f":"IF(F744=\"\",\"\",IF(H744<>\"\",\"OK\",IF(AND(#REF!<>\"\",#REF!<TODAY()),\"Retard\",\"Attente de Livraison\")))","v":""}]
[null,null,null,null,null,null,null,null,{"$f":"IF(F745=\"\",\"\",IF(H745<>\"\",\"OK\",IF(AND(#REF!<>\"\",#REF!<TODAY()),\"Retard\",\"Attente de Livraison\")))","v":""}]
[null,null,null,null,null,null,null,null,{"$f":"IF(F746=\"\",\"\",IF(H746<>\"\",\"OK\",IF(AND(#REF!<>\"\",#REF!<TODAY()),\"Retard\",\"Attente de Livraison\")))","v":""}]
[null,null,null,null,null,null,null,null,{"$f":"IF(F747=\"\",\"\",IF(H747<>\"\",\"OK\",IF(AND(#REF!<>\"\",#REF!<TODAY()),\"Retard\",\"Attente de Livraison\")))","v":""}]
[null,null,null,null,null,null,null,null,{"$f":"IF(F748=\"\",\"\",IF(H748<>\"\",\"OK\",IF(AND(#REF!<>\"\",#REF!<TODAY()),\"Retard\",\"Attente de Livraison\")))","v":""}]
[null,null,null,null,null,null,null,null,{"$f":"IF(F749=\"\",\"\",IF(H749<>\"\",\"OK\",IF(AND(#REF!<>\"\",#REF!<TODAY()),\"Retard\",\"Attente de Livraison\")))","v":""}]
[null,null,null,null,null,null,null,null,{"$f":"IF(F750=\"\",\"\",IF(H750<>\"\",\"OK\",IF(AND(#REF!<>\"\",#REF!<TODAY()),\"Retard\",\"Attente de Livraison\")))","v":""}]
[null,null,null,null,null,null,null,null,{"$f":"IF(F751=\"\",\"\",IF(H751<>\"\",\"OK\",IF(AND(#REF!<>\"\",#REF!<TODAY()),\"Retard\",\"Attente de Livraison\")))","v":""}]
[null,null,null,null,null,null,null,null,{"$f":"IF(F752=\"\",\"\",IF(H752<>\"\",\"OK\",IF(AND(#REF!<>\"\",#REF!<TODAY()),\"Retard\",\"Attente de Livraison\")))","v":""}]
[null,null,null,null,null,null,null,null,{"$f":"IF(F753=\"\",\"\",IF(H753<>\"\",\"OK\",IF(AND(#REF!<>\"\",#REF!<TODAY()),\"Retard\",\"Attente de Livraison\")))","v":""}]
[null,null,null,null,null,null,null,null,{"$f":"IF(F754=\"\",\"\",IF(H754<>\"\",\"OK\",IF(AND(#REF!<>\"\",#REF!<TODAY()),\"Retard\",\"Attente de Livraison\")))","v":""}]
[null,null,null,null,null,null,null,null,{"$f":"IF(F755=\"\",\"\",IF(H755<>\"\",\"OK\",IF(AND(#REF!<>\"\",#REF!<TODAY()),\"Retard\",\"Attente de Livraison\")))","v":""}]
[null,null,null,null,null,null,null,null,{"$f":"IF(F756=\"\",\"\",IF(H756<>\"\",\"OK\",IF(AND(#REF!<>\"\",#REF!<TODAY()),\"Retard\",\"Attente de Livraison\")))","v":""}]
[null,null,null,null,null,null,null,null,{"$f":"IF(F757=\"\",\"\",IF(H757<>\"\",\"OK\",IF(AND(#REF!<>\"\",#REF!<TODAY()),\"Retard\",\"Attente de Livraison\")))","v":""}]
[null,null,null,null,null,null,null,null,{"$f":"IF(F758=\"\",\"\",IF(H758<>\"\",\"OK\",IF(AND(#REF!<>\"\",#REF!<TODAY()),\"Retard\",\"Attente de Livraison\")))","v":""}]
[null,null,null,null,null,null,null,null,{"$f":"IF(F759=\"\",\"\",IF(H759<>\"\",\"OK\",IF(AND(#REF!<>\"\",#REF!<TODAY()),\"Retard\",\"Attente de Livraison\")))","v":""}]
[null,null,null,null,null,null,null,null,{"$f":"IF(F760=\"\",\"\",IF(H760<>\"\",\"OK\",IF(AND(#REF!<>\"\",#REF!<TODAY()),\"Retard\",\"Attente de Livraison\")))","v":""}]
[null,null,null,null,null,null,null,null,{"$f":"IF(F761=\"\",\"\",IF(H761<>\"\",\"OK\",IF(AND(#REF!<>\"\",#REF!<TODAY()),\"Retard\",\"Attente de Livraison\")))","v":""}]
[null,null,null,null,null,null,null,null,{"$f":"IF(F762=\"\",\"\",IF(H762<>\"\",\"OK\",IF(AND(#REF!<>\"\",#REF!<TODAY()),\"Retard\",\"Attente de Livraison\")))","v":""}]
[null,null,null,null,null,null,null,null,{"$f":"IF(F763=\"\",\"\",IF(H763<>\"\",\"OK\",IF(AND(#REF!<>\"\",#REF!<TODAY()),\"Retard\",\"Attente de Livraison\")))","v":""}]
[null,null,null,null,null,null,null,null,{"$f":"IF(F764=\"\",\"\",IF(H764<>\"\",\"OK\",IF(AND(#REF!<>\"\",#REF!<TODAY()),\"Retard\",\"Attente de Livraison\")))","v":""}]
[null,null,null,null,null,null,null,null,{"$f":"IF(F765=\"\",\"\",IF(H765<>\"\",\"OK\",IF(AND(#REF!<>\"\",#REF!<TODAY()),\"Retard\",\"Attente de Livraison\")))","v":""}]
[null,null,null,null,null,null,null,null,{"$f":"IF(F766=\"\",\"\",IF(H766<>\"\",\"OK\",IF(AND(#REF!<>\"\",#REF!<TODAY()),\"Retard\",\"Attente de Livraison\")))","v":""}]
[null,null,null,null,null,null,null,null,{"$f":"IF(F767=\"\",\"\",IF(H767<>\"\",\"OK\",IF(AND(#REF!<>\"\",#REF!<TODAY()),\"Retard\",\"Attente de Livraison\")))","v":""}]
[null,null,null,null,null,null,null,null,{"$f":"IF(F768=\"\",\"\",IF(H768<>\"\",\"OK\",IF(AND(#REF!<>\"\",#REF!<TODAY()),\"Retard\",\"Attente de Livraison\")))","v":""}]
[null,null,null,null,null,null,null,null,{"$f":"IF(F769=\"\",\"\",IF(H769<>\"\",\"OK\",IF(AND(#REF!<>\"\",#REF!<TODAY()),\"Retard\",\"Attente de Livraison\")))","v":""}]
[null,null,null,null,null,null,null,null,{"$f":"IF(F770=\"\",\"\",IF(H770<>\"\",\"OK\",IF(AND(#REF!<>\"\",#REF!<TODAY()),\"Retard\",\"Attente de Livraison\")))","v":""}]
[null,null,null,null,null,null,null,null,{"$f":"IF(F771=\"\",\"\",IF(H771<>\"\",\"OK\",IF(AND(#REF!<>\"\",#REF!<TODAY()),\"Retard\",\"Attente de Livraison\")))","v":""}]
[null,null,null,null,null,null,null,null,{"$f":"IF(F772=\"\",\"\",IF(H772<>\"\",\"OK\",IF(AND(#REF!<>\"\",#REF!<TODAY()),\"Retard\",\"Attente de Livraison\")))","v":""}]
[null,null,null,null,null,null,null,null,{"$f":"IF(F773=\"\",\"\",IF(H773<>\"\",\"OK\",IF(AND(#REF!<>\"\",#REF!<TODAY()),\"Retard\",\"Attente de Livraison\")))","v":""}]
[null,null,null,null,null,null,null,null,{"$f":"IF(F774=\"\",\"\",IF(H774<>\"\",\"OK\",IF(AND(#REF!<>\"\",#REF!<TODAY()),\"Retard\",\"Attente de Livraison\")))","v":""}]
[null,null,null,null,null,null,null,null,{"$f":"IF(F775=\"\",\"\",IF(H775<>\"\",\"OK\",IF(AND(#REF!<>\"\",#REF!<TODAY()),\"Retard\",\"Attente de Livraison\")))","v":""}]
[null,null,null,null,null,null,null,null,{"$f":"IF(F776=\"\",\"\",IF(H776<>\"\",\"OK\",IF(AND(#REF!<>\"\",#REF!<TODAY()),\"Retard\",\"Attente de Livraison\")))","v":""}]
[null,null,null,null,null,null,null,null,{"$f":"IF(F777=\"\",\"\",IF(H777<>\"\",\"OK\",IF(AND(#REF!<>\"\",#REF!<TODAY()),\"Retard\",\"Attente de Livraison\")))","v":""}]
[null,null,null,null,null,null,null,null,{"$f":"IF(F778=\"\",\"\",IF(H778<>\"\",\"OK\",IF(AND(#REF!<>\"\",#REF!<TODAY()),\"Retard\",\"Attente de Livraison\")))","v":""}]
[null,null,null,null,null,null,null,null,{"$f":"IF(F779=\"\",\"\",IF(H779<>\"\",\"OK\",IF(AND(#REF!<>\"\",#REF!<TODAY()),\"Retard\",\"Attente de Livraison\")))","v":""}]
[null,null,null,null,null,null,null,null,{"$f":"IF(F780=\"\",\"\",IF(H780<>\"\",\"OK\",IF(AND(#REF!<>\"\",#REF!<TODAY()),\"Retard\",\"Attente de Livraison\")))","v":""}]
[null,null,null,null,null,null,null,null,{"$f":"IF(F781=\"\",\"\",IF(H781<>\"\",\"OK\",IF(AND(#REF!<>\"\",#REF!<TODAY()),\"Retard\",\"Attente de Livraison\")))","v":""}]
[null,null,null,null,null,null,null,null,{"$f":"IF(F782=\"\",\"\",IF(H782<>\"\",\"OK\",IF(AND(#REF!<>\"\",#REF!<TODAY()),\"Retard\",\"Attente de Livraison\")))","v":""}]
[null,null,null,null,null,null,null,null,{"$f":"IF(F783=\"\",\"\",IF(H783<>\"\",\"OK\",IF(AND(#REF!<>\"\",#REF!<TODAY()),\"Retard\",\"Attente de Livraison\")))","v":""}]
[null,null,null,null,null,null,null,null,{"$f":"IF(F784=\"\",\"\",IF(H784<>\"\",\"OK\",IF(AND(#REF!<>\"\",#REF!<TODAY()),\"Retard\",\"Attente de Livraison\")))","v":""}]
[null,null,null,null,null,null,null,null,{"$f":"IF(F785=\"\",\"\",IF(H785<>\"\",\"OK\",IF(AND(#REF!<>\"\",#REF!<TODAY()),\"Retard\",\"Attente de Livraison\")))","v":""}]
[null,null,null,null,null,null,null,null,{"$f":"IF(F786=\"\",\"\",IF(H786<>\"\",\"OK\",IF(AND(#REF!<>\"\",#REF!<TODAY()),\"Retard\",\"Attente de Livraison\")))","v":""}]
[null,null,null,null,null,null,null,null,{"$f":"IF(F787=\"\",\"\",IF(H787<>\"\",\"OK\",IF(AND(#REF!<>\"\",#REF!<TODAY()),\"Retard\",\"Attente de Livraison\")))","v":""}]
[null,null,null,null,null,null,null,null,{"$f":"IF(F788=\"\",\"\",IF(H788<>\"\",\"OK\",IF(AND(#REF!<>\"\",#REF!<TODAY()),\"Retard\",\"Attente de Livraison\")))","v":""}]
[null,null,null,null,null,null,null,null,{"$f":"IF(F789=\"\",\"\",IF(H789<>\"\",\"OK\",IF(AND(#REF!<>\"\",#REF!<TODAY()),\"Retard\",\"Attente de Livraison\")))","v":""}]
[null,null,null,null,null,null,null,null,{"$f":"IF(F790=\"\",\"\",IF(H790<>\"\",\"OK\",IF(AND(#REF!<>\"\",#REF!<TODAY()),\"Retard\",\"Attente de Livraison\")))","v":""}]
[null,null,null,null,null,null,null,null,{"$f":"IF(F791=\"\",\"\",IF(H791<>\"\",\"OK\",IF(AND(#REF!<>\"\",#REF!<TODAY()),\"Retard\",\"Attente de Livraison\")))","v":""}]
[null,null,null,null,null,null,null,null,{"$f":"IF(F792=\"\",\"\",IF(H792<>\"\",\"OK\",IF(AND(#REF!<>\"\",#REF!<TODAY()),\"Retard\",\"Attente de Livraison\")))","v":""}]
[null,null,null,null,null,null,null,null,{"$f":"IF(F793=\"\",\"\",IF(H793<>\"\",\"OK\",IF(AND(#REF!<>\"\",#REF!<TODAY()),\"Retard\",\"Attente de Livraison\")))","v":""}]
[null,null,null,null,null,null,null,null,{"$f":"IF(F794=\"\",\"\",IF(H794<>\"\",\"OK\",IF(AND(#REF!<>\"\",#REF!<TODAY()),\"Retard\",\"Attente de Livraison\")))","v":""}]
[null,null,null,null,null,null,null,null,{"$f":"IF(F795=\"\",\"\",IF(H795<>\"\",\"OK\",IF(AND(#REF!<>\"\",#REF!<TODAY()),\"Retard\",\"Attente de Livraison\")))","v":""}]
[null,null,null,null,null,null,null,null,{"$f":"IF(F796=\"\",\"\",IF(H796<>\"\",\"OK\",IF(AND(#REF!<>\"\",#REF!<TODAY()),\"Retard\",\"Attente de Livraison\")))","v":""}]
[null,null,null,null,null,null,null,null,{"$f":"IF(F797=\"\",\"\",IF(H797<>\"\",\"OK\",IF(AND(#REF!<>\"\",#REF!<TODAY()),\"Retard\",\"Attente de Livraison\")))","v":""}]
[null,null,null,null,null,null,null,null,{"$f":"IF(F798=\"\",\"\",IF(H798<>\"\",\"OK\",IF(AND(#REF!<>\"\",#REF!<TODAY()),\"Retard\",\"Attente de Livraison\")))","v":""}]
[null,null,null,null,null,null,null,null,{"$f":"IF(F799=\"\",\"\",IF(H799<>\"\",\"OK\",IF(AND(#REF!<>\"\",#REF!<TODAY()),\"Retard\",\"Attente de Livraison\")))","v":""}]
[null,null,null,null,null,null,null,null,{"$f":"IF(F800=\"\",\"\",IF(H800<>\"\",\"OK\",IF(AND(#REF!<>\"\",#REF!<TODAY()),\"Retard\",\"Attente de Livraison\")))","v":""}]
[null,null,null,null,null,null,null,null,{"$f":"IF(F801=\"\",\"\",IF(H801<>\"\",\"OK\",IF(AND(#REF!<>\"\",#REF!<TODAY()),\"Retard\",\"Attente de Livraison\")))","v":""}]
[null,null,null,null,null,null,null,null,{"$f":"IF(F802=\"\",\"\",IF(H802<>\"\",\"OK\",IF(AND(#REF!<>\"\",#REF!<TODAY()),\"Retard\",\"Attente de Livraison\")))","v":""}]
[null,null,null,null,null,null,null,null,{"$f":"IF(F803=\"\",\"\",IF(H803<>\"\",\"OK\",IF(AND(#REF!<>\"\",#REF!<TODAY()),\"Retard\",\"Attente de Livraison\")))","v":""}]
[null,null,null,null,null,null,null,null,{"$f":"IF(F804=\"\",\"\",IF(H804<>\"\",\"OK\",IF(AND(#REF!<>\"\",#REF!<TODAY()),\"Retard\",\"Attente de Livraison\")))","v":""}]
[null,null,null,null,null,null,null,null,{"$f":"IF(F805=\"\",\"\",IF(H805<>\"\",\"OK\",IF(AND(#REF!<>\"\",#REF!<TODAY()),\"Retard\",\"Attente de Livraison\")))","v":""}]
[null,null,null,null,null,null,null,null,{"$f":"IF(F806=\"\",\"\",IF(H806<>\"\",\"OK\",IF(AND(#REF!<>\"\",#REF!<TODAY()),\"Retard\",\"Attente de Livraison\")))","v":""}]
[null,null,null,null,null,null,null,null,{"$f":"IF(F807=\"\",\"\",IF(H807<>\"\",\"OK\",IF(AND(#REF!<>\"\",#REF!<TODAY()),\"Retard\",\"Attente de Livraison\")))","v":""}]
[null,null,null,null,null,null,null,null,{"$f":"IF(F808=\"\",\"\",IF(H808<>\"\",\"OK\",IF(AND(#REF!<>\"\",#REF!<TODAY()),\"Retard\",\"Attente de Livraison\")))","v":""}]
[null,null,null,null,null,null,null,null,{"$f":"IF(F809=\"\",\"\",IF(H809<>\"\",\"OK\",IF(AND(#REF!<>\"\",#REF!<TODAY()),\"Retard\",\"Attente de Livraison\")))","v":""}]
[null,null,null,null,null,null,null,null,{"$f":"IF(F810=\"\",\"\",IF(H810<>\"\",\"OK\",IF(AND(#REF!<>\"\",#REF!<TODAY()),\"Retard\",\"Attente de Livraison\")))","v":""}]
[null,null,null,null,null,null,null,null,{"$f":"IF(F811=\"\",\"\",IF(H811<>\"\",\"OK\",IF(AND(#REF!<>\"\",#REF!<TODAY()),\"Retard\",\"Attente de Livraison\")))","v":""}]
[null,null,null,null,null,null,null,null,{"$f":"IF(F812=\"\",\"\",IF(H812<>\"\",\"OK\",IF(AND(#REF!<>\"\",#REF!<TODAY()),\"Retard\",\"Attente de Livraison\")))","v":""}]
[null,null,null,null,null,null,null,null,{"$f":"IF(F813=\"\",\"\",IF(H813<>\"\",\"OK\",IF(AND(#REF!<>\"\",#REF!<TODAY()),\"Retard\",\"Attente de Livraison\")))","v":""}]
[null,null,null,null,null,null,null,null,{"$f":"IF(F814=\"\",\"\",IF(H814<>\"\",\"OK\",IF(AND(#REF!<>\"\",#REF!<TODAY()),\"Retard\",\"Attente de Livraison\")))","v":""}]
[null,null,null,null,null,null,null,null,{"$f":"IF(F815=\"\",\"\",IF(H815<>\"\",\"OK\",IF(AND(#REF!<>\"\",#REF!<TODAY()),\"Retard\",\"Attente de Livraison\")))","v":""}]
[null,null,null,null,null,null,null,null,{"$f":"IF(F816=\"\",\"\",IF(H816<>\"\",\"OK\",IF(AND(#REF!<>\"\",#REF!<TODAY()),\"Retard\",\"Attente de Livraison\")))","v":""}]
[null,null,null,null,null,null,null,null,{"$f":"IF(F817=\"\",\"\",IF(H817<>\"\",\"OK\",IF(AND(#REF!<>\"\",#REF!<TODAY()),\"Retard\",\"Attente de Livraison\")))","v":""}]
[null,null,null,null,null,null,null,null,{"$f":"IF(F818=\"\",\"\",IF(H818<>\"\",\"OK\",IF(AND(#REF!<>\"\",#REF!<TODAY()),\"Retard\",\"Attente de Livraison\")))","v":""}]
[null,null,null,null,null,null,null,null,{"$f":"IF(F819=\"\",\"\",IF(H819<>\"\",\"OK\",IF(AND(#REF!<>\"\",#REF!<TODAY()),\"Retard\",\"Attente de Livraison\")))","v":""}]
[null,null,null,null,null,null,null,null,{"$f":"IF(F820=\"\",\"\",IF(H820<>\"\",\"OK\",IF(AND(#REF!<>\"\",#REF!<TODAY()),\"Retard\",\"Attente de Livraison\")))","v":""}]
[null,null,null,null,null,null,null,null,{"$f":"IF(F821=\"\",\"\",IF(H821<>\"\",\"OK\",IF(AND(#REF!<>\"\",#REF!<TODAY()),\"Retard\",\"Attente de Livraison\")))","v":""}]
[null,null,null,null,null,null,null,null,{"$f":"IF(F822=\"\",\"\",IF(H822<>\"\",\"OK\",IF(AND(#REF!<>\"\",#REF!<TODAY()),\"Retard\",\"Attente de Livraison\")))","v":""}]
[null,null,null,null,null,null,null,null,{"$f":"IF(F823=\"\",\"\",IF(H823<>\"\",\"OK\",IF(AND(#REF!<>\"\",#REF!<TODAY()),\"Retard\",\"Attente de Livraison\")))","v":""}]
[null,null,null,null,null,null,null,null,{"$f":"IF(F824=\"\",\"\",IF(H824<>\"\",\"OK\",IF(AND(#REF!<>\"\",#REF!<TODAY()),\"Retard\",\"Attente de Livraison\")))","v":""}]
[null,null,null,null,null,null,null,null,{"$f":"IF(F825=\"\",\"\",IF(H825<>\"\",\"OK\",IF(AND(#REF!<>\"\",#REF!<TODAY()),\"Retard\",\"Attente de Livraison\")))","v":""}]
[null,null,null,null,null,null,null,null,{"$f":"IF(F826=\"\",\"\",IF(H826<>\"\",\"OK\",IF(AND(#REF!<>\"\",#REF!<TODAY()),\"Retard\",\"Attente de Livraison\")))","v":""}]
[null,null,null,null,null,null,null,null,{"$f":"IF(F827=\"\",\"\",IF(H827<>\"\",\"OK\",IF(AND(#REF!<>\"\",#REF!<TODAY()),\"Retard\",\"Attente de Livraison\")))","v":""}]
[null,null,null,null,null,null,null,null,{"$f":"IF(F828=\"\",\"\",IF(H828<>\"\",\"OK\",IF(AND(#REF!<>\"\",#REF!<TODAY()),\"Retard\",\"Attente de Livraison\")))","v":""}]
[null,null,null,null,null,null,null,null,{"$f":"IF(F829=\"\",\"\",IF(H829<>\"\",\"OK\",IF(AND(#REF!<>\"\",#REF!<TODAY()),\"Retard\",\"Attente de Livraison\")))","v":""}]
[null,null,null,null,null,null,null,null,{"$f":"IF(F830=\"\",\"\",IF(H830<>\"\",\"OK\",IF(AND(#REF!<>\"\",#REF!<TODAY()),\"Retard\",\"Attente de Livraison\")))","v":""}]
[null,null,null,null,null,null,null,null,{"$f":"IF(F831=\"\",\"\",IF(H831<>\"\",\"OK\",IF(AND(#REF!<>\"\",#REF!<TODAY()),\"Retard\",\"Attente de Livraison\")))","v":""}]
[null,null,null,null,null,null,null,null,{"$f":"IF(F832=\"\",\"\",IF(H832<>\"\",\"OK\",IF(AND(#REF!<>\"\",#REF!<TODAY()),\"Retard\",\"Attente de Livraison\")))","v":""}]
[null,null,null,null,null,null,null,null,{"$f":"IF(F833=\"\",\"\",IF(H833<>\"\",\"OK\",IF(AND(#REF!<>\"\",#REF!<TODAY()),\"Retard\",\"Attente de Livraison\")))","v":""}]
[null,null,null,null,null,null,null,null,{"$f":"IF(F834=\"\",\"\",IF(H834<>\"\",\"OK\",IF(AND(#REF!<>\"\",#REF!<TODAY()),\"Retard\",\"Attente de Livraison\")))","v":""}]
[null,null,null,null,null,null,null,null,{"$f":"IF(F835=\"\",\"\",IF(H835<>\"\",\"OK\",IF(AND(#REF!<>\"\",#REF!<TODAY()),\"Retard\",\"Attente de Livraison\")))","v":""}]
[null,null,null,null,null,null,null,null,{"$f":"IF(F836=\"\",\"\",IF(H836<>\"\",\"OK\",IF(AND(#REF!<>\"\",#REF!<TODAY()),\"Retard\",\"Attente de Livraison\")))","v":""}]
[null,null,null,null,null,null,null,null,{"$f":"IF(F837=\"\",\"\",IF(H837<>\"\",\"OK\",IF(AND(#REF!<>\"\",#REF!<TODAY()),\"Retard\",\"Attente de Livraison\")))","v":""}]
[null,null,null,null,null,null,null,null,{"$f":"IF(F838=\"\",\"\",IF(H838<>\"\",\"OK\",IF(AND(#REF!<>\"\",#REF!<TODAY()),\"Retard\",\"Attente de Livraison\")))","v":""}]
[null,null,null,null,null,null,null,null,{"$f":"IF(F839=\"\",\"\",IF(H839<>\"\",\"OK\",IF(AND(#REF!<>\"\",#REF!<TODAY()),\"Retard\",\"Attente de Livraison\")))","v":""}]
[null,null,null,null,null,null,null,null,{"$f":"IF(F840=\"\",\"\",IF(H840<>\"\",\"OK\",IF(AND(#REF!<>\"\",#REF!<TODAY()),\"Retard\",\"Attente de Livraison\")))","v":""}]
[null,null,null,null,null,null,null,null,{"$f":"IF(F841=\"\",\"\",IF(H841<>\"\",\"OK\",IF(AND(#REF!<>\"\",#REF!<TODAY()),\"Retard\",\"Attente de Livraison\")))","v":""}]
[null,null,null,null,null,null,null,null,{"$f":"IF(F842=\"\",\"\",IF(H842<>\"\",\"OK\",IF(AND(#REF!<>\"\",#REF!<TODAY()),\"Retard\",\"Attente de Livraison\")))","v":""}]
[null,null,null,null,null,null,null,null,{"$f":"IF(F843=\"\",\"\",IF(H843<>\"\",\"OK\",IF(AND(#REF!<>\"\",#REF!<TODAY()),\"Retard\",\"Attente de Livraison\")))","v":""}]
[null,null,null,null,null,null,null,null,{"$f":"IF(F844=\"\",\"\",IF(H844<>\"\",\"OK\",IF(AND(#REF!<>\"\",#REF!<TODAY()),\"Retard\",\"Attente de Livraison\")))","v":""}]
[null,null,null,null,null,null,null,null,{"$f":"IF(F845=\"\",\"\",IF(H845<>\"\",\"OK\",IF(AND(#REF!<>\"\",#REF!<TODAY()),\"Retard\",\"Attente de Livraison\")))","v":""}]
[null,null,null,null,null,null,null,null,{"$f":"IF(F846=\"\",\"\",IF(H846<>\"\",\"OK\",IF(AND(#REF!<>\"\",#REF!<TODAY()),\"Retard\",\"Attente de Livraison\")))","v":""}]
[null,null,null,null,null,null,null,null,{"$f":"IF(F847=\"\",\"\",IF(H847<>\"\",\"OK\",IF(AND(#REF!<>\"\",#REF!<TODAY()),\"Retard\",\"Attente de Livraison\")))","v":""}]
[null,null,null,null,null,null,null,null,{"$f":"IF(F848=\"\",\"\",IF(H848<>\"\",\"OK\",IF(AND(#REF!<>\"\",#REF!<TODAY()),\"Retard\",\"Attente de Livraison\")))","v":""}]
[null,null,null,null,null,null,null,null,{"$f":"IF(F849=\"\",\"\",IF(H849<>\"\",\"OK\",IF(AND(#REF!<>\"\",#REF!<TODAY()),\"Retard\",\"Attente de Livraison\")))","v":""}]
[null,null,null,null,null,null,null,null,{"$f":"IF(F850=\"\",\"\",IF(H850<>\"\",\"OK\",IF(AND(#REF!<>\"\",#REF!<TODAY()),\"Retard\",\"Attente de Livraison\")))","v":""}]
[null,null,null,null,null,null,null,null,{"$f":"IF(F851=\"\",\"\",IF(H851<>\"\",\"OK\",IF(AND(#REF!<>\"\",#REF!<TODAY()),\"Retard\",\"Attente de Livraison\")))","v":""}]
[null,null,null,null,null,null,null,null,{"$f":"IF(F852=\"\",\"\",IF(H852<>\"\",\"OK\",IF(AND(#REF!<>\"\",#REF!<TODAY()),\"Retard\",\"Attente de Livraison\")))","v":""}]
[null,null,null,null,null,null,null,null,{"$f":"IF(F853=\"\",\"\",IF(H853<>\"\",\"OK\",IF(AND(#REF!<>\"\",#REF!<TODAY()),\"Retard\",\"Attente de Livraison\")))","v":""}]
[null,null,null,null,null,null,null,null,{"$f":"IF(F854=\"\",\"\",IF(H854<>\"\",\"OK\",IF(AND(#REF!<>\"\",#REF!<TODAY()),\"Retard\",\"Attente de Livraison\")))","v":""}]
[null,null,null,null,null,null,null,null,{"$f":"IF(F855=\"\",\"\",IF(H855<>\"\",\"OK\",IF(AND(#REF!<>\"\",#REF!<TODAY()),\"Retard\",\"Attente de Livraison\")))","v":""}]
[null,null,null,null,null,null,null,null,{"$f":"IF(F856=\"\",\"\",IF(H856<>\"\",\"OK\",IF(AND(#REF!<>\"\",#REF!<TODAY()),\"Retard\",\"Attente de Livraison\")))","v":""}]
[null,null,null,null,null,null,null,null,{"$f":"IF(F857=\"\",\"\",IF(H857<>\"\",\"OK\",IF(AND(#REF!<>\"\",#REF!<TODAY()),\"Retard\",\"Attente de Livraison\")))","v":""}]
[null,null,null,null,null,null,null,null,{"$f":"IF(F858=\"\",\"\",IF(H858<>\"\",\"OK\",IF(AND(#REF!<>\"\",#REF!<TODAY()),\"Retard\",\"Attente de Livraison\")))","v":""}]
[null,null,null,null,null,null,null,null,{"$f":"IF(F859=\"\",\"\",IF(H859<>\"\",\"OK\",IF(AND(#REF!<>\"\",#REF!<TODAY()),\"Retard\",\"Attente de Livraison\")))","v":""}]
[null,null,null,null,null,null,null,null,{"$f":"IF(F860=\"\",\"\",IF(H860<>\"\",\"OK\",IF(AND(#REF!<>\"\",#REF!<TODAY()),\"Retard\",\"Attente de Livraison\")))","v":""}]
[null,null,null,null,null,null,null,null,{"$f":"IF(F861=\"\",\"\",IF(H861<>\"\",\"OK\",IF(AND(#REF!<>\"\",#REF!<TODAY()),\"Retard\",\"Attente de Livraison\")))","v":""}]
[null,null,null,null,null,null,null,null,{"$f":"IF(F862=\"\",\"\",IF(H862<>\"\",\"OK\",IF(AND(#REF!<>\"\",#REF!<TODAY()),\"Retard\",\"Attente de Livraison\")))","v":""}]
[null,null,null,null,null,null,null,null,{"$f":"IF(F863=\"\",\"\",IF(H863<>\"\",\"OK\",IF(AND(#REF!<>\"\",#REF!<TODAY()),\"Retard\",\"Attente de Livraison\")))","v":""}]
[null,null,null,null,null,null,null,null,{"$f":"IF(F864=\"\",\"\",IF(H864<>\"\",\"OK\",IF(AND(#REF!<>\"\",#REF!<TODAY()),\"Retard\",\"Attente de Livraison\")))","v":""}]
[null,null,null,null,null,null,null,null,{"$f":"IF(F865=\"\",\"\",IF(H865<>\"\",\"OK\",IF(AND(#REF!<>\"\",#REF!<TODAY()),\"Retard\",\"Attente de Livraison\")))","v":""}]
[null,null,null,null,null,null,null,null,{"$f":"IF(F866=\"\",\"\",IF(H866<>\"\",\"OK\",IF(AND(#REF!<>\"\",#REF!<TODAY()),\"Retard\",\"Attente de Livraison\")))","v":""}]
[null,null,null,null,null,null,null,null,{"$f":"IF(F867=\"\",\"\",IF(H867<>\"\",\"OK\",IF(AND(#REF!<>\"\",#REF!<TODAY()),\"Retard\",\"Attente de Livraison\")))","v":""}]
[null,null,null,null,null,null,null,null,{"$f":"IF(F868=\"\",\"\",IF(H868<>\"\",\"OK\",IF(AND(#REF!<>\"\",#REF!<TODAY()),\"Retard\",\"Attente de Livraison\")))","v":""}]
[null,null,null,null,null,null,null,null,{"$f":"IF(F869=\"\",\"\",IF(H869<>\"\",\"OK\",IF(AND(#REF!<>\"\",#REF!<TODAY()),\"Retard\",\"Attente de Livraison\")))","v":""}]
[null,null,null,null,null,null,null,null,{"$f":"IF(F870=\"\",\"\",IF(H870<>\"\",\"OK\",IF(AND(#REF!<>\"\",#REF!<TODAY()),\"Retard\",\"Attente de Livraison\")))","v":""}]
[null,null,null,null,null,null,null,null,{"$f":"IF(F871=\"\",\"\",IF(H871<>\"\",\"OK\",IF(AND(#REF!<>\"\",#REF!<TODAY()),\"Retard\",\"Attente de Livraison\")))","v":""}]
[null,null,null,null,null,null,null,null,{"$f":"IF(F872=\"\",\"\",IF(H872<>\"\",\"OK\",IF(AND(#REF!<>\"\",#REF!<TODAY()),\"Retard\",\"Attente de Livraison\")))","v":""}]
[null,null,null,null,null,null,null,null,{"$f":"IF(F873=\"\",\"\",IF(H873<>\"\",\"OK\",IF(AND(#REF!<>\"\",#REF!<TODAY()),\"Retard\",\"Attente de Livraison\")))","v":""}]
[null,null,null,null,null,null,null,null,{"$f":"IF(F874=\"\",\"\",IF(H874<>\"\",\"OK\",IF(AND(#REF!<>\"\",#REF!<TODAY()),\"Retard\",\"Attente de Livraison\")))","v":""}]
[null,null,null,null,null,null,null,null,{"$f":"IF(F875=\"\",\"\",IF(H875<>\"\",\"OK\",IF(AND(#REF!<>\"\",#REF!<TODAY()),\"Retard\",\"Attente de Livraison\")))","v":""}]
[null,null,null,null,null,null,null,null,{"$f":"IF(F876=\"\",\"\",IF(H876<>\"\",\"OK\",IF(AND(#REF!<>\"\",#REF!<TODAY()),\"Retard\",\"Attente de Livraison\")))","v":""}]
[null,null,null,null,null,null,null,null,{"$f":"IF(F877=\"\",\"\",IF(H877<>\"\",\"OK\",IF(AND(#REF!<>\"\",#REF!<TODAY()),\"Retard\",\"Attente de Livraison\")))","v":""}]
[null,null,null,null,null,null,null,null,{"$f":"IF(F878=\"\",\"\",IF(H878<>\"\",\"OK\",IF(AND(#REF!<>\"\",#REF!<TODAY()),\"Retard\",\"Attente de Livraison\")))","v":""}]
[null,null,null,null,null,null,null,null,{"$f":"IF(F879=\"\",\"\",IF(H879<>\"\",\"OK\",IF(AND(#REF!<>\"\",#REF!<TODAY()),\"Retard\",\"Attente de Livraison\")))","v":""}]
[null,null,null,null,null,null,null,null,{"$f":"IF(F880=\"\",\"\",IF(H880<>\"\",\"OK\",IF(AND(#REF!<>\"\",#REF!<TODAY()),\"Retard\",\"Attente de Livraison\")))","v":""}]
[null,null,null,null,null,null,null,null,{"$f":"IF(F881=\"\",\"\",IF(H881<>\"\",\"OK\",IF(AND(#REF!<>\"\",#REF!<TODAY()),\"Retard\",\"Attente de Livraison\")))","v":""}]
[null,null,null,null,null,null,null,null,{"$f":"IF(F882=\"\",\"\",IF(H882<>\"\",\"OK\",IF(AND(#REF!<>\"\",#REF!<TODAY()),\"Retard\",\"Attente de Livraison\")))","v":""}]
[null,null,null,null,null,null,null,null,{"$f":"IF(F883=\"\",\"\",IF(H883<>\"\",\"OK\",IF(AND(#REF!<>\"\",#REF!<TODAY()),\"Retard\",\"Attente de Livraison\")))","v":""}]
[null,null,null,null,null,null,null,null,{"$f":"IF(F884=\"\",\"\",IF(H884<>\"\",\"OK\",IF(AND(#REF!<>\"\",#REF!<TODAY()),\"Retard\",\"Attente de Livraison\")))","v":""}]
[null,null,null,null,null,null,null,null,{"$f":"IF(F885=\"\",\"\",IF(H885<>\"\",\"OK\",IF(AND(#REF!<>\"\",#REF!<TODAY()),\"Retard\",\"Attente de Livraison\")))","v":""}]
[null,null,null,null,null,null,null,null,{"$f":"IF(F886=\"\",\"\",IF(H886<>\"\",\"OK\",IF(AND(#REF!<>\"\",#REF!<TODAY()),\"Retard\",\"Attente de Livraison\")))","v":""}]
[null,null,null,null,null,null,null,null,{"$f":"IF(F887=\"\",\"\",IF(H887<>\"\",\"OK\",IF(AND(#REF!<>\"\",#REF!<TODAY()),\"Retard\",\"Attente de Livraison\")))","v":""}]
[null,null,null,null,null,null,null,null,{"$f":"IF(F888=\"\",\"\",IF(H888<>\"\",\"OK\",IF(AND(#REF!<>\"\",#REF!<TODAY()),\"Retard\",\"Attente de Livraison\")))","v":""}]
[null,null,null,null,null,null,null,null,{"$f":"IF(F889=\"\",\"\",IF(H889<>\"\",\"OK\",IF(AND(#REF!<>\"\",#REF!<TODAY()),\"Retard\",\"Attente de Livraison\")))","v":""}]
[null,null,null,null,null,null,null,null,{"$f":"IF(F890=\"\",\"\",IF(H890<>\"\",\"OK\",IF(AND(#REF!<>\"\",#REF!<TODAY()),\"Retard\",\"Attente de Livraison\")))","v":""}]
[null,null,null,null,null,null,null,null,{"$f":"IF(F891=\"\",\"\",IF(H891<>\"\",\"OK\",IF(AND(#REF!<>\"\",#REF!<TODAY()),\"Retard\",\"Attente de Livraison\")))","v":""}]
[null,null,null,null,null,null,null,null,{"$f":"IF(F892=\"\",\"\",IF(H892<>\"\",\"OK\",IF(AND(#REF!<>\"\",#REF!<TODAY()),\"Retard\",\"Attente de Livraison\")))","v":""}]
[null,null,null,null,null,null,null,null,{"$f":"IF(F893=\"\",\"\",IF(H893<>\"\",\"OK\",IF(AND(#REF!<>\"\",#REF!<TODAY()),\"Retard\",\"Attente de Livraison\")))","v":""}]
[null,null,null,null,null,null,null,null,{"$f":"IF(F894=\"\",\"\",IF(H894<>\"\",\"OK\",IF(AND(#REF!<>\"\",#REF!<TODAY()),\"Retard\",\"Attente de Livraison\")))","v":""}]
[null,null,null,null,null,null,null,null,{"$f":"IF(F895=\"\",\"\",IF(H895<>\"\",\"OK\",IF(AND(#REF!<>\"\",#REF!<TODAY()),\"Retard\",\"Attente de Livraison\")))","v":""}]
[null,null,null,null,null,null,null,null,{"$f":"IF(F896=\"\",\"\",IF(H896<>\"\",\"OK\",IF(AND(#REF!<>\"\",#REF!<TODAY()),\"Retard\",\"Attente de Livraison\")))","v":""}]
[null,null,null,null,null,null,null,null,{"$f":"IF(F897=\"\",\"\",IF(H897<>\"\",\"OK\",IF(AND(#REF!<>\"\",#REF!<TODAY()),\"Retard\",\"Attente de Livraison\")))","v":""}]
[null,null,null,null,null,null,null,null,{"$f":"IF(F898=\"\",\"\",IF(H898<>\"\",\"OK\",IF(AND(#REF!<>\"\",#REF!<TODAY()),\"Retard\",\"Attente de Livraison\")))","v":""}]
[null,null,null,null,null,null,null,null,{"$f":"IF(F899=\"\",\"\",IF(H899<>\"\",\"OK\",IF(AND(#REF!<>\"\",#REF!<TODAY()),\"Retard\",\"Attente de Livraison\")))","v":""}]
[null,null,null,null,null,null,null,null,{"$f":"IF(F900=\"\",\"\",IF(H900<>\"\",\"OK\",IF(AND(#REF!<>\"\",#REF!<TODAY()),\"Retard\",\"Attente de Livraison\")))","v":""}]
[null,null,null,null,null,null,null,null,{"$f":"IF(F901=\"\",\"\",IF(H901<>\"\",\"OK\",IF(AND(#REF!<>\"\",#REF!<TODAY()),\"Retard\",\"Attente de Livraison\")))","v":""}]
[null,null,null,null,null,null,null,null,{"$f":"IF(F902=\"\",\"\",IF(H902<>\"\",\"OK\",IF(AND(#REF!<>\"\",#REF!<TODAY()),\"Retard\",\"Attente de Livraison\")))","v":""}]
[null,null,null,null,null,null,null,null,{"$f":"IF(F903=\"\",\"\",IF(H903<>\"\",\"OK\",IF(AND(#REF!<>\"\",#REF!<TODAY()),\"Retard\",\"Attente de Livraison\")))","v":""}]
[null,null,null,null,null,null,null,null,{"$f":"IF(F904=\"\",\"\",IF(H904<>\"\",\"OK\",IF(AND(#REF!<>\"\",#REF!<TODAY()),\"Retard\",\"Attente de Livraison\")))","v":""}]
[null,null,null,null,null,null,null,null,{"$f":"IF(F905=\"\",\"\",IF(H905<>\"\",\"OK\",IF(AND(#REF!<>\"\",#REF!<TODAY()),\"Retard\",\"Attente de Livraison\")))","v":""}]
[null,null,null,null,null,null,null,null,{"$f":"IF(F906=\"\",\"\",IF(H906<>\"\",\"OK\",IF(AND(#REF!<>\"\",#REF!<TODAY()),\"Retard\",\"Attente de Livraison\")))","v":""}]
[null,null,null,null,null,null,null,null,{"$f":"IF(F907=\"\",\"\",IF(H907<>\"\",\"OK\",IF(AND(#REF!<>\"\",#REF!<TODAY()),\"Retard\",\"Attente de Livraison\")))","v":""}]
[null,null,null,null,null,null,null,null,{"$f":"IF(F908=\"\",\"\",IF(H908<>\"\",\"OK\",IF(AND(#REF!<>\"\",#REF!<TODAY()),\"Retard\",\"Attente de Livraison\")))","v":""}]
[null,null,null,null,null,null,null,null,{"$f":"IF(F909=\"\",\"\",IF(H909<>\"\",\"OK\",IF(AND(#REF!<>\"\",#REF!<TODAY()),\"Retard\",\"Attente de Livraison\")))","v":""}]
[null,null,null,null,null,null,null,null,{"$f":"IF(F910=\"\",\"\",IF(H910<>\"\",\"OK\",IF(AND(#REF!<>\"\",#REF!<TODAY()),\"Retard\",\"Attente de Livraison\")))","v":""}]
[null,null,null,null,null,null,null,null,{"$f":"IF(F911=\"\",\"\",IF(H911<>\"\",\"OK\",IF(AND(#REF!<>\"\",#REF!<TODAY()),\"Retard\",\"Attente de Livraison\")))","v":""}]
[null,null,null,null,null,null,null,null,{"$f":"IF(F912=\"\",\"\",IF(H912<>\"\",\"OK\",IF(AND(#REF!<>\"\",#REF!<TODAY()),\"Retard\",\"Attente de Livraison\")))","v":""}]
[null,null,null,null,null,null,null,null,{"$f":"IF(F913=\"\",\"\",IF(H913<>\"\",\"OK\",IF(AND(#REF!<>\"\",#REF!<TODAY()),\"Retard\",\"Attente de Livraison\")))","v":""}]
[null,null,null,null,null,null,null,null,{"$f":"IF(F914=\"\",\"\",IF(H914<>\"\",\"OK\",IF(AND(#REF!<>\"\",#REF!<TODAY()),\"Retard\",\"Attente de Livraison\")))","v":""}]
[null,null,null,null,null,null,null,null,{"$f":"IF(F915=\"\",\"\",IF(H915<>\"\",\"OK\",IF(AND(#REF!<>\"\",#REF!<TODAY()),\"Retard\",\"Attente de Livraison\")))","v":""}]
[null,null,null,null,null,null,null,null,{"$f":"IF(F916=\"\",\"\",IF(H916<>\"\",\"OK\",IF(AND(#REF!<>\"\",#REF!<TODAY()),\"Retard\",\"Attente de Livraison\")))","v":""}]
[null,null,null,null,null,null,null,null,{"$f":"IF(F917=\"\",\"\",IF(H917<>\"\",\"OK\",IF(AND(#REF!<>\"\",#REF!<TODAY()),\"Retard\",\"Attente de Livraison\")))","v":""}]
[null,null,null,null,null,null,null,null,{"$f":"IF(F918=\"\",\"\",IF(H918<>\"\",\"OK\",IF(AND(#REF!<>\"\",#REF!<TODAY()),\"Retard\",\"Attente de Livraison\")))","v":""}]
[null,null,null,null,null,null,null,null,{"$f":"IF(F919=\"\",\"\",IF(H919<>\"\",\"OK\",IF(AND(#REF!<>\"\",#REF!<TODAY()),\"Retard\",\"Attente de Livraison\")))","v":""}]
[null,null,null,null,null,null,null,null,{"$f":"IF(F920=\"\",\"\",IF(H920<>\"\",\"OK\",IF(AND(#REF!<>\"\",#REF!<TODAY()),\"Retard\",\"Attente de Livraison\")))","v":""}]
[null,null,null,null,null,null,null,null,{"$f":"IF(F921=\"\",\"\",IF(H921<>\"\",\"OK\",IF(AND(#REF!<>\"\",#REF!<TODAY()),\"Retard\",\"Attente de Livraison\")))","v":""}]
[null,null,null,null,null,null,null,null,{"$f":"IF(F922=\"\",\"\",IF(H922<>\"\",\"OK\",IF(AND(#REF!<>\"\",#REF!<TODAY()),\"Retard\",\"Attente de Livraison\")))","v":""}]
[null,null,null,null,null,null,null,null,{"$f":"IF(F923=\"\",\"\",IF(H923<>\"\",\"OK\",IF(AND(#REF!<>\"\",#REF!<TODAY()),\"Retard\",\"Attente de Livraison\")))","v":""}]
[null,null,null,null,null,null,null,null,{"$f":"IF(F924=\"\",\"\",IF(H924<>\"\",\"OK\",IF(AND(#REF!<>\"\",#REF!<TODAY()),\"Retard\",\"Attente de Livraison\")))","v":""}]
[null,null,null,null,null,null,null,null,{"$f":"IF(F925=\"\",\"\",IF(H925<>\"\",\"OK\",IF(AND(#REF!<>\"\",#REF!<TODAY()),\"Retard\",\"Attente de Livraison\")))","v":""}]
[null,null,null,null,null,null,null,null,{"$f":"IF(F926=\"\",\"\",IF(H926<>\"\",\"OK\",IF(AND(#REF!<>\"\",#REF!<TODAY()),\"Retard\",\"Attente de Livraison\")))","v":""}]
[null,null,null,null,null,null,null,null,{"$f":"IF(F927=\"\",\"\",IF(H927<>\"\",\"OK\",IF(AND(#REF!<>\"\",#REF!<TODAY()),\"Retard\",\"Attente de Livraison\")))","v":""}]
[null,null,null,null,null,null,null,null,{"$f":"IF(F928=\"\",\"\",IF(H928<>\"\",\"OK\",IF(AND(#REF!<>\"\",#REF!<TODAY()),\"Retard\",\"Attente de Livraison\")))","v":""}]
[null,null,null,null,null,null,null,null,{"$f":"IF(F929=\"\",\"\",IF(H929<>\"\",\"OK\",IF(AND(#REF!<>\"\",#REF!<TODAY()),\"Retard\",\"Attente de Livraison\")))","v":""}]
[null,null,null,null,null,null,null,null,{"$f":"IF(F930=\"\",\"\",IF(H930<>\"\",\"OK\",IF(AND(#REF!<>\"\",#REF!<TODAY()),\"Retard\",\"Attente de Livraison\")))","v":""}]
[null,null,null,null,null,null,null,null,{"$f":"IF(F931=\"\",\"\",IF(H931<>\"\",\"OK\",IF(AND(#REF!<>\"\",#REF!<TODAY()),\"Retard\",\"Attente de Livraison\")))","v":""}]
[null,null,null,null,null,null,null,null,{"$f":"IF(F932=\"\",\"\",IF(H932<>\"\",\"OK\",IF(AND(#REF!<>\"\",#REF!<TODAY()),\"Retard\",\"Attente de Livraison\")))","v":""}]
[null,null,null,null,null,null,null,null,{"$f":"IF(F933=\"\",\"\",IF(H933<>\"\",\"OK\",IF(AND(#REF!<>\"\",#REF!<TODAY()),\"Retard\",\"Attente de Livraison\")))","v":""}]
[null,null,null,null,null,null,null,null,{"$f":"IF(F934=\"\",\"\",IF(H934<>\"\",\"OK\",IF(AND(#REF!<>\"\",#REF!<TODAY()),\"Retard\",\"Attente de Livraison\")))","v":""}]
[null,null,null,null,null,null,null,null,{"$f":"IF(F935=\"\",\"\",IF(H935<>\"\",\"OK\",IF(AND(#REF!<>\"\",#REF!<TODAY()),\"Retard\",\"Attente de Livraison\")))","v":""}]
[null,null,null,null,null,null,null,null,{"$f":"IF(F936=\"\",\"\",IF(H936<>\"\",\"OK\",IF(AND(#REF!<>\"\",#REF!<TODAY()),\"Retard\",\"Attente de Livraison\")))","v":""}]
[null,null,null,null,null,null,null,null,{"$f":"IF(F937=\"\",\"\",IF(H937<>\"\",\"OK\",IF(AND(#REF!<>\"\",#REF!<TODAY()),\"Retard\",\"Attente de Livraison\")))","v":""}]
[null,null,null,null,null,null,null,null,{"$f":"IF(F938=\"\",\"\",IF(H938<>\"\",\"OK\",IF(AND(#REF!<>\"\",#REF!<TODAY()),\"Retard\",\"Attente de Livraison\")))","v":""}]
[null,null,null,null,null,null,null,null,{"$f":"IF(F939=\"\",\"\",IF(H939<>\"\",\"OK\",IF(AND(#REF!<>\"\",#REF!<TODAY()),\"Retard\",\"Attente de Livraison\")))","v":""}]
[null,null,null,null,null,null,null,null,{"$f":"IF(F940=\"\",\"\",IF(H940<>\"\",\"OK\",IF(AND(#REF!<>\"\",#REF!<TODAY()),\"Retard\",\"Attente de Livraison\")))","v":""}]
[null,null,null,null,null,null,null,null,{"$f":"IF(F941=\"\",\"\",IF(H941<>\"\",\"OK\",IF(AND(#REF!<>\"\",#REF!<TODAY()),\"Retard\",\"Attente de Livraison\")))","v":""}]
[null,null,null,null,null,null,null,null,{"$f":"IF(F942=\"\",\"\",IF(H942<>\"\",\"OK\",IF(AND(#REF!<>\"\",#REF!<TODAY()),\"Retard\",\"Attente de Livraison\")))","v":""}]
[null,null,null,null,null,null,null,null,{"$f":"IF(F943=\"\",\"\",IF(H943<>\"\",\"OK\",IF(AND(#REF!<>\"\",#REF!<TODAY()),\"Retard\",\"Attente de Livraison\")))","v":""}]
[null,null,null,null,null,null,null,null,{"$f":"IF(F944=\"\",\"\",IF(H944<>\"\",\"OK\",IF(AND(#REF!<>\"\",#REF!<TODAY()),\"Retard\",\"Attente de Livraison\")))","v":""}]
[null,null,null,null,null,null,null,null,{"$f":"IF(F945=\"\",\"\",IF(H945<>\"\",\"OK\",IF(AND(#REF!<>\"\",#REF!<TODAY()),\"Retard\",\"Attente de Livraison\")))","v":""}]
[null,null,null,null,null,null,null,null,{"$f":"IF(F946=\"\",\"\",IF(H946<>\"\",\"OK\",IF(AND(#REF!<>\"\",#REF!<TODAY()),\"Retard\",\"Attente de Livraison\")))","v":""}]
[null,null,null,null,null,null,null,null,{"$f":"IF(F947=\"\",\"\",IF(H947<>\"\",\"OK\",IF(AND(#REF!<>\"\",#REF!<TODAY()),\"Retard\",\"Attente de Livraison\")))","v":""}]
[null,null,null,null,null,null,null,null,{"$f":"IF(F948=\"\",\"\",IF(H948<>\"\",\"OK\",IF(AND(#REF!<>\"\",#REF!<TODAY()),\"Retard\",\"Attente de Livraison\")))","v":""}]
[null,null,null,null,null,null,null,null,{"$f":"IF(F949=\"\",\"\",IF(H949<>\"\",\"OK\",IF(AND(#REF!<>\"\",#REF!<TODAY()),\"Retard\",\"Attente de Livraison\")))","v":""}]
[null,null,null,null,null,null,null,null,{"$f":"IF(F950=\"\",\"\",IF(H950<>\"\",\"OK\",IF(AND(#REF!<>\"\",#REF!<TODAY()),\"Retard\",\"Attente de Livraison\")))","v":""}]
[null,null,null,null,null,null,null,null,{"$f":"IF(F951=\"\",\"\",IF(H951<>\"\",\"OK\",IF(AND(#REF!<>\"\",#REF!<TODAY()),\"Retard\",\"Attente de Livraison\")))","v":""}]
[null,null,null,null,null,null,null,null,{"$f":"IF(F952=\"\",\"\",IF(H952<>\"\",\"OK\",IF(AND(#REF!<>\"\",#REF!<TODAY()),\"Retard\",\"Attente de Livraison\")))","v":""}]
[null,null,null,null,null,null,null,null,{"$f":"IF(F953=\"\",\"\",IF(H953<>\"\",\"OK\",IF(AND(#REF!<>\"\",#REF!<TODAY()),\"Retard\",\"Attente de Livraison\")))","v":""}]
[null,null,null,null,null,null,null,null,{"$f":"IF(F954=\"\",\"\",IF(H954<>\"\",\"OK\",IF(AND(#REF!<>\"\",#REF!<TODAY()),\"Retard\",\"Attente de Livraison\")))","v":""}]
[null,null,null,null,null,null,null,null,{"$f":"IF(F955=\"\",\"\",IF(H955<>\"\",\"OK\",IF(AND(#REF!<>\"\",#REF!<TODAY()),\"Retard\",\"Attente de Livraison\")))","v":""}]
[null,null,null,null,null,null,null,null,{"$f":"IF(F956=\"\",\"\",IF(H956<>\"\",\"OK\",IF(AND(#REF!<>\"\",#REF!<TODAY()),\"Retard\",\"Attente de Livraison\")))","v":""}]
[null,null,null,null,null,null,null,null,{"$f":"IF(F957=\"\",\"\",IF(H957<>\"\",\"OK\",IF(AND(#REF!<>\"\",#REF!<TODAY()),\"Retard\",\"Attente de Livraison\")))","v":""}]
[null,null,null,null,null,null,null,null,{"$f":"IF(F958=\"\",\"\",IF(H958<>\"\",\"OK\",IF(AND(#REF!<>\"\",#REF!<TODAY()),\"Retard\",\"Attente de Livraison\")))","v":""}]
[null,null,null,null,null,null,null,null,{"$f":"IF(F959=\"\",\"\",IF(H959<>\"\",\"OK\",IF(AND(#REF!<>\"\",#REF!<TODAY()),\"Retard\",\"Attente de Livraison\")))","v":""}]
[null,null,null,null,null,null,null,null,{"$f":"IF(F960=\"\",\"\",IF(H960<>\"\",\"OK\",IF(AND(#REF!<>\"\",#REF!<TODAY()),\"Retard\",\"Attente de Livraison\")))","v":""}]
[null,null,null,null,null,null,null,null,{"$f":"IF(F961=\"\",\"\",IF(H961<>\"\",\"OK\",IF(AND(#REF!<>\"\",#REF!<TODAY()),\"Retard\",\"Attente de Livraison\")))","v":""}]
[null,null,null,null,null,null,null,null,{"$f":"IF(F962=\"\",\"\",IF(H962<>\"\",\"OK\",IF(AND(#REF!<>\"\",#REF!<TODAY()),\"Retard\",\"Attente de Livraison\")))","v":""}]
[null,null,null,null,null,null,null,null,{"$f":"IF(F963=\"\",\"\",IF(H963<>\"\",\"OK\",IF(AND(#REF!<>\"\",#REF!<TODAY()),\"Retard\",\"Attente de Livraison\")))","v":""}]
[null,null,null,null,null,null,null,null,{"$f":"IF(F964=\"\",\"\",IF(H964<>\"\",\"OK\",IF(AND(#REF!<>\"\",#REF!<TODAY()),\"Retard\",\"Attente de Livraison\")))","v":""}]
[null,null,null,null,null,null,null,null,{"$f":"IF(F965=\"\",\"\",IF(H965<>\"\",\"OK\",IF(AND(#REF!<>\"\",#REF!<TODAY()),\"Retard\",\"Attente de Livraison\")))","v":""}]
[null,null,null,null,null,null,null,null,{"$f":"IF(F966=\"\",\"\",IF(H966<>\"\",\"OK\",IF(AND(#REF!<>\"\",#REF!<TODAY()),\"Retard\",\"Attente de Livraison\")))","v":""}]
[null,null,null,null,null,null,null,null,{"$f":"IF(F967=\"\",\"\",IF(H967<>\"\",\"OK\",IF(AND(#REF!<>\"\",#REF!<TODAY()),\"Retard\",\"Attente de Livraison\")))","v":""}]
[null,null,null,null,null,null,null,null,{"$f":"IF(F968=\"\",\"\",IF(H968<>\"\",\"OK\",IF(AND(#REF!<>\"\",#REF!<TODAY()),\"Retard\",\"Attente de Livraison\")))","v":""}]
[null,null,null,null,null,null,null,null,{"$f":"IF(F969=\"\",\"\",IF(H969<>\"\",\"OK\",IF(AND(#REF!<>\"\",#REF!<TODAY()),\"Retard\",\"Attente de Livraison\")))","v":""}]
[null,null,null,null,null,null,null,null,{"$f":"IF(F970=\"\",\"\",IF(H970<>\"\",\"OK\",IF(AND(#REF!<>\"\",#REF!<TODAY()),\"Retard\",\"Attente de Livraison\")))","v":""}]
[null,null,null,null,null,null,null,null,{"$f":"IF(F971=\"\",\"\",IF(H971<>\"\",\"OK\",IF(AND(#REF!<>\"\",#REF!<TODAY()),\"Retard\",\"Attente de Livraison\")))","v":""}]
[null,null,null,null,null,null,null,null,{"$f":"IF(F972=\"\",\"\",IF(H972<>\"\",\"OK\",IF(AND(#REF!<>\"\",#REF!<TODAY()),\"Retard\",\"Attente de Livraison\")))","v":""}]
[null,null,null,null,null,null,null,null,{"$f":"IF(F973=\"\",\"\",IF(H973<>\"\",\"OK\",IF(AND(#REF!<>\"\",#REF!<TODAY()),\"Retard\",\"Attente de Livraison\")))","v":""}]
[null,null,null,null,null,null,null,null,{"$f":"IF(F974=\"\",\"\",IF(H974<>\"\",\"OK\",IF(AND(#REF!<>\"\",#REF!<TODAY()),\"Retard\",\"Attente de Livraison\")))","v":""}]
[null,null,null,null,null,null,null,null,{"$f":"IF(F975=\"\",\"\",IF(H975<>\"\",\"OK\",IF(AND(#REF!<>\"\",#REF!<TODAY()),\"Retard\",\"Attente de Livraison\")))","v":""}]
[null,null,null,null,null,null,null,null,{"$f":"IF(F976=\"\",\"\",IF(H976<>\"\",\"OK\",IF(AND(#REF!<>\"\",#REF!<TODAY()),\"Retard\",\"Attente de Livraison\")))","v":""}]
[null,null,null,null,null,null,null,null,{"$f":"IF(F977=\"\",\"\",IF(H977<>\"\",\"OK\",IF(AND(#REF!<>\"\",#REF!<TODAY()),\"Retard\",\"Attente de Livraison\")))","v":""}]
[null,null,null,null,null,null,null,null,{"$f":"IF(F978=\"\",\"\",IF(H978<>\"\",\"OK\",IF(AND(#REF!<>\"\",#REF!<TODAY()),\"Retard\",\"Attente de Livraison\")))","v":""}]
[null,null,null,null,null,null,null,null,{"$f":"IF(F979=\"\",\"\",IF(H979<>\"\",\"OK\",IF(AND(#REF!<>\"\",#REF!<TODAY()),\"Retard\",\"Attente de Livraison\")))","v":""}]
[null,null,null,null,null,null,null,null,{"$f":"IF(F980=\"\",\"\",IF(H980<>\"\",\"OK\",IF(AND(#REF!<>\"\",#REF!<TODAY()),\"Retard\",\"Attente de Livraison\")))","v":""}]
[null,null,null,null,null,null,null,null,{"$f":"IF(F981=\"\",\"\",IF(H981<>\"\",\"OK\",IF(AND(#REF!<>\"\",#REF!<TODAY()),\"Retard\",\"Attente de Livraison\")))","v":""}]
[null,null,null,null,null,null,null,null,{"$f":"IF(F982=\"\",\"\",IF(H982<>\"\",\"OK\",IF(AND(#REF!<>\"\",#REF!<TODAY()),\"Retard\",\"Attente de Livraison\")))","v":""}]
[null,null,null,null,null,null,null,null,{"$f":"IF(F983=\"\",\"\",IF(H983<>\"\",\"OK\",IF(AND(#REF!<>\"\",#REF!<TODAY()),\"Retard\",\"Attente de Livraison\")))","v":""}]
[null,null,null,null,null,null,null,null,{"$f":"IF(F984=\"\",\"\",IF(H984<>\"\",\"OK\",IF(AND(#REF!<>\"\",#REF!<TODAY()),\"Retard\",\"Attente de Livraison\")))","v":""}]
[null,null,null,null,null,null,null,null,{"$f":"IF(F985=\"\",\"\",IF(H985<>\"\",\"OK\",IF(AND(#REF!<>\"\",#REF!<TODAY()),\"Retard\",\"Attente de Livraison\")))","v":""}]
[null,null,null,null,null,null,null,null,{"$f":"IF(F986=\"\",\"\",IF(H986<>\"\",\"OK\",IF(AND(#REF!<>\"\",#REF!<TODAY()),\"Retard\",\"Attente de Livraison\")))","v":""}]
[null,null,null,null,null,null,null,null,{"$f":"IF(F987=\"\",\"\",IF(H987<>\"\",\"OK\",IF(AND(#REF!<>\"\",#REF!<TODAY()),\"Retard\",\"Attente de Livraison\")))","v":""}]
[null,null,null,null,null,null,null,null,{"$f":"IF(F988=\"\",\"\",IF(H988<>\"\",\"OK\",IF(AND(#REF!<>\"\",#REF!<TODAY()),\"Retard\",\"Attente de Livraison\")))","v":""}]
[null,null,null,null,null,null,null,null,{"$f":"IF(F989=\"\",\"\",IF(H989<>\"\",\"OK\",IF(AND(#REF!<>\"\",#REF!<TODAY()),\"Retard\",\"Attente de Livraison\")))","v":""}]
[null,null,null,null,null,null,null,null,{"$f":"IF(F990=\"\",\"\",IF(H990<>\"\",\"OK\",IF(AND(#REF!<>\"\",#REF!<TODAY()),\"Retard\",\"Attente de Livraison\")))","v":""}]
[null,null,null,null,null,null,null,null,{"$f":"IF(F991=\"\",\"\",IF(H991<>\"\",\"OK\",IF(AND(#REF!<>\"\",#REF!<TODAY()),\"Retard\",\"Attente de Livraison\")))","v":""}]
[null,null,null,null,null,null,null,null,{"$f":"IF(F992=\"\",\"\",IF(H992<>\"\",\"OK\",IF(AND(#REF!<>\"\",#REF!<TODAY()),\"Retard\",\"Attente de Livraison\")))","v":""}]
[null,null,null,null,null,null,null,null,{"$f":"IF(F993=\"\",\"\",IF(H993<>\"\",\"OK\",IF(AND(#REF!<>\"\",#REF!<TODAY()),\"Retard\",\"Attente de Livraison\")))","v":""}]
[null,null,null,null,null,null,null,null,{"$f":"IF(F994=\"\",\"\",IF(H994<>\"\",\"OK\",IF(AND(#REF!<>\"\",#REF!<TODAY()),\"Retard\",\"Attente de Livraison\")))","v":""}]
[null,null,null,null,null,null,null,null,{"$f":"IF(F995=\"\",\"\",IF(H995<>\"\",\"OK\",IF(AND(#REF!<>\"\",#REF!<TODAY()),\"Retard\",\"Attente de Livraison\")))","v":""}]
[null,null,null,null,null,null,null,null,{"$f":"IF(F996=\"\",\"\",IF(H996<>\"\",\"OK\",IF(AND(#REF!<>\"\",#REF!<TODAY()),\"Retard\",\"Attente de Livraison\")))","v":""}]
[null,null,null,null,null,null,null,null,{"$f":"IF(F997=\"\",\"\",IF(H997<>\"\",\"OK\",IF(AND(#REF!<>\"\",#REF!<TODAY()),\"Retard\",\"Attente de Livraison\")))","v":""}]
[null,null,null,null,null,null,null,null,{"$f":"IF(F998=\"\",\"\",IF(H998<>\"\",\"OK\",IF(AND(#REF!<>\"\",#REF!<TODAY()),\"Retard\",\"Attente de Livraison\")))","v":""}]
[null,null,null,null,null,null,null,null,{"$f":"IF(F999=\"\",\"\",IF(H999<>\"\",\"OK\",IF(AND(#REF!<>\"\",#REF!<TODAY()),\"Retard\",\"Attente de Livraison\")))","v":""}]
[null,null,null,null,null,null,null,null,{"$f":"IF(F1000=\"\",\"\",IF(H1000<>\"\",\"OK\",IF(AND(#REF!<>\"\",#REF!<TODAY()),\"Retard\",\"Attente de Livraison\")))","v":""}]
[null,null,null,null,null,null,null,null,{"$f":"IF(F1001=\"\",\"\",IF(H1001<>\"\",\"OK\",IF(AND(#REF!<>\"\",#REF!<TODAY()),\"Retard\",\"Attente de Livraison\")))","v":""}]
[null,null,null,null,null,null,null,null,{"$f":"IF(F1002=\"\",\"\",IF(H1002<>\"\",\"OK\",IF(AND(#REF!<>\"\",#REF!<TODAY()),\"Retard\",\"Attente de Livraison\")))","v":""}]
[null,null,null,null,null,null,null,null,{"$f":"IF(F1003=\"\",\"\",IF(H1003<>\"\",\"OK\",IF(AND(#REF!<>\"\",#REF!<TODAY()),\"Retard\",\"Attente de Livraison\")))","v":""}]
[null,null,null,null,null,null,null,null,{"$f":"IF(F1004=\"\",\"\",IF(H1004<>\"\",\"OK\",IF(AND(#REF!<>\"\",#REF!<TODAY()),\"Retard\",\"Attente de Livraison\")))","v":""}]
[null,null,null,null,null,null,null,null,{"$f":"IF(F1005=\"\",\"\",IF(H1005<>\"\",\"OK\",IF(AND(#REF!<>\"\",#REF!<TODAY()),\"Retard\",\"Attente de Livraison\")))","v":""}]
[null,null,null,null,null,null,null,null,{"$f":"IF(F1006=\"\",\"\",IF(H1006<>\"\",\"OK\",IF(AND(#REF!<>\"\",#REF!<TODAY()),\"Retard\",\"Attente de Livraison\")))","v":""}]
[null,null,null,null,null,null,null,null,{"$f":"IF(F1007=\"\",\"\",IF(H1007<>\"\",\"OK\",IF(AND(#REF!<>\"\",#REF!<TODAY()),\"Retard\",\"Attente de Livraison\")))","v":""}]
[null,null,null,null,null,null,null,null,{"$f":"IF(F1008=\"\",\"\",IF(H1008<>\"\",\"OK\",IF(AND(#REF!<>\"\",#REF!<TODAY()),\"Retard\",\"Attente de Livraison\")))","v":""}]
[null,null,null,null,null,null,null,null,{"$f":"IF(F1009=\"\",\"\",IF(H1009<>\"\",\"OK\",IF(AND(#REF!<>\"\",#REF!<TODAY()),\"Retard\",\"Attente de Livraison\")))","v":""}]
[null,null,null,null,null,null,null,null,{"$f":"IF(F1010=\"\",\"\",IF(H1010<>\"\",\"OK\",IF(AND(#REF!<>\"\",#REF!<TODAY()),\"Retard\",\"Attente de Livraison\")))","v":""}]
[null,null,null,null,null,null,null,null,{"$f":"IF(F1011=\"\",\"\",IF(H1011<>\"\",\"OK\",IF(AND(#REF!<>\"\",#REF!<TODAY()),\"Retard\",\"Attente de Livraison\")))","v":""}]
[null,null,null,null,null,null,null,null,{"$f":"IF(F1012=\"\",\"\",IF(H1012<>\"\",\"OK\",IF(AND(#REF!<>\"\",#REF!<TODAY()),\"Retard\",\"Attente de Livraison\")))","v":""}]
[null,null,null,null,null,null,null,null,{"$f":"IF(F1013=\"\",\"\",IF(H1013<>\"\",\"OK\",IF(AND(#REF!<>\"\",#REF!<TODAY()),\"Retard\",\"Attente de Livraison\")))","v":""}]
[null,null,null,null,null,null,null,null,{"$f":"IF(F1014=\"\",\"\",IF(H1014<>\"\",\"OK\",IF(AND(#REF!<>\"\",#REF!<TODAY()),\"Retard\",\"Attente de Livraison\")))","v":""}]
[null,null,null,null,null,null,null,null,{"$f":"IF(F1015=\"\",\"\",IF(H1015<>\"\",\"OK\",IF(AND(#REF!<>\"\",#REF!<TODAY()),\"Retard\",\"Attente de Livraison\")))","v":""}]
[null,null,null,null,null,null,null,null,{"$f":"IF(F1016=\"\",\"\",IF(H1016<>\"\",\"OK\",IF(AND(#REF!<>\"\",#REF!<TODAY()),\"Retard\",\"Attente de Livraison\")))","v":""}]
[null,null,null,null,null,null,null,null,{"$f":"IF(F1017=\"\",\"\",IF(H1017<>\"\",\"OK\",IF(AND(#REF!<>\"\",#REF!<TODAY()),\"Retard\",\"Attente de Livraison\")))","v":""}]
[null,null,null,null,null,null,null,null,{"$f":"IF(F1018=\"\",\"\",IF(H1018<>\"\",\"OK\",IF(AND(#REF!<>\"\",#REF!<TODAY()),\"Retard\",\"Attente de Livraison\")))","v":""}]
[null,null,null,null,null,null,null,null,{"$f":"IF(F1019=\"\",\"\",IF(H1019<>\"\",\"OK\",IF(AND(#REF!<>\"\",#REF!<TODAY()),\"Retard\",\"Attente de Livraison\")))","v":""}]
[null,null,null,null,null,null,null,null,{"$f":"IF(F1020=\"\",\"\",IF(H1020<>\"\",\"OK\",IF(AND(#REF!<>\"\",#REF!<TODAY()),\"Retard\",\"Attente de Livraison\")))","v":""}]
[null,null,null,null,null,null,null,null,{"$f":"IF(F1021=\"\",\"\",IF(H1021<>\"\",\"OK\",IF(AND(#REF!<>\"\",#REF!<TODAY()),\"Retard\",\"Attente de Livraison\")))","v":""}]
[null,null,null,null,null,null,null,null,{"$f":"IF(F1022=\"\",\"\",IF(H1022<>\"\",\"OK\",IF(AND(#REF!<>\"\",#REF!<TODAY()),\"Retard\",\"Attente de Livraison\")))","v":""}]
[null,null,null,null,null,null,null,null,{"$f":"IF(F1023=\"\",\"\",IF(H1023<>\"\",\"OK\",IF(AND(#REF!<>\"\",#REF!<TODAY()),\"Retard\",\"Attente de Livraison\")))","v":""}]
[null,null,null,null,null,null,null,null,{"$f":"IF(F1024=\"\",\"\",IF(H1024<>\"\",\"OK\",IF(AND(#REF!<>\"\",#REF!<TODAY()),\"Retard\",\"Attente de Livraison\")))","v":""}]
[null,null,null,null,null,null,null,null,{"$f":"IF(F1025=\"\",\"\",IF(H1025<>\"\",\"OK\",IF(AND(#REF!<>\"\",#REF!<TODAY()),\"Retard\",\"Attente de Livraison\")))","v":""}]
[null,null,null,null,null,null,null,null,{"$f":"IF(F1026=\"\",\"\",IF(H1026<>\"\",\"OK\",IF(AND(#REF!<>\"\",#REF!<TODAY()),\"Retard\",\"Attente de Livraison\")))","v":""}]
[null,null,null,null,null,null,null,null,{"$f":"IF(F1027=\"\",\"\",IF(H1027<>\"\",\"OK\",IF(AND(#REF!<>\"\",#REF!<TODAY()),\"Retard\",\"Attente de Livraison\")))","v":""}]
[null,null,null,null,null,null,null,null,{"$f":"IF(F1028=\"\",\"\",IF(H1028<>\"\",\"OK\",IF(AND(#REF!<>\"\",#REF!<TODAY()),\"Retard\",\"Attente de Livraison\")))","v":""}]
[null,null,null,null,null,null,null,null,{"$f":"IF(F1029=\"\",\"\",IF(H1029<>\"\",\"OK\",IF(AND(#REF!<>\"\",#REF!<TODAY()),\"Retard\",\"Attente de Livraison\")))","v":""}]
[null,null,null,null,null,null,null,null,{"$f":"IF(F1030=\"\",\"\",IF(H1030<>\"\",\"OK\",IF(AND(#REF!<>\"\",#REF!<TODAY()),\"Retard\",\"Attente de Livraison\")))","v":""}]
[null,null,null,null,null,null,null,null,{"$f":"IF(F1031=\"\",\"\",IF(H1031<>\"\",\"OK\",IF(AND(#REF!<>\"\",#REF!<TODAY()),\"Retard\",\"Attente de Livraison\")))","v":""}]
[null,null,null,null,null,null,null,null,{"$f":"IF(F1032=\"\",\"\",IF(H1032<>\"\",\"OK\",IF(AND(#REF!<>\"\",#REF!<TODAY()),\"Retard\",\"Attente de Livraison\")))","v":""}]
[null,null,null,null,null,null,null,null,{"$f":"IF(F1033=\"\",\"\",IF(H1033<>\"\",\"OK\",IF(AND(#REF!<>\"\",#REF!<TODAY()),\"Retard\",\"Attente de Livraison\")))","v":""}]
[null,null,null,null,null,null,null,null,{"$f":"IF(F1034=\"\",\"\",IF(H1034<>\"\",\"OK\",IF(AND(#REF!<>\"\",#REF!<TODAY()),\"Retard\",\"Attente de Livraison\")))","v":""}]
[null,null,null,null,null,null,null,null,{"$f":"IF(F1035=\"\",\"\",IF(H1035<>\"\",\"OK\",IF(AND(#REF!<>\"\",#REF!<TODAY()),\"Retard\",\"Attente de Livraison\")))","v":""}]
[null,null,null,null,null,null,null,null,{"$f":"IF(F1036=\"\",\"\",IF(H1036<>\"\",\"OK\",IF(AND(#REF!<>\"\",#REF!<TODAY()),\"Retard\",\"Attente de Livraison\")))","v":""}]
[null,null,null,null,null,null,null,null,{"$f":"IF(F1037=\"\",\"\",IF(H1037<>\"\",\"OK\",IF(AND(#REF!<>\"\",#REF!<TODAY()),\"Retard\",\"Attente de Livraison\")))","v":""}]
[null,null,null,null,null,null,null,null,{"$f":"IF(F1038=\"\",\"\",IF(H1038<>\"\",\"OK\",IF(AND(#REF!<>\"\",#REF!<TODAY()),\"Retard\",\"Attente de Livraison\")))","v":""}]
[null,null,null,null,null,null,null,null,{"$f":"IF(F1039=\"\",\"\",IF(H1039<>\"\",\"OK\",IF(AND(#REF!<>\"\",#REF!<TODAY()),\"Retard\",\"Attente de Livraison\")))","v":""}]
[null,null,null,null,null,null,null,null,{"$f":"IF(F1040=\"\",\"\",IF(H1040<>\"\",\"OK\",IF(AND(#REF!<>\"\",#REF!<TODAY()),\"Retard\",\"Attente de Livraison\")))","v":""}]
[null,null,null,null,null,null,null,null,{"$f":"IF(F1041=\"\",\"\",IF(H1041<>\"\",\"OK\",IF(AND(#REF!<>\"\",#REF!<TODAY()),\"Retard\",\"Attente de Livraison\")))","v":""}]
[null,null,null,null,null,null,null,null,{"$f":"IF(F1042=\"\",\"\",IF(H1042<>\"\",\"OK\",IF(AND(#REF!<>\"\",#REF!<TODAY()),\"Retard\",\"Attente de Livraison\")))","v":""}]
[null,null,null,null,null,null,null,null,{"$f":"IF(F1043=\"\",\"\",IF(H1043<>\"\",\"OK\",IF(AND(#REF!<>\"\",#REF!<TODAY()),\"Retard\",\"Attente de Livraison\")))","v":""}]
[null,null,null,null,null,null,null,null,{"$f":"IF(F1044=\"\",\"\",IF(H1044<>\"\",\"OK\",IF(AND(#REF!<>\"\",#REF!<TODAY()),\"Retard\",\"Attente de Livraison\")))","v":""}]
[null,null,null,null,null,null,null,null,{"$f":"IF(F1045=\"\",\"\",IF(H1045<>\"\",\"OK\",IF(AND(#REF!<>\"\",#REF!<TODAY()),\"Retard\",\"Attente de Livraison\")))","v":""}]
[null,null,null,null,null,null,null,null,{"$f":"IF(F1046=\"\",\"\",IF(H1046<>\"\",\"OK\",IF(AND(#REF!<>\"\",#REF!<TODAY()),\"Retard\",\"Attente de Livraison\")))","v":""}]
[null,null,null,null,null,null,null,null,{"$f":"IF(F1047=\"\",\"\",IF(H1047<>\"\",\"OK\",IF(AND(#REF!<>\"\",#REF!<TODAY()),\"Retard\",\"Attente de Livraison\")))","v":""}]
[null,null,null,null,null,null,null,null,{"$f":"IF(F1048=\"\",\"\",IF(H1048<>\"\",\"OK\",IF(AND(#REF!<>\"\",#REF!<TODAY()),\"Retard\",\"Attente de Livraison\")))","v":""}]
[null,null,null,null,null,null,null,null,{"$f":"IF(F1049=\"\",\"\",IF(H1049<>\"\",\"OK\",IF(AND(#REF!<>\"\",#REF!<TODAY()),\"Retard\",\"Attente de Livraison\")))","v":""}]
[null,null,null,null,null,null,null,null,{"$f":"IF(F1050=\"\",\"\",IF(H1050<>\"\",\"OK\",IF(AND(#REF!<>\"\",#REF!<TODAY()),\"Retard\",\"Attente de Livraison\")))","v":""}]
[null,null,null,null,null,null,null,null,{"$f":"IF(F1051=\"\",\"\",IF(H1051<>\"\",\"OK\",IF(AND(#REF!<>\"\",#REF!<TODAY()),\"Retard\",\"Attente de Livraison\")))","v":""}]
[null,null,null,null,null,null,null,null,{"$f":"IF(F1052=\"\",\"\",IF(H1052<>\"\",\"OK\",IF(AND(#REF!<>\"\",#REF!<TODAY()),\"Retard\",\"Attente de Livraison\")))","v":""}]
[null,null,null,null,null,null,null,null,{"$f":"IF(F1053=\"\",\"\",IF(H1053<>\"\",\"OK\",IF(AND(#REF!<>\"\",#REF!<TODAY()),\"Retard\",\"Attente de Livraison\")))","v":""}]
[null,null,null,null,null,null,null,null,{"$f":"IF(F1054=\"\",\"\",IF(H1054<>\"\",\"OK\",IF(AND(#REF!<>\"\",#REF!<TODAY()),\"Retard\",\"Attente de Livraison\")))","v":""}]
[null,null,null,null,null,null,null,null,{"$f":"IF(F1055=\"\",\"\",IF(H1055<>\"\",\"OK\",IF(AND(#REF!<>\"\",#REF!<TODAY()),\"Retard\",\"Attente de Livraison\")))","v":""}]
[null,null,null,null,null,null,null,null,{"$f":"IF(F1056=\"\",\"\",IF(H1056<>\"\",\"OK\",IF(AND(#REF!<>\"\",#REF!<TODAY()),\"Retard\",\"Attente de Livraison\")))","v":""}]
[null,null,null,null,null,null,null,null,{"$f":"IF(F1057=\"\",\"\",IF(H1057<>\"\",\"OK\",IF(AND(#REF!<>\"\",#REF!<TODAY()),\"Retard\",\"Attente de Livraison\")))","v":""}]
[null,null,null,null,null,null,null,null,{"$f":"IF(F1058=\"\",\"\",IF(H1058<>\"\",\"OK\",IF(AND(#REF!<>\"\",#REF!<TODAY()),\"Retard\",\"Attente de Livraison\")))","v":""}]
[null,null,null,null,null,null,null,null,{"$f":"IF(F1059=\"\",\"\",IF(H1059<>\"\",\"OK\",IF(AND(#REF!<>\"\",#REF!<TODAY()),\"Retard\",\"Attente de Livraison\")))","v":""}]
[null,null,null,null,null,null,null,null,{"$f":"IF(F1060=\"\",\"\",IF(H1060<>\"\",\"OK\",IF(AND(#REF!<>\"\",#REF!<TODAY()),\"Retard\",\"Attente de Livraison\")))","v":""}]
[null,null,null,null,null,null,null,null,{"$f":"IF(F1061=\"\",\"\",IF(H1061<>\"\",\"OK\",IF(AND(#REF!<>\"\",#REF!<TODAY()),\"Retard\",\"Attente de Livraison\")))","v":""}]
[null,null,null,null,null,null,null,null,{"$f":"IF(F1062=\"\",\"\",IF(H1062<>\"\",\"OK\",IF(AND(#REF!<>\"\",#REF!<TODAY()),\"Retard\",\"Attente de Livraison\")))","v":""}]
[null,null,null,null,null,null,null,null,{"$f":"IF(F1063=\"\",\"\",IF(H1063<>\"\",\"OK\",IF(AND(#REF!<>\"\",#REF!<TODAY()),\"Retard\",\"Attente de Livraison\")))","v":""}]
[null,null,null,null,null,null,null,null,{"$f":"IF(F1064=\"\",\"\",IF(H1064<>\"\",\"OK\",IF(AND(#REF!<>\"\",#REF!<TODAY()),\"Retard\",\"Attente de Livraison\")))","v":""}]
[null,null,null,null,null,null,null,null,{"$f":"IF(F1065=\"\",\"\",IF(H1065<>\"\",\"OK\",IF(AND(#REF!<>\"\",#REF!<TODAY()),\"Retard\",\"Attente de Livraison\")))","v":""}]
[null,null,null,null,null,null,null,null,{"$f":"IF(F1066=\"\",\"\",IF(H1066<>\"\",\"OK\",IF(AND(#REF!<>\"\",#REF!<TODAY()),\"Retard\",\"Attente de Livraison\")))","v":""}]
[null,null,null,null,null,null,null,null,{"$f":"IF(F1067=\"\",\"\",IF(H1067<>\"\",\"OK\",IF(AND(#REF!<>\"\",#REF!<TODAY()),\"Retard\",\"Attente de Livraison\")))","v":""}]
[null,null,null,null,null,null,null,null,{"$f":"IF(F1068=\"\",\"\",IF(H1068<>\"\",\"OK\",IF(AND(#REF!<>\"\",#REF!<TODAY()),\"Retard\",\"Attente de Livraison\")))","v":""}]
[null,null,null,null,null,null,null,null,{"$f":"IF(F1069=\"\",\"\",IF(H1069<>\"\",\"OK\",IF(AND(#REF!<>\"\",#REF!<TODAY()),\"Retard\",\"Attente de Livraison\")))","v":""}]
[null,null,null,null,null,null,null,null,{"$f":"IF(F1070=\"\",\"\",IF(H1070<>\"\",\"OK\",IF(AND(#REF!<>\"\",#REF!<TODAY()),\"Retard\",\"Attente de Livraison\")))","v":""}]
[null,null,null,null,null,null,null,null,{"$f":"IF(F1071=\"\",\"\",IF(H1071<>\"\",\"OK\",IF(AND(#REF!<>\"\",#REF!<TODAY()),\"Retard\",\"Attente de Livraison\")))","v":""}]
[null,null,null,null,null,null,null,null,{"$f":"IF(F1072=\"\",\"\",IF(H1072<>\"\",\"OK\",IF(AND(#REF!<>\"\",#REF!<TODAY()),\"Retard\",\"Attente de Livraison\")))","v":""}]
[null,null,null,null,null,null,null,null,{"$f":"IF(F1073=\"\",\"\",IF(H1073<>\"\",\"OK\",IF(AND(#REF!<>\"\",#REF!<TODAY()),\"Retard\",\"Attente de Livraison\")))","v":""}]
[null,null,null,null,null,null,null,null,{"$f":"IF(F1074=\"\",\"\",IF(H1074<>\"\",\"OK\",IF(AND(#REF!<>\"\",#REF!<TODAY()),\"Retard\",\"Attente de Livraison\")))","v":""}]
[null,null,null,null,null,null,null,null,{"$f":"IF(F1075=\"\",\"\",IF(H1075<>\"\",\"OK\",IF(AND(#REF!<>\"\",#REF!<TODAY()),\"Retard\",\"Attente de Livraison\")))","v":""}]
[null,null,null,null,null,null,null,null,{"$f":"IF(F1076=\"\",\"\",IF(H1076<>\"\",\"OK\",IF(AND(#REF!<>\"\",#REF!<TODAY()),\"Retard\",\"Attente de Livraison\")))","v":""}]
[null,null,null,null,null,null,null,null,{"$f":"IF(F1077=\"\",\"\",IF(H1077<>\"\",\"OK\",IF(AND(#REF!<>\"\",#REF!<TODAY()),\"Retard\",\"Attente de Livraison\")))","v":""}]
[null,null,null,null,null,null,null,null,{"$f":"IF(F1078=\"\",\"\",IF(H1078<>\"\",\"OK\",IF(AND(#REF!<>\"\",#REF!<TODAY()),\"Retard\",\"Attente de Livraison\")))","v":""}]
[null,null,null,null,null,null,null,null,{"$f":"IF(F1079=\"\",\"\",IF(H1079<>\"\",\"OK\",IF(AND(#REF!<>\"\",#REF!<TODAY()),\"Retard\",\"Attente de Livraison\")))","v":""}]
[null,null,null,null,null,null,null,null,{"$f":"IF(F1080=\"\",\"\",IF(H1080<>\"\",\"OK\",IF(AND(#REF!<>\"\",#REF!<TODAY()),\"Retard\",\"Attente de Livraison\")))","v":""}]
[null,null,null,null,null,null,null,null,{"$f":"IF(F1081=\"\",\"\",IF(H1081<>\"\",\"OK\",IF(AND(#REF!<>\"\",#REF!<TODAY()),\"Retard\",\"Attente de Livraison\")))","v":""}]
[null,null,null,null,null,null,null,null,{"$f":"IF(F1082=\"\",\"\",IF(H1082<>\"\",\"OK\",IF(AND(#REF!<>\"\",#REF!<TODAY()),\"Retard\",\"Attente de Livraison\")))","v":""}]
[null,null,null,null,null,null,null,null,{"$f":"IF(F1083=\"\",\"\",IF(H1083<>\"\",\"OK\",IF(AND(#REF!<>\"\",#REF!<TODAY()),\"Retard\",\"Attente de Livraison\")))","v":""}]
[null,null,null,null,null,null,null,null,{"$f":"IF(F1084=\"\",\"\",IF(H1084<>\"\",\"OK\",IF(AND(#REF!<>\"\",#REF!<TODAY()),\"Retard\",\"Attente de Livraison\")))","v":""}]
[null,null,null,null,null,null,null,null,{"$f":"IF(F1085=\"\",\"\",IF(H1085<>\"\",\"OK\",IF(AND(#REF!<>\"\",#REF!<TODAY()),\"Retard\",\"Attente de Livraison\")))","v":""}]
[null,null,null,null,null,null,null,null,{"$f":"IF(F1086=\"\",\"\",IF(H1086<>\"\",\"OK\",IF(AND(#REF!<>\"\",#REF!<TODAY()),\"Retard\",\"Attente de Livraison\")))","v":""}]
[null,null,null,null,null,null,null,null,{"$f":"IF(F1087=\"\",\"\",IF(H1087<>\"\",\"OK\",IF(AND(#REF!<>\"\",#REF!<TODAY()),\"Retard\",\"Attente de Livraison\")))","v":""}]
[null,null,null,null,null,null,null,null,{"$f":"IF(F1088=\"\",\"\",IF(H1088<>\"\",\"OK\",IF(AND(#REF!<>\"\",#REF!<TODAY()),\"Retard\",\"Attente de Livraison\")))","v":""}]
[null,null,null,null,null,null,null,null,{"$f":"IF(F1089=\"\",\"\",IF(H1089<>\"\",\"OK\",IF(AND(#REF!<>\"\",#REF!<TODAY()),\"Retard\",\"Attente de Livraison\")))","v":""}]
[null,null,null,null,null,null,null,null,{"$f":"IF(F1090=\"\",\"\",IF(H1090<>\"\",\"OK\",IF(AND(#REF!<>\"\",#REF!<TODAY()),\"Retard\",\"Attente de Livraison\")))","v":""}]
[null,null,null,null,null,null,null,null,{"$f":"IF(F1091=\"\",\"\",IF(H1091<>\"\",\"OK\",IF(AND(#REF!<>\"\",#REF!<TODAY()),\"Retard\",\"Attente de Livraison\")))","v":""}]
[null,null,null,null,null,null,null,null,{"$f":"IF(F1092=\"\",\"\",IF(H1092<>\"\",\"OK\",IF(AND(#REF!<>\"\",#REF!<TODAY()),\"Retard\",\"Attente de Livraison\")))","v":""}]
[null,null,null,null,null,null,null,null,{"$f":"IF(F1093=\"\",\"\",IF(H1093<>\"\",\"OK\",IF(AND(#REF!<>\"\",#REF!<TODAY()),\"Retard\",\"Attente de Livraison\")))","v":""}]
[null,null,null,null,null,null,null,null,{"$f":"IF(F1094=\"\",\"\",IF(H1094<>\"\",\"OK\",IF(AND(#REF!<>\"\",#REF!<TODAY()),\"Retard\",\"Attente de Livraison\")))","v":""}]
[null,null,null,null,null,null,null,null,{"$f":"IF(F1095=\"\",\"\",IF(H1095<>\"\",\"OK\",IF(AND(#REF!<>\"\",#REF!<TODAY()),\"Retard\",\"Attente de Livraison\")))","v":""}]
[null,null,null,null,null,null,null,null,{"$f":"IF(F1096=\"\",\"\",IF(H1096<>\"\",\"OK\",IF(AND(#REF!<>\"\",#REF!<TODAY()),\"Retard\",\"Attente de Livraison\")))","v":""}]
[null,null,null,null,null,null,null,null,{"$f":"IF(F1097=\"\",\"\",IF(H1097<>\"\",\"OK\",IF(AND(#REF!<>\"\",#REF!<TODAY()),\"Retard\",\"Attente de Livraison\")))","v":""}]
[null,null,null,null,null,null,null,null,{"$f":"IF(F1098=\"\",\"\",IF(H1098<>\"\",\"OK\",IF(AND(#REF!<>\"\",#REF!<TODAY()),\"Retard\",\"Attente de Livraison\")))","v":""}]
[null,null,null,null,null,null,null,null,{"$f":"IF(F1099=\"\",\"\",IF(H1099<>\"\",\"OK\",IF(AND(#REF!<>\"\",#REF!<TODAY()),\"Retard\",\"Attente de Livraison\")))","v":""}]
[null,null,null,null,null,null,null,null,{"$f":"IF(F1100=\"\",\"\",IF(H1100<>\"\",\"OK\",IF(AND(#REF!<>\"\",#REF!<TODAY()),\"Retard\",\"Attente de Livraison\")))","v":""}]
[null,null,null,null,null,null,null,null,{"$f":"IF(F1101=\"\",\"\",IF(H1101<>\"\",\"OK\",IF(AND(#REF!<>\"\",#REF!<TODAY()),\"Retard\",\"Attente de Livraison\")))","v":""}]
[null,null,null,null,null,null,null,null,{"$f":"IF(F1102=\"\",\"\",IF(H1102<>\"\",\"OK\",IF(AND(#REF!<>\"\",#REF!<TODAY()),\"Retard\",\"Attente de Livraison\")))","v":""}]
[null,null,null,null,null,null,null,null,{"$f":"IF(F1103=\"\",\"\",IF(H1103<>\"\",\"OK\",IF(AND(#REF!<>\"\",#REF!<TODAY()),\"Retard\",\"Attente de Livraison\")))","v":""}]
[null,null,null,null,null,null,null,null,{"$f":"IF(F1104=\"\",\"\",IF(H1104<>\"\",\"OK\",IF(AND(#REF!<>\"\",#REF!<TODAY()),\"Retard\",\"Attente de Livraison\")))","v":""}]
[null,null,null,null,null,null,null,null,{"$f":"IF(F1105=\"\",\"\",IF(H1105<>\"\",\"OK\",IF(AND(#REF!<>\"\",#REF!<TODAY()),\"Retard\",\"Attente de Livraison\")))","v":""}]
[null,null,null,null,null,null,null,null,{"$f":"IF(F1106=\"\",\"\",IF(H1106<>\"\",\"OK\",IF(AND(#REF!<>\"\",#REF!<TODAY()),\"Retard\",\"Attente de Livraison\")))","v":""}]
[null,null,null,null,null,null,null,null,{"$f":"IF(F1107=\"\",\"\",IF(H1107<>\"\",\"OK\",IF(AND(#REF!<>\"\",#REF!<TODAY()),\"Retard\",\"Attente de Livraison\")))","v":""}]
[null,null,null,null,null,null,null,null,{"$f":"IF(F1108=\"\",\"\",IF(H1108<>\"\",\"OK\",IF(AND(#REF!<>\"\",#REF!<TODAY()),\"Retard\",\"Attente de Livraison\")))","v":""}]
[null,null,null,null,null,null,null,null,{"$f":"IF(F1109=\"\",\"\",IF(H1109<>\"\",\"OK\",IF(AND(#REF!<>\"\",#REF!<TODAY()),\"Retard\",\"Attente de Livraison\")))","v":""}]
[null,null,null,null,null,null,null,null,{"$f":"IF(F1110=\"\",\"\",IF(H1110<>\"\",\"OK\",IF(AND(#REF!<>\"\",#REF!<TODAY()),\"Retard\",\"Attente de Livraison\")))","v":""}]
[null,null,null,null,null,null,null,null,{"$f":"IF(F1111=\"\",\"\",IF(H1111<>\"\",\"OK\",IF(AND(#REF!<>\"\",#REF!<TODAY()),\"Retard\",\"Attente de Livraison\")))","v":""}]
[null,null,null,null,null,null,null,null,{"$f":"IF(F1112=\"\",\"\",IF(H1112<>\"\",\"OK\",IF(AND(#REF!<>\"\",#REF!<TODAY()),\"Retard\",\"Attente de Livraison\")))","v":""}]
[null,null,null,null,null,null,null,null,{"$f":"IF(F1113=\"\",\"\",IF(H1113<>\"\",\"OK\",IF(AND(#REF!<>\"\",#REF!<TODAY()),\"Retard\",\"Attente de Livraison\")))","v":""}]
[null,null,null,null,null,null,null,null,{"$f":"IF(F1114=\"\",\"\",IF(H1114<>\"\",\"OK\",IF(AND(#REF!<>\"\",#REF!<TODAY()),\"Retard\",\"Attente de Livraison\")))","v":""}]
[null,null,null,null,null,null,null,null,{"$f":"IF(F1115=\"\",\"\",IF(H1115<>\"\",\"OK\",IF(AND(#REF!<>\"\",#REF!<TODAY()),\"Retard\",\"Attente de Livraison\")))","v":""}]
[null,null,null,null,null,null,null,null,{"$f":"IF(F1116=\"\",\"\",IF(H1116<>\"\",\"OK\",IF(AND(#REF!<>\"\",#REF!<TODAY()),\"Retard\",\"Attente de Livraison\")))","v":""}]
[null,null,null,null,null,null,null,null,{"$f":"IF(F1117=\"\",\"\",IF(H1117<>\"\",\"OK\",IF(AND(#REF!<>\"\",#REF!<TODAY()),\"Retard\",\"Attente de Livraison\")))","v":""}]
[null,null,null,null,null,null,null,null,{"$f":"IF(F1118=\"\",\"\",IF(H1118<>\"\",\"OK\",IF(AND(#REF!<>\"\",#REF!<TODAY()),\"Retard\",\"Attente de Livraison\")))","v":""}]
[null,null,null,null,null,null,null,null,{"$f":"IF(F1119=\"\",\"\",IF(H1119<>\"\",\"OK\",IF(AND(#REF!<>\"\",#REF!<TODAY()),\"Retard\",\"Attente de Livraison\")))","v":""}]
[null,null,null,null,null,null,null,null,{"$f":"IF(F1120=\"\",\"\",IF(H1120<>\"\",\"OK\",IF(AND(#REF!<>\"\",#REF!<TODAY()),\"Retard\",\"Attente de Livraison\")))","v":""}]
[null,null,null,null,null,null,null,null,{"$f":"IF(F1121=\"\",\"\",IF(H1121<>\"\",\"OK\",IF(AND(#REF!<>\"\",#REF!<TODAY()),\"Retard\",\"Attente de Livraison\")))","v":""}]
[null,null,null,null,null,null,null,null,{"$f":"IF(F1122=\"\",\"\",IF(H1122<>\"\",\"OK\",IF(AND(#REF!<>\"\",#REF!<TODAY()),\"Retard\",\"Attente de Livraison\")))","v":""}]
[null,null,null,null,null,null,null,null,{"$f":"IF(F1123=\"\",\"\",IF(H1123<>\"\",\"OK\",IF(AND(#REF!<>\"\",#REF!<TODAY()),\"Retard\",\"Attente de Livraison\")))","v":""}]
[null,null,null,null,null,null,null,null,{"$f":"IF(F1124=\"\",\"\",IF(H1124<>\"\",\"OK\",IF(AND(#REF!<>\"\",#REF!<TODAY()),\"Retard\",\"Attente de Livraison\")))","v":""}]
[null,null,null,null,null,null,null,null,{"$f":"IF(F1125=\"\",\"\",IF(H1125<>\"\",\"OK\",IF(AND(#REF!<>\"\",#REF!<TODAY()),\"Retard\",\"Attente de Livraison\")))","v":""}]
[null,null,null,null,null,null,null,null,{"$f":"IF(F1126=\"\",\"\",IF(H1126<>\"\",\"OK\",IF(AND(#REF!<>\"\",#REF!<TODAY()),\"Retard\",\"Attente de Livraison\")))","v":""}]
[null,null,null,null,null,null,null,null,{"$f":"IF(F1127=\"\",\"\",IF(H1127<>\"\",\"OK\",IF(AND(#REF!<>\"\",#REF!<TODAY()),\"Retard\",\"Attente de Livraison\")))","v":""}]
[null,null,null,null,null,null,null,null,{"$f":"IF(F1128=\"\",\"\",IF(H1128<>\"\",\"OK\",IF(AND(#REF!<>\"\",#REF!<TODAY()),\"Retard\",\"Attente de Livraison\")))","v":""}]
[null,null,null,null,null,null,null,null,{"$f":"IF(F1129=\"\",\"\",IF(H1129<>\"\",\"OK\",IF(AND(#REF!<>\"\",#REF!<TODAY()),\"Retard\",\"Attente de Livraison\")))","v":""}]
[null,null,null,null,null,null,null,null,{"$f":"IF(F1130=\"\",\"\",IF(H1130<>\"\",\"OK\",IF(AND(#REF!<>\"\",#REF!<TODAY()),\"Retard\",\"Attente de Livraison\")))","v":""}]
[null,null,null,null,null,null,null,null,{"$f":"IF(F1131=\"\",\"\",IF(H1131<>\"\",\"OK\",IF(AND(#REF!<>\"\",#REF!<TODAY()),\"Retard\",\"Attente de Livraison\")))","v":""}]
[null,null,null,null,null,null,null,null,{"$f":"IF(F1132=\"\",\"\",IF(H1132<>\"\",\"OK\",IF(AND(#REF!<>\"\",#REF!<TODAY()),\"Retard\",\"Attente de Livraison\")))","v":""}]
[null,null,null,null,null,null,null,null,{"$f":"IF(F1133=\"\",\"\",IF(H1133<>\"\",\"OK\",IF(AND(#REF!<>\"\",#REF!<TODAY()),\"Retard\",\"Attente de Livraison\")))","v":""}]
[null,null,null,null,null,null,null,null,{"$f":"IF(F1134=\"\",\"\",IF(H1134<>\"\",\"OK\",IF(AND(#REF!<>\"\",#REF!<TODAY()),\"Retard\",\"Attente de Livraison\")))","v":""}]
[null,null,null,null,null,null,null,null,{"$f":"IF(F1135=\"\",\"\",IF(H1135<>\"\",\"OK\",IF(AND(#REF!<>\"\",#REF!<TODAY()),\"Retard\",\"Attente de Livraison\")))","v":""}]
[null,null,null,null,null,null,null,null,{"$f":"IF(F1136=\"\",\"\",IF(H1136<>\"\",\"OK\",IF(AND(#REF!<>\"\",#REF!<TODAY()),\"Retard\",\"Attente de Livraison\")))","v":""}]
[null,null,null,null,null,null,null,null,{"$f":"IF(F1137=\"\",\"\",IF(H1137<>\"\",\"OK\",IF(AND(#REF!<>\"\",#REF!<TODAY()),\"Retard\",\"Attente de Livraison\")))","v":""}]
[null,null,null,null,null,null,null,null,{"$f":"IF(F1138=\"\",\"\",IF(H1138<>\"\",\"OK\",IF(AND(#REF!<>\"\",#REF!<TODAY()),\"Retard\",\"Attente de Livraison\")))","v":""}]
[null,null,null,null,null,null,null,null,{"$f":"IF(F1139=\"\",\"\",IF(H1139<>\"\",\"OK\",IF(AND(#REF!<>\"\",#REF!<TODAY()),\"Retard\",\"Attente de Livraison\")))","v":""}]
[null,null,null,null,null,null,null,null,{"$f":"IF(F1140=\"\",\"\",IF(H1140<>\"\",\"OK\",IF(AND(#REF!<>\"\",#REF!<TODAY()),\"Retard\",\"Attente de Livraison\")))","v":""}]
[null,null,null,null,null,null,null,null,{"$f":"IF(F1141=\"\",\"\",IF(H1141<>\"\",\"OK\",IF(AND(#REF!<>\"\",#REF!<TODAY()),\"Retard\",\"Attente de Livraison\")))","v":""}]
[null,null,null,null,null,null,null,null,{"$f":"IF(F1142=\"\",\"\",IF(H1142<>\"\",\"OK\",IF(AND(#REF!<>\"\",#REF!<TODAY()),\"Retard\",\"Attente de Livraison\")))","v":""}]
[null,null,null,null,null,null,null,null,{"$f":"IF(F1143=\"\",\"\",IF(H1143<>\"\",\"OK\",IF(AND(#REF!<>\"\",#REF!<TODAY()),\"Retard\",\"Attente de Livraison\")))","v":""}]
[null,null,null,null,null,null,null,null,{"$f":"IF(F1144=\"\",\"\",IF(H1144<>\"\",\"OK\",IF(AND(#REF!<>\"\",#REF!<TODAY()),\"Retard\",\"Attente de Livraison\")))","v":""}]
[null,null,null,null,null,null,null,null,{"$f":"IF(F1145=\"\",\"\",IF(H1145<>\"\",\"OK\",IF(AND(#REF!<>\"\",#REF!<TODAY()),\"Retard\",\"Attente de Livraison\")))","v":""}]
[null,null,null,null,null,null,null,null,{"$f":"IF(F1146=\"\",\"\",IF(H1146<>\"\",\"OK\",IF(AND(#REF!<>\"\",#REF!<TODAY()),\"Retard\",\"Attente de Livraison\")))","v":""}]
[null,null,null,null,null,null,null,null,{"$f":"IF(F1147=\"\",\"\",IF(H1147<>\"\",\"OK\",IF(AND(#REF!<>\"\",#REF!<TODAY()),\"Retard\",\"Attente de Livraison\")))","v":""}]
[null,null,null,null,null,null,null,null,{"$f":"IF(F1148=\"\",\"\",IF(H1148<>\"\",\"OK\",IF(AND(#REF!<>\"\",#REF!<TODAY()),\"Retard\",\"Attente de Livraison\")))","v":""}]
[null,null,null,null,null,null,null,null,{"$f":"IF(F1149=\"\",\"\",IF(H1149<>\"\",\"OK\",IF(AND(#REF!<>\"\",#REF!<TODAY()),\"Retard\",\"Attente de Livraison\")))","v":""}]
[null,null,null,null,null,null,null,null,{"$f":"IF(F1150=\"\",\"\",IF(H1150<>\"\",\"OK\",IF(AND(#REF!<>\"\",#REF!<TODAY()),\"Retard\",\"Attente de Livraison\")))","v":""}]
[null,null,null,null,null,null,null,null,{"$f":"IF(F1151=\"\",\"\",IF(H1151<>\"\",\"OK\",IF(AND(#REF!<>\"\",#REF!<TODAY()),\"Retard\",\"Attente de Livraison\")))","v":""}]
[null,null,null,null,null,null,null,null,{"$f":"IF(F1152=\"\",\"\",IF(H1152<>\"\",\"OK\",IF(AND(#REF!<>\"\",#REF!<TODAY()),\"Retard\",\"Attente de Livraison\")))","v":""}]
[null,null,null,null,null,null,null,null,{"$f":"IF(F1153=\"\",\"\",IF(H1153<>\"\",\"OK\",IF(AND(#REF!<>\"\",#REF!<TODAY()),\"Retard\",\"Attente de Livraison\")))","v":""}]
[null,null,null,null,null,null,null,null,{"$f":"IF(F1154=\"\",\"\",IF(H1154<>\"\",\"OK\",IF(AND(#REF!<>\"\",#REF!<TODAY()),\"Retard\",\"Attente de Livraison\")))","v":""}]
[null,null,null,null,null,null,null,null,{"$f":"IF(F1155=\"\",\"\",IF(H1155<>\"\",\"OK\",IF(AND(#REF!<>\"\",#REF!<TODAY()),\"Retard\",\"Attente de Livraison\")))","v":""}]
[null,null,null,null,null,null,null,null,{"$f":"IF(F1156=\"\",\"\",IF(H1156<>\"\",\"OK\",IF(AND(#REF!<>\"\",#REF!<TODAY()),\"Retard\",\"Attente de Livraison\")))","v":""}]
[null,null,null,null,null,null,null,null,{"$f":"IF(F1157=\"\",\"\",IF(H1157<>\"\",\"OK\",IF(AND(#REF!<>\"\",#REF!<TODAY()),\"Retard\",\"Attente de Livraison\")))","v":""}]
[null,null,null,null,null,null,null,null,{"$f":"IF(F1158=\"\",\"\",IF(H1158<>\"\",\"OK\",IF(AND(#REF!<>\"\",#REF!<TODAY()),\"Retard\",\"Attente de Livraison\")))","v":""}]
[null,null,null,null,null,null,null,null,{"$f":"IF(F1159=\"\",\"\",IF(H1159<>\"\",\"OK\",IF(AND(#REF!<>\"\",#REF!<TODAY()),\"Retard\",\"Attente de Livraison\")))","v":""}]
[null,null,null,null,null,null,null,null,{"$f":"IF(F1160=\"\",\"\",IF(H1160<>\"\",\"OK\",IF(AND(#REF!<>\"\",#REF!<TODAY()),\"Retard\",\"Attente de Livraison\")))","v":""}]
[null,null,null,null,null,null,null,null,{"$f":"IF(F1161=\"\",\"\",IF(H1161<>\"\",\"OK\",IF(AND(#REF!<>\"\",#REF!<TODAY()),\"Retard\",\"Attente de Livraison\")))","v":""}]
[null,null,null,null,null,null,null,null,{"$f":"IF(F1162=\"\",\"\",IF(H1162<>\"\",\"OK\",IF(AND(#REF!<>\"\",#REF!<TODAY()),\"Retard\",\"Attente de Livraison\")))","v":""}]
[null,null,null,null,null,null,null,null,{"$f":"IF(F1163=\"\",\"\",IF(H1163<>\"\",\"OK\",IF(AND(#REF!<>\"\",#REF!<TODAY()),\"Retard\",\"Attente de Livraison\")))","v":""}]
[null,null,null,null,null,null,null,null,{"$f":"IF(F1164=\"\",\"\",IF(H1164<>\"\",\"OK\",IF(AND(#REF!<>\"\",#REF!<TODAY()),\"Retard\",\"Attente de Livraison\")))","v":""}]
[null,null,null,null,null,null,null,null,{"$f":"IF(F1165=\"\",\"\",IF(H1165<>\"\",\"OK\",IF(AND(#REF!<>\"\",#REF!<TODAY()),\"Retard\",\"Attente de Livraison\")))","v":""}]
[null,null,null,null,null,null,null,null,{"$f":"IF(F1166=\"\",\"\",IF(H1166<>\"\",\"OK\",IF(AND(#REF!<>\"\",#REF!<TODAY()),\"Retard\",\"Attente de Livraison\")))","v":""}]
[null,null,null,null,null,null,null,null,{"$f":"IF(F1167=\"\",\"\",IF(H1167<>\"\",\"OK\",IF(AND(#REF!<>\"\",#REF!<TODAY()),\"Retard\",\"Attente de Livraison\")))","v":""}]
[null,null,null,null,null,null,null,null,{"$f":"IF(F1168=\"\",\"\",IF(H1168<>\"\",\"OK\",IF(AND(#REF!<>\"\",#REF!<TODAY()),\"Retard\",\"Attente de Livraison\")))","v":""}]
[null,null,null,null,null,null,null,null,{"$f":"IF(F1169=\"\",\"\",IF(H1169<>\"\",\"OK\",IF(AND(#REF!<>\"\",#REF!<TODAY()),\"Retard\",\"Attente de Livraison\")))","v":""}]
[null,null,null,null,null,null,null,null,{"$f":"IF(F1170=\"\",\"\",IF(H1170<>\"\",\"OK\",IF(AND(#REF!<>\"\",#REF!<TODAY()),\"Retard\",\"Attente de Livraison\")))","v":""}]
[null,null,null,null,null,null,null,null,{"$f":"IF(F1171=\"\",\"\",IF(H1171<>\"\",\"OK\",IF(AND(#REF!<>\"\",#REF!<TODAY()),\"Retard\",\"Attente de Livraison\")))","v":""}]
[null,null,null,null,null,null,null,null,{"$f":"IF(F1172=\"\",\"\",IF(H1172<>\"\",\"OK\",IF(AND(#REF!<>\"\",#REF!<TODAY()),\"Retard\",\"Attente de Livraison\")))","v":""}]
[null,null,null,null,null,null,null,null,{"$f":"IF(F1173=\"\",\"\",IF(H1173<>\"\",\"OK\",IF(AND(#REF!<>\"\",#REF!<TODAY()),\"Retard\",\"Attente de Livraison\")))","v":""}]
[null,null,null,null,null,null,null,null,{"$f":"IF(F1174=\"\",\"\",IF(H1174<>\"\",\"OK\",IF(AND(#REF!<>\"\",#REF!<TODAY()),\"Retard\",\"Attente de Livraison\")))","v":""}]
[null,null,null,null,null,null,null,null,{"$f":"IF(F1175=\"\",\"\",IF(H1175<>\"\",\"OK\",IF(AND(#REF!<>\"\",#REF!<TODAY()),\"Retard\",\"Attente de Livraison\")))","v":""}]
[null,null,null,null,null,null,null,null,{"$f":"IF(F1176=\"\",\"\",IF(H1176<>\"\",\"OK\",IF(AND(#REF!<>\"\",#REF!<TODAY()),\"Retard\",\"Attente de Livraison\")))","v":""}]
[null,null,null,null,null,null,null,null,{"$f":"IF(F1177=\"\",\"\",IF(H1177<>\"\",\"OK\",IF(AND(#REF!<>\"\",#REF!<TODAY()),\"Retard\",\"Attente de Livraison\")))","v":""}]
[null,null,null,null,null,null,null,null,{"$f":"IF(F1178=\"\",\"\",IF(H1178<>\"\",\"OK\",IF(AND(#REF!<>\"\",#REF!<TODAY()),\"Retard\",\"Attente de Livraison\")))","v":""}]
[null,null,null,null,null,null,null,null,{"$f":"IF(F1179=\"\",\"\",IF(H1179<>\"\",\"OK\",IF(AND(#REF!<>\"\",#REF!<TODAY()),\"Retard\",\"Attente de Livraison\")))","v":""}]
[null,null,null,null,null,null,null,null,{"$f":"IF(F1180=\"\",\"\",IF(H1180<>\"\",\"OK\",IF(AND(#REF!<>\"\",#REF!<TODAY()),\"Retard\",\"Attente de Livraison\")))","v":""}]
[null,null,null,null,null,null,null,null,{"$f":"IF(F1181=\"\",\"\",IF(H1181<>\"\",\"OK\",IF(AND(#REF!<>\"\",#REF!<TODAY()),\"Retard\",\"Attente de Livraison\")))","v":""}]
[null,null,null,null,null,null,null,null,{"$f":"IF(F1182=\"\",\"\",IF(H1182<>\"\",\"OK\",IF(AND(#REF!<>\"\",#REF!<TODAY()),\"Retard\",\"Attente de Livraison\")))","v":""}]
[null,null,null,null,null,null,null,null,{"$f":"IF(F1183=\"\",\"\",IF(H1183<>\"\",\"OK\",IF(AND(#REF!<>\"\",#REF!<TODAY()),\"Retard\",\"Attente de Livraison\")))","v":""}]
[null,null,null,null,null,null,null,null,{"$f":"IF(F1184=\"\",\"\",IF(H1184<>\"\",\"OK\",IF(AND(#REF!<>\"\",#REF!<TODAY()),\"Retard\",\"Attente de Livraison\")))","v":""}]
[null,null,null,null,null,null,null,null,{"$f":"IF(F1185=\"\",\"\",IF(H1185<>\"\",\"OK\",IF(AND(#REF!<>\"\",#REF!<TODAY()),\"Retard\",\"Attente de Livraison\")))","v":""}]
[null,null,null,null,null,null,null,null,{"$f":"IF(F1186=\"\",\"\",IF(H1186<>\"\",\"OK\",IF(AND(#REF!<>\"\",#REF!<TODAY()),\"Retard\",\"Attente de Livraison\")))","v":""}]
[null,null,null,null,null,null,null,null,{"$f":"IF(F1187=\"\",\"\",IF(H1187<>\"\",\"OK\",IF(AND(#REF!<>\"\",#REF!<TODAY()),\"Retard\",\"Attente de Livraison\")))","v":""}]
[null,null,null,null,null,null,null,null,{"$f":"IF(F1188=\"\",\"\",IF(H1188<>\"\",\"OK\",IF(AND(#REF!<>\"\",#REF!<TODAY()),\"Retard\",\"Attente de Livraison\")))","v":""}]
[null,null,null,null,null,null,null,null,{"$f":"IF(F1189=\"\",\"\",IF(H1189<>\"\",\"OK\",IF(AND(#REF!<>\"\",#REF!<TODAY()),\"Retard\",\"Attente de Livraison\")))","v":""}]
[null,null,null,null,null,null,null,null,{"$f":"IF(F1190=\"\",\"\",IF(H1190<>\"\",\"OK\",IF(AND(#REF!<>\"\",#REF!<TODAY()),\"Retard\",\"Attente de Livraison\")))","v":""}]
[null,null,null,null,null,null,null,null,{"$f":"IF(F1191=\"\",\"\",IF(H1191<>\"\",\"OK\",IF(AND(#REF!<>\"\",#REF!<TODAY()),\"Retard\",\"Attente de Livraison\")))","v":""}]
[null,null,null,null,null,null,null,null,{"$f":"IF(F1192=\"\",\"\",IF(H1192<>\"\",\"OK\",IF(AND(#REF!<>\"\",#REF!<TODAY()),\"Retard\",\"Attente de Livraison\")))","v":""}]
[null,null,null,null,null,null,null,null,{"$f":"IF(F1193=\"\",\"\",IF(H1193<>\"\",\"OK\",IF(AND(#REF!<>\"\",#REF!<TODAY()),\"Retard\",\"Attente de Livraison\")))","v":""}]
[null,null,null,null,null,null,null,null,{"$f":"IF(F1194=\"\",\"\",IF(H1194<>\"\",\"OK\",IF(AND(#REF!<>\"\",#REF!<TODAY()),\"Retard\",\"Attente de Livraison\")))","v":""}]
[null,null,null,null,null,null,null,null,{"$f":"IF(F1195=\"\",\"\",IF(H1195<>\"\",\"OK\",IF(AND(#REF!<>\"\",#REF!<TODAY()),\"Retard\",\"Attente de Livraison\")))","v":""}]
[null,null,null,null,null,null,null,null,{"$f":"IF(F1196=\"\",\"\",IF(H1196<>\"\",\"OK\",IF(AND(#REF!<>\"\",#REF!<TODAY()),\"Retard\",\"Attente de Livraison\")))","v":""}]
[null,null,null,null,null,null,null,null,{"$f":"IF(F1197=\"\",\"\",IF(H1197<>\"\",\"OK\",IF(AND(#REF!<>\"\",#REF!<TODAY()),\"Retard\",\"Attente de Livraison\")))","v":""}]
[null,null,null,null,null,null,null,null,{"$f":"IF(F1198=\"\",\"\",IF(H1198<>\"\",\"OK\",IF(AND(#REF!<>\"\",#REF!<TODAY()),\"Retard\",\"Attente de Livraison\")))","v":""}]
[null,null,null,null,null,null,null,null,{"$f":"IF(F1199=\"\",\"\",IF(H1199<>\"\",\"OK\",IF(AND(#REF!<>\"\",#REF!<TODAY()),\"Retard\",\"Attente de Livraison\")))","v":""}]
[null,null,null,null,null,null,null,null,{"$f":"IF(F1200=\"\",\"\",IF(H1200<>\"\",\"OK\",IF(AND(#REF!<>\"\",#REF!<TODAY()),\"Retard\",\"Attente de Livraison\")))","v":""}]
[null,null,null,null,null,null,null,null,{"$f":"IF(F1201=\"\",\"\",IF(H1201<>\"\",\"OK\",IF(AND(#REF!<>\"\",#REF!<TODAY()),\"Retard\",\"Attente de Livraison\")))","v":""}]
[null,null,null,null,null,null,null,null,{"$f":"IF(F1202=\"\",\"\",IF(H1202<>\"\",\"OK\",IF(AND(#REF!<>\"\",#REF!<TODAY()),\"Retard\",\"Attente de Livraison\")))","v":""}]
[null,null,null,null,null,null,null,null,{"$f":"IF(F1203=\"\",\"\",IF(H1203<>\"\",\"OK\",IF(AND(#REF!<>\"\",#REF!<TODAY()),\"Retard\",\"Attente de Livraison\")))","v":""}]
[null,null,null,null,null,null,null,null,{"$f":"IF(F1204=\"\",\"\",IF(H1204<>\"\",\"OK\",IF(AND(#REF!<>\"\",#REF!<TODAY()),\"Retard\",\"Attente de Livraison\")))","v":""}]
[null,null,null,null,null,null,null,null,{"$f":"IF(F1205=\"\",\"\",IF(H1205<>\"\",\"OK\",IF(AND(#REF!<>\"\",#REF!<TODAY()),\"Retard\",\"Attente de Livraison\")))","v":""}]
[null,null,null,null,null,null,null,null,{"$f":"IF(F1206=\"\",\"\",IF(H1206<>\"\",\"OK\",IF(AND(#REF!<>\"\",#REF!<TODAY()),\"Retard\",\"Attente de Livraison\")))","v":""}]
[null,null,null,null,null,null,null,null,{"$f":"IF(F1207=\"\",\"\",IF(H1207<>\"\",\"OK\",IF(AND(#REF!<>\"\",#REF!<TODAY()),\"Retard\",\"Attente de Livraison\")))","v":""}]
[null,null,null,null,null,null,null,null,{"$f":"IF(F1208=\"\",\"\",IF(H1208<>\"\",\"OK\",IF(AND(#REF!<>\"\",#REF!<TODAY()),\"Retard\",\"Attente de Livraison\")))","v":""}]
[null,null,null,null,null,null,null,null,{"$f":"IF(F1209=\"\",\"\",IF(H1209<>\"\",\"OK\",IF(AND(#REF!<>\"\",#REF!<TODAY()),\"Retard\",\"Attente de Livraison\")))","v":""}]
[null,null,null,null,null,null,null,null,{"$f":"IF(F1210=\"\",\"\",IF(H1210<>\"\",\"OK\",IF(AND(#REF!<>\"\",#REF!<TODAY()),\"Retard\",\"Attente de Livraison\")))","v":""}]
[null,null,null,null,null,null,null,null,{"$f":"IF(F1211=\"\",\"\",IF(H1211<>\"\",\"OK\",IF(AND(#REF!<>\"\",#REF!<TODAY()),\"Retard\",\"Attente de Livraison\")))","v":""}]
[null,null,null,null,null,null,null,null,{"$f":"IF(F1212=\"\",\"\",IF(H1212<>\"\",\"OK\",IF(AND(#REF!<>\"\",#REF!<TODAY()),\"Retard\",\"Attente de Livraison\")))","v":""}]
[null,null,null,null,null,null,null,null,{"$f":"IF(F1213=\"\",\"\",IF(H1213<>\"\",\"OK\",IF(AND(#REF!<>\"\",#REF!<TODAY()),\"Retard\",\"Attente de Livraison\")))","v":""}]
[null,null,null,null,null,null,null,null,{"$f":"IF(F1214=\"\",\"\",IF(H1214<>\"\",\"OK\",IF(AND(#REF!<>\"\",#REF!<TODAY()),\"Retard\",\"Attente de Livraison\")))","v":""}]
[null,null,null,null,null,null,null,null,{"$f":"IF(F1215=\"\",\"\",IF(H1215<>\"\",\"OK\",IF(AND(#REF!<>\"\",#REF!<TODAY()),\"Retard\",\"Attente de Livraison\")))","v":""}]
[null,null,null,null,null,null,null,null,{"$f":"IF(F1216=\"\",\"\",IF(H1216<>\"\",\"OK\",IF(AND(#REF!<>\"\",#REF!<TODAY()),\"Retard\",\"Attente de Livraison\")))","v":""}]
[null,null,null,null,null,null,null,null,{"$f":"IF(F1217=\"\",\"\",IF(H1217<>\"\",\"OK\",IF(AND(#REF!<>\"\",#REF!<TODAY()),\"Retard\",\"Attente de Livraison\")))","v":""}]
[null,null,null,null,null,null,null,null,{"$f":"IF(F1218=\"\",\"\",IF(H1218<>\"\",\"OK\",IF(AND(#REF!<>\"\",#REF!<TODAY()),\"Retard\",\"Attente de Livraison\")))","v":""}]
[null,null,null,null,null,null,null,null,{"$f":"IF(F1219=\"\",\"\",IF(H1219<>\"\",\"OK\",IF(AND(#REF!<>\"\",#REF!<TODAY()),\"Retard\",\"Attente de Livraison\")))","v":""}]
[null,null,null,null,null,null,null,null,{"$f":"IF(F1220=\"\",\"\",IF(H1220<>\"\",\"OK\",IF(AND(#REF!<>\"\",#REF!<TODAY()),\"Retard\",\"Attente de Livraison\")))","v":""}]
[null,null,null,null,null,null,null,null,{"$f":"IF(F1221=\"\",\"\",IF(H1221<>\"\",\"OK\",IF(AND(#REF!<>\"\",#REF!<TODAY()),\"Retard\",\"Attente de Livraison\")))","v":""}]
[null,null,null,null,null,null,null,null,{"$f":"IF(F1222=\"\",\"\",IF(H1222<>\"\",\"OK\",IF(AND(#REF!<>\"\",#REF!<TODAY()),\"Retard\",\"Attente de Livraison\")))","v":""}]
[null,null,null,null,null,null,null,null,{"$f":"IF(F1223=\"\",\"\",IF(H1223<>\"\",\"OK\",IF(AND(#REF!<>\"\",#REF!<TODAY()),\"Retard\",\"Attente de Livraison\")))","v":""}]
[null,null,null,null,null,null,null,null,{"$f":"IF(F1224=\"\",\"\",IF(H1224<>\"\",\"OK\",IF(AND(#REF!<>\"\",#REF!<TODAY()),\"Retard\",\"Attente de Livraison\")))","v":""}]
[null,null,null,null,null,null,null,null,{"$f":"IF(F1225=\"\",\"\",IF(H1225<>\"\",\"OK\",IF(AND(#REF!<>\"\",#REF!<TODAY()),\"Retard\",\"Attente de Livraison\")))","v":""}]
[null,null,null,null,null,null,null,null,{"$f":"IF(F1226=\"\",\"\",IF(H1226<>\"\",\"OK\",IF(AND(#REF!<>\"\",#REF!<TODAY()),\"Retard\",\"Attente de Livraison\")))","v":""}]
[null,null,null,null,null,null,null,null,{"$f":"IF(F1227=\"\",\"\",IF(H1227<>\"\",\"OK\",IF(AND(#REF!<>\"\",#REF!<TODAY()),\"Retard\",\"Attente de Livraison\")))","v":""}]
[null,null,null,null,null,null,null,null,{"$f":"IF(F1228=\"\",\"\",IF(H1228<>\"\",\"OK\",IF(AND(#REF!<>\"\",#REF!<TODAY()),\"Retard\",\"Attente de Livraison\")))","v":""}]
[null,null,null,null,null,null,null,null,{"$f":"IF(F1229=\"\",\"\",IF(H1229<>\"\",\"OK\",IF(AND(#REF!<>\"\",#REF!<TODAY()),\"Retard\",\"Attente de Livraison\")))","v":""}]
[null,null,null,null,null,null,null,null,{"$f":"IF(F1230=\"\",\"\",IF(H1230<>\"\",\"OK\",IF(AND(#REF!<>\"\",#REF!<TODAY()),\"Retard\",\"Attente de Livraison\")))","v":""}]
[null,null,null,null,null,null,null,null,{"$f":"IF(F1231=\"\",\"\",IF(H1231<>\"\",\"OK\",IF(AND(#REF!<>\"\",#REF!<TODAY()),\"Retard\",\"Attente de Livraison\")))","v":""}]
[null,null,null,null,null,null,null,null,{"$f":"IF(F1232=\"\",\"\",IF(H1232<>\"\",\"OK\",IF(AND(#REF!<>\"\",#REF!<TODAY()),\"Retard\",\"Attente de Livraison\")))","v":""}]
[null,null,null,null,null,null,null,null,{"$f":"IF(F1233=\"\",\"\",IF(H1233<>\"\",\"OK\",IF(AND(#REF!<>\"\",#REF!<TODAY()),\"Retard\",\"Attente de Livraison\")))","v":""}]
[null,null,null,null,null,null,null,null,{"$f":"IF(F1234=\"\",\"\",IF(H1234<>\"\",\"OK\",IF(AND(#REF!<>\"\",#REF!<TODAY()),\"Retard\",\"Attente de Livraison\")))","v":""}]
[null,null,null,null,null,null,null,null,{"$f":"IF(F1235=\"\",\"\",IF(H1235<>\"\",\"OK\",IF(AND(#REF!<>\"\",#REF!<TODAY()),\"Retard\",\"Attente de Livraison\")))","v":""}]
[null,null,null,null,null,null,null,null,{"$f":"IF(F1236=\"\",\"\",IF(H1236<>\"\",\"OK\",IF(AND(#REF!<>\"\",#REF!<TODAY()),\"Retard\",\"Attente de Livraison\")))","v":""}]
[null,null,null,null,null,null,null,null,{"$f":"IF(F1237=\"\",\"\",IF(H1237<>\"\",\"OK\",IF(AND(#REF!<>\"\",#REF!<TODAY()),\"Retard\",\"Attente de Livraison\")))","v":""}]
[null,null,null,null,null,null,null,null,{"$f":"IF(F1238=\"\",\"\",IF(H1238<>\"\",\"OK\",IF(AND(#REF!<>\"\",#REF!<TODAY()),\"Retard\",\"Attente de Livraison\")))","v":""}]
[null,null,null,null,null,null,null,null,{"$f":"IF(F1239=\"\",\"\",IF(H1239<>\"\",\"OK\",IF(AND(#REF!<>\"\",#REF!<TODAY()),\"Retard\",\"Attente de Livraison\")))","v":""}]
[null,null,null,null,null,null,null,null,{"$f":"IF(F1240=\"\",\"\",IF(H1240<>\"\",\"OK\",IF(AND(#REF!<>\"\",#REF!<TODAY()),\"Retard\",\"Attente de Livraison\")))","v":""}]
[null,null,null,null,null,null,null,null,{"$f":"IF(F1241=\"\",\"\",IF(H1241<>\"\",\"OK\",IF(AND(#REF!<>\"\",#REF!<TODAY()),\"Retard\",\"Attente de Livraison\")))","v":""}]
[null,null,null,null,null,null,null,null,{"$f":"IF(F1242=\"\",\"\",IF(H1242<>\"\",\"OK\",IF(AND(#REF!<>\"\",#REF!<TODAY()),\"Retard\",\"Attente de Livraison\")))","v":""}]
[null,null,null,null,null,null,null,null,{"$f":"IF(F1243=\"\",\"\",IF(H1243<>\"\",\"OK\",IF(AND(#REF!<>\"\",#REF!<TODAY()),\"Retard\",\"Attente de Livraison\")))","v":""}]
[null,null,null,null,null,null,null,null,{"$f":"IF(F1244=\"\",\"\",IF(H1244<>\"\",\"OK\",IF(AND(#REF!<>\"\",#REF!<TODAY()),\"Retard\",\"Attente de Livraison\")))","v":""}]
[null,null,null,null,null,null,null,null,{"$f":"IF(F1245=\"\",\"\",IF(H1245<>\"\",\"OK\",IF(AND(#REF!<>\"\",#REF!<TODAY()),\"Retard\",\"Attente de Livraison\")))","v":""}]
[null,null,null,null,null,null,null,null,{"$f":"IF(F1246=\"\",\"\",IF(H1246<>\"\",\"OK\",IF(AND(#REF!<>\"\",#REF!<TODAY()),\"Retard\",\"Attente de Livraison\")))","v":""}]
[null,null,null,null,null,null,null,null,{"$f":"IF(F1247=\"\",\"\",IF(H1247<>\"\",\"OK\",IF(AND(#REF!<>\"\",#REF!<TODAY()),\"Retard\",\"Attente de Livraison\")))","v":""}]
[null,null,null,null,null,null,null,null,{"$f":"IF(F1248=\"\",\"\",IF(H1248<>\"\",\"OK\",IF(AND(#REF!<>\"\",#REF!<TODAY()),\"Retard\",\"Attente de Livraison\")))","v":""}]
[null,null,null,null,null,null,null,null,{"$f":"IF(F1249=\"\",\"\",IF(H1249<>\"\",\"OK\",IF(AND(#REF!<>\"\",#REF!<TODAY()),\"Retard\",\"Attente de Livraison\")))","v":""}]
[null,null,null,null,null,null,null,null,{"$f":"IF(F1250=\"\",\"\",IF(H1250<>\"\",\"OK\",IF(AND(#REF!<>\"\",#REF!<TODAY()),\"Retard\",\"Attente de Livraison\")))","v":""}]
[null,null,null,null,null,null,null,null,{"$f":"IF(F1251=\"\",\"\",IF(H1251<>\"\",\"OK\",IF(AND(#REF!<>\"\",#REF!<TODAY()),\"Retard\",\"Attente de Livraison\")))","v":""}]
[null,null,null,null,null,null,null,null,{"$f":"IF(F1252=\"\",\"\",IF(H1252<>\"\",\"OK\",IF(AND(#REF!<>\"\",#REF!<TODAY()),\"Retard\",\"Attente de Livraison\")))","v":""}]
[null,null,null,null,null,null,null,null,{"$f":"IF(F1253=\"\",\"\",IF(H1253<>\"\",\"OK\",IF(AND(#REF!<>\"\",#REF!<TODAY()),\"Retard\",\"Attente de Livraison\")))","v":""}]
[null,null,null,null,null,null,null,null,{"$f":"IF(F1254=\"\",\"\",IF(H1254<>\"\",\"OK\",IF(AND(#REF!<>\"\",#REF!<TODAY()),\"Retard\",\"Attente de Livraison\")))","v":""}]
[null,null,null,null,null,null,null,null,{"$f":"IF(F1255=\"\",\"\",IF(H1255<>\"\",\"OK\",IF(AND(#REF!<>\"\",#REF!<TODAY()),\"Retard\",\"Attente de Livraison\")))","v":""}]
[null,null,null,null,null,null,null,null,{"$f":"IF(F1256=\"\",\"\",IF(H1256<>\"\",\"OK\",IF(AND(#REF!<>\"\",#REF!<TODAY()),\"Retard\",\"Attente de Livraison\")))","v":""}]
[null,null,null,null,null,null,null,null,{"$f":"IF(F1257=\"\",\"\",IF(H1257<>\"\",\"OK\",IF(AND(#REF!<>\"\",#REF!<TODAY()),\"Retard\",\"Attente de Livraison\")))","v":""}]
[null,null,null,null,null,null,null,null,{"$f":"IF(F1258=\"\",\"\",IF(H1258<>\"\",\"OK\",IF(AND(#REF!<>\"\",#REF!<TODAY()),\"Retard\",\"Attente de Livraison\")))","v":""}]
[null,null,null,null,null,null,null,null,{"$f":"IF(F1259=\"\",\"\",IF(H1259<>\"\",\"OK\",IF(AND(#REF!<>\"\",#REF!<TODAY()),\"Retard\",\"Attente de Livraison\")))","v":""}]
[null,null,null,null,null,null,null,null,{"$f":"IF(F1260=\"\",\"\",IF(H1260<>\"\",\"OK\",IF(AND(#REF!<>\"\",#REF!<TODAY()),\"Retard\",\"Attente de Livraison\")))","v":""}]
[null,null,null,null,null,null,null,null,{"$f":"IF(F1261=\"\",\"\",IF(H1261<>\"\",\"OK\",IF(AND(#REF!<>\"\",#REF!<TODAY()),\"Retard\",\"Attente de Livraison\")))","v":""}]
[null,null,null,null,null,null,null,null,{"$f":"IF(F1262=\"\",\"\",IF(H1262<>\"\",\"OK\",IF(AND(#REF!<>\"\",#REF!<TODAY()),\"Retard\",\"Attente de Livraison\")))","v":""}]
[null,null,null,null,null,null,null,null,{"$f":"IF(F1263=\"\",\"\",IF(H1263<>\"\",\"OK\",IF(AND(#REF!<>\"\",#REF!<TODAY()),\"Retard\",\"Attente de Livraison\")))","v":""}]
[null,null,null,null,null,null,null,null,{"$f":"IF(F1264=\"\",\"\",IF(H1264<>\"\",\"OK\",IF(AND(#REF!<>\"\",#REF!<TODAY()),\"Retard\",\"Attente de Livraison\")))","v":""}]
[null,null,null,null,null,null,null,null,{"$f":"IF(F1265=\"\",\"\",IF(H1265<>\"\",\"OK\",IF(AND(#REF!<>\"\",#REF!<TODAY()),\"Retard\",\"Attente de Livraison\")))","v":""}]
[null,null,null,null,null,null,null,null,{"$f":"IF(F1266=\"\",\"\",IF(H1266<>\"\",\"OK\",IF(AND(#REF!<>\"\",#REF!<TODAY()),\"Retard\",\"Attente de Livraison\")))","v":""}]
[null,null,null,null,null,null,null,null,{"$f":"IF(F1267=\"\",\"\",IF(H1267<>\"\",\"OK\",IF(AND(#REF!<>\"\",#REF!<TODAY()),\"Retard\",\"Attente de Livraison\")))","v":""}]
[null,null,null,null,null,null,null,null,{"$f":"IF(F1268=\"\",\"\",IF(H1268<>\"\",\"OK\",IF(AND(#REF!<>\"\",#REF!<TODAY()),\"Retard\",\"Attente de Livraison\")))","v":""}]
[null,null,null,null,null,null,null,null,{"$f":"IF(F1269=\"\",\"\",IF(H1269<>\"\",\"OK\",IF(AND(#REF!<>\"\",#REF!<TODAY()),\"Retard\",\"Attente de Livraison\")))","v":""}]
[null,null,null,null,null,null,null,null,{"$f":"IF(F1270=\"\",\"\",IF(H1270<>\"\",\"OK\",IF(AND(#REF!<>\"\",#REF!<TODAY()),\"Retard\",\"Attente de Livraison\")))","v":""}]
[null,null,null,null,null,null,null,null,{"$f":"IF(F1271=\"\",\"\",IF(H1271<>\"\",\"OK\",IF(AND(#REF!<>\"\",#REF!<TODAY()),\"Retard\",\"Attente de Livraison\")))","v":""}]
[null,null,null,null,null,null,null,null,{"$f":"IF(F1272=\"\",\"\",IF(H1272<>\"\",\"OK\",IF(AND(#REF!<>\"\",#REF!<TODAY()),\"Retard\",\"Attente de Livraison\")))","v":""}]
[null,null,null,null,null,null,null,null,{"$f":"IF(F1273=\"\",\"\",IF(H1273<>\"\",\"OK\",IF(AND(#REF!<>\"\",#REF!<TODAY()),\"Retard\",\"Attente de Livraison\")))","v":""}]
[null,null,null,null,null,null,null,null,{"$f":"IF(F1274=\"\",\"\",IF(H1274<>\"\",\"OK\",IF(AND(#REF!<>\"\",#REF!<TODAY()),\"Retard\",\"Attente de Livraison\")))","v":""}]
[null,null,null,null,null,null,null,null,{"$f":"IF(F1275=\"\",\"\",IF(H1275<>\"\",\"OK\",IF(AND(#REF!<>\"\",#REF!<TODAY()),\"Retard\",\"Attente de Livraison\")))","v":""}]
[null,null,null,null,null,null,null,null,{"$f":"IF(F1276=\"\",\"\",IF(H1276<>\"\",\"OK\",IF(AND(#REF!<>\"\",#REF!<TODAY()),\"Retard\",\"Attente de Livraison\")))","v":""}]
[null,null,null,null,null,null,null,null,{"$f":"IF(F1277=\"\",\"\",IF(H1277<>\"\",\"OK\",IF(AND(#REF!<>\"\",#REF!<TODAY()),\"Retard\",\"Attente de Livraison\")))","v":""}]
[null,null,null,null,null,null,null,null,{"$f":"IF(F1278=\"\",\"\",IF(H1278<>\"\",\"OK\",IF(AND(#REF!<>\"\",#REF!<TODAY()),\"Retard\",\"Attente de Livraison\")))","v":""}]
[null,null,null,null,null,null,null,null,{"$f":"IF(F1279=\"\",\"\",IF(H1279<>\"\",\"OK\",IF(AND(#REF!<>\"\",#REF!<TODAY()),\"Retard\",\"Attente de Livraison\")))","v":""}]
[null,null,null,null,null,null,null,null,{"$f":"IF(F1280=\"\",\"\",IF(H1280<>\"\",\"OK\",IF(AND(#REF!<>\"\",#REF!<TODAY()),\"Retard\",\"Attente de Livraison\")))","v":""}]
[null,null,null,null,null,null,null,null,{"$f":"IF(F1281=\"\",\"\",IF(H1281<>\"\",\"OK\",IF(AND(#REF!<>\"\",#REF!<TODAY()),\"Retard\",\"Attente de Livraison\")))","v":""}]
[null,null,null,null,null,null,null,null,{"$f":"IF(F1282=\"\",\"\",IF(H1282<>\"\",\"OK\",IF(AND(#REF!<>\"\",#REF!<TODAY()),\"Retard\",\"Attente de Livraison\")))","v":""}]
[null,null,null,null,null,null,null,null,{"$f":"IF(F1283=\"\",\"\",IF(H1283<>\"\",\"OK\",IF(AND(#REF!<>\"\",#REF!<TODAY()),\"Retard\",\"Attente de Livraison\")))","v":""}]
[null,null,null,null,null,null,null,null,{"$f":"IF(F1284=\"\",\"\",IF(H1284<>\"\",\"OK\",IF(AND(#REF!<>\"\",#REF!<TODAY()),\"Retard\",\"Attente de Livraison\")))","v":""}]
[null,null,null,null,null,null,null,null,{"$f":"IF(F1285=\"\",\"\",IF(H1285<>\"\",\"OK\",IF(AND(#REF!<>\"\",#REF!<TODAY()),\"Retard\",\"Attente de Livraison\")))","v":""}]
[null,null,null,null,null,null,null,null,{"$f":"IF(F1286=\"\",\"\",IF(H1286<>\"\",\"OK\",IF(AND(#REF!<>\"\",#REF!<TODAY()),\"Retard\",\"Attente de Livraison\")))","v":""}]
[null,null,null,null,null,null,null,null,{"$f":"IF(F1287=\"\",\"\",IF(H1287<>\"\",\"OK\",IF(AND(#REF!<>\"\",#REF!<TODAY()),\"Retard\",\"Attente de Livraison\")))","v":""}]
[null,null,null,null,null,null,null,null,{"$f":"IF(F1288=\"\",\"\",IF(H1288<>\"\",\"OK\",IF(AND(#REF!<>\"\",#REF!<TODAY()),\"Retard\",\"Attente de Livraison\")))","v":""}]
[null,null,null,null,null,null,null,null,{"$f":"IF(F1289=\"\",\"\",IF(H1289<>\"\",\"OK\",IF(AND(#REF!<>\"\",#REF!<TODAY()),\"Retard\",\"Attente de Livraison\")))","v":""}]
[null,null,null,null,null,null,null,null,{"$f":"IF(F1290=\"\",\"\",IF(H1290<>\"\",\"OK\",IF(AND(#REF!<>\"\",#REF!<TODAY()),\"Retard\",\"Attente de Livraison\")))","v":""}]
[null,null,null,null,null,null,null,null,{"$f":"IF(F1291=\"\",\"\",IF(H1291<>\"\",\"OK\",IF(AND(#REF!<>\"\",#REF!<TODAY()),\"Retard\",\"Attente de Livraison\")))","v":""}]
[null,null,null,null,null,null,null,null,{"$f":"IF(F1292=\"\",\"\",IF(H1292<>\"\",\"OK\",IF(AND(#REF!<>\"\",#REF!<TODAY()),\"Retard\",\"Attente de Livraison\")))","v":""}]
[null,null,null,null,null,null,null,null,{"$f":"IF(F1293=\"\",\"\",IF(H1293<>\"\",\"OK\",IF(AND(#REF!<>\"\",#REF!<TODAY()),\"Retard\",\"Attente de Livraison\")))","v":""}]
[null,null,null,null,null,null,null,null,{"$f":"IF(F1294=\"\",\"\",IF(H1294<>\"\",\"OK\",IF(AND(#REF!<>\"\",#REF!<TODAY()),\"Retard\",\"Attente de Livraison\")))","v":""}]
[null,null,null,null,null,null,null,null,{"$f":"IF(F1295=\"\",\"\",IF(H1295<>\"\",\"OK\",IF(AND(#REF!<>\"\",#REF!<TODAY()),\"Retard\",\"Attente de Livraison\")))","v":""}]
[null,null,null,null,null,null,null,null,{"$f":"IF(F1296=\"\",\"\",IF(H1296<>\"\",\"OK\",IF(AND(#REF!<>\"\",#REF!<TODAY()),\"Retard\",\"Attente de Livraison\")))","v":""}]
[null,null,null,null,null,null,null,null,{"$f":"IF(F1297=\"\",\"\",IF(H1297<>\"\",\"OK\",IF(AND(#REF!<>\"\",#REF!<TODAY()),\"Retard\",\"Attente de Livraison\")))","v":""}]
[null,null,null,null,null,null,null,null,{"$f":"IF(F1298=\"\",\"\",IF(H1298<>\"\",\"OK\",IF(AND(#REF!<>\"\",#REF!<TODAY()),\"Retard\",\"Attente de Livraison\")))","v":""}]
[null,null,null,null,null,null,null,null,{"$f":"IF(F1299=\"\",\"\",IF(H1299<>\"\",\"OK\",IF(AND(#REF!<>\"\",#REF!<TODAY()),\"Retard\",\"Attente de Livraison\")))","v":""}]
[null,null,null,null,null,null,null,null,{"$f":"IF(F1300=\"\",\"\",IF(H1300<>\"\",\"OK\",IF(AND(#REF!<>\"\",#REF!<TODAY()),\"Retard\",\"Attente de Livraison\")))","v":""}]
[null,null,null,null,null,null,null,null,{"$f":"IF(F1301=\"\",\"\",IF(H1301<>\"\",\"OK\",IF(AND(#REF!<>\"\",#REF!<TODAY()),\"Retard\",\"Attente de Livraison\")))","v":""}]
[null,null,null,null,null,null,null,null,{"$f":"IF(F1302=\"\",\"\",IF(H1302<>\"\",\"OK\",IF(AND(#REF!<>\"\",#REF!<TODAY()),\"Retard\",\"Attente de Livraison\")))","v":""}]
[null,null,null,null,null,null,null,null,{"$f":"IF(F1303=\"\",\"\",IF(H1303<>\"\",\"OK\",IF(AND(#REF!<>\"\",#REF!<TODAY()),\"Retard\",\"Attente de Livraison\")))","v":""}]
[null,null,null,null,null,null,null,null,{"$f":"IF(F1304=\"\",\"\",IF(H1304<>\"\",\"OK\",IF(AND(#REF!<>\"\",#REF!<TODAY()),\"Retard\",\"Attente de Livraison\")))","v":""}]
[null,null,null,null,null,null,null,null,{"$f":"IF(F1305=\"\",\"\",IF(H1305<>\"\",\"OK\",IF(AND(#REF!<>\"\",#REF!<TODAY()),\"Retard\",\"Attente de Livraison\")))","v":""}]
[null,null,null,null,null,null,null,null,{"$f":"IF(F1306=\"\",\"\",IF(H1306<>\"\",\"OK\",IF(AND(#REF!<>\"\",#REF!<TODAY()),\"Retard\",\"Attente de Livraison\")))","v":""}]
[null,null,null,null,null,null,null,null,{"$f":"IF(F1307=\"\",\"\",IF(H1307<>\"\",\"OK\",IF(AND(#REF!<>\"\",#REF!<TODAY()),\"Retard\",\"Attente de Livraison\")))","v":""}]
[null,null,null,null,null,null,null,null,{"$f":"IF(F1308=\"\",\"\",IF(H1308<>\"\",\"OK\",IF(AND(#REF!<>\"\",#REF!<TODAY()),\"Retard\",\"Attente de Livraison\")))","v":""}]
[null,null,null,null,null,null,null,null,{"$f":"IF(F1309=\"\",\"\",IF(H1309<>\"\",\"OK\",IF(AND(#REF!<>\"\",#REF!<TODAY()),\"Retard\",\"Attente de Livraison\")))","v":""}]
[null,null,null,null,null,null,null,null,{"$f":"IF(F1310=\"\",\"\",IF(H1310<>\"\",\"OK\",IF(AND(#REF!<>\"\",#REF!<TODAY()),\"Retard\",\"Attente de Livraison\")))","v":""}]
[null,null,null,null,null,null,null,null,{"$f":"IF(F1311=\"\",\"\",IF(H1311<>\"\",\"OK\",IF(AND(#REF!<>\"\",#REF!<TODAY()),\"Retard\",\"Attente de Livraison\")))","v":""}]
[null,null,null,null,null,null,null,null,{"$f":"IF(F1312=\"\",\"\",IF(H1312<>\"\",\"OK\",IF(AND(#REF!<>\"\",#REF!<TODAY()),\"Retard\",\"Attente de Livraison\")))","v":""}]
[null,null,null,null,null,null,null,null,{"$f":"IF(F1313=\"\",\"\",IF(H1313<>\"\",\"OK\",IF(AND(#REF!<>\"\",#REF!<TODAY()),\"Retard\",\"Attente de Livraison\")))","v":""}]
[null,null,null,null,null,null,null,null,{"$f":"IF(F1314=\"\",\"\",IF(H1314<>\"\",\"OK\",IF(AND(#REF!<>\"\",#REF!<TODAY()),\"Retard\",\"Attente de Livraison\")))","v":""}]
[null,null,null,null,null,null,null,null,{"$f":"IF(F1315=\"\",\"\",IF(H1315<>\"\",\"OK\",IF(AND(#REF!<>\"\",#REF!<TODAY()),\"Retard\",\"Attente de Livraison\")))","v":""}]
[null,null,null,null,null,null,null,null,{"$f":"IF(F1316=\"\",\"\",IF(H1316<>\"\",\"OK\",IF(AND(#REF!<>\"\",#REF!<TODAY()),\"Retard\",\"Attente de Livraison\")))","v":""}]
[null,null,null,null,null,null,null,null,{"$f":"IF(F1317=\"\",\"\",IF(H1317<>\"\",\"OK\",IF(AND(#REF!<>\"\",#REF!<TODAY()),\"Retard\",\"Attente de Livraison\")))","v":""}]
[null,null,null,null,null,null,null,null,{"$f":"IF(F1318=\"\",\"\",IF(H1318<>\"\",\"OK\",IF(AND(#REF!<>\"\",#REF!<TODAY()),\"Retard\",\"Attente de Livraison\")))","v":""}]
[null,null,null,null,null,null,null,null,{"$f":"IF(F1319=\"\",\"\",IF(H1319<>\"\",\"OK\",IF(AND(#REF!<>\"\",#REF!<TODAY()),\"Retard\",\"Attente de Livraison\")))","v":""}]
[null,null,null,null,null,null,null,null,{"$f":"IF(F1320=\"\",\"\",IF(H1320<>\"\",\"OK\",IF(AND(#REF!<>\"\",#REF!<TODAY()),\"Retard\",\"Attente de Livraison\")))","v":""}]
[null,null,null,null,null,null,null,null,{"$f":"IF(F1321=\"\",\"\",IF(H1321<>\"\",\"OK\",IF(AND(#REF!<>\"\",#REF!<TODAY()),\"Retard\",\"Attente de Livraison\")))","v":""}]
[null,null,null,null,null,null,null,null,{"$f":"IF(F1322=\"\",\"\",IF(H1322<>\"\",\"OK\",IF(AND(#REF!<>\"\",#REF!<TODAY()),\"Retard\",\"Attente de Livraison\")))","v":""}]
[null,null,null,null,null,null,null,null,{"$f":"IF(F1323=\"\",\"\",IF(H1323<>\"\",\"OK\",IF(AND(#REF!<>\"\",#REF!<TODAY()),\"Retard\",\"Attente de Livraison\")))","v":""}]
[null,null,null,null,null,null,null,null,{"$f":"IF(F1324=\"\",\"\",IF(H1324<>\"\",\"OK\",IF(AND(#REF!<>\"\",#REF!<TODAY()),\"Retard\",\"Attente de Livraison\")))","v":""}]
[null,null,null,null,null,null,null,null,{"$f":"IF(F1325=\"\",\"\",IF(H1325<>\"\",\"OK\",IF(AND(#REF!<>\"\",#REF!<TODAY()),\"Retard\",\"Attente de Livraison\")))","v":""}]
[null,null,null,null,null,null,null,null,{"$f":"IF(F1326=\"\",\"\",IF(H1326<>\"\",\"OK\",IF(AND(#REF!<>\"\",#REF!<TODAY()),\"Retard\",\"Attente de Livraison\")))","v":""}]
[null,null,null,null,null,null,null,null,{"$f":"IF(F1327=\"\",\"\",IF(H1327<>\"\",\"OK\",IF(AND(#REF!<>\"\",#REF!<TODAY()),\"Retard\",\"Attente de Livraison\")))","v":""}]
[null,null,null,null,null,null,null,null,{"$f":"IF(F1328=\"\",\"\",IF(H1328<>\"\",\"OK\",IF(AND(#REF!<>\"\",#REF!<TODAY()),\"Retard\",\"Attente de Livraison\")))","v":""}]
[null,null,null,null,null,null,null,null,{"$f":"IF(F1329=\"\",\"\",IF(H1329<>\"\",\"OK\",IF(AND(#REF!<>\"\",#REF!<TODAY()),\"Retard\",\"Attente de Livraison\")))","v":""}]
[null,null,null,null,null,null,null,null,{"$f":"IF(F1330=\"\",\"\",IF(H1330<>\"\",\"OK\",IF(AND(#REF!<>\"\",#REF!<TODAY()),\"Retard\",\"Attente de Livraison\")))","v":""}]
[null,null,null,null,null,null,null,null,{"$f":"IF(F1331=\"\",\"\",IF(H1331<>\"\",\"OK\",IF(AND(#REF!<>\"\",#REF!<TODAY()),\"Retard\",\"Attente de Livraison\")))","v":""}]
[null,null,null,null,null,null,null,null,{"$f":"IF(F1332=\"\",\"\",IF(H1332<>\"\",\"OK\",IF(AND(#REF!<>\"\",#REF!<TODAY()),\"Retard\",\"Attente de Livraison\")))","v":""}]
[null,null,null,null,null,null,null,null,{"$f":"IF(F1333=\"\",\"\",IF(H1333<>\"\",\"OK\",IF(AND(#REF!<>\"\",#REF!<TODAY()),\"Retard\",\"Attente de Livraison\")))","v":""}]
[null,null,null,null,null,null,null,null,{"$f":"IF(F1334=\"\",\"\",IF(H1334<>\"\",\"OK\",IF(AND(#REF!<>\"\",#REF!<TODAY()),\"Retard\",\"Attente de Livraison\")))","v":""}]
[null,null,null,null,null,null,null,null,{"$f":"IF(F1335=\"\",\"\",IF(H1335<>\"\",\"OK\",IF(AND(#REF!<>\"\",#REF!<TODAY()),\"Retard\",\"Attente de Livraison\")))","v":""}]
[null,null,null,null,null,null,null,null,{"$f":"IF(F1336=\"\",\"\",IF(H1336<>\"\",\"OK\",IF(AND(#REF!<>\"\",#REF!<TODAY()),\"Retard\",\"Attente de Livraison\")))","v":""}]
[null,null,null,null,null,null,null,null,{"$f":"IF(F1337=\"\",\"\",IF(H1337<>\"\",\"OK\",IF(AND(#REF!<>\"\",#REF!<TODAY()),\"Retard\",\"Attente de Livraison\")))","v":""}]
[null,null,null,null,null,null,null,null,{"$f":"IF(F1338=\"\",\"\",IF(H1338<>\"\",\"OK\",IF(AND(#REF!<>\"\",#REF!<TODAY()),\"Retard\",\"Attente de Livraison\")))","v":""}]
[null,null,null,null,null,null,null,null,{"$f":"IF(F1339=\"\",\"\",IF(H1339<>\"\",\"OK\",IF(AND(#REF!<>\"\",#REF!<TODAY()),\"Retard\",\"Attente de Livraison\")))","v":""}]
[null,null,null,null,null,null,null,null,{"$f":"IF(F1340=\"\",\"\",IF(H1340<>\"\",\"OK\",IF(AND(#REF!<>\"\",#REF!<TODAY()),\"Retard\",\"Attente de Livraison\")))","v":""}]
[null,null,null,null,null,null,null,null,{"$f":"IF(F1341=\"\",\"\",IF(H1341<>\"\",\"OK\",IF(AND(#REF!<>\"\",#REF!<TODAY()),\"Retard\",\"Attente de Livraison\")))","v":""}]
[null,null,null,null,null,null,null,null,{"$f":"IF(F1342=\"\",\"\",IF(H1342<>\"\",\"OK\",IF(AND(#REF!<>\"\",#REF!<TODAY()),\"Retard\",\"Attente de Livraison\")))","v":""}]
[null,null,null,null,null,null,null,null,{"$f":"IF(F1343=\"\",\"\",IF(H1343<>\"\",\"OK\",IF(AND(#REF!<>\"\",#REF!<TODAY()),\"Retard\",\"Attente de Livraison\")))","v":""}]
[null,null,null,null,null,null,null,null,{"$f":"IF(F1344=\"\",\"\",IF(H1344<>\"\",\"OK\",IF(AND(#REF!<>\"\",#REF!<TODAY()),\"Retard\",\"Attente de Livraison\")))","v":""}]
[null,null,null,null,null,null,null,null,{"$f":"IF(F1345=\"\",\"\",IF(H1345<>\"\",\"OK\",IF(AND(#REF!<>\"\",#REF!<TODAY()),\"Retard\",\"Attente de Livraison\")))","v":""}]
[null,null,null,null,null,null,null,null,{"$f":"IF(F1346=\"\",\"\",IF(H1346<>\"\",\"OK\",IF(AND(#REF!<>\"\",#REF!<TODAY()),\"Retard\",\"Attente de Livraison\")))","v":""}]
[null,null,null,null,null,null,null,null,{"$f":"IF(F1347=\"\",\"\",IF(H1347<>\"\",\"OK\",IF(AND(#REF!<>\"\",#REF!<TODAY()),\"Retard\",\"Attente de Livraison\")))","v":""}]
[null,null,null,null,null,null,null,null,{"$f":"IF(F1348=\"\",\"\",IF(H1348<>\"\",\"OK\",IF(AND(#REF!<>\"\",#REF!<TODAY()),\"Retard\",\"Attente de Livraison\")))","v":""}]
[null,null,null,null,null,null,null,null,{"$f":"IF(F1349=\"\",\"\",IF(H1349<>\"\",\"OK\",IF(AND(#REF!<>\"\",#REF!<TODAY()),\"Retard\",\"Attente de Livraison\")))","v":""}]
[null,null,null,null,null,null,null,null,{"$f":"IF(F1350=\"\",\"\",IF(H1350<>\"\",\"OK\",IF(AND(#REF!<>\"\",#REF!<TODAY()),\"Retard\",\"Attente de Livraison\")))","v":""}]
[null,null,null,null,null,null,null,null,{"$f":"IF(F1351=\"\",\"\",IF(H1351<>\"\",\"OK\",IF(AND(#REF!<>\"\",#REF!<TODAY()),\"Retard\",\"Attente de Livraison\")))","v":""}]
[null,null,null,null,null,null,null,null,{"$f":"IF(F1352=\"\",\"\",IF(H1352<>\"\",\"OK\",IF(AND(#REF!<>\"\",#REF!<TODAY()),\"Retard\",\"Attente de Livraison\")))","v":""}]
[null,null,null,null,null,null,null,null,{"$f":"IF(F1353=\"\",\"\",IF(H1353<>\"\",\"OK\",IF(AND(#REF!<>\"\",#REF!<TODAY()),\"Retard\",\"Attente de Livraison\")))","v":""}]
[null,null,null,null,null,null,null,null,{"$f":"IF(F1354=\"\",\"\",IF(H1354<>\"\",\"OK\",IF(AND(#REF!<>\"\",#REF!<TODAY()),\"Retard\",\"Attente de Livraison\")))","v":""}]
[null,null,null,null,null,null,null,null,{"$f":"IF(F1355=\"\",\"\",IF(H1355<>\"\",\"OK\",IF(AND(#REF!<>\"\",#REF!<TODAY()),\"Retard\",\"Attente de Livraison\")))","v":""}]
[null,null,null,null,null,null,null,null,{"$f":"IF(F1356=\"\",\"\",IF(H1356<>\"\",\"OK\",IF(AND(#REF!<>\"\",#REF!<TODAY()),\"Retard\",\"Attente de Livraison\")))","v":""}]
[null,null,null,null,null,null,null,null,{"$f":"IF(F1357=\"\",\"\",IF(H1357<>\"\",\"OK\",IF(AND(#REF!<>\"\",#REF!<TODAY()),\"Retard\",\"Attente de Livraison\")))","v":""}]
[null,null,null,null,null,null,null,null,{"$f":"IF(F1358=\"\",\"\",IF(H1358<>\"\",\"OK\",IF(AND(#REF!<>\"\",#REF!<TODAY()),\"Retard\",\"Attente de Livraison\")))","v":""}]
[null,null,null,null,null,null,null,null,{"$f":"IF(F1359=\"\",\"\",IF(H1359<>\"\",\"OK\",IF(AND(#REF!<>\"\",#REF!<TODAY()),\"Retard\",\"Attente de Livraison\")))","v":""}]
[null,null,null,null,null,null,null,null,{"$f":"IF(F1360=\"\",\"\",IF(H1360<>\"\",\"OK\",IF(AND(#REF!<>\"\",#REF!<TODAY()),\"Retard\",\"Attente de Livraison\")))","v":""}]
[null,null,null,null,null,null,null,null,{"$f":"IF(F1361=\"\",\"\",IF(H1361<>\"\",\"OK\",IF(AND(#REF!<>\"\",#REF!<TODAY()),\"Retard\",\"Attente de Livraison\")))","v":""}]
[null,null,null,null,null,null,null,null,{"$f":"IF(F1362=\"\",\"\",IF(H1362<>\"\",\"OK\",IF(AND(#REF!<>\"\",#REF!<TODAY()),\"Retard\",\"Attente de Livraison\")))","v":""}]
[null,null,null,null,null,null,null,null,{"$f":"IF(F1363=\"\",\"\",IF(H1363<>\"\",\"OK\",IF(AND(#REF!<>\"\",#REF!<TODAY()),\"Retard\",\"Attente de Livraison\")))","v":""}]
[null,null,null,null,null,null,null,null,{"$f":"IF(F1364=\"\",\"\",IF(H1364<>\"\",\"OK\",IF(AND(#REF!<>\"\",#REF!<TODAY()),\"Retard\",\"Attente de Livraison\")))","v":""}]
[null,null,null,null,null,null,null,null,{"$f":"IF(F1365=\"\",\"\",IF(H1365<>\"\",\"OK\",IF(AND(#REF!<>\"\",#REF!<TODAY()),\"Retard\",\"Attente de Livraison\")))","v":""}]
[null,null,null,null,null,null,null,null,{"$f":"IF(F1366=\"\",\"\",IF(H1366<>\"\",\"OK\",IF(AND(#REF!<>\"\",#REF!<TODAY()),\"Retard\",\"Attente de Livraison\")))","v":""}]
[null,null,null,null,null,null,null,null,{"$f":"IF(F1367=\"\",\"\",IF(H1367<>\"\",\"OK\",IF(AND(#REF!<>\"\",#REF!<TODAY()),\"Retard\",\"Attente de Livraison\")))","v":""}]
[null,null,null,null,null,null,null,null,{"$f":"IF(F1368=\"\",\"\",IF(H1368<>\"\",\"OK\",IF(AND(#REF!<>\"\",#REF!<TODAY()),\"Retard\",\"Attente de Livraison\")))","v":""}]
[null,null,null,null,null,null,null,null,{"$f":"IF(F1369=\"\",\"\",IF(H1369<>\"\",\"OK\",IF(AND(#REF!<>\"\",#REF!<TODAY()),\"Retard\",\"Attente de Livraison\")))","v":""}]
[null,null,null,null,null,null,null,null,{"$f":"IF(F1370=\"\",\"\",IF(H1370<>\"\",\"OK\",IF(AND(#REF!<>\"\",#REF!<TODAY()),\"Retard\",\"Attente de Livraison\")))","v":""}]
[null,null,null,null,null,null,null,null,{"$f":"IF(F1371=\"\",\"\",IF(H1371<>\"\",\"OK\",IF(AND(#REF!<>\"\",#REF!<TODAY()),\"Retard\",\"Attente de Livraison\")))","v":""}]
[null,null,null,null,null,null,null,null,{"$f":"IF(F1372=\"\",\"\",IF(H1372<>\"\",\"OK\",IF(AND(#REF!<>\"\",#REF!<TODAY()),\"Retard\",\"Attente de Livraison\")))","v":""}]
[null,null,null,null,null,null,null,null,{"$f":"IF(F1373=\"\",\"\",IF(H1373<>\"\",\"OK\",IF(AND(#REF!<>\"\",#REF!<TODAY()),\"Retard\",\"Attente de Livraison\")))","v":""}]
[null,null,null,null,null,null,null,null,{"$f":"IF(F1374=\"\",\"\",IF(H1374<>\"\",\"OK\",IF(AND(#REF!<>\"\",#REF!<TODAY()),\"Retard\",\"Attente de Livraison\")))","v":""}]
[null,null,null,null,null,null,null,null,{"$f":"IF(F1375=\"\",\"\",IF(H1375<>\"\",\"OK\",IF(AND(#REF!<>\"\",#REF!<TODAY()),\"Retard\",\"Attente de Livraison\")))","v":""}]
[null,null,null,null,null,null,null,null,{"$f":"IF(F1376=\"\",\"\",IF(H1376<>\"\",\"OK\",IF(AND(#REF!<>\"\",#REF!<TODAY()),\"Retard\",\"Attente de Livraison\")))","v":""}]
[null,null,null,null,null,null,null,null,{"$f":"IF(F1377=\"\",\"\",IF(H1377<>\"\",\"OK\",IF(AND(#REF!<>\"\",#REF!<TODAY()),\"Retard\",\"Attente de Livraison\")))","v":""}]
[null,null,null,null,null,null,null,null,{"$f":"IF(F1378=\"\",\"\",IF(H1378<>\"\",\"OK\",IF(AND(#REF!<>\"\",#REF!<TODAY()),\"Retard\",\"Attente de Livraison\")))","v":""}]
[null,null,null,null,null,null,null,null,{"$f":"IF(F1379=\"\",\"\",IF(H1379<>\"\",\"OK\",IF(AND(#REF!<>\"\",#REF!<TODAY()),\"Retard\",\"Attente de Livraison\")))","v":""}]
[null,null,null,null,null,null,null,null,{"$f":"IF(F1380=\"\",\"\",IF(H1380<>\"\",\"OK\",IF(AND(#REF!<>\"\",#REF!<TODAY()),\"Retard\",\"Attente de Livraison\")))","v":""}]
[null,null,null,null,null,null,null,null,{"$f":"IF(F1381=\"\",\"\",IF(H1381<>\"\",\"OK\",IF(AND(#REF!<>\"\",#REF!<TODAY()),\"Retard\",\"Attente de Livraison\")))","v":""}]
[null,null,null,null,null,null,null,null,{"$f":"IF(F1382=\"\",\"\",IF(H1382<>\"\",\"OK\",IF(AND(#REF!<>\"\",#REF!<TODAY()),\"Retard\",\"Attente de Livraison\")))","v":""}]
[null,null,null,null,null,null,null,null,{"$f":"IF(F1383=\"\",\"\",IF(H1383<>\"\",\"OK\",IF(AND(#REF!<>\"\",#REF!<TODAY()),\"Retard\",\"Attente de Livraison\")))","v":""}]
[null,null,null,null,null,null,null,null,{"$f":"IF(F1384=\"\",\"\",IF(H1384<>\"\",\"OK\",IF(AND(#REF!<>\"\",#REF!<TODAY()),\"Retard\",\"Attente de Livraison\")))","v":""}]
[null,null,null,null,null,null,null,null,{"$f":"IF(F1385=\"\",\"\",IF(H1385<>\"\",\"OK\",IF(AND(#REF!<>\"\",#REF!<TODAY()),\"Retard\",\"Attente de Livraison\")))","v":""}]
[null,null,null,null,null,null,null,null,{"$f":"IF(F1386=\"\",\"\",IF(H1386<>\"\",\"OK\",IF(AND(#REF!<>\"\",#REF!<TODAY()),\"Retard\",\"Attente de Livraison\")))","v":""}]
[null,null,null,null,null,null,null,null,{"$f":"IF(F1387=\"\",\"\",IF(H1387<>\"\",\"OK\",IF(AND(#REF!<>\"\",#REF!<TODAY()),\"Retard\",\"Attente de Livraison\")))","v":""}]
[null,null,null,null,null,null,null,null,{"$f":"IF(F1388=\"\",\"\",IF(H1388<>\"\",\"OK\",IF(AND(#REF!<>\"\",#REF!<TODAY()),\"Retard\",\"Attente de Livraison\")))","v":""}]
[null,null,null,null,null,null,null,null,{"$f":"IF(F1389=\"\",\"\",IF(H1389<>\"\",\"OK\",IF(AND(#REF!<>\"\",#REF!<TODAY()),\"Retard\",\"Attente de Livraison\")))","v":""}]
[null,null,null,null,null,null,null,null,{"$f":"IF(F1390=\"\",\"\",IF(H1390<>\"\",\"OK\",IF(AND(#REF!<>\"\",#REF!<TODAY()),\"Retard\",\"Attente de Livraison\")))","v":""}]
[null,null,null,null,null,null,null,null,{"$f":"IF(F1391=\"\",\"\",IF(H1391<>\"\",\"OK\",IF(AND(#REF!<>\"\",#REF!<TODAY()),\"Retard\",\"Attente de Livraison\")))","v":""}]
[null,null,null,null,null,null,null,null,{"$f":"IF(F1392=\"\",\"\",IF(H1392<>\"\",\"OK\",IF(AND(#REF!<>\"\",#REF!<TODAY()),\"Retard\",\"Attente de Livraison\")))","v":""}]
[null,null,null,null,null,null,null,null,{"$f":"IF(F1393=\"\",\"\",IF(H1393<>\"\",\"OK\",IF(AND(#REF!<>\"\",#REF!<TODAY()),\"Retard\",\"Attente de Livraison\")))","v":""}]
[null,null,null,null,null,null,null,null,{"$f":"IF(F1394=\"\",\"\",IF(H1394<>\"\",\"OK\",IF(AND(#REF!<>\"\",#REF!<TODAY()),\"Retard\",\"Attente de Livraison\")))","v":""}]
[null,null,null,null,null,null,null,null,{"$f":"IF(F1395=\"\",\"\",IF(H1395<>\"\",\"OK\",IF(AND(#REF!<>\"\",#REF!<TODAY()),\"Retard\",\"Attente de Livraison\")))","v":""}]
[null,null,null,null,null,null,null,null,{"$f":"IF(F1396=\"\",\"\",IF(H1396<>\"\",\"OK\",IF(AND(#REF!<>\"\",#REF!<TODAY()),\"Retard\",\"Attente de Livraison\")))","v":""}]
[null,null,null,null,null,null,null,null,{"$f":"IF(F1397=\"\",\"\",IF(H1397<>\"\",\"OK\",IF(AND(#REF!<>\"\",#REF!<TODAY()),\"Retard\",\"Attente de Livraison\")))","v":""}]
[null,null,null,null,null,null,null,null,{"$f":"IF(F1398=\"\",\"\",IF(H1398<>\"\",\"OK\",IF(AND(#REF!<>\"\",#REF!<TODAY()),\"Retard\",\"Attente de Livraison\")))","v":""}]
[null,null,null,null,null,null,null,null,{"$f":"IF(F1399=\"\",\"\",IF(H1399<>\"\",\"OK\",IF(AND(#REF!<>\"\",#REF!<TODAY()),\"Retard\",\"Attente de Livraison\")))","v":""}]
[null,null,null,null,null,null,null,null,{"$f":"IF(F1400=\"\",\"\",IF(H1400<>\"\",\"OK\",IF(AND(#REF!<>\"\",#REF!<TODAY()),\"Retard\",\"Attente de Livraison\")))","v":""}]
[null,null,null,null,null,null,null,null,{"$f":"IF(F1401=\"\",\"\",IF(H1401<>\"\",\"OK\",IF(AND(#REF!<>\"\",#REF!<TODAY()),\"Retard\",\"Attente de Livraison\")))","v":""}]
[null,null,null,null,null,null,null,null,{"$f":"IF(F1402=\"\",\"\",IF(H1402<>\"\",\"OK\",IF(AND(#REF!<>\"\",#REF!<TODAY()),\"Retard\",\"Attente de Livraison\")))","v":""}]
[null,null,null,null,null,null,null,null,{"$f":"IF(F1403=\"\",\"\",IF(H1403<>\"\",\"OK\",IF(AND(#REF!<>\"\",#REF!<TODAY()),\"Retard\",\"Attente de Livraison\")))","v":""}]
[null,null,null,null,null,null,null,null,{"$f":"IF(F1404=\"\",\"\",IF(H1404<>\"\",\"OK\",IF(AND(#REF!<>\"\",#REF!<TODAY()),\"Retard\",\"Attente de Livraison\")))","v":""}]
[null,null,null,null,null,null,null,null,{"$f":"IF(F1405=\"\",\"\",IF(H1405<>\"\",\"OK\",IF(AND(#REF!<>\"\",#REF!<TODAY()),\"Retard\",\"Attente de Livraison\")))","v":""}]
[null,null,null,null,null,null,null,null,{"$f":"IF(F1406=\"\",\"\",IF(H1406<>\"\",\"OK\",IF(AND(#REF!<>\"\",#REF!<TODAY()),\"Retard\",\"Attente de Livraison\")))","v":""}]
[null,null,null,null,null,null,null,null,{"$f":"IF(F1407=\"\",\"\",IF(H1407<>\"\",\"OK\",IF(AND(#REF!<>\"\",#REF!<TODAY()),\"Retard\",\"Attente de Livraison\")))","v":""}]
[null,null,null,null,null,null,null,null,{"$f":"IF(F1408=\"\",\"\",IF(H1408<>\"\",\"OK\",IF(AND(#REF!<>\"\",#REF!<TODAY()),\"Retard\",\"Attente de Livraison\")))","v":""}]
[null,null,null,null,null,null,null,null,{"$f":"IF(F1409=\"\",\"\",IF(H1409<>\"\",\"OK\",IF(AND(#REF!<>\"\",#REF!<TODAY()),\"Retard\",\"Attente de Livraison\")))","v":""}]
[null,null,null,null,null,null,null,null,{"$f":"IF(F1410=\"\",\"\",IF(H1410<>\"\",\"OK\",IF(AND(#REF!<>\"\",#REF!<TODAY()),\"Retard\",\"Attente de Livraison\")))","v":""}]
[null,null,null,null,null,null,null,null,{"$f":"IF(F1411=\"\",\"\",IF(H1411<>\"\",\"OK\",IF(AND(#REF!<>\"\",#REF!<TODAY()),\"Retard\",\"Attente de Livraison\")))","v":""}]
[null,null,null,null,null,null,null,null,{"$f":"IF(F1412=\"\",\"\",IF(H1412<>\"\",\"OK\",IF(AND(#REF!<>\"\",#REF!<TODAY()),\"Retard\",\"Attente de Livraison\")))","v":""}]
[null,null,null,null,null,null,null,null,{"$f":"IF(F1413=\"\",\"\",IF(H1413<>\"\",\"OK\",IF(AND(#REF!<>\"\",#REF!<TODAY()),\"Retard\",\"Attente de Livraison\")))","v":""}]
[null,null,null,null,null,null,null,null,{"$f":"IF(F1414=\"\",\"\",IF(H1414<>\"\",\"OK\",IF(AND(#REF!<>\"\",#REF!<TODAY()),\"Retard\",\"Attente de Livraison\")))","v":""}]
[null,null,null,null,null,null,null,null,{"$f":"IF(F1415=\"\",\"\",IF(H1415<>\"\",\"OK\",IF(AND(#REF!<>\"\",#REF!<TODAY()),\"Retard\",\"Attente de Livraison\")))","v":""}]
[null,null,null,null,null,null,null,null,{"$f":"IF(F1416=\"\",\"\",IF(H1416<>\"\",\"OK\",IF(AND(#REF!<>\"\",#REF!<TODAY()),\"Retard\",\"Attente de Livraison\")))","v":""}]
[null,null,null,null,null,null,null,null,{"$f":"IF(F1417=\"\",\"\",IF(H1417<>\"\",\"OK\",IF(AND(#REF!<>\"\",#REF!<TODAY()),\"Retard\",\"Attente de Livraison\")))","v":""}]
[null,null,null,null,null,null,null,null,{"$f":"IF(F1418=\"\",\"\",IF(H1418<>\"\",\"OK\",IF(AND(#REF!<>\"\",#REF!<TODAY()),\"Retard\",\"Attente de Livraison\")))","v":""}]
[null,null,null,null,null,null,null,null,{"$f":"IF(F1419=\"\",\"\",IF(H1419<>\"\",\"OK\",IF(AND(#REF!<>\"\",#REF!<TODAY()),\"Retard\",\"Attente de Livraison\")))","v":""}]
[null,null,null,null,null,null,null,null,{"$f":"IF(F1420=\"\",\"\",IF(H1420<>\"\",\"OK\",IF(AND(#REF!<>\"\",#REF!<TODAY()),\"Retard\",\"Attente de Livraison\")))","v":""}]
[null,null,null,null,null,null,null,null,{"$f":"IF(F1421=\"\",\"\",IF(H1421<>\"\",\"OK\",IF(AND(#REF!<>\"\",#REF!<TODAY()),\"Retard\",\"Attente de Livraison\")))","v":""}]
[null,null,null,null,null,null,null,null,{"$f":"IF(F1422=\"\",\"\",IF(H1422<>\"\",\"OK\",IF(AND(#REF!<>\"\",#REF!<TODAY()),\"Retard\",\"Attente de Livraison\")))","v":""}]
[null,null,null,null,null,null,null,null,{"$f":"IF(F1423=\"\",\"\",IF(H1423<>\"\",\"OK\",IF(AND(#REF!<>\"\",#REF!<TODAY()),\"Retard\",\"Attente de Livraison\")))","v":""}]
[null,null,null,null,null,null,null,null,{"$f":"IF(F1424=\"\",\"\",IF(H1424<>\"\",\"OK\",IF(AND(#REF!<>\"\",#REF!<TODAY()),\"Retard\",\"Attente de Livraison\")))","v":""}]
[null,null,null,null,null,null,null,null,{"$f":"IF(F1425=\"\",\"\",IF(H1425<>\"\",\"OK\",IF(AND(#REF!<>\"\",#REF!<TODAY()),\"Retard\",\"Attente de Livraison\")))","v":""}]
[null,null,null,null,null,null,null,null,{"$f":"IF(F1426=\"\",\"\",IF(H1426<>\"\",\"OK\",IF(AND(#REF!<>\"\",#REF!<TODAY()),\"Retard\",\"Attente de Livraison\")))","v":""}]
[null,null,null,null,null,null,null,null,{"$f":"IF(F1427=\"\",\"\",IF(H1427<>\"\",\"OK\",IF(AND(#REF!<>\"\",#REF!<TODAY()),\"Retard\",\"Attente de Livraison\")))","v":""}]
[null,null,null,null,null,null,null,null,{"$f":"IF(F1428=\"\",\"\",IF(H1428<>\"\",\"OK\",IF(AND(#REF!<>\"\",#REF!<TODAY()),\"Retard\",\"Attente de Livraison\")))","v":""}]
[null,null,null,null,null,null,null,null,{"$f":"IF(F1429=\"\",\"\",IF(H1429<>\"\",\"OK\",IF(AND(#REF!<>\"\",#REF!<TODAY()),\"Retard\",\"Attente de Livraison\")))","v":""}]
[null,null,null,null,null,null,null,null,{"$f":"IF(F1430=\"\",\"\",IF(H1430<>\"\",\"OK\",IF(AND(#REF!<>\"\",#REF!<TODAY()),\"Retard\",\"Attente de Livraison\")))","v":""}]
[null,null,null,null,null,null,null,null,{"$f":"IF(F1431=\"\",\"\",IF(H1431<>\"\",\"OK\",IF(AND(#REF!<>\"\",#REF!<TODAY()),\"Retard\",\"Attente de Livraison\")))","v":""}]
[null,null,null,null,null,null,null,null,{"$f":"IF(F1432=\"\",\"\",IF(H1432<>\"\",\"OK\",IF(AND(#REF!<>\"\",#REF!<TODAY()),\"Retard\",\"Attente de Livraison\")))","v":""}]
[null,null,null,null,null,null,null,null,{"$f":"IF(F1433=\"\",\"\",IF(H1433<>\"\",\"OK\",IF(AND(#REF!<>\"\",#REF!<TODAY()),\"Retard\",\"Attente de Livraison\")))","v":""}]
[null,null,null,null,null,null,null,null,{"$f":"IF(F1434=\"\",\"\",IF(H1434<>\"\",\"OK\",IF(AND(#REF!<>\"\",#REF!<TODAY()),\"Retard\",\"Attente de Livraison\")))","v":""}]
[null,null,null,null,null,null,null,null,{"$f":"IF(F1435=\"\",\"\",IF(H1435<>\"\",\"OK\",IF(AND(#REF!<>\"\",#REF!<TODAY()),\"Retard\",\"Attente de Livraison\")))","v":""}]
[null,null,null,null,null,null,null,null,{"$f":"IF(F1436=\"\",\"\",IF(H1436<>\"\",\"OK\",IF(AND(#REF!<>\"\",#REF!<TODAY()),\"Retard\",\"Attente de Livraison\")))","v":""}]
[null,null,null,null,null,null,null,null,{"$f":"IF(F1437=\"\",\"\",IF(H1437<>\"\",\"OK\",IF(AND(#REF!<>\"\",#REF!<TODAY()),\"Retard\",\"Attente de Livraison\")))","v":""}]
[null,null,null,null,null,null,null,null,{"$f":"IF(F1438=\"\",\"\",IF(H1438<>\"\",\"OK\",IF(AND(#REF!<>\"\",#REF!<TODAY()),\"Retard\",\"Attente de Livraison\")))","v":""}]
[null,null,null,null,null,null,null,null,{"$f":"IF(F1439=\"\",\"\",IF(H1439<>\"\",\"OK\",IF(AND(#REF!<>\"\",#REF!<TODAY()),\"Retard\",\"Attente de Livraison\")))","v":""}]
[null,null,null,null,null,null,null,null,{"$f":"IF(F1440=\"\",\"\",IF(H1440<>\"\",\"OK\",IF(AND(#REF!<>\"\",#REF!<TODAY()),\"Retard\",\"Attente de Livraison\")))","v":""}]
[null,null,null,null,null,null,null,null,{"$f":"IF(F1441=\"\",\"\",IF(H1441<>\"\",\"OK\",IF(AND(#REF!<>\"\",#REF!<TODAY()),\"Retard\",\"Attente de Livraison\")))","v":""}]
[null,null,null,null,null,null,null,null,{"$f":"IF(F1442=\"\",\"\",IF(H1442<>\"\",\"OK\",IF(AND(#REF!<>\"\",#REF!<TODAY()),\"Retard\",\"Attente de Livraison\")))","v":""}]
[null,null,null,null,null,null,null,null,{"$f":"IF(F1443=\"\",\"\",IF(H1443<>\"\",\"OK\",IF(AND(#REF!<>\"\",#REF!<TODAY()),\"Retard\",\"Attente de Livraison\")))","v":""}]
[null,null,null,null,null,null,null,null,{"$f":"IF(F1444=\"\",\"\",IF(H1444<>\"\",\"OK\",IF(AND(#REF!<>\"\",#REF!<TODAY()),\"Retard\",\"Attente de Livraison\")))","v":""}]
[null,null,null,null,null,null,null,null,{"$f":"IF(F1445=\"\",\"\",IF(H1445<>\"\",\"OK\",IF(AND(#REF!<>\"\",#REF!<TODAY()),\"Retard\",\"Attente de Livraison\")))","v":""}]
[null,null,null,null,null,null,null,null,{"$f":"IF(F1446=\"\",\"\",IF(H1446<>\"\",\"OK\",IF(AND(#REF!<>\"\",#REF!<TODAY()),\"Retard\",\"Attente de Livraison\")))","v":""}]
[null,null,null,null,null,null,null,null,{"$f":"IF(F1447=\"\",\"\",IF(H1447<>\"\",\"OK\",IF(AND(#REF!<>\"\",#REF!<TODAY()),\"Retard\",\"Attente de Livraison\")))","v":""}]
[null,null,null,null,null,null,null,null,{"$f":"IF(F1448=\"\",\"\",IF(H1448<>\"\",\"OK\",IF(AND(#REF!<>\"\",#REF!<TODAY()),\"Retard\",\"Attente de Livraison\")))","v":""}]
[null,null,null,null,null,null,null,null,{"$f":"IF(F1449=\"\",\"\",IF(H1449<>\"\",\"OK\",IF(AND(#REF!<>\"\",#REF!<TODAY()),\"Retard\",\"Attente de Livraison\")))","v":""}]
[null,null,null,null,null,null,null,null,{"$f":"IF(F1450=\"\",\"\",IF(H1450<>\"\",\"OK\",IF(AND(#REF!<>\"\",#REF!<TODAY()),\"Retard\",\"Attente de Livraison\")))","v":""}]
[null,null,null,null,null,null,null,null,{"$f":"IF(F1451=\"\",\"\",IF(H1451<>\"\",\"OK\",IF(AND(#REF!<>\"\",#REF!<TODAY()),\"Retard\",\"Attente de Livraison\")))","v":""}]
[null,null,null,null,null,null,null,null,{"$f":"IF(F1452=\"\",\"\",IF(H1452<>\"\",\"OK\",IF(AND(#REF!<>\"\",#REF!<TODAY()),\"Retard\",\"Attente de Livraison\")))","v":""}]
[null,null,null,null,null,null,null,null,{"$f":"IF(F1453=\"\",\"\",IF(H1453<>\"\",\"OK\",IF(AND(#REF!<>\"\",#REF!<TODAY()),\"Retard\",\"Attente de Livraison\")))","v":""}]
[null,null,null,null,null,null,null,null,{"$f":"IF(F1454=\"\",\"\",IF(H1454<>\"\",\"OK\",IF(AND(#REF!<>\"\",#REF!<TODAY()),\"Retard\",\"Attente de Livraison\")))","v":""}]
[null,null,null,null,null,null,null,null,{"$f":"IF(F1455=\"\",\"\",IF(H1455<>\"\",\"OK\",IF(AND(#REF!<>\"\",#REF!<TODAY()),\"Retard\",\"Attente de Livraison\")))","v":""}]
[null,null,null,null,null,null,null,null,{"$f":"IF(F1456=\"\",\"\",IF(H1456<>\"\",\"OK\",IF(AND(#REF!<>\"\",#REF!<TODAY()),\"Retard\",\"Attente de Livraison\")))","v":""}]
[null,null,null,null,null,null,null,null,{"$f":"IF(F1457=\"\",\"\",IF(H1457<>\"\",\"OK\",IF(AND(#REF!<>\"\",#REF!<TODAY()),\"Retard\",\"Attente de Livraison\")))","v":""}]
[null,null,null,null,null,null,null,null,{"$f":"IF(F1458=\"\",\"\",IF(H1458<>\"\",\"OK\",IF(AND(#REF!<>\"\",#REF!<TODAY()),\"Retard\",\"Attente de Livraison\")))","v":""}]
[null,null,null,null,null,null,null,null,{"$f":"IF(F1459=\"\",\"\",IF(H1459<>\"\",\"OK\",IF(AND(#REF!<>\"\",#REF!<TODAY()),\"Retard\",\"Attente de Livraison\")))","v":""}]
[null,null,null,null,null,null,null,null,{"$f":"IF(F1460=\"\",\"\",IF(H1460<>\"\",\"OK\",IF(AND(#REF!<>\"\",#REF!<TODAY()),\"Retard\",\"Attente de Livraison\")))","v":""}]
[null,null,null,null,null,null,null,null,{"$f":"IF(F1461=\"\",\"\",IF(H1461<>\"\",\"OK\",IF(AND(#REF!<>\"\",#REF!<TODAY()),\"Retard\",\"Attente de Livraison\")))","v":""}]
[null,null,null,null,null,null,null,null,{"$f":"IF(F1462=\"\",\"\",IF(H1462<>\"\",\"OK\",IF(AND(#REF!<>\"\",#REF!<TODAY()),\"Retard\",\"Attente de Livraison\")))","v":""}]
[null,null,null,null,null,null,null,null,{"$f":"IF(F1463=\"\",\"\",IF(H1463<>\"\",\"OK\",IF(AND(#REF!<>\"\",#REF!<TODAY()),\"Retard\",\"Attente de Livraison\")))","v":""}]
[null,null,null,null,null,null,null,null,{"$f":"IF(F1464=\"\",\"\",IF(H1464<>\"\",\"OK\",IF(AND(#REF!<>\"\",#REF!<TODAY()),\"Retard\",\"Attente de Livraison\")))","v":""}]
[null,null,null,null,null,null,null,null,{"$f":"IF(F1465=\"\",\"\",IF(H1465<>\"\",\"OK\",IF(AND(#REF!<>\"\",#REF!<TODAY()),\"Retard\",\"Attente de Livraison\")))","v":""}]
[null,null,null,null,null,null,null,null,{"$f":"IF(F1466=\"\",\"\",IF(H1466<>\"\",\"OK\",IF(AND(#REF!<>\"\",#REF!<TODAY()),\"Retard\",\"Attente de Livraison\")))","v":""}]
[null,null,null,null,null,null,null,null,{"$f":"IF(F1467=\"\",\"\",IF(H1467<>\"\",\"OK\",IF(AND(#REF!<>\"\",#REF!<TODAY()),\"Retard\",\"Attente de Livraison\")))","v":""}]
[null,null,null,null,null,null,null,null,{"$f":"IF(F1468=\"\",\"\",IF(H1468<>\"\",\"OK\",IF(AND(#REF!<>\"\",#REF!<TODAY()),\"Retard\",\"Attente de Livraison\")))","v":""}]
[null,null,null,null,null,null,null,null,{"$f":"IF(F1469=\"\",\"\",IF(H1469<>\"\",\"OK\",IF(AND(#REF!<>\"\",#REF!<TODAY()),\"Retard\",\"Attente de Livraison\")))","v":""}]
[null,null,null,null,null,null,null,null,{"$f":"IF(F1470=\"\",\"\",IF(H1470<>\"\",\"OK\",IF(AND(#REF!<>\"\",#REF!<TODAY()),\"Retard\",\"Attente de Livraison\")))","v":""}]
[null,null,null,null,null,null,null,null,{"$f":"IF(F1471=\"\",\"\",IF(H1471<>\"\",\"OK\",IF(AND(#REF!<>\"\",#REF!<TODAY()),\"Retard\",\"Attente de Livraison\")))","v":""}]
[null,null,null,null,null,null,null,null,{"$f":"IF(F1472=\"\",\"\",IF(H1472<>\"\",\"OK\",IF(AND(#REF!<>\"\",#REF!<TODAY()),\"Retard\",\"Attente de Livraison\")))","v":""}]
[null,null,null,null,null,null,null,null,{"$f":"IF(F1473=\"\",\"\",IF(H1473<>\"\",\"OK\",IF(AND(#REF!<>\"\",#REF!<TODAY()),\"Retard\",\"Attente de Livraison\")))","v":""}]
[null,null,null,null,null,null,null,null,{"$f":"IF(F1474=\"\",\"\",IF(H1474<>\"\",\"OK\",IF(AND(#REF!<>\"\",#REF!<TODAY()),\"Retard\",\"Attente de Livraison\")))","v":""}]
[null,null,null,null,null,null,null,null,{"$f":"IF(F1475=\"\",\"\",IF(H1475<>\"\",\"OK\",IF(AND(#REF!<>\"\",#REF!<TODAY()),\"Retard\",\"Attente de Livraison\")))","v":""}]
[null,null,null,null,null,null,null,null,{"$f":"IF(F1476=\"\",\"\",IF(H1476<>\"\",\"OK\",IF(AND(#REF!<>\"\",#REF!<TODAY()),\"Retard\",\"Attente de Livraison\")))","v":""}]
[null,null,null,null,null,null,null,null,{"$f":"IF(F1477=\"\",\"\",IF(H1477<>\"\",\"OK\",IF(AND(#REF!<>\"\",#REF!<TODAY()),\"Retard\",\"Attente de Livraison\")))","v":""}]
[null,null,null,null,null,null,null,null,{"$f":"IF(F1478=\"\",\"\",IF(H1478<>\"\",\"OK\",IF(AND(#REF!<>\"\",#REF!<TODAY()),\"Retard\",\"Attente de Livraison\")))","v":""}]
[null,null,null,null,null,null,null,null,{"$f":"IF(F1479=\"\",\"\",IF(H1479<>\"\",\"OK\",IF(AND(#REF!<>\"\",#REF!<TODAY()),\"Retard\",\"Attente de Livraison\")))","v":""}]
[null,null,null,null,null,null,null,null,{"$f":"IF(F1480=\"\",\"\",IF(H1480<>\"\",\"OK\",IF(AND(#REF!<>\"\",#REF!<TODAY()),\"Retard\",\"Attente de Livraison\")))","v":""}]
[null,null,null,null,null,null,null,null,{"$f":"IF(F1481=\"\",\"\",IF(H1481<>\"\",\"OK\",IF(AND(#REF!<>\"\",#REF!<TODAY()),\"Retard\",\"Attente de Livraison\")))","v":""}]
[null,null,null,null,null,null,null,null,{"$f":"IF(F1482=\"\",\"\",IF(H1482<>\"\",\"OK\",IF(AND(#REF!<>\"\",#REF!<TODAY()),\"Retard\",\"Attente de Livraison\")))","v":""}]
[null,null,null,null,null,null,null,null,{"$f":"IF(F1483=\"\",\"\",IF(H1483<>\"\",\"OK\",IF(AND(#REF!<>\"\",#REF!<TODAY()),\"Retard\",\"Attente de Livraison\")))","v":""}]
[null,null,null,null,null,null,null,null,{"$f":"IF(F1484=\"\",\"\",IF(H1484<>\"\",\"OK\",IF(AND(#REF!<>\"\",#REF!<TODAY()),\"Retard\",\"Attente de Livraison\")))","v":""}]
[null,null,null,null,null,null,null,null,{"$f":"IF(F1485=\"\",\"\",IF(H1485<>\"\",\"OK\",IF(AND(#REF!<>\"\",#REF!<TODAY()),\"Retard\",\"Attente de Livraison\")))","v":""}]
[null,null,null,null,null,null,null,null,{"$f":"IF(F1486=\"\",\"\",IF(H1486<>\"\",\"OK\",IF(AND(#REF!<>\"\",#REF!<TODAY()),\"Retard\",\"Attente de Livraison\")))","v":""}]
[null,null,null,null,null,null,null,null,{"$f":"IF(F1487=\"\",\"\",IF(H1487<>\"\",\"OK\",IF(AND(#REF!<>\"\",#REF!<TODAY()),\"Retard\",\"Attente de Livraison\")))","v":""}]
[null,null,null,null,null,null,null,null,{"$f":"IF(F1488=\"\",\"\",IF(H1488<>\"\",\"OK\",IF(AND(#REF!<>\"\",#REF!<TODAY()),\"Retard\",\"Attente de Livraison\")))","v":""}]
[null,null,null,null,null,null,null,null,{"$f":"IF(F1489=\"\",\"\",IF(H1489<>\"\",\"OK\",IF(AND(#REF!<>\"\",#REF!<TODAY()),\"Retard\",\"Attente de Livraison\")))","v":""}]
[null,null,null,null,null,null,null,null,{"$f":"IF(F1490=\"\",\"\",IF(H1490<>\"\",\"OK\",IF(AND(#REF!<>\"\",#REF!<TODAY()),\"Retard\",\"Attente de Livraison\")))","v":""}]
[null,null,null,null,null,null,null,null,{"$f":"IF(F1491=\"\",\"\",IF(H1491<>\"\",\"OK\",IF(AND(#REF!<>\"\",#REF!<TODAY()),\"Retard\",\"Attente de Livraison\")))","v":""}]
[null,null,null,null,null,null,null,null,{"$f":"IF(F1492=\"\",\"\",IF(H1492<>\"\",\"OK\",IF(AND(#REF!<>\"\",#REF!<TODAY()),\"Retard\",\"Attente de Livraison\")))","v":""}]
[null,null,null,null,null,null,null,null,{"$f":"IF(F1493=\"\",\"\",IF(H1493<>\"\",\"OK\",IF(AND(#REF!<>\"\",#REF!<TODAY()),\"Retard\",\"Attente de Livraison\")))","v":""}]
[null,null,null,null,null,null,null,null,{"$f":"IF(F1494=\"\",\"\",IF(H1494<>\"\",\"OK\",IF(AND(#REF!<>\"\",#REF!<TODAY()),\"Retard\",\"Attente de Livraison\")))","v":""}]
[null,null,null,null,null,null,null,null,{"$f":"IF(F1495=\"\",\"\",IF(H1495<>\"\",\"OK\",IF(AND(#REF!<>\"\",#REF!<TODAY()),\"Retard\",\"Attente de Livraison\")))","v":""}]
[null,null,null,null,null,null,null,null,{"$f":"IF(F1496=\"\",\"\",IF(H1496<>\"\",\"OK\",IF(AND(#REF!<>\"\",#REF!<TODAY()),\"Retard\",\"Attente de Livraison\")))","v":""}]
[null,null,null,null,null,null,null,null,{"$f":"IF(F1497=\"\",\"\",IF(H1497<>\"\",\"OK\",IF(AND(#REF!<>\"\",#REF!<TODAY()),\"Retard\",\"Attente de Livraison\")))","v":""}]
[null,null,null,null,null,null,null,null,{"$f":"IF(F1498=\"\",\"\",IF(H1498<>\"\",\"OK\",IF(AND(#REF!<>\"\",#REF!<TODAY()),\"Retard\",\"Attente de Livraison\")))","v":""}]
[null,null,null,null,null,null,null,null,{"$f":"IF(F1499=\"\",\"\",IF(H1499<>\"\",\"OK\",IF(AND(#REF!<>\"\",#REF!<TODAY()),\"Retard\",\"Attente de Livraison\")))","v":""}]
[null,null,null,null,null,null,null,null,{"$f":"IF(F1500=\"\",\"\",IF(H1500<>\"\",\"OK\",IF(AND(#REF!<>\"\",#REF!<TODAY()),\"Retard\",\"Attente de Livraison\")))","v":""}]
[null,null,null,null,null,null,null,null,{"$f":"IF(F1501=\"\",\"\",IF(H1501<>\"\",\"OK\",IF(AND(#REF!<>\"\",#REF!<TODAY()),\"Retard\",\"Attente de Livraison\")))","v":""}]
[null,null,null,null,null,null,null,null,{"$f":"IF(F1502=\"\",\"\",IF(H1502<>\"\",\"OK\",IF(AND(#REF!<>\"\",#REF!<TODAY()),\"Retard\",\"Attente de Livraison\")))","v":""}]
[null,null,null,null,null,null,null,null,{"$f":"IF(F1503=\"\",\"\",IF(H1503<>\"\",\"OK\",IF(AND(#REF!<>\"\",#REF!<TODAY()),\"Retard\",\"Attente de Livraison\")))","v":""}]
[null,null,null,null,null,null,null,null,{"$f":"IF(F1504=\"\",\"\",IF(H1504<>\"\",\"OK\",IF(AND(#REF!<>\"\",#REF!<TODAY()),\"Retard\",\"Attente de Livraison\")))","v":""}]
[null,null,null,null,null,null,null,null,{"$f":"IF(F1505=\"\",\"\",IF(H1505<>\"\",\"OK\",IF(AND(#REF!<>\"\",#REF!<TODAY()),\"Retard\",\"Attente de Livraison\")))","v":""}]
[null,null,null,null,null,null,null,null,{"$f":"IF(F1506=\"\",\"\",IF(H1506<>\"\",\"OK\",IF(AND(#REF!<>\"\",#REF!<TODAY()),\"Retard\",\"Attente de Livraison\")))","v":""}]
[null,null,null,null,null,null,null,null,{"$f":"IF(F1507=\"\",\"\",IF(H1507<>\"\",\"OK\",IF(AND(#REF!<>\"\",#REF!<TODAY()),\"Retard\",\"Attente de Livraison\")))","v":""}]
[null,null,null,null,null,null,null,null,{"$f":"IF(F1508=\"\",\"\",IF(H1508<>\"\",\"OK\",IF(AND(#REF!<>\"\",#REF!<TODAY()),\"Retard\",\"Attente de Livraison\")))","v":""}]
[null,null,null,null,null,null,null,null,{"$f":"IF(F1509=\"\",\"\",IF(H1509<>\"\",\"OK\",IF(AND(#REF!<>\"\",#REF!<TODAY()),\"Retard\",\"Attente de Livraison\")))","v":""}]
[null,null,null,null,null,null,null,null,{"$f":"IF(F1510=\"\",\"\",IF(H1510<>\"\",\"OK\",IF(AND(#REF!<>\"\",#REF!<TODAY()),\"Retard\",\"Attente de Livraison\")))","v":""}]
[null,null,null,null,null,null,null,null,{"$f":"IF(F1511=\"\",\"\",IF(H1511<>\"\",\"OK\",IF(AND(#REF!<>\"\",#REF!<TODAY()),\"Retard\",\"Attente de Livraison\")))","v":""}]
[null,null,null,null,null,null,null,null,{"$f":"IF(F1512=\"\",\"\",IF(H1512<>\"\",\"OK\",IF(AND(#REF!<>\"\",#REF!<TODAY()),\"Retard\",\"Attente de Livraison\")))","v":""}]
[null,null,null,null,null,null,null,null,{"$f":"IF(F1513=\"\",\"\",IF(H1513<>\"\",\"OK\",IF(AND(#REF!<>\"\",#REF!<TODAY()),\"Retard\",\"Attente de Livraison\")))","v":""}]
[null,null,null,null,null,null,null,null,{"$f":"IF(F1514=\"\",\"\",IF(H1514<>\"\",\"OK\",IF(AND(#REF!<>\"\",#REF!<TODAY()),\"Retard\",\"Attente de Livraison\")))","v":""}]
[null,null,null,null,null,null,null,null,{"$f":"IF(F1515=\"\",\"\",IF(H1515<>\"\",\"OK\",IF(AND(#REF!<>\"\",#REF!<TODAY()),\"Retard\",\"Attente de Livraison\")))","v":""}]
[null,null,null,null,null,null,null,null,{"$f":"IF(F1516=\"\",\"\",IF(H1516<>\"\",\"OK\",IF(AND(#REF!<>\"\",#REF!<TODAY()),\"Retard\",\"Attente de Livraison\")))","v":""}]
[null,null,null,null,null,null,null,null,{"$f":"IF(F1517=\"\",\"\",IF(H1517<>\"\",\"OK\",IF(AND(#REF!<>\"\",#REF!<TODAY()),\"Retard\",\"Attente de Livraison\")))","v":""}]
[null,null,null,null,null,null,null,null,{"$f":"IF(F1518=\"\",\"\",IF(H1518<>\"\",\"OK\",IF(AND(#REF!<>\"\",#REF!<TODAY()),\"Retard\",\"Attente de Livraison\")))","v":""}]
[null,null,null,null,null,null,null,null,{"$f":"IF(F1519=\"\",\"\",IF(H1519<>\"\",\"OK\",IF(AND(#REF!<>\"\",#REF!<TODAY()),\"Retard\",\"Attente de Livraison\")))","v":""}]
[null,null,null,null,null,null,null,null,{"$f":"IF(F1520=\"\",\"\",IF(H1520<>\"\",\"OK\",IF(AND(#REF!<>\"\",#REF!<TODAY()),\"Retard\",\"Attente de Livraison\")))","v":""}]
[null,null,null,null,null,null,null,null,{"$f":"IF(F1521=\"\",\"\",IF(H1521<>\"\",\"OK\",IF(AND(#REF!<>\"\",#REF!<TODAY()),\"Retard\",\"Attente de Livraison\")))","v":""}]
[null,null,null,null,null,null,null,null,{"$f":"IF(F1522=\"\",\"\",IF(H1522<>\"\",\"OK\",IF(AND(#REF!<>\"\",#REF!<TODAY()),\"Retard\",\"Attente de Livraison\")))","v":""}]
[null,null,null,null,null,null,null,null,{"$f":"IF(F1523=\"\",\"\",IF(H1523<>\"\",\"OK\",IF(AND(#REF!<>\"\",#REF!<TODAY()),\"Retard\",\"Attente de Livraison\")))","v":""}]
[null,null,null,null,null,null,null,null,{"$f":"IF(F1524=\"\",\"\",IF(H1524<>\"\",\"OK\",IF(AND(#REF!<>\"\",#REF!<TODAY()),\"Retard\",\"Attente de Livraison\")))","v":""}]
[null,null,null,null,null,null,null,null,{"$f":"IF(F1525=\"\",\"\",IF(H1525<>\"\",\"OK\",IF(AND(#REF!<>\"\",#REF!<TODAY()),\"Retard\",\"Attente de Livraison\")))","v":""}]
[null,null,null,null,null,null,null,null,{"$f":"IF(F1526=\"\",\"\",IF(H1526<>\"\",\"OK\",IF(AND(#REF!<>\"\",#REF!<TODAY()),\"Retard\",\"Attente de Livraison\")))","v":""}]
[null,null,null,null,null,null,null,null,{"$f":"IF(F1527=\"\",\"\",IF(H1527<>\"\",\"OK\",IF(AND(#REF!<>\"\",#REF!<TODAY()),\"Retard\",\"Attente de Livraison\")))","v":""}]
[null,null,null,null,null,null,null,null,{"$f":"IF(F1528=\"\",\"\",IF(H1528<>\"\",\"OK\",IF(AND(#REF!<>\"\",#REF!<TODAY()),\"Retard\",\"Attente de Livraison\")))","v":""}]
[null,null,null,null,null,null,null,null,{"$f":"IF(F1529=\"\",\"\",IF(H1529<>\"\",\"OK\",IF(AND(#REF!<>\"\",#REF!<TODAY()),\"Retard\",\"Attente de Livraison\")))","v":""}]
[null,null,null,null,null,null,null,null,{"$f":"IF(F1530=\"\",\"\",IF(H1530<>\"\",\"OK\",IF(AND(#REF!<>\"\",#REF!<TODAY()),\"Retard\",\"Attente de Livraison\")))","v":""}]
[null,null,null,null,null,null,null,null,{"$f":"IF(F1531=\"\",\"\",IF(H1531<>\"\",\"OK\",IF(AND(#REF!<>\"\",#REF!<TODAY()),\"Retard\",\"Attente de Livraison\")))","v":""}]
[null,null,null,null,null,null,null,null,{"$f":"IF(F1532=\"\",\"\",IF(H1532<>\"\",\"OK\",IF(AND(#REF!<>\"\",#REF!<TODAY()),\"Retard\",\"Attente de Livraison\")))","v":""}]
[null,null,null,null,null,null,null,null,{"$f":"IF(F1533=\"\",\"\",IF(H1533<>\"\",\"OK\",IF(AND(#REF!<>\"\",#REF!<TODAY()),\"Retard\",\"Attente de Livraison\")))","v":""}]
[null,null,null,null,null,null,null,null,{"$f":"IF(F1534=\"\",\"\",IF(H1534<>\"\",\"OK\",IF(AND(#REF!<>\"\",#REF!<TODAY()),\"Retard\",\"Attente de Livraison\")))","v":""}]
[null,null,null,null,null,null,null,null,{"$f":"IF(F1535=\"\",\"\",IF(H1535<>\"\",\"OK\",IF(AND(#REF!<>\"\",#REF!<TODAY()),\"Retard\",\"Attente de Livraison\")))","v":""}]
[null,null,null,null,null,null,null,null,{"$f":"IF(F1536=\"\",\"\",IF(H1536<>\"\",\"OK\",IF(AND(#REF!<>\"\",#REF!<TODAY()),\"Retard\",\"Attente de Livraison\")))","v":""}]
[null,null,null,null,null,null,null,null,{"$f":"IF(F1537=\"\",\"\",IF(H1537<>\"\",\"OK\",IF(AND(#REF!<>\"\",#REF!<TODAY()),\"Retard\",\"Attente de Livraison\")))","v":""}]
[null,null,null,null,null,null,null,null,{"$f":"IF(F1538=\"\",\"\",IF(H1538<>\"\",\"OK\",IF(AND(#REF!<>\"\",#REF!<TODAY()),\"Retard\",\"Attente de Livraison\")))","v":""}]
[null,null,null,null,null,null,null,null,{"$f":"IF(F1539=\"\",\"\",IF(H1539<>\"\",\"OK\",IF(AND(#REF!<>\"\",#REF!<TODAY()),\"Retard\",\"Attente de Livraison\")))","v":""}]
[null,null,null,null,null,null,null,null,{"$f":"IF(F1540=\"\",\"\",IF(H1540<>\"\",\"OK\",IF(AND(#REF!<>\"\",#REF!<TODAY()),\"Retard\",\"Attente de Livraison\")))","v":""}]
[null,null,null,null,null,null,null,null,{"$f":"IF(F1541=\"\",\"\",IF(H1541<>\"\",\"OK\",IF(AND(#REF!<>\"\",#REF!<TODAY()),\"Retard\",\"Attente de Livraison\")))","v":""}]
[null,null,null,null,null,null,null,null,{"$f":"IF(F1542=\"\",\"\",IF(H1542<>\"\",\"OK\",IF(AND(#REF!<>\"\",#REF!<TODAY()),\"Retard\",\"Attente de Livraison\")))","v":""}]
[null,null,null,null,null,null,null,null,{"$f":"IF(F1543=\"\",\"\",IF(H1543<>\"\",\"OK\",IF(AND(#REF!<>\"\",#REF!<TODAY()),\"Retard\",\"Attente de Livraison\")))","v":""}]
[null,null,null,null,null,null,null,null,{"$f":"IF(F1544=\"\",\"\",IF(H1544<>\"\",\"OK\",IF(AND(#REF!<>\"\",#REF!<TODAY()),\"Retard\",\"Attente de Livraison\")))","v":""}]
[null,null,null,null,null,null,null,null,{"$f":"IF(F1545=\"\",\"\",IF(H1545<>\"\",\"OK\",IF(AND(#REF!<>\"\",#REF!<TODAY()),\"Retard\",\"Attente de Livraison\")))","v":""}]
[null,null,null,null,null,null,null,null,{"$f":"IF(F1546=\"\",\"\",IF(H1546<>\"\",\"OK\",IF(AND(#REF!<>\"\",#REF!<TODAY()),\"Retard\",\"Attente de Livraison\")))","v":""}]
[null,null,null,null,null,null,null,null,{"$f":"IF(F1547=\"\",\"\",IF(H1547<>\"\",\"OK\",IF(AND(#REF!<>\"\",#REF!<TODAY()),\"Retard\",\"Attente de Livraison\")))","v":""}]
[null,null,null,null,null,null,null,null,{"$f":"IF(F1548=\"\",\"\",IF(H1548<>\"\",\"OK\",IF(AND(#REF!<>\"\",#REF!<TODAY()),\"Retard\",\"Attente de Livraison\")))","v":""}]
[null,null,null,null,null,null,null,null,{"$f":"IF(F1549=\"\",\"\",IF(H1549<>\"\",\"OK\",IF(AND(#REF!<>\"\",#REF!<TODAY()),\"Retard\",\"Attente de Livraison\")))","v":""}]
[null,null,null,null,null,null,null,null,{"$f":"IF(F1550=\"\",\"\",IF(H1550<>\"\",\"OK\",IF(AND(#REF!<>\"\",#REF!<TODAY()),\"Retard\",\"Attente de Livraison\")))","v":""}]
[null,null,null,null,null,null,null,null,{"$f":"IF(F1551=\"\",\"\",IF(H1551<>\"\",\"OK\",IF(AND(#REF!<>\"\",#REF!<TODAY()),\"Retard\",\"Attente de Livraison\")))","v":""}]
[null,null,null,null,null,null,null,null,{"$f":"IF(F1552=\"\",\"\",IF(H1552<>\"\",\"OK\",IF(AND(#REF!<>\"\",#REF!<TODAY()),\"Retard\",\"Attente de Livraison\")))","v":""}]
[null,null,null,null,null,null,null,null,{"$f":"IF(F1553=\"\",\"\",IF(H1553<>\"\",\"OK\",IF(AND(#REF!<>\"\",#REF!<TODAY()),\"Retard\",\"Attente de Livraison\")))","v":""}]
[null,null,null,null,null,null,null,null,{"$f":"IF(F1554=\"\",\"\",IF(H1554<>\"\",\"OK\",IF(AND(#REF!<>\"\",#REF!<TODAY()),\"Retard\",\"Attente de Livraison\")))","v":""}]
[null,null,null,null,null,null,null,null,{"$f":"IF(F1555=\"\",\"\",IF(H1555<>\"\",\"OK\",IF(AND(#REF!<>\"\",#REF!<TODAY()),\"Retard\",\"Attente de Livraison\")))","v":""}]
[null,null,null,null,null,null,null,null,{"$f":"IF(F1556=\"\",\"\",IF(H1556<>\"\",\"OK\",IF(AND(#REF!<>\"\",#REF!<TODAY()),\"Retard\",\"Attente de Livraison\")))","v":""}]
[null,null,null,null,null,null,null,null,{"$f":"IF(F1557=\"\",\"\",IF(H1557<>\"\",\"OK\",IF(AND(#REF!<>\"\",#REF!<TODAY()),\"Retard\",\"Attente de Livraison\")))","v":""}]
[null,null,null,null,null,null,null,null,{"$f":"IF(F1558=\"\",\"\",IF(H1558<>\"\",\"OK\",IF(AND(#REF!<>\"\",#REF!<TODAY()),\"Retard\",\"Attente de Livraison\")))","v":""}]
[null,null,null,null,null,null,null,null,{"$f":"IF(F1559=\"\",\"\",IF(H1559<>\"\",\"OK\",IF(AND(#REF!<>\"\",#REF!<TODAY()),\"Retard\",\"Attente de Livraison\")))","v":""}]
[null,null,null,null,null,null,null,null,{"$f":"IF(F1560=\"\",\"\",IF(H1560<>\"\",\"OK\",IF(AND(#REF!<>\"\",#REF!<TODAY()),\"Retard\",\"Attente de Livraison\")))","v":""}]
[null,null,null,null,null,null,null,null,{"$f":"IF(F1561=\"\",\"\",IF(H1561<>\"\",\"OK\",IF(AND(#REF!<>\"\",#REF!<TODAY()),\"Retard\",\"Attente de Livraison\")))","v":""}]
[null,null,null,null,null,null,null,null,{"$f":"IF(F1562=\"\",\"\",IF(H1562<>\"\",\"OK\",IF(AND(#REF!<>\"\",#REF!<TODAY()),\"Retard\",\"Attente de Livraison\")))","v":""}]
[null,null,null,null,null,null,null,null,{"$f":"IF(F1563=\"\",\"\",IF(H1563<>\"\",\"OK\",IF(AND(#REF!<>\"\",#REF!<TODAY()),\"Retard\",\"Attente de Livraison\")))","v":""}]
[null,null,null,null,null,null,null,null,{"$f":"IF(F1564=\"\",\"\",IF(H1564<>\"\",\"OK\",IF(AND(#REF!<>\"\",#REF!<TODAY()),\"Retard\",\"Attente de Livraison\")))","v":""}]
[null,null,null,null,null,null,null,null,{"$f":"IF(F1565=\"\",\"\",IF(H1565<>\"\",\"OK\",IF(AND(#REF!<>\"\",#REF!<TODAY()),\"Retard\",\"Attente de Livraison\")))","v":""}]
[null,null,null,null,null,null,null,null,{"$f":"IF(F1566=\"\",\"\",IF(H1566<>\"\",\"OK\",IF(AND(#REF!<>\"\",#REF!<TODAY()),\"Retard\",\"Attente de Livraison\")))","v":""}]
[null,null,null,null,null,null,null,null,{"$f":"IF(F1567=\"\",\"\",IF(H1567<>\"\",\"OK\",IF(AND(#REF!<>\"\",#REF!<TODAY()),\"Retard\",\"Attente de Livraison\")))","v":""}]
[null,null,null,null,null,null,null,null,{"$f":"IF(F1568=\"\",\"\",IF(H1568<>\"\",\"OK\",IF(AND(#REF!<>\"\",#REF!<TODAY()),\"Retard\",\"Attente de Livraison\")))","v":""}]
[null,null,null,null,null,null,null,null,{"$f":"IF(F1569=\"\",\"\",IF(H1569<>\"\",\"OK\",IF(AND(#REF!<>\"\",#REF!<TODAY()),\"Retard\",\"Attente de Livraison\")))","v":""}]
[null,null,null,null,null,null,null,null,{"$f":"IF(F1570=\"\",\"\",IF(H1570<>\"\",\"OK\",IF(AND(#REF!<>\"\",#REF!<TODAY()),\"Retard\",\"Attente de Livraison\")))","v":""}]
[null,null,null,null,null,null,null,null,{"$f":"IF(F1571=\"\",\"\",IF(H1571<>\"\",\"OK\",IF(AND(#REF!<>\"\",#REF!<TODAY()),\"Retard\",\"Attente de Livraison\")))","v":""}]
[null,null,null,null,null,null,null,null,{"$f":"IF(F1572=\"\",\"\",IF(H1572<>\"\",\"OK\",IF(AND(#REF!<>\"\",#REF!<TODAY()),\"Retard\",\"Attente de Livraison\")))","v":""}]
[null,null,null,null,null,null,null,null,{"$f":"IF(F1573=\"\",\"\",IF(H1573<>\"\",\"OK\",IF(AND(#REF!<>\"\",#REF!<TODAY()),\"Retard\",\"Attente de Livraison\")))","v":""}]
[null,null,null,null,null,null,null,null,{"$f":"IF(F1574=\"\",\"\",IF(H1574<>\"\",\"OK\",IF(AND(#REF!<>\"\",#REF!<TODAY()),\"Retard\",\"Attente de Livraison\")))","v":""}]
[null,null,null,null,null,null,null,null,{"$f":"IF(F1575=\"\",\"\",IF(H1575<>\"\",\"OK\",IF(AND(#REF!<>\"\",#REF!<TODAY()),\"Retard\",\"Attente de Livraison\")))","v":""}]
[null,null,null,null,null,null,null,null,{"$f":"IF(F1576=\"\",\"\",IF(H1576<>\"\",\"OK\",IF(AND(#REF!<>\"\",#REF!<TODAY()),\"Retard\",\"Attente de Livraison\")))","v":""}]
[null,null,null,null,null,null,null,null,{"$f":"IF(F1577=\"\",\"\",IF(H1577<>\"\",\"OK\",IF(AND(#REF!<>\"\",#REF!<TODAY()),\"Retard\",\"Attente de Livraison\")))","v":""}]
[null,null,null,null,null,null,null,null,{"$f":"IF(F1578=\"\",\"\",IF(H1578<>\"\",\"OK\",IF(AND(#REF!<>\"\",#REF!<TODAY()),\"Retard\",\"Attente de Livraison\")))","v":""}]
[null,null,null,null,null,null,null,null,{"$f":"IF(F1579=\"\",\"\",IF(H1579<>\"\",\"OK\",IF(AND(#REF!<>\"\",#REF!<TODAY()),\"Retard\",\"Attente de Livraison\")))","v":""}]
[null,null,null,null,null,null,null,null,{"$f":"IF(F1580=\"\",\"\",IF(H1580<>\"\",\"OK\",IF(AND(#REF!<>\"\",#REF!<TODAY()),\"Retard\",\"Attente de Livraison\")))","v":""}]
[null,null,null,null,null,null,null,null,{"$f":"IF(F1581=\"\",\"\",IF(H1581<>\"\",\"OK\",IF(AND(#REF!<>\"\",#REF!<TODAY()),\"Retard\",\"Attente de Livraison\")))","v":""}]
[null,null,null,null,null,null,null,null,{"$f":"IF(F1582=\"\",\"\",IF(H1582<>\"\",\"OK\",IF(AND(#REF!<>\"\",#REF!<TODAY()),\"Retard\",\"Attente de Livraison\")))","v":""}]
[null,null,null,null,null,null,null,null,{"$f":"IF(F1583=\"\",\"\",IF(H1583<>\"\",\"OK\",IF(AND(#REF!<>\"\",#REF!<TODAY()),\"Retard\",\"Attente de Livraison\")))","v":""}]
[null,null,null,null,null,null,null,null,{"$f":"IF(F1584=\"\",\"\",IF(H1584<>\"\",\"OK\",IF(AND(#REF!<>\"\",#REF!<TODAY()),\"Retard\",\"Attente de Livraison\")))","v":""}]
[null,null,null,null,null,null,null,null,{"$f":"IF(F1585=\"\",\"\",IF(H1585<>\"\",\"OK\",IF(AND(#REF!<>\"\",#REF!<TODAY()),\"Retard\",\"Attente de Livraison\")))","v":""}]
[null,null,null,null,null,null,null,null,{"$f":"IF(F1586=\"\",\"\",IF(H1586<>\"\",\"OK\",IF(AND(#REF!<>\"\",#REF!<TODAY()),\"Retard\",\"Attente de Livraison\")))","v":""}]
[null,null,null,null,null,null,null,null,{"$f":"IF(F1587=\"\",\"\",IF(H1587<>\"\",\"OK\",IF(AND(#REF!<>\"\",#REF!<TODAY()),\"Retard\",\"Attente de Livraison\")))","v":""}]
[null,null,null,null,null,null,null,null,{"$f":"IF(F1588=\"\",\"\",IF(H1588<>\"\",\"OK\",IF(AND(#REF!<>\"\",#REF!<TODAY()),\"Retard\",\"Attente de Livraison\")))","v":""}]
[null,null,null,null,null,null,null,null,{"$f":"IF(F1589=\"\",\"\",IF(H1589<>\"\",\"OK\",IF(AND(#REF!<>\"\",#REF!<TODAY()),\"Retard\",\"Attente de Livraison\")))","v":""}]
[null,null,null,null,null,null,null,null,{"$f":"IF(F1590=\"\",\"\",IF(H1590<>\"\",\"OK\",IF(AND(#REF!<>\"\",#REF!<TODAY()),\"Retard\",\"Attente de Livraison\")))","v":""}]
[null,null,null,null,null,null,null,null,{"$f":"IF(F1591=\"\",\"\",IF(H1591<>\"\",\"OK\",IF(AND(#REF!<>\"\",#REF!<TODAY()),\"Retard\",\"Attente de Livraison\")))","v":""}]
[null,null,null,null,null,null,null,null,{"$f":"IF(F1592=\"\",\"\",IF(H1592<>\"\",\"OK\",IF(AND(#REF!<>\"\",#REF!<TODAY()),\"Retard\",\"Attente de Livraison\")))","v":""}]
[null,null,null,null,null,null,null,null,{"$f":"IF(F1593=\"\",\"\",IF(H1593<>\"\",\"OK\",IF(AND(#REF!<>\"\",#REF!<TODAY()),\"Retard\",\"Attente de Livraison\")))","v":""}]
[null,null,null,null,null,null,null,null,{"$f":"IF(F1594=\"\",\"\",IF(H1594<>\"\",\"OK\",IF(AND(#REF!<>\"\",#REF!<TODAY()),\"Retard\",\"Attente de Livraison\")))","v":""}]
[null,null,null,null,null,null,null,null,{"$f":"IF(F1595=\"\",\"\",IF(H1595<>\"\",\"OK\",IF(AND(#REF!<>\"\",#REF!<TODAY()),\"Retard\",\"Attente de Livraison\")))","v":""}]
[null,null,null,null,null,null,null,null,{"$f":"IF(F1596=\"\",\"\",IF(H1596<>\"\",\"OK\",IF(AND(#REF!<>\"\",#REF!<TODAY()),\"Retard\",\"Attente de Livraison\")))","v":""}]
[null,null,null,null,null,null,null,null,{"$f":"IF(F1597=\"\",\"\",IF(H1597<>\"\",\"OK\",IF(AND(#REF!<>\"\",#REF!<TODAY()),\"Retard\",\"Attente de Livraison\")))","v":""}]
[null,null,null,null,null,null,null,null,{"$f":"IF(F1598=\"\",\"\",IF(H1598<>\"\",\"OK\",IF(AND(#REF!<>\"\",#REF!<TODAY()),\"Retard\",\"Attente de Livraison\")))","v":""}]
[null,null,null,null,null,null,null,null,{"$f":"IF(F1599=\"\",\"\",IF(H1599<>\"\",\"OK\",IF(AND(#REF!<>\"\",#REF!<TODAY()),\"Retard\",\"Attente de Livraison\")))","v":""}]
[null,null,null,null,null,null,null,null,{"$f":"IF(F1600=\"\",\"\",IF(H1600<>\"\",\"OK\",IF(AND(#REF!<>\"\",#REF!<TODAY()),\"Retard\",\"Attente de Livraison\")))","v":""}]
[null,null,null,null,null,null,null,null,{"$f":"IF(F1601=\"\",\"\",IF(H1601<>\"\",\"OK\",IF(AND(#REF!<>\"\",#REF!<TODAY()),\"Retard\",\"Attente de Livraison\")))","v":""}]
[null,null,null,null,null,null,null,null,{"$f":"IF(F1602=\"\",\"\",IF(H1602<>\"\",\"OK\",IF(AND(#REF!<>\"\",#REF!<TODAY()),\"Retard\",\"Attente de Livraison\")))","v":""}]
[null,null,null,null,null,null,null,null,{"$f":"IF(F1603=\"\",\"\",IF(H1603<>\"\",\"OK\",IF(AND(#REF!<>\"\",#REF!<TODAY()),\"Retard\",\"Attente de Livraison\")))","v":""}]
[null,null,null,null,null,null,null,null,{"$f":"IF(F1604=\"\",\"\",IF(H1604<>\"\",\"OK\",IF(AND(#REF!<>\"\",#REF!<TODAY()),\"Retard\",\"Attente de Livraison\")))","v":""}]
[null,null,null,null,null,null,null,null,{"$f":"IF(F1605=\"\",\"\",IF(H1605<>\"\",\"OK\",IF(AND(#REF!<>\"\",#REF!<TODAY()),\"Retard\",\"Attente de Livraison\")))","v":""}]
[null,null,null,null,null,null,null,null,{"$f":"IF(F1606=\"\",\"\",IF(H1606<>\"\",\"OK\",IF(AND(#REF!<>\"\",#REF!<TODAY()),\"Retard\",\"Attente de Livraison\")))","v":""}]
[null,null,null,null,null,null,null,null,{"$f":"IF(F1607=\"\",\"\",IF(H1607<>\"\",\"OK\",IF(AND(#REF!<>\"\",#REF!<TODAY()),\"Retard\",\"Attente de Livraison\")))","v":""}]
[null,null,null,null,null,null,null,null,{"$f":"IF(F1608=\"\",\"\",IF(H1608<>\"\",\"OK\",IF(AND(#REF!<>\"\",#REF!<TODAY()),\"Retard\",\"Attente de Livraison\")))","v":""}]
[null,null,null,null,null,null,null,null,{"$f":"IF(F1609=\"\",\"\",IF(H1609<>\"\",\"OK\",IF(AND(#REF!<>\"\",#REF!<TODAY()),\"Retard\",\"Attente de Livraison\")))","v":""}]
[null,null,null,null,null,null,null,null,{"$f":"IF(F1610=\"\",\"\",IF(H1610<>\"\",\"OK\",IF(AND(#REF!<>\"\",#REF!<TODAY()),\"Retard\",\"Attente de Livraison\")))","v":""}]
[null,null,null,null,null,null,null,null,{"$f":"IF(F1611=\"\",\"\",IF(H1611<>\"\",\"OK\",IF(AND(#REF!<>\"\",#REF!<TODAY()),\"Retard\",\"Attente de Livraison\")))","v":""}]
[null,null,null,null,null,null,null,null,{"$f":"IF(F1612=\"\",\"\",IF(H1612<>\"\",\"OK\",IF(AND(#REF!<>\"\",#REF!<TODAY()),\"Retard\",\"Attente de Livraison\")))","v":""}]
[null,null,null,null,null,null,null,null,{"$f":"IF(F1613=\"\",\"\",IF(H1613<>\"\",\"OK\",IF(AND(#REF!<>\"\",#REF!<TODAY()),\"Retard\",\"Attente de Livraison\")))","v":""}]
[null,null,null,null,null,null,null,null,{"$f":"IF(F1614=\"\",\"\",IF(H1614<>\"\",\"OK\",IF(AND(#REF!<>\"\",#REF!<TODAY()),\"Retard\",\"Attente de Livraison\")))","v":""}]
[null,null,null,null,null,null,null,null,{"$f":"IF(F1615=\"\",\"\",IF(H1615<>\"\",\"OK\",IF(AND(#REF!<>\"\",#REF!<TODAY()),\"Retard\",\"Attente de Livraison\")))","v":""}]
[null,null,null,null,null,null,null,null,{"$f":"IF(F1616=\"\",\"\",IF(H1616<>\"\",\"OK\",IF(AND(#REF!<>\"\",#REF!<TODAY()),\"Retard\",\"Attente de Livraison\")))","v":""}]
[null,null,null,null,null,null,null,null,{"$f":"IF(F1617=\"\",\"\",IF(H1617<>\"\",\"OK\",IF(AND(#REF!<>\"\",#REF!<TODAY()),\"Retard\",\"Attente de Livraison\")))","v":""}]
[null,null,null,null,null,null,null,null,{"$f":"IF(F1618=\"\",\"\",IF(H1618<>\"\",\"OK\",IF(AND(#REF!<>\"\",#REF!<TODAY()),\"Retard\",\"Attente de Livraison\")))","v":""}]
[null,null,null,null,null,null,null,null,{"$f":"IF(F1619=\"\",\"\",IF(H1619<>\"\",\"OK\",IF(AND(#REF!<>\"\",#REF!<TODAY()),\"Retard\",\"Attente de Livraison\")))","v":""}]
[null,null,null,null,null,null,null,null,{"$f":"IF(F1620=\"\",\"\",IF(H1620<>\"\",\"OK\",IF(AND(#REF!<>\"\",#REF!<TODAY()),\"Retard\",\"Attente de Livraison\")))","v":""}]
[null,null,null,null,null,null,null,null,{"$f":"IF(F1621=\"\",\"\",IF(H1621<>\"\",\"OK\",IF(AND(#REF!<>\"\",#REF!<TODAY()),\"Retard\",\"Attente de Livraison\")))","v":""}]
[null,null,null,null,null,null,null,null,{"$f":"IF(F1622=\"\",\"\",IF(H1622<>\"\",\"OK\",IF(AND(#REF!<>\"\",#REF!<TODAY()),\"Retard\",\"Attente de Livraison\")))","v":""}]
[null,null,null,null,null,null,null,null,{"$f":"IF(F1623=\"\",\"\",IF(H1623<>\"\",\"OK\",IF(AND(#REF!<>\"\",#REF!<TODAY()),\"Retard\",\"Attente de Livraison\")))","v":""}]
[null,null,null,null,null,null,null,null,{"$f":"IF(F1624=\"\",\"\",IF(H1624<>\"\",\"OK\",IF(AND(#REF!<>\"\",#REF!<TODAY()),\"Retard\",\"Attente de Livraison\")))","v":""}]
[null,null,null,null,null,null,null,null,{"$f":"IF(F1625=\"\",\"\",IF(H1625<>\"\",\"OK\",IF(AND(#REF!<>\"\",#REF!<TODAY()),\"Retard\",\"Attente de Livraison\")))","v":""}]
[null,null,null,null,null,null,null,null,{"$f":"IF(F1626=\"\",\"\",IF(H1626<>\"\",\"OK\",IF(AND(#REF!<>\"\",#REF!<TODAY()),\"Retard\",\"Attente de Livraison\")))","v":""}]
[null,null,null,null,null,null,null,null,{"$f":"IF(F1627=\"\",\"\",IF(H1627<>\"\",\"OK\",IF(AND(#REF!<>\"\",#REF!<TODAY()),\"Retard\",\"Attente de Livraison\")))","v":""}]
[null,null,null,null,null,null,null,null,{"$f":"IF(F1628=\"\",\"\",IF(H1628<>\"\",\"OK\",IF(AND(#REF!<>\"\",#REF!<TODAY()),\"Retard\",\"Attente de Livraison\")))","v":""}]
[null,null,null,null,null,null,null,null,{"$f":"IF(F1629=\"\",\"\",IF(H1629<>\"\",\"OK\",IF(AND(#REF!<>\"\",#REF!<TODAY()),\"Retard\",\"Attente de Livraison\")))","v":""}]
[null,null,null,null,null,null,null,null,{"$f":"IF(F1630=\"\",\"\",IF(H1630<>\"\",\"OK\",IF(AND(#REF!<>\"\",#REF!<TODAY()),\"Retard\",\"Attente de Livraison\")))","v":""}]
[null,null,null,null,null,null,null,null,{"$f":"IF(F1631=\"\",\"\",IF(H1631<>\"\",\"OK\",IF(AND(#REF!<>\"\",#REF!<TODAY()),\"Retard\",\"Attente de Livraison\")))","v":""}]
[null,null,null,null,null,null,null,null,{"$f":"IF(F1632=\"\",\"\",IF(H1632<>\"\",\"OK\",IF(AND(#REF!<>\"\",#REF!<TODAY()),\"Retard\",\"Attente de Livraison\")))","v":""}]
[null,null,null,null,null,null,null,null,{"$f":"IF(F1633=\"\",\"\",IF(H1633<>\"\",\"OK\",IF(AND(#REF!<>\"\",#REF!<TODAY()),\"Retard\",\"Attente de Livraison\")))","v":""}]
[null,null,null,null,null,null,null,null,{"$f":"IF(F1634=\"\",\"\",IF(H1634<>\"\",\"OK\",IF(AND(#REF!<>\"\",#REF!<TODAY()),\"Retard\",\"Attente de Livraison\")))","v":""}]
[null,null,null,null,null,null,null,null,{"$f":"IF(F1635=\"\",\"\",IF(H1635<>\"\",\"OK\",IF(AND(#REF!<>\"\",#REF!<TODAY()),\"Retard\",\"Attente de Livraison\")))","v":""}]
[null,null,null,null,null,null,null,null,{"$f":"IF(F1636=\"\",\"\",IF(H1636<>\"\",\"OK\",IF(AND(#REF!<>\"\",#REF!<TODAY()),\"Retard\",\"Attente de Livraison\")))","v":""}]
[null,null,null,null,null,null,null,null,{"$f":"IF(F1637=\"\",\"\",IF(H1637<>\"\",\"OK\",IF(AND(#REF!<>\"\",#REF!<TODAY()),\"Retard\",\"Attente de Livraison\")))","v":""}]
[null,null,null,null,null,null,null,null,{"$f":"IF(F1638=\"\",\"\",IF(H1638<>\"\",\"OK\",IF(AND(#REF!<>\"\",#REF!<TODAY()),\"Retard\",\"Attente de Livraison\")))","v":""}]
[null,null,null,null,null,null,null,null,{"$f":"IF(F1639=\"\",\"\",IF(H1639<>\"\",\"OK\",IF(AND(#REF!<>\"\",#REF!<TODAY()),\"Retard\",\"Attente de Livraison\")))","v":""}]
[null,null,null,null,null,null,null,null,{"$f":"IF(F1640=\"\",\"\",IF(H1640<>\"\",\"OK\",IF(AND(#REF!<>\"\",#REF!<TODAY()),\"Retard\",\"Attente de Livraison\")))","v":""}]
[null,null,null,null,null,null,null,null,{"$f":"IF(F1641=\"\",\"\",IF(H1641<>\"\",\"OK\",IF(AND(#REF!<>\"\",#REF!<TODAY()),\"Retard\",\"Attente de Livraison\")))","v":""}]
[null,null,null,null,null,null,null,null,{"$f":"IF(F1642=\"\",\"\",IF(H1642<>\"\",\"OK\",IF(AND(#REF!<>\"\",#REF!<TODAY()),\"Retard\",\"Attente de Livraison\")))","v":""}]
[null,null,null,null,null,null,null,null,{"$f":"IF(F1643=\"\",\"\",IF(H1643<>\"\",\"OK\",IF(AND(#REF!<>\"\",#REF!<TODAY()),\"Retard\",\"Attente de Livraison\")))","v":""}]
[null,null,null,null,null,null,null,null,{"$f":"IF(F1644=\"\",\"\",IF(H1644<>\"\",\"OK\",IF(AND(#REF!<>\"\",#REF!<TODAY()),\"Retard\",\"Attente de Livraison\")))","v":""}]
[null,null,null,null,null,null,null,null,{"$f":"IF(F1645=\"\",\"\",IF(H1645<>\"\",\"OK\",IF(AND(#REF!<>\"\",#REF!<TODAY()),\"Retard\",\"Attente de Livraison\")))","v":""}]
[null,null,null,null,null,null,null,null,{"$f":"IF(F1646=\"\",\"\",IF(H1646<>\"\",\"OK\",IF(AND(#REF!<>\"\",#REF!<TODAY()),\"Retard\",\"Attente de Livraison\")))","v":""}]
[null,null,null,null,null,null,null,null,{"$f":"IF(F1647=\"\",\"\",IF(H1647<>\"\",\"OK\",IF(AND(#REF!<>\"\",#REF!<TODAY()),\"Retard\",\"Attente de Livraison\")))","v":""}]
[null,null,null,null,null,null,null,null,{"$f":"IF(F1648=\"\",\"\",IF(H1648<>\"\",\"OK\",IF(AND(#REF!<>\"\",#REF!<TODAY()),\"Retard\",\"Attente de Livraison\")))","v":""}]
[null,null,null,null,null,null,null,null,{"$f":"IF(F1649=\"\",\"\",IF(H1649<>\"\",\"OK\",IF(AND(#REF!<>\"\",#REF!<TODAY()),\"Retard\",\"Attente de Livraison\")))","v":""}]
[null,null,null,null,null,null,null,null,{"$f":"IF(F1650=\"\",\"\",IF(H1650<>\"\",\"OK\",IF(AND(#REF!<>\"\",#REF!<TODAY()),\"Retard\",\"Attente de Livraison\")))","v":""}]
[null,null,null,null,null,null,null,null,{"$f":"IF(F1651=\"\",\"\",IF(H1651<>\"\",\"OK\",IF(AND(#REF!<>\"\",#REF!<TODAY()),\"Retard\",\"Attente de Livraison\")))","v":""}]
[null,null,null,null,null,null,null,null,{"$f":"IF(F1652=\"\",\"\",IF(H1652<>\"\",\"OK\",IF(AND(#REF!<>\"\",#REF!<TODAY()),\"Retard\",\"Attente de Livraison\")))","v":""}]
[null,null,null,null,null,null,null,null,{"$f":"IF(F1653=\"\",\"\",IF(H1653<>\"\",\"OK\",IF(AND(#REF!<>\"\",#REF!<TODAY()),\"Retard\",\"Attente de Livraison\")))","v":""}]
[null,null,null,null,null,null,null,null,{"$f":"IF(F1654=\"\",\"\",IF(H1654<>\"\",\"OK\",IF(AND(#REF!<>\"\",#REF!<TODAY()),\"Retard\",\"Attente de Livraison\")))","v":""}]
[null,null,null,null,null,null,null,null,{"$f":"IF(F1655=\"\",\"\",IF(H1655<>\"\",\"OK\",IF(AND(#REF!<>\"\",#REF!<TODAY()),\"Retard\",\"Attente de Livraison\")))","v":""}]
[null,null,null,null,null,null,null,null,{"$f":"IF(F1656=\"\",\"\",IF(H1656<>\"\",\"OK\",IF(AND(#REF!<>\"\",#REF!<TODAY()),\"Retard\",\"Attente de Livraison\")))","v":""}]
[null,null,null,null,null,null,null,null,{"$f":"IF(F1657=\"\",\"\",IF(H1657<>\"\",\"OK\",IF(AND(#REF!<>\"\",#REF!<TODAY()),\"Retard\",\"Attente de Livraison\")))","v":""}]
[null,null,null,null,null,null,null,null,{"$f":"IF(F1658=\"\",\"\",IF(H1658<>\"\",\"OK\",IF(AND(#REF!<>\"\",#REF!<TODAY()),\"Retard\",\"Attente de Livraison\")))","v":""}]
[null,null,null,null,null,null,null,null,{"$f":"IF(F1659=\"\",\"\",IF(H1659<>\"\",\"OK\",IF(AND(#REF!<>\"\",#REF!<TODAY()),\"Retard\",\"Attente de Livraison\")))","v":""}]
[null,null,null,null,null,null,null,null,{"$f":"IF(F1660=\"\",\"\",IF(H1660<>\"\",\"OK\",IF(AND(#REF!<>\"\",#REF!<TODAY()),\"Retard\",\"Attente de Livraison\")))","v":""}]
[null,null,null,null,null,null,null,null,{"$f":"IF(F1661=\"\",\"\",IF(H1661<>\"\",\"OK\",IF(AND(#REF!<>\"\",#REF!<TODAY()),\"Retard\",\"Attente de Livraison\")))","v":""}]
[null,null,null,null,null,null,null,null,{"$f":"IF(F1662=\"\",\"\",IF(H1662<>\"\",\"OK\",IF(AND(#REF!<>\"\",#REF!<TODAY()),\"Retard\",\"Attente de Livraison\")))","v":""}]
[null,null,null,null,null,null,null,null,{"$f":"IF(F1663=\"\",\"\",IF(H1663<>\"\",\"OK\",IF(AND(#REF!<>\"\",#REF!<TODAY()),\"Retard\",\"Attente de Livraison\")))","v":""}]
[null,null,null,null,null,null,null,null,{"$f":"IF(F1664=\"\",\"\",IF(H1664<>\"\",\"OK\",IF(AND(#REF!<>\"\",#REF!<TODAY()),\"Retard\",\"Attente de Livraison\")))","v":""}]
[null,null,null,null,null,null,null,null,{"$f":"IF(F1665=\"\",\"\",IF(H1665<>\"\",\"OK\",IF(AND(#REF!<>\"\",#REF!<TODAY()),\"Retard\",\"Attente de Livraison\")))","v":""}]
[null,null,null,null,null,null,null,null,{"$f":"IF(F1666=\"\",\"\",IF(H1666<>\"\",\"OK\",IF(AND(#REF!<>\"\",#REF!<TODAY()),\"Retard\",\"Attente de Livraison\")))","v":""}]
[null,null,null,null,null,null,null,null,{"$f":"IF(F1667=\"\",\"\",IF(H1667<>\"\",\"OK\",IF(AND(#REF!<>\"\",#REF!<TODAY()),\"Retard\",\"Attente de Livraison\")))","v":""}]
[null,null,null,null,null,null,null,null,{"$f":"IF(F1668=\"\",\"\",IF(H1668<>\"\",\"OK\",IF(AND(#REF!<>\"\",#REF!<TODAY()),\"Retard\",\"Attente de Livraison\")))","v":""}]
[null,null,null,null,null,null,null,null,{"$f":"IF(F1669=\"\",\"\",IF(H1669<>\"\",\"OK\",IF(AND(#REF!<>\"\",#REF!<TODAY()),\"Retard\",\"Attente de Livraison\")))","v":""}]
[null,null,null,null,null,null,null,null,{"$f":"IF(F1670=\"\",\"\",IF(H1670<>\"\",\"OK\",IF(AND(#REF!<>\"\",#REF!<TODAY()),\"Retard\",\"Attente de Livraison\")))","v":""}]
[null,null,null,null,null,null,null,null,{"$f":"IF(F1671=\"\",\"\",IF(H1671<>\"\",\"OK\",IF(AND(#REF!<>\"\",#REF!<TODAY()),\"Retard\",\"Attente de Livraison\")))","v":""}]
[null,null,null,null,null,null,null,null,{"$f":"IF(F1672=\"\",\"\",IF(H1672<>\"\",\"OK\",IF(AND(#REF!<>\"\",#REF!<TODAY()),\"Retard\",\"Attente de Livraison\")))","v":""}]
[null,null,null,null,null,null,null,null,{"$f":"IF(F1673=\"\",\"\",IF(H1673<>\"\",\"OK\",IF(AND(#REF!<>\"\",#REF!<TODAY()),\"Retard\",\"Attente de Livraison\")))","v":""}]
[null,null,null,null,null,null,null,null,{"$f":"IF(F1674=\"\",\"\",IF(H1674<>\"\",\"OK\",IF(AND(#REF!<>\"\",#REF!<TODAY()),\"Retard\",\"Attente de Livraison\")))","v":""}]
[null,null,null,null,null,null,null,null,{"$f":"IF(F1675=\"\",\"\",IF(H1675<>\"\",\"OK\",IF(AND(#REF!<>\"\",#REF!<TODAY()),\"Retard\",\"Attente de Livraison\")))","v":""}]
[null,null,null,null,null,null,null,null,{"$f":"IF(F1676=\"\",\"\",IF(H1676<>\"\",\"OK\",IF(AND(#REF!<>\"\",#REF!<TODAY()),\"Retard\",\"Attente de Livraison\")))","v":""}]
[null,null,null,null,null,null,null,null,{"$f":"IF(F1677=\"\",\"\",IF(H1677<>\"\",\"OK\",IF(AND(#REF!<>\"\",#REF!<TODAY()),\"Retard\",\"Attente de Livraison\")))","v":""}]
[null,null,null,null,null,null,null,null,{"$f":"IF(F1678=\"\",\"\",IF(H1678<>\"\",\"OK\",IF(AND(#REF!<>\"\",#REF!<TODAY()),\"Retard\",\"Attente de Livraison\")))","v":""}]
[null,null,null,null,null,null,null,null,{"$f":"IF(F1679=\"\",\"\",IF(H1679<>\"\",\"OK\",IF(AND(#REF!<>\"\",#REF!<TODAY()),\"Retard\",\"Attente de Livraison\")))","v":""}]
[null,null,null,null,null,null,null,null,{"$f":"IF(F1680=\"\",\"\",IF(H1680<>\"\",\"OK\",IF(AND(#REF!<>\"\",#REF!<TODAY()),\"Retard\",\"Attente de Livraison\")))","v":""}]
[null,null,null,null,null,null,null,null,{"$f":"IF(F1681=\"\",\"\",IF(H1681<>\"\",\"OK\",IF(AND(#REF!<>\"\",#REF!<TODAY()),\"Retard\",\"Attente de Livraison\")))","v":""}]
[null,null,null,null,null,null,null,null,{"$f":"IF(F1682=\"\",\"\",IF(H1682<>\"\",\"OK\",IF(AND(#REF!<>\"\",#REF!<TODAY()),\"Retard\",\"Attente de Livraison\")))","v":""}]
[null,null,null,null,null,null,null,null,{"$f":"IF(F1683=\"\",\"\",IF(H1683<>\"\",\"OK\",IF(AND(#REF!<>\"\",#REF!<TODAY()),\"Retard\",\"Attente de Livraison\")))","v":""}]
[null,null,null,null,null,null,null,null,{"$f":"IF(F1684=\"\",\"\",IF(H1684<>\"\",\"OK\",IF(AND(#REF!<>\"\",#REF!<TODAY()),\"Retard\",\"Attente de Livraison\")))","v":""}]
[null,null,null,null,null,null,null,null,{"$f":"IF(F1685=\"\",\"\",IF(H1685<>\"\",\"OK\",IF(AND(#REF!<>\"\",#REF!<TODAY()),\"Retard\",\"Attente de Livraison\")))","v":""}]
[null,null,null,null,null,null,null,null,{"$f":"IF(F1686=\"\",\"\",IF(H1686<>\"\",\"OK\",IF(AND(#REF!<>\"\",#REF!<TODAY()),\"Retard\",\"Attente de Livraison\")))","v":""}]
[null,null,null,null,null,null,null,null,{"$f":"IF(F1687=\"\",\"\",IF(H1687<>\"\",\"OK\",IF(AND(#REF!<>\"\",#REF!<TODAY()),\"Retard\",\"Attente de Livraison\")))","v":""}]
[null,null,null,null,null,null,null,null,{"$f":"IF(F1688=\"\",\"\",IF(H1688<>\"\",\"OK\",IF(AND(#REF!<>\"\",#REF!<TODAY()),\"Retard\",\"Attente de Livraison\")))","v":""}]
[null,null,null,null,null,null,null,null,{"$f":"IF(F1689=\"\",\"\",IF(H1689<>\"\",\"OK\",IF(AND(#REF!<>\"\",#REF!<TODAY()),\"Retard\",\"Attente de Livraison\")))","v":""}]
[null,null,null,null,null,null,null,null,{"$f":"IF(F1690=\"\",\"\",IF(H1690<>\"\",\"OK\",IF(AND(#REF!<>\"\",#REF!<TODAY()),\"Retard\",\"Attente de Livraison\")))","v":""}]
[null,null,null,null,null,null,null,null,{"$f":"IF(F1691=\"\",\"\",IF(H1691<>\"\",\"OK\",IF(AND(#REF!<>\"\",#REF!<TODAY()),\"Retard\",\"Attente de Livraison\")))","v":""}]
[null,null,null,null,null,null,null,null,{"$f":"IF(F1692=\"\",\"\",IF(H1692<>\"\",\"OK\",IF(AND(#REF!<>\"\",#REF!<TODAY()),\"Retard\",\"Attente de Livraison\")))","v":""}]
[null,null,null,null,null,null,null,null,{"$f":"IF(F1693=\"\",\"\",IF(H1693<>\"\",\"OK\",IF(AND(#REF!<>\"\",#REF!<TODAY()),\"Retard\",\"Attente de Livraison\")))","v":""}]
[null,null,null,null,null,null,null,null,{"$f":"IF(F1694=\"\",\"\",IF(H1694<>\"\",\"OK\",IF(AND(#REF!<>\"\",#REF!<TODAY()),\"Retard\",\"Attente de Livraison\")))","v":""}]
[null,null,null,null,null,null,null,null,{"$f":"IF(F1695=\"\",\"\",IF(H1695<>\"\",\"OK\",IF(AND(#REF!<>\"\",#REF!<TODAY()),\"Retard\",\"Attente de Livraison\")))","v":""}]
[null,null,null,null,null,null,null,null,{"$f":"IF(F1696=\"\",\"\",IF(H1696<>\"\",\"OK\",IF(AND(#REF!<>\"\",#REF!<TODAY()),\"Retard\",\"Attente de Livraison\")))","v":""}]
[null,null,null,null,null,null,null,null,{"$f":"IF(F1697=\"\",\"\",IF(H1697<>\"\",\"OK\",IF(AND(#REF!<>\"\",#REF!<TODAY()),\"Retard\",\"Attente de Livraison\")))","v":""}]
[null,null,null,null,null,null,null,null,{"$f":"IF(F1698=\"\",\"\",IF(H1698<>\"\",\"OK\",IF(AND(#REF!<>\"\",#REF!<TODAY()),\"Retard\",\"Attente de Livraison\")))","v":""}]
[null,null,null,null,null,null,null,null,{"$f":"IF(F1699=\"\",\"\",IF(H1699<>\"\",\"OK\",IF(AND(#REF!<>\"\",#REF!<TODAY()),\"Retard\",\"Attente de Livraison\")))","v":""}]
[null,null,null,null,null,null,null,null,{"$f":"IF(F1700=\"\",\"\",IF(H1700<>\"\",\"OK\",IF(AND(#REF!<>\"\",#REF!<TODAY()),\"Retard\",\"Attente de Livraison\")))","v":""}]
[null,null,null,null,null,null,null,null,{"$f":"IF(F1701=\"\",\"\",IF(H1701<>\"\",\"OK\",IF(AND(#REF!<>\"\",#REF!<TODAY()),\"Retard\",\"Attente de Livraison\")))","v":""}]
[null,null,null,null,null,null,null,null,{"$f":"IF(F1702=\"\",\"\",IF(H1702<>\"\",\"OK\",IF(AND(#REF!<>\"\",#REF!<TODAY()),\"Retard\",\"Attente de Livraison\")))","v":""}]
[null,null,null,null,null,null,null,null,{"$f":"IF(F1703=\"\",\"\",IF(H1703<>\"\",\"OK\",IF(AND(#REF!<>\"\",#REF!<TODAY()),\"Retard\",\"Attente de Livraison\")))","v":""}]
[null,null,null,null,null,null,null,null,{"$f":"IF(F1704=\"\",\"\",IF(H1704<>\"\",\"OK\",IF(AND(#REF!<>\"\",#REF!<TODAY()),\"Retard\",\"Attente de Livraison\")))","v":""}]
[null,null,null,null,null,null,null,null,{"$f":"IF(F1705=\"\",\"\",IF(H1705<>\"\",\"OK\",IF(AND(#REF!<>\"\",#REF!<TODAY()),\"Retard\",\"Attente de Livraison\")))","v":""}]
[null,null,null,null,null,null,null,null,{"$f":"IF(F1706=\"\",\"\",IF(H1706<>\"\",\"OK\",IF(AND(#REF!<>\"\",#REF!<TODAY()),\"Retard\",\"Attente de Livraison\")))","v":""}]
[null,null,null,null,null,null,null,null,{"$f":"IF(F1707=\"\",\"\",IF(H1707<>\"\",\"OK\",IF(AND(#REF!<>\"\",#REF!<TODAY()),\"Retard\",\"Attente de Livraison\")))","v":""}]
[null,null,null,null,null,null,null,null,{"$f":"IF(F1708=\"\",\"\",IF(H1708<>\"\",\"OK\",IF(AND(#REF!<>\"\",#REF!<TODAY()),\"Retard\",\"Attente de Livraison\")))","v":""}]
[null,null,null,null,null,null,null,null,{"$f":"IF(F1709=\"\",\"\",IF(H1709<>\"\",\"OK\",IF(AND(#REF!<>\"\",#REF!<TODAY()),\"Retard\",\"Attente de Livraison\")))","v":""}]
[null,null,null,null,null,null,null,null,{"$f":"IF(F1710=\"\",\"\",IF(H1710<>\"\",\"OK\",IF(AND(#REF!<>\"\",#REF!<TODAY()),\"Retard\",\"Attente de Livraison\")))","v":""}]
[null,null,null,null,null,null,null,null,{"$f":"IF(F1711=\"\",\"\",IF(H1711<>\"\",\"OK\",IF(AND(#REF!<>\"\",#REF!<TODAY()),\"Retard\",\"Attente de Livraison\")))","v":""}]
[null,null,null,null,null,null,null,null,{"$f":"IF(F1712=\"\",\"\",IF(H1712<>\"\",\"OK\",IF(AND(#REF!<>\"\",#REF!<TODAY()),\"Retard\",\"Attente de Livraison\")))","v":""}]
[null,null,null,null,null,null,null,null,{"$f":"IF(F1713=\"\",\"\",IF(H1713<>\"\",\"OK\",IF(AND(#REF!<>\"\",#REF!<TODAY()),\"Retard\",\"Attente de Livraison\")))","v":""}]
[null,null,null,null,null,null,null,null,{"$f":"IF(F1714=\"\",\"\",IF(H1714<>\"\",\"OK\",IF(AND(#REF!<>\"\",#REF!<TODAY()),\"Retard\",\"Attente de Livraison\")))","v":""}]
[null,null,null,null,null,null,null,null,{"$f":"IF(F1715=\"\",\"\",IF(H1715<>\"\",\"OK\",IF(AND(#REF!<>\"\",#REF!<TODAY()),\"Retard\",\"Attente de Livraison\")))","v":""}]
[null,null,null,null,null,null,null,null,{"$f":"IF(F1716=\"\",\"\",IF(H1716<>\"\",\"OK\",IF(AND(#REF!<>\"\",#REF!<TODAY()),\"Retard\",\"Attente de Livraison\")))","v":""}]
[null,null,null,null,null,null,null,null,{"$f":"IF(F1717=\"\",\"\",IF(H1717<>\"\",\"OK\",IF(AND(#REF!<>\"\",#REF!<TODAY()),\"Retard\",\"Attente de Livraison\")))","v":""}]
[null,null,null,null,null,null,null,null,{"$f":"IF(F1718=\"\",\"\",IF(H1718<>\"\",\"OK\",IF(AND(#REF!<>\"\",#REF!<TODAY()),\"Retard\",\"Attente de Livraison\")))","v":""}]
[null,null,null,null,null,null,null,null,{"$f":"IF(F1719=\"\",\"\",IF(H1719<>\"\",\"OK\",IF(AND(#REF!<>\"\",#REF!<TODAY()),\"Retard\",\"Attente de Livraison\")))","v":""}]
[null,null,null,null,null,null,null,null,{"$f":"IF(F1720=\"\",\"\",IF(H1720<>\"\",\"OK\",IF(AND(#REF!<>\"\",#REF!<TODAY()),\"Retard\",\"Attente de Livraison\")))","v":""}]
[null,null,null,null,null,null,null,null,{"$f":"IF(F1721=\"\",\"\",IF(H1721<>\"\",\"OK\",IF(AND(#REF!<>\"\",#REF!<TODAY()),\"Retard\",\"Attente de Livraison\")))","v":""}]
[null,null,null,null,null,null,null,null,{"$f":"IF(F1722=\"\",\"\",IF(H1722<>\"\",\"OK\",IF(AND(#REF!<>\"\",#REF!<TODAY()),\"Retard\",\"Attente de Livraison\")))","v":""}]
[null,null,null,null,null,null,null,null,{"$f":"IF(F1723=\"\",\"\",IF(H1723<>\"\",\"OK\",IF(AND(#REF!<>\"\",#REF!<TODAY()),\"Retard\",\"Attente de Livraison\")))","v":""}]
[null,null,null,null,null,null,null,null,{"$f":"IF(F1724=\"\",\"\",IF(H1724<>\"\",\"OK\",IF(AND(#REF!<>\"\",#REF!<TODAY()),\"Retard\",\"Attente de Livraison\")))","v":""}]
[null,null,null,null,null,null,null,null,{"$f":"IF(F1725=\"\",\"\",IF(H1725<>\"\",\"OK\",IF(AND(#REF!<>\"\",#REF!<TODAY()),\"Retard\",\"Attente de Livraison\")))","v":""}]
[null,null,null,null,null,null,null,null,{"$f":"IF(F1726=\"\",\"\",IF(H1726<>\"\",\"OK\",IF(AND(#REF!<>\"\",#REF!<TODAY()),\"Retard\",\"Attente de Livraison\")))","v":""}]
[null,null,null,null,null,null,null,null,{"$f":"IF(F1727=\"\",\"\",IF(H1727<>\"\",\"OK\",IF(AND(#REF!<>\"\",#REF!<TODAY()),\"Retard\",\"Attente de Livraison\")))","v":""}]
[null,null,null,null,null,null,null,null,{"$f":"IF(F1728=\"\",\"\",IF(H1728<>\"\",\"OK\",IF(AND(#REF!<>\"\",#REF!<TODAY()),\"Retard\",\"Attente de Livraison\")))","v":""}]
[null,null,null,null,null,null,null,null,{"$f":"IF(F1729=\"\",\"\",IF(H1729<>\"\",\"OK\",IF(AND(#REF!<>\"\",#REF!<TODAY()),\"Retard\",\"Attente de Livraison\")))","v":""}]
[null,null,null,null,null,null,null,null,{"$f":"IF(F1730=\"\",\"\",IF(H1730<>\"\",\"OK\",IF(AND(#REF!<>\"\",#REF!<TODAY()),\"Retard\",\"Attente de Livraison\")))","v":""}]
[null,null,null,null,null,null,null,null,{"$f":"IF(F1731=\"\",\"\",IF(H1731<>\"\",\"OK\",IF(AND(#REF!<>\"\",#REF!<TODAY()),\"Retard\",\"Attente de Livraison\")))","v":""}]
[null,null,null,null,null,null,null,null,{"$f":"IF(F1732=\"\",\"\",IF(H1732<>\"\",\"OK\",IF(AND(#REF!<>\"\",#REF!<TODAY()),\"Retard\",\"Attente de Livraison\")))","v":""}]
[null,null,null,null,null,null,null,null,{"$f":"IF(F1733=\"\",\"\",IF(H1733<>\"\",\"OK\",IF(AND(#REF!<>\"\",#REF!<TODAY()),\"Retard\",\"Attente de Livraison\")))","v":""}]
[null,null,null,null,null,null,null,null,{"$f":"IF(F1734=\"\",\"\",IF(H1734<>\"\",\"OK\",IF(AND(#REF!<>\"\",#REF!<TODAY()),\"Retard\",\"Attente de Livraison\")))","v":""}]
[null,null,null,null,null,null,null,null,{"$f":"IF(F1735=\"\",\"\",IF(H1735<>\"\",\"OK\",IF(AND(#REF!<>\"\",#REF!<TODAY()),\"Retard\",\"Attente de Livraison\")))","v":""}]
[null,null,null,null,null,null,null,null,{"$f":"IF(F1736=\"\",\"\",IF(H1736<>\"\",\"OK\",IF(AND(#REF!<>\"\",#REF!<TODAY()),\"Retard\",\"Attente de Livraison\")))","v":""}]
[null,null,null,null,null,null,null,null,{"$f":"IF(F1737=\"\",\"\",IF(H1737<>\"\",\"OK\",IF(AND(#REF!<>\"\",#REF!<TODAY()),\"Retard\",\"Attente de Livraison\")))","v":""}]
[null,null,null,null,null,null,null,null,{"$f":"IF(F1738=\"\",\"\",IF(H1738<>\"\",\"OK\",IF(AND(#REF!<>\"\",#REF!<TODAY()),\"Retard\",\"Attente de Livraison\")))","v":""}]
[null,null,null,null,null,null,null,null,{"$f":"IF(F1739=\"\",\"\",IF(H1739<>\"\",\"OK\",IF(AND(#REF!<>\"\",#REF!<TODAY()),\"Retard\",\"Attente de Livraison\")))","v":""}]
[null,null,null,null,null,null,null,null,{"$f":"IF(F1740=\"\",\"\",IF(H1740<>\"\",\"OK\",IF(AND(#REF!<>\"\",#REF!<TODAY()),\"Retard\",\"Attente de Livraison\")))","v":""}]
[null,null,null,null,null,null,null,null,{"$f":"IF(F1741=\"\",\"\",IF(H1741<>\"\",\"OK\",IF(AND(#REF!<>\"\",#REF!<TODAY()),\"Retard\",\"Attente de Livraison\")))","v":""}]
[null,null,null,null,null,null,null,null,{"$f":"IF(F1742=\"\",\"\",IF(H1742<>\"\",\"OK\",IF(AND(#REF!<>\"\",#REF!<TODAY()),\"Retard\",\"Attente de Livraison\")))","v":""}]
[null,null,null,null,null,null,null,null,{"$f":"IF(F1743=\"\",\"\",IF(H1743<>\"\",\"OK\",IF(AND(#REF!<>\"\",#REF!<TODAY()),\"Retard\",\"Attente de Livraison\")))","v":""}]
[null,null,null,null,null,null,null,null,{"$f":"IF(F1744=\"\",\"\",IF(H1744<>\"\",\"OK\",IF(AND(#REF!<>\"\",#REF!<TODAY()),\"Retard\",\"Attente de Livraison\")))","v":""}]
[null,null,null,null,null,null,null,null,{"$f":"IF(F1745=\"\",\"\",IF(H1745<>\"\",\"OK\",IF(AND(#REF!<>\"\",#REF!<TODAY()),\"Retard\",\"Attente de Livraison\")))","v":""}]
[null,null,null,null,null,null,null,null,{"$f":"IF(F1746=\"\",\"\",IF(H1746<>\"\",\"OK\",IF(AND(#REF!<>\"\",#REF!<TODAY()),\"Retard\",\"Attente de Livraison\")))","v":""}]
[null,null,null,null,null,null,null,null,{"$f":"IF(F1747=\"\",\"\",IF(H1747<>\"\",\"OK\",IF(AND(#REF!<>\"\",#REF!<TODAY()),\"Retard\",\"Attente de Livraison\")))","v":""}]
[null,null,null,null,null,null,null,null,{"$f":"IF(F1748=\"\",\"\",IF(H1748<>\"\",\"OK\",IF(AND(#REF!<>\"\",#REF!<TODAY()),\"Retard\",\"Attente de Livraison\")))","v":""}]
[null,null,null,null,null,null,null,null,{"$f":"IF(F1749=\"\",\"\",IF(H1749<>\"\",\"OK\",IF(AND(#REF!<>\"\",#REF!<TODAY()),\"Retard\",\"Attente de Livraison\")))","v":""}]
[null,null,null,null,null,null,null,null,{"$f":"IF(F1750=\"\",\"\",IF(H1750<>\"\",\"OK\",IF(AND(#REF!<>\"\",#REF!<TODAY()),\"Retard\",\"Attente de Livraison\")))","v":""}]
[null,null,null,null,null,null,null,null,{"$f":"IF(F1751=\"\",\"\",IF(H1751<>\"\",\"OK\",IF(AND(#REF!<>\"\",#REF!<TODAY()),\"Retard\",\"Attente de Livraison\")))","v":""}]
[null,null,null,null,null,null,null,null,{"$f":"IF(F1752=\"\",\"\",IF(H1752<>\"\",\"OK\",IF(AND(#REF!<>\"\",#REF!<TODAY()),\"Retard\",\"Attente de Livraison\")))","v":""}]
[null,null,null,null,null,null,null,null,{"$f":"IF(F1753=\"\",\"\",IF(H1753<>\"\",\"OK\",IF(AND(#REF!<>\"\",#REF!<TODAY()),\"Retard\",\"Attente de Livraison\")))","v":""}]
[null,null,null,null,null,null,null,null,{"$f":"IF(F1754=\"\",\"\",IF(H1754<>\"\",\"OK\",IF(AND(#REF!<>\"\",#REF!<TODAY()),\"Retard\",\"Attente de Livraison\")))","v":""}]
[null,null,null,null,null,null,null,null,{"$f":"IF(F1755=\"\",\"\",IF(H1755<>\"\",\"OK\",IF(AND(#REF!<>\"\",#REF!<TODAY()),\"Retard\",\"Attente de Livraison\")))","v":""}]
[null,null,null,null,null,null,null,null,{"$f":"IF(F1756=\"\",\"\",IF(H1756<>\"\",\"OK\",IF(AND(#REF!<>\"\",#REF!<TODAY()),\"Retard\",\"Attente de Livraison\")))","v":""}]
[null,null,null,null,null,null,null,null,{"$f":"IF(F1757=\"\",\"\",IF(H1757<>\"\",\"OK\",IF(AND(#REF!<>\"\",#REF!<TODAY()),\"Retard\",\"Attente de Livraison\")))","v":""}]
[null,null,null,null,null,null,null,null,{"$f":"IF(F1758=\"\",\"\",IF(H1758<>\"\",\"OK\",IF(AND(#REF!<>\"\",#REF!<TODAY()),\"Retard\",\"Attente de Livraison\")))","v":""}]
[null,null,null,null,null,null,null,null,{"$f":"IF(F1759=\"\",\"\",IF(H1759<>\"\",\"OK\",IF(AND(#REF!<>\"\",#REF!<TODAY()),\"Retard\",\"Attente de Livraison\")))","v":""}]
[null,null,null,null,null,null,null,null,{"$f":"IF(F1760=\"\",\"\",IF(H1760<>\"\",\"OK\",IF(AND(#REF!<>\"\",#REF!<TODAY()),\"Retard\",\"Attente de Livraison\")))","v":""}]
[null,null,null,null,null,null,null,null,{"$f":"IF(F1761=\"\",\"\",IF(H1761<>\"\",\"OK\",IF(AND(#REF!<>\"\",#REF!<TODAY()),\"Retard\",\"Attente de Livraison\")))","v":""}]
[null,null,null,null,null,null,null,null,{"$f":"IF(F1762=\"\",\"\",IF(H1762<>\"\",\"OK\",IF(AND(#REF!<>\"\",#REF!<TODAY()),\"Retard\",\"Attente de Livraison\")))","v":""}]
[null,null,null,null,null,null,null,null,{"$f":"IF(F1763=\"\",\"\",IF(H1763<>\"\",\"OK\",IF(AND(#REF!<>\"\",#REF!<TODAY()),\"Retard\",\"Attente de Livraison\")))","v":""}]
[null,null,null,null,null,null,null,null,{"$f":"IF(F1764=\"\",\"\",IF(H1764<>\"\",\"OK\",IF(AND(#REF!<>\"\",#REF!<TODAY()),\"Retard\",\"Attente de Livraison\")))","v":""}]
[null,null,null,null,null,null,null,null,{"$f":"IF(F1765=\"\",\"\",IF(H1765<>\"\",\"OK\",IF(AND(#REF!<>\"\",#REF!<TODAY()),\"Retard\",\"Attente de Livraison\")))","v":""}]
[null,null,null,null,null,null,null,null,{"$f":"IF(F1766=\"\",\"\",IF(H1766<>\"\",\"OK\",IF(AND(#REF!<>\"\",#REF!<TODAY()),\"Retard\",\"Attente de Livraison\")))","v":""}]
[null,null,null,null,null,null,null,null,{"$f":"IF(F1767=\"\",\"\",IF(H1767<>\"\",\"OK\",IF(AND(#REF!<>\"\",#REF!<TODAY()),\"Retard\",\"Attente de Livraison\")))","v":""}]
[null,null,null,null,null,null,null,null,{"$f":"IF(F1768=\"\",\"\",IF(H1768<>\"\",\"OK\",IF(AND(#REF!<>\"\",#REF!<TODAY()),\"Retard\",\"Attente de Livraison\")))","v":""}]
[null,null,null,null,null,null,null,null,{"$f":"IF(F1769=\"\",\"\",IF(H1769<>\"\",\"OK\",IF(AND(#REF!<>\"\",#REF!<TODAY()),\"Retard\",\"Attente de Livraison\")))","v":""}]
[null,null,null,null,null,null,null,null,{"$f":"IF(F1770=\"\",\"\",IF(H1770<>\"\",\"OK\",IF(AND(#REF!<>\"\",#REF!<TODAY()),\"Retard\",\"Attente de Livraison\")))","v":""}]
[null,null,null,null,null,null,null,null,{"$f":"IF(F1771=\"\",\"\",IF(H1771<>\"\",\"OK\",IF(AND(#REF!<>\"\",#REF!<TODAY()),\"Retard\",\"Attente de Livraison\")))","v":""}]
[null,null,null,null,null,null,null,null,{"$f":"IF(F1772=\"\",\"\",IF(H1772<>\"\",\"OK\",IF(AND(#REF!<>\"\",#REF!<TODAY()),\"Retard\",\"Attente de Livraison\")))","v":""}]
[null,null,null,null,null,null,null,null,{"$f":"IF(F1773=\"\",\"\",IF(H1773<>\"\",\"OK\",IF(AND(#REF!<>\"\",#REF!<TODAY()),\"Retard\",\"Attente de Livraison\")))","v":""}]
[null,null,null,null,null,null,null,null,{"$f":"IF(F1774=\"\",\"\",IF(H1774<>\"\",\"OK\",IF(AND(#REF!<>\"\",#REF!<TODAY()),\"Retard\",\"Attente de Livraison\")))","v":""}]
[null,null,null,null,null,null,null,null,{"$f":"IF(F1775=\"\",\"\",IF(H1775<>\"\",\"OK\",IF(AND(#REF!<>\"\",#REF!<TODAY()),\"Retard\",\"Attente de Livraison\")))","v":""}]
[null,null,null,null,null,null,null,null,{"$f":"IF(F1776=\"\",\"\",IF(H1776<>\"\",\"OK\",IF(AND(#REF!<>\"\",#REF!<TODAY()),\"Retard\",\"Attente de Livraison\")))","v":""}]
[null,null,null,null,null,null,null,null,{"$f":"IF(F1777=\"\",\"\",IF(H1777<>\"\",\"OK\",IF(AND(#REF!<>\"\",#REF!<TODAY()),\"Retard\",\"Attente de Livraison\")))","v":""}]
[null,null,null,null,null,null,null,null,{"$f":"IF(F1778=\"\",\"\",IF(H1778<>\"\",\"OK\",IF(AND(#REF!<>\"\",#REF!<TODAY()),\"Retard\",\"Attente de Livraison\")))","v":""}]
[null,null,null,null,null,null,null,null,{"$f":"IF(F1779=\"\",\"\",IF(H1779<>\"\",\"OK\",IF(AND(#REF!<>\"\",#REF!<TODAY()),\"Retard\",\"Attente de Livraison\")))","v":""}]
[null,null,null,null,null,null,null,null,{"$f":"IF(F1780=\"\",\"\",IF(H1780<>\"\",\"OK\",IF(AND(#REF!<>\"\",#REF!<TODAY()),\"Retard\",\"Attente de Livraison\")))","v":""}]
[null,null,null,null,null,null,null,null,{"$f":"IF(F1781=\"\",\"\",IF(H1781<>\"\",\"OK\",IF(AND(#REF!<>\"\",#REF!<TODAY()),\"Retard\",\"Attente de Livraison\")))","v":""}]
[null,null,null,null,null,null,null,null,{"$f":"IF(F1782=\"\",\"\",IF(H1782<>\"\",\"OK\",IF(AND(#REF!<>\"\",#REF!<TODAY()),\"Retard\",\"Attente de Livraison\")))","v":""}]
[null,null,null,null,null,null,null,null,{"$f":"IF(F1783=\"\",\"\",IF(H1783<>\"\",\"OK\",IF(AND(#REF!<>\"\",#REF!<TODAY()),\"Retard\",\"Attente de Livraison\")))","v":""}]
[null,null,null,null,null,null,null,null,{"$f":"IF(F1784=\"\",\"\",IF(H1784<>\"\",\"OK\",IF(AND(#REF!<>\"\",#REF!<TODAY()),\"Retard\",\"Attente de Livraison\")))","v":""}]
[null,null,null,null,null,null,null,null,{"$f":"IF(F1785=\"\",\"\",IF(H1785<>\"\",\"OK\",IF(AND(#REF!<>\"\",#REF!<TODAY()),\"Retard\",\"Attente de Livraison\")))","v":""}]
[null,null,null,null,null,null,null,null,{"$f":"IF(F1786=\"\",\"\",IF(H1786<>\"\",\"OK\",IF(AND(#REF!<>\"\",#REF!<TODAY()),\"Retard\",\"Attente de Livraison\")))","v":""}]
[null,null,null,null,null,null,null,null,{"$f":"IF(F1787=\"\",\"\",IF(H1787<>\"\",\"OK\",IF(AND(#REF!<>\"\",#REF!<TODAY()),\"Retard\",\"Attente de Livraison\")))","v":""}]
[null,null,null,null,null,null,null,null,{"$f":"IF(F1788=\"\",\"\",IF(H1788<>\"\",\"OK\",IF(AND(#REF!<>\"\",#REF!<TODAY()),\"Retard\",\"Attente de Livraison\")))","v":""}]
[null,null,null,null,null,null,null,null,{"$f":"IF(F1789=\"\",\"\",IF(H1789<>\"\",\"OK\",IF(AND(#REF!<>\"\",#REF!<TODAY()),\"Retard\",\"Attente de Livraison\")))","v":""}]
[null,null,null,null,null,null,null,null,{"$f":"IF(F1790=\"\",\"\",IF(H1790<>\"\",\"OK\",IF(AND(#REF!<>\"\",#REF!<TODAY()),\"Retard\",\"Attente de Livraison\")))","v":""}]
[null,null,null,null,null,null,null,null,{"$f":"IF(F1791=\"\",\"\",IF(H1791<>\"\",\"OK\",IF(AND(#REF!<>\"\",#REF!<TODAY()),\"Retard\",\"Attente de Livraison\")))","v":""}]
[null,null,null,null,null,null,null,null,{"$f":"IF(F1792=\"\",\"\",IF(H1792<>\"\",\"OK\",IF(AND(#REF!<>\"\",#REF!<TODAY()),\"Retard\",\"Attente de Livraison\")))","v":""}]
[null,null,null,null,null,null,null,null,{"$f":"IF(F1793=\"\",\"\",IF(H1793<>\"\",\"OK\",IF(AND(#REF!<>\"\",#REF!<TODAY()),\"Retard\",\"Attente de Livraison\")))","v":""}]
[null,null,null,null,null,null,null,null,{"$f":"IF(F1794=\"\",\"\",IF(H1794<>\"\",\"OK\",IF(AND(#REF!<>\"\",#REF!<TODAY()),\"Retard\",\"Attente de Livraison\")))","v":""}]
[null,null,null,null,null,null,null,null,{"$f":"IF(F1795=\"\",\"\",IF(H1795<>\"\",\"OK\",IF(AND(#REF!<>\"\",#REF!<TODAY()),\"Retard\",\"Attente de Livraison\")))","v":""}]
[null,null,null,null,null,null,null,null,{"$f":"IF(F1796=\"\",\"\",IF(H1796<>\"\",\"OK\",IF(AND(#REF!<>\"\",#REF!<TODAY()),\"Retard\",\"Attente de Livraison\")))","v":""}]
[null,null,null,null,null,null,null,null,{"$f":"IF(F1797=\"\",\"\",IF(H1797<>\"\",\"OK\",IF(AND(#REF!<>\"\",#REF!<TODAY()),\"Retard\",\"Attente de Livraison\")))","v":""}]
[null,null,null,null,null,null,null,null,{"$f":"IF(F1798=\"\",\"\",IF(H1798<>\"\",\"OK\",IF(AND(#REF!<>\"\",#REF!<TODAY()),\"Retard\",\"Attente de Livraison\")))","v":""}]
[null,null,null,null,null,null,null,null,{"$f":"IF(F1799=\"\",\"\",IF(H1799<>\"\",\"OK\",IF(AND(#REF!<>\"\",#REF!<TODAY()),\"Retard\",\"Attente de Livraison\")))","v":""}]
[null,null,null,null,null,null,null,null,{"$f":"IF(F1800=\"\",\"\",IF(H1800<>\"\",\"OK\",IF(AND(#REF!<>\"\",#REF!<TODAY()),\"Retard\",\"Attente de Livraison\")))","v":""}]
[null,null,null,null,null,null,null,null,{"$f":"IF(F1801=\"\",\"\",IF(H1801<>\"\",\"OK\",IF(AND(#REF!<>\"\",#REF!<TODAY()),\"Retard\",\"Attente de Livraison\")))","v":""}]
[null,null,null,null,null,null,null,null,{"$f":"IF(F1802=\"\",\"\",IF(H1802<>\"\",\"OK\",IF(AND(#REF!<>\"\",#REF!<TODAY()),\"Retard\",\"Attente de Livraison\")))","v":""}]
[null,null,null,null,null,null,null,null,{"$f":"IF(F1803=\"\",\"\",IF(H1803<>\"\",\"OK\",IF(AND(#REF!<>\"\",#REF!<TODAY()),\"Retard\",\"Attente de Livraison\")))","v":""}]
[null,null,null,null,null,null,null,null,{"$f":"IF(F1804=\"\",\"\",IF(H1804<>\"\",\"OK\",IF(AND(#REF!<>\"\",#REF!<TODAY()),\"Retard\",\"Attente de Livraison\")))","v":""}]
[null,null,null,null,null,null,null,null,{"$f":"IF(F1805=\"\",\"\",IF(H1805<>\"\",\"OK\",IF(AND(#REF!<>\"\",#REF!<TODAY()),\"Retard\",\"Attente de Livraison\")))","v":""}]
[null,null,null,null,null,null,null,null,{"$f":"IF(F1806=\"\",\"\",IF(H1806<>\"\",\"OK\",IF(AND(#REF!<>\"\",#REF!<TODAY()),\"Retard\",\"Attente de Livraison\")))","v":""}]
[null,null,null,null,null,null,null,null,{"$f":"IF(F1807=\"\",\"\",IF(H1807<>\"\",\"OK\",IF(AND(#REF!<>\"\",#REF!<TODAY()),\"Retard\",\"Attente de Livraison\")))","v":""}]
[null,null,null,null,null,null,null,null,{"$f":"IF(F1808=\"\",\"\",IF(H1808<>\"\",\"OK\",IF(AND(#REF!<>\"\",#REF!<TODAY()),\"Retard\",\"Attente de Livraison\")))","v":""}]
[null,null,null,null,null,null,null,null,{"$f":"IF(F1809=\"\",\"\",IF(H1809<>\"\",\"OK\",IF(AND(#REF!<>\"\",#REF!<TODAY()),\"Retard\",\"Attente de Livraison\")))","v":""}]
[null,null,null,null,null,null,null,null,{"$f":"IF(F1810=\"\",\"\",IF(H1810<>\"\",\"OK\",IF(AND(#REF!<>\"\",#REF!<TODAY()),\"Retard\",\"Attente de Livraison\")))","v":""}]
[null,null,null,null,null,null,null,null,{"$f":"IF(F1811=\"\",\"\",IF(H1811<>\"\",\"OK\",IF(AND(#REF!<>\"\",#REF!<TODAY()),\"Retard\",\"Attente de Livraison\")))","v":""}]
[null,null,null,null,null,null,null,null,{"$f":"IF(F1812=\"\",\"\",IF(H1812<>\"\",\"OK\",IF(AND(#REF!<>\"\",#REF!<TODAY()),\"Retard\",\"Attente de Livraison\")))","v":""}]
[null,null,null,null,null,null,null,null,{"$f":"IF(F1813=\"\",\"\",IF(H1813<>\"\",\"OK\",IF(AND(#REF!<>\"\",#REF!<TODAY()),\"Retard\",\"Attente de Livraison\")))","v":""}]
[null,null,null,null,null,null,null,null,{"$f":"IF(F1814=\"\",\"\",IF(H1814<>\"\",\"OK\",IF(AND(#REF!<>\"\",#REF!<TODAY()),\"Retard\",\"Attente de Livraison\")))","v":""}]
[null,null,null,null,null,null,null,null,{"$f":"IF(F1815=\"\",\"\",IF(H1815<>\"\",\"OK\",IF(AND(#REF!<>\"\",#REF!<TODAY()),\"Retard\",\"Attente de Livraison\")))","v":""}]
[null,null,null,null,null,null,null,null,{"$f":"IF(F1816=\"\",\"\",IF(H1816<>\"\",\"OK\",IF(AND(#REF!<>\"\",#REF!<TODAY()),\"Retard\",\"Attente de Livraison\")))","v":""}]
[null,null,null,null,null,null,null,null,{"$f":"IF(F1817=\"\",\"\",IF(H1817<>\"\",\"OK\",IF(AND(#REF!<>\"\",#REF!<TODAY()),\"Retard\",\"Attente de Livraison\")))","v":""}]
[null,null,null,null,null,null,null,null,{"$f":"IF(F1818=\"\",\"\",IF(H1818<>\"\",\"OK\",IF(AND(#REF!<>\"\",#REF!<TODAY()),\"Retard\",\"Attente de Livraison\")))","v":""}]
[null,null,null,null,null,null,null,null,{"$f":"IF(F1819=\"\",\"\",IF(H1819<>\"\",\"OK\",IF(AND(#REF!<>\"\",#REF!<TODAY()),\"Retard\",\"Attente de Livraison\")))","v":""}]
[null,null,null,null,null,null,null,null,{"$f":"IF(F1820=\"\",\"\",IF(H1820<>\"\",\"OK\",IF(AND(#REF!<>\"\",#REF!<TODAY()),\"Retard\",\"Attente de Livraison\")))","v":""}]
[null,null,null,null,null,null,null,null,{"$f":"IF(F1821=\"\",\"\",IF(H1821<>\"\",\"OK\",IF(AND(#REF!<>\"\",#REF!<TODAY()),\"Retard\",\"Attente de Livraison\")))","v":""}]
[null,null,null,null,null,null,null,null,{"$f":"IF(F1822=\"\",\"\",IF(H1822<>\"\",\"OK\",IF(AND(#REF!<>\"\",#REF!<TODAY()),\"Retard\",\"Attente de Livraison\")))","v":""}]
[null,null,null,null,null,null,null,null,{"$f":"IF(F1823=\"\",\"\",IF(H1823<>\"\",\"OK\",IF(AND(#REF!<>\"\",#REF!<TODAY()),\"Retard\",\"Attente de Livraison\")))","v":""}]
[null,null,null,null,null,null,null,null,{"$f":"IF(F1824=\"\",\"\",IF(H1824<>\"\",\"OK\",IF(AND(#REF!<>\"\",#REF!<TODAY()),\"Retard\",\"Attente de Livraison\")))","v":""}]
[null,null,null,null,null,null,null,null,{"$f":"IF(F1825=\"\",\"\",IF(H1825<>\"\",\"OK\",IF(AND(#REF!<>\"\",#REF!<TODAY()),\"Retard\",\"Attente de Livraison\")))","v":""}]
[null,null,null,null,null,null,null,null,{"$f":"IF(F1826=\"\",\"\",IF(H1826<>\"\",\"OK\",IF(AND(#REF!<>\"\",#REF!<TODAY()),\"Retard\",\"Attente de Livraison\")))","v":""}]
[null,null,null,null,null,null,null,null,{"$f":"IF(F1827=\"\",\"\",IF(H1827<>\"\",\"OK\",IF(AND(#REF!<>\"\",#REF!<TODAY()),\"Retard\",\"Attente de Livraison\")))","v":""}]
[null,null,null,null,null,null,null,null,{"$f":"IF(F1828=\"\",\"\",IF(H1828<>\"\",\"OK\",IF(AND(#REF!<>\"\",#REF!<TODAY()),\"Retard\",\"Attente de Livraison\")))","v":""}]
[null,null,null,null,null,null,null,null,{"$f":"IF(F1829=\"\",\"\",IF(H1829<>\"\",\"OK\",IF(AND(#REF!<>\"\",#REF!<TODAY()),\"Retard\",\"Attente de Livraison\")))","v":""}]
[null,null,null,null,null,null,null,null,{"$f":"IF(F1830=\"\",\"\",IF(H1830<>\"\",\"OK\",IF(AND(#REF!<>\"\",#REF!<TODAY()),\"Retard\",\"Attente de Livraison\")))","v":""}]
[null,null,null,null,null,null,null,null,{"$f":"IF(F1831=\"\",\"\",IF(H1831<>\"\",\"OK\",IF(AND(#REF!<>\"\",#REF!<TODAY()),\"Retard\",\"Attente de Livraison\")))","v":""}]
[null,null,null,null,null,null,null,null,{"$f":"IF(F1832=\"\",\"\",IF(H1832<>\"\",\"OK\",IF(AND(#REF!<>\"\",#REF!<TODAY()),\"Retard\",\"Attente de Livraison\")))","v":""}]
[null,null,null,null,null,null,null,null,{"$f":"IF(F1833=\"\",\"\",IF(H1833<>\"\",\"OK\",IF(AND(#REF!<>\"\",#REF!<TODAY()),\"Retard\",\"Attente de Livraison\")))","v":""}]
[null,null,null,null,null,null,null,null,{"$f":"IF(F1834=\"\",\"\",IF(H1834<>\"\",\"OK\",IF(AND(#REF!<>\"\",#REF!<TODAY()),\"Retard\",\"Attente de Livraison\")))","v":""}]
[null,null,null,null,null,null,null,null,{"$f":"IF(F1835=\"\",\"\",IF(H1835<>\"\",\"OK\",IF(AND(#REF!<>\"\",#REF!<TODAY()),\"Retard\",\"Attente de Livraison\")))","v":""}]
[null,null,null,null,null,null,null,null,{"$f":"IF(F1836=\"\",\"\",IF(H1836<>\"\",\"OK\",IF(AND(#REF!<>\"\",#REF!<TODAY()),\"Retard\",\"Attente de Livraison\")))","v":""}]
[null,null,null,null,null,null,null,null,{"$f":"IF(F1837=\"\",\"\",IF(H1837<>\"\",\"OK\",IF(AND(#REF!<>\"\",#REF!<TODAY()),\"Retard\",\"Attente de Livraison\")))","v":""}]
[null,null,null,null,null,null,null,null,{"$f":"IF(F1838=\"\",\"\",IF(H1838<>\"\",\"OK\",IF(AND(#REF!<>\"\",#REF!<TODAY()),\"Retard\",\"Attente de Livraison\")))","v":""}]
[null,null,null,null,null,null,null,null,{"$f":"IF(F1839=\"\",\"\",IF(H1839<>\"\",\"OK\",IF(AND(#REF!<>\"\",#REF!<TODAY()),\"Retard\",\"Attente de Livraison\")))","v":""}]
[null,null,null,null,null,null,null,null,{"$f":"IF(F1840=\"\",\"\",IF(H1840<>\"\",\"OK\",IF(AND(#REF!<>\"\",#REF!<TODAY()),\"Retard\",\"Attente de Livraison\")))","v":""}]
[null,null,null,null,null,null,null,null,{"$f":"IF(F1841=\"\",\"\",IF(H1841<>\"\",\"OK\",IF(AND(#REF!<>\"\",#REF!<TODAY()),\"Retard\",\"Attente de Livraison\")))","v":""}]
[null,null,null,null,null,null,null,null,{"$f":"IF(F1842=\"\",\"\",IF(H1842<>\"\",\"OK\",IF(AND(#REF!<>\"\",#REF!<TODAY()),\"Retard\",\"Attente de Livraison\")))","v":""}]
[null,null,null,null,null,null,null,null,{"$f":"IF(F1843=\"\",\"\",IF(H1843<>\"\",\"OK\",IF(AND(#REF!<>\"\",#REF!<TODAY()),\"Retard\",\"Attente de Livraison\")))","v":""}]
[null,null,null,null,null,null,null,null,{"$f":"IF(F1844=\"\",\"\",IF(H1844<>\"\",\"OK\",IF(AND(#REF!<>\"\",#REF!<TODAY()),\"Retard\",\"Attente de Livraison\")))","v":""}]
[null,null,null,null,null,null,null,null,{"$f":"IF(F1845=\"\",\"\",IF(H1845<>\"\",\"OK\",IF(AND(#REF!<>\"\",#REF!<TODAY()),\"Retard\",\"Attente de Livraison\")))","v":""}]
[null,null,null,null,null,null,null,null,{"$f":"IF(F1846=\"\",\"\",IF(H1846<>\"\",\"OK\",IF(AND(#REF!<>\"\",#REF!<TODAY()),\"Retard\",\"Attente de Livraison\")))","v":""}]
[null,null,null,null,null,null,null,null,{"$f":"IF(F1847=\"\",\"\",IF(H1847<>\"\",\"OK\",IF(AND(#REF!<>\"\",#REF!<TODAY()),\"Retard\",\"Attente de Livraison\")))","v":""}]
[null,null,null,null,null,null,null,null,{"$f":"IF(F1848=\"\",\"\",IF(H1848<>\"\",\"OK\",IF(AND(#REF!<>\"\",#REF!<TODAY()),\"Retard\",\"Attente de Livraison\")))","v":""}]
[null,null,null,null,null,null,null,null,{"$f":"IF(F1849=\"\",\"\",IF(H1849<>\"\",\"OK\",IF(AND(#REF!<>\"\",#REF!<TODAY()),\"Retard\",\"Attente de Livraison\")))","v":""}]
[null,null,null,null,null,null,null,null,{"$f":"IF(F1850=\"\",\"\",IF(H1850<>\"\",\"OK\",IF(AND(#REF!<>\"\",#REF!<TODAY()),\"Retard\",\"Attente de Livraison\")))","v":""}]
[null,null,null,null,null,null,null,null,{"$f":"IF(F1851=\"\",\"\",IF(H1851<>\"\",\"OK\",IF(AND(#REF!<>\"\",#REF!<TODAY()),\"Retard\",\"Attente de Livraison\")))","v":""}]
[null,null,null,null,null,null,null,null,{"$f":"IF(F1852=\"\",\"\",IF(H1852<>\"\",\"OK\",IF(AND(#REF!<>\"\",#REF!<TODAY()),\"Retard\",\"Attente de Livraison\")))","v":""}]
[null,null,null,null,null,null,null,null,{"$f":"IF(F1853=\"\",\"\",IF(H1853<>\"\",\"OK\",IF(AND(#REF!<>\"\",#REF!<TODAY()),\"Retard\",\"Attente de Livraison\")))","v":""}]
[null,null,null,null,null,null,null,null,{"$f":"IF(F1854=\"\",\"\",IF(H1854<>\"\",\"OK\",IF(AND(#REF!<>\"\",#REF!<TODAY()),\"Retard\",\"Attente de Livraison\")))","v":""}]
[null,null,null,null,null,null,null,null,{"$f":"IF(F1855=\"\",\"\",IF(H1855<>\"\",\"OK\",IF(AND(#REF!<>\"\",#REF!<TODAY()),\"Retard\",\"Attente de Livraison\")))","v":""}]
[null,null,null,null,null,null,null,null,{"$f":"IF(F1856=\"\",\"\",IF(H1856<>\"\",\"OK\",IF(AND(#REF!<>\"\",#REF!<TODAY()),\"Retard\",\"Attente de Livraison\")))","v":""}]
[null,null,null,null,null,null,null,null,{"$f":"IF(F1857=\"\",\"\",IF(H1857<>\"\",\"OK\",IF(AND(#REF!<>\"\",#REF!<TODAY()),\"Retard\",\"Attente de Livraison\")))","v":""}]
[null,null,null,null,null,null,null,null,{"$f":"IF(F1858=\"\",\"\",IF(H1858<>\"\",\"OK\",IF(AND(#REF!<>\"\",#REF!<TODAY()),\"Retard\",\"Attente de Livraison\")))","v":""}]
[null,null,null,null,null,null,null,null,{"$f":"IF(F1859=\"\",\"\",IF(H1859<>\"\",\"OK\",IF(AND(#REF!<>\"\",#REF!<TODAY()),\"Retard\",\"Attente de Livraison\")))","v":""}]
[null,null,null,null,null,null,null,null,{"$f":"IF(F1860=\"\",\"\",IF(H1860<>\"\",\"OK\",IF(AND(#REF!<>\"\",#REF!<TODAY()),\"Retard\",\"Attente de Livraison\")))","v":""}]
[null,null,null,null,null,null,null,null,{"$f":"IF(F1861=\"\",\"\",IF(H1861<>\"\",\"OK\",IF(AND(#REF!<>\"\",#REF!<TODAY()),\"Retard\",\"Attente de Livraison\")))","v":""}]
[null,null,null,null,null,null,null,null,{"$f":"IF(F1862=\"\",\"\",IF(H1862<>\"\",\"OK\",IF(AND(#REF!<>\"\",#REF!<TODAY()),\"Retard\",\"Attente de Livraison\")))","v":""}]
[null,null,null,null,null,null,null,null,{"$f":"IF(F1863=\"\",\"\",IF(H1863<>\"\",\"OK\",IF(AND(#REF!<>\"\",#REF!<TODAY()),\"Retard\",\"Attente de Livraison\")))","v":""}]
[null,null,null,null,null,null,null,null,{"$f":"IF(F1864=\"\",\"\",IF(H1864<>\"\",\"OK\",IF(AND(#REF!<>\"\",#REF!<TODAY()),\"Retard\",\"Attente de Livraison\")))","v":""}]
[null,null,null,null,null,null,null,null,{"$f":"IF(F1865=\"\",\"\",IF(H1865<>\"\",\"OK\",IF(AND(#REF!<>\"\",#REF!<TODAY()),\"Retard\",\"Attente de Livraison\")))","v":""}]
[null,null,null,null,null,null,null,null,{"$f":"IF(F1866=\"\",\"\",IF(H1866<>\"\",\"OK\",IF(AND(#REF!<>\"\",#REF!<TODAY()),\"Retard\",\"Attente de Livraison\")))","v":""}]
[null,null,null,null,null,null,null,null,{"$f":"IF(F1867=\"\",\"\",IF(H1867<>\"\",\"OK\",IF(AND(#REF!<>\"\",#REF!<TODAY()),\"Retard\",\"Attente de Livraison\")))","v":""}]
[null,null,null,null,null,null,null,null,{"$f":"IF(F1868=\"\",\"\",IF(H1868<>\"\",\"OK\",IF(AND(#REF!<>\"\",#REF!<TODAY()),\"Retard\",\"Attente de Livraison\")))","v":""}]
[null,null,null,null,null,null,null,null,{"$f":"IF(F1869=\"\",\"\",IF(H1869<>\"\",\"OK\",IF(AND(#REF!<>\"\",#REF!<TODAY()),\"Retard\",\"Attente de Livraison\")))","v":""}]
[null,null,null,null,null,null,null,null,{"$f":"IF(F1870=\"\",\"\",IF(H1870<>\"\",\"OK\",IF(AND(#REF!<>\"\",#REF!<TODAY()),\"Retard\",\"Attente de Livraison\")))","v":""}]
[null,null,null,null,null,null,null,null,{"$f":"IF(F1871=\"\",\"\",IF(H1871<>\"\",\"OK\",IF(AND(#REF!<>\"\",#REF!<TODAY()),\"Retard\",\"Attente de Livraison\")))","v":""}]
[null,null,null,null,null,null,null,null,{"$f":"IF(F1872=\"\",\"\",IF(H1872<>\"\",\"OK\",IF(AND(#REF!<>\"\",#REF!<TODAY()),\"Retard\",\"Attente de Livraison\")))","v":""}]
[null,null,null,null,null,null,null,null,{"$f":"IF(F1873=\"\",\"\",IF(H1873<>\"\",\"OK\",IF(AND(#REF!<>\"\",#REF!<TODAY()),\"Retard\",\"Attente de Livraison\")))","v":""}]
[null,null,null,null,null,null,null,null,{"$f":"IF(F1874=\"\",\"\",IF(H1874<>\"\",\"OK\",IF(AND(#REF!<>\"\",#REF!<TODAY()),\"Retard\",\"Attente de Livraison\")))","v":""}]
[null,null,null,null,null,null,null,null,{"$f":"IF(F1875=\"\",\"\",IF(H1875<>\"\",\"OK\",IF(AND(#REF!<>\"\",#REF!<TODAY()),\"Retard\",\"Attente de Livraison\")))","v":""}]
[null,null,null,null,null,null,null,null,{"$f":"IF(F1876=\"\",\"\",IF(H1876<>\"\",\"OK\",IF(AND(#REF!<>\"\",#REF!<TODAY()),\"Retard\",\"Attente de Livraison\")))","v":""}]
[null,null,null,null,null,null,null,null,{"$f":"IF(F1877=\"\",\"\",IF(H1877<>\"\",\"OK\",IF(AND(#REF!<>\"\",#REF!<TODAY()),\"Retard\",\"Attente de Livraison\")))","v":""}]
[null,null,null,null,null,null,null,null,{"$f":"IF(F1878=\"\",\"\",IF(H1878<>\"\",\"OK\",IF(AND(#REF!<>\"\",#REF!<TODAY()),\"Retard\",\"Attente de Livraison\")))","v":""}]
[null,null,null,null,null,null,null,null,{"$f":"IF(F1879=\"\",\"\",IF(H1879<>\"\",\"OK\",IF(AND(#REF!<>\"\",#REF!<TODAY()),\"Retard\",\"Attente de Livraison\")))","v":""}]
[null,null,null,null,null,null,null,null,{"$f":"IF(F1880=\"\",\"\",IF(H1880<>\"\",\"OK\",IF(AND(#REF!<>\"\",#REF!<TODAY()),\"Retard\",\"Attente de Livraison\")))","v":""}]
[null,null,null,null,null,null,null,null,{"$f":"IF(F1881=\"\",\"\",IF(H1881<>\"\",\"OK\",IF(AND(#REF!<>\"\",#REF!<TODAY()),\"Retard\",\"Attente de Livraison\")))","v":""}]
[null,null,null,null,null,null,null,null,{"$f":"IF(F1882=\"\",\"\",IF(H1882<>\"\",\"OK\",IF(AND(#REF!<>\"\",#REF!<TODAY()),\"Retard\",\"Attente de Livraison\")))","v":""}]
[null,null,null,null,null,null,null,null,{"$f":"IF(F1883=\"\",\"\",IF(H1883<>\"\",\"OK\",IF(AND(#REF!<>\"\",#REF!<TODAY()),\"Retard\",\"Attente de Livraison\")))","v":""}]
[null,null,null,null,null,null,null,null,{"$f":"IF(F1884=\"\",\"\",IF(H1884<>\"\",\"OK\",IF(AND(#REF!<>\"\",#REF!<TODAY()),\"Retard\",\"Attente de Livraison\")))","v":""}]
[null,null,null,null,null,null,null,null,{"$f":"IF(F1885=\"\",\"\",IF(H1885<>\"\",\"OK\",IF(AND(#REF!<>\"\",#REF!<TODAY()),\"Retard\",\"Attente de Livraison\")))","v":""}]
[null,null,null,null,null,null,null,null,{"$f":"IF(F1886=\"\",\"\",IF(H1886<>\"\",\"OK\",IF(AND(#REF!<>\"\",#REF!<TODAY()),\"Retard\",\"Attente de Livraison\")))","v":""}]
[null,null,null,null,null,null,null,null,{"$f":"IF(F1887=\"\",\"\",IF(H1887<>\"\",\"OK\",IF(AND(#REF!<>\"\",#REF!<TODAY()),\"Retard\",\"Attente de Livraison\")))","v":""}]
[null,null,null,null,null,null,null,null,{"$f":"IF(F1888=\"\",\"\",IF(H1888<>\"\",\"OK\",IF(AND(#REF!<>\"\",#REF!<TODAY()),\"Retard\",\"Attente de Livraison\")))","v":""}]
[null,null,null,null,null,null,null,null,{"$f":"IF(F1889=\"\",\"\",IF(H1889<>\"\",\"OK\",IF(AND(#REF!<>\"\",#REF!<TODAY()),\"Retard\",\"Attente de Livraison\")))","v":""}]
[null,null,null,null,null,null,null,null,{"$f":"IF(F1890=\"\",\"\",IF(H1890<>\"\",\"OK\",IF(AND(#REF!<>\"\",#REF!<TODAY()),\"Retard\",\"Attente de Livraison\")))","v":""}]
[null,null,null,null,null,null,null,null,{"$f":"IF(F1891=\"\",\"\",IF(H1891<>\"\",\"OK\",IF(AND(#REF!<>\"\",#REF!<TODAY()),\"Retard\",\"Attente de Livraison\")))","v":""}]
[null,null,null,null,null,null,null,null,{"$f":"IF(F1892=\"\",\"\",IF(H1892<>\"\",\"OK\",IF(AND(#REF!<>\"\",#REF!<TODAY()),\"Retard\",\"Attente de Livraison\")))","v":""}]
[null,null,null,null,null,null,null,null,{"$f":"IF(F1893=\"\",\"\",IF(H1893<>\"\",\"OK\",IF(AND(#REF!<>\"\",#REF!<TODAY()),\"Retard\",\"Attente de Livraison\")))","v":""}]
[null,null,null,null,null,null,null,null,{"$f":"IF(F1894=\"\",\"\",IF(H1894<>\"\",\"OK\",IF(AND(#REF!<>\"\",#REF!<TODAY()),\"Retard\",\"Attente de Livraison\")))","v":""}]
[null,null,null,null,null,null,null,null,{"$f":"IF(F1895=\"\",\"\",IF(H1895<>\"\",\"OK\",IF(AND(#REF!<>\"\",#REF!<TODAY()),\"Retard\",\"Attente de Livraison\")))","v":""}]
[null,null,null,null,null,null,null,null,{"$f":"IF(F1896=\"\",\"\",IF(H1896<>\"\",\"OK\",IF(AND(#REF!<>\"\",#REF!<TODAY()),\"Retard\",\"Attente de Livraison\")))","v":""}]
[null,null,null,null,null,null,null,null,{"$f":"IF(F1897=\"\",\"\",IF(H1897<>\"\",\"OK\",IF(AND(#REF!<>\"\",#REF!<TODAY()),\"Retard\",\"Attente de Livraison\")))","v":""}]
[null,null,null,null,null,null,null,null,{"$f":"IF(F1898=\"\",\"\",IF(H1898<>\"\",\"OK\",IF(AND(#REF!<>\"\",#REF!<TODAY()),\"Retard\",\"Attente de Livraison\")))","v":""}]
[null,null,null,null,null,null,null,null,{"$f":"IF(F1899=\"\",\"\",IF(H1899<>\"\",\"OK\",IF(AND(#REF!<>\"\",#REF!<TODAY()),\"Retard\",\"Attente de Livraison\")))","v":""}]
[null,null,null,null,null,null,null,null,{"$f":"IF(F1900=\"\",\"\",IF(H1900<>\"\",\"OK\",IF(AND(#REF!<>\"\",#REF!<TODAY()),\"Retard\",\"Attente de Livraison\")))","v":""}]
[null,null,null,null,null,null,null,null,{"$f":"IF(F1901=\"\",\"\",IF(H1901<>\"\",\"OK\",IF(AND(#REF!<>\"\",#REF!<TODAY()),\"Retard\",\"Attente de Livraison\")))","v":""}]
[null,null,null,null,null,null,null,null,{"$f":"IF(F1902=\"\",\"\",IF(H1902<>\"\",\"OK\",IF(AND(#REF!<>\"\",#REF!<TODAY()),\"Retard\",\"Attente de Livraison\")))","v":""}]
[null,null,null,null,null,null,null,null,{"$f":"IF(F1903=\"\",\"\",IF(H1903<>\"\",\"OK\",IF(AND(#REF!<>\"\",#REF!<TODAY()),\"Retard\",\"Attente de Livraison\")))","v":""}]
[null,null,null,null,null,null,null,null,{"$f":"IF(F1904=\"\",\"\",IF(H1904<>\"\",\"OK\",IF(AND(#REF!<>\"\",#REF!<TODAY()),\"Retard\",\"Attente de Livraison\")))","v":""}]
[null,null,null,null,null,null,null,null,{"$f":"IF(F1905=\"\",\"\",IF(H1905<>\"\",\"OK\",IF(AND(#REF!<>\"\",#REF!<TODAY()),\"Retard\",\"Attente de Livraison\")))","v":""}]
[null,null,null,null,null,null,null,null,{"$f":"IF(F1906=\"\",\"\",IF(H1906<>\"\",\"OK\",IF(AND(#REF!<>\"\",#REF!<TODAY()),\"Retard\",\"Attente de Livraison\")))","v":""}]
[null,null,null,null,null,null,null,null,{"$f":"IF(F1907=\"\",\"\",IF(H1907<>\"\",\"OK\",IF(AND(#REF!<>\"\",#REF!<TODAY()),\"Retard\",\"Attente de Livraison\")))","v":""}]
[null,null,null,null,null,null,null,null,{"$f":"IF(F1908=\"\",\"\",IF(H1908<>\"\",\"OK\",IF(AND(#REF!<>\"\",#REF!<TODAY()),\"Retard\",\"Attente de Livraison\")))","v":""}]
[null,null,null,null,null,null,null,null,{"$f":"IF(F1909=\"\",\"\",IF(H1909<>\"\",\"OK\",IF(AND(#REF!<>\"\",#REF!<TODAY()),\"Retard\",\"Attente de Livraison\")))","v":""}]
[null,null,null,null,null,null,null,null,{"$f":"IF(F1910=\"\",\"\",IF(H1910<>\"\",\"OK\",IF(AND(#REF!<>\"\",#REF!<TODAY()),\"Retard\",\"Attente de Livraison\")))","v":""}]
[null,null,null,null,null,null,null,null,{"$f":"IF(F1911=\"\",\"\",IF(H1911<>\"\",\"OK\",IF(AND(#REF!<>\"\",#REF!<TODAY()),\"Retard\",\"Attente de Livraison\")))","v":""}]
[null,null,null,null,null,null,null,null,{"$f":"IF(F1912=\"\",\"\",IF(H1912<>\"\",\"OK\",IF(AND(#REF!<>\"\",#REF!<TODAY()),\"Retard\",\"Attente de Livraison\")))","v":""}]
[null,null,null,null,null,null,null,null,{"$f":"IF(F1913=\"\",\"\",IF(H1913<>\"\",\"OK\",IF(AND(#REF!<>\"\",#REF!<TODAY()),\"Retard\",\"Attente de Livraison\")))","v":""}]
[null,null,null,null,null,null,null,null,{"$f":"IF(F1914=\"\",\"\",IF(H1914<>\"\",\"OK\",IF(AND(#REF!<>\"\",#REF!<TODAY()),\"Retard\",\"Attente de Livraison\")))","v":""}]
[null,null,null,null,null,null,null,null,{"$f":"IF(F1915=\"\",\"\",IF(H1915<>\"\",\"OK\",IF(AND(#REF!<>\"\",#REF!<TODAY()),\"Retard\",\"Attente de Livraison\")))","v":""}]
[null,null,null,null,null,null,null,null,{"$f":"IF(F1916=\"\",\"\",IF(H1916<>\"\",\"OK\",IF(AND(#REF!<>\"\",#REF!<TODAY()),\"Retard\",\"Attente de Livraison\")))","v":""}]
[null,null,null,null,null,null,null,null,{"$f":"IF(F1917=\"\",\"\",IF(H1917<>\"\",\"OK\",IF(AND(#REF!<>\"\",#REF!<TODAY()),\"Retard\",\"Attente de Livraison\")))","v":""}]
[null,null,null,null,null,null,null,null,{"$f":"IF(F1918=\"\",\"\",IF(H1918<>\"\",\"OK\",IF(AND(#REF!<>\"\",#REF!<TODAY()),\"Retard\",\"Attente de Livraison\")))","v":""}]
[null,null,null,null,null,null,null,null,{"$f":"IF(F1919=\"\",\"\",IF(H1919<>\"\",\"OK\",IF(AND(#REF!<>\"\",#REF!<TODAY()),\"Retard\",\"Attente de Livraison\")))","v":""}]
[null,null,null,null,null,null,null,null,{"$f":"IF(F1920=\"\",\"\",IF(H1920<>\"\",\"OK\",IF(AND(#REF!<>\"\",#REF!<TODAY()),\"Retard\",\"Attente de Livraison\")))","v":""}]
[null,null,null,null,null,null,null,null,{"$f":"IF(F1921=\"\",\"\",IF(H1921<>\"\",\"OK\",IF(AND(#REF!<>\"\",#REF!<TODAY()),\"Retard\",\"Attente de Livraison\")))","v":""}]
[null,null,null,null,null,null,null,null,{"$f":"IF(F1922=\"\",\"\",IF(H1922<>\"\",\"OK\",IF(AND(#REF!<>\"\",#REF!<TODAY()),\"Retard\",\"Attente de Livraison\")))","v":""}]
[null,null,null,null,null,null,null,null,{"$f":"IF(F1923=\"\",\"\",IF(H1923<>\"\",\"OK\",IF(AND(#REF!<>\"\",#REF!<TODAY()),\"Retard\",\"Attente de Livraison\")))","v":""}]
[null,null,null,null,null,null,null,null,{"$f":"IF(F1924=\"\",\"\",IF(H1924<>\"\",\"OK\",IF(AND(#REF!<>\"\",#REF!<TODAY()),\"Retard\",\"Attente de Livraison\")))","v":""}]
[null,null,null,null,null,null,null,null,{"$f":"IF(F1925=\"\",\"\",IF(H1925<>\"\",\"OK\",IF(AND(#REF!<>\"\",#REF!<TODAY()),\"Retard\",\"Attente de Livraison\")))","v":""}]
[null,null,null,null,null,null,null,null,{"$f":"IF(F1926=\"\",\"\",IF(H1926<>\"\",\"OK\",IF(AND(#REF!<>\"\",#REF!<TODAY()),\"Retard\",\"Attente de Livraison\")))","v":""}]
[null,null,null,null,null,null,null,null,{"$f":"IF(F1927=\"\",\"\",IF(H1927<>\"\",\"OK\",IF(AND(#REF!<>\"\",#REF!<TODAY()),\"Retard\",\"Attente de Livraison\")))","v":""}]
[null,null,null,null,null,null,null,null,{"$f":"IF(F1928=\"\",\"\",IF(H1928<>\"\",\"OK\",IF(AND(#REF!<>\"\",#REF!<TODAY()),\"Retard\",\"Attente de Livraison\")))","v":""}]
[null,null,null,null,null,null,null,null,{"$f":"IF(F1929=\"\",\"\",IF(H1929<>\"\",\"OK\",IF(AND(#REF!<>\"\",#REF!<TODAY()),\"Retard\",\"Attente de Livraison\")))","v":""}]
[null,null,null,null,null,null,null,null,{"$f":"IF(F1930=\"\",\"\",IF(H1930<>\"\",\"OK\",IF(AND(#REF!<>\"\",#REF!<TODAY()),\"Retard\",\"Attente de Livraison\")))","v":""}]
[null,null,null,null,null,null,null,null,{"$f":"IF(F1931=\"\",\"\",IF(H1931<>\"\",\"OK\",IF(AND(#REF!<>\"\",#REF!<TODAY()),\"Retard\",\"Attente de Livraison\")))","v":""}]
[null,null,null,null,null,null,null,null,{"$f":"IF(F1932=\"\",\"\",IF(H1932<>\"\",\"OK\",IF(AND(#REF!<>\"\",#REF!<TODAY()),\"Retard\",\"Attente de Livraison\")))","v":""}]
[null,null,null,null,null,null,null,null,{"$f":"IF(F1933=\"\",\"\",IF(H1933<>\"\",\"OK\",IF(AND(#REF!<>\"\",#REF!<TODAY()),\"Retard\",\"Attente de Livraison\")))","v":""}]
[null,null,null,null,null,null,null,null,{"$f":"IF(F1934=\"\",\"\",IF(H1934<>\"\",\"OK\",IF(AND(#REF!<>\"\",#REF!<TODAY()),\"Retard\",\"Attente de Livraison\")))","v":""}]
[null,null,null,null,null,null,null,null,{"$f":"IF(F1935=\"\",\"\",IF(H1935<>\"\",\"OK\",IF(AND(#REF!<>\"\",#REF!<TODAY()),\"Retard\",\"Attente de Livraison\")))","v":""}]
[null,null,null,null,null,null,null,null,{"$f":"IF(F1936=\"\",\"\",IF(H1936<>\"\",\"OK\",IF(AND(#REF!<>\"\",#REF!<TODAY()),\"Retard\",\"Attente de Livraison\")))","v":""}]
[null,null,null,null,null,null,null,null,{"$f":"IF(F1937=\"\",\"\",IF(H1937<>\"\",\"OK\",IF(AND(#REF!<>\"\",#REF!<TODAY()),\"Retard\",\"Attente de Livraison\")))","v":""}]
[null,null,null,null,null,null,null,null,{"$f":"IF(F1938=\"\",\"\",IF(H1938<>\"\",\"OK\",IF(AND(#REF!<>\"\",#REF!<TODAY()),\"Retard\",\"Attente de Livraison\")))","v":""}]
[null,null,null,null,null,null,null,null,{"$f":"IF(F1939=\"\",\"\",IF(H1939<>\"\",\"OK\",IF(AND(#REF!<>\"\",#REF!<TODAY()),\"Retard\",\"Attente de Livraison\")))","v":""}]
[null,null,null,null,null,null,null,null,{"$f":"IF(F1940=\"\",\"\",IF(H1940<>\"\",\"OK\",IF(AND(#REF!<>\"\",#REF!<TODAY()),\"Retard\",\"Attente de Livraison\")))","v":""}]
[null,null,null,null,null,null,null,null,{"$f":"IF(F1941=\"\",\"\",IF(H1941<>\"\",\"OK\",IF(AND(#REF!<>\"\",#REF!<TODAY()),\"Retard\",\"Attente de Livraison\")))","v":""}]
[null,null,null,null,null,null,null,null,{"$f":"IF(F1942=\"\",\"\",IF(H1942<>\"\",\"OK\",IF(AND(#REF!<>\"\",#REF!<TODAY()),\"Retard\",\"Attente de Livraison\")))","v":""}]
[null,null,null,null,null,null,null,null,{"$f":"IF(F1943=\"\",\"\",IF(H1943<>\"\",\"OK\",IF(AND(#REF!<>\"\",#REF!<TODAY()),\"Retard\",\"Attente de Livraison\")))","v":""}]
[null,null,null,null,null,null,null,null,{"$f":"IF(F1944=\"\",\"\",IF(H1944<>\"\",\"OK\",IF(AND(#REF!<>\"\",#REF!<TODAY()),\"Retard\",\"Attente de Livraison\")))","v":""}]
[null,null,null,null,null,null,null,null,{"$f":"IF(F1945=\"\",\"\",IF(H1945<>\"\",\"OK\",IF(AND(#REF!<>\"\",#REF!<TODAY()),\"Retard\",\"Attente de Livraison\")))","v":""}]
[null,null,null,null,null,null,null,null,{"$f":"IF(F1946=\"\",\"\",IF(H1946<>\"\",\"OK\",IF(AND(#REF!<>\"\",#REF!<TODAY()),\"Retard\",\"Attente de Livraison\")))","v":""}]
[null,null,null,null,null,null,null,null,{"$f":"IF(F1947=\"\",\"\",IF(H1947<>\"\",\"OK\",IF(AND(#REF!<>\"\",#REF!<TODAY()),\"Retard\",\"Attente de Livraison\")))","v":""}]
[null,null,null,null,null,null,null,null,{"$f":"IF(F1948=\"\",\"\",IF(H1948<>\"\",\"OK\",IF(AND(#REF!<>\"\",#REF!<TODAY()),\"Retard\",\"Attente de Livraison\")))","v":""}]
[null,null,null,null,null,null,null,null,{"$f":"IF(F1949=\"\",\"\",IF(H1949<>\"\",\"OK\",IF(AND(#REF!<>\"\",#REF!<TODAY()),\"Retard\",\"Attente de Livraison\")))","v":""}]
[null,null,null,null,null,null,null,null,{"$f":"IF(F1950=\"\",\"\",IF(H1950<>\"\",\"OK\",IF(AND(#REF!<>\"\",#REF!<TODAY()),\"Retard\",\"Attente de Livraison\")))","v":""}]
[null,null,null,null,null,null,null,null,{"$f":"IF(F1951=\"\",\"\",IF(H1951<>\"\",\"OK\",IF(AND(#REF!<>\"\",#REF!<TODAY()),\"Retard\",\"Attente de Livraison\")))","v":""}]
[null,null,null,null,null,null,null,null,{"$f":"IF(F1952=\"\",\"\",IF(H1952<>\"\",\"OK\",IF(AND(#REF!<>\"\",#REF!<TODAY()),\"Retard\",\"Attente de Livraison\")))","v":""}]
[null,null,null,null,null,null,null,null,{"$f":"IF(F1953=\"\",\"\",IF(H1953<>\"\",\"OK\",IF(AND(#REF!<>\"\",#REF!<TODAY()),\"Retard\",\"Attente de Livraison\")))","v":""}]
[null,null,null,null,null,null,null,null,{"$f":"IF(F1954=\"\",\"\",IF(H1954<>\"\",\"OK\",IF(AND(#REF!<>\"\",#REF!<TODAY()),\"Retard\",\"Attente de Livraison\")))","v":""}]
[null,null,null,null,null,null,null,null,{"$f":"IF(F1955=\"\",\"\",IF(H1955<>\"\",\"OK\",IF(AND(#REF!<>\"\",#REF!<TODAY()),\"Retard\",\"Attente de Livraison\")))","v":""}]
[null,null,null,null,null,null,null,null,{"$f":"IF(F1956=\"\",\"\",IF(H1956<>\"\",\"OK\",IF(AND(#REF!<>\"\",#REF!<TODAY()),\"Retard\",\"Attente de Livraison\")))","v":""}]
[null,null,null,null,null,null,null,null,{"$f":"IF(F1957=\"\",\"\",IF(H1957<>\"\",\"OK\",IF(AND(#REF!<>\"\",#REF!<TODAY()),\"Retard\",\"Attente de Livraison\")))","v":""}]
[null,null,null,null,null,null,null,null,{"$f":"IF(F1958=\"\",\"\",IF(H1958<>\"\",\"OK\",IF(AND(#REF!<>\"\",#REF!<TODAY()),\"Retard\",\"Attente de Livraison\")))","v":""}]
[null,null,null,null,null,null,null,null,{"$f":"IF(F1959=\"\",\"\",IF(H1959<>\"\",\"OK\",IF(AND(#REF!<>\"\",#REF!<TODAY()),\"Retard\",\"Attente de Livraison\")))","v":""}]
[null,null,null,null,null,null,null,null,{"$f":"IF(F1960=\"\",\"\",IF(H1960<>\"\",\"OK\",IF(AND(#REF!<>\"\",#REF!<TODAY()),\"Retard\",\"Attente de Livraison\")))","v":""}]
[null,null,null,null,null,null,null,null,{"$f":"IF(F1961=\"\",\"\",IF(H1961<>\"\",\"OK\",IF(AND(#REF!<>\"\",#REF!<TODAY()),\"Retard\",\"Attente de Livraison\")))","v":""}]
[null,null,null,null,null,null,null,null,{"$f":"IF(F1962=\"\",\"\",IF(H1962<>\"\",\"OK\",IF(AND(#REF!<>\"\",#REF!<TODAY()),\"Retard\",\"Attente de Livraison\")))","v":""}]
[null,null,null,null,null,null,null,null,{"$f":"IF(F1963=\"\",\"\",IF(H1963<>\"\",\"OK\",IF(AND(#REF!<>\"\",#REF!<TODAY()),\"Retard\",\"Attente de Livraison\")))","v":""}]
[null,null,null,null,null,null,null,null,{"$f":"IF(F1964=\"\",\"\",IF(H1964<>\"\",\"OK\",IF(AND(#REF!<>\"\",#REF!<TODAY()),\"Retard\",\"Attente de Livraison\")))","v":""}]
[null,null,null,null,null,null,null,null,{"$f":"IF(F1965=\"\",\"\",IF(H1965<>\"\",\"OK\",IF(AND(#REF!<>\"\",#REF!<TODAY()),\"Retard\",\"Attente de Livraison\")))","v":""}]
[null,null,null,null,null,null,null,null,{"$f":"IF(F1966=\"\",\"\",IF(H1966<>\"\",\"OK\",IF(AND(#REF!<>\"\",#REF!<TODAY()),\"Retard\",\"Attente de Livraison\")))","v":""}]
[null,null,null,null,null,null,null,null,{"$f":"IF(F1967=\"\",\"\",IF(H1967<>\"\",\"OK\",IF(AND(#REF!<>\"\",#REF!<TODAY()),\"Retard\",\"Attente de Livraison\")))","v":""}]
[null,null,null,null,null,null,null,null,{"$f":"IF(F1968=\"\",\"\",IF(H1968<>\"\",\"OK\",IF(AND(#REF!<>\"\",#REF!<TODAY()),\"Retard\",\"Attente de Livraison\")))","v":""}]
[null,null,null,null,null,null,null,null,{"$f":"IF(F1969=\"\",\"\",IF(H1969<>\"\",\"OK\",IF(AND(#REF!<>\"\",#REF!<TODAY()),\"Retard\",\"Attente de Livraison\")))","v":""}]
[null,null,null,null,null,null,null,null,{"$f":"IF(F1970=\"\",\"\",IF(H1970<>\"\",\"OK\",IF(AND(#REF!<>\"\",#REF!<TODAY()),\"Retard\",\"Attente de Livraison\")))","v":""}]
[null,null,null,null,null,null,null,null,{"$f":"IF(F1971=\"\",\"\",IF(H1971<>\"\",\"OK\",IF(AND(#REF!<>\"\",#REF!<TODAY()),\"Retard\",\"Attente de Livraison\")))","v":""}]
[null,null,null,null,null,null,null,null,{"$f":"IF(F1972=\"\",\"\",IF(H1972<>\"\",\"OK\",IF(AND(#REF!<>\"\",#REF!<TODAY()),\"Retard\",\"Attente de Livraison\")))","v":""}]
[null,null,null,null,null,null,null,null,{"$f":"IF(F1973=\"\",\"\",IF(H1973<>\"\",\"OK\",IF(AND(#REF!<>\"\",#REF!<TODAY()),\"Retard\",\"Attente de Livraison\")))","v":""}]
[null,null,null,null,null,null,null,null,{"$f":"IF(F1974=\"\",\"\",IF(H1974<>\"\",\"OK\",IF(AND(#REF!<>\"\",#REF!<TODAY()),\"Retard\",\"Attente de Livraison\")))","v":""}]
[null,null,null,null,null,null,null,null,{"$f":"IF(F1975=\"\",\"\",IF(H1975<>\"\",\"OK\",IF(AND(#REF!<>\"\",#REF!<TODAY()),\"Retard\",\"Attente de Livraison\")))","v":""}]
[null,null,null,null,null,null,null,null,{"$f":"IF(F1976=\"\",\"\",IF(H1976<>\"\",\"OK\",IF(AND(#REF!<>\"\",#REF!<TODAY()),\"Retard\",\"Attente de Livraison\")))","v":""}]
[null,null,null,null,null,null,null,null,{"$f":"IF(F1977=\"\",\"\",IF(H1977<>\"\",\"OK\",IF(AND(#REF!<>\"\",#REF!<TODAY()),\"Retard\",\"Attente de Livraison\")))","v":""}]
[null,null,null,null,null,null,null,null,{"$f":"IF(F1978=\"\",\"\",IF(H1978<>\"\",\"OK\",IF(AND(#REF!<>\"\",#REF!<TODAY()),\"Retard\",\"Attente de Livraison\")))","v":""}]
[null,null,null,null,null,null,null,null,{"$f":"IF(F1979=\"\",\"\",IF(H1979<>\"\",\"OK\",IF(AND(#REF!<>\"\",#REF!<TODAY()),\"Retard\",\"Attente de Livraison\")))","v":""}]
[null,null,null,null,null,null,null,null,{"$f":"IF(F1980=\"\",\"\",IF(H1980<>\"\",\"OK\",IF(AND(#REF!<>\"\",#REF!<TODAY()),\"Retard\",\"Attente de Livraison\")))","v":""}]
[null,null,null,null,null,null,null,null,{"$f":"IF(F1981=\"\",\"\",IF(H1981<>\"\",\"OK\",IF(AND(#REF!<>\"\",#REF!<TODAY()),\"Retard\",\"Attente de Livraison\")))","v":""}]
[null,null,null,null,null,null,null,null,{"$f":"IF(F1982=\"\",\"\",IF(H1982<>\"\",\"OK\",IF(AND(#REF!<>\"\",#REF!<TODAY()),\"Retard\",\"Attente de Livraison\")))","v":""}]
[null,null,null,null,null,null,null,null,{"$f":"IF(F1983=\"\",\"\",IF(H1983<>\"\",\"OK\",IF(AND(#REF!<>\"\",#REF!<TODAY()),\"Retard\",\"Attente de Livraison\")))","v":""}]
[null,null,null,null,null,null,null,null,{"$f":"IF(F1984=\"\",\"\",IF(H1984<>\"\",\"OK\",IF(AND(#REF!<>\"\",#REF!<TODAY()),\"Retard\",\"Attente de Livraison\")))","v":""}]
[null,null,null,null,null,null,null,null,{"$f":"IF(F1985=\"\",\"\",IF(H1985<>\"\",\"OK\",IF(AND(#REF!<>\"\",#REF!<TODAY()),\"Retard\",\"Attente de Livraison\")))","v":""}]
[null,null,null,null,null,null,null,null,{"$f":"IF(F1986=\"\",\"\",IF(H1986<>\"\",\"OK\",IF(AND(#REF!<>\"\",#REF!<TODAY()),\"Retard\",\"Attente de Livraison\")))","v":""}]
[null,null,null,null,null,null,null,null,{"$f":"IF(F1987=\"\",\"\",IF(H1987<>\"\",\"OK\",IF(AND(#REF!<>\"\",#REF!<TODAY()),\"Retard\",\"Attente de Livraison\")))","v":""}]
[null,null,null,null,null,null,null,null,{"$f":"IF(F1988=\"\",\"\",IF(H1988<>\"\",\"OK\",IF(AND(#REF!<>\"\",#REF!<TODAY()),\"Retard\",\"Attente de Livraison\")))","v":""}]
[null,null,null,null,null,null,null,null,{"$f":"IF(F1989=\"\",\"\",IF(H1989<>\"\",\"OK\",IF(AND(#REF!<>\"\",#REF!<TODAY()),\"Retard\",\"Attente de Livraison\")))","v":""}]
[null,null,null,null,null,null,null,null,{"$f":"IF(F1990=\"\",\"\",IF(H1990<>\"\",\"OK\",IF(AND(#REF!<>\"\",#REF!<TODAY()),\"Retard\",\"Attente de Livraison\")))","v":""}]
[null,null,null,null,null,null,null,null,{"$f":"IF(F1991=\"\",\"\",IF(H1991<>\"\",\"OK\",IF(AND(#REF!<>\"\",#REF!<TODAY()),\"Retard\",\"Attente de Livraison\")))","v":""}]
[null,null,null,null,null,null,null,null,{"$f":"IF(F1992=\"\",\"\",IF(H1992<>\"\",\"OK\",IF(AND(#REF!<>\"\",#REF!<TODAY()),\"Retard\",\"Attente de Livraison\")))","v":""}]
[null,null,null,null,null,null,null,null,{"$f":"IF(F1993=\"\",\"\",IF(H1993<>\"\",\"OK\",IF(AND(#REF!<>\"\",#REF!<TODAY()),\"Retard\",\"Attente de Livraison\")))","v":""}]
[null,null,null,null,null,null,null,null,{"$f":"IF(F1994=\"\",\"\",IF(H1994<>\"\",\"OK\",IF(AND(#REF!<>\"\",#REF!<TODAY()),\"Retard\",\"Attente de Livraison\")))","v":""}]
[null,null,null,null,null,null,null,null,{"$f":"IF(F1995=\"\",\"\",IF(H1995<>\"\",\"OK\",IF(AND(#REF!<>\"\",#REF!<TODAY()),\"Retard\",\"Attente de Livraison\")))","v":""}]
[null,null,null,null,null,null,null,null,{"$f":"IF(F1996=\"\",\"\",IF(H1996<>\"\",\"OK\",IF(AND(#REF!<>\"\",#REF!<TODAY()),\"Retard\",\"Attente de Livraison\")))","v":""}]
[null,null,null,null,null,null,null,null,{"$f":"IF(F1997=\"\",\"\",IF(H1997<>\"\",\"OK\",IF(AND(#REF!<>\"\",#REF!<TODAY()),\"Retard\",\"Attente de Livraison\")))","v":""}]
[null,null,null,null,null,null,null,null,{"$f":"IF(F1998=\"\",\"\",IF(H1998<>\"\",\"OK\",IF(AND(#REF!<>\"\",#REF!<TODAY()),\"Retard\",\"Attente de Livraison\")))","v":""}]
[null,null,null,null,null,null,null,null,{"$f":"IF(F1999=\"\",\"\",IF(H1999<>\"\",\"OK\",IF(AND(#REF!<>\"\",#REF!<TODAY()),\"Retard\",\"Attente de Livraison\")))","v":""}]
[null,null,null,null,null,null,null,null,{"$f":"IF(F2000=\"\",\"\",IF(H2000<>\"\",\"OK\",IF(AND(#REF!<>\"\",#REF!<TODAY()),\"Retard\",\"Attente de Livraison\")))","v":""}]
[null,null,null,null,null,null,null,null,{"$f":"IF(F2001=\"\",\"\",IF(H2001<>\"\",\"OK\",IF(AND(#REF!<>\"\",#REF!<TODAY()),\"Retard\",\"Attente de Livraison\")))","v":""}]
[null,null,null,null,null,null,null,null,{"$f":"IF(F2002=\"\",\"\",IF(H2002<>\"\",\"OK\",IF(AND(#REF!<>\"\",#REF!<TODAY()),\"Retard\",\"Attente de Livraison\")))","v":""}]
[null,null,null,null,null,null,null,null,{"$f":"IF(F2003=\"\",\"\",IF(H2003<>\"\",\"OK\",IF(AND(#REF!<>\"\",#REF!<TODAY()),\"Retard\",\"Attente de Livraison\")))","v":""}]
[null,null,null,null,null,null,null,null,{"$f":"IF(F2004=\"\",\"\",IF(H2004<>\"\",\"OK\",IF(AND(#REF!<>\"\",#REF!<TODAY()),\"Retard\",\"Attente de Livraison\")))","v":""}]
[null,null,null,null,null,null,null,null,{"$f":"IF(F2005=\"\",\"\",IF(H2005<>\"\",\"OK\",IF(AND(#REF!<>\"\",#REF!<TODAY()),\"Retard\",\"Attente de Livraison\")))","v":""}]
[null,null,null,null,null,null,null,null,{"$f":"IF(F2006=\"\",\"\",IF(H2006<>\"\",\"OK\",IF(AND(#REF!<>\"\",#REF!<TODAY()),\"Retard\",\"Attente de Livraison\")))","v":""}]
[null,null,null,null,null,null,null,null,{"$f":"IF(F2007=\"\",\"\",IF(H2007<>\"\",\"OK\",IF(AND(#REF!<>\"\",#REF!<TODAY()),\"Retard\",\"Attente de Livraison\")))","v":""}]
[null,null,null,null,null,null,null,null,{"$f":"IF(F2008=\"\",\"\",IF(H2008<>\"\",\"OK\",IF(AND(#REF!<>\"\",#REF!<TODAY()),\"Retard\",\"Attente de Livraison\")))","v":""}]
[null,null,null,null,null,null,null,null,{"$f":"IF(F2009=\"\",\"\",IF(H2009<>\"\",\"OK\",IF(AND(#REF!<>\"\",#REF!<TODAY()),\"Retard\",\"Attente de Livraison\")))","v":""}]
[null,null,null,null,null,null,null,null,{"$f":"IF(F2010=\"\",\"\",IF(H2010<>\"\",\"OK\",IF(AND(#REF!<>\"\",#REF!<TODAY()),\"Retard\",\"Attente de Livraison\")))","v":""}]
[null,null,null,null,null,null,null,null,{"$f":"IF(F2011=\"\",\"\",IF(H2011<>\"\",\"OK\",IF(AND(#REF!<>\"\",#REF!<TODAY()),\"Retard\",\"Attente de Livraison\")))","v":""}]
[null,null,null,null,null,null,null,null,{"$f":"IF(F2012=\"\",\"\",IF(H2012<>\"\",\"OK\",IF(AND(#REF!<>\"\",#REF!<TODAY()),\"Retard\",\"Attente de Livraison\")))","v":""}]
[null,null,null,null,null,null,null,null,{"$f":"IF(F2013=\"\",\"\",IF(H2013<>\"\",\"OK\",IF(AND(#REF!<>\"\",#REF!<TODAY()),\"Retard\",\"Attente de Livraison\")))","v":""}]
[null,null,null,null,null,null,null,null,{"$f":"IF(F2014=\"\",\"\",IF(H2014<>\"\",\"OK\",IF(AND(#REF!<>\"\",#REF!<TODAY()),\"Retard\",\"Attente de Livraison\")))","v":""}]
[null,null,null,null,null,null,null,null,{"$f":"IF(F2015=\"\",\"\",IF(H2015<>\"\",\"OK\",IF(AND(#REF!<>\"\",#REF!<TODAY()),\"Retard\",\"Attente de Livraison\")))","v":""}]
[null,null,null,null,null,null,null,null,{"$f":"IF(F2016=\"\",\"\",IF(H2016<>\"\",\"OK\",IF(AND(#REF!<>\"\",#REF!<TODAY()),\"Retard\",\"Attente de Livraison\")))","v":""}]
[null,null,null,null,null,null,null,null,{"$f":"IF(F2017=\"\",\"\",IF(H2017<>\"\",\"OK\",IF(AND(#REF!<>\"\",#REF!<TODAY()),\"Retard\",\"Attente de Livraison\")))","v":""}]
[null,null,null,null,null,null,null,null,{"$f":"IF(F2018=\"\",\"\",IF(H2018<>\"\",\"OK\",IF(AND(#REF!<>\"\",#REF!<TODAY()),\"Retard\",\"Attente de Livraison\")))","v":""}]
[null,null,null,null,null,null,null,null,{"$f":"IF(F2019=\"\",\"\",IF(H2019<>\"\",\"OK\",IF(AND(#REF!<>\"\",#REF!<TODAY()),\"Retard\",\"Attente de Livraison\")))","v":""}]
[null,null,null,null,null,null,null,null,{"$f":"IF(F2020=\"\",\"\",IF(H2020<>\"\",\"OK\",IF(AND(#REF!<>\"\",#REF!<TODAY()),\"Retard\",\"Attente de Livraison\")))","v":""}]
[null,null,null,null,null,null,null,null,{"$f":"IF(F2021=\"\",\"\",IF(H2021<>\"\",\"OK\",IF(AND(#REF!<>\"\",#REF!<TODAY()),\"Retard\",\"Attente de Livraison\")))","v":""}]
[null,null,null,null,null,null,null,null,{"$f":"IF(F2022=\"\",\"\",IF(H2022<>\"\",\"OK\",IF(AND(#REF!<>\"\",#REF!<TODAY()),\"Retard\",\"Attente de Livraison\")))","v":""}]
[null,null,null,null,null,null,null,null,{"$f":"IF(F2023=\"\",\"\",IF(H2023<>\"\",\"OK\",IF(AND(#REF!<>\"\",#REF!<TODAY()),\"Retard\",\"Attente de Livraison\")))","v":""}]
[null,null,null,null,null,null,null,null,{"$f":"IF(F2024=\"\",\"\",IF(H2024<>\"\",\"OK\",IF(AND(#REF!<>\"\",#REF!<TODAY()),\"Retard\",\"Attente de Livraison\")))","v":""}]
[null,null,null,null,null,null,null,null,{"$f":"IF(F2025=\"\",\"\",IF(H2025<>\"\",\"OK\",IF(AND(#REF!<>\"\",#REF!<TODAY()),\"Retard\",\"Attente de Livraison\")))","v":""}]
[null,null,null,null,null,null,null,null,{"$f":"IF(F2026=\"\",\"\",IF(H2026<>\"\",\"OK\",IF(AND(#REF!<>\"\",#REF!<TODAY()),\"Retard\",\"Attente de Livraison\")))","v":""}]
[null,null,null,null,null,null,null,null,{"$f":"IF(F2027=\"\",\"\",IF(H2027<>\"\",\"OK\",IF(AND(#REF!<>\"\",#REF!<TODAY()),\"Retard\",\"Attente de Livraison\")))","v":""}]
[null,null,null,null,null,null,null,null,{"$f":"IF(F2028=\"\",\"\",IF(H2028<>\"\",\"OK\",IF(AND(#REF!<>\"\",#REF!<TODAY()),\"Retard\",\"Attente de Livraison\")))","v":""}]
[null,null,null,null,null,null,null,null,{"$f":"IF(F2029=\"\",\"\",IF(H2029<>\"\",\"OK\",IF(AND(#REF!<>\"\",#REF!<TODAY()),\"Retard\",\"Attente de Livraison\")))","v":""}]
[null,null,null,null,null,null,null,null,{"$f":"IF(F2030=\"\",\"\",IF(H2030<>\"\",\"OK\",IF(AND(#REF!<>\"\",#REF!<TODAY()),\"Retard\",\"Attente de Livraison\")))","v":""}]
[null,null,null,null,null,null,null,null,{"$f":"IF(F2031=\"\",\"\",IF(H2031<>\"\",\"OK\",IF(AND(#REF!<>\"\",#REF!<TODAY()),\"Retard\",\"Attente de Livraison\")))","v":""}]
[null,null,null,null,null,null,null,null,{"$f":"IF(F2032=\"\",\"\",IF(H2032<>\"\",\"OK\",IF(AND(#REF!<>\"\",#REF!<TODAY()),\"Retard\",\"Attente de Livraison\")))","v":""}]
[null,null,null,null,null,null,null,null,{"$f":"IF(F2033=\"\",\"\",IF(H2033<>\"\",\"OK\",IF(AND(#REF!<>\"\",#REF!<TODAY()),\"Retard\",\"Attente de Livraison\")))","v":""}]
[null,null,null,null,null,null,null,null,{"$f":"IF(F2034=\"\",\"\",IF(H2034<>\"\",\"OK\",IF(AND(#REF!<>\"\",#REF!<TODAY()),\"Retard\",\"Attente de Livraison\")))","v":""}]
[null,null,null,null,null,null,null,null,{"$f":"IF(F2035=\"\",\"\",IF(H2035<>\"\",\"OK\",IF(AND(#REF!<>\"\",#REF!<TODAY()),\"Retard\",\"Attente de Livraison\")))","v":""}]
[null,null,null,null,null,null,null,null,{"$f":"IF(F2036=\"\",\"\",IF(H2036<>\"\",\"OK\",IF(AND(#REF!<>\"\",#REF!<TODAY()),\"Retard\",\"Attente de Livraison\")))","v":""}]
[null,null,null,null,null,null,null,null,{"$f":"IF(F2037=\"\",\"\",IF(H2037<>\"\",\"OK\",IF(AND(#REF!<>\"\",#REF!<TODAY()),\"Retard\",\"Attente de Livraison\")))","v":""}]
[null,null,null,null,null,null,null,null,{"$f":"IF(F2038=\"\",\"\",IF(H2038<>\"\",\"OK\",IF(AND(#REF!<>\"\",#REF!<TODAY()),\"Retard\",\"Attente de Livraison\")))","v":""}]
[null,null,null,null,null,null,null,null,{"$f":"IF(F2039=\"\",\"\",IF(H2039<>\"\",\"OK\",IF(AND(#REF!<>\"\",#REF!<TODAY()),\"Retard\",\"Attente de Livraison\")))","v":""}]
[null,null,null,null,null,null,null,null,{"$f":"IF(F2040=\"\",\"\",IF(H2040<>\"\",\"OK\",IF(AND(#REF!<>\"\",#REF!<TODAY()),\"Retard\",\"Attente de Livraison\")))","v":""}]
[null,null,null,null,null,null,null,null,{"$f":"IF(F2041=\"\",\"\",IF(H2041<>\"\",\"OK\",IF(AND(#REF!<>\"\",#REF!<TODAY()),\"Retard\",\"Attente de Livraison\")))","v":""}]
[null,null,null,null,null,null,null,null,{"$f":"IF(F2042=\"\",\"\",IF(H2042<>\"\",\"OK\",IF(AND(#REF!<>\"\",#REF!<TODAY()),\"Retard\",\"Attente de Livraison\")))","v":""}]
[null,null,null,null,null,null,null,null,{"$f":"IF(F2043=\"\",\"\",IF(H2043<>\"\",\"OK\",IF(AND(#REF!<>\"\",#REF!<TODAY()),\"Retard\",\"Attente de Livraison\")))","v":""}]
[null,null,null,null,null,null,null,null,{"$f":"IF(F2044=\"\",\"\",IF(H2044<>\"\",\"OK\",IF(AND(#REF!<>\"\",#REF!<TODAY()),\"Retard\",\"Attente de Livraison\")))","v":""}]
[null,null,null,null,null,null,null,null,{"$f":"IF(F2045=\"\",\"\",IF(H2045<>\"\",\"OK\",IF(AND(#REF!<>\"\",#REF!<TODAY()),\"Retard\",\"Attente de Livraison\")))","v":""}]
[null,null,null,null,null,null,null,null,{"$f":"IF(F2046=\"\",\"\",IF(H2046<>\"\",\"OK\",IF(AND(#REF!<>\"\",#REF!<TODAY()),\"Retard\",\"Attente de Livraison\")))","v":""}]
[null,null,null,null,null,null,null,null,{"$f":"IF(F2047=\"\",\"\",IF(H2047<>\"\",\"OK\",IF(AND(#REF!<>\"\",#REF!<TODAY()),\"Retard\",\"Attente de Livraison\")))","v":""}]
[null,null,null,null,null,null,null,null,{"$f":"IF(F2048=\"\",\"\",IF(H2048<>\"\",\"OK\",IF(AND(#REF!<>\"\",#REF!<TODAY()),\"Retard\",\"Attente de Livraison\")))","v":""}]
[null,null,null,null,null,null,null,null,{"$f":"IF(F2049=\"\",\"\",IF(H2049<>\"\",\"OK\",IF(AND(#REF!<>\"\",#REF!<TODAY()),\"Retard\",\"Attente de Livraison\")))","v":""}]
[null,null,null,null,null,null,null,null,{"$f":"IF(F2050=\"\",\"\",IF(H2050<>\"\",\"OK\",IF(AND(#REF!<>\"\",#REF!<TODAY()),\"Retard\",\"Attente de Livraison\")))","v":""}]
[null,null,null,null,null,null,null,null,{"$f":"IF(F2051=\"\",\"\",IF(H2051<>\"\",\"OK\",IF(AND(#REF!<>\"\",#REF!<TODAY()),\"Retard\",\"Attente de Livraison\")))","v":""}]
[null,null,null,null,null,null,null,null,{"$f":"IF(F2052=\"\",\"\",IF(H2052<>\"\",\"OK\",IF(AND(#REF!<>\"\",#REF!<TODAY()),\"Retard\",\"Attente de Livraison\")))","v":""}]
[null,null,null,null,null,null,null,null,{"$f":"IF(F2053=\"\",\"\",IF(H2053<>\"\",\"OK\",IF(AND(#REF!<>\"\",#REF!<TODAY()),\"Retard\",\"Attente de Livraison\")))","v":""}]
[null,null,null,null,null,null,null,null,{"$f":"IF(F2054=\"\",\"\",IF(H2054<>\"\",\"OK\",IF(AND(#REF!<>\"\",#REF!<TODAY()),\"Retard\",\"Attente de Livraison\")))","v":""}]
[null,null,null,null,null,null,null,null,{"$f":"IF(F2055=\"\",\"\",IF(H2055<>\"\",\"OK\",IF(AND(#REF!<>\"\",#REF!<TODAY()),\"Retard\",\"Attente de Livraison\")))","v":""}]
[null,null,null,null,null,null,null,null,{"$f":"IF(F2056=\"\",\"\",IF(H2056<>\"\",\"OK\",IF(AND(#REF!<>\"\",#REF!<TODAY()),\"Retard\",\"Attente de Livraison\")))","v":""}]
[null,null,null,null,null,null,null,null,{"$f":"IF(F2057=\"\",\"\",IF(H2057<>\"\",\"OK\",IF(AND(#REF!<>\"\",#REF!<TODAY()),\"Retard\",\"Attente de Livraison\")))","v":""}]
[null,null,null,null,null,null,null,null,{"$f":"IF(F2058=\"\",\"\",IF(H2058<>\"\",\"OK\",IF(AND(#REF!<>\"\",#REF!<TODAY()),\"Retard\",\"Attente de Livraison\")))","v":""}]
[null,null,null,null,null,null,null,null,{"$f":"IF(F2059=\"\",\"\",IF(H2059<>\"\",\"OK\",IF(AND(#REF!<>\"\",#REF!<TODAY()),\"Retard\",\"Attente de Livraison\")))","v":""}]
[null,null,null,null,null,null,null,null,{"$f":"IF(F2060=\"\",\"\",IF(H2060<>\"\",\"OK\",IF(AND(#REF!<>\"\",#REF!<TODAY()),\"Retard\",\"Attente de Livraison\")))","v":""}]
[null,null,null,null,null,null,null,null,{"$f":"IF(F2061=\"\",\"\",IF(H2061<>\"\",\"OK\",IF(AND(#REF!<>\"\",#REF!<TODAY()),\"Retard\",\"Attente de Livraison\")))","v":""}]
[null,null,null,null,null,null,null,null,{"$f":"IF(F2062=\"\",\"\",IF(H2062<>\"\",\"OK\",IF(AND(#REF!<>\"\",#REF!<TODAY()),\"Retard\",\"Attente de Livraison\")))","v":""}]
[null,null,null,null,null,null,null,null,{"$f":"IF(F2063=\"\",\"\",IF(H2063<>\"\",\"OK\",IF(AND(#REF!<>\"\",#REF!<TODAY()),\"Retard\",\"Attente de Livraison\")))","v":""}]
[null,null,null,null,null,null,null,null,{"$f":"IF(F2064=\"\",\"\",IF(H2064<>\"\",\"OK\",IF(AND(#REF!<>\"\",#REF!<TODAY()),\"Retard\",\"Attente de Livraison\")))","v":""}]
[null,null,null,null,null,null,null,null,{"$f":"IF(F2065=\"\",\"\",IF(H2065<>\"\",\"OK\",IF(AND(#REF!<>\"\",#REF!<TODAY()),\"Retard\",\"Attente de Livraison\")))","v":""}]
[null,null,null,null,null,null,null,null,{"$f":"IF(F2066=\"\",\"\",IF(H2066<>\"\",\"OK\",IF(AND(#REF!<>\"\",#REF!<TODAY()),\"Retard\",\"Attente de Livraison\")))","v":""}]
[null,null,null,null,null,null,null,null,{"$f":"IF(F2067=\"\",\"\",IF(H2067<>\"\",\"OK\",IF(AND(#REF!<>\"\",#REF!<TODAY()),\"Retard\",\"Attente de Livraison\")))","v":""}]
[null,null,null,null,null,null,null,null,{"$f":"IF(F2068=\"\",\"\",IF(H2068<>\"\",\"OK\",IF(AND(#REF!<>\"\",#REF!<TODAY()),\"Retard\",\"Attente de Livraison\")))","v":""}]
[null,null,null,null,null,null,null,null,{"$f":"IF(F2069=\"\",\"\",IF(H2069<>\"\",\"OK\",IF(AND(#REF!<>\"\",#REF!<TODAY()),\"Retard\",\"Attente de Livraison\")))","v":""}]
[null,null,null,null,null,null,null,null,{"$f":"IF(F2070=\"\",\"\",IF(H2070<>\"\",\"OK\",IF(AND(#REF!<>\"\",#REF!<TODAY()),\"Retard\",\"Attente de Livraison\")))","v":""}]
[null,null,null,null,null,null,null,null,{"$f":"IF(F2071=\"\",\"\",IF(H2071<>\"\",\"OK\",IF(AND(#REF!<>\"\",#REF!<TODAY()),\"Retard\",\"Attente de Livraison\")))","v":""}]
[null,null,null,null,null,null,null,null,{"$f":"IF(F2072=\"\",\"\",IF(H2072<>\"\",\"OK\",IF(AND(#REF!<>\"\",#REF!<TODAY()),\"Retard\",\"Attente de Livraison\")))","v":""}]
[null,null,null,null,null,null,null,null,{"$f":"IF(F2073=\"\",\"\",IF(H2073<>\"\",\"OK\",IF(AND(#REF!<>\"\",#REF!<TODAY()),\"Retard\",\"Attente de Livraison\")))","v":""}]
[null,null,null,null,null,null,null,null,{"$f":"IF(F2074=\"\",\"\",IF(H2074<>\"\",\"OK\",IF(AND(#REF!<>\"\",#REF!<TODAY()),\"Retard\",\"Attente de Livraison\")))","v":""}]
[null,null,null,null,null,null,null,null,{"$f":"IF(F2075=\"\",\"\",IF(H2075<>\"\",\"OK\",IF(AND(#REF!<>\"\",#REF!<TODAY()),\"Retard\",\"Attente de Livraison\")))","v":""}]
[null,null,null,null,null,null,null,null,{"$f":"IF(F2076=\"\",\"\",IF(H2076<>\"\",\"OK\",IF(AND(#REF!<>\"\",#REF!<TODAY()),\"Retard\",\"Attente de Livraison\")))","v":""}]
[null,null,null,null,null,null,null,null,{"$f":"IF(F2077=\"\",\"\",IF(H2077<>\"\",\"OK\",IF(AND(#REF!<>\"\",#REF!<TODAY()),\"Retard\",\"Attente de Livraison\")))","v":""}]
[null,null,null,null,null,null,null,null,{"$f":"IF(F2078=\"\",\"\",IF(H2078<>\"\",\"OK\",IF(AND(#REF!<>\"\",#REF!<TODAY()),\"Retard\",\"Attente de Livraison\")))","v":""}]
[null,null,null,null,null,null,null,null,{"$f":"IF(F2079=\"\",\"\",IF(H2079<>\"\",\"OK\",IF(AND(#REF!<>\"\",#REF!<TODAY()),\"Retard\",\"Attente de Livraison\")))","v":""}]
[null,null,null,null,null,null,null,null,{"$f":"IF(F2080=\"\",\"\",IF(H2080<>\"\",\"OK\",IF(AND(#REF!<>\"\",#REF!<TODAY()),\"Retard\",\"Attente de Livraison\")))","v":""}]
[null,null,null,null,null,null,null,null,{"$f":"IF(F2081=\"\",\"\",IF(H2081<>\"\",\"OK\",IF(AND(#REF!<>\"\",#REF!<TODAY()),\"Retard\",\"Attente de Livraison\")))","v":""}]
[null,null,null,null,null,null,null,null,{"$f":"IF(F2082=\"\",\"\",IF(H2082<>\"\",\"OK\",IF(AND(#REF!<>\"\",#REF!<TODAY()),\"Retard\",\"Attente de Livraison\")))","v":""}]
[null,null,null,null,null,null,null,null,{"$f":"IF(F2083=\"\",\"\",IF(H2083<>\"\",\"OK\",IF(AND(#REF!<>\"\",#REF!<TODAY()),\"Retard\",\"Attente de Livraison\")))","v":""}]
[null,null,null,null,null,null,null,null,{"$f":"IF(F2084=\"\",\"\",IF(H2084<>\"\",\"OK\",IF(AND(#REF!<>\"\",#REF!<TODAY()),\"Retard\",\"Attente de Livraison\")))","v":""}]
[null,null,null,null,null,null,null,null,{"$f":"IF(F2085=\"\",\"\",IF(H2085<>\"\",\"OK\",IF(AND(#REF!<>\"\",#REF!<TODAY()),\"Retard\",\"Attente de Livraison\")))","v":""}]
[null,null,null,null,null,null,null,null,{"$f":"IF(F2086=\"\",\"\",IF(H2086<>\"\",\"OK\",IF(AND(#REF!<>\"\",#REF!<TODAY()),\"Retard\",\"Attente de Livraison\")))","v":""}]
[null,null,null,null,null,null,null,null,{"$f":"IF(F2087=\"\",\"\",IF(H2087<>\"\",\"OK\",IF(AND(#REF!<>\"\",#REF!<TODAY()),\"Retard\",\"Attente de Livraison\")))","v":""}]
[null,null,null,null,null,null,null,null,{"$f":"IF(F2088=\"\",\"\",IF(H2088<>\"\",\"OK\",IF(AND(#REF!<>\"\",#REF!<TODAY()),\"Retard\",\"Attente de Livraison\")))","v":""}]
[null,null,null,null,null,null,null,null,{"$f":"IF(F2089=\"\",\"\",IF(H2089<>\"\",\"OK\",IF(AND(#REF!<>\"\",#REF!<TODAY()),\"Retard\",\"Attente de Livraison\")))","v":""}]
[null,null,null,null,null,null,null,null,{"$f":"IF(F2090=\"\",\"\",IF(H2090<>\"\",\"OK\",IF(AND(#REF!<>\"\",#REF!<TODAY()),\"Retard\",\"Attente de Livraison\")))","v":""}]
[null,null,null,null,null,null,null,null,{"$f":"IF(F2091=\"\",\"\",IF(H2091<>\"\",\"OK\",IF(AND(#REF!<>\"\",#REF!<TODAY()),\"Retard\",\"Attente de Livraison\")))","v":""}]
[null,null,null,null,null,null,null,null,{"$f":"IF(F2092=\"\",\"\",IF(H2092<>\"\",\"OK\",IF(AND(#REF!<>\"\",#REF!<TODAY()),\"Retard\",\"Attente de Livraison\")))","v":""}]
[null,null,null,null,null,null,null,null,{"$f":"IF(F2093=\"\",\"\",IF(H2093<>\"\",\"OK\",IF(AND(#REF!<>\"\",#REF!<TODAY()),\"Retard\",\"Attente de Livraison\")))","v":""}]
[null,null,null,null,null,null,null,null,{"$f":"IF(F2094=\"\",\"\",IF(H2094<>\"\",\"OK\",IF(AND(#REF!<>\"\",#REF!<TODAY()),\"Retard\",\"Attente de Livraison\")))","v":""}]
[null,null,null,null,null,null,null,null,{"$f":"IF(F2095=\"\",\"\",IF(H2095<>\"\",\"OK\",IF(AND(#REF!<>\"\",#REF!<TODAY()),\"Retard\",\"Attente de Livraison\")))","v":""}]
[null,null,null,null,null,null,null,null,{"$f":"IF(F2096=\"\",\"\",IF(H2096<>\"\",\"OK\",IF(AND(#REF!<>\"\",#REF!<TODAY()),\"Retard\",\"Attente de Livraison\")))","v":""}]
[null,null,null,null,null,null,null,null,{"$f":"IF(F2097=\"\",\"\",IF(H2097<>\"\",\"OK\",IF(AND(#REF!<>\"\",#REF!<TODAY()),\"Retard\",\"Attente de Livraison\")))","v":""}]
[null,null,null,null,null,null,null,null,{"$f":"IF(F2098=\"\",\"\",IF(H2098<>\"\",\"OK\",IF(AND(#REF!<>\"\",#REF!<TODAY()),\"Retard\",\"Attente de Livraison\")))","v":""}]
[null,null,null,null,null,null,null,null,{"$f":"IF(F2099=\"\",\"\",IF(H2099<>\"\",\"OK\",IF(AND(#REF!<>\"\",#REF!<TODAY()),\"Retard\",\"Attente de Livraison\")))","v":""}]
[null,null,null,null,null,null,null,null,{"$f":"IF(F2100=\"\",\"\",IF(H2100<>\"\",\"OK\",IF(AND(#REF!<>\"\",#REF!<TODAY()),\"Retard\",\"Attente de Livraison\")))","v":""}]
[null,null,null,null,null,null,null,null,{"$f":"IF(F2101=\"\",\"\",IF(H2101<>\"\",\"OK\",IF(AND(#REF!<>\"\",#REF!<TODAY()),\"Retard\",\"Attente de Livraison\")))","v":""}]
[null,null,null,null,null,null,null,null,{"$f":"IF(F2102=\"\",\"\",IF(H2102<>\"\",\"OK\",IF(AND(#REF!<>\"\",#REF!<TODAY()),\"Retard\",\"Attente de Livraison\")))","v":""}]
[null,null,null,null,null,null,null,null,{"$f":"IF(F2103=\"\",\"\",IF(H2103<>\"\",\"OK\",IF(AND(#REF!<>\"\",#REF!<TODAY()),\"Retard\",\"Attente de Livraison\")))","v":""}]
[null,null,null,null,null,null,null,null,{"$f":"IF(F2104=\"\",\"\",IF(H2104<>\"\",\"OK\",IF(AND(#REF!<>\"\",#REF!<TODAY()),\"Retard\",\"Attente de Livraison\")))","v":""}]
[null,null,null,null,null,null,null,null,{"$f":"IF(F2105=\"\",\"\",IF(H2105<>\"\",\"OK\",IF(AND(#REF!<>\"\",#REF!<TODAY()),\"Retard\",\"Attente de Livraison\")))","v":""}]
[null,null,null,null,null,null,null,null,{"$f":"IF(F2106=\"\",\"\",IF(H2106<>\"\",\"OK\",IF(AND(#REF!<>\"\",#REF!<TODAY()),\"Retard\",\"Attente de Livraison\")))","v":""}]
[null,null,null,null,null,null,null,null,{"$f":"IF(F2107=\"\",\"\",IF(H2107<>\"\",\"OK\",IF(AND(#REF!<>\"\",#REF!<TODAY()),\"Retard\",\"Attente de Livraison\")))","v":""}]
[null,null,null,null,null,null,null,null,{"$f":"IF(F2108=\"\",\"\",IF(H2108<>\"\",\"OK\",IF(AND(#REF!<>\"\",#REF!<TODAY()),\"Retard\",\"Attente de Livraison\")))","v":""}]
[null,null,null,null,null,null,null,null,{"$f":"IF(F2109=\"\",\"\",IF(H2109<>\"\",\"OK\",IF(AND(#REF!<>\"\",#REF!<TODAY()),\"Retard\",\"Attente de Livraison\")))","v":""}]
[null,null,null,null,null,null,null,null,{"$f":"IF(F2110=\"\",\"\",IF(H2110<>\"\",\"OK\",IF(AND(#REF!<>\"\",#REF!<TODAY()),\"Retard\",\"Attente de Livraison\")))","v":""}]
[null,null,null,null,null,null,null,null,{"$f":"IF(F2111=\"\",\"\",IF(H2111<>\"\",\"OK\",IF(AND(#REF!<>\"\",#REF!<TODAY()),\"Retard\",\"Attente de Livraison\")))","v":""}]
[null,null,null,null,null,null,null,null,{"$f":"IF(F2112=\"\",\"\",IF(H2112<>\"\",\"OK\",IF(AND(#REF!<>\"\",#REF!<TODAY()),\"Retard\",\"Attente de Livraison\")))","v":""}]
[null,null,null,null,null,null,null,null,{"$f":"IF(F2113=\"\",\"\",IF(H2113<>\"\",\"OK\",IF(AND(#REF!<>\"\",#REF!<TODAY()),\"Retard\",\"Attente de Livraison\")))","v":""}]
[null,null,null,null,null,null,null,null,{"$f":"IF(F2114=\"\",\"\",IF(H2114<>\"\",\"OK\",IF(AND(#REF!<>\"\",#REF!<TODAY()),\"Retard\",\"Attente de Livraison\")))","v":""}]
[null,null,null,null,null,null,null,null,{"$f":"IF(F2115=\"\",\"\",IF(H2115<>\"\",\"OK\",IF(AND(#REF!<>\"\",#REF!<TODAY()),\"Retard\",\"Attente de Livraison\")))","v":""}]
[null,null,null,null,null,null,null,null,{"$f":"IF(F2116=\"\",\"\",IF(H2116<>\"\",\"OK\",IF(AND(#REF!<>\"\",#REF!<TODAY()),\"Retard\",\"Attente de Livraison\")))","v":""}]
[null,null,null,null,null,null,null,null,{"$f":"IF(F2117=\"\",\"\",IF(H2117<>\"\",\"OK\",IF(AND(#REF!<>\"\",#REF!<TODAY()),\"Retard\",\"Attente de Livraison\")))","v":""}]
[null,null,null,null,null,null,null,null,{"$f":"IF(F2118=\"\",\"\",IF(H2118<>\"\",\"OK\",IF(AND(#REF!<>\"\",#REF!<TODAY()),\"Retard\",\"Attente de Livraison\")))","v":""}]
[null,null,null,null,null,null,null,null,{"$f":"IF(F2119=\"\",\"\",IF(H2119<>\"\",\"OK\",IF(AND(#REF!<>\"\",#REF!<TODAY()),\"Retard\",\"Attente de Livraison\")))","v":""}]
[null,null,null,null,null,null,null,null,{"$f":"IF(F2120=\"\",\"\",IF(H2120<>\"\",\"OK\",IF(AND(#REF!<>\"\",#REF!<TODAY()),\"Retard\",\"Attente de Livraison\")))","v":""}]
[null,null,null,null,null,null,null,null,{"$f":"IF(F2121=\"\",\"\",IF(H2121<>\"\",\"OK\",IF(AND(#REF!<>\"\",#REF!<TODAY()),\"Retard\",\"Attente de Livraison\")))","v":""}]
[null,null,null,null,null,null,null,null,{"$f":"IF(F2122=\"\",\"\",IF(H2122<>\"\",\"OK\",IF(AND(#REF!<>\"\",#REF!<TODAY()),\"Retard\",\"Attente de Livraison\")))","v":""}]
[null,null,null,null,null,null,null,null,{"$f":"IF(F2123=\"\",\"\",IF(H2123<>\"\",\"OK\",IF(AND(#REF!<>\"\",#REF!<TODAY()),\"Retard\",\"Attente de Livraison\")))","v":""}]
[null,null,null,null,null,null,null,null,{"$f":"IF(F2124=\"\",\"\",IF(H2124<>\"\",\"OK\",IF(AND(#REF!<>\"\",#REF!<TODAY()),\"Retard\",\"Attente de Livraison\")))","v":""}]
[null,null,null,null,null,null,null,null,{"$f":"IF(F2125=\"\",\"\",IF(H2125<>\"\",\"OK\",IF(AND(#REF!<>\"\",#REF!<TODAY()),\"Retard\",\"Attente de Livraison\")))","v":""}]
[null,null,null,null,null,null,null,null,{"$f":"IF(F2126=\"\",\"\",IF(H2126<>\"\",\"OK\",IF(AND(#REF!<>\"\",#REF!<TODAY()),\"Retard\",\"Attente de Livraison\")))","v":""}]
[null,null,null,null,null,null,null,null,{"$f":"IF(F2127=\"\",\"\",IF(H2127<>\"\",\"OK\",IF(AND(#REF!<>\"\",#REF!<TODAY()),\"Retard\",\"Attente de Livraison\")))","v":""}]
[null,null,null,null,null,null,null,null,{"$f":"IF(F2128=\"\",\"\",IF(H2128<>\"\",\"OK\",IF(AND(#REF!<>\"\",#REF!<TODAY()),\"Retard\",\"Attente de Livraison\")))","v":""}]
[null,null,null,null,null,null,null,null,{"$f":"IF(F2129=\"\",\"\",IF(H2129<>\"\",\"OK\",IF(AND(#REF!<>\"\",#REF!<TODAY()),\"Retard\",\"Attente de Livraison\")))","v":""}]
[null,null,null,null,null,null,null,null,{"$f":"IF(F2130=\"\",\"\",IF(H2130<>\"\",\"OK\",IF(AND(#REF!<>\"\",#REF!<TODAY()),\"Retard\",\"Attente de Livraison\")))","v":""}]
[null,null,null,null,null,null,null,null,{"$f":"IF(F2131=\"\",\"\",IF(H2131<>\"\",\"OK\",IF(AND(#REF!<>\"\",#REF!<TODAY()),\"Retard\",\"Attente de Livraison\")))","v":""}]
[null,null,null,null,null,null,null,null,{"$f":"IF(F2132=\"\",\"\",IF(H2132<>\"\",\"OK\",IF(AND(#REF!<>\"\",#REF!<TODAY()),\"Retard\",\"Attente de Livraison\")))","v":""}]
[null,null,null,null,null,null,null,null,{"$f":"IF(F2133=\"\",\"\",IF(H2133<>\"\",\"OK\",IF(AND(#REF!<>\"\",#REF!<TODAY()),\"Retard\",\"Attente de Livraison\")))","v":""}]
[null,null,null,null,null,null,null,null,{"$f":"IF(F2134=\"\",\"\",IF(H2134<>\"\",\"OK\",IF(AND(#REF!<>\"\",#REF!<TODAY()),\"Retard\",\"Attente de Livraison\")))","v":""}]
[null,null,null,null,null,null,null,null,{"$f":"IF(F2135=\"\",\"\",IF(H2135<>\"\",\"OK\",IF(AND(#REF!<>\"\",#REF!<TODAY()),\"Retard\",\"Attente de Livraison\")))","v":""}]
[null,null,null,null,null,null,null,null,{"$f":"IF(F2136=\"\",\"\",IF(H2136<>\"\",\"OK\",IF(AND(#REF!<>\"\",#REF!<TODAY()),\"Retard\",\"Attente de Livraison\")))","v":""}]
[null,null,null,null,null,null,null,null,{"$f":"IF(F2137=\"\",\"\",IF(H2137<>\"\",\"OK\",IF(AND(#REF!<>\"\",#REF!<TODAY()),\"Retard\",\"Attente de Livraison\")))","v":""}]
[null,null,null,null,null,null,null,null,{"$f":"IF(F2138=\"\",\"\",IF(H2138<>\"\",\"OK\",IF(AND(#REF!<>\"\",#REF!<TODAY()),\"Retard\",\"Attente de Livraison\")))","v":""}]
[null,null,null,null,null,null,null,null,{"$f":"IF(F2139=\"\",\"\",IF(H2139<>\"\",\"OK\",IF(AND(#REF!<>\"\",#REF!<TODAY()),\"Retard\",\"Attente de Livraison\")))","v":""}]
[null,null,null,null,null,null,null,null,{"$f":"IF(F2140=\"\",\"\",IF(H2140<>\"\",\"OK\",IF(AND(#REF!<>\"\",#REF!<TODAY()),\"Retard\",\"Attente de Livraison\")))","v":""}]
[null,null,null,null,null,null,null,null,{"$f":"IF(F2141=\"\",\"\",IF(H2141<>\"\",\"OK\",IF(AND(#REF!<>\"\",#REF!<TODAY()),\"Retard\",\"Attente de Livraison\")))","v":""}]
[null,null,null,null,null,null,null,null,{"$f":"IF(F2142=\"\",\"\",IF(H2142<>\"\",\"OK\",IF(AND(#REF!<>\"\",#REF!<TODAY()),\"Retard\",\"Attente de Livraison\")))","v":""}]
[null,null,null,null,null,null,null,null,{"$f":"IF(F2143=\"\",\"\",IF(H2143<>\"\",\"OK\",IF(AND(#REF!<>\"\",#REF!<TODAY()),\"Retard\",\"Attente de Livraison\")))","v":""}]
[null,null,null,null,null,null,null,null,{"$f":"IF(F2144=\"\",\"\",IF(H2144<>\"\",\"OK\",IF(AND(#REF!<>\"\",#REF!<TODAY()),\"Retard\",\"Attente de Livraison\")))","v":""}]
[null,null,null,null,null,null,null,null,{"$f":"IF(F2145=\"\",\"\",IF(H2145<>\"\",\"OK\",IF(AND(#REF!<>\"\",#REF!<TODAY()),\"Retard\",\"Attente de Livraison\")))","v":""}]
[null,null,null,null,null,null,null,null,{"$f":"IF(F2146=\"\",\"\",IF(H2146<>\"\",\"OK\",IF(AND(#REF!<>\"\",#REF!<TODAY()),\"Retard\",\"Attente de Livraison\")))","v":""}]
[null,null,null,null,null,null,null,null,{"$f":"IF(F2147=\"\",\"\",IF(H2147<>\"\",\"OK\",IF(AND(#REF!<>\"\",#REF!<TODAY()),\"Retard\",\"Attente de Livraison\")))","v":""}]
[null,null,null,null,null,null,null,null,{"$f":"IF(F2148=\"\",\"\",IF(H2148<>\"\",\"OK\",IF(AND(#REF!<>\"\",#REF!<TODAY()),\"Retard\",\"Attente de Livraison\")))","v":""}]
[null,null,null,null,null,null,null,null,{"$f":"IF(F2149=\"\",\"\",IF(H2149<>\"\",\"OK\",IF(AND(#REF!<>\"\",#REF!<TODAY()),\"Retard\",\"Attente de Livraison\")))","v":""}]
[null,null,null,null,null,null,null,null,{"$f":"IF(F2150=\"\",\"\",IF(H2150<>\"\",\"OK\",IF(AND(#REF!<>\"\",#REF!<TODAY()),\"Retard\",\"Attente de Livraison\")))","v":""}]
[null,null,null,null,null,null,null,null,{"$f":"IF(F2151=\"\",\"\",IF(H2151<>\"\",\"OK\",IF(AND(#REF!<>\"\",#REF!<TODAY()),\"Retard\",\"Attente de Livraison\")))","v":""}]
[null,null,null,null,null,null,null,null,{"$f":"IF(F2152=\"\",\"\",IF(H2152<>\"\",\"OK\",IF(AND(#REF!<>\"\",#REF!<TODAY()),\"Retard\",\"Attente de Livraison\")))","v":""}]
[null,null,null,null,null,null,null,null,{"$f":"IF(F2153=\"\",\"\",IF(H2153<>\"\",\"OK\",IF(AND(#REF!<>\"\",#REF!<TODAY()),\"Retard\",\"Attente de Livraison\")))","v":""}]
[null,null,null,null,null,null,null,null,{"$f":"IF(F2154=\"\",\"\",IF(H2154<>\"\",\"OK\",IF(AND(#REF!<>\"\",#REF!<TODAY()),\"Retard\",\"Attente de Livraison\")))","v":""}]
[null,null,null,null,null,null,null,null,{"$f":"IF(F2155=\"\",\"\",IF(H2155<>\"\",\"OK\",IF(AND(#REF!<>\"\",#REF!<TODAY()),\"Retard\",\"Attente de Livraison\")))","v":""}]
[null,null,null,null,null,null,null,null,{"$f":"IF(F2156=\"\",\"\",IF(H2156<>\"\",\"OK\",IF(AND(#REF!<>\"\",#REF!<TODAY()),\"Retard\",\"Attente de Livraison\")))","v":""}]
[null,null,null,null,null,null,null,null,{"$f":"IF(F2157=\"\",\"\",IF(H2157<>\"\",\"OK\",IF(AND(#REF!<>\"\",#REF!<TODAY()),\"Retard\",\"Attente de Livraison\")))","v":""}]
[null,null,null,null,null,null,null,null,{"$f":"IF(F2158=\"\",\"\",IF(H2158<>\"\",\"OK\",IF(AND(#REF!<>\"\",#REF!<TODAY()),\"Retard\",\"Attente de Livraison\")))","v":""}]
[null,null,null,null,null,null,null,null,{"$f":"IF(F2159=\"\",\"\",IF(H2159<>\"\",\"OK\",IF(AND(#REF!<>\"\",#REF!<TODAY()),\"Retard\",\"Attente de Livraison\")))","v":""}]
[null,null,null,null,null,null,null,null,{"$f":"IF(F2160=\"\",\"\",IF(H2160<>\"\",\"OK\",IF(AND(#REF!<>\"\",#REF!<TODAY()),\"Retard\",\"Attente de Livraison\")))","v":""}]
[null,null,null,null,null,null,null,null,{"$f":"IF(F2161=\"\",\"\",IF(H2161<>\"\",\"OK\",IF(AND(#REF!<>\"\",#REF!<TODAY()),\"Retard\",\"Attente de Livraison\")))","v":""}]
[null,null,null,null,null,null,null,null,{"$f":"IF(F2162=\"\",\"\",IF(H2162<>\"\",\"OK\",IF(AND(#REF!<>\"\",#REF!<TODAY()),\"Retard\",\"Attente de Livraison\")))","v":""}]
[null,null,null,null,null,null,null,null,{"$f":"IF(F2163=\"\",\"\",IF(H2163<>\"\",\"OK\",IF(AND(#REF!<>\"\",#REF!<TODAY()),\"Retard\",\"Attente de Livraison\")))","v":""}]
[null,null,null,null,null,null,null,null,{"$f":"IF(F2164=\"\",\"\",IF(H2164<>\"\",\"OK\",IF(AND(#REF!<>\"\",#REF!<TODAY()),\"Retard\",\"Attente de Livraison\")))","v":""}]
[null,null,null,null,null,null,null,null,{"$f":"IF(F2165=\"\",\"\",IF(H2165<>\"\",\"OK\",IF(AND(#REF!<>\"\",#REF!<TODAY()),\"Retard\",\"Attente de Livraison\")))","v":""}]
[null,null,null,null,null,null,null,null,{"$f":"IF(F2166=\"\",\"\",IF(H2166<>\"\",\"OK\",IF(AND(#REF!<>\"\",#REF!<TODAY()),\"Retard\",\"Attente de Livraison\")))","v":""}]
[null,null,null,null,null,null,null,null,{"$f":"IF(F2167=\"\",\"\",IF(H2167<>\"\",\"OK\",IF(AND(#REF!<>\"\",#REF!<TODAY()),\"Retard\",\"Attente de Livraison\")))","v":""}]
[null,null,null,null,null,null,null,null,{"$f":"IF(F2168=\"\",\"\",IF(H2168<>\"\",\"OK\",IF(AND(#REF!<>\"\",#REF!<TODAY()),\"Retard\",\"Attente de Livraison\")))","v":""}]
[null,null,null,null,null,null,null,null,{"$f":"IF(F2169=\"\",\"\",IF(H2169<>\"\",\"OK\",IF(AND(#REF!<>\"\",#REF!<TODAY()),\"Retard\",\"Attente de Livraison\")))","v":""}]
[null,null,null,null,null,null,null,null,{"$f":"IF(F2170=\"\",\"\",IF(H2170<>\"\",\"OK\",IF(AND(#REF!<>\"\",#REF!<TODAY()),\"Retard\",\"Attente de Livraison\")))","v":""}]
[null,null,null,null,null,null,null,null,{"$f":"IF(F2171=\"\",\"\",IF(H2171<>\"\",\"OK\",IF(AND(#REF!<>\"\",#REF!<TODAY()),\"Retard\",\"Attente de Livraison\")))","v":""}]
[null,null,null,null,null,null,null,null,{"$f":"IF(F2172=\"\",\"\",IF(H2172<>\"\",\"OK\",IF(AND(#REF!<>\"\",#REF!<TODAY()),\"Retard\",\"Attente de Livraison\")))","v":""}]
[null,null,null,null,null,null,null,null,{"$f":"IF(F2173=\"\",\"\",IF(H2173<>\"\",\"OK\",IF(AND(#REF!<>\"\",#REF!<TODAY()),\"Retard\",\"Attente de Livraison\")))","v":""}]
[null,null,null,null,null,null,null,null,{"$f":"IF(F2174=\"\",\"\",IF(H2174<>\"\",\"OK\",IF(AND(#REF!<>\"\",#REF!<TODAY()),\"Retard\",\"Attente de Livraison\")))","v":""}]
[null,null,null,null,null,null,null,null,{"$f":"IF(F2175=\"\",\"\",IF(H2175<>\"\",\"OK\",IF(AND(#REF!<>\"\",#REF!<TODAY()),\"Retard\",\"Attente de Livraison\")))","v":""}]
[null,null,null,null,null,null,null,null,{"$f":"IF(F2176=\"\",\"\",IF(H2176<>\"\",\"OK\",IF(AND(#REF!<>\"\",#REF!<TODAY()),\"Retard\",\"Attente de Livraison\")))","v":""}]
[null,null,null,null,null,null,null,null,{"$f":"IF(F2177=\"\",\"\",IF(H2177<>\"\",\"OK\",IF(AND(#REF!<>\"\",#REF!<TODAY()),\"Retard\",\"Attente de Livraison\")))","v":""}]
[null,null,null,null,null,null,null,null,{"$f":"IF(F2178=\"\",\"\",IF(H2178<>\"\",\"OK\",IF(AND(#REF!<>\"\",#REF!<TODAY()),\"Retard\",\"Attente de Livraison\")))","v":""}]
[null,null,null,null,null,null,null,null,{"$f":"IF(F2179=\"\",\"\",IF(H2179<>\"\",\"OK\",IF(AND(#REF!<>\"\",#REF!<TODAY()),\"Retard\",\"Attente de Livraison\")))","v":""}]
[null,null,null,null,null,null,null,null,{"$f":"IF(F2180=\"\",\"\",IF(H2180<>\"\",\"OK\",IF(AND(#REF!<>\"\",#REF!<TODAY()),\"Retard\",\"Attente de Livraison\")))","v":""}]
[null,null,null,null,null,null,null,null,{"$f":"IF(F2181=\"\",\"\",IF(H2181<>\"\",\"OK\",IF(AND(#REF!<>\"\",#REF!<TODAY()),\"Retard\",\"Attente de Livraison\")))","v":""}]
[null,null,null,null,null,null,null,null,{"$f":"IF(F2182=\"\",\"\",IF(H2182<>\"\",\"OK\",IF(AND(#REF!<>\"\",#REF!<TODAY()),\"Retard\",\"Attente de Livraison\")))","v":""}]
[null,null,null,null,null,null,null,null,{"$f":"IF(F2183=\"\",\"\",IF(H2183<>\"\",\"OK\",IF(AND(#REF!<>\"\",#REF!<TODAY()),\"Retard\",\"Attente de Livraison\")))","v":""}]
[null,null,null,null,null,null,null,null,{"$f":"IF(F2184=\"\",\"\",IF(H2184<>\"\",\"OK\",IF(AND(#REF!<>\"\",#REF!<TODAY()),\"Retard\",\"Attente de Livraison\")))","v":""}]
[null,null,null,null,null,null,null,null,{"$f":"IF(F2185=\"\",\"\",IF(H2185<>\"\",\"OK\",IF(AND(#REF!<>\"\",#REF!<TODAY()),\"Retard\",\"Attente de Livraison\")))","v":""}]
[null,null,null,null,null,null,null,null,{"$f":"IF(F2186=\"\",\"\",IF(H2186<>\"\",\"OK\",IF(AND(#REF!<>\"\",#REF!<TODAY()),\"Retard\",\"Attente de Livraison\")))","v":""}]
[null,null,null,null,null,null,null,null,{"$f":"IF(F2187=\"\",\"\",IF(H2187<>\"\",\"OK\",IF(AND(#REF!<>\"\",#REF!<TODAY()),\"Retard\",\"Attente de Livraison\")))","v":""}]
[null,null,null,null,null,null,null,null,{"$f":"IF(F2188=\"\",\"\",IF(H2188<>\"\",\"OK\",IF(AND(#REF!<>\"\",#REF!<TODAY()),\"Retard\",\"Attente de Livraison\")))","v":""}]
[null,null,null,null,null,null,null,null,{"$f":"IF(F2189=\"\",\"\",IF(H2189<>\"\",\"OK\",IF(AND(#REF!<>\"\",#REF!<TODAY()),\"Retard\",\"Attente de Livraison\")))","v":""}]
[null,null,null,null,null,null,null,null,{"$f":"IF(F2190=\"\",\"\",IF(H2190<>\"\",\"OK\",IF(AND(#REF!<>\"\",#REF!<TODAY()),\"Retard\",\"Attente de Livraison\")))","v":""}]
[null,null,null,null,null,null,null,null,{"$f":"IF(F2191=\"\",\"\",IF(H2191<>\"\",\"OK\",IF(AND(#REF!<>\"\",#REF!<TODAY()),\"Retard\",\"Attente de Livraison\")))","v":""}]
[null,null,null,null,null,null,null,null,{"$f":"IF(F2192=\"\",\"\",IF(H2192<>\"\",\"OK\",IF(AND(#REF!<>\"\",#REF!<TODAY()),\"Retard\",\"Attente de Livraison\")))","v":""}]
[null,null,null,null,null,null,null,null,{"$f":"IF(F2193=\"\",\"\",IF(H2193<>\"\",\"OK\",IF(AND(#REF!<>\"\",#REF!<TODAY()),\"Retard\",\"Attente de Livraison\")))","v":""}]
[null,null,null,null,null,null,null,null,{"$f":"IF(F2194=\"\",\"\",IF(H2194<>\"\",\"OK\",IF(AND(#REF!<>\"\",#REF!<TODAY()),\"Retard\",\"Attente de Livraison\")))","v":""}]
[null,null,null,null,null,null,null,null,{"$f":"IF(F2195=\"\",\"\",IF(H2195<>\"\",\"OK\",IF(AND(#REF!<>\"\",#REF!<TODAY()),\"Retard\",\"Attente de Livraison\")))","v":""}]
[null,null,null,null,null,null,null,null,{"$f":"IF(F2196=\"\",\"\",IF(H2196<>\"\",\"OK\",IF(AND(#REF!<>\"\",#REF!<TODAY()),\"Retard\",\"Attente de Livraison\")))","v":""}]
[null,null,null,null,null,null,null,null,{"$f":"IF(F2197=\"\",\"\",IF(H2197<>\"\",\"OK\",IF(AND(#REF!<>\"\",#REF!<TODAY()),\"Retard\",\"Attente de Livraison\")))","v":""}]
[null,null,null,null,null,null,null,null,{"$f":"IF(F2198=\"\",\"\",IF(H2198<>\"\",\"OK\",IF(AND(#REF!<>\"\",#REF!<TODAY()),\"Retard\",\"Attente de Livraison\")))","v":""}]
[null,null,null,null,null,null,null,null,{"$f":"IF(F2199=\"\",\"\",IF(H2199<>\"\",\"OK\",IF(AND(#REF!<>\"\",#REF!<TODAY()),\"Retard\",\"Attente de Livraison\")))","v":""}]
[null,null,null,null,null,null,null,null,{"$f":"IF(F2200=\"\",\"\",IF(H2200<>\"\",\"OK\",IF(AND(#REF!<>\"\",#REF!<TODAY()),\"Retard\",\"Attente de Livraison\")))","v":""}]
[null,null,null,null,null,null,null,null,{"$f":"IF(F2201=\"\",\"\",IF(H2201<>\"\",\"OK\",IF(AND(#REF!<>\"\",#REF!<TODAY()),\"Retard\",\"Attente de Livraison\")))","v":""}]
[null,null,null,null,null,null,null,null,{"$f":"IF(F2202=\"\",\"\",IF(H2202<>\"\",\"OK\",IF(AND(#REF!<>\"\",#REF!<TODAY()),\"Retard\",\"Attente de Livraison\")))","v":""}]
[null,null,null,null,null,null,null,null,{"$f":"IF(F2203=\"\",\"\",IF(H2203<>\"\",\"OK\",IF(AND(#REF!<>\"\",#REF!<TODAY()),\"Retard\",\"Attente de Livraison\")))","v":""}]
[null,null,null,null,null,null,null,null,{"$f":"IF(F2204=\"\",\"\",IF(H2204<>\"\",\"OK\",IF(AND(#REF!<>\"\",#REF!<TODAY()),\"Retard\",\"Attente de Livraison\")))","v":""}]
[null,null,null,null,null,null,null,null,{"$f":"IF(F2205=\"\",\"\",IF(H2205<>\"\",\"OK\",IF(AND(#REF!<>\"\",#REF!<TODAY()),\"Retard\",\"Attente de Livraison\")))","v":""}]
[null,null,null,null,null,null,null,null,{"$f":"IF(F2206=\"\",\"\",IF(H2206<>\"\",\"OK\",IF(AND(#REF!<>\"\",#REF!<TODAY()),\"Retard\",\"Attente de Livraison\")))","v":""}]
[null,null,null,null,null,null,null,null,{"$f":"IF(F2207=\"\",\"\",IF(H2207<>\"\",\"OK\",IF(AND(#REF!<>\"\",#REF!<TODAY()),\"Retard\",\"Attente de Livraison\")))","v":""}]
[null,null,null,null,null,null,null,null,{"$f":"IF(F2208=\"\",\"\",IF(H2208<>\"\",\"OK\",IF(AND(#REF!<>\"\",#REF!<TODAY()),\"Retard\",\"Attente de Livraison\")))","v":""}]
[null,null,null,null,null,null,null,null,{"$f":"IF(F2209=\"\",\"\",IF(H2209<>\"\",\"OK\",IF(AND(#REF!<>\"\",#REF!<TODAY()),\"Retard\",\"Attente de Livraison\")))","v":""}]
[null,null,null,null,null,null,null,null,{"$f":"IF(F2210=\"\",\"\",IF(H2210<>\"\",\"OK\",IF(AND(#REF!<>\"\",#REF!<TODAY()),\"Retard\",\"Attente de Livraison\")))","v":""}]
[null,null,null,null,null,null,null,null,{"$f":"IF(F2211=\"\",\"\",IF(H2211<>\"\",\"OK\",IF(AND(#REF!<>\"\",#REF!<TODAY()),\"Retard\",\"Attente de Livraison\")))","v":""}]
[null,null,null,null,null,null,null,null,{"$f":"IF(F2212=\"\",\"\",IF(H2212<>\"\",\"OK\",IF(AND(#REF!<>\"\",#REF!<TODAY()),\"Retard\",\"Attente de Livraison\")))","v":""}]
[null,null,null,null,null,null,null,null,{"$f":"IF(F2213=\"\",\"\",IF(H2213<>\"\",\"OK\",IF(AND(#REF!<>\"\",#REF!<TODAY()),\"Retard\",\"Attente de Livraison\")))","v":""}]
[null,null,null,null,null,null,null,null,{"$f":"IF(F2214=\"\",\"\",IF(H2214<>\"\",\"OK\",IF(AND(#REF!<>\"\",#REF!<TODAY()),\"Retard\",\"Attente de Livraison\")))","v":""}]
[null,null,null,null,null,null,null,null,{"$f":"IF(F2215=\"\",\"\",IF(H2215<>\"\",\"OK\",IF(AND(#REF!<>\"\",#REF!<TODAY()),\"Retard\",\"Attente de Livraison\")))","v":""}]
[null,null,null,null,null,null,null,null,{"$f":"IF(F2216=\"\",\"\",IF(H2216<>\"\",\"OK\",IF(AND(#REF!<>\"\",#REF!<TODAY()),\"Retard\",\"Attente de Livraison\")))","v":""}]
[null,null,null,null,null,null,null,null,{"$f":"IF(F2217=\"\",\"\",IF(H2217<>\"\",\"OK\",IF(AND(#REF!<>\"\",#REF!<TODAY()),\"Retard\",\"Attente de Livraison\")))","v":""}]
[null,null,null,null,null,null,null,null,{"$f":"IF(F2218=\"\",\"\",IF(H2218<>\"\",\"OK\",IF(AND(#REF!<>\"\",#REF!<TODAY()),\"Retard\",\"Attente de Livraison\")))","v":""}]
[null,null,null,null,null,null,null,null,{"$f":"IF(F2219=\"\",\"\",IF(H2219<>\"\",\"OK\",IF(AND(#REF!<>\"\",#REF!<TODAY()),\"Retard\",\"Attente de Livraison\")))","v":""}]
[null,null,null,null,null,null,null,null,{"$f":"IF(F2220=\"\",\"\",IF(H2220<>\"\",\"OK\",IF(AND(#REF!<>\"\",#REF!<TODAY()),\"Retard\",\"Attente de Livraison\")))","v":""}]
[null,null,null,null,null,null,null,null,{"$f":"IF(F2221=\"\",\"\",IF(H2221<>\"\",\"OK\",IF(AND(#REF!<>\"\",#REF!<TODAY()),\"Retard\",\"Attente de Livraison\")))","v":""}]
[null,null,null,null,null,null,null,null,{"$f":"IF(F2222=\"\",\"\",IF(H2222<>\"\",\"OK\",IF(AND(#REF!<>\"\",#REF!<TODAY()),\"Retard\",\"Attente de Livraison\")))","v":""}]
[null,null,null,null,null,null,null,null,{"$f":"IF(F2223=\"\",\"\",IF(H2223<>\"\",\"OK\",IF(AND(#REF!<>\"\",#REF!<TODAY()),\"Retard\",\"Attente de Livraison\")))","v":""}]
[null,null,null,null,null,null,null,null,{"$f":"IF(F2224=\"\",\"\",IF(H2224<>\"\",\"OK\",IF(AND(#REF!<>\"\",#REF!<TODAY()),\"Retard\",\"Attente de Livraison\")))","v":""}]
[null,null,null,null,null,null,null,null,{"$f":"IF(F2225=\"\",\"\",IF(H2225<>\"\",\"OK\",IF(AND(#REF!<>\"\",#REF!<TODAY()),\"Retard\",\"Attente de Livraison\")))","v":""}]
[null,null,null,null,null,null,null,null,{"$f":"IF(F2226=\"\",\"\",IF(H2226<>\"\",\"OK\",IF(AND(#REF!<>\"\",#REF!<TODAY()),\"Retard\",\"Attente de Livraison\")))","v":""}]
[null,null,null,null,null,null,null,null,{"$f":"IF(F2227=\"\",\"\",IF(H2227<>\"\",\"OK\",IF(AND(#REF!<>\"\",#REF!<TODAY()),\"Retard\",\"Attente de Livraison\")))","v":""}]
[null,null,null,null,null,null,null,null,{"$f":"IF(F2228=\"\",\"\",IF(H2228<>\"\",\"OK\",IF(AND(#REF!<>\"\",#REF!<TODAY()),\"Retard\",\"Attente de Livraison\")))","v":""}]
[null,null,null,null,null,null,null,null,{"$f":"IF(F2229=\"\",\"\",IF(H2229<>\"\",\"OK\",IF(AND(#REF!<>\"\",#REF!<TODAY()),\"Retard\",\"Attente de Livraison\")))","v":""}]
[null,null,null,null,null,null,null,null,{"$f":"IF(F2230=\"\",\"\",IF(H2230<>\"\",\"OK\",IF(AND(#REF!<>\"\",#REF!<TODAY()),\"Retard\",\"Attente de Livraison\")))","v":""}]
[null,null,null,null,null,null,null,null,{"$f":"IF(F2231=\"\",\"\",IF(H2231<>\"\",\"OK\",IF(AND(#REF!<>\"\",#REF!<TODAY()),\"Retard\",\"Attente de Livraison\")))","v":""}]
[null,null,null,null,null,null,null,null,{"$f":"IF(F2232=\"\",\"\",IF(H2232<>\"\",\"OK\",IF(AND(#REF!<>\"\",#REF!<TODAY()),\"Retard\",\"Attente de Livraison\")))","v":""}]
[null,null,null,null,null,null,null,null,{"$f":"IF(F2233=\"\",\"\",IF(H2233<>\"\",\"OK\",IF(AND(#REF!<>\"\",#REF!<TODAY()),\"Retard\",\"Attente de Livraison\")))","v":""}]
[null,null,null,null,null,null,null,null,{"$f":"IF(F2234=\"\",\"\",IF(H2234<>\"\",\"OK\",IF(AND(#REF!<>\"\",#REF!<TODAY()),\"Retard\",\"Attente de Livraison\")))","v":""}]
[null,null,null,null,null,null,null,null,{"$f":"IF(F2235=\"\",\"\",IF(H2235<>\"\",\"OK\",IF(AND(#REF!<>\"\",#REF!<TODAY()),\"Retard\",\"Attente de Livraison\")))","v":""}]
[null,null,null,null,null,null,null,null,{"$f":"IF(F2236=\"\",\"\",IF(H2236<>\"\",\"OK\",IF(AND(#REF!<>\"\",#REF!<TODAY()),\"Retard\",\"Attente de Livraison\")))","v":""}]
[null,null,null,null,null,null,null,null,{"$f":"IF(F2237=\"\",\"\",IF(H2237<>\"\",\"OK\",IF(AND(#REF!<>\"\",#REF!<TODAY()),\"Retard\",\"Attente de Livraison\")))","v":""}]
[null,null,null,null,null,null,null,null,{"$f":"IF(F2238=\"\",\"\",IF(H2238<>\"\",\"OK\",IF(AND(#REF!<>\"\",#REF!<TODAY()),\"Retard\",\"Attente de Livraison\")))","v":""}]
[null,null,null,null,null,null,null,null,{"$f":"IF(F2239=\"\",\"\",IF(H2239<>\"\",\"OK\",IF(AND(#REF!<>\"\",#REF!<TODAY()),\"Retard\",\"Attente de Livraison\")))","v":""}]
[null,null,null,null,null,null,null,null,{"$f":"IF(F2240=\"\",\"\",IF(H2240<>\"\",\"OK\",IF(AND(#REF!<>\"\",#REF!<TODAY()),\"Retard\",\"Attente de Livraison\")))","v":""}]
[null,null,null,null,null,null,null,null,{"$f":"IF(F2241=\"\",\"\",IF(H2241<>\"\",\"OK\",IF(AND(#REF!<>\"\",#REF!<TODAY()),\"Retard\",\"Attente de Livraison\")))","v":""}]
[null,null,null,null,null,null,null,null,{"$f":"IF(F2242=\"\",\"\",IF(H2242<>\"\",\"OK\",IF(AND(#REF!<>\"\",#REF!<TODAY()),\"Retard\",\"Attente de Livraison\")))","v":""}]
[null,null,null,null,null,null,null,null,{"$f":"IF(F2243=\"\",\"\",IF(H2243<>\"\",\"OK\",IF(AND(#REF!<>\"\",#REF!<TODAY()),\"Retard\",\"Attente de Livraison\")))","v":""}]
[null,null,null,null,null,null,null,null,{"$f":"IF(F2244=\"\",\"\",IF(H2244<>\"\",\"OK\",IF(AND(#REF!<>\"\",#REF!<TODAY()),\"Retard\",\"Attente de Livraison\")))","v":""}]
[null,null,null,null,null,null,null,null,{"$f":"IF(F2245=\"\",\"\",IF(H2245<>\"\",\"OK\",IF(AND(#REF!<>\"\",#REF!<TODAY()),\"Retard\",\"Attente de Livraison\")))","v":""}]
[null,null,null,null,null,null,null,null,{"$f":"IF(F2246=\"\",\"\",IF(H2246<>\"\",\"OK\",IF(AND(#REF!<>\"\",#REF!<TODAY()),\"Retard\",\"Attente de Livraison\")))","v":""}]
[null,null,null,null,null,null,null,null,{"$f":"IF(F2247=\"\",\"\",IF(H2247<>\"\",\"OK\",IF(AND(#REF!<>\"\",#REF!<TODAY()),\"Retard\",\"Attente de Livraison\")))","v":""}]
[null,null,null,null,null,null,null,null,{"$f":"IF(F2248=\"\",\"\",IF(H2248<>\"\",\"OK\",IF(AND(#REF!<>\"\",#REF!<TODAY()),\"Retard\",\"Attente de Livraison\")))","v":""}]
[null,null,null,null,null,null,null,null,{"$f":"IF(F2249=\"\",\"\",IF(H2249<>\"\",\"OK\",IF(AND(#REF!<>\"\",#REF!<TODAY()),\"Retard\",\"Attente de Livraison\")))","v":""}]
[null,null,null,null,null,null,null,null,{"$f":"IF(F2250=\"\",\"\",IF(H2250<>\"\",\"OK\",IF(AND(#REF!<>\"\",#REF!<TODAY()),\"Retard\",\"Attente de Livraison\")))","v":""}]
[null,null,null,null,null,null,null,null,{"$f":"IF(F2251=\"\",\"\",IF(H2251<>\"\",\"OK\",IF(AND(#REF!<>\"\",#REF!<TODAY()),\"Retard\",\"Attente de Livraison\")))","v":""}]
[null,null,null,null,null,null,null,null,{"$f":"IF(F2252=\"\",\"\",IF(H2252<>\"\",\"OK\",IF(AND(#REF!<>\"\",#REF!<TODAY()),\"Retard\",\"Attente de Livraison\")))","v":""}]
[null,null,null,null,null,null,null,null,{"$f":"IF(F2253=\"\",\"\",IF(H2253<>\"\",\"OK\",IF(AND(#REF!<>\"\",#REF!<TODAY()),\"Retard\",\"Attente de Livraison\")))","v":""}]
[null,null,null,null,null,null,null,null,{"$f":"IF(F2254=\"\",\"\",IF(H2254<>\"\",\"OK\",IF(AND(#REF!<>\"\",#REF!<TODAY()),\"Retard\",\"Attente de Livraison\")))","v":""}]
[null,null,null,null,null,null,null,null,{"$f":"IF(F2255=\"\",\"\",IF(H2255<>\"\",\"OK\",IF(AND(#REF!<>\"\",#REF!<TODAY()),\"Retard\",\"Attente de Livraison\")))","v":""}]
[null,null,null,null,null,null,null,null,{"$f":"IF(F2256=\"\",\"\",IF(H2256<>\"\",\"OK\",IF(AND(#REF!<>\"\",#REF!<TODAY()),\"Retard\",\"Attente de Livraison\")))","v":""}]
[null,null,null,null,null,null,null,null,{"$f":"IF(F2257=\"\",\"\",IF(H2257<>\"\",\"OK\",IF(AND(#REF!<>\"\",#REF!<TODAY()),\"Retard\",\"Attente de Livraison\")))","v":""}]
[null,null,null,null,null,null,null,null,{"$f":"IF(F2258=\"\",\"\",IF(H2258<>\"\",\"OK\",IF(AND(#REF!<>\"\",#REF!<TODAY()),\"Retard\",\"Attente de Livraison\")))","v":""}]
[null,null,null,null,null,null,null,null,{"$f":"IF(F2259=\"\",\"\",IF(H2259<>\"\",\"OK\",IF(AND(#REF!<>\"\",#REF!<TODAY()),\"Retard\",\"Attente de Livraison\")))","v":""}]
[null,null,null,null,null,null,null,null,{"$f":"IF(F2260=\"\",\"\",IF(H2260<>\"\",\"OK\",IF(AND(#REF!<>\"\",#REF!<TODAY()),\"Retard\",\"Attente de Livraison\")))","v":""}]
[null,null,null,null,null,null,null,null,{"$f":"IF(F2261=\"\",\"\",IF(H2261<>\"\",\"OK\",IF(AND(#REF!<>\"\",#REF!<TODAY()),\"Retard\",\"Attente de Livraison\")))","v":""}]
[null,null,null,null,null,null,null,null,{"$f":"IF(F2262=\"\",\"\",IF(H2262<>\"\",\"OK\",IF(AND(#REF!<>\"\",#REF!<TODAY()),\"Retard\",\"Attente de Livraison\")))","v":""}]
[null,null,null,null,null,null,null,null,{"$f":"IF(F2263=\"\",\"\",IF(H2263<>\"\",\"OK\",IF(AND(#REF!<>\"\",#REF!<TODAY()),\"Retard\",\"Attente de Livraison\")))","v":""}]
[null,null,null,null,null,null,null,null,{"$f":"IF(F2264=\"\",\"\",IF(H2264<>\"\",\"OK\",IF(AND(#REF!<>\"\",#REF!<TODAY()),\"Retard\",\"Attente de Livraison\")))","v":""}]
[null,null,null,null,null,null,null,null,{"$f":"IF(F2265=\"\",\"\",IF(H2265<>\"\",\"OK\",IF(AND(#REF!<>\"\",#REF!<TODAY()),\"Retard\",\"Attente de Livraison\")))","v":""}]
[null,null,null,null,null,null,null,null,{"$f":"IF(F2266=\"\",\"\",IF(H2266<>\"\",\"OK\",IF(AND(#REF!<>\"\",#REF!<TODAY()),\"Retard\",\"Attente de Livraison\")))","v":""}]
[null,null,null,null,null,null,null,null,{"$f":"IF(F2267=\"\",\"\",IF(H2267<>\"\",\"OK\",IF(AND(#REF!<>\"\",#REF!<TODAY()),\"Retard\",\"Attente de Livraison\")))","v":""}]
[null,null,null,null,null,null,null,null,{"$f":"IF(F2268=\"\",\"\",IF(H2268<>\"\",\"OK\",IF(AND(#REF!<>\"\",#REF!<TODAY()),\"Retard\",\"Attente de Livraison\")))","v":""}]
[null,null,null,null,null,null,null,null,{"$f":"IF(F2269=\"\",\"\",IF(H2269<>\"\",\"OK\",IF(AND(#REF!<>\"\",#REF!<TODAY()),\"Retard\",\"Attente de Livraison\")))","v":""}]
[null,null,null,null,null,null,null,null,{"$f":"IF(F2270=\"\",\"\",IF(H2270<>\"\",\"OK\",IF(AND(#REF!<>\"\",#REF!<TODAY()),\"Retard\",\"Attente de Livraison\")))","v":""}]
[null,null,null,null,null,null,null,null,{"$f":"IF(F2271=\"\",\"\",IF(H2271<>\"\",\"OK\",IF(AND(#REF!<>\"\",#REF!<TODAY()),\"Retard\",\"Attente de Livraison\")))","v":""}]
[null,null,null,null,null,null,null,null,{"$f":"IF(F2272=\"\",\"\",IF(H2272<>\"\",\"OK\",IF(AND(#REF!<>\"\",#REF!<TODAY()),\"Retard\",\"Attente de Livraison\")))","v":""}]
[null,null,null,null,null,null,null,null,{"$f":"IF(F2273=\"\",\"\",IF(H2273<>\"\",\"OK\",IF(AND(#REF!<>\"\",#REF!<TODAY()),\"Retard\",\"Attente de Livraison\")))","v":""}]
[null,null,null,null,null,null,null,null,{"$f":"IF(F2274=\"\",\"\",IF(H2274<>\"\",\"OK\",IF(AND(#REF!<>\"\",#REF!<TODAY()),\"Retard\",\"Attente de Livraison\")))","v":""}]
[null,null,null,null,null,null,null,null,{"$f":"IF(F2275=\"\",\"\",IF(H2275<>\"\",\"OK\",IF(AND(#REF!<>\"\",#REF!<TODAY()),\"Retard\",\"Attente de Livraison\")))","v":""}]
[null,null,null,null,null,null,null,null,{"$f":"IF(F2276=\"\",\"\",IF(H2276<>\"\",\"OK\",IF(AND(#REF!<>\"\",#REF!<TODAY()),\"Retard\",\"Attente de Livraison\")))","v":""}]
[null,null,null,null,null,null,null,null,{"$f":"IF(F2277=\"\",\"\",IF(H2277<>\"\",\"OK\",IF(AND(#REF!<>\"\",#REF!<TODAY()),\"Retard\",\"Attente de Livraison\")))","v":""}]
[null,null,null,null,null,null,null,null,{"$f":"IF(F2278=\"\",\"\",IF(H2278<>\"\",\"OK\",IF(AND(#REF!<>\"\",#REF!<TODAY()),\"Retard\",\"Attente de Livraison\")))","v":""}]
[null,null,null,null,null,null,null,null,{"$f":"IF(F2279=\"\",\"\",IF(H2279<>\"\",\"OK\",IF(AND(#REF!<>\"\",#REF!<TODAY()),\"Retard\",\"Attente de Livraison\")))","v":""}]
[null,null,null,null,null,null,null,null,{"$f":"IF(F2280=\"\",\"\",IF(H2280<>\"\",\"OK\",IF(AND(#REF!<>\"\",#REF!<TODAY()),\"Retard\",\"Attente de Livraison\")))","v":""}]
[null,null,null,null,null,null,null,null,{"$f":"IF(F2281=\"\",\"\",IF(H2281<>\"\",\"OK\",IF(AND(#REF!<>\"\",#REF!<TODAY()),\"Retard\",\"Attente de Livraison\")))","v":""}]
[null,null,null,null,null,null,null,null,{"$f":"IF(F2282=\"\",\"\",IF(H2282<>\"\",\"OK\",IF(AND(#REF!<>\"\",#REF!<TODAY()),\"Retard\",\"Attente de Livraison\")))","v":""}]
[null,null,null,null,null,null,null,null,{"$f":"IF(F2283=\"\",\"\",IF(H2283<>\"\",\"OK\",IF(AND(#REF!<>\"\",#REF!<TODAY()),\"Retard\",\"Attente de Livraison\")))","v":""}]
[null,null,null,null,null,null,null,null,{"$f":"IF(F2284=\"\",\"\",IF(H2284<>\"\",\"OK\",IF(AND(#REF!<>\"\",#REF!<TODAY()),\"Retard\",\"Attente de Livraison\")))","v":""}]
[null,null,null,null,null,null,null,null,{"$f":"IF(F2285=\"\",\"\",IF(H2285<>\"\",\"OK\",IF(AND(#REF!<>\"\",#REF!<TODAY()),\"Retard\",\"Attente de Livraison\")))","v":""}]
[null,null,null,null,null,null,null,null,{"$f":"IF(F2286=\"\",\"\",IF(H2286<>\"\",\"OK\",IF(AND(#REF!<>\"\",#REF!<TODAY()),\"Retard\",\"Attente de Livraison\")))","v":""}]
[null,null,null,null,null,null,null,null,{"$f":"IF(F2287=\"\",\"\",IF(H2287<>\"\",\"OK\",IF(AND(#REF!<>\"\",#REF!<TODAY()),\"Retard\",\"Attente de Livraison\")))","v":""}]
[null,null,null,null,null,null,null,null,{"$f":"IF(F2288=\"\",\"\",IF(H2288<>\"\",\"OK\",IF(AND(#REF!<>\"\",#REF!<TODAY()),\"Retard\",\"Attente de Livraison\")))","v":""}]
[null,null,null,null,null,null,null,null,{"$f":"IF(F2289=\"\",\"\",IF(H2289<>\"\",\"OK\",IF(AND(#REF!<>\"\",#REF!<TODAY()),\"Retard\",\"Attente de Livraison\")))","v":""}]
[null,null,null,null,null,null,null,null,{"$f":"IF(F2290=\"\",\"\",IF(H2290<>\"\",\"OK\",IF(AND(#REF!<>\"\",#REF!<TODAY()),\"Retard\",\"Attente de Livraison\")))","v":""}]
[null,null,null,null,null,null,null,null,{"$f":"IF(F2291=\"\",\"\",IF(H2291<>\"\",\"OK\",IF(AND(#REF!<>\"\",#REF!<TODAY()),\"Retard\",\"Attente de Livraison\")))","v":""}]
[null,null,null,null,null,null,null,null,{"$f":"IF(F2292=\"\",\"\",IF(H2292<>\"\",\"OK\",IF(AND(#REF!<>\"\",#REF!<TODAY()),\"Retard\",\"Attente de Livraison\")))","v":""}]
[null,null,null,null,null,null,null,null,{"$f":"IF(F2293=\"\",\"\",IF(H2293<>\"\",\"OK\",IF(AND(#REF!<>\"\",#REF!<TODAY()),\"Retard\",\"Attente de Livraison\")))","v":""}]
[null,null,null,null,null,null,null,null,{"$f":"IF(F2294=\"\",\"\",IF(H2294<>\"\",\"OK\",IF(AND(#REF!<>\"\",#REF!<TODAY()),\"Retard\",\"Attente de Livraison\")))","v":""}]
[null,null,null,null,null,null,null,null,{"$f":"IF(F2295=\"\",\"\",IF(H2295<>\"\",\"OK\",IF(AND(#REF!<>\"\",#REF!<TODAY()),\"Retard\",\"Attente de Livraison\")))","v":""}]
[null,null,null,null,null,null,null,null,{"$f":"IF(F2296=\"\",\"\",IF(H2296<>\"\",\"OK\",IF(AND(#REF!<>\"\",#REF!<TODAY()),\"Retard\",\"Attente de Livraison\")))","v":""}]
[null,null,null,null,null,null,null,null,{"$f":"IF(F2297=\"\",\"\",IF(H2297<>\"\",\"OK\",IF(AND(#REF!<>\"\",#REF!<TODAY()),\"Retard\",\"Attente de Livraison\")))","v":""}]
[null,null,null,null,null,null,null,null,{"$f":"IF(F2298=\"\",\"\",IF(H2298<>\"\",\"OK\",IF(AND(#REF!<>\"\",#REF!<TODAY()),\"Retard\",\"Attente de Livraison\")))","v":""}]
[null,null,null,null,null,null,null,null,{"$f":"IF(F2299=\"\",\"\",IF(H2299<>\"\",\"OK\",IF(AND(#REF!<>\"\",#REF!<TODAY()),\"Retard\",\"Attente de Livraison\")))","v":""}]
[null,null,null,null,null,null,null,null,{"$f":"IF(F2300=\"\",\"\",IF(H2300<>\"\",\"OK\",IF(AND(#REF!<>\"\",#REF!<TODAY()),\"Retard\",\"Attente de Livraison\")))","v":""}]
[null,null,null,null,null,null,null,null,{"$f":"IF(F2301=\"\",\"\",IF(H2301<>\"\",\"OK\",IF(AND(#REF!<>\"\",#REF!<TODAY()),\"Retard\",\"Attente de Livraison\")))","v":""}]
[null,null,null,null,null,null,null,null,{"$f":"IF(F2302=\"\",\"\",IF(H2302<>\"\",\"OK\",IF(AND(#REF!<>\"\",#REF!<TODAY()),\"Retard\",\"Attente de Livraison\")))","v":""}]
[null,null,null,null,null,null,null,null,{"$f":"IF(F2303=\"\",\"\",IF(H2303<>\"\",\"OK\",IF(AND(#REF!<>\"\",#REF!<TODAY()),\"Retard\",\"Attente de Livraison\")))","v":""}]
[null,null,null,null,null,null,null,null,{"$f":"IF(F2304=\"\",\"\",IF(H2304<>\"\",\"OK\",IF(AND(#REF!<>\"\",#REF!<TODAY()),\"Retard\",\"Attente de Livraison\")))","v":""}]
[null,null,null,null,null,null,null,null,{"$f":"IF(F2305=\"\",\"\",IF(H2305<>\"\",\"OK\",IF(AND(#REF!<>\"\",#REF!<TODAY()),\"Retard\",\"Attente de Livraison\")))","v":""}]
[null,null,null,null,null,null,null,null,{"$f":"IF(F2306=\"\",\"\",IF(H2306<>\"\",\"OK\",IF(AND(#REF!<>\"\",#REF!<TODAY()),\"Retard\",\"Attente de Livraison\")))","v":""}]
[null,null,null,null,null,null,null,null,{"$f":"IF(F2307=\"\",\"\",IF(H2307<>\"\",\"OK\",IF(AND(#REF!<>\"\",#REF!<TODAY()),\"Retard\",\"Attente de Livraison\")))","v":""}]
[null,null,null,null,null,null,null,null,{"$f":"IF(F2308=\"\",\"\",IF(H2308<>\"\",\"OK\",IF(AND(#REF!<>\"\",#REF!<TODAY()),\"Retard\",\"Attente de Livraison\")))","v":""}]
[null,null,null,null,null,null,null,null,{"$f":"IF(F2309=\"\",\"\",IF(H2309<>\"\",\"OK\",IF(AND(#REF!<>\"\",#REF!<TODAY()),\"Retard\",\"Attente de Livraison\")))","v":""}]
[null,null,null,null,null,null,null,null,{"$f":"IF(F2310=\"\",\"\",IF(H2310<>\"\",\"OK\",IF(AND(#REF!<>\"\",#REF!<TODAY()),\"Retard\",\"Attente de Livraison\")))","v":""}]
[null,null,null,null,null,null,null,null,{"$f":"IF(F2311=\"\",\"\",IF(H2311<>\"\",\"OK\",IF(AND(#REF!<>\"\",#REF!<TODAY()),\"Retard\",\"Attente de Livraison\")))","v":""}]
[null,null,null,null,null,null,null,null,{"$f":"IF(F2312=\"\",\"\",IF(H2312<>\"\",\"OK\",IF(AND(#REF!<>\"\",#REF!<TODAY()),\"Retard\",\"Attente de Livraison\")))","v":""}]
[null,null,null,null,null,null,null,null,{"$f":"IF(F2313=\"\",\"\",IF(H2313<>\"\",\"OK\",IF(AND(#REF!<>\"\",#REF!<TODAY()),\"Retard\",\"Attente de Livraison\")))","v":""}]
[null,null,null,null,null,null,null,null,{"$f":"IF(F2314=\"\",\"\",IF(H2314<>\"\",\"OK\",IF(AND(#REF!<>\"\",#REF!<TODAY()),\"Retard\",\"Attente de Livraison\")))","v":""}]
[null,null,null,null,null,null,null,null,{"$f":"IF(F2315=\"\",\"\",IF(H2315<>\"\",\"OK\",IF(AND(#REF!<>\"\",#REF!<TODAY()),\"Retard\",\"Attente de Livraison\")))","v":""}]
[null,null,null,null,null,null,null,null,{"$f":"IF(F2316=\"\",\"\",IF(H2316<>\"\",\"OK\",IF(AND(#REF!<>\"\",#REF!<TODAY()),\"Retard\",\"Attente de Livraison\")))","v":""}]
[null,null,null,null,null,null,null,null,{"$f":"IF(F2317=\"\",\"\",IF(H2317<>\"\",\"OK\",IF(AND(#REF!<>\"\",#REF!<TODAY()),\"Retard\",\"Attente de Livraison\")))","v":""}]
[null,null,null,null,null,null,null,null,{"$f":"IF(F2318=\"\",\"\",IF(H2318<>\"\",\"OK\",IF(AND(#REF!<>\"\",#REF!<TODAY()),\"Retard\",\"Attente de Livraison\")))","v":""}]
[null,null,null,null,null,null,null,null,{"$f":"IF(F2319=\"\",\"\",IF(H2319<>\"\",\"OK\",IF(AND(#REF!<>\"\",#REF!<TODAY()),\"Retard\",\"Attente de Livraison\")))","v":""}]
[null,null,null,null,null,null,null,null,{"$f":"IF(F2320=\"\",\"\",IF(H2320<>\"\",\"OK\",IF(AND(#REF!<>\"\",#REF!<TODAY()),\"Retard\",\"Attente de Livraison\")))","v":""}]
[null,null,null,null,null,null,null,null,{"$f":"IF(F2321=\"\",\"\",IF(H2321<>\"\",\"OK\",IF(AND(#REF!<>\"\",#REF!<TODAY()),\"Retard\",\"Attente de Livraison\")))","v":""}]
[null,null,null,null,null,null,null,null,{"$f":"IF(F2322=\"\",\"\",IF(H2322<>\"\",\"OK\",IF(AND(#REF!<>\"\",#REF!<TODAY()),\"Retard\",\"Attente de Livraison\")))","v":""}]
[null,null,null,null,null,null,null,null,{"$f":"IF(F2323=\"\",\"\",IF(H2323<>\"\",\"OK\",IF(AND(#REF!<>\"\",#REF!<TODAY()),\"Retard\",\"Attente de Livraison\")))","v":""}]
[null,null,null,null,null,null,null,null,{"$f":"IF(F2324=\"\",\"\",IF(H2324<>\"\",\"OK\",IF(AND(#REF!<>\"\",#REF!<TODAY()),\"Retard\",\"Attente de Livraison\")))","v":""}]
[null,null,null,null,null,null,null,null,{"$f":"IF(F2325=\"\",\"\",IF(H2325<>\"\",\"OK\",IF(AND(#REF!<>\"\",#REF!<TODAY()),\"Retard\",\"Attente de Livraison\")))","v":""}]
[null,null,null,null,null,null,null,null,{"$f":"IF(F2326=\"\",\"\",IF(H2326<>\"\",\"OK\",IF(AND(#REF!<>\"\",#REF!<TODAY()),\"Retard\",\"Attente de Livraison\")))","v":""}]
[null,null,null,null,null,null,null,null,{"$f":"IF(F2327=\"\",\"\",IF(H2327<>\"\",\"OK\",IF(AND(#REF!<>\"\",#REF!<TODAY()),\"Retard\",\"Attente de Livraison\")))","v":""}]
[null,null,null,null,null,null,null,null,{"$f":"IF(F2328=\"\",\"\",IF(H2328<>\"\",\"OK\",IF(AND(#REF!<>\"\",#REF!<TODAY()),\"Retard\",\"Attente de Livraison\")))","v":""}]
[null,null,null,null,null,null,null,null,{"$f":"IF(F2329=\"\",\"\",IF(H2329<>\"\",\"OK\",IF(AND(#REF!<>\"\",#REF!<TODAY()),\"Retard\",\"Attente de Livraison\")))","v":""}]
[null,null,null,null,null,null,null,null,{"$f":"IF(F2330=\"\",\"\",IF(H2330<>\"\",\"OK\",IF(AND(#REF!<>\"\",#REF!<TODAY()),\"Retard\",\"Attente de Livraison\")))","v":""}]
[null,null,null,null,null,null,null,null,{"$f":"IF(F2331=\"\",\"\",IF(H2331<>\"\",\"OK\",IF(AND(#REF!<>\"\",#REF!<TODAY()),\"Retard\",\"Attente de Livraison\")))","v":""}]
[null,null,null,null,null,null,null,null,{"$f":"IF(F2332=\"\",\"\",IF(H2332<>\"\",\"OK\",IF(AND(#REF!<>\"\",#REF!<TODAY()),\"Retard\",\"Attente de Livraison\")))","v":""}]
[null,null,null,null,null,null,null,null,{"$f":"IF(F2333=\"\",\"\",IF(H2333<>\"\",\"OK\",IF(AND(#REF!<>\"\",#REF!<TODAY()),\"Retard\",\"Attente de Livraison\")))","v":""}]
[null,null,null,null,null,null,null,null,{"$f":"IF(F2334=\"\",\"\",IF(H2334<>\"\",\"OK\",IF(AND(#REF!<>\"\",#REF!<TODAY()),\"Retard\",\"Attente de Livraison\")))","v":""}]
[null,null,null,null,null,null,null,null,{"$f":"IF(F2335=\"\",\"\",IF(H2335<>\"\",\"OK\",IF(AND(#REF!<>\"\",#REF!<TODAY()),\"Retard\",\"Attente de Livraison\")))","v":""}]
[null,null,null,null,null,null,null,null,{"$f":"IF(F2336=\"\",\"\",IF(H2336<>\"\",\"OK\",IF(AND(#REF!<>\"\",#REF!<TODAY()),\"Retard\",\"Attente de Livraison\")))","v":""}]
[null,null,null,null,null,null,null,null,{"$f":"IF(F2337=\"\",\"\",IF(H2337<>\"\",\"OK\",IF(AND(#REF!<>\"\",#REF!<TODAY()),\"Retard\",\"Attente de Livraison\")))","v":""}]
[null,null,null,null,null,null,null,null,{"$f":"IF(F2338=\"\",\"\",IF(H2338<>\"\",\"OK\",IF(AND(#REF!<>\"\",#REF!<TODAY()),\"Retard\",\"Attente de Livraison\")))","v":""}]
[null,null,null,null,null,null,null,null,{"$f":"IF(F2339=\"\",\"\",IF(H2339<>\"\",\"OK\",IF(AND(#REF!<>\"\",#REF!<TODAY()),\"Retard\",\"Attente de Livraison\")))","v":""}]
[null,null,null,null,null,null,null,null,{"$f":"IF(F2340=\"\",\"\",IF(H2340<>\"\",\"OK\",IF(AND(#REF!<>\"\",#REF!<TODAY()),\"Retard\",\"Attente de Livraison\")))","v":""}]
[null,null,null,null,null,null,null,null,{"$f":"IF(F2341=\"\",\"\",IF(H2341<>\"\",\"OK\",IF(AND(#REF!<>\"\",#REF!<TODAY()),\"Retard\",\"Attente de Livraison\")))","v":""}]
[null,null,null,null,null,null,null,null,{"$f":"IF(F2342=\"\",\"\",IF(H2342<>\"\",\"OK\",IF(AND(#REF!<>\"\",#REF!<TODAY()),\"Retard\",\"Attente de Livraison\")))","v":""}]
[null,null,null,null,null,null,null,null,{"$f":"IF(F2343=\"\",\"\",IF(H2343<>\"\",\"OK\",IF(AND(#REF!<>\"\",#REF!<TODAY()),\"Retard\",\"Attente de Livraison\")))","v":""}]
[null,null,null,null,null,null,null,null,{"$f":"IF(F2344=\"\",\"\",IF(H2344<>\"\",\"OK\",IF(AND(#REF!<>\"\",#REF!<TODAY()),\"Retard\",\"Attente de Livraison\")))","v":""}]
[null,null,null,null,null,null,null,null,{"$f":"IF(F2345=\"\",\"\",IF(H2345<>\"\",\"OK\",IF(AND(#REF!<>\"\",#REF!<TODAY()),\"Retard\",\"Attente de Livraison\")))","v":""}]
[null,null,null,null,null,null,null,null,{"$f":"IF(F2346=\"\",\"\",IF(H2346<>\"\",\"OK\",IF(AND(#REF!<>\"\",#REF!<TODAY()),\"Retard\",\"Attente de Livraison\")))","v":""}]
[null,null,null,null,null,null,null,null,{"$f":"IF(F2347=\"\",\"\",IF(H2347<>\"\",\"OK\",IF(AND(#REF!<>\"\",#REF!<TODAY()),\"Retard\",\"Attente de Livraison\")))","v":""}]
[null,null,null,null,null,null,null,null,{"$f":"IF(F2348=\"\",\"\",IF(H2348<>\"\",\"OK\",IF(AND(#REF!<>\"\",#REF!<TODAY()),\"Retard\",\"Attente de Livraison\")))","v":""}]
[null,null,null,null,null,null,null,null,{"$f":"IF(F2349=\"\",\"\",IF(H2349<>\"\",\"OK\",IF(AND(#REF!<>\"\",#REF!<TODAY()),\"Retard\",\"Attente de Livraison\")))","v":""}]
[null,null,null,null,null,null,null,null,{"$f":"IF(F2350=\"\",\"\",IF(H2350<>\"\",\"OK\",IF(AND(#REF!<>\"\",#REF!<TODAY()),\"Retard\",\"Attente de Livraison\")))","v":""}]
[null,null,null,null,null,null,null,null,{"$f":"IF(F2351=\"\",\"\",IF(H2351<>\"\",\"OK\",IF(AND(#REF!<>\"\",#REF!<TODAY()),\"Retard\",\"Attente de Livraison\")))","v":""}]
[null,null,null,null,null,null,null,null,{"$f":"IF(F2352=\"\",\"\",IF(H2352<>\"\",\"OK\",IF(AND(#REF!<>\"\",#REF!<TODAY()),\"Retard\",\"Attente de Livraison\")))","v":""}]
[null,null,null,null,null,null,null,null,{"$f":"IF(F2353=\"\",\"\",IF(H2353<>\"\",\"OK\",IF(AND(#REF!<>\"\",#REF!<TODAY()),\"Retard\",\"Attente de Livraison\")))","v":""}]
[null,null,null,null,null,null,null,null,{"$f":"IF(F2354=\"\",\"\",IF(H2354<>\"\",\"OK\",IF(AND(#REF!<>\"\",#REF!<TODAY()),\"Retard\",\"Attente de Livraison\")))","v":""}]
[null,null,null,null,null,null,null,null,{"$f":"IF(F2355=\"\",\"\",IF(H2355<>\"\",\"OK\",IF(AND(#REF!<>\"\",#REF!<TODAY()),\"Retard\",\"Attente de Livraison\")))","v":""}]
[null,null,null,null,null,null,null,null,{"$f":"IF(F2356=\"\",\"\",IF(H2356<>\"\",\"OK\",IF(AND(#REF!<>\"\",#REF!<TODAY()),\"Retard\",\"Attente de Livraison\")))","v":""}]
[null,null,null,null,null,null,null,null,{"$f":"IF(F2357=\"\",\"\",IF(H2357<>\"\",\"OK\",IF(AND(#REF!<>\"\",#REF!<TODAY()),\"Retard\",\"Attente de Livraison\")))","v":""}]
[null,null,null,null,null,null,null,null,{"$f":"IF(F2358=\"\",\"\",IF(H2358<>\"\",\"OK\",IF(AND(#REF!<>\"\",#REF!<TODAY()),\"Retard\",\"Attente de Livraison\")))","v":""}]
[null,null,null,null,null,null,null,null,{"$f":"IF(F2359=\"\",\"\",IF(H2359<>\"\",\"OK\",IF(AND(#REF!<>\"\",#REF!<TODAY()),\"Retard\",\"Attente de Livraison\")))","v":""}]
[null,null,null,null,null,null,null,null,{"$f":"IF(F2360=\"\",\"\",IF(H2360<>\"\",\"OK\",IF(AND(#REF!<>\"\",#REF!<TODAY()),\"Retard\",\"Attente de Livraison\")))","v":""}]
[null,null,null,null,null,null,null,null,{"$f":"IF(F2361=\"\",\"\",IF(H2361<>\"\",\"OK\",IF(AND(#REF!<>\"\",#REF!<TODAY()),\"Retard\",\"Attente de Livraison\")))","v":""}]
[null,null,null,null,null,null,null,null,{"$f":"IF(F2362=\"\",\"\",IF(H2362<>\"\",\"OK\",IF(AND(#REF!<>\"\",#REF!<TODAY()),\"Retard\",\"Attente de Livraison\")))","v":""}]
[null,null,null,null,null,null,null,null,{"$f":"IF(F2363=\"\",\"\",IF(H2363<>\"\",\"OK\",IF(AND(#REF!<>\"\",#REF!<TODAY()),\"Retard\",\"Attente de Livraison\")))","v":""}]
[null,null,null,null,null,null,null,null,{"$f":"IF(F2364=\"\",\"\",IF(H2364<>\"\",\"OK\",IF(AND(#REF!<>\"\",#REF!<TODAY()),\"Retard\",\"Attente de Livraison\")))","v":""}]
[null,null,null,null,null,null,null,null,{"$f":"IF(F2365=\"\",\"\",IF(H2365<>\"\",\"OK\",IF(AND(#REF!<>\"\",#REF!<TODAY()),\"Retard\",\"Attente de Livraison\")))","v":""}]
[null,null,null,null,null,null,null,null,{"$f":"IF(F2366=\"\",\"\",IF(H2366<>\"\",\"OK\",IF(AND(#REF!<>\"\",#REF!<TODAY()),\"Retard\",\"Attente de Livraison\")))","v":""}]
[null,null,null,null,null,null,null,null,{"$f":"IF(F2367=\"\",\"\",IF(H2367<>\"\",\"OK\",IF(AND(#REF!<>\"\",#REF!<TODAY()),\"Retard\",\"Attente de Livraison\")))","v":""}]
[null,null,null,null,null,null,null,null,{"$f":"IF(F2368=\"\",\"\",IF(H2368<>\"\",\"OK\",IF(AND(#REF!<>\"\",#REF!<TODAY()),\"Retard\",\"Attente de Livraison\")))","v":""}]
[null,null,null,null,null,null,null,null,{"$f":"IF(F2369=\"\",\"\",IF(H2369<>\"\",\"OK\",IF(AND(#REF!<>\"\",#REF!<TODAY()),\"Retard\",\"Attente de Livraison\")))","v":""}]
[null,null,null,null,null,null,null,null,{"$f":"IF(F2370=\"\",\"\",IF(H2370<>\"\",\"OK\",IF(AND(#REF!<>\"\",#REF!<TODAY()),\"Retard\",\"Attente de Livraison\")))","v":""}]
[null,null,null,null,null,null,null,null,{"$f":"IF(F2371=\"\",\"\",IF(H2371<>\"\",\"OK\",IF(AND(#REF!<>\"\",#REF!<TODAY()),\"Retard\",\"Attente de Livraison\")))","v":""}]
[null,null,null,null,null,null,null,null,{"$f":"IF(F2372=\"\",\"\",IF(H2372<>\"\",\"OK\",IF(AND(#REF!<>\"\",#REF!<TODAY()),\"Retard\",\"Attente de Livraison\")))","v":""}]
[null,null,null,null,null,null,null,null,{"$f":"IF(F2373=\"\",\"\",IF(H2373<>\"\",\"OK\",IF(AND(#REF!<>\"\",#REF!<TODAY()),\"Retard\",\"Attente de Livraison\")))","v":""}]
[null,null,null,null,null,null,null,null,{"$f":"IF(F2374=\"\",\"\",IF(H2374<>\"\",\"OK\",IF(AND(#REF!<>\"\",#REF!<TODAY()),\"Retard\",\"Attente de Livraison\")))","v":""}]
[null,null,null,null,null,null,null,null,{"$f":"IF(F2375=\"\",\"\",IF(H2375<>\"\",\"OK\",IF(AND(#REF!<>\"\",#REF!<TODAY()),\"Retard\",\"Attente de Livraison\")))","v":""}]
[null,null,null,null,null,null,null,null,{"$f":"IF(F2376=\"\",\"\",IF(H2376<>\"\",\"OK\",IF(AND(#REF!<>\"\",#REF!<TODAY()),\"Retard\",\"Attente de Livraison\")))","v":""}]
[null,null,null,null,null,null,null,null,{"$f":"IF(F2377=\"\",\"\",IF(H2377<>\"\",\"OK\",IF(AND(#REF!<>\"\",#REF!<TODAY()),\"Retard\",\"Attente de Livraison\")))","v":""}]
[null,null,null,null,null,null,null,null,{"$f":"IF(F2378=\"\",\"\",IF(H2378<>\"\",\"OK\",IF(AND(#REF!<>\"\",#REF!<TODAY()),\"Retard\",\"Attente de Livraison\")))","v":""}]
[null,null,null,null,null,null,null,null,{"$f":"IF(F2379=\"\",\"\",IF(H2379<>\"\",\"OK\",IF(AND(#REF!<>\"\",#REF!<TODAY()),\"Retard\",\"Attente de Livraison\")))","v":""}]
[null,null,null,null,null,null,null,null,{"$f":"IF(F2380=\"\",\"\",IF(H2380<>\"\",\"OK\",IF(AND(#REF!<>\"\",#REF!<TODAY()),\"Retard\",\"Attente de Livraison\")))","v":""}]
[null,null,null,null,null,null,null,null,{"$f":"IF(F2381=\"\",\"\",IF(H2381<>\"\",\"OK\",IF(AND(#REF!<>\"\",#REF!<TODAY()),\"Retard\",\"Attente de Livraison\")))","v":""}]
[null,null,null,null,null,null,null,null,{"$f":"IF(F2382=\"\",\"\",IF(H2382<>\"\",\"OK\",IF(AND(#REF!<>\"\",#REF!<TODAY()),\"Retard\",\"Attente de Livraison\")))","v":""}]
[null,null,null,null,null,null,null,null,{"$f":"IF(F2383=\"\",\"\",IF(H2383<>\"\",\"OK\",IF(AND(#REF!<>\"\",#REF!<TODAY()),\"Retard\",\"Attente de Livraison\")))","v":""}]
[null,null,null,null,null,null,null,null,{"$f":"IF(F2384=\"\",\"\",IF(H2384<>\"\",\"OK\",IF(AND(#REF!<>\"\",#REF!<TODAY()),\"Retard\",\"Attente de Livraison\")))","v":""}]
[null,null,null,null,null,null,null,null,{"$f":"IF(F2385=\"\",\"\",IF(H2385<>\"\",\"OK\",IF(AND(#REF!<>\"\",#REF!<TODAY()),\"Retard\",\"Attente de Livraison\")))","v":""}]
[null,null,null,null,null,null,null,null,{"$f":"IF(F2386=\"\",\"\",IF(H2386<>\"\",\"OK\",IF(AND(#REF!<>\"\",#REF!<TODAY()),\"Retard\",\"Attente de Livraison\")))","v":""}]
[null,null,null,null,null,null,null,null,{"$f":"IF(F2387=\"\",\"\",IF(H2387<>\"\",\"OK\",IF(AND(#REF!<>\"\",#REF!<TODAY()),\"Retard\",\"Attente de Livraison\")))","v":""}]
[null,null,null,null,null,null,null,null,{"$f":"IF(F2388=\"\",\"\",IF(H2388<>\"\",\"OK\",IF(AND(#REF!<>\"\",#REF!<TODAY()),\"Retard\",\"Attente de Livraison\")))","v":""}]
[null,null,null,null,null,null,null,null,{"$f":"IF(F2389=\"\",\"\",IF(H2389<>\"\",\"OK\",IF(AND(#REF!<>\"\",#REF!<TODAY()),\"Retard\",\"Attente de Livraison\")))","v":""}]
[null,null,null,null,null,null,null,null,{"$f":"IF(F2390=\"\",\"\",IF(H2390<>\"\",\"OK\",IF(AND(#REF!<>\"\",#REF!<TODAY()),\"Retard\",\"Attente de Livraison\")))","v":""}]
[null,null,null,null,null,null,null,null,{"$f":"IF(F2391=\"\",\"\",IF(H2391<>\"\",\"OK\",IF(AND(#REF!<>\"\",#REF!<TODAY()),\"Retard\",\"Attente de Livraison\")))","v":""}]
[null,null,null,null,null,null,null,null,{"$f":"IF(F2392=\"\",\"\",IF(H2392<>\"\",\"OK\",IF(AND(#REF!<>\"\",#REF!<TODAY()),\"Retard\",\"Attente de Livraison\")))","v":""}]
[null,null,null,null,null,null,null,null,{"$f":"IF(F2393=\"\",\"\",IF(H2393<>\"\",\"OK\",IF(AND(#REF!<>\"\",#REF!<TODAY()),\"Retard\",\"Attente de Livraison\")))","v":""}]
[null,null,null,null,null,null,null,null,{"$f":"IF(F2394=\"\",\"\",IF(H2394<>\"\",\"OK\",IF(AND(#REF!<>\"\",#REF!<TODAY()),\"Retard\",\"Attente de Livraison\")))","v":""}]
[null,null,null,null,null,null,null,null,{"$f":"IF(F2395=\"\",\"\",IF(H2395<>\"\",\"OK\",IF(AND(#REF!<>\"\",#REF!<TODAY()),\"Retard\",\"Attente de Livraison\")))","v":""}]
[null,null,null,null,null,null,null,null,{"$f":"IF(F2396=\"\",\"\",IF(H2396<>\"\",\"OK\",IF(AND(#REF!<>\"\",#REF!<TODAY()),\"Retard\",\"Attente de Livraison\")))","v":""}]
[null,null,null,null,null,null,null,null,{"$f":"IF(F2397=\"\",\"\",IF(H2397<>\"\",\"OK\",IF(AND(#REF!<>\"\",#REF!<TODAY()),\"Retard\",\"Attente de Livraison\")))","v":""}]
[null,null,null,null,null,null,null,null,{"$f":"IF(F2398=\"\",\"\",IF(H2398<>\"\",\"OK\",IF(AND(#REF!<>\"\",#REF!<TODAY()),\"Retard\",\"Attente de Livraison\")))","v":""}]
[null,null,null,null,null,null,null,null,{"$f":"IF(F2399=\"\",\"\",IF(H2399<>\"\",\"OK\",IF(AND(#REF!<>\"\",#REF!<TODAY()),\"Retard\",\"Attente de Livraison\")))","v":""}]
[null,null,null,null,null,null,null,null,{"$f":"IF(F2400=\"\",\"\",IF(H2400<>\"\",\"OK\",IF(AND(#REF!<>\"\",#REF!<TODAY()),\"Retard\",\"Attente de Livraison\")))","v":""}]
[null,null,null,null,null,null,null,null,{"$f":"IF(F2401=\"\",\"\",IF(H2401<>\"\",\"OK\",IF(AND(#REF!<>\"\",#REF!<TODAY()),\"Retard\",\"Attente de Livraison\")))","v":""}]
[null,null,null,null,null,null,null,null,{"$f":"IF(F2402=\"\",\"\",IF(H2402<>\"\",\"OK\",IF(AND(#REF!<>\"\",#REF!<TODAY()),\"Retard\",\"Attente de Livraison\")))","v":""}]
[null,null,null,null,null,null,null,null,{"$f":"IF(F2403=\"\",\"\",IF(H2403<>\"\",\"OK\",IF(AND(#REF!<>\"\",#REF!<TODAY()),\"Retard\",\"Attente de Livraison\")))","v":""}]
[null,null,null,null,null,null,null,null,{"$f":"IF(F2404=\"\",\"\",IF(H2404<>\"\",\"OK\",IF(AND(#REF!<>\"\",#REF!<TODAY()),\"Retard\",\"Attente de Livraison\")))","v":""}]
[null,null,null,null,null,null,null,null,{"$f":"IF(F2405=\"\",\"\",IF(H2405<>\"\",\"OK\",IF(AND(#REF!<>\"\",#REF!<TODAY()),\"Retard\",\"Attente de Livraison\")))","v":""}]
[null,null,null,null,null,null,null,null,{"$f":"IF(F2406=\"\",\"\",IF(H2406<>\"\",\"OK\",IF(AND(#REF!<>\"\",#REF!<TODAY()),\"Retard\",\"Attente de Livraison\")))","v":""}]
[null,null,null,null,null,null,null,null,{"$f":"IF(F2407=\"\",\"\",IF(H2407<>\"\",\"OK\",IF(AND(#REF!<>\"\",#REF!<TODAY()),\"Retard\",\"Attente de Livraison\")))","v":""}]
[null,null,null,null,null,null,null,null,{"$f":"IF(F2408=\"\",\"\",IF(H2408<>\"\",\"OK\",IF(AND(#REF!<>\"\",#REF!<TODAY()),\"Retard\",\"Attente de Livraison\")))","v":""}]
[null,null,null,null,null,null,null,null,{"$f":"IF(F2409=\"\",\"\",IF(H2409<>\"\",\"OK\",IF(AND(#REF!<>\"\",#REF!<TODAY()),\"Retard\",\"Attente de Livraison\")))","v":""}]
[null,null,null,null,null,null,null,null,{"$f":"IF(F2410=\"\",\"\",IF(H2410<>\"\",\"OK\",IF(AND(#REF!<>\"\",#REF!<TODAY()),\"Retard\",\"Attente de Livraison\")))","v":""}]
[null,null,null,null,null,null,null,null,{"$f":"IF(F2411=\"\",\"\",IF(H2411<>\"\",\"OK\",IF(AND(#REF!<>\"\",#REF!<TODAY()),\"Retard\",\"Attente de Livraison\")))","v":""}]
[null,null,null,null,null,null,null,null,{"$f":"IF(F2412=\"\",\"\",IF(H2412<>\"\",\"OK\",IF(AND(#REF!<>\"\",#REF!<TODAY()),\"Retard\",\"Attente de Livraison\")))","v":""}]
[null,null,null,null,null,null,null,null,{"$f":"IF(F2413=\"\",\"\",IF(H2413<>\"\",\"OK\",IF(AND(#REF!<>\"\",#REF!<TODAY()),\"Retard\",\"Attente de Livraison\")))","v":""}]
[null,null,null,null,null,null,null,null,{"$f":"IF(F2414=\"\",\"\",IF(H2414<>\"\",\"OK\",IF(AND(#REF!<>\"\",#REF!<TODAY()),\"Retard\",\"Attente de Livraison\")))","v":""}]
[null,null,null,null,null,null,null,null,{"$f":"IF(F2415=\"\",\"\",IF(H2415<>\"\",\"OK\",IF(AND(#REF!<>\"\",#REF!<TODAY()),\"Retard\",\"Attente de Livraison\")))","v":""}]
[null,null,null,null,null,null,null,null,{"$f":"IF(F2416=\"\",\"\",IF(H2416<>\"\",\"OK\",IF(AND(#REF!<>\"\",#REF!<TODAY()),\"Retard\",\"Attente de Livraison\")))","v":""}]
[null,null,null,null,null,null,null,null,{"$f":"IF(F2417=\"\",\"\",IF(H2417<>\"\",\"OK\",IF(AND(#REF!<>\"\",#REF!<TODAY()),\"Retard\",\"Attente de Livraison\")))","v":""}]
[null,null,null,null,null,null,null,null,{"$f":"IF(F2418=\"\",\"\",IF(H2418<>\"\",\"OK\",IF(AND(#REF!<>\"\",#REF!<TODAY()),\"Retard\",\"Attente de Livraison\")))","v":""}]
[null,null,null,null,null,null,null,null,{"$f":"IF(F2419=\"\",\"\",IF(H2419<>\"\",\"OK\",IF(AND(#REF!<>\"\",#REF!<TODAY()),\"Retard\",\"Attente de Livraison\")))","v":""}]
[null,null,null,null,null,null,null,null,{"$f":"IF(F2420=\"\",\"\",IF(H2420<>\"\",\"OK\",IF(AND(#REF!<>\"\",#REF!<TODAY()),\"Retard\",\"Attente de Livraison\")))","v":""}]
[null,null,null,null,null,null,null,null,{"$f":"IF(F2421=\"\",\"\",IF(H2421<>\"\",\"OK\",IF(AND(#REF!<>\"\",#REF!<TODAY()),\"Retard\",\"Attente de Livraison\")))","v":""}]
[null,null,null,null,null,null,null,null,{"$f":"IF(F2422=\"\",\"\",IF(H2422<>\"\",\"OK\",IF(AND(#REF!<>\"\",#REF!<TODAY()),\"Retard\",\"Attente de Livraison\")))","v":""}]
[null,null,null,null,null,null,null,null,{"$f":"IF(F2423=\"\",\"\",IF(H2423<>\"\",\"OK\",IF(AND(#REF!<>\"\",#REF!<TODAY()),\"Retard\",\"Attente de Livraison\")))","v":""}]
[null,null,null,null,null,null,null,null,{"$f":"IF(F2424=\"\",\"\",IF(H2424<>\"\",\"OK\",IF(AND(#REF!<>\"\",#REF!<TODAY()),\"Retard\",\"Attente de Livraison\")))","v":""}]
[null,null,null,null,null,null,null,null,{"$f":"IF(F2425=\"\",\"\",IF(H2425<>\"\",\"OK\",IF(AND(#REF!<>\"\",#REF!<TODAY()),\"Retard\",\"Attente de Livraison\")))","v":""}]
[null,null,null,null,null,null,null,null,{"$f":"IF(F2426=\"\",\"\",IF(H2426<>\"\",\"OK\",IF(AND(#REF!<>\"\",#REF!<TODAY()),\"Retard\",\"Attente de Livraison\")))","v":""}]
[null,null,null,null,null,null,null,null,{"$f":"IF(F2427=\"\",\"\",IF(H2427<>\"\",\"OK\",IF(AND(#REF!<>\"\",#REF!<TODAY()),\"Retard\",\"Attente de Livraison\")))","v":""}]
[null,null,null,null,null,null,null,null,{"$f":"IF(F2428=\"\",\"\",IF(H2428<>\"\",\"OK\",IF(AND(#REF!<>\"\",#REF!<TODAY()),\"Retard\",\"Attente de Livraison\")))","v":""}]
[null,null,null,null,null,null,null,null,{"$f":"IF(F2429=\"\",\"\",IF(H2429<>\"\",\"OK\",IF(AND(#REF!<>\"\",#REF!<TODAY()),\"Retard\",\"Attente de Livraison\")))","v":""}]
[null,null,null,null,null,null,null,null,{"$f":"IF(F2430=\"\",\"\",IF(H2430<>\"\",\"OK\",IF(AND(#REF!<>\"\",#REF!<TODAY()),\"Retard\",\"Attente de Livraison\")))","v":""}]
[null,null,null,null,null,null,null,null,{"$f":"IF(F2431=\"\",\"\",IF(H2431<>\"\",\"OK\",IF(AND(#REF!<>\"\",#REF!<TODAY()),\"Retard\",\"Attente de Livraison\")))","v":""}]
[null,null,null,null,null,null,null,null,{"$f":"IF(F2432=\"\",\"\",IF(H2432<>\"\",\"OK\",IF(AND(#REF!<>\"\",#REF!<TODAY()),\"Retard\",\"Attente de Livraison\")))","v":""}]
[null,null,null,null,null,null,null,null,{"$f":"IF(F2433=\"\",\"\",IF(H2433<>\"\",\"OK\",IF(AND(#REF!<>\"\",#REF!<TODAY()),\"Retard\",\"Attente de Livraison\")))","v":""}]
[null,null,null,null,null,null,null,null,{"$f":"IF(F2434=\"\",\"\",IF(H2434<>\"\",\"OK\",IF(AND(#REF!<>\"\",#REF!<TODAY()),\"Retard\",\"Attente de Livraison\")))","v":""}]
[null,null,null,null,null,null,null,null,{"$f":"IF(F2435=\"\",\"\",IF(H2435<>\"\",\"OK\",IF(AND(#REF!<>\"\",#REF!<TODAY()),\"Retard\",\"Attente de Livraison\")))","v":""}]
[null,null,null,null,null,null,null,null,{"$f":"IF(F2436=\"\",\"\",IF(H2436<>\"\",\"OK\",IF(AND(#REF!<>\"\",#REF!<TODAY()),\"Retard\",\"Attente de Livraison\")))","v":""}]
[null,null,null,null,null,null,null,null,{"$f":"IF(F2437=\"\",\"\",IF(H2437<>\"\",\"OK\",IF(AND(#REF!<>\"\",#REF!<TODAY()),\"Retard\",\"Attente de Livraison\")))","v":""}]
[null,null,null,null,null,null,null,null,{"$f":"IF(F2438=\"\",\"\",IF(H2438<>\"\",\"OK\",IF(AND(#REF!<>\"\",#REF!<TODAY()),\"Retard\",\"Attente de Livraison\")))","v":""}]
[null,null,null,null,null,null,null,null,{"$f":"IF(F2439=\"\",\"\",IF(H2439<>\"\",\"OK\",IF(AND(#REF!<>\"\",#REF!<TODAY()),\"Retard\",\"Attente de Livraison\")))","v":""}]
[null,null,null,null,null,null,null,null,{"$f":"IF(F2440=\"\",\"\",IF(H2440<>\"\",\"OK\",IF(AND(#REF!<>\"\",#REF!<TODAY()),\"Retard\",\"Attente de Livraison\")))","v":""}]
[null,null,null,null,null,null,null,null,{"$f":"IF(F2441=\"\",\"\",IF(H2441<>\"\",\"OK\",IF(AND(#REF!<>\"\",#REF!<TODAY()),\"Retard\",\"Attente de Livraison\")))","v":""}]
[null,null,null,null,null,null,null,null,{"$f":"IF(F2442=\"\",\"\",IF(H2442<>\"\",\"OK\",IF(AND(#REF!<>\"\",#REF!<TODAY()),\"Retard\",\"Attente de Livraison\")))","v":""}]
[null,null,null,null,null,null,null,null,{"$f":"IF(F2443=\"\",\"\",IF(H2443<>\"\",\"OK\",IF(AND(#REF!<>\"\",#REF!<TODAY()),\"Retard\",\"Attente de Livraison\")))","v":""}]
[null,null,null,null,null,null,null,null,{"$f":"IF(F2444=\"\",\"\",IF(H2444<>\"\",\"OK\",IF(AND(#REF!<>\"\",#REF!<TODAY()),\"Retard\",\"Attente de Livraison\")))","v":""}]
[null,null,null,null,null,null,null,null,{"$f":"IF(F2445=\"\",\"\",IF(H2445<>\"\",\"OK\",IF(AND(#REF!<>\"\",#REF!<TODAY()),\"Retard\",\"Attente de Livraison\")))","v":""}]
[null,null,null,null,null,null,null,null,{"$f":"IF(F2446=\"\",\"\",IF(H2446<>\"\",\"OK\",IF(AND(#REF!<>\"\",#REF!<TODAY()),\"Retard\",\"Attente de Livraison\")))","v":""}]
[null,null,null,null,null,null,null,null,{"$f":"IF(F2447=\"\",\"\",IF(H2447<>\"\",\"OK\",IF(AND(#REF!<>\"\",#REF!<TODAY()),\"Retard\",\"Attente de Livraison\")))","v":""}]
[null,null,null,null,null,null,null,null,{"$f":"IF(F2448=\"\",\"\",IF(H2448<>\"\",\"OK\",IF(AND(#REF!<>\"\",#REF!<TODAY()),\"Retard\",\"Attente de Livraison\")))","v":""}]
[null,null,null,null,null,null,null,null,{"$f":"IF(F2449=\"\",\"\",IF(H2449<>\"\",\"OK\",IF(AND(#REF!<>\"\",#REF!<TODAY()),\"Retard\",\"Attente de Livraison\")))","v":""}]
[null,null,null,null,null,null,null,null,{"$f":"IF(F2450=\"\",\"\",IF(H2450<>\"\",\"OK\",IF(AND(#REF!<>\"\",#REF!<TODAY()),\"Retard\",\"Attente de Livraison\")))","v":""}]
[null,null,null,null,null,null,null,null,{"$f":"IF(F2451=\"\",\"\",IF(H2451<>\"\",\"OK\",IF(AND(#REF!<>\"\",#REF!<TODAY()),\"Retard\",\"Attente de Livraison\")))","v":""}]
[null,null,null,null,null,null,null,null,{"$f":"IF(F2452=\"\",\"\",IF(H2452<>\"\",\"OK\",IF(AND(#REF!<>\"\",#REF!<TODAY()),\"Retard\",\"Attente de Livraison\")))","v":""}]
[null,null,null,null,null,null,null,null,{"$f":"IF(F2453=\"\",\"\",IF(H2453<>\"\",\"OK\",IF(AND(#REF!<>\"\",#REF!<TODAY()),\"Retard\",\"Attente de Livraison\")))","v":""}]
[null,null,null,null,null,null,null,null,{"$f":"IF(F2454=\"\",\"\",IF(H2454<>\"\",\"OK\",IF(AND(#REF!<>\"\",#REF!<TODAY()),\"Retard\",\"Attente de Livraison\")))","v":""}]
[null,null,null,null,null,null,null,null,{"$f":"IF(F2455=\"\",\"\",IF(H2455<>\"\",\"OK\",IF(AND(#REF!<>\"\",#REF!<TODAY()),\"Retard\",\"Attente de Livraison\")))","v":""}]
[null,null,null,null,null,null,null,null,{"$f":"IF(F2456=\"\",\"\",IF(H2456<>\"\",\"OK\",IF(AND(#REF!<>\"\",#REF!<TODAY()),\"Retard\",\"Attente de Livraison\")))","v":""}]
[null,null,null,null,null,null,null,null,{"$f":"IF(F2457=\"\",\"\",IF(H2457<>\"\",\"OK\",IF(AND(#REF!<>\"\",#REF!<TODAY()),\"Retard\",\"Attente de Livraison\")))","v":""}]
[null,null,null,null,null,null,null,null,{"$f":"IF(F2458=\"\",\"\",IF(H2458<>\"\",\"OK\",IF(AND(#REF!<>\"\",#REF!<TODAY()),\"Retard\",\"Attente de Livraison\")))","v":""}]
[null,null,null,null,null,null,null,null,{"$f":"IF(F2459=\"\",\"\",IF(H2459<>\"\",\"OK\",IF(AND(#REF!<>\"\",#REF!<TODAY()),\"Retard\",\"Attente de Livraison\")))","v":""}]
[null,null,null,null,null,null,null,null,{"$f":"IF(F2460=\"\",\"\",IF(H2460<>\"\",\"OK\",IF(AND(#REF!<>\"\",#REF!<TODAY()),\"Retard\",\"Attente de Livraison\")))","v":""}]
[null,null,null,null,null,null,null,null,{"$f":"IF(F2461=\"\",\"\",IF(H2461<>\"\",\"OK\",IF(AND(#REF!<>\"\",#REF!<TODAY()),\"Retard\",\"Attente de Livraison\")))","v":""}]
[null,null,null,null,null,null,null,null,{"$f":"IF(F2462=\"\",\"\",IF(H2462<>\"\",\"OK\",IF(AND(#REF!<>\"\",#REF!<TODAY()),\"Retard\",\"Attente de Livraison\")))","v":""}]
[null,null,null,null,null,null,null,null,{"$f":"IF(F2463=\"\",\"\",IF(H2463<>\"\",\"OK\",IF(AND(#REF!<>\"\",#REF!<TODAY()),\"Retard\",\"Attente de Livraison\")))","v":""}]
[null,null,null,null,null,null,null,null,{"$f":"IF(F2464=\"\",\"\",IF(H2464<>\"\",\"OK\",IF(AND(#REF!<>\"\",#REF!<TODAY()),\"Retard\",\"Attente de Livraison\")))","v":""}]
[null,null,null,null,null,null,null,null,{"$f":"IF(F2465=\"\",\"\",IF(H2465<>\"\",\"OK\",IF(AND(#REF!<>\"\",#REF!<TODAY()),\"Retard\",\"Attente de Livraison\")))","v":""}]
[null,null,null,null,null,null,null,null,{"$f":"IF(F2466=\"\",\"\",IF(H2466<>\"\",\"OK\",IF(AND(#REF!<>\"\",#REF!<TODAY()),\"Retard\",\"Attente de Livraison\")))","v":""}]
[null,null,null,null,null,null,null,null,{"$f":"IF(F2467=\"\",\"\",IF(H2467<>\"\",\"OK\",IF(AND(#REF!<>\"\",#REF!<TODAY()),\"Retard\",\"Attente de Livraison\")))","v":""}]
[null,null,null,null,null,null,null,null,{"$f":"IF(F2468=\"\",\"\",IF(H2468<>\"\",\"OK\",IF(AND(#REF!<>\"\",#REF!<TODAY()),\"Retard\",\"Attente de Livraison\")))","v":""}]
[null,null,null,null,null,null,null,null,{"$f":"IF(F2469=\"\",\"\",IF(H2469<>\"\",\"OK\",IF(AND(#REF!<>\"\",#REF!<TODAY()),\"Retard\",\"Attente de Livraison\")))","v":""}]
[null,null,null,null,null,null,null,null,{"$f":"IF(F2470=\"\",\"\",IF(H2470<>\"\",\"OK\",IF(AND(#REF!<>\"\",#REF!<TODAY()),\"Retard\",\"Attente de Livraison\")))","v":""}]
[null,null,null,null,null,null,null,null,{"$f":"IF(F2471=\"\",\"\",IF(H2471<>\"\",\"OK\",IF(AND(#REF!<>\"\",#REF!<TODAY()),\"Retard\",\"Attente de Livraison\")))","v":""}]
[null,null,null,null,null,null,null,null,{"$f":"IF(F2472=\"\",\"\",IF(H2472<>\"\",\"OK\",IF(AND(#REF!<>\"\",#REF!<TODAY()),\"Retard\",\"Attente de Livraison\")))","v":""}]
[null,null,null,null,null,null,null,null,{"$f":"IF(F2473=\"\",\"\",IF(H2473<>\"\",\"OK\",IF(AND(#REF!<>\"\",#REF!<TODAY()),\"Retard\",\"Attente de Livraison\")))","v":""}]
[null,null,null,null,null,null,null,null,{"$f":"IF(F2474=\"\",\"\",IF(H2474<>\"\",\"OK\",IF(AND(#REF!<>\"\",#REF!<TODAY()),\"Retard\",\"Attente de Livraison\")))","v":""}]
[null,null,null,null,null,null,null,null,{"$f":"IF(F2475=\"\",\"\",IF(H2475<>\"\",\"OK\",IF(AND(#REF!<>\"\",#REF!<TODAY()),\"Retard\",\"Attente de Livraison\")))","v":""}]
[null,null,null,null,null,null,null,null,{"$f":"IF(F2476=\"\",\"\",IF(H2476<>\"\",\"OK\",IF(AND(#REF!<>\"\",#REF!<TODAY()),\"Retard\",\"Attente de Livraison\")))","v":""}]
[null,null,null,null,null,null,null,null,{"$f":"IF(F2477=\"\",\"\",IF(H2477<>\"\",\"OK\",IF(AND(#REF!<>\"\",#REF!<TODAY()),\"Retard\",\"Attente de Livraison\")))","v":""}]
[null,null,null,null,null,null,null,null,{"$f":"IF(F2478=\"\",\"\",IF(H2478<>\"\",\"OK\",IF(AND(#REF!<>\"\",#REF!<TODAY()),\"Retard\",\"Attente de Livraison\")))","v":""}]
[null,null,null,null,null,null,null,null,{"$f":"IF(F2479=\"\",\"\",IF(H2479<>\"\",\"OK\",IF(AND(#REF!<>\"\",#REF!<TODAY()),\"Retard\",\"Attente de Livraison\")))","v":""}]
[null,null,null,null,null,null,null,null,{"$f":"IF(F2480=\"\",\"\",IF(H2480<>\"\",\"OK\",IF(AND(#REF!<>\"\",#REF!<TODAY()),\"Retard\",\"Attente de Livraison\")))","v":""}]
[null,null,null,null,null,null,null,null,{"$f":"IF(F2481=\"\",\"\",IF(H2481<>\"\",\"OK\",IF(AND(#REF!<>\"\",#REF!<TODAY()),\"Retard\",\"Attente de Livraison\")))","v":""}]
[null,null,null,null,null,null,null,null,{"$f":"IF(F2482=\"\",\"\",IF(H2482<>\"\",\"OK\",IF(AND(#REF!<>\"\",#REF!<TODAY()),\"Retard\",\"Attente de Livraison\")))","v":""}]
[null,null,null,null,null,null,null,null,{"$f":"IF(F2483=\"\",\"\",IF(H2483<>\"\",\"OK\",IF(AND(#REF!<>\"\",#REF!<TODAY()),\"Retard\",\"Attente de Livraison\")))","v":""}]
[null,null,null,null,null,null,null,null,{"$f":"IF(F2484=\"\",\"\",IF(H2484<>\"\",\"OK\",IF(AND(#REF!<>\"\",#REF!<TODAY()),\"Retard\",\"Attente de Livraison\")))","v":""}]
[null,null,null,null,null,null,null,null,{"$f":"IF(F2485=\"\",\"\",IF(H2485<>\"\",\"OK\",IF(AND(#REF!<>\"\",#REF!<TODAY()),\"Retard\",\"Attente de Livraison\")))","v":""}]
[null,null,null,null,null,null,null,null,{"$f":"IF(F2486=\"\",\"\",IF(H2486<>\"\",\"OK\",IF(AND(#REF!<>\"\",#REF!<TODAY()),\"Retard\",\"Attente de Livraison\")))","v":""}]
[null,null,null,null,null,null,null,null,{"$f":"IF(F2487=\"\",\"\",IF(H2487<>\"\",\"OK\",IF(AND(#REF!<>\"\",#REF!<TODAY()),\"Retard\",\"Attente de Livraison\")))","v":""}]
[null,null,null,null,null,null,null,null,{"$f":"IF(F2488=\"\",\"\",IF(H2488<>\"\",\"OK\",IF(AND(#REF!<>\"\",#REF!<TODAY()),\"Retard\",\"Attente de Livraison\")))","v":""}]
[null,null,null,null,null,null,null,null,{"$f":"IF(F2489=\"\",\"\",IF(H2489<>\"\",\"OK\",IF(AND(#REF!<>\"\",#REF!<TODAY()),\"Retard\",\"Attente de Livraison\")))","v":""}]
[null,null,null,null,null,null,null,null,{"$f":"IF(F2490=\"\",\"\",IF(H2490<>\"\",\"OK\",IF(AND(#REF!<>\"\",#REF!<TODAY()),\"Retard\",\"Attente de Livraison\")))","v":""}]
[null,null,null,null,null,null,null,null,{"$f":"IF(F2491=\"\",\"\",IF(H2491<>\"\",\"OK\",IF(AND(#REF!<>\"\",#REF!<TODAY()),\"Retard\",\"Attente de Livraison\")))","v":""}]
[null,null,null,null,null,null,null,null,{"$f":"IF(F2492=\"\",\"\",IF(H2492<>\"\",\"OK\",IF(AND(#REF!<>\"\",#REF!<TODAY()),\"Retard\",\"Attente de Livraison\")))","v":""}]
[null,null,null,null,null,null,null,null,{"$f":"IF(F2493=\"\",\"\",IF(H2493<>\"\",\"OK\",IF(AND(#REF!<>\"\",#REF!<TODAY()),\"Retard\",\"Attente de Livraison\")))","v":""}]
[null,null,null,null,null,null,null,null,{"$f":"IF(F2494=\"\",\"\",IF(H2494<>\"\",\"OK\",IF(AND(#REF!<>\"\",#REF!<TODAY()),\"Retard\",\"Attente de Livraison\")))","v":""}]
[null,null,null,null,null,null,null,null,{"$f":"IF(F2495=\"\",\"\",IF(H2495<>\"\",\"OK\",IF(AND(#REF!<>\"\",#REF!<TODAY()),\"Retard\",\"Attente de Livraison\")))","v":""}]
[null,null,null,null,null,null,null,null,{"$f":"IF(F2496=\"\",\"\",IF(H2496<>\"\",\"OK\",IF(AND(#REF!<>\"\",#REF!<TODAY()),\"Retard\",\"Attente de Livraison\")))","v":""}]
[null,null,null,null,null,null,null,null,{"$f":"IF(F2497=\"\",\"\",IF(H2497<>\"\",\"OK\",IF(AND(#REF!<>\"\",#REF!<TODAY()),\"Retard\",\"Attente de Livraison\")))","v":""}]
[null,null,null,null,null,null,null,null,{"$f":"IF(F2498=\"\",\"\",IF(H2498<>\"\",\"OK\",IF(AND(#REF!<>\"\",#REF!<TODAY()),\"Retard\",\"Attente de Livraison\")))","v":""}]
[null,null,null,null,null,null,null,null,{"$f":"IF(F2499=\"\",\"\",IF(H2499<>\"\",\"OK\",IF(AND(#REF!<>\"\",#REF!<TODAY()),\"Retard\",\"Attente de Livraison\")))","v":""}]
[null,null,null,null,null,null,null,null,{"$f":"IF(F2500=\"\",\"\",IF(H2500<>\"\",\"OK\",IF(AND(#REF!<>\"\",#REF!<TODAY()),\"Retard\",\"Attente de Livraison\")))","v":""}]
[null,null,null,null,null,null,null,null,{"$f":"IF(F2501=\"\",\"\",IF(H2501<>\"\",\"OK\",IF(AND(#REF!<>\"\",#REF!<TODAY()),\"Retard\",\"Attente de Livraison\")))","v":""}]
[null,null,null,null,null,null,null,null,{"$f":"IF(F2502=\"\",\"\",IF(H2502<>\"\",\"OK\",IF(AND(#REF!<>\"\",#REF!<TODAY()),\"Retard\",\"Attente de Livraison\")))","v":""}]
[null,null,null,null,null,null,null,null,{"$f":"IF(F2503=\"\",\"\",IF(H2503<>\"\",\"OK\",IF(AND(#REF!<>\"\",#REF!<TODAY()),\"Retard\",\"Attente de Livraison\")))","v":""}]
[null,null,null,null,null,null,null,null,{"$f":"IF(F2504=\"\",\"\",IF(H2504<>\"\",\"OK\",IF(AND(#REF!<>\"\",#REF!<TODAY()),\"Retard\",\"Attente de Livraison\")))","v":""}]
[null,null,null,null,null,null,null,null,{"$f":"IF(F2505=\"\",\"\",IF(H2505<>\"\",\"OK\",IF(AND(#REF!<>\"\",#REF!<TODAY()),\"Retard\",\"Attente de Livraison\")))","v":""}]
[null,null,null,null,null,null,null,null,{"$f":"IF(F2506=\"\",\"\",IF(H2506<>\"\",\"OK\",IF(AND(#REF!<>\"\",#REF!<TODAY()),\"Retard\",\"Attente de Livraison\")))","v":""}]
[null,null,null,null,null,null,null,null,{"$f":"IF(F2507=\"\",\"\",IF(H2507<>\"\",\"OK\",IF(AND(#REF!<>\"\",#REF!<TODAY()),\"Retard\",\"Attente de Livraison\")))","v":""}]
[null,null,null,null,null,null,null,null,{"$f":"IF(F2508=\"\",\"\",IF(H2508<>\"\",\"OK\",IF(AND(#REF!<>\"\",#REF!<TODAY()),\"Retard\",\"Attente de Livraison\")))","v":""}]
[null,null,null,null,null,null,null,null,{"$f":"IF(F2509=\"\",\"\",IF(H2509<>\"\",\"OK\",IF(AND(#REF!<>\"\",#REF!<TODAY()),\"Retard\",\"Attente de Livraison\")))","v":""}]
[null,null,null,null,null,null,null,null,{"$f":"IF(F2510=\"\",\"\",IF(H2510<>\"\",\"OK\",IF(AND(#REF!<>\"\",#REF!<TODAY()),\"Retard\",\"Attente de Livraison\")))","v":""}]
[null,null,null,null,null,null,null,null,{"$f":"IF(F2511=\"\",\"\",IF(H2511<>\"\",\"OK\",IF(AND(#REF!<>\"\",#REF!<TODAY()),\"Retard\",\"Attente de Livraison\")))","v":""}]
[null,null,null,null,null,null,null,null,{"$f":"IF(F2512=\"\",\"\",IF(H2512<>\"\",\"OK\",IF(AND(#REF!<>\"\",#REF!<TODAY()),\"Retard\",\"Attente de Livraison\")))","v":""}]
[null,null,null,null,null,null,null,null,{"$f":"IF(F2513=\"\",\"\",IF(H2513<>\"\",\"OK\",IF(AND(#REF!<>\"\",#REF!<TODAY()),\"Retard\",\"Attente de Livraison\")))","v":""}]
[null,null,null,null,null,null,null,null,{"$f":"IF(F2514=\"\",\"\",IF(H2514<>\"\",\"OK\",IF(AND(#REF!<>\"\",#REF!<TODAY()),\"Retard\",\"Attente de Livraison\")))","v":""}]
[null,null,null,null,null,null,null,null,{"$f":"IF(F2515=\"\",\"\",IF(H2515<>\"\",\"OK\",IF(AND(#REF!<>\"\",#REF!<TODAY()),\"Retard\",\"Attente de Livraison\")))","v":""}]
[null,null,null,null,null,null,null,null,{"$f":"IF(F2516=\"\",\"\",IF(H2516<>\"\",\"OK\",IF(AND(#REF!<>\"\",#REF!<TODAY()),\"Retard\",\"Attente de Livraison\")))","v":""}]
[null,null,null,null,null,null,null,null,{"$f":"IF(F2517=\"\",\"\",IF(H2517<>\"\",\"OK\",IF(AND(#REF!<>\"\",#REF!<TODAY()),\"Retard\",\"Attente de Livraison\")))","v":""}]
[null,null,null,null,null,null,null,null,{"$f":"IF(F2518=\"\",\"\",IF(H2518<>\"\",\"OK\",IF(AND(#REF!<>\"\",#REF!<TODAY()),\"Retard\",\"Attente de Livraison\")))","v":""}]
[null,null,null,null,null,null,null,null,{"$f":"IF(F2519=\"\",\"\",IF(H2519<>\"\",\"OK\",IF(AND(#REF!<>\"\",#REF!<TODAY()),\"Retard\",\"Attente de Livraison\")))","v":""}]
[null,null,null,null,null,null,null,null,{"$f":"IF(F2520=\"\",\"\",IF(H2520<>\"\",\"OK\",IF(AND(#REF!<>\"\",#REF!<TODAY()),\"Retard\",\"Attente de Livraison\")))","v":""}]
[null,null,null,null,null,null,null,null,{"$f":"IF(F2521=\"\",\"\",IF(H2521<>\"\",\"OK\",IF(AND(#REF!<>\"\",#REF!<TODAY()),\"Retard\",\"Attente de Livraison\")))","v":""}]
[null,null,null,null,null,null,null,null,{"$f":"IF(F2522=\"\",\"\",IF(H2522<>\"\",\"OK\",IF(AND(#REF!<>\"\",#REF!<TODAY()),\"Retard\",\"Attente de Livraison\")))","v":""}]
[null,null,null,null,null,null,null,null,{"$f":"IF(F2523=\"\",\"\",IF(H2523<>\"\",\"OK\",IF(AND(#REF!<>\"\",#REF!<TODAY()),\"Retard\",\"Attente de Livraison\")))","v":""}]
[null,null,null,null,null,null,null,null,{"$f":"IF(F2524=\"\",\"\",IF(H2524<>\"\",\"OK\",IF(AND(#REF!<>\"\",#REF!<TODAY()),\"Retard\",\"Attente de Livraison\")))","v":""}]
[null,null,null,null,null,null,null,null,{"$f":"IF(F2525=\"\",\"\",IF(H2525<>\"\",\"OK\",IF(AND(#REF!<>\"\",#REF!<TODAY()),\"Retard\",\"Attente de Livraison\")))","v":""}]
[null,null,null,null,null,null,null,null,{"$f":"IF(F2526=\"\",\"\",IF(H2526<>\"\",\"OK\",IF(AND(#REF!<>\"\",#REF!<TODAY()),\"Retard\",\"Attente de Livraison\")))","v":""}]
[null,null,null,null,null,null,null,null,{"$f":"IF(F2527=\"\",\"\",IF(H2527<>\"\",\"OK\",IF(AND(#REF!<>\"\",#REF!<TODAY()),\"Retard\",\"Attente de Livraison\")))","v":""}]
[null,null,null,null,null,null,null,null,{"$f":"IF(F2528=\"\",\"\",IF(H2528<>\"\",\"OK\",IF(AND(#REF!<>\"\",#REF!<TODAY()),\"Retard\",\"Attente de Livraison\")))","v":""}]
[null,null,null,null,null,null,null,null,{"$f":"IF(F2529=\"\",\"\",IF(H2529<>\"\",\"OK\",IF(AND(#REF!<>\"\",#REF!<TODAY()),\"Retard\",\"Attente de Livraison\")))","v":""}]
[null,null,null,null,null,null,null,null,{"$f":"IF(F2530=\"\",\"\",IF(H2530<>\"\",\"OK\",IF(AND(#REF!<>\"\",#REF!<TODAY()),\"Retard\",\"Attente de Livraison\")))","v":""}]
[null,null,null,null,null,null,null,null,{"$f":"IF(F2531=\"\",\"\",IF(H2531<>\"\",\"OK\",IF(AND(#REF!<>\"\",#REF!<TODAY()),\"Retard\",\"Attente de Livraison\")))","v":""}]
[null,null,null,null,null,null,null,null,{"$f":"IF(F2532=\"\",\"\",IF(H2532<>\"\",\"OK\",IF(AND(#REF!<>\"\",#REF!<TODAY()),\"Retard\",\"Attente de Livraison\")))","v":""}]
[null,null,null,null,null,null,null,null,{"$f":"IF(F2533=\"\",\"\",IF(H2533<>\"\",\"OK\",IF(AND(#REF!<>\"\",#REF!<TODAY()),\"Retard\",\"Attente de Livraison\")))","v":""}]
[null,null,null,null,null,null,null,null,{"$f":"IF(F2534=\"\",\"\",IF(H2534<>\"\",\"OK\",IF(AND(#REF!<>\"\",#REF!<TODAY()),\"Retard\",\"Attente de Livraison\")))","v":""}]
[null,null,null,null,null,null,null,null,{"$f":"IF(F2535=\"\",\"\",IF(H2535<>\"\",\"OK\",IF(AND(#REF!<>\"\",#REF!<TODAY()),\"Retard\",\"Attente de Livraison\")))","v":""}]
[null,null,null,null,null,null,null,null,{"$f":"IF(F2536=\"\",\"\",IF(H2536<>\"\",\"OK\",IF(AND(#REF!<>\"\",#REF!<TODAY()),\"Retard\",\"Attente de Livraison\")))","v":""}]
[null,null,null,null,null,null,null,null,{"$f":"IF(F2537=\"\",\"\",IF(H2537<>\"\",\"OK\",IF(AND(#REF!<>\"\",#REF!<TODAY()),\"Retard\",\"Attente de Livraison\")))","v":""}]
[null,null,null,null,null,null,null,null,{"$f":"IF(F2538=\"\",\"\",IF(H2538<>\"\",\"OK\",IF(AND(#REF!<>\"\",#REF!<TODAY()),\"Retard\",\"Attente de Livraison\")))","v":""}]
[null,null,null,null,null,null,null,null,{"$f":"IF(F2539=\"\",\"\",IF(H2539<>\"\",\"OK\",IF(AND(#REF!<>\"\",#REF!<TODAY()),\"Retard\",\"Attente de Livraison\")))","v":""}]
[null,null,null,null,null,null,null,null,{"$f":"IF(F2540=\"\",\"\",IF(H2540<>\"\",\"OK\",IF(AND(#REF!<>\"\",#REF!<TODAY()),\"Retard\",\"Attente de Livraison\")))","v":""}]
[null,null,null,null,null,null,null,null,{"$f":"IF(F2541=\"\",\"\",IF(H2541<>\"\",\"OK\",IF(AND(#REF!<>\"\",#REF!<TODAY()),\"Retard\",\"Attente de Livraison\")))","v":""}]
[null,null,null,null,null,null,null,null,{"$f":"IF(F2542=\"\",\"\",IF(H2542<>\"\",\"OK\",IF(AND(#REF!<>\"\",#REF!<TODAY()),\"Retard\",\"Attente de Livraison\")))","v":""}]
[null,null,null,null,null,null,null,null,{"$f":"IF(F2543=\"\",\"\",IF(H2543<>\"\",\"OK\",IF(AND(#REF!<>\"\",#REF!<TODAY()),\"Retard\",\"Attente de Livraison\")))","v":""}]
[null,null,null,null,null,null,null,null,{"$f":"IF(F2544=\"\",\"\",IF(H2544<>\"\",\"OK\",IF(AND(#REF!<>\"\",#REF!<TODAY()),\"Retard\",\"Attente de Livraison\")))","v":""}]
[null,null,null,null,null,null,null,null,{"$f":"IF(F2545=\"\",\"\",IF(H2545<>\"\",\"OK\",IF(AND(#REF!<>\"\",#REF!<TODAY()),\"Retard\",\"Attente de Livraison\")))","v":""}]
[null,null,null,null,null,null,null,null,{"$f":"IF(F2546=\"\",\"\",IF(H2546<>\"\",\"OK\",IF(AND(#REF!<>\"\",#REF!<TODAY()),\"Retard\",\"Attente de Livraison\")))","v":""}]
[null,null,null,null,null,null,null,null,{"$f":"IF(F2547=\"\",\"\",IF(H2547<>\"\",\"OK\",IF(AND(#REF!<>\"\",#REF!<TODAY()),\"Retard\",\"Attente de Livraison\")))","v":""}]
[null,null,null,null,null,null,null,null,{"$f":"IF(F2548=\"\",\"\",IF(H2548<>\"\",\"OK\",IF(AND(#REF!<>\"\",#REF!<TODAY()),\"Retard\",\"Attente de Livraison\")))","v":""}]
[null,null,null,null,null,null,null,null,{"$f":"IF(F2549=\"\",\"\",IF(H2549<>\"\",\"OK\",IF(AND(#REF!<>\"\",#REF!<TODAY()),\"Retard\",\"Attente de Livraison\")))","v":""}]
[null,null,null,null,null,null,null,null,{"$f":"IF(F2550=\"\",\"\",IF(H2550<>\"\",\"OK\",IF(AND(#REF!<>\"\",#REF!<TODAY()),\"Retard\",\"Attente de Livraison\")))","v":""}]
[null,null,null,null,null,null,null,null,{"$f":"IF(F2551=\"\",\"\",IF(H2551<>\"\",\"OK\",IF(AND(#REF!<>\"\",#REF!<TODAY()),\"Retard\",\"Attente de Livraison\")))","v":""}]
[null,null,null,null,null,null,null,null,{"$f":"IF(F2552=\"\",\"\",IF(H2552<>\"\",\"OK\",IF(AND(#REF!<>\"\",#REF!<TODAY()),\"Retard\",\"Attente de Livraison\")))","v":""}]
[null,null,null,null,null,null,null,null,{"$f":"IF(F2553=\"\",\"\",IF(H2553<>\"\",\"OK\",IF(AND(#REF!<>\"\",#REF!<TODAY()),\"Retard\",\"Attente de Livraison\")))","v":""}]
[null,null,null,null,null,null,null,null,{"$f":"IF(F2554=\"\",\"\",IF(H2554<>\"\",\"OK\",IF(AND(#REF!<>\"\",#REF!<TODAY()),\"Retard\",\"Attente de Livraison\")))","v":""}]
[null,null,null,null,null,null,null,null,{"$f":"IF(F2555=\"\",\"\",IF(H2555<>\"\",\"OK\",IF(AND(#REF!<>\"\",#REF!<TODAY()),\"Retard\",\"Attente de Livraison\")))","v":""}]
[null,null,null,null,null,null,null,null,{"$f":"IF(F2556=\"\",\"\",IF(H2556<>\"\",\"OK\",IF(AND(#REF!<>\"\",#REF!<TODAY()),\"Retard\",\"Attente de Livraison\")))","v":""}]
[null,null,null,null,null,null,null,null,{"$f":"IF(F2557=\"\",\"\",IF(H2557<>\"\",\"OK\",IF(AND(#REF!<>\"\",#REF!<TODAY()),\"Retard\",\"Attente de Livraison\")))","v":""}]
[null,null,null,null,null,null,null,null,{"$f":"IF(F2558=\"\",\"\",IF(H2558<>\"\",\"OK\",IF(AND(#REF!<>\"\",#REF!<TODAY()),\"Retard\",\"Attente de Livraison\")))","v":""}]
[null,null,null,null,null,null,null,null,{"$f":"IF(F2559=\"\",\"\",IF(H2559<>\"\",\"OK\",IF(AND(#REF!<>\"\",#REF!<TODAY()),\"Retard\",\"Attente de Livraison\")))","v":""}]
[null,null,null,null,null,null,null,null,{"$f":"IF(F2560=\"\",\"\",IF(H2560<>\"\",\"OK\",IF(AND(#REF!<>\"\",#REF!<TODAY()),\"Retard\",\"Attente de Livraison\")))","v":""}]
[null,null,null,null,null,null,null,null,{"$f":"IF(F2561=\"\",\"\",IF(H2561<>\"\",\"OK\",IF(AND(#REF!<>\"\",#REF!<TODAY()),\"Retard\",\"Attente de Livraison\")))","v":""}]
[null,null,null,null,null,null,null,null,{"$f":"IF(F2562=\"\",\"\",IF(H2562<>\"\",\"OK\",IF(AND(#REF!<>\"\",#REF!<TODAY()),\"Retard\",\"Attente de Livraison\")))","v":""}]
[null,null,null,null,null,null,null,null,{"$f":"IF(F2563=\"\",\"\",IF(H2563<>\"\",\"OK\",IF(AND(#REF!<>\"\",#REF!<TODAY()),\"Retard\",\"Attente de Livraison\")))","v":""}]
[null,null,null,null,null,null,null,null,{"$f":"IF(F2564=\"\",\"\",IF(H2564<>\"\",\"OK\",IF(AND(#REF!<>\"\",#REF!<TODAY()),\"Retard\",\"Attente de Livraison\")))","v":""}]
[null,null,null,null,null,null,null,null,{"$f":"IF(F2565=\"\",\"\",IF(H2565<>\"\",\"OK\",IF(AND(#REF!<>\"\",#REF!<TODAY()),\"Retard\",\"Attente de Livraison\")))","v":""}]
[null,null,null,null,null,null,null,null,{"$f":"IF(F2566=\"\",\"\",IF(H2566<>\"\",\"OK\",IF(AND(#REF!<>\"\",#REF!<TODAY()),\"Retard\",\"Attente de Livraison\")))","v":""}]
[null,null,null,null,null,null,null,null,{"$f":"IF(F2567=\"\",\"\",IF(H2567<>\"\",\"OK\",IF(AND(#REF!<>\"\",#REF!<TODAY()),\"Retard\",\"Attente de Livraison\")))","v":""}]
[null,null,null,null,null,null,null,null,{"$f":"IF(F2568=\"\",\"\",IF(H2568<>\"\",\"OK\",IF(AND(#REF!<>\"\",#REF!<TODAY()),\"Retard\",\"Attente de Livraison\")))","v":""}]
[null,null,null,null,null,null,null,null,{"$f":"IF(F2569=\"\",\"\",IF(H2569<>\"\",\"OK\",IF(AND(#REF!<>\"\",#REF!<TODAY()),\"Retard\",\"Attente de Livraison\")))","v":""}]
[null,null,null,null,null,null,null,null,{"$f":"IF(F2570=\"\",\"\",IF(H2570<>\"\",\"OK\",IF(AND(#REF!<>\"\",#REF!<TODAY()),\"Retard\",\"Attente de Livraison\")))","v":""}]
[null,null,null,null,null,null,null,null,{"$f":"IF(F2571=\"\",\"\",IF(H2571<>\"\",\"OK\",IF(AND(#REF!<>\"\",#REF!<TODAY()),\"Retard\",\"Attente de Livraison\")))","v":""}]
[null,null,null,null,null,null,null,null,{"$f":"IF(F2572=\"\",\"\",IF(H2572<>\"\",\"OK\",IF(AND(#REF!<>\"\",#REF!<TODAY()),\"Retard\",\"Attente de Livraison\")))","v":""}]
[null,null,null,null,null,null,null,null,{"$f":"IF(F2573=\"\",\"\",IF(H2573<>\"\",\"OK\",IF(AND(#REF!<>\"\",#REF!<TODAY()),\"Retard\",\"Attente de Livraison\")))","v":""}]
[null,null,null,null,null,null,null,null,{"$f":"IF(F2574=\"\",\"\",IF(H2574<>\"\",\"OK\",IF(AND(#REF!<>\"\",#REF!<TODAY()),\"Retard\",\"Attente de Livraison\")))","v":""}]
[null,null,null,null,null,null,null,null,{"$f":"IF(F2575=\"\",\"\",IF(H2575<>\"\",\"OK\",IF(AND(#REF!<>\"\",#REF!<TODAY()),\"Retard\",\"Attente de Livraison\")))","v":""}]
[null,null,null,null,null,null,null,null,{"$f":"IF(F2576=\"\",\"\",IF(H2576<>\"\",\"OK\",IF(AND(#REF!<>\"\",#REF!<TODAY()),\"Retard\",\"Attente de Livraison\")))","v":""}]
[null,null,null,null,null,null,null,null,{"$f":"IF(F2577=\"\",\"\",IF(H2577<>\"\",\"OK\",IF(AND(#REF!<>\"\",#REF!<TODAY()),\"Retard\",\"Attente de Livraison\")))","v":""}]
[null,null,null,null,null,null,null,null,{"$f":"IF(F2578=\"\",\"\",IF(H2578<>\"\",\"OK\",IF(AND(#REF!<>\"\",#REF!<TODAY()),\"Retard\",\"Attente de Livraison\")))","v":""}]
[null,null,null,null,null,null,null,null,{"$f":"IF(F2579=\"\",\"\",IF(H2579<>\"\",\"OK\",IF(AND(#REF!<>\"\",#REF!<TODAY()),\"Retard\",\"Attente de Livraison\")))","v":""}]
[null,null,null,null,null,null,null,null,{"$f":"IF(F2580=\"\",\"\",IF(H2580<>\"\",\"OK\",IF(AND(#REF!<>\"\",#REF!<TODAY()),\"Retard\",\"Attente de Livraison\")))","v":""}]
[null,null,null,null,null,null,null,null,{"$f":"IF(F2581=\"\",\"\",IF(H2581<>\"\",\"OK\",IF(AND(#REF!<>\"\",#REF!<TODAY()),\"Retard\",\"Attente de Livraison\")))","v":""}]
[null,null,null,null,null,null,null,null,{"$f":"IF(F2582=\"\",\"\",IF(H2582<>\"\",\"OK\",IF(AND(#REF!<>\"\",#REF!<TODAY()),\"Retard\",\"Attente de Livraison\")))","v":""}]
[null,null,null,null,null,null,null,null,{"$f":"IF(F2583=\"\",\"\",IF(H2583<>\"\",\"OK\",IF(AND(#REF!<>\"\",#REF!<TODAY()),\"Retard\",\"Attente de Livraison\")))","v":""}]
[null,null,null,null,null,null,null,null,{"$f":"IF(F2584=\"\",\"\",IF(H2584<>\"\",\"OK\",IF(AND(#REF!<>\"\",#REF!<TODAY()),\"Retard\",\"Attente de Livraison\")))","v":""}]
[null,null,null,null,null,null,null,null,{"$f":"IF(F2585=\"\",\"\",IF(H2585<>\"\",\"OK\",IF(AND(#REF!<>\"\",#REF!<TODAY()),\"Retard\",\"Attente de Livraison\")))","v":""}]
[null,null,null,null,null,null,null,null,{"$f":"IF(F2586=\"\",\"\",IF(H2586<>\"\",\"OK\",IF(AND(#REF!<>\"\",#REF!<TODAY()),\"Retard\",\"Attente de Livraison\")))","v":""}]
[null,null,null,null,null,null,null,null,{"$f":"IF(F2587=\"\",\"\",IF(H2587<>\"\",\"OK\",IF(AND(#REF!<>\"\",#REF!<TODAY()),\"Retard\",\"Attente de Livraison\")))","v":""}]
[null,null,null,null,null,null,null,null,{"$f":"IF(F2588=\"\",\"\",IF(H2588<>\"\",\"OK\",IF(AND(#REF!<>\"\",#REF!<TODAY()),\"Retard\",\"Attente de Livraison\")))","v":""}]
[null,null,null,null,null,null,null,null,{"$f":"IF(F2589=\"\",\"\",IF(H2589<>\"\",\"OK\",IF(AND(#REF!<>\"\",#REF!<TODAY()),\"Retard\",\"Attente de Livraison\")))","v":""}]
[null,null,null,null,null,null,null,null,{"$f":"IF(F2590=\"\",\"\",IF(H2590<>\"\",\"OK\",IF(AND(#REF!<>\"\",#REF!<TODAY()),\"Retard\",\"Attente de Livraison\")))","v":""}]
[null,null,null,null,null,null,null,null,{"$f":"IF(F2591=\"\",\"\",IF(H2591<>\"\",\"OK\",IF(AND(#REF!<>\"\",#REF!<TODAY()),\"Retard\",\"Attente de Livraison\")))","v":""}]
[null,null,null,null,null,null,null,null,{"$f":"IF(F2592=\"\",\"\",IF(H2592<>\"\",\"OK\",IF(AND(#REF!<>\"\",#REF!<TODAY()),\"Retard\",\"Attente de Livraison\")))","v":""}]
[null,null,null,null,null,null,null,null,{"$f":"IF(F2593=\"\",\"\",IF(H2593<>\"\",\"OK\",IF(AND(#REF!<>\"\",#REF!<TODAY()),\"Retard\",\"Attente de Livraison\")))","v":""}]
[null,null,null,null,null,null,null,null,{"$f":"IF(F2594=\"\",\"\",IF(H2594<>\"\",\"OK\",IF(AND(#REF!<>\"\",#REF!<TODAY()),\"Retard\",\"Attente de Livraison\")))","v":""}]
[null,null,null,null,null,null,null,null,{"$f":"IF(F2595=\"\",\"\",IF(H2595<>\"\",\"OK\",IF(AND(#REF!<>\"\",#REF!<TODAY()),\"Retard\",\"Attente de Livraison\")))","v":""}]
[null,null,null,null,null,null,null,null,{"$f":"IF(F2596=\"\",\"\",IF(H2596<>\"\",\"OK\",IF(AND(#REF!<>\"\",#REF!<TODAY()),\"Retard\",\"Attente de Livraison\")))","v":""}]
[null,null,null,null,null,null,null,null,{"$f":"IF(F2597=\"\",\"\",IF(H2597<>\"\",\"OK\",IF(AND(#REF!<>\"\",#REF!<TODAY()),\"Retard\",\"Attente de Livraison\")))","v":""}]
[null,null,null,null,null,null,null,null,{"$f":"IF(F2598=\"\",\"\",IF(H2598<>\"\",\"OK\",IF(AND(#REF!<>\"\",#REF!<TODAY()),\"Retard\",\"Attente de Livraison\")))","v":""}]
[null,null,null,null,null,null,null,null,{"$f":"IF(F2599=\"\",\"\",IF(H2599<>\"\",\"OK\",IF(AND(#REF!<>\"\",#REF!<TODAY()),\"Retard\",\"Attente de Livraison\")))","v":""}]
[null,null,null,null,null,null,null,null,{"$f":"IF(F2600=\"\",\"\",IF(H2600<>\"\",\"OK\",IF(AND(#REF!<>\"\",#REF!<TODAY()),\"Retard\",\"Attente de Livraison\")))","v":""}]
[null,null,null,null,null,null,null,null,{"$f":"IF(F2601=\"\",\"\",IF(H2601<>\"\",\"OK\",IF(AND(#REF!<>\"\",#REF!<TODAY()),\"Retard\",\"Attente de Livraison\")))","v":""}]
[null,null,null,null,null,null,null,null,{"$f":"IF(F2602=\"\",\"\",IF(H2602<>\"\",\"OK\",IF(AND(#REF!<>\"\",#REF!<TODAY()),\"Retard\",\"Attente de Livraison\")))","v":""}]
[null,null,null,null,null,null,null,null,{"$f":"IF(F2603=\"\",\"\",IF(H2603<>\"\",\"OK\",IF(AND(#REF!<>\"\",#REF!<TODAY()),\"Retard\",\"Attente de Livraison\")))","v":""}]
[null,null,null,null,null,null,null,null,{"$f":"IF(F2604=\"\",\"\",IF(H2604<>\"\",\"OK\",IF(AND(#REF!<>\"\",#REF!<TODAY()),\"Retard\",\"Attente de Livraison\")))","v":""}]
[null,null,null,null,null,null,null,null,{"$f":"IF(F2605=\"\",\"\",IF(H2605<>\"\",\"OK\",IF(AND(#REF!<>\"\",#REF!<TODAY()),\"Retard\",\"Attente de Livraison\")))","v":""}]
[null,null,null,null,null,null,null,null,{"$f":"IF(F2606=\"\",\"\",IF(H2606<>\"\",\"OK\",IF(AND(#REF!<>\"\",#REF!<TODAY()),\"Retard\",\"Attente de Livraison\")))","v":""}]
[null,null,null,null,null,null,null,null,{"$f":"IF(F2607=\"\",\"\",IF(H2607<>\"\",\"OK\",IF(AND(#REF!<>\"\",#REF!<TODAY()),\"Retard\",\"Attente de Livraison\")))","v":""}]
[null,null,null,null,null,null,null,null,{"$f":"IF(F2608=\"\",\"\",IF(H2608<>\"\",\"OK\",IF(AND(#REF!<>\"\",#REF!<TODAY()),\"Retard\",\"Attente de Livraison\")))","v":""}]
[null,null,null,null,null,null,null,null,{"$f":"IF(F2609=\"\",\"\",IF(H2609<>\"\",\"OK\",IF(AND(#REF!<>\"\",#REF!<TODAY()),\"Retard\",\"Attente de Livraison\")))","v":""}]
[null,null,null,null,null,null,null,null,{"$f":"IF(F2610=\"\",\"\",IF(H2610<>\"\",\"OK\",IF(AND(#REF!<>\"\",#REF!<TODAY()),\"Retard\",\"Attente de Livraison\")))","v":""}]
[null,null,null,null,null,null,null,null,{"$f":"IF(F2611=\"\",\"\",IF(H2611<>\"\",\"OK\",IF(AND(#REF!<>\"\",#REF!<TODAY()),\"Retard\",\"Attente de Livraison\")))","v":""}]
[null,null,null,null,null,null,null,null,{"$f":"IF(F2612=\"\",\"\",IF(H2612<>\"\",\"OK\",IF(AND(#REF!<>\"\",#REF!<TODAY()),\"Retard\",\"Attente de Livraison\")))","v":""}]
[null,null,null,null,null,null,null,null,{"$f":"IF(F2613=\"\",\"\",IF(H2613<>\"\",\"OK\",IF(AND(#REF!<>\"\",#REF!<TODAY()),\"Retard\",\"Attente de Livraison\")))","v":""}]
[null,null,null,null,null,null,null,null,{"$f":"IF(F2614=\"\",\"\",IF(H2614<>\"\",\"OK\",IF(AND(#REF!<>\"\",#REF!<TODAY()),\"Retard\",\"Attente de Livraison\")))","v":""}]
[null,null,null,null,null,null,null,null,{"$f":"IF(F2615=\"\",\"\",IF(H2615<>\"\",\"OK\",IF(AND(#REF!<>\"\",#REF!<TODAY()),\"Retard\",\"Attente de Livraison\")))","v":""}]
[null,null,null,null,null,null,null,null,{"$f":"IF(F2616=\"\",\"\",IF(H2616<>\"\",\"OK\",IF(AND(#REF!<>\"\",#REF!<TODAY()),\"Retard\",\"Attente de Livraison\")))","v":""}]
[null,null,null,null,null,null,null,null,{"$f":"IF(F2617=\"\",\"\",IF(H2617<>\"\",\"OK\",IF(AND(#REF!<>\"\",#REF!<TODAY()),\"Retard\",\"Attente de Livraison\")))","v":""}]
[null,null,null,null,null,null,null,null,{"$f":"IF(F2618=\"\",\"\",IF(H2618<>\"\",\"OK\",IF(AND(#REF!<>\"\",#REF!<TODAY()),\"Retard\",\"Attente de Livraison\")))","v":""}]
[null,null,null,null,null,null,null,null,{"$f":"IF(F2619=\"\",\"\",IF(H2619<>\"\",\"OK\",IF(AND(#REF!<>\"\",#REF!<TODAY()),\"Retard\",\"Attente de Livraison\")))","v":""}]
[null,null,null,null,null,null,null,null,{"$f":"IF(F2620=\"\",\"\",IF(H2620<>\"\",\"OK\",IF(AND(#REF!<>\"\",#REF!<TODAY()),\"Retard\",\"Attente de Livraison\")))","v":""}]
[null,null,null,null,null,null,null,null,{"$f":"IF(F2621=\"\",\"\",IF(H2621<>\"\",\"OK\",IF(AND(#REF!<>\"\",#REF!<TODAY()),\"Retard\",\"Attente de Livraison\")))","v":""}]
[null,null,null,null,null,null,null,null,{"$f":"IF(F2622=\"\",\"\",IF(H2622<>\"\",\"OK\",IF(AND(#REF!<>\"\",#REF!<TODAY()),\"Retard\",\"Attente de Livraison\")))","v":""}]
[null,null,null,null,null,null,null,null,{"$f":"IF(F2623=\"\",\"\",IF(H2623<>\"\",\"OK\",IF(AND(#REF!<>\"\",#REF!<TODAY()),\"Retard\",\"Attente de Livraison\")))","v":""}]
[null,null,null,null,null,null,null,null,{"$f":"IF(F2624=\"\",\"\",IF(H2624<>\"\",\"OK\",IF(AND(#REF!<>\"\",#REF!<TODAY()),\"Retard\",\"Attente de Livraison\")))","v":""}]
[null,null,null,null,null,null,null,null,{"$f":"IF(F2625=\"\",\"\",IF(H2625<>\"\",\"OK\",IF(AND(#REF!<>\"\",#REF!<TODAY()),\"Retard\",\"Attente de Livraison\")))","v":""}]
[null,null,null,null,null,null,null,null,{"$f":"IF(F2626=\"\",\"\",IF(H2626<>\"\",\"OK\",IF(AND(#REF!<>\"\",#REF!<TODAY()),\"Retard\",\"Attente de Livraison\")))","v":""}]
[null,null,null,null,null,null,null,null,{"$f":"IF(F2627=\"\",\"\",IF(H2627<>\"\",\"OK\",IF(AND(#REF!<>\"\",#REF!<TODAY()),\"Retard\",\"Attente de Livraison\")))","v":""}]
[null,null,null,null,null,null,null,null,{"$f":"IF(F2628=\"\",\"\",IF(H2628<>\"\",\"OK\",IF(AND(#REF!<>\"\",#REF!<TODAY()),\"Retard\",\"Attente de Livraison\")))","v":""}]
[null,null,null,null,null,null,null,null,{"$f":"IF(F2629=\"\",\"\",IF(H2629<>\"\",\"OK\",IF(AND(#REF!<>\"\",#REF!<TODAY()),\"Retard\",\"Attente de Livraison\")))","v":""}]
[null,null,null,null,null,null,null,null,{"$f":"IF(F2630=\"\",\"\",IF(H2630<>\"\",\"OK\",IF(AND(#REF!<>\"\",#REF!<TODAY()),\"Retard\",\"Attente de Livraison\")))","v":""}]
[null,null,null,null,null,null,null,null,{"$f":"IF(F2631=\"\",\"\",IF(H2631<>\"\",\"OK\",IF(AND(#REF!<>\"\",#REF!<TODAY()),\"Retard\",\"Attente de Livraison\")))","v":""}]
[null,null,null,null,null,null,null,null,{"$f":"IF(F2632=\"\",\"\",IF(H2632<>\"\",\"OK\",IF(AND(#REF!<>\"\",#REF!<TODAY()),\"Retard\",\"Attente de Livraison\")))","v":""}]
[null,null,null,null,null,null,null,null,{"$f":"IF(F2633=\"\",\"\",IF(H2633<>\"\",\"OK\",IF(AND(#REF!<>\"\",#REF!<TODAY()),\"Retard\",\"Attente de Livraison\")))","v":""}]
[null,null,null,null,null,null,null,null,{"$f":"IF(F2634=\"\",\"\",IF(H2634<>\"\",\"OK\",IF(AND(#REF!<>\"\",#REF!<TODAY()),\"Retard\",\"Attente de Livraison\")))","v":""}]
[null,null,null,null,null,null,null,null,{"$f":"IF(F2635=\"\",\"\",IF(H2635<>\"\",\"OK\",IF(AND(#REF!<>\"\",#REF!<TODAY()),\"Retard\",\"Attente de Livraison\")))","v":""}]
[null,null,null,null,null,null,null,null,{"$f":"IF(F2636=\"\",\"\",IF(H2636<>\"\",\"OK\",IF(AND(#REF!<>\"\",#REF!<TODAY()),\"Retard\",\"Attente de Livraison\")))","v":""}]
[null,null,null,null,null,null,null,null,{"$f":"IF(F2637=\"\",\"\",IF(H2637<>\"\",\"OK\",IF(AND(#REF!<>\"\",#REF!<TODAY()),\"Retard\",\"Attente de Livraison\")))","v":""}]
[null,null,null,null,null,null,null,null,{"$f":"IF(F2638=\"\",\"\",IF(H2638<>\"\",\"OK\",IF(AND(#REF!<>\"\",#REF!<TODAY()),\"Retard\",\"Attente de Livraison\")))","v":""}]
[null,null,null,null,null,null,null,null,{"$f":"IF(F2639=\"\",\"\",IF(H2639<>\"\",\"OK\",IF(AND(#REF!<>\"\",#REF!<TODAY()),\"Retard\",\"Attente de Livraison\")))","v":""}]
[null,null,null,null,null,null,null,null,{"$f":"IF(F2640=\"\",\"\",IF(H2640<>\"\",\"OK\",IF(AND(#REF!<>\"\",#REF!<TODAY()),\"Retard\",\"Attente de Livraison\")))","v":""}]
[null,null,null,null,null,null,null,null,{"$f":"IF(F2641=\"\",\"\",IF(H2641<>\"\",\"OK\",IF(AND(#REF!<>\"\",#REF!<TODAY()),\"Retard\",\"Attente de Livraison\")))","v":""}]
[null,null,null,null,null,null,null,null,{"$f":"IF(F2642=\"\",\"\",IF(H2642<>\"\",\"OK\",IF(AND(#REF!<>\"\",#REF!<TODAY()),\"Retard\",\"Attente de Livraison\")))","v":""}]
[null,null,null,null,null,null,null,null,{"$f":"IF(F2643=\"\",\"\",IF(H2643<>\"\",\"OK\",IF(AND(#REF!<>\"\",#REF!<TODAY()),\"Retard\",\"Attente de Livraison\")))","v":""}]
[null,null,null,null,null,null,null,null,{"$f":"IF(F2644=\"\",\"\",IF(H2644<>\"\",\"OK\",IF(AND(#REF!<>\"\",#REF!<TODAY()),\"Retard\",\"Attente de Livraison\")))","v":""}]
[null,null,null,null,null,null,null,null,{"$f":"IF(F2645=\"\",\"\",IF(H2645<>\"\",\"OK\",IF(AND(#REF!<>\"\",#REF!<TODAY()),\"Retard\",\"Attente de Livraison\")))","v":""}]
[null,null,null,null,null,null,null,null,{"$f":"IF(F2646=\"\",\"\",IF(H2646<>\"\",\"OK\",IF(AND(#REF!<>\"\",#REF!<TODAY()),\"Retard\",\"Attente de Livraison\")))","v":""}]
[null,null,null,null,null,null,null,null,{"$f":"IF(F2647=\"\",\"\",IF(H2647<>\"\",\"OK\",IF(AND(#REF!<>\"\",#REF!<TODAY()),\"Retard\",\"Attente de Livraison\")))","v":""}]
[null,null,null,null,null,null,null,null,{"$f":"IF(F2648=\"\",\"\",IF(H2648<>\"\",\"OK\",IF(AND(#REF!<>\"\",#REF!<TODAY()),\"Retard\",\"Attente de Livraison\")))","v":""}]
[null,null,null,null,null,null,null,null,{"$f":"IF(F2649=\"\",\"\",IF(H2649<>\"\",\"OK\",IF(AND(#REF!<>\"\",#REF!<TODAY()),\"Retard\",\"Attente de Livraison\")))","v":""}]
[null,null,null,null,null,null,null,null,{"$f":"IF(F2650=\"\",\"\",IF(H2650<>\"\",\"OK\",IF(AND(#REF!<>\"\",#REF!<TODAY()),\"Retard\",\"Attente de Livraison\")))","v":""}]
[null,null,null,null,null,null,null,null,{"$f":"IF(F2651=\"\",\"\",IF(H2651<>\"\",\"OK\",IF(AND(#REF!<>\"\",#REF!<TODAY()),\"Retard\",\"Attente de Livraison\")))","v":""}]
[null,null,null,null,null,null,null,null,{"$f":"IF(F2652=\"\",\"\",IF(H2652<>\"\",\"OK\",IF(AND(#REF!<>\"\",#REF!<TODAY()),\"Retard\",\"Attente de Livraison\")))","v":""}]
[null,null,null,null,null,null,null,null,{"$f":"IF(F2653=\"\",\"\",IF(H2653<>\"\",\"OK\",IF(AND(#REF!<>\"\",#REF!<TODAY()),\"Retard\",\"Attente de Livraison\")))","v":""}]
[null,null,null,null,null,null,null,null,{"$f":"IF(F2654=\"\",\"\",IF(H2654<>\"\",\"OK\",IF(AND(#REF!<>\"\",#REF!<TODAY()),\"Retard\",\"Attente de Livraison\")))","v":""}]
[null,null,null,null,null,null,null,null,{"$f":"IF(F2655=\"\",\"\",IF(H2655<>\"\",\"OK\",IF(AND(#REF!<>\"\",#REF!<TODAY()),\"Retard\",\"Attente de Livraison\")))","v":""}]
[null,null,null,null,null,null,null,null,{"$f":"IF(F2656=\"\",\"\",IF(H2656<>\"\",\"OK\",IF(AND(#REF!<>\"\",#REF!<TODAY()),\"Retard\",\"Attente de Livraison\")))","v":""}]
[null,null,null,null,null,null,null,null,{"$f":"IF(F2657=\"\",\"\",IF(H2657<>\"\",\"OK\",IF(AND(#REF!<>\"\",#REF!<TODAY()),\"Retard\",\"Attente de Livraison\")))","v":""}]
[null,null,null,null,null,null,null,null,{"$f":"IF(F2658=\"\",\"\",IF(H2658<>\"\",\"OK\",IF(AND(#REF!<>\"\",#REF!<TODAY()),\"Retard\",\"Attente de Livraison\")))","v":""}]
[null,null,null,null,null,null,null,null,{"$f":"IF(F2659=\"\",\"\",IF(H2659<>\"\",\"OK\",IF(AND(#REF!<>\"\",#REF!<TODAY()),\"Retard\",\"Attente de Livraison\")))","v":""}]
[null,null,null,null,null,null,null,null,{"$f":"IF(F2660=\"\",\"\",IF(H2660<>\"\",\"OK\",IF(AND(#REF!<>\"\",#REF!<TODAY()),\"Retard\",\"Attente de Livraison\")))","v":""}]
[null,null,null,null,null,null,null,null,{"$f":"IF(F2661=\"\",\"\",IF(H2661<>\"\",\"OK\",IF(AND(#REF!<>\"\",#REF!<TODAY()),\"Retard\",\"Attente de Livraison\")))","v":""}]
[null,null,null,null,null,null,null,null,{"$f":"IF(F2662=\"\",\"\",IF(H2662<>\"\",\"OK\",IF(AND(#REF!<>\"\",#REF!<TODAY()),\"Retard\",\"Attente de Livraison\")))","v":""}]
[null,null,null,null,null,null,null,null,{"$f":"IF(F2663=\"\",\"\",IF(H2663<>\"\",\"OK\",IF(AND(#REF!<>\"\",#REF!<TODAY()),\"Retard\",\"Attente de Livraison\")))","v":""}]
[null,null,null,null,null,null,null,null,{"$f":"IF(F2664=\"\",\"\",IF(H2664<>\"\",\"OK\",IF(AND(#REF!<>\"\",#REF!<TODAY()),\"Retard\",\"Attente de Livraison\")))","v":""}]
[null,null,null,null,null,null,null,null,{"$f":"IF(F2665=\"\",\"\",IF(H2665<>\"\",\"OK\",IF(AND(#REF!<>\"\",#REF!<TODAY()),\"Retard\",\"Attente de Livraison\")))","v":""}]
[null,null,null,null,null,null,null,null,{"$f":"IF(F2666=\"\",\"\",IF(H2666<>\"\",\"OK\",IF(AND(#REF!<>\"\",#REF!<TODAY()),\"Retard\",\"Attente de Livraison\")))","v":""}]
[null,null,null,null,null,null,null,null,{"$f":"IF(F2667=\"\",\"\",IF(H2667<>\"\",\"OK\",IF(AND(#REF!<>\"\",#REF!<TODAY()),\"Retard\",\"Attente de Livraison\")))","v":""}]
[null,null,null,null,null,null,null,null,{"$f":"IF(F2668=\"\",\"\",IF(H2668<>\"\",\"OK\",IF(AND(#REF!<>\"\",#REF!<TODAY()),\"Retard\",\"Attente de Livraison\")))","v":""}]
[null,null,null,null,null,null,null,null,{"$f":"IF(F2669=\"\",\"\",IF(H2669<>\"\",\"OK\",IF(AND(#REF!<>\"\",#REF!<TODAY()),\"Retard\",\"Attente de Livraison\")))","v":""}]
[null,null,null,null,null,null,null,null,{"$f":"IF(F2670=\"\",\"\",IF(H2670<>\"\",\"OK\",IF(AND(#REF!<>\"\",#REF!<TODAY()),\"Retard\",\"Attente de Livraison\")))","v":""}]
[null,null,null,null,null,null,null,null,{"$f":"IF(F2671=\"\",\"\",IF(H2671<>\"\",\"OK\",IF(AND(#REF!<>\"\",#REF!<TODAY()),\"Retard\",\"Attente de Livraison\")))","v":""}]
[null,null,null,null,null,null,null,null,{"$f":"IF(F2672=\"\",\"\",IF(H2672<>\"\",\"OK\",IF(AND(#REF!<>\"\",#REF!<TODAY()),\"Retard\",\"Attente de Livraison\")))","v":""}]
[null,null,null,null,null,null,null,null,{"$f":"IF(F2673=\"\",\"\",IF(H2673<>\"\",\"OK\",IF(AND(#REF!<>\"\",#REF!<TODAY()),\"Retard\",\"Attente de Livraison\")))","v":""}]
[null,null,null,null,null,null,null,null,{"$f":"IF(F2674=\"\",\"\",IF(H2674<>\"\",\"OK\",IF(AND(#REF!<>\"\",#REF!<TODAY()),\"Retard\",\"Attente de Livraison\")))","v":""}]
[null,null,null,null,null,null,null,null,{"$f":"IF(F2675=\"\",\"\",IF(H2675<>\"\",\"OK\",IF(AND(#REF!<>\"\",#REF!<TODAY()),\"Retard\",\"Attente de Livraison\")))","v":""}]
[null,null,null,null,null,null,null,null,{"$f":"IF(F2676=\"\",\"\",IF(H2676<>\"\",\"OK\",IF(AND(#REF!<>\"\",#REF!<TODAY()),\"Retard\",\"Attente de Livraison\")))","v":""}]
[null,null,null,null,null,null,null,null,{"$f":"IF(F2677=\"\",\"\",IF(H2677<>\"\",\"OK\",IF(AND(#REF!<>\"\",#REF!<TODAY()),\"Retard\",\"Attente de Livraison\")))","v":""}]
[null,null,null,null,null,null,null,null,{"$f":"IF(F2678=\"\",\"\",IF(H2678<>\"\",\"OK\",IF(AND(#REF!<>\"\",#REF!<TODAY()),\"Retard\",\"Attente de Livraison\")))","v":""}]
[null,null,null,null,null,null,null,null,{"$f":"IF(F2679=\"\",\"\",IF(H2679<>\"\",\"OK\",IF(AND(#REF!<>\"\",#REF!<TODAY()),\"Retard\",\"Attente de Livraison\")))","v":""}]
[null,null,null,null,null,null,null,null,{"$f":"IF(F2680=\"\",\"\",IF(H2680<>\"\",\"OK\",IF(AND(#REF!<>\"\",#REF!<TODAY()),\"Retard\",\"Attente de Livraison\")))","v":""}]
[null,null,null,null,null,null,null,null,{"$f":"IF(F2681=\"\",\"\",IF(H2681<>\"\",\"OK\",IF(AND(#REF!<>\"\",#REF!<TODAY()),\"Retard\",\"Attente de Livraison\")))","v":""}]
[null,null,null,null,null,null,null,null,{"$f":"IF(F2682=\"\",\"\",IF(H2682<>\"\",\"OK\",IF(AND(#REF!<>\"\",#REF!<TODAY()),\"Retard\",\"Attente de Livraison\")))","v":""}]
[null,null,null,null,null,null,null,null,{"$f":"IF(F2683=\"\",\"\",IF(H2683<>\"\",\"OK\",IF(AND(#REF!<>\"\",#REF!<TODAY()),\"Retard\",\"Attente de Livraison\")))","v":""}]
[null,null,null,null,null,null,null,null,{"$f":"IF(F2684=\"\",\"\",IF(H2684<>\"\",\"OK\",IF(AND(#REF!<>\"\",#REF!<TODAY()),\"Retard\",\"Attente de Livraison\")))","v":""}]
[null,null,null,null,null,null,null,null,{"$f":"IF(F2685=\"\",\"\",IF(H2685<>\"\",\"OK\",IF(AND(#REF!<>\"\",#REF!<TODAY()),\"Retard\",\"Attente de Livraison\")))","v":""}]
[null,null,null,null,null,null,null,null,{"$f":"IF(F2686=\"\",\"\",IF(H2686<>\"\",\"OK\",IF(AND(#REF!<>\"\",#REF!<TODAY()),\"Retard\",\"Attente de Livraison\")))","v":""}]
[null,null,null,null,null,null,null,null,{"$f":"IF(F2687=\"\",\"\",IF(H2687<>\"\",\"OK\",IF(AND(#REF!<>\"\",#REF!<TODAY()),\"Retard\",\"Attente de Livraison\")))","v":""}]
[null,null,null,null,null,null,null,null,{"$f":"IF(F2688=\"\",\"\",IF(H2688<>\"\",\"OK\",IF(AND(#REF!<>\"\",#REF!<TODAY()),\"Retard\",\"Attente de Livraison\")))","v":""}]
[null,null,null,null,null,null,null,null,{"$f":"IF(F2689=\"\",\"\",IF(H2689<>\"\",\"OK\",IF(AND(#REF!<>\"\",#REF!<TODAY()),\"Retard\",\"Attente de Livraison\")))","v":""}]
[null,null,null,null,null,null,null,null,{"$f":"IF(F2690=\"\",\"\",IF(H2690<>\"\",\"OK\",IF(AND(#REF!<>\"\",#REF!<TODAY()),\"Retard\",\"Attente de Livraison\")))","v":""}]
[null,null,null,null,null,null,null,null,{"$f":"IF(F2691=\"\",\"\",IF(H2691<>\"\",\"OK\",IF(AND(#REF!<>\"\",#REF!<TODAY()),\"Retard\",\"Attente de Livraison\")))","v":""}]
[null,null,null,null,null,null,null,null,{"$f":"IF(F2692=\"\",\"\",IF(H2692<>\"\",\"OK\",IF(AND(#REF!<>\"\",#REF!<TODAY()),\"Retard\",\"Attente de Livraison\")))","v":""}]
[null,null,null,null,null,null,null,null,{"$f":"IF(F2693=\"\",\"\",IF(H2693<>\"\",\"OK\",IF(AND(#REF!<>\"\",#REF!<TODAY()),\"Retard\",\"Attente de Livraison\")))","v":""}]
[null,null,null,null,null,null,null,null,{"$f":"IF(F2694=\"\",\"\",IF(H2694<>\"\",\"OK\",IF(AND(#REF!<>\"\",#REF!<TODAY()),\"Retard\",\"Attente de Livraison\")))","v":""}]
[null,null,null,null,null,null,null,null,{"$f":"IF(F2695=\"\",\"\",IF(H2695<>\"\",\"OK\",IF(AND(#REF!<>\"\",#REF!<TODAY()),\"Retard\",\"Attente de Livraison\")))","v":""}]
[null,null,null,null,null,null,null,null,{"$f":"IF(F2696=\"\",\"\",IF(H2696<>\"\",\"OK\",IF(AND(#REF!<>\"\",#REF!<TODAY()),\"Retard\",\"Attente de Livraison\")))","v":""}]
[null,null,null,null,null,null,null,null,{"$f":"IF(F2697=\"\",\"\",IF(H2697<>\"\",\"OK\",IF(AND(#REF!<>\"\",#REF!<TODAY()),\"Retard\",\"Attente de Livraison\")))","v":""}]
[null,null,null,null,null,null,null,null,{"$f":"IF(F2698=\"\",\"\",IF(H2698<>\"\",\"OK\",IF(AND(#REF!<>\"\",#REF!<TODAY()),\"Retard\",\"Attente de Livraison\")))","v":""}]
[null,null,null,null,null,null,null,null,{"$f":"IF(F2699=\"\",\"\",IF(H2699<>\"\",\"OK\",IF(AND(#REF!<>\"\",#REF!<TODAY()),\"Retard\",\"Attente de Livraison\")))","v":""}]
[null,null,null,null,null,null,null,null,{"$f":"IF(F2700=\"\",\"\",IF(H2700<>\"\",\"OK\",IF(AND(#REF!<>\"\",#REF!<TODAY()),\"Retard\",\"Attente de Livraison\")))","v":""}]
[null,null,null,null,null,null,null,null,{"$f":"IF(F2701=\"\",\"\",IF(H2701<>\"\",\"OK\",IF(AND(#REF!<>\"\",#REF!<TODAY()),\"Retard\",\"Attente de Livraison\")))","v":""}]
[null,null,null,null,null,null,null,null,{"$f":"IF(F2702=\"\",\"\",IF(H2702<>\"\",\"OK\",IF(AND(#REF!<>\"\",#REF!<TODAY()),\"Retard\",\"Attente de Livraison\")))","v":""}]
[null,null,null,null,null,null,null,null,{"$f":"IF(F2703=\"\",\"\",IF(H2703<>\"\",\"OK\",IF(AND(#REF!<>\"\",#REF!<TODAY()),\"Retard\",\"Attente de Livraison\")))","v":""}]
[null,null,null,null,null,null,null,null,{"$f":"IF(F2704=\"\",\"\",IF(H2704<>\"\",\"OK\",IF(AND(#REF!<>\"\",#REF!<TODAY()),\"Retard\",\"Attente de Livraison\")))","v":""}]
[null,null,null,null,null,null,null,null,{"$f":"IF(F2705=\"\",\"\",IF(H2705<>\"\",\"OK\",IF(AND(#REF!<>\"\",#REF!<TODAY()),\"Retard\",\"Attente de Livraison\")))","v":""}]
[null,null,null,null,null,null,null,null,{"$f":"IF(F2706=\"\",\"\",IF(H2706<>\"\",\"OK\",IF(AND(#REF!<>\"\",#REF!<TODAY()),\"Retard\",\"Attente de Livraison\")))","v":""}]
[null,null,null,null,null,null,null,null,{"$f":"IF(F2707=\"\",\"\",IF(H2707<>\"\",\"OK\",IF(AND(#REF!<>\"\",#REF!<TODAY()),\"Retard\",\"Attente de Livraison\")))","v":""}]
[null,null,null,null,null,null,null,null,{"$f":"IF(F2708=\"\",\"\",IF(H2708<>\"\",\"OK\",IF(AND(#REF!<>\"\",#REF!<TODAY()),\"Retard\",\"Attente de Livraison\")))","v":""}]
[null,null,null,null,null,null,null,null,{"$f":"IF(F2709=\"\",\"\",IF(H2709<>\"\",\"OK\",IF(AND(#REF!<>\"\",#REF!<TODAY()),\"Retard\",\"Attente de Livraison\")))","v":""}]
[null,null,null,null,null,null,null,null,{"$f":"IF(F2710=\"\",\"\",IF(H2710<>\"\",\"OK\",IF(AND(#REF!<>\"\",#REF!<TODAY()),\"Retard\",\"Attente de Livraison\")))","v":""}]
[null,null,null,null,null,null,null,null,{"$f":"IF(F2711=\"\",\"\",IF(H2711<>\"\",\"OK\",IF(AND(#REF!<>\"\",#REF!<TODAY()),\"Retard\",\"Attente de Livraison\")))","v":""}]
[null,null,null,null,null,null,null,null,{"$f":"IF(F2712=\"\",\"\",IF(H2712<>\"\",\"OK\",IF(AND(#REF!<>\"\",#REF!<TODAY()),\"Retard\",\"Attente de Livraison\")))","v":""}]
[null,null,null,null,null,null,null,null,{"$f":"IF(F2713=\"\",\"\",IF(H2713<>\"\",\"OK\",IF(AND(#REF!<>\"\",#REF!<TODAY()),\"Retard\",\"Attente de Livraison\")))","v":""}]
[null,null,null,null,null,null,null,null,{"$f":"IF(F2714=\"\",\"\",IF(H2714<>\"\",\"OK\",IF(AND(#REF!<>\"\",#REF!<TODAY()),\"Retard\",\"Attente de Livraison\")))","v":""}]
[null,null,null,null,null,null,null,null,{"$f":"IF(F2715=\"\",\"\",IF(H2715<>\"\",\"OK\",IF(AND(#REF!<>\"\",#REF!<TODAY()),\"Retard\",\"Attente de Livraison\")))","v":""}]
[null,null,null,null,null,null,null,null,{"$f":"IF(F2716=\"\",\"\",IF(H2716<>\"\",\"OK\",IF(AND(#REF!<>\"\",#REF!<TODAY()),\"Retard\",\"Attente de Livraison\")))","v":""}]
[null,null,null,null,null,null,null,null,{"$f":"IF(F2717=\"\",\"\",IF(H2717<>\"\",\"OK\",IF(AND(#REF!<>\"\",#REF!<TODAY()),\"Retard\",\"Attente de Livraison\")))","v":""}]
[null,null,null,null,null,null,null,null,{"$f":"IF(F2718=\"\",\"\",IF(H2718<>\"\",\"OK\",IF(AND(#REF!<>\"\",#REF!<TODAY()),\"Retard\",\"Attente de Livraison\")))","v":""}]
[null,null,null,null,null,null,null,null,{"$f":"IF(F2719=\"\",\"\",IF(H2719<>\"\",\"OK\",IF(AND(#REF!<>\"\",#REF!<TODAY()),\"Retard\",\"Attente de Livraison\")))","v":""}]
[null,null,null,null,null,null,null,null,{"$f":"IF(F2720=\"\",\"\",IF(H2720<>\"\",\"OK\",IF(AND(#REF!<>\"\",#REF!<TODAY()),\"Retard\",\"Attente de Livraison\")))","v":""}]
[null,null,null,null,null,null,null,null,{"$f":"IF(F2721=\"\",\"\",IF(H2721<>\"\",\"OK\",IF(AND(#REF!<>\"\",#REF!<TODAY()),\"Retard\",\"Attente de Livraison\")))","v":""}]
[null,null,null,null,null,null,null,null,{"$f":"IF(F2722=\"\",\"\",IF(H2722<>\"\",\"OK\",IF(AND(#REF!<>\"\",#REF!<TODAY()),\"Retard\",\"Attente de Livraison\")))","v":""}]
[null,null,null,null,null,null,null,null,{"$f":"IF(F2723=\"\",\"\",IF(H2723<>\"\",\"OK\",IF(AND(#REF!<>\"\",#REF!<TODAY()),\"Retard\",\"Attente de Livraison\")))","v":""}]
[null,null,null,null,null,null,null,null,{"$f":"IF(F2724=\"\",\"\",IF(H2724<>\"\",\"OK\",IF(AND(#REF!<>\"\",#REF!<TODAY()),\"Retard\",\"Attente de Livraison\")))","v":""}]
[null,null,null,null,null,null,null,null,{"$f":"IF(F2725=\"\",\"\",IF(H2725<>\"\",\"OK\",IF(AND(#REF!<>\"\",#REF!<TODAY()),\"Retard\",\"Attente de Livraison\")))","v":""}]
[null,null,null,null,null,null,null,null,{"$f":"IF(F2726=\"\",\"\",IF(H2726<>\"\",\"OK\",IF(AND(#REF!<>\"\",#REF!<TODAY()),\"Retard\",\"Attente de Livraison\")))","v":""}]
[null,null,null,null,null,null,null,null,{"$f":"IF(F2727=\"\",\"\",IF(H2727<>\"\",\"OK\",IF(AND(#REF!<>\"\",#REF!<TODAY()),\"Retard\",\"Attente de Livraison\")))","v":""}]
[null,null,null,null,null,null,null,null,{"$f":"IF(F2728=\"\",\"\",IF(H2728<>\"\",\"OK\",IF(AND(#REF!<>\"\",#REF!<TODAY()),\"Retard\",\"Attente de Livraison\")))","v":""}]
[null,null,null,null,null,null,null,null,{"$f":"IF(F2729=\"\",\"\",IF(H2729<>\"\",\"OK\",IF(AND(#REF!<>\"\",#REF!<TODAY()),\"Retard\",\"Attente de Livraison\")))","v":""}]
[null,null,null,null,null,null,null,null,{"$f":"IF(F2730=\"\",\"\",IF(H2730<>\"\",\"OK\",IF(AND(#REF!<>\"\",#REF!<TODAY()),\"Retard\",\"Attente de Livraison\")))","v":""}]
[null,null,null,null,null,null,null,null,{"$f":"IF(F2731=\"\",\"\",IF(H2731<>\"\",\"OK\",IF(AND(#REF!<>\"\",#REF!<TODAY()),\"Retard\",\"Attente de Livraison\")))","v":""}]
[null,null,null,null,null,null,null,null,{"$f":"IF(F2732=\"\",\"\",IF(H2732<>\"\",\"OK\",IF(AND(#REF!<>\"\",#REF!<TODAY()),\"Retard\",\"Attente de Livraison\")))","v":""}]
[null,null,null,null,null,null,null,null,{"$f":"IF(F2733=\"\",\"\",IF(H2733<>\"\",\"OK\",IF(AND(#REF!<>\"\",#REF!<TODAY()),\"Retard\",\"Attente de Livraison\")))","v":""}]
[null,null,null,null,null,null,null,null,{"$f":"IF(F2734=\"\",\"\",IF(H2734<>\"\",\"OK\",IF(AND(#REF!<>\"\",#REF!<TODAY()),\"Retard\",\"Attente de Livraison\")))","v":""}]
[null,null,null,null,null,null,null,null,{"$f":"IF(F2735=\"\",\"\",IF(H2735<>\"\",\"OK\",IF(AND(#REF!<>\"\",#REF!<TODAY()),\"Retard\",\"Attente de Livraison\")))","v":""}]
[null,null,null,null,null,null,null,null,{"$f":"IF(F2736=\"\",\"\",IF(H2736<>\"\",\"OK\",IF(AND(#REF!<>\"\",#REF!<TODAY()),\"Retard\",\"Attente de Livraison\")))","v":""}]
[null,null,null,null,null,null,null,null,{"$f":"IF(F2737=\"\",\"\",IF(H2737<>\"\",\"OK\",IF(AND(#REF!<>\"\",#REF!<TODAY()),\"Retard\",\"Attente de Livraison\")))","v":""}]
[null,null,null,null,null,null,null,null,{"$f":"IF(F2738=\"\",\"\",IF(H2738<>\"\",\"OK\",IF(AND(#REF!<>\"\",#REF!<TODAY()),\"Retard\",\"Attente de Livraison\")))","v":""}]
[null,null,null,null,null,null,null,null,{"$f":"IF(F2739=\"\",\"\",IF(H2739<>\"\",\"OK\",IF(AND(#REF!<>\"\",#REF!<TODAY()),\"Retard\",\"Attente de Livraison\")))","v":""}]
[null,null,null,null,null,null,null,null,{"$f":"IF(F2740=\"\",\"\",IF(H2740<>\"\",\"OK\",IF(AND(#REF!<>\"\",#REF!<TODAY()),\"Retard\",\"Attente de Livraison\")))","v":""}]
[null,null,null,null,null,null,null,null,{"$f":"IF(F2741=\"\",\"\",IF(H2741<>\"\",\"OK\",IF(AND(#REF!<>\"\",#REF!<TODAY()),\"Retard\",\"Attente de Livraison\")))","v":""}]
[null,null,null,null,null,null,null,null,{"$f":"IF(F2742=\"\",\"\",IF(H2742<>\"\",\"OK\",IF(AND(#REF!<>\"\",#REF!<TODAY()),\"Retard\",\"Attente de Livraison\")))","v":""}]
[null,null,null,null,null,null,null,null,{"$f":"IF(F2743=\"\",\"\",IF(H2743<>\"\",\"OK\",IF(AND(#REF!<>\"\",#REF!<TODAY()),\"Retard\",\"Attente de Livraison\")))","v":""}]
[null,null,null,null,null,null,null,null,{"$f":"IF(F2744=\"\",\"\",IF(H2744<>\"\",\"OK\",IF(AND(#REF!<>\"\",#REF!<TODAY()),\"Retard\",\"Attente de Livraison\")))","v":""}]
[null,null,null,null,null,null,null,null,{"$f":"IF(F2745=\"\",\"\",IF(H2745<>\"\",\"OK\",IF(AND(#REF!<>\"\",#REF!<TODAY()),\"Retard\",\"Attente de Livraison\")))","v":""}]
[null,null,null,null,null,null,null,null,{"$f":"IF(F2746=\"\",\"\",IF(H2746<>\"\",\"OK\",IF(AND(#REF!<>\"\",#REF!<TODAY()),\"Retard\",\"Attente de Livraison\")))","v":""}]
[null,null,null,null,null,null,null,null,{"$f":"IF(F2747=\"\",\"\",IF(H2747<>\"\",\"OK\",IF(AND(#REF!<>\"\",#REF!<TODAY()),\"Retard\",\"Attente de Livraison\")))","v":""}]
[null,null,null,null,null,null,null,null,{"$f":"IF(F2748=\"\",\"\",IF(H2748<>\"\",\"OK\",IF(AND(#REF!<>\"\",#REF!<TODAY()),\"Retard\",\"Attente de Livraison\")))","v":""}]
[null,null,null,null,null,null,null,null,{"$f":"IF(F2749=\"\",\"\",IF(H2749<>\"\",\"OK\",IF(AND(#REF!<>\"\",#REF!<TODAY()),\"Retard\",\"Attente de Livraison\")))","v":""}]
[null,null,null,null,null,null,null,null,{"$f":"IF(F2750=\"\",\"\",IF(H2750<>\"\",\"OK\",IF(AND(#REF!<>\"\",#REF!<TODAY()),\"Retard\",\"Attente de Livraison\")))","v":""}]
[null,null,null,null,null,null,null,null,{"$f":"IF(F2751=\"\",\"\",IF(H2751<>\"\",\"OK\",IF(AND(#REF!<>\"\",#REF!<TODAY()),\"Retard\",\"Attente de Livraison\")))","v":""}]
[null,null,null,null,null,null,null,null,{"$f":"IF(F2752=\"\",\"\",IF(H2752<>\"\",\"OK\",IF(AND(#REF!<>\"\",#REF!<TODAY()),\"Retard\",\"Attente de Livraison\")))","v":""}]
[null,null,null,null,null,null,null,null,{"$f":"IF(F2753=\"\",\"\",IF(H2753<>\"\",\"OK\",IF(AND(#REF!<>\"\",#REF!<TODAY()),\"Retard\",\"Attente de Livraison\")))","v":""}]
[null,null,null,null,null,null,null,null,{"$f":"IF(F2754=\"\",\"\",IF(H2754<>\"\",\"OK\",IF(AND(#REF!<>\"\",#REF!<TODAY()),\"Retard\",\"Attente de Livraison\")))","v":""}]
[null,null,null,null,null,null,null,null,{"$f":"IF(F2755=\"\",\"\",IF(H2755<>\"\",\"OK\",IF(AND(#REF!<>\"\",#REF!<TODAY()),\"Retard\",\"Attente de Livraison\")))","v":""}]
[null,null,null,null,null,null,null,null,{"$f":"IF(F2756=\"\",\"\",IF(H2756<>\"\",\"OK\",IF(AND(#REF!<>\"\",#REF!<TODAY()),\"Retard\",\"Attente de Livraison\")))","v":""}]
[null,null,null,null,null,null,null,null,{"$f":"IF(F2757=\"\",\"\",IF(H2757<>\"\",\"OK\",IF(AND(#REF!<>\"\",#REF!<TODAY()),\"Retard\",\"Attente de Livraison\")))","v":""}]
[null,null,null,null,null,null,null,null,{"$f":"IF(F2758=\"\",\"\",IF(H2758<>\"\",\"OK\",IF(AND(#REF!<>\"\",#REF!<TODAY()),\"Retard\",\"Attente de Livraison\")))","v":""}]
[null,null,null,null,null,null,null,null,{"$f":"IF(F2759=\"\",\"\",IF(H2759<>\"\",\"OK\",IF(AND(#REF!<>\"\",#REF!<TODAY()),\"Retard\",\"Attente de Livraison\")))","v":""}]
[null,null,null,null,null,null,null,null,{"$f":"IF(F2760=\"\",\"\",IF(H2760<>\"\",\"OK\",IF(AND(#REF!<>\"\",#REF!<TODAY()),\"Retard\",\"Attente de Livraison\")))","v":""}]
[null,null,null,null,null,null,null,null,{"$f":"IF(F2761=\"\",\"\",IF(H2761<>\"\",\"OK\",IF(AND(#REF!<>\"\",#REF!<TODAY()),\"Retard\",\"Attente de Livraison\")))","v":""}]
[null,null,null,null,null,null,null,null,{"$f":"IF(F2762=\"\",\"\",IF(H2762<>\"\",\"OK\",IF(AND(#REF!<>\"\",#REF!<TODAY()),\"Retard\",\"Attente de Livraison\")))","v":""}]
[null,null,null,null,null,null,null,null,{"$f":"IF(F2763=\"\",\"\",IF(H2763<>\"\",\"OK\",IF(AND(#REF!<>\"\",#REF!<TODAY()),\"Retard\",\"Attente de Livraison\")))","v":""}]
[null,null,null,null,null,null,null,null,{"$f":"IF(F2764=\"\",\"\",IF(H2764<>\"\",\"OK\",IF(AND(#REF!<>\"\",#REF!<TODAY()),\"Retard\",\"Attente de Livraison\")))","v":""}]
[null,null,null,null,null,null,null,null,{"$f":"IF(F2765=\"\",\"\",IF(H2765<>\"\",\"OK\",IF(AND(#REF!<>\"\",#REF!<TODAY()),\"Retard\",\"Attente de Livraison\")))","v":""}]
[null,null,null,null,null,null,null,null,{"$f":"IF(F2766=\"\",\"\",IF(H2766<>\"\",\"OK\",IF(AND(#REF!<>\"\",#REF!<TODAY()),\"Retard\",\"Attente de Livraison\")))","v":""}]
[null,null,null,null,null,null,null,null,{"$f":"IF(F2767=\"\",\"\",IF(H2767<>\"\",\"OK\",IF(AND(#REF!<>\"\",#REF!<TODAY()),\"Retard\",\"Attente de Livraison\")))","v":""}]
[null,null,null,null,null,null,null,null,{"$f":"IF(F2768=\"\",\"\",IF(H2768<>\"\",\"OK\",IF(AND(#REF!<>\"\",#REF!<TODAY()),\"Retard\",\"Attente de Livraison\")))","v":""}]
[null,null,null,null,null,null,null,null,{"$f":"IF(F2769=\"\",\"\",IF(H2769<>\"\",\"OK\",IF(AND(#REF!<>\"\",#REF!<TODAY()),\"Retard\",\"Attente de Livraison\")))","v":""}]
[null,null,null,null,null,null,null,null,{"$f":"IF(F2770=\"\",\"\",IF(H2770<>\"\",\"OK\",IF(AND(#REF!<>\"\",#REF!<TODAY()),\"Retard\",\"Attente de Livraison\")))","v":""}]
[null,null,null,null,null,null,null,null,{"$f":"IF(F2771=\"\",\"\",IF(H2771<>\"\",\"OK\",IF(AND(#REF!<>\"\",#REF!<TODAY()),\"Retard\",\"Attente de Livraison\")))","v":""}]
[null,null,null,null,null,null,null,null,{"$f":"IF(F2772=\"\",\"\",IF(H2772<>\"\",\"OK\",IF(AND(#REF!<>\"\",#REF!<TODAY()),\"Retard\",\"Attente de Livraison\")))","v":""}]
[null,null,null,null,null,null,null,null,{"$f":"IF(F2773=\"\",\"\",IF(H2773<>\"\",\"OK\",IF(AND(#REF!<>\"\",#REF!<TODAY()),\"Retard\",\"Attente de Livraison\")))","v":""}]
[null,null,null,null,null,null,null,null,{"$f":"IF(F2774=\"\",\"\",IF(H2774<>\"\",\"OK\",IF(AND(#REF!<>\"\",#REF!<TODAY()),\"Retard\",\"Attente de Livraison\")))","v":""}]
[null,null,null,null,null,null,null,null,{"$f":"IF(F2775=\"\",\"\",IF(H2775<>\"\",\"OK\",IF(AND(#REF!<>\"\",#REF!<TODAY()),\"Retard\",\"Attente de Livraison\")))","v":""}]
[null,null,null,null,null,null,null,null,{"$f":"IF(F2776=\"\",\"\",IF(H2776<>\"\",\"OK\",IF(AND(#REF!<>\"\",#REF!<TODAY()),\"Retard\",\"Attente de Livraison\")))","v":""}]
[null,null,null,null,null,null,null,null,{"$f":"IF(F2777=\"\",\"\",IF(H2777<>\"\",\"OK\",IF(AND(#REF!<>\"\",#REF!<TODAY()),\"Retard\",\"Attente de Livraison\")))","v":""}]
[null,null,null,null,null,null,null,null,{"$f":"IF(F2778=\"\",\"\",IF(H2778<>\"\",\"OK\",IF(AND(#REF!<>\"\",#REF!<TODAY()),\"Retard\",\"Attente de Livraison\")))","v":""}]
[null,null,null,null,null,null,null,null,{"$f":"IF(F2779=\"\",\"\",IF(H2779<>\"\",\"OK\",IF(AND(#REF!<>\"\",#REF!<TODAY()),\"Retard\",\"Attente de Livraison\")))","v":""}]
[null,null,null,null,null,null,null,null,{"$f":"IF(F2780=\"\",\"\",IF(H2780<>\"\",\"OK\",IF(AND(#REF!<>\"\",#REF!<TODAY()),\"Retard\",\"Attente de Livraison\")))","v":""}]
[null,null,null,null,null,null,null,null,{"$f":"IF(F2781=\"\",\"\",IF(H2781<>\"\",\"OK\",IF(AND(#REF!<>\"\",#REF!<TODAY()),\"Retard\",\"Attente de Livraison\")))","v":""}]
[null,null,null,null,null,null,null,null,{"$f":"IF(F2782=\"\",\"\",IF(H2782<>\"\",\"OK\",IF(AND(#REF!<>\"\",#REF!<TODAY()),\"Retard\",\"Attente de Livraison\")))","v":""}]
[null,null,null,null,null,null,null,null,{"$f":"IF(F2783=\"\",\"\",IF(H2783<>\"\",\"OK\",IF(AND(#REF!<>\"\",#REF!<TODAY()),\"Retard\",\"Attente de Livraison\")))","v":""}]
[null,null,null,null,null,null,null,null,{"$f":"IF(F2784=\"\",\"\",IF(H2784<>\"\",\"OK\",IF(AND(#REF!<>\"\",#REF!<TODAY()),\"Retard\",\"Attente de Livraison\")))","v":""}]
[null,null,null,null,null,null,null,null,{"$f":"IF(F2785=\"\",\"\",IF(H2785<>\"\",\"OK\",IF(AND(#REF!<>\"\",#REF!<TODAY()),\"Retard\",\"Attente de Livraison\")))","v":""}]
[null,null,null,null,null,null,null,null,{"$f":"IF(F2786=\"\",\"\",IF(H2786<>\"\",\"OK\",IF(AND(#REF!<>\"\",#REF!<TODAY()),\"Retard\",\"Attente de Livraison\")))","v":""}]
[null,null,null,null,null,null,null,null,{"$f":"IF(F2787=\"\",\"\",IF(H2787<>\"\",\"OK\",IF(AND(#REF!<>\"\",#REF!<TODAY()),\"Retard\",\"Attente de Livraison\")))","v":""}]
[null,null,null,null,null,null,null,null,{"$f":"IF(F2788=\"\",\"\",IF(H2788<>\"\",\"OK\",IF(AND(#REF!<>\"\",#REF!<TODAY()),\"Retard\",\"Attente de Livraison\")))","v":""}]
[null,null,null,null,null,null,null,null,{"$f":"IF(F2789=\"\",\"\",IF(H2789<>\"\",\"OK\",IF(AND(#REF!<>\"\",#REF!<TODAY()),\"Retard\",\"Attente de Livraison\")))","v":""}]
[null,null,null,null,null,null,null,null,{"$f":"IF(F2790=\"\",\"\",IF(H2790<>\"\",\"OK\",IF(AND(#REF!<>\"\",#REF!<TODAY()),\"Retard\",\"Attente de Livraison\")))","v":""}]
[null,null,null,null,null,null,null,null,{"$f":"IF(F2791=\"\",\"\",IF(H2791<>\"\",\"OK\",IF(AND(#REF!<>\"\",#REF!<TODAY()),\"Retard\",\"Attente de Livraison\")))","v":""}]
[null,null,null,null,null,null,null,null,{"$f":"IF(F2792=\"\",\"\",IF(H2792<>\"\",\"OK\",IF(AND(#REF!<>\"\",#REF!<TODAY()),\"Retard\",\"Attente de Livraison\")))","v":""}]
[null,null,null,null,null,null,null,null,{"$f":"IF(F2793=\"\",\"\",IF(H2793<>\"\",\"OK\",IF(AND(#REF!<>\"\",#REF!<TODAY()),\"Retard\",\"Attente de Livraison\")))","v":""}]
[null,null,null,null,null,null,null,null,{"$f":"IF(F2794=\"\",\"\",IF(H2794<>\"\",\"OK\",IF(AND(#REF!<>\"\",#REF!<TODAY()),\"Retard\",\"Attente de Livraison\")))","v":""}]
[null,null,null,null,null,null,null,null,{"$f":"IF(F2795=\"\",\"\",IF(H2795<>\"\",\"OK\",IF(AND(#REF!<>\"\",#REF!<TODAY()),\"Retard\",\"Attente de Livraison\")))","v":""}]
[null,null,null,null,null,null,null,null,{"$f":"IF(F2796=\"\",\"\",IF(H2796<>\"\",\"OK\",IF(AND(#REF!<>\"\",#REF!<TODAY()),\"Retard\",\"Attente de Livraison\")))","v":""}]
[null,null,null,null,null,null,null,null,{"$f":"IF(F2797=\"\",\"\",IF(H2797<>\"\",\"OK\",IF(AND(#REF!<>\"\",#REF!<TODAY()),\"Retard\",\"Attente de Livraison\")))","v":""}]
[null,null,null,null,null,null,null,null,{"$f":"IF(F2798=\"\",\"\",IF(H2798<>\"\",\"OK\",IF(AND(#REF!<>\"\",#REF!<TODAY()),\"Retard\",\"Attente de Livraison\")))","v":""}]
[null,null,null,null,null,null,null,null,{"$f":"IF(F2799=\"\",\"\",IF(H2799<>\"\",\"OK\",IF(AND(#REF!<>\"\",#REF!<TODAY()),\"Retard\",\"Attente de Livraison\")))","v":""}]
[null,null,null,null,null,null,null,null,{"$f":"IF(F2800=\"\",\"\",IF(H2800<>\"\",\"OK\",IF(AND(#REF!<>\"\",#REF!<TODAY()),\"Retard\",\"Attente de Livraison\")))","v":""}]
[null,null,null,null,null,null,null,null,{"$f":"IF(F2801=\"\",\"\",IF(H2801<>\"\",\"OK\",IF(AND(#REF!<>\"\",#REF!<TODAY()),\"Retard\",\"Attente de Livraison\")))","v":""}]
[null,null,null,null,null,null,null,null,{"$f":"IF(F2802=\"\",\"\",IF(H2802<>\"\",\"OK\",IF(AND(#REF!<>\"\",#REF!<TODAY()),\"Retard\",\"Attente de Livraison\")))","v":""}]
[null,null,null,null,null,null,null,null,{"$f":"IF(F2803=\"\",\"\",IF(H2803<>\"\",\"OK\",IF(AND(#REF!<>\"\",#REF!<TODAY()),\"Retard\",\"Attente de Livraison\")))","v":""}]
[null,null,null,null,null,null,null,null,{"$f":"IF(F2804=\"\",\"\",IF(H2804<>\"\",\"OK\",IF(AND(#REF!<>\"\",#REF!<TODAY()),\"Retard\",\"Attente de Livraison\")))","v":""}]
[null,null,null,null,null,null,null,null,{"$f":"IF(F2805=\"\",\"\",IF(H2805<>\"\",\"OK\",IF(AND(#REF!<>\"\",#REF!<TODAY()),\"Retard\",\"Attente de Livraison\")))","v":""}]
[null,null,null,null,null,null,null,null,{"$f":"IF(F2806=\"\",\"\",IF(H2806<>\"\",\"OK\",IF(AND(#REF!<>\"\",#REF!<TODAY()),\"Retard\",\"Attente de Livraison\")))","v":""}]
[null,null,null,null,null,null,null,null,{"$f":"IF(F2807=\"\",\"\",IF(H2807<>\"\",\"OK\",IF(AND(#REF!<>\"\",#REF!<TODAY()),\"Retard\",\"Attente de Livraison\")))","v":""}]
[null,null,null,null,null,null,null,null,{"$f":"IF(F2808=\"\",\"\",IF(H2808<>\"\",\"OK\",IF(AND(#REF!<>\"\",#REF!<TODAY()),\"Retard\",\"Attente de Livraison\")))","v":""}]
[null,null,null,null,null,null,null,null,{"$f":"IF(F2809=\"\",\"\",IF(H2809<>\"\",\"OK\",IF(AND(#REF!<>\"\",#REF!<TODAY()),\"Retard\",\"Attente de Livraison\")))","v":""}]
[null,null,null,null,null,null,null,null,{"$f":"IF(F2810=\"\",\"\",IF(H2810<>\"\",\"OK\",IF(AND(#REF!<>\"\",#REF!<TODAY()),\"Retard\",\"Attente de Livraison\")))","v":""}]
[null,null,null,null,null,null,null,null,{"$f":"IF(F2811=\"\",\"\",IF(H2811<>\"\",\"OK\",IF(AND(#REF!<>\"\",#REF!<TODAY()),\"Retard\",\"Attente de Livraison\")))","v":""}]
[null,null,null,null,null,null,null,null,{"$f":"IF(F2812=\"\",\"\",IF(H2812<>\"\",\"OK\",IF(AND(#REF!<>\"\",#REF!<TODAY()),\"Retard\",\"Attente de Livraison\")))","v":""}]
[null,null,null,null,null,null,null,null,{"$f":"IF(F2813=\"\",\"\",IF(H2813<>\"\",\"OK\",IF(AND(#REF!<>\"\",#REF!<TODAY()),\"Retard\",\"Attente de Livraison\")))","v":""}]
[null,null,null,null,null,null,null,null,{"$f":"IF(F2814=\"\",\"\",IF(H2814<>\"\",\"OK\",IF(AND(#REF!<>\"\",#REF!<TODAY()),\"Retard\",\"Attente de Livraison\")))","v":""}]
[null,null,null,null,null,null,null,null,{"$f":"IF(F2815=\"\",\"\",IF(H2815<>\"\",\"OK\",IF(AND(#REF!<>\"\",#REF!<TODAY()),\"Retard\",\"Attente de Livraison\")))","v":""}]
[null,null,null,null,null,null,null,null,{"$f":"IF(F2816=\"\",\"\",IF(H2816<>\"\",\"OK\",IF(AND(#REF!<>\"\",#REF!<TODAY()),\"Retard\",\"Attente de Livraison\")))","v":""}]
[null,null,null,null,null,null,null,null,{"$f":"IF(F2817=\"\",\"\",IF(H2817<>\"\",\"OK\",IF(AND(#REF!<>\"\",#REF!<TODAY()),\"Retard\",\"Attente de Livraison\")))","v":""}]
[null,null,null,null,null,null,null,null,{"$f":"IF(F2818=\"\",\"\",IF(H2818<>\"\",\"OK\",IF(AND(#REF!<>\"\",#REF!<TODAY()),\"Retard\",\"Attente de Livraison\")))","v":""}]
[null,null,null,null,null,null,null,null,{"$f":"IF(F2819=\"\",\"\",IF(H2819<>\"\",\"OK\",IF(AND(#REF!<>\"\",#REF!<TODAY()),\"Retard\",\"Attente de Livraison\")))","v":""}]
[null,null,null,null,null,null,null,null,{"$f":"IF(F2820=\"\",\"\",IF(H2820<>\"\",\"OK\",IF(AND(#REF!<>\"\",#REF!<TODAY()),\"Retard\",\"Attente de Livraison\")))","v":""}]
[null,null,null,null,null,null,null,null,{"$f":"IF(F2821=\"\",\"\",IF(H2821<>\"\",\"OK\",IF(AND(#REF!<>\"\",#REF!<TODAY()),\"Retard\",\"Attente de Livraison\")))","v":""}]
[null,null,null,null,null,null,null,null,{"$f":"IF(F2822=\"\",\"\",IF(H2822<>\"\",\"OK\",IF(AND(#REF!<>\"\",#REF!<TODAY()),\"Retard\",\"Attente de Livraison\")))","v":""}]
[null,null,null,null,null,null,null,null,{"$f":"IF(F2823=\"\",\"\",IF(H2823<>\"\",\"OK\",IF(AND(#REF!<>\"\",#REF!<TODAY()),\"Retard\",\"Attente de Livraison\")))","v":""}]
[null,null,null,null,null,null,null,null,{"$f":"IF(F2824=\"\",\"\",IF(H2824<>\"\",\"OK\",IF(AND(#REF!<>\"\",#REF!<TODAY()),\"Retard\",\"Attente de Livraison\")))","v":""}]
[null,null,null,null,null,null,null,null,{"$f":"IF(F2825=\"\",\"\",IF(H2825<>\"\",\"OK\",IF(AND(#REF!<>\"\",#REF!<TODAY()),\"Retard\",\"Attente de Livraison\")))","v":""}]
[null,null,null,null,null,null,null,null,{"$f":"IF(F2826=\"\",\"\",IF(H2826<>\"\",\"OK\",IF(AND(#REF!<>\"\",#REF!<TODAY()),\"Retard\",\"Attente de Livraison\")))","v":""}]
[null,null,null,null,null,null,null,null,{"$f":"IF(F2827=\"\",\"\",IF(H2827<>\"\",\"OK\",IF(AND(#REF!<>\"\",#REF!<TODAY()),\"Retard\",\"Attente de Livraison\")))","v":""}]
[null,null,null,null,null,null,null,null,{"$f":"IF(F2828=\"\",\"\",IF(H2828<>\"\",\"OK\",IF(AND(#REF!<>\"\",#REF!<TODAY()),\"Retard\",\"Attente de Livraison\")))","v":""}]
[null,null,null,null,null,null,null,null,{"$f":"IF(F2829=\"\",\"\",IF(H2829<>\"\",\"OK\",IF(AND(#REF!<>\"\",#REF!<TODAY()),\"Retard\",\"Attente de Livraison\")))","v":""}]
[null,null,null,null,null,null,null,null,{"$f":"IF(F2830=\"\",\"\",IF(H2830<>\"\",\"OK\",IF(AND(#REF!<>\"\",#REF!<TODAY()),\"Retard\",\"Attente de Livraison\")))","v":""}]
[null,null,null,null,null,null,null,null,{"$f":"IF(F2831=\"\",\"\",IF(H2831<>\"\",\"OK\",IF(AND(#REF!<>\"\",#REF!<TODAY()),\"Retard\",\"Attente de Livraison\")))","v":""}]
[null,null,null,null,null,null,null,null,{"$f":"IF(F2832=\"\",\"\",IF(H2832<>\"\",\"OK\",IF(AND(#REF!<>\"\",#REF!<TODAY()),\"Retard\",\"Attente de Livraison\")))","v":""}]
[null,null,null,null,null,null,null,null,{"$f":"IF(F2833=\"\",\"\",IF(H2833<>\"\",\"OK\",IF(AND(#REF!<>\"\",#REF!<TODAY()),\"Retard\",\"Attente de Livraison\")))","v":""}]
[null,null,null,null,null,null,null,null,{"$f":"IF(F2834=\"\",\"\",IF(H2834<>\"\",\"OK\",IF(AND(#REF!<>\"\",#REF!<TODAY()),\"Retard\",\"Attente de Livraison\")))","v":""}]
[null,null,null,null,null,null,null,null,{"$f":"IF(F2835=\"\",\"\",IF(H2835<>\"\",\"OK\",IF(AND(#REF!<>\"\",#REF!<TODAY()),\"Retard\",\"Attente de Livraison\")))","v":""}]
[null,null,null,null,null,null,null,null,{"$f":"IF(F2836=\"\",\"\",IF(H2836<>\"\",\"OK\",IF(AND(#REF!<>\"\",#REF!<TODAY()),\"Retard\",\"Attente de Livraison\")))","v":""}]
[null,null,null,null,null,null,null,null,{"$f":"IF(F2837=\"\",\"\",IF(H2837<>\"\",\"OK\",IF(AND(#REF!<>\"\",#REF!<TODAY()),\"Retard\",\"Attente de Livraison\")))","v":""}]
[null,null,null,null,null,null,null,null,{"$f":"IF(F2838=\"\",\"\",IF(H2838<>\"\",\"OK\",IF(AND(#REF!<>\"\",#REF!<TODAY()),\"Retard\",\"Attente de Livraison\")))","v":""}]
[null,null,null,null,null,null,null,null,{"$f":"IF(F2839=\"\",\"\",IF(H2839<>\"\",\"OK\",IF(AND(#REF!<>\"\",#REF!<TODAY()),\"Retard\",\"Attente de Livraison\")))","v":""}]
[null,null,null,null,null,null,null,null,{"$f":"IF(F2840=\"\",\"\",IF(H2840<>\"\",\"OK\",IF(AND(#REF!<>\"\",#REF!<TODAY()),\"Retard\",\"Attente de Livraison\")))","v":""}]
[null,null,null,null,null,null,null,null,{"$f":"IF(F2841=\"\",\"\",IF(H2841<>\"\",\"OK\",IF(AND(#REF!<>\"\",#REF!<TODAY()),\"Retard\",\"Attente de Livraison\")))","v":""}]
[null,null,null,null,null,null,null,null,{"$f":"IF(F2842=\"\",\"\",IF(H2842<>\"\",\"OK\",IF(AND(#REF!<>\"\",#REF!<TODAY()),\"Retard\",\"Attente de Livraison\")))","v":""}]
[null,null,null,null,null,null,null,null,{"$f":"IF(F2843=\"\",\"\",IF(H2843<>\"\",\"OK\",IF(AND(#REF!<>\"\",#REF!<TODAY()),\"Retard\",\"Attente de Livraison\")))","v":""}]
[null,null,null,null,null,null,null,null,{"$f":"IF(F2844=\"\",\"\",IF(H2844<>\"\",\"OK\",IF(AND(#REF!<>\"\",#REF!<TODAY()),\"Retard\",\"Attente de Livraison\")))","v":""}]
[null,null,null,null,null,null,null,null,{"$f":"IF(F2845=\"\",\"\",IF(H2845<>\"\",\"OK\",IF(AND(#REF!<>\"\",#REF!<TODAY()),\"Retard\",\"Attente de Livraison\")))","v":""}]
[null,null,null,null,null,null,null,null,{"$f":"IF(F2846=\"\",\"\",IF(H2846<>\"\",\"OK\",IF(AND(#REF!<>\"\",#REF!<TODAY()),\"Retard\",\"Attente de Livraison\")))","v":""}]
[null,null,null,null,null,null,null,null,{"$f":"IF(F2847=\"\",\"\",IF(H2847<>\"\",\"OK\",IF(AND(#REF!<>\"\",#REF!<TODAY()),\"Retard\",\"Attente de Livraison\")))","v":""}]
[null,null,null,null,null,null,null,null,{"$f":"IF(F2848=\"\",\"\",IF(H2848<>\"\",\"OK\",IF(AND(#REF!<>\"\",#REF!<TODAY()),\"Retard\",\"Attente de Livraison\")))","v":""}]
[null,null,null,null,null,null,null,null,{"$f":"IF(F2849=\"\",\"\",IF(H2849<>\"\",\"OK\",IF(AND(#REF!<>\"\",#REF!<TODAY()),\"Retard\",\"Attente de Livraison\")))","v":""}]
[null,null,null,null,null,null,null,null,{"$f":"IF(F2850=\"\",\"\",IF(H2850<>\"\",\"OK\",IF(AND(#REF!<>\"\",#REF!<TODAY()),\"Retard\",\"Attente de Livraison\")))","v":""}]
[null,null,null,null,null,null,null,null,{"$f":"IF(F2851=\"\",\"\",IF(H2851<>\"\",\"OK\",IF(AND(#REF!<>\"\",#REF!<TODAY()),\"Retard\",\"Attente de Livraison\")))","v":""}]
[null,null,null,null,null,null,null,null,{"$f":"IF(F2852=\"\",\"\",IF(H2852<>\"\",\"OK\",IF(AND(#REF!<>\"\",#REF!<TODAY()),\"Retard\",\"Attente de Livraison\")))","v":""}]
[null,null,null,null,null,null,null,null,{"$f":"IF(F2853=\"\",\"\",IF(H2853<>\"\",\"OK\",IF(AND(#REF!<>\"\",#REF!<TODAY()),\"Retard\",\"Attente de Livraison\")))","v":""}]
[null,null,null,null,null,null,null,null,{"$f":"IF(F2854=\"\",\"\",IF(H2854<>\"\",\"OK\",IF(AND(#REF!<>\"\",#REF!<TODAY()),\"Retard\",\"Attente de Livraison\")))","v":""}]
[null,null,null,null,null,null,null,null,{"$f":"IF(F2855=\"\",\"\",IF(H2855<>\"\",\"OK\",IF(AND(#REF!<>\"\",#REF!<TODAY()),\"Retard\",\"Attente de Livraison\")))","v":""}]
[null,null,null,null,null,null,null,null,{"$f":"IF(F2856=\"\",\"\",IF(H2856<>\"\",\"OK\",IF(AND(#REF!<>\"\",#REF!<TODAY()),\"Retard\",\"Attente de Livraison\")))","v":""}]
[null,null,null,null,null,null,null,null,{"$f":"IF(F2857=\"\",\"\",IF(H2857<>\"\",\"OK\",IF(AND(#REF!<>\"\",#REF!<TODAY()),\"Retard\",\"Attente de Livraison\")))","v":""}]
[null,null,null,null,null,null,null,null,{"$f":"IF(F2858=\"\",\"\",IF(H2858<>\"\",\"OK\",IF(AND(#REF!<>\"\",#REF!<TODAY()),\"Retard\",\"Attente de Livraison\")))","v":""}]
[null,null,null,null,null,null,null,null,{"$f":"IF(F2859=\"\",\"\",IF(H2859<>\"\",\"OK\",IF(AND(#REF!<>\"\",#REF!<TODAY()),\"Retard\",\"Attente de Livraison\")))","v":""}]
[null,null,null,null,null,null,null,null,{"$f":"IF(F2860=\"\",\"\",IF(H2860<>\"\",\"OK\",IF(AND(#REF!<>\"\",#REF!<TODAY()),\"Retard\",\"Attente de Livraison\")))","v":""}]
[null,null,null,null,null,null,null,null,{"$f":"IF(F2861=\"\",\"\",IF(H2861<>\"\",\"OK\",IF(AND(#REF!<>\"\",#REF!<TODAY()),\"Retard\",\"Attente de Livraison\")))","v":""}]
[null,null,null,null,null,null,null,null,{"$f":"IF(F2862=\"\",\"\",IF(H2862<>\"\",\"OK\",IF(AND(#REF!<>\"\",#REF!<TODAY()),\"Retard\",\"Attente de Livraison\")))","v":""}]
[null,null,null,null,null,null,null,null,{"$f":"IF(F2863=\"\",\"\",IF(H2863<>\"\",\"OK\",IF(AND(#REF!<>\"\",#REF!<TODAY()),\"Retard\",\"Attente de Livraison\")))","v":""}]
[null,null,null,null,null,null,null,null,{"$f":"IF(F2864=\"\",\"\",IF(H2864<>\"\",\"OK\",IF(AND(#REF!<>\"\",#REF!<TODAY()),\"Retard\",\"Attente de Livraison\")))","v":""}]
[null,null,null,null,null,null,null,null,{"$f":"IF(F2865=\"\",\"\",IF(H2865<>\"\",\"OK\",IF(AND(#REF!<>\"\",#REF!<TODAY()),\"Retard\",\"Attente de Livraison\")))","v":""}]
[null,null,null,null,null,null,null,null,{"$f":"IF(F2866=\"\",\"\",IF(H2866<>\"\",\"OK\",IF(AND(#REF!<>\"\",#REF!<TODAY()),\"Retard\",\"Attente de Livraison\")))","v":""}]
[null,null,null,null,null,null,null,null,{"$f":"IF(F2867=\"\",\"\",IF(H2867<>\"\",\"OK\",IF(AND(#REF!<>\"\",#REF!<TODAY()),\"Retard\",\"Attente de Livraison\")))","v":""}]
[null,null,null,null,null,null,null,null,{"$f":"IF(F2868=\"\",\"\",IF(H2868<>\"\",\"OK\",IF(AND(#REF!<>\"\",#REF!<TODAY()),\"Retard\",\"Attente de Livraison\")))","v":""}]
[null,null,null,null,null,null,null,null,{"$f":"IF(F2869=\"\",\"\",IF(H2869<>\"\",\"OK\",IF(AND(#REF!<>\"\",#REF!<TODAY()),\"Retard\",\"Attente de Livraison\")))","v":""}]
[null,null,null,null,null,null,null,null,{"$f":"IF(F2870=\"\",\"\",IF(H2870<>\"\",\"OK\",IF(AND(#REF!<>\"\",#REF!<TODAY()),\"Retard\",\"Attente de Livraison\")))","v":""}]
[null,null,null,null,null,null,null,null,{"$f":"IF(F2871=\"\",\"\",IF(H2871<>\"\",\"OK\",IF(AND(#REF!<>\"\",#REF!<TODAY()),\"Retard\",\"Attente de Livraison\")))","v":""}]
[null,null,null,null,null,null,null,null,{"$f":"IF(F2872=\"\",\"\",IF(H2872<>\"\",\"OK\",IF(AND(#REF!<>\"\",#REF!<TODAY()),\"Retard\",\"Attente de Livraison\")))","v":""}]
[null,null,null,null,null,null,null,null,{"$f":"IF(F2873=\"\",\"\",IF(H2873<>\"\",\"OK\",IF(AND(#REF!<>\"\",#REF!<TODAY()),\"Retard\",\"Attente de Livraison\")))","v":""}]
[null,null,null,null,null,null,null,null,{"$f":"IF(F2874=\"\",\"\",IF(H2874<>\"\",\"OK\",IF(AND(#REF!<>\"\",#REF!<TODAY()),\"Retard\",\"Attente de Livraison\")))","v":""}]
[null,null,null,null,null,null,null,null,{"$f":"IF(F2875=\"\",\"\",IF(H2875<>\"\",\"OK\",IF(AND(#REF!<>\"\",#REF!<TODAY()),\"Retard\",\"Attente de Livraison\")))","v":""}]
[null,null,null,null,null,null,null,null,{"$f":"IF(F2876=\"\",\"\",IF(H2876<>\"\",\"OK\",IF(AND(#REF!<>\"\",#REF!<TODAY()),\"Retard\",\"Attente de Livraison\")))","v":""}]
[null,null,null,null,null,null,null,null,{"$f":"IF(F2877=\"\",\"\",IF(H2877<>\"\",\"OK\",IF(AND(#REF!<>\"\",#REF!<TODAY()),\"Retard\",\"Attente de Livraison\")))","v":""}]
[null,null,null,null,null,null,null,null,{"$f":"IF(F2878=\"\",\"\",IF(H2878<>\"\",\"OK\",IF(AND(#REF!<>\"\",#REF!<TODAY()),\"Retard\",\"Attente de Livraison\")))","v":""}]
[null,null,null,null,null,null,null,null,{"$f":"IF(F2879=\"\",\"\",IF(H2879<>\"\",\"OK\",IF(AND(#REF!<>\"\",#REF!<TODAY()),\"Retard\",\"Attente de Livraison\")))","v":""}]
[null,null,null,null,null,null,null,null,{"$f":"IF(F2880=\"\",\"\",IF(H2880<>\"\",\"OK\",IF(AND(#REF!<>\"\",#REF!<TODAY()),\"Retard\",\"Attente de Livraison\")))","v":""}]
[null,null,null,null,null,null,null,null,{"$f":"IF(F2881=\"\",\"\",IF(H2881<>\"\",\"OK\",IF(AND(#REF!<>\"\",#REF!<TODAY()),\"Retard\",\"Attente de Livraison\")))","v":""}]
[null,null,null,null,null,null,null,null,{"$f":"IF(F2882=\"\",\"\",IF(H2882<>\"\",\"OK\",IF(AND(#REF!<>\"\",#REF!<TODAY()),\"Retard\",\"Attente de Livraison\")))","v":""}]
[null,null,null,null,null,null,null,null,{"$f":"IF(F2883=\"\",\"\",IF(H2883<>\"\",\"OK\",IF(AND(#REF!<>\"\",#REF!<TODAY()),\"Retard\",\"Attente de Livraison\")))","v":""}]
[null,null,null,null,null,null,null,null,{"$f":"IF(F2884=\"\",\"\",IF(H2884<>\"\",\"OK\",IF(AND(#REF!<>\"\",#REF!<TODAY()),\"Retard\",\"Attente de Livraison\")))","v":""}]
[null,null,null,null,null,null,null,null,{"$f":"IF(F2885=\"\",\"\",IF(H2885<>\"\",\"OK\",IF(AND(#REF!<>\"\",#REF!<TODAY()),\"Retard\",\"Attente de Livraison\")))","v":""}]
[null,null,null,null,null,null,null,null,{"$f":"IF(F2886=\"\",\"\",IF(H2886<>\"\",\"OK\",IF(AND(#REF!<>\"\",#REF!<TODAY()),\"Retard\",\"Attente de Livraison\")))","v":""}]
[null,null,null,null,null,null,null,null,{"$f":"IF(F2887=\"\",\"\",IF(H2887<>\"\",\"OK\",IF(AND(#REF!<>\"\",#REF!<TODAY()),\"Retard\",\"Attente de Livraison\")))","v":""}]
[null,null,null,null,null,null,null,null,{"$f":"IF(F2888=\"\",\"\",IF(H2888<>\"\",\"OK\",IF(AND(#REF!<>\"\",#REF!<TODAY()),\"Retard\",\"Attente de Livraison\")))","v":""}]
[null,null,null,null,null,null,null,null,{"$f":"IF(F2889=\"\",\"\",IF(H2889<>\"\",\"OK\",IF(AND(#REF!<>\"\",#REF!<TODAY()),\"Retard\",\"Attente de Livraison\")))","v":""}]
[null,null,null,null,null,null,null,null,{"$f":"IF(F2890=\"\",\"\",IF(H2890<>\"\",\"OK\",IF(AND(#REF!<>\"\",#REF!<TODAY()),\"Retard\",\"Attente de Livraison\")))","v":""}]
[null,null,null,null,null,null,null,null,{"$f":"IF(F2891=\"\",\"\",IF(H2891<>\"\",\"OK\",IF(AND(#REF!<>\"\",#REF!<TODAY()),\"Retard\",\"Attente de Livraison\")))","v":""}]
[null,null,null,null,null,null,null,null,{"$f":"IF(F2892=\"\",\"\",IF(H2892<>\"\",\"OK\",IF(AND(#REF!<>\"\",#REF!<TODAY()),\"Retard\",\"Attente de Livraison\")))","v":""}]
[null,null,null,null,null,null,null,null,{"$f":"IF(F2893=\"\",\"\",IF(H2893<>\"\",\"OK\",IF(AND(#REF!<>\"\",#REF!<TODAY()),\"Retard\",\"Attente de Livraison\")))","v":""}]
[null,null,null,null,null,null,null,null,{"$f":"IF(F2894=\"\",\"\",IF(H2894<>\"\",\"OK\",IF(AND(#REF!<>\"\",#REF!<TODAY()),\"Retard\",\"Attente de Livraison\")))","v":""}]
[null,null,null,null,null,null,null,null,{"$f":"IF(F2895=\"\",\"\",IF(H2895<>\"\",\"OK\",IF(AND(#REF!<>\"\",#REF!<TODAY()),\"Retard\",\"Attente de Livraison\")))","v":""}]
[null,null,null,null,null,null,null,null,{"$f":"IF(F2896=\"\",\"\",IF(H2896<>\"\",\"OK\",IF(AND(#REF!<>\"\",#REF!<TODAY()),\"Retard\",\"Attente de Livraison\")))","v":""}]
[null,null,null,null,null,null,null,null,{"$f":"IF(F2897=\"\",\"\",IF(H2897<>\"\",\"OK\",IF(AND(#REF!<>\"\",#REF!<TODAY()),\"Retard\",\"Attente de Livraison\")))","v":""}]
[null,null,null,null,null,null,null,null,{"$f":"IF(F2898=\"\",\"\",IF(H2898<>\"\",\"OK\",IF(AND(#REF!<>\"\",#REF!<TODAY()),\"Retard\",\"Attente de Livraison\")))","v":""}]
[null,null,null,null,null,null,null,null,{"$f":"IF(F2899=\"\",\"\",IF(H2899<>\"\",\"OK\",IF(AND(#REF!<>\"\",#REF!<TODAY()),\"Retard\",\"Attente de Livraison\")))","v":""}]
[null,null,null,null,null,null,null,null,{"$f":"IF(F2900=\"\",\"\",IF(H2900<>\"\",\"OK\",IF(AND(#REF!<>\"\",#REF!<TODAY()),\"Retard\",\"Attente de Livraison\")))","v":""}]
[null,null,null,null,null,null,null,null,{"$f":"IF(F2901=\"\",\"\",IF(H2901<>\"\",\"OK\",IF(AND(#REF!<>\"\",#REF!<TODAY()),\"Retard\",\"Attente de Livraison\")))","v":""}]
[null,null,null,null,null,null,null,null,{"$f":"IF(F2902=\"\",\"\",IF(H2902<>\"\",\"OK\",IF(AND(#REF!<>\"\",#REF!<TODAY()),\"Retard\",\"Attente de Livraison\")))","v":""}]
[null,null,null,null,null,null,null,null,{"$f":"IF(F2903=\"\",\"\",IF(H2903<>\"\",\"OK\",IF(AND(#REF!<>\"\",#REF!<TODAY()),\"Retard\",\"Attente de Livraison\")))","v":""}]
[null,null,null,null,null,null,null,null,{"$f":"IF(F2904=\"\",\"\",IF(H2904<>\"\",\"OK\",IF(AND(#REF!<>\"\",#REF!<TODAY()),\"Retard\",\"Attente de Livraison\")))","v":""}]
[null,null,null,null,null,null,null,null,{"$f":"IF(F2905=\"\",\"\",IF(H2905<>\"\",\"OK\",IF(AND(#REF!<>\"\",#REF!<TODAY()),\"Retard\",\"Attente de Livraison\")))","v":""}]
[null,null,null,null,null,null,null,null,{"$f":"IF(F2906=\"\",\"\",IF(H2906<>\"\",\"OK\",IF(AND(#REF!<>\"\",#REF!<TODAY()),\"Retard\",\"Attente de Livraison\")))","v":""}]
[null,null,null,null,null,null,null,null,{"$f":"IF(F2907=\"\",\"\",IF(H2907<>\"\",\"OK\",IF(AND(#REF!<>\"\",#REF!<TODAY()),\"Retard\",\"Attente de Livraison\")))","v":""}]
[null,null,null,null,null,null,null,null,{"$f":"IF(F2908=\"\",\"\",IF(H2908<>\"\",\"OK\",IF(AND(#REF!<>\"\",#REF!<TODAY()),\"Retard\",\"Attente de Livraison\")))","v":""}]
[null,null,null,null,null,null,null,null,{"$f":"IF(F2909=\"\",\"\",IF(H2909<>\"\",\"OK\",IF(AND(#REF!<>\"\",#REF!<TODAY()),\"Retard\",\"Attente de Livraison\")))","v":""}]
[null,null,null,null,null,null,null,null,{"$f":"IF(F2910=\"\",\"\",IF(H2910<>\"\",\"OK\",IF(AND(#REF!<>\"\",#REF!<TODAY()),\"Retard\",\"Attente de Livraison\")))","v":""}]
[null,null,null,null,null,null,null,null,{"$f":"IF(F2911=\"\",\"\",IF(H2911<>\"\",\"OK\",IF(AND(#REF!<>\"\",#REF!<TODAY()),\"Retard\",\"Attente de Livraison\")))","v":""}]
[null,null,null,null,null,null,null,null,{"$f":"IF(F2912=\"\",\"\",IF(H2912<>\"\",\"OK\",IF(AND(#REF!<>\"\",#REF!<TODAY()),\"Retard\",\"Attente de Livraison\")))","v":""}]
[null,null,null,null,null,null,null,null,{"$f":"IF(F2913=\"\",\"\",IF(H2913<>\"\",\"OK\",IF(AND(#REF!<>\"\",#REF!<TODAY()),\"Retard\",\"Attente de Livraison\")))","v":""}]
[null,null,null,null,null,null,null,null,{"$f":"IF(F2914=\"\",\"\",IF(H2914<>\"\",\"OK\",IF(AND(#REF!<>\"\",#REF!<TODAY()),\"Retard\",\"Attente de Livraison\")))","v":""}]
[null,null,null,null,null,null,null,null,{"$f":"IF(F2915=\"\",\"\",IF(H2915<>\"\",\"OK\",IF(AND(#REF!<>\"\",#REF!<TODAY()),\"Retard\",\"Attente de Livraison\")))","v":""}]
[null,null,null,null,null,null,null,null,{"$f":"IF(F2916=\"\",\"\",IF(H2916<>\"\",\"OK\",IF(AND(#REF!<>\"\",#REF!<TODAY()),\"Retard\",\"Attente de Livraison\")))","v":""}]
[null,null,null,null,null,null,null,null,{"$f":"IF(F2917=\"\",\"\",IF(H2917<>\"\",\"OK\",IF(AND(#REF!<>\"\",#REF!<TODAY()),\"Retard\",\"Attente de Livraison\")))","v":""}]
[null,null,null,null,null,null,null,null,{"$f":"IF(F2918=\"\",\"\",IF(H2918<>\"\",\"OK\",IF(AND(#REF!<>\"\",#REF!<TODAY()),\"Retard\",\"Attente de Livraison\")))","v":""}]
[null,null,null,null,null,null,null,null,{"$f":"IF(F2919=\"\",\"\",IF(H2919<>\"\",\"OK\",IF(AND(#REF!<>\"\",#REF!<TODAY()),\"Retard\",\"Attente de Livraison\")))","v":""}]
[null,null,null,null,null,null,null,null,{"$f":"IF(F2920=\"\",\"\",IF(H2920<>\"\",\"OK\",IF(AND(#REF!<>\"\",#REF!<TODAY()),\"Retard\",\"Attente de Livraison\")))","v":""}]
[null,null,null,null,null,null,null,null,{"$f":"IF(F2921=\"\",\"\",IF(H2921<>\"\",\"OK\",IF(AND(#REF!<>\"\",#REF!<TODAY()),\"Retard\",\"Attente de Livraison\")))","v":""}]
[null,null,null,null,null,null,null,null,{"$f":"IF(F2922=\"\",\"\",IF(H2922<>\"\",\"OK\",IF(AND(#REF!<>\"\",#REF!<TODAY()),\"Retard\",\"Attente de Livraison\")))","v":""}]
[null,null,null,null,null,null,null,null,{"$f":"IF(F2923=\"\",\"\",IF(H2923<>\"\",\"OK\",IF(AND(#REF!<>\"\",#REF!<TODAY()),\"Retard\",\"Attente de Livraison\")))","v":""}]
[null,null,null,null,null,null,null,null,{"$f":"IF(F2924=\"\",\"\",IF(H2924<>\"\",\"OK\",IF(AND(#REF!<>\"\",#REF!<TODAY()),\"Retard\",\"Attente de Livraison\")))","v":""}]
[null,null,null,null,null,null,null,null,{"$f":"IF(F2925=\"\",\"\",IF(H2925<>\"\",\"OK\",IF(AND(#REF!<>\"\",#REF!<TODAY()),\"Retard\",\"Attente de Livraison\")))","v":""}]
[null,null,null,null,null,null,null,null,{"$f":"IF(F2926=\"\",\"\",IF(H2926<>\"\",\"OK\",IF(AND(#REF!<>\"\",#REF!<TODAY()),\"Retard\",\"Attente de Livraison\")))","v":""}]
[null,null,null,null,null,null,null,null,{"$f":"IF(F2927=\"\",\"\",IF(H2927<>\"\",\"OK\",IF(AND(#REF!<>\"\",#REF!<TODAY()),\"Retard\",\"Attente de Livraison\")))","v":""}]
[null,null,null,null,null,null,null,null,{"$f":"IF(F2928=\"\",\"\",IF(H2928<>\"\",\"OK\",IF(AND(#REF!<>\"\",#REF!<TODAY()),\"Retard\",\"Attente de Livraison\")))","v":""}]
[null,null,null,null,null,null,null,null,{"$f":"IF(F2929=\"\",\"\",IF(H2929<>\"\",\"OK\",IF(AND(#REF!<>\"\",#REF!<TODAY()),\"Retard\",\"Attente de Livraison\")))","v":""}]
[null,null,null,null,null,null,null,null,{"$f":"IF(F2930=\"\",\"\",IF(H2930<>\"\",\"OK\",IF(AND(#REF!<>\"\",#REF!<TODAY()),\"Retard\",\"Attente de Livraison\")))","v":""}]
[null,null,null,null,null,null,null,null,{"$f":"IF(F2931=\"\",\"\",IF(H2931<>\"\",\"OK\",IF(AND(#REF!<>\"\",#REF!<TODAY()),\"Retard\",\"Attente de Livraison\")))","v":""}]
[null,null,null,null,null,null,null,null,{"$f":"IF(F2932=\"\",\"\",IF(H2932<>\"\",\"OK\",IF(AND(#REF!<>\"\",#REF!<TODAY()),\"Retard\",\"Attente de Livraison\")))","v":""}]
[null,null,null,null,null,null,null,null,{"$f":"IF(F2933=\"\",\"\",IF(H2933<>\"\",\"OK\",IF(AND(#REF!<>\"\",#REF!<TODAY()),\"Retard\",\"Attente de Livraison\")))","v":""}]
[null,null,null,null,null,null,null,null,{"$f":"IF(F2934=\"\",\"\",IF(H2934<>\"\",\"OK\",IF(AND(#REF!<>\"\",#REF!<TODAY()),\"Retard\",\"Attente de Livraison\")))","v":""}]
[null,null,null,null,null,null,null,null,{"$f":"IF(F2935=\"\",\"\",IF(H2935<>\"\",\"OK\",IF(AND(#REF!<>\"\",#REF!<TODAY()),\"Retard\",\"Attente de Livraison\")))","v":""}]
[null,null,null,null,null,null,null,null,{"$f":"IF(F2936=\"\",\"\",IF(H2936<>\"\",\"OK\",IF(AND(#REF!<>\"\",#REF!<TODAY()),\"Retard\",\"Attente de Livraison\")))","v":""}]
[null,null,null,null,null,null,null,null,{"$f":"IF(F2937=\"\",\"\",IF(H2937<>\"\",\"OK\",IF(AND(#REF!<>\"\",#REF!<TODAY()),\"Retard\",\"Attente de Livraison\")))","v":""}]
[null,null,null,null,null,null,null,null,{"$f":"IF(F2938=\"\",\"\",IF(H2938<>\"\",\"OK\",IF(AND(#REF!<>\"\",#REF!<TODAY()),\"Retard\",\"Attente de Livraison\")))","v":""}]
[null,null,null,null,null,null,null,null,{"$f":"IF(F2939=\"\",\"\",IF(H2939<>\"\",\"OK\",IF(AND(#REF!<>\"\",#REF!<TODAY()),\"Retard\",\"Attente de Livraison\")))","v":""}]
[null,null,null,null,null,null,null,null,{"$f":"IF(F2940=\"\",\"\",IF(H2940<>\"\",\"OK\",IF(AND(#REF!<>\"\",#REF!<TODAY()),\"Retard\",\"Attente de Livraison\")))","v":""}]
[null,null,null,null,null,null,null,null,{"$f":"IF(F2941=\"\",\"\",IF(H2941<>\"\",\"OK\",IF(AND(#REF!<>\"\",#REF!<TODAY()),\"Retard\",\"Attente de Livraison\")))","v":""}]
[null,null,null,null,null,null,null,null,{"$f":"IF(F2942=\"\",\"\",IF(H2942<>\"\",\"OK\",IF(AND(#REF!<>\"\",#REF!<TODAY()),\"Retard\",\"Attente de Livraison\")))","v":""}]
[null,null,null,null,null,null,null,null,{"$f":"IF(F2943=\"\",\"\",IF(H2943<>\"\",\"OK\",IF(AND(#REF!<>\"\",#REF!<TODAY()),\"Retard\",\"Attente de Livraison\")))","v":""}]
[null,null,null,null,null,null,null,null,{"$f":"IF(F2944=\"\",\"\",IF(H2944<>\"\",\"OK\",IF(AND(#REF!<>\"\",#REF!<TODAY()),\"Retard\",\"Attente de Livraison\")))","v":""}]
[null,null,null,null,null,null,null,null,{"$f":"IF(F2945=\"\",\"\",IF(H2945<>\"\",\"OK\",IF(AND(#REF!<>\"\",#REF!<TODAY()),\"Retard\",\"Attente de Livraison\")))","v":""}]
[null,null,null,null,null,null,null,null,{"$f":"IF(F2946=\"\",\"\",IF(H2946<>\"\",\"OK\",IF(AND(#REF!<>\"\",#REF!<TODAY()),\"Retard\",\"Attente de Livraison\")))","v":""}]
[null,null,null,null,null,null,null,null,{"$f":"IF(F2947=\"\",\"\",IF(H2947<>\"\",\"OK\",IF(AND(#REF!<>\"\",#REF!<TODAY()),\"Retard\",\"Attente de Livraison\")))","v":""}]
[null,null,null,null,null,null,null,null,{"$f":"IF(F2948=\"\",\"\",IF(H2948<>\"\",\"OK\",IF(AND(#REF!<>\"\",#REF!<TODAY()),\"Retard\",\"Attente de Livraison\")))","v":""}]
[null,null,null,null,null,null,null,null,{"$f":"IF(F2949=\"\",\"\",IF(H2949<>\"\",\"OK\",IF(AND(#REF!<>\"\",#REF!<TODAY()),\"Retard\",\"Attente de Livraison\")))","v":""}]
[null,null,null,null,null,null,null,null,{"$f":"IF(F2950=\"\",\"\",IF(H2950<>\"\",\"OK\",IF(AND(#REF!<>\"\",#REF!<TODAY()),\"Retard\",\"Attente de Livraison\")))","v":""}]
[null,null,null,null,null,null,null,null,{"$f":"IF(F2951=\"\",\"\",IF(H2951<>\"\",\"OK\",IF(AND(#REF!<>\"\",#REF!<TODAY()),\"Retard\",\"Attente de Livraison\")))","v":""}]
[null,null,null,null,null,null,null,null,{"$f":"IF(F2952=\"\",\"\",IF(H2952<>\"\",\"OK\",IF(AND(#REF!<>\"\",#REF!<TODAY()),\"Retard\",\"Attente de Livraison\")))","v":""}]
[null,null,null,null,null,null,null,null,{"$f":"IF(F2953=\"\",\"\",IF(H2953<>\"\",\"OK\",IF(AND(#REF!<>\"\",#REF!<TODAY()),\"Retard\",\"Attente de Livraison\")))","v":""}]
[null,null,null,null,null,null,null,null,{"$f":"IF(F2954=\"\",\"\",IF(H2954<>\"\",\"OK\",IF(AND(#REF!<>\"\",#REF!<TODAY()),\"Retard\",\"Attente de Livraison\")))","v":""}]
[null,null,null,null,null,null,null,null,{"$f":"IF(F2955=\"\",\"\",IF(H2955<>\"\",\"OK\",IF(AND(#REF!<>\"\",#REF!<TODAY()),\"Retard\",\"Attente de Livraison\")))","v":""}]
[null,null,null,null,null,null,null,null,{"$f":"IF(F2956=\"\",\"\",IF(H2956<>\"\",\"OK\",IF(AND(#REF!<>\"\",#REF!<TODAY()),\"Retard\",\"Attente de Livraison\")))","v":""}]
[null,null,null,null,null,null,null,null,{"$f":"IF(F2957=\"\",\"\",IF(H2957<>\"\",\"OK\",IF(AND(#REF!<>\"\",#REF!<TODAY()),\"Retard\",\"Attente de Livraison\")))","v":""}]
[null,null,null,null,null,null,null,null,{"$f":"IF(F2958=\"\",\"\",IF(H2958<>\"\",\"OK\",IF(AND(#REF!<>\"\",#REF!<TODAY()),\"Retard\",\"Attente de Livraison\")))","v":""}]
[null,null,null,null,null,null,null,null,{"$f":"IF(F2959=\"\",\"\",IF(H2959<>\"\",\"OK\",IF(AND(#REF!<>\"\",#REF!<TODAY()),\"Retard\",\"Attente de Livraison\")))","v":""}]
[null,null,null,null,null,null,null,null,{"$f":"IF(F2960=\"\",\"\",IF(H2960<>\"\",\"OK\",IF(AND(#REF!<>\"\",#REF!<TODAY()),\"Retard\",\"Attente de Livraison\")))","v":""}]
[null,null,null,null,null,null,null,null,{"$f":"IF(F2961=\"\",\"\",IF(H2961<>\"\",\"OK\",IF(AND(#REF!<>\"\",#REF!<TODAY()),\"Retard\",\"Attente de Livraison\")))","v":""}]
[null,null,null,null,null,null,null,null,{"$f":"IF(F2962=\"\",\"\",IF(H2962<>\"\",\"OK\",IF(AND(#REF!<>\"\",#REF!<TODAY()),\"Retard\",\"Attente de Livraison\")))","v":""}]
[null,null,null,null,null,null,null,null,{"$f":"IF(F2963=\"\",\"\",IF(H2963<>\"\",\"OK\",IF(AND(#REF!<>\"\",#REF!<TODAY()),\"Retard\",\"Attente de Livraison\")))","v":""}]
[null,null,null,null,null,null,null,null,{"$f":"IF(F2964=\"\",\"\",IF(H2964<>\"\",\"OK\",IF(AND(#REF!<>\"\",#REF!<TODAY()),\"Retard\",\"Attente de Livraison\")))","v":""}]
[null,null,null,null,null,null,null,null,{"$f":"IF(F2965=\"\",\"\",IF(H2965<>\"\",\"OK\",IF(AND(#REF!<>\"\",#REF!<TODAY()),\"Retard\",\"Attente de Livraison\")))","v":""}]
[null,null,null,null,null,null,null,null,{"$f":"IF(F2966=\"\",\"\",IF(H2966<>\"\",\"OK\",IF(AND(#REF!<>\"\",#REF!<TODAY()),\"Retard\",\"Attente de Livraison\")))","v":""}]
[null,null,null,null,null,null,null,null,{"$f":"IF(F2967=\"\",\"\",IF(H2967<>\"\",\"OK\",IF(AND(#REF!<>\"\",#REF!<TODAY()),\"Retard\",\"Attente de Livraison\")))","v":""}]
[null,null,null,null,null,null,null,null,{"$f":"IF(F2968=\"\",\"\",IF(H2968<>\"\",\"OK\",IF(AND(#REF!<>\"\",#REF!<TODAY()),\"Retard\",\"Attente de Livraison\")))","v":""}]
[null,null,null,null,null,null,null,null,{"$f":"IF(F2969=\"\",\"\",IF(H2969<>\"\",\"OK\",IF(AND(#REF!<>\"\",#REF!<TODAY()),\"Retard\",\"Attente de Livraison\")))","v":""}]
[null,null,null,null,null,null,null,null,{"$f":"IF(F2970=\"\",\"\",IF(H2970<>\"\",\"OK\",IF(AND(#REF!<>\"\",#REF!<TODAY()),\"Retard\",\"Attente de Livraison\")))","v":""}]
[null,null,null,null,null,null,null,null,{"$f":"IF(F2971=\"\",\"\",IF(H2971<>\"\",\"OK\",IF(AND(#REF!<>\"\",#REF!<TODAY()),\"Retard\",\"Attente de Livraison\")))","v":""}]
[null,null,null,null,null,null,null,null,{"$f":"IF(F2972=\"\",\"\",IF(H2972<>\"\",\"OK\",IF(AND(#REF!<>\"\",#REF!<TODAY()),\"Retard\",\"Attente de Livraison\")))","v":""}]
[null,null,null,null,null,null,null,null,{"$f":"IF(F2973=\"\",\"\",IF(H2973<>\"\",\"OK\",IF(AND(#REF!<>\"\",#REF!<TODAY()),\"Retard\",\"Attente de Livraison\")))","v":""}]
[null,null,null,null,null,null,null,null,{"$f":"IF(F2974=\"\",\"\",IF(H2974<>\"\",\"OK\",IF(AND(#REF!<>\"\",#REF!<TODAY()),\"Retard\",\"Attente de Livraison\")))","v":""}]
[null,null,null,null,null,null,null,null,{"$f":"IF(F2975=\"\",\"\",IF(H2975<>\"\",\"OK\",IF(AND(#REF!<>\"\",#REF!<TODAY()),\"Retard\",\"Attente de Livraison\")))","v":""}]
[null,null,null,null,null,null,null,null,{"$f":"IF(F2976=\"\",\"\",IF(H2976<>\"\",\"OK\",IF(AND(#REF!<>\"\",#REF!<TODAY()),\"Retard\",\"Attente de Livraison\")))","v":""}]
[null,null,null,null,null,null,null,null,{"$f":"IF(F2977=\"\",\"\",IF(H2977<>\"\",\"OK\",IF(AND(#REF!<>\"\",#REF!<TODAY()),\"Retard\",\"Attente de Livraison\")))","v":""}]
[null,null,null,null,null,null,null,null,{"$f":"IF(F2978=\"\",\"\",IF(H2978<>\"\",\"OK\",IF(AND(#REF!<>\"\",#REF!<TODAY()),\"Retard\",\"Attente de Livraison\")))","v":""}]
[null,null,null,null,null,null,null,null,{"$f":"IF(F2979=\"\",\"\",IF(H2979<>\"\",\"OK\",IF(AND(#REF!<>\"\",#REF!<TODAY()),\"Retard\",\"Attente de Livraison\")))","v":""}]
[null,null,null,null,null,null,null,null,{"$f":"IF(F2980=\"\",\"\",IF(H2980<>\"\",\"OK\",IF(AND(#REF!<>\"\",#REF!<TODAY()),\"Retard\",\"Attente de Livraison\")))","v":""}]
[null,null,null,null,null,null,null,null,{"$f":"IF(F2981=\"\",\"\",IF(H2981<>\"\",\"OK\",IF(AND(#REF!<>\"\",#REF!<TODAY()),\"Retard\",\"Attente de Livraison\")))","v":""}]
[null,null,null,null,null,null,null,null,{"$f":"IF(F2982=\"\",\"\",IF(H2982<>\"\",\"OK\",IF(AND(#REF!<>\"\",#REF!<TODAY()),\"Retard\",\"Attente de Livraison\")))","v":""}]
[null,null,null,null,null,null,null,null,{"$f":"IF(F2983=\"\",\"\",IF(H2983<>\"\",\"OK\",IF(AND(#REF!<>\"\",#REF!<TODAY()),\"Retard\",\"Attente de Livraison\")))","v":""}]
[null,null,null,null,null,null,null,null,{"$f":"IF(F2984=\"\",\"\",IF(H2984<>\"\",\"OK\",IF(AND(#REF!<>\"\",#REF!<TODAY()),\"Retard\",\"Attente de Livraison\")))","v":""}]
[null,null,null,null,null,null,null,null,{"$f":"IF(F2985=\"\",\"\",IF(H2985<>\"\",\"OK\",IF(AND(#REF!<>\"\",#REF!<TODAY()),\"Retard\",\"Attente de Livraison\")))","v":""}]
[null,null,null,null,null,null,null,null,{"$f":"IF(F2986=\"\",\"\",IF(H2986<>\"\",\"OK\",IF(AND(#REF!<>\"\",#REF!<TODAY()),\"Retard\",\"Attente de Livraison\")))","v":""}]
[null,null,null,null,null,null,null,null,{"$f":"IF(F2987=\"\",\"\",IF(H2987<>\"\",\"OK\",IF(AND(#REF!<>\"\",#REF!<TODAY()),\"Retard\",\"Attente de Livraison\")))","v":""}]
[null,null,null,null,null,null,null,null,{"$f":"IF(F2988=\"\",\"\",IF(H2988<>\"\",\"OK\",IF(AND(#REF!<>\"\",#REF!<TODAY()),\"Retard\",\"Attente de Livraison\")))","v":""}]
[null,null,null,null,null,null,null,null,{"$f":"IF(F2989=\"\",\"\",IF(H2989<>\"\",\"OK\",IF(AND(#REF!<>\"\",#REF!<TODAY()),\"Retard\",\"Attente de Livraison\")))","v":""}]
[null,null,null,null,null,null,null,null,{"$f":"IF(F2990=\"\",\"\",IF(H2990<>\"\",\"OK\",IF(AND(#REF!<>\"\",#REF!<TODAY()),\"Retard\",\"Attente de Livraison\")))","v":""}]
[null,null,null,null,null,null,null,null,{"$f":"IF(F2991=\"\",\"\",IF(H2991<>\"\",\"OK\",IF(AND(#REF!<>\"\",#REF!<TODAY()),\"Retard\",\"Attente de Livraison\")))","v":""}]
[null,null,null,null,null,null,null,null,{"$f":"IF(F2992=\"\",\"\",IF(H2992<>\"\",\"OK\",IF(AND(#REF!<>\"\",#REF!<TODAY()),\"Retard\",\"Attente de Livraison\")))","v":""}]
[null,null,null,null,null,null,null,null,{"$f":"IF(F2993=\"\",\"\",IF(H2993<>\"\",\"OK\",IF(AND(#REF!<>\"\",#REF!<TODAY()),\"Retard\",\"Attente de Livraison\")))","v":""}]
[null,null,null,null,null,null,null,null,{"$f":"IF(F2994=\"\",\"\",IF(H2994<>\"\",\"OK\",IF(AND(#REF!<>\"\",#REF!<TODAY()),\"Retard\",\"Attente de Livraison\")))","v":""}]
[null,null,null,null,null,null,null,null,{"$f":"IF(F2995=\"\",\"\",IF(H2995<>\"\",\"OK\",IF(AND(#REF!<>\"\",#REF!<TODAY()),\"Retard\",\"Attente de Livraison\")))","v":""}]
[null,null,null,null,null,null,null,null,{"$f":"IF(F2996=\"\",\"\",IF(H2996<>\"\",\"OK\",IF(AND(#REF!<>\"\",#REF!<TODAY()),\"Retard\",\"Attente de Livraison\")))","v":""}]
[null,null,null,null,null,null,null,null,{"$f":"IF(F2997=\"\",\"\",IF(H2997<>\"\",\"OK\",IF(AND(#REF!<>\"\",#REF!<TODAY()),\"Retard\",\"Attente de Livraison\")))","v":""}]
[null,null,null,null,null,null,null,null,{"$f":"IF(F2998=\"\",\"\",IF(H2998<>\"\",\"OK\",IF(AND(#REF!<>\"\",#REF!<TODAY()),\"Retard\",\"Attente de Livraison\")))","v":""}]
[null,null,null,null,null,null,null,null,{"$f":"IF(F2999=\"\",\"\",IF(H2999<>\"\",\"OK\",IF(AND(#REF!<>\"\",#REF!<TODAY()),\"Retard\",\"Attente de Livraison\")))","v":""}]
[null,null,null,null,null,null,null,null,{"$f":"IF(F3000=\"\",\"\",IF(H3000<>\"\",\"OK\",IF(AND(#REF!<>\"\",#REF!<TODAY()),\"Retard\",\"Attente de Livraison\")))","v":""}]
[null,null,null,null,null,null,null,null,{"$f":"IF(F3001=\"\",\"\",IF(H3001<>\"\",\"OK\",IF(AND(#REF!<>\"\",#REF!<TODAY()),\"Retard\",\"Attente de Livraison\")))","v":""}]
[null,null,null,null,null,null,null,null,{"$f":"IF(F3002=\"\",\"\",IF(H3002<>\"\",\"OK\",IF(AND(#REF!<>\"\",#REF!<TODAY()),\"Retard\",\"Attente de Livraison\")))","v":""}]
[null,null,null,null,null,null,null,null,{"$f":"IF(F3003=\"\",\"\",IF(H3003<>\"\",\"OK\",IF(AND(#REF!<>\"\",#REF!<TODAY()),\"Retard\",\"Attente de Livraison\")))","v":""}]
[null,null,null,null,null,null,null,null,{"$f":"IF(F3004=\"\",\"\",IF(H3004<>\"\",\"OK\",IF(AND(#REF!<>\"\",#REF!<TODAY()),\"Retard\",\"Attente de Livraison\")))","v":""}]
[null,null,null,null,null,null,null,null,{"$f":"IF(F3005=\"\",\"\",IF(H3005<>\"\",\"OK\",IF(AND(#REF!<>\"\",#REF!<TODAY()),\"Retard\",\"Attente de Livraison\")))","v":""}]
[null,null,null,null,null,null,null,null,{"$f":"IF(F3006=\"\",\"\",IF(H3006<>\"\",\"OK\",IF(AND(#REF!<>\"\",#REF!<TODAY()),\"Retard\",\"Attente de Livraison\")))","v":""}]
[null,null,null,null,null,null,null,null,{"$f":"IF(F3007=\"\",\"\",IF(H3007<>\"\",\"OK\",IF(AND(#REF!<>\"\",#REF!<TODAY()),\"Retard\",\"Attente de Livraison\")))","v":""}]
[null,null,null,null,null,null,null,null,{"$f":"IF(F3008=\"\",\"\",IF(H3008<>\"\",\"OK\",IF(AND(#REF!<>\"\",#REF!<TODAY()),\"Retard\",\"Attente de Livraison\")))","v":""}]
[null,null,null,null,null,null,null,null,{"$f":"IF(F3009=\"\",\"\",IF(H3009<>\"\",\"OK\",IF(AND(#REF!<>\"\",#REF!<TODAY()),\"Retard\",\"Attente de Livraison\")))","v":""}]
[null,null,null,null,null,null,null,null,{"$f":"IF(F3010=\"\",\"\",IF(H3010<>\"\",\"OK\",IF(AND(#REF!<>\"\",#REF!<TODAY()),\"Retard\",\"Attente de Livraison\")))","v":""}]
[null,null,null,null,null,null,null,null,{"$f":"IF(F3011=\"\",\"\",IF(H3011<>\"\",\"OK\",IF(AND(#REF!<>\"\",#REF!<TODAY()),\"Retard\",\"Attente de Livraison\")))","v":""}]
[null,null,null,null,null,null,null,null,{"$f":"IF(F3012=\"\",\"\",IF(H3012<>\"\",\"OK\",IF(AND(#REF!<>\"\",#REF!<TODAY()),\"Retard\",\"Attente de Livraison\")))","v":""}]
[null,null,null,null,null,null,null,null,{"$f":"IF(F3013=\"\",\"\",IF(H3013<>\"\",\"OK\",IF(AND(#REF!<>\"\",#REF!<TODAY()),\"Retard\",\"Attente de Livraison\")))","v":""}]
[null,null,null,null,null,null,null,null,{"$f":"IF(F3014=\"\",\"\",IF(H3014<>\"\",\"OK\",IF(AND(#REF!<>\"\",#REF!<TODAY()),\"Retard\",\"Attente de Livraison\")))","v":""}]
[null,null,null,null,null,null,null,null,{"$f":"IF(F3015=\"\",\"\",IF(H3015<>\"\",\"OK\",IF(AND(#REF!<>\"\",#REF!<TODAY()),\"Retard\",\"Attente de Livraison\")))","v":""}]
[null,null,null,null,null,null,null,null,{"$f":"IF(F3016=\"\",\"\",IF(H3016<>\"\",\"OK\",IF(AND(#REF!<>\"\",#REF!<TODAY()),\"Retard\",\"Attente de Livraison\")))","v":""}]
[null,null,null,null,null,null,null,null,{"$f":"IF(F3017=\"\",\"\",IF(H3017<>\"\",\"OK\",IF(AND(#REF!<>\"\",#REF!<TODAY()),\"Retard\",\"Attente de Livraison\")))","v":""}]
[null,null,null,null,null,null,null,null,{"$f":"IF(F3018=\"\",\"\",IF(H3018<>\"\",\"OK\",IF(AND(#REF!<>\"\",#REF!<TODAY()),\"Retard\",\"Attente de Livraison\")))","v":""}]
[null,null,null,null,null,null,null,null,{"$f":"IF(F3019=\"\",\"\",IF(H3019<>\"\",\"OK\",IF(AND(#REF!<>\"\",#REF!<TODAY()),\"Retard\",\"Attente de Livraison\")))","v":""}]
[null,null,null,null,null,null,null,null,{"$f":"IF(F3020=\"\",\"\",IF(H3020<>\"\",\"OK\",IF(AND(#REF!<>\"\",#REF!<TODAY()),\"Retard\",\"Attente de Livraison\")))","v":""}]
[null,null,null,null,null,null,null,null,{"$f":"IF(F3021=\"\",\"\",IF(H3021<>\"\",\"OK\",IF(AND(#REF!<>\"\",#REF!<TODAY()),\"Retard\",\"Attente de Livraison\")))","v":""}]
[null,null,null,null,null,null,null,null,{"$f":"IF(F3022=\"\",\"\",IF(H3022<>\"\",\"OK\",IF(AND(#REF!<>\"\",#REF!<TODAY()),\"Retard\",\"Attente de Livraison\")))","v":""}]
[null,null,null,null,null,null,null,null,{"$f":"IF(F3023=\"\",\"\",IF(H3023<>\"\",\"OK\",IF(AND(#REF!<>\"\",#REF!<TODAY()),\"Retard\",\"Attente de Livraison\")))","v":""}]
[null,null,null,null,null,null,null,null,{"$f":"IF(F3024=\"\",\"\",IF(H3024<>\"\",\"OK\",IF(AND(#REF!<>\"\",#REF!<TODAY()),\"Retard\",\"Attente de Livraison\")))","v":""}]
[null,null,null,null,null,null,null,null,{"$f":"IF(F3025=\"\",\"\",IF(H3025<>\"\",\"OK\",IF(AND(#REF!<>\"\",#REF!<TODAY()),\"Retard\",\"Attente de Livraison\")))","v":""}]
[null,null,null,null,null,null,null,null,{"$f":"IF(F3026=\"\",\"\",IF(H3026<>\"\",\"OK\",IF(AND(#REF!<>\"\",#REF!<TODAY()),\"Retard\",\"Attente de Livraison\")))","v":""}]
[null,null,null,null,null,null,null,null,{"$f":"IF(F3027=\"\",\"\",IF(H3027<>\"\",\"OK\",IF(AND(#REF!<>\"\",#REF!<TODAY()),\"Retard\",\"Attente de Livraison\")))","v":""}]
[null,null,null,null,null,null,null,null,{"$f":"IF(F3028=\"\",\"\",IF(H3028<>\"\",\"OK\",IF(AND(#REF!<>\"\",#REF!<TODAY()),\"Retard\",\"Attente de Livraison\")))","v":""}]
[null,null,null,null,null,null,null,null,{"$f":"IF(F3029=\"\",\"\",IF(H3029<>\"\",\"OK\",IF(AND(#REF!<>\"\",#REF!<TODAY()),\"Retard\",\"Attente de Livraison\")))","v":""}]
[null,null,null,null,null,null,null,null,{"$f":"IF(F3030=\"\",\"\",IF(H3030<>\"\",\"OK\",IF(AND(#REF!<>\"\",#REF!<TODAY()),\"Retard\",\"Attente de Livraison\")))","v":""}]
[null,null,null,null,null,null,null,null,{"$f":"IF(F3031=\"\",\"\",IF(H3031<>\"\",\"OK\",IF(AND(#REF!<>\"\",#REF!<TODAY()),\"Retard\",\"Attente de Livraison\")))","v":""}]
[null,null,null,null,null,null,null,null,{"$f":"IF(F3032=\"\",\"\",IF(H3032<>\"\",\"OK\",IF(AND(#REF!<>\"\",#REF!<TODAY()),\"Retard\",\"Attente de Livraison\")))","v":""}]
[null,null,null,null,null,null,null,null,{"$f":"IF(F3033=\"\",\"\",IF(H3033<>\"\",\"OK\",IF(AND(#REF!<>\"\",#REF!<TODAY()),\"Retard\",\"Attente de Livraison\")))","v":""}]
[null,null,null,null,null,null,null,null,{"$f":"IF(F3034=\"\",\"\",IF(H3034<>\"\",\"OK\",IF(AND(#REF!<>\"\",#REF!<TODAY()),\"Retard\",\"Attente de Livraison\")))","v":""}]
[null,null,null,null,null,null,null,null,{"$f":"IF(F3035=\"\",\"\",IF(H3035<>\"\",\"OK\",IF(AND(#REF!<>\"\",#REF!<TODAY()),\"Retard\",\"Attente de Livraison\")))","v":""}]
[null,null,null,null,null,null,null,null,{"$f":"IF(F3036=\"\",\"\",IF(H3036<>\"\",\"OK\",IF(AND(#REF!<>\"\",#REF!<TODAY()),\"Retard\",\"Attente de Livraison\")))","v":""}]
[null,null,null,null,null,null,null,null,{"$f":"IF(F3037=\"\",\"\",IF(H3037<>\"\",\"OK\",IF(AND(#REF!<>\"\",#REF!<TODAY()),\"Retard\",\"Attente de Livraison\")))","v":""}]
[null,null,null,null,null,null,null,null,{"$f":"IF(F3038=\"\",\"\",IF(H3038<>\"\",\"OK\",IF(AND(#REF!<>\"\",#REF!<TODAY()),\"Retard\",\"Attente de Livraison\")))","v":""}]
[null,null,null,null,null,null,null,null,{"$f":"IF(F3039=\"\",\"\",IF(H3039<>\"\",\"OK\",IF(AND(#REF!<>\"\",#REF!<TODAY()),\"Retard\",\"Attente de Livraison\")))","v":""}]
[null,null,null,null,null,null,null,null,{"$f":"IF(F3040=\"\",\"\",IF(H3040<>\"\",\"OK\",IF(AND(#REF!<>\"\",#REF!<TODAY()),\"Retard\",\"Attente de Livraison\")))","v":""}]
[null,null,null,null,null,null,null,null,{"$f":"IF(F3041=\"\",\"\",IF(H3041<>\"\",\"OK\",IF(AND(#REF!<>\"\",#REF!<TODAY()),\"Retard\",\"Attente de Livraison\")))","v":""}]
[null,null,null,null,null,null,null,null,{"$f":"IF(F3042=\"\",\"\",IF(H3042<>\"\",\"OK\",IF(AND(#REF!<>\"\",#REF!<TODAY()),\"Retard\",\"Attente de Livraison\")))","v":""}]
[null,null,null,null,null,null,null,null,{"$f":"IF(F3043=\"\",\"\",IF(H3043<>\"\",\"OK\",IF(AND(#REF!<>\"\",#REF!<TODAY()),\"Retard\",\"Attente de Livraison\")))","v":""}]
[null,null,null,null,null,null,null,null,{"$f":"IF(F3044=\"\",\"\",IF(H3044<>\"\",\"OK\",IF(AND(#REF!<>\"\",#REF!<TODAY()),\"Retard\",\"Attente de Livraison\")))","v":""}]
[null,null,null,null,null,null,null,null,{"$f":"IF(F3045=\"\",\"\",IF(H3045<>\"\",\"OK\",IF(AND(#REF!<>\"\",#REF!<TODAY()),\"Retard\",\"Attente de Livraison\")))","v":""}]
[null,null,null,null,null,null,null,null,{"$f":"IF(F3046=\"\",\"\",IF(H3046<>\"\",\"OK\",IF(AND(#REF!<>\"\",#REF!<TODAY()),\"Retard\",\"Attente de Livraison\")))","v":""}]
[null,null,null,null,null,null,null,null,{"$f":"IF(F3047=\"\",\"\",IF(H3047<>\"\",\"OK\",IF(AND(#REF!<>\"\",#REF!<TODAY()),\"Retard\",\"Attente de Livraison\")))","v":""}]
[null,null,null,null,null,null,null,null,{"$f":"IF(F3048=\"\",\"\",IF(H3048<>\"\",\"OK\",IF(AND(#REF!<>\"\",#REF!<TODAY()),\"Retard\",\"Attente de Livraison\")))","v":""}]
[null,null,null,null,null,null,null,null,{"$f":"IF(F3049=\"\",\"\",IF(H3049<>\"\",\"OK\",IF(AND(#REF!<>\"\",#REF!<TODAY()),\"Retard\",\"Attente de Livraison\")))","v":""}]
[null,null,null,null,null,null,null,null,{"$f":"IF(F3050=\"\",\"\",IF(H3050<>\"\",\"OK\",IF(AND(#REF!<>\"\",#REF!<TODAY()),\"Retard\",\"Attente de Livraison\")))","v":""}]
[null,null,null,null,null,null,null,null,{"$f":"IF(F3051=\"\",\"\",IF(H3051<>\"\",\"OK\",IF(AND(#REF!<>\"\",#REF!<TODAY()),\"Retard\",\"Attente de Livraison\")))","v":""}]
[null,null,null,null,null,null,null,null,{"$f":"IF(F3052=\"\",\"\",IF(H3052<>\"\",\"OK\",IF(AND(#REF!<>\"\",#REF!<TODAY()),\"Retard\",\"Attente de Livraison\")))","v":""}]
[null,null,null,null,null,null,null,null,{"$f":"IF(F3053=\"\",\"\",IF(H3053<>\"\",\"OK\",IF(AND(#REF!<>\"\",#REF!<TODAY()),\"Retard\",\"Attente de Livraison\")))","v":""}]
[null,null,null,null,null,null,null,null,{"$f":"IF(F3054=\"\",\"\",IF(H3054<>\"\",\"OK\",IF(AND(#REF!<>\"\",#REF!<TODAY()),\"Retard\",\"Attente de Livraison\")))","v":""}]
[null,null,null,null,null,null,null,null,{"$f":"IF(F3055=\"\",\"\",IF(H3055<>\"\",\"OK\",IF(AND(#REF!<>\"\",#REF!<TODAY()),\"Retard\",\"Attente de Livraison\")))","v":""}]
[null,null,null,null,null,null,null,null,{"$f":"IF(F3056=\"\",\"\",IF(H3056<>\"\",\"OK\",IF(AND(#REF!<>\"\",#REF!<TODAY()),\"Retard\",\"Attente de Livraison\")))","v":""}]
[null,null,null,null,null,null,null,null,{"$f":"IF(F3057=\"\",\"\",IF(H3057<>\"\",\"OK\",IF(AND(#REF!<>\"\",#REF!<TODAY()),\"Retard\",\"Attente de Livraison\")))","v":""}]
[null,null,null,null,null,null,null,null,{"$f":"IF(F3058=\"\",\"\",IF(H3058<>\"\",\"OK\",IF(AND(#REF!<>\"\",#REF!<TODAY()),\"Retard\",\"Attente de Livraison\")))","v":""}]
[null,null,null,null,null,null,null,null,{"$f":"IF(F3059=\"\",\"\",IF(H3059<>\"\",\"OK\",IF(AND(#REF!<>\"\",#REF!<TODAY()),\"Retard\",\"Attente de Livraison\")))","v":""}]
[null,null,null,null,null,null,null,null,{"$f":"IF(F3060=\"\",\"\",IF(H3060<>\"\",\"OK\",IF(AND(#REF!<>\"\",#REF!<TODAY()),\"Retard\",\"Attente de Livraison\")))","v":""}]
[null,null,null,null,null,null,null,null,{"$f":"IF(F3061=\"\",\"\",IF(H3061<>\"\",\"OK\",IF(AND(#REF!<>\"\",#REF!<TODAY()),\"Retard\",\"Attente de Livraison\")))","v":""}]
[null,null,null,null,null,null,null,null,{"$f":"IF(F3062=\"\",\"\",IF(H3062<>\"\",\"OK\",IF(AND(#REF!<>\"\",#REF!<TODAY()),\"Retard\",\"Attente de Livraison\")))","v":""}]
[null,null,null,null,null,null,null,null,{"$f":"IF(F3063=\"\",\"\",IF(H3063<>\"\",\"OK\",IF(AND(#REF!<>\"\",#REF!<TODAY()),\"Retard\",\"Attente de Livraison\")))","v":""}]
[null,null,null,null,null,null,null,null,{"$f":"IF(F3064=\"\",\"\",IF(H3064<>\"\",\"OK\",IF(AND(#REF!<>\"\",#REF!<TODAY()),\"Retard\",\"Attente de Livraison\")))","v":""}]
[null,null,null,null,null,null,null,null,{"$f":"IF(F3065=\"\",\"\",IF(H3065<>\"\",\"OK\",IF(AND(#REF!<>\"\",#REF!<TODAY()),\"Retard\",\"Attente de Livraison\")))","v":""}]
[null,null,null,null,null,null,null,null,{"$f":"IF(F3066=\"\",\"\",IF(H3066<>\"\",\"OK\",IF(AND(#REF!<>\"\",#REF!<TODAY()),\"Retard\",\"Attente de Livraison\")))","v":""}]
[null,null,null,null,null,null,null,null,{"$f":"IF(F3067=\"\",\"\",IF(H3067<>\"\",\"OK\",IF(AND(#REF!<>\"\",#REF!<TODAY()),\"Retard\",\"Attente de Livraison\")))","v":""}]
[null,null,null,null,null,null,null,null,{"$f":"IF(F3068=\"\",\"\",IF(H3068<>\"\",\"OK\",IF(AND(#REF!<>\"\",#REF!<TODAY()),\"Retard\",\"Attente de Livraison\")))","v":""}]
[null,null,null,null,null,null,null,null,{"$f":"IF(F3069=\"\",\"\",IF(H3069<>\"\",\"OK\",IF(AND(#REF!<>\"\",#REF!<TODAY()),\"Retard\",\"Attente de Livraison\")))","v":""}]
[null,null,null,null,null,null,null,null,{"$f":"IF(F3070=\"\",\"\",IF(H3070<>\"\",\"OK\",IF(AND(#REF!<>\"\",#REF!<TODAY()),\"Retard\",\"Attente de Livraison\")))","v":""}]
[null,null,null,null,null,null,null,null,{"$f":"IF(F3071=\"\",\"\",IF(H3071<>\"\",\"OK\",IF(AND(#REF!<>\"\",#REF!<TODAY()),\"Retard\",\"Attente de Livraison\")))","v":""}]
[null,null,null,null,null,null,null,null,{"$f":"IF(F3072=\"\",\"\",IF(H3072<>\"\",\"OK\",IF(AND(#REF!<>\"\",#REF!<TODAY()),\"Retard\",\"Attente de Livraison\")))","v":""}]
[null,null,null,null,null,null,null,null,{"$f":"IF(F3073=\"\",\"\",IF(H3073<>\"\",\"OK\",IF(AND(#REF!<>\"\",#REF!<TODAY()),\"Retard\",\"Attente de Livraison\")))","v":""}]
[null,null,null,null,null,null,null,null,{"$f":"IF(F3074=\"\",\"\",IF(H3074<>\"\",\"OK\",IF(AND(#REF!<>\"\",#REF!<TODAY()),\"Retard\",\"Attente de Livraison\")))","v":""}]
[null,null,null,null,null,null,null,null,{"$f":"IF(F3075=\"\",\"\",IF(H3075<>\"\",\"OK\",IF(AND(#REF!<>\"\",#REF!<TODAY()),\"Retard\",\"Attente de Livraison\")))","v":""}]
[null,null,null,null,null,null,null,null,{"$f":"IF(F3076=\"\",\"\",IF(H3076<>\"\",\"OK\",IF(AND(#REF!<>\"\",#REF!<TODAY()),\"Retard\",\"Attente de Livraison\")))","v":""}]
[null,null,null,null,null,null,null,null,{"$f":"IF(F3077=\"\",\"\",IF(H3077<>\"\",\"OK\",IF(AND(#REF!<>\"\",#REF!<TODAY()),\"Retard\",\"Attente de Livraison\")))","v":""}]
[null,null,null,null,null,null,null,null,{"$f":"IF(F3078=\"\",\"\",IF(H3078<>\"\",\"OK\",IF(AND(#REF!<>\"\",#REF!<TODAY()),\"Retard\",\"Attente de Livraison\")))","v":""}]
[null,null,null,null,null,null,null,null,{"$f":"IF(F3079=\"\",\"\",IF(H3079<>\"\",\"OK\",IF(AND(#REF!<>\"\",#REF!<TODAY()),\"Retard\",\"Attente de Livraison\")))","v":""}]
[null,null,null,null,null,null,null,null,{"$f":"IF(F3080=\"\",\"\",IF(H3080<>\"\",\"OK\",IF(AND(#REF!<>\"\",#REF!<TODAY()),\"Retard\",\"Attente de Livraison\")))","v":""}]
[null,null,null,null,null,null,null,null,{"$f":"IF(F3081=\"\",\"\",IF(H3081<>\"\",\"OK\",IF(AND(#REF!<>\"\",#REF!<TODAY()),\"Retard\",\"Attente de Livraison\")))","v":""}]
[null,null,null,null,null,null,null,null,{"$f":"IF(F3082=\"\",\"\",IF(H3082<>\"\",\"OK\",IF(AND(#REF!<>\"\",#REF!<TODAY()),\"Retard\",\"Attente de Livraison\")))","v":""}]
[null,null,null,null,null,null,null,null,{"$f":"IF(F3083=\"\",\"\",IF(H3083<>\"\",\"OK\",IF(AND(#REF!<>\"\",#REF!<TODAY()),\"Retard\",\"Attente de Livraison\")))","v":""}]
[null,null,null,null,null,null,null,null,{"$f":"IF(F3084=\"\",\"\",IF(H3084<>\"\",\"OK\",IF(AND(#REF!<>\"\",#REF!<TODAY()),\"Retard\",\"Attente de Livraison\")))","v":""}]
[null,null,null,null,null,null,null,null,{"$f":"IF(F3085=\"\",\"\",IF(H3085<>\"\",\"OK\",IF(AND(#REF!<>\"\",#REF!<TODAY()),\"Retard\",\"Attente de Livraison\")))","v":""}]
[null,null,null,null,null,null,null,null,{"$f":"IF(F3086=\"\",\"\",IF(H3086<>\"\",\"OK\",IF(AND(#REF!<>\"\",#REF!<TODAY()),\"Retard\",\"Attente de Livraison\")))","v":""}]
[null,null,null,null,null,null,null,null,{"$f":"IF(F3087=\"\",\"\",IF(H3087<>\"\",\"OK\",IF(AND(#REF!<>\"\",#REF!<TODAY()),\"Retard\",\"Attente de Livraison\")))","v":""}]
[null,null,null,null,null,null,null,null,{"$f":"IF(F3088=\"\",\"\",IF(H3088<>\"\",\"OK\",IF(AND(#REF!<>\"\",#REF!<TODAY()),\"Retard\",\"Attente de Livraison\")))","v":""}]
[null,null,null,null,null,null,null,null,{"$f":"IF(F3089=\"\",\"\",IF(H3089<>\"\",\"OK\",IF(AND(#REF!<>\"\",#REF!<TODAY()),\"Retard\",\"Attente de Livraison\")))","v":""}]
[null,null,null,null,null,null,null,null,{"$f":"IF(F3090=\"\",\"\",IF(H3090<>\"\",\"OK\",IF(AND(#REF!<>\"\",#REF!<TODAY()),\"Retard\",\"Attente de Livraison\")))","v":""}]
[null,null,null,null,null,null,null,null,{"$f":"IF(F3091=\"\",\"\",IF(H3091<>\"\",\"OK\",IF(AND(#REF!<>\"\",#REF!<TODAY()),\"Retard\",\"Attente de Livraison\")))","v":""}]
[null,null,null,null,null,null,null,null,{"$f":"IF(F3092=\"\",\"\",IF(H3092<>\"\",\"OK\",IF(AND(#REF!<>\"\",#REF!<TODAY()),\"Retard\",\"Attente de Livraison\")))","v":""}]
[null,null,null,null,null,null,null,null,{"$f":"IF(F3093=\"\",\"\",IF(H3093<>\"\",\"OK\",IF(AND(#REF!<>\"\",#REF!<TODAY()),\"Retard\",\"Attente de Livraison\")))","v":""}]
[null,null,null,null,null,null,null,null,{"$f":"IF(F3094=\"\",\"\",IF(H3094<>\"\",\"OK\",IF(AND(#REF!<>\"\",#REF!<TODAY()),\"Retard\",\"Attente de Livraison\")))","v":""}]
[null,null,null,null,null,null,null,null,{"$f":"IF(F3095=\"\",\"\",IF(H3095<>\"\",\"OK\",IF(AND(#REF!<>\"\",#REF!<TODAY()),\"Retard\",\"Attente de Livraison\")))","v":""}]
[null,null,null,null,null,null,null,null,{"$f":"IF(F3096=\"\",\"\",IF(H3096<>\"\",\"OK\",IF(AND(#REF!<>\"\",#REF!<TODAY()),\"Retard\",\"Attente de Livraison\")))","v":""}]
[null,null,null,null,null,null,null,null,{"$f":"IF(F3097=\"\",\"\",IF(H3097<>\"\",\"OK\",IF(AND(#REF!<>\"\",#REF!<TODAY()),\"Retard\",\"Attente de Livraison\")))","v":""}]
[null,null,null,null,null,null,null,null,{"$f":"IF(F3098=\"\",\"\",IF(H3098<>\"\",\"OK\",IF(AND(#REF!<>\"\",#REF!<TODAY()),\"Retard\",\"Attente de Livraison\")))","v":""}]
[null,null,null,null,null,null,null,null,{"$f":"IF(F3099=\"\",\"\",IF(H3099<>\"\",\"OK\",IF(AND(#REF!<>\"\",#REF!<TODAY()),\"Retard\",\"Attente de Livraison\")))","v":""}]
[null,null,null,null,null,null,null,null,{"$f":"IF(F3100=\"\",\"\",IF(H3100<>\"\",\"OK\",IF(AND(#REF!<>\"\",#REF!<TODAY()),\"Retard\",\"Attente de Livraison\")))","v":""}]
[null,null,null,null,null,null,null,null,{"$f":"IF(F3101=\"\",\"\",IF(H3101<>\"\",\"OK\",IF(AND(#REF!<>\"\",#REF!<TODAY()),\"Retard\",\"Attente de Livraison\")))","v":""}]
[null,null,null,null,null,null,null,null,{"$f":"IF(F3102=\"\",\"\",IF(H3102<>\"\",\"OK\",IF(AND(#REF!<>\"\",#REF!<TODAY()),\"Retard\",\"Attente de Livraison\")))","v":""}]
[null,null,null,null,null,null,null,null,{"$f":"IF(F3103=\"\",\"\",IF(H3103<>\"\",\"OK\",IF(AND(#REF!<>\"\",#REF!<TODAY()),\"Retard\",\"Attente de Livraison\")))","v":""}]
[null,null,null,null,null,null,null,null,{"$f":"IF(F3104=\"\",\"\",IF(H3104<>\"\",\"OK\",IF(AND(#REF!<>\"\",#REF!<TODAY()),\"Retard\",\"Attente de Livraison\")))","v":""}]
[null,null,null,null,null,null,null,null,{"$f":"IF(F3105=\"\",\"\",IF(H3105<>\"\",\"OK\",IF(AND(#REF!<>\"\",#REF!<TODAY()),\"Retard\",\"Attente de Livraison\")))","v":""}]
[null,null,null,null,null,null,null,null,{"$f":"IF(F3106=\"\",\"\",IF(H3106<>\"\",\"OK\",IF(AND(#REF!<>\"\",#REF!<TODAY()),\"Retard\",\"Attente de Livraison\")))","v":""}]
[null,null,null,null,null,null,null,null,{"$f":"IF(F3107=\"\",\"\",IF(H3107<>\"\",\"OK\",IF(AND(#REF!<>\"\",#REF!<TODAY()),\"Retard\",\"Attente de Livraison\")))","v":""}]
[null,null,null,null,null,null,null,null,{"$f":"IF(F3108=\"\",\"\",IF(H3108<>\"\",\"OK\",IF(AND(#REF!<>\"\",#REF!<TODAY()),\"Retard\",\"Attente de Livraison\")))","v":""}]
[null,null,null,null,null,null,null,null,{"$f":"IF(F3109=\"\",\"\",IF(H3109<>\"\",\"OK\",IF(AND(#REF!<>\"\",#REF!<TODAY()),\"Retard\",\"Attente de Livraison\")))","v":""}]
[null,null,null,null,null,null,null,null,{"$f":"IF(F3110=\"\",\"\",IF(H3110<>\"\",\"OK\",IF(AND(#REF!<>\"\",#REF!<TODAY()),\"Retard\",\"Attente de Livraison\")))","v":""}]
[null,null,null,null,null,null,null,null,{"$f":"IF(F3111=\"\",\"\",IF(H3111<>\"\",\"OK\",IF(AND(#REF!<>\"\",#REF!<TODAY()),\"Retard\",\"Attente de Livraison\")))","v":""}]
[null,null,null,null,null,null,null,null,{"$f":"IF(F3112=\"\",\"\",IF(H3112<>\"\",\"OK\",IF(AND(#REF!<>\"\",#REF!<TODAY()),\"Retard\",\"Attente de Livraison\")))","v":""}]
[null,null,null,null,null,null,null,null,{"$f":"IF(F3113=\"\",\"\",IF(H3113<>\"\",\"OK\",IF(AND(#REF!<>\"\",#REF!<TODAY()),\"Retard\",\"Attente de Livraison\")))","v":""}]
[null,null,null,null,null,null,null,null,{"$f":"IF(F3114=\"\",\"\",IF(H3114<>\"\",\"OK\",IF(AND(#REF!<>\"\",#REF!<TODAY()),\"Retard\",\"Attente de Livraison\")))","v":""}]
[null,null,null,null,null,null,null,null,{"$f":"IF(F3115=\"\",\"\",IF(H3115<>\"\",\"OK\",IF(AND(#REF!<>\"\",#REF!<TODAY()),\"Retard\",\"Attente de Livraison\")))","v":""}]
[null,null,null,null,null,null,null,null,{"$f":"IF(F3116=\"\",\"\",IF(H3116<>\"\",\"OK\",IF(AND(#REF!<>\"\",#REF!<TODAY()),\"Retard\",\"Attente de Livraison\")))","v":""}]
[null,null,null,null,null,null,null,null,{"$f":"IF(F3117=\"\",\"\",IF(H3117<>\"\",\"OK\",IF(AND(#REF!<>\"\",#REF!<TODAY()),\"Retard\",\"Attente de Livraison\")))","v":""}]
[null,null,null,null,null,null,null,null,{"$f":"IF(F3118=\"\",\"\",IF(H3118<>\"\",\"OK\",IF(AND(#REF!<>\"\",#REF!<TODAY()),\"Retard\",\"Attente de Livraison\")))","v":""}]
[null,null,null,null,null,null,null,null,{"$f":"IF(F3119=\"\",\"\",IF(H3119<>\"\",\"OK\",IF(AND(#REF!<>\"\",#REF!<TODAY()),\"Retard\",\"Attente de Livraison\")))","v":""}]
[null,null,null,null,null,null,null,null,{"$f":"IF(F3120=\"\",\"\",IF(H3120<>\"\",\"OK\",IF(AND(#REF!<>\"\",#REF!<TODAY()),\"Retard\",\"Attente de Livraison\")))","v":""}]
[null,null,null,null,null,null,null,null,{"$f":"IF(F3121=\"\",\"\",IF(H3121<>\"\",\"OK\",IF(AND(#REF!<>\"\",#REF!<TODAY()),\"Retard\",\"Attente de Livraison\")))","v":""}]
[null,null,null,null,null,null,null,null,{"$f":"IF(F3122=\"\",\"\",IF(H3122<>\"\",\"OK\",IF(AND(#REF!<>\"\",#REF!<TODAY()),\"Retard\",\"Attente de Livraison\")))","v":""}]
[null,null,null,null,null,null,null,null,{"$f":"IF(F3123=\"\",\"\",IF(H3123<>\"\",\"OK\",IF(AND(#REF!<>\"\",#REF!<TODAY()),\"Retard\",\"Attente de Livraison\")))","v":""}]
[null,null,null,null,null,null,null,null,{"$f":"IF(F3124=\"\",\"\",IF(H3124<>\"\",\"OK\",IF(AND(#REF!<>\"\",#REF!<TODAY()),\"Retard\",\"Attente de Livraison\")))","v":""}]
[null,null,null,null,null,null,null,null,{"$f":"IF(F3125=\"\",\"\",IF(H3125<>\"\",\"OK\",IF(AND(#REF!<>\"\",#REF!<TODAY()),\"Retard\",\"Attente de Livraison\")))","v":""}]
[null,null,null,null,null,null,null,null,{"$f":"IF(F3126=\"\",\"\",IF(H3126<>\"\",\"OK\",IF(AND(#REF!<>\"\",#REF!<TODAY()),\"Retard\",\"Attente de Livraison\")))","v":""}]
[null,null,null,null,null,null,null,null,{"$f":"IF(F3127=\"\",\"\",IF(H3127<>\"\",\"OK\",IF(AND(#REF!<>\"\",#REF!<TODAY()),\"Retard\",\"Attente de Livraison\")))","v":""}]
[null,null,null,null,null,null,null,null,{"$f":"IF(F3128=\"\",\"\",IF(H3128<>\"\",\"OK\",IF(AND(#REF!<>\"\",#REF!<TODAY()),\"Retard\",\"Attente de Livraison\")))","v":""}]
[null,null,null,null,null,null,null,null,{"$f":"IF(F3129=\"\",\"\",IF(H3129<>\"\",\"OK\",IF(AND(#REF!<>\"\",#REF!<TODAY()),\"Retard\",\"Attente de Livraison\")))","v":""}]
[null,null,null,null,null,null,null,null,{"$f":"IF(F3130=\"\",\"\",IF(H3130<>\"\",\"OK\",IF(AND(#REF!<>\"\",#REF!<TODAY()),\"Retard\",\"Attente de Livraison\")))","v":""}]
[null,null,null,null,null,null,null,null,{"$f":"IF(F3131=\"\",\"\",IF(H3131<>\"\",\"OK\",IF(AND(#REF!<>\"\",#REF!<TODAY()),\"Retard\",\"Attente de Livraison\")))","v":""}]
[null,null,null,null,null,null,null,null,{"$f":"IF(F3132=\"\",\"\",IF(H3132<>\"\",\"OK\",IF(AND(#REF!<>\"\",#REF!<TODAY()),\"Retard\",\"Attente de Livraison\")))","v":""}]
[null,null,null,null,null,null,null,null,{"$f":"IF(F3133=\"\",\"\",IF(H3133<>\"\",\"OK\",IF(AND(#REF!<>\"\",#REF!<TODAY()),\"Retard\",\"Attente de Livraison\")))","v":""}]
[null,null,null,null,null,null,null,null,{"$f":"IF(F3134=\"\",\"\",IF(H3134<>\"\",\"OK\",IF(AND(#REF!<>\"\",#REF!<TODAY()),\"Retard\",\"Attente de Livraison\")))","v":""}]
[null,null,null,null,null,null,null,null,{"$f":"IF(F3135=\"\",\"\",IF(H3135<>\"\",\"OK\",IF(AND(#REF!<>\"\",#REF!<TODAY()),\"Retard\",\"Attente de Livraison\")))","v":""}]
[null,null,null,null,null,null,null,null,{"$f":"IF(F3136=\"\",\"\",IF(H3136<>\"\",\"OK\",IF(AND(#REF!<>\"\",#REF!<TODAY()),\"Retard\",\"Attente de Livraison\")))","v":""}]
[null,null,null,null,null,null,null,null,{"$f":"IF(F3137=\"\",\"\",IF(H3137<>\"\",\"OK\",IF(AND(#REF!<>\"\",#REF!<TODAY()),\"Retard\",\"Attente de Livraison\")))","v":""}]
[null,null,null,null,null,null,null,null,{"$f":"IF(F3138=\"\",\"\",IF(H3138<>\"\",\"OK\",IF(AND(#REF!<>\"\",#REF!<TODAY()),\"Retard\",\"Attente de Livraison\")))","v":""}]
[null,null,null,null,null,null,null,null,{"$f":"IF(F3139=\"\",\"\",IF(H3139<>\"\",\"OK\",IF(AND(#REF!<>\"\",#REF!<TODAY()),\"Retard\",\"Attente de Livraison\")))","v":""}]
[null,null,null,null,null,null,null,null,{"$f":"IF(F3140=\"\",\"\",IF(H3140<>\"\",\"OK\",IF(AND(#REF!<>\"\",#REF!<TODAY()),\"Retard\",\"Attente de Livraison\")))","v":""}]
[null,null,null,null,null,null,null,null,{"$f":"IF(F3141=\"\",\"\",IF(H3141<>\"\",\"OK\",IF(AND(#REF!<>\"\",#REF!<TODAY()),\"Retard\",\"Attente de Livraison\")))","v":""}]
[null,null,null,null,null,null,null,null,{"$f":"IF(F3142=\"\",\"\",IF(H3142<>\"\",\"OK\",IF(AND(#REF!<>\"\",#REF!<TODAY()),\"Retard\",\"Attente de Livraison\")))","v":""}]
[null,null,null,null,null,null,null,null,{"$f":"IF(F3143=\"\",\"\",IF(H3143<>\"\",\"OK\",IF(AND(#REF!<>\"\",#REF!<TODAY()),\"Retard\",\"Attente de Livraison\")))","v":""}]
[null,null,null,null,null,null,null,null,{"$f":"IF(F3144=\"\",\"\",IF(H3144<>\"\",\"OK\",IF(AND(#REF!<>\"\",#REF!<TODAY()),\"Retard\",\"Attente de Livraison\")))","v":""}]
[null,null,null,null,null,null,null,null,{"$f":"IF(F3145=\"\",\"\",IF(H3145<>\"\",\"OK\",IF(AND(#REF!<>\"\",#REF!<TODAY()),\"Retard\",\"Attente de Livraison\")))","v":""}]
[null,null,null,null,null,null,null,null,{"$f":"IF(F3146=\"\",\"\",IF(H3146<>\"\",\"OK\",IF(AND(#REF!<>\"\",#REF!<TODAY()),\"Retard\",\"Attente de Livraison\")))","v":""}]
[null,null,null,null,null,null,null,null,{"$f":"IF(F3147=\"\",\"\",IF(H3147<>\"\",\"OK\",IF(AND(#REF!<>\"\",#REF!<TODAY()),\"Retard\",\"Attente de Livraison\")))","v":""}]
[null,null,null,null,null,null,null,null,{"$f":"IF(F3148=\"\",\"\",IF(H3148<>\"\",\"OK\",IF(AND(#REF!<>\"\",#REF!<TODAY()),\"Retard\",\"Attente de Livraison\")))","v":""}]
[null,null,null,null,null,null,null,null,{"$f":"IF(F3149=\"\",\"\",IF(H3149<>\"\",\"OK\",IF(AND(#REF!<>\"\",#REF!<TODAY()),\"Retard\",\"Attente de Livraison\")))","v":""}]
[null,null,null,null,null,null,null,null,{"$f":"IF(F3150=\"\",\"\",IF(H3150<>\"\",\"OK\",IF(AND(#REF!<>\"\",#REF!<TODAY()),\"Retard\",\"Attente de Livraison\")))","v":""}]
[null,null,null,null,null,null,null,null,{"$f":"IF(F3151=\"\",\"\",IF(H3151<>\"\",\"OK\",IF(AND(#REF!<>\"\",#REF!<TODAY()),\"Retard\",\"Attente de Livraison\")))","v":""}]
[null,null,null,null,null,null,null,null,{"$f":"IF(F3152=\"\",\"\",IF(H3152<>\"\",\"OK\",IF(AND(#REF!<>\"\",#REF!<TODAY()),\"Retard\",\"Attente de Livraison\")))","v":""}]
[null,null,null,null,null,null,null,null,{"$f":"IF(F3153=\"\",\"\",IF(H3153<>\"\",\"OK\",IF(AND(#REF!<>\"\",#REF!<TODAY()),\"Retard\",\"Attente de Livraison\")))","v":""}]
[null,null,null,null,null,null,null,null,{"$f":"IF(F3154=\"\",\"\",IF(H3154<>\"\",\"OK\",IF(AND(#REF!<>\"\",#REF!<TODAY()),\"Retard\",\"Attente de Livraison\")))","v":""}]
[null,null,null,null,null,null,null,null,{"$f":"IF(F3155=\"\",\"\",IF(H3155<>\"\",\"OK\",IF(AND(#REF!<>\"\",#REF!<TODAY()),\"Retard\",\"Attente de Livraison\")))","v":""}]
[null,null,null,null,null,null,null,null,{"$f":"IF(F3156=\"\",\"\",IF(H3156<>\"\",\"OK\",IF(AND(#REF!<>\"\",#REF!<TODAY()),\"Retard\",\"Attente de Livraison\")))","v":""}]
[null,null,null,null,null,null,null,null,{"$f":"IF(F3157=\"\",\"\",IF(H3157<>\"\",\"OK\",IF(AND(#REF!<>\"\",#REF!<TODAY()),\"Retard\",\"Attente de Livraison\")))","v":""}]
[null,null,null,null,null,null,null,null,{"$f":"IF(F3158=\"\",\"\",IF(H3158<>\"\",\"OK\",IF(AND(#REF!<>\"\",#REF!<TODAY()),\"Retard\",\"Attente de Livraison\")))","v":""}]
[null,null,null,null,null,null,null,null,{"$f":"IF(F3159=\"\",\"\",IF(H3159<>\"\",\"OK\",IF(AND(#REF!<>\"\",#REF!<TODAY()),\"Retard\",\"Attente de Livraison\")))","v":""}]
[null,null,null,null,null,null,null,null,{"$f":"IF(F3160=\"\",\"\",IF(H3160<>\"\",\"OK\",IF(AND(#REF!<>\"\",#REF!<TODAY()),\"Retard\",\"Attente de Livraison\")))","v":""}]
[null,null,null,null,null,null,null,null,{"$f":"IF(F3161=\"\",\"\",IF(H3161<>\"\",\"OK\",IF(AND(#REF!<>\"\",#REF!<TODAY()),\"Retard\",\"Attente de Livraison\")))","v":""}]
[null,null,null,null,null,null,null,null,{"$f":"IF(F3162=\"\",\"\",IF(H3162<>\"\",\"OK\",IF(AND(#REF!<>\"\",#REF!<TODAY()),\"Retard\",\"Attente de Livraison\")))","v":""}]
[null,null,null,null,null,null,null,null,{"$f":"IF(F3163=\"\",\"\",IF(H3163<>\"\",\"OK\",IF(AND(#REF!<>\"\",#REF!<TODAY()),\"Retard\",\"Attente de Livraison\")))","v":""}]
[null,null,null,null,null,null,null,null,{"$f":"IF(F3164=\"\",\"\",IF(H3164<>\"\",\"OK\",IF(AND(#REF!<>\"\",#REF!<TODAY()),\"Retard\",\"Attente de Livraison\")))","v":""}]
[null,null,null,null,null,null,null,null,{"$f":"IF(F3165=\"\",\"\",IF(H3165<>\"\",\"OK\",IF(AND(#REF!<>\"\",#REF!<TODAY()),\"Retard\",\"Attente de Livraison\")))","v":""}]
[null,null,null,null,null,null,null,null,{"$f":"IF(F3166=\"\",\"\",IF(H3166<>\"\",\"OK\",IF(AND(#REF!<>\"\",#REF!<TODAY()),\"Retard\",\"Attente de Livraison\")))","v":""}]
[null,null,null,null,null,null,null,null,{"$f":"IF(F3167=\"\",\"\",IF(H3167<>\"\",\"OK\",IF(AND(#REF!<>\"\",#REF!<TODAY()),\"Retard\",\"Attente de Livraison\")))","v":""}]
[null,null,null,null,null,null,null,null,{"$f":"IF(F3168=\"\",\"\",IF(H3168<>\"\",\"OK\",IF(AND(#REF!<>\"\",#REF!<TODAY()),\"Retard\",\"Attente de Livraison\")))","v":""}]
[null,null,null,null,null,null,null,null,{"$f":"IF(F3169=\"\",\"\",IF(H3169<>\"\",\"OK\",IF(AND(#REF!<>\"\",#REF!<TODAY()),\"Retard\",\"Attente de Livraison\")))","v":""}]
[null,null,null,null,null,null,null,null,{"$f":"IF(F3170=\"\",\"\",IF(H3170<>\"\",\"OK\",IF(AND(#REF!<>\"\",#REF!<TODAY()),\"Retard\",\"Attente de Livraison\")))","v":""}]
[null,null,null,null,null,null,null,null,{"$f":"IF(F3171=\"\",\"\",IF(H3171<>\"\",\"OK\",IF(AND(#REF!<>\"\",#REF!<TODAY()),\"Retard\",\"Attente de Livraison\")))","v":""}]
[null,null,null,null,null,null,null,null,{"$f":"IF(F3172=\"\",\"\",IF(H3172<>\"\",\"OK\",IF(AND(#REF!<>\"\",#REF!<TODAY()),\"Retard\",\"Attente de Livraison\")))","v":""}]
[null,null,null,null,null,null,null,null,{"$f":"IF(F3173=\"\",\"\",IF(H3173<>\"\",\"OK\",IF(AND(#REF!<>\"\",#REF!<TODAY()),\"Retard\",\"Attente de Livraison\")))","v":""}]
[null,null,null,null,null,null,null,null,{"$f":"IF(F3174=\"\",\"\",IF(H3174<>\"\",\"OK\",IF(AND(#REF!<>\"\",#REF!<TODAY()),\"Retard\",\"Attente de Livraison\")))","v":""}]
[null,null,null,null,null,null,null,null,{"$f":"IF(F3175=\"\",\"\",IF(H3175<>\"\",\"OK\",IF(AND(#REF!<>\"\",#REF!<TODAY()),\"Retard\",\"Attente de Livraison\")))","v":""}]
[null,null,null,null,null,null,null,null,{"$f":"IF(F3176=\"\",\"\",IF(H3176<>\"\",\"OK\",IF(AND(#REF!<>\"\",#REF!<TODAY()),\"Retard\",\"Attente de Livraison\")))","v":""}]
[null,null,null,null,null,null,null,null,{"$f":"IF(F3177=\"\",\"\",IF(H3177<>\"\",\"OK\",IF(AND(#REF!<>\"\",#REF!<TODAY()),\"Retard\",\"Attente de Livraison\")))","v":""}]
[null,null,null,null,null,null,null,null,{"$f":"IF(F3178=\"\",\"\",IF(H3178<>\"\",\"OK\",IF(AND(#REF!<>\"\",#REF!<TODAY()),\"Retard\",\"Attente de Livraison\")))","v":""}]
[null,null,null,null,null,null,null,null,{"$f":"IF(F3179=\"\",\"\",IF(H3179<>\"\",\"OK\",IF(AND(#REF!<>\"\",#REF!<TODAY()),\"Retard\",\"Attente de Livraison\")))","v":""}]
[null,null,null,null,null,null,null,null,{"$f":"IF(F3180=\"\",\"\",IF(H3180<>\"\",\"OK\",IF(AND(#REF!<>\"\",#REF!<TODAY()),\"Retard\",\"Attente de Livraison\")))","v":""}]
[null,null,null,null,null,null,null,null,{"$f":"IF(F3181=\"\",\"\",IF(H3181<>\"\",\"OK\",IF(AND(#REF!<>\"\",#REF!<TODAY()),\"Retard\",\"Attente de Livraison\")))","v":""}]
[null,null,null,null,null,null,null,null,{"$f":"IF(F3182=\"\",\"\",IF(H3182<>\"\",\"OK\",IF(AND(#REF!<>\"\",#REF!<TODAY()),\"Retard\",\"Attente de Livraison\")))","v":""}]
[null,null,null,null,null,null,null,null,{"$f":"IF(F3183=\"\",\"\",IF(H3183<>\"\",\"OK\",IF(AND(#REF!<>\"\",#REF!<TODAY()),\"Retard\",\"Attente de Livraison\")))","v":""}]
[null,null,null,null,null,null,null,null,{"$f":"IF(F3184=\"\",\"\",IF(H3184<>\"\",\"OK\",IF(AND(#REF!<>\"\",#REF!<TODAY()),\"Retard\",\"Attente de Livraison\")))","v":""}]
[null,null,null,null,null,null,null,null,{"$f":"IF(F3185=\"\",\"\",IF(H3185<>\"\",\"OK\",IF(AND(#REF!<>\"\",#REF!<TODAY()),\"Retard\",\"Attente de Livraison\")))","v":""}]
[null,null,null,null,null,null,null,null,{"$f":"IF(F3186=\"\",\"\",IF(H3186<>\"\",\"OK\",IF(AND(#REF!<>\"\",#REF!<TODAY()),\"Retard\",\"Attente de Livraison\")))","v":""}]
[null,null,null,null,null,null,null,null,{"$f":"IF(F3187=\"\",\"\",IF(H3187<>\"\",\"OK\",IF(AND(#REF!<>\"\",#REF!<TODAY()),\"Retard\",\"Attente de Livraison\")))","v":""}]
[null,null,null,null,null,null,null,null,{"$f":"IF(F3188=\"\",\"\",IF(H3188<>\"\",\"OK\",IF(AND(#REF!<>\"\",#REF!<TODAY()),\"Retard\",\"Attente de Livraison\")))","v":""}]
[null,null,null,null,null,null,null,null,{"$f":"IF(F3189=\"\",\"\",IF(H3189<>\"\",\"OK\",IF(AND(#REF!<>\"\",#REF!<TODAY()),\"Retard\",\"Attente de Livraison\")))","v":""}]
[null,null,null,null,null,null,null,null,{"$f":"IF(F3190=\"\",\"\",IF(H3190<>\"\",\"OK\",IF(AND(#REF!<>\"\",#REF!<TODAY()),\"Retard\",\"Attente de Livraison\")))","v":""}]
[null,null,null,null,null,null,null,null,{"$f":"IF(F3191=\"\",\"\",IF(H3191<>\"\",\"OK\",IF(AND(#REF!<>\"\",#REF!<TODAY()),\"Retard\",\"Attente de Livraison\")))","v":""}]
[null,null,null,null,null,null,null,null,{"$f":"IF(F3192=\"\",\"\",IF(H3192<>\"\",\"OK\",IF(AND(#REF!<>\"\",#REF!<TODAY()),\"Retard\",\"Attente de Livraison\")))","v":""}]
[null,null,null,null,null,null,null,null,{"$f":"IF(F3193=\"\",\"\",IF(H3193<>\"\",\"OK\",IF(AND(#REF!<>\"\",#REF!<TODAY()),\"Retard\",\"Attente de Livraison\")))","v":""}]
[null,null,null,null,null,null,null,null,{"$f":"IF(F3194=\"\",\"\",IF(H3194<>\"\",\"OK\",IF(AND(#REF!<>\"\",#REF!<TODAY()),\"Retard\",\"Attente de Livraison\")))","v":""}]
[null,null,null,null,null,null,null,null,{"$f":"IF(F3195=\"\",\"\",IF(H3195<>\"\",\"OK\",IF(AND(#REF!<>\"\",#REF!<TODAY()),\"Retard\",\"Attente de Livraison\")))","v":""}]
[null,null,null,null,null,null,null,null,{"$f":"IF(F3196=\"\",\"\",IF(H3196<>\"\",\"OK\",IF(AND(#REF!<>\"\",#REF!<TODAY()),\"Retard\",\"Attente de Livraison\")))","v":""}]
[null,null,null,null,null,null,null,null,{"$f":"IF(F3197=\"\",\"\",IF(H3197<>\"\",\"OK\",IF(AND(#REF!<>\"\",#REF!<TODAY()),\"Retard\",\"Attente de Livraison\")))","v":""}]
[null,null,null,null,null,null,null,null,{"$f":"IF(F3198=\"\",\"\",IF(H3198<>\"\",\"OK\",IF(AND(#REF!<>\"\",#REF!<TODAY()),\"Retard\",\"Attente de Livraison\")))","v":""}]
[null,null,null,null,null,null,null,null,{"$f":"IF(F3199=\"\",\"\",IF(H3199<>\"\",\"OK\",IF(AND(#REF!<>\"\",#REF!<TODAY()),\"Retard\",\"Attente de Livraison\")))","v":""}]
[null,null,null,null,null,null,null,null,{"$f":"IF(F3200=\"\",\"\",IF(H3200<>\"\",\"OK\",IF(AND(#REF!<>\"\",#REF!<TODAY()),\"Retard\",\"Attente de Livraison\")))","v":""}]
[null,null,null,null,null,null,null,null,{"$f":"IF(F3201=\"\",\"\",IF(H3201<>\"\",\"OK\",IF(AND(#REF!<>\"\",#REF!<TODAY()),\"Retard\",\"Attente de Livraison\")))","v":""}]
[null,null,null,null,null,null,null,null,{"$f":"IF(F3202=\"\",\"\",IF(H3202<>\"\",\"OK\",IF(AND(#REF!<>\"\",#REF!<TODAY()),\"Retard\",\"Attente de Livraison\")))","v":""}]
[null,null,null,null,null,null,null,null,{"$f":"IF(F3203=\"\",\"\",IF(H3203<>\"\",\"OK\",IF(AND(#REF!<>\"\",#REF!<TODAY()),\"Retard\",\"Attente de Livraison\")))","v":""}]
[null,null,null,null,null,null,null,null,{"$f":"IF(F3204=\"\",\"\",IF(H3204<>\"\",\"OK\",IF(AND(#REF!<>\"\",#REF!<TODAY()),\"Retard\",\"Attente de Livraison\")))","v":""}]
[null,null,null,null,null,null,null,null,{"$f":"IF(F3205=\"\",\"\",IF(H3205<>\"\",\"OK\",IF(AND(#REF!<>\"\",#REF!<TODAY()),\"Retard\",\"Attente de Livraison\")))","v":""}]
[null,null,null,null,null,null,null,null,{"$f":"IF(F3206=\"\",\"\",IF(H3206<>\"\",\"OK\",IF(AND(#REF!<>\"\",#REF!<TODAY()),\"Retard\",\"Attente de Livraison\")))","v":""}]
[null,null,null,null,null,null,null,null,{"$f":"IF(F3207=\"\",\"\",IF(H3207<>\"\",\"OK\",IF(AND(#REF!<>\"\",#REF!<TODAY()),\"Retard\",\"Attente de Livraison\")))","v":""}]
[null,null,null,null,null,null,null,null,{"$f":"IF(F3208=\"\",\"\",IF(H3208<>\"\",\"OK\",IF(AND(#REF!<>\"\",#REF!<TODAY()),\"Retard\",\"Attente de Livraison\")))","v":""}]
[null,null,null,null,null,null,null,null,{"$f":"IF(F3209=\"\",\"\",IF(H3209<>\"\",\"OK\",IF(AND(#REF!<>\"\",#REF!<TODAY()),\"Retard\",\"Attente de Livraison\")))","v":""}]
[null,null,null,null,null,null,null,null,{"$f":"IF(F3210=\"\",\"\",IF(H3210<>\"\",\"OK\",IF(AND(#REF!<>\"\",#REF!<TODAY()),\"Retard\",\"Attente de Livraison\")))","v":""}]
[null,null,null,null,null,null,null,null,{"$f":"IF(F3211=\"\",\"\",IF(H3211<>\"\",\"OK\",IF(AND(#REF!<>\"\",#REF!<TODAY()),\"Retard\",\"Attente de Livraison\")))","v":""}]
[null,null,null,null,null,null,null,null,{"$f":"IF(F3212=\"\",\"\",IF(H3212<>\"\",\"OK\",IF(AND(#REF!<>\"\",#REF!<TODAY()),\"Retard\",\"Attente de Livraison\")))","v":""}]
[null,null,null,null,null,null,null,null,{"$f":"IF(F3213=\"\",\"\",IF(H3213<>\"\",\"OK\",IF(AND(#REF!<>\"\",#REF!<TODAY()),\"Retard\",\"Attente de Livraison\")))","v":""}]
[null,null,null,null,null,null,null,null,{"$f":"IF(F3214=\"\",\"\",IF(H3214<>\"\",\"OK\",IF(AND(#REF!<>\"\",#REF!<TODAY()),\"Retard\",\"Attente de Livraison\")))","v":""}]
[null,null,null,null,null,null,null,null,{"$f":"IF(F3215=\"\",\"\",IF(H3215<>\"\",\"OK\",IF(AND(#REF!<>\"\",#REF!<TODAY()),\"Retard\",\"Attente de Livraison\")))","v":""}]
[null,null,null,null,null,null,null,null,{"$f":"IF(F3216=\"\",\"\",IF(H3216<>\"\",\"OK\",IF(AND(#REF!<>\"\",#REF!<TODAY()),\"Retard\",\"Attente de Livraison\")))","v":""}]
[null,null,null,null,null,null,null,null,{"$f":"IF(F3217=\"\",\"\",IF(H3217<>\"\",\"OK\",IF(AND(#REF!<>\"\",#REF!<TODAY()),\"Retard\",\"Attente de Livraison\")))","v":""}]
[null,null,null,null,null,null,null,null,{"$f":"IF(F3218=\"\",\"\",IF(H3218<>\"\",\"OK\",IF(AND(#REF!<>\"\",#REF!<TODAY()),\"Retard\",\"Attente de Livraison\")))","v":""}]
[null,null,null,null,null,null,null,null,{"$f":"IF(F3219=\"\",\"\",IF(H3219<>\"\",\"OK\",IF(AND(#REF!<>\"\",#REF!<TODAY()),\"Retard\",\"Attente de Livraison\")))","v":""}]
[null,null,null,null,null,null,null,null,{"$f":"IF(F3220=\"\",\"\",IF(H3220<>\"\",\"OK\",IF(AND(#REF!<>\"\",#REF!<TODAY()),\"Retard\",\"Attente de Livraison\")))","v":""}]
[null,null,null,null,null,null,null,null,{"$f":"IF(F3221=\"\",\"\",IF(H3221<>\"\",\"OK\",IF(AND(#REF!<>\"\",#REF!<TODAY()),\"Retard\",\"Attente de Livraison\")))","v":""}]
[null,null,null,null,null,null,null,null,{"$f":"IF(F3222=\"\",\"\",IF(H3222<>\"\",\"OK\",IF(AND(#REF!<>\"\",#REF!<TODAY()),\"Retard\",\"Attente de Livraison\")))","v":""}]
[null,null,null,null,null,null,null,null,{"$f":"IF(F3223=\"\",\"\",IF(H3223<>\"\",\"OK\",IF(AND(#REF!<>\"\",#REF!<TODAY()),\"Retard\",\"Attente de Livraison\")))","v":""}]
[null,null,null,null,null,null,null,null,{"$f":"IF(F3224=\"\",\"\",IF(H3224<>\"\",\"OK\",IF(AND(#REF!<>\"\",#REF!<TODAY()),\"Retard\",\"Attente de Livraison\")))","v":""}]
[null,null,null,null,null,null,null,null,{"$f":"IF(F3225=\"\",\"\",IF(H3225<>\"\",\"OK\",IF(AND(#REF!<>\"\",#REF!<TODAY()),\"Retard\",\"Attente de Livraison\")))","v":""}]
[null,null,null,null,null,null,null,null,{"$f":"IF(F3226=\"\",\"\",IF(H3226<>\"\",\"OK\",IF(AND(#REF!<>\"\",#REF!<TODAY()),\"Retard\",\"Attente de Livraison\")))","v":""}]
[null,null,null,null,null,null,null,null,{"$f":"IF(F3227=\"\",\"\",IF(H3227<>\"\",\"OK\",IF(AND(#REF!<>\"\",#REF!<TODAY()),\"Retard\",\"Attente de Livraison\")))","v":""}]
[null,null,null,null,null,null,null,null,{"$f":"IF(F3228=\"\",\"\",IF(H3228<>\"\",\"OK\",IF(AND(#REF!<>\"\",#REF!<TODAY()),\"Retard\",\"Attente de Livraison\")))","v":""}]
[null,null,null,null,null,null,null,null,{"$f":"IF(F3229=\"\",\"\",IF(H3229<>\"\",\"OK\",IF(AND(#REF!<>\"\",#REF!<TODAY()),\"Retard\",\"Attente de Livraison\")))","v":""}]
[null,null,null,null,null,null,null,null,{"$f":"IF(F3230=\"\",\"\",IF(H3230<>\"\",\"OK\",IF(AND(#REF!<>\"\",#REF!<TODAY()),\"Retard\",\"Attente de Livraison\")))","v":""}]
[null,null,null,null,null,null,null,null,{"$f":"IF(F3231=\"\",\"\",IF(H3231<>\"\",\"OK\",IF(AND(#REF!<>\"\",#REF!<TODAY()),\"Retard\",\"Attente de Livraison\")))","v":""}]
[null,null,null,null,null,null,null,null,{"$f":"IF(F3232=\"\",\"\",IF(H3232<>\"\",\"OK\",IF(AND(#REF!<>\"\",#REF!<TODAY()),\"Retard\",\"Attente de Livraison\")))","v":""}]
[null,null,null,null,null,null,null,null,{"$f":"IF(F3233=\"\",\"\",IF(H3233<>\"\",\"OK\",IF(AND(#REF!<>\"\",#REF!<TODAY()),\"Retard\",\"Attente de Livraison\")))","v":""}]
[null,null,null,null,null,null,null,null,{"$f":"IF(F3234=\"\",\"\",IF(H3234<>\"\",\"OK\",IF(AND(#REF!<>\"\",#REF!<TODAY()),\"Retard\",\"Attente de Livraison\")))","v":""}]
[null,null,null,null,null,null,null,null,{"$f":"IF(F3235=\"\",\"\",IF(H3235<>\"\",\"OK\",IF(AND(#REF!<>\"\",#REF!<TODAY()),\"Retard\",\"Attente de Livraison\")))","v":""}]
[null,null,null,null,null,null,null,null,{"$f":"IF(F3236=\"\",\"\",IF(H3236<>\"\",\"OK\",IF(AND(#REF!<>\"\",#REF!<TODAY()),\"Retard\",\"Attente de Livraison\")))","v":""}]
[null,null,null,null,null,null,null,null,{"$f":"IF(F3237=\"\",\"\",IF(H3237<>\"\",\"OK\",IF(AND(#REF!<>\"\",#REF!<TODAY()),\"Retard\",\"Attente de Livraison\")))","v":""}]
[null,null,null,null,null,null,null,null,{"$f":"IF(F3238=\"\",\"\",IF(H3238<>\"\",\"OK\",IF(AND(#REF!<>\"\",#REF!<TODAY()),\"Retard\",\"Attente de Livraison\")))","v":""}]
[null,null,null,null,null,null,null,null,{"$f":"IF(F3239=\"\",\"\",IF(H3239<>\"\",\"OK\",IF(AND(#REF!<>\"\",#REF!<TODAY()),\"Retard\",\"Attente de Livraison\")))","v":""}]
[null,null,null,null,null,null,null,null,{"$f":"IF(F3240=\"\",\"\",IF(H3240<>\"\",\"OK\",IF(AND(#REF!<>\"\",#REF!<TODAY()),\"Retard\",\"Attente de Livraison\")))","v":""}]
[null,null,null,null,null,null,null,null,{"$f":"IF(F3241=\"\",\"\",IF(H3241<>\"\",\"OK\",IF(AND(#REF!<>\"\",#REF!<TODAY()),\"Retard\",\"Attente de Livraison\")))","v":""}]
[null,null,null,null,null,null,null,null,{"$f":"IF(F3242=\"\",\"\",IF(H3242<>\"\",\"OK\",IF(AND(#REF!<>\"\",#REF!<TODAY()),\"Retard\",\"Attente de Livraison\")))","v":""}]
[null,null,null,null,null,null,null,null,{"$f":"IF(F3243=\"\",\"\",IF(H3243<>\"\",\"OK\",IF(AND(#REF!<>\"\",#REF!<TODAY()),\"Retard\",\"Attente de Livraison\")))","v":""}]
[null,null,null,null,null,null,null,null,{"$f":"IF(F3244=\"\",\"\",IF(H3244<>\"\",\"OK\",IF(AND(#REF!<>\"\",#REF!<TODAY()),\"Retard\",\"Attente de Livraison\")))","v":""}]
[null,null,null,null,null,null,null,null,{"$f":"IF(F3245=\"\",\"\",IF(H3245<>\"\",\"OK\",IF(AND(#REF!<>\"\",#REF!<TODAY()),\"Retard\",\"Attente de Livraison\")))","v":""}]
[null,null,null,null,null,null,null,null,{"$f":"IF(F3246=\"\",\"\",IF(H3246<>\"\",\"OK\",IF(AND(#REF!<>\"\",#REF!<TODAY()),\"Retard\",\"Attente de Livraison\")))","v":""}]
[null,null,null,null,null,null,null,null,{"$f":"IF(F3247=\"\",\"\",IF(H3247<>\"\",\"OK\",IF(AND(#REF!<>\"\",#REF!<TODAY()),\"Retard\",\"Attente de Livraison\")))","v":""}]
[null,null,null,null,null,null,null,null,{"$f":"IF(F3248=\"\",\"\",IF(H3248<>\"\",\"OK\",IF(AND(#REF!<>\"\",#REF!<TODAY()),\"Retard\",\"Attente de Livraison\")))","v":""}]
[null,null,null,null,null,null,null,null,{"$f":"IF(F3249=\"\",\"\",IF(H3249<>\"\",\"OK\",IF(AND(#REF!<>\"\",#REF!<TODAY()),\"Retard\",\"Attente de Livraison\")))","v":""}]
[null,null,null,null,null,null,null,null,{"$f":"IF(F3250=\"\",\"\",IF(H3250<>\"\",\"OK\",IF(AND(#REF!<>\"\",#REF!<TODAY()),\"Retard\",\"Attente de Livraison\")))","v":""}]
[null,null,null,null,null,null,null,null,{"$f":"IF(F3251=\"\",\"\",IF(H3251<>\"\",\"OK\",IF(AND(#REF!<>\"\",#REF!<TODAY()),\"Retard\",\"Attente de Livraison\")))","v":""}]
[null,null,null,null,null,null,null,null,{"$f":"IF(F3252=\"\",\"\",IF(H3252<>\"\",\"OK\",IF(AND(#REF!<>\"\",#REF!<TODAY()),\"Retard\",\"Attente de Livraison\")))","v":""}]
[null,null,null,null,null,null,null,null,{"$f":"IF(F3253=\"\",\"\",IF(H3253<>\"\",\"OK\",IF(AND(#REF!<>\"\",#REF!<TODAY()),\"Retard\",\"Attente de Livraison\")))","v":""}]
[null,null,null,null,null,null,null,null,{"$f":"IF(F3254=\"\",\"\",IF(H3254<>\"\",\"OK\",IF(AND(#REF!<>\"\",#REF!<TODAY()),\"Retard\",\"Attente de Livraison\")))","v":""}]
[null,null,null,null,null,null,null,null,{"$f":"IF(F3255=\"\",\"\",IF(H3255<>\"\",\"OK\",IF(AND(#REF!<>\"\",#REF!<TODAY()),\"Retard\",\"Attente de Livraison\")))","v":""}]
[null,null,null,null,null,null,null,null,{"$f":"IF(F3256=\"\",\"\",IF(H3256<>\"\",\"OK\",IF(AND(#REF!<>\"\",#REF!<TODAY()),\"Retard\",\"Attente de Livraison\")))","v":""}]
[null,null,null,null,null,null,null,null,{"$f":"IF(F3257=\"\",\"\",IF(H3257<>\"\",\"OK\",IF(AND(#REF!<>\"\",#REF!<TODAY()),\"Retard\",\"Attente de Livraison\")))","v":""}]
[null,null,null,null,null,null,null,null,{"$f":"IF(F3258=\"\",\"\",IF(H3258<>\"\",\"OK\",IF(AND(#REF!<>\"\",#REF!<TODAY()),\"Retard\",\"Attente de Livraison\")))","v":""}]
[null,null,null,null,null,null,null,null,{"$f":"IF(F3259=\"\",\"\",IF(H3259<>\"\",\"OK\",IF(AND(#REF!<>\"\",#REF!<TODAY()),\"Retard\",\"Attente de Livraison\")))","v":""}]
[null,null,null,null,null,null,null,null,{"$f":"IF(F3260=\"\",\"\",IF(H3260<>\"\",\"OK\",IF(AND(#REF!<>\"\",#REF!<TODAY()),\"Retard\",\"Attente de Livraison\")))","v":""}]
[null,null,null,null,null,null,null,null,{"$f":"IF(F3261=\"\",\"\",IF(H3261<>\"\",\"OK\",IF(AND(#REF!<>\"\",#REF!<TODAY()),\"Retard\",\"Attente de Livraison\")))","v":""}]
[null,null,null,null,null,null,null,null,{"$f":"IF(F3262=\"\",\"\",IF(H3262<>\"\",\"OK\",IF(AND(#REF!<>\"\",#REF!<TODAY()),\"Retard\",\"Attente de Livraison\")))","v":""}]
[null,null,null,null,null,null,null,null,{"$f":"IF(F3263=\"\",\"\",IF(H3263<>\"\",\"OK\",IF(AND(#REF!<>\"\",#REF!<TODAY()),\"Retard\",\"Attente de Livraison\")))","v":""}]
[null,null,null,null,null,null,null,null,{"$f":"IF(F3264=\"\",\"\",IF(H3264<>\"\",\"OK\",IF(AND(#REF!<>\"\",#REF!<TODAY()),\"Retard\",\"Attente de Livraison\")))","v":""}]
[null,null,null,null,null,null,null,null,{"$f":"IF(F3265=\"\",\"\",IF(H3265<>\"\",\"OK\",IF(AND(#REF!<>\"\",#REF!<TODAY()),\"Retard\",\"Attente de Livraison\")))","v":""}]
[null,null,null,null,null,null,null,null,{"$f":"IF(F3266=\"\",\"\",IF(H3266<>\"\",\"OK\",IF(AND(#REF!<>\"\",#REF!<TODAY()),\"Retard\",\"Attente de Livraison\")))","v":""}]
[null,null,null,null,null,null,null,null,{"$f":"IF(F3267=\"\",\"\",IF(H3267<>\"\",\"OK\",IF(AND(#REF!<>\"\",#REF!<TODAY()),\"Retard\",\"Attente de Livraison\")))","v":""}]
[null,null,null,null,null,null,null,null,{"$f":"IF(F3268=\"\",\"\",IF(H3268<>\"\",\"OK\",IF(AND(#REF!<>\"\",#REF!<TODAY()),\"Retard\",\"Attente de Livraison\")))","v":""}]
[null,null,null,null,null,null,null,null,{"$f":"IF(F3269=\"\",\"\",IF(H3269<>\"\",\"OK\",IF(AND(#REF!<>\"\",#REF!<TODAY()),\"Retard\",\"Attente de Livraison\")))","v":""}]
[null,null,null,null,null,null,null,null,{"$f":"IF(F3270=\"\",\"\",IF(H3270<>\"\",\"OK\",IF(AND(#REF!<>\"\",#REF!<TODAY()),\"Retard\",\"Attente de Livraison\")))","v":""}]
[null,null,null,null,null,null,null,null,{"$f":"IF(F3271=\"\",\"\",IF(H3271<>\"\",\"OK\",IF(AND(#REF!<>\"\",#REF!<TODAY()),\"Retard\",\"Attente de Livraison\")))","v":""}]
[null,null,null,null,null,null,null,null,{"$f":"IF(F3272=\"\",\"\",IF(H3272<>\"\",\"OK\",IF(AND(#REF!<>\"\",#REF!<TODAY()),\"Retard\",\"Attente de Livraison\")))","v":""}]
[null,null,null,null,null,null,null,null,{"$f":"IF(F3273=\"\",\"\",IF(H3273<>\"\",\"OK\",IF(AND(#REF!<>\"\",#REF!<TODAY()),\"Retard\",\"Attente de Livraison\")))","v":""}]
[null,null,null,null,null,null,null,null,{"$f":"IF(F3274=\"\",\"\",IF(H3274<>\"\",\"OK\",IF(AND(#REF!<>\"\",#REF!<TODAY()),\"Retard\",\"Attente de Livraison\")))","v":""}]
[null,null,null,null,null,null,null,null,{"$f":"IF(F3275=\"\",\"\",IF(H3275<>\"\",\"OK\",IF(AND(#REF!<>\"\",#REF!<TODAY()),\"Retard\",\"Attente de Livraison\")))","v":""}]
[null,null,null,null,null,null,null,null,{"$f":"IF(F3276=\"\",\"\",IF(H3276<>\"\",\"OK\",IF(AND(#REF!<>\"\",#REF!<TODAY()),\"Retard\",\"Attente de Livraison\")))","v":""}]
[null,null,null,null,null,null,null,null,{"$f":"IF(F3277=\"\",\"\",IF(H3277<>\"\",\"OK\",IF(AND(#REF!<>\"\",#REF!<TODAY()),\"Retard\",\"Attente de Livraison\")))","v":""}]
[null,null,null,null,null,null,null,null,{"$f":"IF(F3278=\"\",\"\",IF(H3278<>\"\",\"OK\",IF(AND(#REF!<>\"\",#REF!<TODAY()),\"Retard\",\"Attente de Livraison\")))","v":""}]
[null,null,null,null,null,null,null,null,{"$f":"IF(F3279=\"\",\"\",IF(H3279<>\"\",\"OK\",IF(AND(#REF!<>\"\",#REF!<TODAY()),\"Retard\",\"Attente de Livraison\")))","v":""}]
[null,null,null,null,null,null,null,null,{"$f":"IF(F3280=\"\",\"\",IF(H3280<>\"\",\"OK\",IF(AND(#REF!<>\"\",#REF!<TODAY()),\"Retard\",\"Attente de Livraison\")))","v":""}]
[null,null,null,null,null,null,null,null,{"$f":"IF(F3281=\"\",\"\",IF(H3281<>\"\",\"OK\",IF(AND(#REF!<>\"\",#REF!<TODAY()),\"Retard\",\"Attente de Livraison\")))","v":""}]
[null,null,null,null,null,null,null,null,{"$f":"IF(F3282=\"\",\"\",IF(H3282<>\"\",\"OK\",IF(AND(#REF!<>\"\",#REF!<TODAY()),\"Retard\",\"Attente de Livraison\")))","v":""}]
[null,null,null,null,null,null,null,null,{"$f":"IF(F3283=\"\",\"\",IF(H3283<>\"\",\"OK\",IF(AND(#REF!<>\"\",#REF!<TODAY()),\"Retard\",\"Attente de Livraison\")))","v":""}]
[null,null,null,null,null,null,null,null,{"$f":"IF(F3284=\"\",\"\",IF(H3284<>\"\",\"OK\",IF(AND(#REF!<>\"\",#REF!<TODAY()),\"Retard\",\"Attente de Livraison\")))","v":""}]
[null,null,null,null,null,null,null,null,{"$f":"IF(F3285=\"\",\"\",IF(H3285<>\"\",\"OK\",IF(AND(#REF!<>\"\",#REF!<TODAY()),\"Retard\",\"Attente de Livraison\")))","v":""}]
[null,null,null,null,null,null,null,null,{"$f":"IF(F3286=\"\",\"\",IF(H3286<>\"\",\"OK\",IF(AND(#REF!<>\"\",#REF!<TODAY()),\"Retard\",\"Attente de Livraison\")))","v":""}]
[null,null,null,null,null,null,null,null,{"$f":"IF(F3287=\"\",\"\",IF(H3287<>\"\",\"OK\",IF(AND(#REF!<>\"\",#REF!<TODAY()),\"Retard\",\"Attente de Livraison\")))","v":""}]
[null,null,null,null,null,null,null,null,{"$f":"IF(F3288=\"\",\"\",IF(H3288<>\"\",\"OK\",IF(AND(#REF!<>\"\",#REF!<TODAY()),\"Retard\",\"Attente de Livraison\")))","v":""}]
[null,null,null,null,null,null,null,null,{"$f":"IF(F3289=\"\",\"\",IF(H3289<>\"\",\"OK\",IF(AND(#REF!<>\"\",#REF!<TODAY()),\"Retard\",\"Attente de Livraison\")))","v":""}]
[null,null,null,null,null,null,null,null,{"$f":"IF(F3290=\"\",\"\",IF(H3290<>\"\",\"OK\",IF(AND(#REF!<>\"\",#REF!<TODAY()),\"Retard\",\"Attente de Livraison\")))","v":""}]
[null,null,null,null,null,null,null,null,{"$f":"IF(F3291=\"\",\"\",IF(H3291<>\"\",\"OK\",IF(AND(#REF!<>\"\",#REF!<TODAY()),\"Retard\",\"Attente de Livraison\")))","v":""}]
[null,null,null,null,null,null,null,null,{"$f":"IF(F3292=\"\",\"\",IF(H3292<>\"\",\"OK\",IF(AND(#REF!<>\"\",#REF!<TODAY()),\"Retard\",\"Attente de Livraison\")))","v":""}]
[null,null,null,null,null,null,null,null,{"$f":"IF(F3293=\"\",\"\",IF(H3293<>\"\",\"OK\",IF(AND(#REF!<>\"\",#REF!<TODAY()),\"Retard\",\"Attente de Livraison\")))","v":""}]
[null,null,null,null,null,null,null,null,{"$f":"IF(F3294=\"\",\"\",IF(H3294<>\"\",\"OK\",IF(AND(#REF!<>\"\",#REF!<TODAY()),\"Retard\",\"Attente de Livraison\")))","v":""}]
[null,null,null,null,null,null,null,null,{"$f":"IF(F3295=\"\",\"\",IF(H3295<>\"\",\"OK\",IF(AND(#REF!<>\"\",#REF!<TODAY()),\"Retard\",\"Attente de Livraison\")))","v":""}]
[null,null,null,null,null,null,null,null,{"$f":"IF(F3296=\"\",\"\",IF(H3296<>\"\",\"OK\",IF(AND(#REF!<>\"\",#REF!<TODAY()),\"Retard\",\"Attente de Livraison\")))","v":""}]
[null,null,null,null,null,null,null,null,{"$f":"IF(F3297=\"\",\"\",IF(H3297<>\"\",\"OK\",IF(AND(#REF!<>\"\",#REF!<TODAY()),\"Retard\",\"Attente de Livraison\")))","v":""}]
[null,null,null,null,null,null,null,null,{"$f":"IF(F3298=\"\",\"\",IF(H3298<>\"\",\"OK\",IF(AND(#REF!<>\"\",#REF!<TODAY()),\"Retard\",\"Attente de Livraison\")))","v":""}]
[null,null,null,null,null,null,null,null,{"$f":"IF(F3299=\"\",\"\",IF(H3299<>\"\",\"OK\",IF(AND(#REF!<>\"\",#REF!<TODAY()),\"Retard\",\"Attente de Livraison\")))","v":""}]
[null,null,null,null,null,null,null,null,{"$f":"IF(F3300=\"\",\"\",IF(H3300<>\"\",\"OK\",IF(AND(#REF!<>\"\",#REF!<TODAY()),\"Retard\",\"Attente de Livraison\")))","v":""}]
[null,null,null,null,null,null,null,null,{"$f":"IF(F3301=\"\",\"\",IF(H3301<>\"\",\"OK\",IF(AND(#REF!<>\"\",#REF!<TODAY()),\"Retard\",\"Attente de Livraison\")))","v":""}]
[null,null,null,null,null,null,null,null,{"$f":"IF(F3302=\"\",\"\",IF(H3302<>\"\",\"OK\",IF(AND(#REF!<>\"\",#REF!<TODAY()),\"Retard\",\"Attente de Livraison\")))","v":""}]
[null,null,null,null,null,null,null,null,{"$f":"IF(F3303=\"\",\"\",IF(H3303<>\"\",\"OK\",IF(AND(#REF!<>\"\",#REF!<TODAY()),\"Retard\",\"Attente de Livraison\")))","v":""}]
[null,null,null,null,null,null,null,null,{"$f":"IF(F3304=\"\",\"\",IF(H3304<>\"\",\"OK\",IF(AND(#REF!<>\"\",#REF!<TODAY()),\"Retard\",\"Attente de Livraison\")))","v":""}]
[null,null,null,null,null,null,null,null,{"$f":"IF(F3305=\"\",\"\",IF(H3305<>\"\",\"OK\",IF(AND(#REF!<>\"\",#REF!<TODAY()),\"Retard\",\"Attente de Livraison\")))","v":""}]
[null,null,null,null,null,null,null,null,{"$f":"IF(F3306=\"\",\"\",IF(H3306<>\"\",\"OK\",IF(AND(#REF!<>\"\",#REF!<TODAY()),\"Retard\",\"Attente de Livraison\")))","v":""}]
[null,null,null,null,null,null,null,null,{"$f":"IF(F3307=\"\",\"\",IF(H3307<>\"\",\"OK\",IF(AND(#REF!<>\"\",#REF!<TODAY()),\"Retard\",\"Attente de Livraison\")))","v":""}]
[null,null,null,null,null,null,null,null,{"$f":"IF(F3308=\"\",\"\",IF(H3308<>\"\",\"OK\",IF(AND(#REF!<>\"\",#REF!<TODAY()),\"Retard\",\"Attente de Livraison\")))","v":""}]
[null,null,null,null,null,null,null,null,{"$f":"IF(F3309=\"\",\"\",IF(H3309<>\"\",\"OK\",IF(AND(#REF!<>\"\",#REF!<TODAY()),\"Retard\",\"Attente de Livraison\")))","v":""}]
[null,null,null,null,null,null,null,null,{"$f":"IF(F3310=\"\",\"\",IF(H3310<>\"\",\"OK\",IF(AND(#REF!<>\"\",#REF!<TODAY()),\"Retard\",\"Attente de Livraison\")))","v":""}]
[null,null,null,null,null,null,null,null,{"$f":"IF(F3311=\"\",\"\",IF(H3311<>\"\",\"OK\",IF(AND(#REF!<>\"\",#REF!<TODAY()),\"Retard\",\"Attente de Livraison\")))","v":""}]
[null,null,null,null,null,null,null,null,{"$f":"IF(F3312=\"\",\"\",IF(H3312<>\"\",\"OK\",IF(AND(#REF!<>\"\",#REF!<TODAY()),\"Retard\",\"Attente de Livraison\")))","v":""}]
[null,null,null,null,null,null,null,null,{"$f":"IF(F3313=\"\",\"\",IF(H3313<>\"\",\"OK\",IF(AND(#REF!<>\"\",#REF!<TODAY()),\"Retard\",\"Attente de Livraison\")))","v":""}]
[null,null,null,null,null,null,null,null,{"$f":"IF(F3314=\"\",\"\",IF(H3314<>\"\",\"OK\",IF(AND(#REF!<>\"\",#REF!<TODAY()),\"Retard\",\"Attente de Livraison\")))","v":""}]
[null,null,null,null,null,null,null,null,{"$f":"IF(F3315=\"\",\"\",IF(H3315<>\"\",\"OK\",IF(AND(#REF!<>\"\",#REF!<TODAY()),\"Retard\",\"Attente de Livraison\")))","v":""}]
[null,null,null,null,null,null,null,null,{"$f":"IF(F3316=\"\",\"\",IF(H3316<>\"\",\"OK\",IF(AND(#REF!<>\"\",#REF!<TODAY()),\"Retard\",\"Attente de Livraison\")))","v":""}]
[null,null,null,null,null,null,null,null,{"$f":"IF(F3317=\"\",\"\",IF(H3317<>\"\",\"OK\",IF(AND(#REF!<>\"\",#REF!<TODAY()),\"Retard\",\"Attente de Livraison\")))","v":""}]
[null,null,null,null,null,null,null,null,{"$f":"IF(F3318=\"\",\"\",IF(H3318<>\"\",\"OK\",IF(AND(#REF!<>\"\",#REF!<TODAY()),\"Retard\",\"Attente de Livraison\")))","v":""}]
[null,null,null,null,null,null,null,null,{"$f":"IF(F3319=\"\",\"\",IF(H3319<>\"\",\"OK\",IF(AND(#REF!<>\"\",#REF!<TODAY()),\"Retard\",\"Attente de Livraison\")))","v":""}]
[null,null,null,null,null,null,null,null,{"$f":"IF(F3320=\"\",\"\",IF(H3320<>\"\",\"OK\",IF(AND(#REF!<>\"\",#REF!<TODAY()),\"Retard\",\"Attente de Livraison\")))","v":""}]
[null,null,null,null,null,null,null,null,{"$f":"IF(F3321=\"\",\"\",IF(H3321<>\"\",\"OK\",IF(AND(#REF!<>\"\",#REF!<TODAY()),\"Retard\",\"Attente de Livraison\")))","v":""}]
[null,null,null,null,null,null,null,null,{"$f":"IF(F3322=\"\",\"\",IF(H3322<>\"\",\"OK\",IF(AND(#REF!<>\"\",#REF!<TODAY()),\"Retard\",\"Attente de Livraison\")))","v":""}]
[null,null,null,null,null,null,null,null,{"$f":"IF(F3323=\"\",\"\",IF(H3323<>\"\",\"OK\",IF(AND(#REF!<>\"\",#REF!<TODAY()),\"Retard\",\"Attente de Livraison\")))","v":""}]
[null,null,null,null,null,null,null,null,{"$f":"IF(F3324=\"\",\"\",IF(H3324<>\"\",\"OK\",IF(AND(#REF!<>\"\",#REF!<TODAY()),\"Retard\",\"Attente de Livraison\")))","v":""}]
[null,null,null,null,null,null,null,null,{"$f":"IF(F3325=\"\",\"\",IF(H3325<>\"\",\"OK\",IF(AND(#REF!<>\"\",#REF!<TODAY()),\"Retard\",\"Attente de Livraison\")))","v":""}]
[null,null,null,null,null,null,null,null,{"$f":"IF(F3326=\"\",\"\",IF(H3326<>\"\",\"OK\",IF(AND(#REF!<>\"\",#REF!<TODAY()),\"Retard\",\"Attente de Livraison\")))","v":""}]
[null,null,null,null,null,null,null,null,{"$f":"IF(F3327=\"\",\"\",IF(H3327<>\"\",\"OK\",IF(AND(#REF!<>\"\",#REF!<TODAY()),\"Retard\",\"Attente de Livraison\")))","v":""}]
[null,null,null,null,null,null,null,null,{"$f":"IF(F3328=\"\",\"\",IF(H3328<>\"\",\"OK\",IF(AND(#REF!<>\"\",#REF!<TODAY()),\"Retard\",\"Attente de Livraison\")))","v":""}]
[null,null,null,null,null,null,null,null,{"$f":"IF(F3329=\"\",\"\",IF(H3329<>\"\",\"OK\",IF(AND(#REF!<>\"\",#REF!<TODAY()),\"Retard\",\"Attente de Livraison\")))","v":""}]
[null,null,null,null,null,null,null,null,{"$f":"IF(F3330=\"\",\"\",IF(H3330<>\"\",\"OK\",IF(AND(#REF!<>\"\",#REF!<TODAY()),\"Retard\",\"Attente de Livraison\")))","v":""}]
[null,null,null,null,null,null,null,null,{"$f":"IF(F3331=\"\",\"\",IF(H3331<>\"\",\"OK\",IF(AND(#REF!<>\"\",#REF!<TODAY()),\"Retard\",\"Attente de Livraison\")))","v":""}]
[null,null,null,null,null,null,null,null,{"$f":"IF(F3332=\"\",\"\",IF(H3332<>\"\",\"OK\",IF(AND(#REF!<>\"\",#REF!<TODAY()),\"Retard\",\"Attente de Livraison\")))","v":""}]
[null,null,null,null,null,null,null,null,{"$f":"IF(F3333=\"\",\"\",IF(H3333<>\"\",\"OK\",IF(AND(#REF!<>\"\",#REF!<TODAY()),\"Retard\",\"Attente de Livraison\")))","v":""}]
[null,null,null,null,null,null,null,null,{"$f":"IF(F3334=\"\",\"\",IF(H3334<>\"\",\"OK\",IF(AND(#REF!<>\"\",#REF!<TODAY()),\"Retard\",\"Attente de Livraison\")))","v":""}]
[null,null,null,null,null,null,null,null,{"$f":"IF(F3335=\"\",\"\",IF(H3335<>\"\",\"OK\",IF(AND(#REF!<>\"\",#REF!<TODAY()),\"Retard\",\"Attente de Livraison\")))","v":""}]
[null,null,null,null,null,null,null,null,{"$f":"IF(F3336=\"\",\"\",IF(H3336<>\"\",\"OK\",IF(AND(#REF!<>\"\",#REF!<TODAY()),\"Retard\",\"Attente de Livraison\")))","v":""}]
[null,null,null,null,null,null,null,null,{"$f":"IF(F3337=\"\",\"\",IF(H3337<>\"\",\"OK\",IF(AND(#REF!<>\"\",#REF!<TODAY()),\"Retard\",\"Attente de Livraison\")))","v":""}]
[null,null,null,null,null,null,null,null,{"$f":"IF(F3338=\"\",\"\",IF(H3338<>\"\",\"OK\",IF(AND(#REF!<>\"\",#REF!<TODAY()),\"Retard\",\"Attente de Livraison\")))","v":""}]
[null,null,null,null,null,null,null,null,{"$f":"IF(F3339=\"\",\"\",IF(H3339<>\"\",\"OK\",IF(AND(#REF!<>\"\",#REF!<TODAY()),\"Retard\",\"Attente de Livraison\")))","v":""}]
[null,null,null,null,null,null,null,null,{"$f":"IF(F3340=\"\",\"\",IF(H3340<>\"\",\"OK\",IF(AND(#REF!<>\"\",#REF!<TODAY()),\"Retard\",\"Attente de Livraison\")))","v":""}]
[null,null,null,null,null,null,null,null,{"$f":"IF(F3341=\"\",\"\",IF(H3341<>\"\",\"OK\",IF(AND(#REF!<>\"\",#REF!<TODAY()),\"Retard\",\"Attente de Livraison\")))","v":""}]
[null,null,null,null,null,null,null,null,{"$f":"IF(F3342=\"\",\"\",IF(H3342<>\"\",\"OK\",IF(AND(#REF!<>\"\",#REF!<TODAY()),\"Retard\",\"Attente de Livraison\")))","v":""}]
[null,null,null,null,null,null,null,null,{"$f":"IF(F3343=\"\",\"\",IF(H3343<>\"\",\"OK\",IF(AND(#REF!<>\"\",#REF!<TODAY()),\"Retard\",\"Attente de Livraison\")))","v":""}]
[null,null,null,null,null,null,null,null,{"$f":"IF(F3344=\"\",\"\",IF(H3344<>\"\",\"OK\",IF(AND(#REF!<>\"\",#REF!<TODAY()),\"Retard\",\"Attente de Livraison\")))","v":""}]
[null,null,null,null,null,null,null,null,{"$f":"IF(F3345=\"\",\"\",IF(H3345<>\"\",\"OK\",IF(AND(#REF!<>\"\",#REF!<TODAY()),\"Retard\",\"Attente de Livraison\")))","v":""}]
[null,null,null,null,null,null,null,null,{"$f":"IF(F3346=\"\",\"\",IF(H3346<>\"\",\"OK\",IF(AND(#REF!<>\"\",#REF!<TODAY()),\"Retard\",\"Attente de Livraison\")))","v":""}]
[null,null,null,null,null,null,null,null,{"$f":"IF(F3347=\"\",\"\",IF(H3347<>\"\",\"OK\",IF(AND(#REF!<>\"\",#REF!<TODAY()),\"Retard\",\"Attente de Livraison\")))","v":""}]
[null,null,null,null,null,null,null,null,{"$f":"IF(F3348=\"\",\"\",IF(H3348<>\"\",\"OK\",IF(AND(#REF!<>\"\",#REF!<TODAY()),\"Retard\",\"Attente de Livraison\")))","v":""}]
[null,null,null,null,null,null,null,null,{"$f":"IF(F3349=\"\",\"\",IF(H3349<>\"\",\"OK\",IF(AND(#REF!<>\"\",#REF!<TODAY()),\"Retard\",\"Attente de Livraison\")))","v":""}]
[null,null,null,null,null,null,null,null,{"$f":"IF(F3350=\"\",\"\",IF(H3350<>\"\",\"OK\",IF(AND(#REF!<>\"\",#REF!<TODAY()),\"Retard\",\"Attente de Livraison\")))","v":""}]
[null,null,null,null,null,null,null,null,{"$f":"IF(F3351=\"\",\"\",IF(H3351<>\"\",\"OK\",IF(AND(#REF!<>\"\",#REF!<TODAY()),\"Retard\",\"Attente de Livraison\")))","v":""}]
[null,null,null,null,null,null,null,null,{"$f":"IF(F3352=\"\",\"\",IF(H3352<>\"\",\"OK\",IF(AND(#REF!<>\"\",#REF!<TODAY()),\"Retard\",\"Attente de Livraison\")))","v":""}]
[null,null,null,null,null,null,null,null,{"$f":"IF(F3353=\"\",\"\",IF(H3353<>\"\",\"OK\",IF(AND(#REF!<>\"\",#REF!<TODAY()),\"Retard\",\"Attente de Livraison\")))","v":""}]
[null,null,null,null,null,null,null,null,{"$f":"IF(F3354=\"\",\"\",IF(H3354<>\"\",\"OK\",IF(AND(#REF!<>\"\",#REF!<TODAY()),\"Retard\",\"Attente de Livraison\")))","v":""}]
[null,null,null,null,null,null,null,null,{"$f":"IF(F3355=\"\",\"\",IF(H3355<>\"\",\"OK\",IF(AND(#REF!<>\"\",#REF!<TODAY()),\"Retard\",\"Attente de Livraison\")))","v":""}]
[null,null,null,null,null,null,null,null,{"$f":"IF(F3356=\"\",\"\",IF(H3356<>\"\",\"OK\",IF(AND(#REF!<>\"\",#REF!<TODAY()),\"Retard\",\"Attente de Livraison\")))","v":""}]
[null,null,null,null,null,null,null,null,{"$f":"IF(F3357=\"\",\"\",IF(H3357<>\"\",\"OK\",IF(AND(#REF!<>\"\",#REF!<TODAY()),\"Retard\",\"Attente de Livraison\")))","v":""}]
[null,null,null,null,null,null,null,null,{"$f":"IF(F3358=\"\",\"\",IF(H3358<>\"\",\"OK\",IF(AND(#REF!<>\"\",#REF!<TODAY()),\"Retard\",\"Attente de Livraison\")))","v":""}]
[null,null,null,null,null,null,null,null,{"$f":"IF(F3359=\"\",\"\",IF(H3359<>\"\",\"OK\",IF(AND(#REF!<>\"\",#REF!<TODAY()),\"Retard\",\"Attente de Livraison\")))","v":""}]
[null,null,null,null,null,null,null,null,{"$f":"IF(F3360=\"\",\"\",IF(H3360<>\"\",\"OK\",IF(AND(#REF!<>\"\",#REF!<TODAY()),\"Retard\",\"Attente de Livraison\")))","v":""}]
[null,null,null,null,null,null,null,null,{"$f":"IF(F3361=\"\",\"\",IF(H3361<>\"\",\"OK\",IF(AND(#REF!<>\"\",#REF!<TODAY()),\"Retard\",\"Attente de Livraison\")))","v":""}]
[null,null,null,null,null,null,null,null,{"$f":"IF(F3362=\"\",\"\",IF(H3362<>\"\",\"OK\",IF(AND(#REF!<>\"\",#REF!<TODAY()),\"Retard\",\"Attente de Livraison\")))","v":""}]
[null,null,null,null,null,null,null,null,{"$f":"IF(F3363=\"\",\"\",IF(H3363<>\"\",\"OK\",IF(AND(#REF!<>\"\",#REF!<TODAY()),\"Retard\",\"Attente de Livraison\")))","v":""}]
[null,null,null,null,null,null,null,null,{"$f":"IF(F3364=\"\",\"\",IF(H3364<>\"\",\"OK\",IF(AND(#REF!<>\"\",#REF!<TODAY()),\"Retard\",\"Attente de Livraison\")))","v":""}]
[null,null,null,null,null,null,null,null,{"$f":"IF(F3365=\"\",\"\",IF(H3365<>\"\",\"OK\",IF(AND(#REF!<>\"\",#REF!<TODAY()),\"Retard\",\"Attente de Livraison\")))","v":""}]
[null,null,null,null,null,null,null,null,{"$f":"IF(F3366=\"\",\"\",IF(H3366<>\"\",\"OK\",IF(AND(#REF!<>\"\",#REF!<TODAY()),\"Retard\",\"Attente de Livraison\")))","v":""}]
[null,null,null,null,null,null,null,null,{"$f":"IF(F3367=\"\",\"\",IF(H3367<>\"\",\"OK\",IF(AND(#REF!<>\"\",#REF!<TODAY()),\"Retard\",\"Attente de Livraison\")))","v":""}]
[null,null,null,null,null,null,null,null,{"$f":"IF(F3368=\"\",\"\",IF(H3368<>\"\",\"OK\",IF(AND(#REF!<>\"\",#REF!<TODAY()),\"Retard\",\"Attente de Livraison\")))","v":""}]
[null,null,null,null,null,null,null,null,{"$f":"IF(F3369=\"\",\"\",IF(H3369<>\"\",\"OK\",IF(AND(#REF!<>\"\",#REF!<TODAY()),\"Retard\",\"Attente de Livraison\")))","v":""}]
[null,null,null,null,null,null,null,null,{"$f":"IF(F3370=\"\",\"\",IF(H3370<>\"\",\"OK\",IF(AND(#REF!<>\"\",#REF!<TODAY()),\"Retard\",\"Attente de Livraison\")))","v":""}]
[null,null,null,null,null,null,null,null,{"$f":"IF(F3371=\"\",\"\",IF(H3371<>\"\",\"OK\",IF(AND(#REF!<>\"\",#REF!<TODAY()),\"Retard\",\"Attente de Livraison\")))","v":""}]
[null,null,null,null,null,null,null,null,{"$f":"IF(F3372=\"\",\"\",IF(H3372<>\"\",\"OK\",IF(AND(#REF!<>\"\",#REF!<TODAY()),\"Retard\",\"Attente de Livraison\")))","v":""}]
[null,null,null,null,null,null,null,null,{"$f":"IF(F3373=\"\",\"\",IF(H3373<>\"\",\"OK\",IF(AND(#REF!<>\"\",#REF!<TODAY()),\"Retard\",\"Attente de Livraison\")))","v":""}]
[null,null,null,null,null,null,null,null,{"$f":"IF(F3374=\"\",\"\",IF(H3374<>\"\",\"OK\",IF(AND(#REF!<>\"\",#REF!<TODAY()),\"Retard\",\"Attente de Livraison\")))","v":""}]
[null,null,null,null,null,null,null,null,{"$f":"IF(F3375=\"\",\"\",IF(H3375<>\"\",\"OK\",IF(AND(#REF!<>\"\",#REF!<TODAY()),\"Retard\",\"Attente de Livraison\")))","v":""}]
[null,null,null,null,null,null,null,null,{"$f":"IF(F3376=\"\",\"\",IF(H3376<>\"\",\"OK\",IF(AND(#REF!<>\"\",#REF!<TODAY()),\"Retard\",\"Attente de Livraison\")))","v":""}]
[null,null,null,null,null,null,null,null,{"$f":"IF(F3377=\"\",\"\",IF(H3377<>\"\",\"OK\",IF(AND(#REF!<>\"\",#REF!<TODAY()),\"Retard\",\"Attente de Livraison\")))","v":""}]
[null,null,null,null,null,null,null,null,{"$f":"IF(F3378=\"\",\"\",IF(H3378<>\"\",\"OK\",IF(AND(#REF!<>\"\",#REF!<TODAY()),\"Retard\",\"Attente de Livraison\")))","v":""}]
[null,null,null,null,null,null,null,null,{"$f":"IF(F3379=\"\",\"\",IF(H3379<>\"\",\"OK\",IF(AND(#REF!<>\"\",#REF!<TODAY()),\"Retard\",\"Attente de Livraison\")))","v":""}]
[null,null,null,null,null,null,null,null,{"$f":"IF(F3380=\"\",\"\",IF(H3380<>\"\",\"OK\",IF(AND(#REF!<>\"\",#REF!<TODAY()),\"Retard\",\"Attente de Livraison\")))","v":""}]
[null,null,null,null,null,null,null,null,{"$f":"IF(F3381=\"\",\"\",IF(H3381<>\"\",\"OK\",IF(AND(#REF!<>\"\",#REF!<TODAY()),\"Retard\",\"Attente de Livraison\")))","v":""}]
[null,null,null,null,null,null,null,null,{"$f":"IF(F3382=\"\",\"\",IF(H3382<>\"\",\"OK\",IF(AND(#REF!<>\"\",#REF!<TODAY()),\"Retard\",\"Attente de Livraison\")))","v":""}]
[null,null,null,null,null,null,null,null,{"$f":"IF(F3383=\"\",\"\",IF(H3383<>\"\",\"OK\",IF(AND(#REF!<>\"\",#REF!<TODAY()),\"Retard\",\"Attente de Livraison\")))","v":""}]
[null,null,null,null,null,null,null,null,{"$f":"IF(F3384=\"\",\"\",IF(H3384<>\"\",\"OK\",IF(AND(#REF!<>\"\",#REF!<TODAY()),\"Retard\",\"Attente de Livraison\")))","v":""}]
[null,null,null,null,null,null,null,null,{"$f":"IF(F3385=\"\",\"\",IF(H3385<>\"\",\"OK\",IF(AND(#REF!<>\"\",#REF!<TODAY()),\"Retard\",\"Attente de Livraison\")))","v":""}]
[null,null,null,null,null,null,null,null,{"$f":"IF(F3386=\"\",\"\",IF(H3386<>\"\",\"OK\",IF(AND(#REF!<>\"\",#REF!<TODAY()),\"Retard\",\"Attente de Livraison\")))","v":""}]
[null,null,null,null,null,null,null,null,{"$f":"IF(F3387=\"\",\"\",IF(H3387<>\"\",\"OK\",IF(AND(#REF!<>\"\",#REF!<TODAY()),\"Retard\",\"Attente de Livraison\")))","v":""}]
[null,null,null,null,null,null,null,null,{"$f":"IF(F3388=\"\",\"\",IF(H3388<>\"\",\"OK\",IF(AND(#REF!<>\"\",#REF!<TODAY()),\"Retard\",\"Attente de Livraison\")))","v":""}]
[null,null,null,null,null,null,null,null,{"$f":"IF(F3389=\"\",\"\",IF(H3389<>\"\",\"OK\",IF(AND(#REF!<>\"\",#REF!<TODAY()),\"Retard\",\"Attente de Livraison\")))","v":""}]
[null,null,null,null,null,null,null,null,{"$f":"IF(F3390=\"\",\"\",IF(H3390<>\"\",\"OK\",IF(AND(#REF!<>\"\",#REF!<TODAY()),\"Retard\",\"Attente de Livraison\")))","v":""}]
[null,null,null,null,null,null,null,null,{"$f":"IF(F3391=\"\",\"\",IF(H3391<>\"\",\"OK\",IF(AND(#REF!<>\"\",#REF!<TODAY()),\"Retard\",\"Attente de Livraison\")))","v":""}]
[null,null,null,null,null,null,null,null,{"$f":"IF(F3392=\"\",\"\",IF(H3392<>\"\",\"OK\",IF(AND(#REF!<>\"\",#REF!<TODAY()),\"Retard\",\"Attente de Livraison\")))","v":""}]
[null,null,null,null,null,null,null,null,{"$f":"IF(F3393=\"\",\"\",IF(H3393<>\"\",\"OK\",IF(AND(#REF!<>\"\",#REF!<TODAY()),\"Retard\",\"Attente de Livraison\")))","v":""}]
[null,null,null,null,null,null,null,null,{"$f":"IF(F3394=\"\",\"\",IF(H3394<>\"\",\"OK\",IF(AND(#REF!<>\"\",#REF!<TODAY()),\"Retard\",\"Attente de Livraison\")))","v":""}]
[null,null,null,null,null,null,null,null,{"$f":"IF(F3395=\"\",\"\",IF(H3395<>\"\",\"OK\",IF(AND(#REF!<>\"\",#REF!<TODAY()),\"Retard\",\"Attente de Livraison\")))","v":""}]
[null,null,null,null,null,null,null,null,{"$f":"IF(F3396=\"\",\"\",IF(H3396<>\"\",\"OK\",IF(AND(#REF!<>\"\",#REF!<TODAY()),\"Retard\",\"Attente de Livraison\")))","v":""}]
[null,null,null,null,null,null,null,null,{"$f":"IF(F3397=\"\",\"\",IF(H3397<>\"\",\"OK\",IF(AND(#REF!<>\"\",#REF!<TODAY()),\"Retard\",\"Attente de Livraison\")))","v":""}]
[null,null,null,null,null,null,null,null,{"$f":"IF(F3398=\"\",\"\",IF(H3398<>\"\",\"OK\",IF(AND(#REF!<>\"\",#REF!<TODAY()),\"Retard\",\"Attente de Livraison\")))","v":""}]
[null,null,null,null,null,null,null,null,{"$f":"IF(F3399=\"\",\"\",IF(H3399<>\"\",\"OK\",IF(AND(#REF!<>\"\",#REF!<TODAY()),\"Retard\",\"Attente de Livraison\")))","v":""}]
[null,null,null,null,null,null,null,null,{"$f":"IF(F3400=\"\",\"\",IF(H3400<>\"\",\"OK\",IF(AND(#REF!<>\"\",#REF!<TODAY()),\"Retard\",\"Attente de Livraison\")))","v":""}]
[null,null,null,null,null,null,null,null,{"$f":"IF(F3401=\"\",\"\",IF(H3401<>\"\",\"OK\",IF(AND(#REF!<>\"\",#REF!<TODAY()),\"Retard\",\"Attente de Livraison\")))","v":""}]
[null,null,null,null,null,null,null,null,{"$f":"IF(F3402=\"\",\"\",IF(H3402<>\"\",\"OK\",IF(AND(#REF!<>\"\",#REF!<TODAY()),\"Retard\",\"Attente de Livraison\")))","v":""}]
[null,null,null,null,null,null,null,null,{"$f":"IF(F3403=\"\",\"\",IF(H3403<>\"\",\"OK\",IF(AND(#REF!<>\"\",#REF!<TODAY()),\"Retard\",\"Attente de Livraison\")))","v":""}]
[null,null,null,null,null,null,null,null,{"$f":"IF(F3404=\"\",\"\",IF(H3404<>\"\",\"OK\",IF(AND(#REF!<>\"\",#REF!<TODAY()),\"Retard\",\"Attente de Livraison\")))","v":""}]
[null,null,null,null,null,null,null,null,{"$f":"IF(F3405=\"\",\"\",IF(H3405<>\"\",\"OK\",IF(AND(#REF!<>\"\",#REF!<TODAY()),\"Retard\",\"Attente de Livraison\")))","v":""}]
[null,null,null,null,null,null,null,null,{"$f":"IF(F3406=\"\",\"\",IF(H3406<>\"\",\"OK\",IF(AND(#REF!<>\"\",#REF!<TODAY()),\"Retard\",\"Attente de Livraison\")))","v":""}]
[null,null,null,null,null,null,null,null,{"$f":"IF(F3407=\"\",\"\",IF(H3407<>\"\",\"OK\",IF(AND(#REF!<>\"\",#REF!<TODAY()),\"Retard\",\"Attente de Livraison\")))","v":""}]
[null,null,null,null,null,null,null,null,{"$f":"IF(F3408=\"\",\"\",IF(H3408<>\"\",\"OK\",IF(AND(#REF!<>\"\",#REF!<TODAY()),\"Retard\",\"Attente de Livraison\")))","v":""}]
[null,null,null,null,null,null,null,null,{"$f":"IF(F3409=\"\",\"\",IF(H3409<>\"\",\"OK\",IF(AND(#REF!<>\"\",#REF!<TODAY()),\"Retard\",\"Attente de Livraison\")))","v":""}]
[null,null,null,null,null,null,null,null,{"$f":"IF(F3410=\"\",\"\",IF(H3410<>\"\",\"OK\",IF(AND(#REF!<>\"\",#REF!<TODAY()),\"Retard\",\"Attente de Livraison\")))","v":""}]
[null,null,null,null,null,null,null,null,{"$f":"IF(F3411=\"\",\"\",IF(H3411<>\"\",\"OK\",IF(AND(#REF!<>\"\",#REF!<TODAY()),\"Retard\",\"Attente de Livraison\")))","v":""}]
[null,null,null,null,null,null,null,null,{"$f":"IF(F3412=\"\",\"\",IF(H3412<>\"\",\"OK\",IF(AND(#REF!<>\"\",#REF!<TODAY()),\"Retard\",\"Attente de Livraison\")))","v":""}]
[null,null,null,null,null,null,null,null,{"$f":"IF(F3413=\"\",\"\",IF(H3413<>\"\",\"OK\",IF(AND(#REF!<>\"\",#REF!<TODAY()),\"Retard\",\"Attente de Livraison\")))","v":""}]
[null,null,null,null,null,null,null,null,{"$f":"IF(F3414=\"\",\"\",IF(H3414<>\"\",\"OK\",IF(AND(#REF!<>\"\",#REF!<TODAY()),\"Retard\",\"Attente de Livraison\")))","v":""}]
[null,null,null,null,null,null,null,null,{"$f":"IF(F3415=\"\",\"\",IF(H3415<>\"\",\"OK\",IF(AND(#REF!<>\"\",#REF!<TODAY()),\"Retard\",\"Attente de Livraison\")))","v":""}]
[null,null,null,null,null,null,null,null,{"$f":"IF(F3416=\"\",\"\",IF(H3416<>\"\",\"OK\",IF(AND(#REF!<>\"\",#REF!<TODAY()),\"Retard\",\"Attente de Livraison\")))","v":""}]
[null,null,null,null,null,null,null,null,{"$f":"IF(F3417=\"\",\"\",IF(H3417<>\"\",\"OK\",IF(AND(#REF!<>\"\",#REF!<TODAY()),\"Retard\",\"Attente de Livraison\")))","v":""}]
[null,null,null,null,null,null,null,null,{"$f":"IF(F3418=\"\",\"\",IF(H3418<>\"\",\"OK\",IF(AND(#REF!<>\"\",#REF!<TODAY()),\"Retard\",\"Attente de Livraison\")))","v":""}]
[null,null,null,null,null,null,null,null,{"$f":"IF(F3419=\"\",\"\",IF(H3419<>\"\",\"OK\",IF(AND(#REF!<>\"\",#REF!<TODAY()),\"Retard\",\"Attente de Livraison\")))","v":""}]
[null,null,null,null,null,null,null,null,{"$f":"IF(F3420=\"\",\"\",IF(H3420<>\"\",\"OK\",IF(AND(#REF!<>\"\",#REF!<TODAY()),\"Retard\",\"Attente de Livraison\")))","v":""}]
[null,null,null,null,null,null,null,null,{"$f":"IF(F3421=\"\",\"\",IF(H3421<>\"\",\"OK\",IF(AND(#REF!<>\"\",#REF!<TODAY()),\"Retard\",\"Attente de Livraison\")))","v":""}]
[null,null,null,null,null,null,null,null,{"$f":"IF(F3422=\"\",\"\",IF(H3422<>\"\",\"OK\",IF(AND(#REF!<>\"\",#REF!<TODAY()),\"Retard\",\"Attente de Livraison\")))","v":""}]
[null,null,null,null,null,null,null,null,{"$f":"IF(F3423=\"\",\"\",IF(H3423<>\"\",\"OK\",IF(AND(#REF!<>\"\",#REF!<TODAY()),\"Retard\",\"Attente de Livraison\")))","v":""}]
[null,null,null,null,null,null,null,null,{"$f":"IF(F3424=\"\",\"\",IF(H3424<>\"\",\"OK\",IF(AND(#REF!<>\"\",#REF!<TODAY()),\"Retard\",\"Attente de Livraison\")))","v":""}]
[null,null,null,null,null,null,null,null,{"$f":"IF(F3425=\"\",\"\",IF(H3425<>\"\",\"OK\",IF(AND(#REF!<>\"\",#REF!<TODAY()),\"Retard\",\"Attente de Livraison\")))","v":""}]
[null,null,null,null,null,null,null,null,{"$f":"IF(F3426=\"\",\"\",IF(H3426<>\"\",\"OK\",IF(AND(#REF!<>\"\",#REF!<TODAY()),\"Retard\",\"Attente de Livraison\")))","v":""}]
[null,null,null,null,null,null,null,null,{"$f":"IF(F3427=\"\",\"\",IF(H3427<>\"\",\"OK\",IF(AND(#REF!<>\"\",#REF!<TODAY()),\"Retard\",\"Attente de Livraison\")))","v":""}]
[null,null,null,null,null,null,null,null,{"$f":"IF(F3428=\"\",\"\",IF(H3428<>\"\",\"OK\",IF(AND(#REF!<>\"\",#REF!<TODAY()),\"Retard\",\"Attente de Livraison\")))","v":""}]
[null,null,null,null,null,null,null,null,{"$f":"IF(F3429=\"\",\"\",IF(H3429<>\"\",\"OK\",IF(AND(#REF!<>\"\",#REF!<TODAY()),\"Retard\",\"Attente de Livraison\")))","v":""}]
[null,null,null,null,null,null,null,null,{"$f":"IF(F3430=\"\",\"\",IF(H3430<>\"\",\"OK\",IF(AND(#REF!<>\"\",#REF!<TODAY()),\"Retard\",\"Attente de Livraison\")))","v":""}]
[null,null,null,null,null,null,null,null,{"$f":"IF(F3431=\"\",\"\",IF(H3431<>\"\",\"OK\",IF(AND(#REF!<>\"\",#REF!<TODAY()),\"Retard\",\"Attente de Livraison\")))","v":""}]
[null,null,null,null,null,null,null,null,{"$f":"IF(F3432=\"\",\"\",IF(H3432<>\"\",\"OK\",IF(AND(#REF!<>\"\",#REF!<TODAY()),\"Retard\",\"Attente de Livraison\")))","v":""}]
[null,null,null,null,null,null,null,null,{"$f":"IF(F3433=\"\",\"\",IF(H3433<>\"\",\"OK\",IF(AND(#REF!<>\"\",#REF!<TODAY()),\"Retard\",\"Attente de Livraison\")))","v":""}]
[null,null,null,null,null,null,null,null,{"$f":"IF(F3434=\"\",\"\",IF(H3434<>\"\",\"OK\",IF(AND(#REF!<>\"\",#REF!<TODAY()),\"Retard\",\"Attente de Livraison\")))","v":""}]
[null,null,null,null,null,null,null,null,{"$f":"IF(F3435=\"\",\"\",IF(H3435<>\"\",\"OK\",IF(AND(#REF!<>\"\",#REF!<TODAY()),\"Retard\",\"Attente de Livraison\")))","v":""}]
[null,null,null,null,null,null,null,null,{"$f":"IF(F3436=\"\",\"\",IF(H3436<>\"\",\"OK\",IF(AND(#REF!<>\"\",#REF!<TODAY()),\"Retard\",\"Attente de Livraison\")))","v":""}]
[null,null,null,null,null,null,null,null,{"$f":"IF(F3437=\"\",\"\",IF(H3437<>\"\",\"OK\",IF(AND(#REF!<>\"\",#REF!<TODAY()),\"Retard\",\"Attente de Livraison\")))","v":""}]
[null,null,null,null,null,null,null,null,{"$f":"IF(F3438=\"\",\"\",IF(H3438<>\"\",\"OK\",IF(AND(#REF!<>\"\",#REF!<TODAY()),\"Retard\",\"Attente de Livraison\")))","v":""}]
[null,null,null,null,null,null,null,null,{"$f":"IF(F3439=\"\",\"\",IF(H3439<>\"\",\"OK\",IF(AND(#REF!<>\"\",#REF!<TODAY()),\"Retard\",\"Attente de Livraison\")))","v":""}]
[null,null,null,null,null,null,null,null,{"$f":"IF(F3440=\"\",\"\",IF(H3440<>\"\",\"OK\",IF(AND(#REF!<>\"\",#REF!<TODAY()),\"Retard\",\"Attente de Livraison\")))","v":""}]
[null,null,null,null,null,null,null,null,{"$f":"IF(F3441=\"\",\"\",IF(H3441<>\"\",\"OK\",IF(AND(#REF!<>\"\",#REF!<TODAY()),\"Retard\",\"Attente de Livraison\")))","v":""}]
[null,null,null,null,null,null,null,null,{"$f":"IF(F3442=\"\",\"\",IF(H3442<>\"\",\"OK\",IF(AND(#REF!<>\"\",#REF!<TODAY()),\"Retard\",\"Attente de Livraison\")))","v":""}]
[null,null,null,null,null,null,null,null,{"$f":"IF(F3443=\"\",\"\",IF(H3443<>\"\",\"OK\",IF(AND(#REF!<>\"\",#REF!<TODAY()),\"Retard\",\"Attente de Livraison\")))","v":""}]
[null,null,null,null,null,null,null,null,{"$f":"IF(F3444=\"\",\"\",IF(H3444<>\"\",\"OK\",IF(AND(#REF!<>\"\",#REF!<TODAY()),\"Retard\",\"Attente de Livraison\")))","v":""}]
[null,null,null,null,null,null,null,null,{"$f":"IF(F3445=\"\",\"\",IF(H3445<>\"\",\"OK\",IF(AND(#REF!<>\"\",#REF!<TODAY()),\"Retard\",\"Attente de Livraison\")))","v":""}]
[null,null,null,null,null,null,null,null,{"$f":"IF(F3446=\"\",\"\",IF(H3446<>\"\",\"OK\",IF(AND(#REF!<>\"\",#REF!<TODAY()),\"Retard\",\"Attente de Livraison\")))","v":""}]
[null,null,null,null,null,null,null,null,{"$f":"IF(F3447=\"\",\"\",IF(H3447<>\"\",\"OK\",IF(AND(#REF!<>\"\",#REF!<TODAY()),\"Retard\",\"Attente de Livraison\")))","v":""}]
[null,null,null,null,null,null,null,null,{"$f":"IF(F3448=\"\",\"\",IF(H3448<>\"\",\"OK\",IF(AND(#REF!<>\"\",#REF!<TODAY()),\"Retard\",\"Attente de Livraison\")))","v":""}]
[null,null,null,null,null,null,null,null,{"$f":"IF(F3449=\"\",\"\",IF(H3449<>\"\",\"OK\",IF(AND(#REF!<>\"\",#REF!<TODAY()),\"Retard\",\"Attente de Livraison\")))","v":""}]
[null,null,null,null,null,null,null,null,{"$f":"IF(F3450=\"\",\"\",IF(H3450<>\"\",\"OK\",IF(AND(#REF!<>\"\",#REF!<TODAY()),\"Retard\",\"Attente de Livraison\")))","v":""}]
[null,null,null,null,null,null,null,null,{"$f":"IF(F3451=\"\",\"\",IF(H3451<>\"\",\"OK\",IF(AND(#REF!<>\"\",#REF!<TODAY()),\"Retard\",\"Attente de Livraison\")))","v":""}]
[null,null,null,null,null,null,null,null,{"$f":"IF(F3452=\"\",\"\",IF(H3452<>\"\",\"OK\",IF(AND(#REF!<>\"\",#REF!<TODAY()),\"Retard\",\"Attente de Livraison\")))","v":""}]
[null,null,null,null,null,null,null,null,{"$f":"IF(F3453=\"\",\"\",IF(H3453<>\"\",\"OK\",IF(AND(#REF!<>\"\",#REF!<TODAY()),\"Retard\",\"Attente de Livraison\")))","v":""}]
[null,null,null,null,null,null,null,null,{"$f":"IF(F3454=\"\",\"\",IF(H3454<>\"\",\"OK\",IF(AND(#REF!<>\"\",#REF!<TODAY()),\"Retard\",\"Attente de Livraison\")))","v":""}]
[null,null,null,null,null,null,null,null,{"$f":"IF(F3455=\"\",\"\",IF(H3455<>\"\",\"OK\",IF(AND(#REF!<>\"\",#REF!<TODAY()),\"Retard\",\"Attente de Livraison\")))","v":""}]
[null,null,null,null,null,null,null,null,{"$f":"IF(F3456=\"\",\"\",IF(H3456<>\"\",\"OK\",IF(AND(#REF!<>\"\",#REF!<TODAY()),\"Retard\",\"Attente de Livraison\")))","v":""}]
[null,null,null,null,null,null,null,null,{"$f":"IF(F3457=\"\",\"\",IF(H3457<>\"\",\"OK\",IF(AND(#REF!<>\"\",#REF!<TODAY()),\"Retard\",\"Attente de Livraison\")))","v":""}]
[null,null,null,null,null,null,null,null,{"$f":"IF(F3458=\"\",\"\",IF(H3458<>\"\",\"OK\",IF(AND(#REF!<>\"\",#REF!<TODAY()),\"Retard\",\"Attente de Livraison\")))","v":""}]
[null,null,null,null,null,null,null,null,{"$f":"IF(F3459=\"\",\"\",IF(H3459<>\"\",\"OK\",IF(AND(#REF!<>\"\",#REF!<TODAY()),\"Retard\",\"Attente de Livraison\")))","v":""}]
[null,null,null,null,null,null,null,null,{"$f":"IF(F3460=\"\",\"\",IF(H3460<>\"\",\"OK\",IF(AND(#REF!<>\"\",#REF!<TODAY()),\"Retard\",\"Attente de Livraison\")))","v":""}]
[null,null,null,null,null,null,null,null,{"$f":"IF(F3461=\"\",\"\",IF(H3461<>\"\",\"OK\",IF(AND(#REF!<>\"\",#REF!<TODAY()),\"Retard\",\"Attente de Livraison\")))","v":""}]
[null,null,null,null,null,null,null,null,{"$f":"IF(F3462=\"\",\"\",IF(H3462<>\"\",\"OK\",IF(AND(#REF!<>\"\",#REF!<TODAY()),\"Retard\",\"Attente de Livraison\")))","v":""}]
[null,null,null,null,null,null,null,null,{"$f":"IF(F3463=\"\",\"\",IF(H3463<>\"\",\"OK\",IF(AND(#REF!<>\"\",#REF!<TODAY()),\"Retard\",\"Attente de Livraison\")))","v":""}]
[null,null,null,null,null,null,null,null,{"$f":"IF(F3464=\"\",\"\",IF(H3464<>\"\",\"OK\",IF(AND(#REF!<>\"\",#REF!<TODAY()),\"Retard\",\"Attente de Livraison\")))","v":""}]
[null,null,null,null,null,null,null,null,{"$f":"IF(F3465=\"\",\"\",IF(H3465<>\"\",\"OK\",IF(AND(#REF!<>\"\",#REF!<TODAY()),\"Retard\",\"Attente de Livraison\")))","v":""}]
[null,null,null,null,null,null,null,null,{"$f":"IF(F3466=\"\",\"\",IF(H3466<>\"\",\"OK\",IF(AND(#REF!<>\"\",#REF!<TODAY()),\"Retard\",\"Attente de Livraison\")))","v":""}]
[null,null,null,null,null,null,null,null,{"$f":"IF(F3467=\"\",\"\",IF(H3467<>\"\",\"OK\",IF(AND(#REF!<>\"\",#REF!<TODAY()),\"Retard\",\"Attente de Livraison\")))","v":""}]
[null,null,null,null,null,null,null,null,{"$f":"IF(F3468=\"\",\"\",IF(H3468<>\"\",\"OK\",IF(AND(#REF!<>\"\",#REF!<TODAY()),\"Retard\",\"Attente de Livraison\")))","v":""}]
[null,null,null,null,null,null,null,null,{"$f":"IF(F3469=\"\",\"\",IF(H3469<>\"\",\"OK\",IF(AND(#REF!<>\"\",#REF!<TODAY()),\"Retard\",\"Attente de Livraison\")))","v":""}]
[null,null,null,null,null,null,null,null,{"$f":"IF(F3470=\"\",\"\",IF(H3470<>\"\",\"OK\",IF(AND(#REF!<>\"\",#REF!<TODAY()),\"Retard\",\"Attente de Livraison\")))","v":""}]
[null,null,null,null,null,null,null,null,{"$f":"IF(F3471=\"\",\"\",IF(H3471<>\"\",\"OK\",IF(AND(#REF!<>\"\",#REF!<TODAY()),\"Retard\",\"Attente de Livraison\")))","v":""}]
[null,null,null,null,null,null,null,null,{"$f":"IF(F3472=\"\",\"\",IF(H3472<>\"\",\"OK\",IF(AND(#REF!<>\"\",#REF!<TODAY()),\"Retard\",\"Attente de Livraison\")))","v":""}]
[null,null,null,null,null,null,null,null,{"$f":"IF(F3473=\"\",\"\",IF(H3473<>\"\",\"OK\",IF(AND(#REF!<>\"\",#REF!<TODAY()),\"Retard\",\"Attente de Livraison\")))","v":""}]
[null,null,null,null,null,null,null,null,{"$f":"IF(F3474=\"\",\"\",IF(H3474<>\"\",\"OK\",IF(AND(#REF!<>\"\",#REF!<TODAY()),\"Retard\",\"Attente de Livraison\")))","v":""}]
[null,null,null,null,null,null,null,null,{"$f":"IF(F3475=\"\",\"\",IF(H3475<>\"\",\"OK\",IF(AND(#REF!<>\"\",#REF!<TODAY()),\"Retard\",\"Attente de Livraison\")))","v":""}]
[null,null,null,null,null,null,null,null,{"$f":"IF(F3476=\"\",\"\",IF(H3476<>\"\",\"OK\",IF(AND(#REF!<>\"\",#REF!<TODAY()),\"Retard\",\"Attente de Livraison\")))","v":""}]
[null,null,null,null,null,null,null,null,{"$f":"IF(F3477=\"\",\"\",IF(H3477<>\"\",\"OK\",IF(AND(#REF!<>\"\",#REF!<TODAY()),\"Retard\",\"Attente de Livraison\")))","v":""}]
[null,null,null,null,null,null,null,null,{"$f":"IF(F3478=\"\",\"\",IF(H3478<>\"\",\"OK\",IF(AND(#REF!<>\"\",#REF!<TODAY()),\"Retard\",\"Attente de Livraison\")))","v":""}]
[null,null,null,null,null,null,null,null,{"$f":"IF(F3479=\"\",\"\",IF(H3479<>\"\",\"OK\",IF(AND(#REF!<>\"\",#REF!<TODAY()),\"Retard\",\"Attente de Livraison\")))","v":""}]
[null,null,null,null,null,null,null,null,{"$f":"IF(F3480=\"\",\"\",IF(H3480<>\"\",\"OK\",IF(AND(#REF!<>\"\",#REF!<TODAY()),\"Retard\",\"Attente de Livraison\")))","v":""}]
[null,null,null,null,null,null,null,null,{"$f":"IF(F3481=\"\",\"\",IF(H3481<>\"\",\"OK\",IF(AND(#REF!<>\"\",#REF!<TODAY()),\"Retard\",\"Attente de Livraison\")))","v":""}]
[null,null,null,null,null,null,null,null,{"$f":"IF(F3482=\"\",\"\",IF(H3482<>\"\",\"OK\",IF(AND(#REF!<>\"\",#REF!<TODAY()),\"Retard\",\"Attente de Livraison\")))","v":""}]
[null,null,null,null,null,null,null,null,{"$f":"IF(F3483=\"\",\"\",IF(H3483<>\"\",\"OK\",IF(AND(#REF!<>\"\",#REF!<TODAY()),\"Retard\",\"Attente de Livraison\")))","v":""}]
[null,null,null,null,null,null,null,null,{"$f":"IF(F3484=\"\",\"\",IF(H3484<>\"\",\"OK\",IF(AND(#REF!<>\"\",#REF!<TODAY()),\"Retard\",\"Attente de Livraison\")))","v":""}]
[null,null,null,null,null,null,null,null,{"$f":"IF(F3485=\"\",\"\",IF(H3485<>\"\",\"OK\",IF(AND(#REF!<>\"\",#REF!<TODAY()),\"Retard\",\"Attente de Livraison\")))","v":""}]
[null,null,null,null,null,null,null,null,{"$f":"IF(F3486=\"\",\"\",IF(H3486<>\"\",\"OK\",IF(AND(#REF!<>\"\",#REF!<TODAY()),\"Retard\",\"Attente de Livraison\")))","v":""}]
[null,null,null,null,null,null,null,null,{"$f":"IF(F3487=\"\",\"\",IF(H3487<>\"\",\"OK\",IF(AND(#REF!<>\"\",#REF!<TODAY()),\"Retard\",\"Attente de Livraison\")))","v":""}]
[null,null,null,null,null,null,null,null,{"$f":"IF(F3488=\"\",\"\",IF(H3488<>\"\",\"OK\",IF(AND(#REF!<>\"\",#REF!<TODAY()),\"Retard\",\"Attente de Livraison\")))","v":""}]
[null,null,null,null,null,null,null,null,{"$f":"IF(F3489=\"\",\"\",IF(H3489<>\"\",\"OK\",IF(AND(#REF!<>\"\",#REF!<TODAY()),\"Retard\",\"Attente de Livraison\")))","v":""}]
[null,null,null,null,null,null,null,null,{"$f":"IF(F3490=\"\",\"\",IF(H3490<>\"\",\"OK\",IF(AND(#REF!<>\"\",#REF!<TODAY()),\"Retard\",\"Attente de Livraison\")))","v":""}]
[null,null,null,null,null,null,null,null,{"$f":"IF(F3491=\"\",\"\",IF(H3491<>\"\",\"OK\",IF(AND(#REF!<>\"\",#REF!<TODAY()),\"Retard\",\"Attente de Livraison\")))","v":""}]
[null,null,null,null,null,null,null,null,{"$f":"IF(F3492=\"\",\"\",IF(H3492<>\"\",\"OK\",IF(AND(#REF!<>\"\",#REF!<TODAY()),\"Retard\",\"Attente de Livraison\")))","v":""}]
[null,null,null,null,null,null,null,null,{"$f":"IF(F3493=\"\",\"\",IF(H3493<>\"\",\"OK\",IF(AND(#REF!<>\"\",#REF!<TODAY()),\"Retard\",\"Attente de Livraison\")))","v":""}]
[null,null,null,null,null,null,null,null,{"$f":"IF(F3494=\"\",\"\",IF(H3494<>\"\",\"OK\",IF(AND(#REF!<>\"\",#REF!<TODAY()),\"Retard\",\"Attente de Livraison\")))","v":""}]
[null,null,null,null,null,null,null,null,{"$f":"IF(F3495=\"\",\"\",IF(H3495<>\"\",\"OK\",IF(AND(#REF!<>\"\",#REF!<TODAY()),\"Retard\",\"Attente de Livraison\")))","v":""}]
[null,null,null,null,null,null,null,null,{"$f":"IF(F3496=\"\",\"\",IF(H3496<>\"\",\"OK\",IF(AND(#REF!<>\"\",#REF!<TODAY()),\"Retard\",\"Attente de Livraison\")))","v":""}]
[null,null,null,null,null,null,null,null,{"$f":"IF(F3497=\"\",\"\",IF(H3497<>\"\",\"OK\",IF(AND(#REF!<>\"\",#REF!<TODAY()),\"Retard\",\"Attente de Livraison\")))","v":""}]
[null,null,null,null,null,null,null,null,{"$f":"IF(F3498=\"\",\"\",IF(H3498<>\"\",\"OK\",IF(AND(#REF!<>\"\",#REF!<TODAY()),\"Retard\",\"Attente de Livraison\")))","v":""}]
[null,null,null,null,null,null,null,null,{"$f":"IF(F3499=\"\",\"\",IF(H3499<>\"\",\"OK\",IF(AND(#REF!<>\"\",#REF!<TODAY()),\"Retard\",\"Attente de Livraison\")))","v":""}]
[null,null,null,null,null,null,null,null,{"$f":"IF(F3500=\"\",\"\",IF(H3500<>\"\",\"OK\",IF(AND(#REF!<>\"\",#REF!<TODAY()),\"Retard\",\"Attente de Livraison\")))","v":""}]
[null,null,null,null,null,null,null,null,{"$f":"IF(F3501=\"\",\"\",IF(H3501<>\"\",\"OK\",IF(AND(#REF!<>\"\",#REF!<TODAY()),\"Retard\",\"Attente de Livraison\")))","v":""}]
[null,null,null,null,null,null,null,null,{"$f":"IF(F3502=\"\",\"\",IF(H3502<>\"\",\"OK\",IF(AND(#REF!<>\"\",#REF!<TODAY()),\"Retard\",\"Attente de Livraison\")))","v":""}]
[null,null,null,null,null,null,null,null,{"$f":"IF(F3503=\"\",\"\",IF(H3503<>\"\",\"OK\",IF(AND(#REF!<>\"\",#REF!<TODAY()),\"Retard\",\"Attente de Livraison\")))","v":""}]
[null,null,null,null,null,null,null,null,{"$f":"IF(F3504=\"\",\"\",IF(H3504<>\"\",\"OK\",IF(AND(#REF!<>\"\",#REF!<TODAY()),\"Retard\",\"Attente de Livraison\")))","v":""}]
[null,null,null,null,null,null,null,null,{"$f":"IF(F3505=\"\",\"\",IF(H3505<>\"\",\"OK\",IF(AND(#REF!<>\"\",#REF!<TODAY()),\"Retard\",\"Attente de Livraison\")))","v":""}]
[null,null,null,null,null,null,null,null,{"$f":"IF(F3506=\"\",\"\",IF(H3506<>\"\",\"OK\",IF(AND(#REF!<>\"\",#REF!<TODAY()),\"Retard\",\"Attente de Livraison\")))","v":""}]
[null,null,null,null,null,null,null,null,{"$f":"IF(F3507=\"\",\"\",IF(H3507<>\"\",\"OK\",IF(AND(#REF!<>\"\",#REF!<TODAY()),\"Retard\",\"Attente de Livraison\")))","v":""}]
[null,null,null,null,null,null,null,null,{"$f":"IF(F3508=\"\",\"\",IF(H3508<>\"\",\"OK\",IF(AND(#REF!<>\"\",#REF!<TODAY()),\"Retard\",\"Attente de Livraison\")))","v":""}]
[null,null,null,null,null,null,null,null,{"$f":"IF(F3509=\"\",\"\",IF(H3509<>\"\",\"OK\",IF(AND(#REF!<>\"\",#REF!<TODAY()),\"Retard\",\"Attente de Livraison\")))","v":""}]
[null,null,null,null,null,null,null,null,{"$f":"IF(F3510=\"\",\"\",IF(H3510<>\"\",\"OK\",IF(AND(#REF!<>\"\",#REF!<TODAY()),\"Retard\",\"Attente de Livraison\")))","v":""}]
[null,null,null,null,null,null,null,null,{"$f":"IF(F3511=\"\",\"\",IF(H3511<>\"\",\"OK\",IF(AND(#REF!<>\"\",#REF!<TODAY()),\"Retard\",\"Attente de Livraison\")))","v":""}]
[null,null,null,null,null,null,null,null,{"$f":"IF(F3512=\"\",\"\",IF(H3512<>\"\",\"OK\",IF(AND(#REF!<>\"\",#REF!<TODAY()),\"Retard\",\"Attente de Livraison\")))","v":""}]
[null,null,null,null,null,null,null,null,{"$f":"IF(F3513=\"\",\"\",IF(H3513<>\"\",\"OK\",IF(AND(#REF!<>\"\",#REF!<TODAY()),\"Retard\",\"Attente de Livraison\")))","v":""}]
[null,null,null,null,null,null,null,null,{"$f":"IF(F3514=\"\",\"\",IF(H3514<>\"\",\"OK\",IF(AND(#REF!<>\"\",#REF!<TODAY()),\"Retard\",\"Attente de Livraison\")))","v":""}]
[null,null,null,null,null,null,null,null,{"$f":"IF(F3515=\"\",\"\",IF(H3515<>\"\",\"OK\",IF(AND(#REF!<>\"\",#REF!<TODAY()),\"Retard\",\"Attente de Livraison\")))","v":""}]
[null,null,null,null,null,null,null,null,{"$f":"IF(F3516=\"\",\"\",IF(H3516<>\"\",\"OK\",IF(AND(#REF!<>\"\",#REF!<TODAY()),\"Retard\",\"Attente de Livraison\")))","v":""}]
[null,null,null,null,null,null,null,null,{"$f":"IF(F3517=\"\",\"\",IF(H3517<>\"\",\"OK\",IF(AND(#REF!<>\"\",#REF!<TODAY()),\"Retard\",\"Attente de Livraison\")))","v":""}]
[null,null,null,null,null,null,null,null,{"$f":"IF(F3518=\"\",\"\",IF(H3518<>\"\",\"OK\",IF(AND(#REF!<>\"\",#REF!<TODAY()),\"Retard\",\"Attente de Livraison\")))","v":""}]
[null,null,null,null,null,null,null,null,{"$f":"IF(F3519=\"\",\"\",IF(H3519<>\"\",\"OK\",IF(AND(#REF!<>\"\",#REF!<TODAY()),\"Retard\",\"Attente de Livraison\")))","v":""}]
[null,null,null,null,null,null,null,null,{"$f":"IF(F3520=\"\",\"\",IF(H3520<>\"\",\"OK\",IF(AND(#REF!<>\"\",#REF!<TODAY()),\"Retard\",\"Attente de Livraison\")))","v":""}]
[null,null,null,null,null,null,null,null,{"$f":"IF(F3521=\"\",\"\",IF(H3521<>\"\",\"OK\",IF(AND(#REF!<>\"\",#REF!<TODAY()),\"Retard\",\"Attente de Livraison\")))","v":""}]
[null,null,null,null,null,null,null,null,{"$f":"IF(F3522=\"\",\"\",IF(H3522<>\"\",\"OK\",IF(AND(#REF!<>\"\",#REF!<TODAY()),\"Retard\",\"Attente de Livraison\")))","v":""}]
[null,null,null,null,null,null,null,null,{"$f":"IF(F3523=\"\",\"\",IF(H3523<>\"\",\"OK\",IF(AND(#REF!<>\"\",#REF!<TODAY()),\"Retard\",\"Attente de Livraison\")))","v":""}]
[null,null,null,null,null,null,null,null,{"$f":"IF(F3524=\"\",\"\",IF(H3524<>\"\",\"OK\",IF(AND(#REF!<>\"\",#REF!<TODAY()),\"Retard\",\"Attente de Livraison\")))","v":""}]
[null,null,null,null,null,null,null,null,{"$f":"IF(F3525=\"\",\"\",IF(H3525<>\"\",\"OK\",IF(AND(#REF!<>\"\",#REF!<TODAY()),\"Retard\",\"Attente de Livraison\")))","v":""}]
[null,null,null,null,null,null,null,null,{"$f":"IF(F3526=\"\",\"\",IF(H3526<>\"\",\"OK\",IF(AND(#REF!<>\"\",#REF!<TODAY()),\"Retard\",\"Attente de Livraison\")))","v":""}]
[null,null,null,null,null,null,null,null,{"$f":"IF(F3527=\"\",\"\",IF(H3527<>\"\",\"OK\",IF(AND(#REF!<>\"\",#REF!<TODAY()),\"Retard\",\"Attente de Livraison\")))","v":""}]
[null,null,null,null,null,null,null,null,{"$f":"IF(F3528=\"\",\"\",IF(H3528<>\"\",\"OK\",IF(AND(#REF!<>\"\",#REF!<TODAY()),\"Retard\",\"Attente de Livraison\")))","v":""}]
[null,null,null,null,null,null,null,null,{"$f":"IF(F3529=\"\",\"\",IF(H3529<>\"\",\"OK\",IF(AND(#REF!<>\"\",#REF!<TODAY()),\"Retard\",\"Attente de Livraison\")))","v":""}]
[null,null,null,null,null,null,null,null,{"$f":"IF(F3530=\"\",\"\",IF(H3530<>\"\",\"OK\",IF(AND(#REF!<>\"\",#REF!<TODAY()),\"Retard\",\"Attente de Livraison\")))","v":""}]
[null,null,null,null,null,null,null,null,{"$f":"IF(F3531=\"\",\"\",IF(H3531<>\"\",\"OK\",IF(AND(#REF!<>\"\",#REF!<TODAY()),\"Retard\",\"Attente de Livraison\")))","v":""}]
[null,null,null,null,null,null,null,null,{"$f":"IF(F3532=\"\",\"\",IF(H3532<>\"\",\"OK\",IF(AND(#REF!<>\"\",#REF!<TODAY()),\"Retard\",\"Attente de Livraison\")))","v":""}]
[null,null,null,null,null,null,null,null,{"$f":"IF(F3533=\"\",\"\",IF(H3533<>\"\",\"OK\",IF(AND(#REF!<>\"\",#REF!<TODAY()),\"Retard\",\"Attente de Livraison\")))","v":""}]
[null,null,null,null,null,null,null,null,{"$f":"IF(F3534=\"\",\"\",IF(H3534<>\"\",\"OK\",IF(AND(#REF!<>\"\",#REF!<TODAY()),\"Retard\",\"Attente de Livraison\")))","v":""}]
[null,null,null,null,null,null,null,null,{"$f":"IF(F3535=\"\",\"\",IF(H3535<>\"\",\"OK\",IF(AND(#REF!<>\"\",#REF!<TODAY()),\"Retard\",\"Attente de Livraison\")))","v":""}]
[null,null,null,null,null,null,null,null,{"$f":"IF(F3536=\"\",\"\",IF(H3536<>\"\",\"OK\",IF(AND(#REF!<>\"\",#REF!<TODAY()),\"Retard\",\"Attente de Livraison\")))","v":""}]
[null,null,null,null,null,null,null,null,{"$f":"IF(F3537=\"\",\"\",IF(H3537<>\"\",\"OK\",IF(AND(#REF!<>\"\",#REF!<TODAY()),\"Retard\",\"Attente de Livraison\")))","v":""}]
[null,null,null,null,null,null,null,null,{"$f":"IF(F3538=\"\",\"\",IF(H3538<>\"\",\"OK\",IF(AND(#REF!<>\"\",#REF!<TODAY()),\"Retard\",\"Attente de Livraison\")))","v":""}]
[null,null,null,null,null,null,null,null,{"$f":"IF(F3539=\"\",\"\",IF(H3539<>\"\",\"OK\",IF(AND(#REF!<>\"\",#REF!<TODAY()),\"Retard\",\"Attente de Livraison\")))","v":""}]
[null,null,null,null,null,null,null,null,{"$f":"IF(F3540=\"\",\"\",IF(H3540<>\"\",\"OK\",IF(AND(#REF!<>\"\",#REF!<TODAY()),\"Retard\",\"Attente de Livraison\")))","v":""}]
[null,null,null,null,null,null,null,null,{"$f":"IF(F3541=\"\",\"\",IF(H3541<>\"\",\"OK\",IF(AND(#REF!<>\"\",#REF!<TODAY()),\"Retard\",\"Attente de Livraison\")))","v":""}]
[null,null,null,null,null,null,null,null,{"$f":"IF(F3542=\"\",\"\",IF(H3542<>\"\",\"OK\",IF(AND(#REF!<>\"\",#REF!<TODAY()),\"Retard\",\"Attente de Livraison\")))","v":""}]
[null,null,null,null,null,null,null,null,{"$f":"IF(F3543=\"\",\"\",IF(H3543<>\"\",\"OK\",IF(AND(#REF!<>\"\",#REF!<TODAY()),\"Retard\",\"Attente de Livraison\")))","v":""}]
[null,null,null,null,null,null,null,null,{"$f":"IF(F3544=\"\",\"\",IF(H3544<>\"\",\"OK\",IF(AND(#REF!<>\"\",#REF!<TODAY()),\"Retard\",\"Attente de Livraison\")))","v":""}]
[null,null,null,null,null,null,null,null,{"$f":"IF(F3545=\"\",\"\",IF(H3545<>\"\",\"OK\",IF(AND(#REF!<>\"\",#REF!<TODAY()),\"Retard\",\"Attente de Livraison\")))","v":""}]
[null,null,null,null,null,null,null,null,{"$f":"IF(F3546=\"\",\"\",IF(H3546<>\"\",\"OK\",IF(AND(#REF!<>\"\",#REF!<TODAY()),\"Retard\",\"Attente de Livraison\")))","v":""}]
[null,null,null,null,null,null,null,null,{"$f":"IF(F3547=\"\",\"\",IF(H3547<>\"\",\"OK\",IF(AND(#REF!<>\"\",#REF!<TODAY()),\"Retard\",\"Attente de Livraison\")))","v":""}]
[null,null,null,null,null,null,null,null,{"$f":"IF(F3548=\"\",\"\",IF(H3548<>\"\",\"OK\",IF(AND(#REF!<>\"\",#REF!<TODAY()),\"Retard\",\"Attente de Livraison\")))","v":""}]
[null,null,null,null,null,null,null,null,{"$f":"IF(F3549=\"\",\"\",IF(H3549<>\"\",\"OK\",IF(AND(#REF!<>\"\",#REF!<TODAY()),\"Retard\",\"Attente de Livraison\")))","v":""}]
[null,null,null,null,null,null,null,null,{"$f":"IF(F3550=\"\",\"\",IF(H3550<>\"\",\"OK\",IF(AND(#REF!<>\"\",#REF!<TODAY()),\"Retard\",\"Attente de Livraison\")))","v":""}]
[null,null,null,null,null,null,null,null,{"$f":"IF(F3551=\"\",\"\",IF(H3551<>\"\",\"OK\",IF(AND(#REF!<>\"\",#REF!<TODAY()),\"Retard\",\"Attente de Livraison\")))","v":""}]
[null,null,null,null,null,null,null,null,{"$f":"IF(F3552=\"\",\"\",IF(H3552<>\"\",\"OK\",IF(AND(#REF!<>\"\",#REF!<TODAY()),\"Retard\",\"Attente de Livraison\")))","v":""}]
[null,null,null,null,null,null,null,null,{"$f":"IF(F3553=\"\",\"\",IF(H3553<>\"\",\"OK\",IF(AND(#REF!<>\"\",#REF!<TODAY()),\"Retard\",\"Attente de Livraison\")))","v":""}]
[null,null,null,null,null,null,null,null,{"$f":"IF(F3554=\"\",\"\",IF(H3554<>\"\",\"OK\",IF(AND(#REF!<>\"\",#REF!<TODAY()),\"Retard\",\"Attente de Livraison\")))","v":""}]
[null,null,null,null,null,null,null,null,{"$f":"IF(F3555=\"\",\"\",IF(H3555<>\"\",\"OK\",IF(AND(#REF!<>\"\",#REF!<TODAY()),\"Retard\",\"Attente de Livraison\")))","v":""}]
[null,null,null,null,null,null,null,null,{"$f":"IF(F3556=\"\",\"\",IF(H3556<>\"\",\"OK\",IF(AND(#REF!<>\"\",#REF!<TODAY()),\"Retard\",\"Attente de Livraison\")))","v":""}]
[null,null,null,null,null,null,null,null,{"$f":"IF(F3557=\"\",\"\",IF(H3557<>\"\",\"OK\",IF(AND(#REF!<>\"\",#REF!<TODAY()),\"Retard\",\"Attente de Livraison\")))","v":""}]
[null,null,null,null,null,null,null,null,{"$f":"IF(F3558=\"\",\"\",IF(H3558<>\"\",\"OK\",IF(AND(#REF!<>\"\",#REF!<TODAY()),\"Retard\",\"Attente de Livraison\")))","v":""}]
[null,null,null,null,null,null,null,null,{"$f":"IF(F3559=\"\",\"\",IF(H3559<>\"\",\"OK\",IF(AND(#REF!<>\"\",#REF!<TODAY()),\"Retard\",\"Attente de Livraison\")))","v":""}]
[null,null,null,null,null,null,null,null,{"$f":"IF(F3560=\"\",\"\",IF(H3560<>\"\",\"OK\",IF(AND(#REF!<>\"\",#REF!<TODAY()),\"Retard\",\"Attente de Livraison\")))","v":""}]
[null,null,null,null,null,null,null,null,{"$f":"IF(F3561=\"\",\"\",IF(H3561<>\"\",\"OK\",IF(AND(#REF!<>\"\",#REF!<TODAY()),\"Retard\",\"Attente de Livraison\")))","v":""}]
[null,null,null,null,null,null,null,null,{"$f":"IF(F3562=\"\",\"\",IF(H3562<>\"\",\"OK\",IF(AND(#REF!<>\"\",#REF!<TODAY()),\"Retard\",\"Attente de Livraison\")))","v":""}]
[null,null,null,null,null,null,null,null,{"$f":"IF(F3563=\"\",\"\",IF(H3563<>\"\",\"OK\",IF(AND(#REF!<>\"\",#REF!<TODAY()),\"Retard\",\"Attente de Livraison\")))","v":""}]
[null,null,null,null,null,null,null,null,{"$f":"IF(F3564=\"\",\"\",IF(H3564<>\"\",\"OK\",IF(AND(#REF!<>\"\",#REF!<TODAY()),\"Retard\",\"Attente de Livraison\")))","v":""}]
[null,null,null,null,null,null,null,null,{"$f":"IF(F3565=\"\",\"\",IF(H3565<>\"\",\"OK\",IF(AND(#REF!<>\"\",#REF!<TODAY()),\"Retard\",\"Attente de Livraison\")))","v":""}]
[null,null,null,null,null,null,null,null,{"$f":"IF(F3566=\"\",\"\",IF(H3566<>\"\",\"OK\",IF(AND(#REF!<>\"\",#REF!<TODAY()),\"Retard\",\"Attente de Livraison\")))","v":""}]
[null,null,null,null,null,null,null,null,{"$f":"IF(F3567=\"\",\"\",IF(H3567<>\"\",\"OK\",IF(AND(#REF!<>\"\",#REF!<TODAY()),\"Retard\",\"Attente de Livraison\")))","v":""}]
[null,null,null,null,null,null,null,null,{"$f":"IF(F3568=\"\",\"\",IF(H3568<>\"\",\"OK\",IF(AND(#REF!<>\"\",#REF!<TODAY()),\"Retard\",\"Attente de Livraison\")))","v":""}]
[null,null,null,null,null,null,null,null,{"$f":"IF(F3569=\"\",\"\",IF(H3569<>\"\",\"OK\",IF(AND(#REF!<>\"\",#REF!<TODAY()),\"Retard\",\"Attente de Livraison\")))","v":""}]
[null,null,null,null,null,null,null,null,{"$f":"IF(F3570=\"\",\"\",IF(H3570<>\"\",\"OK\",IF(AND(#REF!<>\"\",#REF!<TODAY()),\"Retard\",\"Attente de Livraison\")))","v":""}]
[null,null,null,null,null,null,null,null,{"$f":"IF(F3571=\"\",\"\",IF(H3571<>\"\",\"OK\",IF(AND(#REF!<>\"\",#REF!<TODAY()),\"Retard\",\"Attente de Livraison\")))","v":""}]
[null,null,null,null,null,null,null,null,{"$f":"IF(F3572=\"\",\"\",IF(H3572<>\"\",\"OK\",IF(AND(#REF!<>\"\",#REF!<TODAY()),\"Retard\",\"Attente de Livraison\")))","v":""}]
[null,null,null,null,null,null,null,null,{"$f":"IF(F3573=\"\",\"\",IF(H3573<>\"\",\"OK\",IF(AND(#REF!<>\"\",#REF!<TODAY()),\"Retard\",\"Attente de Livraison\")))","v":""}]
[null,null,null,null,null,null,null,null,{"$f":"IF(F3574=\"\",\"\",IF(H3574<>\"\",\"OK\",IF(AND(#REF!<>\"\",#REF!<TODAY()),\"Retard\",\"Attente de Livraison\")))","v":""}]
[null,null,null,null,null,null,null,null,{"$f":"IF(F3575=\"\",\"\",IF(H3575<>\"\",\"OK\",IF(AND(#REF!<>\"\",#REF!<TODAY()),\"Retard\",\"Attente de Livraison\")))","v":""}]
[null,null,null,null,null,null,null,null,{"$f":"IF(F3576=\"\",\"\",IF(H3576<>\"\",\"OK\",IF(AND(#REF!<>\"\",#REF!<TODAY()),\"Retard\",\"Attente de Livraison\")))","v":""}]
[null,null,null,null,null,null,null,null,{"$f":"IF(F3577=\"\",\"\",IF(H3577<>\"\",\"OK\",IF(AND(#REF!<>\"\",#REF!<TODAY()),\"Retard\",\"Attente de Livraison\")))","v":""}]
[null,null,null,null,null,null,null,null,{"$f":"IF(F3578=\"\",\"\",IF(H3578<>\"\",\"OK\",IF(AND(#REF!<>\"\",#REF!<TODAY()),\"Retard\",\"Attente de Livraison\")))","v":""}]
[null,null,null,null,null,null,null,null,{"$f":"IF(F3579=\"\",\"\",IF(H3579<>\"\",\"OK\",IF(AND(#REF!<>\"\",#REF!<TODAY()),\"Retard\",\"Attente de Livraison\")))","v":""}]
[null,null,null,null,null,null,null,null,{"$f":"IF(F3580=\"\",\"\",IF(H3580<>\"\",\"OK\",IF(AND(#REF!<>\"\",#REF!<TODAY()),\"Retard\",\"Attente de Livraison\")))","v":""}]
[null,null,null,null,null,null,null,null,{"$f":"IF(F3581=\"\",\"\",IF(H3581<>\"\",\"OK\",IF(AND(#REF!<>\"\",#REF!<TODAY()),\"Retard\",\"Attente de Livraison\")))","v":""}]
[null,null,null,null,null,null,null,null,{"$f":"IF(F3582=\"\",\"\",IF(H3582<>\"\",\"OK\",IF(AND(#REF!<>\"\",#REF!<TODAY()),\"Retard\",\"Attente de Livraison\")))","v":""}]
[null,null,null,null,null,null,null,null,{"$f":"IF(F3583=\"\",\"\",IF(H3583<>\"\",\"OK\",IF(AND(#REF!<>\"\",#REF!<TODAY()),\"Retard\",\"Attente de Livraison\")))","v":""}]
[null,null,null,null,null,null,null,null,{"$f":"IF(F3584=\"\",\"\",IF(H3584<>\"\",\"OK\",IF(AND(#REF!<>\"\",#REF!<TODAY()),\"Retard\",\"Attente de Livraison\")))","v":""}]
[null,null,null,null,null,null,null,null,{"$f":"IF(F3585=\"\",\"\",IF(H3585<>\"\",\"OK\",IF(AND(#REF!<>\"\",#REF!<TODAY()),\"Retard\",\"Attente de Livraison\")))","v":""}]
[null,null,null,null,null,null,null,null,{"$f":"IF(F3586=\"\",\"\",IF(H3586<>\"\",\"OK\",IF(AND(#REF!<>\"\",#REF!<TODAY()),\"Retard\",\"Attente de Livraison\")))","v":""}]
[null,null,null,null,null,null,null,null,{"$f":"IF(F3587=\"\",\"\",IF(H3587<>\"\",\"OK\",IF(AND(#REF!<>\"\",#REF!<TODAY()),\"Retard\",\"Attente de Livraison\")))","v":""}]
[null,null,null,null,null,null,null,null,{"$f":"IF(F3588=\"\",\"\",IF(H3588<>\"\",\"OK\",IF(AND(#REF!<>\"\",#REF!<TODAY()),\"Retard\",\"Attente de Livraison\")))","v":""}]
[null,null,null,null,null,null,null,null,{"$f":"IF(F3589=\"\",\"\",IF(H3589<>\"\",\"OK\",IF(AND(#REF!<>\"\",#REF!<TODAY()),\"Retard\",\"Attente de Livraison\")))","v":""}]
[null,null,null,null,null,null,null,null,{"$f":"IF(F3590=\"\",\"\",IF(H3590<>\"\",\"OK\",IF(AND(#REF!<>\"\",#REF!<TODAY()),\"Retard\",\"Attente de Livraison\")))","v":""}]
[null,null,null,null,null,null,null,null,{"$f":"IF(F3591=\"\",\"\",IF(H3591<>\"\",\"OK\",IF(AND(#REF!<>\"\",#REF!<TODAY()),\"Retard\",\"Attente de Livraison\")))","v":""}]
[null,null,null,null,null,null,null,null,{"$f":"IF(F3592=\"\",\"\",IF(H3592<>\"\",\"OK\",IF(AND(#REF!<>\"\",#REF!<TODAY()),\"Retard\",\"Attente de Livraison\")))","v":""}]
[null,null,null,null,null,null,null,null,{"$f":"IF(F3593=\"\",\"\",IF(H3593<>\"\",\"OK\",IF(AND(#REF!<>\"\",#REF!<TODAY()),\"Retard\",\"Attente de Livraison\")))","v":""}]
[null,null,null,null,null,null,null,null,{"$f":"IF(F3594=\"\",\"\",IF(H3594<>\"\",\"OK\",IF(AND(#REF!<>\"\",#REF!<TODAY()),\"Retard\",\"Attente de Livraison\")))","v":""}]
[null,null,null,null,null,null,null,null,{"$f":"IF(F3595=\"\",\"\",IF(H3595<>\"\",\"OK\",IF(AND(#REF!<>\"\",#REF!<TODAY()),\"Retard\",\"Attente de Livraison\")))","v":""}]
[null,null,null,null,null,null,null,null,{"$f":"IF(F3596=\"\",\"\",IF(H3596<>\"\",\"OK\",IF(AND(#REF!<>\"\",#REF!<TODAY()),\"Retard\",\"Attente de Livraison\")))","v":""}]
[null,null,null,null,null,null,null,null,{"$f":"IF(F3597=\"\",\"\",IF(H3597<>\"\",\"OK\",IF(AND(#REF!<>\"\",#REF!<TODAY()),\"Retard\",\"Attente de Livraison\")))","v":""}]
[null,null,null,null,null,null,null,null,{"$f":"IF(F3598=\"\",\"\",IF(H3598<>\"\",\"OK\",IF(AND(#REF!<>\"\",#REF!<TODAY()),\"Retard\",\"Attente de Livraison\")))","v":""}]
[null,null,null,null,null,null,null,null,{"$f":"IF(F3599=\"\",\"\",IF(H3599<>\"\",\"OK\",IF(AND(#REF!<>\"\",#REF!<TODAY()),\"Retard\",\"Attente de Livraison\")))","v":""}]
[null,null,null,null,null,null,null,null,{"$f":"IF(F3600=\"\",\"\",IF(H3600<>\"\",\"OK\",IF(AND(#REF!<>\"\",#REF!<TODAY()),\"Retard\",\"Attente de Livraison\")))","v":""}]
[null,null,null,null,null,null,null,null,{"$f":"IF(F3601=\"\",\"\",IF(H3601<>\"\",\"OK\",IF(AND(#REF!<>\"\",#REF!<TODAY()),\"Retard\",\"Attente de Livraison\")))","v":""}]
[null,null,null,null,null,null,null,null,{"$f":"IF(F3602=\"\",\"\",IF(H3602<>\"\",\"OK\",IF(AND(#REF!<>\"\",#REF!<TODAY()),\"Retard\",\"Attente de Livraison\")))","v":""}]
[null,null,null,null,null,null,null,null,{"$f":"IF(F3603=\"\",\"\",IF(H3603<>\"\",\"OK\",IF(AND(#REF!<>\"\",#REF!<TODAY()),\"Retard\",\"Attente de Livraison\")))","v":""}]
[null,null,null,null,null,null,null,null,{"$f":"IF(F3604=\"\",\"\",IF(H3604<>\"\",\"OK\",IF(AND(#REF!<>\"\",#REF!<TODAY()),\"Retard\",\"Attente de Livraison\")))","v":""}]
[null,null,null,null,null,null,null,null,{"$f":"IF(F3605=\"\",\"\",IF(H3605<>\"\",\"OK\",IF(AND(#REF!<>\"\",#REF!<TODAY()),\"Retard\",\"Attente de Livraison\")))","v":""}]
[null,null,null,null,null,null,null,null,{"$f":"IF(F3606=\"\",\"\",IF(H3606<>\"\",\"OK\",IF(AND(#REF!<>\"\",#REF!<TODAY()),\"Retard\",\"Attente de Livraison\")))","v":""}]
[null,null,null,null,null,null,null,null,{"$f":"IF(F3607=\"\",\"\",IF(H3607<>\"\",\"OK\",IF(AND(#REF!<>\"\",#REF!<TODAY()),\"Retard\",\"Attente de Livraison\")))","v":""}]
[null,null,null,null,null,null,null,null,{"$f":"IF(F3608=\"\",\"\",IF(H3608<>\"\",\"OK\",IF(AND(#REF!<>\"\",#REF!<TODAY()),\"Retard\",\"Attente de Livraison\")))","v":""}]
[null,null,null,null,null,null,null,null,{"$f":"IF(F3609=\"\",\"\",IF(H3609<>\"\",\"OK\",IF(AND(#REF!<>\"\",#REF!<TODAY()),\"Retard\",\"Attente de Livraison\")))","v":""}]
[null,null,null,null,null,null,null,null,{"$f":"IF(F3610=\"\",\"\",IF(H3610<>\"\",\"OK\",IF(AND(#REF!<>\"\",#REF!<TODAY()),\"Retard\",\"Attente de Livraison\")))","v":""}]
[null,null,null,null,null,null,null,null,{"$f":"IF(F3611=\"\",\"\",IF(H3611<>\"\",\"OK\",IF(AND(#REF!<>\"\",#REF!<TODAY()),\"Retard\",\"Attente de Livraison\")))","v":""}]
[null,null,null,null,null,null,null,null,{"$f":"IF(F3612=\"\",\"\",IF(H3612<>\"\",\"OK\",IF(AND(#REF!<>\"\",#REF!<TODAY()),\"Retard\",\"Attente de Livraison\")))","v":""}]
[null,null,null,null,null,null,null,null,{"$f":"IF(F3613=\"\",\"\",IF(H3613<>\"\",\"OK\",IF(AND(#REF!<>\"\",#REF!<TODAY()),\"Retard\",\"Attente de Livraison\")))","v":""}]
[null,null,null,null,null,null,null,null,{"$f":"IF(F3614=\"\",\"\",IF(H3614<>\"\",\"OK\",IF(AND(#REF!<>\"\",#REF!<TODAY()),\"Retard\",\"Attente de Livraison\")))","v":""}]
[null,null,null,null,null,null,null,null,{"$f":"IF(F3615=\"\",\"\",IF(H3615<>\"\",\"OK\",IF(AND(#REF!<>\"\",#REF!<TODAY()),\"Retard\",\"Attente de Livraison\")))","v":""}]
[null,null,null,null,null,null,null,null,{"$f":"IF(F3616=\"\",\"\",IF(H3616<>\"\",\"OK\",IF(AND(#REF!<>\"\",#REF!<TODAY()),\"Retard\",\"Attente de Livraison\")))","v":""}]
[null,null,null,null,null,null,null,null,{"$f":"IF(F3617=\"\",\"\",IF(H3617<>\"\",\"OK\",IF(AND(#REF!<>\"\",#REF!<TODAY()),\"Retard\",\"Attente de Livraison\")))","v":""}]
[null,null,null,null,null,null,null,null,{"$f":"IF(F3618=\"\",\"\",IF(H3618<>\"\",\"OK\",IF(AND(#REF!<>\"\",#REF!<TODAY()),\"Retard\",\"Attente de Livraison\")))","v":""}]
[null,null,null,null,null,null,null,null,{"$f":"IF(F3619=\"\",\"\",IF(H3619<>\"\",\"OK\",IF(AND(#REF!<>\"\",#REF!<TODAY()),\"Retard\",\"Attente de Livraison\")))","v":""}]
[null,null,null,null,null,null,null,null,{"$f":"IF(F3620=\"\",\"\",IF(H3620<>\"\",\"OK\",IF(AND(#REF!<>\"\",#REF!<TODAY()),\"Retard\",\"Attente de Livraison\")))","v":""}]
[null,null,null,null,null,null,null,null,{"$f":"IF(F3621=\"\",\"\",IF(H3621<>\"\",\"OK\",IF(AND(#REF!<>\"\",#REF!<TODAY()),\"Retard\",\"Attente de Livraison\")))","v":""}]
[null,null,null,null,null,null,null,null,{"$f":"IF(F3622=\"\",\"\",IF(H3622<>\"\",\"OK\",IF(AND(#REF!<>\"\",#REF!<TODAY()),\"Retard\",\"Attente de Livraison\")))","v":""}]
[null,null,null,null,null,null,null,null,{"$f":"IF(F3623=\"\",\"\",IF(H3623<>\"\",\"OK\",IF(AND(#REF!<>\"\",#REF!<TODAY()),\"Retard\",\"Attente de Livraison\")))","v":""}]
[null,null,null,null,null,null,null,null,{"$f":"IF(F3624=\"\",\"\",IF(H3624<>\"\",\"OK\",IF(AND(#REF!<>\"\",#REF!<TODAY()),\"Retard\",\"Attente de Livraison\")))","v":""}]
[null,null,null,null,null,null,null,null,{"$f":"IF(F3625=\"\",\"\",IF(H3625<>\"\",\"OK\",IF(AND(#REF!<>\"\",#REF!<TODAY()),\"Retard\",\"Attente de Livraison\")))","v":""}]
[null,null,null,null,null,null,null,null,{"$f":"IF(F3626=\"\",\"\",IF(H3626<>\"\",\"OK\",IF(AND(#REF!<>\"\",#REF!<TODAY()),\"Retard\",\"Attente de Livraison\")))","v":""}]
[null,null,null,null,null,null,null,null,{"$f":"IF(F3627=\"\",\"\",IF(H3627<>\"\",\"OK\",IF(AND(#REF!<>\"\",#REF!<TODAY()),\"Retard\",\"Attente de Livraison\")))","v":""}]
[null,null,null,null,null,null,null,null,{"$f":"IF(F3628=\"\",\"\",IF(H3628<>\"\",\"OK\",IF(AND(#REF!<>\"\",#REF!<TODAY()),\"Retard\",\"Attente de Livraison\")))","v":""}]
[null,null,null,null,null,null,null,null,{"$f":"IF(F3629=\"\",\"\",IF(H3629<>\"\",\"OK\",IF(AND(#REF!<>\"\",#REF!<TODAY()),\"Retard\",\"Attente de Livraison\")))","v":""}]
[null,null,null,null,null,null,null,null,{"$f":"IF(F3630=\"\",\"\",IF(H3630<>\"\",\"OK\",IF(AND(#REF!<>\"\",#REF!<TODAY()),\"Retard\",\"Attente de Livraison\")))","v":""}]
[null,null,null,null,null,null,null,null,{"$f":"IF(F3631=\"\",\"\",IF(H3631<>\"\",\"OK\",IF(AND(#REF!<>\"\",#REF!<TODAY()),\"Retard\",\"Attente de Livraison\")))","v":""}]
[null,null,null,null,null,null,null,null,{"$f":"IF(F3632=\"\",\"\",IF(H3632<>\"\",\"OK\",IF(AND(#REF!<>\"\",#REF!<TODAY()),\"Retard\",\"Attente de Livraison\")))","v":""}]
[null,null,null,null,null,null,null,null,{"$f":"IF(F3633=\"\",\"\",IF(H3633<>\"\",\"OK\",IF(AND(#REF!<>\"\",#REF!<TODAY()),\"Retard\",\"Attente de Livraison\")))","v":""}]
[null,null,null,null,null,null,null,null,{"$f":"IF(F3634=\"\",\"\",IF(H3634<>\"\",\"OK\",IF(AND(#REF!<>\"\",#REF!<TODAY()),\"Retard\",\"Attente de Livraison\")))","v":""}]
[null,null,null,null,null,null,null,null,{"$f":"IF(F3635=\"\",\"\",IF(H3635<>\"\",\"OK\",IF(AND(#REF!<>\"\",#REF!<TODAY()),\"Retard\",\"Attente de Livraison\")))","v":""}]
[null,null,null,null,null,null,null,null,{"$f":"IF(F3636=\"\",\"\",IF(H3636<>\"\",\"OK\",IF(AND(#REF!<>\"\",#REF!<TODAY()),\"Retard\",\"Attente de Livraison\")))","v":""}]
[null,null,null,null,null,null,null,null,{"$f":"IF(F3637=\"\",\"\",IF(H3637<>\"\",\"OK\",IF(AND(#REF!<>\"\",#REF!<TODAY()),\"Retard\",\"Attente de Livraison\")))","v":""}]
[null,null,null,null,null,null,null,null,{"$f":"IF(F3638=\"\",\"\",IF(H3638<>\"\",\"OK\",IF(AND(#REF!<>\"\",#REF!<TODAY()),\"Retard\",\"Attente de Livraison\")))","v":""}]
[null,null,null,null,null,null,null,null,{"$f":"IF(F3639=\"\",\"\",IF(H3639<>\"\",\"OK\",IF(AND(#REF!<>\"\",#REF!<TODAY()),\"Retard\",\"Attente de Livraison\")))","v":""}]
[null,null,null,null,null,null,null,null,{"$f":"IF(F3640=\"\",\"\",IF(H3640<>\"\",\"OK\",IF(AND(#REF!<>\"\",#REF!<TODAY()),\"Retard\",\"Attente de Livraison\")))","v":""}]
[null,null,null,null,null,null,null,null,{"$f":"IF(F3641=\"\",\"\",IF(H3641<>\"\",\"OK\",IF(AND(#REF!<>\"\",#REF!<TODAY()),\"Retard\",\"Attente de Livraison\")))","v":""}]
[null,null,null,null,null,null,null,null,{"$f":"IF(F3642=\"\",\"\",IF(H3642<>\"\",\"OK\",IF(AND(#REF!<>\"\",#REF!<TODAY()),\"Retard\",\"Attente de Livraison\")))","v":""}]
[null,null,null,null,null,null,null,null,{"$f":"IF(F3643=\"\",\"\",IF(H3643<>\"\",\"OK\",IF(AND(#REF!<>\"\",#REF!<TODAY()),\"Retard\",\"Attente de Livraison\")))","v":""}]
[null,null,null,null,null,null,null,null,{"$f":"IF(F3644=\"\",\"\",IF(H3644<>\"\",\"OK\",IF(AND(#REF!<>\"\",#REF!<TODAY()),\"Retard\",\"Attente de Livraison\")))","v":""}]
[null,null,null,null,null,null,null,null,{"$f":"IF(F3645=\"\",\"\",IF(H3645<>\"\",\"OK\",IF(AND(#REF!<>\"\",#REF!<TODAY()),\"Retard\",\"Attente de Livraison\")))","v":""}]
[null,null,null,null,null,null,null,null,{"$f":"IF(F3646=\"\",\"\",IF(H3646<>\"\",\"OK\",IF(AND(#REF!<>\"\",#REF!<TODAY()),\"Retard\",\"Attente de Livraison\")))","v":""}]
[null,null,null,null,null,null,null,null,{"$f":"IF(F3647=\"\",\"\",IF(H3647<>\"\",\"OK\",IF(AND(#REF!<>\"\",#REF!<TODAY()),\"Retard\",\"Attente de Livraison\")))","v":""}]
[null,null,null,null,null,null,null,null,{"$f":"IF(F3648=\"\",\"\",IF(H3648<>\"\",\"OK\",IF(AND(#REF!<>\"\",#REF!<TODAY()),\"Retard\",\"Attente de Livraison\")))","v":""}]
[null,null,null,null,null,null,null,null,{"$f":"IF(F3649=\"\",\"\",IF(H3649<>\"\",\"OK\",IF(AND(#REF!<>\"\",#REF!<TODAY()),\"Retard\",\"Attente de Livraison\")))","v":""}]
[null,null,null,null,null,null,null,null,{"$f":"IF(F3650=\"\",\"\",IF(H3650<>\"\",\"OK\",IF(AND(#REF!<>\"\",#REF!<TODAY()),\"Retard\",\"Attente de Livraison\")))","v":""}]
[null,null,null,null,null,null,null,null,{"$f":"IF(F3651=\"\",\"\",IF(H3651<>\"\",\"OK\",IF(AND(#REF!<>\"\",#REF!<TODAY()),\"Retard\",\"Attente de Livraison\")))","v":""}]
[null,null,null,null,null,null,null,null,{"$f":"IF(F3652=\"\",\"\",IF(H3652<>\"\",\"OK\",IF(AND(#REF!<>\"\",#REF!<TODAY()),\"Retard\",\"Attente de Livraison\")))","v":""}]
[null,null,null,null,null,null,null,null,{"$f":"IF(F3653=\"\",\"\",IF(H3653<>\"\",\"OK\",IF(AND(#REF!<>\"\",#REF!<TODAY()),\"Retard\",\"Attente de Livraison\")))","v":""}]
[null,null,null,null,null,null,null,null,{"$f":"IF(F3654=\"\",\"\",IF(H3654<>\"\",\"OK\",IF(AND(#REF!<>\"\",#REF!<TODAY()),\"Retard\",\"Attente de Livraison\")))","v":""}]
[null,null,null,null,null,null,null,null,{"$f":"IF(F3655=\"\",\"\",IF(H3655<>\"\",\"OK\",IF(AND(#REF!<>\"\",#REF!<TODAY()),\"Retard\",\"Attente de Livraison\")))","v":""}]
[null,null,null,null,null,null,null,null,{"$f":"IF(F3656=\"\",\"\",IF(H3656<>\"\",\"OK\",IF(AND(#REF!<>\"\",#REF!<TODAY()),\"Retard\",\"Attente de Livraison\")))","v":""}]
[null,null,null,null,null,null,null,null,{"$f":"IF(F3657=\"\",\"\",IF(H3657<>\"\",\"OK\",IF(AND(#REF!<>\"\",#REF!<TODAY()),\"Retard\",\"Attente de Livraison\")))","v":""}]
[null,null,null,null,null,null,null,null,{"$f":"IF(F3658=\"\",\"\",IF(H3658<>\"\",\"OK\",IF(AND(#REF!<>\"\",#REF!<TODAY()),\"Retard\",\"Attente de Livraison\")))","v":""}]
[null,null,null,null,null,null,null,null,{"$f":"IF(F3659=\"\",\"\",IF(H3659<>\"\",\"OK\",IF(AND(#REF!<>\"\",#REF!<TODAY()),\"Retard\",\"Attente de Livraison\")))","v":""}]
[null,null,null,null,null,null,null,null,{"$f":"IF(F3660=\"\",\"\",IF(H3660<>\"\",\"OK\",IF(AND(#REF!<>\"\",#REF!<TODAY()),\"Retard\",\"Attente de Livraison\")))","v":""}]
[null,null,null,null,null,null,null,null,{"$f":"IF(F3661=\"\",\"\",IF(H3661<>\"\",\"OK\",IF(AND(#REF!<>\"\",#REF!<TODAY()),\"Retard\",\"Attente de Livraison\")))","v":""}]
[null,null,null,null,null,null,null,null,{"$f":"IF(F3662=\"\",\"\",IF(H3662<>\"\",\"OK\",IF(AND(#REF!<>\"\",#REF!<TODAY()),\"Retard\",\"Attente de Livraison\")))","v":""}]
[null,null,null,null,null,null,null,null,{"$f":"IF(F3663=\"\",\"\",IF(H3663<>\"\",\"OK\",IF(AND(#REF!<>\"\",#REF!<TODAY()),\"Retard\",\"Attente de Livraison\")))","v":""}]
[null,null,null,null,null,null,null,null,{"$f":"IF(F3664=\"\",\"\",IF(H3664<>\"\",\"OK\",IF(AND(#REF!<>\"\",#REF!<TODAY()),\"Retard\",\"Attente de Livraison\")))","v":""}]
[null,null,null,null,null,null,null,null,{"$f":"IF(F3665=\"\",\"\",IF(H3665<>\"\",\"OK\",IF(AND(#REF!<>\"\",#REF!<TODAY()),\"Retard\",\"Attente de Livraison\")))","v":""}]
[null,null,null,null,null,null,null,null,{"$f":"IF(F3666=\"\",\"\",IF(H3666<>\"\",\"OK\",IF(AND(#REF!<>\"\",#REF!<TODAY()),\"Retard\",\"Attente de Livraison\")))","v":""}]
[null,null,null,null,null,null,null,null,{"$f":"IF(F3667=\"\",\"\",IF(H3667<>\"\",\"OK\",IF(AND(#REF!<>\"\",#REF!<TODAY()),\"Retard\",\"Attente de Livraison\")))","v":""}]
[null,null,null,null,null,null,null,null,{"$f":"IF(F3668=\"\",\"\",IF(H3668<>\"\",\"OK\",IF(AND(#REF!<>\"\",#REF!<TODAY()),\"Retard\",\"Attente de Livraison\")))","v":""}]
[null,null,null,null,null,null,null,null,{"$f":"IF(F3669=\"\",\"\",IF(H3669<>\"\",\"OK\",IF(AND(#REF!<>\"\",#REF!<TODAY()),\"Retard\",\"Attente de Livraison\")))","v":""}]
[null,null,null,null,null,null,null,null,{"$f":"IF(F3670=\"\",\"\",IF(H3670<>\"\",\"OK\",IF(AND(#REF!<>\"\",#REF!<TODAY()),\"Retard\",\"Attente de Livraison\")))","v":""}]
[null,null,null,null,null,null,null,null,{"$f":"IF(F3671=\"\",\"\",IF(H3671<>\"\",\"OK\",IF(AND(#REF!<>\"\",#REF!<TODAY()),\"Retard\",\"Attente de Livraison\")))","v":""}]
[null,null,null,null,null,null,null,null,{"$f":"IF(F3672=\"\",\"\",IF(H3672<>\"\",\"OK\",IF(AND(#REF!<>\"\",#REF!<TODAY()),\"Retard\",\"Attente de Livraison\")))","v":""}]
[null,null,null,null,null,null,null,null,{"$f":"IF(F3673=\"\",\"\",IF(H3673<>\"\",\"OK\",IF(AND(#REF!<>\"\",#REF!<TODAY()),\"Retard\",\"Attente de Livraison\")))","v":""}]
[null,null,null,null,null,null,null,null,{"$f":"IF(F3674=\"\",\"\",IF(H3674<>\"\",\"OK\",IF(AND(#REF!<>\"\",#REF!<TODAY()),\"Retard\",\"Attente de Livraison\")))","v":""}]
[null,null,null,null,null,null,null,null,{"$f":"IF(F3675=\"\",\"\",IF(H3675<>\"\",\"OK\",IF(AND(#REF!<>\"\",#REF!<TODAY()),\"Retard\",\"Attente de Livraison\")))","v":""}]
[null,null,null,null,null,null,null,null,{"$f":"IF(F3676=\"\",\"\",IF(H3676<>\"\",\"OK\",IF(AND(#REF!<>\"\",#REF!<TODAY()),\"Retard\",\"Attente de Livraison\")))","v":""}]
[null,null,null,null,null,null,null,null,{"$f":"IF(F3677=\"\",\"\",IF(H3677<>\"\",\"OK\",IF(AND(#REF!<>\"\",#REF!<TODAY()),\"Retard\",\"Attente de Livraison\")))","v":""}]
[null,null,null,null,null,null,null,null,{"$f":"IF(F3678=\"\",\"\",IF(H3678<>\"\",\"OK\",IF(AND(#REF!<>\"\",#REF!<TODAY()),\"Retard\",\"Attente de Livraison\")))","v":""}]
[null,null,null,null,null,null,null,null,{"$f":"IF(F3679=\"\",\"\",IF(H3679<>\"\",\"OK\",IF(AND(#REF!<>\"\",#REF!<TODAY()),\"Retard\",\"Attente de Livraison\")))","v":""}]
[null,null,null,null,null,null,null,null,{"$f":"IF(F3680=\"\",\"\",IF(H3680<>\"\",\"OK\",IF(AND(#REF!<>\"\",#REF!<TODAY()),\"Retard\",\"Attente de Livraison\")))","v":""}]
[null,null,null,null,null,null,null,null,{"$f":"IF(F3681=\"\",\"\",IF(H3681<>\"\",\"OK\",IF(AND(#REF!<>\"\",#REF!<TODAY()),\"Retard\",\"Attente de Livraison\")))","v":""}]
[null,null,null,null,null,null,null,null,{"$f":"IF(F3682=\"\",\"\",IF(H3682<>\"\",\"OK\",IF(AND(#REF!<>\"\",#REF!<TODAY()),\"Retard\",\"Attente de Livraison\")))","v":""}]
[null,null,null,null,null,null,null,null,{"$f":"IF(F3683=\"\",\"\",IF(H3683<>\"\",\"OK\",IF(AND(#REF!<>\"\",#REF!<TODAY()),\"Retard\",\"Attente de Livraison\")))","v":""}]
[null,null,null,null,null,null,null,null,{"$f":"IF(F3684=\"\",\"\",IF(H3684<>\"\",\"OK\",IF(AND(#REF!<>\"\",#REF!<TODAY()),\"Retard\",\"Attente de Livraison\")))","v":""}]
[null,null,null,null,null,null,null,null,{"$f":"IF(F3685=\"\",\"\",IF(H3685<>\"\",\"OK\",IF(AND(#REF!<>\"\",#REF!<TODAY()),\"Retard\",\"Attente de Livraison\")))","v":""}]
[null,null,null,null,null,null,null,null,{"$f":"IF(F3686=\"\",\"\",IF(H3686<>\"\",\"OK\",IF(AND(#REF!<>\"\",#REF!<TODAY()),\"Retard\",\"Attente de Livraison\")))","v":""}]
[null,null,null,null,null,null,null,null,{"$f":"IF(F3687=\"\",\"\",IF(H3687<>\"\",\"OK\",IF(AND(#REF!<>\"\",#REF!<TODAY()),\"Retard\",\"Attente de Livraison\")))","v":""}]
[null,null,null,null,null,null,null,null,{"$f":"IF(F3688=\"\",\"\",IF(H3688<>\"\",\"OK\",IF(AND(#REF!<>\"\",#REF!<TODAY()),\"Retard\",\"Attente de Livraison\")))","v":""}]
[null,null,null,null,null,null,null,null,{"$f":"IF(F3689=\"\",\"\",IF(H3689<>\"\",\"OK\",IF(AND(#REF!<>\"\",#REF!<TODAY()),\"Retard\",\"Attente de Livraison\")))","v":""}]
[null,null,null,null,null,null,null,null,{"$f":"IF(F3690=\"\",\"\",IF(H3690<>\"\",\"OK\",IF(AND(#REF!<>\"\",#REF!<TODAY()),\"Retard\",\"Attente de Livraison\")))","v":""}]
[null,null,null,null,null,null,null,null,{"$f":"IF(F3691=\"\",\"\",IF(H3691<>\"\",\"OK\",IF(AND(#REF!<>\"\",#REF!<TODAY()),\"Retard\",\"Attente de Livraison\")))","v":""}]
[null,null,null,null,null,null,null,null,{"$f":"IF(F3692=\"\",\"\",IF(H3692<>\"\",\"OK\",IF(AND(#REF!<>\"\",#REF!<TODAY()),\"Retard\",\"Attente de Livraison\")))","v":""}]
[null,null,null,null,null,null,null,null,{"$f":"IF(F3693=\"\",\"\",IF(H3693<>\"\",\"OK\",IF(AND(#REF!<>\"\",#REF!<TODAY()),\"Retard\",\"Attente de Livraison\")))","v":""}]
[null,null,null,null,null,null,null,null,{"$f":"IF(F3694=\"\",\"\",IF(H3694<>\"\",\"OK\",IF(AND(#REF!<>\"\",#REF!<TODAY()),\"Retard\",\"Attente de Livraison\")))","v":""}]
[null,null,null,null,null,null,null,null,{"$f":"IF(F3695=\"\",\"\",IF(H3695<>\"\",\"OK\",IF(AND(#REF!<>\"\",#REF!<TODAY()),\"Retard\",\"Attente de Livraison\")))","v":""}]
[null,null,null,null,null,null,null,null,{"$f":"IF(F3696=\"\",\"\",IF(H3696<>\"\",\"OK\",IF(AND(#REF!<>\"\",#REF!<TODAY()),\"Retard\",\"Attente de Livraison\")))","v":""}]
[null,null,null,null,null,null,null,null,{"$f":"IF(F3697=\"\",\"\",IF(H3697<>\"\",\"OK\",IF(AND(#REF!<>\"\",#REF!<TODAY()),\"Retard\",\"Attente de Livraison\")))","v":""}]
[null,null,null,null,null,null,null,null,{"$f":"IF(F3698=\"\",\"\",IF(H3698<>\"\",\"OK\",IF(AND(#REF!<>\"\",#REF!<TODAY()),\"Retard\",\"Attente de Livraison\")))","v":""}]
[null,null,null,null,null,null,null,null,{"$f":"IF(F3699=\"\",\"\",IF(H3699<>\"\",\"OK\",IF(AND(#REF!<>\"\",#REF!<TODAY()),\"Retard\",\"Attente de Livraison\")))","v":""}]
[null,null,null,null,null,null,null,null,{"$f":"IF(F3700=\"\",\"\",IF(H3700<>\"\",\"OK\",IF(AND(#REF!<>\"\",#REF!<TODAY()),\"Retard\",\"Attente de Livraison\")))","v":""}]
[null,null,null,null,null,null,null,null,{"$f":"IF(F3701=\"\",\"\",IF(H3701<>\"\",\"OK\",IF(AND(#REF!<>\"\",#REF!<TODAY()),\"Retard\",\"Attente de Livraison\")))","v":""}]
[null,null,null,null,null,null,null,null,{"$f":"IF(F3702=\"\",\"\",IF(H3702<>\"\",\"OK\",IF(AND(#REF!<>\"\",#REF!<TODAY()),\"Retard\",\"Attente de Livraison\")))","v":""}]
[null,null,null,null,null,null,null,null,{"$f":"IF(F3703=\"\",\"\",IF(H3703<>\"\",\"OK\",IF(AND(#REF!<>\"\",#REF!<TODAY()),\"Retard\",\"Attente de Livraison\")))","v":""}]
[null,null,null,null,null,null,null,null,{"$f":"IF(F3704=\"\",\"\",IF(H3704<>\"\",\"OK\",IF(AND(#REF!<>\"\",#REF!<TODAY()),\"Retard\",\"Attente de Livraison\")))","v":""}]
[null,null,null,null,null,null,null,null,{"$f":"IF(F3705=\"\",\"\",IF(H3705<>\"\",\"OK\",IF(AND(#REF!<>\"\",#REF!<TODAY()),\"Retard\",\"Attente de Livraison\")))","v":""}]
[null,null,null,null,null,null,null,null,{"$f":"IF(F3706=\"\",\"\",IF(H3706<>\"\",\"OK\",IF(AND(#REF!<>\"\",#REF!<TODAY()),\"Retard\",\"Attente de Livraison\")))","v":""}]
[null,null,null,null,null,null,null,null,{"$f":"IF(F3707=\"\",\"\",IF(H3707<>\"\",\"OK\",IF(AND(#REF!<>\"\",#REF!<TODAY()),\"Retard\",\"Attente de Livraison\")))","v":""}]
[null,null,null,null,null,null,null,null,{"$f":"IF(F3708=\"\",\"\",IF(H3708<>\"\",\"OK\",IF(AND(#REF!<>\"\",#REF!<TODAY()),\"Retard\",\"Attente de Livraison\")))","v":""}]
[null,null,null,null,null,null,null,null,{"$f":"IF(F3709=\"\",\"\",IF(H3709<>\"\",\"OK\",IF(AND(#REF!<>\"\",#REF!<TODAY()),\"Retard\",\"Attente de Livraison\")))","v":""}]
[null,null,null,null,null,null,null,null,{"$f":"IF(F3710=\"\",\"\",IF(H3710<>\"\",\"OK\",IF(AND(#REF!<>\"\",#REF!<TODAY()),\"Retard\",\"Attente de Livraison\")))","v":""}]
[null,null,null,null,null,null,null,null,{"$f":"IF(F3711=\"\",\"\",IF(H3711<>\"\",\"OK\",IF(AND(#REF!<>\"\",#REF!<TODAY()),\"Retard\",\"Attente de Livraison\")))","v":""}]
[null,null,null,null,null,null,null,null,{"$f":"IF(F3712=\"\",\"\",IF(H3712<>\"\",\"OK\",IF(AND(#REF!<>\"\",#REF!<TODAY()),\"Retard\",\"Attente de Livraison\")))","v":""}]
[null,null,null,null,null,null,null,null,{"$f":"IF(F3713=\"\",\"\",IF(H3713<>\"\",\"OK\",IF(AND(#REF!<>\"\",#REF!<TODAY()),\"Retard\",\"Attente de Livraison\")))","v":""}]
[null,null,null,null,null,null,null,null,{"$f":"IF(F3714=\"\",\"\",IF(H3714<>\"\",\"OK\",IF(AND(#REF!<>\"\",#REF!<TODAY()),\"Retard\",\"Attente de Livraison\")))","v":""}]
[null,null,null,null,null,null,null,null,{"$f":"IF(F3715=\"\",\"\",IF(H3715<>\"\",\"OK\",IF(AND(#REF!<>\"\",#REF!<TODAY()),\"Retard\",\"Attente de Livraison\")))","v":""}]
[null,null,null,null,null,null,null,null,{"$f":"IF(F3716=\"\",\"\",IF(H3716<>\"\",\"OK\",IF(AND(#REF!<>\"\",#REF!<TODAY()),\"Retard\",\"Attente de Livraison\")))","v":""}]
[null,null,null,null,null,null,null,null,{"$f":"IF(F3717=\"\",\"\",IF(H3717<>\"\",\"OK\",IF(AND(#REF!<>\"\",#REF!<TODAY()),\"Retard\",\"Attente de Livraison\")))","v":""}]
[null,null,null,null,null,null,null,null,{"$f":"IF(F3718=\"\",\"\",IF(H3718<>\"\",\"OK\",IF(AND(#REF!<>\"\",#REF!<TODAY()),\"Retard\",\"Attente de Livraison\")))","v":""}]
[null,null,null,null,null,null,null,null,{"$f":"IF(F3719=\"\",\"\",IF(H3719<>\"\",\"OK\",IF(AND(#REF!<>\"\",#REF!<TODAY()),\"Retard\",\"Attente de Livraison\")))","v":""}]
[null,null,null,null,null,null,null,null,{"$f":"IF(F3720=\"\",\"\",IF(H3720<>\"\",\"OK\",IF(AND(#REF!<>\"\",#REF!<TODAY()),\"Retard\",\"Attente de Livraison\")))","v":""}]
[null,null,null,null,null,null,null,null,{"$f":"IF(F3721=\"\",\"\",IF(H3721<>\"\",\"OK\",IF(AND(#REF!<>\"\",#REF!<TODAY()),\"Retard\",\"Attente de Livraison\")))","v":""}]
[null,null,null,null,null,null,null,null,{"$f":"IF(F3722=\"\",\"\",IF(H3722<>\"\",\"OK\",IF(AND(#REF!<>\"\",#REF!<TODAY()),\"Retard\",\"Attente de Livraison\")))","v":""}]
[null,null,null,null,null,null,null,null,{"$f":"IF(F3723=\"\",\"\",IF(H3723<>\"\",\"OK\",IF(AND(#REF!<>\"\",#REF!<TODAY()),\"Retard\",\"Attente de Livraison\")))","v":""}]
[null,null,null,null,null,null,null,null,{"$f":"IF(F3724=\"\",\"\",IF(H3724<>\"\",\"OK\",IF(AND(#REF!<>\"\",#REF!<TODAY()),\"Retard\",\"Attente de Livraison\")))","v":""}]
[null,null,null,null,null,null,null,null,{"$f":"IF(F3725=\"\",\"\",IF(H3725<>\"\",\"OK\",IF(AND(#REF!<>\"\",#REF!<TODAY()),\"Retard\",\"Attente de Livraison\")))","v":""}]
[null,null,null,null,null,null,null,null,{"$f":"IF(F3726=\"\",\"\",IF(H3726<>\"\",\"OK\",IF(AND(#REF!<>\"\",#REF!<TODAY()),\"Retard\",\"Attente de Livraison\")))","v":""}]
[null,null,null,null,null,null,null,null,{"$f":"IF(F3727=\"\",\"\",IF(H3727<>\"\",\"OK\",IF(AND(#REF!<>\"\",#REF!<TODAY()),\"Retard\",\"Attente de Livraison\")))","v":""}]
[null,null,null,null,null,null,null,null,{"$f":"IF(F3728=\"\",\"\",IF(H3728<>\"\",\"OK\",IF(AND(#REF!<>\"\",#REF!<TODAY()),\"Retard\",\"Attente de Livraison\")))","v":""}]
[null,null,null,null,null,null,null,null,{"$f":"IF(F3729=\"\",\"\",IF(H3729<>\"\",\"OK\",IF(AND(#REF!<>\"\",#REF!<TODAY()),\"Retard\",\"Attente de Livraison\")))","v":""}]
[null,null,null,null,null,null,null,null,{"$f":"IF(F3730=\"\",\"\",IF(H3730<>\"\",\"OK\",IF(AND(#REF!<>\"\",#REF!<TODAY()),\"Retard\",\"Attente de Livraison\")))","v":""}]
[null,null,null,null,null,null,null,null,{"$f":"IF(F3731=\"\",\"\",IF(H3731<>\"\",\"OK\",IF(AND(#REF!<>\"\",#REF!<TODAY()),\"Retard\",\"Attente de Livraison\")))","v":""}]
[null,null,null,null,null,null,null,null,{"$f":"IF(F3732=\"\",\"\",IF(H3732<>\"\",\"OK\",IF(AND(#REF!<>\"\",#REF!<TODAY()),\"Retard\",\"Attente de Livraison\")))","v":""}]
[null,null,null,null,null,null,null,null,{"$f":"IF(F3733=\"\",\"\",IF(H3733<>\"\",\"OK\",IF(AND(#REF!<>\"\",#REF!<TODAY()),\"Retard\",\"Attente de Livraison\")))","v":""}]
[null,null,null,null,null,null,null,null,{"$f":"IF(F3734=\"\",\"\",IF(H3734<>\"\",\"OK\",IF(AND(#REF!<>\"\",#REF!<TODAY()),\"Retard\",\"Attente de Livraison\")))","v":""}]
[null,null,null,null,null,null,null,null,{"$f":"IF(F3735=\"\",\"\",IF(H3735<>\"\",\"OK\",IF(AND(#REF!<>\"\",#REF!<TODAY()),\"Retard\",\"Attente de Livraison\")))","v":""}]
[null,null,null,null,null,null,null,null,{"$f":"IF(F3736=\"\",\"\",IF(H3736<>\"\",\"OK\",IF(AND(#REF!<>\"\",#REF!<TODAY()),\"Retard\",\"Attente de Livraison\")))","v":""}]
[null,null,null,null,null,null,null,null,{"$f":"IF(F3737=\"\",\"\",IF(H3737<>\"\",\"OK\",IF(AND(#REF!<>\"\",#REF!<TODAY()),\"Retard\",\"Attente de Livraison\")))","v":""}]
[null,null,null,null,null,null,null,null,{"$f":"IF(F3738=\"\",\"\",IF(H3738<>\"\",\"OK\",IF(AND(#REF!<>\"\",#REF!<TODAY()),\"Retard\",\"Attente de Livraison\")))","v":""}]
[null,null,null,null,null,null,null,null,{"$f":"IF(F3739=\"\",\"\",IF(H3739<>\"\",\"OK\",IF(AND(#REF!<>\"\",#REF!<TODAY()),\"Retard\",\"Attente de Livraison\")))","v":""}]
[null,null,null,null,null,null,null,null,{"$f":"IF(F3740=\"\",\"\",IF(H3740<>\"\",\"OK\",IF(AND(#REF!<>\"\",#REF!<TODAY()),\"Retard\",\"Attente de Livraison\")))","v":""}]
[null,null,null,null,null,null,null,null,{"$f":"IF(F3741=\"\",\"\",IF(H3741<>\"\",\"OK\",IF(AND(#REF!<>\"\",#REF!<TODAY()),\"Retard\",\"Attente de Livraison\")))","v":""}]
[null,null,null,null,null,null,null,null,{"$f":"IF(F3742=\"\",\"\",IF(H3742<>\"\",\"OK\",IF(AND(#REF!<>\"\",#REF!<TODAY()),\"Retard\",\"Attente de Livraison\")))","v":""}]
[null,null,null,null,null,null,null,null,{"$f":"IF(F3743=\"\",\"\",IF(H3743<>\"\",\"OK\",IF(AND(#REF!<>\"\",#REF!<TODAY()),\"Retard\",\"Attente de Livraison\")))","v":""}]
[null,null,null,null,null,null,null,null,{"$f":"IF(F3744=\"\",\"\",IF(H3744<>\"\",\"OK\",IF(AND(#REF!<>\"\",#REF!<TODAY()),\"Retard\",\"Attente de Livraison\")))","v":""}]
[null,null,null,null,null,null,null,null,{"$f":"IF(F3745=\"\",\"\",IF(H3745<>\"\",\"OK\",IF(AND(#REF!<>\"\",#REF!<TODAY()),\"Retard\",\"Attente de Livraison\")))","v":""}]
[null,null,null,null,null,null,null,null,{"$f":"IF(F3746=\"\",\"\",IF(H3746<>\"\",\"OK\",IF(AND(#REF!<>\"\",#REF!<TODAY()),\"Retard\",\"Attente de Livraison\")))","v":""}]
[null,null,null,null,null,null,null,null,{"$f":"IF(F3747=\"\",\"\",IF(H3747<>\"\",\"OK\",IF(AND(#REF!<>\"\",#REF!<TODAY()),\"Retard\",\"Attente de Livraison\")))","v":""}]
[null,null,null,null,null,null,null,null,{"$f":"IF(F3748=\"\",\"\",IF(H3748<>\"\",\"OK\",IF(AND(#REF!<>\"\",#REF!<TODAY()),\"Retard\",\"Attente de Livraison\")))","v":""}]
[null,null,null,null,null,null,null,null,{"$f":"IF(F3749=\"\",\"\",IF(H3749<>\"\",\"OK\",IF(AND(#REF!<>\"\",#REF!<TODAY()),\"Retard\",\"Attente de Livraison\")))","v":""}]
[null,null,null,null,null,null,null,null,{"$f":"IF(F3750=\"\",\"\",IF(H3750<>\"\",\"OK\",IF(AND(#REF!<>\"\",#REF!<TODAY()),\"Retard\",\"Attente de Livraison\")))","v":""}]
[null,null,null,null,null,null,null,null,{"$f":"IF(F3751=\"\",\"\",IF(H3751<>\"\",\"OK\",IF(AND(#REF!<>\"\",#REF!<TODAY()),\"Retard\",\"Attente de Livraison\")))","v":""}]
[null,null,null,null,null,null,null,null,{"$f":"IF(F3752=\"\",\"\",IF(H3752<>\"\",\"OK\",IF(AND(#REF!<>\"\",#REF!<TODAY()),\"Retard\",\"Attente de Livraison\")))","v":""}]
[null,null,null,null,null,null,null,null,{"$f":"IF(F3753=\"\",\"\",IF(H3753<>\"\",\"OK\",IF(AND(#REF!<>\"\",#REF!<TODAY()),\"Retard\",\"Attente de Livraison\")))","v":""}]
[null,null,null,null,null,null,null,null,{"$f":"IF(F3754=\"\",\"\",IF(H3754<>\"\",\"OK\",IF(AND(#REF!<>\"\",#REF!<TODAY()),\"Retard\",\"Attente de Livraison\")))","v":""}]
[null,null,null,null,null,null,null,null,{"$f":"IF(F3755=\"\",\"\",IF(H3755<>\"\",\"OK\",IF(AND(#REF!<>\"\",#REF!<TODAY()),\"Retard\",\"Attente de Livraison\")))","v":""}]
[null,null,null,null,null,null,null,null,{"$f":"IF(F3756=\"\",\"\",IF(H3756<>\"\",\"OK\",IF(AND(#REF!<>\"\",#REF!<TODAY()),\"Retard\",\"Attente de Livraison\")))","v":""}]
[null,null,null,null,null,null,null,null,{"$f":"IF(F3757=\"\",\"\",IF(H3757<>\"\",\"OK\",IF(AND(#REF!<>\"\",#REF!<TODAY()),\"Retard\",\"Attente de Livraison\")))","v":""}]
[null,null,null,null,null,null,null,null,{"$f":"IF(F3758=\"\",\"\",IF(H3758<>\"\",\"OK\",IF(AND(#REF!<>\"\",#REF!<TODAY()),\"Retard\",\"Attente de Livraison\")))","v":""}]
[null,null,null,null,null,null,null,null,{"$f":"IF(F3759=\"\",\"\",IF(H3759<>\"\",\"OK\",IF(AND(#REF!<>\"\",#REF!<TODAY()),\"Retard\",\"Attente de Livraison\")))","v":""}]
[null,null,null,null,null,null,null,null,{"$f":"IF(F3760=\"\",\"\",IF(H3760<>\"\",\"OK\",IF(AND(#REF!<>\"\",#REF!<TODAY()),\"Retard\",\"Attente de Livraison\")))","v":""}]
[null,null,null,null,null,null,null,null,{"$f":"IF(F3761=\"\",\"\",IF(H3761<>\"\",\"OK\",IF(AND(#REF!<>\"\",#REF!<TODAY()),\"Retard\",\"Attente de Livraison\")))","v":""}]
[null,null,null,null,null,null,null,null,{"$f":"IF(F3762=\"\",\"\",IF(H3762<>\"\",\"OK\",IF(AND(#REF!<>\"\",#REF!<TODAY()),\"Retard\",\"Attente de Livraison\")))","v":""}]
[null,null,null,null,null,null,null,null,{"$f":"IF(F3763=\"\",\"\",IF(H3763<>\"\",\"OK\",IF(AND(#REF!<>\"\",#REF!<TODAY()),\"Retard\",\"Attente de Livraison\")))","v":""}]
[null,null,null,null,null,null,null,null,{"$f":"IF(F3764=\"\",\"\",IF(H3764<>\"\",\"OK\",IF(AND(#REF!<>\"\",#REF!<TODAY()),\"Retard\",\"Attente de Livraison\")))","v":""}]
[null,null,null,null,null,null,null,null,{"$f":"IF(F3765=\"\",\"\",IF(H3765<>\"\",\"OK\",IF(AND(#REF!<>\"\",#REF!<TODAY()),\"Retard\",\"Attente de Livraison\")))","v":""}]
[null,null,null,null,null,null,null,null,{"$f":"IF(F3766=\"\",\"\",IF(H3766<>\"\",\"OK\",IF(AND(#REF!<>\"\",#REF!<TODAY()),\"Retard\",\"Attente de Livraison\")))","v":""}]
[null,null,null,null,null,null,null,null,{"$f":"IF(F3767=\"\",\"\",IF(H3767<>\"\",\"OK\",IF(AND(#REF!<>\"\",#REF!<TODAY()),\"Retard\",\"Attente de Livraison\")))","v":""}]
[null,null,null,null,null,null,null,null,{"$f":"IF(F3768=\"\",\"\",IF(H3768<>\"\",\"OK\",IF(AND(#REF!<>\"\",#REF!<TODAY()),\"Retard\",\"Attente de Livraison\")))","v":""}]
[null,null,null,null,null,null,null,null,{"$f":"IF(F3769=\"\",\"\",IF(H3769<>\"\",\"OK\",IF(AND(#REF!<>\"\",#REF!<TODAY()),\"Retard\",\"Attente de Livraison\")))","v":""}]
[null,null,null,null,null,null,null,null,{"$f":"IF(F3770=\"\",\"\",IF(H3770<>\"\",\"OK\",IF(AND(#REF!<>\"\",#REF!<TODAY()),\"Retard\",\"Attente de Livraison\")))","v":""}]
[null,null,null,null,null,null,null,null,{"$f":"IF(F3771=\"\",\"\",IF(H3771<>\"\",\"OK\",IF(AND(#REF!<>\"\",#REF!<TODAY()),\"Retard\",\"Attente de Livraison\")))","v":""}]
[null,null,null,null,null,null,null,null,{"$f":"IF(F3772=\"\",\"\",IF(H3772<>\"\",\"OK\",IF(AND(#REF!<>\"\",#REF!<TODAY()),\"Retard\",\"Attente de Livraison\")))","v":""}]
[null,null,null,null,null,null,null,null,{"$f":"IF(F3773=\"\",\"\",IF(H3773<>\"\",\"OK\",IF(AND(#REF!<>\"\",#REF!<TODAY()),\"Retard\",\"Attente de Livraison\")))","v":""}]
[null,null,null,null,null,null,null,null,{"$f":"IF(F3774=\"\",\"\",IF(H3774<>\"\",\"OK\",IF(AND(#REF!<>\"\",#REF!<TODAY()),\"Retard\",\"Attente de Livraison\")))","v":""}]
[null,null,null,null,null,null,null,null,{"$f":"IF(F3775=\"\",\"\",IF(H3775<>\"\",\"OK\",IF(AND(#REF!<>\"\",#REF!<TODAY()),\"Retard\",\"Attente de Livraison\")))","v":""}]
[null,null,null,null,null,null,null,null,{"$f":"IF(F3776=\"\",\"\",IF(H3776<>\"\",\"OK\",IF(AND(#REF!<>\"\",#REF!<TODAY()),\"Retard\",\"Attente de Livraison\")))","v":""}]
[null,null,null,null,null,null,null,null,{"$f":"IF(F3777=\"\",\"\",IF(H3777<>\"\",\"OK\",IF(AND(#REF!<>\"\",#REF!<TODAY()),\"Retard\",\"Attente de Livraison\")))","v":""}]
[null,null,null,null,null,null,null,null,{"$f":"IF(F3778=\"\",\"\",IF(H3778<>\"\",\"OK\",IF(AND(#REF!<>\"\",#REF!<TODAY()),\"Retard\",\"Attente de Livraison\")))","v":""}]
[null,null,null,null,null,null,null,null,{"$f":"IF(F3779=\"\",\"\",IF(H3779<>\"\",\"OK\",IF(AND(#REF!<>\"\",#REF!<TODAY()),\"Retard\",\"Attente de Livraison\")))","v":""}]
[null,null,null,null,null,null,null,null,{"$f":"IF(F3780=\"\",\"\",IF(H3780<>\"\",\"OK\",IF(AND(#REF!<>\"\",#REF!<TODAY()),\"Retard\",\"Attente de Livraison\")))","v":""}]
[null,null,null,null,null,null,null,null,{"$f":"IF(F3781=\"\",\"\",IF(H3781<>\"\",\"OK\",IF(AND(#REF!<>\"\",#REF!<TODAY()),\"Retard\",\"Attente de Livraison\")))","v":""}]
[null,null,null,null,null,null,null,null,{"$f":"IF(F3782=\"\",\"\",IF(H3782<>\"\",\"OK\",IF(AND(#REF!<>\"\",#REF!<TODAY()),\"Retard\",\"Attente de Livraison\")))","v":""}]
[null,null,null,null,null,null,null,null,{"$f":"IF(F3783=\"\",\"\",IF(H3783<>\"\",\"OK\",IF(AND(#REF!<>\"\",#REF!<TODAY()),\"Retard\",\"Attente de Livraison\")))","v":""}]
[null,null,null,null,null,null,null,null,{"$f":"IF(F3784=\"\",\"\",IF(H3784<>\"\",\"OK\",IF(AND(#REF!<>\"\",#REF!<TODAY()),\"Retard\",\"Attente de Livraison\")))","v":""}]
[null,null,null,null,null,null,null,null,{"$f":"IF(F3785=\"\",\"\",IF(H3785<>\"\",\"OK\",IF(AND(#REF!<>\"\",#REF!<TODAY()),\"Retard\",\"Attente de Livraison\")))","v":""}]
[null,null,null,null,null,null,null,null,{"$f":"IF(F3786=\"\",\"\",IF(H3786<>\"\",\"OK\",IF(AND(#REF!<>\"\",#REF!<TODAY()),\"Retard\",\"Attente de Livraison\")))","v":""}]
[null,null,null,null,null,null,null,null,{"$f":"IF(F3787=\"\",\"\",IF(H3787<>\"\",\"OK\",IF(AND(#REF!<>\"\",#REF!<TODAY()),\"Retard\",\"Attente de Livraison\")))","v":""}]
[null,null,null,null,null,null,null,null,{"$f":"IF(F3788=\"\",\"\",IF(H3788<>\"\",\"OK\",IF(AND(#REF!<>\"\",#REF!<TODAY()),\"Retard\",\"Attente de Livraison\")))","v":""}]
[null,null,null,null,null,null,null,null,{"$f":"IF(F3789=\"\",\"\",IF(H3789<>\"\",\"OK\",IF(AND(#REF!<>\"\",#REF!<TODAY()),\"Retard\",\"Attente de Livraison\")))","v":""}]
[null,null,null,null,null,null,null,null,{"$f":"IF(F3790=\"\",\"\",IF(H3790<>\"\",\"OK\",IF(AND(#REF!<>\"\",#REF!<TODAY()),\"Retard\",\"Attente de Livraison\")))","v":""}]
[null,null,null,null,null,null,null,null,{"$f":"IF(F3791=\"\",\"\",IF(H3791<>\"\",\"OK\",IF(AND(#REF!<>\"\",#REF!<TODAY()),\"Retard\",\"Attente de Livraison\")))","v":""}]
[null,null,null,null,null,null,null,null,{"$f":"IF(F3792=\"\",\"\",IF(H3792<>\"\",\"OK\",IF(AND(#REF!<>\"\",#REF!<TODAY()),\"Retard\",\"Attente de Livraison\")))","v":""}]
[null,null,null,null,null,null,null,null,{"$f":"IF(F3793=\"\",\"\",IF(H3793<>\"\",\"OK\",IF(AND(#REF!<>\"\",#REF!<TODAY()),\"Retard\",\"Attente de Livraison\")))","v":""}]
[null,null,null,null,null,null,null,null,{"$f":"IF(F3794=\"\",\"\",IF(H3794<>\"\",\"OK\",IF(AND(#REF!<>\"\",#REF!<TODAY()),\"Retard\",\"Attente de Livraison\")))","v":""}]
[null,null,null,null,null,null,null,null,{"$f":"IF(F3795=\"\",\"\",IF(H3795<>\"\",\"OK\",IF(AND(#REF!<>\"\",#REF!<TODAY()),\"Retard\",\"Attente de Livraison\")))","v":""}]
[null,null,null,null,null,null,null,null,{"$f":"IF(F3796=\"\",\"\",IF(H3796<>\"\",\"OK\",IF(AND(#REF!<>\"\",#REF!<TODAY()),\"Retard\",\"Attente de Livraison\")))","v":""}]
[null,null,null,null,null,null,null,null,{"$f":"IF(F3797=\"\",\"\",IF(H3797<>\"\",\"OK\",IF(AND(#REF!<>\"\",#REF!<TODAY()),\"Retard\",\"Attente de Livraison\")))","v":""}]
[null,null,null,null,null,null,null,null,{"$f":"IF(F3798=\"\",\"\",IF(H3798<>\"\",\"OK\",IF(AND(#REF!<>\"\",#REF!<TODAY()),\"Retard\",\"Attente de Livraison\")))","v":""}]
[null,null,null,null,null,null,null,null,{"$f":"IF(F3799=\"\",\"\",IF(H3799<>\"\",\"OK\",IF(AND(#REF!<>\"\",#REF!<TODAY()),\"Retard\",\"Attente de Livraison\")))","v":""}]
[null,null,null,null,null,null,null,null,{"$f":"IF(F3800=\"\",\"\",IF(H3800<>\"\",\"OK\",IF(AND(#REF!<>\"\",#REF!<TODAY()),\"Retard\",\"Attente de Livraison\")))","v":""}]
[null,null,null,null,null,null,null,null,{"$f":"IF(F3801=\"\",\"\",IF(H3801<>\"\",\"OK\",IF(AND(#REF!<>\"\",#REF!<TODAY()),\"Retard\",\"Attente de Livraison\")))","v":""}]
[null,null,null,null,null,null,null,null,{"$f":"IF(F3802=\"\",\"\",IF(H3802<>\"\",\"OK\",IF(AND(#REF!<>\"\",#REF!<TODAY()),\"Retard\",\"Attente de Livraison\")))","v":""}]
[null,null,null,null,null,null,null,null,{"$f":"IF(F3803=\"\",\"\",IF(H3803<>\"\",\"OK\",IF(AND(#REF!<>\"\",#REF!<TODAY()),\"Retard\",\"Attente de Livraison\")))","v":""}]
[null,null,null,null,null,null,null,null,{"$f":"IF(F3804=\"\",\"\",IF(H3804<>\"\",\"OK\",IF(AND(#REF!<>\"\",#REF!<TODAY()),\"Retard\",\"Attente de Livraison\")))","v":""}]
[null,null,null,null,null,null,null,null,{"$f":"IF(F3805=\"\",\"\",IF(H3805<>\"\",\"OK\",IF(AND(#REF!<>\"\",#REF!<TODAY()),\"Retard\",\"Attente de Livraison\")))","v":""}]
[null,null,null,null,null,null,null,null,{"$f":"IF(F3806=\"\",\"\",IF(H3806<>\"\",\"OK\",IF(AND(#REF!<>\"\",#REF!<TODAY()),\"Retard\",\"Attente de Livraison\")))","v":""}]
[null,null,null,null,null,null,null,null,{"$f":"IF(F3807=\"\",\"\",IF(H3807<>\"\",\"OK\",IF(AND(#REF!<>\"\",#REF!<TODAY()),\"Retard\",\"Attente de Livraison\")))","v":""}]
[null,null,null,null,null,null,null,null,{"$f":"IF(F3808=\"\",\"\",IF(H3808<>\"\",\"OK\",IF(AND(#REF!<>\"\",#REF!<TODAY()),\"Retard\",\"Attente de Livraison\")))","v":""}]
[null,null,null,null,null,null,null,null,{"$f":"IF(F3809=\"\",\"\",IF(H3809<>\"\",\"OK\",IF(AND(#REF!<>\"\",#REF!<TODAY()),\"Retard\",\"Attente de Livraison\")))","v":""}]
[null,null,null,null,null,null,null,null,{"$f":"IF(F3810=\"\",\"\",IF(H3810<>\"\",\"OK\",IF(AND(#REF!<>\"\",#REF!<TODAY()),\"Retard\",\"Attente de Livraison\")))","v":""}]
[null,null,null,null,null,null,null,null,{"$f":"IF(F3811=\"\",\"\",IF(H3811<>\"\",\"OK\",IF(AND(#REF!<>\"\",#REF!<TODAY()),\"Retard\",\"Attente de Livraison\")))","v":""}]
[null,null,null,null,null,null,null,null,{"$f":"IF(F3812=\"\",\"\",IF(H3812<>\"\",\"OK\",IF(AND(#REF!<>\"\",#REF!<TODAY()),\"Retard\",\"Attente de Livraison\")))","v":""}]
[null,null,null,null,null,null,null,null,{"$f":"IF(F3813=\"\",\"\",IF(H3813<>\"\",\"OK\",IF(AND(#REF!<>\"\",#REF!<TODAY()),\"Retard\",\"Attente de Livraison\")))","v":""}]
[null,null,null,null,null,null,null,null,{"$f":"IF(F3814=\"\",\"\",IF(H3814<>\"\",\"OK\",IF(AND(#REF!<>\"\",#REF!<TODAY()),\"Retard\",\"Attente de Livraison\")))","v":""}]
[null,null,null,null,null,null,null,null,{"$f":"IF(F3815=\"\",\"\",IF(H3815<>\"\",\"OK\",IF(AND(#REF!<>\"\",#REF!<TODAY()),\"Retard\",\"Attente de Livraison\")))","v":""}]
[null,null,null,null,null,null,null,null,{"$f":"IF(F3816=\"\",\"\",IF(H3816<>\"\",\"OK\",IF(AND(#REF!<>\"\",#REF!<TODAY()),\"Retard\",\"Attente de Livraison\")))","v":""}]
[null,null,null,null,null,null,null,null,{"$f":"IF(F3817=\"\",\"\",IF(H3817<>\"\",\"OK\",IF(AND(#REF!<>\"\",#REF!<TODAY()),\"Retard\",\"Attente de Livraison\")))","v":""}]
[null,null,null,null,null,null,null,null,{"$f":"IF(F3818=\"\",\"\",IF(H3818<>\"\",\"OK\",IF(AND(#REF!<>\"\",#REF!<TODAY()),\"Retard\",\"Attente de Livraison\")))","v":""}]
[null,null,null,null,null,null,null,null,{"$f":"IF(F3819=\"\",\"\",IF(H3819<>\"\",\"OK\",IF(AND(#REF!<>\"\",#REF!<TODAY()),\"Retard\",\"Attente de Livraison\")))","v":""}]
[null,null,null,null,null,null,null,null,{"$f":"IF(F3820=\"\",\"\",IF(H3820<>\"\",\"OK\",IF(AND(#REF!<>\"\",#REF!<TODAY()),\"Retard\",\"Attente de Livraison\")))","v":""}]
[null,null,null,null,null,null,null,null,{"$f":"IF(F3821=\"\",\"\",IF(H3821<>\"\",\"OK\",IF(AND(#REF!<>\"\",#REF!<TODAY()),\"Retard\",\"Attente de Livraison\")))","v":""}]
[null,null,null,null,null,null,null,null,{"$f":"IF(F3822=\"\",\"\",IF(H3822<>\"\",\"OK\",IF(AND(#REF!<>\"\",#REF!<TODAY()),\"Retard\",\"Attente de Livraison\")))","v":""}]
[null,null,null,null,null,null,null,null,{"$f":"IF(F3823=\"\",\"\",IF(H3823<>\"\",\"OK\",IF(AND(#REF!<>\"\",#REF!<TODAY()),\"Retard\",\"Attente de Livraison\")))","v":""}]
[null,null,null,null,null,null,null,null,{"$f":"IF(F3824=\"\",\"\",IF(H3824<>\"\",\"OK\",IF(AND(#REF!<>\"\",#REF!<TODAY()),\"Retard\",\"Attente de Livraison\")))","v":""}]
[null,null,null,null,null,null,null,null,{"$f":"IF(F3825=\"\",\"\",IF(H3825<>\"\",\"OK\",IF(AND(#REF!<>\"\",#REF!<TODAY()),\"Retard\",\"Attente de Livraison\")))","v":""}]
[null,null,null,null,null,null,null,null,{"$f":"IF(F3826=\"\",\"\",IF(H3826<>\"\",\"OK\",IF(AND(#REF!<>\"\",#REF!<TODAY()),\"Retard\",\"Attente de Livraison\")))","v":""}]
[null,null,null,null,null,null,null,null,{"$f":"IF(F3827=\"\",\"\",IF(H3827<>\"\",\"OK\",IF(AND(#REF!<>\"\",#REF!<TODAY()),\"Retard\",\"Attente de Livraison\")))","v":""}]
[null,null,null,null,null,null,null,null,{"$f":"IF(F3828=\"\",\"\",IF(H3828<>\"\",\"OK\",IF(AND(#REF!<>\"\",#REF!<TODAY()),\"Retard\",\"Attente de Livraison\")))","v":""}]
[null,null,null,null,null,null,null,null,{"$f":"IF(F3829=\"\",\"\",IF(H3829<>\"\",\"OK\",IF(AND(#REF!<>\"\",#REF!<TODAY()),\"Retard\",\"Attente de Livraison\")))","v":""}]
[null,null,null,null,null,null,null,null,{"$f":"IF(F3830=\"\",\"\",IF(H3830<>\"\",\"OK\",IF(AND(#REF!<>\"\",#REF!<TODAY()),\"Retard\",\"Attente de Livraison\")))","v":""}]
[null,null,null,null,null,null,null,null,{"$f":"IF(F3831=\"\",\"\",IF(H3831<>\"\",\"OK\",IF(AND(#REF!<>\"\",#REF!<TODAY()),\"Retard\",\"Attente de Livraison\")))","v":""}]
[null,null,null,null,null,null,null,null,{"$f":"IF(F3832=\"\",\"\",IF(H3832<>\"\",\"OK\",IF(AND(#REF!<>\"\",#REF!<TODAY()),\"Retard\",\"Attente de Livraison\")))","v":""}]
[null,null,null,null,null,null,null,null,{"$f":"IF(F3833=\"\",\"\",IF(H3833<>\"\",\"OK\",IF(AND(#REF!<>\"\",#REF!<TODAY()),\"Retard\",\"Attente de Livraison\")))","v":""}]
[null,null,null,null,null,null,null,null,{"$f":"IF(F3834=\"\",\"\",IF(H3834<>\"\",\"OK\",IF(AND(#REF!<>\"\",#REF!<TODAY()),\"Retard\",\"Attente de Livraison\")))","v":""}]
[null,null,null,null,null,null,null,null,{"$f":"IF(F3835=\"\",\"\",IF(H3835<>\"\",\"OK\",IF(AND(#REF!<>\"\",#REF!<TODAY()),\"Retard\",\"Attente de Livraison\")))","v":""}]
[null,null,null,null,null,null,null,null,{"$f":"IF(F3836=\"\",\"\",IF(H3836<>\"\",\"OK\",IF(AND(#REF!<>\"\",#REF!<TODAY()),\"Retard\",\"Attente de Livraison\")))","v":""}]
[null,null,null,null,null,null,null,null,{"$f":"IF(F3837=\"\",\"\",IF(H3837<>\"\",\"OK\",IF(AND(#REF!<>\"\",#REF!<TODAY()),\"Retard\",\"Attente de Livraison\")))","v":""}]
[null,null,null,null,null,null,null,null,{"$f":"IF(F3838=\"\",\"\",IF(H3838<>\"\",\"OK\",IF(AND(#REF!<>\"\",#REF!<TODAY()),\"Retard\",\"Attente de Livraison\")))","v":""}]
[null,null,null,null,null,null,null,null,{"$f":"IF(F3839=\"\",\"\",IF(H3839<>\"\",\"OK\",IF(AND(#REF!<>\"\",#REF!<TODAY()),\"Retard\",\"Attente de Livraison\")))","v":""}]
[null,null,null,null,null,null,null,null,{"$f":"IF(F3840=\"\",\"\",IF(H3840<>\"\",\"OK\",IF(AND(#REF!<>\"\",#REF!<TODAY()),\"Retard\",\"Attente de Livraison\")))","v":""}]
[null,null,null,null,null,null,null,null,{"$f":"IF(F3841=\"\",\"\",IF(H3841<>\"\",\"OK\",IF(AND(#REF!<>\"\",#REF!<TODAY()),\"Retard\",\"Attente de Livraison\")))","v":""}]
[null,null,null,null,null,null,null,null,{"$f":"IF(F3842=\"\",\"\",IF(H3842<>\"\",\"OK\",IF(AND(#REF!<>\"\",#REF!<TODAY()),\"Retard\",\"Attente de Livraison\")))","v":""}]
[null,null,null,null,null,null,null,null,{"$f":"IF(F3843=\"\",\"\",IF(H3843<>\"\",\"OK\",IF(AND(#REF!<>\"\",#REF!<TODAY()),\"Retard\",\"Attente de Livraison\")))","v":""}]
[null,null,null,null,null,null,null,null,{"$f":"IF(F3844=\"\",\"\",IF(H3844<>\"\",\"OK\",IF(AND(#REF!<>\"\",#REF!<TODAY()),\"Retard\",\"Attente de Livraison\")))","v":""}]
[null,null,null,null,null,null,null,null,{"$f":"IF(F3845=\"\",\"\",IF(H3845<>\"\",\"OK\",IF(AND(#REF!<>\"\",#REF!<TODAY()),\"Retard\",\"Attente de Livraison\")))","v":""}]
[null,null,null,null,null,null,null,null,{"$f":"IF(F3846=\"\",\"\",IF(H3846<>\"\",\"OK\",IF(AND(#REF!<>\"\",#REF!<TODAY()),\"Retard\",\"Attente de Livraison\")))","v":""}]
[null,null,null,null,null,null,null,null,{"$f":"IF(F3847=\"\",\"\",IF(H3847<>\"\",\"OK\",IF(AND(#REF!<>\"\",#REF!<TODAY()),\"Retard\",\"Attente de Livraison\")))","v":""}]
[null,null,null,null,null,null,null,null,{"$f":"IF(F3848=\"\",\"\",IF(H3848<>\"\",\"OK\",IF(AND(#REF!<>\"\",#REF!<TODAY()),\"Retard\",\"Attente de Livraison\")))","v":""}]
[null,null,null,null,null,null,null,null,{"$f":"IF(F3849=\"\",\"\",IF(H3849<>\"\",\"OK\",IF(AND(#REF!<>\"\",#REF!<TODAY()),\"Retard\",\"Attente de Livraison\")))","v":""}]
[null,null,null,null,null,null,null,null,{"$f":"IF(F3850=\"\",\"\",IF(H3850<>\"\",\"OK\",IF(AND(#REF!<>\"\",#REF!<TODAY()),\"Retard\",\"Attente de Livraison\")))","v":""}]
[null,null,null,null,null,null,null,null,{"$f":"IF(F3851=\"\",\"\",IF(H3851<>\"\",\"OK\",IF(AND(#REF!<>\"\",#REF!<TODAY()),\"Retard\",\"Attente de Livraison\")))","v":""}]
[null,null,null,null,null,null,null,null,{"$f":"IF(F3852=\"\",\"\",IF(H3852<>\"\",\"OK\",IF(AND(#REF!<>\"\",#REF!<TODAY()),\"Retard\",\"Attente de Livraison\")))","v":""}]
[null,null,null,null,null,null,null,null,{"$f":"IF(F3853=\"\",\"\",IF(H3853<>\"\",\"OK\",IF(AND(#REF!<>\"\",#REF!<TODAY()),\"Retard\",\"Attente de Livraison\")))","v":""}]
[null,null,null,null,null,null,null,null,{"$f":"IF(F3854=\"\",\"\",IF(H3854<>\"\",\"OK\",IF(AND(#REF!<>\"\",#REF!<TODAY()),\"Retard\",\"Attente de Livraison\")))","v":""}]
[null,null,null,null,null,null,null,null,{"$f":"IF(F3855=\"\",\"\",IF(H3855<>\"\",\"OK\",IF(AND(#REF!<>\"\",#REF!<TODAY()),\"Retard\",\"Attente de Livraison\")))","v":""}]
[null,null,null,null,null,null,null,null,{"$f":"IF(F3856=\"\",\"\",IF(H3856<>\"\",\"OK\",IF(AND(#REF!<>\"\",#REF!<TODAY()),\"Retard\",\"Attente de Livraison\")))","v":""}]
[null,null,null,null,null,null,null,null,{"$f":"IF(F3857=\"\",\"\",IF(H3857<>\"\",\"OK\",IF(AND(#REF!<>\"\",#REF!<TODAY()),\"Retard\",\"Attente de Livraison\")))","v":""}]
[null,null,null,null,null,null,null,null,{"$f":"IF(F3858=\"\",\"\",IF(H3858<>\"\",\"OK\",IF(AND(#REF!<>\"\",#REF!<TODAY()),\"Retard\",\"Attente de Livraison\")))","v":""}]
[null,null,null,null,null,null,null,null,{"$f":"IF(F3859=\"\",\"\",IF(H3859<>\"\",\"OK\",IF(AND(#REF!<>\"\",#REF!<TODAY()),\"Retard\",\"Attente de Livraison\")))","v":""}]
[null,null,null,null,null,null,null,null,{"$f":"IF(F3860=\"\",\"\",IF(H3860<>\"\",\"OK\",IF(AND(#REF!<>\"\",#REF!<TODAY()),\"Retard\",\"Attente de Livraison\")))","v":""}]
[null,null,null,null,null,null,null,null,{"$f":"IF(F3861=\"\",\"\",IF(H3861<>\"\",\"OK\",IF(AND(#REF!<>\"\",#REF!<TODAY()),\"Retard\",\"Attente de Livraison\")))","v":""}]
[null,null,null,null,null,null,null,null,{"$f":"IF(F3862=\"\",\"\",IF(H3862<>\"\",\"OK\",IF(AND(#REF!<>\"\",#REF!<TODAY()),\"Retard\",\"Attente de Livraison\")))","v":""}]
[null,null,null,null,null,null,null,null,{"$f":"IF(F3863=\"\",\"\",IF(H3863<>\"\",\"OK\",IF(AND(#REF!<>\"\",#REF!<TODAY()),\"Retard\",\"Attente de Livraison\")))","v":""}]
[null,null,null,null,null,null,null,null,{"$f":"IF(F3864=\"\",\"\",IF(H3864<>\"\",\"OK\",IF(AND(#REF!<>\"\",#REF!<TODAY()),\"Retard\",\"Attente de Livraison\")))","v":""}]
[null,null,null,null,null,null,null,null,{"$f":"IF(F3865=\"\",\"\",IF(H3865<>\"\",\"OK\",IF(AND(#REF!<>\"\",#REF!<TODAY()),\"Retard\",\"Attente de Livraison\")))","v":""}]
[null,null,null,null,null,null,null,null,{"$f":"IF(F3866=\"\",\"\",IF(H3866<>\"\",\"OK\",IF(AND(#REF!<>\"\",#REF!<TODAY()),\"Retard\",\"Attente de Livraison\")))","v":""}]
[null,null,null,null,null,null,null,null,{"$f":"IF(F3867=\"\",\"\",IF(H3867<>\"\",\"OK\",IF(AND(#REF!<>\"\",#REF!<TODAY()),\"Retard\",\"Attente de Livraison\")))","v":""}]
[null,null,null,null,null,null,null,null,{"$f":"IF(F3868=\"\",\"\",IF(H3868<>\"\",\"OK\",IF(AND(#REF!<>\"\",#REF!<TODAY()),\"Retard\",\"Attente de Livraison\")))","v":""}]
[null,null,null,null,null,null,null,null,{"$f":"IF(F3869=\"\",\"\",IF(H3869<>\"\",\"OK\",IF(AND(#REF!<>\"\",#REF!<TODAY()),\"Retard\",\"Attente de Livraison\")))","v":""}]
[null,null,null,null,null,null,null,null,{"$f":"IF(F3870=\"\",\"\",IF(H3870<>\"\",\"OK\",IF(AND(#REF!<>\"\",#REF!<TODAY()),\"Retard\",\"Attente de Livraison\")))","v":""}]
[null,null,null,null,null,null,null,null,{"$f":"IF(F3871=\"\",\"\",IF(H3871<>\"\",\"OK\",IF(AND(#REF!<>\"\",#REF!<TODAY()),\"Retard\",\"Attente de Livraison\")))","v":""}]
[null,null,null,null,null,null,null,null,{"$f":"IF(F3872=\"\",\"\",IF(H3872<>\"\",\"OK\",IF(AND(#REF!<>\"\",#REF!<TODAY()),\"Retard\",\"Attente de Livraison\")))","v":""}]
[null,null,null,null,null,null,null,null,{"$f":"IF(F3873=\"\",\"\",IF(H3873<>\"\",\"OK\",IF(AND(#REF!<>\"\",#REF!<TODAY()),\"Retard\",\"Attente de Livraison\")))","v":""}]
[null,null,null,null,null,null,null,null,{"$f":"IF(F3874=\"\",\"\",IF(H3874<>\"\",\"OK\",IF(AND(#REF!<>\"\",#REF!<TODAY()),\"Retard\",\"Attente de Livraison\")))","v":""}]
[null,null,null,null,null,null,null,null,{"$f":"IF(F3875=\"\",\"\",IF(H3875<>\"\",\"OK\",IF(AND(#REF!<>\"\",#REF!<TODAY()),\"Retard\",\"Attente de Livraison\")))","v":""}]
[null,null,null,null,null,null,null,null,{"$f":"IF(F3876=\"\",\"\",IF(H3876<>\"\",\"OK\",IF(AND(#REF!<>\"\",#REF!<TODAY()),\"Retard\",\"Attente de Livraison\")))","v":""}]
[null,null,null,null,null,null,null,null,{"$f":"IF(F3877=\"\",\"\",IF(H3877<>\"\",\"OK\",IF(AND(#REF!<>\"\",#REF!<TODAY()),\"Retard\",\"Attente de Livraison\")))","v":""}]
[null,null,null,null,null,null,null,null,{"$f":"IF(F3878=\"\",\"\",IF(H3878<>\"\",\"OK\",IF(AND(#REF!<>\"\",#REF!<TODAY()),\"Retard\",\"Attente de Livraison\")))","v":""}]
[null,null,null,null,null,null,null,null,{"$f":"IF(F3879=\"\",\"\",IF(H3879<>\"\",\"OK\",IF(AND(#REF!<>\"\",#REF!<TODAY()),\"Retard\",\"Attente de Livraison\")))","v":""}]
[null,null,null,null,null,null,null,null,{"$f":"IF(F3880=\"\",\"\",IF(H3880<>\"\",\"OK\",IF(AND(#REF!<>\"\",#REF!<TODAY()),\"Retard\",\"Attente de Livraison\")))","v":""}]
[null,null,null,null,null,null,null,null,{"$f":"IF(F3881=\"\",\"\",IF(H3881<>\"\",\"OK\",IF(AND(#REF!<>\"\",#REF!<TODAY()),\"Retard\",\"Attente de Livraison\")))","v":""}]
[null,null,null,null,null,null,null,null,{"$f":"IF(F3882=\"\",\"\",IF(H3882<>\"\",\"OK\",IF(AND(#REF!<>\"\",#REF!<TODAY()),\"Retard\",\"Attente de Livraison\")))","v":""}]
[null,null,null,null,null,null,null,null,{"$f":"IF(F3883=\"\",\"\",IF(H3883<>\"\",\"OK\",IF(AND(#REF!<>\"\",#REF!<TODAY()),\"Retard\",\"Attente de Livraison\")))","v":""}]
[null,null,null,null,null,null,null,null,{"$f":"IF(F3884=\"\",\"\",IF(H3884<>\"\",\"OK\",IF(AND(#REF!<>\"\",#REF!<TODAY()),\"Retard\",\"Attente de Livraison\")))","v":""}]
[null,null,null,null,null,null,null,null,{"$f":"IF(F3885=\"\",\"\",IF(H3885<>\"\",\"OK\",IF(AND(#REF!<>\"\",#REF!<TODAY()),\"Retard\",\"Attente de Livraison\")))","v":""}]
[null,null,null,null,null,null,null,null,{"$f":"IF(F3886=\"\",\"\",IF(H3886<>\"\",\"OK\",IF(AND(#REF!<>\"\",#REF!<TODAY()),\"Retard\",\"Attente de Livraison\")))","v":""}]
[null,null,null,null,null,null,null,null,{"$f":"IF(F3887=\"\",\"\",IF(H3887<>\"\",\"OK\",IF(AND(#REF!<>\"\",#REF!<TODAY()),\"Retard\",\"Attente de Livraison\")))","v":""}]
[null,null,null,null,null,null,null,null,{"$f":"IF(F3888=\"\",\"\",IF(H3888<>\"\",\"OK\",IF(AND(#REF!<>\"\",#REF!<TODAY()),\"Retard\",\"Attente de Livraison\")))","v":""}]
[null,null,null,null,null,null,null,null,{"$f":"IF(F3889=\"\",\"\",IF(H3889<>\"\",\"OK\",IF(AND(#REF!<>\"\",#REF!<TODAY()),\"Retard\",\"Attente de Livraison\")))","v":""}]
[null,null,null,null,null,null,null,null,{"$f":"IF(F3890=\"\",\"\",IF(H3890<>\"\",\"OK\",IF(AND(#REF!<>\"\",#REF!<TODAY()),\"Retard\",\"Attente de Livraison\")))","v":""}]
[null,null,null,null,null,null,null,null,{"$f":"IF(F3891=\"\",\"\",IF(H3891<>\"\",\"OK\",IF(AND(#REF!<>\"\",#REF!<TODAY()),\"Retard\",\"Attente de Livraison\")))","v":""}]
[null,null,null,null,null,null,null,null,{"$f":"IF(F3892=\"\",\"\",IF(H3892<>\"\",\"OK\",IF(AND(#REF!<>\"\",#REF!<TODAY()),\"Retard\",\"Attente de Livraison\")))","v":""}]
[null,null,null,null,null,null,null,null,{"$f":"IF(F3893=\"\",\"\",IF(H3893<>\"\",\"OK\",IF(AND(#REF!<>\"\",#REF!<TODAY()),\"Retard\",\"Attente de Livraison\")))","v":""}]
[null,null,null,null,null,null,null,null,{"$f":"IF(F3894=\"\",\"\",IF(H3894<>\"\",\"OK\",IF(AND(#REF!<>\"\",#REF!<TODAY()),\"Retard\",\"Attente de Livraison\")))","v":""}]
[null,null,null,null,null,null,null,null,{"$f":"IF(F3895=\"\",\"\",IF(H3895<>\"\",\"OK\",IF(AND(#REF!<>\"\",#REF!<TODAY()),\"Retard\",\"Attente de Livraison\")))","v":""}]
[null,null,null,null,null,null,null,null,{"$f":"IF(F3896=\"\",\"\",IF(H3896<>\"\",\"OK\",IF(AND(#REF!<>\"\",#REF!<TODAY()),\"Retard\",\"Attente de Livraison\")))","v":""}]
[null,null,null,null,null,null,null,null,{"$f":"IF(F3897=\"\",\"\",IF(H3897<>\"\",\"OK\",IF(AND(#REF!<>\"\",#REF!<TODAY()),\"Retard\",\"Attente de Livraison\")))","v":""}]
[null,null,null,null,null,null,null,null,{"$f":"IF(F3898=\"\",\"\",IF(H3898<>\"\",\"OK\",IF(AND(#REF!<>\"\",#REF!<TODAY()),\"Retard\",\"Attente de Livraison\")))","v":""}]
[null,null,null,null,null,null,null,null,{"$f":"IF(F3899=\"\",\"\",IF(H3899<>\"\",\"OK\",IF(AND(#REF!<>\"\",#REF!<TODAY()),\"Retard\",\"Attente de Livraison\")))","v":""}]
[null,null,null,null,null,null,null,null,{"$f":"IF(F3900=\"\",\"\",IF(H3900<>\"\",\"OK\",IF(AND(#REF!<>\"\",#REF!<TODAY()),\"Retard\",\"Attente de Livraison\")))","v":""}]
[null,null,null,null,null,null,null,null,{"$f":"IF(F3901=\"\",\"\",IF(H3901<>\"\",\"OK\",IF(AND(#REF!<>\"\",#REF!<TODAY()),\"Retard\",\"Attente de Livraison\")))","v":""}]
[null,null,null,null,null,null,null,null,{"$f":"IF(F3902=\"\",\"\",IF(H3902<>\"\",\"OK\",IF(AND(#REF!<>\"\",#REF!<TODAY()),\"Retard\",\"Attente de Livraison\")))","v":""}]
[null,null,null,null,null,null,null,null,{"$f":"IF(F3903=\"\",\"\",IF(H3903<>\"\",\"OK\",IF(AND(#REF!<>\"\",#REF!<TODAY()),\"Retard\",\"Attente de Livraison\")))","v":""}]
[null,null,null,null,null,null,null,null,{"$f":"IF(F3904=\"\",\"\",IF(H3904<>\"\",\"OK\",IF(AND(#REF!<>\"\",#REF!<TODAY()),\"Retard\",\"Attente de Livraison\")))","v":""}]
[null,null,null,null,null,null,null,null,{"$f":"IF(F3905=\"\",\"\",IF(H3905<>\"\",\"OK\",IF(AND(#REF!<>\"\",#REF!<TODAY()),\"Retard\",\"Attente de Livraison\")))","v":""}]
[null,null,null,null,null,null,null,null,{"$f":"IF(F3906=\"\",\"\",IF(H3906<>\"\",\"OK\",IF(AND(#REF!<>\"\",#REF!<TODAY()),\"Retard\",\"Attente de Livraison\")))","v":""}]
[null,null,null,null,null,null,null,null,{"$f":"IF(F3907=\"\",\"\",IF(H3907<>\"\",\"OK\",IF(AND(#REF!<>\"\",#REF!<TODAY()),\"Retard\",\"Attente de Livraison\")))","v":""}]
[null,null,null,null,null,null,null,null,{"$f":"IF(F3908=\"\",\"\",IF(H3908<>\"\",\"OK\",IF(AND(#REF!<>\"\",#REF!<TODAY()),\"Retard\",\"Attente de Livraison\")))","v":""}]
[null,null,null,null,null,null,null,null,{"$f":"IF(F3909=\"\",\"\",IF(H3909<>\"\",\"OK\",IF(AND(#REF!<>\"\",#REF!<TODAY()),\"Retard\",\"Attente de Livraison\")))","v":""}]
[null,null,null,null,null,null,null,null,{"$f":"IF(F3910=\"\",\"\",IF(H3910<>\"\",\"OK\",IF(AND(#REF!<>\"\",#REF!<TODAY()),\"Retard\",\"Attente de Livraison\")))","v":""}]
[null,null,null,null,null,null,null,null,{"$f":"IF(F3911=\"\",\"\",IF(H3911<>\"\",\"OK\",IF(AND(#REF!<>\"\",#REF!<TODAY()),\"Retard\",\"Attente de Livraison\")))","v":""}]
[null,null,null,null,null,null,null,null,{"$f":"IF(F3912=\"\",\"\",IF(H3912<>\"\",\"OK\",IF(AND(#REF!<>\"\",#REF!<TODAY()),\"Retard\",\"Attente de Livraison\")))","v":""}]
[null,null,null,null,null,null,null,null,{"$f":"IF(F3913=\"\",\"\",IF(H3913<>\"\",\"OK\",IF(AND(#REF!<>\"\",#REF!<TODAY()),\"Retard\",\"Attente de Livraison\")))","v":""}]
[null,null,null,null,null,null,null,null,{"$f":"IF(F3914=\"\",\"\",IF(H3914<>\"\",\"OK\",IF(AND(#REF!<>\"\",#REF!<TODAY()),\"Retard\",\"Attente de Livraison\")))","v":""}]
[null,null,null,null,null,null,null,null,{"$f":"IF(F3915=\"\",\"\",IF(H3915<>\"\",\"OK\",IF(AND(#REF!<>\"\",#REF!<TODAY()),\"Retard\",\"Attente de Livraison\")))","v":""}]
[null,null,null,null,null,null,null,null,{"$f":"IF(F3916=\"\",\"\",IF(H3916<>\"\",\"OK\",IF(AND(#REF!<>\"\",#REF!<TODAY()),\"Retard\",\"Attente de Livraison\")))","v":""}]
[null,null,null,null,null,null,null,null,{"$f":"IF(F3917=\"\",\"\",IF(H3917<>\"\",\"OK\",IF(AND(#REF!<>\"\",#REF!<TODAY()),\"Retard\",\"Attente de Livraison\")))","v":""}]
[null,null,null,null,null,null,null,null,{"$f":"IF(F3918=\"\",\"\",IF(H3918<>\"\",\"OK\",IF(AND(#REF!<>\"\",#REF!<TODAY()),\"Retard\",\"Attente de Livraison\")))","v":""}]
[null,null,null,null,null,null,null,null,{"$f":"IF(F3919=\"\",\"\",IF(H3919<>\"\",\"OK\",IF(AND(#REF!<>\"\",#REF!<TODAY()),\"Retard\",\"Attente de Livraison\")))","v":""}]
[null,null,null,null,null,null,null,null,{"$f":"IF(F3920=\"\",\"\",IF(H3920<>\"\",\"OK\",IF(AND(#REF!<>\"\",#REF!<TODAY()),\"Retard\",\"Attente de Livraison\")))","v":""}]
[null,null,null,null,null,null,null,null,{"$f":"IF(F3921=\"\",\"\",IF(H3921<>\"\",\"OK\",IF(AND(#REF!<>\"\",#REF!<TODAY()),\"Retard\",\"Attente de Livraison\")))","v":""}]
[null,null,null,null,null,null,null,null,{"$f":"IF(F3922=\"\",\"\",IF(H3922<>\"\",\"OK\",IF(AND(#REF!<>\"\",#REF!<TODAY()),\"Retard\",\"Attente de Livraison\")))","v":""}]
[null,null,null,null,null,null,null,null,{"$f":"IF(F3923=\"\",\"\",IF(H3923<>\"\",\"OK\",IF(AND(#REF!<>\"\",#REF!<TODAY()),\"Retard\",\"Attente de Livraison\")))","v":""}]
[null,null,null,null,null,null,null,null,{"$f":"IF(F3924=\"\",\"\",IF(H3924<>\"\",\"OK\",IF(AND(#REF!<>\"\",#REF!<TODAY()),\"Retard\",\"Attente de Livraison\")))","v":""}]
[null,null,null,null,null,null,null,null,{"$f":"IF(F3925=\"\",\"\",IF(H3925<>\"\",\"OK\",IF(AND(#REF!<>\"\",#REF!<TODAY()),\"Retard\",\"Attente de Livraison\")))","v":""}]
[null,null,null,null,null,null,null,null,{"$f":"IF(F3926=\"\",\"\",IF(H3926<>\"\",\"OK\",IF(AND(#REF!<>\"\",#REF!<TODAY()),\"Retard\",\"Attente de Livraison\")))","v":""}]
[null,null,null,null,null,null,null,null,{"$f":"IF(F3927=\"\",\"\",IF(H3927<>\"\",\"OK\",IF(AND(#REF!<>\"\",#REF!<TODAY()),\"Retard\",\"Attente de Livraison\")))","v":""}]
[null,null,null,null,null,null,null,null,{"$f":"IF(F3928=\"\",\"\",IF(H3928<>\"\",\"OK\",IF(AND(#REF!<>\"\",#REF!<TODAY()),\"Retard\",\"Attente de Livraison\")))","v":""}]
[null,null,null,null,null,null,null,null,{"$f":"IF(F3929=\"\",\"\",IF(H3929<>\"\",\"OK\",IF(AND(#REF!<>\"\",#REF!<TODAY()),\"Retard\",\"Attente de Livraison\")))","v":""}]
[null,null,null,null,null,null,null,null,{"$f":"IF(F3930=\"\",\"\",IF(H3930<>\"\",\"OK\",IF(AND(#REF!<>\"\",#REF!<TODAY()),\"Retard\",\"Attente de Livraison\")))","v":""}]
[null,null,null,null,null,null,null,null,{"$f":"IF(F3931=\"\",\"\",IF(H3931<>\"\",\"OK\",IF(AND(#REF!<>\"\",#REF!<TODAY()),\"Retard\",\"Attente de Livraison\")))","v":""}]
[null,null,null,null,null,null,null,null,{"$f":"IF(F3932=\"\",\"\",IF(H3932<>\"\",\"OK\",IF(AND(#REF!<>\"\",#REF!<TODAY()),\"Retard\",\"Attente de Livraison\")))","v":""}]
[null,null,null,null,null,null,null,null,{"$f":"IF(F3933=\"\",\"\",IF(H3933<>\"\",\"OK\",IF(AND(#REF!<>\"\",#REF!<TODAY()),\"Retard\",\"Attente de Livraison\")))","v":""}]
[null,null,null,null,null,null,null,null,{"$f":"IF(F3934=\"\",\"\",IF(H3934<>\"\",\"OK\",IF(AND(#REF!<>\"\",#REF!<TODAY()),\"Retard\",\"Attente de Livraison\")))","v":""}]
[null,null,null,null,null,null,null,null,{"$f":"IF(F3935=\"\",\"\",IF(H3935<>\"\",\"OK\",IF(AND(#REF!<>\"\",#REF!<TODAY()),\"Retard\",\"Attente de Livraison\")))","v":""}]
[null,null,null,null,null,null,null,null,{"$f":"IF(F3936=\"\",\"\",IF(H3936<>\"\",\"OK\",IF(AND(#REF!<>\"\",#REF!<TODAY()),\"Retard\",\"Attente de Livraison\")))","v":""}]
[null,null,null,null,null,null,null,null,{"$f":"IF(F3937=\"\",\"\",IF(H3937<>\"\",\"OK\",IF(AND(#REF!<>\"\",#REF!<TODAY()),\"Retard\",\"Attente de Livraison\")))","v":""}]
[null,null,null,null,null,null,null,null,{"$f":"IF(F3938=\"\",\"\",IF(H3938<>\"\",\"OK\",IF(AND(#REF!<>\"\",#REF!<TODAY()),\"Retard\",\"Attente de Livraison\")))","v":""}]
[null,null,null,null,null,null,null,null,{"$f":"IF(F3939=\"\",\"\",IF(H3939<>\"\",\"OK\",IF(AND(#REF!<>\"\",#REF!<TODAY()),\"Retard\",\"Attente de Livraison\")))","v":""}]
[null,null,null,null,null,null,null,null,{"$f":"IF(F3940=\"\",\"\",IF(H3940<>\"\",\"OK\",IF(AND(#REF!<>\"\",#REF!<TODAY()),\"Retard\",\"Attente de Livraison\")))","v":""}]
[null,null,null,null,null,null,null,null,{"$f":"IF(F3941=\"\",\"\",IF(H3941<>\"\",\"OK\",IF(AND(#REF!<>\"\",#REF!<TODAY()),\"Retard\",\"Attente de Livraison\")))","v":""}]
[null,null,null,null,null,null,null,null,{"$f":"IF(F3942=\"\",\"\",IF(H3942<>\"\",\"OK\",IF(AND(#REF!<>\"\",#REF!<TODAY()),\"Retard\",\"Attente de Livraison\")))","v":""}]
[null,null,null,null,null,null,null,null,{"$f":"IF(F3943=\"\",\"\",IF(H3943<>\"\",\"OK\",IF(AND(#REF!<>\"\",#REF!<TODAY()),\"Retard\",\"Attente de Livraison\")))","v":""}]
[null,null,null,null,null,null,null,null,{"$f":"IF(F3944=\"\",\"\",IF(H3944<>\"\",\"OK\",IF(AND(#REF!<>\"\",#REF!<TODAY()),\"Retard\",\"Attente de Livraison\")))","v":""}]
[null,null,null,null,null,null,null,null,{"$f":"IF(F3945=\"\",\"\",IF(H3945<>\"\",\"OK\",IF(AND(#REF!<>\"\",#REF!<TODAY()),\"Retard\",\"Attente de Livraison\")))","v":""}]
[null,null,null,null,null,null,null,null,{"$f":"IF(F3946=\"\",\"\",IF(H3946<>\"\",\"OK\",IF(AND(#REF!<>\"\",#REF!<TODAY()),\"Retard\",\"Attente de Livraison\")))","v":""}]
[null,null,null,null,null,null,null,null,{"$f":"IF(F3947=\"\",\"\",IF(H3947<>\"\",\"OK\",IF(AND(#REF!<>\"\",#REF!<TODAY()),\"Retard\",\"Attente de Livraison\")))","v":""}]
[null,null,null,null,null,null,null,null,{"$f":"IF(F3948=\"\",\"\",IF(H3948<>\"\",\"OK\",IF(AND(#REF!<>\"\",#REF!<TODAY()),\"Retard\",\"Attente de Livraison\")))","v":""}]
[null,null,null,null,null,null,null,null,{"$f":"IF(F3949=\"\",\"\",IF(H3949<>\"\",\"OK\",IF(AND(#REF!<>\"\",#REF!<TODAY()),\"Retard\",\"Attente de Livraison\")))","v":""}]
[null,null,null,null,null,null,null,null,{"$f":"IF(F3950=\"\",\"\",IF(H3950<>\"\",\"OK\",IF(AND(#REF!<>\"\",#REF!<TODAY()),\"Retard\",\"Attente de Livraison\")))","v":""}]
[null,null,null,null,null,null,null,null,{"$f":"IF(F3951=\"\",\"\",IF(H3951<>\"\",\"OK\",IF(AND(#REF!<>\"\",#REF!<TODAY()),\"Retard\",\"Attente de Livraison\")))","v":""}]
[null,null,null,null,null,null,null,null,{"$f":"IF(F3952=\"\",\"\",IF(H3952<>\"\",\"OK\",IF(AND(#REF!<>\"\",#REF!<TODAY()),\"Retard\",\"Attente de Livraison\")))","v":""}]
[null,null,null,null,null,null,null,null,{"$f":"IF(F3953=\"\",\"\",IF(H3953<>\"\",\"OK\",IF(AND(#REF!<>\"\",#REF!<TODAY()),\"Retard\",\"Attente de Livraison\")))","v":""}]
[null,null,null,null,null,null,null,null,{"$f":"IF(F3954=\"\",\"\",IF(H3954<>\"\",\"OK\",IF(AND(#REF!<>\"\",#REF!<TODAY()),\"Retard\",\"Attente de Livraison\")))","v":""}]
[null,null,null,null,null,null,null,null,{"$f":"IF(F3955=\"\",\"\",IF(H3955<>\"\",\"OK\",IF(AND(#REF!<>\"\",#REF!<TODAY()),\"Retard\",\"Attente de Livraison\")))","v":""}]
[null,null,null,null,null,null,null,null,{"$f":"IF(F3956=\"\",\"\",IF(H3956<>\"\",\"OK\",IF(AND(#REF!<>\"\",#REF!<TODAY()),\"Retard\",\"Attente de Livraison\")))","v":""}]
[null,null,null,null,null,null,null,null,{"$f":"IF(F3957=\"\",\"\",IF(H3957<>\"\",\"OK\",IF(AND(#REF!<>\"\",#REF!<TODAY()),\"Retard\",\"Attente de Livraison\")))","v":""}]
[null,null,null,null,null,null,null,null,{"$f":"IF(F3958=\"\",\"\",IF(H3958<>\"\",\"OK\",IF(AND(#REF!<>\"\",#REF!<TODAY()),\"Retard\",\"Attente de Livraison\")))","v":""}]
[null,null,null,null,null,null,null,null,{"$f":"IF(F3959=\"\",\"\",IF(H3959<>\"\",\"OK\",IF(AND(#REF!<>\"\",#REF!<TODAY()),\"Retard\",\"Attente de Livraison\")))","v":""}]
[null,null,null,null,null,null,null,null,{"$f":"IF(F3960=\"\",\"\",IF(H3960<>\"\",\"OK\",IF(AND(#REF!<>\"\",#REF!<TODAY()),\"Retard\",\"Attente de Livraison\")))","v":""}]
[null,null,null,null,null,null,null,null,{"$f":"IF(F3961=\"\",\"\",IF(H3961<>\"\",\"OK\",IF(AND(#REF!<>\"\",#REF!<TODAY()),\"Retard\",\"Attente de Livraison\")))","v":""}]
[null,null,null,null,null,null,null,null,{"$f":"IF(F3962=\"\",\"\",IF(H3962<>\"\",\"OK\",IF(AND(#REF!<>\"\",#REF!<TODAY()),\"Retard\",\"Attente de Livraison\")))","v":""}]
[null,null,null,null,null,null,null,null,{"$f":"IF(F3963=\"\",\"\",IF(H3963<>\"\",\"OK\",IF(AND(#REF!<>\"\",#REF!<TODAY()),\"Retard\",\"Attente de Livraison\")))","v":""}]
[null,null,null,null,null,null,null,null,{"$f":"IF(F3964=\"\",\"\",IF(H3964<>\"\",\"OK\",IF(AND(#REF!<>\"\",#REF!<TODAY()),\"Retard\",\"Attente de Livraison\")))","v":""}]
[null,null,null,null,null,null,null,null,{"$f":"IF(F3965=\"\",\"\",IF(H3965<>\"\",\"OK\",IF(AND(#REF!<>\"\",#REF!<TODAY()),\"Retard\",\"Attente de Livraison\")))","v":""}]
[null,null,null,null,null,null,null,null,{"$f":"IF(F3966=\"\",\"\",IF(H3966<>\"\",\"OK\",IF(AND(#REF!<>\"\",#REF!<TODAY()),\"Retard\",\"Attente de Livraison\")))","v":""}]
[null,null,null,null,null,null,null,null,{"$f":"IF(F3967=\"\",\"\",IF(H3967<>\"\",\"OK\",IF(AND(#REF!<>\"\",#REF!<TODAY()),\"Retard\",\"Attente de Livraison\")))","v":""}]
[null,null,null,null,null,null,null,null,{"$f":"IF(F3968=\"\",\"\",IF(H3968<>\"\",\"OK\",IF(AND(#REF!<>\"\",#REF!<TODAY()),\"Retard\",\"Attente de Livraison\")))","v":""}]
[null,null,null,null,null,null,null,null,{"$f":"IF(F3969=\"\",\"\",IF(H3969<>\"\",\"OK\",IF(AND(#REF!<>\"\",#REF!<TODAY()),\"Retard\",\"Attente de Livraison\")))","v":""}]
[null,null,null,null,null,null,null,null,{"$f":"IF(F3970=\"\",\"\",IF(H3970<>\"\",\"OK\",IF(AND(#REF!<>\"\",#REF!<TODAY()),\"Retard\",\"Attente de Livraison\")))","v":""}]
[null,null,null,null,null,null,null,null,{"$f":"IF(F3971=\"\",\"\",IF(H3971<>\"\",\"OK\",IF(AND(#REF!<>\"\",#REF!<TODAY()),\"Retard\",\"Attente de Livraison\")))","v":""}]
[null,null,null,null,null,null,null,null,{"$f":"IF(F3972=\"\",\"\",IF(H3972<>\"\",\"OK\",IF(AND(#REF!<>\"\",#REF!<TODAY()),\"Retard\",\"Attente de Livraison\")))","v":""}]
[null,null,null,null,null,null,null,null,{"$f":"IF(F3973=\"\",\"\",IF(H3973<>\"\",\"OK\",IF(AND(#REF!<>\"\",#REF!<TODAY()),\"Retard\",\"Attente de Livraison\")))","v":""}]
[null,null,null,null,null,null,null,null,{"$f":"IF(F3974=\"\",\"\",IF(H3974<>\"\",\"OK\",IF(AND(#REF!<>\"\",#REF!<TODAY()),\"Retard\",\"Attente de Livraison\")))","v":""}]
[null,null,null,null,null,null,null,null,{"$f":"IF(F3975=\"\",\"\",IF(H3975<>\"\",\"OK\",IF(AND(#REF!<>\"\",#REF!<TODAY()),\"Retard\",\"Attente de Livraison\")))","v":""}]
[null,null,null,null,null,null,null,null,{"$f":"IF(F3976=\"\",\"\",IF(H3976<>\"\",\"OK\",IF(AND(#REF!<>\"\",#REF!<TODAY()),\"Retard\",\"Attente de Livraison\")))","v":""}]
[null,null,null,null,null,null,null,null,{"$f":"IF(F3977=\"\",\"\",IF(H3977<>\"\",\"OK\",IF(AND(#REF!<>\"\",#REF!<TODAY()),\"Retard\",\"Attente de Livraison\")))","v":""}]
[null,null,null,null,null,null,null,null,{"$f":"IF(F3978=\"\",\"\",IF(H3978<>\"\",\"OK\",IF(AND(#REF!<>\"\",#REF!<TODAY()),\"Retard\",\"Attente de Livraison\")))","v":""}]
[null,null,null,null,null,null,null,null,{"$f":"IF(F3979=\"\",\"\",IF(H3979<>\"\",\"OK\",IF(AND(#REF!<>\"\",#REF!<TODAY()),\"Retard\",\"Attente de Livraison\")))","v":""}]
[null,null,null,null,null,null,null,null,{"$f":"IF(F3980=\"\",\"\",IF(H3980<>\"\",\"OK\",IF(AND(#REF!<>\"\",#REF!<TODAY()),\"Retard\",\"Attente de Livraison\")))","v":""}]
[null,null,null,null,null,null,null,null,{"$f":"IF(F3981=\"\",\"\",IF(H3981<>\"\",\"OK\",IF(AND(#REF!<>\"\",#REF!<TODAY()),\"Retard\",\"Attente de Livraison\")))","v":""}]
[null,null,null,null,null,null,null,null,{"$f":"IF(F3982=\"\",\"\",IF(H3982<>\"\",\"OK\",IF(AND(#REF!<>\"\",#REF!<TODAY()),\"Retard\",\"Attente de Livraison\")))","v":""}]
[null,null,null,null,null,null,null,null,{"$f":"IF(F3983=\"\",\"\",IF(H3983<>\"\",\"OK\",IF(AND(#REF!<>\"\",#REF!<TODAY()),\"Retard\",\"Attente de Livraison\")))","v":""}]
[null,null,null,null,null,null,null,null,{"$f":"IF(F3984=\"\",\"\",IF(H3984<>\"\",\"OK\",IF(AND(#REF!<>\"\",#REF!<TODAY()),\"Retard\",\"Attente de Livraison\")))","v":""}]
[null,null,null,null,null,null,null,null,{"$f":"IF(F3985=\"\",\"\",IF(H3985<>\"\",\"OK\",IF(AND(#REF!<>\"\",#REF!<TODAY()),\"Retard\",\"Attente de Livraison\")))","v":""}]
[null,null,null,null,null,null,null,null,{"$f":"IF(F3986=\"\",\"\",IF(H3986<>\"\",\"OK\",IF(AND(#REF!<>\"\",#REF!<TODAY()),\"Retard\",\"Attente de Livraison\")))","v":""}]
[null,null,null,null,null,null,null,null,{"$f":"IF(F3987=\"\",\"\",IF(H3987<>\"\",\"OK\",IF(AND(#REF!<>\"\",#REF!<TODAY()),\"Retard\",\"Attente de Livraison\")))","v":""}]
[null,null,null,null,null,null,null,null,{"$f":"IF(F3988=\"\",\"\",IF(H3988<>\"\",\"OK\",IF(AND(#REF!<>\"\",#REF!<TODAY()),\"Retard\",\"Attente de Livraison\")))","v":""}]
[null,null,null,null,null,null,null,null,{"$f":"IF(F3989=\"\",\"\",IF(H3989<>\"\",\"OK\",IF(AND(#REF!<>\"\",#REF!<TODAY()),\"Retard\",\"Attente de Livraison\")))","v":""}]
[null,null,null,null,null,null,null,null,{"$f":"IF(F3990=\"\",\"\",IF(H3990<>\"\",\"OK\",IF(AND(#REF!<>\"\",#REF!<TODAY()),\"Retard\",\"Attente de Livraison\")))","v":""}]
[null,null,null,null,null,null,null,null,{"$f":"IF(F3991=\"\",\"\",IF(H3991<>\"\",\"OK\",IF(AND(#REF!<>\"\",#REF!<TODAY()),\"Retard\",\"Attente de Livraison\")))","v":""}]
[null,null,null,null,null,null,null,null,{"$f":"IF(F3992=\"\",\"\",IF(H3992<>\"\",\"OK\",IF(AND(#REF!<>\"\",#REF!<TODAY()),\"Retard\",\"Attente de Livraison\")))","v":""}]
[null,null,null,null,null,null,null,null,{"$f":"IF(F3993=\"\",\"\",IF(H3993<>\"\",\"OK\",IF(AND(#REF!<>\"\",#REF!<TODAY()),\"Retard\",\"Attente de Livraison\")))","v":""}]
[null,null,null,null,null,null,null,null,{"$f":"IF(F3994=\"\",\"\",IF(H3994<>\"\",\"OK\",IF(AND(#REF!<>\"\",#REF!<TODAY()),\"Retard\",\"Attente de Livraison\")))","v":""}]
[null,null,null,null,null,null,null,null,{"$f":"IF(F3995=\"\",\"\",IF(H3995<>\"\",\"OK\",IF(AND(#REF!<>\"\",#REF!<TODAY()),\"Retard\",\"Attente de Livraison\")))","v":""}]
[null,null,null,null,null,null,null,null,{"$f":"IF(F3996=\"\",\"\",IF(H3996<>\"\",\"OK\",IF(AND(#REF!<>\"\",#REF!<TODAY()),\"Retard\",\"Attente de Livraison\")))","v":""}]
[null,null,null,null,null,null,null,null,{"$f":"IF(F3997=\"\",\"\",IF(H3997<>\"\",\"OK\",IF(AND(#REF!<>\"\",#REF!<TODAY()),\"Retard\",\"Attente de Livraison\")))","v":""}]
[null,null,null,null,null,null,null,null,{"$f":"IF(F3998=\"\",\"\",IF(H3998<>\"\",\"OK\",IF(AND(#REF!<>\"\",#REF!<TODAY()),\"Retard\",\"Attente de Livraison\")))","v":""}]
[null,null,null,null,null,null,null,null,{"$f":"IF(F3999=\"\",\"\",IF(H3999<>\"\",\"OK\",IF(AND(#REF!<>\"\",#REF!<TODAY()),\"Retard\",\"Attente de Livraison\")))","v":""}]
[null,null,null,null,null,null,null,null,{"$f":"IF(F4000=\"\",\"\",IF(H4000<>\"\",\"OK\",IF(AND(#REF!<>\"\",#REF!<TODAY()),\"Retard\",\"Attente de Livraison\")))","v":""}]
[null,null,null,null,null,null,null,null,{"$f":"IF(F4001=\"\",\"\",IF(H4001<>\"\",\"OK\",IF(AND(#REF!<>\"\",#REF!<TODAY()),\"Retard\",\"Attente de Livraison\")))","v":""}]
[null,null,null,null,null,null,null,null,{"$f":"IF(F4002=\"\",\"\",IF(H4002<>\"\",\"OK\",IF(AND(#REF!<>\"\",#REF!<TODAY()),\"Retard\",\"Attente de Livraison\")))","v":""}]
[null,null,null,null,null,null,null,null,{"$f":"IF(F4003=\"\",\"\",IF(H4003<>\"\",\"OK\",IF(AND(#REF!<>\"\",#REF!<TODAY()),\"Retard\",\"Attente de Livraison\")))","v":""}]
[null,null,null,null,null,null,null,null,{"$f":"IF(F4004=\"\",\"\",IF(H4004<>\"\",\"OK\",IF(AND(#REF!<>\"\",#REF!<TODAY()),\"Retard\",\"Attente de Livraison\")))","v":""}]
[null,null,null,null,null,null,null,null,{"$f":"IF(F4005=\"\",\"\",IF(H4005<>\"\",\"OK\",IF(AND(#REF!<>\"\",#REF!<TODAY()),\"Retard\",\"Attente de Livraison\")))","v":""}]
[null,null,null,null,null,null,null,null,{"$f":"IF(F4006=\"\",\"\",IF(H4006<>\"\",\"OK\",IF(AND(#REF!<>\"\",#REF!<TODAY()),\"Retard\",\"Attente de Livraison\")))","v":""}]
[null,null,null,null,null,null,null,null,{"$f":"IF(F4007=\"\",\"\",IF(H4007<>\"\",\"OK\",IF(AND(#REF!<>\"\",#REF!<TODAY()),\"Retard\",\"Attente de Livraison\")))","v":""}]
[null,null,null,null,null,null,null,null,{"$f":"IF(F4008=\"\",\"\",IF(H4008<>\"\",\"OK\",IF(AND(#REF!<>\"\",#REF!<TODAY()),\"Retard\",\"Attente de Livraison\")))","v":""}]
[null,null,null,null,null,null,null,null,{"$f":"IF(F4009=\"\",\"\",IF(H4009<>\"\",\"OK\",IF(AND(#REF!<>\"\",#REF!<TODAY()),\"Retard\",\"Attente de Livraison\")))","v":""}]
[null,null,null,null,null,null,null,null,{"$f":"IF(F4010=\"\",\"\",IF(H4010<>\"\",\"OK\",IF(AND(#REF!<>\"\",#REF!<TODAY()),\"Retard\",\"Attente de Livraison\")))","v":""}]
[null,null,null,null,null,null,null,null,{"$f":"IF(F4011=\"\",\"\",IF(H4011<>\"\",\"OK\",IF(AND(#REF!<>\"\",#REF!<TODAY()),\"Retard\",\"Attente de Livraison\")))","v":""}]
[null,null,null,null,null,null,null,null,{"$f":"IF(F4012=\"\",\"\",IF(H4012<>\"\",\"OK\",IF(AND(#REF!<>\"\",#REF!<TODAY()),\"Retard\",\"Attente de Livraison\")))","v":""}]
[null,null,null,null,null,null,null,null,{"$f":"IF(F4013=\"\",\"\",IF(H4013<>\"\",\"OK\",IF(AND(#REF!<>\"\",#REF!<TODAY()),\"Retard\",\"Attente de Livraison\")))","v":""}]
[null,null,null,null,null,null,null,null,{"$f":"IF(F4014=\"\",\"\",IF(H4014<>\"\",\"OK\",IF(AND(#REF!<>\"\",#REF!<TODAY()),\"Retard\",\"Attente de Livraison\")))","v":""}]
[null,null,null,null,null,null,null,null,{"$f":"IF(F4015=\"\",\"\",IF(H4015<>\"\",\"OK\",IF(AND(#REF!<>\"\",#REF!<TODAY()),\"Retard\",\"Attente de Livraison\")))","v":""}]
[null,null,null,null,null,null,null,null,{"$f":"IF(F4016=\"\",\"\",IF(H4016<>\"\",\"OK\",IF(AND(#REF!<>\"\",#REF!<TODAY()),\"Retard\",\"Attente de Livraison\")))","v":""}]
[null,null,null,null,null,null,null,null,{"$f":"IF(F4017=\"\",\"\",IF(H4017<>\"\",\"OK\",IF(AND(#REF!<>\"\",#REF!<TODAY()),\"Retard\",\"Attente de Livraison\")))","v":""}]
[null,null,null,null,null,null,null,null,{"$f":"IF(F4018=\"\",\"\",IF(H4018<>\"\",\"OK\",IF(AND(#REF!<>\"\",#REF!<TODAY()),\"Retard\",\"Attente de Livraison\")))","v":""}]
[null,null,null,null,null,null,null,null,{"$f":"IF(F4019=\"\",\"\",IF(H4019<>\"\",\"OK\",IF(AND(#REF!<>\"\",#REF!<TODAY()),\"Retard\",\"Attente de Livraison\")))","v":""}]
[null,null,null,null,null,null,null,null,{"$f":"IF(F4020=\"\",\"\",IF(H4020<>\"\",\"OK\",IF(AND(#REF!<>\"\",#REF!<TODAY()),\"Retard\",\"Attente de Livraison\")))","v":""}]
[null,null,null,null,null,null,null,null,{"$f":"IF(F4021=\"\",\"\",IF(H4021<>\"\",\"OK\",IF(AND(#REF!<>\"\",#REF!<TODAY()),\"Retard\",\"Attente de Livraison\")))","v":""}]
[null,null,null,null,null,null,null,null,{"$f":"IF(F4022=\"\",\"\",IF(H4022<>\"\",\"OK\",IF(AND(#REF!<>\"\",#REF!<TODAY()),\"Retard\",\"Attente de Livraison\")))","v":""}]
[null,null,null,null,null,null,null,null,{"$f":"IF(F4023=\"\",\"\",IF(H4023<>\"\",\"OK\",IF(AND(#REF!<>\"\",#REF!<TODAY()),\"Retard\",\"Attente de Livraison\")))","v":""}]
[null,null,null,null,null,null,null,null,{"$f":"IF(F4024=\"\",\"\",IF(H4024<>\"\",\"OK\",IF(AND(#REF!<>\"\",#REF!<TODAY()),\"Retard\",\"Attente de Livraison\")))","v":""}]
[null,null,null,null,null,null,null,null,{"$f":"IF(F4025=\"\",\"\",IF(H4025<>\"\",\"OK\",IF(AND(#REF!<>\"\",#REF!<TODAY()),\"Retard\",\"Attente de Livraison\")))","v":""}]
[null,null,null,null,null,null,null,null,{"$f":"IF(F4026=\"\",\"\",IF(H4026<>\"\",\"OK\",IF(AND(#REF!<>\"\",#REF!<TODAY()),\"Retard\",\"Attente de Livraison\")))","v":""}]
[null,null,null,null,null,null,null,null,{"$f":"IF(F4027=\"\",\"\",IF(H4027<>\"\",\"OK\",IF(AND(#REF!<>\"\",#REF!<TODAY()),\"Retard\",\"Attente de Livraison\")))","v":""}]
[null,null,null,null,null,null,null,null,{"$f":"IF(F4028=\"\",\"\",IF(H4028<>\"\",\"OK\",IF(AND(#REF!<>\"\",#REF!<TODAY()),\"Retard\",\"Attente de Livraison\")))","v":""}]
[null,null,null,null,null,null,null,null,{"$f":"IF(F4029=\"\",\"\",IF(H4029<>\"\",\"OK\",IF(AND(#REF!<>\"\",#REF!<TODAY()),\"Retard\",\"Attente de Livraison\")))","v":""}]
[null,null,null,null,null,null,null,null,{"$f":"IF(F4030=\"\",\"\",IF(H4030<>\"\",\"OK\",IF(AND(#REF!<>\"\",#REF!<TODAY()),\"Retard\",\"Attente de Livraison\")))","v":""}]
[null,null,null,null,null,null,null,null,{"$f":"IF(F4031=\"\",\"\",IF(H4031<>\"\",\"OK\",IF(AND(#REF!<>\"\",#REF!<TODAY()),\"Retard\",\"Attente de Livraison\")))","v":""}]
[null,null,null,null,null,null,null,null,{"$f":"IF(F4032=\"\",\"\",IF(H4032<>\"\",\"OK\",IF(AND(#REF!<>\"\",#REF!<TODAY()),\"Retard\",\"Attente de Livraison\")))","v":""}]
[null,null,null,null,null,null,null,null,{"$f":"IF(F4033=\"\",\"\",IF(H4033<>\"\",\"OK\",IF(AND(#REF!<>\"\",#REF!<TODAY()),\"Retard\",\"Attente de Livraison\")))","v":""}]
[null,null,null,null,null,null,null,null,{"$f":"IF(F4034=\"\",\"\",IF(H4034<>\"\",\"OK\",IF(AND(#REF!<>\"\",#REF!<TODAY()),\"Retard\",\"Attente de Livraison\")))","v":""}]
[null,null,null,null,null,null,null,null,{"$f":"IF(F4035=\"\",\"\",IF(H4035<>\"\",\"OK\",IF(AND(#REF!<>\"\",#REF!<TODAY()),\"Retard\",\"Attente de Livraison\")))","v":""}]
[null,null,null,null,null,null,null,null,{"$f":"IF(F4036=\"\",\"\",IF(H4036<>\"\",\"OK\",IF(AND(#REF!<>\"\",#REF!<TODAY()),\"Retard\",\"Attente de Livraison\")))","v":""}]
[null,null,null,null,null,null,null,null,{"$f":"IF(F4037=\"\",\"\",IF(H4037<>\"\",\"OK\",IF(AND(#REF!<>\"\",#REF!<TODAY()),\"Retard\",\"Attente de Livraison\")))","v":""}]
[null,null,null,null,null,null,null,null,{"$f":"IF(F4038=\"\",\"\",IF(H4038<>\"\",\"OK\",IF(AND(#REF!<>\"\",#REF!<TODAY()),\"Retard\",\"Attente de Livraison\")))","v":""}]
[null,null,null,null,null,null,null,null,{"$f":"IF(F4039=\"\",\"\",IF(H4039<>\"\",\"OK\",IF(AND(#REF!<>\"\",#REF!<TODAY()),\"Retard\",\"Attente de Livraison\")))","v":""}]
[null,null,null,null,null,null,null,null,{"$f":"IF(F4040=\"\",\"\",IF(H4040<>\"\",\"OK\",IF(AND(#REF!<>\"\",#REF!<TODAY()),\"Retard\",\"Attente de Livraison\")))","v":""}]
[null,null,null,null,null,null,null,null,{"$f":"IF(F4041=\"\",\"\",IF(H4041<>\"\",\"OK\",IF(AND(#REF!<>\"\",#REF!<TODAY()),\"Retard\",\"Attente de Livraison\")))","v":""}]
[null,null,null,null,null,null,null,null,{"$f":"IF(F4042=\"\",\"\",IF(H4042<>\"\",\"OK\",IF(AND(#REF!<>\"\",#REF!<TODAY()),\"Retard\",\"Attente de Livraison\")))","v":""}]
[null,null,null,null,null,null,null,null,{"$f":"IF(F4043=\"\",\"\",IF(H4043<>\"\",\"OK\",IF(AND(#REF!<>\"\",#REF!<TODAY()),\"Retard\",\"Attente de Livraison\")))","v":""}]
[null,null,null,null,null,null,null,null,{"$f":"IF(F4044=\"\",\"\",IF(H4044<>\"\",\"OK\",IF(AND(#REF!<>\"\",#REF!<TODAY()),\"Retard\",\"Attente de Livraison\")))","v":""}]
[null,null,null,null,null,null,null,null,{"$f":"IF(F4045=\"\",\"\",IF(H4045<>\"\",\"OK\",IF(AND(#REF!<>\"\",#REF!<TODAY()),\"Retard\",\"Attente de Livraison\")))","v":""}]
[null,null,null,null,null,null,null,null,{"$f":"IF(F4046=\"\",\"\",IF(H4046<>\"\",\"OK\",IF(AND(#REF!<>\"\",#REF!<TODAY()),\"Retard\",\"Attente de Livraison\")))","v":""}]
[null,null,null,null,null,null,null,null,{"$f":"IF(F4047=\"\",\"\",IF(H4047<>\"\",\"OK\",IF(AND(#REF!<>\"\",#REF!<TODAY()),\"Retard\",\"Attente de Livraison\")))","v":""}]
[null,null,null,null,null,null,null,null,{"$f":"IF(F4048=\"\",\"\",IF(H4048<>\"\",\"OK\",IF(AND(#REF!<>\"\",#REF!<TODAY()),\"Retard\",\"Attente de Livraison\")))","v":""}]
[null,null,null,null,null,null,null,null,{"$f":"IF(F4049=\"\",\"\",IF(H4049<>\"\",\"OK\",IF(AND(#REF!<>\"\",#REF!<TODAY()),\"Retard\",\"Attente de Livraison\")))","v":""}]
[null,null,null,null,null,null,null,null,{"$f":"IF(F4050=\"\",\"\",IF(H4050<>\"\",\"OK\",IF(AND(#REF!<>\"\",#REF!<TODAY()),\"Retard\",\"Attente de Livraison\")))","v":""}]
[null,null,null,null,null,null,null,null,{"$f":"IF(F4051=\"\",\"\",IF(H4051<>\"\",\"OK\",IF(AND(#REF!<>\"\",#REF!<TODAY()),\"Retard\",\"Attente de Livraison\")))","v":""}]
[null,null,null,null,null,null,null,null,{"$f":"IF(F4052=\"\",\"\",IF(H4052<>\"\",\"OK\",IF(AND(#REF!<>\"\",#REF!<TODAY()),\"Retard\",\"Attente de Livraison\")))","v":""}]
[null,null,null,null,null,null,null,null,{"$f":"IF(F4053=\"\",\"\",IF(H4053<>\"\",\"OK\",IF(AND(#REF!<>\"\",#REF!<TODAY()),\"Retard\",\"Attente de Livraison\")))","v":""}]
[null,null,null,null,null,null,null,null,{"$f":"IF(F4054=\"\",\"\",IF(H4054<>\"\",\"OK\",IF(AND(#REF!<>\"\",#REF!<TODAY()),\"Retard\",\"Attente de Livraison\")))","v":""}]
[null,null,null,null,null,null,null,null,{"$f":"IF(F4055=\"\",\"\",IF(H4055<>\"\",\"OK\",IF(AND(#REF!<>\"\",#REF!<TODAY()),\"Retard\",\"Attente de Livraison\")))","v":""}]
[null,null,null,null,null,null,null,null,{"$f":"IF(F4056=\"\",\"\",IF(H4056<>\"\",\"OK\",IF(AND(#REF!<>\"\",#REF!<TODAY()),\"Retard\",\"Attente de Livraison\")))","v":""}]
[null,null,null,null,null,null,null,null,{"$f":"IF(F4057=\"\",\"\",IF(H4057<>\"\",\"OK\",IF(AND(#REF!<>\"\",#REF!<TODAY()),\"Retard\",\"Attente de Livraison\")))","v":""}]
[null,null,null,null,null,null,null,null,{"$f":"IF(F4058=\"\",\"\",IF(H4058<>\"\",\"OK\",IF(AND(#REF!<>\"\",#REF!<TODAY()),\"Retard\",\"Attente de Livraison\")))","v":""}]
[null,null,null,null,null,null,null,null,{"$f":"IF(F4059=\"\",\"\",IF(H4059<>\"\",\"OK\",IF(AND(#REF!<>\"\",#REF!<TODAY()),\"Retard\",\"Attente de Livraison\")))","v":""}]
[null,null,null,null,null,null,null,null,{"$f":"IF(F4060=\"\",\"\",IF(H4060<>\"\",\"OK\",IF(AND(#REF!<>\"\",#REF!<TODAY()),\"Retard\",\"Attente de Livraison\")))","v":""}]
[null,null,null,null,null,null,null,null,{"$f":"IF(F4061=\"\",\"\",IF(H4061<>\"\",\"OK\",IF(AND(#REF!<>\"\",#REF!<TODAY()),\"Retard\",\"Attente de Livraison\")))","v":""}]
[null,null,null,null,null,null,null,null,{"$f":"IF(F4062=\"\",\"\",IF(H4062<>\"\",\"OK\",IF(AND(#REF!<>\"\",#REF!<TODAY()),\"Retard\",\"Attente de Livraison\")))","v":""}]
[null,null,null,null,null,null,null,null,{"$f":"IF(F4063=\"\",\"\",IF(H4063<>\"\",\"OK\",IF(AND(#REF!<>\"\",#REF!<TODAY()),\"Retard\",\"Attente de Livraison\")))","v":""}]
[null,null,null,null,null,null,null,null,{"$f":"IF(F4064=\"\",\"\",IF(H4064<>\"\",\"OK\",IF(AND(#REF!<>\"\",#REF!<TODAY()),\"Retard\",\"Attente de Livraison\")))","v":""}]
[null,null,null,null,null,null,null,null,{"$f":"IF(F4065=\"\",\"\",IF(H4065<>\"\",\"OK\",IF(AND(#REF!<>\"\",#REF!<TODAY()),\"Retard\",\"Attente de Livraison\")))","v":""}]
[null,null,null,null,null,null,null,null,{"$f":"IF(F4066=\"\",\"\",IF(H4066<>\"\",\"OK\",IF(AND(#REF!<>\"\",#REF!<TODAY()),\"Retard\",\"Attente de Livraison\")))","v":""}]
[null,null,null,null,null,null,null,null,{"$f":"IF(F4067=\"\",\"\",IF(H4067<>\"\",\"OK\",IF(AND(#REF!<>\"\",#REF!<TODAY()),\"Retard\",\"Attente de Livraison\")))","v":""}]
[null,null,null,null,null,null,null,null,{"$f":"IF(F4068=\"\",\"\",IF(H4068<>\"\",\"OK\",IF(AND(#REF!<>\"\",#REF!<TODAY()),\"Retard\",\"Attente de Livraison\")))","v":""}]
[null,null,null,null,null,null,null,null,{"$f":"IF(F4069=\"\",\"\",IF(H4069<>\"\",\"OK\",IF(AND(#REF!<>\"\",#REF!<TODAY()),\"Retard\",\"Attente de Livraison\")))","v":""}]
[null,null,null,null,null,null,null,null,{"$f":"IF(F4070=\"\",\"\",IF(H4070<>\"\",\"OK\",IF(AND(#REF!<>\"\",#REF!<TODAY()),\"Retard\",\"Attente de Livraison\")))","v":""}]
[null,null,null,null,null,null,null,null,{"$f":"IF(F4071=\"\",\"\",IF(H4071<>\"\",\"OK\",IF(AND(#REF!<>\"\",#REF!<TODAY()),\"Retard\",\"Attente de Livraison\")))","v":""}]
[null,null,null,null,null,null,null,null,{"$f":"IF(F4072=\"\",\"\",IF(H4072<>\"\",\"OK\",IF(AND(#REF!<>\"\",#REF!<TODAY()),\"Retard\",\"Attente de Livraison\")))","v":""}]
[null,null,null,null,null,null,null,null,{"$f":"IF(F4073=\"\",\"\",IF(H4073<>\"\",\"OK\",IF(AND(#REF!<>\"\",#REF!<TODAY()),\"Retard\",\"Attente de Livraison\")))","v":""}]
[null,null,null,null,null,null,null,null,{"$f":"IF(F4074=\"\",\"\",IF(H4074<>\"\",\"OK\",IF(AND(#REF!<>\"\",#REF!<TODAY()),\"Retard\",\"Attente de Livraison\")))","v":""}]
[null,null,null,null,null,null,null,null,{"$f":"IF(F4075=\"\",\"\",IF(H4075<>\"\",\"OK\",IF(AND(#REF!<>\"\",#REF!<TODAY()),\"Retard\",\"Attente de Livraison\")))","v":""}]
[null,null,null,null,null,null,null,null,{"$f":"IF(F4076=\"\",\"\",IF(H4076<>\"\",\"OK\",IF(AND(#REF!<>\"\",#REF!<TODAY()),\"Retard\",\"Attente de Livraison\")))","v":""}]
[null,null,null,null,null,null,null,null,{"$f":"IF(F4077=\"\",\"\",IF(H4077<>\"\",\"OK\",IF(AND(#REF!<>\"\",#REF!<TODAY()),\"Retard\",\"Attente de Livraison\")))","v":""}]
[null,null,null,null,null,null,null,null,{"$f":"IF(F4078=\"\",\"\",IF(H4078<>\"\",\"OK\",IF(AND(#REF!<>\"\",#REF!<TODAY()),\"Retard\",\"Attente de Livraison\")))","v":""}]
[null,null,null,null,null,null,null,null,{"$f":"IF(F4079=\"\",\"\",IF(H4079<>\"\",\"OK\",IF(AND(#REF!<>\"\",#REF!<TODAY()),\"Retard\",\"Attente de Livraison\")))","v":""}]
[null,null,null,null,null,null,null,null,{"$f":"IF(F4080=\"\",\"\",IF(H4080<>\"\",\"OK\",IF(AND(#REF!<>\"\",#REF!<TODAY()),\"Retard\",\"Attente de Livraison\")))","v":""}]
[null,null,null,null,null,null,null,null,{"$f":"IF(F4081=\"\",\"\",IF(H4081<>\"\",\"OK\",IF(AND(#REF!<>\"\",#REF!<TODAY()),\"Retard\",\"Attente de Livraison\")))","v":""}]
[null,null,null,null,null,null,null,null,{"$f":"IF(F4082=\"\",\"\",IF(H4082<>\"\",\"OK\",IF(AND(#REF!<>\"\",#REF!<TODAY()),\"Retard\",\"Attente de Livraison\")))","v":""}]
[null,null,null,null,null,null,null,null,{"$f":"IF(F4083=\"\",\"\",IF(H4083<>\"\",\"OK\",IF(AND(#REF!<>\"\",#REF!<TODAY()),\"Retard\",\"Attente de Livraison\")))","v":""}]
[null,null,null,null,null,null,null,null,{"$f":"IF(F4084=\"\",\"\",IF(H4084<>\"\",\"OK\",IF(AND(#REF!<>\"\",#REF!<TODAY()),\"Retard\",\"Attente de Livraison\")))","v":""}]
[null,null,null,null,null,null,null,null,{"$f":"IF(F4085=\"\",\"\",IF(H4085<>\"\",\"OK\",IF(AND(#REF!<>\"\",#REF!<TODAY()),\"Retard\",\"Attente de Livraison\")))","v":""}]
[null,null,null,null,null,null,null,null,{"$f":"IF(F4086=\"\",\"\",IF(H4086<>\"\",\"OK\",IF(AND(#REF!<>\"\",#REF!<TODAY()),\"Retard\",\"Attente de Livraison\")))","v":""}]
[null,null,null,null,null,null,null,null,{"$f":"IF(F4087=\"\",\"\",IF(H4087<>\"\",\"OK\",IF(AND(#REF!<>\"\",#REF!<TODAY()),\"Retard\",\"Attente de Livraison\")))","v":""}]
[null,null,null,null,null,null,null,null,{"$f":"IF(F4088=\"\",\"\",IF(H4088<>\"\",\"OK\",IF(AND(#REF!<>\"\",#REF!<TODAY()),\"Retard\",\"Attente de Livraison\")))","v":""}]
[null,null,null,null,null,null,null,null,{"$f":"IF(F4089=\"\",\"\",IF(H4089<>\"\",\"OK\",IF(AND(#REF!<>\"\",#REF!<TODAY()),\"Retard\",\"Attente de Livraison\")))","v":""}]
[null,null,null,null,null,null,null,null,{"$f":"IF(F4090=\"\",\"\",IF(H4090<>\"\",\"OK\",IF(AND(#REF!<>\"\",#REF!<TODAY()),\"Retard\",\"Attente de Livraison\")))","v":""}]
[null,null,null,null,null,null,null,null,{"$f":"IF(F4091=\"\",\"\",IF(H4091<>\"\",\"OK\",IF(AND(#REF!<>\"\",#REF!<TODAY()),\"Retard\",\"Attente de Livraison\")))","v":""}]
[null,null,null,null,null,null,null,null,{"$f":"IF(F4092=\"\",\"\",IF(H4092<>\"\",\"OK\",IF(AND(#REF!<>\"\",#REF!<TODAY()),\"Retard\",\"Attente de Livraison\")))","v":""}]
[null,null,null,null,null,null,null,null,{"$f":"IF(F4093=\"\",\"\",IF(H4093<>\"\",\"OK\",IF(AND(#REF!<>\"\",#REF!<TODAY()),\"Retard\",\"Attente de Livraison\")))","v":""}]
[null,null,null,null,null,null,null,null,{"$f":"IF(F4094=\"\",\"\",IF(H4094<>\"\",\"OK\",IF(AND(#REF!<>\"\",#REF!<TODAY()),\"Retard\",\"Attente de Livraison\")))","v":""}]
[null,null,null,null,null,null,null,null,{"$f":"IF(F4095=\"\",\"\",IF(H4095<>\"\",\"OK\",IF(AND(#REF!<>\"\",#REF!<TODAY()),\"Retard\",\"Attente de Livraison\")))","v":""}]
[null,null,null,null,null,null,null,null,{"$f":"IF(F4096=\"\",\"\",IF(H4096<>\"\",\"OK\",IF(AND(#REF!<>\"\",#REF!<TODAY()),\"Retard\",\"Attente de Livraison\")))","v":""}]
[null,null,null,null,null,null,null,null,{"$f":"IF(F4097=\"\",\"\",IF(H4097<>\"\",\"OK\",IF(AND(#REF!<>\"\",#REF!<TODAY()),\"Retard\",\"Attente de Livraison\")))","v":""}]
[null,null,null,null,null,null,null,null,{"$f":"IF(F4098=\"\",\"\",IF(H4098<>\"\",\"OK\",IF(AND(#REF!<>\"\",#REF!<TODAY()),\"Retard\",\"Attente de Livraison\")))","v":""}]
[null,null,null,null,null,null,null,null,{"$f":"IF(F4099=\"\",\"\",IF(H4099<>\"\",\"OK\",IF(AND(#REF!<>\"\",#REF!<TODAY()),\"Retard\",\"Attente de Livraison\")))","v":""}]
[null,null,null,null,null,null,null,null,{"$f":"IF(F4100=\"\",\"\",IF(H4100<>\"\",\"OK\",IF(AND(#REF!<>\"\",#REF!<TODAY()),\"Retard\",\"Attente de Livraison\")))","v":""}]
[null,null,null,null,null,null,null,null,{"$f":"IF(F4101=\"\",\"\",IF(H4101<>\"\",\"OK\",IF(AND(#REF!<>\"\",#REF!<TODAY()),\"Retard\",\"Attente de Livraison\")))","v":""}]
[null,null,null,null,null,null,null,null,{"$f":"IF(F4102=\"\",\"\",IF(H4102<>\"\",\"OK\",IF(AND(#REF!<>\"\",#REF!<TODAY()),\"Retard\",\"Attente de Livraison\")))","v":""}]
[null,null,null,null,null,null,null,null,{"$f":"IF(F4103=\"\",\"\",IF(H4103<>\"\",\"OK\",IF(AND(#REF!<>\"\",#REF!<TODAY()),\"Retard\",\"Attente de Livraison\")))","v":""}]
[null,null,null,null,null,null,null,null,{"$f":"IF(F4104=\"\",\"\",IF(H4104<>\"\",\"OK\",IF(AND(#REF!<>\"\",#REF!<TODAY()),\"Retard\",\"Attente de Livraison\")))","v":""}]
[null,null,null,null,null,null,null,null,{"$f":"IF(F4105=\"\",\"\",IF(H4105<>\"\",\"OK\",IF(AND(#REF!<>\"\",#REF!<TODAY()),\"Retard\",\"Attente de Livraison\")))","v":""}]
[null,null,null,null,null,null,null,null,{"$f":"IF(F4106=\"\",\"\",IF(H4106<>\"\",\"OK\",IF(AND(#REF!<>\"\",#REF!<TODAY()),\"Retard\",\"Attente de Livraison\")))","v":""}]
[null,null,null,null,null,null,null,null,{"$f":"IF(F4107=\"\",\"\",IF(H4107<>\"\",\"OK\",IF(AND(#REF!<>\"\",#REF!<TODAY()),\"Retard\",\"Attente de Livraison\")))","v":""}]
[null,null,null,null,null,null,null,null,{"$f":"IF(F4108=\"\",\"\",IF(H4108<>\"\",\"OK\",IF(AND(#REF!<>\"\",#REF!<TODAY()),\"Retard\",\"Attente de Livraison\")))","v":""}]
[null,null,null,null,null,null,null,null,{"$f":"IF(F4109=\"\",\"\",IF(H4109<>\"\",\"OK\",IF(AND(#REF!<>\"\",#REF!<TODAY()),\"Retard\",\"Attente de Livraison\")))","v":""}]
[null,null,null,null,null,null,null,null,{"$f":"IF(F4110=\"\",\"\",IF(H4110<>\"\",\"OK\",IF(AND(#REF!<>\"\",#REF!<TODAY()),\"Retard\",\"Attente de Livraison\")))","v":""}]
[null,null,null,null,null,null,null,null,{"$f":"IF(F4111=\"\",\"\",IF(H4111<>\"\",\"OK\",IF(AND(#REF!<>\"\",#REF!<TODAY()),\"Retard\",\"Attente de Livraison\")))","v":""}]
[null,null,null,null,null,null,null,null,{"$f":"IF(F4112=\"\",\"\",IF(H4112<>\"\",\"OK\",IF(AND(#REF!<>\"\",#REF!<TODAY()),\"Retard\",\"Attente de Livraison\")))","v":""}]
[null,null,null,null,null,null,null,null,{"$f":"IF(F4113=\"\",\"\",IF(H4113<>\"\",\"OK\",IF(AND(#REF!<>\"\",#REF!<TODAY()),\"Retard\",\"Attente de Livraison\")))","v":""}]
[null,null,null,null,null,null,null,null,{"$f":"IF(F4114=\"\",\"\",IF(H4114<>\"\",\"OK\",IF(AND(#REF!<>\"\",#REF!<TODAY()),\"Retard\",\"Attente de Livraison\")))","v":""}]
[null,null,null,null,null,null,null,null,{"$f":"IF(F4115=\"\",\"\",IF(H4115<>\"\",\"OK\",IF(AND(#REF!<>\"\",#REF!<TODAY()),\"Retard\",\"Attente de Livraison\")))","v":""}]
[null,null,null,null,null,null,null,null,{"$f":"IF(F4116=\"\",\"\",IF(H4116<>\"\",\"OK\",IF(AND(#REF!<>\"\",#REF!<TODAY()),\"Retard\",\"Attente de Livraison\")))","v":""}]
[null,null,null,null,null,null,null,null,{"$f":"IF(F4117=\"\",\"\",IF(H4117<>\"\",\"OK\",IF(AND(#REF!<>\"\",#REF!<TODAY()),\"Retard\",\"Attente de Livraison\")))","v":""}]
[null,null,null,null,null,null,null,null,{"$f":"IF(F4118=\"\",\"\",IF(H4118<>\"\",\"OK\",IF(AND(#REF!<>\"\",#REF!<TODAY()),\"Retard\",\"Attente de Livraison\")))","v":""}]
[null,null,null,null,null,null,null,null,{"$f":"IF(F4119=\"\",\"\",IF(H4119<>\"\",\"OK\",IF(AND(#REF!<>\"\",#REF!<TODAY()),\"Retard\",\"Attente de Livraison\")))","v":""}]
[null,null,null,null,null,null,null,null,{"$f":"IF(F4120=\"\",\"\",IF(H4120<>\"\",\"OK\",IF(AND(#REF!<>\"\",#REF!<TODAY()),\"Retard\",\"Attente de Livraison\")))","v":""}]
[null,null,null,null,null,null,null,null,{"$f":"IF(F4121=\"\",\"\",IF(H4121<>\"\",\"OK\",IF(AND(#REF!<>\"\",#REF!<TODAY()),\"Retard\",\"Attente de Livraison\")))","v":""}]
[null,null,null,null,null,null,null,null,{"$f":"IF(F4122=\"\",\"\",IF(H4122<>\"\",\"OK\",IF(AND(#REF!<>\"\",#REF!<TODAY()),\"Retard\",\"Attente de Livraison\")))","v":""}]
[null,null,null,null,null,null,null,null,{"$f":"IF(F4123=\"\",\"\",IF(H4123<>\"\",\"OK\",IF(AND(#REF!<>\"\",#REF!<TODAY()),\"Retard\",\"Attente de Livraison\")))","v":""}]
[null,null,null,null,null,null,null,null,{"$f":"IF(F4124=\"\",\"\",IF(H4124<>\"\",\"OK\",IF(AND(#REF!<>\"\",#REF!<TODAY()),\"Retard\",\"Attente de Livraison\")))","v":""}]
[null,null,null,null,null,null,null,null,{"$f":"IF(F4125=\"\",\"\",IF(H4125<>\"\",\"OK\",IF(AND(#REF!<>\"\",#REF!<TODAY()),\"Retard\",\"Attente de Livraison\")))","v":""}]
[null,null,null,null,null,null,null,null,{"$f":"IF(F4126=\"\",\"\",IF(H4126<>\"\",\"OK\",IF(AND(#REF!<>\"\",#REF!<TODAY()),\"Retard\",\"Attente de Livraison\")))","v":""}]
[null,null,null,null,null,null,null,null,{"$f":"IF(F4127=\"\",\"\",IF(H4127<>\"\",\"OK\",IF(AND(#REF!<>\"\",#REF!<TODAY()),\"Retard\",\"Attente de Livraison\")))","v":""}]
[null,null,null,null,null,null,null,null,{"$f":"IF(F4128=\"\",\"\",IF(H4128<>\"\",\"OK\",IF(AND(#REF!<>\"\",#REF!<TODAY()),\"Retard\",\"Attente de Livraison\")))","v":""}]
[null,null,null,null,null,null,null,null,{"$f":"IF(F4129=\"\",\"\",IF(H4129<>\"\",\"OK\",IF(AND(#REF!<>\"\",#REF!<TODAY()),\"Retard\",\"Attente de Livraison\")))","v":""}]
[null,null,null,null,null,null,null,null,{"$f":"IF(F4130=\"\",\"\",IF(H4130<>\"\",\"OK\",IF(AND(#REF!<>\"\",#REF!<TODAY()),\"Retard\",\"Attente de Livraison\")))","v":""}]
[null,null,null,null,null,null,null,null,{"$f":"IF(F4131=\"\",\"\",IF(H4131<>\"\",\"OK\",IF(AND(#REF!<>\"\",#REF!<TODAY()),\"Retard\",\"Attente de Livraison\")))","v":""}]
[null,null,null,null,null,null,null,null,{"$f":"IF(F4132=\"\",\"\",IF(H4132<>\"\",\"OK\",IF(AND(#REF!<>\"\",#REF!<TODAY()),\"Retard\",\"Attente de Livraison\")))","v":""}]
[null,null,null,null,null,null,null,null,{"$f":"IF(F4133=\"\",\"\",IF(H4133<>\"\",\"OK\",IF(AND(#REF!<>\"\",#REF!<TODAY()),\"Retard\",\"Attente de Livraison\")))","v":""}]
[null,null,null,null,null,null,null,null,{"$f":"IF(F4134=\"\",\"\",IF(H4134<>\"\",\"OK\",IF(AND(#REF!<>\"\",#REF!<TODAY()),\"Retard\",\"Attente de Livraison\")))","v":""}]
[null,null,null,null,null,null,null,null,{"$f":"IF(F4135=\"\",\"\",IF(H4135<>\"\",\"OK\",IF(AND(#REF!<>\"\",#REF!<TODAY()),\"Retard\",\"Attente de Livraison\")))","v":""}]
[null,null,null,null,null,null,null,null,{"$f":"IF(F4136=\"\",\"\",IF(H4136<>\"\",\"OK\",IF(AND(#REF!<>\"\",#REF!<TODAY()),\"Retard\",\"Attente de Livraison\")))","v":""}]
[null,null,null,null,null,null,null,null,{"$f":"IF(F4137=\"\",\"\",IF(H4137<>\"\",\"OK\",IF(AND(#REF!<>\"\",#REF!<TODAY()),\"Retard\",\"Attente de Livraison\")))","v":""}]
[null,null,null,null,null,null,null,null,{"$f":"IF(F4138=\"\",\"\",IF(H4138<>\"\",\"OK\",IF(AND(#REF!<>\"\",#REF!<TODAY()),\"Retard\",\"Attente de Livraison\")))","v":""}]
[null,null,null,null,null,null,null,null,{"$f":"IF(F4139=\"\",\"\",IF(H4139<>\"\",\"OK\",IF(AND(#REF!<>\"\",#REF!<TODAY()),\"Retard\",\"Attente de Livraison\")))","v":""}]
[null,null,null,null,null,null,null,null,{"$f":"IF(F4140=\"\",\"\",IF(H4140<>\"\",\"OK\",IF(AND(#REF!<>\"\",#REF!<TODAY()),\"Retard\",\"Attente de Livraison\")))","v":""}]
[null,null,null,null,null,null,null,null,{"$f":"IF(F4141=\"\",\"\",IF(H4141<>\"\",\"OK\",IF(AND(#REF!<>\"\",#REF!<TODAY()),\"Retard\",\"Attente de Livraison\")))","v":""}]
[null,null,null,null,null,null,null,null,{"$f":"IF(F4142=\"\",\"\",IF(H4142<>\"\",\"OK\",IF(AND(#REF!<>\"\",#REF!<TODAY()),\"Retard\",\"Attente de Livraison\")))","v":""}]
[null,null,null,null,null,null,null,null,{"$f":"IF(F4143=\"\",\"\",IF(H4143<>\"\",\"OK\",IF(AND(#REF!<>\"\",#REF!<TODAY()),\"Retard\",\"Attente de Livraison\")))","v":""}]
[null,null,null,null,null,null,null,null,{"$f":"IF(F4144=\"\",\"\",IF(H4144<>\"\",\"OK\",IF(AND(#REF!<>\"\",#REF!<TODAY()),\"Retard\",\"Attente de Livraison\")))","v":""}]
[null,null,null,null,null,null,null,null,{"$f":"IF(F4145=\"\",\"\",IF(H4145<>\"\",\"OK\",IF(AND(#REF!<>\"\",#REF!<TODAY()),\"Retard\",\"Attente de Livraison\")))","v":""}]
[null,null,null,null,null,null,null,null,{"$f":"IF(F4146=\"\",\"\",IF(H4146<>\"\",\"OK\",IF(AND(#REF!<>\"\",#REF!<TODAY()),\"Retard\",\"Attente de Livraison\")))","v":""}]
[null,null,null,null,null,null,null,null,{"$f":"IF(F4147=\"\",\"\",IF(H4147<>\"\",\"OK\",IF(AND(#REF!<>\"\",#REF!<TODAY()),\"Retard\",\"Attente de Livraison\")))","v":""}]
[null,null,null,null,null,null,null,null,{"$f":"IF(F4148=\"\",\"\",IF(H4148<>\"\",\"OK\",IF(AND(#REF!<>\"\",#REF!<TODAY()),\"Retard\",\"Attente de Livraison\")))","v":""}]
[null,null,null,null,null,null,null,null,{"$f":"IF(F4149=\"\",\"\",IF(H4149<>\"\",\"OK\",IF(AND(#REF!<>\"\",#REF!<TODAY()),\"Retard\",\"Attente de Livraison\")))","v":""}]
[null,null,null,null,null,null,null,null,{"$f":"IF(F4150=\"\",\"\",IF(H4150<>\"\",\"OK\",IF(AND(#REF!<>\"\",#REF!<TODAY()),\"Retard\",\"Attente de Livraison\")))","v":""}]
[null,null,null,null,null,null,null,null,{"$f":"IF(F4151=\"\",\"\",IF(H4151<>\"\",\"OK\",IF(AND(#REF!<>\"\",#REF!<TODAY()),\"Retard\",\"Attente de Livraison\")))","v":""}]
[null,null,null,null,null,null,null,null,{"$f":"IF(F4152=\"\",\"\",IF(H4152<>\"\",\"OK\",IF(AND(#REF!<>\"\",#REF!<TODAY()),\"Retard\",\"Attente de Livraison\")))","v":""}]
[null,null,null,null,null,null,null,null,{"$f":"IF(F4153=\"\",\"\",IF(H4153<>\"\",\"OK\",IF(AND(#REF!<>\"\",#REF!<TODAY()),\"Retard\",\"Attente de Livraison\")))","v":""}]
[null,null,null,null,null,null,null,null,{"$f":"IF(F4154=\"\",\"\",IF(H4154<>\"\",\"OK\",IF(AND(#REF!<>\"\",#REF!<TODAY()),\"Retard\",\"Attente de Livraison\")))","v":""}]
[null,null,null,null,null,null,null,null,{"$f":"IF(F4155=\"\",\"\",IF(H4155<>\"\",\"OK\",IF(AND(#REF!<>\"\",#REF!<TODAY()),\"Retard\",\"Attente de Livraison\")))","v":""}]
[null,null,null,null,null,null,null,null,{"$f":"IF(F4156=\"\",\"\",IF(H4156<>\"\",\"OK\",IF(AND(#REF!<>\"\",#REF!<TODAY()),\"Retard\",\"Attente de Livraison\")))","v":""}]
[null,null,null,null,null,null,null,null,{"$f":"IF(F4157=\"\",\"\",IF(H4157<>\"\",\"OK\",IF(AND(#REF!<>\"\",#REF!<TODAY()),\"Retard\",\"Attente de Livraison\")))","v":""}]
[null,null,null,null,null,null,null,null,{"$f":"IF(F4158=\"\",\"\",IF(H4158<>\"\",\"OK\",IF(AND(#REF!<>\"\",#REF!<TODAY()),\"Retard\",\"Attente de Livraison\")))","v":""}]
[null,null,null,null,null,null,null,null,{"$f":"IF(F4159=\"\",\"\",IF(H4159<>\"\",\"OK\",IF(AND(#REF!<>\"\",#REF!<TODAY()),\"Retard\",\"Attente de Livraison\")))","v":""}]
[null,null,null,null,null,null,null,null,{"$f":"IF(F4160=\"\",\"\",IF(H4160<>\"\",\"OK\",IF(AND(#REF!<>\"\",#REF!<TODAY()),\"Retard\",\"Attente de Livraison\")))","v":""}]
[null,null,null,null,null,null,null,null,{"$f":"IF(F4161=\"\",\"\",IF(H4161<>\"\",\"OK\",IF(AND(#REF!<>\"\",#REF!<TODAY()),\"Retard\",\"Attente de Livraison\")))","v":""}]
[null,null,null,null,null,null,null,null,{"$f":"IF(F4162=\"\",\"\",IF(H4162<>\"\",\"OK\",IF(AND(#REF!<>\"\",#REF!<TODAY()),\"Retard\",\"Attente de Livraison\")))","v":""}]
[null,null,null,null,null,null,null,null,{"$f":"IF(F4163=\"\",\"\",IF(H4163<>\"\",\"OK\",IF(AND(#REF!<>\"\",#REF!<TODAY()),\"Retard\",\"Attente de Livraison\")))","v":""}]
[null,null,null,null,null,null,null,null,{"$f":"IF(F4164=\"\",\"\",IF(H4164<>\"\",\"OK\",IF(AND(#REF!<>\"\",#REF!<TODAY()),\"Retard\",\"Attente de Livraison\")))","v":""}]
[null,null,null,null,null,null,null,null,{"$f":"IF(F4165=\"\",\"\",IF(H4165<>\"\",\"OK\",IF(AND(#REF!<>\"\",#REF!<TODAY()),\"Retard\",\"Attente de Livraison\")))","v":""}]
[null,null,null,null,null,null,null,null,{"$f":"IF(F4166=\"\",\"\",IF(H4166<>\"\",\"OK\",IF(AND(#REF!<>\"\",#REF!<TODAY()),\"Retard\",\"Attente de Livraison\")))","v":""}]
[null,null,null,null,null,null,null,null,{"$f":"IF(F4167=\"\",\"\",IF(H4167<>\"\",\"OK\",IF(AND(#REF!<>\"\",#REF!<TODAY()),\"Retard\",\"Attente de Livraison\")))","v":""}]
[null,null,null,null,null,null,null,null,{"$f":"IF(F4168=\"\",\"\",IF(H4168<>\"\",\"OK\",IF(AND(#REF!<>\"\",#REF!<TODAY()),\"Retard\",\"Attente de Livraison\")))","v":""}]
[null,null,null,null,null,null,null,null,{"$f":"IF(F4169=\"\",\"\",IF(H4169<>\"\",\"OK\",IF(AND(#REF!<>\"\",#REF!<TODAY()),\"Retard\",\"Attente de Livraison\")))","v":""}]
[null,null,null,null,null,null,null,null,{"$f":"IF(F4170=\"\",\"\",IF(H4170<>\"\",\"OK\",IF(AND(#REF!<>\"\",#REF!<TODAY()),\"Retard\",\"Attente de Livraison\")))","v":""}]
[null,null,null,null,null,null,null,null,{"$f":"IF(F4171=\"\",\"\",IF(H4171<>\"\",\"OK\",IF(AND(#REF!<>\"\",#REF!<TODAY()),\"Retard\",\"Attente de Livraison\")))","v":""}]
[null,null,null,null,null,null,null,null,{"$f":"IF(F4172=\"\",\"\",IF(H4172<>\"\",\"OK\",IF(AND(#REF!<>\"\",#REF!<TODAY()),\"Retard\",\"Attente de Livraison\")))","v":""}]
[null,null,null,null,null,null,null,null,{"$f":"IF(F4173=\"\",\"\",IF(H4173<>\"\",\"OK\",IF(AND(#REF!<>\"\",#REF!<TODAY()),\"Retard\",\"Attente de Livraison\")))","v":""}]
[null,null,null,null,null,null,null,null,{"$f":"IF(F4174=\"\",\"\",IF(H4174<>\"\",\"OK\",IF(AND(#REF!<>\"\",#REF!<TODAY()),\"Retard\",\"Attente de Livraison\")))","v":""}]
[null,null,null,null,null,null,null,null,{"$f":"IF(F4175=\"\",\"\",IF(H4175<>\"\",\"OK\",IF(AND(#REF!<>\"\",#REF!<TODAY()),\"Retard\",\"Attente de Livraison\")))","v":""}]
[null,null,null,null,null,null,null,null,{"$f":"IF(F4176=\"\",\"\",IF(H4176<>\"\",\"OK\",IF(AND(#REF!<>\"\",#REF!<TODAY()),\"Retard\",\"Attente de Livraison\")))","v":""}]
[null,null,null,null,null,null,null,null,{"$f":"IF(F4177=\"\",\"\",IF(H4177<>\"\",\"OK\",IF(AND(#REF!<>\"\",#REF!<TODAY()),\"Retard\",\"Attente de Livraison\")))","v":""}]
[null,null,null,null,null,null,null,null,{"$f":"IF(F4178=\"\",\"\",IF(H4178<>\"\",\"OK\",IF(AND(#REF!<>\"\",#REF!<TODAY()),\"Retard\",\"Attente de Livraison\")))","v":""}]
[null,null,null,null,null,null,null,null,{"$f":"IF(F4179=\"\",\"\",IF(H4179<>\"\",\"OK\",IF(AND(#REF!<>\"\",#REF!<TODAY()),\"Retard\",\"Attente de Livraison\")))","v":""}]
[null,null,null,null,null,null,null,null,{"$f":"IF(F4180=\"\",\"\",IF(H4180<>\"\",\"OK\",IF(AND(#REF!<>\"\",#REF!<TODAY()),\"Retard\",\"Attente de Livraison\")))","v":""}]
[null,null,null,null,null,null,null,null,{"$f":"IF(F4181=\"\",\"\",IF(H4181<>\"\",\"OK\",IF(AND(#REF!<>\"\",#REF!<TODAY()),\"Retard\",\"Attente de Livraison\")))","v":""}]
[null,null,null,null,null,null,null,null,{"$f":"IF(F4182=\"\",\"\",IF(H4182<>\"\",\"OK\",IF(AND(#REF!<>\"\",#REF!<TODAY()),\"Retard\",\"Attente de Livraison\")))","v":""}]
[null,null,null,null,null,null,null,null,{"$f":"IF(F4183=\"\",\"\",IF(H4183<>\"\",\"OK\",IF(AND(#REF!<>\"\",#REF!<TODAY()),\"Retard\",\"Attente de Livraison\")))","v":""}]
[null,null,null,null,null,null,null,null,{"$f":"IF(F4184=\"\",\"\",IF(H4184<>\"\",\"OK\",IF(AND(#REF!<>\"\",#REF!<TODAY()),\"Retard\",\"Attente de Livraison\")))","v":""}]
[null,null,null,null,null,null,null,null,{"$f":"IF(F4185=\"\",\"\",IF(H4185<>\"\",\"OK\",IF(AND(#REF!<>\"\",#REF!<TODAY()),\"Retard\",\"Attente de Livraison\")))","v":""}]
[null,null,null,null,null,null,null,null,{"$f":"IF(F4186=\"\",\"\",IF(H4186<>\"\",\"OK\",IF(AND(#REF!<>\"\",#REF!<TODAY()),\"Retard\",\"Attente de Livraison\")))","v":""}]
[null,null,null,null,null,null,null,null,{"$f":"IF(F4187=\"\",\"\",IF(H4187<>\"\",\"OK\",IF(AND(#REF!<>\"\",#REF!<TODAY()),\"Retard\",\"Attente de Livraison\")))","v":""}]
[null,null,null,null,null,null,null,null,{"$f":"IF(F4188=\"\",\"\",IF(H4188<>\"\",\"OK\",IF(AND(#REF!<>\"\",#REF!<TODAY()),\"Retard\",\"Attente de Livraison\")))","v":""}]
[null,null,null,null,null,null,null,null,{"$f":"IF(F4189=\"\",\"\",IF(H4189<>\"\",\"OK\",IF(AND(#REF!<>\"\",#REF!<TODAY()),\"Retard\",\"Attente de Livraison\")))","v":""}]
[null,null,null,null,null,null,null,null,{"$f":"IF(F4190=\"\",\"\",IF(H4190<>\"\",\"OK\",IF(AND(#REF!<>\"\",#REF!<TODAY()),\"Retard\",\"Attente de Livraison\")))","v":""}]
[null,null,null,null,null,null,null,null,{"$f":"IF(F4191=\"\",\"\",IF(H4191<>\"\",\"OK\",IF(AND(#REF!<>\"\",#REF!<TODAY()),\"Retard\",\"Attente de Livraison\")))","v":""}]
[null,null,null,null,null,null,null,null,{"$f":"IF(F4192=\"\",\"\",IF(H4192<>\"\",\"OK\",IF(AND(#REF!<>\"\",#REF!<TODAY()),\"Retard\",\"Attente de Livraison\")))","v":""}]
[null,null,null,null,null,null,null,null,{"$f":"IF(F4193=\"\",\"\",IF(H4193<>\"\",\"OK\",IF(AND(#REF!<>\"\",#REF!<TODAY()),\"Retard\",\"Attente de Livraison\")))","v":""}]
[null,null,null,null,null,null,null,null,{"$f":"IF(F4194=\"\",\"\",IF(H4194<>\"\",\"OK\",IF(AND(#REF!<>\"\",#REF!<TODAY()),\"Retard\",\"Attente de Livraison\")))","v":""}]
[null,null,null,null,null,null,null,null,{"$f":"IF(F4195=\"\",\"\",IF(H4195<>\"\",\"OK\",IF(AND(#REF!<>\"\",#REF!<TODAY()),\"Retard\",\"Attente de Livraison\")))","v":""}]
[null,null,null,null,null,null,null,null,{"$f":"IF(F4196=\"\",\"\",IF(H4196<>\"\",\"OK\",IF(AND(#REF!<>\"\",#REF!<TODAY()),\"Retard\",\"Attente de Livraison\")))","v":""}]
[null,null,null,null,null,null,null,null,{"$f":"IF(F4197=\"\",\"\",IF(H4197<>\"\",\"OK\",IF(AND(#REF!<>\"\",#REF!<TODAY()),\"Retard\",\"Attente de Livraison\")))","v":""}]
[null,null,null,null,null,null,null,null,{"$f":"IF(F4198=\"\",\"\",IF(H4198<>\"\",\"OK\",IF(AND(#REF!<>\"\",#REF!<TODAY()),\"Retard\",\"Attente de Livraison\")))","v":""}]
[null,null,null,null,null,null,null,null,{"$f":"IF(F4199=\"\",\"\",IF(H4199<>\"\",\"OK\",IF(AND(#REF!<>\"\",#REF!<TODAY()),\"Retard\",\"Attente de Livraison\")))","v":""}]
[null,null,null,null,null,null,null,null,{"$f":"IF(F4200=\"\",\"\",IF(H4200<>\"\",\"OK\",IF(AND(#REF!<>\"\",#REF!<TODAY()),\"Retard\",\"Attente de Livraison\")))","v":""}]
[null,null,null,null,null,null,null,null,{"$f":"IF(F4201=\"\",\"\",IF(H4201<>\"\",\"OK\",IF(AND(#REF!<>\"\",#REF!<TODAY()),\"Retard\",\"Attente de Livraison\")))","v":""}]
[null,null,null,null,null,null,null,null,{"$f":"IF(F4202=\"\",\"\",IF(H4202<>\"\",\"OK\",IF(AND(#REF!<>\"\",#REF!<TODAY()),\"Retard\",\"Attente de Livraison\")))","v":""}]
[null,null,null,null,null,null,null,null,{"$f":"IF(F4203=\"\",\"\",IF(H4203<>\"\",\"OK\",IF(AND(#REF!<>\"\",#REF!<TODAY()),\"Retard\",\"Attente de Livraison\")))","v":""}]
[null,null,null,null,null,null,null,null,{"$f":"IF(F4204=\"\",\"\",IF(H4204<>\"\",\"OK\",IF(AND(#REF!<>\"\",#REF!<TODAY()),\"Retard\",\"Attente de Livraison\")))","v":""}]
[null,null,null,null,null,null,null,null,{"$f":"IF(F4205=\"\",\"\",IF(H4205<>\"\",\"OK\",IF(AND(#REF!<>\"\",#REF!<TODAY()),\"Retard\",\"Attente de Livraison\")))","v":""}]
[null,null,null,null,null,null,null,null,{"$f":"IF(F4206=\"\",\"\",IF(H4206<>\"\",\"OK\",IF(AND(#REF!<>\"\",#REF!<TODAY()),\"Retard\",\"Attente de Livraison\")))","v":""}]
[null,null,null,null,null,null,null,null,{"$f":"IF(F4207=\"\",\"\",IF(H4207<>\"\",\"OK\",IF(AND(#REF!<>\"\",#REF!<TODAY()),\"Retard\",\"Attente de Livraison\")))","v":""}]
[null,null,null,null,null,null,null,null,{"$f":"IF(F4208=\"\",\"\",IF(H4208<>\"\",\"OK\",IF(AND(#REF!<>\"\",#REF!<TODAY()),\"Retard\",\"Attente de Livraison\")))","v":""}]
[null,null,null,null,null,null,null,null,{"$f":"IF(F4209=\"\",\"\",IF(H4209<>\"\",\"OK\",IF(AND(#REF!<>\"\",#REF!<TODAY()),\"Retard\",\"Attente de Livraison\")))","v":""}]
[null,null,null,null,null,null,null,null,{"$f":"IF(F4210=\"\",\"\",IF(H4210<>\"\",\"OK\",IF(AND(#REF!<>\"\",#REF!<TODAY()),\"Retard\",\"Attente de Livraison\")))","v":""}]
[null,null,null,null,null,null,null,null,{"$f":"IF(F4211=\"\",\"\",IF(H4211<>\"\",\"OK\",IF(AND(#REF!<>\"\",#REF!<TODAY()),\"Retard\",\"Attente de Livraison\")))","v":""}]
[null,null,null,null,null,null,null,null,{"$f":"IF(F4212=\"\",\"\",IF(H4212<>\"\",\"OK\",IF(AND(#REF!<>\"\",#REF!<TODAY()),\"Retard\",\"Attente de Livraison\")))","v":""}]
[null,null,null,null,null,null,null,null,{"$f":"IF(F4213=\"\",\"\",IF(H4213<>\"\",\"OK\",IF(AND(#REF!<>\"\",#REF!<TODAY()),\"Retard\",\"Attente de Livraison\")))","v":""}]
[null,null,null,null,null,null,null,null,{"$f":"IF(F4214=\"\",\"\",IF(H4214<>\"\",\"OK\",IF(AND(#REF!<>\"\",#REF!<TODAY()),\"Retard\",\"Attente de Livraison\")))","v":""}]
[null,null,null,null,null,null,null,null,{"$f":"IF(F4215=\"\",\"\",IF(H4215<>\"\",\"OK\",IF(AND(#REF!<>\"\",#REF!<TODAY()),\"Retard\",\"Attente de Livraison\")))","v":""}]
[null,null,null,null,null,null,null,null,{"$f":"IF(F4216=\"\",\"\",IF(H4216<>\"\",\"OK\",IF(AND(#REF!<>\"\",#REF!<TODAY()),\"Retard\",\"Attente de Livraison\")))","v":""}]
[null,null,null,null,null,null,null,null,{"$f":"IF(F4217=\"\",\"\",IF(H4217<>\"\",\"OK\",IF(AND(#REF!<>\"\",#REF!<TODAY()),\"Retard\",\"Attente de Livraison\")))","v":""}]
[null,null,null,null,null,null,null,null,{"$f":"IF(F4218=\"\",\"\",IF(H4218<>\"\",\"OK\",IF(AND(#REF!<>\"\",#REF!<TODAY()),\"Retard\",\"Attente de Livraison\")))","v":""}]
[null,null,null,null,null,null,null,null,{"$f":"IF(F4219=\"\",\"\",IF(H4219<>\"\",\"OK\",IF(AND(#REF!<>\"\",#REF!<TODAY()),\"Retard\",\"Attente de Livraison\")))","v":""}]
[null,null,null,null,null,null,null,null,{"$f":"IF(F4220=\"\",\"\",IF(H4220<>\"\",\"OK\",IF(AND(#REF!<>\"\",#REF!<TODAY()),\"Retard\",\"Attente de Livraison\")))","v":""}]
[null,null,null,null,null,null,null,null,{"$f":"IF(F4221=\"\",\"\",IF(H4221<>\"\",\"OK\",IF(AND(#REF!<>\"\",#REF!<TODAY()),\"Retard\",\"Attente de Livraison\")))","v":""}]
[null,null,null,null,null,null,null,null,{"$f":"IF(F4222=\"\",\"\",IF(H4222<>\"\",\"OK\",IF(AND(#REF!<>\"\",#REF!<TODAY()),\"Retard\",\"Attente de Livraison\")))","v":""}]
[null,null,null,null,null,null,null,null,{"$f":"IF(F4223=\"\",\"\",IF(H4223<>\"\",\"OK\",IF(AND(#REF!<>\"\",#REF!<TODAY()),\"Retard\",\"Attente de Livraison\")))","v":""}]
[null,null,null,null,null,null,null,null,{"$f":"IF(F4224=\"\",\"\",IF(H4224<>\"\",\"OK\",IF(AND(#REF!<>\"\",#REF!<TODAY()),\"Retard\",\"Attente de Livraison\")))","v":""}]
[null,null,null,null,null,null,null,null,{"$f":"IF(F4225=\"\",\"\",IF(H4225<>\"\",\"OK\",IF(AND(#REF!<>\"\",#REF!<TODAY()),\"Retard\",\"Attente de Livraison\")))","v":""}]
[null,null,null,null,null,null,null,null,{"$f":"IF(F4226=\"\",\"\",IF(H4226<>\"\",\"OK\",IF(AND(#REF!<>\"\",#REF!<TODAY()),\"Retard\",\"Attente de Livraison\")))","v":""}]
[null,null,null,null,null,null,null,null,{"$f":"IF(F4227=\"\",\"\",IF(H4227<>\"\",\"OK\",IF(AND(#REF!<>\"\",#REF!<TODAY()),\"Retard\",\"Attente de Livraison\")))","v":""}]
[null,null,null,null,null,null,null,null,{"$f":"IF(F4228=\"\",\"\",IF(H4228<>\"\",\"OK\",IF(AND(#REF!<>\"\",#REF!<TODAY()),\"Retard\",\"Attente de Livraison\")))","v":""}]
[null,null,null,null,null,null,null,null,{"$f":"IF(F4229=\"\",\"\",IF(H4229<>\"\",\"OK\",IF(AND(#REF!<>\"\",#REF!<TODAY()),\"Retard\",\"Attente de Livraison\")))","v":""}]
[null,null,null,null,null,null,null,null,{"$f":"IF(F4230=\"\",\"\",IF(H4230<>\"\",\"OK\",IF(AND(#REF!<>\"\",#REF!<TODAY()),\"Retard\",\"Attente de Livraison\")))","v":""}]
[null,null,null,null,null,null,null,null,{"$f":"IF(F4231=\"\",\"\",IF(H4231<>\"\",\"OK\",IF(AND(#REF!<>\"\",#REF!<TODAY()),\"Retard\",\"Attente de Livraison\")))","v":""}]
[null,null,null,null,null,null,null,null,{"$f":"IF(F4232=\"\",\"\",IF(H4232<>\"\",\"OK\",IF(AND(#REF!<>\"\",#REF!<TODAY()),\"Retard\",\"Attente de Livraison\")))","v":""}]
[null,null,null,null,null,null,null,null,{"$f":"IF(F4233=\"\",\"\",IF(H4233<>\"\",\"OK\",IF(AND(#REF!<>\"\",#REF!<TODAY()),\"Retard\",\"Attente de Livraison\")))","v":""}]
[null,null,null,null,null,null,null,null,{"$f":"IF(F4234=\"\",\"\",IF(H4234<>\"\",\"OK\",IF(AND(#REF!<>\"\",#REF!<TODAY()),\"Retard\",\"Attente de Livraison\")))","v":""}]
[null,null,null,null,null,null,null,null,{"$f":"IF(F4235=\"\",\"\",IF(H4235<>\"\",\"OK\",IF(AND(#REF!<>\"\",#REF!<TODAY()),\"Retard\",\"Attente de Livraison\")))","v":""}]
[null,null,null,null,null,null,null,null,{"$f":"IF(F4236=\"\",\"\",IF(H4236<>\"\",\"OK\",IF(AND(#REF!<>\"\",#REF!<TODAY()),\"Retard\",\"Attente de Livraison\")))","v":""}]
[null,null,null,null,null,null,null,null,{"$f":"IF(F4237=\"\",\"\",IF(H4237<>\"\",\"OK\",IF(AND(#REF!<>\"\",#REF!<TODAY()),\"Retard\",\"Attente de Livraison\")))","v":""}]
[null,null,null,null,null,null,null,null,{"$f":"IF(F4238=\"\",\"\",IF(H4238<>\"\",\"OK\",IF(AND(#REF!<>\"\",#REF!<TODAY()),\"Retard\",\"Attente de Livraison\")))","v":""}]
[null,null,null,null,null,null,null,null,{"$f":"IF(F4239=\"\",\"\",IF(H4239<>\"\",\"OK\",IF(AND(#REF!<>\"\",#REF!<TODAY()),\"Retard\",\"Attente de Livraison\")))","v":""}]
[null,null,null,null,null,null,null,null,{"$f":"IF(F4240=\"\",\"\",IF(H4240<>\"\",\"OK\",IF(AND(#REF!<>\"\",#REF!<TODAY()),\"Retard\",\"Attente de Livraison\")))","v":""}]
[null,null,null,null,null,null,null,null,{"$f":"IF(F4241=\"\",\"\",IF(H4241<>\"\",\"OK\",IF(AND(#REF!<>\"\",#REF!<TODAY()),\"Retard\",\"Attente de Livraison\")))","v":""}]
[null,null,null,null,null,null,null,null,{"$f":"IF(F4242=\"\",\"\",IF(H4242<>\"\",\"OK\",IF(AND(#REF!<>\"\",#REF!<TODAY()),\"Retard\",\"Attente de Livraison\")))","v":""}]
[null,null,null,null,null,null,null,null,{"$f":"IF(F4243=\"\",\"\",IF(H4243<>\"\",\"OK\",IF(AND(#REF!<>\"\",#REF!<TODAY()),\"Retard\",\"Attente de Livraison\")))","v":""}]
[null,null,null,null,null,null,null,null,{"$f":"IF(F4244=\"\",\"\",IF(H4244<>\"\",\"OK\",IF(AND(#REF!<>\"\",#REF!<TODAY()),\"Retard\",\"Attente de Livraison\")))","v":""}]
[null,null,null,null,null,null,null,null,{"$f":"IF(F4245=\"\",\"\",IF(H4245<>\"\",\"OK\",IF(AND(#REF!<>\"\",#REF!<TODAY()),\"Retard\",\"Attente de Livraison\")))","v":""}]
[null,null,null,null,null,null,null,null,{"$f":"IF(F4246=\"\",\"\",IF(H4246<>\"\",\"OK\",IF(AND(#REF!<>\"\",#REF!<TODAY()),\"Retard\",\"Attente de Livraison\")))","v":""}]
[null,null,null,null,null,null,null,null,{"$f":"IF(F4247=\"\",\"\",IF(H4247<>\"\",\"OK\",IF(AND(#REF!<>\"\",#REF!<TODAY()),\"Retard\",\"Attente de Livraison\")))","v":""}]
[null,null,null,null,null,null,null,null,{"$f":"IF(F4248=\"\",\"\",IF(H4248<>\"\",\"OK\",IF(AND(#REF!<>\"\",#REF!<TODAY()),\"Retard\",\"Attente de Livraison\")))","v":""}]
[null,null,null,null,null,null,null,null,{"$f":"IF(F4249=\"\",\"\",IF(H4249<>\"\",\"OK\",IF(AND(#REF!<>\"\",#REF!<TODAY()),\"Retard\",\"Attente de Livraison\")))","v":""}]
[null,null,null,null,null,null,null,null,{"$f":"IF(F4250=\"\",\"\",IF(H4250<>\"\",\"OK\",IF(AND(#REF!<>\"\",#REF!<TODAY()),\"Retard\",\"Attente de Livraison\")))","v":""}]
[null,null,null,null,null,null,null,null,{"$f":"IF(F4251=\"\",\"\",IF(H4251<>\"\",\"OK\",IF(AND(#REF!<>\"\",#REF!<TODAY()),\"Retard\",\"Attente de Livraison\")))","v":""}]
[null,null,null,null,null,null,null,null,{"$f":"IF(F4252=\"\",\"\",IF(H4252<>\"\",\"OK\",IF(AND(#REF!<>\"\",#REF!<TODAY()),\"Retard\",\"Attente de Livraison\")))","v":""}]
[null,null,null,null,null,null,null,null,{"$f":"IF(F4253=\"\",\"\",IF(H4253<>\"\",\"OK\",IF(AND(#REF!<>\"\",#REF!<TODAY()),\"Retard\",\"Attente de Livraison\")))","v":""}]
[null,null,null,null,null,null,null,null,{"$f":"IF(F4254=\"\",\"\",IF(H4254<>\"\",\"OK\",IF(AND(#REF!<>\"\",#REF!<TODAY()),\"Retard\",\"Attente de Livraison\")))","v":""}]
[null,null,null,null,null,null,null,null,{"$f":"IF(F4255=\"\",\"\",IF(H4255<>\"\",\"OK\",IF(AND(#REF!<>\"\",#REF!<TODAY()),\"Retard\",\"Attente de Livraison\")))","v":""}]
[null,null,null,null,null,null,null,null,{"$f":"IF(F4256=\"\",\"\",IF(H4256<>\"\",\"OK\",IF(AND(#REF!<>\"\",#REF!<TODAY()),\"Retard\",\"Attente de Livraison\")))","v":""}]
[null,null,null,null,null,null,null,null,{"$f":"IF(F4257=\"\",\"\",IF(H4257<>\"\",\"OK\",IF(AND(#REF!<>\"\",#REF!<TODAY()),\"Retard\",\"Attente de Livraison\")))","v":""}]
[null,null,null,null,null,null,null,null,{"$f":"IF(F4258=\"\",\"\",IF(H4258<>\"\",\"OK\",IF(AND(#REF!<>\"\",#REF!<TODAY()),\"Retard\",\"Attente de Livraison\")))","v":""}]
[null,null,null,null,null,null,null,null,{"$f":"IF(F4259=\"\",\"\",IF(H4259<>\"\",\"OK\",IF(AND(#REF!<>\"\",#REF!<TODAY()),\"Retard\",\"Attente de Livraison\")))","v":""}]
[null,null,null,null,null,null,null,null,{"$f":"IF(F4260=\"\",\"\",IF(H4260<>\"\",\"OK\",IF(AND(#REF!<>\"\",#REF!<TODAY()),\"Retard\",\"Attente de Livraison\")))","v":""}]
[null,null,null,null,null,null,null,null,{"$f":"IF(F4261=\"\",\"\",IF(H4261<>\"\",\"OK\",IF(AND(#REF!<>\"\",#REF!<TODAY()),\"Retard\",\"Attente de Livraison\")))","v":""}]
[null,null,null,null,null,null,null,null,{"$f":"IF(F4262=\"\",\"\",IF(H4262<>\"\",\"OK\",IF(AND(#REF!<>\"\",#REF!<TODAY()),\"Retard\",\"Attente de Livraison\")))","v":""}]
[null,null,null,null,null,null,null,null,{"$f":"IF(F4263=\"\",\"\",IF(H4263<>\"\",\"OK\",IF(AND(#REF!<>\"\",#REF!<TODAY()),\"Retard\",\"Attente de Livraison\")))","v":""}]
[null,null,null,null,null,null,null,null,{"$f":"IF(F4264=\"\",\"\",IF(H4264<>\"\",\"OK\",IF(AND(#REF!<>\"\",#REF!<TODAY()),\"Retard\",\"Attente de Livraison\")))","v":""}]
[null,null,null,null,null,null,null,null,{"$f":"IF(F4265=\"\",\"\",IF(H4265<>\"\",\"OK\",IF(AND(#REF!<>\"\",#REF!<TODAY()),\"Retard\",\"Attente de Livraison\")))","v":""}]
[null,null,null,null,null,null,null,null,{"$f":"IF(F4266=\"\",\"\",IF(H4266<>\"\",\"OK\",IF(AND(#REF!<>\"\",#REF!<TODAY()),\"Retard\",\"Attente de Livraison\")))","v":""}]
[null,null,null,null,null,null,null,null,{"$f":"IF(F4267=\"\",\"\",IF(H4267<>\"\",\"OK\",IF(AND(#REF!<>\"\",#REF!<TODAY()),\"Retard\",\"Attente de Livraison\")))","v":""}]
[null,null,null,null,null,null,null,null,{"$f":"IF(F4268=\"\",\"\",IF(H4268<>\"\",\"OK\",IF(AND(#REF!<>\"\",#REF!<TODAY()),\"Retard\",\"Attente de Livraison\")))","v":""}]
[null,null,null,null,null,null,null,null,{"$f":"IF(F4269=\"\",\"\",IF(H4269<>\"\",\"OK\",IF(AND(#REF!<>\"\",#REF!<TODAY()),\"Retard\",\"Attente de Livraison\")))","v":""}]
[null,null,null,null,null,null,null,null,{"$f":"IF(F4270=\"\",\"\",IF(H4270<>\"\",\"OK\",IF(AND(#REF!<>\"\",#REF!<TODAY()),\"Retard\",\"Attente de Livraison\")))","v":""}]
[null,null,null,null,null,null,null,null,{"$f":"IF(F4271=\"\",\"\",IF(H4271<>\"\",\"OK\",IF(AND(#REF!<>\"\",#REF!<TODAY()),\"Retard\",\"Attente de Livraison\")))","v":""}]
[null,null,null,null,null,null,null,null,{"$f":"IF(F4272=\"\",\"\",IF(H4272<>\"\",\"OK\",IF(AND(#REF!<>\"\",#REF!<TODAY()),\"Retard\",\"Attente de Livraison\")))","v":""}]
[null,null,null,null,null,null,null,null,{"$f":"IF(F4273=\"\",\"\",IF(H4273<>\"\",\"OK\",IF(AND(#REF!<>\"\",#REF!<TODAY()),\"Retard\",\"Attente de Livraison\")))","v":""}]
[null,null,null,null,null,null,null,null,{"$f":"IF(F4274=\"\",\"\",IF(H4274<>\"\",\"OK\",IF(AND(#REF!<>\"\",#REF!<TODAY()),\"Retard\",\"Attente de Livraison\")))","v":""}]
[null,null,null,null,null,null,null,null,{"$f":"IF(F4275=\"\",\"\",IF(H4275<>\"\",\"OK\",IF(AND(#REF!<>\"\",#REF!<TODAY()),\"Retard\",\"Attente de Livraison\")))","v":""}]
[null,null,null,null,null,null,null,null,{"$f":"IF(F4276=\"\",\"\",IF(H4276<>\"\",\"OK\",IF(AND(#REF!<>\"\",#REF!<TODAY()),\"Retard\",\"Attente de Livraison\")))","v":""}]
[null,null,null,null,null,null,null,null,{"$f":"IF(F4277=\"\",\"\",IF(H4277<>\"\",\"OK\",IF(AND(#REF!<>\"\",#REF!<TODAY()),\"Retard\",\"Attente de Livraison\")))","v":""}]
[null,null,null,null,null,null,null,null,{"$f":"IF(F4278=\"\",\"\",IF(H4278<>\"\",\"OK\",IF(AND(#REF!<>\"\",#REF!<TODAY()),\"Retard\",\"Attente de Livraison\")))","v":""}]
[null,null,null,null,null,null,null,null,{"$f":"IF(F4279=\"\",\"\",IF(H4279<>\"\",\"OK\",IF(AND(#REF!<>\"\",#REF!<TODAY()),\"Retard\",\"Attente de Livraison\")))","v":""}]
[null,null,null,null,null,null,null,null,{"$f":"IF(F4280=\"\",\"\",IF(H4280<>\"\",\"OK\",IF(AND(#REF!<>\"\",#REF!<TODAY()),\"Retard\",\"Attente de Livraison\")))","v":""}]
[null,null,null,null,null,null,null,null,{"$f":"IF(F4281=\"\",\"\",IF(H4281<>\"\",\"OK\",IF(AND(#REF!<>\"\",#REF!<TODAY()),\"Retard\",\"Attente de Livraison\")))","v":""}]
[null,null,null,null,null,null,null,null,{"$f":"IF(F4282=\"\",\"\",IF(H4282<>\"\",\"OK\",IF(AND(#REF!<>\"\",#REF!<TODAY()),\"Retard\",\"Attente de Livraison\")))","v":""}]
[null,null,null,null,null,null,null,null,{"$f":"IF(F4283=\"\",\"\",IF(H4283<>\"\",\"OK\",IF(AND(#REF!<>\"\",#REF!<TODAY()),\"Retard\",\"Attente de Livraison\")))","v":""}]
[null,null,null,null,null,null,null,null,{"$f":"IF(F4284=\"\",\"\",IF(H4284<>\"\",\"OK\",IF(AND(#REF!<>\"\",#REF!<TODAY()),\"Retard\",\"Attente de Livraison\")))","v":""}]
[null,null,null,null,null,null,null,null,{"$f":"IF(F4285=\"\",\"\",IF(H4285<>\"\",\"OK\",IF(AND(#REF!<>\"\",#REF!<TODAY()),\"Retard\",\"Attente de Livraison\")))","v":""}]
[null,null,null,null,null,null,null,null,{"$f":"IF(F4286=\"\",\"\",IF(H4286<>\"\",\"OK\",IF(AND(#REF!<>\"\",#REF!<TODAY()),\"Retard\",\"Attente de Livraison\")))","v":""}]
[null,null,null,null,null,null,null,null,{"$f":"IF(F4287=\"\",\"\",IF(H4287<>\"\",\"OK\",IF(AND(#REF!<>\"\",#REF!<TODAY()),\"Retard\",\"Attente de Livraison\")))","v":""}]
[null,null,null,null,null,null,null,null,{"$f":"IF(F4288=\"\",\"\",IF(H4288<>\"\",\"OK\",IF(AND(#REF!<>\"\",#REF!<TODAY()),\"Retard\",\"Attente de Livraison\")))","v":""}]
[null,null,null,null,null,null,null,null,{"$f":"IF(F4289=\"\",\"\",IF(H4289<>\"\",\"OK\",IF(AND(#REF!<>\"\",#REF!<TODAY()),\"Retard\",\"Attente de Livraison\")))","v":""}]
[null,null,null,null,null,null,null,null,{"$f":"IF(F4290=\"\",\"\",IF(H4290<>\"\",\"OK\",IF(AND(#REF!<>\"\",#REF!<TODAY()),\"Retard\",\"Attente de Livraison\")))","v":""}]
[null,null,null,null,null,null,null,null,{"$f":"IF(F4291=\"\",\"\",IF(H4291<>\"\",\"OK\",IF(AND(#REF!<>\"\",#REF!<TODAY()),\"Retard\",\"Attente de Livraison\")))","v":""}]
[null,null,null,null,null,null,null,null,{"$f":"IF(F4292=\"\",\"\",IF(H4292<>\"\",\"OK\",IF(AND(#REF!<>\"\",#REF!<TODAY()),\"Retard\",\"Attente de Livraison\")))","v":""}]
[null,null,null,null,null,null,null,null,{"$f":"IF(F4293=\"\",\"\",IF(H4293<>\"\",\"OK\",IF(AND(#REF!<>\"\",#REF!<TODAY()),\"Retard\",\"Attente de Livraison\")))","v":""}]
[null,null,null,null,null,null,null,null,{"$f":"IF(F4294=\"\",\"\",IF(H4294<>\"\",\"OK\",IF(AND(#REF!<>\"\",#REF!<TODAY()),\"Retard\",\"Attente de Livraison\")))","v":""}]
[null,null,null,null,null,null,null,null,{"$f":"IF(F4295=\"\",\"\",IF(H4295<>\"\",\"OK\",IF(AND(#REF!<>\"\",#REF!<TODAY()),\"Retard\",\"Attente de Livraison\")))","v":""}]
[null,null,null,null,null,null,null,null,{"$f":"IF(F4296=\"\",\"\",IF(H4296<>\"\",\"OK\",IF(AND(#REF!<>\"\",#REF!<TODAY()),\"Retard\",\"Attente de Livraison\")))","v":""}]
[null,null,null,null,null,null,null,null,{"$f":"IF(F4297=\"\",\"\",IF(H4297<>\"\",\"OK\",IF(AND(#REF!<>\"\",#REF!<TODAY()),\"Retard\",\"Attente de Livraison\")))","v":""}]
[null,null,null,null,null,null,null,null,{"$f":"IF(F4298=\"\",\"\",IF(H4298<>\"\",\"OK\",IF(AND(#REF!<>\"\",#REF!<TODAY()),\"Retard\",\"Attente de Livraison\")))","v":""}]
[null,null,null,null,null,null,null,null,{"$f":"IF(F4299=\"\",\"\",IF(H4299<>\"\",\"OK\",IF(AND(#REF!<>\"\",#REF!<TODAY()),\"Retard\",\"Attente de Livraison\")))","v":""}]
[null,null,null,null,null,null,null,null,{"$f":"IF(F4300=\"\",\"\",IF(H4300<>\"\",\"OK\",IF(AND(#REF!<>\"\",#REF!<TODAY()),\"Retard\",\"Attente de Livraison\")))","v":""}]
[null,null,null,null,null,null,null,null,{"$f":"IF(F4301=\"\",\"\",IF(H4301<>\"\",\"OK\",IF(AND(#REF!<>\"\",#REF!<TODAY()),\"Retard\",\"Attente de Livraison\")))","v":""}]
[null,null,null,null,null,null,null,null,{"$f":"IF(F4302=\"\",\"\",IF(H4302<>\"\",\"OK\",IF(AND(#REF!<>\"\",#REF!<TODAY()),\"Retard\",\"Attente de Livraison\")))","v":""}]
[null,null,null,null,null,null,null,null,{"$f":"IF(F4303=\"\",\"\",IF(H4303<>\"\",\"OK\",IF(AND(#REF!<>\"\",#REF!<TODAY()),\"Retard\",\"Attente de Livraison\")))","v":""}]
[null,null,null,null,null,null,null,null,{"$f":"IF(F4304=\"\",\"\",IF(H4304<>\"\",\"OK\",IF(AND(#REF!<>\"\",#REF!<TODAY()),\"Retard\",\"Attente de Livraison\")))","v":""}]
[null,null,null,null,null,null,null,null,{"$f":"IF(F4305=\"\",\"\",IF(H4305<>\"\",\"OK\",IF(AND(#REF!<>\"\",#REF!<TODAY()),\"Retard\",\"Attente de Livraison\")))","v":""}]
[null,null,null,null,null,null,null,null,{"$f":"IF(F4306=\"\",\"\",IF(H4306<>\"\",\"OK\",IF(AND(#REF!<>\"\",#REF!<TODAY()),\"Retard\",\"Attente de Livraison\")))","v":""}]
[null,null,null,null,null,null,null,null,{"$f":"IF(F4307=\"\",\"\",IF(H4307<>\"\",\"OK\",IF(AND(#REF!<>\"\",#REF!<TODAY()),\"Retard\",\"Attente de Livraison\")))","v":""}]
[null,null,null,null,null,null,null,null,{"$f":"IF(F4308=\"\",\"\",IF(H4308<>\"\",\"OK\",IF(AND(#REF!<>\"\",#REF!<TODAY()),\"Retard\",\"Attente de Livraison\")))","v":""}]
[null,null,null,null,null,null,null,null,{"$f":"IF(F4309=\"\",\"\",IF(H4309<>\"\",\"OK\",IF(AND(#REF!<>\"\",#REF!<TODAY()),\"Retard\",\"Attente de Livraison\")))","v":""}]
[null,null,null,null,null,null,null,null,{"$f":"IF(F4310=\"\",\"\",IF(H4310<>\"\",\"OK\",IF(AND(#REF!<>\"\",#REF!<TODAY()),\"Retard\",\"Attente de Livraison\")))","v":""}]
[null,null,null,null,null,null,null,null,{"$f":"IF(F4311=\"\",\"\",IF(H4311<>\"\",\"OK\",IF(AND(#REF!<>\"\",#REF!<TODAY()),\"Retard\",\"Attente de Livraison\")))","v":""}]
[null,null,null,null,null,null,null,null,{"$f":"IF(F4312=\"\",\"\",IF(H4312<>\"\",\"OK\",IF(AND(#REF!<>\"\",#REF!<TODAY()),\"Retard\",\"Attente de Livraison\")))","v":""}]
[null,null,null,null,null,null,null,null,{"$f":"IF(F4313=\"\",\"\",IF(H4313<>\"\",\"OK\",IF(AND(#REF!<>\"\",#REF!<TODAY()),\"Retard\",\"Attente de Livraison\")))","v":""}]
[null,null,null,null,null,null,null,null,{"$f":"IF(F4314=\"\",\"\",IF(H4314<>\"\",\"OK\",IF(AND(#REF!<>\"\",#REF!<TODAY()),\"Retard\",\"Attente de Livraison\")))","v":""}]
[null,null,null,null,null,null,null,null,{"$f":"IF(F4315=\"\",\"\",IF(H4315<>\"\",\"OK\",IF(AND(#REF!<>\"\",#REF!<TODAY()),\"Retard\",\"Attente de Livraison\")))","v":""}]
[null,null,null,null,null,null,null,null,{"$f":"IF(F4316=\"\",\"\",IF(H4316<>\"\",\"OK\",IF(AND(#REF!<>\"\",#REF!<TODAY()),\"Retard\",\"Attente de Livraison\")))","v":""}]
[null,null,null,null,null,null,null,null,{"$f":"IF(F4317=\"\",\"\",IF(H4317<>\"\",\"OK\",IF(AND(#REF!<>\"\",#REF!<TODAY()),\"Retard\",\"Attente de Livraison\")))","v":""}]
[null,null,null,null,null,null,null,null,{"$f":"IF(F4318=\"\",\"\",IF(H4318<>\"\",\"OK\",IF(AND(#REF!<>\"\",#REF!<TODAY()),\"Retard\",\"Attente de Livraison\")))","v":""}]
[null,null,null,null,null,null,null,null,{"$f":"IF(F4319=\"\",\"\",IF(H4319<>\"\",\"OK\",IF(AND(#REF!<>\"\",#REF!<TODAY()),\"Retard\",\"Attente de Livraison\")))","v":""}]
[null,null,null,null,null,null,null,null,{"$f":"IF(F4320=\"\",\"\",IF(H4320<>\"\",\"OK\",IF(AND(#REF!<>\"\",#REF!<TODAY()),\"Retard\",\"Attente de Livraison\")))","v":""}]
[null,null,null,null,null,null,null,null,{"$f":"IF(F4321=\"\",\"\",IF(H4321<>\"\",\"OK\",IF(AND(#REF!<>\"\",#REF!<TODAY()),\"Retard\",\"Attente de Livraison\")))","v":""}]
[null,null,null,null,null,null,null,null,{"$f":"IF(F4322=\"\",\"\",IF(H4322<>\"\",\"OK\",IF(AND(#REF!<>\"\",#REF!<TODAY()),\"Retard\",\"Attente de Livraison\")))","v":""}]
[null,null,null,null,null,null,null,null,{"$f":"IF(F4323=\"\",\"\",IF(H4323<>\"\",\"OK\",IF(AND(#REF!<>\"\",#REF!<TODAY()),\"Retard\",\"Attente de Livraison\")))","v":""}]
[null,null,null,null,null,null,null,null,{"$f":"IF(F4324=\"\",\"\",IF(H4324<>\"\",\"OK\",IF(AND(#REF!<>\"\",#REF!<TODAY()),\"Retard\",\"Attente de Livraison\")))","v":""}]
[null,null,null,null,null,null,null,null,{"$f":"IF(F4325=\"\",\"\",IF(H4325<>\"\",\"OK\",IF(AND(#REF!<>\"\",#REF!<TODAY()),\"Retard\",\"Attente de Livraison\")))","v":""}]
[null,null,null,null,null,null,null,null,{"$f":"IF(F4326=\"\",\"\",IF(H4326<>\"\",\"OK\",IF(AND(#REF!<>\"\",#REF!<TODAY()),\"Retard\",\"Attente de Livraison\")))","v":""}]
[null,null,null,null,null,null,null,null,{"$f":"IF(F4327=\"\",\"\",IF(H4327<>\"\",\"OK\",IF(AND(#REF!<>\"\",#REF!<TODAY()),\"Retard\",\"Attente de Livraison\")))","v":""}]
[null,null,null,null,null,null,null,null,{"$f":"IF(F4328=\"\",\"\",IF(H4328<>\"\",\"OK\",IF(AND(#REF!<>\"\",#REF!<TODAY()),\"Retard\",\"Attente de Livraison\")))","v":""}]
[null,null,null,null,null,null,null,null,{"$f":"IF(F4329=\"\",\"\",IF(H4329<>\"\",\"OK\",IF(AND(#REF!<>\"\",#REF!<TODAY()),\"Retard\",\"Attente de Livraison\")))","v":""}]
[null,null,null,null,null,null,null,null,{"$f":"IF(F4330=\"\",\"\",IF(H4330<>\"\",\"OK\",IF(AND(#REF!<>\"\",#REF!<TODAY()),\"Retard\",\"Attente de Livraison\")))","v":""}]
[null,null,null,null,null,null,null,null,{"$f":"IF(F4331=\"\",\"\",IF(H4331<>\"\",\"OK\",IF(AND(#REF!<>\"\",#REF!<TODAY()),\"Retard\",\"Attente de Livraison\")))","v":""}]
[null,null,null,null,null,null,null,null,{"$f":"IF(F4332=\"\",\"\",IF(H4332<>\"\",\"OK\",IF(AND(#REF!<>\"\",#REF!<TODAY()),\"Retard\",\"Attente de Livraison\")))","v":""}]
[null,null,null,null,null,null,null,null,{"$f":"IF(F4333=\"\",\"\",IF(H4333<>\"\",\"OK\",IF(AND(#REF!<>\"\",#REF!<TODAY()),\"Retard\",\"Attente de Livraison\")))","v":""}]
[null,null,null,null,null,null,null,null,{"$f":"IF(F4334=\"\",\"\",IF(H4334<>\"\",\"OK\",IF(AND(#REF!<>\"\",#REF!<TODAY()),\"Retard\",\"Attente de Livraison\")))","v":""}]
[null,null,null,null,null,null,null,null,{"$f":"IF(F4335=\"\",\"\",IF(H4335<>\"\",\"OK\",IF(AND(#REF!<>\"\",#REF!<TODAY()),\"Retard\",\"Attente de Livraison\")))","v":""}]
[null,null,null,null,null,null,null,null,{"$f":"IF(F4336=\"\",\"\",IF(H4336<>\"\",\"OK\",IF(AND(#REF!<>\"\",#REF!<TODAY()),\"Retard\",\"Attente de Livraison\")))","v":""}]
[null,null,null,null,null,null,null,null,{"$f":"IF(F4337=\"\",\"\",IF(H4337<>\"\",\"OK\",IF(AND(#REF!<>\"\",#REF!<TODAY()),\"Retard\",\"Attente de Livraison\")))","v":""}]
[null,null,null,null,null,null,null,null,{"$f":"IF(F4338=\"\",\"\",IF(H4338<>\"\",\"OK\",IF(AND(#REF!<>\"\",#REF!<TODAY()),\"Retard\",\"Attente de Livraison\")))","v":""}]
[null,null,null,null,null,null,null,null,{"$f":"IF(F4339=\"\",\"\",IF(H4339<>\"\",\"OK\",IF(AND(#REF!<>\"\",#REF!<TODAY()),\"Retard\",\"Attente de Livraison\")))","v":""}]
[null,null,null,null,null,null,null,null,{"$f":"IF(F4340=\"\",\"\",IF(H4340<>\"\",\"OK\",IF(AND(#REF!<>\"\",#REF!<TODAY()),\"Retard\",\"Attente de Livraison\")))","v":""}]
[null,null,null,null,null,null,null,null,{"$f":"IF(F4341=\"\",\"\",IF(H4341<>\"\",\"OK\",IF(AND(#REF!<>\"\",#REF!<TODAY()),\"Retard\",\"Attente de Livraison\")))","v":""}]
[null,null,null,null,null,null,null,null,{"$f":"IF(F4342=\"\",\"\",IF(H4342<>\"\",\"OK\",IF(AND(#REF!<>\"\",#REF!<TODAY()),\"Retard\",\"Attente de Livraison\")))","v":""}]
[null,null,null,null,null,null,null,null,{"$f":"IF(F4343=\"\",\"\",IF(H4343<>\"\",\"OK\",IF(AND(#REF!<>\"\",#REF!<TODAY()),\"Retard\",\"Attente de Livraison\")))","v":""}]
[null,null,null,null,null,null,null,null,{"$f":"IF(F4344=\"\",\"\",IF(H4344<>\"\",\"OK\",IF(AND(#REF!<>\"\",#REF!<TODAY()),\"Retard\",\"Attente de Livraison\")))","v":""}]
[null,null,null,null,null,null,null,null,{"$f":"IF(F4345=\"\",\"\",IF(H4345<>\"\",\"OK\",IF(AND(#REF!<>\"\",#REF!<TODAY()),\"Retard\",\"Attente de Livraison\")))","v":""}]
[null,null,null,null,null,null,null,null,{"$f":"IF(F4346=\"\",\"\",IF(H4346<>\"\",\"OK\",IF(AND(#REF!<>\"\",#REF!<TODAY()),\"Retard\",\"Attente de Livraison\")))","v":""}]
[null,null,null,null,null,null,null,null,{"$f":"IF(F4347=\"\",\"\",IF(H4347<>\"\",\"OK\",IF(AND(#REF!<>\"\",#REF!<TODAY()),\"Retard\",\"Attente de Livraison\")))","v":""}]
[null,null,null,null,null,null,null,null,{"$f":"IF(F4348=\"\",\"\",IF(H4348<>\"\",\"OK\",IF(AND(#REF!<>\"\",#REF!<TODAY()),\"Retard\",\"Attente de Livraison\")))","v":""}]
[null,null,null,null,null,null,null,null,{"$f":"IF(F4349=\"\",\"\",IF(H4349<>\"\",\"OK\",IF(AND(#REF!<>\"\",#REF!<TODAY()),\"Retard\",\"Attente de Livraison\")))","v":""}]
[null,null,null,null,null,null,null,null,{"$f":"IF(F4350=\"\",\"\",IF(H4350<>\"\",\"OK\",IF(AND(#REF!<>\"\",#REF!<TODAY()),\"Retard\",\"Attente de Livraison\")))","v":""}]
[null,null,null,null,null,null,null,null,{"$f":"IF(F4351=\"\",\"\",IF(H4351<>\"\",\"OK\",IF(AND(#REF!<>\"\",#REF!<TODAY()),\"Retard\",\"Attente de Livraison\")))","v":""}]
[null,null,null,null,null,null,null,null,{"$f":"IF(F4352=\"\",\"\",IF(H4352<>\"\",\"OK\",IF(AND(#REF!<>\"\",#REF!<TODAY()),\"Retard\",\"Attente de Livraison\")))","v":""}]
[null,null,null,null,null,null,null,null,{"$f":"IF(F4353=\"\",\"\",IF(H4353<>\"\",\"OK\",IF(AND(#REF!<>\"\",#REF!<TODAY()),\"Retard\",\"Attente de Livraison\")))","v":""}]
[null,null,null,null,null,null,null,null,{"$f":"IF(F4354=\"\",\"\",IF(H4354<>\"\",\"OK\",IF(AND(#REF!<>\"\",#REF!<TODAY()),\"Retard\",\"Attente de Livraison\")))","v":""}]
[null,null,null,null,null,null,null,null,{"$f":"IF(F4355=\"\",\"\",IF(H4355<>\"\",\"OK\",IF(AND(#REF!<>\"\",#REF!<TODAY()),\"Retard\",\"Attente de Livraison\")))","v":""}]
[null,null,null,null,null,null,null,null,{"$f":"IF(F4356=\"\",\"\",IF(H4356<>\"\",\"OK\",IF(AND(#REF!<>\"\",#REF!<TODAY()),\"Retard\",\"Attente de Livraison\")))","v":""}]
[null,null,null,null,null,null,null,null,{"$f":"IF(F4357=\"\",\"\",IF(H4357<>\"\",\"OK\",IF(AND(#REF!<>\"\",#REF!<TODAY()),\"Retard\",\"Attente de Livraison\")))","v":""}]
[null,null,null,null,null,null,null,null,{"$f":"IF(F4358=\"\",\"\",IF(H4358<>\"\",\"OK\",IF(AND(#REF!<>\"\",#REF!<TODAY()),\"Retard\",\"Attente de Livraison\")))","v":""}]
[null,null,null,null,null,null,null,null,{"$f":"IF(F4359=\"\",\"\",IF(H4359<>\"\",\"OK\",IF(AND(#REF!<>\"\",#REF!<TODAY()),\"Retard\",\"Attente de Livraison\")))","v":""}]
[null,null,null,null,null,null,null,null,{"$f":"IF(F4360=\"\",\"\",IF(H4360<>\"\",\"OK\",IF(AND(#REF!<>\"\",#REF!<TODAY()),\"Retard\",\"Attente de Livraison\")))","v":""}]
[null,null,null,null,null,null,null,null,{"$f":"IF(F4361=\"\",\"\",IF(H4361<>\"\",\"OK\",IF(AND(#REF!<>\"\",#REF!<TODAY()),\"Retard\",\"Attente de Livraison\")))","v":""}]
[null,null,null,null,null,null,null,null,{"$f":"IF(F4362=\"\",\"\",IF(H4362<>\"\",\"OK\",IF(AND(#REF!<>\"\",#REF!<TODAY()),\"Retard\",\"Attente de Livraison\")))","v":""}]
[null,null,null,null,null,null,null,null,{"$f":"IF(F4363=\"\",\"\",IF(H4363<>\"\",\"OK\",IF(AND(#REF!<>\"\",#REF!<TODAY()),\"Retard\",\"Attente de Livraison\")))","v":""}]
[null,null,null,null,null,null,null,null,{"$f":"IF(F4364=\"\",\"\",IF(H4364<>\"\",\"OK\",IF(AND(#REF!<>\"\",#REF!<TODAY()),\"Retard\",\"Attente de Livraison\")))","v":""}]
[null,null,null,null,null,null,null,null,{"$f":"IF(F4365=\"\",\"\",IF(H4365<>\"\",\"OK\",IF(AND(#REF!<>\"\",#REF!<TODAY()),\"Retard\",\"Attente de Livraison\")))","v":""}]
[null,null,null,null,null,null,null,null,{"$f":"IF(F4366=\"\",\"\",IF(H4366<>\"\",\"OK\",IF(AND(#REF!<>\"\",#REF!<TODAY()),\"Retard\",\"Attente de Livraison\")))","v":""}]
[null,null,null,null,null,null,null,null,{"$f":"IF(F4367=\"\",\"\",IF(H4367<>\"\",\"OK\",IF(AND(#REF!<>\"\",#REF!<TODAY()),\"Retard\",\"Attente de Livraison\")))","v":""}]
[null,null,null,null,null,null,null,null,{"$f":"IF(F4368=\"\",\"\",IF(H4368<>\"\",\"OK\",IF(AND(#REF!<>\"\",#REF!<TODAY()),\"Retard\",\"Attente de Livraison\")))","v":""}]
[null,null,null,null,null,null,null,null,{"$f":"IF(F4369=\"\",\"\",IF(H4369<>\"\",\"OK\",IF(AND(#REF!<>\"\",#REF!<TODAY()),\"Retard\",\"Attente de Livraison\")))","v":""}]
[null,null,null,null,null,null,null,null,{"$f":"IF(F4370=\"\",\"\",IF(H4370<>\"\",\"OK\",IF(AND(#REF!<>\"\",#REF!<TODAY()),\"Retard\",\"Attente de Livraison\")))","v":""}]
[null,null,null,null,null,null,null,null,{"$f":"IF(F4371=\"\",\"\",IF(H4371<>\"\",\"OK\",IF(AND(#REF!<>\"\",#REF!<TODAY()),\"Retard\",\"Attente de Livraison\")))","v":""}]
[null,null,null,null,null,null,null,null,{"$f":"IF(F4372=\"\",\"\",IF(H4372<>\"\",\"OK\",IF(AND(#REF!<>\"\",#REF!<TODAY()),\"Retard\",\"Attente de Livraison\")))","v":""}]
[null,null,null,null,null,null,null,null,{"$f":"IF(F4373=\"\",\"\",IF(H4373<>\"\",\"OK\",IF(AND(#REF!<>\"\",#REF!<TODAY()),\"Retard\",\"Attente de Livraison\")))","v":""}]
[null,null,null,null,null,null,null,null,{"$f":"IF(F4374=\"\",\"\",IF(H4374<>\"\",\"OK\",IF(AND(#REF!<>\"\",#REF!<TODAY()),\"Retard\",\"Attente de Livraison\")))","v":""}]
[null,null,null,null,null,null,null,null,{"$f":"IF(F4375=\"\",\"\",IF(H4375<>\"\",\"OK\",IF(AND(#REF!<>\"\",#REF!<TODAY()),\"Retard\",\"Attente de Livraison\")))","v":""}]
[null,null,null,null,null,null,null,null,{"$f":"IF(F4376=\"\",\"\",IF(H4376<>\"\",\"OK\",IF(AND(#REF!<>\"\",#REF!<TODAY()),\"Retard\",\"Attente de Livraison\")))","v":""}]
[null,null,null,null,null,null,null,null,{"$f":"IF(F4377=\"\",\"\",IF(H4377<>\"\",\"OK\",IF(AND(#REF!<>\"\",#REF!<TODAY()),\"Retard\",\"Attente de Livraison\")))","v":""}]
[null,null,null,null,null,null,null,null,{"$f":"IF(F4378=\"\",\"\",IF(H4378<>\"\",\"OK\",IF(AND(#REF!<>\"\",#REF!<TODAY()),\"Retard\",\"Attente de Livraison\")))","v":""}]
[null,null,null,null,null,null,null,null,{"$f":"IF(F4379=\"\",\"\",IF(H4379<>\"\",\"OK\",IF(AND(#REF!<>\"\",#REF!<TODAY()),\"Retard\",\"Attente de Livraison\")))","v":""}]
[null,null,null,null,null,null,null,null,{"$f":"IF(F4380=\"\",\"\",IF(H4380<>\"\",\"OK\",IF(AND(#REF!<>\"\",#REF!<TODAY()),\"Retard\",\"Attente de Livraison\")))","v":""}]
[null,null,null,null,null,null,null,null,{"$f":"IF(F4381=\"\",\"\",IF(H4381<>\"\",\"OK\",IF(AND(#REF!<>\"\",#REF!<TODAY()),\"Retard\",\"Attente de Livraison\")))","v":""}]
[null,null,null,null,null,null,null,null,{"$f":"IF(F4382=\"\",\"\",IF(H4382<>\"\",\"OK\",IF(AND(#REF!<>\"\",#REF!<TODAY()),\"Retard\",\"Attente de Livraison\")))","v":""}]
[null,null,null,null,null,null,null,null,{"$f":"IF(F4383=\"\",\"\",IF(H4383<>\"\",\"OK\",IF(AND(#REF!<>\"\",#REF!<TODAY()),\"Retard\",\"Attente de Livraison\")))","v":""}]
[null,null,null,null,null,null,null,null,{"$f":"IF(F4384=\"\",\"\",IF(H4384<>\"\",\"OK\",IF(AND(#REF!<>\"\",#REF!<TODAY()),\"Retard\",\"Attente de Livraison\")))","v":""}]
[null,null,null,null,null,null,null,null,{"$f":"IF(F4385=\"\",\"\",IF(H4385<>\"\",\"OK\",IF(AND(#REF!<>\"\",#REF!<TODAY()),\"Retard\",\"Attente de Livraison\")))","v":""}]
[null,null,null,null,null,null,null,null,{"$f":"IF(F4386=\"\",\"\",IF(H4386<>\"\",\"OK\",IF(AND(#REF!<>\"\",#REF!<TODAY()),\"Retard\",\"Attente de Livraison\")))","v":""}]
[null,null,null,null,null,null,null,null,{"$f":"IF(F4387=\"\",\"\",IF(H4387<>\"\",\"OK\",IF(AND(#REF!<>\"\",#REF!<TODAY()),\"Retard\",\"Attente de Livraison\")))","v":""}]
[null,null,null,null,null,null,null,null,{"$f":"IF(F4388=\"\",\"\",IF(H4388<>\"\",\"OK\",IF(AND(#REF!<>\"\",#REF!<TODAY()),\"Retard\",\"Attente de Livraison\")))","v":""}]
[null,null,null,null,null,null,null,null,{"$f":"IF(F4389=\"\",\"\",IF(H4389<>\"\",\"OK\",IF(AND(#REF!<>\"\",#REF!<TODAY()),\"Retard\",\"Attente de Livraison\")))","v":""}]
[null,null,null,null,null,null,null,null,{"$f":"IF(F4390=\"\",\"\",IF(H4390<>\"\",\"OK\",IF(AND(#REF!<>\"\",#REF!<TODAY()),\"Retard\",\"Attente de Livraison\")))","v":""}]
[null,null,null,null,null,null,null,null,{"$f":"IF(F4391=\"\",\"\",IF(H4391<>\"\",\"OK\",IF(AND(#REF!<>\"\",#REF!<TODAY()),\"Retard\",\"Attente de Livraison\")))","v":""}]
[null,null,null,null,null,null,null,null,{"$f":"IF(F4392=\"\",\"\",IF(H4392<>\"\",\"OK\",IF(AND(#REF!<>\"\",#REF!<TODAY()),\"Retard\",\"Attente de Livraison\")))","v":""}]
[null,null,null,null,null,null,null,null,{"$f":"IF(F4393=\"\",\"\",IF(H4393<>\"\",\"OK\",IF(AND(#REF!<>\"\",#REF!<TODAY()),\"Retard\",\"Attente de Livraison\")))","v":""}]
[null,null,null,null,null,null,null,null,{"$f":"IF(F4394=\"\",\"\",IF(H4394<>\"\",\"OK\",IF(AND(#REF!<>\"\",#REF!<TODAY()),\"Retard\",\"Attente de Livraison\")))","v":""}]
[null,null,null,null,null,null,null,null,{"$f":"IF(F4395=\"\",\"\",IF(H4395<>\"\",\"OK\",IF(AND(#REF!<>\"\",#REF!<TODAY()),\"Retard\",\"Attente de Livraison\")))","v":""}]
[null,null,null,null,null,null,null,null,{"$f":"IF(F4396=\"\",\"\",IF(H4396<>\"\",\"OK\",IF(AND(#REF!<>\"\",#REF!<TODAY()),\"Retard\",\"Attente de Livraison\")))","v":""}]
[null,null,null,null,null,null,null,null,{"$f":"IF(F4397=\"\",\"\",IF(H4397<>\"\",\"OK\",IF(AND(#REF!<>\"\",#REF!<TODAY()),\"Retard\",\"Attente de Livraison\")))","v":""}]
[null,null,null,null,null,null,null,null,{"$f":"IF(F4398=\"\",\"\",IF(H4398<>\"\",\"OK\",IF(AND(#REF!<>\"\",#REF!<TODAY()),\"Retard\",\"Attente de Livraison\")))","v":""}]
[null,null,null,null,null,null,null,null,{"$f":"IF(F4399=\"\",\"\",IF(H4399<>\"\",\"OK\",IF(AND(#REF!<>\"\",#REF!<TODAY()),\"Retard\",\"Attente de Livraison\")))","v":""}]
[null,null,null,null,null,null,null,null,{"$f":"IF(F4400=\"\",\"\",IF(H4400<>\"\",\"OK\",IF(AND(#REF!<>\"\",#REF!<TODAY()),\"Retard\",\"Attente de Livraison\")))","v":""}]
[null,null,null,null,null,null,null,null,{"$f":"IF(F4401=\"\",\"\",IF(H4401<>\"\",\"OK\",IF(AND(#REF!<>\"\",#REF!<TODAY()),\"Retard\",\"Attente de Livraison\")))","v":""}]
[null,null,null,null,null,null,null,null,{"$f":"IF(F4402=\"\",\"\",IF(H4402<>\"\",\"OK\",IF(AND(#REF!<>\"\",#REF!<TODAY()),\"Retard\",\"Attente de Livraison\")))","v":""}]
[null,null,null,null,null,null,null,null,{"$f":"IF(F4403=\"\",\"\",IF(H4403<>\"\",\"OK\",IF(AND(#REF!<>\"\",#REF!<TODAY()),\"Retard\",\"Attente de Livraison\")))","v":""}]
[null,null,null,null,null,null,null,null,{"$f":"IF(F4404=\"\",\"\",IF(H4404<>\"\",\"OK\",IF(AND(#REF!<>\"\",#REF!<TODAY()),\"Retard\",\"Attente de Livraison\")))","v":""}]
[null,null,null,null,null,null,null,null,{"$f":"IF(F4405=\"\",\"\",IF(H4405<>\"\",\"OK\",IF(AND(#REF!<>\"\",#REF!<TODAY()),\"Retard\",\"Attente de Livraison\")))","v":""}]
[null,null,null,null,null,null,null,null,{"$f":"IF(F4406=\"\",\"\",IF(H4406<>\"\",\"OK\",IF(AND(#REF!<>\"\",#REF!<TODAY()),\"Retard\",\"Attente de Livraison\")))","v":""}]
[null,null,null,null,null,null,null,null,{"$f":"IF(F4407=\"\",\"\",IF(H4407<>\"\",\"OK\",IF(AND(#REF!<>\"\",#REF!<TODAY()),\"Retard\",\"Attente de Livraison\")))","v":""}]
[null,null,null,null,null,null,null,null,{"$f":"IF(F4408=\"\",\"\",IF(H4408<>\"\",\"OK\",IF(AND(#REF!<>\"\",#REF!<TODAY()),\"Retard\",\"Attente de Livraison\")))","v":""}]
[null,null,null,null,null,null,null,null,{"$f":"IF(F4409=\"\",\"\",IF(H4409<>\"\",\"OK\",IF(AND(#REF!<>\"\",#REF!<TODAY()),\"Retard\",\"Attente de Livraison\")))","v":""}]
[null,null,null,null,null,null,null,null,{"$f":"IF(F4410=\"\",\"\",IF(H4410<>\"\",\"OK\",IF(AND(#REF!<>\"\",#REF!<TODAY()),\"Retard\",\"Attente de Livraison\")))","v":""}]
[null,null,null,null,null,null,null,null,{"$f":"IF(F4411=\"\",\"\",IF(H4411<>\"\",\"OK\",IF(AND(#REF!<>\"\",#REF!<TODAY()),\"Retard\",\"Attente de Livraison\")))","v":""}]
[null,null,null,null,null,null,null,null,{"$f":"IF(F4412=\"\",\"\",IF(H4412<>\"\",\"OK\",IF(AND(#REF!<>\"\",#REF!<TODAY()),\"Retard\",\"Attente de Livraison\")))","v":""}]
[null,null,null,null,null,null,null,null,{"$f":"IF(F4413=\"\",\"\",IF(H4413<>\"\",\"OK\",IF(AND(#REF!<>\"\",#REF!<TODAY()),\"Retard\",\"Attente de Livraison\")))","v":""}]
[null,null,null,null,null,null,null,null,{"$f":"IF(F4414=\"\",\"\",IF(H4414<>\"\",\"OK\",IF(AND(#REF!<>\"\",#REF!<TODAY()),\"Retard\",\"Attente de Livraison\")))","v":""}]
[null,null,null,null,null,null,null,null,{"$f":"IF(F4415=\"\",\"\",IF(H4415<>\"\",\"OK\",IF(AND(#REF!<>\"\",#REF!<TODAY()),\"Retard\",\"Attente de Livraison\")))","v":""}]
[null,null,null,null,null,null,null,null,{"$f":"IF(F4416=\"\",\"\",IF(H4416<>\"\",\"OK\",IF(AND(#REF!<>\"\",#REF!<TODAY()),\"Retard\",\"Attente de Livraison\")))","v":""}]
[null,null,null,null,null,null,null,null,{"$f":"IF(F4417=\"\",\"\",IF(H4417<>\"\",\"OK\",IF(AND(#REF!<>\"\",#REF!<TODAY()),\"Retard\",\"Attente de Livraison\")))","v":""}]
[null,null,null,null,null,null,null,null,{"$f":"IF(F4418=\"\",\"\",IF(H4418<>\"\",\"OK\",IF(AND(#REF!<>\"\",#REF!<TODAY()),\"Retard\",\"Attente de Livraison\")))","v":""}]
[null,null,null,null,null,null,null,null,{"$f":"IF(F4419=\"\",\"\",IF(H4419<>\"\",\"OK\",IF(AND(#REF!<>\"\",#REF!<TODAY()),\"Retard\",\"Attente de Livraison\")))","v":""}]
[null,null,null,null,null,null,null,null,{"$f":"IF(F4420=\"\",\"\",IF(H4420<>\"\",\"OK\",IF(AND(#REF!<>\"\",#REF!<TODAY()),\"Retard\",\"Attente de Livraison\")))","v":""}]
[null,null,null,null,null,null,null,null,{"$f":"IF(F4421=\"\",\"\",IF(H4421<>\"\",\"OK\",IF(AND(#REF!<>\"\",#REF!<TODAY()),\"Retard\",\"Attente de Livraison\")))","v":""}]
[null,null,null,null,null,null,null,null,{"$f":"IF(F4422=\"\",\"\",IF(H4422<>\"\",\"OK\",IF(AND(#REF!<>\"\",#REF!<TODAY()),\"Retard\",\"Attente de Livraison\")))","v":""}]
[null,null,null,null,null,null,null,null,{"$f":"IF(F4423=\"\",\"\",IF(H4423<>\"\",\"OK\",IF(AND(#REF!<>\"\",#REF!<TODAY()),\"Retard\",\"Attente de Livraison\")))","v":""}]
[null,null,null,null,null,null,null,null,{"$f":"IF(F4424=\"\",\"\",IF(H4424<>\"\",\"OK\",IF(AND(#REF!<>\"\",#REF!<TODAY()),\"Retard\",\"Attente de Livraison\")))","v":""}]
[null,null,null,null,null,null,null,null,{"$f":"IF(F4425=\"\",\"\",IF(H4425<>\"\",\"OK\",IF(AND(#REF!<>\"\",#REF!<TODAY()),\"Retard\",\"Attente de Livraison\")))","v":""}]
[null,null,null,null,null,null,null,null,{"$f":"IF(F4426=\"\",\"\",IF(H4426<>\"\",\"OK\",IF(AND(#REF!<>\"\",#REF!<TODAY()),\"Retard\",\"Attente de Livraison\")))","v":""}]
[null,null,null,null,null,null,null,null,{"$f":"IF(F4427=\"\",\"\",IF(H4427<>\"\",\"OK\",IF(AND(#REF!<>\"\",#REF!<TODAY()),\"Retard\",\"Attente de Livraison\")))","v":""}]
[null,null,null,null,null,null,null,null,{"$f":"IF(F4428=\"\",\"\",IF(H4428<>\"\",\"OK\",IF(AND(#REF!<>\"\",#REF!<TODAY()),\"Retard\",\"Attente de Livraison\")))","v":""}]
[null,null,null,null,null,null,null,null,{"$f":"IF(F4429=\"\",\"\",IF(H4429<>\"\",\"OK\",IF(AND(#REF!<>\"\",#REF!<TODAY()),\"Retard\",\"Attente de Livraison\")))","v":""}]
[null,null,null,null,null,null,null,null,{"$f":"IF(F4430=\"\",\"\",IF(H4430<>\"\",\"OK\",IF(AND(#REF!<>\"\",#REF!<TODAY()),\"Retard\",\"Attente de Livraison\")))","v":""}]
[null,null,null,null,null,null,null,null,{"$f":"IF(F4431=\"\",\"\",IF(H4431<>\"\",\"OK\",IF(AND(#REF!<>\"\",#REF!<TODAY()),\"Retard\",\"Attente de Livraison\")))","v":""}]
[null,null,null,null,null,null,null,null,{"$f":"IF(F4432=\"\",\"\",IF(H4432<>\"\",\"OK\",IF(AND(#REF!<>\"\",#REF!<TODAY()),\"Retard\",\"Attente de Livraison\")))","v":""}]
[null,null,null,null,null,null,null,null,{"$f":"IF(F4433=\"\",\"\",IF(H4433<>\"\",\"OK\",IF(AND(#REF!<>\"\",#REF!<TODAY()),\"Retard\",\"Attente de Livraison\")))","v":""}]
[null,null,null,null,null,null,null,null,{"$f":"IF(F4434=\"\",\"\",IF(H4434<>\"\",\"OK\",IF(AND(#REF!<>\"\",#REF!<TODAY()),\"Retard\",\"Attente de Livraison\")))","v":""}]
[null,null,null,null,null,null,null,null,{"$f":"IF(F4435=\"\",\"\",IF(H4435<>\"\",\"OK\",IF(AND(#REF!<>\"\",#REF!<TODAY()),\"Retard\",\"Attente de Livraison\")))","v":""}]
[null,null,null,null,null,null,null,null,{"$f":"IF(F4436=\"\",\"\",IF(H4436<>\"\",\"OK\",IF(AND(#REF!<>\"\",#REF!<TODAY()),\"Retard\",\"Attente de Livraison\")))","v":""}]
[null,null,null,null,null,null,null,null,{"$f":"IF(F4437=\"\",\"\",IF(H4437<>\"\",\"OK\",IF(AND(#REF!<>\"\",#REF!<TODAY()),\"Retard\",\"Attente de Livraison\")))","v":""}]
[null,null,null,null,null,null,null,null,{"$f":"IF(F4438=\"\",\"\",IF(H4438<>\"\",\"OK\",IF(AND(#REF!<>\"\",#REF!<TODAY()),\"Retard\",\"Attente de Livraison\")))","v":""}]
[null,null,null,null,null,null,null,null,{"$f":"IF(F4439=\"\",\"\",IF(H4439<>\"\",\"OK\",IF(AND(#REF!<>\"\",#REF!<TODAY()),\"Retard\",\"Attente de Livraison\")))","v":""}]
[null,null,null,null,null,null,null,null,{"$f":"IF(F4440=\"\",\"\",IF(H4440<>\"\",\"OK\",IF(AND(#REF!<>\"\",#REF!<TODAY()),\"Retard\",\"Attente de Livraison\")))","v":""}]
[null,null,null,null,null,null,null,null,{"$f":"IF(F4441=\"\",\"\",IF(H4441<>\"\",\"OK\",IF(AND(#REF!<>\"\",#REF!<TODAY()),\"Retard\",\"Attente de Livraison\")))","v":""}]
[null,null,null,null,null,null,null,null,{"$f":"IF(F4442=\"\",\"\",IF(H4442<>\"\",\"OK\",IF(AND(#REF!<>\"\",#REF!<TODAY()),\"Retard\",\"Attente de Livraison\")))","v":""}]
[null,null,null,null,null,null,null,null,{"$f":"IF(F4443=\"\",\"\",IF(H4443<>\"\",\"OK\",IF(AND(#REF!<>\"\",#REF!<TODAY()),\"Retard\",\"Attente de Livraison\")))","v":""}]
[null,null,null,null,null,null,null,null,{"$f":"IF(F4444=\"\",\"\",IF(H4444<>\"\",\"OK\",IF(AND(#REF!<>\"\",#REF!<TODAY()),\"Retard\",\"Attente de Livraison\")))","v":""}]
[null,null,null,null,null,null,null,null,{"$f":"IF(F4445=\"\",\"\",IF(H4445<>\"\",\"OK\",IF(AND(#REF!<>\"\",#REF!<TODAY()),\"Retard\",\"Attente de Livraison\")))","v":""}]
[null,null,null,null,null,null,null,null,{"$f":"IF(F4446=\"\",\"\",IF(H4446<>\"\",\"OK\",IF(AND(#REF!<>\"\",#REF!<TODAY()),\"Retard\",\"Attente de Livraison\")))","v":""}]
[null,null,null,null,null,null,null,null,{"$f":"IF(F4447=\"\",\"\",IF(H4447<>\"\",\"OK\",IF(AND(#REF!<>\"\",#REF!<TODAY()),\"Retard\",\"Attente de Livraison\")))","v":""}]
[null,null,null,null,null,null,null,null,{"$f":"IF(F4448=\"\",\"\",IF(H4448<>\"\",\"OK\",IF(AND(#REF!<>\"\",#REF!<TODAY()),\"Retard\",\"Attente de Livraison\")))","v":""}]
[null,null,null,null,null,null,null,null,{"$f":"IF(F4449=\"\",\"\",IF(H4449<>\"\",\"OK\",IF(AND(#REF!<>\"\",#REF!<TODAY()),\"Retard\",\"Attente de Livraison\")))","v":""}]
[null,null,null,null,null,null,null,null,{"$f":"IF(F4450=\"\",\"\",IF(H4450<>\"\",\"OK\",IF(AND(#REF!<>\"\",#REF!<TODAY()),\"Retard\",\"Attente de Livraison\")))","v":""}]
[null,null,null,null,null,null,null,null,{"$f":"IF(F4451=\"\",\"\",IF(H4451<>\"\",\"OK\",IF(AND(#REF!<>\"\",#REF!<TODAY()),\"Retard\",\"Attente de Livraison\")))","v":""}]
[null,null,null,null,null,null,null,null,{"$f":"IF(F4452=\"\",\"\",IF(H4452<>\"\",\"OK\",IF(AND(#REF!<>\"\",#REF!<TODAY()),\"Retard\",\"Attente de Livraison\")))","v":""}]
[null,null,null,null,null,null,null,null,{"$f":"IF(F4453=\"\",\"\",IF(H4453<>\"\",\"OK\",IF(AND(#REF!<>\"\",#REF!<TODAY()),\"Retard\",\"Attente de Livraison\")))","v":""}]
[null,null,null,null,null,null,null,null,{"$f":"IF(F4454=\"\",\"\",IF(H4454<>\"\",\"OK\",IF(AND(#REF!<>\"\",#REF!<TODAY()),\"Retard\",\"Attente de Livraison\")))","v":""}]
[null,null,null,null,null,null,null,null,{"$f":"IF(F4455=\"\",\"\",IF(H4455<>\"\",\"OK\",IF(AND(#REF!<>\"\",#REF!<TODAY()),\"Retard\",\"Attente de Livraison\")))","v":""}]
[null,null,null,null,null,null,null,null,{"$f":"IF(F4456=\"\",\"\",IF(H4456<>\"\",\"OK\",IF(AND(#REF!<>\"\",#REF!<TODAY()),\"Retard\",\"Attente de Livraison\")))","v":""}]
[null,null,null,null,null,null,null,null,{"$f":"IF(F4457=\"\",\"\",IF(H4457<>\"\",\"OK\",IF(AND(#REF!<>\"\",#REF!<TODAY()),\"Retard\",\"Attente de Livraison\")))","v":""}]
[null,null,null,null,null,null,null,null,{"$f":"IF(F4458=\"\",\"\",IF(H4458<>\"\",\"OK\",IF(AND(#REF!<>\"\",#REF!<TODAY()),\"Retard\",\"Attente de Livraison\")))","v":""}]
[null,null,null,null,null,null,null,null,{"$f":"IF(F4459=\"\",\"\",IF(H4459<>\"\",\"OK\",IF(AND(#REF!<>\"\",#REF!<TODAY()),\"Retard\",\"Attente de Livraison\")))","v":""}]
[null,null,null,null,null,null,null,null,{"$f":"IF(F4460=\"\",\"\",IF(H4460<>\"\",\"OK\",IF(AND(#REF!<>\"\",#REF!<TODAY()),\"Retard\",\"Attente de Livraison\")))","v":""}]
[null,null,null,null,null,null,null,null,{"$f":"IF(F4461=\"\",\"\",IF(H4461<>\"\",\"OK\",IF(AND(#REF!<>\"\",#REF!<TODAY()),\"Retard\",\"Attente de Livraison\")))","v":""}]
[null,null,null,null,null,null,null,null,{"$f":"IF(F4462=\"\",\"\",IF(H4462<>\"\",\"OK\",IF(AND(#REF!<>\"\",#REF!<TODAY()),\"Retard\",\"Attente de Livraison\")))","v":""}]
[null,null,null,null,null,null,null,null,{"$f":"IF(F4463=\"\",\"\",IF(H4463<>\"\",\"OK\",IF(AND(#REF!<>\"\",#REF!<TODAY()),\"Retard\",\"Attente de Livraison\")))","v":""}]
[null,null,null,null,null,null,null,null,{"$f":"IF(F4464=\"\",\"\",IF(H4464<>\"\",\"OK\",IF(AND(#REF!<>\"\",#REF!<TODAY()),\"Retard\",\"Attente de Livraison\")))","v":""}]
[null,null,null,null,null,null,null,null,{"$f":"IF(F4465=\"\",\"\",IF(H4465<>\"\",\"OK\",IF(AND(#REF!<>\"\",#REF!<TODAY()),\"Retard\",\"Attente de Livraison\")))","v":""}]
[null,null,null,null,null,null,null,null,{"$f":"IF(F4466=\"\",\"\",IF(H4466<>\"\",\"OK\",IF(AND(#REF!<>\"\",#REF!<TODAY()),\"Retard\",\"Attente de Livraison\")))","v":""}]
[null,null,null,null,null,null,null,null,{"$f":"IF(F4467=\"\",\"\",IF(H4467<>\"\",\"OK\",IF(AND(#REF!<>\"\",#REF!<TODAY()),\"Retard\",\"Attente de Livraison\")))","v":""}]
[null,null,null,null,null,null,null,null,{"$f":"IF(F4468=\"\",\"\",IF(H4468<>\"\",\"OK\",IF(AND(#REF!<>\"\",#REF!<TODAY()),\"Retard\",\"Attente de Livraison\")))","v":""}]
[null,null,null,null,null,null,null,null,{"$f":"IF(F4469=\"\",\"\",IF(H4469<>\"\",\"OK\",IF(AND(#REF!<>\"\",#REF!<TODAY()),\"Retard\",\"Attente de Livraison\")))","v":""}]
[null,null,null,null,null,null,null,null,{"$f":"IF(F4470=\"\",\"\",IF(H4470<>\"\",\"OK\",IF(AND(#REF!<>\"\",#REF!<TODAY()),\"Retard\",\"Attente de Livraison\")))","v":""}]
[null,null,null,null,null,null,null,null,{"$f":"IF(F4471=\"\",\"\",IF(H4471<>\"\",\"OK\",IF(AND(#REF!<>\"\",#REF!<TODAY()),\"Retard\",\"Attente de Livraison\")))","v":""}]
[null,null,null,null,null,null,null,null,{"$f":"IF(F4472=\"\",\"\",IF(H4472<>\"\",\"OK\",IF(AND(#REF!<>\"\",#REF!<TODAY()),\"Retard\",\"Attente de Livraison\")))","v":""}]
[null,null,null,null,null,null,null,null,{"$f":"IF(F4473=\"\",\"\",IF(H4473<>\"\",\"OK\",IF(AND(#REF!<>\"\",#REF!<TODAY()),\"Retard\",\"Attente de Livraison\")))","v":""}]
[null,null,null,null,null,null,null,null,{"$f":"IF(F4474=\"\",\"\",IF(H4474<>\"\",\"OK\",IF(AND(#REF!<>\"\",#REF!<TODAY()),\"Retard\",\"Attente de Livraison\")))","v":""}]
[null,null,null,null,null,null,null,null,{"$f":"IF(F4475=\"\",\"\",IF(H4475<>\"\",\"OK\",IF(AND(#REF!<>\"\",#REF!<TODAY()),\"Retard\",\"Attente de Livraison\")))","v":""}]
[null,null,null,null,null,null,null,null,{"$f":"IF(F4476=\"\",\"\",IF(H4476<>\"\",\"OK\",IF(AND(#REF!<>\"\",#REF!<TODAY()),\"Retard\",\"Attente de Livraison\")))","v":""}]
[null,null,null,null,null,null,null,null,{"$f":"IF(F4477=\"\",\"\",IF(H4477<>\"\",\"OK\",IF(AND(#REF!<>\"\",#REF!<TODAY()),\"Retard\",\"Attente de Livraison\")))","v":""}]
[null,null,null,null,null,null,null,null,{"$f":"IF(F4478=\"\",\"\",IF(H4478<>\"\",\"OK\",IF(AND(#REF!<>\"\",#REF!<TODAY()),\"Retard\",\"Attente de Livraison\")))","v":""}]
[null,null,null,null,null,null,null,null,{"$f":"IF(F4479=\"\",\"\",IF(H4479<>\"\",\"OK\",IF(AND(#REF!<>\"\",#REF!<TODAY()),\"Retard\",\"Attente de Livraison\")))","v":""}]
[null,null,null,null,null,null,null,null,{"$f":"IF(F4480=\"\",\"\",IF(H4480<>\"\",\"OK\",IF(AND(#REF!<>\"\",#REF!<TODAY()),\"Retard\",\"Attente de Livraison\")))","v":""}]
[null,null,null,null,null,null,null,null,{"$f":"IF(F4481=\"\",\"\",IF(H4481<>\"\",\"OK\",IF(AND(#REF!<>\"\",#REF!<TODAY()),\"Retard\",\"Attente de Livraison\")))","v":""}]
[null,null,null,null,null,null,null,null,{"$f":"IF(F4482=\"\",\"\",IF(H4482<>\"\",\"OK\",IF(AND(#REF!<>\"\",#REF!<TODAY()),\"Retard\",\"Attente de Livraison\")))","v":""}]
[null,null,null,null,null,null,null,null,{"$f":"IF(F4483=\"\",\"\",IF(H4483<>\"\",\"OK\",IF(AND(#REF!<>\"\",#REF!<TODAY()),\"Retard\",\"Attente de Livraison\")))","v":""}]
[null,null,null,null,null,null,null,null,{"$f":"IF(F4484=\"\",\"\",IF(H4484<>\"\",\"OK\",IF(AND(#REF!<>\"\",#REF!<TODAY()),\"Retard\",\"Attente de Livraison\")))","v":""}]
[null,null,null,null,null,null,null,null,{"$f":"IF(F4485=\"\",\"\",IF(H4485<>\"\",\"OK\",IF(AND(#REF!<>\"\",#REF!<TODAY()),\"Retard\",\"Attente de Livraison\")))","v":""}]
[null,null,null,null,null,null,null,null,{"$f":"IF(F4486=\"\",\"\",IF(H4486<>\"\",\"OK\",IF(AND(#REF!<>\"\",#REF!<TODAY()),\"Retard\",\"Attente de Livraison\")))","v":""}]
[null,null,null,null,null,null,null,null,{"$f":"IF(F4487=\"\",\"\",IF(H4487<>\"\",\"OK\",IF(AND(#REF!<>\"\",#REF!<TODAY()),\"Retard\",\"Attente de Livraison\")))","v":""}]
[null,null,null,null,null,null,null,null,{"$f":"IF(F4488=\"\",\"\",IF(H4488<>\"\",\"OK\",IF(AND(#REF!<>\"\",#REF!<TODAY()),\"Retard\",\"Attente de Livraison\")))","v":""}]
[null,null,null,null,null,null,null,null,{"$f":"IF(F4489=\"\",\"\",IF(H4489<>\"\",\"OK\",IF(AND(#REF!<>\"\",#REF!<TODAY()),\"Retard\",\"Attente de Livraison\")))","v":""}]
[null,null,null,null,null,null,null,null,{"$f":"IF(F4490=\"\",\"\",IF(H4490<>\"\",\"OK\",IF(AND(#REF!<>\"\",#REF!<TODAY()),\"Retard\",\"Attente de Livraison\")))","v":""}]
[null,null,null,null,null,null,null,null,{"$f":"IF(F4491=\"\",\"\",IF(H4491<>\"\",\"OK\",IF(AND(#REF!<>\"\",#REF!<TODAY()),\"Retard\",\"Attente de Livraison\")))","v":""}]
[null,null,null,null,null,null,null,null,{"$f":"IF(F4492=\"\",\"\",IF(H4492<>\"\",\"OK\",IF(AND(#REF!<>\"\",#REF!<TODAY()),\"Retard\",\"Attente de Livraison\")))","v":""}]
[null,null,null,null,null,null,null,null,{"$f":"IF(F4493=\"\",\"\",IF(H4493<>\"\",\"OK\",IF(AND(#REF!<>\"\",#REF!<TODAY()),\"Retard\",\"Attente de Livraison\")))","v":""}]
[null,null,null,null,null,null,null,null,{"$f":"IF(F4494=\"\",\"\",IF(H4494<>\"\",\"OK\",IF(AND(#REF!<>\"\",#REF!<TODAY()),\"Retard\",\"Attente de Livraison\")))","v":""}]
[null,null,null,null,null,null,null,null,{"$f":"IF(F4495=\"\",\"\",IF(H4495<>\"\",\"OK\",IF(AND(#REF!<>\"\",#REF!<TODAY()),\"Retard\",\"Attente de Livraison\")))","v":""}]
[null,null,null,null,null,null,null,null,{"$f":"IF(F4496=\"\",\"\",IF(H4496<>\"\",\"OK\",IF(AND(#REF!<>\"\",#REF!<TODAY()),\"Retard\",\"Attente de Livraison\")))","v":""}]
[null,null,null,null,null,null,null,null,{"$f":"IF(F4497=\"\",\"\",IF(H4497<>\"\",\"OK\",IF(AND(#REF!<>\"\",#REF!<TODAY()),\"Retard\",\"Attente de Livraison\")))","v":""}]
[null,null,null,null,null,null,null,null,{"$f":"IF(F4498=\"\",\"\",IF(H4498<>\"\",\"OK\",IF(AND(#REF!<>\"\",#REF!<TODAY()),\"Retard\",\"Attente de Livraison\")))","v":""}]
[null,null,null,null,null,null,null,null,{"$f":"IF(F4499=\"\",\"\",IF(H4499<>\"\",\"OK\",IF(AND(#REF!<>\"\",#REF!<TODAY()),\"Retard\",\"Attente de Livraison\")))","v":""}]
[null,null,null,null,null,null,null,null,{"$f":"IF(F4500=\"\",\"\",IF(H4500<>\"\",\"OK\",IF(AND(#REF!<>\"\",#REF!<TODAY()),\"Retard\",\"Attente de Livraison\")))","v":""}]
[null,null,null,null,null,null,null,null,{"$f":"IF(F4501=\"\",\"\",IF(H4501<>\"\",\"OK\",IF(AND(#REF!<>\"\",#REF!<TODAY()),\"Retard\",\"Attente de Livraison\")))","v":""}]
[null,null,null,null,null,null,null,null,{"$f":"IF(F4502=\"\",\"\",IF(H4502<>\"\",\"OK\",IF(AND(#REF!<>\"\",#REF!<TODAY()),\"Retard\",\"Attente de Livraison\")))","v":""}]
[null,null,null,null,null,null,null,null,{"$f":"IF(F4503=\"\",\"\",IF(H4503<>\"\",\"OK\",IF(AND(#REF!<>\"\",#REF!<TODAY()),\"Retard\",\"Attente de Livraison\")))","v":""}]
[null,null,null,null,null,null,null,null,{"$f":"IF(F4504=\"\",\"\",IF(H4504<>\"\",\"OK\",IF(AND(#REF!<>\"\",#REF!<TODAY()),\"Retard\",\"Attente de Livraison\")))","v":""}]
[null,null,null,null,null,null,null,null,{"$f":"IF(F4505=\"\",\"\",IF(H4505<>\"\",\"OK\",IF(AND(#REF!<>\"\",#REF!<TODAY()),\"Retard\",\"Attente de Livraison\")))","v":""}]
[null,null,null,null,null,null,null,null,{"$f":"IF(F4506=\"\",\"\",IF(H4506<>\"\",\"OK\",IF(AND(#REF!<>\"\",#REF!<TODAY()),\"Retard\",\"Attente de Livraison\")))","v":""}]
[null,null,null,null,null,null,null,null,{"$f":"IF(F4507=\"\",\"\",IF(H4507<>\"\",\"OK\",IF(AND(#REF!<>\"\",#REF!<TODAY()),\"Retard\",\"Attente de Livraison\")))","v":""}]
[null,null,null,null,null,null,null,null,{"$f":"IF(F4508=\"\",\"\",IF(H4508<>\"\",\"OK\",IF(AND(#REF!<>\"\",#REF!<TODAY()),\"Retard\",\"Attente de Livraison\")))","v":""}]
[null,null,null,null,null,null,null,null,{"$f":"IF(F4509=\"\",\"\",IF(H4509<>\"\",\"OK\",IF(AND(#REF!<>\"\",#REF!<TODAY()),\"Retard\",\"Attente de Livraison\")))","v":""}]
[null,null,null,null,null,null,null,null,{"$f":"IF(F4510=\"\",\"\",IF(H4510<>\"\",\"OK\",IF(AND(#REF!<>\"\",#REF!<TODAY()),\"Retard\",\"Attente de Livraison\")))","v":""}]
[null,null,null,null,null,null,null,null,{"$f":"IF(F4511=\"\",\"\",IF(H4511<>\"\",\"OK\",IF(AND(#REF!<>\"\",#REF!<TODAY()),\"Retard\",\"Attente de Livraison\")))","v":""}]
[null,null,null,null,null,null,null,null,{"$f":"IF(F4512=\"\",\"\",IF(H4512<>\"\",\"OK\",IF(AND(#REF!<>\"\",#REF!<TODAY()),\"Retard\",\"Attente de Livraison\")))","v":""}]
[null,null,null,null,null,null,null,null,{"$f":"IF(F4513=\"\",\"\",IF(H4513<>\"\",\"OK\",IF(AND(#REF!<>\"\",#REF!<TODAY()),\"Retard\",\"Attente de Livraison\")))","v":""}]
[null,null,null,null,null,null,null,null,{"$f":"IF(F4514=\"\",\"\",IF(H4514<>\"\",\"OK\",IF(AND(#REF!<>\"\",#REF!<TODAY()),\"Retard\",\"Attente de Livraison\")))","v":""}]
[null,null,null,null,null,null,null,null,{"$f":"IF(F4515=\"\",\"\",IF(H4515<>\"\",\"OK\",IF(AND(#REF!<>\"\",#REF!<TODAY()),\"Retard\",\"Attente de Livraison\")))","v":""}]
[null,null,null,null,null,null,null,null,{"$f":"IF(F4516=\"\",\"\",IF(H4516<>\"\",\"OK\",IF(AND(#REF!<>\"\",#REF!<TODAY()),\"Retard\",\"Attente de Livraison\")))","v":""}]
[null,null,null,null,null,null,null,null,{"$f":"IF(F4517=\"\",\"\",IF(H4517<>\"\",\"OK\",IF(AND(#REF!<>\"\",#REF!<TODAY()),\"Retard\",\"Attente de Livraison\")))","v":""}]
[null,null,null,null,null,null,null,null,{"$f":"IF(F4518=\"\",\"\",IF(H4518<>\"\",\"OK\",IF(AND(#REF!<>\"\",#REF!<TODAY()),\"Retard\",\"Attente de Livraison\")))","v":""}]
[null,null,null,null,null,null,null,null,{"$f":"IF(F4519=\"\",\"\",IF(H4519<>\"\",\"OK\",IF(AND(#REF!<>\"\",#REF!<TODAY()),\"Retard\",\"Attente de Livraison\")))","v":""}]
[null,null,null,null,null,null,null,null,{"$f":"IF(F4520=\"\",\"\",IF(H4520<>\"\",\"OK\",IF(AND(#REF!<>\"\",#REF!<TODAY()),\"Retard\",\"Attente de Livraison\")))","v":""}]
[null,null,null,null,null,null,null,null,{"$f":"IF(F4521=\"\",\"\",IF(H4521<>\"\",\"OK\",IF(AND(#REF!<>\"\",#REF!<TODAY()),\"Retard\",\"Attente de Livraison\")))","v":""}]
[null,null,null,null,null,null,null,null,{"$f":"IF(F4522=\"\",\"\",IF(H4522<>\"\",\"OK\",IF(AND(#REF!<>\"\",#REF!<TODAY()),\"Retard\",\"Attente de Livraison\")))","v":""}]
[null,null,null,null,null,null,null,null,{"$f":"IF(F4523=\"\",\"\",IF(H4523<>\"\",\"OK\",IF(AND(#REF!<>\"\",#REF!<TODAY()),\"Retard\",\"Attente de Livraison\")))","v":""}]
[null,null,null,null,null,null,null,null,{"$f":"IF(F4524=\"\",\"\",IF(H4524<>\"\",\"OK\",IF(AND(#REF!<>\"\",#REF!<TODAY()),\"Retard\",\"Attente de Livraison\")))","v":""}]
[null,null,null,null,null,null,null,null,{"$f":"IF(F4525=\"\",\"\",IF(H4525<>\"\",\"OK\",IF(AND(#REF!<>\"\",#REF!<TODAY()),\"Retard\",\"Attente de Livraison\")))","v":""}]
[null,null,null,null,null,null,null,null,{"$f":"IF(F4526=\"\",\"\",IF(H4526<>\"\",\"OK\",IF(AND(#REF!<>\"\",#REF!<TODAY()),\"Retard\",\"Attente de Livraison\")))","v":""}]
[null,null,null,null,null,null,null,null,{"$f":"IF(F4527=\"\",\"\",IF(H4527<>\"\",\"OK\",IF(AND(#REF!<>\"\",#REF!<TODAY()),\"Retard\",\"Attente de Livraison\")))","v":""}]
[null,null,null,null,null,null,null,null,{"$f":"IF(F4528=\"\",\"\",IF(H4528<>\"\",\"OK\",IF(AND(#REF!<>\"\",#REF!<TODAY()),\"Retard\",\"Attente de Livraison\")))","v":""}]
[null,null,null,null,null,null,null,null,{"$f":"IF(F4529=\"\",\"\",IF(H4529<>\"\",\"OK\",IF(AND(#REF!<>\"\",#REF!<TODAY()),\"Retard\",\"Attente de Livraison\")))","v":""}]
[null,null,null,null,null,null,null,null,{"$f":"IF(F4530=\"\",\"\",IF(H4530<>\"\",\"OK\",IF(AND(#REF!<>\"\",#REF!<TODAY()),\"Retard\",\"Attente de Livraison\")))","v":""}]
[null,null,null,null,null,null,null,null,{"$f":"IF(F4531=\"\",\"\",IF(H4531<>\"\",\"OK\",IF(AND(#REF!<>\"\",#REF!<TODAY()),\"Retard\",\"Attente de Livraison\")))","v":""}]
[null,null,null,null,null,null,null,null,{"$f":"IF(F4532=\"\",\"\",IF(H4532<>\"\",\"OK\",IF(AND(#REF!<>\"\",#REF!<TODAY()),\"Retard\",\"Attente de Livraison\")))","v":""}]
[null,null,null,null,null,null,null,null,{"$f":"IF(F4533=\"\",\"\",IF(H4533<>\"\",\"OK\",IF(AND(#REF!<>\"\",#REF!<TODAY()),\"Retard\",\"Attente de Livraison\")))","v":""}]
[null,null,null,null,null,null,null,null,{"$f":"IF(F4534=\"\",\"\",IF(H4534<>\"\",\"OK\",IF(AND(#REF!<>\"\",#REF!<TODAY()),\"Retard\",\"Attente de Livraison\")))","v":""}]
[null,null,null,null,null,null,null,null,{"$f":"IF(F4535=\"\",\"\",IF(H4535<>\"\",\"OK\",IF(AND(#REF!<>\"\",#REF!<TODAY()),\"Retard\",\"Attente de Livraison\")))","v":""}]
[null,null,null,null,null,null,null,null,{"$f":"IF(F4536=\"\",\"\",IF(H4536<>\"\",\"OK\",IF(AND(#REF!<>\"\",#REF!<TODAY()),\"Retard\",\"Attente de Livraison\")))","v":""}]
[null,null,null,null,null,null,null,null,{"$f":"IF(F4537=\"\",\"\",IF(H4537<>\"\",\"OK\",IF(AND(#REF!<>\"\",#REF!<TODAY()),\"Retard\",\"Attente de Livraison\")))","v":""}]
[null,null,null,null,null,null,null,null,{"$f":"IF(F4538=\"\",\"\",IF(H4538<>\"\",\"OK\",IF(AND(#REF!<>\"\",#REF!<TODAY()),\"Retard\",\"Attente de Livraison\")))","v":""}]
[null,null,null,null,null,null,null,null,{"$f":"IF(F4539=\"\",\"\",IF(H4539<>\"\",\"OK\",IF(AND(#REF!<>\"\",#REF!<TODAY()),\"Retard\",\"Attente de Livraison\")))","v":""}]
[null,null,null,null,null,null,null,null,{"$f":"IF(F4540=\"\",\"\",IF(H4540<>\"\",\"OK\",IF(AND(#REF!<>\"\",#REF!<TODAY()),\"Retard\",\"Attente de Livraison\")))","v":""}]
[null,null,null,null,null,null,null,null,{"$f":"IF(F4541=\"\",\"\",IF(H4541<>\"\",\"OK\",IF(AND(#REF!<>\"\",#REF!<TODAY()),\"Retard\",\"Attente de Livraison\")))","v":""}]
[null,null,null,null,null,null,null,null,{"$f":"IF(F4542=\"\",\"\",IF(H4542<>\"\",\"OK\",IF(AND(#REF!<>\"\",#REF!<TODAY()),\"Retard\",\"Attente de Livraison\")))","v":""}]
[null,null,null,null,null,null,null,null,{"$f":"IF(F4543=\"\",\"\",IF(H4543<>\"\",\"OK\",IF(AND(#REF!<>\"\",#REF!<TODAY()),\"Retard\",\"Attente de Livraison\")))","v":""}]
[null,null,null,null,null,null,null,null,{"$f":"IF(F4544=\"\",\"\",IF(H4544<>\"\",\"OK\",IF(AND(#REF!<>\"\",#REF!<TODAY()),\"Retard\",\"Attente de Livraison\")))","v":""}]
[null,null,null,null,null,null,null,null,{"$f":"IF(F4545=\"\",\"\",IF(H4545<>\"\",\"OK\",IF(AND(#REF!<>\"\",#REF!<TODAY()),\"Retard\",\"Attente de Livraison\")))","v":""}]
[null,null,null,null,null,null,null,null,{"$f":"IF(F4546=\"\",\"\",IF(H4546<>\"\",\"OK\",IF(AND(#REF!<>\"\",#REF!<TODAY()),\"Retard\",\"Attente de Livraison\")))","v":""}]
[null,null,null,null,null,null,null,null,{"$f":"IF(F4547=\"\",\"\",IF(H4547<>\"\",\"OK\",IF(AND(#REF!<>\"\",#REF!<TODAY()),\"Retard\",\"Attente de Livraison\")))","v":""}]
[null,null,null,null,null,null,null,null,{"$f":"IF(F4548=\"\",\"\",IF(H4548<>\"\",\"OK\",IF(AND(#REF!<>\"\",#REF!<TODAY()),\"Retard\",\"Attente de Livraison\")))","v":""}]
[null,null,null,null,null,null,null,null,{"$f":"IF(F4549=\"\",\"\",IF(H4549<>\"\",\"OK\",IF(AND(#REF!<>\"\",#REF!<TODAY()),\"Retard\",\"Attente de Livraison\")))","v":""}]
[null,null,null,null,null,null,null,null,{"$f":"IF(F4550=\"\",\"\",IF(H4550<>\"\",\"OK\",IF(AND(#REF!<>\"\",#REF!<TODAY()),\"Retard\",\"Attente de Livraison\")))","v":""}]
[null,null,null,null,null,null,null,null,{"$f":"IF(F4551=\"\",\"\",IF(H4551<>\"\",\"OK\",IF(AND(#REF!<>\"\",#REF!<TODAY()),\"Retard\",\"Attente de Livraison\")))","v":""}]
[null,null,null,null,null,null,null,null,{"$f":"IF(F4552=\"\",\"\",IF(H4552<>\"\",\"OK\",IF(AND(#REF!<>\"\",#REF!<TODAY()),\"Retard\",\"Attente de Livraison\")))","v":""}]
[null,null,null,null,null,null,null,null,{"$f":"IF(F4553=\"\",\"\",IF(H4553<>\"\",\"OK\",IF(AND(#REF!<>\"\",#REF!<TODAY()),\"Retard\",\"Attente de Livraison\")))","v":""}]
[null,null,null,null,null,null,null,null,{"$f":"IF(F4554=\"\",\"\",IF(H4554<>\"\",\"OK\",IF(AND(#REF!<>\"\",#REF!<TODAY()),\"Retard\",\"Attente de Livraison\")))","v":""}]
[null,null,null,null,null,null,null,null,{"$f":"IF(F4555=\"\",\"\",IF(H4555<>\"\",\"OK\",IF(AND(#REF!<>\"\",#REF!<TODAY()),\"Retard\",\"Attente de Livraison\")))","v":""}]
[null,null,null,null,null,null,null,null,{"$f":"IF(F4556=\"\",\"\",IF(H4556<>\"\",\"OK\",IF(AND(#REF!<>\"\",#REF!<TODAY()),\"Retard\",\"Attente de Livraison\")))","v":""}]
[null,null,null,null,null,null,null,null,{"$f":"IF(F4557=\"\",\"\",IF(H4557<>\"\",\"OK\",IF(AND(#REF!<>\"\",#REF!<TODAY()),\"Retard\",\"Attente de Livraison\")))","v":""}]
[null,null,null,null,null,null,null,null,{"$f":"IF(F4558=\"\",\"\",IF(H4558<>\"\",\"OK\",IF(AND(#REF!<>\"\",#REF!<TODAY()),\"Retard\",\"Attente de Livraison\")))","v":""}]
[null,null,null,null,null,null,null,null,{"$f":"IF(F4559=\"\",\"\",IF(H4559<>\"\",\"OK\",IF(AND(#REF!<>\"\",#REF!<TODAY()),\"Retard\",\"Attente de Livraison\")))","v":""}]
[null,null,null,null,null,null,null,null,{"$f":"IF(F4560=\"\",\"\",IF(H4560<>\"\",\"OK\",IF(AND(#REF!<>\"\",#REF!<TODAY()),\"Retard\",\"Attente de Livraison\")))","v":""}]
[null,null,null,null,null,null,null,null,{"$f":"IF(F4561=\"\",\"\",IF(H4561<>\"\",\"OK\",IF(AND(#REF!<>\"\",#REF!<TODAY()),\"Retard\",\"Attente de Livraison\")))","v":""}]
[null,null,null,null,null,null,null,null,{"$f":"IF(F4562=\"\",\"\",IF(H4562<>\"\",\"OK\",IF(AND(#REF!<>\"\",#REF!<TODAY()),\"Retard\",\"Attente de Livraison\")))","v":""}]
[null,null,null,null,null,null,null,null,{"$f":"IF(F4563=\"\",\"\",IF(H4563<>\"\",\"OK\",IF(AND(#REF!<>\"\",#REF!<TODAY()),\"Retard\",\"Attente de Livraison\")))","v":""}]
[null,null,null,null,null,null,null,null,{"$f":"IF(F4564=\"\",\"\",IF(H4564<>\"\",\"OK\",IF(AND(#REF!<>\"\",#REF!<TODAY()),\"Retard\",\"Attente de Livraison\")))","v":""}]
[null,null,null,null,null,null,null,null,{"$f":"IF(F4565=\"\",\"\",IF(H4565<>\"\",\"OK\",IF(AND(#REF!<>\"\",#REF!<TODAY()),\"Retard\",\"Attente de Livraison\")))","v":""}]
[null,null,null,null,null,null,null,null,{"$f":"IF(F4566=\"\",\"\",IF(H4566<>\"\",\"OK\",IF(AND(#REF!<>\"\",#REF!<TODAY()),\"Retard\",\"Attente de Livraison\")))","v":""}]
[null,null,null,null,null,null,null,null,{"$f":"IF(F4567=\"\",\"\",IF(H4567<>\"\",\"OK\",IF(AND(#REF!<>\"\",#REF!<TODAY()),\"Retard\",\"Attente de Livraison\")))","v":""}]
[null,null,null,null,null,null,null,null,{"$f":"IF(F4568=\"\",\"\",IF(H4568<>\"\",\"OK\",IF(AND(#REF!<>\"\",#REF!<TODAY()),\"Retard\",\"Attente de Livraison\")))","v":""}]
[null,null,null,null,null,null,null,null,{"$f":"IF(F4569=\"\",\"\",IF(H4569<>\"\",\"OK\",IF(AND(#REF!<>\"\",#REF!<TODAY()),\"Retard\",\"Attente de Livraison\")))","v":""}]
[null,null,null,null,null,null,null,null,{"$f":"IF(F4570=\"\",\"\",IF(H4570<>\"\",\"OK\",IF(AND(#REF!<>\"\",#REF!<TODAY()),\"Retard\",\"Attente de Livraison\")))","v":""}]
[null,null,null,null,null,null,null,null,{"$f":"IF(F4571=\"\",\"\",IF(H4571<>\"\",\"OK\",IF(AND(#REF!<>\"\",#REF!<TODAY()),\"Retard\",\"Attente de Livraison\")))","v":""}]
[null,null,null,null,null,null,null,null,{"$f":"IF(F4572=\"\",\"\",IF(H4572<>\"\",\"OK\",IF(AND(#REF!<>\"\",#REF!<TODAY()),\"Retard\",\"Attente de Livraison\")))","v":""}]
[null,null,null,null,null,null,null,null,{"$f":"IF(F4573=\"\",\"\",IF(H4573<>\"\",\"OK\",IF(AND(#REF!<>\"\",#REF!<TODAY()),\"Retard\",\"Attente de Livraison\")))","v":""}]
[null,null,null,null,null,null,null,null,{"$f":"IF(F4574=\"\",\"\",IF(H4574<>\"\",\"OK\",IF(AND(#REF!<>\"\",#REF!<TODAY()),\"Retard\",\"Attente de Livraison\")))","v":""}]
[null,null,null,null,null,null,null,null,{"$f":"IF(F4575=\"\",\"\",IF(H4575<>\"\",\"OK\",IF(AND(#REF!<>\"\",#REF!<TODAY()),\"Retard\",\"Attente de Livraison\")))","v":""}]
[null,null,null,null,null,null,null,null,{"$f":"IF(F4576=\"\",\"\",IF(H4576<>\"\",\"OK\",IF(AND(#REF!<>\"\",#REF!<TODAY()),\"Retard\",\"Attente de Livraison\")))","v":""}]
[null,null,null,null,null,null,null,null,{"$f":"IF(F4577=\"\",\"\",IF(H4577<>\"\",\"OK\",IF(AND(#REF!<>\"\",#REF!<TODAY()),\"Retard\",\"Attente de Livraison\")))","v":""}]
[null,null,null,null,null,null,null,null,{"$f":"IF(F4578=\"\",\"\",IF(H4578<>\"\",\"OK\",IF(AND(#REF!<>\"\",#REF!<TODAY()),\"Retard\",\"Attente de Livraison\")))","v":""}]
[null,null,null,null,null,null,null,null,{"$f":"IF(F4579=\"\",\"\",IF(H4579<>\"\",\"OK\",IF(AND(#REF!<>\"\",#REF!<TODAY()),\"Retard\",\"Attente de Livraison\")))","v":""}]
[null,null,null,null,null,null,null,null,{"$f":"IF(F4580=\"\",\"\",IF(H4580<>\"\",\"OK\",IF(AND(#REF!<>\"\",#REF!<TODAY()),\"Retard\",\"Attente de Livraison\")))","v":""}]
[null,null,null,null,null,null,null,null,{"$f":"IF(F4581=\"\",\"\",IF(H4581<>\"\",\"OK\",IF(AND(#REF!<>\"\",#REF!<TODAY()),\"Retard\",\"Attente de Livraison\")))","v":""}]
[null,null,null,null,null,null,null,null,{"$f":"IF(F4582=\"\",\"\",IF(H4582<>\"\",\"OK\",IF(AND(#REF!<>\"\",#REF!<TODAY()),\"Retard\",\"Attente de Livraison\")))","v":""}]
[null,null,null,null,null,null,null,null,{"$f":"IF(F4583=\"\",\"\",IF(H4583<>\"\",\"OK\",IF(AND(#REF!<>\"\",#REF!<TODAY()),\"Retard\",\"Attente de Livraison\")))","v":""}]
[null,null,null,null,null,null,null,null,{"$f":"IF(F4584=\"\",\"\",IF(H4584<>\"\",\"OK\",IF(AND(#REF!<>\"\",#REF!<TODAY()),\"Retard\",\"Attente de Livraison\")))","v":""}]
[null,null,null,null,null,null,null,null,{"$f":"IF(F4585=\"\",\"\",IF(H4585<>\"\",\"OK\",IF(AND(#REF!<>\"\",#REF!<TODAY()),\"Retard\",\"Attente de Livraison\")))","v":""}]
[null,null,null,null,null,null,null,null,{"$f":"IF(F4586=\"\",\"\",IF(H4586<>\"\",\"OK\",IF(AND(#REF!<>\"\",#REF!<TODAY()),\"Retard\",\"Attente de Livraison\")))","v":""}]
[null,null,null,null,null,null,null,null,{"$f":"IF(F4587=\"\",\"\",IF(H4587<>\"\",\"OK\",IF(AND(#REF!<>\"\",#REF!<TODAY()),\"Retard\",\"Attente de Livraison\")))","v":""}]
[null,null,null,null,null,null,null,null,{"$f":"IF(F4588=\"\",\"\",IF(H4588<>\"\",\"OK\",IF(AND(#REF!<>\"\",#REF!<TODAY()),\"Retard\",\"Attente de Livraison\")))","v":""}]
[null,null,null,null,null,null,null,null,{"$f":"IF(F4589=\"\",\"\",IF(H4589<>\"\",\"OK\",IF(AND(#REF!<>\"\",#REF!<TODAY()),\"Retard\",\"Attente de Livraison\")))","v":""}]
[null,null,null,null,null,null,null,null,{"$f":"IF(F4590=\"\",\"\",IF(H4590<>\"\",\"OK\",IF(AND(#REF!<>\"\",#REF!<TODAY()),\"Retard\",\"Attente de Livraison\")))","v":""}]
[null,null,null,null,null,null,null,null,{"$f":"IF(F4591=\"\",\"\",IF(H4591<>\"\",\"OK\",IF(AND(#REF!<>\"\",#REF!<TODAY()),\"Retard\",\"Attente de Livraison\")))","v":""}]
[null,null,null,null,null,null,null,null,{"$f":"IF(F4592=\"\",\"\",IF(H4592<>\"\",\"OK\",IF(AND(#REF!<>\"\",#REF!<TODAY()),\"Retard\",\"Attente de Livraison\")))","v":""}]
[null,null,null,null,null,null,null,null,{"$f":"IF(F4593=\"\",\"\",IF(H4593<>\"\",\"OK\",IF(AND(#REF!<>\"\",#REF!<TODAY()),\"Retard\",\"Attente de Livraison\")))","v":""}]
[null,null,null,null,null,null,null,null,{"$f":"IF(F4594=\"\",\"\",IF(H4594<>\"\",\"OK\",IF(AND(#REF!<>\"\",#REF!<TODAY()),\"Retard\",\"Attente de Livraison\")))","v":""}]
[null,null,null,null,null,null,null,null,{"$f":"IF(F4595=\"\",\"\",IF(H4595<>\"\",\"OK\",IF(AND(#REF!<>\"\",#REF!<TODAY()),\"Retard\",\"Attente de Livraison\")))","v":""}]
[null,null,null,null,null,null,null,null,{"$f":"IF(F4596=\"\",\"\",IF(H4596<>\"\",\"OK\",IF(AND(#REF!<>\"\",#REF!<TODAY()),\"Retard\",\"Attente de Livraison\")))","v":""}]
[null,null,null,null,null,null,null,null,{"$f":"IF(F4597=\"\",\"\",IF(H4597<>\"\",\"OK\",IF(AND(#REF!<>\"\",#REF!<TODAY()),\"Retard\",\"Attente de Livraison\")))","v":""}]
[null,null,null,null,null,null,null,null,{"$f":"IF(F4598=\"\",\"\",IF(H4598<>\"\",\"OK\",IF(AND(#REF!<>\"\",#REF!<TODAY()),\"Retard\",\"Attente de Livraison\")))","v":""}]
[null,null,null,null,null,null,null,null,{"$f":"IF(F4599=\"\",\"\",IF(H4599<>\"\",\"OK\",IF(AND(#REF!<>\"\",#REF!<TODAY()),\"Retard\",\"Attente de Livraison\")))","v":""}]
[null,null,null,null,null,null,null,null,{"$f":"IF(F4600=\"\",\"\",IF(H4600<>\"\",\"OK\",IF(AND(#REF!<>\"\",#REF!<TODAY()),\"Retard\",\"Attente de Livraison\")))","v":""}]
[null,null,null,null,null,null,null,null,{"$f":"IF(F4601=\"\",\"\",IF(H4601<>\"\",\"OK\",IF(AND(#REF!<>\"\",#REF!<TODAY()),\"Retard\",\"Attente de Livraison\")))","v":""}]
[null,null,null,null,null,null,null,null,{"$f":"IF(F4602=\"\",\"\",IF(H4602<>\"\",\"OK\",IF(AND(#REF!<>\"\",#REF!<TODAY()),\"Retard\",\"Attente de Livraison\")))","v":""}]
[null,null,null,null,null,null,null,null,{"$f":"IF(F4603=\"\",\"\",IF(H4603<>\"\",\"OK\",IF(AND(#REF!<>\"\",#REF!<TODAY()),\"Retard\",\"Attente de Livraison\")))","v":""}]
[null,null,null,null,null,null,null,null,{"$f":"IF(F4604=\"\",\"\",IF(H4604<>\"\",\"OK\",IF(AND(#REF!<>\"\",#REF!<TODAY()),\"Retard\",\"Attente de Livraison\")))","v":""}]
[null,null,null,null,null,null,null,null,{"$f":"IF(F4605=\"\",\"\",IF(H4605<>\"\",\"OK\",IF(AND(#REF!<>\"\",#REF!<TODAY()),\"Retard\",\"Attente de Livraison\")))","v":""}]
[null,null,null,null,null,null,null,null,{"$f":"IF(F4606=\"\",\"\",IF(H4606<>\"\",\"OK\",IF(AND(#REF!<>\"\",#REF!<TODAY()),\"Retard\",\"Attente de Livraison\")))","v":""}]
[null,null,null,null,null,null,null,null,{"$f":"IF(F4607=\"\",\"\",IF(H4607<>\"\",\"OK\",IF(AND(#REF!<>\"\",#REF!<TODAY()),\"Retard\",\"Attente de Livraison\")))","v":""}]
[null,null,null,null,null,null,null,null,{"$f":"IF(F4608=\"\",\"\",IF(H4608<>\"\",\"OK\",IF(AND(#REF!<>\"\",#REF!<TODAY()),\"Retard\",\"Attente de Livraison\")))","v":""}]
[null,null,null,null,null,null,null,null,{"$f":"IF(F4609=\"\",\"\",IF(H4609<>\"\",\"OK\",IF(AND(#REF!<>\"\",#REF!<TODAY()),\"Retard\",\"Attente de Livraison\")))","v":""}]
[null,null,null,null,null,null,null,null,{"$f":"IF(F4610=\"\",\"\",IF(H4610<>\"\",\"OK\",IF(AND(#REF!<>\"\",#REF!<TODAY()),\"Retard\",\"Attente de Livraison\")))","v":""}]
[null,null,null,null,null,null,null,null,{"$f":"IF(F4611=\"\",\"\",IF(H4611<>\"\",\"OK\",IF(AND(#REF!<>\"\",#REF!<TODAY()),\"Retard\",\"Attente de Livraison\")))","v":""}]
[null,null,null,null,null,null,null,null,{"$f":"IF(F4612=\"\",\"\",IF(H4612<>\"\",\"OK\",IF(AND(#REF!<>\"\",#REF!<TODAY()),\"Retard\",\"Attente de Livraison\")))","v":""}]
[null,null,null,null,null,null,null,null,{"$f":"IF(F4613=\"\",\"\",IF(H4613<>\"\",\"OK\",IF(AND(#REF!<>\"\",#REF!<TODAY()),\"Retard\",\"Attente de Livraison\")))","v":""}]
[null,null,null,null,null,null,null,null,{"$f":"IF(F4614=\"\",\"\",IF(H4614<>\"\",\"OK\",IF(AND(#REF!<>\"\",#REF!<TODAY()),\"Retard\",\"Attente de Livraison\")))","v":""}]
[null,null,null,null,null,null,null,null,{"$f":"IF(F4615=\"\",\"\",IF(H4615<>\"\",\"OK\",IF(AND(#REF!<>\"\",#REF!<TODAY()),\"Retard\",\"Attente de Livraison\")))","v":""}]
[null,null,null,null,null,null,null,null,{"$f":"IF(F4616=\"\",\"\",IF(H4616<>\"\",\"OK\",IF(AND(#REF!<>\"\",#REF!<TODAY()),\"Retard\",\"Attente de Livraison\")))","v":""}]
[null,null,null,null,null,null,null,null,{"$f":"IF(F4617=\"\",\"\",IF(H4617<>\"\",\"OK\",IF(AND(#REF!<>\"\",#REF!<TODAY()),\"Retard\",\"Attente de Livraison\")))","v":""}]
[null,null,null,null,null,null,null,null,{"$f":"IF(F4618=\"\",\"\",IF(H4618<>\"\",\"OK\",IF(AND(#REF!<>\"\",#REF!<TODAY()),\"Retard\",\"Attente de Livraison\")))","v":""}]
[null,null,null,null,null,null,null,null,{"$f":"IF(F4619=\"\",\"\",IF(H4619<>\"\",\"OK\",IF(AND(#REF!<>\"\",#REF!<TODAY()),\"Retard\",\"Attente de Livraison\")))","v":""}]
[null,null,null,null,null,null,null,null,{"$f":"IF(F4620=\"\",\"\",IF(H4620<>\"\",\"OK\",IF(AND(#REF!<>\"\",#REF!<TODAY()),\"Retard\",\"Attente de Livraison\")))","v":""}]
[null,null,null,null,null,null,null,null,{"$f":"IF(F4621=\"\",\"\",IF(H4621<>\"\",\"OK\",IF(AND(#REF!<>\"\",#REF!<TODAY()),\"Retard\",\"Attente de Livraison\")))","v":""}]
[null,null,null,null,null,null,null,null,{"$f":"IF(F4622=\"\",\"\",IF(H4622<>\"\",\"OK\",IF(AND(#REF!<>\"\",#REF!<TODAY()),\"Retard\",\"Attente de Livraison\")))","v":""}]
[null,null,null,null,null,null,null,null,{"$f":"IF(F4623=\"\",\"\",IF(H4623<>\"\",\"OK\",IF(AND(#REF!<>\"\",#REF!<TODAY()),\"Retard\",\"Attente de Livraison\")))","v":""}]
[null,null,null,null,null,null,null,null,{"$f":"IF(F4624=\"\",\"\",IF(H4624<>\"\",\"OK\",IF(AND(#REF!<>\"\",#REF!<TODAY()),\"Retard\",\"Attente de Livraison\")))","v":""}]
[null,null,null,null,null,null,null,null,{"$f":"IF(F4625=\"\",\"\",IF(H4625<>\"\",\"OK\",IF(AND(#REF!<>\"\",#REF!<TODAY()),\"Retard\",\"Attente de Livraison\")))","v":""}]
[null,null,null,null,null,null,null,null,{"$f":"IF(F4626=\"\",\"\",IF(H4626<>\"\",\"OK\",IF(AND(#REF!<>\"\",#REF!<TODAY()),\"Retard\",\"Attente de Livraison\")))","v":""}]
[null,null,null,null,null,null,null,null,{"$f":"IF(F4627=\"\",\"\",IF(H4627<>\"\",\"OK\",IF(AND(#REF!<>\"\",#REF!<TODAY()),\"Retard\",\"Attente de Livraison\")))","v":""}]
[null,null,null,null,null,null,null,null,{"$f":"IF(F4628=\"\",\"\",IF(H4628<>\"\",\"OK\",IF(AND(#REF!<>\"\",#REF!<TODAY()),\"Retard\",\"Attente de Livraison\")))","v":""}]
[null,null,null,null,null,null,null,null,{"$f":"IF(F4629=\"\",\"\",IF(H4629<>\"\",\"OK\",IF(AND(#REF!<>\"\",#REF!<TODAY()),\"Retard\",\"Attente de Livraison\")))","v":""}]
[null,null,null,null,null,null,null,null,{"$f":"IF(F4630=\"\",\"\",IF(H4630<>\"\",\"OK\",IF(AND(#REF!<>\"\",#REF!<TODAY()),\"Retard\",\"Attente de Livraison\")))","v":""}]
[null,null,null,null,null,null,null,null,{"$f":"IF(F4631=\"\",\"\",IF(H4631<>\"\",\"OK\",IF(AND(#REF!<>\"\",#REF!<TODAY()),\"Retard\",\"Attente de Livraison\")))","v":""}]
[null,null,null,null,null,null,null,null,{"$f":"IF(F4632=\"\",\"\",IF(H4632<>\"\",\"OK\",IF(AND(#REF!<>\"\",#REF!<TODAY()),\"Retard\",\"Attente de Livraison\")))","v":""}]
[null,null,null,null,null,null,null,null,{"$f":"IF(F4633=\"\",\"\",IF(H4633<>\"\",\"OK\",IF(AND(#REF!<>\"\",#REF!<TODAY()),\"Retard\",\"Attente de Livraison\")))","v":""}]
[null,null,null,null,null,null,null,null,{"$f":"IF(F4634=\"\",\"\",IF(H4634<>\"\",\"OK\",IF(AND(#REF!<>\"\",#REF!<TODAY()),\"Retard\",\"Attente de Livraison\")))","v":""}]
[null,null,null,null,null,null,null,null,{"$f":"IF(F4635=\"\",\"\",IF(H4635<>\"\",\"OK\",IF(AND(#REF!<>\"\",#REF!<TODAY()),\"Retard\",\"Attente de Livraison\")))","v":""}]
[null,null,null,null,null,null,null,null,{"$f":"IF(F4636=\"\",\"\",IF(H4636<>\"\",\"OK\",IF(AND(#REF!<>\"\",#REF!<TODAY()),\"Retard\",\"Attente de Livraison\")))","v":""}]
[null,null,null,null,null,null,null,null,{"$f":"IF(F4637=\"\",\"\",IF(H4637<>\"\",\"OK\",IF(AND(#REF!<>\"\",#REF!<TODAY()),\"Retard\",\"Attente de Livraison\")))","v":""}]
[null,null,null,null,null,null,null,null,{"$f":"IF(F4638=\"\",\"\",IF(H4638<>\"\",\"OK\",IF(AND(#REF!<>\"\",#REF!<TODAY()),\"Retard\",\"Attente de Livraison\")))","v":""}]
[null,null,null,null,null,null,null,null,{"$f":"IF(F4639=\"\",\"\",IF(H4639<>\"\",\"OK\",IF(AND(#REF!<>\"\",#REF!<TODAY()),\"Retard\",\"Attente de Livraison\")))","v":""}]
[null,null,null,null,null,null,null,null,{"$f":"IF(F4640=\"\",\"\",IF(H4640<>\"\",\"OK\",IF(AND(#REF!<>\"\",#REF!<TODAY()),\"Retard\",\"Attente de Livraison\")))","v":""}]
[null,null,null,null,null,null,null,null,{"$f":"IF(F4641=\"\",\"\",IF(H4641<>\"\",\"OK\",IF(AND(#REF!<>\"\",#REF!<TODAY()),\"Retard\",\"Attente de Livraison\")))","v":""}]
[null,null,null,null,null,null,null,null,{"$f":"IF(F4642=\"\",\"\",IF(H4642<>\"\",\"OK\",IF(AND(#REF!<>\"\",#REF!<TODAY()),\"Retard\",\"Attente de Livraison\")))","v":""}]
[null,null,null,null,null,null,null,null,{"$f":"IF(F4643=\"\",\"\",IF(H4643<>\"\",\"OK\",IF(AND(#REF!<>\"\",#REF!<TODAY()),\"Retard\",\"Attente de Livraison\")))","v":""}]
[null,null,null,null,null,null,null,null,{"$f":"IF(F4644=\"\",\"\",IF(H4644<>\"\",\"OK\",IF(AND(#REF!<>\"\",#REF!<TODAY()),\"Retard\",\"Attente de Livraison\")))","v":""}]
[null,null,null,null,null,null,null,null,{"$f":"IF(F4645=\"\",\"\",IF(H4645<>\"\",\"OK\",IF(AND(#REF!<>\"\",#REF!<TODAY()),\"Retard\",\"Attente de Livraison\")))","v":""}]
[null,null,null,null,null,null,null,null,{"$f":"IF(F4646=\"\",\"\",IF(H4646<>\"\",\"OK\",IF(AND(#REF!<>\"\",#REF!<TODAY()),\"Retard\",\"Attente de Livraison\")))","v":""}]
[null,null,null,null,null,null,null,null,{"$f":"IF(F4647=\"\",\"\",IF(H4647<>\"\",\"OK\",IF(AND(#REF!<>\"\",#REF!<TODAY()),\"Retard\",\"Attente de Livraison\")))","v":""}]
[null,null,null,null,null,null,null,null,{"$f":"IF(F4648=\"\",\"\",IF(H4648<>\"\",\"OK\",IF(AND(#REF!<>\"\",#REF!<TODAY()),\"Retard\",\"Attente de Livraison\")))","v":""}]
[null,null,null,null,null,null,null,null,{"$f":"IF(F4649=\"\",\"\",IF(H4649<>\"\",\"OK\",IF(AND(#REF!<>\"\",#REF!<TODAY()),\"Retard\",\"Attente de Livraison\")))","v":""}]
[null,null,null,null,null,null,null,null,{"$f":"IF(F4650=\"\",\"\",IF(H4650<>\"\",\"OK\",IF(AND(#REF!<>\"\",#REF!<TODAY()),\"Retard\",\"Attente de Livraison\")))","v":""}]
[null,null,null,null,null,null,null,null,{"$f":"IF(F4651=\"\",\"\",IF(H4651<>\"\",\"OK\",IF(AND(#REF!<>\"\",#REF!<TODAY()),\"Retard\",\"Attente de Livraison\")))","v":""}]
[null,null,null,null,null,null,null,null,{"$f":"IF(F4652=\"\",\"\",IF(H4652<>\"\",\"OK\",IF(AND(#REF!<>\"\",#REF!<TODAY()),\"Retard\",\"Attente de Livraison\")))","v":""}]
[null,null,null,null,null,null,null,null,{"$f":"IF(F4653=\"\",\"\",IF(H4653<>\"\",\"OK\",IF(AND(#REF!<>\"\",#REF!<TODAY()),\"Retard\",\"Attente de Livraison\")))","v":""}]
[null,null,null,null,null,null,null,null,{"$f":"IF(F4654=\"\",\"\",IF(H4654<>\"\",\"OK\",IF(AND(#REF!<>\"\",#REF!<TODAY()),\"Retard\",\"Attente de Livraison\")))","v":""}]
[null,null,null,null,null,null,null,null,{"$f":"IF(F4655=\"\",\"\",IF(H4655<>\"\",\"OK\",IF(AND(#REF!<>\"\",#REF!<TODAY()),\"Retard\",\"Attente de Livraison\")))","v":""}]
[null,null,null,null,null,null,null,null,{"$f":"IF(F4656=\"\",\"\",IF(H4656<>\"\",\"OK\",IF(AND(#REF!<>\"\",#REF!<TODAY()),\"Retard\",\"Attente de Livraison\")))","v":""}]
[null,null,null,null,null,null,null,null,{"$f":"IF(F4657=\"\",\"\",IF(H4657<>\"\",\"OK\",IF(AND(#REF!<>\"\",#REF!<TODAY()),\"Retard\",\"Attente de Livraison\")))","v":""}]
[null,null,null,null,null,null,null,null,{"$f":"IF(F4658=\"\",\"\",IF(H4658<>\"\",\"OK\",IF(AND(#REF!<>\"\",#REF!<TODAY()),\"Retard\",\"Attente de Livraison\")))","v":""}]
[null,null,null,null,null,null,null,null,{"$f":"IF(F4659=\"\",\"\",IF(H4659<>\"\",\"OK\",IF(AND(#REF!<>\"\",#REF!<TODAY()),\"Retard\",\"Attente de Livraison\")))","v":""}]
[null,null,null,null,null,null,null,null,{"$f":"IF(F4660=\"\",\"\",IF(H4660<>\"\",\"OK\",IF(AND(#REF!<>\"\",#REF!<TODAY()),\"Retard\",\"Attente de Livraison\")))","v":""}]
[null,null,null,null,null,null,null,null,{"$f":"IF(F4661=\"\",\"\",IF(H4661<>\"\",\"OK\",IF(AND(#REF!<>\"\",#REF!<TODAY()),\"Retard\",\"Attente de Livraison\")))","v":""}]
[null,null,null,null,null,null,null,null,{"$f":"IF(F4662=\"\",\"\",IF(H4662<>\"\",\"OK\",IF(AND(#REF!<>\"\",#REF!<TODAY()),\"Retard\",\"Attente de Livraison\")))","v":""}]
[null,null,null,null,null,null,null,null,{"$f":"IF(F4663=\"\",\"\",IF(H4663<>\"\",\"OK\",IF(AND(#REF!<>\"\",#REF!<TODAY()),\"Retard\",\"Attente de Livraison\")))","v":""}]
[null,null,null,null,null,null,null,null,{"$f":"IF(F4664=\"\",\"\",IF(H4664<>\"\",\"OK\",IF(AND(#REF!<>\"\",#REF!<TODAY()),\"Retard\",\"Attente de Livraison\")))","v":""}]
[null,null,null,null,null,null,null,null,{"$f":"IF(F4665=\"\",\"\",IF(H4665<>\"\",\"OK\",IF(AND(#REF!<>\"\",#REF!<TODAY()),\"Retard\",\"Attente de Livraison\")))","v":""}]
[null,null,null,null,null,null,null,null,{"$f":"IF(F4666=\"\",\"\",IF(H4666<>\"\",\"OK\",IF(AND(#REF!<>\"\",#REF!<TODAY()),\"Retard\",\"Attente de Livraison\")))","v":""}]
[null,null,null,null,null,null,null,null,{"$f":"IF(F4667=\"\",\"\",IF(H4667<>\"\",\"OK\",IF(AND(#REF!<>\"\",#REF!<TODAY()),\"Retard\",\"Attente de Livraison\")))","v":""}]
[null,null,null,null,null,null,null,null,{"$f":"IF(F4668=\"\",\"\",IF(H4668<>\"\",\"OK\",IF(AND(#REF!<>\"\",#REF!<TODAY()),\"Retard\",\"Attente de Livraison\")))","v":""}]
[null,null,null,null,null,null,null,null,{"$f":"IF(F4669=\"\",\"\",IF(H4669<>\"\",\"OK\",IF(AND(#REF!<>\"\",#REF!<TODAY()),\"Retard\",\"Attente de Livraison\")))","v":""}]
[null,null,null,null,null,null,null,null,{"$f":"IF(F4670=\"\",\"\",IF(H4670<>\"\",\"OK\",IF(AND(#REF!<>\"\",#REF!<TODAY()),\"Retard\",\"Attente de Livraison\")))","v":""}]
[null,null,null,null,null,null,null,null,{"$f":"IF(F4671=\"\",\"\",IF(H4671<>\"\",\"OK\",IF(AND(#REF!<>\"\",#REF!<TODAY()),\"Retard\",\"Attente de Livraison\")))","v":""}]
[null,null,null,null,null,null,null,null,{"$f":"IF(F4672=\"\",\"\",IF(H4672<>\"\",\"OK\",IF(AND(#REF!<>\"\",#REF!<TODAY()),\"Retard\",\"Attente de Livraison\")))","v":""}]
[null,null,null,null,null,null,null,null,{"$f":"IF(F4673=\"\",\"\",IF(H4673<>\"\",\"OK\",IF(AND(#REF!<>\"\",#REF!<TODAY()),\"Retard\",\"Attente de Livraison\")))","v":""}]
[null,null,null,null,null,null,null,null,{"$f":"IF(F4674=\"\",\"\",IF(H4674<>\"\",\"OK\",IF(AND(#REF!<>\"\",#REF!<TODAY()),\"Retard\",\"Attente de Livraison\")))","v":""}]
[null,null,null,null,null,null,null,null,{"$f":"IF(F4675=\"\",\"\",IF(H4675<>\"\",\"OK\",IF(AND(#REF!<>\"\",#REF!<TODAY()),\"Retard\",\"Attente de Livraison\")))","v":""}]
[null,null,null,null,null,null,null,null,{"$f":"IF(F4676=\"\",\"\",IF(H4676<>\"\",\"OK\",IF(AND(#REF!<>\"\",#REF!<TODAY()),\"Retard\",\"Attente de Livraison\")))","v":""}]
[null,null,null,null,null,null,null,null,{"$f":"IF(F4677=\"\",\"\",IF(H4677<>\"\",\"OK\",IF(AND(#REF!<>\"\",#REF!<TODAY()),\"Retard\",\"Attente de Livraison\")))","v":""}]
[null,null,null,null,null,null,null,null,{"$f":"IF(F4678=\"\",\"\",IF(H4678<>\"\",\"OK\",IF(AND(#REF!<>\"\",#REF!<TODAY()),\"Retard\",\"Attente de Livraison\")))","v":""}]
[null,null,null,null,null,null,null,null,{"$f":"IF(F4679=\"\",\"\",IF(H4679<>\"\",\"OK\",IF(AND(#REF!<>\"\",#REF!<TODAY()),\"Retard\",\"Attente de Livraison\")))","v":""}]
[null,null,null,null,null,null,null,null,{"$f":"IF(F4680=\"\",\"\",IF(H4680<>\"\",\"OK\",IF(AND(#REF!<>\"\",#REF!<TODAY()),\"Retard\",\"Attente de Livraison\")))","v":""}]
[null,null,null,null,null,null,null,null,{"$f":"IF(F4681=\"\",\"\",IF(H4681<>\"\",\"OK\",IF(AND(#REF!<>\"\",#REF!<TODAY()),\"Retard\",\"Attente de Livraison\")))","v":""}]
[null,null,null,null,null,null,null,null,{"$f":"IF(F4682=\"\",\"\",IF(H4682<>\"\",\"OK\",IF(AND(#REF!<>\"\",#REF!<TODAY()),\"Retard\",\"Attente de Livraison\")))","v":""}]
[null,null,null,null,null,null,null,null,{"$f":"IF(F4683=\"\",\"\",IF(H4683<>\"\",\"OK\",IF(AND(#REF!<>\"\",#REF!<TODAY()),\"Retard\",\"Attente de Livraison\")))","v":""}]
[null,null,null,null,null,null,null,null,{"$f":"IF(F4684=\"\",\"\",IF(H4684<>\"\",\"OK\",IF(AND(#REF!<>\"\",#REF!<TODAY()),\"Retard\",\"Attente de Livraison\")))","v":""}]
[null,null,null,null,null,null,null,null,{"$f":"IF(F4685=\"\",\"\",IF(H4685<>\"\",\"OK\",IF(AND(#REF!<>\"\",#REF!<TODAY()),\"Retard\",\"Attente de Livraison\")))","v":""}]
[null,null,null,null,null,null,null,null,{"$f":"IF(F4686=\"\",\"\",IF(H4686<>\"\",\"OK\",IF(AND(#REF!<>\"\",#REF!<TODAY()),\"Retard\",\"Attente de Livraison\")))","v":""}]
[null,null,null,null,null,null,null,null,{"$f":"IF(F4687=\"\",\"\",IF(H4687<>\"\",\"OK\",IF(AND(#REF!<>\"\",#REF!<TODAY()),\"Retard\",\"Attente de Livraison\")))","v":""}]
[null,null,null,null,null,null,null,null,{"$f":"IF(F4688=\"\",\"\",IF(H4688<>\"\",\"OK\",IF(AND(#REF!<>\"\",#REF!<TODAY()),\"Retard\",\"Attente de Livraison\")))","v":""}]
[null,null,null,null,null,null,null,null,{"$f":"IF(F4689=\"\",\"\",IF(H4689<>\"\",\"OK\",IF(AND(#REF!<>\"\",#REF!<TODAY()),\"Retard\",\"Attente de Livraison\")))","v":""}]
[null,null,null,null,null,null,null,null,{"$f":"IF(F4690=\"\",\"\",IF(H4690<>\"\",\"OK\",IF(AND(#REF!<>\"\",#REF!<TODAY()),\"Retard\",\"Attente de Livraison\")))","v":""}]
[null,null,null,null,null,null,null,null,{"$f":"IF(F4691=\"\",\"\",IF(H4691<>\"\",\"OK\",IF(AND(#REF!<>\"\",#REF!<TODAY()),\"Retard\",\"Attente de Livraison\")))","v":""}]
[null,null,null,null,null,null,null,null,{"$f":"IF(F4692=\"\",\"\",IF(H4692<>\"\",\"OK\",IF(AND(#REF!<>\"\",#REF!<TODAY()),\"Retard\",\"Attente de Livraison\")))","v":""}]
[null,null,null,null,null,null,null,null,{"$f":"IF(F4693=\"\",\"\",IF(H4693<>\"\",\"OK\",IF(AND(#REF!<>\"\",#REF!<TODAY()),\"Retard\",\"Attente de Livraison\")))","v":""}]
[null,null,null,null,null,null,null,null,{"$f":"IF(F4694=\"\",\"\",IF(H4694<>\"\",\"OK\",IF(AND(#REF!<>\"\",#REF!<TODAY()),\"Retard\",\"Attente de Livraison\")))","v":""}]
[null,null,null,null,null,null,null,null,{"$f":"IF(F4695=\"\",\"\",IF(H4695<>\"\",\"OK\",IF(AND(#REF!<>\"\",#REF!<TODAY()),\"Retard\",\"Attente de Livraison\")))","v":""}]
[null,null,null,null,null,null,null,null,{"$f":"IF(F4696=\"\",\"\",IF(H4696<>\"\",\"OK\",IF(AND(#REF!<>\"\",#REF!<TODAY()),\"Retard\",\"Attente de Livraison\")))","v":""}]
[null,null,null,null,null,null,null,null,{"$f":"IF(F4697=\"\",\"\",IF(H4697<>\"\",\"OK\",IF(AND(#REF!<>\"\",#REF!<TODAY()),\"Retard\",\"Attente de Livraison\")))","v":""}]
[null,null,null,null,null,null,null,null,{"$f":"IF(F4698=\"\",\"\",IF(H4698<>\"\",\"OK\",IF(AND(#REF!<>\"\",#REF!<TODAY()),\"Retard\",\"Attente de Livraison\")))","v":""}]
[null,null,null,null,null,null,null,null,{"$f":"IF(F4699=\"\",\"\",IF(H4699<>\"\",\"OK\",IF(AND(#REF!<>\"\",#REF!<TODAY()),\"Retard\",\"Attente de Livraison\")))","v":""}]
[null,null,null,null,null,null,null,null,{"$f":"IF(F4700=\"\",\"\",IF(H4700<>\"\",\"OK\",IF(AND(#REF!<>\"\",#REF!<TODAY()),\"Retard\",\"Attente de Livraison\")))","v":""}]
[null,null,null,null,null,null,null,null,{"$f":"IF(F4701=\"\",\"\",IF(H4701<>\"\",\"OK\",IF(AND(#REF!<>\"\",#REF!<TODAY()),\"Retard\",\"Attente de Livraison\")))","v":""}]
[null,null,null,null,null,null,null,null,{"$f":"IF(F4702=\"\",\"\",IF(H4702<>\"\",\"OK\",IF(AND(#REF!<>\"\",#REF!<TODAY()),\"Retard\",\"Attente de Livraison\")))","v":""}]
[null,null,null,null,null,null,null,null,{"$f":"IF(F4703=\"\",\"\",IF(H4703<>\"\",\"OK\",IF(AND(#REF!<>\"\",#REF!<TODAY()),\"Retard\",\"Attente de Livraison\")))","v":""}]
[null,null,null,null,null,null,null,null,{"$f":"IF(F4704=\"\",\"\",IF(H4704<>\"\",\"OK\",IF(AND(#REF!<>\"\",#REF!<TODAY()),\"Retard\",\"Attente de Livraison\")))","v":""}]
[null,null,null,null,null,null,null,null,{"$f":"IF(F4705=\"\",\"\",IF(H4705<>\"\",\"OK\",IF(AND(#REF!<>\"\",#REF!<TODAY()),\"Retard\",\"Attente de Livraison\")))","v":""}]
[null,null,null,null,null,null,null,null,{"$f":"IF(F4706=\"\",\"\",IF(H4706<>\"\",\"OK\",IF(AND(#REF!<>\"\",#REF!<TODAY()),\"Retard\",\"Attente de Livraison\")))","v":""}]
[null,null,null,null,null,null,null,null,{"$f":"IF(F4707=\"\",\"\",IF(H4707<>\"\",\"OK\",IF(AND(#REF!<>\"\",#REF!<TODAY()),\"Retard\",\"Attente de Livraison\")))","v":""}]
[null,null,null,null,null,null,null,null,{"$f":"IF(F4708=\"\",\"\",IF(H4708<>\"\",\"OK\",IF(AND(#REF!<>\"\",#REF!<TODAY()),\"Retard\",\"Attente de Livraison\")))","v":""}]
[null,null,null,null,null,null,null,null,{"$f":"IF(F4709=\"\",\"\",IF(H4709<>\"\",\"OK\",IF(AND(#REF!<>\"\",#REF!<TODAY()),\"Retard\",\"Attente de Livraison\")))","v":""}]
[null,null,null,null,null,null,null,null,{"$f":"IF(F4710=\"\",\"\",IF(H4710<>\"\",\"OK\",IF(AND(#REF!<>\"\",#REF!<TODAY()),\"Retard\",\"Attente de Livraison\")))","v":""}]
[null,null,null,null,null,null,null,null,{"$f":"IF(F4711=\"\",\"\",IF(H4711<>\"\",\"OK\",IF(AND(#REF!<>\"\",#REF!<TODAY()),\"Retard\",\"Attente de Livraison\")))","v":""}]
[null,null,null,null,null,null,null,null,{"$f":"IF(F4712=\"\",\"\",IF(H4712<>\"\",\"OK\",IF(AND(#REF!<>\"\",#REF!<TODAY()),\"Retard\",\"Attente de Livraison\")))","v":""}]
[null,null,null,null,null,null,null,null,{"$f":"IF(F4713=\"\",\"\",IF(H4713<>\"\",\"OK\",IF(AND(#REF!<>\"\",#REF!<TODAY()),\"Retard\",\"Attente de Livraison\")))","v":""}]
[null,null,null,null,null,null,null,null,{"$f":"IF(F4714=\"\",\"\",IF(H4714<>\"\",\"OK\",IF(AND(#REF!<>\"\",#REF!<TODAY()),\"Retard\",\"Attente de Livraison\")))","v":""}]
[null,null,null,null,null,null,null,null,{"$f":"IF(F4715=\"\",\"\",IF(H4715<>\"\",\"OK\",IF(AND(#REF!<>\"\",#REF!<TODAY()),\"Retard\",\"Attente de Livraison\")))","v":""}]
[null,null,null,null,null,null,null,null,{"$f":"IF(F4716=\"\",\"\",IF(H4716<>\"\",\"OK\",IF(AND(#REF!<>\"\",#REF!<TODAY()),\"Retard\",\"Attente de Livraison\")))","v":""}]
[null,null,null,null,null,null,null,null,{"$f":"IF(F4717=\"\",\"\",IF(H4717<>\"\",\"OK\",IF(AND(#REF!<>\"\",#REF!<TODAY()),\"Retard\",\"Attente de Livraison\")))","v":""}]
[null,null,null,null,null,null,null,null,{"$f":"IF(F4718=\"\",\"\",IF(H4718<>\"\",\"OK\",IF(AND(#REF!<>\"\",#REF!<TODAY()),\"Retard\",\"Attente de Livraison\")))","v":""}]
[null,null,null,null,null,null,null,null,{"$f":"IF(F4719=\"\",\"\",IF(H4719<>\"\",\"OK\",IF(AND(#REF!<>\"\",#REF!<TODAY()),\"Retard\",\"Attente de Livraison\")))","v":""}]
[null,null,null,null,null,null,null,null,{"$f":"IF(F4720=\"\",\"\",IF(H4720<>\"\",\"OK\",IF(AND(#REF!<>\"\",#REF!<TODAY()),\"Retard\",\"Attente de Livraison\")))","v":""}]
[null,null,null,null,null,null,null,null,{"$f":"IF(F4721=\"\",\"\",IF(H4721<>\"\",\"OK\",IF(AND(#REF!<>\"\",#REF!<TODAY()),\"Retard\",\"Attente de Livraison\")))","v":""}]
[null,null,null,null,null,null,null,null,{"$f":"IF(F4722=\"\",\"\",IF(H4722<>\"\",\"OK\",IF(AND(#REF!<>\"\",#REF!<TODAY()),\"Retard\",\"Attente de Livraison\")))","v":""}]
[null,null,null,null,null,null,null,null,{"$f":"IF(F4723=\"\",\"\",IF(H4723<>\"\",\"OK\",IF(AND(#REF!<>\"\",#REF!<TODAY()),\"Retard\",\"Attente de Livraison\")))","v":""}]
[null,null,null,null,null,null,null,null,{"$f":"IF(F4724=\"\",\"\",IF(H4724<>\"\",\"OK\",IF(AND(#REF!<>\"\",#REF!<TODAY()),\"Retard\",\"Attente de Livraison\")))","v":""}]
[null,null,null,null,null,null,null,null,{"$f":"IF(F4725=\"\",\"\",IF(H4725<>\"\",\"OK\",IF(AND(#REF!<>\"\",#REF!<TODAY()),\"Retard\",\"Attente de Livraison\")))","v":""}]
[null,null,null,null,null,null,null,null,{"$f":"IF(F4726=\"\",\"\",IF(H4726<>\"\",\"OK\",IF(AND(#REF!<>\"\",#REF!<TODAY()),\"Retard\",\"Attente de Livraison\")))","v":""}]
[null,null,null,null,null,null,null,null,{"$f":"IF(F4727=\"\",\"\",IF(H4727<>\"\",\"OK\",IF(AND(#REF!<>\"\",#REF!<TODAY()),\"Retard\",\"Attente de Livraison\")))","v":""}]
[null,null,null,null,null,null,null,null,{"$f":"IF(F4728=\"\",\"\",IF(H4728<>\"\",\"OK\",IF(AND(#REF!<>\"\",#REF!<TODAY()),\"Retard\",\"Attente de Livraison\")))","v":""}]
[null,null,null,null,null,null,null,null,{"$f":"IF(F4729=\"\",\"\",IF(H4729<>\"\",\"OK\",IF(AND(#REF!<>\"\",#REF!<TODAY()),\"Retard\",\"Attente de Livraison\")))","v":""}]
[null,null,null,null,null,null,null,null,{"$f":"IF(F4730=\"\",\"\",IF(H4730<>\"\",\"OK\",IF(AND(#REF!<>\"\",#REF!<TODAY()),\"Retard\",\"Attente de Livraison\")))","v":""}]
[null,null,null,null,null,null,null,null,{"$f":"IF(F4731=\"\",\"\",IF(H4731<>\"\",\"OK\",IF(AND(#REF!<>\"\",#REF!<TODAY()),\"Retard\",\"Attente de Livraison\")))","v":""}]
[null,null,null,null,null,null,null,null,{"$f":"IF(F4732=\"\",\"\",IF(H4732<>\"\",\"OK\",IF(AND(#REF!<>\"\",#REF!<TODAY()),\"Retard\",\"Attente de Livraison\")))","v":""}]
[null,null,null,null,null,null,null,null,{"$f":"IF(F4733=\"\",\"\",IF(H4733<>\"\",\"OK\",IF(AND(#REF!<>\"\",#REF!<TODAY()),\"Retard\",\"Attente de Livraison\")))","v":""}]
[null,null,null,null,null,null,null,null,{"$f":"IF(F4734=\"\",\"\",IF(H4734<>\"\",\"OK\",IF(AND(#REF!<>\"\",#REF!<TODAY()),\"Retard\",\"Attente de Livraison\")))","v":""}]
[null,null,null,null,null,null,null,null,{"$f":"IF(F4735=\"\",\"\",IF(H4735<>\"\",\"OK\",IF(AND(#REF!<>\"\",#REF!<TODAY()),\"Retard\",\"Attente de Livraison\")))","v":""}]
[null,null,null,null,null,null,null,null,{"$f":"IF(F4736=\"\",\"\",IF(H4736<>\"\",\"OK\",IF(AND(#REF!<>\"\",#REF!<TODAY()),\"Retard\",\"Attente de Livraison\")))","v":""}]
[null,null,null,null,null,null,null,null,{"$f":"IF(F4737=\"\",\"\",IF(H4737<>\"\",\"OK\",IF(AND(#REF!<>\"\",#REF!<TODAY()),\"Retard\",\"Attente de Livraison\")))","v":""}]
[null,null,null,null,null,null,null,null,{"$f":"IF(F4738=\"\",\"\",IF(H4738<>\"\",\"OK\",IF(AND(#REF!<>\"\",#REF!<TODAY()),\"Retard\",\"Attente de Livraison\")))","v":""}]
[null,null,null,null,null,null,null,null,{"$f":"IF(F4739=\"\",\"\",IF(H4739<>\"\",\"OK\",IF(AND(#REF!<>\"\",#REF!<TODAY()),\"Retard\",\"Attente de Livraison\")))","v":""}]
[null,null,null,null,null,null,null,null,{"$f":"IF(F4740=\"\",\"\",IF(H4740<>\"\",\"OK\",IF(AND(#REF!<>\"\",#REF!<TODAY()),\"Retard\",\"Attente de Livraison\")))","v":""}]
[null,null,null,null,null,null,null,null,{"$f":"IF(F4741=\"\",\"\",IF(H4741<>\"\",\"OK\",IF(AND(#REF!<>\"\",#REF!<TODAY()),\"Retard\",\"Attente de Livraison\")))","v":""}]
[null,null,null,null,null,null,null,null,{"$f":"IF(F4742=\"\",\"\",IF(H4742<>\"\",\"OK\",IF(AND(#REF!<>\"\",#REF!<TODAY()),\"Retard\",\"Attente de Livraison\")))","v":""}]
[null,null,null,null,null,null,null,null,{"$f":"IF(F4743=\"\",\"\",IF(H4743<>\"\",\"OK\",IF(AND(#REF!<>\"\",#REF!<TODAY()),\"Retard\",\"Attente de Livraison\")))","v":""}]
[null,null,null,null,null,null,null,null,{"$f":"IF(F4744=\"\",\"\",IF(H4744<>\"\",\"OK\",IF(AND(#REF!<>\"\",#REF!<TODAY()),\"Retard\",\"Attente de Livraison\")))","v":""}]
[null,null,null,null,null,null,null,null,{"$f":"IF(F4745=\"\",\"\",IF(H4745<>\"\",\"OK\",IF(AND(#REF!<>\"\",#REF!<TODAY()),\"Retard\",\"Attente de Livraison\")))","v":""}]
[null,null,null,null,null,null,null,null,{"$f":"IF(F4746=\"\",\"\",IF(H4746<>\"\",\"OK\",IF(AND(#REF!<>\"\",#REF!<TODAY()),\"Retard\",\"Attente de Livraison\")))","v":""}]
[null,null,null,null,null,null,null,null,{"$f":"IF(F4747=\"\",\"\",IF(H4747<>\"\",\"OK\",IF(AND(#REF!<>\"\",#REF!<TODAY()),\"Retard\",\"Attente de Livraison\")))","v":""}]
[null,null,null,null,null,null,null,null,{"$f":"IF(F4748=\"\",\"\",IF(H4748<>\"\",\"OK\",IF(AND(#REF!<>\"\",#REF!<TODAY()),\"Retard\",\"Attente de Livraison\")))","v":""}]
[null,null,null,null,null,null,null,null,{"$f":"IF(F4749=\"\",\"\",IF(H4749<>\"\",\"OK\",IF(AND(#REF!<>\"\",#REF!<TODAY()),\"Retard\",\"Attente de Livraison\")))","v":""}]
[null,null,null,null,null,null,null,null,{"$f":"IF(F4750=\"\",\"\",IF(H4750<>\"\",\"OK\",IF(AND(#REF!<>\"\",#REF!<TODAY()),\"Retard\",\"Attente de Livraison\")))","v":""}]
[null,null,null,null,null,null,null,null,{"$f":"IF(F4751=\"\",\"\",IF(H4751<>\"\",\"OK\",IF(AND(#REF!<>\"\",#REF!<TODAY()),\"Retard\",\"Attente de Livraison\")))","v":""}]
[null,null,null,null,null,null,null,null,{"$f":"IF(F4752=\"\",\"\",IF(H4752<>\"\",\"OK\",IF(AND(#REF!<>\"\",#REF!<TODAY()),\"Retard\",\"Attente de Livraison\")))","v":""}]
[null,null,null,null,null,null,null,null,{"$f":"IF(F4753=\"\",\"\",IF(H4753<>\"\",\"OK\",IF(AND(#REF!<>\"\",#REF!<TODAY()),\"Retard\",\"Attente de Livraison\")))","v":""}]
[null,null,null,null,null,null,null,null,{"$f":"IF(F4754=\"\",\"\",IF(H4754<>\"\",\"OK\",IF(AND(#REF!<>\"\",#REF!<TODAY()),\"Retard\",\"Attente de Livraison\")))","v":""}]
[null,null,null,null,null,null,null,null,{"$f":"IF(F4755=\"\",\"\",IF(H4755<>\"\",\"OK\",IF(AND(#REF!<>\"\",#REF!<TODAY()),\"Retard\",\"Attente de Livraison\")))","v":""}]
[null,null,null,null,null,null,null,null,{"$f":"IF(F4756=\"\",\"\",IF(H4756<>\"\",\"OK\",IF(AND(#REF!<>\"\",#REF!<TODAY()),\"Retard\",\"Attente de Livraison\")))","v":""}]
[null,null,null,null,null,null,null,null,{"$f":"IF(F4757=\"\",\"\",IF(H4757<>\"\",\"OK\",IF(AND(#REF!<>\"\",#REF!<TODAY()),\"Retard\",\"Attente de Livraison\")))","v":""}]
[null,null,null,null,null,null,null,null,{"$f":"IF(F4758=\"\",\"\",IF(H4758<>\"\",\"OK\",IF(AND(#REF!<>\"\",#REF!<TODAY()),\"Retard\",\"Attente de Livraison\")))","v":""}]
[null,null,null,null,null,null,null,null,{"$f":"IF(F4759=\"\",\"\",IF(H4759<>\"\",\"OK\",IF(AND(#REF!<>\"\",#REF!<TODAY()),\"Retard\",\"Attente de Livraison\")))","v":""}]
[null,null,null,null,null,null,null,null,{"$f":"IF(F4760=\"\",\"\",IF(H4760<>\"\",\"OK\",IF(AND(#REF!<>\"\",#REF!<TODAY()),\"Retard\",\"Attente de Livraison\")))","v":""}]
[null,null,null,null,null,null,null,null,{"$f":"IF(F4761=\"\",\"\",IF(H4761<>\"\",\"OK\",IF(AND(#REF!<>\"\",#REF!<TODAY()),\"Retard\",\"Attente de Livraison\")))","v":""}]
[null,null,null,null,null,null,null,null,{"$f":"IF(F4762=\"\",\"\",IF(H4762<>\"\",\"OK\",IF(AND(#REF!<>\"\",#REF!<TODAY()),\"Retard\",\"Attente de Livraison\")))","v":""}]
[null,null,null,null,null,null,null,null,{"$f":"IF(F4763=\"\",\"\",IF(H4763<>\"\",\"OK\",IF(AND(#REF!<>\"\",#REF!<TODAY()),\"Retard\",\"Attente de Livraison\")))","v":""}]
[null,null,null,null,null,null,null,null,{"$f":"IF(F4764=\"\",\"\",IF(H4764<>\"\",\"OK\",IF(AND(#REF!<>\"\",#REF!<TODAY()),\"Retard\",\"Attente de Livraison\")))","v":""}]
[null,null,null,null,null,null,null,null,{"$f":"IF(F4765=\"\",\"\",IF(H4765<>\"\",\"OK\",IF(AND(#REF!<>\"\",#REF!<TODAY()),\"Retard\",\"Attente de Livraison\")))","v":""}]
[null,null,null,null,null,null,null,null,{"$f":"IF(F4766=\"\",\"\",IF(H4766<>\"\",\"OK\",IF(AND(#REF!<>\"\",#REF!<TODAY()),\"Retard\",\"Attente de Livraison\")))","v":""}]
[null,null,null,null,null,null,null,null,{"$f":"IF(F4767=\"\",\"\",IF(H4767<>\"\",\"OK\",IF(AND(#REF!<>\"\",#REF!<TODAY()),\"Retard\",\"Attente de Livraison\")))","v":""}]
[null,null,null,null,null,null,null,null,{"$f":"IF(F4768=\"\",\"\",IF(H4768<>\"\",\"OK\",IF(AND(#REF!<>\"\",#REF!<TODAY()),\"Retard\",\"Attente de Livraison\")))","v":""}]
[null,null,null,null,null,null,null,null,{"$f":"IF(F4769=\"\",\"\",IF(H4769<>\"\",\"OK\",IF(AND(#REF!<>\"\",#REF!<TODAY()),\"Retard\",\"Attente de Livraison\")))","v":""}]
[null,null,null,null,null,null,null,null,{"$f":"IF(F4770=\"\",\"\",IF(H4770<>\"\",\"OK\",IF(AND(#REF!<>\"\",#REF!<TODAY()),\"Retard\",\"Attente de Livraison\")))","v":""}]
[null,null,null,null,null,null,null,null,{"$f":"IF(F4771=\"\",\"\",IF(H4771<>\"\",\"OK\",IF(AND(#REF!<>\"\",#REF!<TODAY()),\"Retard\",\"Attente de Livraison\")))","v":""}]
[null,null,null,null,null,null,null,null,{"$f":"IF(F4772=\"\",\"\",IF(H4772<>\"\",\"OK\",IF(AND(#REF!<>\"\",#REF!<TODAY()),\"Retard\",\"Attente de Livraison\")))","v":""}]
[null,null,null,null,null,null,null,null,{"$f":"IF(F4773=\"\",\"\",IF(H4773<>\"\",\"OK\",IF(AND(#REF!<>\"\",#REF!<TODAY()),\"Retard\",\"Attente de Livraison\")))","v":""}]
[null,null,null,null,null,null,null,null,{"$f":"IF(F4774=\"\",\"\",IF(H4774<>\"\",\"OK\",IF(AND(#REF!<>\"\",#REF!<TODAY()),\"Retard\",\"Attente de Livraison\")))","v":""}]
[null,null,null,null,null,null,null,null,{"$f":"IF(F4775=\"\",\"\",IF(H4775<>\"\",\"OK\",IF(AND(#REF!<>\"\",#REF!<TODAY()),\"Retard\",\"Attente de Livraison\")))","v":""}]
[null,null,null,null,null,null,null,null,{"$f":"IF(F4776=\"\",\"\",IF(H4776<>\"\",\"OK\",IF(AND(#REF!<>\"\",#REF!<TODAY()),\"Retard\",\"Attente de Livraison\")))","v":""}]
[null,null,null,null,null,null,null,null,{"$f":"IF(F4777=\"\",\"\",IF(H4777<>\"\",\"OK\",IF(AND(#REF!<>\"\",#REF!<TODAY()),\"Retard\",\"Attente de Livraison\")))","v":""}]
[null,null,null,null,null,null,null,null,{"$f":"IF(F4778=\"\",\"\",IF(H4778<>\"\",\"OK\",IF(AND(#REF!<>\"\",#REF!<TODAY()),\"Retard\",\"Attente de Livraison\")))","v":""}]
[null,null,null,null,null,null,null,null,{"$f":"IF(F4779=\"\",\"\",IF(H4779<>\"\",\"OK\",IF(AND(#REF!<>\"\",#REF!<TODAY()),\"Retard\",\"Attente de Livraison\")))","v":""}]
[null,null,null,null,null,null,null,null,{"$f":"IF(F4780=\"\",\"\",IF(H4780<>\"\",\"OK\",IF(AND(#REF!<>\"\",#REF!<TODAY()),\"Retard\",\"Attente de Livraison\")))","v":""}]
[null,null,null,null,null,null,null,null,{"$f":"IF(F4781=\"\",\"\",IF(H4781<>\"\",\"OK\",IF(AND(#REF!<>\"\",#REF!<TODAY()),\"Retard\",\"Attente de Livraison\")))","v":""}]
[null,null,null,null,null,null,null,null,{"$f":"IF(F4782=\"\",\"\",IF(H4782<>\"\",\"OK\",IF(AND(#REF!<>\"\",#REF!<TODAY()),\"Retard\",\"Attente de Livraison\")))","v":""}]
[null,null,null,null,null,null,null,null,{"$f":"IF(F4783=\"\",\"\",IF(H4783<>\"\",\"OK\",IF(AND(#REF!<>\"\",#REF!<TODAY()),\"Retard\",\"Attente de Livraison\")))","v":""}]
[null,null,null,null,null,null,null,null,{"$f":"IF(F4784=\"\",\"\",IF(H4784<>\"\",\"OK\",IF(AND(#REF!<>\"\",#REF!<TODAY()),\"Retard\",\"Attente de Livraison\")))","v":""}]
[null,null,null,null,null,null,null,null,{"$f":"IF(F4785=\"\",\"\",IF(H4785<>\"\",\"OK\",IF(AND(#REF!<>\"\",#REF!<TODAY()),\"Retard\",\"Attente de Livraison\")))","v":""}]
[null,null,null,null,null,null,null,null,{"$f":"IF(F4786=\"\",\"\",IF(H4786<>\"\",\"OK\",IF(AND(#REF!<>\"\",#REF!<TODAY()),\"Retard\",\"Attente de Livraison\")))","v":""}]
[null,null,null,null,null,null,null,null,{"$f":"IF(F4787=\"\",\"\",IF(H4787<>\"\",\"OK\",IF(AND(#REF!<>\"\",#REF!<TODAY()),\"Retard\",\"Attente de Livraison\")))","v":""}]
[null,null,null,null,null,null,null,null,{"$f":"IF(F4788=\"\",\"\",IF(H4788<>\"\",\"OK\",IF(AND(#REF!<>\"\",#REF!<TODAY()),\"Retard\",\"Attente de Livraison\")))","v":""}]
[null,null,null,null,null,null,null,null,{"$f":"IF(F4789=\"\",\"\",IF(H4789<>\"\",\"OK\",IF(AND(#REF!<>\"\",#REF!<TODAY()),\"Retard\",\"Attente de Livraison\")))","v":""}]
[null,null,null,null,null,null,null,null,{"$f":"IF(F4790=\"\",\"\",IF(H4790<>\"\",\"OK\",IF(AND(#REF!<>\"\",#REF!<TODAY()),\"Retard\",\"Attente de Livraison\")))","v":""}]
[null,null,null,null,null,null,null,null,{"$f":"IF(F4791=\"\",\"\",IF(H4791<>\"\",\"OK\",IF(AND(#REF!<>\"\",#REF!<TODAY()),\"Retard\",\"Attente de Livraison\")))","v":""}]
[null,null,null,null,null,null,null,null,{"$f":"IF(F4792=\"\",\"\",IF(H4792<>\"\",\"OK\",IF(AND(#REF!<>\"\",#REF!<TODAY()),\"Retard\",\"Attente de Livraison\")))","v":""}]
[null,null,null,null,null,null,null,null,{"$f":"IF(F4793=\"\",\"\",IF(H4793<>\"\",\"OK\",IF(AND(#REF!<>\"\",#REF!<TODAY()),\"Retard\",\"Attente de Livraison\")))","v":""}]
[null,null,null,null,null,null,null,null,{"$f":"IF(F4794=\"\",\"\",IF(H4794<>\"\",\"OK\",IF(AND(#REF!<>\"\",#REF!<TODAY()),\"Retard\",\"Attente de Livraison\")))","v":""}]
[null,null,null,null,null,null,null,null,{"$f":"IF(F4795=\"\",\"\",IF(H4795<>\"\",\"OK\",IF(AND(#REF!<>\"\",#REF!<TODAY()),\"Retard\",\"Attente de Livraison\")))","v":""}]
[null,null,null,null,null,null,null,null,{"$f":"IF(F4796=\"\",\"\",IF(H4796<>\"\",\"OK\",IF(AND(#REF!<>\"\",#REF!<TODAY()),\"Retard\",\"Attente de Livraison\")))","v":""}]
[null,null,null,null,null,null,null,null,{"$f":"IF(F4797=\"\",\"\",IF(H4797<>\"\",\"OK\",IF(AND(#REF!<>\"\",#REF!<TODAY()),\"Retard\",\"Attente de Livraison\")))","v":""}]
[null,null,null,null,null,null,null,null,{"$f":"IF(F4798=\"\",\"\",IF(H4798<>\"\",\"OK\",IF(AND(#REF!<>\"\",#REF!<TODAY()),\"Retard\",\"Attente de Livraison\")))","v":""}]
[null,null,null,null,null,null,null,null,{"$f":"IF(F4799=\"\",\"\",IF(H4799<>\"\",\"OK\",IF(AND(#REF!<>\"\",#REF!<TODAY()),\"Retard\",\"Attente de Livraison\")))","v":""}]
[null,null,null,null,null,null,null,null,{"$f":"IF(F4800=\"\",\"\",IF(H4800<>\"\",\"OK\",IF(AND(#REF!<>\"\",#REF!<TODAY()),\"Retard\",\"Attente de Livraison\")))","v":""}]
[null,null,null,null,null,null,null,null,{"$f":"IF(F4801=\"\",\"\",IF(H4801<>\"\",\"OK\",IF(AND(#REF!<>\"\",#REF!<TODAY()),\"Retard\",\"Attente de Livraison\")))","v":""}]
[null,null,null,null,null,null,null,null,{"$f":"IF(F4802=\"\",\"\",IF(H4802<>\"\",\"OK\",IF(AND(#REF!<>\"\",#REF!<TODAY()),\"Retard\",\"Attente de Livraison\")))","v":""}]
[null,null,null,null,null,null,null,null,{"$f":"IF(F4803=\"\",\"\",IF(H4803<>\"\",\"OK\",IF(AND(#REF!<>\"\",#REF!<TODAY()),\"Retard\",\"Attente de Livraison\")))","v":""}]
[null,null,null,null,null,null,null,null,{"$f":"IF(F4804=\"\",\"\",IF(H4804<>\"\",\"OK\",IF(AND(#REF!<>\"\",#REF!<TODAY()),\"Retard\",\"Attente de Livraison\")))","v":""}]
[null,null,null,null,null,null,null,null,{"$f":"IF(F4805=\"\",\"\",IF(H4805<>\"\",\"OK\",IF(AND(#REF!<>\"\",#REF!<TODAY()),\"Retard\",\"Attente de Livraison\")))","v":""}]
[null,null,null,null,null,null,null,null,{"$f":"IF(F4806=\"\",\"\",IF(H4806<>\"\",\"OK\",IF(AND(#REF!<>\"\",#REF!<TODAY()),\"Retard\",\"Attente de Livraison\")))","v":""}]
[null,null,null,null,null,null,null,null,{"$f":"IF(F4807=\"\",\"\",IF(H4807<>\"\",\"OK\",IF(AND(#REF!<>\"\",#REF!<TODAY()),\"Retard\",\"Attente de Livraison\")))","v":""}]
[null,null,null,null,null,null,null,null,{"$f":"IF(F4808=\"\",\"\",IF(H4808<>\"\",\"OK\",IF(AND(#REF!<>\"\",#REF!<TODAY()),\"Retard\",\"Attente de Livraison\")))","v":""}]
[null,null,null,null,null,null,null,null,{"$f":"IF(F4809=\"\",\"\",IF(H4809<>\"\",\"OK\",IF(AND(#REF!<>\"\",#REF!<TODAY()),\"Retard\",\"Attente de Livraison\")))","v":""}]
[null,null,null,null,null,null,null,null,{"$f":"IF(F4810=\"\",\"\",IF(H4810<>\"\",\"OK\",IF(AND(#REF!<>\"\",#REF!<TODAY()),\"Retard\",\"Attente de Livraison\")))","v":""}]
[null,null,null,null,null,null,null,null,{"$f":"IF(F4811=\"\",\"\",IF(H4811<>\"\",\"OK\",IF(AND(#REF!<>\"\",#REF!<TODAY()),\"Retard\",\"Attente de Livraison\")))","v":""}]
[null,null,null,null,null,null,null,null,{"$f":"IF(F4812=\"\",\"\",IF(H4812<>\"\",\"OK\",IF(AND(#REF!<>\"\",#REF!<TODAY()),\"Retard\",\"Attente de Livraison\")))","v":""}]
[null,null,null,null,null,null,null,null,{"$f":"IF(F4813=\"\",\"\",IF(H4813<>\"\",\"OK\",IF(AND(#REF!<>\"\",#REF!<TODAY()),\"Retard\",\"Attente de Livraison\")))","v":""}]
[null,null,null,null,null,null,null,null,{"$f":"IF(F4814=\"\",\"\",IF(H4814<>\"\",\"OK\",IF(AND(#REF!<>\"\",#REF!<TODAY()),\"Retard\",\"Attente de Livraison\")))","v":""}]
[null,null,null,null,null,null,null,null,{"$f":"IF(F4815=\"\",\"\",IF(H4815<>\"\",\"OK\",IF(AND(#REF!<>\"\",#REF!<TODAY()),\"Retard\",\"Attente de Livraison\")))","v":""}]
[null,null,null,null,null,null,null,null,{"$f":"IF(F4816=\"\",\"\",IF(H4816<>\"\",\"OK\",IF(AND(#REF!<>\"\",#REF!<TODAY()),\"Retard\",\"Attente de Livraison\")))","v":""}]
[null,null,null,null,null,null,null,null,{"$f":"IF(F4817=\"\",\"\",IF(H4817<>\"\",\"OK\",IF(AND(#REF!<>\"\",#REF!<TODAY()),\"Retard\",\"Attente de Livraison\")))","v":""}]
[null,null,null,null,null,null,null,null,{"$f":"IF(F4818=\"\",\"\",IF(H4818<>\"\",\"OK\",IF(AND(#REF!<>\"\",#REF!<TODAY()),\"Retard\",\"Attente de Livraison\")))","v":""}]
[null,null,null,null,null,null,null,null,{"$f":"IF(F4819=\"\",\"\",IF(H4819<>\"\",\"OK\",IF(AND(#REF!<>\"\",#REF!<TODAY()),\"Retard\",\"Attente de Livraison\")))","v":""}]
[null,null,null,null,null,null,null,null,{"$f":"IF(F4820=\"\",\"\",IF(H4820<>\"\",\"OK\",IF(AND(#REF!<>\"\",#REF!<TODAY()),\"Retard\",\"Attente de Livraison\")))","v":""}]
[null,null,null,null,null,null,null,null,{"$f":"IF(F4821=\"\",\"\",IF(H4821<>\"\",\"OK\",IF(AND(#REF!<>\"\",#REF!<TODAY()),\"Retard\",\"Attente de Livraison\")))","v":""}]
[null,null,null,null,null,null,null,null,{"$f":"IF(F4822=\"\",\"\",IF(H4822<>\"\",\"OK\",IF(AND(#REF!<>\"\",#REF!<TODAY()),\"Retard\",\"Attente de Livraison\")))","v":""}]
[null,null,null,null,null,null,null,null,{"$f":"IF(F4823=\"\",\"\",IF(H4823<>\"\",\"OK\",IF(AND(#REF!<>\"\",#REF!<TODAY()),\"Retard\",\"Attente de Livraison\")))","v":""}]
[null,null,null,null,null,null,null,null,{"$f":"IF(F4824=\"\",\"\",IF(H4824<>\"\",\"OK\",IF(AND(#REF!<>\"\",#REF!<TODAY()),\"Retard\",\"Attente de Livraison\")))","v":""}]
[null,null,null,null,null,null,null,null,{"$f":"IF(F4825=\"\",\"\",IF(H4825<>\"\",\"OK\",IF(AND(#REF!<>\"\",#REF!<TODAY()),\"Retard\",\"Attente de Livraison\")))","v":""}]
[null,null,null,null,null,null,null,null,{"$f":"IF(F4826=\"\",\"\",IF(H4826<>\"\",\"OK\",IF(AND(#REF!<>\"\",#REF!<TODAY()),\"Retard\",\"Attente de Livraison\")))","v":""}]
[null,null,null,null,null,null,null,null,{"$f":"IF(F4827=\"\",\"\",IF(H4827<>\"\",\"OK\",IF(AND(#REF!<>\"\",#REF!<TODAY()),\"Retard\",\"Attente de Livraison\")))","v":""}]
[null,null,null,null,null,null,null,null,{"$f":"IF(F4828=\"\",\"\",IF(H4828<>\"\",\"OK\",IF(AND(#REF!<>\"\",#REF!<TODAY()),\"Retard\",\"Attente de Livraison\")))","v":""}]
[null,null,null,null,null,null,null,null,{"$f":"IF(F4829=\"\",\"\",IF(H4829<>\"\",\"OK\",IF(AND(#REF!<>\"\",#REF!<TODAY()),\"Retard\",\"Attente de Livraison\")))","v":""}]
[null,null,null,null,null,null,null,null,{"$f":"IF(F4830=\"\",\"\",IF(H4830<>\"\",\"OK\",IF(AND(#REF!<>\"\",#REF!<TODAY()),\"Retard\",\"Attente de Livraison\")))","v":""}]
[null,null,null,null,null,null,null,null,{"$f":"IF(F4831=\"\",\"\",IF(H4831<>\"\",\"OK\",IF(AND(#REF!<>\"\",#REF!<TODAY()),\"Retard\",\"Attente de Livraison\")))","v":""}]
[null,null,null,null,null,null,null,null,{"$f":"IF(F4832=\"\",\"\",IF(H4832<>\"\",\"OK\",IF(AND(#REF!<>\"\",#REF!<TODAY()),\"Retard\",\"Attente de Livraison\")))","v":""}]
[null,null,null,null,null,null,null,null,{"$f":"IF(F4833=\"\",\"\",IF(H4833<>\"\",\"OK\",IF(AND(#REF!<>\"\",#REF!<TODAY()),\"Retard\",\"Attente de Livraison\")))","v":""}]
[null,null,null,null,null,null,null,null,{"$f":"IF(F4834=\"\",\"\",IF(H4834<>\"\",\"OK\",IF(AND(#REF!<>\"\",#REF!<TODAY()),\"Retard\",\"Attente de Livraison\")))","v":""}]
[null,null,null,null,null,null,null,null,{"$f":"IF(F4835=\"\",\"\",IF(H4835<>\"\",\"OK\",IF(AND(#REF!<>\"\",#REF!<TODAY()),\"Retard\",\"Attente de Livraison\")))","v":""}]
[null,null,null,null,null,null,null,null,{"$f":"IF(F4836=\"\",\"\",IF(H4836<>\"\",\"OK\",IF(AND(#REF!<>\"\",#REF!<TODAY()),\"Retard\",\"Attente de Livraison\")))","v":""}]
[null,null,null,null,null,null,null,null,{"$f":"IF(F4837=\"\",\"\",IF(H4837<>\"\",\"OK\",IF(AND(#REF!<>\"\",#REF!<TODAY()),\"Retard\",\"Attente de Livraison\")))","v":""}]
[null,null,null,null,null,null,null,null,{"$f":"IF(F4838=\"\",\"\",IF(H4838<>\"\",\"OK\",IF(AND(#REF!<>\"\",#REF!<TODAY()),\"Retard\",\"Attente de Livraison\")))","v":""}]
[null,null,null,null,null,null,null,null,{"$f":"IF(F4839=\"\",\"\",IF(H4839<>\"\",\"OK\",IF(AND(#REF!<>\"\",#REF!<TODAY()),\"Retard\",\"Attente de Livraison\")))","v":""}]
[null,null,null,null,null,null,null,null,{"$f":"IF(F4840=\"\",\"\",IF(H4840<>\"\",\"OK\",IF(AND(#REF!<>\"\",#REF!<TODAY()),\"Retard\",\"Attente de Livraison\")))","v":""}]
[null,null,null,null,null,null,null,null,{"$f":"IF(F4841=\"\",\"\",IF(H4841<>\"\",\"OK\",IF(AND(#REF!<>\"\",#REF!<TODAY()),\"Retard\",\"Attente de Livraison\")))","v":""}]
[null,null,null,null,null,null,null,null,{"$f":"IF(F4842=\"\",\"\",IF(H4842<>\"\",\"OK\",IF(AND(#REF!<>\"\",#REF!<TODAY()),\"Retard\",\"Attente de Livraison\")))","v":""}]
[null,null,null,null,null,null,null,null,{"$f":"IF(F4843=\"\",\"\",IF(H4843<>\"\",\"OK\",IF(AND(#REF!<>\"\",#REF!<TODAY()),\"Retard\",\"Attente de Livraison\")))","v":""}]
[null,null,null,null,null,null,null,null,{"$f":"IF(F4844=\"\",\"\",IF(H4844<>\"\",\"OK\",IF(AND(#REF!<>\"\",#REF!<TODAY()),\"Retard\",\"Attente de Livraison\")))","v":""}]
[null,null,null,null,null,null,null,null,{"$f":"IF(F4845=\"\",\"\",IF(H4845<>\"\",\"OK\",IF(AND(#REF!<>\"\",#REF!<TODAY()),\"Retard\",\"Attente de Livraison\")))","v":""}]
[null,null,null,null,null,null,null,null,{"$f":"IF(F4846=\"\",\"\",IF(H4846<>\"\",\"OK\",IF(AND(#REF!<>\"\",#REF!<TODAY()),\"Retard\",\"Attente de Livraison\")))","v":""}]
[null,null,null,null,null,null,null,null,{"$f":"IF(F4847=\"\",\"\",IF(H4847<>\"\",\"OK\",IF(AND(#REF!<>\"\",#REF!<TODAY()),\"Retard\",\"Attente de Livraison\")))","v":""}]
[null,null,null,null,null,null,null,null,{"$f":"IF(F4848=\"\",\"\",IF(H4848<>\"\",\"OK\",IF(AND(#REF!<>\"\",#REF!<TODAY()),\"Retard\",\"Attente de Livraison\")))","v":""}]
[null,null,null,null,null,null,null,null,{"$f":"IF(F4849=\"\",\"\",IF(H4849<>\"\",\"OK\",IF(AND(#REF!<>\"\",#REF!<TODAY()),\"Retard\",\"Attente de Livraison\")))","v":""}]
[null,null,null,null,null,null,null,null,{"$f":"IF(F4850=\"\",\"\",IF(H4850<>\"\",\"OK\",IF(AND(#REF!<>\"\",#REF!<TODAY()),\"Retard\",\"Attente de Livraison\")))","v":""}]
[null,null,null,null,null,null,null,null,{"$f":"IF(F4851=\"\",\"\",IF(H4851<>\"\",\"OK\",IF(AND(#REF!<>\"\",#REF!<TODAY()),\"Retard\",\"Attente de Livraison\")))","v":""}]
[null,null,null,null,null,null,null,null,{"$f":"IF(F4852=\"\",\"\",IF(H4852<>\"\",\"OK\",IF(AND(#REF!<>\"\",#REF!<TODAY()),\"Retard\",\"Attente de Livraison\")))","v":""}]
[null,null,null,null,null,null,null,null,{"$f":"IF(F4853=\"\",\"\",IF(H4853<>\"\",\"OK\",IF(AND(#REF!<>\"\",#REF!<TODAY()),\"Retard\",\"Attente de Livraison\")))","v":""}]
[null,null,null,null,null,null,null,null,{"$f":"IF(F4854=\"\",\"\",IF(H4854<>\"\",\"OK\",IF(AND(#REF!<>\"\",#REF!<TODAY()),\"Retard\",\"Attente de Livraison\")))","v":""}]
[null,null,null,null,null,null,null,null,{"$f":"IF(F4855=\"\",\"\",IF(H4855<>\"\",\"OK\",IF(AND(#REF!<>\"\",#REF!<TODAY()),\"Retard\",\"Attente de Livraison\")))","v":""}]
[null,null,null,null,null,null,null,null,{"$f":"IF(F4856=\"\",\"\",IF(H4856<>\"\",\"OK\",IF(AND(#REF!<>\"\",#REF!<TODAY()),\"Retard\",\"Attente de Livraison\")))","v":""}]
[null,null,null,null,null,null,null,null,{"$f":"IF(F4857=\"\",\"\",IF(H4857<>\"\",\"OK\",IF(AND(#REF!<>\"\",#REF!<TODAY()),\"Retard\",\"Attente de Livraison\")))","v":""}]
[null,null,null,null,null,null,null,null,{"$f":"IF(F4858=\"\",\"\",IF(H4858<>\"\",\"OK\",IF(AND(#REF!<>\"\",#REF!<TODAY()),\"Retard\",\"Attente de Livraison\")))","v":""}]
[null,null,null,null,null,null,null,null,{"$f":"IF(F4859=\"\",\"\",IF(H4859<>\"\",\"OK\",IF(AND(#REF!<>\"\",#REF!<TODAY()),\"Retard\",\"Attente de Livraison\")))","v":""}]
[null,null,null,null,null,null,null,null,{"$f":"IF(F4860=\"\",\"\",IF(H4860<>\"\",\"OK\",IF(AND(#REF!<>\"\",#REF!<TODAY()),\"Retard\",\"Attente de Livraison\")))","v":""}]
[null,null,null,null,null,null,null,null,{"$f":"IF(F4861=\"\",\"\",IF(H4861<>\"\",\"OK\",IF(AND(#REF!<>\"\",#REF!<TODAY()),\"Retard\",\"Attente de Livraison\")))","v":""}]
[null,null,null,null,null,null,null,null,{"$f":"IF(F4862=\"\",\"\",IF(H4862<>\"\",\"OK\",IF(AND(#REF!<>\"\",#REF!<TODAY()),\"Retard\",\"Attente de Livraison\")))","v":""}]
[null,null,null,null,null,null,null,null,{"$f":"IF(F4863=\"\",\"\",IF(H4863<>\"\",\"OK\",IF(AND(#REF!<>\"\",#REF!<TODAY()),\"Retard\",\"Attente de Livraison\")))","v":""}]
[null,null,null,null,null,null,null,null,{"$f":"IF(F4864=\"\",\"\",IF(H4864<>\"\",\"OK\",IF(AND(#REF!<>\"\",#REF!<TODAY()),\"Retard\",\"Attente de Livraison\")))","v":""}]
[null,null,null,null,null,null,null,null,{"$f":"IF(F4865=\"\",\"\",IF(H4865<>\"\",\"OK\",IF(AND(#REF!<>\"\",#REF!<TODAY()),\"Retard\",\"Attente de Livraison\")))","v":""}]
[null,null,null,null,null,null,null,null,{"$f":"IF(F4866=\"\",\"\",IF(H4866<>\"\",\"OK\",IF(AND(#REF!<>\"\",#REF!<TODAY()),\"Retard\",\"Attente de Livraison\")))","v":""}]
[null,null,null,null,null,null,null,null,{"$f":"IF(F4867=\"\",\"\",IF(H4867<>\"\",\"OK\",IF(AND(#REF!<>\"\",#REF!<TODAY()),\"Retard\",\"Attente de Livraison\")))","v":""}]
[null,null,null,null,null,null,null,null,{"$f":"IF(F4868=\"\",\"\",IF(H4868<>\"\",\"OK\",IF(AND(#REF!<>\"\",#REF!<TODAY()),\"Retard\",\"Attente de Livraison\")))","v":""}]
[null,null,null,null,null,null,null,null,{"$f":"IF(F4869=\"\",\"\",IF(H4869<>\"\",\"OK\",IF(AND(#REF!<>\"\",#REF!<TODAY()),\"Retard\",\"Attente de Livraison\")))","v":""}]
[null,null,null,null,null,null,null,null,{"$f":"IF(F4870=\"\",\"\",IF(H4870<>\"\",\"OK\",IF(AND(#REF!<>\"\",#REF!<TODAY()),\"Retard\",\"Attente de Livraison\")))","v":""}]
[null,null,null,null,null,null,null,null,{"$f":"IF(F4871=\"\",\"\",IF(H4871<>\"\",\"OK\",IF(AND(#REF!<>\"\",#REF!<TODAY()),\"Retard\",\"Attente de Livraison\")))","v":""}]
[null,null,null,null,null,null,null,null,{"$f":"IF(F4872=\"\",\"\",IF(H4872<>\"\",\"OK\",IF(AND(#REF!<>\"\",#REF!<TODAY()),\"Retard\",\"Attente de Livraison\")))","v":""}]
[null,null,null,null,null,null,null,null,{"$f":"IF(F4873=\"\",\"\",IF(H4873<>\"\",\"OK\",IF(AND(#REF!<>\"\",#REF!<TODAY()),\"Retard\",\"Attente de Livraison\")))","v":""}]
[null,null,null,null,null,null,null,null,{"$f":"IF(F4874=\"\",\"\",IF(H4874<>\"\",\"OK\",IF(AND(#REF!<>\"\",#REF!<TODAY()),\"Retard\",\"Attente de Livraison\")))","v":""}]
[null,null,null,null,null,null,null,null,{"$f":"IF(F4875=\"\",\"\",IF(H4875<>\"\",\"OK\",IF(AND(#REF!<>\"\",#REF!<TODAY()),\"Retard\",\"Attente de Livraison\")))","v":""}]
[null,null,null,null,null,null,null,null,{"$f":"IF(F4876=\"\",\"\",IF(H4876<>\"\",\"OK\",IF(AND(#REF!<>\"\",#REF!<TODAY()),\"Retard\",\"Attente de Livraison\")))","v":""}]
[null,null,null,null,null,null,null,null,{"$f":"IF(F4877=\"\",\"\",IF(H4877<>\"\",\"OK\",IF(AND(#REF!<>\"\",#REF!<TODAY()),\"Retard\",\"Attente de Livraison\")))","v":""}]
[null,null,null,null,null,null,null,null,{"$f":"IF(F4878=\"\",\"\",IF(H4878<>\"\",\"OK\",IF(AND(#REF!<>\"\",#REF!<TODAY()),\"Retard\",\"Attente de Livraison\")))","v":""}]
[null,null,null,null,null,null,null,null,{"$f":"IF(F4879=\"\",\"\",IF(H4879<>\"\",\"OK\",IF(AND(#REF!<>\"\",#REF!<TODAY()),\"Retard\",\"Attente de Livraison\")))","v":""}]
[null,null,null,null,null,null,null,null,{"$f":"IF(F4880=\"\",\"\",IF(H4880<>\"\",\"OK\",IF(AND(#REF!<>\"\",#REF!<TODAY()),\"Retard\",\"Attente de Livraison\")))","v":""}]
[null,null,null,null,null,null,null,null,{"$f":"IF(F4881=\"\",\"\",IF(H4881<>\"\",\"OK\",IF(AND(#REF!<>\"\",#REF!<TODAY()),\"Retard\",\"Attente de Livraison\")))","v":""}]
[null,null,null,null,null,null,null,null,{"$f":"IF(F4882=\"\",\"\",IF(H4882<>\"\",\"OK\",IF(AND(#REF!<>\"\",#REF!<TODAY()),\"Retard\",\"Attente de Livraison\")))","v":""}]
[null,null,null,null,null,null,null,null,{"$f":"IF(F4883=\"\",\"\",IF(H4883<>\"\",\"OK\",IF(AND(#REF!<>\"\",#REF!<TODAY()),\"Retard\",\"Attente de Livraison\")))","v":""}]
[null,null,null,null,null,null,null,null,{"$f":"IF(F4884=\"\",\"\",IF(H4884<>\"\",\"OK\",IF(AND(#REF!<>\"\",#REF!<TODAY()),\"Retard\",\"Attente de Livraison\")))","v":""}]
[null,null,null,null,null,null,null,null,{"$f":"IF(F4885=\"\",\"\",IF(H4885<>\"\",\"OK\",IF(AND(#REF!<>\"\",#REF!<TODAY()),\"Retard\",\"Attente de Livraison\")))","v":""}]

{"sheet":"Trame Bon de Commande","index":2,"n_rows":14,"n_cols":6,"rows_kept":14,"cut":false,"hidden":true,"merged":[[13,0,14,4],[13,5,14,5]]}
[]
[]
[]
[]
[]
[]
[]
[null,"BON DE COMMANDE"]
[]
[]
[]
["Emetteur :   ",null,null,null,"Date : "]
["Lieu de Vie:"]
["PRODUITS",null,null,null,null,"QUANTITE"]

{"sheet":"GestionLISTE","index":3,"n_rows":82,"n_cols":46,"rows_kept":82,"cut":false,"hidden":true,"merged":[[1,0,1,3],[5,15,10,15],[11,15,21,15],[14,18,14,19],[22,15,30,15]]}
[]
["Paramètre GMAO",null,null,null,null,"Catégorie",null,"Liste Articles",null,"Délais",null,"Lieux stockage",null,"Liste Salariés",null,null,null,"Chemin pour Archivage Bon de Commande",null,"Chemin pour sauvegarde Image PhotosProduits",null,"Chemin pour sauvegarde Image interventions",null,"RechercheFournisseur","Ncol","Liste",null,"RechercheProduits","Ncol","Liste",null,"RechercheEntreSortie","Ncol","Liste",null,"Recherche Preventif P","Ncol","Liste",null,"RechercheCommande","Ncol","Liste",null,"Recherche Interventions","Ncol","Liste"]
["Couleur de fond des userform Valeurs RGB",96,138,195,null,"Bidon",null,"Gants Vinyle S",null,"Dispo permanent en stock",null,"Réserve Infirmerie",null,"ALBANHAC Magde",null,null,null,"Q:\\Commun\\partage plan de maintenance\\Gestion Stock Lingerie\\Archivage Bon de Commandes",null,"Q:\\",null,"C:\\",null,"Entreprise",1,1,null,"Référence produit",1,7,null,"Référence interne",1,1,null,"N°MP",1,7,null,"N°Commande",1,7,null,"N° action",1,7]
["MDP Admin","reglaet",null,null,null,"Boite",null,"Gants Vinyle Taille M",null,"1J",null,"Réserve Balnéo",null,"ALBINET Claudine",null,null,null,null,null,"\\\\Commun\\partage plan de maintenance\\Gestion Stock Lingerie\\Photos Produits Lingerie",null,null,null,"activités",2,1,null,"Conditionnement",2,1,null,"Désignation",2,1,null,"Catégorie",2,7,null,"Saisi Par",2,7,null,"Catégorie",2,7]
["Sauvegarde pour multi utilisateur 1=Yes 2=No",1,null,null,null,"Carton",null,"Gants Vinyle Taille L",null,"2J",null,"Réserve Lieu de vie LV 1",null,"ALBINET Claudine",null,"A LIRE",null,null,null,null,null,null,null,"Adresse",3,3,null,"Dosage ",3,1,null,"Type",3,1,null,"Lieux",3,6,null,"Lieu de Vie",3,1,null,"Type Maintenance",3,7]
["MDP Affichage feuille Parc","reglaet",null,null,null,"Flacon",null,"Gants Nitrile Taille S",null,"3J",null,"Réserve Lieu de vie LV 2",null,"ALET-AUREJAC Nadine",null,"Les données Verte peuvent etre supprimer et modifier ou ajouter meme si les Base de Données sont rempli ",null,null,null,null,null,"Chemin pour sauvegarde Image preventif",null,"Code postal",4,1,null,"Descriptif",4,3,null,"Date E/S",4,4,null,"Intervenant",4,7,null,"Réf Produit",4,1,null,"Lieux",4,6]
["Liste intervenant",3,null,null,null,"Paquet",null,"Gants Nitrile Taille M",null,"4J",null,"Réserve Lieu de vie LV 3",null,"ALle ",null,null,null,null,null,null,null,"C:\\",null,"Boite postale",5,1,null,"Péremption",5,1,null,"Qté",5,5,null,"Tache",5,3,null,"Quantité",5,5,null,"Intervenant",5,7]
["Selection ligne sur BD, 1= ok , autres = noOk",1,null,null,null,"Tube",null,"Gants Nitrile Taille L",null,"5J",null,"Réserve Lieu de vie LV 4",null,"ARNAUD Cédric",null,null,null,null,null,null,null,null,null,"Ville",6,1,null,"Lieux",6,1,null,"Lieux",6,1,null,"En prod",6,1,null,"Date de commande",6,4,null,"Priorité",6,7]
["blocage des touches 1= ok , autres = noOk","noOK",null,null,null,"Unité",null,"Gel Hydroalcoolique",null,">5J",null,"Réserve Lieu de vie LV 5",null,"AUTHIER Sylvian",null,null,null,null,null,null,null,null,null,"Pays",7,1,null,"Fournisseur1",7,1,null,null,null,null,null,"Temps",7,5,null,"Date de livraison prévue",7,4,null,"Travaux à effectuer",7,3]
["mot de passe pour supression interventions","reglaet",null,null,null,null,null,"Masque",null,"Sur commande",null,null,null,"BABEAU Glwadys",null,null,null,null,null,null,null,null,null,"Contact",8,3,null,"Reference F1",8,1,null,null,null,null,null,"Freq (J)",8,5,null,"Date de réception",8,4,null,"Date Demande",8,4]
["mot de passe pour supression preventif","reglaet",null,null,null,null,null,"Masque FFP2",null,null,null,null,null,"BARRAU Catherine",null,null,null,null,null,null,null,null,null,"Email",9,3,null,"Delais F1",9,1,null,null,null,null,null,"Dernière date réalisation",9,4,null,"Etat",9,7,null,"Date Prévue",9,4]
["mot de passe pour supression fournisseur","reglaet",null,null,null,null,null,"Blouse",null,null,null,null,null,"BELLEDENT Audrey",null,"Les données ORANGE sont des listes utilisées dans tout le classeur .\nVous pouvez ajouter et ou modifier les valeurs,\nCependant ne pas les suprimmer une fois les Base de Données rempli car des problèmes risque d'arrivé",null,null,null,null,null,null,null,"Tel.",10,3,null,"Prix unitaire F1",10,5,null,null,null,null,null,"Date plannifier",10,4,null,null,null,null,null,"Date Réalisation",10,4]
["mot de passe pour supression produit","reglaet",null,null,null,null,null,null,null,null,null,null,null,"BLANC Marie",null,null,null,null,null,null,null,null,null,"Fax",11,3,null,"Fournisseur 2",11,1,null,null,null,null,null,"Semaine plannifier",11,7,null,null,null,null,null,"Délais Réalisation",11,5]
["mot de passe pour supression commande","reglaet",null,null,null,null,null,null,null,"Emails Destinataires",null,null,null,"BONNEMAYRE Didier",null,null,null,null,null,null,null,null,null,"Site",12,3,null,"Reference F2",12,1,null,null,null,null,null,"Etat",12,7,null,null,null,null,null,"Suivi",12,7]
[null,null,null,null,null,"Type Sortie",null,null,null,"bbbb@aaaaaa.fr",null,null,null,"BOUDOU Maryse",null,null,null,null,"Permet de définir les type de recherche (col N3)",null,null,null,null,"Nom C1",13,3,null,"Delais F2",13,1,null,null,null,null,null,null,null,null,null,null,null,null,null,"Commentaires",13,3]
["Modif Désignation des pièces 1= ok , autres = noOk",1,null,null,null,"Sortie ",null,null,null,"bbbbbbbb@aaaaaa.fr",null,null,null,"BOUVIL Alex",null,null,null,null,"N°","Liste Recherche",null,null,null,"Fonction C1",14,3,null,"Prix unitaire F2",14,5,null,null,null,null,null,null,null,null,null,null,null,null,null,"Temps interventions(h)",14,5]
["Choix référence interne  1= ok , autres = noOk",1,null,null,null,"Sortie Périmé",null,null,null,"vvvvv@aaaaaa.fr",null,null,null,"BUSCAYLET charline",null,null,null,null,1,"Liste suivant feuille",null,null,null,"Tel C1",15,3,null,"Stock",15,5,null,null,null,null,null,null,null,null,null,null,null,null,null,"Arret Prod ( h)",15,5]
[null,null,null,null,null,"Sortie Perte",null,null,null,null,null,null,null,"CAILHOL Isabelle",null,null,null,null,2,"ListeRange",null,null,null,"Email C1",16,3,null,"Stock Min",16,5]
[null,null,null,null,null,"Sortie Dons",null,null,null,null,null,null,null,"CAILLAN Amélie",null,null,null,null,3,"SansListe",null,null,null,"Nom C2",17,3,null,"Produit à commander",17,1]
[null,null,null,null,null,null,null,null,null,null,null,"Lieux",null,"CAMPANO Cindy",null,null,null,null,4,"Date",null,null,null,"Fonction C2",18,3,null,"Coût stock",18,1]
[null,null,null,null,null,null,null,null,null,null,null,"LV 1",null,"CANITROT Nadine",null,null,null,null,5,"Numerique",null,null,null,"Tel C2",19,3,null,"Lieu de stockage",19,1]
[null,null,null,null,null,null,null,null,null,null,null,"LV 2",null,"CAYZAC MANON",null,null,null,null,6,"Lieux",null,null,null,"Email C2",20,3]
[null,null,null,null,null,null,null,null,null,null,null,"LV 3",null,"CHARLES-FOULON Gaëlle",null,"Les données Bleu corresponde à des listes qui sont utilisées pour la fonction recherche (Voir collone T , cela explique les types de listes)",null,null,7,"Liste case à cocher"]
[null,null,null,null,null,null,null,null,null,null,null,"LV 4",null,"COMTE M-PIERRE",null,null,null,null,null,"MEMO VBAListe de recherche définit :"]
[null,null,null,null,null,null,null,null,null,null,null,"LV 5",null,"COSTES Brigitte",null,null,null,null,null,"RechercheFournisseur X2"]
[null,null,null,null,null,null,null,null,null,null,null,"MAS BQV",null,"COUDERC M-Magdeleine",null,null,null,null,null,"RecherchePieces AB2"]
[null,null,null,null,null,null,null,null,null,null,null,"Piscine",null,"CP",null,null,null,null,null,"RechercheEntreSortie AF2"]
[null,null,null,null,null,null,null,null,null,null,null,"Secrétariat",null,"CROZES Elisabeth",null,null,null,null,null,"Recherche Preventif P AJ2"]
[null,null,null,null,null,null,null,null,null,null,null,"Séjour",null,"CROZES Karine",null,null,null,null,null,"RechercheCommande AN2"]
[null,null,null,null,null,null,null,null,null,null,null,"Snoezelen",null,"DELL'OSA Maryse",null,null,null,null,null,"Recherche Interventions AR3"]
[null,null,null,null,null,null,null,null,null,null,null,"BIP",null,"DEVAUX Marc"]
[null,null,null,null,null,null,null,null,null,null,null,"Cuisine",null,"DOMINGUES Stéphanie"]
[null,null,null,null,null,null,null,null,null,null,null,"Infirmerie",null,"DOUMAYROU Florence"]
[null,null,null,null,null,null,null,null,null,null,null,"Lingerie",null,"DUEYMES Christine"]
[null,null,null,null,null,null,null,null,null,null,null,null,null,"DUMAS isabelle"]
[null,null,null,null,null,null,null,null,null,null,null,null,null,"ECHE Virginie"]
[null,null,null,null,null,null,null,null,null,null,null,null,null,"ETIENNE Xavier"]
[null,null,null,null,null,null,null,null,null,null,null,null,null,"Falissard "]
[null,null,null,null,null,null,null,null,null,null,null,null,null,"Falissard Amandine"]
[null,null,null,null,null,null,null,null,null,null,null,null,null,"FEDYCKI Séverine"]
[null,null,null,null,null,null,null,null,null,null,null,null,null,"FERAL Catherine"]
[null,null,null,null,null,null,null,null,null,null,null,null,null,"GARRIGUES Karine"]
[null,null,null,null,null,null,null,null,null,null,null,null,null,"GARZINO Delphine"]
[null,null,null,null,null,null,null,null,null,null,null,null,null,"GAUYRAUD Nathali"]
[null,null,null,null,null,null,null,null,null,null,null,null,null,"GENIEZ Sylvie"]
[null,null,null,null,null,null,null,null,null,null,null,null,null,"GIRAUD MANON"]
[null,null,null,null,null,null,null,null,null,null,null,null,null,"GIROUSSENS Clara"]
[null,null,null,null,null,null,null,null,null,null,null,null,null,"GOMBERT Colette"]
[null,null,null,null,null,null,null,null,null,null,null,null,null,"GRANDET Danièle"]
[null,null,null,null,null,null,null,null,null,null,null,null,null,"hueso anne"]
[null,null,null,null,null,null,null,null,null,null,null,null,null,"JUBELIN Christel"]
[null,null,null,null,null,null,null,null,null,null,null,null,null,"KSENIEZ brigitte"]
[null,null,null,null,null,null,null,null,null,null,null,null,null,"LAFON Carinne"]
[null,null,null,null,null,null,null,null,null,null,null,null,null,"LAGRIFFOUL Sylvie"]
[null,null,null,null,null,null,null,null,null,null,null,null,null,"LARDINOIS Carolane"]
[null,null,null,null,null,null,null,null,null,null,null,null,null,"LERUST Christine"]
[null,null,null,null,null,null,null,null,null,null,null,null,null,"MACIAS JULIE"]
[null,null,null,null,null,null,null,null,null,null,null,null,null,"MAKOUR Nouara"]
[null,null,null,null,null,null,null,null,null,null,null,null,null,"MARQUES Delphine"]
[null,null,null,null,null,null,null,null,null,null,null,null,null,"MAYMARD Sabrina"]
[null,null,null,null,null,null,null,null,null,null,null,null,null,"MONJOU Aurélie"]
[null,null,null,null,null,null,null,null,null,null,null,null,null,"NAYRAGUET Nathalie"]
[null,null,null,null,null,null,null,null,null,null,null,null,null,"PANIS Patricia"]
[null,null,null,null,null,null,null,null,null,null,null,null,null,"PEREZ Christian"]
[null,null,null,null,null,null,null,null,null,null,null,null,null,"PONTET Régis"]
[null,null,null,null,null,null,null,null,null,null,null,null,null,"POUGET Catherine"]
[null,null,null,null,null,null,null,null,null,null,null,null,null,"POZO Léa"]
[null,null,null,null,null,null,null,null,null,null,null,null,null,"PRADINES Christophe"]
[null,null,null,null,null,null,null,null,null,null,null,null,null,"RAYNAL"]
[null,null,null,null,null,null,null,null,null,null,null,null,null,"RAYNAL Martine"]
[null,null,null,null,null,null,null,null,null,null,null,null,null,"REBOIS Orianne"]
[null,null,null,null,null,null,null,null,null,null,null,null,null,"REdge"]
[null,null,null,null,null,null,null,null,null,null,null,null,null,"REGOURD Cathy"]
[null,null,null,null,null,null,null,null,null,null,null,null,null,"SALESSES Marie Françoise"]
[null,null,null,null,null,null,null,null,null,null,null,null,null,"SASSO Justine"]
[null,null,null,null,null,null,null,null,null,null,null,null,null,"SENEGAS Marie"]
[null,null,null,null,null,null,null,null,null,null,null,null,null,"SOULIE Anaïs"]
[null,null,null,null,null,null,null,null,null,null,null,null,null,"SOULIE Joëlle"]
[null,null,null,null,null,null,null,null,null,null,null,null,null,"SOUTADE Regis"]
[null,null,null,null,null,null,null,null,null,null,null,null,null,"VABRE Ghislaine"]
[null,null,null,null,null,null,null,null,null,null,null,null,null,"VIDAL Cathy"]
[null,null,null,null,null,null,null,null,null,null,null,null,null,"x de Valérie"]

{"sheet":"Gestion Mot DE Passe","index":4,"n_rows":3,"n_cols":4,"rows_kept":3,"cut":false,"hidden":true,"merged":[]}
["Users","Passworld","Niveau","Date"]
["Users","Passworld","Niveau","Date"]
["Admin","Admin",1,"2016-02-02"]