{"text_format":"1","workbook":"xlsx","n_sheets":15,"sheets":["Congé","Janvier","Février","Mars","Avril","Mai","Juin","Juillet","Août","Septembre","Octobre","Novembre","Décembre","Technique","Mode d'emploi"],"not_rendered":{"charts":0,"images":0,"macros":1,"external_links":0,"defined_names":1,"comments":12,"pivot_tables":0},"unopened":[],"bounds":{"document_bytes":16777216,"sheet_cells":100000,"rows_first":2000,"rows_last":500,"rows_between":2000,"halvings":0,"cell_chars":16384,"cell_head_chars":4096},"cells_cut":0,"cells_raw":0,"read":"whole","date_system":"1900"}

{"sheet":"Congé","index":0,"n_rows":62,"n_cols":9,"rows_kept":62,"cut":false,"hidden":false,"merged":[[12,6,16,6],[8,8,34,8],[18,6,34,7],[52,2,61,2],[0,4,2,4],[0,5,1,5],[49,2,49,3],[8,6,10,6],[8,7,16,7]]}
[null,null,null,null,"Groupe"]
[]
["date d'entrée SPP","Grade","Date de nomination"]
[]
[]
[null,null,null,null,1,"MATEO"]
[null,null,null,null,9,"BARREAU"]
[]
["1987-07-01","ADJUDANT","2012-05-01","SOG",10,"CARTIER",1,3,9]
["1995-07-01","ADJUDANT","2012-05-01","SOG",4,"CARTAUT"]
["1997-10-01","ADJUDANT","2014-01-01","SOG",5,"CASTA"]
[]
["1993-12-22","ADJUDANT","2014-01-01","INC2",8,"SELLES"]
["1999-09-01","ADJUDANT","2016-01-01","INC2",9,"MASSELIN"]
["2001-01-01","ADJUDANT","2016-01-01","INC2",6,"HUGUES"]
["2001-01-01","ADJUDANT","2019-01-01","INC2",1,"MALET"]
["2002-01-01","ADJUDANT","2019-01-01","INC2",2,"REY F"]
[]
["2002-03-01","SERGENT","2013-01-01","INC1",9,"ROSTAND"]
["2004-09-01","SERGENT","2013-01-01","INC1",6,"LAURENT J"]
["2007-03-01","SERGENT","2014-01-01","INC1",10,"BALLESTER"]
["2003-12-08","SERGENT","2014-01-01","INC1",7,"GRIMM"]
["2005-05-01","SERGENT","2015-01-01","INC1",3,"ORIOL"]
["2007-07-01","SERGENT","2015-01-01","INC1",10,"DEPRAD"]
["2007-07-01","SERGENT","2015-01-01","INC1",4,"FLORES"]
["2007-12-01","SERGENT","2015-01-01","INC1",2,"FIGUEIRINHA"]
["2008-04-01","SERGENT","2015-01-01","INC1",8,"HEURTEBISE"]
["2009-04-01","SERGENT","2016-07-01","INC1",3,"BLANCHARD"]
["2014-12-01","SERGENT","2018-07-01","INC1",5,"BOUISSET"]
["2015-03-01","SERGENT","2018-07-01","INC1",5,"DECITRE"]
["2019-03-01","SERGENT","2019-03-10","INC1",4,"EON"]
["2010-03-01","CAPORAL",null,"INC1",6,"DIOLOGENT"]
["2011-02-01","CAPORAL",null,"INC1",7,"GUEROULT"]
["2011-02-14","CAPORAL",null,"INC1",1,"SALMI"]
["2014-10-06","CAPORAL",null,"INC1",3,"DYLIK"]
[]
["2011-07-01","CAPORAL","2017-01-01","CEQ",9,"MONTALEGRE"]
["2014-03-01","CAPORAL","2017-01-01","CEQ",9,"SERANO G"]
["2014-10-01","CAPORAL","2017-01-01","CEQ",7,"LANCIAL"]
["2014-10-01","CAPORAL","2017-01-01","CEQ",8,"MOURCIA"]
["2014-10-01","CAPORAL","2017-01-01","CEQ",2,"GILSON"]
["2015-03-01","CAPORAL","2017-01-01","CEQ",3,"PERETTI"]
["2015-09-01","CAPORAL","2017-01-01","CEQ",5,"PERINO"]
["2019-02-01","CAPORAL","2019-02-01","CEQ",10,"LUPI"]
["2019-02-01","CAPORAL","2019-02-01","CEQ",4,"ROOS"]
["2019-01-01","CAPORAL","2019-01-01","CEQ",1,"VALERIAN"]
["2019-07-01","CAPORAL","2019-07-01","CEQ",6,"ROUSTAN"]
["2019-09-01","CAPORAL","2019-09-01","CEQ",1,"WENGER"]
["2020-01-01","CAPORAL","2020-01-01","CEQ",8,"LHERBIER"]
[null,null,"effectif total",null,{"$f":"COUNTA(E9:E49)","v":38}]
[]
[]
[null,null,"répartition par groupe en 12h",1,{"$f":"COUNTIF($E$9:$E$49,D53)","v":4}]
[null,null,null,2,{"$f":"COUNTIF($E$9:$E$49,D54)","v":3}]
[null,null,null,3,4]
[null,null,null,4,4]
[null,null,null,5,4]
[null,null,null,6,4]
[null,null,null,7,3]
[null,null,null,8,4]
[null,null,null,9,4]
[null,null,null,10,4]

{"sheet":"Janvier","index":1,"n_rows":126,"n_cols":19,"rows_kept":126,"cut":false,"hidden":false,"merged":[[0,16,2,16],[0,17,2,17],[4,0,4,1],[1,6,1,7]]}
[null,null,"2020-01-01","2020-01-04","2020-01-07","2020-01-10","2020-01-13","2020-01-16","2020-01-19","2020-01-22","2020-01-25","2020-01-28","2020-01-31",null,null,null,"Fonctions    24h","Fonctions 12h"]
[null,null,null,null,null,null,{"$f":"RIGHT(CELL(\"nomfichier\",G2),LEN(CELL(\"nomfichier\",G2))-SEARCH(\"]\",CELL(\"nomfichier\",G2)))","v":"Janvier"},null,null,null,null,null,null,"12h",null,"CA",null,null,"CA"]
[null,null,1,4,7,10,13,16,19,22,25,28,31,"12h",null,"CAJ",null,null,"CAJ"]
[null,null,"MER","SAM","MAR","VEN","LUN","JEU","DIM","MER","SAM","MAR","VEN",null,null,"CAN","CG","CG 12h","CAN"]
["Equipes",null,2,3,4,5,6,7,8,9,10,1,2,null,null,"CAJ/Feu","CDG","CDG 12h","CAJ/Feu"]
[{"$f":"Congé!E6","v":1},{"$f":"Congé!F6","v":"MATEO"},"OGG","CA","OGG","CA","CDG","CDG","CDG",{"$f":"IF($A6=J$5,\"12h\",IF($A6=\"\",\"\",\"\"))","v":""},{"$f":"IF($A6=K$5,\"12h\",IF($A6=\"\",\"\",\"\"))","v":""},"CA",{"$f":"IF($A6=M$5,\"12h\",IF($A6=\"\",\"\",\"\"))","v":""},null,null,"Feu/CAN","VPUa","VPUa 12h","Feu/CAN"]
[{"$f":"Congé!E7","v":9},{"$f":"Congé!F7","v":"BARREAU"},"CA","CDG","CDG","CDG","12h","CA","OGG","CA",{"$f":"IF($A7=K$5,\"12h\",IF($A7=\"\",\"\",\"\"))","v":""},{"$f":"IF($A7=L$5,\"12h\",IF($A7=\"\",\"\",\"\"))","v":""},{"$f":"IF($A7=M$5,\"12h\",IF($A7=\"\",\"\",\"\"))","v":""},null,null,"CAJ/V","VPU","VPU 12h","CAJ/V"]
[]
[{"$f":"Congé!E9","v":10},{"$f":"Congé!F9","v":"CARTIER"},"CDG","FPTa","SOG","FPTa","CA","CE","CE","CA",{"$f":"IF($A9=K$5,\"12h\",IF($A9=\"\",\"\",\"\"))","v":"12h"},"","",null,null,"V/CAN","VPUc","VPUc 12h","V/CAN"]
[{"$f":"Congé!E10","v":4},{"$f":"Congé!F10","v":"CARTAUT"},"CA","CA",{"$f":"IF($A10=E$5,\"12h\",IF($A10=\"\",\"\",\"\"))","v":"12h"},"VPUa","SOG","FPTa","FPTa",{"$f":"IF($A10=J$5,\"12h\",IF($A10=\"\",\"\",\"\"))","v":""},"","","",null,null,"PCJ/CAN","FPTa","FPTa 12h","PCJ/CAN"]
[{"$f":"Congé!E11","v":5},{"$f":"Congé!F11","v":"CASTA"},"SOG","VPUa","FPTa","SOG","12h","CAJ","SOG",{"$f":"IF($A11=J$5,\"12h\",IF($A11=\"\",\"\",\"\"))","v":""},{"$f":"IF($A11=K$5,\"12h\",IF($A11=\"\",\"\",\"\"))","v":""},"CA","CA",null,null,"CAJ/PCN","FPT","FPT 12h","CAJ/PCN"]
[]
[{"$f":"Congé!E13","v":8},{"$f":"Congé!F13","v":"SELLES"},"CA","CA","VPUc","EPSa","VPUa","Evc",{"$f":"IF($A13=I$5,\"12h\",IF($A13=\"\",\"\",\"\"))","v":"12h"},{"$f":"IF($A13=J$5,\"12h\",IF($A13=\"\",\"\",\"\"))","v":""},{"$f":"IF($A13=K$5,\"12h\",IF($A13=\"\",\"\",\"\"))","v":""},{"$f":"IF($A13=L$5,\"12h\",IF($A13=\"\",\"\",\"\"))","v":""},{"$f":"IF($A13=M$5,\"12h\",IF($A13=\"\",\"\",\"\"))","v":""},null,null,"CAJ/STN","FPTc","FPTc 12h","CAJ/STN"]
[{"$f":"Congé!E14","v":9},{"$f":"Congé!F14","v":"MASSELIN"},"VSAV 24h","VPU","EVa","VSRa","VSAV 24h","FPT","CA",{"$f":"IF($A14=J$5,\"12h\",IF($A14=\"\",\"\",\"\"))","v":"12h"},"CA",{"$f":"IF($A14=L$5,\"12h\",IF($A14=\"\",\"\",\"\"))","v":""},{"$f":"IF($A14=M$5,\"12h\",IF($A14=\"\",\"\",\"\"))","v":""},null,null,"STJ/CAN","EPSa","EPSa 12h","STJ/CAN"]
[{"$f":"Congé!E15","v":6},{"$f":"Congé!F15","v":"HUGUES"},"VPUa","EVa","VSAV 24h","CA",{"$f":"IF($A15=G$5,\"12h\",IF($A15=\"\",\"\",\"\"))","v":"12h"},"VSAV nuit","EVa",{"$f":"IF($A15=J$5,\"12h\",IF($A15=\"\",\"\",\"\"))","v":""},{"$f":"IF($A15=K$5,\"12h\",IF($A15=\"\",\"\",\"\"))","v":""},{"$f":"IF($A15=L$5,\"12h\",IF($A15=\"\",\"\",\"\"))","v":""},"USSH",null,null,"CAJ/CEN","EPSc","EPSc 12h","CAJ/CEN"]
[{"$f":"Congé!E16","v":1},{"$f":"Congé!F16","v":"MALET"},"VSAV nuit","CA","Evc","FPTc","VSAV 24h","VPUc","VSAV nuit",{"$f":"IF($A16=J$5,\"12h\",IF($A16=\"\",\"\",\"\"))","v":""},{"$f":"IF($A16=K$5,\"12h\",IF($A16=\"\",\"\",\"\"))","v":""},{"$f":"IF($A16=L$5,\"12h\",IF($A16=\"\",\"\",\"\"))","v":"12h"},{"$f":"IF($A16=M$5,\"12h\",IF($A16=\"\",\"\",\"\"))","v":""},null,null,"CEJ/CAN","EPS","EPS 12h","CEJ/CAN"]
[{"$f":"Congé!E17","v":2},{"$f":"Congé!F17","v":"REY F"},"CA","VSAV 24h","VPU","CA","FPTa","VSAV 24h","CA","CA","CA","CA",{"$f":"IF($A17=M$5,\"12h\",IF($A17=\"\",\"\",\"\"))","v":"12h"},null,null,"CAJ/AAN","VSRa","VSRa 12h","CAJ/AAN"]
[]
[{"$f":"Congé!E19","v":9},{"$f":"Congé!F19","v":"ROSTAND"},"CA","CA","VSAV 24h","CA","12h","CAN","VSAV 24h",null,{"$f":"IF($A19=K$5,\"12h\",IF($A19=\"\",\"\",\"\"))","v":""},{"$f":"IF($A19=L$5,\"12h\",IF($A19=\"\",\"\",\"\"))","v":""},"CA",null,null,"AAJ/CAN","VSRc","VSRc 12h","AAJ/CAN"]
[{"$f":"Congé!E20","v":6},{"$f":"Congé!F20","v":"LAURENT J"},"Evc","VSAV 24h","VPU","VSAV nuit",{"$f":"IF($A20=G$5,\"12h\",IF($A20=\"\",\"\",\"\"))","v":"12h"},"PCN","CA",null,"CA",{"$f":"IF($A20=L$5,\"12h\",IF($A20=\"\",\"\",\"\"))","v":""},"",null,null,"CAJ/CPN","VSR","VSR 12h","CAJ/CPN"]
[{"$f":"Congé!E21","v":10},{"$f":"Congé!F21","v":"BALLESTER"},"CA","CA","VSAV 24h","CA","EVa","VSAV 24h","CA",{"$f":"IF($A21=J$5,\"12h\",IF($A21=\"\",\"\",\"\"))","v":""},{"$f":"IF($A21=K$5,\"12h\",IF($A21=\"\",\"\",\"\"))","v":"12h"},"CA","CA",null,null,"CPJ/CAN","EVa","Eva 12h","CPJ/CAN"]
[{"$f":"Congé!E22","v":7},{"$f":"Congé!F22","v":"GRIMM"},null,"VSAV 24h","PCJ","Evc","VSAV 24h",{"$f":"IF($A22=H$5,\"12h\",IF($A22=\"\",\"\",\"\"))","v":"12h"},"VSAV 24h",{"$f":"IF($A22=J$5,\"12h\",IF($A22=\"\",\"\",\"\"))","v":""},"CA","CA","CAN",null,null,"RPM","Evc","Evc 12h"]
[{"$f":"Congé!E23","v":3},{"$f":"Congé!F23","v":"ORIOL"},"VSAV 24h","CA","PCN","FPT","VPU","VLM nuit","VPU",{"$f":"IF($A23=J$5,\"12h\",IF($A23=\"\",\"\",\"\"))","v":""},"12h","","",null,null,"ST","EV","EV 12h"]
[{"$f":"Congé!E24","v":10},{"$f":"Congé!F24","v":"DEPRAD"},"PCJ","VSAV nuit","VPU","PCJ","VSAV 24h","PCJ","PCN",{"$f":"IF($A24=J$5,\"12h\",IF($A24=\"\",\"\",\"\"))","v":""},{"$f":"IF($A24=K$5,\"12h\",IF($A24=\"\",\"\",\"\"))","v":"12h"},"","CA",null,null,"STJ/Feu","VID","VID 12h"]
[{"$f":"Congé!E25","v":4},{"$f":"Congé!F25","v":"FLORES"},"CM","CM","CM","CM","PC 24","CA","CA","CA",{"$f":"IF($A25=K$5,\"12h\",IF($A25=\"\",\"\",\"\"))","v":""},"CA","CA",null,null,"STJ/V","VSAV 24h","VSAV 12h"]
[{"$f":"Congé!E26","v":2},{"$f":"Congé!F26","v":"FIGUEIRINHA"},"MUT","MUT","MUT","MUT","MUT","MUT","MUT","MUT","MUT","MUT","MUT",null,null,"STJ/PCN","VSAV jour","VLM 12h"]
[{"$f":"Congé!E27","v":8},{"$f":"Congé!F27","v":"HEURTEBISE"},"VSAV jour","Evc","VID","VSAV 24h","Evc","CA",{"$f":"IF($A27=I$5,\"12h\",IF($A27=\"\",\"\",\"\"))","v":"12h"},"CA",{"$f":"IF($A27=K$5,\"12h\",IF($A27=\"\",\"\",\"\"))","v":""},{"$f":"IF($A27=L$5,\"12h\",IF($A27=\"\",\"\",\"\"))","v":""},"CA",null,null,"STJ","VSAV nuit","PC 12h"]
[{"$f":"Congé!E28","v":3},{"$f":"Congé!F28","v":"BLANCHARD"},"VPU","VLM nuit","PCJ","VLM nuit","PCN","CAJ","VLM nuit",{"$f":"IF($A28=J$5,\"12h\",IF($A28=\"\",\"\",\"\"))","v":""},"CA","CA","CA",null,null,"STN","VLM 24h","ST 12h"]
[{"$f":"Congé!E29","v":5},{"$f":"Congé!F29","v":"BOUISSET"},"CA","PCN","12h","VSAV 24h","FPTc","VSAV jour","CA",{"$f":"IF($A29=J$5,\"12h\",IF($A29=\"\",\"\",\"\"))","v":""},{"$f":"IF($A29=K$5,\"12h\",IF($A29=\"\",\"\",\"\"))","v":""},"","",null,null,"CE","VLM jour","CE 12h"]
[{"$f":"Congé!E30","v":5},{"$f":"Congé!F30","v":"DECITRE"},"CA","CA","VSAV 24h",{"$f":"IF($A30=F$5,\"12h\",IF($A30=\"\",\"\",\"\"))","v":"12h"},"CA","Evc","VSAV 24h",{"$f":"IF($A30=J$5,\"12h\",IF($A30=\"\",\"\",\"\"))","v":""},{"$f":"IF($A30=K$5,\"12h\",IF($A30=\"\",\"\",\"\"))","v":""},"","",null,null,"CEJ","VLM nuit","CP 12h"]
[{"$f":"Congé!E31","v":4},{"$f":"Congé!F31","v":"EON"},"VPU","VSAV jour",{"$f":"IF($A31=E$5,\"12h\",IF($A31=\"\",\"\",\"\"))","v":"12h"},"VSAV jour","CA","PCN","CA","CA","","","",null,null,"CEN","PCJ","AA 12h"]
[{"$f":"Congé!E32","v":6},{"$f":"Congé!F32","v":"DIOLOGENT"},null,"VSAV 24h","VPU","VPU",{"$f":"IF($A32=G$5,\"12h\",IF($A32=\"\",\"\",\"\"))","v":"12h"},"VSAV nuit","VPUc","CA",{"$f":"IF($A32=K$5,\"12h\",IF($A32=\"\",\"\",\"\"))","v":""},"CA","CA",null,null,"CEJ/CPN","PCN","AT 12h"]
[{"$f":"Congé!E33","v":7},{"$f":"Congé!F33","v":"GUEROULT"},"VSAV 24h",null,"PCN","FPT","EV",{"$f":"IF($A33=H$5,\"12h\",IF($A33=\"\",\"\",\"\"))","v":"12h"},"VSAV 24h",{"$f":"IF($A33=J$5,\"12h\",IF($A33=\"\",\"\",\"\"))","v":""},{"$f":"IF($A33=K$5,\"12h\",IF($A33=\"\",\"\",\"\"))","v":""},{"$f":"IF($A33=L$5,\"12h\",IF($A33=\"\",\"\",\"\"))","v":""},"",null,null,"CP","PC 24","RPM 12h"]
[{"$f":"Congé!E34","v":1},{"$f":"Congé!F34","v":"SALMI"},{"$f":"IF($A34=C$5,\"12h\",IF($A34=\"\",\"\",\"\"))","v":""},{"$f":"IF($A34=D$5,\"12h\",IF($A34=\"\",\"\",\"\"))","v":""},"VSAV 24h","VPU","FPT","VSAV 24h","VPU",{"$f":"IF($A34=J$5,\"12h\",IF($A34=\"\",\"\",\"\"))","v":""},"CA","12h","",null,null,"CPJ","USSH","CM 12h"]
[{"$f":"Congé!E35","v":3},{"$f":"Congé!F35","v":"DYLIK"},"VPU",null,"CA","VSAV 24h","VPUc","12h","CA",{"$f":"IF($A35=J$5,\"12h\",IF($A35=\"\",\"\",\"\"))","v":""},{"$f":"IF($A35=K$5,\"12h\",IF($A35=\"\",\"\",\"\"))","v":""},"","",null,null,"CPN"]
[]
[{"$f":"Congé!E37","v":9},{"$f":"Congé!F37","v":"MONTALEGRE"},"CA","PCN","VID","CA","VSAV 24h","CA","VLM jour","CA",{"$f":"IF($A37=K$5,\"12h\",IF($A37=\"\",\"\",\"\"))","v":""},"CA","12h",null,null,"AA"]
[{"$f":"Congé!E38","v":9},{"$f":"Congé!F38","v":"SERANO G"},"VPU","CA","VSAV 24h","CE","VSAV jour","FPT","VSAV 24h",{"$f":"IF($A38=J$5,\"12h\",IF($A38=\"\",\"\",\"\"))","v":"12h"},{"$f":"IF($A38=K$5,\"12h\",IF($A38=\"\",\"\",\"\"))","v":""},{"$f":"IF($A38=L$5,\"12h\",IF($A38=\"\",\"\",\"\"))","v":""},{"$f":"IF($A38=M$5,\"12h\",IF($A38=\"\",\"\",\"\"))","v":""},null,null,"AAJ"]
[{"$f":"Congé!E39","v":7},{"$f":"Congé!F39","v":"LANCIAL"},"CA","VSAV 24h","FPT","PCN","VPU",{"$f":"IF($A39=H$5,\"12h\",IF($A39=\"\",\"\",\"\"))","v":"12h"},"VSAV nuit",{"$f":"IF($A39=J$5,\"12h\",IF($A39=\"\",\"\",\"\"))","v":""},{"$f":"IF($A39=K$5,\"12h\",IF($A39=\"\",\"\",\"\"))","v":""},"CA",{"$f":"IF($A39=M$5,\"12h\",IF($A39=\"\",\"\",\"\"))","v":""},null,null,"AAN"]
[{"$f":"Congé!E40","v":8},{"$f":"Congé!F40","v":"MOURCIA"},"CA","VSAV 24h","CA","CA","VSAV 24h","FPT",{"$f":"IF($A40=I$5,\"12h\",IF($A40=\"\",\"\",\"\"))","v":"12h"},{"$f":"IF($A40=J$5,\"12h\",IF($A40=\"\",\"\",\"\"))","v":""},"CA","CA",{"$f":"IF($A40=M$5,\"12h\",IF($A40=\"\",\"\",\"\"))","v":""},null,null,"CM"]
[{"$f":"Congé!E41","v":2},{"$f":"Congé!F41","v":"GILSON"},{"$f":"IF($A41=C$5,\"12h\",IF($A41=\"\",\"\",\"\"))","v":"12h"},"VSAV 24h","CA","PCN","FPT","VPU","VSAV 24h","CA",{"$f":"IF($A41=K$5,\"12h\",IF($A41=\"\",\"\",\"\"))","v":""},{"$f":"IF($A41=L$5,\"12h\",IF($A41=\"\",\"\",\"\"))","v":""},"12h",null,null,"AT"]
[{"$f":"Congé!E42","v":3},{"$f":"Congé!F42","v":"PERETTI"},"PCN",{"$f":"IF($A42=D$5,\"12h\",IF($A42=\"\",\"\",\"\"))","v":"12h"},"VLM jour","VPUc","VSAV nuit","VPU","PCN","CA","CA","CA",{"$f":"IF($A42=M$5,\"12h\",IF($A42=\"\",\"\",\"\"))","v":""},null,null,"TP"]
[{"$f":"Congé!E43","v":5},{"$f":"Congé!F43","v":"PERINO"},"VSAV 24h","CA","VSAV 24h",{"$f":"IF($A43=F$5,\"12h\",IF($A43=\"\",\"\",\"\"))","v":"12h"},"VSAV jour","PCJ","VSAV nuit","CA","CA",{"$f":"IF($A43=L$5,\"12h\",IF($A43=\"\",\"\",\"\"))","v":""},{"$f":"IF($A43=M$5,\"12h\",IF($A43=\"\",\"\",\"\"))","v":""},null,null,"SHR"]
[{"$f":"Congé!E44","v":10},{"$f":"Congé!F44","v":"LUPI"},"VSAV jour","CA","FPT","VSAV 24h","CA","CA","VSAV 24h",{"$f":"IF($A44=J$5,\"12h\",IF($A44=\"\",\"\",\"\"))","v":""},{"$f":"IF($A44=K$5,\"12h\",IF($A44=\"\",\"\",\"\"))","v":"12h"},"CA","CA",null,null,"MUT"]
[{"$f":"Congé!E45","v":4},{"$f":"Congé!F45","v":"ROOS"},"VLM nuit","PCJ",{"$f":"IF($A45=E$5,\"12h\",IF($A45=\"\",\"\",\"\"))","v":"12h"},"VSAV 24h","FPT","VSAV nuit","CA","CA","CA","12h",{"$f":"IF($A45=M$5,\"12h\",IF($A45=\"\",\"\",\"\"))","v":""},null,null,"CA ops"]
[{"$f":"Congé!E46","v":1},{"$f":"Congé!F46","v":"VALERIAN"},"PCN","VPU","VSAV 24h","EV","CA","VSAV 24h","VPU",{"$f":"IF($A46=J$5,\"12h\",IF($A46=\"\",\"\",\"\"))","v":""},{"$f":"IF($A46=K$5,\"12h\",IF($A46=\"\",\"\",\"\"))","v":""},{"$f":"IF($A46=L$5,\"12h\",IF($A46=\"\",\"\",\"\"))","v":"12h"},{"$f":"IF($A46=M$5,\"12h\",IF($A46=\"\",\"\",\"\"))","v":""}]
[{"$f":"Congé!E47","v":6},{"$f":"Congé!F47","v":"ROUSTAN"},"PCJ","VSAV 24h","FPT","VSAV jour","CA","CA","CA","CA","CA",{"$f":"IF($A47=L$5,\"12h\",IF($A47=\"\",\"\",\"\"))","v":""},"12h"]
[{"$f":"Congé!E48","v":1},{"$f":"Congé!F48","v":"WENGER"},"VPU","VSAV jour","FPT","VSAV 24h","FPT","VSAV jour","CA",{"$f":"IF($A48=J$5,\"12h\",IF($A48=\"\",\"\",\"\"))","v":""},"CA",{"$f":"IF($A48=L$5,\"12h\",IF($A48=\"\",\"\",\"\"))","v":"12h"},{"$f":"IF($A48=M$5,\"12h\",IF($A48=\"\",\"\",\"\"))","v":""}]
[{"$f":"Congé!E49","v":8},{"$f":"Congé!F49","v":"LHERBIER"},"VSAV 24h","VPU","12h","CA","VSAV 24h","VPU","CA",{"$f":"IF($A49=J$5,\"12h\",IF($A49=\"\",\"\",\"\"))","v":""},{"$f":"IF($A49=K$5,\"12h\",IF($A49=\"\",\"\",\"\"))","v":""},{"$f":"IF($A49=L$5,\"12h\",IF($A49=\"\",\"\",\"\"))","v":""},{"$f":"IF($A49=M$5,\"12h\",IF($A49=\"\",\"\",\"\"))","v":""}]
[null,"CA Jour",{"$f":"COUNTIF(C9:C49,\"CA\")+COUNTIF(C9:C49,\"CAJ*\")+COUNTIF(C9:C49,\"RPM\")","v":10},{"$f":"COUNTIF(D9:D49,\"CA\")+COUNTIF(D9:D49,\"CAJ*\")+COUNTIF(D9:D49,\"RPM\")","v":10},3,7,6,7,12,12,12,12,9]
[null,"Absence jour",{"$f":"SUM(C71:C73)+C77+SUM(C78:C84)+SUM(C88:C98)+C50","v":12},{"$f":"SUM(D71:D73)+D77+SUM(D78:D84)+SUM(D88:D98)+D50","v":12},5,10,7,9,14,13,13,13,10]
[null,"CA Nuit",{"$f":"COUNTIF(C9:C49,\"CA\")+COUNTIF(C9:C49,\"*CAN\")+COUNTIF(C9:C49,\"RPM\")","v":10},{"$f":"COUNTIF(D9:D49,\"CA\")+COUNTIF(D9:D49,\"*CAN\")+COUNTIF(D9:D49,\"RPM\")","v":10},3,7,6,6,12,12,12,12,10]
[null,"Absence Nuit",{"$f":"SUM(C63:C65)+C68+SUM(C85:C98)+C52","v":12},{"$f":"SUM(D63:D65)+D68+SUM(D85:D98)+D52","v":12},5,10,7,8,14,13,13,13,11]
[]
[null,"Nombre de 12h",{"$f":"COUNTIF(C9:C49,\"*12h\")","v":1},{"$f":"COUNTIF(D9:D49,\"*12h\")","v":1},5,2,5,4,3,2,5,5,4]
[]
[null,"Nbre de pro jour",{"$f":"Congé!$E$50-C51","v":26},{"$f":"Congé!$E$50-D51","v":26},{"$f":"Congé!$E$50-E51","v":33},{"$f":"Congé!$E$50-F51","v":28},{"$f":"Congé!$E$50-G51","v":31},{"$f":"Congé!$E$50-H51","v":29},{"$f":"Congé!$E$50-I51","v":24},{"$f":"Congé!$E$50-J51","v":25},{"$f":"Congé!$E$50-K51","v":25},{"$f":"Congé!$E$50-L51","v":25},{"$f":"Congé!$E$50-M51","v":28}]
[null,"Nbre de pro nuit",{"$f":"Congé!$E$50-C53-C55","v":25},{"$f":"Congé!$E$50-D53-D55","v":25},{"$f":"Congé!$E$50-E53-E55","v":28},{"$f":"Congé!$E$50-F53-F55","v":26},{"$f":"Congé!$E$50-G53-G55","v":26},{"$f":"Congé!$E$50-H53-H55","v":26},{"$f":"Congé!$E$50-I53-I55","v":21},{"$f":"Congé!$E$50-J53-J55","v":23},{"$f":"Congé!$E$50-K53-K55","v":20},{"$f":"Congé!$E$50-L53-L55","v":20},{"$f":"Congé!$E$50-M53-M55","v":23}]
[]
[null,"CA",{"$f":"COUNTIF(C$9:C$49,$B60)","v":10},{"$f":"COUNTIF(D$9:D$49,$B60)","v":10},3,7,6,5,12,12,12,12,9]
[null,"RPM",{"$f":"COUNTIF(C$9:C$49,$B61)","v":0},0,0,0,0,0,0,0,0,0,0]
[null,"CAJ",0,0,0,0,0,2,0,0,0,0,0]
[null,"CAJ/AAN",0,0,0,0,0,0,0,0,0,0,0]
[null,"CAJ/CEN",0,0,0,0,0,0,0,0,0,0,0]
[null,"CAJ/CPN",0,0,0,0,0,0,0,0,0,0,0]
[null,"CAJ/Feu",0,0,0,0,0,0,0,0,0,0,0]
[null,"CAJ/PCN",0,0,0,0,0,0,0,0,0,0,0]
[null,"CAJ/STN",0,0,0,0,0,0,0,0,0,0,0,null,null,"CG"]
[null,"CAJ/V",0,0,0,0,0,0,0,0,0,0,0,null,null,"CDG"]
[null,"CAN",0,0,0,0,0,1,0,0,0,0,1,null,null,"VPUa"]
[null,"AAJ/CAN",0,0,0,0,0,0,0,0,0,0,0,null,null,"VPU"]
[null,"CEJ/CAN",0,0,0,0,0,0,0,0,0,0,0,null,null,"VPUc"]
[null,"CPJ/CAN",0,0,0,0,0,0,0,0,0,0,0,null,null,"FPTa"]
[null,"Feu/CAN",0,0,0,0,0,0,0,0,0,0,0]
[null,"PCJ/CAN",0,0,0,0,0,0,0,0,0,0,0,null,null,"FPT"]
[null,"V/CAN",0,0,0,0,0,0,0,0,0,0,0,null,null,"FPTc"]
[null,"STJ/CAN",0,0,0,0,0,0,0,0,0,0,0,null,null,"EPSa"]
[null,"AAJ",0,0,0,0,0,0,0,0,0,0,0,null,null,"EPSc"]
[null,"CEJ",0,0,0,0,0,0,0,0,0,0,0,null,null,"EPS"]
[null,"CPJ",0,0,0,0,0,0,0,0,0,0,0,null,null,"VSRa"]
[null,"STJ",0,0,0,0,0,0,0,0,0,0,0,null,null,"VSRc"]
[null,"STJ/Feu",0,0,0,0,0,0,0,0,0,0,0,null,null,"VSR"]
[null,"STJ/PCN",0,0,0,0,0,0,0,0,0,0,0,null,null,"EVa"]
[null,"STJ/V",0,0,0,0,0,0,0,0,0,0,0,null,null,"Evc"]
[null,"AAN",0,0,0,0,0,0,0,0,0,0,0,null,null,"EV"]
[null,"CEN",0,0,0,0,0,0,0,0,0,0,0,null,null,"VID"]
[null,"CPN",0,0,0,0,0,0,0,0,0,0,0,null,null,"VSAV 24h"]
[null,"STN",0,0,0,0,0,0,0,0,0,0,0,null,null,"VSAV jour"]
[null,"CE",0,0,0,1,0,1,1,0,0,0,0,null,null,"VSAV nuit"]
[null,"CEJ/CPN",0,0,0,0,0,0,0,0,0,0,0,null,null,"VLM 24h"]
[null,"CM",1,1,1,1,0,0,0,0,0,0,0,null,null,"VLM jour"]
[null,"CP",0,0,0,0,0,0,0,0,0,0,0,null,null,"VLM nuit"]
[null,"TP",0,0,0,0,0,0,0,0,0,0,0,null,null,"PCJ"]
[null,"ST",0,0,0,0,0,0,0,0,0,0,0]
[null,"SHR",0,0,0,0,0,0,0,0,0,0,0,null,null,"PCN"]
[null,"MUT",1,1,1,1,1,1,1,1,1,1,1,null,null,"PC 24"]
[null,"AA",0,0,0,0,0,0,0,0,0,{"$f":"COUNTIF(L$9:L$49,$B97)","v":0},0,null,null,"CG 12h"]
[null,"AT",{"$f":"COUNTIF(C$9:C$49,$B98)","v":0},0,0,0,0,0,0,0,0,0,0,null,null,"CDG 12h"]
[null,null,null,null,null,null,null,null,null,null,null,null,null,null,null,"VPUa 12h"]
[null,null,null,null,null,null,null,null,null,null,null,null,null,null,null,"VPU 12h"]
[]
[null,null,null,null,null,null,null,null,null,null,null,null,null,null,null,"VPUc 12h"]
[null,null,null,null,null,null,null,null,null,null,null,null,null,null,null,"FPTa 12h"]
[null,null,null,null,null,null,null,null,null,null,null,null,null,null,null,"FPT 12h"]
[null,null,null,null,null,null,null,null,null,null,null,null,null,null,null,"FPTc 12h"]
[null,null,null,null,null,null,null,null,null,null,null,null,null,null,null,"EPSa 12h"]
[null,null,null,null,null,null,null,null,null,null,null,null,null,null,null,"EPSc 12h"]
[null,null,null,null,null,null,null,null,null,null,null,null,null,null,null,"EPS 12h"]
[null,null,null,null,null,null,null,null,null,null,null,null,null,null,null,"VSRa 12h"]
[null,null,null,null,null,null,null,null,null,null,null,null,null,null,null,"VSRc 12h"]
[null,null,null,null,null,null,null,null,null,null,null,null,null,null,null,"VSR 12h"]
[null,null,null,null,null,null,null,null,null,null,null,null,null,null,null,"Eva 12h"]
[null,null,null,null,null,null,null,null,null,null,null,null,null,null,null,"Evc 12h"]
[null,null,null,null,null,null,null,null,null,null,null,null,null,null,null,"EV 12h"]
[null,null,null,null,null,null,null,null,null,null,null,null,null,null,null,"VID 12h"]
[null,null,null,null,null,null,null,null,null,null,null,null,null,null,null,"VSAV 12h"]
[null,null,null,null,null,null,null,null,null,null,null,null,null,null,null,"VLM 12h"]
[null,null,null,null,null,null,null,null,null,null,null,null,null,null,null,"PC 12h"]
[null,null,null,null,null,null,null,null,null,null,null,null,null,null,null,"ST 12h"]
[null,null,null,null,null,null,null,null,null,null,null,null,null,null,null,"CE 12h"]
[null,null,null,null,null,null,null,null,null,null,null,null,null,null,null,"CP 12h"]
[null,null,null,null,null,null,null,null,null,null,null,null,null,null,null,"AA 12h"]
[null,null,null,null,null,null,null,null,null,null,null,null,null,null,null,"AT 12h"]
[null,null,null,null,null,null,null,null,null,null,null,null,null,null,null,"RPM 12h"]
[null,null,null,null,null,null,null,null,null,null,null,null,null,null,null,"CM 12h"]
[null,null,null,null,null,null,null,null,null,null,null,null,null,null,null,"USSH"]

{"sheet":"Février","index":2,"n_rows":126,"n_cols":19,"rows_kept":126,"cut":false,"hidden":false,"merged":[[0,16,2,16],[0,17,2,17],[4,0,4,1],[1,6,1,7]]}
[null,null,"2020-02-03","2020-02-06","2020-02-09","2020-02-12","2020-02-15","2020-02-18","2020-02-21","2020-02-24","2020-02-27","2036-01-24","2038-01-26",null,null,null,"Fonctions    24h","Fonctions 12h"]
[null,null,null,null,null,null,{"$f":"RIGHT(CELL(\"nomfichier\",G2),LEN(CELL(\"nomfichier\",G2))-SEARCH(\"]\",CELL(\"nomfichier\",G2)))","v":"Février"},null,null,null,null,null,null,"12h",null,"CA",null,null,"CA"]
[null,null,3,6,9,12,15,18,21,24,27,null,null,"12h",null,"CAJ",null,null,"CAJ"]
[null,null,"LUN","JEU","DIM","MER","SAM","MAR","VEN","LUN.","JEU.",null,null,null,null,"CAN","CG","CG 12h","CAN"]
["Equipes",null,3,4,5,6,7,8,9,10,1,null,null,null,null,"CAJ/Feu","CDG","CDG 12h","CAJ/Feu"]
[{"$f":"Congé!E6","v":1},{"$f":"Congé!F6","v":"MATEO"},{"$f":"IF($A6=C$5,\"12h\",IF($A6=\"\",\"\",\"\"))","v":""},"","CA","","","","CA","","12h","","",null,null,"Feu/CAN","VPUa","VPUa 12h","Feu/CAN"]
[{"$f":"Congé!E7","v":9},{"$f":"Congé!F7","v":"BARREAU"},"","","","","","","12h","","","","",null,null,"CAJ/V","VPU","VPU 12h","CAJ/V"]
[]
[{"$f":"Congé!E9","v":10},{"$f":"Congé!F9","v":"CARTIER"},{"$f":"IF($A9=C$5,\"12h\",IF($A9=\"\",\"\",\"\"))","v":""},"CA","","","","","","12h","CA","","",null,null,"V/CAN","VPUc","VPUc 12h","V/CAN"]
[{"$f":"Congé!E10","v":4},{"$f":"Congé!F10","v":"CARTAUT"},"","12h","","","","","","CA","CA","","",null,null,"PCJ/CAN","FPTa","FPTa 12h","PCJ/CAN"]
[{"$f":"Congé!E11","v":5},{"$f":"Congé!F11","v":"CASTA"},"","","12h","CA","","","CA","","","","",null,null,"CAJ/PCN","FPT","FPT 12h","CAJ/PCN"]
[]
[{"$f":"Congé!E13","v":8},{"$f":"Congé!F13","v":"SELLES"},{"$f":"IF($A13=C$5,\"12h\",IF($A13=\"\",\"\",\"\"))","v":""},"","CA","","","12h","","","","","",null,null,"CAJ/STN","FPTc","FPTc 12h","CAJ/STN"]
[{"$f":"Congé!E14","v":9},{"$f":"Congé!F14","v":"MASSELIN"},"","","","","","","12h","CA","CA","","",null,null,"STJ/CAN","EPSa","EPSa 12h","STJ/CAN"]
[{"$f":"Congé!E15","v":6},{"$f":"Congé!F15","v":"HUGUES"},"","","","USSH","USSH","CA","CA","","","","",null,null,"CAJ/CEN","EPSc","EPSc 12h","CAJ/CEN"]
[{"$f":"Congé!E16","v":1},{"$f":"Congé!F16","v":"MALET"},"CA","CA","CA","","CA","CA","CA","","12h","","",null,null,"CEJ/CAN","EPS","EPS 12h","CEJ/CAN"]
[{"$f":"Congé!E17","v":2},{"$f":"Congé!F17","v":"REY F"},"","","","","","","","","","","",null,null,"CAJ/AAN","VSRa","VSRa 12h","CAJ/AAN"]
[]
[{"$f":"Congé!E19","v":9},{"$f":"Congé!F19","v":"ROSTAND"},"CA","CA","CA",{"$f":"IF($A19=F$5,\"12h\",IF($A19=\"\",\"\",\"\"))","v":""},"","","12h","","CA","","",null,null,"AAJ/CAN","VSRc","VSRc 12h","AAJ/CAN"]
[{"$f":"Congé!E20","v":6},{"$f":"Congé!F20","v":"LAURENT J"},"","","","12h","CA ops","","","CA","CA","","",null,null,"CAJ/CPN","VSR","VSR 12h","CAJ/CPN"]
[{"$f":"Congé!E21","v":10},{"$f":"Congé!F21","v":"BALLESTER"},"","","","","","","","CA","CA","","",null,null,"CPJ/CAN","EVa","Eva 12h","CPJ/CAN"]
[{"$f":"Congé!E22","v":7},{"$f":"Congé!F22","v":"GRIMM"},"","","","","12h","","","","","","",null,null,"RPM","Evc","Evc 12h"]
[{"$f":"Congé!E23","v":3},{"$f":"Congé!F23","v":"ORIOL"},"12h","","CA","","","","","CA","CA","","",null,null,"ST","EV","EV 12h"]
[{"$f":"Congé!E24","v":10},{"$f":"Congé!F24","v":"DEPRAD"},"","","","","CA","CA","","12h","","","",null,null,"STJ/Feu","VID","VID 12h"]
[{"$f":"Congé!E25","v":4},{"$f":"Congé!F25","v":"FLORES"},"CA","12h","","CA","","CA","","CA","CA","","",null,null,"STJ/V","VSAV 24h","VSAV 12h"]
[{"$f":"Congé!E26","v":2},{"$f":"Congé!F26","v":"FIGUEIRINHA"},"CA","CA","","","CA","","CA","CA","","","",null,null,"STJ/PCN","VSAV jour","VLM 12h"]
[{"$f":"Congé!E27","v":8},{"$f":"Congé!F27","v":"HEURTEBISE"},"","","","","","12h","CA","CA","","","",null,null,"STJ","VSAV nuit","PC 12h"]
[{"$f":"Congé!E28","v":3},{"$f":"Congé!F28","v":"BLANCHARD"},"12h","","","CA","","CA","CA","","","","",null,null,"STN","VLM 24h","ST 12h"]
[{"$f":"Congé!E29","v":5},{"$f":"Congé!F29","v":"BOUISSET"},"","","12h","","CA","CA","CA","","","","",null,null,"CE","VLM jour","CE 12h"]
[{"$f":"Congé!E30","v":5},{"$f":"Congé!F30","v":"DECITRE"},"CA","CA","CA","CA","12h",{"$f":"IF($A30=H$5,\"12h\",IF($A30=\"\",\"\",\"\"))","v":""},"","","","","",null,null,"CEJ","VLM nuit","CP 12h"]
[{"$f":"Congé!E31","v":4},{"$f":"Congé!F31","v":"EON"},{"$f":"IF($A31=C$5,\"12h\",IF($A31=\"\",\"\",\"\"))","v":""},"12h","CA","","","CA","CA","","","","",null,null,"CEN","PCJ","AA 12h"]
[{"$f":"Congé!E32","v":6},{"$f":"Congé!F32","v":"DIOLOGENT"},"","","","12h","","","","","","","",null,null,"CEJ/CPN","PCN","AT 12h"]
[{"$f":"Congé!E33","v":7},{"$f":"Congé!F33","v":"GUEROULT"},"CA","CA","CA","CA","12h","","","","","","",null,null,"CP","PC 24","RPM 12h"]
[{"$f":"Congé!E34","v":1},{"$f":"Congé!F34","v":"SALMI"},"","","","","","CA","CA","","12h","","",null,null,"CPJ","USSH","CM 12h"]
[{"$f":"Congé!E35","v":3},{"$f":"Congé!F35","v":"DYLIK"},null,"","","12h","CA","CA","CA","","","","",null,null,"CPN"]
[]
[{"$f":"Congé!E37","v":9},{"$f":"Congé!F37","v":"MONTALEGRE"},"","","","","","","12h","CA","CA","","",null,null,"AA"]
[{"$f":"Congé!E38","v":9},{"$f":"Congé!F38","v":"SERANO G"},"CA","","","","","","CA","CA","","","",null,null,"AAJ"]
[{"$f":"Congé!E39","v":7},{"$f":"Congé!F39","v":"LANCIAL"},"","","12h","CA","CA","","","","","","",null,null,"AAN"]
[{"$f":"Congé!E40","v":8},{"$f":"Congé!F40","v":"MOURCIA"},"","","","","","12h","","","","","",null,null,"CM"]
[{"$f":"Congé!E41","v":2},{"$f":"Congé!F41","v":"GILSON"},"CA","CA","","","","","","CA","CA","","",null,null,"AT"]
[{"$f":"Congé!E42","v":3},{"$f":"Congé!F42","v":"PERETTI"},"12h","","","CA","CA","","","","","","",null,null,"TP"]
[{"$f":"Congé!E43","v":5},{"$f":"Congé!F43","v":"PERINO"},"","","12h","CA","CA","CA","","","","","",null,null,"SHR"]
[{"$f":"Congé!E44","v":10},{"$f":"Congé!F44","v":"LUPI"},"","","CA","","","12h","CA","CA","","","",null,null,"MUT"]
[{"$f":"Congé!E45","v":4},{"$f":"Congé!F45","v":"ROOS"},"",null,"","","","","",null,"","","",null,null,"CA ops"]
[{"$f":"Congé!E46","v":1},{"$f":"Congé!F46","v":"VALERIAN"},"CA","","CA ops","","CA","CA","","","12h","",""]
[{"$f":"Congé!E47","v":6},{"$f":"Congé!F47","v":"ROUSTAN"},"","","","12h","","","","","","",""]
[{"$f":"Congé!E48","v":1},{"$f":"Congé!F48","v":"WENGER"},"","","","","CA ops","CA","","","12h","",""]
[{"$f":"Congé!E49","v":8},{"$f":"Congé!F49","v":"LHERBIER"},"","","","","","12h","","","","",""]
[null,"CA Jour",{"$f":"COUNTIF(C9:C49,\"CA\")+COUNTIF(C9:C49,\"CAJ*\")+COUNTIF(C9:C49,\"RPM\")","v":9},{"$f":"COUNTIF(D9:D49,\"CA\")+COUNTIF(D9:D49,\"CAJ*\")+COUNTIF(D9:D49,\"RPM\")","v":7},8,8,9,12,12,12,10,0,0]
[null,"Absence jour",{"$f":"SUM(C71:C73)+C77+SUM(C78:C84)+SUM(C88:C98)+C50","v":9},{"$f":"SUM(D71:D73)+D77+SUM(D78:D84)+SUM(D88:D98)+D50","v":7},8,8,9,12,12,12,10,0,0]
[null,"CA Nuit",{"$f":"COUNTIF(C9:C49,\"CA\")+COUNTIF(C9:C49,\"*CAN\")+COUNTIF(C9:C49,\"RPM\")","v":9},{"$f":"COUNTIF(D9:D49,\"CA\")+COUNTIF(D9:D49,\"*CAN\")+COUNTIF(D9:D49,\"RPM\")","v":7},8,8,9,12,12,12,10,0,0]
[null,"Absence Nuit",{"$f":"SUM(C63:C65)+C68+SUM(C85:C98)+C52","v":9},{"$f":"SUM(D63:D65)+D68+SUM(D85:D98)+D52","v":7},8,8,9,12,12,12,10,0,0]
[]
[null,"Nombre de 12h",{"$f":"COUNTIF(C9:C49,\"*12h\")","v":3},{"$f":"COUNTIF(D9:D49,\"*12h\")","v":3},4,4,3,5,3,2,4,0,0]
[]
[null,"Nbre de pro jour",{"$f":"Congé!$E$50-C51","v":29},{"$f":"Congé!$E$50-D51","v":31},{"$f":"Congé!$E$50-E51","v":30},{"$f":"Congé!$E$50-F51","v":30},{"$f":"Congé!$E$50-G51","v":29},{"$f":"Congé!$E$50-H51","v":26},{"$f":"Congé!$E$50-I51","v":26},{"$f":"Congé!$E$50-J51","v":26},{"$f":"Congé!$E$50-K51","v":28},{"$f":"Congé!$E$50-L51","v":38},{"$f":"Congé!$E$50-M51","v":38}]
[null,"Nbre de pro nuit",{"$f":"Congé!$E$50-C53-C55","v":26},{"$f":"Congé!$E$50-D53-D55","v":28},{"$f":"Congé!$E$50-E53-E55","v":26},{"$f":"Congé!$E$50-F53-F55","v":26},{"$f":"Congé!$E$50-G53-G55","v":26},{"$f":"Congé!$E$50-H53-H55","v":21},{"$f":"Congé!$E$50-I53-I55","v":23},{"$f":"Congé!$E$50-J53-J55","v":24},{"$f":"Congé!$E$50-K53-K55","v":24},{"$f":"Congé!$E$50-L53-L55","v":38},{"$f":"Congé!$E$50-M53-M55","v":38}]
[]
[null,"CA",{"$f":"COUNTIF(C$9:C$49,$B60)","v":9},{"$f":"COUNTIF(D$9:D$49,$B60)","v":7},8,8,9,12,12,12,10,0,0]
[null,"RPM",{"$f":"COUNTIF(C$9:C$49,$B61)","v":0},0,0,0,0,0,0,0,0,0,0]
[null,"CAJ",0,0,0,0,0,0,0,0,0,0,0]
[null,"CAJ/AAN",0,0,0,0,0,0,0,0,0,0,0]
[null,"CAJ/CEN",0,0,0,0,0,0,0,0,0,0,0]
[null,"CAJ/CPN",0,0,0,0,0,0,0,0,0,0,0]
[null,"CAJ/Feu",0,0,0,0,0,0,0,0,0,0,0]
[null,"CAJ/PCN",0,0,0,0,0,0,0,0,0,0,0]
[null,"CAJ/STN",0,0,0,0,0,0,0,0,0,0,0,null,null,"CG"]
[null,"CAJ/V",0,0,0,0,0,0,0,0,0,0,0,null,null,"CDG"]
[null,"CAN",0,0,0,0,0,0,0,0,0,0,0,null,null,"VPUa"]
[null,"AAJ/CAN",0,0,0,0,0,0,0,0,0,0,0,null,null,"VPU"]
[null,"CEJ/CAN",0,0,0,0,0,0,0,0,0,0,0,null,null,"VPUc"]
[null,"CPJ/CAN",0,0,0,0,0,0,0,0,0,0,0,null,null,"FPTa"]
[null,"Feu/CAN",0,0,0,0,0,0,0,0,0,0,0]
[null,"PCJ/CAN",0,0,0,0,0,0,0,0,0,0,0,null,null,"FPT"]
[null,"V/CAN",0,0,0,0,0,0,0,0,0,0,0,null,null,"FPTc"]
[null,"STJ/CAN",0,0,0,0,0,0,0,0,0,0,0,null,null,"EPSa"]
[null,"AAJ",0,0,0,0,0,0,0,0,0,0,0,null,null,"EPSc"]
[null,"CEJ",0,0,0,0,0,0,0,0,0,0,0,null,null,"EPS"]
[null,"CPJ",0,0,0,0,0,0,0,0,0,0,0,null,null,"VSRa"]
[null,"STJ",0,0,0,0,0,0,0,0,0,0,0,null,null,"VSRc"]
[null,"STJ/Feu",0,0,0,0,0,0,0,0,0,0,0,null,null,"VSR"]
[null,"STJ/PCN",0,0,0,0,0,0,0,0,0,0,0,null,null,"EVa"]
[null,"STJ/V",0,0,0,0,0,0,0,0,0,0,0,null,null,"Evc"]
[null,"AAN",0,0,0,0,0,0,0,0,0,0,0,null,null,"EV"]
[null,"CEN",0,0,0,0,0,0,0,0,0,0,0,null,null,"VID"]
[null,"CPN",0,0,0,0,0,0,0,0,0,0,0,null,null,"VSAV 24h"]
[null,"STN",0,0,0,0,0,0,0,0,0,0,0,null,null,"VSAV jour"]
[null,"CE",0,0,0,0,0,0,0,0,0,0,0,null,null,"VSAV nuit"]
[null,"CEJ/CPN",0,0,0,0,0,0,0,0,0,0,0,null,null,"VLM 24h"]
[null,"CM",0,0,0,0,0,0,0,0,0,0,0,null,null,"VLM jour"]
[null,"CP",0,0,0,0,0,0,0,0,0,0,0,null,null,"VLM nuit"]
[null,"TP",0,0,0,0,0,0,0,0,0,0,0,null,null,"PCJ"]
[null,"ST",0,0,0,0,0,0,0,0,0,0,0]
[null,"SHR",0,0,0,0,0,0,0,0,0,0,0,null,null,"PCN"]
[null,"MUT",0,0,0,0,0,0,0,0,0,0,0,null,null,"PC 24"]
[null,"AA",0,0,0,0,0,0,0,0,0,{"$f":"COUNTIF(L$9:L$49,$B97)","v":0},{"$f":"COUNTIF(M$9:M$49,$B97)","v":0},null,null,"CG 12h"]
[null,"AT",{"$f":"COUNTIF(C$9:C$49,$B98)","v":0},0,0,0,0,0,0,0,0,0,0,null,null,"CDG 12h"]
[null,null,null,null,null,null,null,null,null,null,null,null,null,null,null,"VPUa 12h"]
[null,null,null,null,null,null,null,null,null,null,null,null,null,null,null,"VPU 12h"]
[]
[null,null,null,null,null,null,null,null,null,null,null,null,null,null,null,"VPUc 12h"]
[null,null,null,null,null,null,null,null,null,null,null,null,null,null,null,"FPTa 12h"]
[null,null,null,null,null,null,null,null,null,null,null,null,null,null,null,"FPT 12h"]
[null,null,null,null,null,null,null,null,null,null,null,null,null,null,null,"FPTc 12h"]
[null,null,null,null,null,null,null,null,null,null,null,null,null,null,null,"EPSa 12h"]
[null,null,null,null,null,null,null,null,null,null,null,null,null,null,null,"EPSc 12h"]
[null,null,null,null,null,null,null,null,null,null,null,null,null,null,null,"EPS 12h"]
[null,null,null,null,null,null,null,null,null,null,null,null,null,null,null,"VSRa 12h"]
[null,null,null,null,null,null,null,null,null,null,null,null,null,null,null,"VSRc 12h"]
[null,null,null,null,null,null,null,null,null,null,null,null,null,null,null,"VSR 12h"]
[null,null,null,null,null,null,null,null,null,null,null,null,null,null,null,"Eva 12h"]
[null,null,null,null,null,null,null,null,null,null,null,null,null,null,null,"Evc 12h"]
[null,null,null,null,null,null,null,null,null,null,null,null,null,null,null,"EV 12h"]
[null,null,null,null,null,null,null,null,null,null,null,null,null,null,null,"VID 12h"]
[null,null,null,null,null,null,null,null,null,null,null,null,null,null,null,"VSAV 12h"]
[null,null,null,null,null,null,null,null,null,null,null,null,null,null,null,"VLM 12h"]
[null,null,null,null,null,null,null,null,null,null,null,null,null,null,null,"PC 12h"]
[null,null,null,null,null,null,null,null,null,null,null,null,null,null,null,"ST 12h"]
[null,null,null,null,null,null,null,null,null,null,null,null,null,null,null,"CE 12h"]
[null,null,null,null,null,null,null,null,null,null,null,null,null,null,null,"CP 12h"]
[null,null,null,null,null,null,null,null,null,null,null,null,null,null,null,"AA 12h"]
[null,null,null,null,null,null,null,null,null,null,null,null,null,null,null,"AT 12h"]
[null,null,null,null,null,null,null,null,null,null,null,null,null,null,null,"RPM 12h"]
[null,null,null,null,null,null,null,null,null,null,null,null,null,null,null,"CM 12h"]
[null,null,null,null,null,null,null,null,null,null,null,null,null,null,null,"USSH"]

{"sheet":"Mars","index":3,"n_rows":126,"n_cols":19,"rows_kept":126,"cut":false,"hidden":false,"merged":[[0,16,2,16],[0,17,2,17],[4,0,4,1],[1,6,1,7]]}
[null,null,"2020-03-03",{"$f":"C1+3","v":"2020-03-06"},{"$f":"D1+3","v":"2020-03-09"},"2020-03-12","2020-03-15","2020-03-18","2020-03-21","2020-03-24","2020-03-27","2036-01-24","2038-01-26",null,null,null,"Fonctions    24h","Fonctions 12h"]
[null,null,null,null,null,null,{"$f":"RIGHT(CELL(\"nomfichier\",G2),LEN(CELL(\"nomfichier\",G2))-SEARCH(\"]\",CELL(\"nomfichier\",G2)))","v":"Mars"},null,null,null,null,null,null,"12h",null,"CA",null,null,"CA"]
[null,null,3,6,9,12,15,18,21,24,27,null,null,"12h",null,"CAJ",null,null,"CAJ"]
[null,null,"LUN","JEU","DIM","MER","SAM","MAR","VEN","LUN.","JEU.",null,null,null,null,"CAN","CG","CG 12h","CAN"]
["Equipes",null,3,4,5,6,7,8,9,10,1,null,null,null,null,"CAJ/Feu","CDG","CDG 12h","CAJ/Feu"]
[{"$f":"Congé!E6","v":1},{"$f":"Congé!F6","v":"MATEO"},{"$f":"IF($A6=C$5,\"12h\",IF($A6=\"\",\"\",\"\"))","v":""},"","CA","","","","CA","","12h","","",null,null,"Feu/CAN","VPUa","VPUa 12h","Feu/CAN"]
[{"$f":"Congé!E7","v":9},{"$f":"Congé!F7","v":"BARREAU"},"","","","","","","12h","","","","",null,null,"CAJ/V","VPU","VPU 12h","CAJ/V"]
[]
[{"$f":"Congé!E9","v":10},{"$f":"Congé!F9","v":"CARTIER"},{"$f":"IF($A9=C$5,\"12h\",IF($A9=\"\",\"\",\"\"))","v":""},"CA","","","","","","12h","CA","","",null,null,"V/CAN","VPUc","VPUc 12h","V/CAN"]
[{"$f":"Congé!E10","v":4},{"$f":"Congé!F10","v":"CARTAUT"},"","12h","","","","","","CA","CA","","",null,null,"PCJ/CAN","FPTa","FPTa 12h","PCJ/CAN"]
[{"$f":"Congé!E11","v":5},{"$f":"Congé!F11","v":"CASTA"},"","","12h","CA","","","CA","","","","",null,null,"CAJ/PCN","FPT","FPT 12h","CAJ/PCN"]
[]
[{"$f":"Congé!E13","v":8},{"$f":"Congé!F13","v":"SELLES"},{"$f":"IF($A13=C$5,\"12h\",IF($A13=\"\",\"\",\"\"))","v":""},"","CA","","","12h","","","","","",null,null,"CAJ/STN","FPTc","FPTc 12h","CAJ/STN"]
[{"$f":"Congé!E14","v":9},{"$f":"Congé!F14","v":"MASSELIN"},"","","","","","","12h","CA","CA","","",null,null,"STJ/CAN","EPSa","EPSa 12h","STJ/CAN"]
[{"$f":"Congé!E15","v":6},{"$f":"Congé!F15","v":"HUGUES"},"","","","USSH","USSH","CA","CA","","","","",null,null,"CAJ/CEN","EPSc","EPSc 12h","CAJ/CEN"]
[{"$f":"Congé!E16","v":1},{"$f":"Congé!F16","v":"MALET"},"CA","CA","CA","","CA","CA","CA","","12h","","",null,null,"CEJ/CAN","EPS","EPS 12h","CEJ/CAN"]
[{"$f":"Congé!E17","v":2},{"$f":"Congé!F17","v":"REY F"},"","","","","","","","","","","",null,null,"CAJ/AAN","VSRa","VSRa 12h","CAJ/AAN"]
[]
[{"$f":"Congé!E19","v":9},{"$f":"Congé!F19","v":"ROSTAND"},"CA","CA","CA",{"$f":"IF($A19=F$5,\"12h\",IF($A19=\"\",\"\",\"\"))","v":""},"","","12h","","CA","","",null,null,"AAJ/CAN","VSRc","VSRc 12h","AAJ/CAN"]
[{"$f":"Congé!E20","v":6},{"$f":"Congé!F20","v":"LAURENT J"},"","","","12h","CA ops","","","CA","CA","","",null,null,"CAJ/CPN","VSR","VSR 12h","CAJ/CPN"]
[{"$f":"Congé!E21","v":10},{"$f":"Congé!F21","v":"BALLESTER"},"","","","","","","","CA","CA","","",null,null,"CPJ/CAN","EVa","Eva 12h","CPJ/CAN"]
[{"$f":"Congé!E22","v":7},{"$f":"Congé!F22","v":"GRIMM"},"","","","","12h","","","","","","",null,null,"RPM","Evc","Evc 12h"]
[{"$f":"Congé!E23","v":3},{"$f":"Congé!F23","v":"ORIOL"},"12h","","CA","","","","","CA","CA","","",null,null,"ST","EV","EV 12h"]
[{"$f":"Congé!E24","v":10},{"$f":"Congé!F24","v":"DEPRAD"},"","","","","CA","CA","","12h","","","",null,null,"STJ/Feu","VID","VID 12h"]
[{"$f":"Congé!E25","v":4},{"$f":"Congé!F25","v":"FLORES"},"CA","12h","","CA","","CA","","CA","CA","","",null,null,"STJ/V","VSAV 24h","VSAV 12h"]
[{"$f":"Congé!E26","v":2},{"$f":"Congé!F26","v":"FIGUEIRINHA"},"CA","CA","","","CA","","CA","CA","","","",null,null,"STJ/PCN","VSAV jour","VLM 12h"]
[{"$f":"Congé!E27","v":8},{"$f":"Congé!F27","v":"HEURTEBISE"},"","","","","","12h","CA","CA","","","",null,null,"STJ","VSAV nuit","PC 12h"]
[{"$f":"Congé!E28","v":3},{"$f":"Congé!F28","v":"BLANCHARD"},"12h","","","CA","","CA","CA","","","","",null,null,"STN","VLM 24h","ST 12h"]
[{"$f":"Congé!E29","v":5},{"$f":"Congé!F29","v":"BOUISSET"},"","","12h","","CA","CA","CA","","","","",null,null,"CE","VLM jour","CE 12h"]
[{"$f":"Congé!E30","v":5},{"$f":"Congé!F30","v":"DECITRE"},"CA","CA","CA","CA","12h",{"$f":"IF($A30=H$5,\"12h\",IF($A30=\"\",\"\",\"\"))","v":""},"","","","","",null,null,"CEJ","VLM nuit","CP 12h"]
[{"$f":"Congé!E31","v":4},{"$f":"Congé!F31","v":"EON"},{"$f":"IF($A31=C$5,\"12h\",IF($A31=\"\",\"\",\"\"))","v":""},"12h","CA","","","CA","CA","","","","",null,null,"CEN","PCJ","AA 12h"]
[{"$f":"Congé!E32","v":6},{"$f":"Congé!F32","v":"DIOLOGENT"},"","","","12h","","","","","","","",null,null,"CEJ/CPN","PCN","AT 12h"]
[{"$f":"Congé!E33","v":7},{"$f":"Congé!F33","v":"GUEROULT"},"CA","CA","CA","CA","12h","","","","","","",null,null,"CP","PC 24","RPM 12h"]
[{"$f":"Congé!E34","v":1},{"$f":"Congé!F34","v":"SALMI"},"","","","","","CA","CA","","12h","","",null,null,"CPJ","USSH","CM 12h"]
[{"$f":"Congé!E35","v":3},{"$f":"Congé!F35","v":"DYLIK"},null,"","","12h","CA","CA","CA","","","","",null,null,"CPN"]
[]
[{"$f":"Congé!E37","v":9},{"$f":"Congé!F37","v":"MONTALEGRE"},"","","","","","","12h","CA","CA","","",null,null,"AA"]
[{"$f":"Congé!E38","v":9},{"$f":"Congé!F38","v":"SERANO G"},"CA","","","","","","CA","CA","","","",null,null,"AAJ"]
[{"$f":"Congé!E39","v":7},{"$f":"Congé!F39","v":"LANCIAL"},"","","12h","CA","CA","","","","","","",null,null,"AAN"]
[{"$f":"Congé!E40","v":8},{"$f":"Congé!F40","v":"MOURCIA"},"","","","","","12h","","","","","",null,null,"CM"]
[{"$f":"Congé!E41","v":2},{"$f":"Congé!F41","v":"GILSON"},"CA","CA","","","","","","CA","CA","","",null,null,"AT"]
[{"$f":"Congé!E42","v":3},{"$f":"Congé!F42","v":"PERETTI"},"12h","","","CA","CA","","","","","","",null,null,"TP"]
[{"$f":"Congé!E43","v":5},{"$f":"Congé!F43","v":"PERINO"},"","","12h","CA","CA","CA","","","","","",null,null,"SHR"]
[{"$f":"Congé!E44","v":10},{"$f":"Congé!F44","v":"LUPI"},"","","CA","","","12h","CA","CA","","","",null,null,"MUT"]
[{"$f":"Congé!E45","v":4},{"$f":"Congé!F45","v":"ROOS"},"",null,"","","","","",null,"","","",null,null,"CA ops"]
[{"$f":"Congé!E46","v":1},{"$f":"Congé!F46","v":"VALERIAN"},"CA","","CA ops","","CA","CA","","","12h","",""]
[{"$f":"Congé!E47","v":6},{"$f":"Congé!F47","v":"ROUSTAN"},"","","","12h","","","","","","",""]
[{"$f":"Congé!E48","v":1},{"$f":"Congé!F48","v":"WENGER"},"","","","","CA ops","CA","","","12h","",""]
[{"$f":"Congé!E49","v":8},{"$f":"Congé!F49","v":"LHERBIER"},"","","","","","12h","","","","",""]
[null,"CA Jour",{"$f":"COUNTIF(C9:C49,\"CA\")+COUNTIF(C9:C49,\"CAJ*\")+COUNTIF(C9:C49,\"RPM\")","v":9},{"$f":"COUNTIF(D9:D49,\"CA\")+COUNTIF(D9:D49,\"CAJ*\")+COUNTIF(D9:D49,\"RPM\")","v":7},8,8,9,12,12,12,10,0,0]
[null,"Absence jour",{"$f":"SUM(C71:C73)+C77+SUM(C78:C84)+SUM(C88:C98)+C50","v":9},{"$f":"SUM(D71:D73)+D77+SUM(D78:D84)+SUM(D88:D98)+D50","v":7},8,8,9,12,12,12,10,0,0]
[null,"CA Nuit",{"$f":"COUNTIF(C9:C49,\"CA\")+COUNTIF(C9:C49,\"*CAN\")+COUNTIF(C9:C49,\"RPM\")","v":9},{"$f":"COUNTIF(D9:D49,\"CA\")+COUNTIF(D9:D49,\"*CAN\")+COUNTIF(D9:D49,\"RPM\")","v":7},8,8,9,12,12,12,10,0,0]
[null,"Absence Nuit",{"$f":"SUM(C63:C65)+C68+SUM(C85:C98)+C52","v":9},{"$f":"SUM(D63:D65)+D68+SUM(D85:D98)+D52","v":7},8,8,9,12,12,12,10,0,0]
[]
[null,"Nombre de 12h",{"$f":"COUNTIF(C9:C49,\"*12h\")","v":3},{"$f":"COUNTIF(D9:D49,\"*12h\")","v":3},4,4,3,5,3,2,4,0,0]
[]
[null,"Nbre de pro jour",{"$f":"Congé!$E$50-C51","v":29},{"$f":"Congé!$E$50-D51","v":31},{"$f":"Congé!$E$50-E51","v":30},{"$f":"Congé!$E$50-F51","v":30},{"$f":"Congé!$E$50-G51","v":29},{"$f":"Congé!$E$50-H51","v":26},{"$f":"Congé!$E$50-I51","v":26},{"$f":"Congé!$E$50-J51","v":26},{"$f":"Congé!$E$50-K51","v":28},{"$f":"Congé!$E$50-L51","v":38},{"$f":"Congé!$E$50-M51","v":38}]
[null,"Nbre de pro nuit",{"$f":"Congé!$E$50-C53-C55","v":26},{"$f":"Congé!$E$50-D53-D55","v":28},{"$f":"Congé!$E$50-E53-E55","v":26},{"$f":"Congé!$E$50-F53-F55","v":26},{"$f":"Congé!$E$50-G53-G55","v":26},{"$f":"Congé!$E$50-H53-H55","v":21},{"$f":"Congé!$E$50-I53-I55","v":23},{"$f":"Congé!$E$50-J53-J55","v":24},{"$f":"Congé!$E$50-K53-K55","v":24},{"$f":"Congé!$E$50-L53-L55","v":38},{"$f":"Congé!$E$50-M53-M55","v":38}]
[]
[null,"CA",{"$f":"COUNTIF(C$9:C$49,$B60)","v":9},{"$f":"COUNTIF(D$9:D$49,$B60)","v":7},8,8,9,12,12,12,10,0,0]
[null,"RPM",{"$f":"COUNTIF(C$9:C$49,$B61)","v":0},0,0,0,0,0,0,0,0,0,0]
[null,"CAJ",0,0,0,0,0,0,0,0,0,0,0]
[null,"CAJ/AAN",0,0,0,0,0,0,0,0,0,0,0]
[null,"CAJ/CEN",0,0,0,0,0,0,0,0,0,0,0]
[null,"CAJ/CPN",0,0,0,0,0,0,0,0,0,0,0]
[null,"CAJ/Feu",0,0,0,0,0,0,0,0,0,0,0]
[null,"CAJ/PCN",0,0,0,0,0,0,0,0,0,0,0]
[null,"CAJ/STN",0,0,0,0,0,0,0,0,0,0,0,null,null,"CG"]
[null,"CAJ/V",0,0,0,0,0,0,0,0,0,0,0,null,null,"CDG"]
[null,"CAN",0,0,0,0,0,0,0,0,0,0,0,null,null,"VPUa"]
[null,"AAJ/CAN",0,0,0,0,0,0,0,0,0,0,0,null,null,"VPU"]
[null,"CEJ/CAN",0,0,0,0,0,0,0,0,0,0,0,null,null,"VPUc"]
[null,"CPJ/CAN",0,0,0,0,0,0,0,0,0,0,0,null,null,"FPTa"]
[null,"Feu/CAN",0,0,0,0,0,0,0,0,0,0,0]
[null,"PCJ/CAN",0,0,0,0,0,0,0,0,0,0,0,null,null,"FPT"]
[null,"V/CAN",0,0,0,0,0,0,0,0,0,0,0,null,null,"FPTc"]
[null,"STJ/CAN",0,0,0,0,0,0,0,0,0,0,0,null,null,"EPSa"]
[null,"AAJ",0,0,0,0,0,0,0,0,0,0,0,null,null,"EPSc"]
[null,"CEJ",0,0,0,0,0,0,0,0,0,0,0,null,null,"EPS"]
[null,"CPJ",0,0,0,0,0,0,0,0,0,0,0,null,null,"VSRa"]
[null,"STJ",0,0,0,0,0,0,0,0,0,0,0,null,null,"VSRc"]
[null,"STJ/Feu",0,0,0,0,0,0,0,0,0,0,0,null,null,"VSR"]
[null,"STJ/PCN",0,0,0,0,0,0,0,0,0,0,0,null,null,"EVa"]
[null,"STJ/V",0,0,0,0,0,0,0,0,0,0,0,null,null,"Evc"]
[null,"AAN",0,0,0,0,0,0,0,0,0,0,0,null,null,"EV"]
[null,"CEN",0,0,0,0,0,0,0,0,0,0,0,null,null,"VID"]
[null,"CPN",0,0,0,0,0,0,0,0,0,0,0,null,null,"VSAV 24h"]
[null,"STN",0,0,0,0,0,0,0,0,0,0,0,null,null,"VSAV jour"]
[null,"CE",0,0,0,0,0,0,0,0,0,0,0,null,null,"VSAV nuit"]
[null,"CEJ/CPN",0,0,0,0,0,0,0,0,0,0,0,null,null,"VLM 24h"]
[null,"CM",0,0,0,0,0,0,0,0,0,0,0,null,null,"VLM jour"]
[null,"CP",0,0,0,0,0,0,0,0,0,0,0,null,null,"VLM nuit"]
[null,"TP",0,0,0,0,0,0,0,0,0,0,0,null,null,"PCJ"]
[null,"ST",0,0,0,0,0,0,0,0,0,0,0]
[null,"SHR",0,0,0,0,0,0,0,0,0,0,0,null,null,"PCN"]
[null,"MUT",0,0,0,0,0,0,0,0,0,0,0,null,null,"PC 24"]
[null,"AA",0,0,0,0,0,0,0,0,0,{"$f":"COUNTIF(L$9:L$49,$B97)","v":0},{"$f":"COUNTIF(M$9:M$49,$B97)","v":0},null,null,"CG 12h"]
[null,"AT",{"$f":"COUNTIF(C$9:C$49,$B98)","v":0},0,0,0,0,0,0,0,0,0,0,null,null,"CDG 12h"]
[null,null,null,null,null,null,null,null,null,null,null,null,null,null,null,"VPUa 12h"]
[null,null,null,null,null,null,null,null,null,null,null,null,null,null,null,"VPU 12h"]
[]
[null,null,null,null,null,null,null,null,null,null,null,null,null,null,null,"VPUc 12h"]
[null,null,null,null,null,null,null,null,null,null,null,null,null,null,null,"FPTa 12h"]
[null,null,null,null,null,null,null,null,null,null,null,null,null,null,null,"FPT 12h"]
[null,null,null,null,null,null,null,null,null,null,null,null,null,null,null,"FPTc 12h"]
[null,null,null,null,null,null,null,null,null,null,null,null,null,null,null,"EPSa 12h"]
[null,null,null,null,null,null,null,null,null,null,null,null,null,null,null,"EPSc 12h"]
[null,null,null,null,null,null,null,null,null,null,null,null,null,null,null,"EPS 12h"]
[null,null,null,null,null,null,null,null,null,null,null,null,null,null,null,"VSRa 12h"]
[null,null,null,null,null,null,null,null,null,null,null,null,null,null,null,"VSRc 12h"]
[null,null,null,null,null,null,null,null,null,null,null,null,null,null,null,"VSR 12h"]
[null,null,null,null,null,null,null,null,null,null,null,null,null,null,null,"Eva 12h"]
[null,null,null,null,null,null,null,null,null,null,null,null,null,null,null,"Evc 12h"]
[null,null,null,null,null,null,null,null,null,null,null,null,null,null,null,"EV 12h"]
[null,null,null,null,null,null,null,null,null,null,null,null,null,null,null,"VID 12h"]
[null,null,null,null,null,null,null,null,null,null,null,null,null,null,null,"VSAV 12h"]
[null,null,null,null,null,null,null,null,null,null,null,null,null,null,null,"VLM 12h"]
[null,null,null,null,null,null,null,null,null,null,null,null,null,null,null,"PC 12h"]
[null,null,null,null,null,null,null,null,null,null,null,null,null,null,null,"ST 12h"]
[null,null,null,null,null,null,null,null,null,null,null,null,null,null,null,"CE 12h"]
[null,null,null,null,null,null,null,null,null,null,null,null,null,null,null,"CP 12h"]
[null,null,null,null,null,null,null,null,null,null,null,null,null,null,null,"AA 12h"]
[null,null,null,null,null,null,null,null,null,null,null,null,null,null,null,"AT 12h"]
[null,null,null,null,null,null,null,null,null,null,null,null,null,null,null,"RPM 12h"]
[null,null,null,null,null,null,null,null,null,null,null,null,null,null,null,"CM 12h"]
[null,null,null,null,null,null,null,null,null,null,null,null,null,null,null,"USSH"]

{"sheet":"Avril","index":4,"n_rows":126,"n_cols":19,"rows_kept":126,"cut":false,"hidden":false,"merged":[[0,16,2,16],[0,17,2,17],[4,0,4,1],[1,6,1,7]]}
[null,null,"2020-04-03",{"$f":"C1+3","v":"2020-04-06"},{"$f":"D1+3","v":"2020-04-09"},"2020-04-12","2020-04-15","2020-04-18","2020-04-21","2020-04-24","2020-04-27","2036-01-24","2038-01-26",null,null,null,"Fonctions    24h","Fonctions 12h"]
[null,null,null,null,null,null,{"$f":"RIGHT(CELL(\"nomfichier\",G2),LEN(CELL(\"nomfichier\",G2))-SEARCH(\"]\",CELL(\"nomfichier\",G2)))","v":"Avril"},null,null,null,null,null,null,"12h",null,"CA",null,null,"CA"]
[null,null,3,6,9,12,15,18,21,24,27,null,null,"12h",null,"CAJ",null,null,"CAJ"]
[null,null,"LUN","JEU","DIM","MER","SAM","MAR","VEN","LUN.","JEU.",null,null,null,null,"CAN","CG","CG 12h","CAN"]
["Equipes",null,3,4,5,6,7,8,9,10,1,null,null,null,null,"CAJ/Feu","CDG","CDG 12h","CAJ/Feu"]
[{"$f":"Congé!E6","v":1},{"$f":"Congé!F6","v":"MATEO"},{"$f":"IF($A6=C$5,\"12h\",IF($A6=\"\",\"\",\"\"))","v":""},"","CA","","","","CA","","12h","","",null,null,"Feu/CAN","VPUa","VPUa 12h","Feu/CAN"]
[{"$f":"Congé!E7","v":9},{"$f":"Congé!F7","v":"BARREAU"},"","","","","","","12h","","","","",null,null,"CAJ/V","VPU","VPU 12h","CAJ/V"]
[]
[{"$f":"Congé!E9","v":10},{"$f":"Congé!F9","v":"CARTIER"},{"$f":"IF($A9=C$5,\"12h\",IF($A9=\"\",\"\",\"\"))","v":""},"CA","","","","","","12h","CA","","",null,null,"V/CAN","VPUc","VPUc 12h","V/CAN"]
[{"$f":"Congé!E10","v":4},{"$f":"Congé!F10","v":"CARTAUT"},"","12h","","","","","","CA","CA","","",null,null,"PCJ/CAN","FPTa","FPTa 12h","PCJ/CAN"]
[{"$f":"Congé!E11","v":5},{"$f":"Congé!F11","v":"CASTA"},"","","12h","CA","","","CA","","","","",null,null,"CAJ/PCN","FPT","FPT 12h","CAJ/PCN"]
[]
[{"$f":"Congé!E13","v":8},{"$f":"Congé!F13","v":"SELLES"},{"$f":"IF($A13=C$5,\"12h\",IF($A13=\"\",\"\",\"\"))","v":""},"","CA","","","12h","","","","","",null,null,"CAJ/STN","FPTc","FPTc 12h","CAJ/STN"]
[{"$f":"Congé!E14","v":9},{"$f":"Congé!F14","v":"MASSELIN"},"","","","","","","12h","CA","CA","","",null,null,"STJ/CAN","EPSa","EPSa 12h","STJ/CAN"]
[{"$f":"Congé!E15","v":6},{"$f":"Congé!F15","v":"HUGUES"},"","","","USSH","USSH","CA","CA","","","","",null,null,"CAJ/CEN","EPSc","EPSc 12h","CAJ/CEN"]
[{"$f":"Congé!E16","v":1},{"$f":"Congé!F16","v":"MALET"},"CA","CA","CA","","CA","CA","CA","","12h","","",null,null,"CEJ/CAN","EPS","EPS 12h","CEJ/CAN"]
[{"$f":"Congé!E17","v":2},{"$f":"Congé!F17","v":"REY F"},"","","","","","","","","","","",null,null,"CAJ/AAN","VSRa","VSRa 12h","CAJ/AAN"]
[]
[{"$f":"Congé!E19","v":9},{"$f":"Congé!F19","v":"ROSTAND"},"CA","CA","CA",{"$f":"IF($A19=F$5,\"12h\",IF($A19=\"\",\"\",\"\"))","v":""},"","","12h","","CA","","",null,null,"AAJ/CAN","VSRc","VSRc 12h","AAJ/CAN"]
[{"$f":"Congé!E20","v":6},{"$f":"Congé!F20","v":"LAURENT J"},{"$f":"IF($A20=C$5,\"12h\",IF($A20=\"\",\"\",\"\"))","v":""},"","","12h","CA ops","","","CA","CA","","",null,null,"CAJ/CPN","VSR","VSR 12h","CAJ/CPN"]
[{"$f":"Congé!E21","v":10},{"$f":"Congé!F21","v":"BALLESTER"},"","","","","","","","CA","CA","","",null,null,"CPJ/CAN","EVa","Eva 12h","CPJ/CAN"]
[{"$f":"Congé!E22","v":7},{"$f":"Congé!F22","v":"GRIMM"},"","","","","12h","","","","","","",null,null,"RPM","Evc","Evc 12h"]
[{"$f":"Congé!E23","v":3},{"$f":"Congé!F23","v":"ORIOL"},"12h","","CA","","","","","CA","CA","","",null,null,"ST","EV","EV 12h"]
[{"$f":"Congé!E24","v":10},{"$f":"Congé!F24","v":"DEPRAD"},"","","","","CA","CA","","12h","","","",null,null,"STJ/Feu","VID","VID 12h"]
[{"$f":"Congé!E25","v":4},{"$f":"Congé!F25","v":"FLORES"},"CA","12h","","CA","","CA","","CA","CA","","",null,null,"STJ/V","VSAV 24h","VSAV 12h"]
[{"$f":"Congé!E26","v":2},{"$f":"Congé!F26","v":"FIGUEIRINHA"},"CA","CA","","","CA","","CA","CA","","","",null,null,"STJ/PCN","VSAV jour","VLM 12h"]
[{"$f":"Congé!E27","v":8},{"$f":"Congé!F27","v":"HEURTEBISE"},"","","","","","12h","CA","CA","","","",null,null,"STJ","VSAV nuit","PC 12h"]
[{"$f":"Congé!E28","v":3},{"$f":"Congé!F28","v":"BLANCHARD"},"12h","","","CA","","CA","CA","","","","",null,null,"STN","VLM 24h","ST 12h"]
[{"$f":"Congé!E29","v":5},{"$f":"Congé!F29","v":"BOUISSET"},"","","12h","","CA","CA","CA","","","","",null,null,"CE","VLM jour","CE 12h"]
[{"$f":"Congé!E30","v":5},{"$f":"Congé!F30","v":"DECITRE"},"CA","CA","CA","CA","12h",{"$f":"IF($A30=H$5,\"12h\",IF($A30=\"\",\"\",\"\"))","v":""},"","","","","",null,null,"CEJ","VLM nuit","CP 12h"]
[{"$f":"Congé!E31","v":4},{"$f":"Congé!F31","v":"EON"},{"$f":"IF($A31=C$5,\"12h\",IF($A31=\"\",\"\",\"\"))","v":""},"12h","CA","","","CA","CA","","","","",null,null,"CEN","PCJ","AA 12h"]
[{"$f":"Congé!E32","v":6},{"$f":"Congé!F32","v":"DIOLOGENT"},"","","","12h","","","","","","","",null,null,"CEJ/CPN","PCN","AT 12h"]
[{"$f":"Congé!E33","v":7},{"$f":"Congé!F33","v":"GUEROULT"},"CA","CA","CA","CA","12h","","","","","","",null,null,"CP","PC 24","RPM 12h"]
[{"$f":"Congé!E34","v":1},{"$f":"Congé!F34","v":"SALMI"},"","","","","","CA","CA","","12h","","",null,null,"CPJ","USSH","CM 12h"]
[{"$f":"Congé!E35","v":3},{"$f":"Congé!F35","v":"DYLIK"},null,"","","12h","CA","CA","CA","","","","",null,null,"CPN"]
[]
[{"$f":"Congé!E37","v":9},{"$f":"Congé!F37","v":"MONTALEGRE"},"","","","","","","12h","CA","CA","","",null,null,"AA"]
[{"$f":"Congé!E38","v":9},{"$f":"Congé!F38","v":"SERANO G"},"CA","","","","","","CA","CA","","","",null,null,"AAJ"]
[{"$f":"Congé!E39","v":7},{"$f":"Congé!F39","v":"LANCIAL"},"","","12h","CA","CA","","","","","","",null,null,"AAN"]
[{"$f":"Congé!E40","v":8},{"$f":"Congé!F40","v":"MOURCIA"},"","","","","","12h","","","","","",null,null,"CM"]
[{"$f":"Congé!E41","v":2},{"$f":"Congé!F41","v":"GILSON"},"CA","CA","","","","","","CA","CA","","",null,null,"AT"]
[{"$f":"Congé!E42","v":3},{"$f":"Congé!F42","v":"PERETTI"},"12h","","","CA","CA","","","","","","",null,null,"TP"]
[{"$f":"Congé!E43","v":5},{"$f":"Congé!F43","v":"PERINO"},"","","12h","CA","CA","CA","","","","","",null,null,"SHR"]
[{"$f":"Congé!E44","v":10},{"$f":"Congé!F44","v":"LUPI"},"","","CA","","","12h","CA","CA","","","",null,null,"MUT"]
[{"$f":"Congé!E45","v":4},{"$f":"Congé!F45","v":"ROOS"},"",null,"","","","","",null,"","","",null,null,"CA ops"]
[{"$f":"Congé!E46","v":1},{"$f":"Congé!F46","v":"VALERIAN"},"CA","","CA ops","","CA","CA","","","12h","",""]
[{"$f":"Congé!E47","v":6},{"$f":"Congé!F47","v":"ROUSTAN"},"","","","12h","","","","","","",""]
[{"$f":"Congé!E48","v":1},{"$f":"Congé!F48","v":"WENGER"},"","","","","CA ops","CA","","","12h","",""]
[{"$f":"Congé!E49","v":8},{"$f":"Congé!F49","v":"LHERBIER"},{"$f":"IF($A49=C$5,\"12h\",IF($A49=\"\",\"\",\"\"))","v":""},"","","","","12h","","","","",""]
[null,"CA Jour",{"$f":"COUNTIF(C9:C49,\"CA\")+COUNTIF(C9:C49,\"CAJ*\")+COUNTIF(C9:C49,\"RPM\")","v":9},{"$f":"COUNTIF(D9:D49,\"CA\")+COUNTIF(D9:D49,\"CAJ*\")+COUNTIF(D9:D49,\"RPM\")","v":7},8,8,9,12,12,12,10,0,0]
[null,"Absence jour",{"$f":"SUM(C71:C73)+C77+SUM(C78:C84)+SUM(C88:C98)+C50","v":9},{"$f":"SUM(D71:D73)+D77+SUM(D78:D84)+SUM(D88:D98)+D50","v":7},8,8,9,12,12,12,10,0,0]
[null,"CA Nuit",{"$f":"COUNTIF(C9:C49,\"CA\")+COUNTIF(C9:C49,\"*CAN\")+COUNTIF(C9:C49,\"RPM\")","v":9},{"$f":"COUNTIF(D9:D49,\"CA\")+COUNTIF(D9:D49,\"*CAN\")+COUNTIF(D9:D49,\"RPM\")","v":7},8,8,9,12,12,12,10,0,0]
[null,"Absence Nuit",{"$f":"SUM(C63:C65)+C68+SUM(C85:C98)+C52","v":9},{"$f":"SUM(D63:D65)+D68+SUM(D85:D98)+D52","v":7},8,8,9,12,12,12,10,0,0]
[]
[null,"Nombre de 12h",{"$f":"COUNTIF(C9:C49,\"*12h\")","v":3},{"$f":"COUNTIF(D9:D49,\"*12h\")","v":3},4,4,3,5,3,2,4,0,0]
[]
[null,"Nbre de pro jour",{"$f":"Congé!$E$50-C51","v":29},{"$f":"Congé!$E$50-D51","v":31},{"$f":"Congé!$E$50-E51","v":30},{"$f":"Congé!$E$50-F51","v":30},{"$f":"Congé!$E$50-G51","v":29},{"$f":"Congé!$E$50-H51","v":26},{"$f":"Congé!$E$50-I51","v":26},{"$f":"Congé!$E$50-J51","v":26},{"$f":"Congé!$E$50-K51","v":28},{"$f":"Congé!$E$50-L51","v":38},{"$f":"Congé!$E$50-M51","v":38}]
[null,"Nbre de pro nuit",{"$f":"Congé!$E$50-C53-C55","v":26},{"$f":"Congé!$E$50-D53-D55","v":28},{"$f":"Congé!$E$50-E53-E55","v":26},{"$f":"Congé!$E$50-F53-F55","v":26},{"$f":"Congé!$E$50-G53-G55","v":26},{"$f":"Congé!$E$50-H53-H55","v":21},{"$f":"Congé!$E$50-I53-I55","v":23},{"$f":"Congé!$E$50-J53-J55","v":24},{"$f":"Congé!$E$50-K53-K55","v":24},{"$f":"Congé!$E$50-L53-L55","v":38},{"$f":"Congé!$E$50-M53-M55","v":38}]
[]
[null,"CA",{"$f":"COUNTIF(C$9:C$49,$B60)","v":9},{"$f":"COUNTIF(D$9:D$49,$B60)","v":7},8,8,9,12,12,12,10,0,0]
[null,"RPM",{"$f":"COUNTIF(C$9:C$49,$B61)","v":0},0,0,0,0,0,0,0,0,0,0]
[null,"CAJ",0,0,0,0,0,0,0,0,0,0,0]
[null,"CAJ/AAN",0,0,0,0,0,0,0,0,0,0,0]
[null,"CAJ/CEN",0,0,0,0,0,0,0,0,0,0,0]
[null,"CAJ/CPN",0,0,0,0,0,0,0,0,0,0,0]
[null,"CAJ/Feu",0,0,0,0,0,0,0,0,0,0,0]
[null,"CAJ/PCN",0,0,0,0,0,0,0,0,0,0,0]
[null,"CAJ/STN",0,0,0,0,0,0,0,0,0,0,0,null,null,"CG"]
[null,"CAJ/V",0,0,0,0,0,0,0,0,0,0,0,null,null,"CDG"]
[null,"CAN",0,0,0,0,0,0,0,0,0,0,0,null,null,"VPUa"]
[null,"AAJ/CAN",0,0,0,0,0,0,0,0,0,0,0,null,null,"VPU"]
[null,"CEJ/CAN",0,0,0,0,0,0,0,0,0,0,0,null,null,"VPUc"]
[null,"CPJ/CAN",0,0,0,0,0,0,0,0,0,0,0,null,null,"FPTa"]
[null,"Feu/CAN",0,0,0,0,0,0,0,0,0,0,0]
[null,"PCJ/CAN",0,0,0,0,0,0,0,0,0,0,0,null,null,"FPT"]
[null,"V/CAN",0,0,0,0,0,0,0,0,0,0,0,null,null,"FPTc"]
[null,"STJ/CAN",0,0,0,0,0,0,0,0,0,0,0,null,null,"EPSa"]
[null,"AAJ",0,0,0,0,0,0,0,0,0,0,0,null,null,"EPSc"]
[null,"CEJ",0,0,0,0,0,0,0,0,0,0,0,null,null,"EPS"]
[null,"CPJ",0,0,0,0,0,0,0,0,0,0,0,null,null,"VSRa"]
[null,"STJ",0,0,0,0,0,0,0,0,0,0,0,null,null,"VSRc"]
[null,"STJ/Feu",0,0,0,0,0,0,0,0,0,0,0,null,null,"VSR"]
[null,"STJ/PCN",0,0,0,0,0,0,0,0,0,0,0,null,null,"EVa"]
[null,"STJ/V",0,0,0,0,0,0,0,0,0,0,0,null,null,"Evc"]
[null,"AAN",0,0,0,0,0,0,0,0,0,0,0,null,null,"EV"]
[null,"CEN",0,0,0,0,0,0,0,0,0,0,0,null,null,"VID"]
[null,"CPN",0,0,0,0,0,0,0,0,0,0,0,null,null,"VSAV 24h"]
[null,"STN",0,0,0,0,0,0,0,0,0,0,0,null,null,"VSAV jour"]
[null,"CE",0,0,0,0,0,0,0,0,0,0,0,null,null,"VSAV nuit"]
[null,"CEJ/CPN",0,0,0,0,0,0,0,0,0,0,0,null,null,"VLM 24h"]
[null,"CM",0,0,0,0,0,0,0,0,0,0,0,null,null,"VLM jour"]
[null,"CP",0,0,0,0,0,0,0,0,0,0,0,null,null,"VLM nuit"]
[null,"TP",0,0,0,0,0,0,0,0,0,0,0,null,null,"PCJ"]
[null,"ST",0,0,0,0,0,0,0,0,0,0,0]
[null,"SHR",0,0,0,0,0,0,0,0,0,0,0,null,null,"PCN"]
[null,"MUT",0,0,0,0,0,0,0,0,0,0,0,null,null,"PC 24"]
[null,"AA",0,0,0,0,0,0,0,0,0,{"$f":"COUNTIF(L$9:L$49,$B97)","v":0},{"$f":"COUNTIF(M$9:M$49,$B97)","v":0},null,null,"CG 12h"]
[null,"AT",{"$f":"COUNTIF(C$9:C$49,$B98)","v":0},0,0,0,0,0,0,0,0,0,0,null,null,"CDG 12h"]
[null,null,null,null,null,null,null,null,null,null,null,null,null,null,null,"VPUa 12h"]
[null,null,null,null,null,null,null,null,null,null,null,null,null,null,null,"VPU 12h"]
[]
[null,null,null,null,null,null,null,null,null,null,null,null,null,null,null,"VPUc 12h"]
[null,null,null,null,null,null,null,null,null,null,null,null,null,null,null,"FPTa 12h"]
[null,null,null,null,null,null,null,null,null,null,null,null,null,null,null,"FPT 12h"]
[null,null,null,null,null,null,null,null,null,null,null,null,null,null,null,"FPTc 12h"]
[null,null,null,null,null,null,null,null,null,null,null,null,null,null,null,"EPSa 12h"]
[null,null,null,null,null,null,null,null,null,null,null,null,null,null,null,"EPSc 12h"]
[null,null,null,null,null,null,null,null,null,null,null,null,null,null,null,"EPS 12h"]
[null,null,null,null,null,null,null,null,null,null,null,null,null,null,null,"VSRa 12h"]
[null,null,null,null,null,null,null,null,null,null,null,null,null,null,null,"VSRc 12h"]
[null,null,null,null,null,null,null,null,null,null,null,null,null,null,null,"VSR 12h"]
[null,null,null,null,null,null,null,null,null,null,null,null,null,null,null,"Eva 12h"]
[null,null,null,null,null,null,null,null,null,null,null,null,null,null,null,"Evc 12h"]
[null,null,null,null,null,null,null,null,null,null,null,null,null,null,null,"EV 12h"]
[null,null,null,null,null,null,null,null,null,null,null,null,null,null,null,"VID 12h"]
[null,null,null,null,null,null,null,null,null,null,null,null,null,null,null,"VSAV 12h"]
[null,null,null,null,null,null,null,null,null,null,null,null,null,null,null,"VLM 12h"]
[null,null,null,null,null,null,null,null,null,null,null,null,null,null,null,"PC 12h"]
[null,null,null,null,null,null,null,null,null,null,null,null,null,null,null,"ST 12h"]
[null,null,null,null,null,null,null,null,null,null,null,null,null,null,null,"CE 12h"]
[null,null,null,null,null,null,null,null,null,null,null,null,null,null,null,"CP 12h"]
[null,null,null,null,null,null,null,null,null,null,null,null,null,null,null,"AA 12h"]
[null,null,null,null,null,null,null,null,null,null,null,null,null,null,null,"AT 12h"]
[null,null,null,null,null,null,null,null,null,null,null,null,null,null,null,"RPM 12h"]
[null,null,null,null,null,null,null,null,null,null,null,null,null,null,null,"CM 12h"]
[null,null,null,null,null,null,null,null,null,null,null,null,null,null,null,"USSH"]

{"sheet":"Mai","index":5,"n_rows":126,"n_cols":19,"rows_kept":126,"cut":false,"hidden":false,"merged":[[0,16,2,16],[0,17,2,17],[4,0,4,1],[1,6,1,7]]}
[null,null,"2020-05-03",{"$f":"C1+3","v":"2020-05-06"},{"$f":"D1+3","v":"2020-05-09"},"2020-05-12","2020-05-15","2020-05-18","2020-05-21","2020-05-24","2020-05-27","2036-01-24","2038-01-26",null,null,null,"Fonctions    24h","Fonctions 12h"]
[null,null,null,null,null,null,{"$f":"RIGHT(CELL(\"nomfichier\",G2),LEN(CELL(\"nomfichier\",G2))-SEARCH(\"]\",CELL(\"nomfichier\",G2)))","v":"Mai"},null,null,null,null,null,null,"12h",null,"CA",null,null,"CA"]
[null,null,3,6,9,12,15,18,21,24,27,null,null,"12h",null,"CAJ",null,null,"CAJ"]
[null,null,"LUN","JEU","DIM","MER","SAM","MAR","VEN","LUN.","JEU.",null,null,null,null,"CAN","CG","CG 12h","CAN"]
["Equipes",null,3,4,5,6,7,8,9,10,1,null,null,null,null,"CAJ/Feu","CDG","CDG 12h","CAJ/Feu"]
[{"$f":"Congé!E6","v":1},{"$f":"Congé!F6","v":"MATEO"},{"$f":"IF($A6=C$5,\"12h\",IF($A6=\"\",\"\",\"\"))","v":""},"","CA","","","","CA","","12h","","",null,null,"Feu/CAN","VPUa","VPUa 12h","Feu/CAN"]
[{"$f":"Congé!E7","v":9},{"$f":"Congé!F7","v":"BARREAU"},"","","","","","","12h","","","","",null,null,"CAJ/V","VPU","VPU 12h","CAJ/V"]
[]
[{"$f":"Congé!E9","v":10},{"$f":"Congé!F9","v":"CARTIER"},{"$f":"IF($A9=C$5,\"12h\",IF($A9=\"\",\"\",\"\"))","v":""},"CA","","","","","","12h","CA","","",null,null,"V/CAN","VPUc","VPUc 12h","V/CAN"]
[{"$f":"Congé!E10","v":4},{"$f":"Congé!F10","v":"CARTAUT"},"","12h","","","","","","CA","CA","","",null,null,"PCJ/CAN","FPTa","FPTa 12h","PCJ/CAN"]
[{"$f":"Congé!E11","v":5},{"$f":"Congé!F11","v":"CASTA"},"","","12h","CA","","","CA","","","","",null,null,"CAJ/PCN","FPT","FPT 12h","CAJ/PCN"]
[]
[{"$f":"Congé!E13","v":8},{"$f":"Congé!F13","v":"SELLES"},{"$f":"IF($A13=C$5,\"12h\",IF($A13=\"\",\"\",\"\"))","v":""},"","CA","","","12h","","","","","",null,null,"CAJ/STN","FPTc","FPTc 12h","CAJ/STN"]
[{"$f":"Congé!E14","v":9},{"$f":"Congé!F14","v":"MASSELIN"},"","","","","","","12h","CA","CA","","",null,null,"STJ/CAN","EPSa","EPSa 12h","STJ/CAN"]
[{"$f":"Congé!E15","v":6},{"$f":"Congé!F15","v":"HUGUES"},"","","","USSH","USSH","CA","CA","","","","",null,null,"CAJ/CEN","EPSc","EPSc 12h","CAJ/CEN"]
[{"$f":"Congé!E16","v":1},{"$f":"Congé!F16","v":"MALET"},"CA","CA","CA","","CA","CA","CA","","12h","","",null,null,"CEJ/CAN","EPS","EPS 12h","CEJ/CAN"]
[{"$f":"Congé!E17","v":2},{"$f":"Congé!F17","v":"REY F"},"","","","","","","","","","","",null,null,"CAJ/AAN","VSRa","VSRa 12h","CAJ/AAN"]
[]
[{"$f":"Congé!E19","v":9},{"$f":"Congé!F19","v":"ROSTAND"},"CA","CA","CA",{"$f":"IF($A19=F$5,\"12h\",IF($A19=\"\",\"\",\"\"))","v":""},"","","12h","","CA","","",null,null,"AAJ/CAN","VSRc","VSRc 12h","AAJ/CAN"]
[{"$f":"Congé!E20","v":6},{"$f":"Congé!F20","v":"LAURENT J"},{"$f":"IF($A20=C$5,\"12h\",IF($A20=\"\",\"\",\"\"))","v":""},"","","12h","CA ops","","","CA","CA","","",null,null,"CAJ/CPN","VSR","VSR 12h","CAJ/CPN"]
[{"$f":"Congé!E21","v":10},{"$f":"Congé!F21","v":"BALLESTER"},"","","","","","","","CA","CA","","",null,null,"CPJ/CAN","EVa","Eva 12h","CPJ/CAN"]
[{"$f":"Congé!E22","v":7},{"$f":"Congé!F22","v":"GRIMM"},"","","","","12h","","","","","","",null,null,"RPM","Evc","Evc 12h"]
[{"$f":"Congé!E23","v":3},{"$f":"Congé!F23","v":"ORIOL"},"12h","","CA","","","","","CA","CA","","",null,null,"ST","EV","EV 12h"]
[{"$f":"Congé!E24","v":10},{"$f":"Congé!F24","v":"DEPRAD"},"","","","","CA","CA","","12h","","","",null,null,"STJ/Feu","VID","VID 12h"]
[{"$f":"Congé!E25","v":4},{"$f":"Congé!F25","v":"FLORES"},"CA","12h","","CA","","CA","","CA","CA","","",null,null,"STJ/V","VSAV 24h","VSAV 12h"]
[{"$f":"Congé!E26","v":2},{"$f":"Congé!F26","v":"FIGUEIRINHA"},"CA","CA","","","CA","","CA","CA","","","",null,null,"STJ/PCN","VSAV jour","VLM 12h"]
[{"$f":"Congé!E27","v":8},{"$f":"Congé!F27","v":"HEURTEBISE"},"","","","","","12h","CA","CA","","","",null,null,"STJ","VSAV nuit","PC 12h"]
[{"$f":"Congé!E28","v":3},{"$f":"Congé!F28","v":"BLANCHARD"},"12h","","","CA","","CA","CA","","","","",null,null,"STN","VLM 24h","ST 12h"]
[{"$f":"Congé!E29","v":5},{"$f":"Congé!F29","v":"BOUISSET"},"","","12h","","CA","CA","CA","","","","",null,null,"CE","VLM jour","CE 12h"]
[{"$f":"Congé!E30","v":5},{"$f":"Congé!F30","v":"DECITRE"},"CA","CA","CA","CA","12h",{"$f":"IF($A30=H$5,\"12h\",IF($A30=\"\",\"\",\"\"))","v":""},"","","","","",null,null,"CEJ","VLM nuit","CP 12h"]
[{"$f":"Congé!E31","v":4},{"$f":"Congé!F31","v":"EON"},{"$f":"IF($A31=C$5,\"12h\",IF($A31=\"\",\"\",\"\"))","v":""},"12h","CA","","","CA","CA","","","","",null,null,"CEN","PCJ","AA 12h"]
[{"$f":"Congé!E32","v":6},{"$f":"Congé!F32","v":"DIOLOGENT"},"","","","12h","","","","","","","",null,null,"CEJ/CPN","PCN","AT 12h"]
[{"$f":"Congé!E33","v":7},{"$f":"Congé!F33","v":"GUEROULT"},"CA","CA","CA","CA","12h","","","","","","",null,null,"CP","PC 24","RPM 12h"]
[{"$f":"Congé!E34","v":1},{"$f":"Congé!F34","v":"SALMI"},"","","","","","CA","CA","","12h","","",null,null,"CPJ","USSH","CM 12h"]
[{"$f":"Congé!E35","v":3},{"$f":"Congé!F35","v":"DYLIK"},null,"","","12h","CA","CA","CA","","","","",null,null,"CPN"]
[]
[{"$f":"Congé!E37","v":9},{"$f":"Congé!F37","v":"MONTALEGRE"},"","","","","","","12h","CA","CA","","",null,null,"AA"]
[{"$f":"Congé!E38","v":9},{"$f":"Congé!F38","v":"SERANO G"},"CA","","","","","","CA","CA","","","",null,null,"AAJ"]
[{"$f":"Congé!E39","v":7},{"$f":"Congé!F39","v":"LANCIAL"},"","","12h","CA","CA","","","","","","",null,null,"AAN"]
[{"$f":"Congé!E40","v":8},{"$f":"Congé!F40","v":"MOURCIA"},"","","","","","12h","","","","","",null,null,"CM"]
[{"$f":"Congé!E41","v":2},{"$f":"Congé!F41","v":"GILSON"},"CA","CA","","","","","","CA","CA","","",null,null,"AT"]
[{"$f":"Congé!E42","v":3},{"$f":"Congé!F42","v":"PERETTI"},"12h","","","CA","CA","","","","","","",null,null,"TP"]
[{"$f":"Congé!E43","v":5},{"$f":"Congé!F43","v":"PERINO"},"","","12h","CA","CA","CA","","","","","",null,null,"SHR"]
[{"$f":"Congé!E44","v":10},{"$f":"Congé!F44","v":"LUPI"},"","","CA","","","12h","CA","CA","","","",null,null,"MUT"]
[{"$f":"Congé!E45","v":4},{"$f":"Congé!F45","v":"ROOS"},"",null,"","","","","",null,"","","",null,null,"CA ops"]
[{"$f":"Congé!E46","v":1},{"$f":"Congé!F46","v":"VALERIAN"},"CA","","CA ops","","CA","CA","","","12h","",""]
[{"$f":"Congé!E47","v":6},{"$f":"Congé!F47","v":"ROUSTAN"},"","","","12h","","","","","","",""]
[{"$f":"Congé!E48","v":1},{"$f":"Congé!F48","v":"WENGER"},"","","","","CA ops","CA","","","12h","",""]
[{"$f":"Congé!E49","v":8},{"$f":"Congé!F49","v":"LHERBIER"},{"$f":"IF($A49=C$5,\"12h\",IF($A49=\"\",\"\",\"\"))","v":""},"","","","","12h","","","","",""]
[null,"CA Jour",{"$f":"COUNTIF(C9:C49,\"CA\")+COUNTIF(C9:C49,\"CAJ*\")+COUNTIF(C9:C49,\"RPM\")","v":9},{"$f":"COUNTIF(D9:D49,\"CA\")+COUNTIF(D9:D49,\"CAJ*\")+COUNTIF(D9:D49,\"RPM\")","v":7},8,8,9,12,12,12,10,0,0]
[null,"Absence jour",{"$f":"SUM(C71:C73)+C77+SUM(C78:C84)+SUM(C88:C98)+C50","v":9},{"$f":"SUM(D71:D73)+D77+SUM(D78:D84)+SUM(D88:D98)+D50","v":7},8,8,9,12,12,12,10,0,0]
[null,"CA Nuit",{"$f":"COUNTIF(C9:C49,\"CA\")+COUNTIF(C9:C49,\"*CAN\")+COUNTIF(C9:C49,\"RPM\")","v":9},{"$f":"COUNTIF(D9:D49,\"CA\")+COUNTIF(D9:D49,\"*CAN\")+COUNTIF(D9:D49,\"RPM\")","v":7},8,8,9,12,12,12,10,0,0]
[null,"Absence Nuit",{"$f":"SUM(C63:C65)+C68+SUM(C85:C98)+C52","v":9},{"$f":"SUM(D63:D65)+D68+SUM(D85:D98)+D52","v":7},8,8,9,12,12,12,10,0,0]
[]
[null,"Nombre de 12h",{"$f":"COUNTIF(C9:C49,\"*12h\")","v":3},{"$f":"COUNTIF(D9:D49,\"*12h\")","v":3},4,4,3,5,3,2,4,0,0]
[]
[null,"Nbre de pro jour",{"$f":"Congé!$E$50-C51","v":29},{"$f":"Congé!$E$50-D51","v":31},{"$f":"Congé!$E$50-E51","v":30},{"$f":"Congé!$E$50-F51","v":30},{"$f":"Congé!$E$50-G51","v":29},{"$f":"Congé!$E$50-H51","v":26},{"$f":"Congé!$E$50-I51","v":26},{"$f":"Congé!$E$50-J51","v":26},{"$f":"Congé!$E$50-K51","v":28},{"$f":"Congé!$E$50-L51","v":38},{"$f":"Congé!$E$50-M51","v":38}]
[null,"Nbre de pro nuit",{"$f":"Congé!$E$50-C53-C55","v":26},{"$f":"Congé!$E$50-D53-D55","v":28},{"$f":"Congé!$E$50-E53-E55","v":26},{"$f":"Congé!$E$50-F53-F55","v":26},{"$f":"Congé!$E$50-G53-G55","v":26},{"$f":"Congé!$E$50-H53-H55","v":21},{"$f":"Congé!$E$50-I53-I55","v":23},{"$f":"Congé!$E$50-J53-J55","v":24},{"$f":"Congé!$E$50-K53-K55","v":24},{"$f":"Congé!$E$50-L53-L55","v":38},{"$f":"Congé!$E$50-M53-M55","v":38}]
[]
[null,"CA",{"$f":"COUNTIF(C$9:C$49,$B60)","v":9},{"$f":"COUNTIF(D$9:D$49,$B60)","v":7},8,8,9,12,12,12,10,0,0]
[null,"RPM",{"$f":"COUNTIF(C$9:C$49,$B61)","v":0},0,0,0,0,0,0,0,0,0,0]
[null,"CAJ",0,0,0,0,0,0,0,0,0,0,0]
[null,"CAJ/AAN",0,0,0,0,0,0,0,0,0,0,0]
[null,"CAJ/CEN",0,0,0,0,0,0,0,0,0,0,0]
[null,"CAJ/CPN",0,0,0,0,0,0,0,0,0,0,0]
[null,"CAJ/Feu",0,0,0,0,0,0,0,0,0,0,0]
[null,"CAJ/PCN",0,0,0,0,0,0,0,0,0,0,0]
[null,"CAJ/STN",0,0,0,0,0,0,0,0,0,0,0,null,null,"CG"]
[null,"CAJ/V",0,0,0,0,0,0,0,0,0,0,0,null,null,"CDG"]
[null,"CAN",0,0,0,0,0,0,0,0,0,0,0,null,null,"VPUa"]
[null,"AAJ/CAN",0,0,0,0,0,0,0,0,0,0,0,null,null,"VPU"]
[null,"CEJ/CAN",0,0,0,0,0,0,0,0,0,0,0,null,null,"VPUc"]
[null,"CPJ/CAN",0,0,0,0,0,0,0,0,0,0,0,null,null,"FPTa"]
[null,"Feu/CAN",0,0,0,0,0,0,0,0,0,0,0]
[null,"PCJ/CAN",0,0,0,0,0,0,0,0,0,0,0,null,null,"FPT"]
[null,"V/CAN",0,0,0,0,0,0,0,0,0,0,0,null,null,"FPTc"]
[null,"STJ/CAN",0,0,0,0,0,0,0,0,0,0,0,null,null,"EPSa"]
[null,"AAJ",0,0,0,0,0,0,0,0,0,0,0,null,null,"EPSc"]
[null,"CEJ",0,0,0,0,0,0,0,0,0,0,0,null,null,"EPS"]
[null,"CPJ",0,0,0,0,0,0,0,0,0,0,0,null,null,"VSRa"]
[null,"STJ",0,0,0,0,0,0,0,0,0,0,0,null,null,"VSRc"]
[null,"STJ/Feu",0,0,0,0,0,0,0,0,0,0,0,null,null,"VSR"]
[null,"STJ/PCN",0,0,0,0,0,0,0,0,0,0,0,null,null,"EVa"]
[null,"STJ/V",0,0,0,0,0,0,0,0,0,0,0,null,null,"Evc"]
[null,"AAN",0,0,0,0,0,0,0,0,0,0,0,null,null,"EV"]
[null,"CEN",0,0,0,0,0,0,0,0,0,0,0,null,null,"VID"]
[null,"CPN",0,0,0,0,0,0,0,0,0,0,0,null,null,"VSAV 24h"]
[null,"STN",0,0,0,0,0,0,0,0,0,0,0,null,null,"VSAV jour"]
[null,"CE",0,0,0,0,0,0,0,0,0,0,0,null,null,"VSAV nuit"]
[null,"CEJ/CPN",0,0,0,0,0,0,0,0,0,0,0,null,null,"VLM 24h"]
[null,"CM",0,0,0,0,0,0,0,0,0,0,0,null,null,"VLM jour"]
[null,"CP",0,0,0,0,0,0,0,0,0,0,0,null,null,"VLM nuit"]
[null,"TP",0,0,0,0,0,0,0,0,0,0,0,null,null,"PCJ"]
[null,"ST",0,0,0,0,0,0,0,0,0,0,0]
[null,"SHR",0,0,0,0,0,0,0,0,0,0,0,null,null,"PCN"]
[null,"MUT",0,0,0,0,0,0,0,0,0,0,0,null,null,"PC 24"]
[null,"AA",0,0,0,0,0,0,0,0,0,{"$f":"COUNTIF(L$9:L$49,$B97)","v":0},{"$f":"COUNTIF(M$9:M$49,$B97)","v":0},null,null,"CG 12h"]
[null,"AT",{"$f":"COUNTIF(C$9:C$49,$B98)","v":0},0,0,0,0,0,0,0,0,0,0,null,null,"CDG 12h"]
[null,null,null,null,null,null,null,null,null,null,null,null,null,null,null,"VPUa 12h"]
[null,null,null,null,null,null,null,null,null,null,null,null,null,null,null,"VPU 12h"]
[]
[null,null,null,null,null,null,null,null,null,null,null,null,null,null,null,"VPUc 12h"]
[null,null,null,null,null,null,null,null,null,null,null,null,null,null,null,"FPTa 12h"]
[null,null,null,null,null,null,null,null,null,null,null,null,null,null,null,"FPT 12h"]
[null,null,null,null,null,null,null,null,null,null,null,null,null,null,null,"FPTc 12h"]
[null,null,null,null,null,null,null,null,null,null,null,null,null,null,null,"EPSa 12h"]
[null,null,null,null,null,null,null,null,null,null,null,null,null,null,null,"EPSc 12h"]
[null,null,null,null,null,null,null,null,null,null,null,null,null,null,null,"EPS 12h"]
[null,null,null,null,null,null,null,null,null,null,null,null,null,null,null,"VSRa 12h"]
[null,null,null,null,null,null,null,null,null,null,null,null,null,null,null,"VSRc 12h"]
[null,null,null,null,null,null,null,null,null,null,null,null,null,null,null,"VSR 12h"]
[null,null,null,null,null,null,null,null,null,null,null,null,null,null,null,"Eva 12h"]
[null,null,null,null,null,null,null,null,null,null,null,null,null,null,null,"Evc 12h"]
[null,null,null,null,null,null,null,null,null,null,null,null,null,null,null,"EV 12h"]
[null,null,null,null,null,null,null,null,null,null,null,null,null,null,null,"VID 12h"]
[null,null,null,null,null,null,null,null,null,null,null,null,null,null,null,"VSAV 12h"]
[null,null,null,null,null,null,null,null,null,null,null,null,null,null,null,"VLM 12h"]
[null,null,null,null,null,null,null,null,null,null,null,null,null,null,null,"PC 12h"]
[null,null,null,null,null,null,null,null,null,null,null,null,null,null,null,"ST 12h"]
[null,null,null,null,null,null,null,null,null,null,null,null,null,null,null,"CE 12h"]
[null,null,null,null,null,null,null,null,null,null,null,null,null,null,null,"CP 12h"]
[null,null,null,null,null,null,null,null,null,null,null,null,null,null,null,"AA 12h"]
[null,null,null,null,null,null,null,null,null,null,null,null,null,null,null,"AT 12h"]
[null,null,null,null,null,null,null,null,null,null,null,null,null,null,null,"RPM 12h"]
[null,null,null,null,null,null,null,null,null,null,null,null,null,null,null,"CM 12h"]
[null,null,null,null,null,null,null,null,null,null,null,null,null,null,null,"USSH"]

{"sheet":"Juin","index":6,"n_rows":126,"n_cols":19,"rows_kept":126,"cut":false,"hidden":false,"merged":[[0,16,2,16],[0,17,2,17],[4,0,4,1],[1,6,1,7]]}
[null,null,"2020-06-03",{"$f":"C1+3","v":"2020-06-06"},{"$f":"D1+3","v":"2020-06-09"},"2020-06-12","2020-06-15","2020-06-18","2020-06-21","2020-06-24","2020-06-27","2036-01-24","2038-01-26",null,null,null,"Fonctions    24h","Fonctions 12h"]
[null,null,null,null,null,null,{"$f":"RIGHT(CELL(\"nomfichier\",G2),LEN(CELL(\"nomfichier\",G2))-SEARCH(\"]\",CELL(\"nomfichier\",G2)))","v":"Juin"},null,null,null,null,null,null,"12h",null,"CA",null,null,"CA"]
[null,null,3,6,9,12,15,18,21,24,27,null,null,"12h",null,"CAJ",null,null,"CAJ"]
[null,null,"LUN","JEU","DIM","MER","SAM","MAR","VEN","LUN.","JEU.",null,null,null,null,"CAN","CG","CG 12h","CAN"]
["Equipes",null,3,4,5,6,7,8,9,10,1,null,null,null,null,"CAJ/Feu","CDG","CDG 12h","CAJ/Feu"]
[{"$f":"Congé!E6","v":1},{"$f":"Congé!F6","v":"MATEO"},{"$f":"IF($A6=C$5,\"12h\",IF($A6=\"\",\"\",\"\"))","v":""},"","CA","","","","CA","","12h","","",null,null,"Feu/CAN","VPUa","VPUa 12h","Feu/CAN"]
[{"$f":"Congé!E7","v":9},{"$f":"Congé!F7","v":"BARREAU"},"","","","","","","12h","","","","",null,null,"CAJ/V","VPU","VPU 12h","CAJ/V"]
[]
[{"$f":"Congé!E9","v":10},{"$f":"Congé!F9","v":"CARTIER"},{"$f":"IF($A9=C$5,\"12h\",IF($A9=\"\",\"\",\"\"))","v":""},"CA","","","","","","12h","CA","","",null,null,"V/CAN","VPUc","VPUc 12h","V/CAN"]
[{"$f":"Congé!E10","v":4},{"$f":"Congé!F10","v":"CARTAUT"},"","12h","","","","","","CA","CA","","",null,null,"PCJ/CAN","FPTa","FPTa 12h","PCJ/CAN"]
[{"$f":"Congé!E11","v":5},{"$f":"Congé!F11","v":"CASTA"},"","","12h","CA","","","CA","","","","",null,null,"CAJ/PCN","FPT","FPT 12h","CAJ/PCN"]
[]
[{"$f":"Congé!E13","v":8},{"$f":"Congé!F13","v":"SELLES"},{"$f":"IF($A13=C$5,\"12h\",IF($A13=\"\",\"\",\"\"))","v":""},"","CA","","","12h","","","","","",null,null,"CAJ/STN","FPTc","FPTc 12h","CAJ/STN"]
[{"$f":"Congé!E14","v":9},{"$f":"Congé!F14","v":"MASSELIN"},"","","","","","","12h","CA","CA","","",null,null,"STJ/CAN","EPSa","EPSa 12h","STJ/CAN"]
[{"$f":"Congé!E15","v":6},{"$f":"Congé!F15","v":"HUGUES"},"","","","USSH","USSH","CA","CA","","","","",null,null,"CAJ/CEN","EPSc","EPSc 12h","CAJ/CEN"]
[{"$f":"Congé!E16","v":1},{"$f":"Congé!F16","v":"MALET"},"CA","CA","CA","","CA","CA","CA","","12h","","",null,null,"CEJ/CAN","EPS","EPS 12h","CEJ/CAN"]
[{"$f":"Congé!E17","v":2},{"$f":"Congé!F17","v":"REY F"},"","","","","","","","","","","",null,null,"CAJ/AAN","VSRa","VSRa 12h","CAJ/AAN"]
[]
[{"$f":"Congé!E19","v":9},{"$f":"Congé!F19","v":"ROSTAND"},"CA","CA","CA",{"$f":"IF($A19=F$5,\"12h\",IF($A19=\"\",\"\",\"\"))","v":""},"","","12h","","CA","","",null,null,"AAJ/CAN","VSRc","VSRc 12h","AAJ/CAN"]
[{"$f":"Congé!E20","v":6},{"$f":"Congé!F20","v":"LAURENT J"},{"$f":"IF($A20=C$5,\"12h\",IF($A20=\"\",\"\",\"\"))","v":""},"","","12h","CA ops","","","CA","CA","","",null,null,"CAJ/CPN","VSR","VSR 12h","CAJ/CPN"]
[{"$f":"Congé!E21","v":10},{"$f":"Congé!F21","v":"BALLESTER"},"","","","","","","","CA","CA","","",null,null,"CPJ/CAN","EVa","Eva 12h","CPJ/CAN"]
[{"$f":"Congé!E22","v":7},{"$f":"Congé!F22","v":"GRIMM"},"","","","","12h","","","","","","",null,null,"RPM","Evc","Evc 12h"]
[{"$f":"Congé!E23","v":3},{"$f":"Congé!F23","v":"ORIOL"},"12h","","CA","","","","","CA","CA","","",null,null,"ST","EV","EV 12h"]
[{"$f":"Congé!E24","v":10},{"$f":"Congé!F24","v":"DEPRAD"},"","","","","CA","CA","","12h","","","",null,null,"STJ/Feu","VID","VID 12h"]
[{"$f":"Congé!E25","v":4},{"$f":"Congé!F25","v":"FLORES"},"CA","12h","","CA","","CA","","CA","CA","","",null,null,"STJ/V","VSAV 24h","VSAV 12h"]
[{"$f":"Congé!E26","v":2},{"$f":"Congé!F26","v":"FIGUEIRINHA"},"CA","CA","","","CA","","CA","CA","","","",null,null,"STJ/PCN","VSAV jour","VLM 12h"]
[{"$f":"Congé!E27","v":8},{"$f":"Congé!F27","v":"HEURTEBISE"},"","","","","","12h","CA","CA","","","",null,null,"STJ","VSAV nuit","PC 12h"]
[{"$f":"Congé!E28","v":3},{"$f":"Congé!F28","v":"BLANCHARD"},"12h","","","CA","","CA","CA","","","","",null,null,"STN","VLM 24h","ST 12h"]
[{"$f":"Congé!E29","v":5},{"$f":"Congé!F29","v":"BOUISSET"},"","","12h","","CA","CA","CA","","","","",null,null,"CE","VLM jour","CE 12h"]
[{"$f":"Congé!E30","v":5},{"$f":"Congé!F30","v":"DECITRE"},"CA","CA","CA","CA","12h",{"$f":"IF($A30=H$5,\"12h\",IF($A30=\"\",\"\",\"\"))","v":""},"","","","","",null,null,"CEJ","VLM nuit","CP 12h"]
[{"$f":"Congé!E31","v":4},{"$f":"Congé!F31","v":"EON"},{"$f":"IF($A31=C$5,\"12h\",IF($A31=\"\",\"\",\"\"))","v":""},"12h","CA","","","CA","CA","","","","",null,null,"CEN","PCJ","AA 12h"]
[{"$f":"Congé!E32","v":6},{"$f":"Congé!F32","v":"DIOLOGENT"},"","","","12h","","","","","","","",null,null,"CEJ/CPN","PCN","AT 12h"]
[{"$f":"Congé!E33","v":7},{"$f":"Congé!F33","v":"GUEROULT"},"CA","CA","CA","CA","12h","","","","","","",null,null,"CP","PC 24","RPM 12h"]
[{"$f":"Congé!E34","v":1},{"$f":"Congé!F34","v":"SALMI"},"","","","","","CA","CA","","12h","","",null,null,"CPJ","USSH","CM 12h"]
[{"$f":"Congé!E35","v":3},{"$f":"Congé!F35","v":"DYLIK"},null,"","","12h","CA","CA","CA","","","","",null,null,"CPN"]
[]
[{"$f":"Congé!E37","v":9},{"$f":"Congé!F37","v":"MONTALEGRE"},"","","","","","","12h","CA","CA","","",null,null,"AA"]
[{"$f":"Congé!E38","v":9},{"$f":"Congé!F38","v":"SERANO G"},"CA","","","","","","CA","CA","","","",null,null,"AAJ"]
[{"$f":"Congé!E39","v":7},{"$f":"Congé!F39","v":"LANCIAL"},"","","12h","CA","CA","","","","","","",null,null,"AAN"]
[{"$f":"Congé!E40","v":8},{"$f":"Congé!F40","v":"MOURCIA"},"","","","","","12h","","","","","",null,null,"CM"]
[{"$f":"Congé!E41","v":2},{"$f":"Congé!F41","v":"GILSON"},"CA","CA","","","","","","CA","CA","","",null,null,"AT"]
[{"$f":"Congé!E42","v":3},{"$f":"Congé!F42","v":"PERETTI"},"12h","","","CA","CA","","","","","","",null,null,"TP"]
[{"$f":"Congé!E43","v":5},{"$f":"Congé!F43","v":"PERINO"},"","","12h","CA","CA","CA","","","","","",null,null,"SHR"]
[{"$f":"Congé!E44","v":10},{"$f":"Congé!F44","v":"LUPI"},"","","CA","","","12h","CA","CA","","","",null,null,"MUT"]
[{"$f":"Congé!E45","v":4},{"$f":"Congé!F45","v":"ROOS"},"",null,"","","","","",null,"","","",null,null,"CA ops"]
[{"$f":"Congé!E46","v":1},{"$f":"Congé!F46","v":"VALERIAN"},"CA","","CA ops","","CA","CA","","","12h","",""]
[{"$f":"Congé!E47","v":6},{"$f":"Congé!F47","v":"ROUSTAN"},"","","","12h","","","","","","",""]
[{"$f":"Congé!E48","v":1},{"$f":"Congé!F48","v":"WENGER"},"","","","","CA ops","CA","","","12h","",""]
[{"$f":"Congé!E49","v":8},{"$f":"Congé!F49","v":"LHERBIER"},{"$f":"IF($A49=C$5,\"12h\",IF($A49=\"\",\"\",\"\"))","v":""},"","","","","12h","","","","",""]
[null,"CA Jour",{"$f":"COUNTIF(C9:C49,\"CA\")+COUNTIF(C9:C49,\"CAJ*\")+COUNTIF(C9:C49,\"RPM\")","v":9},{"$f":"COUNTIF(D9:D49,\"CA\")+COUNTIF(D9:D49,\"CAJ*\")+COUNTIF(D9:D49,\"RPM\")","v":7},8,8,9,12,12,12,10,0,0]
[null,"Absence jour",{"$f":"SUM(C71:C73)+C77+SUM(C78:C84)+SUM(C88:C98)+C50","v":9},{"$f":"SUM(D71:D73)+D77+SUM(D78:D84)+SUM(D88:D98)+D50","v":7},8,8,9,12,12,12,10,0,0]
[null,"CA Nuit",{"$f":"COUNTIF(C9:C49,\"CA\")+COUNTIF(C9:C49,\"*CAN\")+COUNTIF(C9:C49,\"RPM\")","v":9},{"$f":"COUNTIF(D9:D49,\"CA\")+COUNTIF(D9:D49,\"*CAN\")+COUNTIF(D9:D49,\"RPM\")","v":7},8,8,9,12,12,12,10,0,0]
[null,"Absence Nuit",{"$f":"SUM(C63:C65)+C68+SUM(C85:C98)+C52","v":9},{"$f":"SUM(D63:D65)+D68+SUM(D85:D98)+D52","v":7},8,8,9,12,12,12,10,0,0]
[]
[null,"Nombre de 12h",{"$f":"COUNTIF(C9:C49,\"*12h\")","v":3},{"$f":"COUNTIF(D9:D49,\"*12h\")","v":3},4,4,3,5,3,2,4,0,0]
[]
[null,"Nbre de pro jour",{"$f":"Congé!$E$50-C51","v":29},{"$f":"Congé!$E$50-D51","v":31},{"$f":"Congé!$E$50-E51","v":30},{"$f":"Congé!$E$50-F51","v":30},{"$f":"Congé!$E$50-G51","v":29},{"$f":"Congé!$E$50-H51","v":26},{"$f":"Congé!$E$50-I51","v":26},{"$f":"Congé!$E$50-J51","v":26},{"$f":"Congé!$E$50-K51","v":28},{"$f":"Congé!$E$50-L51","v":38},{"$f":"Congé!$E$50-M51","v":38}]
[null,"Nbre de pro nuit",{"$f":"Congé!$E$50-C53-C55","v":26},{"$f":"Congé!$E$50-D53-D55","v":28},{"$f":"Congé!$E$50-E53-E55","v":26},{"$f":"Congé!$E$50-F53-F55","v":26},{"$f":"Congé!$E$50-G53-G55","v":26},{"$f":"Congé!$E$50-H53-H55","v":21},{"$f":"Congé!$E$50-I53-I55","v":23},{"$f":"Congé!$E$50-J53-J55","v":24},{"$f":"Congé!$E$50-K53-K55","v":24},{"$f":"Congé!$E$50-L53-L55","v":38},{"$f":"Congé!$E$50-M53-M55","v":38}]
[]
[null,"CA",{"$f":"COUNTIF(C$9:C$49,$B60)","v":9},{"$f":"COUNTIF(D$9:D$49,$B60)","v":7},8,8,9,12,12,12,10,0,0]
[null,"RPM",{"$f":"COUNTIF(C$9:C$49,$B61)","v":0},0,0,0,0,0,0,0,0,0,0]
[null,"CAJ",0,0,0,0,0,0,0,0,0,0,0]
[null,"CAJ/AAN",0,0,0,0,0,0,0,0,0,0,0]
[null,"CAJ/CEN",0,0,0,0,0,0,0,0,0,0,0]
[null,"CAJ/CPN",0,0,0,0,0,0,0,0,0,0,0]
[null,"CAJ/Feu",0,0,0,0,0,0,0,0,0,0,0]
[null,"CAJ/PCN",0,0,0,0,0,0,0,0,0,0,0]
[null,"CAJ/STN",0,0,0,0,0,0,0,0,0,0,0,null,null,"CG"]
[null,"CAJ/V",0,0,0,0,0,0,0,0,0,0,0,null,null,"CDG"]
[null,"CAN",0,0,0,0,0,0,0,0,0,0,0,null,null,"VPUa"]
[null,"AAJ/CAN",0,0,0,0,0,0,0,0,0,0,0,null,null,"VPU"]
[null,"CEJ/CAN",0,0,0,0,0,0,0,0,0,0,0,null,null,"VPUc"]
[null,"CPJ/CAN",0,0,0,0,0,0,0,0,0,0,0,null,null,"FPTa"]
[null,"Feu/CAN",0,0,0,0,0,0,0,0,0,0,0]
[null,"PCJ/CAN",0,0,0,0,0,0,0,0,0,0,0,null,null,"FPT"]
[null,"V/CAN",0,0,0,0,0,0,0,0,0,0,0,null,null,"FPTc"]
[null,"STJ/CAN",0,0,0,0,0,0,0,0,0,0,0,null,null,"EPSa"]
[null,"AAJ",0,0,0,0,0,0,0,0,0,0,0,null,null,"EPSc"]
[null,"CEJ",0,0,0,0,0,0,0,0,0,0,0,null,null,"EPS"]
[null,"CPJ",0,0,0,0,0,0,0,0,0,0,0,null,null,"VSRa"]
[null,"STJ",0,0,0,0,0,0,0,0,0,0,0,null,null,"VSRc"]
[null,"STJ/Feu",0,0,0,0,0,0,0,0,0,0,0,null,null,"VSR"]
[null,"STJ/PCN",0,0,0,0,0,0,0,0,0,0,0,null,null,"EVa"]
[null,"STJ/V",0,0,0,0,0,0,0,0,0,0,0,null,null,"Evc"]
[null,"AAN",0,0,0,0,0,0,0,0,0,0,0,null,null,"EV"]
[null,"CEN",0,0,0,0,0,0,0,0,0,0,0,null,null,"VID"]
[null,"CPN",0,0,0,0,0,0,0,0,0,0,0,null,null,"VSAV 24h"]
[null,"STN",0,0,0,0,0,0,0,0,0,0,0,null,null,"VSAV jour"]
[null,"CE",0,0,0,0,0,0,0,0,0,0,0,null,null,"VSAV nuit"]
[null,"CEJ/CPN",0,0,0,0,0,0,0,0,0,0,0,null,null,"VLM 24h"]
[null,"CM",0,0,0,0,0,0,0,0,0,0,0,null,null,"VLM jour"]
[null,"CP",0,0,0,0,0,0,0,0,0,0,0,null,null,"VLM nuit"]
[null,"TP",0,0,0,0,0,0,0,0,0,0,0,null,null,"PCJ"]
[null,"ST",0,0,0,0,0,0,0,0,0,0,0]
[null,"SHR",0,0,0,0,0,0,0,0,0,0,0,null,null,"PCN"]
[null,"MUT",0,0,0,0,0,0,0,0,0,0,0,null,null,"PC 24"]
[null,"AA",0,0,0,0,0,0,0,0,0,{"$f":"COUNTIF(L$9:L$49,$B97)","v":0},{"$f":"COUNTIF(M$9:M$49,$B97)","v":0},null,null,"CG 12h"]
[null,"AT",{"$f":"COUNTIF(C$9:C$49,$B98)","v":0},0,0,0,0,0,0,0,0,0,0,null,null,"CDG 12h"]
[null,null,null,null,null,null,null,null,null,null,null,null,null,null,null,"VPUa 12h"]
[null,null,null,null,null,null,null,null,null,null,null,null,null,null,null,"VPU 12h"]
[]
[null,null,null,null,null,null,null,null,null,null,null,null,null,null,null,"VPUc 12h"]
[null,null,null,null,null,null,null,null,null,null,null,null,null,null,null,"FPTa 12h"]
[null,null,null,null,null,null,null,null,null,null,null,null,null,null,null,"FPT 12h"]
[null,null,null,null,null,null,null,null,null,null,null,null,null,null,null,"FPTc 12h"]
[null,null,null,null,null,null,null,null,null,null,null,null,null,null,null,"EPSa 12h"]
[null,null,null,null,null,null,null,null,null,null,null,null,null,null,null,"EPSc 12h"]
[null,null,null,null,null,null,null,null,null,null,null,null,null,null,null,"EPS 12h"]
[null,null,null,null,null,null,null,null,null,null,null,null,null,null,null,"VSRa 12h"]
[null,null,null,null,null,null,null,null,null,null,null,null,null,null,null,"VSRc 12h"]
[null,null,null,null,null,null,null,null,null,null,null,null,null,null,null,"VSR 12h"]
[null,null,null,null,null,null,null,null,null,null,null,null,null,null,null,"Eva 12h"]
[null,null,null,null,null,null,null,null,null,null,null,null,null,null,null,"Evc 12h"]
[null,null,null,null,null,null,null,null,null,null,null,null,null,null,null,"EV 12h"]
[null,null,null,null,null,null,null,null,null,null,null,null,null,null,null,"VID 12h"]
[null,null,null,null,null,null,null,null,null,null,null,null,null,null,null,"VSAV 12h"]
[null,null,null,null,null,null,null,null,null,null,null,null,null,null,null,"VLM 12h"]
[null,null,null,null,null,null,null,null,null,null,null,null,null,null,null,"PC 12h"]
[null,null,null,null,null,null,null,null,null,null,null,null,null,null,null,"ST 12h"]
[null,null,null,null,null,null,null,null,null,null,null,null,null,null,null,"CE 12h"]
[null,null,null,null,null,null,null,null,null,null,null,null,null,null,null,"CP 12h"]
[null,null,null,null,null,null,null,null,null,null,null,null,null,null,null,"AA 12h"]
[null,null,null,null,null,null,null,null,null,null,null,null,null,null,null,"AT 12h"]
[null,null,null,null,null,null,null,null,null,null,null,null,null,null,null,"RPM 12h"]
[null,null,null,null,null,null,null,null,null,null,null,null,null,null,null,"CM 12h"]
[null,null,null,null,null,null,null,null,null,null,null,null,null,null,null,"USSH"]

{"sheet":"Juillet","index":7,"n_rows":126,"n_cols":19,"rows_kept":126,"cut":false,"hidden":false,"merged":[[0,16,2,16],[0,17,2,17],[4,0,4,1],[1,6,1,7]]}
[null,null,"2020-07-03",{"$f":"C1+3","v":"2020-07-06"},{"$f":"D1+3","v":"2020-07-09"},"2020-07-12","2020-07-15","2020-07-18","2020-07-21","2020-07-24","2020-07-27","2036-01-24","2038-01-26",null,null,null,"Fonctions    24h","Fonctions 12h"]
[null,null,null,null,null,null,{"$f":"RIGHT(CELL(\"nomfichier\",G2),LEN(CELL(\"nomfichier\",G2))-SEARCH(\"]\",CELL(\"nomfichier\",G2)))","v":"Juillet"},null,null,null,null,null,null,"12h",null,"CA",null,null,"CA"]
[null,null,3,6,9,12,15,18,21,24,27,null,null,"12h",null,"CAJ",null,null,"CAJ"]
[null,null,"LUN","JEU","DIM","MER","SAM","MAR","VEN","LUN.","JEU.",null,null,null,null,"CAN","CG","CG 12h","CAN"]
["Equipes",null,3,4,5,6,7,8,9,10,1,null,null,null,null,"CAJ/Feu","CDG","CDG 12h","CAJ/Feu"]
[{"$f":"Congé!E6","v":1},{"$f":"Congé!F6","v":"MATEO"},{"$f":"IF($A6=C$5,\"12h\",IF($A6=\"\",\"\",\"\"))","v":""},"","CA","","","","CA","","12h","","",null,null,"Feu/CAN","VPUa","VPUa 12h","Feu/CAN"]
[{"$f":"Congé!E7","v":9},{"$f":"Congé!F7","v":"BARREAU"},"","","","","","","12h","","","","",null,null,"CAJ/V","VPU","VPU 12h","CAJ/V"]
[]
[{"$f":"Congé!E9","v":10},{"$f":"Congé!F9","v":"CARTIER"},{"$f":"IF($A9=C$5,\"12h\",IF($A9=\"\",\"\",\"\"))","v":""},"CA","","","","","","12h","CA","","",null,null,"V/CAN","VPUc","VPUc 12h","V/CAN"]
[{"$f":"Congé!E10","v":4},{"$f":"Congé!F10","v":"CARTAUT"},"","12h","","","","","","CA","CA","","",null,null,"PCJ/CAN","FPTa","FPTa 12h","PCJ/CAN"]
[{"$f":"Congé!E11","v":5},{"$f":"Congé!F11","v":"CASTA"},"","","12h","CA","","","CA","","","","",null,null,"CAJ/PCN","FPT","FPT 12h","CAJ/PCN"]
[]
[{"$f":"Congé!E13","v":8},{"$f":"Congé!F13","v":"SELLES"},{"$f":"IF($A13=C$5,\"12h\",IF($A13=\"\",\"\",\"\"))","v":""},"","CA","","","12h","","","","","",null,null,"CAJ/STN","FPTc","FPTc 12h","CAJ/STN"]
[{"$f":"Congé!E14","v":9},{"$f":"Congé!F14","v":"MASSELIN"},"","","","","","","12h","CA","CA","","",null,null,"STJ/CAN","EPSa","EPSa 12h","STJ/CAN"]
[{"$f":"Congé!E15","v":6},{"$f":"Congé!F15","v":"HUGUES"},"","","","USSH","USSH","CA","CA","","","","",null,null,"CAJ/CEN","EPSc","EPSc 12h","CAJ/CEN"]
[{"$f":"Congé!E16","v":1},{"$f":"Congé!F16","v":"MALET"},"CA","CA","CA","","CA","CA","CA","","12h","","",null,null,"CEJ/CAN","EPS","EPS 12h","CEJ/CAN"]
[{"$f":"Congé!E17","v":2},{"$f":"Congé!F17","v":"REY F"},"","","","","","","","","","","",null,null,"CAJ/AAN","VSRa","VSRa 12h","CAJ/AAN"]
[]
[{"$f":"Congé!E19","v":9},{"$f":"Congé!F19","v":"ROSTAND"},"CA","CA","CA",{"$f":"IF($A19=F$5,\"12h\",IF($A19=\"\",\"\",\"\"))","v":""},"","","12h","","CA","","",null,null,"AAJ/CAN","VSRc","VSRc 12h","AAJ/CAN"]
[{"$f":"Congé!E20","v":6},{"$f":"Congé!F20","v":"LAURENT J"},{"$f":"IF($A20=C$5,\"12h\",IF($A20=\"\",\"\",\"\"))","v":""},"","","12h","CA ops","","","CA","CA","","",null,null,"CAJ/CPN","VSR","VSR 12h","CAJ/CPN"]
[{"$f":"Congé!E21","v":10},{"$f":"Congé!F21","v":"BALLESTER"},"","","","","","","","CA","CA","","",null,null,"CPJ/CAN","EVa","Eva 12h","CPJ/CAN"]
[{"$f":"Congé!E22","v":7},{"$f":"Congé!F22","v":"GRIMM"},"","","","","12h","","","","","","",null,null,"RPM","Evc","Evc 12h"]
[{"$f":"Congé!E23","v":3},{"$f":"Congé!F23","v":"ORIOL"},"12h","","CA","","","","","CA","CA","","",null,null,"ST","EV","EV 12h"]
[{"$f":"Congé!E24","v":10},{"$f":"Congé!F24","v":"DEPRAD"},"","","","","CA","CA","","12h","","","",null,null,"STJ/Feu","VID","VID 12h"]
[{"$f":"Congé!E25","v":4},{"$f":"Congé!F25","v":"FLORES"},"CA","12h","","CA","","CA","","CA","CA","","",null,null,"STJ/V","VSAV 24h","VSAV 12h"]
[{"$f":"Congé!E26","v":2},{"$f":"Congé!F26","v":"FIGUEIRINHA"},"CA","CA","","","CA","","CA","CA","","","",null,null,"STJ/PCN","VSAV jour","VLM 12h"]
[{"$f":"Congé!E27","v":8},{"$f":"Congé!F27","v":"HEURTEBISE"},"","","","","","12h","CA","CA","","","",null,null,"STJ","VSAV nuit","PC 12h"]
[{"$f":"Congé!E28","v":3},{"$f":"Congé!F28","v":"BLANCHARD"},"12h","","","CA","","CA","CA","","","","",null,null,"STN","VLM 24h","ST 12h"]
[{"$f":"Congé!E29","v":5},{"$f":"Congé!F29","v":"BOUISSET"},"","","12h","","CA","CA","CA","","","","",null,null,"CE","VLM jour","CE 12h"]
[{"$f":"Congé!E30","v":5},{"$f":"Congé!F30","v":"DECITRE"},"CA","CA","CA","CA","12h",{"$f":"IF($A30=H$5,\"12h\",IF($A30=\"\",\"\",\"\"))","v":""},"","","","","",null,null,"CEJ","VLM nuit","CP 12h"]
[{"$f":"Congé!E31","v":4},{"$f":"Congé!F31","v":"EON"},{"$f":"IF($A31=C$5,\"12h\",IF($A31=\"\",\"\",\"\"))","v":""},"12h","CA","","","CA","CA","","","","",null,null,"CEN","PCJ","AA 12h"]
[{"$f":"Congé!E32","v":6},{"$f":"Congé!F32","v":"DIOLOGENT"},"","","","12h","","","","","","","",null,null,"CEJ/CPN","PCN","AT 12h"]
[{"$f":"Congé!E33","v":7},{"$f":"Congé!F33","v":"GUEROULT"},"CA","CA","CA","CA","12h","","","","","","",null,null,"CP","PC 24","RPM 12h"]
[{"$f":"Congé!E34","v":1},{"$f":"Congé!F34","v":"SALMI"},"","","","","","CA","CA","","12h","","",null,null,"CPJ","USSH","CM 12h"]
[{"$f":"Congé!E35","v":3},{"$f":"Congé!F35","v":"DYLIK"},null,"","","12h","CA","CA","CA","","","","",null,null,"CPN"]
[]
[{"$f":"Congé!E37","v":9},{"$f":"Congé!F37","v":"MONTALEGRE"},"","","","","","","12h","CA","CA","","",null,null,"AA"]
[{"$f":"Congé!E38","v":9},{"$f":"Congé!F38","v":"SERANO G"},"CA","","","","","","CA","CA","","","",null,null,"AAJ"]
[{"$f":"Congé!E39","v":7},{"$f":"Congé!F39","v":"LANCIAL"},"","","12h","CA","CA","","","","","","",null,null,"AAN"]
[{"$f":"Congé!E40","v":8},{"$f":"Congé!F40","v":"MOURCIA"},"","","","","","12h","","","","","",null,null,"CM"]
[{"$f":"Congé!E41","v":2},{"$f":"Congé!F41","v":"GILSON"},"CA","CA","","","","","","CA","CA","","",null,null,"AT"]
[{"$f":"Congé!E42","v":3},{"$f":"Congé!F42","v":"PERETTI"},"12h","","","CA","CA","","","","","","",null,null,"TP"]
[{"$f":"Congé!E43","v":5},{"$f":"Congé!F43","v":"PERINO"},"","","12h","CA","CA","CA","","","","","",null,null,"SHR"]
[{"$f":"Congé!E44","v":10},{"$f":"Congé!F44","v":"LUPI"},"","","CA","","","12h","CA","CA","","","",null,null,"MUT"]
[{"$f":"Congé!E45","v":4},{"$f":"Congé!F45","v":"ROOS"},"",null,"","","","","",null,"","","",null,null,"CA ops"]
[{"$f":"Congé!E46","v":1},{"$f":"Congé!F46","v":"VALERIAN"},"CA","","CA ops","","CA","CA","","","12h","",""]
[{"$f":"Congé!E47","v":6},{"$f":"Congé!F47","v":"ROUSTAN"},"","","","12h","","","","","","",""]
[{"$f":"Congé!E48","v":1},{"$f":"Congé!F48","v":"WENGER"},"","","","","CA ops","CA","","","12h","",""]
[{"$f":"Congé!E49","v":8},{"$f":"Congé!F49","v":"LHERBIER"},{"$f":"IF($A49=C$5,\"12h\",IF($A49=\"\",\"\",\"\"))","v":""},"","","","","12h","","","","",""]
[null,"CA Jour",{"$f":"COUNTIF(C9:C49,\"CA\")+COUNTIF(C9:C49,\"CAJ*\")+COUNTIF(C9:C49,\"RPM\")","v":9},{"$f":"COUNTIF(D9:D49,\"CA\")+COUNTIF(D9:D49,\"CAJ*\")+COUNTIF(D9:D49,\"RPM\")","v":7},8,8,9,12,12,12,10,0,0]
[null,"Absence jour",{"$f":"SUM(C71:C73)+C77+SUM(C78:C84)+SUM(C88:C98)+C50","v":9},{"$f":"SUM(D71:D73)+D77+SUM(D78:D84)+SUM(D88:D98)+D50","v":7},8,8,9,12,12,12,10,0,0]
[null,"CA Nuit",{"$f":"COUNTIF(C9:C49,\"CA\")+COUNTIF(C9:C49,\"*CAN\")+COUNTIF(C9:C49,\"RPM\")","v":9},{"$f":"COUNTIF(D9:D49,\"CA\")+COUNTIF(D9:D49,\"*CAN\")+COUNTIF(D9:D49,\"RPM\")","v":7},8,8,9,12,12,12,10,0,0]
[null,"Absence Nuit",{"$f":"SUM(C63:C65)+C68+SUM(C85:C98)+C52","v":9},{"$f":"SUM(D63:D65)+D68+SUM(D85:D98)+D52","v":7},8,8,9,12,12,12,10,0,0]
[]
[null,"Nombre de 12h",{"$f":"COUNTIF(C9:C49,\"*12h\")","v":3},{"$f":"COUNTIF(D9:D49,\"*12h\")","v":3},4,4,3,5,3,2,4,0,0]
[]
[null,"Nbre de pro jour",{"$f":"Congé!$E$50-C51","v":29},{"$f":"Congé!$E$50-D51","v":31},{"$f":"Congé!$E$50-E51","v":30},{"$f":"Congé!$E$50-F51","v":30},{"$f":"Congé!$E$50-G51","v":29},{"$f":"Congé!$E$50-H51","v":26},{"$f":"Congé!$E$50-I51","v":26},{"$f":"Congé!$E$50-J51","v":26},{"$f":"Congé!$E$50-K51","v":28},{"$f":"Congé!$E$50-L51","v":38},{"$f":"Congé!$E$50-M51","v":38}]
[null,"Nbre de pro nuit",{"$f":"Congé!$E$50-C53-C55","v":26},{"$f":"Congé!$E$50-D53-D55","v":28},{"$f":"Congé!$E$50-E53-E55","v":26},{"$f":"Congé!$E$50-F53-F55","v":26},{"$f":"Congé!$E$50-G53-G55","v":26},{"$f":"Congé!$E$50-H53-H55","v":21},{"$f":"Congé!$E$50-I53-I55","v":23},{"$f":"Congé!$E$50-J53-J55","v":24},{"$f":"Congé!$E$50-K53-K55","v":24},{"$f":"Congé!$E$50-L53-L55","v":38},{"$f":"Congé!$E$50-M53-M55","v":38}]
[]
[null,"CA",{"$f":"COUNTIF(C$9:C$49,$B60)","v":9},{"$f":"COUNTIF(D$9:D$49,$B60)","v":7},8,8,9,12,12,12,10,0,0]
[null,"RPM",{"$f":"COUNTIF(C$9:C$49,$B61)","v":0},0,0,0,0,0,0,0,0,0,0]
[null,"CAJ",0,0,0,0,0,0,0,0,0,0,0]
[null,"CAJ/AAN",0,0,0,0,0,0,0,0,0,0,0]
[null,"CAJ/CEN",0,0,0,0,0,0,0,0,0,0,0]
[null,"CAJ/CPN",0,0,0,0,0,0,0,0,0,0,0]
[null,"CAJ/Feu",0,0,0,0,0,0,0,0,0,0,0]
[null,"CAJ/PCN",0,0,0,0,0,0,0,0,0,0,0]
[null,"CAJ/STN",0,0,0,0,0,0,0,0,0,0,0,null,null,"CG"]
[null,"CAJ/V",0,0,0,0,0,0,0,0,0,0,0,null,null,"CDG"]
[null,"CAN",0,0,0,0,0,0,0,0,0,0,0,null,null,"VPUa"]
[null,"AAJ/CAN",0,0,0,0,0,0,0,0,0,0,0,null,null,"VPU"]
[null,"CEJ/CAN",0,0,0,0,0,0,0,0,0,0,0,null,null,"VPUc"]
[null,"CPJ/CAN",0,0,0,0,0,0,0,0,0,0,0,null,null,"FPTa"]
[null,"Feu/CAN",0,0,0,0,0,0,0,0,0,0,0]
[null,"PCJ/CAN",0,0,0,0,0,0,0,0,0,0,0,null,null,"FPT"]
[null,"V/CAN",0,0,0,0,0,0,0,0,0,0,0,null,null,"FPTc"]
[null,"STJ/CAN",0,0,0,0,0,0,0,0,0,0,0,null,null,"EPSa"]
[null,"AAJ",0,0,0,0,0,0,0,0,0,0,0,null,null,"EPSc"]
[null,"CEJ",0,0,0,0,0,0,0,0,0,0,0,null,null,"EPS"]
[null,"CPJ",0,0,0,0,0,0,0,0,0,0,0,null,null,"VSRa"]
[null,"STJ",0,0,0,0,0,0,0,0,0,0,0,null,null,"VSRc"]
[null,"STJ/Feu",0,0,0,0,0,0,0,0,0,0,0,null,null,"VSR"]
[null,"STJ/PCN",0,0,0,0,0,0,0,0,0,0,0,null,null,"EVa"]
[null,"STJ/V",0,0,0,0,0,0,0,0,0,0,0,null,null,"Evc"]
[null,"AAN",0,0,0,0,0,0,0,0,0,0,0,null,null,"EV"]
[null,"CEN",0,0,0,0,0,0,0,0,0,0,0,null,null,"VID"]
[null,"CPN",0,0,0,0,0,0,0,0,0,0,0,null,null,"VSAV 24h"]
[null,"STN",0,0,0,0,0,0,0,0,0,0,0,null,null,"VSAV jour"]
[null,"CE",0,0,0,0,0,0,0,0,0,0,0,null,null,"VSAV nuit"]
[null,"CEJ/CPN",0,0,0,0,0,0,0,0,0,0,0,null,null,"VLM 24h"]
[null,"CM",0,0,0,0,0,0,0,0,0,0,0,null,null,"VLM jour"]
[null,"CP",0,0,0,0,0,0,0,0,0,0,0,null,null,"VLM nuit"]
[null,"TP",0,0,0,0,0,0,0,0,0,0,0,null,null,"PCJ"]
[null,"ST",0,0,0,0,0,0,0,0,0,0,0]
[null,"SHR",0,0,0,0,0,0,0,0,0,0,0,null,null,"PCN"]
[null,"MUT",0,0,0,0,0,0,0,0,0,0,0,null,null,"PC 24"]
[null,"AA",0,0,0,0,0,0,0,0,0,{"$f":"COUNTIF(L$9:L$49,$B97)","v":0},{"$f":"COUNTIF(M$9:M$49,$B97)","v":0},null,null,"CG 12h"]
[null,"AT",{"$f":"COUNTIF(C$9:C$49,$B98)","v":0},0,0,0,0,0,0,0,0,0,0,null,null,"CDG 12h"]
[null,null,null,null,null,null,null,null,null,null,null,null,null,null,null,"VPUa 12h"]
[null,null,null,null,null,null,null,null,null,null,null,null,null,null,null,"VPU 12h"]
[]
[null,null,null,null,null,null,null,null,null,null,null,null,null,null,null,"VPUc 12h"]
[null,null,null,null,null,null,null,null,null,null,null,null,null,null,null,"FPTa 12h"]
[null,null,null,null,null,null,null,null,null,null,null,null,null,null,null,"FPT 12h"]
[null,null,null,null,null,null,null,null,null,null,null,null,null,null,null,"FPTc 12h"]
[null,null,null,null,null,null,null,null,null,null,null,null,null,null,null,"EPSa 12h"]
[null,null,null,null,null,null,null,null,null,null,null,null,null,null,null,"EPSc 12h"]
[null,null,null,null,null,null,null,null,null,null,null,null,null,null,null,"EPS 12h"]
[null,null,null,null,null,null,null,null,null,null,null,null,null,null,null,"VSRa 12h"]
[null,null,null,null,null,null,null,null,null,null,null,null,null,null,null,"VSRc 12h"]
[null,null,null,null,null,null,null,null,null,null,null,null,null,null,null,"VSR 12h"]
[null,null,null,null,null,null,null,null,null,null,null,null,null,null,null,"Eva 12h"]
[null,null,null,null,null,null,null,null,null,null,null,null,null,null,null,"Evc 12h"]
[null,null,null,null,null,null,null,null,null,null,null,null,null,null,null,"EV 12h"]
[null,null,null,null,null,null,null,null,null,null,null,null,null,null,null,"VID 12h"]
[null,null,null,null,null,null,null,null,null,null,null,null,null,null,null,"VSAV 12h"]
[null,null,null,null,null,null,null,null,null,null,null,null,null,null,null,"VLM 12h"]
[null,null,null,null,null,null,null,null,null,null,null,null,null,null,null,"PC 12h"]
[null,null,null,null,null,null,null,null,null,null,null,null,null,null,null,"ST 12h"]
[null,null,null,null,null,null,null,null,null,null,null,null,null,null,null,"CE 12h"]
[null,null,null,null,null,null,null,null,null,null,null,null,null,null,null,"CP 12h"]
[null,null,null,null,null,null,null,null,null,null,null,null,null,null,null,"AA 12h"]
[null,null,null,null,null,null,null,null,null,null,null,null,null,null,null,"AT 12h"]
[null,null,null,null,null,null,null,null,null,null,null,null,null,null,null,"RPM 12h"]
[null,null,null,null,null,null,null,null,null,null,null,null,null,null,null,"CM 12h"]
[null,null,null,null,null,null,null,null,null,null,null,null,null,null,null,"USSH"]

{"sheet":"Août","index":8,"n_rows":126,"n_cols":19,"rows_kept":126,"cut":false,"hidden":false,"merged":[[0,16,2,16],[0,17,2,17],[4,0,4,1],[1,6,1,7]]}
[null,null,"2020-08-03",{"$f":"C1+3","v":"2020-08-06"},{"$f":"D1+3","v":"2020-08-09"},"2020-08-12","2020-08-15","2020-08-18","2020-08-21","2020-08-24","2020-08-27","2036-01-24","2038-01-26",null,null,null,"Fonctions    24h","Fonctions 12h"]
[null,null,null,null,null,null,{"$f":"RIGHT(CELL(\"nomfichier\",G2),LEN(CELL(\"nomfichier\",G2))-SEARCH(\"]\",CELL(\"nomfichier\",G2)))","v":"Août"},null,null,null,null,null,null,"12h",null,"CA",null,null,"CA"]
[null,null,3,6,9,12,15,18,21,24,27,null,null,"12h",null,"CAJ",null,null,"CAJ"]
[null,null,"LUN","JEU","DIM","MER","SAM","MAR","VEN","LUN.","JEU.",null,null,null,null,"CAN","CG","CG 12h","CAN"]
["Equipes",null,3,4,5,6,7,8,9,10,1,null,null,null,null,"CAJ/Feu","CDG","CDG 12h","CAJ/Feu"]
[{"$f":"Congé!E6","v":1},{"$f":"Congé!F6","v":"MATEO"},{"$f":"IF($A6=C$5,\"12h\",IF($A6=\"\",\"\",\"\"))","v":""},"","CA","","","","CA","","12h","","",null,null,"Feu/CAN","VPUa","VPUa 12h","Feu/CAN"]
[{"$f":"Congé!E7","v":9},{"$f":"Congé!F7","v":"BARREAU"},"","","","","","","12h","","","","",null,null,"CAJ/V","VPU","VPU 12h","CAJ/V"]
[]
[{"$f":"Congé!E9","v":10},{"$f":"Congé!F9","v":"CARTIER"},{"$f":"IF($A9=C$5,\"12h\",IF($A9=\"\",\"\",\"\"))","v":""},"CA","","","","","","12h","CA","","",null,null,"V/CAN","VPUc","VPUc 12h","V/CAN"]
[{"$f":"Congé!E10","v":4},{"$f":"Congé!F10","v":"CARTAUT"},"","12h","","","","","","CA","CA","","",null,null,"PCJ/CAN","FPTa","FPTa 12h","PCJ/CAN"]
[{"$f":"Congé!E11","v":5},{"$f":"Congé!F11","v":"CASTA"},"","","12h","CA","","","CA","","","","",null,null,"CAJ/PCN","FPT","FPT 12h","CAJ/PCN"]
[]
[{"$f":"Congé!E13","v":8},{"$f":"Congé!F13","v":"SELLES"},{"$f":"IF($A13=C$5,\"12h\",IF($A13=\"\",\"\",\"\"))","v":""},"","CA","","","12h","","","","","",null,null,"CAJ/STN","FPTc","FPTc 12h","CAJ/STN"]
[{"$f":"Congé!E14","v":9},{"$f":"Congé!F14","v":"MASSELIN"},"","","","","","","12h","CA","CA","","",null,null,"STJ/CAN","EPSa","EPSa 12h","STJ/CAN"]
[{"$f":"Congé!E15","v":6},{"$f":"Congé!F15","v":"HUGUES"},"","","","USSH","USSH","CA","CA","","","","",null,null,"CAJ/CEN","EPSc","EPSc 12h","CAJ/CEN"]
[{"$f":"Congé!E16","v":1},{"$f":"Congé!F16","v":"MALET"},"CA","CA","CA","","CA","CA","CA","","12h","","",null,null,"CEJ/CAN","EPS","EPS 12h","CEJ/CAN"]
[{"$f":"Congé!E17","v":2},{"$f":"Congé!F17","v":"REY F"},"","","","","","","","","","","",null,null,"CAJ/AAN","VSRa","VSRa 12h","CAJ/AAN"]
[]
[{"$f":"Congé!E19","v":9},{"$f":"Congé!F19","v":"ROSTAND"},"CA","CA","CA",{"$f":"IF($A19=F$5,\"12h\",IF($A19=\"\",\"\",\"\"))","v":""},"","","12h","","CA","","",null,null,"AAJ/CAN","VSRc","VSRc 12h","AAJ/CAN"]
[{"$f":"Congé!E20","v":6},{"$f":"Congé!F20","v":"LAURENT J"},{"$f":"IF($A20=C$5,\"12h\",IF($A20=\"\",\"\",\"\"))","v":""},"","","12h","CA ops","","","CA","CA","","",null,null,"CAJ/CPN","VSR","VSR 12h","CAJ/CPN"]
[{"$f":"Congé!E21","v":10},{"$f":"Congé!F21","v":"BALLESTER"},"","","","","","","","CA","CA","","",null,null,"CPJ/CAN","EVa","Eva 12h","CPJ/CAN"]
[{"$f":"Congé!E22","v":7},{"$f":"Congé!F22","v":"GRIMM"},"","","","","12h","","","","","","",null,null,"RPM","Evc","Evc 12h"]
[{"$f":"Congé!E23","v":3},{"$f":"Congé!F23","v":"ORIOL"},"12h","","CA","","","","","CA","CA","","",null,null,"ST","EV","EV 12h"]
[{"$f":"Congé!E24","v":10},{"$f":"Congé!F24","v":"DEPRAD"},"","","","","CA","CA","","12h","","","",null,null,"STJ/Feu","VID","VID 12h"]
[{"$f":"Congé!E25","v":4},{"$f":"Congé!F25","v":"FLORES"},"CA","12h","","CA","","CA","","CA","CA","","",null,null,"STJ/V","VSAV 24h","VSAV 12h"]
[{"$f":"Congé!E26","v":2},{"$f":"Congé!F26","v":"FIGUEIRINHA"},"CA","CA","","","CA","","CA","CA","","","",null,null,"STJ/PCN","VSAV jour","VLM 12h"]
[{"$f":"Congé!E27","v":8},{"$f":"Congé!F27","v":"HEURTEBISE"},"","","","","","12h","CA","CA","","","",null,null,"STJ","VSAV nuit","PC 12h"]
[{"$f":"Congé!E28","v":3},{"$f":"Congé!F28","v":"BLANCHARD"},"12h","","","CA","","CA","CA","","","","",null,null,"STN","VLM 24h","ST 12h"]
[{"$f":"Congé!E29","v":5},{"$f":"Congé!F29","v":"BOUISSET"},"","","12h","","CA","CA","CA","","","","",null,null,"CE","VLM jour","CE 12h"]
[{"$f":"Congé!E30","v":5},{"$f":"Congé!F30","v":"DECITRE"},"CA","CA","CA","CA","12h",{"$f":"IF($A30=H$5,\"12h\",IF($A30=\"\",\"\",\"\"))","v":""},"","","","","",null,null,"CEJ","VLM nuit","CP 12h"]
[{"$f":"Congé!E31","v":4},{"$f":"Congé!F31","v":"EON"},{"$f":"IF($A31=C$5,\"12h\",IF($A31=\"\",\"\",\"\"))","v":""},"12h","CA","","","CA","CA","","","","",null,null,"CEN","PCJ","AA 12h"]
[{"$f":"Congé!E32","v":6},{"$f":"Congé!F32","v":"DIOLOGENT"},"","","","12h","","","","","","","",null,null,"CEJ/CPN","PCN","AT 12h"]
[{"$f":"Congé!E33","v":7},{"$f":"Congé!F33","v":"GUEROULT"},"CA","CA","CA","CA","12h","","","","","","",null,null,"CP","PC 24","RPM 12h"]
[{"$f":"Congé!E34","v":1},{"$f":"Congé!F34","v":"SALMI"},"","","","","","CA","CA","","12h","","",null,null,"CPJ","USSH","CM 12h"]
[{"$f":"Congé!E35","v":3},{"$f":"Congé!F35","v":"DYLIK"},null,"","","12h","CA","CA","CA","","","","",null,null,"CPN"]
[]
[{"$f":"Congé!E37","v":9},{"$f":"Congé!F37","v":"MONTALEGRE"},"","","","","","","12h","CA","CA","","",null,null,"AA"]
[{"$f":"Congé!E38","v":9},{"$f":"Congé!F38","v":"SERANO G"},"CA","","","","","","CA","CA","","","",null,null,"AAJ"]
[{"$f":"Congé!E39","v":7},{"$f":"Congé!F39","v":"LANCIAL"},"","","12h","CA","CA","","","","","","",null,null,"AAN"]
[{"$f":"Congé!E40","v":8},{"$f":"Congé!F40","v":"MOURCIA"},"","","","","","12h","","","","","",null,null,"CM"]
[{"$f":"Congé!E41","v":2},{"$f":"Congé!F41","v":"GILSON"},"CA","CA","","","","","","CA","CA","","",null,null,"AT"]
[{"$f":"Congé!E42","v":3},{"$f":"Congé!F42","v":"PERETTI"},"12h","","","CA","CA","","","","","","",null,null,"TP"]
[{"$f":"Congé!E43","v":5},{"$f":"Congé!F43","v":"PERINO"},"","","12h","CA","CA","CA","","","","","",null,null,"SHR"]
[{"$f":"Congé!E44","v":10},{"$f":"Congé!F44","v":"LUPI"},"","","CA","","","12h","CA","CA","","","",null,null,"MUT"]
[{"$f":"Congé!E45","v":4},{"$f":"Congé!F45","v":"ROOS"},"",null,"","","","","",null,"","","",null,null,"CA ops"]
[{"$f":"Congé!E46","v":1},{"$f":"Congé!F46","v":"VALERIAN"},"CA","","CA ops","","CA","CA","","","12h","",""]
[{"$f":"Congé!E47","v":6},{"$f":"Congé!F47","v":"ROUSTAN"},"","","","12h","","","","","","",""]
[{"$f":"Congé!E48","v":1},{"$f":"Congé!F48","v":"WENGER"},"","","","","CA ops","CA","","","12h","",""]
[{"$f":"Congé!E49","v":8},{"$f":"Congé!F49","v":"LHERBIER"},{"$f":"IF($A49=C$5,\"12h\",IF($A49=\"\",\"\",\"\"))","v":""},"","","","","12h","","","","",""]
[null,"CA Jour",{"$f":"COUNTIF(C9:C49,\"CA\")+COUNTIF(C9:C49,\"CAJ*\")+COUNTIF(C9:C49,\"RPM\")","v":9},{"$f":"COUNTIF(D9:D49,\"CA\")+COUNTIF(D9:D49,\"CAJ*\")+COUNTIF(D9:D49,\"RPM\")","v":7},8,8,9,12,12,12,10,0,0]
[null,"Absence jour",{"$f":"SUM(C71:C73)+C77+SUM(C78:C84)+SUM(C88:C98)+C50","v":9},{"$f":"SUM(D71:D73)+D77+SUM(D78:D84)+SUM(D88:D98)+D50","v":7},8,8,9,12,12,12,10,0,0]
[null,"CA Nuit",{"$f":"COUNTIF(C9:C49,\"CA\")+COUNTIF(C9:C49,\"*CAN\")+COUNTIF(C9:C49,\"RPM\")","v":9},{"$f":"COUNTIF(D9:D49,\"CA\")+COUNTIF(D9:D49,\"*CAN\")+COUNTIF(D9:D49,\"RPM\")","v":7},8,8,9,12,12,12,10,0,0]
[null,"Absence Nuit",{"$f":"SUM(C63:C65)+C68+SUM(C85:C98)+C52","v":9},{"$f":"SUM(D63:D65)+D68+SUM(D85:D98)+D52","v":7},8,8,9,12,12,12,10,0,0]
[]
[null,"Nombre de 12h",{"$f":"COUNTIF(C9:C49,\"*12h\")","v":3},{"$f":"COUNTIF(D9:D49,\"*12h\")","v":3},4,4,3,5,3,2,4,0,0]
[]
[null,"Nbre de pro jour",{"$f":"Congé!$E$50-C51","v":29},{"$f":"Congé!$E$50-D51","v":31},{"$f":"Congé!$E$50-E51","v":30},{"$f":"Congé!$E$50-F51","v":30},{"$f":"Congé!$E$50-G51","v":29},{"$f":"Congé!$E$50-H51","v":26},{"$f":"Congé!$E$50-I51","v":26},{"$f":"Congé!$E$50-J51","v":26},{"$f":"Congé!$E$50-K51","v":28},{"$f":"Congé!$E$50-L51","v":38},{"$f":"Congé!$E$50-M51","v":38}]
[null,"Nbre de pro nuit",{"$f":"Congé!$E$50-C53-C55","v":26},{"$f":"Congé!$E$50-D53-D55","v":28},{"$f":"Congé!$E$50-E53-E55","v":26},{"$f":"Congé!$E$50-F53-F55","v":26},{"$f":"Congé!$E$50-G53-G55","v":26},{"$f":"Congé!$E$50-H53-H55","v":21},{"$f":"Congé!$E$50-I53-I55","v":23},{"$f":"Congé!$E$50-J53-J55","v":24},{"$f":"Congé!$E$50-K53-K55","v":24},{"$f":"Congé!$E$50-L53-L55","v":38},{"$f":"Congé!$E$50-M53-M55","v":38}]
[]
[null,"CA",{"$f":"COUNTIF(C$9:C$49,$B60)","v":9},{"$f":"COUNTIF(D$9:D$49,$B60)","v":7},8,8,9,12,12,12,10,0,0]
[null,"RPM",{"$f":"COUNTIF(C$9:C$49,$B61)","v":0},0,0,0,0,0,0,0,0,0,0]
[null,"CAJ",0,0,0,0,0,0,0,0,0,0,0]
[null,"CAJ/AAN",0,0,0,0,0,0,0,0,0,0,0]
[null,"CAJ/CEN",0,0,0,0,0,0,0,0,0,0,0]
[null,"CAJ/CPN",0,0,0,0,0,0,0,0,0,0,0]
[null,"CAJ/Feu",0,0,0,0,0,0,0,0,0,0,0]
[null,"CAJ/PCN",0,0,0,0,0,0,0,0,0,0,0]
[null,"CAJ/STN",0,0,0,0,0,0,0,0,0,0,0,null,null,"CG"]
[null,"CAJ/V",0,0,0,0,0,0,0,0,0,0,0,null,null,"CDG"]
[null,"CAN",0,0,0,0,0,0,0,0,0,0,0,null,null,"VPUa"]
[null,"AAJ/CAN",0,0,0,0,0,0,0,0,0,0,0,null,null,"VPU"]
[null,"CEJ/CAN",0,0,0,0,0,0,0,0,0,0,0,null,null,"VPUc"]
[null,"CPJ/CAN",0,0,0,0,0,0,0,0,0,0,0,null,null,"FPTa"]
[null,"Feu/CAN",0,0,0,0,0,0,0,0,0,0,0]
[null,"PCJ/CAN",0,0,0,0,0,0,0,0,0,0,0,null,null,"FPT"]
[null,"V/CAN",0,0,0,0,0,0,0,0,0,0,0,null,null,"FPTc"]
[null,"STJ/CAN",0,0,0,0,0,0,0,0,0,0,0,null,null,"EPSa"]
[null,"AAJ",0,0,0,0,0,0,0,0,0,0,0,null,null,"EPSc"]
[null,"CEJ",0,0,0,0,0,0,0,0,0,0,0,null,null,"EPS"]
[null,"CPJ",0,0,0,0,0,0,0,0,0,0,0,null,null,"VSRa"]
[null,"STJ",0,0,0,0,0,0,0,0,0,0,0,null,null,"VSRc"]
[null,"STJ/Feu",0,0,0,0,0,0,0,0,0,0,0,null,null,"VSR"]
[null,"STJ/PCN",0,0,0,0,0,0,0,0,0,0,0,null,null,"EVa"]
[null,"STJ/V",0,0,0,0,0,0,0,0,0,0,0,null,null,"Evc"]
[null,"AAN",0,0,0,0,0,0,0,0,0,0,0,null,null,"EV"]
[null,"CEN",0,0,0,0,0,0,0,0,0,0,0,null,null,"VID"]
[null,"CPN",0,0,0,0,0,0,0,0,0,0,0,null,null,"VSAV 24h"]
[null,"STN",0,0,0,0,0,0,0,0,0,0,0,null,null,"VSAV jour"]
[null,"CE",0,0,0,0,0,0,0,0,0,0,0,null,null,"VSAV nuit"]
[null,"CEJ/CPN",0,0,0,0,0,0,0,0,0,0,0,null,null,"VLM 24h"]
[null,"CM",0,0,0,0,0,0,0,0,0,0,0,null,null,"VLM jour"]
[null,"CP",0,0,0,0,0,0,0,0,0,0,0,null,null,"VLM nuit"]
[null,"TP",0,0,0,0,0,0,0,0,0,0,0,null,null,"PCJ"]
[null,"ST",0,0,0,0,0,0,0,0,0,0,0]
[null,"SHR",0,0,0,0,0,0,0,0,0,0,0,null,null,"PCN"]
[null,"MUT",0,0,0,0,0,0,0,0,0,0,0,null,null,"PC 24"]
[null,"AA",0,0,0,0,0,0,0,0,0,{"$f":"COUNTIF(L$9:L$49,$B97)","v":0},{"$f":"COUNTIF(M$9:M$49,$B97)","v":0},null,null,"CG 12h"]
[null,"AT",{"$f":"COUNTIF(C$9:C$49,$B98)","v":0},0,0,0,0,0,0,0,0,0,0,null,null,"CDG 12h"]
[null,null,null,null,null,null,null,null,null,null,null,null,null,null,null,"VPUa 12h"]
[null,null,null,null,null,null,null,null,null,null,null,null,null,null,null,"VPU 12h"]
[]
[null,null,null,null,null,null,null,null,null,null,null,null,null,null,null,"VPUc 12h"]
[null,null,null,null,null,null,null,null,null,null,null,null,null,null,null,"FPTa 12h"]
[null,null,null,null,null,null,null,null,null,null,null,null,null,null,null,"FPT 12h"]
[null,null,null,null,null,null,null,null,null,null,null,null,null,null,null,"FPTc 12h"]
[null,null,null,null,null,null,null,null,null,null,null,null,null,null,null,"EPSa 12h"]
[null,null,null,null,null,null,null,null,null,null,null,null,null,null,null,"EPSc 12h"]
[null,null,null,null,null,null,null,null,null,null,null,null,null,null,null,"EPS 12h"]
[null,null,null,null,null,null,null,null,null,null,null,null,null,null,null,"VSRa 12h"]
[null,null,null,null,null,null,null,null,null,null,null,null,null,null,null,"VSRc 12h"]
[null,null,null,null,null,null,null,null,null,null,null,null,null,null,null,"VSR 12h"]
[null,null,null,null,null,null,null,null,null,null,null,null,null,null,null,"Eva 12h"]
[null,null,null,null,null,null,null,null,null,null,null,null,null,null,null,"Evc 12h"]
[null,null,null,null,null,null,null,null,null,null,null,null,null,null,null,"EV 12h"]
[null,null,null,null,null,null,null,null,null,null,null,null,null,null,null,"VID 12h"]
[null,null,null,null,null,null,null,null,null,null,null,null,null,null,null,"VSAV 12h"]
[null,null,null,null,null,null,null,null,null,null,null,null,null,null,null,"VLM 12h"]
[null,null,null,null,null,null,null,null,null,null,null,null,null,null,null,"PC 12h"]
[null,null,null,null,null,null,null,null,null,null,null,null,null,null,null,"ST 12h"]
[null,null,null,null,null,null,null,null,null,null,null,null,null,null,null,"CE 12h"]
[null,null,null,null,null,null,null,null,null,null,null,null,null,null,null,"CP 12h"]
[null,null,null,null,null,null,null,null,null,null,null,null,null,null,null,"AA 12h"]
[null,null,null,null,null,null,null,null,null,null,null,null,null,null,null,"AT 12h"]
[null,null,null,null,null,null,null,null,null,null,null,null,null,null,null,"RPM 12h"]
[null,null,null,null,null,null,null,null,null,null,null,null,null,null,null,"CM 12h"]
[null,null,null,null,null,null,null,null,null,null,null,null,null,null,null,"USSH"]

{"sheet":"Septembre","index":9,"n_rows":126,"n_cols":19,"rows_kept":126,"cut":false,"hidden":false,"merged":[[0,16,2,16],[0,17,2,17],[4,0,4,1],[1,6,1,7]]}
[null,null,"2020-09-03",{"$f":"C1+3","v":"2020-09-06"},{"$f":"D1+3","v":"2020-09-09"},"2020-09-12","2020-09-15","2020-09-18","2020-09-21","2020-09-24","2020-09-27","2036-01-24","2038-01-26",null,null,null,"Fonctions    24h","Fonctions 12h"]
[null,null,null,null,null,null,{"$f":"RIGHT(CELL(\"nomfichier\",G2),LEN(CELL(\"nomfichier\",G2))-SEARCH(\"]\",CELL(\"nomfichier\",G2)))","v":"Septembre"},null,null,null,null,null,null,"12h",null,"CA",null,null,"CA"]
[null,null,3,6,9,12,15,18,21,24,27,null,null,"12h",null,"CAJ",null,null,"CAJ"]
[null,null,"LUN","JEU","DIM","MER","SAM","MAR","VEN","LUN.","JEU.",null,null,null,null,"CAN","CG","CG 12h","CAN"]
["Equipes",null,3,4,5,6,7,8,9,10,1,null,null,null,null,"CAJ/Feu","CDG","CDG 12h","CAJ/Feu"]
[{"$f":"Congé!E6","v":1},{"$f":"Congé!F6","v":"MATEO"},{"$f":"IF($A6=C$5,\"12h\",IF($A6=\"\",\"\",\"\"))","v":""},"","CA","","","","CA","","12h","","",null,null,"Feu/CAN","VPUa","VPUa 12h","Feu/CAN"]
[{"$f":"Congé!E7","v":9},{"$f":"Congé!F7","v":"BARREAU"},"","","","","","","12h","","","","",null,null,"CAJ/V","VPU","VPU 12h","CAJ/V"]
[]
[{"$f":"Congé!E9","v":10},{"$f":"Congé!F9","v":"CARTIER"},{"$f":"IF($A9=C$5,\"12h\",IF($A9=\"\",\"\",\"\"))","v":""},"CA","","","","","","12h","CA","","",null,null,"V/CAN","VPUc","VPUc 12h","V/CAN"]
[{"$f":"Congé!E10","v":4},{"$f":"Congé!F10","v":"CARTAUT"},"","12h","","","","","","CA","CA","","",null,null,"PCJ/CAN","FPTa","FPTa 12h","PCJ/CAN"]
[{"$f":"Congé!E11","v":5},{"$f":"Congé!F11","v":"CASTA"},"","","12h","CA","","","CA","","","","",null,null,"CAJ/PCN","FPT","FPT 12h","CAJ/PCN"]
[]
[{"$f":"Congé!E13","v":8},{"$f":"Congé!F13","v":"SELLES"},{"$f":"IF($A13=C$5,\"12h\",IF($A13=\"\",\"\",\"\"))","v":""},"","CA","","","12h","","","","","",null,null,"CAJ/STN","FPTc","FPTc 12h","CAJ/STN"]
[{"$f":"Congé!E14","v":9},{"$f":"Congé!F14","v":"MASSELIN"},"","","","","","","12h","CA","CA","","",null,null,"STJ/CAN","EPSa","EPSa 12h","STJ/CAN"]
[{"$f":"Congé!E15","v":6},{"$f":"Congé!F15","v":"HUGUES"},"","","","USSH","USSH","CA","CA","","","","",null,null,"CAJ/CEN","EPSc","EPSc 12h","CAJ/CEN"]
[{"$f":"Congé!E16","v":1},{"$f":"Congé!F16","v":"MALET"},"CA","CA","CA","","CA","CA","CA","","12h","","",null,null,"CEJ/CAN","EPS","EPS 12h","CEJ/CAN"]
[{"$f":"Congé!E17","v":2},{"$f":"Congé!F17","v":"REY F"},"","","","","","","","","","","",null,null,"CAJ/AAN","VSRa","VSRa 12h","CAJ/AAN"]
[]
[{"$f":"Congé!E19","v":9},{"$f":"Congé!F19","v":"ROSTAND"},"CA","CA","CA",{"$f":"IF($A19=F$5,\"12h\",IF($A19=\"\",\"\",\"\"))","v":""},"","","12h","","CA","","",null,null,"AAJ/CAN","VSRc","VSRc 12h","AAJ/CAN"]
[{"$f":"Congé!E20","v":6},{"$f":"Congé!F20","v":"LAURENT J"},{"$f":"IF($A20=C$5,\"12h\",IF($A20=\"\",\"\",\"\"))","v":""},"","","12h","CA ops","","","CA","CA","","",null,null,"CAJ/CPN","VSR","VSR 12h","CAJ/CPN"]
[{"$f":"Congé!E21","v":10},{"$f":"Congé!F21","v":"BALLESTER"},"","","","","","","","CA","CA","","",null,null,"CPJ/CAN","EVa","Eva 12h","CPJ/CAN"]
[{"$f":"Congé!E22","v":7},{"$f":"Congé!F22","v":"GRIMM"},"","","","","12h","","","","","","",null,null,"RPM","Evc","Evc 12h"]
[{"$f":"Congé!E23","v":3},{"$f":"Congé!F23","v":"ORIOL"},"12h","","CA","","","","","CA","CA","","",null,null,"ST","EV","EV 12h"]
[{"$f":"Congé!E24","v":10},{"$f":"Congé!F24","v":"DEPRAD"},"","","","","CA","CA","","12h","","","",null,null,"STJ/Feu","VID","VID 12h"]
[{"$f":"Congé!E25","v":4},{"$f":"Congé!F25","v":"FLORES"},"CA","12h","","CA","","CA","","CA","CA","","",null,null,"STJ/V","VSAV 24h","VSAV 12h"]
[{"$f":"Congé!E26","v":2},{"$f":"Congé!F26","v":"FIGUEIRINHA"},"CA","CA","","","CA","","CA","CA","","","",null,null,"STJ/PCN","VSAV jour","VLM 12h"]
[{"$f":"Congé!E27","v":8},{"$f":"Congé!F27","v":"HEURTEBISE"},"","","","","","12h","CA","CA","","","",null,null,"STJ","VSAV nuit","PC 12h"]
[{"$f":"Congé!E28","v":3},{"$f":"Congé!F28","v":"BLANCHARD"},"12h","","","CA","","CA","CA","","","","",null,null,"STN","VLM 24h","ST 12h"]
[{"$f":"Congé!E29","v":5},{"$f":"Congé!F29","v":"BOUISSET"},"","","12h","","CA","CA","CA","","","","",null,null,"CE","VLM jour","CE 12h"]
[{"$f":"Congé!E30","v":5},{"$f":"Congé!F30","v":"DECITRE"},"CA","CA","CA","CA","12h",{"$f":"IF($A30=H$5,\"12h\",IF($A30=\"\",\"\",\"\"))","v":""},"","","","","",null,null,"CEJ","VLM nuit","CP 12h"]
[{"$f":"Congé!E31","v":4},{"$f":"Congé!F31","v":"EON"},{"$f":"IF($A31=C$5,\"12h\",IF($A31=\"\",\"\",\"\"))","v":""},"12h","CA","","","CA","CA","","","","",null,null,"CEN","PCJ","AA 12h"]
[{"$f":"Congé!E32","v":6},{"$f":"Congé!F32","v":"DIOLOGENT"},"","","","12h","","","","","","","",null,null,"CEJ/CPN","PCN","AT 12h"]
[{"$f":"Congé!E33","v":7},{"$f":"Congé!F33","v":"GUEROULT"},"CA","CA","CA","CA","12h","","","","","","",null,null,"CP","PC 24","RPM 12h"]
[{"$f":"Congé!E34","v":1},{"$f":"Congé!F34","v":"SALMI"},"","","","","","CA","CA","","12h","","",null,null,"CPJ","USSH","CM 12h"]
[{"$f":"Congé!E35","v":3},{"$f":"Congé!F35","v":"DYLIK"},null,"","","12h","CA","CA","CA","","","","",null,null,"CPN"]
[]
[{"$f":"Congé!E37","v":9},{"$f":"Congé!F37","v":"MONTALEGRE"},"","","","","","","12h","CA","CA","","",null,null,"AA"]
[{"$f":"Congé!E38","v":9},{"$f":"Congé!F38","v":"SERANO G"},"CA","","","","","","CA","CA","","","",null,null,"AAJ"]
[{"$f":"Congé!E39","v":7},{"$f":"Congé!F39","v":"LANCIAL"},"","","12h","CA","CA","","","","","","",null,null,"AAN"]
[{"$f":"Congé!E40","v":8},{"$f":"Congé!F40","v":"MOURCIA"},"","","","","","12h","","","","","",null,null,"CM"]
[{"$f":"Congé!E41","v":2},{"$f":"Congé!F41","v":"GILSON"},"CA","CA","","","","","","CA","CA","","",null,null,"AT"]
[{"$f":"Congé!E42","v":3},{"$f":"Congé!F42","v":"PERETTI"},"12h","","","CA","CA","","","","","","",null,null,"TP"]
[{"$f":"Congé!E43","v":5},{"$f":"Congé!F43","v":"PERINO"},"","","12h","CA","CA","CA","","","","","",null,null,"SHR"]
[{"$f":"Congé!E44","v":10},{"$f":"Congé!F44","v":"LUPI"},"","","CA","","","12h","CA","CA","","","",null,null,"MUT"]
[{"$f":"Congé!E45","v":4},{"$f":"Congé!F45","v":"ROOS"},"",null,"","","","","",null,"","","",null,null,"CA ops"]
[{"$f":"Congé!E46","v":1},{"$f":"Congé!F46","v":"VALERIAN"},"CA","","CA ops","","CA","CA","","","12h","",""]
[{"$f":"Congé!E47","v":6},{"$f":"Congé!F47","v":"ROUSTAN"},"","","","12h","","","","","","",""]
[{"$f":"Congé!E48","v":1},{"$f":"Congé!F48","v":"WENGER"},"","","","","CA ops","CA","","","12h","",""]
[{"$f":"Congé!E49","v":8},{"$f":"Congé!F49","v":"LHERBIER"},{"$f":"IF($A49=C$5,\"12h\",IF($A49=\"\",\"\",\"\"))","v":""},"","","","","12h","","","","",""]
[null,"CA Jour",{"$f":"COUNTIF(C9:C49,\"CA\")+COUNTIF(C9:C49,\"CAJ*\")+COUNTIF(C9:C49,\"RPM\")","v":9},{"$f":"COUNTIF(D9:D49,\"CA\")+COUNTIF(D9:D49,\"CAJ*\")+COUNTIF(D9:D49,\"RPM\")","v":7},8,8,9,12,12,12,10,0,0]
[null,"Absence jour",{"$f":"SUM(C71:C73)+C77+SUM(C78:C84)+SUM(C88:C98)+C50","v":9},{"$f":"SUM(D71:D73)+D77+SUM(D78:D84)+SUM(D88:D98)+D50","v":7},8,8,9,12,12,12,10,0,0]
[null,"CA Nuit",{"$f":"COUNTIF(C9:C49,\"CA\")+COUNTIF(C9:C49,\"*CAN\")+COUNTIF(C9:C49,\"RPM\")","v":9},{"$f":"COUNTIF(D9:D49,\"CA\")+COUNTIF(D9:D49,\"*CAN\")+COUNTIF(D9:D49,\"RPM\")","v":7},8,8,9,12,12,12,10,0,0]
[null,"Absence Nuit",{"$f":"SUM(C63:C65)+C68+SUM(C85:C98)+C52","v":9},{"$f":"SUM(D63:D65)+D68+SUM(D85:D98)+D52","v":7},8,8,9,12,12,12,10,0,0]
[]
[null,"Nombre de 12h",{"$f":"COUNTIF(C9:C49,\"*12h\")","v":3},{"$f":"COUNTIF(D9:D49,\"*12h\")","v":3},4,4,3,5,3,2,4,0,0]
[]
[null,"Nbre de pro jour",{"$f":"Congé!$E$50-C51","v":29},{"$f":"Congé!$E$50-D51","v":31},{"$f":"Congé!$E$50-E51","v":30},{"$f":"Congé!$E$50-F51","v":30},{"$f":"Congé!$E$50-G51","v":29},{"$f":"Congé!$E$50-H51","v":26},{"$f":"Congé!$E$50-I51","v":26},{"$f":"Congé!$E$50-J51","v":26},{"$f":"Congé!$E$50-K51","v":28},{"$f":"Congé!$E$50-L51","v":38},{"$f":"Congé!$E$50-M51","v":38}]
[null,"Nbre de pro nuit",{"$f":"Congé!$E$50-C53-C55","v":26},{"$f":"Congé!$E$50-D53-D55","v":28},{"$f":"Congé!$E$50-E53-E55","v":26},{"$f":"Congé!$E$50-F53-F55","v":26},{"$f":"Congé!$E$50-G53-G55","v":26},{"$f":"Congé!$E$50-H53-H55","v":21},{"$f":"Congé!$E$50-I53-I55","v":23},{"$f":"Congé!$E$50-J53-J55","v":24},{"$f":"Congé!$E$50-K53-K55","v":24},{"$f":"Congé!$E$50-L53-L55","v":38},{"$f":"Congé!$E$50-M53-M55","v":38}]
[]
[null,"CA",{"$f":"COUNTIF(C$9:C$49,$B60)","v":9},{"$f":"COUNTIF(D$9:D$49,$B60)","v":7},8,8,9,12,12,12,10,0,0]
[null,"RPM",{"$f":"COUNTIF(C$9:C$49,$B61)","v":0},0,0,0,0,0,0,0,0,0,0]
[null,"CAJ",0,0,0,0,0,0,0,0,0,0,0]
[null,"CAJ/AAN",0,0,0,0,0,0,0,0,0,0,0]
[null,"CAJ/CEN",0,0,0,0,0,0,0,0,0,0,0]
[null,"CAJ/CPN",0,0,0,0,0,0,0,0,0,0,0]
[null,"CAJ/Feu",0,0,0,0,0,0,0,0,0,0,0]
[null,"CAJ/PCN",0,0,0,0,0,0,0,0,0,0,0]
[null,"CAJ/STN",0,0,0,0,0,0,0,0,0,0,0,null,null,"CG"]
[null,"CAJ/V",0,0,0,0,0,0,0,0,0,0,0,null,null,"CDG"]
[null,"CAN",0,0,0,0,0,0,0,0,0,0,0,null,null,"VPUa"]
[null,"AAJ/CAN",0,0,0,0,0,0,0,0,0,0,0,null,null,"VPU"]
[null,"CEJ/CAN",0,0,0,0,0,0,0,0,0,0,0,null,null,"VPUc"]
[null,"CPJ/CAN",0,0,0,0,0,0,0,0,0,0,0,null,null,"FPTa"]
[null,"Feu/CAN",0,0,0,0,0,0,0,0,0,0,0]
[null,"PCJ/CAN",0,0,0,0,0,0,0,0,0,0,0,null,null,"FPT"]
[null,"V/CAN",0,0,0,0,0,0,0,0,0,0,0,null,null,"FPTc"]
[null,"STJ/CAN",0,0,0,0,0,0,0,0,0,0,0,null,null,"EPSa"]
[null,"AAJ",0,0,0,0,0,0,0,0,0,0,0,null,null,"EPSc"]
[null,"CEJ",0,0,0,0,0,0,0,0,0,0,0,null,null,"EPS"]
[null,"CPJ",0,0,0,0,0,0,0,0,0,0,0,null,null,"VSRa"]
[null,"STJ",0,0,0,0,0,0,0,0,0,0,0,null,null,"VSRc"]
[null,"STJ/Feu",0,0,0,0,0,0,0,0,0,0,0,null,null,"VSR"]
[null,"STJ/PCN",0,0,0,0,0,0,0,0,0,0,0,null,null,"EVa"]
[null,"STJ/V",0,0,0,0,0,0,0,0,0,0,0,null,null,"Evc"]
[null,"AAN",0,0,0,0,0,0,0,0,0,0,0,null,null,"EV"]
[null,"CEN",0,0,0,0,0,0,0,0,0,0,0,null,null,"VID"]
[null,"CPN",0,0,0,0,0,0,0,0,0,0,0,null,null,"VSAV 24h"]
[null,"STN",0,0,0,0,0,0,0,0,0,0,0,null,null,"VSAV jour"]
[null,"CE",0,0,0,0,0,0,0,0,0,0,0,null,null,"VSAV nuit"]
[null,"CEJ/CPN",0,0,0,0,0,0,0,0,0,0,0,null,null,"VLM 24h"]
[null,"CM",0,0,0,0,0,0,0,0,0,0,0,null,null,"VLM jour"]
[null,"CP",0,0,0,0,0,0,0,0,0,0,0,null,null,"VLM nuit"]
[null,"TP",0,0,0,0,0,0,0,0,0,0,0,null,null,"PCJ"]
[null,"ST",0,0,0,0,0,0,0,0,0,0,0]
[null,"SHR",0,0,0,0,0,0,0,0,0,0,0,null,null,"PCN"]
[null,"MUT",0,0,0,0,0,0,0,0,0,0,0,null,null,"PC 24"]
[null,"AA",0,0,0,0,0,0,0,0,0,{"$f":"COUNTIF(L$9:L$49,$B97)","v":0},{"$f":"COUNTIF(M$9:M$49,$B97)","v":0},null,null,"CG 12h"]
[null,"AT",{"$f":"COUNTIF(C$9:C$49,$B98)","v":0},0,0,0,0,0,0,0,0,0,0,null,null,"CDG 12h"]
[null,null,null,null,null,null,null,null,null,null,null,null,null,null,null,"VPUa 12h"]
[null,null,null,null,null,null,null,null,null,null,null,null,null,null,null,"VPU 12h"]
[]
[null,null,null,null,null,null,null,null,null,null,null,null,null,null,null,"VPUc 12h"]
[null,null,null,null,null,null,null,null,null,null,null,null,null,null,null,"FPTa 12h"]
[null,null,null,null,null,null,null,null,null,null,null,null,null,null,null,"FPT 12h"]
[null,null,null,null,null,null,null,null,null,null,null,null,null,null,null,"FPTc 12h"]
[null,null,null,null,null,null,null,null,null,null,null,null,null,null,null,"EPSa 12h"]
[null,null,null,null,null,null,null,null,null,null,null,null,null,null,null,"EPSc 12h"]
[null,null,null,null,null,null,null,null,null,null,null,null,null,null,null,"EPS 12h"]
[null,null,null,null,null,null,null,null,null,null,null,null,null,null,null,"VSRa 12h"]
[null,null,null,null,null,null,null,null,null,null,null,null,null,null,null,"VSRc 12h"]
[null,null,null,null,null,null,null,null,null,null,null,null,null,null,null,"VSR 12h"]
[null,null,null,null,null,null,null,null,null,null,null,null,null,null,null,"Eva 12h"]
[null,null,null,null,null,null,null,null,null,null,null,null,null,null,null,"Evc 12h"]
[null,null,null,null,null,null,null,null,null,null,null,null,null,null,null,"EV 12h"]
[null,null,null,null,null,null,null,null,null,null,null,null,null,null,null,"VID 12h"]
[null,null,null,null,null,null,null,null,null,null,null,null,null,null,null,"VSAV 12h"]
[null,null,null,null,null,null,null,null,null,null,null,null,null,null,null,"VLM 12h"]
[null,null,null,null,null,null,null,null,null,null,null,null,null,null,null,"PC 12h"]
[null,null,null,null,null,null,null,null,null,null,null,null,null,null,null,"ST 12h"]
[null,null,null,null,null,null,null,null,null,null,null,null,null,null,null,"CE 12h"]
[null,null,null,null,null,null,null,null,null,null,null,null,null,null,null,"CP 12h"]
[null,null,null,null,null,null,null,null,null,null,null,null,null,null,null,"AA 12h"]
[null,null,null,null,null,null,null,null,null,null,null,null,null,null,null,"AT 12h"]
[null,null,null,null,null,null,null,null,null,null,null,null,null,null,null,"RPM 12h"]
[null,null,null,null,null,null,null,null,null,null,null,null,null,null,null,"CM 12h"]
[null,null,null,null,null,null,null,null,null,null,null,null,null,null,null,"USSH"]

{"sheet":"Octobre","index":10,"n_rows":126,"n_cols":19,"rows_kept":126,"cut":false,"hidden":false,"merged":[[0,16,2,16],[0,17,2,17],[4,0,4,1],[1,6,1,7]]}
[null,null,"2020-10-03",{"$f":"C1+3","v":"2020-10-06"},{"$f":"D1+3","v":"2020-10-09"},"2020-10-12","2020-10-15","2020-10-18","2020-10-21","2020-10-24","2020-10-27","2036-01-24","2038-01-26",null,null,null,"Fonctions    24h","Fonctions 12h"]
[null,null,null,null,null,null,{"$f":"RIGHT(CELL(\"nomfichier\",G2),LEN(CELL(\"nomfichier\",G2))-SEARCH(\"]\",CELL(\"nomfichier\",G2)))","v":"Octobre"},null,null,null,null,null,null,"12h",null,"CA",null,null,"CA"]
[null,null,3,6,9,12,15,18,21,24,27,null,null,"12h",null,"CAJ",null,null,"CAJ"]
[null,null,"LUN","JEU","DIM","MER","SAM","MAR","VEN","LUN.","JEU.",null,null,null,null,"CAN","CG","CG 12h","CAN"]
["Equipes",null,3,4,5,6,7,8,9,10,1,null,null,null,null,"CAJ/Feu","CDG","CDG 12h","CAJ/Feu"]
[{"$f":"Congé!E6","v":1},{"$f":"Congé!F6","v":"MATEO"},{"$f":"IF($A6=C$5,\"12h\",IF($A6=\"\",\"\",\"\"))","v":""},"","CA","","","","CA","","12h","","",null,null,"Feu/CAN","VPUa","VPUa 12h","Feu/CAN"]
[{"$f":"Congé!E7","v":9},{"$f":"Congé!F7","v":"BARREAU"},"","","","","","","12h","","","","",null,null,"CAJ/V","VPU","VPU 12h","CAJ/V"]
[]
[{"$f":"Congé!E9","v":10},{"$f":"Congé!F9","v":"CARTIER"},{"$f":"IF($A9=C$5,\"12h\",IF($A9=\"\",\"\",\"\"))","v":""},"CA","","","","","","12h","CA","","",null,null,"V/CAN","VPUc","VPUc 12h","V/CAN"]
[{"$f":"Congé!E10","v":4},{"$f":"Congé!F10","v":"CARTAUT"},"","12h","","","","","","CA","CA","","",null,null,"PCJ/CAN","FPTa","FPTa 12h","PCJ/CAN"]
[{"$f":"Congé!E11","v":5},{"$f":"Congé!F11","v":"CASTA"},"","","12h","CA","","","CA","","","","",null,null,"CAJ/PCN","FPT","FPT 12h","CAJ/PCN"]
[]
[{"$f":"Congé!E13","v":8},{"$f":"Congé!F13","v":"SELLES"},{"$f":"IF($A13=C$5,\"12h\",IF($A13=\"\",\"\",\"\"))","v":""},"","CA","","","12h","","","","","",null,null,"CAJ/STN","FPTc","FPTc 12h","CAJ/STN"]
[{"$f":"Congé!E14","v":9},{"$f":"Congé!F14","v":"MASSELIN"},"","","","","","","12h","CA","CA","","",null,null,"STJ/CAN","EPSa","EPSa 12h","STJ/CAN"]
[{"$f":"Congé!E15","v":6},{"$f":"Congé!F15","v":"HUGUES"},"","","","USSH","USSH","CA","CA","","","","",null,null,"CAJ/CEN","EPSc","EPSc 12h","CAJ/CEN"]
[{"$f":"Congé!E16","v":1},{"$f":"Congé!F16","v":"MALET"},"CA","CA","CA","","CA","CA","CA","","12h","","",null,null,"CEJ/CAN","EPS","EPS 12h","CEJ/CAN"]
[{"$f":"Congé!E17","v":2},{"$f":"Congé!F17","v":"REY F"},"","","","","","","","","","","",null,null,"CAJ/AAN","VSRa","VSRa 12h","CAJ/AAN"]
[]
[{"$f":"Congé!E19","v":9},{"$f":"Congé!F19","v":"ROSTAND"},"CA","CA","CA",{"$f":"IF($A19=F$5,\"12h\",IF($A19=\"\",\"\",\"\"))","v":""},"","","12h","","CA","","",null,null,"AAJ/CAN","VSRc","VSRc 12h","AAJ/CAN"]
[{"$f":"Congé!E20","v":6},{"$f":"Congé!F20","v":"LAURENT J"},{"$f":"IF($A20=C$5,\"12h\",IF($A20=\"\",\"\",\"\"))","v":""},"","","12h","CA ops","","","CA","CA","","",null,null,"CAJ/CPN","VSR","VSR 12h","CAJ/CPN"]
[{"$f":"Congé!E21","v":10},{"$f":"Congé!F21","v":"BALLESTER"},"","","","","","","","CA","CA","","",null,null,"CPJ/CAN","EVa","Eva 12h","CPJ/CAN"]
[{"$f":"Congé!E22","v":7},{"$f":"Congé!F22","v":"GRIMM"},"","","","","12h","","","","","","",null,null,"RPM","Evc","Evc 12h"]
[{"$f":"Congé!E23","v":3},{"$f":"Congé!F23","v":"ORIOL"},"12h","","CA","","","","","CA","CA","","",null,null,"ST","EV","EV 12h"]
[{"$f":"Congé!E24","v":10},{"$f":"Congé!F24","v":"DEPRAD"},"","","","","CA","CA","","12h","","","",null,null,"STJ/Feu","VID","VID 12h"]
[{"$f":"Congé!E25","v":4},{"$f":"Congé!F25","v":"FLORES"},"CA","12h","","CA","","CA","","CA","CA","","",null,null,"STJ/V","VSAV 24h","VSAV 12h"]
[{"$f":"Congé!E26","v":2},{"$f":"Congé!F26","v":"FIGUEIRINHA"},"CA","CA","","","CA","","CA","CA","","","",null,null,"STJ/PCN","VSAV jour","VLM 12h"]
[{"$f":"Congé!E27","v":8},{"$f":"Congé!F27","v":"HEURTEBISE"},"","","","","","12h","CA","CA","","","",null,null,"STJ","VSAV nuit","PC 12h"]
[{"$f":"Congé!E28","v":3},{"$f":"Congé!F28","v":"BLANCHARD"},"12h","","","CA","","CA","CA","","","","",null,null,"STN","VLM 24h","ST 12h"]
[{"$f":"Congé!E29","v":5},{"$f":"Congé!F29","v":"BOUISSET"},"","","12h","","CA","CA","CA","","","","",null,null,"CE","VLM jour","CE 12h"]
[{"$f":"Congé!E30","v":5},{"$f":"Congé!F30","v":"DECITRE"},"CA","CA","CA","CA","12h",{"$f":"IF($A30=H$5,\"12h\",IF($A30=\"\",\"\",\"\"))","v":""},"","","","","",null,null,"CEJ","VLM nuit","CP 12h"]
[{"$f":"Congé!E31","v":4},{"$f":"Congé!F31","v":"EON"},{"$f":"IF($A31=C$5,\"12h\",IF($A31=\"\",\"\",\"\"))","v":""},"12h","CA","","","CA","CA","","","","",null,null,"CEN","PCJ","AA 12h"]
[{"$f":"Congé!E32","v":6},{"$f":"Congé!F32","v":"DIOLOGENT"},"","","","12h","","","","","","","",null,null,"CEJ/CPN","PCN","AT 12h"]
[{"$f":"Congé!E33","v":7},{"$f":"Congé!F33","v":"GUEROULT"},"CA","CA","CA","CA","12h","","","","","","",null,null,"CP","PC 24","RPM 12h"]
[{"$f":"Congé!E34","v":1},{"$f":"Congé!F34","v":"SALMI"},"","","","","","CA","CA","","12h","","",null,null,"CPJ","USSH","CM 12h"]
[{"$f":"Congé!E35","v":3},{"$f":"Congé!F35","v":"DYLIK"},null,"","","12h","CA","CA","CA","","","","",null,null,"CPN"]
[]
[{"$f":"Congé!E37","v":9},{"$f":"Congé!F37","v":"MONTALEGRE"},"","","","","","","12h","CA","CA","","",null,null,"AA"]
[{"$f":"Congé!E38","v":9},{"$f":"Congé!F38","v":"SERANO G"},"CA","","","","","","CA","CA","","","",null,null,"AAJ"]
[{"$f":"Congé!E39","v":7},{"$f":"Congé!F39","v":"LANCIAL"},"","","12h","CA","CA","","","","","","",null,null,"AAN"]
[{"$f":"Congé!E40","v":8},{"$f":"Congé!F40","v":"MOURCIA"},"","","","","","12h","","","","","",null,null,"CM"]
[{"$f":"Congé!E41","v":2},{"$f":"Congé!F41","v":"GILSON"},"CA","CA","","","","","","CA","CA","","",null,null,"AT"]
[{"$f":"Congé!E42","v":3},{"$f":"Congé!F42","v":"PERETTI"},"12h","","","CA","CA","","","","","","",null,null,"TP"]
[{"$f":"Congé!E43","v":5},{"$f":"Congé!F43","v":"PERINO"},"","","12h","CA","CA","CA","","","","","",null,null,"SHR"]
[{"$f":"Congé!E44","v":10},{"$f":"Congé!F44","v":"LUPI"},"","","CA","","","12h","CA","CA","","","",null,null,"MUT"]
[{"$f":"Congé!E45","v":4},{"$f":"Congé!F45","v":"ROOS"},"",null,"","","","","",null,"","","",null,null,"CA ops"]
[{"$f":"Congé!E46","v":1},{"$f":"Congé!F46","v":"VALERIAN"},"CA","","CA ops","","CA","CA","","","12h","",""]
[{"$f":"Congé!E47","v":6},{"$f":"Congé!F47","v":"ROUSTAN"},"","","","12h","","","","","","",""]
[{"$f":"Congé!E48","v":1},{"$f":"Congé!F48","v":"WENGER"},"","","","","CA ops","CA","","","12h","",""]
[{"$f":"Congé!E49","v":8},{"$f":"Congé!F49","v":"LHERBIER"},{"$f":"IF($A49=C$5,\"12h\",IF($A49=\"\",\"\",\"\"))","v":""},"","","","","12h","","","","",""]
[null,"CA Jour",{"$f":"COUNTIF(C9:C49,\"CA\")+COUNTIF(C9:C49,\"CAJ*\")+COUNTIF(C9:C49,\"RPM\")","v":9},{"$f":"COUNTIF(D9:D49,\"CA\")+COUNTIF(D9:D49,\"CAJ*\")+COUNTIF(D9:D49,\"RPM\")","v":7},8,8,9,12,12,12,10,0,0]
[null,"Absence jour",{"$f":"SUM(C71:C73)+C77+SUM(C78:C84)+SUM(C88:C98)+C50","v":9},{"$f":"SUM(D71:D73)+D77+SUM(D78:D84)+SUM(D88:D98)+D50","v":7},8,8,9,12,12,12,10,0,0]
[null,"CA Nuit",{"$f":"COUNTIF(C9:C49,\"CA\")+COUNTIF(C9:C49,\"*CAN\")+COUNTIF(C9:C49,\"RPM\")","v":9},{"$f":"COUNTIF(D9:D49,\"CA\")+COUNTIF(D9:D49,\"*CAN\")+COUNTIF(D9:D49,\"RPM\")","v":7},8,8,9,12,12,12,10,0,0]
[null,"Absence Nuit",{"$f":"SUM(C63:C65)+C68+SUM(C85:C98)+C52","v":9},{"$f":"SUM(D63:D65)+D68+SUM(D85:D98)+D52","v":7},8,8,9,12,12,12,10,0,0]
[]
[null,"Nombre de 12h",{"$f":"COUNTIF(C9:C49,\"*12h\")","v":3},{"$f":"COUNTIF(D9:D49,\"*12h\")","v":3},4,4,3,5,3,2,4,0,0]
[]
[null,"Nbre de pro jour",{"$f":"Congé!$E$50-C51","v":29},{"$f":"Congé!$E$50-D51","v":31},{"$f":"Congé!$E$50-E51","v":30},{"$f":"Congé!$E$50-F51","v":30},{"$f":"Congé!$E$50-G51","v":29},{"$f":"Congé!$E$50-H51","v":26},{"$f":"Congé!$E$50-I51","v":26},{"$f":"Congé!$E$50-J51","v":26},{"$f":"Congé!$E$50-K51","v":28},{"$f":"Congé!$E$50-L51","v":38},{"$f":"Congé!$E$50-M51","v":38}]
[null,"Nbre de pro nuit",{"$f":"Congé!$E$50-C53-C55","v":26},{"$f":"Congé!$E$50-D53-D55","v":28},{"$f":"Congé!$E$50-E53-E55","v":26},{"$f":"Congé!$E$50-F53-F55","v":26},{"$f":"Congé!$E$50-G53-G55","v":26},{"$f":"Congé!$E$50-H53-H55","v":21},{"$f":"Congé!$E$50-I53-I55","v":23},{"$f":"Congé!$E$50-J53-J55","v":24},{"$f":"Congé!$E$50-K53-K55","v":24},{"$f":"Congé!$E$50-L53-L55","v":38},{"$f":"Congé!$E$50-M53-M55","v":38}]
[]
[null,"CA",{"$f":"COUNTIF(C$9:C$49,$B60)","v":9},{"$f":"COUNTIF(D$9:D$49,$B60)","v":7},8,8,9,12,12,12,10,0,0]
[null,"RPM",{"$f":"COUNTIF(C$9:C$49,$B61)","v":0},0,0,0,0,0,0,0,0,0,0]
[null,"CAJ",0,0,0,0,0,0,0,0,0,0,0]
[null,"CAJ/AAN",0,0,0,0,0,0,0,0,0,0,0]
[null,"CAJ/CEN",0,0,0,0,0,0,0,0,0,0,0]
[null,"CAJ/CPN",0,0,0,0,0,0,0,0,0,0,0]
[null,"CAJ/Feu",0,0,0,0,0,0,0,0,0,0,0]
[null,"CAJ/PCN",0,0,0,0,0,0,0,0,0,0,0]
[null,"CAJ/STN",0,0,0,0,0,0,0,0,0,0,0,null,null,"CG"]
[null,"CAJ/V",0,0,0,0,0,0,0,0,0,0,0,null,null,"CDG"]
[null,"CAN",0,0,0,0,0,0,0,0,0,0,0,null,null,"VPUa"]
[null,"AAJ/CAN",0,0,0,0,0,0,0,0,0,0,0,null,null,"VPU"]
[null,"CEJ/CAN",0,0,0,0,0,0,0,0,0,0,0,null,null,"VPUc"]
[null,"CPJ/CAN",0,0,0,0,0,0,0,0,0,0,0,null,null,"FPTa"]
[null,"Feu/CAN",0,0,0,0,0,0,0,0,0,0,0]
[null,"PCJ/CAN",0,0,0,0,0,0,0,0,0,0,0,null,null,"FPT"]
[null,"V/CAN",0,0,0,0,0,0,0,0,0,0,0,null,null,"FPTc"]
[null,"STJ/CAN",0,0,0,0,0,0,0,0,0,0,0,null,null,"EPSa"]
[null,"AAJ",0,0,0,0,0,0,0,0,0,0,0,null,null,"EPSc"]
[null,"CEJ",0,0,0,0,0,0,0,0,0,0,0,null,null,"EPS"]
[null,"CPJ",0,0,0,0,0,0,0,0,0,0,0,null,null,"VSRa"]
[null,"STJ",0,0,0,0,0,0,0,0,0,0,0,null,null,"VSRc"]
[null,"STJ/Feu",0,0,0,0,0,0,0,0,0,0,0,null,null,"VSR"]
[null,"STJ/PCN",0,0,0,0,0,0,0,0,0,0,0,null,null,"EVa"]
[null,"STJ/V",0,0,0,0,0,0,0,0,0,0,0,null,null,"Evc"]
[null,"AAN",0,0,0,0,0,0,0,0,0,0,0,null,null,"EV"]
[null,"CEN",0,0,0,0,0,0,0,0,0,0,0,null,null,"VID"]
[null,"CPN",0,0,0,0,0,0,0,0,0,0,0,null,null,"VSAV 24h"]
[null,"STN",0,0,0,0,0,0,0,0,0,0,0,null,null,"VSAV jour"]
[null,"CE",0,0,0,0,0,0,0,0,0,0,0,null,null,"VSAV nuit"]
[null,"CEJ/CPN",0,0,0,0,0,0,0,0,0,0,0,null,null,"VLM 24h"]
[null,"CM",0,0,0,0,0,0,0,0,0,0,0,null,null,"VLM jour"]
[null,"CP",0,0,0,0,0,0,0,0,0,0,0,null,null,"VLM nuit"]
[null,"TP",0,0,0,0,0,0,0,0,0,0,0,null,null,"PCJ"]
[null,"ST",0,0,0,0,0,0,0,0,0,0,0]
[null,"SHR",0,0,0,0,0,0,0,0,0,0,0,null,null,"PCN"]
[null,"MUT",0,0,0,0,0,0,0,0,0,0,0,null,null,"PC 24"]
[null,"AA",0,0,0,0,0,0,0,0,0,{"$f":"COUNTIF(L$9:L$49,$B97)","v":0},{"$f":"COUNTIF(M$9:M$49,$B97)","v":0},null,null,"CG 12h"]
[null,"AT",{"$f":"COUNTIF(C$9:C$49,$B98)","v":0},0,0,0,0,0,0,0,0,0,0,null,null,"CDG 12h"]
[null,null,null,null,null,null,null,null,null,null,null,null,null,null,null,"VPUa 12h"]
[null,null,null,null,null,null,null,null,null,null,null,null,null,null,null,"VPU 12h"]
[]
[null,null,null,null,null,null,null,null,null,null,null,null,null,null,null,"VPUc 12h"]
[null,null,null,null,null,null,null,null,null,null,null,null,null,null,null,"FPTa 12h"]
[null,null,null,null,null,null,null,null,null,null,null,null,null,null,null,"FPT 12h"]
[null,null,null,null,null,null,null,null,null,null,null,null,null,null,null,"FPTc 12h"]
[null,null,null,null,null,null,null,null,null,null,null,null,null,null,null,"EPSa 12h"]
[null,null,null,null,null,null,null,null,null,null,null,null,null,null,null,"EPSc 12h"]
[null,null,null,null,null,null,null,null,null,null,null,null,null,null,null,"EPS 12h"]
[null,null,null,null,null,null,null,null,null,null,null,null,null,null,null,"VSRa 12h"]
[null,null,null,null,null,null,null,null,null,null,null,null,null,null,null,"VSRc 12h"]
[null,null,null,null,null,null,null,null,null,null,null,null,null,null,null,"VSR 12h"]
[null,null,null,null,null,null,null,null,null,null,null,null,null,null,null,"Eva 12h"]
[null,null,null,null,null,null,null,null,null,null,null,null,null,null,null,"Evc 12h"]
[null,null,null,null,null,null,null,null,null,null,null,null,null,null,null,"EV 12h"]
[null,null,null,null,null,null,null,null,null,null,null,null,null,null,null,"VID 12h"]
[null,null,null,null,null,null,null,null,null,null,null,null,null,null,null,"VSAV 12h"]
[null,null,null,null,null,null,null,null,null,null,null,null,null,null,null,"VLM 12h"]
[null,null,null,null,null,null,null,null,null,null,null,null,null,null,null,"PC 12h"]
[null,null,null,null,null,null,null,null,null,null,null,null,null,null,null,"ST 12h"]
[null,null,null,null,null,null,null,null,null,null,null,null,null,null,null,"CE 12h"]
[null,null,null,null,null,null,null,null,null,null,null,null,null,null,null,"CP 12h"]
[null,null,null,null,null,null,null,null,null,null,null,null,null,null,null,"AA 12h"]
[null,null,null,null,null,null,null,null,null,null,null,null,null,null,null,"AT 12h"]
[null,null,null,null,null,null,null,null,null,null,null,null,null,null,null,"RPM 12h"]
[null,null,null,null,null,null,null,null,null,null,null,null,null,null,null,"CM 12h"]
[null,null,null,null,null,null,null,null,null,null,null,null,null,null,null,"USSH"]

{"sheet":"Novembre","index":11,"n_rows":126,"n_cols":19,"rows_kept":126,"cut":false,"hidden":false,"merged":[[0,16,2,16],[0,17,2,17],[4,0,4,1],[1,6,1,7]]}
[null,null,"2020-11-03",{"$f":"C1+3","v":"2020-11-06"},{"$f":"D1+3","v":"2020-11-09"},"2020-11-12","2020-11-15","2020-11-18","2020-11-21","2020-11-24","2020-11-27","2036-01-24","2038-01-26",null,null,null,"Fonctions    24h","Fonctions 12h"]
[null,null,null,null,null,null,{"$f":"RIGHT(CELL(\"nomfichier\",G2),LEN(CELL(\"nomfichier\",G2))-SEARCH(\"]\",CELL(\"nomfichier\",G2)))","v":"Novembre"},null,null,null,null,null,null,"12h",null,"CA",null,null,"CA"]
[null,null,3,6,9,12,15,18,21,24,27,null,null,"12h",null,"CAJ",null,null,"CAJ"]
[null,null,"LUN","JEU","DIM","MER","SAM","MAR","VEN","LUN.","JEU.",null,null,null,null,"CAN","CG","CG 12h","CAN"]
["Equipes",null,3,4,5,6,7,8,9,10,1,null,null,null,null,"CAJ/Feu","CDG","CDG 12h","CAJ/Feu"]
[{"$f":"Congé!E6","v":1},{"$f":"Congé!F6","v":"MATEO"},{"$f":"IF($A6=C$5,\"12h\",IF($A6=\"\",\"\",\"\"))","v":""},"","CA","","","","CA","","12h","","",null,null,"Feu/CAN","VPUa","VPUa 12h","Feu/CAN"]
[{"$f":"Congé!E7","v":9},{"$f":"Congé!F7","v":"BARREAU"},"","","","","","","12h","","","","",null,null,"CAJ/V","VPU","VPU 12h","CAJ/V"]
[]
[{"$f":"Congé!E9","v":10},{"$f":"Congé!F9","v":"CARTIER"},{"$f":"IF($A9=C$5,\"12h\",IF($A9=\"\",\"\",\"\"))","v":""},"CA","","","","","","12h","CA","","",null,null,"V/CAN","VPUc","VPUc 12h","V/CAN"]
[{"$f":"Congé!E10","v":4},{"$f":"Congé!F10","v":"CARTAUT"},"","12h","","","","","","CA","CA","","",null,null,"PCJ/CAN","FPTa","FPTa 12h","PCJ/CAN"]
[{"$f":"Congé!E11","v":5},{"$f":"Congé!F11","v":"CASTA"},"","","12h","CA","","","CA","","","","",null,null,"CAJ/PCN","FPT","FPT 12h","CAJ/PCN"]
[]
[{"$f":"Congé!E13","v":8},{"$f":"Congé!F13","v":"SELLES"},{"$f":"IF($A13=C$5,\"12h\",IF($A13=\"\",\"\",\"\"))","v":""},"","CA","","","12h","","","","","",null,null,"CAJ/STN","FPTc","FPTc 12h","CAJ/STN"]
[{"$f":"Congé!E14","v":9},{"$f":"Congé!F14","v":"MASSELIN"},"","","","","","","12h","CA","CA","","",null,null,"STJ/CAN","EPSa","EPSa 12h","STJ/CAN"]
[{"$f":"Congé!E15","v":6},{"$f":"Congé!F15","v":"HUGUES"},"","","","USSH","USSH","CA","CA","","","","",null,null,"CAJ/CEN","EPSc","EPSc 12h","CAJ/CEN"]
[{"$f":"Congé!E16","v":1},{"$f":"Congé!F16","v":"MALET"},"CA","CA","CA","","CA","CA","CA","","12h","","",null,null,"CEJ/CAN","EPS","EPS 12h","CEJ/CAN"]
[{"$f":"Congé!E17","v":2},{"$f":"Congé!F17","v":"REY F"},"","","","","","","","","","","",null,null,"CAJ/AAN","VSRa","VSRa 12h","CAJ/AAN"]
[]
[{"$f":"Congé!E19","v":9},{"$f":"Congé!F19","v":"ROSTAND"},"CA","CA","CA",{"$f":"IF($A19=F$5,\"12h\",IF($A19=\"\",\"\",\"\"))","v":""},"","","12h","","CA","","",null,null,"AAJ/CAN","VSRc","VSRc 12h","AAJ/CAN"]
[{"$f":"Congé!E20","v":6},{"$f":"Congé!F20","v":"LAURENT J"},{"$f":"IF($A20=C$5,\"12h\",IF($A20=\"\",\"\",\"\"))","v":""},"","","12h","CA ops","","","CA","CA","","",null,null,"CAJ/CPN","VSR","VSR 12h","CAJ/CPN"]
[{"$f":"Congé!E21","v":10},{"$f":"Congé!F21","v":"BALLESTER"},"","","","","","","","CA","CA","","",null,null,"CPJ/CAN","EVa","Eva 12h","CPJ/CAN"]
[{"$f":"Congé!E22","v":7},{"$f":"Congé!F22","v":"GRIMM"},"","","","","12h","","","","","","",null,null,"RPM","Evc","Evc 12h"]
[{"$f":"Congé!E23","v":3},{"$f":"Congé!F23","v":"ORIOL"},"12h","","CA","","","","","CA","CA","","",null,null,"ST","EV","EV 12h"]
[{"$f":"Congé!E24","v":10},{"$f":"Congé!F24","v":"DEPRAD"},"","","","","CA","CA","","12h","","","",null,null,"STJ/Feu","VID","VID 12h"]
[{"$f":"Congé!E25","v":4},{"$f":"Congé!F25","v":"FLORES"},"CA","12h","","CA","","CA","","CA","CA","","",null,null,"STJ/V","VSAV 24h","VSAV 12h"]
[{"$f":"Congé!E26","v":2},{"$f":"Congé!F26","v":"FIGUEIRINHA"},"CA","CA","","","CA","","CA","CA","","","",null,null,"STJ/PCN","VSAV jour","VLM 12h"]
[{"$f":"Congé!E27","v":8},{"$f":"Congé!F27","v":"HEURTEBISE"},"","","","","","12h","CA","CA","","","",null,null,"STJ","VSAV nuit","PC 12h"]
[{"$f":"Congé!E28","v":3},{"$f":"Congé!F28","v":"BLANCHARD"},"12h","","","CA","","CA","CA","","","","",null,null,"STN","VLM 24h","ST 12h"]
[{"$f":"Congé!E29","v":5},{"$f":"Congé!F29","v":"BOUISSET"},"","","12h","","CA","CA","CA","","","","",null,null,"CE","VLM jour","CE 12h"]
[{"$f":"Congé!E30","v":5},{"$f":"Congé!F30","v":"DECITRE"},"CA","CA","CA","CA","12h",{"$f":"IF($A30=H$5,\"12h\",IF($A30=\"\",\"\",\"\"))","v":""},"","","","","",null,null,"CEJ","VLM nuit","CP 12h"]
[{"$f":"Congé!E31","v":4},{"$f":"Congé!F31","v":"EON"},{"$f":"IF($A31=C$5,\"12h\",IF($A31=\"\",\"\",\"\"))","v":""},"12h","CA","","","CA","CA","","","","",null,null,"CEN","PCJ","AA 12h"]
[{"$f":"Congé!E32","v":6},{"$f":"Congé!F32","v":"DIOLOGENT"},"","","","12h","","","","","","","",null,null,"CEJ/CPN","PCN","AT 12h"]
[{"$f":"Congé!E33","v":7},{"$f":"Congé!F33","v":"GUEROULT"},"CA","CA","CA","CA","12h","","","","","","",null,null,"CP","PC 24","RPM 12h"]
[{"$f":"Congé!E34","v":1},{"$f":"Congé!F34","v":"SALMI"},"","","","","","CA","CA","","12h","","",null,null,"CPJ","USSH","CM 12h"]
[{"$f":"Congé!E35","v":3},{"$f":"Congé!F35","v":"DYLIK"},null,"","","12h","CA","CA","CA","","","","",null,null,"CPN"]
[]
[{"$f":"Congé!E37","v":9},{"$f":"Congé!F37","v":"MONTALEGRE"},"","","","","","","12h","CA","CA","","",null,null,"AA"]
[{"$f":"Congé!E38","v":9},{"$f":"Congé!F38","v":"SERANO G"},"CA","","","","","","CA","CA","","","",null,null,"AAJ"]
[{"$f":"Congé!E39","v":7},{"$f":"Congé!F39","v":"LANCIAL"},"","","12h","CA","CA","","","","","","",null,null,"AAN"]
[{"$f":"Congé!E40","v":8},{"$f":"Congé!F40","v":"MOURCIA"},"","","","","","12h","","","","","",null,null,"CM"]
[{"$f":"Congé!E41","v":2},{"$f":"Congé!F41","v":"GILSON"},"CA","CA","","","","","","CA","CA","","",null,null,"AT"]
[{"$f":"Congé!E42","v":3},{"$f":"Congé!F42","v":"PERETTI"},"12h","","","CA","CA","","","","","","",null,null,"TP"]
[{"$f":"Congé!E43","v":5},{"$f":"Congé!F43","v":"PERINO"},"","","12h","CA","CA","CA","","","","","",null,null,"SHR"]
[{"$f":"Congé!E44","v":10},{"$f":"Congé!F44","v":"LUPI"},"","","CA","","","12h","CA","CA","","","",null,null,"MUT"]
[{"$f":"Congé!E45","v":4},{"$f":"Congé!F45","v":"ROOS"},"",null,"","","","","",null,"","","",null,null,"CA ops"]
[{"$f":"Congé!E46","v":1},{"$f":"Congé!F46","v":"VALERIAN"},"CA","","CA ops","","CA","CA","","","12h","",""]
[{"$f":"Congé!E47","v":6},{"$f":"Congé!F47","v":"ROUSTAN"},"","","","12h","","","","","","",""]
[{"$f":"Congé!E48","v":1},{"$f":"Congé!F48","v":"WENGER"},"","","","","CA ops","CA","","","12h","",""]
[{"$f":"Congé!E49","v":8},{"$f":"Congé!F49","v":"LHERBIER"},{"$f":"IF($A49=C$5,\"12h\",IF($A49=\"\",\"\",\"\"))","v":""},"","","","","12h","","","","",""]
[null,"CA Jour",{"$f":"COUNTIF(C9:C49,\"CA\")+COUNTIF(C9:C49,\"CAJ*\")+COUNTIF(C9:C49,\"RPM\")","v":9},{"$f":"COUNTIF(D9:D49,\"CA\")+COUNTIF(D9:D49,\"CAJ*\")+COUNTIF(D9:D49,\"RPM\")","v":7},8,8,9,12,12,12,10,0,0]
[null,"Absence jour",{"$f":"SUM(C71:C73)+C77+SUM(C78:C84)+SUM(C88:C98)+C50","v":9},{"$f":"SUM(D71:D73)+D77+SUM(D78:D84)+SUM(D88:D98)+D50","v":7},8,8,9,12,12,12,10,0,0]
[null,"CA Nuit",{"$f":"COUNTIF(C9:C49,\"CA\")+COUNTIF(C9:C49,\"*CAN\")+COUNTIF(C9:C49,\"RPM\")","v":9},{"$f":"COUNTIF(D9:D49,\"CA\")+COUNTIF(D9:D49,\"*CAN\")+COUNTIF(D9:D49,\"RPM\")","v":7},8,8,9,12,12,12,10,0,0]
[null,"Absence Nuit",{"$f":"SUM(C63:C65)+C68+SUM(C85:C98)+C52","v":9},{"$f":"SUM(D63:D65)+D68+SUM(D85:D98)+D52","v":7},8,8,9,12,12,12,10,0,0]
[]
[null,"Nombre de 12h",{"$f":"COUNTIF(C9:C49,\"*12h\")","v":3},{"$f":"COUNTIF(D9:D49,\"*12h\")","v":3},4,4,3,5,3,2,4,0,0]
[]
[null,"Nbre de pro jour",{"$f":"Congé!$E$50-C51","v":29},{"$f":"Congé!$E$50-D51","v":31},{"$f":"Congé!$E$50-E51","v":30},{"$f":"Congé!$E$50-F51","v":30},{"$f":"Congé!$E$50-G51","v":29},{"$f":"Congé!$E$50-H51","v":26},{"$f":"Congé!$E$50-I51","v":26},{"$f":"Congé!$E$50-J51","v":26},{"$f":"Congé!$E$50-K51","v":28},{"$f":"Congé!$E$50-L51","v":38},{"$f":"Congé!$E$50-M51","v":38}]
[null,"Nbre de pro nuit",{"$f":"Congé!$E$50-C53-C55","v":26},{"$f":"Congé!$E$50-D53-D55","v":28},{"$f":"Congé!$E$50-E53-E55","v":26},{"$f":"Congé!$E$50-F53-F55","v":26},{"$f":"Congé!$E$50-G53-G55","v":26},{"$f":"Congé!$E$50-H53-H55","v":21},{"$f":"Congé!$E$50-I53-I55","v":23},{"$f":"Congé!$E$50-J53-J55","v":24},{"$f":"Congé!$E$50-K53-K55","v":24},{"$f":"Congé!$E$50-L53-L55","v":38},{"$f":"Congé!$E$50-M53-M55","v":38}]
[]
[null,"CA",{"$f":"COUNTIF(C$9:C$49,$B60)","v":9},{"$f":"COUNTIF(D$9:D$49,$B60)","v":7},8,8,9,12,12,12,10,0,0]
[null,"RPM",{"$f":"COUNTIF(C$9:C$49,$B61)","v":0},0,0,0,0,0,0,0,0,0,0]
[null,"CAJ",0,0,0,0,0,0,0,0,0,0,0]
[null,"CAJ/AAN",0,0,0,0,0,0,0,0,0,0,0]
[null,"CAJ/CEN",0,0,0,0,0,0,0,0,0,0,0]
[null,"CAJ/CPN",0,0,0,0,0,0,0,0,0,0,0]
[null,"CAJ/Feu",0,0,0,0,0,0,0,0,0,0,0]
[null,"CAJ/PCN",0,0,0,0,0,0,0,0,0,0,0]
[null,"CAJ/STN",0,0,0,0,0,0,0,0,0,0,0,null,null,"CG"]
[null,"CAJ/V",0,0,0,0,0,0,0,0,0,0,0,null,null,"CDG"]
[null,"CAN",0,0,0,0,0,0,0,0,0,0,0,null,null,"VPUa"]
[null,"AAJ/CAN",0,0,0,0,0,0,0,0,0,0,0,null,null,"VPU"]
[null,"CEJ/CAN",0,0,0,0,0,0,0,0,0,0,0,null,null,"VPUc"]
[null,"CPJ/CAN",0,0,0,0,0,0,0,0,0,0,0,null,null,"FPTa"]
[null,"Feu/CAN",0,0,0,0,0,0,0,0,0,0,0]
[null,"PCJ/CAN",0,0,0,0,0,0,0,0,0,0,0,null,null,"FPT"]
[null,"V/CAN",0,0,0,0,0,0,0,0,0,0,0,null,null,"FPTc"]
[null,"STJ/CAN",0,0,0,0,0,0,0,0,0,0,0,null,null,"EPSa"]
[null,"AAJ",0,0,0,0,0,0,0,0,0,0,0,null,null,"EPSc"]
[null,"CEJ",0,0,0,0,0,0,0,0,0,0,0,null,null,"EPS"]
[null,"CPJ",0,0,0,0,0,0,0,0,0,0,0,null,null,"VSRa"]
[null,"STJ",0,0,0,0,0,0,0,0,0,0,0,null,null,"VSRc"]
[null,"STJ/Feu",0,0,0,0,0,0,0,0,0,0,0,null,null,"VSR"]
[null,"STJ/PCN",0,0,0,0,0,0,0,0,0,0,0,null,null,"EVa"]
[null,"STJ/V",0,0,0,0,0,0,0,0,0,0,0,null,null,"Evc"]
[null,"AAN",0,0,0,0,0,0,0,0,0,0,0,null,null,"EV"]
[null,"CEN",0,0,0,0,0,0,0,0,0,0,0,null,null,"VID"]
[null,"CPN",0,0,0,0,0,0,0,0,0,0,0,null,null,"VSAV 24h"]
[null,"STN",0,0,0,0,0,0,0,0,0,0,0,null,null,"VSAV jour"]
[null,"CE",0,0,0,0,0,0,0,0,0,0,0,null,null,"VSAV nuit"]
[null,"CEJ/CPN",0,0,0,0,0,0,0,0,0,0,0,null,null,"VLM 24h"]
[null,"CM",0,0,0,0,0,0,0,0,0,0,0,null,null,"VLM jour"]
[null,"CP",0,0,0,0,0,0,0,0,0,0,0,null,null,"VLM nuit"]
[null,"TP",0,0,0,0,0,0,0,0,0,0,0,null,null,"PCJ"]
[null,"ST",0,0,0,0,0,0,0,0,0,0,0]
[null,"SHR",0,0,0,0,0,0,0,0,0,0,0,null,null,"PCN"]
[null,"MUT",0,0,0,0,0,0,0,0,0,0,0,null,null,"PC 24"]
[null,"AA",0,0,0,0,0,0,0,0,0,{"$f":"COUNTIF(L$9:L$49,$B97)","v":0},{"$f":"COUNTIF(M$9:M$49,$B97)","v":0},null,null,"CG 12h"]
[null,"AT",{"$f":"COUNTIF(C$9:C$49,$B98)","v":0},0,0,0,0,0,0,0,0,0,0,null,null,"CDG 12h"]
[null,null,null,null,null,null,null,null,null,null,null,null,null,null,null,"VPUa 12h"]
[null,null,null,null,null,null,null,null,null,null,null,null,null,null,null,"VPU 12h"]
[]
[null,null,null,null,null,null,null,null,null,null,null,null,null,null,null,"VPUc 12h"]
[null,null,null,null,null,null,null,null,null,null,null,null,null,null,null,"FPTa 12h"]
[null,null,null,null,null,null,null,null,null,null,null,null,null,null,null,"FPT 12h"]
[null,null,null,null,null,null,null,null,null,null,null,null,null,null,null,"FPTc 12h"]
[null,null,null,null,null,null,null,null,null,null,null,null,null,null,null,"EPSa 12h"]
[null,null,null,null,null,null,null,null,null,null,null,null,null,null,null,"EPSc 12h"]
[null,null,null,null,null,null,null,null,null,null,null,null,null,null,null,"EPS 12h"]
[null,null,null,null,null,null,null,null,null,null,null,null,null,null,null,"VSRa 12h"]
[null,null,null,null,null,null,null,null,null,null,null,null,null,null,null,"VSRc 12h"]
[null,null,null,null,null,null,null,null,null,null,null,null,null,null,null,"VSR 12h"]
[null,null,null,null,null,null,null,null,null,null,null,null,null,null,null,"Eva 12h"]
[null,null,null,null,null,null,null,null,null,null,null,null,null,null,null,"Evc 12h"]
[null,null,null,null,null,null,null,null,null,null,null,null,null,null,null,"EV 12h"]
[null,null,null,null,null,null,null,null,null,null,null,null,null,null,null,"VID 12h"]
[null,null,null,null,null,null,null,null,null,null,null,null,null,null,null,"VSAV 12h"]
[null,null,null,null,null,null,null,null,null,null,null,null,null,null,null,"VLM 12h"]
[null,null,null,null,null,null,null,null,null,null,null,null,null,null,null,"PC 12h"]
[null,null,null,null,null,null,null,null,null,null,null,null,null,null,null,"ST 12h"]
[null,null,null,null,null,null,null,null,null,null,null,null,null,null,null,"CE 12h"]
[null,null,null,null,null,null,null,null,null,null,null,null,null,null,null,"CP 12h"]
[null,null,null,null,null,null,null,null,null,null,null,null,null,null,null,"AA 12h"]
[null,null,null,null,null,null,null,null,null,null,null,null,null,null,null,"AT 12h"]
[null,null,null,null,null,null,null,null,null,null,null,null,null,null,null,"RPM 12h"]
[null,null,null,null,null,null,null,null,null,null,null,null,null,null,null,"CM 12h"]
[null,null,null,null,null,null,null,null,null,null,null,null,null,null,null,"USSH"]

{"sheet":"Décembre","index":12,"n_rows":126,"n_cols":19,"rows_kept":126,"cut":false,"hidden":false,"merged":[[0,16,2,16],[0,17,2,17],[4,0,4,1],[1,6,1,7]]}
[null,null,"2020-12-03",{"$f":"C1+3","v":"2020-12-06"},{"$f":"D1+3","v":"2020-12-09"},"2020-12-12","2020-12-15","2020-12-18","2020-12-21","2020-12-24","2020-12-27","2036-01-24","2038-01-26",null,null,null,"Fonctions    24h","Fonctions 12h"]
[null,null,null,null,null,null,{"$f":"RIGHT(CELL(\"nomfichier\",G2),LEN(CELL(\"nomfichier\",G2))-SEARCH(\"]\",CELL(\"nomfichier\",G2)))","v":"Décembre"},null,null,null,null,null,null,"12h",null,"CA",null,null,"CA"]
[null,null,3,6,9,12,15,18,21,24,27,null,null,"12h",null,"CAJ",null,null,"CAJ"]
[null,null,"LUN","JEU","DIM","MER","SAM","MAR","VEN","LUN.","JEU.",null,null,null,null,"CAN","CG","CG 12h","CAN"]
["Equipes",null,3,4,5,6,7,8,9,10,1,null,null,null,null,"CAJ/Feu","CDG","CDG 12h","CAJ/Feu"]
[{"$f":"Congé!E6","v":1},{"$f":"Congé!F6","v":"MATEO"},{"$f":"IF($A6=C$5,\"12h\",IF($A6=\"\",\"\",\"\"))","v":""},"","CA","","","","CA","","12h","","",null,null,"Feu/CAN","VPUa","VPUa 12h","Feu/CAN"]
[{"$f":"Congé!E7","v":9},{"$f":"Congé!F7","v":"BARREAU"},"","","","","","","12h","","","","",null,null,"CAJ/V","VPU","VPU 12h","CAJ/V"]
[]
[{"$f":"Congé!E9","v":10},{"$f":"Congé!F9","v":"CARTIER"},{"$f":"IF($A9=C$5,\"12h\",IF($A9=\"\",\"\",\"\"))","v":""},"CA","","","","","","12h","CA","","",null,null,"V/CAN","VPUc","VPUc 12h","V/CAN"]
[{"$f":"Congé!E10","v":4},{"$f":"Congé!F10","v":"CARTAUT"},"","12h","","","","","","CA","CA","","",null,null,"PCJ/CAN","FPTa","FPTa 12h","PCJ/CAN"]
[{"$f":"Congé!E11","v":5},{"$f":"Congé!F11","v":"CASTA"},"","","12h","CA","","","CA","","","","",null,null,"CAJ/PCN","FPT","FPT 12h","CAJ/PCN"]
[]
[{"$f":"Congé!E13","v":8},{"$f":"Congé!F13","v":"SELLES"},{"$f":"IF($A13=C$5,\"12h\",IF($A13=\"\",\"\",\"\"))","v":""},"","CA","","","12h","","","","","",null,null,"CAJ/STN","FPTc","FPTc 12h","CAJ/STN"]
[{"$f":"Congé!E14","v":9},{"$f":"Congé!F14","v":"MASSELIN"},"","","","","","","12h","CA","CA","","",null,null,"STJ/CAN","EPSa","EPSa 12h","STJ/CAN"]
[{"$f":"Congé!E15","v":6},{"$f":"Congé!F15","v":"HUGUES"},"","","","USSH","USSH","CA","CA","","","","",null,null,"CAJ/CEN","EPSc","EPSc 12h","CAJ/CEN"]
[{"$f":"Congé!E16","v":1},{"$f":"Congé!F16","v":"MALET"},"CA","CA","CA","","CA","CA","CA","","12h","","",null,null,"CEJ/CAN","EPS","EPS 12h","CEJ/CAN"]
[{"$f":"Congé!E17","v":2},{"$f":"Congé!F17","v":"REY F"},"","","","","","","","","","","",null,null,"CAJ/AAN","VSRa","VSRa 12h","CAJ/AAN"]
[]
[{"$f":"Congé!E19","v":9},{"$f":"Congé!F19","v":"ROSTAND"},"CA","CA","CA",{"$f":"IF($A19=F$5,\"12h\",IF($A19=\"\",\"\",\"\"))","v":""},"","","12h","","CA","","",null,null,"AAJ/CAN","VSRc","VSRc 12h","AAJ/CAN"]
[{"$f":"Congé!E20","v":6},{"$f":"Congé!F20","v":"LAURENT J"},{"$f":"IF($A20=C$5,\"12h\",IF($A20=\"\",\"\",\"\"))","v":""},"","","12h","CA ops","","","CA","CA","","",null,null,"CAJ/CPN","VSR","VSR 12h","CAJ/CPN"]
[{"$f":"Congé!E21","v":10},{"$f":"Congé!F21","v":"BALLESTER"},"","","","","","","","CA","CA","","",null,null,"CPJ/CAN","EVa","Eva 12h","CPJ/CAN"]
[{"$f":"Congé!E22","v":7},{"$f":"Congé!F22","v":"GRIMM"},"","","","","12h","","","","","","",null,null,"RPM","Evc","Evc 12h"]
[{"$f":"Congé!E23","v":3},{"$f":"Congé!F23","v":"ORIOL"},"12h","","CA","","","","","CA","CA","","",null,null,"ST","EV","EV 12h"]
[{"$f":"Congé!E24","v":10},{"$f":"Congé!F24","v":"DEPRAD"},"","","","","CA","CA","","12h","","","",null,null,"STJ/Feu","VID","VID 12h"]
[{"$f":"Congé!E25","v":4},{"$f":"Congé!F25","v":"FLORES"},"CA","12h","","CA","","CA","","CA","CA","","",null,null,"STJ/V","VSAV 24h","VSAV 12h"]
[{"$f":"Congé!E26","v":2},{"$f":"Congé!F26","v":"FIGUEIRINHA"},"CA","CA","","","CA","","CA","CA","","","",null,null,"STJ/PCN","VSAV jour","VLM 12h"]
[{"$f":"Congé!E27","v":8},{"$f":"Congé!F27","v":"HEURTEBISE"},"","","","","","12h","CA","CA","","","",null,null,"STJ","VSAV nuit","PC 12h"]
[{"$f":"Congé!E28","v":3},{"$f":"Congé!F28","v":"BLANCHARD"},"12h","","","CA","","CA","CA","","","","",null,null,"STN","VLM 24h","ST 12h"]
[{"$f":"Congé!E29","v":5},{"$f":"Congé!F29","v":"BOUISSET"},"","","12h","","CA","CA","CA","","","","",null,null,"CE","VLM jour","CE 12h"]
[{"$f":"Congé!E30","v":5},{"$f":"Congé!F30","v":"DECITRE"},"CA","CA","CA","CA","12h",{"$f":"IF($A30=H$5,\"12h\",IF($A30=\"\",\"\",\"\"))","v":""},"","","","","",null,null,"CEJ","VLM nuit","CP 12h"]
[{"$f":"Congé!E31","v":4},{"$f":"Congé!F31","v":"EON"},{"$f":"IF($A31=C$5,\"12h\",IF($A31=\"\",\"\",\"\"))","v":""},"12h","CA","","","CA","CA","","","","",null,null,"CEN","PCJ","AA 12h"]
[{"$f":"Congé!E32","v":6},{"$f":"Congé!F32","v":"DIOLOGENT"},"","","","12h","","","","","","","",null,null,"CEJ/CPN","PCN","AT 12h"]
[{"$f":"Congé!E33","v":7},{"$f":"Congé!F33","v":"GUEROULT"},"CA","CA","CA","CA","12h","","","","","","",null,null,"CP","PC 24","RPM 12h"]
[{"$f":"Congé!E34","v":1},{"$f":"Congé!F34","v":"SALMI"},"","","","","","CA","CA","","12h","","",null,null,"CPJ","USSH","CM 12h"]
[{"$f":"Congé!E35","v":3},{"$f":"Congé!F35","v":"DYLIK"},null,"","","12h","CA","CA","CA","","","","",null,null,"CPN"]
[]
[{"$f":"Congé!E37","v":9},{"$f":"Congé!F37","v":"MONTALEGRE"},"","","","","","","12h","CA","CA","","",null,null,"AA"]
[{"$f":"Congé!E38","v":9},{"$f":"Congé!F38","v":"SERANO G"},"CA","","","","","","CA","CA","","","",null,null,"AAJ"]
[{"$f":"Congé!E39","v":7},{"$f":"Congé!F39","v":"LANCIAL"},"","","12h","CA","CA","","","","","","",null,null,"AAN"]
[{"$f":"Congé!E40","v":8},{"$f":"Congé!F40","v":"MOURCIA"},"","","","","","12h","","","","","",null,null,"CM"]
[{"$f":"Congé!E41","v":2},{"$f":"Congé!F41","v":"GILSON"},"CA","CA","","","","","","CA","CA","","",null,null,"AT"]
[{"$f":"Congé!E42","v":3},{"$f":"Congé!F42","v":"PERETTI"},"12h","","","CA","CA","","","","","","",null,null,"TP"]
[{"$f":"Congé!E43","v":5},{"$f":"Congé!F43","v":"PERINO"},"","","12h","CA","CA","CA","","","","","",null,null,"SHR"]
[{"$f":"Congé!E44","v":10},{"$f":"Congé!F44","v":"LUPI"},"","","CA","","","12h","CA","CA","","","",null,null,"MUT"]
[{"$f":"Congé!E45","v":4},{"$f":"Congé!F45","v":"ROOS"},"",null,"","","","","",null,"","","",null,null,"CA ops"]
[{"$f":"Congé!E46","v":1},{"$f":"Congé!F46","v":"VALERIAN"},"CA","","CA ops","","CA","CA","","","12h","",""]
[{"$f":"Congé!E47","v":6},{"$f":"Congé!F47","v":"ROUSTAN"},"","","","12h","","","","","","",""]
[{"$f":"Congé!E48","v":1},{"$f":"Congé!F48","v":"WENGER"},"","","","","CA ops","CA","","","12h","",""]
[{"$f":"Congé!E49","v":8},{"$f":"Congé!F49","v":"LHERBIER"},{"$f":"IF($A49=C$5,\"12h\",IF($A49=\"\",\"\",\"\"))","v":""},"","","","","12h","","","","",""]
[null,"CA Jour",{"$f":"COUNTIF(C9:C49,\"CA\")+COUNTIF(C9:C49,\"CAJ*\")+COUNTIF(C9:C49,\"RPM\")","v":9},{"$f":"COUNTIF(D9:D49,\"CA\")+COUNTIF(D9:D49,\"CAJ*\")+COUNTIF(D9:D49,\"RPM\")","v":7},8,8,9,12,12,12,10,0,0]
[null,"Absence jour",{"$f":"SUM(C71:C73)+C77+SUM(C78:C84)+SUM(C88:C98)+C50","v":9},{"$f":"SUM(D71:D73)+D77+SUM(D78:D84)+SUM(D88:D98)+D50","v":7},8,8,9,12,12,12,10,0,0]
[null,"CA Nuit",{"$f":"COUNTIF(C9:C49,\"CA\")+COUNTIF(C9:C49,\"*CAN\")+COUNTIF(C9:C49,\"RPM\")","v":9},{"$f":"COUNTIF(D9:D49,\"CA\")+COUNTIF(D9:D49,\"*CAN\")+COUNTIF(D9:D49,\"RPM\")","v":7},8,8,9,12,12,12,10,0,0]
[null,"Absence Nuit",{"$f":"SUM(C63:C65)+C68+SUM(C85:C98)+C52","v":9},{"$f":"SUM(D63:D65)+D68+SUM(D85:D98)+D52","v":7},8,8,9,12,12,12,10,0,0]
[]
[null,"Nombre de 12h",{"$f":"COUNTIF(C9:C49,\"*12h\")","v":3},{"$f":"COUNTIF(D9:D49,\"*12h\")","v":3},4,4,3,5,3,2,4,0,0]
[]
[null,"Nbre de pro jour",{"$f":"Congé!$E$50-C51","v":29},{"$f":"Congé!$E$50-D51","v":31},{"$f":"Congé!$E$50-E51","v":30},{"$f":"Congé!$E$50-F51","v":30},{"$f":"Congé!$E$50-G51","v":29},{"$f":"Congé!$E$50-H51","v":26},{"$f":"Congé!$E$50-I51","v":26},{"$f":"Congé!$E$50-J51","v":26},{"$f":"Congé!$E$50-K51","v":28},{"$f":"Congé!$E$50-L51","v":38},{"$f":"Congé!$E$50-M51","v":38}]
[null,"Nbre de pro nuit",{"$f":"Congé!$E$50-C53-C55","v":26},{"$f":"Congé!$E$50-D53-D55","v":28},{"$f":"Congé!$E$50-E53-E55","v":26},{"$f":"Congé!$E$50-F53-F55","v":26},{"$f":"Congé!$E$50-G53-G55","v":26},{"$f":"Congé!$E$50-H53-H55","v":21},{"$f":"Congé!$E$50-I53-I55","v":23},{"$f":"Congé!$E$50-J53-J55","v":24},{"$f":"Congé!$E$50-K53-K55","v":24},{"$f":"Congé!$E$50-L53-L55","v":38},{"$f":"Congé!$E$50-M53-M55","v":38}]
[]
[null,"CA",{"$f":"COUNTIF(C$9:C$49,$B60)","v":9},{"$f":"COUNTIF(D$9:D$49,$B60)","v":7},8,8,9,12,12,12,10,0,0]
[null,"RPM",{"$f":"COUNTIF(C$9:C$49,$B61)","v":0},0,0,0,0,0,0,0,0,0,0]
[null,"CAJ",0,0,0,0,0,0,0,0,0,0,0]
[null,"CAJ/AAN",0,0,0,0,0,0,0,0,0,0,0]
[null,"CAJ/CEN",0,0,0,0,0,0,0,0,0,0,0]
[null,"CAJ/CPN",0,0,0,0,0,0,0,0,0,0,0]
[null,"CAJ/Feu",0,0,0,0,0,0,0,0,0,0,0]
[null,"CAJ/PCN",0,0,0,0,0,0,0,0,0,0,0]
[null,"CAJ/STN",0,0,0,0,0,0,0,0,0,0,0,null,null,"CG"]
[null,"CAJ/V",0,0,0,0,0,0,0,0,0,0,0,null,null,"CDG"]
[null,"CAN",0,0,0,0,0,0,0,0,0,0,0,null,null,"VPUa"]
[null,"AAJ/CAN",0,0,0,0,0,0,0,0,0,0,0,null,null,"VPU"]
[null,"CEJ/CAN",0,0,0,0,0,0,0,0,0,0,0,null,null,"VPUc"]
[null,"CPJ/CAN",0,0,0,0,0,0,0,0,0,0,0,null,null,"FPTa"]
[null,"Feu/CAN",0,0,0,0,0,0,0,0,0,0,0]
[null,"PCJ/CAN",0,0,0,0,0,0,0,0,0,0,0,null,null,"FPT"]
[null,"V/CAN",0,0,0,0,0,0,0,0,0,0,0,null,null,"FPTc"]
[null,"STJ/CAN",0,0,0,0,0,0,0,0,0,0,0,null,null,"EPSa"]
[null,"AAJ",0,0,0,0,0,0,0,0,0,0,0,null,null,"EPSc"]
[null,"CEJ",0,0,0,0,0,0,0,0,0,0,0,null,null,"EPS"]
[null,"CPJ",0,0,0,0,0,0,0,0,0,0,0,null,null,"VSRa"]
[null,"STJ",0,0,0,0,0,0,0,0,0,0,0,null,null,"VSRc"]
[null,"STJ/Feu",0,0,0,0,0,0,0,0,0,0,0,null,null,"VSR"]
[null,"STJ/PCN",0,0,0,0,0,0,0,0,0,0,0,null,null,"EVa"]
[null,"STJ/V",0,0,0,0,0,0,0,0,0,0,0,null,null,"Evc"]
[null,"AAN",0,0,0,0,0,0,0,0,0,0,0,null,null,"EV"]
[null,"CEN",0,0,0,0,0,0,0,0,0,0,0,null,null,"VID"]
[null,"CPN",0,0,0,0,0,0,0,0,0,0,0,null,null,"VSAV 24h"]
[null,"STN",0,0,0,0,0,0,0,0,0,0,0,null,null,"VSAV jour"]
[null,"CE",0,0,0,0,0,0,0,0,0,0,0,null,null,"VSAV nuit"]
[null,"CEJ/CPN",0,0,0,0,0,0,0,0,0,0,0,null,null,"VLM 24h"]
[null,"CM",0,0,0,0,0,0,0,0,0,0,0,null,null,"VLM jour"]
[null,"CP",0,0,0,0,0,0,0,0,0,0,0,null,null,"VLM nuit"]
[null,"TP",0,0,0,0,0,0,0,0,0,0,0,null,null,"PCJ"]
[null,"ST",0,0,0,0,0,0,0,0,0,0,0]
[null,"SHR",0,0,0,0,0,0,0,0,0,0,0,null,null,"PCN"]
[null,"MUT",0,0,0,0,0,0,0,0,0,0,0,null,null,"PC 24"]
[null,"AA",0,0,0,0,0,0,0,0,0,{"$f":"COUNTIF(L$9:L$49,$B97)","v":0},{"$f":"COUNTIF(M$9:M$49,$B97)","v":0},null,null,"CG 12h"]
[null,"AT",{"$f":"COUNTIF(C$9:C$49,$B98)","v":0},0,0,0,0,0,0,0,0,0,0,null,null,"CDG 12h"]
[null,null,null,null,null,null,null,null,null,null,null,null,null,null,null,"VPUa 12h"]
[null,null,null,null,null,null,null,null,null,null,null,null,null,null,null,"VPU 12h"]
[]
[null,null,null,null,null,null,null,null,null,null,null,null,null,null,null,"VPUc 12h"]
[null,null,null,null,null,null,null,null,null,null,null,null,null,null,null,"FPTa 12h"]
[null,null,null,null,null,null,null,null,null,null,null,null,null,null,null,"FPT 12h"]
[null,null,null,null,null,null,null,null,null,null,null,null,null,null,null,"FPTc 12h"]
[null,null,null,null,null,null,null,null,null,null,null,null,null,null,null,"EPSa 12h"]
[null,null,null,null,null,null,null,null,null,null,null,null,null,null,null,"EPSc 12h"]
[null,null,null,null,null,null,null,null,null,null,null,null,null,null,null,"EPS 12h"]
[null,null,null,null,null,null,null,null,null,null,null,null,null,null,null,"VSRa 12h"]
[null,null,null,null,null,null,null,null,null,null,null,null,null,null,null,"VSRc 12h"]
[null,null,null,null,null,null,null,null,null,null,null,null,null,null,null,"VSR 12h"]
[null,null,null,null,null,null,null,null,null,null,null,null,null,null,null,"Eva 12h"]
[null,null,null,null,null,null,null,null,null,null,null,null,null,null,null,"Evc 12h"]
[null,null,null,null,null,null,null,null,null,null,null,null,null,null,null,"EV 12h"]
[null,null,null,null,null,null,null,null,null,null,null,null,null,null,null,"VID 12h"]
[null,null,null,null,null,null,null,null,null,null,null,null,null,null,null,"VSAV 12h"]
[null,null,null,null,null,null,null,null,null,null,null,null,null,null,null,"VLM 12h"]
[null,null,null,null,null,null,null,null,null,null,null,null,null,null,null,"PC 12h"]
[null,null,null,null,null,null,null,null,null,null,null,null,null,null,null,"ST 12h"]
[null,null,null,null,null,null,null,null,null,null,null,null,null,null,null,"CE 12h"]
[null,null,null,null,null,null,null,null,null,null,null,null,null,null,null,"CP 12h"]
[null,null,null,null,null,null,null,null,null,null,null,null,null,null,null,"AA 12h"]
[null,null,null,null,null,null,null,null,null,null,null,null,null,null,null,"AT 12h"]
[null,null,null,null,null,null,null,null,null,null,null,null,null,null,null,"RPM 12h"]
[null,null,null,null,null,null,null,null,null,null,null,null,null,null,null,"CM 12h"]
[null,null,null,null,null,null,null,null,null,null,null,null,null,null,null,"USSH"]

{"sheet":"Technique","index":13,"n_rows":2,"n_cols":3,"rows_kept":2,"cut":false,"hidden":true,"merged":[]}
["MP"]
["test",null,"Précisez votre mot de passe"]

{"sheet":"Mode d'emploi","index":14,"n_rows":9,"n_cols":2,"rows_kept":9,"cut":false,"hidden":false,"merged":[[0,0,0,1]]}
["MODE D'EMPLOI"]
[1,"A l'ouverture du classeur, un VBA parcoure les 12 onglets mois et protège toutes les colonnes contenant un entête date et dont celles-ci sont inférieures à la date du jour.  Tous ces onglets seront mis sous \"Protection\" et les Opérateurs pourront encoder uniquement dans les colonnes dont la date est inférieure à la date du jour."]
[2,"L'Administrateur pourra enlever cette protection onglet par onglet sous l'onglet supérieur Révision \"Oter la protection\". Un mot de passe lui sera demandé pour pouvoir exécuter cette opération.\nComme normalement l'Administrateur ne gérera que le mois en cours, l'opération ne se fera uniquement que s'il désire toucher aux colonnes dont la date dépasse la date du jour.\nA noter : le VBA d'ouverture adapte automatiquement les Protections donc l'Administrateur ne doit pas se soucier de remettre les Protections pour les onglets dont il les a enlever."]
[3,"La gestion de ce mot de passe se fait dans l'onglet \"Technique\".  Cet onglet est \"Masqué\".  Pour pouvoir \"Afficher\" et gérer le contenu de cet onglet, il faut cliquer droit sur la barre des onglets et cliquer ensuite dans le menu sur \"Afficher\" et choisir l'onglet \"Technique\".  Un autre mot de passe lui sera demandé pour pouvoir réaliser cette opération.  \nCette opération n'est à faire que si on désire changer le mot de passe donc rarement."]
[4,"Les dates des colonnes sont calculées à partir de la première colonne en ajoutant 3 jours à chaque colonne"]
[5,"Le mois en cellule G2 est calculé à partir du nom de l'onglet."]
[6,"Technique :\n- Le module 1 contient les variables PUBLIC càd celles qui restent accessibles à tous les VBA du classeur ;\n- Le module 2 contient le VBA qui affiche l'onglet \"Technique\"\n- La Feuille \"Technique\" contient le VBA qui se déclenche à chaque activation de la feuille et fait appel au VBA d'affichage dans le module 2\n- ThisWorkbook contient le VBA qui se déclenche automatiquement à l'ouverture du classeur et fait la MAJ automatique des colonnes à Protéger et Déprotéger.\n- Les Flag permettent d'éviter certains VBA en fonction du déroulement des Procédures.  \nAinsi la Procédure à l'ouverture du classeur fait appel à l'onglet Technique donc elle déclenche le VBA qui provoque l'affichage de l'onglet et donc également à la demande de mot de passe.  \nPour éviter cela, on positionne le Flag à 1 et on évite le déclenchement de la Procédure de demande de mot de passe. \nDe même le Flag2 évite que la demande de mot de passe se reproduise à chaque fois que l'Administrateur fera appel à l'onglet Technique dès qu'il l'a fait une fois durant une session de travail.\n- Comme il y a moyen de voir le mot de passe dans les VBA, ceux ci sont masqués.  Pour les faire apparaître, il faudra encoder le même mot de passe que pour le point 3"]
[7,"Ce qu'il faut retenir est que, techniquement cela semble complexe mais pratiquement, pour les Opérateurs, cela sera complètement transparent et pour l'Administrateur, il n'aura qu'à enlever la Protection d'un onglet quand il voudra gérer un mois et atteindre les colonnes dont la date et supérieur à la date du jour.  Rarement, il aura à changer le mot de passe gérant l'affichage de l'onglet Technique et donc rarement il devra utiliser la Procédure du point 3"]
[8,"L'adaptation réalisée n'a rien touché d'autre que les points soulevés ci-dessus"]