{"text_format":"1","workbook":"xlsx","n_sheets":2,"sheets":["Avc (1)","Avc (2)"],"not_rendered":{"charts":0,"images":0,"macros":1,"external_links":5,"defined_names":31,"comments":0,"pivot_tables":0},"unopened":[],"bounds":{"document_bytes":16777216,"sheet_cells":100000,"rows_first":2000,"rows_last":500,"rows_between":2000,"halvings":0,"cell_chars":16384,"cell_head_chars":4096},"cells_cut":0,"cells_raw":0,"read":"whole","date_system":"1900"}

{"sheet":"Avc (1)","index":0,"n_rows":50,"n_cols":42,"rows_kept":50,"cut":false,"hidden":false,"merged":[[0,27,0,37],[1,2,1,6],[1,7,1,11],[1,12,1,16],[1,37,1,41],[1,32,1,36],[1,27,1,31],[1,17,1,20],[1,22,1,25]]}
[null,null,null,null,null,null,null,null,null,null,null,null,null,null,null,null,null,null,null,null,null,null,null,null,null,null,null,"Préparation"]
[null,null,"Récep. Document",null,null,null,null,"Clarif. Scope",null,null,null,null,"Reception FSI",null,null,null,null,"Gamme GPET",null,null,null,null,"Prise de cote",null,null,null,null,"Platinage",null,null,null,null,"Piping",null,null,null,null,"Modop"]
["N° Job Pack","Type",1,2,3,4,"Total",1,2,3,4,"Total",1,2,3,4,"Total",1,2,3,4,"Total",1,2,3,4,"Total",1,2,3,4,"Total",1,2,3,4,"Total",1,1,1,1,1]
[]
["Daromez-AE014-DR404","MONT",0.25,0.25,0.25,0.25,{"$f":"SUM(C5:F5)","v":1},null,null,null,null,{"$f":"SUM(H5:K5)","v":0},null,null,null,null,{"$f":"SUM(M5:P5)","v":0},null,null,null,null,{"$f":"SUM(R5:U5)","v":0},null,null,null,null,{"$f":"SUM(W5:Z5)","v":0},null,null,null,null,{"$f":"SUM(AB5:AE5)","v":0},null,null,null,null,{"$f":"SUM(AG5:AJ5)","v":0},null,null,null,null,{"$f":"SUM(AL5:AO5)","v":0}]
["Daromez-AE014-DR405","MONT",0.25,0.25,0.25,0.25,{"$f":"SUM(C6:F6)","v":1},null,null,null,null,{"$f":"SUM(H6:K6)","v":0},null,null,null,0.25,{"$f":"SUM(M6:P6)","v":0.25},null,null,null,null,{"$f":"SUM(R6:U6)","v":0},null,null,null,null,0,null,null,null,null,{"$f":"SUM(AB6:AE6)","v":0},null,null,null,null,{"$f":"SUM(AG6:AJ6)","v":0},null,null,null,null,{"$f":"SUM(AL6:AO6)","v":0}]
["Daromez-AE014-DR406","MONT",0.25,0.25,0.25,0.25,1,null,null,null,null,0,null,null,null,null,0,null,0.25,0.25,null,0.5,null,null,null,null,0,null,null,null,null,0,null,null,null,null,0,null,null,null,null,0]
["Daromez-AE014-DR407","MONT",0.25,0.25,0.25,0.25,1,null,0.25,null,null,0.25,null,0.25,null,0.25,0.5,null,0.25,0.25,null,0.5,null,null,null,null,0,0.25,0.25,0.25,0.25,1,null,null,null,null,0,null,0.25,0.25,0.25,0.75]
["Daromez-AE014-DR408","MONT",0.25,0.25,0.25,0.25,1,null,0.25,0.25,null,0.5,null,null,null,0.25,0.25,null,0.25,0.25,null,0.5,null,null,null,null,0,null,null,null,null,0,null,null,null,null,0,null,0.25,0.25,0.25,0.75]
["Daromez-AE014-DR409","MONT",0.25,0.25,0.25,0.25,1,null,0.25,0.25,null,0.5,null,null,null,null,0,null,null,null,null,0,null,null,null,null,0,null,null,null,null,0,null,null,null,null,0,null,0.25,0.25,0.25,0.75]
["Daromez-AE014-DR410","MONT",0.25,0.25,0.25,0.25,1,null,0.25,0.25,null,0.5,null,null,null,null,0,null,null,null,null,0,null,null,null,null,0,null,null,null,null,0,null,null,null,null,0,null,0.25,0.25,0.25,0.75]
["Daromez-AE014-DR411","MONT",0.25,0.25,0.25,0.25,1,null,null,null,null,0,null,0.25,0.25,null,0.5,null,null,null,null,0,null,null,null,null,0,null,null,null,null,0,null,null,null,null,0,null,0.25,0.25,0.25,0.75]
["Daromez-AE014-DR412","MONT",0.25,0.25,0.25,0.25,1,null,null,null,null,0,null,null,0.25,null,0.25,null,null,null,null,0,null,null,null,null,0,null,null,null,null,0,null,null,null,null,0,null,0.25,0.25,0.25,0.75]
["Daromez-AE014-DR413","MONT",0.25,0.25,0.25,0.25,1,null,null,null,null,0,null,null,null,null,0,null,null,0.25,0.25,0.5,null,null,null,null,0,0.25,0.25,0.25,null,0.75,null,null,null,null,0,null,0.25,0.25,0.25,0.75]
["Daromez-AE014-DR414","MONT",0.25,0.25,0.25,0.25,1,null,null,null,null,0,null,null,null,null,0,null,null,0.25,0.25,0.5,null,null,null,null,0,0.25,0.25,0.25,null,0.75,null,null,null,null,0,null,0.25,0.25,0.25,0.75]
["Daromez-AE014-DR415","MONT",0.25,0.25,0.25,0.25,1,null,0.25,0.25,null,0.5,null,null,null,null,0,null,null,null,null,0,null,0.25,0.25,null,0.5,0.25,0.25,0.25,null,0.75,null,null,null,null,0,null,null,null,null,0]
["Daromez-AE014-DR416","MONT",0.25,0.25,0.25,0.25,1,null,null,null,null,0,null,0.25,null,null,0.25,null,null,null,null,0,null,0.25,0.25,null,0.5,0.25,0.25,0.25,null,0.75,null,null,null,null,0,null,null,null,null,0]
["Daromez-AE014-DR417","MONT",0.25,0.25,0.25,0.25,1,null,null,0.25,null,0.25,null,null,null,null,0,null,null,null,null,0,null,null,null,null,0,0.25,0.25,0.25,null,0.75,null,null,null,null,0,null,null,null,null,0]
["Daromez-AE014-DR418","MONT",0.25,0.25,0.25,0.25,1,null,null,null,null,0,null,null,null,null,0,null,0.25,0.25,null,0.5,null,null,null,null,0,0.25,0.25,0.25,null,0.75,null,0.25,0.25,null,0.5,null,null,null,null,0]
["Daromez-AE014-DR419","MONT",0.25,0.25,0.25,0.25,1,null,null,null,null,0,null,0.25,null,null,0.25,null,0.25,0.25,null,0.5,null,null,0.25,null,0.25,null,null,null,null,0,null,0.25,0.25,null,0.5,null,0.25,0.25,null,0.5]
["Daromez-AE014-DR420","MONT",0.25,0.25,0.25,0.25,1,0.25,null,0.25,null,0.5,null,null,null,null,0,null,0.25,0.25,null,0.5,null,null,0.25,null,0.25,null,null,null,null,0,null,0.25,0.25,null,0.5,null,0.25,0.25,null,0.5]
["Daromez-AE014-DR421","MONT",0.25,0.25,0.25,0.25,1,0.25,0.25,0.25,0.25,1,null,null,null,null,0,null,0.25,0.25,null,0.5,null,null,0.25,null,0.25,null,null,null,null,0,null,0.25,0.25,null,0.5,null,0.25,0.25,null,0.5]
["Daromez-AE014-DR422","MONT",0.25,null,null,null,0.25,null,null,null,null,0,null,0.25,null,0.25,0.5,null,0.25,0.25,null,0.5,null,null,null,null,0,null,null,null,null,0,null,0.25,0.25,null,0.5,0.25,0.25,0.25,0.25,1]
["Daromez-AE014-DR423","MONT",0.25,null,null,null,0.25,null,null,null,null,0,null,null,null,null,0,null,null,null,null,0,null,0.25,0.25,null,0.5,null,null,null,null,0,null,0.25,0.25,null,0.5,null,0.25,0.25,null,0.5]
["Daromez-AE014-DR424","MONT",0.25,null,null,null,0.25,null,0.25,null,0.25,0.5,null,null,null,null,0,null,null,null,null,0,null,0.25,0.25,null,0.5,null,null,null,null,0,0.25,0.25,0.25,0.25,1,null,0.25,0.25,null,0.5]
["Daromez-AE014-DR425","MONT",null,null,null,null,0,null,0.25,null,null,0.25,null,null,null,null,0,null,0.25,0.25,null,0.5,null,0.25,0.25,null,0.5,null,null,null,null,0,null,0.25,0.25,null,0.5,null,0.25,0.25,null,0.5]
["Daromez-AE014-DR426","MONT",null,null,null,null,0,null,0.25,null,null,0.25,null,null,null,null,0,null,0.25,0.25,null,0.5,null,0.25,0.25,null,0.5,null,null,null,null,0,null,0.25,0.25,null,0.5,null,null,null,null,0]
["Daromez-AE014-DR427","MONT",null,null,null,null,0,null,0.25,null,null,0.25,null,null,null,null,0,null,0.25,0.25,null,0.5,null,0.25,0.25,null,0.5,null,null,null,null,0,null,null,null,null,0,null,null,null,null,0]
["Daromez-AE014-DR428","MONT",0.25,0.25,0.25,0.25,1,null,0.25,null,null,0.25,null,null,null,null,0,null,null,null,null,0,null,null,null,null,0,null,null,null,null,0,null,null,null,null,0,null,null,null,null,0]
["Daromez-AE014-DR429","MONT",null,null,0.25,null,0.25,null,0.25,null,0.25,0.5,null,null,null,null,0,null,null,null,null,0,null,null,null,null,0,null,null,null,null,0,null,null,null,null,0,null,0.25,0.25,null,0.5]
["Daromez-AE014-DR430","MONT",null,null,null,null,0,null,0.25,null,null,0.25,null,null,null,null,0,null,null,null,null,0,null,null,null,null,0,null,null,null,null,0,null,null,null,null,0,null,0.25,0.25,null,0.5]
["Daromez-AE014-DR431","MONT",null,null,null,null,0,null,null,null,null,0,0.25,0.25,0.25,0.25,1,null,null,null,null,0,null,null,null,null,0,null,null,null,null,0,null,null,null,null,0,null,0.25,0.25,null,0.5]
["Daromez-AE014-DR432","MONT",null,null,null,null,0,null,null,0.25,null,0.25,null,null,null,null,0,null,0.25,0.25,0.25,0.75,null,null,null,null,0,null,null,null,null,0,null,0.25,0.25,0.25,0.75,null,null,null,null,0]
["Daromez-AE014-DR433","MONT",null,null,null,null,0,null,null,null,null,0,null,null,null,null,0,null,0.25,0.25,0.25,0.75,null,null,null,null,0,null,null,0.25,0.25,0.5,null,0.25,0.25,0.25,0.75,null,null,null,null,0]
["Daromez-AE014-DR434","MONT",null,null,null,null,0,null,0.25,null,null,0.25,null,0.25,0.25,0.25,0.75,null,0.25,0.25,0.25,0.75,null,null,null,null,0,null,null,0.25,0.25,0.5,null,0.25,0.25,0.25,0.75,null,0.25,null,null,0.25]
["Daromez-AE014-DR435","MONT",null,null,null,null,0,null,null,null,null,0,null,null,null,0.25,0.25,null,0.25,0.25,0.25,0.75,null,null,null,null,0,null,null,0.25,0.25,0.5,null,0.25,0.25,0.25,0.75,null,0.25,null,0.25,0.5]
["Daromez-AE014-DR436","MONT",null,0.25,null,null,0.25,null,null,null,null,0,null,null,null,null,0,null,null,null,null,0,0.25,0.25,0.25,0.25,1,null,null,0.25,0.25,0.5,null,0.25,0.25,0.25,0.75,null,null,null,null,0]
["Daromez-AE014-DR437","MONT",null,null,null,null,0,null,null,0.25,null,0.25,null,null,null,null,0,null,null,null,null,0,null,null,null,null,0,null,null,0.25,0.25,0.5,null,0.25,0.25,0.25,0.75,null,null,null,null,0]
["Daromez-AE014-DR438","MONT",null,null,null,null,0,null,null,0.25,null,0.25,null,null,null,null,0,null,null,null,null,0,null,null,null,null,0,null,null,0.25,0.25,0.5,null,null,null,null,0,null,0.25,null,null,0.25]
["Daromez-AE014-DR439","MONT",null,null,null,null,0,null,0.25,null,null,0.25,null,null,null,null,0,null,null,null,null,0,null,null,null,null,0,null,null,null,null,0,null,null,null,null,0,null,0.25,null,null,0.25]
["Daromez-AE014-DR440","MONT",null,null,null,null,0,null,null,null,null,0,null,null,null,null,0,null,null,0.25,null,0.25,0.25,null,0.25,null,0.5,null,null,null,null,0,null,null,null,null,0,null,null,null,null,0]
["Daromez-AE014-DR441","MONT",null,null,null,null,0,null,null,null,null,0,null,null,null,null,0,null,null,null,null,0,null,null,null,null,0,null,null,null,null,0,null,null,null,null,0,null,null,null,null,0]
["Daromez-AE014-DR442","MONT",null,null,null,null,0,null,null,null,null,0,null,null,null,null,0,null,null,null,null,0,null,null,null,null,0,null,null,null,null,0,null,null,null,null,0,null,null,null,null,0]
["Daromez-AE014-DR443","MONT",null,null,null,null,0,null,null,null,null,0,null,null,null,null,0,null,null,null,null,0,null,null,null,null,0,null,null,null,null,0,null,null,null,null,0,null,null,null,null,0]
["Daromez-AE014-DR444","MONT",null,null,null,null,0,null,null,null,null,0,null,null,null,null,0,null,null,null,null,0,null,null,null,null,0,null,null,null,null,0,null,null,null,null,0,null,null,null,null,0]
["Daromez-AE014-DR445","MONT",null,null,null,null,0,null,null,null,null,0,null,null,null,null,0,null,null,null,null,0,null,null,null,null,0,null,null,null,null,0,null,null,null,null,0,null,null,null,null,0]
["Daromez-AE014-DR446","MONT",null,null,null,null,0,null,null,null,null,0,null,null,null,null,0,null,null,null,null,0,null,null,null,null,0,null,null,null,null,0,null,null,null,null,0,null,null,null,null,0]
["Daromez-AE014-DR447","MONT",null,null,null,null,0,null,null,null,null,0,null,null,null,null,0,null,null,null,null,0,null,null,null,null,0,null,null,null,null,0,null,null,null,null,0,null,null,null,null,0]
["Daromez-AE014-DR448","MONT",null,null,null,null,0,null,null,null,null,0,null,null,null,null,0,null,null,null,null,0,null,null,null,null,0,null,null,null,null,0,null,null,null,null,0,null,null,null,null,0]
["Daromez-AE014-DR449","MONT",null,null,null,null,0,null,null,null,null,0,null,null,null,null,0,null,null,null,null,0,null,null,null,null,0,null,null,null,null,0,null,null,null,null,0,null,null,null,null,0]

{"sheet":"Avc (2)","index":1,"n_rows":50,"n_cols":31,"rows_kept":50,"cut":false,"hidden":false,"merged":[[0,22,0,27],[0,28,0,30],[1,2,1,3],[1,4,1,5],[1,6,1,7],[1,8,1,9],[1,10,1,11],[1,12,1,13],[1,14,1,15],[1,16,1,18],[1,19,1,21],[1,22,1,23],[1,24,1,25],[1,26,1,27],[1,29,1,30]]}
[null,null,null,null,null,null,null,null,null,null,null,null,null,null,null,null,null,null,null,null,null,null,"Préparation",null,null,null,null,null,"Commande"]
[null,null,"Récep",null,"Clarif",null,"Reception ",null,"Gamme ",null,"Demande ",null,"Demande D",null,"Prise ",null,"ISO",null,null,"Chiff",null,null,"Plat",null,"Pip",null,"Mod",null,null,"Reception"]
["N° Pack","Type","%","Date à 100%","%","Date à 100%","%","Date à 100%","%","Date trans.","Date demande","Date Recep.","Date demande","Date Recep.","%","Date à 100%","%","Date trans.","Date Valid.","%","Date trans.","Date Valid.","%","Date à 100%","%","Date à 100%","%","Date à 100%","Date Commande","%","Date"]
[]
["Daromez-AE014-DR404","MONT",{"$f":"'Avc (1)'!G5","v":1},null,{"$f":"'Avc (1)'!L5","v":0},null,{"$f":"'Avc (1)'!Q5","v":0},null,{"$f":"'Avc (1)'!V5","v":0},null,null,null,null,null,{"$f":"'Avc (1)'!AA5","v":0},null,null,null,null,null,null,null,{"$f":"'Avc (1)'!AF5","v":0},null,{"$f":"'Avc (1)'!AK5","v":0},null,{"$f":"'Avc (1)'!AP5","v":0}]
["Daromez-AE014-DR405","MONT",{"$f":"'Avc (1)'!G6","v":1},null,{"$f":"'Avc (1)'!L6","v":0},null,{"$f":"'Avc (1)'!Q6","v":0.25},null,{"$f":"'Avc (1)'!V6","v":0},null,null,null,null,null,{"$f":"'Avc (1)'!AA6","v":0},null,null,null,null,null,null,null,{"$f":"'Avc (1)'!AF6","v":0},null,{"$f":"'Avc (1)'!AK6","v":0},null,{"$f":"'Avc (1)'!AP6","v":0}]
["Daromez-AE014-DR406","MONT",{"$f":"'Avc (1)'!G7","v":1},null,{"$f":"'Avc (1)'!L7","v":0},null,{"$f":"'Avc (1)'!Q7","v":0},null,{"$f":"'Avc (1)'!V7","v":0.5},null,null,null,null,null,{"$f":"'Avc (1)'!AA7","v":0},null,null,null,null,null,null,null,{"$f":"'Avc (1)'!AF7","v":0},null,{"$f":"'Avc (1)'!AK7","v":0},null,{"$f":"'Avc (1)'!AP7","v":0}]
["Daromez-AE014-DR407","MONT",{"$f":"'Avc (1)'!G8","v":1},null,{"$f":"'Avc (1)'!L8","v":0.25},null,{"$f":"'Avc (1)'!Q8","v":0.5},null,{"$f":"'Avc (1)'!V8","v":0.5},null,null,null,null,null,{"$f":"'Avc (1)'!AA8","v":0},null,null,null,null,null,null,null,{"$f":"'Avc (1)'!AF8","v":1},null,{"$f":"'Avc (1)'!AK8","v":0},null,{"$f":"'Avc (1)'!AP8","v":0.75}]
["Daromez-AE014-DR408","MONT",{"$f":"'Avc (1)'!G9","v":1},null,{"$f":"'Avc (1)'!L9","v":0.5},null,{"$f":"'Avc (1)'!Q9","v":0.25},null,{"$f":"'Avc (1)'!V9","v":0.5},null,null,null,null,null,{"$f":"'Avc (1)'!AA9","v":0},null,null,null,null,null,null,null,{"$f":"'Avc (1)'!AF9","v":0},null,{"$f":"'Avc (1)'!AK9","v":0},null,{"$f":"'Avc (1)'!AP9","v":0.75}]
["Daromez-AE014-DR409","MONT",{"$f":"'Avc (1)'!G10","v":1},null,{"$f":"'Avc (1)'!L10","v":0.5},null,{"$f":"'Avc (1)'!Q10","v":0},null,{"$f":"'Avc (1)'!V10","v":0},null,null,null,null,null,{"$f":"'Avc (1)'!AA10","v":0},null,null,null,null,null,null,null,{"$f":"'Avc (1)'!AF10","v":0},null,{"$f":"'Avc (1)'!AK10","v":0},null,{"$f":"'Avc (1)'!AP10","v":0.75}]
["Daromez-AE014-DR410","MONT",{"$f":"'Avc (1)'!G11","v":1},null,{"$f":"'Avc (1)'!L11","v":0.5},null,{"$f":"'Avc (1)'!Q11","v":0},null,{"$f":"'Avc (1)'!V11","v":0},null,null,null,null,null,{"$f":"'Avc (1)'!AA11","v":0},null,null,null,null,null,null,null,{"$f":"'Avc (1)'!AF11","v":0},null,{"$f":"'Avc (1)'!AK11","v":0},null,{"$f":"'Avc (1)'!AP11","v":0.75}]
["Daromez-AE014-DR411","MONT",{"$f":"'Avc (1)'!G12","v":1},null,{"$f":"'Avc (1)'!L12","v":0},null,{"$f":"'Avc (1)'!Q12","v":0.5},null,{"$f":"'Avc (1)'!V12","v":0},null,null,null,null,null,{"$f":"'Avc (1)'!AA12","v":0},null,null,null,null,null,null,null,{"$f":"'Avc (1)'!AF12","v":0},null,{"$f":"'Avc (1)'!AK12","v":0},null,{"$f":"'Avc (1)'!AP12","v":0.75}]
["Daromez-AE014-DR412","MONT",{"$f":"'Avc (1)'!G13","v":1},null,{"$f":"'Avc (1)'!L13","v":0},null,{"$f":"'Avc (1)'!Q13","v":0.25},null,{"$f":"'Avc (1)'!V13","v":0},null,null,null,null,null,{"$f":"'Avc (1)'!AA13","v":0},null,null,null,null,null,null,null,{"$f":"'Avc (1)'!AF13","v":0},null,{"$f":"'Avc (1)'!AK13","v":0},null,{"$f":"'Avc (1)'!AP13","v":0.75}]
["Daromez-AE014-DR413","MONT",{"$f":"'Avc (1)'!G14","v":1},null,{"$f":"'Avc (1)'!L14","v":0},null,{"$f":"'Avc (1)'!Q14","v":0},null,{"$f":"'Avc (1)'!V14","v":0.5},null,null,null,null,null,{"$f":"'Avc (1)'!AA14","v":0},null,null,null,null,null,null,null,{"$f":"'Avc (1)'!AF14","v":0.75},null,{"$f":"'Avc (1)'!AK14","v":0},null,{"$f":"'Avc (1)'!AP14","v":0.75}]
["Daromez-AE014-DR414","MONT",{"$f":"'Avc (1)'!G15","v":1},null,{"$f":"'Avc (1)'!L15","v":0},null,{"$f":"'Avc (1)'!Q15","v":0},null,{"$f":"'Avc (1)'!V15","v":0.5},null,null,null,null,null,{"$f":"'Avc (1)'!AA15","v":0},null,null,null,null,null,null,null,{"$f":"'Avc (1)'!AF15","v":0.75},null,{"$f":"'Avc (1)'!AK15","v":0},null,{"$f":"'Avc (1)'!AP15","v":0.75}]
["Daromez-AE014-DR415","MONT",{"$f":"'Avc (1)'!G16","v":1},null,{"$f":"'Avc (1)'!L16","v":0.5},null,{"$f":"'Avc (1)'!Q16","v":0},null,{"$f":"'Avc (1)'!V16","v":0},null,null,null,null,null,{"$f":"'Avc (1)'!AA16","v":0.5},null,null,null,null,null,null,null,{"$f":"'Avc (1)'!AF16","v":0.75},null,{"$f":"'Avc (1)'!AK16","v":0},null,{"$f":"'Avc (1)'!AP16","v":0}]
["Daromez-AE014-DR416","MONT",{"$f":"'Avc (1)'!G17","v":1},null,{"$f":"'Avc (1)'!L17","v":0},null,{"$f":"'Avc (1)'!Q17","v":0.25},null,{"$f":"'Avc (1)'!V17","v":0},null,null,null,null,null,{"$f":"'Avc (1)'!AA17","v":0.5},null,null,null,null,null,null,null,{"$f":"'Avc (1)'!AF17","v":0.75},null,{"$f":"'Avc (1)'!AK17","v":0},null,{"$f":"'Avc (1)'!AP17","v":0}]
["Daromez-AE014-DR417","MONT",{"$f":"'Avc (1)'!G18","v":1},null,{"$f":"'Avc (1)'!L18","v":0.25},null,{"$f":"'Avc (1)'!Q18","v":0},null,{"$f":"'Avc (1)'!V18","v":0},null,null,null,null,null,{"$f":"'Avc (1)'!AA18","v":0},null,null,null,null,null,null,null,{"$f":"'Avc (1)'!AF18","v":0.75},null,{"$f":"'Avc (1)'!AK18","v":0},null,{"$f":"'Avc (1)'!AP18","v":0}]
["Daromez-AE014-DR418","MONT",{"$f":"'Avc (1)'!G19","v":1},null,{"$f":"'Avc (1)'!L19","v":0},null,{"$f":"'Avc (1)'!Q19","v":0},null,{"$f":"'Avc (1)'!V19","v":0.5},null,null,null,null,null,{"$f":"'Avc (1)'!AA19","v":0},null,null,null,null,null,null,null,{"$f":"'Avc (1)'!AF19","v":0.75},null,{"$f":"'Avc (1)'!AK19","v":0.5},null,{"$f":"'Avc (1)'!AP19","v":0}]
["Daromez-AE014-DR419","MONT",{"$f":"'Avc (1)'!G20","v":1},null,{"$f":"'Avc (1)'!L20","v":0},null,{"$f":"'Avc (1)'!Q20","v":0.25},null,{"$f":"'Avc (1)'!V20","v":0.5},null,null,null,null,null,{"$f":"'Avc (1)'!AA20","v":0.25},null,null,null,null,null,null,null,{"$f":"'Avc (1)'!AF20","v":0},null,{"$f":"'Avc (1)'!AK20","v":0.5},null,{"$f":"'Avc (1)'!AP20","v":0.5}]
["Daromez-AE014-DR420","MONT",{"$f":"'Avc (1)'!G21","v":1},null,{"$f":"'Avc (1)'!L21","v":0.5},null,{"$f":"'Avc (1)'!Q21","v":0},null,{"$f":"'Avc (1)'!V21","v":0.5},null,null,null,null,null,{"$f":"'Avc (1)'!AA21","v":0.25},null,null,null,null,null,null,null,{"$f":"'Avc (1)'!AF21","v":0},null,{"$f":"'Avc (1)'!AK21","v":0.5},null,{"$f":"'Avc (1)'!AP21","v":0.5}]
["Daromez-AE014-DR421","MONT",{"$f":"'Avc (1)'!G22","v":1},null,{"$f":"'Avc (1)'!L22","v":1},null,{"$f":"'Avc (1)'!Q22","v":0},null,{"$f":"'Avc (1)'!V22","v":0.5},null,null,null,null,null,{"$f":"'Avc (1)'!AA22","v":0.25},null,null,null,null,null,null,null,{"$f":"'Avc (1)'!AF22","v":0},null,{"$f":"'Avc (1)'!AK22","v":0.5},null,{"$f":"'Avc (1)'!AP22","v":0.5}]
["Daromez-AE014-DR422","MONT",{"$f":"'Avc (1)'!G23","v":0.25},null,{"$f":"'Avc (1)'!L23","v":0},null,{"$f":"'Avc (1)'!Q23","v":0.5},null,{"$f":"'Avc (1)'!V23","v":0.5},null,null,null,null,null,{"$f":"'Avc (1)'!AA23","v":0},null,null,null,null,null,null,null,{"$f":"'Avc (1)'!AF23","v":0},null,{"$f":"'Avc (1)'!AK23","v":0.5},null,{"$f":"'Avc (1)'!AP23","v":1}]
["Daromez-AE014-DR423","MONT",{"$f":"'Avc (1)'!G24","v":0.25},null,{"$f":"'Avc (1)'!L24","v":0},null,{"$f":"'Avc (1)'!Q24","v":0},null,{"$f":"'Avc (1)'!V24","v":0},null,null,null,null,null,{"$f":"'Avc (1)'!AA24","v":0.5},null,null,null,null,null,null,null,{"$f":"'Avc (1)'!AF24","v":0},null,{"$f":"'Avc (1)'!AK24","v":0.5},null,{"$f":"'Avc (1)'!AP24","v":0.5}]
["Daromez-AE014-DR424","MONT",{"$f":"'Avc (1)'!G25","v":0.25},null,{"$f":"'Avc (1)'!L25","v":0.5},null,{"$f":"'Avc (1)'!Q25","v":0},null,{"$f":"'Avc (1)'!V25","v":0},null,null,null,null,null,{"$f":"'Avc (1)'!AA25","v":0.5},null,null,null,null,null,null,null,{"$f":"'Avc (1)'!AF25","v":0},null,{"$f":"'Avc (1)'!AK25","v":1},null,{"$f":"'Avc (1)'!AP25","v":0.5}]
["Daromez-AE014-DR425","MONT",{"$f":"'Avc (1)'!G26","v":0},null,{"$f":"'Avc (1)'!L26","v":0.25},null,{"$f":"'Avc (1)'!Q26","v":0},null,{"$f":"'Avc (1)'!V26","v":0.5},null,null,null,null,null,{"$f":"'Avc (1)'!AA26","v":0.5},null,null,null,null,null,null,null,{"$f":"'Avc (1)'!AF26","v":0},null,{"$f":"'Avc (1)'!AK26","v":0.5},null,{"$f":"'Avc (1)'!AP26","v":0.5}]
["Daromez-AE014-DR426","MONT",{"$f":"'Avc (1)'!G27","v":0},null,{"$f":"'Avc (1)'!L27","v":0.25},null,{"$f":"'Avc (1)'!Q27","v":0},null,{"$f":"'Avc (1)'!V27","v":0.5},null,null,null,null,null,{"$f":"'Avc (1)'!AA27","v":0.5},null,null,null,null,null,null,null,{"$f":"'Avc (1)'!AF27","v":0},null,{"$f":"'Avc (1)'!AK27","v":0.5},null,{"$f":"'Avc (1)'!AP27","v":0}]
["Daromez-AE014-DR427","MONT",{"$f":"'Avc (1)'!G28","v":0},null,{"$f":"'Avc (1)'!L28","v":0.25},null,{"$f":"'Avc (1)'!Q28","v":0},null,{"$f":"'Avc (1)'!V28","v":0.5},null,null,null,null,null,{"$f":"'Avc (1)'!AA28","v":0.5},null,null,null,null,null,null,null,{"$f":"'Avc (1)'!AF28","v":0},null,{"$f":"'Avc (1)'!AK28","v":0},null,{"$f":"'Avc (1)'!AP28","v":0}]
["Daromez-AE014-DR428","MONT",{"$f":"'Avc (1)'!G29","v":1},null,{"$f":"'Avc (1)'!L29","v":0.25},null,{"$f":"'Avc (1)'!Q29","v":0},null,{"$f":"'Avc (1)'!V29","v":0},null,null,null,null,null,{"$f":"'Avc (1)'!AA29","v":0},null,null,null,null,null,null,null,{"$f":"'Avc (1)'!AF29","v":0},null,{"$f":"'Avc (1)'!AK29","v":0},null,{"$f":"'Avc (1)'!AP29","v":0}]
["Daromez-AE014-DR429","MONT",{"$f":"'Avc (1)'!G30","v":0.25},null,{"$f":"'Avc (1)'!L30","v":0.5},null,{"$f":"'Avc (1)'!Q30","v":0},null,{"$f":"'Avc (1)'!V30","v":0},null,null,null,null,null,{"$f":"'Avc (1)'!AA30","v":0},null,null,null,null,null,null,null,{"$f":"'Avc (1)'!AF30","v":0},null,{"$f":"'Avc (1)'!AK30","v":0},null,{"$f":"'Avc (1)'!AP30","v":0.5}]
["Daromez-AE014-DR430","MONT",{"$f":"'Avc (1)'!G31","v":0},null,{"$f":"'Avc (1)'!L31","v":0.25},null,{"$f":"'Avc (1)'!Q31","v":0},null,{"$f":"'Avc (1)'!V31","v":0},null,null,null,null,null,{"$f":"'Avc (1)'!AA31","v":0},null,null,null,null,null,null,null,{"$f":"'Avc (1)'!AF31","v":0},null,{"$f":"'Avc (1)'!AK31","v":0},null,{"$f":"'Avc (1)'!AP31","v":0.5}]
["Daromez-AE014-DR431","MONT",{"$f":"'Avc (1)'!G32","v":0},null,{"$f":"'Avc (1)'!L32","v":0},null,{"$f":"'Avc (1)'!Q32","v":1},null,{"$f":"'Avc (1)'!V32","v":0},null,null,null,null,null,{"$f":"'Avc (1)'!AA32","v":0},null,null,null,null,null,null,null,{"$f":"'Avc (1)'!AF32","v":0},null,{"$f":"'Avc (1)'!AK32","v":0},null,{"$f":"'Avc (1)'!AP32","v":0.5}]
["Daromez-AE014-DR432","MONT",{"$f":"'Avc (1)'!G33","v":0},null,{"$f":"'Avc (1)'!L33","v":0.25},null,{"$f":"'Avc (1)'!Q33","v":0},null,{"$f":"'Avc (1)'!V33","v":0.75},null,null,null,null,null,{"$f":"'Avc (1)'!AA33","v":0},null,null,null,null,null,null,null,{"$f":"'Avc (1)'!AF33","v":0},null,{"$f":"'Avc (1)'!AK33","v":0.75},null,{"$f":"'Avc (1)'!AP33","v":0}]
["Daromez-AE014-DR433","MONT",{"$f":"'Avc (1)'!G34","v":0},null,{"$f":"'Avc (1)'!L34","v":0},null,{"$f":"'Avc (1)'!Q34","v":0},null,{"$f":"'Avc (1)'!V34","v":0.75},null,null,null,null,null,{"$f":"'Avc (1)'!AA34","v":0},null,null,null,null,null,null,null,{"$f":"'Avc (1)'!AF34","v":0.5},null,{"$f":"'Avc (1)'!AK34","v":0.75},null,{"$f":"'Avc (1)'!AP34","v":0}]
["Daromez-AE014-DR434","MONT",{"$f":"'Avc (1)'!G35","v":0},null,{"$f":"'Avc (1)'!L35","v":0.25},null,{"$f":"'Avc (1)'!Q35","v":0.75},null,{"$f":"'Avc (1)'!V35","v":0.75},null,null,null,null,null,{"$f":"'Avc (1)'!AA35","v":0},null,null,null,null,null,null,null,{"$f":"'Avc (1)'!AF35","v":0.5},null,{"$f":"'Avc (1)'!AK35","v":0.75},null,{"$f":"'Avc (1)'!AP35","v":0.25}]
["Daromez-AE014-DR435","MONT",{"$f":"'Avc (1)'!G36","v":0},null,{"$f":"'Avc (1)'!L36","v":0},null,{"$f":"'Avc (1)'!Q36","v":0.25},null,{"$f":"'Avc (1)'!V36","v":0.75},null,null,null,null,null,{"$f":"'Avc (1)'!AA36","v":0},null,null,null,null,null,null,null,{"$f":"'Avc (1)'!AF36","v":0.5},null,{"$f":"'Avc (1)'!AK36","v":0.75},null,{"$f":"'Avc (1)'!AP36","v":0.5}]
["Daromez-AE014-DR436","MONT",{"$f":"'Avc (1)'!G37","v":0.25},null,{"$f":"'Avc (1)'!L37","v":0},null,{"$f":"'Avc (1)'!Q37","v":0},null,{"$f":"'Avc (1)'!V37","v":0},null,null,null,null,null,{"$f":"'Avc (1)'!AA37","v":1},null,null,null,null,null,null,null,{"$f":"'Avc (1)'!AF37","v":0.5},null,{"$f":"'Avc (1)'!AK37","v":0.75},null,{"$f":"'Avc (1)'!AP37","v":0}]
["Daromez-AE014-DR437","MONT",{"$f":"'Avc (1)'!G38","v":0},null,{"$f":"'Avc (1)'!L38","v":0.25},null,{"$f":"'Avc (1)'!Q38","v":0},null,{"$f":"'Avc (1)'!V38","v":0},null,null,null,null,null,{"$f":"'Avc (1)'!AA38","v":0},null,null,null,null,null,null,null,{"$f":"'Avc (1)'!AF38","v":0.5},null,{"$f":"'Avc (1)'!AK38","v":0.75},null,{"$f":"'Avc (1)'!AP38","v":0}]
["Daromez-AE014-DR438","MONT",{"$f":"'Avc (1)'!G39","v":0},null,{"$f":"'Avc (1)'!L39","v":0.25},null,{"$f":"'Avc (1)'!Q39","v":0},null,{"$f":"'Avc (1)'!V39","v":0},null,null,null,null,null,{"$f":"'Avc (1)'!AA39","v":0},null,null,null,null,null,null,null,{"$f":"'Avc (1)'!AF39","v":0.5},null,{"$f":"'Avc (1)'!AK39","v":0},null,{"$f":"'Avc (1)'!AP39","v":0.25}]
["Daromez-AE014-DR439","MONT",{"$f":"'Avc (1)'!G40","v":0},null,{"$f":"'Avc (1)'!L40","v":0.25},null,{"$f":"'Avc (1)'!Q40","v":0},null,{"$f":"'Avc (1)'!V40","v":0},null,null,null,null,null,{"$f":"'Avc (1)'!AA40","v":0},null,null,null,null,null,null,null,{"$f":"'Avc (1)'!AF40","v":0},null,{"$f":"'Avc (1)'!AK40","v":0},null,{"$f":"'Avc (1)'!AP40","v":0.25}]
["Daromez-AE014-DR440","MONT",{"$f":"'Avc (1)'!G41","v":0},null,{"$f":"'Avc (1)'!L41","v":0},null,{"$f":"'Avc (1)'!Q41","v":0},null,{"$f":"'Avc (1)'!V41","v":0.25},null,null,null,null,null,{"$f":"'Avc (1)'!AA41","v":0.5},null,null,null,null,null,null,null,{"$f":"'Avc (1)'!AF41","v":0},null,{"$f":"'Avc (1)'!AK41","v":0},null,{"$f":"'Avc (1)'!AP41","v":0}]
["Daromez-AE014-DR441","MONT",{"$f":"'Avc (1)'!G42","v":0},null,{"$f":"'Avc (1)'!L42","v":0},null,{"$f":"'Avc (1)'!Q42","v":0},null,{"$f":"'Avc (1)'!V42","v":0},null,null,null,null,null,{"$f":"'Avc (1)'!AA42","v":0},null,null,null,null,null,null,null,{"$f":"'Avc (1)'!AF42","v":0},null,{"$f":"'Avc (1)'!AK42","v":0},null,{"$f":"'Avc (1)'!AP42","v":0}]
["Daromez-AE014-DR442","MONT",{"$f":"'Avc (1)'!G43","v":0},null,{"$f":"'Avc (1)'!L43","v":0},null,{"$f":"'Avc (1)'!Q43","v":0},null,{"$f":"'Avc (1)'!V43","v":0},null,null,null,null,null,{"$f":"'Avc (1)'!AA43","v":0},null,null,null,null,null,null,null,{"$f":"'Avc (1)'!AF43","v":0},null,{"$f":"'Avc (1)'!AK43","v":0},null,{"$f":"'Avc (1)'!AP43","v":0}]
["Daromez-AE014-DR443","MONT",{"$f":"'Avc (1)'!G44","v":0},null,{"$f":"'Avc (1)'!L44","v":0},null,{"$f":"'Avc (1)'!Q44","v":0},null,{"$f":"'Avc (1)'!V44","v":0},null,null,null,null,null,{"$f":"'Avc (1)'!AA44","v":0},null,null,null,null,null,null,null,{"$f":"'Avc (1)'!AF44","v":0},null,{"$f":"'Avc (1)'!AK44","v":0},null,{"$f":"'Avc (1)'!AP44","v":0}]
["Daromez-AE014-DR444","MONT",{"$f":"'Avc (1)'!G45","v":0},null,{"$f":"'Avc (1)'!L45","v":0},null,{"$f":"'Avc (1)'!Q45","v":0},null,{"$f":"'Avc (1)'!V45","v":0},null,null,null,null,null,{"$f":"'Avc (1)'!AA45","v":0},null,null,null,null,null,null,null,{"$f":"'Avc (1)'!AF45","v":0},null,{"$f":"'Avc (1)'!AK45","v":0},null,{"$f":"'Avc (1)'!AP45","v":0}]
["Daromez-AE014-DR445","MONT",{"$f":"'Avc (1)'!G46","v":0},null,{"$f":"'Avc (1)'!L46","v":0},null,{"$f":"'Avc (1)'!Q46","v":0},null,{"$f":"'Avc (1)'!V46","v":0},null,null,null,null,null,{"$f":"'Avc (1)'!AA46","v":0},null,null,null,null,null,null,null,{"$f":"'Avc (1)'!AF46","v":0},null,{"$f":"'Avc (1)'!AK46","v":0},null,{"$f":"'Avc (1)'!AP46","v":0}]
["Daromez-AE014-DR446","MONT",{"$f":"'Avc (1)'!G47","v":0},null,{"$f":"'Avc (1)'!L47","v":0},null,{"$f":"'Avc (1)'!Q47","v":0},null,{"$f":"'Avc (1)'!V47","v":0},null,null,null,null,null,{"$f":"'Avc (1)'!AA47","v":0},null,null,null,null,null,null,null,{"$f":"'Avc (1)'!AF47","v":0},null,{"$f":"'Avc (1)'!AK47","v":0},null,{"$f":"'Avc (1)'!AP47","v":0}]
["Daromez-AE014-DR447","MONT",{"$f":"'Avc (1)'!G48","v":0},null,{"$f":"'Avc (1)'!L48","v":0},null,{"$f":"'Avc (1)'!Q48","v":0},null,{"$f":"'Avc (1)'!V48","v":0},null,null,null,null,null,{"$f":"'Avc (1)'!AA48","v":0},null,null,null,null,null,null,null,{"$f":"'Avc (1)'!AF48","v":0},null,{"$f":"'Avc (1)'!AK48","v":0},null,{"$f":"'Avc (1)'!AP48","v":0}]
["Daromez-AE014-DR448","MONT",{"$f":"'Avc (1)'!G49","v":0},null,{"$f":"'Avc (1)'!L49","v":0},null,{"$f":"'Avc (1)'!Q49","v":0},null,{"$f":"'Avc (1)'!V49","v":0},null,null,null,null,null,{"$f":"'Avc (1)'!AA49","v":0},null,null,null,null,null,null,null,{"$f":"'Avc (1)'!AF49","v":0},null,{"$f":"'Avc (1)'!AK49","v":0},null,{"$f":"'Avc (1)'!AP49","v":0}]
["Daromez-AE014-DR449","MONT",{"$f":"'Avc (1)'!G50","v":0},null,{"$f":"'Avc (1)'!L50","v":0},null,{"$f":"'Avc (1)'!Q50","v":0},null,{"$f":"'Avc (1)'!V50","v":0},null,null,null,null,null,{"$f":"'Avc (1)'!AA50","v":0},null,null,null,null,null,null,null,{"$f":"'Avc (1)'!AF50","v":0},null,{"$f":"'Avc (1)'!AK50","v":0},null,{"$f":"'Avc (1)'!AP50","v":0}]