{"text_format":"1","workbook":"xlsx","n_sheets":5,"sheets":["Home","Fiche_Client","Arrivées","Nuitées","Chb_Occ"],"not_rendered":{"charts":0,"images":0,"macros":1,"external_links":0,"defined_names":19,"comments":0,"pivot_tables":0},"unopened":[],"bounds":{"document_bytes":16777216,"sheet_cells":100000,"rows_first":2000,"rows_last":500,"rows_between":2000,"halvings":0,"cell_chars":16384,"cell_head_chars":4096},"cells_cut":0,"cells_raw":0,"read":"whole","date_system":"1900"}

{"sheet":"Home","index":0,"n_rows":34,"n_cols":9,"rows_kept":34,"cut":false,"hidden":false,"merged":[[44,8,44,9],[45,8,45,9],[46,8,46,9],[47,8,47,9],[48,8,48,9],[43,8,43,9],[32,8,32,9],[33,8,33,9],[34,8,34,9],[35,8,35,9],[36,8,36,9],[37,8,37,9],[38,8,38,9],[39,8,39,9],[40,8,40,9],[41,8,41,9],[42,8,42,9],[31,8,31,9],[20,8,20,9],[21,8,21,9],[22,8,22,9],[23,8,23,9],[24,8,24,9],[25,8,25,9],[26,8,26,9],[27,8,27,9],[28,8,28,9],[29,8,29,9],[30,8,30,9],[19,8,19,9],[9,8,9,9],[8,8,8,9],[10,8,10,9],[11,8,11,9],[12,8,12,9],[13,8,13,9],[14,8,14,9],[15,8,15,9],[16,8,16,9],[17,8,17,9],[18,8,18,9]]}
[]
[]
[null,null,null,null,null,"Nat","Pays"]
[null,null,null,null,null,"MA","MAROC"]
[null,null,null,null,null,"ES","Espagne"]
[null,null,null,null,null,"FR","France"]
[null,null,null,null,null,"BE","Belgique"]
[null,null,null,null,null,"IT","Italie"]
[null,null,null,null,null,"DE","Allemagne","Prix","Type"]
[null,null,"Janvier",2019,null,"NL","Holland",null,"Chambre Single en BB"]
[null,null,"Février",2020,null,"POR","Portugal",null,"Chambre Double en BB"]
[null,null,"Mars",2021,null,"UK","Grande_Bretagne",null,"Chambre Triple en BB"]
[null,null,"Avril",2022,null,"DK","DANEMARK",null,"Chambre Single en DP"]
[null,null,"Mai",2023,null,"NOR","NORVEGE",null,"Chambre Double en DP"]
[null,null,"Juin",2024,null,"POL","POLOGNE",null,"Chambre Triple en DP"]
[null,null,"Juillet",2025,null,"RU","RUSSIE",null,"Chambre Single en PC"]
[null,null,"Août",2026,null,"NE","NIGER",null,"Chambre Double en PC"]
[null,null,"Septembre",2027,null,"CH","SUISSE",null,"Chambre Triple en PC"]
[null,null,"Octobre",2028,null,"SU","SUEDE"]
[null,null,"Novembre",2029,null,"TU","TURQUIE"]
[null,null,"Décembre",2030,null,"DZ","ALGERIE"]
[null,null,null,null,null,"TN","TUNISIE"]
[null,null,null,null,null,"LY","LYBIE"]
[null,null,null,null,null,"EG","EGYPTE"]
[null,null,null,null,null,"SAU","Arabie_Saoudite"]
[null,null,null,null,null,"UA","Arabie_Emirate"]
[null,null,null,null,null,"JOR","JORDANIE"]
[null,null,null,null,null,"US","USA"]
[null,null,null,null,null,"CA","CANADA"]
[null,null,null,null,null,"JP","JAPON"]
[null,null,null,null,null,"CN","CHINE"]
[null,null,null,null,null,"CI","Côte_ivoire"]
[null,null,null,null,null,"BR","BRESIL"]
[null,null,null,null,null,"MX","Mexique"]

{"sheet":"Fiche_Client","index":1,"n_rows":9,"n_cols":12,"rows_kept":9,"cut":false,"hidden":false,"merged":[]}
[]
[]
[]
[]
[null,"Id","Nom","Prenom","Naissance","CNI","Adresse1","Adresse2","Nat","Chb","Arrivée","Départ"]
[null,1,"XXXXXXXX","TTTTTTTTT","XX/XX/XXXX",null,null,"France","FR",305,"2019-06-03","2019-06-07"]
[null,2,"YYYYYYYYYYYYY","VVVVVVVVVVVVV","XX/XX/XXXX",null,null,"Italie","IT",207,"2019-05-10","2019-05-25"]
[null,3,"SSSSSSSSSS","CCCCCCCCCCC","XX/XX/XXXX",null,null,"Belgique","BE",409,"2019-05-16","2019-05-21"]
[null,{"$f":"IF(C9<>\"\",ROW()-5,\"\")","v":4},"TTTTTT","MMMMMMM","XX/XX/XXXX",null,null,"MAROC","MA",302,"2019-05-19","2019-05-28"]

{"sheet":"Arrivées","index":2,"n_rows":44,"n_cols":35,"rows_kept":44,"cut":false,"hidden":false,"merged":[[42,1,42,2],[43,1,43,2],[2,1,2,2]]}
[6,null,1,null,"cette fonction en VBA ?",null,null,null,null,null,"=NB.SI.ENS(Tableau3[Arrivée];Arrivées!F$3;Tableau3[Nat];Arrivées!$C4)"]
[]
[null,null,null,"2019-06-01",{"$f":"D3+1","v":"2019-06-02"},{"$f":"E3+1","v":"2019-06-03"},"2019-06-04","2019-06-05","2019-06-06","2019-06-07","2019-06-08","2019-06-09","2019-06-10","2019-06-11","2019-06-12","2019-06-13","2019-06-14","2019-06-15","2019-06-16","2019-06-17","2019-06-18","2019-06-19","2019-06-20","2019-06-21","2019-06-22","2019-06-23","2019-06-24","2019-06-25","2019-06-26","2019-06-27","2019-06-28",{"$f":"IF(AE3=\"\",\"\",IF(MONTH(AE3)<>MONTH(AE3+1),\"\",AE3+1))","v":"2019-06-29"},{"$f":"IF(AF3=\"\",\"\",IF(MONTH(AF3)<>MONTH(AF3+1),\"\",AF3+1))","v":"2019-06-30"},{"$f":"IF(AG3=\"\",\"\",IF(MONTH(AG3)<>MONTH(AG3+1),\"\",AG3+1))","v":""},"Total"]
[null,"France","FR",{"$f":"COUNTIFS(Tableau3[Arrivée],Arrivées!D$3,Tableau3[Nat],Arrivées!$C4)","v":0},{"$f":"COUNTIFS(Tableau3[Arrivée],Arrivées!E$3,Tableau3[Nat],Arrivées!$C4)","v":0},{"$f":"COUNTIFS(Tableau3[Arrivée],Arrivées!F$3,Tableau3[Nat],Arrivées!$C4)","v":1},{"$f":"COUNTIFS(Tableau3[Arrivée],Arrivées!G$3,Tableau3[Nat],Arrivées!$C4)","v":0},{"$f":"COUNTIFS(Tableau3[Arrivée],Arrivées!H$3,Tableau3[Nat],Arrivées!$C4)","v":0},{"$f":"COUNTIFS(Tableau3[Arrivée],Arrivées!I$3,Tableau3[Nat],Arrivées!$C4)","v":0},{"$f":"COUNTIFS(Tableau3[Arrivée],Arrivées!J$3,Tableau3[Nat],Arrivées!$C4)","v":0},{"$f":"COUNTIFS(Tableau3[Arrivée],Arrivées!K$3,Tableau3[Nat],Arrivées!$C4)","v":0},{"$f":"COUNTIFS(Tableau3[Arrivée],Arrivées!L$3,Tableau3[Nat],Arrivées!$C4)","v":0},{"$f":"COUNTIFS(Tableau3[Arrivée],Arrivées!M$3,Tableau3[Nat],Arrivées!$C4)","v":0},{"$f":"COUNTIFS(Tableau3[Arrivée],Arrivées!N$3,Tableau3[Nat],Arrivées!$C4)","v":0},{"$f":"COUNTIFS(Tableau3[Arrivée],Arrivées!O$3,Tableau3[Nat],Arrivées!$C4)","v":0},{"$f":"COUNTIFS(Tableau3[Arrivée],Arrivées!P$3,Tableau3[Nat],Arrivées!$C4)","v":0},{"$f":"COUNTIFS(Tableau3[Arrivée],Arrivées!Q$3,Tableau3[Nat],Arrivées!$C4)","v":0},{"$f":"COUNTIFS(Tableau3[Arrivée],Arrivées!R$3,Tableau3[Nat],Arrivées!$C4)","v":0},{"$f":"COUNTIFS(Tableau3[Arrivée],Arrivées!S$3,Tableau3[Nat],Arrivées!$C4)","v":0},{"$f":"COUNTIFS(Tableau3[Arrivée],Arrivées!T$3,Tableau3[Nat],Arrivées!$C4)","v":0},{"$f":"COUNTIFS(Tableau3[Arrivée],Arrivées!U$3,Tableau3[Nat],Arrivées!$C4)","v":0},{"$f":"COUNTIFS(Tableau3[Arrivée],Arrivées!V$3,Tableau3[Nat],Arrivées!$C4)","v":0},{"$f":"COUNTIFS(Tableau3[Arrivée],Arrivées!W$3,Tableau3[Nat],Arrivées!$C4)","v":0},{"$f":"COUNTIFS(Tableau3[Arrivée],Arrivées!X$3,Tableau3[Nat],Arrivées!$C4)","v":0},{"$f":"COUNTIFS(Tableau3[Arrivée],Arrivées!Y$3,Tableau3[Nat],Arrivées!$C4)","v":0},{"$f":"COUNTIFS(Tableau3[Arrivée],Arrivées!Z$3,Tableau3[Nat],Arrivées!$C4)","v":0},{"$f":"COUNTIFS(Tableau3[Arrivée],Arrivées!AA$3,Tableau3[Nat],Arrivées!$C4)","v":0},{"$f":"COUNTIFS(Tableau3[Arrivée],Arrivées!AB$3,Tableau3[Nat],Arrivées!$C4)","v":0},{"$f":"COUNTIFS(Tableau3[Arrivée],Arrivées!AC$3,Tableau3[Nat],Arrivées!$C4)","v":0},{"$f":"COUNTIFS(Tableau3[Arrivée],Arrivées!AD$3,Tableau3[Nat],Arrivées!$C4)","v":0},{"$f":"COUNTIFS(Tableau3[Arrivée],Arrivées!AE$3,Tableau3[Nat],Arrivées!$C4)","v":0},{"$f":"COUNTIFS(Tableau3[Arrivée],Arrivées!AF$3,Tableau3[Nat],Arrivées!$C4)","v":0},{"$f":"COUNTIFS(Tableau3[Arrivée],Arrivées!AG$3,Tableau3[Nat],Arrivées!$C4)","v":0},{"$f":"COUNTIFS(Tableau3[Arrivée],Arrivées!AH$3,Tableau3[Nat],Arrivées!$C4)","v":0},{"$f":"SUM(D4:AH4)","v":1}]
[null,"Espagne","ES",{"$f":"COUNTIFS(Tableau3[Arrivée],Arrivées!D$3,Tableau3[Nat],Arrivées!$C5)","v":0},{"$f":"COUNTIFS(Tableau3[Arrivée],Arrivées!E$3,Tableau3[Nat],Arrivées!$C5)","v":0},{"$f":"COUNTIFS(Tableau3[Arrivée],Arrivées!F$3,Tableau3[Nat],Arrivées!$C5)","v":0},{"$f":"COUNTIFS(Tableau3[Arrivée],Arrivées!G$3,Tableau3[Nat],Arrivées!$C5)","v":0},{"$f":"COUNTIFS(Tableau3[Arrivée],Arrivées!H$3,Tableau3[Nat],Arrivées!$C5)","v":0},{"$f":"COUNTIFS(Tableau3[Arrivée],Arrivées!I$3,Tableau3[Nat],Arrivées!$C5)","v":0},{"$f":"COUNTIFS(Tableau3[Arrivée],Arrivées!J$3,Tableau3[Nat],Arrivées!$C5)","v":0},{"$f":"COUNTIFS(Tableau3[Arrivée],Arrivées!K$3,Tableau3[Nat],Arrivées!$C5)","v":0},{"$f":"COUNTIFS(Tableau3[Arrivée],Arrivées!L$3,Tableau3[Nat],Arrivées!$C5)","v":0},{"$f":"COUNTIFS(Tableau3[Arrivée],Arrivées!M$3,Tableau3[Nat],Arrivées!$C5)","v":0},{"$f":"COUNTIFS(Tableau3[Arrivée],Arrivées!N$3,Tableau3[Nat],Arrivées!$C5)","v":0},{"$f":"COUNTIFS(Tableau3[Arrivée],Arrivées!O$3,Tableau3[Nat],Arrivées!$C5)","v":0},{"$f":"COUNTIFS(Tableau3[Arrivée],Arrivées!P$3,Tableau3[Nat],Arrivées!$C5)","v":0},{"$f":"COUNTIFS(Tableau3[Arrivée],Arrivées!Q$3,Tableau3[Nat],Arrivées!$C5)","v":0},{"$f":"COUNTIFS(Tableau3[Arrivée],Arrivées!R$3,Tableau3[Nat],Arrivées!$C5)","v":0},{"$f":"COUNTIFS(Tableau3[Arrivée],Arrivées!S$3,Tableau3[Nat],Arrivées!$C5)","v":0},{"$f":"COUNTIFS(Tableau3[Arrivée],Arrivées!T$3,Tableau3[Nat],Arrivées!$C5)","v":0},{"$f":"COUNTIFS(Tableau3[Arrivée],Arrivées!U$3,Tableau3[Nat],Arrivées!$C5)","v":0},{"$f":"COUNTIFS(Tableau3[Arrivée],Arrivées!V$3,Tableau3[Nat],Arrivées!$C5)","v":0},{"$f":"COUNTIFS(Tableau3[Arrivée],Arrivées!W$3,Tableau3[Nat],Arrivées!$C5)","v":0},{"$f":"COUNTIFS(Tableau3[Arrivée],Arrivées!X$3,Tableau3[Nat],Arrivées!$C5)","v":0},{"$f":"COUNTIFS(Tableau3[Arrivée],Arrivées!Y$3,Tableau3[Nat],Arrivées!$C5)","v":0},{"$f":"COUNTIFS(Tableau3[Arrivée],Arrivées!Z$3,Tableau3[Nat],Arrivées!$C5)","v":0},{"$f":"COUNTIFS(Tableau3[Arrivée],Arrivées!AA$3,Tableau3[Nat],Arrivées!$C5)","v":0},{"$f":"COUNTIFS(Tableau3[Arrivée],Arrivées!AB$3,Tableau3[Nat],Arrivées!$C5)","v":0},{"$f":"COUNTIFS(Tableau3[Arrivée],Arrivées!AC$3,Tableau3[Nat],Arrivées!$C5)","v":0},{"$f":"COUNTIFS(Tableau3[Arrivée],Arrivées!AD$3,Tableau3[Nat],Arrivées!$C5)","v":0},{"$f":"COUNTIFS(Tableau3[Arrivée],Arrivées!AE$3,Tableau3[Nat],Arrivées!$C5)","v":0},{"$f":"COUNTIFS(Tableau3[Arrivée],Arrivées!AF$3,Tableau3[Nat],Arrivées!$C5)","v":0},{"$f":"COUNTIFS(Tableau3[Arrivée],Arrivées!AG$3,Tableau3[Nat],Arrivées!$C5)","v":0},{"$f":"COUNTIFS(Tableau3[Arrivée],Arrivées!AH$3,Tableau3[Nat],Arrivées!$C5)","v":0},{"$f":"SUM(D5:AH5)","v":0}]
[null,"Royaume Unis","UK",{"$f":"COUNTIFS(Tableau3[Arrivée],Arrivées!D$3,Tableau3[Nat],Arrivées!$C6)","v":0},{"$f":"COUNTIFS(Tableau3[Arrivée],Arrivées!E$3,Tableau3[Nat],Arrivées!$C6)","v":0},{"$f":"COUNTIFS(Tableau3[Arrivée],Arrivées!F$3,Tableau3[Nat],Arrivées!$C6)","v":0},{"$f":"COUNTIFS(Tableau3[Arrivée],Arrivées!G$3,Tableau3[Nat],Arrivées!$C6)","v":0},{"$f":"COUNTIFS(Tableau3[Arrivée],Arrivées!H$3,Tableau3[Nat],Arrivées!$C6)","v":0},{"$f":"COUNTIFS(Tableau3[Arrivée],Arrivées!I$3,Tableau3[Nat],Arrivées!$C6)","v":0},{"$f":"COUNTIFS(Tableau3[Arrivée],Arrivées!J$3,Tableau3[Nat],Arrivées!$C6)","v":0},{"$f":"COUNTIFS(Tableau3[Arrivée],Arrivées!K$3,Tableau3[Nat],Arrivées!$C6)","v":0},{"$f":"COUNTIFS(Tableau3[Arrivée],Arrivées!L$3,Tableau3[Nat],Arrivées!$C6)","v":0},{"$f":"COUNTIFS(Tableau3[Arrivée],Arrivées!M$3,Tableau3[Nat],Arrivées!$C6)","v":0},{"$f":"COUNTIFS(Tableau3[Arrivée],Arrivées!N$3,Tableau3[Nat],Arrivées!$C6)","v":0},{"$f":"COUNTIFS(Tableau3[Arrivée],Arrivées!O$3,Tableau3[Nat],Arrivées!$C6)","v":0},{"$f":"COUNTIFS(Tableau3[Arrivée],Arrivées!P$3,Tableau3[Nat],Arrivées!$C6)","v":0},{"$f":"COUNTIFS(Tableau3[Arrivée],Arrivées!Q$3,Tableau3[Nat],Arrivées!$C6)","v":0},{"$f":"COUNTIFS(Tableau3[Arrivée],Arrivées!R$3,Tableau3[Nat],Arrivées!$C6)","v":0},{"$f":"COUNTIFS(Tableau3[Arrivée],Arrivées!S$3,Tableau3[Nat],Arrivées!$C6)","v":0},{"$f":"COUNTIFS(Tableau3[Arrivée],Arrivées!T$3,Tableau3[Nat],Arrivées!$C6)","v":0},{"$f":"COUNTIFS(Tableau3[Arrivée],Arrivées!U$3,Tableau3[Nat],Arrivées!$C6)","v":0},{"$f":"COUNTIFS(Tableau3[Arrivée],Arrivées!V$3,Tableau3[Nat],Arrivées!$C6)","v":0},{"$f":"COUNTIFS(Tableau3[Arrivée],Arrivées!W$3,Tableau3[Nat],Arrivées!$C6)","v":0},{"$f":"COUNTIFS(Tableau3[Arrivée],Arrivées!X$3,Tableau3[Nat],Arrivées!$C6)","v":0},{"$f":"COUNTIFS(Tableau3[Arrivée],Arrivées!Y$3,Tableau3[Nat],Arrivées!$C6)","v":0},{"$f":"COUNTIFS(Tableau3[Arrivée],Arrivées!Z$3,Tableau3[Nat],Arrivées!$C6)","v":0},{"$f":"COUNTIFS(Tableau3[Arrivée],Arrivées!AA$3,Tableau3[Nat],Arrivées!$C6)","v":0},{"$f":"COUNTIFS(Tableau3[Arrivée],Arrivées!AB$3,Tableau3[Nat],Arrivées!$C6)","v":0},{"$f":"COUNTIFS(Tableau3[Arrivée],Arrivées!AC$3,Tableau3[Nat],Arrivées!$C6)","v":0},{"$f":"COUNTIFS(Tableau3[Arrivée],Arrivées!AD$3,Tableau3[Nat],Arrivées!$C6)","v":0},{"$f":"COUNTIFS(Tableau3[Arrivée],Arrivées!AE$3,Tableau3[Nat],Arrivées!$C6)","v":0},{"$f":"COUNTIFS(Tableau3[Arrivée],Arrivées!AF$3,Tableau3[Nat],Arrivées!$C6)","v":0},{"$f":"COUNTIFS(Tableau3[Arrivée],Arrivées!AG$3,Tableau3[Nat],Arrivées!$C6)","v":0},{"$f":"COUNTIFS(Tableau3[Arrivée],Arrivées!AH$3,Tableau3[Nat],Arrivées!$C6)","v":0},0]
[null,"Allemagne","DE",{"$f":"COUNTIFS(Tableau3[Arrivée],Arrivées!D$3,Tableau3[Nat],Arrivées!$C7)","v":0},{"$f":"COUNTIFS(Tableau3[Arrivée],Arrivées!E$3,Tableau3[Nat],Arrivées!$C7)","v":0},{"$f":"COUNTIFS(Tableau3[Arrivée],Arrivées!F$3,Tableau3[Nat],Arrivées!$C7)","v":0},{"$f":"COUNTIFS(Tableau3[Arrivée],Arrivées!G$3,Tableau3[Nat],Arrivées!$C7)","v":0},{"$f":"COUNTIFS(Tableau3[Arrivée],Arrivées!H$3,Tableau3[Nat],Arrivées!$C7)","v":0},{"$f":"COUNTIFS(Tableau3[Arrivée],Arrivées!I$3,Tableau3[Nat],Arrivées!$C7)","v":0},{"$f":"COUNTIFS(Tableau3[Arrivée],Arrivées!J$3,Tableau3[Nat],Arrivées!$C7)","v":0},{"$f":"COUNTIFS(Tableau3[Arrivée],Arrivées!K$3,Tableau3[Nat],Arrivées!$C7)","v":0},{"$f":"COUNTIFS(Tableau3[Arrivée],Arrivées!L$3,Tableau3[Nat],Arrivées!$C7)","v":0},{"$f":"COUNTIFS(Tableau3[Arrivée],Arrivées!M$3,Tableau3[Nat],Arrivées!$C7)","v":0},{"$f":"COUNTIFS(Tableau3[Arrivée],Arrivées!N$3,Tableau3[Nat],Arrivées!$C7)","v":0},{"$f":"COUNTIFS(Tableau3[Arrivée],Arrivées!O$3,Tableau3[Nat],Arrivées!$C7)","v":0},{"$f":"COUNTIFS(Tableau3[Arrivée],Arrivées!P$3,Tableau3[Nat],Arrivées!$C7)","v":0},{"$f":"COUNTIFS(Tableau3[Arrivée],Arrivées!Q$3,Tableau3[Nat],Arrivées!$C7)","v":0},{"$f":"COUNTIFS(Tableau3[Arrivée],Arrivées!R$3,Tableau3[Nat],Arrivées!$C7)","v":0},{"$f":"COUNTIFS(Tableau3[Arrivée],Arrivées!S$3,Tableau3[Nat],Arrivées!$C7)","v":0},{"$f":"COUNTIFS(Tableau3[Arrivée],Arrivées!T$3,Tableau3[Nat],Arrivées!$C7)","v":0},{"$f":"COUNTIFS(Tableau3[Arrivée],Arrivées!U$3,Tableau3[Nat],Arrivées!$C7)","v":0},{"$f":"COUNTIFS(Tableau3[Arrivée],Arrivées!V$3,Tableau3[Nat],Arrivées!$C7)","v":0},{"$f":"COUNTIFS(Tableau3[Arrivée],Arrivées!W$3,Tableau3[Nat],Arrivées!$C7)","v":0},{"$f":"COUNTIFS(Tableau3[Arrivée],Arrivées!X$3,Tableau3[Nat],Arrivées!$C7)","v":0},{"$f":"COUNTIFS(Tableau3[Arrivée],Arrivées!Y$3,Tableau3[Nat],Arrivées!$C7)","v":0},{"$f":"COUNTIFS(Tableau3[Arrivée],Arrivées!Z$3,Tableau3[Nat],Arrivées!$C7)","v":0},{"$f":"COUNTIFS(Tableau3[Arrivée],Arrivées!AA$3,Tableau3[Nat],Arrivées!$C7)","v":0},{"$f":"COUNTIFS(Tableau3[Arrivée],Arrivées!AB$3,Tableau3[Nat],Arrivées!$C7)","v":0},{"$f":"COUNTIFS(Tableau3[Arrivée],Arrivées!AC$3,Tableau3[Nat],Arrivées!$C7)","v":0},{"$f":"COUNTIFS(Tableau3[Arrivée],Arrivées!AD$3,Tableau3[Nat],Arrivées!$C7)","v":0},{"$f":"COUNTIFS(Tableau3[Arrivée],Arrivées!AE$3,Tableau3[Nat],Arrivées!$C7)","v":0},{"$f":"COUNTIFS(Tableau3[Arrivée],Arrivées!AF$3,Tableau3[Nat],Arrivées!$C7)","v":0},{"$f":"COUNTIFS(Tableau3[Arrivée],Arrivées!AG$3,Tableau3[Nat],Arrivées!$C7)","v":0},{"$f":"COUNTIFS(Tableau3[Arrivée],Arrivées!AH$3,Tableau3[Nat],Arrivées!$C7)","v":0},0]
[null,"Italie","IT",{"$f":"COUNTIFS(Tableau3[Arrivée],Arrivées!D$3,Tableau3[Nat],Arrivées!$C8)","v":0},{"$f":"COUNTIFS(Tableau3[Arrivée],Arrivées!E$3,Tableau3[Nat],Arrivées!$C8)","v":0},{"$f":"COUNTIFS(Tableau3[Arrivée],Arrivées!F$3,Tableau3[Nat],Arrivées!$C8)","v":0},{"$f":"COUNTIFS(Tableau3[Arrivée],Arrivées!G$3,Tableau3[Nat],Arrivées!$C8)","v":0},{"$f":"COUNTIFS(Tableau3[Arrivée],Arrivées!H$3,Tableau3[Nat],Arrivées!$C8)","v":0},{"$f":"COUNTIFS(Tableau3[Arrivée],Arrivées!I$3,Tableau3[Nat],Arrivées!$C8)","v":0},{"$f":"COUNTIFS(Tableau3[Arrivée],Arrivées!J$3,Tableau3[Nat],Arrivées!$C8)","v":0},{"$f":"COUNTIFS(Tableau3[Arrivée],Arrivées!K$3,Tableau3[Nat],Arrivées!$C8)","v":0},{"$f":"COUNTIFS(Tableau3[Arrivée],Arrivées!L$3,Tableau3[Nat],Arrivées!$C8)","v":0},{"$f":"COUNTIFS(Tableau3[Arrivée],Arrivées!M$3,Tableau3[Nat],Arrivées!$C8)","v":0},{"$f":"COUNTIFS(Tableau3[Arrivée],Arrivées!N$3,Tableau3[Nat],Arrivées!$C8)","v":0},{"$f":"COUNTIFS(Tableau3[Arrivée],Arrivées!O$3,Tableau3[Nat],Arrivées!$C8)","v":0},{"$f":"COUNTIFS(Tableau3[Arrivée],Arrivées!P$3,Tableau3[Nat],Arrivées!$C8)","v":0},{"$f":"COUNTIFS(Tableau3[Arrivée],Arrivées!Q$3,Tableau3[Nat],Arrivées!$C8)","v":0},{"$f":"COUNTIFS(Tableau3[Arrivée],Arrivées!R$3,Tableau3[Nat],Arrivées!$C8)","v":0},{"$f":"COUNTIFS(Tableau3[Arrivée],Arrivées!S$3,Tableau3[Nat],Arrivées!$C8)","v":0},{"$f":"COUNTIFS(Tableau3[Arrivée],Arrivées!T$3,Tableau3[Nat],Arrivées!$C8)","v":0},{"$f":"COUNTIFS(Tableau3[Arrivée],Arrivées!U$3,Tableau3[Nat],Arrivées!$C8)","v":0},{"$f":"COUNTIFS(Tableau3[Arrivée],Arrivées!V$3,Tableau3[Nat],Arrivées!$C8)","v":0},{"$f":"COUNTIFS(Tableau3[Arrivée],Arrivées!W$3,Tableau3[Nat],Arrivées!$C8)","v":0},{"$f":"COUNTIFS(Tableau3[Arrivée],Arrivées!X$3,Tableau3[Nat],Arrivées!$C8)","v":0},{"$f":"COUNTIFS(Tableau3[Arrivée],Arrivées!Y$3,Tableau3[Nat],Arrivées!$C8)","v":0},{"$f":"COUNTIFS(Tableau3[Arrivée],Arrivées!Z$3,Tableau3[Nat],Arrivées!$C8)","v":0},{"$f":"COUNTIFS(Tableau3[Arrivée],Arrivées!AA$3,Tableau3[Nat],Arrivées!$C8)","v":0},{"$f":"COUNTIFS(Tableau3[Arrivée],Arrivées!AB$3,Tableau3[Nat],Arrivées!$C8)","v":0},{"$f":"COUNTIFS(Tableau3[Arrivée],Arrivées!AC$3,Tableau3[Nat],Arrivées!$C8)","v":0},{"$f":"COUNTIFS(Tableau3[Arrivée],Arrivées!AD$3,Tableau3[Nat],Arrivées!$C8)","v":0},{"$f":"COUNTIFS(Tableau3[Arrivée],Arrivées!AE$3,Tableau3[Nat],Arrivées!$C8)","v":0},{"$f":"COUNTIFS(Tableau3[Arrivée],Arrivées!AF$3,Tableau3[Nat],Arrivées!$C8)","v":0},{"$f":"COUNTIFS(Tableau3[Arrivée],Arrivées!AG$3,Tableau3[Nat],Arrivées!$C8)","v":0},{"$f":"COUNTIFS(Tableau3[Arrivée],Arrivées!AH$3,Tableau3[Nat],Arrivées!$C8)","v":0},0]
[null,"Suede ","SU",{"$f":"COUNTIFS(Tableau3[Arrivée],Arrivées!D$3,Tableau3[Nat],Arrivées!$C9)","v":0},{"$f":"COUNTIFS(Tableau3[Arrivée],Arrivées!E$3,Tableau3[Nat],Arrivées!$C9)","v":0},{"$f":"COUNTIFS(Tableau3[Arrivée],Arrivées!F$3,Tableau3[Nat],Arrivées!$C9)","v":0},{"$f":"COUNTIFS(Tableau3[Arrivée],Arrivées!G$3,Tableau3[Nat],Arrivées!$C9)","v":0},{"$f":"COUNTIFS(Tableau3[Arrivée],Arrivées!H$3,Tableau3[Nat],Arrivées!$C9)","v":0},{"$f":"COUNTIFS(Tableau3[Arrivée],Arrivées!I$3,Tableau3[Nat],Arrivées!$C9)","v":0},{"$f":"COUNTIFS(Tableau3[Arrivée],Arrivées!J$3,Tableau3[Nat],Arrivées!$C9)","v":0},{"$f":"COUNTIFS(Tableau3[Arrivée],Arrivées!K$3,Tableau3[Nat],Arrivées!$C9)","v":0},{"$f":"COUNTIFS(Tableau3[Arrivée],Arrivées!L$3,Tableau3[Nat],Arrivées!$C9)","v":0},{"$f":"COUNTIFS(Tableau3[Arrivée],Arrivées!M$3,Tableau3[Nat],Arrivées!$C9)","v":0},{"$f":"COUNTIFS(Tableau3[Arrivée],Arrivées!N$3,Tableau3[Nat],Arrivées!$C9)","v":0},{"$f":"COUNTIFS(Tableau3[Arrivée],Arrivées!O$3,Tableau3[Nat],Arrivées!$C9)","v":0},{"$f":"COUNTIFS(Tableau3[Arrivée],Arrivées!P$3,Tableau3[Nat],Arrivées!$C9)","v":0},{"$f":"COUNTIFS(Tableau3[Arrivée],Arrivées!Q$3,Tableau3[Nat],Arrivées!$C9)","v":0},{"$f":"COUNTIFS(Tableau3[Arrivée],Arrivées!R$3,Tableau3[Nat],Arrivées!$C9)","v":0},{"$f":"COUNTIFS(Tableau3[Arrivée],Arrivées!S$3,Tableau3[Nat],Arrivées!$C9)","v":0},{"$f":"COUNTIFS(Tableau3[Arrivée],Arrivées!T$3,Tableau3[Nat],Arrivées!$C9)","v":0},{"$f":"COUNTIFS(Tableau3[Arrivée],Arrivées!U$3,Tableau3[Nat],Arrivées!$C9)","v":0},{"$f":"COUNTIFS(Tableau3[Arrivée],Arrivées!V$3,Tableau3[Nat],Arrivées!$C9)","v":0},{"$f":"COUNTIFS(Tableau3[Arrivée],Arrivées!W$3,Tableau3[Nat],Arrivées!$C9)","v":0},{"$f":"COUNTIFS(Tableau3[Arrivée],Arrivées!X$3,Tableau3[Nat],Arrivées!$C9)","v":0},{"$f":"COUNTIFS(Tableau3[Arrivée],Arrivées!Y$3,Tableau3[Nat],Arrivées!$C9)","v":0},{"$f":"COUNTIFS(Tableau3[Arrivée],Arrivées!Z$3,Tableau3[Nat],Arrivées!$C9)","v":0},{"$f":"COUNTIFS(Tableau3[Arrivée],Arrivées!AA$3,Tableau3[Nat],Arrivées!$C9)","v":0},{"$f":"COUNTIFS(Tableau3[Arrivée],Arrivées!AB$3,Tableau3[Nat],Arrivées!$C9)","v":0},{"$f":"COUNTIFS(Tableau3[Arrivée],Arrivées!AC$3,Tableau3[Nat],Arrivées!$C9)","v":0},{"$f":"COUNTIFS(Tableau3[Arrivée],Arrivées!AD$3,Tableau3[Nat],Arrivées!$C9)","v":0},{"$f":"COUNTIFS(Tableau3[Arrivée],Arrivées!AE$3,Tableau3[Nat],Arrivées!$C9)","v":0},{"$f":"COUNTIFS(Tableau3[Arrivée],Arrivées!AF$3,Tableau3[Nat],Arrivées!$C9)","v":0},{"$f":"COUNTIFS(Tableau3[Arrivée],Arrivées!AG$3,Tableau3[Nat],Arrivées!$C9)","v":0},{"$f":"COUNTIFS(Tableau3[Arrivée],Arrivées!AH$3,Tableau3[Nat],Arrivées!$C9)","v":0},0]
[null,"Danemark","DK",{"$f":"COUNTIFS(Tableau3[Arrivée],Arrivées!D$3,Tableau3[Nat],Arrivées!$C10)","v":0},{"$f":"COUNTIFS(Tableau3[Arrivée],Arrivées!E$3,Tableau3[Nat],Arrivées!$C10)","v":0},{"$f":"COUNTIFS(Tableau3[Arrivée],Arrivées!F$3,Tableau3[Nat],Arrivées!$C10)","v":0},{"$f":"COUNTIFS(Tableau3[Arrivée],Arrivées!G$3,Tableau3[Nat],Arrivées!$C10)","v":0},{"$f":"COUNTIFS(Tableau3[Arrivée],Arrivées!H$3,Tableau3[Nat],Arrivées!$C10)","v":0},{"$f":"COUNTIFS(Tableau3[Arrivée],Arrivées!I$3,Tableau3[Nat],Arrivées!$C10)","v":0},{"$f":"COUNTIFS(Tableau3[Arrivée],Arrivées!J$3,Tableau3[Nat],Arrivées!$C10)","v":0},{"$f":"COUNTIFS(Tableau3[Arrivée],Arrivées!K$3,Tableau3[Nat],Arrivées!$C10)","v":0},{"$f":"COUNTIFS(Tableau3[Arrivée],Arrivées!L$3,Tableau3[Nat],Arrivées!$C10)","v":0},{"$f":"COUNTIFS(Tableau3[Arrivée],Arrivées!M$3,Tableau3[Nat],Arrivées!$C10)","v":0},{"$f":"COUNTIFS(Tableau3[Arrivée],Arrivées!N$3,Tableau3[Nat],Arrivées!$C10)","v":0},{"$f":"COUNTIFS(Tableau3[Arrivée],Arrivées!O$3,Tableau3[Nat],Arrivées!$C10)","v":0},{"$f":"COUNTIFS(Tableau3[Arrivée],Arrivées!P$3,Tableau3[Nat],Arrivées!$C10)","v":0},{"$f":"COUNTIFS(Tableau3[Arrivée],Arrivées!Q$3,Tableau3[Nat],Arrivées!$C10)","v":0},{"$f":"COUNTIFS(Tableau3[Arrivée],Arrivées!R$3,Tableau3[Nat],Arrivées!$C10)","v":0},{"$f":"COUNTIFS(Tableau3[Arrivée],Arrivées!S$3,Tableau3[Nat],Arrivées!$C10)","v":0},{"$f":"COUNTIFS(Tableau3[Arrivée],Arrivées!T$3,Tableau3[Nat],Arrivées!$C10)","v":0},{"$f":"COUNTIFS(Tableau3[Arrivée],Arrivées!U$3,Tableau3[Nat],Arrivées!$C10)","v":0},{"$f":"COUNTIFS(Tableau3[Arrivée],Arrivées!V$3,Tableau3[Nat],Arrivées!$C10)","v":0},{"$f":"COUNTIFS(Tableau3[Arrivée],Arrivées!W$3,Tableau3[Nat],Arrivées!$C10)","v":0},{"$f":"COUNTIFS(Tableau3[Arrivée],Arrivées!X$3,Tableau3[Nat],Arrivées!$C10)","v":0},{"$f":"COUNTIFS(Tableau3[Arrivée],Arrivées!Y$3,Tableau3[Nat],Arrivées!$C10)","v":0},{"$f":"COUNTIFS(Tableau3[Arrivée],Arrivées!Z$3,Tableau3[Nat],Arrivées!$C10)","v":0},{"$f":"COUNTIFS(Tableau3[Arrivée],Arrivées!AA$3,Tableau3[Nat],Arrivées!$C10)","v":0},{"$f":"COUNTIFS(Tableau3[Arrivée],Arrivées!AB$3,Tableau3[Nat],Arrivées!$C10)","v":0},{"$f":"COUNTIFS(Tableau3[Arrivée],Arrivées!AC$3,Tableau3[Nat],Arrivées!$C10)","v":0},{"$f":"COUNTIFS(Tableau3[Arrivée],Arrivées!AD$3,Tableau3[Nat],Arrivées!$C10)","v":0},{"$f":"COUNTIFS(Tableau3[Arrivée],Arrivées!AE$3,Tableau3[Nat],Arrivées!$C10)","v":0},{"$f":"COUNTIFS(Tableau3[Arrivée],Arrivées!AF$3,Tableau3[Nat],Arrivées!$C10)","v":0},{"$f":"COUNTIFS(Tableau3[Arrivée],Arrivées!AG$3,Tableau3[Nat],Arrivées!$C10)","v":0},{"$f":"COUNTIFS(Tableau3[Arrivée],Arrivées!AH$3,Tableau3[Nat],Arrivées!$C10)","v":0},0]
[null,"Finlande","FN",{"$f":"COUNTIFS(Tableau3[Arrivée],Arrivées!D$3,Tableau3[Nat],Arrivées!$C11)","v":0},{"$f":"COUNTIFS(Tableau3[Arrivée],Arrivées!E$3,Tableau3[Nat],Arrivées!$C11)","v":0},{"$f":"COUNTIFS(Tableau3[Arrivée],Arrivées!F$3,Tableau3[Nat],Arrivées!$C11)","v":0},{"$f":"COUNTIFS(Tableau3[Arrivée],Arrivées!G$3,Tableau3[Nat],Arrivées!$C11)","v":0},{"$f":"COUNTIFS(Tableau3[Arrivée],Arrivées!H$3,Tableau3[Nat],Arrivées!$C11)","v":0},{"$f":"COUNTIFS(Tableau3[Arrivée],Arrivées!I$3,Tableau3[Nat],Arrivées!$C11)","v":0},{"$f":"COUNTIFS(Tableau3[Arrivée],Arrivées!J$3,Tableau3[Nat],Arrivées!$C11)","v":0},{"$f":"COUNTIFS(Tableau3[Arrivée],Arrivées!K$3,Tableau3[Nat],Arrivées!$C11)","v":0},{"$f":"COUNTIFS(Tableau3[Arrivée],Arrivées!L$3,Tableau3[Nat],Arrivées!$C11)","v":0},{"$f":"COUNTIFS(Tableau3[Arrivée],Arrivées!M$3,Tableau3[Nat],Arrivées!$C11)","v":0},{"$f":"COUNTIFS(Tableau3[Arrivée],Arrivées!N$3,Tableau3[Nat],Arrivées!$C11)","v":0},{"$f":"COUNTIFS(Tableau3[Arrivée],Arrivées!O$3,Tableau3[Nat],Arrivées!$C11)","v":0},{"$f":"COUNTIFS(Tableau3[Arrivée],Arrivées!P$3,Tableau3[Nat],Arrivées!$C11)","v":0},{"$f":"COUNTIFS(Tableau3[Arrivée],Arrivées!Q$3,Tableau3[Nat],Arrivées!$C11)","v":0},{"$f":"COUNTIFS(Tableau3[Arrivée],Arrivées!R$3,Tableau3[Nat],Arrivées!$C11)","v":0},{"$f":"COUNTIFS(Tableau3[Arrivée],Arrivées!S$3,Tableau3[Nat],Arrivées!$C11)","v":0},{"$f":"COUNTIFS(Tableau3[Arrivée],Arrivées!T$3,Tableau3[Nat],Arrivées!$C11)","v":0},{"$f":"COUNTIFS(Tableau3[Arrivée],Arrivées!U$3,Tableau3[Nat],Arrivées!$C11)","v":0},{"$f":"COUNTIFS(Tableau3[Arrivée],Arrivées!V$3,Tableau3[Nat],Arrivées!$C11)","v":0},{"$f":"COUNTIFS(Tableau3[Arrivée],Arrivées!W$3,Tableau3[Nat],Arrivées!$C11)","v":0},{"$f":"COUNTIFS(Tableau3[Arrivée],Arrivées!X$3,Tableau3[Nat],Arrivées!$C11)","v":0},{"$f":"COUNTIFS(Tableau3[Arrivée],Arrivées!Y$3,Tableau3[Nat],Arrivées!$C11)","v":0},{"$f":"COUNTIFS(Tableau3[Arrivée],Arrivées!Z$3,Tableau3[Nat],Arrivées!$C11)","v":0},{"$f":"COUNTIFS(Tableau3[Arrivée],Arrivées!AA$3,Tableau3[Nat],Arrivées!$C11)","v":0},{"$f":"COUNTIFS(Tableau3[Arrivée],Arrivées!AB$3,Tableau3[Nat],Arrivées!$C11)","v":0},{"$f":"COUNTIFS(Tableau3[Arrivée],Arrivées!AC$3,Tableau3[Nat],Arrivées!$C11)","v":0},{"$f":"COUNTIFS(Tableau3[Arrivée],Arrivées!AD$3,Tableau3[Nat],Arrivées!$C11)","v":0},{"$f":"COUNTIFS(Tableau3[Arrivée],Arrivées!AE$3,Tableau3[Nat],Arrivées!$C11)","v":0},{"$f":"COUNTIFS(Tableau3[Arrivée],Arrivées!AF$3,Tableau3[Nat],Arrivées!$C11)","v":0},{"$f":"COUNTIFS(Tableau3[Arrivée],Arrivées!AG$3,Tableau3[Nat],Arrivées!$C11)","v":0},{"$f":"COUNTIFS(Tableau3[Arrivée],Arrivées!AH$3,Tableau3[Nat],Arrivées!$C11)","v":0},0]
[null,"Norvège","NO",{"$f":"COUNTIFS(Tableau3[Arrivée],Arrivées!D$3,Tableau3[Nat],Arrivées!$C12)","v":0},{"$f":"COUNTIFS(Tableau3[Arrivée],Arrivées!E$3,Tableau3[Nat],Arrivées!$C12)","v":0},{"$f":"COUNTIFS(Tableau3[Arrivée],Arrivées!F$3,Tableau3[Nat],Arrivées!$C12)","v":0},{"$f":"COUNTIFS(Tableau3[Arrivée],Arrivées!G$3,Tableau3[Nat],Arrivées!$C12)","v":0},{"$f":"COUNTIFS(Tableau3[Arrivée],Arrivées!H$3,Tableau3[Nat],Arrivées!$C12)","v":0},{"$f":"COUNTIFS(Tableau3[Arrivée],Arrivées!I$3,Tableau3[Nat],Arrivées!$C12)","v":0},{"$f":"COUNTIFS(Tableau3[Arrivée],Arrivées!J$3,Tableau3[Nat],Arrivées!$C12)","v":0},{"$f":"COUNTIFS(Tableau3[Arrivée],Arrivées!K$3,Tableau3[Nat],Arrivées!$C12)","v":0},{"$f":"COUNTIFS(Tableau3[Arrivée],Arrivées!L$3,Tableau3[Nat],Arrivées!$C12)","v":0},{"$f":"COUNTIFS(Tableau3[Arrivée],Arrivées!M$3,Tableau3[Nat],Arrivées!$C12)","v":0},{"$f":"COUNTIFS(Tableau3[Arrivée],Arrivées!N$3,Tableau3[Nat],Arrivées!$C12)","v":0},{"$f":"COUNTIFS(Tableau3[Arrivée],Arrivées!O$3,Tableau3[Nat],Arrivées!$C12)","v":0},{"$f":"COUNTIFS(Tableau3[Arrivée],Arrivées!P$3,Tableau3[Nat],Arrivées!$C12)","v":0},{"$f":"COUNTIFS(Tableau3[Arrivée],Arrivées!Q$3,Tableau3[Nat],Arrivées!$C12)","v":0},{"$f":"COUNTIFS(Tableau3[Arrivée],Arrivées!R$3,Tableau3[Nat],Arrivées!$C12)","v":0},{"$f":"COUNTIFS(Tableau3[Arrivée],Arrivées!S$3,Tableau3[Nat],Arrivées!$C12)","v":0},{"$f":"COUNTIFS(Tableau3[Arrivée],Arrivées!T$3,Tableau3[Nat],Arrivées!$C12)","v":0},{"$f":"COUNTIFS(Tableau3[Arrivée],Arrivées!U$3,Tableau3[Nat],Arrivées!$C12)","v":0},{"$f":"COUNTIFS(Tableau3[Arrivée],Arrivées!V$3,Tableau3[Nat],Arrivées!$C12)","v":0},{"$f":"COUNTIFS(Tableau3[Arrivée],Arrivées!W$3,Tableau3[Nat],Arrivées!$C12)","v":0},{"$f":"COUNTIFS(Tableau3[Arrivée],Arrivées!X$3,Tableau3[Nat],Arrivées!$C12)","v":0},{"$f":"COUNTIFS(Tableau3[Arrivée],Arrivées!Y$3,Tableau3[Nat],Arrivées!$C12)","v":0},{"$f":"COUNTIFS(Tableau3[Arrivée],Arrivées!Z$3,Tableau3[Nat],Arrivées!$C12)","v":0},{"$f":"COUNTIFS(Tableau3[Arrivée],Arrivées!AA$3,Tableau3[Nat],Arrivées!$C12)","v":0},{"$f":"COUNTIFS(Tableau3[Arrivée],Arrivées!AB$3,Tableau3[Nat],Arrivées!$C12)","v":0},{"$f":"COUNTIFS(Tableau3[Arrivée],Arrivées!AC$3,Tableau3[Nat],Arrivées!$C12)","v":0},{"$f":"COUNTIFS(Tableau3[Arrivée],Arrivées!AD$3,Tableau3[Nat],Arrivées!$C12)","v":0},{"$f":"COUNTIFS(Tableau3[Arrivée],Arrivées!AE$3,Tableau3[Nat],Arrivées!$C12)","v":0},{"$f":"COUNTIFS(Tableau3[Arrivée],Arrivées!AF$3,Tableau3[Nat],Arrivées!$C12)","v":0},{"$f":"COUNTIFS(Tableau3[Arrivée],Arrivées!AG$3,Tableau3[Nat],Arrivées!$C12)","v":0},{"$f":"COUNTIFS(Tableau3[Arrivée],Arrivées!AH$3,Tableau3[Nat],Arrivées!$C12)","v":0},0]
[null,"Autriche","AT",{"$f":"COUNTIFS(Tableau3[Arrivée],Arrivées!D$3,Tableau3[Nat],Arrivées!$C13)","v":0},{"$f":"COUNTIFS(Tableau3[Arrivée],Arrivées!E$3,Tableau3[Nat],Arrivées!$C13)","v":0},{"$f":"COUNTIFS(Tableau3[Arrivée],Arrivées!F$3,Tableau3[Nat],Arrivées!$C13)","v":0},{"$f":"COUNTIFS(Tableau3[Arrivée],Arrivées!G$3,Tableau3[Nat],Arrivées!$C13)","v":0},{"$f":"COUNTIFS(Tableau3[Arrivée],Arrivées!H$3,Tableau3[Nat],Arrivées!$C13)","v":0},{"$f":"COUNTIFS(Tableau3[Arrivée],Arrivées!I$3,Tableau3[Nat],Arrivées!$C13)","v":0},{"$f":"COUNTIFS(Tableau3[Arrivée],Arrivées!J$3,Tableau3[Nat],Arrivées!$C13)","v":0},{"$f":"COUNTIFS(Tableau3[Arrivée],Arrivées!K$3,Tableau3[Nat],Arrivées!$C13)","v":0},{"$f":"COUNTIFS(Tableau3[Arrivée],Arrivées!L$3,Tableau3[Nat],Arrivées!$C13)","v":0},{"$f":"COUNTIFS(Tableau3[Arrivée],Arrivées!M$3,Tableau3[Nat],Arrivées!$C13)","v":0},{"$f":"COUNTIFS(Tableau3[Arrivée],Arrivées!N$3,Tableau3[Nat],Arrivées!$C13)","v":0},{"$f":"COUNTIFS(Tableau3[Arrivée],Arrivées!O$3,Tableau3[Nat],Arrivées!$C13)","v":0},{"$f":"COUNTIFS(Tableau3[Arrivée],Arrivées!P$3,Tableau3[Nat],Arrivées!$C13)","v":0},{"$f":"COUNTIFS(Tableau3[Arrivée],Arrivées!Q$3,Tableau3[Nat],Arrivées!$C13)","v":0},{"$f":"COUNTIFS(Tableau3[Arrivée],Arrivées!R$3,Tableau3[Nat],Arrivées!$C13)","v":0},{"$f":"COUNTIFS(Tableau3[Arrivée],Arrivées!S$3,Tableau3[Nat],Arrivées!$C13)","v":0},{"$f":"COUNTIFS(Tableau3[Arrivée],Arrivées!T$3,Tableau3[Nat],Arrivées!$C13)","v":0},{"$f":"COUNTIFS(Tableau3[Arrivée],Arrivées!U$3,Tableau3[Nat],Arrivées!$C13)","v":0},{"$f":"COUNTIFS(Tableau3[Arrivée],Arrivées!V$3,Tableau3[Nat],Arrivées!$C13)","v":0},{"$f":"COUNTIFS(Tableau3[Arrivée],Arrivées!W$3,Tableau3[Nat],Arrivées!$C13)","v":0},{"$f":"COUNTIFS(Tableau3[Arrivée],Arrivées!X$3,Tableau3[Nat],Arrivées!$C13)","v":0},{"$f":"COUNTIFS(Tableau3[Arrivée],Arrivées!Y$3,Tableau3[Nat],Arrivées!$C13)","v":0},{"$f":"COUNTIFS(Tableau3[Arrivée],Arrivées!Z$3,Tableau3[Nat],Arrivées!$C13)","v":0},{"$f":"COUNTIFS(Tableau3[Arrivée],Arrivées!AA$3,Tableau3[Nat],Arrivées!$C13)","v":0},{"$f":"COUNTIFS(Tableau3[Arrivée],Arrivées!AB$3,Tableau3[Nat],Arrivées!$C13)","v":0},{"$f":"COUNTIFS(Tableau3[Arrivée],Arrivées!AC$3,Tableau3[Nat],Arrivées!$C13)","v":0},{"$f":"COUNTIFS(Tableau3[Arrivée],Arrivées!AD$3,Tableau3[Nat],Arrivées!$C13)","v":0},{"$f":"COUNTIFS(Tableau3[Arrivée],Arrivées!AE$3,Tableau3[Nat],Arrivées!$C13)","v":0},{"$f":"COUNTIFS(Tableau3[Arrivée],Arrivées!AF$3,Tableau3[Nat],Arrivées!$C13)","v":0},{"$f":"COUNTIFS(Tableau3[Arrivée],Arrivées!AG$3,Tableau3[Nat],Arrivées!$C13)","v":0},{"$f":"COUNTIFS(Tableau3[Arrivée],Arrivées!AH$3,Tableau3[Nat],Arrivées!$C13)","v":0},0]
[null,"Portugal","PT",{"$f":"COUNTIFS(Tableau3[Arrivée],Arrivées!D$3,Tableau3[Nat],Arrivées!$C14)","v":0},{"$f":"COUNTIFS(Tableau3[Arrivée],Arrivées!E$3,Tableau3[Nat],Arrivées!$C14)","v":0},{"$f":"COUNTIFS(Tableau3[Arrivée],Arrivées!F$3,Tableau3[Nat],Arrivées!$C14)","v":0},{"$f":"COUNTIFS(Tableau3[Arrivée],Arrivées!G$3,Tableau3[Nat],Arrivées!$C14)","v":0},{"$f":"COUNTIFS(Tableau3[Arrivée],Arrivées!H$3,Tableau3[Nat],Arrivées!$C14)","v":0},{"$f":"COUNTIFS(Tableau3[Arrivée],Arrivées!I$3,Tableau3[Nat],Arrivées!$C14)","v":0},{"$f":"COUNTIFS(Tableau3[Arrivée],Arrivées!J$3,Tableau3[Nat],Arrivées!$C14)","v":0},{"$f":"COUNTIFS(Tableau3[Arrivée],Arrivées!K$3,Tableau3[Nat],Arrivées!$C14)","v":0},{"$f":"COUNTIFS(Tableau3[Arrivée],Arrivées!L$3,Tableau3[Nat],Arrivées!$C14)","v":0},{"$f":"COUNTIFS(Tableau3[Arrivée],Arrivées!M$3,Tableau3[Nat],Arrivées!$C14)","v":0},{"$f":"COUNTIFS(Tableau3[Arrivée],Arrivées!N$3,Tableau3[Nat],Arrivées!$C14)","v":0},{"$f":"COUNTIFS(Tableau3[Arrivée],Arrivées!O$3,Tableau3[Nat],Arrivées!$C14)","v":0},{"$f":"COUNTIFS(Tableau3[Arrivée],Arrivées!P$3,Tableau3[Nat],Arrivées!$C14)","v":0},{"$f":"COUNTIFS(Tableau3[Arrivée],Arrivées!Q$3,Tableau3[Nat],Arrivées!$C14)","v":0},{"$f":"COUNTIFS(Tableau3[Arrivée],Arrivées!R$3,Tableau3[Nat],Arrivées!$C14)","v":0},{"$f":"COUNTIFS(Tableau3[Arrivée],Arrivées!S$3,Tableau3[Nat],Arrivées!$C14)","v":0},{"$f":"COUNTIFS(Tableau3[Arrivée],Arrivées!T$3,Tableau3[Nat],Arrivées!$C14)","v":0},{"$f":"COUNTIFS(Tableau3[Arrivée],Arrivées!U$3,Tableau3[Nat],Arrivées!$C14)","v":0},{"$f":"COUNTIFS(Tableau3[Arrivée],Arrivées!V$3,Tableau3[Nat],Arrivées!$C14)","v":0},{"$f":"COUNTIFS(Tableau3[Arrivée],Arrivées!W$3,Tableau3[Nat],Arrivées!$C14)","v":0},{"$f":"COUNTIFS(Tableau3[Arrivée],Arrivées!X$3,Tableau3[Nat],Arrivées!$C14)","v":0},{"$f":"COUNTIFS(Tableau3[Arrivée],Arrivées!Y$3,Tableau3[Nat],Arrivées!$C14)","v":0},{"$f":"COUNTIFS(Tableau3[Arrivée],Arrivées!Z$3,Tableau3[Nat],Arrivées!$C14)","v":0},{"$f":"COUNTIFS(Tableau3[Arrivée],Arrivées!AA$3,Tableau3[Nat],Arrivées!$C14)","v":0},{"$f":"COUNTIFS(Tableau3[Arrivée],Arrivées!AB$3,Tableau3[Nat],Arrivées!$C14)","v":0},{"$f":"COUNTIFS(Tableau3[Arrivée],Arrivées!AC$3,Tableau3[Nat],Arrivées!$C14)","v":0},{"$f":"COUNTIFS(Tableau3[Arrivée],Arrivées!AD$3,Tableau3[Nat],Arrivées!$C14)","v":0},{"$f":"COUNTIFS(Tableau3[Arrivée],Arrivées!AE$3,Tableau3[Nat],Arrivées!$C14)","v":0},{"$f":"COUNTIFS(Tableau3[Arrivée],Arrivées!AF$3,Tableau3[Nat],Arrivées!$C14)","v":0},{"$f":"COUNTIFS(Tableau3[Arrivée],Arrivées!AG$3,Tableau3[Nat],Arrivées!$C14)","v":0},{"$f":"COUNTIFS(Tableau3[Arrivée],Arrivées!AH$3,Tableau3[Nat],Arrivées!$C14)","v":0},0]
[null,"Hollande","NL",{"$f":"COUNTIFS(Tableau3[Arrivée],Arrivées!D$3,Tableau3[Nat],Arrivées!$C15)","v":0},{"$f":"COUNTIFS(Tableau3[Arrivée],Arrivées!E$3,Tableau3[Nat],Arrivées!$C15)","v":0},{"$f":"COUNTIFS(Tableau3[Arrivée],Arrivées!F$3,Tableau3[Nat],Arrivées!$C15)","v":0},{"$f":"COUNTIFS(Tableau3[Arrivée],Arrivées!G$3,Tableau3[Nat],Arrivées!$C15)","v":0},{"$f":"COUNTIFS(Tableau3[Arrivée],Arrivées!H$3,Tableau3[Nat],Arrivées!$C15)","v":0},{"$f":"COUNTIFS(Tableau3[Arrivée],Arrivées!I$3,Tableau3[Nat],Arrivées!$C15)","v":0},{"$f":"COUNTIFS(Tableau3[Arrivée],Arrivées!J$3,Tableau3[Nat],Arrivées!$C15)","v":0},{"$f":"COUNTIFS(Tableau3[Arrivée],Arrivées!K$3,Tableau3[Nat],Arrivées!$C15)","v":0},{"$f":"COUNTIFS(Tableau3[Arrivée],Arrivées!L$3,Tableau3[Nat],Arrivées!$C15)","v":0},{"$f":"COUNTIFS(Tableau3[Arrivée],Arrivées!M$3,Tableau3[Nat],Arrivées!$C15)","v":0},{"$f":"COUNTIFS(Tableau3[Arrivée],Arrivées!N$3,Tableau3[Nat],Arrivées!$C15)","v":0},{"$f":"COUNTIFS(Tableau3[Arrivée],Arrivées!O$3,Tableau3[Nat],Arrivées!$C15)","v":0},{"$f":"COUNTIFS(Tableau3[Arrivée],Arrivées!P$3,Tableau3[Nat],Arrivées!$C15)","v":0},{"$f":"COUNTIFS(Tableau3[Arrivée],Arrivées!Q$3,Tableau3[Nat],Arrivées!$C15)","v":0},{"$f":"COUNTIFS(Tableau3[Arrivée],Arrivées!R$3,Tableau3[Nat],Arrivées!$C15)","v":0},{"$f":"COUNTIFS(Tableau3[Arrivée],Arrivées!S$3,Tableau3[Nat],Arrivées!$C15)","v":0},{"$f":"COUNTIFS(Tableau3[Arrivée],Arrivées!T$3,Tableau3[Nat],Arrivées!$C15)","v":0},{"$f":"COUNTIFS(Tableau3[Arrivée],Arrivées!U$3,Tableau3[Nat],Arrivées!$C15)","v":0},{"$f":"COUNTIFS(Tableau3[Arrivée],Arrivées!V$3,Tableau3[Nat],Arrivées!$C15)","v":0},{"$f":"COUNTIFS(Tableau3[Arrivée],Arrivées!W$3,Tableau3[Nat],Arrivées!$C15)","v":0},{"$f":"COUNTIFS(Tableau3[Arrivée],Arrivées!X$3,Tableau3[Nat],Arrivées!$C15)","v":0},{"$f":"COUNTIFS(Tableau3[Arrivée],Arrivées!Y$3,Tableau3[Nat],Arrivées!$C15)","v":0},{"$f":"COUNTIFS(Tableau3[Arrivée],Arrivées!Z$3,Tableau3[Nat],Arrivées!$C15)","v":0},{"$f":"COUNTIFS(Tableau3[Arrivée],Arrivées!AA$3,Tableau3[Nat],Arrivées!$C15)","v":0},{"$f":"COUNTIFS(Tableau3[Arrivée],Arrivées!AB$3,Tableau3[Nat],Arrivées!$C15)","v":0},{"$f":"COUNTIFS(Tableau3[Arrivée],Arrivées!AC$3,Tableau3[Nat],Arrivées!$C15)","v":0},{"$f":"COUNTIFS(Tableau3[Arrivée],Arrivées!AD$3,Tableau3[Nat],Arrivées!$C15)","v":0},{"$f":"COUNTIFS(Tableau3[Arrivée],Arrivées!AE$3,Tableau3[Nat],Arrivées!$C15)","v":0},{"$f":"COUNTIFS(Tableau3[Arrivée],Arrivées!AF$3,Tableau3[Nat],Arrivées!$C15)","v":0},{"$f":"COUNTIFS(Tableau3[Arrivée],Arrivées!AG$3,Tableau3[Nat],Arrivées!$C15)","v":0},{"$f":"COUNTIFS(Tableau3[Arrivée],Arrivées!AH$3,Tableau3[Nat],Arrivées!$C15)","v":0},0]
[null,"Belgique","BE",{"$f":"COUNTIFS(Tableau3[Arrivée],Arrivées!D$3,Tableau3[Nat],Arrivées!$C16)","v":0},{"$f":"COUNTIFS(Tableau3[Arrivée],Arrivées!E$3,Tableau3[Nat],Arrivées!$C16)","v":0},{"$f":"COUNTIFS(Tableau3[Arrivée],Arrivées!F$3,Tableau3[Nat],Arrivées!$C16)","v":0},{"$f":"COUNTIFS(Tableau3[Arrivée],Arrivées!G$3,Tableau3[Nat],Arrivées!$C16)","v":0},{"$f":"COUNTIFS(Tableau3[Arrivée],Arrivées!H$3,Tableau3[Nat],Arrivées!$C16)","v":0},{"$f":"COUNTIFS(Tableau3[Arrivée],Arrivées!I$3,Tableau3[Nat],Arrivées!$C16)","v":0},{"$f":"COUNTIFS(Tableau3[Arrivée],Arrivées!J$3,Tableau3[Nat],Arrivées!$C16)","v":0},{"$f":"COUNTIFS(Tableau3[Arrivée],Arrivées!K$3,Tableau3[Nat],Arrivées!$C16)","v":0},{"$f":"COUNTIFS(Tableau3[Arrivée],Arrivées!L$3,Tableau3[Nat],Arrivées!$C16)","v":0},{"$f":"COUNTIFS(Tableau3[Arrivée],Arrivées!M$3,Tableau3[Nat],Arrivées!$C16)","v":0},{"$f":"COUNTIFS(Tableau3[Arrivée],Arrivées!N$3,Tableau3[Nat],Arrivées!$C16)","v":0},{"$f":"COUNTIFS(Tableau3[Arrivée],Arrivées!O$3,Tableau3[Nat],Arrivées!$C16)","v":0},{"$f":"COUNTIFS(Tableau3[Arrivée],Arrivées!P$3,Tableau3[Nat],Arrivées!$C16)","v":0},{"$f":"COUNTIFS(Tableau3[Arrivée],Arrivées!Q$3,Tableau3[Nat],Arrivées!$C16)","v":0},{"$f":"COUNTIFS(Tableau3[Arrivée],Arrivées!R$3,Tableau3[Nat],Arrivées!$C16)","v":0},{"$f":"COUNTIFS(Tableau3[Arrivée],Arrivées!S$3,Tableau3[Nat],Arrivées!$C16)","v":0},{"$f":"COUNTIFS(Tableau3[Arrivée],Arrivées!T$3,Tableau3[Nat],Arrivées!$C16)","v":0},{"$f":"COUNTIFS(Tableau3[Arrivée],Arrivées!U$3,Tableau3[Nat],Arrivées!$C16)","v":0},{"$f":"COUNTIFS(Tableau3[Arrivée],Arrivées!V$3,Tableau3[Nat],Arrivées!$C16)","v":0},{"$f":"COUNTIFS(Tableau3[Arrivée],Arrivées!W$3,Tableau3[Nat],Arrivées!$C16)","v":0},{"$f":"COUNTIFS(Tableau3[Arrivée],Arrivées!X$3,Tableau3[Nat],Arrivées!$C16)","v":0},{"$f":"COUNTIFS(Tableau3[Arrivée],Arrivées!Y$3,Tableau3[Nat],Arrivées!$C16)","v":0},{"$f":"COUNTIFS(Tableau3[Arrivée],Arrivées!Z$3,Tableau3[Nat],Arrivées!$C16)","v":0},{"$f":"COUNTIFS(Tableau3[Arrivée],Arrivées!AA$3,Tableau3[Nat],Arrivées!$C16)","v":0},{"$f":"COUNTIFS(Tableau3[Arrivée],Arrivées!AB$3,Tableau3[Nat],Arrivées!$C16)","v":0},{"$f":"COUNTIFS(Tableau3[Arrivée],Arrivées!AC$3,Tableau3[Nat],Arrivées!$C16)","v":0},{"$f":"COUNTIFS(Tableau3[Arrivée],Arrivées!AD$3,Tableau3[Nat],Arrivées!$C16)","v":0},{"$f":"COUNTIFS(Tableau3[Arrivée],Arrivées!AE$3,Tableau3[Nat],Arrivées!$C16)","v":0},{"$f":"COUNTIFS(Tableau3[Arrivée],Arrivées!AF$3,Tableau3[Nat],Arrivées!$C16)","v":0},{"$f":"COUNTIFS(Tableau3[Arrivée],Arrivées!AG$3,Tableau3[Nat],Arrivées!$C16)","v":0},{"$f":"COUNTIFS(Tableau3[Arrivée],Arrivées!AH$3,Tableau3[Nat],Arrivées!$C16)","v":0},0]
[null,"Suisse","CH",{"$f":"COUNTIFS(Tableau3[Arrivée],Arrivées!D$3,Tableau3[Nat],Arrivées!$C17)","v":0},{"$f":"COUNTIFS(Tableau3[Arrivée],Arrivées!E$3,Tableau3[Nat],Arrivées!$C17)","v":0},{"$f":"COUNTIFS(Tableau3[Arrivée],Arrivées!F$3,Tableau3[Nat],Arrivées!$C17)","v":0},{"$f":"COUNTIFS(Tableau3[Arrivée],Arrivées!G$3,Tableau3[Nat],Arrivées!$C17)","v":0},{"$f":"COUNTIFS(Tableau3[Arrivée],Arrivées!H$3,Tableau3[Nat],Arrivées!$C17)","v":0},{"$f":"COUNTIFS(Tableau3[Arrivée],Arrivées!I$3,Tableau3[Nat],Arrivées!$C17)","v":0},{"$f":"COUNTIFS(Tableau3[Arrivée],Arrivées!J$3,Tableau3[Nat],Arrivées!$C17)","v":0},{"$f":"COUNTIFS(Tableau3[Arrivée],Arrivées!K$3,Tableau3[Nat],Arrivées!$C17)","v":0},{"$f":"COUNTIFS(Tableau3[Arrivée],Arrivées!L$3,Tableau3[Nat],Arrivées!$C17)","v":0},{"$f":"COUNTIFS(Tableau3[Arrivée],Arrivées!M$3,Tableau3[Nat],Arrivées!$C17)","v":0},{"$f":"COUNTIFS(Tableau3[Arrivée],Arrivées!N$3,Tableau3[Nat],Arrivées!$C17)","v":0},{"$f":"COUNTIFS(Tableau3[Arrivée],Arrivées!O$3,Tableau3[Nat],Arrivées!$C17)","v":0},{"$f":"COUNTIFS(Tableau3[Arrivée],Arrivées!P$3,Tableau3[Nat],Arrivées!$C17)","v":0},{"$f":"COUNTIFS(Tableau3[Arrivée],Arrivées!Q$3,Tableau3[Nat],Arrivées!$C17)","v":0},{"$f":"COUNTIFS(Tableau3[Arrivée],Arrivées!R$3,Tableau3[Nat],Arrivées!$C17)","v":0},{"$f":"COUNTIFS(Tableau3[Arrivée],Arrivées!S$3,Tableau3[Nat],Arrivées!$C17)","v":0},{"$f":"COUNTIFS(Tableau3[Arrivée],Arrivées!T$3,Tableau3[Nat],Arrivées!$C17)","v":0},{"$f":"COUNTIFS(Tableau3[Arrivée],Arrivées!U$3,Tableau3[Nat],Arrivées!$C17)","v":0},{"$f":"COUNTIFS(Tableau3[Arrivée],Arrivées!V$3,Tableau3[Nat],Arrivées!$C17)","v":0},{"$f":"COUNTIFS(Tableau3[Arrivée],Arrivées!W$3,Tableau3[Nat],Arrivées!$C17)","v":0},{"$f":"COUNTIFS(Tableau3[Arrivée],Arrivées!X$3,Tableau3[Nat],Arrivées!$C17)","v":0},{"$f":"COUNTIFS(Tableau3[Arrivée],Arrivées!Y$3,Tableau3[Nat],Arrivées!$C17)","v":0},{"$f":"COUNTIFS(Tableau3[Arrivée],Arrivées!Z$3,Tableau3[Nat],Arrivées!$C17)","v":0},{"$f":"COUNTIFS(Tableau3[Arrivée],Arrivées!AA$3,Tableau3[Nat],Arrivées!$C17)","v":0},{"$f":"COUNTIFS(Tableau3[Arrivée],Arrivées!AB$3,Tableau3[Nat],Arrivées!$C17)","v":0},{"$f":"COUNTIFS(Tableau3[Arrivée],Arrivées!AC$3,Tableau3[Nat],Arrivées!$C17)","v":0},{"$f":"COUNTIFS(Tableau3[Arrivée],Arrivées!AD$3,Tableau3[Nat],Arrivées!$C17)","v":0},{"$f":"COUNTIFS(Tableau3[Arrivée],Arrivées!AE$3,Tableau3[Nat],Arrivées!$C17)","v":0},{"$f":"COUNTIFS(Tableau3[Arrivée],Arrivées!AF$3,Tableau3[Nat],Arrivées!$C17)","v":0},{"$f":"COUNTIFS(Tableau3[Arrivée],Arrivées!AG$3,Tableau3[Nat],Arrivées!$C17)","v":0},{"$f":"COUNTIFS(Tableau3[Arrivée],Arrivées!AH$3,Tableau3[Nat],Arrivées!$C17)","v":0},0]
[null,"Hongrie","HU",{"$f":"COUNTIFS(Tableau3[Arrivée],Arrivées!D$3,Tableau3[Nat],Arrivées!$C18)","v":0},{"$f":"COUNTIFS(Tableau3[Arrivée],Arrivées!E$3,Tableau3[Nat],Arrivées!$C18)","v":0},{"$f":"COUNTIFS(Tableau3[Arrivée],Arrivées!F$3,Tableau3[Nat],Arrivées!$C18)","v":0},{"$f":"COUNTIFS(Tableau3[Arrivée],Arrivées!G$3,Tableau3[Nat],Arrivées!$C18)","v":0},{"$f":"COUNTIFS(Tableau3[Arrivée],Arrivées!H$3,Tableau3[Nat],Arrivées!$C18)","v":0},{"$f":"COUNTIFS(Tableau3[Arrivée],Arrivées!I$3,Tableau3[Nat],Arrivées!$C18)","v":0},{"$f":"COUNTIFS(Tableau3[Arrivée],Arrivées!J$3,Tableau3[Nat],Arrivées!$C18)","v":0},{"$f":"COUNTIFS(Tableau3[Arrivée],Arrivées!K$3,Tableau3[Nat],Arrivées!$C18)","v":0},{"$f":"COUNTIFS(Tableau3[Arrivée],Arrivées!L$3,Tableau3[Nat],Arrivées!$C18)","v":0},{"$f":"COUNTIFS(Tableau3[Arrivée],Arrivées!M$3,Tableau3[Nat],Arrivées!$C18)","v":0},{"$f":"COUNTIFS(Tableau3[Arrivée],Arrivées!N$3,Tableau3[Nat],Arrivées!$C18)","v":0},{"$f":"COUNTIFS(Tableau3[Arrivée],Arrivées!O$3,Tableau3[Nat],Arrivées!$C18)","v":0},{"$f":"COUNTIFS(Tableau3[Arrivée],Arrivées!P$3,Tableau3[Nat],Arrivées!$C18)","v":0},{"$f":"COUNTIFS(Tableau3[Arrivée],Arrivées!Q$3,Tableau3[Nat],Arrivées!$C18)","v":0},{"$f":"COUNTIFS(Tableau3[Arrivée],Arrivées!R$3,Tableau3[Nat],Arrivées!$C18)","v":0},{"$f":"COUNTIFS(Tableau3[Arrivée],Arrivées!S$3,Tableau3[Nat],Arrivées!$C18)","v":0},{"$f":"COUNTIFS(Tableau3[Arrivée],Arrivées!T$3,Tableau3[Nat],Arrivées!$C18)","v":0},{"$f":"COUNTIFS(Tableau3[Arrivée],Arrivées!U$3,Tableau3[Nat],Arrivées!$C18)","v":0},{"$f":"COUNTIFS(Tableau3[Arrivée],Arrivées!V$3,Tableau3[Nat],Arrivées!$C18)","v":0},{"$f":"COUNTIFS(Tableau3[Arrivée],Arrivées!W$3,Tableau3[Nat],Arrivées!$C18)","v":0},{"$f":"COUNTIFS(Tableau3[Arrivée],Arrivées!X$3,Tableau3[Nat],Arrivées!$C18)","v":0},{"$f":"COUNTIFS(Tableau3[Arrivée],Arrivées!Y$3,Tableau3[Nat],Arrivées!$C18)","v":0},{"$f":"COUNTIFS(Tableau3[Arrivée],Arrivées!Z$3,Tableau3[Nat],Arrivées!$C18)","v":0},{"$f":"COUNTIFS(Tableau3[Arrivée],Arrivées!AA$3,Tableau3[Nat],Arrivées!$C18)","v":0},{"$f":"COUNTIFS(Tableau3[Arrivée],Arrivées!AB$3,Tableau3[Nat],Arrivées!$C18)","v":0},{"$f":"COUNTIFS(Tableau3[Arrivée],Arrivées!AC$3,Tableau3[Nat],Arrivées!$C18)","v":0},{"$f":"COUNTIFS(Tableau3[Arrivée],Arrivées!AD$3,Tableau3[Nat],Arrivées!$C18)","v":0},{"$f":"COUNTIFS(Tableau3[Arrivée],Arrivées!AE$3,Tableau3[Nat],Arrivées!$C18)","v":0},{"$f":"COUNTIFS(Tableau3[Arrivée],Arrivées!AF$3,Tableau3[Nat],Arrivées!$C18)","v":0},{"$f":"COUNTIFS(Tableau3[Arrivée],Arrivées!AG$3,Tableau3[Nat],Arrivées!$C18)","v":0},{"$f":"COUNTIFS(Tableau3[Arrivée],Arrivées!AH$3,Tableau3[Nat],Arrivées!$C18)","v":0},0]
[null,"Russie","RU",{"$f":"COUNTIFS(Tableau3[Arrivée],Arrivées!D$3,Tableau3[Nat],Arrivées!$C19)","v":0},{"$f":"COUNTIFS(Tableau3[Arrivée],Arrivées!E$3,Tableau3[Nat],Arrivées!$C19)","v":0},{"$f":"COUNTIFS(Tableau3[Arrivée],Arrivées!F$3,Tableau3[Nat],Arrivées!$C19)","v":0},{"$f":"COUNTIFS(Tableau3[Arrivée],Arrivées!G$3,Tableau3[Nat],Arrivées!$C19)","v":0},{"$f":"COUNTIFS(Tableau3[Arrivée],Arrivées!H$3,Tableau3[Nat],Arrivées!$C19)","v":0},{"$f":"COUNTIFS(Tableau3[Arrivée],Arrivées!I$3,Tableau3[Nat],Arrivées!$C19)","v":0},{"$f":"COUNTIFS(Tableau3[Arrivée],Arrivées!J$3,Tableau3[Nat],Arrivées!$C19)","v":0},{"$f":"COUNTIFS(Tableau3[Arrivée],Arrivées!K$3,Tableau3[Nat],Arrivées!$C19)","v":0},{"$f":"COUNTIFS(Tableau3[Arrivée],Arrivées!L$3,Tableau3[Nat],Arrivées!$C19)","v":0},{"$f":"COUNTIFS(Tableau3[Arrivée],Arrivées!M$3,Tableau3[Nat],Arrivées!$C19)","v":0},{"$f":"COUNTIFS(Tableau3[Arrivée],Arrivées!N$3,Tableau3[Nat],Arrivées!$C19)","v":0},{"$f":"COUNTIFS(Tableau3[Arrivée],Arrivées!O$3,Tableau3[Nat],Arrivées!$C19)","v":0},{"$f":"COUNTIFS(Tableau3[Arrivée],Arrivées!P$3,Tableau3[Nat],Arrivées!$C19)","v":0},{"$f":"COUNTIFS(Tableau3[Arrivée],Arrivées!Q$3,Tableau3[Nat],Arrivées!$C19)","v":0},{"$f":"COUNTIFS(Tableau3[Arrivée],Arrivées!R$3,Tableau3[Nat],Arrivées!$C19)","v":0},{"$f":"COUNTIFS(Tableau3[Arrivée],Arrivées!S$3,Tableau3[Nat],Arrivées!$C19)","v":0},{"$f":"COUNTIFS(Tableau3[Arrivée],Arrivées!T$3,Tableau3[Nat],Arrivées!$C19)","v":0},{"$f":"COUNTIFS(Tableau3[Arrivée],Arrivées!U$3,Tableau3[Nat],Arrivées!$C19)","v":0},{"$f":"COUNTIFS(Tableau3[Arrivée],Arrivées!V$3,Tableau3[Nat],Arrivées!$C19)","v":0},{"$f":"COUNTIFS(Tableau3[Arrivée],Arrivées!W$3,Tableau3[Nat],Arrivées!$C19)","v":0},{"$f":"COUNTIFS(Tableau3[Arrivée],Arrivées!X$3,Tableau3[Nat],Arrivées!$C19)","v":0},{"$f":"COUNTIFS(Tableau3[Arrivée],Arrivées!Y$3,Tableau3[Nat],Arrivées!$C19)","v":0},{"$f":"COUNTIFS(Tableau3[Arrivée],Arrivées!Z$3,Tableau3[Nat],Arrivées!$C19)","v":0},{"$f":"COUNTIFS(Tableau3[Arrivée],Arrivées!AA$3,Tableau3[Nat],Arrivées!$C19)","v":0},{"$f":"COUNTIFS(Tableau3[Arrivée],Arrivées!AB$3,Tableau3[Nat],Arrivées!$C19)","v":0},{"$f":"COUNTIFS(Tableau3[Arrivée],Arrivées!AC$3,Tableau3[Nat],Arrivées!$C19)","v":0},{"$f":"COUNTIFS(Tableau3[Arrivée],Arrivées!AD$3,Tableau3[Nat],Arrivées!$C19)","v":0},{"$f":"COUNTIFS(Tableau3[Arrivée],Arrivées!AE$3,Tableau3[Nat],Arrivées!$C19)","v":0},{"$f":"COUNTIFS(Tableau3[Arrivée],Arrivées!AF$3,Tableau3[Nat],Arrivées!$C19)","v":0},{"$f":"COUNTIFS(Tableau3[Arrivée],Arrivées!AG$3,Tableau3[Nat],Arrivées!$C19)","v":0},{"$f":"COUNTIFS(Tableau3[Arrivée],Arrivées!AH$3,Tableau3[Nat],Arrivées!$C19)","v":0},0]
[null,"Pologne","PO",{"$f":"COUNTIFS(Tableau3[Arrivée],Arrivées!D$3,Tableau3[Nat],Arrivées!$C20)","v":0},{"$f":"COUNTIFS(Tableau3[Arrivée],Arrivées!E$3,Tableau3[Nat],Arrivées!$C20)","v":0},{"$f":"COUNTIFS(Tableau3[Arrivée],Arrivées!F$3,Tableau3[Nat],Arrivées!$C20)","v":0},{"$f":"COUNTIFS(Tableau3[Arrivée],Arrivées!G$3,Tableau3[Nat],Arrivées!$C20)","v":0},{"$f":"COUNTIFS(Tableau3[Arrivée],Arrivées!H$3,Tableau3[Nat],Arrivées!$C20)","v":0},{"$f":"COUNTIFS(Tableau3[Arrivée],Arrivées!I$3,Tableau3[Nat],Arrivées!$C20)","v":0},{"$f":"COUNTIFS(Tableau3[Arrivée],Arrivées!J$3,Tableau3[Nat],Arrivées!$C20)","v":0},{"$f":"COUNTIFS(Tableau3[Arrivée],Arrivées!K$3,Tableau3[Nat],Arrivées!$C20)","v":0},{"$f":"COUNTIFS(Tableau3[Arrivée],Arrivées!L$3,Tableau3[Nat],Arrivées!$C20)","v":0},{"$f":"COUNTIFS(Tableau3[Arrivée],Arrivées!M$3,Tableau3[Nat],Arrivées!$C20)","v":0},{"$f":"COUNTIFS(Tableau3[Arrivée],Arrivées!N$3,Tableau3[Nat],Arrivées!$C20)","v":0},{"$f":"COUNTIFS(Tableau3[Arrivée],Arrivées!O$3,Tableau3[Nat],Arrivées!$C20)","v":0},{"$f":"COUNTIFS(Tableau3[Arrivée],Arrivées!P$3,Tableau3[Nat],Arrivées!$C20)","v":0},{"$f":"COUNTIFS(Tableau3[Arrivée],Arrivées!Q$3,Tableau3[Nat],Arrivées!$C20)","v":0},{"$f":"COUNTIFS(Tableau3[Arrivée],Arrivées!R$3,Tableau3[Nat],Arrivées!$C20)","v":0},{"$f":"COUNTIFS(Tableau3[Arrivée],Arrivées!S$3,Tableau3[Nat],Arrivées!$C20)","v":0},{"$f":"COUNTIFS(Tableau3[Arrivée],Arrivées!T$3,Tableau3[Nat],Arrivées!$C20)","v":0},{"$f":"COUNTIFS(Tableau3[Arrivée],Arrivées!U$3,Tableau3[Nat],Arrivées!$C20)","v":0},{"$f":"COUNTIFS(Tableau3[Arrivée],Arrivées!V$3,Tableau3[Nat],Arrivées!$C20)","v":0},{"$f":"COUNTIFS(Tableau3[Arrivée],Arrivées!W$3,Tableau3[Nat],Arrivées!$C20)","v":0},{"$f":"COUNTIFS(Tableau3[Arrivée],Arrivées!X$3,Tableau3[Nat],Arrivées!$C20)","v":0},{"$f":"COUNTIFS(Tableau3[Arrivée],Arrivées!Y$3,Tableau3[Nat],Arrivées!$C20)","v":0},{"$f":"COUNTIFS(Tableau3[Arrivée],Arrivées!Z$3,Tableau3[Nat],Arrivées!$C20)","v":0},{"$f":"COUNTIFS(Tableau3[Arrivée],Arrivées!AA$3,Tableau3[Nat],Arrivées!$C20)","v":0},{"$f":"COUNTIFS(Tableau3[Arrivée],Arrivées!AB$3,Tableau3[Nat],Arrivées!$C20)","v":0},{"$f":"COUNTIFS(Tableau3[Arrivée],Arrivées!AC$3,Tableau3[Nat],Arrivées!$C20)","v":0},{"$f":"COUNTIFS(Tableau3[Arrivée],Arrivées!AD$3,Tableau3[Nat],Arrivées!$C20)","v":0},{"$f":"COUNTIFS(Tableau3[Arrivée],Arrivées!AE$3,Tableau3[Nat],Arrivées!$C20)","v":0},{"$f":"COUNTIFS(Tableau3[Arrivée],Arrivées!AF$3,Tableau3[Nat],Arrivées!$C20)","v":0},{"$f":"COUNTIFS(Tableau3[Arrivée],Arrivées!AG$3,Tableau3[Nat],Arrivées!$C20)","v":0},{"$f":"COUNTIFS(Tableau3[Arrivée],Arrivées!AH$3,Tableau3[Nat],Arrivées!$C20)","v":0},0]
[null,"Grèce","PL",{"$f":"COUNTIFS(Tableau3[Arrivée],Arrivées!D$3,Tableau3[Nat],Arrivées!$C21)","v":0},{"$f":"COUNTIFS(Tableau3[Arrivée],Arrivées!E$3,Tableau3[Nat],Arrivées!$C21)","v":0},{"$f":"COUNTIFS(Tableau3[Arrivée],Arrivées!F$3,Tableau3[Nat],Arrivées!$C21)","v":0},{"$f":"COUNTIFS(Tableau3[Arrivée],Arrivées!G$3,Tableau3[Nat],Arrivées!$C21)","v":0},{"$f":"COUNTIFS(Tableau3[Arrivée],Arrivées!H$3,Tableau3[Nat],Arrivées!$C21)","v":0},{"$f":"COUNTIFS(Tableau3[Arrivée],Arrivées!I$3,Tableau3[Nat],Arrivées!$C21)","v":0},{"$f":"COUNTIFS(Tableau3[Arrivée],Arrivées!J$3,Tableau3[Nat],Arrivées!$C21)","v":0},{"$f":"COUNTIFS(Tableau3[Arrivée],Arrivées!K$3,Tableau3[Nat],Arrivées!$C21)","v":0},{"$f":"COUNTIFS(Tableau3[Arrivée],Arrivées!L$3,Tableau3[Nat],Arrivées!$C21)","v":0},{"$f":"COUNTIFS(Tableau3[Arrivée],Arrivées!M$3,Tableau3[Nat],Arrivées!$C21)","v":0},{"$f":"COUNTIFS(Tableau3[Arrivée],Arrivées!N$3,Tableau3[Nat],Arrivées!$C21)","v":0},{"$f":"COUNTIFS(Tableau3[Arrivée],Arrivées!O$3,Tableau3[Nat],Arrivées!$C21)","v":0},{"$f":"COUNTIFS(Tableau3[Arrivée],Arrivées!P$3,Tableau3[Nat],Arrivées!$C21)","v":0},{"$f":"COUNTIFS(Tableau3[Arrivée],Arrivées!Q$3,Tableau3[Nat],Arrivées!$C21)","v":0},{"$f":"COUNTIFS(Tableau3[Arrivée],Arrivées!R$3,Tableau3[Nat],Arrivées!$C21)","v":0},{"$f":"COUNTIFS(Tableau3[Arrivée],Arrivées!S$3,Tableau3[Nat],Arrivées!$C21)","v":0},{"$f":"COUNTIFS(Tableau3[Arrivée],Arrivées!T$3,Tableau3[Nat],Arrivées!$C21)","v":0},{"$f":"COUNTIFS(Tableau3[Arrivée],Arrivées!U$3,Tableau3[Nat],Arrivées!$C21)","v":0},{"$f":"COUNTIFS(Tableau3[Arrivée],Arrivées!V$3,Tableau3[Nat],Arrivées!$C21)","v":0},{"$f":"COUNTIFS(Tableau3[Arrivée],Arrivées!W$3,Tableau3[Nat],Arrivées!$C21)","v":0},{"$f":"COUNTIFS(Tableau3[Arrivée],Arrivées!X$3,Tableau3[Nat],Arrivées!$C21)","v":0},{"$f":"COUNTIFS(Tableau3[Arrivée],Arrivées!Y$3,Tableau3[Nat],Arrivées!$C21)","v":0},{"$f":"COUNTIFS(Tableau3[Arrivée],Arrivées!Z$3,Tableau3[Nat],Arrivées!$C21)","v":0},{"$f":"COUNTIFS(Tableau3[Arrivée],Arrivées!AA$3,Tableau3[Nat],Arrivées!$C21)","v":0},{"$f":"COUNTIFS(Tableau3[Arrivée],Arrivées!AB$3,Tableau3[Nat],Arrivées!$C21)","v":0},{"$f":"COUNTIFS(Tableau3[Arrivée],Arrivées!AC$3,Tableau3[Nat],Arrivées!$C21)","v":0},{"$f":"COUNTIFS(Tableau3[Arrivée],Arrivées!AD$3,Tableau3[Nat],Arrivées!$C21)","v":0},{"$f":"COUNTIFS(Tableau3[Arrivée],Arrivées!AE$3,Tableau3[Nat],Arrivées!$C21)","v":0},{"$f":"COUNTIFS(Tableau3[Arrivée],Arrivées!AF$3,Tableau3[Nat],Arrivées!$C21)","v":0},{"$f":"COUNTIFS(Tableau3[Arrivée],Arrivées!AG$3,Tableau3[Nat],Arrivées!$C21)","v":0},{"$f":"COUNTIFS(Tableau3[Arrivée],Arrivées!AH$3,Tableau3[Nat],Arrivées!$C21)","v":0},0]
[null,"Etat Unis","US",{"$f":"COUNTIFS(Tableau3[Arrivée],Arrivées!D$3,Tableau3[Nat],Arrivées!$C22)","v":0},{"$f":"COUNTIFS(Tableau3[Arrivée],Arrivées!E$3,Tableau3[Nat],Arrivées!$C22)","v":0},{"$f":"COUNTIFS(Tableau3[Arrivée],Arrivées!F$3,Tableau3[Nat],Arrivées!$C22)","v":0},{"$f":"COUNTIFS(Tableau3[Arrivée],Arrivées!G$3,Tableau3[Nat],Arrivées!$C22)","v":0},{"$f":"COUNTIFS(Tableau3[Arrivée],Arrivées!H$3,Tableau3[Nat],Arrivées!$C22)","v":0},{"$f":"COUNTIFS(Tableau3[Arrivée],Arrivées!I$3,Tableau3[Nat],Arrivées!$C22)","v":0},{"$f":"COUNTIFS(Tableau3[Arrivée],Arrivées!J$3,Tableau3[Nat],Arrivées!$C22)","v":0},{"$f":"COUNTIFS(Tableau3[Arrivée],Arrivées!K$3,Tableau3[Nat],Arrivées!$C22)","v":0},{"$f":"COUNTIFS(Tableau3[Arrivée],Arrivées!L$3,Tableau3[Nat],Arrivées!$C22)","v":0},{"$f":"COUNTIFS(Tableau3[Arrivée],Arrivées!M$3,Tableau3[Nat],Arrivées!$C22)","v":0},{"$f":"COUNTIFS(Tableau3[Arrivée],Arrivées!N$3,Tableau3[Nat],Arrivées!$C22)","v":0},{"$f":"COUNTIFS(Tableau3[Arrivée],Arrivées!O$3,Tableau3[Nat],Arrivées!$C22)","v":0},{"$f":"COUNTIFS(Tableau3[Arrivée],Arrivées!P$3,Tableau3[Nat],Arrivées!$C22)","v":0},{"$f":"COUNTIFS(Tableau3[Arrivée],Arrivées!Q$3,Tableau3[Nat],Arrivées!$C22)","v":0},{"$f":"COUNTIFS(Tableau3[Arrivée],Arrivées!R$3,Tableau3[Nat],Arrivées!$C22)","v":0},{"$f":"COUNTIFS(Tableau3[Arrivée],Arrivées!S$3,Tableau3[Nat],Arrivées!$C22)","v":0},{"$f":"COUNTIFS(Tableau3[Arrivée],Arrivées!T$3,Tableau3[Nat],Arrivées!$C22)","v":0},{"$f":"COUNTIFS(Tableau3[Arrivée],Arrivées!U$3,Tableau3[Nat],Arrivées!$C22)","v":0},{"$f":"COUNTIFS(Tableau3[Arrivée],Arrivées!V$3,Tableau3[Nat],Arrivées!$C22)","v":0},{"$f":"COUNTIFS(Tableau3[Arrivée],Arrivées!W$3,Tableau3[Nat],Arrivées!$C22)","v":0},{"$f":"COUNTIFS(Tableau3[Arrivée],Arrivées!X$3,Tableau3[Nat],Arrivées!$C22)","v":0},{"$f":"COUNTIFS(Tableau3[Arrivée],Arrivées!Y$3,Tableau3[Nat],Arrivées!$C22)","v":0},{"$f":"COUNTIFS(Tableau3[Arrivée],Arrivées!Z$3,Tableau3[Nat],Arrivées!$C22)","v":0},{"$f":"COUNTIFS(Tableau3[Arrivée],Arrivées!AA$3,Tableau3[Nat],Arrivées!$C22)","v":0},{"$f":"COUNTIFS(Tableau3[Arrivée],Arrivées!AB$3,Tableau3[Nat],Arrivées!$C22)","v":0},{"$f":"COUNTIFS(Tableau3[Arrivée],Arrivées!AC$3,Tableau3[Nat],Arrivées!$C22)","v":0},{"$f":"COUNTIFS(Tableau3[Arrivée],Arrivées!AD$3,Tableau3[Nat],Arrivées!$C22)","v":0},{"$f":"COUNTIFS(Tableau3[Arrivée],Arrivées!AE$3,Tableau3[Nat],Arrivées!$C22)","v":0},{"$f":"COUNTIFS(Tableau3[Arrivée],Arrivées!AF$3,Tableau3[Nat],Arrivées!$C22)","v":0},{"$f":"COUNTIFS(Tableau3[Arrivée],Arrivées!AG$3,Tableau3[Nat],Arrivées!$C22)","v":0},{"$f":"COUNTIFS(Tableau3[Arrivée],Arrivées!AH$3,Tableau3[Nat],Arrivées!$C22)","v":0},0]
[null,"Canada","CA",{"$f":"COUNTIFS(Tableau3[Arrivée],Arrivées!D$3,Tableau3[Nat],Arrivées!$C23)","v":0},{"$f":"COUNTIFS(Tableau3[Arrivée],Arrivées!E$3,Tableau3[Nat],Arrivées!$C23)","v":0},{"$f":"COUNTIFS(Tableau3[Arrivée],Arrivées!F$3,Tableau3[Nat],Arrivées!$C23)","v":0},{"$f":"COUNTIFS(Tableau3[Arrivée],Arrivées!G$3,Tableau3[Nat],Arrivées!$C23)","v":0},{"$f":"COUNTIFS(Tableau3[Arrivée],Arrivées!H$3,Tableau3[Nat],Arrivées!$C23)","v":0},{"$f":"COUNTIFS(Tableau3[Arrivée],Arrivées!I$3,Tableau3[Nat],Arrivées!$C23)","v":0},{"$f":"COUNTIFS(Tableau3[Arrivée],Arrivées!J$3,Tableau3[Nat],Arrivées!$C23)","v":0},{"$f":"COUNTIFS(Tableau3[Arrivée],Arrivées!K$3,Tableau3[Nat],Arrivées!$C23)","v":0},{"$f":"COUNTIFS(Tableau3[Arrivée],Arrivées!L$3,Tableau3[Nat],Arrivées!$C23)","v":0},{"$f":"COUNTIFS(Tableau3[Arrivée],Arrivées!M$3,Tableau3[Nat],Arrivées!$C23)","v":0},{"$f":"COUNTIFS(Tableau3[Arrivée],Arrivées!N$3,Tableau3[Nat],Arrivées!$C23)","v":0},{"$f":"COUNTIFS(Tableau3[Arrivée],Arrivées!O$3,Tableau3[Nat],Arrivées!$C23)","v":0},{"$f":"COUNTIFS(Tableau3[Arrivée],Arrivées!P$3,Tableau3[Nat],Arrivées!$C23)","v":0},{"$f":"COUNTIFS(Tableau3[Arrivée],Arrivées!Q$3,Tableau3[Nat],Arrivées!$C23)","v":0},{"$f":"COUNTIFS(Tableau3[Arrivée],Arrivées!R$3,Tableau3[Nat],Arrivées!$C23)","v":0},{"$f":"COUNTIFS(Tableau3[Arrivée],Arrivées!S$3,Tableau3[Nat],Arrivées!$C23)","v":0},{"$f":"COUNTIFS(Tableau3[Arrivée],Arrivées!T$3,Tableau3[Nat],Arrivées!$C23)","v":0},{"$f":"COUNTIFS(Tableau3[Arrivée],Arrivées!U$3,Tableau3[Nat],Arrivées!$C23)","v":0},{"$f":"COUNTIFS(Tableau3[Arrivée],Arrivées!V$3,Tableau3[Nat],Arrivées!$C23)","v":0},{"$f":"COUNTIFS(Tableau3[Arrivée],Arrivées!W$3,Tableau3[Nat],Arrivées!$C23)","v":0},{"$f":"COUNTIFS(Tableau3[Arrivée],Arrivées!X$3,Tableau3[Nat],Arrivées!$C23)","v":0},{"$f":"COUNTIFS(Tableau3[Arrivée],Arrivées!Y$3,Tableau3[Nat],Arrivées!$C23)","v":0},{"$f":"COUNTIFS(Tableau3[Arrivée],Arrivées!Z$3,Tableau3[Nat],Arrivées!$C23)","v":0},{"$f":"COUNTIFS(Tableau3[Arrivée],Arrivées!AA$3,Tableau3[Nat],Arrivées!$C23)","v":0},{"$f":"COUNTIFS(Tableau3[Arrivée],Arrivées!AB$3,Tableau3[Nat],Arrivées!$C23)","v":0},{"$f":"COUNTIFS(Tableau3[Arrivée],Arrivées!AC$3,Tableau3[Nat],Arrivées!$C23)","v":0},{"$f":"COUNTIFS(Tableau3[Arrivée],Arrivées!AD$3,Tableau3[Nat],Arrivées!$C23)","v":0},{"$f":"COUNTIFS(Tableau3[Arrivée],Arrivées!AE$3,Tableau3[Nat],Arrivées!$C23)","v":0},{"$f":"COUNTIFS(Tableau3[Arrivée],Arrivées!AF$3,Tableau3[Nat],Arrivées!$C23)","v":0},{"$f":"COUNTIFS(Tableau3[Arrivée],Arrivées!AG$3,Tableau3[Nat],Arrivées!$C23)","v":0},{"$f":"COUNTIFS(Tableau3[Arrivée],Arrivées!AH$3,Tableau3[Nat],Arrivées!$C23)","v":0},0]
[null,"Chine","CN",{"$f":"COUNTIFS(Tableau3[Arrivée],Arrivées!D$3,Tableau3[Nat],Arrivées!$C24)","v":0},{"$f":"COUNTIFS(Tableau3[Arrivée],Arrivées!E$3,Tableau3[Nat],Arrivées!$C24)","v":0},{"$f":"COUNTIFS(Tableau3[Arrivée],Arrivées!F$3,Tableau3[Nat],Arrivées!$C24)","v":0},{"$f":"COUNTIFS(Tableau3[Arrivée],Arrivées!G$3,Tableau3[Nat],Arrivées!$C24)","v":0},{"$f":"COUNTIFS(Tableau3[Arrivée],Arrivées!H$3,Tableau3[Nat],Arrivées!$C24)","v":0},{"$f":"COUNTIFS(Tableau3[Arrivée],Arrivées!I$3,Tableau3[Nat],Arrivées!$C24)","v":0},{"$f":"COUNTIFS(Tableau3[Arrivée],Arrivées!J$3,Tableau3[Nat],Arrivées!$C24)","v":0},{"$f":"COUNTIFS(Tableau3[Arrivée],Arrivées!K$3,Tableau3[Nat],Arrivées!$C24)","v":0},{"$f":"COUNTIFS(Tableau3[Arrivée],Arrivées!L$3,Tableau3[Nat],Arrivées!$C24)","v":0},{"$f":"COUNTIFS(Tableau3[Arrivée],Arrivées!M$3,Tableau3[Nat],Arrivées!$C24)","v":0},{"$f":"COUNTIFS(Tableau3[Arrivée],Arrivées!N$3,Tableau3[Nat],Arrivées!$C24)","v":0},{"$f":"COUNTIFS(Tableau3[Arrivée],Arrivées!O$3,Tableau3[Nat],Arrivées!$C24)","v":0},{"$f":"COUNTIFS(Tableau3[Arrivée],Arrivées!P$3,Tableau3[Nat],Arrivées!$C24)","v":0},{"$f":"COUNTIFS(Tableau3[Arrivée],Arrivées!Q$3,Tableau3[Nat],Arrivées!$C24)","v":0},{"$f":"COUNTIFS(Tableau3[Arrivée],Arrivées!R$3,Tableau3[Nat],Arrivées!$C24)","v":0},{"$f":"COUNTIFS(Tableau3[Arrivée],Arrivées!S$3,Tableau3[Nat],Arrivées!$C24)","v":0},{"$f":"COUNTIFS(Tableau3[Arrivée],Arrivées!T$3,Tableau3[Nat],Arrivées!$C24)","v":0},{"$f":"COUNTIFS(Tableau3[Arrivée],Arrivées!U$3,Tableau3[Nat],Arrivées!$C24)","v":0},{"$f":"COUNTIFS(Tableau3[Arrivée],Arrivées!V$3,Tableau3[Nat],Arrivées!$C24)","v":0},{"$f":"COUNTIFS(Tableau3[Arrivée],Arrivées!W$3,Tableau3[Nat],Arrivées!$C24)","v":0},{"$f":"COUNTIFS(Tableau3[Arrivée],Arrivées!X$3,Tableau3[Nat],Arrivées!$C24)","v":0},{"$f":"COUNTIFS(Tableau3[Arrivée],Arrivées!Y$3,Tableau3[Nat],Arrivées!$C24)","v":0},{"$f":"COUNTIFS(Tableau3[Arrivée],Arrivées!Z$3,Tableau3[Nat],Arrivées!$C24)","v":0},{"$f":"COUNTIFS(Tableau3[Arrivée],Arrivées!AA$3,Tableau3[Nat],Arrivées!$C24)","v":0},{"$f":"COUNTIFS(Tableau3[Arrivée],Arrivées!AB$3,Tableau3[Nat],Arrivées!$C24)","v":0},{"$f":"COUNTIFS(Tableau3[Arrivée],Arrivées!AC$3,Tableau3[Nat],Arrivées!$C24)","v":0},{"$f":"COUNTIFS(Tableau3[Arrivée],Arrivées!AD$3,Tableau3[Nat],Arrivées!$C24)","v":0},{"$f":"COUNTIFS(Tableau3[Arrivée],Arrivées!AE$3,Tableau3[Nat],Arrivées!$C24)","v":0},{"$f":"COUNTIFS(Tableau3[Arrivée],Arrivées!AF$3,Tableau3[Nat],Arrivées!$C24)","v":0},{"$f":"COUNTIFS(Tableau3[Arrivée],Arrivées!AG$3,Tableau3[Nat],Arrivées!$C24)","v":0},{"$f":"COUNTIFS(Tableau3[Arrivée],Arrivées!AH$3,Tableau3[Nat],Arrivées!$C24)","v":0},0]
[null,"Japon","JP",{"$f":"COUNTIFS(Tableau3[Arrivée],Arrivées!D$3,Tableau3[Nat],Arrivées!$C25)","v":0},{"$f":"COUNTIFS(Tableau3[Arrivée],Arrivées!E$3,Tableau3[Nat],Arrivées!$C25)","v":0},{"$f":"COUNTIFS(Tableau3[Arrivée],Arrivées!F$3,Tableau3[Nat],Arrivées!$C25)","v":0},{"$f":"COUNTIFS(Tableau3[Arrivée],Arrivées!G$3,Tableau3[Nat],Arrivées!$C25)","v":0},{"$f":"COUNTIFS(Tableau3[Arrivée],Arrivées!H$3,Tableau3[Nat],Arrivées!$C25)","v":0},{"$f":"COUNTIFS(Tableau3[Arrivée],Arrivées!I$3,Tableau3[Nat],Arrivées!$C25)","v":0},{"$f":"COUNTIFS(Tableau3[Arrivée],Arrivées!J$3,Tableau3[Nat],Arrivées!$C25)","v":0},{"$f":"COUNTIFS(Tableau3[Arrivée],Arrivées!K$3,Tableau3[Nat],Arrivées!$C25)","v":0},{"$f":"COUNTIFS(Tableau3[Arrivée],Arrivées!L$3,Tableau3[Nat],Arrivées!$C25)","v":0},{"$f":"COUNTIFS(Tableau3[Arrivée],Arrivées!M$3,Tableau3[Nat],Arrivées!$C25)","v":0},{"$f":"COUNTIFS(Tableau3[Arrivée],Arrivées!N$3,Tableau3[Nat],Arrivées!$C25)","v":0},{"$f":"COUNTIFS(Tableau3[Arrivée],Arrivées!O$3,Tableau3[Nat],Arrivées!$C25)","v":0},{"$f":"COUNTIFS(Tableau3[Arrivée],Arrivées!P$3,Tableau3[Nat],Arrivées!$C25)","v":0},{"$f":"COUNTIFS(Tableau3[Arrivée],Arrivées!Q$3,Tableau3[Nat],Arrivées!$C25)","v":0},{"$f":"COUNTIFS(Tableau3[Arrivée],Arrivées!R$3,Tableau3[Nat],Arrivées!$C25)","v":0},{"$f":"COUNTIFS(Tableau3[Arrivée],Arrivées!S$3,Tableau3[Nat],Arrivées!$C25)","v":0},{"$f":"COUNTIFS(Tableau3[Arrivée],Arrivées!T$3,Tableau3[Nat],Arrivées!$C25)","v":0},{"$f":"COUNTIFS(Tableau3[Arrivée],Arrivées!U$3,Tableau3[Nat],Arrivées!$C25)","v":0},{"$f":"COUNTIFS(Tableau3[Arrivée],Arrivées!V$3,Tableau3[Nat],Arrivées!$C25)","v":0},{"$f":"COUNTIFS(Tableau3[Arrivée],Arrivées!W$3,Tableau3[Nat],Arrivées!$C25)","v":0},{"$f":"COUNTIFS(Tableau3[Arrivée],Arrivées!X$3,Tableau3[Nat],Arrivées!$C25)","v":0},{"$f":"COUNTIFS(Tableau3[Arrivée],Arrivées!Y$3,Tableau3[Nat],Arrivées!$C25)","v":0},{"$f":"COUNTIFS(Tableau3[Arrivée],Arrivées!Z$3,Tableau3[Nat],Arrivées!$C25)","v":0},{"$f":"COUNTIFS(Tableau3[Arrivée],Arrivées!AA$3,Tableau3[Nat],Arrivées!$C25)","v":0},{"$f":"COUNTIFS(Tableau3[Arrivée],Arrivées!AB$3,Tableau3[Nat],Arrivées!$C25)","v":0},{"$f":"COUNTIFS(Tableau3[Arrivée],Arrivées!AC$3,Tableau3[Nat],Arrivées!$C25)","v":0},{"$f":"COUNTIFS(Tableau3[Arrivée],Arrivées!AD$3,Tableau3[Nat],Arrivées!$C25)","v":0},{"$f":"COUNTIFS(Tableau3[Arrivée],Arrivées!AE$3,Tableau3[Nat],Arrivées!$C25)","v":0},{"$f":"COUNTIFS(Tableau3[Arrivée],Arrivées!AF$3,Tableau3[Nat],Arrivées!$C25)","v":0},{"$f":"COUNTIFS(Tableau3[Arrivée],Arrivées!AG$3,Tableau3[Nat],Arrivées!$C25)","v":0},{"$f":"COUNTIFS(Tableau3[Arrivée],Arrivées!AH$3,Tableau3[Nat],Arrivées!$C25)","v":0},0]
[null,"Inde","IN",{"$f":"COUNTIFS(Tableau3[Arrivée],Arrivées!D$3,Tableau3[Nat],Arrivées!$C26)","v":0},{"$f":"COUNTIFS(Tableau3[Arrivée],Arrivées!E$3,Tableau3[Nat],Arrivées!$C26)","v":0},{"$f":"COUNTIFS(Tableau3[Arrivée],Arrivées!F$3,Tableau3[Nat],Arrivées!$C26)","v":0},{"$f":"COUNTIFS(Tableau3[Arrivée],Arrivées!G$3,Tableau3[Nat],Arrivées!$C26)","v":0},{"$f":"COUNTIFS(Tableau3[Arrivée],Arrivées!H$3,Tableau3[Nat],Arrivées!$C26)","v":0},{"$f":"COUNTIFS(Tableau3[Arrivée],Arrivées!I$3,Tableau3[Nat],Arrivées!$C26)","v":0},{"$f":"COUNTIFS(Tableau3[Arrivée],Arrivées!J$3,Tableau3[Nat],Arrivées!$C26)","v":0},{"$f":"COUNTIFS(Tableau3[Arrivée],Arrivées!K$3,Tableau3[Nat],Arrivées!$C26)","v":0},{"$f":"COUNTIFS(Tableau3[Arrivée],Arrivées!L$3,Tableau3[Nat],Arrivées!$C26)","v":0},{"$f":"COUNTIFS(Tableau3[Arrivée],Arrivées!M$3,Tableau3[Nat],Arrivées!$C26)","v":0},{"$f":"COUNTIFS(Tableau3[Arrivée],Arrivées!N$3,Tableau3[Nat],Arrivées!$C26)","v":0},{"$f":"COUNTIFS(Tableau3[Arrivée],Arrivées!O$3,Tableau3[Nat],Arrivées!$C26)","v":0},{"$f":"COUNTIFS(Tableau3[Arrivée],Arrivées!P$3,Tableau3[Nat],Arrivées!$C26)","v":0},{"$f":"COUNTIFS(Tableau3[Arrivée],Arrivées!Q$3,Tableau3[Nat],Arrivées!$C26)","v":0},{"$f":"COUNTIFS(Tableau3[Arrivée],Arrivées!R$3,Tableau3[Nat],Arrivées!$C26)","v":0},{"$f":"COUNTIFS(Tableau3[Arrivée],Arrivées!S$3,Tableau3[Nat],Arrivées!$C26)","v":0},{"$f":"COUNTIFS(Tableau3[Arrivée],Arrivées!T$3,Tableau3[Nat],Arrivées!$C26)","v":0},{"$f":"COUNTIFS(Tableau3[Arrivée],Arrivées!U$3,Tableau3[Nat],Arrivées!$C26)","v":0},{"$f":"COUNTIFS(Tableau3[Arrivée],Arrivées!V$3,Tableau3[Nat],Arrivées!$C26)","v":0},{"$f":"COUNTIFS(Tableau3[Arrivée],Arrivées!W$3,Tableau3[Nat],Arrivées!$C26)","v":0},{"$f":"COUNTIFS(Tableau3[Arrivée],Arrivées!X$3,Tableau3[Nat],Arrivées!$C26)","v":0},{"$f":"COUNTIFS(Tableau3[Arrivée],Arrivées!Y$3,Tableau3[Nat],Arrivées!$C26)","v":0},{"$f":"COUNTIFS(Tableau3[Arrivée],Arrivées!Z$3,Tableau3[Nat],Arrivées!$C26)","v":0},{"$f":"COUNTIFS(Tableau3[Arrivée],Arrivées!AA$3,Tableau3[Nat],Arrivées!$C26)","v":0},{"$f":"COUNTIFS(Tableau3[Arrivée],Arrivées!AB$3,Tableau3[Nat],Arrivées!$C26)","v":0},{"$f":"COUNTIFS(Tableau3[Arrivée],Arrivées!AC$3,Tableau3[Nat],Arrivées!$C26)","v":0},{"$f":"COUNTIFS(Tableau3[Arrivée],Arrivées!AD$3,Tableau3[Nat],Arrivées!$C26)","v":0},{"$f":"COUNTIFS(Tableau3[Arrivée],Arrivées!AE$3,Tableau3[Nat],Arrivées!$C26)","v":0},{"$f":"COUNTIFS(Tableau3[Arrivée],Arrivées!AF$3,Tableau3[Nat],Arrivées!$C26)","v":0},{"$f":"COUNTIFS(Tableau3[Arrivée],Arrivées!AG$3,Tableau3[Nat],Arrivées!$C26)","v":0},{"$f":"COUNTIFS(Tableau3[Arrivée],Arrivées!AH$3,Tableau3[Nat],Arrivées!$C26)","v":0},0]
[null,"Maroc","MA",{"$f":"COUNTIFS(Tableau3[Arrivée],Arrivées!D$3,Tableau3[Nat],Arrivées!$C27)","v":0},{"$f":"COUNTIFS(Tableau3[Arrivée],Arrivées!E$3,Tableau3[Nat],Arrivées!$C27)","v":0},{"$f":"COUNTIFS(Tableau3[Arrivée],Arrivées!F$3,Tableau3[Nat],Arrivées!$C27)","v":0},{"$f":"COUNTIFS(Tableau3[Arrivée],Arrivées!G$3,Tableau3[Nat],Arrivées!$C27)","v":0},{"$f":"COUNTIFS(Tableau3[Arrivée],Arrivées!H$3,Tableau3[Nat],Arrivées!$C27)","v":0},{"$f":"COUNTIFS(Tableau3[Arrivée],Arrivées!I$3,Tableau3[Nat],Arrivées!$C27)","v":0},{"$f":"COUNTIFS(Tableau3[Arrivée],Arrivées!J$3,Tableau3[Nat],Arrivées!$C27)","v":0},{"$f":"COUNTIFS(Tableau3[Arrivée],Arrivées!K$3,Tableau3[Nat],Arrivées!$C27)","v":0},{"$f":"COUNTIFS(Tableau3[Arrivée],Arrivées!L$3,Tableau3[Nat],Arrivées!$C27)","v":0},{"$f":"COUNTIFS(Tableau3[Arrivée],Arrivées!M$3,Tableau3[Nat],Arrivées!$C27)","v":0},{"$f":"COUNTIFS(Tableau3[Arrivée],Arrivées!N$3,Tableau3[Nat],Arrivées!$C27)","v":0},{"$f":"COUNTIFS(Tableau3[Arrivée],Arrivées!O$3,Tableau3[Nat],Arrivées!$C27)","v":0},{"$f":"COUNTIFS(Tableau3[Arrivée],Arrivées!P$3,Tableau3[Nat],Arrivées!$C27)","v":0},{"$f":"COUNTIFS(Tableau3[Arrivée],Arrivées!Q$3,Tableau3[Nat],Arrivées!$C27)","v":0},{"$f":"COUNTIFS(Tableau3[Arrivée],Arrivées!R$3,Tableau3[Nat],Arrivées!$C27)","v":0},{"$f":"COUNTIFS(Tableau3[Arrivée],Arrivées!S$3,Tableau3[Nat],Arrivées!$C27)","v":0},{"$f":"COUNTIFS(Tableau3[Arrivée],Arrivées!T$3,Tableau3[Nat],Arrivées!$C27)","v":0},{"$f":"COUNTIFS(Tableau3[Arrivée],Arrivées!U$3,Tableau3[Nat],Arrivées!$C27)","v":0},{"$f":"COUNTIFS(Tableau3[Arrivée],Arrivées!V$3,Tableau3[Nat],Arrivées!$C27)","v":0},{"$f":"COUNTIFS(Tableau3[Arrivée],Arrivées!W$3,Tableau3[Nat],Arrivées!$C27)","v":0},{"$f":"COUNTIFS(Tableau3[Arrivée],Arrivées!X$3,Tableau3[Nat],Arrivées!$C27)","v":0},{"$f":"COUNTIFS(Tableau3[Arrivée],Arrivées!Y$3,Tableau3[Nat],Arrivées!$C27)","v":0},{"$f":"COUNTIFS(Tableau3[Arrivée],Arrivées!Z$3,Tableau3[Nat],Arrivées!$C27)","v":0},{"$f":"COUNTIFS(Tableau3[Arrivée],Arrivées!AA$3,Tableau3[Nat],Arrivées!$C27)","v":0},{"$f":"COUNTIFS(Tableau3[Arrivée],Arrivées!AB$3,Tableau3[Nat],Arrivées!$C27)","v":0},{"$f":"COUNTIFS(Tableau3[Arrivée],Arrivées!AC$3,Tableau3[Nat],Arrivées!$C27)","v":0},{"$f":"COUNTIFS(Tableau3[Arrivée],Arrivées!AD$3,Tableau3[Nat],Arrivées!$C27)","v":0},{"$f":"COUNTIFS(Tableau3[Arrivée],Arrivées!AE$3,Tableau3[Nat],Arrivées!$C27)","v":0},{"$f":"COUNTIFS(Tableau3[Arrivée],Arrivées!AF$3,Tableau3[Nat],Arrivées!$C27)","v":0},{"$f":"COUNTIFS(Tableau3[Arrivée],Arrivées!AG$3,Tableau3[Nat],Arrivées!$C27)","v":0},{"$f":"COUNTIFS(Tableau3[Arrivée],Arrivées!AH$3,Tableau3[Nat],Arrivées!$C27)","v":0},0]
[null,"Algérie","DZ",{"$f":"COUNTIFS(Tableau3[Arrivée],Arrivées!D$3,Tableau3[Nat],Arrivées!$C28)","v":0},{"$f":"COUNTIFS(Tableau3[Arrivée],Arrivées!E$3,Tableau3[Nat],Arrivées!$C28)","v":0},{"$f":"COUNTIFS(Tableau3[Arrivée],Arrivées!F$3,Tableau3[Nat],Arrivées!$C28)","v":0},{"$f":"COUNTIFS(Tableau3[Arrivée],Arrivées!G$3,Tableau3[Nat],Arrivées!$C28)","v":0},{"$f":"COUNTIFS(Tableau3[Arrivée],Arrivées!H$3,Tableau3[Nat],Arrivées!$C28)","v":0},{"$f":"COUNTIFS(Tableau3[Arrivée],Arrivées!I$3,Tableau3[Nat],Arrivées!$C28)","v":0},{"$f":"COUNTIFS(Tableau3[Arrivée],Arrivées!J$3,Tableau3[Nat],Arrivées!$C28)","v":0},{"$f":"COUNTIFS(Tableau3[Arrivée],Arrivées!K$3,Tableau3[Nat],Arrivées!$C28)","v":0},{"$f":"COUNTIFS(Tableau3[Arrivée],Arrivées!L$3,Tableau3[Nat],Arrivées!$C28)","v":0},{"$f":"COUNTIFS(Tableau3[Arrivée],Arrivées!M$3,Tableau3[Nat],Arrivées!$C28)","v":0},{"$f":"COUNTIFS(Tableau3[Arrivée],Arrivées!N$3,Tableau3[Nat],Arrivées!$C28)","v":0},{"$f":"COUNTIFS(Tableau3[Arrivée],Arrivées!O$3,Tableau3[Nat],Arrivées!$C28)","v":0},{"$f":"COUNTIFS(Tableau3[Arrivée],Arrivées!P$3,Tableau3[Nat],Arrivées!$C28)","v":0},{"$f":"COUNTIFS(Tableau3[Arrivée],Arrivées!Q$3,Tableau3[Nat],Arrivées!$C28)","v":0},{"$f":"COUNTIFS(Tableau3[Arrivée],Arrivées!R$3,Tableau3[Nat],Arrivées!$C28)","v":0},{"$f":"COUNTIFS(Tableau3[Arrivée],Arrivées!S$3,Tableau3[Nat],Arrivées!$C28)","v":0},{"$f":"COUNTIFS(Tableau3[Arrivée],Arrivées!T$3,Tableau3[Nat],Arrivées!$C28)","v":0},{"$f":"COUNTIFS(Tableau3[Arrivée],Arrivées!U$3,Tableau3[Nat],Arrivées!$C28)","v":0},{"$f":"COUNTIFS(Tableau3[Arrivée],Arrivées!V$3,Tableau3[Nat],Arrivées!$C28)","v":0},{"$f":"COUNTIFS(Tableau3[Arrivée],Arrivées!W$3,Tableau3[Nat],Arrivées!$C28)","v":0},{"$f":"COUNTIFS(Tableau3[Arrivée],Arrivées!X$3,Tableau3[Nat],Arrivées!$C28)","v":0},{"$f":"COUNTIFS(Tableau3[Arrivée],Arrivées!Y$3,Tableau3[Nat],Arrivées!$C28)","v":0},{"$f":"COUNTIFS(Tableau3[Arrivée],Arrivées!Z$3,Tableau3[Nat],Arrivées!$C28)","v":0},{"$f":"COUNTIFS(Tableau3[Arrivée],Arrivées!AA$3,Tableau3[Nat],Arrivées!$C28)","v":0},{"$f":"COUNTIFS(Tableau3[Arrivée],Arrivées!AB$3,Tableau3[Nat],Arrivées!$C28)","v":0},{"$f":"COUNTIFS(Tableau3[Arrivée],Arrivées!AC$3,Tableau3[Nat],Arrivées!$C28)","v":0},{"$f":"COUNTIFS(Tableau3[Arrivée],Arrivées!AD$3,Tableau3[Nat],Arrivées!$C28)","v":0},{"$f":"COUNTIFS(Tableau3[Arrivée],Arrivées!AE$3,Tableau3[Nat],Arrivées!$C28)","v":0},{"$f":"COUNTIFS(Tableau3[Arrivée],Arrivées!AF$3,Tableau3[Nat],Arrivées!$C28)","v":0},{"$f":"COUNTIFS(Tableau3[Arrivée],Arrivées!AG$3,Tableau3[Nat],Arrivées!$C28)","v":0},{"$f":"COUNTIFS(Tableau3[Arrivée],Arrivées!AH$3,Tableau3[Nat],Arrivées!$C28)","v":0},0]
[null,"Tunisie","TN",{"$f":"COUNTIFS(Tableau3[Arrivée],Arrivées!D$3,Tableau3[Nat],Arrivées!$C29)","v":0},{"$f":"COUNTIFS(Tableau3[Arrivée],Arrivées!E$3,Tableau3[Nat],Arrivées!$C29)","v":0},{"$f":"COUNTIFS(Tableau3[Arrivée],Arrivées!F$3,Tableau3[Nat],Arrivées!$C29)","v":0},{"$f":"COUNTIFS(Tableau3[Arrivée],Arrivées!G$3,Tableau3[Nat],Arrivées!$C29)","v":0},{"$f":"COUNTIFS(Tableau3[Arrivée],Arrivées!H$3,Tableau3[Nat],Arrivées!$C29)","v":0},{"$f":"COUNTIFS(Tableau3[Arrivée],Arrivées!I$3,Tableau3[Nat],Arrivées!$C29)","v":0},{"$f":"COUNTIFS(Tableau3[Arrivée],Arrivées!J$3,Tableau3[Nat],Arrivées!$C29)","v":0},{"$f":"COUNTIFS(Tableau3[Arrivée],Arrivées!K$3,Tableau3[Nat],Arrivées!$C29)","v":0},{"$f":"COUNTIFS(Tableau3[Arrivée],Arrivées!L$3,Tableau3[Nat],Arrivées!$C29)","v":0},{"$f":"COUNTIFS(Tableau3[Arrivée],Arrivées!M$3,Tableau3[Nat],Arrivées!$C29)","v":0},{"$f":"COUNTIFS(Tableau3[Arrivée],Arrivées!N$3,Tableau3[Nat],Arrivées!$C29)","v":0},{"$f":"COUNTIFS(Tableau3[Arrivée],Arrivées!O$3,Tableau3[Nat],Arrivées!$C29)","v":0},{"$f":"COUNTIFS(Tableau3[Arrivée],Arrivées!P$3,Tableau3[Nat],Arrivées!$C29)","v":0},{"$f":"COUNTIFS(Tableau3[Arrivée],Arrivées!Q$3,Tableau3[Nat],Arrivées!$C29)","v":0},{"$f":"COUNTIFS(Tableau3[Arrivée],Arrivées!R$3,Tableau3[Nat],Arrivées!$C29)","v":0},{"$f":"COUNTIFS(Tableau3[Arrivée],Arrivées!S$3,Tableau3[Nat],Arrivées!$C29)","v":0},{"$f":"COUNTIFS(Tableau3[Arrivée],Arrivées!T$3,Tableau3[Nat],Arrivées!$C29)","v":0},{"$f":"COUNTIFS(Tableau3[Arrivée],Arrivées!U$3,Tableau3[Nat],Arrivées!$C29)","v":0},{"$f":"COUNTIFS(Tableau3[Arrivée],Arrivées!V$3,Tableau3[Nat],Arrivées!$C29)","v":0},{"$f":"COUNTIFS(Tableau3[Arrivée],Arrivées!W$3,Tableau3[Nat],Arrivées!$C29)","v":0},{"$f":"COUNTIFS(Tableau3[Arrivée],Arrivées!X$3,Tableau3[Nat],Arrivées!$C29)","v":0},{"$f":"COUNTIFS(Tableau3[Arrivée],Arrivées!Y$3,Tableau3[Nat],Arrivées!$C29)","v":0},{"$f":"COUNTIFS(Tableau3[Arrivée],Arrivées!Z$3,Tableau3[Nat],Arrivées!$C29)","v":0},{"$f":"COUNTIFS(Tableau3[Arrivée],Arrivées!AA$3,Tableau3[Nat],Arrivées!$C29)","v":0},{"$f":"COUNTIFS(Tableau3[Arrivée],Arrivées!AB$3,Tableau3[Nat],Arrivées!$C29)","v":0},{"$f":"COUNTIFS(Tableau3[Arrivée],Arrivées!AC$3,Tableau3[Nat],Arrivées!$C29)","v":0},{"$f":"COUNTIFS(Tableau3[Arrivée],Arrivées!AD$3,Tableau3[Nat],Arrivées!$C29)","v":0},{"$f":"COUNTIFS(Tableau3[Arrivée],Arrivées!AE$3,Tableau3[Nat],Arrivées!$C29)","v":0},{"$f":"COUNTIFS(Tableau3[Arrivée],Arrivées!AF$3,Tableau3[Nat],Arrivées!$C29)","v":0},{"$f":"COUNTIFS(Tableau3[Arrivée],Arrivées!AG$3,Tableau3[Nat],Arrivées!$C29)","v":0},{"$f":"COUNTIFS(Tableau3[Arrivée],Arrivées!AH$3,Tableau3[Nat],Arrivées!$C29)","v":0},0]
[null,"Libye","LY",{"$f":"COUNTIFS(Tableau3[Arrivée],Arrivées!D$3,Tableau3[Nat],Arrivées!$C30)","v":0},{"$f":"COUNTIFS(Tableau3[Arrivée],Arrivées!E$3,Tableau3[Nat],Arrivées!$C30)","v":0},{"$f":"COUNTIFS(Tableau3[Arrivée],Arrivées!F$3,Tableau3[Nat],Arrivées!$C30)","v":0},{"$f":"COUNTIFS(Tableau3[Arrivée],Arrivées!G$3,Tableau3[Nat],Arrivées!$C30)","v":0},{"$f":"COUNTIFS(Tableau3[Arrivée],Arrivées!H$3,Tableau3[Nat],Arrivées!$C30)","v":0},{"$f":"COUNTIFS(Tableau3[Arrivée],Arrivées!I$3,Tableau3[Nat],Arrivées!$C30)","v":0},{"$f":"COUNTIFS(Tableau3[Arrivée],Arrivées!J$3,Tableau3[Nat],Arrivées!$C30)","v":0},{"$f":"COUNTIFS(Tableau3[Arrivée],Arrivées!K$3,Tableau3[Nat],Arrivées!$C30)","v":0},{"$f":"COUNTIFS(Tableau3[Arrivée],Arrivées!L$3,Tableau3[Nat],Arrivées!$C30)","v":0},{"$f":"COUNTIFS(Tableau3[Arrivée],Arrivées!M$3,Tableau3[Nat],Arrivées!$C30)","v":0},{"$f":"COUNTIFS(Tableau3[Arrivée],Arrivées!N$3,Tableau3[Nat],Arrivées!$C30)","v":0},{"$f":"COUNTIFS(Tableau3[Arrivée],Arrivées!O$3,Tableau3[Nat],Arrivées!$C30)","v":0},{"$f":"COUNTIFS(Tableau3[Arrivée],Arrivées!P$3,Tableau3[Nat],Arrivées!$C30)","v":0},{"$f":"COUNTIFS(Tableau3[Arrivée],Arrivées!Q$3,Tableau3[Nat],Arrivées!$C30)","v":0},{"$f":"COUNTIFS(Tableau3[Arrivée],Arrivées!R$3,Tableau3[Nat],Arrivées!$C30)","v":0},{"$f":"COUNTIFS(Tableau3[Arrivée],Arrivées!S$3,Tableau3[Nat],Arrivées!$C30)","v":0},{"$f":"COUNTIFS(Tableau3[Arrivée],Arrivées!T$3,Tableau3[Nat],Arrivées!$C30)","v":0},{"$f":"COUNTIFS(Tableau3[Arrivée],Arrivées!U$3,Tableau3[Nat],Arrivées!$C30)","v":0},{"$f":"COUNTIFS(Tableau3[Arrivée],Arrivées!V$3,Tableau3[Nat],Arrivées!$C30)","v":0},{"$f":"COUNTIFS(Tableau3[Arrivée],Arrivées!W$3,Tableau3[Nat],Arrivées!$C30)","v":0},{"$f":"COUNTIFS(Tableau3[Arrivée],Arrivées!X$3,Tableau3[Nat],Arrivées!$C30)","v":0},{"$f":"COUNTIFS(Tableau3[Arrivée],Arrivées!Y$3,Tableau3[Nat],Arrivées!$C30)","v":0},{"$f":"COUNTIFS(Tableau3[Arrivée],Arrivées!Z$3,Tableau3[Nat],Arrivées!$C30)","v":0},{"$f":"COUNTIFS(Tableau3[Arrivée],Arrivées!AA$3,Tableau3[Nat],Arrivées!$C30)","v":0},{"$f":"COUNTIFS(Tableau3[Arrivée],Arrivées!AB$3,Tableau3[Nat],Arrivées!$C30)","v":0},{"$f":"COUNTIFS(Tableau3[Arrivée],Arrivées!AC$3,Tableau3[Nat],Arrivées!$C30)","v":0},{"$f":"COUNTIFS(Tableau3[Arrivée],Arrivées!AD$3,Tableau3[Nat],Arrivées!$C30)","v":0},{"$f":"COUNTIFS(Tableau3[Arrivée],Arrivées!AE$3,Tableau3[Nat],Arrivées!$C30)","v":0},{"$f":"COUNTIFS(Tableau3[Arrivée],Arrivées!AF$3,Tableau3[Nat],Arrivées!$C30)","v":0},{"$f":"COUNTIFS(Tableau3[Arrivée],Arrivées!AG$3,Tableau3[Nat],Arrivées!$C30)","v":0},{"$f":"COUNTIFS(Tableau3[Arrivée],Arrivées!AH$3,Tableau3[Nat],Arrivées!$C30)","v":0},0]
[null,"Mauritanie","MR",{"$f":"COUNTIFS(Tableau3[Arrivée],Arrivées!D$3,Tableau3[Nat],Arrivées!$C31)","v":0},{"$f":"COUNTIFS(Tableau3[Arrivée],Arrivées!E$3,Tableau3[Nat],Arrivées!$C31)","v":0},{"$f":"COUNTIFS(Tableau3[Arrivée],Arrivées!F$3,Tableau3[Nat],Arrivées!$C31)","v":0},{"$f":"COUNTIFS(Tableau3[Arrivée],Arrivées!G$3,Tableau3[Nat],Arrivées!$C31)","v":0},{"$f":"COUNTIFS(Tableau3[Arrivée],Arrivées!H$3,Tableau3[Nat],Arrivées!$C31)","v":0},{"$f":"COUNTIFS(Tableau3[Arrivée],Arrivées!I$3,Tableau3[Nat],Arrivées!$C31)","v":0},{"$f":"COUNTIFS(Tableau3[Arrivée],Arrivées!J$3,Tableau3[Nat],Arrivées!$C31)","v":0},{"$f":"COUNTIFS(Tableau3[Arrivée],Arrivées!K$3,Tableau3[Nat],Arrivées!$C31)","v":0},{"$f":"COUNTIFS(Tableau3[Arrivée],Arrivées!L$3,Tableau3[Nat],Arrivées!$C31)","v":0},{"$f":"COUNTIFS(Tableau3[Arrivée],Arrivées!M$3,Tableau3[Nat],Arrivées!$C31)","v":0},{"$f":"COUNTIFS(Tableau3[Arrivée],Arrivées!N$3,Tableau3[Nat],Arrivées!$C31)","v":0},{"$f":"COUNTIFS(Tableau3[Arrivée],Arrivées!O$3,Tableau3[Nat],Arrivées!$C31)","v":0},{"$f":"COUNTIFS(Tableau3[Arrivée],Arrivées!P$3,Tableau3[Nat],Arrivées!$C31)","v":0},{"$f":"COUNTIFS(Tableau3[Arrivée],Arrivées!Q$3,Tableau3[Nat],Arrivées!$C31)","v":0},{"$f":"COUNTIFS(Tableau3[Arrivée],Arrivées!R$3,Tableau3[Nat],Arrivées!$C31)","v":0},{"$f":"COUNTIFS(Tableau3[Arrivée],Arrivées!S$3,Tableau3[Nat],Arrivées!$C31)","v":0},{"$f":"COUNTIFS(Tableau3[Arrivée],Arrivées!T$3,Tableau3[Nat],Arrivées!$C31)","v":0},{"$f":"COUNTIFS(Tableau3[Arrivée],Arrivées!U$3,Tableau3[Nat],Arrivées!$C31)","v":0},{"$f":"COUNTIFS(Tableau3[Arrivée],Arrivées!V$3,Tableau3[Nat],Arrivées!$C31)","v":0},{"$f":"COUNTIFS(Tableau3[Arrivée],Arrivées!W$3,Tableau3[Nat],Arrivées!$C31)","v":0},{"$f":"COUNTIFS(Tableau3[Arrivée],Arrivées!X$3,Tableau3[Nat],Arrivées!$C31)","v":0},{"$f":"COUNTIFS(Tableau3[Arrivée],Arrivées!Y$3,Tableau3[Nat],Arrivées!$C31)","v":0},{"$f":"COUNTIFS(Tableau3[Arrivée],Arrivées!Z$3,Tableau3[Nat],Arrivées!$C31)","v":0},{"$f":"COUNTIFS(Tableau3[Arrivée],Arrivées!AA$3,Tableau3[Nat],Arrivées!$C31)","v":0},{"$f":"COUNTIFS(Tableau3[Arrivée],Arrivées!AB$3,Tableau3[Nat],Arrivées!$C31)","v":0},{"$f":"COUNTIFS(Tableau3[Arrivée],Arrivées!AC$3,Tableau3[Nat],Arrivées!$C31)","v":0},{"$f":"COUNTIFS(Tableau3[Arrivée],Arrivées!AD$3,Tableau3[Nat],Arrivées!$C31)","v":0},{"$f":"COUNTIFS(Tableau3[Arrivée],Arrivées!AE$3,Tableau3[Nat],Arrivées!$C31)","v":0},{"$f":"COUNTIFS(Tableau3[Arrivée],Arrivées!AF$3,Tableau3[Nat],Arrivées!$C31)","v":0},{"$f":"COUNTIFS(Tableau3[Arrivée],Arrivées!AG$3,Tableau3[Nat],Arrivées!$C31)","v":0},{"$f":"COUNTIFS(Tableau3[Arrivée],Arrivées!AH$3,Tableau3[Nat],Arrivées!$C31)","v":0},0]
[null,"Arabie Saoudite","SA",{"$f":"COUNTIFS(Tableau3[Arrivée],Arrivées!D$3,Tableau3[Nat],Arrivées!$C32)","v":0},{"$f":"COUNTIFS(Tableau3[Arrivée],Arrivées!E$3,Tableau3[Nat],Arrivées!$C32)","v":0},{"$f":"COUNTIFS(Tableau3[Arrivée],Arrivées!F$3,Tableau3[Nat],Arrivées!$C32)","v":0},{"$f":"COUNTIFS(Tableau3[Arrivée],Arrivées!G$3,Tableau3[Nat],Arrivées!$C32)","v":0},{"$f":"COUNTIFS(Tableau3[Arrivée],Arrivées!H$3,Tableau3[Nat],Arrivées!$C32)","v":0},{"$f":"COUNTIFS(Tableau3[Arrivée],Arrivées!I$3,Tableau3[Nat],Arrivées!$C32)","v":0},{"$f":"COUNTIFS(Tableau3[Arrivée],Arrivées!J$3,Tableau3[Nat],Arrivées!$C32)","v":0},{"$f":"COUNTIFS(Tableau3[Arrivée],Arrivées!K$3,Tableau3[Nat],Arrivées!$C32)","v":0},{"$f":"COUNTIFS(Tableau3[Arrivée],Arrivées!L$3,Tableau3[Nat],Arrivées!$C32)","v":0},{"$f":"COUNTIFS(Tableau3[Arrivée],Arrivées!M$3,Tableau3[Nat],Arrivées!$C32)","v":0},{"$f":"COUNTIFS(Tableau3[Arrivée],Arrivées!N$3,Tableau3[Nat],Arrivées!$C32)","v":0},{"$f":"COUNTIFS(Tableau3[Arrivée],Arrivées!O$3,Tableau3[Nat],Arrivées!$C32)","v":0},{"$f":"COUNTIFS(Tableau3[Arrivée],Arrivées!P$3,Tableau3[Nat],Arrivées!$C32)","v":0},{"$f":"COUNTIFS(Tableau3[Arrivée],Arrivées!Q$3,Tableau3[Nat],Arrivées!$C32)","v":0},{"$f":"COUNTIFS(Tableau3[Arrivée],Arrivées!R$3,Tableau3[Nat],Arrivées!$C32)","v":0},{"$f":"COUNTIFS(Tableau3[Arrivée],Arrivées!S$3,Tableau3[Nat],Arrivées!$C32)","v":0},{"$f":"COUNTIFS(Tableau3[Arrivée],Arrivées!T$3,Tableau3[Nat],Arrivées!$C32)","v":0},{"$f":"COUNTIFS(Tableau3[Arrivée],Arrivées!U$3,Tableau3[Nat],Arrivées!$C32)","v":0},{"$f":"COUNTIFS(Tableau3[Arrivée],Arrivées!V$3,Tableau3[Nat],Arrivées!$C32)","v":0},{"$f":"COUNTIFS(Tableau3[Arrivée],Arrivées!W$3,Tableau3[Nat],Arrivées!$C32)","v":0},{"$f":"COUNTIFS(Tableau3[Arrivée],Arrivées!X$3,Tableau3[Nat],Arrivées!$C32)","v":0},{"$f":"COUNTIFS(Tableau3[Arrivée],Arrivées!Y$3,Tableau3[Nat],Arrivées!$C32)","v":0},{"$f":"COUNTIFS(Tableau3[Arrivée],Arrivées!Z$3,Tableau3[Nat],Arrivées!$C32)","v":0},{"$f":"COUNTIFS(Tableau3[Arrivée],Arrivées!AA$3,Tableau3[Nat],Arrivées!$C32)","v":0},{"$f":"COUNTIFS(Tableau3[Arrivée],Arrivées!AB$3,Tableau3[Nat],Arrivées!$C32)","v":0},{"$f":"COUNTIFS(Tableau3[Arrivée],Arrivées!AC$3,Tableau3[Nat],Arrivées!$C32)","v":0},{"$f":"COUNTIFS(Tableau3[Arrivée],Arrivées!AD$3,Tableau3[Nat],Arrivées!$C32)","v":0},{"$f":"COUNTIFS(Tableau3[Arrivée],Arrivées!AE$3,Tableau3[Nat],Arrivées!$C32)","v":0},{"$f":"COUNTIFS(Tableau3[Arrivée],Arrivées!AF$3,Tableau3[Nat],Arrivées!$C32)","v":0},{"$f":"COUNTIFS(Tableau3[Arrivée],Arrivées!AG$3,Tableau3[Nat],Arrivées!$C32)","v":0},{"$f":"COUNTIFS(Tableau3[Arrivée],Arrivées!AH$3,Tableau3[Nat],Arrivées!$C32)","v":0},0]
[null,"Egypte","EG",{"$f":"COUNTIFS(Tableau3[Arrivée],Arrivées!D$3,Tableau3[Nat],Arrivées!$C33)","v":0},{"$f":"COUNTIFS(Tableau3[Arrivée],Arrivées!E$3,Tableau3[Nat],Arrivées!$C33)","v":0},{"$f":"COUNTIFS(Tableau3[Arrivée],Arrivées!F$3,Tableau3[Nat],Arrivées!$C33)","v":0},{"$f":"COUNTIFS(Tableau3[Arrivée],Arrivées!G$3,Tableau3[Nat],Arrivées!$C33)","v":0},{"$f":"COUNTIFS(Tableau3[Arrivée],Arrivées!H$3,Tableau3[Nat],Arrivées!$C33)","v":0},{"$f":"COUNTIFS(Tableau3[Arrivée],Arrivées!I$3,Tableau3[Nat],Arrivées!$C33)","v":0},{"$f":"COUNTIFS(Tableau3[Arrivée],Arrivées!J$3,Tableau3[Nat],Arrivées!$C33)","v":0},{"$f":"COUNTIFS(Tableau3[Arrivée],Arrivées!K$3,Tableau3[Nat],Arrivées!$C33)","v":0},{"$f":"COUNTIFS(Tableau3[Arrivée],Arrivées!L$3,Tableau3[Nat],Arrivées!$C33)","v":0},{"$f":"COUNTIFS(Tableau3[Arrivée],Arrivées!M$3,Tableau3[Nat],Arrivées!$C33)","v":0},{"$f":"COUNTIFS(Tableau3[Arrivée],Arrivées!N$3,Tableau3[Nat],Arrivées!$C33)","v":0},{"$f":"COUNTIFS(Tableau3[Arrivée],Arrivées!O$3,Tableau3[Nat],Arrivées!$C33)","v":0},{"$f":"COUNTIFS(Tableau3[Arrivée],Arrivées!P$3,Tableau3[Nat],Arrivées!$C33)","v":0},{"$f":"COUNTIFS(Tableau3[Arrivée],Arrivées!Q$3,Tableau3[Nat],Arrivées!$C33)","v":0},{"$f":"COUNTIFS(Tableau3[Arrivée],Arrivées!R$3,Tableau3[Nat],Arrivées!$C33)","v":0},{"$f":"COUNTIFS(Tableau3[Arrivée],Arrivées!S$3,Tableau3[Nat],Arrivées!$C33)","v":0},{"$f":"COUNTIFS(Tableau3[Arrivée],Arrivées!T$3,Tableau3[Nat],Arrivées!$C33)","v":0},{"$f":"COUNTIFS(Tableau3[Arrivée],Arrivées!U$3,Tableau3[Nat],Arrivées!$C33)","v":0},{"$f":"COUNTIFS(Tableau3[Arrivée],Arrivées!V$3,Tableau3[Nat],Arrivées!$C33)","v":0},{"$f":"COUNTIFS(Tableau3[Arrivée],Arrivées!W$3,Tableau3[Nat],Arrivées!$C33)","v":0},{"$f":"COUNTIFS(Tableau3[Arrivée],Arrivées!X$3,Tableau3[Nat],Arrivées!$C33)","v":0},{"$f":"COUNTIFS(Tableau3[Arrivée],Arrivées!Y$3,Tableau3[Nat],Arrivées!$C33)","v":0},{"$f":"COUNTIFS(Tableau3[Arrivée],Arrivées!Z$3,Tableau3[Nat],Arrivées!$C33)","v":0},{"$f":"COUNTIFS(Tableau3[Arrivée],Arrivées!AA$3,Tableau3[Nat],Arrivées!$C33)","v":0},{"$f":"COUNTIFS(Tableau3[Arrivée],Arrivées!AB$3,Tableau3[Nat],Arrivées!$C33)","v":0},{"$f":"COUNTIFS(Tableau3[Arrivée],Arrivées!AC$3,Tableau3[Nat],Arrivées!$C33)","v":0},{"$f":"COUNTIFS(Tableau3[Arrivée],Arrivées!AD$3,Tableau3[Nat],Arrivées!$C33)","v":0},{"$f":"COUNTIFS(Tableau3[Arrivée],Arrivées!AE$3,Tableau3[Nat],Arrivées!$C33)","v":0},{"$f":"COUNTIFS(Tableau3[Arrivée],Arrivées!AF$3,Tableau3[Nat],Arrivées!$C33)","v":0},{"$f":"COUNTIFS(Tableau3[Arrivée],Arrivées!AG$3,Tableau3[Nat],Arrivées!$C33)","v":0},{"$f":"COUNTIFS(Tableau3[Arrivée],Arrivées!AH$3,Tableau3[Nat],Arrivées!$C33)","v":0},0]
[null,"Syrie","SY",{"$f":"COUNTIFS(Tableau3[Arrivée],Arrivées!D$3,Tableau3[Nat],Arrivées!$C34)","v":0},{"$f":"COUNTIFS(Tableau3[Arrivée],Arrivées!E$3,Tableau3[Nat],Arrivées!$C34)","v":0},{"$f":"COUNTIFS(Tableau3[Arrivée],Arrivées!F$3,Tableau3[Nat],Arrivées!$C34)","v":0},{"$f":"COUNTIFS(Tableau3[Arrivée],Arrivées!G$3,Tableau3[Nat],Arrivées!$C34)","v":0},{"$f":"COUNTIFS(Tableau3[Arrivée],Arrivées!H$3,Tableau3[Nat],Arrivées!$C34)","v":0},{"$f":"COUNTIFS(Tableau3[Arrivée],Arrivées!I$3,Tableau3[Nat],Arrivées!$C34)","v":0},{"$f":"COUNTIFS(Tableau3[Arrivée],Arrivées!J$3,Tableau3[Nat],Arrivées!$C34)","v":0},{"$f":"COUNTIFS(Tableau3[Arrivée],Arrivées!K$3,Tableau3[Nat],Arrivées!$C34)","v":0},{"$f":"COUNTIFS(Tableau3[Arrivée],Arrivées!L$3,Tableau3[Nat],Arrivées!$C34)","v":0},{"$f":"COUNTIFS(Tableau3[Arrivée],Arrivées!M$3,Tableau3[Nat],Arrivées!$C34)","v":0},{"$f":"COUNTIFS(Tableau3[Arrivée],Arrivées!N$3,Tableau3[Nat],Arrivées!$C34)","v":0},{"$f":"COUNTIFS(Tableau3[Arrivée],Arrivées!O$3,Tableau3[Nat],Arrivées!$C34)","v":0},{"$f":"COUNTIFS(Tableau3[Arrivée],Arrivées!P$3,Tableau3[Nat],Arrivées!$C34)","v":0},{"$f":"COUNTIFS(Tableau3[Arrivée],Arrivées!Q$3,Tableau3[Nat],Arrivées!$C34)","v":0},{"$f":"COUNTIFS(Tableau3[Arrivée],Arrivées!R$3,Tableau3[Nat],Arrivées!$C34)","v":0},{"$f":"COUNTIFS(Tableau3[Arrivée],Arrivées!S$3,Tableau3[Nat],Arrivées!$C34)","v":0},{"$f":"COUNTIFS(Tableau3[Arrivée],Arrivées!T$3,Tableau3[Nat],Arrivées!$C34)","v":0},{"$f":"COUNTIFS(Tableau3[Arrivée],Arrivées!U$3,Tableau3[Nat],Arrivées!$C34)","v":0},{"$f":"COUNTIFS(Tableau3[Arrivée],Arrivées!V$3,Tableau3[Nat],Arrivées!$C34)","v":0},{"$f":"COUNTIFS(Tableau3[Arrivée],Arrivées!W$3,Tableau3[Nat],Arrivées!$C34)","v":0},{"$f":"COUNTIFS(Tableau3[Arrivée],Arrivées!X$3,Tableau3[Nat],Arrivées!$C34)","v":0},{"$f":"COUNTIFS(Tableau3[Arrivée],Arrivées!Y$3,Tableau3[Nat],Arrivées!$C34)","v":0},{"$f":"COUNTIFS(Tableau3[Arrivée],Arrivées!Z$3,Tableau3[Nat],Arrivées!$C34)","v":0},{"$f":"COUNTIFS(Tableau3[Arrivée],Arrivées!AA$3,Tableau3[Nat],Arrivées!$C34)","v":0},{"$f":"COUNTIFS(Tableau3[Arrivée],Arrivées!AB$3,Tableau3[Nat],Arrivées!$C34)","v":0},{"$f":"COUNTIFS(Tableau3[Arrivée],Arrivées!AC$3,Tableau3[Nat],Arrivées!$C34)","v":0},{"$f":"COUNTIFS(Tableau3[Arrivée],Arrivées!AD$3,Tableau3[Nat],Arrivées!$C34)","v":0},{"$f":"COUNTIFS(Tableau3[Arrivée],Arrivées!AE$3,Tableau3[Nat],Arrivées!$C34)","v":0},{"$f":"COUNTIFS(Tableau3[Arrivée],Arrivées!AF$3,Tableau3[Nat],Arrivées!$C34)","v":0},{"$f":"COUNTIFS(Tableau3[Arrivée],Arrivées!AG$3,Tableau3[Nat],Arrivées!$C34)","v":0},{"$f":"COUNTIFS(Tableau3[Arrivée],Arrivées!AH$3,Tableau3[Nat],Arrivées!$C34)","v":0},0]
[null,"Emirates Arabe","AE",{"$f":"COUNTIFS(Tableau3[Arrivée],Arrivées!D$3,Tableau3[Nat],Arrivées!$C35)","v":0},{"$f":"COUNTIFS(Tableau3[Arrivée],Arrivées!E$3,Tableau3[Nat],Arrivées!$C35)","v":0},{"$f":"COUNTIFS(Tableau3[Arrivée],Arrivées!F$3,Tableau3[Nat],Arrivées!$C35)","v":0},{"$f":"COUNTIFS(Tableau3[Arrivée],Arrivées!G$3,Tableau3[Nat],Arrivées!$C35)","v":0},{"$f":"COUNTIFS(Tableau3[Arrivée],Arrivées!H$3,Tableau3[Nat],Arrivées!$C35)","v":0},{"$f":"COUNTIFS(Tableau3[Arrivée],Arrivées!I$3,Tableau3[Nat],Arrivées!$C35)","v":0},{"$f":"COUNTIFS(Tableau3[Arrivée],Arrivées!J$3,Tableau3[Nat],Arrivées!$C35)","v":0},{"$f":"COUNTIFS(Tableau3[Arrivée],Arrivées!K$3,Tableau3[Nat],Arrivées!$C35)","v":0},{"$f":"COUNTIFS(Tableau3[Arrivée],Arrivées!L$3,Tableau3[Nat],Arrivées!$C35)","v":0},{"$f":"COUNTIFS(Tableau3[Arrivée],Arrivées!M$3,Tableau3[Nat],Arrivées!$C35)","v":0},{"$f":"COUNTIFS(Tableau3[Arrivée],Arrivées!N$3,Tableau3[Nat],Arrivées!$C35)","v":0},{"$f":"COUNTIFS(Tableau3[Arrivée],Arrivées!O$3,Tableau3[Nat],Arrivées!$C35)","v":0},{"$f":"COUNTIFS(Tableau3[Arrivée],Arrivées!P$3,Tableau3[Nat],Arrivées!$C35)","v":0},{"$f":"COUNTIFS(Tableau3[Arrivée],Arrivées!Q$3,Tableau3[Nat],Arrivées!$C35)","v":0},{"$f":"COUNTIFS(Tableau3[Arrivée],Arrivées!R$3,Tableau3[Nat],Arrivées!$C35)","v":0},{"$f":"COUNTIFS(Tableau3[Arrivée],Arrivées!S$3,Tableau3[Nat],Arrivées!$C35)","v":0},{"$f":"COUNTIFS(Tableau3[Arrivée],Arrivées!T$3,Tableau3[Nat],Arrivées!$C35)","v":0},{"$f":"COUNTIFS(Tableau3[Arrivée],Arrivées!U$3,Tableau3[Nat],Arrivées!$C35)","v":0},{"$f":"COUNTIFS(Tableau3[Arrivée],Arrivées!V$3,Tableau3[Nat],Arrivées!$C35)","v":0},{"$f":"COUNTIFS(Tableau3[Arrivée],Arrivées!W$3,Tableau3[Nat],Arrivées!$C35)","v":0},{"$f":"COUNTIFS(Tableau3[Arrivée],Arrivées!X$3,Tableau3[Nat],Arrivées!$C35)","v":0},{"$f":"COUNTIFS(Tableau3[Arrivée],Arrivées!Y$3,Tableau3[Nat],Arrivées!$C35)","v":0},{"$f":"COUNTIFS(Tableau3[Arrivée],Arrivées!Z$3,Tableau3[Nat],Arrivées!$C35)","v":0},{"$f":"COUNTIFS(Tableau3[Arrivée],Arrivées!AA$3,Tableau3[Nat],Arrivées!$C35)","v":0},{"$f":"COUNTIFS(Tableau3[Arrivée],Arrivées!AB$3,Tableau3[Nat],Arrivées!$C35)","v":0},{"$f":"COUNTIFS(Tableau3[Arrivée],Arrivées!AC$3,Tableau3[Nat],Arrivées!$C35)","v":0},{"$f":"COUNTIFS(Tableau3[Arrivée],Arrivées!AD$3,Tableau3[Nat],Arrivées!$C35)","v":0},{"$f":"COUNTIFS(Tableau3[Arrivée],Arrivées!AE$3,Tableau3[Nat],Arrivées!$C35)","v":0},{"$f":"COUNTIFS(Tableau3[Arrivée],Arrivées!AF$3,Tableau3[Nat],Arrivées!$C35)","v":0},{"$f":"COUNTIFS(Tableau3[Arrivée],Arrivées!AG$3,Tableau3[Nat],Arrivées!$C35)","v":0},{"$f":"COUNTIFS(Tableau3[Arrivée],Arrivées!AH$3,Tableau3[Nat],Arrivées!$C35)","v":0},0]
[null,"Liban","LB",{"$f":"COUNTIFS(Tableau3[Arrivée],Arrivées!D$3,Tableau3[Nat],Arrivées!$C36)","v":0},{"$f":"COUNTIFS(Tableau3[Arrivée],Arrivées!E$3,Tableau3[Nat],Arrivées!$C36)","v":0},{"$f":"COUNTIFS(Tableau3[Arrivée],Arrivées!F$3,Tableau3[Nat],Arrivées!$C36)","v":0},{"$f":"COUNTIFS(Tableau3[Arrivée],Arrivées!G$3,Tableau3[Nat],Arrivées!$C36)","v":0},{"$f":"COUNTIFS(Tableau3[Arrivée],Arrivées!H$3,Tableau3[Nat],Arrivées!$C36)","v":0},{"$f":"COUNTIFS(Tableau3[Arrivée],Arrivées!I$3,Tableau3[Nat],Arrivées!$C36)","v":0},{"$f":"COUNTIFS(Tableau3[Arrivée],Arrivées!J$3,Tableau3[Nat],Arrivées!$C36)","v":0},{"$f":"COUNTIFS(Tableau3[Arrivée],Arrivées!K$3,Tableau3[Nat],Arrivées!$C36)","v":0},{"$f":"COUNTIFS(Tableau3[Arrivée],Arrivées!L$3,Tableau3[Nat],Arrivées!$C36)","v":0},{"$f":"COUNTIFS(Tableau3[Arrivée],Arrivées!M$3,Tableau3[Nat],Arrivées!$C36)","v":0},{"$f":"COUNTIFS(Tableau3[Arrivée],Arrivées!N$3,Tableau3[Nat],Arrivées!$C36)","v":0},{"$f":"COUNTIFS(Tableau3[Arrivée],Arrivées!O$3,Tableau3[Nat],Arrivées!$C36)","v":0},{"$f":"COUNTIFS(Tableau3[Arrivée],Arrivées!P$3,Tableau3[Nat],Arrivées!$C36)","v":0},{"$f":"COUNTIFS(Tableau3[Arrivée],Arrivées!Q$3,Tableau3[Nat],Arrivées!$C36)","v":0},{"$f":"COUNTIFS(Tableau3[Arrivée],Arrivées!R$3,Tableau3[Nat],Arrivées!$C36)","v":0},{"$f":"COUNTIFS(Tableau3[Arrivée],Arrivées!S$3,Tableau3[Nat],Arrivées!$C36)","v":0},{"$f":"COUNTIFS(Tableau3[Arrivée],Arrivées!T$3,Tableau3[Nat],Arrivées!$C36)","v":0},{"$f":"COUNTIFS(Tableau3[Arrivée],Arrivées!U$3,Tableau3[Nat],Arrivées!$C36)","v":0},{"$f":"COUNTIFS(Tableau3[Arrivée],Arrivées!V$3,Tableau3[Nat],Arrivées!$C36)","v":0},{"$f":"COUNTIFS(Tableau3[Arrivée],Arrivées!W$3,Tableau3[Nat],Arrivées!$C36)","v":0},{"$f":"COUNTIFS(Tableau3[Arrivée],Arrivées!X$3,Tableau3[Nat],Arrivées!$C36)","v":0},{"$f":"COUNTIFS(Tableau3[Arrivée],Arrivées!Y$3,Tableau3[Nat],Arrivées!$C36)","v":0},{"$f":"COUNTIFS(Tableau3[Arrivée],Arrivées!Z$3,Tableau3[Nat],Arrivées!$C36)","v":0},{"$f":"COUNTIFS(Tableau3[Arrivée],Arrivées!AA$3,Tableau3[Nat],Arrivées!$C36)","v":0},{"$f":"COUNTIFS(Tableau3[Arrivée],Arrivées!AB$3,Tableau3[Nat],Arrivées!$C36)","v":0},{"$f":"COUNTIFS(Tableau3[Arrivée],Arrivées!AC$3,Tableau3[Nat],Arrivées!$C36)","v":0},{"$f":"COUNTIFS(Tableau3[Arrivée],Arrivées!AD$3,Tableau3[Nat],Arrivées!$C36)","v":0},{"$f":"COUNTIFS(Tableau3[Arrivée],Arrivées!AE$3,Tableau3[Nat],Arrivées!$C36)","v":0},{"$f":"COUNTIFS(Tableau3[Arrivée],Arrivées!AF$3,Tableau3[Nat],Arrivées!$C36)","v":0},{"$f":"COUNTIFS(Tableau3[Arrivée],Arrivées!AG$3,Tableau3[Nat],Arrivées!$C36)","v":0},{"$f":"COUNTIFS(Tableau3[Arrivée],Arrivées!AH$3,Tableau3[Nat],Arrivées!$C36)","v":0},0]
[null,"Kuweit","KW",{"$f":"COUNTIFS(Tableau3[Arrivée],Arrivées!D$3,Tableau3[Nat],Arrivées!$C37)","v":0},{"$f":"COUNTIFS(Tableau3[Arrivée],Arrivées!E$3,Tableau3[Nat],Arrivées!$C37)","v":0},{"$f":"COUNTIFS(Tableau3[Arrivée],Arrivées!F$3,Tableau3[Nat],Arrivées!$C37)","v":0},{"$f":"COUNTIFS(Tableau3[Arrivée],Arrivées!G$3,Tableau3[Nat],Arrivées!$C37)","v":0},{"$f":"COUNTIFS(Tableau3[Arrivée],Arrivées!H$3,Tableau3[Nat],Arrivées!$C37)","v":0},{"$f":"COUNTIFS(Tableau3[Arrivée],Arrivées!I$3,Tableau3[Nat],Arrivées!$C37)","v":0},{"$f":"COUNTIFS(Tableau3[Arrivée],Arrivées!J$3,Tableau3[Nat],Arrivées!$C37)","v":0},{"$f":"COUNTIFS(Tableau3[Arrivée],Arrivées!K$3,Tableau3[Nat],Arrivées!$C37)","v":0},{"$f":"COUNTIFS(Tableau3[Arrivée],Arrivées!L$3,Tableau3[Nat],Arrivées!$C37)","v":0},{"$f":"COUNTIFS(Tableau3[Arrivée],Arrivées!M$3,Tableau3[Nat],Arrivées!$C37)","v":0},{"$f":"COUNTIFS(Tableau3[Arrivée],Arrivées!N$3,Tableau3[Nat],Arrivées!$C37)","v":0},{"$f":"COUNTIFS(Tableau3[Arrivée],Arrivées!O$3,Tableau3[Nat],Arrivées!$C37)","v":0},{"$f":"COUNTIFS(Tableau3[Arrivée],Arrivées!P$3,Tableau3[Nat],Arrivées!$C37)","v":0},{"$f":"COUNTIFS(Tableau3[Arrivée],Arrivées!Q$3,Tableau3[Nat],Arrivées!$C37)","v":0},{"$f":"COUNTIFS(Tableau3[Arrivée],Arrivées!R$3,Tableau3[Nat],Arrivées!$C37)","v":0},{"$f":"COUNTIFS(Tableau3[Arrivée],Arrivées!S$3,Tableau3[Nat],Arrivées!$C37)","v":0},{"$f":"COUNTIFS(Tableau3[Arrivée],Arrivées!T$3,Tableau3[Nat],Arrivées!$C37)","v":0},{"$f":"COUNTIFS(Tableau3[Arrivée],Arrivées!U$3,Tableau3[Nat],Arrivées!$C37)","v":0},{"$f":"COUNTIFS(Tableau3[Arrivée],Arrivées!V$3,Tableau3[Nat],Arrivées!$C37)","v":0},{"$f":"COUNTIFS(Tableau3[Arrivée],Arrivées!W$3,Tableau3[Nat],Arrivées!$C37)","v":0},{"$f":"COUNTIFS(Tableau3[Arrivée],Arrivées!X$3,Tableau3[Nat],Arrivées!$C37)","v":0},{"$f":"COUNTIFS(Tableau3[Arrivée],Arrivées!Y$3,Tableau3[Nat],Arrivées!$C37)","v":0},{"$f":"COUNTIFS(Tableau3[Arrivée],Arrivées!Z$3,Tableau3[Nat],Arrivées!$C37)","v":0},{"$f":"COUNTIFS(Tableau3[Arrivée],Arrivées!AA$3,Tableau3[Nat],Arrivées!$C37)","v":0},{"$f":"COUNTIFS(Tableau3[Arrivée],Arrivées!AB$3,Tableau3[Nat],Arrivées!$C37)","v":0},{"$f":"COUNTIFS(Tableau3[Arrivée],Arrivées!AC$3,Tableau3[Nat],Arrivées!$C37)","v":0},{"$f":"COUNTIFS(Tableau3[Arrivée],Arrivées!AD$3,Tableau3[Nat],Arrivées!$C37)","v":0},{"$f":"COUNTIFS(Tableau3[Arrivée],Arrivées!AE$3,Tableau3[Nat],Arrivées!$C37)","v":0},{"$f":"COUNTIFS(Tableau3[Arrivée],Arrivées!AF$3,Tableau3[Nat],Arrivées!$C37)","v":0},{"$f":"COUNTIFS(Tableau3[Arrivée],Arrivées!AG$3,Tableau3[Nat],Arrivées!$C37)","v":0},{"$f":"COUNTIFS(Tableau3[Arrivée],Arrivées!AH$3,Tableau3[Nat],Arrivées!$C37)","v":0},0]
[null,"Cameroun","CM",{"$f":"COUNTIFS(Tableau3[Arrivée],Arrivées!D$3,Tableau3[Nat],Arrivées!$C38)","v":0},{"$f":"COUNTIFS(Tableau3[Arrivée],Arrivées!E$3,Tableau3[Nat],Arrivées!$C38)","v":0},{"$f":"COUNTIFS(Tableau3[Arrivée],Arrivées!F$3,Tableau3[Nat],Arrivées!$C38)","v":0},{"$f":"COUNTIFS(Tableau3[Arrivée],Arrivées!G$3,Tableau3[Nat],Arrivées!$C38)","v":0},{"$f":"COUNTIFS(Tableau3[Arrivée],Arrivées!H$3,Tableau3[Nat],Arrivées!$C38)","v":0},{"$f":"COUNTIFS(Tableau3[Arrivée],Arrivées!I$3,Tableau3[Nat],Arrivées!$C38)","v":0},{"$f":"COUNTIFS(Tableau3[Arrivée],Arrivées!J$3,Tableau3[Nat],Arrivées!$C38)","v":0},{"$f":"COUNTIFS(Tableau3[Arrivée],Arrivées!K$3,Tableau3[Nat],Arrivées!$C38)","v":0},{"$f":"COUNTIFS(Tableau3[Arrivée],Arrivées!L$3,Tableau3[Nat],Arrivées!$C38)","v":0},{"$f":"COUNTIFS(Tableau3[Arrivée],Arrivées!M$3,Tableau3[Nat],Arrivées!$C38)","v":0},{"$f":"COUNTIFS(Tableau3[Arrivée],Arrivées!N$3,Tableau3[Nat],Arrivées!$C38)","v":0},{"$f":"COUNTIFS(Tableau3[Arrivée],Arrivées!O$3,Tableau3[Nat],Arrivées!$C38)","v":0},{"$f":"COUNTIFS(Tableau3[Arrivée],Arrivées!P$3,Tableau3[Nat],Arrivées!$C38)","v":0},{"$f":"COUNTIFS(Tableau3[Arrivée],Arrivées!Q$3,Tableau3[Nat],Arrivées!$C38)","v":0},{"$f":"COUNTIFS(Tableau3[Arrivée],Arrivées!R$3,Tableau3[Nat],Arrivées!$C38)","v":0},{"$f":"COUNTIFS(Tableau3[Arrivée],Arrivées!S$3,Tableau3[Nat],Arrivées!$C38)","v":0},{"$f":"COUNTIFS(Tableau3[Arrivée],Arrivées!T$3,Tableau3[Nat],Arrivées!$C38)","v":0},{"$f":"COUNTIFS(Tableau3[Arrivée],Arrivées!U$3,Tableau3[Nat],Arrivées!$C38)","v":0},{"$f":"COUNTIFS(Tableau3[Arrivée],Arrivées!V$3,Tableau3[Nat],Arrivées!$C38)","v":0},{"$f":"COUNTIFS(Tableau3[Arrivée],Arrivées!W$3,Tableau3[Nat],Arrivées!$C38)","v":0},{"$f":"COUNTIFS(Tableau3[Arrivée],Arrivées!X$3,Tableau3[Nat],Arrivées!$C38)","v":0},{"$f":"COUNTIFS(Tableau3[Arrivée],Arrivées!Y$3,Tableau3[Nat],Arrivées!$C38)","v":0},{"$f":"COUNTIFS(Tableau3[Arrivée],Arrivées!Z$3,Tableau3[Nat],Arrivées!$C38)","v":0},{"$f":"COUNTIFS(Tableau3[Arrivée],Arrivées!AA$3,Tableau3[Nat],Arrivées!$C38)","v":0},{"$f":"COUNTIFS(Tableau3[Arrivée],Arrivées!AB$3,Tableau3[Nat],Arrivées!$C38)","v":0},{"$f":"COUNTIFS(Tableau3[Arrivée],Arrivées!AC$3,Tableau3[Nat],Arrivées!$C38)","v":0},{"$f":"COUNTIFS(Tableau3[Arrivée],Arrivées!AD$3,Tableau3[Nat],Arrivées!$C38)","v":0},{"$f":"COUNTIFS(Tableau3[Arrivée],Arrivées!AE$3,Tableau3[Nat],Arrivées!$C38)","v":0},{"$f":"COUNTIFS(Tableau3[Arrivée],Arrivées!AF$3,Tableau3[Nat],Arrivées!$C38)","v":0},{"$f":"COUNTIFS(Tableau3[Arrivée],Arrivées!AG$3,Tableau3[Nat],Arrivées!$C38)","v":0},{"$f":"COUNTIFS(Tableau3[Arrivée],Arrivées!AH$3,Tableau3[Nat],Arrivées!$C38)","v":0},0]
[null,"Sénégal","SN",{"$f":"COUNTIFS(Tableau3[Arrivée],Arrivées!D$3,Tableau3[Nat],Arrivées!$C39)","v":0},{"$f":"COUNTIFS(Tableau3[Arrivée],Arrivées!E$3,Tableau3[Nat],Arrivées!$C39)","v":0},{"$f":"COUNTIFS(Tableau3[Arrivée],Arrivées!F$3,Tableau3[Nat],Arrivées!$C39)","v":0},{"$f":"COUNTIFS(Tableau3[Arrivée],Arrivées!G$3,Tableau3[Nat],Arrivées!$C39)","v":0},{"$f":"COUNTIFS(Tableau3[Arrivée],Arrivées!H$3,Tableau3[Nat],Arrivées!$C39)","v":0},{"$f":"COUNTIFS(Tableau3[Arrivée],Arrivées!I$3,Tableau3[Nat],Arrivées!$C39)","v":0},{"$f":"COUNTIFS(Tableau3[Arrivée],Arrivées!J$3,Tableau3[Nat],Arrivées!$C39)","v":0},{"$f":"COUNTIFS(Tableau3[Arrivée],Arrivées!K$3,Tableau3[Nat],Arrivées!$C39)","v":0},{"$f":"COUNTIFS(Tableau3[Arrivée],Arrivées!L$3,Tableau3[Nat],Arrivées!$C39)","v":0},{"$f":"COUNTIFS(Tableau3[Arrivée],Arrivées!M$3,Tableau3[Nat],Arrivées!$C39)","v":0},{"$f":"COUNTIFS(Tableau3[Arrivée],Arrivées!N$3,Tableau3[Nat],Arrivées!$C39)","v":0},{"$f":"COUNTIFS(Tableau3[Arrivée],Arrivées!O$3,Tableau3[Nat],Arrivées!$C39)","v":0},{"$f":"COUNTIFS(Tableau3[Arrivée],Arrivées!P$3,Tableau3[Nat],Arrivées!$C39)","v":0},{"$f":"COUNTIFS(Tableau3[Arrivée],Arrivées!Q$3,Tableau3[Nat],Arrivées!$C39)","v":0},{"$f":"COUNTIFS(Tableau3[Arrivée],Arrivées!R$3,Tableau3[Nat],Arrivées!$C39)","v":0},{"$f":"COUNTIFS(Tableau3[Arrivée],Arrivées!S$3,Tableau3[Nat],Arrivées!$C39)","v":0},{"$f":"COUNTIFS(Tableau3[Arrivée],Arrivées!T$3,Tableau3[Nat],Arrivées!$C39)","v":0},{"$f":"COUNTIFS(Tableau3[Arrivée],Arrivées!U$3,Tableau3[Nat],Arrivées!$C39)","v":0},{"$f":"COUNTIFS(Tableau3[Arrivée],Arrivées!V$3,Tableau3[Nat],Arrivées!$C39)","v":0},{"$f":"COUNTIFS(Tableau3[Arrivée],Arrivées!W$3,Tableau3[Nat],Arrivées!$C39)","v":0},{"$f":"COUNTIFS(Tableau3[Arrivée],Arrivées!X$3,Tableau3[Nat],Arrivées!$C39)","v":0},{"$f":"COUNTIFS(Tableau3[Arrivée],Arrivées!Y$3,Tableau3[Nat],Arrivées!$C39)","v":0},{"$f":"COUNTIFS(Tableau3[Arrivée],Arrivées!Z$3,Tableau3[Nat],Arrivées!$C39)","v":0},{"$f":"COUNTIFS(Tableau3[Arrivée],Arrivées!AA$3,Tableau3[Nat],Arrivées!$C39)","v":0},{"$f":"COUNTIFS(Tableau3[Arrivée],Arrivées!AB$3,Tableau3[Nat],Arrivées!$C39)","v":0},{"$f":"COUNTIFS(Tableau3[Arrivée],Arrivées!AC$3,Tableau3[Nat],Arrivées!$C39)","v":0},{"$f":"COUNTIFS(Tableau3[Arrivée],Arrivées!AD$3,Tableau3[Nat],Arrivées!$C39)","v":0},{"$f":"COUNTIFS(Tableau3[Arrivée],Arrivées!AE$3,Tableau3[Nat],Arrivées!$C39)","v":0},{"$f":"COUNTIFS(Tableau3[Arrivée],Arrivées!AF$3,Tableau3[Nat],Arrivées!$C39)","v":0},{"$f":"COUNTIFS(Tableau3[Arrivée],Arrivées!AG$3,Tableau3[Nat],Arrivées!$C39)","v":0},{"$f":"COUNTIFS(Tableau3[Arrivée],Arrivées!AH$3,Tableau3[Nat],Arrivées!$C39)","v":0},0]
[null,"Côte d'ivoire","CI",{"$f":"COUNTIFS(Tableau3[Arrivée],Arrivées!D$3,Tableau3[Nat],Arrivées!$C40)","v":0},{"$f":"COUNTIFS(Tableau3[Arrivée],Arrivées!E$3,Tableau3[Nat],Arrivées!$C40)","v":0},{"$f":"COUNTIFS(Tableau3[Arrivée],Arrivées!F$3,Tableau3[Nat],Arrivées!$C40)","v":0},{"$f":"COUNTIFS(Tableau3[Arrivée],Arrivées!G$3,Tableau3[Nat],Arrivées!$C40)","v":0},{"$f":"COUNTIFS(Tableau3[Arrivée],Arrivées!H$3,Tableau3[Nat],Arrivées!$C40)","v":0},{"$f":"COUNTIFS(Tableau3[Arrivée],Arrivées!I$3,Tableau3[Nat],Arrivées!$C40)","v":0},{"$f":"COUNTIFS(Tableau3[Arrivée],Arrivées!J$3,Tableau3[Nat],Arrivées!$C40)","v":0},{"$f":"COUNTIFS(Tableau3[Arrivée],Arrivées!K$3,Tableau3[Nat],Arrivées!$C40)","v":0},{"$f":"COUNTIFS(Tableau3[Arrivée],Arrivées!L$3,Tableau3[Nat],Arrivées!$C40)","v":0},{"$f":"COUNTIFS(Tableau3[Arrivée],Arrivées!M$3,Tableau3[Nat],Arrivées!$C40)","v":0},{"$f":"COUNTIFS(Tableau3[Arrivée],Arrivées!N$3,Tableau3[Nat],Arrivées!$C40)","v":0},{"$f":"COUNTIFS(Tableau3[Arrivée],Arrivées!O$3,Tableau3[Nat],Arrivées!$C40)","v":0},{"$f":"COUNTIFS(Tableau3[Arrivée],Arrivées!P$3,Tableau3[Nat],Arrivées!$C40)","v":0},{"$f":"COUNTIFS(Tableau3[Arrivée],Arrivées!Q$3,Tableau3[Nat],Arrivées!$C40)","v":0},{"$f":"COUNTIFS(Tableau3[Arrivée],Arrivées!R$3,Tableau3[Nat],Arrivées!$C40)","v":0},{"$f":"COUNTIFS(Tableau3[Arrivée],Arrivées!S$3,Tableau3[Nat],Arrivées!$C40)","v":0},{"$f":"COUNTIFS(Tableau3[Arrivée],Arrivées!T$3,Tableau3[Nat],Arrivées!$C40)","v":0},{"$f":"COUNTIFS(Tableau3[Arrivée],Arrivées!U$3,Tableau3[Nat],Arrivées!$C40)","v":0},{"$f":"COUNTIFS(Tableau3[Arrivée],Arrivées!V$3,Tableau3[Nat],Arrivées!$C40)","v":0},{"$f":"COUNTIFS(Tableau3[Arrivée],Arrivées!W$3,Tableau3[Nat],Arrivées!$C40)","v":0},{"$f":"COUNTIFS(Tableau3[Arrivée],Arrivées!X$3,Tableau3[Nat],Arrivées!$C40)","v":0},{"$f":"COUNTIFS(Tableau3[Arrivée],Arrivées!Y$3,Tableau3[Nat],Arrivées!$C40)","v":0},{"$f":"COUNTIFS(Tableau3[Arrivée],Arrivées!Z$3,Tableau3[Nat],Arrivées!$C40)","v":0},{"$f":"COUNTIFS(Tableau3[Arrivée],Arrivées!AA$3,Tableau3[Nat],Arrivées!$C40)","v":0},{"$f":"COUNTIFS(Tableau3[Arrivée],Arrivées!AB$3,Tableau3[Nat],Arrivées!$C40)","v":0},{"$f":"COUNTIFS(Tableau3[Arrivée],Arrivées!AC$3,Tableau3[Nat],Arrivées!$C40)","v":0},{"$f":"COUNTIFS(Tableau3[Arrivée],Arrivées!AD$3,Tableau3[Nat],Arrivées!$C40)","v":0},{"$f":"COUNTIFS(Tableau3[Arrivée],Arrivées!AE$3,Tableau3[Nat],Arrivées!$C40)","v":0},{"$f":"COUNTIFS(Tableau3[Arrivée],Arrivées!AF$3,Tableau3[Nat],Arrivées!$C40)","v":0},{"$f":"COUNTIFS(Tableau3[Arrivée],Arrivées!AG$3,Tableau3[Nat],Arrivées!$C40)","v":0},{"$f":"COUNTIFS(Tableau3[Arrivée],Arrivées!AH$3,Tableau3[Nat],Arrivées!$C40)","v":0},0]
[null,"Afrique","AF",{"$f":"COUNTIFS(Tableau3[Arrivée],Arrivées!D$3,Tableau3[Nat],Arrivées!$C41)","v":0},{"$f":"COUNTIFS(Tableau3[Arrivée],Arrivées!E$3,Tableau3[Nat],Arrivées!$C41)","v":0},{"$f":"COUNTIFS(Tableau3[Arrivée],Arrivées!F$3,Tableau3[Nat],Arrivées!$C41)","v":0},{"$f":"COUNTIFS(Tableau3[Arrivée],Arrivées!G$3,Tableau3[Nat],Arrivées!$C41)","v":0},{"$f":"COUNTIFS(Tableau3[Arrivée],Arrivées!H$3,Tableau3[Nat],Arrivées!$C41)","v":0},{"$f":"COUNTIFS(Tableau3[Arrivée],Arrivées!I$3,Tableau3[Nat],Arrivées!$C41)","v":0},{"$f":"COUNTIFS(Tableau3[Arrivée],Arrivées!J$3,Tableau3[Nat],Arrivées!$C41)","v":0},{"$f":"COUNTIFS(Tableau3[Arrivée],Arrivées!K$3,Tableau3[Nat],Arrivées!$C41)","v":0},{"$f":"COUNTIFS(Tableau3[Arrivée],Arrivées!L$3,Tableau3[Nat],Arrivées!$C41)","v":0},{"$f":"COUNTIFS(Tableau3[Arrivée],Arrivées!M$3,Tableau3[Nat],Arrivées!$C41)","v":0},{"$f":"COUNTIFS(Tableau3[Arrivée],Arrivées!N$3,Tableau3[Nat],Arrivées!$C41)","v":0},{"$f":"COUNTIFS(Tableau3[Arrivée],Arrivées!O$3,Tableau3[Nat],Arrivées!$C41)","v":0},{"$f":"COUNTIFS(Tableau3[Arrivée],Arrivées!P$3,Tableau3[Nat],Arrivées!$C41)","v":0},{"$f":"COUNTIFS(Tableau3[Arrivée],Arrivées!Q$3,Tableau3[Nat],Arrivées!$C41)","v":0},{"$f":"COUNTIFS(Tableau3[Arrivée],Arrivées!R$3,Tableau3[Nat],Arrivées!$C41)","v":0},{"$f":"COUNTIFS(Tableau3[Arrivée],Arrivées!S$3,Tableau3[Nat],Arrivées!$C41)","v":0},{"$f":"COUNTIFS(Tableau3[Arrivée],Arrivées!T$3,Tableau3[Nat],Arrivées!$C41)","v":0},{"$f":"COUNTIFS(Tableau3[Arrivée],Arrivées!U$3,Tableau3[Nat],Arrivées!$C41)","v":0},{"$f":"COUNTIFS(Tableau3[Arrivée],Arrivées!V$3,Tableau3[Nat],Arrivées!$C41)","v":0},{"$f":"COUNTIFS(Tableau3[Arrivée],Arrivées!W$3,Tableau3[Nat],Arrivées!$C41)","v":0},{"$f":"COUNTIFS(Tableau3[Arrivée],Arrivées!X$3,Tableau3[Nat],Arrivées!$C41)","v":0},{"$f":"COUNTIFS(Tableau3[Arrivée],Arrivées!Y$3,Tableau3[Nat],Arrivées!$C41)","v":0},{"$f":"COUNTIFS(Tableau3[Arrivée],Arrivées!Z$3,Tableau3[Nat],Arrivées!$C41)","v":0},{"$f":"COUNTIFS(Tableau3[Arrivée],Arrivées!AA$3,Tableau3[Nat],Arrivées!$C41)","v":0},{"$f":"COUNTIFS(Tableau3[Arrivée],Arrivées!AB$3,Tableau3[Nat],Arrivées!$C41)","v":0},{"$f":"COUNTIFS(Tableau3[Arrivée],Arrivées!AC$3,Tableau3[Nat],Arrivées!$C41)","v":0},{"$f":"COUNTIFS(Tableau3[Arrivée],Arrivées!AD$3,Tableau3[Nat],Arrivées!$C41)","v":0},{"$f":"COUNTIFS(Tableau3[Arrivée],Arrivées!AE$3,Tableau3[Nat],Arrivées!$C41)","v":0},{"$f":"COUNTIFS(Tableau3[Arrivée],Arrivées!AF$3,Tableau3[Nat],Arrivées!$C41)","v":0},{"$f":"COUNTIFS(Tableau3[Arrivée],Arrivées!AG$3,Tableau3[Nat],Arrivées!$C41)","v":0},{"$f":"COUNTIFS(Tableau3[Arrivée],Arrivées!AH$3,Tableau3[Nat],Arrivées!$C41)","v":0},0]
[null,"Brésil","BR",{"$f":"COUNTIFS(Tableau3[Arrivée],Arrivées!D$3,Tableau3[Nat],Arrivées!$C42)","v":0},{"$f":"COUNTIFS(Tableau3[Arrivée],Arrivées!E$3,Tableau3[Nat],Arrivées!$C42)","v":0},{"$f":"COUNTIFS(Tableau3[Arrivée],Arrivées!F$3,Tableau3[Nat],Arrivées!$C42)","v":0},{"$f":"COUNTIFS(Tableau3[Arrivée],Arrivées!G$3,Tableau3[Nat],Arrivées!$C42)","v":0},{"$f":"COUNTIFS(Tableau3[Arrivée],Arrivées!H$3,Tableau3[Nat],Arrivées!$C42)","v":0},{"$f":"COUNTIFS(Tableau3[Arrivée],Arrivées!I$3,Tableau3[Nat],Arrivées!$C42)","v":0},{"$f":"COUNTIFS(Tableau3[Arrivée],Arrivées!J$3,Tableau3[Nat],Arrivées!$C42)","v":0},{"$f":"COUNTIFS(Tableau3[Arrivée],Arrivées!K$3,Tableau3[Nat],Arrivées!$C42)","v":0},{"$f":"COUNTIFS(Tableau3[Arrivée],Arrivées!L$3,Tableau3[Nat],Arrivées!$C42)","v":0},{"$f":"COUNTIFS(Tableau3[Arrivée],Arrivées!M$3,Tableau3[Nat],Arrivées!$C42)","v":0},{"$f":"COUNTIFS(Tableau3[Arrivée],Arrivées!N$3,Tableau3[Nat],Arrivées!$C42)","v":0},{"$f":"COUNTIFS(Tableau3[Arrivée],Arrivées!O$3,Tableau3[Nat],Arrivées!$C42)","v":0},{"$f":"COUNTIFS(Tableau3[Arrivée],Arrivées!P$3,Tableau3[Nat],Arrivées!$C42)","v":0},{"$f":"COUNTIFS(Tableau3[Arrivée],Arrivées!Q$3,Tableau3[Nat],Arrivées!$C42)","v":0},{"$f":"COUNTIFS(Tableau3[Arrivée],Arrivées!R$3,Tableau3[Nat],Arrivées!$C42)","v":0},{"$f":"COUNTIFS(Tableau3[Arrivée],Arrivées!S$3,Tableau3[Nat],Arrivées!$C42)","v":0},{"$f":"COUNTIFS(Tableau3[Arrivée],Arrivées!T$3,Tableau3[Nat],Arrivées!$C42)","v":0},{"$f":"COUNTIFS(Tableau3[Arrivée],Arrivées!U$3,Tableau3[Nat],Arrivées!$C42)","v":0},{"$f":"COUNTIFS(Tableau3[Arrivée],Arrivées!V$3,Tableau3[Nat],Arrivées!$C42)","v":0},{"$f":"COUNTIFS(Tableau3[Arrivée],Arrivées!W$3,Tableau3[Nat],Arrivées!$C42)","v":0},{"$f":"COUNTIFS(Tableau3[Arrivée],Arrivées!X$3,Tableau3[Nat],Arrivées!$C42)","v":0},{"$f":"COUNTIFS(Tableau3[Arrivée],Arrivées!Y$3,Tableau3[Nat],Arrivées!$C42)","v":0},{"$f":"COUNTIFS(Tableau3[Arrivée],Arrivées!Z$3,Tableau3[Nat],Arrivées!$C42)","v":0},{"$f":"COUNTIFS(Tableau3[Arrivée],Arrivées!AA$3,Tableau3[Nat],Arrivées!$C42)","v":0},{"$f":"COUNTIFS(Tableau3[Arrivée],Arrivées!AB$3,Tableau3[Nat],Arrivées!$C42)","v":0},{"$f":"COUNTIFS(Tableau3[Arrivée],Arrivées!AC$3,Tableau3[Nat],Arrivées!$C42)","v":0},{"$f":"COUNTIFS(Tableau3[Arrivée],Arrivées!AD$3,Tableau3[Nat],Arrivées!$C42)","v":0},{"$f":"COUNTIFS(Tableau3[Arrivée],Arrivées!AE$3,Tableau3[Nat],Arrivées!$C42)","v":0},{"$f":"COUNTIFS(Tableau3[Arrivée],Arrivées!AF$3,Tableau3[Nat],Arrivées!$C42)","v":0},{"$f":"COUNTIFS(Tableau3[Arrivée],Arrivées!AG$3,Tableau3[Nat],Arrivées!$C42)","v":0},{"$f":"COUNTIFS(Tableau3[Arrivée],Arrivées!AH$3,Tableau3[Nat],Arrivées!$C42)","v":0},0]
[null,"Total Arrivée Mensuel",null,{"$f":"SUM(D4:D42)","v":0},{"$f":"SUM(E4:E42)","v":0},1,0,0,0,0,0,0,0,0,0,0,0,0,0,0,0,0,0,0,0,0,0,0,0,0,0,0,0,0,{"$f":"SUM(D43:AH43)","v":1}]
[null,"Chambre Occupées",null,{"$f":"IFERROR(SUM(IF(Listing<>\"\",1/COUNTIF(Listing,Listing))),\"\")","v":""},{"$f":"IFERROR(SUM(IF(Listing<>\"\",1/COUNTIF(Listing,Listing))),\"\")","v":""},{"$f":"IFERROR(SUM(IF(Listing<>\"\",1/COUNTIF(Listing,Listing))),\"\")","v":1},{"$f":"IFERROR(SUM(IF(Listing<>\"\",1/COUNTIF(Listing,Listing))),\"\")","v":""},{"$f":"IFERROR(SUM(IF(Listing<>\"\",1/COUNTIF(Listing,Listing))),\"\")","v":""},{"$f":"IFERROR(SUM(IF(Listing<>\"\",1/COUNTIF(Listing,Listing))),\"\")","v":""},{"$f":"IFERROR(SUM(IF(Listing<>\"\",1/COUNTIF(Listing,Listing))),\"\")","v":""},{"$f":"IFERROR(SUM(IF(Listing<>\"\",1/COUNTIF(Listing,Listing))),\"\")","v":""},{"$f":"IFERROR(SUM(IF(Listing<>\"\",1/COUNTIF(Listing,Listing))),\"\")","v":""},{"$f":"IFERROR(SUM(IF(Listing<>\"\",1/COUNTIF(Listing,Listing))),\"\")","v":""},{"$f":"IFERROR(SUM(IF(Listing<>\"\",1/COUNTIF(Listing,Listing))),\"\")","v":""},{"$f":"IFERROR(SUM(IF(Listing<>\"\",1/COUNTIF(Listing,Listing))),\"\")","v":""},{"$f":"IFERROR(SUM(IF(Listing<>\"\",1/COUNTIF(Listing,Listing))),\"\")","v":""},{"$f":"IFERROR(SUM(IF(Listing<>\"\",1/COUNTIF(Listing,Listing))),\"\")","v":""},{"$f":"IFERROR(SUM(IF(Listing<>\"\",1/COUNTIF(Listing,Listing))),\"\")","v":""},{"$f":"IFERROR(SUM(IF(Listing<>\"\",1/COUNTIF(Listing,Listing))),\"\")","v":""},{"$f":"IFERROR(SUM(IF(Listing<>\"\",1/COUNTIF(Listing,Listing))),\"\")","v":""},{"$f":"IFERROR(SUM(IF(Listing<>\"\",1/COUNTIF(Listing,Listing))),\"\")","v":""},{"$f":"IFERROR(SUM(IF(Listing<>\"\",1/COUNTIF(Listing,Listing))),\"\")","v":""},{"$f":"IFERROR(SUM(IF(Listing<>\"\",1/COUNTIF(Listing,Listing))),\"\")","v":""},{"$f":"IFERROR(SUM(IF(Listing<>\"\",1/COUNTIF(Listing,Listing))),\"\")","v":""},{"$f":"IFERROR(SUM(IF(Listing<>\"\",1/COUNTIF(Listing,Listing))),\"\")","v":""},{"$f":"IFERROR(SUM(IF(Listing<>\"\",1/COUNTIF(Listing,Listing))),\"\")","v":""},{"$f":"IFERROR(SUM(IF(Listing<>\"\",1/COUNTIF(Listing,Listing))),\"\")","v":""},{"$f":"IFERROR(SUM(IF(Listing<>\"\",1/COUNTIF(Listing,Listing))),\"\")","v":""},{"$f":"IFERROR(SUM(IF(Listing<>\"\",1/COUNTIF(Listing,Listing))),\"\")","v":""},{"$f":"IFERROR(SUM(IF(Listing<>\"\",1/COUNTIF(Listing,Listing))),\"\")","v":""},{"$f":"IFERROR(SUM(IF(Listing<>\"\",1/COUNTIF(Listing,Listing))),\"\")","v":""},{"$f":"IFERROR(SUM(IF(Listing<>\"\",1/COUNTIF(Listing,Listing))),\"\")","v":""},{"$f":"IFERROR(SUM(IF(Listing<>\"\",1/COUNTIF(Listing,Listing))),\"\")","v":""},{"$f":"IFERROR(SUM(IF(Listing<>\"\",1/COUNTIF(Listing,Listing))),\"\")","v":""},{"$f":"SUM(D44:AH44)","v":1}]

{"sheet":"Nuitées","index":3,"n_rows":44,"n_cols":35,"rows_kept":44,"cut":false,"hidden":false,"merged":[[2,1,2,2],[42,1,42,2],[43,1,43,2]]}
[6,null,1,null,null,"cette fonction en VBA ?",null,null,null,null,null,null,"=SOMMEPROD((Tableau3[Nat]=Nuitées!$C4)*($D$3>=Tableau3[Arrivée])*($D$3<Tableau3[Départ]))"]
[]
[null,null,null,"2019-06-01",{"$f":"D3+1","v":"2019-06-02"},{"$f":"E3+1","v":"2019-06-03"},"2019-06-04","2019-06-05","2019-06-06","2019-06-07","2019-06-08","2019-06-09","2019-06-10","2019-06-11","2019-06-12","2019-06-13","2019-06-14","2019-06-15","2019-06-16","2019-06-17","2019-06-18","2019-06-19","2019-06-20","2019-06-21","2019-06-22","2019-06-23","2019-06-24","2019-06-25","2019-06-26","2019-06-27","2019-06-28",{"$f":"IF(AE3=\"\",\"\",IF(MONTH(AE3)<>MONTH(AE3+1),\"\",AE3+1))","v":"2019-06-29"},{"$f":"IF(AF3=\"\",\"\",IF(MONTH(AF3)<>MONTH(AF3+1),\"\",AF3+1))","v":"2019-06-30"},"","Total"]
[null,"France","FR",{"$f":"SUMPRODUCT((Tableau3[Nat]=Nuitées!$C4)*($D$3>=Tableau3[Arrivée])*($D$3<Tableau3[Départ]))","v":0},{"$f":"SUMPRODUCT((Tableau3[Nat]=Nuitées!$C4)*(E$3>=Tableau3[Arrivée])*(E$3<Tableau3[Départ]))","v":0},{"$f":"SUMPRODUCT((Tableau3[Nat]=Nuitées!$C4)*(F$3>=Tableau3[Arrivée])*(F$3<Tableau3[Départ]))","v":1},{"$f":"SUMPRODUCT((Tableau3[Nat]=Nuitées!$C4)*(G$3>=Tableau3[Arrivée])*(G$3<Tableau3[Départ]))","v":1},{"$f":"SUMPRODUCT((Tableau3[Nat]=Nuitées!$C4)*(H$3>=Tableau3[Arrivée])*(H$3<Tableau3[Départ]))","v":1},{"$f":"SUMPRODUCT((Tableau3[Nat]=Nuitées!$C4)*(I$3>=Tableau3[Arrivée])*(I$3<Tableau3[Départ]))","v":1},{"$f":"SUMPRODUCT((Tableau3[Nat]=Nuitées!$C4)*(J$3>=Tableau3[Arrivée])*(J$3<Tableau3[Départ]))","v":0},{"$f":"SUMPRODUCT((Tableau3[Nat]=Nuitées!$C4)*(K$3>=Tableau3[Arrivée])*(K$3<Tableau3[Départ]))","v":0},{"$f":"SUMPRODUCT((Tableau3[Nat]=Nuitées!$C4)*(L$3>=Tableau3[Arrivée])*(L$3<Tableau3[Départ]))","v":0},{"$f":"SUMPRODUCT((Tableau3[Nat]=Nuitées!$C4)*(M$3>=Tableau3[Arrivée])*(M$3<Tableau3[Départ]))","v":0},{"$f":"SUMPRODUCT((Tableau3[Nat]=Nuitées!$C4)*(N$3>=Tableau3[Arrivée])*(N$3<Tableau3[Départ]))","v":0},{"$f":"SUMPRODUCT((Tableau3[Nat]=Nuitées!$C4)*(O$3>=Tableau3[Arrivée])*(O$3<Tableau3[Départ]))","v":0},{"$f":"SUMPRODUCT((Tableau3[Nat]=Nuitées!$C4)*(P$3>=Tableau3[Arrivée])*(P$3<Tableau3[Départ]))","v":0},{"$f":"SUMPRODUCT((Tableau3[Nat]=Nuitées!$C4)*(Q$3>=Tableau3[Arrivée])*(Q$3<Tableau3[Départ]))","v":0},{"$f":"SUMPRODUCT((Tableau3[Nat]=Nuitées!$C4)*(R$3>=Tableau3[Arrivée])*(R$3<Tableau3[Départ]))","v":0},{"$f":"SUMPRODUCT((Tableau3[Nat]=Nuitées!$C4)*(S$3>=Tableau3[Arrivée])*(S$3<Tableau3[Départ]))","v":0},{"$f":"SUMPRODUCT((Tableau3[Nat]=Nuitées!$C4)*(T$3>=Tableau3[Arrivée])*(T$3<Tableau3[Départ]))","v":0},{"$f":"SUMPRODUCT((Tableau3[Nat]=Nuitées!$C4)*(U$3>=Tableau3[Arrivée])*(U$3<Tableau3[Départ]))","v":0},{"$f":"SUMPRODUCT((Tableau3[Nat]=Nuitées!$C4)*(V$3>=Tableau3[Arrivée])*(V$3<Tableau3[Départ]))","v":0},{"$f":"SUMPRODUCT((Tableau3[Nat]=Nuitées!$C4)*(W$3>=Tableau3[Arrivée])*(W$3<Tableau3[Départ]))","v":0},{"$f":"SUMPRODUCT((Tableau3[Nat]=Nuitées!$C4)*(X$3>=Tableau3[Arrivée])*(X$3<Tableau3[Départ]))","v":0},{"$f":"SUMPRODUCT((Tableau3[Nat]=Nuitées!$C4)*(Y$3>=Tableau3[Arrivée])*(Y$3<Tableau3[Départ]))","v":0},{"$f":"SUMPRODUCT((Tableau3[Nat]=Nuitées!$C4)*(Z$3>=Tableau3[Arrivée])*(Z$3<Tableau3[Départ]))","v":0},{"$f":"SUMPRODUCT((Tableau3[Nat]=Nuitées!$C4)*(AA$3>=Tableau3[Arrivée])*(AA$3<Tableau3[Départ]))","v":0},{"$f":"SUMPRODUCT((Tableau3[Nat]=Nuitées!$C4)*(AB$3>=Tableau3[Arrivée])*(AB$3<Tableau3[Départ]))","v":0},{"$f":"SUMPRODUCT((Tableau3[Nat]=Nuitées!$C4)*(AC$3>=Tableau3[Arrivée])*(AC$3<Tableau3[Départ]))","v":0},{"$f":"SUMPRODUCT((Tableau3[Nat]=Nuitées!$C4)*(AD$3>=Tableau3[Arrivée])*(AD$3<Tableau3[Départ]))","v":0},{"$f":"SUMPRODUCT((Tableau3[Nat]=Nuitées!$C4)*(AE$3>=Tableau3[Arrivée])*(AE$3<Tableau3[Départ]))","v":0},{"$f":"SUMPRODUCT((Tableau3[Nat]=Nuitées!$C4)*(AF$3>=Tableau3[Arrivée])*(AF$3<Tableau3[Départ]))","v":0},{"$f":"SUMPRODUCT((Tableau3[Nat]=Nuitées!$C4)*(AG$3>=Tableau3[Arrivée])*(AG$3<Tableau3[Départ]))","v":0},{"$f":"SUMPRODUCT((Tableau3[Nat]=Nuitées!$C4)*(AH$3>=Tableau3[Arrivée])*(AH$3<Tableau3[Départ]))","v":0},{"$f":"SUM(D4:AH4)","v":4}]
[null,"Espagne","ES",{"$f":"SUMPRODUCT((Tableau3[Nat]=Nuitées!$C5)*($D$3>=Tableau3[Arrivée])*($D$3<Tableau3[Départ]))","v":0},{"$f":"SUMPRODUCT((Tableau3[Nat]=Nuitées!$C5)*(E$3>=Tableau3[Arrivée])*(E$3<Tableau3[Départ]))","v":0},{"$f":"SUMPRODUCT((Tableau3[Nat]=Nuitées!$C5)*(F$3>=Tableau3[Arrivée])*(F$3<Tableau3[Départ]))","v":0},{"$f":"SUMPRODUCT((Tableau3[Nat]=Nuitées!$C5)*(G$3>=Tableau3[Arrivée])*(G$3<Tableau3[Départ]))","v":0},{"$f":"SUMPRODUCT((Tableau3[Nat]=Nuitées!$C5)*(H$3>=Tableau3[Arrivée])*(H$3<Tableau3[Départ]))","v":0},{"$f":"SUMPRODUCT((Tableau3[Nat]=Nuitées!$C5)*(I$3>=Tableau3[Arrivée])*(I$3<Tableau3[Départ]))","v":0},{"$f":"SUMPRODUCT((Tableau3[Nat]=Nuitées!$C5)*(J$3>=Tableau3[Arrivée])*(J$3<Tableau3[Départ]))","v":0},{"$f":"SUMPRODUCT((Tableau3[Nat]=Nuitées!$C5)*(K$3>=Tableau3[Arrivée])*(K$3<Tableau3[Départ]))","v":0},{"$f":"SUMPRODUCT((Tableau3[Nat]=Nuitées!$C5)*(L$3>=Tableau3[Arrivée])*(L$3<Tableau3[Départ]))","v":0},{"$f":"SUMPRODUCT((Tableau3[Nat]=Nuitées!$C5)*(M$3>=Tableau3[Arrivée])*(M$3<Tableau3[Départ]))","v":0},{"$f":"SUMPRODUCT((Tableau3[Nat]=Nuitées!$C5)*(N$3>=Tableau3[Arrivée])*(N$3<Tableau3[Départ]))","v":0},{"$f":"SUMPRODUCT((Tableau3[Nat]=Nuitées!$C5)*(O$3>=Tableau3[Arrivée])*(O$3<Tableau3[Départ]))","v":0},{"$f":"SUMPRODUCT((Tableau3[Nat]=Nuitées!$C5)*(P$3>=Tableau3[Arrivée])*(P$3<Tableau3[Départ]))","v":0},{"$f":"SUMPRODUCT((Tableau3[Nat]=Nuitées!$C5)*(Q$3>=Tableau3[Arrivée])*(Q$3<Tableau3[Départ]))","v":0},{"$f":"SUMPRODUCT((Tableau3[Nat]=Nuitées!$C5)*(R$3>=Tableau3[Arrivée])*(R$3<Tableau3[Départ]))","v":0},{"$f":"SUMPRODUCT((Tableau3[Nat]=Nuitées!$C5)*(S$3>=Tableau3[Arrivée])*(S$3<Tableau3[Départ]))","v":0},{"$f":"SUMPRODUCT((Tableau3[Nat]=Nuitées!$C5)*(T$3>=Tableau3[Arrivée])*(T$3<Tableau3[Départ]))","v":0},{"$f":"SUMPRODUCT((Tableau3[Nat]=Nuitées!$C5)*(U$3>=Tableau3[Arrivée])*(U$3<Tableau3[Départ]))","v":0},{"$f":"SUMPRODUCT((Tableau3[Nat]=Nuitées!$C5)*(V$3>=Tableau3[Arrivée])*(V$3<Tableau3[Départ]))","v":0},{"$f":"SUMPRODUCT((Tableau3[Nat]=Nuitées!$C5)*(W$3>=Tableau3[Arrivée])*(W$3<Tableau3[Départ]))","v":0},{"$f":"SUMPRODUCT((Tableau3[Nat]=Nuitées!$C5)*(X$3>=Tableau3[Arrivée])*(X$3<Tableau3[Départ]))","v":0},{"$f":"SUMPRODUCT((Tableau3[Nat]=Nuitées!$C5)*(Y$3>=Tableau3[Arrivée])*(Y$3<Tableau3[Départ]))","v":0},{"$f":"SUMPRODUCT((Tableau3[Nat]=Nuitées!$C5)*(Z$3>=Tableau3[Arrivée])*(Z$3<Tableau3[Départ]))","v":0},{"$f":"SUMPRODUCT((Tableau3[Nat]=Nuitées!$C5)*(AA$3>=Tableau3[Arrivée])*(AA$3<Tableau3[Départ]))","v":0},{"$f":"SUMPRODUCT((Tableau3[Nat]=Nuitées!$C5)*(AB$3>=Tableau3[Arrivée])*(AB$3<Tableau3[Départ]))","v":0},{"$f":"SUMPRODUCT((Tableau3[Nat]=Nuitées!$C5)*(AC$3>=Tableau3[Arrivée])*(AC$3<Tableau3[Départ]))","v":0},{"$f":"SUMPRODUCT((Tableau3[Nat]=Nuitées!$C5)*(AD$3>=Tableau3[Arrivée])*(AD$3<Tableau3[Départ]))","v":0},{"$f":"SUMPRODUCT((Tableau3[Nat]=Nuitées!$C5)*(AE$3>=Tableau3[Arrivée])*(AE$3<Tableau3[Départ]))","v":0},{"$f":"SUMPRODUCT((Tableau3[Nat]=Nuitées!$C5)*(AF$3>=Tableau3[Arrivée])*(AF$3<Tableau3[Départ]))","v":0},{"$f":"SUMPRODUCT((Tableau3[Nat]=Nuitées!$C5)*(AG$3>=Tableau3[Arrivée])*(AG$3<Tableau3[Départ]))","v":0},{"$f":"SUMPRODUCT((Tableau3[Nat]=Nuitées!$C5)*(AH$3>=Tableau3[Arrivée])*(AH$3<Tableau3[Départ]))","v":0},{"$f":"SUM(D5:AH5)","v":0}]
[null,"Royaume Unis","UK",{"$f":"SUMPRODUCT((Tableau3[Nat]=Nuitées!$C6)*($D$3>=Tableau3[Arrivée])*($D$3<Tableau3[Départ]))","v":0},{"$f":"SUMPRODUCT((Tableau3[Nat]=Nuitées!$C6)*(E$3>=Tableau3[Arrivée])*(E$3<Tableau3[Départ]))","v":0},{"$f":"SUMPRODUCT((Tableau3[Nat]=Nuitées!$C6)*(F$3>=Tableau3[Arrivée])*(F$3<Tableau3[Départ]))","v":0},{"$f":"SUMPRODUCT((Tableau3[Nat]=Nuitées!$C6)*(G$3>=Tableau3[Arrivée])*(G$3<Tableau3[Départ]))","v":0},{"$f":"SUMPRODUCT((Tableau3[Nat]=Nuitées!$C6)*(H$3>=Tableau3[Arrivée])*(H$3<Tableau3[Départ]))","v":0},{"$f":"SUMPRODUCT((Tableau3[Nat]=Nuitées!$C6)*(I$3>=Tableau3[Arrivée])*(I$3<Tableau3[Départ]))","v":0},{"$f":"SUMPRODUCT((Tableau3[Nat]=Nuitées!$C6)*(J$3>=Tableau3[Arrivée])*(J$3<Tableau3[Départ]))","v":0},{"$f":"SUMPRODUCT((Tableau3[Nat]=Nuitées!$C6)*(K$3>=Tableau3[Arrivée])*(K$3<Tableau3[Départ]))","v":0},{"$f":"SUMPRODUCT((Tableau3[Nat]=Nuitées!$C6)*(L$3>=Tableau3[Arrivée])*(L$3<Tableau3[Départ]))","v":0},{"$f":"SUMPRODUCT((Tableau3[Nat]=Nuitées!$C6)*(M$3>=Tableau3[Arrivée])*(M$3<Tableau3[Départ]))","v":0},{"$f":"SUMPRODUCT((Tableau3[Nat]=Nuitées!$C6)*(N$3>=Tableau3[Arrivée])*(N$3<Tableau3[Départ]))","v":0},{"$f":"SUMPRODUCT((Tableau3[Nat]=Nuitées!$C6)*(O$3>=Tableau3[Arrivée])*(O$3<Tableau3[Départ]))","v":0},{"$f":"SUMPRODUCT((Tableau3[Nat]=Nuitées!$C6)*(P$3>=Tableau3[Arrivée])*(P$3<Tableau3[Départ]))","v":0},{"$f":"SUMPRODUCT((Tableau3[Nat]=Nuitées!$C6)*(Q$3>=Tableau3[Arrivée])*(Q$3<Tableau3[Départ]))","v":0},{"$f":"SUMPRODUCT((Tableau3[Nat]=Nuitées!$C6)*(R$3>=Tableau3[Arrivée])*(R$3<Tableau3[Départ]))","v":0},{"$f":"SUMPRODUCT((Tableau3[Nat]=Nuitées!$C6)*(S$3>=Tableau3[Arrivée])*(S$3<Tableau3[Départ]))","v":0},{"$f":"SUMPRODUCT((Tableau3[Nat]=Nuitées!$C6)*(T$3>=Tableau3[Arrivée])*(T$3<Tableau3[Départ]))","v":0},{"$f":"SUMPRODUCT((Tableau3[Nat]=Nuitées!$C6)*(U$3>=Tableau3[Arrivée])*(U$3<Tableau3[Départ]))","v":0},{"$f":"SUMPRODUCT((Tableau3[Nat]=Nuitées!$C6)*(V$3>=Tableau3[Arrivée])*(V$3<Tableau3[Départ]))","v":0},{"$f":"SUMPRODUCT((Tableau3[Nat]=Nuitées!$C6)*(W$3>=Tableau3[Arrivée])*(W$3<Tableau3[Départ]))","v":0},{"$f":"SUMPRODUCT((Tableau3[Nat]=Nuitées!$C6)*(X$3>=Tableau3[Arrivée])*(X$3<Tableau3[Départ]))","v":0},{"$f":"SUMPRODUCT((Tableau3[Nat]=Nuitées!$C6)*(Y$3>=Tableau3[Arrivée])*(Y$3<Tableau3[Départ]))","v":0},{"$f":"SUMPRODUCT((Tableau3[Nat]=Nuitées!$C6)*(Z$3>=Tableau3[Arrivée])*(Z$3<Tableau3[Départ]))","v":0},{"$f":"SUMPRODUCT((Tableau3[Nat]=Nuitées!$C6)*(AA$3>=Tableau3[Arrivée])*(AA$3<Tableau3[Départ]))","v":0},{"$f":"SUMPRODUCT((Tableau3[Nat]=Nuitées!$C6)*(AB$3>=Tableau3[Arrivée])*(AB$3<Tableau3[Départ]))","v":0},{"$f":"SUMPRODUCT((Tableau3[Nat]=Nuitées!$C6)*(AC$3>=Tableau3[Arrivée])*(AC$3<Tableau3[Départ]))","v":0},{"$f":"SUMPRODUCT((Tableau3[Nat]=Nuitées!$C6)*(AD$3>=Tableau3[Arrivée])*(AD$3<Tableau3[Départ]))","v":0},{"$f":"SUMPRODUCT((Tableau3[Nat]=Nuitées!$C6)*(AE$3>=Tableau3[Arrivée])*(AE$3<Tableau3[Départ]))","v":0},{"$f":"SUMPRODUCT((Tableau3[Nat]=Nuitées!$C6)*(AF$3>=Tableau3[Arrivée])*(AF$3<Tableau3[Départ]))","v":0},{"$f":"SUMPRODUCT((Tableau3[Nat]=Nuitées!$C6)*(AG$3>=Tableau3[Arrivée])*(AG$3<Tableau3[Départ]))","v":0},{"$f":"SUMPRODUCT((Tableau3[Nat]=Nuitées!$C6)*(AH$3>=Tableau3[Arrivée])*(AH$3<Tableau3[Départ]))","v":0},0]
[null,"Allemagne","DE",{"$f":"SUMPRODUCT((Tableau3[Nat]=Nuitées!$C7)*($D$3>=Tableau3[Arrivée])*($D$3<Tableau3[Départ]))","v":0},{"$f":"SUMPRODUCT((Tableau3[Nat]=Nuitées!$C7)*(E$3>=Tableau3[Arrivée])*(E$3<Tableau3[Départ]))","v":0},{"$f":"SUMPRODUCT((Tableau3[Nat]=Nuitées!$C7)*(F$3>=Tableau3[Arrivée])*(F$3<Tableau3[Départ]))","v":0},{"$f":"SUMPRODUCT((Tableau3[Nat]=Nuitées!$C7)*(G$3>=Tableau3[Arrivée])*(G$3<Tableau3[Départ]))","v":0},{"$f":"SUMPRODUCT((Tableau3[Nat]=Nuitées!$C7)*(H$3>=Tableau3[Arrivée])*(H$3<Tableau3[Départ]))","v":0},{"$f":"SUMPRODUCT((Tableau3[Nat]=Nuitées!$C7)*(I$3>=Tableau3[Arrivée])*(I$3<Tableau3[Départ]))","v":0},{"$f":"SUMPRODUCT((Tableau3[Nat]=Nuitées!$C7)*(J$3>=Tableau3[Arrivée])*(J$3<Tableau3[Départ]))","v":0},{"$f":"SUMPRODUCT((Tableau3[Nat]=Nuitées!$C7)*(K$3>=Tableau3[Arrivée])*(K$3<Tableau3[Départ]))","v":0},{"$f":"SUMPRODUCT((Tableau3[Nat]=Nuitées!$C7)*(L$3>=Tableau3[Arrivée])*(L$3<Tableau3[Départ]))","v":0},{"$f":"SUMPRODUCT((Tableau3[Nat]=Nuitées!$C7)*(M$3>=Tableau3[Arrivée])*(M$3<Tableau3[Départ]))","v":0},{"$f":"SUMPRODUCT((Tableau3[Nat]=Nuitées!$C7)*(N$3>=Tableau3[Arrivée])*(N$3<Tableau3[Départ]))","v":0},{"$f":"SUMPRODUCT((Tableau3[Nat]=Nuitées!$C7)*(O$3>=Tableau3[Arrivée])*(O$3<Tableau3[Départ]))","v":0},{"$f":"SUMPRODUCT((Tableau3[Nat]=Nuitées!$C7)*(P$3>=Tableau3[Arrivée])*(P$3<Tableau3[Départ]))","v":0},{"$f":"SUMPRODUCT((Tableau3[Nat]=Nuitées!$C7)*(Q$3>=Tableau3[Arrivée])*(Q$3<Tableau3[Départ]))","v":0},{"$f":"SUMPRODUCT((Tableau3[Nat]=Nuitées!$C7)*(R$3>=Tableau3[Arrivée])*(R$3<Tableau3[Départ]))","v":0},{"$f":"SUMPRODUCT((Tableau3[Nat]=Nuitées!$C7)*(S$3>=Tableau3[Arrivée])*(S$3<Tableau3[Départ]))","v":0},{"$f":"SUMPRODUCT((Tableau3[Nat]=Nuitées!$C7)*(T$3>=Tableau3[Arrivée])*(T$3<Tableau3[Départ]))","v":0},{"$f":"SUMPRODUCT((Tableau3[Nat]=Nuitées!$C7)*(U$3>=Tableau3[Arrivée])*(U$3<Tableau3[Départ]))","v":0},{"$f":"SUMPRODUCT((Tableau3[Nat]=Nuitées!$C7)*(V$3>=Tableau3[Arrivée])*(V$3<Tableau3[Départ]))","v":0},{"$f":"SUMPRODUCT((Tableau3[Nat]=Nuitées!$C7)*(W$3>=Tableau3[Arrivée])*(W$3<Tableau3[Départ]))","v":0},{"$f":"SUMPRODUCT((Tableau3[Nat]=Nuitées!$C7)*(X$3>=Tableau3[Arrivée])*(X$3<Tableau3[Départ]))","v":0},{"$f":"SUMPRODUCT((Tableau3[Nat]=Nuitées!$C7)*(Y$3>=Tableau3[Arrivée])*(Y$3<Tableau3[Départ]))","v":0},{"$f":"SUMPRODUCT((Tableau3[Nat]=Nuitées!$C7)*(Z$3>=Tableau3[Arrivée])*(Z$3<Tableau3[Départ]))","v":0},{"$f":"SUMPRODUCT((Tableau3[Nat]=Nuitées!$C7)*(AA$3>=Tableau3[Arrivée])*(AA$3<Tableau3[Départ]))","v":0},{"$f":"SUMPRODUCT((Tableau3[Nat]=Nuitées!$C7)*(AB$3>=Tableau3[Arrivée])*(AB$3<Tableau3[Départ]))","v":0},{"$f":"SUMPRODUCT((Tableau3[Nat]=Nuitées!$C7)*(AC$3>=Tableau3[Arrivée])*(AC$3<Tableau3[Départ]))","v":0},{"$f":"SUMPRODUCT((Tableau3[Nat]=Nuitées!$C7)*(AD$3>=Tableau3[Arrivée])*(AD$3<Tableau3[Départ]))","v":0},{"$f":"SUMPRODUCT((Tableau3[Nat]=Nuitées!$C7)*(AE$3>=Tableau3[Arrivée])*(AE$3<Tableau3[Départ]))","v":0},{"$f":"SUMPRODUCT((Tableau3[Nat]=Nuitées!$C7)*(AF$3>=Tableau3[Arrivée])*(AF$3<Tableau3[Départ]))","v":0},{"$f":"SUMPRODUCT((Tableau3[Nat]=Nuitées!$C7)*(AG$3>=Tableau3[Arrivée])*(AG$3<Tableau3[Départ]))","v":0},{"$f":"SUMPRODUCT((Tableau3[Nat]=Nuitées!$C7)*(AH$3>=Tableau3[Arrivée])*(AH$3<Tableau3[Départ]))","v":0},0]
[null,"Italie","IT",{"$f":"SUMPRODUCT((Tableau3[Nat]=Nuitées!$C8)*($D$3>=Tableau3[Arrivée])*($D$3<Tableau3[Départ]))","v":0},{"$f":"SUMPRODUCT((Tableau3[Nat]=Nuitées!$C8)*(E$3>=Tableau3[Arrivée])*(E$3<Tableau3[Départ]))","v":0},{"$f":"SUMPRODUCT((Tableau3[Nat]=Nuitées!$C8)*(F$3>=Tableau3[Arrivée])*(F$3<Tableau3[Départ]))","v":0},{"$f":"SUMPRODUCT((Tableau3[Nat]=Nuitées!$C8)*(G$3>=Tableau3[Arrivée])*(G$3<Tableau3[Départ]))","v":0},{"$f":"SUMPRODUCT((Tableau3[Nat]=Nuitées!$C8)*(H$3>=Tableau3[Arrivée])*(H$3<Tableau3[Départ]))","v":0},{"$f":"SUMPRODUCT((Tableau3[Nat]=Nuitées!$C8)*(I$3>=Tableau3[Arrivée])*(I$3<Tableau3[Départ]))","v":0},{"$f":"SUMPRODUCT((Tableau3[Nat]=Nuitées!$C8)*(J$3>=Tableau3[Arrivée])*(J$3<Tableau3[Départ]))","v":0},{"$f":"SUMPRODUCT((Tableau3[Nat]=Nuitées!$C8)*(K$3>=Tableau3[Arrivée])*(K$3<Tableau3[Départ]))","v":0},{"$f":"SUMPRODUCT((Tableau3[Nat]=Nuitées!$C8)*(L$3>=Tableau3[Arrivée])*(L$3<Tableau3[Départ]))","v":0},{"$f":"SUMPRODUCT((Tableau3[Nat]=Nuitées!$C8)*(M$3>=Tableau3[Arrivée])*(M$3<Tableau3[Départ]))","v":0},{"$f":"SUMPRODUCT((Tableau3[Nat]=Nuitées!$C8)*(N$3>=Tableau3[Arrivée])*(N$3<Tableau3[Départ]))","v":0},{"$f":"SUMPRODUCT((Tableau3[Nat]=Nuitées!$C8)*(O$3>=Tableau3[Arrivée])*(O$3<Tableau3[Départ]))","v":0},{"$f":"SUMPRODUCT((Tableau3[Nat]=Nuitées!$C8)*(P$3>=Tableau3[Arrivée])*(P$3<Tableau3[Départ]))","v":0},{"$f":"SUMPRODUCT((Tableau3[Nat]=Nuitées!$C8)*(Q$3>=Tableau3[Arrivée])*(Q$3<Tableau3[Départ]))","v":0},{"$f":"SUMPRODUCT((Tableau3[Nat]=Nuitées!$C8)*(R$3>=Tableau3[Arrivée])*(R$3<Tableau3[Départ]))","v":0},{"$f":"SUMPRODUCT((Tableau3[Nat]=Nuitées!$C8)*(S$3>=Tableau3[Arrivée])*(S$3<Tableau3[Départ]))","v":0},{"$f":"SUMPRODUCT((Tableau3[Nat]=Nuitées!$C8)*(T$3>=Tableau3[Arrivée])*(T$3<Tableau3[Départ]))","v":0},{"$f":"SUMPRODUCT((Tableau3[Nat]=Nuitées!$C8)*(U$3>=Tableau3[Arrivée])*(U$3<Tableau3[Départ]))","v":0},{"$f":"SUMPRODUCT((Tableau3[Nat]=Nuitées!$C8)*(V$3>=Tableau3[Arrivée])*(V$3<Tableau3[Départ]))","v":0},{"$f":"SUMPRODUCT((Tableau3[Nat]=Nuitées!$C8)*(W$3>=Tableau3[Arrivée])*(W$3<Tableau3[Départ]))","v":0},{"$f":"SUMPRODUCT((Tableau3[Nat]=Nuitées!$C8)*(X$3>=Tableau3[Arrivée])*(X$3<Tableau3[Départ]))","v":0},{"$f":"SUMPRODUCT((Tableau3[Nat]=Nuitées!$C8)*(Y$3>=Tableau3[Arrivée])*(Y$3<Tableau3[Départ]))","v":0},{"$f":"SUMPRODUCT((Tableau3[Nat]=Nuitées!$C8)*(Z$3>=Tableau3[Arrivée])*(Z$3<Tableau3[Départ]))","v":0},{"$f":"SUMPRODUCT((Tableau3[Nat]=Nuitées!$C8)*(AA$3>=Tableau3[Arrivée])*(AA$3<Tableau3[Départ]))","v":0},{"$f":"SUMPRODUCT((Tableau3[Nat]=Nuitées!$C8)*(AB$3>=Tableau3[Arrivée])*(AB$3<Tableau3[Départ]))","v":0},{"$f":"SUMPRODUCT((Tableau3[Nat]=Nuitées!$C8)*(AC$3>=Tableau3[Arrivée])*(AC$3<Tableau3[Départ]))","v":0},{"$f":"SUMPRODUCT((Tableau3[Nat]=Nuitées!$C8)*(AD$3>=Tableau3[Arrivée])*(AD$3<Tableau3[Départ]))","v":0},{"$f":"SUMPRODUCT((Tableau3[Nat]=Nuitées!$C8)*(AE$3>=Tableau3[Arrivée])*(AE$3<Tableau3[Départ]))","v":0},{"$f":"SUMPRODUCT((Tableau3[Nat]=Nuitées!$C8)*(AF$3>=Tableau3[Arrivée])*(AF$3<Tableau3[Départ]))","v":0},{"$f":"SUMPRODUCT((Tableau3[Nat]=Nuitées!$C8)*(AG$3>=Tableau3[Arrivée])*(AG$3<Tableau3[Départ]))","v":0},{"$f":"SUMPRODUCT((Tableau3[Nat]=Nuitées!$C8)*(AH$3>=Tableau3[Arrivée])*(AH$3<Tableau3[Départ]))","v":0},0]
[null,"Suede ","SU",{"$f":"SUMPRODUCT((Tableau3[Nat]=Nuitées!$C9)*($D$3>=Tableau3[Arrivée])*($D$3<Tableau3[Départ]))","v":0},{"$f":"SUMPRODUCT((Tableau3[Nat]=Nuitées!$C9)*(E$3>=Tableau3[Arrivée])*(E$3<Tableau3[Départ]))","v":0},{"$f":"SUMPRODUCT((Tableau3[Nat]=Nuitées!$C9)*(F$3>=Tableau3[Arrivée])*(F$3<Tableau3[Départ]))","v":0},{"$f":"SUMPRODUCT((Tableau3[Nat]=Nuitées!$C9)*(G$3>=Tableau3[Arrivée])*(G$3<Tableau3[Départ]))","v":0},{"$f":"SUMPRODUCT((Tableau3[Nat]=Nuitées!$C9)*(H$3>=Tableau3[Arrivée])*(H$3<Tableau3[Départ]))","v":0},{"$f":"SUMPRODUCT((Tableau3[Nat]=Nuitées!$C9)*(I$3>=Tableau3[Arrivée])*(I$3<Tableau3[Départ]))","v":0},{"$f":"SUMPRODUCT((Tableau3[Nat]=Nuitées!$C9)*(J$3>=Tableau3[Arrivée])*(J$3<Tableau3[Départ]))","v":0},{"$f":"SUMPRODUCT((Tableau3[Nat]=Nuitées!$C9)*(K$3>=Tableau3[Arrivée])*(K$3<Tableau3[Départ]))","v":0},{"$f":"SUMPRODUCT((Tableau3[Nat]=Nuitées!$C9)*(L$3>=Tableau3[Arrivée])*(L$3<Tableau3[Départ]))","v":0},{"$f":"SUMPRODUCT((Tableau3[Nat]=Nuitées!$C9)*(M$3>=Tableau3[Arrivée])*(M$3<Tableau3[Départ]))","v":0},{"$f":"SUMPRODUCT((Tableau3[Nat]=Nuitées!$C9)*(N$3>=Tableau3[Arrivée])*(N$3<Tableau3[Départ]))","v":0},{"$f":"SUMPRODUCT((Tableau3[Nat]=Nuitées!$C9)*(O$3>=Tableau3[Arrivée])*(O$3<Tableau3[Départ]))","v":0},{"$f":"SUMPRODUCT((Tableau3[Nat]=Nuitées!$C9)*(P$3>=Tableau3[Arrivée])*(P$3<Tableau3[Départ]))","v":0},{"$f":"SUMPRODUCT((Tableau3[Nat]=Nuitées!$C9)*(Q$3>=Tableau3[Arrivée])*(Q$3<Tableau3[Départ]))","v":0},{"$f":"SUMPRODUCT((Tableau3[Nat]=Nuitées!$C9)*(R$3>=Tableau3[Arrivée])*(R$3<Tableau3[Départ]))","v":0},{"$f":"SUMPRODUCT((Tableau3[Nat]=Nuitées!$C9)*(S$3>=Tableau3[Arrivée])*(S$3<Tableau3[Départ]))","v":0},{"$f":"SUMPRODUCT((Tableau3[Nat]=Nuitées!$C9)*(T$3>=Tableau3[Arrivée])*(T$3<Tableau3[Départ]))","v":0},{"$f":"SUMPRODUCT((Tableau3[Nat]=Nuitées!$C9)*(U$3>=Tableau3[Arrivée])*(U$3<Tableau3[Départ]))","v":0},{"$f":"SUMPRODUCT((Tableau3[Nat]=Nuitées!$C9)*(V$3>=Tableau3[Arrivée])*(V$3<Tableau3[Départ]))","v":0},{"$f":"SUMPRODUCT((Tableau3[Nat]=Nuitées!$C9)*(W$3>=Tableau3[Arrivée])*(W$3<Tableau3[Départ]))","v":0},{"$f":"SUMPRODUCT((Tableau3[Nat]=Nuitées!$C9)*(X$3>=Tableau3[Arrivée])*(X$3<Tableau3[Départ]))","v":0},{"$f":"SUMPRODUCT((Tableau3[Nat]=Nuitées!$C9)*(Y$3>=Tableau3[Arrivée])*(Y$3<Tableau3[Départ]))","v":0},{"$f":"SUMPRODUCT((Tableau3[Nat]=Nuitées!$C9)*(Z$3>=Tableau3[Arrivée])*(Z$3<Tableau3[Départ]))","v":0},{"$f":"SUMPRODUCT((Tableau3[Nat]=Nuitées!$C9)*(AA$3>=Tableau3[Arrivée])*(AA$3<Tableau3[Départ]))","v":0},{"$f":"SUMPRODUCT((Tableau3[Nat]=Nuitées!$C9)*(AB$3>=Tableau3[Arrivée])*(AB$3<Tableau3[Départ]))","v":0},{"$f":"SUMPRODUCT((Tableau3[Nat]=Nuitées!$C9)*(AC$3>=Tableau3[Arrivée])*(AC$3<Tableau3[Départ]))","v":0},{"$f":"SUMPRODUCT((Tableau3[Nat]=Nuitées!$C9)*(AD$3>=Tableau3[Arrivée])*(AD$3<Tableau3[Départ]))","v":0},{"$f":"SUMPRODUCT((Tableau3[Nat]=Nuitées!$C9)*(AE$3>=Tableau3[Arrivée])*(AE$3<Tableau3[Départ]))","v":0},{"$f":"SUMPRODUCT((Tableau3[Nat]=Nuitées!$C9)*(AF$3>=Tableau3[Arrivée])*(AF$3<Tableau3[Départ]))","v":0},{"$f":"SUMPRODUCT((Tableau3[Nat]=Nuitées!$C9)*(AG$3>=Tableau3[Arrivée])*(AG$3<Tableau3[Départ]))","v":0},{"$f":"SUMPRODUCT((Tableau3[Nat]=Nuitées!$C9)*(AH$3>=Tableau3[Arrivée])*(AH$3<Tableau3[Départ]))","v":0},0]
[null,"Danemark","DK",{"$f":"SUMPRODUCT((Tableau3[Nat]=Nuitées!$C10)*($D$3>=Tableau3[Arrivée])*($D$3<Tableau3[Départ]))","v":0},{"$f":"SUMPRODUCT((Tableau3[Nat]=Nuitées!$C10)*(E$3>=Tableau3[Arrivée])*(E$3<Tableau3[Départ]))","v":0},{"$f":"SUMPRODUCT((Tableau3[Nat]=Nuitées!$C10)*(F$3>=Tableau3[Arrivée])*(F$3<Tableau3[Départ]))","v":0},{"$f":"SUMPRODUCT((Tableau3[Nat]=Nuitées!$C10)*(G$3>=Tableau3[Arrivée])*(G$3<Tableau3[Départ]))","v":0},{"$f":"SUMPRODUCT((Tableau3[Nat]=Nuitées!$C10)*(H$3>=Tableau3[Arrivée])*(H$3<Tableau3[Départ]))","v":0},{"$f":"SUMPRODUCT((Tableau3[Nat]=Nuitées!$C10)*(I$3>=Tableau3[Arrivée])*(I$3<Tableau3[Départ]))","v":0},{"$f":"SUMPRODUCT((Tableau3[Nat]=Nuitées!$C10)*(J$3>=Tableau3[Arrivée])*(J$3<Tableau3[Départ]))","v":0},{"$f":"SUMPRODUCT((Tableau3[Nat]=Nuitées!$C10)*(K$3>=Tableau3[Arrivée])*(K$3<Tableau3[Départ]))","v":0},{"$f":"SUMPRODUCT((Tableau3[Nat]=Nuitées!$C10)*(L$3>=Tableau3[Arrivée])*(L$3<Tableau3[Départ]))","v":0},{"$f":"SUMPRODUCT((Tableau3[Nat]=Nuitées!$C10)*(M$3>=Tableau3[Arrivée])*(M$3<Tableau3[Départ]))","v":0},{"$f":"SUMPRODUCT((Tableau3[Nat]=Nuitées!$C10)*(N$3>=Tableau3[Arrivée])*(N$3<Tableau3[Départ]))","v":0},{"$f":"SUMPRODUCT((Tableau3[Nat]=Nuitées!$C10)*(O$3>=Tableau3[Arrivée])*(O$3<Tableau3[Départ]))","v":0},{"$f":"SUMPRODUCT((Tableau3[Nat]=Nuitées!$C10)*(P$3>=Tableau3[Arrivée])*(P$3<Tableau3[Départ]))","v":0},{"$f":"SUMPRODUCT((Tableau3[Nat]=Nuitées!$C10)*(Q$3>=Tableau3[Arrivée])*(Q$3<Tableau3[Départ]))","v":0},{"$f":"SUMPRODUCT((Tableau3[Nat]=Nuitées!$C10)*(R$3>=Tableau3[Arrivée])*(R$3<Tableau3[Départ]))","v":0},{"$f":"SUMPRODUCT((Tableau3[Nat]=Nuitées!$C10)*(S$3>=Tableau3[Arrivée])*(S$3<Tableau3[Départ]))","v":0},{"$f":"SUMPRODUCT((Tableau3[Nat]=Nuitées!$C10)*(T$3>=Tableau3[Arrivée])*(T$3<Tableau3[Départ]))","v":0},{"$f":"SUMPRODUCT((Tableau3[Nat]=Nuitées!$C10)*(U$3>=Tableau3[Arrivée])*(U$3<Tableau3[Départ]))","v":0},{"$f":"SUMPRODUCT((Tableau3[Nat]=Nuitées!$C10)*(V$3>=Tableau3[Arrivée])*(V$3<Tableau3[Départ]))","v":0},{"$f":"SUMPRODUCT((Tableau3[Nat]=Nuitées!$C10)*(W$3>=Tableau3[Arrivée])*(W$3<Tableau3[Départ]))","v":0},{"$f":"SUMPRODUCT((Tableau3[Nat]=Nuitées!$C10)*(X$3>=Tableau3[Arrivée])*(X$3<Tableau3[Départ]))","v":0},{"$f":"SUMPRODUCT((Tableau3[Nat]=Nuitées!$C10)*(Y$3>=Tableau3[Arrivée])*(Y$3<Tableau3[Départ]))","v":0},{"$f":"SUMPRODUCT((Tableau3[Nat]=Nuitées!$C10)*(Z$3>=Tableau3[Arrivée])*(Z$3<Tableau3[Départ]))","v":0},{"$f":"SUMPRODUCT((Tableau3[Nat]=Nuitées!$C10)*(AA$3>=Tableau3[Arrivée])*(AA$3<Tableau3[Départ]))","v":0},{"$f":"SUMPRODUCT((Tableau3[Nat]=Nuitées!$C10)*(AB$3>=Tableau3[Arrivée])*(AB$3<Tableau3[Départ]))","v":0},{"$f":"SUMPRODUCT((Tableau3[Nat]=Nuitées!$C10)*(AC$3>=Tableau3[Arrivée])*(AC$3<Tableau3[Départ]))","v":0},{"$f":"SUMPRODUCT((Tableau3[Nat]=Nuitées!$C10)*(AD$3>=Tableau3[Arrivée])*(AD$3<Tableau3[Départ]))","v":0},{"$f":"SUMPRODUCT((Tableau3[Nat]=Nuitées!$C10)*(AE$3>=Tableau3[Arrivée])*(AE$3<Tableau3[Départ]))","v":0},{"$f":"SUMPRODUCT((Tableau3[Nat]=Nuitées!$C10)*(AF$3>=Tableau3[Arrivée])*(AF$3<Tableau3[Départ]))","v":0},{"$f":"SUMPRODUCT((Tableau3[Nat]=Nuitées!$C10)*(AG$3>=Tableau3[Arrivée])*(AG$3<Tableau3[Départ]))","v":0},{"$f":"SUMPRODUCT((Tableau3[Nat]=Nuitées!$C10)*(AH$3>=Tableau3[Arrivée])*(AH$3<Tableau3[Départ]))","v":0},0]
[null,"Finlande","FN",{"$f":"SUMPRODUCT((Tableau3[Nat]=Nuitées!$C11)*($D$3>=Tableau3[Arrivée])*($D$3<Tableau3[Départ]))","v":0},{"$f":"SUMPRODUCT((Tableau3[Nat]=Nuitées!$C11)*(E$3>=Tableau3[Arrivée])*(E$3<Tableau3[Départ]))","v":0},{"$f":"SUMPRODUCT((Tableau3[Nat]=Nuitées!$C11)*(F$3>=Tableau3[Arrivée])*(F$3<Tableau3[Départ]))","v":0},{"$f":"SUMPRODUCT((Tableau3[Nat]=Nuitées!$C11)*(G$3>=Tableau3[Arrivée])*(G$3<Tableau3[Départ]))","v":0},{"$f":"SUMPRODUCT((Tableau3[Nat]=Nuitées!$C11)*(H$3>=Tableau3[Arrivée])*(H$3<Tableau3[Départ]))","v":0},{"$f":"SUMPRODUCT((Tableau3[Nat]=Nuitées!$C11)*(I$3>=Tableau3[Arrivée])*(I$3<Tableau3[Départ]))","v":0},{"$f":"SUMPRODUCT((Tableau3[Nat]=Nuitées!$C11)*(J$3>=Tableau3[Arrivée])*(J$3<Tableau3[Départ]))","v":0},{"$f":"SUMPRODUCT((Tableau3[Nat]=Nuitées!$C11)*(K$3>=Tableau3[Arrivée])*(K$3<Tableau3[Départ]))","v":0},{"$f":"SUMPRODUCT((Tableau3[Nat]=Nuitées!$C11)*(L$3>=Tableau3[Arrivée])*(L$3<Tableau3[Départ]))","v":0},{"$f":"SUMPRODUCT((Tableau3[Nat]=Nuitées!$C11)*(M$3>=Tableau3[Arrivée])*(M$3<Tableau3[Départ]))","v":0},{"$f":"SUMPRODUCT((Tableau3[Nat]=Nuitées!$C11)*(N$3>=Tableau3[Arrivée])*(N$3<Tableau3[Départ]))","v":0},{"$f":"SUMPRODUCT((Tableau3[Nat]=Nuitées!$C11)*(O$3>=Tableau3[Arrivée])*(O$3<Tableau3[Départ]))","v":0},{"$f":"SUMPRODUCT((Tableau3[Nat]=Nuitées!$C11)*(P$3>=Tableau3[Arrivée])*(P$3<Tableau3[Départ]))","v":0},{"$f":"SUMPRODUCT((Tableau3[Nat]=Nuitées!$C11)*(Q$3>=Tableau3[Arrivée])*(Q$3<Tableau3[Départ]))","v":0},{"$f":"SUMPRODUCT((Tableau3[Nat]=Nuitées!$C11)*(R$3>=Tableau3[Arrivée])*(R$3<Tableau3[Départ]))","v":0},{"$f":"SUMPRODUCT((Tableau3[Nat]=Nuitées!$C11)*(S$3>=Tableau3[Arrivée])*(S$3<Tableau3[Départ]))","v":0},{"$f":"SUMPRODUCT((Tableau3[Nat]=Nuitées!$C11)*(T$3>=Tableau3[Arrivée])*(T$3<Tableau3[Départ]))","v":0},{"$f":"SUMPRODUCT((Tableau3[Nat]=Nuitées!$C11)*(U$3>=Tableau3[Arrivée])*(U$3<Tableau3[Départ]))","v":0},{"$f":"SUMPRODUCT((Tableau3[Nat]=Nuitées!$C11)*(V$3>=Tableau3[Arrivée])*(V$3<Tableau3[Départ]))","v":0},{"$f":"SUMPRODUCT((Tableau3[Nat]=Nuitées!$C11)*(W$3>=Tableau3[Arrivée])*(W$3<Tableau3[Départ]))","v":0},{"$f":"SUMPRODUCT((Tableau3[Nat]=Nuitées!$C11)*(X$3>=Tableau3[Arrivée])*(X$3<Tableau3[Départ]))","v":0},{"$f":"SUMPRODUCT((Tableau3[Nat]=Nuitées!$C11)*(Y$3>=Tableau3[Arrivée])*(Y$3<Tableau3[Départ]))","v":0},{"$f":"SUMPRODUCT((Tableau3[Nat]=Nuitées!$C11)*(Z$3>=Tableau3[Arrivée])*(Z$3<Tableau3[Départ]))","v":0},{"$f":"SUMPRODUCT((Tableau3[Nat]=Nuitées!$C11)*(AA$3>=Tableau3[Arrivée])*(AA$3<Tableau3[Départ]))","v":0},{"$f":"SUMPRODUCT((Tableau3[Nat]=Nuitées!$C11)*(AB$3>=Tableau3[Arrivée])*(AB$3<Tableau3[Départ]))","v":0},{"$f":"SUMPRODUCT((Tableau3[Nat]=Nuitées!$C11)*(AC$3>=Tableau3[Arrivée])*(AC$3<Tableau3[Départ]))","v":0},{"$f":"SUMPRODUCT((Tableau3[Nat]=Nuitées!$C11)*(AD$3>=Tableau3[Arrivée])*(AD$3<Tableau3[Départ]))","v":0},{"$f":"SUMPRODUCT((Tableau3[Nat]=Nuitées!$C11)*(AE$3>=Tableau3[Arrivée])*(AE$3<Tableau3[Départ]))","v":0},{"$f":"SUMPRODUCT((Tableau3[Nat]=Nuitées!$C11)*(AF$3>=Tableau3[Arrivée])*(AF$3<Tableau3[Départ]))","v":0},{"$f":"SUMPRODUCT((Tableau3[Nat]=Nuitées!$C11)*(AG$3>=Tableau3[Arrivée])*(AG$3<Tableau3[Départ]))","v":0},{"$f":"SUMPRODUCT((Tableau3[Nat]=Nuitées!$C11)*(AH$3>=Tableau3[Arrivée])*(AH$3<Tableau3[Départ]))","v":0},0]
[null,"Norvège","NO",{"$f":"SUMPRODUCT((Tableau3[Nat]=Nuitées!$C12)*($D$3>=Tableau3[Arrivée])*($D$3<Tableau3[Départ]))","v":0},{"$f":"SUMPRODUCT((Tableau3[Nat]=Nuitées!$C12)*(E$3>=Tableau3[Arrivée])*(E$3<Tableau3[Départ]))","v":0},{"$f":"SUMPRODUCT((Tableau3[Nat]=Nuitées!$C12)*(F$3>=Tableau3[Arrivée])*(F$3<Tableau3[Départ]))","v":0},{"$f":"SUMPRODUCT((Tableau3[Nat]=Nuitées!$C12)*(G$3>=Tableau3[Arrivée])*(G$3<Tableau3[Départ]))","v":0},{"$f":"SUMPRODUCT((Tableau3[Nat]=Nuitées!$C12)*(H$3>=Tableau3[Arrivée])*(H$3<Tableau3[Départ]))","v":0},{"$f":"SUMPRODUCT((Tableau3[Nat]=Nuitées!$C12)*(I$3>=Tableau3[Arrivée])*(I$3<Tableau3[Départ]))","v":0},{"$f":"SUMPRODUCT((Tableau3[Nat]=Nuitées!$C12)*(J$3>=Tableau3[Arrivée])*(J$3<Tableau3[Départ]))","v":0},{"$f":"SUMPRODUCT((Tableau3[Nat]=Nuitées!$C12)*(K$3>=Tableau3[Arrivée])*(K$3<Tableau3[Départ]))","v":0},{"$f":"SUMPRODUCT((Tableau3[Nat]=Nuitées!$C12)*(L$3>=Tableau3[Arrivée])*(L$3<Tableau3[Départ]))","v":0},{"$f":"SUMPRODUCT((Tableau3[Nat]=Nuitées!$C12)*(M$3>=Tableau3[Arrivée])*(M$3<Tableau3[Départ]))","v":0},{"$f":"SUMPRODUCT((Tableau3[Nat]=Nuitées!$C12)*(N$3>=Tableau3[Arrivée])*(N$3<Tableau3[Départ]))","v":0},{"$f":"SUMPRODUCT((Tableau3[Nat]=Nuitées!$C12)*(O$3>=Tableau3[Arrivée])*(O$3<Tableau3[Départ]))","v":0},{"$f":"SUMPRODUCT((Tableau3[Nat]=Nuitées!$C12)*(P$3>=Tableau3[Arrivée])*(P$3<Tableau3[Départ]))","v":0},{"$f":"SUMPRODUCT((Tableau3[Nat]=Nuitées!$C12)*(Q$3>=Tableau3[Arrivée])*(Q$3<Tableau3[Départ]))","v":0},{"$f":"SUMPRODUCT((Tableau3[Nat]=Nuitées!$C12)*(R$3>=Tableau3[Arrivée])*(R$3<Tableau3[Départ]))","v":0},{"$f":"SUMPRODUCT((Tableau3[Nat]=Nuitées!$C12)*(S$3>=Tableau3[Arrivée])*(S$3<Tableau3[Départ]))","v":0},{"$f":"SUMPRODUCT((Tableau3[Nat]=Nuitées!$C12)*(T$3>=Tableau3[Arrivée])*(T$3<Tableau3[Départ]))","v":0},{"$f":"SUMPRODUCT((Tableau3[Nat]=Nuitées!$C12)*(U$3>=Tableau3[Arrivée])*(U$3<Tableau3[Départ]))","v":0},{"$f":"SUMPRODUCT((Tableau3[Nat]=Nuitées!$C12)*(V$3>=Tableau3[Arrivée])*(V$3<Tableau3[Départ]))","v":0},{"$f":"SUMPRODUCT((Tableau3[Nat]=Nuitées!$C12)*(W$3>=Tableau3[Arrivée])*(W$3<Tableau3[Départ]))","v":0},{"$f":"SUMPRODUCT((Tableau3[Nat]=Nuitées!$C12)*(X$3>=Tableau3[Arrivée])*(X$3<Tableau3[Départ]))","v":0},{"$f":"SUMPRODUCT((Tableau3[Nat]=Nuitées!$C12)*(Y$3>=Tableau3[Arrivée])*(Y$3<Tableau3[Départ]))","v":0},{"$f":"SUMPRODUCT((Tableau3[Nat]=Nuitées!$C12)*(Z$3>=Tableau3[Arrivée])*(Z$3<Tableau3[Départ]))","v":0},{"$f":"SUMPRODUCT((Tableau3[Nat]=Nuitées!$C12)*(AA$3>=Tableau3[Arrivée])*(AA$3<Tableau3[Départ]))","v":0},{"$f":"SUMPRODUCT((Tableau3[Nat]=Nuitées!$C12)*(AB$3>=Tableau3[Arrivée])*(AB$3<Tableau3[Départ]))","v":0},{"$f":"SUMPRODUCT((Tableau3[Nat]=Nuitées!$C12)*(AC$3>=Tableau3[Arrivée])*(AC$3<Tableau3[Départ]))","v":0},{"$f":"SUMPRODUCT((Tableau3[Nat]=Nuitées!$C12)*(AD$3>=Tableau3[Arrivée])*(AD$3<Tableau3[Départ]))","v":0},{"$f":"SUMPRODUCT((Tableau3[Nat]=Nuitées!$C12)*(AE$3>=Tableau3[Arrivée])*(AE$3<Tableau3[Départ]))","v":0},{"$f":"SUMPRODUCT((Tableau3[Nat]=Nuitées!$C12)*(AF$3>=Tableau3[Arrivée])*(AF$3<Tableau3[Départ]))","v":0},{"$f":"SUMPRODUCT((Tableau3[Nat]=Nuitées!$C12)*(AG$3>=Tableau3[Arrivée])*(AG$3<Tableau3[Départ]))","v":0},{"$f":"SUMPRODUCT((Tableau3[Nat]=Nuitées!$C12)*(AH$3>=Tableau3[Arrivée])*(AH$3<Tableau3[Départ]))","v":0},0]
[null,"Autriche","AT",{"$f":"SUMPRODUCT((Tableau3[Nat]=Nuitées!$C13)*($D$3>=Tableau3[Arrivée])*($D$3<Tableau3[Départ]))","v":0},{"$f":"SUMPRODUCT((Tableau3[Nat]=Nuitées!$C13)*(E$3>=Tableau3[Arrivée])*(E$3<Tableau3[Départ]))","v":0},{"$f":"SUMPRODUCT((Tableau3[Nat]=Nuitées!$C13)*(F$3>=Tableau3[Arrivée])*(F$3<Tableau3[Départ]))","v":0},{"$f":"SUMPRODUCT((Tableau3[Nat]=Nuitées!$C13)*(G$3>=Tableau3[Arrivée])*(G$3<Tableau3[Départ]))","v":0},{"$f":"SUMPRODUCT((Tableau3[Nat]=Nuitées!$C13)*(H$3>=Tableau3[Arrivée])*(H$3<Tableau3[Départ]))","v":0},{"$f":"SUMPRODUCT((Tableau3[Nat]=Nuitées!$C13)*(I$3>=Tableau3[Arrivée])*(I$3<Tableau3[Départ]))","v":0},{"$f":"SUMPRODUCT((Tableau3[Nat]=Nuitées!$C13)*(J$3>=Tableau3[Arrivée])*(J$3<Tableau3[Départ]))","v":0},{"$f":"SUMPRODUCT((Tableau3[Nat]=Nuitées!$C13)*(K$3>=Tableau3[Arrivée])*(K$3<Tableau3[Départ]))","v":0},{"$f":"SUMPRODUCT((Tableau3[Nat]=Nuitées!$C13)*(L$3>=Tableau3[Arrivée])*(L$3<Tableau3[Départ]))","v":0},{"$f":"SUMPRODUCT((Tableau3[Nat]=Nuitées!$C13)*(M$3>=Tableau3[Arrivée])*(M$3<Tableau3[Départ]))","v":0},{"$f":"SUMPRODUCT((Tableau3[Nat]=Nuitées!$C13)*(N$3>=Tableau3[Arrivée])*(N$3<Tableau3[Départ]))","v":0},{"$f":"SUMPRODUCT((Tableau3[Nat]=Nuitées!$C13)*(O$3>=Tableau3[Arrivée])*(O$3<Tableau3[Départ]))","v":0},{"$f":"SUMPRODUCT((Tableau3[Nat]=Nuitées!$C13)*(P$3>=Tableau3[Arrivée])*(P$3<Tableau3[Départ]))","v":0},{"$f":"SUMPRODUCT((Tableau3[Nat]=Nuitées!$C13)*(Q$3>=Tableau3[Arrivée])*(Q$3<Tableau3[Départ]))","v":0},{"$f":"SUMPRODUCT((Tableau3[Nat]=Nuitées!$C13)*(R$3>=Tableau3[Arrivée])*(R$3<Tableau3[Départ]))","v":0},{"$f":"SUMPRODUCT((Tableau3[Nat]=Nuitées!$C13)*(S$3>=Tableau3[Arrivée])*(S$3<Tableau3[Départ]))","v":0},{"$f":"SUMPRODUCT((Tableau3[Nat]=Nuitées!$C13)*(T$3>=Tableau3[Arrivée])*(T$3<Tableau3[Départ]))","v":0},{"$f":"SUMPRODUCT((Tableau3[Nat]=Nuitées!$C13)*(U$3>=Tableau3[Arrivée])*(U$3<Tableau3[Départ]))","v":0},{"$f":"SUMPRODUCT((Tableau3[Nat]=Nuitées!$C13)*(V$3>=Tableau3[Arrivée])*(V$3<Tableau3[Départ]))","v":0},{"$f":"SUMPRODUCT((Tableau3[Nat]=Nuitées!$C13)*(W$3>=Tableau3[Arrivée])*(W$3<Tableau3[Départ]))","v":0},{"$f":"SUMPRODUCT((Tableau3[Nat]=Nuitées!$C13)*(X$3>=Tableau3[Arrivée])*(X$3<Tableau3[Départ]))","v":0},{"$f":"SUMPRODUCT((Tableau3[Nat]=Nuitées!$C13)*(Y$3>=Tableau3[Arrivée])*(Y$3<Tableau3[Départ]))","v":0},{"$f":"SUMPRODUCT((Tableau3[Nat]=Nuitées!$C13)*(Z$3>=Tableau3[Arrivée])*(Z$3<Tableau3[Départ]))","v":0},{"$f":"SUMPRODUCT((Tableau3[Nat]=Nuitées!$C13)*(AA$3>=Tableau3[Arrivée])*(AA$3<Tableau3[Départ]))","v":0},{"$f":"SUMPRODUCT((Tableau3[Nat]=Nuitées!$C13)*(AB$3>=Tableau3[Arrivée])*(AB$3<Tableau3[Départ]))","v":0},{"$f":"SUMPRODUCT((Tableau3[Nat]=Nuitées!$C13)*(AC$3>=Tableau3[Arrivée])*(AC$3<Tableau3[Départ]))","v":0},{"$f":"SUMPRODUCT((Tableau3[Nat]=Nuitées!$C13)*(AD$3>=Tableau3[Arrivée])*(AD$3<Tableau3[Départ]))","v":0},{"$f":"SUMPRODUCT((Tableau3[Nat]=Nuitées!$C13)*(AE$3>=Tableau3[Arrivée])*(AE$3<Tableau3[Départ]))","v":0},{"$f":"SUMPRODUCT((Tableau3[Nat]=Nuitées!$C13)*(AF$3>=Tableau3[Arrivée])*(AF$3<Tableau3[Départ]))","v":0},{"$f":"SUMPRODUCT((Tableau3[Nat]=Nuitées!$C13)*(AG$3>=Tableau3[Arrivée])*(AG$3<Tableau3[Départ]))","v":0},{"$f":"SUMPRODUCT((Tableau3[Nat]=Nuitées!$C13)*(AH$3>=Tableau3[Arrivée])*(AH$3<Tableau3[Départ]))","v":0},0]
[null,"Portugal","PT",{"$f":"SUMPRODUCT((Tableau3[Nat]=Nuitées!$C14)*($D$3>=Tableau3[Arrivée])*($D$3<Tableau3[Départ]))","v":0},{"$f":"SUMPRODUCT((Tableau3[Nat]=Nuitées!$C14)*(E$3>=Tableau3[Arrivée])*(E$3<Tableau3[Départ]))","v":0},{"$f":"SUMPRODUCT((Tableau3[Nat]=Nuitées!$C14)*(F$3>=Tableau3[Arrivée])*(F$3<Tableau3[Départ]))","v":0},{"$f":"SUMPRODUCT((Tableau3[Nat]=Nuitées!$C14)*(G$3>=Tableau3[Arrivée])*(G$3<Tableau3[Départ]))","v":0},{"$f":"SUMPRODUCT((Tableau3[Nat]=Nuitées!$C14)*(H$3>=Tableau3[Arrivée])*(H$3<Tableau3[Départ]))","v":0},{"$f":"SUMPRODUCT((Tableau3[Nat]=Nuitées!$C14)*(I$3>=Tableau3[Arrivée])*(I$3<Tableau3[Départ]))","v":0},{"$f":"SUMPRODUCT((Tableau3[Nat]=Nuitées!$C14)*(J$3>=Tableau3[Arrivée])*(J$3<Tableau3[Départ]))","v":0},{"$f":"SUMPRODUCT((Tableau3[Nat]=Nuitées!$C14)*(K$3>=Tableau3[Arrivée])*(K$3<Tableau3[Départ]))","v":0},{"$f":"SUMPRODUCT((Tableau3[Nat]=Nuitées!$C14)*(L$3>=Tableau3[Arrivée])*(L$3<Tableau3[Départ]))","v":0},{"$f":"SUMPRODUCT((Tableau3[Nat]=Nuitées!$C14)*(M$3>=Tableau3[Arrivée])*(M$3<Tableau3[Départ]))","v":0},{"$f":"SUMPRODUCT((Tableau3[Nat]=Nuitées!$C14)*(N$3>=Tableau3[Arrivée])*(N$3<Tableau3[Départ]))","v":0},{"$f":"SUMPRODUCT((Tableau3[Nat]=Nuitées!$C14)*(O$3>=Tableau3[Arrivée])*(O$3<Tableau3[Départ]))","v":0},{"$f":"SUMPRODUCT((Tableau3[Nat]=Nuitées!$C14)*(P$3>=Tableau3[Arrivée])*(P$3<Tableau3[Départ]))","v":0},{"$f":"SUMPRODUCT((Tableau3[Nat]=Nuitées!$C14)*(Q$3>=Tableau3[Arrivée])*(Q$3<Tableau3[Départ]))","v":0},{"$f":"SUMPRODUCT((Tableau3[Nat]=Nuitées!$C14)*(R$3>=Tableau3[Arrivée])*(R$3<Tableau3[Départ]))","v":0},{"$f":"SUMPRODUCT((Tableau3[Nat]=Nuitées!$C14)*(S$3>=Tableau3[Arrivée])*(S$3<Tableau3[Départ]))","v":0},{"$f":"SUMPRODUCT((Tableau3[Nat]=Nuitées!$C14)*(T$3>=Tableau3[Arrivée])*(T$3<Tableau3[Départ]))","v":0},{"$f":"SUMPRODUCT((Tableau3[Nat]=Nuitées!$C14)*(U$3>=Tableau3[Arrivée])*(U$3<Tableau3[Départ]))","v":0},{"$f":"SUMPRODUCT((Tableau3[Nat]=Nuitées!$C14)*(V$3>=Tableau3[Arrivée])*(V$3<Tableau3[Départ]))","v":0},{"$f":"SUMPRODUCT((Tableau3[Nat]=Nuitées!$C14)*(W$3>=Tableau3[Arrivée])*(W$3<Tableau3[Départ]))","v":0},{"$f":"SUMPRODUCT((Tableau3[Nat]=Nuitées!$C14)*(X$3>=Tableau3[Arrivée])*(X$3<Tableau3[Départ]))","v":0},{"$f":"SUMPRODUCT((Tableau3[Nat]=Nuitées!$C14)*(Y$3>=Tableau3[Arrivée])*(Y$3<Tableau3[Départ]))","v":0},{"$f":"SUMPRODUCT((Tableau3[Nat]=Nuitées!$C14)*(Z$3>=Tableau3[Arrivée])*(Z$3<Tableau3[Départ]))","v":0},{"$f":"SUMPRODUCT((Tableau3[Nat]=Nuitées!$C14)*(AA$3>=Tableau3[Arrivée])*(AA$3<Tableau3[Départ]))","v":0},{"$f":"SUMPRODUCT((Tableau3[Nat]=Nuitées!$C14)*(AB$3>=Tableau3[Arrivée])*(AB$3<Tableau3[Départ]))","v":0},{"$f":"SUMPRODUCT((Tableau3[Nat]=Nuitées!$C14)*(AC$3>=Tableau3[Arrivée])*(AC$3<Tableau3[Départ]))","v":0},{"$f":"SUMPRODUCT((Tableau3[Nat]=Nuitées!$C14)*(AD$3>=Tableau3[Arrivée])*(AD$3<Tableau3[Départ]))","v":0},{"$f":"SUMPRODUCT((Tableau3[Nat]=Nuitées!$C14)*(AE$3>=Tableau3[Arrivée])*(AE$3<Tableau3[Départ]))","v":0},{"$f":"SUMPRODUCT((Tableau3[Nat]=Nuitées!$C14)*(AF$3>=Tableau3[Arrivée])*(AF$3<Tableau3[Départ]))","v":0},{"$f":"SUMPRODUCT((Tableau3[Nat]=Nuitées!$C14)*(AG$3>=Tableau3[Arrivée])*(AG$3<Tableau3[Départ]))","v":0},{"$f":"SUMPRODUCT((Tableau3[Nat]=Nuitées!$C14)*(AH$3>=Tableau3[Arrivée])*(AH$3<Tableau3[Départ]))","v":0},0]
[null,"Hollande","NL",{"$f":"SUMPRODUCT((Tableau3[Nat]=Nuitées!$C15)*($D$3>=Tableau3[Arrivée])*($D$3<Tableau3[Départ]))","v":0},{"$f":"SUMPRODUCT((Tableau3[Nat]=Nuitées!$C15)*(E$3>=Tableau3[Arrivée])*(E$3<Tableau3[Départ]))","v":0},{"$f":"SUMPRODUCT((Tableau3[Nat]=Nuitées!$C15)*(F$3>=Tableau3[Arrivée])*(F$3<Tableau3[Départ]))","v":0},{"$f":"SUMPRODUCT((Tableau3[Nat]=Nuitées!$C15)*(G$3>=Tableau3[Arrivée])*(G$3<Tableau3[Départ]))","v":0},{"$f":"SUMPRODUCT((Tableau3[Nat]=Nuitées!$C15)*(H$3>=Tableau3[Arrivée])*(H$3<Tableau3[Départ]))","v":0},{"$f":"SUMPRODUCT((Tableau3[Nat]=Nuitées!$C15)*(I$3>=Tableau3[Arrivée])*(I$3<Tableau3[Départ]))","v":0},{"$f":"SUMPRODUCT((Tableau3[Nat]=Nuitées!$C15)*(J$3>=Tableau3[Arrivée])*(J$3<Tableau3[Départ]))","v":0},{"$f":"SUMPRODUCT((Tableau3[Nat]=Nuitées!$C15)*(K$3>=Tableau3[Arrivée])*(K$3<Tableau3[Départ]))","v":0},{"$f":"SUMPRODUCT((Tableau3[Nat]=Nuitées!$C15)*(L$3>=Tableau3[Arrivée])*(L$3<Tableau3[Départ]))","v":0},{"$f":"SUMPRODUCT((Tableau3[Nat]=Nuitées!$C15)*(M$3>=Tableau3[Arrivée])*(M$3<Tableau3[Départ]))","v":0},{"$f":"SUMPRODUCT((Tableau3[Nat]=Nuitées!$C15)*(N$3>=Tableau3[Arrivée])*(N$3<Tableau3[Départ]))","v":0},{"$f":"SUMPRODUCT((Tableau3[Nat]=Nuitées!$C15)*(O$3>=Tableau3[Arrivée])*(O$3<Tableau3[Départ]))","v":0},{"$f":"SUMPRODUCT((Tableau3[Nat]=Nuitées!$C15)*(P$3>=Tableau3[Arrivée])*(P$3<Tableau3[Départ]))","v":0},{"$f":"SUMPRODUCT((Tableau3[Nat]=Nuitées!$C15)*(Q$3>=Tableau3[Arrivée])*(Q$3<Tableau3[Départ]))","v":0},{"$f":"SUMPRODUCT((Tableau3[Nat]=Nuitées!$C15)*(R$3>=Tableau3[Arrivée])*(R$3<Tableau3[Départ]))","v":0},{"$f":"SUMPRODUCT((Tableau3[Nat]=Nuitées!$C15)*(S$3>=Tableau3[Arrivée])*(S$3<Tableau3[Départ]))","v":0},{"$f":"SUMPRODUCT((Tableau3[Nat]=Nuitées!$C15)*(T$3>=Tableau3[Arrivée])*(T$3<Tableau3[Départ]))","v":0},{"$f":"SUMPRODUCT((Tableau3[Nat]=Nuitées!$C15)*(U$3>=Tableau3[Arrivée])*(U$3<Tableau3[Départ]))","v":0},{"$f":"SUMPRODUCT((Tableau3[Nat]=Nuitées!$C15)*(V$3>=Tableau3[Arrivée])*(V$3<Tableau3[Départ]))","v":0},{"$f":"SUMPRODUCT((Tableau3[Nat]=Nuitées!$C15)*(W$3>=Tableau3[Arrivée])*(W$3<Tableau3[Départ]))","v":0},{"$f":"SUMPRODUCT((Tableau3[Nat]=Nuitées!$C15)*(X$3>=Tableau3[Arrivée])*(X$3<Tableau3[Départ]))","v":0},{"$f":"SUMPRODUCT((Tableau3[Nat]=Nuitées!$C15)*(Y$3>=Tableau3[Arrivée])*(Y$3<Tableau3[Départ]))","v":0},{"$f":"SUMPRODUCT((Tableau3[Nat]=Nuitées!$C15)*(Z$3>=Tableau3[Arrivée])*(Z$3<Tableau3[Départ]))","v":0},{"$f":"SUMPRODUCT((Tableau3[Nat]=Nuitées!$C15)*(AA$3>=Tableau3[Arrivée])*(AA$3<Tableau3[Départ]))","v":0},{"$f":"SUMPRODUCT((Tableau3[Nat]=Nuitées!$C15)*(AB$3>=Tableau3[Arrivée])*(AB$3<Tableau3[Départ]))","v":0},{"$f":"SUMPRODUCT((Tableau3[Nat]=Nuitées!$C15)*(AC$3>=Tableau3[Arrivée])*(AC$3<Tableau3[Départ]))","v":0},{"$f":"SUMPRODUCT((Tableau3[Nat]=Nuitées!$C15)*(AD$3>=Tableau3[Arrivée])*(AD$3<Tableau3[Départ]))","v":0},{"$f":"SUMPRODUCT((Tableau3[Nat]=Nuitées!$C15)*(AE$3>=Tableau3[Arrivée])*(AE$3<Tableau3[Départ]))","v":0},{"$f":"SUMPRODUCT((Tableau3[Nat]=Nuitées!$C15)*(AF$3>=Tableau3[Arrivée])*(AF$3<Tableau3[Départ]))","v":0},{"$f":"SUMPRODUCT((Tableau3[Nat]=Nuitées!$C15)*(AG$3>=Tableau3[Arrivée])*(AG$3<Tableau3[Départ]))","v":0},{"$f":"SUMPRODUCT((Tableau3[Nat]=Nuitées!$C15)*(AH$3>=Tableau3[Arrivée])*(AH$3<Tableau3[Départ]))","v":0},0]
[null,"Belgique","BE",{"$f":"SUMPRODUCT((Tableau3[Nat]=Nuitées!$C16)*($D$3>=Tableau3[Arrivée])*($D$3<Tableau3[Départ]))","v":0},{"$f":"SUMPRODUCT((Tableau3[Nat]=Nuitées!$C16)*(E$3>=Tableau3[Arrivée])*(E$3<Tableau3[Départ]))","v":0},{"$f":"SUMPRODUCT((Tableau3[Nat]=Nuitées!$C16)*(F$3>=Tableau3[Arrivée])*(F$3<Tableau3[Départ]))","v":0},{"$f":"SUMPRODUCT((Tableau3[Nat]=Nuitées!$C16)*(G$3>=Tableau3[Arrivée])*(G$3<Tableau3[Départ]))","v":0},{"$f":"SUMPRODUCT((Tableau3[Nat]=Nuitées!$C16)*(H$3>=Tableau3[Arrivée])*(H$3<Tableau3[Départ]))","v":0},{"$f":"SUMPRODUCT((Tableau3[Nat]=Nuitées!$C16)*(I$3>=Tableau3[Arrivée])*(I$3<Tableau3[Départ]))","v":0},{"$f":"SUMPRODUCT((Tableau3[Nat]=Nuitées!$C16)*(J$3>=Tableau3[Arrivée])*(J$3<Tableau3[Départ]))","v":0},{"$f":"SUMPRODUCT((Tableau3[Nat]=Nuitées!$C16)*(K$3>=Tableau3[Arrivée])*(K$3<Tableau3[Départ]))","v":0},{"$f":"SUMPRODUCT((Tableau3[Nat]=Nuitées!$C16)*(L$3>=Tableau3[Arrivée])*(L$3<Tableau3[Départ]))","v":0},{"$f":"SUMPRODUCT((Tableau3[Nat]=Nuitées!$C16)*(M$3>=Tableau3[Arrivée])*(M$3<Tableau3[Départ]))","v":0},{"$f":"SUMPRODUCT((Tableau3[Nat]=Nuitées!$C16)*(N$3>=Tableau3[Arrivée])*(N$3<Tableau3[Départ]))","v":0},{"$f":"SUMPRODUCT((Tableau3[Nat]=Nuitées!$C16)*(O$3>=Tableau3[Arrivée])*(O$3<Tableau3[Départ]))","v":0},{"$f":"SUMPRODUCT((Tableau3[Nat]=Nuitées!$C16)*(P$3>=Tableau3[Arrivée])*(P$3<Tableau3[Départ]))","v":0},{"$f":"SUMPRODUCT((Tableau3[Nat]=Nuitées!$C16)*(Q$3>=Tableau3[Arrivée])*(Q$3<Tableau3[Départ]))","v":0},{"$f":"SUMPRODUCT((Tableau3[Nat]=Nuitées!$C16)*(R$3>=Tableau3[Arrivée])*(R$3<Tableau3[Départ]))","v":0},{"$f":"SUMPRODUCT((Tableau3[Nat]=Nuitées!$C16)*(S$3>=Tableau3[Arrivée])*(S$3<Tableau3[Départ]))","v":0},{"$f":"SUMPRODUCT((Tableau3[Nat]=Nuitées!$C16)*(T$3>=Tableau3[Arrivée])*(T$3<Tableau3[Départ]))","v":0},{"$f":"SUMPRODUCT((Tableau3[Nat]=Nuitées!$C16)*(U$3>=Tableau3[Arrivée])*(U$3<Tableau3[Départ]))","v":0},{"$f":"SUMPRODUCT((Tableau3[Nat]=Nuitées!$C16)*(V$3>=Tableau3[Arrivée])*(V$3<Tableau3[Départ]))","v":0},{"$f":"SUMPRODUCT((Tableau3[Nat]=Nuitées!$C16)*(W$3>=Tableau3[Arrivée])*(W$3<Tableau3[Départ]))","v":0},{"$f":"SUMPRODUCT((Tableau3[Nat]=Nuitées!$C16)*(X$3>=Tableau3[Arrivée])*(X$3<Tableau3[Départ]))","v":0},{"$f":"SUMPRODUCT((Tableau3[Nat]=Nuitées!$C16)*(Y$3>=Tableau3[Arrivée])*(Y$3<Tableau3[Départ]))","v":0},{"$f":"SUMPRODUCT((Tableau3[Nat]=Nuitées!$C16)*(Z$3>=Tableau3[Arrivée])*(Z$3<Tableau3[Départ]))","v":0},{"$f":"SUMPRODUCT((Tableau3[Nat]=Nuitées!$C16)*(AA$3>=Tableau3[Arrivée])*(AA$3<Tableau3[Départ]))","v":0},{"$f":"SUMPRODUCT((Tableau3[Nat]=Nuitées!$C16)*(AB$3>=Tableau3[Arrivée])*(AB$3<Tableau3[Départ]))","v":0},{"$f":"SUMPRODUCT((Tableau3[Nat]=Nuitées!$C16)*(AC$3>=Tableau3[Arrivée])*(AC$3<Tableau3[Départ]))","v":0},{"$f":"SUMPRODUCT((Tableau3[Nat]=Nuitées!$C16)*(AD$3>=Tableau3[Arrivée])*(AD$3<Tableau3[Départ]))","v":0},{"$f":"SUMPRODUCT((Tableau3[Nat]=Nuitées!$C16)*(AE$3>=Tableau3[Arrivée])*(AE$3<Tableau3[Départ]))","v":0},{"$f":"SUMPRODUCT((Tableau3[Nat]=Nuitées!$C16)*(AF$3>=Tableau3[Arrivée])*(AF$3<Tableau3[Départ]))","v":0},{"$f":"SUMPRODUCT((Tableau3[Nat]=Nuitées!$C16)*(AG$3>=Tableau3[Arrivée])*(AG$3<Tableau3[Départ]))","v":0},{"$f":"SUMPRODUCT((Tableau3[Nat]=Nuitées!$C16)*(AH$3>=Tableau3[Arrivée])*(AH$3<Tableau3[Départ]))","v":0},0]
[null,"Suisse","CH",{"$f":"SUMPRODUCT((Tableau3[Nat]=Nuitées!$C17)*($D$3>=Tableau3[Arrivée])*($D$3<Tableau3[Départ]))","v":0},{"$f":"SUMPRODUCT((Tableau3[Nat]=Nuitées!$C17)*(E$3>=Tableau3[Arrivée])*(E$3<Tableau3[Départ]))","v":0},{"$f":"SUMPRODUCT((Tableau3[Nat]=Nuitées!$C17)*(F$3>=Tableau3[Arrivée])*(F$3<Tableau3[Départ]))","v":0},{"$f":"SUMPRODUCT((Tableau3[Nat]=Nuitées!$C17)*(G$3>=Tableau3[Arrivée])*(G$3<Tableau3[Départ]))","v":0},{"$f":"SUMPRODUCT((Tableau3[Nat]=Nuitées!$C17)*(H$3>=Tableau3[Arrivée])*(H$3<Tableau3[Départ]))","v":0},{"$f":"SUMPRODUCT((Tableau3[Nat]=Nuitées!$C17)*(I$3>=Tableau3[Arrivée])*(I$3<Tableau3[Départ]))","v":0},{"$f":"SUMPRODUCT((Tableau3[Nat]=Nuitées!$C17)*(J$3>=Tableau3[Arrivée])*(J$3<Tableau3[Départ]))","v":0},{"$f":"SUMPRODUCT((Tableau3[Nat]=Nuitées!$C17)*(K$3>=Tableau3[Arrivée])*(K$3<Tableau3[Départ]))","v":0},{"$f":"SUMPRODUCT((Tableau3[Nat]=Nuitées!$C17)*(L$3>=Tableau3[Arrivée])*(L$3<Tableau3[Départ]))","v":0},{"$f":"SUMPRODUCT((Tableau3[Nat]=Nuitées!$C17)*(M$3>=Tableau3[Arrivée])*(M$3<Tableau3[Départ]))","v":0},{"$f":"SUMPRODUCT((Tableau3[Nat]=Nuitées!$C17)*(N$3>=Tableau3[Arrivée])*(N$3<Tableau3[Départ]))","v":0},{"$f":"SUMPRODUCT((Tableau3[Nat]=Nuitées!$C17)*(O$3>=Tableau3[Arrivée])*(O$3<Tableau3[Départ]))","v":0},{"$f":"SUMPRODUCT((Tableau3[Nat]=Nuitées!$C17)*(P$3>=Tableau3[Arrivée])*(P$3<Tableau3[Départ]))","v":0},{"$f":"SUMPRODUCT((Tableau3[Nat]=Nuitées!$C17)*(Q$3>=Tableau3[Arrivée])*(Q$3<Tableau3[Départ]))","v":0},{"$f":"SUMPRODUCT((Tableau3[Nat]=Nuitées!$C17)*(R$3>=Tableau3[Arrivée])*(R$3<Tableau3[Départ]))","v":0},{"$f":"SUMPRODUCT((Tableau3[Nat]=Nuitées!$C17)*(S$3>=Tableau3[Arrivée])*(S$3<Tableau3[Départ]))","v":0},{"$f":"SUMPRODUCT((Tableau3[Nat]=Nuitées!$C17)*(T$3>=Tableau3[Arrivée])*(T$3<Tableau3[Départ]))","v":0},{"$f":"SUMPRODUCT((Tableau3[Nat]=Nuitées!$C17)*(U$3>=Tableau3[Arrivée])*(U$3<Tableau3[Départ]))","v":0},{"$f":"SUMPRODUCT((Tableau3[Nat]=Nuitées!$C17)*(V$3>=Tableau3[Arrivée])*(V$3<Tableau3[Départ]))","v":0},{"$f":"SUMPRODUCT((Tableau3[Nat]=Nuitées!$C17)*(W$3>=Tableau3[Arrivée])*(W$3<Tableau3[Départ]))","v":0},{"$f":"SUMPRODUCT((Tableau3[Nat]=Nuitées!$C17)*(X$3>=Tableau3[Arrivée])*(X$3<Tableau3[Départ]))","v":0},{"$f":"SUMPRODUCT((Tableau3[Nat]=Nuitées!$C17)*(Y$3>=Tableau3[Arrivée])*(Y$3<Tableau3[Départ]))","v":0},{"$f":"SUMPRODUCT((Tableau3[Nat]=Nuitées!$C17)*(Z$3>=Tableau3[Arrivée])*(Z$3<Tableau3[Départ]))","v":0},{"$f":"SUMPRODUCT((Tableau3[Nat]=Nuitées!$C17)*(AA$3>=Tableau3[Arrivée])*(AA$3<Tableau3[Départ]))","v":0},{"$f":"SUMPRODUCT((Tableau3[Nat]=Nuitées!$C17)*(AB$3>=Tableau3[Arrivée])*(AB$3<Tableau3[Départ]))","v":0},{"$f":"SUMPRODUCT((Tableau3[Nat]=Nuitées!$C17)*(AC$3>=Tableau3[Arrivée])*(AC$3<Tableau3[Départ]))","v":0},{"$f":"SUMPRODUCT((Tableau3[Nat]=Nuitées!$C17)*(AD$3>=Tableau3[Arrivée])*(AD$3<Tableau3[Départ]))","v":0},{"$f":"SUMPRODUCT((Tableau3[Nat]=Nuitées!$C17)*(AE$3>=Tableau3[Arrivée])*(AE$3<Tableau3[Départ]))","v":0},{"$f":"SUMPRODUCT((Tableau3[Nat]=Nuitées!$C17)*(AF$3>=Tableau3[Arrivée])*(AF$3<Tableau3[Départ]))","v":0},{"$f":"SUMPRODUCT((Tableau3[Nat]=Nuitées!$C17)*(AG$3>=Tableau3[Arrivée])*(AG$3<Tableau3[Départ]))","v":0},{"$f":"SUMPRODUCT((Tableau3[Nat]=Nuitées!$C17)*(AH$3>=Tableau3[Arrivée])*(AH$3<Tableau3[Départ]))","v":0},0]
[null,"Hongrie","HU",{"$f":"SUMPRODUCT((Tableau3[Nat]=Nuitées!$C18)*($D$3>=Tableau3[Arrivée])*($D$3<Tableau3[Départ]))","v":0},{"$f":"SUMPRODUCT((Tableau3[Nat]=Nuitées!$C18)*(E$3>=Tableau3[Arrivée])*(E$3<Tableau3[Départ]))","v":0},{"$f":"SUMPRODUCT((Tableau3[Nat]=Nuitées!$C18)*(F$3>=Tableau3[Arrivée])*(F$3<Tableau3[Départ]))","v":0},{"$f":"SUMPRODUCT((Tableau3[Nat]=Nuitées!$C18)*(G$3>=Tableau3[Arrivée])*(G$3<Tableau3[Départ]))","v":0},{"$f":"SUMPRODUCT((Tableau3[Nat]=Nuitées!$C18)*(H$3>=Tableau3[Arrivée])*(H$3<Tableau3[Départ]))","v":0},{"$f":"SUMPRODUCT((Tableau3[Nat]=Nuitées!$C18)*(I$3>=Tableau3[Arrivée])*(I$3<Tableau3[Départ]))","v":0},{"$f":"SUMPRODUCT((Tableau3[Nat]=Nuitées!$C18)*(J$3>=Tableau3[Arrivée])*(J$3<Tableau3[Départ]))","v":0},{"$f":"SUMPRODUCT((Tableau3[Nat]=Nuitées!$C18)*(K$3>=Tableau3[Arrivée])*(K$3<Tableau3[Départ]))","v":0},{"$f":"SUMPRODUCT((Tableau3[Nat]=Nuitées!$C18)*(L$3>=Tableau3[Arrivée])*(L$3<Tableau3[Départ]))","v":0},{"$f":"SUMPRODUCT((Tableau3[Nat]=Nuitées!$C18)*(M$3>=Tableau3[Arrivée])*(M$3<Tableau3[Départ]))","v":0},{"$f":"SUMPRODUCT((Tableau3[Nat]=Nuitées!$C18)*(N$3>=Tableau3[Arrivée])*(N$3<Tableau3[Départ]))","v":0},{"$f":"SUMPRODUCT((Tableau3[Nat]=Nuitées!$C18)*(O$3>=Tableau3[Arrivée])*(O$3<Tableau3[Départ]))","v":0},{"$f":"SUMPRODUCT((Tableau3[Nat]=Nuitées!$C18)*(P$3>=Tableau3[Arrivée])*(P$3<Tableau3[Départ]))","v":0},{"$f":"SUMPRODUCT((Tableau3[Nat]=Nuitées!$C18)*(Q$3>=Tableau3[Arrivée])*(Q$3<Tableau3[Départ]))","v":0},{"$f":"SUMPRODUCT((Tableau3[Nat]=Nuitées!$C18)*(R$3>=Tableau3[Arrivée])*(R$3<Tableau3[Départ]))","v":0},{"$f":"SUMPRODUCT((Tableau3[Nat]=Nuitées!$C18)*(S$3>=Tableau3[Arrivée])*(S$3<Tableau3[Départ]))","v":0},{"$f":"SUMPRODUCT((Tableau3[Nat]=Nuitées!$C18)*(T$3>=Tableau3[Arrivée])*(T$3<Tableau3[Départ]))","v":0},{"$f":"SUMPRODUCT((Tableau3[Nat]=Nuitées!$C18)*(U$3>=Tableau3[Arrivée])*(U$3<Tableau3[Départ]))","v":0},{"$f":"SUMPRODUCT((Tableau3[Nat]=Nuitées!$C18)*(V$3>=Tableau3[Arrivée])*(V$3<Tableau3[Départ]))","v":0},{"$f":"SUMPRODUCT((Tableau3[Nat]=Nuitées!$C18)*(W$3>=Tableau3[Arrivée])*(W$3<Tableau3[Départ]))","v":0},{"$f":"SUMPRODUCT((Tableau3[Nat]=Nuitées!$C18)*(X$3>=Tableau3[Arrivée])*(X$3<Tableau3[Départ]))","v":0},{"$f":"SUMPRODUCT((Tableau3[Nat]=Nuitées!$C18)*(Y$3>=Tableau3[Arrivée])*(Y$3<Tableau3[Départ]))","v":0},{"$f":"SUMPRODUCT((Tableau3[Nat]=Nuitées!$C18)*(Z$3>=Tableau3[Arrivée])*(Z$3<Tableau3[Départ]))","v":0},{"$f":"SUMPRODUCT((Tableau3[Nat]=Nuitées!$C18)*(AA$3>=Tableau3[Arrivée])*(AA$3<Tableau3[Départ]))","v":0},{"$f":"SUMPRODUCT((Tableau3[Nat]=Nuitées!$C18)*(AB$3>=Tableau3[Arrivée])*(AB$3<Tableau3[Départ]))","v":0},{"$f":"SUMPRODUCT((Tableau3[Nat]=Nuitées!$C18)*(AC$3>=Tableau3[Arrivée])*(AC$3<Tableau3[Départ]))","v":0},{"$f":"SUMPRODUCT((Tableau3[Nat]=Nuitées!$C18)*(AD$3>=Tableau3[Arrivée])*(AD$3<Tableau3[Départ]))","v":0},{"$f":"SUMPRODUCT((Tableau3[Nat]=Nuitées!$C18)*(AE$3>=Tableau3[Arrivée])*(AE$3<Tableau3[Départ]))","v":0},{"$f":"SUMPRODUCT((Tableau3[Nat]=Nuitées!$C18)*(AF$3>=Tableau3[Arrivée])*(AF$3<Tableau3[Départ]))","v":0},{"$f":"SUMPRODUCT((Tableau3[Nat]=Nuitées!$C18)*(AG$3>=Tableau3[Arrivée])*(AG$3<Tableau3[Départ]))","v":0},{"$f":"SUMPRODUCT((Tableau3[Nat]=Nuitées!$C18)*(AH$3>=Tableau3[Arrivée])*(AH$3<Tableau3[Départ]))","v":0},0]
[null,"Russie","RU",{"$f":"SUMPRODUCT((Tableau3[Nat]=Nuitées!$C19)*($D$3>=Tableau3[Arrivée])*($D$3<Tableau3[Départ]))","v":0},{"$f":"SUMPRODUCT((Tableau3[Nat]=Nuitées!$C19)*(E$3>=Tableau3[Arrivée])*(E$3<Tableau3[Départ]))","v":0},{"$f":"SUMPRODUCT((Tableau3[Nat]=Nuitées!$C19)*(F$3>=Tableau3[Arrivée])*(F$3<Tableau3[Départ]))","v":0},{"$f":"SUMPRODUCT((Tableau3[Nat]=Nuitées!$C19)*(G$3>=Tableau3[Arrivée])*(G$3<Tableau3[Départ]))","v":0},{"$f":"SUMPRODUCT((Tableau3[Nat]=Nuitées!$C19)*(H$3>=Tableau3[Arrivée])*(H$3<Tableau3[Départ]))","v":0},{"$f":"SUMPRODUCT((Tableau3[Nat]=Nuitées!$C19)*(I$3>=Tableau3[Arrivée])*(I$3<Tableau3[Départ]))","v":0},{"$f":"SUMPRODUCT((Tableau3[Nat]=Nuitées!$C19)*(J$3>=Tableau3[Arrivée])*(J$3<Tableau3[Départ]))","v":0},{"$f":"SUMPRODUCT((Tableau3[Nat]=Nuitées!$C19)*(K$3>=Tableau3[Arrivée])*(K$3<Tableau3[Départ]))","v":0},{"$f":"SUMPRODUCT((Tableau3[Nat]=Nuitées!$C19)*(L$3>=Tableau3[Arrivée])*(L$3<Tableau3[Départ]))","v":0},{"$f":"SUMPRODUCT((Tableau3[Nat]=Nuitées!$C19)*(M$3>=Tableau3[Arrivée])*(M$3<Tableau3[Départ]))","v":0},{"$f":"SUMPRODUCT((Tableau3[Nat]=Nuitées!$C19)*(N$3>=Tableau3[Arrivée])*(N$3<Tableau3[Départ]))","v":0},{"$f":"SUMPRODUCT((Tableau3[Nat]=Nuitées!$C19)*(O$3>=Tableau3[Arrivée])*(O$3<Tableau3[Départ]))","v":0},{"$f":"SUMPRODUCT((Tableau3[Nat]=Nuitées!$C19)*(P$3>=Tableau3[Arrivée])*(P$3<Tableau3[Départ]))","v":0},{"$f":"SUMPRODUCT((Tableau3[Nat]=Nuitées!$C19)*(Q$3>=Tableau3[Arrivée])*(Q$3<Tableau3[Départ]))","v":0},{"$f":"SUMPRODUCT((Tableau3[Nat]=Nuitées!$C19)*(R$3>=Tableau3[Arrivée])*(R$3<Tableau3[Départ]))","v":0},{"$f":"SUMPRODUCT((Tableau3[Nat]=Nuitées!$C19)*(S$3>=Tableau3[Arrivée])*(S$3<Tableau3[Départ]))","v":0},{"$f":"SUMPRODUCT((Tableau3[Nat]=Nuitées!$C19)*(T$3>=Tableau3[Arrivée])*(T$3<Tableau3[Départ]))","v":0},{"$f":"SUMPRODUCT((Tableau3[Nat]=Nuitées!$C19)*(U$3>=Tableau3[Arrivée])*(U$3<Tableau3[Départ]))","v":0},{"$f":"SUMPRODUCT((Tableau3[Nat]=Nuitées!$C19)*(V$3>=Tableau3[Arrivée])*(V$3<Tableau3[Départ]))","v":0},{"$f":"SUMPRODUCT((Tableau3[Nat]=Nuitées!$C19)*(W$3>=Tableau3[Arrivée])*(W$3<Tableau3[Départ]))","v":0},{"$f":"SUMPRODUCT((Tableau3[Nat]=Nuitées!$C19)*(X$3>=Tableau3[Arrivée])*(X$3<Tableau3[Départ]))","v":0},{"$f":"SUMPRODUCT((Tableau3[Nat]=Nuitées!$C19)*(Y$3>=Tableau3[Arrivée])*(Y$3<Tableau3[Départ]))","v":0},{"$f":"SUMPRODUCT((Tableau3[Nat]=Nuitées!$C19)*(Z$3>=Tableau3[Arrivée])*(Z$3<Tableau3[Départ]))","v":0},{"$f":"SUMPRODUCT((Tableau3[Nat]=Nuitées!$C19)*(AA$3>=Tableau3[Arrivée])*(AA$3<Tableau3[Départ]))","v":0},{"$f":"SUMPRODUCT((Tableau3[Nat]=Nuitées!$C19)*(AB$3>=Tableau3[Arrivée])*(AB$3<Tableau3[Départ]))","v":0},{"$f":"SUMPRODUCT((Tableau3[Nat]=Nuitées!$C19)*(AC$3>=Tableau3[Arrivée])*(AC$3<Tableau3[Départ]))","v":0},{"$f":"SUMPRODUCT((Tableau3[Nat]=Nuitées!$C19)*(AD$3>=Tableau3[Arrivée])*(AD$3<Tableau3[Départ]))","v":0},{"$f":"SUMPRODUCT((Tableau3[Nat]=Nuitées!$C19)*(AE$3>=Tableau3[Arrivée])*(AE$3<Tableau3[Départ]))","v":0},{"$f":"SUMPRODUCT((Tableau3[Nat]=Nuitées!$C19)*(AF$3>=Tableau3[Arrivée])*(AF$3<Tableau3[Départ]))","v":0},{"$f":"SUMPRODUCT((Tableau3[Nat]=Nuitées!$C19)*(AG$3>=Tableau3[Arrivée])*(AG$3<Tableau3[Départ]))","v":0},{"$f":"SUMPRODUCT((Tableau3[Nat]=Nuitées!$C19)*(AH$3>=Tableau3[Arrivée])*(AH$3<Tableau3[Départ]))","v":0},0]
[null,"Pologne","PO",{"$f":"SUMPRODUCT((Tableau3[Nat]=Nuitées!$C20)*($D$3>=Tableau3[Arrivée])*($D$3<Tableau3[Départ]))","v":0},{"$f":"SUMPRODUCT((Tableau3[Nat]=Nuitées!$C20)*(E$3>=Tableau3[Arrivée])*(E$3<Tableau3[Départ]))","v":0},{"$f":"SUMPRODUCT((Tableau3[Nat]=Nuitées!$C20)*(F$3>=Tableau3[Arrivée])*(F$3<Tableau3[Départ]))","v":0},{"$f":"SUMPRODUCT((Tableau3[Nat]=Nuitées!$C20)*(G$3>=Tableau3[Arrivée])*(G$3<Tableau3[Départ]))","v":0},{"$f":"SUMPRODUCT((Tableau3[Nat]=Nuitées!$C20)*(H$3>=Tableau3[Arrivée])*(H$3<Tableau3[Départ]))","v":0},{"$f":"SUMPRODUCT((Tableau3[Nat]=Nuitées!$C20)*(I$3>=Tableau3[Arrivée])*(I$3<Tableau3[Départ]))","v":0},{"$f":"SUMPRODUCT((Tableau3[Nat]=Nuitées!$C20)*(J$3>=Tableau3[Arrivée])*(J$3<Tableau3[Départ]))","v":0},{"$f":"SUMPRODUCT((Tableau3[Nat]=Nuitées!$C20)*(K$3>=Tableau3[Arrivée])*(K$3<Tableau3[Départ]))","v":0},{"$f":"SUMPRODUCT((Tableau3[Nat]=Nuitées!$C20)*(L$3>=Tableau3[Arrivée])*(L$3<Tableau3[Départ]))","v":0},{"$f":"SUMPRODUCT((Tableau3[Nat]=Nuitées!$C20)*(M$3>=Tableau3[Arrivée])*(M$3<Tableau3[Départ]))","v":0},{"$f":"SUMPRODUCT((Tableau3[Nat]=Nuitées!$C20)*(N$3>=Tableau3[Arrivée])*(N$3<Tableau3[Départ]))","v":0},{"$f":"SUMPRODUCT((Tableau3[Nat]=Nuitées!$C20)*(O$3>=Tableau3[Arrivée])*(O$3<Tableau3[Départ]))","v":0},{"$f":"SUMPRODUCT((Tableau3[Nat]=Nuitées!$C20)*(P$3>=Tableau3[Arrivée])*(P$3<Tableau3[Départ]))","v":0},{"$f":"SUMPRODUCT((Tableau3[Nat]=Nuitées!$C20)*(Q$3>=Tableau3[Arrivée])*(Q$3<Tableau3[Départ]))","v":0},{"$f":"SUMPRODUCT((Tableau3[Nat]=Nuitées!$C20)*(R$3>=Tableau3[Arrivée])*(R$3<Tableau3[Départ]))","v":0},{"$f":"SUMPRODUCT((Tableau3[Nat]=Nuitées!$C20)*(S$3>=Tableau3[Arrivée])*(S$3<Tableau3[Départ]))","v":0},{"$f":"SUMPRODUCT((Tableau3[Nat]=Nuitées!$C20)*(T$3>=Tableau3[Arrivée])*(T$3<Tableau3[Départ]))","v":0},{"$f":"SUMPRODUCT((Tableau3[Nat]=Nuitées!$C20)*(U$3>=Tableau3[Arrivée])*(U$3<Tableau3[Départ]))","v":0},{"$f":"SUMPRODUCT((Tableau3[Nat]=Nuitées!$C20)*(V$3>=Tableau3[Arrivée])*(V$3<Tableau3[Départ]))","v":0},{"$f":"SUMPRODUCT((Tableau3[Nat]=Nuitées!$C20)*(W$3>=Tableau3[Arrivée])*(W$3<Tableau3[Départ]))","v":0},{"$f":"SUMPRODUCT((Tableau3[Nat]=Nuitées!$C20)*(X$3>=Tableau3[Arrivée])*(X$3<Tableau3[Départ]))","v":0},{"$f":"SUMPRODUCT((Tableau3[Nat]=Nuitées!$C20)*(Y$3>=Tableau3[Arrivée])*(Y$3<Tableau3[Départ]))","v":0},{"$f":"SUMPRODUCT((Tableau3[Nat]=Nuitées!$C20)*(Z$3>=Tableau3[Arrivée])*(Z$3<Tableau3[Départ]))","v":0},{"$f":"SUMPRODUCT((Tableau3[Nat]=Nuitées!$C20)*(AA$3>=Tableau3[Arrivée])*(AA$3<Tableau3[Départ]))","v":0},{"$f":"SUMPRODUCT((Tableau3[Nat]=Nuitées!$C20)*(AB$3>=Tableau3[Arrivée])*(AB$3<Tableau3[Départ]))","v":0},{"$f":"SUMPRODUCT((Tableau3[Nat]=Nuitées!$C20)*(AC$3>=Tableau3[Arrivée])*(AC$3<Tableau3[Départ]))","v":0},{"$f":"SUMPRODUCT((Tableau3[Nat]=Nuitées!$C20)*(AD$3>=Tableau3[Arrivée])*(AD$3<Tableau3[Départ]))","v":0},{"$f":"SUMPRODUCT((Tableau3[Nat]=Nuitées!$C20)*(AE$3>=Tableau3[Arrivée])*(AE$3<Tableau3[Départ]))","v":0},{"$f":"SUMPRODUCT((Tableau3[Nat]=Nuitées!$C20)*(AF$3>=Tableau3[Arrivée])*(AF$3<Tableau3[Départ]))","v":0},{"$f":"SUMPRODUCT((Tableau3[Nat]=Nuitées!$C20)*(AG$3>=Tableau3[Arrivée])*(AG$3<Tableau3[Départ]))","v":0},{"$f":"SUMPRODUCT((Tableau3[Nat]=Nuitées!$C20)*(AH$3>=Tableau3[Arrivée])*(AH$3<Tableau3[Départ]))","v":0},0]
[null,"Grèce","PL",{"$f":"SUMPRODUCT((Tableau3[Nat]=Nuitées!$C21)*($D$3>=Tableau3[Arrivée])*($D$3<Tableau3[Départ]))","v":0},{"$f":"SUMPRODUCT((Tableau3[Nat]=Nuitées!$C21)*(E$3>=Tableau3[Arrivée])*(E$3<Tableau3[Départ]))","v":0},{"$f":"SUMPRODUCT((Tableau3[Nat]=Nuitées!$C21)*(F$3>=Tableau3[Arrivée])*(F$3<Tableau3[Départ]))","v":0},{"$f":"SUMPRODUCT((Tableau3[Nat]=Nuitées!$C21)*(G$3>=Tableau3[Arrivée])*(G$3<Tableau3[Départ]))","v":0},{"$f":"SUMPRODUCT((Tableau3[Nat]=Nuitées!$C21)*(H$3>=Tableau3[Arrivée])*(H$3<Tableau3[Départ]))","v":0},{"$f":"SUMPRODUCT((Tableau3[Nat]=Nuitées!$C21)*(I$3>=Tableau3[Arrivée])*(I$3<Tableau3[Départ]))","v":0},{"$f":"SUMPRODUCT((Tableau3[Nat]=Nuitées!$C21)*(J$3>=Tableau3[Arrivée])*(J$3<Tableau3[Départ]))","v":0},{"$f":"SUMPRODUCT((Tableau3[Nat]=Nuitées!$C21)*(K$3>=Tableau3[Arrivée])*(K$3<Tableau3[Départ]))","v":0},{"$f":"SUMPRODUCT((Tableau3[Nat]=Nuitées!$C21)*(L$3>=Tableau3[Arrivée])*(L$3<Tableau3[Départ]))","v":0},{"$f":"SUMPRODUCT((Tableau3[Nat]=Nuitées!$C21)*(M$3>=Tableau3[Arrivée])*(M$3<Tableau3[Départ]))","v":0},{"$f":"SUMPRODUCT((Tableau3[Nat]=Nuitées!$C21)*(N$3>=Tableau3[Arrivée])*(N$3<Tableau3[Départ]))","v":0},{"$f":"SUMPRODUCT((Tableau3[Nat]=Nuitées!$C21)*(O$3>=Tableau3[Arrivée])*(O$3<Tableau3[Départ]))","v":0},{"$f":"SUMPRODUCT((Tableau3[Nat]=Nuitées!$C21)*(P$3>=Tableau3[Arrivée])*(P$3<Tableau3[Départ]))","v":0},{"$f":"SUMPRODUCT((Tableau3[Nat]=Nuitées!$C21)*(Q$3>=Tableau3[Arrivée])*(Q$3<Tableau3[Départ]))","v":0},{"$f":"SUMPRODUCT((Tableau3[Nat]=Nuitées!$C21)*(R$3>=Tableau3[Arrivée])*(R$3<Tableau3[Départ]))","v":0},{"$f":"SUMPRODUCT((Tableau3[Nat]=Nuitées!$C21)*(S$3>=Tableau3[Arrivée])*(S$3<Tableau3[Départ]))","v":0},{"$f":"SUMPRODUCT((Tableau3[Nat]=Nuitées!$C21)*(T$3>=Tableau3[Arrivée])*(T$3<Tableau3[Départ]))","v":0},{"$f":"SUMPRODUCT((Tableau3[Nat]=Nuitées!$C21)*(U$3>=Tableau3[Arrivée])*(U$3<Tableau3[Départ]))","v":0},{"$f":"SUMPRODUCT((Tableau3[Nat]=Nuitées!$C21)*(V$3>=Tableau3[Arrivée])*(V$3<Tableau3[Départ]))","v":0},{"$f":"SUMPRODUCT((Tableau3[Nat]=Nuitées!$C21)*(W$3>=Tableau3[Arrivée])*(W$3<Tableau3[Départ]))","v":0},{"$f":"SUMPRODUCT((Tableau3[Nat]=Nuitées!$C21)*(X$3>=Tableau3[Arrivée])*(X$3<Tableau3[Départ]))","v":0},{"$f":"SUMPRODUCT((Tableau3[Nat]=Nuitées!$C21)*(Y$3>=Tableau3[Arrivée])*(Y$3<Tableau3[Départ]))","v":0},{"$f":"SUMPRODUCT((Tableau3[Nat]=Nuitées!$C21)*(Z$3>=Tableau3[Arrivée])*(Z$3<Tableau3[Départ]))","v":0},{"$f":"SUMPRODUCT((Tableau3[Nat]=Nuitées!$C21)*(AA$3>=Tableau3[Arrivée])*(AA$3<Tableau3[Départ]))","v":0},{"$f":"SUMPRODUCT((Tableau3[Nat]=Nuitées!$C21)*(AB$3>=Tableau3[Arrivée])*(AB$3<Tableau3[Départ]))","v":0},{"$f":"SUMPRODUCT((Tableau3[Nat]=Nuitées!$C21)*(AC$3>=Tableau3[Arrivée])*(AC$3<Tableau3[Départ]))","v":0},{"$f":"SUMPRODUCT((Tableau3[Nat]=Nuitées!$C21)*(AD$3>=Tableau3[Arrivée])*(AD$3<Tableau3[Départ]))","v":0},{"$f":"SUMPRODUCT((Tableau3[Nat]=Nuitées!$C21)*(AE$3>=Tableau3[Arrivée])*(AE$3<Tableau3[Départ]))","v":0},{"$f":"SUMPRODUCT((Tableau3[Nat]=Nuitées!$C21)*(AF$3>=Tableau3[Arrivée])*(AF$3<Tableau3[Départ]))","v":0},{"$f":"SUMPRODUCT((Tableau3[Nat]=Nuitées!$C21)*(AG$3>=Tableau3[Arrivée])*(AG$3<Tableau3[Départ]))","v":0},{"$f":"SUMPRODUCT((Tableau3[Nat]=Nuitées!$C21)*(AH$3>=Tableau3[Arrivée])*(AH$3<Tableau3[Départ]))","v":0},0]
[null,"Etat Unis","US",{"$f":"SUMPRODUCT((Tableau3[Nat]=Nuitées!$C22)*($D$3>=Tableau3[Arrivée])*($D$3<Tableau3[Départ]))","v":0},{"$f":"SUMPRODUCT((Tableau3[Nat]=Nuitées!$C22)*(E$3>=Tableau3[Arrivée])*(E$3<Tableau3[Départ]))","v":0},{"$f":"SUMPRODUCT((Tableau3[Nat]=Nuitées!$C22)*(F$3>=Tableau3[Arrivée])*(F$3<Tableau3[Départ]))","v":0},{"$f":"SUMPRODUCT((Tableau3[Nat]=Nuitées!$C22)*(G$3>=Tableau3[Arrivée])*(G$3<Tableau3[Départ]))","v":0},{"$f":"SUMPRODUCT((Tableau3[Nat]=Nuitées!$C22)*(H$3>=Tableau3[Arrivée])*(H$3<Tableau3[Départ]))","v":0},{"$f":"SUMPRODUCT((Tableau3[Nat]=Nuitées!$C22)*(I$3>=Tableau3[Arrivée])*(I$3<Tableau3[Départ]))","v":0},{"$f":"SUMPRODUCT((Tableau3[Nat]=Nuitées!$C22)*(J$3>=Tableau3[Arrivée])*(J$3<Tableau3[Départ]))","v":0},{"$f":"SUMPRODUCT((Tableau3[Nat]=Nuitées!$C22)*(K$3>=Tableau3[Arrivée])*(K$3<Tableau3[Départ]))","v":0},{"$f":"SUMPRODUCT((Tableau3[Nat]=Nuitées!$C22)*(L$3>=Tableau3[Arrivée])*(L$3<Tableau3[Départ]))","v":0},{"$f":"SUMPRODUCT((Tableau3[Nat]=Nuitées!$C22)*(M$3>=Tableau3[Arrivée])*(M$3<Tableau3[Départ]))","v":0},{"$f":"SUMPRODUCT((Tableau3[Nat]=Nuitées!$C22)*(N$3>=Tableau3[Arrivée])*(N$3<Tableau3[Départ]))","v":0},{"$f":"SUMPRODUCT((Tableau3[Nat]=Nuitées!$C22)*(O$3>=Tableau3[Arrivée])*(O$3<Tableau3[Départ]))","v":0},{"$f":"SUMPRODUCT((Tableau3[Nat]=Nuitées!$C22)*(P$3>=Tableau3[Arrivée])*(P$3<Tableau3[Départ]))","v":0},{"$f":"SUMPRODUCT((Tableau3[Nat]=Nuitées!$C22)*(Q$3>=Tableau3[Arrivée])*(Q$3<Tableau3[Départ]))","v":0},{"$f":"SUMPRODUCT((Tableau3[Nat]=Nuitées!$C22)*(R$3>=Tableau3[Arrivée])*(R$3<Tableau3[Départ]))","v":0},{"$f":"SUMPRODUCT((Tableau3[Nat]=Nuitées!$C22)*(S$3>=Tableau3[Arrivée])*(S$3<Tableau3[Départ]))","v":0},{"$f":"SUMPRODUCT((Tableau3[Nat]=Nuitées!$C22)*(T$3>=Tableau3[Arrivée])*(T$3<Tableau3[Départ]))","v":0},{"$f":"SUMPRODUCT((Tableau3[Nat]=Nuitées!$C22)*(U$3>=Tableau3[Arrivée])*(U$3<Tableau3[Départ]))","v":0},{"$f":"SUMPRODUCT((Tableau3[Nat]=Nuitées!$C22)*(V$3>=Tableau3[Arrivée])*(V$3<Tableau3[Départ]))","v":0},{"$f":"SUMPRODUCT((Tableau3[Nat]=Nuitées!$C22)*(W$3>=Tableau3[Arrivée])*(W$3<Tableau3[Départ]))","v":0},{"$f":"SUMPRODUCT((Tableau3[Nat]=Nuitées!$C22)*(X$3>=Tableau3[Arrivée])*(X$3<Tableau3[Départ]))","v":0},{"$f":"SUMPRODUCT((Tableau3[Nat]=Nuitées!$C22)*(Y$3>=Tableau3[Arrivée])*(Y$3<Tableau3[Départ]))","v":0},{"$f":"SUMPRODUCT((Tableau3[Nat]=Nuitées!$C22)*(Z$3>=Tableau3[Arrivée])*(Z$3<Tableau3[Départ]))","v":0},{"$f":"SUMPRODUCT((Tableau3[Nat]=Nuitées!$C22)*(AA$3>=Tableau3[Arrivée])*(AA$3<Tableau3[Départ]))","v":0},{"$f":"SUMPRODUCT((Tableau3[Nat]=Nuitées!$C22)*(AB$3>=Tableau3[Arrivée])*(AB$3<Tableau3[Départ]))","v":0},{"$f":"SUMPRODUCT((Tableau3[Nat]=Nuitées!$C22)*(AC$3>=Tableau3[Arrivée])*(AC$3<Tableau3[Départ]))","v":0},{"$f":"SUMPRODUCT((Tableau3[Nat]=Nuitées!$C22)*(AD$3>=Tableau3[Arrivée])*(AD$3<Tableau3[Départ]))","v":0},{"$f":"SUMPRODUCT((Tableau3[Nat]=Nuitées!$C22)*(AE$3>=Tableau3[Arrivée])*(AE$3<Tableau3[Départ]))","v":0},{"$f":"SUMPRODUCT((Tableau3[Nat]=Nuitées!$C22)*(AF$3>=Tableau3[Arrivée])*(AF$3<Tableau3[Départ]))","v":0},{"$f":"SUMPRODUCT((Tableau3[Nat]=Nuitées!$C22)*(AG$3>=Tableau3[Arrivée])*(AG$3<Tableau3[Départ]))","v":0},{"$f":"SUMPRODUCT((Tableau3[Nat]=Nuitées!$C22)*(AH$3>=Tableau3[Arrivée])*(AH$3<Tableau3[Départ]))","v":0},0]
[null,"Canada","CA",{"$f":"SUMPRODUCT((Tableau3[Nat]=Nuitées!$C23)*($D$3>=Tableau3[Arrivée])*($D$3<Tableau3[Départ]))","v":0},{"$f":"SUMPRODUCT((Tableau3[Nat]=Nuitées!$C23)*(E$3>=Tableau3[Arrivée])*(E$3<Tableau3[Départ]))","v":0},{"$f":"SUMPRODUCT((Tableau3[Nat]=Nuitées!$C23)*(F$3>=Tableau3[Arrivée])*(F$3<Tableau3[Départ]))","v":0},{"$f":"SUMPRODUCT((Tableau3[Nat]=Nuitées!$C23)*(G$3>=Tableau3[Arrivée])*(G$3<Tableau3[Départ]))","v":0},{"$f":"SUMPRODUCT((Tableau3[Nat]=Nuitées!$C23)*(H$3>=Tableau3[Arrivée])*(H$3<Tableau3[Départ]))","v":0},{"$f":"SUMPRODUCT((Tableau3[Nat]=Nuitées!$C23)*(I$3>=Tableau3[Arrivée])*(I$3<Tableau3[Départ]))","v":0},{"$f":"SUMPRODUCT((Tableau3[Nat]=Nuitées!$C23)*(J$3>=Tableau3[Arrivée])*(J$3<Tableau3[Départ]))","v":0},{"$f":"SUMPRODUCT((Tableau3[Nat]=Nuitées!$C23)*(K$3>=Tableau3[Arrivée])*(K$3<Tableau3[Départ]))","v":0},{"$f":"SUMPRODUCT((Tableau3[Nat]=Nuitées!$C23)*(L$3>=Tableau3[Arrivée])*(L$3<Tableau3[Départ]))","v":0},{"$f":"SUMPRODUCT((Tableau3[Nat]=Nuitées!$C23)*(M$3>=Tableau3[Arrivée])*(M$3<Tableau3[Départ]))","v":0},{"$f":"SUMPRODUCT((Tableau3[Nat]=Nuitées!$C23)*(N$3>=Tableau3[Arrivée])*(N$3<Tableau3[Départ]))","v":0},{"$f":"SUMPRODUCT((Tableau3[Nat]=Nuitées!$C23)*(O$3>=Tableau3[Arrivée])*(O$3<Tableau3[Départ]))","v":0},{"$f":"SUMPRODUCT((Tableau3[Nat]=Nuitées!$C23)*(P$3>=Tableau3[Arrivée])*(P$3<Tableau3[Départ]))","v":0},{"$f":"SUMPRODUCT((Tableau3[Nat]=Nuitées!$C23)*(Q$3>=Tableau3[Arrivée])*(Q$3<Tableau3[Départ]))","v":0},{"$f":"SUMPRODUCT((Tableau3[Nat]=Nuitées!$C23)*(R$3>=Tableau3[Arrivée])*(R$3<Tableau3[Départ]))","v":0},{"$f":"SUMPRODUCT((Tableau3[Nat]=Nuitées!$C23)*(S$3>=Tableau3[Arrivée])*(S$3<Tableau3[Départ]))","v":0},{"$f":"SUMPRODUCT((Tableau3[Nat]=Nuitées!$C23)*(T$3>=Tableau3[Arrivée])*(T$3<Tableau3[Départ]))","v":0},{"$f":"SUMPRODUCT((Tableau3[Nat]=Nuitées!$C23)*(U$3>=Tableau3[Arrivée])*(U$3<Tableau3[Départ]))","v":0},{"$f":"SUMPRODUCT((Tableau3[Nat]=Nuitées!$C23)*(V$3>=Tableau3[Arrivée])*(V$3<Tableau3[Départ]))","v":0},{"$f":"SUMPRODUCT((Tableau3[Nat]=Nuitées!$C23)*(W$3>=Tableau3[Arrivée])*(W$3<Tableau3[Départ]))","v":0},{"$f":"SUMPRODUCT((Tableau3[Nat]=Nuitées!$C23)*(X$3>=Tableau3[Arrivée])*(X$3<Tableau3[Départ]))","v":0},{"$f":"SUMPRODUCT((Tableau3[Nat]=Nuitées!$C23)*(Y$3>=Tableau3[Arrivée])*(Y$3<Tableau3[Départ]))","v":0},{"$f":"SUMPRODUCT((Tableau3[Nat]=Nuitées!$C23)*(Z$3>=Tableau3[Arrivée])*(Z$3<Tableau3[Départ]))","v":0},{"$f":"SUMPRODUCT((Tableau3[Nat]=Nuitées!$C23)*(AA$3>=Tableau3[Arrivée])*(AA$3<Tableau3[Départ]))","v":0},{"$f":"SUMPRODUCT((Tableau3[Nat]=Nuitées!$C23)*(AB$3>=Tableau3[Arrivée])*(AB$3<Tableau3[Départ]))","v":0},{"$f":"SUMPRODUCT((Tableau3[Nat]=Nuitées!$C23)*(AC$3>=Tableau3[Arrivée])*(AC$3<Tableau3[Départ]))","v":0},{"$f":"SUMPRODUCT((Tableau3[Nat]=Nuitées!$C23)*(AD$3>=Tableau3[Arrivée])*(AD$3<Tableau3[Départ]))","v":0},{"$f":"SUMPRODUCT((Tableau3[Nat]=Nuitées!$C23)*(AE$3>=Tableau3[Arrivée])*(AE$3<Tableau3[Départ]))","v":0},{"$f":"SUMPRODUCT((Tableau3[Nat]=Nuitées!$C23)*(AF$3>=Tableau3[Arrivée])*(AF$3<Tableau3[Départ]))","v":0},{"$f":"SUMPRODUCT((Tableau3[Nat]=Nuitées!$C23)*(AG$3>=Tableau3[Arrivée])*(AG$3<Tableau3[Départ]))","v":0},{"$f":"SUMPRODUCT((Tableau3[Nat]=Nuitées!$C23)*(AH$3>=Tableau3[Arrivée])*(AH$3<Tableau3[Départ]))","v":0},0]
[null,"Chine","CN",{"$f":"SUMPRODUCT((Tableau3[Nat]=Nuitées!$C24)*($D$3>=Tableau3[Arrivée])*($D$3<Tableau3[Départ]))","v":0},{"$f":"SUMPRODUCT((Tableau3[Nat]=Nuitées!$C24)*(E$3>=Tableau3[Arrivée])*(E$3<Tableau3[Départ]))","v":0},{"$f":"SUMPRODUCT((Tableau3[Nat]=Nuitées!$C24)*(F$3>=Tableau3[Arrivée])*(F$3<Tableau3[Départ]))","v":0},{"$f":"SUMPRODUCT((Tableau3[Nat]=Nuitées!$C24)*(G$3>=Tableau3[Arrivée])*(G$3<Tableau3[Départ]))","v":0},{"$f":"SUMPRODUCT((Tableau3[Nat]=Nuitées!$C24)*(H$3>=Tableau3[Arrivée])*(H$3<Tableau3[Départ]))","v":0},{"$f":"SUMPRODUCT((Tableau3[Nat]=Nuitées!$C24)*(I$3>=Tableau3[Arrivée])*(I$3<Tableau3[Départ]))","v":0},{"$f":"SUMPRODUCT((Tableau3[Nat]=Nuitées!$C24)*(J$3>=Tableau3[Arrivée])*(J$3<Tableau3[Départ]))","v":0},{"$f":"SUMPRODUCT((Tableau3[Nat]=Nuitées!$C24)*(K$3>=Tableau3[Arrivée])*(K$3<Tableau3[Départ]))","v":0},{"$f":"SUMPRODUCT((Tableau3[Nat]=Nuitées!$C24)*(L$3>=Tableau3[Arrivée])*(L$3<Tableau3[Départ]))","v":0},{"$f":"SUMPRODUCT((Tableau3[Nat]=Nuitées!$C24)*(M$3>=Tableau3[Arrivée])*(M$3<Tableau3[Départ]))","v":0},{"$f":"SUMPRODUCT((Tableau3[Nat]=Nuitées!$C24)*(N$3>=Tableau3[Arrivée])*(N$3<Tableau3[Départ]))","v":0},{"$f":"SUMPRODUCT((Tableau3[Nat]=Nuitées!$C24)*(O$3>=Tableau3[Arrivée])*(O$3<Tableau3[Départ]))","v":0},{"$f":"SUMPRODUCT((Tableau3[Nat]=Nuitées!$C24)*(P$3>=Tableau3[Arrivée])*(P$3<Tableau3[Départ]))","v":0},{"$f":"SUMPRODUCT((Tableau3[Nat]=Nuitées!$C24)*(Q$3>=Tableau3[Arrivée])*(Q$3<Tableau3[Départ]))","v":0},{"$f":"SUMPRODUCT((Tableau3[Nat]=Nuitées!$C24)*(R$3>=Tableau3[Arrivée])*(R$3<Tableau3[Départ]))","v":0},{"$f":"SUMPRODUCT((Tableau3[Nat]=Nuitées!$C24)*(S$3>=Tableau3[Arrivée])*(S$3<Tableau3[Départ]))","v":0},{"$f":"SUMPRODUCT((Tableau3[Nat]=Nuitées!$C24)*(T$3>=Tableau3[Arrivée])*(T$3<Tableau3[Départ]))","v":0},{"$f":"SUMPRODUCT((Tableau3[Nat]=Nuitées!$C24)*(U$3>=Tableau3[Arrivée])*(U$3<Tableau3[Départ]))","v":0},{"$f":"SUMPRODUCT((Tableau3[Nat]=Nuitées!$C24)*(V$3>=Tableau3[Arrivée])*(V$3<Tableau3[Départ]))","v":0},{"$f":"SUMPRODUCT((Tableau3[Nat]=Nuitées!$C24)*(W$3>=Tableau3[Arrivée])*(W$3<Tableau3[Départ]))","v":0},{"$f":"SUMPRODUCT((Tableau3[Nat]=Nuitées!$C24)*(X$3>=Tableau3[Arrivée])*(X$3<Tableau3[Départ]))","v":0},{"$f":"SUMPRODUCT((Tableau3[Nat]=Nuitées!$C24)*(Y$3>=Tableau3[Arrivée])*(Y$3<Tableau3[Départ]))","v":0},{"$f":"SUMPRODUCT((Tableau3[Nat]=Nuitées!$C24)*(Z$3>=Tableau3[Arrivée])*(Z$3<Tableau3[Départ]))","v":0},{"$f":"SUMPRODUCT((Tableau3[Nat]=Nuitées!$C24)*(AA$3>=Tableau3[Arrivée])*(AA$3<Tableau3[Départ]))","v":0},{"$f":"SUMPRODUCT((Tableau3[Nat]=Nuitées!$C24)*(AB$3>=Tableau3[Arrivée])*(AB$3<Tableau3[Départ]))","v":0},{"$f":"SUMPRODUCT((Tableau3[Nat]=Nuitées!$C24)*(AC$3>=Tableau3[Arrivée])*(AC$3<Tableau3[Départ]))","v":0},{"$f":"SUMPRODUCT((Tableau3[Nat]=Nuitées!$C24)*(AD$3>=Tableau3[Arrivée])*(AD$3<Tableau3[Départ]))","v":0},{"$f":"SUMPRODUCT((Tableau3[Nat]=Nuitées!$C24)*(AE$3>=Tableau3[Arrivée])*(AE$3<Tableau3[Départ]))","v":0},{"$f":"SUMPRODUCT((Tableau3[Nat]=Nuitées!$C24)*(AF$3>=Tableau3[Arrivée])*(AF$3<Tableau3[Départ]))","v":0},{"$f":"SUMPRODUCT((Tableau3[Nat]=Nuitées!$C24)*(AG$3>=Tableau3[Arrivée])*(AG$3<Tableau3[Départ]))","v":0},{"$f":"SUMPRODUCT((Tableau3[Nat]=Nuitées!$C24)*(AH$3>=Tableau3[Arrivée])*(AH$3<Tableau3[Départ]))","v":0},0]
[null,"Japon","JP",{"$f":"SUMPRODUCT((Tableau3[Nat]=Nuitées!$C25)*($D$3>=Tableau3[Arrivée])*($D$3<Tableau3[Départ]))","v":0},{"$f":"SUMPRODUCT((Tableau3[Nat]=Nuitées!$C25)*(E$3>=Tableau3[Arrivée])*(E$3<Tableau3[Départ]))","v":0},{"$f":"SUMPRODUCT((Tableau3[Nat]=Nuitées!$C25)*(F$3>=Tableau3[Arrivée])*(F$3<Tableau3[Départ]))","v":0},{"$f":"SUMPRODUCT((Tableau3[Nat]=Nuitées!$C25)*(G$3>=Tableau3[Arrivée])*(G$3<Tableau3[Départ]))","v":0},{"$f":"SUMPRODUCT((Tableau3[Nat]=Nuitées!$C25)*(H$3>=Tableau3[Arrivée])*(H$3<Tableau3[Départ]))","v":0},{"$f":"SUMPRODUCT((Tableau3[Nat]=Nuitées!$C25)*(I$3>=Tableau3[Arrivée])*(I$3<Tableau3[Départ]))","v":0},{"$f":"SUMPRODUCT((Tableau3[Nat]=Nuitées!$C25)*(J$3>=Tableau3[Arrivée])*(J$3<Tableau3[Départ]))","v":0},{"$f":"SUMPRODUCT((Tableau3[Nat]=Nuitées!$C25)*(K$3>=Tableau3[Arrivée])*(K$3<Tableau3[Départ]))","v":0},{"$f":"SUMPRODUCT((Tableau3[Nat]=Nuitées!$C25)*(L$3>=Tableau3[Arrivée])*(L$3<Tableau3[Départ]))","v":0},{"$f":"SUMPRODUCT((Tableau3[Nat]=Nuitées!$C25)*(M$3>=Tableau3[Arrivée])*(M$3<Tableau3[Départ]))","v":0},{"$f":"SUMPRODUCT((Tableau3[Nat]=Nuitées!$C25)*(N$3>=Tableau3[Arrivée])*(N$3<Tableau3[Départ]))","v":0},{"$f":"SUMPRODUCT((Tableau3[Nat]=Nuitées!$C25)*(O$3>=Tableau3[Arrivée])*(O$3<Tableau3[Départ]))","v":0},{"$f":"SUMPRODUCT((Tableau3[Nat]=Nuitées!$C25)*(P$3>=Tableau3[Arrivée])*(P$3<Tableau3[Départ]))","v":0},{"$f":"SUMPRODUCT((Tableau3[Nat]=Nuitées!$C25)*(Q$3>=Tableau3[Arrivée])*(Q$3<Tableau3[Départ]))","v":0},{"$f":"SUMPRODUCT((Tableau3[Nat]=Nuitées!$C25)*(R$3>=Tableau3[Arrivée])*(R$3<Tableau3[Départ]))","v":0},{"$f":"SUMPRODUCT((Tableau3[Nat]=Nuitées!$C25)*(S$3>=Tableau3[Arrivée])*(S$3<Tableau3[Départ]))","v":0},{"$f":"SUMPRODUCT((Tableau3[Nat]=Nuitées!$C25)*(T$3>=Tableau3[Arrivée])*(T$3<Tableau3[Départ]))","v":0},{"$f":"SUMPRODUCT((Tableau3[Nat]=Nuitées!$C25)*(U$3>=Tableau3[Arrivée])*(U$3<Tableau3[Départ]))","v":0},{"$f":"SUMPRODUCT((Tableau3[Nat]=Nuitées!$C25)*(V$3>=Tableau3[Arrivée])*(V$3<Tableau3[Départ]))","v":0},{"$f":"SUMPRODUCT((Tableau3[Nat]=Nuitées!$C25)*(W$3>=Tableau3[Arrivée])*(W$3<Tableau3[Départ]))","v":0},{"$f":"SUMPRODUCT((Tableau3[Nat]=Nuitées!$C25)*(X$3>=Tableau3[Arrivée])*(X$3<Tableau3[Départ]))","v":0},{"$f":"SUMPRODUCT((Tableau3[Nat]=Nuitées!$C25)*(Y$3>=Tableau3[Arrivée])*(Y$3<Tableau3[Départ]))","v":0},{"$f":"SUMPRODUCT((Tableau3[Nat]=Nuitées!$C25)*(Z$3>=Tableau3[Arrivée])*(Z$3<Tableau3[Départ]))","v":0},{"$f":"SUMPRODUCT((Tableau3[Nat]=Nuitées!$C25)*(AA$3>=Tableau3[Arrivée])*(AA$3<Tableau3[Départ]))","v":0},{"$f":"SUMPRODUCT((Tableau3[Nat]=Nuitées!$C25)*(AB$3>=Tableau3[Arrivée])*(AB$3<Tableau3[Départ]))","v":0},{"$f":"SUMPRODUCT((Tableau3[Nat]=Nuitées!$C25)*(AC$3>=Tableau3[Arrivée])*(AC$3<Tableau3[Départ]))","v":0},{"$f":"SUMPRODUCT((Tableau3[Nat]=Nuitées!$C25)*(AD$3>=Tableau3[Arrivée])*(AD$3<Tableau3[Départ]))","v":0},{"$f":"SUMPRODUCT((Tableau3[Nat]=Nuitées!$C25)*(AE$3>=Tableau3[Arrivée])*(AE$3<Tableau3[Départ]))","v":0},{"$f":"SUMPRODUCT((Tableau3[Nat]=Nuitées!$C25)*(AF$3>=Tableau3[Arrivée])*(AF$3<Tableau3[Départ]))","v":0},{"$f":"SUMPRODUCT((Tableau3[Nat]=Nuitées!$C25)*(AG$3>=Tableau3[Arrivée])*(AG$3<Tableau3[Départ]))","v":0},{"$f":"SUMPRODUCT((Tableau3[Nat]=Nuitées!$C25)*(AH$3>=Tableau3[Arrivée])*(AH$3<Tableau3[Départ]))","v":0},0]
[null,"Inde","IN",{"$f":"SUMPRODUCT((Tableau3[Nat]=Nuitées!$C26)*($D$3>=Tableau3[Arrivée])*($D$3<Tableau3[Départ]))","v":0},{"$f":"SUMPRODUCT((Tableau3[Nat]=Nuitées!$C26)*(E$3>=Tableau3[Arrivée])*(E$3<Tableau3[Départ]))","v":0},{"$f":"SUMPRODUCT((Tableau3[Nat]=Nuitées!$C26)*(F$3>=Tableau3[Arrivée])*(F$3<Tableau3[Départ]))","v":0},{"$f":"SUMPRODUCT((Tableau3[Nat]=Nuitées!$C26)*(G$3>=Tableau3[Arrivée])*(G$3<Tableau3[Départ]))","v":0},{"$f":"SUMPRODUCT((Tableau3[Nat]=Nuitées!$C26)*(H$3>=Tableau3[Arrivée])*(H$3<Tableau3[Départ]))","v":0},{"$f":"SUMPRODUCT((Tableau3[Nat]=Nuitées!$C26)*(I$3>=Tableau3[Arrivée])*(I$3<Tableau3[Départ]))","v":0},{"$f":"SUMPRODUCT((Tableau3[Nat]=Nuitées!$C26)*(J$3>=Tableau3[Arrivée])*(J$3<Tableau3[Départ]))","v":0},{"$f":"SUMPRODUCT((Tableau3[Nat]=Nuitées!$C26)*(K$3>=Tableau3[Arrivée])*(K$3<Tableau3[Départ]))","v":0},{"$f":"SUMPRODUCT((Tableau3[Nat]=Nuitées!$C26)*(L$3>=Tableau3[Arrivée])*(L$3<Tableau3[Départ]))","v":0},{"$f":"SUMPRODUCT((Tableau3[Nat]=Nuitées!$C26)*(M$3>=Tableau3[Arrivée])*(M$3<Tableau3[Départ]))","v":0},{"$f":"SUMPRODUCT((Tableau3[Nat]=Nuitées!$C26)*(N$3>=Tableau3[Arrivée])*(N$3<Tableau3[Départ]))","v":0},{"$f":"SUMPRODUCT((Tableau3[Nat]=Nuitées!$C26)*(O$3>=Tableau3[Arrivée])*(O$3<Tableau3[Départ]))","v":0},{"$f":"SUMPRODUCT((Tableau3[Nat]=Nuitées!$C26)*(P$3>=Tableau3[Arrivée])*(P$3<Tableau3[Départ]))","v":0},{"$f":"SUMPRODUCT((Tableau3[Nat]=Nuitées!$C26)*(Q$3>=Tableau3[Arrivée])*(Q$3<Tableau3[Départ]))","v":0},{"$f":"SUMPRODUCT((Tableau3[Nat]=Nuitées!$C26)*(R$3>=Tableau3[Arrivée])*(R$3<Tableau3[Départ]))","v":0},{"$f":"SUMPRODUCT((Tableau3[Nat]=Nuitées!$C26)*(S$3>=Tableau3[Arrivée])*(S$3<Tableau3[Départ]))","v":0},{"$f":"SUMPRODUCT((Tableau3[Nat]=Nuitées!$C26)*(T$3>=Tableau3[Arrivée])*(T$3<Tableau3[Départ]))","v":0},{"$f":"SUMPRODUCT((Tableau3[Nat]=Nuitées!$C26)*(U$3>=Tableau3[Arrivée])*(U$3<Tableau3[Départ]))","v":0},{"$f":"SUMPRODUCT((Tableau3[Nat]=Nuitées!$C26)*(V$3>=Tableau3[Arrivée])*(V$3<Tableau3[Départ]))","v":0},{"$f":"SUMPRODUCT((Tableau3[Nat]=Nuitées!$C26)*(W$3>=Tableau3[Arrivée])*(W$3<Tableau3[Départ]))","v":0},{"$f":"SUMPRODUCT((Tableau3[Nat]=Nuitées!$C26)*(X$3>=Tableau3[Arrivée])*(X$3<Tableau3[Départ]))","v":0},{"$f":"SUMPRODUCT((Tableau3[Nat]=Nuitées!$C26)*(Y$3>=Tableau3[Arrivée])*(Y$3<Tableau3[Départ]))","v":0},{"$f":"SUMPRODUCT((Tableau3[Nat]=Nuitées!$C26)*(Z$3>=Tableau3[Arrivée])*(Z$3<Tableau3[Départ]))","v":0},{"$f":"SUMPRODUCT((Tableau3[Nat]=Nuitées!$C26)*(AA$3>=Tableau3[Arrivée])*(AA$3<Tableau3[Départ]))","v":0},{"$f":"SUMPRODUCT((Tableau3[Nat]=Nuitées!$C26)*(AB$3>=Tableau3[Arrivée])*(AB$3<Tableau3[Départ]))","v":0},{"$f":"SUMPRODUCT((Tableau3[Nat]=Nuitées!$C26)*(AC$3>=Tableau3[Arrivée])*(AC$3<Tableau3[Départ]))","v":0},{"$f":"SUMPRODUCT((Tableau3[Nat]=Nuitées!$C26)*(AD$3>=Tableau3[Arrivée])*(AD$3<Tableau3[Départ]))","v":0},{"$f":"SUMPRODUCT((Tableau3[Nat]=Nuitées!$C26)*(AE$3>=Tableau3[Arrivée])*(AE$3<Tableau3[Départ]))","v":0},{"$f":"SUMPRODUCT((Tableau3[Nat]=Nuitées!$C26)*(AF$3>=Tableau3[Arrivée])*(AF$3<Tableau3[Départ]))","v":0},{"$f":"SUMPRODUCT((Tableau3[Nat]=Nuitées!$C26)*(AG$3>=Tableau3[Arrivée])*(AG$3<Tableau3[Départ]))","v":0},{"$f":"SUMPRODUCT((Tableau3[Nat]=Nuitées!$C26)*(AH$3>=Tableau3[Arrivée])*(AH$3<Tableau3[Départ]))","v":0},0]
[null,"Maroc","MA",{"$f":"SUMPRODUCT((Tableau3[Nat]=Nuitées!$C27)*($D$3>=Tableau3[Arrivée])*($D$3<Tableau3[Départ]))","v":0},{"$f":"SUMPRODUCT((Tableau3[Nat]=Nuitées!$C27)*(E$3>=Tableau3[Arrivée])*(E$3<Tableau3[Départ]))","v":0},{"$f":"SUMPRODUCT((Tableau3[Nat]=Nuitées!$C27)*(F$3>=Tableau3[Arrivée])*(F$3<Tableau3[Départ]))","v":0},{"$f":"SUMPRODUCT((Tableau3[Nat]=Nuitées!$C27)*(G$3>=Tableau3[Arrivée])*(G$3<Tableau3[Départ]))","v":0},{"$f":"SUMPRODUCT((Tableau3[Nat]=Nuitées!$C27)*(H$3>=Tableau3[Arrivée])*(H$3<Tableau3[Départ]))","v":0},{"$f":"SUMPRODUCT((Tableau3[Nat]=Nuitées!$C27)*(I$3>=Tableau3[Arrivée])*(I$3<Tableau3[Départ]))","v":0},{"$f":"SUMPRODUCT((Tableau3[Nat]=Nuitées!$C27)*(J$3>=Tableau3[Arrivée])*(J$3<Tableau3[Départ]))","v":0},{"$f":"SUMPRODUCT((Tableau3[Nat]=Nuitées!$C27)*(K$3>=Tableau3[Arrivée])*(K$3<Tableau3[Départ]))","v":0},{"$f":"SUMPRODUCT((Tableau3[Nat]=Nuitées!$C27)*(L$3>=Tableau3[Arrivée])*(L$3<Tableau3[Départ]))","v":0},{"$f":"SUMPRODUCT((Tableau3[Nat]=Nuitées!$C27)*(M$3>=Tableau3[Arrivée])*(M$3<Tableau3[Départ]))","v":0},{"$f":"SUMPRODUCT((Tableau3[Nat]=Nuitées!$C27)*(N$3>=Tableau3[Arrivée])*(N$3<Tableau3[Départ]))","v":0},{"$f":"SUMPRODUCT((Tableau3[Nat]=Nuitées!$C27)*(O$3>=Tableau3[Arrivée])*(O$3<Tableau3[Départ]))","v":0},{"$f":"SUMPRODUCT((Tableau3[Nat]=Nuitées!$C27)*(P$3>=Tableau3[Arrivée])*(P$3<Tableau3[Départ]))","v":0},{"$f":"SUMPRODUCT((Tableau3[Nat]=Nuitées!$C27)*(Q$3>=Tableau3[Arrivée])*(Q$3<Tableau3[Départ]))","v":0},{"$f":"SUMPRODUCT((Tableau3[Nat]=Nuitées!$C27)*(R$3>=Tableau3[Arrivée])*(R$3<Tableau3[Départ]))","v":0},{"$f":"SUMPRODUCT((Tableau3[Nat]=Nuitées!$C27)*(S$3>=Tableau3[Arrivée])*(S$3<Tableau3[Départ]))","v":0},{"$f":"SUMPRODUCT((Tableau3[Nat]=Nuitées!$C27)*(T$3>=Tableau3[Arrivée])*(T$3<Tableau3[Départ]))","v":0},{"$f":"SUMPRODUCT((Tableau3[Nat]=Nuitées!$C27)*(U$3>=Tableau3[Arrivée])*(U$3<Tableau3[Départ]))","v":0},{"$f":"SUMPRODUCT((Tableau3[Nat]=Nuitées!$C27)*(V$3>=Tableau3[Arrivée])*(V$3<Tableau3[Départ]))","v":0},{"$f":"SUMPRODUCT((Tableau3[Nat]=Nuitées!$C27)*(W$3>=Tableau3[Arrivée])*(W$3<Tableau3[Départ]))","v":0},{"$f":"SUMPRODUCT((Tableau3[Nat]=Nuitées!$C27)*(X$3>=Tableau3[Arrivée])*(X$3<Tableau3[Départ]))","v":0},{"$f":"SUMPRODUCT((Tableau3[Nat]=Nuitées!$C27)*(Y$3>=Tableau3[Arrivée])*(Y$3<Tableau3[Départ]))","v":0},{"$f":"SUMPRODUCT((Tableau3[Nat]=Nuitées!$C27)*(Z$3>=Tableau3[Arrivée])*(Z$3<Tableau3[Départ]))","v":0},{"$f":"SUMPRODUCT((Tableau3[Nat]=Nuitées!$C27)*(AA$3>=Tableau3[Arrivée])*(AA$3<Tableau3[Départ]))","v":0},{"$f":"SUMPRODUCT((Tableau3[Nat]=Nuitées!$C27)*(AB$3>=Tableau3[Arrivée])*(AB$3<Tableau3[Départ]))","v":0},{"$f":"SUMPRODUCT((Tableau3[Nat]=Nuitées!$C27)*(AC$3>=Tableau3[Arrivée])*(AC$3<Tableau3[Départ]))","v":0},{"$f":"SUMPRODUCT((Tableau3[Nat]=Nuitées!$C27)*(AD$3>=Tableau3[Arrivée])*(AD$3<Tableau3[Départ]))","v":0},{"$f":"SUMPRODUCT((Tableau3[Nat]=Nuitées!$C27)*(AE$3>=Tableau3[Arrivée])*(AE$3<Tableau3[Départ]))","v":0},{"$f":"SUMPRODUCT((Tableau3[Nat]=Nuitées!$C27)*(AF$3>=Tableau3[Arrivée])*(AF$3<Tableau3[Départ]))","v":0},{"$f":"SUMPRODUCT((Tableau3[Nat]=Nuitées!$C27)*(AG$3>=Tableau3[Arrivée])*(AG$3<Tableau3[Départ]))","v":0},{"$f":"SUMPRODUCT((Tableau3[Nat]=Nuitées!$C27)*(AH$3>=Tableau3[Arrivée])*(AH$3<Tableau3[Départ]))","v":0},0]
[null,"Algérie","DZ",{"$f":"SUMPRODUCT((Tableau3[Nat]=Nuitées!$C28)*($D$3>=Tableau3[Arrivée])*($D$3<Tableau3[Départ]))","v":0},{"$f":"SUMPRODUCT((Tableau3[Nat]=Nuitées!$C28)*(E$3>=Tableau3[Arrivée])*(E$3<Tableau3[Départ]))","v":0},{"$f":"SUMPRODUCT((Tableau3[Nat]=Nuitées!$C28)*(F$3>=Tableau3[Arrivée])*(F$3<Tableau3[Départ]))","v":0},{"$f":"SUMPRODUCT((Tableau3[Nat]=Nuitées!$C28)*(G$3>=Tableau3[Arrivée])*(G$3<Tableau3[Départ]))","v":0},{"$f":"SUMPRODUCT((Tableau3[Nat]=Nuitées!$C28)*(H$3>=Tableau3[Arrivée])*(H$3<Tableau3[Départ]))","v":0},{"$f":"SUMPRODUCT((Tableau3[Nat]=Nuitées!$C28)*(I$3>=Tableau3[Arrivée])*(I$3<Tableau3[Départ]))","v":0},{"$f":"SUMPRODUCT((Tableau3[Nat]=Nuitées!$C28)*(J$3>=Tableau3[Arrivée])*(J$3<Tableau3[Départ]))","v":0},{"$f":"SUMPRODUCT((Tableau3[Nat]=Nuitées!$C28)*(K$3>=Tableau3[Arrivée])*(K$3<Tableau3[Départ]))","v":0},{"$f":"SUMPRODUCT((Tableau3[Nat]=Nuitées!$C28)*(L$3>=Tableau3[Arrivée])*(L$3<Tableau3[Départ]))","v":0},{"$f":"SUMPRODUCT((Tableau3[Nat]=Nuitées!$C28)*(M$3>=Tableau3[Arrivée])*(M$3<Tableau3[Départ]))","v":0},{"$f":"SUMPRODUCT((Tableau3[Nat]=Nuitées!$C28)*(N$3>=Tableau3[Arrivée])*(N$3<Tableau3[Départ]))","v":0},{"$f":"SUMPRODUCT((Tableau3[Nat]=Nuitées!$C28)*(O$3>=Tableau3[Arrivée])*(O$3<Tableau3[Départ]))","v":0},{"$f":"SUMPRODUCT((Tableau3[Nat]=Nuitées!$C28)*(P$3>=Tableau3[Arrivée])*(P$3<Tableau3[Départ]))","v":0},{"$f":"SUMPRODUCT((Tableau3[Nat]=Nuitées!$C28)*(Q$3>=Tableau3[Arrivée])*(Q$3<Tableau3[Départ]))","v":0},{"$f":"SUMPRODUCT((Tableau3[Nat]=Nuitées!$C28)*(R$3>=Tableau3[Arrivée])*(R$3<Tableau3[Départ]))","v":0},{"$f":"SUMPRODUCT((Tableau3[Nat]=Nuitées!$C28)*(S$3>=Tableau3[Arrivée])*(S$3<Tableau3[Départ]))","v":0},{"$f":"SUMPRODUCT((Tableau3[Nat]=Nuitées!$C28)*(T$3>=Tableau3[Arrivée])*(T$3<Tableau3[Départ]))","v":0},{"$f":"SUMPRODUCT((Tableau3[Nat]=Nuitées!$C28)*(U$3>=Tableau3[Arrivée])*(U$3<Tableau3[Départ]))","v":0},{"$f":"SUMPRODUCT((Tableau3[Nat]=Nuitées!$C28)*(V$3>=Tableau3[Arrivée])*(V$3<Tableau3[Départ]))","v":0},{"$f":"SUMPRODUCT((Tableau3[Nat]=Nuitées!$C28)*(W$3>=Tableau3[Arrivée])*(W$3<Tableau3[Départ]))","v":0},{"$f":"SUMPRODUCT((Tableau3[Nat]=Nuitées!$C28)*(X$3>=Tableau3[Arrivée])*(X$3<Tableau3[Départ]))","v":0},{"$f":"SUMPRODUCT((Tableau3[Nat]=Nuitées!$C28)*(Y$3>=Tableau3[Arrivée])*(Y$3<Tableau3[Départ]))","v":0},{"$f":"SUMPRODUCT((Tableau3[Nat]=Nuitées!$C28)*(Z$3>=Tableau3[Arrivée])*(Z$3<Tableau3[Départ]))","v":0},{"$f":"SUMPRODUCT((Tableau3[Nat]=Nuitées!$C28)*(AA$3>=Tableau3[Arrivée])*(AA$3<Tableau3[Départ]))","v":0},{"$f":"SUMPRODUCT((Tableau3[Nat]=Nuitées!$C28)*(AB$3>=Tableau3[Arrivée])*(AB$3<Tableau3[Départ]))","v":0},{"$f":"SUMPRODUCT((Tableau3[Nat]=Nuitées!$C28)*(AC$3>=Tableau3[Arrivée])*(AC$3<Tableau3[Départ]))","v":0},{"$f":"SUMPRODUCT((Tableau3[Nat]=Nuitées!$C28)*(AD$3>=Tableau3[Arrivée])*(AD$3<Tableau3[Départ]))","v":0},{"$f":"SUMPRODUCT((Tableau3[Nat]=Nuitées!$C28)*(AE$3>=Tableau3[Arrivée])*(AE$3<Tableau3[Départ]))","v":0},{"$f":"SUMPRODUCT((Tableau3[Nat]=Nuitées!$C28)*(AF$3>=Tableau3[Arrivée])*(AF$3<Tableau3[Départ]))","v":0},{"$f":"SUMPRODUCT((Tableau3[Nat]=Nuitées!$C28)*(AG$3>=Tableau3[Arrivée])*(AG$3<Tableau3[Départ]))","v":0},{"$f":"SUMPRODUCT((Tableau3[Nat]=Nuitées!$C28)*(AH$3>=Tableau3[Arrivée])*(AH$3<Tableau3[Départ]))","v":0},0]
[null,"Tunisie","TN",{"$f":"SUMPRODUCT((Tableau3[Nat]=Nuitées!$C29)*($D$3>=Tableau3[Arrivée])*($D$3<Tableau3[Départ]))","v":0},{"$f":"SUMPRODUCT((Tableau3[Nat]=Nuitées!$C29)*(E$3>=Tableau3[Arrivée])*(E$3<Tableau3[Départ]))","v":0},{"$f":"SUMPRODUCT((Tableau3[Nat]=Nuitées!$C29)*(F$3>=Tableau3[Arrivée])*(F$3<Tableau3[Départ]))","v":0},{"$f":"SUMPRODUCT((Tableau3[Nat]=Nuitées!$C29)*(G$3>=Tableau3[Arrivée])*(G$3<Tableau3[Départ]))","v":0},{"$f":"SUMPRODUCT((Tableau3[Nat]=Nuitées!$C29)*(H$3>=Tableau3[Arrivée])*(H$3<Tableau3[Départ]))","v":0},{"$f":"SUMPRODUCT((Tableau3[Nat]=Nuitées!$C29)*(I$3>=Tableau3[Arrivée])*(I$3<Tableau3[Départ]))","v":0},{"$f":"SUMPRODUCT((Tableau3[Nat]=Nuitées!$C29)*(J$3>=Tableau3[Arrivée])*(J$3<Tableau3[Départ]))","v":0},{"$f":"SUMPRODUCT((Tableau3[Nat]=Nuitées!$C29)*(K$3>=Tableau3[Arrivée])*(K$3<Tableau3[Départ]))","v":0},{"$f":"SUMPRODUCT((Tableau3[Nat]=Nuitées!$C29)*(L$3>=Tableau3[Arrivée])*(L$3<Tableau3[Départ]))","v":0},{"$f":"SUMPRODUCT((Tableau3[Nat]=Nuitées!$C29)*(M$3>=Tableau3[Arrivée])*(M$3<Tableau3[Départ]))","v":0},{"$f":"SUMPRODUCT((Tableau3[Nat]=Nuitées!$C29)*(N$3>=Tableau3[Arrivée])*(N$3<Tableau3[Départ]))","v":0},{"$f":"SUMPRODUCT((Tableau3[Nat]=Nuitées!$C29)*(O$3>=Tableau3[Arrivée])*(O$3<Tableau3[Départ]))","v":0},{"$f":"SUMPRODUCT((Tableau3[Nat]=Nuitées!$C29)*(P$3>=Tableau3[Arrivée])*(P$3<Tableau3[Départ]))","v":0},{"$f":"SUMPRODUCT((Tableau3[Nat]=Nuitées!$C29)*(Q$3>=Tableau3[Arrivée])*(Q$3<Tableau3[Départ]))","v":0},{"$f":"SUMPRODUCT((Tableau3[Nat]=Nuitées!$C29)*(R$3>=Tableau3[Arrivée])*(R$3<Tableau3[Départ]))","v":0},{"$f":"SUMPRODUCT((Tableau3[Nat]=Nuitées!$C29)*(S$3>=Tableau3[Arrivée])*(S$3<Tableau3[Départ]))","v":0},{"$f":"SUMPRODUCT((Tableau3[Nat]=Nuitées!$C29)*(T$3>=Tableau3[Arrivée])*(T$3<Tableau3[Départ]))","v":0},{"$f":"SUMPRODUCT((Tableau3[Nat]=Nuitées!$C29)*(U$3>=Tableau3[Arrivée])*(U$3<Tableau3[Départ]))","v":0},{"$f":"SUMPRODUCT((Tableau3[Nat]=Nuitées!$C29)*(V$3>=Tableau3[Arrivée])*(V$3<Tableau3[Départ]))","v":0},{"$f":"SUMPRODUCT((Tableau3[Nat]=Nuitées!$C29)*(W$3>=Tableau3[Arrivée])*(W$3<Tableau3[Départ]))","v":0},{"$f":"SUMPRODUCT((Tableau3[Nat]=Nuitées!$C29)*(X$3>=Tableau3[Arrivée])*(X$3<Tableau3[Départ]))","v":0},{"$f":"SUMPRODUCT((Tableau3[Nat]=Nuitées!$C29)*(Y$3>=Tableau3[Arrivée])*(Y$3<Tableau3[Départ]))","v":0},{"$f":"SUMPRODUCT((Tableau3[Nat]=Nuitées!$C29)*(Z$3>=Tableau3[Arrivée])*(Z$3<Tableau3[Départ]))","v":0},{"$f":"SUMPRODUCT((Tableau3[Nat]=Nuitées!$C29)*(AA$3>=Tableau3[Arrivée])*(AA$3<Tableau3[Départ]))","v":0},{"$f":"SUMPRODUCT((Tableau3[Nat]=Nuitées!$C29)*(AB$3>=Tableau3[Arrivée])*(AB$3<Tableau3[Départ]))","v":0},{"$f":"SUMPRODUCT((Tableau3[Nat]=Nuitées!$C29)*(AC$3>=Tableau3[Arrivée])*(AC$3<Tableau3[Départ]))","v":0},{"$f":"SUMPRODUCT((Tableau3[Nat]=Nuitées!$C29)*(AD$3>=Tableau3[Arrivée])*(AD$3<Tableau3[Départ]))","v":0},{"$f":"SUMPRODUCT((Tableau3[Nat]=Nuitées!$C29)*(AE$3>=Tableau3[Arrivée])*(AE$3<Tableau3[Départ]))","v":0},{"$f":"SUMPRODUCT((Tableau3[Nat]=Nuitées!$C29)*(AF$3>=Tableau3[Arrivée])*(AF$3<Tableau3[Départ]))","v":0},{"$f":"SUMPRODUCT((Tableau3[Nat]=Nuitées!$C29)*(AG$3>=Tableau3[Arrivée])*(AG$3<Tableau3[Départ]))","v":0},{"$f":"SUMPRODUCT((Tableau3[Nat]=Nuitées!$C29)*(AH$3>=Tableau3[Arrivée])*(AH$3<Tableau3[Départ]))","v":0},0]
[null,"Libye","LY",{"$f":"SUMPRODUCT((Tableau3[Nat]=Nuitées!$C30)*($D$3>=Tableau3[Arrivée])*($D$3<Tableau3[Départ]))","v":0},{"$f":"SUMPRODUCT((Tableau3[Nat]=Nuitées!$C30)*(E$3>=Tableau3[Arrivée])*(E$3<Tableau3[Départ]))","v":0},{"$f":"SUMPRODUCT((Tableau3[Nat]=Nuitées!$C30)*(F$3>=Tableau3[Arrivée])*(F$3<Tableau3[Départ]))","v":0},{"$f":"SUMPRODUCT((Tableau3[Nat]=Nuitées!$C30)*(G$3>=Tableau3[Arrivée])*(G$3<Tableau3[Départ]))","v":0},{"$f":"SUMPRODUCT((Tableau3[Nat]=Nuitées!$C30)*(H$3>=Tableau3[Arrivée])*(H$3<Tableau3[Départ]))","v":0},{"$f":"SUMPRODUCT((Tableau3[Nat]=Nuitées!$C30)*(I$3>=Tableau3[Arrivée])*(I$3<Tableau3[Départ]))","v":0},{"$f":"SUMPRODUCT((Tableau3[Nat]=Nuitées!$C30)*(J$3>=Tableau3[Arrivée])*(J$3<Tableau3[Départ]))","v":0},{"$f":"SUMPRODUCT((Tableau3[Nat]=Nuitées!$C30)*(K$3>=Tableau3[Arrivée])*(K$3<Tableau3[Départ]))","v":0},{"$f":"SUMPRODUCT((Tableau3[Nat]=Nuitées!$C30)*(L$3>=Tableau3[Arrivée])*(L$3<Tableau3[Départ]))","v":0},{"$f":"SUMPRODUCT((Tableau3[Nat]=Nuitées!$C30)*(M$3>=Tableau3[Arrivée])*(M$3<Tableau3[Départ]))","v":0},{"$f":"SUMPRODUCT((Tableau3[Nat]=Nuitées!$C30)*(N$3>=Tableau3[Arrivée])*(N$3<Tableau3[Départ]))","v":0},{"$f":"SUMPRODUCT((Tableau3[Nat]=Nuitées!$C30)*(O$3>=Tableau3[Arrivée])*(O$3<Tableau3[Départ]))","v":0},{"$f":"SUMPRODUCT((Tableau3[Nat]=Nuitées!$C30)*(P$3>=Tableau3[Arrivée])*(P$3<Tableau3[Départ]))","v":0},{"$f":"SUMPRODUCT((Tableau3[Nat]=Nuitées!$C30)*(Q$3>=Tableau3[Arrivée])*(Q$3<Tableau3[Départ]))","v":0},{"$f":"SUMPRODUCT((Tableau3[Nat]=Nuitées!$C30)*(R$3>=Tableau3[Arrivée])*(R$3<Tableau3[Départ]))","v":0},{"$f":"SUMPRODUCT((Tableau3[Nat]=Nuitées!$C30)*(S$3>=Tableau3[Arrivée])*(S$3<Tableau3[Départ]))","v":0},{"$f":"SUMPRODUCT((Tableau3[Nat]=Nuitées!$C30)*(T$3>=Tableau3[Arrivée])*(T$3<Tableau3[Départ]))","v":0},{"$f":"SUMPRODUCT((Tableau3[Nat]=Nuitées!$C30)*(U$3>=Tableau3[Arrivée])*(U$3<Tableau3[Départ]))","v":0},{"$f":"SUMPRODUCT((Tableau3[Nat]=Nuitées!$C30)*(V$3>=Tableau3[Arrivée])*(V$3<Tableau3[Départ]))","v":0},{"$f":"SUMPRODUCT((Tableau3[Nat]=Nuitées!$C30)*(W$3>=Tableau3[Arrivée])*(W$3<Tableau3[Départ]))","v":0},{"$f":"SUMPRODUCT((Tableau3[Nat]=Nuitées!$C30)*(X$3>=Tableau3[Arrivée])*(X$3<Tableau3[Départ]))","v":0},{"$f":"SUMPRODUCT((Tableau3[Nat]=Nuitées!$C30)*(Y$3>=Tableau3[Arrivée])*(Y$3<Tableau3[Départ]))","v":0},{"$f":"SUMPRODUCT((Tableau3[Nat]=Nuitées!$C30)*(Z$3>=Tableau3[Arrivée])*(Z$3<Tableau3[Départ]))","v":0},{"$f":"SUMPRODUCT((Tableau3[Nat]=Nuitées!$C30)*(AA$3>=Tableau3[Arrivée])*(AA$3<Tableau3[Départ]))","v":0},{"$f":"SUMPRODUCT((Tableau3[Nat]=Nuitées!$C30)*(AB$3>=Tableau3[Arrivée])*(AB$3<Tableau3[Départ]))","v":0},{"$f":"SUMPRODUCT((Tableau3[Nat]=Nuitées!$C30)*(AC$3>=Tableau3[Arrivée])*(AC$3<Tableau3[Départ]))","v":0},{"$f":"SUMPRODUCT((Tableau3[Nat]=Nuitées!$C30)*(AD$3>=Tableau3[Arrivée])*(AD$3<Tableau3[Départ]))","v":0},{"$f":"SUMPRODUCT((Tableau3[Nat]=Nuitées!$C30)*(AE$3>=Tableau3[Arrivée])*(AE$3<Tableau3[Départ]))","v":0},{"$f":"SUMPRODUCT((Tableau3[Nat]=Nuitées!$C30)*(AF$3>=Tableau3[Arrivée])*(AF$3<Tableau3[Départ]))","v":0},{"$f":"SUMPRODUCT((Tableau3[Nat]=Nuitées!$C30)*(AG$3>=Tableau3[Arrivée])*(AG$3<Tableau3[Départ]))","v":0},{"$f":"SUMPRODUCT((Tableau3[Nat]=Nuitées!$C30)*(AH$3>=Tableau3[Arrivée])*(AH$3<Tableau3[Départ]))","v":0},0]
[null,"Mauritanie","MR",{"$f":"SUMPRODUCT((Tableau3[Nat]=Nuitées!$C31)*($D$3>=Tableau3[Arrivée])*($D$3<Tableau3[Départ]))","v":0},{"$f":"SUMPRODUCT((Tableau3[Nat]=Nuitées!$C31)*(E$3>=Tableau3[Arrivée])*(E$3<Tableau3[Départ]))","v":0},{"$f":"SUMPRODUCT((Tableau3[Nat]=Nuitées!$C31)*(F$3>=Tableau3[Arrivée])*(F$3<Tableau3[Départ]))","v":0},{"$f":"SUMPRODUCT((Tableau3[Nat]=Nuitées!$C31)*(G$3>=Tableau3[Arrivée])*(G$3<Tableau3[Départ]))","v":0},{"$f":"SUMPRODUCT((Tableau3[Nat]=Nuitées!$C31)*(H$3>=Tableau3[Arrivée])*(H$3<Tableau3[Départ]))","v":0},{"$f":"SUMPRODUCT((Tableau3[Nat]=Nuitées!$C31)*(I$3>=Tableau3[Arrivée])*(I$3<Tableau3[Départ]))","v":0},{"$f":"SUMPRODUCT((Tableau3[Nat]=Nuitées!$C31)*(J$3>=Tableau3[Arrivée])*(J$3<Tableau3[Départ]))","v":0},{"$f":"SUMPRODUCT((Tableau3[Nat]=Nuitées!$C31)*(K$3>=Tableau3[Arrivée])*(K$3<Tableau3[Départ]))","v":0},{"$f":"SUMPRODUCT((Tableau3[Nat]=Nuitées!$C31)*(L$3>=Tableau3[Arrivée])*(L$3<Tableau3[Départ]))","v":0},{"$f":"SUMPRODUCT((Tableau3[Nat]=Nuitées!$C31)*(M$3>=Tableau3[Arrivée])*(M$3<Tableau3[Départ]))","v":0},{"$f":"SUMPRODUCT((Tableau3[Nat]=Nuitées!$C31)*(N$3>=Tableau3[Arrivée])*(N$3<Tableau3[Départ]))","v":0},{"$f":"SUMPRODUCT((Tableau3[Nat]=Nuitées!$C31)*(O$3>=Tableau3[Arrivée])*(O$3<Tableau3[Départ]))","v":0},{"$f":"SUMPRODUCT((Tableau3[Nat]=Nuitées!$C31)*(P$3>=Tableau3[Arrivée])*(P$3<Tableau3[Départ]))","v":0},{"$f":"SUMPRODUCT((Tableau3[Nat]=Nuitées!$C31)*(Q$3>=Tableau3[Arrivée])*(Q$3<Tableau3[Départ]))","v":0},{"$f":"SUMPRODUCT((Tableau3[Nat]=Nuitées!$C31)*(R$3>=Tableau3[Arrivée])*(R$3<Tableau3[Départ]))","v":0},{"$f":"SUMPRODUCT((Tableau3[Nat]=Nuitées!$C31)*(S$3>=Tableau3[Arrivée])*(S$3<Tableau3[Départ]))","v":0},{"$f":"SUMPRODUCT((Tableau3[Nat]=Nuitées!$C31)*(T$3>=Tableau3[Arrivée])*(T$3<Tableau3[Départ]))","v":0},{"$f":"SUMPRODUCT((Tableau3[Nat]=Nuitées!$C31)*(U$3>=Tableau3[Arrivée])*(U$3<Tableau3[Départ]))","v":0},{"$f":"SUMPRODUCT((Tableau3[Nat]=Nuitées!$C31)*(V$3>=Tableau3[Arrivée])*(V$3<Tableau3[Départ]))","v":0},{"$f":"SUMPRODUCT((Tableau3[Nat]=Nuitées!$C31)*(W$3>=Tableau3[Arrivée])*(W$3<Tableau3[Départ]))","v":0},{"$f":"SUMPRODUCT((Tableau3[Nat]=Nuitées!$C31)*(X$3>=Tableau3[Arrivée])*(X$3<Tableau3[Départ]))","v":0},{"$f":"SUMPRODUCT((Tableau3[Nat]=Nuitées!$C31)*(Y$3>=Tableau3[Arrivée])*(Y$3<Tableau3[Départ]))","v":0},{"$f":"SUMPRODUCT((Tableau3[Nat]=Nuitées!$C31)*(Z$3>=Tableau3[Arrivée])*(Z$3<Tableau3[Départ]))","v":0},{"$f":"SUMPRODUCT((Tableau3[Nat]=Nuitées!$C31)*(AA$3>=Tableau3[Arrivée])*(AA$3<Tableau3[Départ]))","v":0},{"$f":"SUMPRODUCT((Tableau3[Nat]=Nuitées!$C31)*(AB$3>=Tableau3[Arrivée])*(AB$3<Tableau3[Départ]))","v":0},{"$f":"SUMPRODUCT((Tableau3[Nat]=Nuitées!$C31)*(AC$3>=Tableau3[Arrivée])*(AC$3<Tableau3[Départ]))","v":0},{"$f":"SUMPRODUCT((Tableau3[Nat]=Nuitées!$C31)*(AD$3>=Tableau3[Arrivée])*(AD$3<Tableau3[Départ]))","v":0},{"$f":"SUMPRODUCT((Tableau3[Nat]=Nuitées!$C31)*(AE$3>=Tableau3[Arrivée])*(AE$3<Tableau3[Départ]))","v":0},{"$f":"SUMPRODUCT((Tableau3[Nat]=Nuitées!$C31)*(AF$3>=Tableau3[Arrivée])*(AF$3<Tableau3[Départ]))","v":0},{"$f":"SUMPRODUCT((Tableau3[Nat]=Nuitées!$C31)*(AG$3>=Tableau3[Arrivée])*(AG$3<Tableau3[Départ]))","v":0},{"$f":"SUMPRODUCT((Tableau3[Nat]=Nuitées!$C31)*(AH$3>=Tableau3[Arrivée])*(AH$3<Tableau3[Départ]))","v":0},0]
[null,"Arabie Saoudite","SA",{"$f":"SUMPRODUCT((Tableau3[Nat]=Nuitées!$C32)*($D$3>=Tableau3[Arrivée])*($D$3<Tableau3[Départ]))","v":0},{"$f":"SUMPRODUCT((Tableau3[Nat]=Nuitées!$C32)*(E$3>=Tableau3[Arrivée])*(E$3<Tableau3[Départ]))","v":0},{"$f":"SUMPRODUCT((Tableau3[Nat]=Nuitées!$C32)*(F$3>=Tableau3[Arrivée])*(F$3<Tableau3[Départ]))","v":0},{"$f":"SUMPRODUCT((Tableau3[Nat]=Nuitées!$C32)*(G$3>=Tableau3[Arrivée])*(G$3<Tableau3[Départ]))","v":0},{"$f":"SUMPRODUCT((Tableau3[Nat]=Nuitées!$C32)*(H$3>=Tableau3[Arrivée])*(H$3<Tableau3[Départ]))","v":0},{"$f":"SUMPRODUCT((Tableau3[Nat]=Nuitées!$C32)*(I$3>=Tableau3[Arrivée])*(I$3<Tableau3[Départ]))","v":0},{"$f":"SUMPRODUCT((Tableau3[Nat]=Nuitées!$C32)*(J$3>=Tableau3[Arrivée])*(J$3<Tableau3[Départ]))","v":0},{"$f":"SUMPRODUCT((Tableau3[Nat]=Nuitées!$C32)*(K$3>=Tableau3[Arrivée])*(K$3<Tableau3[Départ]))","v":0},{"$f":"SUMPRODUCT((Tableau3[Nat]=Nuitées!$C32)*(L$3>=Tableau3[Arrivée])*(L$3<Tableau3[Départ]))","v":0},{"$f":"SUMPRODUCT((Tableau3[Nat]=Nuitées!$C32)*(M$3>=Tableau3[Arrivée])*(M$3<Tableau3[Départ]))","v":0},{"$f":"SUMPRODUCT((Tableau3[Nat]=Nuitées!$C32)*(N$3>=Tableau3[Arrivée])*(N$3<Tableau3[Départ]))","v":0},{"$f":"SUMPRODUCT((Tableau3[Nat]=Nuitées!$C32)*(O$3>=Tableau3[Arrivée])*(O$3<Tableau3[Départ]))","v":0},{"$f":"SUMPRODUCT((Tableau3[Nat]=Nuitées!$C32)*(P$3>=Tableau3[Arrivée])*(P$3<Tableau3[Départ]))","v":0},{"$f":"SUMPRODUCT((Tableau3[Nat]=Nuitées!$C32)*(Q$3>=Tableau3[Arrivée])*(Q$3<Tableau3[Départ]))","v":0},{"$f":"SUMPRODUCT((Tableau3[Nat]=Nuitées!$C32)*(R$3>=Tableau3[Arrivée])*(R$3<Tableau3[Départ]))","v":0},{"$f":"SUMPRODUCT((Tableau3[Nat]=Nuitées!$C32)*(S$3>=Tableau3[Arrivée])*(S$3<Tableau3[Départ]))","v":0},{"$f":"SUMPRODUCT((Tableau3[Nat]=Nuitées!$C32)*(T$3>=Tableau3[Arrivée])*(T$3<Tableau3[Départ]))","v":0},{"$f":"SUMPRODUCT((Tableau3[Nat]=Nuitées!$C32)*(U$3>=Tableau3[Arrivée])*(U$3<Tableau3[Départ]))","v":0},{"$f":"SUMPRODUCT((Tableau3[Nat]=Nuitées!$C32)*(V$3>=Tableau3[Arrivée])*(V$3<Tableau3[Départ]))","v":0},{"$f":"SUMPRODUCT((Tableau3[Nat]=Nuitées!$C32)*(W$3>=Tableau3[Arrivée])*(W$3<Tableau3[Départ]))","v":0},{"$f":"SUMPRODUCT((Tableau3[Nat]=Nuitées!$C32)*(X$3>=Tableau3[Arrivée])*(X$3<Tableau3[Départ]))","v":0},{"$f":"SUMPRODUCT((Tableau3[Nat]=Nuitées!$C32)*(Y$3>=Tableau3[Arrivée])*(Y$3<Tableau3[Départ]))","v":0},{"$f":"SUMPRODUCT((Tableau3[Nat]=Nuitées!$C32)*(Z$3>=Tableau3[Arrivée])*(Z$3<Tableau3[Départ]))","v":0},{"$f":"SUMPRODUCT((Tableau3[Nat]=Nuitées!$C32)*(AA$3>=Tableau3[Arrivée])*(AA$3<Tableau3[Départ]))","v":0},{"$f":"SUMPRODUCT((Tableau3[Nat]=Nuitées!$C32)*(AB$3>=Tableau3[Arrivée])*(AB$3<Tableau3[Départ]))","v":0},{"$f":"SUMPRODUCT((Tableau3[Nat]=Nuitées!$C32)*(AC$3>=Tableau3[Arrivée])*(AC$3<Tableau3[Départ]))","v":0},{"$f":"SUMPRODUCT((Tableau3[Nat]=Nuitées!$C32)*(AD$3>=Tableau3[Arrivée])*(AD$3<Tableau3[Départ]))","v":0},{"$f":"SUMPRODUCT((Tableau3[Nat]=Nuitées!$C32)*(AE$3>=Tableau3[Arrivée])*(AE$3<Tableau3[Départ]))","v":0},{"$f":"SUMPRODUCT((Tableau3[Nat]=Nuitées!$C32)*(AF$3>=Tableau3[Arrivée])*(AF$3<Tableau3[Départ]))","v":0},{"$f":"SUMPRODUCT((Tableau3[Nat]=Nuitées!$C32)*(AG$3>=Tableau3[Arrivée])*(AG$3<Tableau3[Départ]))","v":0},{"$f":"SUMPRODUCT((Tableau3[Nat]=Nuitées!$C32)*(AH$3>=Tableau3[Arrivée])*(AH$3<Tableau3[Départ]))","v":0},0]
[null,"Egypte","EG",{"$f":"SUMPRODUCT((Tableau3[Nat]=Nuitées!$C33)*($D$3>=Tableau3[Arrivée])*($D$3<Tableau3[Départ]))","v":0},{"$f":"SUMPRODUCT((Tableau3[Nat]=Nuitées!$C33)*(E$3>=Tableau3[Arrivée])*(E$3<Tableau3[Départ]))","v":0},{"$f":"SUMPRODUCT((Tableau3[Nat]=Nuitées!$C33)*(F$3>=Tableau3[Arrivée])*(F$3<Tableau3[Départ]))","v":0},{"$f":"SUMPRODUCT((Tableau3[Nat]=Nuitées!$C33)*(G$3>=Tableau3[Arrivée])*(G$3<Tableau3[Départ]))","v":0},{"$f":"SUMPRODUCT((Tableau3[Nat]=Nuitées!$C33)*(H$3>=Tableau3[Arrivée])*(H$3<Tableau3[Départ]))","v":0},{"$f":"SUMPRODUCT((Tableau3[Nat]=Nuitées!$C33)*(I$3>=Tableau3[Arrivée])*(I$3<Tableau3[Départ]))","v":0},{"$f":"SUMPRODUCT((Tableau3[Nat]=Nuitées!$C33)*(J$3>=Tableau3[Arrivée])*(J$3<Tableau3[Départ]))","v":0},{"$f":"SUMPRODUCT((Tableau3[Nat]=Nuitées!$C33)*(K$3>=Tableau3[Arrivée])*(K$3<Tableau3[Départ]))","v":0},{"$f":"SUMPRODUCT((Tableau3[Nat]=Nuitées!$C33)*(L$3>=Tableau3[Arrivée])*(L$3<Tableau3[Départ]))","v":0},{"$f":"SUMPRODUCT((Tableau3[Nat]=Nuitées!$C33)*(M$3>=Tableau3[Arrivée])*(M$3<Tableau3[Départ]))","v":0},{"$f":"SUMPRODUCT((Tableau3[Nat]=Nuitées!$C33)*(N$3>=Tableau3[Arrivée])*(N$3<Tableau3[Départ]))","v":0},{"$f":"SUMPRODUCT((Tableau3[Nat]=Nuitées!$C33)*(O$3>=Tableau3[Arrivée])*(O$3<Tableau3[Départ]))","v":0},{"$f":"SUMPRODUCT((Tableau3[Nat]=Nuitées!$C33)*(P$3>=Tableau3[Arrivée])*(P$3<Tableau3[Départ]))","v":0},{"$f":"SUMPRODUCT((Tableau3[Nat]=Nuitées!$C33)*(Q$3>=Tableau3[Arrivée])*(Q$3<Tableau3[Départ]))","v":0},{"$f":"SUMPRODUCT((Tableau3[Nat]=Nuitées!$C33)*(R$3>=Tableau3[Arrivée])*(R$3<Tableau3[Départ]))","v":0},{"$f":"SUMPRODUCT((Tableau3[Nat]=Nuitées!$C33)*(S$3>=Tableau3[Arrivée])*(S$3<Tableau3[Départ]))","v":0},{"$f":"SUMPRODUCT((Tableau3[Nat]=Nuitées!$C33)*(T$3>=Tableau3[Arrivée])*(T$3<Tableau3[Départ]))","v":0},{"$f":"SUMPRODUCT((Tableau3[Nat]=Nuitées!$C33)*(U$3>=Tableau3[Arrivée])*(U$3<Tableau3[Départ]))","v":0},{"$f":"SUMPRODUCT((Tableau3[Nat]=Nuitées!$C33)*(V$3>=Tableau3[Arrivée])*(V$3<Tableau3[Départ]))","v":0},{"$f":"SUMPRODUCT((Tableau3[Nat]=Nuitées!$C33)*(W$3>=Tableau3[Arrivée])*(W$3<Tableau3[Départ]))","v":0},{"$f":"SUMPRODUCT((Tableau3[Nat]=Nuitées!$C33)*(X$3>=Tableau3[Arrivée])*(X$3<Tableau3[Départ]))","v":0},{"$f":"SUMPRODUCT((Tableau3[Nat]=Nuitées!$C33)*(Y$3>=Tableau3[Arrivée])*(Y$3<Tableau3[Départ]))","v":0},{"$f":"SUMPRODUCT((Tableau3[Nat]=Nuitées!$C33)*(Z$3>=Tableau3[Arrivée])*(Z$3<Tableau3[Départ]))","v":0},{"$f":"SUMPRODUCT((Tableau3[Nat]=Nuitées!$C33)*(AA$3>=Tableau3[Arrivée])*(AA$3<Tableau3[Départ]))","v":0},{"$f":"SUMPRODUCT((Tableau3[Nat]=Nuitées!$C33)*(AB$3>=Tableau3[Arrivée])*(AB$3<Tableau3[Départ]))","v":0},{"$f":"SUMPRODUCT((Tableau3[Nat]=Nuitées!$C33)*(AC$3>=Tableau3[Arrivée])*(AC$3<Tableau3[Départ]))","v":0},{"$f":"SUMPRODUCT((Tableau3[Nat]=Nuitées!$C33)*(AD$3>=Tableau3[Arrivée])*(AD$3<Tableau3[Départ]))","v":0},{"$f":"SUMPRODUCT((Tableau3[Nat]=Nuitées!$C33)*(AE$3>=Tableau3[Arrivée])*(AE$3<Tableau3[Départ]))","v":0},{"$f":"SUMPRODUCT((Tableau3[Nat]=Nuitées!$C33)*(AF$3>=Tableau3[Arrivée])*(AF$3<Tableau3[Départ]))","v":0},{"$f":"SUMPRODUCT((Tableau3[Nat]=Nuitées!$C33)*(AG$3>=Tableau3[Arrivée])*(AG$3<Tableau3[Départ]))","v":0},{"$f":"SUMPRODUCT((Tableau3[Nat]=Nuitées!$C33)*(AH$3>=Tableau3[Arrivée])*(AH$3<Tableau3[Départ]))","v":0},0]
[null,"Syrie","SY",{"$f":"SUMPRODUCT((Tableau3[Nat]=Nuitées!$C34)*($D$3>=Tableau3[Arrivée])*($D$3<Tableau3[Départ]))","v":0},{"$f":"SUMPRODUCT((Tableau3[Nat]=Nuitées!$C34)*(E$3>=Tableau3[Arrivée])*(E$3<Tableau3[Départ]))","v":0},{"$f":"SUMPRODUCT((Tableau3[Nat]=Nuitées!$C34)*(F$3>=Tableau3[Arrivée])*(F$3<Tableau3[Départ]))","v":0},{"$f":"SUMPRODUCT((Tableau3[Nat]=Nuitées!$C34)*(G$3>=Tableau3[Arrivée])*(G$3<Tableau3[Départ]))","v":0},{"$f":"SUMPRODUCT((Tableau3[Nat]=Nuitées!$C34)*(H$3>=Tableau3[Arrivée])*(H$3<Tableau3[Départ]))","v":0},{"$f":"SUMPRODUCT((Tableau3[Nat]=Nuitées!$C34)*(I$3>=Tableau3[Arrivée])*(I$3<Tableau3[Départ]))","v":0},{"$f":"SUMPRODUCT((Tableau3[Nat]=Nuitées!$C34)*(J$3>=Tableau3[Arrivée])*(J$3<Tableau3[Départ]))","v":0},{"$f":"SUMPRODUCT((Tableau3[Nat]=Nuitées!$C34)*(K$3>=Tableau3[Arrivée])*(K$3<Tableau3[Départ]))","v":0},{"$f":"SUMPRODUCT((Tableau3[Nat]=Nuitées!$C34)*(L$3>=Tableau3[Arrivée])*(L$3<Tableau3[Départ]))","v":0},{"$f":"SUMPRODUCT((Tableau3[Nat]=Nuitées!$C34)*(M$3>=Tableau3[Arrivée])*(M$3<Tableau3[Départ]))","v":0},{"$f":"SUMPRODUCT((Tableau3[Nat]=Nuitées!$C34)*(N$3>=Tableau3[Arrivée])*(N$3<Tableau3[Départ]))","v":0},{"$f":"SUMPRODUCT((Tableau3[Nat]=Nuitées!$C34)*(O$3>=Tableau3[Arrivée])*(O$3<Tableau3[Départ]))","v":0},{"$f":"SUMPRODUCT((Tableau3[Nat]=Nuitées!$C34)*(P$3>=Tableau3[Arrivée])*(P$3<Tableau3[Départ]))","v":0},{"$f":"SUMPRODUCT((Tableau3[Nat]=Nuitées!$C34)*(Q$3>=Tableau3[Arrivée])*(Q$3<Tableau3[Départ]))","v":0},{"$f":"SUMPRODUCT((Tableau3[Nat]=Nuitées!$C34)*(R$3>=Tableau3[Arrivée])*(R$3<Tableau3[Départ]))","v":0},{"$f":"SUMPRODUCT((Tableau3[Nat]=Nuitées!$C34)*(S$3>=Tableau3[Arrivée])*(S$3<Tableau3[Départ]))","v":0},{"$f":"SUMPRODUCT((Tableau3[Nat]=Nuitées!$C34)*(T$3>=Tableau3[Arrivée])*(T$3<Tableau3[Départ]))","v":0},{"$f":"SUMPRODUCT((Tableau3[Nat]=Nuitées!$C34)*(U$3>=Tableau3[Arrivée])*(U$3<Tableau3[Départ]))","v":0},{"$f":"SUMPRODUCT((Tableau3[Nat]=Nuitées!$C34)*(V$3>=Tableau3[Arrivée])*(V$3<Tableau3[Départ]))","v":0},{"$f":"SUMPRODUCT((Tableau3[Nat]=Nuitées!$C34)*(W$3>=Tableau3[Arrivée])*(W$3<Tableau3[Départ]))","v":0},{"$f":"SUMPRODUCT((Tableau3[Nat]=Nuitées!$C34)*(X$3>=Tableau3[Arrivée])*(X$3<Tableau3[Départ]))","v":0},{"$f":"SUMPRODUCT((Tableau3[Nat]=Nuitées!$C34)*(Y$3>=Tableau3[Arrivée])*(Y$3<Tableau3[Départ]))","v":0},{"$f":"SUMPRODUCT((Tableau3[Nat]=Nuitées!$C34)*(Z$3>=Tableau3[Arrivée])*(Z$3<Tableau3[Départ]))","v":0},{"$f":"SUMPRODUCT((Tableau3[Nat]=Nuitées!$C34)*(AA$3>=Tableau3[Arrivée])*(AA$3<Tableau3[Départ]))","v":0},{"$f":"SUMPRODUCT((Tableau3[Nat]=Nuitées!$C34)*(AB$3>=Tableau3[Arrivée])*(AB$3<Tableau3[Départ]))","v":0},{"$f":"SUMPRODUCT((Tableau3[Nat]=Nuitées!$C34)*(AC$3>=Tableau3[Arrivée])*(AC$3<Tableau3[Départ]))","v":0},{"$f":"SUMPRODUCT((Tableau3[Nat]=Nuitées!$C34)*(AD$3>=Tableau3[Arrivée])*(AD$3<Tableau3[Départ]))","v":0},{"$f":"SUMPRODUCT((Tableau3[Nat]=Nuitées!$C34)*(AE$3>=Tableau3[Arrivée])*(AE$3<Tableau3[Départ]))","v":0},{"$f":"SUMPRODUCT((Tableau3[Nat]=Nuitées!$C34)*(AF$3>=Tableau3[Arrivée])*(AF$3<Tableau3[Départ]))","v":0},{"$f":"SUMPRODUCT((Tableau3[Nat]=Nuitées!$C34)*(AG$3>=Tableau3[Arrivée])*(AG$3<Tableau3[Départ]))","v":0},{"$f":"SUMPRODUCT((Tableau3[Nat]=Nuitées!$C34)*(AH$3>=Tableau3[Arrivée])*(AH$3<Tableau3[Départ]))","v":0},0]
[null,"Emirates Arabe","AE",{"$f":"SUMPRODUCT((Tableau3[Nat]=Nuitées!$C35)*($D$3>=Tableau3[Arrivée])*($D$3<Tableau3[Départ]))","v":0},{"$f":"SUMPRODUCT((Tableau3[Nat]=Nuitées!$C35)*(E$3>=Tableau3[Arrivée])*(E$3<Tableau3[Départ]))","v":0},{"$f":"SUMPRODUCT((Tableau3[Nat]=Nuitées!$C35)*(F$3>=Tableau3[Arrivée])*(F$3<Tableau3[Départ]))","v":0},{"$f":"SUMPRODUCT((Tableau3[Nat]=Nuitées!$C35)*(G$3>=Tableau3[Arrivée])*(G$3<Tableau3[Départ]))","v":0},{"$f":"SUMPRODUCT((Tableau3[Nat]=Nuitées!$C35)*(H$3>=Tableau3[Arrivée])*(H$3<Tableau3[Départ]))","v":0},{"$f":"SUMPRODUCT((Tableau3[Nat]=Nuitées!$C35)*(I$3>=Tableau3[Arrivée])*(I$3<Tableau3[Départ]))","v":0},{"$f":"SUMPRODUCT((Tableau3[Nat]=Nuitées!$C35)*(J$3>=Tableau3[Arrivée])*(J$3<Tableau3[Départ]))","v":0},{"$f":"SUMPRODUCT((Tableau3[Nat]=Nuitées!$C35)*(K$3>=Tableau3[Arrivée])*(K$3<Tableau3[Départ]))","v":0},{"$f":"SUMPRODUCT((Tableau3[Nat]=Nuitées!$C35)*(L$3>=Tableau3[Arrivée])*(L$3<Tableau3[Départ]))","v":0},{"$f":"SUMPRODUCT((Tableau3[Nat]=Nuitées!$C35)*(M$3>=Tableau3[Arrivée])*(M$3<Tableau3[Départ]))","v":0},{"$f":"SUMPRODUCT((Tableau3[Nat]=Nuitées!$C35)*(N$3>=Tableau3[Arrivée])*(N$3<Tableau3[Départ]))","v":0},{"$f":"SUMPRODUCT((Tableau3[Nat]=Nuitées!$C35)*(O$3>=Tableau3[Arrivée])*(O$3<Tableau3[Départ]))","v":0},{"$f":"SUMPRODUCT((Tableau3[Nat]=Nuitées!$C35)*(P$3>=Tableau3[Arrivée])*(P$3<Tableau3[Départ]))","v":0},{"$f":"SUMPRODUCT((Tableau3[Nat]=Nuitées!$C35)*(Q$3>=Tableau3[Arrivée])*(Q$3<Tableau3[Départ]))","v":0},{"$f":"SUMPRODUCT((Tableau3[Nat]=Nuitées!$C35)*(R$3>=Tableau3[Arrivée])*(R$3<Tableau3[Départ]))","v":0},{"$f":"SUMPRODUCT((Tableau3[Nat]=Nuitées!$C35)*(S$3>=Tableau3[Arrivée])*(S$3<Tableau3[Départ]))","v":0},{"$f":"SUMPRODUCT((Tableau3[Nat]=Nuitées!$C35)*(T$3>=Tableau3[Arrivée])*(T$3<Tableau3[Départ]))","v":0},{"$f":"SUMPRODUCT((Tableau3[Nat]=Nuitées!$C35)*(U$3>=Tableau3[Arrivée])*(U$3<Tableau3[Départ]))","v":0},{"$f":"SUMPRODUCT((Tableau3[Nat]=Nuitées!$C35)*(V$3>=Tableau3[Arrivée])*(V$3<Tableau3[Départ]))","v":0},{"$f":"SUMPRODUCT((Tableau3[Nat]=Nuitées!$C35)*(W$3>=Tableau3[Arrivée])*(W$3<Tableau3[Départ]))","v":0},{"$f":"SUMPRODUCT((Tableau3[Nat]=Nuitées!$C35)*(X$3>=Tableau3[Arrivée])*(X$3<Tableau3[Départ]))","v":0},{"$f":"SUMPRODUCT((Tableau3[Nat]=Nuitées!$C35)*(Y$3>=Tableau3[Arrivée])*(Y$3<Tableau3[Départ]))","v":0},{"$f":"SUMPRODUCT((Tableau3[Nat]=Nuitées!$C35)*(Z$3>=Tableau3[Arrivée])*(Z$3<Tableau3[Départ]))","v":0},{"$f":"SUMPRODUCT((Tableau3[Nat]=Nuitées!$C35)*(AA$3>=Tableau3[Arrivée])*(AA$3<Tableau3[Départ]))","v":0},{"$f":"SUMPRODUCT((Tableau3[Nat]=Nuitées!$C35)*(AB$3>=Tableau3[Arrivée])*(AB$3<Tableau3[Départ]))","v":0},{"$f":"SUMPRODUCT((Tableau3[Nat]=Nuitées!$C35)*(AC$3>=Tableau3[Arrivée])*(AC$3<Tableau3[Départ]))","v":0},{"$f":"SUMPRODUCT((Tableau3[Nat]=Nuitées!$C35)*(AD$3>=Tableau3[Arrivée])*(AD$3<Tableau3[Départ]))","v":0},{"$f":"SUMPRODUCT((Tableau3[Nat]=Nuitées!$C35)*(AE$3>=Tableau3[Arrivée])*(AE$3<Tableau3[Départ]))","v":0},{"$f":"SUMPRODUCT((Tableau3[Nat]=Nuitées!$C35)*(AF$3>=Tableau3[Arrivée])*(AF$3<Tableau3[Départ]))","v":0},{"$f":"SUMPRODUCT((Tableau3[Nat]=Nuitées!$C35)*(AG$3>=Tableau3[Arrivée])*(AG$3<Tableau3[Départ]))","v":0},{"$f":"SUMPRODUCT((Tableau3[Nat]=Nuitées!$C35)*(AH$3>=Tableau3[Arrivée])*(AH$3<Tableau3[Départ]))","v":0},0]
[null,"Liban","LB",{"$f":"SUMPRODUCT((Tableau3[Nat]=Nuitées!$C36)*($D$3>=Tableau3[Arrivée])*($D$3<Tableau3[Départ]))","v":0},{"$f":"SUMPRODUCT((Tableau3[Nat]=Nuitées!$C36)*(E$3>=Tableau3[Arrivée])*(E$3<Tableau3[Départ]))","v":0},{"$f":"SUMPRODUCT((Tableau3[Nat]=Nuitées!$C36)*(F$3>=Tableau3[Arrivée])*(F$3<Tableau3[Départ]))","v":0},{"$f":"SUMPRODUCT((Tableau3[Nat]=Nuitées!$C36)*(G$3>=Tableau3[Arrivée])*(G$3<Tableau3[Départ]))","v":0},{"$f":"SUMPRODUCT((Tableau3[Nat]=Nuitées!$C36)*(H$3>=Tableau3[Arrivée])*(H$3<Tableau3[Départ]))","v":0},{"$f":"SUMPRODUCT((Tableau3[Nat]=Nuitées!$C36)*(I$3>=Tableau3[Arrivée])*(I$3<Tableau3[Départ]))","v":0},{"$f":"SUMPRODUCT((Tableau3[Nat]=Nuitées!$C36)*(J$3>=Tableau3[Arrivée])*(J$3<Tableau3[Départ]))","v":0},{"$f":"SUMPRODUCT((Tableau3[Nat]=Nuitées!$C36)*(K$3>=Tableau3[Arrivée])*(K$3<Tableau3[Départ]))","v":0},{"$f":"SUMPRODUCT((Tableau3[Nat]=Nuitées!$C36)*(L$3>=Tableau3[Arrivée])*(L$3<Tableau3[Départ]))","v":0},{"$f":"SUMPRODUCT((Tableau3[Nat]=Nuitées!$C36)*(M$3>=Tableau3[Arrivée])*(M$3<Tableau3[Départ]))","v":0},{"$f":"SUMPRODUCT((Tableau3[Nat]=Nuitées!$C36)*(N$3>=Tableau3[Arrivée])*(N$3<Tableau3[Départ]))","v":0},{"$f":"SUMPRODUCT((Tableau3[Nat]=Nuitées!$C36)*(O$3>=Tableau3[Arrivée])*(O$3<Tableau3[Départ]))","v":0},{"$f":"SUMPRODUCT((Tableau3[Nat]=Nuitées!$C36)*(P$3>=Tableau3[Arrivée])*(P$3<Tableau3[Départ]))","v":0},{"$f":"SUMPRODUCT((Tableau3[Nat]=Nuitées!$C36)*(Q$3>=Tableau3[Arrivée])*(Q$3<Tableau3[Départ]))","v":0},{"$f":"SUMPRODUCT((Tableau3[Nat]=Nuitées!$C36)*(R$3>=Tableau3[Arrivée])*(R$3<Tableau3[Départ]))","v":0},{"$f":"SUMPRODUCT((Tableau3[Nat]=Nuitées!$C36)*(S$3>=Tableau3[Arrivée])*(S$3<Tableau3[Départ]))","v":0},{"$f":"SUMPRODUCT((Tableau3[Nat]=Nuitées!$C36)*(T$3>=Tableau3[Arrivée])*(T$3<Tableau3[Départ]))","v":0},{"$f":"SUMPRODUCT((Tableau3[Nat]=Nuitées!$C36)*(U$3>=Tableau3[Arrivée])*(U$3<Tableau3[Départ]))","v":0},{"$f":"SUMPRODUCT((Tableau3[Nat]=Nuitées!$C36)*(V$3>=Tableau3[Arrivée])*(V$3<Tableau3[Départ]))","v":0},{"$f":"SUMPRODUCT((Tableau3[Nat]=Nuitées!$C36)*(W$3>=Tableau3[Arrivée])*(W$3<Tableau3[Départ]))","v":0},{"$f":"SUMPRODUCT((Tableau3[Nat]=Nuitées!$C36)*(X$3>=Tableau3[Arrivée])*(X$3<Tableau3[Départ]))","v":0},{"$f":"SUMPRODUCT((Tableau3[Nat]=Nuitées!$C36)*(Y$3>=Tableau3[Arrivée])*(Y$3<Tableau3[Départ]))","v":0},{"$f":"SUMPRODUCT((Tableau3[Nat]=Nuitées!$C36)*(Z$3>=Tableau3[Arrivée])*(Z$3<Tableau3[Départ]))","v":0},{"$f":"SUMPRODUCT((Tableau3[Nat]=Nuitées!$C36)*(AA$3>=Tableau3[Arrivée])*(AA$3<Tableau3[Départ]))","v":0},{"$f":"SUMPRODUCT((Tableau3[Nat]=Nuitées!$C36)*(AB$3>=Tableau3[Arrivée])*(AB$3<Tableau3[Départ]))","v":0},{"$f":"SUMPRODUCT((Tableau3[Nat]=Nuitées!$C36)*(AC$3>=Tableau3[Arrivée])*(AC$3<Tableau3[Départ]))","v":0},{"$f":"SUMPRODUCT((Tableau3[Nat]=Nuitées!$C36)*(AD$3>=Tableau3[Arrivée])*(AD$3<Tableau3[Départ]))","v":0},{"$f":"SUMPRODUCT((Tableau3[Nat]=Nuitées!$C36)*(AE$3>=Tableau3[Arrivée])*(AE$3<Tableau3[Départ]))","v":0},{"$f":"SUMPRODUCT((Tableau3[Nat]=Nuitées!$C36)*(AF$3>=Tableau3[Arrivée])*(AF$3<Tableau3[Départ]))","v":0},{"$f":"SUMPRODUCT((Tableau3[Nat]=Nuitées!$C36)*(AG$3>=Tableau3[Arrivée])*(AG$3<Tableau3[Départ]))","v":0},{"$f":"SUMPRODUCT((Tableau3[Nat]=Nuitées!$C36)*(AH$3>=Tableau3[Arrivée])*(AH$3<Tableau3[Départ]))","v":0},0]
[null,"Kuweit","KW",{"$f":"SUMPRODUCT((Tableau3[Nat]=Nuitées!$C37)*($D$3>=Tableau3[Arrivée])*($D$3<Tableau3[Départ]))","v":0},{"$f":"SUMPRODUCT((Tableau3[Nat]=Nuitées!$C37)*(E$3>=Tableau3[Arrivée])*(E$3<Tableau3[Départ]))","v":0},{"$f":"SUMPRODUCT((Tableau3[Nat]=Nuitées!$C37)*(F$3>=Tableau3[Arrivée])*(F$3<Tableau3[Départ]))","v":0},{"$f":"SUMPRODUCT((Tableau3[Nat]=Nuitées!$C37)*(G$3>=Tableau3[Arrivée])*(G$3<Tableau3[Départ]))","v":0},{"$f":"SUMPRODUCT((Tableau3[Nat]=Nuitées!$C37)*(H$3>=Tableau3[Arrivée])*(H$3<Tableau3[Départ]))","v":0},{"$f":"SUMPRODUCT((Tableau3[Nat]=Nuitées!$C37)*(I$3>=Tableau3[Arrivée])*(I$3<Tableau3[Départ]))","v":0},{"$f":"SUMPRODUCT((Tableau3[Nat]=Nuitées!$C37)*(J$3>=Tableau3[Arrivée])*(J$3<Tableau3[Départ]))","v":0},{"$f":"SUMPRODUCT((Tableau3[Nat]=Nuitées!$C37)*(K$3>=Tableau3[Arrivée])*(K$3<Tableau3[Départ]))","v":0},{"$f":"SUMPRODUCT((Tableau3[Nat]=Nuitées!$C37)*(L$3>=Tableau3[Arrivée])*(L$3<Tableau3[Départ]))","v":0},{"$f":"SUMPRODUCT((Tableau3[Nat]=Nuitées!$C37)*(M$3>=Tableau3[Arrivée])*(M$3<Tableau3[Départ]))","v":0},{"$f":"SUMPRODUCT((Tableau3[Nat]=Nuitées!$C37)*(N$3>=Tableau3[Arrivée])*(N$3<Tableau3[Départ]))","v":0},{"$f":"SUMPRODUCT((Tableau3[Nat]=Nuitées!$C37)*(O$3>=Tableau3[Arrivée])*(O$3<Tableau3[Départ]))","v":0},{"$f":"SUMPRODUCT((Tableau3[Nat]=Nuitées!$C37)*(P$3>=Tableau3[Arrivée])*(P$3<Tableau3[Départ]))","v":0},{"$f":"SUMPRODUCT((Tableau3[Nat]=Nuitées!$C37)*(Q$3>=Tableau3[Arrivée])*(Q$3<Tableau3[Départ]))","v":0},{"$f":"SUMPRODUCT((Tableau3[Nat]=Nuitées!$C37)*(R$3>=Tableau3[Arrivée])*(R$3<Tableau3[Départ]))","v":0},{"$f":"SUMPRODUCT((Tableau3[Nat]=Nuitées!$C37)*(S$3>=Tableau3[Arrivée])*(S$3<Tableau3[Départ]))","v":0},{"$f":"SUMPRODUCT((Tableau3[Nat]=Nuitées!$C37)*(T$3>=Tableau3[Arrivée])*(T$3<Tableau3[Départ]))","v":0},{"$f":"SUMPRODUCT((Tableau3[Nat]=Nuitées!$C37)*(U$3>=Tableau3[Arrivée])*(U$3<Tableau3[Départ]))","v":0},{"$f":"SUMPRODUCT((Tableau3[Nat]=Nuitées!$C37)*(V$3>=Tableau3[Arrivée])*(V$3<Tableau3[Départ]))","v":0},{"$f":"SUMPRODUCT((Tableau3[Nat]=Nuitées!$C37)*(W$3>=Tableau3[Arrivée])*(W$3<Tableau3[Départ]))","v":0},{"$f":"SUMPRODUCT((Tableau3[Nat]=Nuitées!$C37)*(X$3>=Tableau3[Arrivée])*(X$3<Tableau3[Départ]))","v":0},{"$f":"SUMPRODUCT((Tableau3[Nat]=Nuitées!$C37)*(Y$3>=Tableau3[Arrivée])*(Y$3<Tableau3[Départ]))","v":0},{"$f":"SUMPRODUCT((Tableau3[Nat]=Nuitées!$C37)*(Z$3>=Tableau3[Arrivée])*(Z$3<Tableau3[Départ]))","v":0},{"$f":"SUMPRODUCT((Tableau3[Nat]=Nuitées!$C37)*(AA$3>=Tableau3[Arrivée])*(AA$3<Tableau3[Départ]))","v":0},{"$f":"SUMPRODUCT((Tableau3[Nat]=Nuitées!$C37)*(AB$3>=Tableau3[Arrivée])*(AB$3<Tableau3[Départ]))","v":0},{"$f":"SUMPRODUCT((Tableau3[Nat]=Nuitées!$C37)*(AC$3>=Tableau3[Arrivée])*(AC$3<Tableau3[Départ]))","v":0},{"$f":"SUMPRODUCT((Tableau3[Nat]=Nuitées!$C37)*(AD$3>=Tableau3[Arrivée])*(AD$3<Tableau3[Départ]))","v":0},{"$f":"SUMPRODUCT((Tableau3[Nat]=Nuitées!$C37)*(AE$3>=Tableau3[Arrivée])*(AE$3<Tableau3[Départ]))","v":0},{"$f":"SUMPRODUCT((Tableau3[Nat]=Nuitées!$C37)*(AF$3>=Tableau3[Arrivée])*(AF$3<Tableau3[Départ]))","v":0},{"$f":"SUMPRODUCT((Tableau3[Nat]=Nuitées!$C37)*(AG$3>=Tableau3[Arrivée])*(AG$3<Tableau3[Départ]))","v":0},{"$f":"SUMPRODUCT((Tableau3[Nat]=Nuitées!$C37)*(AH$3>=Tableau3[Arrivée])*(AH$3<Tableau3[Départ]))","v":0},0]
[null,"Cameroun","CM",{"$f":"SUMPRODUCT((Tableau3[Nat]=Nuitées!$C38)*($D$3>=Tableau3[Arrivée])*($D$3<Tableau3[Départ]))","v":0},{"$f":"SUMPRODUCT((Tableau3[Nat]=Nuitées!$C38)*(E$3>=Tableau3[Arrivée])*(E$3<Tableau3[Départ]))","v":0},{"$f":"SUMPRODUCT((Tableau3[Nat]=Nuitées!$C38)*(F$3>=Tableau3[Arrivée])*(F$3<Tableau3[Départ]))","v":0},{"$f":"SUMPRODUCT((Tableau3[Nat]=Nuitées!$C38)*(G$3>=Tableau3[Arrivée])*(G$3<Tableau3[Départ]))","v":0},{"$f":"SUMPRODUCT((Tableau3[Nat]=Nuitées!$C38)*(H$3>=Tableau3[Arrivée])*(H$3<Tableau3[Départ]))","v":0},{"$f":"SUMPRODUCT((Tableau3[Nat]=Nuitées!$C38)*(I$3>=Tableau3[Arrivée])*(I$3<Tableau3[Départ]))","v":0},{"$f":"SUMPRODUCT((Tableau3[Nat]=Nuitées!$C38)*(J$3>=Tableau3[Arrivée])*(J$3<Tableau3[Départ]))","v":0},{"$f":"SUMPRODUCT((Tableau3[Nat]=Nuitées!$C38)*(K$3>=Tableau3[Arrivée])*(K$3<Tableau3[Départ]))","v":0},{"$f":"SUMPRODUCT((Tableau3[Nat]=Nuitées!$C38)*(L$3>=Tableau3[Arrivée])*(L$3<Tableau3[Départ]))","v":0},{"$f":"SUMPRODUCT((Tableau3[Nat]=Nuitées!$C38)*(M$3>=Tableau3[Arrivée])*(M$3<Tableau3[Départ]))","v":0},{"$f":"SUMPRODUCT((Tableau3[Nat]=Nuitées!$C38)*(N$3>=Tableau3[Arrivée])*(N$3<Tableau3[Départ]))","v":0},{"$f":"SUMPRODUCT((Tableau3[Nat]=Nuitées!$C38)*(O$3>=Tableau3[Arrivée])*(O$3<Tableau3[Départ]))","v":0},{"$f":"SUMPRODUCT((Tableau3[Nat]=Nuitées!$C38)*(P$3>=Tableau3[Arrivée])*(P$3<Tableau3[Départ]))","v":0},{"$f":"SUMPRODUCT((Tableau3[Nat]=Nuitées!$C38)*(Q$3>=Tableau3[Arrivée])*(Q$3<Tableau3[Départ]))","v":0},{"$f":"SUMPRODUCT((Tableau3[Nat]=Nuitées!$C38)*(R$3>=Tableau3[Arrivée])*(R$3<Tableau3[Départ]))","v":0},{"$f":"SUMPRODUCT((Tableau3[Nat]=Nuitées!$C38)*(S$3>=Tableau3[Arrivée])*(S$3<Tableau3[Départ]))","v":0},{"$f":"SUMPRODUCT((Tableau3[Nat]=Nuitées!$C38)*(T$3>=Tableau3[Arrivée])*(T$3<Tableau3[Départ]))","v":0},{"$f":"SUMPRODUCT((Tableau3[Nat]=Nuitées!$C38)*(U$3>=Tableau3[Arrivée])*(U$3<Tableau3[Départ]))","v":0},{"$f":"SUMPRODUCT((Tableau3[Nat]=Nuitées!$C38)*(V$3>=Tableau3[Arrivée])*(V$3<Tableau3[Départ]))","v":0},{"$f":"SUMPRODUCT((Tableau3[Nat]=Nuitées!$C38)*(W$3>=Tableau3[Arrivée])*(W$3<Tableau3[Départ]))","v":0},{"$f":"SUMPRODUCT((Tableau3[Nat]=Nuitées!$C38)*(X$3>=Tableau3[Arrivée])*(X$3<Tableau3[Départ]))","v":0},{"$f":"SUMPRODUCT((Tableau3[Nat]=Nuitées!$C38)*(Y$3>=Tableau3[Arrivée])*(Y$3<Tableau3[Départ]))","v":0},{"$f":"SUMPRODUCT((Tableau3[Nat]=Nuitées!$C38)*(Z$3>=Tableau3[Arrivée])*(Z$3<Tableau3[Départ]))","v":0},{"$f":"SUMPRODUCT((Tableau3[Nat]=Nuitées!$C38)*(AA$3>=Tableau3[Arrivée])*(AA$3<Tableau3[Départ]))","v":0},{"$f":"SUMPRODUCT((Tableau3[Nat]=Nuitées!$C38)*(AB$3>=Tableau3[Arrivée])*(AB$3<Tableau3[Départ]))","v":0},{"$f":"SUMPRODUCT((Tableau3[Nat]=Nuitées!$C38)*(AC$3>=Tableau3[Arrivée])*(AC$3<Tableau3[Départ]))","v":0},{"$f":"SUMPRODUCT((Tableau3[Nat]=Nuitées!$C38)*(AD$3>=Tableau3[Arrivée])*(AD$3<Tableau3[Départ]))","v":0},{"$f":"SUMPRODUCT((Tableau3[Nat]=Nuitées!$C38)*(AE$3>=Tableau3[Arrivée])*(AE$3<Tableau3[Départ]))","v":0},{"$f":"SUMPRODUCT((Tableau3[Nat]=Nuitées!$C38)*(AF$3>=Tableau3[Arrivée])*(AF$3<Tableau3[Départ]))","v":0},{"$f":"SUMPRODUCT((Tableau3[Nat]=Nuitées!$C38)*(AG$3>=Tableau3[Arrivée])*(AG$3<Tableau3[Départ]))","v":0},{"$f":"SUMPRODUCT((Tableau3[Nat]=Nuitées!$C38)*(AH$3>=Tableau3[Arrivée])*(AH$3<Tableau3[Départ]))","v":0},0]
[null,"Sénégal","SN",{"$f":"SUMPRODUCT((Tableau3[Nat]=Nuitées!$C39)*($D$3>=Tableau3[Arrivée])*($D$3<Tableau3[Départ]))","v":0},{"$f":"SUMPRODUCT((Tableau3[Nat]=Nuitées!$C39)*(E$3>=Tableau3[Arrivée])*(E$3<Tableau3[Départ]))","v":0},{"$f":"SUMPRODUCT((Tableau3[Nat]=Nuitées!$C39)*(F$3>=Tableau3[Arrivée])*(F$3<Tableau3[Départ]))","v":0},{"$f":"SUMPRODUCT((Tableau3[Nat]=Nuitées!$C39)*(G$3>=Tableau3[Arrivée])*(G$3<Tableau3[Départ]))","v":0},{"$f":"SUMPRODUCT((Tableau3[Nat]=Nuitées!$C39)*(H$3>=Tableau3[Arrivée])*(H$3<Tableau3[Départ]))","v":0},{"$f":"SUMPRODUCT((Tableau3[Nat]=Nuitées!$C39)*(I$3>=Tableau3[Arrivée])*(I$3<Tableau3[Départ]))","v":0},{"$f":"SUMPRODUCT((Tableau3[Nat]=Nuitées!$C39)*(J$3>=Tableau3[Arrivée])*(J$3<Tableau3[Départ]))","v":0},{"$f":"SUMPRODUCT((Tableau3[Nat]=Nuitées!$C39)*(K$3>=Tableau3[Arrivée])*(K$3<Tableau3[Départ]))","v":0},{"$f":"SUMPRODUCT((Tableau3[Nat]=Nuitées!$C39)*(L$3>=Tableau3[Arrivée])*(L$3<Tableau3[Départ]))","v":0},{"$f":"SUMPRODUCT((Tableau3[Nat]=Nuitées!$C39)*(M$3>=Tableau3[Arrivée])*(M$3<Tableau3[Départ]))","v":0},{"$f":"SUMPRODUCT((Tableau3[Nat]=Nuitées!$C39)*(N$3>=Tableau3[Arrivée])*(N$3<Tableau3[Départ]))","v":0},{"$f":"SUMPRODUCT((Tableau3[Nat]=Nuitées!$C39)*(O$3>=Tableau3[Arrivée])*(O$3<Tableau3[Départ]))","v":0},{"$f":"SUMPRODUCT((Tableau3[Nat]=Nuitées!$C39)*(P$3>=Tableau3[Arrivée])*(P$3<Tableau3[Départ]))","v":0},{"$f":"SUMPRODUCT((Tableau3[Nat]=Nuitées!$C39)*(Q$3>=Tableau3[Arrivée])*(Q$3<Tableau3[Départ]))","v":0},{"$f":"SUMPRODUCT((Tableau3[Nat]=Nuitées!$C39)*(R$3>=Tableau3[Arrivée])*(R$3<Tableau3[Départ]))","v":0},{"$f":"SUMPRODUCT((Tableau3[Nat]=Nuitées!$C39)*(S$3>=Tableau3[Arrivée])*(S$3<Tableau3[Départ]))","v":0},{"$f":"SUMPRODUCT((Tableau3[Nat]=Nuitées!$C39)*(T$3>=Tableau3[Arrivée])*(T$3<Tableau3[Départ]))","v":0},{"$f":"SUMPRODUCT((Tableau3[Nat]=Nuitées!$C39)*(U$3>=Tableau3[Arrivée])*(U$3<Tableau3[Départ]))","v":0},{"$f":"SUMPRODUCT((Tableau3[Nat]=Nuitées!$C39)*(V$3>=Tableau3[Arrivée])*(V$3<Tableau3[Départ]))","v":0},{"$f":"SUMPRODUCT((Tableau3[Nat]=Nuitées!$C39)*(W$3>=Tableau3[Arrivée])*(W$3<Tableau3[Départ]))","v":0},{"$f":"SUMPRODUCT((Tableau3[Nat]=Nuitées!$C39)*(X$3>=Tableau3[Arrivée])*(X$3<Tableau3[Départ]))","v":0},{"$f":"SUMPRODUCT((Tableau3[Nat]=Nuitées!$C39)*(Y$3>=Tableau3[Arrivée])*(Y$3<Tableau3[Départ]))","v":0},{"$f":"SUMPRODUCT((Tableau3[Nat]=Nuitées!$C39)*(Z$3>=Tableau3[Arrivée])*(Z$3<Tableau3[Départ]))","v":0},{"$f":"SUMPRODUCT((Tableau3[Nat]=Nuitées!$C39)*(AA$3>=Tableau3[Arrivée])*(AA$3<Tableau3[Départ]))","v":0},{"$f":"SUMPRODUCT((Tableau3[Nat]=Nuitées!$C39)*(AB$3>=Tableau3[Arrivée])*(AB$3<Tableau3[Départ]))","v":0},{"$f":"SUMPRODUCT((Tableau3[Nat]=Nuitées!$C39)*(AC$3>=Tableau3[Arrivée])*(AC$3<Tableau3[Départ]))","v":0},{"$f":"SUMPRODUCT((Tableau3[Nat]=Nuitées!$C39)*(AD$3>=Tableau3[Arrivée])*(AD$3<Tableau3[Départ]))","v":0},{"$f":"SUMPRODUCT((Tableau3[Nat]=Nuitées!$C39)*(AE$3>=Tableau3[Arrivée])*(AE$3<Tableau3[Départ]))","v":0},{"$f":"SUMPRODUCT((Tableau3[Nat]=Nuitées!$C39)*(AF$3>=Tableau3[Arrivée])*(AF$3<Tableau3[Départ]))","v":0},{"$f":"SUMPRODUCT((Tableau3[Nat]=Nuitées!$C39)*(AG$3>=Tableau3[Arrivée])*(AG$3<Tableau3[Départ]))","v":0},{"$f":"SUMPRODUCT((Tableau3[Nat]=Nuitées!$C39)*(AH$3>=Tableau3[Arrivée])*(AH$3<Tableau3[Départ]))","v":0},0]
[null,"Côte d'ivoire","CI",{"$f":"SUMPRODUCT((Tableau3[Nat]=Nuitées!$C40)*($D$3>=Tableau3[Arrivée])*($D$3<Tableau3[Départ]))","v":0},{"$f":"SUMPRODUCT((Tableau3[Nat]=Nuitées!$C40)*(E$3>=Tableau3[Arrivée])*(E$3<Tableau3[Départ]))","v":0},{"$f":"SUMPRODUCT((Tableau3[Nat]=Nuitées!$C40)*(F$3>=Tableau3[Arrivée])*(F$3<Tableau3[Départ]))","v":0},{"$f":"SUMPRODUCT((Tableau3[Nat]=Nuitées!$C40)*(G$3>=Tableau3[Arrivée])*(G$3<Tableau3[Départ]))","v":0},{"$f":"SUMPRODUCT((Tableau3[Nat]=Nuitées!$C40)*(H$3>=Tableau3[Arrivée])*(H$3<Tableau3[Départ]))","v":0},{"$f":"SUMPRODUCT((Tableau3[Nat]=Nuitées!$C40)*(I$3>=Tableau3[Arrivée])*(I$3<Tableau3[Départ]))","v":0},{"$f":"SUMPRODUCT((Tableau3[Nat]=Nuitées!$C40)*(J$3>=Tableau3[Arrivée])*(J$3<Tableau3[Départ]))","v":0},{"$f":"SUMPRODUCT((Tableau3[Nat]=Nuitées!$C40)*(K$3>=Tableau3[Arrivée])*(K$3<Tableau3[Départ]))","v":0},{"$f":"SUMPRODUCT((Tableau3[Nat]=Nuitées!$C40)*(L$3>=Tableau3[Arrivée])*(L$3<Tableau3[Départ]))","v":0},{"$f":"SUMPRODUCT((Tableau3[Nat]=Nuitées!$C40)*(M$3>=Tableau3[Arrivée])*(M$3<Tableau3[Départ]))","v":0},{"$f":"SUMPRODUCT((Tableau3[Nat]=Nuitées!$C40)*(N$3>=Tableau3[Arrivée])*(N$3<Tableau3[Départ]))","v":0},{"$f":"SUMPRODUCT((Tableau3[Nat]=Nuitées!$C40)*(O$3>=Tableau3[Arrivée])*(O$3<Tableau3[Départ]))","v":0},{"$f":"SUMPRODUCT((Tableau3[Nat]=Nuitées!$C40)*(P$3>=Tableau3[Arrivée])*(P$3<Tableau3[Départ]))","v":0},{"$f":"SUMPRODUCT((Tableau3[Nat]=Nuitées!$C40)*(Q$3>=Tableau3[Arrivée])*(Q$3<Tableau3[Départ]))","v":0},{"$f":"SUMPRODUCT((Tableau3[Nat]=Nuitées!$C40)*(R$3>=Tableau3[Arrivée])*(R$3<Tableau3[Départ]))","v":0},{"$f":"SUMPRODUCT((Tableau3[Nat]=Nuitées!$C40)*(S$3>=Tableau3[Arrivée])*(S$3<Tableau3[Départ]))","v":0},{"$f":"SUMPRODUCT((Tableau3[Nat]=Nuitées!$C40)*(T$3>=Tableau3[Arrivée])*(T$3<Tableau3[Départ]))","v":0},{"$f":"SUMPRODUCT((Tableau3[Nat]=Nuitées!$C40)*(U$3>=Tableau3[Arrivée])*(U$3<Tableau3[Départ]))","v":0},{"$f":"SUMPRODUCT((Tableau3[Nat]=Nuitées!$C40)*(V$3>=Tableau3[Arrivée])*(V$3<Tableau3[Départ]))","v":0},{"$f":"SUMPRODUCT((Tableau3[Nat]=Nuitées!$C40)*(W$3>=Tableau3[Arrivée])*(W$3<Tableau3[Départ]))","v":0},{"$f":"SUMPRODUCT((Tableau3[Nat]=Nuitées!$C40)*(X$3>=Tableau3[Arrivée])*(X$3<Tableau3[Départ]))","v":0},{"$f":"SUMPRODUCT((Tableau3[Nat]=Nuitées!$C40)*(Y$3>=Tableau3[Arrivée])*(Y$3<Tableau3[Départ]))","v":0},{"$f":"SUMPRODUCT((Tableau3[Nat]=Nuitées!$C40)*(Z$3>=Tableau3[Arrivée])*(Z$3<Tableau3[Départ]))","v":0},{"$f":"SUMPRODUCT((Tableau3[Nat]=Nuitées!$C40)*(AA$3>=Tableau3[Arrivée])*(AA$3<Tableau3[Départ]))","v":0},{"$f":"SUMPRODUCT((Tableau3[Nat]=Nuitées!$C40)*(AB$3>=Tableau3[Arrivée])*(AB$3<Tableau3[Départ]))","v":0},{"$f":"SUMPRODUCT((Tableau3[Nat]=Nuitées!$C40)*(AC$3>=Tableau3[Arrivée])*(AC$3<Tableau3[Départ]))","v":0},{"$f":"SUMPRODUCT((Tableau3[Nat]=Nuitées!$C40)*(AD$3>=Tableau3[Arrivée])*(AD$3<Tableau3[Départ]))","v":0},{"$f":"SUMPRODUCT((Tableau3[Nat]=Nuitées!$C40)*(AE$3>=Tableau3[Arrivée])*(AE$3<Tableau3[Départ]))","v":0},{"$f":"SUMPRODUCT((Tableau3[Nat]=Nuitées!$C40)*(AF$3>=Tableau3[Arrivée])*(AF$3<Tableau3[Départ]))","v":0},{"$f":"SUMPRODUCT((Tableau3[Nat]=Nuitées!$C40)*(AG$3>=Tableau3[Arrivée])*(AG$3<Tableau3[Départ]))","v":0},{"$f":"SUMPRODUCT((Tableau3[Nat]=Nuitées!$C40)*(AH$3>=Tableau3[Arrivée])*(AH$3<Tableau3[Départ]))","v":0},0]
[null,"Afrique","AF",{"$f":"SUMPRODUCT((Tableau3[Nat]=Nuitées!$C41)*($D$3>=Tableau3[Arrivée])*($D$3<Tableau3[Départ]))","v":0},{"$f":"SUMPRODUCT((Tableau3[Nat]=Nuitées!$C41)*(E$3>=Tableau3[Arrivée])*(E$3<Tableau3[Départ]))","v":0},{"$f":"SUMPRODUCT((Tableau3[Nat]=Nuitées!$C41)*(F$3>=Tableau3[Arrivée])*(F$3<Tableau3[Départ]))","v":0},{"$f":"SUMPRODUCT((Tableau3[Nat]=Nuitées!$C41)*(G$3>=Tableau3[Arrivée])*(G$3<Tableau3[Départ]))","v":0},{"$f":"SUMPRODUCT((Tableau3[Nat]=Nuitées!$C41)*(H$3>=Tableau3[Arrivée])*(H$3<Tableau3[Départ]))","v":0},{"$f":"SUMPRODUCT((Tableau3[Nat]=Nuitées!$C41)*(I$3>=Tableau3[Arrivée])*(I$3<Tableau3[Départ]))","v":0},{"$f":"SUMPRODUCT((Tableau3[Nat]=Nuitées!$C41)*(J$3>=Tableau3[Arrivée])*(J$3<Tableau3[Départ]))","v":0},{"$f":"SUMPRODUCT((Tableau3[Nat]=Nuitées!$C41)*(K$3>=Tableau3[Arrivée])*(K$3<Tableau3[Départ]))","v":0},{"$f":"SUMPRODUCT((Tableau3[Nat]=Nuitées!$C41)*(L$3>=Tableau3[Arrivée])*(L$3<Tableau3[Départ]))","v":0},{"$f":"SUMPRODUCT((Tableau3[Nat]=Nuitées!$C41)*(M$3>=Tableau3[Arrivée])*(M$3<Tableau3[Départ]))","v":0},{"$f":"SUMPRODUCT((Tableau3[Nat]=Nuitées!$C41)*(N$3>=Tableau3[Arrivée])*(N$3<Tableau3[Départ]))","v":0},{"$f":"SUMPRODUCT((Tableau3[Nat]=Nuitées!$C41)*(O$3>=Tableau3[Arrivée])*(O$3<Tableau3[Départ]))","v":0},{"$f":"SUMPRODUCT((Tableau3[Nat]=Nuitées!$C41)*(P$3>=Tableau3[Arrivée])*(P$3<Tableau3[Départ]))","v":0},{"$f":"SUMPRODUCT((Tableau3[Nat]=Nuitées!$C41)*(Q$3>=Tableau3[Arrivée])*(Q$3<Tableau3[Départ]))","v":0},{"$f":"SUMPRODUCT((Tableau3[Nat]=Nuitées!$C41)*(R$3>=Tableau3[Arrivée])*(R$3<Tableau3[Départ]))","v":0},{"$f":"SUMPRODUCT((Tableau3[Nat]=Nuitées!$C41)*(S$3>=Tableau3[Arrivée])*(S$3<Tableau3[Départ]))","v":0},{"$f":"SUMPRODUCT((Tableau3[Nat]=Nuitées!$C41)*(T$3>=Tableau3[Arrivée])*(T$3<Tableau3[Départ]))","v":0},{"$f":"SUMPRODUCT((Tableau3[Nat]=Nuitées!$C41)*(U$3>=Tableau3[Arrivée])*(U$3<Tableau3[Départ]))","v":0},{"$f":"SUMPRODUCT((Tableau3[Nat]=Nuitées!$C41)*(V$3>=Tableau3[Arrivée])*(V$3<Tableau3[Départ]))","v":0},{"$f":"SUMPRODUCT((Tableau3[Nat]=Nuitées!$C41)*(W$3>=Tableau3[Arrivée])*(W$3<Tableau3[Départ]))","v":0},{"$f":"SUMPRODUCT((Tableau3[Nat]=Nuitées!$C41)*(X$3>=Tableau3[Arrivée])*(X$3<Tableau3[Départ]))","v":0},{"$f":"SUMPRODUCT((Tableau3[Nat]=Nuitées!$C41)*(Y$3>=Tableau3[Arrivée])*(Y$3<Tableau3[Départ]))","v":0},{"$f":"SUMPRODUCT((Tableau3[Nat]=Nuitées!$C41)*(Z$3>=Tableau3[Arrivée])*(Z$3<Tableau3[Départ]))","v":0},{"$f":"SUMPRODUCT((Tableau3[Nat]=Nuitées!$C41)*(AA$3>=Tableau3[Arrivée])*(AA$3<Tableau3[Départ]))","v":0},{"$f":"SUMPRODUCT((Tableau3[Nat]=Nuitées!$C41)*(AB$3>=Tableau3[Arrivée])*(AB$3<Tableau3[Départ]))","v":0},{"$f":"SUMPRODUCT((Tableau3[Nat]=Nuitées!$C41)*(AC$3>=Tableau3[Arrivée])*(AC$3<Tableau3[Départ]))","v":0},{"$f":"SUMPRODUCT((Tableau3[Nat]=Nuitées!$C41)*(AD$3>=Tableau3[Arrivée])*(AD$3<Tableau3[Départ]))","v":0},{"$f":"SUMPRODUCT((Tableau3[Nat]=Nuitées!$C41)*(AE$3>=Tableau3[Arrivée])*(AE$3<Tableau3[Départ]))","v":0},{"$f":"SUMPRODUCT((Tableau3[Nat]=Nuitées!$C41)*(AF$3>=Tableau3[Arrivée])*(AF$3<Tableau3[Départ]))","v":0},{"$f":"SUMPRODUCT((Tableau3[Nat]=Nuitées!$C41)*(AG$3>=Tableau3[Arrivée])*(AG$3<Tableau3[Départ]))","v":0},{"$f":"SUMPRODUCT((Tableau3[Nat]=Nuitées!$C41)*(AH$3>=Tableau3[Arrivée])*(AH$3<Tableau3[Départ]))","v":0},0]
[null,"Brésil","BR",{"$f":"SUMPRODUCT((Tableau3[Nat]=Nuitées!$C42)*($D$3>=Tableau3[Arrivée])*($D$3<Tableau3[Départ]))","v":0},{"$f":"SUMPRODUCT((Tableau3[Nat]=Nuitées!$C42)*(E$3>=Tableau3[Arrivée])*(E$3<Tableau3[Départ]))","v":0},{"$f":"SUMPRODUCT((Tableau3[Nat]=Nuitées!$C42)*(F$3>=Tableau3[Arrivée])*(F$3<Tableau3[Départ]))","v":0},{"$f":"SUMPRODUCT((Tableau3[Nat]=Nuitées!$C42)*(G$3>=Tableau3[Arrivée])*(G$3<Tableau3[Départ]))","v":0},{"$f":"SUMPRODUCT((Tableau3[Nat]=Nuitées!$C42)*(H$3>=Tableau3[Arrivée])*(H$3<Tableau3[Départ]))","v":0},{"$f":"SUMPRODUCT((Tableau3[Nat]=Nuitées!$C42)*(I$3>=Tableau3[Arrivée])*(I$3<Tableau3[Départ]))","v":0},{"$f":"SUMPRODUCT((Tableau3[Nat]=Nuitées!$C42)*(J$3>=Tableau3[Arrivée])*(J$3<Tableau3[Départ]))","v":0},{"$f":"SUMPRODUCT((Tableau3[Nat]=Nuitées!$C42)*(K$3>=Tableau3[Arrivée])*(K$3<Tableau3[Départ]))","v":0},{"$f":"SUMPRODUCT((Tableau3[Nat]=Nuitées!$C42)*(L$3>=Tableau3[Arrivée])*(L$3<Tableau3[Départ]))","v":0},{"$f":"SUMPRODUCT((Tableau3[Nat]=Nuitées!$C42)*(M$3>=Tableau3[Arrivée])*(M$3<Tableau3[Départ]))","v":0},{"$f":"SUMPRODUCT((Tableau3[Nat]=Nuitées!$C42)*(N$3>=Tableau3[Arrivée])*(N$3<Tableau3[Départ]))","v":0},{"$f":"SUMPRODUCT((Tableau3[Nat]=Nuitées!$C42)*(O$3>=Tableau3[Arrivée])*(O$3<Tableau3[Départ]))","v":0},{"$f":"SUMPRODUCT((Tableau3[Nat]=Nuitées!$C42)*(P$3>=Tableau3[Arrivée])*(P$3<Tableau3[Départ]))","v":0},{"$f":"SUMPRODUCT((Tableau3[Nat]=Nuitées!$C42)*(Q$3>=Tableau3[Arrivée])*(Q$3<Tableau3[Départ]))","v":0},{"$f":"SUMPRODUCT((Tableau3[Nat]=Nuitées!$C42)*(R$3>=Tableau3[Arrivée])*(R$3<Tableau3[Départ]))","v":0},{"$f":"SUMPRODUCT((Tableau3[Nat]=Nuitées!$C42)*(S$3>=Tableau3[Arrivée])*(S$3<Tableau3[Départ]))","v":0},{"$f":"SUMPRODUCT((Tableau3[Nat]=Nuitées!$C42)*(T$3>=Tableau3[Arrivée])*(T$3<Tableau3[Départ]))","v":0},{"$f":"SUMPRODUCT((Tableau3[Nat]=Nuitées!$C42)*(U$3>=Tableau3[Arrivée])*(U$3<Tableau3[Départ]))","v":0},{"$f":"SUMPRODUCT((Tableau3[Nat]=Nuitées!$C42)*(V$3>=Tableau3[Arrivée])*(V$3<Tableau3[Départ]))","v":0},{"$f":"SUMPRODUCT((Tableau3[Nat]=Nuitées!$C42)*(W$3>=Tableau3[Arrivée])*(W$3<Tableau3[Départ]))","v":0},{"$f":"SUMPRODUCT((Tableau3[Nat]=Nuitées!$C42)*(X$3>=Tableau3[Arrivée])*(X$3<Tableau3[Départ]))","v":0},{"$f":"SUMPRODUCT((Tableau3[Nat]=Nuitées!$C42)*(Y$3>=Tableau3[Arrivée])*(Y$3<Tableau3[Départ]))","v":0},{"$f":"SUMPRODUCT((Tableau3[Nat]=Nuitées!$C42)*(Z$3>=Tableau3[Arrivée])*(Z$3<Tableau3[Départ]))","v":0},{"$f":"SUMPRODUCT((Tableau3[Nat]=Nuitées!$C42)*(AA$3>=Tableau3[Arrivée])*(AA$3<Tableau3[Départ]))","v":0},{"$f":"SUMPRODUCT((Tableau3[Nat]=Nuitées!$C42)*(AB$3>=Tableau3[Arrivée])*(AB$3<Tableau3[Départ]))","v":0},{"$f":"SUMPRODUCT((Tableau3[Nat]=Nuitées!$C42)*(AC$3>=Tableau3[Arrivée])*(AC$3<Tableau3[Départ]))","v":0},{"$f":"SUMPRODUCT((Tableau3[Nat]=Nuitées!$C42)*(AD$3>=Tableau3[Arrivée])*(AD$3<Tableau3[Départ]))","v":0},{"$f":"SUMPRODUCT((Tableau3[Nat]=Nuitées!$C42)*(AE$3>=Tableau3[Arrivée])*(AE$3<Tableau3[Départ]))","v":0},{"$f":"SUMPRODUCT((Tableau3[Nat]=Nuitées!$C42)*(AF$3>=Tableau3[Arrivée])*(AF$3<Tableau3[Départ]))","v":0},{"$f":"SUMPRODUCT((Tableau3[Nat]=Nuitées!$C42)*(AG$3>=Tableau3[Arrivée])*(AG$3<Tableau3[Départ]))","v":0},{"$f":"SUMPRODUCT((Tableau3[Nat]=Nuitées!$C42)*(AH$3>=Tableau3[Arrivée])*(AH$3<Tableau3[Départ]))","v":0},0]
[null,"Total Arrivée Mensuel",null,{"$f":"SUM(D4:D42)","v":0},{"$f":"SUM(E4:E42)","v":0},1,1,1,1,0,0,0,0,0,0,0,0,0,0,0,0,0,0,0,0,0,0,0,0,0,0,0,0,0,{"$f":"SUM(D43:AH43)","v":4}]
[null,"Chambre Occupées",null,{"$f":"Chb_Occ!D69","v":0},{"$f":"Chb_Occ!E69","v":0},{"$f":"Chb_Occ!F69","v":1},{"$f":"Chb_Occ!G69","v":1},{"$f":"Chb_Occ!H69","v":1},{"$f":"Chb_Occ!I69","v":1},{"$f":"Chb_Occ!J69","v":0},{"$f":"Chb_Occ!K69","v":0},{"$f":"Chb_Occ!L69","v":0},{"$f":"Chb_Occ!M69","v":0},{"$f":"Chb_Occ!N69","v":0},{"$f":"Chb_Occ!O69","v":0},{"$f":"Chb_Occ!P69","v":0},{"$f":"Chb_Occ!Q69","v":0},{"$f":"Chb_Occ!R69","v":0},{"$f":"Chb_Occ!S69","v":0},{"$f":"Chb_Occ!T69","v":0},{"$f":"Chb_Occ!U69","v":0},{"$f":"Chb_Occ!V69","v":0},{"$f":"Chb_Occ!W69","v":0},{"$f":"Chb_Occ!X69","v":0},{"$f":"Chb_Occ!Y69","v":0},{"$f":"Chb_Occ!Z69","v":0},{"$f":"Chb_Occ!AA69","v":0},{"$f":"Chb_Occ!AB69","v":0},{"$f":"Chb_Occ!AC69","v":0},{"$f":"Chb_Occ!AD69","v":0},{"$f":"Chb_Occ!AE69","v":0},{"$f":"Chb_Occ!AF69","v":0},{"$f":"Chb_Occ!AG69","v":0},{"$f":"Chb_Occ!AH69","v":0},{"$f":"SUM(D44:AH44)","v":4}]

{"sheet":"Chb_Occ","index":4,"n_rows":69,"n_cols":35,"rows_kept":69,"cut":false,"hidden":false,"merged":[[68,1,68,2],[1,1,1,2]]}
[]
[null,{"$f":"D3","v":"2019-06-01"}]
[null,"Type","N° Chb",{"$f":"Nuitées!D3","v":"2019-06-01"},{"$f":"Nuitées!E3","v":"2019-06-02"},{"$f":"Nuitées!F3","v":"2019-06-03"},{"$f":"Nuitées!G3","v":"2019-06-04"},{"$f":"Nuitées!H3","v":"2019-06-05"},{"$f":"Nuitées!I3","v":"2019-06-06"},{"$f":"Nuitées!J3","v":"2019-06-07"},{"$f":"Nuitées!K3","v":"2019-06-08"},{"$f":"Nuitées!L3","v":"2019-06-09"},{"$f":"Nuitées!M3","v":"2019-06-10"},{"$f":"Nuitées!N3","v":"2019-06-11"},{"$f":"Nuitées!O3","v":"2019-06-12"},{"$f":"Nuitées!P3","v":"2019-06-13"},{"$f":"Nuitées!Q3","v":"2019-06-14"},{"$f":"Nuitées!R3","v":"2019-06-15"},{"$f":"Nuitées!S3","v":"2019-06-16"},{"$f":"Nuitées!T3","v":"2019-06-17"},{"$f":"Nuitées!U3","v":"2019-06-18"},{"$f":"Nuitées!V3","v":"2019-06-19"},{"$f":"Nuitées!W3","v":"2019-06-20"},{"$f":"Nuitées!X3","v":"2019-06-21"},{"$f":"Nuitées!Y3","v":"2019-06-22"},{"$f":"Nuitées!Z3","v":"2019-06-23"},{"$f":"Nuitées!AA3","v":"2019-06-24"},{"$f":"Nuitées!AB3","v":"2019-06-25"},{"$f":"Nuitées!AC3","v":"2019-06-26"},{"$f":"Nuitées!AD3","v":"2019-06-27"},{"$f":"Nuitées!AE3","v":"2019-06-28"},{"$f":"Nuitées!AF3","v":"2019-06-29"},{"$f":"Nuitées!AG3","v":"2019-06-30"},{"$f":"Nuitées!AH3","v":""},"Total"]
[null,"Twin",101,{"$f":"SUMPRODUCT((D$3>=Tableau3[Arrivée])*(D$3<Tableau3[Départ])*(Tableau3[Chb]=$C4))","v":0},{"$f":"SUMPRODUCT((E$3>=Tableau3[Arrivée])*(E$3<Tableau3[Départ])*(Tableau3[Chb]=$C4))","v":0},{"$f":"SUMPRODUCT((F$3>=Tableau3[Arrivée])*(F$3<Tableau3[Départ])*(Tableau3[Chb]=$C4))","v":0},{"$f":"SUMPRODUCT((G$3>=Tableau3[Arrivée])*(G$3<Tableau3[Départ])*(Tableau3[Chb]=$C4))","v":0},{"$f":"SUMPRODUCT((H$3>=Tableau3[Arrivée])*(H$3<Tableau3[Départ])*(Tableau3[Chb]=$C4))","v":0},{"$f":"SUMPRODUCT((I$3>=Tableau3[Arrivée])*(I$3<Tableau3[Départ])*(Tableau3[Chb]=$C4))","v":0},{"$f":"SUMPRODUCT((J$3>=Tableau3[Arrivée])*(J$3<Tableau3[Départ])*(Tableau3[Chb]=$C4))","v":0},{"$f":"SUMPRODUCT((K$3>=Tableau3[Arrivée])*(K$3<Tableau3[Départ])*(Tableau3[Chb]=$C4))","v":0},{"$f":"SUMPRODUCT((L$3>=Tableau3[Arrivée])*(L$3<Tableau3[Départ])*(Tableau3[Chb]=$C4))","v":0},{"$f":"SUMPRODUCT((M$3>=Tableau3[Arrivée])*(M$3<Tableau3[Départ])*(Tableau3[Chb]=$C4))","v":0},{"$f":"SUMPRODUCT((N$3>=Tableau3[Arrivée])*(N$3<Tableau3[Départ])*(Tableau3[Chb]=$C4))","v":0},{"$f":"SUMPRODUCT((O$3>=Tableau3[Arrivée])*(O$3<Tableau3[Départ])*(Tableau3[Chb]=$C4))","v":0},{"$f":"SUMPRODUCT((P$3>=Tableau3[Arrivée])*(P$3<Tableau3[Départ])*(Tableau3[Chb]=$C4))","v":0},{"$f":"SUMPRODUCT((Q$3>=Tableau3[Arrivée])*(Q$3<Tableau3[Départ])*(Tableau3[Chb]=$C4))","v":0},{"$f":"SUMPRODUCT((R$3>=Tableau3[Arrivée])*(R$3<Tableau3[Départ])*(Tableau3[Chb]=$C4))","v":0},{"$f":"SUMPRODUCT((S$3>=Tableau3[Arrivée])*(S$3<Tableau3[Départ])*(Tableau3[Chb]=$C4))","v":0},{"$f":"SUMPRODUCT((T$3>=Tableau3[Arrivée])*(T$3<Tableau3[Départ])*(Tableau3[Chb]=$C4))","v":0},{"$f":"SUMPRODUCT((U$3>=Tableau3[Arrivée])*(U$3<Tableau3[Départ])*(Tableau3[Chb]=$C4))","v":0},{"$f":"SUMPRODUCT((V$3>=Tableau3[Arrivée])*(V$3<Tableau3[Départ])*(Tableau3[Chb]=$C4))","v":0},{"$f":"SUMPRODUCT((W$3>=Tableau3[Arrivée])*(W$3<Tableau3[Départ])*(Tableau3[Chb]=$C4))","v":0},{"$f":"SUMPRODUCT((X$3>=Tableau3[Arrivée])*(X$3<Tableau3[Départ])*(Tableau3[Chb]=$C4))","v":0},{"$f":"SUMPRODUCT((Y$3>=Tableau3[Arrivée])*(Y$3<Tableau3[Départ])*(Tableau3[Chb]=$C4))","v":0},{"$f":"SUMPRODUCT((Z$3>=Tableau3[Arrivée])*(Z$3<Tableau3[Départ])*(Tableau3[Chb]=$C4))","v":0},{"$f":"SUMPRODUCT((AA$3>=Tableau3[Arrivée])*(AA$3<Tableau3[Départ])*(Tableau3[Chb]=$C4))","v":0},{"$f":"SUMPRODUCT((AB$3>=Tableau3[Arrivée])*(AB$3<Tableau3[Départ])*(Tableau3[Chb]=$C4))","v":0},{"$f":"SUMPRODUCT((AC$3>=Tableau3[Arrivée])*(AC$3<Tableau3[Départ])*(Tableau3[Chb]=$C4))","v":0},{"$f":"SUMPRODUCT((AD$3>=Tableau3[Arrivée])*(AD$3<Tableau3[Départ])*(Tableau3[Chb]=$C4))","v":0},{"$f":"SUMPRODUCT((AE$3>=Tableau3[Arrivée])*(AE$3<Tableau3[Départ])*(Tableau3[Chb]=$C4))","v":0},{"$f":"SUMPRODUCT((AF$3>=Tableau3[Arrivée])*(AF$3<Tableau3[Départ])*(Tableau3[Chb]=$C4))","v":0},{"$f":"SUMPRODUCT((AG$3>=Tableau3[Arrivée])*(AG$3<Tableau3[Départ])*(Tableau3[Chb]=$C4))","v":0},{"$f":"SUMPRODUCT((AH$3>=Tableau3[Arrivée])*(AH$3<Tableau3[Départ])*(Tableau3[Chb]=$C4))","v":0},{"$f":"COUNTIF(D4:AH4,\">0\")","v":0}]
[null,"Single",102,{"$f":"SUMPRODUCT((D$3>=Tableau3[Arrivée])*(D$3<Tableau3[Départ])*(Tableau3[Chb]=$C5))","v":0},{"$f":"SUMPRODUCT((E$3>=Tableau3[Arrivée])*(E$3<Tableau3[Départ])*(Tableau3[Chb]=$C5))","v":0},{"$f":"SUMPRODUCT((F$3>=Tableau3[Arrivée])*(F$3<Tableau3[Départ])*(Tableau3[Chb]=$C5))","v":0},{"$f":"SUMPRODUCT((G$3>=Tableau3[Arrivée])*(G$3<Tableau3[Départ])*(Tableau3[Chb]=$C5))","v":0},{"$f":"SUMPRODUCT((H$3>=Tableau3[Arrivée])*(H$3<Tableau3[Départ])*(Tableau3[Chb]=$C5))","v":0},{"$f":"SUMPRODUCT((I$3>=Tableau3[Arrivée])*(I$3<Tableau3[Départ])*(Tableau3[Chb]=$C5))","v":0},{"$f":"SUMPRODUCT((J$3>=Tableau3[Arrivée])*(J$3<Tableau3[Départ])*(Tableau3[Chb]=$C5))","v":0},{"$f":"SUMPRODUCT((K$3>=Tableau3[Arrivée])*(K$3<Tableau3[Départ])*(Tableau3[Chb]=$C5))","v":0},{"$f":"SUMPRODUCT((L$3>=Tableau3[Arrivée])*(L$3<Tableau3[Départ])*(Tableau3[Chb]=$C5))","v":0},{"$f":"SUMPRODUCT((M$3>=Tableau3[Arrivée])*(M$3<Tableau3[Départ])*(Tableau3[Chb]=$C5))","v":0},{"$f":"SUMPRODUCT((N$3>=Tableau3[Arrivée])*(N$3<Tableau3[Départ])*(Tableau3[Chb]=$C5))","v":0},{"$f":"SUMPRODUCT((O$3>=Tableau3[Arrivée])*(O$3<Tableau3[Départ])*(Tableau3[Chb]=$C5))","v":0},{"$f":"SUMPRODUCT((P$3>=Tableau3[Arrivée])*(P$3<Tableau3[Départ])*(Tableau3[Chb]=$C5))","v":0},{"$f":"SUMPRODUCT((Q$3>=Tableau3[Arrivée])*(Q$3<Tableau3[Départ])*(Tableau3[Chb]=$C5))","v":0},{"$f":"SUMPRODUCT((R$3>=Tableau3[Arrivée])*(R$3<Tableau3[Départ])*(Tableau3[Chb]=$C5))","v":0},{"$f":"SUMPRODUCT((S$3>=Tableau3[Arrivée])*(S$3<Tableau3[Départ])*(Tableau3[Chb]=$C5))","v":0},{"$f":"SUMPRODUCT((T$3>=Tableau3[Arrivée])*(T$3<Tableau3[Départ])*(Tableau3[Chb]=$C5))","v":0},{"$f":"SUMPRODUCT((U$3>=Tableau3[Arrivée])*(U$3<Tableau3[Départ])*(Tableau3[Chb]=$C5))","v":0},{"$f":"SUMPRODUCT((V$3>=Tableau3[Arrivée])*(V$3<Tableau3[Départ])*(Tableau3[Chb]=$C5))","v":0},{"$f":"SUMPRODUCT((W$3>=Tableau3[Arrivée])*(W$3<Tableau3[Départ])*(Tableau3[Chb]=$C5))","v":0},{"$f":"SUMPRODUCT((X$3>=Tableau3[Arrivée])*(X$3<Tableau3[Départ])*(Tableau3[Chb]=$C5))","v":0},{"$f":"SUMPRODUCT((Y$3>=Tableau3[Arrivée])*(Y$3<Tableau3[Départ])*(Tableau3[Chb]=$C5))","v":0},{"$f":"SUMPRODUCT((Z$3>=Tableau3[Arrivée])*(Z$3<Tableau3[Départ])*(Tableau3[Chb]=$C5))","v":0},{"$f":"SUMPRODUCT((AA$3>=Tableau3[Arrivée])*(AA$3<Tableau3[Départ])*(Tableau3[Chb]=$C5))","v":0},{"$f":"SUMPRODUCT((AB$3>=Tableau3[Arrivée])*(AB$3<Tableau3[Départ])*(Tableau3[Chb]=$C5))","v":0},{"$f":"SUMPRODUCT((AC$3>=Tableau3[Arrivée])*(AC$3<Tableau3[Départ])*(Tableau3[Chb]=$C5))","v":0},{"$f":"SUMPRODUCT((AD$3>=Tableau3[Arrivée])*(AD$3<Tableau3[Départ])*(Tableau3[Chb]=$C5))","v":0},{"$f":"SUMPRODUCT((AE$3>=Tableau3[Arrivée])*(AE$3<Tableau3[Départ])*(Tableau3[Chb]=$C5))","v":0},{"$f":"SUMPRODUCT((AF$3>=Tableau3[Arrivée])*(AF$3<Tableau3[Départ])*(Tableau3[Chb]=$C5))","v":0},{"$f":"SUMPRODUCT((AG$3>=Tableau3[Arrivée])*(AG$3<Tableau3[Départ])*(Tableau3[Chb]=$C5))","v":0},{"$f":"SUMPRODUCT((AH$3>=Tableau3[Arrivée])*(AH$3<Tableau3[Départ])*(Tableau3[Chb]=$C5))","v":0},{"$f":"COUNTIF(D5:AH5,\">0\")","v":0}]
[null,"Single",103,{"$f":"SUMPRODUCT((D$3>=Tableau3[Arrivée])*(D$3<Tableau3[Départ])*(Tableau3[Chb]=$C6))","v":0},{"$f":"SUMPRODUCT((E$3>=Tableau3[Arrivée])*(E$3<Tableau3[Départ])*(Tableau3[Chb]=$C6))","v":0},{"$f":"SUMPRODUCT((F$3>=Tableau3[Arrivée])*(F$3<Tableau3[Départ])*(Tableau3[Chb]=$C6))","v":0},{"$f":"SUMPRODUCT((G$3>=Tableau3[Arrivée])*(G$3<Tableau3[Départ])*(Tableau3[Chb]=$C6))","v":0},{"$f":"SUMPRODUCT((H$3>=Tableau3[Arrivée])*(H$3<Tableau3[Départ])*(Tableau3[Chb]=$C6))","v":0},{"$f":"SUMPRODUCT((I$3>=Tableau3[Arrivée])*(I$3<Tableau3[Départ])*(Tableau3[Chb]=$C6))","v":0},{"$f":"SUMPRODUCT((J$3>=Tableau3[Arrivée])*(J$3<Tableau3[Départ])*(Tableau3[Chb]=$C6))","v":0},{"$f":"SUMPRODUCT((K$3>=Tableau3[Arrivée])*(K$3<Tableau3[Départ])*(Tableau3[Chb]=$C6))","v":0},{"$f":"SUMPRODUCT((L$3>=Tableau3[Arrivée])*(L$3<Tableau3[Départ])*(Tableau3[Chb]=$C6))","v":0},{"$f":"SUMPRODUCT((M$3>=Tableau3[Arrivée])*(M$3<Tableau3[Départ])*(Tableau3[Chb]=$C6))","v":0},{"$f":"SUMPRODUCT((N$3>=Tableau3[Arrivée])*(N$3<Tableau3[Départ])*(Tableau3[Chb]=$C6))","v":0},{"$f":"SUMPRODUCT((O$3>=Tableau3[Arrivée])*(O$3<Tableau3[Départ])*(Tableau3[Chb]=$C6))","v":0},{"$f":"SUMPRODUCT((P$3>=Tableau3[Arrivée])*(P$3<Tableau3[Départ])*(Tableau3[Chb]=$C6))","v":0},{"$f":"SUMPRODUCT((Q$3>=Tableau3[Arrivée])*(Q$3<Tableau3[Départ])*(Tableau3[Chb]=$C6))","v":0},{"$f":"SUMPRODUCT((R$3>=Tableau3[Arrivée])*(R$3<Tableau3[Départ])*(Tableau3[Chb]=$C6))","v":0},{"$f":"SUMPRODUCT((S$3>=Tableau3[Arrivée])*(S$3<Tableau3[Départ])*(Tableau3[Chb]=$C6))","v":0},{"$f":"SUMPRODUCT((T$3>=Tableau3[Arrivée])*(T$3<Tableau3[Départ])*(Tableau3[Chb]=$C6))","v":0},{"$f":"SUMPRODUCT((U$3>=Tableau3[Arrivée])*(U$3<Tableau3[Départ])*(Tableau3[Chb]=$C6))","v":0},{"$f":"SUMPRODUCT((V$3>=Tableau3[Arrivée])*(V$3<Tableau3[Départ])*(Tableau3[Chb]=$C6))","v":0},{"$f":"SUMPRODUCT((W$3>=Tableau3[Arrivée])*(W$3<Tableau3[Départ])*(Tableau3[Chb]=$C6))","v":0},{"$f":"SUMPRODUCT((X$3>=Tableau3[Arrivée])*(X$3<Tableau3[Départ])*(Tableau3[Chb]=$C6))","v":0},{"$f":"SUMPRODUCT((Y$3>=Tableau3[Arrivée])*(Y$3<Tableau3[Départ])*(Tableau3[Chb]=$C6))","v":0},{"$f":"SUMPRODUCT((Z$3>=Tableau3[Arrivée])*(Z$3<Tableau3[Départ])*(Tableau3[Chb]=$C6))","v":0},{"$f":"SUMPRODUCT((AA$3>=Tableau3[Arrivée])*(AA$3<Tableau3[Départ])*(Tableau3[Chb]=$C6))","v":0},{"$f":"SUMPRODUCT((AB$3>=Tableau3[Arrivée])*(AB$3<Tableau3[Départ])*(Tableau3[Chb]=$C6))","v":0},{"$f":"SUMPRODUCT((AC$3>=Tableau3[Arrivée])*(AC$3<Tableau3[Départ])*(Tableau3[Chb]=$C6))","v":0},{"$f":"SUMPRODUCT((AD$3>=Tableau3[Arrivée])*(AD$3<Tableau3[Départ])*(Tableau3[Chb]=$C6))","v":0},{"$f":"SUMPRODUCT((AE$3>=Tableau3[Arrivée])*(AE$3<Tableau3[Départ])*(Tableau3[Chb]=$C6))","v":0},{"$f":"SUMPRODUCT((AF$3>=Tableau3[Arrivée])*(AF$3<Tableau3[Départ])*(Tableau3[Chb]=$C6))","v":0},{"$f":"SUMPRODUCT((AG$3>=Tableau3[Arrivée])*(AG$3<Tableau3[Départ])*(Tableau3[Chb]=$C6))","v":0},{"$f":"SUMPRODUCT((AH$3>=Tableau3[Arrivée])*(AH$3<Tableau3[Départ])*(Tableau3[Chb]=$C6))","v":0},0]
[null,"Single",104,{"$f":"SUMPRODUCT((D$3>=Tableau3[Arrivée])*(D$3<Tableau3[Départ])*(Tableau3[Chb]=$C7))","v":0},{"$f":"SUMPRODUCT((E$3>=Tableau3[Arrivée])*(E$3<Tableau3[Départ])*(Tableau3[Chb]=$C7))","v":0},{"$f":"SUMPRODUCT((F$3>=Tableau3[Arrivée])*(F$3<Tableau3[Départ])*(Tableau3[Chb]=$C7))","v":0},{"$f":"SUMPRODUCT((G$3>=Tableau3[Arrivée])*(G$3<Tableau3[Départ])*(Tableau3[Chb]=$C7))","v":0},{"$f":"SUMPRODUCT((H$3>=Tableau3[Arrivée])*(H$3<Tableau3[Départ])*(Tableau3[Chb]=$C7))","v":0},{"$f":"SUMPRODUCT((I$3>=Tableau3[Arrivée])*(I$3<Tableau3[Départ])*(Tableau3[Chb]=$C7))","v":0},{"$f":"SUMPRODUCT((J$3>=Tableau3[Arrivée])*(J$3<Tableau3[Départ])*(Tableau3[Chb]=$C7))","v":0},{"$f":"SUMPRODUCT((K$3>=Tableau3[Arrivée])*(K$3<Tableau3[Départ])*(Tableau3[Chb]=$C7))","v":0},{"$f":"SUMPRODUCT((L$3>=Tableau3[Arrivée])*(L$3<Tableau3[Départ])*(Tableau3[Chb]=$C7))","v":0},{"$f":"SUMPRODUCT((M$3>=Tableau3[Arrivée])*(M$3<Tableau3[Départ])*(Tableau3[Chb]=$C7))","v":0},{"$f":"SUMPRODUCT((N$3>=Tableau3[Arrivée])*(N$3<Tableau3[Départ])*(Tableau3[Chb]=$C7))","v":0},{"$f":"SUMPRODUCT((O$3>=Tableau3[Arrivée])*(O$3<Tableau3[Départ])*(Tableau3[Chb]=$C7))","v":0},{"$f":"SUMPRODUCT((P$3>=Tableau3[Arrivée])*(P$3<Tableau3[Départ])*(Tableau3[Chb]=$C7))","v":0},{"$f":"SUMPRODUCT((Q$3>=Tableau3[Arrivée])*(Q$3<Tableau3[Départ])*(Tableau3[Chb]=$C7))","v":0},{"$f":"SUMPRODUCT((R$3>=Tableau3[Arrivée])*(R$3<Tableau3[Départ])*(Tableau3[Chb]=$C7))","v":0},{"$f":"SUMPRODUCT((S$3>=Tableau3[Arrivée])*(S$3<Tableau3[Départ])*(Tableau3[Chb]=$C7))","v":0},{"$f":"SUMPRODUCT((T$3>=Tableau3[Arrivée])*(T$3<Tableau3[Départ])*(Tableau3[Chb]=$C7))","v":0},{"$f":"SUMPRODUCT((U$3>=Tableau3[Arrivée])*(U$3<Tableau3[Départ])*(Tableau3[Chb]=$C7))","v":0},{"$f":"SUMPRODUCT((V$3>=Tableau3[Arrivée])*(V$3<Tableau3[Départ])*(Tableau3[Chb]=$C7))","v":0},{"$f":"SUMPRODUCT((W$3>=Tableau3[Arrivée])*(W$3<Tableau3[Départ])*(Tableau3[Chb]=$C7))","v":0},{"$f":"SUMPRODUCT((X$3>=Tableau3[Arrivée])*(X$3<Tableau3[Départ])*(Tableau3[Chb]=$C7))","v":0},{"$f":"SUMPRODUCT((Y$3>=Tableau3[Arrivée])*(Y$3<Tableau3[Départ])*(Tableau3[Chb]=$C7))","v":0},{"$f":"SUMPRODUCT((Z$3>=Tableau3[Arrivée])*(Z$3<Tableau3[Départ])*(Tableau3[Chb]=$C7))","v":0},{"$f":"SUMPRODUCT((AA$3>=Tableau3[Arrivée])*(AA$3<Tableau3[Départ])*(Tableau3[Chb]=$C7))","v":0},{"$f":"SUMPRODUCT((AB$3>=Tableau3[Arrivée])*(AB$3<Tableau3[Départ])*(Tableau3[Chb]=$C7))","v":0},{"$f":"SUMPRODUCT((AC$3>=Tableau3[Arrivée])*(AC$3<Tableau3[Départ])*(Tableau3[Chb]=$C7))","v":0},{"$f":"SUMPRODUCT((AD$3>=Tableau3[Arrivée])*(AD$3<Tableau3[Départ])*(Tableau3[Chb]=$C7))","v":0},{"$f":"SUMPRODUCT((AE$3>=Tableau3[Arrivée])*(AE$3<Tableau3[Départ])*(Tableau3[Chb]=$C7))","v":0},{"$f":"SUMPRODUCT((AF$3>=Tableau3[Arrivée])*(AF$3<Tableau3[Départ])*(Tableau3[Chb]=$C7))","v":0},{"$f":"SUMPRODUCT((AG$3>=Tableau3[Arrivée])*(AG$3<Tableau3[Départ])*(Tableau3[Chb]=$C7))","v":0},{"$f":"SUMPRODUCT((AH$3>=Tableau3[Arrivée])*(AH$3<Tableau3[Départ])*(Tableau3[Chb]=$C7))","v":0},0]
[null,"Single",105,{"$f":"SUMPRODUCT((D$3>=Tableau3[Arrivée])*(D$3<Tableau3[Départ])*(Tableau3[Chb]=$C8))","v":0},{"$f":"SUMPRODUCT((E$3>=Tableau3[Arrivée])*(E$3<Tableau3[Départ])*(Tableau3[Chb]=$C8))","v":0},{"$f":"SUMPRODUCT((F$3>=Tableau3[Arrivée])*(F$3<Tableau3[Départ])*(Tableau3[Chb]=$C8))","v":0},{"$f":"SUMPRODUCT((G$3>=Tableau3[Arrivée])*(G$3<Tableau3[Départ])*(Tableau3[Chb]=$C8))","v":0},{"$f":"SUMPRODUCT((H$3>=Tableau3[Arrivée])*(H$3<Tableau3[Départ])*(Tableau3[Chb]=$C8))","v":0},{"$f":"SUMPRODUCT((I$3>=Tableau3[Arrivée])*(I$3<Tableau3[Départ])*(Tableau3[Chb]=$C8))","v":0},{"$f":"SUMPRODUCT((J$3>=Tableau3[Arrivée])*(J$3<Tableau3[Départ])*(Tableau3[Chb]=$C8))","v":0},{"$f":"SUMPRODUCT((K$3>=Tableau3[Arrivée])*(K$3<Tableau3[Départ])*(Tableau3[Chb]=$C8))","v":0},{"$f":"SUMPRODUCT((L$3>=Tableau3[Arrivée])*(L$3<Tableau3[Départ])*(Tableau3[Chb]=$C8))","v":0},{"$f":"SUMPRODUCT((M$3>=Tableau3[Arrivée])*(M$3<Tableau3[Départ])*(Tableau3[Chb]=$C8))","v":0},{"$f":"SUMPRODUCT((N$3>=Tableau3[Arrivée])*(N$3<Tableau3[Départ])*(Tableau3[Chb]=$C8))","v":0},{"$f":"SUMPRODUCT((O$3>=Tableau3[Arrivée])*(O$3<Tableau3[Départ])*(Tableau3[Chb]=$C8))","v":0},{"$f":"SUMPRODUCT((P$3>=Tableau3[Arrivée])*(P$3<Tableau3[Départ])*(Tableau3[Chb]=$C8))","v":0},{"$f":"SUMPRODUCT((Q$3>=Tableau3[Arrivée])*(Q$3<Tableau3[Départ])*(Tableau3[Chb]=$C8))","v":0},{"$f":"SUMPRODUCT((R$3>=Tableau3[Arrivée])*(R$3<Tableau3[Départ])*(Tableau3[Chb]=$C8))","v":0},{"$f":"SUMPRODUCT((S$3>=Tableau3[Arrivée])*(S$3<Tableau3[Départ])*(Tableau3[Chb]=$C8))","v":0},{"$f":"SUMPRODUCT((T$3>=Tableau3[Arrivée])*(T$3<Tableau3[Départ])*(Tableau3[Chb]=$C8))","v":0},{"$f":"SUMPRODUCT((U$3>=Tableau3[Arrivée])*(U$3<Tableau3[Départ])*(Tableau3[Chb]=$C8))","v":0},{"$f":"SUMPRODUCT((V$3>=Tableau3[Arrivée])*(V$3<Tableau3[Départ])*(Tableau3[Chb]=$C8))","v":0},{"$f":"SUMPRODUCT((W$3>=Tableau3[Arrivée])*(W$3<Tableau3[Départ])*(Tableau3[Chb]=$C8))","v":0},{"$f":"SUMPRODUCT((X$3>=Tableau3[Arrivée])*(X$3<Tableau3[Départ])*(Tableau3[Chb]=$C8))","v":0},{"$f":"SUMPRODUCT((Y$3>=Tableau3[Arrivée])*(Y$3<Tableau3[Départ])*(Tableau3[Chb]=$C8))","v":0},{"$f":"SUMPRODUCT((Z$3>=Tableau3[Arrivée])*(Z$3<Tableau3[Départ])*(Tableau3[Chb]=$C8))","v":0},{"$f":"SUMPRODUCT((AA$3>=Tableau3[Arrivée])*(AA$3<Tableau3[Départ])*(Tableau3[Chb]=$C8))","v":0},{"$f":"SUMPRODUCT((AB$3>=Tableau3[Arrivée])*(AB$3<Tableau3[Départ])*(Tableau3[Chb]=$C8))","v":0},{"$f":"SUMPRODUCT((AC$3>=Tableau3[Arrivée])*(AC$3<Tableau3[Départ])*(Tableau3[Chb]=$C8))","v":0},{"$f":"SUMPRODUCT((AD$3>=Tableau3[Arrivée])*(AD$3<Tableau3[Départ])*(Tableau3[Chb]=$C8))","v":0},{"$f":"SUMPRODUCT((AE$3>=Tableau3[Arrivée])*(AE$3<Tableau3[Départ])*(Tableau3[Chb]=$C8))","v":0},{"$f":"SUMPRODUCT((AF$3>=Tableau3[Arrivée])*(AF$3<Tableau3[Départ])*(Tableau3[Chb]=$C8))","v":0},{"$f":"SUMPRODUCT((AG$3>=Tableau3[Arrivée])*(AG$3<Tableau3[Départ])*(Tableau3[Chb]=$C8))","v":0},{"$f":"SUMPRODUCT((AH$3>=Tableau3[Arrivée])*(AH$3<Tableau3[Départ])*(Tableau3[Chb]=$C8))","v":0},0]
[null,"Single",106,{"$f":"SUMPRODUCT((D$3>=Tableau3[Arrivée])*(D$3<Tableau3[Départ])*(Tableau3[Chb]=$C9))","v":0},{"$f":"SUMPRODUCT((E$3>=Tableau3[Arrivée])*(E$3<Tableau3[Départ])*(Tableau3[Chb]=$C9))","v":0},{"$f":"SUMPRODUCT((F$3>=Tableau3[Arrivée])*(F$3<Tableau3[Départ])*(Tableau3[Chb]=$C9))","v":0},{"$f":"SUMPRODUCT((G$3>=Tableau3[Arrivée])*(G$3<Tableau3[Départ])*(Tableau3[Chb]=$C9))","v":0},{"$f":"SUMPRODUCT((H$3>=Tableau3[Arrivée])*(H$3<Tableau3[Départ])*(Tableau3[Chb]=$C9))","v":0},{"$f":"SUMPRODUCT((I$3>=Tableau3[Arrivée])*(I$3<Tableau3[Départ])*(Tableau3[Chb]=$C9))","v":0},{"$f":"SUMPRODUCT((J$3>=Tableau3[Arrivée])*(J$3<Tableau3[Départ])*(Tableau3[Chb]=$C9))","v":0},{"$f":"SUMPRODUCT((K$3>=Tableau3[Arrivée])*(K$3<Tableau3[Départ])*(Tableau3[Chb]=$C9))","v":0},{"$f":"SUMPRODUCT((L$3>=Tableau3[Arrivée])*(L$3<Tableau3[Départ])*(Tableau3[Chb]=$C9))","v":0},{"$f":"SUMPRODUCT((M$3>=Tableau3[Arrivée])*(M$3<Tableau3[Départ])*(Tableau3[Chb]=$C9))","v":0},{"$f":"SUMPRODUCT((N$3>=Tableau3[Arrivée])*(N$3<Tableau3[Départ])*(Tableau3[Chb]=$C9))","v":0},{"$f":"SUMPRODUCT((O$3>=Tableau3[Arrivée])*(O$3<Tableau3[Départ])*(Tableau3[Chb]=$C9))","v":0},{"$f":"SUMPRODUCT((P$3>=Tableau3[Arrivée])*(P$3<Tableau3[Départ])*(Tableau3[Chb]=$C9))","v":0},{"$f":"SUMPRODUCT((Q$3>=Tableau3[Arrivée])*(Q$3<Tableau3[Départ])*(Tableau3[Chb]=$C9))","v":0},{"$f":"SUMPRODUCT((R$3>=Tableau3[Arrivée])*(R$3<Tableau3[Départ])*(Tableau3[Chb]=$C9))","v":0},{"$f":"SUMPRODUCT((S$3>=Tableau3[Arrivée])*(S$3<Tableau3[Départ])*(Tableau3[Chb]=$C9))","v":0},{"$f":"SUMPRODUCT((T$3>=Tableau3[Arrivée])*(T$3<Tableau3[Départ])*(Tableau3[Chb]=$C9))","v":0},{"$f":"SUMPRODUCT((U$3>=Tableau3[Arrivée])*(U$3<Tableau3[Départ])*(Tableau3[Chb]=$C9))","v":0},{"$f":"SUMPRODUCT((V$3>=Tableau3[Arrivée])*(V$3<Tableau3[Départ])*(Tableau3[Chb]=$C9))","v":0},{"$f":"SUMPRODUCT((W$3>=Tableau3[Arrivée])*(W$3<Tableau3[Départ])*(Tableau3[Chb]=$C9))","v":0},{"$f":"SUMPRODUCT((X$3>=Tableau3[Arrivée])*(X$3<Tableau3[Départ])*(Tableau3[Chb]=$C9))","v":0},{"$f":"SUMPRODUCT((Y$3>=Tableau3[Arrivée])*(Y$3<Tableau3[Départ])*(Tableau3[Chb]=$C9))","v":0},{"$f":"SUMPRODUCT((Z$3>=Tableau3[Arrivée])*(Z$3<Tableau3[Départ])*(Tableau3[Chb]=$C9))","v":0},{"$f":"SUMPRODUCT((AA$3>=Tableau3[Arrivée])*(AA$3<Tableau3[Départ])*(Tableau3[Chb]=$C9))","v":0},{"$f":"SUMPRODUCT((AB$3>=Tableau3[Arrivée])*(AB$3<Tableau3[Départ])*(Tableau3[Chb]=$C9))","v":0},{"$f":"SUMPRODUCT((AC$3>=Tableau3[Arrivée])*(AC$3<Tableau3[Départ])*(Tableau3[Chb]=$C9))","v":0},{"$f":"SUMPRODUCT((AD$3>=Tableau3[Arrivée])*(AD$3<Tableau3[Départ])*(Tableau3[Chb]=$C9))","v":0},{"$f":"SUMPRODUCT((AE$3>=Tableau3[Arrivée])*(AE$3<Tableau3[Départ])*(Tableau3[Chb]=$C9))","v":0},{"$f":"SUMPRODUCT((AF$3>=Tableau3[Arrivée])*(AF$3<Tableau3[Départ])*(Tableau3[Chb]=$C9))","v":0},{"$f":"SUMPRODUCT((AG$3>=Tableau3[Arrivée])*(AG$3<Tableau3[Départ])*(Tableau3[Chb]=$C9))","v":0},{"$f":"SUMPRODUCT((AH$3>=Tableau3[Arrivée])*(AH$3<Tableau3[Départ])*(Tableau3[Chb]=$C9))","v":0},0]
[null,"Triple",107,{"$f":"SUMPRODUCT((D$3>=Tableau3[Arrivée])*(D$3<Tableau3[Départ])*(Tableau3[Chb]=$C10))","v":0},{"$f":"SUMPRODUCT((E$3>=Tableau3[Arrivée])*(E$3<Tableau3[Départ])*(Tableau3[Chb]=$C10))","v":0},{"$f":"SUMPRODUCT((F$3>=Tableau3[Arrivée])*(F$3<Tableau3[Départ])*(Tableau3[Chb]=$C10))","v":0},{"$f":"SUMPRODUCT((G$3>=Tableau3[Arrivée])*(G$3<Tableau3[Départ])*(Tableau3[Chb]=$C10))","v":0},{"$f":"SUMPRODUCT((H$3>=Tableau3[Arrivée])*(H$3<Tableau3[Départ])*(Tableau3[Chb]=$C10))","v":0},{"$f":"SUMPRODUCT((I$3>=Tableau3[Arrivée])*(I$3<Tableau3[Départ])*(Tableau3[Chb]=$C10))","v":0},{"$f":"SUMPRODUCT((J$3>=Tableau3[Arrivée])*(J$3<Tableau3[Départ])*(Tableau3[Chb]=$C10))","v":0},{"$f":"SUMPRODUCT((K$3>=Tableau3[Arrivée])*(K$3<Tableau3[Départ])*(Tableau3[Chb]=$C10))","v":0},{"$f":"SUMPRODUCT((L$3>=Tableau3[Arrivée])*(L$3<Tableau3[Départ])*(Tableau3[Chb]=$C10))","v":0},{"$f":"SUMPRODUCT((M$3>=Tableau3[Arrivée])*(M$3<Tableau3[Départ])*(Tableau3[Chb]=$C10))","v":0},{"$f":"SUMPRODUCT((N$3>=Tableau3[Arrivée])*(N$3<Tableau3[Départ])*(Tableau3[Chb]=$C10))","v":0},{"$f":"SUMPRODUCT((O$3>=Tableau3[Arrivée])*(O$3<Tableau3[Départ])*(Tableau3[Chb]=$C10))","v":0},{"$f":"SUMPRODUCT((P$3>=Tableau3[Arrivée])*(P$3<Tableau3[Départ])*(Tableau3[Chb]=$C10))","v":0},{"$f":"SUMPRODUCT((Q$3>=Tableau3[Arrivée])*(Q$3<Tableau3[Départ])*(Tableau3[Chb]=$C10))","v":0},{"$f":"SUMPRODUCT((R$3>=Tableau3[Arrivée])*(R$3<Tableau3[Départ])*(Tableau3[Chb]=$C10))","v":0},{"$f":"SUMPRODUCT((S$3>=Tableau3[Arrivée])*(S$3<Tableau3[Départ])*(Tableau3[Chb]=$C10))","v":0},{"$f":"SUMPRODUCT((T$3>=Tableau3[Arrivée])*(T$3<Tableau3[Départ])*(Tableau3[Chb]=$C10))","v":0},{"$f":"SUMPRODUCT((U$3>=Tableau3[Arrivée])*(U$3<Tableau3[Départ])*(Tableau3[Chb]=$C10))","v":0},{"$f":"SUMPRODUCT((V$3>=Tableau3[Arrivée])*(V$3<Tableau3[Départ])*(Tableau3[Chb]=$C10))","v":0},{"$f":"SUMPRODUCT((W$3>=Tableau3[Arrivée])*(W$3<Tableau3[Départ])*(Tableau3[Chb]=$C10))","v":0},{"$f":"SUMPRODUCT((X$3>=Tableau3[Arrivée])*(X$3<Tableau3[Départ])*(Tableau3[Chb]=$C10))","v":0},{"$f":"SUMPRODUCT((Y$3>=Tableau3[Arrivée])*(Y$3<Tableau3[Départ])*(Tableau3[Chb]=$C10))","v":0},{"$f":"SUMPRODUCT((Z$3>=Tableau3[Arrivée])*(Z$3<Tableau3[Départ])*(Tableau3[Chb]=$C10))","v":0},{"$f":"SUMPRODUCT((AA$3>=Tableau3[Arrivée])*(AA$3<Tableau3[Départ])*(Tableau3[Chb]=$C10))","v":0},{"$f":"SUMPRODUCT((AB$3>=Tableau3[Arrivée])*(AB$3<Tableau3[Départ])*(Tableau3[Chb]=$C10))","v":0},{"$f":"SUMPRODUCT((AC$3>=Tableau3[Arrivée])*(AC$3<Tableau3[Départ])*(Tableau3[Chb]=$C10))","v":0},{"$f":"SUMPRODUCT((AD$3>=Tableau3[Arrivée])*(AD$3<Tableau3[Départ])*(Tableau3[Chb]=$C10))","v":0},{"$f":"SUMPRODUCT((AE$3>=Tableau3[Arrivée])*(AE$3<Tableau3[Départ])*(Tableau3[Chb]=$C10))","v":0},{"$f":"SUMPRODUCT((AF$3>=Tableau3[Arrivée])*(AF$3<Tableau3[Départ])*(Tableau3[Chb]=$C10))","v":0},{"$f":"SUMPRODUCT((AG$3>=Tableau3[Arrivée])*(AG$3<Tableau3[Départ])*(Tableau3[Chb]=$C10))","v":0},{"$f":"SUMPRODUCT((AH$3>=Tableau3[Arrivée])*(AH$3<Tableau3[Départ])*(Tableau3[Chb]=$C10))","v":0},0]
[null,"Triple",108,{"$f":"SUMPRODUCT((D$3>=Tableau3[Arrivée])*(D$3<Tableau3[Départ])*(Tableau3[Chb]=$C11))","v":0},{"$f":"SUMPRODUCT((E$3>=Tableau3[Arrivée])*(E$3<Tableau3[Départ])*(Tableau3[Chb]=$C11))","v":0},{"$f":"SUMPRODUCT((F$3>=Tableau3[Arrivée])*(F$3<Tableau3[Départ])*(Tableau3[Chb]=$C11))","v":0},{"$f":"SUMPRODUCT((G$3>=Tableau3[Arrivée])*(G$3<Tableau3[Départ])*(Tableau3[Chb]=$C11))","v":0},{"$f":"SUMPRODUCT((H$3>=Tableau3[Arrivée])*(H$3<Tableau3[Départ])*(Tableau3[Chb]=$C11))","v":0},{"$f":"SUMPRODUCT((I$3>=Tableau3[Arrivée])*(I$3<Tableau3[Départ])*(Tableau3[Chb]=$C11))","v":0},{"$f":"SUMPRODUCT((J$3>=Tableau3[Arrivée])*(J$3<Tableau3[Départ])*(Tableau3[Chb]=$C11))","v":0},{"$f":"SUMPRODUCT((K$3>=Tableau3[Arrivée])*(K$3<Tableau3[Départ])*(Tableau3[Chb]=$C11))","v":0},{"$f":"SUMPRODUCT((L$3>=Tableau3[Arrivée])*(L$3<Tableau3[Départ])*(Tableau3[Chb]=$C11))","v":0},{"$f":"SUMPRODUCT((M$3>=Tableau3[Arrivée])*(M$3<Tableau3[Départ])*(Tableau3[Chb]=$C11))","v":0},{"$f":"SUMPRODUCT((N$3>=Tableau3[Arrivée])*(N$3<Tableau3[Départ])*(Tableau3[Chb]=$C11))","v":0},{"$f":"SUMPRODUCT((O$3>=Tableau3[Arrivée])*(O$3<Tableau3[Départ])*(Tableau3[Chb]=$C11))","v":0},{"$f":"SUMPRODUCT((P$3>=Tableau3[Arrivée])*(P$3<Tableau3[Départ])*(Tableau3[Chb]=$C11))","v":0},{"$f":"SUMPRODUCT((Q$3>=Tableau3[Arrivée])*(Q$3<Tableau3[Départ])*(Tableau3[Chb]=$C11))","v":0},{"$f":"SUMPRODUCT((R$3>=Tableau3[Arrivée])*(R$3<Tableau3[Départ])*(Tableau3[Chb]=$C11))","v":0},{"$f":"SUMPRODUCT((S$3>=Tableau3[Arrivée])*(S$3<Tableau3[Départ])*(Tableau3[Chb]=$C11))","v":0},{"$f":"SUMPRODUCT((T$3>=Tableau3[Arrivée])*(T$3<Tableau3[Départ])*(Tableau3[Chb]=$C11))","v":0},{"$f":"SUMPRODUCT((U$3>=Tableau3[Arrivée])*(U$3<Tableau3[Départ])*(Tableau3[Chb]=$C11))","v":0},{"$f":"SUMPRODUCT((V$3>=Tableau3[Arrivée])*(V$3<Tableau3[Départ])*(Tableau3[Chb]=$C11))","v":0},{"$f":"SUMPRODUCT((W$3>=Tableau3[Arrivée])*(W$3<Tableau3[Départ])*(Tableau3[Chb]=$C11))","v":0},{"$f":"SUMPRODUCT((X$3>=Tableau3[Arrivée])*(X$3<Tableau3[Départ])*(Tableau3[Chb]=$C11))","v":0},{"$f":"SUMPRODUCT((Y$3>=Tableau3[Arrivée])*(Y$3<Tableau3[Départ])*(Tableau3[Chb]=$C11))","v":0},{"$f":"SUMPRODUCT((Z$3>=Tableau3[Arrivée])*(Z$3<Tableau3[Départ])*(Tableau3[Chb]=$C11))","v":0},{"$f":"SUMPRODUCT((AA$3>=Tableau3[Arrivée])*(AA$3<Tableau3[Départ])*(Tableau3[Chb]=$C11))","v":0},{"$f":"SUMPRODUCT((AB$3>=Tableau3[Arrivée])*(AB$3<Tableau3[Départ])*(Tableau3[Chb]=$C11))","v":0},{"$f":"SUMPRODUCT((AC$3>=Tableau3[Arrivée])*(AC$3<Tableau3[Départ])*(Tableau3[Chb]=$C11))","v":0},{"$f":"SUMPRODUCT((AD$3>=Tableau3[Arrivée])*(AD$3<Tableau3[Départ])*(Tableau3[Chb]=$C11))","v":0},{"$f":"SUMPRODUCT((AE$3>=Tableau3[Arrivée])*(AE$3<Tableau3[Départ])*(Tableau3[Chb]=$C11))","v":0},{"$f":"SUMPRODUCT((AF$3>=Tableau3[Arrivée])*(AF$3<Tableau3[Départ])*(Tableau3[Chb]=$C11))","v":0},{"$f":"SUMPRODUCT((AG$3>=Tableau3[Arrivée])*(AG$3<Tableau3[Départ])*(Tableau3[Chb]=$C11))","v":0},{"$f":"SUMPRODUCT((AH$3>=Tableau3[Arrivée])*(AH$3<Tableau3[Départ])*(Tableau3[Chb]=$C11))","v":0},0]
[null,"Suite",109,{"$f":"SUMPRODUCT((D$3>=Tableau3[Arrivée])*(D$3<Tableau3[Départ])*(Tableau3[Chb]=$C12))","v":0},{"$f":"SUMPRODUCT((E$3>=Tableau3[Arrivée])*(E$3<Tableau3[Départ])*(Tableau3[Chb]=$C12))","v":0},{"$f":"SUMPRODUCT((F$3>=Tableau3[Arrivée])*(F$3<Tableau3[Départ])*(Tableau3[Chb]=$C12))","v":0},{"$f":"SUMPRODUCT((G$3>=Tableau3[Arrivée])*(G$3<Tableau3[Départ])*(Tableau3[Chb]=$C12))","v":0},{"$f":"SUMPRODUCT((H$3>=Tableau3[Arrivée])*(H$3<Tableau3[Départ])*(Tableau3[Chb]=$C12))","v":0},{"$f":"SUMPRODUCT((I$3>=Tableau3[Arrivée])*(I$3<Tableau3[Départ])*(Tableau3[Chb]=$C12))","v":0},{"$f":"SUMPRODUCT((J$3>=Tableau3[Arrivée])*(J$3<Tableau3[Départ])*(Tableau3[Chb]=$C12))","v":0},{"$f":"SUMPRODUCT((K$3>=Tableau3[Arrivée])*(K$3<Tableau3[Départ])*(Tableau3[Chb]=$C12))","v":0},{"$f":"SUMPRODUCT((L$3>=Tableau3[Arrivée])*(L$3<Tableau3[Départ])*(Tableau3[Chb]=$C12))","v":0},{"$f":"SUMPRODUCT((M$3>=Tableau3[Arrivée])*(M$3<Tableau3[Départ])*(Tableau3[Chb]=$C12))","v":0},{"$f":"SUMPRODUCT((N$3>=Tableau3[Arrivée])*(N$3<Tableau3[Départ])*(Tableau3[Chb]=$C12))","v":0},{"$f":"SUMPRODUCT((O$3>=Tableau3[Arrivée])*(O$3<Tableau3[Départ])*(Tableau3[Chb]=$C12))","v":0},{"$f":"SUMPRODUCT((P$3>=Tableau3[Arrivée])*(P$3<Tableau3[Départ])*(Tableau3[Chb]=$C12))","v":0},{"$f":"SUMPRODUCT((Q$3>=Tableau3[Arrivée])*(Q$3<Tableau3[Départ])*(Tableau3[Chb]=$C12))","v":0},{"$f":"SUMPRODUCT((R$3>=Tableau3[Arrivée])*(R$3<Tableau3[Départ])*(Tableau3[Chb]=$C12))","v":0},{"$f":"SUMPRODUCT((S$3>=Tableau3[Arrivée])*(S$3<Tableau3[Départ])*(Tableau3[Chb]=$C12))","v":0},{"$f":"SUMPRODUCT((T$3>=Tableau3[Arrivée])*(T$3<Tableau3[Départ])*(Tableau3[Chb]=$C12))","v":0},{"$f":"SUMPRODUCT((U$3>=Tableau3[Arrivée])*(U$3<Tableau3[Départ])*(Tableau3[Chb]=$C12))","v":0},{"$f":"SUMPRODUCT((V$3>=Tableau3[Arrivée])*(V$3<Tableau3[Départ])*(Tableau3[Chb]=$C12))","v":0},{"$f":"SUMPRODUCT((W$3>=Tableau3[Arrivée])*(W$3<Tableau3[Départ])*(Tableau3[Chb]=$C12))","v":0},{"$f":"SUMPRODUCT((X$3>=Tableau3[Arrivée])*(X$3<Tableau3[Départ])*(Tableau3[Chb]=$C12))","v":0},{"$f":"SUMPRODUCT((Y$3>=Tableau3[Arrivée])*(Y$3<Tableau3[Départ])*(Tableau3[Chb]=$C12))","v":0},{"$f":"SUMPRODUCT((Z$3>=Tableau3[Arrivée])*(Z$3<Tableau3[Départ])*(Tableau3[Chb]=$C12))","v":0},{"$f":"SUMPRODUCT((AA$3>=Tableau3[Arrivée])*(AA$3<Tableau3[Départ])*(Tableau3[Chb]=$C12))","v":0},{"$f":"SUMPRODUCT((AB$3>=Tableau3[Arrivée])*(AB$3<Tableau3[Départ])*(Tableau3[Chb]=$C12))","v":0},{"$f":"SUMPRODUCT((AC$3>=Tableau3[Arrivée])*(AC$3<Tableau3[Départ])*(Tableau3[Chb]=$C12))","v":0},{"$f":"SUMPRODUCT((AD$3>=Tableau3[Arrivée])*(AD$3<Tableau3[Départ])*(Tableau3[Chb]=$C12))","v":0},{"$f":"SUMPRODUCT((AE$3>=Tableau3[Arrivée])*(AE$3<Tableau3[Départ])*(Tableau3[Chb]=$C12))","v":0},{"$f":"SUMPRODUCT((AF$3>=Tableau3[Arrivée])*(AF$3<Tableau3[Départ])*(Tableau3[Chb]=$C12))","v":0},{"$f":"SUMPRODUCT((AG$3>=Tableau3[Arrivée])*(AG$3<Tableau3[Départ])*(Tableau3[Chb]=$C12))","v":0},{"$f":"SUMPRODUCT((AH$3>=Tableau3[Arrivée])*(AH$3<Tableau3[Départ])*(Tableau3[Chb]=$C12))","v":0},0]
[null,"Triple",110,{"$f":"SUMPRODUCT((D$3>=Tableau3[Arrivée])*(D$3<Tableau3[Départ])*(Tableau3[Chb]=$C13))","v":0},{"$f":"SUMPRODUCT((E$3>=Tableau3[Arrivée])*(E$3<Tableau3[Départ])*(Tableau3[Chb]=$C13))","v":0},{"$f":"SUMPRODUCT((F$3>=Tableau3[Arrivée])*(F$3<Tableau3[Départ])*(Tableau3[Chb]=$C13))","v":0},{"$f":"SUMPRODUCT((G$3>=Tableau3[Arrivée])*(G$3<Tableau3[Départ])*(Tableau3[Chb]=$C13))","v":0},{"$f":"SUMPRODUCT((H$3>=Tableau3[Arrivée])*(H$3<Tableau3[Départ])*(Tableau3[Chb]=$C13))","v":0},{"$f":"SUMPRODUCT((I$3>=Tableau3[Arrivée])*(I$3<Tableau3[Départ])*(Tableau3[Chb]=$C13))","v":0},{"$f":"SUMPRODUCT((J$3>=Tableau3[Arrivée])*(J$3<Tableau3[Départ])*(Tableau3[Chb]=$C13))","v":0},{"$f":"SUMPRODUCT((K$3>=Tableau3[Arrivée])*(K$3<Tableau3[Départ])*(Tableau3[Chb]=$C13))","v":0},{"$f":"SUMPRODUCT((L$3>=Tableau3[Arrivée])*(L$3<Tableau3[Départ])*(Tableau3[Chb]=$C13))","v":0},{"$f":"SUMPRODUCT((M$3>=Tableau3[Arrivée])*(M$3<Tableau3[Départ])*(Tableau3[Chb]=$C13))","v":0},{"$f":"SUMPRODUCT((N$3>=Tableau3[Arrivée])*(N$3<Tableau3[Départ])*(Tableau3[Chb]=$C13))","v":0},{"$f":"SUMPRODUCT((O$3>=Tableau3[Arrivée])*(O$3<Tableau3[Départ])*(Tableau3[Chb]=$C13))","v":0},{"$f":"SUMPRODUCT((P$3>=Tableau3[Arrivée])*(P$3<Tableau3[Départ])*(Tableau3[Chb]=$C13))","v":0},{"$f":"SUMPRODUCT((Q$3>=Tableau3[Arrivée])*(Q$3<Tableau3[Départ])*(Tableau3[Chb]=$C13))","v":0},{"$f":"SUMPRODUCT((R$3>=Tableau3[Arrivée])*(R$3<Tableau3[Départ])*(Tableau3[Chb]=$C13))","v":0},{"$f":"SUMPRODUCT((S$3>=Tableau3[Arrivée])*(S$3<Tableau3[Départ])*(Tableau3[Chb]=$C13))","v":0},{"$f":"SUMPRODUCT((T$3>=Tableau3[Arrivée])*(T$3<Tableau3[Départ])*(Tableau3[Chb]=$C13))","v":0},{"$f":"SUMPRODUCT((U$3>=Tableau3[Arrivée])*(U$3<Tableau3[Départ])*(Tableau3[Chb]=$C13))","v":0},{"$f":"SUMPRODUCT((V$3>=Tableau3[Arrivée])*(V$3<Tableau3[Départ])*(Tableau3[Chb]=$C13))","v":0},{"$f":"SUMPRODUCT((W$3>=Tableau3[Arrivée])*(W$3<Tableau3[Départ])*(Tableau3[Chb]=$C13))","v":0},{"$f":"SUMPRODUCT((X$3>=Tableau3[Arrivée])*(X$3<Tableau3[Départ])*(Tableau3[Chb]=$C13))","v":0},{"$f":"SUMPRODUCT((Y$3>=Tableau3[Arrivée])*(Y$3<Tableau3[Départ])*(Tableau3[Chb]=$C13))","v":0},{"$f":"SUMPRODUCT((Z$3>=Tableau3[Arrivée])*(Z$3<Tableau3[Départ])*(Tableau3[Chb]=$C13))","v":0},{"$f":"SUMPRODUCT((AA$3>=Tableau3[Arrivée])*(AA$3<Tableau3[Départ])*(Tableau3[Chb]=$C13))","v":0},{"$f":"SUMPRODUCT((AB$3>=Tableau3[Arrivée])*(AB$3<Tableau3[Départ])*(Tableau3[Chb]=$C13))","v":0},{"$f":"SUMPRODUCT((AC$3>=Tableau3[Arrivée])*(AC$3<Tableau3[Départ])*(Tableau3[Chb]=$C13))","v":0},{"$f":"SUMPRODUCT((AD$3>=Tableau3[Arrivée])*(AD$3<Tableau3[Départ])*(Tableau3[Chb]=$C13))","v":0},{"$f":"SUMPRODUCT((AE$3>=Tableau3[Arrivée])*(AE$3<Tableau3[Départ])*(Tableau3[Chb]=$C13))","v":0},{"$f":"SUMPRODUCT((AF$3>=Tableau3[Arrivée])*(AF$3<Tableau3[Départ])*(Tableau3[Chb]=$C13))","v":0},{"$f":"SUMPRODUCT((AG$3>=Tableau3[Arrivée])*(AG$3<Tableau3[Départ])*(Tableau3[Chb]=$C13))","v":0},{"$f":"SUMPRODUCT((AH$3>=Tableau3[Arrivée])*(AH$3<Tableau3[Départ])*(Tableau3[Chb]=$C13))","v":0},0]
[null,"Triple",111,{"$f":"SUMPRODUCT((D$3>=Tableau3[Arrivée])*(D$3<Tableau3[Départ])*(Tableau3[Chb]=$C14))","v":0},{"$f":"SUMPRODUCT((E$3>=Tableau3[Arrivée])*(E$3<Tableau3[Départ])*(Tableau3[Chb]=$C14))","v":0},{"$f":"SUMPRODUCT((F$3>=Tableau3[Arrivée])*(F$3<Tableau3[Départ])*(Tableau3[Chb]=$C14))","v":0},{"$f":"SUMPRODUCT((G$3>=Tableau3[Arrivée])*(G$3<Tableau3[Départ])*(Tableau3[Chb]=$C14))","v":0},{"$f":"SUMPRODUCT((H$3>=Tableau3[Arrivée])*(H$3<Tableau3[Départ])*(Tableau3[Chb]=$C14))","v":0},{"$f":"SUMPRODUCT((I$3>=Tableau3[Arrivée])*(I$3<Tableau3[Départ])*(Tableau3[Chb]=$C14))","v":0},{"$f":"SUMPRODUCT((J$3>=Tableau3[Arrivée])*(J$3<Tableau3[Départ])*(Tableau3[Chb]=$C14))","v":0},{"$f":"SUMPRODUCT((K$3>=Tableau3[Arrivée])*(K$3<Tableau3[Départ])*(Tableau3[Chb]=$C14))","v":0},{"$f":"SUMPRODUCT((L$3>=Tableau3[Arrivée])*(L$3<Tableau3[Départ])*(Tableau3[Chb]=$C14))","v":0},{"$f":"SUMPRODUCT((M$3>=Tableau3[Arrivée])*(M$3<Tableau3[Départ])*(Tableau3[Chb]=$C14))","v":0},{"$f":"SUMPRODUCT((N$3>=Tableau3[Arrivée])*(N$3<Tableau3[Départ])*(Tableau3[Chb]=$C14))","v":0},{"$f":"SUMPRODUCT((O$3>=Tableau3[Arrivée])*(O$3<Tableau3[Départ])*(Tableau3[Chb]=$C14))","v":0},{"$f":"SUMPRODUCT((P$3>=Tableau3[Arrivée])*(P$3<Tableau3[Départ])*(Tableau3[Chb]=$C14))","v":0},{"$f":"SUMPRODUCT((Q$3>=Tableau3[Arrivée])*(Q$3<Tableau3[Départ])*(Tableau3[Chb]=$C14))","v":0},{"$f":"SUMPRODUCT((R$3>=Tableau3[Arrivée])*(R$3<Tableau3[Départ])*(Tableau3[Chb]=$C14))","v":0},{"$f":"SUMPRODUCT((S$3>=Tableau3[Arrivée])*(S$3<Tableau3[Départ])*(Tableau3[Chb]=$C14))","v":0},{"$f":"SUMPRODUCT((T$3>=Tableau3[Arrivée])*(T$3<Tableau3[Départ])*(Tableau3[Chb]=$C14))","v":0},{"$f":"SUMPRODUCT((U$3>=Tableau3[Arrivée])*(U$3<Tableau3[Départ])*(Tableau3[Chb]=$C14))","v":0},{"$f":"SUMPRODUCT((V$3>=Tableau3[Arrivée])*(V$3<Tableau3[Départ])*(Tableau3[Chb]=$C14))","v":0},{"$f":"SUMPRODUCT((W$3>=Tableau3[Arrivée])*(W$3<Tableau3[Départ])*(Tableau3[Chb]=$C14))","v":0},{"$f":"SUMPRODUCT((X$3>=Tableau3[Arrivée])*(X$3<Tableau3[Départ])*(Tableau3[Chb]=$C14))","v":0},{"$f":"SUMPRODUCT((Y$3>=Tableau3[Arrivée])*(Y$3<Tableau3[Départ])*(Tableau3[Chb]=$C14))","v":0},{"$f":"SUMPRODUCT((Z$3>=Tableau3[Arrivée])*(Z$3<Tableau3[Départ])*(Tableau3[Chb]=$C14))","v":0},{"$f":"SUMPRODUCT((AA$3>=Tableau3[Arrivée])*(AA$3<Tableau3[Départ])*(Tableau3[Chb]=$C14))","v":0},{"$f":"SUMPRODUCT((AB$3>=Tableau3[Arrivée])*(AB$3<Tableau3[Départ])*(Tableau3[Chb]=$C14))","v":0},{"$f":"SUMPRODUCT((AC$3>=Tableau3[Arrivée])*(AC$3<Tableau3[Départ])*(Tableau3[Chb]=$C14))","v":0},{"$f":"SUMPRODUCT((AD$3>=Tableau3[Arrivée])*(AD$3<Tableau3[Départ])*(Tableau3[Chb]=$C14))","v":0},{"$f":"SUMPRODUCT((AE$3>=Tableau3[Arrivée])*(AE$3<Tableau3[Départ])*(Tableau3[Chb]=$C14))","v":0},{"$f":"SUMPRODUCT((AF$3>=Tableau3[Arrivée])*(AF$3<Tableau3[Départ])*(Tableau3[Chb]=$C14))","v":0},{"$f":"SUMPRODUCT((AG$3>=Tableau3[Arrivée])*(AG$3<Tableau3[Départ])*(Tableau3[Chb]=$C14))","v":0},{"$f":"SUMPRODUCT((AH$3>=Tableau3[Arrivée])*(AH$3<Tableau3[Départ])*(Tableau3[Chb]=$C14))","v":0},0]
[null,"Suite",112,{"$f":"SUMPRODUCT((D$3>=Tableau3[Arrivée])*(D$3<Tableau3[Départ])*(Tableau3[Chb]=$C15))","v":0},{"$f":"SUMPRODUCT((E$3>=Tableau3[Arrivée])*(E$3<Tableau3[Départ])*(Tableau3[Chb]=$C15))","v":0},{"$f":"SUMPRODUCT((F$3>=Tableau3[Arrivée])*(F$3<Tableau3[Départ])*(Tableau3[Chb]=$C15))","v":0},{"$f":"SUMPRODUCT((G$3>=Tableau3[Arrivée])*(G$3<Tableau3[Départ])*(Tableau3[Chb]=$C15))","v":0},{"$f":"SUMPRODUCT((H$3>=Tableau3[Arrivée])*(H$3<Tableau3[Départ])*(Tableau3[Chb]=$C15))","v":0},{"$f":"SUMPRODUCT((I$3>=Tableau3[Arrivée])*(I$3<Tableau3[Départ])*(Tableau3[Chb]=$C15))","v":0},{"$f":"SUMPRODUCT((J$3>=Tableau3[Arrivée])*(J$3<Tableau3[Départ])*(Tableau3[Chb]=$C15))","v":0},{"$f":"SUMPRODUCT((K$3>=Tableau3[Arrivée])*(K$3<Tableau3[Départ])*(Tableau3[Chb]=$C15))","v":0},{"$f":"SUMPRODUCT((L$3>=Tableau3[Arrivée])*(L$3<Tableau3[Départ])*(Tableau3[Chb]=$C15))","v":0},{"$f":"SUMPRODUCT((M$3>=Tableau3[Arrivée])*(M$3<Tableau3[Départ])*(Tableau3[Chb]=$C15))","v":0},{"$f":"SUMPRODUCT((N$3>=Tableau3[Arrivée])*(N$3<Tableau3[Départ])*(Tableau3[Chb]=$C15))","v":0},{"$f":"SUMPRODUCT((O$3>=Tableau3[Arrivée])*(O$3<Tableau3[Départ])*(Tableau3[Chb]=$C15))","v":0},{"$f":"SUMPRODUCT((P$3>=Tableau3[Arrivée])*(P$3<Tableau3[Départ])*(Tableau3[Chb]=$C15))","v":0},{"$f":"SUMPRODUCT((Q$3>=Tableau3[Arrivée])*(Q$3<Tableau3[Départ])*(Tableau3[Chb]=$C15))","v":0},{"$f":"SUMPRODUCT((R$3>=Tableau3[Arrivée])*(R$3<Tableau3[Départ])*(Tableau3[Chb]=$C15))","v":0},{"$f":"SUMPRODUCT((S$3>=Tableau3[Arrivée])*(S$3<Tableau3[Départ])*(Tableau3[Chb]=$C15))","v":0},{"$f":"SUMPRODUCT((T$3>=Tableau3[Arrivée])*(T$3<Tableau3[Départ])*(Tableau3[Chb]=$C15))","v":0},{"$f":"SUMPRODUCT((U$3>=Tableau3[Arrivée])*(U$3<Tableau3[Départ])*(Tableau3[Chb]=$C15))","v":0},{"$f":"SUMPRODUCT((V$3>=Tableau3[Arrivée])*(V$3<Tableau3[Départ])*(Tableau3[Chb]=$C15))","v":0},{"$f":"SUMPRODUCT((W$3>=Tableau3[Arrivée])*(W$3<Tableau3[Départ])*(Tableau3[Chb]=$C15))","v":0},{"$f":"SUMPRODUCT((X$3>=Tableau3[Arrivée])*(X$3<Tableau3[Départ])*(Tableau3[Chb]=$C15))","v":0},{"$f":"SUMPRODUCT((Y$3>=Tableau3[Arrivée])*(Y$3<Tableau3[Départ])*(Tableau3[Chb]=$C15))","v":0},{"$f":"SUMPRODUCT((Z$3>=Tableau3[Arrivée])*(Z$3<Tableau3[Départ])*(Tableau3[Chb]=$C15))","v":0},{"$f":"SUMPRODUCT((AA$3>=Tableau3[Arrivée])*(AA$3<Tableau3[Départ])*(Tableau3[Chb]=$C15))","v":0},{"$f":"SUMPRODUCT((AB$3>=Tableau3[Arrivée])*(AB$3<Tableau3[Départ])*(Tableau3[Chb]=$C15))","v":0},{"$f":"SUMPRODUCT((AC$3>=Tableau3[Arrivée])*(AC$3<Tableau3[Départ])*(Tableau3[Chb]=$C15))","v":0},{"$f":"SUMPRODUCT((AD$3>=Tableau3[Arrivée])*(AD$3<Tableau3[Départ])*(Tableau3[Chb]=$C15))","v":0},{"$f":"SUMPRODUCT((AE$3>=Tableau3[Arrivée])*(AE$3<Tableau3[Départ])*(Tableau3[Chb]=$C15))","v":0},{"$f":"SUMPRODUCT((AF$3>=Tableau3[Arrivée])*(AF$3<Tableau3[Départ])*(Tableau3[Chb]=$C15))","v":0},{"$f":"SUMPRODUCT((AG$3>=Tableau3[Arrivée])*(AG$3<Tableau3[Départ])*(Tableau3[Chb]=$C15))","v":0},{"$f":"SUMPRODUCT((AH$3>=Tableau3[Arrivée])*(AH$3<Tableau3[Départ])*(Tableau3[Chb]=$C15))","v":0},0]
[null,"Twin",114,{"$f":"SUMPRODUCT((D$3>=Tableau3[Arrivée])*(D$3<Tableau3[Départ])*(Tableau3[Chb]=$C16))","v":0},{"$f":"SUMPRODUCT((E$3>=Tableau3[Arrivée])*(E$3<Tableau3[Départ])*(Tableau3[Chb]=$C16))","v":0},{"$f":"SUMPRODUCT((F$3>=Tableau3[Arrivée])*(F$3<Tableau3[Départ])*(Tableau3[Chb]=$C16))","v":0},{"$f":"SUMPRODUCT((G$3>=Tableau3[Arrivée])*(G$3<Tableau3[Départ])*(Tableau3[Chb]=$C16))","v":0},{"$f":"SUMPRODUCT((H$3>=Tableau3[Arrivée])*(H$3<Tableau3[Départ])*(Tableau3[Chb]=$C16))","v":0},{"$f":"SUMPRODUCT((I$3>=Tableau3[Arrivée])*(I$3<Tableau3[Départ])*(Tableau3[Chb]=$C16))","v":0},{"$f":"SUMPRODUCT((J$3>=Tableau3[Arrivée])*(J$3<Tableau3[Départ])*(Tableau3[Chb]=$C16))","v":0},{"$f":"SUMPRODUCT((K$3>=Tableau3[Arrivée])*(K$3<Tableau3[Départ])*(Tableau3[Chb]=$C16))","v":0},{"$f":"SUMPRODUCT((L$3>=Tableau3[Arrivée])*(L$3<Tableau3[Départ])*(Tableau3[Chb]=$C16))","v":0},{"$f":"SUMPRODUCT((M$3>=Tableau3[Arrivée])*(M$3<Tableau3[Départ])*(Tableau3[Chb]=$C16))","v":0},{"$f":"SUMPRODUCT((N$3>=Tableau3[Arrivée])*(N$3<Tableau3[Départ])*(Tableau3[Chb]=$C16))","v":0},{"$f":"SUMPRODUCT((O$3>=Tableau3[Arrivée])*(O$3<Tableau3[Départ])*(Tableau3[Chb]=$C16))","v":0},{"$f":"SUMPRODUCT((P$3>=Tableau3[Arrivée])*(P$3<Tableau3[Départ])*(Tableau3[Chb]=$C16))","v":0},{"$f":"SUMPRODUCT((Q$3>=Tableau3[Arrivée])*(Q$3<Tableau3[Départ])*(Tableau3[Chb]=$C16))","v":0},{"$f":"SUMPRODUCT((R$3>=Tableau3[Arrivée])*(R$3<Tableau3[Départ])*(Tableau3[Chb]=$C16))","v":0},{"$f":"SUMPRODUCT((S$3>=Tableau3[Arrivée])*(S$3<Tableau3[Départ])*(Tableau3[Chb]=$C16))","v":0},{"$f":"SUMPRODUCT((T$3>=Tableau3[Arrivée])*(T$3<Tableau3[Départ])*(Tableau3[Chb]=$C16))","v":0},{"$f":"SUMPRODUCT((U$3>=Tableau3[Arrivée])*(U$3<Tableau3[Départ])*(Tableau3[Chb]=$C16))","v":0},{"$f":"SUMPRODUCT((V$3>=Tableau3[Arrivée])*(V$3<Tableau3[Départ])*(Tableau3[Chb]=$C16))","v":0},{"$f":"SUMPRODUCT((W$3>=Tableau3[Arrivée])*(W$3<Tableau3[Départ])*(Tableau3[Chb]=$C16))","v":0},{"$f":"SUMPRODUCT((X$3>=Tableau3[Arrivée])*(X$3<Tableau3[Départ])*(Tableau3[Chb]=$C16))","v":0},{"$f":"SUMPRODUCT((Y$3>=Tableau3[Arrivée])*(Y$3<Tableau3[Départ])*(Tableau3[Chb]=$C16))","v":0},{"$f":"SUMPRODUCT((Z$3>=Tableau3[Arrivée])*(Z$3<Tableau3[Départ])*(Tableau3[Chb]=$C16))","v":0},{"$f":"SUMPRODUCT((AA$3>=Tableau3[Arrivée])*(AA$3<Tableau3[Départ])*(Tableau3[Chb]=$C16))","v":0},{"$f":"SUMPRODUCT((AB$3>=Tableau3[Arrivée])*(AB$3<Tableau3[Départ])*(Tableau3[Chb]=$C16))","v":0},{"$f":"SUMPRODUCT((AC$3>=Tableau3[Arrivée])*(AC$3<Tableau3[Départ])*(Tableau3[Chb]=$C16))","v":0},{"$f":"SUMPRODUCT((AD$3>=Tableau3[Arrivée])*(AD$3<Tableau3[Départ])*(Tableau3[Chb]=$C16))","v":0},{"$f":"SUMPRODUCT((AE$3>=Tableau3[Arrivée])*(AE$3<Tableau3[Départ])*(Tableau3[Chb]=$C16))","v":0},{"$f":"SUMPRODUCT((AF$3>=Tableau3[Arrivée])*(AF$3<Tableau3[Départ])*(Tableau3[Chb]=$C16))","v":0},{"$f":"SUMPRODUCT((AG$3>=Tableau3[Arrivée])*(AG$3<Tableau3[Départ])*(Tableau3[Chb]=$C16))","v":0},{"$f":"SUMPRODUCT((AH$3>=Tableau3[Arrivée])*(AH$3<Tableau3[Départ])*(Tableau3[Chb]=$C16))","v":0},0]
[null,"Twin",201,{"$f":"SUMPRODUCT((D$3>=Tableau3[Arrivée])*(D$3<Tableau3[Départ])*(Tableau3[Chb]=$C17))","v":0},{"$f":"SUMPRODUCT((E$3>=Tableau3[Arrivée])*(E$3<Tableau3[Départ])*(Tableau3[Chb]=$C17))","v":0},{"$f":"SUMPRODUCT((F$3>=Tableau3[Arrivée])*(F$3<Tableau3[Départ])*(Tableau3[Chb]=$C17))","v":0},{"$f":"SUMPRODUCT((G$3>=Tableau3[Arrivée])*(G$3<Tableau3[Départ])*(Tableau3[Chb]=$C17))","v":0},{"$f":"SUMPRODUCT((H$3>=Tableau3[Arrivée])*(H$3<Tableau3[Départ])*(Tableau3[Chb]=$C17))","v":0},{"$f":"SUMPRODUCT((I$3>=Tableau3[Arrivée])*(I$3<Tableau3[Départ])*(Tableau3[Chb]=$C17))","v":0},{"$f":"SUMPRODUCT((J$3>=Tableau3[Arrivée])*(J$3<Tableau3[Départ])*(Tableau3[Chb]=$C17))","v":0},{"$f":"SUMPRODUCT((K$3>=Tableau3[Arrivée])*(K$3<Tableau3[Départ])*(Tableau3[Chb]=$C17))","v":0},{"$f":"SUMPRODUCT((L$3>=Tableau3[Arrivée])*(L$3<Tableau3[Départ])*(Tableau3[Chb]=$C17))","v":0},{"$f":"SUMPRODUCT((M$3>=Tableau3[Arrivée])*(M$3<Tableau3[Départ])*(Tableau3[Chb]=$C17))","v":0},{"$f":"SUMPRODUCT((N$3>=Tableau3[Arrivée])*(N$3<Tableau3[Départ])*(Tableau3[Chb]=$C17))","v":0},{"$f":"SUMPRODUCT((O$3>=Tableau3[Arrivée])*(O$3<Tableau3[Départ])*(Tableau3[Chb]=$C17))","v":0},{"$f":"SUMPRODUCT((P$3>=Tableau3[Arrivée])*(P$3<Tableau3[Départ])*(Tableau3[Chb]=$C17))","v":0},{"$f":"SUMPRODUCT((Q$3>=Tableau3[Arrivée])*(Q$3<Tableau3[Départ])*(Tableau3[Chb]=$C17))","v":0},{"$f":"SUMPRODUCT((R$3>=Tableau3[Arrivée])*(R$3<Tableau3[Départ])*(Tableau3[Chb]=$C17))","v":0},{"$f":"SUMPRODUCT((S$3>=Tableau3[Arrivée])*(S$3<Tableau3[Départ])*(Tableau3[Chb]=$C17))","v":0},{"$f":"SUMPRODUCT((T$3>=Tableau3[Arrivée])*(T$3<Tableau3[Départ])*(Tableau3[Chb]=$C17))","v":0},{"$f":"SUMPRODUCT((U$3>=Tableau3[Arrivée])*(U$3<Tableau3[Départ])*(Tableau3[Chb]=$C17))","v":0},{"$f":"SUMPRODUCT((V$3>=Tableau3[Arrivée])*(V$3<Tableau3[Départ])*(Tableau3[Chb]=$C17))","v":0},{"$f":"SUMPRODUCT((W$3>=Tableau3[Arrivée])*(W$3<Tableau3[Départ])*(Tableau3[Chb]=$C17))","v":0},{"$f":"SUMPRODUCT((X$3>=Tableau3[Arrivée])*(X$3<Tableau3[Départ])*(Tableau3[Chb]=$C17))","v":0},{"$f":"SUMPRODUCT((Y$3>=Tableau3[Arrivée])*(Y$3<Tableau3[Départ])*(Tableau3[Chb]=$C17))","v":0},{"$f":"SUMPRODUCT((Z$3>=Tableau3[Arrivée])*(Z$3<Tableau3[Départ])*(Tableau3[Chb]=$C17))","v":0},{"$f":"SUMPRODUCT((AA$3>=Tableau3[Arrivée])*(AA$3<Tableau3[Départ])*(Tableau3[Chb]=$C17))","v":0},{"$f":"SUMPRODUCT((AB$3>=Tableau3[Arrivée])*(AB$3<Tableau3[Départ])*(Tableau3[Chb]=$C17))","v":0},{"$f":"SUMPRODUCT((AC$3>=Tableau3[Arrivée])*(AC$3<Tableau3[Départ])*(Tableau3[Chb]=$C17))","v":0},{"$f":"SUMPRODUCT((AD$3>=Tableau3[Arrivée])*(AD$3<Tableau3[Départ])*(Tableau3[Chb]=$C17))","v":0},{"$f":"SUMPRODUCT((AE$3>=Tableau3[Arrivée])*(AE$3<Tableau3[Départ])*(Tableau3[Chb]=$C17))","v":0},{"$f":"SUMPRODUCT((AF$3>=Tableau3[Arrivée])*(AF$3<Tableau3[Départ])*(Tableau3[Chb]=$C17))","v":0},{"$f":"SUMPRODUCT((AG$3>=Tableau3[Arrivée])*(AG$3<Tableau3[Départ])*(Tableau3[Chb]=$C17))","v":0},{"$f":"SUMPRODUCT((AH$3>=Tableau3[Arrivée])*(AH$3<Tableau3[Départ])*(Tableau3[Chb]=$C17))","v":0},0]
[null,"Single",202,{"$f":"SUMPRODUCT((D$3>=Tableau3[Arrivée])*(D$3<Tableau3[Départ])*(Tableau3[Chb]=$C18))","v":0},{"$f":"SUMPRODUCT((E$3>=Tableau3[Arrivée])*(E$3<Tableau3[Départ])*(Tableau3[Chb]=$C18))","v":0},{"$f":"SUMPRODUCT((F$3>=Tableau3[Arrivée])*(F$3<Tableau3[Départ])*(Tableau3[Chb]=$C18))","v":0},{"$f":"SUMPRODUCT((G$3>=Tableau3[Arrivée])*(G$3<Tableau3[Départ])*(Tableau3[Chb]=$C18))","v":0},{"$f":"SUMPRODUCT((H$3>=Tableau3[Arrivée])*(H$3<Tableau3[Départ])*(Tableau3[Chb]=$C18))","v":0},{"$f":"SUMPRODUCT((I$3>=Tableau3[Arrivée])*(I$3<Tableau3[Départ])*(Tableau3[Chb]=$C18))","v":0},{"$f":"SUMPRODUCT((J$3>=Tableau3[Arrivée])*(J$3<Tableau3[Départ])*(Tableau3[Chb]=$C18))","v":0},{"$f":"SUMPRODUCT((K$3>=Tableau3[Arrivée])*(K$3<Tableau3[Départ])*(Tableau3[Chb]=$C18))","v":0},{"$f":"SUMPRODUCT((L$3>=Tableau3[Arrivée])*(L$3<Tableau3[Départ])*(Tableau3[Chb]=$C18))","v":0},{"$f":"SUMPRODUCT((M$3>=Tableau3[Arrivée])*(M$3<Tableau3[Départ])*(Tableau3[Chb]=$C18))","v":0},{"$f":"SUMPRODUCT((N$3>=Tableau3[Arrivée])*(N$3<Tableau3[Départ])*(Tableau3[Chb]=$C18))","v":0},{"$f":"SUMPRODUCT((O$3>=Tableau3[Arrivée])*(O$3<Tableau3[Départ])*(Tableau3[Chb]=$C18))","v":0},{"$f":"SUMPRODUCT((P$3>=Tableau3[Arrivée])*(P$3<Tableau3[Départ])*(Tableau3[Chb]=$C18))","v":0},{"$f":"SUMPRODUCT((Q$3>=Tableau3[Arrivée])*(Q$3<Tableau3[Départ])*(Tableau3[Chb]=$C18))","v":0},{"$f":"SUMPRODUCT((R$3>=Tableau3[Arrivée])*(R$3<Tableau3[Départ])*(Tableau3[Chb]=$C18))","v":0},{"$f":"SUMPRODUCT((S$3>=Tableau3[Arrivée])*(S$3<Tableau3[Départ])*(Tableau3[Chb]=$C18))","v":0},{"$f":"SUMPRODUCT((T$3>=Tableau3[Arrivée])*(T$3<Tableau3[Départ])*(Tableau3[Chb]=$C18))","v":0},{"$f":"SUMPRODUCT((U$3>=Tableau3[Arrivée])*(U$3<Tableau3[Départ])*(Tableau3[Chb]=$C18))","v":0},{"$f":"SUMPRODUCT((V$3>=Tableau3[Arrivée])*(V$3<Tableau3[Départ])*(Tableau3[Chb]=$C18))","v":0},{"$f":"SUMPRODUCT((W$3>=Tableau3[Arrivée])*(W$3<Tableau3[Départ])*(Tableau3[Chb]=$C18))","v":0},{"$f":"SUMPRODUCT((X$3>=Tableau3[Arrivée])*(X$3<Tableau3[Départ])*(Tableau3[Chb]=$C18))","v":0},{"$f":"SUMPRODUCT((Y$3>=Tableau3[Arrivée])*(Y$3<Tableau3[Départ])*(Tableau3[Chb]=$C18))","v":0},{"$f":"SUMPRODUCT((Z$3>=Tableau3[Arrivée])*(Z$3<Tableau3[Départ])*(Tableau3[Chb]=$C18))","v":0},{"$f":"SUMPRODUCT((AA$3>=Tableau3[Arrivée])*(AA$3<Tableau3[Départ])*(Tableau3[Chb]=$C18))","v":0},{"$f":"SUMPRODUCT((AB$3>=Tableau3[Arrivée])*(AB$3<Tableau3[Départ])*(Tableau3[Chb]=$C18))","v":0},{"$f":"SUMPRODUCT((AC$3>=Tableau3[Arrivée])*(AC$3<Tableau3[Départ])*(Tableau3[Chb]=$C18))","v":0},{"$f":"SUMPRODUCT((AD$3>=Tableau3[Arrivée])*(AD$3<Tableau3[Départ])*(Tableau3[Chb]=$C18))","v":0},{"$f":"SUMPRODUCT((AE$3>=Tableau3[Arrivée])*(AE$3<Tableau3[Départ])*(Tableau3[Chb]=$C18))","v":0},{"$f":"SUMPRODUCT((AF$3>=Tableau3[Arrivée])*(AF$3<Tableau3[Départ])*(Tableau3[Chb]=$C18))","v":0},{"$f":"SUMPRODUCT((AG$3>=Tableau3[Arrivée])*(AG$3<Tableau3[Départ])*(Tableau3[Chb]=$C18))","v":0},{"$f":"SUMPRODUCT((AH$3>=Tableau3[Arrivée])*(AH$3<Tableau3[Départ])*(Tableau3[Chb]=$C18))","v":0},0]
[null,"Single",203,{"$f":"SUMPRODUCT((D$3>=Tableau3[Arrivée])*(D$3<Tableau3[Départ])*(Tableau3[Chb]=$C19))","v":0},{"$f":"SUMPRODUCT((E$3>=Tableau3[Arrivée])*(E$3<Tableau3[Départ])*(Tableau3[Chb]=$C19))","v":0},{"$f":"SUMPRODUCT((F$3>=Tableau3[Arrivée])*(F$3<Tableau3[Départ])*(Tableau3[Chb]=$C19))","v":0},{"$f":"SUMPRODUCT((G$3>=Tableau3[Arrivée])*(G$3<Tableau3[Départ])*(Tableau3[Chb]=$C19))","v":0},{"$f":"SUMPRODUCT((H$3>=Tableau3[Arrivée])*(H$3<Tableau3[Départ])*(Tableau3[Chb]=$C19))","v":0},{"$f":"SUMPRODUCT((I$3>=Tableau3[Arrivée])*(I$3<Tableau3[Départ])*(Tableau3[Chb]=$C19))","v":0},{"$f":"SUMPRODUCT((J$3>=Tableau3[Arrivée])*(J$3<Tableau3[Départ])*(Tableau3[Chb]=$C19))","v":0},{"$f":"SUMPRODUCT((K$3>=Tableau3[Arrivée])*(K$3<Tableau3[Départ])*(Tableau3[Chb]=$C19))","v":0},{"$f":"SUMPRODUCT((L$3>=Tableau3[Arrivée])*(L$3<Tableau3[Départ])*(Tableau3[Chb]=$C19))","v":0},{"$f":"SUMPRODUCT((M$3>=Tableau3[Arrivée])*(M$3<Tableau3[Départ])*(Tableau3[Chb]=$C19))","v":0},{"$f":"SUMPRODUCT((N$3>=Tableau3[Arrivée])*(N$3<Tableau3[Départ])*(Tableau3[Chb]=$C19))","v":0},{"$f":"SUMPRODUCT((O$3>=Tableau3[Arrivée])*(O$3<Tableau3[Départ])*(Tableau3[Chb]=$C19))","v":0},{"$f":"SUMPRODUCT((P$3>=Tableau3[Arrivée])*(P$3<Tableau3[Départ])*(Tableau3[Chb]=$C19))","v":0},{"$f":"SUMPRODUCT((Q$3>=Tableau3[Arrivée])*(Q$3<Tableau3[Départ])*(Tableau3[Chb]=$C19))","v":0},{"$f":"SUMPRODUCT((R$3>=Tableau3[Arrivée])*(R$3<Tableau3[Départ])*(Tableau3[Chb]=$C19))","v":0},{"$f":"SUMPRODUCT((S$3>=Tableau3[Arrivée])*(S$3<Tableau3[Départ])*(Tableau3[Chb]=$C19))","v":0},{"$f":"SUMPRODUCT((T$3>=Tableau3[Arrivée])*(T$3<Tableau3[Départ])*(Tableau3[Chb]=$C19))","v":0},{"$f":"SUMPRODUCT((U$3>=Tableau3[Arrivée])*(U$3<Tableau3[Départ])*(Tableau3[Chb]=$C19))","v":0},{"$f":"SUMPRODUCT((V$3>=Tableau3[Arrivée])*(V$3<Tableau3[Départ])*(Tableau3[Chb]=$C19))","v":0},{"$f":"SUMPRODUCT((W$3>=Tableau3[Arrivée])*(W$3<Tableau3[Départ])*(Tableau3[Chb]=$C19))","v":0},{"$f":"SUMPRODUCT((X$3>=Tableau3[Arrivée])*(X$3<Tableau3[Départ])*(Tableau3[Chb]=$C19))","v":0},{"$f":"SUMPRODUCT((Y$3>=Tableau3[Arrivée])*(Y$3<Tableau3[Départ])*(Tableau3[Chb]=$C19))","v":0},{"$f":"SUMPRODUCT((Z$3>=Tableau3[Arrivée])*(Z$3<Tableau3[Départ])*(Tableau3[Chb]=$C19))","v":0},{"$f":"SUMPRODUCT((AA$3>=Tableau3[Arrivée])*(AA$3<Tableau3[Départ])*(Tableau3[Chb]=$C19))","v":0},{"$f":"SUMPRODUCT((AB$3>=Tableau3[Arrivée])*(AB$3<Tableau3[Départ])*(Tableau3[Chb]=$C19))","v":0},{"$f":"SUMPRODUCT((AC$3>=Tableau3[Arrivée])*(AC$3<Tableau3[Départ])*(Tableau3[Chb]=$C19))","v":0},{"$f":"SUMPRODUCT((AD$3>=Tableau3[Arrivée])*(AD$3<Tableau3[Départ])*(Tableau3[Chb]=$C19))","v":0},{"$f":"SUMPRODUCT((AE$3>=Tableau3[Arrivée])*(AE$3<Tableau3[Départ])*(Tableau3[Chb]=$C19))","v":0},{"$f":"SUMPRODUCT((AF$3>=Tableau3[Arrivée])*(AF$3<Tableau3[Départ])*(Tableau3[Chb]=$C19))","v":0},{"$f":"SUMPRODUCT((AG$3>=Tableau3[Arrivée])*(AG$3<Tableau3[Départ])*(Tableau3[Chb]=$C19))","v":0},{"$f":"SUMPRODUCT((AH$3>=Tableau3[Arrivée])*(AH$3<Tableau3[Départ])*(Tableau3[Chb]=$C19))","v":0},0]
[null,"Single",204,{"$f":"SUMPRODUCT((D$3>=Tableau3[Arrivée])*(D$3<Tableau3[Départ])*(Tableau3[Chb]=$C20))","v":0},{"$f":"SUMPRODUCT((E$3>=Tableau3[Arrivée])*(E$3<Tableau3[Départ])*(Tableau3[Chb]=$C20))","v":0},{"$f":"SUMPRODUCT((F$3>=Tableau3[Arrivée])*(F$3<Tableau3[Départ])*(Tableau3[Chb]=$C20))","v":0},{"$f":"SUMPRODUCT((G$3>=Tableau3[Arrivée])*(G$3<Tableau3[Départ])*(Tableau3[Chb]=$C20))","v":0},{"$f":"SUMPRODUCT((H$3>=Tableau3[Arrivée])*(H$3<Tableau3[Départ])*(Tableau3[Chb]=$C20))","v":0},{"$f":"SUMPRODUCT((I$3>=Tableau3[Arrivée])*(I$3<Tableau3[Départ])*(Tableau3[Chb]=$C20))","v":0},{"$f":"SUMPRODUCT((J$3>=Tableau3[Arrivée])*(J$3<Tableau3[Départ])*(Tableau3[Chb]=$C20))","v":0},{"$f":"SUMPRODUCT((K$3>=Tableau3[Arrivée])*(K$3<Tableau3[Départ])*(Tableau3[Chb]=$C20))","v":0},{"$f":"SUMPRODUCT((L$3>=Tableau3[Arrivée])*(L$3<Tableau3[Départ])*(Tableau3[Chb]=$C20))","v":0},{"$f":"SUMPRODUCT((M$3>=Tableau3[Arrivée])*(M$3<Tableau3[Départ])*(Tableau3[Chb]=$C20))","v":0},{"$f":"SUMPRODUCT((N$3>=Tableau3[Arrivée])*(N$3<Tableau3[Départ])*(Tableau3[Chb]=$C20))","v":0},{"$f":"SUMPRODUCT((O$3>=Tableau3[Arrivée])*(O$3<Tableau3[Départ])*(Tableau3[Chb]=$C20))","v":0},{"$f":"SUMPRODUCT((P$3>=Tableau3[Arrivée])*(P$3<Tableau3[Départ])*(Tableau3[Chb]=$C20))","v":0},{"$f":"SUMPRODUCT((Q$3>=Tableau3[Arrivée])*(Q$3<Tableau3[Départ])*(Tableau3[Chb]=$C20))","v":0},{"$f":"SUMPRODUCT((R$3>=Tableau3[Arrivée])*(R$3<Tableau3[Départ])*(Tableau3[Chb]=$C20))","v":0},{"$f":"SUMPRODUCT((S$3>=Tableau3[Arrivée])*(S$3<Tableau3[Départ])*(Tableau3[Chb]=$C20))","v":0},{"$f":"SUMPRODUCT((T$3>=Tableau3[Arrivée])*(T$3<Tableau3[Départ])*(Tableau3[Chb]=$C20))","v":0},{"$f":"SUMPRODUCT((U$3>=Tableau3[Arrivée])*(U$3<Tableau3[Départ])*(Tableau3[Chb]=$C20))","v":0},{"$f":"SUMPRODUCT((V$3>=Tableau3[Arrivée])*(V$3<Tableau3[Départ])*(Tableau3[Chb]=$C20))","v":0},{"$f":"SUMPRODUCT((W$3>=Tableau3[Arrivée])*(W$3<Tableau3[Départ])*(Tableau3[Chb]=$C20))","v":0},{"$f":"SUMPRODUCT((X$3>=Tableau3[Arrivée])*(X$3<Tableau3[Départ])*(Tableau3[Chb]=$C20))","v":0},{"$f":"SUMPRODUCT((Y$3>=Tableau3[Arrivée])*(Y$3<Tableau3[Départ])*(Tableau3[Chb]=$C20))","v":0},{"$f":"SUMPRODUCT((Z$3>=Tableau3[Arrivée])*(Z$3<Tableau3[Départ])*(Tableau3[Chb]=$C20))","v":0},{"$f":"SUMPRODUCT((AA$3>=Tableau3[Arrivée])*(AA$3<Tableau3[Départ])*(Tableau3[Chb]=$C20))","v":0},{"$f":"SUMPRODUCT((AB$3>=Tableau3[Arrivée])*(AB$3<Tableau3[Départ])*(Tableau3[Chb]=$C20))","v":0},{"$f":"SUMPRODUCT((AC$3>=Tableau3[Arrivée])*(AC$3<Tableau3[Départ])*(Tableau3[Chb]=$C20))","v":0},{"$f":"SUMPRODUCT((AD$3>=Tableau3[Arrivée])*(AD$3<Tableau3[Départ])*(Tableau3[Chb]=$C20))","v":0},{"$f":"SUMPRODUCT((AE$3>=Tableau3[Arrivée])*(AE$3<Tableau3[Départ])*(Tableau3[Chb]=$C20))","v":0},{"$f":"SUMPRODUCT((AF$3>=Tableau3[Arrivée])*(AF$3<Tableau3[Départ])*(Tableau3[Chb]=$C20))","v":0},{"$f":"SUMPRODUCT((AG$3>=Tableau3[Arrivée])*(AG$3<Tableau3[Départ])*(Tableau3[Chb]=$C20))","v":0},{"$f":"SUMPRODUCT((AH$3>=Tableau3[Arrivée])*(AH$3<Tableau3[Départ])*(Tableau3[Chb]=$C20))","v":0},0]
[null,"Single",205,{"$f":"SUMPRODUCT((D$3>=Tableau3[Arrivée])*(D$3<Tableau3[Départ])*(Tableau3[Chb]=$C21))","v":0},{"$f":"SUMPRODUCT((E$3>=Tableau3[Arrivée])*(E$3<Tableau3[Départ])*(Tableau3[Chb]=$C21))","v":0},{"$f":"SUMPRODUCT((F$3>=Tableau3[Arrivée])*(F$3<Tableau3[Départ])*(Tableau3[Chb]=$C21))","v":0},{"$f":"SUMPRODUCT((G$3>=Tableau3[Arrivée])*(G$3<Tableau3[Départ])*(Tableau3[Chb]=$C21))","v":0},{"$f":"SUMPRODUCT((H$3>=Tableau3[Arrivée])*(H$3<Tableau3[Départ])*(Tableau3[Chb]=$C21))","v":0},{"$f":"SUMPRODUCT((I$3>=Tableau3[Arrivée])*(I$3<Tableau3[Départ])*(Tableau3[Chb]=$C21))","v":0},{"$f":"SUMPRODUCT((J$3>=Tableau3[Arrivée])*(J$3<Tableau3[Départ])*(Tableau3[Chb]=$C21))","v":0},{"$f":"SUMPRODUCT((K$3>=Tableau3[Arrivée])*(K$3<Tableau3[Départ])*(Tableau3[Chb]=$C21))","v":0},{"$f":"SUMPRODUCT((L$3>=Tableau3[Arrivée])*(L$3<Tableau3[Départ])*(Tableau3[Chb]=$C21))","v":0},{"$f":"SUMPRODUCT((M$3>=Tableau3[Arrivée])*(M$3<Tableau3[Départ])*(Tableau3[Chb]=$C21))","v":0},{"$f":"SUMPRODUCT((N$3>=Tableau3[Arrivée])*(N$3<Tableau3[Départ])*(Tableau3[Chb]=$C21))","v":0},{"$f":"SUMPRODUCT((O$3>=Tableau3[Arrivée])*(O$3<Tableau3[Départ])*(Tableau3[Chb]=$C21))","v":0},{"$f":"SUMPRODUCT((P$3>=Tableau3[Arrivée])*(P$3<Tableau3[Départ])*(Tableau3[Chb]=$C21))","v":0},{"$f":"SUMPRODUCT((Q$3>=Tableau3[Arrivée])*(Q$3<Tableau3[Départ])*(Tableau3[Chb]=$C21))","v":0},{"$f":"SUMPRODUCT((R$3>=Tableau3[Arrivée])*(R$3<Tableau3[Départ])*(Tableau3[Chb]=$C21))","v":0},{"$f":"SUMPRODUCT((S$3>=Tableau3[Arrivée])*(S$3<Tableau3[Départ])*(Tableau3[Chb]=$C21))","v":0},{"$f":"SUMPRODUCT((T$3>=Tableau3[Arrivée])*(T$3<Tableau3[Départ])*(Tableau3[Chb]=$C21))","v":0},{"$f":"SUMPRODUCT((U$3>=Tableau3[Arrivée])*(U$3<Tableau3[Départ])*(Tableau3[Chb]=$C21))","v":0},{"$f":"SUMPRODUCT((V$3>=Tableau3[Arrivée])*(V$3<Tableau3[Départ])*(Tableau3[Chb]=$C21))","v":0},{"$f":"SUMPRODUCT((W$3>=Tableau3[Arrivée])*(W$3<Tableau3[Départ])*(Tableau3[Chb]=$C21))","v":0},{"$f":"SUMPRODUCT((X$3>=Tableau3[Arrivée])*(X$3<Tableau3[Départ])*(Tableau3[Chb]=$C21))","v":0},{"$f":"SUMPRODUCT((Y$3>=Tableau3[Arrivée])*(Y$3<Tableau3[Départ])*(Tableau3[Chb]=$C21))","v":0},{"$f":"SUMPRODUCT((Z$3>=Tableau3[Arrivée])*(Z$3<Tableau3[Départ])*(Tableau3[Chb]=$C21))","v":0},{"$f":"SUMPRODUCT((AA$3>=Tableau3[Arrivée])*(AA$3<Tableau3[Départ])*(Tableau3[Chb]=$C21))","v":0},{"$f":"SUMPRODUCT((AB$3>=Tableau3[Arrivée])*(AB$3<Tableau3[Départ])*(Tableau3[Chb]=$C21))","v":0},{"$f":"SUMPRODUCT((AC$3>=Tableau3[Arrivée])*(AC$3<Tableau3[Départ])*(Tableau3[Chb]=$C21))","v":0},{"$f":"SUMPRODUCT((AD$3>=Tableau3[Arrivée])*(AD$3<Tableau3[Départ])*(Tableau3[Chb]=$C21))","v":0},{"$f":"SUMPRODUCT((AE$3>=Tableau3[Arrivée])*(AE$3<Tableau3[Départ])*(Tableau3[Chb]=$C21))","v":0},{"$f":"SUMPRODUCT((AF$3>=Tableau3[Arrivée])*(AF$3<Tableau3[Départ])*(Tableau3[Chb]=$C21))","v":0},{"$f":"SUMPRODUCT((AG$3>=Tableau3[Arrivée])*(AG$3<Tableau3[Départ])*(Tableau3[Chb]=$C21))","v":0},{"$f":"SUMPRODUCT((AH$3>=Tableau3[Arrivée])*(AH$3<Tableau3[Départ])*(Tableau3[Chb]=$C21))","v":0},0]
[null,"Single",206,{"$f":"SUMPRODUCT((D$3>=Tableau3[Arrivée])*(D$3<Tableau3[Départ])*(Tableau3[Chb]=$C22))","v":0},{"$f":"SUMPRODUCT((E$3>=Tableau3[Arrivée])*(E$3<Tableau3[Départ])*(Tableau3[Chb]=$C22))","v":0},{"$f":"SUMPRODUCT((F$3>=Tableau3[Arrivée])*(F$3<Tableau3[Départ])*(Tableau3[Chb]=$C22))","v":0},{"$f":"SUMPRODUCT((G$3>=Tableau3[Arrivée])*(G$3<Tableau3[Départ])*(Tableau3[Chb]=$C22))","v":0},{"$f":"SUMPRODUCT((H$3>=Tableau3[Arrivée])*(H$3<Tableau3[Départ])*(Tableau3[Chb]=$C22))","v":0},{"$f":"SUMPRODUCT((I$3>=Tableau3[Arrivée])*(I$3<Tableau3[Départ])*(Tableau3[Chb]=$C22))","v":0},{"$f":"SUMPRODUCT((J$3>=Tableau3[Arrivée])*(J$3<Tableau3[Départ])*(Tableau3[Chb]=$C22))","v":0},{"$f":"SUMPRODUCT((K$3>=Tableau3[Arrivée])*(K$3<Tableau3[Départ])*(Tableau3[Chb]=$C22))","v":0},{"$f":"SUMPRODUCT((L$3>=Tableau3[Arrivée])*(L$3<Tableau3[Départ])*(Tableau3[Chb]=$C22))","v":0},{"$f":"SUMPRODUCT((M$3>=Tableau3[Arrivée])*(M$3<Tableau3[Départ])*(Tableau3[Chb]=$C22))","v":0},{"$f":"SUMPRODUCT((N$3>=Tableau3[Arrivée])*(N$3<Tableau3[Départ])*(Tableau3[Chb]=$C22))","v":0},{"$f":"SUMPRODUCT((O$3>=Tableau3[Arrivée])*(O$3<Tableau3[Départ])*(Tableau3[Chb]=$C22))","v":0},{"$f":"SUMPRODUCT((P$3>=Tableau3[Arrivée])*(P$3<Tableau3[Départ])*(Tableau3[Chb]=$C22))","v":0},{"$f":"SUMPRODUCT((Q$3>=Tableau3[Arrivée])*(Q$3<Tableau3[Départ])*(Tableau3[Chb]=$C22))","v":0},{"$f":"SUMPRODUCT((R$3>=Tableau3[Arrivée])*(R$3<Tableau3[Départ])*(Tableau3[Chb]=$C22))","v":0},{"$f":"SUMPRODUCT((S$3>=Tableau3[Arrivée])*(S$3<Tableau3[Départ])*(Tableau3[Chb]=$C22))","v":0},{"$f":"SUMPRODUCT((T$3>=Tableau3[Arrivée])*(T$3<Tableau3[Départ])*(Tableau3[Chb]=$C22))","v":0},{"$f":"SUMPRODUCT((U$3>=Tableau3[Arrivée])*(U$3<Tableau3[Départ])*(Tableau3[Chb]=$C22))","v":0},{"$f":"SUMPRODUCT((V$3>=Tableau3[Arrivée])*(V$3<Tableau3[Départ])*(Tableau3[Chb]=$C22))","v":0},{"$f":"SUMPRODUCT((W$3>=Tableau3[Arrivée])*(W$3<Tableau3[Départ])*(Tableau3[Chb]=$C22))","v":0},{"$f":"SUMPRODUCT((X$3>=Tableau3[Arrivée])*(X$3<Tableau3[Départ])*(Tableau3[Chb]=$C22))","v":0},{"$f":"SUMPRODUCT((Y$3>=Tableau3[Arrivée])*(Y$3<Tableau3[Départ])*(Tableau3[Chb]=$C22))","v":0},{"$f":"SUMPRODUCT((Z$3>=Tableau3[Arrivée])*(Z$3<Tableau3[Départ])*(Tableau3[Chb]=$C22))","v":0},{"$f":"SUMPRODUCT((AA$3>=Tableau3[Arrivée])*(AA$3<Tableau3[Départ])*(Tableau3[Chb]=$C22))","v":0},{"$f":"SUMPRODUCT((AB$3>=Tableau3[Arrivée])*(AB$3<Tableau3[Départ])*(Tableau3[Chb]=$C22))","v":0},{"$f":"SUMPRODUCT((AC$3>=Tableau3[Arrivée])*(AC$3<Tableau3[Départ])*(Tableau3[Chb]=$C22))","v":0},{"$f":"SUMPRODUCT((AD$3>=Tableau3[Arrivée])*(AD$3<Tableau3[Départ])*(Tableau3[Chb]=$C22))","v":0},{"$f":"SUMPRODUCT((AE$3>=Tableau3[Arrivée])*(AE$3<Tableau3[Départ])*(Tableau3[Chb]=$C22))","v":0},{"$f":"SUMPRODUCT((AF$3>=Tableau3[Arrivée])*(AF$3<Tableau3[Départ])*(Tableau3[Chb]=$C22))","v":0},{"$f":"SUMPRODUCT((AG$3>=Tableau3[Arrivée])*(AG$3<Tableau3[Départ])*(Tableau3[Chb]=$C22))","v":0},{"$f":"SUMPRODUCT((AH$3>=Tableau3[Arrivée])*(AH$3<Tableau3[Départ])*(Tableau3[Chb]=$C22))","v":0},0]
[null,"Triple",207,{"$f":"SUMPRODUCT((D$3>=Tableau3[Arrivée])*(D$3<Tableau3[Départ])*(Tableau3[Chb]=$C23))","v":0},{"$f":"SUMPRODUCT((E$3>=Tableau3[Arrivée])*(E$3<Tableau3[Départ])*(Tableau3[Chb]=$C23))","v":0},{"$f":"SUMPRODUCT((F$3>=Tableau3[Arrivée])*(F$3<Tableau3[Départ])*(Tableau3[Chb]=$C23))","v":0},{"$f":"SUMPRODUCT((G$3>=Tableau3[Arrivée])*(G$3<Tableau3[Départ])*(Tableau3[Chb]=$C23))","v":0},{"$f":"SUMPRODUCT((H$3>=Tableau3[Arrivée])*(H$3<Tableau3[Départ])*(Tableau3[Chb]=$C23))","v":0},{"$f":"SUMPRODUCT((I$3>=Tableau3[Arrivée])*(I$3<Tableau3[Départ])*(Tableau3[Chb]=$C23))","v":0},{"$f":"SUMPRODUCT((J$3>=Tableau3[Arrivée])*(J$3<Tableau3[Départ])*(Tableau3[Chb]=$C23))","v":0},{"$f":"SUMPRODUCT((K$3>=Tableau3[Arrivée])*(K$3<Tableau3[Départ])*(Tableau3[Chb]=$C23))","v":0},{"$f":"SUMPRODUCT((L$3>=Tableau3[Arrivée])*(L$3<Tableau3[Départ])*(Tableau3[Chb]=$C23))","v":0},{"$f":"SUMPRODUCT((M$3>=Tableau3[Arrivée])*(M$3<Tableau3[Départ])*(Tableau3[Chb]=$C23))","v":0},{"$f":"SUMPRODUCT((N$3>=Tableau3[Arrivée])*(N$3<Tableau3[Départ])*(Tableau3[Chb]=$C23))","v":0},{"$f":"SUMPRODUCT((O$3>=Tableau3[Arrivée])*(O$3<Tableau3[Départ])*(Tableau3[Chb]=$C23))","v":0},{"$f":"SUMPRODUCT((P$3>=Tableau3[Arrivée])*(P$3<Tableau3[Départ])*(Tableau3[Chb]=$C23))","v":0},{"$f":"SUMPRODUCT((Q$3>=Tableau3[Arrivée])*(Q$3<Tableau3[Départ])*(Tableau3[Chb]=$C23))","v":0},{"$f":"SUMPRODUCT((R$3>=Tableau3[Arrivée])*(R$3<Tableau3[Départ])*(Tableau3[Chb]=$C23))","v":0},{"$f":"SUMPRODUCT((S$3>=Tableau3[Arrivée])*(S$3<Tableau3[Départ])*(Tableau3[Chb]=$C23))","v":0},{"$f":"SUMPRODUCT((T$3>=Tableau3[Arrivée])*(T$3<Tableau3[Départ])*(Tableau3[Chb]=$C23))","v":0},{"$f":"SUMPRODUCT((U$3>=Tableau3[Arrivée])*(U$3<Tableau3[Départ])*(Tableau3[Chb]=$C23))","v":0},{"$f":"SUMPRODUCT((V$3>=Tableau3[Arrivée])*(V$3<Tableau3[Départ])*(Tableau3[Chb]=$C23))","v":0},{"$f":"SUMPRODUCT((W$3>=Tableau3[Arrivée])*(W$3<Tableau3[Départ])*(Tableau3[Chb]=$C23))","v":0},{"$f":"SUMPRODUCT((X$3>=Tableau3[Arrivée])*(X$3<Tableau3[Départ])*(Tableau3[Chb]=$C23))","v":0},{"$f":"SUMPRODUCT((Y$3>=Tableau3[Arrivée])*(Y$3<Tableau3[Départ])*(Tableau3[Chb]=$C23))","v":0},{"$f":"SUMPRODUCT((Z$3>=Tableau3[Arrivée])*(Z$3<Tableau3[Départ])*(Tableau3[Chb]=$C23))","v":0},{"$f":"SUMPRODUCT((AA$3>=Tableau3[Arrivée])*(AA$3<Tableau3[Départ])*(Tableau3[Chb]=$C23))","v":0},{"$f":"SUMPRODUCT((AB$3>=Tableau3[Arrivée])*(AB$3<Tableau3[Départ])*(Tableau3[Chb]=$C23))","v":0},{"$f":"SUMPRODUCT((AC$3>=Tableau3[Arrivée])*(AC$3<Tableau3[Départ])*(Tableau3[Chb]=$C23))","v":0},{"$f":"SUMPRODUCT((AD$3>=Tableau3[Arrivée])*(AD$3<Tableau3[Départ])*(Tableau3[Chb]=$C23))","v":0},{"$f":"SUMPRODUCT((AE$3>=Tableau3[Arrivée])*(AE$3<Tableau3[Départ])*(Tableau3[Chb]=$C23))","v":0},{"$f":"SUMPRODUCT((AF$3>=Tableau3[Arrivée])*(AF$3<Tableau3[Départ])*(Tableau3[Chb]=$C23))","v":0},{"$f":"SUMPRODUCT((AG$3>=Tableau3[Arrivée])*(AG$3<Tableau3[Départ])*(Tableau3[Chb]=$C23))","v":0},{"$f":"SUMPRODUCT((AH$3>=Tableau3[Arrivée])*(AH$3<Tableau3[Départ])*(Tableau3[Chb]=$C23))","v":0},0]
[null,"Triple",208,{"$f":"SUMPRODUCT((D$3>=Tableau3[Arrivée])*(D$3<Tableau3[Départ])*(Tableau3[Chb]=$C24))","v":0},{"$f":"SUMPRODUCT((E$3>=Tableau3[Arrivée])*(E$3<Tableau3[Départ])*(Tableau3[Chb]=$C24))","v":0},{"$f":"SUMPRODUCT((F$3>=Tableau3[Arrivée])*(F$3<Tableau3[Départ])*(Tableau3[Chb]=$C24))","v":0},{"$f":"SUMPRODUCT((G$3>=Tableau3[Arrivée])*(G$3<Tableau3[Départ])*(Tableau3[Chb]=$C24))","v":0},{"$f":"SUMPRODUCT((H$3>=Tableau3[Arrivée])*(H$3<Tableau3[Départ])*(Tableau3[Chb]=$C24))","v":0},{"$f":"SUMPRODUCT((I$3>=Tableau3[Arrivée])*(I$3<Tableau3[Départ])*(Tableau3[Chb]=$C24))","v":0},{"$f":"SUMPRODUCT((J$3>=Tableau3[Arrivée])*(J$3<Tableau3[Départ])*(Tableau3[Chb]=$C24))","v":0},{"$f":"SUMPRODUCT((K$3>=Tableau3[Arrivée])*(K$3<Tableau3[Départ])*(Tableau3[Chb]=$C24))","v":0},{"$f":"SUMPRODUCT((L$3>=Tableau3[Arrivée])*(L$3<Tableau3[Départ])*(Tableau3[Chb]=$C24))","v":0},{"$f":"SUMPRODUCT((M$3>=Tableau3[Arrivée])*(M$3<Tableau3[Départ])*(Tableau3[Chb]=$C24))","v":0},{"$f":"SUMPRODUCT((N$3>=Tableau3[Arrivée])*(N$3<Tableau3[Départ])*(Tableau3[Chb]=$C24))","v":0},{"$f":"SUMPRODUCT((O$3>=Tableau3[Arrivée])*(O$3<Tableau3[Départ])*(Tableau3[Chb]=$C24))","v":0},{"$f":"SUMPRODUCT((P$3>=Tableau3[Arrivée])*(P$3<Tableau3[Départ])*(Tableau3[Chb]=$C24))","v":0},{"$f":"SUMPRODUCT((Q$3>=Tableau3[Arrivée])*(Q$3<Tableau3[Départ])*(Tableau3[Chb]=$C24))","v":0},{"$f":"SUMPRODUCT((R$3>=Tableau3[Arrivée])*(R$3<Tableau3[Départ])*(Tableau3[Chb]=$C24))","v":0},{"$f":"SUMPRODUCT((S$3>=Tableau3[Arrivée])*(S$3<Tableau3[Départ])*(Tableau3[Chb]=$C24))","v":0},{"$f":"SUMPRODUCT((T$3>=Tableau3[Arrivée])*(T$3<Tableau3[Départ])*(Tableau3[Chb]=$C24))","v":0},{"$f":"SUMPRODUCT((U$3>=Tableau3[Arrivée])*(U$3<Tableau3[Départ])*(Tableau3[Chb]=$C24))","v":0},{"$f":"SUMPRODUCT((V$3>=Tableau3[Arrivée])*(V$3<Tableau3[Départ])*(Tableau3[Chb]=$C24))","v":0},{"$f":"SUMPRODUCT((W$3>=Tableau3[Arrivée])*(W$3<Tableau3[Départ])*(Tableau3[Chb]=$C24))","v":0},{"$f":"SUMPRODUCT((X$3>=Tableau3[Arrivée])*(X$3<Tableau3[Départ])*(Tableau3[Chb]=$C24))","v":0},{"$f":"SUMPRODUCT((Y$3>=Tableau3[Arrivée])*(Y$3<Tableau3[Départ])*(Tableau3[Chb]=$C24))","v":0},{"$f":"SUMPRODUCT((Z$3>=Tableau3[Arrivée])*(Z$3<Tableau3[Départ])*(Tableau3[Chb]=$C24))","v":0},{"$f":"SUMPRODUCT((AA$3>=Tableau3[Arrivée])*(AA$3<Tableau3[Départ])*(Tableau3[Chb]=$C24))","v":0},{"$f":"SUMPRODUCT((AB$3>=Tableau3[Arrivée])*(AB$3<Tableau3[Départ])*(Tableau3[Chb]=$C24))","v":0},{"$f":"SUMPRODUCT((AC$3>=Tableau3[Arrivée])*(AC$3<Tableau3[Départ])*(Tableau3[Chb]=$C24))","v":0},{"$f":"SUMPRODUCT((AD$3>=Tableau3[Arrivée])*(AD$3<Tableau3[Départ])*(Tableau3[Chb]=$C24))","v":0},{"$f":"SUMPRODUCT((AE$3>=Tableau3[Arrivée])*(AE$3<Tableau3[Départ])*(Tableau3[Chb]=$C24))","v":0},{"$f":"SUMPRODUCT((AF$3>=Tableau3[Arrivée])*(AF$3<Tableau3[Départ])*(Tableau3[Chb]=$C24))","v":0},{"$f":"SUMPRODUCT((AG$3>=Tableau3[Arrivée])*(AG$3<Tableau3[Départ])*(Tableau3[Chb]=$C24))","v":0},{"$f":"SUMPRODUCT((AH$3>=Tableau3[Arrivée])*(AH$3<Tableau3[Départ])*(Tableau3[Chb]=$C24))","v":0},0]
[null,"Suite",209,{"$f":"SUMPRODUCT((D$3>=Tableau3[Arrivée])*(D$3<Tableau3[Départ])*(Tableau3[Chb]=$C25))","v":0},{"$f":"SUMPRODUCT((E$3>=Tableau3[Arrivée])*(E$3<Tableau3[Départ])*(Tableau3[Chb]=$C25))","v":0},{"$f":"SUMPRODUCT((F$3>=Tableau3[Arrivée])*(F$3<Tableau3[Départ])*(Tableau3[Chb]=$C25))","v":0},{"$f":"SUMPRODUCT((G$3>=Tableau3[Arrivée])*(G$3<Tableau3[Départ])*(Tableau3[Chb]=$C25))","v":0},{"$f":"SUMPRODUCT((H$3>=Tableau3[Arrivée])*(H$3<Tableau3[Départ])*(Tableau3[Chb]=$C25))","v":0},{"$f":"SUMPRODUCT((I$3>=Tableau3[Arrivée])*(I$3<Tableau3[Départ])*(Tableau3[Chb]=$C25))","v":0},{"$f":"SUMPRODUCT((J$3>=Tableau3[Arrivée])*(J$3<Tableau3[Départ])*(Tableau3[Chb]=$C25))","v":0},{"$f":"SUMPRODUCT((K$3>=Tableau3[Arrivée])*(K$3<Tableau3[Départ])*(Tableau3[Chb]=$C25))","v":0},{"$f":"SUMPRODUCT((L$3>=Tableau3[Arrivée])*(L$3<Tableau3[Départ])*(Tableau3[Chb]=$C25))","v":0},{"$f":"SUMPRODUCT((M$3>=Tableau3[Arrivée])*(M$3<Tableau3[Départ])*(Tableau3[Chb]=$C25))","v":0},{"$f":"SUMPRODUCT((N$3>=Tableau3[Arrivée])*(N$3<Tableau3[Départ])*(Tableau3[Chb]=$C25))","v":0},{"$f":"SUMPRODUCT((O$3>=Tableau3[Arrivée])*(O$3<Tableau3[Départ])*(Tableau3[Chb]=$C25))","v":0},{"$f":"SUMPRODUCT((P$3>=Tableau3[Arrivée])*(P$3<Tableau3[Départ])*(Tableau3[Chb]=$C25))","v":0},{"$f":"SUMPRODUCT((Q$3>=Tableau3[Arrivée])*(Q$3<Tableau3[Départ])*(Tableau3[Chb]=$C25))","v":0},{"$f":"SUMPRODUCT((R$3>=Tableau3[Arrivée])*(R$3<Tableau3[Départ])*(Tableau3[Chb]=$C25))","v":0},{"$f":"SUMPRODUCT((S$3>=Tableau3[Arrivée])*(S$3<Tableau3[Départ])*(Tableau3[Chb]=$C25))","v":0},{"$f":"SUMPRODUCT((T$3>=Tableau3[Arrivée])*(T$3<Tableau3[Départ])*(Tableau3[Chb]=$C25))","v":0},{"$f":"SUMPRODUCT((U$3>=Tableau3[Arrivée])*(U$3<Tableau3[Départ])*(Tableau3[Chb]=$C25))","v":0},{"$f":"SUMPRODUCT((V$3>=Tableau3[Arrivée])*(V$3<Tableau3[Départ])*(Tableau3[Chb]=$C25))","v":0},{"$f":"SUMPRODUCT((W$3>=Tableau3[Arrivée])*(W$3<Tableau3[Départ])*(Tableau3[Chb]=$C25))","v":0},{"$f":"SUMPRODUCT((X$3>=Tableau3[Arrivée])*(X$3<Tableau3[Départ])*(Tableau3[Chb]=$C25))","v":0},{"$f":"SUMPRODUCT((Y$3>=Tableau3[Arrivée])*(Y$3<Tableau3[Départ])*(Tableau3[Chb]=$C25))","v":0},{"$f":"SUMPRODUCT((Z$3>=Tableau3[Arrivée])*(Z$3<Tableau3[Départ])*(Tableau3[Chb]=$C25))","v":0},{"$f":"SUMPRODUCT((AA$3>=Tableau3[Arrivée])*(AA$3<Tableau3[Départ])*(Tableau3[Chb]=$C25))","v":0},{"$f":"SUMPRODUCT((AB$3>=Tableau3[Arrivée])*(AB$3<Tableau3[Départ])*(Tableau3[Chb]=$C25))","v":0},{"$f":"SUMPRODUCT((AC$3>=Tableau3[Arrivée])*(AC$3<Tableau3[Départ])*(Tableau3[Chb]=$C25))","v":0},{"$f":"SUMPRODUCT((AD$3>=Tableau3[Arrivée])*(AD$3<Tableau3[Départ])*(Tableau3[Chb]=$C25))","v":0},{"$f":"SUMPRODUCT((AE$3>=Tableau3[Arrivée])*(AE$3<Tableau3[Départ])*(Tableau3[Chb]=$C25))","v":0},{"$f":"SUMPRODUCT((AF$3>=Tableau3[Arrivée])*(AF$3<Tableau3[Départ])*(Tableau3[Chb]=$C25))","v":0},{"$f":"SUMPRODUCT((AG$3>=Tableau3[Arrivée])*(AG$3<Tableau3[Départ])*(Tableau3[Chb]=$C25))","v":0},{"$f":"SUMPRODUCT((AH$3>=Tableau3[Arrivée])*(AH$3<Tableau3[Départ])*(Tableau3[Chb]=$C25))","v":0},0]
[null,"Triple",210,{"$f":"SUMPRODUCT((D$3>=Tableau3[Arrivée])*(D$3<Tableau3[Départ])*(Tableau3[Chb]=$C26))","v":0},{"$f":"SUMPRODUCT((E$3>=Tableau3[Arrivée])*(E$3<Tableau3[Départ])*(Tableau3[Chb]=$C26))","v":0},{"$f":"SUMPRODUCT((F$3>=Tableau3[Arrivée])*(F$3<Tableau3[Départ])*(Tableau3[Chb]=$C26))","v":0},{"$f":"SUMPRODUCT((G$3>=Tableau3[Arrivée])*(G$3<Tableau3[Départ])*(Tableau3[Chb]=$C26))","v":0},{"$f":"SUMPRODUCT((H$3>=Tableau3[Arrivée])*(H$3<Tableau3[Départ])*(Tableau3[Chb]=$C26))","v":0},{"$f":"SUMPRODUCT((I$3>=Tableau3[Arrivée])*(I$3<Tableau3[Départ])*(Tableau3[Chb]=$C26))","v":0},{"$f":"SUMPRODUCT((J$3>=Tableau3[Arrivée])*(J$3<Tableau3[Départ])*(Tableau3[Chb]=$C26))","v":0},{"$f":"SUMPRODUCT((K$3>=Tableau3[Arrivée])*(K$3<Tableau3[Départ])*(Tableau3[Chb]=$C26))","v":0},{"$f":"SUMPRODUCT((L$3>=Tableau3[Arrivée])*(L$3<Tableau3[Départ])*(Tableau3[Chb]=$C26))","v":0},{"$f":"SUMPRODUCT((M$3>=Tableau3[Arrivée])*(M$3<Tableau3[Départ])*(Tableau3[Chb]=$C26))","v":0},{"$f":"SUMPRODUCT((N$3>=Tableau3[Arrivée])*(N$3<Tableau3[Départ])*(Tableau3[Chb]=$C26))","v":0},{"$f":"SUMPRODUCT((O$3>=Tableau3[Arrivée])*(O$3<Tableau3[Départ])*(Tableau3[Chb]=$C26))","v":0},{"$f":"SUMPRODUCT((P$3>=Tableau3[Arrivée])*(P$3<Tableau3[Départ])*(Tableau3[Chb]=$C26))","v":0},{"$f":"SUMPRODUCT((Q$3>=Tableau3[Arrivée])*(Q$3<Tableau3[Départ])*(Tableau3[Chb]=$C26))","v":0},{"$f":"SUMPRODUCT((R$3>=Tableau3[Arrivée])*(R$3<Tableau3[Départ])*(Tableau3[Chb]=$C26))","v":0},{"$f":"SUMPRODUCT((S$3>=Tableau3[Arrivée])*(S$3<Tableau3[Départ])*(Tableau3[Chb]=$C26))","v":0},{"$f":"SUMPRODUCT((T$3>=Tableau3[Arrivée])*(T$3<Tableau3[Départ])*(Tableau3[Chb]=$C26))","v":0},{"$f":"SUMPRODUCT((U$3>=Tableau3[Arrivée])*(U$3<Tableau3[Départ])*(Tableau3[Chb]=$C26))","v":0},{"$f":"SUMPRODUCT((V$3>=Tableau3[Arrivée])*(V$3<Tableau3[Départ])*(Tableau3[Chb]=$C26))","v":0},{"$f":"SUMPRODUCT((W$3>=Tableau3[Arrivée])*(W$3<Tableau3[Départ])*(Tableau3[Chb]=$C26))","v":0},{"$f":"SUMPRODUCT((X$3>=Tableau3[Arrivée])*(X$3<Tableau3[Départ])*(Tableau3[Chb]=$C26))","v":0},{"$f":"SUMPRODUCT((Y$3>=Tableau3[Arrivée])*(Y$3<Tableau3[Départ])*(Tableau3[Chb]=$C26))","v":0},{"$f":"SUMPRODUCT((Z$3>=Tableau3[Arrivée])*(Z$3<Tableau3[Départ])*(Tableau3[Chb]=$C26))","v":0},{"$f":"SUMPRODUCT((AA$3>=Tableau3[Arrivée])*(AA$3<Tableau3[Départ])*(Tableau3[Chb]=$C26))","v":0},{"$f":"SUMPRODUCT((AB$3>=Tableau3[Arrivée])*(AB$3<Tableau3[Départ])*(Tableau3[Chb]=$C26))","v":0},{"$f":"SUMPRODUCT((AC$3>=Tableau3[Arrivée])*(AC$3<Tableau3[Départ])*(Tableau3[Chb]=$C26))","v":0},{"$f":"SUMPRODUCT((AD$3>=Tableau3[Arrivée])*(AD$3<Tableau3[Départ])*(Tableau3[Chb]=$C26))","v":0},{"$f":"SUMPRODUCT((AE$3>=Tableau3[Arrivée])*(AE$3<Tableau3[Départ])*(Tableau3[Chb]=$C26))","v":0},{"$f":"SUMPRODUCT((AF$3>=Tableau3[Arrivée])*(AF$3<Tableau3[Départ])*(Tableau3[Chb]=$C26))","v":0},{"$f":"SUMPRODUCT((AG$3>=Tableau3[Arrivée])*(AG$3<Tableau3[Départ])*(Tableau3[Chb]=$C26))","v":0},{"$f":"SUMPRODUCT((AH$3>=Tableau3[Arrivée])*(AH$3<Tableau3[Départ])*(Tableau3[Chb]=$C26))","v":0},0]
[null,"Triple",211,{"$f":"SUMPRODUCT((D$3>=Tableau3[Arrivée])*(D$3<Tableau3[Départ])*(Tableau3[Chb]=$C27))","v":0},{"$f":"SUMPRODUCT((E$3>=Tableau3[Arrivée])*(E$3<Tableau3[Départ])*(Tableau3[Chb]=$C27))","v":0},{"$f":"SUMPRODUCT((F$3>=Tableau3[Arrivée])*(F$3<Tableau3[Départ])*(Tableau3[Chb]=$C27))","v":0},{"$f":"SUMPRODUCT((G$3>=Tableau3[Arrivée])*(G$3<Tableau3[Départ])*(Tableau3[Chb]=$C27))","v":0},{"$f":"SUMPRODUCT((H$3>=Tableau3[Arrivée])*(H$3<Tableau3[Départ])*(Tableau3[Chb]=$C27))","v":0},{"$f":"SUMPRODUCT((I$3>=Tableau3[Arrivée])*(I$3<Tableau3[Départ])*(Tableau3[Chb]=$C27))","v":0},{"$f":"SUMPRODUCT((J$3>=Tableau3[Arrivée])*(J$3<Tableau3[Départ])*(Tableau3[Chb]=$C27))","v":0},{"$f":"SUMPRODUCT((K$3>=Tableau3[Arrivée])*(K$3<Tableau3[Départ])*(Tableau3[Chb]=$C27))","v":0},{"$f":"SUMPRODUCT((L$3>=Tableau3[Arrivée])*(L$3<Tableau3[Départ])*(Tableau3[Chb]=$C27))","v":0},{"$f":"SUMPRODUCT((M$3>=Tableau3[Arrivée])*(M$3<Tableau3[Départ])*(Tableau3[Chb]=$C27))","v":0},{"$f":"SUMPRODUCT((N$3>=Tableau3[Arrivée])*(N$3<Tableau3[Départ])*(Tableau3[Chb]=$C27))","v":0},{"$f":"SUMPRODUCT((O$3>=Tableau3[Arrivée])*(O$3<Tableau3[Départ])*(Tableau3[Chb]=$C27))","v":0},{"$f":"SUMPRODUCT((P$3>=Tableau3[Arrivée])*(P$3<Tableau3[Départ])*(Tableau3[Chb]=$C27))","v":0},{"$f":"SUMPRODUCT((Q$3>=Tableau3[Arrivée])*(Q$3<Tableau3[Départ])*(Tableau3[Chb]=$C27))","v":0},{"$f":"SUMPRODUCT((R$3>=Tableau3[Arrivée])*(R$3<Tableau3[Départ])*(Tableau3[Chb]=$C27))","v":0},{"$f":"SUMPRODUCT((S$3>=Tableau3[Arrivée])*(S$3<Tableau3[Départ])*(Tableau3[Chb]=$C27))","v":0},{"$f":"SUMPRODUCT((T$3>=Tableau3[Arrivée])*(T$3<Tableau3[Départ])*(Tableau3[Chb]=$C27))","v":0},{"$f":"SUMPRODUCT((U$3>=Tableau3[Arrivée])*(U$3<Tableau3[Départ])*(Tableau3[Chb]=$C27))","v":0},{"$f":"SUMPRODUCT((V$3>=Tableau3[Arrivée])*(V$3<Tableau3[Départ])*(Tableau3[Chb]=$C27))","v":0},{"$f":"SUMPRODUCT((W$3>=Tableau3[Arrivée])*(W$3<Tableau3[Départ])*(Tableau3[Chb]=$C27))","v":0},{"$f":"SUMPRODUCT((X$3>=Tableau3[Arrivée])*(X$3<Tableau3[Départ])*(Tableau3[Chb]=$C27))","v":0},{"$f":"SUMPRODUCT((Y$3>=Tableau3[Arrivée])*(Y$3<Tableau3[Départ])*(Tableau3[Chb]=$C27))","v":0},{"$f":"SUMPRODUCT((Z$3>=Tableau3[Arrivée])*(Z$3<Tableau3[Départ])*(Tableau3[Chb]=$C27))","v":0},{"$f":"SUMPRODUCT((AA$3>=Tableau3[Arrivée])*(AA$3<Tableau3[Départ])*(Tableau3[Chb]=$C27))","v":0},{"$f":"SUMPRODUCT((AB$3>=Tableau3[Arrivée])*(AB$3<Tableau3[Départ])*(Tableau3[Chb]=$C27))","v":0},{"$f":"SUMPRODUCT((AC$3>=Tableau3[Arrivée])*(AC$3<Tableau3[Départ])*(Tableau3[Chb]=$C27))","v":0},{"$f":"SUMPRODUCT((AD$3>=Tableau3[Arrivée])*(AD$3<Tableau3[Départ])*(Tableau3[Chb]=$C27))","v":0},{"$f":"SUMPRODUCT((AE$3>=Tableau3[Arrivée])*(AE$3<Tableau3[Départ])*(Tableau3[Chb]=$C27))","v":0},{"$f":"SUMPRODUCT((AF$3>=Tableau3[Arrivée])*(AF$3<Tableau3[Départ])*(Tableau3[Chb]=$C27))","v":0},{"$f":"SUMPRODUCT((AG$3>=Tableau3[Arrivée])*(AG$3<Tableau3[Départ])*(Tableau3[Chb]=$C27))","v":0},{"$f":"SUMPRODUCT((AH$3>=Tableau3[Arrivée])*(AH$3<Tableau3[Départ])*(Tableau3[Chb]=$C27))","v":0},0]
[null,"Suite",212,{"$f":"SUMPRODUCT((D$3>=Tableau3[Arrivée])*(D$3<Tableau3[Départ])*(Tableau3[Chb]=$C28))","v":0},{"$f":"SUMPRODUCT((E$3>=Tableau3[Arrivée])*(E$3<Tableau3[Départ])*(Tableau3[Chb]=$C28))","v":0},{"$f":"SUMPRODUCT((F$3>=Tableau3[Arrivée])*(F$3<Tableau3[Départ])*(Tableau3[Chb]=$C28))","v":0},{"$f":"SUMPRODUCT((G$3>=Tableau3[Arrivée])*(G$3<Tableau3[Départ])*(Tableau3[Chb]=$C28))","v":0},{"$f":"SUMPRODUCT((H$3>=Tableau3[Arrivée])*(H$3<Tableau3[Départ])*(Tableau3[Chb]=$C28))","v":0},{"$f":"SUMPRODUCT((I$3>=Tableau3[Arrivée])*(I$3<Tableau3[Départ])*(Tableau3[Chb]=$C28))","v":0},{"$f":"SUMPRODUCT((J$3>=Tableau3[Arrivée])*(J$3<Tableau3[Départ])*(Tableau3[Chb]=$C28))","v":0},{"$f":"SUMPRODUCT((K$3>=Tableau3[Arrivée])*(K$3<Tableau3[Départ])*(Tableau3[Chb]=$C28))","v":0},{"$f":"SUMPRODUCT((L$3>=Tableau3[Arrivée])*(L$3<Tableau3[Départ])*(Tableau3[Chb]=$C28))","v":0},{"$f":"SUMPRODUCT((M$3>=Tableau3[Arrivée])*(M$3<Tableau3[Départ])*(Tableau3[Chb]=$C28))","v":0},{"$f":"SUMPRODUCT((N$3>=Tableau3[Arrivée])*(N$3<Tableau3[Départ])*(Tableau3[Chb]=$C28))","v":0},{"$f":"SUMPRODUCT((O$3>=Tableau3[Arrivée])*(O$3<Tableau3[Départ])*(Tableau3[Chb]=$C28))","v":0},{"$f":"SUMPRODUCT((P$3>=Tableau3[Arrivée])*(P$3<Tableau3[Départ])*(Tableau3[Chb]=$C28))","v":0},{"$f":"SUMPRODUCT((Q$3>=Tableau3[Arrivée])*(Q$3<Tableau3[Départ])*(Tableau3[Chb]=$C28))","v":0},{"$f":"SUMPRODUCT((R$3>=Tableau3[Arrivée])*(R$3<Tableau3[Départ])*(Tableau3[Chb]=$C28))","v":0},{"$f":"SUMPRODUCT((S$3>=Tableau3[Arrivée])*(S$3<Tableau3[Départ])*(Tableau3[Chb]=$C28))","v":0},{"$f":"SUMPRODUCT((T$3>=Tableau3[Arrivée])*(T$3<Tableau3[Départ])*(Tableau3[Chb]=$C28))","v":0},{"$f":"SUMPRODUCT((U$3>=Tableau3[Arrivée])*(U$3<Tableau3[Départ])*(Tableau3[Chb]=$C28))","v":0},{"$f":"SUMPRODUCT((V$3>=Tableau3[Arrivée])*(V$3<Tableau3[Départ])*(Tableau3[Chb]=$C28))","v":0},{"$f":"SUMPRODUCT((W$3>=Tableau3[Arrivée])*(W$3<Tableau3[Départ])*(Tableau3[Chb]=$C28))","v":0},{"$f":"SUMPRODUCT((X$3>=Tableau3[Arrivée])*(X$3<Tableau3[Départ])*(Tableau3[Chb]=$C28))","v":0},{"$f":"SUMPRODUCT((Y$3>=Tableau3[Arrivée])*(Y$3<Tableau3[Départ])*(Tableau3[Chb]=$C28))","v":0},{"$f":"SUMPRODUCT((Z$3>=Tableau3[Arrivée])*(Z$3<Tableau3[Départ])*(Tableau3[Chb]=$C28))","v":0},{"$f":"SUMPRODUCT((AA$3>=Tableau3[Arrivée])*(AA$3<Tableau3[Départ])*(Tableau3[Chb]=$C28))","v":0},{"$f":"SUMPRODUCT((AB$3>=Tableau3[Arrivée])*(AB$3<Tableau3[Départ])*(Tableau3[Chb]=$C28))","v":0},{"$f":"SUMPRODUCT((AC$3>=Tableau3[Arrivée])*(AC$3<Tableau3[Départ])*(Tableau3[Chb]=$C28))","v":0},{"$f":"SUMPRODUCT((AD$3>=Tableau3[Arrivée])*(AD$3<Tableau3[Départ])*(Tableau3[Chb]=$C28))","v":0},{"$f":"SUMPRODUCT((AE$3>=Tableau3[Arrivée])*(AE$3<Tableau3[Départ])*(Tableau3[Chb]=$C28))","v":0},{"$f":"SUMPRODUCT((AF$3>=Tableau3[Arrivée])*(AF$3<Tableau3[Départ])*(Tableau3[Chb]=$C28))","v":0},{"$f":"SUMPRODUCT((AG$3>=Tableau3[Arrivée])*(AG$3<Tableau3[Départ])*(Tableau3[Chb]=$C28))","v":0},{"$f":"SUMPRODUCT((AH$3>=Tableau3[Arrivée])*(AH$3<Tableau3[Départ])*(Tableau3[Chb]=$C28))","v":0},0]
[null,"Twin",213,{"$f":"SUMPRODUCT((D$3>=Tableau3[Arrivée])*(D$3<Tableau3[Départ])*(Tableau3[Chb]=$C29))","v":0},{"$f":"SUMPRODUCT((E$3>=Tableau3[Arrivée])*(E$3<Tableau3[Départ])*(Tableau3[Chb]=$C29))","v":0},{"$f":"SUMPRODUCT((F$3>=Tableau3[Arrivée])*(F$3<Tableau3[Départ])*(Tableau3[Chb]=$C29))","v":0},{"$f":"SUMPRODUCT((G$3>=Tableau3[Arrivée])*(G$3<Tableau3[Départ])*(Tableau3[Chb]=$C29))","v":0},{"$f":"SUMPRODUCT((H$3>=Tableau3[Arrivée])*(H$3<Tableau3[Départ])*(Tableau3[Chb]=$C29))","v":0},{"$f":"SUMPRODUCT((I$3>=Tableau3[Arrivée])*(I$3<Tableau3[Départ])*(Tableau3[Chb]=$C29))","v":0},{"$f":"SUMPRODUCT((J$3>=Tableau3[Arrivée])*(J$3<Tableau3[Départ])*(Tableau3[Chb]=$C29))","v":0},{"$f":"SUMPRODUCT((K$3>=Tableau3[Arrivée])*(K$3<Tableau3[Départ])*(Tableau3[Chb]=$C29))","v":0},{"$f":"SUMPRODUCT((L$3>=Tableau3[Arrivée])*(L$3<Tableau3[Départ])*(Tableau3[Chb]=$C29))","v":0},{"$f":"SUMPRODUCT((M$3>=Tableau3[Arrivée])*(M$3<Tableau3[Départ])*(Tableau3[Chb]=$C29))","v":0},{"$f":"SUMPRODUCT((N$3>=Tableau3[Arrivée])*(N$3<Tableau3[Départ])*(Tableau3[Chb]=$C29))","v":0},{"$f":"SUMPRODUCT((O$3>=Tableau3[Arrivée])*(O$3<Tableau3[Départ])*(Tableau3[Chb]=$C29))","v":0},{"$f":"SUMPRODUCT((P$3>=Tableau3[Arrivée])*(P$3<Tableau3[Départ])*(Tableau3[Chb]=$C29))","v":0},{"$f":"SUMPRODUCT((Q$3>=Tableau3[Arrivée])*(Q$3<Tableau3[Départ])*(Tableau3[Chb]=$C29))","v":0},{"$f":"SUMPRODUCT((R$3>=Tableau3[Arrivée])*(R$3<Tableau3[Départ])*(Tableau3[Chb]=$C29))","v":0},{"$f":"SUMPRODUCT((S$3>=Tableau3[Arrivée])*(S$3<Tableau3[Départ])*(Tableau3[Chb]=$C29))","v":0},{"$f":"SUMPRODUCT((T$3>=Tableau3[Arrivée])*(T$3<Tableau3[Départ])*(Tableau3[Chb]=$C29))","v":0},{"$f":"SUMPRODUCT((U$3>=Tableau3[Arrivée])*(U$3<Tableau3[Départ])*(Tableau3[Chb]=$C29))","v":0},{"$f":"SUMPRODUCT((V$3>=Tableau3[Arrivée])*(V$3<Tableau3[Départ])*(Tableau3[Chb]=$C29))","v":0},{"$f":"SUMPRODUCT((W$3>=Tableau3[Arrivée])*(W$3<Tableau3[Départ])*(Tableau3[Chb]=$C29))","v":0},{"$f":"SUMPRODUCT((X$3>=Tableau3[Arrivée])*(X$3<Tableau3[Départ])*(Tableau3[Chb]=$C29))","v":0},{"$f":"SUMPRODUCT((Y$3>=Tableau3[Arrivée])*(Y$3<Tableau3[Départ])*(Tableau3[Chb]=$C29))","v":0},{"$f":"SUMPRODUCT((Z$3>=Tableau3[Arrivée])*(Z$3<Tableau3[Départ])*(Tableau3[Chb]=$C29))","v":0},{"$f":"SUMPRODUCT((AA$3>=Tableau3[Arrivée])*(AA$3<Tableau3[Départ])*(Tableau3[Chb]=$C29))","v":0},{"$f":"SUMPRODUCT((AB$3>=Tableau3[Arrivée])*(AB$3<Tableau3[Départ])*(Tableau3[Chb]=$C29))","v":0},{"$f":"SUMPRODUCT((AC$3>=Tableau3[Arrivée])*(AC$3<Tableau3[Départ])*(Tableau3[Chb]=$C29))","v":0},{"$f":"SUMPRODUCT((AD$3>=Tableau3[Arrivée])*(AD$3<Tableau3[Départ])*(Tableau3[Chb]=$C29))","v":0},{"$f":"SUMPRODUCT((AE$3>=Tableau3[Arrivée])*(AE$3<Tableau3[Départ])*(Tableau3[Chb]=$C29))","v":0},{"$f":"SUMPRODUCT((AF$3>=Tableau3[Arrivée])*(AF$3<Tableau3[Départ])*(Tableau3[Chb]=$C29))","v":0},{"$f":"SUMPRODUCT((AG$3>=Tableau3[Arrivée])*(AG$3<Tableau3[Départ])*(Tableau3[Chb]=$C29))","v":0},{"$f":"SUMPRODUCT((AH$3>=Tableau3[Arrivée])*(AH$3<Tableau3[Départ])*(Tableau3[Chb]=$C29))","v":0},0]
[null,"Twin",301,{"$f":"SUMPRODUCT((D$3>=Tableau3[Arrivée])*(D$3<Tableau3[Départ])*(Tableau3[Chb]=$C30))","v":0},{"$f":"SUMPRODUCT((E$3>=Tableau3[Arrivée])*(E$3<Tableau3[Départ])*(Tableau3[Chb]=$C30))","v":0},{"$f":"SUMPRODUCT((F$3>=Tableau3[Arrivée])*(F$3<Tableau3[Départ])*(Tableau3[Chb]=$C30))","v":0},{"$f":"SUMPRODUCT((G$3>=Tableau3[Arrivée])*(G$3<Tableau3[Départ])*(Tableau3[Chb]=$C30))","v":0},{"$f":"SUMPRODUCT((H$3>=Tableau3[Arrivée])*(H$3<Tableau3[Départ])*(Tableau3[Chb]=$C30))","v":0},{"$f":"SUMPRODUCT((I$3>=Tableau3[Arrivée])*(I$3<Tableau3[Départ])*(Tableau3[Chb]=$C30))","v":0},{"$f":"SUMPRODUCT((J$3>=Tableau3[Arrivée])*(J$3<Tableau3[Départ])*(Tableau3[Chb]=$C30))","v":0},{"$f":"SUMPRODUCT((K$3>=Tableau3[Arrivée])*(K$3<Tableau3[Départ])*(Tableau3[Chb]=$C30))","v":0},{"$f":"SUMPRODUCT((L$3>=Tableau3[Arrivée])*(L$3<Tableau3[Départ])*(Tableau3[Chb]=$C30))","v":0},{"$f":"SUMPRODUCT((M$3>=Tableau3[Arrivée])*(M$3<Tableau3[Départ])*(Tableau3[Chb]=$C30))","v":0},{"$f":"SUMPRODUCT((N$3>=Tableau3[Arrivée])*(N$3<Tableau3[Départ])*(Tableau3[Chb]=$C30))","v":0},{"$f":"SUMPRODUCT((O$3>=Tableau3[Arrivée])*(O$3<Tableau3[Départ])*(Tableau3[Chb]=$C30))","v":0},{"$f":"SUMPRODUCT((P$3>=Tableau3[Arrivée])*(P$3<Tableau3[Départ])*(Tableau3[Chb]=$C30))","v":0},{"$f":"SUMPRODUCT((Q$3>=Tableau3[Arrivée])*(Q$3<Tableau3[Départ])*(Tableau3[Chb]=$C30))","v":0},{"$f":"SUMPRODUCT((R$3>=Tableau3[Arrivée])*(R$3<Tableau3[Départ])*(Tableau3[Chb]=$C30))","v":0},{"$f":"SUMPRODUCT((S$3>=Tableau3[Arrivée])*(S$3<Tableau3[Départ])*(Tableau3[Chb]=$C30))","v":0},{"$f":"SUMPRODUCT((T$3>=Tableau3[Arrivée])*(T$3<Tableau3[Départ])*(Tableau3[Chb]=$C30))","v":0},{"$f":"SUMPRODUCT((U$3>=Tableau3[Arrivée])*(U$3<Tableau3[Départ])*(Tableau3[Chb]=$C30))","v":0},{"$f":"SUMPRODUCT((V$3>=Tableau3[Arrivée])*(V$3<Tableau3[Départ])*(Tableau3[Chb]=$C30))","v":0},{"$f":"SUMPRODUCT((W$3>=Tableau3[Arrivée])*(W$3<Tableau3[Départ])*(Tableau3[Chb]=$C30))","v":0},{"$f":"SUMPRODUCT((X$3>=Tableau3[Arrivée])*(X$3<Tableau3[Départ])*(Tableau3[Chb]=$C30))","v":0},{"$f":"SUMPRODUCT((Y$3>=Tableau3[Arrivée])*(Y$3<Tableau3[Départ])*(Tableau3[Chb]=$C30))","v":0},{"$f":"SUMPRODUCT((Z$3>=Tableau3[Arrivée])*(Z$3<Tableau3[Départ])*(Tableau3[Chb]=$C30))","v":0},{"$f":"SUMPRODUCT((AA$3>=Tableau3[Arrivée])*(AA$3<Tableau3[Départ])*(Tableau3[Chb]=$C30))","v":0},{"$f":"SUMPRODUCT((AB$3>=Tableau3[Arrivée])*(AB$3<Tableau3[Départ])*(Tableau3[Chb]=$C30))","v":0},{"$f":"SUMPRODUCT((AC$3>=Tableau3[Arrivée])*(AC$3<Tableau3[Départ])*(Tableau3[Chb]=$C30))","v":0},{"$f":"SUMPRODUCT((AD$3>=Tableau3[Arrivée])*(AD$3<Tableau3[Départ])*(Tableau3[Chb]=$C30))","v":0},{"$f":"SUMPRODUCT((AE$3>=Tableau3[Arrivée])*(AE$3<Tableau3[Départ])*(Tableau3[Chb]=$C30))","v":0},{"$f":"SUMPRODUCT((AF$3>=Tableau3[Arrivée])*(AF$3<Tableau3[Départ])*(Tableau3[Chb]=$C30))","v":0},{"$f":"SUMPRODUCT((AG$3>=Tableau3[Arrivée])*(AG$3<Tableau3[Départ])*(Tableau3[Chb]=$C30))","v":0},{"$f":"SUMPRODUCT((AH$3>=Tableau3[Arrivée])*(AH$3<Tableau3[Départ])*(Tableau3[Chb]=$C30))","v":0},0]
[null,"Suite",302,{"$f":"SUMPRODUCT((D$3>=Tableau3[Arrivée])*(D$3<Tableau3[Départ])*(Tableau3[Chb]=$C31))","v":0},{"$f":"SUMPRODUCT((E$3>=Tableau3[Arrivée])*(E$3<Tableau3[Départ])*(Tableau3[Chb]=$C31))","v":0},{"$f":"SUMPRODUCT((F$3>=Tableau3[Arrivée])*(F$3<Tableau3[Départ])*(Tableau3[Chb]=$C31))","v":0},{"$f":"SUMPRODUCT((G$3>=Tableau3[Arrivée])*(G$3<Tableau3[Départ])*(Tableau3[Chb]=$C31))","v":0},{"$f":"SUMPRODUCT((H$3>=Tableau3[Arrivée])*(H$3<Tableau3[Départ])*(Tableau3[Chb]=$C31))","v":0},{"$f":"SUMPRODUCT((I$3>=Tableau3[Arrivée])*(I$3<Tableau3[Départ])*(Tableau3[Chb]=$C31))","v":0},{"$f":"SUMPRODUCT((J$3>=Tableau3[Arrivée])*(J$3<Tableau3[Départ])*(Tableau3[Chb]=$C31))","v":0},{"$f":"SUMPRODUCT((K$3>=Tableau3[Arrivée])*(K$3<Tableau3[Départ])*(Tableau3[Chb]=$C31))","v":0},{"$f":"SUMPRODUCT((L$3>=Tableau3[Arrivée])*(L$3<Tableau3[Départ])*(Tableau3[Chb]=$C31))","v":0},{"$f":"SUMPRODUCT((M$3>=Tableau3[Arrivée])*(M$3<Tableau3[Départ])*(Tableau3[Chb]=$C31))","v":0},{"$f":"SUMPRODUCT((N$3>=Tableau3[Arrivée])*(N$3<Tableau3[Départ])*(Tableau3[Chb]=$C31))","v":0},{"$f":"SUMPRODUCT((O$3>=Tableau3[Arrivée])*(O$3<Tableau3[Départ])*(Tableau3[Chb]=$C31))","v":0},{"$f":"SUMPRODUCT((P$3>=Tableau3[Arrivée])*(P$3<Tableau3[Départ])*(Tableau3[Chb]=$C31))","v":0},{"$f":"SUMPRODUCT((Q$3>=Tableau3[Arrivée])*(Q$3<Tableau3[Départ])*(Tableau3[Chb]=$C31))","v":0},{"$f":"SUMPRODUCT((R$3>=Tableau3[Arrivée])*(R$3<Tableau3[Départ])*(Tableau3[Chb]=$C31))","v":0},{"$f":"SUMPRODUCT((S$3>=Tableau3[Arrivée])*(S$3<Tableau3[Départ])*(Tableau3[Chb]=$C31))","v":0},{"$f":"SUMPRODUCT((T$3>=Tableau3[Arrivée])*(T$3<Tableau3[Départ])*(Tableau3[Chb]=$C31))","v":0},{"$f":"SUMPRODUCT((U$3>=Tableau3[Arrivée])*(U$3<Tableau3[Départ])*(Tableau3[Chb]=$C31))","v":0},{"$f":"SUMPRODUCT((V$3>=Tableau3[Arrivée])*(V$3<Tableau3[Départ])*(Tableau3[Chb]=$C31))","v":0},{"$f":"SUMPRODUCT((W$3>=Tableau3[Arrivée])*(W$3<Tableau3[Départ])*(Tableau3[Chb]=$C31))","v":0},{"$f":"SUMPRODUCT((X$3>=Tableau3[Arrivée])*(X$3<Tableau3[Départ])*(Tableau3[Chb]=$C31))","v":0},{"$f":"SUMPRODUCT((Y$3>=Tableau3[Arrivée])*(Y$3<Tableau3[Départ])*(Tableau3[Chb]=$C31))","v":0},{"$f":"SUMPRODUCT((Z$3>=Tableau3[Arrivée])*(Z$3<Tableau3[Départ])*(Tableau3[Chb]=$C31))","v":0},{"$f":"SUMPRODUCT((AA$3>=Tableau3[Arrivée])*(AA$3<Tableau3[Départ])*(Tableau3[Chb]=$C31))","v":0},{"$f":"SUMPRODUCT((AB$3>=Tableau3[Arrivée])*(AB$3<Tableau3[Départ])*(Tableau3[Chb]=$C31))","v":0},{"$f":"SUMPRODUCT((AC$3>=Tableau3[Arrivée])*(AC$3<Tableau3[Départ])*(Tableau3[Chb]=$C31))","v":0},{"$f":"SUMPRODUCT((AD$3>=Tableau3[Arrivée])*(AD$3<Tableau3[Départ])*(Tableau3[Chb]=$C31))","v":0},{"$f":"SUMPRODUCT((AE$3>=Tableau3[Arrivée])*(AE$3<Tableau3[Départ])*(Tableau3[Chb]=$C31))","v":0},{"$f":"SUMPRODUCT((AF$3>=Tableau3[Arrivée])*(AF$3<Tableau3[Départ])*(Tableau3[Chb]=$C31))","v":0},{"$f":"SUMPRODUCT((AG$3>=Tableau3[Arrivée])*(AG$3<Tableau3[Départ])*(Tableau3[Chb]=$C31))","v":0},{"$f":"SUMPRODUCT((AH$3>=Tableau3[Arrivée])*(AH$3<Tableau3[Départ])*(Tableau3[Chb]=$C31))","v":0},0]
[null,"Single",303,{"$f":"SUMPRODUCT((D$3>=Tableau3[Arrivée])*(D$3<Tableau3[Départ])*(Tableau3[Chb]=$C32))","v":0},{"$f":"SUMPRODUCT((E$3>=Tableau3[Arrivée])*(E$3<Tableau3[Départ])*(Tableau3[Chb]=$C32))","v":0},{"$f":"SUMPRODUCT((F$3>=Tableau3[Arrivée])*(F$3<Tableau3[Départ])*(Tableau3[Chb]=$C32))","v":0},{"$f":"SUMPRODUCT((G$3>=Tableau3[Arrivée])*(G$3<Tableau3[Départ])*(Tableau3[Chb]=$C32))","v":0},{"$f":"SUMPRODUCT((H$3>=Tableau3[Arrivée])*(H$3<Tableau3[Départ])*(Tableau3[Chb]=$C32))","v":0},{"$f":"SUMPRODUCT((I$3>=Tableau3[Arrivée])*(I$3<Tableau3[Départ])*(Tableau3[Chb]=$C32))","v":0},{"$f":"SUMPRODUCT((J$3>=Tableau3[Arrivée])*(J$3<Tableau3[Départ])*(Tableau3[Chb]=$C32))","v":0},{"$f":"SUMPRODUCT((K$3>=Tableau3[Arrivée])*(K$3<Tableau3[Départ])*(Tableau3[Chb]=$C32))","v":0},{"$f":"SUMPRODUCT((L$3>=Tableau3[Arrivée])*(L$3<Tableau3[Départ])*(Tableau3[Chb]=$C32))","v":0},{"$f":"SUMPRODUCT((M$3>=Tableau3[Arrivée])*(M$3<Tableau3[Départ])*(Tableau3[Chb]=$C32))","v":0},{"$f":"SUMPRODUCT((N$3>=Tableau3[Arrivée])*(N$3<Tableau3[Départ])*(Tableau3[Chb]=$C32))","v":0},{"$f":"SUMPRODUCT((O$3>=Tableau3[Arrivée])*(O$3<Tableau3[Départ])*(Tableau3[Chb]=$C32))","v":0},{"$f":"SUMPRODUCT((P$3>=Tableau3[Arrivée])*(P$3<Tableau3[Départ])*(Tableau3[Chb]=$C32))","v":0},{"$f":"SUMPRODUCT((Q$3>=Tableau3[Arrivée])*(Q$3<Tableau3[Départ])*(Tableau3[Chb]=$C32))","v":0},{"$f":"SUMPRODUCT((R$3>=Tableau3[Arrivée])*(R$3<Tableau3[Départ])*(Tableau3[Chb]=$C32))","v":0},{"$f":"SUMPRODUCT((S$3>=Tableau3[Arrivée])*(S$3<Tableau3[Départ])*(Tableau3[Chb]=$C32))","v":0},{"$f":"SUMPRODUCT((T$3>=Tableau3[Arrivée])*(T$3<Tableau3[Départ])*(Tableau3[Chb]=$C32))","v":0},{"$f":"SUMPRODUCT((U$3>=Tableau3[Arrivée])*(U$3<Tableau3[Départ])*(Tableau3[Chb]=$C32))","v":0},{"$f":"SUMPRODUCT((V$3>=Tableau3[Arrivée])*(V$3<Tableau3[Départ])*(Tableau3[Chb]=$C32))","v":0},{"$f":"SUMPRODUCT((W$3>=Tableau3[Arrivée])*(W$3<Tableau3[Départ])*(Tableau3[Chb]=$C32))","v":0},{"$f":"SUMPRODUCT((X$3>=Tableau3[Arrivée])*(X$3<Tableau3[Départ])*(Tableau3[Chb]=$C32))","v":0},{"$f":"SUMPRODUCT((Y$3>=Tableau3[Arrivée])*(Y$3<Tableau3[Départ])*(Tableau3[Chb]=$C32))","v":0},{"$f":"SUMPRODUCT((Z$3>=Tableau3[Arrivée])*(Z$3<Tableau3[Départ])*(Tableau3[Chb]=$C32))","v":0},{"$f":"SUMPRODUCT((AA$3>=Tableau3[Arrivée])*(AA$3<Tableau3[Départ])*(Tableau3[Chb]=$C32))","v":0},{"$f":"SUMPRODUCT((AB$3>=Tableau3[Arrivée])*(AB$3<Tableau3[Départ])*(Tableau3[Chb]=$C32))","v":0},{"$f":"SUMPRODUCT((AC$3>=Tableau3[Arrivée])*(AC$3<Tableau3[Départ])*(Tableau3[Chb]=$C32))","v":0},{"$f":"SUMPRODUCT((AD$3>=Tableau3[Arrivée])*(AD$3<Tableau3[Départ])*(Tableau3[Chb]=$C32))","v":0},{"$f":"SUMPRODUCT((AE$3>=Tableau3[Arrivée])*(AE$3<Tableau3[Départ])*(Tableau3[Chb]=$C32))","v":0},{"$f":"SUMPRODUCT((AF$3>=Tableau3[Arrivée])*(AF$3<Tableau3[Départ])*(Tableau3[Chb]=$C32))","v":0},{"$f":"SUMPRODUCT((AG$3>=Tableau3[Arrivée])*(AG$3<Tableau3[Départ])*(Tableau3[Chb]=$C32))","v":0},{"$f":"SUMPRODUCT((AH$3>=Tableau3[Arrivée])*(AH$3<Tableau3[Départ])*(Tableau3[Chb]=$C32))","v":0},0]
[null,"Single",304,{"$f":"SUMPRODUCT((D$3>=Tableau3[Arrivée])*(D$3<Tableau3[Départ])*(Tableau3[Chb]=$C33))","v":0},{"$f":"SUMPRODUCT((E$3>=Tableau3[Arrivée])*(E$3<Tableau3[Départ])*(Tableau3[Chb]=$C33))","v":0},{"$f":"SUMPRODUCT((F$3>=Tableau3[Arrivée])*(F$3<Tableau3[Départ])*(Tableau3[Chb]=$C33))","v":0},{"$f":"SUMPRODUCT((G$3>=Tableau3[Arrivée])*(G$3<Tableau3[Départ])*(Tableau3[Chb]=$C33))","v":0},{"$f":"SUMPRODUCT((H$3>=Tableau3[Arrivée])*(H$3<Tableau3[Départ])*(Tableau3[Chb]=$C33))","v":0},{"$f":"SUMPRODUCT((I$3>=Tableau3[Arrivée])*(I$3<Tableau3[Départ])*(Tableau3[Chb]=$C33))","v":0},{"$f":"SUMPRODUCT((J$3>=Tableau3[Arrivée])*(J$3<Tableau3[Départ])*(Tableau3[Chb]=$C33))","v":0},{"$f":"SUMPRODUCT((K$3>=Tableau3[Arrivée])*(K$3<Tableau3[Départ])*(Tableau3[Chb]=$C33))","v":0},{"$f":"SUMPRODUCT((L$3>=Tableau3[Arrivée])*(L$3<Tableau3[Départ])*(Tableau3[Chb]=$C33))","v":0},{"$f":"SUMPRODUCT((M$3>=Tableau3[Arrivée])*(M$3<Tableau3[Départ])*(Tableau3[Chb]=$C33))","v":0},{"$f":"SUMPRODUCT((N$3>=Tableau3[Arrivée])*(N$3<Tableau3[Départ])*(Tableau3[Chb]=$C33))","v":0},{"$f":"SUMPRODUCT((O$3>=Tableau3[Arrivée])*(O$3<Tableau3[Départ])*(Tableau3[Chb]=$C33))","v":0},{"$f":"SUMPRODUCT((P$3>=Tableau3[Arrivée])*(P$3<Tableau3[Départ])*(Tableau3[Chb]=$C33))","v":0},{"$f":"SUMPRODUCT((Q$3>=Tableau3[Arrivée])*(Q$3<Tableau3[Départ])*(Tableau3[Chb]=$C33))","v":0},{"$f":"SUMPRODUCT((R$3>=Tableau3[Arrivée])*(R$3<Tableau3[Départ])*(Tableau3[Chb]=$C33))","v":0},{"$f":"SUMPRODUCT((S$3>=Tableau3[Arrivée])*(S$3<Tableau3[Départ])*(Tableau3[Chb]=$C33))","v":0},{"$f":"SUMPRODUCT((T$3>=Tableau3[Arrivée])*(T$3<Tableau3[Départ])*(Tableau3[Chb]=$C33))","v":0},{"$f":"SUMPRODUCT((U$3>=Tableau3[Arrivée])*(U$3<Tableau3[Départ])*(Tableau3[Chb]=$C33))","v":0},{"$f":"SUMPRODUCT((V$3>=Tableau3[Arrivée])*(V$3<Tableau3[Départ])*(Tableau3[Chb]=$C33))","v":0},{"$f":"SUMPRODUCT((W$3>=Tableau3[Arrivée])*(W$3<Tableau3[Départ])*(Tableau3[Chb]=$C33))","v":0},{"$f":"SUMPRODUCT((X$3>=Tableau3[Arrivée])*(X$3<Tableau3[Départ])*(Tableau3[Chb]=$C33))","v":0},{"$f":"SUMPRODUCT((Y$3>=Tableau3[Arrivée])*(Y$3<Tableau3[Départ])*(Tableau3[Chb]=$C33))","v":0},{"$f":"SUMPRODUCT((Z$3>=Tableau3[Arrivée])*(Z$3<Tableau3[Départ])*(Tableau3[Chb]=$C33))","v":0},{"$f":"SUMPRODUCT((AA$3>=Tableau3[Arrivée])*(AA$3<Tableau3[Départ])*(Tableau3[Chb]=$C33))","v":0},{"$f":"SUMPRODUCT((AB$3>=Tableau3[Arrivée])*(AB$3<Tableau3[Départ])*(Tableau3[Chb]=$C33))","v":0},{"$f":"SUMPRODUCT((AC$3>=Tableau3[Arrivée])*(AC$3<Tableau3[Départ])*(Tableau3[Chb]=$C33))","v":0},{"$f":"SUMPRODUCT((AD$3>=Tableau3[Arrivée])*(AD$3<Tableau3[Départ])*(Tableau3[Chb]=$C33))","v":0},{"$f":"SUMPRODUCT((AE$3>=Tableau3[Arrivée])*(AE$3<Tableau3[Départ])*(Tableau3[Chb]=$C33))","v":0},{"$f":"SUMPRODUCT((AF$3>=Tableau3[Arrivée])*(AF$3<Tableau3[Départ])*(Tableau3[Chb]=$C33))","v":0},{"$f":"SUMPRODUCT((AG$3>=Tableau3[Arrivée])*(AG$3<Tableau3[Départ])*(Tableau3[Chb]=$C33))","v":0},{"$f":"SUMPRODUCT((AH$3>=Tableau3[Arrivée])*(AH$3<Tableau3[Départ])*(Tableau3[Chb]=$C33))","v":0},0]
[null,"Single",305,{"$f":"SUMPRODUCT((D$3>=Tableau3[Arrivée])*(D$3<Tableau3[Départ])*(Tableau3[Chb]=$C34))","v":0},{"$f":"SUMPRODUCT((E$3>=Tableau3[Arrivée])*(E$3<Tableau3[Départ])*(Tableau3[Chb]=$C34))","v":0},{"$f":"SUMPRODUCT((F$3>=Tableau3[Arrivée])*(F$3<Tableau3[Départ])*(Tableau3[Chb]=$C34))","v":1},{"$f":"SUMPRODUCT((G$3>=Tableau3[Arrivée])*(G$3<Tableau3[Départ])*(Tableau3[Chb]=$C34))","v":1},{"$f":"SUMPRODUCT((H$3>=Tableau3[Arrivée])*(H$3<Tableau3[Départ])*(Tableau3[Chb]=$C34))","v":1},{"$f":"SUMPRODUCT((I$3>=Tableau3[Arrivée])*(I$3<Tableau3[Départ])*(Tableau3[Chb]=$C34))","v":1},{"$f":"SUMPRODUCT((J$3>=Tableau3[Arrivée])*(J$3<Tableau3[Départ])*(Tableau3[Chb]=$C34))","v":0},{"$f":"SUMPRODUCT((K$3>=Tableau3[Arrivée])*(K$3<Tableau3[Départ])*(Tableau3[Chb]=$C34))","v":0},{"$f":"SUMPRODUCT((L$3>=Tableau3[Arrivée])*(L$3<Tableau3[Départ])*(Tableau3[Chb]=$C34))","v":0},{"$f":"SUMPRODUCT((M$3>=Tableau3[Arrivée])*(M$3<Tableau3[Départ])*(Tableau3[Chb]=$C34))","v":0},{"$f":"SUMPRODUCT((N$3>=Tableau3[Arrivée])*(N$3<Tableau3[Départ])*(Tableau3[Chb]=$C34))","v":0},{"$f":"SUMPRODUCT((O$3>=Tableau3[Arrivée])*(O$3<Tableau3[Départ])*(Tableau3[Chb]=$C34))","v":0},{"$f":"SUMPRODUCT((P$3>=Tableau3[Arrivée])*(P$3<Tableau3[Départ])*(Tableau3[Chb]=$C34))","v":0},{"$f":"SUMPRODUCT((Q$3>=Tableau3[Arrivée])*(Q$3<Tableau3[Départ])*(Tableau3[Chb]=$C34))","v":0},{"$f":"SUMPRODUCT((R$3>=Tableau3[Arrivée])*(R$3<Tableau3[Départ])*(Tableau3[Chb]=$C34))","v":0},{"$f":"SUMPRODUCT((S$3>=Tableau3[Arrivée])*(S$3<Tableau3[Départ])*(Tableau3[Chb]=$C34))","v":0},{"$f":"SUMPRODUCT((T$3>=Tableau3[Arrivée])*(T$3<Tableau3[Départ])*(Tableau3[Chb]=$C34))","v":0},{"$f":"SUMPRODUCT((U$3>=Tableau3[Arrivée])*(U$3<Tableau3[Départ])*(Tableau3[Chb]=$C34))","v":0},{"$f":"SUMPRODUCT((V$3>=Tableau3[Arrivée])*(V$3<Tableau3[Départ])*(Tableau3[Chb]=$C34))","v":0},{"$f":"SUMPRODUCT((W$3>=Tableau3[Arrivée])*(W$3<Tableau3[Départ])*(Tableau3[Chb]=$C34))","v":0},{"$f":"SUMPRODUCT((X$3>=Tableau3[Arrivée])*(X$3<Tableau3[Départ])*(Tableau3[Chb]=$C34))","v":0},{"$f":"SUMPRODUCT((Y$3>=Tableau3[Arrivée])*(Y$3<Tableau3[Départ])*(Tableau3[Chb]=$C34))","v":0},{"$f":"SUMPRODUCT((Z$3>=Tableau3[Arrivée])*(Z$3<Tableau3[Départ])*(Tableau3[Chb]=$C34))","v":0},{"$f":"SUMPRODUCT((AA$3>=Tableau3[Arrivée])*(AA$3<Tableau3[Départ])*(Tableau3[Chb]=$C34))","v":0},{"$f":"SUMPRODUCT((AB$3>=Tableau3[Arrivée])*(AB$3<Tableau3[Départ])*(Tableau3[Chb]=$C34))","v":0},{"$f":"SUMPRODUCT((AC$3>=Tableau3[Arrivée])*(AC$3<Tableau3[Départ])*(Tableau3[Chb]=$C34))","v":0},{"$f":"SUMPRODUCT((AD$3>=Tableau3[Arrivée])*(AD$3<Tableau3[Départ])*(Tableau3[Chb]=$C34))","v":0},{"$f":"SUMPRODUCT((AE$3>=Tableau3[Arrivée])*(AE$3<Tableau3[Départ])*(Tableau3[Chb]=$C34))","v":0},{"$f":"SUMPRODUCT((AF$3>=Tableau3[Arrivée])*(AF$3<Tableau3[Départ])*(Tableau3[Chb]=$C34))","v":0},{"$f":"SUMPRODUCT((AG$3>=Tableau3[Arrivée])*(AG$3<Tableau3[Départ])*(Tableau3[Chb]=$C34))","v":0},{"$f":"SUMPRODUCT((AH$3>=Tableau3[Arrivée])*(AH$3<Tableau3[Départ])*(Tableau3[Chb]=$C34))","v":0},4]
[null,"Single",306,{"$f":"SUMPRODUCT((D$3>=Tableau3[Arrivée])*(D$3<Tableau3[Départ])*(Tableau3[Chb]=$C35))","v":0},{"$f":"SUMPRODUCT((E$3>=Tableau3[Arrivée])*(E$3<Tableau3[Départ])*(Tableau3[Chb]=$C35))","v":0},{"$f":"SUMPRODUCT((F$3>=Tableau3[Arrivée])*(F$3<Tableau3[Départ])*(Tableau3[Chb]=$C35))","v":0},{"$f":"SUMPRODUCT((G$3>=Tableau3[Arrivée])*(G$3<Tableau3[Départ])*(Tableau3[Chb]=$C35))","v":0},{"$f":"SUMPRODUCT((H$3>=Tableau3[Arrivée])*(H$3<Tableau3[Départ])*(Tableau3[Chb]=$C35))","v":0},{"$f":"SUMPRODUCT((I$3>=Tableau3[Arrivée])*(I$3<Tableau3[Départ])*(Tableau3[Chb]=$C35))","v":0},{"$f":"SUMPRODUCT((J$3>=Tableau3[Arrivée])*(J$3<Tableau3[Départ])*(Tableau3[Chb]=$C35))","v":0},{"$f":"SUMPRODUCT((K$3>=Tableau3[Arrivée])*(K$3<Tableau3[Départ])*(Tableau3[Chb]=$C35))","v":0},{"$f":"SUMPRODUCT((L$3>=Tableau3[Arrivée])*(L$3<Tableau3[Départ])*(Tableau3[Chb]=$C35))","v":0},{"$f":"SUMPRODUCT((M$3>=Tableau3[Arrivée])*(M$3<Tableau3[Départ])*(Tableau3[Chb]=$C35))","v":0},{"$f":"SUMPRODUCT((N$3>=Tableau3[Arrivée])*(N$3<Tableau3[Départ])*(Tableau3[Chb]=$C35))","v":0},{"$f":"SUMPRODUCT((O$3>=Tableau3[Arrivée])*(O$3<Tableau3[Départ])*(Tableau3[Chb]=$C35))","v":0},{"$f":"SUMPRODUCT((P$3>=Tableau3[Arrivée])*(P$3<Tableau3[Départ])*(Tableau3[Chb]=$C35))","v":0},{"$f":"SUMPRODUCT((Q$3>=Tableau3[Arrivée])*(Q$3<Tableau3[Départ])*(Tableau3[Chb]=$C35))","v":0},{"$f":"SUMPRODUCT((R$3>=Tableau3[Arrivée])*(R$3<Tableau3[Départ])*(Tableau3[Chb]=$C35))","v":0},{"$f":"SUMPRODUCT((S$3>=Tableau3[Arrivée])*(S$3<Tableau3[Départ])*(Tableau3[Chb]=$C35))","v":0},{"$f":"SUMPRODUCT((T$3>=Tableau3[Arrivée])*(T$3<Tableau3[Départ])*(Tableau3[Chb]=$C35))","v":0},{"$f":"SUMPRODUCT((U$3>=Tableau3[Arrivée])*(U$3<Tableau3[Départ])*(Tableau3[Chb]=$C35))","v":0},{"$f":"SUMPRODUCT((V$3>=Tableau3[Arrivée])*(V$3<Tableau3[Départ])*(Tableau3[Chb]=$C35))","v":0},{"$f":"SUMPRODUCT((W$3>=Tableau3[Arrivée])*(W$3<Tableau3[Départ])*(Tableau3[Chb]=$C35))","v":0},{"$f":"SUMPRODUCT((X$3>=Tableau3[Arrivée])*(X$3<Tableau3[Départ])*(Tableau3[Chb]=$C35))","v":0},{"$f":"SUMPRODUCT((Y$3>=Tableau3[Arrivée])*(Y$3<Tableau3[Départ])*(Tableau3[Chb]=$C35))","v":0},{"$f":"SUMPRODUCT((Z$3>=Tableau3[Arrivée])*(Z$3<Tableau3[Départ])*(Tableau3[Chb]=$C35))","v":0},{"$f":"SUMPRODUCT((AA$3>=Tableau3[Arrivée])*(AA$3<Tableau3[Départ])*(Tableau3[Chb]=$C35))","v":0},{"$f":"SUMPRODUCT((AB$3>=Tableau3[Arrivée])*(AB$3<Tableau3[Départ])*(Tableau3[Chb]=$C35))","v":0},{"$f":"SUMPRODUCT((AC$3>=Tableau3[Arrivée])*(AC$3<Tableau3[Départ])*(Tableau3[Chb]=$C35))","v":0},{"$f":"SUMPRODUCT((AD$3>=Tableau3[Arrivée])*(AD$3<Tableau3[Départ])*(Tableau3[Chb]=$C35))","v":0},{"$f":"SUMPRODUCT((AE$3>=Tableau3[Arrivée])*(AE$3<Tableau3[Départ])*(Tableau3[Chb]=$C35))","v":0},{"$f":"SUMPRODUCT((AF$3>=Tableau3[Arrivée])*(AF$3<Tableau3[Départ])*(Tableau3[Chb]=$C35))","v":0},{"$f":"SUMPRODUCT((AG$3>=Tableau3[Arrivée])*(AG$3<Tableau3[Départ])*(Tableau3[Chb]=$C35))","v":0},{"$f":"SUMPRODUCT((AH$3>=Tableau3[Arrivée])*(AH$3<Tableau3[Départ])*(Tableau3[Chb]=$C35))","v":0},0]
[null,"Triple",307,{"$f":"SUMPRODUCT((D$3>=Tableau3[Arrivée])*(D$3<Tableau3[Départ])*(Tableau3[Chb]=$C36))","v":0},{"$f":"SUMPRODUCT((E$3>=Tableau3[Arrivée])*(E$3<Tableau3[Départ])*(Tableau3[Chb]=$C36))","v":0},{"$f":"SUMPRODUCT((F$3>=Tableau3[Arrivée])*(F$3<Tableau3[Départ])*(Tableau3[Chb]=$C36))","v":0},{"$f":"SUMPRODUCT((G$3>=Tableau3[Arrivée])*(G$3<Tableau3[Départ])*(Tableau3[Chb]=$C36))","v":0},{"$f":"SUMPRODUCT((H$3>=Tableau3[Arrivée])*(H$3<Tableau3[Départ])*(Tableau3[Chb]=$C36))","v":0},{"$f":"SUMPRODUCT((I$3>=Tableau3[Arrivée])*(I$3<Tableau3[Départ])*(Tableau3[Chb]=$C36))","v":0},{"$f":"SUMPRODUCT((J$3>=Tableau3[Arrivée])*(J$3<Tableau3[Départ])*(Tableau3[Chb]=$C36))","v":0},{"$f":"SUMPRODUCT((K$3>=Tableau3[Arrivée])*(K$3<Tableau3[Départ])*(Tableau3[Chb]=$C36))","v":0},{"$f":"SUMPRODUCT((L$3>=Tableau3[Arrivée])*(L$3<Tableau3[Départ])*(Tableau3[Chb]=$C36))","v":0},{"$f":"SUMPRODUCT((M$3>=Tableau3[Arrivée])*(M$3<Tableau3[Départ])*(Tableau3[Chb]=$C36))","v":0},{"$f":"SUMPRODUCT((N$3>=Tableau3[Arrivée])*(N$3<Tableau3[Départ])*(Tableau3[Chb]=$C36))","v":0},{"$f":"SUMPRODUCT((O$3>=Tableau3[Arrivée])*(O$3<Tableau3[Départ])*(Tableau3[Chb]=$C36))","v":0},{"$f":"SUMPRODUCT((P$3>=Tableau3[Arrivée])*(P$3<Tableau3[Départ])*(Tableau3[Chb]=$C36))","v":0},{"$f":"SUMPRODUCT((Q$3>=Tableau3[Arrivée])*(Q$3<Tableau3[Départ])*(Tableau3[Chb]=$C36))","v":0},{"$f":"SUMPRODUCT((R$3>=Tableau3[Arrivée])*(R$3<Tableau3[Départ])*(Tableau3[Chb]=$C36))","v":0},{"$f":"SUMPRODUCT((S$3>=Tableau3[Arrivée])*(S$3<Tableau3[Départ])*(Tableau3[Chb]=$C36))","v":0},{"$f":"SUMPRODUCT((T$3>=Tableau3[Arrivée])*(T$3<Tableau3[Départ])*(Tableau3[Chb]=$C36))","v":0},{"$f":"SUMPRODUCT((U$3>=Tableau3[Arrivée])*(U$3<Tableau3[Départ])*(Tableau3[Chb]=$C36))","v":0},{"$f":"SUMPRODUCT((V$3>=Tableau3[Arrivée])*(V$3<Tableau3[Départ])*(Tableau3[Chb]=$C36))","v":0},{"$f":"SUMPRODUCT((W$3>=Tableau3[Arrivée])*(W$3<Tableau3[Départ])*(Tableau3[Chb]=$C36))","v":0},{"$f":"SUMPRODUCT((X$3>=Tableau3[Arrivée])*(X$3<Tableau3[Départ])*(Tableau3[Chb]=$C36))","v":0},{"$f":"SUMPRODUCT((Y$3>=Tableau3[Arrivée])*(Y$3<Tableau3[Départ])*(Tableau3[Chb]=$C36))","v":0},{"$f":"SUMPRODUCT((Z$3>=Tableau3[Arrivée])*(Z$3<Tableau3[Départ])*(Tableau3[Chb]=$C36))","v":0}," ",{"$f":"SUMPRODUCT((AB$3>=Tableau3[Arrivée])*(AB$3<Tableau3[Départ])*(Tableau3[Chb]=$C36))","v":0},{"$f":"SUMPRODUCT((AC$3>=Tableau3[Arrivée])*(AC$3<Tableau3[Départ])*(Tableau3[Chb]=$C36))","v":0},{"$f":"SUMPRODUCT((AD$3>=Tableau3[Arrivée])*(AD$3<Tableau3[Départ])*(Tableau3[Chb]=$C36))","v":0},{"$f":"SUMPRODUCT((AE$3>=Tableau3[Arrivée])*(AE$3<Tableau3[Départ])*(Tableau3[Chb]=$C36))","v":0},{"$f":"SUMPRODUCT((AF$3>=Tableau3[Arrivée])*(AF$3<Tableau3[Départ])*(Tableau3[Chb]=$C36))","v":0},{"$f":"SUMPRODUCT((AG$3>=Tableau3[Arrivée])*(AG$3<Tableau3[Départ])*(Tableau3[Chb]=$C36))","v":0},{"$f":"SUMPRODUCT((AH$3>=Tableau3[Arrivée])*(AH$3<Tableau3[Départ])*(Tableau3[Chb]=$C36))","v":0},0]
[null,"Triple",308,{"$f":"SUMPRODUCT((D$3>=Tableau3[Arrivée])*(D$3<Tableau3[Départ])*(Tableau3[Chb]=$C37))","v":0},{"$f":"SUMPRODUCT((E$3>=Tableau3[Arrivée])*(E$3<Tableau3[Départ])*(Tableau3[Chb]=$C37))","v":0},{"$f":"SUMPRODUCT((F$3>=Tableau3[Arrivée])*(F$3<Tableau3[Départ])*(Tableau3[Chb]=$C37))","v":0},{"$f":"SUMPRODUCT((G$3>=Tableau3[Arrivée])*(G$3<Tableau3[Départ])*(Tableau3[Chb]=$C37))","v":0},{"$f":"SUMPRODUCT((H$3>=Tableau3[Arrivée])*(H$3<Tableau3[Départ])*(Tableau3[Chb]=$C37))","v":0},{"$f":"SUMPRODUCT((I$3>=Tableau3[Arrivée])*(I$3<Tableau3[Départ])*(Tableau3[Chb]=$C37))","v":0},{"$f":"SUMPRODUCT((J$3>=Tableau3[Arrivée])*(J$3<Tableau3[Départ])*(Tableau3[Chb]=$C37))","v":0},{"$f":"SUMPRODUCT((K$3>=Tableau3[Arrivée])*(K$3<Tableau3[Départ])*(Tableau3[Chb]=$C37))","v":0},{"$f":"SUMPRODUCT((L$3>=Tableau3[Arrivée])*(L$3<Tableau3[Départ])*(Tableau3[Chb]=$C37))","v":0},{"$f":"SUMPRODUCT((M$3>=Tableau3[Arrivée])*(M$3<Tableau3[Départ])*(Tableau3[Chb]=$C37))","v":0},{"$f":"SUMPRODUCT((N$3>=Tableau3[Arrivée])*(N$3<Tableau3[Départ])*(Tableau3[Chb]=$C37))","v":0},{"$f":"SUMPRODUCT((O$3>=Tableau3[Arrivée])*(O$3<Tableau3[Départ])*(Tableau3[Chb]=$C37))","v":0},{"$f":"SUMPRODUCT((P$3>=Tableau3[Arrivée])*(P$3<Tableau3[Départ])*(Tableau3[Chb]=$C37))","v":0},{"$f":"SUMPRODUCT((Q$3>=Tableau3[Arrivée])*(Q$3<Tableau3[Départ])*(Tableau3[Chb]=$C37))","v":0},{"$f":"SUMPRODUCT((R$3>=Tableau3[Arrivée])*(R$3<Tableau3[Départ])*(Tableau3[Chb]=$C37))","v":0},{"$f":"SUMPRODUCT((S$3>=Tableau3[Arrivée])*(S$3<Tableau3[Départ])*(Tableau3[Chb]=$C37))","v":0},{"$f":"SUMPRODUCT((T$3>=Tableau3[Arrivée])*(T$3<Tableau3[Départ])*(Tableau3[Chb]=$C37))","v":0},{"$f":"SUMPRODUCT((U$3>=Tableau3[Arrivée])*(U$3<Tableau3[Départ])*(Tableau3[Chb]=$C37))","v":0},{"$f":"SUMPRODUCT((V$3>=Tableau3[Arrivée])*(V$3<Tableau3[Départ])*(Tableau3[Chb]=$C37))","v":0},{"$f":"SUMPRODUCT((W$3>=Tableau3[Arrivée])*(W$3<Tableau3[Départ])*(Tableau3[Chb]=$C37))","v":0},{"$f":"SUMPRODUCT((X$3>=Tableau3[Arrivée])*(X$3<Tableau3[Départ])*(Tableau3[Chb]=$C37))","v":0},{"$f":"SUMPRODUCT((Y$3>=Tableau3[Arrivée])*(Y$3<Tableau3[Départ])*(Tableau3[Chb]=$C37))","v":0},{"$f":"SUMPRODUCT((Z$3>=Tableau3[Arrivée])*(Z$3<Tableau3[Départ])*(Tableau3[Chb]=$C37))","v":0},{"$f":"SUMPRODUCT((AA$3>=Tableau3[Arrivée])*(AA$3<Tableau3[Départ])*(Tableau3[Chb]=$C37))","v":0},{"$f":"SUMPRODUCT((AB$3>=Tableau3[Arrivée])*(AB$3<Tableau3[Départ])*(Tableau3[Chb]=$C37))","v":0},{"$f":"SUMPRODUCT((AC$3>=Tableau3[Arrivée])*(AC$3<Tableau3[Départ])*(Tableau3[Chb]=$C37))","v":0},{"$f":"SUMPRODUCT((AD$3>=Tableau3[Arrivée])*(AD$3<Tableau3[Départ])*(Tableau3[Chb]=$C37))","v":0},{"$f":"SUMPRODUCT((AE$3>=Tableau3[Arrivée])*(AE$3<Tableau3[Départ])*(Tableau3[Chb]=$C37))","v":0},{"$f":"SUMPRODUCT((AF$3>=Tableau3[Arrivée])*(AF$3<Tableau3[Départ])*(Tableau3[Chb]=$C37))","v":0},{"$f":"SUMPRODUCT((AG$3>=Tableau3[Arrivée])*(AG$3<Tableau3[Départ])*(Tableau3[Chb]=$C37))","v":0},{"$f":"SUMPRODUCT((AH$3>=Tableau3[Arrivée])*(AH$3<Tableau3[Départ])*(Tableau3[Chb]=$C37))","v":0},0]
[null,"Suite",309,{"$f":"SUMPRODUCT((D$3>=Tableau3[Arrivée])*(D$3<Tableau3[Départ])*(Tableau3[Chb]=$C38))","v":0},{"$f":"SUMPRODUCT((E$3>=Tableau3[Arrivée])*(E$3<Tableau3[Départ])*(Tableau3[Chb]=$C38))","v":0},{"$f":"SUMPRODUCT((F$3>=Tableau3[Arrivée])*(F$3<Tableau3[Départ])*(Tableau3[Chb]=$C38))","v":0},{"$f":"SUMPRODUCT((G$3>=Tableau3[Arrivée])*(G$3<Tableau3[Départ])*(Tableau3[Chb]=$C38))","v":0},{"$f":"SUMPRODUCT((H$3>=Tableau3[Arrivée])*(H$3<Tableau3[Départ])*(Tableau3[Chb]=$C38))","v":0},{"$f":"SUMPRODUCT((I$3>=Tableau3[Arrivée])*(I$3<Tableau3[Départ])*(Tableau3[Chb]=$C38))","v":0},{"$f":"SUMPRODUCT((J$3>=Tableau3[Arrivée])*(J$3<Tableau3[Départ])*(Tableau3[Chb]=$C38))","v":0},{"$f":"SUMPRODUCT((K$3>=Tableau3[Arrivée])*(K$3<Tableau3[Départ])*(Tableau3[Chb]=$C38))","v":0},{"$f":"SUMPRODUCT((L$3>=Tableau3[Arrivée])*(L$3<Tableau3[Départ])*(Tableau3[Chb]=$C38))","v":0},{"$f":"SUMPRODUCT((M$3>=Tableau3[Arrivée])*(M$3<Tableau3[Départ])*(Tableau3[Chb]=$C38))","v":0},{"$f":"SUMPRODUCT((N$3>=Tableau3[Arrivée])*(N$3<Tableau3[Départ])*(Tableau3[Chb]=$C38))","v":0},{"$f":"SUMPRODUCT((O$3>=Tableau3[Arrivée])*(O$3<Tableau3[Départ])*(Tableau3[Chb]=$C38))","v":0},{"$f":"SUMPRODUCT((P$3>=Tableau3[Arrivée])*(P$3<Tableau3[Départ])*(Tableau3[Chb]=$C38))","v":0},{"$f":"SUMPRODUCT((Q$3>=Tableau3[Arrivée])*(Q$3<Tableau3[Départ])*(Tableau3[Chb]=$C38))","v":0},{"$f":"SUMPRODUCT((R$3>=Tableau3[Arrivée])*(R$3<Tableau3[Départ])*(Tableau3[Chb]=$C38))","v":0},{"$f":"SUMPRODUCT((S$3>=Tableau3[Arrivée])*(S$3<Tableau3[Départ])*(Tableau3[Chb]=$C38))","v":0},{"$f":"SUMPRODUCT((T$3>=Tableau3[Arrivée])*(T$3<Tableau3[Départ])*(Tableau3[Chb]=$C38))","v":0},{"$f":"SUMPRODUCT((U$3>=Tableau3[Arrivée])*(U$3<Tableau3[Départ])*(Tableau3[Chb]=$C38))","v":0},{"$f":"SUMPRODUCT((V$3>=Tableau3[Arrivée])*(V$3<Tableau3[Départ])*(Tableau3[Chb]=$C38))","v":0},{"$f":"SUMPRODUCT((W$3>=Tableau3[Arrivée])*(W$3<Tableau3[Départ])*(Tableau3[Chb]=$C38))","v":0},{"$f":"SUMPRODUCT((X$3>=Tableau3[Arrivée])*(X$3<Tableau3[Départ])*(Tableau3[Chb]=$C38))","v":0},{"$f":"SUMPRODUCT((Y$3>=Tableau3[Arrivée])*(Y$3<Tableau3[Départ])*(Tableau3[Chb]=$C38))","v":0},{"$f":"SUMPRODUCT((Z$3>=Tableau3[Arrivée])*(Z$3<Tableau3[Départ])*(Tableau3[Chb]=$C38))","v":0},{"$f":"SUMPRODUCT((AA$3>=Tableau3[Arrivée])*(AA$3<Tableau3[Départ])*(Tableau3[Chb]=$C38))","v":0},{"$f":"SUMPRODUCT((AB$3>=Tableau3[Arrivée])*(AB$3<Tableau3[Départ])*(Tableau3[Chb]=$C38))","v":0},{"$f":"SUMPRODUCT((AC$3>=Tableau3[Arrivée])*(AC$3<Tableau3[Départ])*(Tableau3[Chb]=$C38))","v":0},{"$f":"SUMPRODUCT((AD$3>=Tableau3[Arrivée])*(AD$3<Tableau3[Départ])*(Tableau3[Chb]=$C38))","v":0},{"$f":"SUMPRODUCT((AE$3>=Tableau3[Arrivée])*(AE$3<Tableau3[Départ])*(Tableau3[Chb]=$C38))","v":0},{"$f":"SUMPRODUCT((AF$3>=Tableau3[Arrivée])*(AF$3<Tableau3[Départ])*(Tableau3[Chb]=$C38))","v":0},{"$f":"SUMPRODUCT((AG$3>=Tableau3[Arrivée])*(AG$3<Tableau3[Départ])*(Tableau3[Chb]=$C38))","v":0},{"$f":"SUMPRODUCT((AH$3>=Tableau3[Arrivée])*(AH$3<Tableau3[Départ])*(Tableau3[Chb]=$C38))","v":0},0]
[null,"Triple",310,{"$f":"SUMPRODUCT((D$3>=Tableau3[Arrivée])*(D$3<Tableau3[Départ])*(Tableau3[Chb]=$C39))","v":0},{"$f":"SUMPRODUCT((E$3>=Tableau3[Arrivée])*(E$3<Tableau3[Départ])*(Tableau3[Chb]=$C39))","v":0},{"$f":"SUMPRODUCT((F$3>=Tableau3[Arrivée])*(F$3<Tableau3[Départ])*(Tableau3[Chb]=$C39))","v":0},{"$f":"SUMPRODUCT((G$3>=Tableau3[Arrivée])*(G$3<Tableau3[Départ])*(Tableau3[Chb]=$C39))","v":0},{"$f":"SUMPRODUCT((H$3>=Tableau3[Arrivée])*(H$3<Tableau3[Départ])*(Tableau3[Chb]=$C39))","v":0},{"$f":"SUMPRODUCT((I$3>=Tableau3[Arrivée])*(I$3<Tableau3[Départ])*(Tableau3[Chb]=$C39))","v":0},{"$f":"SUMPRODUCT((J$3>=Tableau3[Arrivée])*(J$3<Tableau3[Départ])*(Tableau3[Chb]=$C39))","v":0},{"$f":"SUMPRODUCT((K$3>=Tableau3[Arrivée])*(K$3<Tableau3[Départ])*(Tableau3[Chb]=$C39))","v":0},{"$f":"SUMPRODUCT((L$3>=Tableau3[Arrivée])*(L$3<Tableau3[Départ])*(Tableau3[Chb]=$C39))","v":0},{"$f":"SUMPRODUCT((M$3>=Tableau3[Arrivée])*(M$3<Tableau3[Départ])*(Tableau3[Chb]=$C39))","v":0},{"$f":"SUMPRODUCT((N$3>=Tableau3[Arrivée])*(N$3<Tableau3[Départ])*(Tableau3[Chb]=$C39))","v":0},{"$f":"SUMPRODUCT((O$3>=Tableau3[Arrivée])*(O$3<Tableau3[Départ])*(Tableau3[Chb]=$C39))","v":0},{"$f":"SUMPRODUCT((P$3>=Tableau3[Arrivée])*(P$3<Tableau3[Départ])*(Tableau3[Chb]=$C39))","v":0},{"$f":"SUMPRODUCT((Q$3>=Tableau3[Arrivée])*(Q$3<Tableau3[Départ])*(Tableau3[Chb]=$C39))","v":0},{"$f":"SUMPRODUCT((R$3>=Tableau3[Arrivée])*(R$3<Tableau3[Départ])*(Tableau3[Chb]=$C39))","v":0},{"$f":"SUMPRODUCT((S$3>=Tableau3[Arrivée])*(S$3<Tableau3[Départ])*(Tableau3[Chb]=$C39))","v":0},{"$f":"SUMPRODUCT((T$3>=Tableau3[Arrivée])*(T$3<Tableau3[Départ])*(Tableau3[Chb]=$C39))","v":0},{"$f":"SUMPRODUCT((U$3>=Tableau3[Arrivée])*(U$3<Tableau3[Départ])*(Tableau3[Chb]=$C39))","v":0},{"$f":"SUMPRODUCT((V$3>=Tableau3[Arrivée])*(V$3<Tableau3[Départ])*(Tableau3[Chb]=$C39))","v":0},{"$f":"SUMPRODUCT((W$3>=Tableau3[Arrivée])*(W$3<Tableau3[Départ])*(Tableau3[Chb]=$C39))","v":0},{"$f":"SUMPRODUCT((X$3>=Tableau3[Arrivée])*(X$3<Tableau3[Départ])*(Tableau3[Chb]=$C39))","v":0},{"$f":"SUMPRODUCT((Y$3>=Tableau3[Arrivée])*(Y$3<Tableau3[Départ])*(Tableau3[Chb]=$C39))","v":0},{"$f":"SUMPRODUCT((Z$3>=Tableau3[Arrivée])*(Z$3<Tableau3[Départ])*(Tableau3[Chb]=$C39))","v":0},{"$f":"SUMPRODUCT((AA$3>=Tableau3[Arrivée])*(AA$3<Tableau3[Départ])*(Tableau3[Chb]=$C39))","v":0},{"$f":"SUMPRODUCT((AB$3>=Tableau3[Arrivée])*(AB$3<Tableau3[Départ])*(Tableau3[Chb]=$C39))","v":0},{"$f":"SUMPRODUCT((AC$3>=Tableau3[Arrivée])*(AC$3<Tableau3[Départ])*(Tableau3[Chb]=$C39))","v":0},{"$f":"SUMPRODUCT((AD$3>=Tableau3[Arrivée])*(AD$3<Tableau3[Départ])*(Tableau3[Chb]=$C39))","v":0},{"$f":"SUMPRODUCT((AE$3>=Tableau3[Arrivée])*(AE$3<Tableau3[Départ])*(Tableau3[Chb]=$C39))","v":0},{"$f":"SUMPRODUCT((AF$3>=Tableau3[Arrivée])*(AF$3<Tableau3[Départ])*(Tableau3[Chb]=$C39))","v":0},{"$f":"SUMPRODUCT((AG$3>=Tableau3[Arrivée])*(AG$3<Tableau3[Départ])*(Tableau3[Chb]=$C39))","v":0},{"$f":"SUMPRODUCT((AH$3>=Tableau3[Arrivée])*(AH$3<Tableau3[Départ])*(Tableau3[Chb]=$C39))","v":0},0]
[null,"Triple",311,{"$f":"SUMPRODUCT((D$3>=Tableau3[Arrivée])*(D$3<Tableau3[Départ])*(Tableau3[Chb]=$C40))","v":0},{"$f":"SUMPRODUCT((E$3>=Tableau3[Arrivée])*(E$3<Tableau3[Départ])*(Tableau3[Chb]=$C40))","v":0},{"$f":"SUMPRODUCT((F$3>=Tableau3[Arrivée])*(F$3<Tableau3[Départ])*(Tableau3[Chb]=$C40))","v":0},{"$f":"SUMPRODUCT((G$3>=Tableau3[Arrivée])*(G$3<Tableau3[Départ])*(Tableau3[Chb]=$C40))","v":0},{"$f":"SUMPRODUCT((H$3>=Tableau3[Arrivée])*(H$3<Tableau3[Départ])*(Tableau3[Chb]=$C40))","v":0},{"$f":"SUMPRODUCT((I$3>=Tableau3[Arrivée])*(I$3<Tableau3[Départ])*(Tableau3[Chb]=$C40))","v":0},{"$f":"SUMPRODUCT((J$3>=Tableau3[Arrivée])*(J$3<Tableau3[Départ])*(Tableau3[Chb]=$C40))","v":0},{"$f":"SUMPRODUCT((K$3>=Tableau3[Arrivée])*(K$3<Tableau3[Départ])*(Tableau3[Chb]=$C40))","v":0},{"$f":"SUMPRODUCT((L$3>=Tableau3[Arrivée])*(L$3<Tableau3[Départ])*(Tableau3[Chb]=$C40))","v":0},{"$f":"SUMPRODUCT((M$3>=Tableau3[Arrivée])*(M$3<Tableau3[Départ])*(Tableau3[Chb]=$C40))","v":0},{"$f":"SUMPRODUCT((N$3>=Tableau3[Arrivée])*(N$3<Tableau3[Départ])*(Tableau3[Chb]=$C40))","v":0},{"$f":"SUMPRODUCT((O$3>=Tableau3[Arrivée])*(O$3<Tableau3[Départ])*(Tableau3[Chb]=$C40))","v":0},{"$f":"SUMPRODUCT((P$3>=Tableau3[Arrivée])*(P$3<Tableau3[Départ])*(Tableau3[Chb]=$C40))","v":0},{"$f":"SUMPRODUCT((Q$3>=Tableau3[Arrivée])*(Q$3<Tableau3[Départ])*(Tableau3[Chb]=$C40))","v":0},{"$f":"SUMPRODUCT((R$3>=Tableau3[Arrivée])*(R$3<Tableau3[Départ])*(Tableau3[Chb]=$C40))","v":0},{"$f":"SUMPRODUCT((S$3>=Tableau3[Arrivée])*(S$3<Tableau3[Départ])*(Tableau3[Chb]=$C40))","v":0},{"$f":"SUMPRODUCT((T$3>=Tableau3[Arrivée])*(T$3<Tableau3[Départ])*(Tableau3[Chb]=$C40))","v":0},{"$f":"SUMPRODUCT((U$3>=Tableau3[Arrivée])*(U$3<Tableau3[Départ])*(Tableau3[Chb]=$C40))","v":0},{"$f":"SUMPRODUCT((V$3>=Tableau3[Arrivée])*(V$3<Tableau3[Départ])*(Tableau3[Chb]=$C40))","v":0},{"$f":"SUMPRODUCT((W$3>=Tableau3[Arrivée])*(W$3<Tableau3[Départ])*(Tableau3[Chb]=$C40))","v":0},{"$f":"SUMPRODUCT((X$3>=Tableau3[Arrivée])*(X$3<Tableau3[Départ])*(Tableau3[Chb]=$C40))","v":0},{"$f":"SUMPRODUCT((Y$3>=Tableau3[Arrivée])*(Y$3<Tableau3[Départ])*(Tableau3[Chb]=$C40))","v":0},{"$f":"SUMPRODUCT((Z$3>=Tableau3[Arrivée])*(Z$3<Tableau3[Départ])*(Tableau3[Chb]=$C40))","v":0},{"$f":"SUMPRODUCT((AA$3>=Tableau3[Arrivée])*(AA$3<Tableau3[Départ])*(Tableau3[Chb]=$C40))","v":0},{"$f":"SUMPRODUCT((AB$3>=Tableau3[Arrivée])*(AB$3<Tableau3[Départ])*(Tableau3[Chb]=$C40))","v":0},{"$f":"SUMPRODUCT((AC$3>=Tableau3[Arrivée])*(AC$3<Tableau3[Départ])*(Tableau3[Chb]=$C40))","v":0},{"$f":"SUMPRODUCT((AD$3>=Tableau3[Arrivée])*(AD$3<Tableau3[Départ])*(Tableau3[Chb]=$C40))","v":0},{"$f":"SUMPRODUCT((AE$3>=Tableau3[Arrivée])*(AE$3<Tableau3[Départ])*(Tableau3[Chb]=$C40))","v":0},{"$f":"SUMPRODUCT((AF$3>=Tableau3[Arrivée])*(AF$3<Tableau3[Départ])*(Tableau3[Chb]=$C40))","v":0},{"$f":"SUMPRODUCT((AG$3>=Tableau3[Arrivée])*(AG$3<Tableau3[Départ])*(Tableau3[Chb]=$C40))","v":0},{"$f":"SUMPRODUCT((AH$3>=Tableau3[Arrivée])*(AH$3<Tableau3[Départ])*(Tableau3[Chb]=$C40))","v":0},0]
[null,"Suite",312,{"$f":"SUMPRODUCT((D$3>=Tableau3[Arrivée])*(D$3<Tableau3[Départ])*(Tableau3[Chb]=$C41))","v":0},{"$f":"SUMPRODUCT((E$3>=Tableau3[Arrivée])*(E$3<Tableau3[Départ])*(Tableau3[Chb]=$C41))","v":0},{"$f":"SUMPRODUCT((F$3>=Tableau3[Arrivée])*(F$3<Tableau3[Départ])*(Tableau3[Chb]=$C41))","v":0},{"$f":"SUMPRODUCT((G$3>=Tableau3[Arrivée])*(G$3<Tableau3[Départ])*(Tableau3[Chb]=$C41))","v":0},{"$f":"SUMPRODUCT((H$3>=Tableau3[Arrivée])*(H$3<Tableau3[Départ])*(Tableau3[Chb]=$C41))","v":0},{"$f":"SUMPRODUCT((I$3>=Tableau3[Arrivée])*(I$3<Tableau3[Départ])*(Tableau3[Chb]=$C41))","v":0},{"$f":"SUMPRODUCT((J$3>=Tableau3[Arrivée])*(J$3<Tableau3[Départ])*(Tableau3[Chb]=$C41))","v":0},{"$f":"SUMPRODUCT((K$3>=Tableau3[Arrivée])*(K$3<Tableau3[Départ])*(Tableau3[Chb]=$C41))","v":0},{"$f":"SUMPRODUCT((L$3>=Tableau3[Arrivée])*(L$3<Tableau3[Départ])*(Tableau3[Chb]=$C41))","v":0},{"$f":"SUMPRODUCT((M$3>=Tableau3[Arrivée])*(M$3<Tableau3[Départ])*(Tableau3[Chb]=$C41))","v":0},{"$f":"SUMPRODUCT((N$3>=Tableau3[Arrivée])*(N$3<Tableau3[Départ])*(Tableau3[Chb]=$C41))","v":0},{"$f":"SUMPRODUCT((O$3>=Tableau3[Arrivée])*(O$3<Tableau3[Départ])*(Tableau3[Chb]=$C41))","v":0},{"$f":"SUMPRODUCT((P$3>=Tableau3[Arrivée])*(P$3<Tableau3[Départ])*(Tableau3[Chb]=$C41))","v":0},{"$f":"SUMPRODUCT((Q$3>=Tableau3[Arrivée])*(Q$3<Tableau3[Départ])*(Tableau3[Chb]=$C41))","v":0},{"$f":"SUMPRODUCT((R$3>=Tableau3[Arrivée])*(R$3<Tableau3[Départ])*(Tableau3[Chb]=$C41))","v":0},{"$f":"SUMPRODUCT((S$3>=Tableau3[Arrivée])*(S$3<Tableau3[Départ])*(Tableau3[Chb]=$C41))","v":0},{"$f":"SUMPRODUCT((T$3>=Tableau3[Arrivée])*(T$3<Tableau3[Départ])*(Tableau3[Chb]=$C41))","v":0},{"$f":"SUMPRODUCT((U$3>=Tableau3[Arrivée])*(U$3<Tableau3[Départ])*(Tableau3[Chb]=$C41))","v":0},{"$f":"SUMPRODUCT((V$3>=Tableau3[Arrivée])*(V$3<Tableau3[Départ])*(Tableau3[Chb]=$C41))","v":0},{"$f":"SUMPRODUCT((W$3>=Tableau3[Arrivée])*(W$3<Tableau3[Départ])*(Tableau3[Chb]=$C41))","v":0},{"$f":"SUMPRODUCT((X$3>=Tableau3[Arrivée])*(X$3<Tableau3[Départ])*(Tableau3[Chb]=$C41))","v":0},{"$f":"SUMPRODUCT((Y$3>=Tableau3[Arrivée])*(Y$3<Tableau3[Départ])*(Tableau3[Chb]=$C41))","v":0},{"$f":"SUMPRODUCT((Z$3>=Tableau3[Arrivée])*(Z$3<Tableau3[Départ])*(Tableau3[Chb]=$C41))","v":0},{"$f":"SUMPRODUCT((AA$3>=Tableau3[Arrivée])*(AA$3<Tableau3[Départ])*(Tableau3[Chb]=$C41))","v":0},{"$f":"SUMPRODUCT((AB$3>=Tableau3[Arrivée])*(AB$3<Tableau3[Départ])*(Tableau3[Chb]=$C41))","v":0},{"$f":"SUMPRODUCT((AC$3>=Tableau3[Arrivée])*(AC$3<Tableau3[Départ])*(Tableau3[Chb]=$C41))","v":0},{"$f":"SUMPRODUCT((AD$3>=Tableau3[Arrivée])*(AD$3<Tableau3[Départ])*(Tableau3[Chb]=$C41))","v":0},{"$f":"SUMPRODUCT((AE$3>=Tableau3[Arrivée])*(AE$3<Tableau3[Départ])*(Tableau3[Chb]=$C41))","v":0},{"$f":"SUMPRODUCT((AF$3>=Tableau3[Arrivée])*(AF$3<Tableau3[Départ])*(Tableau3[Chb]=$C41))","v":0},{"$f":"SUMPRODUCT((AG$3>=Tableau3[Arrivée])*(AG$3<Tableau3[Départ])*(Tableau3[Chb]=$C41))","v":0},{"$f":"SUMPRODUCT((AH$3>=Tableau3[Arrivée])*(AH$3<Tableau3[Départ])*(Tableau3[Chb]=$C41))","v":0},0]
[null,"Twin",313,{"$f":"SUMPRODUCT((D$3>=Tableau3[Arrivée])*(D$3<Tableau3[Départ])*(Tableau3[Chb]=$C42))","v":0},{"$f":"SUMPRODUCT((E$3>=Tableau3[Arrivée])*(E$3<Tableau3[Départ])*(Tableau3[Chb]=$C42))","v":0},{"$f":"SUMPRODUCT((F$3>=Tableau3[Arrivée])*(F$3<Tableau3[Départ])*(Tableau3[Chb]=$C42))","v":0},{"$f":"SUMPRODUCT((G$3>=Tableau3[Arrivée])*(G$3<Tableau3[Départ])*(Tableau3[Chb]=$C42))","v":0},{"$f":"SUMPRODUCT((H$3>=Tableau3[Arrivée])*(H$3<Tableau3[Départ])*(Tableau3[Chb]=$C42))","v":0},{"$f":"SUMPRODUCT((I$3>=Tableau3[Arrivée])*(I$3<Tableau3[Départ])*(Tableau3[Chb]=$C42))","v":0},{"$f":"SUMPRODUCT((J$3>=Tableau3[Arrivée])*(J$3<Tableau3[Départ])*(Tableau3[Chb]=$C42))","v":0},{"$f":"SUMPRODUCT((K$3>=Tableau3[Arrivée])*(K$3<Tableau3[Départ])*(Tableau3[Chb]=$C42))","v":0},{"$f":"SUMPRODUCT((L$3>=Tableau3[Arrivée])*(L$3<Tableau3[Départ])*(Tableau3[Chb]=$C42))","v":0},{"$f":"SUMPRODUCT((M$3>=Tableau3[Arrivée])*(M$3<Tableau3[Départ])*(Tableau3[Chb]=$C42))","v":0},{"$f":"SUMPRODUCT((N$3>=Tableau3[Arrivée])*(N$3<Tableau3[Départ])*(Tableau3[Chb]=$C42))","v":0},{"$f":"SUMPRODUCT((O$3>=Tableau3[Arrivée])*(O$3<Tableau3[Départ])*(Tableau3[Chb]=$C42))","v":0},{"$f":"SUMPRODUCT((P$3>=Tableau3[Arrivée])*(P$3<Tableau3[Départ])*(Tableau3[Chb]=$C42))","v":0},{"$f":"SUMPRODUCT((Q$3>=Tableau3[Arrivée])*(Q$3<Tableau3[Départ])*(Tableau3[Chb]=$C42))","v":0},{"$f":"SUMPRODUCT((R$3>=Tableau3[Arrivée])*(R$3<Tableau3[Départ])*(Tableau3[Chb]=$C42))","v":0},{"$f":"SUMPRODUCT((S$3>=Tableau3[Arrivée])*(S$3<Tableau3[Départ])*(Tableau3[Chb]=$C42))","v":0},{"$f":"SUMPRODUCT((T$3>=Tableau3[Arrivée])*(T$3<Tableau3[Départ])*(Tableau3[Chb]=$C42))","v":0},{"$f":"SUMPRODUCT((U$3>=Tableau3[Arrivée])*(U$3<Tableau3[Départ])*(Tableau3[Chb]=$C42))","v":0},{"$f":"SUMPRODUCT((V$3>=Tableau3[Arrivée])*(V$3<Tableau3[Départ])*(Tableau3[Chb]=$C42))","v":0},{"$f":"SUMPRODUCT((W$3>=Tableau3[Arrivée])*(W$3<Tableau3[Départ])*(Tableau3[Chb]=$C42))","v":0},{"$f":"SUMPRODUCT((X$3>=Tableau3[Arrivée])*(X$3<Tableau3[Départ])*(Tableau3[Chb]=$C42))","v":0},{"$f":"SUMPRODUCT((Y$3>=Tableau3[Arrivée])*(Y$3<Tableau3[Départ])*(Tableau3[Chb]=$C42))","v":0},{"$f":"SUMPRODUCT((Z$3>=Tableau3[Arrivée])*(Z$3<Tableau3[Départ])*(Tableau3[Chb]=$C42))","v":0},{"$f":"SUMPRODUCT((AA$3>=Tableau3[Arrivée])*(AA$3<Tableau3[Départ])*(Tableau3[Chb]=$C42))","v":0},{"$f":"SUMPRODUCT((AB$3>=Tableau3[Arrivée])*(AB$3<Tableau3[Départ])*(Tableau3[Chb]=$C42))","v":0},{"$f":"SUMPRODUCT((AC$3>=Tableau3[Arrivée])*(AC$3<Tableau3[Départ])*(Tableau3[Chb]=$C42))","v":0},{"$f":"SUMPRODUCT((AD$3>=Tableau3[Arrivée])*(AD$3<Tableau3[Départ])*(Tableau3[Chb]=$C42))","v":0},{"$f":"SUMPRODUCT((AE$3>=Tableau3[Arrivée])*(AE$3<Tableau3[Départ])*(Tableau3[Chb]=$C42))","v":0},{"$f":"SUMPRODUCT((AF$3>=Tableau3[Arrivée])*(AF$3<Tableau3[Départ])*(Tableau3[Chb]=$C42))","v":0},{"$f":"SUMPRODUCT((AG$3>=Tableau3[Arrivée])*(AG$3<Tableau3[Départ])*(Tableau3[Chb]=$C42))","v":0},{"$f":"SUMPRODUCT((AH$3>=Tableau3[Arrivée])*(AH$3<Tableau3[Départ])*(Tableau3[Chb]=$C42))","v":0},0]
[null,"Twin",401,{"$f":"SUMPRODUCT((D$3>=Tableau3[Arrivée])*(D$3<Tableau3[Départ])*(Tableau3[Chb]=$C43))","v":0},{"$f":"SUMPRODUCT((E$3>=Tableau3[Arrivée])*(E$3<Tableau3[Départ])*(Tableau3[Chb]=$C43))","v":0},{"$f":"SUMPRODUCT((F$3>=Tableau3[Arrivée])*(F$3<Tableau3[Départ])*(Tableau3[Chb]=$C43))","v":0},{"$f":"SUMPRODUCT((G$3>=Tableau3[Arrivée])*(G$3<Tableau3[Départ])*(Tableau3[Chb]=$C43))","v":0},{"$f":"SUMPRODUCT((H$3>=Tableau3[Arrivée])*(H$3<Tableau3[Départ])*(Tableau3[Chb]=$C43))","v":0},{"$f":"SUMPRODUCT((I$3>=Tableau3[Arrivée])*(I$3<Tableau3[Départ])*(Tableau3[Chb]=$C43))","v":0},{"$f":"SUMPRODUCT((J$3>=Tableau3[Arrivée])*(J$3<Tableau3[Départ])*(Tableau3[Chb]=$C43))","v":0},{"$f":"SUMPRODUCT((K$3>=Tableau3[Arrivée])*(K$3<Tableau3[Départ])*(Tableau3[Chb]=$C43))","v":0},{"$f":"SUMPRODUCT((L$3>=Tableau3[Arrivée])*(L$3<Tableau3[Départ])*(Tableau3[Chb]=$C43))","v":0},{"$f":"SUMPRODUCT((M$3>=Tableau3[Arrivée])*(M$3<Tableau3[Départ])*(Tableau3[Chb]=$C43))","v":0},{"$f":"SUMPRODUCT((N$3>=Tableau3[Arrivée])*(N$3<Tableau3[Départ])*(Tableau3[Chb]=$C43))","v":0},{"$f":"SUMPRODUCT((O$3>=Tableau3[Arrivée])*(O$3<Tableau3[Départ])*(Tableau3[Chb]=$C43))","v":0},{"$f":"SUMPRODUCT((P$3>=Tableau3[Arrivée])*(P$3<Tableau3[Départ])*(Tableau3[Chb]=$C43))","v":0},{"$f":"SUMPRODUCT((Q$3>=Tableau3[Arrivée])*(Q$3<Tableau3[Départ])*(Tableau3[Chb]=$C43))","v":0},{"$f":"SUMPRODUCT((R$3>=Tableau3[Arrivée])*(R$3<Tableau3[Départ])*(Tableau3[Chb]=$C43))","v":0},{"$f":"SUMPRODUCT((S$3>=Tableau3[Arrivée])*(S$3<Tableau3[Départ])*(Tableau3[Chb]=$C43))","v":0},{"$f":"SUMPRODUCT((T$3>=Tableau3[Arrivée])*(T$3<Tableau3[Départ])*(Tableau3[Chb]=$C43))","v":0},{"$f":"SUMPRODUCT((U$3>=Tableau3[Arrivée])*(U$3<Tableau3[Départ])*(Tableau3[Chb]=$C43))","v":0},{"$f":"SUMPRODUCT((V$3>=Tableau3[Arrivée])*(V$3<Tableau3[Départ])*(Tableau3[Chb]=$C43))","v":0},{"$f":"SUMPRODUCT((W$3>=Tableau3[Arrivée])*(W$3<Tableau3[Départ])*(Tableau3[Chb]=$C43))","v":0},{"$f":"SUMPRODUCT((X$3>=Tableau3[Arrivée])*(X$3<Tableau3[Départ])*(Tableau3[Chb]=$C43))","v":0},{"$f":"SUMPRODUCT((Y$3>=Tableau3[Arrivée])*(Y$3<Tableau3[Départ])*(Tableau3[Chb]=$C43))","v":0},{"$f":"SUMPRODUCT((Z$3>=Tableau3[Arrivée])*(Z$3<Tableau3[Départ])*(Tableau3[Chb]=$C43))","v":0},{"$f":"SUMPRODUCT((AA$3>=Tableau3[Arrivée])*(AA$3<Tableau3[Départ])*(Tableau3[Chb]=$C43))","v":0},{"$f":"SUMPRODUCT((AB$3>=Tableau3[Arrivée])*(AB$3<Tableau3[Départ])*(Tableau3[Chb]=$C43))","v":0},{"$f":"SUMPRODUCT((AC$3>=Tableau3[Arrivée])*(AC$3<Tableau3[Départ])*(Tableau3[Chb]=$C43))","v":0},{"$f":"SUMPRODUCT((AD$3>=Tableau3[Arrivée])*(AD$3<Tableau3[Départ])*(Tableau3[Chb]=$C43))","v":0},{"$f":"SUMPRODUCT((AE$3>=Tableau3[Arrivée])*(AE$3<Tableau3[Départ])*(Tableau3[Chb]=$C43))","v":0},{"$f":"SUMPRODUCT((AF$3>=Tableau3[Arrivée])*(AF$3<Tableau3[Départ])*(Tableau3[Chb]=$C43))","v":0},{"$f":"SUMPRODUCT((AG$3>=Tableau3[Arrivée])*(AG$3<Tableau3[Départ])*(Tableau3[Chb]=$C43))","v":0},{"$f":"SUMPRODUCT((AH$3>=Tableau3[Arrivée])*(AH$3<Tableau3[Départ])*(Tableau3[Chb]=$C43))","v":0},0]
[null,"Double",402,{"$f":"SUMPRODUCT((D$3>=Tableau3[Arrivée])*(D$3<Tableau3[Départ])*(Tableau3[Chb]=$C44))","v":0},{"$f":"SUMPRODUCT((E$3>=Tableau3[Arrivée])*(E$3<Tableau3[Départ])*(Tableau3[Chb]=$C44))","v":0},{"$f":"SUMPRODUCT((F$3>=Tableau3[Arrivée])*(F$3<Tableau3[Départ])*(Tableau3[Chb]=$C44))","v":0},{"$f":"SUMPRODUCT((G$3>=Tableau3[Arrivée])*(G$3<Tableau3[Départ])*(Tableau3[Chb]=$C44))","v":0},{"$f":"SUMPRODUCT((H$3>=Tableau3[Arrivée])*(H$3<Tableau3[Départ])*(Tableau3[Chb]=$C44))","v":0},{"$f":"SUMPRODUCT((I$3>=Tableau3[Arrivée])*(I$3<Tableau3[Départ])*(Tableau3[Chb]=$C44))","v":0},{"$f":"SUMPRODUCT((J$3>=Tableau3[Arrivée])*(J$3<Tableau3[Départ])*(Tableau3[Chb]=$C44))","v":0},{"$f":"SUMPRODUCT((K$3>=Tableau3[Arrivée])*(K$3<Tableau3[Départ])*(Tableau3[Chb]=$C44))","v":0},{"$f":"SUMPRODUCT((L$3>=Tableau3[Arrivée])*(L$3<Tableau3[Départ])*(Tableau3[Chb]=$C44))","v":0},{"$f":"SUMPRODUCT((M$3>=Tableau3[Arrivée])*(M$3<Tableau3[Départ])*(Tableau3[Chb]=$C44))","v":0},{"$f":"SUMPRODUCT((N$3>=Tableau3[Arrivée])*(N$3<Tableau3[Départ])*(Tableau3[Chb]=$C44))","v":0},{"$f":"SUMPRODUCT((O$3>=Tableau3[Arrivée])*(O$3<Tableau3[Départ])*(Tableau3[Chb]=$C44))","v":0},{"$f":"SUMPRODUCT((P$3>=Tableau3[Arrivée])*(P$3<Tableau3[Départ])*(Tableau3[Chb]=$C44))","v":0},{"$f":"SUMPRODUCT((Q$3>=Tableau3[Arrivée])*(Q$3<Tableau3[Départ])*(Tableau3[Chb]=$C44))","v":0},{"$f":"SUMPRODUCT((R$3>=Tableau3[Arrivée])*(R$3<Tableau3[Départ])*(Tableau3[Chb]=$C44))","v":0},{"$f":"SUMPRODUCT((S$3>=Tableau3[Arrivée])*(S$3<Tableau3[Départ])*(Tableau3[Chb]=$C44))","v":0},{"$f":"SUMPRODUCT((T$3>=Tableau3[Arrivée])*(T$3<Tableau3[Départ])*(Tableau3[Chb]=$C44))","v":0},{"$f":"SUMPRODUCT((U$3>=Tableau3[Arrivée])*(U$3<Tableau3[Départ])*(Tableau3[Chb]=$C44))","v":0},{"$f":"SUMPRODUCT((V$3>=Tableau3[Arrivée])*(V$3<Tableau3[Départ])*(Tableau3[Chb]=$C44))","v":0},{"$f":"SUMPRODUCT((W$3>=Tableau3[Arrivée])*(W$3<Tableau3[Départ])*(Tableau3[Chb]=$C44))","v":0},{"$f":"SUMPRODUCT((X$3>=Tableau3[Arrivée])*(X$3<Tableau3[Départ])*(Tableau3[Chb]=$C44))","v":0},{"$f":"SUMPRODUCT((Y$3>=Tableau3[Arrivée])*(Y$3<Tableau3[Départ])*(Tableau3[Chb]=$C44))","v":0},{"$f":"SUMPRODUCT((Z$3>=Tableau3[Arrivée])*(Z$3<Tableau3[Départ])*(Tableau3[Chb]=$C44))","v":0},{"$f":"SUMPRODUCT((AA$3>=Tableau3[Arrivée])*(AA$3<Tableau3[Départ])*(Tableau3[Chb]=$C44))","v":0},{"$f":"SUMPRODUCT((AB$3>=Tableau3[Arrivée])*(AB$3<Tableau3[Départ])*(Tableau3[Chb]=$C44))","v":0},{"$f":"SUMPRODUCT((AC$3>=Tableau3[Arrivée])*(AC$3<Tableau3[Départ])*(Tableau3[Chb]=$C44))","v":0},{"$f":"SUMPRODUCT((AD$3>=Tableau3[Arrivée])*(AD$3<Tableau3[Départ])*(Tableau3[Chb]=$C44))","v":0},{"$f":"SUMPRODUCT((AE$3>=Tableau3[Arrivée])*(AE$3<Tableau3[Départ])*(Tableau3[Chb]=$C44))","v":0},{"$f":"SUMPRODUCT((AF$3>=Tableau3[Arrivée])*(AF$3<Tableau3[Départ])*(Tableau3[Chb]=$C44))","v":0},{"$f":"SUMPRODUCT((AG$3>=Tableau3[Arrivée])*(AG$3<Tableau3[Départ])*(Tableau3[Chb]=$C44))","v":0},{"$f":"SUMPRODUCT((AH$3>=Tableau3[Arrivée])*(AH$3<Tableau3[Départ])*(Tableau3[Chb]=$C44))","v":0},0]
[null,"Single",403,{"$f":"SUMPRODUCT((D$3>=Tableau3[Arrivée])*(D$3<Tableau3[Départ])*(Tableau3[Chb]=$C45))","v":0},{"$f":"SUMPRODUCT((E$3>=Tableau3[Arrivée])*(E$3<Tableau3[Départ])*(Tableau3[Chb]=$C45))","v":0},{"$f":"SUMPRODUCT((F$3>=Tableau3[Arrivée])*(F$3<Tableau3[Départ])*(Tableau3[Chb]=$C45))","v":0},{"$f":"SUMPRODUCT((G$3>=Tableau3[Arrivée])*(G$3<Tableau3[Départ])*(Tableau3[Chb]=$C45))","v":0},{"$f":"SUMPRODUCT((H$3>=Tableau3[Arrivée])*(H$3<Tableau3[Départ])*(Tableau3[Chb]=$C45))","v":0},{"$f":"SUMPRODUCT((I$3>=Tableau3[Arrivée])*(I$3<Tableau3[Départ])*(Tableau3[Chb]=$C45))","v":0},{"$f":"SUMPRODUCT((J$3>=Tableau3[Arrivée])*(J$3<Tableau3[Départ])*(Tableau3[Chb]=$C45))","v":0},{"$f":"SUMPRODUCT((K$3>=Tableau3[Arrivée])*(K$3<Tableau3[Départ])*(Tableau3[Chb]=$C45))","v":0},{"$f":"SUMPRODUCT((L$3>=Tableau3[Arrivée])*(L$3<Tableau3[Départ])*(Tableau3[Chb]=$C45))","v":0},{"$f":"SUMPRODUCT((M$3>=Tableau3[Arrivée])*(M$3<Tableau3[Départ])*(Tableau3[Chb]=$C45))","v":0},{"$f":"SUMPRODUCT((N$3>=Tableau3[Arrivée])*(N$3<Tableau3[Départ])*(Tableau3[Chb]=$C45))","v":0},{"$f":"SUMPRODUCT((O$3>=Tableau3[Arrivée])*(O$3<Tableau3[Départ])*(Tableau3[Chb]=$C45))","v":0},{"$f":"SUMPRODUCT((P$3>=Tableau3[Arrivée])*(P$3<Tableau3[Départ])*(Tableau3[Chb]=$C45))","v":0},{"$f":"SUMPRODUCT((Q$3>=Tableau3[Arrivée])*(Q$3<Tableau3[Départ])*(Tableau3[Chb]=$C45))","v":0},{"$f":"SUMPRODUCT((R$3>=Tableau3[Arrivée])*(R$3<Tableau3[Départ])*(Tableau3[Chb]=$C45))","v":0},{"$f":"SUMPRODUCT((S$3>=Tableau3[Arrivée])*(S$3<Tableau3[Départ])*(Tableau3[Chb]=$C45))","v":0},{"$f":"SUMPRODUCT((T$3>=Tableau3[Arrivée])*(T$3<Tableau3[Départ])*(Tableau3[Chb]=$C45))","v":0},{"$f":"SUMPRODUCT((U$3>=Tableau3[Arrivée])*(U$3<Tableau3[Départ])*(Tableau3[Chb]=$C45))","v":0},{"$f":"SUMPRODUCT((V$3>=Tableau3[Arrivée])*(V$3<Tableau3[Départ])*(Tableau3[Chb]=$C45))","v":0},{"$f":"SUMPRODUCT((W$3>=Tableau3[Arrivée])*(W$3<Tableau3[Départ])*(Tableau3[Chb]=$C45))","v":0},{"$f":"SUMPRODUCT((X$3>=Tableau3[Arrivée])*(X$3<Tableau3[Départ])*(Tableau3[Chb]=$C45))","v":0},{"$f":"SUMPRODUCT((Y$3>=Tableau3[Arrivée])*(Y$3<Tableau3[Départ])*(Tableau3[Chb]=$C45))","v":0},{"$f":"SUMPRODUCT((Z$3>=Tableau3[Arrivée])*(Z$3<Tableau3[Départ])*(Tableau3[Chb]=$C45))","v":0},{"$f":"SUMPRODUCT((AA$3>=Tableau3[Arrivée])*(AA$3<Tableau3[Départ])*(Tableau3[Chb]=$C45))","v":0},{"$f":"SUMPRODUCT((AB$3>=Tableau3[Arrivée])*(AB$3<Tableau3[Départ])*(Tableau3[Chb]=$C45))","v":0},{"$f":"SUMPRODUCT((AC$3>=Tableau3[Arrivée])*(AC$3<Tableau3[Départ])*(Tableau3[Chb]=$C45))","v":0},{"$f":"SUMPRODUCT((AD$3>=Tableau3[Arrivée])*(AD$3<Tableau3[Départ])*(Tableau3[Chb]=$C45))","v":0},{"$f":"SUMPRODUCT((AE$3>=Tableau3[Arrivée])*(AE$3<Tableau3[Départ])*(Tableau3[Chb]=$C45))","v":0},{"$f":"SUMPRODUCT((AF$3>=Tableau3[Arrivée])*(AF$3<Tableau3[Départ])*(Tableau3[Chb]=$C45))","v":0},{"$f":"SUMPRODUCT((AG$3>=Tableau3[Arrivée])*(AG$3<Tableau3[Départ])*(Tableau3[Chb]=$C45))","v":0},{"$f":"SUMPRODUCT((AH$3>=Tableau3[Arrivée])*(AH$3<Tableau3[Départ])*(Tableau3[Chb]=$C45))","v":0},0]
[null,"Single",404,{"$f":"SUMPRODUCT((D$3>=Tableau3[Arrivée])*(D$3<Tableau3[Départ])*(Tableau3[Chb]=$C46))","v":0},{"$f":"SUMPRODUCT((E$3>=Tableau3[Arrivée])*(E$3<Tableau3[Départ])*(Tableau3[Chb]=$C46))","v":0},{"$f":"SUMPRODUCT((F$3>=Tableau3[Arrivée])*(F$3<Tableau3[Départ])*(Tableau3[Chb]=$C46))","v":0},{"$f":"SUMPRODUCT((G$3>=Tableau3[Arrivée])*(G$3<Tableau3[Départ])*(Tableau3[Chb]=$C46))","v":0},{"$f":"SUMPRODUCT((H$3>=Tableau3[Arrivée])*(H$3<Tableau3[Départ])*(Tableau3[Chb]=$C46))","v":0},{"$f":"SUMPRODUCT((I$3>=Tableau3[Arrivée])*(I$3<Tableau3[Départ])*(Tableau3[Chb]=$C46))","v":0},{"$f":"SUMPRODUCT((J$3>=Tableau3[Arrivée])*(J$3<Tableau3[Départ])*(Tableau3[Chb]=$C46))","v":0},{"$f":"SUMPRODUCT((K$3>=Tableau3[Arrivée])*(K$3<Tableau3[Départ])*(Tableau3[Chb]=$C46))","v":0},{"$f":"SUMPRODUCT((L$3>=Tableau3[Arrivée])*(L$3<Tableau3[Départ])*(Tableau3[Chb]=$C46))","v":0},{"$f":"SUMPRODUCT((M$3>=Tableau3[Arrivée])*(M$3<Tableau3[Départ])*(Tableau3[Chb]=$C46))","v":0},{"$f":"SUMPRODUCT((N$3>=Tableau3[Arrivée])*(N$3<Tableau3[Départ])*(Tableau3[Chb]=$C46))","v":0},{"$f":"SUMPRODUCT((O$3>=Tableau3[Arrivée])*(O$3<Tableau3[Départ])*(Tableau3[Chb]=$C46))","v":0},{"$f":"SUMPRODUCT((P$3>=Tableau3[Arrivée])*(P$3<Tableau3[Départ])*(Tableau3[Chb]=$C46))","v":0},{"$f":"SUMPRODUCT((Q$3>=Tableau3[Arrivée])*(Q$3<Tableau3[Départ])*(Tableau3[Chb]=$C46))","v":0},{"$f":"SUMPRODUCT((R$3>=Tableau3[Arrivée])*(R$3<Tableau3[Départ])*(Tableau3[Chb]=$C46))","v":0},{"$f":"SUMPRODUCT((S$3>=Tableau3[Arrivée])*(S$3<Tableau3[Départ])*(Tableau3[Chb]=$C46))","v":0},{"$f":"SUMPRODUCT((T$3>=Tableau3[Arrivée])*(T$3<Tableau3[Départ])*(Tableau3[Chb]=$C46))","v":0},{"$f":"SUMPRODUCT((U$3>=Tableau3[Arrivée])*(U$3<Tableau3[Départ])*(Tableau3[Chb]=$C46))","v":0},{"$f":"SUMPRODUCT((V$3>=Tableau3[Arrivée])*(V$3<Tableau3[Départ])*(Tableau3[Chb]=$C46))","v":0},{"$f":"SUMPRODUCT((W$3>=Tableau3[Arrivée])*(W$3<Tableau3[Départ])*(Tableau3[Chb]=$C46))","v":0},{"$f":"SUMPRODUCT((X$3>=Tableau3[Arrivée])*(X$3<Tableau3[Départ])*(Tableau3[Chb]=$C46))","v":0},{"$f":"SUMPRODUCT((Y$3>=Tableau3[Arrivée])*(Y$3<Tableau3[Départ])*(Tableau3[Chb]=$C46))","v":0},{"$f":"SUMPRODUCT((Z$3>=Tableau3[Arrivée])*(Z$3<Tableau3[Départ])*(Tableau3[Chb]=$C46))","v":0},{"$f":"SUMPRODUCT((AA$3>=Tableau3[Arrivée])*(AA$3<Tableau3[Départ])*(Tableau3[Chb]=$C46))","v":0},{"$f":"SUMPRODUCT((AB$3>=Tableau3[Arrivée])*(AB$3<Tableau3[Départ])*(Tableau3[Chb]=$C46))","v":0},{"$f":"SUMPRODUCT((AC$3>=Tableau3[Arrivée])*(AC$3<Tableau3[Départ])*(Tableau3[Chb]=$C46))","v":0},{"$f":"SUMPRODUCT((AD$3>=Tableau3[Arrivée])*(AD$3<Tableau3[Départ])*(Tableau3[Chb]=$C46))","v":0},{"$f":"SUMPRODUCT((AE$3>=Tableau3[Arrivée])*(AE$3<Tableau3[Départ])*(Tableau3[Chb]=$C46))","v":0},{"$f":"SUMPRODUCT((AF$3>=Tableau3[Arrivée])*(AF$3<Tableau3[Départ])*(Tableau3[Chb]=$C46))","v":0},{"$f":"SUMPRODUCT((AG$3>=Tableau3[Arrivée])*(AG$3<Tableau3[Départ])*(Tableau3[Chb]=$C46))","v":0},{"$f":"SUMPRODUCT((AH$3>=Tableau3[Arrivée])*(AH$3<Tableau3[Départ])*(Tableau3[Chb]=$C46))","v":0},0]
[null,"Single",405,{"$f":"SUMPRODUCT((D$3>=Tableau3[Arrivée])*(D$3<Tableau3[Départ])*(Tableau3[Chb]=$C47))","v":0},{"$f":"SUMPRODUCT((E$3>=Tableau3[Arrivée])*(E$3<Tableau3[Départ])*(Tableau3[Chb]=$C47))","v":0},{"$f":"SUMPRODUCT((F$3>=Tableau3[Arrivée])*(F$3<Tableau3[Départ])*(Tableau3[Chb]=$C47))","v":0},{"$f":"SUMPRODUCT((G$3>=Tableau3[Arrivée])*(G$3<Tableau3[Départ])*(Tableau3[Chb]=$C47))","v":0},{"$f":"SUMPRODUCT((H$3>=Tableau3[Arrivée])*(H$3<Tableau3[Départ])*(Tableau3[Chb]=$C47))","v":0},{"$f":"SUMPRODUCT((I$3>=Tableau3[Arrivée])*(I$3<Tableau3[Départ])*(Tableau3[Chb]=$C47))","v":0},{"$f":"SUMPRODUCT((J$3>=Tableau3[Arrivée])*(J$3<Tableau3[Départ])*(Tableau3[Chb]=$C47))","v":0},{"$f":"SUMPRODUCT((K$3>=Tableau3[Arrivée])*(K$3<Tableau3[Départ])*(Tableau3[Chb]=$C47))","v":0},{"$f":"SUMPRODUCT((L$3>=Tableau3[Arrivée])*(L$3<Tableau3[Départ])*(Tableau3[Chb]=$C47))","v":0},{"$f":"SUMPRODUCT((M$3>=Tableau3[Arrivée])*(M$3<Tableau3[Départ])*(Tableau3[Chb]=$C47))","v":0},{"$f":"SUMPRODUCT((N$3>=Tableau3[Arrivée])*(N$3<Tableau3[Départ])*(Tableau3[Chb]=$C47))","v":0},{"$f":"SUMPRODUCT((O$3>=Tableau3[Arrivée])*(O$3<Tableau3[Départ])*(Tableau3[Chb]=$C47))","v":0},{"$f":"SUMPRODUCT((P$3>=Tableau3[Arrivée])*(P$3<Tableau3[Départ])*(Tableau3[Chb]=$C47))","v":0},{"$f":"SUMPRODUCT((Q$3>=Tableau3[Arrivée])*(Q$3<Tableau3[Départ])*(Tableau3[Chb]=$C47))","v":0},{"$f":"SUMPRODUCT((R$3>=Tableau3[Arrivée])*(R$3<Tableau3[Départ])*(Tableau3[Chb]=$C47))","v":0},{"$f":"SUMPRODUCT((S$3>=Tableau3[Arrivée])*(S$3<Tableau3[Départ])*(Tableau3[Chb]=$C47))","v":0},{"$f":"SUMPRODUCT((T$3>=Tableau3[Arrivée])*(T$3<Tableau3[Départ])*(Tableau3[Chb]=$C47))","v":0},{"$f":"SUMPRODUCT((U$3>=Tableau3[Arrivée])*(U$3<Tableau3[Départ])*(Tableau3[Chb]=$C47))","v":0},{"$f":"SUMPRODUCT((V$3>=Tableau3[Arrivée])*(V$3<Tableau3[Départ])*(Tableau3[Chb]=$C47))","v":0},{"$f":"SUMPRODUCT((W$3>=Tableau3[Arrivée])*(W$3<Tableau3[Départ])*(Tableau3[Chb]=$C47))","v":0},{"$f":"SUMPRODUCT((X$3>=Tableau3[Arrivée])*(X$3<Tableau3[Départ])*(Tableau3[Chb]=$C47))","v":0},{"$f":"SUMPRODUCT((Y$3>=Tableau3[Arrivée])*(Y$3<Tableau3[Départ])*(Tableau3[Chb]=$C47))","v":0},{"$f":"SUMPRODUCT((Z$3>=Tableau3[Arrivée])*(Z$3<Tableau3[Départ])*(Tableau3[Chb]=$C47))","v":0},{"$f":"SUMPRODUCT((AA$3>=Tableau3[Arrivée])*(AA$3<Tableau3[Départ])*(Tableau3[Chb]=$C47))","v":0},{"$f":"SUMPRODUCT((AB$3>=Tableau3[Arrivée])*(AB$3<Tableau3[Départ])*(Tableau3[Chb]=$C47))","v":0},{"$f":"SUMPRODUCT((AC$3>=Tableau3[Arrivée])*(AC$3<Tableau3[Départ])*(Tableau3[Chb]=$C47))","v":0},{"$f":"SUMPRODUCT((AD$3>=Tableau3[Arrivée])*(AD$3<Tableau3[Départ])*(Tableau3[Chb]=$C47))","v":0},{"$f":"SUMPRODUCT((AE$3>=Tableau3[Arrivée])*(AE$3<Tableau3[Départ])*(Tableau3[Chb]=$C47))","v":0},{"$f":"SUMPRODUCT((AF$3>=Tableau3[Arrivée])*(AF$3<Tableau3[Départ])*(Tableau3[Chb]=$C47))","v":0},{"$f":"SUMPRODUCT((AG$3>=Tableau3[Arrivée])*(AG$3<Tableau3[Départ])*(Tableau3[Chb]=$C47))","v":0},{"$f":"SUMPRODUCT((AH$3>=Tableau3[Arrivée])*(AH$3<Tableau3[Départ])*(Tableau3[Chb]=$C47))","v":0},0]
[null,"Single",406,{"$f":"SUMPRODUCT((D$3>=Tableau3[Arrivée])*(D$3<Tableau3[Départ])*(Tableau3[Chb]=$C48))","v":0},{"$f":"SUMPRODUCT((E$3>=Tableau3[Arrivée])*(E$3<Tableau3[Départ])*(Tableau3[Chb]=$C48))","v":0},{"$f":"SUMPRODUCT((F$3>=Tableau3[Arrivée])*(F$3<Tableau3[Départ])*(Tableau3[Chb]=$C48))","v":0},{"$f":"SUMPRODUCT((G$3>=Tableau3[Arrivée])*(G$3<Tableau3[Départ])*(Tableau3[Chb]=$C48))","v":0},{"$f":"SUMPRODUCT((H$3>=Tableau3[Arrivée])*(H$3<Tableau3[Départ])*(Tableau3[Chb]=$C48))","v":0},{"$f":"SUMPRODUCT((I$3>=Tableau3[Arrivée])*(I$3<Tableau3[Départ])*(Tableau3[Chb]=$C48))","v":0},{"$f":"SUMPRODUCT((J$3>=Tableau3[Arrivée])*(J$3<Tableau3[Départ])*(Tableau3[Chb]=$C48))","v":0},{"$f":"SUMPRODUCT((K$3>=Tableau3[Arrivée])*(K$3<Tableau3[Départ])*(Tableau3[Chb]=$C48))","v":0},{"$f":"SUMPRODUCT((L$3>=Tableau3[Arrivée])*(L$3<Tableau3[Départ])*(Tableau3[Chb]=$C48))","v":0},{"$f":"SUMPRODUCT((M$3>=Tableau3[Arrivée])*(M$3<Tableau3[Départ])*(Tableau3[Chb]=$C48))","v":0},{"$f":"SUMPRODUCT((N$3>=Tableau3[Arrivée])*(N$3<Tableau3[Départ])*(Tableau3[Chb]=$C48))","v":0},{"$f":"SUMPRODUCT((O$3>=Tableau3[Arrivée])*(O$3<Tableau3[Départ])*(Tableau3[Chb]=$C48))","v":0},{"$f":"SUMPRODUCT((P$3>=Tableau3[Arrivée])*(P$3<Tableau3[Départ])*(Tableau3[Chb]=$C48))","v":0},{"$f":"SUMPRODUCT((Q$3>=Tableau3[Arrivée])*(Q$3<Tableau3[Départ])*(Tableau3[Chb]=$C48))","v":0},{"$f":"SUMPRODUCT((R$3>=Tableau3[Arrivée])*(R$3<Tableau3[Départ])*(Tableau3[Chb]=$C48))","v":0},{"$f":"SUMPRODUCT((S$3>=Tableau3[Arrivée])*(S$3<Tableau3[Départ])*(Tableau3[Chb]=$C48))","v":0},{"$f":"SUMPRODUCT((T$3>=Tableau3[Arrivée])*(T$3<Tableau3[Départ])*(Tableau3[Chb]=$C48))","v":0},{"$f":"SUMPRODUCT((U$3>=Tableau3[Arrivée])*(U$3<Tableau3[Départ])*(Tableau3[Chb]=$C48))","v":0},{"$f":"SUMPRODUCT((V$3>=Tableau3[Arrivée])*(V$3<Tableau3[Départ])*(Tableau3[Chb]=$C48))","v":0},{"$f":"SUMPRODUCT((W$3>=Tableau3[Arrivée])*(W$3<Tableau3[Départ])*(Tableau3[Chb]=$C48))","v":0},{"$f":"SUMPRODUCT((X$3>=Tableau3[Arrivée])*(X$3<Tableau3[Départ])*(Tableau3[Chb]=$C48))","v":0},{"$f":"SUMPRODUCT((Y$3>=Tableau3[Arrivée])*(Y$3<Tableau3[Départ])*(Tableau3[Chb]=$C48))","v":0},{"$f":"SUMPRODUCT((Z$3>=Tableau3[Arrivée])*(Z$3<Tableau3[Départ])*(Tableau3[Chb]=$C48))","v":0},{"$f":"SUMPRODUCT((AA$3>=Tableau3[Arrivée])*(AA$3<Tableau3[Départ])*(Tableau3[Chb]=$C48))","v":0},{"$f":"SUMPRODUCT((AB$3>=Tableau3[Arrivée])*(AB$3<Tableau3[Départ])*(Tableau3[Chb]=$C48))","v":0},{"$f":"SUMPRODUCT((AC$3>=Tableau3[Arrivée])*(AC$3<Tableau3[Départ])*(Tableau3[Chb]=$C48))","v":0},{"$f":"SUMPRODUCT((AD$3>=Tableau3[Arrivée])*(AD$3<Tableau3[Départ])*(Tableau3[Chb]=$C48))","v":0},{"$f":"SUMPRODUCT((AE$3>=Tableau3[Arrivée])*(AE$3<Tableau3[Départ])*(Tableau3[Chb]=$C48))","v":0},{"$f":"SUMPRODUCT((AF$3>=Tableau3[Arrivée])*(AF$3<Tableau3[Départ])*(Tableau3[Chb]=$C48))","v":0},{"$f":"SUMPRODUCT((AG$3>=Tableau3[Arrivée])*(AG$3<Tableau3[Départ])*(Tableau3[Chb]=$C48))","v":0},{"$f":"SUMPRODUCT((AH$3>=Tableau3[Arrivée])*(AH$3<Tableau3[Départ])*(Tableau3[Chb]=$C48))","v":0},0]
[null,"Triple",407,{"$f":"SUMPRODUCT((D$3>=Tableau3[Arrivée])*(D$3<Tableau3[Départ])*(Tableau3[Chb]=$C49))","v":0},{"$f":"SUMPRODUCT((E$3>=Tableau3[Arrivée])*(E$3<Tableau3[Départ])*(Tableau3[Chb]=$C49))","v":0},{"$f":"SUMPRODUCT((F$3>=Tableau3[Arrivée])*(F$3<Tableau3[Départ])*(Tableau3[Chb]=$C49))","v":0},{"$f":"SUMPRODUCT((G$3>=Tableau3[Arrivée])*(G$3<Tableau3[Départ])*(Tableau3[Chb]=$C49))","v":0},{"$f":"SUMPRODUCT((H$3>=Tableau3[Arrivée])*(H$3<Tableau3[Départ])*(Tableau3[Chb]=$C49))","v":0},{"$f":"SUMPRODUCT((I$3>=Tableau3[Arrivée])*(I$3<Tableau3[Départ])*(Tableau3[Chb]=$C49))","v":0},{"$f":"SUMPRODUCT((J$3>=Tableau3[Arrivée])*(J$3<Tableau3[Départ])*(Tableau3[Chb]=$C49))","v":0},{"$f":"SUMPRODUCT((K$3>=Tableau3[Arrivée])*(K$3<Tableau3[Départ])*(Tableau3[Chb]=$C49))","v":0},{"$f":"SUMPRODUCT((L$3>=Tableau3[Arrivée])*(L$3<Tableau3[Départ])*(Tableau3[Chb]=$C49))","v":0},{"$f":"SUMPRODUCT((M$3>=Tableau3[Arrivée])*(M$3<Tableau3[Départ])*(Tableau3[Chb]=$C49))","v":0},{"$f":"SUMPRODUCT((N$3>=Tableau3[Arrivée])*(N$3<Tableau3[Départ])*(Tableau3[Chb]=$C49))","v":0},{"$f":"SUMPRODUCT((O$3>=Tableau3[Arrivée])*(O$3<Tableau3[Départ])*(Tableau3[Chb]=$C49))","v":0},{"$f":"SUMPRODUCT((P$3>=Tableau3[Arrivée])*(P$3<Tableau3[Départ])*(Tableau3[Chb]=$C49))","v":0},{"$f":"SUMPRODUCT((Q$3>=Tableau3[Arrivée])*(Q$3<Tableau3[Départ])*(Tableau3[Chb]=$C49))","v":0},{"$f":"SUMPRODUCT((R$3>=Tableau3[Arrivée])*(R$3<Tableau3[Départ])*(Tableau3[Chb]=$C49))","v":0},{"$f":"SUMPRODUCT((S$3>=Tableau3[Arrivée])*(S$3<Tableau3[Départ])*(Tableau3[Chb]=$C49))","v":0},{"$f":"SUMPRODUCT((T$3>=Tableau3[Arrivée])*(T$3<Tableau3[Départ])*(Tableau3[Chb]=$C49))","v":0},{"$f":"SUMPRODUCT((U$3>=Tableau3[Arrivée])*(U$3<Tableau3[Départ])*(Tableau3[Chb]=$C49))","v":0},{"$f":"SUMPRODUCT((V$3>=Tableau3[Arrivée])*(V$3<Tableau3[Départ])*(Tableau3[Chb]=$C49))","v":0},{"$f":"SUMPRODUCT((W$3>=Tableau3[Arrivée])*(W$3<Tableau3[Départ])*(Tableau3[Chb]=$C49))","v":0},{"$f":"SUMPRODUCT((X$3>=Tableau3[Arrivée])*(X$3<Tableau3[Départ])*(Tableau3[Chb]=$C49))","v":0},{"$f":"SUMPRODUCT((Y$3>=Tableau3[Arrivée])*(Y$3<Tableau3[Départ])*(Tableau3[Chb]=$C49))","v":0},{"$f":"SUMPRODUCT((Z$3>=Tableau3[Arrivée])*(Z$3<Tableau3[Départ])*(Tableau3[Chb]=$C49))","v":0},{"$f":"SUMPRODUCT((AA$3>=Tableau3[Arrivée])*(AA$3<Tableau3[Départ])*(Tableau3[Chb]=$C49))","v":0},{"$f":"SUMPRODUCT((AB$3>=Tableau3[Arrivée])*(AB$3<Tableau3[Départ])*(Tableau3[Chb]=$C49))","v":0},{"$f":"SUMPRODUCT((AC$3>=Tableau3[Arrivée])*(AC$3<Tableau3[Départ])*(Tableau3[Chb]=$C49))","v":0},{"$f":"SUMPRODUCT((AD$3>=Tableau3[Arrivée])*(AD$3<Tableau3[Départ])*(Tableau3[Chb]=$C49))","v":0},{"$f":"SUMPRODUCT((AE$3>=Tableau3[Arrivée])*(AE$3<Tableau3[Départ])*(Tableau3[Chb]=$C49))","v":0},{"$f":"SUMPRODUCT((AF$3>=Tableau3[Arrivée])*(AF$3<Tableau3[Départ])*(Tableau3[Chb]=$C49))","v":0},{"$f":"SUMPRODUCT((AG$3>=Tableau3[Arrivée])*(AG$3<Tableau3[Départ])*(Tableau3[Chb]=$C49))","v":0},{"$f":"SUMPRODUCT((AH$3>=Tableau3[Arrivée])*(AH$3<Tableau3[Départ])*(Tableau3[Chb]=$C49))","v":0},0]
[null,"Triple",408,{"$f":"SUMPRODUCT((D$3>=Tableau3[Arrivée])*(D$3<Tableau3[Départ])*(Tableau3[Chb]=$C50))","v":0},{"$f":"SUMPRODUCT((E$3>=Tableau3[Arrivée])*(E$3<Tableau3[Départ])*(Tableau3[Chb]=$C50))","v":0},{"$f":"SUMPRODUCT((F$3>=Tableau3[Arrivée])*(F$3<Tableau3[Départ])*(Tableau3[Chb]=$C50))","v":0},{"$f":"SUMPRODUCT((G$3>=Tableau3[Arrivée])*(G$3<Tableau3[Départ])*(Tableau3[Chb]=$C50))","v":0},{"$f":"SUMPRODUCT((H$3>=Tableau3[Arrivée])*(H$3<Tableau3[Départ])*(Tableau3[Chb]=$C50))","v":0},{"$f":"SUMPRODUCT((I$3>=Tableau3[Arrivée])*(I$3<Tableau3[Départ])*(Tableau3[Chb]=$C50))","v":0},{"$f":"SUMPRODUCT((J$3>=Tableau3[Arrivée])*(J$3<Tableau3[Départ])*(Tableau3[Chb]=$C50))","v":0},{"$f":"SUMPRODUCT((K$3>=Tableau3[Arrivée])*(K$3<Tableau3[Départ])*(Tableau3[Chb]=$C50))","v":0},{"$f":"SUMPRODUCT((L$3>=Tableau3[Arrivée])*(L$3<Tableau3[Départ])*(Tableau3[Chb]=$C50))","v":0},{"$f":"SUMPRODUCT((M$3>=Tableau3[Arrivée])*(M$3<Tableau3[Départ])*(Tableau3[Chb]=$C50))","v":0},{"$f":"SUMPRODUCT((N$3>=Tableau3[Arrivée])*(N$3<Tableau3[Départ])*(Tableau3[Chb]=$C50))","v":0},{"$f":"SUMPRODUCT((O$3>=Tableau3[Arrivée])*(O$3<Tableau3[Départ])*(Tableau3[Chb]=$C50))","v":0},{"$f":"SUMPRODUCT((P$3>=Tableau3[Arrivée])*(P$3<Tableau3[Départ])*(Tableau3[Chb]=$C50))","v":0},{"$f":"SUMPRODUCT((Q$3>=Tableau3[Arrivée])*(Q$3<Tableau3[Départ])*(Tableau3[Chb]=$C50))","v":0},{"$f":"SUMPRODUCT((R$3>=Tableau3[Arrivée])*(R$3<Tableau3[Départ])*(Tableau3[Chb]=$C50))","v":0},{"$f":"SUMPRODUCT((S$3>=Tableau3[Arrivée])*(S$3<Tableau3[Départ])*(Tableau3[Chb]=$C50))","v":0},{"$f":"SUMPRODUCT((T$3>=Tableau3[Arrivée])*(T$3<Tableau3[Départ])*(Tableau3[Chb]=$C50))","v":0},{"$f":"SUMPRODUCT((U$3>=Tableau3[Arrivée])*(U$3<Tableau3[Départ])*(Tableau3[Chb]=$C50))","v":0},{"$f":"SUMPRODUCT((V$3>=Tableau3[Arrivée])*(V$3<Tableau3[Départ])*(Tableau3[Chb]=$C50))","v":0},{"$f":"SUMPRODUCT((W$3>=Tableau3[Arrivée])*(W$3<Tableau3[Départ])*(Tableau3[Chb]=$C50))","v":0},{"$f":"SUMPRODUCT((X$3>=Tableau3[Arrivée])*(X$3<Tableau3[Départ])*(Tableau3[Chb]=$C50))","v":0},{"$f":"SUMPRODUCT((Y$3>=Tableau3[Arrivée])*(Y$3<Tableau3[Départ])*(Tableau3[Chb]=$C50))","v":0},{"$f":"SUMPRODUCT((Z$3>=Tableau3[Arrivée])*(Z$3<Tableau3[Départ])*(Tableau3[Chb]=$C50))","v":0},{"$f":"SUMPRODUCT((AA$3>=Tableau3[Arrivée])*(AA$3<Tableau3[Départ])*(Tableau3[Chb]=$C50))","v":0},{"$f":"SUMPRODUCT((AB$3>=Tableau3[Arrivée])*(AB$3<Tableau3[Départ])*(Tableau3[Chb]=$C50))","v":0},{"$f":"SUMPRODUCT((AC$3>=Tableau3[Arrivée])*(AC$3<Tableau3[Départ])*(Tableau3[Chb]=$C50))","v":0},{"$f":"SUMPRODUCT((AD$3>=Tableau3[Arrivée])*(AD$3<Tableau3[Départ])*(Tableau3[Chb]=$C50))","v":0},{"$f":"SUMPRODUCT((AE$3>=Tableau3[Arrivée])*(AE$3<Tableau3[Départ])*(Tableau3[Chb]=$C50))","v":0},{"$f":"SUMPRODUCT((AF$3>=Tableau3[Arrivée])*(AF$3<Tableau3[Départ])*(Tableau3[Chb]=$C50))","v":0},{"$f":"SUMPRODUCT((AG$3>=Tableau3[Arrivée])*(AG$3<Tableau3[Départ])*(Tableau3[Chb]=$C50))","v":0},{"$f":"SUMPRODUCT((AH$3>=Tableau3[Arrivée])*(AH$3<Tableau3[Départ])*(Tableau3[Chb]=$C50))","v":0},0]
[null,"Suite",409,{"$f":"SUMPRODUCT((D$3>=Tableau3[Arrivée])*(D$3<Tableau3[Départ])*(Tableau3[Chb]=$C51))","v":0},{"$f":"SUMPRODUCT((E$3>=Tableau3[Arrivée])*(E$3<Tableau3[Départ])*(Tableau3[Chb]=$C51))","v":0},{"$f":"SUMPRODUCT((F$3>=Tableau3[Arrivée])*(F$3<Tableau3[Départ])*(Tableau3[Chb]=$C51))","v":0},{"$f":"SUMPRODUCT((G$3>=Tableau3[Arrivée])*(G$3<Tableau3[Départ])*(Tableau3[Chb]=$C51))","v":0},{"$f":"SUMPRODUCT((H$3>=Tableau3[Arrivée])*(H$3<Tableau3[Départ])*(Tableau3[Chb]=$C51))","v":0},{"$f":"SUMPRODUCT((I$3>=Tableau3[Arrivée])*(I$3<Tableau3[Départ])*(Tableau3[Chb]=$C51))","v":0},{"$f":"SUMPRODUCT((J$3>=Tableau3[Arrivée])*(J$3<Tableau3[Départ])*(Tableau3[Chb]=$C51))","v":0},{"$f":"SUMPRODUCT((K$3>=Tableau3[Arrivée])*(K$3<Tableau3[Départ])*(Tableau3[Chb]=$C51))","v":0},{"$f":"SUMPRODUCT((L$3>=Tableau3[Arrivée])*(L$3<Tableau3[Départ])*(Tableau3[Chb]=$C51))","v":0},{"$f":"SUMPRODUCT((M$3>=Tableau3[Arrivée])*(M$3<Tableau3[Départ])*(Tableau3[Chb]=$C51))","v":0},{"$f":"SUMPRODUCT((N$3>=Tableau3[Arrivée])*(N$3<Tableau3[Départ])*(Tableau3[Chb]=$C51))","v":0},{"$f":"SUMPRODUCT((O$3>=Tableau3[Arrivée])*(O$3<Tableau3[Départ])*(Tableau3[Chb]=$C51))","v":0},{"$f":"SUMPRODUCT((P$3>=Tableau3[Arrivée])*(P$3<Tableau3[Départ])*(Tableau3[Chb]=$C51))","v":0},{"$f":"SUMPRODUCT((Q$3>=Tableau3[Arrivée])*(Q$3<Tableau3[Départ])*(Tableau3[Chb]=$C51))","v":0},{"$f":"SUMPRODUCT((R$3>=Tableau3[Arrivée])*(R$3<Tableau3[Départ])*(Tableau3[Chb]=$C51))","v":0},{"$f":"SUMPRODUCT((S$3>=Tableau3[Arrivée])*(S$3<Tableau3[Départ])*(Tableau3[Chb]=$C51))","v":0},{"$f":"SUMPRODUCT((T$3>=Tableau3[Arrivée])*(T$3<Tableau3[Départ])*(Tableau3[Chb]=$C51))","v":0},{"$f":"SUMPRODUCT((U$3>=Tableau3[Arrivée])*(U$3<Tableau3[Départ])*(Tableau3[Chb]=$C51))","v":0},{"$f":"SUMPRODUCT((V$3>=Tableau3[Arrivée])*(V$3<Tableau3[Départ])*(Tableau3[Chb]=$C51))","v":0},{"$f":"SUMPRODUCT((W$3>=Tableau3[Arrivée])*(W$3<Tableau3[Départ])*(Tableau3[Chb]=$C51))","v":0},{"$f":"SUMPRODUCT((X$3>=Tableau3[Arrivée])*(X$3<Tableau3[Départ])*(Tableau3[Chb]=$C51))","v":0},{"$f":"SUMPRODUCT((Y$3>=Tableau3[Arrivée])*(Y$3<Tableau3[Départ])*(Tableau3[Chb]=$C51))","v":0},{"$f":"SUMPRODUCT((Z$3>=Tableau3[Arrivée])*(Z$3<Tableau3[Départ])*(Tableau3[Chb]=$C51))","v":0},{"$f":"SUMPRODUCT((AA$3>=Tableau3[Arrivée])*(AA$3<Tableau3[Départ])*(Tableau3[Chb]=$C51))","v":0},{"$f":"SUMPRODUCT((AB$3>=Tableau3[Arrivée])*(AB$3<Tableau3[Départ])*(Tableau3[Chb]=$C51))","v":0},{"$f":"SUMPRODUCT((AC$3>=Tableau3[Arrivée])*(AC$3<Tableau3[Départ])*(Tableau3[Chb]=$C51))","v":0},{"$f":"SUMPRODUCT((AD$3>=Tableau3[Arrivée])*(AD$3<Tableau3[Départ])*(Tableau3[Chb]=$C51))","v":0},{"$f":"SUMPRODUCT((AE$3>=Tableau3[Arrivée])*(AE$3<Tableau3[Départ])*(Tableau3[Chb]=$C51))","v":0},{"$f":"SUMPRODUCT((AF$3>=Tableau3[Arrivée])*(AF$3<Tableau3[Départ])*(Tableau3[Chb]=$C51))","v":0},{"$f":"SUMPRODUCT((AG$3>=Tableau3[Arrivée])*(AG$3<Tableau3[Départ])*(Tableau3[Chb]=$C51))","v":0},{"$f":"SUMPRODUCT((AH$3>=Tableau3[Arrivée])*(AH$3<Tableau3[Départ])*(Tableau3[Chb]=$C51))","v":0},0]
[null,"Triple",410,{"$f":"SUMPRODUCT((D$3>=Tableau3[Arrivée])*(D$3<Tableau3[Départ])*(Tableau3[Chb]=$C52))","v":0},{"$f":"SUMPRODUCT((E$3>=Tableau3[Arrivée])*(E$3<Tableau3[Départ])*(Tableau3[Chb]=$C52))","v":0},{"$f":"SUMPRODUCT((F$3>=Tableau3[Arrivée])*(F$3<Tableau3[Départ])*(Tableau3[Chb]=$C52))","v":0},{"$f":"SUMPRODUCT((G$3>=Tableau3[Arrivée])*(G$3<Tableau3[Départ])*(Tableau3[Chb]=$C52))","v":0},{"$f":"SUMPRODUCT((H$3>=Tableau3[Arrivée])*(H$3<Tableau3[Départ])*(Tableau3[Chb]=$C52))","v":0},{"$f":"SUMPRODUCT((I$3>=Tableau3[Arrivée])*(I$3<Tableau3[Départ])*(Tableau3[Chb]=$C52))","v":0},{"$f":"SUMPRODUCT((J$3>=Tableau3[Arrivée])*(J$3<Tableau3[Départ])*(Tableau3[Chb]=$C52))","v":0},{"$f":"SUMPRODUCT((K$3>=Tableau3[Arrivée])*(K$3<Tableau3[Départ])*(Tableau3[Chb]=$C52))","v":0},{"$f":"SUMPRODUCT((L$3>=Tableau3[Arrivée])*(L$3<Tableau3[Départ])*(Tableau3[Chb]=$C52))","v":0},{"$f":"SUMPRODUCT((M$3>=Tableau3[Arrivée])*(M$3<Tableau3[Départ])*(Tableau3[Chb]=$C52))","v":0},{"$f":"SUMPRODUCT((N$3>=Tableau3[Arrivée])*(N$3<Tableau3[Départ])*(Tableau3[Chb]=$C52))","v":0},{"$f":"SUMPRODUCT((O$3>=Tableau3[Arrivée])*(O$3<Tableau3[Départ])*(Tableau3[Chb]=$C52))","v":0},{"$f":"SUMPRODUCT((P$3>=Tableau3[Arrivée])*(P$3<Tableau3[Départ])*(Tableau3[Chb]=$C52))","v":0},{"$f":"SUMPRODUCT((Q$3>=Tableau3[Arrivée])*(Q$3<Tableau3[Départ])*(Tableau3[Chb]=$C52))","v":0},{"$f":"SUMPRODUCT((R$3>=Tableau3[Arrivée])*(R$3<Tableau3[Départ])*(Tableau3[Chb]=$C52))","v":0},{"$f":"SUMPRODUCT((S$3>=Tableau3[Arrivée])*(S$3<Tableau3[Départ])*(Tableau3[Chb]=$C52))","v":0},{"$f":"SUMPRODUCT((T$3>=Tableau3[Arrivée])*(T$3<Tableau3[Départ])*(Tableau3[Chb]=$C52))","v":0},{"$f":"SUMPRODUCT((U$3>=Tableau3[Arrivée])*(U$3<Tableau3[Départ])*(Tableau3[Chb]=$C52))","v":0},{"$f":"SUMPRODUCT((V$3>=Tableau3[Arrivée])*(V$3<Tableau3[Départ])*(Tableau3[Chb]=$C52))","v":0},{"$f":"SUMPRODUCT((W$3>=Tableau3[Arrivée])*(W$3<Tableau3[Départ])*(Tableau3[Chb]=$C52))","v":0},{"$f":"SUMPRODUCT((X$3>=Tableau3[Arrivée])*(X$3<Tableau3[Départ])*(Tableau3[Chb]=$C52))","v":0},{"$f":"SUMPRODUCT((Y$3>=Tableau3[Arrivée])*(Y$3<Tableau3[Départ])*(Tableau3[Chb]=$C52))","v":0},{"$f":"SUMPRODUCT((Z$3>=Tableau3[Arrivée])*(Z$3<Tableau3[Départ])*(Tableau3[Chb]=$C52))","v":0},{"$f":"SUMPRODUCT((AA$3>=Tableau3[Arrivée])*(AA$3<Tableau3[Départ])*(Tableau3[Chb]=$C52))","v":0},{"$f":"SUMPRODUCT((AB$3>=Tableau3[Arrivée])*(AB$3<Tableau3[Départ])*(Tableau3[Chb]=$C52))","v":0},{"$f":"SUMPRODUCT((AC$3>=Tableau3[Arrivée])*(AC$3<Tableau3[Départ])*(Tableau3[Chb]=$C52))","v":0},{"$f":"SUMPRODUCT((AD$3>=Tableau3[Arrivée])*(AD$3<Tableau3[Départ])*(Tableau3[Chb]=$C52))","v":0},{"$f":"SUMPRODUCT((AE$3>=Tableau3[Arrivée])*(AE$3<Tableau3[Départ])*(Tableau3[Chb]=$C52))","v":0},{"$f":"SUMPRODUCT((AF$3>=Tableau3[Arrivée])*(AF$3<Tableau3[Départ])*(Tableau3[Chb]=$C52))","v":0},{"$f":"SUMPRODUCT((AG$3>=Tableau3[Arrivée])*(AG$3<Tableau3[Départ])*(Tableau3[Chb]=$C52))","v":0},{"$f":"SUMPRODUCT((AH$3>=Tableau3[Arrivée])*(AH$3<Tableau3[Départ])*(Tableau3[Chb]=$C52))","v":0},0]
[null,"Triple",411,{"$f":"SUMPRODUCT((D$3>=Tableau3[Arrivée])*(D$3<Tableau3[Départ])*(Tableau3[Chb]=$C53))","v":0},{"$f":"SUMPRODUCT((E$3>=Tableau3[Arrivée])*(E$3<Tableau3[Départ])*(Tableau3[Chb]=$C53))","v":0},{"$f":"SUMPRODUCT((F$3>=Tableau3[Arrivée])*(F$3<Tableau3[Départ])*(Tableau3[Chb]=$C53))","v":0},{"$f":"SUMPRODUCT((G$3>=Tableau3[Arrivée])*(G$3<Tableau3[Départ])*(Tableau3[Chb]=$C53))","v":0},{"$f":"SUMPRODUCT((H$3>=Tableau3[Arrivée])*(H$3<Tableau3[Départ])*(Tableau3[Chb]=$C53))","v":0},{"$f":"SUMPRODUCT((I$3>=Tableau3[Arrivée])*(I$3<Tableau3[Départ])*(Tableau3[Chb]=$C53))","v":0},{"$f":"SUMPRODUCT((J$3>=Tableau3[Arrivée])*(J$3<Tableau3[Départ])*(Tableau3[Chb]=$C53))","v":0},{"$f":"SUMPRODUCT((K$3>=Tableau3[Arrivée])*(K$3<Tableau3[Départ])*(Tableau3[Chb]=$C53))","v":0},{"$f":"SUMPRODUCT((L$3>=Tableau3[Arrivée])*(L$3<Tableau3[Départ])*(Tableau3[Chb]=$C53))","v":0},{"$f":"SUMPRODUCT((M$3>=Tableau3[Arrivée])*(M$3<Tableau3[Départ])*(Tableau3[Chb]=$C53))","v":0},{"$f":"SUMPRODUCT((N$3>=Tableau3[Arrivée])*(N$3<Tableau3[Départ])*(Tableau3[Chb]=$C53))","v":0},{"$f":"SUMPRODUCT((O$3>=Tableau3[Arrivée])*(O$3<Tableau3[Départ])*(Tableau3[Chb]=$C53))","v":0},{"$f":"SUMPRODUCT((P$3>=Tableau3[Arrivée])*(P$3<Tableau3[Départ])*(Tableau3[Chb]=$C53))","v":0},{"$f":"SUMPRODUCT((Q$3>=Tableau3[Arrivée])*(Q$3<Tableau3[Départ])*(Tableau3[Chb]=$C53))","v":0},{"$f":"SUMPRODUCT((R$3>=Tableau3[Arrivée])*(R$3<Tableau3[Départ])*(Tableau3[Chb]=$C53))","v":0},{"$f":"SUMPRODUCT((S$3>=Tableau3[Arrivée])*(S$3<Tableau3[Départ])*(Tableau3[Chb]=$C53))","v":0},{"$f":"SUMPRODUCT((T$3>=Tableau3[Arrivée])*(T$3<Tableau3[Départ])*(Tableau3[Chb]=$C53))","v":0},{"$f":"SUMPRODUCT((U$3>=Tableau3[Arrivée])*(U$3<Tableau3[Départ])*(Tableau3[Chb]=$C53))","v":0},{"$f":"SUMPRODUCT((V$3>=Tableau3[Arrivée])*(V$3<Tableau3[Départ])*(Tableau3[Chb]=$C53))","v":0},{"$f":"SUMPRODUCT((W$3>=Tableau3[Arrivée])*(W$3<Tableau3[Départ])*(Tableau3[Chb]=$C53))","v":0},{"$f":"SUMPRODUCT((X$3>=Tableau3[Arrivée])*(X$3<Tableau3[Départ])*(Tableau3[Chb]=$C53))","v":0},{"$f":"SUMPRODUCT((Y$3>=Tableau3[Arrivée])*(Y$3<Tableau3[Départ])*(Tableau3[Chb]=$C53))","v":0},{"$f":"SUMPRODUCT((Z$3>=Tableau3[Arrivée])*(Z$3<Tableau3[Départ])*(Tableau3[Chb]=$C53))","v":0},{"$f":"SUMPRODUCT((AA$3>=Tableau3[Arrivée])*(AA$3<Tableau3[Départ])*(Tableau3[Chb]=$C53))","v":0},{"$f":"SUMPRODUCT((AB$3>=Tableau3[Arrivée])*(AB$3<Tableau3[Départ])*(Tableau3[Chb]=$C53))","v":0},{"$f":"SUMPRODUCT((AC$3>=Tableau3[Arrivée])*(AC$3<Tableau3[Départ])*(Tableau3[Chb]=$C53))","v":0},{"$f":"SUMPRODUCT((AD$3>=Tableau3[Arrivée])*(AD$3<Tableau3[Départ])*(Tableau3[Chb]=$C53))","v":0},{"$f":"SUMPRODUCT((AE$3>=Tableau3[Arrivée])*(AE$3<Tableau3[Départ])*(Tableau3[Chb]=$C53))","v":0},{"$f":"SUMPRODUCT((AF$3>=Tableau3[Arrivée])*(AF$3<Tableau3[Départ])*(Tableau3[Chb]=$C53))","v":0},{"$f":"SUMPRODUCT((AG$3>=Tableau3[Arrivée])*(AG$3<Tableau3[Départ])*(Tableau3[Chb]=$C53))","v":0},{"$f":"SUMPRODUCT((AH$3>=Tableau3[Arrivée])*(AH$3<Tableau3[Départ])*(Tableau3[Chb]=$C53))","v":0},0]
[null,"Suite",412,{"$f":"SUMPRODUCT((D$3>=Tableau3[Arrivée])*(D$3<Tableau3[Départ])*(Tableau3[Chb]=$C54))","v":0},{"$f":"SUMPRODUCT((E$3>=Tableau3[Arrivée])*(E$3<Tableau3[Départ])*(Tableau3[Chb]=$C54))","v":0},{"$f":"SUMPRODUCT((F$3>=Tableau3[Arrivée])*(F$3<Tableau3[Départ])*(Tableau3[Chb]=$C54))","v":0},{"$f":"SUMPRODUCT((G$3>=Tableau3[Arrivée])*(G$3<Tableau3[Départ])*(Tableau3[Chb]=$C54))","v":0},{"$f":"SUMPRODUCT((H$3>=Tableau3[Arrivée])*(H$3<Tableau3[Départ])*(Tableau3[Chb]=$C54))","v":0},{"$f":"SUMPRODUCT((I$3>=Tableau3[Arrivée])*(I$3<Tableau3[Départ])*(Tableau3[Chb]=$C54))","v":0},{"$f":"SUMPRODUCT((J$3>=Tableau3[Arrivée])*(J$3<Tableau3[Départ])*(Tableau3[Chb]=$C54))","v":0},{"$f":"SUMPRODUCT((K$3>=Tableau3[Arrivée])*(K$3<Tableau3[Départ])*(Tableau3[Chb]=$C54))","v":0},{"$f":"SUMPRODUCT((L$3>=Tableau3[Arrivée])*(L$3<Tableau3[Départ])*(Tableau3[Chb]=$C54))","v":0},{"$f":"SUMPRODUCT((M$3>=Tableau3[Arrivée])*(M$3<Tableau3[Départ])*(Tableau3[Chb]=$C54))","v":0},{"$f":"SUMPRODUCT((N$3>=Tableau3[Arrivée])*(N$3<Tableau3[Départ])*(Tableau3[Chb]=$C54))","v":0},{"$f":"SUMPRODUCT((O$3>=Tableau3[Arrivée])*(O$3<Tableau3[Départ])*(Tableau3[Chb]=$C54))","v":0},{"$f":"SUMPRODUCT((P$3>=Tableau3[Arrivée])*(P$3<Tableau3[Départ])*(Tableau3[Chb]=$C54))","v":0},{"$f":"SUMPRODUCT((Q$3>=Tableau3[Arrivée])*(Q$3<Tableau3[Départ])*(Tableau3[Chb]=$C54))","v":0},{"$f":"SUMPRODUCT((R$3>=Tableau3[Arrivée])*(R$3<Tableau3[Départ])*(Tableau3[Chb]=$C54))","v":0},{"$f":"SUMPRODUCT((S$3>=Tableau3[Arrivée])*(S$3<Tableau3[Départ])*(Tableau3[Chb]=$C54))","v":0},{"$f":"SUMPRODUCT((T$3>=Tableau3[Arrivée])*(T$3<Tableau3[Départ])*(Tableau3[Chb]=$C54))","v":0},{"$f":"SUMPRODUCT((U$3>=Tableau3[Arrivée])*(U$3<Tableau3[Départ])*(Tableau3[Chb]=$C54))","v":0},{"$f":"SUMPRODUCT((V$3>=Tableau3[Arrivée])*(V$3<Tableau3[Départ])*(Tableau3[Chb]=$C54))","v":0},{"$f":"SUMPRODUCT((W$3>=Tableau3[Arrivée])*(W$3<Tableau3[Départ])*(Tableau3[Chb]=$C54))","v":0},{"$f":"SUMPRODUCT((X$3>=Tableau3[Arrivée])*(X$3<Tableau3[Départ])*(Tableau3[Chb]=$C54))","v":0},{"$f":"SUMPRODUCT((Y$3>=Tableau3[Arrivée])*(Y$3<Tableau3[Départ])*(Tableau3[Chb]=$C54))","v":0},{"$f":"SUMPRODUCT((Z$3>=Tableau3[Arrivée])*(Z$3<Tableau3[Départ])*(Tableau3[Chb]=$C54))","v":0},{"$f":"SUMPRODUCT((AA$3>=Tableau3[Arrivée])*(AA$3<Tableau3[Départ])*(Tableau3[Chb]=$C54))","v":0},{"$f":"SUMPRODUCT((AB$3>=Tableau3[Arrivée])*(AB$3<Tableau3[Départ])*(Tableau3[Chb]=$C54))","v":0},{"$f":"SUMPRODUCT((AC$3>=Tableau3[Arrivée])*(AC$3<Tableau3[Départ])*(Tableau3[Chb]=$C54))","v":0},{"$f":"SUMPRODUCT((AD$3>=Tableau3[Arrivée])*(AD$3<Tableau3[Départ])*(Tableau3[Chb]=$C54))","v":0},{"$f":"SUMPRODUCT((AE$3>=Tableau3[Arrivée])*(AE$3<Tableau3[Départ])*(Tableau3[Chb]=$C54))","v":0},{"$f":"SUMPRODUCT((AF$3>=Tableau3[Arrivée])*(AF$3<Tableau3[Départ])*(Tableau3[Chb]=$C54))","v":0},{"$f":"SUMPRODUCT((AG$3>=Tableau3[Arrivée])*(AG$3<Tableau3[Départ])*(Tableau3[Chb]=$C54))","v":0},{"$f":"SUMPRODUCT((AH$3>=Tableau3[Arrivée])*(AH$3<Tableau3[Départ])*(Tableau3[Chb]=$C54))","v":0},0]
[null,"Twin",413,{"$f":"SUMPRODUCT((D$3>=Tableau3[Arrivée])*(D$3<Tableau3[Départ])*(Tableau3[Chb]=$C55))","v":0},{"$f":"SUMPRODUCT((E$3>=Tableau3[Arrivée])*(E$3<Tableau3[Départ])*(Tableau3[Chb]=$C55))","v":0},{"$f":"SUMPRODUCT((F$3>=Tableau3[Arrivée])*(F$3<Tableau3[Départ])*(Tableau3[Chb]=$C55))","v":0},{"$f":"SUMPRODUCT((G$3>=Tableau3[Arrivée])*(G$3<Tableau3[Départ])*(Tableau3[Chb]=$C55))","v":0},{"$f":"SUMPRODUCT((H$3>=Tableau3[Arrivée])*(H$3<Tableau3[Départ])*(Tableau3[Chb]=$C55))","v":0},{"$f":"SUMPRODUCT((I$3>=Tableau3[Arrivée])*(I$3<Tableau3[Départ])*(Tableau3[Chb]=$C55))","v":0},{"$f":"SUMPRODUCT((J$3>=Tableau3[Arrivée])*(J$3<Tableau3[Départ])*(Tableau3[Chb]=$C55))","v":0},{"$f":"SUMPRODUCT((K$3>=Tableau3[Arrivée])*(K$3<Tableau3[Départ])*(Tableau3[Chb]=$C55))","v":0},{"$f":"SUMPRODUCT((L$3>=Tableau3[Arrivée])*(L$3<Tableau3[Départ])*(Tableau3[Chb]=$C55))","v":0},{"$f":"SUMPRODUCT((M$3>=Tableau3[Arrivée])*(M$3<Tableau3[Départ])*(Tableau3[Chb]=$C55))","v":0},{"$f":"SUMPRODUCT((N$3>=Tableau3[Arrivée])*(N$3<Tableau3[Départ])*(Tableau3[Chb]=$C55))","v":0},{"$f":"SUMPRODUCT((O$3>=Tableau3[Arrivée])*(O$3<Tableau3[Départ])*(Tableau3[Chb]=$C55))","v":0},{"$f":"SUMPRODUCT((P$3>=Tableau3[Arrivée])*(P$3<Tableau3[Départ])*(Tableau3[Chb]=$C55))","v":0},{"$f":"SUMPRODUCT((Q$3>=Tableau3[Arrivée])*(Q$3<Tableau3[Départ])*(Tableau3[Chb]=$C55))","v":0},{"$f":"SUMPRODUCT((R$3>=Tableau3[Arrivée])*(R$3<Tableau3[Départ])*(Tableau3[Chb]=$C55))","v":0},{"$f":"SUMPRODUCT((S$3>=Tableau3[Arrivée])*(S$3<Tableau3[Départ])*(Tableau3[Chb]=$C55))","v":0},{"$f":"SUMPRODUCT((T$3>=Tableau3[Arrivée])*(T$3<Tableau3[Départ])*(Tableau3[Chb]=$C55))","v":0},{"$f":"SUMPRODUCT((U$3>=Tableau3[Arrivée])*(U$3<Tableau3[Départ])*(Tableau3[Chb]=$C55))","v":0},{"$f":"SUMPRODUCT((V$3>=Tableau3[Arrivée])*(V$3<Tableau3[Départ])*(Tableau3[Chb]=$C55))","v":0},{"$f":"SUMPRODUCT((W$3>=Tableau3[Arrivée])*(W$3<Tableau3[Départ])*(Tableau3[Chb]=$C55))","v":0},{"$f":"SUMPRODUCT((X$3>=Tableau3[Arrivée])*(X$3<Tableau3[Départ])*(Tableau3[Chb]=$C55))","v":0},{"$f":"SUMPRODUCT((Y$3>=Tableau3[Arrivée])*(Y$3<Tableau3[Départ])*(Tableau3[Chb]=$C55))","v":0},{"$f":"SUMPRODUCT((Z$3>=Tableau3[Arrivée])*(Z$3<Tableau3[Départ])*(Tableau3[Chb]=$C55))","v":0},{"$f":"SUMPRODUCT((AA$3>=Tableau3[Arrivée])*(AA$3<Tableau3[Départ])*(Tableau3[Chb]=$C55))","v":0},{"$f":"SUMPRODUCT((AB$3>=Tableau3[Arrivée])*(AB$3<Tableau3[Départ])*(Tableau3[Chb]=$C55))","v":0},{"$f":"SUMPRODUCT((AC$3>=Tableau3[Arrivée])*(AC$3<Tableau3[Départ])*(Tableau3[Chb]=$C55))","v":0},{"$f":"SUMPRODUCT((AD$3>=Tableau3[Arrivée])*(AD$3<Tableau3[Départ])*(Tableau3[Chb]=$C55))","v":0},{"$f":"SUMPRODUCT((AE$3>=Tableau3[Arrivée])*(AE$3<Tableau3[Départ])*(Tableau3[Chb]=$C55))","v":0},{"$f":"SUMPRODUCT((AF$3>=Tableau3[Arrivée])*(AF$3<Tableau3[Départ])*(Tableau3[Chb]=$C55))","v":0},{"$f":"SUMPRODUCT((AG$3>=Tableau3[Arrivée])*(AG$3<Tableau3[Départ])*(Tableau3[Chb]=$C55))","v":0},{"$f":"SUMPRODUCT((AH$3>=Tableau3[Arrivée])*(AH$3<Tableau3[Départ])*(Tableau3[Chb]=$C55))","v":0},0]
[null,"Twin",501,{"$f":"SUMPRODUCT((D$3>=Tableau3[Arrivée])*(D$3<Tableau3[Départ])*(Tableau3[Chb]=$C56))","v":0},{"$f":"SUMPRODUCT((E$3>=Tableau3[Arrivée])*(E$3<Tableau3[Départ])*(Tableau3[Chb]=$C56))","v":0},{"$f":"SUMPRODUCT((F$3>=Tableau3[Arrivée])*(F$3<Tableau3[Départ])*(Tableau3[Chb]=$C56))","v":0},{"$f":"SUMPRODUCT((G$3>=Tableau3[Arrivée])*(G$3<Tableau3[Départ])*(Tableau3[Chb]=$C56))","v":0},{"$f":"SUMPRODUCT((H$3>=Tableau3[Arrivée])*(H$3<Tableau3[Départ])*(Tableau3[Chb]=$C56))","v":0},{"$f":"SUMPRODUCT((I$3>=Tableau3[Arrivée])*(I$3<Tableau3[Départ])*(Tableau3[Chb]=$C56))","v":0},{"$f":"SUMPRODUCT((J$3>=Tableau3[Arrivée])*(J$3<Tableau3[Départ])*(Tableau3[Chb]=$C56))","v":0},{"$f":"SUMPRODUCT((K$3>=Tableau3[Arrivée])*(K$3<Tableau3[Départ])*(Tableau3[Chb]=$C56))","v":0},{"$f":"SUMPRODUCT((L$3>=Tableau3[Arrivée])*(L$3<Tableau3[Départ])*(Tableau3[Chb]=$C56))","v":0},{"$f":"SUMPRODUCT((M$3>=Tableau3[Arrivée])*(M$3<Tableau3[Départ])*(Tableau3[Chb]=$C56))","v":0},{"$f":"SUMPRODUCT((N$3>=Tableau3[Arrivée])*(N$3<Tableau3[Départ])*(Tableau3[Chb]=$C56))","v":0},{"$f":"SUMPRODUCT((O$3>=Tableau3[Arrivée])*(O$3<Tableau3[Départ])*(Tableau3[Chb]=$C56))","v":0},{"$f":"SUMPRODUCT((P$3>=Tableau3[Arrivée])*(P$3<Tableau3[Départ])*(Tableau3[Chb]=$C56))","v":0},{"$f":"SUMPRODUCT((Q$3>=Tableau3[Arrivée])*(Q$3<Tableau3[Départ])*(Tableau3[Chb]=$C56))","v":0},{"$f":"SUMPRODUCT((R$3>=Tableau3[Arrivée])*(R$3<Tableau3[Départ])*(Tableau3[Chb]=$C56))","v":0},{"$f":"SUMPRODUCT((S$3>=Tableau3[Arrivée])*(S$3<Tableau3[Départ])*(Tableau3[Chb]=$C56))","v":0},{"$f":"SUMPRODUCT((T$3>=Tableau3[Arrivée])*(T$3<Tableau3[Départ])*(Tableau3[Chb]=$C56))","v":0},{"$f":"SUMPRODUCT((U$3>=Tableau3[Arrivée])*(U$3<Tableau3[Départ])*(Tableau3[Chb]=$C56))","v":0},{"$f":"SUMPRODUCT((V$3>=Tableau3[Arrivée])*(V$3<Tableau3[Départ])*(Tableau3[Chb]=$C56))","v":0},{"$f":"SUMPRODUCT((W$3>=Tableau3[Arrivée])*(W$3<Tableau3[Départ])*(Tableau3[Chb]=$C56))","v":0},{"$f":"SUMPRODUCT((X$3>=Tableau3[Arrivée])*(X$3<Tableau3[Départ])*(Tableau3[Chb]=$C56))","v":0},{"$f":"SUMPRODUCT((Y$3>=Tableau3[Arrivée])*(Y$3<Tableau3[Départ])*(Tableau3[Chb]=$C56))","v":0},{"$f":"SUMPRODUCT((Z$3>=Tableau3[Arrivée])*(Z$3<Tableau3[Départ])*(Tableau3[Chb]=$C56))","v":0},{"$f":"SUMPRODUCT((AA$3>=Tableau3[Arrivée])*(AA$3<Tableau3[Départ])*(Tableau3[Chb]=$C56))","v":0},{"$f":"SUMPRODUCT((AB$3>=Tableau3[Arrivée])*(AB$3<Tableau3[Départ])*(Tableau3[Chb]=$C56))","v":0},{"$f":"SUMPRODUCT((AC$3>=Tableau3[Arrivée])*(AC$3<Tableau3[Départ])*(Tableau3[Chb]=$C56))","v":0},{"$f":"SUMPRODUCT((AD$3>=Tableau3[Arrivée])*(AD$3<Tableau3[Départ])*(Tableau3[Chb]=$C56))","v":0},{"$f":"SUMPRODUCT((AE$3>=Tableau3[Arrivée])*(AE$3<Tableau3[Départ])*(Tableau3[Chb]=$C56))","v":0},{"$f":"SUMPRODUCT((AF$3>=Tableau3[Arrivée])*(AF$3<Tableau3[Départ])*(Tableau3[Chb]=$C56))","v":0},{"$f":"SUMPRODUCT((AG$3>=Tableau3[Arrivée])*(AG$3<Tableau3[Départ])*(Tableau3[Chb]=$C56))","v":0},{"$f":"SUMPRODUCT((AH$3>=Tableau3[Arrivée])*(AH$3<Tableau3[Départ])*(Tableau3[Chb]=$C56))","v":0},0]
[null,"Double",502,{"$f":"SUMPRODUCT((D$3>=Tableau3[Arrivée])*(D$3<Tableau3[Départ])*(Tableau3[Chb]=$C57))","v":0},{"$f":"SUMPRODUCT((E$3>=Tableau3[Arrivée])*(E$3<Tableau3[Départ])*(Tableau3[Chb]=$C57))","v":0},{"$f":"SUMPRODUCT((F$3>=Tableau3[Arrivée])*(F$3<Tableau3[Départ])*(Tableau3[Chb]=$C57))","v":0},{"$f":"SUMPRODUCT((G$3>=Tableau3[Arrivée])*(G$3<Tableau3[Départ])*(Tableau3[Chb]=$C57))","v":0},{"$f":"SUMPRODUCT((H$3>=Tableau3[Arrivée])*(H$3<Tableau3[Départ])*(Tableau3[Chb]=$C57))","v":0},{"$f":"SUMPRODUCT((I$3>=Tableau3[Arrivée])*(I$3<Tableau3[Départ])*(Tableau3[Chb]=$C57))","v":0},{"$f":"SUMPRODUCT((J$3>=Tableau3[Arrivée])*(J$3<Tableau3[Départ])*(Tableau3[Chb]=$C57))","v":0},{"$f":"SUMPRODUCT((K$3>=Tableau3[Arrivée])*(K$3<Tableau3[Départ])*(Tableau3[Chb]=$C57))","v":0},{"$f":"SUMPRODUCT((L$3>=Tableau3[Arrivée])*(L$3<Tableau3[Départ])*(Tableau3[Chb]=$C57))","v":0},{"$f":"SUMPRODUCT((M$3>=Tableau3[Arrivée])*(M$3<Tableau3[Départ])*(Tableau3[Chb]=$C57))","v":0},{"$f":"SUMPRODUCT((N$3>=Tableau3[Arrivée])*(N$3<Tableau3[Départ])*(Tableau3[Chb]=$C57))","v":0},{"$f":"SUMPRODUCT((O$3>=Tableau3[Arrivée])*(O$3<Tableau3[Départ])*(Tableau3[Chb]=$C57))","v":0},{"$f":"SUMPRODUCT((P$3>=Tableau3[Arrivée])*(P$3<Tableau3[Départ])*(Tableau3[Chb]=$C57))","v":0},{"$f":"SUMPRODUCT((Q$3>=Tableau3[Arrivée])*(Q$3<Tableau3[Départ])*(Tableau3[Chb]=$C57))","v":0},{"$f":"SUMPRODUCT((R$3>=Tableau3[Arrivée])*(R$3<Tableau3[Départ])*(Tableau3[Chb]=$C57))","v":0},{"$f":"SUMPRODUCT((S$3>=Tableau3[Arrivée])*(S$3<Tableau3[Départ])*(Tableau3[Chb]=$C57))","v":0},{"$f":"SUMPRODUCT((T$3>=Tableau3[Arrivée])*(T$3<Tableau3[Départ])*(Tableau3[Chb]=$C57))","v":0},{"$f":"SUMPRODUCT((U$3>=Tableau3[Arrivée])*(U$3<Tableau3[Départ])*(Tableau3[Chb]=$C57))","v":0},{"$f":"SUMPRODUCT((V$3>=Tableau3[Arrivée])*(V$3<Tableau3[Départ])*(Tableau3[Chb]=$C57))","v":0},{"$f":"SUMPRODUCT((W$3>=Tableau3[Arrivée])*(W$3<Tableau3[Départ])*(Tableau3[Chb]=$C57))","v":0},{"$f":"SUMPRODUCT((X$3>=Tableau3[Arrivée])*(X$3<Tableau3[Départ])*(Tableau3[Chb]=$C57))","v":0},{"$f":"SUMPRODUCT((Y$3>=Tableau3[Arrivée])*(Y$3<Tableau3[Départ])*(Tableau3[Chb]=$C57))","v":0},{"$f":"SUMPRODUCT((Z$3>=Tableau3[Arrivée])*(Z$3<Tableau3[Départ])*(Tableau3[Chb]=$C57))","v":0},{"$f":"SUMPRODUCT((AA$3>=Tableau3[Arrivée])*(AA$3<Tableau3[Départ])*(Tableau3[Chb]=$C57))","v":0},{"$f":"SUMPRODUCT((AB$3>=Tableau3[Arrivée])*(AB$3<Tableau3[Départ])*(Tableau3[Chb]=$C57))","v":0},{"$f":"SUMPRODUCT((AC$3>=Tableau3[Arrivée])*(AC$3<Tableau3[Départ])*(Tableau3[Chb]=$C57))","v":0},{"$f":"SUMPRODUCT((AD$3>=Tableau3[Arrivée])*(AD$3<Tableau3[Départ])*(Tableau3[Chb]=$C57))","v":0},{"$f":"SUMPRODUCT((AE$3>=Tableau3[Arrivée])*(AE$3<Tableau3[Départ])*(Tableau3[Chb]=$C57))","v":0},{"$f":"SUMPRODUCT((AF$3>=Tableau3[Arrivée])*(AF$3<Tableau3[Départ])*(Tableau3[Chb]=$C57))","v":0},{"$f":"SUMPRODUCT((AG$3>=Tableau3[Arrivée])*(AG$3<Tableau3[Départ])*(Tableau3[Chb]=$C57))","v":0},{"$f":"SUMPRODUCT((AH$3>=Tableau3[Arrivée])*(AH$3<Tableau3[Départ])*(Tableau3[Chb]=$C57))","v":0},0]
[null,"Twin",503,{"$f":"SUMPRODUCT((D$3>=Tableau3[Arrivée])*(D$3<Tableau3[Départ])*(Tableau3[Chb]=$C58))","v":0},{"$f":"SUMPRODUCT((E$3>=Tableau3[Arrivée])*(E$3<Tableau3[Départ])*(Tableau3[Chb]=$C58))","v":0},{"$f":"SUMPRODUCT((F$3>=Tableau3[Arrivée])*(F$3<Tableau3[Départ])*(Tableau3[Chb]=$C58))","v":0},{"$f":"SUMPRODUCT((G$3>=Tableau3[Arrivée])*(G$3<Tableau3[Départ])*(Tableau3[Chb]=$C58))","v":0},{"$f":"SUMPRODUCT((H$3>=Tableau3[Arrivée])*(H$3<Tableau3[Départ])*(Tableau3[Chb]=$C58))","v":0},{"$f":"SUMPRODUCT((I$3>=Tableau3[Arrivée])*(I$3<Tableau3[Départ])*(Tableau3[Chb]=$C58))","v":0},{"$f":"SUMPRODUCT((J$3>=Tableau3[Arrivée])*(J$3<Tableau3[Départ])*(Tableau3[Chb]=$C58))","v":0},{"$f":"SUMPRODUCT((K$3>=Tableau3[Arrivée])*(K$3<Tableau3[Départ])*(Tableau3[Chb]=$C58))","v":0},{"$f":"SUMPRODUCT((L$3>=Tableau3[Arrivée])*(L$3<Tableau3[Départ])*(Tableau3[Chb]=$C58))","v":0},{"$f":"SUMPRODUCT((M$3>=Tableau3[Arrivée])*(M$3<Tableau3[Départ])*(Tableau3[Chb]=$C58))","v":0},{"$f":"SUMPRODUCT((N$3>=Tableau3[Arrivée])*(N$3<Tableau3[Départ])*(Tableau3[Chb]=$C58))","v":0},{"$f":"SUMPRODUCT((O$3>=Tableau3[Arrivée])*(O$3<Tableau3[Départ])*(Tableau3[Chb]=$C58))","v":0},{"$f":"SUMPRODUCT((P$3>=Tableau3[Arrivée])*(P$3<Tableau3[Départ])*(Tableau3[Chb]=$C58))","v":0},{"$f":"SUMPRODUCT((Q$3>=Tableau3[Arrivée])*(Q$3<Tableau3[Départ])*(Tableau3[Chb]=$C58))","v":0},{"$f":"SUMPRODUCT((R$3>=Tableau3[Arrivée])*(R$3<Tableau3[Départ])*(Tableau3[Chb]=$C58))","v":0},{"$f":"SUMPRODUCT((S$3>=Tableau3[Arrivée])*(S$3<Tableau3[Départ])*(Tableau3[Chb]=$C58))","v":0},{"$f":"SUMPRODUCT((T$3>=Tableau3[Arrivée])*(T$3<Tableau3[Départ])*(Tableau3[Chb]=$C58))","v":0},{"$f":"SUMPRODUCT((U$3>=Tableau3[Arrivée])*(U$3<Tableau3[Départ])*(Tableau3[Chb]=$C58))","v":0},{"$f":"SUMPRODUCT((V$3>=Tableau3[Arrivée])*(V$3<Tableau3[Départ])*(Tableau3[Chb]=$C58))","v":0},{"$f":"SUMPRODUCT((W$3>=Tableau3[Arrivée])*(W$3<Tableau3[Départ])*(Tableau3[Chb]=$C58))","v":0},{"$f":"SUMPRODUCT((X$3>=Tableau3[Arrivée])*(X$3<Tableau3[Départ])*(Tableau3[Chb]=$C58))","v":0},{"$f":"SUMPRODUCT((Y$3>=Tableau3[Arrivée])*(Y$3<Tableau3[Départ])*(Tableau3[Chb]=$C58))","v":0},{"$f":"SUMPRODUCT((Z$3>=Tableau3[Arrivée])*(Z$3<Tableau3[Départ])*(Tableau3[Chb]=$C58))","v":0},{"$f":"SUMPRODUCT((AA$3>=Tableau3[Arrivée])*(AA$3<Tableau3[Départ])*(Tableau3[Chb]=$C58))","v":0},{"$f":"SUMPRODUCT((AB$3>=Tableau3[Arrivée])*(AB$3<Tableau3[Départ])*(Tableau3[Chb]=$C58))","v":0},{"$f":"SUMPRODUCT((AC$3>=Tableau3[Arrivée])*(AC$3<Tableau3[Départ])*(Tableau3[Chb]=$C58))","v":0},{"$f":"SUMPRODUCT((AD$3>=Tableau3[Arrivée])*(AD$3<Tableau3[Départ])*(Tableau3[Chb]=$C58))","v":0},{"$f":"SUMPRODUCT((AE$3>=Tableau3[Arrivée])*(AE$3<Tableau3[Départ])*(Tableau3[Chb]=$C58))","v":0},{"$f":"SUMPRODUCT((AF$3>=Tableau3[Arrivée])*(AF$3<Tableau3[Départ])*(Tableau3[Chb]=$C58))","v":0},{"$f":"SUMPRODUCT((AG$3>=Tableau3[Arrivée])*(AG$3<Tableau3[Départ])*(Tableau3[Chb]=$C58))","v":0},{"$f":"SUMPRODUCT((AH$3>=Tableau3[Arrivée])*(AH$3<Tableau3[Départ])*(Tableau3[Chb]=$C58))","v":0},0]
[null,"Twin",504,{"$f":"SUMPRODUCT((D$3>=Tableau3[Arrivée])*(D$3<Tableau3[Départ])*(Tableau3[Chb]=$C59))","v":0},{"$f":"SUMPRODUCT((E$3>=Tableau3[Arrivée])*(E$3<Tableau3[Départ])*(Tableau3[Chb]=$C59))","v":0},{"$f":"SUMPRODUCT((F$3>=Tableau3[Arrivée])*(F$3<Tableau3[Départ])*(Tableau3[Chb]=$C59))","v":0},{"$f":"SUMPRODUCT((G$3>=Tableau3[Arrivée])*(G$3<Tableau3[Départ])*(Tableau3[Chb]=$C59))","v":0},{"$f":"SUMPRODUCT((H$3>=Tableau3[Arrivée])*(H$3<Tableau3[Départ])*(Tableau3[Chb]=$C59))","v":0},{"$f":"SUMPRODUCT((I$3>=Tableau3[Arrivée])*(I$3<Tableau3[Départ])*(Tableau3[Chb]=$C59))","v":0},{"$f":"SUMPRODUCT((J$3>=Tableau3[Arrivée])*(J$3<Tableau3[Départ])*(Tableau3[Chb]=$C59))","v":0},{"$f":"SUMPRODUCT((K$3>=Tableau3[Arrivée])*(K$3<Tableau3[Départ])*(Tableau3[Chb]=$C59))","v":0},{"$f":"SUMPRODUCT((L$3>=Tableau3[Arrivée])*(L$3<Tableau3[Départ])*(Tableau3[Chb]=$C59))","v":0},{"$f":"SUMPRODUCT((M$3>=Tableau3[Arrivée])*(M$3<Tableau3[Départ])*(Tableau3[Chb]=$C59))","v":0},{"$f":"SUMPRODUCT((N$3>=Tableau3[Arrivée])*(N$3<Tableau3[Départ])*(Tableau3[Chb]=$C59))","v":0},{"$f":"SUMPRODUCT((O$3>=Tableau3[Arrivée])*(O$3<Tableau3[Départ])*(Tableau3[Chb]=$C59))","v":0},{"$f":"SUMPRODUCT((P$3>=Tableau3[Arrivée])*(P$3<Tableau3[Départ])*(Tableau3[Chb]=$C59))","v":0},{"$f":"SUMPRODUCT((Q$3>=Tableau3[Arrivée])*(Q$3<Tableau3[Départ])*(Tableau3[Chb]=$C59))","v":0},{"$f":"SUMPRODUCT((R$3>=Tableau3[Arrivée])*(R$3<Tableau3[Départ])*(Tableau3[Chb]=$C59))","v":0},{"$f":"SUMPRODUCT((S$3>=Tableau3[Arrivée])*(S$3<Tableau3[Départ])*(Tableau3[Chb]=$C59))","v":0},{"$f":"SUMPRODUCT((T$3>=Tableau3[Arrivée])*(T$3<Tableau3[Départ])*(Tableau3[Chb]=$C59))","v":0},{"$f":"SUMPRODUCT((U$3>=Tableau3[Arrivée])*(U$3<Tableau3[Départ])*(Tableau3[Chb]=$C59))","v":0},{"$f":"SUMPRODUCT((V$3>=Tableau3[Arrivée])*(V$3<Tableau3[Départ])*(Tableau3[Chb]=$C59))","v":0},{"$f":"SUMPRODUCT((W$3>=Tableau3[Arrivée])*(W$3<Tableau3[Départ])*(Tableau3[Chb]=$C59))","v":0},{"$f":"SUMPRODUCT((X$3>=Tableau3[Arrivée])*(X$3<Tableau3[Départ])*(Tableau3[Chb]=$C59))","v":0},{"$f":"SUMPRODUCT((Y$3>=Tableau3[Arrivée])*(Y$3<Tableau3[Départ])*(Tableau3[Chb]=$C59))","v":0},{"$f":"SUMPRODUCT((Z$3>=Tableau3[Arrivée])*(Z$3<Tableau3[Départ])*(Tableau3[Chb]=$C59))","v":0},{"$f":"SUMPRODUCT((AA$3>=Tableau3[Arrivée])*(AA$3<Tableau3[Départ])*(Tableau3[Chb]=$C59))","v":0},{"$f":"SUMPRODUCT((AB$3>=Tableau3[Arrivée])*(AB$3<Tableau3[Départ])*(Tableau3[Chb]=$C59))","v":0},{"$f":"SUMPRODUCT((AC$3>=Tableau3[Arrivée])*(AC$3<Tableau3[Départ])*(Tableau3[Chb]=$C59))","v":0},{"$f":"SUMPRODUCT((AD$3>=Tableau3[Arrivée])*(AD$3<Tableau3[Départ])*(Tableau3[Chb]=$C59))","v":0},{"$f":"SUMPRODUCT((AE$3>=Tableau3[Arrivée])*(AE$3<Tableau3[Départ])*(Tableau3[Chb]=$C59))","v":0},{"$f":"SUMPRODUCT((AF$3>=Tableau3[Arrivée])*(AF$3<Tableau3[Départ])*(Tableau3[Chb]=$C59))","v":0},{"$f":"SUMPRODUCT((AG$3>=Tableau3[Arrivée])*(AG$3<Tableau3[Départ])*(Tableau3[Chb]=$C59))","v":0},{"$f":"SUMPRODUCT((AH$3>=Tableau3[Arrivée])*(AH$3<Tableau3[Départ])*(Tableau3[Chb]=$C59))","v":0},0]
[null,"Twin",505,{"$f":"SUMPRODUCT((D$3>=Tableau3[Arrivée])*(D$3<Tableau3[Départ])*(Tableau3[Chb]=$C60))","v":0},{"$f":"SUMPRODUCT((E$3>=Tableau3[Arrivée])*(E$3<Tableau3[Départ])*(Tableau3[Chb]=$C60))","v":0},{"$f":"SUMPRODUCT((F$3>=Tableau3[Arrivée])*(F$3<Tableau3[Départ])*(Tableau3[Chb]=$C60))","v":0},{"$f":"SUMPRODUCT((G$3>=Tableau3[Arrivée])*(G$3<Tableau3[Départ])*(Tableau3[Chb]=$C60))","v":0},{"$f":"SUMPRODUCT((H$3>=Tableau3[Arrivée])*(H$3<Tableau3[Départ])*(Tableau3[Chb]=$C60))","v":0},{"$f":"SUMPRODUCT((I$3>=Tableau3[Arrivée])*(I$3<Tableau3[Départ])*(Tableau3[Chb]=$C60))","v":0},{"$f":"SUMPRODUCT((J$3>=Tableau3[Arrivée])*(J$3<Tableau3[Départ])*(Tableau3[Chb]=$C60))","v":0},{"$f":"SUMPRODUCT((K$3>=Tableau3[Arrivée])*(K$3<Tableau3[Départ])*(Tableau3[Chb]=$C60))","v":0},{"$f":"SUMPRODUCT((L$3>=Tableau3[Arrivée])*(L$3<Tableau3[Départ])*(Tableau3[Chb]=$C60))","v":0},{"$f":"SUMPRODUCT((M$3>=Tableau3[Arrivée])*(M$3<Tableau3[Départ])*(Tableau3[Chb]=$C60))","v":0},{"$f":"SUMPRODUCT((N$3>=Tableau3[Arrivée])*(N$3<Tableau3[Départ])*(Tableau3[Chb]=$C60))","v":0},{"$f":"SUMPRODUCT((O$3>=Tableau3[Arrivée])*(O$3<Tableau3[Départ])*(Tableau3[Chb]=$C60))","v":0},{"$f":"SUMPRODUCT((P$3>=Tableau3[Arrivée])*(P$3<Tableau3[Départ])*(Tableau3[Chb]=$C60))","v":0},{"$f":"SUMPRODUCT((Q$3>=Tableau3[Arrivée])*(Q$3<Tableau3[Départ])*(Tableau3[Chb]=$C60))","v":0},{"$f":"SUMPRODUCT((R$3>=Tableau3[Arrivée])*(R$3<Tableau3[Départ])*(Tableau3[Chb]=$C60))","v":0},{"$f":"SUMPRODUCT((S$3>=Tableau3[Arrivée])*(S$3<Tableau3[Départ])*(Tableau3[Chb]=$C60))","v":0},{"$f":"SUMPRODUCT((T$3>=Tableau3[Arrivée])*(T$3<Tableau3[Départ])*(Tableau3[Chb]=$C60))","v":0},{"$f":"SUMPRODUCT((U$3>=Tableau3[Arrivée])*(U$3<Tableau3[Départ])*(Tableau3[Chb]=$C60))","v":0},{"$f":"SUMPRODUCT((V$3>=Tableau3[Arrivée])*(V$3<Tableau3[Départ])*(Tableau3[Chb]=$C60))","v":0},{"$f":"SUMPRODUCT((W$3>=Tableau3[Arrivée])*(W$3<Tableau3[Départ])*(Tableau3[Chb]=$C60))","v":0},{"$f":"SUMPRODUCT((X$3>=Tableau3[Arrivée])*(X$3<Tableau3[Départ])*(Tableau3[Chb]=$C60))","v":0},{"$f":"SUMPRODUCT((Y$3>=Tableau3[Arrivée])*(Y$3<Tableau3[Départ])*(Tableau3[Chb]=$C60))","v":0},{"$f":"SUMPRODUCT((Z$3>=Tableau3[Arrivée])*(Z$3<Tableau3[Départ])*(Tableau3[Chb]=$C60))","v":0},{"$f":"SUMPRODUCT((AA$3>=Tableau3[Arrivée])*(AA$3<Tableau3[Départ])*(Tableau3[Chb]=$C60))","v":0},{"$f":"SUMPRODUCT((AB$3>=Tableau3[Arrivée])*(AB$3<Tableau3[Départ])*(Tableau3[Chb]=$C60))","v":0},{"$f":"SUMPRODUCT((AC$3>=Tableau3[Arrivée])*(AC$3<Tableau3[Départ])*(Tableau3[Chb]=$C60))","v":0},{"$f":"SUMPRODUCT((AD$3>=Tableau3[Arrivée])*(AD$3<Tableau3[Départ])*(Tableau3[Chb]=$C60))","v":0},{"$f":"SUMPRODUCT((AE$3>=Tableau3[Arrivée])*(AE$3<Tableau3[Départ])*(Tableau3[Chb]=$C60))","v":0},{"$f":"SUMPRODUCT((AF$3>=Tableau3[Arrivée])*(AF$3<Tableau3[Départ])*(Tableau3[Chb]=$C60))","v":0},{"$f":"SUMPRODUCT((AG$3>=Tableau3[Arrivée])*(AG$3<Tableau3[Départ])*(Tableau3[Chb]=$C60))","v":0},{"$f":"SUMPRODUCT((AH$3>=Tableau3[Arrivée])*(AH$3<Tableau3[Départ])*(Tableau3[Chb]=$C60))","v":0},0]
[null,"Single",506,{"$f":"SUMPRODUCT((D$3>=Tableau3[Arrivée])*(D$3<Tableau3[Départ])*(Tableau3[Chb]=$C61))","v":0},{"$f":"SUMPRODUCT((E$3>=Tableau3[Arrivée])*(E$3<Tableau3[Départ])*(Tableau3[Chb]=$C61))","v":0},{"$f":"SUMPRODUCT((F$3>=Tableau3[Arrivée])*(F$3<Tableau3[Départ])*(Tableau3[Chb]=$C61))","v":0},{"$f":"SUMPRODUCT((G$3>=Tableau3[Arrivée])*(G$3<Tableau3[Départ])*(Tableau3[Chb]=$C61))","v":0},{"$f":"SUMPRODUCT((H$3>=Tableau3[Arrivée])*(H$3<Tableau3[Départ])*(Tableau3[Chb]=$C61))","v":0},{"$f":"SUMPRODUCT((I$3>=Tableau3[Arrivée])*(I$3<Tableau3[Départ])*(Tableau3[Chb]=$C61))","v":0},{"$f":"SUMPRODUCT((J$3>=Tableau3[Arrivée])*(J$3<Tableau3[Départ])*(Tableau3[Chb]=$C61))","v":0},{"$f":"SUMPRODUCT((K$3>=Tableau3[Arrivée])*(K$3<Tableau3[Départ])*(Tableau3[Chb]=$C61))","v":0},{"$f":"SUMPRODUCT((L$3>=Tableau3[Arrivée])*(L$3<Tableau3[Départ])*(Tableau3[Chb]=$C61))","v":0},{"$f":"SUMPRODUCT((M$3>=Tableau3[Arrivée])*(M$3<Tableau3[Départ])*(Tableau3[Chb]=$C61))","v":0},{"$f":"SUMPRODUCT((N$3>=Tableau3[Arrivée])*(N$3<Tableau3[Départ])*(Tableau3[Chb]=$C61))","v":0},{"$f":"SUMPRODUCT((O$3>=Tableau3[Arrivée])*(O$3<Tableau3[Départ])*(Tableau3[Chb]=$C61))","v":0},{"$f":"SUMPRODUCT((P$3>=Tableau3[Arrivée])*(P$3<Tableau3[Départ])*(Tableau3[Chb]=$C61))","v":0},{"$f":"SUMPRODUCT((Q$3>=Tableau3[Arrivée])*(Q$3<Tableau3[Départ])*(Tableau3[Chb]=$C61))","v":0},{"$f":"SUMPRODUCT((R$3>=Tableau3[Arrivée])*(R$3<Tableau3[Départ])*(Tableau3[Chb]=$C61))","v":0},{"$f":"SUMPRODUCT((S$3>=Tableau3[Arrivée])*(S$3<Tableau3[Départ])*(Tableau3[Chb]=$C61))","v":0},{"$f":"SUMPRODUCT((T$3>=Tableau3[Arrivée])*(T$3<Tableau3[Départ])*(Tableau3[Chb]=$C61))","v":0},{"$f":"SUMPRODUCT((U$3>=Tableau3[Arrivée])*(U$3<Tableau3[Départ])*(Tableau3[Chb]=$C61))","v":0},{"$f":"SUMPRODUCT((V$3>=Tableau3[Arrivée])*(V$3<Tableau3[Départ])*(Tableau3[Chb]=$C61))","v":0},{"$f":"SUMPRODUCT((W$3>=Tableau3[Arrivée])*(W$3<Tableau3[Départ])*(Tableau3[Chb]=$C61))","v":0},{"$f":"SUMPRODUCT((X$3>=Tableau3[Arrivée])*(X$3<Tableau3[Départ])*(Tableau3[Chb]=$C61))","v":0},{"$f":"SUMPRODUCT((Y$3>=Tableau3[Arrivée])*(Y$3<Tableau3[Départ])*(Tableau3[Chb]=$C61))","v":0},{"$f":"SUMPRODUCT((Z$3>=Tableau3[Arrivée])*(Z$3<Tableau3[Départ])*(Tableau3[Chb]=$C61))","v":0},{"$f":"SUMPRODUCT((AA$3>=Tableau3[Arrivée])*(AA$3<Tableau3[Départ])*(Tableau3[Chb]=$C61))","v":0},{"$f":"SUMPRODUCT((AB$3>=Tableau3[Arrivée])*(AB$3<Tableau3[Départ])*(Tableau3[Chb]=$C61))","v":0},{"$f":"SUMPRODUCT((AC$3>=Tableau3[Arrivée])*(AC$3<Tableau3[Départ])*(Tableau3[Chb]=$C61))","v":0},{"$f":"SUMPRODUCT((AD$3>=Tableau3[Arrivée])*(AD$3<Tableau3[Départ])*(Tableau3[Chb]=$C61))","v":0},{"$f":"SUMPRODUCT((AE$3>=Tableau3[Arrivée])*(AE$3<Tableau3[Départ])*(Tableau3[Chb]=$C61))","v":0},{"$f":"SUMPRODUCT((AF$3>=Tableau3[Arrivée])*(AF$3<Tableau3[Départ])*(Tableau3[Chb]=$C61))","v":0},{"$f":"SUMPRODUCT((AG$3>=Tableau3[Arrivée])*(AG$3<Tableau3[Départ])*(Tableau3[Chb]=$C61))","v":0},{"$f":"SUMPRODUCT((AH$3>=Tableau3[Arrivée])*(AH$3<Tableau3[Départ])*(Tableau3[Chb]=$C61))","v":0},0]
[null,"Triple",507,{"$f":"SUMPRODUCT((D$3>=Tableau3[Arrivée])*(D$3<Tableau3[Départ])*(Tableau3[Chb]=$C62))","v":0},{"$f":"SUMPRODUCT((E$3>=Tableau3[Arrivée])*(E$3<Tableau3[Départ])*(Tableau3[Chb]=$C62))","v":0},{"$f":"SUMPRODUCT((F$3>=Tableau3[Arrivée])*(F$3<Tableau3[Départ])*(Tableau3[Chb]=$C62))","v":0},{"$f":"SUMPRODUCT((G$3>=Tableau3[Arrivée])*(G$3<Tableau3[Départ])*(Tableau3[Chb]=$C62))","v":0},{"$f":"SUMPRODUCT((H$3>=Tableau3[Arrivée])*(H$3<Tableau3[Départ])*(Tableau3[Chb]=$C62))","v":0},{"$f":"SUMPRODUCT((I$3>=Tableau3[Arrivée])*(I$3<Tableau3[Départ])*(Tableau3[Chb]=$C62))","v":0},{"$f":"SUMPRODUCT((J$3>=Tableau3[Arrivée])*(J$3<Tableau3[Départ])*(Tableau3[Chb]=$C62))","v":0},{"$f":"SUMPRODUCT((K$3>=Tableau3[Arrivée])*(K$3<Tableau3[Départ])*(Tableau3[Chb]=$C62))","v":0},{"$f":"SUMPRODUCT((L$3>=Tableau3[Arrivée])*(L$3<Tableau3[Départ])*(Tableau3[Chb]=$C62))","v":0},{"$f":"SUMPRODUCT((M$3>=Tableau3[Arrivée])*(M$3<Tableau3[Départ])*(Tableau3[Chb]=$C62))","v":0},{"$f":"SUMPRODUCT((N$3>=Tableau3[Arrivée])*(N$3<Tableau3[Départ])*(Tableau3[Chb]=$C62))","v":0},{"$f":"SUMPRODUCT((O$3>=Tableau3[Arrivée])*(O$3<Tableau3[Départ])*(Tableau3[Chb]=$C62))","v":0},{"$f":"SUMPRODUCT((P$3>=Tableau3[Arrivée])*(P$3<Tableau3[Départ])*(Tableau3[Chb]=$C62))","v":0},{"$f":"SUMPRODUCT((Q$3>=Tableau3[Arrivée])*(Q$3<Tableau3[Départ])*(Tableau3[Chb]=$C62))","v":0},{"$f":"SUMPRODUCT((R$3>=Tableau3[Arrivée])*(R$3<Tableau3[Départ])*(Tableau3[Chb]=$C62))","v":0},{"$f":"SUMPRODUCT((S$3>=Tableau3[Arrivée])*(S$3<Tableau3[Départ])*(Tableau3[Chb]=$C62))","v":0},{"$f":"SUMPRODUCT((T$3>=Tableau3[Arrivée])*(T$3<Tableau3[Départ])*(Tableau3[Chb]=$C62))","v":0},{"$f":"SUMPRODUCT((U$3>=Tableau3[Arrivée])*(U$3<Tableau3[Départ])*(Tableau3[Chb]=$C62))","v":0},{"$f":"SUMPRODUCT((V$3>=Tableau3[Arrivée])*(V$3<Tableau3[Départ])*(Tableau3[Chb]=$C62))","v":0},{"$f":"SUMPRODUCT((W$3>=Tableau3[Arrivée])*(W$3<Tableau3[Départ])*(Tableau3[Chb]=$C62))","v":0},{"$f":"SUMPRODUCT((X$3>=Tableau3[Arrivée])*(X$3<Tableau3[Départ])*(Tableau3[Chb]=$C62))","v":0},{"$f":"SUMPRODUCT((Y$3>=Tableau3[Arrivée])*(Y$3<Tableau3[Départ])*(Tableau3[Chb]=$C62))","v":0},{"$f":"SUMPRODUCT((Z$3>=Tableau3[Arrivée])*(Z$3<Tableau3[Départ])*(Tableau3[Chb]=$C62))","v":0},{"$f":"SUMPRODUCT((AA$3>=Tableau3[Arrivée])*(AA$3<Tableau3[Départ])*(Tableau3[Chb]=$C62))","v":0},{"$f":"SUMPRODUCT((AB$3>=Tableau3[Arrivée])*(AB$3<Tableau3[Départ])*(Tableau3[Chb]=$C62))","v":0},{"$f":"SUMPRODUCT((AC$3>=Tableau3[Arrivée])*(AC$3<Tableau3[Départ])*(Tableau3[Chb]=$C62))","v":0},{"$f":"SUMPRODUCT((AD$3>=Tableau3[Arrivée])*(AD$3<Tableau3[Départ])*(Tableau3[Chb]=$C62))","v":0},{"$f":"SUMPRODUCT((AE$3>=Tableau3[Arrivée])*(AE$3<Tableau3[Départ])*(Tableau3[Chb]=$C62))","v":0},{"$f":"SUMPRODUCT((AF$3>=Tableau3[Arrivée])*(AF$3<Tableau3[Départ])*(Tableau3[Chb]=$C62))","v":0},{"$f":"SUMPRODUCT((AG$3>=Tableau3[Arrivée])*(AG$3<Tableau3[Départ])*(Tableau3[Chb]=$C62))","v":0},{"$f":"SUMPRODUCT((AH$3>=Tableau3[Arrivée])*(AH$3<Tableau3[Départ])*(Tableau3[Chb]=$C62))","v":0},0]
[null,"Triple",508,{"$f":"SUMPRODUCT((D$3>=Tableau3[Arrivée])*(D$3<Tableau3[Départ])*(Tableau3[Chb]=$C63))","v":0},{"$f":"SUMPRODUCT((E$3>=Tableau3[Arrivée])*(E$3<Tableau3[Départ])*(Tableau3[Chb]=$C63))","v":0},{"$f":"SUMPRODUCT((F$3>=Tableau3[Arrivée])*(F$3<Tableau3[Départ])*(Tableau3[Chb]=$C63))","v":0},{"$f":"SUMPRODUCT((G$3>=Tableau3[Arrivée])*(G$3<Tableau3[Départ])*(Tableau3[Chb]=$C63))","v":0},{"$f":"SUMPRODUCT((H$3>=Tableau3[Arrivée])*(H$3<Tableau3[Départ])*(Tableau3[Chb]=$C63))","v":0},{"$f":"SUMPRODUCT((I$3>=Tableau3[Arrivée])*(I$3<Tableau3[Départ])*(Tableau3[Chb]=$C63))","v":0},{"$f":"SUMPRODUCT((J$3>=Tableau3[Arrivée])*(J$3<Tableau3[Départ])*(Tableau3[Chb]=$C63))","v":0},{"$f":"SUMPRODUCT((K$3>=Tableau3[Arrivée])*(K$3<Tableau3[Départ])*(Tableau3[Chb]=$C63))","v":0},{"$f":"SUMPRODUCT((L$3>=Tableau3[Arrivée])*(L$3<Tableau3[Départ])*(Tableau3[Chb]=$C63))","v":0},{"$f":"SUMPRODUCT((M$3>=Tableau3[Arrivée])*(M$3<Tableau3[Départ])*(Tableau3[Chb]=$C63))","v":0},{"$f":"SUMPRODUCT((N$3>=Tableau3[Arrivée])*(N$3<Tableau3[Départ])*(Tableau3[Chb]=$C63))","v":0},{"$f":"SUMPRODUCT((O$3>=Tableau3[Arrivée])*(O$3<Tableau3[Départ])*(Tableau3[Chb]=$C63))","v":0},{"$f":"SUMPRODUCT((P$3>=Tableau3[Arrivée])*(P$3<Tableau3[Départ])*(Tableau3[Chb]=$C63))","v":0},{"$f":"SUMPRODUCT((Q$3>=Tableau3[Arrivée])*(Q$3<Tableau3[Départ])*(Tableau3[Chb]=$C63))","v":0},{"$f":"SUMPRODUCT((R$3>=Tableau3[Arrivée])*(R$3<Tableau3[Départ])*(Tableau3[Chb]=$C63))","v":0},{"$f":"SUMPRODUCT((S$3>=Tableau3[Arrivée])*(S$3<Tableau3[Départ])*(Tableau3[Chb]=$C63))","v":0},{"$f":"SUMPRODUCT((T$3>=Tableau3[Arrivée])*(T$3<Tableau3[Départ])*(Tableau3[Chb]=$C63))","v":0},{"$f":"SUMPRODUCT((U$3>=Tableau3[Arrivée])*(U$3<Tableau3[Départ])*(Tableau3[Chb]=$C63))","v":0},{"$f":"SUMPRODUCT((V$3>=Tableau3[Arrivée])*(V$3<Tableau3[Départ])*(Tableau3[Chb]=$C63))","v":0},{"$f":"SUMPRODUCT((W$3>=Tableau3[Arrivée])*(W$3<Tableau3[Départ])*(Tableau3[Chb]=$C63))","v":0},{"$f":"SUMPRODUCT((X$3>=Tableau3[Arrivée])*(X$3<Tableau3[Départ])*(Tableau3[Chb]=$C63))","v":0},{"$f":"SUMPRODUCT((Y$3>=Tableau3[Arrivée])*(Y$3<Tableau3[Départ])*(Tableau3[Chb]=$C63))","v":0},{"$f":"SUMPRODUCT((Z$3>=Tableau3[Arrivée])*(Z$3<Tableau3[Départ])*(Tableau3[Chb]=$C63))","v":0},{"$f":"SUMPRODUCT((AA$3>=Tableau3[Arrivée])*(AA$3<Tableau3[Départ])*(Tableau3[Chb]=$C63))","v":0},{"$f":"SUMPRODUCT((AB$3>=Tableau3[Arrivée])*(AB$3<Tableau3[Départ])*(Tableau3[Chb]=$C63))","v":0},{"$f":"SUMPRODUCT((AC$3>=Tableau3[Arrivée])*(AC$3<Tableau3[Départ])*(Tableau3[Chb]=$C63))","v":0},{"$f":"SUMPRODUCT((AD$3>=Tableau3[Arrivée])*(AD$3<Tableau3[Départ])*(Tableau3[Chb]=$C63))","v":0},{"$f":"SUMPRODUCT((AE$3>=Tableau3[Arrivée])*(AE$3<Tableau3[Départ])*(Tableau3[Chb]=$C63))","v":0},{"$f":"SUMPRODUCT((AF$3>=Tableau3[Arrivée])*(AF$3<Tableau3[Départ])*(Tableau3[Chb]=$C63))","v":0},{"$f":"SUMPRODUCT((AG$3>=Tableau3[Arrivée])*(AG$3<Tableau3[Départ])*(Tableau3[Chb]=$C63))","v":0},{"$f":"SUMPRODUCT((AH$3>=Tableau3[Arrivée])*(AH$3<Tableau3[Départ])*(Tableau3[Chb]=$C63))","v":0},0]
[null,"Suite",509,{"$f":"SUMPRODUCT((D$3>=Tableau3[Arrivée])*(D$3<Tableau3[Départ])*(Tableau3[Chb]=$C64))","v":0},{"$f":"SUMPRODUCT((E$3>=Tableau3[Arrivée])*(E$3<Tableau3[Départ])*(Tableau3[Chb]=$C64))","v":0},{"$f":"SUMPRODUCT((F$3>=Tableau3[Arrivée])*(F$3<Tableau3[Départ])*(Tableau3[Chb]=$C64))","v":0},{"$f":"SUMPRODUCT((G$3>=Tableau3[Arrivée])*(G$3<Tableau3[Départ])*(Tableau3[Chb]=$C64))","v":0},{"$f":"SUMPRODUCT((H$3>=Tableau3[Arrivée])*(H$3<Tableau3[Départ])*(Tableau3[Chb]=$C64))","v":0},{"$f":"SUMPRODUCT((I$3>=Tableau3[Arrivée])*(I$3<Tableau3[Départ])*(Tableau3[Chb]=$C64))","v":0},{"$f":"SUMPRODUCT((J$3>=Tableau3[Arrivée])*(J$3<Tableau3[Départ])*(Tableau3[Chb]=$C64))","v":0},{"$f":"SUMPRODUCT((K$3>=Tableau3[Arrivée])*(K$3<Tableau3[Départ])*(Tableau3[Chb]=$C64))","v":0},{"$f":"SUMPRODUCT((L$3>=Tableau3[Arrivée])*(L$3<Tableau3[Départ])*(Tableau3[Chb]=$C64))","v":0},{"$f":"SUMPRODUCT((M$3>=Tableau3[Arrivée])*(M$3<Tableau3[Départ])*(Tableau3[Chb]=$C64))","v":0},{"$f":"SUMPRODUCT((N$3>=Tableau3[Arrivée])*(N$3<Tableau3[Départ])*(Tableau3[Chb]=$C64))","v":0},{"$f":"SUMPRODUCT((O$3>=Tableau3[Arrivée])*(O$3<Tableau3[Départ])*(Tableau3[Chb]=$C64))","v":0},{"$f":"SUMPRODUCT((P$3>=Tableau3[Arrivée])*(P$3<Tableau3[Départ])*(Tableau3[Chb]=$C64))","v":0},{"$f":"SUMPRODUCT((Q$3>=Tableau3[Arrivée])*(Q$3<Tableau3[Départ])*(Tableau3[Chb]=$C64))","v":0},{"$f":"SUMPRODUCT((R$3>=Tableau3[Arrivée])*(R$3<Tableau3[Départ])*(Tableau3[Chb]=$C64))","v":0},{"$f":"SUMPRODUCT((S$3>=Tableau3[Arrivée])*(S$3<Tableau3[Départ])*(Tableau3[Chb]=$C64))","v":0},{"$f":"SUMPRODUCT((T$3>=Tableau3[Arrivée])*(T$3<Tableau3[Départ])*(Tableau3[Chb]=$C64))","v":0},{"$f":"SUMPRODUCT((U$3>=Tableau3[Arrivée])*(U$3<Tableau3[Départ])*(Tableau3[Chb]=$C64))","v":0},{"$f":"SUMPRODUCT((V$3>=Tableau3[Arrivée])*(V$3<Tableau3[Départ])*(Tableau3[Chb]=$C64))","v":0},{"$f":"SUMPRODUCT((W$3>=Tableau3[Arrivée])*(W$3<Tableau3[Départ])*(Tableau3[Chb]=$C64))","v":0},{"$f":"SUMPRODUCT((X$3>=Tableau3[Arrivée])*(X$3<Tableau3[Départ])*(Tableau3[Chb]=$C64))","v":0},{"$f":"SUMPRODUCT((Y$3>=Tableau3[Arrivée])*(Y$3<Tableau3[Départ])*(Tableau3[Chb]=$C64))","v":0},{"$f":"SUMPRODUCT((Z$3>=Tableau3[Arrivée])*(Z$3<Tableau3[Départ])*(Tableau3[Chb]=$C64))","v":0},{"$f":"SUMPRODUCT((AA$3>=Tableau3[Arrivée])*(AA$3<Tableau3[Départ])*(Tableau3[Chb]=$C64))","v":0},{"$f":"SUMPRODUCT((AB$3>=Tableau3[Arrivée])*(AB$3<Tableau3[Départ])*(Tableau3[Chb]=$C64))","v":0},{"$f":"SUMPRODUCT((AC$3>=Tableau3[Arrivée])*(AC$3<Tableau3[Départ])*(Tableau3[Chb]=$C64))","v":0},{"$f":"SUMPRODUCT((AD$3>=Tableau3[Arrivée])*(AD$3<Tableau3[Départ])*(Tableau3[Chb]=$C64))","v":0},{"$f":"SUMPRODUCT((AE$3>=Tableau3[Arrivée])*(AE$3<Tableau3[Départ])*(Tableau3[Chb]=$C64))","v":0},{"$f":"SUMPRODUCT((AF$3>=Tableau3[Arrivée])*(AF$3<Tableau3[Départ])*(Tableau3[Chb]=$C64))","v":0},{"$f":"SUMPRODUCT((AG$3>=Tableau3[Arrivée])*(AG$3<Tableau3[Départ])*(Tableau3[Chb]=$C64))","v":0},{"$f":"SUMPRODUCT((AH$3>=Tableau3[Arrivée])*(AH$3<Tableau3[Départ])*(Tableau3[Chb]=$C64))","v":0},0]
[null,"Qdrille",510,{"$f":"SUMPRODUCT((D$3>=Tableau3[Arrivée])*(D$3<Tableau3[Départ])*(Tableau3[Chb]=$C65))","v":0},{"$f":"SUMPRODUCT((E$3>=Tableau3[Arrivée])*(E$3<Tableau3[Départ])*(Tableau3[Chb]=$C65))","v":0},{"$f":"SUMPRODUCT((F$3>=Tableau3[Arrivée])*(F$3<Tableau3[Départ])*(Tableau3[Chb]=$C65))","v":0},{"$f":"SUMPRODUCT((G$3>=Tableau3[Arrivée])*(G$3<Tableau3[Départ])*(Tableau3[Chb]=$C65))","v":0},{"$f":"SUMPRODUCT((H$3>=Tableau3[Arrivée])*(H$3<Tableau3[Départ])*(Tableau3[Chb]=$C65))","v":0},{"$f":"SUMPRODUCT((I$3>=Tableau3[Arrivée])*(I$3<Tableau3[Départ])*(Tableau3[Chb]=$C65))","v":0},{"$f":"SUMPRODUCT((J$3>=Tableau3[Arrivée])*(J$3<Tableau3[Départ])*(Tableau3[Chb]=$C65))","v":0},{"$f":"SUMPRODUCT((K$3>=Tableau3[Arrivée])*(K$3<Tableau3[Départ])*(Tableau3[Chb]=$C65))","v":0},{"$f":"SUMPRODUCT((L$3>=Tableau3[Arrivée])*(L$3<Tableau3[Départ])*(Tableau3[Chb]=$C65))","v":0},{"$f":"SUMPRODUCT((M$3>=Tableau3[Arrivée])*(M$3<Tableau3[Départ])*(Tableau3[Chb]=$C65))","v":0},{"$f":"SUMPRODUCT((N$3>=Tableau3[Arrivée])*(N$3<Tableau3[Départ])*(Tableau3[Chb]=$C65))","v":0},{"$f":"SUMPRODUCT((O$3>=Tableau3[Arrivée])*(O$3<Tableau3[Départ])*(Tableau3[Chb]=$C65))","v":0},{"$f":"SUMPRODUCT((P$3>=Tableau3[Arrivée])*(P$3<Tableau3[Départ])*(Tableau3[Chb]=$C65))","v":0},{"$f":"SUMPRODUCT((Q$3>=Tableau3[Arrivée])*(Q$3<Tableau3[Départ])*(Tableau3[Chb]=$C65))","v":0},{"$f":"SUMPRODUCT((R$3>=Tableau3[Arrivée])*(R$3<Tableau3[Départ])*(Tableau3[Chb]=$C65))","v":0},{"$f":"SUMPRODUCT((S$3>=Tableau3[Arrivée])*(S$3<Tableau3[Départ])*(Tableau3[Chb]=$C65))","v":0},{"$f":"SUMPRODUCT((T$3>=Tableau3[Arrivée])*(T$3<Tableau3[Départ])*(Tableau3[Chb]=$C65))","v":0},{"$f":"SUMPRODUCT((U$3>=Tableau3[Arrivée])*(U$3<Tableau3[Départ])*(Tableau3[Chb]=$C65))","v":0},{"$f":"SUMPRODUCT((V$3>=Tableau3[Arrivée])*(V$3<Tableau3[Départ])*(Tableau3[Chb]=$C65))","v":0},{"$f":"SUMPRODUCT((W$3>=Tableau3[Arrivée])*(W$3<Tableau3[Départ])*(Tableau3[Chb]=$C65))","v":0},{"$f":"SUMPRODUCT((X$3>=Tableau3[Arrivée])*(X$3<Tableau3[Départ])*(Tableau3[Chb]=$C65))","v":0},{"$f":"SUMPRODUCT((Y$3>=Tableau3[Arrivée])*(Y$3<Tableau3[Départ])*(Tableau3[Chb]=$C65))","v":0},{"$f":"SUMPRODUCT((Z$3>=Tableau3[Arrivée])*(Z$3<Tableau3[Départ])*(Tableau3[Chb]=$C65))","v":0},{"$f":"SUMPRODUCT((AA$3>=Tableau3[Arrivée])*(AA$3<Tableau3[Départ])*(Tableau3[Chb]=$C65))","v":0},{"$f":"SUMPRODUCT((AB$3>=Tableau3[Arrivée])*(AB$3<Tableau3[Départ])*(Tableau3[Chb]=$C65))","v":0},{"$f":"SUMPRODUCT((AC$3>=Tableau3[Arrivée])*(AC$3<Tableau3[Départ])*(Tableau3[Chb]=$C65))","v":0},{"$f":"SUMPRODUCT((AD$3>=Tableau3[Arrivée])*(AD$3<Tableau3[Départ])*(Tableau3[Chb]=$C65))","v":0},{"$f":"SUMPRODUCT((AE$3>=Tableau3[Arrivée])*(AE$3<Tableau3[Départ])*(Tableau3[Chb]=$C65))","v":0},{"$f":"SUMPRODUCT((AF$3>=Tableau3[Arrivée])*(AF$3<Tableau3[Départ])*(Tableau3[Chb]=$C65))","v":0},{"$f":"SUMPRODUCT((AG$3>=Tableau3[Arrivée])*(AG$3<Tableau3[Départ])*(Tableau3[Chb]=$C65))","v":0},{"$f":"SUMPRODUCT((AH$3>=Tableau3[Arrivée])*(AH$3<Tableau3[Départ])*(Tableau3[Chb]=$C65))","v":0},0]
[null,"Suite",511,{"$f":"SUMPRODUCT((D$3>=Tableau3[Arrivée])*(D$3<Tableau3[Départ])*(Tableau3[Chb]=$C66))","v":0},{"$f":"SUMPRODUCT((E$3>=Tableau3[Arrivée])*(E$3<Tableau3[Départ])*(Tableau3[Chb]=$C66))","v":0},{"$f":"SUMPRODUCT((F$3>=Tableau3[Arrivée])*(F$3<Tableau3[Départ])*(Tableau3[Chb]=$C66))","v":0},{"$f":"SUMPRODUCT((G$3>=Tableau3[Arrivée])*(G$3<Tableau3[Départ])*(Tableau3[Chb]=$C66))","v":0},{"$f":"SUMPRODUCT((H$3>=Tableau3[Arrivée])*(H$3<Tableau3[Départ])*(Tableau3[Chb]=$C66))","v":0},{"$f":"SUMPRODUCT((I$3>=Tableau3[Arrivée])*(I$3<Tableau3[Départ])*(Tableau3[Chb]=$C66))","v":0},{"$f":"SUMPRODUCT((J$3>=Tableau3[Arrivée])*(J$3<Tableau3[Départ])*(Tableau3[Chb]=$C66))","v":0},{"$f":"SUMPRODUCT((K$3>=Tableau3[Arrivée])*(K$3<Tableau3[Départ])*(Tableau3[Chb]=$C66))","v":0},{"$f":"SUMPRODUCT((L$3>=Tableau3[Arrivée])*(L$3<Tableau3[Départ])*(Tableau3[Chb]=$C66))","v":0},{"$f":"SUMPRODUCT((M$3>=Tableau3[Arrivée])*(M$3<Tableau3[Départ])*(Tableau3[Chb]=$C66))","v":0},{"$f":"SUMPRODUCT((N$3>=Tableau3[Arrivée])*(N$3<Tableau3[Départ])*(Tableau3[Chb]=$C66))","v":0},{"$f":"SUMPRODUCT((O$3>=Tableau3[Arrivée])*(O$3<Tableau3[Départ])*(Tableau3[Chb]=$C66))","v":0},{"$f":"SUMPRODUCT((P$3>=Tableau3[Arrivée])*(P$3<Tableau3[Départ])*(Tableau3[Chb]=$C66))","v":0},{"$f":"SUMPRODUCT((Q$3>=Tableau3[Arrivée])*(Q$3<Tableau3[Départ])*(Tableau3[Chb]=$C66))","v":0},{"$f":"SUMPRODUCT((R$3>=Tableau3[Arrivée])*(R$3<Tableau3[Départ])*(Tableau3[Chb]=$C66))","v":0},{"$f":"SUMPRODUCT((S$3>=Tableau3[Arrivée])*(S$3<Tableau3[Départ])*(Tableau3[Chb]=$C66))","v":0},{"$f":"SUMPRODUCT((T$3>=Tableau3[Arrivée])*(T$3<Tableau3[Départ])*(Tableau3[Chb]=$C66))","v":0},{"$f":"SUMPRODUCT((U$3>=Tableau3[Arrivée])*(U$3<Tableau3[Départ])*(Tableau3[Chb]=$C66))","v":0},{"$f":"SUMPRODUCT((V$3>=Tableau3[Arrivée])*(V$3<Tableau3[Départ])*(Tableau3[Chb]=$C66))","v":0},{"$f":"SUMPRODUCT((W$3>=Tableau3[Arrivée])*(W$3<Tableau3[Départ])*(Tableau3[Chb]=$C66))","v":0},{"$f":"SUMPRODUCT((X$3>=Tableau3[Arrivée])*(X$3<Tableau3[Départ])*(Tableau3[Chb]=$C66))","v":0},{"$f":"SUMPRODUCT((Y$3>=Tableau3[Arrivée])*(Y$3<Tableau3[Départ])*(Tableau3[Chb]=$C66))","v":0},{"$f":"SUMPRODUCT((Z$3>=Tableau3[Arrivée])*(Z$3<Tableau3[Départ])*(Tableau3[Chb]=$C66))","v":0},{"$f":"SUMPRODUCT((AA$3>=Tableau3[Arrivée])*(AA$3<Tableau3[Départ])*(Tableau3[Chb]=$C66))","v":0},{"$f":"SUMPRODUCT((AB$3>=Tableau3[Arrivée])*(AB$3<Tableau3[Départ])*(Tableau3[Chb]=$C66))","v":0},{"$f":"SUMPRODUCT((AC$3>=Tableau3[Arrivée])*(AC$3<Tableau3[Départ])*(Tableau3[Chb]=$C66))","v":0},{"$f":"SUMPRODUCT((AD$3>=Tableau3[Arrivée])*(AD$3<Tableau3[Départ])*(Tableau3[Chb]=$C66))","v":0},{"$f":"SUMPRODUCT((AE$3>=Tableau3[Arrivée])*(AE$3<Tableau3[Départ])*(Tableau3[Chb]=$C66))","v":0},{"$f":"SUMPRODUCT((AF$3>=Tableau3[Arrivée])*(AF$3<Tableau3[Départ])*(Tableau3[Chb]=$C66))","v":0},{"$f":"SUMPRODUCT((AG$3>=Tableau3[Arrivée])*(AG$3<Tableau3[Départ])*(Tableau3[Chb]=$C66))","v":0},{"$f":"SUMPRODUCT((AH$3>=Tableau3[Arrivée])*(AH$3<Tableau3[Départ])*(Tableau3[Chb]=$C66))","v":0},0]
[null,"Suite",512,{"$f":"SUMPRODUCT((D$3>=Tableau3[Arrivée])*(D$3<Tableau3[Départ])*(Tableau3[Chb]=$C67))","v":0},{"$f":"SUMPRODUCT((E$3>=Tableau3[Arrivée])*(E$3<Tableau3[Départ])*(Tableau3[Chb]=$C67))","v":0},{"$f":"SUMPRODUCT((F$3>=Tableau3[Arrivée])*(F$3<Tableau3[Départ])*(Tableau3[Chb]=$C67))","v":0},{"$f":"SUMPRODUCT((G$3>=Tableau3[Arrivée])*(G$3<Tableau3[Départ])*(Tableau3[Chb]=$C67))","v":0},{"$f":"SUMPRODUCT((H$3>=Tableau3[Arrivée])*(H$3<Tableau3[Départ])*(Tableau3[Chb]=$C67))","v":0},{"$f":"SUMPRODUCT((I$3>=Tableau3[Arrivée])*(I$3<Tableau3[Départ])*(Tableau3[Chb]=$C67))","v":0},{"$f":"SUMPRODUCT((J$3>=Tableau3[Arrivée])*(J$3<Tableau3[Départ])*(Tableau3[Chb]=$C67))","v":0},{"$f":"SUMPRODUCT((K$3>=Tableau3[Arrivée])*(K$3<Tableau3[Départ])*(Tableau3[Chb]=$C67))","v":0},{"$f":"SUMPRODUCT((L$3>=Tableau3[Arrivée])*(L$3<Tableau3[Départ])*(Tableau3[Chb]=$C67))","v":0},{"$f":"SUMPRODUCT((M$3>=Tableau3[Arrivée])*(M$3<Tableau3[Départ])*(Tableau3[Chb]=$C67))","v":0},{"$f":"SUMPRODUCT((N$3>=Tableau3[Arrivée])*(N$3<Tableau3[Départ])*(Tableau3[Chb]=$C67))","v":0},{"$f":"SUMPRODUCT((O$3>=Tableau3[Arrivée])*(O$3<Tableau3[Départ])*(Tableau3[Chb]=$C67))","v":0},{"$f":"SUMPRODUCT((P$3>=Tableau3[Arrivée])*(P$3<Tableau3[Départ])*(Tableau3[Chb]=$C67))","v":0},{"$f":"SUMPRODUCT((Q$3>=Tableau3[Arrivée])*(Q$3<Tableau3[Départ])*(Tableau3[Chb]=$C67))","v":0},{"$f":"SUMPRODUCT((R$3>=Tableau3[Arrivée])*(R$3<Tableau3[Départ])*(Tableau3[Chb]=$C67))","v":0},{"$f":"SUMPRODUCT((S$3>=Tableau3[Arrivée])*(S$3<Tableau3[Départ])*(Tableau3[Chb]=$C67))","v":0},{"$f":"SUMPRODUCT((T$3>=Tableau3[Arrivée])*(T$3<Tableau3[Départ])*(Tableau3[Chb]=$C67))","v":0},{"$f":"SUMPRODUCT((U$3>=Tableau3[Arrivée])*(U$3<Tableau3[Départ])*(Tableau3[Chb]=$C67))","v":0},{"$f":"SUMPRODUCT((V$3>=Tableau3[Arrivée])*(V$3<Tableau3[Départ])*(Tableau3[Chb]=$C67))","v":0},{"$f":"SUMPRODUCT((W$3>=Tableau3[Arrivée])*(W$3<Tableau3[Départ])*(Tableau3[Chb]=$C67))","v":0},{"$f":"SUMPRODUCT((X$3>=Tableau3[Arrivée])*(X$3<Tableau3[Départ])*(Tableau3[Chb]=$C67))","v":0},{"$f":"SUMPRODUCT((Y$3>=Tableau3[Arrivée])*(Y$3<Tableau3[Départ])*(Tableau3[Chb]=$C67))","v":0},{"$f":"SUMPRODUCT((Z$3>=Tableau3[Arrivée])*(Z$3<Tableau3[Départ])*(Tableau3[Chb]=$C67))","v":0},{"$f":"SUMPRODUCT((AA$3>=Tableau3[Arrivée])*(AA$3<Tableau3[Départ])*(Tableau3[Chb]=$C67))","v":0},{"$f":"SUMPRODUCT((AB$3>=Tableau3[Arrivée])*(AB$3<Tableau3[Départ])*(Tableau3[Chb]=$C67))","v":0},{"$f":"SUMPRODUCT((AC$3>=Tableau3[Arrivée])*(AC$3<Tableau3[Départ])*(Tableau3[Chb]=$C67))","v":0},{"$f":"SUMPRODUCT((AD$3>=Tableau3[Arrivée])*(AD$3<Tableau3[Départ])*(Tableau3[Chb]=$C67))","v":0},{"$f":"SUMPRODUCT((AE$3>=Tableau3[Arrivée])*(AE$3<Tableau3[Départ])*(Tableau3[Chb]=$C67))","v":0},{"$f":"SUMPRODUCT((AF$3>=Tableau3[Arrivée])*(AF$3<Tableau3[Départ])*(Tableau3[Chb]=$C67))","v":0},{"$f":"SUMPRODUCT((AG$3>=Tableau3[Arrivée])*(AG$3<Tableau3[Départ])*(Tableau3[Chb]=$C67))","v":0},{"$f":"SUMPRODUCT((AH$3>=Tableau3[Arrivée])*(AH$3<Tableau3[Départ])*(Tableau3[Chb]=$C67))","v":0},0]
[null,"Twin",513,{"$f":"SUMPRODUCT((D$3>=Tableau3[Arrivée])*(D$3<Tableau3[Départ])*(Tableau3[Chb]=$C68))","v":0},{"$f":"SUMPRODUCT((E$3>=Tableau3[Arrivée])*(E$3<Tableau3[Départ])*(Tableau3[Chb]=$C68))","v":0},{"$f":"SUMPRODUCT((F$3>=Tableau3[Arrivée])*(F$3<Tableau3[Départ])*(Tableau3[Chb]=$C68))","v":0},{"$f":"SUMPRODUCT((G$3>=Tableau3[Arrivée])*(G$3<Tableau3[Départ])*(Tableau3[Chb]=$C68))","v":0},{"$f":"SUMPRODUCT((H$3>=Tableau3[Arrivée])*(H$3<Tableau3[Départ])*(Tableau3[Chb]=$C68))","v":0},{"$f":"SUMPRODUCT((I$3>=Tableau3[Arrivée])*(I$3<Tableau3[Départ])*(Tableau3[Chb]=$C68))","v":0},{"$f":"SUMPRODUCT((J$3>=Tableau3[Arrivée])*(J$3<Tableau3[Départ])*(Tableau3[Chb]=$C68))","v":0},{"$f":"SUMPRODUCT((K$3>=Tableau3[Arrivée])*(K$3<Tableau3[Départ])*(Tableau3[Chb]=$C68))","v":0},{"$f":"SUMPRODUCT((L$3>=Tableau3[Arrivée])*(L$3<Tableau3[Départ])*(Tableau3[Chb]=$C68))","v":0},{"$f":"SUMPRODUCT((M$3>=Tableau3[Arrivée])*(M$3<Tableau3[Départ])*(Tableau3[Chb]=$C68))","v":0},{"$f":"SUMPRODUCT((N$3>=Tableau3[Arrivée])*(N$3<Tableau3[Départ])*(Tableau3[Chb]=$C68))","v":0},{"$f":"SUMPRODUCT((O$3>=Tableau3[Arrivée])*(O$3<Tableau3[Départ])*(Tableau3[Chb]=$C68))","v":0},{"$f":"SUMPRODUCT((P$3>=Tableau3[Arrivée])*(P$3<Tableau3[Départ])*(Tableau3[Chb]=$C68))","v":0},{"$f":"SUMPRODUCT((Q$3>=Tableau3[Arrivée])*(Q$3<Tableau3[Départ])*(Tableau3[Chb]=$C68))","v":0},{"$f":"SUMPRODUCT((R$3>=Tableau3[Arrivée])*(R$3<Tableau3[Départ])*(Tableau3[Chb]=$C68))","v":0},{"$f":"SUMPRODUCT((S$3>=Tableau3[Arrivée])*(S$3<Tableau3[Départ])*(Tableau3[Chb]=$C68))","v":0},{"$f":"SUMPRODUCT((T$3>=Tableau3[Arrivée])*(T$3<Tableau3[Départ])*(Tableau3[Chb]=$C68))","v":0},{"$f":"SUMPRODUCT((U$3>=Tableau3[Arrivée])*(U$3<Tableau3[Départ])*(Tableau3[Chb]=$C68))","v":0},{"$f":"SUMPRODUCT((V$3>=Tableau3[Arrivée])*(V$3<Tableau3[Départ])*(Tableau3[Chb]=$C68))","v":0},{"$f":"SUMPRODUCT((W$3>=Tableau3[Arrivée])*(W$3<Tableau3[Départ])*(Tableau3[Chb]=$C68))","v":0},{"$f":"SUMPRODUCT((X$3>=Tableau3[Arrivée])*(X$3<Tableau3[Départ])*(Tableau3[Chb]=$C68))","v":0},{"$f":"SUMPRODUCT((Y$3>=Tableau3[Arrivée])*(Y$3<Tableau3[Départ])*(Tableau3[Chb]=$C68))","v":0},{"$f":"SUMPRODUCT((Z$3>=Tableau3[Arrivée])*(Z$3<Tableau3[Départ])*(Tableau3[Chb]=$C68))","v":0},{"$f":"SUMPRODUCT((AA$3>=Tableau3[Arrivée])*(AA$3<Tableau3[Départ])*(Tableau3[Chb]=$C68))","v":0},{"$f":"SUMPRODUCT((AB$3>=Tableau3[Arrivée])*(AB$3<Tableau3[Départ])*(Tableau3[Chb]=$C68))","v":0},{"$f":"SUMPRODUCT((AC$3>=Tableau3[Arrivée])*(AC$3<Tableau3[Départ])*(Tableau3[Chb]=$C68))","v":0},{"$f":"SUMPRODUCT((AD$3>=Tableau3[Arrivée])*(AD$3<Tableau3[Départ])*(Tableau3[Chb]=$C68))","v":0},{"$f":"SUMPRODUCT((AE$3>=Tableau3[Arrivée])*(AE$3<Tableau3[Départ])*(Tableau3[Chb]=$C68))","v":0},{"$f":"SUMPRODUCT((AF$3>=Tableau3[Arrivée])*(AF$3<Tableau3[Départ])*(Tableau3[Chb]=$C68))","v":0},{"$f":"SUMPRODUCT((AG$3>=Tableau3[Arrivée])*(AG$3<Tableau3[Départ])*(Tableau3[Chb]=$C68))","v":0},{"$f":"SUMPRODUCT((AH$3>=Tableau3[Arrivée])*(AH$3<Tableau3[Départ])*(Tableau3[Chb]=$C68))","v":0},0]
[null,"Total",null,{"$f":"COUNTIF(D4:D68,\">0\")","v":0},{"$f":"COUNTIF(E4:E68,\">0\")","v":0},1,1,1,1,0,0,0,0,0,0,0,0,0,0,0,0,0,0,0,0,0,0,0,0,0,0,0,0,0,{"$f":"SUM(D69:AH69)","v":4}]