{"text_format":"1","workbook":"xlsx","n_sheets":29,"sheets":["VALEURSTOCK","SYNTHESE","0","20","26","32","36","40,5","46,5","51,5","56","61","65","74","76","82","92","96","102","112","127","131","142","152","182","205","CONSO","LISTES","Feuil1"],"not_rendered":{"charts":0,"images":2,"macros":1,"external_links":0,"defined_names":13,"comments":0,"pivot_tables":0},"unopened":[],"bounds":{"document_bytes":16777216,"sheet_cells":100000,"rows_first":2000,"rows_last":500,"rows_between":2000,"halvings":0,"cell_chars":16384,"cell_head_chars":4096},"cells_cut":0,"cells_raw":0,"read":"whole","date_system":"1900"}

{"sheet":"VALEURSTOCK","index":0,"n_rows":23,"n_cols":7,"rows_kept":23,"cut":false,"hidden":false,"merged":[[6,9,9,9],[2,0,2,1],[5,0,5,1],[0,0,0,3],[7,0,8,1],[7,3,8,3]]}
["VALEUR DU STOCK MATIERE 60SC7",null,null,null,null,null,{"$f":"NOW()","v":"2019-05-29T01:51:13.710"}]
[]
["DEPOT",null,null,{"$f":"SUM('20:205'!Q4)","v":28.0261}]
[]
[]
["USINE",null,null,{"$f":"SUM('20:205'!T4)","v":15.496499999999999}]
[]
["TOTAL",null,null,{"$f":"D3+D6","v":43.522599999999997}]
[]
[]
[]
[]
[]
[]
[]
[]
[]
[]
[]
[]
[null,null,null,null,"Bonsoir je vous fais suivre un nouveau fichier avec le diamètre 102 qui est à choisir dans dans mon classeur avec le userform Gestion Matieres. "]
[null,null,null,null,"En clair je choisi le diametre dans la cpmbobox1 et l'onglet s'affiche. Ensuite je choisi le N°de coulée et le stock correspondant doit s'affiche dans la TextBox2 le Prix ht dans lbl_Kast et texbox3 ainsi que les adresses dans Textbox1 du USERFORM "]
[null,null,null,null,"Peut etre comprendrez vous cette fois ci et vous en remercie d\"avance. "]

{"sheet":"SYNTHESE","index":1,"n_rows":26,"n_cols":11,"rows_kept":26,"cut":false,"hidden":false,"merged":[[3,12,6,12]]}
[null,null,"60 SC7","SYNTHESE DES STOCKS",null,null,null,null,null,null,{"$f":"NOW()","v":"2019-05-29T01:51:13.710"}]
[]
["DIAMETRE","STOCK DEPOT","STOCK USINE","STOCK TOTAL","PRIX HT/KG","VALEUR STOCK","COMMANDE EN COURS","Nbre MOIS CONSO","CONSO MENSUELLE","CONSO DEPUIS 2002","MOIS COUVERTURE"]
[20,{"$f":"SUM('20'!P4:P13)","v":0},{"$f":"'20'!S4","v":126},{"$f":"B4+C4","v":126},{"$f":"'20'!T6","v":0},{"$f":"SUM('20'!R4:R13)+'20'!U4","v":197.69399999999999},{"$f":"IF('20'!D4>0,'20'!A4&\"   \"&'20'!B4&\"   \"&'20'!D4,\" \")","v":" "},{"$f":"((DATEDIF(\"1/1/2002\",NOW(),\"m\"))-(DATEDIF(\"1/1/2002\",NOW(),\"m\")/12))-1","v":189.66666666666666},{"$f":"J4/H4","v":72.827768014059757},{"$f":"CONSO!AM2","v":13813},{"$f":"IF(I4>0,D4/I4,\" \")","v":1.7301093173097806}]
[26,{"$f":"SUM('26'!P4:P13)","v":2754},{"$f":"'26'!S4","v":364},{"$f":"B5+C5","v":3118},{"$f":"'26'!T4","v":1.5017},{"$f":"SUM('26'!R4:R13)+'26'!U4","v":4682.3006000000005},{"$f":"IF('26'!D4>0,'26'!A4&\"   \"&'26'!B4&\"   \"&'26'!D4,\" \")","v":" "},189.66666666666666,{"$f":"J5/H5","v":79.418277680140605},{"$f":"CONSO!AM3","v":15063},39.260483746044386]
[32,{"$f":"SUM('32'!P4:P13)","v":821},{"$f":"'32'!S4","v":171},{"$f":"B6+C6","v":992},{"$f":"'32'!T7","v":0},{"$f":"SUM('32'!R4:R13)+'32'!U4","v":1485.3216},{"$f":"IF('32'!D4>0,'32'!A4&\"   \"&'32'!B4&\"   \"&'32'!D4,\" \")","v":" "},189.66666666666666,{"$f":"J6/H6","v":220.29173989455185},{"$f":"CONSO!AM4","v":41782},4.5031193655960298]
[36,{"$f":"SUM('36'!P4:P13)","v":5540},{"$f":"'36'!S4","v":832},6372,{"$f":"'36'!T4","v":1.63},{"$f":"SUM('36'!R4:R13)+'36'!U4","v":10386.359999999999},{"$f":"IF('36'!D4>0,'36'!A4&\"   \"&'36'!B4&\"   \"&'36'!D4,\" \")","v":" "},189.66666666666666,{"$f":"J7/H7","v":631.29701230228477},{"$f":"CONSO!AM5","v":119736},10.093505712567648]
[40.5,{"$f":"SUM('40,5'!P4:P13)","v":3412},{"$f":"'40,5'!S4","v":232},3644,{"$f":"'40,5'!T5","v":0},{"$f":"SUM('40,5'!R4:R13)+'40,5'!U4","v":5453.2460000000001},{"$f":"IF('40,5'!D4>0,'40,5'!A4&\"   \"&'40,5'!B4&\"   \"&'40,5'!D4,\" \")","v":" "},189.66666666666666,{"$f":"J8/H8","v":81.933216168717053},{"$f":"CONSO!AM6","v":15540},44.475246675246673]
[46.5,{"$f":"SUM('46,5'!P4:P13)","v":0},{"$f":"'46,5'!S4","v":347},347,{"$f":"'46,5'!T7","v":0},{"$f":"SUM('46,5'!R4:R13)+'46,5'!U4","v":519.66719999999998},{"$f":"IF('46,5'!D4>0,'46,5'!A4&\"   \"&'46,5'!B4&\"   \"&'46,5'!D4,\" \")","v":" "},189.66666666666666,203.7943760984183,{"$f":"CONSO!AM7","v":38653},1.702696642778913]
[51.5,{"$f":"SUM('51,5'!P4:P13)","v":965},{"$f":"'51,5'!S4","v":650},1615,{"$f":"'51,5'!T7","v":0},{"$f":"SUM('51,5'!R4:R13)+'51,5'!U4","v":2625.4579999999996},{"$f":"IF('51,5'!D5>0,'51,5'!A5&\"   \"&'51,5'!B5&\"   \"&'51,5'!D5,\" \")","v":" "},189.66666666666666,453.41652021089635,{"$f":"CONSO!AM8","v":85998},3.5618463995286707]
[56,{"$f":"SUM('56'!P4:P13)","v":2892},{"$f":"'56'!S4","v":618},3510,{"$f":"'56'!T6","v":0},{"$f":"SUM('56'!R4:R13)+'56'!U4","v":5465.07},{"$f":"IF('56'!D4>0,'56'!A4&\"   \"&'56'!B4&\"   \"&'56'!D4,\" \")","v":" "},189.66666666666666,43.275922671353257,{"$f":"CONSO!AM9","v":8208},81.107456140350862]
[61,{"$f":"SUM('61'!P4:P13)","v":2202},{"$f":"'61'!S4","v":83},2285,{"$f":"'61'!T6","v":0},{"$f":"SUM('61'!R4:R13)+'61'!U4","v":3624.01},{"$f":"IF('61'!D4>0,'61'!A4&\"   \"&'61'!B4&\"   \"&'61'!D4,\" \")","v":" "},189.66666666666666,165.29525483304042,{"$f":"CONSO!AM10","v":31351},13.823748312121889]
[65,{"$f":"SUM('65'!P4:P13)","v":3360},{"$f":"'65'!S4","v":878},4238,{"$f":"'65'!T4","v":1.4994000000000001},{"$f":"(B13+C13)*E13","v":6354.4571999999998},{"$f":"IF('65'!D4>0,'65'!A&\"   \"&'65'!B4&\"   \"&'65'!D4,\" \")","v":" "},189.66666666666666,31.618629173989458,{"$f":"CONSO!AM11","v":5997},134.03490634205991]
[74,{"$f":"SUM('74'!P4:P13)","v":2036},{"$f":"'74'!S4","v":0},2036,{"$f":"'74'!Q4","v":1.4259999999999999},{"$f":"SUM('74'!R4:R13)+'74'!U4","v":2903.3359999999998},{"$f":"IF('74'!D4>0,'74'!A4&\"   \"&'74'!B4&\"   \"&'74'!D4,\" \")","v":" "},189.66666666666666,21.026362038664324,{"$f":"CONSO!AM12","v":3988},96.830825810765631]
[76,{"$f":"SUM('76'!P4:P13)","v":1489},{"$f":"'76'!S4","v":0},1489,{"$f":"'76'!Q4","v":1.1000000000000001},1637.9,{"$f":"IF('76'!D4>0,'76'!A4&\"   \"&'76'!B4&\"   \"&'76'!D4,\" \")","v":" "},189.66666666666666,15.400702987697716,{"$f":"CONSO!AM13","v":2921},96.683898208376121]
[82,{"$f":"SUM('82'!P4:P13)","v":1353},{"$f":"'82'!S4","v":0},1353,{"$f":"'82'!Q5","v":0},{"$f":"SUM('82'!R4:R13)+'82'!U4","v":2206.7429999999999},{"$f":"IF('82'!D4>0,'82'!A4&\"   \"&'82'!B4&\"   \"&'82'!D4,\" \")","v":" "},189.66666666666666,30.869947275922673,{"$f":"CONSO!AM14","v":5855},43.829035012809562]
[92,{"$f":"SUM('92'!P4:P13)","v":1266},{"$f":"'92'!S4","v":0},1266,{"$f":"'92'!Q5","v":0},{"$f":"SUM('92'!R4:R13)+'92'!U4","v":1455.8999999999999},{"$f":"IF('92'!D4>0,'92'!A4&\"   \"&'92'!B4&\"   \"&'92'!D4,\" \")","v":" "},189.66666666666666,12.917398945518453,{"$f":"CONSO!AM15","v":2450},98.007346938775513]
[96,{"$f":"SUM('96'!P4:P13)","v":754},{"$f":"'96'!S4","v":0},754,{"$f":"'96'!Q7","v":0},{"$f":"SUM('96'!R4:R13)+'96'!U4","v":904.8},{"$f":"IF('96'!D4>0,'96'!A4&\"   \"&'96'!B4&\"   \"&'96'!D4,\" \")","v":" "},189.66666666666666,4.2864674868189807,{"$f":"CONSO!AM16","v":813},175.90241902419024]
[102,{"$f":"SUM('102'!P4:P13)","v":3944},{"$f":"'102'!S4","v":0},3944,"formule",{"$f":"SUM('102'!R4:R13)+'102'!U4","v":4582},{"$f":"IF('102'!D5>0,'102'!A5&\"   \"&'102'!B5&\"   \"&'102'!D5,\" \")","v":" "},189.66666666666666,8.2618629173989451,{"$f":"CONSO!AM17","v":1567},477.37417570729633]
[112,{"$f":"SUM('112'!P4:P13)","v":1110},{"$f":"'112'!S5","v":0},1110,{"$f":"'112'!Q5","v":0},{"$f":"SUM('112'!R4:R13)+'112'!U4","v":1332},{"$f":"IF('112'!D4>0,'112'!A4&\"   \"&'112'!B4&\"   \"&'112'!D4,\" \")","v":" "},189.66666666666666,14.741652021089632,{"$f":"CONSO!AM18","v":2796},{"$f":"IF(I20>0,D20/I20,\" \")","v":75.296852646638058}]
[127,{"$f":"SUM('127'!P4:P13)","v":1768},{"$f":"'127'!S4","v":0},1768,{"$f":"'127'!Q4","v":1.1000000000000001},{"$f":"SUM('127'!R4:R13)+'127'!U4","v":1944.8000000000002},{"$f":"IF('127'!D4>0,'127'!A4&\"   \"&'127'!B4&\"   \"&'127'!D4,\" \")","v":" "},189.66666666666666,2.5043936731107208,{"$f":"CONSO!AM19","v":475},{"$f":"IF(I21>0,D21/I21,\" \")","v":705.95929824561392}]
[131,{"$f":"SUM('131'!P4:P13)","v":185},{"$f":"'131'!S4","v":0},185,{"$f":"'131'!Q4","v":1.2},{"$f":"SUM('131'!R4:R13)+'131'!U4","v":222},{"$f":"IF('131'!D4>0,'131'!A4&\"   \"&'131'!B4&\"   \"&'131'!D4,\" \")","v":" "},189.66666666666666,0.27943760984182781,{"$f":"CONSO!AM20","v":53},{"$f":"IF(I22>0,D22/I22,\" \")","v":662.04402515723257}]
[142,{"$f":"SUM('142'!P4:P13)","v":1098},{"$f":"'142'!S5","v":0},1098,{"$f":"'142'!Q4","v":1.1000000000000001},{"$f":"SUM('142'!R4:R13)+'142'!U4","v":1207.8000000000002},{"$f":"IF('142'!D4>0,'142'!A4&\"   \"&'142'!B4&\"   \"&'142'!D4,\" \")","v":" "},189.66666666666666,4.2284710017574696,{"$f":"CONSO!AM21","v":802},{"$f":"IF(I23>0,D23/I23,\" \")","v":259.66832917705733}]
[152,{"$f":"SUM('152'!P4:P13)","v":424},{"$f":"'152'!S4","v":0},424,{"$f":"'152'!Q4","v":1.1000000000000001},{"$f":"SUM('152'!R4:R13)+'152'!U4","v":466.40000000000003},{"$f":"IF('152'!D4>0,'152'!A4&\"   \"&'152'!B4&\"   \"&'152'!D4,\" \")","v":" "},189.66666666666666,2.2987697715289985,{"$f":"CONSO!AM22","v":436},{"$f":"IF(I24>0,D24/I24,\" \")","v":184.44648318042812}]
[182,{"$f":"SUM('182'!P4:P13)","v":82},{"$f":"'182'!S5","v":0},82,{"$f":"'182'!Q4","v":1.2},{"$f":"SUM('182'!R4:R13)+'182'!U4","v":98.399999999999991},{"$f":"IF('182'!D4>0,'182'!A4&\"   \"&'182'!B4&\"   \"&'182'!D4,\" \")","v":" "},189.66666666666666,0,{"$f":"CONSO!AM23","v":0},{"$f":"IF(I22>0,D25/I25,\" \")","v":{"$error":"#DIV/0!"}}]
[205,{"$f":"SUM('205'!P4:P13)","v":1209},{"$f":"'205'!S4","v":0},1209,{"$f":"'205'!Q4","v":1.1000000000000001},{"$f":"SUM('205'!R4:R13)+'205'!U4","v":1329.9},{"$f":"IF('205'!D4>0,'205'!A4&\"   \"&'205'!B4&\"   \"&'205'!D4,\" \")","v":" "},189.66666666666666,1.7715289982425309,{"$f":"CONSO!AM24","v":336},{"$f":"IF(I26>0,D26/I26,\" \")","v":682.46130952380952}]

{"sheet":"0","index":2,"n_rows":4,"n_cols":14,"rows_kept":4,"cut":false,"hidden":false,"merged":[]}
[]
[]
[]
[null,null,null,null,null,null,null,null,null,null,null,null,null,""]

{"sheet":"20","index":3,"n_rows":13,"n_cols":21,"rows_kept":13,"cut":false,"hidden":false,"merged":[[1,0,1,4],[1,5,1,11],[1,13,1,17],[1,18,1,20]]}
["Ø20","60SC7",null,null,null,null,null,null,null,null,null,null,null,null,null,null,"Ø",20]
["COMMANDE",null,null,null,null,"RECEPTION",null,null,null,null,null,null,null,"STOCKAGE DEPOT",null,null,null,null,"STOCK USINE"]
["DATE","N°Cde","FOURNISSEUR","QUANTITE","PRIX /KG","DATE","N°Cde","FOURNISSEUR","N°BL","N° COULEE","QUANTITE","PRIX HT",null,"ADRESSES","N° COULEE","STOCK","PRIX HT/KG","VALEUR","STOCK ","PRIX HT/KG","VALEUR"]
["15/04/2013","15042013/4","OVAKO",null,"1.57","13/09/2013","15042013/4","OVAKO","351745","0-0172",3558,1.569,null,null,null,null,null,null,126,1.569,{"$f":"IFERROR(S4*T4,\"\")","v":197.69399999999999}]
["2007-02-26","26022007/4","OVAKO",null,1.48,"30/06/2007","26022007/4","OVAKO","266306","8-0584","1430",1.476]
["2007-02-26","26022007/4","OVAKO",null,1.48,"30/06/2007","26022007/4","OVAKO","264141","8-0584","4120",1.476]
["2002-07-28","TEL BARRIER","AMD",null,"1.41","01/01/2003","TEL BARRIER/1","AMD","33507","50561","1700","1.15"]
["28/07/2002","TEL BARRIER","AMD",null,"1.15","03/12/2002","TEL BARRIER/1","AMD","33048","50561","650","1.15"]
["2001-02-02","CDA20-001/1","AMD","",1.1000000000000001,"2001-07-01","CDA20-001/1","AMD","019633","ALL69631","2660","1.1"]
["21/07/1998","1264/1","AMD",null,"1.08","06/04/1999","1264/1","AMD","993371","59251","2452","1.08"]
["1997-11-28","1246/1","AMD",null,"1.08","20/03/1998","1246/1","AMD","982299","54972","2624","1.08"]
["13/07/1995","2399/1","AMD","","1.08","23/01/1996","2399/1","AMD","960173","93947",2925,"1.08"]
["01/01/1994","SECOSAR",null,null,"1.22","01/01/1994","SECOSAR",". . .","?","?",550,"1.22"]

{"sheet":"26","index":4,"n_rows":12,"n_cols":21,"rows_kept":12,"cut":false,"hidden":false,"merged":[[1,0,1,4],[1,5,1,11],[1,13,1,17],[1,18,1,20]]}
["\u009dØ26","60SC7",null,null,null,null,null,null,null,null,null,null,null,null,null,null,"Ø",26]
["COMMANDE",null,null,null,null,"RECEPTION",null,null,null,null,null,null,null,"STOCKAGE DEPOT",null,null,null,null,"STOCK USINE"]
["DATE","N°Cde","FOURNISSEUR","QUANTITE","PRIS /KG","DATE","N°Cde","FOURNISSEUR","N°BL","N° COULEE","QUANTITE","PRIX HT",null,"ADRESSES","N° DE COULEE","STOCK","PRIX HT/KG","VALEUR","STOCK ","PRIX HT/KG","VALEUR "]
["12/01/2016","1201216",null,null,"1.50","04/10/2016","1201216",null,"752164","S8241","4356",1.5017,null,"A1302 B1102 B1202 B1302","S8241",2754,1.5017,{"$f":"IFERROR(P4*Q4,\"\")","v":4135.6818000000003},364,1.5017,{"$f":"IFERROR(S4*T4,\"\")","v":546.61879999999996}]
["20/04/2012","12012012/4","OVAKO",null,"1.63","16/04/2012","12012012/4","OVAKO","332688","9-6506","5000","1.631"]
["26/02/2007","26026007/4","OVAKO",null,"1.41","30/06/2007","26022007/4","OVAKO","264141","8-0584","4835","1.406"]
["28/07/2002","TEL BARRIER","AMD",null,"1.15","03/12/2002","TEL BARRIER/1","AMD","33048","50561","3000","1.08"]
["18/11/1999","cd9901026/1","AMD",null,"1.08","16/06/2000","CD9901026/1","AMD","006181","ALL64810","2735","1.08"]
["21/07/1998","1234/1","AMD",null,"1.08","11/02/1999","1264/1","AMD","991543","58933","3002","1.08"]
["03/07/1996","0779/1","AMD",null,"1.08","12/12/1996","0779/1","AMD","963053","93947","3100","1.08"]
["13/07/1995","2399/1","AMD",null,"1.08","23/01/1996","2399/1","AMD","960173","93947","2311","1.08"]
["01/01/1994","secosar","SECOSAR",null,"1.22","01/01/1994","SECOSAR","SECOSAR","-","-","470","1.22"]

{"sheet":"32","index":5,"n_rows":27,"n_cols":21,"rows_kept":27,"cut":false,"hidden":false,"merged":[[1,0,1,4],[1,5,1,11],[1,13,1,17],[1,18,1,20]]}
["Ø32","60SC7",null,null,null,null,null,null,null,null,null,null,null,null,null,null,"Ø",32]
["COMMANDE",null,null,null,null,"RECEPTION",null,null,null,null,null,null,null,"STOCKAGE DEPOT",null,null,null,null,"STOCK USINE"]
["DATE","N°Cde","FOURNISSEUR","QUANTITE","PRIS /KG","DATE","N°Cde","FOURNISSEUR","N°BL","N° COULEE","QUANTITE","PRIX HT",null,"ADRESSES","N° DE COULEE","STOCK","PRIX HT/KG","VALEUR","STOCK ","PRIX HT/KG","VALEUR "]
["12/01/2016","12012016",null,null,"1,50","14/11/2016","12012016",null,"757783","S8241","4386",1.4973000000000001,null," A0503","S8241",821,1.4973000000000001,{"$f":"IFERROR(P4*Q4,\"\")","v":1229.2833000000001},171,1.4973000000000001,{"$f":"IFERROR(S4*T4,\"\")","v":256.03829999999999}]
["29/08/2015","29082015/4","OVAKO             4  ","4126","1,57","17/11/2015","29082015/4","OVAKO          4  ","582055","-","4126",1.5649999999999999]
["12/11/2013","12112014/4","OVAKO             4  ","4908","1,58","07/02/2014","12112014/4","OVAKO          4  ","356792","0-2213","4908",1.577]
["25/05/2010","25052010/4","OVAKO             4  ","5142","1,59","25/11/2010","25052010/4","OVAKO          4  ","312920","9-1654","5142",1.5940000000000001]
["02/02/2009","02022009/1","AMD                 1","3550","0.88","26/02/2009","02022009/1","AMD              1","91941","68743","3550","0,88"]
["10/01/2008","10012008/4","OVAKO             4  ","4900","1,62","16/05/2008","10012008/4","OVAKO          4  ","280303","8-4077","4900",1.6220000000000001]
["2003-09-01","7102003",null,"3390",1.21,"27/04/2005","7102003",". . .","55391","111706","3390","1,21"]
["17/02/2003","-",". . .","2150","1,15","13/11/2003","17022003",null,"041866","110027","2150","1,15"]
["17/02/2003","17022003",null,"1100","1,15","13/11/2003","17022003",". . .","041866","50561","1100","1,15"]
["26/06/2001","CDA20-003/1","AMD                  1",2920,"1,10","28/01/2002","CDA20-003/1","AMD              1","024428","77486","2920","1,10"]
["26/06/2001","CDA20-004/1","AMD                  1","1630","1,10","24/09/2001","CDA20-004/1","AMD              1","020712","AL69631","1630","1,10"]
["02/02/2001","CDA20-001/1","AMD                  1","2800","1,10","2001-09-26","CDA20-001/1","AMD              1",20824,"ALL69631",2800,"1,10"]
["02/02/2001","CDA20-001/1","AMD                  1","2218","1,10","29/05/2001","CDA20-001/1","AMD              1","017375","ALL66858","2218","1,10"]
["21/07/1998","1264/1","AMD                  1","2656","1,08","10/11/1998","1264/1","AMD              1","988614","56020","2656","1,08"]
[null,null,null,null,"1,08","08/07/1999",null,null,"996713","59834","1867","1,08"]
["17/11/1998","1281/1","AMD                  1","1280","1,08","09/06/1999","1281/1","AMD              1","995588","59834","1280","1,08"]
["28/11/1997","1246/1","AMD                  1","2973","1,08","20/03/1998","1246/1","AMD              1","982299","54787","2973","1,08"]
["03/09/1997","1229/1","AMD                  1","3436","1,08","29/01/1998","1229/1","AMD              1","980775","53525","3436","1,08"]
["12/11/1996","1161/1","AMD                  1","3050","1,08","17/03/1997","1161/1","AMD              1","971979","98406","3050","1,08"]
["03/07/1996","0779/1","AMD                  1","3278","1,08","29/11/1996","0779/1","AMD              1","966451","64842","3278","1,08"]
["30/01/1996","1146/1","AMD                  1","2646","1,08","1996-06-05","1146/1","AMD              1","962875","64842","2646","1,08"]
["09/06/1995","2394/1","AMD                  1","2386","1,08","13/11/1995","2394/1","AMD              1","29","-","2386","1.08"]
["01/01/1995","SECOSAR",". . .",560,1.1000000000000001,"01/01/1995","-",null,"-","-","560","1,10"]
["01/01/1994","SECOSAR",null,"2540",1.22,"01/01/1994","","SECOSAR       2 ","-","-","2540","1,22"]

{"sheet":"36","index":6,"n_rows":50,"n_cols":21,"rows_kept":50,"cut":false,"hidden":false,"merged":[[1,0,1,4],[1,5,1,11],[1,13,1,17],[1,18,1,20]]}
["Ø36","60SC7",null,null,null,null,null,null,null,null,null,null,null,null,null,null,"Ø",36]
["COMMANDE",null,null,null,null,"RECEPTION",null,null,null,null,null,null,null,"STOCKAGE DEPOT",null,null,null,null,"STOCK USINE"]
["DATE","N°Cde","FOURNISSEUR","QUANTITE","PRIX /KG","DATE","N°Cde","FOURNISSEUR","N°BL","N° COULEE","QUANTITE","PRIX HT",null,"ADRESSES","N° DE COULEE","STOCK","PRIX HT/KG","VALEUR","STOCK ","PRIX HT/KG","VALEUR"]
["2017-08-11","11082018/4","OVAKO        4",null,"1.63","2018-12-03","11082018/4","OVAKO        4","44914","H3653","6459","1.63",null,"A0401 A0501 A0701 A1001 A0902 A1002 ","H3653",5540,1.63,{"$f":"IFERROR(P4*Q4,\"\")","v":9030.1999999999989},832,1.63,{"$f":"IFERROR(S4*T4,\"\")","v":1356.1599999999999}]
["04/07/2017","4072017",null,null,"1.62","08/11/2017","4072017",null,"21716","H2024","6468","1.6155"]
["12/01/2016","12012016",null,null,"1.48","23/09/2016","12012016",null,"750857","S8241","8624","1.4764"]
["27/07/2015","21072015/4","OVAKO        4",null,"1.57","14/10/2015","21072015/4","OVAKO        4","580784",". . .","5336","1.565"]
["29/08/2014","29082014/4","OVAKO        4",null,"1.55","07/01/2015","29082014/4","OVAKO        4","57001","0-2213-2","6238","1.547"]
["22/05/2014",null,"OVAKO        4",null,"1.57","22/05/2014","/4","OVAKO        4","360439","0-2213","6585","1.568"]
["22/05/2014",null,"OVAKO        4",null,"1.57","10/10/2013","/4","OVAKO        4","352674","9-9383","4736","1.567"]
["20/04/20012","13012012/4","OVAKO        4",null,"1.63","16/04/2012","13012012/4","OVAKO        4","332688","9-6506","11330","1.631"]
["25/05/2010","250520104/4","OVAKO        4",null,"1.68","25/02/2011","25/05/2010/4","OVAKO        4","316817","9-2379","2850","1.68"]
["25/05/2010","25052010/4","OVAKO        4",null,"1.59","25/11/2010","25052010/4","OVAKO        4","312920","9-1654","6853","1.594"]
["02/02/2009","02202009/4","OVAKO        4",null,"1.43","14/05/2009","02022009/4","OVAKO        4","294122","8-8696","8756","1.426"]
["10/01/2008","10012008/4","OVAKO        4",null,"1.62","16/05/2008","10012008/4","OVAKO        4","280303","8-4077",5080,"1.622"]
["10/01/2008","10012008/4","OVAKO        4",null,"1.62","16/05/2008","10012008/4","OVAKO        4","280303","8-4077","3820","1.622"]
["23/04/2008","220408/3","THYSSENS   3",null,"2.40","23/04/2008","230408/3","THYSSENS   3",". . .",". . .","250","2.40"]
["06/02/2007","026022007/4","OVAKO        4",null,"1.39","07/09/2007","026022007/4","OVAKO        4","266306","8-0584","950","1.391"]
["26/02/2007","026022007/4","OVAKO        4",null,"1.39","16/07/2007","026022007/4","OVAKO        4","264141","8-0584","4000","1.39"]
["06/04/2006","COURRIER6/4","OVAKO        4",null,"1.21","05/07/2006","COURRIER 6/4","OVAKO        4","67136","112114","1840","1.21"]
["06/04/2006","COURIER 6/4",null,null,"1.21","22/06/2006","COURRIER 6/4","OVAKO        4","66743","68743","4710","1.21"]
["12/12/2005","TEL/1","AMD             1",null,"1.80","22/12/2005","TEL/1","AMD             1","61814","132662","3410","1.80"]
["07/10/2003","7102003",null,null,"1.21","27/04/2005","7102003",". . .","55391","111709","10110","1.21"]
["01/12/2004","V/BARRIER",null,null,"2.18","13/01/2005","V/BARRIER",null,"52415","174088","1554","2.18"]
["01/09/2004","V/BARRIER",null,null,"1.15","01/10/2004","V/BARRIER",null,"50196",". . . ","1062","1.15"]
["01/09/2004","V/BARRIER",". . .",null,"1.15","01/10/2004","V/BARRIER",null,"50196",". . .","547","1.15"]
["17/02/2003","17022003",null,null,"1.15","13/11/2003","17022003",". . .","041866","50561","2400","1.15"]
["17/02/2003","17022003","THYSSENS   3",null,"1.15","23/07/2003","17022003",null,"39294","50561","3490","1.15"]
["28/07/2002","TEL BARRIER/1","AMD             1",null,"1.15","01/01/2003","TEL BARRIER/1","AMD             1","33507","50561","1000","1.15"]
["28/07/2002","TEL/BARRIER/1","AMD             1",null,"1.15","03/12/2002","TEL BARRIER/1","AMD             1","33048","50561","2000","1.15"]
["28/06/2001","CDA20-004/1","AMD             1",null,"1.10","28/01/2002","CDA20-004/1","AMD             1","24428","77486","400","1.10"]
["28/06/2001","CDA20-003/1","AMD             1",null,"1.10","20/12/2001","CDA20-003/1","AMD             1","023548","77486","5000","1.10"]
[null,null,null,null,"1.10","26/09/2001",null,". . .","020824","ALL70515","2300","1.10"]
["02/02/2001","CDA20-001/1","AMD             1",null,"1.10","24/09/2001","CDA20-001/1","AMD             1","020712","ALL70515","1615","1.10"]
["02/02/2001","CDA20-001/1","AMD             1",null,"1.10","29/05/2001","CDA20-001/1","AMD             1","017375","ALL67376","2660","1.10"]
["18/11/1999","9901029/1","AMD             1",null,"1.08","17/10/2000","9901029/1","AMD             1","009990","ALL66009","3510","1.08"]
["18/11/1999","9901029/1","AMD             1",null,"1.08","16/06/2000","9901029/1","AMD             1","006181","ALL64810","3170","1.08"]
["12/02/1999","9901003/1","AMD             1",null,"1.08","1999-06-09","9901003/1","AMD             1","995587","59822","3125","1.08"]
["17/11/1998","1281/1","AMD             1",null,"1.08","04/06/1999","1281/1","AMD             1","994393","59552","3115","1.08"]
[null,null,null,null,"1.08","05/01/1999","1264/1","AMD             1","990141","54948","1375","1.08"]
["21/07/1998","1264/1","AMD             1",null,"1.08","16/12/1998","1264/1","AMD             1","990141","56020","1209","1.08"]
["21/07/1998","1264/1","AMD      ",null,"1.08","16/12/1998","1264/1","AMD             1","989818","56020","3165","1.08"]
["28/11/1997","1246/1","AMD      ",null,"1.08","20/03/1998","1246/1","AMD             1","982015","54787","3492","1.08"]
["03/09/1997","1229/1","AMD      ",null,"1.08","05/12/1997","1229/1","AMD             1","978491","53525","3100","1.08"]
["22/11/1996","1164/2","SECOSAR      ",null,1.43,"25/11/1996","1164/2","SECOSAR     2 ","202779","225528","254","1.43"]
["12/11/1996","1161/1","AMD      ",null,"1.08","05/02/1997","1161/1","AMD             1","970888","98046","2745","1.08"]
["03/07/1996","0779/1","AMD      ",null,"1.08","17/11/1996","0779/1","AMD             1","965954","75929","3298","1.08"]
["13/07/1995","2399/1","AMD      ",null,"1.08","23/01/1996","2399/1","AMD             1","960173","93947","3000","1.08"]
["01/01/1995","SECOSAR",". . . .",null,"1.10","01/01/1995","SECOSAR",null,". . . ",". . . .","200","1.10"]
["01/01/1994","SECOSAR",". . .",null,"1.20","1994-01-01","SECOSAR",". . .",". . . ",". . . ","1210","1.20"]

{"sheet":"40,5","index":7,"n_rows":12,"n_cols":21,"rows_kept":12,"cut":false,"hidden":false,"merged":[[1,0,1,4],[1,5,1,11],[1,13,1,17],[1,18,1,20]]}
["Ø40,5","60SC7",null,null,null,null,null,null,null,null,null,null,null,null,null,null,"Ø",40.5]
["COMMANDE",null,null,null,null,"RECEPTION",null,null,null,null,null,null,null,"STOCKAGE DEPOT",null,null,null,null,"STOCK USINE"]
["DATE","N°Cde","FOURNISSEUR","QUANTITE","PRIX /KG","DATE","N°Cde","FOURNISSEUR","N°BL","N° COULEE","QUANTITE","PRIX HT",null,"ADRESSES","N° DE COULEE","STOCK","PRIX HT/KG","VALEUR","STOCK ","PRIX HT/KG","VALEUR"]
["12/01/2016","12012016",". . .",null,"1.4965","14/11/2016","12012016",". . .","757783","S9403","4728","1.4965",null,"A1303 B0702 B0802 B1002","S9403",3412,1.4964999999999999,{"$f":"IFERROR(P4*Q4,\"\")","v":5106.058},232,1.4964999999999999,{"$f":"IFERROR(S4*T4,\"\")","v":347.18799999999999}]
["28/11/2013","/4","OVAKO        4","4620","1.5670","28/11/2013","/4","OVAKO        4","354515","0-1318","4620",1.5669999999999999]
["02/02/2009","02022009/4","OVAKO        4","4952","1.4260","14/05/2009","02022009/4","OVAKO        4","294122","8-8696","4952","1.426"]
["14/05/2008","1452008/3","THYSSENS   3","300","3.00","14/05/2008","14052008/3","THYSSENS   3",null,null,"300","3.00"]
["13/01/2005","V/BARRIER",null,"2096","2.18","13/01/2005","V/BARRIER",null,"52415","175500","2096","2.18"]
[" 17/02/2003","17022003",null,"  700","1.15","13/11/2003","17022003",null,"041866","130511","700","1.15"]
["17/02/2003","17022003",null,"1100","1.15","2003-11-13","17022003",". . .","0041866","50561","1100","1.15"]
["03/07/1996","0779/1","AMD             1","2862","1.08","28/01/1997","0779/1","AMD             1","970665","75930","2862","1.08"]
["23/02/1996","1147/1","AMD             1","2244","1.08","1996-05-28","1147/1","AMD             1",962673,95062,2244,1.08]

{"sheet":"46,5","index":8,"n_rows":25,"n_cols":21,"rows_kept":25,"cut":false,"hidden":false,"merged":[[1,0,1,4],[1,5,1,11],[1,13,1,17],[1,18,1,20],[0,18,0,19]]}
["Ø46,5","60SC7",null,null,null,null,null,null,null,null,null,null,null,null,"N° DE COULEE",null,null,"Ø",46.5]
["COMMANDE",null,null,null,null,"RECEPTION",null,null,null,null,null,null,null,"STOCKAGE DEPOT",null,null,null,null,"STOCK USINE"]
["DATE","N°Cde","FOURNISSEUR","QUANTITE","PRIS /KG","DATE","N°Cde","FOURNISSEUR","N°BL","N° COULEE","QUANTITE","PRIX HT",null,"ADRESSES","N° DE COULEE","STOCK","PRIX HT/KG","VALEUR","STOCK ","PRIX HT/KG","VALEUR"]
["12/01/2016","12012016","…",null,"1.4976","14/11/2016","12012016","…","757783","S9403",4383,"1.4976",null,null,null,null,null,null,347,1.4976,{"$f":"IFERROR(S4*T4,\"\")","v":519.66719999999998}]
["29/08/2014","15042014/4","OVAKO        4","5424","1.5310","25/06/2015","29082014/4","OVAKO        4","577186","","5424","1.5310"]
["15/04/2013","15042013/4","OVAKO        4","5020","1.5690","13/09/2013","15042013/4","OVAKO        4","351745","9-9383","5020","1.5690"]
["10/10/2012","10102012/5","SOFYMETAL  5","2860","1.50","10/10/2012","101020012/5","SOFYMETAL  5","2033736-02","SY16392","2860","1.50"]
["25/05/2010","25052010/4","OVAKO        4","4400","1.4840","25/11/2010","25052010/4","OVAKO        4","312920","9-1654","4400","1.4840"]
["26/02/2007","26022007/4","OVAKO        4","4765","1.3910","16/07/2007","26022007/4","OVAKO        4","264141","8-1237","4765","1.3910"]
["01/08/2006","1082006,2/1",null,"1060","1.40","06/09/2006","1082006,2/1","PB FENTE LOT 41","65173","132662","1060","1.40"]
["01/08/2006","1082006,2/1",null,"3160","1.40","06/09/2006","1082006,2/1","AMD             1","68173","68743","3160","1.40"]
["06/09/2005","6092005/1",null,"1190","1.80","06/10/2005","6092005/1","AMD             1","59719","132503","1190","1.80"]
["26/10/2001","CDA202-003",null,"2000","1.10","28/01/2002","CDA202-003",null,"024428","77486","2000","1.10"]
["26/06/2001","CDA202-003",null,"5950","1.10","20/12/2001","CDA202-003",". . .","023548","77486","5950","1.10"]
["06/10/1999","9901024",null,"3158","1.08","30/03/2000","9901024",null,"003393",". . .","3158","1.08"]
["06/10/1999","9901024",null,"3684","1.08","17/01/2000","9901024",null,"000520","59525","3684","1.08"]
["04/06/1999",null,null,"1250","1.08","01/06/1999",null,null,"994393","59822","1250","1.08"]
["17/11/1998","1281",null,"1187","1.08","04/06/1999","1281",null,"994393","59822","1187","1.08"]
["17/11/1998","1281",null,"3530","1.08","15/04/1999","1281",null,"993760","59834","3530","1.08"]
["28/11/1997","1246",null,"3570","1.08","11/03/1998","1246",null,"982015","66821","3570","1.08"]
["03/09/1997","1229",null,"3460","1.08","19/01/1998","1229",null,"980450","53525","3460","1.08"]
["30/01/1996","1146",null,"3142","1.08","05/06/1996"," 1146",null,"962875","64842","3142","1.08"]
["27/10/1995","1140",null,"3056","1.08","22/07/1996","1140",null,"9716","94796","3056","1.08"]
["01/01/1995","SECOSAR","SECOSAR     2 ","245","1.10","01/01/1995","SECOSAR","SECOSAR     2 ",null,null,"245","1.10"]
["01/01/1994","SECOSAR","SECOSAR     2 ","310","1.20","01/01/1994","SECOSAR","SECOSAR     2 ",null,null,"310","1.20"]

{"sheet":"51,5","index":9,"n_rows":75,"n_cols":21,"rows_kept":75,"cut":false,"hidden":false,"merged":[[1,0,1,4],[1,5,1,11],[1,13,1,17],[1,18,1,20]]}
["Ø51,5","60SC7",null,null,null,null,null,null,null,null,null,null,null,null,null,null,"Ø",51.5]
["COMMANDE",null,null,null,null,"RECEPTION",null,null,null,null,null,null,null,"STOCKAGE DEPOT",null,null,null,null,"STOCK USINE"]
["DATE","N°Cde","FOURNISSEUR","QUANTITE","PRIS /KG","DATE","N°Cde","FOURNISSEUR","N°BL","N° COULEE","QUANTITE","PRIX HT",null,"ADRESSES","N° DE COULEE","STOCK","PRIX HT/KG","VALEUR","STOCK ","PRIX HT/KG","VALEUR"]
["11/08/2018","11082018","OVAKO        4","3957",1.6012,"01/02/2019","11082019","OVAKO        4","47895","H2024","3957",1.6012,null,"A0301 ","H2024",965,1.6012,{"$f":"IFERROR(P4*Q4,\"\")","v":1545.1579999999999},650,1.6619999999999999,{"$f":"IFERROR(S4*T4,\"\")","v":1080.3}]
["07/07/2017","04072017/4","OVAKO        4",null,1.6619999999999999,"15/02/2018","04072017/4","OVAKO        4","819061","H2024","5523","1.662"]
["12/01/2016","12012016",". . .","5844","1.4763","27/09/2016","12012016",null,"751092","S9403","5844","1.4763"]
["29/08/2014","29082014/4","OVAKO        4","6355","1.5141","2015-02-18","29082014/4","OVAKO        4","571978",". . . ","6355","1.541"]
[null,"/4","OVAKO        4","5631","1.60","01/07/2014","/4","OVAKO        4","361590","0-2213","5631","1.60"]
["20/04/2012","13012012/4","OVAKO        4","6540","1.631","16/04/2012","13012012/4","OVAKO        4","332688","9-6506","6540","1.631"]
["25/05/2010","25052010/4","OVAKO        4","11508","1.594","19/11/2010","25052010/4","OVAKO        4","312487","9-1654","11508","1.594"]
["02/02/2009","02022009/4","OVAKO        4","5863","1.426","14/05/2009","02022009/4","OVAKO        4","294122","8-8651","5863","1.426"]
["10/01/2008","10012008/4","OVAKO        4","5280","1.622","16/05/2008","10012008/4","OVAKO        4","280303","8-4077","5280","1.622"]
["26/02/2007","26022007/4","OVAKO        4","7560","1.3910","16/07/2007","26022007/4","OVAKO        4","264141","8-1237","7560","1.3910"]
["01/08/2006","1082006/1","AMD             1","6490","1.70","06/09/2006","1082006/1","AMD             1","68174","68743","6490","1.70"]
["06/09/2005","6092005",null,"3650","1.80","06/10/2005","6092005",null,"59719","132503","3650","1.80"]
["07/10/2003","7102003",". . .","800","1.21","27/04/2005","7102003",null,"55391","111706","800","1.21"]
["17/02/2003","17022003",null,"3500","1.15","13/11/2003","17022003",null,"041866","130341","3500","1.15"]
["27/06/2001","CDA20-004/1","AMD             1","3000","1.10","28/01/2002","CDA20-004/1","AMD             1","024428","77486","3000","1.10"]
["26/06/2001","CDA20-003/1","AMD             1","4600","1.10","20/12/2001","CDA20-003/1","AMD             1","023548","77486","4600","1.10"]
["15/02/2000","CD9901038/1","AMD             1","3430","1.08","17/10/2000","CD9901038/1","AMD             1","009989","ALL64026","3430","1.0824"]
["15/02/2000","CD9901038/1","AMD             1","3277","1.08","17/10/2000","CD9901038/1","AMD             1","009989","ALL64026","3277","1.0824"]
["17/11/1998","1281/1","AMD             1",6024,"1.08","15/04/1999","1281/1","AMD             1","994172","59834","6024","1.0824"]
["17/11/1998","1281/1","AMD             1","2210","1.08","15/04/1999","1281/1","AMD             1","993760","59834","2210","1.0824"]
["21/0/1998","1264/1","AMD             1","2167","1.08","05/01/1999","1264/1","AMD             1","990141","56020","2167","1.0824"]
["28/11/1997","1246/1","AMD             1","3665","1.08","11/05/1997","1246/1","AMD             1","983696","54782","3665","1.0824"]
["28/11/1997","1246/1","AMD             1","3615","1.08","20/03/1998","1246/1","AMD             1","982299","54782","3615","1.0824"]
["28/11/1997","1246/1","AMD             1","4480","1.08","11/03/1998","1246/1","AMD             1","982015","54782","4480","1.0824"]
["1997-09-03","1229/1","AMD             1","3100","1.08","05/12/1997","1229/1","AMD             1","978491","53525","3100","1.0824"]
["03/07/1996","0779/1","AMD             1","3376","1.08","28/01/1997","0779/1","AMD             1","970665","75930","3376","1.0824"]
["03/07/1996","0779/1","AMD             1","4002","1.08","07/11/1996","0779/1","AMD             1","965955","93694","4002","1.0824"]
["09/06/1995","2394/1","AMD             1","2542","1.0823","18/10/1995","2394/1","AMD             1","13","91974","2642","1.0824"]
["01/01/1995","1138/2","SECOSAR     2 ","1100","1.10","01/01/1995","1138/2","SECOSAR     2 ",". . . ",". . . ","1100","1.10"]
[]
[]
[]
[]
[]
[]
[]
[]
[]
[]
[]
[]
[]
[]
[]
[]
[]
[]
[]
[]
[]
[]
[]
[]
[]
[]
[]
[]
[]
[]
[]
[]
[]
[]
[null,null,null,null,null,null,null,null,null,null,null,null,null,null,null,1.0824]
[]
[]
[null,null,null,null,null,null,null,null,null,null,null,null,null,null,null,{"$f":"4331.72/4002","v":1.0823888055972015}]
[]
[]
[null,null,null,null,null,null,null,null,null,null,null,null,null,null,null,{"$f":"2859.67/2642","v":1.0823883421650264}]
[]
[null,null,null,null,null,null,null,null,null,null,null,null,null,null,null,{"$f":"6520.3/6024","v":1.0823871181938911}]

{"sheet":"56","index":10,"n_rows":9,"n_cols":21,"rows_kept":9,"cut":false,"hidden":false,"merged":[[1,0,1,4],[1,5,1,11],[1,13,1,17],[1,18,1,20]]}
["Ø56","60SC7",null,null,null,null,null,null,null,null,null,null,null,null,null,null,"Ø",56]
["COMMANDE",null,null,null,null,"RECEPTION",null,null,null,null,null,null,null,"STOCKAGE DEPOT",null,null,null,null,"STOCK USINE"]
["DATE","N°Cde","FOURNISSEUR","QUANTITE","PRIS /KG","DATE","N°Cde","FOURNISSEUR","N°BL","N° COULEE","QUANTITE","PRIX HT",null,"ADRESSES","N° DE COULEE","STOCK","PRIX HT/KG","VALEUR","STOCK ","PRIX HT/KG","VALEUR"]
["12/11/2014","?",null,null,1.5569999999999999,"12/11/2014","?",null,"480977","?","5464","1.557",null," B0701 B0901 B1001","?",2892,1.5569999999999999,{"$f":"IFERROR(P4*Q4,\"\")","v":4502.8440000000001},618,1.5569999999999999,{"$f":"IFERROR(S4*T4,\"\")","v":962.226}]
["02/02/2009","02022009/4","OVAKO        4","5000",1.4259999999999999,"2009-05-06","02022009/4","OVAKO        4",293875,"8651-08-01",3995,1.4259999999999999]
["08/03/2000","scs",null,"76","0","17/10/2000","SCS",null,". . .",". . .","76","0"]
["08/03/2000","cd9901039/1","AMD             1","3015","1.10","17/10/2000","CD9901039/1","AMD             1","009991","22821","3015","1.10"]
["14/11/1996","1162/2","SECOSAR     2 ","1006","1.20","26/03/1997","1162/2","SECOSAR      2 ","207580","02860","1006","1.20"]
["08/07/1996","783/2","SECOSAR     2 ","384","0.91","15/07/1996","783/2","SECOSAR      2 ","198062","218517","384","0.91"]

{"sheet":"61","index":11,"n_rows":13,"n_cols":21,"rows_kept":13,"cut":false,"hidden":false,"merged":[[1,0,1,4],[1,5,1,11],[1,13,1,17],[1,18,1,20]]}
["Ø61","60SC7",null,null,null,null,null,null,null,null,null,null,null,null,null,null,"Ø",61]
["COMMANDE",null,null,null,null,"RECEPTION",null,null,null,null,null,null,null,"STOCKAGE DEPOT",null,null,null,null,"STOCK USINE"]
["DATE","N°Cde","FOURNISSEUR","QUANTITE","PRIS /KG","DATE","N°Cde","FOURNISSEUR","N°BL","N° COULEE","QUANTITE","PRIX HT",null,"ADRESSES","N° DE COULEE","STOCK","PRIX HT/KG","VALEUR","STOCK ","PRIX HT/KG","VALEUR"]
["19/04/2017","1.9E+07",null,null,"1.5860","03/11/2017","1.9E+07",null,"21452","H2024","5364","1.5860",null," A0801 A0602 A0702","H2024",2202,1.5860000000000001,{"$f":"IFERROR(P4*Q4,\"\")","v":3492.3720000000003},83,1.5860000000000001,{"$f":"IFERROR(S4*T4,\"\")","v":131.63800000000001}]
["01/03/2014","/4","OVAKO        4","3328","1.5590","30/09/2014","/4","OVAKO        4","479162",". . .","3328","1.5590"]
["01/01/2014","/4","OVAKO        4","4692","1.57","22/04/2014","/4","OVAKO        4","359344","0-2213","4692","1.57"]
["02/02/2009","02022009/4","OVAKO        4","6692","1.426","06/05/2009","02022009/4","OVAKO        4","293875","8-8651","6692","1.426"]
["10/01/2008","10012008/4","OVAKO        4","4230","1.622","16/05/2008","10012008/4","OVAKO        4","280303","8-4077","4230","1.622"]
["26/06/2001","CDA20-002/1","AMD             1","3350","1.10","28/01/2002","CDA20-003/1","AMD             1","024428","77486","3350","1.10"]
["26/06/2001","CDA20-003/1","AMD             1","3850","1.10","20/12/2001","CDA20-003/1","AMD             1","023548","77486","3850","1.10"]
["18/11/1999","9901026/1","AMD             1","2990","1.08","17/10/2000","9901026/1","AMD             1","009988","23132","2990","1.08"]
["08/07/1996","783/2","SECOSAR     2 ","2666","1.20","24/03/1997","783/2","SECOSAR     2 ","6988","76194","2666","1.20"]
["01/01/1995","1138/2","SECOSAR     2 ","755","1.10","01/01/1995","1138/2","SECOSAR     2 ",". . .",". . .","755","1.10"]

{"sheet":"65","index":12,"n_rows":9,"n_cols":21,"rows_kept":9,"cut":false,"hidden":false,"merged":[[1,0,1,4],[1,5,1,11],[1,13,1,17],[1,18,1,20]]}
["Ø65","60SC7",null,null,null,null,null,null,null,null,null,null,null,null,null,null,"Ø",65]
["COMMANDE",null,null,null,null,"RECEPTION",null,null,null,null,null,null,null,"STOCKAGE DEPOT",null,null,null,null,"STOCK USINE"]
["DATE","N°Cde","FOURNISSEUR","QUANTITE","PRIS /KG","DATE","N°Cde","FOURNISSEUR","N°BL","N° COULEE","QUANTITE","PRIX HT",null,"ADRESSES","N° DE COULEE","STOCK","PRIX HT/KG","VALEUR","STOCK ","PRIX HT/KG","VALEUR"]
["12/01/2016","12012016",null,null,"1.4994","05/10/2016","12012016",null,"752425","S9403","4302","1.4994",null,"A1101 A1201 A1301 A1202",59403,3360,1.4994000000000001,{"$f":"IFERROR(P4*Q4,\"\")","v":5037.9840000000004},878,1.4994000000000001,{"$f":"IFERROR(S4*T4,\"\")","v":1316.4732000000001}]
["10/01/2008/4","10012008/4","OVAKO        4","2920","1.6220","16/05/2008","10012008/4","OVAKO        4","009991","8-4077",2920,1.6220000000000001]
["08/03/2000","CD9901039/1","AMD             1","3013","1.10","17/10/2000","CD9901039/1","AMD             1","009991","23132",3013,"1.10"]
["08/07/1996","783/2","SECOSAR     2 ","2642","1.20","24/03/1997","SECOSAR","SECOSAR     2 ","203669","76194","2642","1.20"]
["01/01/1995","1138/2","SECOSAR     2 ","255","1.10","01/01/1995","1138/2","SECOSAR     2 ",". . .",". . .","255","1.10"]
["01/01/1994","SECOSAR","SECOSAR     2 ","517","1.20","01/01/1994","SECOSAR","SECOSAR     2 ",". . . ",". . . ","517","1.20"]

{"sheet":"74","index":13,"n_rows":4,"n_cols":21,"rows_kept":4,"cut":false,"hidden":false,"merged":[[1,0,1,4],[1,5,1,11],[1,13,1,17],[1,18,1,20]]}
[74,"60SC7",null,null,null,null,null,null,null,null,null,null,null,null,null,null,null,"Ø",74]
["COMMANDE",null,null,null,null,"RECEPTION",null,null,null,null,null,null,null,"STOCKAGE DEPOT",null,null,null,null,"STOCK USINE"]
["DATE","N°Cde","FOURNISSEUR","QUANTITE","PRIS /KG","DATE","N°Cde","FOURNISSEUR","N°BL","N° COULEE","QUANTITE","PRIX HT",null,"ADRESSES","N° DE COULEE","STOCK","PRIX HT/KG","VALEUR","STOCK ","PRIX HT/KG","VALEUR"]
["02/02/2009","02022009/4","OVAKO        4",null,"1.43","06/05/2009","02022009/4","OVAKO        4","293875","8-8651","6024",1.4259999999999999,null,"E4 7 barres Ø74 lg 3.03 (102 kg) 714 kg","8-8651",2036,1.4259999999999999,{"$f":"IFERROR(P4*Q4,\"\")","v":2903.3359999999998}]

{"sheet":"76","index":14,"n_rows":7,"n_cols":21,"rows_kept":7,"cut":false,"hidden":false,"merged":[[1,0,1,4],[1,5,1,11],[1,13,1,17],[1,18,1,20]]}
["Ø76","60SC7",null,null,null,null,null,null,null,null,null,null,null,null,null,null,"Ø",76]
["COMMANDE",null,null,null,null,"RECEPTION",null,null,null,null,null,null,null,"STOCKAGE DEPOT",null,null,null,null,"STOCK USINE"]
["DATE","N°Cde","FOURNISSEUR","QUANTITE","PRIS /KG","DATE","N°Cde","FOURNISSEUR","N°BL","N° COULEE","QUANTITE","PRIX HT",null,"ADRESSES","N° DE COULEE","STOCK","PRIX HT/KG","VALEUR","STOCK ","PRIX HT/KG","VALEUR"]
["08/03/2000","CD9901039/2","SECOSAR     2 ",null,"1.10","17/10/2000","CD9901039/1","AMD             1","009991","74730","4410","1.10",null,"F3 14 barres Ø76 lg2,92(104kg) 1456 kg D1 33KG",74730,1489,1.1000000000000001,{"$f":"IFERROR(P4*Q4,\"\")","v":1637.9}]
["14/11/1996","1162/2","SECOSAR     2 ","1530","1.20","26/03/1997","1162/2","SECOSAR     2 ","207580","02860","1530","1.20"]
["08/07/1996","783/2","SECOSAR     2 ","362","1.07","15/07/1996","783/2","SECOSAR     2 ","198062","904356","362","1.07"]
["01/01/1995","1138/2","SECOSAR     2 ","1100","1.10","01/01/1995","1138/2","SECOSAR     2 ",". . ",". . .","1100","1.10"]

{"sheet":"82","index":15,"n_rows":8,"n_cols":21,"rows_kept":8,"cut":false,"hidden":false,"merged":[[1,0,1,4],[1,5,1,11],[1,13,1,17],[1,18,1,20]]}
["Ø82","60SC7",null,null,null,null,null,null,null,null,null,null,null,null,null,null,null,"Ø",82]
["COMMANDE",null,null,null,null,"RECEPTION",null,null,null,null,null,null,null,"STOCKAGE DEPOT",null,null,null,null,"STOCK USINE"]
["DATE","N°Cde","FOURNISSEUR","QUANTITE","PRIS /KG","DATE","N°Cde","FOURNISSEUR","N°BL","N° COULEE","QUANTITE","PRIX HT",null,"ADRESSES","N° DE COLEE","STOCK","PRIX HT/KG","VALEUR","STOCK ","PRIX HT/KG","VALEUR"]
["20/04/2012","13012012/4","OVAKO        4",null,"1.63","16/04/2012","13012012/4","OVAKO        4","332688","9-6506","2925",1.631,null,"D5 8b lg2,97(123KG)984KG E5 4b lg2.97(123kg) 492 kg ","9-6506",1353,1.631,{"$f":"IFERROR(P4*Q4,\"\")","v":2206.7429999999999}]
["17/02/2003","17022003",null,"1600","1.15","13/11/2003","17022003",null,"041866","130341","1600","1.15"]
["08/03/2000","CD9901039/1","AMD             1","1330","1.10","17/10/2000","CD9901039/1","AMD             1","009991","74730","1330","1.10"]
["14/11/1996","1162/2","SECOSAR     2 ","1110","1.20","26/3/1997","1162/2","SECOSAR     2 ","207580","02860","1110","1.20"]
["01/01/1995","1138/2","SECOSAR     2 ","565","1.10","01/01/1995","1138/2","SECOSAR     2 ",". . . ",". . . ","565","1.10"]

{"sheet":"92","index":16,"n_rows":5,"n_cols":21,"rows_kept":5,"cut":false,"hidden":false,"merged":[[1,0,1,4],[1,5,1,11],[1,13,1,17],[1,18,1,20]]}
["Ø92","60SC7",null,null,null,null,null,null,null,null,null,null,null,null,null,null,"Ø",92]
["COMMANDE",null,null,null,null,"RECEPTION",null,null,null,null,null,null,null,"STOCKAGE DEPOT",null,null,null,null,"STOCK USINE"]
["DATE","N°Cde","FOURNISSEUR","QUANTITE","PRIS /KG","DATE","N°Cde","FOURNISSEUR","N°BL","N° COULEE","QUANTITE","PRIX HT",null,"ADRESSES","N° DE COULEE","STOCK","PRIX HT/KG","VALEUR","STOCK ","PRIX HT/KG","VALEUR"]
["17/02/2003","17022003",null,null,"1.15","17/03/2004","17022003",null,"45780","130506","2492","1.15",null,"D3:635KG F4:508KG D2:92 KG D1:16KG A0804:16KG ",130506,1266,1.1499999999999999,{"$f":"IFERROR(P4*Q4,\"\")","v":1455.8999999999999}]
["25/07/1996","786/2","SECOSAR     2 ","2726","1.20","15/10/1997","786/2","SECOSAR     2 ","115567","2860","2726","1.20"]

{"sheet":"96","index":17,"n_rows":4,"n_cols":21,"rows_kept":4,"cut":false,"hidden":false,"merged":[[1,0,1,4],[1,13,1,17],[1,18,1,20]]}
["Ø96","60SC7",null,null,null,null,null,null,null,null,null,null,null,null,null,null,"Ø",96]
["COMMANDE",null,null,null,null,"RECEPTION",null,null,null,null,null,null,null,"STOCKAGE DEPOT",null,null,null,null,"STOCK USINE"]
["DATE","N°Cde","FOURNISSEUR","QUANTITE","PRIS /KG","DATE","N°Cde","FOURNISSEUR","N°BL","N° COULEE","QUANTITE","PRIX HT",null,"ADRESSES","N° DE COULEE","STOCK","PRIX HT/KG","VALEUR","STOCK ","PRIX HT/KG","VALEUR"]
["25/07/1996","786/2","SECOSAR     2 ",null,"1.20","18/03/1997","786/2","SECOSAR     2 ","6989","76194","2918","1.20",null,"D1 lg1,74 99kg E3 4 B lg2,77 628kg A0804 1 b lg0,48 27kg",76194,754,1.2,{"$f":"IFERROR(P4*Q4,\"\")","v":904.8}]

{"sheet":"102","index":18,"n_rows":6,"n_cols":21,"rows_kept":6,"cut":false,"hidden":false,"merged":[[1,0,1,4],[1,5,1,11],[1,13,1,17],[1,18,1,20]]}
["Ø102","60SC7",null,null,null,null,null,null,null,null,null,null,null,null,null,null,null,"Ø",102]
["COMMANDE",null,null,null,null,"RECEPTION",null,null,null,null,null,null,null,"STOCKAGE DEPOT",null,null,null,null,"STOCK USINE"]
["DATE","N°Cde","FOURNISSEUR","QUANTITE","PRIS /KG","DATE","N°Cde","FOURNISSEUR","N°BL","N° COULEE","QUANTITE","PRIX HT",null,"ADRESSES","N° COULEE","STOCK","PRIX HT/KG","VALEUR","STOCK ","PRIX HT/KG","VALEUR"]
["17/02/2003","17022003/1","AMD             1","3016",1.1499999999999999,"17/03/2004","17022003/1","AMD             1","45780","130506","3016",1.1499999999999999,null,"E1=942kg E2= 942kg D2=1099 kg",130506,3016,1.1499999999999999,{"$f":"IFERROR(P4*Q4,\"\")","v":3468.3999999999996}]
["25/07/1996","786/2","SECOSAR     2 ",0,"1.20","18/03/1997","786/2","SECOSAR     2 ","203670","76194","1770","1.20",null,"F1=748kg D1=101kg A0804=79 KG",76194,928,1.2,{"$f":"IFERROR(P5*Q5,\"\")","v":1113.5999999999999}]
["14/11/1996","1162/2","SECOSAR     2 ",0,"1.20","26/03/1997","1162/2","SECOSAR     2 ","207580","76194","1014","1.20"]

{"sheet":"112","index":19,"n_rows":4,"n_cols":21,"rows_kept":4,"cut":false,"hidden":false,"merged":[[1,0,1,4],[1,5,1,11],[1,13,1,17],[1,18,1,20]]}
["Ø112","60SC7",null,null,null,null,null,null,null,null,null,null,null,null,null,null,"Ø",112]
["COMMANDE",null,null,null,null,"RECEPTION",null,null,null,null,null,null,null,"STOCKAGE DEPOT",null,null,null,null,"STOCK USINE"]
["DATE","N°Cde","FOURNISSEUR","QUANTITE","PRIS /KG","DATE","N°Cde","FOURNISSEUR","N°BL","N° COULEE","QUANTITE","PRIX HT",null,"ADRESSES","N° DE COULEE","STOCK","PRIX HT/KG","VALEUR","STOCK ","PRIX HT/KG","VALEUR"]
["25/07/1996","786/2","SECOSAR     2 ",null,"1.20","18/03/1997","786/2","SECOSAR     2 ","6989","76194","2910","1.20",null,"F2 6 barres Ø112 lg 2.40 (185kg) 1110kg",76194,1110,1.2,{"$f":"IFERROR(P4*Q4,\"\")","v":1332}]

{"sheet":"127","index":20,"n_rows":5,"n_cols":21,"rows_kept":5,"cut":false,"hidden":false,"merged":[[1,0,1,4],[1,5,1,11],[1,13,1,17],[1,18,1,20]]}
["Ø127","60SC7",null,null,null,null,null,null,null,null,null,null,null,null,null,null,null,"Ø",127]
["COMMANDE",null,null,null,null,"RECEPTION",null,null,null,null,null,null,null,"STOCKAGE DEPOT",null,null,null,null,"STOCK USINE"]
["DATE","N°Cde","FOURNISSEUR","QUANTITE","PRIS /KG","DATE","N°Cde","FOURNISSEUR","N°BL","N° COULEE","QUANTITE","PRIX HT",null,"ADRESSES","N° DE COULEE","STOCK","PRIX HT/KG","VALEUR","STOCK ","PRIX HT/KG","VALEUR"]
["08/03/2000","CD9901039/1","AMD             1",null,"1.10","08/03/2000","CD9901039/1","AMD             1","009991","74730","1768","1.10",null,"D1 6 barres Ø127 lg 2.97 (295kg) 1770 kg",74730,1768,1.1000000000000001,{"$f":"IFERROR(P4*Q4,\"\")","v":1944.8000000000002}]
["25/07/1996","786/2","SECOSAR     2 ",1430,"1.10","15/10/1997","786/2","SECOSAR     2 ","107770","76194","1430","1.20"]

{"sheet":"131","index":21,"n_rows":4,"n_cols":21,"rows_kept":4,"cut":false,"hidden":false,"merged":[[1,0,1,4],[1,5,1,11],[1,13,1,17],[1,18,1,20]]}
["Ø131","60SC7",null,null,null,null,null,null,null,null,null,null,null,null,null,null,null,"Ø",131]
["COMMANDE",null,null,null,null,"RECEPTION",null,null,null,null,null,null,null,"STOCKAGE DEPOT",null,null,null,null,"STOCK USINE"]
["DATE","N°Cde","FOURNISSEUR","QUANTITE","PRIS /KG","DATE","N°Cde","FOURNISSEUR","N°BL","N° COULEE","QUANTITE","PRIX HT",null,"ADRESSES","N° DE COULEE","STOCK","PRIX HT/KG","VALEUR","STOCK ","PRIX HT/KG","VALEUR"]
[null,null,null,null,"1.20","1997-01-01",null,null,null,"?","238","1.20",null,"A0804 1 barre lg 1.10(116 kg) 1 barre lg 0.66(69 kg)","?",185,1.2,{"$f":"IFERROR(P4*Q4,\"\")","v":222}]

{"sheet":"142","index":22,"n_rows":4,"n_cols":21,"rows_kept":4,"cut":false,"hidden":false,"merged":[[1,0,1,4],[1,5,1,11],[1,13,1,17],[1,18,1,20]]}
["Ø142","60SC7",null,null,null,null,null,null,null,null,null,null,null,null,null,null,"Ø",142]
["COMMANDE",null,null,null,null,"RECEPTION",null,null,null,null,null,null,null,"STOCKAGE DEPOT",null,null,null,null,"STOCK USINE"]
["DATE","N°Cde","FOURNISSEUR","QUANTITE","PRIS /KG","DATE","N°Cde","FOURNISSEUR","N°BL","N° COULEE","QUANTITE","PRIX HT",null,"ADRESSES","N° DE COULEE","STOCK","PRIX HT/KG","VALEUR","STOCK ","PRIX HT/KG","VALEUR"]
["08/03/2000","CD9901039/1","AMD             1",null,"1.10","17/10/2000","CD9901039/1","AMD             1","009991","23132","1900","1.10",null,"E3 3 barres Ø142 lg 2.95 (366 kg)1098 kg",23132,1098,1.1000000000000001,{"$f":"IFERROR(P4*Q4,\"\")","v":1207.8000000000002}]

{"sheet":"152","index":23,"n_rows":4,"n_cols":21,"rows_kept":4,"cut":false,"hidden":false,"merged":[[1,0,1,4],[1,5,1,11],[1,13,1,17],[1,18,1,20]]}
["Ø152","60SC7",null,null,null,null,null,null,null,null,null,null,null,null,null,null,"Ø",152]
["COMMANDE",null,null,null,null,"RECEPTION",null,null,null,null,null,null,null,"STOCKAGE DEPOT",null,null,null,null,"STOCK USINE"]
["DATE","N°Cde","FOURNISSEUR","QUANTITE","PRIS /KG","DATE","N°Cde","FOURNISSEUR","N°BL","N° COULEE","QUANTITE","PRIX HT",null,"ADRESSES","N° DE COULEE","STOCK","PRIX HT/KG","VALEUR","STOCK ","PRIX HT/KG","VALEUR"]
["08/03/2000","CD9901039/1","AMD             1",null,"1.10","17/10/2000","CD9901039/1","AMD             1","00991","23132","860","1.10",null,"F1 barre Ø152 lg 2.98 (424kg)",23132,424,1.1000000000000001,{"$f":"IFERROR(P4*Q4,\"\")","v":466.40000000000003}]

{"sheet":"182","index":24,"n_rows":4,"n_cols":21,"rows_kept":4,"cut":false,"hidden":false,"merged":[[1,0,1,4],[1,5,1,11],[1,13,1,17],[1,18,1,20]]}
["Ø182","60SC7",null,null,null,null,null,null,null,null,null,null,null,null,null,null,"Ø",182]
["COMMANDE",null,null,null,null,"RECEPTION",null,null,null,null,null,null,null,"STOCKAGE DEPOT",null,null,null,null,"STOCK USINE"]
["DATE","N°Cde","FOURNISSEUR","QUANTITE","PRIX /KG","DATE","N°Cde","FOURNISSEUR","N°BL","N° COULEE","QUANTITE","PRIX HT",null,"ADRESSES","N° DE COULEE","STOCK","PRIX HT/KG","VALEUR","STOCK ","PRIX HT/KG","VALEUR"]
[null,null,null,null,1.2,"1997-01-01",null,null,null,"?",82,1.2,null,"DEPOT","?",82,1.2,{"$f":"IFERROR(P4*Q4,\"\")","v":98.399999999999991}]

{"sheet":"205","index":25,"n_rows":4,"n_cols":21,"rows_kept":4,"cut":false,"hidden":false,"merged":[[1,0,1,4],[1,5,1,11],[1,13,1,17],[1,18,1,20]]}
["Ø205","60SC7",null,null,null,null,null,null,null,null,null,null,null,null,null,null,"Ø",205]
["COMMANDE",null,null,null,null,"RECEPTION",null,null,null,null,null,null,null,"STOCKAGE DEPOT",null,null,null,null,"STOCK USINE"]
["DATE","N°Cde","FOURNISSEUR","QUANTITE","PRIS /KG","DATE","N°Cde","FOURNISSEUR","N°BL","N° COULEE","QUANTITE","PRIX HT",null,"ADRESSES","N° DE COULEE","STOCK","PRIX HT/KG","VALEUR","STOCK ","PRIX HT/KG","VALEUR"]
["08/03/2000","CD9901039/1","AMD             1",null,"1.10","17/10/2000","CD9901039/1","AMD             1","009991","21132","1545","1.10",null,"F1 BARRE lg1,7 (440kg) E1 BARRE Ø205 LG 2.97 (769 KG)",21132,1209,1.1000000000000001,{"$f":"IFERROR(P4*Q4,\"\")","v":1329.9}]

{"sheet":"CONSO","index":26,"n_rows":24,"n_cols":39,"rows_kept":24,"cut":false,"hidden":false,"merged":[]}
["Ø","1994","1995","1996","1997","1998","1999","2000","2001","2002","2003","2004","2005","2006","2007","2008","2009","2010","2011","2012","2013","2014","2015","2016","2017","2018","2019","2020","2021","2022","2023","2024","2025","2026","2027","2028","2029","2030","conso"]
[20,{"$f":"SUMPRODUCT((YEAR('20'!$F$4:$F$250)=1994)*('20'!$K$4:$K$250))","v":550},{"$f":"SUMPRODUCT((YEAR('20'!$F$4:$F$250)=1995)*('20'!$K$4:$K$250))","v":0},{"$f":"SUMPRODUCT((YEAR('20'!$F$4:$F$250)=1996)*('20'!$K$4:$K$250))","v":2925},{"$f":"SUMPRODUCT((YEAR('20'!$F$4:$F$250)=1997)*('20'!$K$4:$K$250))","v":0},{"$f":"SUMPRODUCT((YEAR('20'!$F$4:$F$250)=1998)*('20'!$K$4:$K$250))","v":2624},{"$f":"SUMPRODUCT((YEAR('20'!$F$4:$F$250)=1999)*('20'!$K$4:$K$250))","v":2452},null,{"$f":"SUMPRODUCT((YEAR('20'!$F$4:$F$250)=2001)*('20'!$K$4:$K$250))","v":2660},{"$f":"SUMPRODUCT((YEAR('20'!$F$4:$F$250)=2002)*('20'!$K$4:$K$250))","v":650},{"$f":"SUMPRODUCT((YEAR('20'!$F$4:$F$250)=2003)*('20'!$K$4:$K$250))","v":1700},null,null,null,{"$f":"SUMPRODUCT((YEAR('20'!$F$4:$F$250)=2007)*('20'!$K$4:$K$250))","v":5550},null,null,null,null,null,{"$f":"SUMPRODUCT((YEAR('20'!$F$4:$F$250)=2013)*('20'!$K$4:$K$250))","v":3558},null,null,null,{"$f":"SUMPRODUCT((YEAR('20'!$F$4:$F$250)=2017)*('20'!$K$4:$K$250))","v":0},{"$f":"SUMPRODUCT((YEAR('20'!$F$4:$F$250)=2018)*('20'!$K$4:$K$250))","v":0},{"$f":"SUMPRODUCT((YEAR('20'!$F$4:$F$250)=2019)*('20'!$K$4:$K$250))","v":0},{"$f":"SUMPRODUCT((YEAR('20'!$F$4:$F$250)=2020)*('20'!$K$4:$K$250))","v":0},{"$f":"SUMPRODUCT((YEAR('20'!$F$4:$F$250)=2021)*('20'!$K$4:$K$250))","v":0},{"$f":"SUMPRODUCT((YEAR('20'!$F$4:$F$250)=2022)*('20'!$K$4:$K$250))","v":0},{"$f":"SUMPRODUCT((YEAR('20'!$F$4:$F$250)=2023)*('20'!$K$4:$K$250))","v":0},{"$f":"SUMPRODUCT((YEAR('20'!$F$4:$F$250)=2024)*('20'!$K$4:$K$250))","v":0},{"$f":"SUMPRODUCT((YEAR('20'!$F$4:$F$250)=2025)*('20'!$K$4:$K$250))","v":0},{"$f":"SUMPRODUCT((YEAR('20'!$F$4:$F$250)=2026)*('20'!$K$4:$K$250))","v":0},{"$f":"SUMPRODUCT((YEAR('20'!$F$4:$F$250)=2027)*('20'!$K$4:$K$250))","v":0},{"$f":"SUMPRODUCT((YEAR('20'!$F$4:$F$250)=2028)*('20'!$K$4:$K$250))","v":0},{"$f":"SUMPRODUCT((YEAR('20'!$F$4:$F$250)=2029)*('20'!$K$4:$K$250))","v":0},{"$f":"SUMPRODUCT((YEAR('20'!$F$4:$F$250)=2030)*('20'!$K$4:$K$250))","v":0},{"$f":"SUM(J2:AL2)-('20'!P4+'20'!S4)+2481","v":13813}]
[26,{"$f":"SUMPRODUCT((YEAR('26'!$F$4:$F$250)=1994)*('26'!$K$4:$K$250))","v":470},{"$f":"SUMPRODUCT((YEAR('26'!$F$5:$F$250)=1994)*('26'!$K$5:$K$250))","v":470},{"$f":"SUMPRODUCT((YEAR('26'!F4:F250)=1996)*('26'!K4:K250))","v":5411},{"$f":"SUMPRODUCT((YEAR('26'!$F$5:$F$250)=1997)*('26'!$K$5:$K$250))","v":0},{"$f":"SUMPRODUCT((YEAR('26'!$F$5:$F$250)=1998)*('26'!$K$4:$K$249))","v":0},{"$f":"SUMPRODUCT((YEAR('26'!$F$4:$F$250)=1999)*('26'!$K$4:$K$250))","v":3002},{"$f":"SUMPRODUCT((YEAR('26'!F4:F250)=2000)*('26'!K4:K250))","v":2735},null,{"$f":"SUMPRODUCT((YEAR('26'!$F$4:$F$250)=2002)*('26'!$K$4:$K$250))","v":3000},{"$f":"SUMPRODUCT((YEAR('26'!$F$4:$F$250)=2003)*('26'!$K$4:$K$250))","v":0},null,null,null,{"$f":"SUMPRODUCT((YEAR('26'!F4:F250)=2007)*('26'!K4:K250))","v":4835},null,null,null,null,{"$f":"SUMPRODUCT((YEAR('26'!F4:F250)=2012)*('26'!K4:K250))","v":5000},null,null,null,{"$f":"SUMPRODUCT((YEAR('26'!$F$4:$F$250)=2016)*('26'!$K$4:$K$250))","v":4356},{"$f":"SUMPRODUCT((YEAR('26'!$F$4:$F$250)=2017)*('26'!$K$4:$K$250))","v":0},{"$f":"SUMPRODUCT((YEAR('26'!$F$4:$F$250)=2018)*('26'!$K$4:$K$250))","v":0},{"$f":"SUMPRODUCT((YEAR('26'!$F$4:$F$250)=2019)*('26'!$K$4:$K$250))","v":0},{"$f":"SUMPRODUCT((YEAR('26'!$F$4:$F$250)=2020)*('26'!$K$4:$K$250))","v":0},{"$f":"SUMPRODUCT((YEAR('26'!$F$4:$F$250)=2021)*('26'!$K$4:$K$250))","v":0},{"$f":"SUMPRODUCT((YEAR('26'!$F$4:$F$250)=2022)*('26'!$K$4:$K$250))","v":0},{"$f":"SUMPRODUCT((YEAR('26'!$F$4:$F$250)=2023)*('26'!$K$4:$K$250))","v":0},{"$f":"SUMPRODUCT((YEAR('26'!$F$4:$F$250)=2024)*('26'!$K$4:$K$250))","v":0},{"$f":"SUMPRODUCT((YEAR('26'!$F$4:$F$250)=2025)*('26'!$K$4:$K$250))","v":0},{"$f":"SUMPRODUCT((YEAR('26'!$F$4:$F$250)=2026)*('26'!$K$4:$K$250))","v":0},{"$f":"SUMPRODUCT((YEAR('26'!$F$4:$F$250)=2027)*('26'!$K$4:$K$250))","v":0},{"$f":"SUMPRODUCT((YEAR('26'!$F$4:$F$250)=2028)*('26'!$K$4:$K$250))","v":0},{"$f":"SUMPRODUCT((YEAR('26'!$F$4:$F$250)=2029)*('26'!$K$4:$K$250))","v":0},{"$f":"SUMPRODUCT((YEAR('26'!$F$4:$F$250)=2030)*('26'!$K$4:$K$250))","v":0},{"$f":"SUM(J3:AL3)-('26'!P4+'26'!S4)+990","v":15063}]
[32,{"$f":"SUMPRODUCT((YEAR('32'!$F$4:$F$250)=1994)*('32'!$K4:$K$250))","v":2540},{"$f":"SUMPRODUCT((YEAR('32'!F4:F250)=1994)*('32'!K4:K250))","v":2540},{"$f":"SUMPRODUCT((YEAR('32'!$F$5:$F$250)=1996)*('32'!$K$5:$K$250))","v":5924},{"$f":"SUMPRODUCT((YEAR('32'!$F$5:$F$250)=1997)*('32'!$K$5:$K$250))","v":3050},{"$f":"SUMPRODUCT((YEAR('32'!$F$5:$F$250)=1998)*('32'!$K$5:$K$250))","v":9065},{"$f":"SUMPRODUCT((YEAR('32'!$F$5:$F$250)=1999)*('32'!$K$5:$K$250))","v":3147},null,{"$f":"SUMPRODUCT((YEAR('32'!F4:F250)=2001)*('32'!K4:K250))","v":6648},{"$f":"SUMPRODUCT((YEAR('32'!$F$4:$F$250)=2002)*('32'!$K$4:$K$250))","v":2920},{"$f":"SUMPRODUCT((YEAR('32'!$F$4:$F$250)=2003)*('32'!$K$4:$K$250))","v":3250},{"$f":"SUMPRODUCT((YEAR('32'!F4:F250)=2004)*('32'!K4:K250))","v":0},{"$f":"SUMPRODUCT((YEAR('32'!F4:F250)=2005)*('32'!K4:K250))","v":3390},{"$f":"SUMPRODUCT((YEAR('32'!F4:F250)=2006)*('32'!K4:K250))","v":0},{"$f":"SUMPRODUCT((YEAR('32'!F4:F250)=2007)*('32'!K4:K250))","v":0},{"$f":"SUMPRODUCT((YEAR('32'!F4:F250)=2008)*('32'!K4:K250))","v":4900},{"$f":"SUMPRODUCT((YEAR('32'!F4:F250)=2009)*('32'!K4:K250))","v":3550},{"$f":"SUMPRODUCT((YEAR('32'!F4:F250)=2010)*('32'!K4:K250))","v":5142},{"$f":"SUMPRODUCT((YEAR('36'!F6:F252)=2011)*('36'!K6:K252))","v":2850},{"$f":"SUMPRODUCT((YEAR('32'!F4:F250)=2012)*('32'!K4:K250))","v":0},{"$f":"SUMPRODUCT((YEAR('32'!F4:F250)=2013)*('32'!K4:K250))","v":0},{"$f":"SUMPRODUCT((YEAR('36'!F6:F252)=2014)*('36'!K6:K252))","v":6585},{"$f":"SUMPRODUCT((YEAR('36'!F6:F252)=2015)*('36'!K6:K252))","v":11574},{"$f":"SUMPRODUCT((YEAR('32'!F4:F250)=2016)*('32'!K4:K250))","v":4386},{"$f":"SUMPRODUCT((YEAR('32'!F5:F251)=2017)*('32'!K5:K251))","v":0},{"$f":"SUMPRODUCT((YEAR('32'!$F$5:$F$251)=2018)*('32'!$K$5:$K$251))","v":0},{"$f":"SUMPRODUCT((YEAR('36'!F6:F252)=2019)*('36'!K6:K252))","v":0},{"$f":"SUMPRODUCT((YEAR('32'!F4:F250)=2020)*('32'!K4:K250))","v":0},{"$f":"SUMPRODUCT((YEAR('32'!F4:F250)=2021)*('32'!K4:K250))","v":0},{"$f":"SUMPRODUCT((YEAR('32'!F4:F250)=2022)*('32'!K4:K250))","v":0},{"$f":"SUMPRODUCT((YEAR('32'!F4:F250)=2023)*('32'!K4:K250))","v":0},{"$f":"SUMPRODUCT((YEAR('32'!F4:F250)=2024)*('32'!K4:K250))","v":0},{"$f":"SUMPRODUCT((YEAR('32'!F4:F250)=2025)*('32'!K4:K250))","v":0},{"$f":"SUMPRODUCT((YEAR('32'!F4:F250)=2026)*('32'!K4:K250))","v":0},{"$f":"SUMPRODUCT((YEAR('32'!F4:F250)=2027)*('32'!K4:K250))","v":0},{"$f":"SUMPRODUCT((YEAR('32'!F4:F250)=2028)*('32'!K4:K250))","v":0},{"$f":"SUMPRODUCT((YEAR('32'!F4:F250)=2029)*('32'!K4:K250))","v":0},{"$f":"SUMPRODUCT((YEAR('32'!F4:F250)=2030)*('32'!K4:K250))","v":0},{"$f":"SUM(J4:AL4)-('32'!P5+'32'!S4+6594)","v":41782}]
[36,{"$f":"SUMPRODUCT((YEAR('36'!$F$6:$F$251)=1994)*('36'!$K$6:$K$251))","v":1210},{"$f":"SUMPRODUCT((YEAR('36'!F6:F252)=1995)*('36'!K6:K252))","v":200},{"$f":"SUMPRODUCT((YEAR('36'!$F$6:$F$251)=1996)*('36'!$K$6:$K$251))","v":6552},{"$f":"SUMPRODUCT((YEAR('36'!$F$6:$F$251)=1997)*('36'!$K$6:$K$251))","v":5845},{"$f":"SUMPRODUCT((YEAR('36'!$F$6:$F$251)=1998)*('36'!$K$6:$K$251))","v":7866},{"$f":"SUMPRODUCT((YEAR('36'!$F$6:$F$251)=1999)*('36'!$K$6:$K$251))","v":7615},{"$f":"SUMPRODUCT((YEAR('36'!$F$6:$F$251)=2000)*('36'!$K$6:$K$251))","v":6680},{"$f":"SUMPRODUCT((YEAR('36'!$F$6:$F$251)=2001)*('36'!$K$6:$K$251))","v":11575},{"$f":"SUMPRODUCT((YEAR('36'!$F$6:$F$251)=2002)*('36'!$K$6:$K$251))","v":2400},{"$f":"SUMPRODUCT((YEAR('36'!$F$6:$F$251)=2003)*('36'!$K$6:$K$251))","v":6890},{"$f":"SUMPRODUCT((YEAR('36'!$F$6:$F$251)=2004)*('36'!$K$6:$K$251))","v":1609},{"$f":"SUMPRODUCT((YEAR('36'!$F$6:$F$251)=2005)*('36'!$K$6:$K$251))","v":15074},{"$f":"SUMPRODUCT((YEAR('36'!$F$6:$F$251)=2006)*('36'!$K$6:$K$251))","v":6550},{"$f":"SUMPRODUCT((YEAR('36'!$F$6:$F$251)=2007)*('36'!$K$6:$K$251))","v":4950},{"$f":"SUMPRODUCT((YEAR('36'!$F$6:$F$251)=2008)*('36'!$K$6:$K$251))","v":9150},{"$f":"SUMPRODUCT((YEAR('36'!$F$6:$F$251)=2009)*('36'!$K$6:$K$251))","v":8756},{"$f":"SUMPRODUCT((YEAR('36'!$F$6:$F$251)=2010)*('36'!$K$6:$K$251))","v":6853},{"$f":"SUMPRODUCT((YEAR('36'!$F$6:$F$251)=2011)*('36'!$K$6:$K$251))","v":2850},{"$f":"SUMPRODUCT((YEAR('36'!$F$6:$F$251)=2012)*('36'!$K$6:$K$251))","v":11330},{"$f":"SUMPRODUCT((YEAR('36'!$F$6:$F$251)=2013)*('36'!$K$6:$K$251))","v":4736},{"$f":"SUMPRODUCT((YEAR('36'!$F$6:$F$251)=2014)*('36'!$K$6:$K$251))","v":6585},{"$f":"SUMPRODUCT((YEAR('36'!$F$6:$F$251)=2015)*('36'!$K$6:$K$251))","v":11574},{"$f":"SUMPRODUCT((YEAR('36'!$F$6:$F$251)=2016)*('36'!$K$6:$K$251))","v":8624},{"$f":"SUMPRODUCT((YEAR('36'!$F$6:$F$251)=2017)*('36'!$K$6:$K$251))","v":0},{"$f":"SUMPRODUCT((YEAR('36'!$F$6:$F$251)=2018)*('36'!$K$6:$K$251))","v":0},{"$f":"SUMPRODUCT((YEAR('36'!$F$6:$F$251)=2019)*('36'!$K$6:$K$251))","v":0},{"$f":"SUMPRODUCT((YEAR('36'!$F$6:$F$251)=2020)*('36'!$K$6:$K$251))","v":0},{"$f":"SUMPRODUCT((YEAR('36'!$F$6:$F$251)=2021)*('36'!$K$6:$K$251))","v":0},{"$f":"SUMPRODUCT((YEAR('36'!$F$6:$F$251)=2022)*('36'!$K$6:$K$251))","v":0},{"$f":"SUMPRODUCT((YEAR('36'!$F$6:$F$251)=2020)*('36'!$K$6:$K$251))","v":0},{"$f":"SUMPRODUCT((YEAR('36'!$F$6:$F$251)=2020)*('36'!$K$6:$K$251))","v":0},{"$f":"SUMPRODUCT((YEAR('36'!$F$6:$F$251)=2020)*('36'!$K$6:$K$251))","v":0},{"$f":"SUMPRODUCT((YEAR('36'!$F$6:$F$251)=2020)*('36'!$K$6:$K$251))","v":0},{"$f":"SUMPRODUCT((YEAR('36'!$F$6:$F$251)=2027)*('36'!$K$6:$K$251))","v":0},{"$f":"SUMPRODUCT((YEAR('36'!$F$6:$F$251)=2028)*('36'!$K$6:$K$251))","v":0},{"$f":"SUMPRODUCT((YEAR('36'!$F$6:$F$251)=2029)*('36'!$K$6:$K$251))","v":0},{"$f":"SUMPRODUCT((YEAR('36'!$F$6:$F$251)=2030)*('36'!$K$6:$K$251))","v":0},{"$f":"SUM(J5:AL5)-('36'!P10+'36'!S7)+11805","v":119736}]
[40.5,{"$f":"SUMPRODUCT((YEAR('40,5'!$F$4:$F$250)=1994)*('40,5'!$K$4:$K$250))","v":0},{"$f":"SUMPRODUCT((YEAR('40,5'!F4:F250)=1995)*('40,5'!K4:K250))","v":0},{"$f":"SUMPRODUCT((YEAR('40,5'!$F$5:$F$250)=1996)*('40,5'!$K$5:$K$250))","v":2244},{"$f":"SUMPRODUCT((YEAR('40,5'!$F$4:$F$250)=1997)*('40,5'!$K$4:$K$250))","v":2862},{"$f":"SUMPRODUCT((YEAR('40,5'!$F$4:$F$250)=1998)*('40,5'!$K$4:$K$250))","v":0},{"$f":"SUMPRODUCT((YEAR('40,5'!$F$4:$F$250)=1999)*('40,5'!$K$4:$K$250))","v":0},{"$f":"SUMPRODUCT((YEAR('40,5'!$F$4:$F$250)=2000)*('40,5'!$K$4:$K$250))","v":0},{"$f":"SUMPRODUCT((YEAR('40,5'!$F$4:$F$250)=2001)*('40,5'!$K$4:$K$250))","v":0},{"$f":"SUMPRODUCT((YEAR('40,5'!$F$4:$F$250)=2002)*('40,5'!$K$4:$K$250))","v":0},{"$f":"SUMPRODUCT((YEAR('40,5'!$F$4:$F$250)=2003)*('40,5'!$K$4:$K$250))","v":1800},{"$f":"SUMPRODUCT((YEAR('40,5'!$F$4:$F$250)=2004)*('40,5'!$K$4:$K$250))","v":0},{"$f":"SUMPRODUCT((YEAR('40,5'!$F$4:$F$250)=2005)*('40,5'!$K$4:$K$250))","v":2096},{"$f":"SUMPRODUCT((YEAR('40,5'!$F$4:$F$250)=2006)*('40,5'!$K$4:$K$250))","v":0},{"$f":"SUMPRODUCT((YEAR('40,5'!$F$4:$F$250)=2007)*('40,5'!$K$4:$K$250))","v":0},{"$f":"SUMPRODUCT((YEAR('40,5'!$F$4:$F$250)=2008)*('40,5'!$K$4:$K$250))","v":300},{"$f":"SUMPRODUCT((YEAR('40,5'!$F$4:$F$250)=2009)*('40,5'!$K$4:$K$250))","v":4952},{"$f":"SUMPRODUCT((YEAR('40,5'!$F$4:$F$250)=2010)*('40,5'!$K$4:$K$250))","v":0},{"$f":"SUMPRODUCT((YEAR('40,5'!$F$4:$F$250)=2011)*('40,5'!$K$4:$K$250))","v":0},{"$f":"SUMPRODUCT((YEAR('40,5'!$F$4:$F$250)=2012)*('40,5'!$K$4:$K$250))","v":0},{"$f":"SUMPRODUCT((YEAR('40,5'!$F$4:$F$250)=2013)*('40,5'!$K$4:$K$250))","v":4620},{"$f":"SUMPRODUCT((YEAR('40,5'!$F$4:$F$250)=2014)*('40,5'!$K$4:$K$250))","v":0},{"$f":"SUMPRODUCT((YEAR('40,5'!$F$4:$F$250)=2015)*('40,5'!$K$4:$K$250))","v":0},{"$f":"SUMPRODUCT((YEAR('40,5'!$F$4:$F$250)=2016)*('40,5'!$K$4:$K$250))","v":4728},{"$f":"SUMPRODUCT((YEAR('40,5'!$F$4:$F$250)=2017)*('40,5'!$K$4:$K$250))","v":0},{"$f":"SUMPRODUCT((YEAR('40,5'!$F$4:$F$250)=2018)*('40,5'!$K$4:$K$250))","v":0},{"$f":"SUMPRODUCT((YEAR('40,5'!$F$4:$F$250)=2019)*('40,5'!$K$4:$K$250))","v":0},{"$f":"SUMPRODUCT((YEAR('40,5'!$F$4:$F$250)=2020)*('40,5'!$K$4:$K$250))","v":0},{"$f":"SUMPRODUCT((YEAR('40,5'!$F$4:$F$250)=2021)*('40,5'!$K$4:$K$250))","v":0},{"$f":"SUMPRODUCT((YEAR('40,5'!$F$4:$F$250)=2022)*('40,5'!$K$4:$K$250))","v":0},{"$f":"SUMPRODUCT((YEAR('40,5'!$F$4:$F$250)=2023)*('40,5'!$K$4:$K$250))","v":0},{"$f":"SUMPRODUCT((YEAR('40,5'!$F$4:$F$250)=2024)*('40,5'!$K$4:$K$250))","v":0},{"$f":"SUMPRODUCT((YEAR('40,5'!$F$4:$F$250)=2025)*('40,5'!$K$4:$K$250))","v":0},{"$f":"SUMPRODUCT((YEAR('40,5'!$F$4:$F$250)=2026)*('40,5'!$K$4:$K$250))","v":0},{"$f":"SUMPRODUCT((YEAR('40,5'!$F$4:$F$250)=2027)*('40,5'!$K$4:$K$250))","v":0},{"$f":"SUMPRODUCT((YEAR('40,5'!$F$4:$F$250)=2028)*('40,5'!$K$4:$K$250))","v":0},{"$f":"SUMPRODUCT((YEAR('40,5'!$F$4:$F$250)=2029)*('40,5'!$K$4:$K$250))","v":0},{"$f":"SUMPRODUCT((YEAR('40,5'!$F$4:$F$250)=2030)*('40,5'!$K$4:$K$250))","v":0},{"$f":"SUM(J6:AL6)-('40,5'!P4+'40,5'!S4)+688","v":15540}]
[46.5,{"$f":"SUMPRODUCT((YEAR('46,5'!$F$4:$F$250)=1994)*('46,5'!$K$4:$K$250))","v":310},{"$f":"SUMPRODUCT((YEAR('46,5'!$F$4:$F$250)=1995)*('46,5'!$K$4:$K$250))","v":245},{"$f":"SUMPRODUCT((YEAR('46,5'!$F$4:$F$250)=1996)*('46,5'!$K$4:$K$250))","v":6198},{"$f":"SUMPRODUCT((YEAR('46,5'!$F$4:$F$250)=1997)*('46,5'!$K$4:$K$250))","v":0},{"$f":"SUMPRODUCT((YEAR('46,5'!$F$4:$F$250)=1998)*('46,5'!$K$4:$K$250))","v":7030},{"$f":"SUMPRODUCT((YEAR('46,5'!$F$4:$F$250)=1999)*('46,5'!$K$4:$K$250))","v":5967},{"$f":"SUMPRODUCT((YEAR('46,5'!$F$4:$F$250)=2000)*('46,5'!$K$4:$K$250))","v":6842},{"$f":"SUMPRODUCT((YEAR('46,5'!$F$4:$F$250)=2001)*('46,5'!$K$4:$K$250))","v":5950},{"$f":"SUMPRODUCT((YEAR('46,5'!$F$4:$F$250)=2002)*('46,5'!$K$4:$K$250))","v":2000},{"$f":"SUMPRODUCT((YEAR('46,5'!$F$4:$F$250)=2003)*('46,5'!$K$4:$K$250))","v":0},{"$f":"SUMPRODUCT((YEAR('46,5'!$F$4:$F$250)=2004)*('46,5'!$K$4:$K$250))","v":0},{"$f":"SUMPRODUCT((YEAR('46,5'!$F$4:$F$250)=2005)*('46,5'!$K$4:$K$250))","v":1190},{"$f":"SUMPRODUCT((YEAR('46,5'!$F$4:$F$250)=2006)*('46,5'!$K$4:$K$250))","v":4220},{"$f":"SUMPRODUCT((YEAR('46,5'!$F$4:$F$250)=2007)*('46,5'!$K$4:$K$250))","v":4765},{"$f":"SUMPRODUCT((YEAR('46,5'!$F$4:$F$250)=2008)*('46,5'!$K$4:$K$250))","v":0},{"$f":"SUMPRODUCT((YEAR('46,5'!$F$4:$F$250)=2009)*('46,5'!$K$4:$K$250))","v":0},{"$f":"SUMPRODUCT((YEAR('46,5'!$F$4:$F$250)=2010)*('46,5'!$K$4:$K$250))","v":4400},{"$f":"SUMPRODUCT((YEAR('46,5'!$F$4:$F$250)=2011)*('46,5'!$K$4:$K$250))","v":0},{"$f":"SUMPRODUCT((YEAR('46,5'!$F$4:$F$250)=2012)*('46,5'!$K$4:$K$250))","v":2860},{"$f":"SUMPRODUCT((YEAR('46,5'!$F$4:$F$250)=2013)*('46,5'!$K$4:$K$250))","v":5020},{"$f":"SUMPRODUCT((YEAR('46,5'!$F$4:$F$250)=2014)*('46,5'!$K$4:$K$250))","v":0},{"$f":"SUMPRODUCT((YEAR('46,5'!$F$4:$F$250)=2015)*('46,5'!$K$4:$K$250))","v":5424},{"$f":"SUMPRODUCT((YEAR('46,5'!$F$4:$F$250)=2016)*('46,5'!$K$4:$K$250))","v":4383},{"$f":"SUMPRODUCT((YEAR('46,5'!$F$4:$F$250)=2017)*('46,5'!$K$4:$K$250))","v":0},{"$f":"SUMPRODUCT((YEAR('46,5'!$F$4:$F$250)=2018)*('46,5'!$K$4:$K$250))","v":0},{"$f":"SUMPRODUCT((YEAR('46,5'!$F$4:$F$250)=2019)*('46,5'!$K$4:$K$250))","v":0},{"$f":"SUMPRODUCT((YEAR('46,5'!$F$4:$F$250)=2020)*('46,5'!$K$4:$K$250))","v":0},{"$f":"SUMPRODUCT((YEAR('46,5'!$F$4:$F$250)=2021)*('46,5'!$K$4:$K$250))","v":0},{"$f":"SUMPRODUCT((YEAR('46,5'!$F$4:$F$250)=2022)*('46,5'!$K$4:$K$250))","v":0},{"$f":"SUMPRODUCT((YEAR('46,5'!$F$4:$F$250)=2023)*('46,5'!$K$4:$K$250))","v":0},{"$f":"SUMPRODUCT((YEAR('46,5'!$F$4:$F$250)=2024)*('46,5'!$K$4:$K$250))","v":0},{"$f":"SUMPRODUCT((YEAR('46,5'!$F$4:$F$250)=2025)*('46,5'!$K$4:$K$250))","v":0},{"$f":"SUMPRODUCT((YEAR('46,5'!$F$4:$F$250)=2026)*('46,5'!$K$4:$K$250))","v":0},{"$f":"SUMPRODUCT((YEAR('46,5'!$F$4:$F$250)=2027)*('46,5'!$K$4:$K$250))","v":0},{"$f":"SUMPRODUCT((YEAR('46,5'!$F$4:$F$250)=2028)*('46,5'!$K$4:$K$250))","v":0},{"$f":"SUMPRODUCT((YEAR('46,5'!$F$4:$F$250)=2029)*('46,5'!$K$4:$K$250))","v":0},{"$f":"SUMPRODUCT((YEAR('46,5'!$F$4:$F$250)=2030)*('46,5'!$K$4:$K$250))","v":0},{"$f":"SUM(J7:AL7)-('46,5'!P4+'46,5'!S4)+4738","v":38653}]
[51.5,{"$f":"SUMPRODUCT((YEAR('51,5'!$F$5:$F$251)=1994)*('51,5'!$K$5:$K$251))","v":0},{"$f":"SUMPRODUCT((YEAR('51,5'!$F$5:$F$251)=1995)*('51,5'!$K$5:$K$251))","v":3742},{"$f":"SUMPRODUCT((YEAR('51,5'!$F$5:$F$251)=1996)*('51,5'!$K$5:$K$251))","v":4002},{"$f":"SUMPRODUCT((YEAR('51,5'!$F$5:$F$251)=1997)*('51,5'!$K$5:$K$251))","v":10141},{"$f":"SUMPRODUCT((YEAR('51,5'!$F$5:$F$251)=1998)*('51,5'!$K$5:$K$251))","v":8095},{"$f":"SUMPRODUCT((YEAR('51,5'!$F$5:$F$251)=1999)*('51,5'!$K$5:$K$251))","v":10401},{"$f":"SUMPRODUCT((YEAR('51,5'!$F$5:$F$251)=2000)*('51,5'!$K$5:$K$251))","v":6707},{"$f":"SUMPRODUCT((YEAR('51,5'!$F$5:$F$251)=2001)*('51,5'!$K$5:$K$251))","v":4600},{"$f":"SUMPRODUCT((YEAR('51,5'!$F$5:$F$251)=2002)*('51,5'!$K$5:$K$251))","v":3000},{"$f":"SUMPRODUCT((YEAR('51,5'!$F$5:$F$251)=2003)*('51,5'!$K$5:$K$251))","v":3500},{"$f":"SUMPRODUCT((YEAR('51,5'!$F$5:$F$251)=2004)*('51,5'!$K$5:$K$251))","v":0},{"$f":"SUMPRODUCT((YEAR('51,5'!$F$5:$F$251)=2005)*('51,5'!$K$5:$K$251))","v":4450},{"$f":"SUMPRODUCT((YEAR('51,5'!$F$5:$F$251)=2006)*('51,5'!$K$5:$K$251))","v":6490},{"$f":"SUMPRODUCT((YEAR('51,5'!$F$5:$F$251)=2007)*('51,5'!$K$5:$K$251))","v":7560},{"$f":"SUMPRODUCT((YEAR('51,5'!$F$5:$F$251)=2008)*('51,5'!$K$5:$K$251))","v":5280},{"$f":"SUMPRODUCT((YEAR('51,5'!$F$5:$F$251)=2009)*('51,5'!$K$5:$K$251))","v":5863},{"$f":"SUMPRODUCT((YEAR('51,5'!$F$5:$F$251)=2010)*('51,5'!$K$5:$K$251))","v":11508},{"$f":"SUMPRODUCT((YEAR('51,5'!$F$5:$F$251)=2011)*('51,5'!$K$5:$K$251))","v":0},{"$f":"SUMPRODUCT((YEAR('51,5'!$F$5:$F$251)=2012)*('51,5'!$K$5:$K$251))","v":6540},{"$f":"SUMPRODUCT((YEAR('51,5'!$F$5:$F$251)=2013)*('51,5'!$K$5:$K$251))","v":0},{"$f":"SUMPRODUCT((YEAR('51,5'!$F$5:$F$251)=2014)*('51,5'!$K$5:$K$251))","v":5631},{"$f":"SUMPRODUCT((YEAR('51,5'!$F$5:$F$251)=2015)*('51,5'!$K$5:$K$251))","v":6355},{"$f":"SUMPRODUCT((YEAR('51,5'!$F$5:$F$251)=2016)*('51,5'!$K$5:$K$251))","v":5844},{"$f":"SUMPRODUCT((YEAR('51,5'!$F$5:$F$251)=2017)*('51,5'!$K$5:$K$251))","v":0},{"$f":"SUMPRODUCT((YEAR('51,5'!$F$5:$F$251)=2018)*('51,5'!$K$5:$K$251))","v":5523},{"$f":"SUMPRODUCT((YEAR('51,5'!$F$5:$F$251)=2019)*('51,5'!$K$5:$K$251))","v":0},{"$f":"SUMPRODUCT((YEAR('51,5'!$F$5:$F$251)=2020)*('51,5'!$K$5:$K$251))","v":0},{"$f":"SUMPRODUCT((YEAR('51,5'!$F$5:$F$251)=2021)*('51,5'!$K$5:$K$251))","v":0},{"$f":"SUMPRODUCT((YEAR('51,5'!$F$5:$F$251)=2022)*('51,5'!$K$5:$K$251))","v":0},{"$f":"SUMPRODUCT((YEAR('51,5'!$F$5:$F$251)=2023)*('51,5'!$K$5:$K$251))","v":0},{"$f":"SUMPRODUCT((YEAR('51,5'!$F$5:$F$251)=2024)*('51,5'!$K$5:$K$251))","v":0},{"$f":"SUMPRODUCT((YEAR('51,5'!$F$5:$F$251)=2025)*('51,5'!$K$5:$K$251))","v":0},{"$f":"SUMPRODUCT((YEAR('51,5'!$F$5:$F$251)=2026)*('51,5'!$K$5:$K$251))","v":0},{"$f":"SUMPRODUCT((YEAR('51,5'!$F$5:$F$251)=2027)*('51,5'!$K$5:$K$251))","v":0},{"$f":"SUMPRODUCT((YEAR('51,5'!$F$5:$F$251)=2028)*('51,5'!$K$5:$K$251))","v":0},{"$f":"SUMPRODUCT((YEAR('51,5'!$F$5:$F$251)=2029)*('51,5'!$K$5:$K$251))","v":0},{"$f":"SUMPRODUCT((YEAR('51,5'!$F$5:$F$251)=1994)*('51,5'!$K$5:$K$251))","v":0},{"$f":"SUM(J8:AL8)-('51,5'!P5+'51,5'!S4)+9104","v":85998}]
[56,{"$f":"SUMPRODUCT((YEAR('56'!$F$4:$F$250)=1994)*('56'!$K$4:$K$250))","v":0},{"$f":"SUMPRODUCT((YEAR('56'!$F$4:$F$250)=1995)*('56'!$K$4:$K$250))","v":0},{"$f":"SUMPRODUCT((YEAR('56'!$F$4:$F$250)=1996)*('56'!$K$4:$K$250))","v":384},{"$f":"SUMPRODUCT((YEAR('56'!$F$4:$F$250)=1997)*('56'!$K$4:$K$250))","v":1006},{"$f":"SUMPRODUCT((YEAR('56'!$F$4:$F$250)=1998)*('56'!$K$4:$K$250))","v":0},{"$f":"SUMPRODUCT((YEAR('56'!$F$4:$F$250)=1999)*('56'!$K$4:$K$250))","v":0},{"$f":"SUMPRODUCT((YEAR('56'!$F$4:$F$250)=2000)*('56'!$K$4:$K$250))","v":3091},{"$f":"SUMPRODUCT((YEAR('56'!$F$4:$F$250)=2001)*('56'!$K$4:$K$250))","v":0},{"$f":"SUMPRODUCT((YEAR('56'!$F$4:$F$250)=2002)*('56'!$K$4:$K$250))","v":0},{"$f":"SUMPRODUCT((YEAR('56'!$F$4:$F$250)=2003)*('56'!$K$4:$K$250))","v":0},{"$f":"SUMPRODUCT((YEAR('56'!$F$4:$F$250)=2004)*('56'!$K$4:$K$250))","v":0},{"$f":"SUMPRODUCT((YEAR('56'!$F$4:$F$250)=2005)*('56'!$K$4:$K$250))","v":0},{"$f":"SUMPRODUCT((YEAR('56'!$F$4:$F$250)=2006)*('56'!$K$4:$K$250))","v":0},{"$f":"SUMPRODUCT((YEAR('56'!$F$4:$F$250)=2007)*('56'!$K$4:$K$250))","v":0},{"$f":"SUMPRODUCT((YEAR('56'!$F$4:$F$250)=2008)*('56'!$K$4:$K$250))","v":0},{"$f":"SUMPRODUCT((YEAR('56'!$F$4:$F$250)=2009)*('56'!$K$4:$K$250))","v":3995},{"$f":"SUMPRODUCT((YEAR('56'!$F$4:$F$250)=2010)*('56'!$K$4:$K$250))","v":0},{"$f":"SUMPRODUCT((YEAR('56'!$F$4:$F$250)=2011)*('56'!$K$4:$K$250))","v":0},{"$f":"SUMPRODUCT((YEAR('56'!$F$4:$F$250)=2012)*('56'!$K$4:$K$250))","v":0},{"$f":"SUMPRODUCT((YEAR('56'!$F$4:$F$250)=2013)*('56'!$K$4:$K$250))","v":0},{"$f":"SUMPRODUCT((YEAR('56'!$F$4:$F$250)=2014)*('56'!$K$4:$K$250))","v":5464},{"$f":"SUMPRODUCT((YEAR('56'!$F$4:$F$250)=2015)*('56'!$K$4:$K$250))","v":0},{"$f":"SUMPRODUCT((YEAR('56'!$F$4:$F$250)=2016)*('56'!$K$4:$K$250))","v":0},{"$f":"SUMPRODUCT((YEAR('56'!$F$4:$F$250)=2017)*('56'!$K$4:$K$250))","v":0},{"$f":"SUMPRODUCT((YEAR('56'!$F$4:$F$250)=2018)*('56'!$K$4:$K$250))","v":0},{"$f":"SUMPRODUCT((YEAR('56'!$F$4:$F$250)=2019)*('56'!$K$4:$K$250))","v":0},{"$f":"SUMPRODUCT((YEAR('56'!$F$4:$F$250)=2020)*('56'!$K$4:$K$250))","v":0},{"$f":"SUMPRODUCT((YEAR('56'!$F$4:$F$250)=2021)*('56'!$K$4:$K$250))","v":0},{"$f":"SUMPRODUCT((YEAR('56'!$F$4:$F$250)=2022)*('56'!$K$4:$K$250))","v":0},{"$f":"SUMPRODUCT((YEAR('56'!$F$4:$F$250)=2023)*('56'!$K$4:$K$250))","v":0},{"$f":"SUMPRODUCT((YEAR('56'!$F$4:$F$250)=2024)*('56'!$K$4:$K$250))","v":0},{"$f":"SUMPRODUCT((YEAR('56'!$F$4:$F$250)=2025)*('56'!$K$4:$K$250))","v":0},{"$f":"SUMPRODUCT((YEAR('56'!$F$4:$F$250)=2026)*('56'!$K$4:$K$250))","v":0},{"$f":"SUMPRODUCT((YEAR('56'!$F$4:$F$250)=2027)*('56'!$K$4:$K$250))","v":0},{"$f":"SUMPRODUCT((YEAR('56'!$F$4:$F$250)=2028)*('56'!$K$4:$K$250))","v":0},{"$f":"SUMPRODUCT((YEAR('56'!$F$4:$F$250)=2029)*('56'!$K$4:$K$250))","v":0},{"$f":"SUMPRODUCT((YEAR('56'!$F$4:$F$250)=2030)*('56'!$K$4:$K$250))","v":0},{"$f":"SUM(J9:AL9)-('56'!P4+'56'!S4)+2259","v":8208}]
[61,{"$f":"SUMPRODUCT((YEAR('61'!$F$4:$F$250)=1994)*('61'!$K$4:K$250))","v":0},{"$f":"SUMPRODUCT((YEAR('61'!$F$4:$F$250)=1995)*('61'!$K$4:$K$250))","v":755},{"$f":"SUMPRODUCT((YEAR('61'!$F$4:$F$250)=1996)*('61'!$K$4:$K$250))","v":0},{"$f":"SUMPRODUCT((YEAR('61'!$F$4:$F$250)=1997)*('61'!$K$4:$K$250))","v":2666},{"$f":"SUMPRODUCT((YEAR('61'!$F$4:$F$250)=1998)*('61'!$K$4:$K$250))","v":0},{"$f":"SUMPRODUCT((YEAR('61'!$F$4:$F$250)=1999)*('61'!$K$4:$K$250))","v":0},{"$f":"SUMPRODUCT((YEAR('61'!$F$4:$F$250)=2000)*('61'!$K$4:$K$250))","v":2990},{"$f":"SUMPRODUCT((YEAR('61'!$F$4:$F$250)=2001)*('61'!$K$4:$K$250))","v":3850},{"$f":"SUMPRODUCT((YEAR('61'!$F$4:$F$250)=2002)*('61'!$K$4:$K$250))","v":3350},{"$f":"SUMPRODUCT((YEAR('61'!$F$4:$F$250)=2003)*('61'!$K$4:$K$250))","v":0},{"$f":"SUMPRODUCT((YEAR('61'!$F$4:$F$250)=2004)*('61'!$K$4:$K$250))","v":0},{"$f":"SUMPRODUCT((YEAR('61'!$F$4:$F$250)=2005)*('61'!$K$4:$K$250))","v":0},{"$f":"SUMPRODUCT((YEAR('61'!$F$4:$F$250)=2006)*('61'!$K$4:$K$250))","v":0},{"$f":"SUMPRODUCT((YEAR('61'!$F$4:$F$250)=2007)*('61'!$K$4:$K$250))","v":0},{"$f":"SUMPRODUCT((YEAR('61'!$F$4:$F$250)=2008)*('61'!$K$4:$K$250))","v":4230},{"$f":"SUMPRODUCT((YEAR('61'!$F$4:$F$250)=2009)*('61'!$K$4:$K$250))","v":6692},{"$f":"SUMPRODUCT((YEAR('61'!$F$4:$F$250)=2010)*('61'!$K$4:$K$250))","v":0},{"$f":"SUMPRODUCT((YEAR('61'!$F$4:$F$250)=2011)*('61'!$K$4:$K$250))","v":0},{"$f":"SUMPRODUCT((YEAR('61'!$F$4:$F$250)=2012)*('61'!$K$4:$K$250))","v":0},{"$f":"SUMPRODUCT((YEAR('61'!$F$4:$F$250)=2013)*('61'!$K$4:$K$250))","v":0},{"$f":"SUMPRODUCT((YEAR('61'!$F$4:$F$250)=2014)*('61'!$K$4:$K$250))","v":8020},{"$f":"SUMPRODUCT((YEAR('61'!$F$4:$F$250)=19201595)*('61'!$K$4:$K$250))","v":0},{"$f":"SUMPRODUCT((YEAR('61'!$F$4:$F$250)=2016)*('61'!$K$4:$K$250))","v":0},{"$f":"SUMPRODUCT((YEAR('61'!$F$4:$F$250)=2017)*('61'!$K$4:$K$250))","v":5364},{"$f":"SUMPRODUCT((YEAR('61'!$F$4:$F$250)=2018)*('61'!$K$4:$K$250))","v":0},{"$f":"SUMPRODUCT((YEAR('61'!$F$4:$F$250)=2019)*('61'!$K$4:$K$250))","v":0},{"$f":"SUMPRODUCT((YEAR('61'!$F$4:$F$250)=2020)*('61'!$K$4:$K$250))","v":0},{"$f":"SUMPRODUCT((YEAR('61'!$F$4:$F$250)=2021)*('61'!$K$4:$K$250))","v":0},{"$f":"SUMPRODUCT((YEAR('61'!$F$4:$F$250)=2022)*('61'!$K$4:$K$250))","v":0},{"$f":"SUMPRODUCT((YEAR('61'!$F$4:$F$250)=2023)*('61'!$K$4:$K$250))","v":0},{"$f":"SUMPRODUCT((YEAR('61'!$F$4:$F$250)=2024)*('61'!$K$4:$K$250))","v":0},{"$f":"SUMPRODUCT((YEAR('61'!$F$4:$F$250)=2025)*('61'!$K$4:$K$250))","v":0},{"$f":"SUMPRODUCT((YEAR('61'!$F$4:$F$250)=19920265)*('61'!$K$4:$K$250))","v":0},{"$f":"SUMPRODUCT((YEAR('61'!$F$4:$F$250)=2027)*('61'!$K$4:$K$250))","v":0},{"$f":"SUMPRODUCT((YEAR('61'!$F$4:$F$250)=2028)*('61'!$K$4:$K$250))","v":0},{"$f":"SUMPRODUCT((YEAR('61'!$F$4:$F$250)=2029)*('61'!$K$4:$K$250))","v":0},{"$f":"SUMPRODUCT((YEAR('61'!$F$4:$F$250)=2030)*('61'!$K$4:$K$250))","v":0},{"$f":"SUM(J10:AL10)-('61'!P4+'61'!S4)+5980","v":31351}]
[65,{"$f":"SUMPRODUCT((YEAR('65'!$F$4:$F$250)=1994)*('65'!$K$4:$K$250))","v":517},{"$f":"SUMPRODUCT((YEAR('65'!$F$4:$F$250)=1995)*('65'!$K$4:$K$250))","v":255},{"$f":"SUMPRODUCT((YEAR('65'!$F$4:$F$250)=1996)*('65'!$K$4:$K$250))","v":0},{"$f":"SUMPRODUCT((YEAR('65'!$F$4:$F$250)=1997)*('65'!$K$4:$K$250))","v":2642},{"$f":"SUMPRODUCT((YEAR('65'!$F$4:$F$250)=1998)*('65'!$K$4:$K$250))","v":0},{"$f":"SUMPRODUCT((YEAR('65'!$F$4:$F$250)=1999)*('65'!$K$4:$K$250))","v":0},{"$f":"SUMPRODUCT((YEAR('65'!$F$4:$F$250)=2000)*('65'!$K$4:$K$250))","v":3013},{"$f":"SUMPRODUCT((YEAR('65'!$F$4:$F$250)=2001)*('65'!$K$4:$K$250))","v":0},{"$f":"SUMPRODUCT((YEAR('65'!$F$4:$F$250)=2002)*('65'!$K$4:$K$250))","v":0},{"$f":"SUMPRODUCT((YEAR('65'!$F$4:$F$250)=2003)*('65'!$K$4:$K$250))","v":0},{"$f":"SUMPRODUCT((YEAR('65'!$F$4:$F$250)=2004)*('65'!$K$4:$K$250))","v":0},{"$f":"SUMPRODUCT((YEAR('65'!$F$4:$F$250)=2005)*('65'!$K$4:$K$250))","v":0},{"$f":"SUMPRODUCT((YEAR('65'!$F$4:$F$250)=2006)*('65'!$K$4:$K$250))","v":0},{"$f":"SUMPRODUCT((YEAR('65'!$F$4:$F$250)=2007)*('65'!$K$4:$K$250))","v":0},{"$f":"SUMPRODUCT((YEAR('65'!$F$4:$F$250)=2008)*('65'!$K$4:$K$250))","v":2920},{"$f":"SUMPRODUCT((YEAR('65'!$F$4:$F$250)=2009)*('65'!$K$4:$K$250))","v":0},{"$f":"SUMPRODUCT((YEAR('65'!$F$4:$F$250)=2010)*('65'!$K$4:$K$250))","v":0},{"$f":"SUMPRODUCT((YEAR('65'!$F$4:$F$250)=2011)*('65'!$K$4:$K$250))","v":0},{"$f":"SUMPRODUCT((YEAR('65'!$F$4:$F$250)=2012)*('65'!$K$4:$K$250))","v":0},{"$f":"SUMPRODUCT((YEAR('65'!$F$4:$F$250)=2013)*('65'!$K$4:$K$250))","v":0},{"$f":"SUMPRODUCT((YEAR('65'!$F$4:$F$250)=2014)*('65'!$K$4:$K$250))","v":0},{"$f":"SUMPRODUCT((YEAR('65'!$F$4:$F$250)=2015)*('65'!$K$4:$K$250))","v":0},{"$f":"SUMPRODUCT((YEAR('65'!$F$4:$F$250)=2016)*('65'!$K$4:$K$250))","v":4302},{"$f":"SUMPRODUCT((YEAR('65'!$F$4:$F$250)=2017)*('65'!$K$4:$K$250))","v":0},{"$f":"SUMPRODUCT((YEAR('65'!$F$4:$F$250)=2018)*('65'!$K$4:$K$250))","v":0},{"$f":"SUMPRODUCT((YEAR('65'!$F$4:$F$250)=2019)*('65'!$K$4:$K$250))","v":0},{"$f":"SUMPRODUCT((YEAR('65'!$F$4:$F$250)=2020)*('65'!$K$4:$K$250))","v":0},{"$f":"SUMPRODUCT((YEAR('65'!$F$4:$F$250)=2021)*('65'!$K$4:$K$250))","v":0},{"$f":"SUMPRODUCT((YEAR('65'!$F$4:$F$250)=2022)*('65'!$K$4:$K$250))","v":0},{"$f":"SUMPRODUCT((YEAR('65'!$F$4:$F$250)=2023)*('65'!$K$4:$K$250))","v":0},{"$f":"SUMPRODUCT((YEAR('65'!$F$4:$F$250)=2024)*('65'!$K$4:$K$250))","v":0},{"$f":"SUMPRODUCT((YEAR('65'!$F$4:$F$250)=2025)*('65'!$K$4:$K$250))","v":0},{"$f":"SUMPRODUCT((YEAR('65'!$F$4:$F$250)=2026)*('65'!$K$4:$K$250))","v":0},{"$f":"SUMPRODUCT((YEAR('65'!$F$4:$F$250)=2027)*('65'!$K$4:$K$250))","v":0},{"$f":"SUMPRODUCT((YEAR('65'!$F$4:$F$250)=2028)*('65'!$K$4:$K$250))","v":0},{"$f":"SUMPRODUCT((YEAR('65'!$F$4:$F$250)=2029)*('65'!$K$4:$K$250))","v":0},{"$f":"SUMPRODUCT((YEAR('65'!$F$4:$F$250)=2030)*('65'!$K$4:$K$250))","v":0},{"$f":"SUM(J11:AL11)-('65'!P4+'65'!S4)+3013","v":5997}]
[74,{"$f":"SUMPRODUCT((YEAR('74'!$F$4:$F$250)=1994)*('74'!$K$4:$K$250))","v":0},{"$f":"SUMPRODUCT((YEAR('74'!$F$4:$F$250)=1995)*('74'!$K$4:$K$250))","v":0},{"$f":"SUMPRODUCT((YEAR('74'!$F$4:$F$250)=1996)*('74'!$K$4:$K$250))","v":0},{"$f":"SUMPRODUCT((YEAR('74'!$F$4:$F$250)=1997)*('74'!$K$4:$K$250))","v":0},{"$f":"SUMPRODUCT((YEAR('74'!$F$4:$F$250)=1998)*('74'!$K$4:$K$250))","v":0},{"$f":"SUMPRODUCT((YEAR('74'!$F$4:$F$250)=1999)*('74'!$K$4:$K$250))","v":0},{"$f":"SUMPRODUCT((YEAR('74'!$F$4:$F$250)=2000)*('74'!$K$4:$K$250))","v":0},{"$f":"SUMPRODUCT((YEAR('74'!$F$4:$F$250)=2001)*('74'!$K$4:$K$250))","v":0},{"$f":"SUMPRODUCT((YEAR('74'!$F$4:$F$250)=2002)*('74'!$K$4:$K$250))","v":0},{"$f":"SUMPRODUCT((YEAR('74'!$F$4:$F$250)=2003)*('74'!$K$4:$K$250))","v":0},{"$f":"SUMPRODUCT((YEAR('74'!$F$4:$F$250)=2004)*('74'!$K$4:$K$250))","v":0},{"$f":"SUMPRODUCT((YEAR('74'!$F$4:$F$250)=2005)*('74'!$K$4:$K$250))","v":0},{"$f":"SUMPRODUCT((YEAR('74'!$F$4:$F$250)=2006)*('74'!$K$4:$K$250))","v":0},{"$f":"SUMPRODUCT((YEAR('74'!$F$4:$F$250)=2007)*('74'!$K$4:$K$250))","v":0},{"$f":"SUMPRODUCT((YEAR('74'!$F$4:$F$250)=2008)*('74'!$K$4:$K$250))","v":0},{"$f":"SUMPRODUCT((YEAR('74'!$F$4:$F$250)=2009)*('74'!$K$4:$K$250))","v":6024},{"$f":"SUMPRODUCT((YEAR('74'!$F$4:$F$250)=2010)*('74'!$K$4:$K$250))","v":0},{"$f":"SUMPRODUCT((YEAR('74'!$F$4:$F$250)=2011)*('74'!$K$4:$K$250))","v":0},{"$f":"SUMPRODUCT((YEAR('74'!$F$4:$F$250)=2012)*('74'!$K$4:$K$250))","v":0},{"$f":"SUMPRODUCT((YEAR('74'!$F$4:$F$250)=2013)*('74'!$K$4:$K$250))","v":0},{"$f":"SUMPRODUCT((YEAR('74'!$F$4:$F$250)=2014)*('74'!$K$4:$K$250))","v":0},{"$f":"SUMPRODUCT((YEAR('74'!$F$4:$F$250)=2015)*('74'!$K$4:$K$250))","v":0},{"$f":"SUMPRODUCT((YEAR('74'!$F$4:$F$250)=2016)*('74'!$K$4:$K$250))","v":0},{"$f":"SUMPRODUCT((YEAR('74'!$F$4:$F$250)=2017)*('74'!$K$4:$K$250))","v":0},{"$f":"SUMPRODUCT((YEAR('74'!$F$4:$F$250)=2018)*('74'!$K$4:$K$250))","v":0},{"$f":"SUMPRODUCT((YEAR('74'!$F$4:$F$250)=2019)*('74'!$K$4:$K$250))","v":0},{"$f":"SUMPRODUCT((YEAR('74'!$F$4:$F$250)=2020)*('74'!$K$4:$K$250))","v":0},{"$f":"SUMPRODUCT((YEAR('74'!$F$4:$F$250)=2021)*('74'!$K$4:$K$250))","v":0},{"$f":"SUMPRODUCT((YEAR('74'!$F$4:$F$250)=2022)*('74'!$K$4:$K$250))","v":0},{"$f":"SUMPRODUCT((YEAR('74'!$F$4:$F$250)=2023)*('74'!$K$4:$K$250))","v":0},{"$f":"SUMPRODUCT((YEAR('74'!$F$4:$F$250)=2024)*('74'!$K$4:$K$250))","v":0},{"$f":"SUMPRODUCT((YEAR('74'!$F$4:$F$250)=2025)*('74'!$K$4:$K$250))","v":0},{"$f":"SUMPRODUCT((YEAR('74'!$F$4:$F$250)=2026)*('74'!$K$4:$K$250))","v":0},{"$f":"SUMPRODUCT((YEAR('74'!$F$4:$F$250)=1994)*('74'!$K$4:$K$250))","v":0},{"$f":"SUMPRODUCT((YEAR('74'!$F$4:$F$250)=2028)*('74'!$K$4:$K$250))","v":0},{"$f":"SUMPRODUCT((YEAR('74'!$F$4:$F$250)=2029)*('74'!$K$4:$K$250))","v":0},{"$f":"SUMPRODUCT((YEAR('74'!$F$4:$F$250)=2030)*('74'!$K$4:$K$250))","v":0},{"$f":"SUM(J12:AL12)-('74'!P4+'74'!S4)","v":3988}]
[76,{"$f":"SUMPRODUCT((YEAR('76'!$F$4:$F$250)=1994)*('76'!$K4:K$250))","v":0},{"$f":"SUMPRODUCT((YEAR('76'!$F$4:$F$250)=1995)*('76'!$K$4:$K$250))","v":1100},{"$f":"SUMPRODUCT((YEAR('76'!$F$4:$F$250)=1996)*('76'!$K$4:$K$250))","v":362},{"$f":"SUMPRODUCT((YEAR('76'!$F$4:$F$250)=1997)*('76'!$K$4:$K$250))","v":1530},{"$f":"SUMPRODUCT((YEAR('76'!$F$4:$F$250)=1998)*('76'!$K$4:$K$250))","v":0},{"$f":"SUMPRODUCT((YEAR('76'!$F$4:$F$250)=1999)*('76'!$K$4:$K$250))","v":0},{"$f":"SUMPRODUCT((YEAR('76'!$F$4:$F$250)=2000)*('76'!$K$4:$K$250))","v":4410},{"$f":"SUMPRODUCT((YEAR('76'!$F$4:$F$250)=2001)*('76'!$K$4:$K$250))","v":0},{"$f":"SUMPRODUCT((YEAR('76'!$F$4:$F$250)=2002)*('76'!$K$4:$K$250))","v":0},{"$f":"SUMPRODUCT((YEAR('76'!$F$4:$F$250)=2003)*('76'!$K$4:$K$250))","v":0},{"$f":"SUMPRODUCT((YEAR('76'!$F$4:$F$250)=2004)*('76'!$K$4:$K$250))","v":0},{"$f":"SUMPRODUCT((YEAR('76'!$F$4:$F$250)=2005)*('76'!$K$4:$K$250))","v":0},{"$f":"SUMPRODUCT((YEAR('76'!$F$4:$F$250)=2006)*('76'!$K$4:$K$250))","v":0},{"$f":"SUMPRODUCT((YEAR('76'!$F$4:$F$250)=2007)*('76'!$K$4:$K$250))","v":0},{"$f":"SUMPRODUCT((YEAR('76'!$F$4:$F$250)=2008)*('76'!$K$4:$K$250))","v":0},{"$f":"SUMPRODUCT((YEAR('76'!$F$4:$F$250)=2009)*('76'!$K$4:$K$250))","v":0},{"$f":"SUMPRODUCT((YEAR('76'!$F$4:$F$250)=2010)*('76'!$K$4:$K$250))","v":0},{"$f":"SUMPRODUCT((YEAR('76'!$F$4:$F$250)=2011)*('76'!$K$4:$K$250))","v":0},{"$f":"SUMPRODUCT((YEAR('76'!$F$4:$F$250)=2012)*('76'!$K$4:$K$250))","v":0},{"$f":"SUMPRODUCT((YEAR('76'!$F$4:$F$250)=2013)*('76'!$K$4:$K$250))","v":0},{"$f":"SUMPRODUCT((YEAR('76'!$F$4:$F$250)=2014)*('76'!$K$4:$K$250))","v":0},{"$f":"SUMPRODUCT((YEAR('76'!$F$4:$F$250)=2015)*('76'!$K$4:$K$250))","v":0},{"$f":"SUMPRODUCT((YEAR('76'!$F$4:$F$250)=2016)*('76'!$K$4:$K$250))","v":0},{"$f":"SUMPRODUCT((YEAR('76'!$F$4:$F$250)=2017)*('76'!$K$4:$K$250))","v":0},{"$f":"SUMPRODUCT((YEAR('76'!$F$4:$F$250)=2018)*('76'!$K$4:$K$250))","v":0},{"$f":"SUMPRODUCT((YEAR('76'!$F$4:$F$250)=2019)*('76'!$K$4:$K$250))","v":0},{"$f":"SUMPRODUCT((YEAR('76'!$F$4:$F$250)=2020)*('76'!$K$4:$K$250))","v":0},{"$f":"SUMPRODUCT((YEAR('76'!$F$4:$F$250)=2021)*('76'!$K$4:$K$250))","v":0},{"$f":"SUMPRODUCT((YEAR('76'!$F$4:$F$250)=2022)*('76'!$K$4:$K$250))","v":0},{"$f":"SUMPRODUCT((YEAR('76'!$F$4:$F$250)=2023)*('76'!$K$4:$K$250))","v":0},{"$f":"SUMPRODUCT((YEAR('76'!$F$4:$F$250)=2024)*('76'!$K$4:$K$250))","v":0},{"$f":"SUMPRODUCT((YEAR('76'!$F$4:$F$250)=2025)*('76'!$K$4:$K$250))","v":0},{"$f":"SUMPRODUCT((YEAR('76'!$F$4:$F$250)=2026)*('76'!$K$4:$K$250))","v":0},{"$f":"SUMPRODUCT((YEAR('76'!$F$4:$F$250)=2027)*('76'!$K$4:$K$250))","v":0},{"$f":"SUMPRODUCT((YEAR('76'!$F$4:$F$250)=19202896)*('76'!$K$4:$K$250))","v":0},{"$f":"SUMPRODUCT((YEAR('76'!$F$4:$F$250)=2029)*('76'!$K$4:$K$250))","v":0},{"$f":"SUMPRODUCT((YEAR('76'!$F$4:$F$250)=2030)*('76'!$K$4:$K$250))","v":0},{"$f":"SUM(J13:AL13)-('76'!P4+'76'!S4)+4410","v":2921}]
[82,{"$f":"SUMPRODUCT((YEAR('82'!$F$4:$F$250)=1994)*('82'!$K$4:$K$250))","v":0},{"$f":"SUMPRODUCT((YEAR('82'!$F$4:$F$250)=1995)*('82'!$K$4:$K$250))","v":565},{"$f":"SUMPRODUCT((YEAR('82'!$F$4:$F$250)=1996)*('82'!$K$4:$K$250))","v":0},{"$f":"SUMPRODUCT((YEAR('82'!$F$4:$F$250)=1997)*('82'!$K$4:$K$250))","v":1110},{"$f":"SUMPRODUCT((YEAR('82'!$F$4:$F$250)=1998)*('82'!$K$4:$K$250))","v":0},{"$f":"SUMPRODUCT((YEAR('82'!$F$4:$F$250)=1999)*('82'!$K$4:$K$250))","v":0},{"$f":"SUMPRODUCT((YEAR('82'!$F$4:$F$250)=2000)*('82'!$K$4:$K$250))","v":1330},{"$f":"SUMPRODUCT((YEAR('82'!$F$4:$F$250)=2001)*('82'!$K$4:$K$250))","v":0},{"$f":"SUMPRODUCT((YEAR('82'!$F$4:$F$250)=2002)*('82'!$K$4:$K$250))","v":0},{"$f":"SUMPRODUCT((YEAR('82'!$F$4:$F$250)=2003)*('82'!$K$4:$K$250))","v":1600},{"$f":"SUMPRODUCT((YEAR('82'!$F$4:$F$250)=2004)*('82'!$K$4:$K$250))","v":0},{"$f":"SUMPRODUCT((YEAR('82'!$F$4:$F$250)=2005)*('82'!$K$4:$K$250))","v":0},{"$f":"SUMPRODUCT((YEAR('82'!$F$4:$F$250)=2006)*('82'!$K$4:$K$250))","v":0},{"$f":"SUMPRODUCT((YEAR('82'!$F$4:$F$250)=2007)*('82'!$K$4:$K$250))","v":0},{"$f":"SUMPRODUCT((YEAR('82'!$F$4:$F$250)=2008)*('82'!$K$4:$K$250))","v":0},{"$f":"SUMPRODUCT((YEAR('82'!$F$4:$F$250)=2009)*('82'!$K$4:$K$250))","v":0},{"$f":"SUMPRODUCT((YEAR('82'!$F$4:$F$250)=2010)*('82'!$K$4:$K$250))","v":0},{"$f":"SUMPRODUCT((YEAR('82'!$F$4:$F$250)=2011)*('82'!$K$4:$K$250))","v":0},{"$f":"SUMPRODUCT((YEAR('82'!$F$4:$F$250)=2012)*('82'!$K$4:$K$250))","v":2925},{"$f":"SUMPRODUCT((YEAR('82'!$F$4:$F$250)=2013)*('82'!$K$4:$K$250))","v":0},{"$f":"SUMPRODUCT((YEAR('82'!$F$4:$F$250)=2014)*('82'!$K$4:$K$250))","v":0},{"$f":"SUMPRODUCT((YEAR('82'!$F$4:$F$250)=2015)*('82'!$K$4:$K$250))","v":0},{"$f":"SUMPRODUCT((YEAR('82'!$F$4:$F$250)=2016)*('82'!$K$4:$K$250))","v":0},{"$f":"SUMPRODUCT((YEAR('82'!$F$4:$F$250)=2017)*('82'!$K$4:$K$250))","v":0},{"$f":"SUMPRODUCT((YEAR('82'!$F$4:$F$250)=2018)*('82'!$K$4:$K$250))","v":0},{"$f":"SUMPRODUCT((YEAR('82'!$F$4:$F$250)=2019)*('82'!$K$4:$K$250))","v":0},{"$f":"SUMPRODUCT((YEAR('82'!$F$4:$F$250)=2020)*('82'!$K$4:$K$250))","v":0},{"$f":"SUMPRODUCT((YEAR('82'!$F$4:$F$250)=2021)*('82'!$K$4:$K$250))","v":0},{"$f":"SUMPRODUCT((YEAR('82'!$F$4:$F$250)=2022)*('82'!$K$4:$K$250))","v":0},{"$f":"SUMPRODUCT((YEAR('82'!$F$4:$F$250)=2023)*('82'!$K$4:$K$250))","v":0},{"$f":"SUMPRODUCT((YEAR('82'!$F$4:$F$250)=2024)*('82'!$K$4:$K$250))","v":0},{"$f":"SUMPRODUCT((YEAR('82'!$F$4:$F$250)=2025)*('82'!$K$4:$K$250))","v":0},{"$f":"SUMPRODUCT((YEAR('82'!$F$4:$F$250)=2026)*('82'!$K$4:$K$250))","v":0},{"$f":"SUMPRODUCT((YEAR('82'!$F$4:$F$250)=2027)*('82'!$K$4:$K$250))","v":0},{"$f":"SUMPRODUCT((YEAR('82'!$F$4:$F$250)=2028)*('82'!$K$4:$K$250))","v":0},{"$f":"SUMPRODUCT((YEAR('82'!$F$4:$F$250)=2029)*('82'!$K$4:$K$250))","v":0},{"$f":"SUMPRODUCT((YEAR('82'!$F$4:$F$250)=2030)*('82'!$K$4:$K$250))","v":0},{"$f":"SUM(J14:AL14)-('82'!P5+'82'!S5)+1330","v":5855}]
[92,{"$f":"SUMPRODUCT((YEAR('92'!$F$4:$F$250)=1994)*('92'!$K$4:$K$250))","v":0},{"$f":"SUMPRODUCT((YEAR('92'!$F$4:$F$250)=1995)*('92'!$K$4:$K$250))","v":0},null,{"$f":"SUMPRODUCT((YEAR('92'!$F$4:$F$250)=1997)*('92'!$K$4:$K$250))","v":2726},{"$f":"SUMPRODUCT((YEAR('92'!$F$4:$F$250)=1998)*('92'!$K$4:$K$250))","v":0},{"$f":"SUMPRODUCT((YEAR('92'!$F$4:$F$250)=1999)*('92'!$K$4:$K$250))","v":0},{"$f":"SUMPRODUCT((YEAR('92'!$F$4:$F$250)=2000)*('92'!$K$4:$K$250))","v":0},{"$f":"SUMPRODUCT((YEAR('92'!$F$4:$F$250)=2001)*('92'!$K$4:$K$250))","v":0},{"$f":"SUMPRODUCT((YEAR('92'!$F$4:$F$250)=2002)*('92'!$K$4:$K$250))","v":0},{"$f":"SUMPRODUCT((YEAR('92'!$F$4:$F$250)=2003)*('92'!$K$4:$K$250))","v":0},{"$f":"SUMPRODUCT((YEAR('92'!$F$4:$F$250)=2004)*('92'!$K$4:$K$250))","v":2492},{"$f":"SUMPRODUCT((YEAR('92'!$F$4:$F$250)=2005)*('92'!$K$4:$K$250))","v":0},{"$f":"SUMPRODUCT((YEAR('92'!$F$4:$F$250)=2006)*('92'!$K$4:$K$250))","v":0},{"$f":"SUMPRODUCT((YEAR('92'!$F$4:$F$250)=2007)*('92'!$K$4:$K$250))","v":0},{"$f":"SUMPRODUCT((YEAR('92'!$F$4:$F$250)=2008)*('92'!$K$4:$K$250))","v":0},{"$f":"SUMPRODUCT((YEAR('92'!$F$4:$F$250)=2009)*('92'!$K$4:$K$250))","v":0},{"$f":"SUMPRODUCT((YEAR('92'!$F$4:$F$250)=2010)*('92'!$K$4:$K$250))","v":0},{"$f":"SUMPRODUCT((YEAR('92'!$F$4:$F$250)=2011)*('92'!$K$4:$K$250))","v":0},{"$f":"SUMPRODUCT((YEAR('92'!$F$4:$F$250)=2012)*('92'!$K$4:$K$250))","v":0},{"$f":"SUMPRODUCT((YEAR('92'!$F$4:$F$250)=2013)*('92'!$K$4:$K$250))","v":0},{"$f":"SUMPRODUCT((YEAR('92'!$F$4:$F$250)=2014)*('92'!$K$4:$K$250))","v":0},{"$f":"SUMPRODUCT((YEAR('92'!$F$4:$F$250)=2015)*('92'!$K$4:$K$250))","v":0},{"$f":"SUMPRODUCT((YEAR('92'!$F$4:$F$250)=2016)*('92'!$K$4:$K$250))","v":0},{"$f":"SUMPRODUCT((YEAR('92'!$F$4:$F$250)=2017)*('92'!$K$4:$K$250))","v":0},{"$f":"SUMPRODUCT((YEAR('92'!$F$4:$F$250)=2018)*('92'!$K$4:$K$250))","v":0},{"$f":"SUMPRODUCT((YEAR('92'!$F$4:$F$250)=2019)*('92'!$K$4:$K$250))","v":0},{"$f":"SUMPRODUCT((YEAR('92'!$F$4:$F$250)=2020)*('92'!$K$4:$K$250))","v":0},{"$f":"SUMPRODUCT((YEAR('92'!$F$4:$F$250)=2021)*('92'!$K$4:$K$250))","v":0},{"$f":"SUMPRODUCT((YEAR('92'!$F$4:$F$250)=2022)*('92'!$K$4:$K$250))","v":0},{"$f":"SUMPRODUCT((YEAR('92'!$F$4:$F$250)=2023)*('92'!$K$4:$K$250))","v":0},{"$f":"SUMPRODUCT((YEAR('92'!$F$4:$F$250)=2024)*('92'!$K$4:$K$250))","v":0},{"$f":"SUMPRODUCT((YEAR('92'!$F$4:$F$250)=2025)*('92'!$K$4:$K$250))","v":0},{"$f":"SUMPRODUCT((YEAR('92'!$F$4:$F$250)=2026)*('92'!$K$4:$K$250))","v":0},{"$f":"SUMPRODUCT((YEAR('92'!$F$4:$F$250)=2027)*('92'!$K$4:$K$250))","v":0},{"$f":"SUMPRODUCT((YEAR('92'!$F$4:$F$250)=2028)*('92'!$K$4:$K$250))","v":0},{"$f":"SUMPRODUCT((YEAR('92'!$F$4:$F$250)=2029)*('92'!$K$4:$K$250))","v":0},{"$f":"SUMPRODUCT((YEAR('92'!$F$4:$F$250)=2030)*('92'!$K$4:$K$250))","v":0},{"$f":"SUM(J15:AL15)-('92'!P4+'92'!S4)+1224","v":2450}]
[96,{"$f":"SUMPRODUCT((YEAR('96'!$F$4:$F$250)=1994)*('96'!$K$4:$K$250))","v":0},{"$f":"SUMPRODUCT((YEAR('96'!$F$4:$F$250)=1995)*('96'!$K$4:$K$250))","v":0},{"$f":"SUMPRODUCT((YEAR('96'!$F$4:$F$250)=1996)*('96'!$K$4:$K$250))","v":0},{"$f":"SUMPRODUCT((YEAR('96'!$F$4:$F$250)=1997)*('96'!$K$4:$K$250))","v":2918},{"$f":"SUMPRODUCT((YEAR('96'!$F$4:$F$250)=1998)*('96'!$K$4:$K$250))","v":0},{"$f":"SUMPRODUCT((YEAR('96'!$F$4:$F$250)=1999)*('96'!$K$4:$K$250))","v":0},{"$f":"SUMPRODUCT((YEAR('96'!$F$4:$F$250)=2000)*('96'!$K$4:$K$250))","v":0},{"$f":"SUMPRODUCT((YEAR('96'!$F$4:$F$250)=2001)*('96'!$K$4:$K$250))","v":0},{"$f":"SUMPRODUCT((YEAR('96'!$F$4:$F$250)=2002)*('96'!$K$4:$K$250))","v":0},{"$f":"SUMPRODUCT((YEAR('96'!$F$4:$F$250)=2003)*('96'!$K$4:$K$250))","v":0},{"$f":"SUMPRODUCT((YEAR('96'!$F$4:$F$250)=2004)*('96'!$K$4:$K$250))","v":0},{"$f":"SUMPRODUCT((YEAR('96'!$F$4:$F$250)=2005)*('96'!$K$4:$K$250))","v":0},{"$f":"SUMPRODUCT((YEAR('96'!$F$4:$F$250)=2006)*('96'!$K$4:$K$250))","v":0},{"$f":"SUMPRODUCT((YEAR('96'!$F$4:$F$250)=2007)*('96'!$K$4:$K$250))","v":0},{"$f":"SUMPRODUCT((YEAR('96'!$F$4:$F$250)=2008)*('96'!$K$4:$K$250))","v":0},{"$f":"SUMPRODUCT((YEAR('96'!$F$4:$F$250)=2009)*('96'!$K$4:$K$250))","v":0},{"$f":"SUMPRODUCT((YEAR('96'!$F$4:$F$250)=2010)*('96'!$K$4:$K$250))","v":0},{"$f":"SUMPRODUCT((YEAR('96'!$F$4:$F$250)=1996)*('96'!$K$4:$K$250))","v":0},{"$f":"SUMPRODUCT((YEAR('96'!$F$4:$F$250)=2012)*('96'!$K$4:$K$250))","v":0},{"$f":"SUMPRODUCT((YEAR('96'!$F$4:$F$250)=2013)*('96'!$K$4:$K$250))","v":0},{"$f":"SUMPRODUCT((YEAR('96'!$F$4:$F$250)=2014)*('96'!$K$4:$K$250))","v":0},{"$f":"SUMPRODUCT((YEAR('96'!$F$4:$F$250)=2015)*('96'!$K$4:$K$250))","v":0},{"$f":"SUMPRODUCT((YEAR('96'!$F$4:$F$250)=2016)*('96'!$K$4:$K$250))","v":0},{"$f":"SUMPRODUCT((YEAR('96'!$F$4:$F$250)=2017)*('96'!$K$4:$K$250))","v":0},{"$f":"SUMPRODUCT((YEAR('96'!$F$4:$F$250)=2018)*('96'!$K$4:$K$250))","v":0},{"$f":"SUMPRODUCT((YEAR('96'!$F$4:$F$250)=2019)*('96'!$K$4:$K$250))","v":0},{"$f":"SUMPRODUCT((YEAR('96'!$F$4:$F$250)=2020)*('96'!$K$4:$K$250))","v":0},{"$f":"SUMPRODUCT((YEAR('96'!$F$4:$F$250)=2021)*('96'!$K$4:$K$250))","v":0},{"$f":"SUMPRODUCT((YEAR('96'!$F$4:$F$250)=2022)*('96'!$K$4:$K$250))","v":0},{"$f":"SUMPRODUCT((YEAR('96'!$F$4:$F$250)=2023)*('96'!$K$4:$K$250))","v":0},{"$f":"SUMPRODUCT((YEAR('96'!$F$4:$F$250)=2024)*('96'!$K$4:$K$250))","v":0},{"$f":"SUMPRODUCT((YEAR('96'!$F$4:$F$250)=2025)*('96'!$K$4:$K$250))","v":0},{"$f":"SUMPRODUCT((YEAR('96'!$F$4:$F$250)=2026)*('96'!$K$4:$K$250))","v":0},{"$f":"SUMPRODUCT((YEAR('96'!$F$4:$F$250)=2027)*('96'!$K$4:$K$250))","v":0},{"$f":"SUMPRODUCT((YEAR('96'!$F$4:$F$250)=2028)*('96'!$K$4:$K$250))","v":0},{"$f":"SUMPRODUCT((YEAR('96'!$F$4:$F$250)=2029)*('96'!$K$4:$K$250))","v":0},{"$f":"SUMPRODUCT((YEAR('96'!$F$4:$F$250)=2030)*('96'!$K$4:$K$250))","v":0},{"$f":"SUM(J16:AL16)-('96'!P4+'96'!S4)+1567","v":813}]
[102,{"$f":"SUMPRODUCT((YEAR('102'!$F$5:$F$251)=1994)*('102'!$K$5:$K$251))","v":0},{"$f":"SUMPRODUCT((YEAR('102'!$F$5:$F$251)=1995)*('102'!$K$5:$K$251))","v":0},{"$f":"SUMPRODUCT((YEAR('102'!$F$5:$F$251)=1996)*('102'!$K$5:$K$251))","v":0},{"$f":"SUMPRODUCT((YEAR('102'!$F$5:$F$251)=1997)*('102'!$K$5:$K$251))","v":2784},{"$f":"SUMPRODUCT((YEAR('102'!$F$5:$F$251)=1998)*('102'!$K$5:$K$251))","v":0},{"$f":"SUMPRODUCT((YEAR('102'!$F$5:$F$251)=1999)*('102'!$K$5:$K$251))","v":0},{"$f":"SUMPRODUCT((YEAR('102'!$F$5:$F$251)=2000)*('102'!$K$5:$K$251))","v":0},{"$f":"SUMPRODUCT((YEAR('102'!$F$5:$F$251)=2001)*('102'!$K$5:$K$251))","v":0},{"$f":"SUMPRODUCT((YEAR('102'!$F$5:$F$251)=2002)*('102'!$K$5:$K$251))","v":0},{"$f":"SUMPRODUCT((YEAR('102'!$F$5:$F$251)=2003)*('102'!$K$5:$K$251))","v":0},0,{"$f":"SUMPRODUCT((YEAR('102'!$F$5:$F$251)=2005)*('102'!$K$5:$K$251))","v":0},{"$f":"SUMPRODUCT((YEAR('102'!$F$5:$F$251)=2003)*('102'!$K$5:$K$251))","v":0},{"$f":"SUMPRODUCT((YEAR('102'!$F$5:$F$251)=2007)*('102'!$K$5:$K$251))","v":0},{"$f":"SUMPRODUCT((YEAR('102'!$F$5:$F$251)=2008)*('102'!$K$5:$K$251))","v":0},{"$f":"SUMPRODUCT((YEAR('102'!$F$5:$F$251)=2009)*('102'!$K$5:$K$251))","v":0},{"$f":"SUMPRODUCT((YEAR('102'!$F$5:$F$251)=2010)*('102'!$K$5:$K$251))","v":0},{"$f":"SUMPRODUCT((YEAR('102'!$F$5:$F$251)=2011)*('102'!$K$5:$K$251))","v":0},{"$f":"SUMPRODUCT((YEAR('102'!$F$5:$F$251)=2012)*('102'!$K$5:$K$251))","v":0},{"$f":"SUMPRODUCT((YEAR('102'!$F$5:$F$251)=2013)*('102'!$K$5:$K$251))","v":0},{"$f":"SUMPRODUCT((YEAR('102'!$F$5:$F$251)=2014)*('102'!$K$5:$K$251))","v":0},{"$f":"SUMPRODUCT((YEAR('102'!$F$5:$F$251)=2015)*('102'!$K$5:$K$251))","v":0},{"$f":"SUMPRODUCT((YEAR('102'!$F$5:$F$251)=2016)*('102'!$K$5:$K$251))","v":0},{"$f":"SUMPRODUCT((YEAR('102'!$F$5:$F$251)=2017)*('102'!$K$5:$K$251))","v":0},{"$f":"SUMPRODUCT((YEAR('102'!$F$5:$F$251)=2018)*('102'!$K$5:$K$251))","v":0},{"$f":"SUMPRODUCT((YEAR('102'!$F$5:$F$251)=2019)*('102'!$K$5:$K$251))","v":0},{"$f":"SUMPRODUCT((YEAR('102'!$F$5:$F$251)=2020)*('102'!$K$5:$K$251))","v":0},{"$f":"SUMPRODUCT((YEAR('102'!$F$5:$F$251)=2021)*('102'!$K$5:$K$251))","v":0},{"$f":"SUMPRODUCT((YEAR('102'!$F$5:$F$251)=2022)*('102'!$K$5:$K$251))","v":0},{"$f":"SUMPRODUCT((YEAR('102'!$F$5:$F$251)=2023)*('102'!$K$5:$K$251))","v":0},{"$f":"SUMPRODUCT((YEAR('102'!$F$5:$F$251)=2024)*('102'!$K$5:$K$251))","v":0},{"$f":"SUMPRODUCT((YEAR('102'!$F$5:$F$251)=2025)*('102'!$K$5:$K$251))","v":0},{"$f":"SUMPRODUCT((YEAR('102'!$F$5:$F$251)=2026)*('102'!$K$5:$K$251))","v":0},{"$f":"SUMPRODUCT((YEAR('102'!$F$5:$F$251)=2027)*('102'!$K$5:$K$251))","v":0},{"$f":"SUMPRODUCT((YEAR('102'!$F$5:$F$251)=2028)*('102'!$K$5:$K$251))","v":0},{"$f":"SUMPRODUCT((YEAR('102'!$F$5:$F$251)=2029)*('102'!$K$5:$K$251))","v":0},{"$f":"SUMPRODUCT((YEAR('102'!$F$5:$F$251)=2030)*('102'!$K$5:$K$251))","v":0},{"$f":"SUM(J17:AL17)-('96'!P5+'96'!S5)+1567","v":1567}]
[112,{"$f":"SUMPRODUCT((YEAR('112'!$F$4:$F$250)=1994)*('112'!$K$4:$K$250))","v":0},{"$f":"SUMPRODUCT((YEAR('112'!$F$4:$F$250)=1995)*('112'!$K$4:$K$250))","v":0},{"$f":"SUMPRODUCT((YEAR('112'!$F$4:$F$250)=1996)*('112'!$K$4:$K$250))","v":0},{"$f":"SUMPRODUCT((YEAR('112'!$F$4:$F$250)=1997)*('112'!$K$4:$K$250))","v":2910},{"$f":"SUMPRODUCT((YEAR('112'!$F$4:$F$250)=1998)*('112'!$K$4:$K$250))","v":0},{"$f":"SUMPRODUCT((YEAR('112'!$F$4:$F$250)=1999)*('112'!$K$4:$K$250))","v":0},{"$f":"SUMPRODUCT((YEAR('112'!$F$4:$F$250)=2000)*('112'!$K$4:$K$250))","v":0},{"$f":"SUMPRODUCT((YEAR('112'!$F$4:$F$250)=2001)*('112'!$K$4:$K$250))","v":0},{"$f":"SUMPRODUCT((YEAR('112'!$F$4:$F$250)=2002)*('112'!$K$4:$K$250))","v":0},{"$f":"SUMPRODUCT((YEAR('112'!$F$4:$F$250)=2003)*('112'!$K$4:$K$250))","v":0},{"$f":"SUMPRODUCT((YEAR('112'!$F$4:$F$250)=2004)*('112'!$K$4:$K$250))","v":0},{"$f":"SUMPRODUCT((YEAR('112'!$F$4:$F$250)=2005)*('112'!$K$4:$K$250))","v":0},{"$f":"SUMPRODUCT((YEAR('112'!$F$4:$F$250)=2006)*('112'!$K$4:$K$250))","v":0},{"$f":"SUMPRODUCT((YEAR('112'!$F$4:$F$250)=2007)*('112'!$K$4:$K$250))","v":0},{"$f":"SUMPRODUCT((YEAR('112'!$F$4:$F$250)=2008)*('112'!$K$4:$K$250))","v":0},{"$f":"SUMPRODUCT((YEAR('112'!$F$4:$F$250)=2009)*('112'!$K$4:$K$250))","v":0},{"$f":"SUMPRODUCT((YEAR('112'!$F$4:$F$250)=2010)*('112'!$K$4:$K$250))","v":0},{"$f":"SUMPRODUCT((YEAR('112'!$F$4:$F$250)=2011)*('112'!$K$4:$K$250))","v":0},{"$f":"SUMPRODUCT((YEAR('112'!$F$4:$F$250)=2012)*('112'!$K$4:$K$250))","v":0},{"$f":"SUMPRODUCT((YEAR('112'!$F$4:$F$250)=2013)*('112'!$K$4:$K$250))","v":0},{"$f":"SUMPRODUCT((YEAR('112'!$F$4:$F$250)=2014)*('112'!$K$4:$K$250))","v":0},{"$f":"SUMPRODUCT((YEAR('112'!$F$4:$F$250)=2015)*('112'!$K$4:$K$250))","v":0},{"$f":"SUMPRODUCT((YEAR('112'!$F$4:$F$250)=2016)*('112'!$K$4:$K$250))","v":0},{"$f":"SUMPRODUCT((YEAR('112'!$F$4:$F$250)=2017)*('112'!$K$4:$K$250))","v":0},{"$f":"SUMPRODUCT((YEAR('112'!$F$4:$F$250)=2018)*('112'!$K$4:$K$250))","v":0},{"$f":"SUMPRODUCT((YEAR('112'!$F$4:$F$250)=2019)*('112'!$K$4:$K$250))","v":0},{"$f":"SUMPRODUCT((YEAR('112'!$F$4:$F$250)=2020)*('112'!$K$4:$K$250))","v":0},{"$f":"SUMPRODUCT((YEAR('112'!$F$4:$F$250)=2021)*('112'!$K$4:$K$250))","v":0},{"$f":"SUMPRODUCT((YEAR('112'!$F$4:$F$250)=2022)*('112'!$K$4:$K$250))","v":0},{"$f":"SUMPRODUCT((YEAR('112'!$F$4:$F$250)=2023)*('112'!$K$4:$K$250))","v":0},{"$f":"SUMPRODUCT((YEAR('112'!$F$4:$F$250)=2024)*('112'!$K$4:$K$250))","v":0},{"$f":"SUMPRODUCT((YEAR('112'!$F$4:$F$250)=2025)*('112'!$K$4:$K$250))","v":0},{"$f":"SUMPRODUCT((YEAR('112'!$F$4:$F$250)=2026)*('112'!$K$4:$K$250))","v":0},{"$f":"SUMPRODUCT((YEAR('112'!$F$4:$F$250)=2027)*('112'!$K$4:$K$250))","v":0},{"$f":"SUMPRODUCT((YEAR('112'!$F$4:$F$250)=2028)*('112'!$K$4:$K$250))","v":0},{"$f":"SUMPRODUCT((YEAR('112'!$F$4:$F$250)=2029)*('112'!$K$4:$K$250))","v":0},{"$f":"SUMPRODUCT((YEAR('112'!$F$4:$F$250)=2030)*('112'!$K$4:$K$250))","v":0},{"$f":"SUM(B18:AL18)-('92'!P6+'92'!S5)-114","v":2796}]
[127,{"$f":"SUMPRODUCT((YEAR('127'!$F$4:$F$250)=1994)*('112'!$K$4:$K$250))","v":0},{"$f":"SUMPRODUCT((YEAR('127'!$F$4:$F$250)=1995)*('127'!$K$4:$K$250))","v":0},{"$f":"SUMPRODUCT((YEAR('127'!$F$4:$F$250)=1996)*('127'!$K$4:$K$250))","v":0},{"$f":"SUMPRODUCT((YEAR('127'!$F$4:$F$250)=1997)*('127'!$K$4:$K$250))","v":1430},{"$f":"SUMPRODUCT((YEAR('127'!$F$4:$F$250)=1998)*('127'!$K$4:$K$250))","v":0},{"$f":"SUMPRODUCT((YEAR('127'!$F$4:$F$250)=1999)*('127'!$K$4:$K$250))","v":0},{"$f":"SUMPRODUCT((YEAR('127'!$F$4:$F$250)=2000)*('127'!$K$4:$K$250))","v":1768},{"$f":"SUMPRODUCT((YEAR('127'!$F$4:$F$250)=2001)*('127'!$K$4:$K$250))","v":0},{"$f":"SUMPRODUCT((YEAR('127'!$F$4:$F$250)=2002)*('127'!$K$4:$K$250))","v":0},{"$f":"SUMPRODUCT((YEAR('127'!$F$4:$F$250)=2003)*('127'!$K$4:$K$250))","v":0},{"$f":"SUMPRODUCT((YEAR('127'!$F$4:$F$250)=2004)*('127'!$K$4:$K$250))","v":0},{"$f":"SUMPRODUCT((YEAR('127'!$F$4:$F$250)=2005)*('127'!$K$4:$K$250))","v":0},{"$f":"SUMPRODUCT((YEAR('127'!$F$4:$F$250)=2006)*('127'!$K$4:$K$250))","v":0},{"$f":"SUMPRODUCT((YEAR('127'!$F$4:$F$250)=2007)*('127'!$K$4:$K$250))","v":0},{"$f":"SUMPRODUCT((YEAR('127'!$F$4:$F$250)=2008)*('127'!$K$4:$K$250))","v":0},{"$f":"SUMPRODUCT((YEAR('127'!$F$4:$F$250)=2009)*('127'!$K$4:$K$250))","v":0},{"$f":"SUMPRODUCT((YEAR('127'!$F$4:$F$250)=2010)*('127'!$K$4:$K$250))","v":0},{"$f":"SUMPRODUCT((YEAR('127'!$F$4:$F$250)=2011)*('127'!$K$4:$K$250))","v":0},{"$f":"SUMPRODUCT((YEAR('127'!$F$4:$F$250)=2012)*('127'!$K$4:$K$250))","v":0},{"$f":"SUMPRODUCT((YEAR('127'!$F$4:$F$250)=2013)*('127'!$K$4:$K$250))","v":0},{"$f":"SUMPRODUCT((YEAR('127'!$F$4:$F$250)=2014)*('127'!$K$4:$K$250))","v":0},{"$f":"SUMPRODUCT((YEAR('127'!$F$4:$F$250)=2015)*('127'!$K$4:$K$250))","v":0},{"$f":"SUMPRODUCT((YEAR('127'!$F$4:$F$250)=2016)*('127'!$K$4:$K$250))","v":0},{"$f":"SUMPRODUCT((YEAR('127'!$F$4:$F$250)=2017)*('127'!$K$4:$K$250))","v":0},{"$f":"SUMPRODUCT((YEAR('127'!$F$4:$F$250)=2018)*('127'!$K$4:$K$250))","v":0},{"$f":"SUMPRODUCT((YEAR('127'!$F$4:$F$250)=2019)*('127'!$K$4:$K$250))","v":0},{"$f":"SUMPRODUCT((YEAR('127'!$F$4:$F$250)=2020)*('127'!$K$4:$K$250))","v":0},{"$f":"SUMPRODUCT((YEAR('127'!$F$4:$F$250)=2021)*('127'!$K$4:$K$250))","v":0},{"$f":"SUMPRODUCT((YEAR('127'!$F$4:$F$250)=2022)*('127'!$K$4:$K$250))","v":0},{"$f":"SUMPRODUCT((YEAR('127'!$F$4:$F$250)=2023)*('127'!$K$4:$K$250))","v":0},{"$f":"SUMPRODUCT((YEAR('127'!$F$4:$F$250)=2024)*('127'!$K$4:$K$250))","v":0},{"$f":"SUMPRODUCT((YEAR('127'!$F$4:$F$250)=2025)*('127'!$K$4:$K$250))","v":0},{"$f":"SUMPRODUCT((YEAR('127'!$F$4:$F$250)=2026)*('127'!$K$4:$K$250))","v":0},{"$f":"SUMPRODUCT((YEAR('127'!$F$4:$F$250)=2027)*('127'!$K$4:$K$250))","v":0},{"$f":"SUMPRODUCT((YEAR('127'!$F$4:$F$250)=2028)*('127'!$K$4:$K$250))","v":0},{"$f":"SUMPRODUCT((YEAR('127'!$F$4:$F$250)=19202996)*('127'!$K$4:$K$250))","v":0},{"$f":"SUMPRODUCT((YEAR('127'!$F$4:$F$250)=2030)*('127'!$K$4:$K$250))","v":0},{"$f":"SUM(B19:AL19)-('92'!P4+'92'!S4)-1457","v":475}]
[131,{"$f":"SUMPRODUCT((YEAR('131'!$F$4:$F$250)=1994)*('131'!$K$4:$K$250))","v":0},{"$f":"SUMPRODUCT((YEAR('131'!$F$4:$F$250)=1995)*('131'!$K$4:$K$250))","v":0},{"$f":"SUMPRODUCT((YEAR('131'!$F$4:$F$250)=1996)*('131'!$K$4:$K$250))","v":0},{"$f":"SUMPRODUCT((YEAR('131'!$F$4:$F$250)=1997)*('131'!$K$4:$K$250))","v":238},{"$f":"SUMPRODUCT((YEAR('131'!$F$4:$F$250)=1998)*('131'!$K$4:$K$250))","v":0},{"$f":"SUMPRODUCT((YEAR('131'!$F$4:$F$250)=1999)*('131'!$K$4:$K$250))","v":0},{"$f":"SUMPRODUCT((YEAR('131'!$F$4:$F$250)=2000)*('131'!$K$4:$K$250))","v":0},{"$f":"SUMPRODUCT((YEAR('131'!$F$4:$F$250)=2001)*('131'!$K$4:$K$250))","v":0},{"$f":"SUMPRODUCT((YEAR('131'!$F$4:$F$250)=2002)*('131'!$K$4:$K$250))","v":0},{"$f":"SUMPRODUCT((YEAR('131'!$F$4:$F$250)=2003)*('131'!$K$4:$K$250))","v":0},{"$f":"SUMPRODUCT((YEAR('131'!$F$4:$F$250)=2004)*('131'!$K$4:$K$250))","v":0},{"$f":"SUMPRODUCT((YEAR('131'!$F$4:$F$250)=2005)*('131'!$K$4:$K$250))","v":0},{"$f":"SUMPRODUCT((YEAR('131'!$F$4:$F$250)=2006)*('131'!$K$4:$K$250))","v":0},{"$f":"SUMPRODUCT((YEAR('131'!$F$4:$F$250)=2007)*('131'!$K$4:$K$250))","v":0},{"$f":"SUMPRODUCT((YEAR('131'!$F$4:$F$250)=2008)*('131'!$K$4:$K$250))","v":0},{"$f":"SUMPRODUCT((YEAR('131'!$F$4:$F$250)=2009)*('131'!$K$4:$K$250))","v":0},{"$f":"SUMPRODUCT((YEAR('131'!$F$4:$F$250)=2010)*('131'!$K$4:$K$250))","v":0},{"$f":"SUMPRODUCT((YEAR('131'!$F$4:$F$250)=2011)*('131'!$K$4:$K$250))","v":0},{"$f":"SUMPRODUCT((YEAR('131'!$F$4:$F$250)=2012)*('131'!$K$4:$K$250))","v":0},{"$f":"SUMPRODUCT((YEAR('131'!$F$4:$F$250)=2013)*('131'!$K$4:$K$250))","v":0},{"$f":"SUMPRODUCT((YEAR('131'!$F$4:$F$250)=2014)*('131'!$K$4:$K$250))","v":0},{"$f":"SUMPRODUCT((YEAR('131'!$F$4:$F$250)=2015)*('131'!$K$4:$K$250))","v":0},{"$f":"SUMPRODUCT((YEAR('131'!$F$4:$F$250)=2016)*('131'!$K$4:$K$250))","v":0},{"$f":"SUMPRODUCT((YEAR('131'!$F$4:$F$250)=2017)*('131'!$K$4:$K$250))","v":0},{"$f":"SUMPRODUCT((YEAR('131'!$F$4:$F$250)=2018)*('131'!$K$4:$K$250))","v":0},{"$f":"SUMPRODUCT((YEAR('131'!$F$4:$F$250)=2019)*('131'!$K$4:$K$250))","v":0},{"$f":"SUMPRODUCT((YEAR('131'!$F$4:$F$250)=2020)*('131'!$K$4:$K$250))","v":0},{"$f":"SUMPRODUCT((YEAR('131'!$F$4:$F$250)=2021)*('131'!$K$4:$K$250))","v":0},{"$f":"SUMPRODUCT((YEAR('131'!$F$4:$F$250)=2022)*('131'!$K$4:$K$250))","v":0},{"$f":"SUMPRODUCT((YEAR('131'!$F$4:$F$250)=2023)*('131'!$K$4:$K$250))","v":0},{"$f":"SUMPRODUCT((YEAR('131'!$F$4:$F$250)=2024)*('131'!$K$4:$K$250))","v":0},{"$f":"SUMPRODUCT((YEAR('131'!$F$4:$F$250)=2025)*('131'!$K$4:$K$250))","v":0},{"$f":"SUMPRODUCT((YEAR('131'!$F$4:$F$250)=2026)*('131'!$K$4:$K$250))","v":0},{"$f":"SUMPRODUCT((YEAR('131'!$F$4:$F$250)=2027)*('131'!$K$4:$K$250))","v":0},{"$f":"SUMPRODUCT((YEAR('131'!$F$4:$F$250)=2028)*('131'!$K$4:$K$250))","v":0},{"$f":"SUMPRODUCT((YEAR('131'!$F$4:$F$250)=2029)*('131'!$K$4:$K$250))","v":0},{"$f":"SUMPRODUCT((YEAR('131'!$F$4:$F$250)=2030)*('131'!$K$4:$K$250))","v":0},{"$f":"SUM(J20:AL20)-('131'!P4+'131'!S4)+238","v":53}]
[142,{"$f":"SUMPRODUCT((YEAR('142'!$F$4:$F$250)=1994)*('142'!$K$4:$K$250))","v":0},{"$f":"SUMPRODUCT((YEAR('142'!$F$4:$F$250)=1995)*('142'!$K$4:$K$250))","v":0},{"$f":"SUMPRODUCT((YEAR('142'!$F$4:$F$250)=1996)*('142'!$K$4:$K$250))","v":0},{"$f":"SUMPRODUCT((YEAR('142'!$F$4:$F$250)=1997)*('142'!$K$4:$K$250))","v":0},{"$f":"SUMPRODUCT((YEAR('142'!$F$4:$F$250)=1998)*('142'!$K$4:$K$250))","v":0},{"$f":"SUMPRODUCT((YEAR('142'!$F$4:$F$250)=1999)*('142'!$K$4:$K$250))","v":0},{"$f":"SUMPRODUCT((YEAR('142'!$F$4:$F$250)=2000)*('142'!$K$4:$K$250))","v":1900},{"$f":"SUMPRODUCT((YEAR('142'!$F$4:$F$250)=2001)*('142'!$K$4:$K$250))","v":0},{"$f":"SUMPRODUCT((YEAR('142'!$F$4:$F$250)=2002)*('142'!$K$4:$K$250))","v":0},{"$f":"SUMPRODUCT((YEAR('142'!$F$4:$F$250)=2003)*('142'!$K$4:$K$250))","v":0},{"$f":"SUMPRODUCT((YEAR('142'!$F$4:$F$250)=2004)*('142'!$K$4:$K$250))","v":0},{"$f":"SUMPRODUCT((YEAR('142'!$F$4:$F$250)=2005)*('142'!$K$4:$K$250))","v":0},{"$f":"SUMPRODUCT((YEAR('142'!$F$4:$F$250)=2006)*('142'!$K$4:$K$250))","v":0},{"$f":"SUMPRODUCT((YEAR('142'!$F$4:$F$250)=2007)*('142'!$K$4:$K$250))","v":0},{"$f":"SUMPRODUCT((YEAR('142'!$F$4:$F$250)=2008)*('142'!$K$4:$K$250))","v":0},{"$f":"SUMPRODUCT((YEAR('142'!$F$4:$F$250)=2009)*('142'!$K$4:$K$250))","v":0},{"$f":"SUMPRODUCT((YEAR('142'!$F$4:$F$250)=2010)*('142'!$K$4:$K$250))","v":0},{"$f":"SUMPRODUCT((YEAR('142'!$F$4:$F$250)=2011)*('142'!$K$4:$K$250))","v":0},{"$f":"SUMPRODUCT((YEAR('142'!$F$4:$F$250)=2012)*('142'!$K$4:$K$250))","v":0},{"$f":"SUMPRODUCT((YEAR('142'!$F$4:$F$250)=2013)*('142'!$K$4:$K$250))","v":0},{"$f":"SUMPRODUCT((YEAR('142'!$F$4:$F$250)=2014)*('142'!$K$4:$K$250))","v":0},{"$f":"SUMPRODUCT((YEAR('142'!$F$4:$F$250)=2015)*('142'!$K$4:$K$250))","v":0},{"$f":"SUMPRODUCT((YEAR('142'!$F$4:$F$250)=2016)*('142'!$K$4:$K$250))","v":0},{"$f":"SUMPRODUCT((YEAR('142'!$F$4:$F$250)=2017)*('142'!$K$4:$K$250))","v":0},{"$f":"SUMPRODUCT((YEAR('142'!$F$4:$F$250)=2018)*('142'!$K$4:$K$250))","v":0},{"$f":"SUMPRODUCT((YEAR('142'!$F$4:$F$250)=2019)*('142'!$K$4:$K$250))","v":0},{"$f":"SUMPRODUCT((YEAR('142'!$F$4:$F$250)=2020)*('142'!$K$4:$K$250))","v":0},{"$f":"SUMPRODUCT((YEAR('142'!$F$4:$F$250)=2021)*('142'!$K$4:$K$250))","v":0},{"$f":"SUMPRODUCT((YEAR('142'!$F$4:$F$250)=2022)*('142'!$K$4:$K$250))","v":0},{"$f":"SUMPRODUCT((YEAR('142'!$F$4:$F$250)=2023)*('142'!$K$4:$K$250))","v":0},{"$f":"SUMPRODUCT((YEAR('142'!$F$4:$F$250)=2024)*('142'!$K$4:$K$250))","v":0},{"$f":"SUMPRODUCT((YEAR('142'!$F$4:$F$250)=2025)*('142'!$K$4:$K$250))","v":0},{"$f":"SUMPRODUCT((YEAR('142'!$F$4:$F$250)=2026)*('142'!$K$4:$K$250))","v":0},{"$f":"SUMPRODUCT((YEAR('142'!$F$4:$F$250)=2027)*('142'!$K$4:$K$250))","v":0},{"$f":"SUMPRODUCT((YEAR('142'!$F$4:$F$250)=2028)*('142'!$K$4:$K$250))","v":0},{"$f":"SUMPRODUCT((YEAR('142'!$F$4:$F$250)=2029)*('142'!$K$4:$K$250))","v":0},{"$f":"SUMPRODUCT((YEAR('142'!$F$4:$F$250)=2030)*('142'!$K$4:$K$250))","v":0},{"$f":"SUM(J21:AL21)-('142'!P4+'142'!S4)+1900","v":802}]
[152,{"$f":"SUMPRODUCT((YEAR('152'!$F$4:$F$250)=1994)*('152'!$K$4:$K$250))","v":0},{"$f":"SUMPRODUCT((YEAR('152'!$F$4:$F$250)=1995)*('152'!$K$4:$K$250))","v":0},{"$f":"SUMPRODUCT((YEAR('152'!$F$4:$F$250)=1996)*('152'!$K$4:$K$250))","v":0},{"$f":"SUMPRODUCT((YEAR('152'!$F$4:$F$250)=1997)*('152'!$K$4:$K$250))","v":0},{"$f":"SUMPRODUCT((YEAR('152'!$F$4:$F$250)=1998)*('152'!$K$4:$K$250))","v":0},{"$f":"SUMPRODUCT((YEAR('152'!$F$4:$F$250)=1999)*('152'!$K$4:$K$250))","v":0},{"$f":"SUMPRODUCT((YEAR('152'!$F$4:$F$250)=2000)*('152'!$K$4:$K$250))","v":860},{"$f":"SUMPRODUCT((YEAR('152'!$F$4:$F$250)=2001)*('152'!$K$4:$K$250))","v":0},{"$f":"SUMPRODUCT((YEAR('152'!$F$4:$F$250)=2002)*('152'!$K$4:$K$250))","v":0},{"$f":"SUMPRODUCT((YEAR('152'!$F$4:$F$250)=2003)*('152'!$K$4:$K$250))","v":0},{"$f":"SUMPRODUCT((YEAR('152'!$F$4:$F$250)=2004)*('152'!$K$4:$K$250))","v":0},{"$f":"SUMPRODUCT((YEAR('152'!$F$4:$F$250)=2005)*('152'!$K$4:$K$250))","v":0},{"$f":"SUMPRODUCT((YEAR('152'!$F$4:$F$250)=2006)*('152'!$K$4:$K$250))","v":0},{"$f":"SUMPRODUCT((YEAR('152'!$F$4:$F$250)=2007)*('152'!$K$4:$K$250))","v":0},{"$f":"SUMPRODUCT((YEAR('152'!$F$4:$F$250)=2008)*('152'!$K$4:$K$250))","v":0},{"$f":"SUMPRODUCT((YEAR('152'!$F$4:$F$250)=2009)*('152'!$K$4:$K$250))","v":0},{"$f":"SUMPRODUCT((YEAR('152'!$F$4:$F$250)=2010)*('152'!$K$4:$K$250))","v":0},{"$f":"SUMPRODUCT((YEAR('152'!$F$4:$F$250)=2011)*('152'!$K$4:$K$250))","v":0},{"$f":"SUMPRODUCT((YEAR('152'!$F$4:$F$250)=2012)*('152'!$K$4:$K$250))","v":0},{"$f":"SUMPRODUCT((YEAR('152'!$F$4:$F$250)=2013)*('152'!$K$4:$K$250))","v":0},{"$f":"SUMPRODUCT((YEAR('152'!$F$4:$F$250)=2014)*('152'!$K$4:$K$250))","v":0},{"$f":"SUMPRODUCT((YEAR('152'!$F$4:$F$250)=2015)*('152'!$K$4:$K$250))","v":0},{"$f":"SUMPRODUCT((YEAR('152'!$F$4:$F$250)=2016)*('152'!$K$4:$K$250))","v":0},{"$f":"SUMPRODUCT((YEAR('152'!$F$4:$F$250)=2017)*('152'!$K$4:$K$250))","v":0},{"$f":"SUMPRODUCT((YEAR('152'!$F$4:$F$250)=2018)*('152'!$K$4:$K$250))","v":0},{"$f":"SUMPRODUCT((YEAR('152'!$F$4:$F$250)=2019)*('152'!$K$4:$K$250))","v":0},{"$f":"SUMPRODUCT((YEAR('152'!$F$4:$F$250)=2020)*('152'!$K$4:$K$250))","v":0},{"$f":"SUMPRODUCT((YEAR('152'!$F$4:$F$250)=2021)*('152'!$K$4:$K$250))","v":0},{"$f":"SUMPRODUCT((YEAR('152'!$F$4:$F$250)=2022)*('152'!$K$4:$K$250))","v":0},{"$f":"SUMPRODUCT((YEAR('152'!$F$4:$F$250)=2023)*('152'!$K$4:$K$250))","v":0},{"$f":"SUMPRODUCT((YEAR('152'!$F$4:$F$250)=2024)*('152'!$K$4:$K$250))","v":0},{"$f":"SUMPRODUCT((YEAR('152'!$F$4:$F$250)=2025)*('152'!$K$4:$K$250))","v":0},{"$f":"SUMPRODUCT((YEAR('152'!$F$4:$F$250)=2026)*('152'!$K$4:$K$250))","v":0},{"$f":"SUMPRODUCT((YEAR('152'!$F$4:$F$250)=2027)*('152'!$K$4:$K$250))","v":0},{"$f":"SUMPRODUCT((YEAR('152'!$F$4:$F$250)=2028)*('152'!$K$4:$K$250))","v":0},{"$f":"SUMPRODUCT((YEAR('152'!$F$4:$F$250)=2029)*('152'!$K$4:$K$250))","v":0},{"$f":"SUMPRODUCT((YEAR('152'!$F$4:$F$250)=2030)*('152'!$K$4:$K$250))","v":0},{"$f":"SUM(J22:AL22)-('152'!P10+'152'!S9)+436","v":436}]
[182,{"$f":"SUMPRODUCT((YEAR('182'!$F$4:$F$250)=1994)*('182'!$K$4:$K$250))","v":0},{"$f":"SUMPRODUCT((YEAR('182'!$F$4:$F$250)=1995)*('182'!$K$4:$K$250))","v":0},{"$f":"SUMPRODUCT((YEAR('182'!$F$4:$F$250)=1996)*('182'!$K$4:$K$250))","v":0},{"$f":"SUMPRODUCT((YEAR('182'!$F$4:$F$250)=1997)*('182'!$K$4:$K$250))","v":82},{"$f":"SUMPRODUCT((YEAR('182'!$F$4:$F$250)=1998)*('182'!$K$4:$K$250))","v":0},{"$f":"SUMPRODUCT((YEAR('182'!$F$4:$F$250)=1999)*('182'!$K$4:$K$250))","v":0},{"$f":"SUMPRODUCT((YEAR('182'!$F$4:$F$250)=2000)*('182'!$K$4:$K$250))","v":0},{"$f":"SUMPRODUCT((YEAR('182'!$F$4:$F$250)=2001)*('182'!$K$4:$K$250))","v":0},{"$f":"SUMPRODUCT((YEAR('182'!$F$4:$F$250)=2002)*('182'!$K$4:$K$250))","v":0},{"$f":"SUMPRODUCT((YEAR('182'!$F$4:$F$250)=2003)*('182'!$K$4:$K$250))","v":0},{"$f":"SUMPRODUCT((YEAR('182'!$F$4:$F$250)=2004)*('182'!$K$4:$K$250))","v":0},{"$f":"SUMPRODUCT((YEAR('182'!$F$4:$F$250)=2005)*('182'!$K$4:$K$250))","v":0},{"$f":"SUMPRODUCT((YEAR('182'!$F$4:$F$250)=2006)*('182'!$K$4:$K$250))","v":0},{"$f":"SUMPRODUCT((YEAR('182'!$F$4:$F$250)=2007)*('182'!$K$4:$K$250))","v":0},{"$f":"SUMPRODUCT((YEAR('182'!$F$4:$F$250)=2008)*('182'!$K$4:$K$250))","v":0},{"$f":"SUMPRODUCT((YEAR('182'!$F$4:$F$250)=2009)*('182'!$K$4:$K$250))","v":0},{"$f":"SUMPRODUCT((YEAR('182'!$F$4:$F$250)=2010)*('182'!$K$4:$K$250))","v":0},{"$f":"SUMPRODUCT((YEAR('182'!$F$4:$F$250)=2011)*('182'!$K$4:$K$250))","v":0},{"$f":"SUMPRODUCT((YEAR('182'!$F$4:$F$250)=2012)*('182'!$K$4:$K$250))","v":0},{"$f":"SUMPRODUCT((YEAR('182'!$F$4:$F$250)=2013)*('182'!$K$4:$K$250))","v":0},{"$f":"SUMPRODUCT((YEAR('182'!$F$4:$F$250)=2014)*('182'!$K$4:$K$250))","v":0},{"$f":"SUMPRODUCT((YEAR('182'!$F$4:$F$250)=2015)*('182'!$K$4:$K$250))","v":0},{"$f":"SUMPRODUCT((YEAR('182'!$F$4:$F$250)=2016)*('182'!$K$4:$K$250))","v":0},{"$f":"SUMPRODUCT((YEAR('182'!$F$4:$F$250)=2017)*('182'!$K$4:$K$250))","v":0},{"$f":"SUMPRODUCT((YEAR('182'!$F$4:$F$250)=2018)*('182'!$K$4:$K$250))","v":0},{"$f":"SUMPRODUCT((YEAR('182'!$F$4:$F$250)=2019)*('182'!$K$4:$K$250))","v":0},{"$f":"SUMPRODUCT((YEAR('182'!$F$4:$F$250)=2020)*('182'!$K$4:$K$250))","v":0},{"$f":"SUMPRODUCT((YEAR('182'!$F$4:$F$250)=2021)*('182'!$K$4:$K$250))","v":0},{"$f":"SUMPRODUCT((YEAR('182'!$F$4:$F$250)=2022)*('182'!$K$4:$K$250))","v":0},{"$f":"SUMPRODUCT((YEAR('182'!$F$4:$F$250)=2023)*('182'!$K$4:$K$250))","v":0},{"$f":"SUMPRODUCT((YEAR('182'!$F$4:$F$250)=19920246)*('182'!$K$4:$K$250))","v":0},{"$f":"SUMPRODUCT((YEAR('182'!$F$4:$F$250)=2025)*('182'!$K$4:$K$250))","v":0},{"$f":"SUMPRODUCT((YEAR('182'!$F$4:$F$250)=2026)*('182'!$K$4:$K$250))","v":0},{"$f":"SUMPRODUCT((YEAR('182'!$F$4:$F$250)=2027)*('182'!$K$4:$K$250))","v":0},{"$f":"SUMPRODUCT((YEAR('182'!$F$4:$F$250)=2028)*('182'!$K$4:$K$250))","v":0},{"$f":"SUMPRODUCT((YEAR('182'!$F$4:$F$250)=2029)*('182'!$K$4:$K$250))","v":0},{"$f":"SUMPRODUCT((YEAR('182'!$F$4:$F$250)=2030)*('182'!$K$4:$K$250))","v":0},{"$f":"SUM(J23:AL23)-('182'!P4+'182'!S4)+82","v":0}]
[205,{"$f":"SUMPRODUCT((YEAR('205'!$F$4:$F$250)=1994)*('205'!$K$4:$K$250))","v":0},{"$f":"SUMPRODUCT((YEAR('205'!$F$4:$F$250)=1995)*('205'!$K$4:$K$250))","v":0},{"$f":"SUMPRODUCT((YEAR('205'!$F$4:$F$250)=1996)*('205'!$K$4:$K$250))","v":0},{"$f":"SUMPRODUCT((YEAR('205'!$F$4:$F$250)=1997)*('205'!$K$4:$K$250))","v":0},{"$f":"SUMPRODUCT((YEAR('205'!$F$4:$F$250)=1998)*('205'!$K$4:$K$250))","v":0},{"$f":"SUMPRODUCT((YEAR('205'!$F$4:$F$250)=1999)*('205'!$K$4:$K$250))","v":0},{"$f":"SUMPRODUCT((YEAR('205'!$F$4:$F$250)=2000)*('205'!$K$4:$K$250))","v":1545},{"$f":"SUMPRODUCT((YEAR('205'!$F$4:$F$250)=2001)*('205'!$K$4:$K$250))","v":0},{"$f":"SUMPRODUCT((YEAR('205'!$F$4:$F$250)=2002)*('205'!$K$4:$K$250))","v":0},{"$f":"SUMPRODUCT((YEAR('205'!$F$4:$F$250)=2003)*('205'!$K$4:$K$250))","v":0},{"$f":"SUMPRODUCT((YEAR('205'!$F$4:$F$250)=2004)*('205'!$K$4:$K$250))","v":0},{"$f":"SUMPRODUCT((YEAR('205'!$F$4:$F$250)=2005)*('205'!$K$4:$K$250))","v":0},{"$f":"SUMPRODUCT((YEAR('205'!$F$4:$F$250)=2006)*('205'!$K$4:$K$250))","v":0},{"$f":"SUMPRODUCT((YEAR('205'!$F$4:$F$250)=2007)*('205'!$K$4:$K$250))","v":0},{"$f":"SUMPRODUCT((YEAR('205'!$F$4:$F$250)=2008)*('205'!$K$4:$K$250))","v":0},{"$f":"SUMPRODUCT((YEAR('205'!$F$4:$F$250)=2009)*('205'!$K$4:$K$250))","v":0},{"$f":"SUMPRODUCT((YEAR('205'!$F$4:$F$250)=2010)*('205'!$K$4:$K$250))","v":0},{"$f":"SUMPRODUCT((YEAR('205'!$F$4:$F$250)=2011)*('205'!$K$4:$K$250))","v":0},{"$f":"SUMPRODUCT((YEAR('205'!$F$4:$F$250)=2012)*('205'!$K$4:$K$250))","v":0},{"$f":"SUMPRODUCT((YEAR('205'!$F$4:$F$250)=2013)*('205'!$K$4:$K$250))","v":0},{"$f":"SUMPRODUCT((YEAR('205'!$F$4:$F$250)=2014)*('205'!$K$4:$K$250))","v":0},{"$f":"SUMPRODUCT((YEAR('205'!$F$4:$F$250)=2015)*('205'!$K$4:$K$250))","v":0},{"$f":"SUMPRODUCT((YEAR('205'!$F$4:$F$250)=2016)*('205'!$K$4:$K$250))","v":0},{"$f":"SUMPRODUCT((YEAR('205'!$F$4:$F$250)=2017)*('205'!$K$4:$K$250))","v":0},{"$f":"SUMPRODUCT((YEAR('205'!$F$4:$F$250)=2018)*('205'!$K$4:$K$250))","v":0},{"$f":"SUMPRODUCT((YEAR('205'!$F$4:$F$250)=2019)*('205'!$K$4:$K$250))","v":0},{"$f":"SUMPRODUCT((YEAR('205'!$F$4:$F$250)=2020)*('205'!$K$4:$K$250))","v":0},{"$f":"SUMPRODUCT((YEAR('205'!$F$4:$F$250)=2021)*('205'!$K$4:$K$250))","v":0},{"$f":"SUMPRODUCT((YEAR('205'!$F$4:$F$250)=2022)*('205'!$K$4:$K$250))","v":0},{"$f":"SUMPRODUCT((YEAR('205'!$F$4:$F$250)=2023)*('205'!$K$4:$K$250))","v":0},{"$f":"SUMPRODUCT((YEAR('205'!$F$4:$F$250)=2024)*('205'!$K$4:$K$250))","v":0},{"$f":"SUMPRODUCT((YEAR('205'!$F$4:$F$250)=2025)*('205'!$K$4:$K$250))","v":0},{"$f":"SUMPRODUCT((YEAR('205'!$F$4:$F$250)=2026)*('205'!$K$4:$K$250))","v":0},{"$f":"SUMPRODUCT((YEAR('205'!$F$4:$F$250)=2027)*('205'!$K$4:$K$250))","v":0},{"$f":"SUMPRODUCT((YEAR('205'!$F$4:$F$250)=2028)*('205'!$K$4:$K$250))","v":0},{"$f":"SUMPRODUCT((YEAR('205'!$F$4:$F$250)=2029)*('205'!$K$4:$K$250))","v":0},{"$f":"SUMPRODUCT((YEAR('205'!$F$4:$F$250)=2030)*('205'!$K$4:$K$250))","v":0},{"$f":"SUM(J24:AL24)-('205'!P4+'205'!S4)+1545","v":336}]

{"sheet":"LISTES","index":27,"n_rows":77,"n_cols":5,"rows_kept":77,"cut":false,"hidden":false,"merged":[]}
["DIAMETRE",null,"FOURNISSEURS",null,"N° DE COULEE"]
[20,null,". . .",null,2860]
[26,null,"AMD             1",null,22821]
[32,null,"SECOSAR     2 ",null,23132]
[36,null,"THYSSENS   3",null,50561]
[40.5,null,"OVAKO        4",null,53525]
[46.5,null,"SOFYMETAL  5",null,54787]
[51.5,null,null,null,54948]
[56,null,null,null,54972]
[61,null,null,null,56020]
[65,null,null,null,58933]
[74,null,null,null,59251]
[76,null,null,null,59525]
[82,null,null,null,59552]
[92,null,null,null,59822]
[96,null,null,null,59834]
[102,null,null,null,64842]
[112,null,null,null,66821]
[127,null,null,null,68743]
[131,null,null,null,74730]
[142,null,null,null,75929]
[152,null,null,null,75930]
[182,null,null,null,76194]
[205,null,null,null,77486]
[null,null,null,null,91974]
[null,null,null,null,93694]
[null,null,null,null,93947]
[null,null,null,null,94796]
[null,null,null,null,95062]
[null,null,null,null,98406]
[null,null,null,null,110027]
[null,null,null,null,111706]
[null,null,null,null,111709]
[null,null,null,null,112114]
[null,null,null,null,130341]
[null,null,null,null,130506]
[null,null,null,null,130511]
[null,null,null,null,132503]
[null,null,null,null,132662]
[null,null,null,null,174088]
[null,null,null,null,175500]
[null,null,null,null,218517]
[null,null,null,null,225528]
[null,null,null,null,904356]
[null,null,null,null,"  0-2213"]
[null,null,null,null,"  H2024"]
[null,null,null,null," 0-0172"]
[null,null,null,null," 0-1318"]
[null,null,null,null," 0-2213"]
[null,null,null,null," 0-2213-2"]
[null,null,null,null," 8-0584"]
[null,null,null,null," 8-1237"]
[null,null,null,null," 8-4077"]
[null,null,null,null," 8-8651"]
[null,null,null,null," 8-8696"]
[null,null,null,null," 9-1654"]
[null,null,null,null," 9-2379"]
[null,null,null,null," 9-6506"]
[null,null,null,null," 9-9383"]
[null,null,null,null," ALL64026"]
[null,null,null,null," ALL64810"]
[null,null,null,null," ALL66009"]
[null,null,null,null," ALL66858"]
[null,null,null,null," ALL67376"]
[null,null,null,null," ALL69631"]
[null,null,null,null," ALL70515"]
[null,null,null,null," H2024"]
[null,null,null,null,"H2024"]
[null,null,null,null,"S8241"]
[null,null,null,null,"S9403"]
[null,null,null,null,"SY16392"]
[null,null,null,null,"XXXXXXXX"]
[null,null,null,null,"WWW1230"]
[null,null,null,null,"HHT23"]
[null,null,null,null,"KGB7894"]
[null,null,null,null,"DAY DAY"]
[null,null,null,null,"QCM1478"]

{"sheet":"Feuil1","index":28,"n_rows":24,"n_cols":2,"rows_kept":24,"cut":false,"hidden":false,"merged":[]}
[]
[]
[]
[null,"Bonjour, "]
[null,"1 - la ligne choisie pour un même N° de coulée sera toujours la première entrée pour un diamètre identique FIFO oblige first un first out "]
[null,"2 - Vérification du N° de coulée dans la table sinon création de celui ci en le saisissant dans le USERFORM "]
[null,"3 - Ce tableau sert à la gestion des stocks dans un local extérieur à l'usine donc une mise à jour des stocks entrée sortie par N° de coulée est nécessaire. "]
[null,"4 - Oui je peux ajouter un diamètre ayant le même n° de coulée qu'un diamètre déjà stocké avec le même N° de coulée mais pour une raison de Fifo celui ci ne sera pas stocké avec le même adressage que le ou les précédents "]
[null,"5 - Il est possible d'avoir plusieurs n° de coulée par diamètre, des différents et des identiques. "]
[null,"6 - Pour le stockage usine pour l'instant je reste sur la même saisie que ce que nous avons déjà. Je suis entrain de réfléchir pour effectuer des statistiques de stocks: mini maxi; consommation mensuelle; annuelle . Peut être un autre Userform avec des entrées sorties et une notion de temps à moins qu'il y ai une fonction qui soit capable de me faire cela en automatique sans saisie de date ??? "]
[null,"J'espère avoir répondu à vos questions et reste à votre disposition. Merci "]
[]
[null,"Quand la ligne de stock est égale à 0 elle se supprime car l'historique des réceptions est suffisant. Est il possible de mettre un message du style \"ATTENTION STOCK SERA NUL VÉRIFICATION AVANT VALIDATION\" qui peut nous prévenir avant cette suppression cela peut nous éviter une erreur de saisie et pouvoir rectifier celle ci. "]
[null,"Merci "]
[]
[]
[]
[]
[]
[]
[]
[null,"1 -: je prends la premiere \"ligne\" du tableau en partant du bas… "]
[null,"2 -: Ok, creation "]
[null,"4 -: donc verifier si meme adresse pour ajout ou majour…. "]