{"text_format":"1","workbook":"xlsx","n_sheets":2,"sheets":["Frontal","Liste"],"not_rendered":{"charts":0,"images":34,"macros":1,"external_links":1,"defined_names":9,"comments":1,"pivot_tables":0},"unopened":[],"bounds":{"document_bytes":16777216,"sheet_cells":100000,"rows_first":2000,"rows_last":500,"rows_between":2000,"halvings":0,"cell_chars":16384,"cell_head_chars":4096},"cells_cut":0,"cells_raw":0,"read":"whole","date_system":"1900"}

{"sheet":"Frontal","index":0,"n_rows":167,"n_cols":19,"rows_kept":167,"cut":false,"hidden":false,"merged":[[0,11,0,12]]}
[]
["N°","Date Commande","Semaine","Mois","Année","Responsable","CF","Atelier","Demandeur","Catégorie","Reference","Désignation","Catégorie2","Colonne3","prix unité","Nb","prix total","Date  livraison","OK/NOK"]
[1,"2019-02-27",{"$f":"WEEKNUM($B3,2)-(WEEKDAY(DATE(YEAR(B3),1,4),2)<4)*1","v":9},{"$f":"TEXT([1]Frontal!$B$3:$B$165,\"MMMM\")","v":"février"},{"$f":"TEXT([1]Frontal!$B$3:$B$165,\"AAAA\")","v":"2019"},"Saida. Benahmina",{"$f":"VLOOKUP([1]Frontal!$F3,[1]Liste!A:C,3,0)","v":9968},"Francois. Hanne","AQM","Francois Hanne","X951506724",{"$f":"VLOOKUP([1]Frontal!$K3,[1]REF!B:C,2,0)","v":"Bouchon D'oreille"},"Consommable",{"$f":"LEN(K3)","v":10},{"$f":"VLOOKUP([1]Frontal!$K3,[1]REF!B:D,3,0)","v":1.01},50,{"$f":"[1]Frontal!$P$3:$P$165*[1]Frontal!$O$3:$O$165","v":50.5},"2019-01-17",{"$f":"IF(R3,\"OK\",\"NOK\")","v":"OK"}]
[2,"2019-03-09",10,{"$f":"TEXT([1]Frontal!$B$3:$B$165,\"MMMM\")","v":"mars"},{"$f":"TEXT([1]Frontal!$B$3:$B$165,\"AAAA\")","v":"2019"},"Matthieu. Pimont",9964,"Daniel. Szekula ","Métrologie","2019-03-09","R100601459",{"$f":"VLOOKUP([1]Frontal!$K4,[1]REF!B:C,2,0)","v":"Chaussures H BASSES CUIR FLEUR NOIR HYDROFUGE Taille 43"},"EPI",10,{"$f":"VLOOKUP([1]Frontal!$K4,[1]REF!B:D,3,0)","v":20.8},1,{"$f":"[1]Frontal!$P$3:$P$165*[1]Frontal!$O$3:$O$165","v":20.8},"2019-01-18",{"$f":"IF(R4,\"OK\",\"NOK\")","v":"OK"}]
[3,"2019-01-18",3,{"$f":"TEXT([1]Frontal!$B$3:$B$165,\"MMMM\")","v":"janvier"},{"$f":"TEXT([1]Frontal!$B$3:$B$165,\"AAAA\")","v":"2019"},"Saida. Benahmina",{"$f":"VLOOKUP([1]Frontal!$F5,[1]Liste!A:C,3,0)","v":9968},"Daniel. Jouy","Bloqueur","Daniel. Jouy","R100518626",{"$f":"VLOOKUP([1]Frontal!$K5,[1]REF!B:C,2,0)","v":"Chaussures H VILLE TYPE MOCASSIN CUIR PLEINE FLEUR Taille 40"},"EPI",10,{"$f":"VLOOKUP([1]Frontal!$K5,[1]REF!B:D,3,0)","v":33.729999999999997},1,{"$f":"[1]Frontal!$P$3:$P$165*[1]Frontal!$O$3:$O$165","v":33.729999999999997},"2019-01-18","OK"]
[4,"2019-01-18",3,{"$f":"TEXT([1]Frontal!$B$3:$B$165,\"MMMM\")","v":"janvier"},{"$f":"TEXT([1]Frontal!$B$3:$B$165,\"AAAA\")","v":"2019"},"Saida. Benahmina",{"$f":"VLOOKUP([1]Frontal!$F6,[1]Liste!A:C,3,0)","v":9968},"Fabrice. Richard ","CSC","Peggy. Guenez","R100364315",{"$f":"VLOOKUP([1]Frontal!$K6,[1]REF!B:C,2,0)","v":"Chaussures F  TENNIS EN CROUPON VELOURS ROUGE Taille 37"},"EPI",10,{"$f":"VLOOKUP([1]Frontal!$K6,[1]REF!B:D,3,0)","v":33.4},1,{"$f":"[1]Frontal!$P$3:$P$165*[1]Frontal!$O$3:$O$165","v":33.4},"2019-01-18","OK"]
[5,"2019-01-18",3,{"$f":"TEXT([1]Frontal!$B$3:$B$165,\"MMMM\")","v":"janvier"},{"$f":"TEXT([1]Frontal!$B$3:$B$165,\"AAAA\")","v":"2019"},"Saida. Benahmina",{"$f":"VLOOKUP([1]Frontal!$F7,[1]Liste!A:C,3,0)","v":9968},"Cindy. Thorez ","CSC","Cindy. Thorez",4939031057,{"$f":"VLOOKUP([1]Frontal!$K7,[1]REF!B:C,2,0)","v":"Pastilles adhésives ovales VERT"},"Consommable",10,{"$f":"VLOOKUP([1]Frontal!$K7,[1]REF!B:D,3,0)","v":7.61},50,{"$f":"[1]Frontal!$P$3:$P$165*[1]Frontal!$O$3:$O$165","v":380.5},"2019-01-18","OK"]
[6,"2019-01-21",4,{"$f":"TEXT([1]Frontal!$B$3:$B$165,\"MMMM\")","v":"janvier"},{"$f":"TEXT([1]Frontal!$B$3:$B$165,\"AAAA\")","v":"2019"},"Saida. Benahmina",{"$f":"VLOOKUP([1]Frontal!$F8,[1]Liste!A:C,3,0)","v":9968},"Cindy. Thorez ","CSC","Fanny. Drapier","R100364314",{"$f":"VLOOKUP([1]Frontal!$K8,[1]REF!B:C,2,0)","v":"Chaussures F  TENNIS EN CROUPON VELOURS ROUGE Taille 36"},"EPI",10,{"$f":"VLOOKUP([1]Frontal!$K8,[1]REF!B:D,3,0)","v":33.4},1,{"$f":"[1]Frontal!$P$3:$P$165*[1]Frontal!$O$3:$O$165","v":33.4},"2019-01-21","OK"]
[7,"2019-01-21",4,{"$f":"TEXT([1]Frontal!$B$3:$B$165,\"MMMM\")","v":"janvier"},{"$f":"TEXT([1]Frontal!$B$3:$B$165,\"AAAA\")","v":"2019"},"Vincent. Loquet",{"$f":"VLOOKUP([1]Frontal!$F9,[1]Liste!A:C,3,0)","v":9978},"Vincent. Loquet","QPN","John Duez","R100503610",{"$f":"VLOOKUP([1]Frontal!$K9,[1]REF!B:C,2,0)","v":"Blouson Matelassé  Taille XL 48/50-3"},"EPI",10,{"$f":"VLOOKUP([1]Frontal!$K9,[1]REF!B:D,3,0)","v":20.95},1,{"$f":"[1]Frontal!$P$3:$P$165*[1]Frontal!$O$3:$O$165","v":20.95},"2019-01-21","OK"]
[8,"2019-01-21",4,{"$f":"TEXT([1]Frontal!$B$3:$B$165,\"MMMM\")","v":"janvier"},{"$f":"TEXT([1]Frontal!$B$3:$B$165,\"AAAA\")","v":"2019"},"Vincent. Loquet",{"$f":"VLOOKUP([1]Frontal!$F10,[1]Liste!A:C,3,0)","v":9978},"Vincent. Loquet","QPN","Jeremy Pierzchala","R100503610",{"$f":"VLOOKUP([1]Frontal!$K10,[1]REF!B:C,2,0)","v":"Blouson Matelassé  Taille XL 48/50-3"},"EPI",10,{"$f":"VLOOKUP([1]Frontal!$K10,[1]REF!B:D,3,0)","v":20.95},1,{"$f":"[1]Frontal!$P$3:$P$165*[1]Frontal!$O$3:$O$165","v":20.95},"2019-01-21","OK"]
[9,"2019-01-21",4,{"$f":"TEXT([1]Frontal!$B$3:$B$165,\"MMMM\")","v":"janvier"},{"$f":"TEXT([1]Frontal!$B$3:$B$165,\"AAAA\")","v":"2019"},"Vincent. Loquet",{"$f":"VLOOKUP([1]Frontal!$F11,[1]Liste!A:C,3,0)","v":9978},"Vincent. Loquet","QPN","Ludovic Thomas","R100503610",{"$f":"VLOOKUP([1]Frontal!$K11,[1]REF!B:C,2,0)","v":"Blouson Matelassé  Taille XL 48/50-3"},"EPI",10,{"$f":"VLOOKUP([1]Frontal!$K11,[1]REF!B:D,3,0)","v":20.95},1,{"$f":"[1]Frontal!$P$3:$P$165*[1]Frontal!$O$3:$O$165","v":20.95},"2019-01-21","OK"]
[10,"2019-01-21",4,{"$f":"TEXT([1]Frontal!$B$3:$B$165,\"MMMM\")","v":"janvier"},{"$f":"TEXT([1]Frontal!$B$3:$B$165,\"AAAA\")","v":"2019"},"Vincent. Loquet",{"$f":"VLOOKUP([1]Frontal!$F12,[1]Liste!A:C,3,0)","v":9978},"Vincent. Loquet","QPN","Loic  Warlouzet","R100503610",{"$f":"VLOOKUP([1]Frontal!$K12,[1]REF!B:C,2,0)","v":"Blouson Matelassé  Taille XL 48/50-3"},"EPI",10,{"$f":"VLOOKUP([1]Frontal!$K12,[1]REF!B:D,3,0)","v":20.95},1,{"$f":"[1]Frontal!$P$3:$P$165*[1]Frontal!$O$3:$O$165","v":20.95},"2019-01-21","OK"]
[11,"2019-01-21",4,{"$f":"TEXT([1]Frontal!$B$3:$B$165,\"MMMM\")","v":"janvier"},{"$f":"TEXT([1]Frontal!$B$3:$B$165,\"AAAA\")","v":"2019"},"Vincent. Loquet",{"$f":"VLOOKUP([1]Frontal!$F13,[1]Liste!A:C,3,0)","v":9978},"Vincent. Loquet","QPN","Nadine Cauchy","R100503610",{"$f":"VLOOKUP([1]Frontal!$K13,[1]REF!B:C,2,0)","v":"Blouson Matelassé  Taille XL 48/50-3"},"EPI",10,{"$f":"VLOOKUP([1]Frontal!$K13,[1]REF!B:D,3,0)","v":20.95},1,{"$f":"[1]Frontal!$P$3:$P$165*[1]Frontal!$O$3:$O$165","v":20.95},"2019-01-21","OK"]
[12,"2019-01-21",4,{"$f":"TEXT([1]Frontal!$B$3:$B$165,\"MMMM\")","v":"janvier"},{"$f":"TEXT([1]Frontal!$B$3:$B$165,\"AAAA\")","v":"2019"},"Vincent. Loquet",{"$f":"VLOOKUP([1]Frontal!$F14,[1]Liste!A:C,3,0)","v":9978},"Vincent. Loquet","QPN","Fabrice  Houssin","R100503612",{"$f":"VLOOKUP([1]Frontal!$K14,[1]REF!B:C,2,0)","v":"Blouson Matelassé Taille XXXL 56/58-5"},"EPI",10,{"$f":"VLOOKUP([1]Frontal!$K14,[1]REF!B:D,3,0)","v":18.48},1,{"$f":"[1]Frontal!$P$3:$P$165*[1]Frontal!$O$3:$O$165","v":18.48},"2019-01-21","OK"]
[13,"2019-01-24",4,{"$f":"TEXT([1]Frontal!$B$3:$B$165,\"MMMM\")","v":"janvier"},{"$f":"TEXT([1]Frontal!$B$3:$B$165,\"AAAA\")","v":"2019"},"Vincent. Loquet",{"$f":"VLOOKUP([1]Frontal!$F15,[1]Liste!A:C,3,0)","v":9978},"Vincent. Loquet","QPN","Rudy  Faucherant","R100503613",{"$f":"VLOOKUP([1]Frontal!$K15,[1]REF!B:C,2,0)","v":"Blouson Matelassé Taille XXXXL-T6"},"EPI",10,{"$f":"VLOOKUP([1]Frontal!$K15,[1]REF!B:D,3,0)","v":18.48},1,{"$f":"[1]Frontal!$P$3:$P$165*[1]Frontal!$O$3:$O$165","v":18.48},"2019-01-21","OK"]
[14,"2019-01-21",4,{"$f":"TEXT([1]Frontal!$B$3:$B$165,\"MMMM\")","v":"janvier"},{"$f":"TEXT([1]Frontal!$B$3:$B$165,\"AAAA\")","v":"2019"},"Vincent. Loquet",{"$f":"VLOOKUP([1]Frontal!$F16,[1]Liste!A:C,3,0)","v":9978},"Vincent. Loquet","QPN","Jeremy Pierzchala","R100583445",{"$f":"VLOOKUP([1]Frontal!$K16,[1]REF!B:C,2,0)","v":"Parka HV Jaune Taille L"},"EPI",10,{"$f":"VLOOKUP([1]Frontal!$K16,[1]REF!B:D,3,0)","v":33.69},1,{"$f":"[1]Frontal!$P$3:$P$165*[1]Frontal!$O$3:$O$165","v":33.69},"2019-01-21","OK"]
[15,"2019-01-21",4,{"$f":"TEXT([1]Frontal!$B$3:$B$165,\"MMMM\")","v":"janvier"},{"$f":"TEXT([1]Frontal!$B$3:$B$165,\"AAAA\")","v":"2019"},"Vincent. Loquet",{"$f":"VLOOKUP([1]Frontal!$F17,[1]Liste!A:C,3,0)","v":9978},"Vincent. Loquet","QPN","John Duez","R100583445",{"$f":"VLOOKUP([1]Frontal!$K17,[1]REF!B:C,2,0)","v":"Parka HV Jaune Taille L"},"EPI",10,{"$f":"VLOOKUP([1]Frontal!$K17,[1]REF!B:D,3,0)","v":33.69},1,{"$f":"[1]Frontal!$P$3:$P$165*[1]Frontal!$O$3:$O$165","v":33.69},"2019-01-21","OK"]
[16,"2019-01-21",4,{"$f":"TEXT([1]Frontal!$B$3:$B$165,\"MMMM\")","v":"janvier"},{"$f":"TEXT([1]Frontal!$B$3:$B$165,\"AAAA\")","v":"2019"},"Vincent. Loquet",{"$f":"VLOOKUP([1]Frontal!$F18,[1]Liste!A:C,3,0)","v":9978},"Vincent. Loquet","QPN","Ludovic Thomas","R100583445",{"$f":"VLOOKUP([1]Frontal!$K18,[1]REF!B:C,2,0)","v":"Parka HV Jaune Taille L"},"EPI",10,{"$f":"VLOOKUP([1]Frontal!$K18,[1]REF!B:D,3,0)","v":33.69},1,{"$f":"[1]Frontal!$P$3:$P$165*[1]Frontal!$O$3:$O$165","v":33.69},"2019-01-21","OK"]
[17,"2019-01-21",4,{"$f":"TEXT([1]Frontal!$B$3:$B$165,\"MMMM\")","v":"janvier"},{"$f":"TEXT([1]Frontal!$B$3:$B$165,\"AAAA\")","v":"2019"},"Vincent. Loquet",{"$f":"VLOOKUP([1]Frontal!$F19,[1]Liste!A:C,3,0)","v":9978},"Vincent. Loquet","QPN","Loic  Warlouzet","R100583445",{"$f":"VLOOKUP([1]Frontal!$K19,[1]REF!B:C,2,0)","v":"Parka HV Jaune Taille L"},"EPI",10,{"$f":"VLOOKUP([1]Frontal!$K19,[1]REF!B:D,3,0)","v":33.69},1,{"$f":"[1]Frontal!$P$3:$P$165*[1]Frontal!$O$3:$O$165","v":33.69},"2019-01-21","OK"]
[18,"2019-01-21",4,{"$f":"TEXT([1]Frontal!$B$3:$B$165,\"MMMM\")","v":"janvier"},{"$f":"TEXT([1]Frontal!$B$3:$B$165,\"AAAA\")","v":"2019"},"Vincent. Loquet",{"$f":"VLOOKUP([1]Frontal!$F20,[1]Liste!A:C,3,0)","v":9978},"Vincent. Loquet","QPN","Frederic Selingue","R100583445",{"$f":"VLOOKUP([1]Frontal!$K20,[1]REF!B:C,2,0)","v":"Parka HV Jaune Taille L"},"EPI",10,{"$f":"VLOOKUP([1]Frontal!$K20,[1]REF!B:D,3,0)","v":33.69},1,{"$f":"[1]Frontal!$P$3:$P$165*[1]Frontal!$O$3:$O$165","v":33.69},"2019-01-21","OK"]
[19,"2019-01-21",4,{"$f":"TEXT([1]Frontal!$B$3:$B$165,\"MMMM\")","v":"janvier"},{"$f":"TEXT([1]Frontal!$B$3:$B$165,\"AAAA\")","v":"2019"},"Vincent. Loquet",{"$f":"VLOOKUP([1]Frontal!$F21,[1]Liste!A:C,3,0)","v":9978},"Vincent. Loquet","QPN","Pascal Leclercq","R100583445",{"$f":"VLOOKUP([1]Frontal!$K21,[1]REF!B:C,2,0)","v":"Parka HV Jaune Taille L"},"EPI",10,{"$f":"VLOOKUP([1]Frontal!$K21,[1]REF!B:D,3,0)","v":33.69},1,{"$f":"[1]Frontal!$P$3:$P$165*[1]Frontal!$O$3:$O$165","v":33.69},"2019-01-21","OK"]
[20,"2019-01-21",4,{"$f":"TEXT([1]Frontal!$B$3:$B$165,\"MMMM\")","v":"janvier"},{"$f":"TEXT([1]Frontal!$B$3:$B$165,\"AAAA\")","v":"2019"},"Vincent. Loquet",{"$f":"VLOOKUP([1]Frontal!$F22,[1]Liste!A:C,3,0)","v":9978},"Vincent. Loquet","QPN","Christian Carette","R100583448",{"$f":"VLOOKUP([1]Frontal!$K22,[1]REF!B:C,2,0)","v":"Parka HV Jaune Taille XXXL"},"EPI",10,{"$f":"VLOOKUP([1]Frontal!$K22,[1]REF!B:D,3,0)","v":32},1,{"$f":"[1]Frontal!$P$3:$P$165*[1]Frontal!$O$3:$O$165","v":32},"2019-01-21","OK"]
[21,"2019-01-21",4,{"$f":"TEXT([1]Frontal!$B$3:$B$165,\"MMMM\")","v":"janvier"},{"$f":"TEXT([1]Frontal!$B$3:$B$165,\"AAAA\")","v":"2019"},"Matthieu. Pimont",9964,"Daniel. Szekula ","Métrologie","Max  Ducatez","R100601464",{"$f":"VLOOKUP([1]Frontal!$K23,[1]REF!B:C,2,0)","v":"Chaussures H BASSES CUIR FLEUR NOIR HYDROFUGE Taille 45"},"EPI",10,{"$f":"VLOOKUP([1]Frontal!$K23,[1]REF!B:D,3,0)","v":20.8},1,{"$f":"[1]Frontal!$P$3:$P$165*[1]Frontal!$O$3:$O$165","v":20.8},"2019-01-21","OK"]
[22,"2019-01-21",4,{"$f":"TEXT([1]Frontal!$B$3:$B$165,\"MMMM\")","v":"janvier"},{"$f":"TEXT([1]Frontal!$B$3:$B$165,\"AAAA\")","v":"2019"},"Matthieu. Pimont",9964,"Pascal. Steu","G. Bruit","Pascal Steu","R100611739",{"$f":"VLOOKUP([1]Frontal!$K24,[1]REF!B:C,2,0)","v":"Lampe de poche GISS"},"Outillage",10,{"$f":"VLOOKUP([1]Frontal!$K24,[1]REF!B:D,3,0)","v":14.31},4,{"$f":"[1]Frontal!$P$3:$P$165*[1]Frontal!$O$3:$O$165","v":57.24},"2019-01-21","OK"]
[23,"2019-01-22",4,{"$f":"TEXT([1]Frontal!$B$3:$B$165,\"MMMM\")","v":"janvier"},{"$f":"TEXT([1]Frontal!$B$3:$B$165,\"AAAA\")","v":"2019"},"Vincent. Loquet",{"$f":"VLOOKUP([1]Frontal!$F25,[1]Liste!A:C,3,0)","v":9978},"Vincent. Loquet","QPN","Vincent. Loquet","R100625298",{"$f":"VLOOKUP([1]Frontal!$K25,[1]REF!B:C,2,0)","v":"Gilet réfléchissant  XL"},"EPI",10,{"$f":"VLOOKUP([1]Frontal!$K25,[1]REF!B:D,3,0)","v":5.77},10,{"$f":"[1]Frontal!$P$3:$P$165*[1]Frontal!$O$3:$O$165","v":57.699999999999996},"2019-01-22","OK"]
[24,"2019-01-22",4,{"$f":"TEXT([1]Frontal!$B$3:$B$165,\"MMMM\")","v":"janvier"},{"$f":"TEXT([1]Frontal!$B$3:$B$165,\"AAAA\")","v":"2019"},"Vincent. Loquet",{"$f":"VLOOKUP([1]Frontal!$F26,[1]Liste!A:C,3,0)","v":9978},"Vincent. Loquet","QPN","Vincent. Loquet","R100625297",{"$f":"VLOOKUP([1]Frontal!$K26,[1]REF!B:C,2,0)","v":"Gilet réfléchissant  L"},"EPI",10,{"$f":"VLOOKUP([1]Frontal!$K26,[1]REF!B:D,3,0)","v":5.77},10,{"$f":"[1]Frontal!$P$3:$P$165*[1]Frontal!$O$3:$O$165","v":57.699999999999996},"2019-01-22","OK"]
[25,"2019-01-22",4,{"$f":"TEXT([1]Frontal!$B$3:$B$165,\"MMMM\")","v":"janvier"},{"$f":"TEXT([1]Frontal!$B$3:$B$165,\"AAAA\")","v":"2019"},"Vincent. Loquet",{"$f":"VLOOKUP([1]Frontal!$F27,[1]Liste!A:C,3,0)","v":9978},"Vincent. Loquet","QPN","Vincent. Loquet","R100625296",{"$f":"VLOOKUP([1]Frontal!$K27,[1]REF!B:C,2,0)","v":"Gilet réfléchissant  M"},"EPI",10,{"$f":"VLOOKUP([1]Frontal!$K27,[1]REF!B:D,3,0)","v":5.77},10,{"$f":"[1]Frontal!$P$3:$P$165*[1]Frontal!$O$3:$O$165","v":57.699999999999996},"2019-01-22","OK"]
[26,"2019-01-22",4,{"$f":"TEXT([1]Frontal!$B$3:$B$165,\"MMMM\")","v":"janvier"},{"$f":"TEXT([1]Frontal!$B$3:$B$165,\"AAAA\")","v":"2019"},"Cédric. Longatte ",{"$f":"VLOOKUP([1]Frontal!$F28,[1]Liste!A:C,3,0)","v":9967},"David. Lequeux ","CAP","Michael. Defontaine ","R100625730",{"$f":"VLOOKUP([1]Frontal!$K28,[1]REF!B:C,2,0)","v":"Chargeur téléphone"},"Bureautique",10,{"$f":"VLOOKUP([1]Frontal!$K28,[1]REF!B:D,3,0)","v":19.510000000000002},1,{"$f":"[1]Frontal!$P$3:$P$165*[1]Frontal!$O$3:$O$165","v":19.510000000000002},"2019-01-22","OK"]
[27,"2019-01-23",4,{"$f":"TEXT([1]Frontal!$B$3:$B$165,\"MMMM\")","v":"janvier"},{"$f":"TEXT([1]Frontal!$B$3:$B$165,\"AAAA\")","v":"2019"},"Saida. Benahmina",{"$f":"VLOOKUP([1]Frontal!$F29,[1]Liste!A:C,3,0)","v":9968},"Saida. Benahmina","Reprographie","Sebastien. Taisne","R100201616",{"$f":"VLOOKUP([1]Frontal!$K29,[1]REF!B:C,2,0)","v":"Chaussures H TOILEES TYPE MOCASSIN Taille 42"},"EPI",10,{"$f":"VLOOKUP([1]Frontal!$K29,[1]REF!B:D,3,0)","v":27.2},1,{"$f":"[1]Frontal!$P$3:$P$165*[1]Frontal!$O$3:$O$165","v":27.2},"2019-01-23","OK"]
[28,"2019-01-24",4,{"$f":"TEXT([1]Frontal!$B$3:$B$165,\"MMMM\")","v":"janvier"},{"$f":"TEXT([1]Frontal!$B$3:$B$165,\"AAAA\")","v":"2019"},"Saida. Benahmina",{"$f":"VLOOKUP([1]Frontal!$F30,[1]Liste!A:C,3,0)","v":9968},"Christine. Tamburri ","AQM","Christine. Tamburri ","R100155495",{"$f":"VLOOKUP([1]Frontal!$K30,[1]REF!B:C,2,0)","v":"Lampe de poche "},"Outillage",10,{"$f":"VLOOKUP([1]Frontal!$K30,[1]REF!B:D,3,0)","v":21.7},1,{"$f":"[1]Frontal!$P$3:$P$165*[1]Frontal!$O$3:$O$165","v":21.7},"2019-01-24","OK"]
[29,"2019-01-24",4,{"$f":"TEXT([1]Frontal!$B$3:$B$165,\"MMMM\")","v":"janvier"},{"$f":"TEXT([1]Frontal!$B$3:$B$165,\"AAAA\")","v":"2019"},"Saida. Benahmina",{"$f":"VLOOKUP([1]Frontal!$F31,[1]Liste!A:C,3,0)","v":9968},"Christine. Tamburri ","AQM","Christine. Tamburri ","R100582895",{"$f":"VLOOKUP([1]Frontal!$K31,[1]REF!B:C,2,0)","v":"casquette de sécurité "},"EPI",10,{"$f":"VLOOKUP([1]Frontal!$K31,[1]REF!B:D,3,0)","v":16.82},2,{"$f":"[1]Frontal!$P$3:$P$165*[1]Frontal!$O$3:$O$165","v":33.64},"2019-01-24","OK"]
[30,"2019-01-24",4,{"$f":"TEXT([1]Frontal!$B$3:$B$165,\"MMMM\")","v":"janvier"},{"$f":"TEXT([1]Frontal!$B$3:$B$165,\"AAAA\")","v":"2019"},"Saida. Benahmina",{"$f":"VLOOKUP([1]Frontal!$F32,[1]Liste!A:C,3,0)","v":9968},"Christian. Kaliszewski ","Bloqueur","Christian. Kaliszewski ","R100601464",{"$f":"VLOOKUP([1]Frontal!$K32,[1]REF!B:C,2,0)","v":"Chaussures H BASSES CUIR FLEUR NOIR HYDROFUGE Taille 45"},"EPI",10,{"$f":"VLOOKUP([1]Frontal!$K32,[1]REF!B:D,3,0)","v":20.8},1,{"$f":"[1]Frontal!$P$3:$P$165*[1]Frontal!$O$3:$O$165","v":20.8},"2019-01-24","OK"]
[31,"2019-01-25",4,{"$f":"TEXT([1]Frontal!$B$3:$B$165,\"MMMM\")","v":"janvier"},{"$f":"TEXT([1]Frontal!$B$3:$B$165,\"AAAA\")","v":"2019"},"Saida. Benahmina",{"$f":"VLOOKUP([1]Frontal!$F33,[1]Liste!A:C,3,0)","v":9968},"Cindy. Thorez ","CSC","Cindy. Thorez","X951506719",{"$f":"VLOOKUP([1]Frontal!$K33,[1]REF!B:C,2,0)","v":"Bouchon D'oreille Arceaux"},"EPI",10,{"$f":"VLOOKUP([1]Frontal!$K33,[1]REF!B:D,3,0)","v":2.4},10,{"$f":"[1]Frontal!$P$3:$P$165*[1]Frontal!$O$3:$O$165","v":24},"2019-01-25","OK"]
[32,"2019-01-25",4,{"$f":"TEXT([1]Frontal!$B$3:$B$165,\"MMMM\")","v":"janvier"},{"$f":"TEXT([1]Frontal!$B$3:$B$165,\"AAAA\")","v":"2019"},"Saida. Benahmina",{"$f":"VLOOKUP([1]Frontal!$F34,[1]Liste!A:C,3,0)","v":9968},"Christian. Kaliszewski ","Bloqueur","Christian. Kaliszewski ","T533011200",{"$f":"VLOOKUP([1]Frontal!$K34,[1]REF!B:C,2,0)","v":"Ruban Adhésif"},"Consommable",10,{"$f":"VLOOKUP([1]Frontal!$K34,[1]REF!B:D,3,0)","v":0.59},100,{"$f":"[1]Frontal!$P$3:$P$165*[1]Frontal!$O$3:$O$165","v":59},"2019-01-25","OK"]
[33,"2019-01-25",4,{"$f":"TEXT([1]Frontal!$B$3:$B$165,\"MMMM\")","v":"janvier"},{"$f":"TEXT([1]Frontal!$B$3:$B$165,\"AAAA\")","v":"2019"},"Saida. Benahmina",{"$f":"VLOOKUP([1]Frontal!$F35,[1]Liste!A:C,3,0)","v":9968},"Christian. Kaliszewski ","Bloqueur","Christian. Kaliszewski ",4939031056,{"$f":"VLOOKUP([1]Frontal!$K35,[1]REF!B:C,2,0)","v":"Pastilles adhésives ovales JAUNE"},"Consommable",10,{"$f":"VLOOKUP([1]Frontal!$K35,[1]REF!B:D,3,0)","v":8.09},5,{"$f":"[1]Frontal!$P$3:$P$165*[1]Frontal!$O$3:$O$165","v":40.450000000000003},"2019-01-25","OK"]
[34,"2019-01-28",5,{"$f":"TEXT([1]Frontal!$B$3:$B$165,\"MMMM\")","v":"janvier"},{"$f":"TEXT([1]Frontal!$B$3:$B$165,\"AAAA\")","v":"2019"},"Saida. Benahmina",{"$f":"VLOOKUP([1]Frontal!$F36,[1]Liste!A:C,3,0)","v":9968},"Christine. Tamburri ","AQM","Laurence.Marquette","R100518519",{"$f":"VLOOKUP([1]Frontal!$K36,[1]REF!B:C,2,0)","v":"Chaussures F MONTANTES CUIR FLEUR NOIR Taille 40"},"EPI",10,{"$f":"VLOOKUP([1]Frontal!$K36,[1]REF!B:D,3,0)","v":42.13},1,{"$f":"[1]Frontal!$P$3:$P$165*[1]Frontal!$O$3:$O$165","v":42.13},"2019-01-29","OK"]
[35,"2019-01-28",5,{"$f":"TEXT([1]Frontal!$B$3:$B$165,\"MMMM\")","v":"janvier"},{"$f":"TEXT([1]Frontal!$B$3:$B$165,\"AAAA\")","v":"2019"},"Cédric. Longatte ",{"$f":"VLOOKUP([1]Frontal!$F37,[1]Liste!A:C,3,0)","v":9967},"David. Lequeux ","CAP","Michael. Defontaine ","R100666592",{"$f":"VLOOKUP([1]Frontal!$K37,[1]REF!B:C,2,0)","v":"Lunette Sécurité"},"EPI",10,{"$f":"VLOOKUP([1]Frontal!$K37,[1]REF!B:D,3,0)","v":3},1,{"$f":"[1]Frontal!$P$3:$P$165*[1]Frontal!$O$3:$O$165","v":3},"2019-01-28","OK"]
[36,"2019-01-28",5,{"$f":"TEXT([1]Frontal!$B$3:$B$165,\"MMMM\")","v":"janvier"},{"$f":"TEXT([1]Frontal!$B$3:$B$165,\"AAAA\")","v":"2019"},"Saida. Benahmina",{"$f":"VLOOKUP([1]Frontal!$F38,[1]Liste!A:C,3,0)","v":9968},"Cindy. Thorez ","CSC"," Cindy.Thorez","R100646629",{"$f":"VLOOKUP([1]Frontal!$K38,[1]REF!B:C,2,0)","v":"PAIRE GANTS T7 MASTIC laine blanc liseré Jaune"},"EPI",10,{"$f":"VLOOKUP([1]Frontal!$K38,[1]REF!B:D,3,0)","v":0.6},300,{"$f":"[1]Frontal!$P$3:$P$165*[1]Frontal!$O$3:$O$165","v":180},"2019-01-28","OK"]
[37,"2019-01-29",5,{"$f":"TEXT([1]Frontal!$B$3:$B$165,\"MMMM\")","v":"janvier"},{"$f":"TEXT([1]Frontal!$B$3:$B$165,\"AAAA\")","v":"2019"},"Saida. Benahmina",{"$f":"VLOOKUP([1]Frontal!$F39,[1]Liste!A:C,3,0)","v":9968},"Cindy. Thorez ","CSC","Fabrice. Bielanwski","R100601454",{"$f":"VLOOKUP([1]Frontal!$K39,[1]REF!B:C,2,0)","v":"Chaussures H BASSES CUIR FLEUR NOIR HYDROFUGE Taille 42"},"EPI",10,{"$f":"VLOOKUP([1]Frontal!$K39,[1]REF!B:D,3,0)","v":20.8},1,{"$f":"[1]Frontal!$P$3:$P$165*[1]Frontal!$O$3:$O$165","v":20.8},"2019-01-29","OK"]
[38,"2019-01-29",5,{"$f":"TEXT([1]Frontal!$B$3:$B$165,\"MMMM\")","v":"janvier"},{"$f":"TEXT([1]Frontal!$B$3:$B$165,\"AAAA\")","v":"2019"},"Saida. Benahmina",{"$f":"VLOOKUP([1]Frontal!$F40,[1]Liste!A:C,3,0)","v":9968},"Cindy. Thorez ","CSC","Angélique. Ego","R100549970",{"$f":"VLOOKUP([1]Frontal!$K40,[1]REF!B:C,2,0)","v":"Chaussures FEMME OPERATEUR ET VILLE CUIR NUBUCK Taille 38"},"EPI",10,{"$f":"VLOOKUP([1]Frontal!$K40,[1]REF!B:D,3,0)","v":40.89},1,{"$f":"[1]Frontal!$P$3:$P$165*[1]Frontal!$O$3:$O$165","v":40.89},"2019-01-29","OK"]
[39,"2019-01-29",5,{"$f":"TEXT([1]Frontal!$B$3:$B$165,\"MMMM\")","v":"janvier"},{"$f":"TEXT([1]Frontal!$B$3:$B$165,\"AAAA\")","v":"2019"},"Saida. Benahmina",{"$f":"VLOOKUP([1]Frontal!$F41,[1]Liste!A:C,3,0)","v":9968},"Cindy. Thorez ","CSC","Cindy. Hailler","R100549968",{"$f":"VLOOKUP([1]Frontal!$K41,[1]REF!B:C,2,0)","v":"Chaussures FEMME OPERATEUR ET VILLE CUIR NUBUCK Taille 36"},"EPI",10,{"$f":"VLOOKUP([1]Frontal!$K41,[1]REF!B:D,3,0)","v":40.89},1,{"$f":"[1]Frontal!$P$3:$P$165*[1]Frontal!$O$3:$O$165","v":40.89},"2019-01-29","OK"]
[40,"2019-01-29",5,{"$f":"TEXT([1]Frontal!$B$3:$B$165,\"MMMM\")","v":"janvier"},{"$f":"TEXT([1]Frontal!$B$3:$B$165,\"AAAA\")","v":"2019"},"Saida. Benahmina",{"$f":"VLOOKUP([1]Frontal!$F42,[1]Liste!A:C,3,0)","v":9968},"Christine. Tamburri ","AQM","Christine. Tamburri ","R100646629",{"$f":"VLOOKUP([1]Frontal!$K42,[1]REF!B:C,2,0)","v":"PAIRE GANTS T7 MASTIC laine blanc liseré Jaune"},"EPI",10,{"$f":"VLOOKUP([1]Frontal!$K42,[1]REF!B:D,3,0)","v":0.6},100,{"$f":"[1]Frontal!$P$3:$P$165*[1]Frontal!$O$3:$O$165","v":60},"2019-01-29","OK"]
[41,"2019-01-29",5,{"$f":"TEXT([1]Frontal!$B$3:$B$165,\"MMMM\")","v":"janvier"},{"$f":"TEXT([1]Frontal!$B$3:$B$165,\"AAAA\")","v":"2019"},"Saida. Benahmina",{"$f":"VLOOKUP([1]Frontal!$F43,[1]Liste!A:C,3,0)","v":9968},"Francois. Hanne","AQM","Francois Hanne","R100611739",{"$f":"VLOOKUP([1]Frontal!$K43,[1]REF!B:C,2,0)","v":"Lampe de poche GISS"},"Consommable",10,{"$f":"VLOOKUP([1]Frontal!$K43,[1]REF!B:D,3,0)","v":14.31},2,{"$f":"[1]Frontal!$P$3:$P$165*[1]Frontal!$O$3:$O$165","v":28.62},"2019-01-29","OK"]
[42,"2019-01-30",5,{"$f":"TEXT([1]Frontal!$B$3:$B$165,\"MMMM\")","v":"janvier"},{"$f":"TEXT([1]Frontal!$B$3:$B$165,\"AAAA\")","v":"2019"},"Vincent. Loquet",{"$f":"VLOOKUP([1]Frontal!$F44,[1]Liste!A:C,3,0)","v":9978},"Vincent. Loquet","QPN","Vincent. Loquet","R100212363",{"$f":"VLOOKUP([1]Frontal!$K44,[1]REF!B:C,2,0)","v":"CADENAS LAITON MASSIF 40MM H:63MM EP:14"},"Quincaillerie",10,{"$f":"VLOOKUP([1]Frontal!$K44,[1]REF!B:D,3,0)","v":3.73},1,{"$f":"[1]Frontal!$P$3:$P$165*[1]Frontal!$O$3:$O$165","v":3.73},"2019-01-30","OK"]
[43,"2019-01-30",5,{"$f":"TEXT([1]Frontal!$B$3:$B$165,\"MMMM\")","v":"janvier"},{"$f":"TEXT([1]Frontal!$B$3:$B$165,\"AAAA\")","v":"2019"},"Matthieu. Pimont",9964,"Christophe. Mikolaczak","Métrologie","Christophe. Mikolaczak","R000111100",{"$f":"VLOOKUP([1]Frontal!$K45,[1]REF!B:C,2,0)","v":"Piles LR06 "},"Quincaillerie",10,{"$f":"VLOOKUP([1]Frontal!$K45,[1]REF!B:D,3,0)","v":0.155},10,{"$f":"[1]Frontal!$P$3:$P$165*[1]Frontal!$O$3:$O$165","v":1.55},"2019-01-30","OK"]
[44,"2019-01-31",5,{"$f":"TEXT([1]Frontal!$B$3:$B$165,\"MMMM\")","v":"janvier"},{"$f":"TEXT([1]Frontal!$B$3:$B$165,\"AAAA\")","v":"2019"},"Saida. Benahmina",{"$f":"VLOOKUP([1]Frontal!$F46,[1]Liste!A:C,3,0)","v":9968},"Fabrice. Richard ","CSC","Huret.Betty","R100518519",{"$f":"VLOOKUP([1]Frontal!$K46,[1]REF!B:C,2,0)","v":"Chaussures F MONTANTES CUIR FLEUR NOIR Taille 40"},"EPI",10,{"$f":"VLOOKUP([1]Frontal!$K46,[1]REF!B:D,3,0)","v":42.13},1,{"$f":"[1]Frontal!$P$3:$P$165*[1]Frontal!$O$3:$O$165","v":42.13},"2019-02-08","OK"]
[45,"2019-01-31",5,{"$f":"TEXT([1]Frontal!$B$3:$B$165,\"MMMM\")","v":"janvier"},{"$f":"TEXT([1]Frontal!$B$3:$B$165,\"AAAA\")","v":"2019"},"Cédric. Longatte ",{"$f":"VLOOKUP([1]Frontal!$F47,[1]Liste!A:C,3,0)","v":9967},"Michael. Defontaine ","CAP","Guillaume. Delomel","R100518645",{"$f":"VLOOKUP([1]Frontal!$K47,[1]REF!B:C,2,0)","v":"Chaussures TYPE BASKET H CUIR VELOURS PERFORE Taille 40"},"EPI",10,{"$f":"VLOOKUP([1]Frontal!$K47,[1]REF!B:D,3,0)","v":26.59},1,{"$f":"[1]Frontal!$P$3:$P$165*[1]Frontal!$O$3:$O$165","v":26.59},"2019-01-31","OK"]
[46,"2019-01-31",5,{"$f":"TEXT([1]Frontal!$B$3:$B$165,\"MMMM\")","v":"janvier"},{"$f":"TEXT([1]Frontal!$B$3:$B$165,\"AAAA\")","v":"2019"},"Matthieu. Pimont",9964,"Pascal. Steu","G. Bruit","Pegg. D-HELFT","R100527919",{"$f":"VLOOKUP([1]Frontal!$K48,[1]REF!B:C,2,0)","v":"Chaussures FEMME OPERATEUR ET VILLE CUIR PLEINE FLEUR Taille 40"},"EPI",10,{"$f":"VLOOKUP([1]Frontal!$K48,[1]REF!B:D,3,0)","v":38.44},1,{"$f":"[1]Frontal!$P$3:$P$165*[1]Frontal!$O$3:$O$165","v":38.44},"2019-01-31","OK"]
[47,"2019-02-01",5,{"$f":"TEXT([1]Frontal!$B$3:$B$165,\"MMMM\")","v":"février"},{"$f":"TEXT([1]Frontal!$B$3:$B$165,\"AAAA\")","v":"2019"},"Saida. Benahmina",{"$f":"VLOOKUP([1]Frontal!$F49,[1]Liste!A:C,3,0)","v":9968},"Olivier. Foulon ","PLS","Olivier. Foulon ","R000111100",{"$f":"VLOOKUP([1]Frontal!$K49,[1]REF!B:C,2,0)","v":"Piles LR06 "},"Consommable",10,{"$f":"VLOOKUP([1]Frontal!$K49,[1]REF!B:D,3,0)","v":0.155},20,{"$f":"[1]Frontal!$P$3:$P$165*[1]Frontal!$O$3:$O$165","v":3.1},"2019-02-01","OK"]
[48,"2019-02-04",6,{"$f":"TEXT([1]Frontal!$B$3:$B$165,\"MMMM\")","v":"février"},{"$f":"TEXT([1]Frontal!$B$3:$B$165,\"AAAA\")","v":"2019"},"Saida. Benahmina",{"$f":"VLOOKUP([1]Frontal!$F50,[1]Liste!A:C,3,0)","v":9968},"Cindy. Thorez ","CSC","Cindy.Thorez","E139000222",{"$f":"VLOOKUP([1]Frontal!$K50,[1]REF!B:C,2,0)","v":"Jeu de Cales 1 à 6 Mm"},"Outillage",10,{"$f":"VLOOKUP([1]Frontal!$K50,[1]REF!B:D,3,0)","v":44.5},2,{"$f":"[1]Frontal!$P$3:$P$165*[1]Frontal!$O$3:$O$165","v":89},"2019-02-04","OK"]
[49,"2019-02-04",6,{"$f":"TEXT([1]Frontal!$B$3:$B$165,\"MMMM\")","v":"février"},{"$f":"TEXT([1]Frontal!$B$3:$B$165,\"AAAA\")","v":"2019"},"Saida. Benahmina",{"$f":"VLOOKUP([1]Frontal!$F51,[1]Liste!A:C,3,0)","v":9968},"Francois. Hanne","AQM","Francois. Hanne","R100625728",{"$f":"VLOOKUP([1]Frontal!$K51,[1]REF!B:C,2,0)","v":"Telephone"},"Informatique",10,{"$f":"VLOOKUP([1]Frontal!$K51,[1]REF!B:D,3,0)","v":90.57},1,{"$f":"[1]Frontal!$P$3:$P$165*[1]Frontal!$O$3:$O$165","v":90.57},"2019-02-04","OK"]
[50,"2019-02-04",6,{"$f":"TEXT([1]Frontal!$B$3:$B$165,\"MMMM\")","v":"février"},{"$f":"TEXT([1]Frontal!$B$3:$B$165,\"AAAA\")","v":"2019"},"Saida. Benahmina",{"$f":"VLOOKUP([1]Frontal!$F52,[1]Liste!A:C,3,0)","v":9968},"Christian. Kaliszewski ","Bloqueur","Christian. Kaliszewski ","R000111100",{"$f":"VLOOKUP([1]Frontal!$K52,[1]REF!B:C,2,0)","v":"Piles LR06 "},"Consommable",10,{"$f":"VLOOKUP([1]Frontal!$K52,[1]REF!B:D,3,0)","v":0.155},1,{"$f":"[1]Frontal!$P$3:$P$165*[1]Frontal!$O$3:$O$165","v":0.155},"2019-02-04","OK"]
[51,"2019-02-05",6,{"$f":"TEXT([1]Frontal!$B$3:$B$165,\"MMMM\")","v":"février"},{"$f":"TEXT([1]Frontal!$B$3:$B$165,\"AAAA\")","v":"2019"},"Saida. Benahmina",{"$f":"VLOOKUP([1]Frontal!$F53,[1]Liste!A:C,3,0)","v":9968},"Francois. Hanne","AQM","Francois. Hanne","R000111100",{"$f":"VLOOKUP([1]Frontal!$K53,[1]REF!B:C,2,0)","v":"Piles LR06 "},"Consommable",10,{"$f":"VLOOKUP([1]Frontal!$K53,[1]REF!B:D,3,0)","v":0.155},10,{"$f":"[1]Frontal!$P$3:$P$165*[1]Frontal!$O$3:$O$165","v":1.55},"2019-02-05","OK"]
[52,"2019-02-05",6,{"$f":"TEXT([1]Frontal!$B$3:$B$165,\"MMMM\")","v":"février"},{"$f":"TEXT([1]Frontal!$B$3:$B$165,\"AAAA\")","v":"2019"},"Saida. Benahmina",{"$f":"VLOOKUP([1]Frontal!$F54,[1]Liste!A:C,3,0)","v":9968},"Daniel. Jouy","Bloqueur","Daniel. Jouy","R000111100",{"$f":"VLOOKUP([1]Frontal!$K54,[1]REF!B:C,2,0)","v":"Piles LR06 "},"Consommable",10,{"$f":"VLOOKUP([1]Frontal!$K54,[1]REF!B:D,3,0)","v":0.155},4,{"$f":"[1]Frontal!$P$3:$P$165*[1]Frontal!$O$3:$O$165","v":0.62},"2019-02-05","OK"]
[53,"2019-02-05",6,{"$f":"TEXT([1]Frontal!$B$3:$B$165,\"MMMM\")","v":"février"},{"$f":"TEXT([1]Frontal!$B$3:$B$165,\"AAAA\")","v":"2019"},"Saida. Benahmina",{"$f":"VLOOKUP([1]Frontal!$F55,[1]Liste!A:C,3,0)","v":9968},"Christian. Kaliszewski ","Bloqueur","Christian. Kaliszewski ","R100330333",{"$f":"VLOOKUP([1]Frontal!$K55,[1]REF!B:C,2,0)","v":"CLAVIER AZERTY HP NOIR/SILVER- USB "},"Bureautique",10,{"$f":"VLOOKUP([1]Frontal!$K55,[1]REF!B:D,3,0)","v":12.18},1,{"$f":"[1]Frontal!$P$3:$P$165*[1]Frontal!$O$3:$O$165","v":12.18},"2019-02-06","OK"]
[54,"2019-02-06",6,{"$f":"TEXT([1]Frontal!$B$3:$B$165,\"MMMM\")","v":"février"},{"$f":"TEXT([1]Frontal!$B$3:$B$165,\"AAAA\")","v":"2019"},"Saida. Benahmina",{"$f":"VLOOKUP([1]Frontal!$F56,[1]Liste!A:C,3,0)","v":9968},"Saida. Benahmina","PLS","Olivier. Foulon ","X771101008",{"$f":"VLOOKUP([1]Frontal!$K56,[1]REF!B:C,2,0)","v":"Piles LR03 "},"Consommable",10,{"$f":"VLOOKUP([1]Frontal!$K56,[1]REF!B:D,3,0)","v":0.124},10,{"$f":"[1]Frontal!$P$3:$P$165*[1]Frontal!$O$3:$O$165","v":1.24},"2019-02-06","OK"]
[55,"2019-02-07",6,{"$f":"TEXT([1]Frontal!$B$3:$B$165,\"MMMM\")","v":"février"},{"$f":"TEXT([1]Frontal!$B$3:$B$165,\"AAAA\")","v":"2019"},"Vincent. Loquet",{"$f":"VLOOKUP([1]Frontal!$F57,[1]Liste!A:C,3,0)","v":9978},"Vincent. Loquet","QPN","Vincent. Loquet","X957595004",{"$f":"VLOOKUP([1]Frontal!$K57,[1]REF!B:C,2,0)","v":"Semelle T43"},"Consommable",10,{"$f":"VLOOKUP([1]Frontal!$K57,[1]REF!B:D,3,0)","v":0.64},5,{"$f":"[1]Frontal!$P$3:$P$165*[1]Frontal!$O$3:$O$165","v":3.2},"2019-02-07","OK"]
[56,"2019-02-07",6,{"$f":"TEXT([1]Frontal!$B$3:$B$165,\"MMMM\")","v":"février"},{"$f":"TEXT([1]Frontal!$B$3:$B$165,\"AAAA\")","v":"2019"},"Saida. Benahmina",{"$f":"VLOOKUP([1]Frontal!$F58,[1]Liste!A:C,3,0)","v":9968},"Christine. Tamburri ","AQM","Christine. Tamburri ","E139000222",{"$f":"VLOOKUP([1]Frontal!$K58,[1]REF!B:C,2,0)","v":"Jeu de Cales 1 à 6 Mm"},"DO",10,{"$f":"VLOOKUP([1]Frontal!$K58,[1]REF!B:D,3,0)","v":44.5},1,{"$f":"[1]Frontal!$P$3:$P$165*[1]Frontal!$O$3:$O$165","v":44.5},"2019-02-07","OK"]
[57,"2019-02-08",6,{"$f":"TEXT([1]Frontal!$B$3:$B$165,\"MMMM\")","v":"février"},{"$f":"TEXT([1]Frontal!$B$3:$B$165,\"AAAA\")","v":"2019"},"Saida. Benahmina",{"$f":"VLOOKUP([1]Frontal!$F59,[1]Liste!A:C,3,0)","v":9968},"Francois. Hanne","AQM","Francois. Hanne","X771101008",{"$f":"VLOOKUP([1]Frontal!$K59,[1]REF!B:C,2,0)","v":"Piles LR03 "},"Consommable",10,{"$f":"VLOOKUP([1]Frontal!$K59,[1]REF!B:D,3,0)","v":0.124},30,{"$f":"[1]Frontal!$P$3:$P$165*[1]Frontal!$O$3:$O$165","v":3.7199999999999998},"2019-02-08","OK"]
[58,"2019-02-08",6,{"$f":"TEXT([1]Frontal!$B$3:$B$165,\"MMMM\")","v":"février"},{"$f":"TEXT([1]Frontal!$B$3:$B$165,\"AAAA\")","v":"2019"},"Saida. Benahmina",{"$f":"VLOOKUP([1]Frontal!$F60,[1]Liste!A:C,3,0)","v":9968},"Francois. Hanne","AQM","Francois. Hanne","R000111100",{"$f":"VLOOKUP([1]Frontal!$K60,[1]REF!B:C,2,0)","v":"Piles LR06 "},"Consommable",10,{"$f":"VLOOKUP([1]Frontal!$K60,[1]REF!B:D,3,0)","v":0.155},30,{"$f":"[1]Frontal!$P$3:$P$165*[1]Frontal!$O$3:$O$165","v":4.6500000000000004},"2019-02-08","OK"]
[59,"2019-02-12",7,{"$f":"TEXT([1]Frontal!$B$3:$B$165,\"MMMM\")","v":"février"},{"$f":"TEXT([1]Frontal!$B$3:$B$165,\"AAAA\")","v":"2019"},"Aka.Amany. Patrice",{"$f":"VLOOKUP([1]Frontal!$F61,[1]Liste!A:C,3,0)","v":9962},"Aka.Amany. Patrice","EPF","Aka.Amany. Patrice","R100583445",{"$f":"VLOOKUP([1]Frontal!$K61,[1]REF!B:C,2,0)","v":"Parka HV Jaune Taille L"},"EPI",10,{"$f":"VLOOKUP([1]Frontal!$K61,[1]REF!B:D,3,0)","v":33.69},1,{"$f":"[1]Frontal!$P$3:$P$165*[1]Frontal!$O$3:$O$165","v":33.69},"2019-02-12","OK"]
[60,"2019-02-12",7,{"$f":"TEXT([1]Frontal!$B$3:$B$165,\"MMMM\")","v":"février"},{"$f":"TEXT([1]Frontal!$B$3:$B$165,\"AAAA\")","v":"2019"},"Aka.Amany. Patrice",{"$f":"VLOOKUP([1]Frontal!$F62,[1]Liste!A:C,3,0)","v":9962},"Abdelkadder Tayebi","EPF","Abdelkadder Tayebi","R100583445",{"$f":"VLOOKUP([1]Frontal!$K62,[1]REF!B:C,2,0)","v":"Parka HV Jaune Taille L"},"EPI",10,{"$f":"VLOOKUP([1]Frontal!$K62,[1]REF!B:D,3,0)","v":33.69},1,{"$f":"[1]Frontal!$P$3:$P$165*[1]Frontal!$O$3:$O$165","v":33.69},"2019-02-12","OK"]
[61,"2019-02-12",7,{"$f":"TEXT([1]Frontal!$B$3:$B$165,\"MMMM\")","v":"février"},{"$f":"TEXT([1]Frontal!$B$3:$B$165,\"AAAA\")","v":"2019"},"Aka.Amany. Patrice",{"$f":"VLOOKUP([1]Frontal!$F63,[1]Liste!A:C,3,0)","v":9962},"Caron.Jean-Bernard","EPF","Caron.Jean-Bernard","R100583446",{"$f":"VLOOKUP([1]Frontal!$K63,[1]REF!B:C,2,0)","v":"Parka HV Jaune Taille XL"},"EPI",10,{"$f":"VLOOKUP([1]Frontal!$K63,[1]REF!B:D,3,0)","v":32.020000000000003},1,{"$f":"[1]Frontal!$P$3:$P$165*[1]Frontal!$O$3:$O$165","v":32.020000000000003},"2019-02-12","OK"]
[62,"2019-02-12",7,{"$f":"TEXT([1]Frontal!$B$3:$B$165,\"MMMM\")","v":"février"},{"$f":"TEXT([1]Frontal!$B$3:$B$165,\"AAAA\")","v":"2019"},"Saida. Benahmina",{"$f":"VLOOKUP([1]Frontal!$F64,[1]Liste!A:C,3,0)","v":9968},"Cindy. Thorez ","CSC","Cindy. Thorez ","P955157073",{"$f":"VLOOKUP([1]Frontal!$K64,[1]REF!B:C,2,0)","v":" Gobelet "},"Consommable",10,{"$f":"VLOOKUP([1]Frontal!$K64,[1]REF!B:D,3,0)","v":1},4,{"$f":"[1]Frontal!$P$3:$P$165*[1]Frontal!$O$3:$O$165","v":4},"2019-02-12","OK"]
[63,"2019-02-12",7,{"$f":"TEXT([1]Frontal!$B$3:$B$165,\"MMMM\")","v":"février"},{"$f":"TEXT([1]Frontal!$B$3:$B$165,\"AAAA\")","v":"2019"},"Matthieu. Pimont",9964,"Daniel. Szekula ","Métrologie","Daniel. Szekula ","P976730900",{"$f":"VLOOKUP([1]Frontal!$K65,[1]REF!B:C,2,0)","v":"Agitateur ou cuillère "},"Consommable",10,{"$f":"VLOOKUP([1]Frontal!$K65,[1]REF!B:D,3,0)","v":10},1,{"$f":"[1]Frontal!$P$3:$P$165*[1]Frontal!$O$3:$O$165","v":10},"2019-02-12","OK"]
[64,"2019-02-12",7,{"$f":"TEXT([1]Frontal!$B$3:$B$165,\"MMMM\")","v":"février"},{"$f":"TEXT([1]Frontal!$B$3:$B$165,\"AAAA\")","v":"2019"},"Matthieu. Pimont",9964,"Daniel. Szekula ","Métrologie","Daniel. Szekula ","R100090222",{"$f":"VLOOKUP([1]Frontal!$K66,[1]REF!B:C,2,0)","v":"Essuyeurs.Kimwipes "},"Consommable",10,{"$f":"VLOOKUP([1]Frontal!$K66,[1]REF!B:D,3,0)","v":40.450000000000003},1,{"$f":"[1]Frontal!$P$3:$P$165*[1]Frontal!$O$3:$O$165","v":40.450000000000003},"2019-02-12","OK"]
[65,"2019-02-12",{"$f":"WEEKNUM($B67,2)-(WEEKDAY(DATE(YEAR(B67),1,4),2)<4)*1","v":7},{"$f":"TEXT([1]Frontal!$B$3:$B$165,\"MMMM\")","v":"février"},{"$f":"TEXT([1]Frontal!$B$3:$B$165,\"AAAA\")","v":"2019"},"Vincent. Loquet",{"$f":"VLOOKUP([1]Frontal!$F67,[1]Liste!A:C,3,0)","v":9978},"Vincent. Loquet","QPN","Vincent. Loquet","R100341937",{"$f":"VLOOKUP([1]Frontal!$K67,[1]REF!B:C,2,0)","v":"PAIRE GANTS T10 POLYAMIDE MOUSSE DE NITRILE BLANC"},"EPI",{"$f":"LEN(K67)","v":10},{"$f":"VLOOKUP([1]Frontal!$K67,[1]REF!B:D,3,0)","v":1.06},70,{"$f":"[1]Frontal!$P$3:$P$165*[1]Frontal!$O$3:$O$165","v":74.2},"2019-02-12","OK"]
[66,"2019-02-12",7,{"$f":"TEXT([1]Frontal!$B$3:$B$165,\"MMMM\")","v":"février"},{"$f":"TEXT([1]Frontal!$B$3:$B$165,\"AAAA\")","v":"2019"},"Vincent. Loquet",{"$f":"VLOOKUP([1]Frontal!$F68,[1]Liste!A:C,3,0)","v":9978},"Vincent. Loquet","QPN","Vincent. Loquet","R100341934",{"$f":"VLOOKUP([1]Frontal!$K68,[1]REF!B:C,2,0)","v":"PAIRE GANTS T8 POLYAMIDE MOUSSE DE NITRILE BLEU"},"EPI",10,{"$f":"VLOOKUP([1]Frontal!$K68,[1]REF!B:D,3,0)","v":1.07},50,{"$f":"[1]Frontal!$P$3:$P$165*[1]Frontal!$O$3:$O$165","v":53.5},"2019-02-12",{"$f":"IF(R68,\"OK\",\"NOK\")","v":"OK"}]
[67,"2019-02-12",7,{"$f":"TEXT([1]Frontal!$B$3:$B$165,\"MMMM\")","v":"février"},{"$f":"TEXT([1]Frontal!$B$3:$B$165,\"AAAA\")","v":"2019"},"Saida. Benahmina",{"$f":"VLOOKUP([1]Frontal!$F69,[1]Liste!A:C,3,0)","v":9968},"Christine. Tamburri ","AQM","Christine. Tamburri ","R100646630",{"$f":"VLOOKUP([1]Frontal!$K69,[1]REF!B:C,2,0)","v":"PAIRE GANTS T8  MASTIC ROUGE"},"EPI",10,{"$f":"VLOOKUP([1]Frontal!$K69,[1]REF!B:D,3,0)","v":0.6},200,{"$f":"[1]Frontal!$P$3:$P$165*[1]Frontal!$O$3:$O$165","v":120},"2019-02-12","OK"]
[68,"2019-02-13",7,{"$f":"TEXT([1]Frontal!$B$3:$B$165,\"MMMM\")","v":"février"},{"$f":"TEXT([1]Frontal!$B$3:$B$165,\"AAAA\")","v":"2019"},"Matthieu. Pimont",{"$f":"VLOOKUP([1]Frontal!$F70,[1]Liste!A:C,3,0)","v":{"$error":"#N/A"}},"Daniel. Szekula ","Métrologie","Daniel. Szekula ","R100289692",{"$f":"VLOOKUP([1]Frontal!$K70,[1]REF!B:C,2,0)","v":"RUBAN ADHESIF DOUBLE FACE ROUGE"},"Consommable",10,{"$f":"VLOOKUP([1]Frontal!$K70,[1]REF!B:D,3,0)","v":13.4},1,{"$f":"[1]Frontal!$P$3:$P$165*[1]Frontal!$O$3:$O$165","v":13.4},"2019-02-13","OK"]
[69,"2019-02-14",7,{"$f":"TEXT([1]Frontal!$B$3:$B$165,\"MMMM\")","v":"février"},{"$f":"TEXT([1]Frontal!$B$3:$B$165,\"AAAA\")","v":"2019"},"Saida. Benahmina",{"$f":"VLOOKUP([1]Frontal!$F71,[1]Liste!A:C,3,0)","v":9968},"Christine. Tamburri ","AQM","Christine. Tamburri ","R100150296",{"$f":"VLOOKUP([1]Frontal!$K71,[1]REF!B:C,2,0)","v":"\nPAIRE GANTS T7 TRICOTE 5DGTS 3FILS COTON BLEU"},"EPI",10,{"$f":"VLOOKUP([1]Frontal!$K71,[1]REF!B:D,3,0)","v":0.27},200,{"$f":"[1]Frontal!$P$3:$P$165*[1]Frontal!$O$3:$O$165","v":54},"2019-02-14","OK"]
[70,"2019-02-14",7,{"$f":"TEXT([1]Frontal!$B$3:$B$165,\"MMMM\")","v":"février"},{"$f":"TEXT([1]Frontal!$B$3:$B$165,\"AAAA\")","v":"2019"},"Vincent. Loquet",{"$f":"VLOOKUP([1]Frontal!$F72,[1]Liste!A:C,3,0)","v":9978},"Vincent. Loquet","QPN","Vincent. Loquet","R100023101",{"$f":"VLOOKUP([1]Frontal!$K72,[1]REF!B:C,2,0)","v":"PERCEUSE R.ANGLE VARIAT"},"Outillage",10,{"$f":"VLOOKUP([1]Frontal!$K72,[1]REF!B:D,3,0)","v":166.47},1,{"$f":"[1]Frontal!$P$3:$P$165*[1]Frontal!$O$3:$O$165","v":166.47},"2019-02-14","OK"]
[71,"2019-02-14",7,{"$f":"TEXT([1]Frontal!$B$3:$B$165,\"MMMM\")","v":"février"},{"$f":"TEXT([1]Frontal!$B$3:$B$165,\"AAAA\")","v":"2019"},"Matthieu. Pimont",9964,"Daniel. Szekula ","Métrologie","Sandra Folmer","R100625731",{"$f":"VLOOKUP([1]Frontal!$K73,[1]REF!B:C,2,0)","v":"Alimentation téléphone"},"Informatique",10,{"$f":"VLOOKUP([1]Frontal!$K73,[1]REF!B:D,3,0)","v":8.31},1,{"$f":"[1]Frontal!$P$3:$P$165*[1]Frontal!$O$3:$O$165","v":8.31},"2019-02-14","OK"]
[72,"2019-02-14",7,{"$f":"TEXT([1]Frontal!$B$3:$B$165,\"MMMM\")","v":"février"},{"$f":"TEXT([1]Frontal!$B$3:$B$165,\"AAAA\")","v":"2019"},"Matthieu. Pimont",9964,"Daniel. Szekula ","Métrologie","Sandra Folmer","R100625730",{"$f":"VLOOKUP([1]Frontal!$K74,[1]REF!B:C,2,0)","v":"Chargeur téléphone"},"Informatique",10,{"$f":"VLOOKUP([1]Frontal!$K74,[1]REF!B:D,3,0)","v":19.510000000000002},1,{"$f":"[1]Frontal!$P$3:$P$165*[1]Frontal!$O$3:$O$165","v":19.510000000000002},"2019-02-14","OK"]
[73,"2019-02-14",7,{"$f":"TEXT([1]Frontal!$B$3:$B$165,\"MMMM\")","v":"février"},{"$f":"TEXT([1]Frontal!$B$3:$B$165,\"AAAA\")","v":"2019"},"Matthieu. Pimont",9964,"Daniel. Szekula ","Tracage","Sandra Folmer","R100625728",{"$f":"VLOOKUP([1]Frontal!$K75,[1]REF!B:C,2,0)","v":"Telephone"},"Informatique",10,{"$f":"VLOOKUP([1]Frontal!$K75,[1]REF!B:D,3,0)","v":90.57},1,{"$f":"[1]Frontal!$P$3:$P$165*[1]Frontal!$O$3:$O$165","v":90.57},"2019-02-14","OK"]
[74,"2019-02-15",7,{"$f":"TEXT([1]Frontal!$B$3:$B$165,\"MMMM\")","v":"février"},{"$f":"TEXT([1]Frontal!$B$3:$B$165,\"AAAA\")","v":"2019"},"Cedric. Longatte ",9964,"Cedric. Longatte ","CAP","Cedric. Longatte ","R100518606",{"$f":"VLOOKUP([1]Frontal!$K76,[1]REF!B:C,2,0)","v":"Chaussures H BASSES CUIR PLEINE FLEUR DE VACHETTE Taille 43"},"EPI",10,{"$f":"VLOOKUP([1]Frontal!$K76,[1]REF!B:D,3,0)","v":43.45},1,{"$f":"[1]Frontal!$P$3:$P$165*[1]Frontal!$O$3:$O$165","v":43.45},"2019-02-15","OK"]
[75,"2019-02-18",8,{"$f":"TEXT([1]Frontal!$B$3:$B$165,\"MMMM\")","v":"février"},{"$f":"TEXT([1]Frontal!$B$3:$B$165,\"AAAA\")","v":"2019"},"Saida. Benahmina",{"$f":"VLOOKUP([1]Frontal!$F77,[1]Liste!A:C,3,0)","v":9968},"Cindy. Thorez ","CSC","Cindy. Thorez ","X951506725",{"$f":"VLOOKUP([1]Frontal!$K77,[1]REF!B:C,2,0)","v":"Bouchon D'oreille Ficelle"},"EPI",10,{"$f":"VLOOKUP([1]Frontal!$K77,[1]REF!B:D,3,0)","v":1.01},50,{"$f":"[1]Frontal!$P$3:$P$165*[1]Frontal!$O$3:$O$165","v":50.5},"2019-02-18","OK"]
[76,"2019-02-18",8,{"$f":"TEXT([1]Frontal!$B$3:$B$165,\"MMMM\")","v":"février"},{"$f":"TEXT([1]Frontal!$B$3:$B$165,\"AAAA\")","v":"2019"},"Matthieu. Pimont",9964,"Daniel. Szekula ","Tracage","Daniel. Szekula ","T533200450",{"$f":"VLOOKUP([1]Frontal!$K78,[1]REF!B:C,2,0)","v":"RUBAN ADHESIF PVC PLASTIFIE TRANSPARENT"},"Consommable",10,{"$f":"VLOOKUP([1]Frontal!$K78,[1]REF!B:D,3,0)","v":1.22},10,{"$f":"[1]Frontal!$P$3:$P$165*[1]Frontal!$O$3:$O$165","v":12.2},"2019-02-18","OK"]
[77,"2019-02-18",8,{"$f":"TEXT([1]Frontal!$B$3:$B$165,\"MMMM\")","v":"février"},{"$f":"TEXT([1]Frontal!$B$3:$B$165,\"AAAA\")","v":"2019"},"Saida. Benahmina",{"$f":"VLOOKUP([1]Frontal!$F79,[1]Liste!A:C,3,0)","v":9968},"Cindy. Thorez ","CSC","Fabienne. Masclet","R100518520",{"$f":"VLOOKUP([1]Frontal!$K79,[1]REF!B:C,2,0)","v":"Chaussures F MONTANTES CUIR FLEUR NOIR Taille 41"},"EPI",10,{"$f":"VLOOKUP([1]Frontal!$K79,[1]REF!B:D,3,0)","v":42.13},1,{"$f":"[1]Frontal!$P$3:$P$165*[1]Frontal!$O$3:$O$165","v":42.13},"2019-02-18","OK"]
[78,"2019-02-18",8,{"$f":"TEXT([1]Frontal!$B$3:$B$165,\"MMMM\")","v":"février"},{"$f":"TEXT([1]Frontal!$B$3:$B$165,\"AAAA\")","v":"2019"},"Matthieu. Pimont",9964,"Pascal. Steu","G. Bruit","Pascal. Steu","R100601454",{"$f":"VLOOKUP([1]Frontal!$K80,[1]REF!B:C,2,0)","v":"Chaussures H BASSES CUIR FLEUR NOIR HYDROFUGE Taille 42"},"EPI",10,{"$f":"VLOOKUP([1]Frontal!$K80,[1]REF!B:D,3,0)","v":20.8},1,{"$f":"[1]Frontal!$P$3:$P$165*[1]Frontal!$O$3:$O$165","v":20.8},"2019-02-18","OK"]
[79,"2019-02-19",8,{"$f":"TEXT([1]Frontal!$B$3:$B$165,\"MMMM\")","v":"février"},{"$f":"TEXT([1]Frontal!$B$3:$B$165,\"AAAA\")","v":"2019"},"Matthieu. Pimont",9964,"Daniel. Szekula ","Tracage","Daniel. Szekula ","T803900031",{"$f":"VLOOKUP([1]Frontal!$K81,[1]REF!B:C,2,0)","v":"Bombre Visunet néttoyant Ecran"},"Consommable",10,{"$f":"VLOOKUP([1]Frontal!$K81,[1]REF!B:D,3,0)","v":4.71},5,{"$f":"[1]Frontal!$P$3:$P$165*[1]Frontal!$O$3:$O$165","v":23.55},"2019-02-19","OK"]
[80,"2019-02-19",8,{"$f":"TEXT([1]Frontal!$B$3:$B$165,\"MMMM\")","v":"février"},{"$f":"TEXT([1]Frontal!$B$3:$B$165,\"AAAA\")","v":"2019"},"Matthieu. Pimont",9964,"Daniel. Szekula ","Tracage","Daniel. Szekula ","T843387023",{"$f":"VLOOKUP([1]Frontal!$K82,[1]REF!B:C,2,0)","v":"Bombe Révelateur  Blanc"},"Consommable",10,{"$f":"VLOOKUP([1]Frontal!$K82,[1]REF!B:D,3,0)","v":6.01},10,{"$f":"[1]Frontal!$P$3:$P$165*[1]Frontal!$O$3:$O$165","v":60.099999999999994},"2019-02-19","OK"]
[81,"2019-02-19",8,{"$f":"TEXT([1]Frontal!$B$3:$B$165,\"MMMM\")","v":"février"},{"$f":"TEXT([1]Frontal!$B$3:$B$165,\"AAAA\")","v":"2019"},"Matthieu. Pimont",9964,"Daniel. Szekula ","Tracage","Daniel. Szekula ","R100329823",{"$f":"VLOOKUP([1]Frontal!$K83,[1]REF!B:C,2,0)","v":"Bombe dégrippant lubrifiant"},"Consommable",10,{"$f":"VLOOKUP([1]Frontal!$K83,[1]REF!B:D,3,0)","v":2.06},10,{"$f":"[1]Frontal!$P$3:$P$165*[1]Frontal!$O$3:$O$165","v":20.6},"2019-02-19","OK"]
[82,"2019-02-19",8,{"$f":"TEXT([1]Frontal!$B$3:$B$165,\"MMMM\")","v":"février"},{"$f":"TEXT([1]Frontal!$B$3:$B$165,\"AAAA\")","v":"2019"},"Matthieu. Pimont",9964,"Pascal. Steu","G. Bruit","Pascal. Steu","R100341930",{"$f":"VLOOKUP([1]Frontal!$K84,[1]REF!B:C,2,0)","v":"PAIRE GANTS NYLON ENDIUTS NITRILE LISERE BLEU"},"EPI",10,{"$f":"VLOOKUP([1]Frontal!$K84,[1]REF!B:D,3,0)","v":1.05},10,{"$f":"[1]Frontal!$P$3:$P$165*[1]Frontal!$O$3:$O$165","v":10.5},"2019-02-19","OK"]
[83,"2019-02-20",8,{"$f":"TEXT([1]Frontal!$B$3:$B$165,\"MMMM\")","v":"février"},{"$f":"TEXT([1]Frontal!$B$3:$B$165,\"AAAA\")","v":"2019"},"Saida. Benahmina",{"$f":"VLOOKUP([1]Frontal!$F85,[1]Liste!A:C,3,0)","v":9968},"Cindy. Thorez ","CSC","Cindy. Thorez ","P887100000",{"$f":"VLOOKUP([1]Frontal!$K85,[1]REF!B:C,2,0)","v":"ENROULEUR EQUILIBREUR MECANIQUE DE 60 GRAM"},"Quincaillerie",10,{"$f":"VLOOKUP([1]Frontal!$K85,[1]REF!B:D,3,0)","v":3.05},5,{"$f":"[1]Frontal!$P$3:$P$165*[1]Frontal!$O$3:$O$165","v":15.25},"2019-02-20","OK"]
[84,"2019-02-20",8,{"$f":"TEXT([1]Frontal!$B$3:$B$165,\"MMMM\")","v":"février"},{"$f":"TEXT([1]Frontal!$B$3:$B$165,\"AAAA\")","v":"2019"},"Saida. Benahmina",{"$f":"VLOOKUP([1]Frontal!$F86,[1]Liste!A:C,3,0)","v":9968},"Fabrice. Richard ","CSC","Veronique.Lesicki","R100518518",{"$f":"VLOOKUP([1]Frontal!$K86,[1]REF!B:C,2,0)","v":"Chaussures F MONTANTES CUIR FLEUR NOIR Taille 39"},"EPI",10,{"$f":"VLOOKUP([1]Frontal!$K86,[1]REF!B:D,3,0)","v":42.13},1,{"$f":"[1]Frontal!$P$3:$P$165*[1]Frontal!$O$3:$O$165","v":42.13},"2019-02-22","OK"]
[85,"2019-02-20",8,{"$f":"TEXT([1]Frontal!$B$3:$B$165,\"MMMM\")","v":"février"},{"$f":"TEXT([1]Frontal!$B$3:$B$165,\"AAAA\")","v":"2019"},"Saida. Benahmina",{"$f":"VLOOKUP([1]Frontal!$F87,[1]Liste!A:C,3,0)","v":9968},"Fabrice. Richard ","CSC","D.Mathon","R100364321",{"$f":"VLOOKUP([1]Frontal!$K87,[1]REF!B:C,2,0)","v":"Chaussures F  TENNIS EN CROUPON VELOURS ROUGE Taille 41"},"EPI",10,{"$f":"VLOOKUP([1]Frontal!$K87,[1]REF!B:D,3,0)","v":33.4},1,{"$f":"[1]Frontal!$P$3:$P$165*[1]Frontal!$O$3:$O$165","v":33.4},"2019-02-22","OK"]
[86,"2019-02-21",8,{"$f":"TEXT([1]Frontal!$B$3:$B$165,\"MMMM\")","v":"février"},{"$f":"TEXT([1]Frontal!$B$3:$B$165,\"AAAA\")","v":"2019"},"Saida. Benahmina",{"$f":"VLOOKUP([1]Frontal!$F88,[1]Liste!A:C,3,0)","v":9968},"Olivier. Foulon ","PLS","Olivier. Foulon ","X957595004",{"$f":"VLOOKUP([1]Frontal!$K88,[1]REF!B:C,2,0)","v":"Semelle T43"},"EPI",10,{"$f":"VLOOKUP([1]Frontal!$K88,[1]REF!B:D,3,0)","v":0.64},3,{"$f":"[1]Frontal!$P$3:$P$165*[1]Frontal!$O$3:$O$165","v":1.92},"2019-02-21","OK"]
[87,"2019-02-21",8,{"$f":"TEXT([1]Frontal!$B$3:$B$165,\"MMMM\")","v":"février"},{"$f":"TEXT([1]Frontal!$B$3:$B$165,\"AAAA\")","v":"2019"},"Saida. Benahmina",{"$f":"VLOOKUP([1]Frontal!$F89,[1]Liste!A:C,3,0)","v":9968},"Olivier. Foulon ","PLS","Olivier. Foulon ","X957596004",{"$f":"VLOOKUP([1]Frontal!$K89,[1]REF!B:C,2,0)","v":"Semelle T45"},"EPI",10,{"$f":"VLOOKUP([1]Frontal!$K89,[1]REF!B:D,3,0)","v":0.64},3,{"$f":"[1]Frontal!$P$3:$P$165*[1]Frontal!$O$3:$O$165","v":1.92},"2019-02-21","OK"]
[88,"2019-02-21",8,{"$f":"TEXT([1]Frontal!$B$3:$B$165,\"MMMM\")","v":"février"},{"$f":"TEXT([1]Frontal!$B$3:$B$165,\"AAAA\")","v":"2019"},"Saida. Benahmina",{"$f":"VLOOKUP([1]Frontal!$F90,[1]Liste!A:C,3,0)","v":9968},"Olivier. Foulon ","PLS","Olivier. Foulon ","X957596403",{"$f":"VLOOKUP([1]Frontal!$K90,[1]REF!B:C,2,0)","v":"Semelle T46"},"EPI",10,{"$f":"VLOOKUP([1]Frontal!$K90,[1]REF!B:D,3,0)","v":0.65},2,{"$f":"[1]Frontal!$P$3:$P$165*[1]Frontal!$O$3:$O$165","v":1.3},"2019-02-21","OK"]
[89,"2019-02-21",8,{"$f":"TEXT([1]Frontal!$B$3:$B$165,\"MMMM\")","v":"février"},{"$f":"TEXT([1]Frontal!$B$3:$B$165,\"AAAA\")","v":"2019"},"Saida. Benahmina",{"$f":"VLOOKUP([1]Frontal!$F91,[1]Liste!A:C,3,0)","v":9968},"Olivier. Foulon ","PLS","Olivier. Foulon ","R100625298",{"$f":"VLOOKUP([1]Frontal!$K91,[1]REF!B:C,2,0)","v":"Gilet réfléchissant  XL"},"EPI",10,{"$f":"VLOOKUP([1]Frontal!$K91,[1]REF!B:D,3,0)","v":5.77},4,{"$f":"[1]Frontal!$P$3:$P$165*[1]Frontal!$O$3:$O$165","v":23.08},"2019-02-21","OK"]
[90,"2019-02-21",8,{"$f":"TEXT([1]Frontal!$B$3:$B$165,\"MMMM\")","v":"février"},{"$f":"TEXT([1]Frontal!$B$3:$B$165,\"AAAA\")","v":"2019"},"Saida. Benahmina",{"$f":"VLOOKUP([1]Frontal!$F92,[1]Liste!A:C,3,0)","v":9968},"Olivier. Foulon ","PLS","Olivier. Foulon ","R100625297",{"$f":"VLOOKUP([1]Frontal!$K92,[1]REF!B:C,2,0)","v":"Gilet réfléchissant  L"},"EPI",10,{"$f":"VLOOKUP([1]Frontal!$K92,[1]REF!B:D,3,0)","v":5.77},5,{"$f":"[1]Frontal!$P$3:$P$165*[1]Frontal!$O$3:$O$165","v":28.849999999999998},"2019-02-21","OK"]
[91,"2019-02-22",8,{"$f":"TEXT([1]Frontal!$B$3:$B$165,\"MMMM\")","v":"février"},{"$f":"TEXT([1]Frontal!$B$3:$B$165,\"AAAA\")","v":"2019"},"Matthieu. Pimont",9964,"Pascal. Steu","G. Bruit","Pascal. Steu","P645136004",{"$f":"VLOOKUP([1]Frontal!$K93,[1]REF!B:C,2,0)","v":"Pince coupante"},"Outillage",10,{"$f":"VLOOKUP([1]Frontal!$K93,[1]REF!B:D,3,0)","v":10.47},1,{"$f":"[1]Frontal!$P$3:$P$165*[1]Frontal!$O$3:$O$165","v":10.47},"2019-02-27","OK"]
[92,"2019-02-22",8,{"$f":"TEXT([1]Frontal!$B$3:$B$165,\"MMMM\")","v":"février"},{"$f":"TEXT([1]Frontal!$B$3:$B$165,\"AAAA\")","v":"2019"},"Matthieu. Pimont",9964,"Pascal. Steu","G. Bruit","Pascal. Steu","P671166600",{"$f":"VLOOKUP([1]Frontal!$K94,[1]REF!B:C,2,0)","v":"Pince multiprise"},"Outillage",10,{"$f":"VLOOKUP([1]Frontal!$K94,[1]REF!B:D,3,0)","v":9.5399999999999991},1,{"$f":"[1]Frontal!$P$3:$P$165*[1]Frontal!$O$3:$O$165","v":9.5399999999999991},"2019-03-01","OK"]
[93,"2019-02-22",8,{"$f":"TEXT([1]Frontal!$B$3:$B$165,\"MMMM\")","v":"février"},{"$f":"TEXT([1]Frontal!$B$3:$B$165,\"AAAA\")","v":"2019"},"Saida. Benahmina",{"$f":"VLOOKUP([1]Frontal!$F95,[1]Liste!A:C,3,0)","v":9968},"Fabrice. Richard ","CSC","Fabrice. Richard ","R100646629",{"$f":"VLOOKUP([1]Frontal!$K95,[1]REF!B:C,2,0)","v":"PAIRE GANTS T7 MASTIC laine blanc liseré Jaune"},"EPI",10,{"$f":"VLOOKUP([1]Frontal!$K95,[1]REF!B:D,3,0)","v":0.6},200,{"$f":"[1]Frontal!$P$3:$P$165*[1]Frontal!$O$3:$O$165","v":120},"2019-02-26","OK"]
[94,"2019-02-22",8,{"$f":"TEXT([1]Frontal!$B$3:$B$165,\"MMMM\")","v":"février"},{"$f":"TEXT([1]Frontal!$B$3:$B$165,\"AAAA\")","v":"2019"},"Cédric. Longatte ",{"$f":"VLOOKUP([1]Frontal!$F96,[1]Liste!A:C,3,0)","v":9967},"Michael. Defontaine ","CAP","Michael. Defontaine ","X951506724",{"$f":"VLOOKUP([1]Frontal!$K96,[1]REF!B:C,2,0)","v":"Bouchon D'oreille"},"EPI",10,{"$f":"VLOOKUP([1]Frontal!$K96,[1]REF!B:D,3,0)","v":1.01},50,{"$f":"[1]Frontal!$P$3:$P$165*[1]Frontal!$O$3:$O$165","v":50.5},"2019-02-22","OK"]
[95,"2019-02-22",8,{"$f":"TEXT([1]Frontal!$B$3:$B$165,\"MMMM\")","v":"février"},{"$f":"TEXT([1]Frontal!$B$3:$B$165,\"AAAA\")","v":"2019"},"Matthieu. Pimont",9964,"Daniel. Szekula ","Tracage","Daniel. Szekula","X951506724",{"$f":"VLOOKUP([1]Frontal!$K97,[1]REF!B:C,2,0)","v":"Bouchon D'oreille"},"EPI",10,{"$f":"VLOOKUP([1]Frontal!$K97,[1]REF!B:D,3,0)","v":1.01},50,{"$f":"[1]Frontal!$P$3:$P$165*[1]Frontal!$O$3:$O$165","v":50.5},"2019-02-22","OK"]
[96,"2019-02-22",8,{"$f":"TEXT([1]Frontal!$B$3:$B$165,\"MMMM\")","v":"février"},{"$f":"TEXT([1]Frontal!$B$3:$B$165,\"AAAA\")","v":"2019"},"Saida. Benahmina",{"$f":"VLOOKUP([1]Frontal!$F98,[1]Liste!A:C,3,0)","v":9968},"Cindy. Thorez ","CSC","Cindy. Thorez ","X951506724",{"$f":"VLOOKUP([1]Frontal!$K98,[1]REF!B:C,2,0)","v":"Bouchon D'oreille"},"EPI",10,{"$f":"VLOOKUP([1]Frontal!$K98,[1]REF!B:D,3,0)","v":1.01},50,{"$f":"[1]Frontal!$P$3:$P$165*[1]Frontal!$O$3:$O$165","v":50.5},"2019-02-22","OK"]
[97,"2019-02-22",8,{"$f":"TEXT([1]Frontal!$B$3:$B$165,\"MMMM\")","v":"février"},{"$f":"TEXT([1]Frontal!$B$3:$B$165,\"AAAA\")","v":"2019"},"Saida. Benahmina",{"$f":"VLOOKUP([1]Frontal!$F99,[1]Liste!A:C,3,0)","v":9968},"Cathy.Dhainaut","Bloqueur","Cathy.Dhainaut",4939031060,{"$f":"VLOOKUP([1]Frontal!$K99,[1]REF!B:C,2,0)","v":"Pastilles adhésives ovales ORANGE"},"Consommable",10,{"$f":"VLOOKUP([1]Frontal!$K99,[1]REF!B:D,3,0)","v":7.44},1,{"$f":"[1]Frontal!$P$3:$P$165*[1]Frontal!$O$3:$O$165","v":7.44},"2019-02-22","OK"]
[98,"2019-02-25",9,{"$f":"TEXT([1]Frontal!$B$3:$B$165,\"MMMM\")","v":"février"},{"$f":"TEXT([1]Frontal!$B$3:$B$165,\"AAAA\")","v":"2019"},"Saida. Benahmina",{"$f":"VLOOKUP([1]Frontal!$F100,[1]Liste!A:C,3,0)","v":9968},"Christian. Kaliszewski ","Bloqueur","Christian. Kaliszewski ",4939031056,{"$f":"VLOOKUP([1]Frontal!$K100,[1]REF!B:C,2,0)","v":"Pastilles adhésives ovales JAUNE"},"Consommable",10,{"$f":"VLOOKUP([1]Frontal!$K100,[1]REF!B:D,3,0)","v":8.09},5,{"$f":"[1]Frontal!$P$3:$P$165*[1]Frontal!$O$3:$O$165","v":40.450000000000003},"2019-02-25","OK"]
[99,"2019-02-25",9,{"$f":"TEXT([1]Frontal!$B$3:$B$165,\"MMMM\")","v":"février"},{"$f":"TEXT([1]Frontal!$B$3:$B$165,\"AAAA\")","v":"2019"},"Cédric. Longatte ",{"$f":"VLOOKUP([1]Frontal!$F101,[1]Liste!A:C,3,0)","v":9967},"Michael. Defontaine ","CAP","Michael. Defontaine ","R100619575",{"$f":"VLOOKUP([1]Frontal!$K101,[1]REF!B:C,2,0)","v":"Surlunettes "},"EPI",10,{"$f":"VLOOKUP([1]Frontal!$K101,[1]REF!B:D,3,0)","v":6.07},4,{"$f":"[1]Frontal!$P$3:$P$165*[1]Frontal!$O$3:$O$165","v":24.28},"2019-02-25","OK"]
[100,"2019-02-26",9,{"$f":"TEXT([1]Frontal!$B$3:$B$165,\"MMMM\")","v":"février"},{"$f":"TEXT([1]Frontal!$B$3:$B$165,\"AAAA\")","v":"2019"},"Saida. Benahmina",{"$f":"VLOOKUP([1]Frontal!$F102,[1]Liste!A:C,3,0)","v":9968},"Olivier. Foulon ","PLS","Firmin. Patrick","R100601460",{"$f":"VLOOKUP([1]Frontal!$K102,[1]REF!B:C,2,0)","v":"Chaussures H BASSES CUIR FLEUR NOIR HYDROFUGE Taille 44"},"EPI",10,{"$f":"VLOOKUP([1]Frontal!$K102,[1]REF!B:D,3,0)","v":20.8},1,{"$f":"[1]Frontal!$P$3:$P$165*[1]Frontal!$O$3:$O$165","v":20.8},"2019-02-26","OK"]
[101,"2019-02-26",9,{"$f":"TEXT([1]Frontal!$B$3:$B$165,\"MMMM\")","v":"février"},{"$f":"TEXT([1]Frontal!$B$3:$B$165,\"AAAA\")","v":"2019"},"Saida. Benahmina",{"$f":"VLOOKUP([1]Frontal!$F103,[1]Liste!A:C,3,0)","v":9968},"Olivier. Foulon ","PLS","Gilbert. Patrick","R100518630",{"$f":"VLOOKUP([1]Frontal!$K103,[1]REF!B:C,2,0)","v":"Chaussures H VILLE TYPE MOCASSIN CUIR PLEINE FLEUR Taille 44"},"EPI",10,{"$f":"VLOOKUP([1]Frontal!$K103,[1]REF!B:D,3,0)","v":33.020000000000003},1,{"$f":"[1]Frontal!$P$3:$P$165*[1]Frontal!$O$3:$O$165","v":33.020000000000003},"2019-02-26","OK"]
[102,"2019-02-26",9,{"$f":"TEXT([1]Frontal!$B$3:$B$165,\"MMMM\")","v":"février"},{"$f":"TEXT([1]Frontal!$B$3:$B$165,\"AAAA\")","v":"2019"},"Matthieu. Pimont",9964,"Pascal. Steu","G. Bruit","Pascal. Steu","P645136004",{"$f":"VLOOKUP([1]Frontal!$K104,[1]REF!B:C,2,0)","v":"Pince coupante"},"Outillage",10,{"$f":"VLOOKUP([1]Frontal!$K104,[1]REF!B:D,3,0)","v":10.47},1,{"$f":"[1]Frontal!$P$3:$P$165*[1]Frontal!$O$3:$O$165","v":10.47},"2019-02-26","OK"]
[103,"2019-02-26",9,{"$f":"TEXT([1]Frontal!$B$3:$B$165,\"MMMM\")","v":"février"},{"$f":"TEXT([1]Frontal!$B$3:$B$165,\"AAAA\")","v":"2019"},"Saida. Benahmina",{"$f":"VLOOKUP([1]Frontal!$F105,[1]Liste!A:C,3,0)","v":9968},"Cindy. Thorez ","CSC","Cindy. Thorez ","R100646629",{"$f":"VLOOKUP([1]Frontal!$K105,[1]REF!B:C,2,0)","v":"PAIRE GANTS T7 MASTIC laine blanc liseré Jaune"},"EPI",10,{"$f":"VLOOKUP([1]Frontal!$K105,[1]REF!B:D,3,0)","v":0.6},200,{"$f":"[1]Frontal!$P$3:$P$165*[1]Frontal!$O$3:$O$165","v":120},"2019-02-27","OK"]
[104,"2019-02-27",9,{"$f":"TEXT([1]Frontal!$B$3:$B$165,\"MMMM\")","v":"février"},{"$f":"TEXT([1]Frontal!$B$3:$B$165,\"AAAA\")","v":"2019"},"Matthieu. Pimont",9964,"Pascal. Steu","G. Bruit","D-HELFT.Peggy","R100028719",{"$f":"VLOOKUP([1]Frontal!$K106,[1]REF!B:C,2,0)","v":"Rouleau de ruban Adhesif"},"Consommable",10,{"$f":"VLOOKUP([1]Frontal!$K106,[1]REF!B:D,3,0)","v":25.05},2,{"$f":"[1]Frontal!$P$3:$P$165*[1]Frontal!$O$3:$O$165","v":50.1},"2019-02-27","OK"]
[105,"2019-02-27",9,{"$f":"TEXT([1]Frontal!$B$3:$B$165,\"MMMM\")","v":"février"},{"$f":"TEXT([1]Frontal!$B$3:$B$165,\"AAAA\")","v":"2019"},"Matthieu. Pimont",9964,"Pascal. Steu","G. Bruit","Pascal. Steu","X951506724",{"$f":"VLOOKUP([1]Frontal!$K107,[1]REF!B:C,2,0)","v":"Bouchon D'oreille"},"EPI",10,{"$f":"VLOOKUP([1]Frontal!$K107,[1]REF!B:D,3,0)","v":1.01},50,{"$f":"[1]Frontal!$P$3:$P$165*[1]Frontal!$O$3:$O$165","v":50.5},"2019-02-27","OK"]
[106,"2019-02-27",9,{"$f":"TEXT([1]Frontal!$B$3:$B$165,\"MMMM\")","v":"février"},{"$f":"TEXT([1]Frontal!$B$3:$B$165,\"AAAA\")","v":"2019"},"Aka.Amany. Patrice",{"$f":"VLOOKUP([1]Frontal!$F108,[1]Liste!A:C,3,0)","v":9962},"Abdelkadder Tayebi","EPF","Abdelkadder Tayebi","R100601454",{"$f":"VLOOKUP([1]Frontal!$K108,[1]REF!B:C,2,0)","v":"Chaussures H BASSES CUIR FLEUR NOIR HYDROFUGE Taille 42"},"EPI",10,{"$f":"VLOOKUP([1]Frontal!$K108,[1]REF!B:D,3,0)","v":20.8},1,{"$f":"[1]Frontal!$P$3:$P$165*[1]Frontal!$O$3:$O$165","v":20.8},"2019-02-27","OK"]
[107,"2019-02-27",9,{"$f":"TEXT([1]Frontal!$B$3:$B$165,\"MMMM\")","v":"février"},{"$f":"TEXT([1]Frontal!$B$3:$B$165,\"AAAA\")","v":"2019"},"Aka.Amany. Patrice",{"$f":"VLOOKUP([1]Frontal!$F109,[1]Liste!A:C,3,0)","v":9962},"Séverine. Leborgne ","EPF","Séverine. Leborgne ","R100646629",{"$f":"VLOOKUP([1]Frontal!$K109,[1]REF!B:C,2,0)","v":"PAIRE GANTS T7 MASTIC laine blanc liseré Jaune"},"EPI",10,{"$f":"VLOOKUP([1]Frontal!$K109,[1]REF!B:D,3,0)","v":0.6},200,{"$f":"[1]Frontal!$P$3:$P$165*[1]Frontal!$O$3:$O$165","v":120},"2019-02-27","OK"]
[108,"2019-02-27",9,{"$f":"TEXT([1]Frontal!$B$3:$B$165,\"MMMM\")","v":"février"},{"$f":"TEXT([1]Frontal!$B$3:$B$165,\"AAAA\")","v":"2019"},"Saida. Benahmina",{"$f":"VLOOKUP([1]Frontal!$F110,[1]Liste!A:C,3,0)","v":9968},"Fabrice. Richard ","CSC","Fabrice. Richard ","R100646632",{"$f":"VLOOKUP([1]Frontal!$K110,[1]REF!B:C,2,0)","v":"PAIRE GANTS T10 MASTIC"},"EPI",10,{"$f":"VLOOKUP([1]Frontal!$K110,[1]REF!B:D,3,0)","v":0.55000000000000004},200,{"$f":"[1]Frontal!$P$3:$P$165*[1]Frontal!$O$3:$O$165","v":110.00000000000001},"2019-02-27","OK"]
[109,"2019-03-05",10,{"$f":"TEXT([1]Frontal!$B$3:$B$165,\"MMMM\")","v":"mars"},{"$f":"TEXT([1]Frontal!$B$3:$B$165,\"AAAA\")","v":"2019"},"Aka.Amany. Patrice",{"$f":"VLOOKUP([1]Frontal!$F111,[1]Liste!A:C,3,0)","v":9962},"Aka.Amany. Patrice","EPF","Bilde.christian","R100201617",{"$f":"VLOOKUP([1]Frontal!$K111,[1]REF!B:C,2,0)","v":"Chaussures securite PT43 SAFRAN BASSE"},"EPI",10,{"$f":"VLOOKUP([1]Frontal!$K111,[1]REF!B:D,3,0)","v":27.2},1,{"$f":"[1]Frontal!$P$3:$P$165*[1]Frontal!$O$3:$O$165","v":27.2},"2019-03-05","OK"]
[110,"2019-03-05",10,{"$f":"TEXT([1]Frontal!$B$3:$B$165,\"MMMM\")","v":"mars"},{"$f":"TEXT([1]Frontal!$B$3:$B$165,\"AAAA\")","v":"2019"},"Vincent. Loquet",{"$f":"VLOOKUP([1]Frontal!$F112,[1]Liste!A:C,3,0)","v":9978},"Vincent. Loquet","QPN","Laurent. Peru","R100289692",{"$f":"VLOOKUP([1]Frontal!$K112,[1]REF!B:C,2,0)","v":"RUBAN ADHESIF DOUBLE FACE ROUGE"},"Consommable",10,{"$f":"VLOOKUP([1]Frontal!$K112,[1]REF!B:D,3,0)","v":13.4},2,{"$f":"[1]Frontal!$P$3:$P$165*[1]Frontal!$O$3:$O$165","v":26.8},"2019-03-05","OK"]
[111,"2019-03-05",10,{"$f":"TEXT([1]Frontal!$B$3:$B$165,\"MMMM\")","v":"mars"},{"$f":"TEXT([1]Frontal!$B$3:$B$165,\"AAAA\")","v":"2019"},"Vincent. Loquet",{"$f":"VLOOKUP([1]Frontal!$F113,[1]Liste!A:C,3,0)","v":9978},"Vincent. Loquet","QPN","Laurent. Peru","R100346597",{"$f":"VLOOKUP([1]Frontal!$K113,[1]REF!B:C,2,0)","v":"Dose lavande"},"Consommable",10,{"$f":"VLOOKUP([1]Frontal!$K113,[1]REF!B:D,3,0)","v":0.22},20,{"$f":"[1]Frontal!$P$3:$P$165*[1]Frontal!$O$3:$O$165","v":4.4000000000000004},"2019-03-05","OK"]
[112,"2019-03-05",10,{"$f":"TEXT([1]Frontal!$B$3:$B$165,\"MMMM\")","v":"mars"},{"$f":"TEXT([1]Frontal!$B$3:$B$165,\"AAAA\")","v":"2019"},"Saida. Benahmina",{"$f":"VLOOKUP([1]Frontal!$F114,[1]Liste!A:C,3,0)","v":9968},"Olivier. Foulon ","PLS","Jacques. Mery","R100503295",{"$f":"VLOOKUP([1]Frontal!$K114,[1]REF!B:C,2,0)","v":"Chaussures MONTANTE CUIR PLEINE FLEUR Taille 43"},"EPI",10,{"$f":"VLOOKUP([1]Frontal!$K114,[1]REF!B:D,3,0)","v":35.270000000000003},1,{"$f":"[1]Frontal!$P$3:$P$165*[1]Frontal!$O$3:$O$165","v":35.270000000000003},"2019-03-08","OK"]
[113,"2019-03-05",10,{"$f":"TEXT([1]Frontal!$B$3:$B$165,\"MMMM\")","v":"mars"},{"$f":"TEXT([1]Frontal!$B$3:$B$165,\"AAAA\")","v":"2019"},"Saida. Benahmina",{"$f":"VLOOKUP([1]Frontal!$F115,[1]Liste!A:C,3,0)","v":9968},"Francois. Hanne","AQM","Sabrine. Havez","R100613334",{"$f":"VLOOKUP([1]Frontal!$K115,[1]REF!B:C,2,0)","v":"Chaussures MI- HAUTES CUIR PLEINE FLEUR HYDROFUGE Taille37"},"EPI",10,{"$f":"VLOOKUP([1]Frontal!$K115,[1]REF!B:D,3,0)","v":30.32},1,1,null,"NOK"]
[114,"2019-03-05",10,{"$f":"TEXT([1]Frontal!$B$3:$B$165,\"MMMM\")","v":"mars"},{"$f":"TEXT([1]Frontal!$B$3:$B$165,\"AAAA\")","v":"2019"},"Saida. Benahmina",{"$f":"VLOOKUP([1]Frontal!$F116,[1]Liste!A:C,3,0)","v":9968},"Francois. Hanne","AQM","Eric. Francois","R100643527",{"$f":"VLOOKUP([1]Frontal!$K116,[1]REF!B:C,2,0)","v":"Chaussures CUIR PLEINE FLEUR Taille 43"},"EPI",10,{"$f":"VLOOKUP([1]Frontal!$K116,[1]REF!B:D,3,0)","v":49.31},1,{"$f":"[1]Frontal!$P$3:$P$165*[1]Frontal!$O$3:$O$165","v":49.31},null,"NOK"]
[115,"2019-03-06",10,{"$f":"TEXT([1]Frontal!$B$3:$B$165,\"MMMM\")","v":"mars"},{"$f":"TEXT([1]Frontal!$B$3:$B$165,\"AAAA\")","v":"2019"},"Saida. Benahmina",{"$f":"VLOOKUP([1]Frontal!$F117,[1]Liste!A:C,3,0)","v":9968},"Cindy. Thorez ","CSC","Cindy. Thorez","R100646629",{"$f":"VLOOKUP([1]Frontal!$K117,[1]REF!B:C,2,0)","v":"PAIRE GANTS T7 MASTIC laine blanc liseré Jaune"},"EPI",10,{"$f":"VLOOKUP([1]Frontal!$K117,[1]REF!B:D,3,0)","v":0.6},100,{"$f":"[1]Frontal!$P$3:$P$165*[1]Frontal!$O$3:$O$165","v":60},"2019-03-06","OK"]
[116,"2019-03-06",10,{"$f":"TEXT([1]Frontal!$B$3:$B$165,\"MMMM\")","v":"mars"},{"$f":"TEXT([1]Frontal!$B$3:$B$165,\"AAAA\")","v":"2019"},"Saida. Benahmina",{"$f":"VLOOKUP([1]Frontal!$F118,[1]Liste!A:C,3,0)","v":9968},"Cindy. Thorez ","CSC","Cindy. Thorez","R100646629",{"$f":"VLOOKUP([1]Frontal!$K118,[1]REF!B:C,2,0)","v":"PAIRE GANTS T7 MASTIC laine blanc liseré Jaune"},"EPI",10,{"$f":"VLOOKUP([1]Frontal!$K118,[1]REF!B:D,3,0)","v":0.6},200,{"$f":"[1]Frontal!$P$3:$P$165*[1]Frontal!$O$3:$O$165","v":120},null,"NOK"]
[117,"2019-03-06",10,{"$f":"TEXT([1]Frontal!$B$3:$B$165,\"MMMM\")","v":"mars"},{"$f":"TEXT([1]Frontal!$B$3:$B$165,\"AAAA\")","v":"2019"},"Aka.Amany. Patrice",{"$f":"VLOOKUP([1]Frontal!$F119,[1]Liste!A:C,3,0)","v":9962},"Abdelkadder Tayebi","EPF","Jean Luc Palwak","R100646630",{"$f":"VLOOKUP([1]Frontal!$K119,[1]REF!B:C,2,0)","v":"PAIRE GANTS T8  MASTIC ROUGE"},"EPI",10,{"$f":"VLOOKUP([1]Frontal!$K119,[1]REF!B:D,3,0)","v":0.6},200,{"$f":"[1]Frontal!$P$3:$P$165*[1]Frontal!$O$3:$O$165","v":120},null,"NOK"]
[118,"2019-03-06",10,{"$f":"TEXT([1]Frontal!$B$3:$B$165,\"MMMM\")","v":"mars"},{"$f":"TEXT([1]Frontal!$B$3:$B$165,\"AAAA\")","v":"2019"},"Aka.Amany. Patrice",{"$f":"VLOOKUP([1]Frontal!$F120,[1]Liste!A:C,3,0)","v":9962},"Séverine. Leborgne ","EPF","Séverine. Leborgne ","R100702879",{"$f":"VLOOKUP([1]Frontal!$K120,[1]REF!B:C,2,0)","v":"Testeur allume cigare pour automobile"},"Informatique",10,{"$f":"VLOOKUP([1]Frontal!$K120,[1]REF!B:D,3,0)","v":12.68},5,{"$f":"[1]Frontal!$P$3:$P$165*[1]Frontal!$O$3:$O$165","v":63.4},"2019-03-14","OK"]
[119,"2019-03-06",10,{"$f":"TEXT([1]Frontal!$B$3:$B$165,\"MMMM\")","v":"mars"},{"$f":"TEXT([1]Frontal!$B$3:$B$165,\"AAAA\")","v":"2019"},"Cedric. Longatte ",{"$f":"VLOOKUP([1]Frontal!$F121,[1]Liste!A:C,3,0)","v":{"$error":"#N/A"}},"Michael. Defontaine ","CAP","Dominique. Delville","R100518648",{"$f":"VLOOKUP([1]Frontal!$K121,[1]REF!B:C,2,0)","v":"ChaussuresTYPE BASKET H CUIR VELOURS Taille 43"},"EPI",10,{"$f":"VLOOKUP([1]Frontal!$K121,[1]REF!B:D,3,0)","v":34.6},1,{"$f":"[1]Frontal!$P$3:$P$165*[1]Frontal!$O$3:$O$165","v":34.6},"2019-03-11","OK"]
[120,"2019-03-07",10,{"$f":"TEXT([1]Frontal!$B$3:$B$165,\"MMMM\")","v":"mars"},{"$f":"TEXT([1]Frontal!$B$3:$B$165,\"AAAA\")","v":"2019"},"Vincent. Loquet",{"$f":"VLOOKUP([1]Frontal!$F122,[1]Liste!A:C,3,0)","v":9978},"Vincent. Loquet","QPN","Laurent. Peru","P955157073",{"$f":"VLOOKUP([1]Frontal!$K122,[1]REF!B:C,2,0)","v":" Gobelet "},"Consommable",10,{"$f":"VLOOKUP([1]Frontal!$K122,[1]REF!B:D,3,0)","v":1},2,{"$f":"[1]Frontal!$P$3:$P$165*[1]Frontal!$O$3:$O$165","v":2},"2019-03-07","OK"]
[121,"2019-03-07",10,{"$f":"TEXT([1]Frontal!$B$3:$B$165,\"MMMM\")","v":"mars"},{"$f":"TEXT([1]Frontal!$B$3:$B$165,\"AAAA\")","v":"2019"},"Vincent. Loquet",{"$f":"VLOOKUP([1]Frontal!$F123,[1]Liste!A:C,3,0)","v":9978},"Vincent. Loquet","QPN","Laurent. Peru","R100386177",{"$f":"VLOOKUP([1]Frontal!$K123,[1]REF!B:C,2,0)","v":"Chiffon micro fibre Jaune"},"Consommable",10,{"$f":"VLOOKUP([1]Frontal!$K123,[1]REF!B:D,3,0)","v":117.5},1,{"$f":"[1]Frontal!$P$3:$P$165*[1]Frontal!$O$3:$O$165","v":117.5},"2019-03-07","OK"]
[122,"2019-03-07",10,{"$f":"TEXT([1]Frontal!$B$3:$B$165,\"MMMM\")","v":"mars"},{"$f":"TEXT([1]Frontal!$B$3:$B$165,\"AAAA\")","v":"2019"},"Vincent. Loquet",{"$f":"VLOOKUP([1]Frontal!$F124,[1]Liste!A:C,3,0)","v":9978},"Vincent. Loquet","QPN","Laurent. Peru","P935852471",{"$f":"VLOOKUP([1]Frontal!$K124,[1]REF!B:C,2,0)","v":"Chiffon boite de 10KG"},"Consommable",10,{"$f":"VLOOKUP([1]Frontal!$K124,[1]REF!B:D,3,0)","v":6.6},1,{"$f":"[1]Frontal!$P$3:$P$165*[1]Frontal!$O$3:$O$165","v":6.6},"2019-03-07","OK"]
[123,"2019-03-07",10,{"$f":"TEXT([1]Frontal!$B$3:$B$165,\"MMMM\")","v":"mars"},{"$f":"TEXT([1]Frontal!$B$3:$B$165,\"AAAA\")","v":"2019"},"Vincent. Loquet",{"$f":"VLOOKUP([1]Frontal!$F125,[1]Liste!A:C,3,0)","v":9978},"Vincent. Loquet","QPN","Laurent. Peru","R100053693",{"$f":"VLOOKUP([1]Frontal!$K125,[1]REF!B:C,2,0)","v":"Masque peinture à filtre"},"EPI",10,{"$f":"VLOOKUP([1]Frontal!$K125,[1]REF!B:D,3,0)","v":8.67},3,{"$f":"[1]Frontal!$P$3:$P$165*[1]Frontal!$O$3:$O$165","v":26.009999999999998},"2019-03-07","OK"]
[124,"2019-03-07",10,{"$f":"TEXT([1]Frontal!$B$3:$B$165,\"MMMM\")","v":"mars"},{"$f":"TEXT([1]Frontal!$B$3:$B$165,\"AAAA\")","v":"2019"},"Vincent. Loquet",{"$f":"VLOOKUP([1]Frontal!$F126,[1]Liste!A:C,3,0)","v":9978},"Vincent. Loquet","QPN","Laurent. Peru","P935853177",{"$f":"VLOOKUP([1]Frontal!$K126,[1]REF!B:C,2,0)","v":"Eponge mixte jaune vert"},"Consommable",10,{"$f":"VLOOKUP([1]Frontal!$K126,[1]REF!B:D,3,0)","v":0.4},5,{"$f":"[1]Frontal!$P$3:$P$165*[1]Frontal!$O$3:$O$165","v":2},"2019-03-07","OK"]
[125,"2019-03-07",10,{"$f":"TEXT([1]Frontal!$B$3:$B$165,\"MMMM\")","v":"mars"},{"$f":"TEXT([1]Frontal!$B$3:$B$165,\"AAAA\")","v":"2019"},"Vincent. Loquet",{"$f":"VLOOKUP([1]Frontal!$F127,[1]Liste!A:C,3,0)","v":9978},"Vincent. Loquet","QPN","Laurent. Peru","R100450309",{"$f":"VLOOKUP([1]Frontal!$K127,[1]REF!B:C,2,0)","v":"Bombe noir presse"},"Consommable",10,{"$f":"VLOOKUP([1]Frontal!$K127,[1]REF!B:D,3,0)","v":4.8499999999999996},48,{"$f":"[1]Frontal!$P$3:$P$165*[1]Frontal!$O$3:$O$165","v":232.79999999999998},"2019-03-15","OK"]
[126,"2019-03-08",10,{"$f":"TEXT([1]Frontal!$B$3:$B$165,\"MMMM\")","v":"mars"},{"$f":"TEXT([1]Frontal!$B$3:$B$165,\"AAAA\")","v":"2019"},"Matthieu. Pimont",9964,"Pascal. Steu","G. Bruit","Pascal. Steu","P671166600",{"$f":"VLOOKUP([1]Frontal!$K128,[1]REF!B:C,2,0)","v":"Pince multiprise"},"Outillage",10,{"$f":"VLOOKUP([1]Frontal!$K128,[1]REF!B:D,3,0)","v":9.5399999999999991},1,{"$f":"[1]Frontal!$P$3:$P$165*[1]Frontal!$O$3:$O$165","v":9.5399999999999991},"2019-03-08","OK"]
[127,"2019-03-08",10,{"$f":"TEXT([1]Frontal!$B$3:$B$165,\"MMMM\")","v":"mars"},{"$f":"TEXT([1]Frontal!$B$3:$B$165,\"AAAA\")","v":"2019"},"Aka.Amany. Patrice",{"$f":"VLOOKUP([1]Frontal!$F129,[1]Liste!A:C,3,0)","v":9962},"Abdelkadder Tayebi","EPF","JL Palwak","R100646629",{"$f":"VLOOKUP([1]Frontal!$K129,[1]REF!B:C,2,0)","v":"PAIRE GANTS T7 MASTIC laine blanc liseré Jaune"},"EPI",10,{"$f":"VLOOKUP([1]Frontal!$K129,[1]REF!B:D,3,0)","v":0.6},200,{"$f":"[1]Frontal!$P$3:$P$165*[1]Frontal!$O$3:$O$165","v":120},"2019-03-08","OK"]
[128,"2019-03-08",10,{"$f":"TEXT([1]Frontal!$B$3:$B$165,\"MMMM\")","v":"mars"},{"$f":"TEXT([1]Frontal!$B$3:$B$165,\"AAAA\")","v":"2019"},"Saida. Benahmina",{"$f":"VLOOKUP([1]Frontal!$F130,[1]Liste!A:C,3,0)","v":9968},"Christian. Kaliszewski ","Bloqueur","Christian. Kaliszewski ","P958139203",{"$f":"VLOOKUP([1]Frontal!$K130,[1]REF!B:C,2,0)","v":"SAC POUBELLE 30 L"},"Consommable",10,{"$f":"VLOOKUP([1]Frontal!$K130,[1]REF!B:D,3,0)","v":18.75},3,{"$f":"[1]Frontal!$P$3:$P$165*[1]Frontal!$O$3:$O$165","v":56.25},"2019-03-08","OK"]
[129,"2019-03-08",{"$f":"WEEKNUM($B131,2)-(WEEKDAY(DATE(YEAR(B131),1,4),2)<4)*1","v":10},{"$f":"TEXT([1]Frontal!$B$3:$B$165,\"MMMM\")","v":"mars"},{"$f":"TEXT([1]Frontal!$B$3:$B$165,\"AAAA\")","v":"2019"},"Saida. Benahmina",{"$f":"VLOOKUP([1]Frontal!$F131,[1]Liste!A:C,3,0)","v":9968},"Christian. Kaliszewski ","Bloqueur","Christian. Kaliszewski ","R100095946",{"$f":"VLOOKUP([1]Frontal!$K131,[1]REF!B:C,2,0)","v":"SAC POLYETHYLENE 110L 6 TRANSLUCIDE 700 300 sacs"},"Consommable",{"$f":"LEN(K131)","v":10},{"$f":"VLOOKUP([1]Frontal!$K131,[1]REF!B:D,3,0)","v":0.16},300,{"$f":"[1]Frontal!$P$3:$P$165*[1]Frontal!$O$3:$O$165","v":48},"2019-03-15","OK"]
[130,"2019-03-08",10,{"$f":"TEXT([1]Frontal!$B$3:$B$165,\"MMMM\")","v":"mars"},{"$f":"TEXT([1]Frontal!$B$3:$B$165,\"AAAA\")","v":"2019"},"Saida. Benahmina",{"$f":"VLOOKUP([1]Frontal!$F132,[1]Liste!A:C,3,0)","v":9968},"Cindy. Thorez ","CSC","Cindy.thorez","R100095946",{"$f":"VLOOKUP([1]Frontal!$K132,[1]REF!B:C,2,0)","v":"SAC POLYETHYLENE 110L 6 TRANSLUCIDE 700 300 sacs"},"Consommable",10,{"$f":"VLOOKUP([1]Frontal!$K132,[1]REF!B:D,3,0)","v":0.16},300,{"$f":"[1]Frontal!$P$3:$P$165*[1]Frontal!$O$3:$O$165","v":48},"2019-03-15",{"$f":"IF(R132,\"OK\",\"NOK\")","v":"OK"}]
[131,"2019-03-08",10,{"$f":"TEXT([1]Frontal!$B$3:$B$165,\"MMMM\")","v":"mars"},{"$f":"TEXT([1]Frontal!$B$3:$B$165,\"AAAA\")","v":"2019"},"Cedric. Longatte ",9964,"Michael. Defontaine ","CAP","Samuel Rosier","R100518647",{"$f":"VLOOKUP([1]Frontal!$K133,[1]REF!B:C,2,0)","v":"Chaussures TYPE BASKET H CUIR VELOURS Taille 42"},"EPI",10,{"$f":"VLOOKUP([1]Frontal!$K133,[1]REF!B:D,3,0)","v":30.73},1,{"$f":"[1]Frontal!$P$3:$P$165*[1]Frontal!$O$3:$O$165","v":30.73},"2019-03-13","OK"]
[132,"2019-03-11",11,{"$f":"TEXT([1]Frontal!$B$3:$B$165,\"MMMM\")","v":"mars"},{"$f":"TEXT([1]Frontal!$B$3:$B$165,\"AAAA\")","v":"2019"},"Saida. Benahmina",{"$f":"VLOOKUP([1]Frontal!$F134,[1]Liste!A:C,3,0)","v":9968},"Christian. Kaliszewski ","SEBR","Christian. Kaliszewski ","R100646629",{"$f":"VLOOKUP([1]Frontal!$K134,[1]REF!B:C,2,0)","v":"PAIRE GANTS T7 MASTIC laine blanc liseré Jaune"},"EPI",10,{"$f":"VLOOKUP([1]Frontal!$K134,[1]REF!B:D,3,0)","v":0.6},100,{"$f":"[1]Frontal!$P$3:$P$165*[1]Frontal!$O$3:$O$165","v":60},"2019-03-11","OK"]
[133,"2019-03-11",11,{"$f":"TEXT([1]Frontal!$B$3:$B$165,\"MMMM\")","v":"mars"},{"$f":"TEXT([1]Frontal!$B$3:$B$165,\"AAAA\")","v":"2019"},"Saida. Benahmina",{"$f":"VLOOKUP([1]Frontal!$F135,[1]Liste!A:C,3,0)","v":9968},"Cindy. Thorez ","CSC","Cindy. Thorez ","R100709481",{"$f":"VLOOKUP([1]Frontal!$K135,[1]REF!B:C,2,0)","v":"Toner Kyocera TK-3160 pour P3045DN"},"Informatique",10,{"$f":"VLOOKUP([1]Frontal!$K135,[1]REF!B:D,3,0)","v":84.19},1,{"$f":"[1]Frontal!$P$3:$P$165*[1]Frontal!$O$3:$O$165","v":84.19},"2019-03-08","OK"]
[134,"2019-03-11",11,{"$f":"TEXT([1]Frontal!$B$3:$B$165,\"MMMM\")","v":"mars"},{"$f":"TEXT([1]Frontal!$B$3:$B$165,\"AAAA\")","v":"2019"},"Saida. Benahmina",{"$f":"VLOOKUP([1]Frontal!$F136,[1]Liste!A:C,3,0)","v":9968},"Cindy. Thorez ","CSC","Stock","R100709481",{"$f":"VLOOKUP([1]Frontal!$K136,[1]REF!B:C,2,0)","v":"Toner Kyocera TK-3160 pour P3045DN"},"Informatique",10,{"$f":"VLOOKUP([1]Frontal!$K136,[1]REF!B:D,3,0)","v":84.19},2,{"$f":"[1]Frontal!$P$3:$P$165*[1]Frontal!$O$3:$O$165","v":168.38},"2019-03-15","OK"]
[135,"2019-03-11",11,{"$f":"TEXT([1]Frontal!$B$3:$B$165,\"MMMM\")","v":"mars"},{"$f":"TEXT([1]Frontal!$B$3:$B$165,\"AAAA\")","v":"2019"},"Saida. Benahmina",{"$f":"VLOOKUP([1]Frontal!$F137,[1]Liste!A:C,3,0)","v":9968},"Fabrice. Richard ","CSC","Fabrice. Richard ",4939031057,{"$f":"VLOOKUP([1]Frontal!$K137,[1]REF!B:C,2,0)","v":"Pastilles adhésives ovales VERT"},"Consommable",10,{"$f":"VLOOKUP([1]Frontal!$K137,[1]REF!B:D,3,0)","v":7.61},10,{"$f":"[1]Frontal!$P$3:$P$165*[1]Frontal!$O$3:$O$165","v":76.100000000000009},"2019-03-14","OK"]
[136,"2019-03-12",11,{"$f":"TEXT([1]Frontal!$B$3:$B$165,\"MMMM\")","v":"mars"},{"$f":"TEXT([1]Frontal!$B$3:$B$165,\"AAAA\")","v":"2019"},"Aka.Amany. Patrice",{"$f":"VLOOKUP([1]Frontal!$F138,[1]Liste!A:C,3,0)","v":9962},"Séverine. Leborgne ","EPF","Jean-Luc Pawlak","P935852108",{"$f":"VLOOKUP([1]Frontal!$K138,[1]REF!B:C,2,0)","v":"Chiffonnettes NON TISSE BLEU CELLULOSE POLYESTER 72GRS Lot de 500"},"DO",10,{"$f":"VLOOKUP([1]Frontal!$K138,[1]REF!B:D,3,0)","v":65},1,{"$f":"[1]Frontal!$P$3:$P$165*[1]Frontal!$O$3:$O$165","v":65},"2019-03-14","OK"]
[137,"2019-03-12",11,{"$f":"TEXT([1]Frontal!$B$3:$B$165,\"MMMM\")","v":"mars"},{"$f":"TEXT([1]Frontal!$B$3:$B$165,\"AAAA\")","v":"2019"},"Saida. Benahmina",{"$f":"VLOOKUP([1]Frontal!$F139,[1]Liste!A:C,3,0)","v":9968},"Cindy. Thorez ","CSC","Cindy. Thorez ","R100691939",{"$f":"VLOOKUP([1]Frontal!$K139,[1]REF!B:C,2,0)","v":"Clé USB avec témoin lumineux pour test "},"Informatique",10,{"$f":"VLOOKUP([1]Frontal!$K139,[1]REF!B:D,3,0)","v":17.75},5,{"$f":"[1]Frontal!$P$3:$P$165*[1]Frontal!$O$3:$O$165","v":88.75},null,"NOK"]
[138,"2019-03-12",11,{"$f":"TEXT([1]Frontal!$B$3:$B$165,\"MMMM\")","v":"mars"},{"$f":"TEXT([1]Frontal!$B$3:$B$165,\"AAAA\")","v":"2019"},"Dpt Qualité",{"$f":"VLOOKUP([1]Frontal!$F140,[1]Liste!A:C,3,0)","v":9961},"JP. Masson","Dpt Qualité","Stock","R000111100",{"$f":"VLOOKUP([1]Frontal!$K140,[1]REF!B:C,2,0)","v":"Piles LR06 "},"Pile",10,{"$f":"VLOOKUP([1]Frontal!$K140,[1]REF!B:D,3,0)","v":0.155},70,{"$f":"[1]Frontal!$P$3:$P$165*[1]Frontal!$O$3:$O$165","v":10.85},"2019-03-14","OK"]
[139,"2019-03-13",11,{"$f":"TEXT([1]Frontal!$B$3:$B$165,\"MMMM\")","v":"mars"},{"$f":"TEXT([1]Frontal!$B$3:$B$165,\"AAAA\")","v":"2019"},"Dpt Qualité",{"$f":"VLOOKUP([1]Frontal!$F141,[1]Liste!A:C,3,0)","v":9961},"Valerie. Masson","Dpt Qualité","Valerie. Masson","P955157073",{"$f":"VLOOKUP([1]Frontal!$K141,[1]REF!B:C,2,0)","v":" Gobelet "},"Consommable",10,{"$f":"VLOOKUP([1]Frontal!$K141,[1]REF!B:D,3,0)","v":1},2,{"$f":"[1]Frontal!$P$3:$P$165*[1]Frontal!$O$3:$O$165","v":2},"2019-03-13","OK"]
[140,"2019-03-13",11,{"$f":"TEXT([1]Frontal!$B$3:$B$165,\"MMMM\")","v":"mars"},{"$f":"TEXT([1]Frontal!$B$3:$B$165,\"AAAA\")","v":"2019"},"Saida. Benahmina",{"$f":"VLOOKUP([1]Frontal!$F142,[1]Liste!A:C,3,0)","v":9968},"Cathy.Dhainaut","SEBR","Cathy.Dhainaut",4939031056,{"$f":"VLOOKUP([1]Frontal!$K142,[1]REF!B:C,2,0)","v":"Pastilles adhésives ovales JAUNE"},"Consommable",10,{"$f":"VLOOKUP([1]Frontal!$K142,[1]REF!B:D,3,0)","v":8.09},1,{"$f":"[1]Frontal!$P$3:$P$165*[1]Frontal!$O$3:$O$165","v":8.09},"2019-03-13","OK"]
[141,"2019-03-13",11,{"$f":"TEXT([1]Frontal!$B$3:$B$165,\"MMMM\")","v":"mars"},{"$f":"TEXT([1]Frontal!$B$3:$B$165,\"AAAA\")","v":"2019"},"Saida. Benahmina",{"$f":"VLOOKUP([1]Frontal!$F143,[1]Liste!A:C,3,0)","v":9968},"Cathy.Dhainaut","SEBR","Cathy.Dhainaut",4939031057,{"$f":"VLOOKUP([1]Frontal!$K143,[1]REF!B:C,2,0)","v":"Pastilles adhésives ovales VERT"},"Consommable",10,{"$f":"VLOOKUP([1]Frontal!$K143,[1]REF!B:D,3,0)","v":7.61},1,{"$f":"[1]Frontal!$P$3:$P$165*[1]Frontal!$O$3:$O$165","v":7.61},"2019-03-15","OK"]
[142,"2019-03-13",11,{"$f":"TEXT([1]Frontal!$B$3:$B$165,\"MMMM\")","v":"mars"},{"$f":"TEXT([1]Frontal!$B$3:$B$165,\"AAAA\")","v":"2019"},"Saida. Benahmina",{"$f":"VLOOKUP([1]Frontal!$F144,[1]Liste!A:C,3,0)","v":9968},"Cathy.Dhainaut","SEBR","Cathy.Dhainaut",4939031056,{"$f":"VLOOKUP([1]Frontal!$K144,[1]REF!B:C,2,0)","v":"Pastilles adhésives ovales JAUNE"},"Consommable",10,{"$f":"VLOOKUP([1]Frontal!$K144,[1]REF!B:D,3,0)","v":8.09},5,{"$f":"[1]Frontal!$P$3:$P$165*[1]Frontal!$O$3:$O$165","v":40.450000000000003},"2019-03-15","OK"]
[143,"2019-03-13",11,{"$f":"TEXT([1]Frontal!$B$3:$B$165,\"MMMM\")","v":"mars"},{"$f":"TEXT([1]Frontal!$B$3:$B$165,\"AAAA\")","v":"2019"},"Saida. Benahmina",{"$f":"VLOOKUP([1]Frontal!$F145,[1]Liste!A:C,3,0)","v":9968},"Cathy.Dhainaut","SEBR","Cathy.Dhainaut",4939031057,{"$f":"VLOOKUP([1]Frontal!$K145,[1]REF!B:C,2,0)","v":"Pastilles adhésives ovales VERT"},"Consommable",10,{"$f":"VLOOKUP([1]Frontal!$K145,[1]REF!B:D,3,0)","v":7.61},10,{"$f":"[1]Frontal!$P$3:$P$165*[1]Frontal!$O$3:$O$165","v":76.100000000000009},"2019-03-14","OK"]
[144,"2019-03-13",11,{"$f":"TEXT([1]Frontal!$B$3:$B$165,\"MMMM\")","v":"mars"},{"$f":"TEXT([1]Frontal!$B$3:$B$165,\"AAAA\")","v":"2019"},"Cédric. Longatte ",{"$f":"VLOOKUP([1]Frontal!$F146,[1]Liste!A:C,3,0)","v":9967},"Michael. Defontaine ","CAP","Michael. Defontaine ","P675113201",{"$f":"VLOOKUP([1]Frontal!$K146,[1]REF!B:C,2,0)","v":"CLE POLYGONALE DOUBLE A CLIQUET DE 10 X11 LG.TOT:130 "},"Outillage",10,{"$f":"VLOOKUP([1]Frontal!$K146,[1]REF!B:D,3,0)","v":6.11},2,{"$f":"[1]Frontal!$P$3:$P$165*[1]Frontal!$O$3:$O$165","v":12.22},"2019-03-15","OK"]
[145,"2019-03-13",11,{"$f":"TEXT([1]Frontal!$B$3:$B$165,\"MMMM\")","v":"mars"},{"$f":"TEXT([1]Frontal!$B$3:$B$165,\"AAAA\")","v":"2019"},"Cédric. Longatte ",{"$f":"VLOOKUP([1]Frontal!$F147,[1]Liste!A:C,3,0)","v":9967},"Michael. Defontaine ","CAP","Michael. Defontaine ","P675113701",{"$f":"VLOOKUP([1]Frontal!$K147,[1]REF!B:C,2,0)","v":"CLE POLYGONALE DOUBLE A CLIQUET DE 12 X13 "},"Outillage",10,{"$f":"VLOOKUP([1]Frontal!$K147,[1]REF!B:D,3,0)","v":12},2,{"$f":"[1]Frontal!$P$3:$P$165*[1]Frontal!$O$3:$O$165","v":24},"2019-03-15","OK"]
[146,"2019-03-13",11,{"$f":"TEXT([1]Frontal!$B$3:$B$165,\"MMMM\")","v":"mars"},{"$f":"TEXT([1]Frontal!$B$3:$B$165,\"AAAA\")","v":"2019"},"Aka.Amany. Patrice",{"$f":"VLOOKUP([1]Frontal!$F148,[1]Liste!A:C,3,0)","v":9962},"Séverine. Leborgne ","EPF","Séverine. Leborgne ","R100646629",{"$f":"VLOOKUP([1]Frontal!$K148,[1]REF!B:C,2,0)","v":"PAIRE GANTS T7 MASTIC laine blanc liseré Jaune"},"EPI",10,{"$f":"VLOOKUP([1]Frontal!$K148,[1]REF!B:D,3,0)","v":0.6},200,{"$f":"[1]Frontal!$P$3:$P$165*[1]Frontal!$O$3:$O$165","v":120},"2019-03-15","OK"]
[147,"2019-03-13",11,{"$f":"TEXT([1]Frontal!$B$3:$B$165,\"MMMM\")","v":"mars"},{"$f":"TEXT([1]Frontal!$B$3:$B$165,\"AAAA\")","v":"2019"},"Aka.Amany. Patrice",{"$f":"VLOOKUP([1]Frontal!$F149,[1]Liste!A:C,3,0)","v":9962},"Séverine. Leborgne ","EPF","Séverine. Leborgne ","R100646631",{"$f":"VLOOKUP([1]Frontal!$K149,[1]REF!B:C,2,0)","v":"PAIRE GANTS T9 MASTIC laine blanc liseré VERT"},"EPI",10,{"$f":"VLOOKUP([1]Frontal!$K149,[1]REF!B:D,3,0)","v":0.6},300,{"$f":"[1]Frontal!$P$3:$P$165*[1]Frontal!$O$3:$O$165","v":180},"2019-03-15","OK"]
[148,"2019-03-13",11,{"$f":"TEXT([1]Frontal!$B$3:$B$165,\"MMMM\")","v":"mars"},{"$f":"TEXT([1]Frontal!$B$3:$B$165,\"AAAA\")","v":"2019"},"Aka.Amany. Patrice",{"$f":"VLOOKUP([1]Frontal!$F150,[1]Liste!A:C,3,0)","v":9962},"Séverine. Leborgne ","EPF","Séverine. Leborgne ","R100702879",{"$f":"VLOOKUP([1]Frontal!$K150,[1]REF!B:C,2,0)","v":"Testeur allume cigare pour automobile"},"Informatique",10,{"$f":"VLOOKUP([1]Frontal!$K150,[1]REF!B:D,3,0)","v":12.68},5,{"$f":"[1]Frontal!$P$3:$P$165*[1]Frontal!$O$3:$O$165","v":63.4},"2019-03-14","OK"]
[149,"2019-03-13",11,{"$f":"TEXT([1]Frontal!$B$3:$B$165,\"MMMM\")","v":"mars"},{"$f":"TEXT([1]Frontal!$B$3:$B$165,\"AAAA\")","v":"2019"},"Sandra. Folmer",{"$f":"VLOOKUP([1]Frontal!$F151,[1]Liste!A:C,3,0)","v":9964},"Daniel. Szekula ","Tracage","Daniel. Szekula ","R100742802",{"$f":"VLOOKUP([1]Frontal!$K151,[1]REF!B:C,2,0)","v":"Bombe aérosol 650 ml Dustergreen pour tracage"},"Consommable",10,{"$f":"VLOOKUP([1]Frontal!$K151,[1]REF!B:D,3,0)","v":16.14},4,{"$f":"[1]Frontal!$P$3:$P$165*[1]Frontal!$O$3:$O$165","v":64.56},null,"NOK"]
[150,"2019-03-13",11,{"$f":"TEXT([1]Frontal!$B$3:$B$165,\"MMMM\")","v":"mars"},{"$f":"TEXT([1]Frontal!$B$3:$B$165,\"AAAA\")","v":"2019"},"Aka.Amany. Patrice",{"$f":"VLOOKUP([1]Frontal!$F152,[1]Liste!A:C,3,0)","v":9962},"Abdelkadder Tayebi","EPF","Abdelkadder Tayebi","R100611739",{"$f":"VLOOKUP([1]Frontal!$K152,[1]REF!B:C,2,0)","v":"Lampe de poche GISS"},"Outillage",10,{"$f":"VLOOKUP([1]Frontal!$K152,[1]REF!B:D,3,0)","v":14.31},5,{"$f":"[1]Frontal!$P$3:$P$165*[1]Frontal!$O$3:$O$165","v":71.55},"2019-03-13","OK"]
[151,"2019-03-13",11,{"$f":"TEXT([1]Frontal!$B$3:$B$165,\"MMMM\")","v":"mars"},{"$f":"TEXT([1]Frontal!$B$3:$B$165,\"AAAA\")","v":"2019"},"Saida. Benahmina",{"$f":"VLOOKUP([1]Frontal!$F153,[1]Liste!A:C,3,0)","v":9968},"Christine. Tamburri ","AQM","Christine. Tamburri ",4939031060,{"$f":"VLOOKUP([1]Frontal!$K153,[1]REF!B:C,2,0)","v":"Pastilles adhésives ovales ORANGE"},"Consommable",10,{"$f":"VLOOKUP([1]Frontal!$K153,[1]REF!B:D,3,0)","v":7.44},10,{"$f":"[1]Frontal!$P$3:$P$165*[1]Frontal!$O$3:$O$165","v":74.400000000000006},"2019-03-15","OK"]
[152,"2019-03-13",11,{"$f":"TEXT([1]Frontal!$B$3:$B$165,\"MMMM\")","v":"mars"},{"$f":"TEXT([1]Frontal!$B$3:$B$165,\"AAAA\")","v":"2019"},"Guillaume. Jeffard",{"$f":"VLOOKUP([1]Frontal!$F154,[1]Liste!A:C,3,0)","v":9900},"Guillaume. Jeffard","GEO","Stephane Dumont","R100518608",{"$f":"VLOOKUP([1]Frontal!$K154,[1]REF!B:C,2,0)","v":"Chaussures H BASSES CUIR PLEINE FLEUR DE VACHETTE Taille 45"},"EPI",10,{"$f":"VLOOKUP([1]Frontal!$K154,[1]REF!B:D,3,0)","v":42.83},1,{"$f":"[1]Frontal!$P$3:$P$165*[1]Frontal!$O$3:$O$165","v":42.83},null,"NOK"]
[153,"2019-03-14",11,{"$f":"TEXT([1]Frontal!$B$3:$B$165,\"MMMM\")","v":"mars"},{"$f":"TEXT([1]Frontal!$B$3:$B$165,\"AAAA\")","v":"2019"},"Dpt Qualité",{"$f":"VLOOKUP([1]Frontal!$F155,[1]Liste!A:C,3,0)","v":9961},"Valerie. Masson","Dpt Qualité","Valerie. Masson","P976730900",{"$f":"VLOOKUP([1]Frontal!$K155,[1]REF!B:C,2,0)","v":"Agitateur ou cuillère "},"Consommable",10,{"$f":"VLOOKUP([1]Frontal!$K155,[1]REF!B:D,3,0)","v":10},1,{"$f":"[1]Frontal!$P$3:$P$165*[1]Frontal!$O$3:$O$165","v":10},"2019-03-14","OK"]
[154,"2019-03-14",11,{"$f":"TEXT([1]Frontal!$B$3:$B$165,\"MMMM\")","v":"mars"},{"$f":"TEXT([1]Frontal!$B$3:$B$165,\"AAAA\")","v":"2019"},"Dpt Qualité",{"$f":"VLOOKUP([1]Frontal!$F156,[1]Liste!A:C,3,0)","v":9961},"JP. Masson","Dpt Qualité","Stock","P976730900",{"$f":"VLOOKUP([1]Frontal!$K156,[1]REF!B:C,2,0)","v":"Agitateur ou cuillère "},"Consommable",10,{"$f":"VLOOKUP([1]Frontal!$K156,[1]REF!B:D,3,0)","v":10},2,{"$f":"[1]Frontal!$P$3:$P$165*[1]Frontal!$O$3:$O$165","v":20},null,"NOK"]
[155,"2019-03-14",11,{"$f":"TEXT([1]Frontal!$B$3:$B$165,\"MMMM\")","v":"mars"},{"$f":"TEXT([1]Frontal!$B$3:$B$165,\"AAAA\")","v":"2019"},"Saida. Benahmina",{"$f":"VLOOKUP([1]Frontal!$F157,[1]Liste!A:C,3,0)","v":9968},"Saida. Benahmina","CSC","Christine. Tamburri ","R100646629",{"$f":"VLOOKUP([1]Frontal!$K157,[1]REF!B:C,2,0)","v":"PAIRE GANTS T7 MASTIC laine blanc liseré Jaune"},"EPI",10,{"$f":"VLOOKUP([1]Frontal!$K157,[1]REF!B:D,3,0)","v":0.6},200,{"$f":"[1]Frontal!$P$3:$P$165*[1]Frontal!$O$3:$O$165","v":120},null,"NOK"]
[156,"2019-03-14",11,{"$f":"TEXT([1]Frontal!$B$3:$B$165,\"MMMM\")","v":"mars"},{"$f":"TEXT([1]Frontal!$B$3:$B$165,\"AAAA\")","v":"2019"},"Saida. Benahmina",{"$f":"VLOOKUP([1]Frontal!$F158,[1]Liste!A:C,3,0)","v":9968},"Saida. Benahmina","CSC","Christine. Tamburri ","R100646630",{"$f":"VLOOKUP([1]Frontal!$K158,[1]REF!B:C,2,0)","v":"PAIRE GANTS T8  MASTIC ROUGE"},"EPI",10,{"$f":"VLOOKUP([1]Frontal!$K158,[1]REF!B:D,3,0)","v":0.6},10,{"$f":"[1]Frontal!$P$3:$P$165*[1]Frontal!$O$3:$O$165","v":6},null,"NOK"]
[157,"2019-03-14",11,{"$f":"TEXT([1]Frontal!$B$3:$B$165,\"MMMM\")","v":"mars"},{"$f":"TEXT([1]Frontal!$B$3:$B$165,\"AAAA\")","v":"2019"},"Sandra. Folmer",{"$f":"VLOOKUP([1]Frontal!$F159,[1]Liste!A:C,3,0)","v":9964},"Sandra. Folmer","CA Analyse","Sandra. Folmer","R100583446",{"$f":"VLOOKUP([1]Frontal!$K159,[1]REF!B:C,2,0)","v":"Parka HV Jaune Taille XL"},"EPI",10,{"$f":"VLOOKUP([1]Frontal!$K159,[1]REF!B:D,3,0)","v":32.020000000000003},1,{"$f":"[1]Frontal!$P$3:$P$165*[1]Frontal!$O$3:$O$165","v":32.020000000000003},"2019-03-14","OK"]
[158,"2019-03-15",11,{"$f":"TEXT([1]Frontal!$B$3:$B$165,\"MMMM\")","v":"mars"},{"$f":"TEXT([1]Frontal!$B$3:$B$165,\"AAAA\")","v":"2019"},"Saida. Benahmina",{"$f":"VLOOKUP([1]Frontal!$F160,[1]Liste!A:C,3,0)","v":9968},"Saida. Benahmina","PLS","Régis. Dincq","R100625297",{"$f":"VLOOKUP([1]Frontal!$K160,[1]REF!B:C,2,0)","v":"Gilet réfléchissant  L"},"EPI",10,{"$f":"VLOOKUP([1]Frontal!$K160,[1]REF!B:D,3,0)","v":5.77},3,{"$f":"[1]Frontal!$P$3:$P$165*[1]Frontal!$O$3:$O$165","v":17.309999999999999},"2019-03-15","OK"]
[159,"2019-03-15",11,{"$f":"TEXT([1]Frontal!$B$3:$B$165,\"MMMM\")","v":"mars"},{"$f":"TEXT([1]Frontal!$B$3:$B$165,\"AAAA\")","v":"2019"},"Saida. Benahmina",{"$f":"VLOOKUP([1]Frontal!$F161,[1]Liste!A:C,3,0)","v":9968},"Saida. Benahmina","PLS","Régis. Dincq","R100625298",{"$f":"VLOOKUP([1]Frontal!$K161,[1]REF!B:C,2,0)","v":"Gilet réfléchissant  XL"},"EPI",10,{"$f":"VLOOKUP([1]Frontal!$K161,[1]REF!B:D,3,0)","v":5.77},2,{"$f":"[1]Frontal!$P$3:$P$165*[1]Frontal!$O$3:$O$165","v":11.54},"2019-03-15","OK"]
[160,"2019-03-15",11,{"$f":"TEXT([1]Frontal!$B$3:$B$165,\"MMMM\")","v":"mars"},{"$f":"TEXT([1]Frontal!$B$3:$B$165,\"AAAA\")","v":"2019"},"Saida. Benahmina",{"$f":"VLOOKUP([1]Frontal!$F162,[1]Liste!A:C,3,0)","v":9968},"Saida. Benahmina","PLS","Régis. Dincq","X957596004",{"$f":"VLOOKUP([1]Frontal!$K162,[1]REF!B:C,2,0)","v":"Semelle T45"},"EPI",10,{"$f":"VLOOKUP([1]Frontal!$K162,[1]REF!B:D,3,0)","v":0.64},1,{"$f":"[1]Frontal!$P$3:$P$165*[1]Frontal!$O$3:$O$165","v":0.64},"2019-03-15","OK"]
[161,"2019-03-15",11,{"$f":"TEXT([1]Frontal!$B$3:$B$165,\"MMMM\")","v":"mars"},{"$f":"TEXT([1]Frontal!$B$3:$B$165,\"AAAA\")","v":"2019"},"Sandra. Folmer",{"$f":"VLOOKUP([1]Frontal!$F163,[1]Liste!A:C,3,0)","v":9964},"Daniel. Szekula ","Tracage","Fabrice. Krenz","R100526533",{"$f":"VLOOKUP([1]Frontal!$K163,[1]REF!B:C,2,0)","v":"BIDON 20L DT 492 (D:1,04)  Nettoyage Bat Tracage"},"Ménager",10,{"$f":"VLOOKUP([1]Frontal!$K163,[1]REF!B:D,3,0)","v":42.4},1,{"$f":"[1]Frontal!$P$3:$P$165*[1]Frontal!$O$3:$O$165","v":42.4},null,"NOK"]
[162,"2019-03-15",11,{"$f":"TEXT([1]Frontal!$B$3:$B$165,\"MMMM\")","v":"mars"},{"$f":"TEXT([1]Frontal!$B$3:$B$165,\"AAAA\")","v":"2019"},"Dpt Qualité",{"$f":"VLOOKUP([1]Frontal!$F164,[1]Liste!A:C,3,0)","v":9961},"JP. Masson","Dpt Qualité","Abdelkrim  BERDEG ","R100583446",{"$f":"VLOOKUP([1]Frontal!$K164,[1]REF!B:C,2,0)","v":"Parka HV Jaune Taille XL"},"EPI",10,{"$f":"VLOOKUP([1]Frontal!$K164,[1]REF!B:D,3,0)","v":32.020000000000003},1,{"$f":"[1]Frontal!$P$3:$P$165*[1]Frontal!$O$3:$O$165","v":32.020000000000003},null,"NOK"]
[163,"2019-03-15",11,{"$f":"TEXT([1]Frontal!$B$3:$B$165,\"MMMM\")","v":"mars"},{"$f":"TEXT([1]Frontal!$B$3:$B$165,\"AAAA\")","v":"2019"},"Dpt Qualité",{"$f":"VLOOKUP([1]Frontal!$F165,[1]Liste!A:C,3,0)","v":9961},"JP. Masson","Dpt Qualité","Stock","P955157073",{"$f":"VLOOKUP([1]Frontal!$K165,[1]REF!B:C,2,0)","v":" Gobelet "},"Consommable",{"$f":"LEN(K165)","v":10},{"$f":"VLOOKUP([1]Frontal!$K165,[1]REF!B:D,3,0)","v":1},10,{"$f":"[1]Frontal!$P$3:$P$165*[1]Frontal!$O$3:$O$165","v":10},"2019-03-15",{"$f":"IF(R165,\"OK\",\"NOK\")","v":"OK"}]
[164,"19/03/2019",null,null,null,"Cédric. Longatte ","9968","Bloqueur"," Patrice. Aka.Amany","Bureautique"]
[165,"19/03/2019",null,null,null,"Anne Sophie. Pater ","9967","AQM"," Patrice. Aka.Amany","Consommable"]

{"sheet":"Liste","index":1,"n_rows":172,"n_cols":15,"rows_kept":172,"cut":false,"hidden":false,"merged":[]}
["Responsable",null,"CF",null,"Demandeur",null,"Atelier",null,"Reference",null,"Désignation",null,"Prix",null,"Catégorie "]
["Saida. Benahmina",null,9968,null," Patrice. Aka.Amany",null,"AQM",null,"P955157073",null," Gobelet ",null,1,null,"EPI"]
["Cédric. Longatte ",null,9967,null,"Abdelkadder Tayebi",null,"Bloqueur",null,"R100279065",null,"Aérosol Dégraissant 650ml",null,5.42,null,"Bureautique"]
["Anne Sophie. Pater ",null,9961,null,"Abdelkrim  BERDEG ",null,"CA Analyse",null,"R100329826",null,"Aérosol  AIRBUL 650ml",null,1.84,null,"Consommable"]
["Aka.Amany. Patrice",null,9962,null,"Cathy.Dhainaut",null,"CAP",null,"P976730900",null,"Agitateur ou cuillère ",null,10,null,"DO"]
["Dpt Qualité",null,9961,null,"Cédric. Longatte ",null,"CSC",null,"R100625728",null,"Telephone",null,90.57,null,"Electroménager"]
["Loic. L-B",null,9961,null,"Christian. Kaliszewski ",null,"Dpt Qualité",null,"R100625731",null,"Alimentation téléphone",null,8.31,null,"Habillement"]
["Vincent. Loquet",null,9978,null,"Christine. Tamburri ",null,"EPF",null,"R100503609",null,"Blouson Matelassé  Taille L 44/46-2",null,21.11,null,"Informatique"]
["Valerie. Masson",null,9961,null,"Christophe. Mikolaczak",null,"G. Bruit",null,"R100503608",null,"Blouson Matelassé  Taille M 40/42-1",null,18.5,null,"Ménager"]
["Sandra. Folmer",null,9964,null,"Cindy. Thorez",null,"GEO",null,"R100503610",null,"Blouson Matelassé  Taille XL 48/50-3",null,20.95,null,"Mobilier"]
["Guillaume. Jeffard",null,9900,null,"Daniel. Jouy",null,"Métrologie",null,"R100437384",null,"Blouson Matelassé Taille ",null,33.32,null,"Outillage"]
[null,null,null,null,"Daniel. Szekula",null,"PLS",null,"R100503611",null,"Blouson Matelassé Taille XXL 52/54-4",null,22.11,null,"Pile"]
[null,null,null,null,"D-HELFT.Peggy",null,"QPN",null,"R100503612",null,"Blouson Matelassé Taille XXXL 56/58-5",null,18.48,null,"Quincaillerie"]
[null,null,null,null,"Eric. Francois",null,"Reprographie",null,"R100503613",null,"Blouson Matelassé Taille XXXXL-T6",null,18.48]
[null,null,null,null,"Fabrice. Richard ",null,"SEBR",null,"X951506724",null,"Bouchon D'oreille",null,1.01]
[null,null,null,null,"Fanny. Drapier",null,"Traçage",null,"X951506719",null,"Bouchon D'oreille Arceaux",null,2.4]
[null,null,null,null,"Francois. Hanne",null,null,null,"X951506725",null,"Bouchon D'oreille Ficelle",null,1.01]
[null,null,null,null,"Jean-Luc Pawlak",null,null,null,"R100305424",null,"Carte SD",null,22.5]
[null,null,null,null,"Laurent. Peru",null,null,null,"R100582895",null,"casquette de sécurité ",null,16.82]
[null,null,null,null,"Michael. Defontaine ",null,null,null,"X955973021",null,"Ceinture de combinaison",null,2.46]
[null,null,null,null,"Nadine. Cauchy",null,null,null,"R100625730",null,"Chargeur téléphone",null,19.510000000000002]
[null,null,null,null,"Olivier. Foulon ",null,null,null,"R100201611",null,"Chaussures H TOILEES TYPE MOCASSIN Taille 39",null,27.2]
[null,null,null,null,"Pascal. Steu",null,null,null,"R100201614",null,"Chaussures H TOILEES TYPE MOCASSIN Taille 41",null,27.2]
[null,null,null,null,"Peggy. D-Helft",null,null,null,"R100201616",null,"Chaussures H TOILEES TYPE MOCASSIN Taille 42",null,27.2]
[null,null,null,null,"Régis. Dincq",null,null,null,"R100364314",null,"Chaussures F  TENNIS EN CROUPON VELOURS ROUGE Taille 36",null,33.4]
[null,null,null,null,"Sandra. Folmer",null,null,null,"R100364315",null,"Chaussures F  TENNIS EN CROUPON VELOURS ROUGE Taille 37",null,33.4]
[null,null,null,null,"Sebastien. Taisne",null,null,null,"R100364320",null,"Chaussures F  TENNIS EN CROUPON VELOURS ROUGE Taille 40",null,33.200000000000003]
[null,null,null,null,"Séverine. Leborgne ",null,null,null,"R100518514",null,"Chaussures F MONTANTES CUIR FLEUR NOIR Taille 35",null,44.74]
[null,null,null,null,"Stephane. Dumont",null,null,null,"R100518515",null,"Chaussures F MONTANTES CUIR FLEUR NOIR Taille 36",null,42.13]
[null,null,null,null,"Stock",null,null,null,"R100518517",null,"Chaussures F MONTANTES CUIR FLEUR NOIR Taille 38",null,42.13]
[null,null,null,null,"Valerie. Masson",null,null,null,"R100518520",null,"Chaussures F MONTANTES CUIR FLEUR NOIR Taille 41",null,42.13]
[null,null,null,null,"Vincent. Loquet",null,null,null,"R100518521",null,"Chaussures F MONTANTES CUIR FLEUR NOIR Taille 42",null,42.13]
[null,null,null,null,null,null,null,null,"R100518605",null,"Chaussures H BASSES CUIR PLEINE FLEUR DE VACHETTE Taille 42",null,41.49]
[null,null,null,null,null,null,null,null,"R100518606",null,"Chaussures H BASSES CUIR PLEINE FLEUR DE VACHETTE Taille 43",null,43.45]
[null,null,null,null,null,null,null,null,"R100518608",null,"Chaussures H BASSES CUIR PLEINE FLEUR DE VACHETTE Taille 45",null,42.83]
[null,null,null,null,null,null,null,null,"R100518607",null,"Chaussures H BASSES CUIR PLEINE FLEUR DE VACHETTE Taille 44",null,42.09]
[null,null,null,null,null,null,null,null,"R100518616",null,"Chaussures H VILLE AMAGNETIQUES CUIR PLEINE FLEUR Taille 40",null,35.51]
[null,null,null,null,null,null,null,null,"R100518618",null,"Chaussures H VILLE AMAGNETIQUES CUIR PLEINE FLEUR Taille 42",null,41.04]
[null,null,null,null,null,null,null,null,"R100518619",null,"Chaussures H VILLE AMAGNETIQUES CUIR PLEINE FLEUR Taille 43",null,36.270000000000003]
[null,null,null,null,null,null,null,null,"R100518620",null,"Chaussures H VILLE AMAGNETIQUES CUIR PLEINE FLEUR Taille 44",null,41.04]
[null,null,null,null,null,null,null,null,"R100518626",null,"Chaussures H VILLE TYPE MOCASSIN CUIR PLEINE FLEUR Taille 40",null,33.729999999999997]
[null,null,null,null,null,null,null,null,"R100518628",null,"Chaussures H VILLE TYPE MOCASSIN CUIR PLEINE FLEUR Taille 42",null,33.4]
[null,null,null,null,null,null,null,null,"R100518630",null,"Chaussures H VILLE TYPE MOCASSIN CUIR PLEINE FLEUR Taille 44",null,33.020000000000003]
[null,null,null,null,null,null,null,null,"R100518636",null,"Chaussures H MONTANTES VELOUR Taille 40",null,31.5]
[null,null,null,null,null,null,null,null,"R100518645",null,"Chaussures TYPE BASKET H CUIR VELOURS PERFORE Taille 40",null,26.59]
[null,null,null,null,null,null,null,null,"R100518646",null,"Chaussures TYPE BASKET H CUIR VELOURS PERFORE Taille 41",null,26.59]
[null,null,null,null,null,null,null,null,"R100549968",null,"Chaussures FEMME OPERATEUR ET VILLE CUIR NUBUCK Taille 36",null,40.89]
[null,null,null,null,null,null,null,null,"R100549970",null,"Chaussures FEMME OPERATEUR ET VILLE CUIR NUBUCK Taille 38",null,40.89]
[null,null,null,null,null,null,null,null,"R100549971",null,"Chaussures FEMME OPERATEUR ET VILLE CUIR NUBUCK Taille 39",null,41.18]
[null,null,null,null,null,null,null,null,"R100601454",null,"Chaussures H BASSES CUIR FLEUR NOIR HYDROFUGE Taille 42",null,20.8]
[null,null,null,null,null,null,null,null,"R100643531",null,"Chaussures H CUIR PLEINE FLEUR 200J BATA Taille 46",null,49.31]
[null,null,null,null,null,null,null,null,"R100708847",null,"Chaussures H E-Sport basses noir et rouge Taille 40",null,51.27]
[null,null,null,null,null,null,null,null,"R100708858",null,"Chaussures H E-Sport basses noir et rouge Taille 42",null,51.27]
[null,null,null,null,null,null,null,null,"R100708859",null,"Chaussures H E-Sport basses noir et rouge Taille 43",null,51.73]
[null,null,null,null,null,null,null,null,"R100708860",null,"Chaussures H E-Sport basses noir et rouge Taille 44",null,51.27]
[null,null,null,null,null,null,null,null,"R100708861",null,"Chaussures H E-Sport basses noir et rouge Taille 45",null,51.27]
[null,null,null,null,null,null,null,null,"R100518639",null,"Chaussures H MONTANTES VELOUR Taille 43",null,27.22]
[null,null,null,null,null,null,null,null,"R100518516",null," Chaussures F MONTANTES CUIR FLEUR NOIR Taille 37",null,42.13]
[null,null,null,null,null,null,null,null,"R100601448",null,"Chaussures H BASSES CUIR FLEUR NOIR HYDROFUGE Taille 38",null,20.8]
[null,null,null,null,null,null,null,null,"R100518518",null,"Chaussures F MONTANTES CUIR FLEUR NOIR Taille 39",null,42.13]
[null,null,null,null,null,null,null,null,"R100518519",null,"Chaussures F MONTANTES CUIR FLEUR NOIR Taille 40",null,42.13]
[null,null,null,null,null,null,null,null,"R100518520",null,"Chaussures F MONTANTES CUIR FLEUR NOIR Taille 41",null,42.13]
[null,null,null,null,null,null,null,null,"R100518648",null,"ChaussuresTYPE BASKET H CUIR VELOURS Taille 43",null,34.6]
[null,null,null,null,null,null,null,null,"R100601459",null,"Chaussures H BASSES CUIR FLEUR NOIR HYDROFUGE Taille 43",null,20.8]
[null,null,null,null,null,null,null,null,"R100201619",null,"Chaussures H TOILEES TYPE MOCASSIN Taille 44",null,27.2]
[null,null,null,null,null,null,null,null,"R100518649",null,"Chaussures TYPE BASKET H CUIR VELOURS Taille 44",null,30.73]
[null,null,null,null,null,null,null,null,"R100601460",null,"Chaussures H BASSES CUIR FLEUR NOIR HYDROFUGE Taille 44",null,20.8]
[null,null,null,null,null,null,null,null,"R100601464",null,"Chaussures H BASSES CUIR FLEUR NOIR HYDROFUGE Taille 45",null,20.8]
[null,null,null,null,null,null,null,null,"R100527919",null,"Chaussures FEMME OPERATEUR ET VILLE CUIR PLEINE FLEUR Taille 40",null,38.44]
[null,null,null,null,null,null,null,null,"R100527920",null,"Chaussures FEMME OPERATEUR ET VILLE CUIR PLEINE FLEUR Taille 41",null,33.76]
[null,null,null,null,null,null,null,null,"R100527921",null,"Chaussures FEMME OPERATEUR ET VILLE CUIR PLEINE FLEUR Taille 42",null,42.28]
[null,null,null,null,null,null,null,null,"R100330333",null,"CLAVIER AZERTY HP NOIR/SILVER- USB ",null,12.18]
[null,null,null,null,null,null,null,null,"R100691393",null,"Clés USB",null,17.5]
[null,null,null,null,null,null,null,null,"R100346597",null,"Dose lavande",null,0.22]
[null,null,null,null,null,null,null,null,"P887100000",null,"ENROULEUR EQUILIBREUR MECANIQUE DE 60 GRAM",null,3.05]
[null,null,null,null,null,null,null,null,"R100386808",null,"PAIRE GANTS T7 AMBIDEXTRE MAT. NYLON BLANC",null,2.37]
[null,null,null,null,null,null,null,null,"R100386809",null,"PAIRE GANTS T8 AMBIDEXTRE MAT. NYLON BLANC",null,2.37]
[null,null,null,null,null,null,null,null,"R100646632",null,"PAIRE GANTS T10 MASTIC",null,0.55000000000000004]
[null,null,null,null,null,null,null,null,"R100150295",null,"PAIRE GANTS T6 TRICOTE 3FILS COTON BLANC ",null,0.28000000000000003]
[null,null,null,null,null,null,null,null,"R100150296",null,"PAIRE GANTS T7 TRICOTE 5DGTS 3FILS COTON BLEU",null,0.27]
[null,null,null,null,null,null,null,null,"R100646629",null,"PAIRE GANTS T7 MASTIC laine blanc liseré Jaune",null,0.6]
[null,null,null,null,null,null,null,null,"R100646631",null,"PAIRE GANTS T9 MASTIC laine blanc liseré VERT",null,0.6]
[null,null,null,null,null,null,null,null,"R100625297",null,"Gilet réfléchissant  L",null,5.77]
[null,null,null,null,null,null,null,null,"R100625296",null,"Gilet réfléchissant  M",null,5.77]
[null,null,null,null,null,null,null,null,"R100625298",null,"Gilet réfléchissant  XL",null,5.77]
[null,null,null,null,null,null,null,null,"R100625299",null,"Gilet réfléchissant  XXL",null,5.77]
[null,null,null,null,null,null,null,null,"P955157073",null,"Gobelet",null,1]
[null,null,null,null,null,null,null,null,"E139000222",null,"Jeu de Cales 1 à 6 Mm",null,44.5]
[null,null,null,null,null,null,null,null,"R100302596",null,"Lacets à chaussures",null,0.98]
[null,null,null,null,null,null,null,null,"R100155495",null,"Lampe de poche ",null,21.7]
[null,null,null,null,null,null,null,null,"R100611739",null,"Lampe de poche GISS",null,14.31]
[null,null,null,null,null,null,null,null,"R100666592",null,"Lunette Sécurité",null,3]
[null,null,null,null,null,null,null,null,"P397715306",null,"Manche a Balai",null,0.64]
[null,null,null,null,null,null,null,null,"R100309410",null,"Marqueur  ",null,10]
[null,null,null,null,null,null,null,null,"R100474535",null,"Marqueur VERT",null,1.98]
[null,null,null,null,null,null,null,null,"P675113201",null,"CLE POLYGONALE DOUBLE A CLIQUET DE 10 X11 LG.TOT:130 ",null,6.11]
[null,null,null,null,null,null,null,null,"P675113701",null,"CLE POLYGONALE DOUBLE A CLIQUET DE 12 X13 ",null,12]
[null,null,null,null,null,null,null,null,"T510523310",null,"Papier A3",null,16.079999999999998]
[null,null,null,null,null,null,null,null,"R100503613",null,"Parka HV Jaune Taille",null,18.5]
[null,null,null,null,null,null,null,null,"R100583445",null,"Parka HV Jaune Taille L",null,33.69]
[null,null,null,null,null,null,null,null,"R100583444",null,"Parka HV Jaune Taille M",null,44.22]
[null,null,null,null,null,null,null,null,"R100583446",null,"Parka HV Jaune Taille XL",null,32.020000000000003]
[null,null,null,null,null,null,null,null,"R100583447",null,"Parka HV Jaune Taille XXL",null,32]
[null,null,null,null,null,null,null,null,"R100583448",null,"Parka HV Jaune Taille XXXL",null,32]
[null,null,null,null,null,null,null,null,"X771122001",null,"Piles Lithium 3,6V",null,3.4]
[null,null,null,null,null,null,null,null,"P931112000",null,"Pinceau plat",null,0.14000000000000001]
[null,null,null,null,null,null,null,null,"R100115468",null,"Pulvérisateur",null,7.21]
[null,null,null,null,null,null,null,null,"R100627035",null,"Radiateur",null,66.3]
[null,null,null,null,null,null,null,null,"R100498091",null,"Rallonge Multiprises ",null,15.3]
[null,null,null,null,null,null,null,null,"X686932001",null,"Réfrigérateur",null,236]
[null,null,null,null,null,null,null,null,"P761012000",null,"Réglet flexible",null,0.82]
[null,null,null,null,null,null,null,null,"R100702397",null,"Rouleau sopalin bleu",null,405]
[null,null,null,null,null,null,null,null,"T533011200",null,"Ruban Adhésif",null,0.59]
[null,null,null,null,null,null,null,null,"P958139203",null,"SAC POUBELLE 30 L",null,18.75]
[null,null,null,null,null,null,null,null,"X957592204",null,"Semelle T38",null,0.65]
[null,null,null,null,null,null,null,null,"X957592604",null,"Semelle T39",null,0.65]
[null,null,null,null,null,null,null,null,"X957593104",null,"Semelle T40",null,0.65]
[null,null,null,null,null,null,null,null,"X957593704",null,"Semelle T41",null,0.65]
[null,null,null,null,null,null,null,null,"X957594303",null,"Semelle T42",null,0.65]
[null,null,null,null,null,null,null,null,"X957595004",null,"Semelle T43",null,0.64]
[null,null,null,null,null,null,null,null,"X957596004",null,"Semelle T45",null,0.64]
[null,null,null,null,null,null,null,null,"X957596403",null,"Semelle T46",null,0.65]
[null,null,null,null,null,null,null,null,"R100159016",null,"Soufflette de Sécurité",null,12]
[null,null,null,null,null,null,null,null,"R100346330",null,"Souris HP",null,9.4]
[null,null,null,null,null,null,null,null,"X971166472",null,"Stylos fibre noir",null,73.5]
[null,null,null,null,null,null,null,null,"R100742478",null,"Table rectangulaire",null,{"$error":"#N/A"}]
[null,null,null,null,null,null,null,null,"R100625728",null,"Téléphone",null,90.57]
[null,null,null,null,null,null,null,null,"P672410074",null,"Tournevis 2,5X50",null,1.9]
[null,null,null,null,null,null,null,null,4939031056,null,"Pastilles adhésives ovales JAUNE",null,8.09]
[null,null,null,null,null,null,null,null,4939031060,null,"Pastilles adhésives ovales ORANGE",null,7.44]
[null,null,null,null,null,null,null,null,4939031057,null,"Pastilles adhésives ovales VERT",null,7.61]
[null,null,null,null,null,null,null,null,"R100677758",null,"Brassard vert marquage : Qualité",null,3.2]
[null,null,null,null,null,null,null,null,"R100709481",null,"Toner Kyocera TK-3160 pour P3045DN",null,84.19]
[null,null,null,null,null,null,null,null,"R000111100",null,"Piles LR06 ",null,0.155]
[null,null,null,null,null,null,null,null,"X771101008",null,"Piles LR03 ",null,0.124]
[null,null,null,null,null,null,null,null,"R100090222",null,"Essuyeurs.Kimwipes ",null,40.450000000000003]
[null,null,null,null,null,null,null,null,"R100646630",null,"PAIRE GANTS T8  MASTIC ROUGE",null,0.6]
[null,null,null,null,null,null,null,null,"R100341937",null,"PAIRE GANTS T10 POLYAMIDE MOUSSE DE NITRILE BLANC",null,1.06]
[null,null,null,null,null,null,null,null,"R100341934",null,"PAIRE GANTS T8 POLYAMIDE MOUSSE DE NITRILE BLEU",null,1.07]
[null,null,null,null,null,null,null,null,"R100289692",null,"RUBAN ADHESIF DOUBLE FACE ROUGE",null,13.4]
[null,null,null,null,null,null,null,null,"R100150296",null,"PAIRE GANTS T7 Lisere rouge",null,0.27]
[null,null,null,null,null,null,null,null,"R100023101",null,"PERCEUSE R.ANGLE VARIAT",null,166.47]
[null,null,null,null,null,null,null,null,"T533200450",null,"RUBAN ADHESIF PVC PLASTIFIE TRANSPARENT",null,1.22]
[null,null,null,null,null,null,null,null,"R100329823",null,"Bombe dégrippant lubrifiant",null,2.06]
[null,null,null,null,null,null,null,null,"T803900031",null,"Bombre Visunet néttoyant Ecran",null,4.71]
[null,null,null,null,null,null,null,null,"T843387023",null,"Bombe Révelateur  Blanc",null,6.01]
[null,null,null,null,null,null,null,null,"R100341930",null,"PAIRE GANTS NYLON ENDIUTS NITRILE LISERE BLEU",null,1.05]
[null,null,null,null,null,null,null,null,"R100364321",null,"Chaussures F  TENNIS EN CROUPON VELOURS ROUGE Taille 41",null,33.4]
[null,null,null,null,null,null,null,null,"R100518518",null,"Chaussures F  TENNIS EN CROUPON VELOURS ROUGE Taille 39",null,42.13]
[null,null,null,null,null,null,null,null,"P645136004",null,"Pince coupante",null,10.47]
[null,null,null,null,null,null,null,null,"P671166600",null,"Pince multiprise",null,9.5399999999999991]
[null,null,null,null,null,null,null,null,"R100619575",null,"Surlunettes ",null,6.07]
[null,null,null,null,null,null,null,null,"R100028719",null,"Rouleau de ruban Adhesif",null,25.05]
[null,null,null,null,null,null,null,null,"R100258635",null,"Rouleau Absorbant Gris",null,68.86]
[null,null,null,null,null,null,null,null,"R100201617",null,"Chaussures securite PT43 SAFRAN BASSE",null,27.2]
[null,null,null,null,null,null,null,null,"R100503295",null,"Chaussures MONTANTE CUIR PLEINE FLEUR Taille 43",null,35.270000000000003]
[null,null,null,null,null,null,null,null,"R100643527",null,"Chaussures CUIR PLEINE FLEUR Taille 43",null,49.31]
[null,null,null,null,null,null,null,null,"R100613334",null,"Chaussures MI- HAUTES CUIR PLEINE FLEUR HYDROFUGE Taille37",null,30.32]
[null,null,null,null,null,null,null,null,"R100702879",null,"Testeur allume cigare pour automobile",null,12.68]
[null,null,null,null,null,null,null,null,"R100386177",null,"Chiffon micro fibre Jaune",null,117.5]
[null,null,null,null,null,null,null,null,"P935852471",null,"Chiffon boite de 10KG",null,6.6]
[null,null,null,null,null,null,null,null,"R100053693",null,"Masque peinture à filtre",null,8.67]
[null,null,null,null,null,null,null,null,"P935853177",null,"Eponge mixte jaune vert",null,0.4]
[null,null,null,null,null,null,null,null,"R100450309",null,"Bombe noir presse",null,4.8499999999999996]
[null,null,null,null,null,null,null,null,"R100212363",null,"CADENAS LAITON MASSIF 40MM H:63MM EP:14",null,3.73]
[null,null,null,null,null,null,null,null,"R100095946",null,"SAC POLYETHYLENE 110L 6 TRANSLUCIDE 700 300 sacs",null,0.16]
[null,null,null,null,null,null,null,null,"R100518647",null,"Chaussures TYPE BASKET H CUIR VELOURS Taille 42",null,30.73]
[null,null,null,null,null,null,null,null,"P935852108",null,"Chiffonnettes NON TISSE BLEU CELLULOSE POLYESTER 72GRS Lot de 500",null,65]
[null,null,null,null,null,null,null,null,"R100691939",null,"Clé USB avec témoin lumineux pour test ",null,17.75]
[null,null,null,null,null,null,null,null,"R100742802",null,"Bombe aérosol 650 ml Dustergreen pour tracage",null,16.14]
[null,null,null,null,null,null,null,null,"R100655992",null,"Rouleau de film adhesif vinyle acrylique (marouflage) 9988",null,0.01]
[null,null,null,null,null,null,null,null,"R100526533",null,"BIDON 20L DT 492 (D:1,04)  Nettoyage Bat Tracage",null,42.4]