{"text_format":"1","workbook":"xlsx","n_sheets":34,"sheets":["Janvier - 2prem. semaines (2)","Calendrier annuel","Fériés de l'année en cours","Congés de l'employé","Fonctionnement","Envoyer la feuille de temps","Edit","EDIT journée maladie calcul","Janvier - 2prem. semaines","Janvier - 2dern. semaines","Fin Jan.-Février - 2prem. sem.","Février - 2e-3e semaine","Fin Fév.-Mars - 2prem. sem.","Mars - 3e-4e semaine","Fin Mars-Avril - prem. semaine","Avril - 2e-3e semaine","Fin Avril-Mai - prem. semaine","Mai - 2e-3e semaine","Fin Mai-Début juin semaine 1","Juin 2e-3e semaine","Juin 4e-5e semaine-Juillet déb.","Juillet-2prem. semaines","Juillet 3e-4e semaine","Fin Juillet-Août 2prem. sem.","Août 3e-4e semaine","Fin Août-Sept 2 prem. sem.","Septembre 3e-4e semaine","Fin Sept.-Oct.-première semaine","Octobre-2e-3e semaine","Fin Oct.-Nov.-première semaine","Novembre 2e-3e semaine","Nov. 4e-5e semaine-Début Déc.","Décembre 1e-2e semaine","Décembre 3e-4e semaine"],"not_rendered":{"charts":0,"images":2,"macros":1,"external_links":1,"defined_names":63,"comments":1,"pivot_tables":0},"unopened":[],"bounds":{"document_bytes":16777216,"sheet_cells":100000,"rows_first":2000,"rows_last":500,"rows_between":2000,"halvings":0,"cell_chars":16384,"cell_head_chars":4096},"cells_cut":0,"cells_raw":0,"read":"whole","date_system":"1904"}

{"sheet":"Janvier - 2prem. semaines (2)","index":0,"n_rows":42,"n_cols":34,"rows_kept":42,"cut":false,"hidden":false,"merged":[[1,1,6,8],[7,5,7,8],[7,29,7,31],[9,2,9,4],[40,7,40,8],[41,6,42,6],[41,7,42,8],[43,2,43,3],[8,0,8,1],[9,0,9,1],[41,1,42,1],[41,2,42,2],[41,3,42,3],[41,4,42,4],[41,5,42,5]]}
[null,{"$f":"MID(CELL(\"filename\",B1),FIND(\"]\",CELL(\"filename\",B1))+1,32)","v":"Janvier - 2prem. semaines (2)"}]
[null,"                    Feuille de temps"]
[]
[]
[]
[]
[]
[null,null,null,null,null,null,null,null,null,null,null,null,null,null,null,null,null,null,null,null,null,null,null,null,null,null,null,null,null,"Congés fériés, lundi suivant la date"]
["Employé: ",null,{"$f":"'Congés de l''employé'!B8","v":0},null,null,null,null,null,null,null,null,null,null,null,null,null,null,null,null,null,null,null,null,null,null,null,null,null,null,"Mois","Type de congé férié","Année en cours"]
["Période débutant le ",null,{"$f":"DATE(An_ref,1,-2)-WEEKDAY(DATE(An_ref,1,3))+7","v":"2018-12-31"},null,null,null,null,null,null,null,null,null,null,null,null,null,null,null,null,null,null,null,null,null,null,null,null,{"$f":"OR(C11=$AF$13,C11=$AF$14,C11=$AF$15,C11=$AF$17,C11=$AF$18,C11=$AF$20,C11=$AF$22,C11=$AF$24,C11=$AF$26,C11=$AF$28,C11=$AF$29,C11=$AF$30)","v":false},null,null,null,{"$f":"An_ref","v":2019},null,"alloué au férié"]
[null,null,null,null,null,null,null,null,null,null,null,null,null,null,null,null,null,null,null,null,null,null,null,null,null,null,null,null,null,"Janvier","Jour de l'an",{"$f":"DATE(Année,1,1)","v":"2019-01-01"},"Date fixe 1er janvier"]
[null,null,null,null,null,null,null,null,null,null,{"$f":"VLOOKUP($B17,$AF$12:$AH$30,3,FALSE)","v":1.4947183619464715E-188},null,null,null,null,null,null,null,null,null,null,null,null,null,null,null,null,null,"FÉRIÉ",null,"FÉRIÉ-JOUR OUVRABLE SUIVANT LE JOUR DE L'AN",{"$f":"AF11+2-WEEKDAY(AF11)+(WEEKDAY(AF11)>2)","v":"2019-01-01"},null,{"$f":"Edit!M27","v":7.4735918097323577E-190}]
["Absence","Jour","Heure\nDébut","Départ\nDiner","Retour\nDiner","Heure\nFin","Télétravail\nDépart","Télétravail\nFin","TOTAL\nJournalier",null,"Index de la ligne",null,null,null,null,null,null,null,null,null,null,null,null,null,null,null,null,null,null,null,"Bureau fermé congé donné-un jour après le jour de l'an",{"$f":"AF11+2-WEEKDAY(AF11)+(WEEKDAY(AF11)>2)+1","v":"2019-01-02"}]
[null,null,null,null,null,null,null,null,null,null,0,null,null,null,null,null,null,null,null,null,null,null,null,null,null,null,null,null,"FÉRIÉ","Mars","Bureau fermé congé donné-un jour ouvré avant Pâques",{"$f":"AF15-2","v":"2019-04-19"},"3e lundi de mai",{"$f":"Edit!M28","v":0.3289473684210526}]
["Horaire Semaine 1",null,null,null,null,null,null,null,null,null,null,null,null,null,null,null,null,null,null,null,null,null,null,null,null,null,null,null,null,null,"Pâques",{"$f":"DATE(Année,3,29.56+0.979*MOD(204-11*MOD(Année,19),30)-\nWEEKDAY(DATE(Année,3,28.56+0.979*MOD(204-11*MOD(Année,19),30))))","v":"2019-04-21"},"Date fixe 24 juin"]
[null,{"$f":"$C$10","v":"2018-12-31"},null,null,null,null,null,null,{"$f":"IF(ISNA(VLOOKUP($B16,$AF$12:$AH$30,3,FALSE)),IF($A16=\"CONGÉ\",'Congés de l''employé'!$E$16,IF($A16=\"Demi congé\",'Congés de l''employé'!$BU$16,IF($A16=\"MALADIE\",'Congés de l''employé'!$E$18,IF($A16=\"Demi maladie\",'Congés de l''employé'!$BU$18,MOD($F16-($C16-($D16-$E16))+($H16-$G16),1))))),VLOOKUP($B16,$AF$12:$AH$30,3,FALSE))","v":0},null,{"$f":"IF(COUNTIF(A16:A16,\"X\"),MAX($K$13:K13)+1,\"\")","v":""},null,null,null,null,null,null,null,null,null,null,null,null,null,null,null,null,null,null,"Avril","Lundi de pâques",{"$f":"AF15+1","v":"2019-04-22"},"Date fixe 1er juillet"]
[null,{"$f":"$C$10+1","v":"2019-01-01"},null,null,null,null,null,null,{"$f":"IF(ISNA(VLOOKUP($B17,$AF$12:$AH$30,3,FALSE)),IF($A17=\"CONGÉ\",'Congés de l''employé'!$E$16,IF($A17=\"Demi congé\",'Congés de l''employé'!$BU$16,IF($A17=\"MALADIE\",'Congés de l''employé'!$E$18,IF($A17=\"Demi maladie\",'Congés de l''employé'!$BU$18,MOD($F17-($C17-($D17-$E17))+($H17-$G17),1))))),VLOOKUP($B17,$AF$12:$AH$30,3,FALSE))","v":7.4735918097323577E-190},null,{"$f":"IF(COUNTIF(A17:A17,\"X\"),MAX($K$13:K14)+1,\"\")","v":""},null,null,null,null,null,null,null,null,null,null,null,null,null,null,null,null,null,"FÉRIÉ","Mai","Journée nationale des patriotes",{"$f":"DATE(Année,5,23)-WEEKDAY(DATE(Année,5,1),2)","v":"2019-05-20"},null,{"$f":"Edit!M30","v":0}]
[null,{"$f":"$C$10+2","v":"2019-01-02"},null,null,null,null,null,null,{"$f":"IF(ISNA(VLOOKUP($B18,$AF$12:$AH$30,3,FALSE)),IF($A18=\"CONGÉ\",'Congés de l''employé'!$E$16,IF($A18=\"Demi congé\",'Congés de l''employé'!$BU$16,IF($A18=\"MALADIE\",'Congés de l''employé'!$E$18,IF($A18=\"Demi maladie\",'Congés de l''employé'!$BU$18,MOD($F18-($C18-($D18-$E18))+($H18-$G18),1))))),VLOOKUP($B18,$AF$12:$AH$30,3,FALSE))","v":0},null,{"$f":"IF(COUNTIF(A18:A18,\"X\"),MAX($K$13:K15)+1,\"\")","v":""},null,null,null,null,null,null,null,null,null,null,null,null,null,null,null,null,null,"FÉRIÉ","Juin","Fête nationale du Québec",{"$f":"DATE(Année,6,24)","v":"2019-06-24"},null,{"$f":"Edit!M31","v":0}]
["CONGÉ",{"$f":"$C$10+3","v":"2019-01-03"},null,null,null,null,null,null,{"$f":"IF(ISNA(VLOOKUP($B19,$AF$12:$AH$30,3,FALSE)),IF($A19=\"CONGÉ\",'Congés de l''employé'!$E$16,IF($A19=\"Demi congé\",'Congés de l''employé'!$BU$16,IF($A19=\"MALADIE\",'Congés de l''employé'!$E$18,IF($A19=\"Demi maladie\",'Congés de l''employé'!$BU$18,MOD($F19-($C19-($D19-$E19))+($H19-$G19),1))))),VLOOKUP($B19,$AF$12:$AH$30,3,FALSE))","v":0.29166666666666669},null,{"$f":"IF(COUNTIF(A19:A19,\"X\"),MAX($K$13:K16)+1,\"\")","v":""},null,null,null,null,null,null,null,null,null,null,null,null,null,null,null,null,null,null,null,"FÉRIÉ-JOUR OUVRABLE SUIVANT LA FÊTE NATIONALE DU QUÉBEC",{"$f":"AF18+2-WEEKDAY(AF18)+(WEEKDAY(AF18)>2)*7","v":"2019-06-24"},"Date fixe 25 décembre"]
[null,{"$f":"$C$10+4","v":"2019-01-04"},null,null,null,null,null,null,{"$f":"IF(ISNA(VLOOKUP($B20,$AF$12:$AH$30,3,FALSE)),IF($A20=\"CONGÉ\",'Congés de l''employé'!$E$16,IF($A20=\"Demi congé\",'Congés de l''employé'!$BU$16,IF($A20=\"MALADIE\",'Congés de l''employé'!$E$18,IF($A20=\"Demi maladie\",'Congés de l''employé'!$BU$18,MOD($F20-($C20-($D20-$E20))+($H20-$G20),1))))),VLOOKUP($B20,$AF$12:$AH$30,3,FALSE))","v":0},null,{"$f":"IF(COUNTIF(A20:A20,\"X\"),MAX($K$13:K17)+1,\"\")","v":""},null,null,null,null,null,null,null,null,null,null,null,null,null,null,null,null,null,"FÉRIÉ","Juillet","Fête du Canada",{"$f":"DATE(Année,7,1)","v":"2019-07-01"},null,{"$f":"Edit!M32","v":1.1253746147756614E-210}]
[null,{"$f":"$C$10+5","v":"2019-01-05"},null,null,null,null,null,null,{"$f":"IF(ISNA(VLOOKUP($B21,$AF$12:$AH$30,3,FALSE)),IF($A21=\"CONGÉ\",'Congés de l''employé'!$E$16,IF($A21=\"Demi congé\",'Congés de l''employé'!$BU$16,IF($A21=\"MALADIE\",'Congés de l''employé'!$E$18,IF($A21=\"Demi maladie\",'Congés de l''employé'!$BU$18,MOD($F21-($C21-($D21-$E21))+($H21-$G21),1))))),VLOOKUP($B21,$AF$12:$AH$30,3,FALSE))","v":0},null,{"$f":"IF(COUNTIF(A21:A21,\"X\"),MAX($K$13:K18)+1,\"\")","v":""},null,null,null,null,null,null,null,null,null,null,null,null,null,null,null,null,null,null,null,"FÉRIÉ-JOUR OUVRABLE SUIVANT LA FÊTE DU CANADA",{"$f":"AF20+2-WEEKDAY(AF20)+(WEEKDAY(AF20)>2)*7","v":"2019-07-01"}]
[null,{"$f":"$C$10+6","v":"2019-01-06"},null,null,null,null,null,null,{"$f":"IF(ISNA(VLOOKUP($B22,$AF$12:$AH$30,3,FALSE)),IF($A22=\"CONGÉ\",'Congés de l''employé'!$E$16,IF($A22=\"Demi congé\",'Congés de l''employé'!$BU$16,IF($A22=\"MALADIE\",'Congés de l''employé'!$E$18,IF($A22=\"Demi maladie\",'Congés de l''employé'!$BU$18,MOD($F22-($C22-($D22-$E22))+($H22-$G22),1))))),VLOOKUP($B22,$AF$12:$AH$30,3,FALSE))","v":0},null,{"$f":"IF(COUNTIF(A22:A22,\"X\"),MAX($K$13:K19)+1,\"\")","v":""},null,null,null,null,null,null,null,null,null,null,null,null,null,null,null,null,null,"FÉRIÉ","Septembre","Fête du travail",{"$f":"IF(MOD(DATE(Année,9,1),7)<=2,2-MOD(DATE(Année,9,1),7),9-MOD(DATE(Année,9,1),7))+DATE(Année,9,1)","v":"2019-09-01"},null,{"$f":"Edit!M33","v":0}]
[null,null,null,null,null,null,null,null,{"$f":"SUM(I16:I22)+Tableau145678936402[[#This Row],[Heure\nDébut]]","v":0.29166666666666669},null,{"$f":"IF(COUNTIF(A23:A23,\"X\"),MAX($K$13:K20)+1,\"\")","v":""},null,null,null,null,null,null,null,null,null,null,null,null,null,null,null,null,null,null,null,"FÉRIÉ-JOUR OUVRABLE SUIVANT LA FÊTE DU TRAVAIL",{"$f":"AF22+2-WEEKDAY(AF22)+(WEEKDAY(AF22)>2)*7","v":"2019-09-02"}]
[null,null,null,null,null,null,null,null,null,null,{"$f":"IF(COUNTIF(A24:A24,\"X\"),MAX($K$13:K21)+1,\"\")","v":""},null,null,null,null,null,null,null,null,null,null,null,null,null,null,null,null,null,"FÉRIÉ","Octobre","Action de grâce",{"$f":"DATE(AF10,10,1)","v":"2019-10-01"},null,{"$f":"Edit!M34","v":0}]
[null,null,null,null,null,null,null,null,null,null,{"$f":"IF(COUNTIF(A25:A25,\"X\"),MAX($K$13:K22)+1,\"\")","v":""},null,null,null,null,null,null,null,null,null,null,null,null,null,null,null,null,null,null,null,"FÉRIÉ-JOUR OUVRABLE SUIVANT L'ACTION DE GRÂCE",{"$f":"AF24-DAY(AF24)-WEEKDAY(AF24-DAY(AF24),2)+15","v":"2019-10-14"}]
[null,null,null,null,null,null,null,null,{"$f":"IF(OR(I23=-(C15),C29=0),\"0\",(I23-C15))","v":"0"},null,{"$f":"IF(COUNTIF(A26:A26,\"X\"),MAX($K$13:K23)+1,\"\")","v":""},null,null,null,null,null,null,null,null,null,null,null,null,null,null,null,null,null,null,null,"Bureau fermé congé donné",{"$f":"DATE(Année,12,25)-1","v":"2019-12-24"},null,{"$f":"'[1]Congés de l''employé'!$E$14","v":0}]
[]
[null,null,null,null,null,null,null,null,null,null,{"$f":"IF(COUNTIF(A28:A28,\"X\"),MAX($K$13:K24)+1,\"\")","v":""},null,null,null,null,null,null,null,null,null,null,null,null,null,null,null,null,null,"FÉRIÉ","Décembre","Férié-Noël",{"$f":"DATE(Année,12,25)","v":"2019-12-25"},null,{"$f":"Edit!M35","v":0}]
[null,"Horaire Semaine 2",null,null,null,null,null,null,null,null,{"$f":"IF(COUNTIF(A29:A29,\"X\"),MAX($K$13:K25)+1,\"\")","v":""},null,null,null,null,null,null,null,null,null,null,null,null,null,null,null,null,null,null,"Décembre","Bureau fermé congé donné",{"$f":"DATE(Année,12,25)+1","v":"2019-12-26"}]
[null,{"$f":"C10+7","v":"2019-01-07"},0.33333333333333331,0.5,null,null,null,null,{"$f":"IF(ISNA(VLOOKUP($B30,$AF$12:$AH$30,3,FALSE)),IF($A30=\"CONGÉ\",'Congés de l''employé'!$E$16,IF($A30=\"Demi congé\",'Congés de l''employé'!$BU$16,IF($A30=\"MALADIE\",'Congés de l''employé'!$E$18,IF($A30=\"Demi maladie\",'Congés de l''employé'!$BU$18,MOD($F30-($C30-($D30-$E30))+($H30-$G30),1))))),VLOOKUP($B30,$AF$12:$AH$30,3,FALSE))","v":0.16666666666666669},null,{"$f":"IF(COUNTIF(A30:A30,\"X\"),MAX($K$13:K26)+1,\"\")","v":""},null,null,null,null,null,null,null,null,null,null,null,null,null,null,null,null,null,null,"Décembre","Bureau fermé congé donné",{"$f":"AF11+2-WEEKDAY(AF11)+(WEEKDAY(AF11)>2)-1","v":"2018-12-31"}]
[null,{"$f":"C10+8","v":"2019-01-08"},0.375,0.5,null,null,null,null,{"$f":"IF(ISNA(VLOOKUP($B31,$AF$12:$AH$30,3,FALSE)),IF($A31=\"CONGÉ\",'Congés de l''employé'!$E$16,IF($A31=\"Demi congé\",'Congés de l''employé'!$BU$16,IF($A31=\"MALADIE\",'Congés de l''employé'!$E$18,IF($A31=\"Demi maladie\",'Congés de l''employé'!$BU$18,MOD($F31-($C31-($D31-$E31))+($H31-$G31),1))))),VLOOKUP($B31,$AF$12:$AH$30,3,FALSE))","v":0.125},null,{"$f":"IF(COUNTIF(A31:A31,\"X\"),MAX($K$13:K28)+1,\"\")","v":""}]
[null,{"$f":"C10+9","v":"2019-01-09"},0.35416666666666669,0.41666666666666669,null,null,null,null,{"$f":"IF(ISNA(VLOOKUP($B32,$AF$12:$AH$30,3,FALSE)),IF($A32=\"CONGÉ\",'Congés de l''employé'!$E$16,IF($A32=\"Demi congé\",'Congés de l''employé'!$BU$16,IF($A32=\"MALADIE\",'Congés de l''employé'!$E$18,IF($A32=\"Demi maladie\",'Congés de l''employé'!$BU$18,MOD($F32-($C32-($D32-$E32))+($H32-$G32),1))))),VLOOKUP($B32,$AF$12:$AH$30,3,FALSE))","v":6.25E-2},null,{"$f":"IF(COUNTIF(A32:A32,\"X\"),MAX($K$13:K29)+1,\"\")","v":""}]
[null,{"$f":"C10+10","v":"2019-01-10"},null,null,null,null,null,null,{"$f":"IF(ISNA(VLOOKUP($B33,$AF$12:$AH$30,3,FALSE)),IF($A33=\"CONGÉ\",'Congés de l''employé'!$E$16,IF($A33=\"Demi congé\",'Congés de l''employé'!$BU$16,IF($A33=\"MALADIE\",'Congés de l''employé'!$E$18,IF($A33=\"Demi maladie\",'Congés de l''employé'!$BU$18,MOD($F33-($C33-($D33-$E33))+($H33-$G33),1))))),VLOOKUP($B33,$AF$12:$AH$30,3,FALSE))","v":0},null,{"$f":"IF(COUNTIF(A33:A33,\"X\"),MAX($K$13:K30)+1,\"\")","v":""}]
[null,{"$f":"C10+11","v":"2019-01-11"},null,null,null,null,null,null,{"$f":"IF(ISNA(VLOOKUP($B34,$AF$12:$AH$30,3,FALSE)),IF($A34=\"CONGÉ\",'Congés de l''employé'!$E$16,IF($A34=\"Demi congé\",'Congés de l''employé'!$BU$16,IF($A34=\"MALADIE\",'Congés de l''employé'!$E$18,IF($A34=\"Demi maladie\",'Congés de l''employé'!$BU$18,MOD($F34-($C34-($D34-$E34))+($H34-$G34),1))))),VLOOKUP($B34,$AF$12:$AH$30,3,FALSE))","v":0},null,{"$f":"IF(COUNTIF(A34:A34,\"X\"),MAX($K$13:K31)+1,\"\")","v":""}]
[null,{"$f":"C10+12","v":"2019-01-12"},null,null,null,null,null,null,{"$f":"IF(ISNA(VLOOKUP($B35,$AF$12:$AH$30,3,FALSE)),IF($A35=\"CONGÉ\",'Congés de l''employé'!$E$16,IF($A35=\"Demi congé\",'Congés de l''employé'!$BU$16,IF($A35=\"MALADIE\",'Congés de l''employé'!$E$18,IF($A35=\"Demi maladie\",'Congés de l''employé'!$BU$18,MOD($F35-($C35-($D35-$E35))+($H35-$G35),1))))),VLOOKUP($B35,$AF$12:$AH$30,3,FALSE))","v":0},null,{"$f":"IF(COUNTIF(A35:A35,\"X\"),MAX($K$13:K32)+1,\"\")","v":""}]
[null,{"$f":"C10+13","v":"2019-01-13"},null,null,null,null,null,null,{"$f":"IF(ISNA(VLOOKUP($B36,$AF$12:$AH$30,3,FALSE)),IF($A36=\"CONGÉ\",'Congés de l''employé'!$E$16,IF($A36=\"Demi congé\",'Congés de l''employé'!$BU$16,IF($A36=\"MALADIE\",'Congés de l''employé'!$E$18,IF($A36=\"Demi maladie\",'Congés de l''employé'!$BU$18,MOD($F36-($C36-($D36-$E36))+($H36-$G36),1))))),VLOOKUP($B36,$AF$12:$AH$30,3,FALSE))","v":0},null,{"$f":"IF(COUNTIF(A36:A36,\"X\"),MAX($K$13:K33)+1,\"\")","v":""}]
[null,null,null,null,null,null,null,null,{"$f":"SUM(I30:I36)+C37","v":0.35416666666666669}]
[]
[null,null,null,null,null,null,null,null,{"$f":"IF(OR(I37=-(C29),C29=0),\"0\",(I37-C29))","v":"0"}]
[]
[null,"Heure travaillées","Heures prévues","ENTREZ le nombre d'heures à payer","Heures en banque\nde l'an passé","Heures\n supplémentaires ou en moins","Heures à \ntransposer dans la Banque","Total de la Banque d'heures"]
[null,{"$f":"$I$23+$I$37","v":0.64583333333333337},{"$f":"'Congés de l''employé'!BU8*2","v":2.9166666666666665},{"$f":"B42","v":0.64583333333333337},0,{"$f":"IF($I$26>0,$I$26)+IF($I$38>0,$I$38,0)+IF($I$26<0,$I$26)+IF($I$38<0,$I$38,0)","v":0},{"$f":"$B$42-$D$42","v":0},{"$f":"$G$42+E42","v":0}]

{"sheet":"Calendrier annuel","index":1,"n_rows":43,"n_cols":34,"rows_kept":43,"cut":false,"hidden":false,"merged":[[4,1,5,23],[17,17,17,23],[26,17,26,23],[8,1,8,7],[8,9,8,15],[8,17,8,23],[17,1,17,7],[17,9,17,15],[7,29,7,31],[35,1,35,7],[35,9,35,15],[35,17,35,23],[26,1,26,7],[26,9,26,15]]}
[]
[]
[]
[]
[null,2019]
[]
[]
[null,null,null,null,null,null,null,null,null,null,null,null,null,null,null,null,null,null,null,null,null,null,null,null,null,null,null,null,null,"Congés fériés, lundi suivant la date"]
[null,{"$f":"EDATE(DATE(An_ref,1,1),0)","v":"2019-01-01"},null,null,null,null,null,null,null,{"$f":"EDATE(DATE(An_ref,1,1),1)","v":"2019-02-01"},null,null,null,null,null,null,null,{"$f":"EDATE(DATE(An_ref,1,1),2)","v":"2019-03-01"},null,null,null,null,null,null,null,null,null,null,null,"Mois","Type de congé férié","Année en cours"]
[null,{"$f":"UPPER(TEXT(B12,\"ddd\"))","v":"MON"},"TUE","WED","THU","FRI","SAT","SUN",null,{"$f":"UPPER(TEXT(J12,\"ddd\"))","v":"MON"},"TUE","WED","THU","FRI","SAT","SUN",null,{"$f":"UPPER(TEXT(R12,\"ddd\"))","v":"MON"},"TUE","WED","THU","FRI","SAT","SUN",null,null,null,null,null,null,null,{"$f":"An_ref","v":2019},null,"alloué au férié"]
[null,{"$f":"IF(WEEKDAY(B9)=2,B9,\"\")","v":""},{"$f":"IF(B11<>\"\",B11+1,IF(WEEKDAY(B9)=3,B9,\"\"))","v":"2019-01-01"},{"$f":"IF(C11<>\"\",C11+1,IF(WEEKDAY(B9)=4,B9,\"\"))","v":"2019-01-02"},{"$f":"IF(D11<>\"\",D11+1,IF(WEEKDAY(B9)=5,B9,\"\"))","v":"2019-01-03"},{"$f":"IF(E11<>\"\",E11+1,IF(WEEKDAY(B9)=6,B9,\"\"))","v":"2019-01-04"},{"$f":"IF(F11<>\"\",F11+1,IF(WEEKDAY(B9)=7,B9,\"\"))","v":"2019-01-05"},{"$f":"IF(G11<>\"\",G11+1,IF(WEEKDAY(B9)=1,B9,\"\"))","v":"2019-01-06"},null,{"$f":"IF(WEEKDAY(J9)=2,J9,\"\")","v":""},{"$f":"IF(J11<>\"\",J11+1,IF(WEEKDAY(J9)=3,J9,\"\"))","v":""},{"$f":"IF(K11<>\"\",K11+1,IF(WEEKDAY(J9)=4,J9,\"\"))","v":""},{"$f":"IF(L11<>\"\",L11+1,IF(WEEKDAY(J9)=5,J9,\"\"))","v":""},{"$f":"IF(M11<>\"\",M11+1,IF(WEEKDAY(J9)=6,J9,\"\"))","v":"2019-02-01"},{"$f":"IF(N11<>\"\",N11+1,IF(WEEKDAY(J9)=7,J9,\"\"))","v":"2019-02-02"},{"$f":"IF(O11<>\"\",O11+1,IF(WEEKDAY(J9)=1,J9,\"\"))","v":"2019-02-03"},null,{"$f":"IF(WEEKDAY(R9)=2,R9,\"\")","v":""},{"$f":"IF(R11<>\"\",R11+1,IF(WEEKDAY(R9)=3,R9,\"\"))","v":""},{"$f":"IF(S11<>\"\",S11+1,IF(WEEKDAY(R9)=4,R9,\"\"))","v":""},{"$f":"IF(T11<>\"\",T11+1,IF(WEEKDAY(R9)=5,R9,\"\"))","v":""},{"$f":"IF(U11<>\"\",U11+1,IF(WEEKDAY(R9)=6,R9,\"\"))","v":"2019-03-01"},{"$f":"IF(V11<>\"\",V11+1,IF(WEEKDAY(R9)=7,R9,\"\"))","v":"2019-03-02"},{"$f":"IF(W11<>\"\",W11+1,IF(WEEKDAY(R9)=1,R9,\"\"))","v":"2019-03-03"},null,{"$f":"OR(B11=$AF$11,B11=$AF$13,B11=$AF$16,B11=$AF$18,B11=$AF$20,B11=$AF$21,B11=$AF$22,B11=$AF$24)","v":false},null,null,null,"Janvier","Jour de l'an",{"$f":"DATE(Année,1,1)","v":"2019-01-01"},"Date fixe 1er janvier"]
[null,{"$f":"$H$11+1","v":"2019-01-07"},{"$f":"B12+1","v":"2019-01-08"},{"$f":"C12+1","v":"2019-01-09"},"2019-01-10","2019-01-11","2019-01-12","2019-01-13",null,{"$f":"$P$11+1","v":"2019-02-04"},{"$f":"J12+1","v":"2019-02-05"},{"$f":"K12+1","v":"2019-02-06"},"2019-02-07","2019-02-08","2019-02-09","2019-02-10",null,{"$f":"$X$11+1","v":"2019-03-04"},{"$f":"R12+1","v":"2019-03-05"},{"$f":"S12+1","v":"2019-03-06"},"2019-03-07","2019-03-08","2019-03-09","2019-03-10",null,null,null,null,null,null,"FÉRIÉ-JOUR OUVRABLE SUIVANT LE JOUR DE L'AN",{"$f":"AF11+2-WEEKDAY(AF11)+(WEEKDAY(AF11)>2)*7","v":"2019-01-07"},null,{"$f":"'Congés de l''employé'!$BU$8","v":1.4583333333333333}]
[null,{"$f":"H12+1","v":"2019-01-14"},{"$f":"B13+1","v":"2019-01-15"},{"$f":"C13+1","v":"2019-01-16"},{"$f":"D13+1","v":"2019-01-17"},{"$f":"E13+1","v":"2019-01-18"},{"$f":"F13+1","v":"2019-01-19"},{"$f":"G13+1","v":"2019-01-20"},null,{"$f":"P12+1","v":"2019-02-11"},{"$f":"J13+1","v":"2019-02-12"},{"$f":"K13+1","v":"2019-02-13"},{"$f":"L13+1","v":"2019-02-14"},{"$f":"M13+1","v":"2019-02-15"},{"$f":"N13+1","v":"2019-02-16"},{"$f":"O13+1","v":"2019-02-17"},null,{"$f":"X12+1","v":"2019-03-11"},{"$f":"R13+1","v":"2019-03-12"},{"$f":"S13+1","v":"2019-03-13"},{"$f":"T13+1","v":"2019-03-14"},{"$f":"U13+1","v":"2019-03-15"},{"$f":"V13+1","v":"2019-03-16"},{"$f":"W13+1","v":"2019-03-17"},null,null,null,null,null,null,"Bureau fermé congé donné-un jour après le jour de l'an",{"$f":"AF11+2-WEEKDAY(AF11)+(WEEKDAY(AF11)>2)*7+1","v":"2019-01-08"},null,{"$f":"'Congés de l''employé'!$BU$8","v":1.4583333333333333}]
[null,{"$f":"H13+1","v":"2019-01-21"},{"$f":"B14+1","v":"2019-01-22"},{"$f":"C14+1","v":"2019-01-23"},"2019-01-24","2019-01-25","2019-01-26","2019-01-27",null,{"$f":"P13+1","v":"2019-02-18"},{"$f":"J14+1","v":"2019-02-19"},{"$f":"K14+1","v":"2019-02-20"},"2019-02-21","2019-02-22","2019-02-23","2019-02-24",null,{"$f":"X13+1","v":"2019-03-18"},{"$f":"R14+1","v":"2019-03-19"},{"$f":"S14+1","v":"2019-03-20"},"2019-03-21","2019-03-22","2019-03-23","2019-03-24",null,null,null,null,null,"Mars","Bureau fermé congé donné-un jour ouvré avant Pâques",{"$f":"AF15-2","v":"2019-04-19"},"3e lundi de mai",{"$f":"'Congés de l''employé'!$BU$8","v":1.4583333333333333}]
[null,{"$f":"IF(H14<EOMONTH($B$9,0),H14+1,\"\")","v":"2019-01-28"},{"$f":"IF(B15<EOMONTH($B$9,0),B15+1,\"\")","v":"2019-01-29"},{"$f":"IF(C15<EOMONTH($B$9,0),C15+1,\"\")","v":"2019-01-30"},"2019-01-31",{"$f":"IF(E15<EOMONTH($B$9,0),E15+1,\"\")","v":""},"","",null,{"$f":"IF(P14<EOMONTH($J$9,0),P14+1,\"\")","v":"2019-02-25"},{"$f":"IF(J15<EOMONTH($J$9,0),J15+1,\"\")","v":"2019-02-26"},{"$f":"IF(K15<EOMONTH($J$9,0),K15+1,\"\")","v":"2019-02-27"},"2019-02-28","","","",null,{"$f":"IF(X14<EOMONTH($R$9,0),X14+1,\"\")","v":"2019-03-25"},{"$f":"IF(R15<EOMONTH($R$9,0),R15+1,\"\")","v":"2019-03-26"},{"$f":"IF(S15<EOMONTH($R$9,0),S15+1,\"\")","v":"2019-03-27"},"2019-03-28","2019-03-29","2019-03-30","2019-03-31",null,null,null,null,null,null,"Pâques",{"$f":"DATE(Année,3,29.56+0.979*MOD(204-11*MOD(Année,19),30)-\nWEEKDAY(DATE(Année,3,28.56+0.979*MOD(204-11*MOD(Année,19),30))))","v":"2019-04-21"},"Date fixe 24 juin"]
[null,{"$f":"IF(H15<EOMONTH($B$9,0),H15+1,\"\")","v":""},{"$f":"IF(B16<EOMONTH($B$9,0),B16+1,\"\")","v":""},{"$f":"IF(C16<EOMONTH(B9,0),C16+1,\"\")","v":""},{"$f":"IF(D16<EOMONTH(B9,0),D16+1,\"\")","v":""},{"$f":"IF(E16<EOMONTH(B9,0),E16+1,\"\")","v":""},{"$f":"IF(F16<EOMONTH(B9,0),F16+1,\"\")","v":""},{"$f":"IF(G16<EOMONTH(B9,0),G16+1,\"\")","v":""},null,{"$f":"IF(P15<EOMONTH($J$9,0),P15+1,\"\")","v":""},{"$f":"IF(J16<EOMONTH($J$9,0),J16+1,\"\")","v":""},{"$f":"IF(K16<EOMONTH($J$9,0),K16+1,\"\")","v":""},{"$f":"IF(L16<EOMONTH($B$9,0),L16+1,\"\")","v":""},"","","",null,{"$f":"IF(X15<EOMONTH($R$9,0),X15+1,\"\")","v":""},{"$f":"IF(R16<EOMONTH($R$9,0),R16+1,\"\")","v":""},{"$f":"IF(S16<EOMONTH($R$9,0),S16+1,\"\")","v":""},"","","","",null,null,null,null,null,"Avril","Lundi de pâques",{"$f":"AF15+1","v":"2019-04-22"},"Date fixe 1er juillet",{"$f":"'Congés de l''employé'!$BU$8","v":1.4583333333333333}]
[null,null,null,null,null,null,null,null,null,null,null,null,null,null,null,null,null,null,null,null,null,null,null,null,null,null,null,null,null,"Mai","Journée nationale des patriotes",{"$f":"DATE(Année,5,23)-WEEKDAY(DATE(Année,5,1),2)","v":"2019-05-20"},null,{"$f":"'Congés de l''employé'!$BU$8","v":1.4583333333333333}]
[null,{"$f":"EDATE(DATE(An_ref,1,1),3)","v":"2019-04-01"},null,null,null,null,null,null,null,{"$f":"EDATE(DATE(An_ref,1,1),4)","v":"2019-05-01"},null,null,null,null,null,null,null,{"$f":"EDATE(DATE(An_ref,1,1),5)","v":"2019-06-01"},null,null,null,null,null,null,null,null,null,null,null,"Juin","Fête nationale du Québec",{"$f":"DATE(Année,6,24)","v":"2019-06-24"}]
[null,{"$f":"UPPER(TEXT(B21,\"ddd\"))","v":"MON"},"TUE","WED","THU","FRI","SAT","SUN",null,{"$f":"UPPER(TEXT(J21,\"ddd\"))","v":"MON"},"TUE","WED","THU","FRI","SAT","SUN",null,{"$f":"UPPER(TEXT(R21,\"ddd\"))","v":"MON"},"TUE","WED","THU","FRI","SAT","SUN",null,null,null,null,null,null,"FÉRIÉ-JOUR OUVRABLE SUIVANT LA FÊTE NATIONALE DU QUÉBEC",{"$f":"AF18+2-WEEKDAY(AF18)+(WEEKDAY(AF18)>2)*7","v":"2019-06-24"},"Date fixe 25 décembre",{"$f":"'Congés de l''employé'!$BU$8","v":1.4583333333333333}]
[null,{"$f":"IF(WEEKDAY(B18)=2,B18,\"\")","v":"2019-04-01"},{"$f":"IF(B20<>\"\",B20+1,IF(WEEKDAY(B18)=3,B18,\"\"))","v":"2019-04-02"},{"$f":"IF(C20<>\"\",C20+1,IF(WEEKDAY(B18)=4,B18,\"\"))","v":"2019-04-03"},{"$f":"IF(D20<>\"\",D20+1,IF(WEEKDAY(B18)=5,B18,\"\"))","v":"2019-04-04"},{"$f":"IF(E20<>\"\",E20+1,IF(WEEKDAY(B18)=6,B18,\"\"))","v":"2019-04-05"},{"$f":"IF(F20<>\"\",F20+1,IF(WEEKDAY(B18)=7,B18,\"\"))","v":"2019-04-06"},{"$f":"IF(G20<>\"\",G20+1,IF(WEEKDAY(B18)=1,B18,\"\"))","v":"2019-04-07"},null,{"$f":"IF(WEEKDAY(J18)=2,J18,\"\")","v":""},{"$f":"IF(J20<>\"\",J20+1,IF(WEEKDAY(J18)=3,J18,\"\"))","v":""},{"$f":"IF(K20<>\"\",K20+1,IF(WEEKDAY(J18)=4,J18,\"\"))","v":"2019-05-01"},{"$f":"IF(L20<>\"\",L20+1,IF(WEEKDAY(J18)=5,J18,\"\"))","v":"2019-05-02"},{"$f":"IF(M20<>\"\",M20+1,IF(WEEKDAY(J18)=6,J18,\"\"))","v":"2019-05-03"},{"$f":"IF(N20<>\"\",N20+1,IF(WEEKDAY(J18)=7,J18,\"\"))","v":"2019-05-04"},{"$f":"IF(O20<>\"\",O20+1,IF(WEEKDAY(J18)=1,J18,\"\"))","v":"2019-05-05"},null,{"$f":"IF(WEEKDAY(R18)=2,R18,\"\")","v":""},{"$f":"IF(R20<>\"\",R20+1,IF(WEEKDAY(R18)=3,R18,\"\"))","v":""},{"$f":"IF(S20<>\"\",S20+1,IF(WEEKDAY(R18)=4,R18,\"\"))","v":""},{"$f":"IF(T20<>\"\",T20+1,IF(WEEKDAY(R18)=5,R18,\"\"))","v":""},{"$f":"IF(U20<>\"\",U20+1,IF(WEEKDAY(R18)=6,R18,\"\"))","v":""},{"$f":"IF(V20<>\"\",V20+1,IF(WEEKDAY(R18)=7,R18,\"\"))","v":"2019-06-01"},{"$f":"IF(W20<>\"\",W20+1,IF(WEEKDAY(R18)=1,R18,\"\"))","v":"2019-06-02"},null,null,null,null,null,"Juillet","Fête du Canada",{"$f":"DATE(Année,7,1)","v":"2019-07-01"}]
[null,{"$f":"$H$20+1","v":"2019-04-08"},{"$f":"B21+1","v":"2019-04-09"},{"$f":"C21+1","v":"2019-04-10"},{"$f":"D21+1","v":"2019-04-11"},{"$f":"E21+1","v":"2019-04-12"},{"$f":"F21+1","v":"2019-04-13"},{"$f":"G21+1","v":"2019-04-14"},null,{"$f":"$P$20+1","v":"2019-05-06"},{"$f":"J21+1","v":"2019-05-07"},{"$f":"K21+1","v":"2019-05-08"},{"$f":"L21+1","v":"2019-05-09"},{"$f":"M21+1","v":"2019-05-10"},{"$f":"N21+1","v":"2019-05-11"},{"$f":"O21+1","v":"2019-05-12"},null,{"$f":"$X$20+1","v":"2019-06-03"},{"$f":"R21+1","v":"2019-06-04"},{"$f":"S21+1","v":"2019-06-05"},{"$f":"T21+1","v":"2019-06-06"},{"$f":"U21+1","v":"2019-06-07"},{"$f":"V21+1","v":"2019-06-08"},{"$f":"W21+1","v":"2019-06-09"},null,null,null,null,null,null,"FÉRIÉ-JOUR OUVRABLE SUIVANT LA FÊTE DU CANADA",{"$f":"AF20+2-WEEKDAY(AF20)+(WEEKDAY(AF20)>2)*7","v":"2019-07-01"},null,{"$f":"'Congés de l''employé'!$BU$8","v":1.4583333333333333}]
[null,{"$f":"H21+1","v":"2019-04-15"},{"$f":"B22+1","v":"2019-04-16"},{"$f":"C22+1","v":"2019-04-17"},{"$f":"D22+1","v":"2019-04-18"},{"$f":"E22+1","v":"2019-04-19"},{"$f":"F22+1","v":"2019-04-20"},{"$f":"G22+1","v":"2019-04-21"},null,{"$f":"P21+1","v":"2019-05-13"},{"$f":"J22+1","v":"2019-05-14"},{"$f":"K22+1","v":"2019-05-15"},{"$f":"L22+1","v":"2019-05-16"},{"$f":"M22+1","v":"2019-05-17"},{"$f":"N22+1","v":"2019-05-18"},{"$f":"O22+1","v":"2019-05-19"},null,{"$f":"X21+1","v":"2019-06-10"},{"$f":"R22+1","v":"2019-06-11"},{"$f":"S22+1","v":"2019-06-12"},{"$f":"T22+1","v":"2019-06-13"},{"$f":"U22+1","v":"2019-06-14"},{"$f":"V22+1","v":"2019-06-15"},{"$f":"W22+1","v":"2019-06-16"},null,null,null,null,null,"Septembre","Fête du travail",{"$f":"IF(MOD(DATE(Année,9,1),7)<=2,2-MOD(DATE(Année,9,1),7),9-MOD(DATE(Année,9,1),7))+DATE(Année,9,1)","v":"2019-09-01"}]
[null,{"$f":"H22+1","v":"2019-04-22"},{"$f":"B23+1","v":"2019-04-23"},{"$f":"C23+1","v":"2019-04-24"},{"$f":"D23+1","v":"2019-04-25"},{"$f":"E23+1","v":"2019-04-26"},{"$f":"F23+1","v":"2019-04-27"},{"$f":"G23+1","v":"2019-04-28"},null,{"$f":"P22+1","v":"2019-05-20"},{"$f":"J23+1","v":"2019-05-21"},{"$f":"K23+1","v":"2019-05-22"},{"$f":"L23+1","v":"2019-05-23"},{"$f":"M23+1","v":"2019-05-24"},{"$f":"N23+1","v":"2019-05-25"},{"$f":"O23+1","v":"2019-05-26"},null,{"$f":"X22+1","v":"2019-06-17"},{"$f":"R23+1","v":"2019-06-18"},{"$f":"S23+1","v":"2019-06-19"},{"$f":"T23+1","v":"2019-06-20"},{"$f":"U23+1","v":"2019-06-21"},{"$f":"V23+1","v":"2019-06-22"},{"$f":"W23+1","v":"2019-06-23"},null,null,null,null,null,null,"FÉRIÉ-JOUR OUVRABLE SUIVANT LA FÊTE DU TRAVAIL",{"$f":"AF22+2-WEEKDAY(AF22)+(WEEKDAY(AF22)>2)*7","v":"2019-09-02"},null,{"$f":"'Congés de l''employé'!$BU$8","v":1.4583333333333333}]
[null,{"$f":"IF(H23<EOMONTH($B$18,0),H23+1,\"\")","v":"2019-04-29"},{"$f":"IF(B24<EOMONTH($B$18,0),B24+1,\"\")","v":"2019-04-30"},{"$f":"IF(C24<EOMONTH($B$18,0),C24+1,\"\")","v":""},"","","","",null,{"$f":"IF(P23<EOMONTH($J$18,0),P23+1,\"\")","v":"2019-05-27"},{"$f":"IF(J24<EOMONTH($J$18,0),J24+1,\"\")","v":"2019-05-28"},{"$f":"IF(K24<EOMONTH($J$18,0),K24+1,\"\")","v":"2019-05-29"},"2019-05-30","2019-05-31","","",null,{"$f":"IF(X23<EOMONTH($R$18,0),X23+1,\"\")","v":"2019-06-24"},{"$f":"IF(R24<EOMONTH($R$18,0),R24+1,\"\")","v":"2019-06-25"},{"$f":"IF(S24<EOMONTH($R$18,0),S24+1,\"\")","v":"2019-06-26"},"2019-06-27","2019-06-28","2019-06-29","2019-06-30",null,null,null,null,null,"Octobre","Action de grâce",{"$f":"DATE(AF10,10,1)","v":"2019-10-01"}]
[null,{"$f":"IF(H24<EOMONTH($B$18,0),H24+1,\"\")","v":""},{"$f":"IF(B25<EOMONTH($B$18,0),B25+1,\"\")","v":""},{"$f":"IF(C25<EOMONTH($B$18,0),C25+1,\"\")","v":""},"","","","",null,{"$f":"IF(P24<EOMONTH($J$18,0),P24+1,\"\")","v":""},{"$f":"IF(J25<EOMONTH($J$18,0),J25+1,\"\")","v":""},{"$f":"IF(K25<EOMONTH($J$18,0),K25+1,\"\")","v":""},"","","","",null,{"$f":"IF(X24<EOMONTH($R$18,0),X24+1,\"\")","v":""},{"$f":"IF(R25<EOMONTH($R$18,0),R25+1,\"\")","v":""},{"$f":"IF(S25<EOMONTH($R$18,0),S25+1,\"\")","v":""},"","","","",null,null,null,null,null,null,"FÉRIÉ-JOUR OUVRABLE SUIVANT L'ACTION DE GRÂCE",{"$f":"AF24-DAY(AF24)-WEEKDAY(AF24-DAY(AF24),2)+15","v":"2019-10-14"},null,{"$f":"'Congés de l''employé'!$BU$8","v":1.4583333333333333}]
[null,null,null,null,null,null,null,null,null,null,null,null,null,null,null,null,null,null,null,null,null,null,null,null,null,null,null,null,null,null,"Bureau fermé congé donné",{"$f":"DATE(Année,12,25)-1","v":"2019-12-24"},null,{"$f":"'Congés de l''employé'!$BU$8","v":1.4583333333333333}]
[null,{"$f":"EDATE(DATE(An_ref,1,1),6)","v":"2019-07-01"},null,null,null,null,null,null,null,{"$f":"EDATE(DATE(An_ref,1,1),7)","v":"2019-08-01"},null,null,null,null,null,null,null,{"$f":"EDATE(DATE(An_ref,1,1),8)","v":"2019-09-01"},null,null,null,null,null,null,null,null,null,null,null,"Décembre","Férié-Noël",{"$f":"DATE(Année,12,25)","v":"2019-12-25"},null,{"$f":"'Congés de l''employé'!$BU$8","v":1.4583333333333333}]
[null,{"$f":"UPPER(TEXT(B30,\"ddd\"))","v":"MON"},"TUE","WED","THU","FRI","SAT","SUN",null,{"$f":"UPPER(TEXT(J30,\"ddd\"))","v":"MON"},"TUE","WED","THU","FRI","SAT","SUN",null,{"$f":"UPPER(TEXT(R30,\"ddd\"))","v":"MON"},"TUE","WED","THU","FRI","SAT","SUN",null,null,null,null,null,"Décembre","Bureau fermé congé donné",{"$f":"DATE(Année,12,25)+1","v":"2019-12-26"},null,{"$f":"'Congés de l''employé'!$BU$8","v":1.4583333333333333}]
[null,{"$f":"IF(WEEKDAY(B27)=2,B27,\"\")","v":"2019-07-01"},{"$f":"IF(B29<>\"\",B29+1,IF(WEEKDAY(B27)=3,B27,\"\"))","v":"2019-07-02"},{"$f":"IF(C29<>\"\",C29+1,IF(WEEKDAY(B27)=4,B27,\"\"))","v":"2019-07-03"},{"$f":"IF(D29<>\"\",D29+1,IF(WEEKDAY(B27)=5,B27,\"\"))","v":"2019-07-04"},{"$f":"IF(E29<>\"\",E29+1,IF(WEEKDAY(B27)=6,B27,\"\"))","v":"2019-07-05"},{"$f":"IF(F29<>\"\",F29+1,IF(WEEKDAY(B27)=7,B27,\"\"))","v":"2019-07-06"},{"$f":"IF(G29<>\"\",G29+1,IF(WEEKDAY(B27)=1,B27,\"\"))","v":"2019-07-07"},null,{"$f":"IF(WEEKDAY(J27)=2,J27,\"\")","v":""},{"$f":"IF(J29<>\"\",J29+1,IF(WEEKDAY(J27)=3,J27,\"\"))","v":""},{"$f":"IF(K29<>\"\",K29+1,IF(WEEKDAY(J27)=4,J27,\"\"))","v":""},{"$f":"IF(L29<>\"\",L29+1,IF(WEEKDAY(J27)=5,J27,\"\"))","v":"2019-08-01"},{"$f":"IF(M29<>\"\",M29+1,IF(WEEKDAY(J27)=6,J27,\"\"))","v":"2019-08-02"},{"$f":"IF(N29<>\"\",N29+1,IF(WEEKDAY(J27)=7,J27,\"\"))","v":"2019-08-03"},{"$f":"IF(O29<>\"\",O29+1,IF(WEEKDAY(J27)=1,J27,\"\"))","v":"2019-08-04"},null,{"$f":"IF(WEEKDAY(R27)=2,R27,\"\")","v":""},{"$f":"IF(R29<>\"\",R29+1,IF(WEEKDAY(R27)=3,R27,\"\"))","v":""},{"$f":"IF(S29<>\"\",S29+1,IF(WEEKDAY(R27)=4,R27,\"\"))","v":""},{"$f":"IF(T29<>\"\",T29+1,IF(WEEKDAY(R27)=5,R27,\"\"))","v":""},{"$f":"IF(U29<>\"\",U29+1,IF(WEEKDAY(R27)=6,R27,\"\"))","v":""},{"$f":"IF(V29<>\"\",V29+1,IF(WEEKDAY(R27)=7,R27,\"\"))","v":""},{"$f":"IF(W29<>\"\",W29+1,IF(WEEKDAY(R27)=1,R27,\"\"))","v":"2019-09-01"}]
[null,{"$f":"$H$29+1","v":"2019-07-08"},{"$f":"B30+1","v":"2019-07-09"},{"$f":"C30+1","v":"2019-07-10"},{"$f":"D30+1","v":"2019-07-11"},{"$f":"E30+1","v":"2019-07-12"},{"$f":"F30+1","v":"2019-07-13"},{"$f":"G30+1","v":"2019-07-14"},null,{"$f":"$P$29+1","v":"2019-08-05"},{"$f":"J30+1","v":"2019-08-06"},{"$f":"K30+1","v":"2019-08-07"},{"$f":"L30+1","v":"2019-08-08"},{"$f":"M30+1","v":"2019-08-09"},{"$f":"N30+1","v":"2019-08-10"},{"$f":"O30+1","v":"2019-08-11"},null,{"$f":"$X$29+1","v":"2019-09-02"},{"$f":"R30+1","v":"2019-09-03"},{"$f":"S30+1","v":"2019-09-04"},{"$f":"T30+1","v":"2019-09-05"},{"$f":"U30+1","v":"2019-09-06"},{"$f":"V30+1","v":"2019-09-07"},{"$f":"W30+1","v":"2019-09-08"}]
[null,{"$f":"H30+1","v":"2019-07-15"},{"$f":"B31+1","v":"2019-07-16"},{"$f":"C31+1","v":"2019-07-17"},{"$f":"D31+1","v":"2019-07-18"},{"$f":"E31+1","v":"2019-07-19"},{"$f":"F31+1","v":"2019-07-20"},{"$f":"G31+1","v":"2019-07-21"},null,{"$f":"P30+1","v":"2019-08-12"},{"$f":"J31+1","v":"2019-08-13"},{"$f":"K31+1","v":"2019-08-14"},{"$f":"L31+1","v":"2019-08-15"},{"$f":"M31+1","v":"2019-08-16"},{"$f":"N31+1","v":"2019-08-17"},{"$f":"O31+1","v":"2019-08-18"},null,{"$f":"X30+1","v":"2019-09-09"},{"$f":"R31+1","v":"2019-09-10"},{"$f":"S31+1","v":"2019-09-11"},{"$f":"T31+1","v":"2019-09-12"},{"$f":"U31+1","v":"2019-09-13"},{"$f":"V31+1","v":"2019-09-14"},{"$f":"W31+1","v":"2019-09-15"}]
[null,{"$f":"H31+1","v":"2019-07-22"},{"$f":"B32+1","v":"2019-07-23"},{"$f":"C32+1","v":"2019-07-24"},{"$f":"D32+1","v":"2019-07-25"},{"$f":"E32+1","v":"2019-07-26"},{"$f":"F32+1","v":"2019-07-27"},{"$f":"G32+1","v":"2019-07-28"},null,{"$f":"P31+1","v":"2019-08-19"},{"$f":"J32+1","v":"2019-08-20"},{"$f":"K32+1","v":"2019-08-21"},{"$f":"L32+1","v":"2019-08-22"},{"$f":"M32+1","v":"2019-08-23"},{"$f":"N32+1","v":"2019-08-24"},{"$f":"O32+1","v":"2019-08-25"},null,{"$f":"X31+1","v":"2019-09-16"},{"$f":"R32+1","v":"2019-09-17"},{"$f":"S32+1","v":"2019-09-18"},{"$f":"T32+1","v":"2019-09-19"},{"$f":"U32+1","v":"2019-09-20"},{"$f":"V32+1","v":"2019-09-21"},{"$f":"W32+1","v":"2019-09-22"}]
[null,{"$f":"IF(H32<EOMONTH($B$27,0),H32+1,\"\")","v":"2019-07-29"},{"$f":"IF(B33<EOMONTH($B$27,0),B33+1,\"\")","v":"2019-07-30"},{"$f":"IF(C33<EOMONTH($B$27,0),C33+1,\"\")","v":"2019-07-31"},"","","","",null,{"$f":"IF(P32<EOMONTH($J$27,0),P32+1,\"\")","v":"2019-08-26"},{"$f":"IF(J33<EOMONTH($J$27,0),J33+1,\"\")","v":"2019-08-27"},{"$f":"IF(K33<EOMONTH($J$27,0),K33+1,\"\")","v":"2019-08-28"},"2019-08-29","2019-08-30","2019-08-31","",null,{"$f":"IF(X32<EOMONTH($R$27,0),X32+1,\"\")","v":"2019-09-23"},{"$f":"IF(R33<EOMONTH($R$27,0),R33+1,\"\")","v":"2019-09-24"},{"$f":"IF(S33<EOMONTH($R$27,0),S33+1,\"\")","v":"2019-09-25"},"2019-09-26","2019-09-27","2019-09-28","2019-09-29"]
[null,{"$f":"IF(H33<EOMONTH($B$27,0),H33+1,\"\")","v":""},{"$f":"IF(B34<EOMONTH($B$27,0),B34+1,\"\")","v":""},{"$f":"IF(C34<EOMONTH($B$27,0),C34+1,\"\")","v":""},"","","","",null,{"$f":"IF(P33<EOMONTH($J$27,0),P33+1,\"\")","v":""},{"$f":"IF(J34<EOMONTH($J$27,0),J34+1,\"\")","v":""},{"$f":"IF(K34<EOMONTH($J$27,0),K34+1,\"\")","v":""},"","","","",null,{"$f":"IF(X33<EOMONTH($R$27,0),X33+1,\"\")","v":"2019-09-30"},{"$f":"IF(R34<EOMONTH($R$27,0),R34+1,\"\")","v":""},{"$f":"IF(S34<EOMONTH($R$27,0),S34+1,\"\")","v":""},"","","",""]
[]
[null,{"$f":"EDATE(DATE(An_ref,1,1),9)","v":"2019-10-01"},null,null,null,null,null,null,null,{"$f":"EDATE(DATE(An_ref,1,1),10)","v":"2019-11-01"},null,null,null,null,null,null,null,{"$f":"EDATE(DATE(An_ref,1,1),11)","v":"2019-12-01"}]
[null,{"$f":"UPPER(TEXT(B39,\"ddd\"))","v":"MON"},"TUE","WED","THU","FRI","SAT","SUN",null,{"$f":"UPPER(TEXT(J39,\"ddd\"))","v":"MON"},"TUE","WED","THU","FRI","SAT","SUN",null,{"$f":"UPPER(TEXT(R39,\"ddd\"))","v":"MON"},"TUE","WED","THU","FRI","SAT","SUN"]
[null,{"$f":"IF(WEEKDAY(B36)=2,B36,\"\")","v":""},{"$f":"IF(B38<>\"\",B38+1,IF(WEEKDAY(B36)=3,B36,\"\"))","v":"2019-10-01"},{"$f":"IF(C38<>\"\",C38+1,IF(WEEKDAY(B36)=4,B36,\"\"))","v":"2019-10-02"},{"$f":"IF(D38<>\"\",D38+1,IF(WEEKDAY(B36)=5,B36,\"\"))","v":"2019-10-03"},{"$f":"IF(E38<>\"\",E38+1,IF(WEEKDAY(B36)=6,B36,\"\"))","v":"2019-10-04"},{"$f":"IF(F38<>\"\",F38+1,IF(WEEKDAY(B36)=7,B36,\"\"))","v":"2019-10-05"},{"$f":"IF(G38<>\"\",G38+1,IF(WEEKDAY(B36)=1,B36,\"\"))","v":"2019-10-06"},null,{"$f":"IF(WEEKDAY(J36)=2,J36,\"\")","v":""},{"$f":"IF(J38<>\"\",J38+1,IF(WEEKDAY(J36)=3,J36,\"\"))","v":""},{"$f":"IF(K38<>\"\",K38+1,IF(WEEKDAY(J36)=4,J36,\"\"))","v":""},{"$f":"IF(L38<>\"\",L38+1,IF(WEEKDAY(J36)=5,J36,\"\"))","v":""},{"$f":"IF(M38<>\"\",M38+1,IF(WEEKDAY(J36)=6,J36,\"\"))","v":"2019-11-01"},{"$f":"IF(N38<>\"\",N38+1,IF(WEEKDAY(J36)=7,J36,\"\"))","v":"2019-11-02"},{"$f":"IF(O38<>\"\",O38+1,IF(WEEKDAY(J36)=1,J36,\"\"))","v":"2019-11-03"},null,{"$f":"IF(WEEKDAY(R36)=2,R36,\"\")","v":""},{"$f":"IF(R38<>\"\",R38+1,IF(WEEKDAY(R36)=3,R36,\"\"))","v":""},{"$f":"IF(S38<>\"\",S38+1,IF(WEEKDAY(R36)=4,R36,\"\"))","v":""},{"$f":"IF(T38<>\"\",T38+1,IF(WEEKDAY(R36)=5,R36,\"\"))","v":""},{"$f":"IF(U38<>\"\",U38+1,IF(WEEKDAY(R36)=6,R36,\"\"))","v":""},{"$f":"IF(V38<>\"\",V38+1,IF(WEEKDAY(R36)=7,R36,\"\"))","v":""},{"$f":"IF(W38<>\"\",W38+1,IF(WEEKDAY(R36)=1,R36,\"\"))","v":"2019-12-01"}]
[null,{"$f":"$H$38+1","v":"2019-10-07"},{"$f":"B39+1","v":"2019-10-08"},{"$f":"C39+1","v":"2019-10-09"},{"$f":"D39+1","v":"2019-10-10"},{"$f":"E39+1","v":"2019-10-11"},{"$f":"F39+1","v":"2019-10-12"},{"$f":"G39+1","v":"2019-10-13"},null,{"$f":"$P$38+1","v":"2019-11-04"},{"$f":"J39+1","v":"2019-11-05"},{"$f":"K39+1","v":"2019-11-06"},{"$f":"L39+1","v":"2019-11-07"},{"$f":"M39+1","v":"2019-11-08"},{"$f":"N39+1","v":"2019-11-09"},{"$f":"O39+1","v":"2019-11-10"},null,{"$f":"$X$38+1","v":"2019-12-02"},{"$f":"R39+1","v":"2019-12-03"},{"$f":"S39+1","v":"2019-12-04"},{"$f":"T39+1","v":"2019-12-05"},{"$f":"U39+1","v":"2019-12-06"},{"$f":"V39+1","v":"2019-12-07"},{"$f":"W39+1","v":"2019-12-08"}]
[null,{"$f":"H39+1","v":"2019-10-14"},{"$f":"B40+1","v":"2019-10-15"},{"$f":"C40+1","v":"2019-10-16"},{"$f":"D40+1","v":"2019-10-17"},{"$f":"E40+1","v":"2019-10-18"},{"$f":"F40+1","v":"2019-10-19"},{"$f":"G40+1","v":"2019-10-20"},null,{"$f":"P39+1","v":"2019-11-11"},{"$f":"J40+1","v":"2019-11-12"},{"$f":"K40+1","v":"2019-11-13"},{"$f":"L40+1","v":"2019-11-14"},{"$f":"M40+1","v":"2019-11-15"},{"$f":"N40+1","v":"2019-11-16"},{"$f":"O40+1","v":"2019-11-17"},null,{"$f":"X39+1","v":"2019-12-09"},{"$f":"R40+1","v":"2019-12-10"},{"$f":"S40+1","v":"2019-12-11"},{"$f":"T40+1","v":"2019-12-12"},{"$f":"U40+1","v":"2019-12-13"},{"$f":"V40+1","v":"2019-12-14"},{"$f":"W40+1","v":"2019-12-15"}]
[null,{"$f":"H40+1","v":"2019-10-21"},{"$f":"B41+1","v":"2019-10-22"},{"$f":"C41+1","v":"2019-10-23"},{"$f":"D41+1","v":"2019-10-24"},{"$f":"E41+1","v":"2019-10-25"},{"$f":"F41+1","v":"2019-10-26"},{"$f":"G41+1","v":"2019-10-27"},null,{"$f":"P40+1","v":"2019-11-18"},{"$f":"J41+1","v":"2019-11-19"},{"$f":"K41+1","v":"2019-11-20"},{"$f":"L41+1","v":"2019-11-21"},{"$f":"M41+1","v":"2019-11-22"},{"$f":"N41+1","v":"2019-11-23"},{"$f":"O41+1","v":"2019-11-24"},null,{"$f":"X40+1","v":"2019-12-16"},{"$f":"R41+1","v":"2019-12-17"},{"$f":"S41+1","v":"2019-12-18"},{"$f":"T41+1","v":"2019-12-19"},{"$f":"U41+1","v":"2019-12-20"},{"$f":"V41+1","v":"2019-12-21"},{"$f":"W41+1","v":"2019-12-22"}]
[null,{"$f":"IF(H41<EOMONTH($B$36,0),H41+1,\"\")","v":"2019-10-28"},{"$f":"IF(B42<EOMONTH($B$36,0),B42+1,\"\")","v":"2019-10-29"},{"$f":"IF(C42<EOMONTH($B$36,0),C42+1,\"\")","v":"2019-10-30"},"2019-10-31","","","",null,{"$f":"IF(P41<EOMONTH($J$36,0),P41+1,\"\")","v":"2019-11-25"},{"$f":"IF(J42<EOMONTH($J$36,0),J42+1,\"\")","v":"2019-11-26"},{"$f":"IF(K42<EOMONTH($J$36,0),K42+1,\"\")","v":"2019-11-27"},"2019-11-28","2019-11-29","2019-11-30","",null,{"$f":"IF(X41<EOMONTH($R$36,0),X41+1,\"\")","v":"2019-12-23"},{"$f":"IF(R42<EOMONTH($R$36,0),R42+1,\"\")","v":"2019-12-24"},{"$f":"IF(S42<EOMONTH($R$36,0),S42+1,\"\")","v":"2019-12-25"},"2019-12-26","2019-12-27","2019-12-28","2019-12-29"]
[null,{"$f":"IF(H42<EOMONTH($B$36,0),H42+1,\"\")","v":""},{"$f":"IF(B43<EOMONTH($B$36,0),B43+1,\"\")","v":""},{"$f":"IF(C43<EOMONTH($B$36,0),C43+1,\"\")","v":""},"","","","",null,{"$f":"IF(P42<EOMONTH($J$36,0),P42+1,\"\")","v":""},{"$f":"IF(J43<EOMONTH($J$36,0),J43+1,\"\")","v":""},{"$f":"IF(K43<EOMONTH($J$36,0),K43+1,\"\")","v":""},"","","","",null,{"$f":"IF(X42<EOMONTH($R$36,0),X42+1,\"\")","v":"2019-12-30"},{"$f":"IF(R43<EOMONTH($R$36,0),R43+1,\"\")","v":"2019-12-31"},{"$f":"IF(S43<EOMONTH($R$36,0),S43+1,\"\")","v":""},"","","",""]

{"sheet":"Fériés de l'année en cours","index":2,"n_rows":23,"n_cols":5,"rows_kept":23,"cut":false,"hidden":true,"merged":[[8,1,9,1],[9,2,9,3],[1,1,4,3],[8,0,9,0],[18,2,18,3],[12,2,12,3],[13,2,13,3],[14,2,14,3],[15,2,15,3],[17,2,17,3],[8,2,8,3],[10,2,10,3],[11,2,11,3],[16,2,16,3]]}
[]
[null,"       Les jours fériés pour l'années en cours"]
[]
[]
[]
[]
[]
[]
["Mois","Type de jours férié","Année en cours"]
[null,null,{"$f":"'Calendrier annuel'!B5","v":"1909-07-12"}]
["Janvier","Jour de l'an",{"$f":"DATE(Année,1,1)","v":"2019-01-01"},null,"Date fixe 1er janvier"]
[null,"Pâques",{"$f":"DATE(Année,3,29.56+0.979*MOD(204-11*MOD(Année,19),30)-\nWEEKDAY(DATE(Année,3,28.56+0.979*MOD(204-11*MOD(Année,19),30))))","v":"2019-04-21"}]
["Mars et avril","Lundi de pâques",{"$f":"C12+1","v":"2019-04-22"}]
["Mai","Journée nationale des patriotes",{"$f":"DATE(Année,5,23)-WEEKDAY(DATE(Année,5,1),2)","v":"2019-05-20"},null,"3e lundi de mai"]
["Juin","Fête nationale du Québec",{"$f":"DATE(Année,6,24)","v":"2019-06-24"},null,"Date fixe 24 juin"]
["Juillet","Fête du Canada",{"$f":"DATE(Année,7,1)","v":"2019-07-01"},null,"Date fixe 1er juillet"]
["Septembre","Fête du travail",{"$f":"IF(MOD(DATE(Année,9,1),7)<=2,2-MOD(DATE(Année,9,1),7),9-MOD(DATE(Année,9,1),7))+DATE(Année,9,1)","v":"2019-09-01"}]
["Octobre","Action de grâce",{"$f":"IF(MOD(DATE(Année,10,1),7)<=2,2-MOD(DATE(Année,10,1),7),9-MOD(DATE(Année,10,1),7))+DATE(Année,10,1)+7","v":"2019-10-13"}]
["Décembre","Noël",{"$f":"DATE(Année,12,25)","v":"2019-12-25"},null,"Date fixe 25 décembre"]
[]
[]
[]
["Heures contre un férié:"]

{"sheet":"Congés de l'employé","index":3,"n_rows":51,"n_cols":73,"rows_kept":51,"cut":false,"hidden":false,"merged":[[41,3,41,4],[48,3,48,4],[45,3,45,4],[29,3,29,4],[30,3,30,4],[31,3,31,4],[32,3,32,4],[33,3,33,4],[34,3,34,4],[35,3,35,4],[36,3,36,4],[37,3,37,4],[38,3,38,4],[1,1,4,4],[7,1,7,2],[19,3,19,4],[20,3,20,4],[40,3,40,4],[50,3,50,4],[21,3,21,4],[22,3,22,4],[23,3,23,4],[24,3,24,4],[25,3,25,4],[26,3,26,4],[46,3,46,4],[39,3,39,4],[42,3,42,4],[43,3,43,4],[47,3,47,4],[49,3,49,4],[27,3,27,4],[28,3,28,4],[44,3,44,4]]}
[]
[null,"Congés de l'employé"]
[]
[]
[]
[]
[]
["Employé: ",null,null,null,"Nombres d'heures\nHebdomadaires",null,null,null,null,null,null,{"$f":"NOT(ISBLANK(G2))","v":false},null,null,null,null,null,null,null,null,null,null,null,null,null,null,null,null,null,null,null,null,null,null,null,null,null,null,null,null,null,null,null,null,null,null,null,null,null,null,null,null,null,null,null,null,null,null,null,null,null,null,null,null,null,null,null,null,null,null,null,null,1.4583333333333333]
[null,"Nombre de jour","Jour transformé\nen heure",null,"Jour transformé\nen heure",null,null,null,null,null,null,null,null,null,null,null,null,null,null,null,null,null,null,null,null,null,null,null,null,null,null,null,null,null,null,null,null,null,null,null,null,null,null,null,null,null,null,null,null,null,null,null,null,null,null,null,null,null,null,null,null,null,null,null,null,null,null,null,null,null,null,null,"Nombre de jour"]
["Nombre de congés annuel selon le contrat + congés restants de l'an passé",10,{"$f":"B10*E16","v":2.916666666666667},"Nombre de vacances \ndisponible",{"$f":"C10-SUMIF(A21:A51,\"CONGÉ\",D21:E51)","v":2.6250000000000004},null,null,null,null,null,null,null,null,null,null,null,null,null,null,null,null,null,null,null,null,null,null,null,null,null,null,null,null,null,null,null,null,null,null,null,null,null,null,null,null,null,null,null,null,null,null,null,null,null,null,null,null,null,null,null,null,null,null,null,null,null,null,null,null,null,null,null,{"$f":"IF(E10=0,\"\",E10/E16)","v":9.0000000000000018}]
[]
["Nombre de congés maladie annuel selon le contrat + congés maladie restants de l'an passé",3,{"$f":"B12*E18","v":0.875},"Nombre de congés maladie disponible",{"$f":"C12-SUMIF(A21:A51,\"MALADIE\",D21:E51)","v":0.875},null,null,null,null,null,null,null,null,null,null,null,null,null,null,null,null,null,null,null,null,null,null,null,null,null,null,null,null,null,null,null,null,null,null,null,null,null,null,null,null,null,null,null,null,null,null,null,null,null,null,null,null,null,null,null,null,null,null,null,null,null,null,null,null,null,null,null,{"$f":"IF(E12=0,\"\",E12/E18)","v":3}]
[]
[]
[null,null,null,null,null,null,null,null,null,null,null,null,null,null,null,null,null,null,null,null,null,null,null,null,null,null,null,null,null,null,null,null,null,null,null,null,null,null,null,null,null,null,null,null,null,null,null,null,null,null,null,null,null,null,null,null,null,null,null,null,null,null,null,null,null,null,null,null,null,null,null,null,"Demi-congé"]
[null,null,null,"Heures à compter \nlorsqu'il y a un congé pris par l'employé",0.29166666666666669,null,null,null,null,null,null,null,null,null,null,null,null,null,null,null,null,null,null,null,null,null,null,null,null,null,null,null,null,null,null,null,null,null,null,null,null,null,null,null,null,null,null,null,null,null,null,null,null,null,null,null,null,null,null,null,null,null,null,null,null,null,null,null,null,null,null,null,{"$f":"E16/2","v":0.14583333333333334}]
[]
["CUMUL CONGÉS",{"$f":"SUMIF($A$2:$A$62,\"CONGÉ\",$D$2:$D$62)","v":0.29166666666666669},null,"Heures à compter \nlorsqu'il y a un congé maladie",0.29166666666666669,null,null,null,null,null,null,null,null,null,null,null,null,null,null,null,null,null,null,null,null,null,null,null,null,null,null,null,null,null,null,null,null,null,null,null,null,null,null,null,null,null,null,null,null,null,null,null,null,null,null,null,null,null,null,null,null,null,null,null,null,null,null,null,null,null,null,null,{"$f":"E18/2","v":0.14583333333333334}]
["CUMUL MALADIE",{"$f":"SUMIF($A$21:$A$62,\"MALADIE\",$D$21:$D$62)","v":0}]
["Type de congé","Date\ndébut absence","Date\nretour absence","Nombre de \ncongés épuisé"]
[{"$f":"IFERROR(INDEX(Edit!$D$2:$D$371,MATCH(ROW($A1),Edit!$E$2:$E$371,0)),\"\")","v":"CONGÉ"},{"$f":"IFERROR(INDEX(Edit!$C$2:$C$371,MATCH(ROW($A1),Edit!$E$2:$E$371,0)),0)","v":"2019-02-16"},{"$f":"IFERROR(INDEX(Edit!$C$2:$C$371,MATCH(ROW($A1),Edit!$F$2:$F$371,0)+1),0)","v":"2019-02-17"},{"$f":"IF(B21=\"\",\"\",DATEDIF(B21,C21,\"D\")*IF(A21=\"MALADIE\",$E$18,$E$16))","v":0.29166666666666669}]
[{"$f":"IFERROR(INDEX(Edit!$D$2:$D$371,MATCH(ROW($A2),Edit!$E$2:$E$371,0)),\"\")","v":""},{"$f":"IFERROR(INDEX(Edit!$C$2:$C$371,MATCH(ROW($A2),Edit!$E$2:$E$371,0)),0)","v":"1904-01-01"},{"$f":"IFERROR(INDEX(Edit!$C$2:$C$371,MATCH(ROW($A2),Edit!$F$2:$F$371,0)+1),0)","v":"1904-01-01"},{"$f":"IF(B22=\"\",\"\",DATEDIF(B22,C22,\"D\")*IF(A22=\"MALADIE\",$E$18,$E$16))","v":0}]
[{"$f":"IFERROR(INDEX(Edit!$D$2:$D$371,MATCH(ROW($A3),Edit!$E$2:$E$371,0)),\"\")","v":""},{"$f":"IFERROR(INDEX(Edit!$C$2:$C$371,MATCH(ROW($A3),Edit!$E$2:$E$371,0)),0)","v":"1904-01-01"},{"$f":"IFERROR(INDEX(Edit!$C$2:$C$371,MATCH(ROW($A3),Edit!$F$2:$F$371,0)+1),0)","v":"1904-01-01"},0]
[{"$f":"IFERROR(INDEX(Edit!$D$2:$D$371,MATCH(ROW($A4),Edit!$E$2:$E$371,0)),\"\")","v":""},{"$f":"IFERROR(INDEX(Edit!$C$2:$C$371,MATCH(ROW($A4),Edit!$E$2:$E$371,0)),0)","v":"1904-01-01"},{"$f":"IFERROR(INDEX(Edit!$C$2:$C$371,MATCH(ROW($A4),Edit!$F$2:$F$371,0)+1),0)","v":"1904-01-01"},0]
[{"$f":"IFERROR(INDEX(Edit!$D$2:$D$371,MATCH(ROW($A5),Edit!$E$2:$E$371,0)),\"\")","v":""},{"$f":"IFERROR(INDEX(Edit!$C$2:$C$371,MATCH(ROW($A5),Edit!$E$2:$E$371,0)),0)","v":"1904-01-01"},{"$f":"IFERROR(INDEX(Edit!$C$2:$C$371,MATCH(ROW($A5),Edit!$F$2:$F$371,0)+1),0)","v":"1904-01-01"},0]
[{"$f":"IFERROR(INDEX(Edit!$D$2:$D$371,MATCH(ROW($A6),Edit!$E$2:$E$371,0)),\"\")","v":""},{"$f":"IFERROR(INDEX(Edit!$C$2:$C$371,MATCH(ROW($A6),Edit!$E$2:$E$371,0)),0)","v":"1904-01-01"},{"$f":"IFERROR(INDEX(Edit!$C$2:$C$371,MATCH(ROW($A6),Edit!$F$2:$F$371,0)+1),0)","v":"1904-01-01"},0]
[{"$f":"IFERROR(INDEX(Edit!$D$2:$D$371,MATCH(ROW($A7),Edit!$E$2:$E$371,0)),\"\")","v":""},{"$f":"IFERROR(INDEX(Edit!$C$2:$C$371,MATCH(ROW($A7),Edit!$E$2:$E$371,0)),0)","v":"1904-01-01"},{"$f":"IFERROR(INDEX(Edit!$C$2:$C$371,MATCH(ROW($A7),Edit!$F$2:$F$371,0)+1),0)","v":"1904-01-01"},0]
[{"$f":"IFERROR(INDEX(Edit!$D$2:$D$371,MATCH(ROW($A8),Edit!$E$2:$E$371,0)),\"\")","v":""},{"$f":"IFERROR(INDEX(Edit!$C$2:$C$371,MATCH(ROW($A8),Edit!$E$2:$E$371,0)),0)","v":"1904-01-01"},{"$f":"IFERROR(INDEX(Edit!$C$2:$C$371,MATCH(ROW($A8),Edit!$F$2:$F$371,0)+1),0)","v":"1904-01-01"},0]
[{"$f":"IFERROR(INDEX(Edit!$D$2:$D$371,MATCH(ROW($A9),Edit!$E$2:$E$371,0)),\"\")","v":""},{"$f":"IFERROR(INDEX(Edit!$C$2:$C$371,MATCH(ROW($A9),Edit!$E$2:$E$371,0)),0)","v":"1904-01-01"},{"$f":"IFERROR(INDEX(Edit!$C$2:$C$371,MATCH(ROW($A9),Edit!$F$2:$F$371,0)+1),0)","v":"1904-01-01"},0]
[{"$f":"IFERROR(INDEX(Edit!$D$2:$D$371,MATCH(ROW($A10),Edit!$E$2:$E$371,0)),\"\")","v":""},{"$f":"IFERROR(INDEX(Edit!$C$2:$C$371,MATCH(ROW($A10),Edit!$E$2:$E$371,0)),0)","v":"1904-01-01"},{"$f":"IFERROR(INDEX(Edit!$C$2:$C$371,MATCH(ROW($A10),Edit!$F$2:$F$371,0)+1),0)","v":"1904-01-01"},0]
[{"$f":"IFERROR(INDEX(Edit!$D$2:$D$371,MATCH(ROW($A11),Edit!$E$2:$E$371,0)),\"\")","v":""},{"$f":"IFERROR(INDEX(Edit!$C$2:$C$371,MATCH(ROW($A11),Edit!$E$2:$E$371,0)),0)","v":"1904-01-01"},{"$f":"IFERROR(INDEX(Edit!$C$2:$C$371,MATCH(ROW($A11),Edit!$F$2:$F$371,0)+1),0)","v":"1904-01-01"},0]
[{"$f":"IFERROR(INDEX(Edit!$D$2:$D$371,MATCH(ROW($A12),Edit!$E$2:$E$371,0)),\"\")","v":""},{"$f":"IFERROR(INDEX(Edit!$C$2:$C$371,MATCH(ROW($A12),Edit!$E$2:$E$371,0)),0)","v":"1904-01-01"},{"$f":"IFERROR(INDEX(Edit!$C$2:$C$371,MATCH(ROW($A12),Edit!$F$2:$F$371,0)+1),0)","v":"1904-01-01"},0]
[{"$f":"IFERROR(INDEX(Edit!$D$2:$D$371,MATCH(ROW($A13),Edit!$E$2:$E$371,0)),\"\")","v":""},{"$f":"IFERROR(INDEX(Edit!$C$2:$C$371,MATCH(ROW($A13),Edit!$E$2:$E$371,0)),0)","v":"1904-01-01"},{"$f":"IFERROR(INDEX(Edit!$C$2:$C$371,MATCH(ROW($A13),Edit!$F$2:$F$371,0)+1),0)","v":"1904-01-01"},0]
[{"$f":"IFERROR(INDEX(Edit!$D$2:$D$371,MATCH(ROW($A14),Edit!$E$2:$E$371,0)),\"\")","v":""},{"$f":"IFERROR(INDEX(Edit!$C$2:$C$371,MATCH(ROW($A14),Edit!$E$2:$E$371,0)),0)","v":"1904-01-01"},{"$f":"IFERROR(INDEX(Edit!$C$2:$C$371,MATCH(ROW($A14),Edit!$F$2:$F$371,0)+1),0)","v":"1904-01-01"},0]
[{"$f":"IFERROR(INDEX(Edit!$D$2:$D$371,MATCH(ROW($A15),Edit!$E$2:$E$371,0)),\"\")","v":""},{"$f":"IFERROR(INDEX(Edit!$C$2:$C$371,MATCH(ROW($A15),Edit!$E$2:$E$371,0)),0)","v":"1904-01-01"},{"$f":"IFERROR(INDEX(Edit!$C$2:$C$371,MATCH(ROW($A15),Edit!$F$2:$F$371,0)+1),0)","v":"1904-01-01"},0]
[{"$f":"IFERROR(INDEX(Edit!$D$2:$D$371,MATCH(ROW($A16),Edit!$E$2:$E$371,0)),\"\")","v":""},{"$f":"IFERROR(INDEX(Edit!$C$2:$C$371,MATCH(ROW($A16),Edit!$E$2:$E$371,0)),0)","v":"1904-01-01"},{"$f":"IFERROR(INDEX(Edit!$C$2:$C$371,MATCH(ROW($A16),Edit!$F$2:$F$371,0)+1),0)","v":"1904-01-01"},0]
[{"$f":"IFERROR(INDEX(Edit!$D$2:$D$371,MATCH(ROW($A17),Edit!$E$2:$E$371,0)),\"\")","v":""},{"$f":"IFERROR(INDEX(Edit!$C$2:$C$371,MATCH(ROW($A17),Edit!$E$2:$E$371,0)),0)","v":"1904-01-01"},{"$f":"IFERROR(INDEX(Edit!$C$2:$C$371,MATCH(ROW($A17),Edit!$F$2:$F$371,0)+1),0)","v":"1904-01-01"},0]
[{"$f":"IFERROR(INDEX(Edit!$D$2:$D$371,MATCH(ROW($A18),Edit!$E$2:$E$371,0)),\"\")","v":""},{"$f":"IFERROR(INDEX(Edit!$C$2:$C$371,MATCH(ROW($A18),Edit!$E$2:$E$371,0)),0)","v":"1904-01-01"},{"$f":"IFERROR(INDEX(Edit!$C$2:$C$371,MATCH(ROW($A18),Edit!$F$2:$F$371,0)+1),0)","v":"1904-01-01"},0]
[{"$f":"IFERROR(INDEX(Edit!$D$2:$D$371,MATCH(ROW($A19),Edit!$E$2:$E$371,0)),\"\")","v":""},{"$f":"IFERROR(INDEX(Edit!$C$2:$C$371,MATCH(ROW($A19),Edit!$E$2:$E$371,0)),0)","v":"1904-01-01"},{"$f":"IFERROR(INDEX(Edit!$C$2:$C$371,MATCH(ROW($A19),Edit!$F$2:$F$371,0)+1),0)","v":"1904-01-01"},0]
[{"$f":"IFERROR(INDEX(Edit!$D$2:$D$371,MATCH(ROW($A20),Edit!$E$2:$E$371,0)),\"\")","v":""},{"$f":"IFERROR(INDEX(Edit!$C$2:$C$371,MATCH(ROW($A20),Edit!$E$2:$E$371,0)),0)","v":"1904-01-01"},{"$f":"IFERROR(INDEX(Edit!$C$2:$C$371,MATCH(ROW($A20),Edit!$F$2:$F$371,0)+1),0)","v":"1904-01-01"},0]
[{"$f":"IFERROR(INDEX(Edit!$D$2:$D$371,MATCH(ROW($A21),Edit!$E$2:$E$371,0)),\"\")","v":""},{"$f":"IFERROR(INDEX(Edit!$C$2:$C$371,MATCH(ROW($A21),Edit!$E$2:$E$371,0)),0)","v":"1904-01-01"},{"$f":"IFERROR(INDEX(Edit!$C$2:$C$371,MATCH(ROW($A21),Edit!$F$2:$F$371,0)+1),0)","v":"1904-01-01"},0]
[{"$f":"IFERROR(INDEX(Edit!$D$2:$D$371,MATCH(ROW($A22),Edit!$E$2:$E$371,0)),\"\")","v":""},{"$f":"IFERROR(INDEX(Edit!$C$2:$C$371,MATCH(ROW($A22),Edit!$E$2:$E$371,0)),0)","v":"1904-01-01"},{"$f":"IFERROR(INDEX(Edit!$C$2:$C$371,MATCH(ROW($A22),Edit!$F$2:$F$371,0)+1),0)","v":"1904-01-01"},0]
[{"$f":"IFERROR(INDEX(Edit!$D$2:$D$371,MATCH(ROW($A23),Edit!$E$2:$E$371,0)),\"\")","v":""},{"$f":"IFERROR(INDEX(Edit!$C$2:$C$371,MATCH(ROW($A23),Edit!$E$2:$E$371,0)),0)","v":"1904-01-01"},{"$f":"IFERROR(INDEX(Edit!$C$2:$C$371,MATCH(ROW($A23),Edit!$F$2:$F$371,0)+1),0)","v":"1904-01-01"},0]
[{"$f":"IFERROR(INDEX(Edit!$D$2:$D$371,MATCH(ROW($A24),Edit!$E$2:$E$371,0)),\"\")","v":""},{"$f":"IFERROR(INDEX(Edit!$C$2:$C$371,MATCH(ROW($A24),Edit!$E$2:$E$371,0)),0)","v":"1904-01-01"},{"$f":"IFERROR(INDEX(Edit!$C$2:$C$371,MATCH(ROW($A24),Edit!$F$2:$F$371,0)+1),0)","v":"1904-01-01"},0]
[{"$f":"IFERROR(INDEX(Edit!$D$2:$D$371,MATCH(ROW($A25),Edit!$E$2:$E$371,0)),\"\")","v":""},{"$f":"IFERROR(INDEX(Edit!$C$2:$C$371,MATCH(ROW($A25),Edit!$E$2:$E$371,0)),0)","v":"1904-01-01"},{"$f":"IFERROR(INDEX(Edit!$C$2:$C$371,MATCH(ROW($A25),Edit!$F$2:$F$371,0)+1),0)","v":"1904-01-01"},0]
[{"$f":"IFERROR(INDEX(Edit!$D$2:$D$371,MATCH(ROW($A26),Edit!$E$2:$E$371,0)),\"\")","v":""},{"$f":"IFERROR(INDEX(Edit!$C$2:$C$371,MATCH(ROW($A26),Edit!$E$2:$E$371,0)),0)","v":"1904-01-01"},{"$f":"IFERROR(INDEX(Edit!$C$2:$C$371,MATCH(ROW($A26),Edit!$F$2:$F$371,0)+1),0)","v":"1904-01-01"},0]
[{"$f":"IFERROR(INDEX(Edit!$D$2:$D$371,MATCH(ROW($A27),Edit!$E$2:$E$371,0)),\"\")","v":""},{"$f":"IFERROR(INDEX(Edit!$C$2:$C$371,MATCH(ROW($A27),Edit!$E$2:$E$371,0)),0)","v":"1904-01-01"},{"$f":"IFERROR(INDEX(Edit!$C$2:$C$371,MATCH(ROW($A27),Edit!$F$2:$F$371,0)+1),0)","v":"1904-01-01"},0]
[{"$f":"IFERROR(INDEX(Edit!$D$2:$D$371,MATCH(ROW($A28),Edit!$E$2:$E$371,0)),\"\")","v":""},{"$f":"IFERROR(INDEX(Edit!$C$2:$C$371,MATCH(ROW($A28),Edit!$E$2:$E$371,0)),0)","v":"1904-01-01"},{"$f":"IFERROR(INDEX(Edit!$C$2:$C$371,MATCH(ROW($A28),Edit!$F$2:$F$371,0)+1),0)","v":"1904-01-01"},0]
[{"$f":"IFERROR(INDEX(Edit!$D$2:$D$371,MATCH(ROW($A29),Edit!$E$2:$E$371,0)),\"\")","v":""},{"$f":"IFERROR(INDEX(Edit!$C$2:$C$371,MATCH(ROW($A29),Edit!$E$2:$E$371,0)),0)","v":"1904-01-01"},{"$f":"IFERROR(INDEX(Edit!$C$2:$C$371,MATCH(ROW($A29),Edit!$F$2:$F$371,0)+1),0)","v":"1904-01-01"},0]
[{"$f":"IFERROR(INDEX(Edit!$D$2:$D$371,MATCH(ROW($A30),Edit!$E$2:$E$371,0)),\"\")","v":""},{"$f":"IFERROR(INDEX(Edit!$C$2:$C$371,MATCH(ROW($A30),Edit!$E$2:$E$371,0)),0)","v":"1904-01-01"},{"$f":"IFERROR(INDEX(Edit!$C$2:$C$371,MATCH(ROW($A30),Edit!$F$2:$F$371,0)+1),0)","v":"1904-01-01"},0]
[{"$f":"IFERROR(INDEX(Edit!$D$2:$D$371,MATCH(ROW($A31),Edit!$E$2:$E$371,0)),\"\")","v":""},{"$f":"IFERROR(INDEX(Edit!$C$2:$C$371,MATCH(ROW($A31),Edit!$E$2:$E$371,0)),0)","v":"1904-01-01"},{"$f":"IFERROR(INDEX(Edit!$C$2:$C$371,MATCH(ROW($A31),Edit!$F$2:$F$371,0)+1),0)","v":"1904-01-01"},0]

{"sheet":"Fonctionnement","index":4,"n_rows":3,"n_cols":1,"rows_kept":3,"cut":false,"hidden":false,"merged":[]}
[]
["1- Remplir la feuille de temps en arrondissant toujours aux 15 minutes"]
["2- Aller la la feuille \"Envoyer la feuille de temps\" et cliquer sur le bouton \"Envoyer par courriel\" pour envoyer la feuille par courriel à Michèle"]

{"sheet":"Envoyer la feuille de temps","index":5,"n_rows":0,"n_cols":0,"rows_kept":0,"cut":false,"hidden":false,"merged":[]}

{"sheet":"Edit","index":6,"n_rows":371,"n_cols":13,"rows_kept":371,"cut":false,"hidden":false,"merged":[]}
["feuille","ligne","date","congés","affect début","affect retour","heures ",null,"calculs jours fériés"]
["Janvier - 2prem. semaines",16,{"$f":"INDIRECT(ADDRESS($B2,1,,,$A2))","v":"2018-12-31"},{"$f":"INDIRECT(ADDRESS($B2,9,,,$A2))","v":0},{"$f":"IF(OR(D2=0,D2=D1),\"\",IF(OR(D2<>\"\",D2<>D3),MAX($E$1:E1)+1,0))","v":""},{"$f":"IF(AND(D2<>0,D2<>D3),MAX($F$1:F1)+1,\"\")","v":""},{"$f":"INDIRECT(ADDRESS($B2,8,,,$A2))","v":"00:00:00"},null,"jour fériés","date début calcul","cumul effectué","quotient","affectation"]
["Janvier - 2prem. semaines",17,{"$f":"INDIRECT(ADDRESS(B3,1,,,A3))","v":"2019-01-01"},{"$f":"INDIRECT(ADDRESS($B3,9,,,$A3))","v":0},{"$f":"IF(OR(D3=0,D3=D2),\"\",IF(OR(D3<>\"\",D3<>D4),MAX($E$1:E2)+1,0))","v":""},{"$f":"IF(AND(D3<>0,D3<>D4),MAX($F$1:F2)+1,\"\")","v":""},{"$f":"INDIRECT(ADDRESS($B3,8,,,$A3))","v":"00:00:00"},null,{"$f":"'Janvier - 2prem. semaines'!AF12","v":"2019-01-01"},{"$f":"WORKDAY(I3,-20,$I$3:$I$14)","v":"2018-12-04"},{"$f":"SUMIFS($G$2:$G$370,$C$2:$C$370,\"<=\"&$I3,$C$2:$C$370,\">=\"&$J3)","v":"00:00:00"},{"$f":"K3/20","v":"00:00:00"},{"$f":"MIN(8/24,L3)","v":"00:00:00"}]
["Janvier - 2prem. semaines",18,"2019-01-02",0,{"$f":"IF(OR(D4=0,D4=D3),\"\",IF(OR(D4<>\"\",D4<>D5),MAX($E$1:E3)+1,0))","v":""},{"$f":"IF(AND(D4<>0,D4<>D5),MAX($F$1:F3)+1,\"\")","v":""},{"$f":"INDIRECT(ADDRESS($B4,8,,,$A4))","v":"00:00:00"},null,{"$f":"'Janvier - 2prem. semaines'!AF14","v":"2019-04-19"},{"$f":"WORKDAY(I4,-20,$I$3:$I$14)","v":"2019-03-22"},{"$f":"SUMIFS($G$2:$G$370,$C$2:$C$370,\"<=\"&$I4,$C$2:$C$370,\">=\"&$J4)","v":6.5789473684210522},{"$f":"K4/20","v":"07:53:41.053"},{"$f":"MIN(8/24,L4)","v":"07:53:41.053"}]
["Janvier - 2prem. semaines",19,"2019-01-03",0,{"$f":"IF(OR(D5=0,D5=D4),\"\",IF(OR(D5<>\"\",D5<>D6),MAX($E$1:E4)+1,0))","v":""},{"$f":"IF(AND(D5<>0,D5<>D6),MAX($F$1:F4)+1,\"\")","v":""},"00:00:00"]
["Janvier - 2prem. semaines",20,"2019-01-04",0,{"$f":"IF(OR(D6=0,D6=D5),\"\",IF(OR(D6<>\"\",D6<>D7),MAX($E$1:E5)+1,0))","v":""},{"$f":"IF(AND(D6<>0,D6<>D7),MAX($F$1:F5)+1,\"\")","v":""},"00:00:00",null,{"$f":"'Janvier - 2prem. semaines'!AF17","v":"2019-05-20"},"2019-04-22",{"$f":"SUMIFS($G$2:$G$370,$C$2:$C$370,\"<=\"&$I6,$C$2:$C$370,\">=\"&$J6)","v":"00:00:00"},"00:00:00","00:00:00"]
["Janvier - 2prem. semaines",21,"2019-01-05",0,{"$f":"IF(OR(D7=0,D7=D6),\"\",IF(OR(D7<>\"\",D7<>D8),MAX($E$1:E6)+1,0))","v":""},{"$f":"IF(AND(D7<>0,D7<>D8),MAX($F$1:F6)+1,\"\")","v":""},"00:00:00",null,{"$f":"'Janvier - 2prem. semaines'!AF18","v":"2019-06-24"},"2019-05-27","00:00:00","00:00:00","00:00:00"]
["Janvier - 2prem. semaines",22,"2019-01-06",0,{"$f":"IF(OR(D8=0,D8=D7),\"\",IF(OR(D8<>\"\",D8<>D9),MAX($E$1:E7)+1,0))","v":""},{"$f":"IF(AND(D8<>0,D8<>D9),MAX($F$1:F7)+1,\"\")","v":""},"00:00:00",null,{"$f":"'Janvier - 2prem. semaines'!AF20","v":"2019-07-01"},"2019-05-31","00:00:00","00:00:00","00:00:00"]
["Janvier - 2prem. semaines",29,"Horaire Semaine 2",0,{"$f":"IF(OR(D9=0,D9=D8),\"\",IF(OR(D9<>\"\",D9<>D10),MAX($E$1:E8)+1,0))","v":""},{"$f":"IF(AND(D9<>0,D9<>D10),MAX($F$1:F8)+1,\"\")","v":""},"00:00:00",null,{"$f":"'Janvier - 2prem. semaines'!AF22","v":"2019-09-01"},"2019-08-05","00:00:00","00:00:00","00:00:00"]
["Janvier - 2prem. semaines",30,"2019-01-07",0,{"$f":"IF(OR(D10=0,D10=D9),\"\",IF(OR(D10<>\"\",D10<>D11),MAX($E$1:E9)+1,0))","v":""},{"$f":"IF(AND(D10<>0,D10<>D11),MAX($F$1:F9)+1,\"\")","v":""},"04:00:00",null,{"$f":"'Janvier - 2prem. semaines'!AF24","v":"2019-10-01"},"2019-09-03","00:00:00","00:00:00","00:00:00"]
["Janvier - 2prem. semaines",31,"2019-01-08",0,{"$f":"IF(OR(D11=0,D11=D10),\"\",IF(OR(D11<>\"\",D11<>D12),MAX($E$1:E10)+1,0))","v":""},{"$f":"IF(AND(D11<>0,D11<>D12),MAX($F$1:F10)+1,\"\")","v":""},"03:00:00",null,{"$f":"'Janvier - 2prem. semaines'!AF28","v":"2019-12-25"},"2019-11-27","00:00:00","00:00:00","00:00:00"]
["Janvier - 2prem. semaines",32,"2019-01-09",0,{"$f":"IF(OR(D12=0,D12=D11),\"\",IF(OR(D12<>\"\",D12<>D13),MAX($E$1:E11)+1,0))","v":""},{"$f":"IF(AND(D12<>0,D12<>D13),MAX($F$1:F11)+1,\"\")","v":""},"01:30:00"]
["Janvier - 2prem. semaines",33,"2019-01-10",0,{"$f":"IF(OR(D13=0,D13=D12),\"\",IF(OR(D13<>\"\",D13<>D14),MAX($E$1:E12)+1,0))","v":""},{"$f":"IF(AND(D13<>0,D13<>D14),MAX($F$1:F12)+1,\"\")","v":""},{"$f":"INDIRECT(ADDRESS($B13,8,,,$A13))","v":"00:00:00"}]
["Janvier - 2prem. semaines",34,"2019-01-11",0,{"$f":"IF(OR(D14=0,D14=D13),\"\",IF(OR(D14<>\"\",D14<>D15),MAX($E$1:E13)+1,0))","v":""},{"$f":"IF(AND(D14<>0,D14<>D15),MAX($F$1:F13)+1,\"\")","v":""},"00:00:00"]
["Janvier - 2prem. semaines",35,"2019-01-12",0,{"$f":"IF(OR(D15=0,D15=D14),\"\",IF(OR(D15<>\"\",D15<>D16),MAX($E$1:E14)+1,0))","v":""},{"$f":"IF(AND(D15<>0,D15<>D16),MAX($F$1:F14)+1,\"\")","v":""},"00:00:00"]
["Janvier - 2dern. semaines",16,"2019-01-14",0,{"$f":"IF(OR(D16=0,D16=D15),\"\",IF(OR(D16<>\"\",D16<>D17),MAX($E$1:E15)+1,0))","v":""},{"$f":"IF(AND(D16<>0,D16<>D17),MAX($F$1:F15)+1,\"\")","v":""},"00:00:00"]
["Janvier - 2dern. semaines",17,"2019-01-15",{"$f":"INDIRECT(ADDRESS($B17,9,,,$A17))","v":0},{"$f":"IF(OR(D17=0,D17=D16),\"\",IF(OR(D17<>\"\",D17<>D18),MAX($E$1:E16)+1,0))","v":""},{"$f":"IF(AND(D17<>0,D17<>D18),MAX($F$1:F16)+1,\"\")","v":""},"00:00:00"]
["Janvier - 2dern. semaines",18,"2019-01-16",0,{"$f":"IF(OR(D18=0,D18=D17),\"\",IF(OR(D18<>\"\",D18<>D19),MAX($E$1:E17)+1,0))","v":""},{"$f":"IF(AND(D18<>0,D18<>D19),MAX($F$1:F17)+1,\"\")","v":""},"00:00:00"]
["Janvier - 2dern. semaines",19,"2019-01-17",0,{"$f":"IF(OR(D19=0,D19=D18),\"\",IF(OR(D19<>\"\",D19<>D20),MAX($E$1:E18)+1,0))","v":""},{"$f":"IF(AND(D19<>0,D19<>D20),MAX($F$1:F18)+1,\"\")","v":""},"00:00:00"]
["Janvier - 2dern. semaines",20,"2019-01-18",0,{"$f":"IF(OR(D20=0,D20=D19),\"\",IF(OR(D20<>\"\",D20<>D21),MAX($E$1:E19)+1,0))","v":""},{"$f":"IF(AND(D20<>0,D20<>D21),MAX($F$1:F19)+1,\"\")","v":""},"00:00:00"]
["Janvier - 2dern. semaines",21,"2019-01-19",0,{"$f":"IF(OR(D21=0,D21=D20),\"\",IF(OR(D21<>\"\",D21<>D22),MAX($E$1:E20)+1,0))","v":""},{"$f":"IF(AND(D21<>0,D21<>D22),MAX($F$1:F20)+1,\"\")","v":""},"00:00:00"]
["Janvier - 2dern. semaines",22,"2019-01-20",0,{"$f":"IF(OR(D22=0,D22=D21),\"\",IF(OR(D22<>\"\",D22<>D23),MAX($E$1:E21)+1,0))","v":""},{"$f":"IF(AND(D22<>0,D22<>D23),MAX($F$1:F21)+1,\"\")","v":""},"00:00:00"]
["Janvier - 2dern. semaines",29,"2019-01-21",0,{"$f":"IF(OR(D23=0,D23=D22),\"\",IF(OR(D23<>\"\",D23<>D24),MAX($E$1:E22)+1,0))","v":""},{"$f":"IF(AND(D23<>0,D23<>D24),MAX($F$1:F22)+1,\"\")","v":""},"07:30:00"]
["Janvier - 2dern. semaines",30,"2019-01-22",0,{"$f":"IF(OR(D24=0,D24=D23),\"\",IF(OR(D24<>\"\",D24<>D25),MAX($E$1:E23)+1,0))","v":""},{"$f":"IF(AND(D24<>0,D24<>D25),MAX($F$1:F23)+1,\"\")","v":""},"09:30:00"]
["Janvier - 2dern. semaines",31,"2019-01-23",0,{"$f":"IF(OR(D25=0,D25=D24),\"\",IF(OR(D25<>\"\",D25<>D26),MAX($E$1:E24)+1,0))","v":""},{"$f":"IF(AND(D25<>0,D25<>D26),MAX($F$1:F24)+1,\"\")","v":""},"07:30:00"]
["Janvier - 2dern. semaines",32,"2019-01-24",0,{"$f":"IF(OR(D26=0,D26=D25),\"\",IF(OR(D26<>\"\",D26<>D27),MAX($E$1:E25)+1,0))","v":""},{"$f":"IF(AND(D26<>0,D26<>D27),MAX($F$1:F25)+1,\"\")","v":""},"03:00:00"]
["Janvier - 2dern. semaines",33,"2019-01-25",0,{"$f":"IF(OR(D27=0,D27=D26),\"\",IF(OR(D27<>\"\",D27<>D28),MAX($E$1:E26)+1,0))","v":""},{"$f":"IF(AND(D27<>0,D27<>D28),MAX($F$1:F26)+1,\"\")","v":""},"07:00:00",null,{"$f":"$I3","v":"2019-01-01"},{"$f":"$J3","v":"2018-12-04"},{"$f":"$K3","v":"00:00:00"},{"$f":"$L3","v":"00:00:00"},{"$f":"$M3","v":"00:00:00"}]
["Janvier - 2dern. semaines",34,"2019-01-26",0,{"$f":"IF(OR(D28=0,D28=D27),\"\",IF(OR(D28<>\"\",D28<>D29),MAX($E$1:E27)+1,0))","v":""},{"$f":"IF(AND(D28<>0,D28<>D29),MAX($F$1:F27)+1,\"\")","v":""},{"$f":"INDIRECT(ADDRESS($B28,8,,,$A28))","v":"00:00:00"},null,{"$f":"$I4","v":"2019-04-19"},{"$f":"$J4","v":"2019-03-22"},{"$f":"$K4","v":6.5789473684210522},{"$f":"$L4","v":"07:53:41.053"},{"$f":"$M4","v":"07:53:41.053"}]
["Janvier - 2dern. semaines",35,"2019-01-27",0,{"$f":"IF(OR(D29=0,D29=D28),\"\",IF(OR(D29<>\"\",D29<>D30),MAX($E$1:E28)+1,0))","v":""},{"$f":"IF(AND(D29<>0,D29<>D30),MAX($F$1:F28)+1,\"\")","v":""},"03:00:00"]
["Fin Jan.-Février - 2prem. sem.",16,"2019-01-28",0,{"$f":"IF(OR(D30=0,D30=D29),\"\",IF(OR(D30<>\"\",D30<>D31),MAX($E$1:E29)+1,0))","v":""},{"$f":"IF(AND(D30<>0,D30<>D31),MAX($F$1:F29)+1,\"\")","v":""},"10:30:00",null,"2019-05-20","2019-04-22","00:00:00","00:00:00","00:00:00"]
["Fin Jan.-Février - 2prem. sem.",17,"2019-01-29",0,{"$f":"IF(OR(D31=0,D31=D30),\"\",IF(OR(D31<>\"\",D31<>D32),MAX($E$1:E30)+1,0))","v":""},{"$f":"IF(AND(D31<>0,D31<>D32),MAX($F$1:F30)+1,\"\")","v":""},"11:30:00",null,"2019-06-24","2019-05-27","00:00:00","00:00:00","00:00:00"]
["Fin Jan.-Février - 2prem. sem.",18,"2019-01-30",0,{"$f":"IF(OR(D32=0,D32=D31),\"\",IF(OR(D32<>\"\",D32<>D33),MAX($E$1:E31)+1,0))","v":""},{"$f":"IF(AND(D32<>0,D32<>D33),MAX($F$1:F31)+1,\"\")","v":""},"07:00:00",null,"2019-07-01","2019-05-31","00:00:00","00:00:00","00:00:00"]
["Fin Jan.-Février - 2prem. sem.",19,"2019-01-31",0,{"$f":"IF(OR(D33=0,D33=D32),\"\",IF(OR(D33<>\"\",D33<>D34),MAX($E$1:E32)+1,0))","v":""},{"$f":"IF(AND(D33<>0,D33<>D34),MAX($F$1:F32)+1,\"\")","v":""},"10:30:00",null,"2019-09-01","2019-08-05","00:00:00","00:00:00","00:00:00"]
["Fin Jan.-Février - 2prem. sem.",20,"2019-02-01",0,{"$f":"IF(OR(D34=0,D34=D33),\"\",IF(OR(D34<>\"\",D34<>D35),MAX($E$1:E33)+1,0))","v":""},{"$f":"IF(AND(D34<>0,D34<>D35),MAX($F$1:F33)+1,\"\")","v":""},"05:00:00",null,"2019-10-01","2019-09-03","00:00:00","00:00:00","00:00:00"]
["Fin Jan.-Février - 2prem. sem.",21,"2019-02-02",0,{"$f":"IF(OR(D35=0,D35=D34),\"\",IF(OR(D35<>\"\",D35<>D36),MAX($E$1:E34)+1,0))","v":""},{"$f":"IF(AND(D35<>0,D35<>D36),MAX($F$1:F34)+1,\"\")","v":""},"00:00:00",null,"2019-12-25","2019-11-27","00:00:00","00:00:00","00:00:00"]
["Fin Jan.-Février - 2prem. sem.",22,"2019-02-03",0,{"$f":"IF(OR(D36=0,D36=D35),\"\",IF(OR(D36<>\"\",D36<>D37),MAX($E$1:E35)+1,0))","v":""},{"$f":"IF(AND(D36<>0,D36<>D37),MAX($F$1:F35)+1,\"\")","v":""},"02:00:00"]
["Fin Jan.-Février - 2prem. sem.",23,"1904-01-01",0,{"$f":"IF(OR(D37=0,D37=D36),\"\",IF(OR(D37<>\"\",D37<>D38),MAX($E$1:E36)+1,0))","v":""},{"$f":"IF(AND(D37<>0,D37<>D38),MAX($F$1:F36)+1,\"\")","v":""},1.9375]
["Fin Jan.-Février - 2prem. sem.",24,"1904-01-01",0,{"$f":"IF(OR(D38=0,D38=D37),\"\",IF(OR(D38<>\"\",D38<>D39),MAX($E$1:E37)+1,0))","v":""},{"$f":"IF(AND(D38<>0,D38<>D39),MAX($F$1:F37)+1,\"\")","v":""},"00:00:00"]
["Fin Jan.-Février - 2prem. sem.",25,"1904-01-01",0,{"$f":"IF(OR(D39=0,D39=D38),\"\",IF(OR(D39<>\"\",D39<>D40),MAX($E$1:E38)+1,0))","v":""},{"$f":"IF(AND(D39<>0,D39<>D40),MAX($F$1:F38)+1,\"\")","v":""},"00:00:00"]
["Fin Jan.-Février - 2prem. sem.",26,"1904-01-01",0,{"$f":"IF(OR(D40=0,D40=D39),\"\",IF(OR(D40<>\"\",D40<>D41),MAX($E$1:E39)+1,0))","v":""},{"$f":"IF(AND(D40<>0,D40<>D41),MAX($F$1:F39)+1,\"\")","v":""},"0"]
["Fin Jan.-Février - 2prem. sem.",27,"1904-01-01",0,{"$f":"IF(OR(D41=0,D41=D40),\"\",IF(OR(D41<>\"\",D41<>D42),MAX($E$1:E40)+1,0))","v":""},{"$f":"IF(AND(D41<>0,D41<>D42),MAX($F$1:F40)+1,\"\")","v":""},"00:00:00"]
["Fin Jan.-Février - 2prem. sem.",29,"2019-02-04",0,{"$f":"IF(OR(D42=0,D42=D41),\"\",IF(OR(D42<>\"\",D42<>D43),MAX($E$1:E41)+1,0))","v":""},{"$f":"IF(AND(D42<>0,D42<>D43),MAX($F$1:F41)+1,\"\")","v":""},"07:00:00"]
["Fin Jan.-Février - 2prem. sem.",30,"2019-02-05",0,{"$f":"IF(OR(D43=0,D43=D42),\"\",IF(OR(D43<>\"\",D43<>D44),MAX($E$1:E42)+1,0))","v":""},{"$f":"IF(AND(D43<>0,D43<>D44),MAX($F$1:F42)+1,\"\")","v":""},"11:00:00"]
["Fin Jan.-Février - 2prem. sem.",31,{"$f":"INDIRECT(ADDRESS(B44,1,,,A44))","v":"2019-02-06"},0,{"$f":"IF(OR(D44=0,D44=D43),\"\",IF(OR(D44<>\"\",D44<>D45),MAX($E$1:E43)+1,0))","v":""},{"$f":"IF(AND(D44<>0,D44<>D45),MAX($F$1:F43)+1,\"\")","v":""},"08:00:00"]
["Fin Jan.-Février - 2prem. sem.",32,"2019-02-07",0,{"$f":"IF(OR(D45=0,D45=D44),\"\",IF(OR(D45<>\"\",D45<>D46),MAX($E$1:E44)+1,0))","v":""},{"$f":"IF(AND(D45<>0,D45<>D46),MAX($F$1:F44)+1,\"\")","v":""},"10:00:00"]
["Fin Jan.-Février - 2prem. sem.",33,"2019-02-08",0,{"$f":"IF(OR(D46=0,D46=D45),\"\",IF(OR(D46<>\"\",D46<>D47),MAX($E$1:E45)+1,0))","v":""},{"$f":"IF(AND(D46<>0,D46<>D47),MAX($F$1:F45)+1,\"\")","v":""},"07:00:00"]
["Fin Jan.-Février - 2prem. sem.",34,"2019-02-09",0,{"$f":"IF(OR(D47=0,D47=D46),\"\",IF(OR(D47<>\"\",D47<>D48),MAX($E$1:E46)+1,0))","v":""},{"$f":"IF(AND(D47<>0,D47<>D48),MAX($F$1:F46)+1,\"\")","v":""},"00:00:00"]
["Fin Jan.-Février - 2prem. sem.",35,"2019-02-10",0,{"$f":"IF(OR(D48=0,D48=D47),\"\",IF(OR(D48<>\"\",D48<>D49),MAX($E$1:E47)+1,0))","v":""},{"$f":"IF(AND(D48<>0,D48<>D49),MAX($F$1:F47)+1,\"\")","v":""},"00:00:00"]
["Février - 2e-3e semaine",16,"2019-02-11",0,{"$f":"IF(OR(D49=0,D49=D48),\"\",IF(OR(D49<>\"\",D49<>D50),MAX($E$1:E48)+1,0))","v":""},{"$f":"IF(AND(D49<>0,D49<>D50),MAX($F$1:F48)+1,\"\")","v":""},"08:30:00"]
["Février - 2e-3e semaine",17,"2019-02-12",0,{"$f":"IF(OR(D50=0,D50=D49),\"\",IF(OR(D50<>\"\",D50<>D51),MAX($E$1:E49)+1,0))","v":""},{"$f":"IF(AND(D50<>0,D50<>D51),MAX($F$1:F49)+1,\"\")","v":""},"08:00:00"]
["Février - 2e-3e semaine",18,"2019-02-13",0,{"$f":"IF(OR(D51=0,D51=D50),\"\",IF(OR(D51<>\"\",D51<>D52),MAX($E$1:E50)+1,0))","v":""},{"$f":"IF(AND(D51<>0,D51<>D52),MAX($F$1:F50)+1,\"\")","v":""},"00:00:00"]
["Février - 2e-3e semaine",19,"2019-02-14",0,{"$f":"IF(OR(D52=0,D52=D51),\"\",IF(OR(D52<>\"\",D52<>D53),MAX($E$1:E51)+1,0))","v":""},{"$f":"IF(AND(D52<>0,D52<>D53),MAX($F$1:F51)+1,\"\")","v":""},"10:30:00"]
["Février - 2e-3e semaine",20,"2019-02-15",0,{"$f":"IF(OR(D53=0,D53=D52),\"\",IF(OR(D53<>\"\",D53<>D54),MAX($E$1:E52)+1,0))","v":""},{"$f":"IF(AND(D53<>0,D53<>D54),MAX($F$1:F52)+1,\"\")","v":""},"00:00:00"]
["Février - 2e-3e semaine",21,"2019-02-16","CONGÉ",{"$f":"IF(OR(D54=0,D54=D53),\"\",IF(OR(D54<>\"\",D54<>D55),MAX($E$1:E53)+1,0))","v":1},{"$f":"IF(AND(D54<>0,D54<>D55),MAX($F$1:F53)+1,\"\")","v":1},"07:00:00"]
["Février - 2e-3e semaine",22,"2019-02-17",0,{"$f":"IF(OR(D55=0,D55=D54),\"\",IF(OR(D55<>\"\",D55<>D56),MAX($E$1:E54)+1,0))","v":""},{"$f":"IF(AND(D55<>0,D55<>D56),MAX($F$1:F54)+1,\"\")","v":""},"00:00:00"]
["Février - 2e-3e semaine",29,"2019-02-18",0,{"$f":"IF(OR(D56=0,D56=D55),\"\",IF(OR(D56<>\"\",D56<>D57),MAX($E$1:E55)+1,0))","v":""},{"$f":"IF(AND(D56<>0,D56<>D57),MAX($F$1:F55)+1,\"\")","v":""},"00:00:00"]
["Février - 2e-3e semaine",30,"2019-02-19",0,{"$f":"IF(OR(D57=0,D57=D56),\"\",IF(OR(D57<>\"\",D57<>D58),MAX($E$1:E56)+1,0))","v":""},{"$f":"IF(AND(D57<>0,D57<>D58),MAX($F$1:F56)+1,\"\")","v":""},"00:00:00"]
["Février - 2e-3e semaine",31,"2019-02-20",0,{"$f":"IF(OR(D58=0,D58=D57),\"\",IF(OR(D58<>\"\",D58<>D59),MAX($E$1:E57)+1,0))","v":""},{"$f":"IF(AND(D58<>0,D58<>D59),MAX($F$1:F57)+1,\"\")","v":""},"00:00:00"]
["Février - 2e-3e semaine",32,"2019-02-21",0,{"$f":"IF(OR(D59=0,D59=D58),\"\",IF(OR(D59<>\"\",D59<>D60),MAX($E$1:E58)+1,0))","v":""},{"$f":"IF(AND(D59<>0,D59<>D60),MAX($F$1:F58)+1,\"\")","v":""},"00:00:00"]
["Février - 2e-3e semaine",33,"2019-02-22",0,{"$f":"IF(OR(D60=0,D60=D59),\"\",IF(OR(D60<>\"\",D60<>D61),MAX($E$1:E59)+1,0))","v":""},{"$f":"IF(AND(D60<>0,D60<>D61),MAX($F$1:F59)+1,\"\")","v":""},"00:00:00"]
["Février - 2e-3e semaine",34,"2019-02-23",{"$f":"INDIRECT(ADDRESS($B61,9,,,$A61))","v":0},{"$f":"IF(OR(D61=0,D61=D60),\"\",IF(OR(D61<>\"\",D61<>D62),MAX($E$1:E60)+1,0))","v":""},{"$f":"IF(AND(D61<>0,D61<>D62),MAX($F$1:F60)+1,\"\")","v":""},"00:00:00"]
["Février - 2e-3e semaine",35,"2019-02-24",0,{"$f":"IF(OR(D62=0,D62=D61),\"\",IF(OR(D62<>\"\",D62<>D63),MAX($E$1:E61)+1,0))","v":""},{"$f":"IF(AND(D62<>0,D62<>D63),MAX($F$1:F61)+1,\"\")","v":""},"00:00:00"]
["Fin Fév.-Mars - 2prem. sem.",16,"2019-02-25",0,{"$f":"IF(OR(D63=0,D63=D62),\"\",IF(OR(D63<>\"\",D63<>D64),MAX($E$1:E62)+1,0))","v":""},{"$f":"IF(AND(D63<>0,D63<>D64),MAX($F$1:F62)+1,\"\")","v":""},"00:00:00"]
["Fin Fév.-Mars - 2prem. sem.",17,"2019-02-26",0,{"$f":"IF(OR(D64=0,D64=D63),\"\",IF(OR(D64<>\"\",D64<>D65),MAX($E$1:E63)+1,0))","v":""},{"$f":"IF(AND(D64<>0,D64<>D65),MAX($F$1:F63)+1,\"\")","v":""},"00:00:00"]
["Fin Fév.-Mars - 2prem. sem.",18,"2019-02-27",0,{"$f":"IF(OR(D65=0,D65=D64),\"\",IF(OR(D65<>\"\",D65<>D66),MAX($E$1:E64)+1,0))","v":""},{"$f":"IF(AND(D65<>0,D65<>D66),MAX($F$1:F64)+1,\"\")","v":""},"00:00:00"]
["Fin Fév.-Mars - 2prem. sem.",19,"2019-02-28",0,{"$f":"IF(OR(D66=0,D66=D65),\"\",IF(OR(D66<>\"\",D66<>D67),MAX($E$1:E65)+1,0))","v":""},{"$f":"IF(AND(D66<>0,D66<>D67),MAX($F$1:F65)+1,\"\")","v":""},"00:00:00"]
["Fin Fév.-Mars - 2prem. sem.",20,"2019-03-01",0,{"$f":"IF(OR(D67=0,D67=D66),\"\",IF(OR(D67<>\"\",D67<>D68),MAX($E$1:E66)+1,0))","v":""},{"$f":"IF(AND(D67<>0,D67<>D68),MAX($F$1:F66)+1,\"\")","v":""},{"$f":"INDIRECT(ADDRESS($B67,8,,,$A67))","v":"00:00:00"}]
["Fin Fév.-Mars - 2prem. sem.",21,"2019-03-02",0,{"$f":"IF(OR(D68=0,D68=D67),\"\",IF(OR(D68<>\"\",D68<>D69),MAX($E$1:E67)+1,0))","v":""},{"$f":"IF(AND(D68<>0,D68<>D69),MAX($F$1:F67)+1,\"\")","v":""},"00:00:00"]
["Fin Fév.-Mars - 2prem. sem.",22,"2019-03-03",0,{"$f":"IF(OR(D69=0,D69=D68),\"\",IF(OR(D69<>\"\",D69<>D70),MAX($E$1:E68)+1,0))","v":""},{"$f":"IF(AND(D69<>0,D69<>D70),MAX($F$1:F68)+1,\"\")","v":""},"00:00:00"]
["Fin Fév.-Mars - 2prem. sem.",29,"2019-03-04",0,{"$f":"IF(OR(D70=0,D70=D69),\"\",IF(OR(D70<>\"\",D70<>D71),MAX($E$1:E69)+1,0))","v":""},{"$f":"IF(AND(D70<>0,D70<>D71),MAX($F$1:F69)+1,\"\")","v":""},"00:00:00"]
["Fin Fév.-Mars - 2prem. sem.",30,"2019-03-05",0,{"$f":"IF(OR(D71=0,D71=D70),\"\",IF(OR(D71<>\"\",D71<>D72),MAX($E$1:E70)+1,0))","v":""},{"$f":"IF(AND(D71<>0,D71<>D72),MAX($F$1:F70)+1,\"\")","v":""},"00:00:00"]
["Fin Fév.-Mars - 2prem. sem.",31,"2019-03-06",0,{"$f":"IF(OR(D72=0,D72=D71),\"\",IF(OR(D72<>\"\",D72<>D73),MAX($E$1:E71)+1,0))","v":""},{"$f":"IF(AND(D72<>0,D72<>D73),MAX($F$1:F71)+1,\"\")","v":""},"00:00:00"]
["Fin Fév.-Mars - 2prem. sem.",32,"2019-03-07",0,{"$f":"IF(OR(D73=0,D73=D72),\"\",IF(OR(D73<>\"\",D73<>D74),MAX($E$1:E72)+1,0))","v":""},{"$f":"IF(AND(D73<>0,D73<>D74),MAX($F$1:F72)+1,\"\")","v":""},"00:00:00"]
["Fin Fév.-Mars - 2prem. sem.",33,"2019-03-08",0,{"$f":"IF(OR(D74=0,D74=D73),\"\",IF(OR(D74<>\"\",D74<>D75),MAX($E$1:E73)+1,0))","v":""},{"$f":"IF(AND(D74<>0,D74<>D75),MAX($F$1:F73)+1,\"\")","v":""},"00:00:00"]
["Fin Fév.-Mars - 2prem. sem.",34,"2019-03-09",0,{"$f":"IF(OR(D75=0,D75=D74),\"\",IF(OR(D75<>\"\",D75<>D76),MAX($E$1:E74)+1,0))","v":""},{"$f":"IF(AND(D75<>0,D75<>D76),MAX($F$1:F74)+1,\"\")","v":""},"00:00:00"]
["Fin Fév.-Mars - 2prem. sem.",35,"2019-03-10",0,{"$f":"IF(OR(D76=0,D76=D75),\"\",IF(OR(D76<>\"\",D76<>D77),MAX($E$1:E75)+1,0))","v":""},{"$f":"IF(AND(D76<>0,D76<>D77),MAX($F$1:F75)+1,\"\")","v":""},"00:00:00"]
["Mars - 3e-4e semaine",16,"2019-03-11",0,{"$f":"IF(OR(D77=0,D77=D76),\"\",IF(OR(D77<>\"\",D77<>D78),MAX($E$1:E76)+1,0))","v":""},{"$f":"IF(AND(D77<>0,D77<>D78),MAX($F$1:F76)+1,\"\")","v":""},"07:30:00"]
["Mars - 3e-4e semaine",17,"2019-03-12",0,{"$f":"IF(OR(D78=0,D78=D77),\"\",IF(OR(D78<>\"\",D78<>D79),MAX($E$1:E77)+1,0))","v":""},{"$f":"IF(AND(D78<>0,D78<>D79),MAX($F$1:F77)+1,\"\")","v":""},"09:30:00"]
["Mars - 3e-4e semaine",18,"2019-03-13",0,{"$f":"IF(OR(D79=0,D79=D78),\"\",IF(OR(D79<>\"\",D79<>D80),MAX($E$1:E78)+1,0))","v":""},{"$f":"IF(AND(D79<>0,D79<>D80),MAX($F$1:F78)+1,\"\")","v":""},"07:30:00"]
["Mars - 3e-4e semaine",19,"2019-03-14",0,{"$f":"IF(OR(D80=0,D80=D79),\"\",IF(OR(D80<>\"\",D80<>D81),MAX($E$1:E79)+1,0))","v":""},{"$f":"IF(AND(D80<>0,D80<>D81),MAX($F$1:F79)+1,\"\")","v":""},"03:00:00"]
["Mars - 3e-4e semaine",20,"2019-03-15",0,{"$f":"IF(OR(D81=0,D81=D80),\"\",IF(OR(D81<>\"\",D81<>D82),MAX($E$1:E80)+1,0))","v":""},{"$f":"IF(AND(D81<>0,D81<>D82),MAX($F$1:F80)+1,\"\")","v":""},"07:00:00"]
["Mars - 3e-4e semaine",21,"2019-03-16",0,{"$f":"IF(OR(D82=0,D82=D81),\"\",IF(OR(D82<>\"\",D82<>D83),MAX($E$1:E81)+1,0))","v":""},{"$f":"IF(AND(D82<>0,D82<>D83),MAX($F$1:F81)+1,\"\")","v":""},"00:00:00"]
["Mars - 3e-4e semaine",22,"2019-03-17",0,{"$f":"IF(OR(D83=0,D83=D82),\"\",IF(OR(D83<>\"\",D83<>D84),MAX($E$1:E82)+1,0))","v":""},{"$f":"IF(AND(D83<>0,D83<>D84),MAX($F$1:F82)+1,\"\")","v":""},"03:00:00"]
["Mars - 3e-4e semaine",29,"2019-03-18",0,{"$f":"IF(OR(D84=0,D84=D83),\"\",IF(OR(D84<>\"\",D84<>D85),MAX($E$1:E83)+1,0))","v":""},{"$f":"IF(AND(D84<>0,D84<>D85),MAX($F$1:F83)+1,\"\")","v":""},"07:30:00"]
["Mars - 3e-4e semaine",30,"2019-03-19",0,{"$f":"IF(OR(D85=0,D85=D84),\"\",IF(OR(D85<>\"\",D85<>D86),MAX($E$1:E84)+1,0))","v":""},{"$f":"IF(AND(D85<>0,D85<>D86),MAX($F$1:F84)+1,\"\")","v":""},"09:30:00"]
["Mars - 3e-4e semaine",31,"2019-03-20",0,{"$f":"IF(OR(D86=0,D86=D85),\"\",IF(OR(D86<>\"\",D86<>D87),MAX($E$1:E85)+1,0))","v":""},{"$f":"IF(AND(D86<>0,D86<>D87),MAX($F$1:F85)+1,\"\")","v":""},"07:30:00"]
["Mars - 3e-4e semaine",32,"2019-03-21",0,{"$f":"IF(OR(D87=0,D87=D86),\"\",IF(OR(D87<>\"\",D87<>D88),MAX($E$1:E86)+1,0))","v":""},{"$f":"IF(AND(D87<>0,D87<>D88),MAX($F$1:F86)+1,\"\")","v":""},"03:00:00"]
["Mars - 3e-4e semaine",33,"2019-03-22",0,{"$f":"IF(OR(D88=0,D88=D87),\"\",IF(OR(D88<>\"\",D88<>D89),MAX($E$1:E87)+1,0))","v":""},{"$f":"IF(AND(D88<>0,D88<>D89),MAX($F$1:F87)+1,\"\")","v":""},"07:00:00"]
["Mars - 3e-4e semaine",34,"2019-03-23",0,{"$f":"IF(OR(D89=0,D89=D88),\"\",IF(OR(D89<>\"\",D89<>D90),MAX($E$1:E88)+1,0))","v":""},{"$f":"IF(AND(D89<>0,D89<>D90),MAX($F$1:F88)+1,\"\")","v":""},"00:00:00"]
["Mars - 3e-4e semaine",35,"2019-03-24",0,{"$f":"IF(OR(D90=0,D90=D89),\"\",IF(OR(D90<>\"\",D90<>D91),MAX($E$1:E89)+1,0))","v":""},{"$f":"IF(AND(D90<>0,D90<>D91),MAX($F$1:F89)+1,\"\")","v":""},"03:00:00"]
["Fin Mars-Avril - prem. semaine",16,"2019-03-25",0,{"$f":"IF(OR(D91=0,D91=D90),\"\",IF(OR(D91<>\"\",D91<>D92),MAX($E$1:E90)+1,0))","v":""},{"$f":"IF(AND(D91<>0,D91<>D92),MAX($F$1:F90)+1,\"\")","v":""},"07:30:00"]
["Fin Mars-Avril - prem. semaine",17,"2019-03-26",0,{"$f":"IF(OR(D92=0,D92=D91),\"\",IF(OR(D92<>\"\",D92<>D93),MAX($E$1:E91)+1,0))","v":""},{"$f":"IF(AND(D92<>0,D92<>D93),MAX($F$1:F91)+1,\"\")","v":""},"09:30:00"]
["Fin Mars-Avril - prem. semaine",18,"2019-03-27",0,{"$f":"IF(OR(D93=0,D93=D92),\"\",IF(OR(D93<>\"\",D93<>D94),MAX($E$1:E92)+1,0))","v":""},{"$f":"IF(AND(D93<>0,D93<>D94),MAX($F$1:F92)+1,\"\")","v":""},"07:30:00"]
["Fin Mars-Avril - prem. semaine",19,"2019-03-28",0,{"$f":"IF(OR(D94=0,D94=D93),\"\",IF(OR(D94<>\"\",D94<>D95),MAX($E$1:E93)+1,0))","v":""},{"$f":"IF(AND(D94<>0,D94<>D95),MAX($F$1:F93)+1,\"\")","v":""},"03:00:00"]
["Fin Mars-Avril - prem. semaine",20,{"$f":"INDIRECT(ADDRESS(B95,1,,,A95))","v":"2019-03-29"},0,{"$f":"IF(OR(D95=0,D95=D94),\"\",IF(OR(D95<>\"\",D95<>D96),MAX($E$1:E94)+1,0))","v":""},{"$f":"IF(AND(D95<>0,D95<>D96),MAX($F$1:F94)+1,\"\")","v":""},"07:00:00"]
["Fin Mars-Avril - prem. semaine",21,"2019-03-30",0,{"$f":"IF(OR(D96=0,D96=D95),\"\",IF(OR(D96<>\"\",D96<>D97),MAX($E$1:E95)+1,0))","v":""},{"$f":"IF(AND(D96<>0,D96<>D97),MAX($F$1:F95)+1,\"\")","v":""},"00:00:00"]
["Fin Mars-Avril - prem. semaine",22,"2019-03-31",0,{"$f":"IF(OR(D97=0,D97=D96),\"\",IF(OR(D97<>\"\",D97<>D98),MAX($E$1:E96)+1,0))","v":""},{"$f":"IF(AND(D97<>0,D97<>D98),MAX($F$1:F96)+1,\"\")","v":""},"03:00:00"]
["Fin Mars-Avril - prem. semaine",29,"2019-04-01",0,{"$f":"IF(OR(D98=0,D98=D97),\"\",IF(OR(D98<>\"\",D98<>D99),MAX($E$1:E97)+1,0))","v":""},{"$f":"IF(AND(D98<>0,D98<>D99),MAX($F$1:F97)+1,\"\")","v":""},"07:30:00"]
["Fin Mars-Avril - prem. semaine",30,"2019-04-02",0,{"$f":"IF(OR(D99=0,D99=D98),\"\",IF(OR(D99<>\"\",D99<>D100),MAX($E$1:E98)+1,0))","v":""},{"$f":"IF(AND(D99<>0,D99<>D100),MAX($F$1:F98)+1,\"\")","v":""},"09:30:00"]
["Fin Mars-Avril - prem. semaine",31,"2019-04-03",0,{"$f":"IF(OR(D100=0,D100=D99),\"\",IF(OR(D100<>\"\",D100<>D101),MAX($E$1:E99)+1,0))","v":""},{"$f":"IF(AND(D100<>0,D100<>D101),MAX($F$1:F99)+1,\"\")","v":""},"07:30:00"]
["Fin Mars-Avril - prem. semaine",32,"2019-04-04",0,{"$f":"IF(OR(D101=0,D101=D100),\"\",IF(OR(D101<>\"\",D101<>D102),MAX($E$1:E100)+1,0))","v":""},{"$f":"IF(AND(D101<>0,D101<>D102),MAX($F$1:F100)+1,\"\")","v":""},"03:00:00"]
["Fin Mars-Avril - prem. semaine",33,"2019-04-05",0,{"$f":"IF(OR(D102=0,D102=D101),\"\",IF(OR(D102<>\"\",D102<>D103),MAX($E$1:E101)+1,0))","v":""},{"$f":"IF(AND(D102<>0,D102<>D103),MAX($F$1:F101)+1,\"\")","v":""},"07:00:00"]
["Fin Mars-Avril - prem. semaine",34,"2019-04-06",0,{"$f":"IF(OR(D103=0,D103=D102),\"\",IF(OR(D103<>\"\",D103<>D104),MAX($E$1:E102)+1,0))","v":""},{"$f":"IF(AND(D103<>0,D103<>D104),MAX($F$1:F102)+1,\"\")","v":""},"00:00:00"]
["Fin Mars-Avril - prem. semaine",35,"2019-04-07",0,{"$f":"IF(OR(D104=0,D104=D103),\"\",IF(OR(D104<>\"\",D104<>D105),MAX($E$1:E103)+1,0))","v":""},{"$f":"IF(AND(D104<>0,D104<>D105),MAX($F$1:F103)+1,\"\")","v":""},"03:00:00"]
["Avril - 2e-3e semaine",16,"2019-04-08",0,{"$f":"IF(OR(D105=0,D105=D104),\"\",IF(OR(D105<>\"\",D105<>D106),MAX($E$1:E104)+1,0))","v":""},{"$f":"IF(AND(D105<>0,D105<>D106),MAX($F$1:F104)+1,\"\")","v":""},"07:30:00"]
["Avril - 2e-3e semaine",17,"2019-04-09",0,{"$f":"IF(OR(D106=0,D106=D105),\"\",IF(OR(D106<>\"\",D106<>D107),MAX($E$1:E105)+1,0))","v":""},{"$f":"IF(AND(D106<>0,D106<>D107),MAX($F$1:F105)+1,\"\")","v":""},"09:30:00"]
["Avril - 2e-3e semaine",18,"2019-04-10",0,{"$f":"IF(OR(D107=0,D107=D106),\"\",IF(OR(D107<>\"\",D107<>D108),MAX($E$1:E106)+1,0))","v":""},{"$f":"IF(AND(D107<>0,D107<>D108),MAX($F$1:F106)+1,\"\")","v":""},"07:30:00"]
["Avril - 2e-3e semaine",19,"2019-04-11",0,{"$f":"IF(OR(D108=0,D108=D107),\"\",IF(OR(D108<>\"\",D108<>D109),MAX($E$1:E107)+1,0))","v":""},{"$f":"IF(AND(D108<>0,D108<>D109),MAX($F$1:F107)+1,\"\")","v":""},"03:00:00"]
["Avril - 2e-3e semaine",20,"2019-04-12",0,{"$f":"IF(OR(D109=0,D109=D108),\"\",IF(OR(D109<>\"\",D109<>D110),MAX($E$1:E108)+1,0))","v":""},{"$f":"IF(AND(D109<>0,D109<>D110),MAX($F$1:F108)+1,\"\")","v":""},"07:00:00"]
["Avril - 2e-3e semaine",21,"2019-04-13",0,{"$f":"IF(OR(D110=0,D110=D109),\"\",IF(OR(D110<>\"\",D110<>D111),MAX($E$1:E109)+1,0))","v":""},{"$f":"IF(AND(D110<>0,D110<>D111),MAX($F$1:F109)+1,\"\")","v":""},{"$f":"INDIRECT(ADDRESS($B110,8,,,$A110))","v":"00:00:00"}]
["Avril - 2e-3e semaine",22,"2019-04-14",0,{"$f":"IF(OR(D111=0,D111=D110),\"\",IF(OR(D111<>\"\",D111<>D112),MAX($E$1:E110)+1,0))","v":""},{"$f":"IF(AND(D111<>0,D111<>D112),MAX($F$1:F110)+1,\"\")","v":""},"03:00:00"]
["Avril - 2e-3e semaine",29,"2019-04-15",0,{"$f":"IF(OR(D112=0,D112=D111),\"\",IF(OR(D112<>\"\",D112<>D113),MAX($E$1:E111)+1,0))","v":""},{"$f":"IF(AND(D112<>0,D112<>D113),MAX($F$1:F111)+1,\"\")","v":""},"07:30:00"]
["Avril - 2e-3e semaine",30,"2019-04-16",0,{"$f":"IF(OR(D113=0,D113=D112),\"\",IF(OR(D113<>\"\",D113<>D114),MAX($E$1:E112)+1,0))","v":""},{"$f":"IF(AND(D113<>0,D113<>D114),MAX($F$1:F112)+1,\"\")","v":""},"09:30:00"]
["Avril - 2e-3e semaine",31,"2019-04-17",0,{"$f":"IF(OR(D114=0,D114=D113),\"\",IF(OR(D114<>\"\",D114<>D115),MAX($E$1:E113)+1,0))","v":""},{"$f":"IF(AND(D114<>0,D114<>D115),MAX($F$1:F113)+1,\"\")","v":""},"07:30:00"]
["Avril - 2e-3e semaine",32,"2019-04-18",0,{"$f":"IF(OR(D115=0,D115=D114),\"\",IF(OR(D115<>\"\",D115<>D116),MAX($E$1:E114)+1,0))","v":""},{"$f":"IF(AND(D115<>0,D115<>D116),MAX($F$1:F114)+1,\"\")","v":""},"03:00:00"]
["Avril - 2e-3e semaine",33,"2019-04-19",0,{"$f":"IF(OR(D116=0,D116=D115),\"\",IF(OR(D116<>\"\",D116<>D117),MAX($E$1:E115)+1,0))","v":""},{"$f":"IF(AND(D116<>0,D116<>D117),MAX($F$1:F115)+1,\"\")","v":""},"07:53:41.053"]
["Avril - 2e-3e semaine",34,"2019-04-20",0,{"$f":"IF(OR(D117=0,D117=D116),\"\",IF(OR(D117<>\"\",D117<>D118),MAX($E$1:E116)+1,0))","v":""},{"$f":"IF(AND(D117<>0,D117<>D118),MAX($F$1:F116)+1,\"\")","v":""},"00:00:00"]
["Avril - 2e-3e semaine",35,"2019-04-21",0,{"$f":"IF(OR(D118=0,D118=D117),\"\",IF(OR(D118<>\"\",D118<>D119),MAX($E$1:E117)+1,0))","v":""},{"$f":"IF(AND(D118<>0,D118<>D119),MAX($F$1:F117)+1,\"\")","v":""},"00:00:00"]
["Fin Avril-Mai - prem. semaine",16,"2019-04-22",0,{"$f":"IF(OR(D119=0,D119=D118),\"\",IF(OR(D119<>\"\",D119<>D120),MAX($E$1:E118)+1,0))","v":""},{"$f":"IF(AND(D119<>0,D119<>D120),MAX($F$1:F118)+1,\"\")","v":""},"00:00:00"]
["Fin Avril-Mai - prem. semaine",17,"2019-04-23",0,{"$f":"IF(OR(D120=0,D120=D119),\"\",IF(OR(D120<>\"\",D120<>D121),MAX($E$1:E119)+1,0))","v":""},{"$f":"IF(AND(D120<>0,D120<>D121),MAX($F$1:F119)+1,\"\")","v":""},"00:00:00"]
["Fin Avril-Mai - prem. semaine",18,"2019-04-24",0,{"$f":"IF(OR(D121=0,D121=D120),\"\",IF(OR(D121<>\"\",D121<>D122),MAX($E$1:E120)+1,0))","v":""},{"$f":"IF(AND(D121<>0,D121<>D122),MAX($F$1:F120)+1,\"\")","v":""},"00:00:00"]
["Fin Avril-Mai - prem. semaine",19,"2019-04-25",0,{"$f":"IF(OR(D122=0,D122=D121),\"\",IF(OR(D122<>\"\",D122<>D123),MAX($E$1:E121)+1,0))","v":""},{"$f":"IF(AND(D122<>0,D122<>D123),MAX($F$1:F121)+1,\"\")","v":""},"00:00:00"]
["Fin Avril-Mai - prem. semaine",20,"2019-04-26",0,{"$f":"IF(OR(D123=0,D123=D122),\"\",IF(OR(D123<>\"\",D123<>D124),MAX($E$1:E122)+1,0))","v":""},{"$f":"IF(AND(D123<>0,D123<>D124),MAX($F$1:F122)+1,\"\")","v":""},"00:00:00"]
["Fin Avril-Mai - prem. semaine",21,"2019-04-27",0,{"$f":"IF(OR(D124=0,D124=D123),\"\",IF(OR(D124<>\"\",D124<>D125),MAX($E$1:E123)+1,0))","v":""},{"$f":"IF(AND(D124<>0,D124<>D125),MAX($F$1:F123)+1,\"\")","v":""},"00:00:00"]
["Fin Avril-Mai - prem. semaine",22,"2019-04-28",0,{"$f":"IF(OR(D125=0,D125=D124),\"\",IF(OR(D125<>\"\",D125<>D126),MAX($E$1:E124)+1,0))","v":""},{"$f":"IF(AND(D125<>0,D125<>D126),MAX($F$1:F124)+1,\"\")","v":""},"00:00:00"]
["Fin Avril-Mai - prem. semaine",29,"2019-04-29",0,{"$f":"IF(OR(D126=0,D126=D125),\"\",IF(OR(D126<>\"\",D126<>D127),MAX($E$1:E125)+1,0))","v":""},{"$f":"IF(AND(D126<>0,D126<>D127),MAX($F$1:F125)+1,\"\")","v":""},"00:00:00"]
["Fin Avril-Mai - prem. semaine",30,"2019-04-30",0,{"$f":"IF(OR(D127=0,D127=D126),\"\",IF(OR(D127<>\"\",D127<>D128),MAX($E$1:E126)+1,0))","v":""},{"$f":"IF(AND(D127<>0,D127<>D128),MAX($F$1:F126)+1,\"\")","v":""},"00:00:00"]
["Fin Avril-Mai - prem. semaine",31,"2019-05-01",0,{"$f":"IF(OR(D128=0,D128=D127),\"\",IF(OR(D128<>\"\",D128<>D129),MAX($E$1:E127)+1,0))","v":""},{"$f":"IF(AND(D128<>0,D128<>D129),MAX($F$1:F127)+1,\"\")","v":""},"00:00:00"]
["Fin Avril-Mai - prem. semaine",32,"2019-05-02",0,{"$f":"IF(OR(D129=0,D129=D128),\"\",IF(OR(D129<>\"\",D129<>D130),MAX($E$1:E128)+1,0))","v":""},{"$f":"IF(AND(D129<>0,D129<>D130),MAX($F$1:F128)+1,\"\")","v":""},"00:00:00"]
["Fin Avril-Mai - prem. semaine",33,"2019-05-03",0,{"$f":"IF(OR(D130=0,D130=D129),\"\",IF(OR(D130<>\"\",D130<>D131),MAX($E$1:E129)+1,0))","v":""},{"$f":"IF(AND(D130<>0,D130<>D131),MAX($F$1:F129)+1,\"\")","v":""},"00:00:00"]
["Fin Avril-Mai - prem. semaine",34,{"$f":"INDIRECT(ADDRESS(B131,1,,,A131))","v":"2019-05-04"},0,{"$f":"IF(OR(D131=0,D131=D130),\"\",IF(OR(D131<>\"\",D131<>D132),MAX($E$1:E130)+1,0))","v":""},{"$f":"IF(AND(D131<>0,D131<>D132),MAX($F$1:F130)+1,\"\")","v":""},{"$f":"INDIRECT(ADDRESS($B131,8,,,$A131))","v":"00:00:00"}]
["Fin Avril-Mai - prem. semaine",35,"2019-05-05",0,{"$f":"IF(OR(D132=0,D132=D131),\"\",IF(OR(D132<>\"\",D132<>D133),MAX($E$1:E131)+1,0))","v":""},{"$f":"IF(AND(D132<>0,D132<>D133),MAX($F$1:F131)+1,\"\")","v":""},"00:00:00"]
["Mai - 2e-3e semaine",16,"2019-05-06",0,{"$f":"IF(OR(D133=0,D133=D132),\"\",IF(OR(D133<>\"\",D133<>D134),MAX($E$1:E132)+1,0))","v":""},{"$f":"IF(AND(D133<>0,D133<>D134),MAX($F$1:F132)+1,\"\")","v":""},"00:00:00"]
["Mai - 2e-3e semaine",17,"2019-05-07",0,{"$f":"IF(OR(D134=0,D134=D133),\"\",IF(OR(D134<>\"\",D134<>D135),MAX($E$1:E133)+1,0))","v":""},{"$f":"IF(AND(D134<>0,D134<>D135),MAX($F$1:F133)+1,\"\")","v":""},"00:00:00"]
["Mai - 2e-3e semaine",18,"2019-05-08",0,{"$f":"IF(OR(D135=0,D135=D134),\"\",IF(OR(D135<>\"\",D135<>D136),MAX($E$1:E134)+1,0))","v":""},{"$f":"IF(AND(D135<>0,D135<>D136),MAX($F$1:F134)+1,\"\")","v":""},"00:00:00"]
["Mai - 2e-3e semaine",19,"2019-05-09",0,{"$f":"IF(OR(D136=0,D136=D135),\"\",IF(OR(D136<>\"\",D136<>D137),MAX($E$1:E135)+1,0))","v":""},{"$f":"IF(AND(D136<>0,D136<>D137),MAX($F$1:F135)+1,\"\")","v":""},"00:00:00"]
["Mai - 2e-3e semaine",20,"2019-05-10",0,{"$f":"IF(OR(D137=0,D137=D136),\"\",IF(OR(D137<>\"\",D137<>D138),MAX($E$1:E136)+1,0))","v":""},{"$f":"IF(AND(D137<>0,D137<>D138),MAX($F$1:F136)+1,\"\")","v":""},"00:00:00"]
["Mai - 2e-3e semaine",21,"2019-05-11",0,{"$f":"IF(OR(D138=0,D138=D137),\"\",IF(OR(D138<>\"\",D138<>D139),MAX($E$1:E137)+1,0))","v":""},{"$f":"IF(AND(D138<>0,D138<>D139),MAX($F$1:F137)+1,\"\")","v":""},"00:00:00"]
["Mai - 2e-3e semaine",22,"2019-05-12",{"$f":"INDIRECT(ADDRESS($B139,9,,,$A139))","v":0},{"$f":"IF(OR(D139=0,D139=D138),\"\",IF(OR(D139<>\"\",D139<>D140),MAX($E$1:E138)+1,0))","v":""},{"$f":"IF(AND(D139<>0,D139<>D140),MAX($F$1:F138)+1,\"\")","v":""},"00:00:00"]
["Mai - 2e-3e semaine",29,"2019-05-13",0,{"$f":"IF(OR(D140=0,D140=D139),\"\",IF(OR(D140<>\"\",D140<>D141),MAX($E$1:E139)+1,0))","v":""},{"$f":"IF(AND(D140<>0,D140<>D141),MAX($F$1:F139)+1,\"\")","v":""},"00:00:00"]
["Mai - 2e-3e semaine",30,"2019-05-14",0,{"$f":"IF(OR(D141=0,D141=D140),\"\",IF(OR(D141<>\"\",D141<>D142),MAX($E$1:E140)+1,0))","v":""},{"$f":"IF(AND(D141<>0,D141<>D142),MAX($F$1:F140)+1,\"\")","v":""},"00:00:00"]
["Mai - 2e-3e semaine",31,"2019-05-15",0,{"$f":"IF(OR(D142=0,D142=D141),\"\",IF(OR(D142<>\"\",D142<>D143),MAX($E$1:E141)+1,0))","v":""},{"$f":"IF(AND(D142<>0,D142<>D143),MAX($F$1:F141)+1,\"\")","v":""},"00:00:00"]
["Mai - 2e-3e semaine",32,"2019-05-16",0,{"$f":"IF(OR(D143=0,D143=D142),\"\",IF(OR(D143<>\"\",D143<>D144),MAX($E$1:E142)+1,0))","v":""},{"$f":"IF(AND(D143<>0,D143<>D144),MAX($F$1:F142)+1,\"\")","v":""},"00:00:00"]
["Mai - 2e-3e semaine",33,"2019-05-17",0,{"$f":"IF(OR(D144=0,D144=D143),\"\",IF(OR(D144<>\"\",D144<>D145),MAX($E$1:E143)+1,0))","v":""},{"$f":"IF(AND(D144<>0,D144<>D145),MAX($F$1:F143)+1,\"\")","v":""},"00:00:00"]
["Mai - 2e-3e semaine",34,"2019-05-18",0,{"$f":"IF(OR(D145=0,D145=D144),\"\",IF(OR(D145<>\"\",D145<>D146),MAX($E$1:E144)+1,0))","v":""},{"$f":"IF(AND(D145<>0,D145<>D146),MAX($F$1:F144)+1,\"\")","v":""},"00:00:00"]
["Mai - 2e-3e semaine",35,"2019-05-19",0,{"$f":"IF(OR(D146=0,D146=D145),\"\",IF(OR(D146<>\"\",D146<>D147),MAX($E$1:E145)+1,0))","v":""},{"$f":"IF(AND(D146<>0,D146<>D147),MAX($F$1:F145)+1,\"\")","v":""},"00:00:00"]
["Fin Mai-Début juin semaine 1",16,"2019-05-20",0,{"$f":"IF(OR(D147=0,D147=D146),\"\",IF(OR(D147<>\"\",D147<>D148),MAX($E$1:E146)+1,0))","v":""},{"$f":"IF(AND(D147<>0,D147<>D148),MAX($F$1:F146)+1,\"\")","v":""},"00:00:00"]
["Fin Mai-Début juin semaine 1",17,"2019-05-21",0,{"$f":"IF(OR(D148=0,D148=D147),\"\",IF(OR(D148<>\"\",D148<>D149),MAX($E$1:E147)+1,0))","v":""},{"$f":"IF(AND(D148<>0,D148<>D149),MAX($F$1:F147)+1,\"\")","v":""},"00:00:00"]
["Fin Mai-Début juin semaine 1",18,"2019-05-22",0,{"$f":"IF(OR(D149=0,D149=D148),\"\",IF(OR(D149<>\"\",D149<>D150),MAX($E$1:E148)+1,0))","v":""},{"$f":"IF(AND(D149<>0,D149<>D150),MAX($F$1:F148)+1,\"\")","v":""},"00:00:00"]
["Fin Mai-Début juin semaine 1",19,"2019-05-23",0,{"$f":"IF(OR(D150=0,D150=D149),\"\",IF(OR(D150<>\"\",D150<>D151),MAX($E$1:E149)+1,0))","v":""},{"$f":"IF(AND(D150<>0,D150<>D151),MAX($F$1:F149)+1,\"\")","v":""},"00:00:00"]
["Fin Mai-Début juin semaine 1",20,"2019-05-24",0,{"$f":"IF(OR(D151=0,D151=D150),\"\",IF(OR(D151<>\"\",D151<>D152),MAX($E$1:E150)+1,0))","v":""},{"$f":"IF(AND(D151<>0,D151<>D152),MAX($F$1:F150)+1,\"\")","v":""},"00:00:00"]
["Fin Mai-Début juin semaine 1",21,"2019-05-25",0,{"$f":"IF(OR(D152=0,D152=D151),\"\",IF(OR(D152<>\"\",D152<>D153),MAX($E$1:E151)+1,0))","v":""},{"$f":"IF(AND(D152<>0,D152<>D153),MAX($F$1:F151)+1,\"\")","v":""},"00:00:00"]
["Fin Mai-Début juin semaine 1",22,"2019-05-26",0,{"$f":"IF(OR(D153=0,D153=D152),\"\",IF(OR(D153<>\"\",D153<>D154),MAX($E$1:E152)+1,0))","v":""},{"$f":"IF(AND(D153<>0,D153<>D154),MAX($F$1:F152)+1,\"\")","v":""},"00:00:00"]
["Fin Mai-Début juin semaine 1",29,"2019-05-27",0,{"$f":"IF(OR(D154=0,D154=D153),\"\",IF(OR(D154<>\"\",D154<>D155),MAX($E$1:E153)+1,0))","v":""},{"$f":"IF(AND(D154<>0,D154<>D155),MAX($F$1:F153)+1,\"\")","v":""},"00:00:00"]
["Fin Mai-Début juin semaine 1",30,"2019-05-28",0,{"$f":"IF(OR(D155=0,D155=D154),\"\",IF(OR(D155<>\"\",D155<>D156),MAX($E$1:E154)+1,0))","v":""},{"$f":"IF(AND(D155<>0,D155<>D156),MAX($F$1:F154)+1,\"\")","v":""},"00:00:00"]
["Fin Mai-Début juin semaine 1",31,"2019-05-29",0,{"$f":"IF(OR(D156=0,D156=D155),\"\",IF(OR(D156<>\"\",D156<>D157),MAX($E$1:E155)+1,0))","v":""},{"$f":"IF(AND(D156<>0,D156<>D157),MAX($F$1:F155)+1,\"\")","v":""},"00:00:00"]
["Fin Mai-Début juin semaine 1",32,"2019-05-30",0,{"$f":"IF(OR(D157=0,D157=D156),\"\",IF(OR(D157<>\"\",D157<>D158),MAX($E$1:E156)+1,0))","v":""},{"$f":"IF(AND(D157<>0,D157<>D158),MAX($F$1:F156)+1,\"\")","v":""},"00:00:00"]
["Fin Mai-Début juin semaine 1",33,"2019-05-31",0,{"$f":"IF(OR(D158=0,D158=D157),\"\",IF(OR(D158<>\"\",D158<>D159),MAX($E$1:E157)+1,0))","v":""},{"$f":"IF(AND(D158<>0,D158<>D159),MAX($F$1:F157)+1,\"\")","v":""},"00:00:00"]
["Fin Mai-Début juin semaine 1",34,"2019-06-01",0,{"$f":"IF(OR(D159=0,D159=D158),\"\",IF(OR(D159<>\"\",D159<>D160),MAX($E$1:E158)+1,0))","v":""},{"$f":"IF(AND(D159<>0,D159<>D160),MAX($F$1:F158)+1,\"\")","v":""},"00:00:00"]
["Fin Mai-Début juin semaine 1",35,"2019-06-02",0,{"$f":"IF(OR(D160=0,D160=D159),\"\",IF(OR(D160<>\"\",D160<>D161),MAX($E$1:E159)+1,0))","v":""},{"$f":"IF(AND(D160<>0,D160<>D161),MAX($F$1:F159)+1,\"\")","v":""},"00:00:00"]
["Juin 2e-3e semaine",16,"2019-06-03",0,{"$f":"IF(OR(D161=0,D161=D160),\"\",IF(OR(D161<>\"\",D161<>D162),MAX($E$1:E160)+1,0))","v":""},{"$f":"IF(AND(D161<>0,D161<>D162),MAX($F$1:F160)+1,\"\")","v":""},"00:00:00"]
["Juin 2e-3e semaine",17,"2019-06-04",0,{"$f":"IF(OR(D162=0,D162=D161),\"\",IF(OR(D162<>\"\",D162<>D163),MAX($E$1:E161)+1,0))","v":""},{"$f":"IF(AND(D162<>0,D162<>D163),MAX($F$1:F161)+1,\"\")","v":""},"00:00:00"]
["Juin 2e-3e semaine",18,"2019-06-05",0,{"$f":"IF(OR(D163=0,D163=D162),\"\",IF(OR(D163<>\"\",D163<>D164),MAX($E$1:E162)+1,0))","v":""},{"$f":"IF(AND(D163<>0,D163<>D164),MAX($F$1:F162)+1,\"\")","v":""},"00:00:00"]
["Juin 2e-3e semaine",19,"2019-06-06",0,{"$f":"IF(OR(D164=0,D164=D163),\"\",IF(OR(D164<>\"\",D164<>D165),MAX($E$1:E163)+1,0))","v":""},{"$f":"IF(AND(D164<>0,D164<>D165),MAX($F$1:F163)+1,\"\")","v":""},"00:00:00"]
["Juin 2e-3e semaine",20,"2019-06-07",0,{"$f":"IF(OR(D165=0,D165=D164),\"\",IF(OR(D165<>\"\",D165<>D166),MAX($E$1:E164)+1,0))","v":""},{"$f":"IF(AND(D165<>0,D165<>D166),MAX($F$1:F164)+1,\"\")","v":""},"00:00:00"]
["Juin 2e-3e semaine",21,"2019-06-08",0,{"$f":"IF(OR(D166=0,D166=D165),\"\",IF(OR(D166<>\"\",D166<>D167),MAX($E$1:E165)+1,0))","v":""},{"$f":"IF(AND(D166<>0,D166<>D167),MAX($F$1:F165)+1,\"\")","v":""},"00:00:00"]
["Juin 2e-3e semaine",22,"2019-06-09",0,{"$f":"IF(OR(D167=0,D167=D166),\"\",IF(OR(D167<>\"\",D167<>D168),MAX($E$1:E166)+1,0))","v":""},{"$f":"IF(AND(D167<>0,D167<>D168),MAX($F$1:F166)+1,\"\")","v":""},"00:00:00"]
["Juin 2e-3e semaine",29,{"$f":"INDIRECT(ADDRESS(B168,1,,,A168))","v":"2019-06-10"},0,{"$f":"IF(OR(D168=0,D168=D167),\"\",IF(OR(D168<>\"\",D168<>D169),MAX($E$1:E167)+1,0))","v":""},{"$f":"IF(AND(D168<>0,D168<>D169),MAX($F$1:F167)+1,\"\")","v":""},"00:00:00"]
["Juin 2e-3e semaine",30,"2019-06-11",0,{"$f":"IF(OR(D169=0,D169=D168),\"\",IF(OR(D169<>\"\",D169<>D170),MAX($E$1:E168)+1,0))","v":""},{"$f":"IF(AND(D169<>0,D169<>D170),MAX($F$1:F168)+1,\"\")","v":""},"00:00:00"]
["Juin 2e-3e semaine",31,"2019-06-12",0,{"$f":"IF(OR(D170=0,D170=D169),\"\",IF(OR(D170<>\"\",D170<>D171),MAX($E$1:E169)+1,0))","v":""},{"$f":"IF(AND(D170<>0,D170<>D171),MAX($F$1:F169)+1,\"\")","v":""},"00:00:00"]
["Juin 2e-3e semaine",32,"2019-06-13",0,{"$f":"IF(OR(D171=0,D171=D170),\"\",IF(OR(D171<>\"\",D171<>D172),MAX($E$1:E170)+1,0))","v":""},{"$f":"IF(AND(D171<>0,D171<>D172),MAX($F$1:F170)+1,\"\")","v":""},"00:00:00"]
["Juin 2e-3e semaine",33,"2019-06-14",0,{"$f":"IF(OR(D172=0,D172=D171),\"\",IF(OR(D172<>\"\",D172<>D173),MAX($E$1:E171)+1,0))","v":""},{"$f":"IF(AND(D172<>0,D172<>D173),MAX($F$1:F171)+1,\"\")","v":""},"00:00:00"]
["Juin 2e-3e semaine",34,"2019-06-15",0,{"$f":"IF(OR(D173=0,D173=D172),\"\",IF(OR(D173<>\"\",D173<>D174),MAX($E$1:E172)+1,0))","v":""},{"$f":"IF(AND(D173<>0,D173<>D174),MAX($F$1:F172)+1,\"\")","v":""},"00:00:00"]
["Juin 2e-3e semaine",35,"2019-06-16",0,{"$f":"IF(OR(D174=0,D174=D173),\"\",IF(OR(D174<>\"\",D174<>D175),MAX($E$1:E173)+1,0))","v":""},{"$f":"IF(AND(D174<>0,D174<>D175),MAX($F$1:F173)+1,\"\")","v":""},"00:00:00"]
["Juin 4e-5e semaine-Juillet déb.",16,"2019-06-17",0,{"$f":"IF(OR(D175=0,D175=D174),\"\",IF(OR(D175<>\"\",D175<>D176),MAX($E$1:E174)+1,0))","v":""},{"$f":"IF(AND(D175<>0,D175<>D176),MAX($F$1:F174)+1,\"\")","v":""},"00:00:00"]
["Juin 4e-5e semaine-Juillet déb.",17,"2019-06-18",0,{"$f":"IF(OR(D176=0,D176=D175),\"\",IF(OR(D176<>\"\",D176<>D177),MAX($E$1:E175)+1,0))","v":""},{"$f":"IF(AND(D176<>0,D176<>D177),MAX($F$1:F175)+1,\"\")","v":""},"00:00:00"]
["Juin 4e-5e semaine-Juillet déb.",18,"2019-06-19",0,{"$f":"IF(OR(D177=0,D177=D176),\"\",IF(OR(D177<>\"\",D177<>D178),MAX($E$1:E176)+1,0))","v":""},{"$f":"IF(AND(D177<>0,D177<>D178),MAX($F$1:F176)+1,\"\")","v":""},"00:00:00"]
["Juin 4e-5e semaine-Juillet déb.",19,"2019-06-20",0,{"$f":"IF(OR(D178=0,D178=D177),\"\",IF(OR(D178<>\"\",D178<>D179),MAX($E$1:E177)+1,0))","v":""},{"$f":"IF(AND(D178<>0,D178<>D179),MAX($F$1:F177)+1,\"\")","v":""},"00:00:00"]
["Juin 4e-5e semaine-Juillet déb.",20,"2019-06-21",0,{"$f":"IF(OR(D179=0,D179=D178),\"\",IF(OR(D179<>\"\",D179<>D180),MAX($E$1:E178)+1,0))","v":""},{"$f":"IF(AND(D179<>0,D179<>D180),MAX($F$1:F178)+1,\"\")","v":""},"00:00:00"]
["Juin 4e-5e semaine-Juillet déb.",21,"2019-06-22",0,{"$f":"IF(OR(D180=0,D180=D179),\"\",IF(OR(D180<>\"\",D180<>D181),MAX($E$1:E179)+1,0))","v":""},{"$f":"IF(AND(D180<>0,D180<>D181),MAX($F$1:F179)+1,\"\")","v":""},"00:00:00"]
["Juin 4e-5e semaine-Juillet déb.",22,"2019-06-23",0,{"$f":"IF(OR(D181=0,D181=D180),\"\",IF(OR(D181<>\"\",D181<>D182),MAX($E$1:E180)+1,0))","v":""},{"$f":"IF(AND(D181<>0,D181<>D182),MAX($F$1:F180)+1,\"\")","v":""},"00:00:00"]
["Juin 4e-5e semaine-Juillet déb.",29,"2019-06-24",0,{"$f":"IF(OR(D182=0,D182=D181),\"\",IF(OR(D182<>\"\",D182<>D183),MAX($E$1:E181)+1,0))","v":""},{"$f":"IF(AND(D182<>0,D182<>D183),MAX($F$1:F181)+1,\"\")","v":""},"00:00:00"]
["Juin 4e-5e semaine-Juillet déb.",30,"2019-06-25",0,{"$f":"IF(OR(D183=0,D183=D182),\"\",IF(OR(D183<>\"\",D183<>D184),MAX($E$1:E182)+1,0))","v":""},{"$f":"IF(AND(D183<>0,D183<>D184),MAX($F$1:F182)+1,\"\")","v":""},"00:00:00"]
["Juin 4e-5e semaine-Juillet déb.",31,"2019-06-26",0,{"$f":"IF(OR(D184=0,D184=D183),\"\",IF(OR(D184<>\"\",D184<>D185),MAX($E$1:E183)+1,0))","v":""},{"$f":"IF(AND(D184<>0,D184<>D185),MAX($F$1:F183)+1,\"\")","v":""},"00:00:00"]
["Juin 4e-5e semaine-Juillet déb.",32,"2019-06-27",0,{"$f":"IF(OR(D185=0,D185=D184),\"\",IF(OR(D185<>\"\",D185<>D186),MAX($E$1:E184)+1,0))","v":""},{"$f":"IF(AND(D185<>0,D185<>D186),MAX($F$1:F184)+1,\"\")","v":""},"00:00:00"]
["Juin 4e-5e semaine-Juillet déb.",33,"2019-06-28",0,{"$f":"IF(OR(D186=0,D186=D185),\"\",IF(OR(D186<>\"\",D186<>D187),MAX($E$1:E185)+1,0))","v":""},{"$f":"IF(AND(D186<>0,D186<>D187),MAX($F$1:F185)+1,\"\")","v":""},"00:00:00"]
["Juin 4e-5e semaine-Juillet déb.",34,"2019-06-29",0,{"$f":"IF(OR(D187=0,D187=D186),\"\",IF(OR(D187<>\"\",D187<>D188),MAX($E$1:E186)+1,0))","v":""},{"$f":"IF(AND(D187<>0,D187<>D188),MAX($F$1:F186)+1,\"\")","v":""},"00:00:00"]
["Juin 4e-5e semaine-Juillet déb.",35,"2019-06-30",0,{"$f":"IF(OR(D188=0,D188=D187),\"\",IF(OR(D188<>\"\",D188<>D189),MAX($E$1:E187)+1,0))","v":""},{"$f":"IF(AND(D188<>0,D188<>D189),MAX($F$1:F187)+1,\"\")","v":""},"00:00:00"]
["Juillet-2prem. semaines",16,"2019-07-01",0,{"$f":"IF(OR(D189=0,D189=D188),\"\",IF(OR(D189<>\"\",D189<>D190),MAX($E$1:E188)+1,0))","v":""},{"$f":"IF(AND(D189<>0,D189<>D190),MAX($F$1:F188)+1,\"\")","v":""},"00:00:00"]
["Juillet-2prem. semaines",17,"2019-07-02",0,{"$f":"IF(OR(D190=0,D190=D189),\"\",IF(OR(D190<>\"\",D190<>D191),MAX($E$1:E189)+1,0))","v":""},{"$f":"IF(AND(D190<>0,D190<>D191),MAX($F$1:F189)+1,\"\")","v":""},"00:00:00"]
["Juillet-2prem. semaines",18,"2019-07-03",0,{"$f":"IF(OR(D191=0,D191=D190),\"\",IF(OR(D191<>\"\",D191<>D192),MAX($E$1:E190)+1,0))","v":""},{"$f":"IF(AND(D191<>0,D191<>D192),MAX($F$1:F190)+1,\"\")","v":""},"00:00:00"]
["Juillet-2prem. semaines",19,"2019-07-04",0,{"$f":"IF(OR(D192=0,D192=D191),\"\",IF(OR(D192<>\"\",D192<>D193),MAX($E$1:E191)+1,0))","v":""},{"$f":"IF(AND(D192<>0,D192<>D193),MAX($F$1:F191)+1,\"\")","v":""},"00:00:00"]
["Juillet-2prem. semaines",20,"2019-07-05",0,{"$f":"IF(OR(D193=0,D193=D192),\"\",IF(OR(D193<>\"\",D193<>D194),MAX($E$1:E192)+1,0))","v":""},{"$f":"IF(AND(D193<>0,D193<>D194),MAX($F$1:F192)+1,\"\")","v":""},"00:00:00"]
["Juillet-2prem. semaines",21,"2019-07-06",0,{"$f":"IF(OR(D194=0,D194=D193),\"\",IF(OR(D194<>\"\",D194<>D195),MAX($E$1:E193)+1,0))","v":""},{"$f":"IF(AND(D194<>0,D194<>D195),MAX($F$1:F193)+1,\"\")","v":""},"00:00:00"]
["Juillet-2prem. semaines",22,"2019-07-07",0,{"$f":"IF(OR(D195=0,D195=D194),\"\",IF(OR(D195<>\"\",D195<>D196),MAX($E$1:E194)+1,0))","v":""},{"$f":"IF(AND(D195<>0,D195<>D196),MAX($F$1:F194)+1,\"\")","v":""},{"$f":"INDIRECT(ADDRESS($B195,8,,,$A195))","v":"00:00:00"}]
["Juillet-2prem. semaines",29,"2019-07-08",0,{"$f":"IF(OR(D196=0,D196=D195),\"\",IF(OR(D196<>\"\",D196<>D197),MAX($E$1:E195)+1,0))","v":""},{"$f":"IF(AND(D196<>0,D196<>D197),MAX($F$1:F195)+1,\"\")","v":""},"00:00:00"]
["Juillet-2prem. semaines",30,"2019-07-09",0,{"$f":"IF(OR(D197=0,D197=D196),\"\",IF(OR(D197<>\"\",D197<>D198),MAX($E$1:E196)+1,0))","v":""},{"$f":"IF(AND(D197<>0,D197<>D198),MAX($F$1:F196)+1,\"\")","v":""},"00:00:00"]
["Juillet-2prem. semaines",31,"2019-07-10",0,{"$f":"IF(OR(D198=0,D198=D197),\"\",IF(OR(D198<>\"\",D198<>D199),MAX($E$1:E197)+1,0))","v":""},{"$f":"IF(AND(D198<>0,D198<>D199),MAX($F$1:F197)+1,\"\")","v":""},"00:00:00"]
["Juillet-2prem. semaines",32,"2019-07-11",0,{"$f":"IF(OR(D199=0,D199=D198),\"\",IF(OR(D199<>\"\",D199<>D200),MAX($E$1:E198)+1,0))","v":""},{"$f":"IF(AND(D199<>0,D199<>D200),MAX($F$1:F198)+1,\"\")","v":""},"00:00:00"]
["Juillet-2prem. semaines",33,"2019-07-12",0,{"$f":"IF(OR(D200=0,D200=D199),\"\",IF(OR(D200<>\"\",D200<>D201),MAX($E$1:E199)+1,0))","v":""},{"$f":"IF(AND(D200<>0,D200<>D201),MAX($F$1:F199)+1,\"\")","v":""},"00:00:00"]
["Juillet-2prem. semaines",34,"2019-07-13",0,{"$f":"IF(OR(D201=0,D201=D200),\"\",IF(OR(D201<>\"\",D201<>D202),MAX($E$1:E200)+1,0))","v":""},{"$f":"IF(AND(D201<>0,D201<>D202),MAX($F$1:F200)+1,\"\")","v":""},"00:00:00"]
["Juillet-2prem. semaines",35,"2019-07-14",0,{"$f":"IF(OR(D202=0,D202=D201),\"\",IF(OR(D202<>\"\",D202<>D203),MAX($E$1:E201)+1,0))","v":""},{"$f":"IF(AND(D202<>0,D202<>D203),MAX($F$1:F201)+1,\"\")","v":""},"00:00:00"]
["Juillet 3e-4e semaine",16,{"$f":"INDIRECT(ADDRESS(B203,1,,,A203))","v":"2019-07-15"},{"$f":"INDIRECT(ADDRESS($B203,9,,,$A203))","v":0},{"$f":"IF(OR(D203=0,D203=D202),\"\",IF(OR(D203<>\"\",D203<>D204),MAX($E$1:E202)+1,0))","v":""},{"$f":"IF(AND(D203<>0,D203<>D204),MAX($F$1:F202)+1,\"\")","v":""},"00:00:00"]
["Juillet 3e-4e semaine",17,"2019-07-16",0,{"$f":"IF(OR(D204=0,D204=D203),\"\",IF(OR(D204<>\"\",D204<>D205),MAX($E$1:E203)+1,0))","v":""},{"$f":"IF(AND(D204<>0,D204<>D205),MAX($F$1:F203)+1,\"\")","v":""},"00:00:00"]
["Juillet 3e-4e semaine",18,"2019-07-17",0,{"$f":"IF(OR(D205=0,D205=D204),\"\",IF(OR(D205<>\"\",D205<>D206),MAX($E$1:E204)+1,0))","v":""},{"$f":"IF(AND(D205<>0,D205<>D206),MAX($F$1:F204)+1,\"\")","v":""},"00:00:00"]
["Juillet 3e-4e semaine",19,"2019-07-18",0,{"$f":"IF(OR(D206=0,D206=D205),\"\",IF(OR(D206<>\"\",D206<>D207),MAX($E$1:E205)+1,0))","v":""},{"$f":"IF(AND(D206<>0,D206<>D207),MAX($F$1:F205)+1,\"\")","v":""},"00:00:00"]
["Juillet 3e-4e semaine",20,"2019-07-19",0,{"$f":"IF(OR(D207=0,D207=D206),\"\",IF(OR(D207<>\"\",D207<>D208),MAX($E$1:E206)+1,0))","v":""},{"$f":"IF(AND(D207<>0,D207<>D208),MAX($F$1:F206)+1,\"\")","v":""},"00:00:00"]
["Juillet 3e-4e semaine",21,"2019-07-20",0,{"$f":"IF(OR(D208=0,D208=D207),\"\",IF(OR(D208<>\"\",D208<>D209),MAX($E$1:E207)+1,0))","v":""},{"$f":"IF(AND(D208<>0,D208<>D209),MAX($F$1:F207)+1,\"\")","v":""},"00:00:00"]
["Juillet 3e-4e semaine",22,"2019-07-21",0,{"$f":"IF(OR(D209=0,D209=D208),\"\",IF(OR(D209<>\"\",D209<>D210),MAX($E$1:E208)+1,0))","v":""},{"$f":"IF(AND(D209<>0,D209<>D210),MAX($F$1:F208)+1,\"\")","v":""},"00:00:00"]
["Juillet 3e-4e semaine",29,"2019-07-22",0,{"$f":"IF(OR(D210=0,D210=D209),\"\",IF(OR(D210<>\"\",D210<>D211),MAX($E$1:E209)+1,0))","v":""},{"$f":"IF(AND(D210<>0,D210<>D211),MAX($F$1:F209)+1,\"\")","v":""},"00:00:00"]
["Juillet 3e-4e semaine",30,"2019-07-23",0,{"$f":"IF(OR(D211=0,D211=D210),\"\",IF(OR(D211<>\"\",D211<>D212),MAX($E$1:E210)+1,0))","v":""},{"$f":"IF(AND(D211<>0,D211<>D212),MAX($F$1:F210)+1,\"\")","v":""},"00:00:00"]
["Juillet 3e-4e semaine",31,"2019-07-24",0,{"$f":"IF(OR(D212=0,D212=D211),\"\",IF(OR(D212<>\"\",D212<>D213),MAX($E$1:E211)+1,0))","v":""},{"$f":"IF(AND(D212<>0,D212<>D213),MAX($F$1:F211)+1,\"\")","v":""},"00:00:00"]
["Juillet 3e-4e semaine",32,"2019-07-25",0,{"$f":"IF(OR(D213=0,D213=D212),\"\",IF(OR(D213<>\"\",D213<>D214),MAX($E$1:E212)+1,0))","v":""},{"$f":"IF(AND(D213<>0,D213<>D214),MAX($F$1:F212)+1,\"\")","v":""},"00:00:00"]
["Juillet 3e-4e semaine",33,"2019-07-26",0,{"$f":"IF(OR(D214=0,D214=D213),\"\",IF(OR(D214<>\"\",D214<>D215),MAX($E$1:E213)+1,0))","v":""},{"$f":"IF(AND(D214<>0,D214<>D215),MAX($F$1:F213)+1,\"\")","v":""},"00:00:00"]
["Juillet 3e-4e semaine",34,"2019-07-27",0,{"$f":"IF(OR(D215=0,D215=D214),\"\",IF(OR(D215<>\"\",D215<>D216),MAX($E$1:E214)+1,0))","v":""},{"$f":"IF(AND(D215<>0,D215<>D216),MAX($F$1:F214)+1,\"\")","v":""},"00:00:00"]
["Juillet 3e-4e semaine",35,"2019-07-28",0,{"$f":"IF(OR(D216=0,D216=D215),\"\",IF(OR(D216<>\"\",D216<>D217),MAX($E$1:E215)+1,0))","v":""},{"$f":"IF(AND(D216<>0,D216<>D217),MAX($F$1:F215)+1,\"\")","v":""},"00:00:00"]
["Fin Juillet-Août 2prem. sem.",16,"2019-07-29",0,{"$f":"IF(OR(D217=0,D217=D216),\"\",IF(OR(D217<>\"\",D217<>D218),MAX($E$1:E216)+1,0))","v":""},{"$f":"IF(AND(D217<>0,D217<>D218),MAX($F$1:F216)+1,\"\")","v":""},"00:00:00"]
["Fin Juillet-Août 2prem. sem.",17,"2019-07-30",0,{"$f":"IF(OR(D218=0,D218=D217),\"\",IF(OR(D218<>\"\",D218<>D219),MAX($E$1:E217)+1,0))","v":""},{"$f":"IF(AND(D218<>0,D218<>D219),MAX($F$1:F217)+1,\"\")","v":""},"00:00:00"]
["Fin Juillet-Août 2prem. sem.",18,"2019-07-31",0,{"$f":"IF(OR(D219=0,D219=D218),\"\",IF(OR(D219<>\"\",D219<>D220),MAX($E$1:E218)+1,0))","v":""},{"$f":"IF(AND(D219<>0,D219<>D220),MAX($F$1:F218)+1,\"\")","v":""},"00:00:00"]
["Fin Juillet-Août 2prem. sem.",19,"2019-08-01",0,{"$f":"IF(OR(D220=0,D220=D219),\"\",IF(OR(D220<>\"\",D220<>D221),MAX($E$1:E219)+1,0))","v":""},{"$f":"IF(AND(D220<>0,D220<>D221),MAX($F$1:F219)+1,\"\")","v":""},"00:00:00"]
["Fin Juillet-Août 2prem. sem.",20,"2019-08-02",0,{"$f":"IF(OR(D221=0,D221=D220),\"\",IF(OR(D221<>\"\",D221<>D222),MAX($E$1:E220)+1,0))","v":""},{"$f":"IF(AND(D221<>0,D221<>D222),MAX($F$1:F220)+1,\"\")","v":""},"00:00:00"]
["Fin Juillet-Août 2prem. sem.",21,"2019-08-03",0,{"$f":"IF(OR(D222=0,D222=D221),\"\",IF(OR(D222<>\"\",D222<>D223),MAX($E$1:E221)+1,0))","v":""},{"$f":"IF(AND(D222<>0,D222<>D223),MAX($F$1:F221)+1,\"\")","v":""},"00:00:00"]
["Fin Juillet-Août 2prem. sem.",22,"2019-08-04",0,{"$f":"IF(OR(D223=0,D223=D222),\"\",IF(OR(D223<>\"\",D223<>D224),MAX($E$1:E222)+1,0))","v":""},{"$f":"IF(AND(D223<>0,D223<>D224),MAX($F$1:F222)+1,\"\")","v":""},"00:00:00"]
["Fin Juillet-Août 2prem. sem.",29,"2019-08-05",0,{"$f":"IF(OR(D224=0,D224=D223),\"\",IF(OR(D224<>\"\",D224<>D225),MAX($E$1:E223)+1,0))","v":""},{"$f":"IF(AND(D224<>0,D224<>D225),MAX($F$1:F223)+1,\"\")","v":""},"00:00:00"]
["Fin Juillet-Août 2prem. sem.",30,"2019-08-06",0,{"$f":"IF(OR(D225=0,D225=D224),\"\",IF(OR(D225<>\"\",D225<>D226),MAX($E$1:E224)+1,0))","v":""},{"$f":"IF(AND(D225<>0,D225<>D226),MAX($F$1:F224)+1,\"\")","v":""},"00:00:00"]
["Fin Juillet-Août 2prem. sem.",31,"2019-08-07",0,{"$f":"IF(OR(D226=0,D226=D225),\"\",IF(OR(D226<>\"\",D226<>D227),MAX($E$1:E225)+1,0))","v":""},{"$f":"IF(AND(D226<>0,D226<>D227),MAX($F$1:F225)+1,\"\")","v":""},"00:00:00"]
["Fin Juillet-Août 2prem. sem.",32,"2019-08-08",0,{"$f":"IF(OR(D227=0,D227=D226),\"\",IF(OR(D227<>\"\",D227<>D228),MAX($E$1:E226)+1,0))","v":""},{"$f":"IF(AND(D227<>0,D227<>D228),MAX($F$1:F226)+1,\"\")","v":""},"00:00:00"]
["Fin Juillet-Août 2prem. sem.",33,"2019-08-09",0,{"$f":"IF(OR(D228=0,D228=D227),\"\",IF(OR(D228<>\"\",D228<>D229),MAX($E$1:E227)+1,0))","v":""},{"$f":"IF(AND(D228<>0,D228<>D229),MAX($F$1:F227)+1,\"\")","v":""},"00:00:00"]
["Fin Juillet-Août 2prem. sem.",34,"2019-08-10",0,{"$f":"IF(OR(D229=0,D229=D228),\"\",IF(OR(D229<>\"\",D229<>D230),MAX($E$1:E228)+1,0))","v":""},{"$f":"IF(AND(D229<>0,D229<>D230),MAX($F$1:F228)+1,\"\")","v":""},"00:00:00"]
["Fin Juillet-Août 2prem. sem.",35,"2019-08-11",0,{"$f":"IF(OR(D230=0,D230=D229),\"\",IF(OR(D230<>\"\",D230<>D231),MAX($E$1:E229)+1,0))","v":""},{"$f":"IF(AND(D230<>0,D230<>D231),MAX($F$1:F229)+1,\"\")","v":""},"00:00:00"]
["Août 3e-4e semaine",16,"2019-08-12",0,{"$f":"IF(OR(D231=0,D231=D230),\"\",IF(OR(D231<>\"\",D231<>D232),MAX($E$1:E230)+1,0))","v":""},{"$f":"IF(AND(D231<>0,D231<>D232),MAX($F$1:F230)+1,\"\")","v":""},"00:00:00"]
["Août 3e-4e semaine",17,"2019-08-13",0,{"$f":"IF(OR(D232=0,D232=D231),\"\",IF(OR(D232<>\"\",D232<>D233),MAX($E$1:E231)+1,0))","v":""},{"$f":"IF(AND(D232<>0,D232<>D233),MAX($F$1:F231)+1,\"\")","v":""},"00:00:00"]
["Août 3e-4e semaine",18,"2019-08-14",0,{"$f":"IF(OR(D233=0,D233=D232),\"\",IF(OR(D233<>\"\",D233<>D234),MAX($E$1:E232)+1,0))","v":""},{"$f":"IF(AND(D233<>0,D233<>D234),MAX($F$1:F232)+1,\"\")","v":""},"00:00:00"]
["Août 3e-4e semaine",19,"2019-08-15",0,{"$f":"IF(OR(D234=0,D234=D233),\"\",IF(OR(D234<>\"\",D234<>D235),MAX($E$1:E233)+1,0))","v":""},{"$f":"IF(AND(D234<>0,D234<>D235),MAX($F$1:F233)+1,\"\")","v":""},"00:00:00"]
["Août 3e-4e semaine",20,"2019-08-16",0,{"$f":"IF(OR(D235=0,D235=D234),\"\",IF(OR(D235<>\"\",D235<>D236),MAX($E$1:E234)+1,0))","v":""},{"$f":"IF(AND(D235<>0,D235<>D236),MAX($F$1:F234)+1,\"\")","v":""},"00:00:00"]
["Août 3e-4e semaine",21,"2019-08-17",0,{"$f":"IF(OR(D236=0,D236=D235),\"\",IF(OR(D236<>\"\",D236<>D237),MAX($E$1:E235)+1,0))","v":""},{"$f":"IF(AND(D236<>0,D236<>D237),MAX($F$1:F235)+1,\"\")","v":""},"00:00:00"]
["Août 3e-4e semaine",22,"2019-08-18",0,{"$f":"IF(OR(D237=0,D237=D236),\"\",IF(OR(D237<>\"\",D237<>D238),MAX($E$1:E236)+1,0))","v":""},{"$f":"IF(AND(D237<>0,D237<>D238),MAX($F$1:F236)+1,\"\")","v":""},"00:00:00"]
["Août 3e-4e semaine",29,{"$f":"INDIRECT(ADDRESS(B238,1,,,A238))","v":"2019-08-19"},0,{"$f":"IF(OR(D238=0,D238=D237),\"\",IF(OR(D238<>\"\",D238<>D239),MAX($E$1:E237)+1,0))","v":""},{"$f":"IF(AND(D238<>0,D238<>D239),MAX($F$1:F237)+1,\"\")","v":""},"00:00:00"]
["Août 3e-4e semaine",30,"2019-08-20",0,{"$f":"IF(OR(D239=0,D239=D238),\"\",IF(OR(D239<>\"\",D239<>D240),MAX($E$1:E238)+1,0))","v":""},{"$f":"IF(AND(D239<>0,D239<>D240),MAX($F$1:F238)+1,\"\")","v":""},"00:00:00"]
["Août 3e-4e semaine",31,"2019-08-21",0,{"$f":"IF(OR(D240=0,D240=D239),\"\",IF(OR(D240<>\"\",D240<>D241),MAX($E$1:E239)+1,0))","v":""},{"$f":"IF(AND(D240<>0,D240<>D241),MAX($F$1:F239)+1,\"\")","v":""},"00:00:00"]
["Août 3e-4e semaine",32,"2019-08-22",0,{"$f":"IF(OR(D241=0,D241=D240),\"\",IF(OR(D241<>\"\",D241<>D242),MAX($E$1:E240)+1,0))","v":""},{"$f":"IF(AND(D241<>0,D241<>D242),MAX($F$1:F240)+1,\"\")","v":""},"00:00:00"]
["Août 3e-4e semaine",33,"2019-08-23",0,{"$f":"IF(OR(D242=0,D242=D241),\"\",IF(OR(D242<>\"\",D242<>D243),MAX($E$1:E241)+1,0))","v":""},{"$f":"IF(AND(D242<>0,D242<>D243),MAX($F$1:F241)+1,\"\")","v":""},"00:00:00"]
["Août 3e-4e semaine",34,"2019-08-24",0,{"$f":"IF(OR(D243=0,D243=D242),\"\",IF(OR(D243<>\"\",D243<>D244),MAX($E$1:E242)+1,0))","v":""},{"$f":"IF(AND(D243<>0,D243<>D244),MAX($F$1:F242)+1,\"\")","v":""},"00:00:00"]
["Août 3e-4e semaine",35,"2019-08-25",0,{"$f":"IF(OR(D244=0,D244=D243),\"\",IF(OR(D244<>\"\",D244<>D245),MAX($E$1:E243)+1,0))","v":""},{"$f":"IF(AND(D244<>0,D244<>D245),MAX($F$1:F243)+1,\"\")","v":""},"00:00:00"]
["Fin Août-Sept 2 prem. sem.",16,"2019-08-26",0,{"$f":"IF(OR(D245=0,D245=D244),\"\",IF(OR(D245<>\"\",D245<>D246),MAX($E$1:E244)+1,0))","v":""},{"$f":"IF(AND(D245<>0,D245<>D246),MAX($F$1:F244)+1,\"\")","v":""},"00:00:00"]
["Fin Août-Sept 2 prem. sem.",17,"2019-08-27",0,{"$f":"IF(OR(D246=0,D246=D245),\"\",IF(OR(D246<>\"\",D246<>D247),MAX($E$1:E245)+1,0))","v":""},{"$f":"IF(AND(D246<>0,D246<>D247),MAX($F$1:F245)+1,\"\")","v":""},"00:00:00"]
["Fin Août-Sept 2 prem. sem.",18,"2019-08-28",0,{"$f":"IF(OR(D247=0,D247=D246),\"\",IF(OR(D247<>\"\",D247<>D248),MAX($E$1:E246)+1,0))","v":""},{"$f":"IF(AND(D247<>0,D247<>D248),MAX($F$1:F246)+1,\"\")","v":""},"00:00:00"]
["Fin Août-Sept 2 prem. sem.",19,"2019-08-29",0,{"$f":"IF(OR(D248=0,D248=D247),\"\",IF(OR(D248<>\"\",D248<>D249),MAX($E$1:E247)+1,0))","v":""},{"$f":"IF(AND(D248<>0,D248<>D249),MAX($F$1:F247)+1,\"\")","v":""},"00:00:00"]
["Fin Août-Sept 2 prem. sem.",20,"2019-08-30",0,{"$f":"IF(OR(D249=0,D249=D248),\"\",IF(OR(D249<>\"\",D249<>D250),MAX($E$1:E248)+1,0))","v":""},{"$f":"IF(AND(D249<>0,D249<>D250),MAX($F$1:F248)+1,\"\")","v":""},"00:00:00"]
["Fin Août-Sept 2 prem. sem.",21,"2019-08-31",0,{"$f":"IF(OR(D250=0,D250=D249),\"\",IF(OR(D250<>\"\",D250<>D251),MAX($E$1:E249)+1,0))","v":""},{"$f":"IF(AND(D250<>0,D250<>D251),MAX($F$1:F249)+1,\"\")","v":""},"00:00:00"]
["Fin Août-Sept 2 prem. sem.",22,"2019-09-01",0,{"$f":"IF(OR(D251=0,D251=D250),\"\",IF(OR(D251<>\"\",D251<>D252),MAX($E$1:E250)+1,0))","v":""},{"$f":"IF(AND(D251<>0,D251<>D252),MAX($F$1:F250)+1,\"\")","v":""},"00:00:00"]
["Fin Août-Sept 2 prem. sem.",29,"2019-09-02",0,{"$f":"IF(OR(D252=0,D252=D251),\"\",IF(OR(D252<>\"\",D252<>D253),MAX($E$1:E251)+1,0))","v":""},{"$f":"IF(AND(D252<>0,D252<>D253),MAX($F$1:F251)+1,\"\")","v":""},"00:00:00"]
["Fin Août-Sept 2 prem. sem.",30,"2019-09-03",0,{"$f":"IF(OR(D253=0,D253=D252),\"\",IF(OR(D253<>\"\",D253<>D254),MAX($E$1:E252)+1,0))","v":""},{"$f":"IF(AND(D253<>0,D253<>D254),MAX($F$1:F252)+1,\"\")","v":""},"00:00:00"]
["Fin Août-Sept 2 prem. sem.",31,"2019-09-04",0,{"$f":"IF(OR(D254=0,D254=D253),\"\",IF(OR(D254<>\"\",D254<>D255),MAX($E$1:E253)+1,0))","v":""},{"$f":"IF(AND(D254<>0,D254<>D255),MAX($F$1:F253)+1,\"\")","v":""},"00:00:00"]
["Fin Août-Sept 2 prem. sem.",32,"2019-09-05",0,{"$f":"IF(OR(D255=0,D255=D254),\"\",IF(OR(D255<>\"\",D255<>D256),MAX($E$1:E254)+1,0))","v":""},{"$f":"IF(AND(D255<>0,D255<>D256),MAX($F$1:F254)+1,\"\")","v":""},"00:00:00"]
["Fin Août-Sept 2 prem. sem.",33,"2019-09-06",0,{"$f":"IF(OR(D256=0,D256=D255),\"\",IF(OR(D256<>\"\",D256<>D257),MAX($E$1:E255)+1,0))","v":""},{"$f":"IF(AND(D256<>0,D256<>D257),MAX($F$1:F255)+1,\"\")","v":""},"00:00:00"]
["Fin Août-Sept 2 prem. sem.",34,"2019-09-07",0,{"$f":"IF(OR(D257=0,D257=D256),\"\",IF(OR(D257<>\"\",D257<>D258),MAX($E$1:E256)+1,0))","v":""},{"$f":"IF(AND(D257<>0,D257<>D258),MAX($F$1:F256)+1,\"\")","v":""},"00:00:00"]
["Fin Août-Sept 2 prem. sem.",35,"2019-09-08",0,{"$f":"IF(OR(D258=0,D258=D257),\"\",IF(OR(D258<>\"\",D258<>D259),MAX($E$1:E257)+1,0))","v":""},{"$f":"IF(AND(D258<>0,D258<>D259),MAX($F$1:F257)+1,\"\")","v":""},"00:00:00"]
["Septembre 3e-4e semaine",16,"2019-09-09",0,{"$f":"IF(OR(D259=0,D259=D258),\"\",IF(OR(D259<>\"\",D259<>D260),MAX($E$1:E258)+1,0))","v":""},{"$f":"IF(AND(D259<>0,D259<>D260),MAX($F$1:F258)+1,\"\")","v":""},{"$f":"INDIRECT(ADDRESS($B259,8,,,$A259))","v":"00:00:00"}]
["Septembre 3e-4e semaine",17,"2019-09-10",0,{"$f":"IF(OR(D260=0,D260=D259),\"\",IF(OR(D260<>\"\",D260<>D261),MAX($E$1:E259)+1,0))","v":""},{"$f":"IF(AND(D260<>0,D260<>D261),MAX($F$1:F259)+1,\"\")","v":""},"00:00:00"]
["Septembre 3e-4e semaine",18,"2019-09-11",0,{"$f":"IF(OR(D261=0,D261=D260),\"\",IF(OR(D261<>\"\",D261<>D262),MAX($E$1:E260)+1,0))","v":""},{"$f":"IF(AND(D261<>0,D261<>D262),MAX($F$1:F260)+1,\"\")","v":""},"00:00:00"]
["Septembre 3e-4e semaine",19,"2019-09-12",0,{"$f":"IF(OR(D262=0,D262=D261),\"\",IF(OR(D262<>\"\",D262<>D263),MAX($E$1:E261)+1,0))","v":""},{"$f":"IF(AND(D262<>0,D262<>D263),MAX($F$1:F261)+1,\"\")","v":""},"00:00:00"]
["Septembre 3e-4e semaine",20,"2019-09-13",0,{"$f":"IF(OR(D263=0,D263=D262),\"\",IF(OR(D263<>\"\",D263<>D264),MAX($E$1:E262)+1,0))","v":""},{"$f":"IF(AND(D263<>0,D263<>D264),MAX($F$1:F262)+1,\"\")","v":""},"00:00:00"]
["Septembre 3e-4e semaine",21,"2019-09-14",0,{"$f":"IF(OR(D264=0,D264=D263),\"\",IF(OR(D264<>\"\",D264<>D265),MAX($E$1:E263)+1,0))","v":""},{"$f":"IF(AND(D264<>0,D264<>D265),MAX($F$1:F263)+1,\"\")","v":""},"00:00:00"]
["Septembre 3e-4e semaine",22,"2019-09-15",0,{"$f":"IF(OR(D265=0,D265=D264),\"\",IF(OR(D265<>\"\",D265<>D266),MAX($E$1:E264)+1,0))","v":""},{"$f":"IF(AND(D265<>0,D265<>D266),MAX($F$1:F264)+1,\"\")","v":""},"00:00:00"]
["Septembre 3e-4e semaine",29,"2019-09-16",0,{"$f":"IF(OR(D266=0,D266=D265),\"\",IF(OR(D266<>\"\",D266<>D267),MAX($E$1:E265)+1,0))","v":""},{"$f":"IF(AND(D266<>0,D266<>D267),MAX($F$1:F265)+1,\"\")","v":""},"00:00:00"]
["Septembre 3e-4e semaine",30,"2019-09-17",{"$f":"INDIRECT(ADDRESS($B267,9,,,$A267))","v":0},{"$f":"IF(OR(D267=0,D267=D266),\"\",IF(OR(D267<>\"\",D267<>D268),MAX($E$1:E266)+1,0))","v":""},{"$f":"IF(AND(D267<>0,D267<>D268),MAX($F$1:F266)+1,\"\")","v":""},"00:00:00"]
["Septembre 3e-4e semaine",31,"2019-09-18",0,{"$f":"IF(OR(D268=0,D268=D267),\"\",IF(OR(D268<>\"\",D268<>D269),MAX($E$1:E267)+1,0))","v":""},{"$f":"IF(AND(D268<>0,D268<>D269),MAX($F$1:F267)+1,\"\")","v":""},"00:00:00"]
["Septembre 3e-4e semaine",32,"2019-09-19",0,{"$f":"IF(OR(D269=0,D269=D268),\"\",IF(OR(D269<>\"\",D269<>D270),MAX($E$1:E268)+1,0))","v":""},{"$f":"IF(AND(D269<>0,D269<>D270),MAX($F$1:F268)+1,\"\")","v":""},"00:00:00"]
["Septembre 3e-4e semaine",33,"2019-09-20",0,{"$f":"IF(OR(D270=0,D270=D269),\"\",IF(OR(D270<>\"\",D270<>D271),MAX($E$1:E269)+1,0))","v":""},{"$f":"IF(AND(D270<>0,D270<>D271),MAX($F$1:F269)+1,\"\")","v":""},"00:00:00"]
["Septembre 3e-4e semaine",34,"2019-09-21",0,{"$f":"IF(OR(D271=0,D271=D270),\"\",IF(OR(D271<>\"\",D271<>D272),MAX($E$1:E270)+1,0))","v":""},{"$f":"IF(AND(D271<>0,D271<>D272),MAX($F$1:F270)+1,\"\")","v":""},"00:00:00"]
["Septembre 3e-4e semaine",35,"2019-09-22",0,{"$f":"IF(OR(D272=0,D272=D271),\"\",IF(OR(D272<>\"\",D272<>D273),MAX($E$1:E271)+1,0))","v":""},{"$f":"IF(AND(D272<>0,D272<>D273),MAX($F$1:F271)+1,\"\")","v":""},"00:00:00"]
["Fin Sept.-Oct.-première semaine",16,{"$f":"INDIRECT(ADDRESS(B273,1,,,A273))","v":"2019-09-23"},0,{"$f":"IF(OR(D273=0,D273=D272),\"\",IF(OR(D273<>\"\",D273<>D274),MAX($E$1:E272)+1,0))","v":""},{"$f":"IF(AND(D273<>0,D273<>D274),MAX($F$1:F272)+1,\"\")","v":""},"00:00:00"]
["Fin Sept.-Oct.-première semaine",17,"2019-09-24",0,{"$f":"IF(OR(D274=0,D274=D273),\"\",IF(OR(D274<>\"\",D274<>D275),MAX($E$1:E273)+1,0))","v":""},{"$f":"IF(AND(D274<>0,D274<>D275),MAX($F$1:F273)+1,\"\")","v":""},"00:00:00"]
["Fin Sept.-Oct.-première semaine",18,"2019-09-25",0,{"$f":"IF(OR(D275=0,D275=D274),\"\",IF(OR(D275<>\"\",D275<>D276),MAX($E$1:E274)+1,0))","v":""},{"$f":"IF(AND(D275<>0,D275<>D276),MAX($F$1:F274)+1,\"\")","v":""},"00:00:00"]
["Fin Sept.-Oct.-première semaine",19,"2019-09-26",0,{"$f":"IF(OR(D276=0,D276=D275),\"\",IF(OR(D276<>\"\",D276<>D277),MAX($E$1:E275)+1,0))","v":""},{"$f":"IF(AND(D276<>0,D276<>D277),MAX($F$1:F275)+1,\"\")","v":""},"00:00:00"]
["Fin Sept.-Oct.-première semaine",20,"2019-09-27",0,{"$f":"IF(OR(D277=0,D277=D276),\"\",IF(OR(D277<>\"\",D277<>D278),MAX($E$1:E276)+1,0))","v":""},{"$f":"IF(AND(D277<>0,D277<>D278),MAX($F$1:F276)+1,\"\")","v":""},"00:00:00"]
["Fin Sept.-Oct.-première semaine",21,"2019-09-28",0,{"$f":"IF(OR(D278=0,D278=D277),\"\",IF(OR(D278<>\"\",D278<>D279),MAX($E$1:E277)+1,0))","v":""},{"$f":"IF(AND(D278<>0,D278<>D279),MAX($F$1:F277)+1,\"\")","v":""},"00:00:00"]
["Fin Sept.-Oct.-première semaine",22,"2019-09-29",0,{"$f":"IF(OR(D279=0,D279=D278),\"\",IF(OR(D279<>\"\",D279<>D280),MAX($E$1:E278)+1,0))","v":""},{"$f":"IF(AND(D279<>0,D279<>D280),MAX($F$1:F278)+1,\"\")","v":""},"00:00:00"]
["Fin Sept.-Oct.-première semaine",29,"2019-09-30",0,{"$f":"IF(OR(D280=0,D280=D279),\"\",IF(OR(D280<>\"\",D280<>D281),MAX($E$1:E279)+1,0))","v":""},{"$f":"IF(AND(D280<>0,D280<>D281),MAX($F$1:F279)+1,\"\")","v":""},"00:00:00"]
["Fin Sept.-Oct.-première semaine",30,"2019-10-01",0,{"$f":"IF(OR(D281=0,D281=D280),\"\",IF(OR(D281<>\"\",D281<>D282),MAX($E$1:E280)+1,0))","v":""},{"$f":"IF(AND(D281<>0,D281<>D282),MAX($F$1:F280)+1,\"\")","v":""},"00:00:00"]
["Fin Sept.-Oct.-première semaine",31,"2019-10-02",0,{"$f":"IF(OR(D282=0,D282=D281),\"\",IF(OR(D282<>\"\",D282<>D283),MAX($E$1:E281)+1,0))","v":""},{"$f":"IF(AND(D282<>0,D282<>D283),MAX($F$1:F281)+1,\"\")","v":""},"00:00:00"]
["Fin Sept.-Oct.-première semaine",32,"2019-10-03",0,{"$f":"IF(OR(D283=0,D283=D282),\"\",IF(OR(D283<>\"\",D283<>D284),MAX($E$1:E282)+1,0))","v":""},{"$f":"IF(AND(D283<>0,D283<>D284),MAX($F$1:F282)+1,\"\")","v":""},"00:00:00"]
["Fin Sept.-Oct.-première semaine",33,"2019-10-04",0,{"$f":"IF(OR(D284=0,D284=D283),\"\",IF(OR(D284<>\"\",D284<>D285),MAX($E$1:E283)+1,0))","v":""},{"$f":"IF(AND(D284<>0,D284<>D285),MAX($F$1:F283)+1,\"\")","v":""},"00:00:00"]
["Fin Sept.-Oct.-première semaine",34,"2019-10-05",0,{"$f":"IF(OR(D285=0,D285=D284),\"\",IF(OR(D285<>\"\",D285<>D286),MAX($E$1:E284)+1,0))","v":""},{"$f":"IF(AND(D285<>0,D285<>D286),MAX($F$1:F284)+1,\"\")","v":""},"00:00:00"]
["Fin Sept.-Oct.-première semaine",35,"2019-10-06",0,{"$f":"IF(OR(D286=0,D286=D285),\"\",IF(OR(D286<>\"\",D286<>D287),MAX($E$1:E285)+1,0))","v":""},{"$f":"IF(AND(D286<>0,D286<>D287),MAX($F$1:F285)+1,\"\")","v":""},"00:00:00"]
["Octobre-2e-3e semaine",16,"2019-10-07",0,{"$f":"IF(OR(D287=0,D287=D286),\"\",IF(OR(D287<>\"\",D287<>D288),MAX($E$1:E286)+1,0))","v":""},{"$f":"IF(AND(D287<>0,D287<>D288),MAX($F$1:F286)+1,\"\")","v":""},"00:00:00"]
["Octobre-2e-3e semaine",17,"2019-10-08",0,{"$f":"IF(OR(D288=0,D288=D287),\"\",IF(OR(D288<>\"\",D288<>D289),MAX($E$1:E287)+1,0))","v":""},{"$f":"IF(AND(D288<>0,D288<>D289),MAX($F$1:F287)+1,\"\")","v":""},"00:00:00"]
["Octobre-2e-3e semaine",18,"2019-10-09",0,{"$f":"IF(OR(D289=0,D289=D288),\"\",IF(OR(D289<>\"\",D289<>D290),MAX($E$1:E288)+1,0))","v":""},{"$f":"IF(AND(D289<>0,D289<>D290),MAX($F$1:F288)+1,\"\")","v":""},"00:00:00"]
["Octobre-2e-3e semaine",19,"2019-10-10",0,{"$f":"IF(OR(D290=0,D290=D289),\"\",IF(OR(D290<>\"\",D290<>D291),MAX($E$1:E289)+1,0))","v":""},{"$f":"IF(AND(D290<>0,D290<>D291),MAX($F$1:F289)+1,\"\")","v":""},"00:00:00"]
["Octobre-2e-3e semaine",20,"2019-10-11",0,{"$f":"IF(OR(D291=0,D291=D290),\"\",IF(OR(D291<>\"\",D291<>D292),MAX($E$1:E290)+1,0))","v":""},{"$f":"IF(AND(D291<>0,D291<>D292),MAX($F$1:F290)+1,\"\")","v":""},"00:00:00"]
["Octobre-2e-3e semaine",21,"2019-10-12",0,{"$f":"IF(OR(D292=0,D292=D291),\"\",IF(OR(D292<>\"\",D292<>D293),MAX($E$1:E291)+1,0))","v":""},{"$f":"IF(AND(D292<>0,D292<>D293),MAX($F$1:F291)+1,\"\")","v":""},"00:00:00"]
["Octobre-2e-3e semaine",22,"2019-10-13",0,{"$f":"IF(OR(D293=0,D293=D292),\"\",IF(OR(D293<>\"\",D293<>D294),MAX($E$1:E292)+1,0))","v":""},{"$f":"IF(AND(D293<>0,D293<>D294),MAX($F$1:F292)+1,\"\")","v":""},"00:00:00"]
["Octobre-2e-3e semaine",29,"2019-10-14",0,{"$f":"IF(OR(D294=0,D294=D293),\"\",IF(OR(D294<>\"\",D294<>D295),MAX($E$1:E293)+1,0))","v":""},{"$f":"IF(AND(D294<>0,D294<>D295),MAX($F$1:F293)+1,\"\")","v":""},"00:00:00"]
["Octobre-2e-3e semaine",30,"2019-10-15",0,{"$f":"IF(OR(D295=0,D295=D294),\"\",IF(OR(D295<>\"\",D295<>D296),MAX($E$1:E294)+1,0))","v":""},{"$f":"IF(AND(D295<>0,D295<>D296),MAX($F$1:F294)+1,\"\")","v":""},"00:00:00"]
["Octobre-2e-3e semaine",31,"2019-10-16",0,{"$f":"IF(OR(D296=0,D296=D295),\"\",IF(OR(D296<>\"\",D296<>D297),MAX($E$1:E295)+1,0))","v":""},{"$f":"IF(AND(D296<>0,D296<>D297),MAX($F$1:F295)+1,\"\")","v":""},"00:00:00"]
["Octobre-2e-3e semaine",32,"2019-10-17",0,{"$f":"IF(OR(D297=0,D297=D296),\"\",IF(OR(D297<>\"\",D297<>D298),MAX($E$1:E296)+1,0))","v":""},{"$f":"IF(AND(D297<>0,D297<>D298),MAX($F$1:F296)+1,\"\")","v":""},"00:00:00"]
["Octobre-2e-3e semaine",33,"2019-10-18",0,{"$f":"IF(OR(D298=0,D298=D297),\"\",IF(OR(D298<>\"\",D298<>D299),MAX($E$1:E297)+1,0))","v":""},{"$f":"IF(AND(D298<>0,D298<>D299),MAX($F$1:F297)+1,\"\")","v":""},"00:00:00"]
["Octobre-2e-3e semaine",34,"2019-10-19",0,{"$f":"IF(OR(D299=0,D299=D298),\"\",IF(OR(D299<>\"\",D299<>D300),MAX($E$1:E298)+1,0))","v":""},{"$f":"IF(AND(D299<>0,D299<>D300),MAX($F$1:F298)+1,\"\")","v":""},"00:00:00"]
["Octobre-2e-3e semaine",35,"2019-10-20",0,{"$f":"IF(OR(D300=0,D300=D299),\"\",IF(OR(D300<>\"\",D300<>D301),MAX($E$1:E299)+1,0))","v":""},{"$f":"IF(AND(D300<>0,D300<>D301),MAX($F$1:F299)+1,\"\")","v":""},"00:00:00"]
["Fin Oct.-Nov.-première semaine",16,"2019-10-21",0,{"$f":"IF(OR(D301=0,D301=D300),\"\",IF(OR(D301<>\"\",D301<>D302),MAX($E$1:E300)+1,0))","v":""},{"$f":"IF(AND(D301<>0,D301<>D302),MAX($F$1:F300)+1,\"\")","v":""},"00:00:00"]
["Fin Oct.-Nov.-première semaine",17,"2019-10-22",0,{"$f":"IF(OR(D302=0,D302=D301),\"\",IF(OR(D302<>\"\",D302<>D303),MAX($E$1:E301)+1,0))","v":""},{"$f":"IF(AND(D302<>0,D302<>D303),MAX($F$1:F301)+1,\"\")","v":""},"00:00:00"]
["Fin Oct.-Nov.-première semaine",18,"2019-10-23",0,{"$f":"IF(OR(D303=0,D303=D302),\"\",IF(OR(D303<>\"\",D303<>D304),MAX($E$1:E302)+1,0))","v":""},{"$f":"IF(AND(D303<>0,D303<>D304),MAX($F$1:F302)+1,\"\")","v":""},"00:00:00"]
["Fin Oct.-Nov.-première semaine",19,"2019-10-24",0,{"$f":"IF(OR(D304=0,D304=D303),\"\",IF(OR(D304<>\"\",D304<>D305),MAX($E$1:E303)+1,0))","v":""},{"$f":"IF(AND(D304<>0,D304<>D305),MAX($F$1:F303)+1,\"\")","v":""},"00:00:00"]
["Fin Oct.-Nov.-première semaine",20,"2019-10-25",0,{"$f":"IF(OR(D305=0,D305=D304),\"\",IF(OR(D305<>\"\",D305<>D306),MAX($E$1:E304)+1,0))","v":""},{"$f":"IF(AND(D305<>0,D305<>D306),MAX($F$1:F304)+1,\"\")","v":""},"00:00:00"]
["Fin Oct.-Nov.-première semaine",21,"2019-10-26",0,{"$f":"IF(OR(D306=0,D306=D305),\"\",IF(OR(D306<>\"\",D306<>D307),MAX($E$1:E305)+1,0))","v":""},{"$f":"IF(AND(D306<>0,D306<>D307),MAX($F$1:F305)+1,\"\")","v":""},"00:00:00"]
["Fin Oct.-Nov.-première semaine",22,"2019-10-27",0,{"$f":"IF(OR(D307=0,D307=D306),\"\",IF(OR(D307<>\"\",D307<>D308),MAX($E$1:E306)+1,0))","v":""},{"$f":"IF(AND(D307<>0,D307<>D308),MAX($F$1:F306)+1,\"\")","v":""},"00:00:00"]
["Fin Oct.-Nov.-première semaine",29,{"$f":"INDIRECT(ADDRESS(B308,1,,,A308))","v":"2019-10-28"},0,{"$f":"IF(OR(D308=0,D308=D307),\"\",IF(OR(D308<>\"\",D308<>D309),MAX($E$1:E307)+1,0))","v":""},{"$f":"IF(AND(D308<>0,D308<>D309),MAX($F$1:F307)+1,\"\")","v":""},"00:00:00"]
["Fin Oct.-Nov.-première semaine",30,"2019-10-29",0,{"$f":"IF(OR(D309=0,D309=D308),\"\",IF(OR(D309<>\"\",D309<>D310),MAX($E$1:E308)+1,0))","v":""},{"$f":"IF(AND(D309<>0,D309<>D310),MAX($F$1:F308)+1,\"\")","v":""},"00:00:00"]
["Fin Oct.-Nov.-première semaine",31,"2019-10-30",0,{"$f":"IF(OR(D310=0,D310=D309),\"\",IF(OR(D310<>\"\",D310<>D311),MAX($E$1:E309)+1,0))","v":""},{"$f":"IF(AND(D310<>0,D310<>D311),MAX($F$1:F309)+1,\"\")","v":""},"00:00:00"]
["Fin Oct.-Nov.-première semaine",32,"2019-10-31",0,{"$f":"IF(OR(D311=0,D311=D310),\"\",IF(OR(D311<>\"\",D311<>D312),MAX($E$1:E310)+1,0))","v":""},{"$f":"IF(AND(D311<>0,D311<>D312),MAX($F$1:F310)+1,\"\")","v":""},"00:00:00"]
["Fin Oct.-Nov.-première semaine",33,"2019-11-01",0,{"$f":"IF(OR(D312=0,D312=D311),\"\",IF(OR(D312<>\"\",D312<>D313),MAX($E$1:E311)+1,0))","v":""},{"$f":"IF(AND(D312<>0,D312<>D313),MAX($F$1:F311)+1,\"\")","v":""},"00:00:00"]
["Fin Oct.-Nov.-première semaine",34,"2019-11-02",0,{"$f":"IF(OR(D313=0,D313=D312),\"\",IF(OR(D313<>\"\",D313<>D314),MAX($E$1:E312)+1,0))","v":""},{"$f":"IF(AND(D313<>0,D313<>D314),MAX($F$1:F312)+1,\"\")","v":""},"00:00:00"]
["Fin Oct.-Nov.-première semaine",35,"2019-11-03",0,{"$f":"IF(OR(D314=0,D314=D313),\"\",IF(OR(D314<>\"\",D314<>D315),MAX($E$1:E313)+1,0))","v":""},{"$f":"IF(AND(D314<>0,D314<>D315),MAX($F$1:F313)+1,\"\")","v":""},"00:00:00"]
["Novembre 2e-3e semaine",16,"2019-11-04",0,{"$f":"IF(OR(D315=0,D315=D314),\"\",IF(OR(D315<>\"\",D315<>D316),MAX($E$1:E314)+1,0))","v":""},{"$f":"IF(AND(D315<>0,D315<>D316),MAX($F$1:F314)+1,\"\")","v":""},"00:00:00"]
["Novembre 2e-3e semaine",17,"2019-11-05",0,{"$f":"IF(OR(D316=0,D316=D315),\"\",IF(OR(D316<>\"\",D316<>D317),MAX($E$1:E315)+1,0))","v":""},{"$f":"IF(AND(D316<>0,D316<>D317),MAX($F$1:F315)+1,\"\")","v":""},"00:00:00"]
["Novembre 2e-3e semaine",18,"2019-11-06",0,{"$f":"IF(OR(D317=0,D317=D316),\"\",IF(OR(D317<>\"\",D317<>D318),MAX($E$1:E316)+1,0))","v":""},{"$f":"IF(AND(D317<>0,D317<>D318),MAX($F$1:F316)+1,\"\")","v":""},"00:00:00"]
["Novembre 2e-3e semaine",19,"2019-11-07",0,{"$f":"IF(OR(D318=0,D318=D317),\"\",IF(OR(D318<>\"\",D318<>D319),MAX($E$1:E317)+1,0))","v":""},{"$f":"IF(AND(D318<>0,D318<>D319),MAX($F$1:F317)+1,\"\")","v":""},"00:00:00"]
["Novembre 2e-3e semaine",20,"2019-11-08",0,{"$f":"IF(OR(D319=0,D319=D318),\"\",IF(OR(D319<>\"\",D319<>D320),MAX($E$1:E318)+1,0))","v":""},{"$f":"IF(AND(D319<>0,D319<>D320),MAX($F$1:F318)+1,\"\")","v":""},"00:00:00"]
["Novembre 2e-3e semaine",21,"2019-11-09",0,{"$f":"IF(OR(D320=0,D320=D319),\"\",IF(OR(D320<>\"\",D320<>D321),MAX($E$1:E319)+1,0))","v":""},{"$f":"IF(AND(D320<>0,D320<>D321),MAX($F$1:F319)+1,\"\")","v":""},"00:00:00"]
["Novembre 2e-3e semaine",22,"2019-11-10",0,{"$f":"IF(OR(D321=0,D321=D320),\"\",IF(OR(D321<>\"\",D321<>D322),MAX($E$1:E320)+1,0))","v":""},{"$f":"IF(AND(D321<>0,D321<>D322),MAX($F$1:F320)+1,\"\")","v":""},"00:00:00"]
["Novembre 2e-3e semaine",29,"2019-11-11",0,{"$f":"IF(OR(D322=0,D322=D321),\"\",IF(OR(D322<>\"\",D322<>D323),MAX($E$1:E321)+1,0))","v":""},{"$f":"IF(AND(D322<>0,D322<>D323),MAX($F$1:F321)+1,\"\")","v":""},"00:00:00"]
["Novembre 2e-3e semaine",30,"2019-11-12",0,{"$f":"IF(OR(D323=0,D323=D322),\"\",IF(OR(D323<>\"\",D323<>D324),MAX($E$1:E322)+1,0))","v":""},{"$f":"IF(AND(D323<>0,D323<>D324),MAX($F$1:F322)+1,\"\")","v":""},{"$f":"INDIRECT(ADDRESS($B323,8,,,$A323))","v":"00:00:00"}]
["Novembre 2e-3e semaine",31,"2019-11-13",0,{"$f":"IF(OR(D324=0,D324=D323),\"\",IF(OR(D324<>\"\",D324<>D325),MAX($E$1:E323)+1,0))","v":""},{"$f":"IF(AND(D324<>0,D324<>D325),MAX($F$1:F323)+1,\"\")","v":""},"00:00:00"]
["Novembre 2e-3e semaine",32,"2019-11-14",0,{"$f":"IF(OR(D325=0,D325=D324),\"\",IF(OR(D325<>\"\",D325<>D326),MAX($E$1:E324)+1,0))","v":""},{"$f":"IF(AND(D325<>0,D325<>D326),MAX($F$1:F324)+1,\"\")","v":""},"00:00:00"]
["Novembre 2e-3e semaine",33,"2019-11-15",0,{"$f":"IF(OR(D326=0,D326=D325),\"\",IF(OR(D326<>\"\",D326<>D327),MAX($E$1:E325)+1,0))","v":""},{"$f":"IF(AND(D326<>0,D326<>D327),MAX($F$1:F325)+1,\"\")","v":""},"00:00:00"]
["Novembre 2e-3e semaine",34,"2019-11-16",0,{"$f":"IF(OR(D327=0,D327=D326),\"\",IF(OR(D327<>\"\",D327<>D328),MAX($E$1:E326)+1,0))","v":""},{"$f":"IF(AND(D327<>0,D327<>D328),MAX($F$1:F326)+1,\"\")","v":""},"00:00:00"]
["Novembre 2e-3e semaine",35,"2019-11-17",0,{"$f":"IF(OR(D328=0,D328=D327),\"\",IF(OR(D328<>\"\",D328<>D329),MAX($E$1:E327)+1,0))","v":""},{"$f":"IF(AND(D328<>0,D328<>D329),MAX($F$1:F327)+1,\"\")","v":""},"00:00:00"]
["Nov. 4e-5e semaine-Début Déc.",16,"2019-11-18",0,{"$f":"IF(OR(D329=0,D329=D328),\"\",IF(OR(D329<>\"\",D329<>D330),MAX($E$1:E328)+1,0))","v":""},{"$f":"IF(AND(D329<>0,D329<>D330),MAX($F$1:F328)+1,\"\")","v":""},"00:00:00"]
["Nov. 4e-5e semaine-Début Déc.",17,"2019-11-19",0,{"$f":"IF(OR(D330=0,D330=D329),\"\",IF(OR(D330<>\"\",D330<>D331),MAX($E$1:E329)+1,0))","v":""},{"$f":"IF(AND(D330<>0,D330<>D331),MAX($F$1:F329)+1,\"\")","v":""},"00:00:00"]
["Nov. 4e-5e semaine-Début Déc.",18,"2019-11-20",{"$f":"INDIRECT(ADDRESS($B331,9,,,$A331))","v":0},{"$f":"IF(OR(D331=0,D331=D330),\"\",IF(OR(D331<>\"\",D331<>D332),MAX($E$1:E330)+1,0))","v":""},{"$f":"IF(AND(D331<>0,D331<>D332),MAX($F$1:F330)+1,\"\")","v":""},"00:00:00"]
["Nov. 4e-5e semaine-Début Déc.",19,"2019-11-21",0,{"$f":"IF(OR(D332=0,D332=D331),\"\",IF(OR(D332<>\"\",D332<>D333),MAX($E$1:E331)+1,0))","v":""},{"$f":"IF(AND(D332<>0,D332<>D333),MAX($F$1:F331)+1,\"\")","v":""},"00:00:00"]
["Nov. 4e-5e semaine-Début Déc.",20,"2019-11-22",0,{"$f":"IF(OR(D333=0,D333=D332),\"\",IF(OR(D333<>\"\",D333<>D334),MAX($E$1:E332)+1,0))","v":""},{"$f":"IF(AND(D333<>0,D333<>D334),MAX($F$1:F332)+1,\"\")","v":""},"00:00:00"]
["Nov. 4e-5e semaine-Début Déc.",21,"2019-11-23",0,{"$f":"IF(OR(D334=0,D334=D333),\"\",IF(OR(D334<>\"\",D334<>D335),MAX($E$1:E333)+1,0))","v":""},{"$f":"IF(AND(D334<>0,D334<>D335),MAX($F$1:F333)+1,\"\")","v":""},"00:00:00"]
["Nov. 4e-5e semaine-Début Déc.",22,"2019-11-24",0,{"$f":"IF(OR(D335=0,D335=D334),\"\",IF(OR(D335<>\"\",D335<>D336),MAX($E$1:E334)+1,0))","v":""},{"$f":"IF(AND(D335<>0,D335<>D336),MAX($F$1:F334)+1,\"\")","v":""},"00:00:00"]
["Nov. 4e-5e semaine-Début Déc.",29,"2019-11-25",0,{"$f":"IF(OR(D336=0,D336=D335),\"\",IF(OR(D336<>\"\",D336<>D337),MAX($E$1:E335)+1,0))","v":""},{"$f":"IF(AND(D336<>0,D336<>D337),MAX($F$1:F335)+1,\"\")","v":""},"00:00:00"]
["Nov. 4e-5e semaine-Début Déc.",30,"2019-11-26",0,{"$f":"IF(OR(D337=0,D337=D336),\"\",IF(OR(D337<>\"\",D337<>D338),MAX($E$1:E336)+1,0))","v":""},{"$f":"IF(AND(D337<>0,D337<>D338),MAX($F$1:F336)+1,\"\")","v":""},"00:00:00"]
["Nov. 4e-5e semaine-Début Déc.",31,"2019-11-27",0,{"$f":"IF(OR(D338=0,D338=D337),\"\",IF(OR(D338<>\"\",D338<>D339),MAX($E$1:E337)+1,0))","v":""},{"$f":"IF(AND(D338<>0,D338<>D339),MAX($F$1:F337)+1,\"\")","v":""},"00:00:00"]
["Nov. 4e-5e semaine-Début Déc.",32,"2019-11-28",0,{"$f":"IF(OR(D339=0,D339=D338),\"\",IF(OR(D339<>\"\",D339<>D340),MAX($E$1:E338)+1,0))","v":""},{"$f":"IF(AND(D339<>0,D339<>D340),MAX($F$1:F338)+1,\"\")","v":""},"00:00:00"]
["Nov. 4e-5e semaine-Début Déc.",33,"2019-11-29",0,{"$f":"IF(OR(D340=0,D340=D339),\"\",IF(OR(D340<>\"\",D340<>D341),MAX($E$1:E339)+1,0))","v":""},{"$f":"IF(AND(D340<>0,D340<>D341),MAX($F$1:F339)+1,\"\")","v":""},"00:00:00"]
["Nov. 4e-5e semaine-Début Déc.",34,"2019-11-30",0,{"$f":"IF(OR(D341=0,D341=D340),\"\",IF(OR(D341<>\"\",D341<>D342),MAX($E$1:E340)+1,0))","v":""},{"$f":"IF(AND(D341<>0,D341<>D342),MAX($F$1:F340)+1,\"\")","v":""},"00:00:00"]
["Nov. 4e-5e semaine-Début Déc.",35,"2019-12-01",0,{"$f":"IF(OR(D342=0,D342=D341),\"\",IF(OR(D342<>\"\",D342<>D343),MAX($E$1:E341)+1,0))","v":""},{"$f":"IF(AND(D342<>0,D342<>D343),MAX($F$1:F341)+1,\"\")","v":""},"00:00:00"]
["Décembre 1e-2e semaine",16,"2019-12-02",0,{"$f":"IF(OR(D343=0,D343=D342),\"\",IF(OR(D343<>\"\",D343<>D344),MAX($E$1:E342)+1,0))","v":""},{"$f":"IF(AND(D343<>0,D343<>D344),MAX($F$1:F342)+1,\"\")","v":""},"00:00:00"]
["Décembre 1e-2e semaine",17,"2019-12-03",0,{"$f":"IF(OR(D344=0,D344=D343),\"\",IF(OR(D344<>\"\",D344<>D345),MAX($E$1:E343)+1,0))","v":""},{"$f":"IF(AND(D344<>0,D344<>D345),MAX($F$1:F343)+1,\"\")","v":""},"00:00:00"]
["Décembre 1e-2e semaine",18,{"$f":"INDIRECT(ADDRESS(B345,1,,,A345))","v":"2019-12-04"},0,{"$f":"IF(OR(D345=0,D345=D344),\"\",IF(OR(D345<>\"\",D345<>D346),MAX($E$1:E344)+1,0))","v":""},{"$f":"IF(AND(D345<>0,D345<>D346),MAX($F$1:F344)+1,\"\")","v":""},"00:00:00"]
["Décembre 1e-2e semaine",19,"2019-12-05",0,{"$f":"IF(OR(D346=0,D346=D345),\"\",IF(OR(D346<>\"\",D346<>D347),MAX($E$1:E345)+1,0))","v":""},{"$f":"IF(AND(D346<>0,D346<>D347),MAX($F$1:F345)+1,\"\")","v":""},"00:00:00"]
["Décembre 1e-2e semaine",20,"2019-12-06",0,{"$f":"IF(OR(D347=0,D347=D346),\"\",IF(OR(D347<>\"\",D347<>D348),MAX($E$1:E346)+1,0))","v":""},{"$f":"IF(AND(D347<>0,D347<>D348),MAX($F$1:F346)+1,\"\")","v":""},"00:00:00"]
["Décembre 1e-2e semaine",21,"2019-12-07",0,{"$f":"IF(OR(D348=0,D348=D347),\"\",IF(OR(D348<>\"\",D348<>D349),MAX($E$1:E347)+1,0))","v":""},{"$f":"IF(AND(D348<>0,D348<>D349),MAX($F$1:F347)+1,\"\")","v":""},"00:00:00"]
["Décembre 1e-2e semaine",22,"2019-12-08",0,{"$f":"IF(OR(D349=0,D349=D348),\"\",IF(OR(D349<>\"\",D349<>D350),MAX($E$1:E348)+1,0))","v":""},{"$f":"IF(AND(D349<>0,D349<>D350),MAX($F$1:F348)+1,\"\")","v":""},"00:00:00"]
["Décembre 1e-2e semaine",29,"2019-12-09",0,{"$f":"IF(OR(D350=0,D350=D349),\"\",IF(OR(D350<>\"\",D350<>D351),MAX($E$1:E349)+1,0))","v":""},{"$f":"IF(AND(D350<>0,D350<>D351),MAX($F$1:F349)+1,\"\")","v":""},"00:00:00"]
["Décembre 1e-2e semaine",30,"2019-12-10",0,{"$f":"IF(OR(D351=0,D351=D350),\"\",IF(OR(D351<>\"\",D351<>D352),MAX($E$1:E350)+1,0))","v":""},{"$f":"IF(AND(D351<>0,D351<>D352),MAX($F$1:F350)+1,\"\")","v":""},"00:00:00"]
["Décembre 1e-2e semaine",31,"2019-12-11",0,{"$f":"IF(OR(D352=0,D352=D351),\"\",IF(OR(D352<>\"\",D352<>D353),MAX($E$1:E351)+1,0))","v":""},{"$f":"IF(AND(D352<>0,D352<>D353),MAX($F$1:F351)+1,\"\")","v":""},"00:00:00"]
["Décembre 1e-2e semaine",32,"2019-12-12",0,{"$f":"IF(OR(D353=0,D353=D352),\"\",IF(OR(D353<>\"\",D353<>D354),MAX($E$1:E352)+1,0))","v":""},{"$f":"IF(AND(D353<>0,D353<>D354),MAX($F$1:F352)+1,\"\")","v":""},"00:00:00"]
["Décembre 1e-2e semaine",33,"2019-12-13",0,{"$f":"IF(OR(D354=0,D354=D353),\"\",IF(OR(D354<>\"\",D354<>D355),MAX($E$1:E353)+1,0))","v":""},{"$f":"IF(AND(D354<>0,D354<>D355),MAX($F$1:F353)+1,\"\")","v":""},"00:00:00"]
["Décembre 1e-2e semaine",34,"2019-12-14",0,{"$f":"IF(OR(D355=0,D355=D354),\"\",IF(OR(D355<>\"\",D355<>D356),MAX($E$1:E354)+1,0))","v":""},{"$f":"IF(AND(D355<>0,D355<>D356),MAX($F$1:F354)+1,\"\")","v":""},"00:00:00"]
["Décembre 1e-2e semaine",35,"2019-12-15",0,{"$f":"IF(OR(D356=0,D356=D355),\"\",IF(OR(D356<>\"\",D356<>D357),MAX($E$1:E355)+1,0))","v":""},{"$f":"IF(AND(D356<>0,D356<>D357),MAX($F$1:F355)+1,\"\")","v":""},"00:00:00"]
["Décembre 3e-4e semaine",16,"2019-12-16",0,{"$f":"IF(OR(D357=0,D357=D356),\"\",IF(OR(D357<>\"\",D357<>D358),MAX($E$1:E356)+1,0))","v":""},{"$f":"IF(AND(D357<>0,D357<>D358),MAX($F$1:F356)+1,\"\")","v":""},"00:00:00"]
["Décembre 3e-4e semaine",17,"2019-12-17",0,{"$f":"IF(OR(D358=0,D358=D357),\"\",IF(OR(D358<>\"\",D358<>D359),MAX($E$1:E357)+1,0))","v":""},{"$f":"IF(AND(D358<>0,D358<>D359),MAX($F$1:F357)+1,\"\")","v":""},"00:00:00"]
["Décembre 3e-4e semaine",18,"2019-12-18",0,{"$f":"IF(OR(D359=0,D359=D358),\"\",IF(OR(D359<>\"\",D359<>D360),MAX($E$1:E358)+1,0))","v":""},{"$f":"IF(AND(D359<>0,D359<>D360),MAX($F$1:F358)+1,\"\")","v":""},"00:00:00"]
["Décembre 3e-4e semaine",19,"2019-12-19",0,{"$f":"IF(OR(D360=0,D360=D359),\"\",IF(OR(D360<>\"\",D360<>D361),MAX($E$1:E359)+1,0))","v":""},{"$f":"IF(AND(D360<>0,D360<>D361),MAX($F$1:F359)+1,\"\")","v":""},"00:00:00"]
["Décembre 3e-4e semaine",20,"2019-12-20",0,{"$f":"IF(OR(D361=0,D361=D360),\"\",IF(OR(D361<>\"\",D361<>D362),MAX($E$1:E360)+1,0))","v":""},{"$f":"IF(AND(D361<>0,D361<>D362),MAX($F$1:F360)+1,\"\")","v":""},"00:00:00"]
["Décembre 3e-4e semaine",21,"2019-12-21",0,{"$f":"IF(OR(D362=0,D362=D361),\"\",IF(OR(D362<>\"\",D362<>D363),MAX($E$1:E361)+1,0))","v":""},{"$f":"IF(AND(D362<>0,D362<>D363),MAX($F$1:F361)+1,\"\")","v":""},"00:00:00"]
["Décembre 3e-4e semaine",22,"2019-12-22",0,{"$f":"IF(OR(D363=0,D363=D362),\"\",IF(OR(D363<>\"\",D363<>D364),MAX($E$1:E362)+1,0))","v":""},{"$f":"IF(AND(D363<>0,D363<>D364),MAX($F$1:F362)+1,\"\")","v":""},"00:00:00"]
["Décembre 3e-4e semaine",29,"2019-12-23",0,{"$f":"IF(OR(D364=0,D364=D363),\"\",IF(OR(D364<>\"\",D364<>D365),MAX($E$1:E363)+1,0))","v":""},{"$f":"IF(AND(D364<>0,D364<>D365),MAX($F$1:F363)+1,\"\")","v":""},"00:00:00"]
["Décembre 3e-4e semaine",30,"2019-12-24",0,{"$f":"IF(OR(D365=0,D365=D364),\"\",IF(OR(D365<>\"\",D365<>D366),MAX($E$1:E364)+1,0))","v":""},{"$f":"IF(AND(D365<>0,D365<>D366),MAX($F$1:F364)+1,\"\")","v":""},"00:00:00"]
["Décembre 3e-4e semaine",31,"2019-12-25",0,{"$f":"IF(OR(D366=0,D366=D365),\"\",IF(OR(D366<>\"\",D366<>D367),MAX($E$1:E365)+1,0))","v":""},{"$f":"IF(AND(D366<>0,D366<>D367),MAX($F$1:F365)+1,\"\")","v":""},"00:00:00"]
["Décembre 3e-4e semaine",32,"2019-12-26",0,{"$f":"IF(OR(D367=0,D367=D366),\"\",IF(OR(D367<>\"\",D367<>D368),MAX($E$1:E366)+1,0))","v":""},{"$f":"IF(AND(D367<>0,D367<>D368),MAX($F$1:F366)+1,\"\")","v":""},"00:00:00"]
["Décembre 3e-4e semaine",33,"2019-12-27",0,{"$f":"IF(OR(D368=0,D368=D367),\"\",IF(OR(D368<>\"\",D368<>D369),MAX($E$1:E367)+1,0))","v":""},{"$f":"IF(AND(D368<>0,D368<>D369),MAX($F$1:F367)+1,\"\")","v":""},"00:00:00"]
["Décembre 3e-4e semaine",34,"2019-12-28",0,{"$f":"IF(OR(D369=0,D369=D368),\"\",IF(OR(D369<>\"\",D369<>D370),MAX($E$1:E368)+1,0))","v":""},{"$f":"IF(AND(D369<>0,D369<>D370),MAX($F$1:F368)+1,\"\")","v":""},"00:00:00"]
["Décembre 3e-4e semaine",35,"2019-12-29",0,{"$f":"IF(OR(D370=0,D370=D369),\"\",IF(OR(D370<>\"\",D370<>D371),MAX($E$1:E369)+1,0))","v":""},{"$f":"IF(AND(D370<>0,D370<>D371),MAX($F$1:F369)+1,\"\")","v":""},"00:00:00"]
[null,null,{"$f":"C370+1","v":"2019-12-30"}]

{"sheet":"EDIT journée maladie calcul","index":7,"n_rows":371,"n_cols":15,"rows_kept":371,"cut":false,"hidden":false,"merged":[]}
["feuille","ligne","date","congés","affect début","affect retour","heures ",null,"calculs jours fériés"]
["Janvier - 2prem. semaines",16,{"$f":"INDIRECT(ADDRESS($B2,1,,,$A2))","v":"2018-12-31"},{"$f":"INDIRECT(ADDRESS($B2,9,,,$A2))","v":0},{"$f":"IF(OR(D2=0,D2=D1),\"\",IF(OR(D2<>\"\",D2<>D3),MAX($E$1:E1)+1,0))","v":""},{"$f":"IF(AND(D2<>0,D2<>D3),MAX($F$1:F1)+1,\"\")","v":""},{"$f":"INDIRECT(ADDRESS($B2,8,,,$A2))","v":"00:00:00"},null,"jour fériés","date début calcul","cumul effectué","quotient","affectation",null,"CONGÉ"]
["Janvier - 2prem. semaines",17,{"$f":"INDIRECT(ADDRESS(B3,1,,,A3))","v":"2019-01-01"},{"$f":"INDIRECT(ADDRESS($B3,9,,,$A3))","v":0},{"$f":"IF(OR(D3=0,D3=D2),\"\",IF(OR(D3<>\"\",D3<>D4),MAX($E$1:E2)+1,0))","v":""},{"$f":"IF(AND(D3<>0,D3<>D4),MAX($F$1:F2)+1,\"\")","v":""},{"$f":"INDIRECT(ADDRESS($B3,8,,,$A3))","v":"00:00:00"},null,{"$f":"VLOOKUP(O2,'Janvier - 2prem. semaines'!A16:I22,1,FALSE)","v":{"$error":"#N/A"}},{"$f":"WORKDAY(I3,-20,$I$3:$I$33)","v":{"$error":"#N/A"}},{"$f":"SUMIFS($G$2:$G$370,$C$2:$C$370,\"<=\"&$I3,$C$2:$C$370,\">=\"&$J3)","v":"00:00:00"},{"$f":"K3/20","v":"00:00:00"},{"$f":"MIN(8/24,L3)","v":"00:00:00"},null,"MALADIE"]
["Janvier - 2prem. semaines",18,{"$f":"INDIRECT(ADDRESS(B4,1,,,A4))","v":"2019-01-02"},0,{"$f":"IF(OR(D4=0,D4=D3),\"\",IF(OR(D4<>\"\",D4<>D5),MAX($E$1:E3)+1,0))","v":""},{"$f":"IF(AND(D4<>0,D4<>D5),MAX($F$1:F3)+1,\"\")","v":""},{"$f":"INDIRECT(ADDRESS($B4,8,,,$A4))","v":"00:00:00"},null,{"$f":"'Janvier - 2prem. semaines'!AF14","v":"2019-04-19"},{"$f":"WORKDAY(I4,-20,$I$3:$I$33)","v":{"$error":"#N/A"}},{"$f":"SUMIFS($G$2:$G$370,$C$2:$C$370,\"<=\"&$I4,$C$2:$C$370,\">=\"&$J4)","v":"00:00:00"},{"$f":"K4/20","v":"00:00:00"},{"$f":"MIN(8/24,L4)","v":"00:00:00"},null,"Demi congé"]
["Janvier - 2prem. semaines",19,"2019-01-03",0,{"$f":"IF(OR(D5=0,D5=D4),\"\",IF(OR(D5<>\"\",D5<>D6),MAX($E$1:E4)+1,0))","v":""},{"$f":"IF(AND(D5<>0,D5<>D6),MAX($F$1:F4)+1,\"\")","v":""},"00:00:00",null,null,{"$f":"WORKDAY(I5,-20,$I$3:$I$33)","v":{"$error":"#N/A"}},"00:00:00","00:00:00","00:00:00",null,"Demi maladie"]
["Janvier - 2prem. semaines",20,"2019-01-04",0,{"$f":"IF(OR(D6=0,D6=D5),\"\",IF(OR(D6<>\"\",D6<>D7),MAX($E$1:E5)+1,0))","v":""},{"$f":"IF(AND(D6<>0,D6<>D7),MAX($F$1:F5)+1,\"\")","v":""},"00:00:00",null,null,{"$error":"#N/A"},"00:00:00","00:00:00","00:00:00"]
["Janvier - 2prem. semaines",21,"2019-01-05",0,{"$f":"IF(OR(D7=0,D7=D6),\"\",IF(OR(D7<>\"\",D7<>D8),MAX($E$1:E6)+1,0))","v":""},{"$f":"IF(AND(D7<>0,D7<>D8),MAX($F$1:F6)+1,\"\")","v":""},"00:00:00",null,null,{"$error":"#N/A"},"00:00:00","00:00:00","00:00:00"]
["Janvier - 2prem. semaines",22,"2019-01-06",0,{"$f":"IF(OR(D8=0,D8=D7),\"\",IF(OR(D8<>\"\",D8<>D9),MAX($E$1:E7)+1,0))","v":""},{"$f":"IF(AND(D8<>0,D8<>D9),MAX($F$1:F7)+1,\"\")","v":""},"00:00:00",null,null,{"$error":"#N/A"},"00:00:00","00:00:00","00:00:00"]
["Janvier - 2prem. semaines",29,"Horaire Semaine 2",0,{"$f":"IF(OR(D9=0,D9=D8),\"\",IF(OR(D9<>\"\",D9<>D10),MAX($E$1:E8)+1,0))","v":""},{"$f":"IF(AND(D9<>0,D9<>D10),MAX($F$1:F8)+1,\"\")","v":""},"00:00:00",null,null,{"$error":"#N/A"},"00:00:00","00:00:00","00:00:00"]
["Janvier - 2prem. semaines",30,"2019-01-07",0,{"$f":"IF(OR(D10=0,D10=D9),\"\",IF(OR(D10<>\"\",D10<>D11),MAX($E$1:E9)+1,0))","v":""},{"$f":"IF(AND(D10<>0,D10<>D11),MAX($F$1:F9)+1,\"\")","v":""},"04:00:00",null,null,{"$error":"#N/A"},"00:00:00","00:00:00","00:00:00"]
["Janvier - 2prem. semaines",31,"2019-01-08",0,{"$f":"IF(OR(D11=0,D11=D10),\"\",IF(OR(D11<>\"\",D11<>D12),MAX($E$1:E10)+1,0))","v":""},{"$f":"IF(AND(D11<>0,D11<>D12),MAX($F$1:F10)+1,\"\")","v":""},"03:00:00",null,null,{"$error":"#N/A"},"00:00:00","00:00:00","00:00:00"]
["Janvier - 2prem. semaines",32,"2019-01-09",0,{"$f":"IF(OR(D12=0,D12=D11),\"\",IF(OR(D12<>\"\",D12<>D13),MAX($E$1:E11)+1,0))","v":""},{"$f":"IF(AND(D12<>0,D12<>D13),MAX($F$1:F11)+1,\"\")","v":""},"01:30:00",null,null,{"$error":"#N/A"},"00:00:00","00:00:00","00:00:00"]
["Janvier - 2prem. semaines",33,"2019-01-10",0,{"$f":"IF(OR(D13=0,D13=D12),\"\",IF(OR(D13<>\"\",D13<>D14),MAX($E$1:E12)+1,0))","v":""},{"$f":"IF(AND(D13<>0,D13<>D14),MAX($F$1:F12)+1,\"\")","v":""},{"$f":"INDIRECT(ADDRESS($B13,8,,,$A13))","v":"00:00:00"},null,null,{"$error":"#N/A"},"00:00:00","00:00:00","00:00:00"]
["Janvier - 2prem. semaines",34,"2019-01-11",0,{"$f":"IF(OR(D14=0,D14=D13),\"\",IF(OR(D14<>\"\",D14<>D15),MAX($E$1:E13)+1,0))","v":""},{"$f":"IF(AND(D14<>0,D14<>D15),MAX($F$1:F13)+1,\"\")","v":""},"00:00:00",null,null,{"$error":"#N/A"},"00:00:00","00:00:00","00:00:00"]
["Janvier - 2prem. semaines",35,"2019-01-12",0,{"$f":"IF(OR(D15=0,D15=D14),\"\",IF(OR(D15<>\"\",D15<>D16),MAX($E$1:E14)+1,0))","v":""},{"$f":"IF(AND(D15<>0,D15<>D16),MAX($F$1:F14)+1,\"\")","v":""},"00:00:00",null,null,{"$error":"#N/A"},"00:00:00","00:00:00","00:00:00"]
["Janvier - 2dern. semaines",16,"2019-01-14",0,{"$f":"IF(OR(D16=0,D16=D15),\"\",IF(OR(D16<>\"\",D16<>D17),MAX($E$1:E15)+1,0))","v":""},{"$f":"IF(AND(D16<>0,D16<>D17),MAX($F$1:F15)+1,\"\")","v":""},"00:00:00",null,null,{"$error":"#N/A"},"00:00:00","00:00:00","00:00:00"]
["Janvier - 2dern. semaines",17,"2019-01-15",0,{"$f":"IF(OR(D17=0,D17=D16),\"\",IF(OR(D17<>\"\",D17<>D18),MAX($E$1:E16)+1,0))","v":""},{"$f":"IF(AND(D17<>0,D17<>D18),MAX($F$1:F16)+1,\"\")","v":""},"00:00:00",null,null,{"$error":"#N/A"},"00:00:00","00:00:00","00:00:00"]
["Janvier - 2dern. semaines",18,"2019-01-16",0,{"$f":"IF(OR(D18=0,D18=D17),\"\",IF(OR(D18<>\"\",D18<>D19),MAX($E$1:E17)+1,0))","v":""},{"$f":"IF(AND(D18<>0,D18<>D19),MAX($F$1:F17)+1,\"\")","v":""},"00:00:00",null,null,{"$error":"#N/A"},"00:00:00","00:00:00","00:00:00"]
["Janvier - 2dern. semaines",19,"2019-01-17",0,{"$f":"IF(OR(D19=0,D19=D18),\"\",IF(OR(D19<>\"\",D19<>D20),MAX($E$1:E18)+1,0))","v":""},{"$f":"IF(AND(D19<>0,D19<>D20),MAX($F$1:F18)+1,\"\")","v":""},"00:00:00",null,null,{"$error":"#N/A"},"00:00:00","00:00:00","00:00:00"]
["Janvier - 2dern. semaines",20,"2019-01-18",0,{"$f":"IF(OR(D20=0,D20=D19),\"\",IF(OR(D20<>\"\",D20<>D21),MAX($E$1:E19)+1,0))","v":""},{"$f":"IF(AND(D20<>0,D20<>D21),MAX($F$1:F19)+1,\"\")","v":""},"00:00:00",null,null,{"$error":"#N/A"},"00:00:00","00:00:00","00:00:00"]
["Janvier - 2dern. semaines",21,"2019-01-19",0,{"$f":"IF(OR(D21=0,D21=D20),\"\",IF(OR(D21<>\"\",D21<>D22),MAX($E$1:E20)+1,0))","v":""},{"$f":"IF(AND(D21<>0,D21<>D22),MAX($F$1:F20)+1,\"\")","v":""},"00:00:00",null,null,{"$error":"#N/A"},"00:00:00","00:00:00","00:00:00"]
["Janvier - 2dern. semaines",22,"2019-01-20",0,{"$f":"IF(OR(D22=0,D22=D21),\"\",IF(OR(D22<>\"\",D22<>D23),MAX($E$1:E21)+1,0))","v":""},{"$f":"IF(AND(D22<>0,D22<>D23),MAX($F$1:F21)+1,\"\")","v":""},"00:00:00",null,null,{"$error":"#N/A"},"00:00:00","00:00:00","00:00:00"]
["Janvier - 2dern. semaines",29,"2019-01-21",0,{"$f":"IF(OR(D23=0,D23=D22),\"\",IF(OR(D23<>\"\",D23<>D24),MAX($E$1:E22)+1,0))","v":""},{"$f":"IF(AND(D23<>0,D23<>D24),MAX($F$1:F22)+1,\"\")","v":""},"07:30:00",null,null,{"$error":"#N/A"},"00:00:00","00:00:00","00:00:00"]
["Janvier - 2dern. semaines",30,"2019-01-22",0,{"$f":"IF(OR(D24=0,D24=D23),\"\",IF(OR(D24<>\"\",D24<>D25),MAX($E$1:E23)+1,0))","v":""},{"$f":"IF(AND(D24<>0,D24<>D25),MAX($F$1:F23)+1,\"\")","v":""},"09:30:00",null,null,{"$error":"#N/A"},"00:00:00","00:00:00","00:00:00"]
["Janvier - 2dern. semaines",31,"2019-01-23",0,{"$f":"IF(OR(D25=0,D25=D24),\"\",IF(OR(D25<>\"\",D25<>D26),MAX($E$1:E24)+1,0))","v":""},{"$f":"IF(AND(D25<>0,D25<>D26),MAX($F$1:F24)+1,\"\")","v":""},"07:30:00",null,{"$f":"'Janvier - 2prem. semaines'!AF17","v":"2019-05-20"},{"$error":"#N/A"},"00:00:00","00:00:00","00:00:00"]
["Janvier - 2dern. semaines",32,"2019-01-24",0,{"$f":"IF(OR(D26=0,D26=D25),\"\",IF(OR(D26<>\"\",D26<>D27),MAX($E$1:E25)+1,0))","v":""},{"$f":"IF(AND(D26<>0,D26<>D27),MAX($F$1:F25)+1,\"\")","v":""},"03:00:00",null,{"$f":"'Janvier - 2prem. semaines'!AF18","v":"2019-06-24"},{"$error":"#N/A"},"00:00:00","00:00:00","00:00:00"]
["Janvier - 2dern. semaines",33,"2019-01-25",0,{"$f":"IF(OR(D27=0,D27=D26),\"\",IF(OR(D27<>\"\",D27<>D28),MAX($E$1:E26)+1,0))","v":""},{"$f":"IF(AND(D27<>0,D27<>D28),MAX($F$1:F26)+1,\"\")","v":""},"07:00:00",null,{"$f":"'Janvier - 2prem. semaines'!AF20","v":"2019-07-01"},{"$error":"#N/A"},"00:00:00","00:00:00","00:00:00"]
["Janvier - 2dern. semaines",34,"2019-01-26",0,{"$f":"IF(OR(D28=0,D28=D27),\"\",IF(OR(D28<>\"\",D28<>D29),MAX($E$1:E27)+1,0))","v":""},{"$f":"IF(AND(D28<>0,D28<>D29),MAX($F$1:F27)+1,\"\")","v":""},{"$f":"INDIRECT(ADDRESS($B28,8,,,$A28))","v":"00:00:00"},null,{"$f":"'Janvier - 2prem. semaines'!AF22","v":"2019-09-01"},{"$error":"#N/A"},"00:00:00","00:00:00","00:00:00"]
["Janvier - 2dern. semaines",35,"2019-01-27",0,{"$f":"IF(OR(D29=0,D29=D28),\"\",IF(OR(D29<>\"\",D29<>D30),MAX($E$1:E28)+1,0))","v":""},{"$f":"IF(AND(D29<>0,D29<>D30),MAX($F$1:F28)+1,\"\")","v":""},"03:00:00",null,{"$f":"'Janvier - 2prem. semaines'!AF24","v":"2019-10-01"},{"$error":"#N/A"},"00:00:00","00:00:00","00:00:00"]
["Fin Jan.-Février - 2prem. sem.",16,"2019-01-28",0,{"$f":"IF(OR(D30=0,D30=D29),\"\",IF(OR(D30<>\"\",D30<>D31),MAX($E$1:E29)+1,0))","v":""},{"$f":"IF(AND(D30<>0,D30<>D31),MAX($F$1:F29)+1,\"\")","v":""},"10:30:00",null,{"$f":"'Janvier - 2prem. semaines'!AF28","v":"2019-12-25"},{"$error":"#N/A"},"00:00:00","00:00:00","00:00:00"]
["Fin Jan.-Février - 2prem. sem.",17,"2019-01-29",0,{"$f":"IF(OR(D31=0,D31=D30),\"\",IF(OR(D31<>\"\",D31<>D32),MAX($E$1:E30)+1,0))","v":""},{"$f":"IF(AND(D31<>0,D31<>D32),MAX($F$1:F30)+1,\"\")","v":""},"11:30:00",null,null,{"$error":"#N/A"},"00:00:00","00:00:00","00:00:00"]
["Fin Jan.-Février - 2prem. sem.",18,"2019-01-30",0,{"$f":"IF(OR(D32=0,D32=D31),\"\",IF(OR(D32<>\"\",D32<>D33),MAX($E$1:E31)+1,0))","v":""},{"$f":"IF(AND(D32<>0,D32<>D33),MAX($F$1:F31)+1,\"\")","v":""},"07:00:00",null,null,{"$error":"#N/A"},"00:00:00","00:00:00","00:00:00"]
["Fin Jan.-Février - 2prem. sem.",19,"2019-01-31",0,{"$f":"IF(OR(D33=0,D33=D32),\"\",IF(OR(D33<>\"\",D33<>D34),MAX($E$1:E32)+1,0))","v":""},{"$f":"IF(AND(D33<>0,D33<>D34),MAX($F$1:F32)+1,\"\")","v":""},"10:30:00",null,null,{"$error":"#N/A"},"00:00:00","00:00:00","00:00:00"]
["Fin Jan.-Février - 2prem. sem.",20,"2019-02-01",0,{"$f":"IF(OR(D34=0,D34=D33),\"\",IF(OR(D34<>\"\",D34<>D35),MAX($E$1:E33)+1,0))","v":""},{"$f":"IF(AND(D34<>0,D34<>D35),MAX($F$1:F33)+1,\"\")","v":""},"05:00:00"]
["Fin Jan.-Février - 2prem. sem.",21,"2019-02-02",0,{"$f":"IF(OR(D35=0,D35=D34),\"\",IF(OR(D35<>\"\",D35<>D36),MAX($E$1:E34)+1,0))","v":""},{"$f":"IF(AND(D35<>0,D35<>D36),MAX($F$1:F34)+1,\"\")","v":""},"00:00:00"]
["Fin Jan.-Février - 2prem. sem.",22,"2019-02-03",0,{"$f":"IF(OR(D36=0,D36=D35),\"\",IF(OR(D36<>\"\",D36<>D37),MAX($E$1:E35)+1,0))","v":""},{"$f":"IF(AND(D36<>0,D36<>D37),MAX($F$1:F35)+1,\"\")","v":""},"02:00:00"]
["Fin Jan.-Février - 2prem. sem.",23,"1904-01-01",0,{"$f":"IF(OR(D37=0,D37=D36),\"\",IF(OR(D37<>\"\",D37<>D38),MAX($E$1:E36)+1,0))","v":""},{"$f":"IF(AND(D37<>0,D37<>D38),MAX($F$1:F36)+1,\"\")","v":""},1.9375]
["Fin Jan.-Février - 2prem. sem.",24,"1904-01-01",0,{"$f":"IF(OR(D38=0,D38=D37),\"\",IF(OR(D38<>\"\",D38<>D39),MAX($E$1:E37)+1,0))","v":""},{"$f":"IF(AND(D38<>0,D38<>D39),MAX($F$1:F37)+1,\"\")","v":""},"00:00:00"]
["Fin Jan.-Février - 2prem. sem.",25,"1904-01-01",0,{"$f":"IF(OR(D39=0,D39=D38),\"\",IF(OR(D39<>\"\",D39<>D40),MAX($E$1:E38)+1,0))","v":""},{"$f":"IF(AND(D39<>0,D39<>D40),MAX($F$1:F38)+1,\"\")","v":""},"00:00:00"]
["Fin Jan.-Février - 2prem. sem.",26,"1904-01-01",0,{"$f":"IF(OR(D40=0,D40=D39),\"\",IF(OR(D40<>\"\",D40<>D41),MAX($E$1:E39)+1,0))","v":""},{"$f":"IF(AND(D40<>0,D40<>D41),MAX($F$1:F39)+1,\"\")","v":""},"0"]
["Fin Jan.-Février - 2prem. sem.",27,"1904-01-01",0,{"$f":"IF(OR(D41=0,D41=D40),\"\",IF(OR(D41<>\"\",D41<>D42),MAX($E$1:E40)+1,0))","v":""},{"$f":"IF(AND(D41<>0,D41<>D42),MAX($F$1:F40)+1,\"\")","v":""},"00:00:00"]
["Fin Jan.-Février - 2prem. sem.",29,"2019-02-04",0,{"$f":"IF(OR(D42=0,D42=D41),\"\",IF(OR(D42<>\"\",D42<>D43),MAX($E$1:E41)+1,0))","v":""},{"$f":"IF(AND(D42<>0,D42<>D43),MAX($F$1:F41)+1,\"\")","v":""},"07:00:00"]
["Fin Jan.-Février - 2prem. sem.",30,"2019-02-05",0,{"$f":"IF(OR(D43=0,D43=D42),\"\",IF(OR(D43<>\"\",D43<>D44),MAX($E$1:E42)+1,0))","v":""},{"$f":"IF(AND(D43<>0,D43<>D44),MAX($F$1:F42)+1,\"\")","v":""},"11:00:00"]
["Fin Jan.-Février - 2prem. sem.",31,"2019-02-06",0,{"$f":"IF(OR(D44=0,D44=D43),\"\",IF(OR(D44<>\"\",D44<>D45),MAX($E$1:E43)+1,0))","v":""},{"$f":"IF(AND(D44<>0,D44<>D45),MAX($F$1:F43)+1,\"\")","v":""},"08:00:00"]
["Fin Jan.-Février - 2prem. sem.",32,"2019-02-07",0,{"$f":"IF(OR(D45=0,D45=D44),\"\",IF(OR(D45<>\"\",D45<>D46),MAX($E$1:E44)+1,0))","v":""},{"$f":"IF(AND(D45<>0,D45<>D46),MAX($F$1:F44)+1,\"\")","v":""},"10:00:00"]
["Fin Jan.-Février - 2prem. sem.",33,"2019-02-08",0,{"$f":"IF(OR(D46=0,D46=D45),\"\",IF(OR(D46<>\"\",D46<>D47),MAX($E$1:E45)+1,0))","v":""},{"$f":"IF(AND(D46<>0,D46<>D47),MAX($F$1:F45)+1,\"\")","v":""},"07:00:00"]
["Fin Jan.-Février - 2prem. sem.",34,"2019-02-09",0,{"$f":"IF(OR(D47=0,D47=D46),\"\",IF(OR(D47<>\"\",D47<>D48),MAX($E$1:E46)+1,0))","v":""},{"$f":"IF(AND(D47<>0,D47<>D48),MAX($F$1:F46)+1,\"\")","v":""},"00:00:00"]
["Fin Jan.-Février - 2prem. sem.",35,"2019-02-10",0,{"$f":"IF(OR(D48=0,D48=D47),\"\",IF(OR(D48<>\"\",D48<>D49),MAX($E$1:E47)+1,0))","v":""},{"$f":"IF(AND(D48<>0,D48<>D49),MAX($F$1:F47)+1,\"\")","v":""},"00:00:00"]
["Février - 2e-3e semaine",16,"2019-02-11",0,{"$f":"IF(OR(D49=0,D49=D48),\"\",IF(OR(D49<>\"\",D49<>D50),MAX($E$1:E48)+1,0))","v":""},{"$f":"IF(AND(D49<>0,D49<>D50),MAX($F$1:F48)+1,\"\")","v":""},"08:30:00"]
["Février - 2e-3e semaine",17,"2019-02-12",0,{"$f":"IF(OR(D50=0,D50=D49),\"\",IF(OR(D50<>\"\",D50<>D51),MAX($E$1:E49)+1,0))","v":""},{"$f":"IF(AND(D50<>0,D50<>D51),MAX($F$1:F49)+1,\"\")","v":""},"08:00:00"]
["Février - 2e-3e semaine",18,"2019-02-13",0,{"$f":"IF(OR(D51=0,D51=D50),\"\",IF(OR(D51<>\"\",D51<>D52),MAX($E$1:E50)+1,0))","v":""},{"$f":"IF(AND(D51<>0,D51<>D52),MAX($F$1:F50)+1,\"\")","v":""},"00:00:00"]
["Février - 2e-3e semaine",19,"2019-02-14",0,{"$f":"IF(OR(D52=0,D52=D51),\"\",IF(OR(D52<>\"\",D52<>D53),MAX($E$1:E51)+1,0))","v":""},{"$f":"IF(AND(D52<>0,D52<>D53),MAX($F$1:F51)+1,\"\")","v":""},"10:30:00"]
["Février - 2e-3e semaine",20,"2019-02-15",0,{"$f":"IF(OR(D53=0,D53=D52),\"\",IF(OR(D53<>\"\",D53<>D54),MAX($E$1:E52)+1,0))","v":""},{"$f":"IF(AND(D53<>0,D53<>D54),MAX($F$1:F52)+1,\"\")","v":""},"00:00:00"]
["Février - 2e-3e semaine",21,"2019-02-16","CONGÉ",{"$f":"IF(OR(D54=0,D54=D53),\"\",IF(OR(D54<>\"\",D54<>D55),MAX($E$1:E53)+1,0))","v":1},{"$f":"IF(AND(D54<>0,D54<>D55),MAX($F$1:F53)+1,\"\")","v":1},"07:00:00"]
["Février - 2e-3e semaine",22,"2019-02-17",0,{"$f":"IF(OR(D55=0,D55=D54),\"\",IF(OR(D55<>\"\",D55<>D56),MAX($E$1:E54)+1,0))","v":""},{"$f":"IF(AND(D55<>0,D55<>D56),MAX($F$1:F54)+1,\"\")","v":""},"00:00:00"]
["Février - 2e-3e semaine",29,"2019-02-18",0,{"$f":"IF(OR(D56=0,D56=D55),\"\",IF(OR(D56<>\"\",D56<>D57),MAX($E$1:E55)+1,0))","v":""},{"$f":"IF(AND(D56<>0,D56<>D57),MAX($F$1:F55)+1,\"\")","v":""},"00:00:00"]
["Février - 2e-3e semaine",30,"2019-02-19",0,{"$f":"IF(OR(D57=0,D57=D56),\"\",IF(OR(D57<>\"\",D57<>D58),MAX($E$1:E56)+1,0))","v":""},{"$f":"IF(AND(D57<>0,D57<>D58),MAX($F$1:F56)+1,\"\")","v":""},"00:00:00"]
["Février - 2e-3e semaine",31,"2019-02-20",0,{"$f":"IF(OR(D58=0,D58=D57),\"\",IF(OR(D58<>\"\",D58<>D59),MAX($E$1:E57)+1,0))","v":""},{"$f":"IF(AND(D58<>0,D58<>D59),MAX($F$1:F57)+1,\"\")","v":""},"00:00:00"]
["Février - 2e-3e semaine",32,"2019-02-21",0,{"$f":"IF(OR(D59=0,D59=D58),\"\",IF(OR(D59<>\"\",D59<>D60),MAX($E$1:E58)+1,0))","v":""},{"$f":"IF(AND(D59<>0,D59<>D60),MAX($F$1:F58)+1,\"\")","v":""},"00:00:00"]
["Février - 2e-3e semaine",33,"2019-02-22",0,{"$f":"IF(OR(D60=0,D60=D59),\"\",IF(OR(D60<>\"\",D60<>D61),MAX($E$1:E59)+1,0))","v":""},{"$f":"IF(AND(D60<>0,D60<>D61),MAX($F$1:F59)+1,\"\")","v":""},"00:00:00"]
["Février - 2e-3e semaine",34,"2019-02-23",0,{"$f":"IF(OR(D61=0,D61=D60),\"\",IF(OR(D61<>\"\",D61<>D62),MAX($E$1:E60)+1,0))","v":""},{"$f":"IF(AND(D61<>0,D61<>D62),MAX($F$1:F60)+1,\"\")","v":""},"00:00:00"]
["Février - 2e-3e semaine",35,"2019-02-24",0,{"$f":"IF(OR(D62=0,D62=D61),\"\",IF(OR(D62<>\"\",D62<>D63),MAX($E$1:E61)+1,0))","v":""},{"$f":"IF(AND(D62<>0,D62<>D63),MAX($F$1:F61)+1,\"\")","v":""},"00:00:00"]
["Fin Fév.-Mars - 2prem. sem.",16,"2019-02-25",0,{"$f":"IF(OR(D63=0,D63=D62),\"\",IF(OR(D63<>\"\",D63<>D64),MAX($E$1:E62)+1,0))","v":""},{"$f":"IF(AND(D63<>0,D63<>D64),MAX($F$1:F62)+1,\"\")","v":""},"00:00:00"]
["Fin Fév.-Mars - 2prem. sem.",17,"2019-02-26",0,{"$f":"IF(OR(D64=0,D64=D63),\"\",IF(OR(D64<>\"\",D64<>D65),MAX($E$1:E63)+1,0))","v":""},{"$f":"IF(AND(D64<>0,D64<>D65),MAX($F$1:F63)+1,\"\")","v":""},"00:00:00"]
["Fin Fév.-Mars - 2prem. sem.",18,"2019-02-27",0,{"$f":"IF(OR(D65=0,D65=D64),\"\",IF(OR(D65<>\"\",D65<>D66),MAX($E$1:E64)+1,0))","v":""},{"$f":"IF(AND(D65<>0,D65<>D66),MAX($F$1:F64)+1,\"\")","v":""},"00:00:00"]
["Fin Fév.-Mars - 2prem. sem.",19,"2019-02-28",0,{"$f":"IF(OR(D66=0,D66=D65),\"\",IF(OR(D66<>\"\",D66<>D67),MAX($E$1:E65)+1,0))","v":""},{"$f":"IF(AND(D66<>0,D66<>D67),MAX($F$1:F65)+1,\"\")","v":""},"00:00:00"]
["Fin Fév.-Mars - 2prem. sem.",20,{"$f":"INDIRECT(ADDRESS(B67,1,,,A67))","v":"2019-03-01"},{"$f":"INDIRECT(ADDRESS($B67,9,,,$A67))","v":0},{"$f":"IF(OR(D67=0,D67=D66),\"\",IF(OR(D67<>\"\",D67<>D68),MAX($E$1:E66)+1,0))","v":""},{"$f":"IF(AND(D67<>0,D67<>D68),MAX($F$1:F66)+1,\"\")","v":""},"00:00:00"]
["Fin Fév.-Mars - 2prem. sem.",21,"2019-03-02",0,{"$f":"IF(OR(D68=0,D68=D67),\"\",IF(OR(D68<>\"\",D68<>D69),MAX($E$1:E67)+1,0))","v":""},{"$f":"IF(AND(D68<>0,D68<>D69),MAX($F$1:F67)+1,\"\")","v":""},{"$f":"INDIRECT(ADDRESS($B68,8,,,$A68))","v":"00:00:00"}]
["Fin Fév.-Mars - 2prem. sem.",22,"2019-03-03",0,{"$f":"IF(OR(D69=0,D69=D68),\"\",IF(OR(D69<>\"\",D69<>D70),MAX($E$1:E68)+1,0))","v":""},{"$f":"IF(AND(D69<>0,D69<>D70),MAX($F$1:F68)+1,\"\")","v":""},"00:00:00"]
["Fin Fév.-Mars - 2prem. sem.",29,"2019-03-04",0,{"$f":"IF(OR(D70=0,D70=D69),\"\",IF(OR(D70<>\"\",D70<>D71),MAX($E$1:E69)+1,0))","v":""},{"$f":"IF(AND(D70<>0,D70<>D71),MAX($F$1:F69)+1,\"\")","v":""},"00:00:00"]
["Fin Fév.-Mars - 2prem. sem.",30,"2019-03-05",0,{"$f":"IF(OR(D71=0,D71=D70),\"\",IF(OR(D71<>\"\",D71<>D72),MAX($E$1:E70)+1,0))","v":""},{"$f":"IF(AND(D71<>0,D71<>D72),MAX($F$1:F70)+1,\"\")","v":""},"00:00:00"]
["Fin Fév.-Mars - 2prem. sem.",31,"2019-03-06",0,{"$f":"IF(OR(D72=0,D72=D71),\"\",IF(OR(D72<>\"\",D72<>D73),MAX($E$1:E71)+1,0))","v":""},{"$f":"IF(AND(D72<>0,D72<>D73),MAX($F$1:F71)+1,\"\")","v":""},"00:00:00"]
["Fin Fév.-Mars - 2prem. sem.",32,"2019-03-07",0,{"$f":"IF(OR(D73=0,D73=D72),\"\",IF(OR(D73<>\"\",D73<>D74),MAX($E$1:E72)+1,0))","v":""},{"$f":"IF(AND(D73<>0,D73<>D74),MAX($F$1:F72)+1,\"\")","v":""},"00:00:00"]
["Fin Fév.-Mars - 2prem. sem.",33,"2019-03-08",0,{"$f":"IF(OR(D74=0,D74=D73),\"\",IF(OR(D74<>\"\",D74<>D75),MAX($E$1:E73)+1,0))","v":""},{"$f":"IF(AND(D74<>0,D74<>D75),MAX($F$1:F73)+1,\"\")","v":""},"00:00:00"]
["Fin Fév.-Mars - 2prem. sem.",34,"2019-03-09",0,{"$f":"IF(OR(D75=0,D75=D74),\"\",IF(OR(D75<>\"\",D75<>D76),MAX($E$1:E74)+1,0))","v":""},{"$f":"IF(AND(D75<>0,D75<>D76),MAX($F$1:F74)+1,\"\")","v":""},"00:00:00"]
["Fin Fév.-Mars - 2prem. sem.",35,"2019-03-10",0,{"$f":"IF(OR(D76=0,D76=D75),\"\",IF(OR(D76<>\"\",D76<>D77),MAX($E$1:E75)+1,0))","v":""},{"$f":"IF(AND(D76<>0,D76<>D77),MAX($F$1:F75)+1,\"\")","v":""},"00:00:00"]
["Mars - 3e-4e semaine",16,"2019-03-11",0,{"$f":"IF(OR(D77=0,D77=D76),\"\",IF(OR(D77<>\"\",D77<>D78),MAX($E$1:E76)+1,0))","v":""},{"$f":"IF(AND(D77<>0,D77<>D78),MAX($F$1:F76)+1,\"\")","v":""},"07:30:00"]
["Mars - 3e-4e semaine",17,"2019-03-12",0,{"$f":"IF(OR(D78=0,D78=D77),\"\",IF(OR(D78<>\"\",D78<>D79),MAX($E$1:E77)+1,0))","v":""},{"$f":"IF(AND(D78<>0,D78<>D79),MAX($F$1:F77)+1,\"\")","v":""},"09:30:00"]
["Mars - 3e-4e semaine",18,"2019-03-13",0,{"$f":"IF(OR(D79=0,D79=D78),\"\",IF(OR(D79<>\"\",D79<>D80),MAX($E$1:E78)+1,0))","v":""},{"$f":"IF(AND(D79<>0,D79<>D80),MAX($F$1:F78)+1,\"\")","v":""},"07:30:00"]
["Mars - 3e-4e semaine",19,"2019-03-14",0,{"$f":"IF(OR(D80=0,D80=D79),\"\",IF(OR(D80<>\"\",D80<>D81),MAX($E$1:E79)+1,0))","v":""},{"$f":"IF(AND(D80<>0,D80<>D81),MAX($F$1:F79)+1,\"\")","v":""},"03:00:00"]
["Mars - 3e-4e semaine",20,"2019-03-15",0,{"$f":"IF(OR(D81=0,D81=D80),\"\",IF(OR(D81<>\"\",D81<>D82),MAX($E$1:E80)+1,0))","v":""},{"$f":"IF(AND(D81<>0,D81<>D82),MAX($F$1:F80)+1,\"\")","v":""},"07:00:00"]
["Mars - 3e-4e semaine",21,"2019-03-16",0,{"$f":"IF(OR(D82=0,D82=D81),\"\",IF(OR(D82<>\"\",D82<>D83),MAX($E$1:E81)+1,0))","v":""},{"$f":"IF(AND(D82<>0,D82<>D83),MAX($F$1:F81)+1,\"\")","v":""},"00:00:00"]
["Mars - 3e-4e semaine",22,"2019-03-17",0,{"$f":"IF(OR(D83=0,D83=D82),\"\",IF(OR(D83<>\"\",D83<>D84),MAX($E$1:E82)+1,0))","v":""},{"$f":"IF(AND(D83<>0,D83<>D84),MAX($F$1:F82)+1,\"\")","v":""},"03:00:00"]
["Mars - 3e-4e semaine",29,"2019-03-18",0,{"$f":"IF(OR(D84=0,D84=D83),\"\",IF(OR(D84<>\"\",D84<>D85),MAX($E$1:E83)+1,0))","v":""},{"$f":"IF(AND(D84<>0,D84<>D85),MAX($F$1:F83)+1,\"\")","v":""},"07:30:00"]
["Mars - 3e-4e semaine",30,"2019-03-19",0,{"$f":"IF(OR(D85=0,D85=D84),\"\",IF(OR(D85<>\"\",D85<>D86),MAX($E$1:E84)+1,0))","v":""},{"$f":"IF(AND(D85<>0,D85<>D86),MAX($F$1:F84)+1,\"\")","v":""},"09:30:00"]
["Mars - 3e-4e semaine",31,"2019-03-20",0,{"$f":"IF(OR(D86=0,D86=D85),\"\",IF(OR(D86<>\"\",D86<>D87),MAX($E$1:E85)+1,0))","v":""},{"$f":"IF(AND(D86<>0,D86<>D87),MAX($F$1:F85)+1,\"\")","v":""},"07:30:00"]
["Mars - 3e-4e semaine",32,"2019-03-21",0,{"$f":"IF(OR(D87=0,D87=D86),\"\",IF(OR(D87<>\"\",D87<>D88),MAX($E$1:E86)+1,0))","v":""},{"$f":"IF(AND(D87<>0,D87<>D88),MAX($F$1:F86)+1,\"\")","v":""},"03:00:00"]
["Mars - 3e-4e semaine",33,"2019-03-22",0,{"$f":"IF(OR(D88=0,D88=D87),\"\",IF(OR(D88<>\"\",D88<>D89),MAX($E$1:E87)+1,0))","v":""},{"$f":"IF(AND(D88<>0,D88<>D89),MAX($F$1:F87)+1,\"\")","v":""},"07:00:00"]
["Mars - 3e-4e semaine",34,"2019-03-23",0,{"$f":"IF(OR(D89=0,D89=D88),\"\",IF(OR(D89<>\"\",D89<>D90),MAX($E$1:E88)+1,0))","v":""},{"$f":"IF(AND(D89<>0,D89<>D90),MAX($F$1:F88)+1,\"\")","v":""},"00:00:00"]
["Mars - 3e-4e semaine",35,"2019-03-24",0,{"$f":"IF(OR(D90=0,D90=D89),\"\",IF(OR(D90<>\"\",D90<>D91),MAX($E$1:E89)+1,0))","v":""},{"$f":"IF(AND(D90<>0,D90<>D91),MAX($F$1:F89)+1,\"\")","v":""},"03:00:00"]
["Fin Mars-Avril - prem. semaine",16,"2019-03-25",0,{"$f":"IF(OR(D91=0,D91=D90),\"\",IF(OR(D91<>\"\",D91<>D92),MAX($E$1:E90)+1,0))","v":""},{"$f":"IF(AND(D91<>0,D91<>D92),MAX($F$1:F90)+1,\"\")","v":""},"07:30:00"]
["Fin Mars-Avril - prem. semaine",17,"2019-03-26",0,{"$f":"IF(OR(D92=0,D92=D91),\"\",IF(OR(D92<>\"\",D92<>D93),MAX($E$1:E91)+1,0))","v":""},{"$f":"IF(AND(D92<>0,D92<>D93),MAX($F$1:F91)+1,\"\")","v":""},"09:30:00"]
["Fin Mars-Avril - prem. semaine",18,"2019-03-27",0,{"$f":"IF(OR(D93=0,D93=D92),\"\",IF(OR(D93<>\"\",D93<>D94),MAX($E$1:E92)+1,0))","v":""},{"$f":"IF(AND(D93<>0,D93<>D94),MAX($F$1:F92)+1,\"\")","v":""},"07:30:00"]
["Fin Mars-Avril - prem. semaine",19,"2019-03-28",0,{"$f":"IF(OR(D94=0,D94=D93),\"\",IF(OR(D94<>\"\",D94<>D95),MAX($E$1:E93)+1,0))","v":""},{"$f":"IF(AND(D94<>0,D94<>D95),MAX($F$1:F93)+1,\"\")","v":""},"03:00:00"]
["Fin Mars-Avril - prem. semaine",20,"2019-03-29",0,{"$f":"IF(OR(D95=0,D95=D94),\"\",IF(OR(D95<>\"\",D95<>D96),MAX($E$1:E94)+1,0))","v":""},{"$f":"IF(AND(D95<>0,D95<>D96),MAX($F$1:F94)+1,\"\")","v":""},"07:00:00"]
["Fin Mars-Avril - prem. semaine",21,"2019-03-30",0,{"$f":"IF(OR(D96=0,D96=D95),\"\",IF(OR(D96<>\"\",D96<>D97),MAX($E$1:E95)+1,0))","v":""},{"$f":"IF(AND(D96<>0,D96<>D97),MAX($F$1:F95)+1,\"\")","v":""},"00:00:00"]
["Fin Mars-Avril - prem. semaine",22,"2019-03-31",0,{"$f":"IF(OR(D97=0,D97=D96),\"\",IF(OR(D97<>\"\",D97<>D98),MAX($E$1:E96)+1,0))","v":""},{"$f":"IF(AND(D97<>0,D97<>D98),MAX($F$1:F96)+1,\"\")","v":""},"03:00:00"]
["Fin Mars-Avril - prem. semaine",29,"2019-04-01",0,{"$f":"IF(OR(D98=0,D98=D97),\"\",IF(OR(D98<>\"\",D98<>D99),MAX($E$1:E97)+1,0))","v":""},{"$f":"IF(AND(D98<>0,D98<>D99),MAX($F$1:F97)+1,\"\")","v":""},"07:30:00"]
["Fin Mars-Avril - prem. semaine",30,"2019-04-02",0,{"$f":"IF(OR(D99=0,D99=D98),\"\",IF(OR(D99<>\"\",D99<>D100),MAX($E$1:E98)+1,0))","v":""},{"$f":"IF(AND(D99<>0,D99<>D100),MAX($F$1:F98)+1,\"\")","v":""},"09:30:00"]
["Fin Mars-Avril - prem. semaine",31,"2019-04-03",0,{"$f":"IF(OR(D100=0,D100=D99),\"\",IF(OR(D100<>\"\",D100<>D101),MAX($E$1:E99)+1,0))","v":""},{"$f":"IF(AND(D100<>0,D100<>D101),MAX($F$1:F99)+1,\"\")","v":""},"07:30:00"]
["Fin Mars-Avril - prem. semaine",32,"2019-04-04",0,{"$f":"IF(OR(D101=0,D101=D100),\"\",IF(OR(D101<>\"\",D101<>D102),MAX($E$1:E100)+1,0))","v":""},{"$f":"IF(AND(D101<>0,D101<>D102),MAX($F$1:F100)+1,\"\")","v":""},"03:00:00"]
["Fin Mars-Avril - prem. semaine",33,"2019-04-05",0,{"$f":"IF(OR(D102=0,D102=D101),\"\",IF(OR(D102<>\"\",D102<>D103),MAX($E$1:E101)+1,0))","v":""},{"$f":"IF(AND(D102<>0,D102<>D103),MAX($F$1:F101)+1,\"\")","v":""},"07:00:00"]
["Fin Mars-Avril - prem. semaine",34,"2019-04-06",0,{"$f":"IF(OR(D103=0,D103=D102),\"\",IF(OR(D103<>\"\",D103<>D104),MAX($E$1:E102)+1,0))","v":""},{"$f":"IF(AND(D103<>0,D103<>D104),MAX($F$1:F102)+1,\"\")","v":""},"00:00:00"]
["Fin Mars-Avril - prem. semaine",35,"2019-04-07",0,{"$f":"IF(OR(D104=0,D104=D103),\"\",IF(OR(D104<>\"\",D104<>D105),MAX($E$1:E103)+1,0))","v":""},{"$f":"IF(AND(D104<>0,D104<>D105),MAX($F$1:F103)+1,\"\")","v":""},"03:00:00"]
["Avril - 2e-3e semaine",16,"2019-04-08",0,{"$f":"IF(OR(D105=0,D105=D104),\"\",IF(OR(D105<>\"\",D105<>D106),MAX($E$1:E104)+1,0))","v":""},{"$f":"IF(AND(D105<>0,D105<>D106),MAX($F$1:F104)+1,\"\")","v":""},"07:30:00"]
["Avril - 2e-3e semaine",17,"2019-04-09",0,{"$f":"IF(OR(D106=0,D106=D105),\"\",IF(OR(D106<>\"\",D106<>D107),MAX($E$1:E105)+1,0))","v":""},{"$f":"IF(AND(D106<>0,D106<>D107),MAX($F$1:F105)+1,\"\")","v":""},"09:30:00"]
["Avril - 2e-3e semaine",18,"2019-04-10",0,{"$f":"IF(OR(D107=0,D107=D106),\"\",IF(OR(D107<>\"\",D107<>D108),MAX($E$1:E106)+1,0))","v":""},{"$f":"IF(AND(D107<>0,D107<>D108),MAX($F$1:F106)+1,\"\")","v":""},"07:30:00"]
["Avril - 2e-3e semaine",19,"2019-04-11",0,{"$f":"IF(OR(D108=0,D108=D107),\"\",IF(OR(D108<>\"\",D108<>D109),MAX($E$1:E107)+1,0))","v":""},{"$f":"IF(AND(D108<>0,D108<>D109),MAX($F$1:F107)+1,\"\")","v":""},"03:00:00"]
["Avril - 2e-3e semaine",20,"2019-04-12",0,{"$f":"IF(OR(D109=0,D109=D108),\"\",IF(OR(D109<>\"\",D109<>D110),MAX($E$1:E108)+1,0))","v":""},{"$f":"IF(AND(D109<>0,D109<>D110),MAX($F$1:F108)+1,\"\")","v":""},"07:00:00"]
["Avril - 2e-3e semaine",21,"2019-04-13",0,{"$f":"IF(OR(D110=0,D110=D109),\"\",IF(OR(D110<>\"\",D110<>D111),MAX($E$1:E109)+1,0))","v":""},{"$f":"IF(AND(D110<>0,D110<>D111),MAX($F$1:F109)+1,\"\")","v":""},{"$f":"INDIRECT(ADDRESS($B110,8,,,$A110))","v":"00:00:00"}]
["Avril - 2e-3e semaine",22,"2019-04-14",0,{"$f":"IF(OR(D111=0,D111=D110),\"\",IF(OR(D111<>\"\",D111<>D112),MAX($E$1:E110)+1,0))","v":""},{"$f":"IF(AND(D111<>0,D111<>D112),MAX($F$1:F110)+1,\"\")","v":""},"03:00:00"]
["Avril - 2e-3e semaine",29,"2019-04-15",0,{"$f":"IF(OR(D112=0,D112=D111),\"\",IF(OR(D112<>\"\",D112<>D113),MAX($E$1:E111)+1,0))","v":""},{"$f":"IF(AND(D112<>0,D112<>D113),MAX($F$1:F111)+1,\"\")","v":""},"07:30:00"]
["Avril - 2e-3e semaine",30,"2019-04-16",0,{"$f":"IF(OR(D113=0,D113=D112),\"\",IF(OR(D113<>\"\",D113<>D114),MAX($E$1:E112)+1,0))","v":""},{"$f":"IF(AND(D113<>0,D113<>D114),MAX($F$1:F112)+1,\"\")","v":""},"09:30:00"]
["Avril - 2e-3e semaine",31,"2019-04-17",0,{"$f":"IF(OR(D114=0,D114=D113),\"\",IF(OR(D114<>\"\",D114<>D115),MAX($E$1:E113)+1,0))","v":""},{"$f":"IF(AND(D114<>0,D114<>D115),MAX($F$1:F113)+1,\"\")","v":""},"07:30:00"]
["Avril - 2e-3e semaine",32,"2019-04-18",0,{"$f":"IF(OR(D115=0,D115=D114),\"\",IF(OR(D115<>\"\",D115<>D116),MAX($E$1:E114)+1,0))","v":""},{"$f":"IF(AND(D115<>0,D115<>D116),MAX($F$1:F114)+1,\"\")","v":""},"03:00:00"]
["Avril - 2e-3e semaine",33,"2019-04-19",0,{"$f":"IF(OR(D116=0,D116=D115),\"\",IF(OR(D116<>\"\",D116<>D117),MAX($E$1:E115)+1,0))","v":""},{"$f":"IF(AND(D116<>0,D116<>D117),MAX($F$1:F115)+1,\"\")","v":""},"07:53:41.053"]
["Avril - 2e-3e semaine",34,"2019-04-20",0,{"$f":"IF(OR(D117=0,D117=D116),\"\",IF(OR(D117<>\"\",D117<>D118),MAX($E$1:E116)+1,0))","v":""},{"$f":"IF(AND(D117<>0,D117<>D118),MAX($F$1:F116)+1,\"\")","v":""},"00:00:00"]
["Avril - 2e-3e semaine",35,"2019-04-21",0,{"$f":"IF(OR(D118=0,D118=D117),\"\",IF(OR(D118<>\"\",D118<>D119),MAX($E$1:E117)+1,0))","v":""},{"$f":"IF(AND(D118<>0,D118<>D119),MAX($F$1:F117)+1,\"\")","v":""},"00:00:00"]
["Fin Avril-Mai - prem. semaine",16,"2019-04-22",0,{"$f":"IF(OR(D119=0,D119=D118),\"\",IF(OR(D119<>\"\",D119<>D120),MAX($E$1:E118)+1,0))","v":""},{"$f":"IF(AND(D119<>0,D119<>D120),MAX($F$1:F118)+1,\"\")","v":""},"00:00:00"]
["Fin Avril-Mai - prem. semaine",17,"2019-04-23",0,{"$f":"IF(OR(D120=0,D120=D119),\"\",IF(OR(D120<>\"\",D120<>D121),MAX($E$1:E119)+1,0))","v":""},{"$f":"IF(AND(D120<>0,D120<>D121),MAX($F$1:F119)+1,\"\")","v":""},"00:00:00"]
["Fin Avril-Mai - prem. semaine",18,"2019-04-24",0,{"$f":"IF(OR(D121=0,D121=D120),\"\",IF(OR(D121<>\"\",D121<>D122),MAX($E$1:E120)+1,0))","v":""},{"$f":"IF(AND(D121<>0,D121<>D122),MAX($F$1:F120)+1,\"\")","v":""},"00:00:00"]
["Fin Avril-Mai - prem. semaine",19,"2019-04-25",0,{"$f":"IF(OR(D122=0,D122=D121),\"\",IF(OR(D122<>\"\",D122<>D123),MAX($E$1:E121)+1,0))","v":""},{"$f":"IF(AND(D122<>0,D122<>D123),MAX($F$1:F121)+1,\"\")","v":""},"00:00:00"]
["Fin Avril-Mai - prem. semaine",20,"2019-04-26",0,{"$f":"IF(OR(D123=0,D123=D122),\"\",IF(OR(D123<>\"\",D123<>D124),MAX($E$1:E122)+1,0))","v":""},{"$f":"IF(AND(D123<>0,D123<>D124),MAX($F$1:F122)+1,\"\")","v":""},"00:00:00"]
["Fin Avril-Mai - prem. semaine",21,"2019-04-27",0,{"$f":"IF(OR(D124=0,D124=D123),\"\",IF(OR(D124<>\"\",D124<>D125),MAX($E$1:E123)+1,0))","v":""},{"$f":"IF(AND(D124<>0,D124<>D125),MAX($F$1:F123)+1,\"\")","v":""},"00:00:00"]
["Fin Avril-Mai - prem. semaine",22,"2019-04-28",0,{"$f":"IF(OR(D125=0,D125=D124),\"\",IF(OR(D125<>\"\",D125<>D126),MAX($E$1:E124)+1,0))","v":""},{"$f":"IF(AND(D125<>0,D125<>D126),MAX($F$1:F124)+1,\"\")","v":""},"00:00:00"]
["Fin Avril-Mai - prem. semaine",29,"2019-04-29",0,{"$f":"IF(OR(D126=0,D126=D125),\"\",IF(OR(D126<>\"\",D126<>D127),MAX($E$1:E125)+1,0))","v":""},{"$f":"IF(AND(D126<>0,D126<>D127),MAX($F$1:F125)+1,\"\")","v":""},"00:00:00"]
["Fin Avril-Mai - prem. semaine",30,"2019-04-30",0,{"$f":"IF(OR(D127=0,D127=D126),\"\",IF(OR(D127<>\"\",D127<>D128),MAX($E$1:E126)+1,0))","v":""},{"$f":"IF(AND(D127<>0,D127<>D128),MAX($F$1:F126)+1,\"\")","v":""},"00:00:00"]
["Fin Avril-Mai - prem. semaine",31,"2019-05-01",0,{"$f":"IF(OR(D128=0,D128=D127),\"\",IF(OR(D128<>\"\",D128<>D129),MAX($E$1:E127)+1,0))","v":""},{"$f":"IF(AND(D128<>0,D128<>D129),MAX($F$1:F127)+1,\"\")","v":""},"00:00:00"]
["Fin Avril-Mai - prem. semaine",32,"2019-05-02",0,{"$f":"IF(OR(D129=0,D129=D128),\"\",IF(OR(D129<>\"\",D129<>D130),MAX($E$1:E128)+1,0))","v":""},{"$f":"IF(AND(D129<>0,D129<>D130),MAX($F$1:F128)+1,\"\")","v":""},"00:00:00"]
["Fin Avril-Mai - prem. semaine",33,"2019-05-03",0,{"$f":"IF(OR(D130=0,D130=D129),\"\",IF(OR(D130<>\"\",D130<>D131),MAX($E$1:E129)+1,0))","v":""},{"$f":"IF(AND(D130<>0,D130<>D131),MAX($F$1:F129)+1,\"\")","v":""},"00:00:00"]
["Fin Avril-Mai - prem. semaine",34,{"$f":"INDIRECT(ADDRESS(B131,1,,,A131))","v":"2019-05-04"},0,{"$f":"IF(OR(D131=0,D131=D130),\"\",IF(OR(D131<>\"\",D131<>D132),MAX($E$1:E130)+1,0))","v":""},{"$f":"IF(AND(D131<>0,D131<>D132),MAX($F$1:F130)+1,\"\")","v":""},"00:00:00"]
["Fin Avril-Mai - prem. semaine",35,"2019-05-05",0,{"$f":"IF(OR(D132=0,D132=D131),\"\",IF(OR(D132<>\"\",D132<>D133),MAX($E$1:E131)+1,0))","v":""},{"$f":"IF(AND(D132<>0,D132<>D133),MAX($F$1:F131)+1,\"\")","v":""},{"$f":"INDIRECT(ADDRESS($B132,8,,,$A132))","v":"00:00:00"}]
["Mai - 2e-3e semaine",16,"2019-05-06",0,{"$f":"IF(OR(D133=0,D133=D132),\"\",IF(OR(D133<>\"\",D133<>D134),MAX($E$1:E132)+1,0))","v":""},{"$f":"IF(AND(D133<>0,D133<>D134),MAX($F$1:F132)+1,\"\")","v":""},"00:00:00"]
["Mai - 2e-3e semaine",17,"2019-05-07",0,{"$f":"IF(OR(D134=0,D134=D133),\"\",IF(OR(D134<>\"\",D134<>D135),MAX($E$1:E133)+1,0))","v":""},{"$f":"IF(AND(D134<>0,D134<>D135),MAX($F$1:F133)+1,\"\")","v":""},"00:00:00"]
["Mai - 2e-3e semaine",18,"2019-05-08",0,{"$f":"IF(OR(D135=0,D135=D134),\"\",IF(OR(D135<>\"\",D135<>D136),MAX($E$1:E134)+1,0))","v":""},{"$f":"IF(AND(D135<>0,D135<>D136),MAX($F$1:F134)+1,\"\")","v":""},"00:00:00"]
["Mai - 2e-3e semaine",19,"2019-05-09",0,{"$f":"IF(OR(D136=0,D136=D135),\"\",IF(OR(D136<>\"\",D136<>D137),MAX($E$1:E135)+1,0))","v":""},{"$f":"IF(AND(D136<>0,D136<>D137),MAX($F$1:F135)+1,\"\")","v":""},"00:00:00"]
["Mai - 2e-3e semaine",20,"2019-05-10",0,{"$f":"IF(OR(D137=0,D137=D136),\"\",IF(OR(D137<>\"\",D137<>D138),MAX($E$1:E136)+1,0))","v":""},{"$f":"IF(AND(D137<>0,D137<>D138),MAX($F$1:F136)+1,\"\")","v":""},"00:00:00"]
["Mai - 2e-3e semaine",21,"2019-05-11",0,{"$f":"IF(OR(D138=0,D138=D137),\"\",IF(OR(D138<>\"\",D138<>D139),MAX($E$1:E137)+1,0))","v":""},{"$f":"IF(AND(D138<>0,D138<>D139),MAX($F$1:F137)+1,\"\")","v":""},"00:00:00"]
["Mai - 2e-3e semaine",22,"2019-05-12",0,{"$f":"IF(OR(D139=0,D139=D138),\"\",IF(OR(D139<>\"\",D139<>D140),MAX($E$1:E138)+1,0))","v":""},{"$f":"IF(AND(D139<>0,D139<>D140),MAX($F$1:F138)+1,\"\")","v":""},"00:00:00"]
["Mai - 2e-3e semaine",29,"2019-05-13",0,{"$f":"IF(OR(D140=0,D140=D139),\"\",IF(OR(D140<>\"\",D140<>D141),MAX($E$1:E139)+1,0))","v":""},{"$f":"IF(AND(D140<>0,D140<>D141),MAX($F$1:F139)+1,\"\")","v":""},"00:00:00"]
["Mai - 2e-3e semaine",30,"2019-05-14",0,{"$f":"IF(OR(D141=0,D141=D140),\"\",IF(OR(D141<>\"\",D141<>D142),MAX($E$1:E140)+1,0))","v":""},{"$f":"IF(AND(D141<>0,D141<>D142),MAX($F$1:F140)+1,\"\")","v":""},"00:00:00"]
["Mai - 2e-3e semaine",31,"2019-05-15",0,{"$f":"IF(OR(D142=0,D142=D141),\"\",IF(OR(D142<>\"\",D142<>D143),MAX($E$1:E141)+1,0))","v":""},{"$f":"IF(AND(D142<>0,D142<>D143),MAX($F$1:F141)+1,\"\")","v":""},"00:00:00"]
["Mai - 2e-3e semaine",32,"2019-05-16",0,{"$f":"IF(OR(D143=0,D143=D142),\"\",IF(OR(D143<>\"\",D143<>D144),MAX($E$1:E142)+1,0))","v":""},{"$f":"IF(AND(D143<>0,D143<>D144),MAX($F$1:F142)+1,\"\")","v":""},"00:00:00"]
["Mai - 2e-3e semaine",33,"2019-05-17",0,{"$f":"IF(OR(D144=0,D144=D143),\"\",IF(OR(D144<>\"\",D144<>D145),MAX($E$1:E143)+1,0))","v":""},{"$f":"IF(AND(D144<>0,D144<>D145),MAX($F$1:F143)+1,\"\")","v":""},"00:00:00"]
["Mai - 2e-3e semaine",34,"2019-05-18",{"$f":"INDIRECT(ADDRESS($B145,9,,,$A145))","v":0},{"$f":"IF(OR(D145=0,D145=D144),\"\",IF(OR(D145<>\"\",D145<>D146),MAX($E$1:E144)+1,0))","v":""},{"$f":"IF(AND(D145<>0,D145<>D146),MAX($F$1:F144)+1,\"\")","v":""},"00:00:00"]
["Mai - 2e-3e semaine",35,"2019-05-19",0,{"$f":"IF(OR(D146=0,D146=D145),\"\",IF(OR(D146<>\"\",D146<>D147),MAX($E$1:E145)+1,0))","v":""},{"$f":"IF(AND(D146<>0,D146<>D147),MAX($F$1:F145)+1,\"\")","v":""},"00:00:00"]
["Fin Mai-Début juin semaine 1",16,"2019-05-20",0,{"$f":"IF(OR(D147=0,D147=D146),\"\",IF(OR(D147<>\"\",D147<>D148),MAX($E$1:E146)+1,0))","v":""},{"$f":"IF(AND(D147<>0,D147<>D148),MAX($F$1:F146)+1,\"\")","v":""},"00:00:00"]
["Fin Mai-Début juin semaine 1",17,"2019-05-21",0,{"$f":"IF(OR(D148=0,D148=D147),\"\",IF(OR(D148<>\"\",D148<>D149),MAX($E$1:E147)+1,0))","v":""},{"$f":"IF(AND(D148<>0,D148<>D149),MAX($F$1:F147)+1,\"\")","v":""},"00:00:00"]
["Fin Mai-Début juin semaine 1",18,"2019-05-22",0,{"$f":"IF(OR(D149=0,D149=D148),\"\",IF(OR(D149<>\"\",D149<>D150),MAX($E$1:E148)+1,0))","v":""},{"$f":"IF(AND(D149<>0,D149<>D150),MAX($F$1:F148)+1,\"\")","v":""},"00:00:00"]
["Fin Mai-Début juin semaine 1",19,"2019-05-23",0,{"$f":"IF(OR(D150=0,D150=D149),\"\",IF(OR(D150<>\"\",D150<>D151),MAX($E$1:E149)+1,0))","v":""},{"$f":"IF(AND(D150<>0,D150<>D151),MAX($F$1:F149)+1,\"\")","v":""},"00:00:00"]
["Fin Mai-Début juin semaine 1",20,"2019-05-24",0,{"$f":"IF(OR(D151=0,D151=D150),\"\",IF(OR(D151<>\"\",D151<>D152),MAX($E$1:E150)+1,0))","v":""},{"$f":"IF(AND(D151<>0,D151<>D152),MAX($F$1:F150)+1,\"\")","v":""},"00:00:00"]
["Fin Mai-Début juin semaine 1",21,"2019-05-25",0,{"$f":"IF(OR(D152=0,D152=D151),\"\",IF(OR(D152<>\"\",D152<>D153),MAX($E$1:E151)+1,0))","v":""},{"$f":"IF(AND(D152<>0,D152<>D153),MAX($F$1:F151)+1,\"\")","v":""},"00:00:00"]
["Fin Mai-Début juin semaine 1",22,"2019-05-26",0,{"$f":"IF(OR(D153=0,D153=D152),\"\",IF(OR(D153<>\"\",D153<>D154),MAX($E$1:E152)+1,0))","v":""},{"$f":"IF(AND(D153<>0,D153<>D154),MAX($F$1:F152)+1,\"\")","v":""},"00:00:00"]
["Fin Mai-Début juin semaine 1",29,"2019-05-27",0,{"$f":"IF(OR(D154=0,D154=D153),\"\",IF(OR(D154<>\"\",D154<>D155),MAX($E$1:E153)+1,0))","v":""},{"$f":"IF(AND(D154<>0,D154<>D155),MAX($F$1:F153)+1,\"\")","v":""},"00:00:00"]
["Fin Mai-Début juin semaine 1",30,"2019-05-28",0,{"$f":"IF(OR(D155=0,D155=D154),\"\",IF(OR(D155<>\"\",D155<>D156),MAX($E$1:E154)+1,0))","v":""},{"$f":"IF(AND(D155<>0,D155<>D156),MAX($F$1:F154)+1,\"\")","v":""},"00:00:00"]
["Fin Mai-Début juin semaine 1",31,"2019-05-29",0,{"$f":"IF(OR(D156=0,D156=D155),\"\",IF(OR(D156<>\"\",D156<>D157),MAX($E$1:E155)+1,0))","v":""},{"$f":"IF(AND(D156<>0,D156<>D157),MAX($F$1:F155)+1,\"\")","v":""},"00:00:00"]
["Fin Mai-Début juin semaine 1",32,"2019-05-30",0,{"$f":"IF(OR(D157=0,D157=D156),\"\",IF(OR(D157<>\"\",D157<>D158),MAX($E$1:E156)+1,0))","v":""},{"$f":"IF(AND(D157<>0,D157<>D158),MAX($F$1:F156)+1,\"\")","v":""},"00:00:00"]
["Fin Mai-Début juin semaine 1",33,"2019-05-31",0,{"$f":"IF(OR(D158=0,D158=D157),\"\",IF(OR(D158<>\"\",D158<>D159),MAX($E$1:E157)+1,0))","v":""},{"$f":"IF(AND(D158<>0,D158<>D159),MAX($F$1:F157)+1,\"\")","v":""},"00:00:00"]
["Fin Mai-Début juin semaine 1",34,"2019-06-01",0,{"$f":"IF(OR(D159=0,D159=D158),\"\",IF(OR(D159<>\"\",D159<>D160),MAX($E$1:E158)+1,0))","v":""},{"$f":"IF(AND(D159<>0,D159<>D160),MAX($F$1:F158)+1,\"\")","v":""},"00:00:00"]
["Fin Mai-Début juin semaine 1",35,"2019-06-02",0,{"$f":"IF(OR(D160=0,D160=D159),\"\",IF(OR(D160<>\"\",D160<>D161),MAX($E$1:E159)+1,0))","v":""},{"$f":"IF(AND(D160<>0,D160<>D161),MAX($F$1:F159)+1,\"\")","v":""},"00:00:00"]
["Juin 2e-3e semaine",16,"2019-06-03",0,{"$f":"IF(OR(D161=0,D161=D160),\"\",IF(OR(D161<>\"\",D161<>D162),MAX($E$1:E160)+1,0))","v":""},{"$f":"IF(AND(D161<>0,D161<>D162),MAX($F$1:F160)+1,\"\")","v":""},"00:00:00"]
["Juin 2e-3e semaine",17,"2019-06-04",0,{"$f":"IF(OR(D162=0,D162=D161),\"\",IF(OR(D162<>\"\",D162<>D163),MAX($E$1:E161)+1,0))","v":""},{"$f":"IF(AND(D162<>0,D162<>D163),MAX($F$1:F161)+1,\"\")","v":""},"00:00:00"]
["Juin 2e-3e semaine",18,"2019-06-05",0,{"$f":"IF(OR(D163=0,D163=D162),\"\",IF(OR(D163<>\"\",D163<>D164),MAX($E$1:E162)+1,0))","v":""},{"$f":"IF(AND(D163<>0,D163<>D164),MAX($F$1:F162)+1,\"\")","v":""},"00:00:00"]
["Juin 2e-3e semaine",19,"2019-06-06",0,{"$f":"IF(OR(D164=0,D164=D163),\"\",IF(OR(D164<>\"\",D164<>D165),MAX($E$1:E163)+1,0))","v":""},{"$f":"IF(AND(D164<>0,D164<>D165),MAX($F$1:F163)+1,\"\")","v":""},"00:00:00"]
["Juin 2e-3e semaine",20,"2019-06-07",0,{"$f":"IF(OR(D165=0,D165=D164),\"\",IF(OR(D165<>\"\",D165<>D166),MAX($E$1:E164)+1,0))","v":""},{"$f":"IF(AND(D165<>0,D165<>D166),MAX($F$1:F164)+1,\"\")","v":""},"00:00:00"]
["Juin 2e-3e semaine",21,"2019-06-08",0,{"$f":"IF(OR(D166=0,D166=D165),\"\",IF(OR(D166<>\"\",D166<>D167),MAX($E$1:E165)+1,0))","v":""},{"$f":"IF(AND(D166<>0,D166<>D167),MAX($F$1:F165)+1,\"\")","v":""},"00:00:00"]
["Juin 2e-3e semaine",22,"2019-06-09",0,{"$f":"IF(OR(D167=0,D167=D166),\"\",IF(OR(D167<>\"\",D167<>D168),MAX($E$1:E166)+1,0))","v":""},{"$f":"IF(AND(D167<>0,D167<>D168),MAX($F$1:F166)+1,\"\")","v":""},"00:00:00"]
["Juin 2e-3e semaine",29,"2019-06-10",0,{"$f":"IF(OR(D168=0,D168=D167),\"\",IF(OR(D168<>\"\",D168<>D169),MAX($E$1:E167)+1,0))","v":""},{"$f":"IF(AND(D168<>0,D168<>D169),MAX($F$1:F167)+1,\"\")","v":""},"00:00:00"]
["Juin 2e-3e semaine",30,"2019-06-11",0,{"$f":"IF(OR(D169=0,D169=D168),\"\",IF(OR(D169<>\"\",D169<>D170),MAX($E$1:E168)+1,0))","v":""},{"$f":"IF(AND(D169<>0,D169<>D170),MAX($F$1:F168)+1,\"\")","v":""},"00:00:00"]
["Juin 2e-3e semaine",31,"2019-06-12",0,{"$f":"IF(OR(D170=0,D170=D169),\"\",IF(OR(D170<>\"\",D170<>D171),MAX($E$1:E169)+1,0))","v":""},{"$f":"IF(AND(D170<>0,D170<>D171),MAX($F$1:F169)+1,\"\")","v":""},"00:00:00"]
["Juin 2e-3e semaine",32,"2019-06-13",0,{"$f":"IF(OR(D171=0,D171=D170),\"\",IF(OR(D171<>\"\",D171<>D172),MAX($E$1:E170)+1,0))","v":""},{"$f":"IF(AND(D171<>0,D171<>D172),MAX($F$1:F170)+1,\"\")","v":""},"00:00:00"]
["Juin 2e-3e semaine",33,"2019-06-14",0,{"$f":"IF(OR(D172=0,D172=D171),\"\",IF(OR(D172<>\"\",D172<>D173),MAX($E$1:E171)+1,0))","v":""},{"$f":"IF(AND(D172<>0,D172<>D173),MAX($F$1:F171)+1,\"\")","v":""},"00:00:00"]
["Juin 2e-3e semaine",34,"2019-06-15",0,{"$f":"IF(OR(D173=0,D173=D172),\"\",IF(OR(D173<>\"\",D173<>D174),MAX($E$1:E172)+1,0))","v":""},{"$f":"IF(AND(D173<>0,D173<>D174),MAX($F$1:F172)+1,\"\")","v":""},"00:00:00"]
["Juin 2e-3e semaine",35,"2019-06-16",0,{"$f":"IF(OR(D174=0,D174=D173),\"\",IF(OR(D174<>\"\",D174<>D175),MAX($E$1:E173)+1,0))","v":""},{"$f":"IF(AND(D174<>0,D174<>D175),MAX($F$1:F173)+1,\"\")","v":""},"00:00:00"]
["Juin 4e-5e semaine-Juillet déb.",16,"2019-06-17",0,{"$f":"IF(OR(D175=0,D175=D174),\"\",IF(OR(D175<>\"\",D175<>D176),MAX($E$1:E174)+1,0))","v":""},{"$f":"IF(AND(D175<>0,D175<>D176),MAX($F$1:F174)+1,\"\")","v":""},"00:00:00"]
["Juin 4e-5e semaine-Juillet déb.",17,"2019-06-18",0,{"$f":"IF(OR(D176=0,D176=D175),\"\",IF(OR(D176<>\"\",D176<>D177),MAX($E$1:E175)+1,0))","v":""},{"$f":"IF(AND(D176<>0,D176<>D177),MAX($F$1:F175)+1,\"\")","v":""},"00:00:00"]
["Juin 4e-5e semaine-Juillet déb.",18,"2019-06-19",0,{"$f":"IF(OR(D177=0,D177=D176),\"\",IF(OR(D177<>\"\",D177<>D178),MAX($E$1:E176)+1,0))","v":""},{"$f":"IF(AND(D177<>0,D177<>D178),MAX($F$1:F176)+1,\"\")","v":""},"00:00:00"]
["Juin 4e-5e semaine-Juillet déb.",19,"2019-06-20",0,{"$f":"IF(OR(D178=0,D178=D177),\"\",IF(OR(D178<>\"\",D178<>D179),MAX($E$1:E177)+1,0))","v":""},{"$f":"IF(AND(D178<>0,D178<>D179),MAX($F$1:F177)+1,\"\")","v":""},"00:00:00"]
["Juin 4e-5e semaine-Juillet déb.",20,"2019-06-21",0,{"$f":"IF(OR(D179=0,D179=D178),\"\",IF(OR(D179<>\"\",D179<>D180),MAX($E$1:E178)+1,0))","v":""},{"$f":"IF(AND(D179<>0,D179<>D180),MAX($F$1:F178)+1,\"\")","v":""},"00:00:00"]
["Juin 4e-5e semaine-Juillet déb.",21,"2019-06-22",0,{"$f":"IF(OR(D180=0,D180=D179),\"\",IF(OR(D180<>\"\",D180<>D181),MAX($E$1:E179)+1,0))","v":""},{"$f":"IF(AND(D180<>0,D180<>D181),MAX($F$1:F179)+1,\"\")","v":""},"00:00:00"]
["Juin 4e-5e semaine-Juillet déb.",22,"2019-06-23",0,{"$f":"IF(OR(D181=0,D181=D180),\"\",IF(OR(D181<>\"\",D181<>D182),MAX($E$1:E180)+1,0))","v":""},{"$f":"IF(AND(D181<>0,D181<>D182),MAX($F$1:F180)+1,\"\")","v":""},"00:00:00"]
["Juin 4e-5e semaine-Juillet déb.",29,"2019-06-24",0,{"$f":"IF(OR(D182=0,D182=D181),\"\",IF(OR(D182<>\"\",D182<>D183),MAX($E$1:E181)+1,0))","v":""},{"$f":"IF(AND(D182<>0,D182<>D183),MAX($F$1:F181)+1,\"\")","v":""},"00:00:00"]
["Juin 4e-5e semaine-Juillet déb.",30,"2019-06-25",0,{"$f":"IF(OR(D183=0,D183=D182),\"\",IF(OR(D183<>\"\",D183<>D184),MAX($E$1:E182)+1,0))","v":""},{"$f":"IF(AND(D183<>0,D183<>D184),MAX($F$1:F182)+1,\"\")","v":""},"00:00:00"]
["Juin 4e-5e semaine-Juillet déb.",31,"2019-06-26",0,{"$f":"IF(OR(D184=0,D184=D183),\"\",IF(OR(D184<>\"\",D184<>D185),MAX($E$1:E183)+1,0))","v":""},{"$f":"IF(AND(D184<>0,D184<>D185),MAX($F$1:F183)+1,\"\")","v":""},"00:00:00"]
["Juin 4e-5e semaine-Juillet déb.",32,"2019-06-27",0,{"$f":"IF(OR(D185=0,D185=D184),\"\",IF(OR(D185<>\"\",D185<>D186),MAX($E$1:E184)+1,0))","v":""},{"$f":"IF(AND(D185<>0,D185<>D186),MAX($F$1:F184)+1,\"\")","v":""},"00:00:00"]
["Juin 4e-5e semaine-Juillet déb.",33,"2019-06-28",0,{"$f":"IF(OR(D186=0,D186=D185),\"\",IF(OR(D186<>\"\",D186<>D187),MAX($E$1:E185)+1,0))","v":""},{"$f":"IF(AND(D186<>0,D186<>D187),MAX($F$1:F185)+1,\"\")","v":""},"00:00:00"]
["Juin 4e-5e semaine-Juillet déb.",34,"2019-06-29",0,{"$f":"IF(OR(D187=0,D187=D186),\"\",IF(OR(D187<>\"\",D187<>D188),MAX($E$1:E186)+1,0))","v":""},{"$f":"IF(AND(D187<>0,D187<>D188),MAX($F$1:F186)+1,\"\")","v":""},"00:00:00"]
["Juin 4e-5e semaine-Juillet déb.",35,"2019-06-30",0,{"$f":"IF(OR(D188=0,D188=D187),\"\",IF(OR(D188<>\"\",D188<>D189),MAX($E$1:E187)+1,0))","v":""},{"$f":"IF(AND(D188<>0,D188<>D189),MAX($F$1:F187)+1,\"\")","v":""},"00:00:00"]
["Juillet-2prem. semaines",16,"2019-07-01",0,{"$f":"IF(OR(D189=0,D189=D188),\"\",IF(OR(D189<>\"\",D189<>D190),MAX($E$1:E188)+1,0))","v":""},{"$f":"IF(AND(D189<>0,D189<>D190),MAX($F$1:F188)+1,\"\")","v":""},"00:00:00"]
["Juillet-2prem. semaines",17,"2019-07-02",0,{"$f":"IF(OR(D190=0,D190=D189),\"\",IF(OR(D190<>\"\",D190<>D191),MAX($E$1:E189)+1,0))","v":""},{"$f":"IF(AND(D190<>0,D190<>D191),MAX($F$1:F189)+1,\"\")","v":""},"00:00:00"]
["Juillet-2prem. semaines",18,"2019-07-03",0,{"$f":"IF(OR(D191=0,D191=D190),\"\",IF(OR(D191<>\"\",D191<>D192),MAX($E$1:E190)+1,0))","v":""},{"$f":"IF(AND(D191<>0,D191<>D192),MAX($F$1:F190)+1,\"\")","v":""},"00:00:00"]
["Juillet-2prem. semaines",19,"2019-07-04",0,{"$f":"IF(OR(D192=0,D192=D191),\"\",IF(OR(D192<>\"\",D192<>D193),MAX($E$1:E191)+1,0))","v":""},{"$f":"IF(AND(D192<>0,D192<>D193),MAX($F$1:F191)+1,\"\")","v":""},"00:00:00"]
["Juillet-2prem. semaines",20,"2019-07-05",0,{"$f":"IF(OR(D193=0,D193=D192),\"\",IF(OR(D193<>\"\",D193<>D194),MAX($E$1:E192)+1,0))","v":""},{"$f":"IF(AND(D193<>0,D193<>D194),MAX($F$1:F192)+1,\"\")","v":""},"00:00:00"]
["Juillet-2prem. semaines",21,"2019-07-06",0,{"$f":"IF(OR(D194=0,D194=D193),\"\",IF(OR(D194<>\"\",D194<>D195),MAX($E$1:E193)+1,0))","v":""},{"$f":"IF(AND(D194<>0,D194<>D195),MAX($F$1:F193)+1,\"\")","v":""},"00:00:00"]
["Juillet-2prem. semaines",22,{"$f":"INDIRECT(ADDRESS(B195,1,,,A195))","v":"2019-07-07"},0,{"$f":"IF(OR(D195=0,D195=D194),\"\",IF(OR(D195<>\"\",D195<>D196),MAX($E$1:E194)+1,0))","v":""},{"$f":"IF(AND(D195<>0,D195<>D196),MAX($F$1:F194)+1,\"\")","v":""},"00:00:00"]
["Juillet-2prem. semaines",29,"2019-07-08",0,{"$f":"IF(OR(D196=0,D196=D195),\"\",IF(OR(D196<>\"\",D196<>D197),MAX($E$1:E195)+1,0))","v":""},{"$f":"IF(AND(D196<>0,D196<>D197),MAX($F$1:F195)+1,\"\")","v":""},{"$f":"INDIRECT(ADDRESS($B196,8,,,$A196))","v":"00:00:00"}]
["Juillet-2prem. semaines",30,"2019-07-09",0,{"$f":"IF(OR(D197=0,D197=D196),\"\",IF(OR(D197<>\"\",D197<>D198),MAX($E$1:E196)+1,0))","v":""},{"$f":"IF(AND(D197<>0,D197<>D198),MAX($F$1:F196)+1,\"\")","v":""},"00:00:00"]
["Juillet-2prem. semaines",31,"2019-07-10",0,{"$f":"IF(OR(D198=0,D198=D197),\"\",IF(OR(D198<>\"\",D198<>D199),MAX($E$1:E197)+1,0))","v":""},{"$f":"IF(AND(D198<>0,D198<>D199),MAX($F$1:F197)+1,\"\")","v":""},"00:00:00"]
["Juillet-2prem. semaines",32,"2019-07-11",0,{"$f":"IF(OR(D199=0,D199=D198),\"\",IF(OR(D199<>\"\",D199<>D200),MAX($E$1:E198)+1,0))","v":""},{"$f":"IF(AND(D199<>0,D199<>D200),MAX($F$1:F198)+1,\"\")","v":""},"00:00:00"]
["Juillet-2prem. semaines",33,"2019-07-12",0,{"$f":"IF(OR(D200=0,D200=D199),\"\",IF(OR(D200<>\"\",D200<>D201),MAX($E$1:E199)+1,0))","v":""},{"$f":"IF(AND(D200<>0,D200<>D201),MAX($F$1:F199)+1,\"\")","v":""},"00:00:00"]
["Juillet-2prem. semaines",34,"2019-07-13",0,{"$f":"IF(OR(D201=0,D201=D200),\"\",IF(OR(D201<>\"\",D201<>D202),MAX($E$1:E200)+1,0))","v":""},{"$f":"IF(AND(D201<>0,D201<>D202),MAX($F$1:F200)+1,\"\")","v":""},"00:00:00"]
["Juillet-2prem. semaines",35,"2019-07-14",0,{"$f":"IF(OR(D202=0,D202=D201),\"\",IF(OR(D202<>\"\",D202<>D203),MAX($E$1:E201)+1,0))","v":""},{"$f":"IF(AND(D202<>0,D202<>D203),MAX($F$1:F201)+1,\"\")","v":""},"00:00:00"]
["Juillet 3e-4e semaine",16,"2019-07-15",0,{"$f":"IF(OR(D203=0,D203=D202),\"\",IF(OR(D203<>\"\",D203<>D204),MAX($E$1:E202)+1,0))","v":""},{"$f":"IF(AND(D203<>0,D203<>D204),MAX($F$1:F202)+1,\"\")","v":""},"00:00:00"]
["Juillet 3e-4e semaine",17,"2019-07-16",0,{"$f":"IF(OR(D204=0,D204=D203),\"\",IF(OR(D204<>\"\",D204<>D205),MAX($E$1:E203)+1,0))","v":""},{"$f":"IF(AND(D204<>0,D204<>D205),MAX($F$1:F203)+1,\"\")","v":""},"00:00:00"]
["Juillet 3e-4e semaine",18,"2019-07-17",0,{"$f":"IF(OR(D205=0,D205=D204),\"\",IF(OR(D205<>\"\",D205<>D206),MAX($E$1:E204)+1,0))","v":""},{"$f":"IF(AND(D205<>0,D205<>D206),MAX($F$1:F204)+1,\"\")","v":""},"00:00:00"]
["Juillet 3e-4e semaine",19,"2019-07-18",0,{"$f":"IF(OR(D206=0,D206=D205),\"\",IF(OR(D206<>\"\",D206<>D207),MAX($E$1:E205)+1,0))","v":""},{"$f":"IF(AND(D206<>0,D206<>D207),MAX($F$1:F205)+1,\"\")","v":""},"00:00:00"]
["Juillet 3e-4e semaine",20,"2019-07-19",0,{"$f":"IF(OR(D207=0,D207=D206),\"\",IF(OR(D207<>\"\",D207<>D208),MAX($E$1:E206)+1,0))","v":""},{"$f":"IF(AND(D207<>0,D207<>D208),MAX($F$1:F206)+1,\"\")","v":""},"00:00:00"]
["Juillet 3e-4e semaine",21,"2019-07-20",0,{"$f":"IF(OR(D208=0,D208=D207),\"\",IF(OR(D208<>\"\",D208<>D209),MAX($E$1:E207)+1,0))","v":""},{"$f":"IF(AND(D208<>0,D208<>D209),MAX($F$1:F207)+1,\"\")","v":""},"00:00:00"]
["Juillet 3e-4e semaine",22,"2019-07-21",{"$f":"INDIRECT(ADDRESS($B209,9,,,$A209))","v":0},{"$f":"IF(OR(D209=0,D209=D208),\"\",IF(OR(D209<>\"\",D209<>D210),MAX($E$1:E208)+1,0))","v":""},{"$f":"IF(AND(D209<>0,D209<>D210),MAX($F$1:F208)+1,\"\")","v":""},"00:00:00"]
["Juillet 3e-4e semaine",29,"2019-07-22",0,{"$f":"IF(OR(D210=0,D210=D209),\"\",IF(OR(D210<>\"\",D210<>D211),MAX($E$1:E209)+1,0))","v":""},{"$f":"IF(AND(D210<>0,D210<>D211),MAX($F$1:F209)+1,\"\")","v":""},"00:00:00"]
["Juillet 3e-4e semaine",30,"2019-07-23",0,{"$f":"IF(OR(D211=0,D211=D210),\"\",IF(OR(D211<>\"\",D211<>D212),MAX($E$1:E210)+1,0))","v":""},{"$f":"IF(AND(D211<>0,D211<>D212),MAX($F$1:F210)+1,\"\")","v":""},"00:00:00"]
["Juillet 3e-4e semaine",31,"2019-07-24",0,{"$f":"IF(OR(D212=0,D212=D211),\"\",IF(OR(D212<>\"\",D212<>D213),MAX($E$1:E211)+1,0))","v":""},{"$f":"IF(AND(D212<>0,D212<>D213),MAX($F$1:F211)+1,\"\")","v":""},"00:00:00"]
["Juillet 3e-4e semaine",32,"2019-07-25",0,{"$f":"IF(OR(D213=0,D213=D212),\"\",IF(OR(D213<>\"\",D213<>D214),MAX($E$1:E212)+1,0))","v":""},{"$f":"IF(AND(D213<>0,D213<>D214),MAX($F$1:F212)+1,\"\")","v":""},"00:00:00"]
["Juillet 3e-4e semaine",33,"2019-07-26",0,{"$f":"IF(OR(D214=0,D214=D213),\"\",IF(OR(D214<>\"\",D214<>D215),MAX($E$1:E213)+1,0))","v":""},{"$f":"IF(AND(D214<>0,D214<>D215),MAX($F$1:F213)+1,\"\")","v":""},"00:00:00"]
["Juillet 3e-4e semaine",34,"2019-07-27",0,{"$f":"IF(OR(D215=0,D215=D214),\"\",IF(OR(D215<>\"\",D215<>D216),MAX($E$1:E214)+1,0))","v":""},{"$f":"IF(AND(D215<>0,D215<>D216),MAX($F$1:F214)+1,\"\")","v":""},"00:00:00"]
["Juillet 3e-4e semaine",35,"2019-07-28",0,{"$f":"IF(OR(D216=0,D216=D215),\"\",IF(OR(D216<>\"\",D216<>D217),MAX($E$1:E215)+1,0))","v":""},{"$f":"IF(AND(D216<>0,D216<>D217),MAX($F$1:F215)+1,\"\")","v":""},"00:00:00"]
["Fin Juillet-Août 2prem. sem.",16,"2019-07-29",0,{"$f":"IF(OR(D217=0,D217=D216),\"\",IF(OR(D217<>\"\",D217<>D218),MAX($E$1:E216)+1,0))","v":""},{"$f":"IF(AND(D217<>0,D217<>D218),MAX($F$1:F216)+1,\"\")","v":""},"00:00:00"]
["Fin Juillet-Août 2prem. sem.",17,"2019-07-30",0,{"$f":"IF(OR(D218=0,D218=D217),\"\",IF(OR(D218<>\"\",D218<>D219),MAX($E$1:E217)+1,0))","v":""},{"$f":"IF(AND(D218<>0,D218<>D219),MAX($F$1:F217)+1,\"\")","v":""},"00:00:00"]
["Fin Juillet-Août 2prem. sem.",18,"2019-07-31",0,{"$f":"IF(OR(D219=0,D219=D218),\"\",IF(OR(D219<>\"\",D219<>D220),MAX($E$1:E218)+1,0))","v":""},{"$f":"IF(AND(D219<>0,D219<>D220),MAX($F$1:F218)+1,\"\")","v":""},"00:00:00"]
["Fin Juillet-Août 2prem. sem.",19,"2019-08-01",0,{"$f":"IF(OR(D220=0,D220=D219),\"\",IF(OR(D220<>\"\",D220<>D221),MAX($E$1:E219)+1,0))","v":""},{"$f":"IF(AND(D220<>0,D220<>D221),MAX($F$1:F219)+1,\"\")","v":""},"00:00:00"]
["Fin Juillet-Août 2prem. sem.",20,"2019-08-02",0,{"$f":"IF(OR(D221=0,D221=D220),\"\",IF(OR(D221<>\"\",D221<>D222),MAX($E$1:E220)+1,0))","v":""},{"$f":"IF(AND(D221<>0,D221<>D222),MAX($F$1:F220)+1,\"\")","v":""},"00:00:00"]
["Fin Juillet-Août 2prem. sem.",21,"2019-08-03",0,{"$f":"IF(OR(D222=0,D222=D221),\"\",IF(OR(D222<>\"\",D222<>D223),MAX($E$1:E221)+1,0))","v":""},{"$f":"IF(AND(D222<>0,D222<>D223),MAX($F$1:F221)+1,\"\")","v":""},"00:00:00"]
["Fin Juillet-Août 2prem. sem.",22,"2019-08-04",0,{"$f":"IF(OR(D223=0,D223=D222),\"\",IF(OR(D223<>\"\",D223<>D224),MAX($E$1:E222)+1,0))","v":""},{"$f":"IF(AND(D223<>0,D223<>D224),MAX($F$1:F222)+1,\"\")","v":""},"00:00:00"]
["Fin Juillet-Août 2prem. sem.",29,"2019-08-05",0,{"$f":"IF(OR(D224=0,D224=D223),\"\",IF(OR(D224<>\"\",D224<>D225),MAX($E$1:E223)+1,0))","v":""},{"$f":"IF(AND(D224<>0,D224<>D225),MAX($F$1:F223)+1,\"\")","v":""},"00:00:00"]
["Fin Juillet-Août 2prem. sem.",30,"2019-08-06",0,{"$f":"IF(OR(D225=0,D225=D224),\"\",IF(OR(D225<>\"\",D225<>D226),MAX($E$1:E224)+1,0))","v":""},{"$f":"IF(AND(D225<>0,D225<>D226),MAX($F$1:F224)+1,\"\")","v":""},"00:00:00"]
["Fin Juillet-Août 2prem. sem.",31,"2019-08-07",0,{"$f":"IF(OR(D226=0,D226=D225),\"\",IF(OR(D226<>\"\",D226<>D227),MAX($E$1:E225)+1,0))","v":""},{"$f":"IF(AND(D226<>0,D226<>D227),MAX($F$1:F225)+1,\"\")","v":""},"00:00:00"]
["Fin Juillet-Août 2prem. sem.",32,"2019-08-08",0,{"$f":"IF(OR(D227=0,D227=D226),\"\",IF(OR(D227<>\"\",D227<>D228),MAX($E$1:E226)+1,0))","v":""},{"$f":"IF(AND(D227<>0,D227<>D228),MAX($F$1:F226)+1,\"\")","v":""},"00:00:00"]
["Fin Juillet-Août 2prem. sem.",33,"2019-08-09",0,{"$f":"IF(OR(D228=0,D228=D227),\"\",IF(OR(D228<>\"\",D228<>D229),MAX($E$1:E227)+1,0))","v":""},{"$f":"IF(AND(D228<>0,D228<>D229),MAX($F$1:F227)+1,\"\")","v":""},"00:00:00"]
["Fin Juillet-Août 2prem. sem.",34,"2019-08-10",0,{"$f":"IF(OR(D229=0,D229=D228),\"\",IF(OR(D229<>\"\",D229<>D230),MAX($E$1:E228)+1,0))","v":""},{"$f":"IF(AND(D229<>0,D229<>D230),MAX($F$1:F228)+1,\"\")","v":""},"00:00:00"]
["Fin Juillet-Août 2prem. sem.",35,"2019-08-11",0,{"$f":"IF(OR(D230=0,D230=D229),\"\",IF(OR(D230<>\"\",D230<>D231),MAX($E$1:E229)+1,0))","v":""},{"$f":"IF(AND(D230<>0,D230<>D231),MAX($F$1:F229)+1,\"\")","v":""},"00:00:00"]
["Août 3e-4e semaine",16,"2019-08-12",0,{"$f":"IF(OR(D231=0,D231=D230),\"\",IF(OR(D231<>\"\",D231<>D232),MAX($E$1:E230)+1,0))","v":""},{"$f":"IF(AND(D231<>0,D231<>D232),MAX($F$1:F230)+1,\"\")","v":""},"00:00:00"]
["Août 3e-4e semaine",17,"2019-08-13",0,{"$f":"IF(OR(D232=0,D232=D231),\"\",IF(OR(D232<>\"\",D232<>D233),MAX($E$1:E231)+1,0))","v":""},{"$f":"IF(AND(D232<>0,D232<>D233),MAX($F$1:F231)+1,\"\")","v":""},"00:00:00"]
["Août 3e-4e semaine",18,"2019-08-14",0,{"$f":"IF(OR(D233=0,D233=D232),\"\",IF(OR(D233<>\"\",D233<>D234),MAX($E$1:E232)+1,0))","v":""},{"$f":"IF(AND(D233<>0,D233<>D234),MAX($F$1:F232)+1,\"\")","v":""},"00:00:00"]
["Août 3e-4e semaine",19,"2019-08-15",0,{"$f":"IF(OR(D234=0,D234=D233),\"\",IF(OR(D234<>\"\",D234<>D235),MAX($E$1:E233)+1,0))","v":""},{"$f":"IF(AND(D234<>0,D234<>D235),MAX($F$1:F233)+1,\"\")","v":""},"00:00:00"]
["Août 3e-4e semaine",20,"2019-08-16",0,{"$f":"IF(OR(D235=0,D235=D234),\"\",IF(OR(D235<>\"\",D235<>D236),MAX($E$1:E234)+1,0))","v":""},{"$f":"IF(AND(D235<>0,D235<>D236),MAX($F$1:F234)+1,\"\")","v":""},"00:00:00"]
["Août 3e-4e semaine",21,"2019-08-17",0,{"$f":"IF(OR(D236=0,D236=D235),\"\",IF(OR(D236<>\"\",D236<>D237),MAX($E$1:E235)+1,0))","v":""},{"$f":"IF(AND(D236<>0,D236<>D237),MAX($F$1:F235)+1,\"\")","v":""},"00:00:00"]
["Août 3e-4e semaine",22,"2019-08-18",0,{"$f":"IF(OR(D237=0,D237=D236),\"\",IF(OR(D237<>\"\",D237<>D238),MAX($E$1:E236)+1,0))","v":""},{"$f":"IF(AND(D237<>0,D237<>D238),MAX($F$1:F236)+1,\"\")","v":""},"00:00:00"]
["Août 3e-4e semaine",29,"2019-08-19",0,{"$f":"IF(OR(D238=0,D238=D237),\"\",IF(OR(D238<>\"\",D238<>D239),MAX($E$1:E237)+1,0))","v":""},{"$f":"IF(AND(D238<>0,D238<>D239),MAX($F$1:F237)+1,\"\")","v":""},"00:00:00"]
["Août 3e-4e semaine",30,"2019-08-20",0,{"$f":"IF(OR(D239=0,D239=D238),\"\",IF(OR(D239<>\"\",D239<>D240),MAX($E$1:E238)+1,0))","v":""},{"$f":"IF(AND(D239<>0,D239<>D240),MAX($F$1:F238)+1,\"\")","v":""},"00:00:00"]
["Août 3e-4e semaine",31,"2019-08-21",0,{"$f":"IF(OR(D240=0,D240=D239),\"\",IF(OR(D240<>\"\",D240<>D241),MAX($E$1:E239)+1,0))","v":""},{"$f":"IF(AND(D240<>0,D240<>D241),MAX($F$1:F239)+1,\"\")","v":""},"00:00:00"]
["Août 3e-4e semaine",32,"2019-08-22",0,{"$f":"IF(OR(D241=0,D241=D240),\"\",IF(OR(D241<>\"\",D241<>D242),MAX($E$1:E240)+1,0))","v":""},{"$f":"IF(AND(D241<>0,D241<>D242),MAX($F$1:F240)+1,\"\")","v":""},"00:00:00"]
["Août 3e-4e semaine",33,"2019-08-23",0,{"$f":"IF(OR(D242=0,D242=D241),\"\",IF(OR(D242<>\"\",D242<>D243),MAX($E$1:E241)+1,0))","v":""},{"$f":"IF(AND(D242<>0,D242<>D243),MAX($F$1:F241)+1,\"\")","v":""},"00:00:00"]
["Août 3e-4e semaine",34,"2019-08-24",0,{"$f":"IF(OR(D243=0,D243=D242),\"\",IF(OR(D243<>\"\",D243<>D244),MAX($E$1:E242)+1,0))","v":""},{"$f":"IF(AND(D243<>0,D243<>D244),MAX($F$1:F242)+1,\"\")","v":""},"00:00:00"]
["Août 3e-4e semaine",35,"2019-08-25",0,{"$f":"IF(OR(D244=0,D244=D243),\"\",IF(OR(D244<>\"\",D244<>D245),MAX($E$1:E243)+1,0))","v":""},{"$f":"IF(AND(D244<>0,D244<>D245),MAX($F$1:F243)+1,\"\")","v":""},"00:00:00"]
["Fin Août-Sept 2 prem. sem.",16,"2019-08-26",0,{"$f":"IF(OR(D245=0,D245=D244),\"\",IF(OR(D245<>\"\",D245<>D246),MAX($E$1:E244)+1,0))","v":""},{"$f":"IF(AND(D245<>0,D245<>D246),MAX($F$1:F244)+1,\"\")","v":""},"00:00:00"]
["Fin Août-Sept 2 prem. sem.",17,"2019-08-27",0,{"$f":"IF(OR(D246=0,D246=D245),\"\",IF(OR(D246<>\"\",D246<>D247),MAX($E$1:E245)+1,0))","v":""},{"$f":"IF(AND(D246<>0,D246<>D247),MAX($F$1:F245)+1,\"\")","v":""},"00:00:00"]
["Fin Août-Sept 2 prem. sem.",18,"2019-08-28",0,{"$f":"IF(OR(D247=0,D247=D246),\"\",IF(OR(D247<>\"\",D247<>D248),MAX($E$1:E246)+1,0))","v":""},{"$f":"IF(AND(D247<>0,D247<>D248),MAX($F$1:F246)+1,\"\")","v":""},"00:00:00"]
["Fin Août-Sept 2 prem. sem.",19,"2019-08-29",0,{"$f":"IF(OR(D248=0,D248=D247),\"\",IF(OR(D248<>\"\",D248<>D249),MAX($E$1:E247)+1,0))","v":""},{"$f":"IF(AND(D248<>0,D248<>D249),MAX($F$1:F247)+1,\"\")","v":""},"00:00:00"]
["Fin Août-Sept 2 prem. sem.",20,"2019-08-30",0,{"$f":"IF(OR(D249=0,D249=D248),\"\",IF(OR(D249<>\"\",D249<>D250),MAX($E$1:E248)+1,0))","v":""},{"$f":"IF(AND(D249<>0,D249<>D250),MAX($F$1:F248)+1,\"\")","v":""},"00:00:00"]
["Fin Août-Sept 2 prem. sem.",21,"2019-08-31",0,{"$f":"IF(OR(D250=0,D250=D249),\"\",IF(OR(D250<>\"\",D250<>D251),MAX($E$1:E249)+1,0))","v":""},{"$f":"IF(AND(D250<>0,D250<>D251),MAX($F$1:F249)+1,\"\")","v":""},"00:00:00"]
["Fin Août-Sept 2 prem. sem.",22,"2019-09-01",0,{"$f":"IF(OR(D251=0,D251=D250),\"\",IF(OR(D251<>\"\",D251<>D252),MAX($E$1:E250)+1,0))","v":""},{"$f":"IF(AND(D251<>0,D251<>D252),MAX($F$1:F250)+1,\"\")","v":""},"00:00:00"]
["Fin Août-Sept 2 prem. sem.",29,"2019-09-02",0,{"$f":"IF(OR(D252=0,D252=D251),\"\",IF(OR(D252<>\"\",D252<>D253),MAX($E$1:E251)+1,0))","v":""},{"$f":"IF(AND(D252<>0,D252<>D253),MAX($F$1:F251)+1,\"\")","v":""},"00:00:00"]
["Fin Août-Sept 2 prem. sem.",30,"2019-09-03",0,{"$f":"IF(OR(D253=0,D253=D252),\"\",IF(OR(D253<>\"\",D253<>D254),MAX($E$1:E252)+1,0))","v":""},{"$f":"IF(AND(D253<>0,D253<>D254),MAX($F$1:F252)+1,\"\")","v":""},"00:00:00"]
["Fin Août-Sept 2 prem. sem.",31,"2019-09-04",0,{"$f":"IF(OR(D254=0,D254=D253),\"\",IF(OR(D254<>\"\",D254<>D255),MAX($E$1:E253)+1,0))","v":""},{"$f":"IF(AND(D254<>0,D254<>D255),MAX($F$1:F253)+1,\"\")","v":""},"00:00:00"]
["Fin Août-Sept 2 prem. sem.",32,"2019-09-05",0,{"$f":"IF(OR(D255=0,D255=D254),\"\",IF(OR(D255<>\"\",D255<>D256),MAX($E$1:E254)+1,0))","v":""},{"$f":"IF(AND(D255<>0,D255<>D256),MAX($F$1:F254)+1,\"\")","v":""},"00:00:00"]
["Fin Août-Sept 2 prem. sem.",33,"2019-09-06",0,{"$f":"IF(OR(D256=0,D256=D255),\"\",IF(OR(D256<>\"\",D256<>D257),MAX($E$1:E255)+1,0))","v":""},{"$f":"IF(AND(D256<>0,D256<>D257),MAX($F$1:F255)+1,\"\")","v":""},"00:00:00"]
["Fin Août-Sept 2 prem. sem.",34,"2019-09-07",0,{"$f":"IF(OR(D257=0,D257=D256),\"\",IF(OR(D257<>\"\",D257<>D258),MAX($E$1:E256)+1,0))","v":""},{"$f":"IF(AND(D257<>0,D257<>D258),MAX($F$1:F256)+1,\"\")","v":""},"00:00:00"]
["Fin Août-Sept 2 prem. sem.",35,"2019-09-08",0,{"$f":"IF(OR(D258=0,D258=D257),\"\",IF(OR(D258<>\"\",D258<>D259),MAX($E$1:E257)+1,0))","v":""},{"$f":"IF(AND(D258<>0,D258<>D259),MAX($F$1:F257)+1,\"\")","v":""},"00:00:00"]
["Septembre 3e-4e semaine",16,{"$f":"INDIRECT(ADDRESS(B259,1,,,A259))","v":"2019-09-09"},0,{"$f":"IF(OR(D259=0,D259=D258),\"\",IF(OR(D259<>\"\",D259<>D260),MAX($E$1:E258)+1,0))","v":""},{"$f":"IF(AND(D259<>0,D259<>D260),MAX($F$1:F258)+1,\"\")","v":""},"00:00:00"]
["Septembre 3e-4e semaine",17,"2019-09-10",0,{"$f":"IF(OR(D260=0,D260=D259),\"\",IF(OR(D260<>\"\",D260<>D261),MAX($E$1:E259)+1,0))","v":""},{"$f":"IF(AND(D260<>0,D260<>D261),MAX($F$1:F259)+1,\"\")","v":""},{"$f":"INDIRECT(ADDRESS($B260,8,,,$A260))","v":"00:00:00"}]
["Septembre 3e-4e semaine",18,"2019-09-11",0,{"$f":"IF(OR(D261=0,D261=D260),\"\",IF(OR(D261<>\"\",D261<>D262),MAX($E$1:E260)+1,0))","v":""},{"$f":"IF(AND(D261<>0,D261<>D262),MAX($F$1:F260)+1,\"\")","v":""},"00:00:00"]
["Septembre 3e-4e semaine",19,"2019-09-12",0,{"$f":"IF(OR(D262=0,D262=D261),\"\",IF(OR(D262<>\"\",D262<>D263),MAX($E$1:E261)+1,0))","v":""},{"$f":"IF(AND(D262<>0,D262<>D263),MAX($F$1:F261)+1,\"\")","v":""},"00:00:00"]
["Septembre 3e-4e semaine",20,"2019-09-13",0,{"$f":"IF(OR(D263=0,D263=D262),\"\",IF(OR(D263<>\"\",D263<>D264),MAX($E$1:E262)+1,0))","v":""},{"$f":"IF(AND(D263<>0,D263<>D264),MAX($F$1:F262)+1,\"\")","v":""},"00:00:00"]
["Septembre 3e-4e semaine",21,"2019-09-14",0,{"$f":"IF(OR(D264=0,D264=D263),\"\",IF(OR(D264<>\"\",D264<>D265),MAX($E$1:E263)+1,0))","v":""},{"$f":"IF(AND(D264<>0,D264<>D265),MAX($F$1:F263)+1,\"\")","v":""},"00:00:00"]
["Septembre 3e-4e semaine",22,"2019-09-15",0,{"$f":"IF(OR(D265=0,D265=D264),\"\",IF(OR(D265<>\"\",D265<>D266),MAX($E$1:E264)+1,0))","v":""},{"$f":"IF(AND(D265<>0,D265<>D266),MAX($F$1:F264)+1,\"\")","v":""},"00:00:00"]
["Septembre 3e-4e semaine",29,"2019-09-16",0,{"$f":"IF(OR(D266=0,D266=D265),\"\",IF(OR(D266<>\"\",D266<>D267),MAX($E$1:E265)+1,0))","v":""},{"$f":"IF(AND(D266<>0,D266<>D267),MAX($F$1:F265)+1,\"\")","v":""},"00:00:00"]
["Septembre 3e-4e semaine",30,"2019-09-17",0,{"$f":"IF(OR(D267=0,D267=D266),\"\",IF(OR(D267<>\"\",D267<>D268),MAX($E$1:E266)+1,0))","v":""},{"$f":"IF(AND(D267<>0,D267<>D268),MAX($F$1:F266)+1,\"\")","v":""},"00:00:00"]
["Septembre 3e-4e semaine",31,"2019-09-18",0,{"$f":"IF(OR(D268=0,D268=D267),\"\",IF(OR(D268<>\"\",D268<>D269),MAX($E$1:E267)+1,0))","v":""},{"$f":"IF(AND(D268<>0,D268<>D269),MAX($F$1:F267)+1,\"\")","v":""},"00:00:00"]
["Septembre 3e-4e semaine",32,"2019-09-19",0,{"$f":"IF(OR(D269=0,D269=D268),\"\",IF(OR(D269<>\"\",D269<>D270),MAX($E$1:E268)+1,0))","v":""},{"$f":"IF(AND(D269<>0,D269<>D270),MAX($F$1:F268)+1,\"\")","v":""},"00:00:00"]
["Septembre 3e-4e semaine",33,"2019-09-20",0,{"$f":"IF(OR(D270=0,D270=D269),\"\",IF(OR(D270<>\"\",D270<>D271),MAX($E$1:E269)+1,0))","v":""},{"$f":"IF(AND(D270<>0,D270<>D271),MAX($F$1:F269)+1,\"\")","v":""},"00:00:00"]
["Septembre 3e-4e semaine",34,"2019-09-21",0,{"$f":"IF(OR(D271=0,D271=D270),\"\",IF(OR(D271<>\"\",D271<>D272),MAX($E$1:E270)+1,0))","v":""},{"$f":"IF(AND(D271<>0,D271<>D272),MAX($F$1:F270)+1,\"\")","v":""},"00:00:00"]
["Septembre 3e-4e semaine",35,"2019-09-22",0,{"$f":"IF(OR(D272=0,D272=D271),\"\",IF(OR(D272<>\"\",D272<>D273),MAX($E$1:E271)+1,0))","v":""},{"$f":"IF(AND(D272<>0,D272<>D273),MAX($F$1:F271)+1,\"\")","v":""},"00:00:00"]
["Fin Sept.-Oct.-première semaine",16,"2019-09-23",{"$f":"INDIRECT(ADDRESS($B273,9,,,$A273))","v":0},{"$f":"IF(OR(D273=0,D273=D272),\"\",IF(OR(D273<>\"\",D273<>D274),MAX($E$1:E272)+1,0))","v":""},{"$f":"IF(AND(D273<>0,D273<>D274),MAX($F$1:F272)+1,\"\")","v":""},"00:00:00"]
["Fin Sept.-Oct.-première semaine",17,"2019-09-24",0,{"$f":"IF(OR(D274=0,D274=D273),\"\",IF(OR(D274<>\"\",D274<>D275),MAX($E$1:E273)+1,0))","v":""},{"$f":"IF(AND(D274<>0,D274<>D275),MAX($F$1:F273)+1,\"\")","v":""},"00:00:00"]
["Fin Sept.-Oct.-première semaine",18,"2019-09-25",0,{"$f":"IF(OR(D275=0,D275=D274),\"\",IF(OR(D275<>\"\",D275<>D276),MAX($E$1:E274)+1,0))","v":""},{"$f":"IF(AND(D275<>0,D275<>D276),MAX($F$1:F274)+1,\"\")","v":""},"00:00:00"]
["Fin Sept.-Oct.-première semaine",19,"2019-09-26",0,{"$f":"IF(OR(D276=0,D276=D275),\"\",IF(OR(D276<>\"\",D276<>D277),MAX($E$1:E275)+1,0))","v":""},{"$f":"IF(AND(D276<>0,D276<>D277),MAX($F$1:F275)+1,\"\")","v":""},"00:00:00"]
["Fin Sept.-Oct.-première semaine",20,"2019-09-27",0,{"$f":"IF(OR(D277=0,D277=D276),\"\",IF(OR(D277<>\"\",D277<>D278),MAX($E$1:E276)+1,0))","v":""},{"$f":"IF(AND(D277<>0,D277<>D278),MAX($F$1:F276)+1,\"\")","v":""},"00:00:00"]
["Fin Sept.-Oct.-première semaine",21,"2019-09-28",0,{"$f":"IF(OR(D278=0,D278=D277),\"\",IF(OR(D278<>\"\",D278<>D279),MAX($E$1:E277)+1,0))","v":""},{"$f":"IF(AND(D278<>0,D278<>D279),MAX($F$1:F277)+1,\"\")","v":""},"00:00:00"]
["Fin Sept.-Oct.-première semaine",22,"2019-09-29",0,{"$f":"IF(OR(D279=0,D279=D278),\"\",IF(OR(D279<>\"\",D279<>D280),MAX($E$1:E278)+1,0))","v":""},{"$f":"IF(AND(D279<>0,D279<>D280),MAX($F$1:F278)+1,\"\")","v":""},"00:00:00"]
["Fin Sept.-Oct.-première semaine",29,"2019-09-30",0,{"$f":"IF(OR(D280=0,D280=D279),\"\",IF(OR(D280<>\"\",D280<>D281),MAX($E$1:E279)+1,0))","v":""},{"$f":"IF(AND(D280<>0,D280<>D281),MAX($F$1:F279)+1,\"\")","v":""},"00:00:00"]
["Fin Sept.-Oct.-première semaine",30,"2019-10-01",0,{"$f":"IF(OR(D281=0,D281=D280),\"\",IF(OR(D281<>\"\",D281<>D282),MAX($E$1:E280)+1,0))","v":""},{"$f":"IF(AND(D281<>0,D281<>D282),MAX($F$1:F280)+1,\"\")","v":""},"00:00:00"]
["Fin Sept.-Oct.-première semaine",31,"2019-10-02",0,{"$f":"IF(OR(D282=0,D282=D281),\"\",IF(OR(D282<>\"\",D282<>D283),MAX($E$1:E281)+1,0))","v":""},{"$f":"IF(AND(D282<>0,D282<>D283),MAX($F$1:F281)+1,\"\")","v":""},"00:00:00"]
["Fin Sept.-Oct.-première semaine",32,"2019-10-03",0,{"$f":"IF(OR(D283=0,D283=D282),\"\",IF(OR(D283<>\"\",D283<>D284),MAX($E$1:E282)+1,0))","v":""},{"$f":"IF(AND(D283<>0,D283<>D284),MAX($F$1:F282)+1,\"\")","v":""},"00:00:00"]
["Fin Sept.-Oct.-première semaine",33,"2019-10-04",0,{"$f":"IF(OR(D284=0,D284=D283),\"\",IF(OR(D284<>\"\",D284<>D285),MAX($E$1:E283)+1,0))","v":""},{"$f":"IF(AND(D284<>0,D284<>D285),MAX($F$1:F283)+1,\"\")","v":""},"00:00:00"]
["Fin Sept.-Oct.-première semaine",34,"2019-10-05",0,{"$f":"IF(OR(D285=0,D285=D284),\"\",IF(OR(D285<>\"\",D285<>D286),MAX($E$1:E284)+1,0))","v":""},{"$f":"IF(AND(D285<>0,D285<>D286),MAX($F$1:F284)+1,\"\")","v":""},"00:00:00"]
["Fin Sept.-Oct.-première semaine",35,"2019-10-06",0,{"$f":"IF(OR(D286=0,D286=D285),\"\",IF(OR(D286<>\"\",D286<>D287),MAX($E$1:E285)+1,0))","v":""},{"$f":"IF(AND(D286<>0,D286<>D287),MAX($F$1:F285)+1,\"\")","v":""},"00:00:00"]
["Octobre-2e-3e semaine",16,"2019-10-07",0,{"$f":"IF(OR(D287=0,D287=D286),\"\",IF(OR(D287<>\"\",D287<>D288),MAX($E$1:E286)+1,0))","v":""},{"$f":"IF(AND(D287<>0,D287<>D288),MAX($F$1:F286)+1,\"\")","v":""},"00:00:00"]
["Octobre-2e-3e semaine",17,"2019-10-08",0,{"$f":"IF(OR(D288=0,D288=D287),\"\",IF(OR(D288<>\"\",D288<>D289),MAX($E$1:E287)+1,0))","v":""},{"$f":"IF(AND(D288<>0,D288<>D289),MAX($F$1:F287)+1,\"\")","v":""},"00:00:00"]
["Octobre-2e-3e semaine",18,"2019-10-09",0,{"$f":"IF(OR(D289=0,D289=D288),\"\",IF(OR(D289<>\"\",D289<>D290),MAX($E$1:E288)+1,0))","v":""},{"$f":"IF(AND(D289<>0,D289<>D290),MAX($F$1:F288)+1,\"\")","v":""},"00:00:00"]
["Octobre-2e-3e semaine",19,"2019-10-10",0,{"$f":"IF(OR(D290=0,D290=D289),\"\",IF(OR(D290<>\"\",D290<>D291),MAX($E$1:E289)+1,0))","v":""},{"$f":"IF(AND(D290<>0,D290<>D291),MAX($F$1:F289)+1,\"\")","v":""},"00:00:00"]
["Octobre-2e-3e semaine",20,"2019-10-11",0,{"$f":"IF(OR(D291=0,D291=D290),\"\",IF(OR(D291<>\"\",D291<>D292),MAX($E$1:E290)+1,0))","v":""},{"$f":"IF(AND(D291<>0,D291<>D292),MAX($F$1:F290)+1,\"\")","v":""},"00:00:00"]
["Octobre-2e-3e semaine",21,"2019-10-12",0,{"$f":"IF(OR(D292=0,D292=D291),\"\",IF(OR(D292<>\"\",D292<>D293),MAX($E$1:E291)+1,0))","v":""},{"$f":"IF(AND(D292<>0,D292<>D293),MAX($F$1:F291)+1,\"\")","v":""},"00:00:00"]
["Octobre-2e-3e semaine",22,"2019-10-13",0,{"$f":"IF(OR(D293=0,D293=D292),\"\",IF(OR(D293<>\"\",D293<>D294),MAX($E$1:E292)+1,0))","v":""},{"$f":"IF(AND(D293<>0,D293<>D294),MAX($F$1:F292)+1,\"\")","v":""},"00:00:00"]
["Octobre-2e-3e semaine",29,"2019-10-14",0,{"$f":"IF(OR(D294=0,D294=D293),\"\",IF(OR(D294<>\"\",D294<>D295),MAX($E$1:E293)+1,0))","v":""},{"$f":"IF(AND(D294<>0,D294<>D295),MAX($F$1:F293)+1,\"\")","v":""},"00:00:00"]
["Octobre-2e-3e semaine",30,"2019-10-15",0,{"$f":"IF(OR(D295=0,D295=D294),\"\",IF(OR(D295<>\"\",D295<>D296),MAX($E$1:E294)+1,0))","v":""},{"$f":"IF(AND(D295<>0,D295<>D296),MAX($F$1:F294)+1,\"\")","v":""},"00:00:00"]
["Octobre-2e-3e semaine",31,"2019-10-16",0,{"$f":"IF(OR(D296=0,D296=D295),\"\",IF(OR(D296<>\"\",D296<>D297),MAX($E$1:E295)+1,0))","v":""},{"$f":"IF(AND(D296<>0,D296<>D297),MAX($F$1:F295)+1,\"\")","v":""},"00:00:00"]
["Octobre-2e-3e semaine",32,"2019-10-17",0,{"$f":"IF(OR(D297=0,D297=D296),\"\",IF(OR(D297<>\"\",D297<>D298),MAX($E$1:E296)+1,0))","v":""},{"$f":"IF(AND(D297<>0,D297<>D298),MAX($F$1:F296)+1,\"\")","v":""},"00:00:00"]
["Octobre-2e-3e semaine",33,"2019-10-18",0,{"$f":"IF(OR(D298=0,D298=D297),\"\",IF(OR(D298<>\"\",D298<>D299),MAX($E$1:E297)+1,0))","v":""},{"$f":"IF(AND(D298<>0,D298<>D299),MAX($F$1:F297)+1,\"\")","v":""},"00:00:00"]
["Octobre-2e-3e semaine",34,"2019-10-19",0,{"$f":"IF(OR(D299=0,D299=D298),\"\",IF(OR(D299<>\"\",D299<>D300),MAX($E$1:E298)+1,0))","v":""},{"$f":"IF(AND(D299<>0,D299<>D300),MAX($F$1:F298)+1,\"\")","v":""},"00:00:00"]
["Octobre-2e-3e semaine",35,"2019-10-20",0,{"$f":"IF(OR(D300=0,D300=D299),\"\",IF(OR(D300<>\"\",D300<>D301),MAX($E$1:E299)+1,0))","v":""},{"$f":"IF(AND(D300<>0,D300<>D301),MAX($F$1:F299)+1,\"\")","v":""},"00:00:00"]
["Fin Oct.-Nov.-première semaine",16,"2019-10-21",0,{"$f":"IF(OR(D301=0,D301=D300),\"\",IF(OR(D301<>\"\",D301<>D302),MAX($E$1:E300)+1,0))","v":""},{"$f":"IF(AND(D301<>0,D301<>D302),MAX($F$1:F300)+1,\"\")","v":""},"00:00:00"]
["Fin Oct.-Nov.-première semaine",17,"2019-10-22",0,{"$f":"IF(OR(D302=0,D302=D301),\"\",IF(OR(D302<>\"\",D302<>D303),MAX($E$1:E301)+1,0))","v":""},{"$f":"IF(AND(D302<>0,D302<>D303),MAX($F$1:F301)+1,\"\")","v":""},"00:00:00"]
["Fin Oct.-Nov.-première semaine",18,"2019-10-23",0,{"$f":"IF(OR(D303=0,D303=D302),\"\",IF(OR(D303<>\"\",D303<>D304),MAX($E$1:E302)+1,0))","v":""},{"$f":"IF(AND(D303<>0,D303<>D304),MAX($F$1:F302)+1,\"\")","v":""},"00:00:00"]
["Fin Oct.-Nov.-première semaine",19,"2019-10-24",0,{"$f":"IF(OR(D304=0,D304=D303),\"\",IF(OR(D304<>\"\",D304<>D305),MAX($E$1:E303)+1,0))","v":""},{"$f":"IF(AND(D304<>0,D304<>D305),MAX($F$1:F303)+1,\"\")","v":""},"00:00:00"]
["Fin Oct.-Nov.-première semaine",20,"2019-10-25",0,{"$f":"IF(OR(D305=0,D305=D304),\"\",IF(OR(D305<>\"\",D305<>D306),MAX($E$1:E304)+1,0))","v":""},{"$f":"IF(AND(D305<>0,D305<>D306),MAX($F$1:F304)+1,\"\")","v":""},"00:00:00"]
["Fin Oct.-Nov.-première semaine",21,"2019-10-26",0,{"$f":"IF(OR(D306=0,D306=D305),\"\",IF(OR(D306<>\"\",D306<>D307),MAX($E$1:E305)+1,0))","v":""},{"$f":"IF(AND(D306<>0,D306<>D307),MAX($F$1:F305)+1,\"\")","v":""},"00:00:00"]
["Fin Oct.-Nov.-première semaine",22,"2019-10-27",0,{"$f":"IF(OR(D307=0,D307=D306),\"\",IF(OR(D307<>\"\",D307<>D308),MAX($E$1:E306)+1,0))","v":""},{"$f":"IF(AND(D307<>0,D307<>D308),MAX($F$1:F306)+1,\"\")","v":""},"00:00:00"]
["Fin Oct.-Nov.-première semaine",29,"2019-10-28",0,{"$f":"IF(OR(D308=0,D308=D307),\"\",IF(OR(D308<>\"\",D308<>D309),MAX($E$1:E307)+1,0))","v":""},{"$f":"IF(AND(D308<>0,D308<>D309),MAX($F$1:F307)+1,\"\")","v":""},"00:00:00"]
["Fin Oct.-Nov.-première semaine",30,"2019-10-29",0,{"$f":"IF(OR(D309=0,D309=D308),\"\",IF(OR(D309<>\"\",D309<>D310),MAX($E$1:E308)+1,0))","v":""},{"$f":"IF(AND(D309<>0,D309<>D310),MAX($F$1:F308)+1,\"\")","v":""},"00:00:00"]
["Fin Oct.-Nov.-première semaine",31,"2019-10-30",0,{"$f":"IF(OR(D310=0,D310=D309),\"\",IF(OR(D310<>\"\",D310<>D311),MAX($E$1:E309)+1,0))","v":""},{"$f":"IF(AND(D310<>0,D310<>D311),MAX($F$1:F309)+1,\"\")","v":""},"00:00:00"]
["Fin Oct.-Nov.-première semaine",32,"2019-10-31",0,{"$f":"IF(OR(D311=0,D311=D310),\"\",IF(OR(D311<>\"\",D311<>D312),MAX($E$1:E310)+1,0))","v":""},{"$f":"IF(AND(D311<>0,D311<>D312),MAX($F$1:F310)+1,\"\")","v":""},"00:00:00"]
["Fin Oct.-Nov.-première semaine",33,"2019-11-01",0,{"$f":"IF(OR(D312=0,D312=D311),\"\",IF(OR(D312<>\"\",D312<>D313),MAX($E$1:E311)+1,0))","v":""},{"$f":"IF(AND(D312<>0,D312<>D313),MAX($F$1:F311)+1,\"\")","v":""},"00:00:00"]
["Fin Oct.-Nov.-première semaine",34,"2019-11-02",0,{"$f":"IF(OR(D313=0,D313=D312),\"\",IF(OR(D313<>\"\",D313<>D314),MAX($E$1:E312)+1,0))","v":""},{"$f":"IF(AND(D313<>0,D313<>D314),MAX($F$1:F312)+1,\"\")","v":""},"00:00:00"]
["Fin Oct.-Nov.-première semaine",35,"2019-11-03",0,{"$f":"IF(OR(D314=0,D314=D313),\"\",IF(OR(D314<>\"\",D314<>D315),MAX($E$1:E313)+1,0))","v":""},{"$f":"IF(AND(D314<>0,D314<>D315),MAX($F$1:F313)+1,\"\")","v":""},"00:00:00"]
["Novembre 2e-3e semaine",16,"2019-11-04",0,{"$f":"IF(OR(D315=0,D315=D314),\"\",IF(OR(D315<>\"\",D315<>D316),MAX($E$1:E314)+1,0))","v":""},{"$f":"IF(AND(D315<>0,D315<>D316),MAX($F$1:F314)+1,\"\")","v":""},"00:00:00"]
["Novembre 2e-3e semaine",17,"2019-11-05",0,{"$f":"IF(OR(D316=0,D316=D315),\"\",IF(OR(D316<>\"\",D316<>D317),MAX($E$1:E315)+1,0))","v":""},{"$f":"IF(AND(D316<>0,D316<>D317),MAX($F$1:F315)+1,\"\")","v":""},"00:00:00"]
["Novembre 2e-3e semaine",18,"2019-11-06",0,{"$f":"IF(OR(D317=0,D317=D316),\"\",IF(OR(D317<>\"\",D317<>D318),MAX($E$1:E316)+1,0))","v":""},{"$f":"IF(AND(D317<>0,D317<>D318),MAX($F$1:F316)+1,\"\")","v":""},"00:00:00"]
["Novembre 2e-3e semaine",19,"2019-11-07",0,{"$f":"IF(OR(D318=0,D318=D317),\"\",IF(OR(D318<>\"\",D318<>D319),MAX($E$1:E317)+1,0))","v":""},{"$f":"IF(AND(D318<>0,D318<>D319),MAX($F$1:F317)+1,\"\")","v":""},"00:00:00"]
["Novembre 2e-3e semaine",20,"2019-11-08",0,{"$f":"IF(OR(D319=0,D319=D318),\"\",IF(OR(D319<>\"\",D319<>D320),MAX($E$1:E318)+1,0))","v":""},{"$f":"IF(AND(D319<>0,D319<>D320),MAX($F$1:F318)+1,\"\")","v":""},"00:00:00"]
["Novembre 2e-3e semaine",21,"2019-11-09",0,{"$f":"IF(OR(D320=0,D320=D319),\"\",IF(OR(D320<>\"\",D320<>D321),MAX($E$1:E319)+1,0))","v":""},{"$f":"IF(AND(D320<>0,D320<>D321),MAX($F$1:F319)+1,\"\")","v":""},"00:00:00"]
["Novembre 2e-3e semaine",22,"2019-11-10",0,{"$f":"IF(OR(D321=0,D321=D320),\"\",IF(OR(D321<>\"\",D321<>D322),MAX($E$1:E320)+1,0))","v":""},{"$f":"IF(AND(D321<>0,D321<>D322),MAX($F$1:F320)+1,\"\")","v":""},"00:00:00"]
["Novembre 2e-3e semaine",29,"2019-11-11",0,{"$f":"IF(OR(D322=0,D322=D321),\"\",IF(OR(D322<>\"\",D322<>D323),MAX($E$1:E321)+1,0))","v":""},{"$f":"IF(AND(D322<>0,D322<>D323),MAX($F$1:F321)+1,\"\")","v":""},"00:00:00"]
["Novembre 2e-3e semaine",30,{"$f":"INDIRECT(ADDRESS(B323,1,,,A323))","v":"2019-11-12"},0,{"$f":"IF(OR(D323=0,D323=D322),\"\",IF(OR(D323<>\"\",D323<>D324),MAX($E$1:E322)+1,0))","v":""},{"$f":"IF(AND(D323<>0,D323<>D324),MAX($F$1:F322)+1,\"\")","v":""},"00:00:00"]
["Novembre 2e-3e semaine",31,"2019-11-13",0,{"$f":"IF(OR(D324=0,D324=D323),\"\",IF(OR(D324<>\"\",D324<>D325),MAX($E$1:E323)+1,0))","v":""},{"$f":"IF(AND(D324<>0,D324<>D325),MAX($F$1:F323)+1,\"\")","v":""},{"$f":"INDIRECT(ADDRESS($B324,8,,,$A324))","v":"00:00:00"}]
["Novembre 2e-3e semaine",32,"2019-11-14",0,{"$f":"IF(OR(D325=0,D325=D324),\"\",IF(OR(D325<>\"\",D325<>D326),MAX($E$1:E324)+1,0))","v":""},{"$f":"IF(AND(D325<>0,D325<>D326),MAX($F$1:F324)+1,\"\")","v":""},"00:00:00"]
["Novembre 2e-3e semaine",33,"2019-11-15",0,{"$f":"IF(OR(D326=0,D326=D325),\"\",IF(OR(D326<>\"\",D326<>D327),MAX($E$1:E325)+1,0))","v":""},{"$f":"IF(AND(D326<>0,D326<>D327),MAX($F$1:F325)+1,\"\")","v":""},"00:00:00"]
["Novembre 2e-3e semaine",34,"2019-11-16",0,{"$f":"IF(OR(D327=0,D327=D326),\"\",IF(OR(D327<>\"\",D327<>D328),MAX($E$1:E326)+1,0))","v":""},{"$f":"IF(AND(D327<>0,D327<>D328),MAX($F$1:F326)+1,\"\")","v":""},"00:00:00"]
["Novembre 2e-3e semaine",35,"2019-11-17",0,{"$f":"IF(OR(D328=0,D328=D327),\"\",IF(OR(D328<>\"\",D328<>D329),MAX($E$1:E327)+1,0))","v":""},{"$f":"IF(AND(D328<>0,D328<>D329),MAX($F$1:F327)+1,\"\")","v":""},"00:00:00"]
["Nov. 4e-5e semaine-Début Déc.",16,"2019-11-18",0,{"$f":"IF(OR(D329=0,D329=D328),\"\",IF(OR(D329<>\"\",D329<>D330),MAX($E$1:E328)+1,0))","v":""},{"$f":"IF(AND(D329<>0,D329<>D330),MAX($F$1:F328)+1,\"\")","v":""},"00:00:00"]
["Nov. 4e-5e semaine-Début Déc.",17,"2019-11-19",0,{"$f":"IF(OR(D330=0,D330=D329),\"\",IF(OR(D330<>\"\",D330<>D331),MAX($E$1:E329)+1,0))","v":""},{"$f":"IF(AND(D330<>0,D330<>D331),MAX($F$1:F329)+1,\"\")","v":""},"00:00:00"]
["Nov. 4e-5e semaine-Début Déc.",18,"2019-11-20",0,{"$f":"IF(OR(D331=0,D331=D330),\"\",IF(OR(D331<>\"\",D331<>D332),MAX($E$1:E330)+1,0))","v":""},{"$f":"IF(AND(D331<>0,D331<>D332),MAX($F$1:F330)+1,\"\")","v":""},"00:00:00"]
["Nov. 4e-5e semaine-Début Déc.",19,"2019-11-21",0,{"$f":"IF(OR(D332=0,D332=D331),\"\",IF(OR(D332<>\"\",D332<>D333),MAX($E$1:E331)+1,0))","v":""},{"$f":"IF(AND(D332<>0,D332<>D333),MAX($F$1:F331)+1,\"\")","v":""},"00:00:00"]
["Nov. 4e-5e semaine-Début Déc.",20,"2019-11-22",0,{"$f":"IF(OR(D333=0,D333=D332),\"\",IF(OR(D333<>\"\",D333<>D334),MAX($E$1:E332)+1,0))","v":""},{"$f":"IF(AND(D333<>0,D333<>D334),MAX($F$1:F332)+1,\"\")","v":""},"00:00:00"]
["Nov. 4e-5e semaine-Début Déc.",21,"2019-11-23",0,{"$f":"IF(OR(D334=0,D334=D333),\"\",IF(OR(D334<>\"\",D334<>D335),MAX($E$1:E333)+1,0))","v":""},{"$f":"IF(AND(D334<>0,D334<>D335),MAX($F$1:F333)+1,\"\")","v":""},"00:00:00"]
["Nov. 4e-5e semaine-Début Déc.",22,"2019-11-24",0,{"$f":"IF(OR(D335=0,D335=D334),\"\",IF(OR(D335<>\"\",D335<>D336),MAX($E$1:E334)+1,0))","v":""},{"$f":"IF(AND(D335<>0,D335<>D336),MAX($F$1:F334)+1,\"\")","v":""},"00:00:00"]
["Nov. 4e-5e semaine-Début Déc.",29,"2019-11-25",0,{"$f":"IF(OR(D336=0,D336=D335),\"\",IF(OR(D336<>\"\",D336<>D337),MAX($E$1:E335)+1,0))","v":""},{"$f":"IF(AND(D336<>0,D336<>D337),MAX($F$1:F335)+1,\"\")","v":""},"00:00:00"]
["Nov. 4e-5e semaine-Début Déc.",30,"2019-11-26",{"$f":"INDIRECT(ADDRESS($B337,9,,,$A337))","v":0},{"$f":"IF(OR(D337=0,D337=D336),\"\",IF(OR(D337<>\"\",D337<>D338),MAX($E$1:E336)+1,0))","v":""},{"$f":"IF(AND(D337<>0,D337<>D338),MAX($F$1:F336)+1,\"\")","v":""},"00:00:00"]
["Nov. 4e-5e semaine-Début Déc.",31,"2019-11-27",0,{"$f":"IF(OR(D338=0,D338=D337),\"\",IF(OR(D338<>\"\",D338<>D339),MAX($E$1:E337)+1,0))","v":""},{"$f":"IF(AND(D338<>0,D338<>D339),MAX($F$1:F337)+1,\"\")","v":""},"00:00:00"]
["Nov. 4e-5e semaine-Début Déc.",32,"2019-11-28",0,{"$f":"IF(OR(D339=0,D339=D338),\"\",IF(OR(D339<>\"\",D339<>D340),MAX($E$1:E338)+1,0))","v":""},{"$f":"IF(AND(D339<>0,D339<>D340),MAX($F$1:F338)+1,\"\")","v":""},"00:00:00"]
["Nov. 4e-5e semaine-Début Déc.",33,"2019-11-29",0,{"$f":"IF(OR(D340=0,D340=D339),\"\",IF(OR(D340<>\"\",D340<>D341),MAX($E$1:E339)+1,0))","v":""},{"$f":"IF(AND(D340<>0,D340<>D341),MAX($F$1:F339)+1,\"\")","v":""},"00:00:00"]
["Nov. 4e-5e semaine-Début Déc.",34,"2019-11-30",0,{"$f":"IF(OR(D341=0,D341=D340),\"\",IF(OR(D341<>\"\",D341<>D342),MAX($E$1:E340)+1,0))","v":""},{"$f":"IF(AND(D341<>0,D341<>D342),MAX($F$1:F340)+1,\"\")","v":""},"00:00:00"]
["Nov. 4e-5e semaine-Début Déc.",35,"2019-12-01",0,{"$f":"IF(OR(D342=0,D342=D341),\"\",IF(OR(D342<>\"\",D342<>D343),MAX($E$1:E341)+1,0))","v":""},{"$f":"IF(AND(D342<>0,D342<>D343),MAX($F$1:F341)+1,\"\")","v":""},"00:00:00"]
["Décembre 1e-2e semaine",16,"2019-12-02",0,{"$f":"IF(OR(D343=0,D343=D342),\"\",IF(OR(D343<>\"\",D343<>D344),MAX($E$1:E342)+1,0))","v":""},{"$f":"IF(AND(D343<>0,D343<>D344),MAX($F$1:F342)+1,\"\")","v":""},"00:00:00"]
["Décembre 1e-2e semaine",17,"2019-12-03",0,{"$f":"IF(OR(D344=0,D344=D343),\"\",IF(OR(D344<>\"\",D344<>D345),MAX($E$1:E343)+1,0))","v":""},{"$f":"IF(AND(D344<>0,D344<>D345),MAX($F$1:F343)+1,\"\")","v":""},"00:00:00"]
["Décembre 1e-2e semaine",18,"2019-12-04",0,{"$f":"IF(OR(D345=0,D345=D344),\"\",IF(OR(D345<>\"\",D345<>D346),MAX($E$1:E344)+1,0))","v":""},{"$f":"IF(AND(D345<>0,D345<>D346),MAX($F$1:F344)+1,\"\")","v":""},"00:00:00"]
["Décembre 1e-2e semaine",19,"2019-12-05",0,{"$f":"IF(OR(D346=0,D346=D345),\"\",IF(OR(D346<>\"\",D346<>D347),MAX($E$1:E345)+1,0))","v":""},{"$f":"IF(AND(D346<>0,D346<>D347),MAX($F$1:F345)+1,\"\")","v":""},"00:00:00"]
["Décembre 1e-2e semaine",20,"2019-12-06",0,{"$f":"IF(OR(D347=0,D347=D346),\"\",IF(OR(D347<>\"\",D347<>D348),MAX($E$1:E346)+1,0))","v":""},{"$f":"IF(AND(D347<>0,D347<>D348),MAX($F$1:F346)+1,\"\")","v":""},"00:00:00"]
["Décembre 1e-2e semaine",21,"2019-12-07",0,{"$f":"IF(OR(D348=0,D348=D347),\"\",IF(OR(D348<>\"\",D348<>D349),MAX($E$1:E347)+1,0))","v":""},{"$f":"IF(AND(D348<>0,D348<>D349),MAX($F$1:F347)+1,\"\")","v":""},"00:00:00"]
["Décembre 1e-2e semaine",22,"2019-12-08",0,{"$f":"IF(OR(D349=0,D349=D348),\"\",IF(OR(D349<>\"\",D349<>D350),MAX($E$1:E348)+1,0))","v":""},{"$f":"IF(AND(D349<>0,D349<>D350),MAX($F$1:F348)+1,\"\")","v":""},"00:00:00"]
["Décembre 1e-2e semaine",29,"2019-12-09",0,{"$f":"IF(OR(D350=0,D350=D349),\"\",IF(OR(D350<>\"\",D350<>D351),MAX($E$1:E349)+1,0))","v":""},{"$f":"IF(AND(D350<>0,D350<>D351),MAX($F$1:F349)+1,\"\")","v":""},"00:00:00"]
["Décembre 1e-2e semaine",30,"2019-12-10",0,{"$f":"IF(OR(D351=0,D351=D350),\"\",IF(OR(D351<>\"\",D351<>D352),MAX($E$1:E350)+1,0))","v":""},{"$f":"IF(AND(D351<>0,D351<>D352),MAX($F$1:F350)+1,\"\")","v":""},"00:00:00"]
["Décembre 1e-2e semaine",31,"2019-12-11",0,{"$f":"IF(OR(D352=0,D352=D351),\"\",IF(OR(D352<>\"\",D352<>D353),MAX($E$1:E351)+1,0))","v":""},{"$f":"IF(AND(D352<>0,D352<>D353),MAX($F$1:F351)+1,\"\")","v":""},"00:00:00"]
["Décembre 1e-2e semaine",32,"2019-12-12",0,{"$f":"IF(OR(D353=0,D353=D352),\"\",IF(OR(D353<>\"\",D353<>D354),MAX($E$1:E352)+1,0))","v":""},{"$f":"IF(AND(D353<>0,D353<>D354),MAX($F$1:F352)+1,\"\")","v":""},"00:00:00"]
["Décembre 1e-2e semaine",33,"2019-12-13",0,{"$f":"IF(OR(D354=0,D354=D353),\"\",IF(OR(D354<>\"\",D354<>D355),MAX($E$1:E353)+1,0))","v":""},{"$f":"IF(AND(D354<>0,D354<>D355),MAX($F$1:F353)+1,\"\")","v":""},"00:00:00"]
["Décembre 1e-2e semaine",34,"2019-12-14",0,{"$f":"IF(OR(D355=0,D355=D354),\"\",IF(OR(D355<>\"\",D355<>D356),MAX($E$1:E354)+1,0))","v":""},{"$f":"IF(AND(D355<>0,D355<>D356),MAX($F$1:F354)+1,\"\")","v":""},"00:00:00"]
["Décembre 1e-2e semaine",35,"2019-12-15",0,{"$f":"IF(OR(D356=0,D356=D355),\"\",IF(OR(D356<>\"\",D356<>D357),MAX($E$1:E355)+1,0))","v":""},{"$f":"IF(AND(D356<>0,D356<>D357),MAX($F$1:F355)+1,\"\")","v":""},"00:00:00"]
["Décembre 3e-4e semaine",16,"2019-12-16",0,{"$f":"IF(OR(D357=0,D357=D356),\"\",IF(OR(D357<>\"\",D357<>D358),MAX($E$1:E356)+1,0))","v":""},{"$f":"IF(AND(D357<>0,D357<>D358),MAX($F$1:F356)+1,\"\")","v":""},"00:00:00"]
["Décembre 3e-4e semaine",17,"2019-12-17",0,{"$f":"IF(OR(D358=0,D358=D357),\"\",IF(OR(D358<>\"\",D358<>D359),MAX($E$1:E357)+1,0))","v":""},{"$f":"IF(AND(D358<>0,D358<>D359),MAX($F$1:F357)+1,\"\")","v":""},"00:00:00"]
["Décembre 3e-4e semaine",18,"2019-12-18",0,{"$f":"IF(OR(D359=0,D359=D358),\"\",IF(OR(D359<>\"\",D359<>D360),MAX($E$1:E358)+1,0))","v":""},{"$f":"IF(AND(D359<>0,D359<>D360),MAX($F$1:F358)+1,\"\")","v":""},"00:00:00"]
["Décembre 3e-4e semaine",19,"2019-12-19",0,{"$f":"IF(OR(D360=0,D360=D359),\"\",IF(OR(D360<>\"\",D360<>D361),MAX($E$1:E359)+1,0))","v":""},{"$f":"IF(AND(D360<>0,D360<>D361),MAX($F$1:F359)+1,\"\")","v":""},"00:00:00"]
["Décembre 3e-4e semaine",20,"2019-12-20",0,{"$f":"IF(OR(D361=0,D361=D360),\"\",IF(OR(D361<>\"\",D361<>D362),MAX($E$1:E360)+1,0))","v":""},{"$f":"IF(AND(D361<>0,D361<>D362),MAX($F$1:F360)+1,\"\")","v":""},"00:00:00"]
["Décembre 3e-4e semaine",21,"2019-12-21",0,{"$f":"IF(OR(D362=0,D362=D361),\"\",IF(OR(D362<>\"\",D362<>D363),MAX($E$1:E361)+1,0))","v":""},{"$f":"IF(AND(D362<>0,D362<>D363),MAX($F$1:F361)+1,\"\")","v":""},"00:00:00"]
["Décembre 3e-4e semaine",22,"2019-12-22",0,{"$f":"IF(OR(D363=0,D363=D362),\"\",IF(OR(D363<>\"\",D363<>D364),MAX($E$1:E362)+1,0))","v":""},{"$f":"IF(AND(D363<>0,D363<>D364),MAX($F$1:F362)+1,\"\")","v":""},"00:00:00"]
["Décembre 3e-4e semaine",29,"2019-12-23",0,{"$f":"IF(OR(D364=0,D364=D363),\"\",IF(OR(D364<>\"\",D364<>D365),MAX($E$1:E363)+1,0))","v":""},{"$f":"IF(AND(D364<>0,D364<>D365),MAX($F$1:F363)+1,\"\")","v":""},"00:00:00"]
["Décembre 3e-4e semaine",30,"2019-12-24",0,{"$f":"IF(OR(D365=0,D365=D364),\"\",IF(OR(D365<>\"\",D365<>D366),MAX($E$1:E364)+1,0))","v":""},{"$f":"IF(AND(D365<>0,D365<>D366),MAX($F$1:F364)+1,\"\")","v":""},"00:00:00"]
["Décembre 3e-4e semaine",31,"2019-12-25",0,{"$f":"IF(OR(D366=0,D366=D365),\"\",IF(OR(D366<>\"\",D366<>D367),MAX($E$1:E365)+1,0))","v":""},{"$f":"IF(AND(D366<>0,D366<>D367),MAX($F$1:F365)+1,\"\")","v":""},"00:00:00"]
["Décembre 3e-4e semaine",32,"2019-12-26",0,{"$f":"IF(OR(D367=0,D367=D366),\"\",IF(OR(D367<>\"\",D367<>D368),MAX($E$1:E366)+1,0))","v":""},{"$f":"IF(AND(D367<>0,D367<>D368),MAX($F$1:F366)+1,\"\")","v":""},"00:00:00"]
["Décembre 3e-4e semaine",33,"2019-12-27",0,{"$f":"IF(OR(D368=0,D368=D367),\"\",IF(OR(D368<>\"\",D368<>D369),MAX($E$1:E367)+1,0))","v":""},{"$f":"IF(AND(D368<>0,D368<>D369),MAX($F$1:F367)+1,\"\")","v":""},"00:00:00"]
["Décembre 3e-4e semaine",34,"2019-12-28",0,{"$f":"IF(OR(D369=0,D369=D368),\"\",IF(OR(D369<>\"\",D369<>D370),MAX($E$1:E368)+1,0))","v":""},{"$f":"IF(AND(D369<>0,D369<>D370),MAX($F$1:F368)+1,\"\")","v":""},"00:00:00"]
["Décembre 3e-4e semaine",35,"2019-12-29",0,{"$f":"IF(OR(D370=0,D370=D369),\"\",IF(OR(D370<>\"\",D370<>D371),MAX($E$1:E369)+1,0))","v":""},{"$f":"IF(AND(D370<>0,D370<>D371),MAX($F$1:F369)+1,\"\")","v":""},"00:00:00"]
[null,null,{"$f":"C370+1","v":"2019-12-30"}]

{"sheet":"Janvier - 2prem. semaines","index":8,"n_rows":42,"n_cols":34,"rows_kept":42,"cut":false,"hidden":false,"merged":[[1,1,6,7],[7,4,7,7],[7,29,7,31],[41,0,42,0],[41,5,42,5],[40,6,40,7],[41,6,42,7],[41,3,42,3],[43,1,43,2],[41,1,42,1],[41,4,42,4],[9,1,9,3],[41,2,42,2]]}
[{"$f":"MID(CELL(\"filename\",A1),FIND(\"]\",CELL(\"filename\",A1))+1,32)","v":"Janvier - 2prem. semaines"}]
[null,"   Feuille de temps"]
[]
[]
[]
[]
[]
[null,null,null,null,null,null,null,null,null,null,null,null,null,null,null,null,null,null,null,null,null,null,null,null,null,null,null,null,null,"Congés fériés, lundi suivant la date"]
["Employé: ",{"$f":"'Congés de l''employé'!B8","v":0},null,null,null,null,null,null,null,null,null,null,null,null,null,null,null,null,null,null,null,null,null,null,null,null,null,null,null,"Mois","Type de congé férié","Année en cours"]
["Période débutant le ",{"$f":"DATE(An_ref,1,-2)-WEEKDAY(DATE(An_ref,1,3))+7","v":"2018-12-31"},null,null,null,null,null,null,null,null,null,null,null,null,null,null,null,null,null,null,null,null,null,null,null,null,null,{"$f":"OR(B11=$AF$13,B11=$AF$14,B11=$AF$15,B11=$AF$17,B11=$AF$18,B11=$AF$20,B11=$AF$22,B11=$AF$24,B11=$AF$26,B11=$AF$28,B11=$AF$29,B11=$AF$30)","v":false},null,null,null,{"$f":"An_ref","v":2019},null,"alloué au férié"]
[null,null,null,null,null,null,null,null,null,null,null,null,null,null,null,null,null,null,null,null,null,null,null,null,null,null,null,null,null,"Janvier","Jour de l'an",{"$f":"DATE(Année,1,1)","v":"2019-01-01"},"Date fixe 1er janvier"]
[null,null,null,null,null,null,null,null,null,null,{"$f":"VLOOKUP($A17,$AF$12:$AH$30,3,FALSE)","v":1.4947183619464715E-188},null,null,null,null,null,null,null,null,null,null,null,null,null,null,null,null,null,"FÉRIÉ",null,"FÉRIÉ-JOUR OUVRABLE SUIVANT LE JOUR DE L'AN",{"$f":"AF11+2-WEEKDAY(AF11)+(WEEKDAY(AF11)>2)","v":"2019-01-01"},null,{"$f":"Edit!M27","v":7.4735918097323577E-190}]
["Jour","Heure\nDébut","Départ\nDiner","Retour\nDiner","Heure\nFin","Télétravail\nDépart","Télétravail\nFin","TOTAL\nJournalier","Absence",null,"Index de la ligne",null,null,null,null,null,null,null,null,null,null,null,null,null,null,null,null,null,null,null,"Bureau fermé congé donné-un jour après le jour de l'an",{"$f":"AF11+2-WEEKDAY(AF11)+(WEEKDAY(AF11)>2)+1","v":"2019-01-02"}]
[null,null,null,null,null,null,null,null,null,null,0,null,null,null,null,null,null,null,null,null,null,null,null,null,null,null,null,null,"FÉRIÉ","Mars","Bureau fermé congé donné-un jour ouvré avant Pâques",{"$f":"AF15-2","v":"2019-04-19"},"3e lundi de mai",{"$f":"Edit!M28","v":0.3289473684210526}]
["Horaire Semaine 1",null,null,null,null,null,null,null,null,null,null,null,null,null,null,null,null,null,null,null,null,null,null,null,null,null,null,null,null,null,"Pâques",{"$f":"DATE(Année,3,29.56+0.979*MOD(204-11*MOD(Année,19),30)-\nWEEKDAY(DATE(Année,3,28.56+0.979*MOD(204-11*MOD(Année,19),30))))","v":"2019-04-21"},"Date fixe 24 juin"]
[{"$f":"$B$10","v":"2018-12-31"},null,null,null,null,null,null,{"$f":"IF(ISNA(VLOOKUP($A16,$AF$12:$AH$30,3,FALSE)),IF($I16=\"CONGÉ\",'Congés de l''employé'!$E$16,IF($I16=\"Demi congé\",'Congés de l''employé'!$BU$16,IF($I16=\"MALADIE\",'Congés de l''employé'!$E$18,IF($I16=\"Demi maladie\",'Congés de l''employé'!$BU$18,MOD($E16-($B16-($C16-$D16))+($G16-$F16),1))))),VLOOKUP($A16,$AF$12:$AH$30,3,FALSE))","v":0},null,null,{"$f":"IF(COUNTIF(I16:I16,\"X\"),MAX($K$13:K13)+1,\"\")","v":""},null,null,null,null,null,null,null,null,null,null,null,null,null,null,null,null,null,null,"Avril","Lundi de pâques",{"$f":"AF15+1","v":"2019-04-22"},"Date fixe 1er juillet"]
[{"$f":"$B$10+1","v":"2019-01-01"},null,null,null,null,null,null,{"$f":"IF(ISNA(VLOOKUP($A17,$AF$12:$AH$30,3,FALSE)),IF($I17=\"CONGÉ\",'Congés de l''employé'!$E$16,IF($I17=\"Demi congé\",'Congés de l''employé'!$BU$16,IF($I17=\"MALADIE\",'Congés de l''employé'!$E$18,IF($I17=\"Demi maladie\",'Congés de l''employé'!$BU$18,MOD($E17-($B17-($C17-$D17))+($G17-$F17),1))))),VLOOKUP($A17,$AF$12:$AH$30,3,FALSE))","v":7.4735918097323577E-190},null,null,{"$f":"IF(COUNTIF(I17:I17,\"X\"),MAX($K$13:K14)+1,\"\")","v":""},null,null,null,null,null,null,null,null,null,null,null,null,null,null,null,null,null,"FÉRIÉ","Mai","Journée nationale des patriotes",{"$f":"DATE(Année,5,23)-WEEKDAY(DATE(Année,5,1),2)","v":"2019-05-20"},null,{"$f":"Edit!M30","v":0}]
[{"$f":"$B$10+2","v":"2019-01-02"},null,null,null,null,null,null,{"$f":"IF(ISNA(VLOOKUP($A18,$AF$12:$AH$30,3,FALSE)),IF($I18=\"CONGÉ\",'Congés de l''employé'!$E$16,IF($I18=\"Demi congé\",'Congés de l''employé'!$BU$16,IF($I18=\"MALADIE\",'Congés de l''employé'!$E$18,IF($I18=\"Demi maladie\",'Congés de l''employé'!$BU$18,MOD($E18-($B18-($C18-$D18))+($G18-$F18),1))))),VLOOKUP($A18,$AF$12:$AH$30,3,FALSE))","v":0},null,null,{"$f":"IF(COUNTIF(I18:I18,\"X\"),MAX($K$13:K15)+1,\"\")","v":""},null,null,null,null,null,null,null,null,null,null,null,null,null,null,null,null,null,"FÉRIÉ","Juin","Fête nationale du Québec",{"$f":"DATE(Année,6,24)","v":"2019-06-24"},null,{"$f":"Edit!M31","v":0}]
[{"$f":"$B$10+3","v":"2019-01-03"},null,null,null,null,null,null,{"$f":"IF(ISNA(VLOOKUP($A19,$AF$12:$AH$30,3,FALSE)),IF($I19=\"CONGÉ\",'Congés de l''employé'!$E$16,IF($I19=\"Demi congé\",'Congés de l''employé'!$BU$16,IF($I19=\"MALADIE\",'Congés de l''employé'!$E$18,IF($I19=\"Demi maladie\",'Congés de l''employé'!$BU$18,MOD($E19-($B19-($C19-$D19))+($G19-$F19),1))))),VLOOKUP($A19,$AF$12:$AH$30,3,FALSE))","v":0},null,null,{"$f":"IF(COUNTIF(I19:I19,\"X\"),MAX($K$13:K16)+1,\"\")","v":""},null,null,null,null,null,null,null,null,null,null,null,null,null,null,null,null,null,null,null,"FÉRIÉ-JOUR OUVRABLE SUIVANT LA FÊTE NATIONALE DU QUÉBEC",{"$f":"AF18+2-WEEKDAY(AF18)+(WEEKDAY(AF18)>2)*7","v":"2019-06-24"},"Date fixe 25 décembre"]
[{"$f":"$B$10+4","v":"2019-01-04"},null,null,null,null,null,null,{"$f":"IF(ISNA(VLOOKUP($A20,$AF$12:$AH$30,3,FALSE)),IF($I20=\"CONGÉ\",'Congés de l''employé'!$E$16,IF($I20=\"Demi congé\",'Congés de l''employé'!$BU$16,IF($I20=\"MALADIE\",'Congés de l''employé'!$E$18,IF($I20=\"Demi maladie\",'Congés de l''employé'!$BU$18,MOD($E20-($B20-($C20-$D20))+($G20-$F20),1))))),VLOOKUP($A20,$AF$12:$AH$30,3,FALSE))","v":0},null,null,{"$f":"IF(COUNTIF(I20:I20,\"X\"),MAX($K$13:K17)+1,\"\")","v":""},null,null,null,null,null,null,null,null,null,null,null,null,null,null,null,null,null,"FÉRIÉ","Juillet","Fête du Canada",{"$f":"DATE(Année,7,1)","v":"2019-07-01"},null,{"$f":"Edit!M32","v":1.1253746147756614E-210}]
[{"$f":"$B$10+5","v":"2019-01-05"},null,null,null,null,null,null,{"$f":"IF(ISNA(VLOOKUP($A21,$AF$12:$AH$30,3,FALSE)),IF($I21=\"CONGÉ\",'Congés de l''employé'!$E$16,IF($I21=\"Demi congé\",'Congés de l''employé'!$BU$16,IF($I21=\"MALADIE\",'Congés de l''employé'!$E$18,IF($I21=\"Demi maladie\",'Congés de l''employé'!$BU$18,MOD($E21-($B21-($C21-$D21))+($G21-$F21),1))))),VLOOKUP($A21,$AF$12:$AH$30,3,FALSE))","v":0},null,null,{"$f":"IF(COUNTIF(I21:I21,\"X\"),MAX($K$13:K18)+1,\"\")","v":""},null,null,null,null,null,null,null,null,null,null,null,null,null,null,null,null,null,null,null,"FÉRIÉ-JOUR OUVRABLE SUIVANT LA FÊTE DU CANADA",{"$f":"AF20+2-WEEKDAY(AF20)+(WEEKDAY(AF20)>2)*7","v":"2019-07-01"}]
[{"$f":"$B$10+6","v":"2019-01-06"},null,null,null,null,null,null,{"$f":"IF(ISNA(VLOOKUP($A22,$AF$12:$AH$30,3,FALSE)),IF($I22=\"CONGÉ\",'Congés de l''employé'!$E$16,IF($I22=\"Demi congé\",'Congés de l''employé'!$BU$16,IF($I22=\"MALADIE\",'Congés de l''employé'!$E$18,IF($I22=\"Demi maladie\",'Congés de l''employé'!$BU$18,MOD($E22-($B22-($C22-$D22))+($G22-$F22),1))))),VLOOKUP($A22,$AF$12:$AH$30,3,FALSE))","v":0},null,null,{"$f":"IF(COUNTIF(I22:I22,\"X\"),MAX($K$13:K19)+1,\"\")","v":""},null,null,null,null,null,null,null,null,null,null,null,null,null,null,null,null,null,"FÉRIÉ","Septembre","Fête du travail",{"$f":"IF(MOD(DATE(Année,9,1),7)<=2,2-MOD(DATE(Année,9,1),7),9-MOD(DATE(Année,9,1),7))+DATE(Année,9,1)","v":"2019-09-01"},null,{"$f":"Edit!M33","v":0}]
[null,null,null,null,null,null,null,{"$f":"SUM(H16:H22)+Tableau14567893640[[#This Row],[Heure\nDébut]]","v":7.4735918097323577E-190},null,null,{"$f":"IF(COUNTIF(I23:I23,\"X\"),MAX($K$13:K20)+1,\"\")","v":""},null,null,null,null,null,null,null,null,null,null,null,null,null,null,null,null,null,null,null,"FÉRIÉ-JOUR OUVRABLE SUIVANT LA FÊTE DU TRAVAIL",{"$f":"AF22+2-WEEKDAY(AF22)+(WEEKDAY(AF22)>2)*7","v":"2019-09-02"}]
[null,null,null,null,null,null,null,null,null,null,{"$f":"IF(COUNTIF(I24:I24,\"X\"),MAX($K$13:K21)+1,\"\")","v":""},null,null,null,null,null,null,null,null,null,null,null,null,null,null,null,null,null,"FÉRIÉ","Octobre","Action de grâce",{"$f":"DATE(AF10,10,1)","v":"2019-10-01"},null,{"$f":"Edit!M34","v":0}]
[null,null,null,null,null,null,null,null,null,null,{"$f":"IF(COUNTIF(I25:I25,\"X\"),MAX($K$13:K22)+1,\"\")","v":""},null,null,null,null,null,null,null,null,null,null,null,null,null,null,null,null,null,null,null,"FÉRIÉ-JOUR OUVRABLE SUIVANT L'ACTION DE GRÂCE",{"$f":"AF24-DAY(AF24)-WEEKDAY(AF24-DAY(AF24),2)+15","v":"2019-10-14"}]
[null,null,null,null,null,null,null,{"$f":"IF(OR(H23=-(B15),B29=0),\"0\",(H23-B15))","v":"0"},null,null,{"$f":"IF(COUNTIF(I26:I26,\"X\"),MAX($K$13:K23)+1,\"\")","v":""},null,null,null,null,null,null,null,null,null,null,null,null,null,null,null,null,null,null,null,"Bureau fermé congé donné",{"$f":"DATE(Année,12,25)-1","v":"2019-12-24"},null,{"$f":"'[1]Congés de l''employé'!$E$14","v":0}]
[]
[null,null,null,null,null,null,null,null,null,null,{"$f":"IF(COUNTIF(I28:I28,\"X\"),MAX($K$13:K24)+1,\"\")","v":""},null,null,null,null,null,null,null,null,null,null,null,null,null,null,null,null,null,"FÉRIÉ","Décembre","Férié-Noël",{"$f":"DATE(Année,12,25)","v":"2019-12-25"},null,{"$f":"Edit!M35","v":0}]
["Horaire Semaine 2",null,null,null,null,null,null,null,null,null,{"$f":"IF(COUNTIF(I29:I29,\"X\"),MAX($K$13:K25)+1,\"\")","v":""},null,null,null,null,null,null,null,null,null,null,null,null,null,null,null,null,null,null,"Décembre","Bureau fermé congé donné",{"$f":"DATE(Année,12,25)+1","v":"2019-12-26"}]
[{"$f":"B10+7","v":"2019-01-07"},0.33333333333333331,0.5,null,null,null,null,{"$f":"IF(ISNA(VLOOKUP($A30,$AF$12:$AH$30,3,FALSE)),IF($I30=\"CONGÉ\",'Congés de l''employé'!$E$16,IF($I30=\"Demi congé\",'Congés de l''employé'!$BU$16,IF($I30=\"MALADIE\",'Congés de l''employé'!$E$18,IF($I30=\"Demi maladie\",'Congés de l''employé'!$BU$18,MOD($E30-($B30-($C30-$D30))+($G30-$F30),1))))),VLOOKUP($A30,$AF$12:$AH$30,3,FALSE))","v":0.16666666666666669},null,null,{"$f":"IF(COUNTIF(I30:I30,\"X\"),MAX($K$13:K26)+1,\"\")","v":""},null,null,null,null,null,null,null,null,null,null,null,null,null,null,null,null,null,null,"Décembre","Bureau fermé congé donné",{"$f":"AF11+2-WEEKDAY(AF11)+(WEEKDAY(AF11)>2)-1","v":"2018-12-31"}]
[{"$f":"B10+8","v":"2019-01-08"},0.375,0.5,null,null,null,null,{"$f":"IF(ISNA(VLOOKUP($A31,$AF$12:$AH$30,3,FALSE)),IF($I31=\"CONGÉ\",'Congés de l''employé'!$E$16,IF($I31=\"Demi congé\",'Congés de l''employé'!$BU$16,IF($I31=\"MALADIE\",'Congés de l''employé'!$E$18,IF($I31=\"Demi maladie\",'Congés de l''employé'!$BU$18,MOD($E31-($B31-($C31-$D31))+($G31-$F31),1))))),VLOOKUP($A31,$AF$12:$AH$30,3,FALSE))","v":0.125},null,null,{"$f":"IF(COUNTIF(I31:I31,\"X\"),MAX($K$13:K28)+1,\"\")","v":""}]
[{"$f":"B10+9","v":"2019-01-09"},0.35416666666666669,0.41666666666666669,null,null,null,null,{"$f":"IF(ISNA(VLOOKUP($A32,$AF$12:$AH$30,3,FALSE)),IF($I32=\"CONGÉ\",'Congés de l''employé'!$E$16,IF($I32=\"Demi congé\",'Congés de l''employé'!$BU$16,IF($I32=\"MALADIE\",'Congés de l''employé'!$E$18,IF($I32=\"Demi maladie\",'Congés de l''employé'!$BU$18,MOD($E32-($B32-($C32-$D32))+($G32-$F32),1))))),VLOOKUP($A32,$AF$12:$AH$30,3,FALSE))","v":6.25E-2},null,null,{"$f":"IF(COUNTIF(I32:I32,\"X\"),MAX($K$13:K29)+1,\"\")","v":""}]
[{"$f":"B10+10","v":"2019-01-10"},null,null,null,null,null,null,{"$f":"IF(ISNA(VLOOKUP($A33,$AF$12:$AH$30,3,FALSE)),IF($I33=\"CONGÉ\",'Congés de l''employé'!$E$16,IF($I33=\"Demi congé\",'Congés de l''employé'!$BU$16,IF($I33=\"MALADIE\",'Congés de l''employé'!$E$18,IF($I33=\"Demi maladie\",'Congés de l''employé'!$BU$18,MOD($E33-($B33-($C33-$D33))+($G33-$F33),1))))),VLOOKUP($A33,$AF$12:$AH$30,3,FALSE))","v":0},null,null,{"$f":"IF(COUNTIF(I33:I33,\"X\"),MAX($K$13:K30)+1,\"\")","v":""}]
[{"$f":"B10+11","v":"2019-01-11"},null,null,null,null,null,null,{"$f":"IF(ISNA(VLOOKUP($A34,$AF$12:$AH$30,3,FALSE)),IF($I34=\"CONGÉ\",'Congés de l''employé'!$E$16,IF($I34=\"Demi congé\",'Congés de l''employé'!$BU$16,IF($I34=\"MALADIE\",'Congés de l''employé'!$E$18,IF($I34=\"Demi maladie\",'Congés de l''employé'!$BU$18,MOD($E34-($B34-($C34-$D34))+($G34-$F34),1))))),VLOOKUP($A34,$AF$12:$AH$30,3,FALSE))","v":0},null,null,{"$f":"IF(COUNTIF(I34:I34,\"X\"),MAX($K$13:K31)+1,\"\")","v":""}]
[{"$f":"B10+12","v":"2019-01-12"},null,null,null,null,null,null,{"$f":"IF(ISNA(VLOOKUP($A35,$AF$12:$AH$30,3,FALSE)),IF($I35=\"CONGÉ\",'Congés de l''employé'!$E$16,IF($I35=\"Demi congé\",'Congés de l''employé'!$BU$16,IF($I35=\"MALADIE\",'Congés de l''employé'!$E$18,IF($I35=\"Demi maladie\",'Congés de l''employé'!$BU$18,MOD($E35-($B35-($C35-$D35))+($G35-$F35),1))))),VLOOKUP($A35,$AF$12:$AH$30,3,FALSE))","v":0},null,null,{"$f":"IF(COUNTIF(I35:I35,\"X\"),MAX($K$13:K32)+1,\"\")","v":""}]
[{"$f":"B10+13","v":"2019-01-13"},null,null,null,null,null,null,{"$f":"IF(ISNA(VLOOKUP($A36,$AF$12:$AH$30,3,FALSE)),IF($I36=\"CONGÉ\",'Congés de l''employé'!$E$16,IF($I36=\"Demi congé\",'Congés de l''employé'!$BU$16,IF($I36=\"MALADIE\",'Congés de l''employé'!$E$18,IF($I36=\"Demi maladie\",'Congés de l''employé'!$BU$18,MOD($E36-($B36-($C36-$D36))+($G36-$F36),1))))),VLOOKUP($A36,$AF$12:$AH$30,3,FALSE))","v":0},null,null,{"$f":"IF(COUNTIF(I36:I36,\"X\"),MAX($K$13:K33)+1,\"\")","v":""}]
[null,null,null,null,null,null,null,{"$f":"SUM(H30:H36)+B37","v":0.35416666666666669}]
[]
[null,null,null,null,null,null,null,{"$f":"IF(OR(H37=-(B29),B29=0),\"0\",(H37-B29))","v":"0"}]
[]
["Heure travaillées","Heures prévues","ENTREZ le nombre d'heures à payer","Heures en banque\nde l'an passé","Heures\n supplémentaires ou en moins","Heures à \ntransposer dans la Banque","Total de la Banque d'heures"]
[{"$f":"$H$23+$H$37","v":0.35416666666666669},{"$f":"'Congés de l''employé'!BU8*2","v":2.9166666666666665},{"$f":"A42","v":0.35416666666666669},0,{"$f":"IF($H$26>0,$H$26)+IF($H$38>0,$H$38,0)+IF($H$26<0,$H$26)+IF($H$38<0,$H$38,0)","v":0},{"$f":"$A$42-$C$42","v":0},{"$f":"$F$42+D42","v":0}]

{"sheet":"Janvier - 2dern. semaines","index":9,"n_rows":41,"n_cols":34,"rows_kept":41,"cut":false,"hidden":false,"merged":[[40,0,41,0],[40,1,41,1],[40,2,41,2],[40,3,41,3],[40,4,41,4],[7,29,7,31],[42,1,42,2],[7,4,7,7],[9,1,9,3],[1,1,5,7],[39,5,39,6],[40,5,41,6]]}
[{"$f":"MID(CELL(\"filename\",A1),FIND(\"]\",CELL(\"filename\",A1))+1,32)","v":"Janvier - 2dern. semaines"}]
[null,"   Feuille de temps"]
[]
[]
[]
[]
[]
[null,null,null,null,null,null,null,null,null,null,null,null,null,null,null,null,null,null,null,null,null,null,null,null,null,null,null,null,null,"Congés fériés, lundi suivant la date"]
["Employé: ",{"$f":"'Congés de l''employé'!B8","v":0},null,null,null,null,null,null,null,null,null,null,null,null,null,null,null,null,null,null,null,null,null,null,null,null,null,null,null,"Mois","Type de congé férié","Année en cours"]
["Période débutant le ",{"$f":"DATE(An_ref,1,-2)-WEEKDAY(DATE(An_ref,1,3))+21","v":"2019-01-14"},null,null,null,null,null,null,null,null,null,null,null,null,null,null,null,null,null,null,null,null,null,null,null,null,null,{"$f":"OR(B11=$AF$12,B11=$AF$13,B11=$AF$14,B11=$AF$16,B11=$AF$17,B11=$AF$19,B11=$AF$21,B11=$AF$23,B11=$AF$25,B11=$AF$26,B11=$AF$27,B11=$AF$28)","v":false},null,null,null,{"$f":"An_ref","v":2019},null,"alloué au férié"]
[null,null,null,null,null,null,null,null,null,null,null,null,null,null,null,null,null,null,null,null,null,null,null,null,null,null,null,null,null,"Janvier","Jour de l'an",{"$f":"DATE(Année,1,1)","v":"2019-01-01"},"Date fixe 1er janvier"]
[null,null,null,null,null,null,null,null,null,null,null,null,null,null,null,null,null,null,null,null,null,null,null,null,null,null,null,null,null,null,"FÉRIÉ-JOUR OUVRABLE SUIVANT LE JOUR DE L'AN",{"$f":"AF11+2-WEEKDAY(AF11)+(WEEKDAY(AF11)>2)","v":"2019-01-01"},null,{"$f":"Edit!M27","v":7.4735918097323577E-190}]
["Jour","Heure\nDébut","Départ\nDiner","Retour\nDiner","Heure\nFin","Télétravail\nDépart","Télétravail\nFin","TOTAL\nJournalier","Absence",null,"Index de la ligne",null,null,null,null,null,null,null,null,null,null,null,null,null,null,null,null,null,null,null,"Bureau fermé congé donné-un jour après le jour de l'an",{"$f":"AF11+2-WEEKDAY(AF11)+(WEEKDAY(AF11)>2)+1","v":"2019-01-02"}]
[null,null,null,null,null,null,null,null,null,null,{"$f":"IF(MAX('Janvier - 2prem. semaines'!$K$14:K36)=0,'Janvier - 2prem. semaines'!L14,MAX('Janvier - 2prem. semaines'!$K$14:K36))","v":0},null,null,null,null,null,null,null,null,null,null,null,null,null,null,null,null,null,null,"Mars","Bureau fermé congé donné-un jour ouvré avant Pâques",{"$f":"AF15-2","v":"2019-04-19"},"3e lundi de mai",{"$f":"Edit!M28","v":0.3289473684210526}]
["Horaire Semaine 1",null,null,null,null,null,null,null,null,null,{"$f":"IF(COUNTIF(I16,\"X\"),MAX($K$13:K13)+1,\"\")","v":""},null,null,null,null,null,null,null,null,null,null,null,null,null,null,null,null,null,null,null,"Pâques",{"$f":"DATE(Année,3,29.56+0.979*MOD(204-11*MOD(Année,19),30)-\nWEEKDAY(DATE(Année,3,28.56+0.979*MOD(204-11*MOD(Année,19),30))))","v":"2019-04-21"},"Date fixe 24 juin"]
[{"$f":"$B$10","v":"2019-01-14"},null,null,null,null,null,null,{"$f":"IF(ISNA(VLOOKUP($A16,$AF$12:$AH$29,3,FALSE)),IF($I16=\"CONGÉ\",'Congés de l''employé'!$E$16,IF($I16=\"Demi congé\",'Congés de l''employé'!$BU$16,IF($I16=\"MALADIE\",'Congés de l''employé'!$E$18,IF($I16=\"Demi maladie\",'Congés de l''employé'!$BU$18,MOD($E16-($B16-($C16-$D16))+($G16-$F16),1))))),VLOOKUP($A16,$AF$12:$AH$29,3,FALSE))","v":0},null,null,{"$f":"IF(I16<>\"\",1+$K$14,\"\")","v":""},null,null,null,null,null,null,null,null,null,null,null,null,null,null,null,null,null,null,"Avril","Lundi de pâques",{"$f":"AF15+1","v":"2019-04-22"},"Date fixe 1er juillet"]
[{"$f":"$B$10+1","v":"2019-01-15"},null,null,null,null,null,null,{"$f":"IF(ISNA(VLOOKUP($A17,$AF$12:$AH$29,3,FALSE)),IF($I17=\"CONGÉ\",'Congés de l''employé'!$E$16,IF($I17=\"Demi congé\",'Congés de l''employé'!$BU$16,IF($I17=\"MALADIE\",'Congés de l''employé'!$E$18,IF($I17=\"Demi maladie\",'Congés de l''employé'!$BU$18,MOD($E17-($B17-($C17-$D17))+($G17-$F17),1))))),VLOOKUP($A17,$AF$12:$AH$29,3,FALSE))","v":0},null,null,"",null,null,null,null,null,null,null,null,null,null,null,null,null,null,null,null,null,null,"Mai","Journée nationale des patriotes",{"$f":"DATE(Année,5,23)-WEEKDAY(DATE(Année,5,1),2)","v":"2019-05-20"},null,{"$f":"Edit!M30","v":0}]
[{"$f":"$B$10+2","v":"2019-01-16"},null,null,null,null,null,null,{"$f":"IF(ISNA(VLOOKUP($A18,$AF$12:$AH$29,3,FALSE)),IF($I18=\"CONGÉ\",'Congés de l''employé'!$E$16,IF($I18=\"Demi congé\",'Congés de l''employé'!$BU$16,IF($I18=\"MALADIE\",'Congés de l''employé'!$E$18,IF($I18=\"Demi maladie\",'Congés de l''employé'!$BU$18,MOD($E18-($B18-($C18-$D18))+($G18-$F18),1))))),VLOOKUP($A18,$AF$12:$AH$29,3,FALSE))","v":0},null,null,"",null,null,null,null,null,null,null,null,null,null,null,null,null,null,null,null,null,null,"Juin","Fête nationale du Québec",{"$f":"DATE(Année,6,24)","v":"2019-06-24"},null,{"$f":"Edit!M31","v":0}]
[{"$f":"$B$10+3","v":"2019-01-17"},null,null,null,null,null,null,{"$f":"IF(ISNA(VLOOKUP($A19,$AF$12:$AH$29,3,FALSE)),IF($I19=\"CONGÉ\",'Congés de l''employé'!$E$16,IF($I19=\"Demi congé\",'Congés de l''employé'!$BU$16,IF($I19=\"MALADIE\",'Congés de l''employé'!$E$18,IF($I19=\"Demi maladie\",'Congés de l''employé'!$BU$18,MOD($E19-($B19-($C19-$D19))+($G19-$F19),1))))),VLOOKUP($A19,$AF$12:$AH$29,3,FALSE))","v":0},null,null,"",null,null,null,null,null,null,null,null,null,null,null,null,null,null,null,null,null,null,null,"FÉRIÉ-JOUR OUVRABLE SUIVANT LA FÊTE NATIONALE DU QUÉBEC",{"$f":"AF18+2-WEEKDAY(AF18)+(WEEKDAY(AF18)>2)*7","v":"2019-06-24"},"Date fixe 25 décembre"]
[{"$f":"$B$10+4","v":"2019-01-18"},null,null,null,null,null,null,{"$f":"IF(ISNA(VLOOKUP($A20,$AF$12:$AH$29,3,FALSE)),IF($I20=\"CONGÉ\",'Congés de l''employé'!$E$16,IF($I20=\"Demi congé\",'Congés de l''employé'!$BU$16,IF($I20=\"MALADIE\",'Congés de l''employé'!$E$18,IF($I20=\"Demi maladie\",'Congés de l''employé'!$BU$18,MOD($E20-($B20-($C20-$D20))+($G20-$F20),1))))),VLOOKUP($A20,$AF$12:$AH$29,3,FALSE))","v":0},null,null,"",null,null,null,null,null,null,null,null,null,null,null,null,null,null,null,null,null,null,"Juillet","Fête du Canada",{"$f":"DATE(Année,7,1)","v":"2019-07-01"},null,{"$f":"Edit!M32","v":1.1253746147756614E-210}]
[{"$f":"$B$10+5","v":"2019-01-19"},null,null,null,null,null,null,{"$f":"IF(ISNA(VLOOKUP($A21,$AF$12:$AH$29,3,FALSE)),IF($I21=\"CONGÉ\",'Congés de l''employé'!$E$16,IF($I21=\"Demi congé\",'Congés de l''employé'!$BU$16,IF($I21=\"MALADIE\",'Congés de l''employé'!$E$18,IF($I21=\"Demi maladie\",'Congés de l''employé'!$BU$18,MOD($E21-($B21-($C21-$D21))+($G21-$F21),1))))),VLOOKUP($A21,$AF$12:$AH$29,3,FALSE))","v":0},null,null,"",null,null,null,null,null,null,null,null,null,null,null,null,null,null,null,null,null,null,null,"FÉRIÉ-JOUR OUVRABLE SUIVANT LA FÊTE DU CANADA",{"$f":"AF20+2-WEEKDAY(AF20)+(WEEKDAY(AF20)>2)*7","v":"2019-07-01"}]
[{"$f":"$B$10+6","v":"2019-01-20"},null,null,null,null,null,null,{"$f":"IF(ISNA(VLOOKUP($A22,$AF$12:$AH$29,3,FALSE)),IF($I22=\"CONGÉ\",'Congés de l''employé'!$E$16,IF($I22=\"Demi congé\",'Congés de l''employé'!$BU$16,IF($I22=\"MALADIE\",'Congés de l''employé'!$E$18,IF($I22=\"Demi maladie\",'Congés de l''employé'!$BU$18,MOD($E22-($B22-($C22-$D22))+($G22-$F22),1))))),VLOOKUP($A22,$AF$12:$AH$29,3,FALSE))","v":0},null,null,"",null,null,null,null,null,null,null,null,null,null,null,null,null,null,null,null,null,null,"Septembre","Fête du travail",{"$f":"IF(MOD(DATE(Année,9,1),7)<=2,2-MOD(DATE(Année,9,1),7),9-MOD(DATE(Année,9,1),7))+DATE(Année,9,1)","v":"2019-09-01"},null,{"$f":"Edit!M33","v":0}]
[null,null,null,null,null,null,null,{"$f":"SUM(H16:H22)+B23","v":0},null,null,"",null,null,null,null,null,null,null,null,null,null,null,null,null,null,null,null,null,null,null,"FÉRIÉ-JOUR OUVRABLE SUIVANT LA FÊTE DU TRAVAIL",{"$f":"AF22+2-WEEKDAY(AF22)+(WEEKDAY(AF22)>2)*7","v":"2019-09-02"}]
[null,null,null,null,null,null,null,null,null,null,"",null,null,null,null,null,null,null,null,null,null,null,null,null,null,null,null,null,null,"Octobre","Action de grâce",{"$f":"DATE(AF10,10,1)","v":"2019-10-01"},null,{"$f":"Edit!M34","v":0}]
[null,null,null,null,null,null,null,null,null,null,"",null,null,null,null,null,null,null,null,null,null,null,null,null,null,null,null,null,null,null,"FÉRIÉ-JOUR OUVRABLE SUIVANT L'ACTION DE GRÂCE",{"$f":"AF24-DAY(AF24)-WEEKDAY(AF24-DAY(AF24),2)+15","v":"2019-10-14"}]
[null,null,null,null,null,null,"Heures en trop\nou en moins",{"$f":"IF(OR(H23=-(B15),B15=0),\"0\",(H23-B15))","v":"0"},null,null,"",null,null,null,null,null,null,null,null,null,null,null,null,null,null,null,null,null,null,null,"Bureau fermé congé donné",{"$f":"DATE(Année,12,25)-1","v":"2019-12-24"},null,{"$f":"'[1]Congés de l''employé'!$E$14","v":0}]
[null,null,null,null,null,null,null,null,null,null,"",null,null,null,null,null,null,null,null,null,null,null,null,null,null,null,null,null,null,"Décembre","Férié-Noël",{"$f":"DATE(Année,12,25)","v":"2019-12-25"},null,{"$f":"Edit!M35","v":0}]
["Horaire Semaine 2",null,null,null,null,null,null,null,null,null,"",null,null,null,null,null,null,null,null,null,null,null,null,null,null,null,null,null,null,"Décembre","Bureau fermé congé donné",{"$f":"DATE(Année,12,25)+1","v":"2019-12-26"}]
[{"$f":"B10+7","v":"2019-01-21"},0.35416666666666669,0.5,0.52083333333333337,0.6875,null,null,{"$f":"IF(ISNA(VLOOKUP($A29,$AF$12:$AH$29,3,FALSE)),IF($I29=\"CONGÉ\",'Congés de l''employé'!$E$16,IF($I29=\"Demi congé\",'Congés de l''employé'!$BU$16,IF($I29=\"MALADIE\",'Congés de l''employé'!$E$18,IF($I29=\"Demi maladie\",'Congés de l''employé'!$BU$18,MOD($E29-($B29-($C29-$D29))+($G29-$F29),1))))),VLOOKUP($A29,$AF$12:$AH$29,3,FALSE))","v":0.31249999999999994},null,null,"",null,null,null,null,null,null,null,null,null,null,null,null,null,null,null,null,null,null,"Décembre","Bureau fermé congé donné",{"$f":"AF11+2-WEEKDAY(AF11)+(WEEKDAY(AF11)>2)-1","v":"2018-12-31"}]
[{"$f":"B10+8","v":"2019-01-22"},0.39583333333333331,0.5,0.52083333333333337,0.8125,null,null,{"$f":"IF(ISNA(VLOOKUP($A30,$AF$12:$AH$29,3,FALSE)),IF($I30=\"CONGÉ\",'Congés de l''employé'!$E$16,IF($I30=\"Demi congé\",'Congés de l''employé'!$BU$16,IF($I30=\"MALADIE\",'Congés de l''employé'!$E$18,IF($I30=\"Demi maladie\",'Congés de l''employé'!$BU$18,MOD($E30-($B30-($C30-$D30))+($G30-$F30),1))))),VLOOKUP($A30,$AF$12:$AH$29,3,FALSE))","v":0.39583333333333331},null,null,""]
[{"$f":"B10+9","v":"2019-01-23"},0.35416666666666669,0.5,0.52083333333333337,0.6875,null,null,{"$f":"IF(ISNA(VLOOKUP($A31,$AF$12:$AH$29,3,FALSE)),IF($I31=\"CONGÉ\",'Congés de l''employé'!$E$16,IF($I31=\"Demi congé\",'Congés de l''employé'!$BU$16,IF($I31=\"MALADIE\",'Congés de l''employé'!$E$18,IF($I31=\"Demi maladie\",'Congés de l''employé'!$BU$18,MOD($E31-($B31-($C31-$D31))+($G31-$F31),1))))),VLOOKUP($A31,$AF$12:$AH$29,3,FALSE))","v":0.31249999999999994},null,null,""]
[{"$f":"B10+10","v":"2019-01-24"},0.375,null,null,0.5,null,null,{"$f":"IF(ISNA(VLOOKUP($A32,$AF$12:$AH$29,3,FALSE)),IF($I32=\"CONGÉ\",'Congés de l''employé'!$E$16,IF($I32=\"Demi congé\",'Congés de l''employé'!$BU$16,IF($I32=\"MALADIE\",'Congés de l''employé'!$E$18,IF($I32=\"Demi maladie\",'Congés de l''employé'!$BU$18,MOD($E32-($B32-($C32-$D32))+($G32-$F32),1))))),VLOOKUP($A32,$AF$12:$AH$29,3,FALSE))","v":0.125},null,null,""]
[{"$f":"B10+11","v":"2019-01-25"},0.47916666666666669,null,null,0.6875,0.79166666666666663,0.875,{"$f":"IF(ISNA(VLOOKUP($A33,$AF$12:$AH$29,3,FALSE)),IF($I33=\"CONGÉ\",'Congés de l''employé'!$E$16,IF($I33=\"Demi congé\",'Congés de l''employé'!$BU$16,IF($I33=\"MALADIE\",'Congés de l''employé'!$E$18,IF($I33=\"Demi maladie\",'Congés de l''employé'!$BU$18,MOD($E33-($B33-($C33-$D33))+($G33-$F33),1))))),VLOOKUP($A33,$AF$12:$AH$29,3,FALSE))","v":0.29166666666666669},null,null,""]
[{"$f":"B10+12","v":"2019-01-26"},null,null,null,null,null,null,{"$f":"IF(ISNA(VLOOKUP($A34,$AF$12:$AH$29,3,FALSE)),IF($I34=\"CONGÉ\",'Congés de l''employé'!$E$16,IF($I34=\"Demi congé\",'Congés de l''employé'!$BU$16,IF($I34=\"MALADIE\",'Congés de l''employé'!$E$18,IF($I34=\"Demi maladie\",'Congés de l''employé'!$BU$18,MOD($E34-($B34-($C34-$D34))+($G34-$F34),1))))),VLOOKUP($A34,$AF$12:$AH$29,3,FALSE))","v":0},null,null,""]
[{"$f":"B10+13","v":"2019-01-27"},null,null,null,null,0.45833333333333331,0.58333333333333337,{"$f":"IF(ISNA(VLOOKUP($A35,$AF$12:$AH$29,3,FALSE)),IF($I35=\"CONGÉ\",'Congés de l''employé'!$E$16,IF($I35=\"Demi congé\",'Congés de l''employé'!$BU$16,IF($I35=\"MALADIE\",'Congés de l''employé'!$E$18,IF($I35=\"Demi maladie\",'Congés de l''employé'!$BU$18,MOD($E35-($B35-($C35-$D35))+($G35-$F35),1))))),VLOOKUP($A35,$AF$12:$AH$29,3,FALSE))","v":0.12500000000000006},null,null,""]
[null,null,null,null,null,null,null,{"$f":"SUM(H29:H35)+B36","v":1.5625}]
[]
[null,null,null,null,null,null,"Heures en trop\nou en moins",{"$f":"IF(OR(H36=-(B28),B28=0),\"0\",(H36-B28))","v":"0"}]
[]
["Heure travaillées","Heures prévues","ENTREZ le nombre d'heures à payer","Heures\n supplémentaires ou en moins","Heures à \ntransposer dans la Banque","Total de la Banque d'heures"]
[{"$f":"$H$23+$H$36","v":1.5625},{"$f":"'Congés de l''employé'!BU8*2","v":2.9166666666666665},{"$f":"A41","v":1.5625},{"$f":"IF($H$26>0,$H$26)+IF($H$38>0,$H$38,0)+IF($H$26<0,$H$26)+IF($H$38<0,$H$38,0)","v":0},{"$f":"$A$41-$C$41","v":0},{"$f":"SUM('Janvier - 2prem. semaines'!G42:H43)+$E$41","v":0}]

{"sheet":"Fin Jan.-Février - 2prem. sem.","index":10,"n_rows":41,"n_cols":34,"rows_kept":41,"cut":false,"hidden":false,"merged":[[1,1,5,7],[40,0,41,0],[40,1,41,1],[40,2,41,2],[40,3,41,3],[40,4,41,4],[7,29,7,31],[40,5,41,6],[42,1,42,2],[7,4,7,7],[9,1,9,3],[39,5,39,6]]}
[{"$f":"MID(CELL(\"filename\",A1),FIND(\"]\",CELL(\"filename\",A1))+1,32)","v":"Fin Jan.-Février - 2prem. sem."}]
[null,"   Feuille de temps"]
[]
[]
[]
[]
[]
[null,null,null,null,null,null,null,null,null,null,null,null,null,null,null,null,null,null,null,null,null,null,null,null,null,null,null,null,null,"Congés fériés, lundi suivant la date"]
["Employé: ",{"$f":"'Congés de l''employé'!B8","v":0},null,null,null,null,null,null,null,null,null,null,null,null,null,null,null,null,null,null,null,null,null,null,null,null,null,null,null,"Mois","Type de congé férié","Année en cours"]
["Période débutant le ",{"$f":"DATE(An_ref,1,-2)-WEEKDAY(DATE(An_ref,1,3))+35","v":"2019-01-28"},null,null,null,null,null,null,null,null,null,null,null,null,null,null,null,null,null,null,null,null,null,null,null,null,null,{"$f":"OR(B11=$AF$12,B11=$AF$13,B11=$AF$14,B11=$AF$16,B11=$AF$17,B11=$AF$19,B11=$AF$21,B11=$AF$23,B11=$AF$25,B11=$AF$26,B11=$AF$27,B11=$AF$28)","v":false},null,null,null,{"$f":"An_ref","v":2019},null,"alloué au férié"]
[null,null,null,null,null,null,null,null,null,null,null,null,null,null,null,null,null,null,null,null,null,null,null,null,null,null,null,null,null,"Janvier","Jour de l'an",{"$f":"DATE(Année,1,1)","v":"2019-01-01"},"Date fixe 1er janvier"]
[null,null,null,null,null,null,null,null,null,null,null,null,null,null,null,null,null,null,null,null,null,null,null,null,null,null,null,null,null,null,"FÉRIÉ-JOUR OUVRABLE SUIVANT LE JOUR DE L'AN",{"$f":"AF11+2-WEEKDAY(AF11)+(WEEKDAY(AF11)>2)","v":"2019-01-01"},null,{"$f":"Edit!M27","v":7.4735918097323577E-190}]
["Jour","Heure\nDébut","Départ\nDiner","Retour\nDiner","Heure\nFin","Télétravail\nDépart","Télétravail\nFin","TOTAL\nJournalier","Absence",null,"Index de la ligne",null,null,null,null,null,null,null,null,null,null,null,null,null,null,null,null,null,null,null,"Bureau fermé congé donné-un jour après le jour de l'an",{"$f":"AF11+2-WEEKDAY(AF11)+(WEEKDAY(AF11)>2)+1","v":"2019-01-02"}]
[null,null,null,null,null,null,null,null,null,null,null,{"$f":"IF(MAX('Janvier - 2dern. semaines'!K16:K35)=0,'Janvier - 2dern. semaines'!K14,MAX('Janvier - 2dern. semaines'!K16:K35))","v":"1904-01-01"},null,null,null,null,null,null,null,null,null,null,null,null,null,null,null,null,null,"Mars","Bureau fermé congé donné-un jour ouvré avant Pâques",{"$f":"AF15-2","v":"2019-04-19"},"3e lundi de mai",{"$f":"Edit!M28","v":0.3289473684210526}]
["Horaire Semaine 1",null,null,null,null,null,null,null,null,null,{"$f":"IF(COUNTIF(I16,\"X\"),MAX($K$13:K13)+1,\"\")","v":""},null,null,null,null,null,null,null,null,null,null,null,null,null,null,null,null,null,null,null,"Pâques",{"$f":"DATE(Année,3,29.56+0.979*MOD(204-11*MOD(Année,19),30)-\nWEEKDAY(DATE(Année,3,28.56+0.979*MOD(204-11*MOD(Année,19),30))))","v":"2019-04-21"},"Date fixe 24 juin"]
[{"$f":"$B$10","v":"2019-01-28"},0.35416666666666669,0.5,0.52083333333333337,0.6875,0.83333333333333337,0.95833333333333337,{"$f":"IF(ISNA(VLOOKUP($A16,$AF$12:$AH$29,3,FALSE)),IF($I16=\"CONGÉ\",'Congés de l''employé'!$E$16,IF($I16=\"Demi congé\",'Congés de l''employé'!$BU$16,IF($I16=\"MALADIE\",'Congés de l''employé'!$E$18,IF($I16=\"Demi maladie\",'Congés de l''employé'!$BU$18,MOD($E16-($B16-($C16-$D16))+($G16-$F16),1))))),VLOOKUP($A16,$AF$12:$AH$29,3,FALSE))","v":0.43749999999999994},null,null,{"$f":"IF(I16<>\"\",1+MAX($L$14:L14),\"\")","v":""},null,null,null,null,null,null,null,null,null,null,null,null,null,null,null,null,null,null,"Avril","Lundi de pâques",{"$f":"AF15+1","v":"2019-04-22"},"Date fixe 1er juillet"]
[{"$f":"$B$10+1","v":"2019-01-29"},0.35416666666666669,0.5,0.54166666666666663,0.72916666666666663,0.79166666666666663,0.9375,{"$f":"IF(ISNA(VLOOKUP($A17,$AF$12:$AH$29,3,FALSE)),IF($I17=\"CONGÉ\",'Congés de l''employé'!$E$16,IF($I17=\"Demi congé\",'Congés de l''employé'!$BU$16,IF($I17=\"MALADIE\",'Congés de l''employé'!$E$18,IF($I17=\"Demi maladie\",'Congés de l''employé'!$BU$18,MOD($E17-($B17-($C17-$D17))+($G17-$F17),1))))),VLOOKUP($A17,$AF$12:$AH$29,3,FALSE))","v":0.47916666666666669},null,null,{"$f":"IF(I17<>\"\",1+MAX($K$14:K15),\"\")","v":""},null,null,null,null,null,null,null,null,null,null,null,null,null,null,null,null,null,null,"Mai","Journée nationale des patriotes",{"$f":"DATE(Année,5,23)-WEEKDAY(DATE(Année,5,1),2)","v":"2019-05-20"},null,{"$f":"Edit!M30","v":0}]
[{"$f":"$B$10+2","v":"2019-01-30"},0.35416666666666669,0.5,0.52083333333333337,0.66666666666666663,null,null,{"$f":"IF(ISNA(VLOOKUP($A18,$AF$12:$AH$29,3,FALSE)),IF($I18=\"CONGÉ\",'Congés de l''employé'!$E$16,IF($I18=\"Demi congé\",'Congés de l''employé'!$BU$16,IF($I18=\"MALADIE\",'Congés de l''employé'!$E$18,IF($I18=\"Demi maladie\",'Congés de l''employé'!$BU$18,MOD($E18-($B18-($C18-$D18))+($G18-$F18),1))))),VLOOKUP($A18,$AF$12:$AH$29,3,FALSE))","v":0.29166666666666657},null,null,{"$f":"IF(I18<>\"\",1+MAX($K$14:K16),\"\")","v":""},null,null,null,null,null,null,null,null,null,null,null,null,null,null,null,null,null,null,"Juin","Fête nationale du Québec",{"$f":"DATE(Année,6,24)","v":"2019-06-24"},null,{"$f":"Edit!M31","v":0}]
[{"$f":"$B$10+3","v":"2019-01-31"},0.39583333333333331,0.5,0.52083333333333337,0.85416666666666663,null,null,{"$f":"IF(ISNA(VLOOKUP($A19,$AF$12:$AH$29,3,FALSE)),IF($I19=\"CONGÉ\",'Congés de l''employé'!$E$16,IF($I19=\"Demi congé\",'Congés de l''employé'!$BU$16,IF($I19=\"MALADIE\",'Congés de l''employé'!$E$18,IF($I19=\"Demi maladie\",'Congés de l''employé'!$BU$18,MOD($E19-($B19-($C19-$D19))+($G19-$F19),1))))),VLOOKUP($A19,$AF$12:$AH$29,3,FALSE))","v":0.43749999999999994},null,null,{"$f":"IF(I19<>\"\",1+MAX($K$14:K17),\"\")","v":""},null,null,null,null,null,null,null,null,null,null,null,null,null,null,null,null,null,null,null,"FÉRIÉ-JOUR OUVRABLE SUIVANT LA FÊTE NATIONALE DU QUÉBEC",{"$f":"AF18+2-WEEKDAY(AF18)+(WEEKDAY(AF18)>2)*7","v":"2019-06-24"},"Date fixe 25 décembre"]
[{"$f":"$B$10+4","v":"2019-02-01"},0.33333333333333331,null,null,0.54166666666666663,null,null,{"$f":"IF(ISNA(VLOOKUP($A20,$AF$12:$AH$29,3,FALSE)),IF($I20=\"CONGÉ\",'Congés de l''employé'!$E$16,IF($I20=\"Demi congé\",'Congés de l''employé'!$BU$16,IF($I20=\"MALADIE\",'Congés de l''employé'!$E$18,IF($I20=\"Demi maladie\",'Congés de l''employé'!$BU$18,MOD($E20-($B20-($C20-$D20))+($G20-$F20),1))))),VLOOKUP($A20,$AF$12:$AH$29,3,FALSE))","v":0.20833333333333331},null,null,{"$f":"IF(I20<>\"\",1+MAX($K$14:K18),\"\")","v":""},null,null,null,null,null,null,null,null,null,null,null,null,null,null,null,null,null,null,"Juillet","Fête du Canada",{"$f":"DATE(Année,7,1)","v":"2019-07-01"},null,{"$f":"Edit!M32","v":1.1253746147756614E-210}]
[{"$f":"$B$10+5","v":"2019-02-02"},null,null,null,null,null,null,{"$f":"IF(ISNA(VLOOKUP($A21,$AF$12:$AH$29,3,FALSE)),IF($I21=\"CONGÉ\",'Congés de l''employé'!$E$16,IF($I21=\"Demi congé\",'Congés de l''employé'!$BU$16,IF($I21=\"MALADIE\",'Congés de l''employé'!$E$18,IF($I21=\"Demi maladie\",'Congés de l''employé'!$BU$18,MOD($E21-($B21-($C21-$D21))+($G21-$F21),1))))),VLOOKUP($A21,$AF$12:$AH$29,3,FALSE))","v":0},null,null,{"$f":"IF(I21<>\"\",1+MAX($K$14:K19),\"\")","v":""},null,null,null,null,null,null,null,null,null,null,null,null,null,null,null,null,null,null,null,"FÉRIÉ-JOUR OUVRABLE SUIVANT LA FÊTE DU CANADA",{"$f":"AF20+2-WEEKDAY(AF20)+(WEEKDAY(AF20)>2)*7","v":"2019-07-01"}]
[{"$f":"$B$10+6","v":"2019-02-03"},null,null,null,null,0.8125,0.89583333333333337,{"$f":"IF(ISNA(VLOOKUP($A22,$AF$12:$AH$29,3,FALSE)),IF($I22=\"CONGÉ\",'Congés de l''employé'!$E$16,IF($I22=\"Demi congé\",'Congés de l''employé'!$BU$16,IF($I22=\"MALADIE\",'Congés de l''employé'!$E$18,IF($I22=\"Demi maladie\",'Congés de l''employé'!$BU$18,MOD($E22-($B22-($C22-$D22))+($G22-$F22),1))))),VLOOKUP($A22,$AF$12:$AH$29,3,FALSE))","v":8.333333333333337E-2},null,null,{"$f":"IF(I22<>\"\",1+MAX($K$14:K20),\"\")","v":""},null,null,null,null,null,null,null,null,null,null,null,null,null,null,null,null,null,null,"Septembre","Fête du travail",{"$f":"IF(MOD(DATE(Année,9,1),7)<=2,2-MOD(DATE(Année,9,1),7),9-MOD(DATE(Année,9,1),7))+DATE(Année,9,1)","v":"2019-09-01"},null,{"$f":"Edit!M33","v":0}]
[null,null,null,null,null,null,null,{"$f":"SUM(H16:H22)+Tableau145678936405277[[#This Row],[Heure\nDébut]]","v":1.9375},null,null,{"$f":"IF(I23<>\"\",1+MAX($K$14:K21),\"\")","v":""},null,null,null,null,null,null,null,null,null,null,null,null,null,null,null,null,null,null,null,"FÉRIÉ-JOUR OUVRABLE SUIVANT LA FÊTE DU TRAVAIL",{"$f":"AF22+2-WEEKDAY(AF22)+(WEEKDAY(AF22)>2)*7","v":"2019-09-02"}]
[null,null,null,null,null,null,null,null,null,null,{"$f":"IF(I24<>\"\",1+MAX($K$14:K22),\"\")","v":""},null,null,null,null,null,null,null,null,null,null,null,null,null,null,null,null,null,null,"Octobre","Action de grâce",{"$f":"DATE(AF10,10,1)","v":"2019-10-01"},null,{"$f":"Edit!M34","v":0}]
[null,null,null,null,null,null,null,null,null,null,{"$f":"IF(I25<>\"\",1+MAX($K$14:K23),\"\")","v":""},null,null,null,null,null,null,null,null,null,null,null,null,null,null,null,null,null,null,null,"FÉRIÉ-JOUR OUVRABLE SUIVANT L'ACTION DE GRÂCE",{"$f":"AF24-DAY(AF24)-WEEKDAY(AF24-DAY(AF24),2)+15","v":"2019-10-14"}]
[null,null,null,null,null,null,"Heures en trop\nou en moins",{"$f":"IF(OR(H23=-(B15),B15=0),\"0\",(H23-B15))","v":"0"},null,null,{"$f":"IF(I26<>\"\",1+MAX($K$14:K24),\"\")","v":""},null,null,null,null,null,null,null,null,null,null,null,null,null,null,null,null,null,null,null,"Bureau fermé congé donné",{"$f":"DATE(Année,12,25)-1","v":"2019-12-24"},null,{"$f":"'[1]Congés de l''employé'!$E$14","v":0}]
[null,null,null,null,null,null,null,null,null,null,{"$f":"IF(I27<>\"\",1+MAX($K$14:K25),\"\")","v":""},null,null,null,null,null,null,null,null,null,null,null,null,null,null,null,null,null,null,"Décembre","Férié-Noël",{"$f":"DATE(Année,12,25)","v":"2019-12-25"},null,{"$f":"Edit!M35","v":0}]
["Horaire Semaine 2",null,null,null,null,null,null,null,null,null,{"$f":"IF(I28<>\"\",1+MAX($K$14:K26),\"\")","v":""},null,null,null,null,null,null,null,null,null,null,null,null,null,null,null,null,null,null,"Décembre","Bureau fermé congé donné",{"$f":"DATE(Année,12,25)+1","v":"2019-12-26"}]
[{"$f":"B10+7","v":"2019-02-04"},0.35416666666666669,0.5,0.52083333333333337,0.66666666666666663,null,null,{"$f":"IF(ISNA(VLOOKUP($A29,$AF$12:$AH$29,3,FALSE)),IF($I29=\"CONGÉ\",'Congés de l''employé'!$E$16,IF($I29=\"Demi congé\",'Congés de l''employé'!$BU$16,IF($I29=\"MALADIE\",'Congés de l''employé'!$E$18,IF($I29=\"Demi maladie\",'Congés de l''employé'!$BU$18,MOD($E29-($B29-($C29-$D29))+($G29-$F29),1))))),VLOOKUP($A29,$AF$12:$AH$29,3,FALSE))","v":0.29166666666666657},null,null,{"$f":"IF(I29<>\"\",1+MAX($K$14:K28),\"\")","v":""},null,null,null,null,null,null,null,null,null,null,null,null,null,null,null,null,null,null,"Décembre","Bureau fermé congé donné",{"$f":"AF11+2-WEEKDAY(AF11)+(WEEKDAY(AF11)>2)-1","v":"2018-12-31"}]
[{"$f":"B10+8","v":"2019-02-05"},0.375,0.5,0.52083333333333337,0.85416666666666663,null,null,{"$f":"IF(ISNA(VLOOKUP($A30,$AF$12:$AH$29,3,FALSE)),IF($I30=\"CONGÉ\",'Congés de l''employé'!$E$16,IF($I30=\"Demi congé\",'Congés de l''employé'!$BU$16,IF($I30=\"MALADIE\",'Congés de l''employé'!$E$18,IF($I30=\"Demi maladie\",'Congés de l''employé'!$BU$18,MOD($E30-($B30-($C30-$D30))+($G30-$F30),1))))),VLOOKUP($A30,$AF$12:$AH$29,3,FALSE))","v":0.45833333333333326},null,null,{"$f":"IF(I30<>\"\",1+MAX($K$14:K29),\"\")","v":""}]
[{"$f":"B10+9","v":"2019-02-06"},0.35416666666666669,0.5,0.52083333333333337,0.70833333333333337,null,null,{"$f":"IF(ISNA(VLOOKUP($A31,$AF$12:$AH$29,3,FALSE)),IF($I31=\"CONGÉ\",'Congés de l''employé'!$E$16,IF($I31=\"Demi congé\",'Congés de l''employé'!$BU$16,IF($I31=\"MALADIE\",'Congés de l''employé'!$E$18,IF($I31=\"Demi maladie\",'Congés de l''employé'!$BU$18,MOD($E31-($B31-($C31-$D31))+($G31-$F31),1))))),VLOOKUP($A31,$AF$12:$AH$29,3,FALSE))","v":0.33333333333333331},null,null,{"$f":"IF(I31<>\"\",1+MAX($K$14:K30),\"\")","v":""}]
[{"$f":"B10+10","v":"2019-02-07"},0.35416666666666669,0.5,0.52083333333333337,0.79166666666666663,null,null,{"$f":"IF(ISNA(VLOOKUP($A32,$AF$12:$AH$29,3,FALSE)),IF($I32=\"CONGÉ\",'Congés de l''employé'!$E$16,IF($I32=\"Demi congé\",'Congés de l''employé'!$BU$16,IF($I32=\"MALADIE\",'Congés de l''employé'!$E$18,IF($I32=\"Demi maladie\",'Congés de l''employé'!$BU$18,MOD($E32-($B32-($C32-$D32))+($G32-$F32),1))))),VLOOKUP($A32,$AF$12:$AH$29,3,FALSE))","v":0.41666666666666657},null,null,{"$f":"IF(I32<>\"\",1+MAX($K$14:K31),\"\")","v":""}]
[{"$f":"B10+11","v":"2019-02-08"},0.35416666666666669,0.5,0.52083333333333337,0.66666666666666663,null,null,{"$f":"IF(ISNA(VLOOKUP($A33,$AF$12:$AH$29,3,FALSE)),IF($I33=\"CONGÉ\",'Congés de l''employé'!$E$16,IF($I33=\"Demi congé\",'Congés de l''employé'!$BU$16,IF($I33=\"MALADIE\",'Congés de l''employé'!$E$18,IF($I33=\"Demi maladie\",'Congés de l''employé'!$BU$18,MOD($E33-($B33-($C33-$D33))+($G33-$F33),1))))),VLOOKUP($A33,$AF$12:$AH$29,3,FALSE))","v":0.29166666666666657},null,null,{"$f":"IF(I33<>\"\",1+MAX($K$14:K32),\"\")","v":""}]
[{"$f":"B10+12","v":"2019-02-09"},null,null,null,null,null,null,{"$f":"IF(ISNA(VLOOKUP($A34,$AF$12:$AH$29,3,FALSE)),IF($I34=\"CONGÉ\",'Congés de l''employé'!$E$16,IF($I34=\"Demi congé\",'Congés de l''employé'!$BU$16,IF($I34=\"MALADIE\",'Congés de l''employé'!$E$18,IF($I34=\"Demi maladie\",'Congés de l''employé'!$BU$18,MOD($E34-($B34-($C34-$D34))+($G34-$F34),1))))),VLOOKUP($A34,$AF$12:$AH$29,3,FALSE))","v":0},null,null,{"$f":"IF(I34<>\"\",1+MAX($K$14:K33),\"\")","v":""}]
[{"$f":"B10+13","v":"2019-02-10"},null,null,null,null,null,null,{"$f":"IF(ISNA(VLOOKUP($A35,$AF$12:$AH$29,3,FALSE)),IF($I35=\"CONGÉ\",'Congés de l''employé'!$E$16,IF($I35=\"Demi congé\",'Congés de l''employé'!$BU$16,IF($I35=\"MALADIE\",'Congés de l''employé'!$E$18,IF($I35=\"Demi maladie\",'Congés de l''employé'!$BU$18,MOD($E35-($B35-($C35-$D35))+($G35-$F35),1))))),VLOOKUP($A35,$AF$12:$AH$29,3,FALSE))","v":0},null,null,{"$f":"IF(I35<>\"\",1+MAX($K$14:K34),\"\")","v":""}]
[null,null,null,null,null,null,null,{"$f":"SUM(H29:H35)+B36","v":1.7916666666666661}]
[]
[null,null,null,null,null,null,"Heures en trop\nou en moins",{"$f":"IF(OR(H36=-(B28),B28=0),\"0\",(H36-B28))","v":"0"}]
[]
["Heure travaillées","Heures prévues","ENTREZ le nombre d'heures à payer","Heures\n supplémentaires ou en moins","Heures à \ntransposer dans la Banque","Total de la Banque d'heures"]
[{"$f":"$H$23+$H$36","v":3.7291666666666661},{"$f":"'Congés de l''employé'!BU8*2","v":2.9166666666666665},{"$f":"A41","v":3.7291666666666661},{"$f":"IF($H$26>0,$H$26)+IF($H$38>0,$H$38,0)+IF($H$26<0,$H$26)+IF($H$38<0,$H$38,0)","v":0},{"$f":"$A$41-$C$41","v":0},{"$f":"SUM('Janvier - 2dern. semaines'!G41:H42)+$E$41","v":0}]

{"sheet":"Février - 2e-3e semaine","index":11,"n_rows":41,"n_cols":34,"rows_kept":41,"cut":false,"hidden":false,"merged":[[1,1,5,7],[40,0,41,0],[40,1,41,1],[40,2,41,2],[40,3,41,3],[40,4,41,4],[7,29,7,31],[40,5,41,6],[42,1,42,2],[7,4,7,7],[9,1,9,3],[39,5,39,6]]}
[{"$f":"MID(CELL(\"filename\",A1),FIND(\"]\",CELL(\"filename\",A1))+1,32)","v":"Février - 2e-3e semaine"}]
[null,"   Feuille de temps"]
[]
[]
[]
[]
[]
[null,null,null,null,null,null,null,null,null,null,null,null,null,null,null,null,null,null,null,null,null,null,null,null,null,null,null,null,null,"Congés fériés, lundi suivant la date"]
["Employé: ",{"$f":"'Congés de l''employé'!B8","v":0},null,null,null,null,null,null,null,null,null,null,null,null,null,null,null,null,null,null,null,null,null,null,null,null,null,null,null,"Mois","Type de congé férié","Année en cours"]
["Période débutant le ",{"$f":"DATE(An_ref,1,-2)-WEEKDAY(DATE(An_ref,1,3))+49","v":"2019-02-11"},null,null,null,null,null,null,null,null,null,null,null,null,null,null,null,null,null,null,null,null,null,null,null,null,null,{"$f":"OR(B11=$AF$12,B11=$AF$13,B11=$AF$14,B11=$AF$16,B11=$AF$17,B11=$AF$19,B11=$AF$21,B11=$AF$23,B11=$AF$25,B11=$AF$26,B11=$AF$27,B11=$AF$28)","v":false},null,null,null,{"$f":"An_ref","v":2019},null,"alloué au férié"]
[null,null,null,null,null,null,null,null,null,null,null,null,null,null,null,null,null,null,null,null,null,null,null,null,null,null,null,null,null,"Janvier","Jour de l'an",{"$f":"DATE(Année,1,1)","v":"2019-01-01"},"Date fixe 1er janvier"]
[null,null,null,null,null,null,null,null,null,null,null,null,null,null,null,null,null,null,null,null,null,null,null,null,null,null,null,null,null,null,"FÉRIÉ-JOUR OUVRABLE SUIVANT LE JOUR DE L'AN",{"$f":"AF11+2-WEEKDAY(AF11)+(WEEKDAY(AF11)>2)","v":"2019-01-01"},null,{"$f":"Edit!M27","v":7.4735918097323577E-190}]
["Jour","Heure\nDébut","Départ\nDiner","Retour\nDiner","Heure\nFin","Télétravail\nDépart","Télétravail\nFin","TOTAL\nJournalier","Absence",null,"Index de la ligne",null,null,null,null,null,null,null,null,null,null,null,null,null,null,null,null,null,null,null,"Bureau fermé congé donné-un jour après le jour de l'an",{"$f":"AF11+2-WEEKDAY(AF11)+(WEEKDAY(AF11)>2)+1","v":"2019-01-02"}]
[null,null,null,null,null,null,null,null,null,null,null,{"$f":"MAX('Fin Jan.-Février - 2prem. sem.'!K16:K35)","v":"1904-01-01"},null,null,null,null,null,null,null,null,null,null,null,null,null,null,null,null,null,"Mars","Bureau fermé congé donné-un jour ouvré avant Pâques",{"$f":"AF15-2","v":"2019-04-19"},"3e lundi de mai",{"$f":"Edit!M28","v":0.3289473684210526}]
["Horaire Semaine 1",null,null,null,null,null,null,null,null,null,{"$f":"IF(COUNTIF(I16,\"X\"),MAX($K$13:K13)+1,\"\")","v":""},null,null,null,null,null,null,null,null,null,null,null,null,null,null,null,null,null,null,null,"Pâques",{"$f":"DATE(Année,3,29.56+0.979*MOD(204-11*MOD(Année,19),30)-\nWEEKDAY(DATE(Année,3,28.56+0.979*MOD(204-11*MOD(Année,19),30))))","v":"2019-04-21"},"Date fixe 24 juin"]
[{"$f":"$B$10","v":"2019-02-11"},0.35416666666666669,null,null,0.58333333333333337,0.79166666666666663,0.91666666666666663,{"$f":"IF(ISNA(VLOOKUP($A16,$AF$12:$AH$29,3,FALSE)),IF($I16=\"CONGÉ\",'Congés de l''employé'!$E$16,IF($I16=\"Demi congé\",'Congés de l''employé'!$BU$16,IF($I16=\"MALADIE\",'Congés de l''employé'!$E$18,IF($I16=\"Demi maladie\",'Congés de l''employé'!$BU$18,MOD($E16-($B16-($C16-$D16))+($G16-$F16),1))))),VLOOKUP($A16,$AF$12:$AH$29,3,FALSE))","v":0.35416666666666669},null,null,{"$f":"IF(I16<>\"\",1+MAX($L$14:L14),\"\")","v":""},null,null,null,null,null,null,null,null,null,null,null,null,null,null,null,null,null,null,"Avril","Lundi de pâques",{"$f":"AF15+1","v":"2019-04-22"},"Date fixe 1er juillet"]
[{"$f":"$B$10+1","v":"2019-02-12"},0.35416666666666669,0.5,0.52083333333333337,0.70833333333333337,null,null,{"$f":"IF(ISNA(VLOOKUP($A17,$AF$12:$AH$29,3,FALSE)),IF($I17=\"CONGÉ\",'Congés de l''employé'!$E$16,IF($I17=\"Demi congé\",'Congés de l''employé'!$BU$16,IF($I17=\"MALADIE\",'Congés de l''employé'!$E$18,IF($I17=\"Demi maladie\",'Congés de l''employé'!$BU$18,MOD($E17-($B17-($C17-$D17))+($G17-$F17),1))))),VLOOKUP($A17,$AF$12:$AH$29,3,FALSE))","v":0.33333333333333331},null,null,{"$f":"IF(I17<>\"\",1+MAX($K$14:K15),\"\")","v":""},null,null,null,null,null,null,null,null,null,null,null,null,null,null,null,null,null,null,"Mai","Journée nationale des patriotes",{"$f":"DATE(Année,5,23)-WEEKDAY(DATE(Année,5,1),2)","v":"2019-05-20"},null,{"$f":"Edit!M30","v":0}]
[{"$f":"$B$10+2","v":"2019-02-13"},null,null,null,null,null,null,{"$f":"IF(ISNA(VLOOKUP($A18,$AF$12:$AH$29,3,FALSE)),IF($I18=\"CONGÉ\",'Congés de l''employé'!$E$16,IF($I18=\"Demi congé\",'Congés de l''employé'!$BU$16,IF($I18=\"MALADIE\",'Congés de l''employé'!$E$18,IF($I18=\"Demi maladie\",'Congés de l''employé'!$BU$18,MOD($E18-($B18-($C18-$D18))+($G18-$F18),1))))),VLOOKUP($A18,$AF$12:$AH$29,3,FALSE))","v":0},null,null,{"$f":"IF(I18<>\"\",1+MAX($K$14:K16),\"\")","v":""},null,null,null,null,null,null,null,null,null,null,null,null,null,null,null,null,null,null,"Juin","Fête nationale du Québec",{"$f":"DATE(Année,6,24)","v":"2019-06-24"},null,{"$f":"Edit!M31","v":0}]
[{"$f":"$B$10+3","v":"2019-02-14"},0.35416666666666669,0.5,0.52083333333333337,0.8125,null,null,{"$f":"IF(ISNA(VLOOKUP($A19,$AF$12:$AH$29,3,FALSE)),IF($I19=\"CONGÉ\",'Congés de l''employé'!$E$16,IF($I19=\"Demi congé\",'Congés de l''employé'!$BU$16,IF($I19=\"MALADIE\",'Congés de l''employé'!$E$18,IF($I19=\"Demi maladie\",'Congés de l''employé'!$BU$18,MOD($E19-($B19-($C19-$D19))+($G19-$F19),1))))),VLOOKUP($A19,$AF$12:$AH$29,3,FALSE))","v":0.43749999999999994},null,null,{"$f":"IF(I19<>\"\",1+MAX($K$14:K17),\"\")","v":""},null,null,null,null,null,null,null,null,null,null,null,null,null,null,null,null,null,null,null,"FÉRIÉ-JOUR OUVRABLE SUIVANT LA FÊTE NATIONALE DU QUÉBEC",{"$f":"AF18+2-WEEKDAY(AF18)+(WEEKDAY(AF18)>2)*7","v":"2019-06-24"},"Date fixe 25 décembre"]
[{"$f":"$B$10+4","v":"2019-02-15"},null,null,null,null,null,null,{"$f":"IF(ISNA(VLOOKUP($A20,$AF$12:$AH$29,3,FALSE)),IF($I20=\"CONGÉ\",'Congés de l''employé'!$E$16,IF($I20=\"Demi congé\",'Congés de l''employé'!$BU$16,IF($I20=\"MALADIE\",'Congés de l''employé'!$E$18,IF($I20=\"Demi maladie\",'Congés de l''employé'!$BU$18,MOD($E20-($B20-($C20-$D20))+($G20-$F20),1))))),VLOOKUP($A20,$AF$12:$AH$29,3,FALSE))","v":0},null,null,{"$f":"IF(I20<>\"\",1+MAX($K$14:K18),\"\")","v":""},null,null,null,null,null,null,null,null,null,null,null,null,null,null,null,null,null,null,"Juillet","Fête du Canada",{"$f":"DATE(Année,7,1)","v":"2019-07-01"},null,{"$f":"Edit!M32","v":1.1253746147756614E-210}]
[{"$f":"$B$10+5","v":"2019-02-16"},null,null,null,null,null,null,{"$f":"IF(ISNA(VLOOKUP($A21,$AF$12:$AH$29,3,FALSE)),IF($I21=\"CONGÉ\",'Congés de l''employé'!$E$16,IF($I21=\"Demi congé\",'Congés de l''employé'!$BU$16,IF($I21=\"MALADIE\",'Congés de l''employé'!$E$18,IF($I21=\"Demi maladie\",'Congés de l''employé'!$BU$18,MOD($E21-($B21-($C21-$D21))+($G21-$F21),1))))),VLOOKUP($A21,$AF$12:$AH$29,3,FALSE))","v":0.29166666666666669},"CONGÉ",null,{"$f":"IF(I21<>\"\",1+MAX($K$14:K19),\"\")","v":1},null,null,null,null,null,null,null,null,null,null,null,null,null,null,null,null,null,null,null,"FÉRIÉ-JOUR OUVRABLE SUIVANT LA FÊTE DU CANADA",{"$f":"AF20+2-WEEKDAY(AF20)+(WEEKDAY(AF20)>2)*7","v":"2019-07-01"}]
[{"$f":"$B$10+6","v":"2019-02-17"},null,null,null,null,null,null,{"$f":"IF(ISNA(VLOOKUP($A22,$AF$12:$AH$29,3,FALSE)),IF($I22=\"CONGÉ\",'Congés de l''employé'!$E$16,IF($I22=\"Demi congé\",'Congés de l''employé'!$BU$16,IF($I22=\"MALADIE\",'Congés de l''employé'!$E$18,IF($I22=\"Demi maladie\",'Congés de l''employé'!$BU$18,MOD($E22-($B22-($C22-$D22))+($G22-$F22),1))))),VLOOKUP($A22,$AF$12:$AH$29,3,FALSE))","v":0},null,null,{"$f":"IF(I22<>\"\",1+MAX($K$14:K20),\"\")","v":""},null,null,null,null,null,null,null,null,null,null,null,null,null,null,null,null,null,null,"Septembre","Fête du travail",{"$f":"IF(MOD(DATE(Année,9,1),7)<=2,2-MOD(DATE(Année,9,1),7),9-MOD(DATE(Année,9,1),7))+DATE(Année,9,1)","v":"2019-09-01"},null,{"$f":"Edit!M33","v":0}]
[null,null,null,null,null,null,null,{"$f":"SUM(H16:H22)+Tableau145678936405278[[#This Row],[Heure\nDébut]]","v":1.4166666666666667},null,null,{"$f":"IF(I23<>\"\",1+MAX($K$14:K21),\"\")","v":""},null,null,null,null,null,null,null,null,null,null,null,null,null,null,null,null,null,null,null,"FÉRIÉ-JOUR OUVRABLE SUIVANT LA FÊTE DU TRAVAIL",{"$f":"AF22+2-WEEKDAY(AF22)+(WEEKDAY(AF22)>2)*7","v":"2019-09-02"}]
[null,null,null,null,null,null,null,null,null,null,{"$f":"IF(I24<>\"\",1+MAX($K$14:K22),\"\")","v":""},null,null,null,null,null,null,null,null,null,null,null,null,null,null,null,null,null,null,"Octobre","Action de grâce",{"$f":"DATE(AF10,10,1)","v":"2019-10-01"},null,{"$f":"Edit!M34","v":0}]
[null,null,null,null,null,null,null,null,null,null,{"$f":"IF(I25<>\"\",1+MAX($K$14:K23),\"\")","v":""},null,null,null,null,null,null,null,null,null,null,null,null,null,null,null,null,null,null,null,"FÉRIÉ-JOUR OUVRABLE SUIVANT L'ACTION DE GRÂCE",{"$f":"AF24-DAY(AF24)-WEEKDAY(AF24-DAY(AF24),2)+15","v":"2019-10-14"}]
[null,null,null,null,null,null,"Heures en trop\nou en moins",{"$f":"IF(OR(H23=-(B15),B15=0),\"0\",(H23-B15))","v":"0"},null,null,{"$f":"IF(I26<>\"\",1+MAX($K$14:K24),\"\")","v":""},null,null,null,null,null,null,null,null,null,null,null,null,null,null,null,null,null,null,null,"Bureau fermé congé donné",{"$f":"DATE(Année,12,25)-1","v":"2019-12-24"},null,{"$f":"'[1]Congés de l''employé'!$E$14","v":0}]
[null,null,null,null,null,null,null,null,null,null,{"$f":"IF(I27<>\"\",1+MAX($K$14:K25),\"\")","v":""},null,null,null,null,null,null,null,null,null,null,null,null,null,null,null,null,null,null,"Décembre","Férié-Noël",{"$f":"DATE(Année,12,25)","v":"2019-12-25"},null,{"$f":"Edit!M35","v":0}]
["Horaire Semaine 2",null,null,null,null,null,null,null,null,null,{"$f":"IF(I28<>\"\",1+MAX($K$14:K26),\"\")","v":""},null,null,null,null,null,null,null,null,null,null,null,null,null,null,null,null,null,null,"Décembre","Bureau fermé congé donné",{"$f":"DATE(Année,12,25)+1","v":"2019-12-26"}]
[{"$f":"B10+7","v":"2019-02-18"},null,null,null,null,null,null,{"$f":"IF(ISNA(VLOOKUP($A29,$AF$12:$AH$29,3,FALSE)),IF($I29=\"CONGÉ\",'Congés de l''employé'!$E$16,IF($I29=\"Demi congé\",'Congés de l''employé'!$BU$16,IF($I29=\"MALADIE\",'Congés de l''employé'!$E$18,IF($I29=\"Demi maladie\",'Congés de l''employé'!$BU$18,MOD($E29-($B29-($C29-$D29))+($G29-$F29),1))))),VLOOKUP($A29,$AF$12:$AH$29,3,FALSE))","v":0},null,null,{"$f":"IF(I29<>\"\",1+MAX($K$14:K28),\"\")","v":""},null,null,null,null,null,null,null,null,null,null,null,null,null,null,null,null,null,null,"Décembre","Bureau fermé congé donné",{"$f":"AF11+2-WEEKDAY(AF11)+(WEEKDAY(AF11)>2)-1","v":"2018-12-31"}]
[{"$f":"B10+8","v":"2019-02-19"},null,null,null,null,null,null,{"$f":"IF(ISNA(VLOOKUP($A30,$AF$12:$AH$29,3,FALSE)),IF($I30=\"CONGÉ\",'Congés de l''employé'!$E$16,IF($I30=\"Demi congé\",'Congés de l''employé'!$BU$16,IF($I30=\"MALADIE\",'Congés de l''employé'!$E$18,IF($I30=\"Demi maladie\",'Congés de l''employé'!$BU$18,MOD($E30-($B30-($C30-$D30))+($G30-$F30),1))))),VLOOKUP($A30,$AF$12:$AH$29,3,FALSE))","v":0},null,null,{"$f":"IF(I30<>\"\",1+MAX($K$14:K29),\"\")","v":""}]
[{"$f":"B10+9","v":"2019-02-20"},null,null,null,null,null,null,{"$f":"IF(ISNA(VLOOKUP($A31,$AF$12:$AH$29,3,FALSE)),IF($I31=\"CONGÉ\",'Congés de l''employé'!$E$16,IF($I31=\"Demi congé\",'Congés de l''employé'!$BU$16,IF($I31=\"MALADIE\",'Congés de l''employé'!$E$18,IF($I31=\"Demi maladie\",'Congés de l''employé'!$BU$18,MOD($E31-($B31-($C31-$D31))+($G31-$F31),1))))),VLOOKUP($A31,$AF$12:$AH$29,3,FALSE))","v":0},null,null,{"$f":"IF(I31<>\"\",1+MAX($K$14:K30),\"\")","v":""}]
[{"$f":"B10+10","v":"2019-02-21"},null,null,null,null,null,null,{"$f":"IF(ISNA(VLOOKUP($A32,$AF$12:$AH$29,3,FALSE)),IF($I32=\"CONGÉ\",'Congés de l''employé'!$E$16,IF($I32=\"Demi congé\",'Congés de l''employé'!$BU$16,IF($I32=\"MALADIE\",'Congés de l''employé'!$E$18,IF($I32=\"Demi maladie\",'Congés de l''employé'!$BU$18,MOD($E32-($B32-($C32-$D32))+($G32-$F32),1))))),VLOOKUP($A32,$AF$12:$AH$29,3,FALSE))","v":0},null,null,{"$f":"IF(I32<>\"\",1+MAX($K$14:K31),\"\")","v":""}]
[{"$f":"B10+11","v":"2019-02-22"},null,null,null,null,null,null,{"$f":"IF(ISNA(VLOOKUP($A33,$AF$12:$AH$29,3,FALSE)),IF($I33=\"CONGÉ\",'Congés de l''employé'!$E$16,IF($I33=\"Demi congé\",'Congés de l''employé'!$BU$16,IF($I33=\"MALADIE\",'Congés de l''employé'!$E$18,IF($I33=\"Demi maladie\",'Congés de l''employé'!$BU$18,MOD($E33-($B33-($C33-$D33))+($G33-$F33),1))))),VLOOKUP($A33,$AF$12:$AH$29,3,FALSE))","v":0},null,null,{"$f":"IF(I33<>\"\",1+MAX($K$14:K32),\"\")","v":""}]
[{"$f":"B10+12","v":"2019-02-23"},null,null,null,null,null,null,{"$f":"IF(ISNA(VLOOKUP($A34,$AF$12:$AH$29,3,FALSE)),IF($I34=\"CONGÉ\",'Congés de l''employé'!$E$16,IF($I34=\"Demi congé\",'Congés de l''employé'!$BU$16,IF($I34=\"MALADIE\",'Congés de l''employé'!$E$18,IF($I34=\"Demi maladie\",'Congés de l''employé'!$BU$18,MOD($E34-($B34-($C34-$D34))+($G34-$F34),1))))),VLOOKUP($A34,$AF$12:$AH$29,3,FALSE))","v":0},null,null,{"$f":"IF(I34<>\"\",1+MAX($K$14:K33),\"\")","v":""}]
[{"$f":"B10+13","v":"2019-02-24"},null,null,null,null,null,null,{"$f":"IF(ISNA(VLOOKUP($A35,$AF$12:$AH$29,3,FALSE)),IF($I35=\"CONGÉ\",'Congés de l''employé'!$E$16,IF($I35=\"Demi congé\",'Congés de l''employé'!$BU$16,IF($I35=\"MALADIE\",'Congés de l''employé'!$E$18,IF($I35=\"Demi maladie\",'Congés de l''employé'!$BU$18,MOD($E35-($B35-($C35-$D35))+($G35-$F35),1))))),VLOOKUP($A35,$AF$12:$AH$29,3,FALSE))","v":0},null,null,{"$f":"IF(I35<>\"\",1+MAX($K$14:K34),\"\")","v":""}]
[null,null,null,null,null,null,null,{"$f":"SUM(H29:H35)+B36","v":0}]
[]
[null,null,null,null,null,null,"Heures en trop\nou en moins",{"$f":"IF(OR(H36=-(B28),B28=0),\"0\",(H36-B28))","v":"0"}]
[]
["Heure travaillées","Heures prévues","ENTREZ le nombre d'heures à payer","Heures\n supplémentaires ou en moins","Heures à \ntransposer dans la Banque","Total de la Banque d'heures"]
[{"$f":"$H$23+$H$36","v":1.4166666666666667},{"$f":"'Congés de l''employé'!BU8*2","v":2.9166666666666665},{"$f":"A41","v":1.4166666666666667},{"$f":"IF($H$26>0,$H$26)+IF($H$38>0,$H$38,0)+IF($H$26<0,$H$26)+IF($H$38<0,$H$38,0)","v":0},{"$f":"$A$41-$C$41","v":0},{"$f":"SUM('Fin Jan.-Février - 2prem. sem.'!F41:G42)+E41","v":0}]

{"sheet":"Fin Fév.-Mars - 2prem. sem.","index":12,"n_rows":41,"n_cols":34,"rows_kept":41,"cut":false,"hidden":false,"merged":[[1,1,5,7],[42,1,42,2],[39,5,39,6],[40,5,41,6],[7,29,7,31],[7,4,7,7],[9,1,9,3],[40,0,41,0],[40,1,41,1],[40,2,41,2],[40,3,41,3],[40,4,41,4]]}
[{"$f":"MID(CELL(\"filename\",A1),FIND(\"]\",CELL(\"filename\",A1))+1,32)","v":"Fin Fév.-Mars - 2prem. sem."}]
[null,"   Feuille de temps"]
[]
[]
[]
[]
[]
[null,null,null,null,null,null,null,null,null,null,null,null,null,null,null,null,null,null,null,null,null,null,null,null,null,null,null,null,null,"Congés fériés, lundi suivant la date"]
["Employé: ",{"$f":"'Congés de l''employé'!B8","v":0},null,null,null,null,null,null,null,null,null,null,null,null,null,null,null,null,null,null,null,null,null,null,null,null,null,null,null,"Mois","Type de congé férié","Année en cours"]
["Période débutant le ",{"$f":"DATE(An_ref,1,-2)-WEEKDAY(DATE(An_ref,1,3))+63","v":"2019-02-25"},null,null,null,null,null,null,null,null,null,null,null,null,null,null,null,null,null,null,null,null,null,null,null,null,null,{"$f":"OR(B11=$AF$12,B11=$AF$13,B11=$AF$14,B11=$AF$16,B11=$AF$17,B11=$AF$19,B11=$AF$21,B11=$AF$23,B11=$AF$25,B11=$AF$26,B11=$AF$27,B11=$AF$28)","v":false},null,null,null,{"$f":"An_ref","v":2019},null,"alloué au férié"]
[null,null,null,null,null,null,null,null,null,null,null,null,null,null,null,null,null,null,null,null,null,null,null,null,null,null,null,null,null,"Janvier","Jour de l'an",{"$f":"DATE(Année,1,1)","v":"2019-01-01"},"Date fixe 1er janvier"]
[null,null,null,null,null,null,null,null,null,null,null,null,null,null,null,null,null,null,null,null,null,null,null,null,null,null,null,null,null,null,"FÉRIÉ-JOUR OUVRABLE SUIVANT LE JOUR DE L'AN",{"$f":"AF11+2-WEEKDAY(AF11)+(WEEKDAY(AF11)>2)","v":"2019-01-01"},null,{"$f":"Edit!M27","v":7.4735918097323577E-190}]
["Jour","Heure\nDébut","Départ\nDiner","Retour\nDiner","Heure\nFin","Télétravail\nDépart","Télétravail\nFin","TOTAL\nJournalier","Absence",null,"Index de la ligne",null,null,null,null,null,null,null,null,null,null,null,null,null,null,null,null,null,null,null,"Bureau fermé congé donné-un jour après le jour de l'an",{"$f":"AF11+2-WEEKDAY(AF11)+(WEEKDAY(AF11)>2)+1","v":"2019-01-02"}]
[null,null,null,null,null,null,null,null,null,null,null,{"$f":"MAX('Février - 2e-3e semaine'!K16:K35)","v":"1904-01-02"},null,null,null,null,null,null,null,null,null,null,null,null,null,null,null,null,null,"Mars","Bureau fermé congé donné-un jour ouvré avant Pâques",{"$f":"AF15-2","v":"2019-04-19"},"3e lundi de mai",{"$f":"Edit!M28","v":0.3289473684210526}]
["Horaire Semaine 1",null,null,null,null,null,null,null,null,null,{"$f":"IF(COUNTIF(I16,\"X\"),MAX($K$13:K13)+1,\"\")","v":""},null,null,null,null,null,null,null,null,null,null,null,null,null,null,null,null,null,null,null,"Pâques",{"$f":"DATE(Année,3,29.56+0.979*MOD(204-11*MOD(Année,19),30)-\nWEEKDAY(DATE(Année,3,28.56+0.979*MOD(204-11*MOD(Année,19),30))))","v":"2019-04-21"},"Date fixe 24 juin"]
[{"$f":"$B$10","v":"2019-02-25"},null,null,null,null,null,null,{"$f":"IF(ISNA(VLOOKUP($A16,$AF$12:$AH$29,3,FALSE)),IF($I16=\"CONGÉ\",'Congés de l''employé'!$E$16,IF($I16=\"Demi congé\",'Congés de l''employé'!$BU$16,IF($I16=\"MALADIE\",'Congés de l''employé'!$E$18,IF($I16=\"Demi maladie\",'Congés de l''employé'!$BU$18,MOD($E16-($B16-($C16-$D16))+($G16-$F16),1))))),VLOOKUP($A16,$AF$12:$AH$29,3,FALSE))","v":0},null,null,{"$f":"IF(I16<>\"\",1+MAX($L$14:L14),\"\")","v":""},null,null,null,null,null,null,null,null,null,null,null,null,null,null,null,null,null,null,"Avril","Lundi de pâques",{"$f":"AF15+1","v":"2019-04-22"},"Date fixe 1er juillet"]
[{"$f":"$B$10+1","v":"2019-02-26"},null,null,null,null,null,null,{"$f":"IF(ISNA(VLOOKUP($A17,$AF$12:$AH$29,3,FALSE)),IF($I17=\"CONGÉ\",'Congés de l''employé'!$E$16,IF($I17=\"Demi congé\",'Congés de l''employé'!$BU$16,IF($I17=\"MALADIE\",'Congés de l''employé'!$E$18,IF($I17=\"Demi maladie\",'Congés de l''employé'!$BU$18,MOD($E17-($B17-($C17-$D17))+($G17-$F17),1))))),VLOOKUP($A17,$AF$12:$AH$29,3,FALSE))","v":0},null,null,{"$f":"IF(I17<>\"\",1+MAX($K$14:K15),\"\")","v":""},null,null,null,null,null,null,null,null,null,null,null,null,null,null,null,null,null,null,"Mai","Journée nationale des patriotes",{"$f":"DATE(Année,5,23)-WEEKDAY(DATE(Année,5,1),2)","v":"2019-05-20"},null,{"$f":"Edit!M30","v":0}]
[{"$f":"$B$10+2","v":"2019-02-27"},null,null,null,null,null,null,{"$f":"IF(ISNA(VLOOKUP($A18,$AF$12:$AH$29,3,FALSE)),IF($I18=\"CONGÉ\",'Congés de l''employé'!$E$16,IF($I18=\"Demi congé\",'Congés de l''employé'!$BU$16,IF($I18=\"MALADIE\",'Congés de l''employé'!$E$18,IF($I18=\"Demi maladie\",'Congés de l''employé'!$BU$18,MOD($E18-($B18-($C18-$D18))+($G18-$F18),1))))),VLOOKUP($A18,$AF$12:$AH$29,3,FALSE))","v":0},null,null,{"$f":"IF(I18<>\"\",1+MAX($K$14:K16),\"\")","v":""},null,null,null,null,null,null,null,null,null,null,null,null,null,null,null,null,null,null,"Juin","Fête nationale du Québec",{"$f":"DATE(Année,6,24)","v":"2019-06-24"},null,{"$f":"Edit!M31","v":0}]
[{"$f":"$B$10+3","v":"2019-02-28"},null,null,null,null,null,null,{"$f":"IF(ISNA(VLOOKUP($A19,$AF$12:$AH$29,3,FALSE)),IF($I19=\"CONGÉ\",'Congés de l''employé'!$E$16,IF($I19=\"Demi congé\",'Congés de l''employé'!$BU$16,IF($I19=\"MALADIE\",'Congés de l''employé'!$E$18,IF($I19=\"Demi maladie\",'Congés de l''employé'!$BU$18,MOD($E19-($B19-($C19-$D19))+($G19-$F19),1))))),VLOOKUP($A19,$AF$12:$AH$29,3,FALSE))","v":0},null,null,{"$f":"IF(I19<>\"\",1+MAX($K$14:K17),\"\")","v":""},null,null,null,null,null,null,null,null,null,null,null,null,null,null,null,null,null,null,null,"FÉRIÉ-JOUR OUVRABLE SUIVANT LA FÊTE NATIONALE DU QUÉBEC",{"$f":"AF18+2-WEEKDAY(AF18)+(WEEKDAY(AF18)>2)*7","v":"2019-06-24"},"Date fixe 25 décembre"]
[{"$f":"$B$10+4","v":"2019-03-01"},null,null,null,null,null,null,{"$f":"IF(ISNA(VLOOKUP($A20,$AF$12:$AH$29,3,FALSE)),IF($I20=\"CONGÉ\",'Congés de l''employé'!$E$16,IF($I20=\"Demi congé\",'Congés de l''employé'!$BU$16,IF($I20=\"MALADIE\",'Congés de l''employé'!$E$18,IF($I20=\"Demi maladie\",'Congés de l''employé'!$BU$18,MOD($E20-($B20-($C20-$D20))+($G20-$F20),1))))),VLOOKUP($A20,$AF$12:$AH$29,3,FALSE))","v":0},null,null,{"$f":"IF(I20<>\"\",1+MAX($K$14:K18),\"\")","v":""},null,null,null,null,null,null,null,null,null,null,null,null,null,null,null,null,null,null,"Juillet","Fête du Canada",{"$f":"DATE(Année,7,1)","v":"2019-07-01"},null,{"$f":"Edit!M32","v":1.1253746147756614E-210}]
[{"$f":"$B$10+5","v":"2019-03-02"},null,null,null,null,null,null,{"$f":"IF(ISNA(VLOOKUP($A21,$AF$12:$AH$29,3,FALSE)),IF($I21=\"CONGÉ\",'Congés de l''employé'!$E$16,IF($I21=\"Demi congé\",'Congés de l''employé'!$BU$16,IF($I21=\"MALADIE\",'Congés de l''employé'!$E$18,IF($I21=\"Demi maladie\",'Congés de l''employé'!$BU$18,MOD($E21-($B21-($C21-$D21))+($G21-$F21),1))))),VLOOKUP($A21,$AF$12:$AH$29,3,FALSE))","v":0},null,null,{"$f":"IF(I21<>\"\",1+MAX($K$14:K19),\"\")","v":""},null,null,null,null,null,null,null,null,null,null,null,null,null,null,null,null,null,null,null,"FÉRIÉ-JOUR OUVRABLE SUIVANT LA FÊTE DU CANADA",{"$f":"AF20+2-WEEKDAY(AF20)+(WEEKDAY(AF20)>2)*7","v":"2019-07-01"}]
[{"$f":"$B$10+6","v":"2019-03-03"},null,null,null,null,null,null,{"$f":"IF(ISNA(VLOOKUP($A22,$AF$12:$AH$29,3,FALSE)),IF($I22=\"CONGÉ\",'Congés de l''employé'!$E$16,IF($I22=\"Demi congé\",'Congés de l''employé'!$BU$16,IF($I22=\"MALADIE\",'Congés de l''employé'!$E$18,IF($I22=\"Demi maladie\",'Congés de l''employé'!$BU$18,MOD($E22-($B22-($C22-$D22))+($G22-$F22),1))))),VLOOKUP($A22,$AF$12:$AH$29,3,FALSE))","v":0},null,null,{"$f":"IF(I22<>\"\",1+MAX($K$14:K20),\"\")","v":""},null,null,null,null,null,null,null,null,null,null,null,null,null,null,null,null,null,null,"Septembre","Fête du travail",{"$f":"IF(MOD(DATE(Année,9,1),7)<=2,2-MOD(DATE(Année,9,1),7),9-MOD(DATE(Année,9,1),7))+DATE(Année,9,1)","v":"2019-09-01"},null,{"$f":"Edit!M33","v":0}]
[null,null,null,null,null,null,null,{"$f":"SUM(H16:H22)+B23","v":0},null,null,{"$f":"IF(I23<>\"\",1+MAX($K$14:K21),\"\")","v":""},null,null,null,null,null,null,null,null,null,null,null,null,null,null,null,null,null,null,null,"FÉRIÉ-JOUR OUVRABLE SUIVANT LA FÊTE DU TRAVAIL",{"$f":"AF22+2-WEEKDAY(AF22)+(WEEKDAY(AF22)>2)*7","v":"2019-09-02"}]
[null,null,null,null,null,null,null,null,null,null,{"$f":"IF(I24<>\"\",1+MAX($K$14:K22),\"\")","v":""},null,null,null,null,null,null,null,null,null,null,null,null,null,null,null,null,null,null,"Octobre","Action de grâce",{"$f":"DATE(AF10,10,1)","v":"2019-10-01"},null,{"$f":"Edit!M34","v":0}]
[null,null,null,null,null,null,null,null,null,null,{"$f":"IF(I25<>\"\",1+MAX($K$14:K23),\"\")","v":""},null,null,null,null,null,null,null,null,null,null,null,null,null,null,null,null,null,null,null,"FÉRIÉ-JOUR OUVRABLE SUIVANT L'ACTION DE GRÂCE",{"$f":"AF24-DAY(AF24)-WEEKDAY(AF24-DAY(AF24),2)+15","v":"2019-10-14"}]
[null,null,null,null,null,null,"Heures en trop\nou en moins",{"$f":"IF(OR(H23=-(B15),B15=0),\"0\",(H23-B15))","v":"0"},null,null,{"$f":"IF(I26<>\"\",1+MAX($K$14:K24),\"\")","v":""},null,null,null,null,null,null,null,null,null,null,null,null,null,null,null,null,null,null,null,"Bureau fermé congé donné",{"$f":"DATE(Année,12,25)-1","v":"2019-12-24"},null,{"$f":"'[1]Congés de l''employé'!$E$14","v":0}]
[null,null,null,null,null,null,null,null,null,null,{"$f":"IF(I27<>\"\",1+MAX($K$14:K25),\"\")","v":""},null,null,null,null,null,null,null,null,null,null,null,null,null,null,null,null,null,null,"Décembre","Férié-Noël",{"$f":"DATE(Année,12,25)","v":"2019-12-25"},null,{"$f":"Edit!M35","v":0}]
["Horaire Semaine 2",null,null,null,null,null,null,null,null,null,{"$f":"IF(I28<>\"\",1+MAX($K$14:K26),\"\")","v":""},null,null,null,null,null,null,null,null,null,null,null,null,null,null,null,null,null,null,"Décembre","Bureau fermé congé donné",{"$f":"DATE(Année,12,25)+1","v":"2019-12-26"}]
[{"$f":"B10+7","v":"2019-03-04"},null,null,null,null,null,null,{"$f":"IF(ISNA(VLOOKUP($A29,$AF$12:$AH$29,3,FALSE)),IF($I29=\"CONGÉ\",'Congés de l''employé'!$E$16,IF($I29=\"Demi congé\",'Congés de l''employé'!$BU$16,IF($I29=\"MALADIE\",'Congés de l''employé'!$E$18,IF($I29=\"Demi maladie\",'Congés de l''employé'!$BU$18,MOD($E29-($B29-($C29-$D29))+($G29-$F29),1))))),VLOOKUP($A29,$AF$12:$AH$29,3,FALSE))","v":0},null,null,{"$f":"IF(I29<>\"\",1+MAX($K$14:K28),\"\")","v":""},null,null,null,null,null,null,null,null,null,null,null,null,null,null,null,null,null,null,"Décembre","Bureau fermé congé donné",{"$f":"AF11+2-WEEKDAY(AF11)+(WEEKDAY(AF11)>2)-1","v":"2018-12-31"}]
[{"$f":"B10+8","v":"2019-03-05"},null,null,null,null,null,null,{"$f":"IF(ISNA(VLOOKUP($A30,$AF$12:$AH$29,3,FALSE)),IF($I30=\"CONGÉ\",'Congés de l''employé'!$E$16,IF($I30=\"Demi congé\",'Congés de l''employé'!$BU$16,IF($I30=\"MALADIE\",'Congés de l''employé'!$E$18,IF($I30=\"Demi maladie\",'Congés de l''employé'!$BU$18,MOD($E30-($B30-($C30-$D30))+($G30-$F30),1))))),VLOOKUP($A30,$AF$12:$AH$29,3,FALSE))","v":0},null,null,{"$f":"IF(I30<>\"\",1+MAX($K$14:K29),\"\")","v":""}]
[{"$f":"B10+9","v":"2019-03-06"},null,null,null,null,null,null,{"$f":"IF(ISNA(VLOOKUP($A31,$AF$12:$AH$29,3,FALSE)),IF($I31=\"CONGÉ\",'Congés de l''employé'!$E$16,IF($I31=\"Demi congé\",'Congés de l''employé'!$BU$16,IF($I31=\"MALADIE\",'Congés de l''employé'!$E$18,IF($I31=\"Demi maladie\",'Congés de l''employé'!$BU$18,MOD($E31-($B31-($C31-$D31))+($G31-$F31),1))))),VLOOKUP($A31,$AF$12:$AH$29,3,FALSE))","v":0},null,null,{"$f":"IF(I31<>\"\",1+MAX($K$14:K30),\"\")","v":""}]
[{"$f":"B10+10","v":"2019-03-07"},null,null,null,null,null,null,{"$f":"IF(ISNA(VLOOKUP($A32,$AF$12:$AH$29,3,FALSE)),IF($I32=\"CONGÉ\",'Congés de l''employé'!$E$16,IF($I32=\"Demi congé\",'Congés de l''employé'!$BU$16,IF($I32=\"MALADIE\",'Congés de l''employé'!$E$18,IF($I32=\"Demi maladie\",'Congés de l''employé'!$BU$18,MOD($E32-($B32-($C32-$D32))+($G32-$F32),1))))),VLOOKUP($A32,$AF$12:$AH$29,3,FALSE))","v":0},null,null,{"$f":"IF(I32<>\"\",1+MAX($K$14:K31),\"\")","v":""}]
[{"$f":"B10+11","v":"2019-03-08"},null,null,null,null,null,null,{"$f":"IF(ISNA(VLOOKUP($A33,$AF$12:$AH$29,3,FALSE)),IF($I33=\"CONGÉ\",'Congés de l''employé'!$E$16,IF($I33=\"Demi congé\",'Congés de l''employé'!$BU$16,IF($I33=\"MALADIE\",'Congés de l''employé'!$E$18,IF($I33=\"Demi maladie\",'Congés de l''employé'!$BU$18,MOD($E33-($B33-($C33-$D33))+($G33-$F33),1))))),VLOOKUP($A33,$AF$12:$AH$29,3,FALSE))","v":0},null,null,{"$f":"IF(I33<>\"\",1+MAX($K$14:K32),\"\")","v":""}]
[{"$f":"B10+12","v":"2019-03-09"},null,null,null,null,null,null,{"$f":"IF(ISNA(VLOOKUP($A34,$AF$12:$AH$29,3,FALSE)),IF($I34=\"CONGÉ\",'Congés de l''employé'!$E$16,IF($I34=\"Demi congé\",'Congés de l''employé'!$BU$16,IF($I34=\"MALADIE\",'Congés de l''employé'!$E$18,IF($I34=\"Demi maladie\",'Congés de l''employé'!$BU$18,MOD($E34-($B34-($C34-$D34))+($G34-$F34),1))))),VLOOKUP($A34,$AF$12:$AH$29,3,FALSE))","v":0},null,null,{"$f":"IF(I34<>\"\",1+MAX($K$14:K33),\"\")","v":""}]
[{"$f":"B10+13","v":"2019-03-10"},null,null,null,null,null,null,{"$f":"IF(ISNA(VLOOKUP($A35,$AF$12:$AH$29,3,FALSE)),IF($I35=\"CONGÉ\",'Congés de l''employé'!$E$16,IF($I35=\"Demi congé\",'Congés de l''employé'!$BU$16,IF($I35=\"MALADIE\",'Congés de l''employé'!$E$18,IF($I35=\"Demi maladie\",'Congés de l''employé'!$BU$18,MOD($E35-($B35-($C35-$D35))+($G35-$F35),1))))),VLOOKUP($A35,$AF$12:$AH$29,3,FALSE))","v":0},null,null,{"$f":"IF(I35<>\"\",1+MAX($K$14:K34),\"\")","v":""}]
[null,null,null,null,null,null,null,{"$f":"SUM(H29:H35)+B36","v":0}]
[]
[null,null,null,null,null,null,"Heures en trop\nou en moins",{"$f":"IF(OR(H36=-(B28),B28=0),\"0\",(H36-B28))","v":"0"}]
[]
["Heure travaillées","Heures prévues","ENTREZ le nombre d'heures à payer","Heures\n supplémentaires ou en moins","Heures à \ntransposer dans la Banque","Total de la Banque d'heures"]
[{"$f":"$H$23+$H$36","v":0},{"$f":"'Congés de l''employé'!BU8*2","v":2.9166666666666665},{"$f":"A41","v":0},{"$f":"IF($H$26>0,$H$26)+IF($H$38>0,$H$38,0)+IF($H$26<0,$H$26)+IF($H$38<0,$H$38,0)","v":0},{"$f":"$A$41-$C$41","v":0},{"$f":"SUM('Février - 2e-3e semaine'!F41:G42)+E41","v":0}]

{"sheet":"Mars - 3e-4e semaine","index":13,"n_rows":41,"n_cols":34,"rows_kept":41,"cut":false,"hidden":false,"merged":[[1,1,5,7],[40,0,41,0],[40,1,41,1],[40,2,41,2],[40,3,41,3],[40,4,41,4],[7,29,7,31],[42,1,42,2],[7,4,7,7],[9,1,9,3],[39,5,39,6],[40,5,41,6]]}
[{"$f":"MID(CELL(\"filename\",A1),FIND(\"]\",CELL(\"filename\",A1))+1,32)","v":"Mars - 3e-4e semaine"}]
[null,"      Feuille de temps"]
[]
[]
[]
[]
[]
[null,null,null,null,null,null,null,null,null,null,null,null,null,null,null,null,null,null,null,null,null,null,null,null,null,null,null,null,null,"Congés fériés, lundi suivant la date"]
["Employé: ",{"$f":"'Congés de l''employé'!B8","v":0},null,null,null,null,null,null,null,null,null,null,null,null,null,null,null,null,null,null,null,null,null,null,null,null,null,null,null,"Mois","Type de congé férié","Année en cours"]
["Période débutant le ",{"$f":"DATE(An_ref,1,-2)-WEEKDAY(DATE(An_ref,1,3))+77","v":"2019-03-11"},null,null,null,null,null,null,null,null,null,null,null,null,null,null,null,null,null,null,null,null,null,null,null,null,null,{"$f":"OR(B11=$AF$12,B11=$AF$13,B11=$AF$14,B11=$AF$16,B11=$AF$17,B11=$AF$19,B11=$AF$21,B11=$AF$23,B11=$AF$25,B11=$AF$26,B11=$AF$27,B11=$AF$28)","v":false},null,null,null,{"$f":"An_ref","v":2019},null,"alloué au férié"]
[null,null,null,null,null,null,null,null,null,null,null,null,null,null,null,null,null,null,null,null,null,null,null,null,null,null,null,null,null,"Janvier","Jour de l'an",{"$f":"DATE(Année,1,1)","v":"2019-01-01"},"Date fixe 1er janvier"]
[null,null,null,null,null,null,null,null,null,null,null,null,null,null,null,null,null,null,null,null,null,null,null,null,null,null,null,null,null,null,"FÉRIÉ-JOUR OUVRABLE SUIVANT LE JOUR DE L'AN",{"$f":"AF11+2-WEEKDAY(AF11)+(WEEKDAY(AF11)>2)","v":"2019-01-01"},null,{"$f":"Edit!M27","v":7.4735918097323577E-190}]
["Jour","Heure\nDébut","Départ\nDiner","Retour\nDiner","Heure\nFin","Télétravail\nDépart","Télétravail\nFin","TOTAL\nJournalier","Absence",null,"Index de la ligne",null,null,null,null,null,null,null,null,null,null,null,null,null,null,null,null,null,null,null,"Bureau fermé congé donné-un jour après le jour de l'an",{"$f":"AF11+2-WEEKDAY(AF11)+(WEEKDAY(AF11)>2)+1","v":"2019-01-02"}]
[null,null,null,null,null,null,null,null,null,null,null,{"$f":"MAX('Fin Fév.-Mars - 2prem. sem.'!K16:K35)","v":"1904-01-01"},null,null,null,null,null,null,null,null,null,null,null,null,null,null,null,null,null,"Mars","Bureau fermé congé donné-un jour ouvré avant Pâques",{"$f":"AF15-2","v":"2019-04-19"},"3e lundi de mai",{"$f":"Edit!M28","v":0.3289473684210526}]
["Horaire Semaine 1",null,null,null,null,null,null,null,null,null,{"$f":"IF(COUNTIF(I16,\"X\"),MAX($K$13:K13)+1,\"\")","v":""},null,null,null,null,null,null,null,null,null,null,null,null,null,null,null,null,null,null,null,"Pâques",{"$f":"DATE(Année,3,29.56+0.979*MOD(204-11*MOD(Année,19),30)-\nWEEKDAY(DATE(Année,3,28.56+0.979*MOD(204-11*MOD(Année,19),30))))","v":"2019-04-21"},"Date fixe 24 juin"]
[{"$f":"$B$10","v":"2019-03-11"},0.35416666666666669,0.5,0.52083333333333337,0.6875,null,null,{"$f":"IF(ISNA(VLOOKUP($A16,$AF$12:$AH$29,3,FALSE)),IF($I16=\"CONGÉ\",'Congés de l''employé'!$E$16,IF($I16=\"Demi congé\",'Congés de l''employé'!$BU$16,IF($I16=\"MALADIE\",'Congés de l''employé'!$E$18,IF($I16=\"Demi maladie\",'Congés de l''employé'!$BU$18,MOD($E16-($B16-($C16-$D16))+($G16-$F16),1))))),VLOOKUP($A16,$AF$12:$AH$29,3,FALSE))","v":0.31249999999999994},null,null,{"$f":"IF(I16<>\"\",1+MAX($L$14:L14),\"\")","v":""},null,null,null,null,null,null,null,null,null,null,null,null,null,null,null,null,null,null,"Avril","Lundi de pâques",{"$f":"AF15+1","v":"2019-04-22"},"Date fixe 1er juillet"]
[{"$f":"$B$10+1","v":"2019-03-12"},0.39583333333333331,0.5,0.52083333333333337,0.8125,null,null,{"$f":"IF(ISNA(VLOOKUP($A17,$AF$12:$AH$29,3,FALSE)),IF($I17=\"CONGÉ\",'Congés de l''employé'!$E$16,IF($I17=\"Demi congé\",'Congés de l''employé'!$BU$16,IF($I17=\"MALADIE\",'Congés de l''employé'!$E$18,IF($I17=\"Demi maladie\",'Congés de l''employé'!$BU$18,MOD($E17-($B17-($C17-$D17))+($G17-$F17),1))))),VLOOKUP($A17,$AF$12:$AH$29,3,FALSE))","v":0.39583333333333331},null,null,{"$f":"IF(I17<>\"\",1+MAX($K$14:K15),\"\")","v":""},null,null,null,null,null,null,null,null,null,null,null,null,null,null,null,null,null,null,"Mai","Journée nationale des patriotes",{"$f":"DATE(Année,5,23)-WEEKDAY(DATE(Année,5,1),2)","v":"2019-05-20"},null,{"$f":"Edit!M30","v":0}]
[{"$f":"$B$10+2","v":"2019-03-13"},0.35416666666666669,0.5,0.52083333333333337,0.6875,null,null,{"$f":"IF(ISNA(VLOOKUP($A18,$AF$12:$AH$29,3,FALSE)),IF($I18=\"CONGÉ\",'Congés de l''employé'!$E$16,IF($I18=\"Demi congé\",'Congés de l''employé'!$BU$16,IF($I18=\"MALADIE\",'Congés de l''employé'!$E$18,IF($I18=\"Demi maladie\",'Congés de l''employé'!$BU$18,MOD($E18-($B18-($C18-$D18))+($G18-$F18),1))))),VLOOKUP($A18,$AF$12:$AH$29,3,FALSE))","v":0.31249999999999994},null,null,{"$f":"IF(I18<>\"\",1+MAX($K$14:K16),\"\")","v":""},null,null,null,null,null,null,null,null,null,null,null,null,null,null,null,null,null,null,"Juin","Fête nationale du Québec",{"$f":"DATE(Année,6,24)","v":"2019-06-24"},null,{"$f":"Edit!M31","v":0}]
[{"$f":"$B$10+3","v":"2019-03-14"},0.375,null,null,0.5,null,null,{"$f":"IF(ISNA(VLOOKUP($A19,$AF$12:$AH$29,3,FALSE)),IF($I19=\"CONGÉ\",'Congés de l''employé'!$E$16,IF($I19=\"Demi congé\",'Congés de l''employé'!$BU$16,IF($I19=\"MALADIE\",'Congés de l''employé'!$E$18,IF($I19=\"Demi maladie\",'Congés de l''employé'!$BU$18,MOD($E19-($B19-($C19-$D19))+($G19-$F19),1))))),VLOOKUP($A19,$AF$12:$AH$29,3,FALSE))","v":0.125},null,null,{"$f":"IF(I19<>\"\",1+MAX($K$14:K17),\"\")","v":""},null,null,null,null,null,null,null,null,null,null,null,null,null,null,null,null,null,null,null,"FÉRIÉ-JOUR OUVRABLE SUIVANT LA FÊTE NATIONALE DU QUÉBEC",{"$f":"AF18+2-WEEKDAY(AF18)+(WEEKDAY(AF18)>2)*7","v":"2019-06-24"},"Date fixe 25 décembre"]
[{"$f":"$B$10+4","v":"2019-03-15"},0.47916666666666669,null,null,0.6875,0.79166666666666663,0.875,{"$f":"IF(ISNA(VLOOKUP($A20,$AF$12:$AH$29,3,FALSE)),IF($I20=\"CONGÉ\",'Congés de l''employé'!$E$16,IF($I20=\"Demi congé\",'Congés de l''employé'!$BU$16,IF($I20=\"MALADIE\",'Congés de l''employé'!$E$18,IF($I20=\"Demi maladie\",'Congés de l''employé'!$BU$18,MOD($E20-($B20-($C20-$D20))+($G20-$F20),1))))),VLOOKUP($A20,$AF$12:$AH$29,3,FALSE))","v":0.29166666666666669},null,null,{"$f":"IF(I20<>\"\",1+MAX($K$14:K18),\"\")","v":""},null,null,null,null,null,null,null,null,null,null,null,null,null,null,null,null,null,null,"Juillet","Fête du Canada",{"$f":"DATE(Année,7,1)","v":"2019-07-01"},null,{"$f":"Edit!M32","v":1.1253746147756614E-210}]
[{"$f":"$B$10+5","v":"2019-03-16"},null,null,null,null,null,null,{"$f":"IF(ISNA(VLOOKUP($A21,$AF$12:$AH$29,3,FALSE)),IF($I21=\"CONGÉ\",'Congés de l''employé'!$E$16,IF($I21=\"Demi congé\",'Congés de l''employé'!$BU$16,IF($I21=\"MALADIE\",'Congés de l''employé'!$E$18,IF($I21=\"Demi maladie\",'Congés de l''employé'!$BU$18,MOD($E21-($B21-($C21-$D21))+($G21-$F21),1))))),VLOOKUP($A21,$AF$12:$AH$29,3,FALSE))","v":0},null,null,{"$f":"IF(I21<>\"\",1+MAX($K$14:K19),\"\")","v":""},null,null,null,null,null,null,null,null,null,null,null,null,null,null,null,null,null,null,null,"FÉRIÉ-JOUR OUVRABLE SUIVANT LA FÊTE DU CANADA",{"$f":"AF20+2-WEEKDAY(AF20)+(WEEKDAY(AF20)>2)*7","v":"2019-07-01"}]
[{"$f":"$B$10+6","v":"2019-03-17"},null,null,null,null,0.45833333333333331,0.58333333333333337,{"$f":"IF(ISNA(VLOOKUP($A22,$AF$12:$AH$29,3,FALSE)),IF($I22=\"CONGÉ\",'Congés de l''employé'!$E$16,IF($I22=\"Demi congé\",'Congés de l''employé'!$BU$16,IF($I22=\"MALADIE\",'Congés de l''employé'!$E$18,IF($I22=\"Demi maladie\",'Congés de l''employé'!$BU$18,MOD($E22-($B22-($C22-$D22))+($G22-$F22),1))))),VLOOKUP($A22,$AF$12:$AH$29,3,FALSE))","v":0.12500000000000006},null,null,{"$f":"IF(I22<>\"\",1+MAX($K$14:K20),\"\")","v":""},null,null,null,null,null,null,null,null,null,null,null,null,null,null,null,null,null,null,"Septembre","Fête du travail",{"$f":"IF(MOD(DATE(Année,9,1),7)<=2,2-MOD(DATE(Année,9,1),7),9-MOD(DATE(Année,9,1),7))+DATE(Année,9,1)","v":"2019-09-01"},null,{"$f":"Edit!M33","v":0}]
[null,null,null,null,null,null,null,{"$f":"SUM(H16:H22)+B23","v":1.5625},null,null,{"$f":"IF(I23<>\"\",1+MAX($K$14:K21),\"\")","v":""},null,null,null,null,null,null,null,null,null,null,null,null,null,null,null,null,null,null,null,"FÉRIÉ-JOUR OUVRABLE SUIVANT LA FÊTE DU TRAVAIL",{"$f":"AF22+2-WEEKDAY(AF22)+(WEEKDAY(AF22)>2)*7","v":"2019-09-02"}]
[null,null,null,null,null,null,null,null,null,null,{"$f":"IF(I24<>\"\",1+MAX($K$14:K22),\"\")","v":""},null,null,null,null,null,null,null,null,null,null,null,null,null,null,null,null,null,null,"Octobre","Action de grâce",{"$f":"DATE(AF10,10,1)","v":"2019-10-01"},null,{"$f":"Edit!M34","v":0}]
[null,null,null,null,null,null,null,null,null,null,{"$f":"IF(I25<>\"\",1+MAX($K$14:K23),\"\")","v":""},null,null,null,null,null,null,null,null,null,null,null,null,null,null,null,null,null,null,null,"FÉRIÉ-JOUR OUVRABLE SUIVANT L'ACTION DE GRÂCE",{"$f":"AF24-DAY(AF24)-WEEKDAY(AF24-DAY(AF24),2)+15","v":"2019-10-14"}]
[null,null,null,null,null,null,"Heures en trop\nou en moins",{"$f":"IF(OR(H23=-(B15),B15=0),\"0\",(H23-B15))","v":"0"},null,null,{"$f":"IF(I26<>\"\",1+MAX($K$14:K24),\"\")","v":""},null,null,null,null,null,null,null,null,null,null,null,null,null,null,null,null,null,null,null,"Bureau fermé congé donné",{"$f":"DATE(Année,12,25)-1","v":"2019-12-24"},null,{"$f":"'[1]Congés de l''employé'!$E$14","v":0}]
[null,null,null,null,null,null,null,null,null,null,{"$f":"IF(I27<>\"\",1+MAX($K$14:K25),\"\")","v":""},null,null,null,null,null,null,null,null,null,null,null,null,null,null,null,null,null,null,"Décembre","Férié-Noël",{"$f":"DATE(Année,12,25)","v":"2019-12-25"},null,{"$f":"Edit!M35","v":0}]
["Horaire Semaine 2",null,null,null,null,null,null,null,null,null,{"$f":"IF(I28<>\"\",1+MAX($K$14:K26),\"\")","v":""},null,null,null,null,null,null,null,null,null,null,null,null,null,null,null,null,null,null,"Décembre","Bureau fermé congé donné",{"$f":"DATE(Année,12,25)+1","v":"2019-12-26"}]
[{"$f":"B10+7","v":"2019-03-18"},0.35416666666666669,0.5,0.52083333333333337,0.6875,null,null,{"$f":"IF(ISNA(VLOOKUP($A29,$AF$12:$AH$29,3,FALSE)),IF($I29=\"CONGÉ\",'Congés de l''employé'!$E$16,IF($I29=\"Demi congé\",'Congés de l''employé'!$BU$16,IF($I29=\"MALADIE\",'Congés de l''employé'!$E$18,IF($I29=\"Demi maladie\",'Congés de l''employé'!$BU$18,MOD($E29-($B29-($C29-$D29))+($G29-$F29),1))))),VLOOKUP($A29,$AF$12:$AH$29,3,FALSE))","v":0.31249999999999994},null,null,{"$f":"IF(I29<>\"\",1+MAX($K$14:K28),\"\")","v":""},null,null,null,null,null,null,null,null,null,null,null,null,null,null,null,null,null,null,"Décembre","Bureau fermé congé donné",{"$f":"AF11+2-WEEKDAY(AF11)+(WEEKDAY(AF11)>2)-1","v":"2018-12-31"}]
[{"$f":"B10+8","v":"2019-03-19"},0.39583333333333331,0.5,0.52083333333333337,0.8125,null,null,{"$f":"IF(ISNA(VLOOKUP($A30,$AF$12:$AH$29,3,FALSE)),IF($I30=\"CONGÉ\",'Congés de l''employé'!$E$16,IF($I30=\"Demi congé\",'Congés de l''employé'!$BU$16,IF($I30=\"MALADIE\",'Congés de l''employé'!$E$18,IF($I30=\"Demi maladie\",'Congés de l''employé'!$BU$18,MOD($E30-($B30-($C30-$D30))+($G30-$F30),1))))),VLOOKUP($A30,$AF$12:$AH$29,3,FALSE))","v":0.39583333333333331},null,null,{"$f":"IF(I30<>\"\",1+MAX($K$14:K29),\"\")","v":""}]
[{"$f":"B10+9","v":"2019-03-20"},0.35416666666666669,0.5,0.52083333333333337,0.6875,null,null,{"$f":"IF(ISNA(VLOOKUP($A31,$AF$12:$AH$29,3,FALSE)),IF($I31=\"CONGÉ\",'Congés de l''employé'!$E$16,IF($I31=\"Demi congé\",'Congés de l''employé'!$BU$16,IF($I31=\"MALADIE\",'Congés de l''employé'!$E$18,IF($I31=\"Demi maladie\",'Congés de l''employé'!$BU$18,MOD($E31-($B31-($C31-$D31))+($G31-$F31),1))))),VLOOKUP($A31,$AF$12:$AH$29,3,FALSE))","v":0.31249999999999994},null,null,{"$f":"IF(I31<>\"\",1+MAX($K$14:K30),\"\")","v":""}]
[{"$f":"B10+10","v":"2019-03-21"},0.375,null,null,0.5,null,null,{"$f":"IF(ISNA(VLOOKUP($A32,$AF$12:$AH$29,3,FALSE)),IF($I32=\"CONGÉ\",'Congés de l''employé'!$E$16,IF($I32=\"Demi congé\",'Congés de l''employé'!$BU$16,IF($I32=\"MALADIE\",'Congés de l''employé'!$E$18,IF($I32=\"Demi maladie\",'Congés de l''employé'!$BU$18,MOD($E32-($B32-($C32-$D32))+($G32-$F32),1))))),VLOOKUP($A32,$AF$12:$AH$29,3,FALSE))","v":0.125},null,null,{"$f":"IF(I32<>\"\",1+MAX($K$14:K31),\"\")","v":""}]
[{"$f":"B10+11","v":"2019-03-22"},0.47916666666666669,null,null,0.6875,0.79166666666666663,0.875,{"$f":"IF(ISNA(VLOOKUP($A33,$AF$12:$AH$29,3,FALSE)),IF($I33=\"CONGÉ\",'Congés de l''employé'!$E$16,IF($I33=\"Demi congé\",'Congés de l''employé'!$BU$16,IF($I33=\"MALADIE\",'Congés de l''employé'!$E$18,IF($I33=\"Demi maladie\",'Congés de l''employé'!$BU$18,MOD($E33-($B33-($C33-$D33))+($G33-$F33),1))))),VLOOKUP($A33,$AF$12:$AH$29,3,FALSE))","v":0.29166666666666669},null,null,{"$f":"IF(I33<>\"\",1+MAX($K$14:K32),\"\")","v":""}]
[{"$f":"B10+12","v":"2019-03-23"},null,null,null,null,null,null,{"$f":"IF(ISNA(VLOOKUP($A34,$AF$12:$AH$29,3,FALSE)),IF($I34=\"CONGÉ\",'Congés de l''employé'!$E$16,IF($I34=\"Demi congé\",'Congés de l''employé'!$BU$16,IF($I34=\"MALADIE\",'Congés de l''employé'!$E$18,IF($I34=\"Demi maladie\",'Congés de l''employé'!$BU$18,MOD($E34-($B34-($C34-$D34))+($G34-$F34),1))))),VLOOKUP($A34,$AF$12:$AH$29,3,FALSE))","v":0},null,null,{"$f":"IF(I34<>\"\",1+MAX($K$14:K33),\"\")","v":""}]
[{"$f":"B10+13","v":"2019-03-24"},null,null,null,null,0.45833333333333331,0.58333333333333337,{"$f":"IF(ISNA(VLOOKUP($A35,$AF$12:$AH$29,3,FALSE)),IF($I35=\"CONGÉ\",'Congés de l''employé'!$E$16,IF($I35=\"Demi congé\",'Congés de l''employé'!$BU$16,IF($I35=\"MALADIE\",'Congés de l''employé'!$E$18,IF($I35=\"Demi maladie\",'Congés de l''employé'!$BU$18,MOD($E35-($B35-($C35-$D35))+($G35-$F35),1))))),VLOOKUP($A35,$AF$12:$AH$29,3,FALSE))","v":0.12500000000000006},null,null,{"$f":"IF(I35<>\"\",1+MAX($K$14:K34),\"\")","v":""}]
[null,null,null,null,null,null,null,{"$f":"SUM(H29:H35)+B36","v":1.5625}]
[]
[null,null,null,null,null,null,"Heures en trop\nou en moins",{"$f":"IF(OR(H36=-(B28),B28=0),\"0\",(H36-B28))","v":"0"}]
[]
["Heure travaillées","Heures prévues","ENTREZ le nombre d'heures à payer","Heures\n supplémentaires ou en moins","Heures à \ntransposer dans la Banque","Total de la Banque d'heures"]
[{"$f":"$H$23+$H$36","v":3.125},{"$f":"'Congés de l''employé'!BU8*2","v":2.9166666666666665},{"$f":"A41","v":3.125},{"$f":"IF($H$26>0,$H$26)+IF($H$38>0,$H$38,0)+IF($H$26<0,$H$26)+IF($H$38<0,$H$38,0)","v":0},{"$f":"$A$41-$C$41","v":0},{"$f":"SUM('Fin Fév.-Mars - 2prem. sem.'!F41:G42)+E41","v":0}]

{"sheet":"Fin Mars-Avril - prem. semaine","index":14,"n_rows":41,"n_cols":34,"rows_kept":41,"cut":false,"hidden":false,"merged":[[1,1,5,7],[40,0,41,0],[40,1,41,1],[40,2,41,2],[40,3,41,3],[40,4,41,4],[7,29,7,31],[42,1,42,2],[7,4,7,7],[9,1,9,3],[39,5,39,6],[40,5,41,6]]}
[{"$f":"MID(CELL(\"filename\",A1),FIND(\"]\",CELL(\"filename\",A1))+1,32)","v":"Fin Mars-Avril - prem. semaine"}]
[null,"   Feuille de temps"]
[]
[]
[]
[]
[]
[null,null,null,null,null,null,null,null,null,null,null,null,null,null,null,null,null,null,null,null,null,null,null,null,null,null,null,null,null,"Congés fériés, lundi suivant la date"]
["Employé: ",{"$f":"'Congés de l''employé'!B8","v":0},null,null,null,null,null,null,null,null,null,null,null,null,null,null,null,null,null,null,null,null,null,null,null,null,null,null,null,"Mois","Type de congé férié","Année en cours"]
["Période débutant le ",{"$f":"DATE(An_ref,1,-2)-WEEKDAY(DATE(An_ref,1,3))+91","v":"2019-03-25"},null,null,null,null,null,null,null,null,null,null,null,null,null,null,null,null,null,null,null,null,null,null,null,null,null,{"$f":"OR(B11=$AF$12,B11=$AF$13,B11=$AF$14,B11=$AF$16,B11=$AF$17,B11=$AF$19,B11=$AF$21,B11=$AF$23,B11=$AF$25,B11=$AF$26,B11=$AF$27,B11=$AF$28)","v":false},null,null,null,{"$f":"An_ref","v":2019},null,"alloué au férié"]
[null,null,null,null,null,null,null,null,null,null,null,null,null,null,null,null,null,null,null,null,null,null,null,null,null,null,null,null,null,"Janvier","Jour de l'an",{"$f":"DATE(Année,1,1)","v":"2019-01-01"},"Date fixe 1er janvier"]
[null,null,null,null,null,null,null,null,null,null,null,null,null,null,null,null,null,null,null,null,null,null,null,null,null,null,null,null,null,null,"FÉRIÉ-JOUR OUVRABLE SUIVANT LE JOUR DE L'AN",{"$f":"AF11+2-WEEKDAY(AF11)+(WEEKDAY(AF11)>2)","v":"2019-01-01"},null,{"$f":"Edit!M27","v":7.4735918097323577E-190}]
["Jour","Heure\nDébut","Départ\nDiner","Retour\nDiner","Heure\nFin","Télétravail\nDépart","Télétravail\nFin","TOTAL\nJournalier","Absence",null,"Index de la ligne",null,null,null,null,null,null,null,null,null,null,null,null,null,null,null,null,null,null,null,"Bureau fermé congé donné-un jour après le jour de l'an",{"$f":"AF11+2-WEEKDAY(AF11)+(WEEKDAY(AF11)>2)+1","v":"2019-01-02"}]
[null,null,null,null,null,null,null,null,null,null,null,{"$f":"MAX('Mars - 3e-4e semaine'!K16:K35)","v":"1904-01-01"},null,null,null,null,null,null,null,null,null,null,null,null,null,null,null,null,null,"Mars","Bureau fermé congé donné-un jour ouvré avant Pâques",{"$f":"AF15-2","v":"2019-04-19"},"3e lundi de mai",{"$f":"Edit!M28","v":0.3289473684210526}]
["Horaire Semaine 1",null,null,null,null,null,null,null,null,null,{"$f":"IF(COUNTIF(I16,\"X\"),MAX($K$13:K13)+1,\"\")","v":""},null,null,null,null,null,null,null,null,null,null,null,null,null,null,null,null,null,null,null,"Pâques",{"$f":"DATE(Année,3,29.56+0.979*MOD(204-11*MOD(Année,19),30)-\nWEEKDAY(DATE(Année,3,28.56+0.979*MOD(204-11*MOD(Année,19),30))))","v":"2019-04-21"},"Date fixe 24 juin"]
[{"$f":"$B$10","v":"2019-03-25"},0.35416666666666669,0.5,0.52083333333333337,0.6875,null,null,{"$f":"IF(ISNA(VLOOKUP($A16,$AF$12:$AH$29,3,FALSE)),IF($I16=\"CONGÉ\",'Congés de l''employé'!$E$16,IF($I16=\"Demi congé\",'Congés de l''employé'!$BU$16,IF($I16=\"MALADIE\",'Congés de l''employé'!$E$18,IF($I16=\"Demi maladie\",'Congés de l''employé'!$BU$18,MOD($E16-($B16-($C16-$D16))+($G16-$F16),1))))),VLOOKUP($A16,$AF$12:$AH$29,3,FALSE))","v":0.31249999999999994},null,null,{"$f":"IF(I16<>\"\",1+MAX($L$14:L14),\"\")","v":""},null,null,null,null,null,null,null,null,null,null,null,null,null,null,null,null,null,null,"Avril","Lundi de pâques",{"$f":"AF15+1","v":"2019-04-22"},"Date fixe 1er juillet"]
[{"$f":"$B$10+1","v":"2019-03-26"},0.39583333333333331,0.5,0.52083333333333337,0.8125,null,null,{"$f":"IF(ISNA(VLOOKUP($A17,$AF$12:$AH$29,3,FALSE)),IF($I17=\"CONGÉ\",'Congés de l''employé'!$E$16,IF($I17=\"Demi congé\",'Congés de l''employé'!$BU$16,IF($I17=\"MALADIE\",'Congés de l''employé'!$E$18,IF($I17=\"Demi maladie\",'Congés de l''employé'!$BU$18,MOD($E17-($B17-($C17-$D17))+($G17-$F17),1))))),VLOOKUP($A17,$AF$12:$AH$29,3,FALSE))","v":0.39583333333333331},null,null,{"$f":"IF(I17<>\"\",1+MAX($K$14:K15),\"\")","v":""},null,null,null,null,null,null,null,null,null,null,null,null,null,null,null,null,null,null,"Mai","Journée nationale des patriotes",{"$f":"DATE(Année,5,23)-WEEKDAY(DATE(Année,5,1),2)","v":"2019-05-20"},null,{"$f":"Edit!M30","v":0}]
[{"$f":"$B$10+2","v":"2019-03-27"},0.35416666666666669,0.5,0.52083333333333337,0.6875,null,null,{"$f":"IF(ISNA(VLOOKUP($A18,$AF$12:$AH$29,3,FALSE)),IF($I18=\"CONGÉ\",'Congés de l''employé'!$E$16,IF($I18=\"Demi congé\",'Congés de l''employé'!$BU$16,IF($I18=\"MALADIE\",'Congés de l''employé'!$E$18,IF($I18=\"Demi maladie\",'Congés de l''employé'!$BU$18,MOD($E18-($B18-($C18-$D18))+($G18-$F18),1))))),VLOOKUP($A18,$AF$12:$AH$29,3,FALSE))","v":0.31249999999999994},null,null,{"$f":"IF(I18<>\"\",1+MAX($K$14:K16),\"\")","v":""},null,null,null,null,null,null,null,null,null,null,null,null,null,null,null,null,null,null,"Juin","Fête nationale du Québec",{"$f":"DATE(Année,6,24)","v":"2019-06-24"},null,{"$f":"Edit!M31","v":0}]
[{"$f":"$B$10+3","v":"2019-03-28"},0.375,null,null,0.5,null,null,{"$f":"IF(ISNA(VLOOKUP($A19,$AF$12:$AH$29,3,FALSE)),IF($I19=\"CONGÉ\",'Congés de l''employé'!$E$16,IF($I19=\"Demi congé\",'Congés de l''employé'!$BU$16,IF($I19=\"MALADIE\",'Congés de l''employé'!$E$18,IF($I19=\"Demi maladie\",'Congés de l''employé'!$BU$18,MOD($E19-($B19-($C19-$D19))+($G19-$F19),1))))),VLOOKUP($A19,$AF$12:$AH$29,3,FALSE))","v":0.125},null,null,{"$f":"IF(I19<>\"\",1+MAX($K$14:K17),\"\")","v":""},null,null,null,null,null,null,null,null,null,null,null,null,null,null,null,null,null,null,null,"FÉRIÉ-JOUR OUVRABLE SUIVANT LA FÊTE NATIONALE DU QUÉBEC",{"$f":"AF18+2-WEEKDAY(AF18)+(WEEKDAY(AF18)>2)*7","v":"2019-06-24"},"Date fixe 25 décembre"]
[{"$f":"$B$10+4","v":"2019-03-29"},0.47916666666666669,null,null,0.6875,0.79166666666666663,0.875,{"$f":"IF(ISNA(VLOOKUP($A20,$AF$12:$AH$29,3,FALSE)),IF($I20=\"CONGÉ\",'Congés de l''employé'!$E$16,IF($I20=\"Demi congé\",'Congés de l''employé'!$BU$16,IF($I20=\"MALADIE\",'Congés de l''employé'!$E$18,IF($I20=\"Demi maladie\",'Congés de l''employé'!$BU$18,MOD($E20-($B20-($C20-$D20))+($G20-$F20),1))))),VLOOKUP($A20,$AF$12:$AH$29,3,FALSE))","v":0.29166666666666669},null,null,{"$f":"IF(I20<>\"\",1+MAX($K$14:K18),\"\")","v":""},null,null,null,null,null,null,null,null,null,null,null,null,null,null,null,null,null,null,"Juillet","Fête du Canada",{"$f":"DATE(Année,7,1)","v":"2019-07-01"},null,{"$f":"Edit!M32","v":1.1253746147756614E-210}]
[{"$f":"$B$10+5","v":"2019-03-30"},null,null,null,null,null,null,{"$f":"IF(ISNA(VLOOKUP($A21,$AF$12:$AH$29,3,FALSE)),IF($I21=\"CONGÉ\",'Congés de l''employé'!$E$16,IF($I21=\"Demi congé\",'Congés de l''employé'!$BU$16,IF($I21=\"MALADIE\",'Congés de l''employé'!$E$18,IF($I21=\"Demi maladie\",'Congés de l''employé'!$BU$18,MOD($E21-($B21-($C21-$D21))+($G21-$F21),1))))),VLOOKUP($A21,$AF$12:$AH$29,3,FALSE))","v":0},null,null,{"$f":"IF(I21<>\"\",1+MAX($K$14:K19),\"\")","v":""},null,null,null,null,null,null,null,null,null,null,null,null,null,null,null,null,null,null,null,"FÉRIÉ-JOUR OUVRABLE SUIVANT LA FÊTE DU CANADA",{"$f":"AF20+2-WEEKDAY(AF20)+(WEEKDAY(AF20)>2)*7","v":"2019-07-01"}]
[{"$f":"$B$10+6","v":"2019-03-31"},null,null,null,null,0.45833333333333331,0.58333333333333337,{"$f":"IF(ISNA(VLOOKUP($A22,$AF$12:$AH$29,3,FALSE)),IF($I22=\"CONGÉ\",'Congés de l''employé'!$E$16,IF($I22=\"Demi congé\",'Congés de l''employé'!$BU$16,IF($I22=\"MALADIE\",'Congés de l''employé'!$E$18,IF($I22=\"Demi maladie\",'Congés de l''employé'!$BU$18,MOD($E22-($B22-($C22-$D22))+($G22-$F22),1))))),VLOOKUP($A22,$AF$12:$AH$29,3,FALSE))","v":0.12500000000000006},null,null,{"$f":"IF(I22<>\"\",1+MAX($K$14:K20),\"\")","v":""},null,null,null,null,null,null,null,null,null,null,null,null,null,null,null,null,null,null,"Septembre","Fête du travail",{"$f":"IF(MOD(DATE(Année,9,1),7)<=2,2-MOD(DATE(Année,9,1),7),9-MOD(DATE(Année,9,1),7))+DATE(Année,9,1)","v":"2019-09-01"},null,{"$f":"Edit!M33","v":0}]
[null,null,null,null,null,null,null,{"$f":"SUM(H16:H22)+B23","v":1.5625},null,null,{"$f":"IF(I23<>\"\",1+MAX($K$14:K21),\"\")","v":""},null,null,null,null,null,null,null,null,null,null,null,null,null,null,null,null,null,null,null,"FÉRIÉ-JOUR OUVRABLE SUIVANT LA FÊTE DU TRAVAIL",{"$f":"AF22+2-WEEKDAY(AF22)+(WEEKDAY(AF22)>2)*7","v":"2019-09-02"}]
[null,null,null,null,null,null,null,null,null,null,{"$f":"IF(I24<>\"\",1+MAX($K$14:K22),\"\")","v":""},null,null,null,null,null,null,null,null,null,null,null,null,null,null,null,null,null,null,"Octobre","Action de grâce",{"$f":"DATE(AF10,10,1)","v":"2019-10-01"},null,{"$f":"Edit!M34","v":0}]
[null,null,null,null,null,null,null,null,null,null,{"$f":"IF(I25<>\"\",1+MAX($K$14:K23),\"\")","v":""},null,null,null,null,null,null,null,null,null,null,null,null,null,null,null,null,null,null,null,"FÉRIÉ-JOUR OUVRABLE SUIVANT L'ACTION DE GRÂCE",{"$f":"AF24-DAY(AF24)-WEEKDAY(AF24-DAY(AF24),2)+15","v":"2019-10-14"}]
[null,null,null,null,null,null,"Heures en trop\nou en moins",{"$f":"IF(OR(H23=-(B15),B15=0),\"0\",(H23-B15))","v":"0"},null,null,{"$f":"IF(I26<>\"\",1+MAX($K$14:K24),\"\")","v":""},null,null,null,null,null,null,null,null,null,null,null,null,null,null,null,null,null,null,null,"Bureau fermé congé donné",{"$f":"DATE(Année,12,25)-1","v":"2019-12-24"},null,{"$f":"'[1]Congés de l''employé'!$E$14","v":0}]
[null,null,null,null,null,null,null,null,null,null,{"$f":"IF(I27<>\"\",1+MAX($K$14:K25),\"\")","v":""},null,null,null,null,null,null,null,null,null,null,null,null,null,null,null,null,null,null,"Décembre","Férié-Noël",{"$f":"DATE(Année,12,25)","v":"2019-12-25"},null,{"$f":"Edit!M35","v":0}]
["Horaire Semaine 2",null,null,null,null,null,null,null,null,null,{"$f":"IF(I28<>\"\",1+MAX($K$14:K26),\"\")","v":""},null,null,null,null,null,null,null,null,null,null,null,null,null,null,null,null,null,null,"Décembre","Bureau fermé congé donné",{"$f":"DATE(Année,12,25)+1","v":"2019-12-26"}]
[{"$f":"B10+7","v":"2019-04-01"},0.35416666666666669,0.5,0.52083333333333337,0.6875,null,null,{"$f":"IF(ISNA(VLOOKUP($A29,$AF$12:$AH$29,3,FALSE)),IF($I29=\"CONGÉ\",'Congés de l''employé'!$E$16,IF($I29=\"Demi congé\",'Congés de l''employé'!$BU$16,IF($I29=\"MALADIE\",'Congés de l''employé'!$E$18,IF($I29=\"Demi maladie\",'Congés de l''employé'!$BU$18,MOD($E29-($B29-($C29-$D29))+($G29-$F29),1))))),VLOOKUP($A29,$AF$12:$AH$29,3,FALSE))","v":0.31249999999999994},null,null,{"$f":"IF(I29<>\"\",1+MAX($K$14:K28),\"\")","v":""},null,null,null,null,null,null,null,null,null,null,null,null,null,null,null,null,null,null,"Décembre","Bureau fermé congé donné",{"$f":"AF11+2-WEEKDAY(AF11)+(WEEKDAY(AF11)>2)-1","v":"2018-12-31"}]
[{"$f":"B10+8","v":"2019-04-02"},0.39583333333333331,0.5,0.52083333333333337,0.8125,null,null,{"$f":"IF(ISNA(VLOOKUP($A30,$AF$12:$AH$29,3,FALSE)),IF($I30=\"CONGÉ\",'Congés de l''employé'!$E$16,IF($I30=\"Demi congé\",'Congés de l''employé'!$BU$16,IF($I30=\"MALADIE\",'Congés de l''employé'!$E$18,IF($I30=\"Demi maladie\",'Congés de l''employé'!$BU$18,MOD($E30-($B30-($C30-$D30))+($G30-$F30),1))))),VLOOKUP($A30,$AF$12:$AH$29,3,FALSE))","v":0.39583333333333331},null,null,{"$f":"IF(I30<>\"\",1+MAX($K$14:K29),\"\")","v":""}]
[{"$f":"B10+9","v":"2019-04-03"},0.35416666666666669,0.5,0.52083333333333337,0.6875,null,null,{"$f":"IF(ISNA(VLOOKUP($A31,$AF$12:$AH$29,3,FALSE)),IF($I31=\"CONGÉ\",'Congés de l''employé'!$E$16,IF($I31=\"Demi congé\",'Congés de l''employé'!$BU$16,IF($I31=\"MALADIE\",'Congés de l''employé'!$E$18,IF($I31=\"Demi maladie\",'Congés de l''employé'!$BU$18,MOD($E31-($B31-($C31-$D31))+($G31-$F31),1))))),VLOOKUP($A31,$AF$12:$AH$29,3,FALSE))","v":0.31249999999999994},null,null,{"$f":"IF(I31<>\"\",1+MAX($K$14:K30),\"\")","v":""}]
[{"$f":"B10+10","v":"2019-04-04"},0.375,null,null,0.5,null,null,{"$f":"IF(ISNA(VLOOKUP($A32,$AF$12:$AH$29,3,FALSE)),IF($I32=\"CONGÉ\",'Congés de l''employé'!$E$16,IF($I32=\"Demi congé\",'Congés de l''employé'!$BU$16,IF($I32=\"MALADIE\",'Congés de l''employé'!$E$18,IF($I32=\"Demi maladie\",'Congés de l''employé'!$BU$18,MOD($E32-($B32-($C32-$D32))+($G32-$F32),1))))),VLOOKUP($A32,$AF$12:$AH$29,3,FALSE))","v":0.125},null,null,{"$f":"IF(I32<>\"\",1+MAX($K$14:K31),\"\")","v":""}]
[{"$f":"B10+11","v":"2019-04-05"},0.47916666666666669,null,null,0.6875,0.79166666666666663,0.875,{"$f":"IF(ISNA(VLOOKUP($A33,$AF$12:$AH$29,3,FALSE)),IF($I33=\"CONGÉ\",'Congés de l''employé'!$E$16,IF($I33=\"Demi congé\",'Congés de l''employé'!$BU$16,IF($I33=\"MALADIE\",'Congés de l''employé'!$E$18,IF($I33=\"Demi maladie\",'Congés de l''employé'!$BU$18,MOD($E33-($B33-($C33-$D33))+($G33-$F33),1))))),VLOOKUP($A33,$AF$12:$AH$29,3,FALSE))","v":0.29166666666666669},null,null,{"$f":"IF(I33<>\"\",1+MAX($K$14:K32),\"\")","v":""}]
[{"$f":"B10+12","v":"2019-04-06"},null,null,null,null,null,null,{"$f":"IF(ISNA(VLOOKUP($A34,$AF$12:$AH$29,3,FALSE)),IF($I34=\"CONGÉ\",'Congés de l''employé'!$E$16,IF($I34=\"Demi congé\",'Congés de l''employé'!$BU$16,IF($I34=\"MALADIE\",'Congés de l''employé'!$E$18,IF($I34=\"Demi maladie\",'Congés de l''employé'!$BU$18,MOD($E34-($B34-($C34-$D34))+($G34-$F34),1))))),VLOOKUP($A34,$AF$12:$AH$29,3,FALSE))","v":0},null,null,{"$f":"IF(I34<>\"\",1+MAX($K$14:K33),\"\")","v":""}]
[{"$f":"B10+13","v":"2019-04-07"},null,null,null,null,0.45833333333333331,0.58333333333333337,{"$f":"IF(ISNA(VLOOKUP($A35,$AF$12:$AH$29,3,FALSE)),IF($I35=\"CONGÉ\",'Congés de l''employé'!$E$16,IF($I35=\"Demi congé\",'Congés de l''employé'!$BU$16,IF($I35=\"MALADIE\",'Congés de l''employé'!$E$18,IF($I35=\"Demi maladie\",'Congés de l''employé'!$BU$18,MOD($E35-($B35-($C35-$D35))+($G35-$F35),1))))),VLOOKUP($A35,$AF$12:$AH$29,3,FALSE))","v":0.12500000000000006},null,null,{"$f":"IF(I35<>\"\",1+MAX($K$14:K34),\"\")","v":""}]
[null,null,null,null,null,null,null,{"$f":"SUM(H29:H35)+B36","v":1.5625}]
[]
[null,null,null,null,null,null,"Heures en trop\nou en moins",{"$f":"IF(OR(H36=-(B28),B28=0),\"0\",(H36-B28))","v":"0"}]
[]
["Heure travaillées","Heures prévues","ENTREZ le nombre d'heures à payer","Heures\n supplémentaires ou en moins","Heures à \ntransposer dans la Banque","Total de la Banque d'heures"]
[{"$f":"$H$23+$H$36","v":3.125},{"$f":"'Congés de l''employé'!BU8*2","v":2.9166666666666665},{"$f":"A41","v":3.125},{"$f":"IF($H$26>0,$H$26)+IF($H$38>0,$H$38,0)+IF($H$26<0,$H$26)+IF($H$38<0,$H$38,0)","v":0},{"$f":"$A$41-$C$41","v":0},{"$f":"SUM('Mars - 3e-4e semaine'!F41:G42)+E41","v":0}]

{"sheet":"Avril - 2e-3e semaine","index":15,"n_rows":41,"n_cols":34,"rows_kept":41,"cut":false,"hidden":false,"merged":[[1,1,5,7],[40,0,41,0],[40,1,41,1],[40,2,41,2],[40,3,41,3],[40,4,41,4],[7,29,7,31],[42,1,42,2],[7,4,7,7],[9,1,9,3],[39,5,39,6],[40,5,41,6]]}
[{"$f":"MID(CELL(\"filename\",A1),FIND(\"]\",CELL(\"filename\",A1))+1,32)","v":"Avril - 2e-3e semaine"}]
[null,"       Feuille de temps"]
[]
[]
[]
[]
[]
[null,null,null,null,null,null,null,null,null,null,null,null,null,null,null,null,null,null,null,null,null,null,null,null,null,null,null,null,null,"Congés fériés, lundi suivant la date"]
["Employé: ",{"$f":"'Congés de l''employé'!B8","v":0},null,null,null,null,null,null,null,null,null,null,null,null,null,null,null,null,null,null,null,null,null,null,null,null,null,null,null,"Mois","Type de congé férié","Année en cours"]
["Période débutant le ",{"$f":"DATE(An_ref,1,-2)-WEEKDAY(DATE(An_ref,1,3))+105","v":"2019-04-08"},null,null,null,null,null,null,null,null,null,null,null,null,null,null,null,null,null,null,null,null,null,null,null,null,null,{"$f":"OR(B11=$AF$12,B11=$AF$13,B11=$AF$14,B11=$AF$16,B11=$AF$17,B11=$AF$19,B11=$AF$21,B11=$AF$23,B11=$AF$25,B11=$AF$26,B11=$AF$27,B11=$AF$28)","v":false},null,null,null,{"$f":"An_ref","v":2019},null,"alloué au férié"]
[null,null,null,null,null,null,null,null,null,null,null,null,null,null,null,null,null,null,null,null,null,null,null,null,null,null,null,null,null,"Janvier","Jour de l'an",{"$f":"DATE(Année,1,1)","v":"2019-01-01"},"Date fixe 1er janvier"]
[null,null,null,null,null,null,null,null,null,null,null,null,null,null,null,null,null,null,null,null,null,null,null,null,null,null,null,null,null,null,"FÉRIÉ-JOUR OUVRABLE SUIVANT LE JOUR DE L'AN",{"$f":"AF11+2-WEEKDAY(AF11)+(WEEKDAY(AF11)>2)","v":"2019-01-01"},null,{"$f":"Edit!M27","v":1.4947183619464715E-188}]
["Jour","Heure\nDébut","Départ\nDiner","Retour\nDiner","Heure\nFin","Télétravail\nDépart","Télétravail\nFin","TOTAL\nJournalier","Absence",null,"Index de la ligne",null,null,null,null,null,null,null,null,null,null,null,null,null,null,null,null,null,null,null,"Bureau fermé congé donné-un jour après le jour de l'an",{"$f":"AF11+2-WEEKDAY(AF11)+(WEEKDAY(AF11)>2)+1","v":"2019-01-02"}]
[null,null,null,null,null,null,null,null,null,null,null,{"$f":"MAX('Fin Mars-Avril - prem. semaine'!K16:K35)","v":"1904-01-01"},null,null,null,null,null,null,null,null,null,null,null,null,null,null,null,null,null,"Mars","Bureau fermé congé donné-un jour ouvré avant Pâques",{"$f":"AF15-2","v":"2019-04-19"},"3e lundi de mai",{"$f":"Edit!M28","v":0.3289473684210526}]
["Horaire Semaine 1",null,null,null,null,null,null,null,null,null,{"$f":"IF(COUNTIF(I16,\"X\"),MAX($K$13:K13)+1,\"\")","v":""},null,null,null,null,null,null,null,null,null,null,null,null,null,null,null,null,null,null,null,"Pâques",{"$f":"DATE(Année,3,29.56+0.979*MOD(204-11*MOD(Année,19),30)-\nWEEKDAY(DATE(Année,3,28.56+0.979*MOD(204-11*MOD(Année,19),30))))","v":"2019-04-21"},"Date fixe 24 juin"]
[{"$f":"$B$10","v":"2019-04-08"},0.35416666666666669,0.5,0.52083333333333337,0.6875,null,null,{"$f":"IF(ISNA(VLOOKUP($A16,$AF$12:$AH$29,3,FALSE)),IF($I16=\"CONGÉ\",'Congés de l''employé'!$E$16,IF($I16=\"Demi congé\",'Congés de l''employé'!$BU$16,IF($I16=\"MALADIE\",'Congés de l''employé'!$E$18,IF($I16=\"Demi maladie\",'Congés de l''employé'!$BU$18,MOD($E16-($B16-($C16-$D16))+($G16-$F16),1))))),VLOOKUP($A16,$AF$12:$AH$29,3,FALSE))","v":0.31249999999999994},null,null,{"$f":"IF(I16<>\"\",1+MAX($L$14:L14),\"\")","v":""},null,null,null,null,null,null,null,null,null,null,null,null,null,null,null,null,null,null,"Avril","Lundi de pâques",{"$f":"AF15+1","v":"2019-04-22"},"Date fixe 1er juillet"]
[{"$f":"$B$10+1","v":"2019-04-09"},0.39583333333333331,0.5,0.52083333333333337,0.8125,null,null,{"$f":"IF(ISNA(VLOOKUP($A17,$AF$12:$AH$29,3,FALSE)),IF($I17=\"CONGÉ\",'Congés de l''employé'!$E$16,IF($I17=\"Demi congé\",'Congés de l''employé'!$BU$16,IF($I17=\"MALADIE\",'Congés de l''employé'!$E$18,IF($I17=\"Demi maladie\",'Congés de l''employé'!$BU$18,MOD($E17-($B17-($C17-$D17))+($G17-$F17),1))))),VLOOKUP($A17,$AF$12:$AH$29,3,FALSE))","v":0.39583333333333331},null,null,{"$f":"IF(I17<>\"\",1+MAX($K$14:K15),\"\")","v":""},null,null,null,null,null,null,null,null,null,null,null,null,null,null,null,null,null,null,"Mai","Journée nationale des patriotes",{"$f":"DATE(Année,5,23)-WEEKDAY(DATE(Année,5,1),2)","v":"2019-05-20"},null,{"$f":"Edit!M30","v":0}]
[{"$f":"$B$10+2","v":"2019-04-10"},0.35416666666666669,0.5,0.52083333333333337,0.6875,null,null,{"$f":"IF(ISNA(VLOOKUP($A18,$AF$12:$AH$29,3,FALSE)),IF($I18=\"CONGÉ\",'Congés de l''employé'!$E$16,IF($I18=\"Demi congé\",'Congés de l''employé'!$BU$16,IF($I18=\"MALADIE\",'Congés de l''employé'!$E$18,IF($I18=\"Demi maladie\",'Congés de l''employé'!$BU$18,MOD($E18-($B18-($C18-$D18))+($G18-$F18),1))))),VLOOKUP($A18,$AF$12:$AH$29,3,FALSE))","v":0.31249999999999994},null,null,{"$f":"IF(I18<>\"\",1+MAX($K$14:K16),\"\")","v":""},null,null,null,null,null,null,null,null,null,null,null,null,null,null,null,null,null,null,"Juin","Fête nationale du Québec",{"$f":"DATE(Année,6,24)","v":"2019-06-24"},null,{"$f":"Edit!M31","v":0}]
[{"$f":"$B$10+3","v":"2019-04-11"},0.375,null,null,0.5,null,null,{"$f":"IF(ISNA(VLOOKUP($A19,$AF$12:$AH$29,3,FALSE)),IF($I19=\"CONGÉ\",'Congés de l''employé'!$E$16,IF($I19=\"Demi congé\",'Congés de l''employé'!$BU$16,IF($I19=\"MALADIE\",'Congés de l''employé'!$E$18,IF($I19=\"Demi maladie\",'Congés de l''employé'!$BU$18,MOD($E19-($B19-($C19-$D19))+($G19-$F19),1))))),VLOOKUP($A19,$AF$12:$AH$29,3,FALSE))","v":0.125},null,null,{"$f":"IF(I19<>\"\",1+MAX($K$14:K17),\"\")","v":""},null,null,null,null,null,null,null,null,null,null,null,null,null,null,null,null,null,null,null,"FÉRIÉ-JOUR OUVRABLE SUIVANT LA FÊTE NATIONALE DU QUÉBEC",{"$f":"AF18+2-WEEKDAY(AF18)+(WEEKDAY(AF18)>2)*7","v":"2019-06-24"},"Date fixe 25 décembre"]
[{"$f":"$B$10+4","v":"2019-04-12"},0.47916666666666669,null,null,0.6875,0.79166666666666663,0.875,{"$f":"IF(ISNA(VLOOKUP($A20,$AF$12:$AH$29,3,FALSE)),IF($I20=\"CONGÉ\",'Congés de l''employé'!$E$16,IF($I20=\"Demi congé\",'Congés de l''employé'!$BU$16,IF($I20=\"MALADIE\",'Congés de l''employé'!$E$18,IF($I20=\"Demi maladie\",'Congés de l''employé'!$BU$18,MOD($E20-($B20-($C20-$D20))+($G20-$F20),1))))),VLOOKUP($A20,$AF$12:$AH$29,3,FALSE))","v":0.29166666666666669},null,null,{"$f":"IF(I20<>\"\",1+MAX($K$14:K18),\"\")","v":""},null,null,null,null,null,null,null,null,null,null,null,null,null,null,null,null,null,null,"Juillet","Fête du Canada",{"$f":"DATE(Année,7,1)","v":"2019-07-01"},null,{"$f":"Edit!M32","v":1.1253746147756614E-210}]
[{"$f":"$B$10+5","v":"2019-04-13"},null,null,null,null,null,null,{"$f":"IF(ISNA(VLOOKUP($A21,$AF$12:$AH$29,3,FALSE)),IF($I21=\"CONGÉ\",'Congés de l''employé'!$E$16,IF($I21=\"Demi congé\",'Congés de l''employé'!$BU$16,IF($I21=\"MALADIE\",'Congés de l''employé'!$E$18,IF($I21=\"Demi maladie\",'Congés de l''employé'!$BU$18,MOD($E21-($B21-($C21-$D21))+($G21-$F21),1))))),VLOOKUP($A21,$AF$12:$AH$29,3,FALSE))","v":0},null,null,{"$f":"IF(I21<>\"\",1+MAX($K$14:K19),\"\")","v":""},null,null,null,null,null,null,null,null,null,null,null,null,null,null,null,null,null,null,null,"FÉRIÉ-JOUR OUVRABLE SUIVANT LA FÊTE DU CANADA",{"$f":"AF20+2-WEEKDAY(AF20)+(WEEKDAY(AF20)>2)*7","v":"2019-07-01"}]
[{"$f":"$B$10+6","v":"2019-04-14"},null,null,null,null,0.45833333333333331,0.58333333333333337,{"$f":"IF(ISNA(VLOOKUP($A22,$AF$12:$AH$29,3,FALSE)),IF($I22=\"CONGÉ\",'Congés de l''employé'!$E$16,IF($I22=\"Demi congé\",'Congés de l''employé'!$BU$16,IF($I22=\"MALADIE\",'Congés de l''employé'!$E$18,IF($I22=\"Demi maladie\",'Congés de l''employé'!$BU$18,MOD($E22-($B22-($C22-$D22))+($G22-$F22),1))))),VLOOKUP($A22,$AF$12:$AH$29,3,FALSE))","v":0.12500000000000006},null,null,{"$f":"IF(I22<>\"\",1+MAX($K$14:K20),\"\")","v":""},null,null,null,null,null,null,null,null,null,null,null,null,null,null,null,null,null,null,"Septembre","Fête du travail",{"$f":"IF(MOD(DATE(Année,9,1),7)<=2,2-MOD(DATE(Année,9,1),7),9-MOD(DATE(Année,9,1),7))+DATE(Année,9,1)","v":"2019-09-01"},null,{"$f":"Edit!M33","v":0}]
[null,null,null,null,null,null,null,{"$f":"SUM(H16:H22)+B23","v":1.5625},null,null,{"$f":"IF(I23<>\"\",1+MAX($K$14:K21),\"\")","v":""},null,null,null,null,null,null,null,null,null,null,null,null,null,null,null,null,null,null,null,"FÉRIÉ-JOUR OUVRABLE SUIVANT LA FÊTE DU TRAVAIL",{"$f":"AF22+2-WEEKDAY(AF22)+(WEEKDAY(AF22)>2)*7","v":"2019-09-02"}]
[null,null,null,null,null,null,null,null,null,null,{"$f":"IF(I24<>\"\",1+MAX($K$14:K22),\"\")","v":""},null,null,null,null,null,null,null,null,null,null,null,null,null,null,null,null,null,null,"Octobre","Action de grâce",{"$f":"DATE(AF10,10,1)","v":"2019-10-01"},null,{"$f":"Edit!M34","v":0}]
[null,null,null,null,null,null,null,null,null,null,{"$f":"IF(I25<>\"\",1+MAX($K$14:K23),\"\")","v":""},null,null,null,null,null,null,null,null,null,null,null,null,null,null,null,null,null,null,null,"FÉRIÉ-JOUR OUVRABLE SUIVANT L'ACTION DE GRÂCE",{"$f":"AF24-DAY(AF24)-WEEKDAY(AF24-DAY(AF24),2)+15","v":"2019-10-14"}]
[null,null,null,null,null,null,"Heures en trop\nou en moins",{"$f":"IF(OR(H23=-(B15),B15=0),\"0\",(H23-B15))","v":"0"},null,null,{"$f":"IF(I26<>\"\",1+MAX($K$14:K24),\"\")","v":""},null,null,null,null,null,null,null,null,null,null,null,null,null,null,null,null,null,null,null,"Bureau fermé congé donné",{"$f":"DATE(Année,12,25)-1","v":"2019-12-24"},null,{"$f":"'[1]Congés de l''employé'!$E$14","v":0}]
[null,null,null,null,null,null,null,null,null,null,{"$f":"IF(I27<>\"\",1+MAX($K$14:K25),\"\")","v":""},null,null,null,null,null,null,null,null,null,null,null,null,null,null,null,null,null,null,"Décembre","Férié-Noël",{"$f":"DATE(Année,12,25)","v":"2019-12-25"},null,{"$f":"Edit!M35","v":0}]
["Horaire Semaine 2",null,null,null,null,null,null,null,null,null,{"$f":"IF(I28<>\"\",1+MAX($K$14:K26),\"\")","v":""},null,null,null,null,null,null,null,null,null,null,null,null,null,null,null,null,null,null,"Décembre","Bureau fermé congé donné",{"$f":"DATE(Année,12,25)+1","v":"2019-12-26"}]
[{"$f":"B10+7","v":"2019-04-15"},0.35416666666666669,0.5,0.52083333333333337,0.6875,null,null,{"$f":"IF(ISNA(VLOOKUP($A29,$AF$12:$AH$29,3,FALSE)),IF($I29=\"CONGÉ\",'Congés de l''employé'!$E$16,IF($I29=\"Demi congé\",'Congés de l''employé'!$BU$16,IF($I29=\"MALADIE\",'Congés de l''employé'!$E$18,IF($I29=\"Demi maladie\",'Congés de l''employé'!$BU$18,MOD($E29-($B29-($C29-$D29))+($G29-$F29),1))))),VLOOKUP($A29,$AF$12:$AH$29,3,FALSE))","v":0.31249999999999994},null,null,{"$f":"IF(I29<>\"\",1+MAX($K$14:K28),\"\")","v":""},null,null,null,null,null,null,null,null,null,null,null,null,null,null,null,null,null,null,"Décembre","Bureau fermé congé donné",{"$f":"AF11+2-WEEKDAY(AF11)+(WEEKDAY(AF11)>2)-1","v":"2018-12-31"}]
[{"$f":"B10+8","v":"2019-04-16"},0.39583333333333331,0.5,0.52083333333333337,0.8125,null,null,{"$f":"IF(ISNA(VLOOKUP($A30,$AF$12:$AH$29,3,FALSE)),IF($I30=\"CONGÉ\",'Congés de l''employé'!$E$16,IF($I30=\"Demi congé\",'Congés de l''employé'!$BU$16,IF($I30=\"MALADIE\",'Congés de l''employé'!$E$18,IF($I30=\"Demi maladie\",'Congés de l''employé'!$BU$18,MOD($E30-($B30-($C30-$D30))+($G30-$F30),1))))),VLOOKUP($A30,$AF$12:$AH$29,3,FALSE))","v":0.39583333333333331},null,null,{"$f":"IF(I30<>\"\",1+MAX($K$14:K29),\"\")","v":""}]
[{"$f":"B10+9","v":"2019-04-17"},0.35416666666666669,0.5,0.52083333333333337,0.6875,null,null,{"$f":"IF(ISNA(VLOOKUP($A31,$AF$12:$AH$29,3,FALSE)),IF($I31=\"CONGÉ\",'Congés de l''employé'!$E$16,IF($I31=\"Demi congé\",'Congés de l''employé'!$BU$16,IF($I31=\"MALADIE\",'Congés de l''employé'!$E$18,IF($I31=\"Demi maladie\",'Congés de l''employé'!$BU$18,MOD($E31-($B31-($C31-$D31))+($G31-$F31),1))))),VLOOKUP($A31,$AF$12:$AH$29,3,FALSE))","v":0.31249999999999994},null,null,{"$f":"IF(I31<>\"\",1+MAX($K$14:K30),\"\")","v":""}]
[{"$f":"B10+10","v":"2019-04-18"},0.375,null,null,0.5,null,null,{"$f":"IF(ISNA(VLOOKUP($A32,$AF$12:$AH$29,3,FALSE)),IF($I32=\"CONGÉ\",'Congés de l''employé'!$E$16,IF($I32=\"Demi congé\",'Congés de l''employé'!$BU$16,IF($I32=\"MALADIE\",'Congés de l''employé'!$E$18,IF($I32=\"Demi maladie\",'Congés de l''employé'!$BU$18,MOD($E32-($B32-($C32-$D32))+($G32-$F32),1))))),VLOOKUP($A32,$AF$12:$AH$29,3,FALSE))","v":0.125},null,null,{"$f":"IF(I32<>\"\",1+MAX($K$14:K31),\"\")","v":""}]
[{"$f":"B10+11","v":"2019-04-19"},0.47916666666666669,null,null,0.6875,0.79166666666666663,0.875,{"$f":"IF(ISNA(VLOOKUP($A33,$AF$12:$AH$29,3,FALSE)),IF($I33=\"CONGÉ\",'Congés de l''employé'!$E$16,IF($I33=\"Demi congé\",'Congés de l''employé'!$BU$16,IF($I33=\"MALADIE\",'Congés de l''employé'!$E$18,IF($I33=\"Demi maladie\",'Congés de l''employé'!$BU$18,MOD($E33-($B33-($C33-$D33))+($G33-$F33),1))))),VLOOKUP($A33,$AF$12:$AH$29,3,FALSE))","v":0.3289473684210526},null,null,{"$f":"IF(I33<>\"\",1+MAX($K$14:K32),\"\")","v":""}]
[{"$f":"B10+12","v":"2019-04-20"},null,null,null,null,null,null,{"$f":"IF(ISNA(VLOOKUP($A34,$AF$12:$AH$29,3,FALSE)),IF($I34=\"CONGÉ\",'Congés de l''employé'!$E$16,IF($I34=\"Demi congé\",'Congés de l''employé'!$BU$16,IF($I34=\"MALADIE\",'Congés de l''employé'!$E$18,IF($I34=\"Demi maladie\",'Congés de l''employé'!$BU$18,MOD($E34-($B34-($C34-$D34))+($G34-$F34),1))))),VLOOKUP($A34,$AF$12:$AH$29,3,FALSE))","v":0},null,null,{"$f":"IF(I34<>\"\",1+MAX($K$14:K33),\"\")","v":""}]
[{"$f":"B10+13","v":"2019-04-21"},null,null,null,null,0.45833333333333331,0.58333333333333337,{"$f":"IF(ISNA(VLOOKUP($A35,$AF$12:$AH$29,3,FALSE)),IF($I35=\"CONGÉ\",'Congés de l''employé'!$E$16,IF($I35=\"Demi congé\",'Congés de l''employé'!$BU$16,IF($I35=\"MALADIE\",'Congés de l''employé'!$E$18,IF($I35=\"Demi maladie\",'Congés de l''employé'!$BU$18,MOD($E35-($B35-($C35-$D35))+($G35-$F35),1))))),VLOOKUP($A35,$AF$12:$AH$29,3,FALSE))","v":0},null,null,{"$f":"IF(I35<>\"\",1+MAX($K$14:K34),\"\")","v":""}]
[null,null,null,null,null,null,null,{"$f":"SUM(H29:H35)+B36","v":1.4747807017543859}]
[]
[null,null,null,null,null,null,"Heures en trop\nou en moins",{"$f":"IF(OR(H36=-(B28),B28=0),\"0\",(H36-B28))","v":"0"}]
[]
["Heure travaillées","Heures prévues","ENTREZ le nombre d'heures à payer","Heures\n supplémentaires ou en moins","Heures à \ntransposer dans la Banque","Total de la Banque d'heures"]
[{"$f":"$H$23+$H$36","v":3.0372807017543861},{"$f":"'Congés de l''employé'!BU8*2","v":2.9166666666666665},{"$f":"A41","v":3.0372807017543861},{"$f":"IF($H$26>0,$H$26)+IF($H$38>0,$H$38,0)+IF($H$26<0,$H$26)+IF($H$38<0,$H$38,0)","v":0},{"$f":"$A$41-$C$41","v":0},{"$f":"SUM('Fin Mars-Avril - prem. semaine'!F41:G42)+E41","v":0}]

{"sheet":"Fin Avril-Mai - prem. semaine","index":16,"n_rows":41,"n_cols":34,"rows_kept":41,"cut":false,"hidden":false,"merged":[[1,1,5,7],[40,0,41,0],[40,1,41,1],[40,2,41,2],[40,3,41,3],[40,4,41,4],[7,29,7,31],[42,1,42,2],[7,4,7,7],[9,1,9,3],[39,5,39,6],[40,5,41,6]]}
[{"$f":"MID(CELL(\"filename\",A1),FIND(\"]\",CELL(\"filename\",A1))+1,32)","v":"Fin Avril-Mai - prem. semaine"}]
[null,"   Feuille de temps"]
[]
[]
[]
[]
[]
[null,null,null,null,null,null,null,null,null,null,null,null,null,null,null,null,null,null,null,null,null,null,null,null,null,null,null,null,null,"Congés fériés, lundi suivant la date"]
["Employé: ",{"$f":"'Congés de l''employé'!B8","v":0},null,null,null,null,null,null,null,null,null,null,null,null,null,null,null,null,null,null,null,null,null,null,null,null,null,null,null,"Mois","Type de congé férié","Année en cours"]
["Période débutant le ",{"$f":"DATE(An_ref,1,-2)-WEEKDAY(DATE(An_ref,1,3))+119","v":"2019-04-22"},null,null,null,null,null,null,null,null,null,null,null,null,null,null,null,null,null,null,null,null,null,null,null,null,null,{"$f":"OR(B11=$AF$12,B11=$AF$13,B11=$AF$14,B11=$AF$16,B11=$AF$17,B11=$AF$19,B11=$AF$21,B11=$AF$23,B11=$AF$25,B11=$AF$26,B11=$AF$27,B11=$AF$28)","v":false},null,null,null,{"$f":"An_ref","v":2019},null,"alloué au férié"]
[null,null,null,null,null,null,null,null,null,null,null,null,null,null,null,null,null,null,null,null,null,null,null,null,null,null,null,null,null,"Janvier","Jour de l'an",{"$f":"DATE(Année,1,1)","v":"2019-01-01"},"Date fixe 1er janvier"]
[null,null,null,null,null,null,null,null,null,null,null,null,null,null,null,null,null,null,null,null,null,null,null,null,null,null,null,null,null,null,"FÉRIÉ-JOUR OUVRABLE SUIVANT LE JOUR DE L'AN",{"$f":"AF11+2-WEEKDAY(AF11)+(WEEKDAY(AF11)>2)","v":"2019-01-01"},null,{"$f":"Edit!M27","v":7.4735918097323577E-190}]
["Jour","Heure\nDébut","Départ\nDiner","Retour\nDiner","Heure\nFin","Télétravail\nDépart","Télétravail\nFin","TOTAL\nJournalier","Absence",null,"Index de la ligne",null,null,null,null,null,null,null,null,null,null,null,null,null,null,null,null,null,null,null,"Bureau fermé congé donné-un jour après le jour de l'an",{"$f":"AF11+2-WEEKDAY(AF11)+(WEEKDAY(AF11)>2)+1","v":"2019-01-02"}]
[null,null,null,null,null,null,null,null,null,null,null,{"$f":"MAX('Avril - 2e-3e semaine'!K16:K35)","v":"1904-01-01"},null,null,null,null,null,null,null,null,null,null,null,null,null,null,null,null,null,"Mars","Bureau fermé congé donné-un jour ouvré avant Pâques",{"$f":"AF15-2","v":"2019-04-19"},"3e lundi de mai",{"$f":"Edit!M28","v":0.3289473684210526}]
["Horaire Semaine 1",null,null,null,null,null,null,null,null,null,{"$f":"IF(COUNTIF(I16,\"X\"),MAX($K$13:K13)+1,\"\")","v":""},null,null,null,null,null,null,null,null,null,null,null,null,null,null,null,null,null,null,null,"Pâques",{"$f":"DATE(Année,3,29.56+0.979*MOD(204-11*MOD(Année,19),30)-\nWEEKDAY(DATE(Année,3,28.56+0.979*MOD(204-11*MOD(Année,19),30))))","v":"2019-04-21"},"Date fixe 24 juin"]
[{"$f":"$B$10","v":"2019-04-22"},null,null,null,null,null,null,{"$f":"IF(ISNA(VLOOKUP($A16,$AF$12:$AH$29,3,FALSE)),IF($I16=\"CONGÉ\",'Congés de l''employé'!$E$16,IF($I16=\"Demi congé\",'Congés de l''employé'!$BU$16,IF($I16=\"MALADIE\",'Congés de l''employé'!$E$18,IF($I16=\"Demi maladie\",'Congés de l''employé'!$BU$18,MOD($E16-($B16-($C16-$D16))+($G16-$F16),1))))),VLOOKUP($A16,$AF$12:$AH$29,3,FALSE))","v":0},null,null,{"$f":"IF(I16<>\"\",1+MAX($L$14:L14),\"\")","v":""},null,null,null,null,null,null,null,null,null,null,null,null,null,null,null,null,null,null,"Avril","Lundi de pâques",{"$f":"AF15+1","v":"2019-04-22"},"Date fixe 1er juillet"]
[{"$f":"$B$10+1","v":"2019-04-23"},null,null,null,null,null,null,{"$f":"IF(ISNA(VLOOKUP($A17,$AF$12:$AH$29,3,FALSE)),IF($I17=\"CONGÉ\",'Congés de l''employé'!$E$16,IF($I17=\"Demi congé\",'Congés de l''employé'!$BU$16,IF($I17=\"MALADIE\",'Congés de l''employé'!$E$18,IF($I17=\"Demi maladie\",'Congés de l''employé'!$BU$18,MOD($E17-($B17-($C17-$D17))+($G17-$F17),1))))),VLOOKUP($A17,$AF$12:$AH$29,3,FALSE))","v":0},null,null,{"$f":"IF(I17<>\"\",1+MAX($K$14:K15),\"\")","v":""},null,null,null,null,null,null,null,null,null,null,null,null,null,null,null,null,null,null,"Mai","Journée nationale des patriotes",{"$f":"DATE(Année,5,23)-WEEKDAY(DATE(Année,5,1),2)","v":"2019-05-20"},null,{"$f":"Edit!M30","v":0}]
[{"$f":"$B$10+2","v":"2019-04-24"},null,null,null,null,null,null,{"$f":"IF(ISNA(VLOOKUP($A18,$AF$12:$AH$29,3,FALSE)),IF($I18=\"CONGÉ\",'Congés de l''employé'!$E$16,IF($I18=\"Demi congé\",'Congés de l''employé'!$BU$16,IF($I18=\"MALADIE\",'Congés de l''employé'!$E$18,IF($I18=\"Demi maladie\",'Congés de l''employé'!$BU$18,MOD($E18-($B18-($C18-$D18))+($G18-$F18),1))))),VLOOKUP($A18,$AF$12:$AH$29,3,FALSE))","v":0},null,null,{"$f":"IF(I18<>\"\",1+MAX($K$14:K16),\"\")","v":""},null,null,null,null,null,null,null,null,null,null,null,null,null,null,null,null,null,null,"Juin","Fête nationale du Québec",{"$f":"DATE(Année,6,24)","v":"2019-06-24"},null,{"$f":"Edit!M31","v":0}]
[{"$f":"$B$10+3","v":"2019-04-25"},null,null,null,null,null,null,{"$f":"IF(ISNA(VLOOKUP($A19,$AF$12:$AH$29,3,FALSE)),IF($I19=\"CONGÉ\",'Congés de l''employé'!$E$16,IF($I19=\"Demi congé\",'Congés de l''employé'!$BU$16,IF($I19=\"MALADIE\",'Congés de l''employé'!$E$18,IF($I19=\"Demi maladie\",'Congés de l''employé'!$BU$18,MOD($E19-($B19-($C19-$D19))+($G19-$F19),1))))),VLOOKUP($A19,$AF$12:$AH$29,3,FALSE))","v":0},null,null,{"$f":"IF(I19<>\"\",1+MAX($K$14:K17),\"\")","v":""},null,null,null,null,null,null,null,null,null,null,null,null,null,null,null,null,null,null,null,"FÉRIÉ-JOUR OUVRABLE SUIVANT LA FÊTE NATIONALE DU QUÉBEC",{"$f":"AF18+2-WEEKDAY(AF18)+(WEEKDAY(AF18)>2)*7","v":"2019-06-24"},"Date fixe 25 décembre"]
[{"$f":"$B$10+4","v":"2019-04-26"},null,null,null,null,null,null,{"$f":"IF(ISNA(VLOOKUP($A20,$AF$12:$AH$29,3,FALSE)),IF($I20=\"CONGÉ\",'Congés de l''employé'!$E$16,IF($I20=\"Demi congé\",'Congés de l''employé'!$BU$16,IF($I20=\"MALADIE\",'Congés de l''employé'!$E$18,IF($I20=\"Demi maladie\",'Congés de l''employé'!$BU$18,MOD($E20-($B20-($C20-$D20))+($G20-$F20),1))))),VLOOKUP($A20,$AF$12:$AH$29,3,FALSE))","v":0},null,null,{"$f":"IF(I20<>\"\",1+MAX($K$14:K18),\"\")","v":""},null,null,null,null,null,null,null,null,null,null,null,null,null,null,null,null,null,null,"Juillet","Fête du Canada",{"$f":"DATE(Année,7,1)","v":"2019-07-01"},null,{"$f":"Edit!M32","v":1.1253746147756614E-210}]
[{"$f":"$B$10+5","v":"2019-04-27"},null,null,null,null,null,null,{"$f":"IF(ISNA(VLOOKUP($A21,$AF$12:$AH$29,3,FALSE)),IF($I21=\"CONGÉ\",'Congés de l''employé'!$E$16,IF($I21=\"Demi congé\",'Congés de l''employé'!$BU$16,IF($I21=\"MALADIE\",'Congés de l''employé'!$E$18,IF($I21=\"Demi maladie\",'Congés de l''employé'!$BU$18,MOD($E21-($B21-($C21-$D21))+($G21-$F21),1))))),VLOOKUP($A21,$AF$12:$AH$29,3,FALSE))","v":0},null,null,{"$f":"IF(I21<>\"\",1+MAX($K$14:K19),\"\")","v":""},null,null,null,null,null,null,null,null,null,null,null,null,null,null,null,null,null,null,null,"FÉRIÉ-JOUR OUVRABLE SUIVANT LA FÊTE DU CANADA",{"$f":"AF20+2-WEEKDAY(AF20)+(WEEKDAY(AF20)>2)*7","v":"2019-07-01"}]
[{"$f":"$B$10+6","v":"2019-04-28"},null,null,null,null,null,null,{"$f":"IF(ISNA(VLOOKUP($A22,$AF$12:$AH$29,3,FALSE)),IF($I22=\"CONGÉ\",'Congés de l''employé'!$E$16,IF($I22=\"Demi congé\",'Congés de l''employé'!$BU$16,IF($I22=\"MALADIE\",'Congés de l''employé'!$E$18,IF($I22=\"Demi maladie\",'Congés de l''employé'!$BU$18,MOD($E22-($B22-($C22-$D22))+($G22-$F22),1))))),VLOOKUP($A22,$AF$12:$AH$29,3,FALSE))","v":0},null,null,{"$f":"IF(I22<>\"\",1+MAX($K$14:K20),\"\")","v":""},null,null,null,null,null,null,null,null,null,null,null,null,null,null,null,null,null,null,"Septembre","Fête du travail",{"$f":"IF(MOD(DATE(Année,9,1),7)<=2,2-MOD(DATE(Année,9,1),7),9-MOD(DATE(Année,9,1),7))+DATE(Année,9,1)","v":"2019-09-01"},null,{"$f":"Edit!M33","v":0}]
[null,null,null,null,null,null,null,{"$f":"SUM(H16:H22)+B23","v":0},null,null,{"$f":"IF(I23<>\"\",1+MAX($K$14:K21),\"\")","v":""},null,null,null,null,null,null,null,null,null,null,null,null,null,null,null,null,null,null,null,"FÉRIÉ-JOUR OUVRABLE SUIVANT LA FÊTE DU TRAVAIL",{"$f":"AF22+2-WEEKDAY(AF22)+(WEEKDAY(AF22)>2)*7","v":"2019-09-02"}]
[null,null,null,null,null,null,null,null,null,null,{"$f":"IF(I24<>\"\",1+MAX($K$14:K22),\"\")","v":""},null,null,null,null,null,null,null,null,null,null,null,null,null,null,null,null,null,null,"Octobre","Action de grâce",{"$f":"DATE(AF10,10,1)","v":"2019-10-01"},null,{"$f":"Edit!M34","v":0}]
[null,null,null,null,null,null,null,null,null,null,{"$f":"IF(I25<>\"\",1+MAX($K$14:K23),\"\")","v":""},null,null,null,null,null,null,null,null,null,null,null,null,null,null,null,null,null,null,null,"FÉRIÉ-JOUR OUVRABLE SUIVANT L'ACTION DE GRÂCE",{"$f":"AF24-DAY(AF24)-WEEKDAY(AF24-DAY(AF24),2)+15","v":"2019-10-14"}]
[null,null,null,null,null,null,"Heures en trop\nou en moins",{"$f":"IF(OR(H23=-(B15),B15=0),\"0\",(H23-B15))","v":"0"},null,null,{"$f":"IF(I26<>\"\",1+MAX($K$14:K24),\"\")","v":""},null,null,null,null,null,null,null,null,null,null,null,null,null,null,null,null,null,null,null,"Bureau fermé congé donné",{"$f":"DATE(Année,12,25)-1","v":"2019-12-24"},null,{"$f":"'[1]Congés de l''employé'!$E$14","v":0}]
[null,null,null,null,null,null,null,null,null,null,{"$f":"IF(I27<>\"\",1+MAX($K$14:K25),\"\")","v":""},null,null,null,null,null,null,null,null,null,null,null,null,null,null,null,null,null,null,"Décembre","Férié-Noël",{"$f":"DATE(Année,12,25)","v":"2019-12-25"},null,{"$f":"Edit!M35","v":0}]
["Horaire Semaine 2",null,null,null,null,null,null,null,null,null,{"$f":"IF(I28<>\"\",1+MAX($K$14:K26),\"\")","v":""},null,null,null,null,null,null,null,null,null,null,null,null,null,null,null,null,null,null,"Décembre","Bureau fermé congé donné",{"$f":"DATE(Année,12,25)+1","v":"2019-12-26"}]
[{"$f":"B10+7","v":"2019-04-29"},null,null,null,null,null,null,{"$f":"IF(ISNA(VLOOKUP($A29,$AF$12:$AH$29,3,FALSE)),IF($I29=\"CONGÉ\",'Congés de l''employé'!$E$16,IF($I29=\"Demi congé\",'Congés de l''employé'!$BU$16,IF($I29=\"MALADIE\",'Congés de l''employé'!$E$18,IF($I29=\"Demi maladie\",'Congés de l''employé'!$BU$18,MOD($E29-($B29-($C29-$D29))+($G29-$F29),1))))),VLOOKUP($A29,$AF$12:$AH$29,3,FALSE))","v":0},null,null,{"$f":"IF(I29<>\"\",1+MAX($K$14:K28),\"\")","v":""},null,null,null,null,null,null,null,null,null,null,null,null,null,null,null,null,null,null,"Décembre","Bureau fermé congé donné",{"$f":"AF11+2-WEEKDAY(AF11)+(WEEKDAY(AF11)>2)-1","v":"2018-12-31"}]
[{"$f":"B10+8","v":"2019-04-30"},null,null,null,null,null,null,{"$f":"IF(ISNA(VLOOKUP($A30,$AF$12:$AH$29,3,FALSE)),IF($I30=\"CONGÉ\",'Congés de l''employé'!$E$16,IF($I30=\"Demi congé\",'Congés de l''employé'!$BU$16,IF($I30=\"MALADIE\",'Congés de l''employé'!$E$18,IF($I30=\"Demi maladie\",'Congés de l''employé'!$BU$18,MOD($E30-($B30-($C30-$D30))+($G30-$F30),1))))),VLOOKUP($A30,$AF$12:$AH$29,3,FALSE))","v":0},null,null,{"$f":"IF(I30<>\"\",1+MAX($K$14:K29),\"\")","v":""}]
[{"$f":"B10+9","v":"2019-05-01"},null,null,null,null,null,null,{"$f":"IF(ISNA(VLOOKUP($A31,$AF$12:$AH$29,3,FALSE)),IF($I31=\"CONGÉ\",'Congés de l''employé'!$E$16,IF($I31=\"Demi congé\",'Congés de l''employé'!$BU$16,IF($I31=\"MALADIE\",'Congés de l''employé'!$E$18,IF($I31=\"Demi maladie\",'Congés de l''employé'!$BU$18,MOD($E31-($B31-($C31-$D31))+($G31-$F31),1))))),VLOOKUP($A31,$AF$12:$AH$29,3,FALSE))","v":0},null,null,{"$f":"IF(I31<>\"\",1+MAX($K$14:K30),\"\")","v":""}]
[{"$f":"B10+10","v":"2019-05-02"},null,null,null,null,null,null,{"$f":"IF(ISNA(VLOOKUP($A32,$AF$12:$AH$29,3,FALSE)),IF($I32=\"CONGÉ\",'Congés de l''employé'!$E$16,IF($I32=\"Demi congé\",'Congés de l''employé'!$BU$16,IF($I32=\"MALADIE\",'Congés de l''employé'!$E$18,IF($I32=\"Demi maladie\",'Congés de l''employé'!$BU$18,MOD($E32-($B32-($C32-$D32))+($G32-$F32),1))))),VLOOKUP($A32,$AF$12:$AH$29,3,FALSE))","v":0},null,null,{"$f":"IF(I32<>\"\",1+MAX($K$14:K31),\"\")","v":""}]
[{"$f":"B10+11","v":"2019-05-03"},null,null,null,null,null,null,{"$f":"IF(ISNA(VLOOKUP($A33,$AF$12:$AH$29,3,FALSE)),IF($I33=\"CONGÉ\",'Congés de l''employé'!$E$16,IF($I33=\"Demi congé\",'Congés de l''employé'!$BU$16,IF($I33=\"MALADIE\",'Congés de l''employé'!$E$18,IF($I33=\"Demi maladie\",'Congés de l''employé'!$BU$18,MOD($E33-($B33-($C33-$D33))+($G33-$F33),1))))),VLOOKUP($A33,$AF$12:$AH$29,3,FALSE))","v":0},null,null,{"$f":"IF(I33<>\"\",1+MAX($K$14:K32),\"\")","v":""}]
[{"$f":"B10+12","v":"2019-05-04"},null,null,null,null,null,null,{"$f":"IF(ISNA(VLOOKUP($A34,$AF$12:$AH$29,3,FALSE)),IF($I34=\"CONGÉ\",'Congés de l''employé'!$E$16,IF($I34=\"Demi congé\",'Congés de l''employé'!$BU$16,IF($I34=\"MALADIE\",'Congés de l''employé'!$E$18,IF($I34=\"Demi maladie\",'Congés de l''employé'!$BU$18,MOD($E34-($B34-($C34-$D34))+($G34-$F34),1))))),VLOOKUP($A34,$AF$12:$AH$29,3,FALSE))","v":0},null,null,{"$f":"IF(I34<>\"\",1+MAX($K$14:K33),\"\")","v":""}]
[{"$f":"B10+13","v":"2019-05-05"},null,null,null,null,null,null,{"$f":"IF(ISNA(VLOOKUP($A35,$AF$12:$AH$29,3,FALSE)),IF($I35=\"CONGÉ\",'Congés de l''employé'!$E$16,IF($I35=\"Demi congé\",'Congés de l''employé'!$BU$16,IF($I35=\"MALADIE\",'Congés de l''employé'!$E$18,IF($I35=\"Demi maladie\",'Congés de l''employé'!$BU$18,MOD($E35-($B35-($C35-$D35))+($G35-$F35),1))))),VLOOKUP($A35,$AF$12:$AH$29,3,FALSE))","v":0},null,null,{"$f":"IF(I35<>\"\",1+MAX($K$14:K34),\"\")","v":""}]
[null,null,null,null,null,null,null,{"$f":"SUM(H29:H35)+B36","v":0}]
[]
[null,null,null,null,null,null,"Heures en trop\nou en moins",{"$f":"IF(OR(H36=-(B28),B28=0),\"0\",(H36-B28))","v":"0"}]
[]
["Heure travaillées","Heures prévues","ENTREZ le nombre d'heures à payer","Heures\n supplémentaires ou en moins","Heures à \ntransposer dans la Banque","Total de la Banque d'heures"]
[{"$f":"$H$23+$H$36","v":0},{"$f":"'Congés de l''employé'!BU8*2","v":2.9166666666666665},{"$f":"A41","v":0},{"$f":"IF($H$26>0,$H$26)+IF($H$38>0,$H$38,0)+IF($H$26<0,$H$26)+IF($H$38<0,$H$38,0)","v":0},{"$f":"$A$41-$C$41","v":0},{"$f":"SUM('Avril - 2e-3e semaine'!F41:G42)+E41","v":0}]

{"sheet":"Mai - 2e-3e semaine","index":17,"n_rows":41,"n_cols":34,"rows_kept":41,"cut":false,"hidden":false,"merged":[[1,1,5,7],[40,0,41,0],[40,1,41,1],[40,2,41,2],[40,3,41,3],[40,4,41,4],[7,29,7,31],[42,1,42,2],[7,4,7,7],[9,1,9,3],[39,5,39,6],[40,5,41,6]]}
[{"$f":"MID(CELL(\"filename\",A1),FIND(\"]\",CELL(\"filename\",A1))+1,32)","v":"Mai - 2e-3e semaine"}]
[null,"       Feuille de temps"]
[]
[]
[]
[]
[]
[null,null,null,null,null,null,null,null,null,null,null,null,null,null,null,null,null,null,null,null,null,null,null,null,null,null,null,null,null,"Congés fériés, lundi suivant la date"]
["Employé: ",{"$f":"'Congés de l''employé'!B8","v":0},null,null,null,null,null,null,null,null,null,null,null,null,null,null,null,null,null,null,null,null,null,null,null,null,null,null,null,"Mois","Type de congé férié","Année en cours"]
["Période débutant le ",{"$f":"DATE(An_ref,1,-2)-WEEKDAY(DATE(An_ref,1,3))+133","v":"2019-05-06"},null,null,null,null,null,null,null,null,null,null,null,null,null,null,null,null,null,null,null,null,null,null,null,null,null,{"$f":"OR(B11=$AF$12,B11=$AF$13,B11=$AF$14,B11=$AF$16,B11=$AF$17,B11=$AF$19,B11=$AF$21,B11=$AF$23,B11=$AF$25,B11=$AF$26,B11=$AF$27,B11=$AF$28)","v":false},null,null,null,{"$f":"An_ref","v":2019},null,"alloué au férié"]
[null,null,null,null,null,null,null,null,null,null,null,null,null,null,null,null,null,null,null,null,null,null,null,null,null,null,null,null,null,"Janvier","Jour de l'an",{"$f":"DATE(Année,1,1)","v":"2019-01-01"},"Date fixe 1er janvier"]
[null,null,null,null,null,null,null,null,null,null,null,null,null,null,null,null,null,null,null,null,null,null,null,null,null,null,null,null,null,null,"FÉRIÉ-JOUR OUVRABLE SUIVANT LE JOUR DE L'AN",{"$f":"AF11+2-WEEKDAY(AF11)+(WEEKDAY(AF11)>2)","v":"2019-01-01"},null,{"$f":"Edit!M27","v":7.4735918097323577E-190}]
["Jour","Heure\nDébut","Départ\nDiner","Retour\nDiner","Heure\nFin","Télétravail\nDépart","Télétravail\nFin","TOTAL\nJournalier","Absence",null,"Index de la ligne",null,null,null,null,null,null,null,null,null,null,null,null,null,null,null,null,null,null,null,"Bureau fermé congé donné-un jour après le jour de l'an",{"$f":"AF11+2-WEEKDAY(AF11)+(WEEKDAY(AF11)>2)+1","v":"2019-01-02"}]
[null,null,null,null,null,null,null,null,null,null,null,{"$f":"MAX('Fin Avril-Mai - prem. semaine'!K16:K35)","v":"1904-01-01"},null,null,null,null,null,null,null,null,null,null,null,null,null,null,null,null,null,"Mars","Bureau fermé congé donné-un jour ouvré avant Pâques",{"$f":"AF15-2","v":"2019-04-19"},"3e lundi de mai",{"$f":"Edit!M28","v":0.3289473684210526}]
["Horaire Semaine 1",null,null,null,null,null,null,null,null,null,{"$f":"IF(COUNTIF(I16,\"X\"),MAX($K$13:K13)+1,\"\")","v":""},null,null,null,null,null,null,null,null,null,null,null,null,null,null,null,null,null,null,null,"Pâques",{"$f":"DATE(Année,3,29.56+0.979*MOD(204-11*MOD(Année,19),30)-\nWEEKDAY(DATE(Année,3,28.56+0.979*MOD(204-11*MOD(Année,19),30))))","v":"2019-04-21"},"Date fixe 24 juin"]
[{"$f":"$B$10","v":"2019-05-06"},null,null,null,null,null,null,{"$f":"IF(ISNA(VLOOKUP($A16,$AF$12:$AH$29,3,FALSE)),IF($I16=\"CONGÉ\",'Congés de l''employé'!$E$16,IF($I16=\"Demi congé\",'Congés de l''employé'!$BU$16,IF($I16=\"MALADIE\",'Congés de l''employé'!$E$18,IF($I16=\"Demi maladie\",'Congés de l''employé'!$BU$18,MOD($E16-($B16-($C16-$D16))+($G16-$F16),1))))),VLOOKUP($A16,$AF$12:$AH$29,3,FALSE))","v":0},null,null,{"$f":"IF(I16<>\"\",1+MAX($L$14:L14),\"\")","v":""},null,null,null,null,null,null,null,null,null,null,null,null,null,null,null,null,null,null,"Avril","Lundi de pâques",{"$f":"AF15+1","v":"2019-04-22"},"Date fixe 1er juillet"]
[{"$f":"$B$10+1","v":"2019-05-07"},null,null,null,null,null,null,{"$f":"IF(ISNA(VLOOKUP($A17,$AF$12:$AH$29,3,FALSE)),IF($I17=\"CONGÉ\",'Congés de l''employé'!$E$16,IF($I17=\"Demi congé\",'Congés de l''employé'!$BU$16,IF($I17=\"MALADIE\",'Congés de l''employé'!$E$18,IF($I17=\"Demi maladie\",'Congés de l''employé'!$BU$18,MOD($E17-($B17-($C17-$D17))+($G17-$F17),1))))),VLOOKUP($A17,$AF$12:$AH$29,3,FALSE))","v":0},null,null,{"$f":"IF(I17<>\"\",1+MAX($K$14:K15),\"\")","v":""},null,null,null,null,null,null,null,null,null,null,null,null,null,null,null,null,null,null,"Mai","Journée nationale des patriotes",{"$f":"DATE(Année,5,23)-WEEKDAY(DATE(Année,5,1),2)","v":"2019-05-20"},null,{"$f":"Edit!M30","v":0}]
[{"$f":"$B$10+2","v":"2019-05-08"},null,null,null,null,null,null,{"$f":"IF(ISNA(VLOOKUP($A18,$AF$12:$AH$29,3,FALSE)),IF($I18=\"CONGÉ\",'Congés de l''employé'!$E$16,IF($I18=\"Demi congé\",'Congés de l''employé'!$BU$16,IF($I18=\"MALADIE\",'Congés de l''employé'!$E$18,IF($I18=\"Demi maladie\",'Congés de l''employé'!$BU$18,MOD($E18-($B18-($C18-$D18))+($G18-$F18),1))))),VLOOKUP($A18,$AF$12:$AH$29,3,FALSE))","v":0},null,null,{"$f":"IF(I18<>\"\",1+MAX($K$14:K16),\"\")","v":""},null,null,null,null,null,null,null,null,null,null,null,null,null,null,null,null,null,null,"Juin","Fête nationale du Québec",{"$f":"DATE(Année,6,24)","v":"2019-06-24"},null,{"$f":"Edit!M31","v":0}]
[{"$f":"$B$10+3","v":"2019-05-09"},null,null,null,null,null,null,{"$f":"IF(ISNA(VLOOKUP($A19,$AF$12:$AH$29,3,FALSE)),IF($I19=\"CONGÉ\",'Congés de l''employé'!$E$16,IF($I19=\"Demi congé\",'Congés de l''employé'!$BU$16,IF($I19=\"MALADIE\",'Congés de l''employé'!$E$18,IF($I19=\"Demi maladie\",'Congés de l''employé'!$BU$18,MOD($E19-($B19-($C19-$D19))+($G19-$F19),1))))),VLOOKUP($A19,$AF$12:$AH$29,3,FALSE))","v":0},null,null,{"$f":"IF(I19<>\"\",1+MAX($K$14:K17),\"\")","v":""},null,null,null,null,null,null,null,null,null,null,null,null,null,null,null,null,null,null,null,"FÉRIÉ-JOUR OUVRABLE SUIVANT LA FÊTE NATIONALE DU QUÉBEC",{"$f":"AF18+2-WEEKDAY(AF18)+(WEEKDAY(AF18)>2)*7","v":"2019-06-24"},"Date fixe 25 décembre"]
[{"$f":"$B$10+4","v":"2019-05-10"},null,null,null,null,null,null,{"$f":"IF(ISNA(VLOOKUP($A20,$AF$12:$AH$29,3,FALSE)),IF($I20=\"CONGÉ\",'Congés de l''employé'!$E$16,IF($I20=\"Demi congé\",'Congés de l''employé'!$BU$16,IF($I20=\"MALADIE\",'Congés de l''employé'!$E$18,IF($I20=\"Demi maladie\",'Congés de l''employé'!$BU$18,MOD($E20-($B20-($C20-$D20))+($G20-$F20),1))))),VLOOKUP($A20,$AF$12:$AH$29,3,FALSE))","v":0},null,null,{"$f":"IF(I20<>\"\",1+MAX($K$14:K18),\"\")","v":""},null,null,null,null,null,null,null,null,null,null,null,null,null,null,null,null,null,null,"Juillet","Fête du Canada",{"$f":"DATE(Année,7,1)","v":"2019-07-01"},null,{"$f":"Edit!M32","v":1.1253746147756614E-210}]
[{"$f":"$B$10+5","v":"2019-05-11"},null,null,null,null,null,null,{"$f":"IF(ISNA(VLOOKUP($A21,$AF$12:$AH$29,3,FALSE)),IF($I21=\"CONGÉ\",'Congés de l''employé'!$E$16,IF($I21=\"Demi congé\",'Congés de l''employé'!$BU$16,IF($I21=\"MALADIE\",'Congés de l''employé'!$E$18,IF($I21=\"Demi maladie\",'Congés de l''employé'!$BU$18,MOD($E21-($B21-($C21-$D21))+($G21-$F21),1))))),VLOOKUP($A21,$AF$12:$AH$29,3,FALSE))","v":0},null,null,{"$f":"IF(I21<>\"\",1+MAX($K$14:K19),\"\")","v":""},null,null,null,null,null,null,null,null,null,null,null,null,null,null,null,null,null,null,null,"FÉRIÉ-JOUR OUVRABLE SUIVANT LA FÊTE DU CANADA",{"$f":"AF20+2-WEEKDAY(AF20)+(WEEKDAY(AF20)>2)*7","v":"2019-07-01"}]
[{"$f":"$B$10+6","v":"2019-05-12"},null,null,null,null,null,null,{"$f":"IF(ISNA(VLOOKUP($A22,$AF$12:$AH$29,3,FALSE)),IF($I22=\"CONGÉ\",'Congés de l''employé'!$E$16,IF($I22=\"Demi congé\",'Congés de l''employé'!$BU$16,IF($I22=\"MALADIE\",'Congés de l''employé'!$E$18,IF($I22=\"Demi maladie\",'Congés de l''employé'!$BU$18,MOD($E22-($B22-($C22-$D22))+($G22-$F22),1))))),VLOOKUP($A22,$AF$12:$AH$29,3,FALSE))","v":0},null,null,{"$f":"IF(I22<>\"\",1+MAX($K$14:K20),\"\")","v":""},null,null,null,null,null,null,null,null,null,null,null,null,null,null,null,null,null,null,"Septembre","Fête du travail",{"$f":"IF(MOD(DATE(Année,9,1),7)<=2,2-MOD(DATE(Année,9,1),7),9-MOD(DATE(Année,9,1),7))+DATE(Année,9,1)","v":"2019-09-01"},null,{"$f":"Edit!M33","v":0}]
[null,null,null,null,null,null,null,{"$f":"SUM(H16:H22)+B23","v":0},null,null,{"$f":"IF(I23<>\"\",1+MAX($K$14:K21),\"\")","v":""},null,null,null,null,null,null,null,null,null,null,null,null,null,null,null,null,null,null,null,"FÉRIÉ-JOUR OUVRABLE SUIVANT LA FÊTE DU TRAVAIL",{"$f":"AF22+2-WEEKDAY(AF22)+(WEEKDAY(AF22)>2)*7","v":"2019-09-02"}]
[null,null,null,null,null,null,null,null,null,null,{"$f":"IF(I24<>\"\",1+MAX($K$14:K22),\"\")","v":""},null,null,null,null,null,null,null,null,null,null,null,null,null,null,null,null,null,null,"Octobre","Action de grâce",{"$f":"DATE(AF10,10,1)","v":"2019-10-01"},null,{"$f":"Edit!M34","v":0}]
[null,null,null,null,null,null,null,null,null,null,{"$f":"IF(I25<>\"\",1+MAX($K$14:K23),\"\")","v":""},null,null,null,null,null,null,null,null,null,null,null,null,null,null,null,null,null,null,null,"FÉRIÉ-JOUR OUVRABLE SUIVANT L'ACTION DE GRÂCE",{"$f":"AF24-DAY(AF24)-WEEKDAY(AF24-DAY(AF24),2)+15","v":"2019-10-14"}]
[null,null,null,null,null,null,"Heures en trop\nou en moins",{"$f":"IF(OR(H23=-(B15),B15=0),\"0\",(H23-B15))","v":"0"},null,null,{"$f":"IF(I26<>\"\",1+MAX($K$14:K24),\"\")","v":""},null,null,null,null,null,null,null,null,null,null,null,null,null,null,null,null,null,null,null,"Bureau fermé congé donné",{"$f":"DATE(Année,12,25)-1","v":"2019-12-24"},null,{"$f":"'[1]Congés de l''employé'!$E$14","v":0}]
[null,null,null,null,null,null,null,null,null,null,{"$f":"IF(I27<>\"\",1+MAX($K$14:K25),\"\")","v":""},null,null,null,null,null,null,null,null,null,null,null,null,null,null,null,null,null,null,"Décembre","Férié-Noël",{"$f":"DATE(Année,12,25)","v":"2019-12-25"},null,{"$f":"Edit!M35","v":0}]
["Horaire Semaine 2",null,null,null,null,null,null,null,null,null,{"$f":"IF(I28<>\"\",1+MAX($K$14:K26),\"\")","v":""},null,null,null,null,null,null,null,null,null,null,null,null,null,null,null,null,null,null,"Décembre","Bureau fermé congé donné",{"$f":"DATE(Année,12,25)+1","v":"2019-12-26"}]
[{"$f":"B10+7","v":"2019-05-13"},null,null,null,null,null,null,{"$f":"IF(ISNA(VLOOKUP($A29,$AF$12:$AH$29,3,FALSE)),IF($I29=\"CONGÉ\",'Congés de l''employé'!$E$16,IF($I29=\"Demi congé\",'Congés de l''employé'!$BU$16,IF($I29=\"MALADIE\",'Congés de l''employé'!$E$18,IF($I29=\"Demi maladie\",'Congés de l''employé'!$BU$18,MOD($E29-($B29-($C29-$D29))+($G29-$F29),1))))),VLOOKUP($A29,$AF$12:$AH$29,3,FALSE))","v":0},null,null,{"$f":"IF(I29<>\"\",1+MAX($K$14:K28),\"\")","v":""},null,null,null,null,null,null,null,null,null,null,null,null,null,null,null,null,null,null,"Décembre","Bureau fermé congé donné",{"$f":"AF11+2-WEEKDAY(AF11)+(WEEKDAY(AF11)>2)-1","v":"2018-12-31"}]
[{"$f":"B10+8","v":"2019-05-14"},null,null,null,null,null,null,{"$f":"IF(ISNA(VLOOKUP($A30,$AF$12:$AH$29,3,FALSE)),IF($I30=\"CONGÉ\",'Congés de l''employé'!$E$16,IF($I30=\"Demi congé\",'Congés de l''employé'!$BU$16,IF($I30=\"MALADIE\",'Congés de l''employé'!$E$18,IF($I30=\"Demi maladie\",'Congés de l''employé'!$BU$18,MOD($E30-($B30-($C30-$D30))+($G30-$F30),1))))),VLOOKUP($A30,$AF$12:$AH$29,3,FALSE))","v":0},null,null,{"$f":"IF(I30<>\"\",1+MAX($K$14:K29),\"\")","v":""}]
[{"$f":"B10+9","v":"2019-05-15"},null,null,null,null,null,null,{"$f":"IF(ISNA(VLOOKUP($A31,$AF$12:$AH$29,3,FALSE)),IF($I31=\"CONGÉ\",'Congés de l''employé'!$E$16,IF($I31=\"Demi congé\",'Congés de l''employé'!$BU$16,IF($I31=\"MALADIE\",'Congés de l''employé'!$E$18,IF($I31=\"Demi maladie\",'Congés de l''employé'!$BU$18,MOD($E31-($B31-($C31-$D31))+($G31-$F31),1))))),VLOOKUP($A31,$AF$12:$AH$29,3,FALSE))","v":0},null,null,{"$f":"IF(I31<>\"\",1+MAX($K$14:K30),\"\")","v":""}]
[{"$f":"B10+10","v":"2019-05-16"},null,null,null,null,null,null,{"$f":"IF(ISNA(VLOOKUP($A32,$AF$12:$AH$29,3,FALSE)),IF($I32=\"CONGÉ\",'Congés de l''employé'!$E$16,IF($I32=\"Demi congé\",'Congés de l''employé'!$BU$16,IF($I32=\"MALADIE\",'Congés de l''employé'!$E$18,IF($I32=\"Demi maladie\",'Congés de l''employé'!$BU$18,MOD($E32-($B32-($C32-$D32))+($G32-$F32),1))))),VLOOKUP($A32,$AF$12:$AH$29,3,FALSE))","v":0},null,null,{"$f":"IF(I32<>\"\",1+MAX($K$14:K31),\"\")","v":""}]
[{"$f":"B10+11","v":"2019-05-17"},null,null,null,null,null,null,{"$f":"IF(ISNA(VLOOKUP($A33,$AF$12:$AH$29,3,FALSE)),IF($I33=\"CONGÉ\",'Congés de l''employé'!$E$16,IF($I33=\"Demi congé\",'Congés de l''employé'!$BU$16,IF($I33=\"MALADIE\",'Congés de l''employé'!$E$18,IF($I33=\"Demi maladie\",'Congés de l''employé'!$BU$18,MOD($E33-($B33-($C33-$D33))+($G33-$F33),1))))),VLOOKUP($A33,$AF$12:$AH$29,3,FALSE))","v":0},null,null,{"$f":"IF(I33<>\"\",1+MAX($K$14:K32),\"\")","v":""}]
[{"$f":"B10+12","v":"2019-05-18"},null,null,null,null,null,null,{"$f":"IF(ISNA(VLOOKUP($A34,$AF$12:$AH$29,3,FALSE)),IF($I34=\"CONGÉ\",'Congés de l''employé'!$E$16,IF($I34=\"Demi congé\",'Congés de l''employé'!$BU$16,IF($I34=\"MALADIE\",'Congés de l''employé'!$E$18,IF($I34=\"Demi maladie\",'Congés de l''employé'!$BU$18,MOD($E34-($B34-($C34-$D34))+($G34-$F34),1))))),VLOOKUP($A34,$AF$12:$AH$29,3,FALSE))","v":0},null,null,{"$f":"IF(I34<>\"\",1+MAX($K$14:K33),\"\")","v":""}]
[{"$f":"B10+13","v":"2019-05-19"},null,null,null,null,null,null,{"$f":"IF(ISNA(VLOOKUP($A35,$AF$12:$AH$29,3,FALSE)),IF($I35=\"CONGÉ\",'Congés de l''employé'!$E$16,IF($I35=\"Demi congé\",'Congés de l''employé'!$BU$16,IF($I35=\"MALADIE\",'Congés de l''employé'!$E$18,IF($I35=\"Demi maladie\",'Congés de l''employé'!$BU$18,MOD($E35-($B35-($C35-$D35))+($G35-$F35),1))))),VLOOKUP($A35,$AF$12:$AH$29,3,FALSE))","v":0},null,null,{"$f":"IF(I35<>\"\",1+MAX($K$14:K34),\"\")","v":""}]
[null,null,null,null,null,null,null,{"$f":"SUM(H29:H35)+B36","v":0}]
[]
[null,null,null,null,null,null,"Heures en trop\nou en moins",{"$f":"IF(OR(H36=-(B28),B28=0),\"0\",(H36-B28))","v":"0"}]
[]
["Heure travaillées","Heures prévues","ENTREZ le nombre d'heures à payer","Heures\n supplémentaires ou en moins","Heures à \ntransposer dans la Banque","Total de la Banque d'heures"]
[{"$f":"$H$23+$H$36","v":0},{"$f":"'Congés de l''employé'!BU8*2","v":2.9166666666666665},{"$f":"A41","v":0},{"$f":"IF($H$26>0,$H$26)+IF($H$38>0,$H$38,0)+IF($H$26<0,$H$26)+IF($H$38<0,$H$38,0)","v":0},{"$f":"$A$41-$C$41","v":0},{"$f":"SUM('Fin Avril-Mai - prem. semaine'!F41:G42)+E41","v":0}]

{"sheet":"Fin Mai-Début juin semaine 1","index":18,"n_rows":41,"n_cols":34,"rows_kept":41,"cut":false,"hidden":false,"merged":[[1,1,5,7],[40,0,41,0],[40,1,41,1],[40,2,41,2],[40,3,41,3],[40,4,41,4],[7,29,7,31],[42,1,42,2],[7,4,7,7],[9,1,9,3],[39,5,39,6],[40,5,41,6]]}
[{"$f":"MID(CELL(\"filename\",A1),FIND(\"]\",CELL(\"filename\",A1))+1,32)","v":"Fin Mai-Début juin semaine 1"}]
[null,"   Feuille de temps"]
[]
[]
[]
[]
[]
[null,null,null,null,null,null,null,null,null,null,null,null,null,null,null,null,null,null,null,null,null,null,null,null,null,null,null,null,null,"Congés fériés, lundi suivant la date"]
["Employé: ",{"$f":"'Congés de l''employé'!B8","v":0},null,null,null,null,null,null,null,null,null,null,null,null,null,null,null,null,null,null,null,null,null,null,null,null,null,null,null,"Mois","Type de congé férié","Année en cours"]
["Période débutant le ",{"$f":"DATE(An_ref,1,-2)-WEEKDAY(DATE(An_ref,1,3))+147","v":"2019-05-20"},null,null,null,null,null,null,null,null,null,null,null,null,null,null,null,null,null,null,null,null,null,null,null,null,null,{"$f":"OR(B11=$AF$12,B11=$AF$13,B11=$AF$14,B11=$AF$16,B11=$AF$17,B11=$AF$19,B11=$AF$21,B11=$AF$23,B11=$AF$25,B11=$AF$26,B11=$AF$27,B11=$AF$28)","v":false},null,null,null,{"$f":"An_ref","v":2019},null,"alloué au férié"]
[null,null,null,null,null,null,null,null,null,null,null,null,null,null,null,null,null,null,null,null,null,null,null,null,null,null,null,null,null,"Janvier","Jour de l'an",{"$f":"DATE(Année,1,1)","v":"2019-01-01"},"Date fixe 1er janvier"]
[null,null,null,null,null,null,null,null,null,null,null,null,null,null,null,null,null,null,null,null,null,null,null,null,null,null,null,null,null,null,"FÉRIÉ-JOUR OUVRABLE SUIVANT LE JOUR DE L'AN",{"$f":"AF11+2-WEEKDAY(AF11)+(WEEKDAY(AF11)>2)","v":"2019-01-01"},null,{"$f":"Edit!M27","v":7.4735918097323577E-190}]
["Jour","Heure\nDébut","Départ\nDiner","Retour\nDiner","Heure\nFin","Télétravail\nDépart","Télétravail\nFin","TOTAL\nJournalier","Absence",null,"Index de la ligne",null,null,null,null,null,null,null,null,null,null,null,null,null,null,null,null,null,null,null,"Bureau fermé congé donné-un jour après le jour de l'an",{"$f":"AF11+2-WEEKDAY(AF11)+(WEEKDAY(AF11)>2)+1","v":"2019-01-02"}]
[null,null,null,null,null,null,null,null,null,null,null,{"$f":"MAX('Mai - 2e-3e semaine'!K16:K35)","v":"1904-01-01"},null,null,null,null,null,null,null,null,null,null,null,null,null,null,null,null,null,"Mars","Bureau fermé congé donné-un jour ouvré avant Pâques",{"$f":"AF15-2","v":"2019-04-19"},"3e lundi de mai",{"$f":"Edit!M28","v":0.3289473684210526}]
["Horaire Semaine 1",null,null,null,null,null,null,null,null,null,{"$f":"IF(COUNTIF(I16,\"X\"),MAX($K$13:K13)+1,\"\")","v":""},null,null,null,null,null,null,null,null,null,null,null,null,null,null,null,null,null,null,null,"Pâques",{"$f":"DATE(Année,3,29.56+0.979*MOD(204-11*MOD(Année,19),30)-\nWEEKDAY(DATE(Année,3,28.56+0.979*MOD(204-11*MOD(Année,19),30))))","v":"2019-04-21"},"Date fixe 24 juin"]
[{"$f":"$B$10","v":"2019-05-20"},null,null,null,null,null,null,{"$f":"IF(ISNA(VLOOKUP($A16,$AF$12:$AH$29,3,FALSE)),IF($I16=\"CONGÉ\",'Congés de l''employé'!$E$16,IF($I16=\"Demi congé\",'Congés de l''employé'!$BU$16,IF($I16=\"MALADIE\",'Congés de l''employé'!$E$18,IF($I16=\"Demi maladie\",'Congés de l''employé'!$BU$18,MOD($E16-($B16-($C16-$D16))+($G16-$F16),1))))),VLOOKUP($A16,$AF$12:$AH$29,3,FALSE))","v":0},null,null,{"$f":"IF(I16<>\"\",1+MAX($L$14:L14),\"\")","v":""},null,null,null,null,null,null,null,null,null,null,null,null,null,null,null,null,null,null,"Avril","Lundi de pâques",{"$f":"AF15+1","v":"2019-04-22"},"Date fixe 1er juillet"]
[{"$f":"$B$10+1","v":"2019-05-21"},null,null,null,null,null,null,{"$f":"IF(ISNA(VLOOKUP($A17,$AF$12:$AH$29,3,FALSE)),IF($I17=\"CONGÉ\",'Congés de l''employé'!$E$16,IF($I17=\"Demi congé\",'Congés de l''employé'!$BU$16,IF($I17=\"MALADIE\",'Congés de l''employé'!$E$18,IF($I17=\"Demi maladie\",'Congés de l''employé'!$BU$18,MOD($E17-($B17-($C17-$D17))+($G17-$F17),1))))),VLOOKUP($A17,$AF$12:$AH$29,3,FALSE))","v":0},null,null,{"$f":"IF(I17<>\"\",1+MAX($K$14:K15),\"\")","v":""},null,null,null,null,null,null,null,null,null,null,null,null,null,null,null,null,null,null,"Mai","Journée nationale des patriotes",{"$f":"DATE(Année,5,23)-WEEKDAY(DATE(Année,5,1),2)","v":"2019-05-20"},null,{"$f":"Edit!M30","v":0}]
[{"$f":"$B$10+2","v":"2019-05-22"},null,null,null,null,null,null,{"$f":"IF(ISNA(VLOOKUP($A18,$AF$12:$AH$29,3,FALSE)),IF($I18=\"CONGÉ\",'Congés de l''employé'!$E$16,IF($I18=\"Demi congé\",'Congés de l''employé'!$BU$16,IF($I18=\"MALADIE\",'Congés de l''employé'!$E$18,IF($I18=\"Demi maladie\",'Congés de l''employé'!$BU$18,MOD($E18-($B18-($C18-$D18))+($G18-$F18),1))))),VLOOKUP($A18,$AF$12:$AH$29,3,FALSE))","v":0},null,null,{"$f":"IF(I18<>\"\",1+MAX($K$14:K16),\"\")","v":""},null,null,null,null,null,null,null,null,null,null,null,null,null,null,null,null,null,null,"Juin","Fête nationale du Québec",{"$f":"DATE(Année,6,24)","v":"2019-06-24"},null,{"$f":"Edit!M31","v":0}]
[{"$f":"$B$10+3","v":"2019-05-23"},null,null,null,null,null,null,{"$f":"IF(ISNA(VLOOKUP($A19,$AF$12:$AH$29,3,FALSE)),IF($I19=\"CONGÉ\",'Congés de l''employé'!$E$16,IF($I19=\"Demi congé\",'Congés de l''employé'!$BU$16,IF($I19=\"MALADIE\",'Congés de l''employé'!$E$18,IF($I19=\"Demi maladie\",'Congés de l''employé'!$BU$18,MOD($E19-($B19-($C19-$D19))+($G19-$F19),1))))),VLOOKUP($A19,$AF$12:$AH$29,3,FALSE))","v":0},null,null,{"$f":"IF(I19<>\"\",1+MAX($K$14:K17),\"\")","v":""},null,null,null,null,null,null,null,null,null,null,null,null,null,null,null,null,null,null,null,"FÉRIÉ-JOUR OUVRABLE SUIVANT LA FÊTE NATIONALE DU QUÉBEC",{"$f":"AF18+2-WEEKDAY(AF18)+(WEEKDAY(AF18)>2)*7","v":"2019-06-24"},"Date fixe 25 décembre"]
[{"$f":"$B$10+4","v":"2019-05-24"},null,null,null,null,null,null,{"$f":"IF(ISNA(VLOOKUP($A20,$AF$12:$AH$29,3,FALSE)),IF($I20=\"CONGÉ\",'Congés de l''employé'!$E$16,IF($I20=\"Demi congé\",'Congés de l''employé'!$BU$16,IF($I20=\"MALADIE\",'Congés de l''employé'!$E$18,IF($I20=\"Demi maladie\",'Congés de l''employé'!$BU$18,MOD($E20-($B20-($C20-$D20))+($G20-$F20),1))))),VLOOKUP($A20,$AF$12:$AH$29,3,FALSE))","v":0},null,null,{"$f":"IF(I20<>\"\",1+MAX($K$14:K18),\"\")","v":""},null,null,null,null,null,null,null,null,null,null,null,null,null,null,null,null,null,null,"Juillet","Fête du Canada",{"$f":"DATE(Année,7,1)","v":"2019-07-01"},null,{"$f":"Edit!M32","v":1.1253746147756614E-210}]
[{"$f":"$B$10+5","v":"2019-05-25"},null,null,null,null,null,null,{"$f":"IF(ISNA(VLOOKUP($A21,$AF$12:$AH$29,3,FALSE)),IF($I21=\"CONGÉ\",'Congés de l''employé'!$E$16,IF($I21=\"Demi congé\",'Congés de l''employé'!$BU$16,IF($I21=\"MALADIE\",'Congés de l''employé'!$E$18,IF($I21=\"Demi maladie\",'Congés de l''employé'!$BU$18,MOD($E21-($B21-($C21-$D21))+($G21-$F21),1))))),VLOOKUP($A21,$AF$12:$AH$29,3,FALSE))","v":0},null,null,{"$f":"IF(I21<>\"\",1+MAX($K$14:K19),\"\")","v":""},null,null,null,null,null,null,null,null,null,null,null,null,null,null,null,null,null,null,null,"FÉRIÉ-JOUR OUVRABLE SUIVANT LA FÊTE DU CANADA",{"$f":"AF20+2-WEEKDAY(AF20)+(WEEKDAY(AF20)>2)*7","v":"2019-07-01"}]
[{"$f":"$B$10+6","v":"2019-05-26"},null,null,null,null,null,null,{"$f":"IF(ISNA(VLOOKUP($A22,$AF$12:$AH$29,3,FALSE)),IF($I22=\"CONGÉ\",'Congés de l''employé'!$E$16,IF($I22=\"Demi congé\",'Congés de l''employé'!$BU$16,IF($I22=\"MALADIE\",'Congés de l''employé'!$E$18,IF($I22=\"Demi maladie\",'Congés de l''employé'!$BU$18,MOD($E22-($B22-($C22-$D22))+($G22-$F22),1))))),VLOOKUP($A22,$AF$12:$AH$29,3,FALSE))","v":0},null,null,{"$f":"IF(I22<>\"\",1+MAX($K$14:K20),\"\")","v":""},null,null,null,null,null,null,null,null,null,null,null,null,null,null,null,null,null,null,"Septembre","Fête du travail",{"$f":"IF(MOD(DATE(Année,9,1),7)<=2,2-MOD(DATE(Année,9,1),7),9-MOD(DATE(Année,9,1),7))+DATE(Année,9,1)","v":"2019-09-01"},null,{"$f":"Edit!M33","v":0}]
[null,null,null,null,null,null,null,{"$f":"SUM(H16:H22)+B23","v":0},null,null,{"$f":"IF(I23<>\"\",1+MAX($K$14:K21),\"\")","v":""},null,null,null,null,null,null,null,null,null,null,null,null,null,null,null,null,null,null,null,"FÉRIÉ-JOUR OUVRABLE SUIVANT LA FÊTE DU TRAVAIL",{"$f":"AF22+2-WEEKDAY(AF22)+(WEEKDAY(AF22)>2)*7","v":"2019-09-02"}]
[null,null,null,null,null,null,null,null,null,null,{"$f":"IF(I24<>\"\",1+MAX($K$14:K22),\"\")","v":""},null,null,null,null,null,null,null,null,null,null,null,null,null,null,null,null,null,null,"Octobre","Action de grâce",{"$f":"DATE(AF10,10,1)","v":"2019-10-01"},null,{"$f":"Edit!M34","v":0}]
[null,null,null,null,null,null,null,null,null,null,{"$f":"IF(I25<>\"\",1+MAX($K$14:K23),\"\")","v":""},null,null,null,null,null,null,null,null,null,null,null,null,null,null,null,null,null,null,null,"FÉRIÉ-JOUR OUVRABLE SUIVANT L'ACTION DE GRÂCE",{"$f":"AF24-DAY(AF24)-WEEKDAY(AF24-DAY(AF24),2)+15","v":"2019-10-14"}]
[null,null,null,null,null,null,"Heures en trop\nou en moins",{"$f":"IF(OR(H23=-(B15),B15=0),\"0\",(H23-B15))","v":"0"},null,null,{"$f":"IF(I26<>\"\",1+MAX($K$14:K24),\"\")","v":""},null,null,null,null,null,null,null,null,null,null,null,null,null,null,null,null,null,null,null,"Bureau fermé congé donné",{"$f":"DATE(Année,12,25)-1","v":"2019-12-24"},null,{"$f":"'[1]Congés de l''employé'!$E$14","v":0}]
[null,null,null,null,null,null,null,null,null,null,{"$f":"IF(I27<>\"\",1+MAX($K$14:K25),\"\")","v":""},null,null,null,null,null,null,null,null,null,null,null,null,null,null,null,null,null,null,"Décembre","Férié-Noël",{"$f":"DATE(Année,12,25)","v":"2019-12-25"},null,{"$f":"Edit!M35","v":0}]
["Horaire Semaine 2",null,null,null,null,null,null,null,null,null,{"$f":"IF(I28<>\"\",1+MAX($K$14:K26),\"\")","v":""},null,null,null,null,null,null,null,null,null,null,null,null,null,null,null,null,null,null,"Décembre","Bureau fermé congé donné",{"$f":"DATE(Année,12,25)+1","v":"2019-12-26"}]
[{"$f":"B10+7","v":"2019-05-27"},null,null,null,null,null,null,{"$f":"IF(ISNA(VLOOKUP($A29,$AF$12:$AH$29,3,FALSE)),IF($I29=\"CONGÉ\",'Congés de l''employé'!$E$16,IF($I29=\"Demi congé\",'Congés de l''employé'!$BU$16,IF($I29=\"MALADIE\",'Congés de l''employé'!$E$18,IF($I29=\"Demi maladie\",'Congés de l''employé'!$BU$18,MOD($E29-($B29-($C29-$D29))+($G29-$F29),1))))),VLOOKUP($A29,$AF$12:$AH$29,3,FALSE))","v":0},null,null,{"$f":"IF(I29<>\"\",1+MAX($K$14:K28),\"\")","v":""},null,null,null,null,null,null,null,null,null,null,null,null,null,null,null,null,null,null,"Décembre","Bureau fermé congé donné",{"$f":"AF11+2-WEEKDAY(AF11)+(WEEKDAY(AF11)>2)-1","v":"2018-12-31"}]
[{"$f":"B10+8","v":"2019-05-28"},null,null,null,null,null,null,{"$f":"IF(ISNA(VLOOKUP($A30,$AF$12:$AH$29,3,FALSE)),IF($I30=\"CONGÉ\",'Congés de l''employé'!$E$16,IF($I30=\"Demi congé\",'Congés de l''employé'!$BU$16,IF($I30=\"MALADIE\",'Congés de l''employé'!$E$18,IF($I30=\"Demi maladie\",'Congés de l''employé'!$BU$18,MOD($E30-($B30-($C30-$D30))+($G30-$F30),1))))),VLOOKUP($A30,$AF$12:$AH$29,3,FALSE))","v":0},null,null,{"$f":"IF(I30<>\"\",1+MAX($K$14:K29),\"\")","v":""}]
[{"$f":"B10+9","v":"2019-05-29"},null,null,null,null,null,null,{"$f":"IF(ISNA(VLOOKUP($A31,$AF$12:$AH$29,3,FALSE)),IF($I31=\"CONGÉ\",'Congés de l''employé'!$E$16,IF($I31=\"Demi congé\",'Congés de l''employé'!$BU$16,IF($I31=\"MALADIE\",'Congés de l''employé'!$E$18,IF($I31=\"Demi maladie\",'Congés de l''employé'!$BU$18,MOD($E31-($B31-($C31-$D31))+($G31-$F31),1))))),VLOOKUP($A31,$AF$12:$AH$29,3,FALSE))","v":0},null,null,{"$f":"IF(I31<>\"\",1+MAX($K$14:K30),\"\")","v":""}]
[{"$f":"B10+10","v":"2019-05-30"},null,null,null,null,null,null,{"$f":"IF(ISNA(VLOOKUP($A32,$AF$12:$AH$29,3,FALSE)),IF($I32=\"CONGÉ\",'Congés de l''employé'!$E$16,IF($I32=\"Demi congé\",'Congés de l''employé'!$BU$16,IF($I32=\"MALADIE\",'Congés de l''employé'!$E$18,IF($I32=\"Demi maladie\",'Congés de l''employé'!$BU$18,MOD($E32-($B32-($C32-$D32))+($G32-$F32),1))))),VLOOKUP($A32,$AF$12:$AH$29,3,FALSE))","v":0},null,null,{"$f":"IF(I32<>\"\",1+MAX($K$14:K31),\"\")","v":""}]
[{"$f":"B10+11","v":"2019-05-31"},null,null,null,null,null,null,{"$f":"IF(ISNA(VLOOKUP($A33,$AF$12:$AH$29,3,FALSE)),IF($I33=\"CONGÉ\",'Congés de l''employé'!$E$16,IF($I33=\"Demi congé\",'Congés de l''employé'!$BU$16,IF($I33=\"MALADIE\",'Congés de l''employé'!$E$18,IF($I33=\"Demi maladie\",'Congés de l''employé'!$BU$18,MOD($E33-($B33-($C33-$D33))+($G33-$F33),1))))),VLOOKUP($A33,$AF$12:$AH$29,3,FALSE))","v":0},null,null,{"$f":"IF(I33<>\"\",1+MAX($K$14:K32),\"\")","v":""}]
[{"$f":"B10+12","v":"2019-06-01"},null,null,null,null,null,null,{"$f":"IF(ISNA(VLOOKUP($A34,$AF$12:$AH$29,3,FALSE)),IF($I34=\"CONGÉ\",'Congés de l''employé'!$E$16,IF($I34=\"Demi congé\",'Congés de l''employé'!$BU$16,IF($I34=\"MALADIE\",'Congés de l''employé'!$E$18,IF($I34=\"Demi maladie\",'Congés de l''employé'!$BU$18,MOD($E34-($B34-($C34-$D34))+($G34-$F34),1))))),VLOOKUP($A34,$AF$12:$AH$29,3,FALSE))","v":0},null,null,{"$f":"IF(I34<>\"\",1+MAX($K$14:K33),\"\")","v":""}]
[{"$f":"B10+13","v":"2019-06-02"},null,null,null,null,null,null,{"$f":"IF(ISNA(VLOOKUP($A35,$AF$12:$AH$29,3,FALSE)),IF($I35=\"CONGÉ\",'Congés de l''employé'!$E$16,IF($I35=\"Demi congé\",'Congés de l''employé'!$BU$16,IF($I35=\"MALADIE\",'Congés de l''employé'!$E$18,IF($I35=\"Demi maladie\",'Congés de l''employé'!$BU$18,MOD($E35-($B35-($C35-$D35))+($G35-$F35),1))))),VLOOKUP($A35,$AF$12:$AH$29,3,FALSE))","v":0},null,null,{"$f":"IF(I35<>\"\",1+MAX($K$14:K34),\"\")","v":""}]
[null,null,null,null,null,null,null,{"$f":"SUM(H29:H35)+B36","v":0}]
[]
[null,null,null,null,null,null,"Heures en trop\nou en moins",{"$f":"IF(OR(H36=-(B28),B28=0),\"0\",(H36-B28))","v":"0"}]
[]
["Heure travaillées","Heures prévues","ENTREZ le nombre d'heures à payer","Heures\n supplémentaires ou en moins","Heures à \ntransposer dans la Banque","Total de la Banque d'heures"]
[{"$f":"$H$23+$H$36","v":0},{"$f":"'Congés de l''employé'!BU8*2","v":2.9166666666666665},{"$f":"A41","v":0},{"$f":"IF($H$26>0,$H$26)+IF($H$38>0,$H$38,0)+IF($H$26<0,$H$26)+IF($H$38<0,$H$38,0)","v":0},{"$f":"$A$41-$C$41","v":0},{"$f":"SUM('Mai - 2e-3e semaine'!F41:G42)+E41","v":0}]

{"sheet":"Juin 2e-3e semaine","index":19,"n_rows":41,"n_cols":34,"rows_kept":41,"cut":false,"hidden":false,"merged":[[1,1,5,7],[40,0,41,0],[40,1,41,1],[40,2,41,2],[40,3,41,3],[40,4,41,4],[7,29,7,31],[42,1,42,2],[7,4,7,7],[9,1,9,3],[39,5,39,6],[40,5,41,6]]}
[{"$f":"MID(CELL(\"filename\",A1),FIND(\"]\",CELL(\"filename\",A1))+1,32)","v":"Juin 2e-3e semaine"}]
[null,"      Feuille de temps"]
[]
[]
[]
[]
[]
[null,null,null,null,null,null,null,null,null,null,null,null,null,null,null,null,null,null,null,null,null,null,null,null,null,null,null,null,null,"Congés fériés, lundi suivant la date"]
["Employé: ",{"$f":"'Congés de l''employé'!B8","v":0},null,null,null,null,null,null,null,null,null,null,null,null,null,null,null,null,null,null,null,null,null,null,null,null,null,null,null,"Mois","Type de congé férié","Année en cours"]
["Période débutant le ",{"$f":"DATE(An_ref,1,-2)-WEEKDAY(DATE(An_ref,1,3))+161","v":"2019-06-03"},null,null,null,null,null,null,null,null,null,null,null,null,null,null,null,null,null,null,null,null,null,null,null,null,null,{"$f":"OR(B11=$AF$12,B11=$AF$13,B11=$AF$14,B11=$AF$16,B11=$AF$17,B11=$AF$19,B11=$AF$21,B11=$AF$23,B11=$AF$25,B11=$AF$26,B11=$AF$27,B11=$AF$28)","v":false},null,null,null,{"$f":"An_ref","v":2019},null,"alloué au férié"]
[null,null,null,null,null,null,null,null,null,null,null,null,null,null,null,null,null,null,null,null,null,null,null,null,null,null,null,null,null,"Janvier","Jour de l'an",{"$f":"DATE(Année,1,1)","v":"2019-01-01"},"Date fixe 1er janvier"]
[null,null,null,null,null,null,null,null,null,null,null,null,null,null,null,null,null,null,null,null,null,null,null,null,null,null,null,null,null,null,"FÉRIÉ-JOUR OUVRABLE SUIVANT LE JOUR DE L'AN",{"$f":"AF11+2-WEEKDAY(AF11)+(WEEKDAY(AF11)>2)","v":"2019-01-01"},null,{"$f":"Edit!M27","v":7.4735918097323577E-190}]
["Jour","Heure\nDébut","Départ\nDiner","Retour\nDiner","Heure\nFin","Télétravail\nDépart","Télétravail\nFin","TOTAL\nJournalier","Absence",null,"Index de la ligne",null,null,null,null,null,null,null,null,null,null,null,null,null,null,null,null,null,null,null,"Bureau fermé congé donné-un jour après le jour de l'an",{"$f":"AF11+2-WEEKDAY(AF11)+(WEEKDAY(AF11)>2)+1","v":"2019-01-02"}]
[null,null,null,null,null,null,null,null,null,null,null,{"$f":"MAX('Fin Mai-Début juin semaine 1'!K16:K35)","v":"1904-01-01"},null,null,null,null,null,null,null,null,null,null,null,null,null,null,null,null,null,"Mars","Bureau fermé congé donné-un jour ouvré avant Pâques",{"$f":"AF15-2","v":"2019-04-19"},"3e lundi de mai",{"$f":"Edit!M28","v":0.3289473684210526}]
["Horaire Semaine 1",null,null,null,null,null,null,null,null,null,{"$f":"IF(COUNTIF(I16,\"X\"),MAX($K$13:K13)+1,\"\")","v":""},null,null,null,null,null,null,null,null,null,null,null,null,null,null,null,null,null,null,null,"Pâques",{"$f":"DATE(Année,3,29.56+0.979*MOD(204-11*MOD(Année,19),30)-\nWEEKDAY(DATE(Année,3,28.56+0.979*MOD(204-11*MOD(Année,19),30))))","v":"2019-04-21"},"Date fixe 24 juin"]
[{"$f":"$B$10","v":"2019-06-03"},null,null,null,null,null,null,{"$f":"IF(ISNA(VLOOKUP($A16,$AF$12:$AH$29,3,FALSE)),IF($I16=\"CONGÉ\",'Congés de l''employé'!$E$16,IF($I16=\"Demi congé\",'Congés de l''employé'!$BU$16,IF($I16=\"MALADIE\",'Congés de l''employé'!$E$18,IF($I16=\"Demi maladie\",'Congés de l''employé'!$BU$18,MOD($E16-($B16-($C16-$D16))+($G16-$F16),1))))),VLOOKUP($A16,$AF$12:$AH$29,3,FALSE))","v":0},null,null,{"$f":"IF(I16<>\"\",1+MAX($L$14:L14),\"\")","v":""},null,null,null,null,null,null,null,null,null,null,null,null,null,null,null,null,null,null,"Avril","Lundi de pâques",{"$f":"AF15+1","v":"2019-04-22"},"Date fixe 1er juillet"]
[{"$f":"$B$10+1","v":"2019-06-04"},null,null,null,null,null,null,{"$f":"IF(ISNA(VLOOKUP($A17,$AF$12:$AH$29,3,FALSE)),IF($I17=\"CONGÉ\",'Congés de l''employé'!$E$16,IF($I17=\"Demi congé\",'Congés de l''employé'!$BU$16,IF($I17=\"MALADIE\",'Congés de l''employé'!$E$18,IF($I17=\"Demi maladie\",'Congés de l''employé'!$BU$18,MOD($E17-($B17-($C17-$D17))+($G17-$F17),1))))),VLOOKUP($A17,$AF$12:$AH$29,3,FALSE))","v":0},null,null,{"$f":"IF(I17<>\"\",1+MAX($K$14:K15),\"\")","v":""},null,null,null,null,null,null,null,null,null,null,null,null,null,null,null,null,null,null,"Mai","Journée nationale des patriotes",{"$f":"DATE(Année,5,23)-WEEKDAY(DATE(Année,5,1),2)","v":"2019-05-20"},null,{"$f":"Edit!M30","v":0}]
[{"$f":"$B$10+2","v":"2019-06-05"},null,null,null,null,null,null,{"$f":"IF(ISNA(VLOOKUP($A18,$AF$12:$AH$29,3,FALSE)),IF($I18=\"CONGÉ\",'Congés de l''employé'!$E$16,IF($I18=\"Demi congé\",'Congés de l''employé'!$BU$16,IF($I18=\"MALADIE\",'Congés de l''employé'!$E$18,IF($I18=\"Demi maladie\",'Congés de l''employé'!$BU$18,MOD($E18-($B18-($C18-$D18))+($G18-$F18),1))))),VLOOKUP($A18,$AF$12:$AH$29,3,FALSE))","v":0},null,null,{"$f":"IF(I18<>\"\",1+MAX($K$14:K16),\"\")","v":""},null,null,null,null,null,null,null,null,null,null,null,null,null,null,null,null,null,null,"Juin","Fête nationale du Québec",{"$f":"DATE(Année,6,24)","v":"2019-06-24"},null,{"$f":"Edit!M31","v":0}]
[{"$f":"$B$10+3","v":"2019-06-06"},null,null,null,null,null,null,{"$f":"IF(ISNA(VLOOKUP($A19,$AF$12:$AH$29,3,FALSE)),IF($I19=\"CONGÉ\",'Congés de l''employé'!$E$16,IF($I19=\"Demi congé\",'Congés de l''employé'!$BU$16,IF($I19=\"MALADIE\",'Congés de l''employé'!$E$18,IF($I19=\"Demi maladie\",'Congés de l''employé'!$BU$18,MOD($E19-($B19-($C19-$D19))+($G19-$F19),1))))),VLOOKUP($A19,$AF$12:$AH$29,3,FALSE))","v":0},null,null,{"$f":"IF(I19<>\"\",1+MAX($K$14:K17),\"\")","v":""},null,null,null,null,null,null,null,null,null,null,null,null,null,null,null,null,null,null,null,"FÉRIÉ-JOUR OUVRABLE SUIVANT LA FÊTE NATIONALE DU QUÉBEC",{"$f":"AF18+2-WEEKDAY(AF18)+(WEEKDAY(AF18)>2)*7","v":"2019-06-24"},"Date fixe 25 décembre"]
[{"$f":"$B$10+4","v":"2019-06-07"},null,null,null,null,null,null,{"$f":"IF(ISNA(VLOOKUP($A20,$AF$12:$AH$29,3,FALSE)),IF($I20=\"CONGÉ\",'Congés de l''employé'!$E$16,IF($I20=\"Demi congé\",'Congés de l''employé'!$BU$16,IF($I20=\"MALADIE\",'Congés de l''employé'!$E$18,IF($I20=\"Demi maladie\",'Congés de l''employé'!$BU$18,MOD($E20-($B20-($C20-$D20))+($G20-$F20),1))))),VLOOKUP($A20,$AF$12:$AH$29,3,FALSE))","v":0},null,null,{"$f":"IF(I20<>\"\",1+MAX($K$14:K18),\"\")","v":""},null,null,null,null,null,null,null,null,null,null,null,null,null,null,null,null,null,null,"Juillet","Fête du Canada",{"$f":"DATE(Année,7,1)","v":"2019-07-01"},null,{"$f":"Edit!M32","v":1.1253746147756614E-210}]
[{"$f":"$B$10+5","v":"2019-06-08"},null,null,null,null,null,null,{"$f":"IF(ISNA(VLOOKUP($A21,$AF$12:$AH$29,3,FALSE)),IF($I21=\"CONGÉ\",'Congés de l''employé'!$E$16,IF($I21=\"Demi congé\",'Congés de l''employé'!$BU$16,IF($I21=\"MALADIE\",'Congés de l''employé'!$E$18,IF($I21=\"Demi maladie\",'Congés de l''employé'!$BU$18,MOD($E21-($B21-($C21-$D21))+($G21-$F21),1))))),VLOOKUP($A21,$AF$12:$AH$29,3,FALSE))","v":0},null,null,{"$f":"IF(I21<>\"\",1+MAX($K$14:K19),\"\")","v":""},null,null,null,null,null,null,null,null,null,null,null,null,null,null,null,null,null,null,null,"FÉRIÉ-JOUR OUVRABLE SUIVANT LA FÊTE DU CANADA",{"$f":"AF20+2-WEEKDAY(AF20)+(WEEKDAY(AF20)>2)*7","v":"2019-07-01"}]
[{"$f":"$B$10+6","v":"2019-06-09"},null,null,null,null,null,null,{"$f":"IF(ISNA(VLOOKUP($A22,$AF$12:$AH$29,3,FALSE)),IF($I22=\"CONGÉ\",'Congés de l''employé'!$E$16,IF($I22=\"Demi congé\",'Congés de l''employé'!$BU$16,IF($I22=\"MALADIE\",'Congés de l''employé'!$E$18,IF($I22=\"Demi maladie\",'Congés de l''employé'!$BU$18,MOD($E22-($B22-($C22-$D22))+($G22-$F22),1))))),VLOOKUP($A22,$AF$12:$AH$29,3,FALSE))","v":0},null,null,{"$f":"IF(I22<>\"\",1+MAX($K$14:K20),\"\")","v":""},null,null,null,null,null,null,null,null,null,null,null,null,null,null,null,null,null,null,"Septembre","Fête du travail",{"$f":"IF(MOD(DATE(Année,9,1),7)<=2,2-MOD(DATE(Année,9,1),7),9-MOD(DATE(Année,9,1),7))+DATE(Année,9,1)","v":"2019-09-01"},null,{"$f":"Edit!M33","v":0}]
[null,null,null,null,null,null,null,{"$f":"SUM(H16:H22)+Tableau145678936405286[[#This Row],[Heure\nDébut]]","v":0},null,null,{"$f":"IF(I23<>\"\",1+MAX($K$14:K21),\"\")","v":""},null,null,null,null,null,null,null,null,null,null,null,null,null,null,null,null,null,null,null,"FÉRIÉ-JOUR OUVRABLE SUIVANT LA FÊTE DU TRAVAIL",{"$f":"AF22+2-WEEKDAY(AF22)+(WEEKDAY(AF22)>2)*7","v":"2019-09-02"}]
[null,null,null,null,null,null,null,null,null,null,{"$f":"IF(I24<>\"\",1+MAX($K$14:K22),\"\")","v":""},null,null,null,null,null,null,null,null,null,null,null,null,null,null,null,null,null,null,"Octobre","Action de grâce",{"$f":"DATE(AF10,10,1)","v":"2019-10-01"},null,{"$f":"Edit!M34","v":0}]
[null,null,null,null,null,null,null,null,null,null,{"$f":"IF(I25<>\"\",1+MAX($K$14:K23),\"\")","v":""},null,null,null,null,null,null,null,null,null,null,null,null,null,null,null,null,null,null,null,"FÉRIÉ-JOUR OUVRABLE SUIVANT L'ACTION DE GRÂCE",{"$f":"AF24-DAY(AF24)-WEEKDAY(AF24-DAY(AF24),2)+15","v":"2019-10-14"}]
[null,null,null,null,null,null,"Heures en trop\nou en moins",{"$f":"IF(OR(H23=-(B15),B15=0),\"0\",(H23-B15))","v":"0"},null,null,{"$f":"IF(I26<>\"\",1+MAX($K$14:K24),\"\")","v":""},null,null,null,null,null,null,null,null,null,null,null,null,null,null,null,null,null,null,null,"Bureau fermé congé donné",{"$f":"DATE(Année,12,25)-1","v":"2019-12-24"},null,{"$f":"'[1]Congés de l''employé'!$E$14","v":0}]
[null,null,null,null,null,null,null,null,null,null,{"$f":"IF(I27<>\"\",1+MAX($K$14:K25),\"\")","v":""},null,null,null,null,null,null,null,null,null,null,null,null,null,null,null,null,null,null,"Décembre","Férié-Noël",{"$f":"DATE(Année,12,25)","v":"2019-12-25"},null,{"$f":"Edit!M35","v":0}]
["Horaire Semaine 2",null,null,null,null,null,null,null,null,null,{"$f":"IF(I28<>\"\",1+MAX($K$14:K26),\"\")","v":""},null,null,null,null,null,null,null,null,null,null,null,null,null,null,null,null,null,null,"Décembre","Bureau fermé congé donné",{"$f":"DATE(Année,12,25)+1","v":"2019-12-26"}]
[{"$f":"B10+7","v":"2019-06-10"},null,null,null,null,null,null,{"$f":"IF(ISNA(VLOOKUP($A29,$AF$12:$AH$29,3,FALSE)),IF($I29=\"CONGÉ\",'Congés de l''employé'!$E$16,IF($I29=\"Demi congé\",'Congés de l''employé'!$BU$16,IF($I29=\"MALADIE\",'Congés de l''employé'!$E$18,IF($I29=\"Demi maladie\",'Congés de l''employé'!$BU$18,MOD($E29-($B29-($C29-$D29))+($G29-$F29),1))))),VLOOKUP($A29,$AF$12:$AH$29,3,FALSE))","v":0},null,null,{"$f":"IF(I29<>\"\",1+MAX($K$14:K28),\"\")","v":""},null,null,null,null,null,null,null,null,null,null,null,null,null,null,null,null,null,null,"Décembre","Bureau fermé congé donné",{"$f":"AF11+2-WEEKDAY(AF11)+(WEEKDAY(AF11)>2)-1","v":"2018-12-31"}]
[{"$f":"B10+8","v":"2019-06-11"},null,null,null,null,null,null,{"$f":"IF(ISNA(VLOOKUP($A30,$AF$12:$AH$29,3,FALSE)),IF($I30=\"CONGÉ\",'Congés de l''employé'!$E$16,IF($I30=\"Demi congé\",'Congés de l''employé'!$BU$16,IF($I30=\"MALADIE\",'Congés de l''employé'!$E$18,IF($I30=\"Demi maladie\",'Congés de l''employé'!$BU$18,MOD($E30-($B30-($C30-$D30))+($G30-$F30),1))))),VLOOKUP($A30,$AF$12:$AH$29,3,FALSE))","v":0},null,null,{"$f":"IF(I30<>\"\",1+MAX($K$14:K29),\"\")","v":""}]
[{"$f":"B10+9","v":"2019-06-12"},null,null,null,null,null,null,{"$f":"IF(ISNA(VLOOKUP($A31,$AF$12:$AH$29,3,FALSE)),IF($I31=\"CONGÉ\",'Congés de l''employé'!$E$16,IF($I31=\"Demi congé\",'Congés de l''employé'!$BU$16,IF($I31=\"MALADIE\",'Congés de l''employé'!$E$18,IF($I31=\"Demi maladie\",'Congés de l''employé'!$BU$18,MOD($E31-($B31-($C31-$D31))+($G31-$F31),1))))),VLOOKUP($A31,$AF$12:$AH$29,3,FALSE))","v":0},null,null,{"$f":"IF(I31<>\"\",1+MAX($K$14:K30),\"\")","v":""}]
[{"$f":"B10+10","v":"2019-06-13"},null,null,null,null,null,null,{"$f":"IF(ISNA(VLOOKUP($A32,$AF$12:$AH$29,3,FALSE)),IF($I32=\"CONGÉ\",'Congés de l''employé'!$E$16,IF($I32=\"Demi congé\",'Congés de l''employé'!$BU$16,IF($I32=\"MALADIE\",'Congés de l''employé'!$E$18,IF($I32=\"Demi maladie\",'Congés de l''employé'!$BU$18,MOD($E32-($B32-($C32-$D32))+($G32-$F32),1))))),VLOOKUP($A32,$AF$12:$AH$29,3,FALSE))","v":0},null,null,{"$f":"IF(I32<>\"\",1+MAX($K$14:K31),\"\")","v":""}]
[{"$f":"B10+11","v":"2019-06-14"},null,null,null,null,null,null,{"$f":"IF(ISNA(VLOOKUP($A33,$AF$12:$AH$29,3,FALSE)),IF($I33=\"CONGÉ\",'Congés de l''employé'!$E$16,IF($I33=\"Demi congé\",'Congés de l''employé'!$BU$16,IF($I33=\"MALADIE\",'Congés de l''employé'!$E$18,IF($I33=\"Demi maladie\",'Congés de l''employé'!$BU$18,MOD($E33-($B33-($C33-$D33))+($G33-$F33),1))))),VLOOKUP($A33,$AF$12:$AH$29,3,FALSE))","v":0},null,null,{"$f":"IF(I33<>\"\",1+MAX($K$14:K32),\"\")","v":""}]
[{"$f":"B10+12","v":"2019-06-15"},null,null,null,null,null,null,{"$f":"IF(ISNA(VLOOKUP($A34,$AF$12:$AH$29,3,FALSE)),IF($I34=\"CONGÉ\",'Congés de l''employé'!$E$16,IF($I34=\"Demi congé\",'Congés de l''employé'!$BU$16,IF($I34=\"MALADIE\",'Congés de l''employé'!$E$18,IF($I34=\"Demi maladie\",'Congés de l''employé'!$BU$18,MOD($E34-($B34-($C34-$D34))+($G34-$F34),1))))),VLOOKUP($A34,$AF$12:$AH$29,3,FALSE))","v":0},null,null,{"$f":"IF(I34<>\"\",1+MAX($K$14:K33),\"\")","v":""}]
[{"$f":"B10+13","v":"2019-06-16"},null,null,null,null,null,null,{"$f":"IF(ISNA(VLOOKUP($A35,$AF$12:$AH$29,3,FALSE)),IF($I35=\"CONGÉ\",'Congés de l''employé'!$E$16,IF($I35=\"Demi congé\",'Congés de l''employé'!$BU$16,IF($I35=\"MALADIE\",'Congés de l''employé'!$E$18,IF($I35=\"Demi maladie\",'Congés de l''employé'!$BU$18,MOD($E35-($B35-($C35-$D35))+($G35-$F35),1))))),VLOOKUP($A35,$AF$12:$AH$29,3,FALSE))","v":0},null,null,{"$f":"IF(I35<>\"\",1+MAX($K$14:K34),\"\")","v":""}]
[null,null,null,null,null,null,null,{"$f":"SUM(H29:H35)+B36","v":0}]
[]
[null,null,null,null,null,null,"Heures en trop\nou en moins",{"$f":"IF(OR(H36=-(B28),B28=0),\"0\",(H36-B28))","v":"0"}]
[]
["Heure travaillées","Heures prévues","ENTREZ le nombre d'heures à payer","Heures\n supplémentaires ou en moins","Heures à \ntransposer dans la Banque","Total de la Banque d'heures"]
[{"$f":"$H$23+$H$36","v":0},{"$f":"'Congés de l''employé'!BU8*2","v":2.9166666666666665},{"$f":"A41","v":0},{"$f":"IF($H$26>0,$H$26)+IF($H$38>0,$H$38,0)+IF($H$26<0,$H$26)+IF($H$38<0,$H$38,0)","v":0},{"$f":"$A$41-$C$41","v":0},{"$f":"SUM('Fin Mai-Début juin semaine 1'!F41:G42)+E41","v":0}]

{"sheet":"Juin 4e-5e semaine-Juillet déb.","index":20,"n_rows":41,"n_cols":34,"rows_kept":41,"cut":false,"hidden":false,"merged":[[1,1,5,7],[40,0,41,0],[40,1,41,1],[40,2,41,2],[40,3,41,3],[40,4,41,4],[7,29,7,31],[42,1,42,2],[7,4,7,7],[9,1,9,3],[39,5,39,6],[40,5,41,6]]}
[{"$f":"MID(CELL(\"filename\",A1),FIND(\"]\",CELL(\"filename\",A1))+1,32)","v":"Juin 4e-5e semaine-Juillet déb."}]
[null,"   Feuille de temps"]
[]
[]
[]
[]
[]
[null,null,null,null,null,null,null,null,null,null,null,null,null,null,null,null,null,null,null,null,null,null,null,null,null,null,null,null,null,"Congés fériés, lundi suivant la date"]
["Employé: ",{"$f":"'Congés de l''employé'!B8","v":0},null,null,null,null,null,null,null,null,null,null,null,null,null,null,null,null,null,null,null,null,null,null,null,null,null,null,null,"Mois","Type de congé férié","Année en cours"]
["Période débutant le ",{"$f":"DATE(An_ref,1,-2)-WEEKDAY(DATE(An_ref,1,3))+175","v":"2019-06-17"},null,null,null,null,null,null,null,null,null,null,null,null,null,null,null,null,null,null,null,null,null,null,null,null,null,{"$f":"OR(B11=$AF$12,B11=$AF$13,B11=$AF$14,B11=$AF$16,B11=$AF$17,B11=$AF$19,B11=$AF$21,B11=$AF$23,B11=$AF$25,B11=$AF$26,B11=$AF$27,B11=$AF$28)","v":false},null,null,null,{"$f":"An_ref","v":2019},null,"alloué au férié"]
[null,null,null,null,null,null,null,null,null,null,null,null,null,null,null,null,null,null,null,null,null,null,null,null,null,null,null,null,null,"Janvier","Jour de l'an",{"$f":"DATE(Année,1,1)","v":"2019-01-01"},"Date fixe 1er janvier"]
[null,null,null,null,null,null,null,null,null,null,null,null,null,null,null,null,null,null,null,null,null,null,null,null,null,null,null,null,null,null,"FÉRIÉ-JOUR OUVRABLE SUIVANT LE JOUR DE L'AN",{"$f":"AF11+2-WEEKDAY(AF11)+(WEEKDAY(AF11)>2)","v":"2019-01-01"},null,{"$f":"Edit!M27","v":7.4735918097323577E-190}]
["Jour","Heure\nDébut","Départ\nDiner","Retour\nDiner","Heure\nFin","Télétravail\nDépart","Télétravail\nFin","TOTAL\nJournalier","Absence",null,"Index de la ligne",null,null,null,null,null,null,null,null,null,null,null,null,null,null,null,null,null,null,null,"Bureau fermé congé donné-un jour après le jour de l'an",{"$f":"AF11+2-WEEKDAY(AF11)+(WEEKDAY(AF11)>2)+1","v":"2019-01-02"}]
[null,null,null,null,null,null,null,null,null,null,null,{"$f":"MAX('Juin 2e-3e semaine'!K16:K35)","v":"1904-01-01"},null,null,null,null,null,null,null,null,null,null,null,null,null,null,null,null,null,"Mars","Bureau fermé congé donné-un jour ouvré avant Pâques",{"$f":"AF15-2","v":"2019-04-19"},"3e lundi de mai",{"$f":"Edit!M28","v":0.3289473684210526}]
["Horaire Semaine 1",null,null,null,null,null,null,null,null,null,{"$f":"IF(COUNTIF(I16,\"X\"),MAX($K$13:K13)+1,\"\")","v":""},null,null,null,null,null,null,null,null,null,null,null,null,null,null,null,null,null,null,null,"Pâques",{"$f":"DATE(Année,3,29.56+0.979*MOD(204-11*MOD(Année,19),30)-\nWEEKDAY(DATE(Année,3,28.56+0.979*MOD(204-11*MOD(Année,19),30))))","v":"2019-04-21"},"Date fixe 24 juin"]
[{"$f":"$B$10","v":"2019-06-17"},null,null,null,null,null,null,{"$f":"IF(ISNA(VLOOKUP($A16,$AF$12:$AH$29,3,FALSE)),IF($I16=\"CONGÉ\",'Congés de l''employé'!$E$16,IF($I16=\"Demi congé\",'Congés de l''employé'!$BU$16,IF($I16=\"MALADIE\",'Congés de l''employé'!$E$18,IF($I16=\"Demi maladie\",'Congés de l''employé'!$BU$18,MOD($E16-($B16-($C16-$D16))+($G16-$F16),1))))),VLOOKUP($A16,$AF$12:$AH$29,3,FALSE))","v":0},null,null,{"$f":"IF(I16<>\"\",1+MAX($L$14:L14),\"\")","v":""},null,null,null,null,null,null,null,null,null,null,null,null,null,null,null,null,null,null,"Avril","Lundi de pâques",{"$f":"AF15+1","v":"2019-04-22"},"Date fixe 1er juillet"]
[{"$f":"$B$10+1","v":"2019-06-18"},null,null,null,null,null,null,{"$f":"IF(ISNA(VLOOKUP($A17,$AF$12:$AH$29,3,FALSE)),IF($I17=\"CONGÉ\",'Congés de l''employé'!$E$16,IF($I17=\"Demi congé\",'Congés de l''employé'!$BU$16,IF($I17=\"MALADIE\",'Congés de l''employé'!$E$18,IF($I17=\"Demi maladie\",'Congés de l''employé'!$BU$18,MOD($E17-($B17-($C17-$D17))+($G17-$F17),1))))),VLOOKUP($A17,$AF$12:$AH$29,3,FALSE))","v":0},null,null,{"$f":"IF(I17<>\"\",1+MAX($K$14:K15),\"\")","v":""},null,null,null,null,null,null,null,null,null,null,null,null,null,null,null,null,null,null,"Mai","Journée nationale des patriotes",{"$f":"DATE(Année,5,23)-WEEKDAY(DATE(Année,5,1),2)","v":"2019-05-20"},null,{"$f":"Edit!M30","v":0}]
[{"$f":"$B$10+2","v":"2019-06-19"},null,null,null,null,null,null,{"$f":"IF(ISNA(VLOOKUP($A18,$AF$12:$AH$29,3,FALSE)),IF($I18=\"CONGÉ\",'Congés de l''employé'!$E$16,IF($I18=\"Demi congé\",'Congés de l''employé'!$BU$16,IF($I18=\"MALADIE\",'Congés de l''employé'!$E$18,IF($I18=\"Demi maladie\",'Congés de l''employé'!$BU$18,MOD($E18-($B18-($C18-$D18))+($G18-$F18),1))))),VLOOKUP($A18,$AF$12:$AH$29,3,FALSE))","v":0},null,null,{"$f":"IF(I18<>\"\",1+MAX($K$14:K16),\"\")","v":""},null,null,null,null,null,null,null,null,null,null,null,null,null,null,null,null,null,null,"Juin","Fête nationale du Québec",{"$f":"DATE(Année,6,24)","v":"2019-06-24"},null,{"$f":"Edit!M31","v":0}]
[{"$f":"$B$10+3","v":"2019-06-20"},null,null,null,null,null,null,{"$f":"IF(ISNA(VLOOKUP($A19,$AF$12:$AH$29,3,FALSE)),IF($I19=\"CONGÉ\",'Congés de l''employé'!$E$16,IF($I19=\"Demi congé\",'Congés de l''employé'!$BU$16,IF($I19=\"MALADIE\",'Congés de l''employé'!$E$18,IF($I19=\"Demi maladie\",'Congés de l''employé'!$BU$18,MOD($E19-($B19-($C19-$D19))+($G19-$F19),1))))),VLOOKUP($A19,$AF$12:$AH$29,3,FALSE))","v":0},null,null,{"$f":"IF(I19<>\"\",1+MAX($K$14:K17),\"\")","v":""},null,null,null,null,null,null,null,null,null,null,null,null,null,null,null,null,null,null,null,"FÉRIÉ-JOUR OUVRABLE SUIVANT LA FÊTE NATIONALE DU QUÉBEC",{"$f":"AF18+2-WEEKDAY(AF18)+(WEEKDAY(AF18)>2)*7","v":"2019-06-24"},"Date fixe 25 décembre"]
[{"$f":"$B$10+4","v":"2019-06-21"},null,null,null,null,null,null,{"$f":"IF(ISNA(VLOOKUP($A20,$AF$12:$AH$29,3,FALSE)),IF($I20=\"CONGÉ\",'Congés de l''employé'!$E$16,IF($I20=\"Demi congé\",'Congés de l''employé'!$BU$16,IF($I20=\"MALADIE\",'Congés de l''employé'!$E$18,IF($I20=\"Demi maladie\",'Congés de l''employé'!$BU$18,MOD($E20-($B20-($C20-$D20))+($G20-$F20),1))))),VLOOKUP($A20,$AF$12:$AH$29,3,FALSE))","v":0},null,null,{"$f":"IF(I20<>\"\",1+MAX($K$14:K18),\"\")","v":""},null,null,null,null,null,null,null,null,null,null,null,null,null,null,null,null,null,null,"Juillet","Fête du Canada",{"$f":"DATE(Année,7,1)","v":"2019-07-01"},null,{"$f":"Edit!M32","v":1.1253746147756614E-210}]
[{"$f":"$B$10+5","v":"2019-06-22"},null,null,null,null,null,null,{"$f":"IF(ISNA(VLOOKUP($A21,$AF$12:$AH$29,3,FALSE)),IF($I21=\"CONGÉ\",'Congés de l''employé'!$E$16,IF($I21=\"Demi congé\",'Congés de l''employé'!$BU$16,IF($I21=\"MALADIE\",'Congés de l''employé'!$E$18,IF($I21=\"Demi maladie\",'Congés de l''employé'!$BU$18,MOD($E21-($B21-($C21-$D21))+($G21-$F21),1))))),VLOOKUP($A21,$AF$12:$AH$29,3,FALSE))","v":0},null,null,{"$f":"IF(I21<>\"\",1+MAX($K$14:K19),\"\")","v":""},null,null,null,null,null,null,null,null,null,null,null,null,null,null,null,null,null,null,null,"FÉRIÉ-JOUR OUVRABLE SUIVANT LA FÊTE DU CANADA",{"$f":"AF20+2-WEEKDAY(AF20)+(WEEKDAY(AF20)>2)*7","v":"2019-07-01"}]
[{"$f":"$B$10+6","v":"2019-06-23"},null,null,null,null,null,null,{"$f":"IF(ISNA(VLOOKUP($A22,$AF$12:$AH$29,3,FALSE)),IF($I22=\"CONGÉ\",'Congés de l''employé'!$E$16,IF($I22=\"Demi congé\",'Congés de l''employé'!$BU$16,IF($I22=\"MALADIE\",'Congés de l''employé'!$E$18,IF($I22=\"Demi maladie\",'Congés de l''employé'!$BU$18,MOD($E22-($B22-($C22-$D22))+($G22-$F22),1))))),VLOOKUP($A22,$AF$12:$AH$29,3,FALSE))","v":0},null,null,{"$f":"IF(I22<>\"\",1+MAX($K$14:K20),\"\")","v":""},null,null,null,null,null,null,null,null,null,null,null,null,null,null,null,null,null,null,"Septembre","Fête du travail",{"$f":"IF(MOD(DATE(Année,9,1),7)<=2,2-MOD(DATE(Année,9,1),7),9-MOD(DATE(Année,9,1),7))+DATE(Année,9,1)","v":"2019-09-01"},null,{"$f":"Edit!M33","v":0}]
[null,null,null,null,null,null,null,{"$f":"SUM(H16:H22)+B23","v":0},null,null,{"$f":"IF(I23<>\"\",1+MAX($K$14:K21),\"\")","v":""},null,null,null,null,null,null,null,null,null,null,null,null,null,null,null,null,null,null,null,"FÉRIÉ-JOUR OUVRABLE SUIVANT LA FÊTE DU TRAVAIL",{"$f":"AF22+2-WEEKDAY(AF22)+(WEEKDAY(AF22)>2)*7","v":"2019-09-02"}]
[null,null,null,null,null,null,null,null,null,null,{"$f":"IF(I24<>\"\",1+MAX($K$14:K22),\"\")","v":""},null,null,null,null,null,null,null,null,null,null,null,null,null,null,null,null,null,null,"Octobre","Action de grâce",{"$f":"DATE(AF10,10,1)","v":"2019-10-01"},null,{"$f":"Edit!M34","v":0}]
[null,null,null,null,null,null,null,null,null,null,{"$f":"IF(I25<>\"\",1+MAX($K$14:K23),\"\")","v":""},null,null,null,null,null,null,null,null,null,null,null,null,null,null,null,null,null,null,null,"FÉRIÉ-JOUR OUVRABLE SUIVANT L'ACTION DE GRÂCE",{"$f":"AF24-DAY(AF24)-WEEKDAY(AF24-DAY(AF24),2)+15","v":"2019-10-14"}]
[null,null,null,null,null,null,"Heures en trop\nou en moins",{"$f":"IF(OR(H23=-(B15),B15=0),\"0\",(H23-B15))","v":"0"},null,null,{"$f":"IF(I26<>\"\",1+MAX($K$14:K24),\"\")","v":""},null,null,null,null,null,null,null,null,null,null,null,null,null,null,null,null,null,null,null,"Bureau fermé congé donné",{"$f":"DATE(Année,12,25)-1","v":"2019-12-24"},null,{"$f":"'[1]Congés de l''employé'!$E$14","v":0}]
[null,null,null,null,null,null,null,null,null,null,{"$f":"IF(I27<>\"\",1+MAX($K$14:K25),\"\")","v":""},null,null,null,null,null,null,null,null,null,null,null,null,null,null,null,null,null,null,"Décembre","Férié-Noël",{"$f":"DATE(Année,12,25)","v":"2019-12-25"},null,{"$f":"Edit!M35","v":0}]
["Horaire Semaine 2",null,null,null,null,null,null,null,null,null,{"$f":"IF(I28<>\"\",1+MAX($K$14:K26),\"\")","v":""},null,null,null,null,null,null,null,null,null,null,null,null,null,null,null,null,null,null,"Décembre","Bureau fermé congé donné",{"$f":"DATE(Année,12,25)+1","v":"2019-12-26"}]
[{"$f":"B10+7","v":"2019-06-24"},null,null,null,null,null,null,{"$f":"IF(ISNA(VLOOKUP($A29,$AF$12:$AH$29,3,FALSE)),IF($I29=\"CONGÉ\",'Congés de l''employé'!$E$16,IF($I29=\"Demi congé\",'Congés de l''employé'!$BU$16,IF($I29=\"MALADIE\",'Congés de l''employé'!$E$18,IF($I29=\"Demi maladie\",'Congés de l''employé'!$BU$18,MOD($E29-($B29-($C29-$D29))+($G29-$F29),1))))),VLOOKUP($A29,$AF$12:$AH$29,3,FALSE))","v":0},null,null,{"$f":"IF(I29<>\"\",1+MAX($K$14:K28),\"\")","v":""},null,null,null,null,null,null,null,null,null,null,null,null,null,null,null,null,null,null,"Décembre","Bureau fermé congé donné",{"$f":"AF11+2-WEEKDAY(AF11)+(WEEKDAY(AF11)>2)-1","v":"2018-12-31"}]
[{"$f":"B10+8","v":"2019-06-25"},null,null,null,null,null,null,{"$f":"IF(ISNA(VLOOKUP($A30,$AF$12:$AH$29,3,FALSE)),IF($I30=\"CONGÉ\",'Congés de l''employé'!$E$16,IF($I30=\"Demi congé\",'Congés de l''employé'!$BU$16,IF($I30=\"MALADIE\",'Congés de l''employé'!$E$18,IF($I30=\"Demi maladie\",'Congés de l''employé'!$BU$18,MOD($E30-($B30-($C30-$D30))+($G30-$F30),1))))),VLOOKUP($A30,$AF$12:$AH$29,3,FALSE))","v":0},null,null,{"$f":"IF(I30<>\"\",1+MAX($K$14:K29),\"\")","v":""}]
[{"$f":"B10+9","v":"2019-06-26"},null,null,null,null,null,null,{"$f":"IF(ISNA(VLOOKUP($A31,$AF$12:$AH$29,3,FALSE)),IF($I31=\"CONGÉ\",'Congés de l''employé'!$E$16,IF($I31=\"Demi congé\",'Congés de l''employé'!$BU$16,IF($I31=\"MALADIE\",'Congés de l''employé'!$E$18,IF($I31=\"Demi maladie\",'Congés de l''employé'!$BU$18,MOD($E31-($B31-($C31-$D31))+($G31-$F31),1))))),VLOOKUP($A31,$AF$12:$AH$29,3,FALSE))","v":0},null,null,{"$f":"IF(I31<>\"\",1+MAX($K$14:K30),\"\")","v":""}]
[{"$f":"B10+10","v":"2019-06-27"},null,null,null,null,null,null,{"$f":"IF(ISNA(VLOOKUP($A32,$AF$12:$AH$29,3,FALSE)),IF($I32=\"CONGÉ\",'Congés de l''employé'!$E$16,IF($I32=\"Demi congé\",'Congés de l''employé'!$BU$16,IF($I32=\"MALADIE\",'Congés de l''employé'!$E$18,IF($I32=\"Demi maladie\",'Congés de l''employé'!$BU$18,MOD($E32-($B32-($C32-$D32))+($G32-$F32),1))))),VLOOKUP($A32,$AF$12:$AH$29,3,FALSE))","v":0},null,null,{"$f":"IF(I32<>\"\",1+MAX($K$14:K31),\"\")","v":""}]
[{"$f":"B10+11","v":"2019-06-28"},null,null,null,null,null,null,{"$f":"IF(ISNA(VLOOKUP($A33,$AF$12:$AH$29,3,FALSE)),IF($I33=\"CONGÉ\",'Congés de l''employé'!$E$16,IF($I33=\"Demi congé\",'Congés de l''employé'!$BU$16,IF($I33=\"MALADIE\",'Congés de l''employé'!$E$18,IF($I33=\"Demi maladie\",'Congés de l''employé'!$BU$18,MOD($E33-($B33-($C33-$D33))+($G33-$F33),1))))),VLOOKUP($A33,$AF$12:$AH$29,3,FALSE))","v":0},null,null,{"$f":"IF(I33<>\"\",1+MAX($K$14:K32),\"\")","v":""}]
[{"$f":"B10+12","v":"2019-06-29"},null,null,null,null,null,null,{"$f":"IF(ISNA(VLOOKUP($A34,$AF$12:$AH$29,3,FALSE)),IF($I34=\"CONGÉ\",'Congés de l''employé'!$E$16,IF($I34=\"Demi congé\",'Congés de l''employé'!$BU$16,IF($I34=\"MALADIE\",'Congés de l''employé'!$E$18,IF($I34=\"Demi maladie\",'Congés de l''employé'!$BU$18,MOD($E34-($B34-($C34-$D34))+($G34-$F34),1))))),VLOOKUP($A34,$AF$12:$AH$29,3,FALSE))","v":0},null,null,{"$f":"IF(I34<>\"\",1+MAX($K$14:K33),\"\")","v":""}]
[{"$f":"B10+13","v":"2019-06-30"},null,null,null,null,null,null,{"$f":"IF(ISNA(VLOOKUP($A35,$AF$12:$AH$29,3,FALSE)),IF($I35=\"CONGÉ\",'Congés de l''employé'!$E$16,IF($I35=\"Demi congé\",'Congés de l''employé'!$BU$16,IF($I35=\"MALADIE\",'Congés de l''employé'!$E$18,IF($I35=\"Demi maladie\",'Congés de l''employé'!$BU$18,MOD($E35-($B35-($C35-$D35))+($G35-$F35),1))))),VLOOKUP($A35,$AF$12:$AH$29,3,FALSE))","v":0},null,null,{"$f":"IF(I35<>\"\",1+MAX($K$14:K34),\"\")","v":""}]
[null,null,null,null,null,null,null,{"$f":"SUM(H29:H35)+B36","v":0}]
[]
[null,null,null,null,null,null,"Heures en trop\nou en moins",{"$f":"IF(OR(H36=-(B28),B28=0),\"0\",(H36-B28))","v":"0"}]
[]
["Heure travaillées","Heures prévues","ENTREZ le nombre d'heures à payer","Heures\n supplémentaires ou en moins","Heures à \ntransposer dans la Banque","Total de la Banque d'heures"]
[{"$f":"$H$23+$H$36","v":0},{"$f":"'Congés de l''employé'!BU8*2","v":2.9166666666666665},{"$f":"A41","v":0},{"$f":"IF($H$26>0,$H$26)+IF($H$38>0,$H$38,0)+IF($H$26<0,$H$26)+IF($H$38<0,$H$38,0)","v":0},{"$f":"$A$41-$C$41","v":0},{"$f":"SUM('Juin 2e-3e semaine'!F41:G42)+E41","v":0}]

{"sheet":"Juillet-2prem. semaines","index":21,"n_rows":41,"n_cols":34,"rows_kept":41,"cut":false,"hidden":false,"merged":[[1,1,5,7],[40,0,41,0],[40,1,41,1],[40,2,41,2],[40,3,41,3],[40,4,41,4],[7,29,7,31],[42,1,42,2],[7,4,7,7],[9,1,9,3],[39,5,39,6],[40,5,41,6]]}
[{"$f":"MID(CELL(\"filename\",A1),FIND(\"]\",CELL(\"filename\",A1))+1,32)","v":"Juillet-2prem. semaines"}]
[null,"      Feuille de temps"]
[]
[]
[]
[]
[]
[null,null,null,null,null,null,null,null,null,null,null,null,null,null,null,null,null,null,null,null,null,null,null,null,null,null,null,null,null,"Congés fériés, lundi suivant la date"]
["Employé: ",{"$f":"'Congés de l''employé'!B8","v":0},null,null,null,null,null,null,null,null,null,null,null,null,null,null,null,null,null,null,null,null,null,null,null,null,null,null,null,"Mois","Type de congé férié","Année en cours"]
["Période débutant le ",{"$f":"DATE(An_ref,1,-2)-WEEKDAY(DATE(An_ref,1,3))+189","v":"2019-07-01"},null,null,null,null,null,null,null,null,null,null,null,null,null,null,null,null,null,null,null,null,null,null,null,null,null,{"$f":"OR(B11=$AF$12,B11=$AF$13,B11=$AF$14,B11=$AF$16,B11=$AF$17,B11=$AF$19,B11=$AF$21,B11=$AF$23,B11=$AF$25,B11=$AF$26,B11=$AF$27,B11=$AF$28)","v":false},null,null,null,{"$f":"An_ref","v":2019},null,"alloué au férié"]
[null,null,null,null,null,null,null,null,null,null,null,null,null,null,null,null,null,null,null,null,null,null,null,null,null,null,null,null,null,"Janvier","Jour de l'an",{"$f":"DATE(Année,1,1)","v":"2019-01-01"},"Date fixe 1er janvier"]
[null,null,null,null,null,null,null,null,null,null,null,null,null,null,null,null,null,null,null,null,null,null,null,null,null,null,null,null,null,null,"FÉRIÉ-JOUR OUVRABLE SUIVANT LE JOUR DE L'AN",{"$f":"AF11+2-WEEKDAY(AF11)+(WEEKDAY(AF11)>2)","v":"2019-01-01"},null,{"$f":"Edit!M27","v":7.4735918097323577E-190}]
["Jour","Heure\nDébut","Départ\nDiner","Retour\nDiner","Heure\nFin","Télétravail\nDépart","Télétravail\nFin","TOTAL\nJournalier","Absence",null,"Index de la ligne",null,null,null,null,null,null,null,null,null,null,null,null,null,null,null,null,null,null,null,"Bureau fermé congé donné-un jour après le jour de l'an",{"$f":"AF11+2-WEEKDAY(AF11)+(WEEKDAY(AF11)>2)+1","v":"2019-01-02"}]
[null,null,null,null,null,null,null,null,null,null,null,{"$f":"MAX('Juin 4e-5e semaine-Juillet déb.'!K16:K35)","v":"1904-01-01"},null,null,null,null,null,null,null,null,null,null,null,null,null,null,null,null,null,"Mars","Bureau fermé congé donné-un jour ouvré avant Pâques",{"$f":"AF15-2","v":"2019-04-19"},"3e lundi de mai",{"$f":"Edit!M28","v":0.3289473684210526}]
["Horaire Semaine 1",null,null,null,null,null,null,null,null,null,{"$f":"IF(COUNTIF(I16,\"X\"),MAX($K$13:K13)+1,\"\")","v":""},null,null,null,null,null,null,null,null,null,null,null,null,null,null,null,null,null,null,null,"Pâques",{"$f":"DATE(Année,3,29.56+0.979*MOD(204-11*MOD(Année,19),30)-\nWEEKDAY(DATE(Année,3,28.56+0.979*MOD(204-11*MOD(Année,19),30))))","v":"2019-04-21"},"Date fixe 24 juin"]
[{"$f":"$B$10","v":"2019-07-01"},null,null,null,null,null,null,{"$f":"IF(ISNA(VLOOKUP($A16,$AF$12:$AH$29,3,FALSE)),IF($I16=\"CONGÉ\",'Congés de l''employé'!$E$16,IF($I16=\"Demi congé\",'Congés de l''employé'!$BU$16,IF($I16=\"MALADIE\",'Congés de l''employé'!$E$18,IF($I16=\"Demi maladie\",'Congés de l''employé'!$BU$18,MOD($E16-($B16-($C16-$D16))+($G16-$F16),1))))),VLOOKUP($A16,$AF$12:$AH$29,3,FALSE))","v":1.1253746147756614E-210},null,null,{"$f":"IF(I16<>\"\",1+MAX($L$14:L14),\"\")","v":""},null,null,null,null,null,null,null,null,null,null,null,null,null,null,null,null,null,null,"Avril","Lundi de pâques",{"$f":"AF15+1","v":"2019-04-22"},"Date fixe 1er juillet"]
[{"$f":"$B$10+1","v":"2019-07-02"},null,null,null,null,null,null,{"$f":"IF(ISNA(VLOOKUP($A17,$AF$12:$AH$29,3,FALSE)),IF($I17=\"CONGÉ\",'Congés de l''employé'!$E$16,IF($I17=\"Demi congé\",'Congés de l''employé'!$BU$16,IF($I17=\"MALADIE\",'Congés de l''employé'!$E$18,IF($I17=\"Demi maladie\",'Congés de l''employé'!$BU$18,MOD($E17-($B17-($C17-$D17))+($G17-$F17),1))))),VLOOKUP($A17,$AF$12:$AH$29,3,FALSE))","v":0},null,null,{"$f":"IF(I17<>\"\",1+MAX($K$14:K15),\"\")","v":""},null,null,null,null,null,null,null,null,null,null,null,null,null,null,null,null,null,null,"Mai","Journée nationale des patriotes",{"$f":"DATE(Année,5,23)-WEEKDAY(DATE(Année,5,1),2)","v":"2019-05-20"},null,{"$f":"Edit!M30","v":0}]
[{"$f":"$B$10+2","v":"2019-07-03"},null,null,null,null,null,null,{"$f":"IF(ISNA(VLOOKUP($A18,$AF$12:$AH$29,3,FALSE)),IF($I18=\"CONGÉ\",'Congés de l''employé'!$E$16,IF($I18=\"Demi congé\",'Congés de l''employé'!$BU$16,IF($I18=\"MALADIE\",'Congés de l''employé'!$E$18,IF($I18=\"Demi maladie\",'Congés de l''employé'!$BU$18,MOD($E18-($B18-($C18-$D18))+($G18-$F18),1))))),VLOOKUP($A18,$AF$12:$AH$29,3,FALSE))","v":0},null,null,{"$f":"IF(I18<>\"\",1+MAX($K$14:K16),\"\")","v":""},null,null,null,null,null,null,null,null,null,null,null,null,null,null,null,null,null,null,"Juin","Fête nationale du Québec",{"$f":"DATE(Année,6,24)","v":"2019-06-24"},null,{"$f":"Edit!M31","v":0}]
[{"$f":"$B$10+3","v":"2019-07-04"},null,null,null,null,null,null,{"$f":"IF(ISNA(VLOOKUP($A19,$AF$12:$AH$29,3,FALSE)),IF($I19=\"CONGÉ\",'Congés de l''employé'!$E$16,IF($I19=\"Demi congé\",'Congés de l''employé'!$BU$16,IF($I19=\"MALADIE\",'Congés de l''employé'!$E$18,IF($I19=\"Demi maladie\",'Congés de l''employé'!$BU$18,MOD($E19-($B19-($C19-$D19))+($G19-$F19),1))))),VLOOKUP($A19,$AF$12:$AH$29,3,FALSE))","v":0},null,null,{"$f":"IF(I19<>\"\",1+MAX($K$14:K17),\"\")","v":""},null,null,null,null,null,null,null,null,null,null,null,null,null,null,null,null,null,null,null,"FÉRIÉ-JOUR OUVRABLE SUIVANT LA FÊTE NATIONALE DU QUÉBEC",{"$f":"AF18+2-WEEKDAY(AF18)+(WEEKDAY(AF18)>2)*7","v":"2019-06-24"},"Date fixe 25 décembre"]
[{"$f":"$B$10+4","v":"2019-07-05"},null,null,null,null,null,null,{"$f":"IF(ISNA(VLOOKUP($A20,$AF$12:$AH$29,3,FALSE)),IF($I20=\"CONGÉ\",'Congés de l''employé'!$E$16,IF($I20=\"Demi congé\",'Congés de l''employé'!$BU$16,IF($I20=\"MALADIE\",'Congés de l''employé'!$E$18,IF($I20=\"Demi maladie\",'Congés de l''employé'!$BU$18,MOD($E20-($B20-($C20-$D20))+($G20-$F20),1))))),VLOOKUP($A20,$AF$12:$AH$29,3,FALSE))","v":0},null,null,{"$f":"IF(I20<>\"\",1+MAX($K$14:K18),\"\")","v":""},null,null,null,null,null,null,null,null,null,null,null,null,null,null,null,null,null,null,"Juillet","Fête du Canada",{"$f":"DATE(Année,7,1)","v":"2019-07-01"},null,{"$f":"Edit!M32","v":1.1253746147756614E-210}]
[{"$f":"$B$10+5","v":"2019-07-06"},null,null,null,null,null,null,{"$f":"IF(ISNA(VLOOKUP($A21,$AF$12:$AH$29,3,FALSE)),IF($I21=\"CONGÉ\",'Congés de l''employé'!$E$16,IF($I21=\"Demi congé\",'Congés de l''employé'!$BU$16,IF($I21=\"MALADIE\",'Congés de l''employé'!$E$18,IF($I21=\"Demi maladie\",'Congés de l''employé'!$BU$18,MOD($E21-($B21-($C21-$D21))+($G21-$F21),1))))),VLOOKUP($A21,$AF$12:$AH$29,3,FALSE))","v":0},null,null,{"$f":"IF(I21<>\"\",1+MAX($K$14:K19),\"\")","v":""},null,null,null,null,null,null,null,null,null,null,null,null,null,null,null,null,null,null,null,"FÉRIÉ-JOUR OUVRABLE SUIVANT LA FÊTE DU CANADA",{"$f":"AF20+2-WEEKDAY(AF20)+(WEEKDAY(AF20)>2)*7","v":"2019-07-01"}]
[{"$f":"$B$10+6","v":"2019-07-07"},null,null,null,null,null,null,{"$f":"IF(ISNA(VLOOKUP($A22,$AF$12:$AH$29,3,FALSE)),IF($I22=\"CONGÉ\",'Congés de l''employé'!$E$16,IF($I22=\"Demi congé\",'Congés de l''employé'!$BU$16,IF($I22=\"MALADIE\",'Congés de l''employé'!$E$18,IF($I22=\"Demi maladie\",'Congés de l''employé'!$BU$18,MOD($E22-($B22-($C22-$D22))+($G22-$F22),1))))),VLOOKUP($A22,$AF$12:$AH$29,3,FALSE))","v":0},null,null,{"$f":"IF(I22<>\"\",1+MAX($K$14:K20),\"\")","v":""},null,null,null,null,null,null,null,null,null,null,null,null,null,null,null,null,null,null,"Septembre","Fête du travail",{"$f":"IF(MOD(DATE(Année,9,1),7)<=2,2-MOD(DATE(Année,9,1),7),9-MOD(DATE(Année,9,1),7))+DATE(Année,9,1)","v":"2019-09-01"},null,{"$f":"Edit!M33","v":0}]
[null,null,null,null,null,null,null,{"$f":"SUM(H16:H22)+B23","v":1.1253746147756614E-210},null,null,{"$f":"IF(I23<>\"\",1+MAX($K$14:K21),\"\")","v":""},null,null,null,null,null,null,null,null,null,null,null,null,null,null,null,null,null,null,null,"FÉRIÉ-JOUR OUVRABLE SUIVANT LA FÊTE DU TRAVAIL",{"$f":"AF22+2-WEEKDAY(AF22)+(WEEKDAY(AF22)>2)*7","v":"2019-09-02"}]
[null,null,null,null,null,null,null,null,null,null,{"$f":"IF(I24<>\"\",1+MAX($K$14:K22),\"\")","v":""},null,null,null,null,null,null,null,null,null,null,null,null,null,null,null,null,null,null,"Octobre","Action de grâce",{"$f":"DATE(AF10,10,1)","v":"2019-10-01"},null,{"$f":"Edit!M34","v":0}]
[null,null,null,null,null,null,null,null,null,null,{"$f":"IF(I25<>\"\",1+MAX($K$14:K23),\"\")","v":""},null,null,null,null,null,null,null,null,null,null,null,null,null,null,null,null,null,null,null,"FÉRIÉ-JOUR OUVRABLE SUIVANT L'ACTION DE GRÂCE",{"$f":"AF24-DAY(AF24)-WEEKDAY(AF24-DAY(AF24),2)+15","v":"2019-10-14"}]
[null,null,null,null,null,null,"Heures en trop\nou en moins",{"$f":"IF(OR(H23=-(B15),B15=0),\"0\",(H23-B15))","v":"0"},null,null,{"$f":"IF(I26<>\"\",1+MAX($K$14:K24),\"\")","v":""},null,null,null,null,null,null,null,null,null,null,null,null,null,null,null,null,null,null,null,"Bureau fermé congé donné",{"$f":"DATE(Année,12,25)-1","v":"2019-12-24"},null,{"$f":"'[1]Congés de l''employé'!$E$14","v":0}]
[null,null,null,null,null,null,null,null,null,null,{"$f":"IF(I27<>\"\",1+MAX($K$14:K25),\"\")","v":""},null,null,null,null,null,null,null,null,null,null,null,null,null,null,null,null,null,null,"Décembre","Férié-Noël",{"$f":"DATE(Année,12,25)","v":"2019-12-25"},null,{"$f":"Edit!M35","v":0}]
["Horaire Semaine 2",null,null,null,null,null,null,null,null,null,{"$f":"IF(I28<>\"\",1+MAX($K$14:K26),\"\")","v":""},null,null,null,null,null,null,null,null,null,null,null,null,null,null,null,null,null,null,"Décembre","Bureau fermé congé donné",{"$f":"DATE(Année,12,25)+1","v":"2019-12-26"}]
[{"$f":"B10+7","v":"2019-07-08"},null,null,null,null,null,null,{"$f":"IF(ISNA(VLOOKUP($A29,$AF$12:$AH$29,3,FALSE)),IF($I29=\"CONGÉ\",'Congés de l''employé'!$E$16,IF($I29=\"Demi congé\",'Congés de l''employé'!$BU$16,IF($I29=\"MALADIE\",'Congés de l''employé'!$E$18,IF($I29=\"Demi maladie\",'Congés de l''employé'!$BU$18,MOD($E29-($B29-($C29-$D29))+($G29-$F29),1))))),VLOOKUP($A29,$AF$12:$AH$29,3,FALSE))","v":0},null,null,{"$f":"IF(I29<>\"\",1+MAX($K$14:K28),\"\")","v":""},null,null,null,null,null,null,null,null,null,null,null,null,null,null,null,null,null,null,"Décembre","Bureau fermé congé donné",{"$f":"AF11+2-WEEKDAY(AF11)+(WEEKDAY(AF11)>2)-1","v":"2018-12-31"}]
[{"$f":"B10+8","v":"2019-07-09"},null,null,null,null,null,null,{"$f":"IF(ISNA(VLOOKUP($A30,$AF$12:$AH$29,3,FALSE)),IF($I30=\"CONGÉ\",'Congés de l''employé'!$E$16,IF($I30=\"Demi congé\",'Congés de l''employé'!$BU$16,IF($I30=\"MALADIE\",'Congés de l''employé'!$E$18,IF($I30=\"Demi maladie\",'Congés de l''employé'!$BU$18,MOD($E30-($B30-($C30-$D30))+($G30-$F30),1))))),VLOOKUP($A30,$AF$12:$AH$29,3,FALSE))","v":0},null,null,{"$f":"IF(I30<>\"\",1+MAX($K$14:K29),\"\")","v":""}]
[{"$f":"B10+9","v":"2019-07-10"},null,null,null,null,null,null,{"$f":"IF(ISNA(VLOOKUP($A31,$AF$12:$AH$29,3,FALSE)),IF($I31=\"CONGÉ\",'Congés de l''employé'!$E$16,IF($I31=\"Demi congé\",'Congés de l''employé'!$BU$16,IF($I31=\"MALADIE\",'Congés de l''employé'!$E$18,IF($I31=\"Demi maladie\",'Congés de l''employé'!$BU$18,MOD($E31-($B31-($C31-$D31))+($G31-$F31),1))))),VLOOKUP($A31,$AF$12:$AH$29,3,FALSE))","v":0},null,null,{"$f":"IF(I31<>\"\",1+MAX($K$14:K30),\"\")","v":""}]
[{"$f":"B10+10","v":"2019-07-11"},null,null,null,null,null,null,{"$f":"IF(ISNA(VLOOKUP($A32,$AF$12:$AH$29,3,FALSE)),IF($I32=\"CONGÉ\",'Congés de l''employé'!$E$16,IF($I32=\"Demi congé\",'Congés de l''employé'!$BU$16,IF($I32=\"MALADIE\",'Congés de l''employé'!$E$18,IF($I32=\"Demi maladie\",'Congés de l''employé'!$BU$18,MOD($E32-($B32-($C32-$D32))+($G32-$F32),1))))),VLOOKUP($A32,$AF$12:$AH$29,3,FALSE))","v":0},null,null,{"$f":"IF(I32<>\"\",1+MAX($K$14:K31),\"\")","v":""}]
[{"$f":"B10+11","v":"2019-07-12"},null,null,null,null,null,null,{"$f":"IF(ISNA(VLOOKUP($A33,$AF$12:$AH$29,3,FALSE)),IF($I33=\"CONGÉ\",'Congés de l''employé'!$E$16,IF($I33=\"Demi congé\",'Congés de l''employé'!$BU$16,IF($I33=\"MALADIE\",'Congés de l''employé'!$E$18,IF($I33=\"Demi maladie\",'Congés de l''employé'!$BU$18,MOD($E33-($B33-($C33-$D33))+($G33-$F33),1))))),VLOOKUP($A33,$AF$12:$AH$29,3,FALSE))","v":0},null,null,{"$f":"IF(I33<>\"\",1+MAX($K$14:K32),\"\")","v":""}]
[{"$f":"B10+12","v":"2019-07-13"},null,null,null,null,null,null,{"$f":"IF(ISNA(VLOOKUP($A34,$AF$12:$AH$29,3,FALSE)),IF($I34=\"CONGÉ\",'Congés de l''employé'!$E$16,IF($I34=\"Demi congé\",'Congés de l''employé'!$BU$16,IF($I34=\"MALADIE\",'Congés de l''employé'!$E$18,IF($I34=\"Demi maladie\",'Congés de l''employé'!$BU$18,MOD($E34-($B34-($C34-$D34))+($G34-$F34),1))))),VLOOKUP($A34,$AF$12:$AH$29,3,FALSE))","v":0},null,null,{"$f":"IF(I34<>\"\",1+MAX($K$14:K33),\"\")","v":""}]
[{"$f":"B10+13","v":"2019-07-14"},null,null,null,null,null,null,{"$f":"IF(ISNA(VLOOKUP($A35,$AF$12:$AH$29,3,FALSE)),IF($I35=\"CONGÉ\",'Congés de l''employé'!$E$16,IF($I35=\"Demi congé\",'Congés de l''employé'!$BU$16,IF($I35=\"MALADIE\",'Congés de l''employé'!$E$18,IF($I35=\"Demi maladie\",'Congés de l''employé'!$BU$18,MOD($E35-($B35-($C35-$D35))+($G35-$F35),1))))),VLOOKUP($A35,$AF$12:$AH$29,3,FALSE))","v":0},null,null,{"$f":"IF(I35<>\"\",1+MAX($K$14:K34),\"\")","v":""}]
[null,null,null,null,null,null,null,{"$f":"SUM(H29:H35)+B36","v":0}]
[]
[null,null,null,null,null,null,"Heures en trop\nou en moins",{"$f":"IF(OR(H36=-(B28),B28=0),\"0\",(H36-B28))","v":"0"}]
[]
["Heure travaillées","Heures prévues","ENTREZ le nombre d'heures à payer","Heures\n supplémentaires ou en moins","Heures à \ntransposer dans la Banque","Total de la Banque d'heures"]
[{"$f":"$H$23+$H$36","v":1.1253746147756614E-210},{"$f":"'Congés de l''employé'!BU8*2","v":2.9166666666666665},{"$f":"A41","v":1.1253746147756614E-210},{"$f":"IF($H$26>0,$H$26)+IF($H$38>0,$H$38,0)+IF($H$26<0,$H$26)+IF($H$38<0,$H$38,0)","v":0},{"$f":"$A$41-$C$41","v":0},{"$f":"SUM('Juin 4e-5e semaine-Juillet déb.'!F41:G42)+E41","v":0}]

{"sheet":"Juillet 3e-4e semaine","index":22,"n_rows":41,"n_cols":34,"rows_kept":41,"cut":false,"hidden":false,"merged":[[1,1,5,7],[40,0,41,0],[40,1,41,1],[40,2,41,2],[40,3,41,3],[40,4,41,4],[7,29,7,31],[42,1,42,2],[7,4,7,7],[9,1,9,3],[39,5,39,6],[40,5,41,6]]}
[{"$f":"MID(CELL(\"filename\",A1),FIND(\"]\",CELL(\"filename\",A1))+1,32)","v":"Juillet 3e-4e semaine"}]
[null,"      Feuille de temps"]
[]
[]
[]
[]
[]
[null,null,null,null,null,null,null,null,null,null,null,null,null,null,null,null,null,null,null,null,null,null,null,null,null,null,null,null,null,"Congés fériés, lundi suivant la date"]
["Employé: ",{"$f":"'Congés de l''employé'!B8","v":0},null,null,null,null,null,null,null,null,null,null,null,null,null,null,null,null,null,null,null,null,null,null,null,null,null,null,null,"Mois","Type de congé férié","Année en cours"]
["Période débutant le ",{"$f":"DATE(An_ref,1,-2)-WEEKDAY(DATE(An_ref,1,3))+203","v":"2019-07-15"},null,null,null,null,null,null,null,null,null,null,null,null,null,null,null,null,null,null,null,null,null,null,null,null,null,{"$f":"OR(B11=$AF$12,B11=$AF$13,B11=$AF$14,B11=$AF$16,B11=$AF$17,B11=$AF$19,B11=$AF$21,B11=$AF$23,B11=$AF$25,B11=$AF$26,B11=$AF$27,B11=$AF$28)","v":false},null,null,null,{"$f":"An_ref","v":2019},null,"alloué au férié"]
[null,null,null,null,null,null,null,null,null,null,null,null,null,null,null,null,null,null,null,null,null,null,null,null,null,null,null,null,null,"Janvier","Jour de l'an",{"$f":"DATE(Année,1,1)","v":"2019-01-01"},"Date fixe 1er janvier"]
[null,null,null,null,null,null,null,null,null,null,null,null,null,null,null,null,null,null,null,null,null,null,null,null,null,null,null,null,null,null,"FÉRIÉ-JOUR OUVRABLE SUIVANT LE JOUR DE L'AN",{"$f":"AF11+2-WEEKDAY(AF11)+(WEEKDAY(AF11)>2)","v":"2019-01-01"},null,{"$f":"Edit!M27","v":7.4735918097323577E-190}]
["Jour","Heure\nDébut","Départ\nDiner","Retour\nDiner","Heure\nFin","Télétravail\nDépart","Télétravail\nFin","TOTAL\nJournalier","Absence",null,"Index de la ligne",null,null,null,null,null,null,null,null,null,null,null,null,null,null,null,null,null,null,null,"Bureau fermé congé donné-un jour après le jour de l'an",{"$f":"AF11+2-WEEKDAY(AF11)+(WEEKDAY(AF11)>2)+1","v":"2019-01-02"}]
[null,null,null,null,null,null,null,null,null,null,null,{"$f":"MAX('Juillet-2prem. semaines'!K16:K35)","v":"1904-01-01"},null,null,null,null,null,null,null,null,null,null,null,null,null,null,null,null,null,"Mars","Bureau fermé congé donné-un jour ouvré avant Pâques",{"$f":"AF15-2","v":"2019-04-19"},"3e lundi de mai",{"$f":"Edit!M28","v":0.3289473684210526}]
["Horaire Semaine 1",null,null,null,null,null,null,null,null,null,{"$f":"IF(COUNTIF(I16,\"X\"),MAX($K$13:K13)+1,\"\")","v":""},null,null,null,null,null,null,null,null,null,null,null,null,null,null,null,null,null,null,null,"Pâques",{"$f":"DATE(Année,3,29.56+0.979*MOD(204-11*MOD(Année,19),30)-\nWEEKDAY(DATE(Année,3,28.56+0.979*MOD(204-11*MOD(Année,19),30))))","v":"2019-04-21"},"Date fixe 24 juin"]
[{"$f":"$B$10","v":"2019-07-15"},null,null,null,null,null,null,{"$f":"IF(ISNA(VLOOKUP($A16,$AF$12:$AH$29,3,FALSE)),IF($I16=\"CONGÉ\",'Congés de l''employé'!$E$16,IF($I16=\"Demi congé\",'Congés de l''employé'!$BU$16,IF($I16=\"MALADIE\",'Congés de l''employé'!$E$18,IF($I16=\"Demi maladie\",'Congés de l''employé'!$BU$18,MOD($E16-($B16-($C16-$D16))+($G16-$F16),1))))),VLOOKUP($A16,$AF$12:$AH$29,3,FALSE))","v":0},null,null,{"$f":"IF(I16<>\"\",1+MAX($L$14:L14),\"\")","v":""},null,null,null,null,null,null,null,null,null,null,null,null,null,null,null,null,null,null,"Avril","Lundi de pâques",{"$f":"AF15+1","v":"2019-04-22"},"Date fixe 1er juillet"]
[{"$f":"$B$10+1","v":"2019-07-16"},null,null,null,null,null,null,{"$f":"IF(ISNA(VLOOKUP($A17,$AF$12:$AH$29,3,FALSE)),IF($I17=\"CONGÉ\",'Congés de l''employé'!$E$16,IF($I17=\"Demi congé\",'Congés de l''employé'!$BU$16,IF($I17=\"MALADIE\",'Congés de l''employé'!$E$18,IF($I17=\"Demi maladie\",'Congés de l''employé'!$BU$18,MOD($E17-($B17-($C17-$D17))+($G17-$F17),1))))),VLOOKUP($A17,$AF$12:$AH$29,3,FALSE))","v":0},null,null,{"$f":"IF(I17<>\"\",1+MAX($K$14:K15),\"\")","v":""},null,null,null,null,null,null,null,null,null,null,null,null,null,null,null,null,null,null,"Mai","Journée nationale des patriotes",{"$f":"DATE(Année,5,23)-WEEKDAY(DATE(Année,5,1),2)","v":"2019-05-20"},null,{"$f":"Edit!M30","v":0}]
[{"$f":"$B$10+2","v":"2019-07-17"},null,null,null,null,null,null,{"$f":"IF(ISNA(VLOOKUP($A18,$AF$12:$AH$29,3,FALSE)),IF($I18=\"CONGÉ\",'Congés de l''employé'!$E$16,IF($I18=\"Demi congé\",'Congés de l''employé'!$BU$16,IF($I18=\"MALADIE\",'Congés de l''employé'!$E$18,IF($I18=\"Demi maladie\",'Congés de l''employé'!$BU$18,MOD($E18-($B18-($C18-$D18))+($G18-$F18),1))))),VLOOKUP($A18,$AF$12:$AH$29,3,FALSE))","v":0},null,null,{"$f":"IF(I18<>\"\",1+MAX($K$14:K16),\"\")","v":""},null,null,null,null,null,null,null,null,null,null,null,null,null,null,null,null,null,null,"Juin","Fête nationale du Québec",{"$f":"DATE(Année,6,24)","v":"2019-06-24"},null,{"$f":"Edit!M31","v":0}]
[{"$f":"$B$10+3","v":"2019-07-18"},null,null,null,null,null,null,{"$f":"IF(ISNA(VLOOKUP($A19,$AF$12:$AH$29,3,FALSE)),IF($I19=\"CONGÉ\",'Congés de l''employé'!$E$16,IF($I19=\"Demi congé\",'Congés de l''employé'!$BU$16,IF($I19=\"MALADIE\",'Congés de l''employé'!$E$18,IF($I19=\"Demi maladie\",'Congés de l''employé'!$BU$18,MOD($E19-($B19-($C19-$D19))+($G19-$F19),1))))),VLOOKUP($A19,$AF$12:$AH$29,3,FALSE))","v":0},null,null,{"$f":"IF(I19<>\"\",1+MAX($K$14:K17),\"\")","v":""},null,null,null,null,null,null,null,null,null,null,null,null,null,null,null,null,null,null,null,"FÉRIÉ-JOUR OUVRABLE SUIVANT LA FÊTE NATIONALE DU QUÉBEC",{"$f":"AF18+2-WEEKDAY(AF18)+(WEEKDAY(AF18)>2)*7","v":"2019-06-24"},"Date fixe 25 décembre"]
[{"$f":"$B$10+4","v":"2019-07-19"},null,null,null,null,null,null,{"$f":"IF(ISNA(VLOOKUP($A20,$AF$12:$AH$29,3,FALSE)),IF($I20=\"CONGÉ\",'Congés de l''employé'!$E$16,IF($I20=\"Demi congé\",'Congés de l''employé'!$BU$16,IF($I20=\"MALADIE\",'Congés de l''employé'!$E$18,IF($I20=\"Demi maladie\",'Congés de l''employé'!$BU$18,MOD($E20-($B20-($C20-$D20))+($G20-$F20),1))))),VLOOKUP($A20,$AF$12:$AH$29,3,FALSE))","v":0},null,null,{"$f":"IF(I20<>\"\",1+MAX($K$14:K18),\"\")","v":""},null,null,null,null,null,null,null,null,null,null,null,null,null,null,null,null,null,null,"Juillet","Fête du Canada",{"$f":"DATE(Année,7,1)","v":"2019-07-01"},null,{"$f":"Edit!M32","v":1.1253746147756614E-210}]
[{"$f":"$B$10+5","v":"2019-07-20"},null,null,null,null,null,null,{"$f":"IF(ISNA(VLOOKUP($A21,$AF$12:$AH$29,3,FALSE)),IF($I21=\"CONGÉ\",'Congés de l''employé'!$E$16,IF($I21=\"Demi congé\",'Congés de l''employé'!$BU$16,IF($I21=\"MALADIE\",'Congés de l''employé'!$E$18,IF($I21=\"Demi maladie\",'Congés de l''employé'!$BU$18,MOD($E21-($B21-($C21-$D21))+($G21-$F21),1))))),VLOOKUP($A21,$AF$12:$AH$29,3,FALSE))","v":0},null,null,{"$f":"IF(I21<>\"\",1+MAX($K$14:K19),\"\")","v":""},null,null,null,null,null,null,null,null,null,null,null,null,null,null,null,null,null,null,null,"FÉRIÉ-JOUR OUVRABLE SUIVANT LA FÊTE DU CANADA",{"$f":"AF20+2-WEEKDAY(AF20)+(WEEKDAY(AF20)>2)*7","v":"2019-07-01"}]
[{"$f":"$B$10+6","v":"2019-07-21"},null,null,null,null,null,null,{"$f":"IF(ISNA(VLOOKUP($A22,$AF$12:$AH$29,3,FALSE)),IF($I22=\"CONGÉ\",'Congés de l''employé'!$E$16,IF($I22=\"Demi congé\",'Congés de l''employé'!$BU$16,IF($I22=\"MALADIE\",'Congés de l''employé'!$E$18,IF($I22=\"Demi maladie\",'Congés de l''employé'!$BU$18,MOD($E22-($B22-($C22-$D22))+($G22-$F22),1))))),VLOOKUP($A22,$AF$12:$AH$29,3,FALSE))","v":0},null,null,{"$f":"IF(I22<>\"\",1+MAX($K$14:K20),\"\")","v":""},null,null,null,null,null,null,null,null,null,null,null,null,null,null,null,null,null,null,"Septembre","Fête du travail",{"$f":"IF(MOD(DATE(Année,9,1),7)<=2,2-MOD(DATE(Année,9,1),7),9-MOD(DATE(Année,9,1),7))+DATE(Année,9,1)","v":"2019-09-01"},null,{"$f":"Edit!M33","v":0}]
[null,null,null,null,null,null,null,{"$f":"SUM(H16:H22)+B23","v":0},null,null,{"$f":"IF(I23<>\"\",1+MAX($K$14:K21),\"\")","v":""},null,null,null,null,null,null,null,null,null,null,null,null,null,null,null,null,null,null,null,"FÉRIÉ-JOUR OUVRABLE SUIVANT LA FÊTE DU TRAVAIL",{"$f":"AF22+2-WEEKDAY(AF22)+(WEEKDAY(AF22)>2)*7","v":"2019-09-02"}]
[null,null,null,null,null,null,null,null,null,null,{"$f":"IF(I24<>\"\",1+MAX($K$14:K22),\"\")","v":""},null,null,null,null,null,null,null,null,null,null,null,null,null,null,null,null,null,null,"Octobre","Action de grâce",{"$f":"DATE(AF10,10,1)","v":"2019-10-01"},null,{"$f":"Edit!M34","v":0}]
[null,null,null,null,null,null,null,null,null,null,{"$f":"IF(I25<>\"\",1+MAX($K$14:K23),\"\")","v":""},null,null,null,null,null,null,null,null,null,null,null,null,null,null,null,null,null,null,null,"FÉRIÉ-JOUR OUVRABLE SUIVANT L'ACTION DE GRÂCE",{"$f":"AF24-DAY(AF24)-WEEKDAY(AF24-DAY(AF24),2)+15","v":"2019-10-14"}]
[null,null,null,null,null,null,"Heures en trop\nou en moins",{"$f":"IF(OR(H23=-(B15),B15=0),\"0\",(H23-B15))","v":"0"},null,null,{"$f":"IF(I26<>\"\",1+MAX($K$14:K24),\"\")","v":""},null,null,null,null,null,null,null,null,null,null,null,null,null,null,null,null,null,null,null,"Bureau fermé congé donné",{"$f":"DATE(Année,12,25)-1","v":"2019-12-24"},null,{"$f":"'[1]Congés de l''employé'!$E$14","v":0}]
[null,null,null,null,null,null,null,null,null,null,{"$f":"IF(I27<>\"\",1+MAX($K$14:K25),\"\")","v":""},null,null,null,null,null,null,null,null,null,null,null,null,null,null,null,null,null,null,"Décembre","Férié-Noël",{"$f":"DATE(Année,12,25)","v":"2019-12-25"},null,{"$f":"Edit!M35","v":0}]
["Horaire Semaine 2",null,null,null,null,null,null,null,null,null,{"$f":"IF(I28<>\"\",1+MAX($K$14:K26),\"\")","v":""},null,null,null,null,null,null,null,null,null,null,null,null,null,null,null,null,null,null,"Décembre","Bureau fermé congé donné",{"$f":"DATE(Année,12,25)+1","v":"2019-12-26"}]
[{"$f":"B10+7","v":"2019-07-22"},null,null,null,null,null,null,{"$f":"IF(ISNA(VLOOKUP($A29,$AF$12:$AH$29,3,FALSE)),IF($I29=\"CONGÉ\",'Congés de l''employé'!$E$16,IF($I29=\"Demi congé\",'Congés de l''employé'!$BU$16,IF($I29=\"MALADIE\",'Congés de l''employé'!$E$18,IF($I29=\"Demi maladie\",'Congés de l''employé'!$BU$18,MOD($E29-($B29-($C29-$D29))+($G29-$F29),1))))),VLOOKUP($A29,$AF$12:$AH$29,3,FALSE))","v":0},null,null,{"$f":"IF(I29<>\"\",1+MAX($K$14:K28),\"\")","v":""},null,null,null,null,null,null,null,null,null,null,null,null,null,null,null,null,null,null,"Décembre","Bureau fermé congé donné",{"$f":"AF11+2-WEEKDAY(AF11)+(WEEKDAY(AF11)>2)-1","v":"2018-12-31"}]
[{"$f":"B10+8","v":"2019-07-23"},null,null,null,null,null,null,{"$f":"IF(ISNA(VLOOKUP($A30,$AF$12:$AH$29,3,FALSE)),IF($I30=\"CONGÉ\",'Congés de l''employé'!$E$16,IF($I30=\"Demi congé\",'Congés de l''employé'!$BU$16,IF($I30=\"MALADIE\",'Congés de l''employé'!$E$18,IF($I30=\"Demi maladie\",'Congés de l''employé'!$BU$18,MOD($E30-($B30-($C30-$D30))+($G30-$F30),1))))),VLOOKUP($A30,$AF$12:$AH$29,3,FALSE))","v":0},null,null,{"$f":"IF(I30<>\"\",1+MAX($K$14:K29),\"\")","v":""}]
[{"$f":"B10+9","v":"2019-07-24"},null,null,null,null,null,null,{"$f":"IF(ISNA(VLOOKUP($A31,$AF$12:$AH$29,3,FALSE)),IF($I31=\"CONGÉ\",'Congés de l''employé'!$E$16,IF($I31=\"Demi congé\",'Congés de l''employé'!$BU$16,IF($I31=\"MALADIE\",'Congés de l''employé'!$E$18,IF($I31=\"Demi maladie\",'Congés de l''employé'!$BU$18,MOD($E31-($B31-($C31-$D31))+($G31-$F31),1))))),VLOOKUP($A31,$AF$12:$AH$29,3,FALSE))","v":0},null,null,{"$f":"IF(I31<>\"\",1+MAX($K$14:K30),\"\")","v":""}]
[{"$f":"B10+10","v":"2019-07-25"},null,null,null,null,null,null,{"$f":"IF(ISNA(VLOOKUP($A32,$AF$12:$AH$29,3,FALSE)),IF($I32=\"CONGÉ\",'Congés de l''employé'!$E$16,IF($I32=\"Demi congé\",'Congés de l''employé'!$BU$16,IF($I32=\"MALADIE\",'Congés de l''employé'!$E$18,IF($I32=\"Demi maladie\",'Congés de l''employé'!$BU$18,MOD($E32-($B32-($C32-$D32))+($G32-$F32),1))))),VLOOKUP($A32,$AF$12:$AH$29,3,FALSE))","v":0},null,null,{"$f":"IF(I32<>\"\",1+MAX($K$14:K31),\"\")","v":""}]
[{"$f":"B10+11","v":"2019-07-26"},null,null,null,null,null,null,{"$f":"IF(ISNA(VLOOKUP($A33,$AF$12:$AH$29,3,FALSE)),IF($I33=\"CONGÉ\",'Congés de l''employé'!$E$16,IF($I33=\"Demi congé\",'Congés de l''employé'!$BU$16,IF($I33=\"MALADIE\",'Congés de l''employé'!$E$18,IF($I33=\"Demi maladie\",'Congés de l''employé'!$BU$18,MOD($E33-($B33-($C33-$D33))+($G33-$F33),1))))),VLOOKUP($A33,$AF$12:$AH$29,3,FALSE))","v":0},null,null,{"$f":"IF(I33<>\"\",1+MAX($K$14:K32),\"\")","v":""}]
[{"$f":"B10+12","v":"2019-07-27"},null,null,null,null,null,null,{"$f":"IF(ISNA(VLOOKUP($A34,$AF$12:$AH$29,3,FALSE)),IF($I34=\"CONGÉ\",'Congés de l''employé'!$E$16,IF($I34=\"Demi congé\",'Congés de l''employé'!$BU$16,IF($I34=\"MALADIE\",'Congés de l''employé'!$E$18,IF($I34=\"Demi maladie\",'Congés de l''employé'!$BU$18,MOD($E34-($B34-($C34-$D34))+($G34-$F34),1))))),VLOOKUP($A34,$AF$12:$AH$29,3,FALSE))","v":0},null,null,{"$f":"IF(I34<>\"\",1+MAX($K$14:K33),\"\")","v":""}]
[{"$f":"B10+13","v":"2019-07-28"},null,null,null,null,null,null,{"$f":"IF(ISNA(VLOOKUP($A35,$AF$12:$AH$29,3,FALSE)),IF($I35=\"CONGÉ\",'Congés de l''employé'!$E$16,IF($I35=\"Demi congé\",'Congés de l''employé'!$BU$16,IF($I35=\"MALADIE\",'Congés de l''employé'!$E$18,IF($I35=\"Demi maladie\",'Congés de l''employé'!$BU$18,MOD($E35-($B35-($C35-$D35))+($G35-$F35),1))))),VLOOKUP($A35,$AF$12:$AH$29,3,FALSE))","v":0},null,null,{"$f":"IF(I35<>\"\",1+MAX($K$14:K34),\"\")","v":""}]
[null,null,null,null,null,null,null,{"$f":"SUM(H29:H35)+B36","v":0}]
[]
[null,null,null,null,null,null,"Heures en trop\nou en moins",{"$f":"IF(OR(H36=-(B28),B28=0),\"0\",(H36-B28))","v":"0"}]
[]
["Heure travaillées","Heures prévues","ENTREZ le nombre d'heures à payer","Heures\n supplémentaires ou en moins","Heures à \ntransposer dans la Banque","Total de la Banque d'heures"]
[{"$f":"$H$23+$H$36","v":0},{"$f":"'Congés de l''employé'!BU8*2","v":2.9166666666666665},{"$f":"A41","v":0},{"$f":"IF($H$26>0,$H$26)+IF($H$38>0,$H$38,0)+IF($H$26<0,$H$26)+IF($H$38<0,$H$38,0)","v":0},{"$f":"$A$41-$C$41","v":0},{"$f":"SUM('Juillet-2prem. semaines'!F41:G42)+E41","v":0}]

{"sheet":"Fin Juillet-Août 2prem. sem.","index":23,"n_rows":41,"n_cols":34,"rows_kept":41,"cut":false,"hidden":false,"merged":[[1,1,5,7],[40,0,41,0],[40,1,41,1],[40,2,41,2],[40,3,41,3],[40,4,41,4],[7,29,7,31],[42,1,42,2],[7,4,7,7],[9,1,9,3],[39,5,39,6],[40,5,41,6]]}
[{"$f":"MID(CELL(\"filename\",A1),FIND(\"]\",CELL(\"filename\",A1))+1,32)","v":"Fin Juillet-Août 2prem. sem."}]
[null,"    Feuille de temps"]
[]
[]
[]
[]
[]
[null,null,null,null,null,null,null,null,null,null,null,null,null,null,null,null,null,null,null,null,null,null,null,null,null,null,null,null,null,"Congés fériés, lundi suivant la date"]
["Employé: ",{"$f":"'Congés de l''employé'!B8","v":0},null,null,null,null,null,null,null,null,null,null,null,null,null,null,null,null,null,null,null,null,null,null,null,null,null,null,null,"Mois","Type de congé férié","Année en cours"]
["Période débutant le ",{"$f":"DATE(An_ref,1,-2)-WEEKDAY(DATE(An_ref,1,3))+217","v":"2019-07-29"},null,null,null,null,null,null,null,null,null,null,null,null,null,null,null,null,null,null,null,null,null,null,null,null,null,{"$f":"OR(B11=$AF$12,B11=$AF$13,B11=$AF$14,B11=$AF$16,B11=$AF$17,B11=$AF$19,B11=$AF$21,B11=$AF$23,B11=$AF$25,B11=$AF$26,B11=$AF$27,B11=$AF$28)","v":false},null,null,null,{"$f":"An_ref","v":2019},null,"alloué au férié"]
[null,null,null,null,null,null,null,null,null,null,null,null,null,null,null,null,null,null,null,null,null,null,null,null,null,null,null,null,null,"Janvier","Jour de l'an",{"$f":"DATE(Année,1,1)","v":"2019-01-01"},"Date fixe 1er janvier"]
[null,null,null,null,null,null,null,null,null,null,null,null,null,null,null,null,null,null,null,null,null,null,null,null,null,null,null,null,null,null,"FÉRIÉ-JOUR OUVRABLE SUIVANT LE JOUR DE L'AN",{"$f":"AF11+2-WEEKDAY(AF11)+(WEEKDAY(AF11)>2)","v":"2019-01-01"},null,{"$f":"Edit!M27","v":7.4735918097323577E-190}]
["Jour","Heure\nDébut","Départ\nDiner","Retour\nDiner","Heure\nFin","Télétravail\nDépart","Télétravail\nFin","TOTAL\nJournalier","Absence",null,"Index de la ligne",null,null,null,null,null,null,null,null,null,null,null,null,null,null,null,null,null,null,null,"Bureau fermé congé donné-un jour après le jour de l'an",{"$f":"AF11+2-WEEKDAY(AF11)+(WEEKDAY(AF11)>2)+1","v":"2019-01-02"}]
[null,null,null,null,null,null,null,null,null,null,null,{"$f":"MAX('Juillet 3e-4e semaine'!K16:K35)","v":"1904-01-01"},null,null,null,null,null,null,null,null,null,null,null,null,null,null,null,null,null,"Mars","Bureau fermé congé donné-un jour ouvré avant Pâques",{"$f":"AF15-2","v":"2019-04-19"},"3e lundi de mai",{"$f":"Edit!M28","v":0.3289473684210526}]
["Horaire Semaine 1",null,null,null,null,null,null,null,null,null,{"$f":"IF(COUNTIF(I16,\"X\"),MAX($K$13:K13)+1,\"\")","v":""},null,null,null,null,null,null,null,null,null,null,null,null,null,null,null,null,null,null,null,"Pâques",{"$f":"DATE(Année,3,29.56+0.979*MOD(204-11*MOD(Année,19),30)-\nWEEKDAY(DATE(Année,3,28.56+0.979*MOD(204-11*MOD(Année,19),30))))","v":"2019-04-21"},"Date fixe 24 juin"]
[{"$f":"$B$10","v":"2019-07-29"},null,null,null,null,null,null,{"$f":"IF(ISNA(VLOOKUP($A16,$AF$12:$AH$29,3,FALSE)),IF($I16=\"CONGÉ\",'Congés de l''employé'!$E$16,IF($I16=\"Demi congé\",'Congés de l''employé'!$BU$16,IF($I16=\"MALADIE\",'Congés de l''employé'!$E$18,IF($I16=\"Demi maladie\",'Congés de l''employé'!$BU$18,MOD($E16-($B16-($C16-$D16))+($G16-$F16),1))))),VLOOKUP($A16,$AF$12:$AH$29,3,FALSE))","v":0},null,null,{"$f":"IF(I16<>\"\",1+MAX($L$14:L14),\"\")","v":""},null,null,null,null,null,null,null,null,null,null,null,null,null,null,null,null,null,null,"Avril","Lundi de pâques",{"$f":"AF15+1","v":"2019-04-22"},"Date fixe 1er juillet"]
[{"$f":"$B$10+1","v":"2019-07-30"},null,null,null,null,null,null,{"$f":"IF(ISNA(VLOOKUP($A17,$AF$12:$AH$29,3,FALSE)),IF($I17=\"CONGÉ\",'Congés de l''employé'!$E$16,IF($I17=\"Demi congé\",'Congés de l''employé'!$BU$16,IF($I17=\"MALADIE\",'Congés de l''employé'!$E$18,IF($I17=\"Demi maladie\",'Congés de l''employé'!$BU$18,MOD($E17-($B17-($C17-$D17))+($G17-$F17),1))))),VLOOKUP($A17,$AF$12:$AH$29,3,FALSE))","v":0},null,null,{"$f":"IF(I17<>\"\",1+MAX($K$14:K15),\"\")","v":""},null,null,null,null,null,null,null,null,null,null,null,null,null,null,null,null,null,null,"Mai","Journée nationale des patriotes",{"$f":"DATE(Année,5,23)-WEEKDAY(DATE(Année,5,1),2)","v":"2019-05-20"},null,{"$f":"Edit!M30","v":0}]
[{"$f":"$B$10+2","v":"2019-07-31"},null,null,null,null,null,null,{"$f":"IF(ISNA(VLOOKUP($A18,$AF$12:$AH$29,3,FALSE)),IF($I18=\"CONGÉ\",'Congés de l''employé'!$E$16,IF($I18=\"Demi congé\",'Congés de l''employé'!$BU$16,IF($I18=\"MALADIE\",'Congés de l''employé'!$E$18,IF($I18=\"Demi maladie\",'Congés de l''employé'!$BU$18,MOD($E18-($B18-($C18-$D18))+($G18-$F18),1))))),VLOOKUP($A18,$AF$12:$AH$29,3,FALSE))","v":0},null,null,{"$f":"IF(I18<>\"\",1+MAX($K$14:K16),\"\")","v":""},null,null,null,null,null,null,null,null,null,null,null,null,null,null,null,null,null,null,"Juin","Fête nationale du Québec",{"$f":"DATE(Année,6,24)","v":"2019-06-24"},null,{"$f":"Edit!M31","v":0}]
[{"$f":"$B$10+3","v":"2019-08-01"},null,null,null,null,null,null,{"$f":"IF(ISNA(VLOOKUP($A19,$AF$12:$AH$29,3,FALSE)),IF($I19=\"CONGÉ\",'Congés de l''employé'!$E$16,IF($I19=\"Demi congé\",'Congés de l''employé'!$BU$16,IF($I19=\"MALADIE\",'Congés de l''employé'!$E$18,IF($I19=\"Demi maladie\",'Congés de l''employé'!$BU$18,MOD($E19-($B19-($C19-$D19))+($G19-$F19),1))))),VLOOKUP($A19,$AF$12:$AH$29,3,FALSE))","v":0},null,null,{"$f":"IF(I19<>\"\",1+MAX($K$14:K17),\"\")","v":""},null,null,null,null,null,null,null,null,null,null,null,null,null,null,null,null,null,null,null,"FÉRIÉ-JOUR OUVRABLE SUIVANT LA FÊTE NATIONALE DU QUÉBEC",{"$f":"AF18+2-WEEKDAY(AF18)+(WEEKDAY(AF18)>2)*7","v":"2019-06-24"},"Date fixe 25 décembre"]
[{"$f":"$B$10+4","v":"2019-08-02"},null,null,null,null,null,null,{"$f":"IF(ISNA(VLOOKUP($A20,$AF$12:$AH$29,3,FALSE)),IF($I20=\"CONGÉ\",'Congés de l''employé'!$E$16,IF($I20=\"Demi congé\",'Congés de l''employé'!$BU$16,IF($I20=\"MALADIE\",'Congés de l''employé'!$E$18,IF($I20=\"Demi maladie\",'Congés de l''employé'!$BU$18,MOD($E20-($B20-($C20-$D20))+($G20-$F20),1))))),VLOOKUP($A20,$AF$12:$AH$29,3,FALSE))","v":0},null,null,{"$f":"IF(I20<>\"\",1+MAX($K$14:K18),\"\")","v":""},null,null,null,null,null,null,null,null,null,null,null,null,null,null,null,null,null,null,"Juillet","Fête du Canada",{"$f":"DATE(Année,7,1)","v":"2019-07-01"},null,{"$f":"Edit!M32","v":1.1253746147756614E-210}]
[{"$f":"$B$10+5","v":"2019-08-03"},null,null,null,null,null,null,{"$f":"IF(ISNA(VLOOKUP($A21,$AF$12:$AH$29,3,FALSE)),IF($I21=\"CONGÉ\",'Congés de l''employé'!$E$16,IF($I21=\"Demi congé\",'Congés de l''employé'!$BU$16,IF($I21=\"MALADIE\",'Congés de l''employé'!$E$18,IF($I21=\"Demi maladie\",'Congés de l''employé'!$BU$18,MOD($E21-($B21-($C21-$D21))+($G21-$F21),1))))),VLOOKUP($A21,$AF$12:$AH$29,3,FALSE))","v":0},null,null,{"$f":"IF(I21<>\"\",1+MAX($K$14:K19),\"\")","v":""},null,null,null,null,null,null,null,null,null,null,null,null,null,null,null,null,null,null,null,"FÉRIÉ-JOUR OUVRABLE SUIVANT LA FÊTE DU CANADA",{"$f":"AF20+2-WEEKDAY(AF20)+(WEEKDAY(AF20)>2)*7","v":"2019-07-01"}]
[{"$f":"$B$10+6","v":"2019-08-04"},null,null,null,null,null,null,{"$f":"IF(ISNA(VLOOKUP($A22,$AF$12:$AH$29,3,FALSE)),IF($I22=\"CONGÉ\",'Congés de l''employé'!$E$16,IF($I22=\"Demi congé\",'Congés de l''employé'!$BU$16,IF($I22=\"MALADIE\",'Congés de l''employé'!$E$18,IF($I22=\"Demi maladie\",'Congés de l''employé'!$BU$18,MOD($E22-($B22-($C22-$D22))+($G22-$F22),1))))),VLOOKUP($A22,$AF$12:$AH$29,3,FALSE))","v":0},null,null,{"$f":"IF(I22<>\"\",1+MAX($K$14:K20),\"\")","v":""},null,null,null,null,null,null,null,null,null,null,null,null,null,null,null,null,null,null,"Septembre","Fête du travail",{"$f":"IF(MOD(DATE(Année,9,1),7)<=2,2-MOD(DATE(Année,9,1),7),9-MOD(DATE(Année,9,1),7))+DATE(Année,9,1)","v":"2019-09-01"},null,{"$f":"Edit!M33","v":0}]
[null,null,null,null,null,null,null,{"$f":"SUM(H16:H22)+B23","v":0},null,null,{"$f":"IF(I23<>\"\",1+MAX($K$14:K21),\"\")","v":""},null,null,null,null,null,null,null,null,null,null,null,null,null,null,null,null,null,null,null,"FÉRIÉ-JOUR OUVRABLE SUIVANT LA FÊTE DU TRAVAIL",{"$f":"AF22+2-WEEKDAY(AF22)+(WEEKDAY(AF22)>2)*7","v":"2019-09-02"}]
[null,null,null,null,null,null,null,null,null,null,{"$f":"IF(I24<>\"\",1+MAX($K$14:K22),\"\")","v":""},null,null,null,null,null,null,null,null,null,null,null,null,null,null,null,null,null,null,"Octobre","Action de grâce",{"$f":"DATE(AF10,10,1)","v":"2019-10-01"},null,{"$f":"Edit!M34","v":0}]
[null,null,null,null,null,null,null,null,null,null,{"$f":"IF(I25<>\"\",1+MAX($K$14:K23),\"\")","v":""},null,null,null,null,null,null,null,null,null,null,null,null,null,null,null,null,null,null,null,"FÉRIÉ-JOUR OUVRABLE SUIVANT L'ACTION DE GRÂCE",{"$f":"AF24-DAY(AF24)-WEEKDAY(AF24-DAY(AF24),2)+15","v":"2019-10-14"}]
[null,null,null,null,null,null,"Heures en trop\nou en moins",{"$f":"IF(OR(H23=-(B15),B15=0),\"0\",(H23-B15))","v":"0"},null,null,{"$f":"IF(I26<>\"\",1+MAX($K$14:K24),\"\")","v":""},null,null,null,null,null,null,null,null,null,null,null,null,null,null,null,null,null,null,null,"Bureau fermé congé donné",{"$f":"DATE(Année,12,25)-1","v":"2019-12-24"},null,{"$f":"'[1]Congés de l''employé'!$E$14","v":0}]
[null,null,null,null,null,null,null,null,null,null,{"$f":"IF(I27<>\"\",1+MAX($K$14:K25),\"\")","v":""},null,null,null,null,null,null,null,null,null,null,null,null,null,null,null,null,null,null,"Décembre","Férié-Noël",{"$f":"DATE(Année,12,25)","v":"2019-12-25"},null,{"$f":"Edit!M35","v":0}]
["Horaire Semaine 2",null,null,null,null,null,null,null,null,null,{"$f":"IF(I28<>\"\",1+MAX($K$14:K26),\"\")","v":""},null,null,null,null,null,null,null,null,null,null,null,null,null,null,null,null,null,null,"Décembre","Bureau fermé congé donné",{"$f":"DATE(Année,12,25)+1","v":"2019-12-26"}]
[{"$f":"B10+7","v":"2019-08-05"},null,null,null,null,null,null,{"$f":"IF(ISNA(VLOOKUP($A29,$AF$12:$AH$29,3,FALSE)),IF($I29=\"CONGÉ\",'Congés de l''employé'!$E$16,IF($I29=\"Demi congé\",'Congés de l''employé'!$BU$16,IF($I29=\"MALADIE\",'Congés de l''employé'!$E$18,IF($I29=\"Demi maladie\",'Congés de l''employé'!$BU$18,MOD($E29-($B29-($C29-$D29))+($G29-$F29),1))))),VLOOKUP($A29,$AF$12:$AH$29,3,FALSE))","v":0},null,null,{"$f":"IF(I29<>\"\",1+MAX($K$14:K28),\"\")","v":""},null,null,null,null,null,null,null,null,null,null,null,null,null,null,null,null,null,null,"Décembre","Bureau fermé congé donné",{"$f":"AF11+2-WEEKDAY(AF11)+(WEEKDAY(AF11)>2)-1","v":"2018-12-31"}]
[{"$f":"B10+8","v":"2019-08-06"},null,null,null,null,null,null,{"$f":"IF(ISNA(VLOOKUP($A30,$AF$12:$AH$29,3,FALSE)),IF($I30=\"CONGÉ\",'Congés de l''employé'!$E$16,IF($I30=\"Demi congé\",'Congés de l''employé'!$BU$16,IF($I30=\"MALADIE\",'Congés de l''employé'!$E$18,IF($I30=\"Demi maladie\",'Congés de l''employé'!$BU$18,MOD($E30-($B30-($C30-$D30))+($G30-$F30),1))))),VLOOKUP($A30,$AF$12:$AH$29,3,FALSE))","v":0},null,null,{"$f":"IF(I30<>\"\",1+MAX($K$14:K29),\"\")","v":""}]
[{"$f":"B10+9","v":"2019-08-07"},null,null,null,null,null,null,{"$f":"IF(ISNA(VLOOKUP($A31,$AF$12:$AH$29,3,FALSE)),IF($I31=\"CONGÉ\",'Congés de l''employé'!$E$16,IF($I31=\"Demi congé\",'Congés de l''employé'!$BU$16,IF($I31=\"MALADIE\",'Congés de l''employé'!$E$18,IF($I31=\"Demi maladie\",'Congés de l''employé'!$BU$18,MOD($E31-($B31-($C31-$D31))+($G31-$F31),1))))),VLOOKUP($A31,$AF$12:$AH$29,3,FALSE))","v":0},null,null,{"$f":"IF(I31<>\"\",1+MAX($K$14:K30),\"\")","v":""}]
[{"$f":"B10+10","v":"2019-08-08"},null,null,null,null,null,null,{"$f":"IF(ISNA(VLOOKUP($A32,$AF$12:$AH$29,3,FALSE)),IF($I32=\"CONGÉ\",'Congés de l''employé'!$E$16,IF($I32=\"Demi congé\",'Congés de l''employé'!$BU$16,IF($I32=\"MALADIE\",'Congés de l''employé'!$E$18,IF($I32=\"Demi maladie\",'Congés de l''employé'!$BU$18,MOD($E32-($B32-($C32-$D32))+($G32-$F32),1))))),VLOOKUP($A32,$AF$12:$AH$29,3,FALSE))","v":0},null,null,{"$f":"IF(I32<>\"\",1+MAX($K$14:K31),\"\")","v":""}]
[{"$f":"B10+11","v":"2019-08-09"},null,null,null,null,null,null,{"$f":"IF(ISNA(VLOOKUP($A33,$AF$12:$AH$29,3,FALSE)),IF($I33=\"CONGÉ\",'Congés de l''employé'!$E$16,IF($I33=\"Demi congé\",'Congés de l''employé'!$BU$16,IF($I33=\"MALADIE\",'Congés de l''employé'!$E$18,IF($I33=\"Demi maladie\",'Congés de l''employé'!$BU$18,MOD($E33-($B33-($C33-$D33))+($G33-$F33),1))))),VLOOKUP($A33,$AF$12:$AH$29,3,FALSE))","v":0},null,null,{"$f":"IF(I33<>\"\",1+MAX($K$14:K32),\"\")","v":""}]
[{"$f":"B10+12","v":"2019-08-10"},null,null,null,null,null,null,{"$f":"IF(ISNA(VLOOKUP($A34,$AF$12:$AH$29,3,FALSE)),IF($I34=\"CONGÉ\",'Congés de l''employé'!$E$16,IF($I34=\"Demi congé\",'Congés de l''employé'!$BU$16,IF($I34=\"MALADIE\",'Congés de l''employé'!$E$18,IF($I34=\"Demi maladie\",'Congés de l''employé'!$BU$18,MOD($E34-($B34-($C34-$D34))+($G34-$F34),1))))),VLOOKUP($A34,$AF$12:$AH$29,3,FALSE))","v":0},null,null,{"$f":"IF(I34<>\"\",1+MAX($K$14:K33),\"\")","v":""}]
[{"$f":"B10+13","v":"2019-08-11"},null,null,null,null,null,null,{"$f":"IF(ISNA(VLOOKUP($A35,$AF$12:$AH$29,3,FALSE)),IF($I35=\"CONGÉ\",'Congés de l''employé'!$E$16,IF($I35=\"Demi congé\",'Congés de l''employé'!$BU$16,IF($I35=\"MALADIE\",'Congés de l''employé'!$E$18,IF($I35=\"Demi maladie\",'Congés de l''employé'!$BU$18,MOD($E35-($B35-($C35-$D35))+($G35-$F35),1))))),VLOOKUP($A35,$AF$12:$AH$29,3,FALSE))","v":0},null,null,{"$f":"IF(I35<>\"\",1+MAX($K$14:K34),\"\")","v":""}]
[null,null,null,null,null,null,null,{"$f":"SUM(H29:H35)+B36","v":0}]
[]
[null,null,null,null,null,null,"Heures en trop\nou en moins",{"$f":"IF(OR(H36=-(B28),B28=0),\"0\",(H36-B28))","v":"0"}]
[]
["Heure travaillées","Heures prévues","ENTREZ le nombre d'heures à payer","Heures\n supplémentaires ou en moins","Heures à \ntransposer dans la Banque","Total de la Banque d'heures"]
[{"$f":"$H$23+$H$36","v":0},{"$f":"'Congés de l''employé'!BU8*2","v":2.9166666666666665},{"$f":"A41","v":0},{"$f":"IF($H$26>0,$H$26)+IF($H$38>0,$H$38,0)+IF($H$26<0,$H$26)+IF($H$38<0,$H$38,0)","v":0},{"$f":"$A$41-$C$41","v":0},{"$f":"SUM('Juillet 3e-4e semaine'!F41:G42)+E41","v":0}]

{"sheet":"Août 3e-4e semaine","index":24,"n_rows":41,"n_cols":34,"rows_kept":41,"cut":false,"hidden":false,"merged":[[1,1,5,7],[40,0,41,0],[40,1,41,1],[40,2,41,2],[40,3,41,3],[40,4,41,4],[7,29,7,31],[42,1,42,2],[7,4,7,7],[9,1,9,3],[39,5,39,6],[40,5,41,6]]}
[{"$f":"MID(CELL(\"filename\",A1),FIND(\"]\",CELL(\"filename\",A1))+1,32)","v":"Août 3e-4e semaine"}]
[null,"     Feuille de temps"]
[]
[]
[]
[]
[]
[null,null,null,null,null,null,null,null,null,null,null,null,null,null,null,null,null,null,null,null,null,null,null,null,null,null,null,null,null,"Congés fériés, lundi suivant la date"]
["Employé: ",{"$f":"'Congés de l''employé'!B8","v":0},null,null,null,null,null,null,null,null,null,null,null,null,null,null,null,null,null,null,null,null,null,null,null,null,null,null,null,"Mois","Type de congé férié","Année en cours"]
["Période débutant le ",{"$f":"DATE(An_ref,1,-2)-WEEKDAY(DATE(An_ref,1,3))+231","v":"2019-08-12"},null,null,null,null,null,null,null,null,null,null,null,null,null,null,null,null,null,null,null,null,null,null,null,null,null,{"$f":"OR(B11=$AF$12,B11=$AF$13,B11=$AF$14,B11=$AF$16,B11=$AF$17,B11=$AF$19,B11=$AF$21,B11=$AF$23,B11=$AF$25,B11=$AF$26,B11=$AF$27,B11=$AF$28)","v":false},null,null,null,{"$f":"An_ref","v":2019},null,"alloué au férié"]
[null,null,null,null,null,null,null,null,null,null,null,null,null,null,null,null,null,null,null,null,null,null,null,null,null,null,null,null,null,"Janvier","Jour de l'an",{"$f":"DATE(Année,1,1)","v":"2019-01-01"},"Date fixe 1er janvier"]
[null,null,null,null,null,null,null,null,null,null,null,null,null,null,null,null,null,null,null,null,null,null,null,null,null,null,null,null,null,null,"FÉRIÉ-JOUR OUVRABLE SUIVANT LE JOUR DE L'AN",{"$f":"AF11+2-WEEKDAY(AF11)+(WEEKDAY(AF11)>2)","v":"2019-01-01"},null,{"$f":"Edit!M27","v":1.4947183619464715E-188}]
["Jour","Heure\nDébut","Départ\nDiner","Retour\nDiner","Heure\nFin","Télétravail\nDépart","Télétravail\nFin","TOTAL\nJournalier","Absence",null,"Index de la ligne",null,null,null,null,null,null,null,null,null,null,null,null,null,null,null,null,null,null,null,"Bureau fermé congé donné-un jour après le jour de l'an",{"$f":"AF11+2-WEEKDAY(AF11)+(WEEKDAY(AF11)>2)+1","v":"2019-01-02"}]
[null,null,null,null,null,null,null,null,null,null,null,{"$f":"MAX('Fin Juillet-Août 2prem. sem.'!K16:K35)","v":"1904-01-01"},null,null,null,null,null,null,null,null,null,null,null,null,null,null,null,null,null,"Mars","Bureau fermé congé donné-un jour ouvré avant Pâques",{"$f":"AF15-2","v":"2019-04-19"},"3e lundi de mai",{"$f":"Edit!M28","v":0.3289473684210526}]
["Horaire Semaine 1",null,null,null,null,null,null,null,null,null,{"$f":"IF(COUNTIF(I16,\"X\"),MAX($K$13:K13)+1,\"\")","v":""},null,null,null,null,null,null,null,null,null,null,null,null,null,null,null,null,null,null,null,"Pâques",{"$f":"DATE(Année,3,29.56+0.979*MOD(204-11*MOD(Année,19),30)-\nWEEKDAY(DATE(Année,3,28.56+0.979*MOD(204-11*MOD(Année,19),30))))","v":"2019-04-21"},"Date fixe 24 juin"]
[{"$f":"$B$10","v":"2019-08-12"},null,null,null,null,null,null,{"$f":"IF(ISNA(VLOOKUP($A16,$AF$12:$AH$29,3,FALSE)),IF($I16=\"CONGÉ\",'Congés de l''employé'!$E$16,IF($I16=\"Demi congé\",'Congés de l''employé'!$BU$16,IF($I16=\"MALADIE\",'Congés de l''employé'!$E$18,IF($I16=\"Demi maladie\",'Congés de l''employé'!$BU$18,MOD($E16-($B16-($C16-$D16))+($G16-$F16),1))))),VLOOKUP($A16,$AF$12:$AH$29,3,FALSE))","v":0},null,null,{"$f":"IF(I16<>\"\",1+MAX($L$14:L14),\"\")","v":""},null,null,null,null,null,null,null,null,null,null,null,null,null,null,null,null,null,null,"Avril","Lundi de pâques",{"$f":"AF15+1","v":"2019-04-22"},"Date fixe 1er juillet"]
[{"$f":"$B$10+1","v":"2019-08-13"},null,null,null,null,null,null,{"$f":"IF(ISNA(VLOOKUP($A17,$AF$12:$AH$29,3,FALSE)),IF($I17=\"CONGÉ\",'Congés de l''employé'!$E$16,IF($I17=\"Demi congé\",'Congés de l''employé'!$BU$16,IF($I17=\"MALADIE\",'Congés de l''employé'!$E$18,IF($I17=\"Demi maladie\",'Congés de l''employé'!$BU$18,MOD($E17-($B17-($C17-$D17))+($G17-$F17),1))))),VLOOKUP($A17,$AF$12:$AH$29,3,FALSE))","v":0},null,null,{"$f":"IF(I17<>\"\",1+MAX($K$14:K15),\"\")","v":""},null,null,null,null,null,null,null,null,null,null,null,null,null,null,null,null,null,null,"Mai","Journée nationale des patriotes",{"$f":"DATE(Année,5,23)-WEEKDAY(DATE(Année,5,1),2)","v":"2019-05-20"},null,{"$f":"Edit!M30","v":0}]
[{"$f":"$B$10+2","v":"2019-08-14"},null,null,null,null,null,null,{"$f":"IF(ISNA(VLOOKUP($A18,$AF$12:$AH$29,3,FALSE)),IF($I18=\"CONGÉ\",'Congés de l''employé'!$E$16,IF($I18=\"Demi congé\",'Congés de l''employé'!$BU$16,IF($I18=\"MALADIE\",'Congés de l''employé'!$E$18,IF($I18=\"Demi maladie\",'Congés de l''employé'!$BU$18,MOD($E18-($B18-($C18-$D18))+($G18-$F18),1))))),VLOOKUP($A18,$AF$12:$AH$29,3,FALSE))","v":0},null,null,{"$f":"IF(I18<>\"\",1+MAX($K$14:K16),\"\")","v":""},null,null,null,null,null,null,null,null,null,null,null,null,null,null,null,null,null,null,"Juin","Fête nationale du Québec",{"$f":"DATE(Année,6,24)","v":"2019-06-24"},null,{"$f":"Edit!M31","v":0}]
[{"$f":"$B$10+3","v":"2019-08-15"},null,null,null,null,null,null,{"$f":"IF(ISNA(VLOOKUP($A19,$AF$12:$AH$29,3,FALSE)),IF($I19=\"CONGÉ\",'Congés de l''employé'!$E$16,IF($I19=\"Demi congé\",'Congés de l''employé'!$BU$16,IF($I19=\"MALADIE\",'Congés de l''employé'!$E$18,IF($I19=\"Demi maladie\",'Congés de l''employé'!$BU$18,MOD($E19-($B19-($C19-$D19))+($G19-$F19),1))))),VLOOKUP($A19,$AF$12:$AH$29,3,FALSE))","v":0},null,null,{"$f":"IF(I19<>\"\",1+MAX($K$14:K17),\"\")","v":""},null,null,null,null,null,null,null,null,null,null,null,null,null,null,null,null,null,null,null,"FÉRIÉ-JOUR OUVRABLE SUIVANT LA FÊTE NATIONALE DU QUÉBEC",{"$f":"AF18+2-WEEKDAY(AF18)+(WEEKDAY(AF18)>2)*7","v":"2019-06-24"},"Date fixe 25 décembre"]
[{"$f":"$B$10+4","v":"2019-08-16"},null,null,null,null,null,null,{"$f":"IF(ISNA(VLOOKUP($A20,$AF$12:$AH$29,3,FALSE)),IF($I20=\"CONGÉ\",'Congés de l''employé'!$E$16,IF($I20=\"Demi congé\",'Congés de l''employé'!$BU$16,IF($I20=\"MALADIE\",'Congés de l''employé'!$E$18,IF($I20=\"Demi maladie\",'Congés de l''employé'!$BU$18,MOD($E20-($B20-($C20-$D20))+($G20-$F20),1))))),VLOOKUP($A20,$AF$12:$AH$29,3,FALSE))","v":0},null,null,{"$f":"IF(I20<>\"\",1+MAX($K$14:K18),\"\")","v":""},null,null,null,null,null,null,null,null,null,null,null,null,null,null,null,null,null,null,"Juillet","Fête du Canada",{"$f":"DATE(Année,7,1)","v":"2019-07-01"},null,{"$f":"Edit!M32","v":1.1253746147756614E-210}]
[{"$f":"$B$10+5","v":"2019-08-17"},null,null,null,null,null,null,{"$f":"IF(ISNA(VLOOKUP($A21,$AF$12:$AH$29,3,FALSE)),IF($I21=\"CONGÉ\",'Congés de l''employé'!$E$16,IF($I21=\"Demi congé\",'Congés de l''employé'!$BU$16,IF($I21=\"MALADIE\",'Congés de l''employé'!$E$18,IF($I21=\"Demi maladie\",'Congés de l''employé'!$BU$18,MOD($E21-($B21-($C21-$D21))+($G21-$F21),1))))),VLOOKUP($A21,$AF$12:$AH$29,3,FALSE))","v":0},null,null,{"$f":"IF(I21<>\"\",1+MAX($K$14:K19),\"\")","v":""},null,null,null,null,null,null,null,null,null,null,null,null,null,null,null,null,null,null,null,"FÉRIÉ-JOUR OUVRABLE SUIVANT LA FÊTE DU CANADA",{"$f":"AF20+2-WEEKDAY(AF20)+(WEEKDAY(AF20)>2)*7","v":"2019-07-01"}]
[{"$f":"$B$10+6","v":"2019-08-18"},null,null,null,null,null,null,{"$f":"IF(ISNA(VLOOKUP($A22,$AF$12:$AH$29,3,FALSE)),IF($I22=\"CONGÉ\",'Congés de l''employé'!$E$16,IF($I22=\"Demi congé\",'Congés de l''employé'!$BU$16,IF($I22=\"MALADIE\",'Congés de l''employé'!$E$18,IF($I22=\"Demi maladie\",'Congés de l''employé'!$BU$18,MOD($E22-($B22-($C22-$D22))+($G22-$F22),1))))),VLOOKUP($A22,$AF$12:$AH$29,3,FALSE))","v":0},null,null,{"$f":"IF(I22<>\"\",1+MAX($K$14:K20),\"\")","v":""},null,null,null,null,null,null,null,null,null,null,null,null,null,null,null,null,null,null,"Septembre","Fête du travail",{"$f":"IF(MOD(DATE(Année,9,1),7)<=2,2-MOD(DATE(Année,9,1),7),9-MOD(DATE(Année,9,1),7))+DATE(Année,9,1)","v":"2019-09-01"},null,{"$f":"Edit!M33","v":0}]
[null,null,null,null,null,null,null,{"$f":"SUM(H16:H22)+B23","v":0},null,null,{"$f":"IF(I23<>\"\",1+MAX($K$14:K21),\"\")","v":""},null,null,null,null,null,null,null,null,null,null,null,null,null,null,null,null,null,null,null,"FÉRIÉ-JOUR OUVRABLE SUIVANT LA FÊTE DU TRAVAIL",{"$f":"AF22+2-WEEKDAY(AF22)+(WEEKDAY(AF22)>2)*7","v":"2019-09-02"}]
[null,null,null,null,null,null,null,null,null,null,{"$f":"IF(I24<>\"\",1+MAX($K$14:K22),\"\")","v":""},null,null,null,null,null,null,null,null,null,null,null,null,null,null,null,null,null,null,"Octobre","Action de grâce",{"$f":"DATE(AF10,10,1)","v":"2019-10-01"},null,{"$f":"Edit!M34","v":0}]
[null,null,null,null,null,null,null,null,null,null,{"$f":"IF(I25<>\"\",1+MAX($K$14:K23),\"\")","v":""},null,null,null,null,null,null,null,null,null,null,null,null,null,null,null,null,null,null,null,"FÉRIÉ-JOUR OUVRABLE SUIVANT L'ACTION DE GRÂCE",{"$f":"AF24-DAY(AF24)-WEEKDAY(AF24-DAY(AF24),2)+15","v":"2019-10-14"}]
[null,null,null,null,null,null,"Heures en trop\nou en moins",{"$f":"IF(OR(H23=-(B15),B15=0),\"0\",(H23-B15))","v":"0"},null,null,{"$f":"IF(I26<>\"\",1+MAX($K$14:K24),\"\")","v":""},null,null,null,null,null,null,null,null,null,null,null,null,null,null,null,null,null,null,null,"Bureau fermé congé donné",{"$f":"DATE(Année,12,25)-1","v":"2019-12-24"},null,{"$f":"'[1]Congés de l''employé'!$E$14","v":0}]
[null,null,null,null,null,null,null,null,null,null,{"$f":"IF(I27<>\"\",1+MAX($K$14:K25),\"\")","v":""},null,null,null,null,null,null,null,null,null,null,null,null,null,null,null,null,null,null,"Décembre","Férié-Noël",{"$f":"DATE(Année,12,25)","v":"2019-12-25"},null,{"$f":"Edit!M35","v":0}]
["Horaire Semaine 2",null,null,null,null,null,null,null,null,null,{"$f":"IF(I28<>\"\",1+MAX($K$14:K26),\"\")","v":""},null,null,null,null,null,null,null,null,null,null,null,null,null,null,null,null,null,null,"Décembre","Bureau fermé congé donné",{"$f":"DATE(Année,12,25)+1","v":"2019-12-26"}]
[{"$f":"B10+7","v":"2019-08-19"},null,null,null,null,null,null,{"$f":"IF(ISNA(VLOOKUP($A29,$AF$12:$AH$29,3,FALSE)),IF($I29=\"CONGÉ\",'Congés de l''employé'!$E$16,IF($I29=\"Demi congé\",'Congés de l''employé'!$BU$16,IF($I29=\"MALADIE\",'Congés de l''employé'!$E$18,IF($I29=\"Demi maladie\",'Congés de l''employé'!$BU$18,MOD($E29-($B29-($C29-$D29))+($G29-$F29),1))))),VLOOKUP($A29,$AF$12:$AH$29,3,FALSE))","v":0},null,null,{"$f":"IF(I29<>\"\",1+MAX($K$14:K28),\"\")","v":""},null,null,null,null,null,null,null,null,null,null,null,null,null,null,null,null,null,null,"Décembre","Bureau fermé congé donné",{"$f":"AF11+2-WEEKDAY(AF11)+(WEEKDAY(AF11)>2)-1","v":"2018-12-31"}]
[{"$f":"B10+8","v":"2019-08-20"},null,null,null,null,null,null,{"$f":"IF(ISNA(VLOOKUP($A30,$AF$12:$AH$29,3,FALSE)),IF($I30=\"CONGÉ\",'Congés de l''employé'!$E$16,IF($I30=\"Demi congé\",'Congés de l''employé'!$BU$16,IF($I30=\"MALADIE\",'Congés de l''employé'!$E$18,IF($I30=\"Demi maladie\",'Congés de l''employé'!$BU$18,MOD($E30-($B30-($C30-$D30))+($G30-$F30),1))))),VLOOKUP($A30,$AF$12:$AH$29,3,FALSE))","v":0},null,null,{"$f":"IF(I30<>\"\",1+MAX($K$14:K29),\"\")","v":""}]
[{"$f":"B10+9","v":"2019-08-21"},null,null,null,null,null,null,{"$f":"IF(ISNA(VLOOKUP($A31,$AF$12:$AH$29,3,FALSE)),IF($I31=\"CONGÉ\",'Congés de l''employé'!$E$16,IF($I31=\"Demi congé\",'Congés de l''employé'!$BU$16,IF($I31=\"MALADIE\",'Congés de l''employé'!$E$18,IF($I31=\"Demi maladie\",'Congés de l''employé'!$BU$18,MOD($E31-($B31-($C31-$D31))+($G31-$F31),1))))),VLOOKUP($A31,$AF$12:$AH$29,3,FALSE))","v":0},null,null,{"$f":"IF(I31<>\"\",1+MAX($K$14:K30),\"\")","v":""}]
[{"$f":"B10+10","v":"2019-08-22"},null,null,null,null,null,null,{"$f":"IF(ISNA(VLOOKUP($A32,$AF$12:$AH$29,3,FALSE)),IF($I32=\"CONGÉ\",'Congés de l''employé'!$E$16,IF($I32=\"Demi congé\",'Congés de l''employé'!$BU$16,IF($I32=\"MALADIE\",'Congés de l''employé'!$E$18,IF($I32=\"Demi maladie\",'Congés de l''employé'!$BU$18,MOD($E32-($B32-($C32-$D32))+($G32-$F32),1))))),VLOOKUP($A32,$AF$12:$AH$29,3,FALSE))","v":0},null,null,{"$f":"IF(I32<>\"\",1+MAX($K$14:K31),\"\")","v":""}]
[{"$f":"B10+11","v":"2019-08-23"},null,null,null,null,null,null,{"$f":"IF(ISNA(VLOOKUP($A33,$AF$12:$AH$29,3,FALSE)),IF($I33=\"CONGÉ\",'Congés de l''employé'!$E$16,IF($I33=\"Demi congé\",'Congés de l''employé'!$BU$16,IF($I33=\"MALADIE\",'Congés de l''employé'!$E$18,IF($I33=\"Demi maladie\",'Congés de l''employé'!$BU$18,MOD($E33-($B33-($C33-$D33))+($G33-$F33),1))))),VLOOKUP($A33,$AF$12:$AH$29,3,FALSE))","v":0},null,null,{"$f":"IF(I33<>\"\",1+MAX($K$14:K32),\"\")","v":""}]
[{"$f":"B10+12","v":"2019-08-24"},null,null,null,null,null,null,{"$f":"IF(ISNA(VLOOKUP($A34,$AF$12:$AH$29,3,FALSE)),IF($I34=\"CONGÉ\",'Congés de l''employé'!$E$16,IF($I34=\"Demi congé\",'Congés de l''employé'!$BU$16,IF($I34=\"MALADIE\",'Congés de l''employé'!$E$18,IF($I34=\"Demi maladie\",'Congés de l''employé'!$BU$18,MOD($E34-($B34-($C34-$D34))+($G34-$F34),1))))),VLOOKUP($A34,$AF$12:$AH$29,3,FALSE))","v":0},null,null,{"$f":"IF(I34<>\"\",1+MAX($K$14:K33),\"\")","v":""}]
[{"$f":"B10+13","v":"2019-08-25"},null,null,null,null,null,null,{"$f":"IF(ISNA(VLOOKUP($A35,$AF$12:$AH$29,3,FALSE)),IF($I35=\"CONGÉ\",'Congés de l''employé'!$E$16,IF($I35=\"Demi congé\",'Congés de l''employé'!$BU$16,IF($I35=\"MALADIE\",'Congés de l''employé'!$E$18,IF($I35=\"Demi maladie\",'Congés de l''employé'!$BU$18,MOD($E35-($B35-($C35-$D35))+($G35-$F35),1))))),VLOOKUP($A35,$AF$12:$AH$29,3,FALSE))","v":0},null,null,{"$f":"IF(I35<>\"\",1+MAX($K$14:K34),\"\")","v":""}]
[null,null,null,null,null,null,null,{"$f":"SUM(H29:H35)+B36","v":0}]
[]
[null,null,null,null,null,null,"Heures en trop\nou en moins",{"$f":"IF(OR(H36=-(B28),B28=0),\"0\",(H36-B28))","v":"0"}]
[]
["Heure travaillées","Heures prévues","ENTREZ le nombre d'heures à payer","Heures\n supplémentaires ou en moins","Heures à \ntransposer dans la Banque","Total de la Banque d'heures"]
[{"$f":"$H$23+$H$36","v":0},{"$f":"'Congés de l''employé'!BU8*2","v":2.9166666666666665},{"$f":"A41","v":0},{"$f":"IF($H$26>0,$H$26)+IF($H$38>0,$H$38,0)+IF($H$26<0,$H$26)+IF($H$38<0,$H$38,0)","v":0},{"$f":"$A$41-$C$41","v":0},{"$f":"SUM('Fin Juillet-Août 2prem. sem.'!F41:G42)+E41","v":0}]

{"sheet":"Fin Août-Sept 2 prem. sem.","index":25,"n_rows":41,"n_cols":34,"rows_kept":41,"cut":false,"hidden":false,"merged":[[1,1,5,7],[40,0,41,0],[40,1,41,1],[40,2,41,2],[40,3,41,3],[40,4,41,4],[7,29,7,31],[42,1,42,2],[7,4,7,7],[9,1,9,3],[39,5,39,6],[40,5,41,6]]}
[{"$f":"MID(CELL(\"filename\",A1),FIND(\"]\",CELL(\"filename\",A1))+1,32)","v":"Fin Août-Sept 2 prem. sem."}]
[null,"   Feuille de temps"]
[]
[]
[]
[]
[]
[null,null,null,null,null,null,null,null,null,null,null,null,null,null,null,null,null,null,null,null,null,null,null,null,null,null,null,null,null,"Congés fériés, lundi suivant la date"]
["Employé: ",{"$f":"'Congés de l''employé'!B8","v":0},null,null,null,null,null,null,null,null,null,null,null,null,null,null,null,null,null,null,null,null,null,null,null,null,null,null,null,"Mois","Type de congé férié","Année en cours"]
["Période débutant le ",{"$f":"DATE(An_ref,1,-2)-WEEKDAY(DATE(An_ref,1,3))+245","v":"2019-08-26"},null,null,null,null,null,null,null,null,null,null,null,null,null,null,null,null,null,null,null,null,null,null,null,null,null,{"$f":"OR(B11=$AF$12,B11=$AF$13,B11=$AF$14,B11=$AF$16,B11=$AF$17,B11=$AF$19,B11=$AF$21,B11=$AF$23,B11=$AF$25,B11=$AF$26,B11=$AF$27,B11=$AF$28)","v":false},null,null,null,{"$f":"An_ref","v":2019},null,"alloué au férié"]
[null,null,null,null,null,null,null,null,null,null,null,null,null,null,null,null,null,null,null,null,null,null,null,null,null,null,null,null,null,"Janvier","Jour de l'an",{"$f":"DATE(Année,1,1)","v":"2019-01-01"},"Date fixe 1er janvier"]
[null,null,null,null,null,null,null,null,null,null,null,null,null,null,null,null,null,null,null,null,null,null,null,null,null,null,null,null,null,null,"FÉRIÉ-JOUR OUVRABLE SUIVANT LE JOUR DE L'AN",{"$f":"AF11+2-WEEKDAY(AF11)+(WEEKDAY(AF11)>2)","v":"2019-01-01"},null,{"$f":"Edit!M27","v":7.4735918097323577E-190}]
["Jour","Heure\nDébut","Départ\nDiner","Retour\nDiner","Heure\nFin","Télétravail\nDépart","Télétravail\nFin","TOTAL\nJournalier","Absence",null,"Index de la ligne",null,null,null,null,null,null,null,null,null,null,null,null,null,null,null,null,null,null,null,"Bureau fermé congé donné-un jour après le jour de l'an",{"$f":"AF11+2-WEEKDAY(AF11)+(WEEKDAY(AF11)>2)+1","v":"2019-01-02"}]
[null,null,null,null,null,null,null,null,null,null,null,{"$f":"MAX('Août 3e-4e semaine'!K16:K35)","v":"1904-01-01"},null,null,null,null,null,null,null,null,null,null,null,null,null,null,null,null,null,"Mars","Bureau fermé congé donné-un jour ouvré avant Pâques",{"$f":"AF15-2","v":"2019-04-19"},"3e lundi de mai",{"$f":"Edit!M28","v":0.3289473684210526}]
["Horaire Semaine 1",null,null,null,null,null,null,null,null,null,{"$f":"IF(COUNTIF(I16,\"X\"),MAX($K$13:K13)+1,\"\")","v":""},null,null,null,null,null,null,null,null,null,null,null,null,null,null,null,null,null,null,null,"Pâques",{"$f":"DATE(Année,3,29.56+0.979*MOD(204-11*MOD(Année,19),30)-\nWEEKDAY(DATE(Année,3,28.56+0.979*MOD(204-11*MOD(Année,19),30))))","v":"2019-04-21"},"Date fixe 24 juin"]
[{"$f":"$B$10","v":"2019-08-26"},null,null,null,null,null,null,{"$f":"IF(ISNA(VLOOKUP($A16,$AF$12:$AH$29,3,FALSE)),IF($I16=\"CONGÉ\",'Congés de l''employé'!$E$16,IF($I16=\"Demi congé\",'Congés de l''employé'!$BU$16,IF($I16=\"MALADIE\",'Congés de l''employé'!$E$18,IF($I16=\"Demi maladie\",'Congés de l''employé'!$BU$18,MOD($E16-($B16-($C16-$D16))+($G16-$F16),1))))),VLOOKUP($A16,$AF$12:$AH$29,3,FALSE))","v":0},null,null,{"$f":"IF(I16<>\"\",1+MAX($L$14:L14),\"\")","v":""},null,null,null,null,null,null,null,null,null,null,null,null,null,null,null,null,null,null,"Avril","Lundi de pâques",{"$f":"AF15+1","v":"2019-04-22"},"Date fixe 1er juillet"]
[{"$f":"$B$10+1","v":"2019-08-27"},null,null,null,null,null,null,{"$f":"IF(ISNA(VLOOKUP($A17,$AF$12:$AH$29,3,FALSE)),IF($I17=\"CONGÉ\",'Congés de l''employé'!$E$16,IF($I17=\"Demi congé\",'Congés de l''employé'!$BU$16,IF($I17=\"MALADIE\",'Congés de l''employé'!$E$18,IF($I17=\"Demi maladie\",'Congés de l''employé'!$BU$18,MOD($E17-($B17-($C17-$D17))+($G17-$F17),1))))),VLOOKUP($A17,$AF$12:$AH$29,3,FALSE))","v":0},null,null,{"$f":"IF(I17<>\"\",1+MAX($K$14:K15),\"\")","v":""},null,null,null,null,null,null,null,null,null,null,null,null,null,null,null,null,null,null,"Mai","Journée nationale des patriotes",{"$f":"DATE(Année,5,23)-WEEKDAY(DATE(Année,5,1),2)","v":"2019-05-20"},null,{"$f":"Edit!M30","v":0}]
[{"$f":"$B$10+2","v":"2019-08-28"},null,null,null,null,null,null,{"$f":"IF(ISNA(VLOOKUP($A18,$AF$12:$AH$29,3,FALSE)),IF($I18=\"CONGÉ\",'Congés de l''employé'!$E$16,IF($I18=\"Demi congé\",'Congés de l''employé'!$BU$16,IF($I18=\"MALADIE\",'Congés de l''employé'!$E$18,IF($I18=\"Demi maladie\",'Congés de l''employé'!$BU$18,MOD($E18-($B18-($C18-$D18))+($G18-$F18),1))))),VLOOKUP($A18,$AF$12:$AH$29,3,FALSE))","v":0},null,null,{"$f":"IF(I18<>\"\",1+MAX($K$14:K16),\"\")","v":""},null,null,null,null,null,null,null,null,null,null,null,null,null,null,null,null,null,null,"Juin","Fête nationale du Québec",{"$f":"DATE(Année,6,24)","v":"2019-06-24"},null,{"$f":"Edit!M31","v":0}]
[{"$f":"$B$10+3","v":"2019-08-29"},null,null,null,null,null,null,{"$f":"IF(ISNA(VLOOKUP($A19,$AF$12:$AH$29,3,FALSE)),IF($I19=\"CONGÉ\",'Congés de l''employé'!$E$16,IF($I19=\"Demi congé\",'Congés de l''employé'!$BU$16,IF($I19=\"MALADIE\",'Congés de l''employé'!$E$18,IF($I19=\"Demi maladie\",'Congés de l''employé'!$BU$18,MOD($E19-($B19-($C19-$D19))+($G19-$F19),1))))),VLOOKUP($A19,$AF$12:$AH$29,3,FALSE))","v":0},null,null,{"$f":"IF(I19<>\"\",1+MAX($K$14:K17),\"\")","v":""},null,null,null,null,null,null,null,null,null,null,null,null,null,null,null,null,null,null,null,"FÉRIÉ-JOUR OUVRABLE SUIVANT LA FÊTE NATIONALE DU QUÉBEC",{"$f":"AF18+2-WEEKDAY(AF18)+(WEEKDAY(AF18)>2)*7","v":"2019-06-24"},"Date fixe 25 décembre"]
[{"$f":"$B$10+4","v":"2019-08-30"},null,null,null,null,null,null,{"$f":"IF(ISNA(VLOOKUP($A20,$AF$12:$AH$29,3,FALSE)),IF($I20=\"CONGÉ\",'Congés de l''employé'!$E$16,IF($I20=\"Demi congé\",'Congés de l''employé'!$BU$16,IF($I20=\"MALADIE\",'Congés de l''employé'!$E$18,IF($I20=\"Demi maladie\",'Congés de l''employé'!$BU$18,MOD($E20-($B20-($C20-$D20))+($G20-$F20),1))))),VLOOKUP($A20,$AF$12:$AH$29,3,FALSE))","v":0},null,null,{"$f":"IF(I20<>\"\",1+MAX($K$14:K18),\"\")","v":""},null,null,null,null,null,null,null,null,null,null,null,null,null,null,null,null,null,null,"Juillet","Fête du Canada",{"$f":"DATE(Année,7,1)","v":"2019-07-01"},null,{"$f":"Edit!M32","v":1.1253746147756614E-210}]
[{"$f":"$B$10+5","v":"2019-08-31"},null,null,null,null,null,null,{"$f":"IF(ISNA(VLOOKUP($A21,$AF$12:$AH$29,3,FALSE)),IF($I21=\"CONGÉ\",'Congés de l''employé'!$E$16,IF($I21=\"Demi congé\",'Congés de l''employé'!$BU$16,IF($I21=\"MALADIE\",'Congés de l''employé'!$E$18,IF($I21=\"Demi maladie\",'Congés de l''employé'!$BU$18,MOD($E21-($B21-($C21-$D21))+($G21-$F21),1))))),VLOOKUP($A21,$AF$12:$AH$29,3,FALSE))","v":0},null,null,{"$f":"IF(I21<>\"\",1+MAX($K$14:K19),\"\")","v":""},null,null,null,null,null,null,null,null,null,null,null,null,null,null,null,null,null,null,null,"FÉRIÉ-JOUR OUVRABLE SUIVANT LA FÊTE DU CANADA",{"$f":"AF20+2-WEEKDAY(AF20)+(WEEKDAY(AF20)>2)*7","v":"2019-07-01"}]
[{"$f":"$B$10+6","v":"2019-09-01"},null,null,null,null,null,null,{"$f":"IF(ISNA(VLOOKUP($A22,$AF$12:$AH$29,3,FALSE)),IF($I22=\"CONGÉ\",'Congés de l''employé'!$E$16,IF($I22=\"Demi congé\",'Congés de l''employé'!$BU$16,IF($I22=\"MALADIE\",'Congés de l''employé'!$E$18,IF($I22=\"Demi maladie\",'Congés de l''employé'!$BU$18,MOD($E22-($B22-($C22-$D22))+($G22-$F22),1))))),VLOOKUP($A22,$AF$12:$AH$29,3,FALSE))","v":0},null,null,{"$f":"IF(I22<>\"\",1+MAX($K$14:K20),\"\")","v":""},null,null,null,null,null,null,null,null,null,null,null,null,null,null,null,null,null,null,"Septembre","Fête du travail",{"$f":"IF(MOD(DATE(Année,9,1),7)<=2,2-MOD(DATE(Année,9,1),7),9-MOD(DATE(Année,9,1),7))+DATE(Année,9,1)","v":"2019-09-01"},null,{"$f":"Edit!M33","v":0}]
[null,null,null,null,null,null,null,{"$f":"SUM(H16:H22)+B23","v":0},null,null,{"$f":"IF(I23<>\"\",1+MAX($K$14:K21),\"\")","v":""},null,null,null,null,null,null,null,null,null,null,null,null,null,null,null,null,null,null,null,"FÉRIÉ-JOUR OUVRABLE SUIVANT LA FÊTE DU TRAVAIL",{"$f":"AF22+2-WEEKDAY(AF22)+(WEEKDAY(AF22)>2)*7","v":"2019-09-02"}]
[null,null,null,null,null,null,null,null,null,null,{"$f":"IF(I24<>\"\",1+MAX($K$14:K22),\"\")","v":""},null,null,null,null,null,null,null,null,null,null,null,null,null,null,null,null,null,null,"Octobre","Action de grâce",{"$f":"DATE(AF10,10,1)","v":"2019-10-01"},null,{"$f":"Edit!M34","v":0}]
[null,null,null,null,null,null,null,null,null,null,{"$f":"IF(I25<>\"\",1+MAX($K$14:K23),\"\")","v":""},null,null,null,null,null,null,null,null,null,null,null,null,null,null,null,null,null,null,null,"FÉRIÉ-JOUR OUVRABLE SUIVANT L'ACTION DE GRÂCE",{"$f":"AF24-DAY(AF24)-WEEKDAY(AF24-DAY(AF24),2)+15","v":"2019-10-14"}]
[null,null,null,null,null,null,"Heures en trop\nou en moins",{"$f":"IF(OR(H23=-(B15),B15=0),\"0\",(H23-B15))","v":"0"},null,null,{"$f":"IF(I26<>\"\",1+MAX($K$14:K24),\"\")","v":""},null,null,null,null,null,null,null,null,null,null,null,null,null,null,null,null,null,null,null,"Bureau fermé congé donné",{"$f":"DATE(Année,12,25)-1","v":"2019-12-24"},null,{"$f":"'[1]Congés de l''employé'!$E$14","v":0}]
[null,null,null,null,null,null,null,null,null,null,{"$f":"IF(I27<>\"\",1+MAX($K$14:K25),\"\")","v":""},null,null,null,null,null,null,null,null,null,null,null,null,null,null,null,null,null,null,"Décembre","Férié-Noël",{"$f":"DATE(Année,12,25)","v":"2019-12-25"},null,{"$f":"Edit!M35","v":0}]
["Horaire Semaine 2",null,null,null,null,null,null,null,null,null,{"$f":"IF(I28<>\"\",1+MAX($K$14:K26),\"\")","v":""},null,null,null,null,null,null,null,null,null,null,null,null,null,null,null,null,null,null,"Décembre","Bureau fermé congé donné",{"$f":"DATE(Année,12,25)+1","v":"2019-12-26"}]
[{"$f":"B10+7","v":"2019-09-02"},null,null,null,null,null,null,{"$f":"IF(ISNA(VLOOKUP($A29,$AF$12:$AH$29,3,FALSE)),IF($I29=\"CONGÉ\",'Congés de l''employé'!$E$16,IF($I29=\"Demi congé\",'Congés de l''employé'!$BU$16,IF($I29=\"MALADIE\",'Congés de l''employé'!$E$18,IF($I29=\"Demi maladie\",'Congés de l''employé'!$BU$18,MOD($E29-($B29-($C29-$D29))+($G29-$F29),1))))),VLOOKUP($A29,$AF$12:$AH$29,3,FALSE))","v":0},null,null,{"$f":"IF(I29<>\"\",1+MAX($K$14:K28),\"\")","v":""},null,null,null,null,null,null,null,null,null,null,null,null,null,null,null,null,null,null,"Décembre","Bureau fermé congé donné",{"$f":"AF11+2-WEEKDAY(AF11)+(WEEKDAY(AF11)>2)-1","v":"2018-12-31"}]
[{"$f":"B10+8","v":"2019-09-03"},null,null,null,null,null,null,{"$f":"IF(ISNA(VLOOKUP($A30,$AF$12:$AH$29,3,FALSE)),IF($I30=\"CONGÉ\",'Congés de l''employé'!$E$16,IF($I30=\"Demi congé\",'Congés de l''employé'!$BU$16,IF($I30=\"MALADIE\",'Congés de l''employé'!$E$18,IF($I30=\"Demi maladie\",'Congés de l''employé'!$BU$18,MOD($E30-($B30-($C30-$D30))+($G30-$F30),1))))),VLOOKUP($A30,$AF$12:$AH$29,3,FALSE))","v":0},null,null,{"$f":"IF(I30<>\"\",1+MAX($K$14:K29),\"\")","v":""}]
[{"$f":"B10+9","v":"2019-09-04"},null,null,null,null,null,null,{"$f":"IF(ISNA(VLOOKUP($A31,$AF$12:$AH$29,3,FALSE)),IF($I31=\"CONGÉ\",'Congés de l''employé'!$E$16,IF($I31=\"Demi congé\",'Congés de l''employé'!$BU$16,IF($I31=\"MALADIE\",'Congés de l''employé'!$E$18,IF($I31=\"Demi maladie\",'Congés de l''employé'!$BU$18,MOD($E31-($B31-($C31-$D31))+($G31-$F31),1))))),VLOOKUP($A31,$AF$12:$AH$29,3,FALSE))","v":0},null,null,{"$f":"IF(I31<>\"\",1+MAX($K$14:K30),\"\")","v":""}]
[{"$f":"B10+10","v":"2019-09-05"},null,null,null,null,null,null,{"$f":"IF(ISNA(VLOOKUP($A32,$AF$12:$AH$29,3,FALSE)),IF($I32=\"CONGÉ\",'Congés de l''employé'!$E$16,IF($I32=\"Demi congé\",'Congés de l''employé'!$BU$16,IF($I32=\"MALADIE\",'Congés de l''employé'!$E$18,IF($I32=\"Demi maladie\",'Congés de l''employé'!$BU$18,MOD($E32-($B32-($C32-$D32))+($G32-$F32),1))))),VLOOKUP($A32,$AF$12:$AH$29,3,FALSE))","v":0},null,null,{"$f":"IF(I32<>\"\",1+MAX($K$14:K31),\"\")","v":""}]
[{"$f":"B10+11","v":"2019-09-06"},null,null,null,null,null,null,{"$f":"IF(ISNA(VLOOKUP($A33,$AF$12:$AH$29,3,FALSE)),IF($I33=\"CONGÉ\",'Congés de l''employé'!$E$16,IF($I33=\"Demi congé\",'Congés de l''employé'!$BU$16,IF($I33=\"MALADIE\",'Congés de l''employé'!$E$18,IF($I33=\"Demi maladie\",'Congés de l''employé'!$BU$18,MOD($E33-($B33-($C33-$D33))+($G33-$F33),1))))),VLOOKUP($A33,$AF$12:$AH$29,3,FALSE))","v":0},null,null,{"$f":"IF(I33<>\"\",1+MAX($K$14:K32),\"\")","v":""}]
[{"$f":"B10+12","v":"2019-09-07"},null,null,null,null,null,null,{"$f":"IF(ISNA(VLOOKUP($A34,$AF$12:$AH$29,3,FALSE)),IF($I34=\"CONGÉ\",'Congés de l''employé'!$E$16,IF($I34=\"Demi congé\",'Congés de l''employé'!$BU$16,IF($I34=\"MALADIE\",'Congés de l''employé'!$E$18,IF($I34=\"Demi maladie\",'Congés de l''employé'!$BU$18,MOD($E34-($B34-($C34-$D34))+($G34-$F34),1))))),VLOOKUP($A34,$AF$12:$AH$29,3,FALSE))","v":0},null,null,{"$f":"IF(I34<>\"\",1+MAX($K$14:K33),\"\")","v":""}]
[{"$f":"B10+13","v":"2019-09-08"},null,null,null,null,null,null,{"$f":"IF(ISNA(VLOOKUP($A35,$AF$12:$AH$29,3,FALSE)),IF($I35=\"CONGÉ\",'Congés de l''employé'!$E$16,IF($I35=\"Demi congé\",'Congés de l''employé'!$BU$16,IF($I35=\"MALADIE\",'Congés de l''employé'!$E$18,IF($I35=\"Demi maladie\",'Congés de l''employé'!$BU$18,MOD($E35-($B35-($C35-$D35))+($G35-$F35),1))))),VLOOKUP($A35,$AF$12:$AH$29,3,FALSE))","v":0},null,null,{"$f":"IF(I35<>\"\",1+MAX($K$14:K34),\"\")","v":""}]
[null,null,null,null,null,null,null,{"$f":"SUM(H29:H35)+B36","v":0}]
[]
[null,null,null,null,null,null,"Heures en trop\nou en moins",{"$f":"IF(OR(H36=-(B28),B28=0),\"0\",(H36-B28))","v":"0"}]
[]
["Heure travaillées","Heures prévues","ENTREZ le nombre d'heures à payer","Heures\n supplémentaires ou en moins","Heures à \ntransposer dans la Banque","Total de la Banque d'heures"]
[{"$f":"$H$23+$H$36","v":0},{"$f":"'Congés de l''employé'!BU8*2","v":2.9166666666666665},{"$f":"A41","v":0},{"$f":"IF($H$26>0,$H$26)+IF($H$38>0,$H$38,0)+IF($H$26<0,$H$26)+IF($H$38<0,$H$38,0)","v":0},{"$f":"$A$41-$C$41","v":0},{"$f":"SUM('Août 3e-4e semaine'!F41:G42)+E41","v":0}]

{"sheet":"Septembre 3e-4e semaine","index":26,"n_rows":41,"n_cols":34,"rows_kept":41,"cut":false,"hidden":false,"merged":[[1,1,5,7],[40,0,41,0],[40,1,41,1],[40,2,41,2],[40,3,41,3],[40,4,41,4],[7,29,7,31],[42,1,42,2],[7,4,7,7],[9,1,9,3],[39,5,39,6],[40,5,41,6]]}
[{"$f":"MID(CELL(\"filename\",A1),FIND(\"]\",CELL(\"filename\",A1))+1,32)","v":"Septembre 3e-4e semaine"}]
[null,"   Feuille de temps"]
[]
[]
[]
[]
[]
[null,null,null,null,null,null,null,null,null,null,null,null,null,null,null,null,null,null,null,null,null,null,null,null,null,null,null,null,null,"Congés fériés, lundi suivant la date"]
["Employé: ",{"$f":"'Congés de l''employé'!B8","v":0},null,null,null,null,null,null,null,null,null,null,null,null,null,null,null,null,null,null,null,null,null,null,null,null,null,null,null,"Mois","Type de congé férié","Année en cours"]
["Période débutant le ",{"$f":"DATE(An_ref,1,-2)-WEEKDAY(DATE(An_ref,1,3))+259","v":"2019-09-09"},null,null,null,null,null,null,null,null,null,null,null,null,null,null,null,null,null,null,null,null,null,null,null,null,null,{"$f":"OR(B11=$AF$12,B11=$AF$13,B11=$AF$14,B11=$AF$16,B11=$AF$17,B11=$AF$19,B11=$AF$21,B11=$AF$23,B11=$AF$25,B11=$AF$26,B11=$AF$27,B11=$AF$28)","v":false},null,null,null,{"$f":"An_ref","v":2019},null,"alloué au férié"]
[null,null,null,null,null,null,null,null,null,null,null,null,null,null,null,null,null,null,null,null,null,null,null,null,null,null,null,null,null,"Janvier","Jour de l'an",{"$f":"DATE(Année,1,1)","v":"2019-01-01"},"Date fixe 1er janvier"]
[null,null,null,null,null,null,null,null,null,null,null,null,null,null,null,null,null,null,null,null,null,null,null,null,null,null,null,null,null,null,"FÉRIÉ-JOUR OUVRABLE SUIVANT LE JOUR DE L'AN",{"$f":"AF11+2-WEEKDAY(AF11)+(WEEKDAY(AF11)>2)","v":"2019-01-01"},null,{"$f":"Edit!M27","v":7.4735918097323577E-190}]
["Jour","Heure\nDébut","Départ\nDiner","Retour\nDiner","Heure\nFin","Télétravail\nDépart","Télétravail\nFin","TOTAL\nJournalier","Absence",null,"Index de la ligne",null,null,null,null,null,null,null,null,null,null,null,null,null,null,null,null,null,null,null,"Bureau fermé congé donné-un jour après le jour de l'an",{"$f":"AF11+2-WEEKDAY(AF11)+(WEEKDAY(AF11)>2)+1","v":"2019-01-02"}]
[null,null,null,null,null,null,null,null,null,null,null,{"$f":"MAX('Fin Août-Sept 2 prem. sem.'!K16:K35)","v":"1904-01-01"},null,null,null,null,null,null,null,null,null,null,null,null,null,null,null,null,null,"Mars","Bureau fermé congé donné-un jour ouvré avant Pâques",{"$f":"AF15-2","v":"2019-04-19"},"3e lundi de mai",{"$f":"Edit!M28","v":0.3289473684210526}]
["Horaire Semaine 1",null,null,null,null,null,null,null,null,null,{"$f":"IF(COUNTIF(I16,\"X\"),MAX($K$13:K13)+1,\"\")","v":""},null,null,null,null,null,null,null,null,null,null,null,null,null,null,null,null,null,null,null,"Pâques",{"$f":"DATE(Année,3,29.56+0.979*MOD(204-11*MOD(Année,19),30)-\nWEEKDAY(DATE(Année,3,28.56+0.979*MOD(204-11*MOD(Année,19),30))))","v":"2019-04-21"},"Date fixe 24 juin"]
[{"$f":"$B$10","v":"2019-09-09"},null,null,null,null,null,null,{"$f":"IF(ISNA(VLOOKUP($A16,$AF$12:$AH$29,3,FALSE)),IF($I16=\"CONGÉ\",'Congés de l''employé'!$E$16,IF($I16=\"Demi congé\",'Congés de l''employé'!$BU$16,IF($I16=\"MALADIE\",'Congés de l''employé'!$E$18,IF($I16=\"Demi maladie\",'Congés de l''employé'!$BU$18,MOD($E16-($B16-($C16-$D16))+($G16-$F16),1))))),VLOOKUP($A16,$AF$12:$AH$29,3,FALSE))","v":0},null,null,{"$f":"IF(I16<>\"\",1+MAX($L$14:L14),\"\")","v":""},null,null,null,null,null,null,null,null,null,null,null,null,null,null,null,null,null,null,"Avril","Lundi de pâques",{"$f":"AF15+1","v":"2019-04-22"},"Date fixe 1er juillet"]
[{"$f":"$B$10+1","v":"2019-09-10"},null,null,null,null,null,null,{"$f":"IF(ISNA(VLOOKUP($A17,$AF$12:$AH$29,3,FALSE)),IF($I17=\"CONGÉ\",'Congés de l''employé'!$E$16,IF($I17=\"Demi congé\",'Congés de l''employé'!$BU$16,IF($I17=\"MALADIE\",'Congés de l''employé'!$E$18,IF($I17=\"Demi maladie\",'Congés de l''employé'!$BU$18,MOD($E17-($B17-($C17-$D17))+($G17-$F17),1))))),VLOOKUP($A17,$AF$12:$AH$29,3,FALSE))","v":0},null,null,{"$f":"IF(I17<>\"\",1+MAX($K$14:K15),\"\")","v":""},null,null,null,null,null,null,null,null,null,null,null,null,null,null,null,null,null,null,"Mai","Journée nationale des patriotes",{"$f":"DATE(Année,5,23)-WEEKDAY(DATE(Année,5,1),2)","v":"2019-05-20"},null,{"$f":"Edit!M30","v":0}]
[{"$f":"$B$10+2","v":"2019-09-11"},null,null,null,null,null,null,{"$f":"IF(ISNA(VLOOKUP($A18,$AF$12:$AH$29,3,FALSE)),IF($I18=\"CONGÉ\",'Congés de l''employé'!$E$16,IF($I18=\"Demi congé\",'Congés de l''employé'!$BU$16,IF($I18=\"MALADIE\",'Congés de l''employé'!$E$18,IF($I18=\"Demi maladie\",'Congés de l''employé'!$BU$18,MOD($E18-($B18-($C18-$D18))+($G18-$F18),1))))),VLOOKUP($A18,$AF$12:$AH$29,3,FALSE))","v":0},null,null,{"$f":"IF(I18<>\"\",1+MAX($K$14:K16),\"\")","v":""},null,null,null,null,null,null,null,null,null,null,null,null,null,null,null,null,null,null,"Juin","Fête nationale du Québec",{"$f":"DATE(Année,6,24)","v":"2019-06-24"},null,{"$f":"Edit!M31","v":0}]
[{"$f":"$B$10+3","v":"2019-09-12"},null,null,null,null,null,null,{"$f":"IF(ISNA(VLOOKUP($A19,$AF$12:$AH$29,3,FALSE)),IF($I19=\"CONGÉ\",'Congés de l''employé'!$E$16,IF($I19=\"Demi congé\",'Congés de l''employé'!$BU$16,IF($I19=\"MALADIE\",'Congés de l''employé'!$E$18,IF($I19=\"Demi maladie\",'Congés de l''employé'!$BU$18,MOD($E19-($B19-($C19-$D19))+($G19-$F19),1))))),VLOOKUP($A19,$AF$12:$AH$29,3,FALSE))","v":0},null,null,{"$f":"IF(I19<>\"\",1+MAX($K$14:K17),\"\")","v":""},null,null,null,null,null,null,null,null,null,null,null,null,null,null,null,null,null,null,null,"FÉRIÉ-JOUR OUVRABLE SUIVANT LA FÊTE NATIONALE DU QUÉBEC",{"$f":"AF18+2-WEEKDAY(AF18)+(WEEKDAY(AF18)>2)*7","v":"2019-06-24"},"Date fixe 25 décembre"]
[{"$f":"$B$10+4","v":"2019-09-13"},null,null,null,null,null,null,{"$f":"IF(ISNA(VLOOKUP($A20,$AF$12:$AH$29,3,FALSE)),IF($I20=\"CONGÉ\",'Congés de l''employé'!$E$16,IF($I20=\"Demi congé\",'Congés de l''employé'!$BU$16,IF($I20=\"MALADIE\",'Congés de l''employé'!$E$18,IF($I20=\"Demi maladie\",'Congés de l''employé'!$BU$18,MOD($E20-($B20-($C20-$D20))+($G20-$F20),1))))),VLOOKUP($A20,$AF$12:$AH$29,3,FALSE))","v":0},null,null,{"$f":"IF(I20<>\"\",1+MAX($K$14:K18),\"\")","v":""},null,null,null,null,null,null,null,null,null,null,null,null,null,null,null,null,null,null,"Juillet","Fête du Canada",{"$f":"DATE(Année,7,1)","v":"2019-07-01"},null,{"$f":"Edit!M32","v":1.1253746147756614E-210}]
[{"$f":"$B$10+5","v":"2019-09-14"},null,null,null,null,null,null,{"$f":"IF(ISNA(VLOOKUP($A21,$AF$12:$AH$29,3,FALSE)),IF($I21=\"CONGÉ\",'Congés de l''employé'!$E$16,IF($I21=\"Demi congé\",'Congés de l''employé'!$BU$16,IF($I21=\"MALADIE\",'Congés de l''employé'!$E$18,IF($I21=\"Demi maladie\",'Congés de l''employé'!$BU$18,MOD($E21-($B21-($C21-$D21))+($G21-$F21),1))))),VLOOKUP($A21,$AF$12:$AH$29,3,FALSE))","v":0},null,null,{"$f":"IF(I21<>\"\",1+MAX($K$14:K19),\"\")","v":""},null,null,null,null,null,null,null,null,null,null,null,null,null,null,null,null,null,null,null,"FÉRIÉ-JOUR OUVRABLE SUIVANT LA FÊTE DU CANADA",{"$f":"AF20+2-WEEKDAY(AF20)+(WEEKDAY(AF20)>2)*7","v":"2019-07-01"}]
[{"$f":"$B$10+6","v":"2019-09-15"},null,null,null,null,null,null,{"$f":"IF(ISNA(VLOOKUP($A22,$AF$12:$AH$29,3,FALSE)),IF($I22=\"CONGÉ\",'Congés de l''employé'!$E$16,IF($I22=\"Demi congé\",'Congés de l''employé'!$BU$16,IF($I22=\"MALADIE\",'Congés de l''employé'!$E$18,IF($I22=\"Demi maladie\",'Congés de l''employé'!$BU$18,MOD($E22-($B22-($C22-$D22))+($G22-$F22),1))))),VLOOKUP($A22,$AF$12:$AH$29,3,FALSE))","v":0},null,null,{"$f":"IF(I22<>\"\",1+MAX($K$14:K20),\"\")","v":""},null,null,null,null,null,null,null,null,null,null,null,null,null,null,null,null,null,null,"Septembre","Fête du travail",{"$f":"IF(MOD(DATE(Année,9,1),7)<=2,2-MOD(DATE(Année,9,1),7),9-MOD(DATE(Année,9,1),7))+DATE(Année,9,1)","v":"2019-09-01"},null,{"$f":"Edit!M33","v":0}]
[null,null,null,null,null,null,null,{"$f":"SUM(H16:H22)+B23","v":0},null,null,{"$f":"IF(I23<>\"\",1+MAX($K$14:K21),\"\")","v":""},null,null,null,null,null,null,null,null,null,null,null,null,null,null,null,null,null,null,null,"FÉRIÉ-JOUR OUVRABLE SUIVANT LA FÊTE DU TRAVAIL",{"$f":"AF22+2-WEEKDAY(AF22)+(WEEKDAY(AF22)>2)*7","v":"2019-09-02"}]
[null,null,null,null,null,null,null,null,null,null,{"$f":"IF(I24<>\"\",1+MAX($K$14:K22),\"\")","v":""},null,null,null,null,null,null,null,null,null,null,null,null,null,null,null,null,null,null,"Octobre","Action de grâce",{"$f":"DATE(AF10,10,1)","v":"2019-10-01"},null,{"$f":"Edit!M34","v":0}]
[null,null,null,null,null,null,null,null,null,null,{"$f":"IF(I25<>\"\",1+MAX($K$14:K23),\"\")","v":""},null,null,null,null,null,null,null,null,null,null,null,null,null,null,null,null,null,null,null,"FÉRIÉ-JOUR OUVRABLE SUIVANT L'ACTION DE GRÂCE",{"$f":"AF24-DAY(AF24)-WEEKDAY(AF24-DAY(AF24),2)+15","v":"2019-10-14"}]
[null,null,null,null,null,null,"Heures en trop\nou en moins",{"$f":"IF(OR(H23=-(B15),B15=0),\"0\",(H23-B15))","v":"0"},null,null,{"$f":"IF(I26<>\"\",1+MAX($K$14:K24),\"\")","v":""},null,null,null,null,null,null,null,null,null,null,null,null,null,null,null,null,null,null,null,"Bureau fermé congé donné",{"$f":"DATE(Année,12,25)-1","v":"2019-12-24"},null,{"$f":"'[1]Congés de l''employé'!$E$14","v":0}]
[null,null,null,null,null,null,null,null,null,null,{"$f":"IF(I27<>\"\",1+MAX($K$14:K25),\"\")","v":""},null,null,null,null,null,null,null,null,null,null,null,null,null,null,null,null,null,null,"Décembre","Férié-Noël",{"$f":"DATE(Année,12,25)","v":"2019-12-25"},null,{"$f":"Edit!M35","v":0}]
["Horaire Semaine 2",null,null,null,null,null,null,null,null,null,{"$f":"IF(I28<>\"\",1+MAX($K$14:K26),\"\")","v":""},null,null,null,null,null,null,null,null,null,null,null,null,null,null,null,null,null,null,"Décembre","Bureau fermé congé donné",{"$f":"DATE(Année,12,25)+1","v":"2019-12-26"}]
[{"$f":"B10+7","v":"2019-09-16"},null,null,null,null,null,null,{"$f":"IF(ISNA(VLOOKUP($A29,$AF$12:$AH$29,3,FALSE)),IF($I29=\"CONGÉ\",'Congés de l''employé'!$E$16,IF($I29=\"Demi congé\",'Congés de l''employé'!$BU$16,IF($I29=\"MALADIE\",'Congés de l''employé'!$E$18,IF($I29=\"Demi maladie\",'Congés de l''employé'!$BU$18,MOD($E29-($B29-($C29-$D29))+($G29-$F29),1))))),VLOOKUP($A29,$AF$12:$AH$29,3,FALSE))","v":0},null,null,{"$f":"IF(I29<>\"\",1+MAX($K$14:K28),\"\")","v":""},null,null,null,null,null,null,null,null,null,null,null,null,null,null,null,null,null,null,"Décembre","Bureau fermé congé donné",{"$f":"AF11+2-WEEKDAY(AF11)+(WEEKDAY(AF11)>2)-1","v":"2018-12-31"}]
[{"$f":"B10+8","v":"2019-09-17"},null,null,null,null,null,null,{"$f":"IF(ISNA(VLOOKUP($A30,$AF$12:$AH$29,3,FALSE)),IF($I30=\"CONGÉ\",'Congés de l''employé'!$E$16,IF($I30=\"Demi congé\",'Congés de l''employé'!$BU$16,IF($I30=\"MALADIE\",'Congés de l''employé'!$E$18,IF($I30=\"Demi maladie\",'Congés de l''employé'!$BU$18,MOD($E30-($B30-($C30-$D30))+($G30-$F30),1))))),VLOOKUP($A30,$AF$12:$AH$29,3,FALSE))","v":0},null,null,{"$f":"IF(I30<>\"\",1+MAX($K$14:K29),\"\")","v":""}]
[{"$f":"B10+9","v":"2019-09-18"},null,null,null,null,null,null,{"$f":"IF(ISNA(VLOOKUP($A31,$AF$12:$AH$29,3,FALSE)),IF($I31=\"CONGÉ\",'Congés de l''employé'!$E$16,IF($I31=\"Demi congé\",'Congés de l''employé'!$BU$16,IF($I31=\"MALADIE\",'Congés de l''employé'!$E$18,IF($I31=\"Demi maladie\",'Congés de l''employé'!$BU$18,MOD($E31-($B31-($C31-$D31))+($G31-$F31),1))))),VLOOKUP($A31,$AF$12:$AH$29,3,FALSE))","v":0},null,null,{"$f":"IF(I31<>\"\",1+MAX($K$14:K30),\"\")","v":""}]
[{"$f":"B10+10","v":"2019-09-19"},null,null,null,null,null,null,{"$f":"IF(ISNA(VLOOKUP($A32,$AF$12:$AH$29,3,FALSE)),IF($I32=\"CONGÉ\",'Congés de l''employé'!$E$16,IF($I32=\"Demi congé\",'Congés de l''employé'!$BU$16,IF($I32=\"MALADIE\",'Congés de l''employé'!$E$18,IF($I32=\"Demi maladie\",'Congés de l''employé'!$BU$18,MOD($E32-($B32-($C32-$D32))+($G32-$F32),1))))),VLOOKUP($A32,$AF$12:$AH$29,3,FALSE))","v":0},null,null,{"$f":"IF(I32<>\"\",1+MAX($K$14:K31),\"\")","v":""}]
[{"$f":"B10+11","v":"2019-09-20"},null,null,null,null,null,null,{"$f":"IF(ISNA(VLOOKUP($A33,$AF$12:$AH$29,3,FALSE)),IF($I33=\"CONGÉ\",'Congés de l''employé'!$E$16,IF($I33=\"Demi congé\",'Congés de l''employé'!$BU$16,IF($I33=\"MALADIE\",'Congés de l''employé'!$E$18,IF($I33=\"Demi maladie\",'Congés de l''employé'!$BU$18,MOD($E33-($B33-($C33-$D33))+($G33-$F33),1))))),VLOOKUP($A33,$AF$12:$AH$29,3,FALSE))","v":0},null,null,{"$f":"IF(I33<>\"\",1+MAX($K$14:K32),\"\")","v":""}]
[{"$f":"B10+12","v":"2019-09-21"},null,null,null,null,null,null,{"$f":"IF(ISNA(VLOOKUP($A34,$AF$12:$AH$29,3,FALSE)),IF($I34=\"CONGÉ\",'Congés de l''employé'!$E$16,IF($I34=\"Demi congé\",'Congés de l''employé'!$BU$16,IF($I34=\"MALADIE\",'Congés de l''employé'!$E$18,IF($I34=\"Demi maladie\",'Congés de l''employé'!$BU$18,MOD($E34-($B34-($C34-$D34))+($G34-$F34),1))))),VLOOKUP($A34,$AF$12:$AH$29,3,FALSE))","v":0},null,null,{"$f":"IF(I34<>\"\",1+MAX($K$14:K33),\"\")","v":""}]
[{"$f":"B10+13","v":"2019-09-22"},null,null,null,null,null,null,{"$f":"IF(ISNA(VLOOKUP($A35,$AF$12:$AH$29,3,FALSE)),IF($I35=\"CONGÉ\",'Congés de l''employé'!$E$16,IF($I35=\"Demi congé\",'Congés de l''employé'!$BU$16,IF($I35=\"MALADIE\",'Congés de l''employé'!$E$18,IF($I35=\"Demi maladie\",'Congés de l''employé'!$BU$18,MOD($E35-($B35-($C35-$D35))+($G35-$F35),1))))),VLOOKUP($A35,$AF$12:$AH$29,3,FALSE))","v":0},null,null,{"$f":"IF(I35<>\"\",1+MAX($K$14:K34),\"\")","v":""}]
[null,null,null,null,null,null,null,{"$f":"SUM(H29:H35)+B36","v":0}]
[]
[null,null,null,null,null,null,"Heures en trop\nou en moins",{"$f":"IF(OR(H36=-(B28),B28=0),\"0\",(H36-B28))","v":"0"}]
[]
["Heure travaillées","Heures prévues","ENTREZ le nombre d'heures à payer","Heures\n supplémentaires ou en moins","Heures à \ntransposer dans la Banque","Total de la Banque d'heures"]
[{"$f":"$H$23+$H$36","v":0},{"$f":"'Congés de l''employé'!BU8*2","v":2.9166666666666665},{"$f":"A41","v":0},{"$f":"IF($H$26>0,$H$26)+IF($H$38>0,$H$38,0)+IF($H$26<0,$H$26)+IF($H$38<0,$H$38,0)","v":0},{"$f":"$A$41-$C$41","v":0},{"$f":"SUM('Fin Août-Sept 2 prem. sem.'!F41:G42)+E41","v":0}]

{"sheet":"Fin Sept.-Oct.-première semaine","index":27,"n_rows":41,"n_cols":34,"rows_kept":41,"cut":false,"hidden":false,"merged":[[1,1,5,7],[40,0,41,0],[40,1,41,1],[40,2,41,2],[40,3,41,3],[40,4,41,4],[7,29,7,31],[42,1,42,2],[7,4,7,7],[9,1,9,3],[39,5,39,6],[40,5,41,6]]}
[{"$f":"MID(CELL(\"filename\",A1),FIND(\"]\",CELL(\"filename\",A1))+1,32)","v":"Fin Sept.-Oct.-première semaine"}]
[null,"   Feuille de temps"]
[]
[]
[]
[]
[]
[null,null,null,null,null,null,null,null,null,null,null,null,null,null,null,null,null,null,null,null,null,null,null,null,null,null,null,null,null,"Congés fériés, lundi suivant la date"]
["Employé: ",{"$f":"'Congés de l''employé'!B8","v":0},null,null,null,null,null,null,null,null,null,null,null,null,null,null,null,null,null,null,null,null,null,null,null,null,null,null,null,"Mois","Type de congé férié","Année en cours"]
["Période débutant le ",{"$f":"DATE(An_ref,1,-2)-WEEKDAY(DATE(An_ref,1,3))+273","v":"2019-09-23"},null,null,null,null,null,null,null,null,null,null,null,null,null,null,null,null,null,null,null,null,null,null,null,null,null,{"$f":"OR(B11=$AF$12,B11=$AF$13,B11=$AF$14,B11=$AF$16,B11=$AF$17,B11=$AF$19,B11=$AF$21,B11=$AF$23,B11=$AF$25,B11=$AF$26,B11=$AF$27,B11=$AF$28)","v":false},null,null,null,{"$f":"An_ref","v":2019},null,"alloué au férié"]
[null,null,null,null,null,null,null,null,null,null,null,null,null,null,null,null,null,null,null,null,null,null,null,null,null,null,null,null,null,"Janvier","Jour de l'an",{"$f":"DATE(Année,1,1)","v":"2019-01-01"},"Date fixe 1er janvier"]
[null,null,null,null,null,null,null,null,null,null,null,null,null,null,null,null,null,null,null,null,null,null,null,null,null,null,null,null,null,null,"FÉRIÉ-JOUR OUVRABLE SUIVANT LE JOUR DE L'AN",{"$f":"AF11+2-WEEKDAY(AF11)+(WEEKDAY(AF11)>2)","v":"2019-01-01"},null,{"$f":"Edit!M27","v":7.4735918097323577E-190}]
["Jour","Heure\nDébut","Départ\nDiner","Retour\nDiner","Heure\nFin","Télétravail\nDépart","Télétravail\nFin","TOTAL\nJournalier","Absence",null,"Index de la ligne",null,null,null,null,null,null,null,null,null,null,null,null,null,null,null,null,null,null,null,"Bureau fermé congé donné-un jour après le jour de l'an",{"$f":"AF11+2-WEEKDAY(AF11)+(WEEKDAY(AF11)>2)+1","v":"2019-01-02"}]
[null,null,null,null,null,null,null,null,null,null,null,{"$f":"MAX('Septembre 3e-4e semaine'!K16:K35)","v":"1904-01-01"},null,null,null,null,null,null,null,null,null,null,null,null,null,null,null,null,null,"Mars","Bureau fermé congé donné-un jour ouvré avant Pâques",{"$f":"AF15-2","v":"2019-04-19"},"3e lundi de mai",{"$f":"Edit!M28","v":0.3289473684210526}]
["Horaire Semaine 1",null,null,null,null,null,null,null,null,null,{"$f":"IF(COUNTIF(I16,\"X\"),MAX($K$13:K13)+1,\"\")","v":""},null,null,null,null,null,null,null,null,null,null,null,null,null,null,null,null,null,null,null,"Pâques",{"$f":"DATE(Année,3,29.56+0.979*MOD(204-11*MOD(Année,19),30)-\nWEEKDAY(DATE(Année,3,28.56+0.979*MOD(204-11*MOD(Année,19),30))))","v":"2019-04-21"},"Date fixe 24 juin"]
[{"$f":"$B$10","v":"2019-09-23"},null,null,null,null,null,null,{"$f":"IF(ISNA(VLOOKUP($A16,$AF$12:$AH$29,3,FALSE)),IF($I16=\"CONGÉ\",'Congés de l''employé'!$E$16,IF($I16=\"Demi congé\",'Congés de l''employé'!$BU$16,IF($I16=\"MALADIE\",'Congés de l''employé'!$E$18,IF($I16=\"Demi maladie\",'Congés de l''employé'!$BU$18,MOD($E16-($B16-($C16-$D16))+($G16-$F16),1))))),VLOOKUP($A16,$AF$12:$AH$29,3,FALSE))","v":0},null,null,{"$f":"IF(I16<>\"\",1+MAX($L$14:L14),\"\")","v":""},null,null,null,null,null,null,null,null,null,null,null,null,null,null,null,null,null,null,"Avril","Lundi de pâques",{"$f":"AF15+1","v":"2019-04-22"},"Date fixe 1er juillet"]
[{"$f":"$B$10+1","v":"2019-09-24"},null,null,null,null,null,null,{"$f":"IF(ISNA(VLOOKUP($A17,$AF$12:$AH$29,3,FALSE)),IF($I17=\"CONGÉ\",'Congés de l''employé'!$E$16,IF($I17=\"Demi congé\",'Congés de l''employé'!$BU$16,IF($I17=\"MALADIE\",'Congés de l''employé'!$E$18,IF($I17=\"Demi maladie\",'Congés de l''employé'!$BU$18,MOD($E17-($B17-($C17-$D17))+($G17-$F17),1))))),VLOOKUP($A17,$AF$12:$AH$29,3,FALSE))","v":0},null,null,{"$f":"IF(I17<>\"\",1+MAX($K$14:K15),\"\")","v":""},null,null,null,null,null,null,null,null,null,null,null,null,null,null,null,null,null,null,"Mai","Journée nationale des patriotes",{"$f":"DATE(Année,5,23)-WEEKDAY(DATE(Année,5,1),2)","v":"2019-05-20"},null,{"$f":"Edit!M30","v":0}]
[{"$f":"$B$10+2","v":"2019-09-25"},null,null,null,null,null,null,{"$f":"IF(ISNA(VLOOKUP($A18,$AF$12:$AH$29,3,FALSE)),IF($I18=\"CONGÉ\",'Congés de l''employé'!$E$16,IF($I18=\"Demi congé\",'Congés de l''employé'!$BU$16,IF($I18=\"MALADIE\",'Congés de l''employé'!$E$18,IF($I18=\"Demi maladie\",'Congés de l''employé'!$BU$18,MOD($E18-($B18-($C18-$D18))+($G18-$F18),1))))),VLOOKUP($A18,$AF$12:$AH$29,3,FALSE))","v":0},null,null,{"$f":"IF(I18<>\"\",1+MAX($K$14:K16),\"\")","v":""},null,null,null,null,null,null,null,null,null,null,null,null,null,null,null,null,null,null,"Juin","Fête nationale du Québec",{"$f":"DATE(Année,6,24)","v":"2019-06-24"},null,{"$f":"Edit!M31","v":0}]
[{"$f":"$B$10+3","v":"2019-09-26"},null,null,null,null,null,null,{"$f":"IF(ISNA(VLOOKUP($A19,$AF$12:$AH$29,3,FALSE)),IF($I19=\"CONGÉ\",'Congés de l''employé'!$E$16,IF($I19=\"Demi congé\",'Congés de l''employé'!$BU$16,IF($I19=\"MALADIE\",'Congés de l''employé'!$E$18,IF($I19=\"Demi maladie\",'Congés de l''employé'!$BU$18,MOD($E19-($B19-($C19-$D19))+($G19-$F19),1))))),VLOOKUP($A19,$AF$12:$AH$29,3,FALSE))","v":0},null,null,{"$f":"IF(I19<>\"\",1+MAX($K$14:K17),\"\")","v":""},null,null,null,null,null,null,null,null,null,null,null,null,null,null,null,null,null,null,null,"FÉRIÉ-JOUR OUVRABLE SUIVANT LA FÊTE NATIONALE DU QUÉBEC",{"$f":"AF18+2-WEEKDAY(AF18)+(WEEKDAY(AF18)>2)*7","v":"2019-06-24"},"Date fixe 25 décembre"]
[{"$f":"$B$10+4","v":"2019-09-27"},null,null,null,null,null,null,{"$f":"IF(ISNA(VLOOKUP($A20,$AF$12:$AH$29,3,FALSE)),IF($I20=\"CONGÉ\",'Congés de l''employé'!$E$16,IF($I20=\"Demi congé\",'Congés de l''employé'!$BU$16,IF($I20=\"MALADIE\",'Congés de l''employé'!$E$18,IF($I20=\"Demi maladie\",'Congés de l''employé'!$BU$18,MOD($E20-($B20-($C20-$D20))+($G20-$F20),1))))),VLOOKUP($A20,$AF$12:$AH$29,3,FALSE))","v":0},null,null,{"$f":"IF(I20<>\"\",1+MAX($K$14:K18),\"\")","v":""},null,null,null,null,null,null,null,null,null,null,null,null,null,null,null,null,null,null,"Juillet","Fête du Canada",{"$f":"DATE(Année,7,1)","v":"2019-07-01"},null,{"$f":"Edit!M32","v":1.1253746147756614E-210}]
[{"$f":"$B$10+5","v":"2019-09-28"},null,null,null,null,null,null,{"$f":"IF(ISNA(VLOOKUP($A21,$AF$12:$AH$29,3,FALSE)),IF($I21=\"CONGÉ\",'Congés de l''employé'!$E$16,IF($I21=\"Demi congé\",'Congés de l''employé'!$BU$16,IF($I21=\"MALADIE\",'Congés de l''employé'!$E$18,IF($I21=\"Demi maladie\",'Congés de l''employé'!$BU$18,MOD($E21-($B21-($C21-$D21))+($G21-$F21),1))))),VLOOKUP($A21,$AF$12:$AH$29,3,FALSE))","v":0},null,null,{"$f":"IF(I21<>\"\",1+MAX($K$14:K19),\"\")","v":""},null,null,null,null,null,null,null,null,null,null,null,null,null,null,null,null,null,null,null,"FÉRIÉ-JOUR OUVRABLE SUIVANT LA FÊTE DU CANADA",{"$f":"AF20+2-WEEKDAY(AF20)+(WEEKDAY(AF20)>2)*7","v":"2019-07-01"}]
[{"$f":"$B$10+6","v":"2019-09-29"},null,null,null,null,null,null,{"$f":"IF(ISNA(VLOOKUP($A22,$AF$12:$AH$29,3,FALSE)),IF($I22=\"CONGÉ\",'Congés de l''employé'!$E$16,IF($I22=\"Demi congé\",'Congés de l''employé'!$BU$16,IF($I22=\"MALADIE\",'Congés de l''employé'!$E$18,IF($I22=\"Demi maladie\",'Congés de l''employé'!$BU$18,MOD($E22-($B22-($C22-$D22))+($G22-$F22),1))))),VLOOKUP($A22,$AF$12:$AH$29,3,FALSE))","v":0},null,null,{"$f":"IF(I22<>\"\",1+MAX($K$14:K20),\"\")","v":""},null,null,null,null,null,null,null,null,null,null,null,null,null,null,null,null,null,null,"Septembre","Fête du travail",{"$f":"IF(MOD(DATE(Année,9,1),7)<=2,2-MOD(DATE(Année,9,1),7),9-MOD(DATE(Année,9,1),7))+DATE(Année,9,1)","v":"2019-09-01"},null,{"$f":"Edit!M33","v":0}]
[null,null,null,null,null,null,null,{"$f":"SUM(H16:H22)+B23","v":0},null,null,{"$f":"IF(I23<>\"\",1+MAX($K$14:K21),\"\")","v":""},null,null,null,null,null,null,null,null,null,null,null,null,null,null,null,null,null,null,null,"FÉRIÉ-JOUR OUVRABLE SUIVANT LA FÊTE DU TRAVAIL",{"$f":"AF22+2-WEEKDAY(AF22)+(WEEKDAY(AF22)>2)*7","v":"2019-09-02"}]
[null,null,null,null,null,null,null,null,null,null,{"$f":"IF(I24<>\"\",1+MAX($K$14:K22),\"\")","v":""},null,null,null,null,null,null,null,null,null,null,null,null,null,null,null,null,null,null,"Octobre","Action de grâce",{"$f":"DATE(AF10,10,1)","v":"2019-10-01"},null,{"$f":"Edit!M34","v":0}]
[null,null,null,null,null,null,null,null,null,null,{"$f":"IF(I25<>\"\",1+MAX($K$14:K23),\"\")","v":""},null,null,null,null,null,null,null,null,null,null,null,null,null,null,null,null,null,null,null,"FÉRIÉ-JOUR OUVRABLE SUIVANT L'ACTION DE GRÂCE",{"$f":"AF24-DAY(AF24)-WEEKDAY(AF24-DAY(AF24),2)+15","v":"2019-10-14"}]
[null,null,null,null,null,null,"Heures en trop\nou en moins",{"$f":"IF(OR(H23=-(B15),B15=0),\"0\",(H23-B15))","v":"0"},null,null,{"$f":"IF(I26<>\"\",1+MAX($K$14:K24),\"\")","v":""},null,null,null,null,null,null,null,null,null,null,null,null,null,null,null,null,null,null,null,"Bureau fermé congé donné",{"$f":"DATE(Année,12,25)-1","v":"2019-12-24"},null,{"$f":"'[1]Congés de l''employé'!$E$14","v":0}]
[null,null,null,null,null,null,null,null,null,null,{"$f":"IF(I27<>\"\",1+MAX($K$14:K25),\"\")","v":""},null,null,null,null,null,null,null,null,null,null,null,null,null,null,null,null,null,null,"Décembre","Férié-Noël",{"$f":"DATE(Année,12,25)","v":"2019-12-25"},null,{"$f":"Edit!M35","v":0}]
["Horaire Semaine 2",null,null,null,null,null,null,null,null,null,{"$f":"IF(I28<>\"\",1+MAX($K$14:K26),\"\")","v":""},null,null,null,null,null,null,null,null,null,null,null,null,null,null,null,null,null,null,"Décembre","Bureau fermé congé donné",{"$f":"DATE(Année,12,25)+1","v":"2019-12-26"}]
[{"$f":"B10+7","v":"2019-09-30"},null,null,null,null,null,null,{"$f":"IF(ISNA(VLOOKUP($A29,$AF$12:$AH$29,3,FALSE)),IF($I29=\"CONGÉ\",'Congés de l''employé'!$E$16,IF($I29=\"Demi congé\",'Congés de l''employé'!$BU$16,IF($I29=\"MALADIE\",'Congés de l''employé'!$E$18,IF($I29=\"Demi maladie\",'Congés de l''employé'!$BU$18,MOD($E29-($B29-($C29-$D29))+($G29-$F29),1))))),VLOOKUP($A29,$AF$12:$AH$29,3,FALSE))","v":0},null,null,{"$f":"IF(I29<>\"\",1+MAX($K$14:K28),\"\")","v":""},null,null,null,null,null,null,null,null,null,null,null,null,null,null,null,null,null,null,"Décembre","Bureau fermé congé donné",{"$f":"AF11+2-WEEKDAY(AF11)+(WEEKDAY(AF11)>2)-1","v":"2018-12-31"}]
[{"$f":"B10+8","v":"2019-10-01"},null,null,null,null,null,null,{"$f":"IF(ISNA(VLOOKUP($A30,$AF$12:$AH$29,3,FALSE)),IF($I30=\"CONGÉ\",'Congés de l''employé'!$E$16,IF($I30=\"Demi congé\",'Congés de l''employé'!$BU$16,IF($I30=\"MALADIE\",'Congés de l''employé'!$E$18,IF($I30=\"Demi maladie\",'Congés de l''employé'!$BU$18,MOD($E30-($B30-($C30-$D30))+($G30-$F30),1))))),VLOOKUP($A30,$AF$12:$AH$29,3,FALSE))","v":0},null,null,{"$f":"IF(I30<>\"\",1+MAX($K$14:K29),\"\")","v":""}]
[{"$f":"B10+9","v":"2019-10-02"},null,null,null,null,null,null,{"$f":"IF(ISNA(VLOOKUP($A31,$AF$12:$AH$29,3,FALSE)),IF($I31=\"CONGÉ\",'Congés de l''employé'!$E$16,IF($I31=\"Demi congé\",'Congés de l''employé'!$BU$16,IF($I31=\"MALADIE\",'Congés de l''employé'!$E$18,IF($I31=\"Demi maladie\",'Congés de l''employé'!$BU$18,MOD($E31-($B31-($C31-$D31))+($G31-$F31),1))))),VLOOKUP($A31,$AF$12:$AH$29,3,FALSE))","v":0},null,null,{"$f":"IF(I31<>\"\",1+MAX($K$14:K30),\"\")","v":""}]
[{"$f":"B10+10","v":"2019-10-03"},null,null,null,null,null,null,{"$f":"IF(ISNA(VLOOKUP($A32,$AF$12:$AH$29,3,FALSE)),IF($I32=\"CONGÉ\",'Congés de l''employé'!$E$16,IF($I32=\"Demi congé\",'Congés de l''employé'!$BU$16,IF($I32=\"MALADIE\",'Congés de l''employé'!$E$18,IF($I32=\"Demi maladie\",'Congés de l''employé'!$BU$18,MOD($E32-($B32-($C32-$D32))+($G32-$F32),1))))),VLOOKUP($A32,$AF$12:$AH$29,3,FALSE))","v":0},null,null,{"$f":"IF(I32<>\"\",1+MAX($K$14:K31),\"\")","v":""}]
[{"$f":"B10+11","v":"2019-10-04"},null,null,null,null,null,null,{"$f":"IF(ISNA(VLOOKUP($A33,$AF$12:$AH$29,3,FALSE)),IF($I33=\"CONGÉ\",'Congés de l''employé'!$E$16,IF($I33=\"Demi congé\",'Congés de l''employé'!$BU$16,IF($I33=\"MALADIE\",'Congés de l''employé'!$E$18,IF($I33=\"Demi maladie\",'Congés de l''employé'!$BU$18,MOD($E33-($B33-($C33-$D33))+($G33-$F33),1))))),VLOOKUP($A33,$AF$12:$AH$29,3,FALSE))","v":0},null,null,{"$f":"IF(I33<>\"\",1+MAX($K$14:K32),\"\")","v":""}]
[{"$f":"B10+12","v":"2019-10-05"},null,null,null,null,null,null,{"$f":"IF(ISNA(VLOOKUP($A34,$AF$12:$AH$29,3,FALSE)),IF($I34=\"CONGÉ\",'Congés de l''employé'!$E$16,IF($I34=\"Demi congé\",'Congés de l''employé'!$BU$16,IF($I34=\"MALADIE\",'Congés de l''employé'!$E$18,IF($I34=\"Demi maladie\",'Congés de l''employé'!$BU$18,MOD($E34-($B34-($C34-$D34))+($G34-$F34),1))))),VLOOKUP($A34,$AF$12:$AH$29,3,FALSE))","v":0},null,null,{"$f":"IF(I34<>\"\",1+MAX($K$14:K33),\"\")","v":""}]
[{"$f":"B10+13","v":"2019-10-06"},null,null,null,null,null,null,{"$f":"IF(ISNA(VLOOKUP($A35,$AF$12:$AH$29,3,FALSE)),IF($I35=\"CONGÉ\",'Congés de l''employé'!$E$16,IF($I35=\"Demi congé\",'Congés de l''employé'!$BU$16,IF($I35=\"MALADIE\",'Congés de l''employé'!$E$18,IF($I35=\"Demi maladie\",'Congés de l''employé'!$BU$18,MOD($E35-($B35-($C35-$D35))+($G35-$F35),1))))),VLOOKUP($A35,$AF$12:$AH$29,3,FALSE))","v":0},null,null,{"$f":"IF(I35<>\"\",1+MAX($K$14:K34),\"\")","v":""}]
[null,null,null,null,null,null,null,{"$f":"SUM(H29:H35)+B36","v":0}]
[]
[null,null,null,null,null,null,"Heures en trop\nou en moins",{"$f":"IF(OR(H36=-(B28),B28=0),\"0\",(H36-B28))","v":"0"}]
[]
["Heure travaillées","Heures prévues","ENTREZ le nombre d'heures à payer","Heures\n supplémentaires ou en moins","Heures à \ntransposer dans la Banque","Total de la Banque d'heures"]
[{"$f":"$H$23+$H$36","v":0},{"$f":"'Congés de l''employé'!BU8*2","v":2.9166666666666665},{"$f":"A41","v":0},{"$f":"IF($H$26>0,$H$26)+IF($H$38>0,$H$38,0)+IF($H$26<0,$H$26)+IF($H$38<0,$H$38,0)","v":0},{"$f":"$A$41-$C$41","v":0},{"$f":"SUM('Septembre 3e-4e semaine'!F41:G42)+E41","v":0}]

{"sheet":"Octobre-2e-3e semaine","index":28,"n_rows":41,"n_cols":34,"rows_kept":41,"cut":false,"hidden":false,"merged":[[1,1,5,7],[40,0,41,0],[40,1,41,1],[40,2,41,2],[40,3,41,3],[40,4,41,4],[7,29,7,31],[42,1,42,2],[7,4,7,7],[9,1,9,3],[39,5,39,6],[40,5,41,6]]}
[{"$f":"MID(CELL(\"filename\",A1),FIND(\"]\",CELL(\"filename\",A1))+1,32)","v":"Octobre-2e-3e semaine"}]
[null,"   Feuille de temps"]
[]
[]
[]
[]
[]
[null,null,null,null,null,null,null,null,null,null,null,null,null,null,null,null,null,null,null,null,null,null,null,null,null,null,null,null,null,"Congés fériés, lundi suivant la date"]
["Employé: ",{"$f":"'Congés de l''employé'!B8","v":0},null,null,null,null,null,null,null,null,null,null,null,null,null,null,null,null,null,null,null,null,null,null,null,null,null,null,null,"Mois","Type de congé férié","Année en cours"]
["Période débutant le ",{"$f":"DATE(An_ref,1,-2)-WEEKDAY(DATE(An_ref,1,3))+287","v":"2019-10-07"},null,null,null,null,null,null,null,null,null,null,null,null,null,null,null,null,null,null,null,null,null,null,null,null,null,{"$f":"OR(B11=$AF$12,B11=$AF$13,B11=$AF$14,B11=$AF$16,B11=$AF$17,B11=$AF$19,B11=$AF$21,B11=$AF$23,B11=$AF$25,B11=$AF$26,B11=$AF$27,B11=$AF$28)","v":false},null,null,null,{"$f":"An_ref","v":2019},null,"alloué au férié"]
[null,null,null,null,null,null,null,null,null,null,null,null,null,null,null,null,null,null,null,null,null,null,null,null,null,null,null,null,null,"Janvier","Jour de l'an",{"$f":"DATE(Année,1,1)","v":"2019-01-01"},"Date fixe 1er janvier"]
[null,null,null,null,null,null,null,null,null,null,null,null,null,null,null,null,null,null,null,null,null,null,null,null,null,null,null,null,null,null,"FÉRIÉ-JOUR OUVRABLE SUIVANT LE JOUR DE L'AN",{"$f":"AF11+2-WEEKDAY(AF11)+(WEEKDAY(AF11)>2)","v":"2019-01-01"},null,{"$f":"Edit!M27","v":7.4735918097323577E-190}]
["Jour","Heure\nDébut","Départ\nDiner","Retour\nDiner","Heure\nFin","Télétravail\nDépart","Télétravail\nFin","TOTAL\nJournalier","Absence",null,"Index de la ligne",null,null,null,null,null,null,null,null,null,null,null,null,null,null,null,null,null,null,null,"Bureau fermé congé donné-un jour après le jour de l'an",{"$f":"AF11+2-WEEKDAY(AF11)+(WEEKDAY(AF11)>2)+1","v":"2019-01-02"}]
[null,null,null,null,null,null,null,null,null,null,null,{"$f":"MAX('Fin Sept.-Oct.-première semaine'!K16:K35)","v":"1904-01-01"},null,null,null,null,null,null,null,null,null,null,null,null,null,null,null,null,null,"Mars","Bureau fermé congé donné-un jour ouvré avant Pâques",{"$f":"AF15-2","v":"2019-04-19"},"3e lundi de mai",{"$f":"Edit!M28","v":0.3289473684210526}]
["Horaire Semaine 1",null,null,null,null,null,null,null,null,null,{"$f":"IF(COUNTIF(I16,\"X\"),MAX($K$13:K13)+1,\"\")","v":""},null,null,null,null,null,null,null,null,null,null,null,null,null,null,null,null,null,null,null,"Pâques",{"$f":"DATE(Année,3,29.56+0.979*MOD(204-11*MOD(Année,19),30)-\nWEEKDAY(DATE(Année,3,28.56+0.979*MOD(204-11*MOD(Année,19),30))))","v":"2019-04-21"},"Date fixe 24 juin"]
[{"$f":"$B$10","v":"2019-10-07"},null,null,null,null,null,null,{"$f":"IF(ISNA(VLOOKUP($A16,$AF$12:$AH$29,3,FALSE)),IF($I16=\"CONGÉ\",'Congés de l''employé'!$E$16,IF($I16=\"Demi congé\",'Congés de l''employé'!$BU$16,IF($I16=\"MALADIE\",'Congés de l''employé'!$E$18,IF($I16=\"Demi maladie\",'Congés de l''employé'!$BU$18,MOD($E16-($B16-($C16-$D16))+($G16-$F16),1))))),VLOOKUP($A16,$AF$12:$AH$29,3,FALSE))","v":0},null,null,{"$f":"IF(I16<>\"\",1+MAX($L$14:L14),\"\")","v":""},null,null,null,null,null,null,null,null,null,null,null,null,null,null,null,null,null,null,"Avril","Lundi de pâques",{"$f":"AF15+1","v":"2019-04-22"},"Date fixe 1er juillet"]
[{"$f":"$B$10+1","v":"2019-10-08"},null,null,null,null,null,null,{"$f":"IF(ISNA(VLOOKUP($A17,$AF$12:$AH$29,3,FALSE)),IF($I17=\"CONGÉ\",'Congés de l''employé'!$E$16,IF($I17=\"Demi congé\",'Congés de l''employé'!$BU$16,IF($I17=\"MALADIE\",'Congés de l''employé'!$E$18,IF($I17=\"Demi maladie\",'Congés de l''employé'!$BU$18,MOD($E17-($B17-($C17-$D17))+($G17-$F17),1))))),VLOOKUP($A17,$AF$12:$AH$29,3,FALSE))","v":0},null,null,{"$f":"IF(I17<>\"\",1+MAX($K$14:K15),\"\")","v":""},null,null,null,null,null,null,null,null,null,null,null,null,null,null,null,null,null,null,"Mai","Journée nationale des patriotes",{"$f":"DATE(Année,5,23)-WEEKDAY(DATE(Année,5,1),2)","v":"2019-05-20"},null,{"$f":"Edit!M30","v":0}]
[{"$f":"$B$10+2","v":"2019-10-09"},null,null,null,null,null,null,{"$f":"IF(ISNA(VLOOKUP($A18,$AF$12:$AH$29,3,FALSE)),IF($I18=\"CONGÉ\",'Congés de l''employé'!$E$16,IF($I18=\"Demi congé\",'Congés de l''employé'!$BU$16,IF($I18=\"MALADIE\",'Congés de l''employé'!$E$18,IF($I18=\"Demi maladie\",'Congés de l''employé'!$BU$18,MOD($E18-($B18-($C18-$D18))+($G18-$F18),1))))),VLOOKUP($A18,$AF$12:$AH$29,3,FALSE))","v":0},null,null,{"$f":"IF(I18<>\"\",1+MAX($K$14:K16),\"\")","v":""},null,null,null,null,null,null,null,null,null,null,null,null,null,null,null,null,null,null,"Juin","Fête nationale du Québec",{"$f":"DATE(Année,6,24)","v":"2019-06-24"},null,{"$f":"Edit!M31","v":0}]
[{"$f":"$B$10+3","v":"2019-10-10"},null,null,null,null,null,null,{"$f":"IF(ISNA(VLOOKUP($A19,$AF$12:$AH$29,3,FALSE)),IF($I19=\"CONGÉ\",'Congés de l''employé'!$E$16,IF($I19=\"Demi congé\",'Congés de l''employé'!$BU$16,IF($I19=\"MALADIE\",'Congés de l''employé'!$E$18,IF($I19=\"Demi maladie\",'Congés de l''employé'!$BU$18,MOD($E19-($B19-($C19-$D19))+($G19-$F19),1))))),VLOOKUP($A19,$AF$12:$AH$29,3,FALSE))","v":0},null,null,{"$f":"IF(I19<>\"\",1+MAX($K$14:K17),\"\")","v":""},null,null,null,null,null,null,null,null,null,null,null,null,null,null,null,null,null,null,null,"FÉRIÉ-JOUR OUVRABLE SUIVANT LA FÊTE NATIONALE DU QUÉBEC",{"$f":"AF18+2-WEEKDAY(AF18)+(WEEKDAY(AF18)>2)*7","v":"2019-06-24"},"Date fixe 25 décembre"]
[{"$f":"$B$10+4","v":"2019-10-11"},null,null,null,null,null,null,{"$f":"IF(ISNA(VLOOKUP($A20,$AF$12:$AH$29,3,FALSE)),IF($I20=\"CONGÉ\",'Congés de l''employé'!$E$16,IF($I20=\"Demi congé\",'Congés de l''employé'!$BU$16,IF($I20=\"MALADIE\",'Congés de l''employé'!$E$18,IF($I20=\"Demi maladie\",'Congés de l''employé'!$BU$18,MOD($E20-($B20-($C20-$D20))+($G20-$F20),1))))),VLOOKUP($A20,$AF$12:$AH$29,3,FALSE))","v":0},null,null,{"$f":"IF(I20<>\"\",1+MAX($K$14:K18),\"\")","v":""},null,null,null,null,null,null,null,null,null,null,null,null,null,null,null,null,null,null,"Juillet","Fête du Canada",{"$f":"DATE(Année,7,1)","v":"2019-07-01"},null,{"$f":"Edit!M32","v":1.1253746147756614E-210}]
[{"$f":"$B$10+5","v":"2019-10-12"},null,null,null,null,null,null,{"$f":"IF(ISNA(VLOOKUP($A21,$AF$12:$AH$29,3,FALSE)),IF($I21=\"CONGÉ\",'Congés de l''employé'!$E$16,IF($I21=\"Demi congé\",'Congés de l''employé'!$BU$16,IF($I21=\"MALADIE\",'Congés de l''employé'!$E$18,IF($I21=\"Demi maladie\",'Congés de l''employé'!$BU$18,MOD($E21-($B21-($C21-$D21))+($G21-$F21),1))))),VLOOKUP($A21,$AF$12:$AH$29,3,FALSE))","v":0},null,null,{"$f":"IF(I21<>\"\",1+MAX($K$14:K19),\"\")","v":""},null,null,null,null,null,null,null,null,null,null,null,null,null,null,null,null,null,null,null,"FÉRIÉ-JOUR OUVRABLE SUIVANT LA FÊTE DU CANADA",{"$f":"AF20+2-WEEKDAY(AF20)+(WEEKDAY(AF20)>2)*7","v":"2019-07-01"}]
[{"$f":"$B$10+6","v":"2019-10-13"},null,null,null,null,null,null,{"$f":"IF(ISNA(VLOOKUP($A22,$AF$12:$AH$29,3,FALSE)),IF($I22=\"CONGÉ\",'Congés de l''employé'!$E$16,IF($I22=\"Demi congé\",'Congés de l''employé'!$BU$16,IF($I22=\"MALADIE\",'Congés de l''employé'!$E$18,IF($I22=\"Demi maladie\",'Congés de l''employé'!$BU$18,MOD($E22-($B22-($C22-$D22))+($G22-$F22),1))))),VLOOKUP($A22,$AF$12:$AH$29,3,FALSE))","v":0},null,null,{"$f":"IF(I22<>\"\",1+MAX($K$14:K20),\"\")","v":""},null,null,null,null,null,null,null,null,null,null,null,null,null,null,null,null,null,null,"Septembre","Fête du travail",{"$f":"IF(MOD(DATE(Année,9,1),7)<=2,2-MOD(DATE(Année,9,1),7),9-MOD(DATE(Année,9,1),7))+DATE(Année,9,1)","v":"2019-09-01"},null,{"$f":"Edit!M33","v":0}]
[null,null,null,null,null,null,null,{"$f":"SUM(H16:H22)+B23","v":0},null,null,{"$f":"IF(I23<>\"\",1+MAX($K$14:K21),\"\")","v":""},null,null,null,null,null,null,null,null,null,null,null,null,null,null,null,null,null,null,null,"FÉRIÉ-JOUR OUVRABLE SUIVANT LA FÊTE DU TRAVAIL",{"$f":"AF22+2-WEEKDAY(AF22)+(WEEKDAY(AF22)>2)*7","v":"2019-09-02"}]
[null,null,null,null,null,null,null,null,null,null,{"$f":"IF(I24<>\"\",1+MAX($K$14:K22),\"\")","v":""},null,null,null,null,null,null,null,null,null,null,null,null,null,null,null,null,null,null,"Octobre","Action de grâce",{"$f":"DATE(AF10,10,1)","v":"2019-10-01"},null,{"$f":"Edit!M34","v":0}]
[null,null,null,null,null,null,null,null,null,null,{"$f":"IF(I25<>\"\",1+MAX($K$14:K23),\"\")","v":""},null,null,null,null,null,null,null,null,null,null,null,null,null,null,null,null,null,null,null,"FÉRIÉ-JOUR OUVRABLE SUIVANT L'ACTION DE GRÂCE",{"$f":"AF24-DAY(AF24)-WEEKDAY(AF24-DAY(AF24),2)+15","v":"2019-10-14"}]
[null,null,null,null,null,null,"Heures en trop\nou en moins",{"$f":"IF(OR(H23=-(B15),B15=0),\"0\",(H23-B15))","v":"0"},null,null,{"$f":"IF(I26<>\"\",1+MAX($K$14:K24),\"\")","v":""},null,null,null,null,null,null,null,null,null,null,null,null,null,null,null,null,null,null,null,"Bureau fermé congé donné",{"$f":"DATE(Année,12,25)-1","v":"2019-12-24"},null,{"$f":"'[1]Congés de l''employé'!$E$14","v":0}]
[null,null,null,null,null,null,null,null,null,null,{"$f":"IF(I27<>\"\",1+MAX($K$14:K25),\"\")","v":""},null,null,null,null,null,null,null,null,null,null,null,null,null,null,null,null,null,null,"Décembre","Férié-Noël",{"$f":"DATE(Année,12,25)","v":"2019-12-25"},null,{"$f":"Edit!M35","v":0}]
["Horaire Semaine 2",null,null,null,null,null,null,null,null,null,{"$f":"IF(I28<>\"\",1+MAX($K$14:K26),\"\")","v":""},null,null,null,null,null,null,null,null,null,null,null,null,null,null,null,null,null,null,"Décembre","Bureau fermé congé donné",{"$f":"DATE(Année,12,25)+1","v":"2019-12-26"}]
[{"$f":"B10+7","v":"2019-10-14"},null,null,null,null,null,null,{"$f":"IF(ISNA(VLOOKUP($A29,$AF$12:$AH$29,3,FALSE)),IF($I29=\"CONGÉ\",'Congés de l''employé'!$E$16,IF($I29=\"Demi congé\",'Congés de l''employé'!$BU$16,IF($I29=\"MALADIE\",'Congés de l''employé'!$E$18,IF($I29=\"Demi maladie\",'Congés de l''employé'!$BU$18,MOD($E29-($B29-($C29-$D29))+($G29-$F29),1))))),VLOOKUP($A29,$AF$12:$AH$29,3,FALSE))","v":0},null,null,{"$f":"IF(I29<>\"\",1+MAX($K$14:K28),\"\")","v":""},null,null,null,null,null,null,null,null,null,null,null,null,null,null,null,null,null,null,"Décembre","Bureau fermé congé donné",{"$f":"AF11+2-WEEKDAY(AF11)+(WEEKDAY(AF11)>2)-1","v":"2018-12-31"}]
[{"$f":"B10+8","v":"2019-10-15"},null,null,null,null,null,null,{"$f":"IF(ISNA(VLOOKUP($A30,$AF$12:$AH$29,3,FALSE)),IF($I30=\"CONGÉ\",'Congés de l''employé'!$E$16,IF($I30=\"Demi congé\",'Congés de l''employé'!$BU$16,IF($I30=\"MALADIE\",'Congés de l''employé'!$E$18,IF($I30=\"Demi maladie\",'Congés de l''employé'!$BU$18,MOD($E30-($B30-($C30-$D30))+($G30-$F30),1))))),VLOOKUP($A30,$AF$12:$AH$29,3,FALSE))","v":0},null,null,{"$f":"IF(I30<>\"\",1+MAX($K$14:K29),\"\")","v":""}]
[{"$f":"B10+9","v":"2019-10-16"},null,null,null,null,null,null,{"$f":"IF(ISNA(VLOOKUP($A31,$AF$12:$AH$29,3,FALSE)),IF($I31=\"CONGÉ\",'Congés de l''employé'!$E$16,IF($I31=\"Demi congé\",'Congés de l''employé'!$BU$16,IF($I31=\"MALADIE\",'Congés de l''employé'!$E$18,IF($I31=\"Demi maladie\",'Congés de l''employé'!$BU$18,MOD($E31-($B31-($C31-$D31))+($G31-$F31),1))))),VLOOKUP($A31,$AF$12:$AH$29,3,FALSE))","v":0},null,null,{"$f":"IF(I31<>\"\",1+MAX($K$14:K30),\"\")","v":""}]
[{"$f":"B10+10","v":"2019-10-17"},null,null,null,null,null,null,{"$f":"IF(ISNA(VLOOKUP($A32,$AF$12:$AH$29,3,FALSE)),IF($I32=\"CONGÉ\",'Congés de l''employé'!$E$16,IF($I32=\"Demi congé\",'Congés de l''employé'!$BU$16,IF($I32=\"MALADIE\",'Congés de l''employé'!$E$18,IF($I32=\"Demi maladie\",'Congés de l''employé'!$BU$18,MOD($E32-($B32-($C32-$D32))+($G32-$F32),1))))),VLOOKUP($A32,$AF$12:$AH$29,3,FALSE))","v":0},null,null,{"$f":"IF(I32<>\"\",1+MAX($K$14:K31),\"\")","v":""}]
[{"$f":"B10+11","v":"2019-10-18"},null,null,null,null,null,null,{"$f":"IF(ISNA(VLOOKUP($A33,$AF$12:$AH$29,3,FALSE)),IF($I33=\"CONGÉ\",'Congés de l''employé'!$E$16,IF($I33=\"Demi congé\",'Congés de l''employé'!$BU$16,IF($I33=\"MALADIE\",'Congés de l''employé'!$E$18,IF($I33=\"Demi maladie\",'Congés de l''employé'!$BU$18,MOD($E33-($B33-($C33-$D33))+($G33-$F33),1))))),VLOOKUP($A33,$AF$12:$AH$29,3,FALSE))","v":0},null,null,{"$f":"IF(I33<>\"\",1+MAX($K$14:K32),\"\")","v":""}]
[{"$f":"B10+12","v":"2019-10-19"},null,null,null,null,null,null,{"$f":"IF(ISNA(VLOOKUP($A34,$AF$12:$AH$29,3,FALSE)),IF($I34=\"CONGÉ\",'Congés de l''employé'!$E$16,IF($I34=\"Demi congé\",'Congés de l''employé'!$BU$16,IF($I34=\"MALADIE\",'Congés de l''employé'!$E$18,IF($I34=\"Demi maladie\",'Congés de l''employé'!$BU$18,MOD($E34-($B34-($C34-$D34))+($G34-$F34),1))))),VLOOKUP($A34,$AF$12:$AH$29,3,FALSE))","v":0},null,null,{"$f":"IF(I34<>\"\",1+MAX($K$14:K33),\"\")","v":""}]
[{"$f":"B10+13","v":"2019-10-20"},null,null,null,null,null,null,{"$f":"IF(ISNA(VLOOKUP($A35,$AF$12:$AH$29,3,FALSE)),IF($I35=\"CONGÉ\",'Congés de l''employé'!$E$16,IF($I35=\"Demi congé\",'Congés de l''employé'!$BU$16,IF($I35=\"MALADIE\",'Congés de l''employé'!$E$18,IF($I35=\"Demi maladie\",'Congés de l''employé'!$BU$18,MOD($E35-($B35-($C35-$D35))+($G35-$F35),1))))),VLOOKUP($A35,$AF$12:$AH$29,3,FALSE))","v":0},null,null,{"$f":"IF(I35<>\"\",1+MAX($K$14:K34),\"\")","v":""}]
[null,null,null,null,null,null,null,{"$f":"SUM(H29:H35)+B36","v":0}]
[]
[null,null,null,null,null,null,"Heures en trop\nou en moins",{"$f":"IF(OR(H36=-(B28),B28=0),\"0\",(H36-B28))","v":"0"}]
[]
["Heure travaillées","Heures prévues","ENTREZ le nombre d'heures à payer","Heures\n supplémentaires ou en moins","Heures à \ntransposer dans la Banque","Total de la Banque d'heures"]
[{"$f":"$H$23+$H$36","v":0},{"$f":"'Congés de l''employé'!BU8*2","v":2.9166666666666665},{"$f":"A41","v":0},{"$f":"IF($H$26>0,$H$26)+IF($H$38>0,$H$38,0)+IF($H$26<0,$H$26)+IF($H$38<0,$H$38,0)","v":0},{"$f":"$A$41-$C$41","v":0},{"$f":"SUM('Fin Sept.-Oct.-première semaine'!F41:G42)+E41","v":0}]

{"sheet":"Fin Oct.-Nov.-première semaine","index":29,"n_rows":41,"n_cols":34,"rows_kept":41,"cut":false,"hidden":false,"merged":[[1,1,5,7],[40,0,41,0],[40,1,41,1],[40,2,41,2],[40,3,41,3],[40,4,41,4],[7,29,7,31],[42,1,42,2],[7,4,7,7],[9,1,9,3],[39,5,39,6],[40,5,41,6]]}
[{"$f":"MID(CELL(\"filename\",A1),FIND(\"]\",CELL(\"filename\",A1))+1,32)","v":"Fin Oct.-Nov.-première semaine"}]
[null,"   Feuille de temps"]
[]
[]
[]
[]
[]
[null,null,null,null,null,null,null,null,null,null,null,null,null,null,null,null,null,null,null,null,null,null,null,null,null,null,null,null,null,"Congés fériés, lundi suivant la date"]
["Employé: ",{"$f":"'Congés de l''employé'!B8","v":0},null,null,null,null,null,null,null,null,null,null,null,null,null,null,null,null,null,null,null,null,null,null,null,null,null,null,null,"Mois","Type de congé férié","Année en cours"]
["Période débutant le ",{"$f":"DATE(An_ref,1,-2)-WEEKDAY(DATE(An_ref,1,3))+301","v":"2019-10-21"},null,null,null,null,null,null,null,null,null,null,null,null,null,null,null,null,null,null,null,null,null,null,null,null,null,{"$f":"OR(B11=$AF$12,B11=$AF$13,B11=$AF$14,B11=$AF$16,B11=$AF$17,B11=$AF$19,B11=$AF$21,B11=$AF$23,B11=$AF$25,B11=$AF$26,B11=$AF$27,B11=$AF$28)","v":false},null,null,null,{"$f":"An_ref","v":2019},null,"alloué au férié"]
[null,null,null,null,null,null,null,null,null,null,null,null,null,null,null,null,null,null,null,null,null,null,null,null,null,null,null,null,null,"Janvier","Jour de l'an",{"$f":"DATE(Année,1,1)","v":"2019-01-01"},"Date fixe 1er janvier"]
[null,null,null,null,null,null,null,null,null,null,null,null,null,null,null,null,null,null,null,null,null,null,null,null,null,null,null,null,null,null,"FÉRIÉ-JOUR OUVRABLE SUIVANT LE JOUR DE L'AN",{"$f":"AF11+2-WEEKDAY(AF11)+(WEEKDAY(AF11)>2)","v":"2019-01-01"},null,{"$f":"Edit!M27","v":7.4735918097323577E-190}]
["Jour","Heure\nDébut","Départ\nDiner","Retour\nDiner","Heure\nFin","Télétravail\nDépart","Télétravail\nFin","TOTAL\nJournalier","Absence",null,"Index de la ligne",null,null,null,null,null,null,null,null,null,null,null,null,null,null,null,null,null,null,null,"Bureau fermé congé donné-un jour après le jour de l'an",{"$f":"AF11+2-WEEKDAY(AF11)+(WEEKDAY(AF11)>2)+1","v":"2019-01-02"}]
[null,null,null,null,null,null,null,null,null,null,null,{"$f":"MAX('Octobre-2e-3e semaine'!K16:K35)","v":"1904-01-01"},null,null,null,null,null,null,null,null,null,null,null,null,null,null,null,null,null,"Mars","Bureau fermé congé donné-un jour ouvré avant Pâques",{"$f":"AF15-2","v":"2019-04-19"},"3e lundi de mai",{"$f":"Edit!M28","v":0.3289473684210526}]
["Horaire Semaine 1",null,null,null,null,null,null,null,null,null,{"$f":"IF(COUNTIF(I16,\"X\"),MAX($K$13:K13)+1,\"\")","v":""},null,null,null,null,null,null,null,null,null,null,null,null,null,null,null,null,null,null,null,"Pâques",{"$f":"DATE(Année,3,29.56+0.979*MOD(204-11*MOD(Année,19),30)-\nWEEKDAY(DATE(Année,3,28.56+0.979*MOD(204-11*MOD(Année,19),30))))","v":"2019-04-21"},"Date fixe 24 juin"]
[{"$f":"$B$10","v":"2019-10-21"},null,null,null,null,null,null,{"$f":"IF(ISNA(VLOOKUP($A16,$AF$12:$AH$29,3,FALSE)),IF($I16=\"CONGÉ\",'Congés de l''employé'!$E$16,IF($I16=\"Demi congé\",'Congés de l''employé'!$BU$16,IF($I16=\"MALADIE\",'Congés de l''employé'!$E$18,IF($I16=\"Demi maladie\",'Congés de l''employé'!$BU$18,MOD($E16-($B16-($C16-$D16))+($G16-$F16),1))))),VLOOKUP($A16,$AF$12:$AH$29,3,FALSE))","v":0},null,null,{"$f":"IF(I16<>\"\",1+MAX($L$14:L14),\"\")","v":""},null,null,null,null,null,null,null,null,null,null,null,null,null,null,null,null,null,null,"Avril","Lundi de pâques",{"$f":"AF15+1","v":"2019-04-22"},"Date fixe 1er juillet"]
[{"$f":"$B$10+1","v":"2019-10-22"},null,null,null,null,null,null,{"$f":"IF(ISNA(VLOOKUP($A17,$AF$12:$AH$29,3,FALSE)),IF($I17=\"CONGÉ\",'Congés de l''employé'!$E$16,IF($I17=\"Demi congé\",'Congés de l''employé'!$BU$16,IF($I17=\"MALADIE\",'Congés de l''employé'!$E$18,IF($I17=\"Demi maladie\",'Congés de l''employé'!$BU$18,MOD($E17-($B17-($C17-$D17))+($G17-$F17),1))))),VLOOKUP($A17,$AF$12:$AH$29,3,FALSE))","v":0},null,null,{"$f":"IF(I17<>\"\",1+MAX($K$14:K15),\"\")","v":""},null,null,null,null,null,null,null,null,null,null,null,null,null,null,null,null,null,null,"Mai","Journée nationale des patriotes",{"$f":"DATE(Année,5,23)-WEEKDAY(DATE(Année,5,1),2)","v":"2019-05-20"},null,{"$f":"Edit!M30","v":0}]
[{"$f":"$B$10+2","v":"2019-10-23"},null,null,null,null,null,null,{"$f":"IF(ISNA(VLOOKUP($A18,$AF$12:$AH$29,3,FALSE)),IF($I18=\"CONGÉ\",'Congés de l''employé'!$E$16,IF($I18=\"Demi congé\",'Congés de l''employé'!$BU$16,IF($I18=\"MALADIE\",'Congés de l''employé'!$E$18,IF($I18=\"Demi maladie\",'Congés de l''employé'!$BU$18,MOD($E18-($B18-($C18-$D18))+($G18-$F18),1))))),VLOOKUP($A18,$AF$12:$AH$29,3,FALSE))","v":0},null,null,{"$f":"IF(I18<>\"\",1+MAX($K$14:K16),\"\")","v":""},null,null,null,null,null,null,null,null,null,null,null,null,null,null,null,null,null,null,"Juin","Fête nationale du Québec",{"$f":"DATE(Année,6,24)","v":"2019-06-24"},null,{"$f":"Edit!M31","v":0}]
[{"$f":"$B$10+3","v":"2019-10-24"},null,null,null,null,null,null,{"$f":"IF(ISNA(VLOOKUP($A19,$AF$12:$AH$29,3,FALSE)),IF($I19=\"CONGÉ\",'Congés de l''employé'!$E$16,IF($I19=\"Demi congé\",'Congés de l''employé'!$BU$16,IF($I19=\"MALADIE\",'Congés de l''employé'!$E$18,IF($I19=\"Demi maladie\",'Congés de l''employé'!$BU$18,MOD($E19-($B19-($C19-$D19))+($G19-$F19),1))))),VLOOKUP($A19,$AF$12:$AH$29,3,FALSE))","v":0},null,null,{"$f":"IF(I19<>\"\",1+MAX($K$14:K17),\"\")","v":""},null,null,null,null,null,null,null,null,null,null,null,null,null,null,null,null,null,null,null,"FÉRIÉ-JOUR OUVRABLE SUIVANT LA FÊTE NATIONALE DU QUÉBEC",{"$f":"AF18+2-WEEKDAY(AF18)+(WEEKDAY(AF18)>2)*7","v":"2019-06-24"},"Date fixe 25 décembre"]
[{"$f":"$B$10+4","v":"2019-10-25"},null,null,null,null,null,null,{"$f":"IF(ISNA(VLOOKUP($A20,$AF$12:$AH$29,3,FALSE)),IF($I20=\"CONGÉ\",'Congés de l''employé'!$E$16,IF($I20=\"Demi congé\",'Congés de l''employé'!$BU$16,IF($I20=\"MALADIE\",'Congés de l''employé'!$E$18,IF($I20=\"Demi maladie\",'Congés de l''employé'!$BU$18,MOD($E20-($B20-($C20-$D20))+($G20-$F20),1))))),VLOOKUP($A20,$AF$12:$AH$29,3,FALSE))","v":0},null,null,{"$f":"IF(I20<>\"\",1+MAX($K$14:K18),\"\")","v":""},null,null,null,null,null,null,null,null,null,null,null,null,null,null,null,null,null,null,"Juillet","Fête du Canada",{"$f":"DATE(Année,7,1)","v":"2019-07-01"},null,{"$f":"Edit!M32","v":1.1253746147756614E-210}]
[{"$f":"$B$10+5","v":"2019-10-26"},null,null,null,null,null,null,{"$f":"IF(ISNA(VLOOKUP($A21,$AF$12:$AH$29,3,FALSE)),IF($I21=\"CONGÉ\",'Congés de l''employé'!$E$16,IF($I21=\"Demi congé\",'Congés de l''employé'!$BU$16,IF($I21=\"MALADIE\",'Congés de l''employé'!$E$18,IF($I21=\"Demi maladie\",'Congés de l''employé'!$BU$18,MOD($E21-($B21-($C21-$D21))+($G21-$F21),1))))),VLOOKUP($A21,$AF$12:$AH$29,3,FALSE))","v":0},null,null,{"$f":"IF(I21<>\"\",1+MAX($K$14:K19),\"\")","v":""},null,null,null,null,null,null,null,null,null,null,null,null,null,null,null,null,null,null,null,"FÉRIÉ-JOUR OUVRABLE SUIVANT LA FÊTE DU CANADA",{"$f":"AF20+2-WEEKDAY(AF20)+(WEEKDAY(AF20)>2)*7","v":"2019-07-01"}]
[{"$f":"$B$10+6","v":"2019-10-27"},null,null,null,null,null,null,{"$f":"IF(ISNA(VLOOKUP($A22,$AF$12:$AH$29,3,FALSE)),IF($I22=\"CONGÉ\",'Congés de l''employé'!$E$16,IF($I22=\"Demi congé\",'Congés de l''employé'!$BU$16,IF($I22=\"MALADIE\",'Congés de l''employé'!$E$18,IF($I22=\"Demi maladie\",'Congés de l''employé'!$BU$18,MOD($E22-($B22-($C22-$D22))+($G22-$F22),1))))),VLOOKUP($A22,$AF$12:$AH$29,3,FALSE))","v":0},null,null,{"$f":"IF(I22<>\"\",1+MAX($K$14:K20),\"\")","v":""},null,null,null,null,null,null,null,null,null,null,null,null,null,null,null,null,null,null,"Septembre","Fête du travail",{"$f":"IF(MOD(DATE(Année,9,1),7)<=2,2-MOD(DATE(Année,9,1),7),9-MOD(DATE(Année,9,1),7))+DATE(Année,9,1)","v":"2019-09-01"},null,{"$f":"Edit!M33","v":0}]
[null,null,null,null,null,null,null,{"$f":"SUM(H16:H22)+B23","v":0},null,null,{"$f":"IF(I23<>\"\",1+MAX($K$14:K21),\"\")","v":""},null,null,null,null,null,null,null,null,null,null,null,null,null,null,null,null,null,null,null,"FÉRIÉ-JOUR OUVRABLE SUIVANT LA FÊTE DU TRAVAIL",{"$f":"AF22+2-WEEKDAY(AF22)+(WEEKDAY(AF22)>2)*7","v":"2019-09-02"}]
[null,null,null,null,null,null,null,null,null,null,{"$f":"IF(I24<>\"\",1+MAX($K$14:K22),\"\")","v":""},null,null,null,null,null,null,null,null,null,null,null,null,null,null,null,null,null,null,"Octobre","Action de grâce",{"$f":"DATE(AF10,10,1)","v":"2019-10-01"},null,{"$f":"Edit!M34","v":0}]
[null,null,null,null,null,null,null,null,null,null,{"$f":"IF(I25<>\"\",1+MAX($K$14:K23),\"\")","v":""},null,null,null,null,null,null,null,null,null,null,null,null,null,null,null,null,null,null,null,"FÉRIÉ-JOUR OUVRABLE SUIVANT L'ACTION DE GRÂCE",{"$f":"AF24-DAY(AF24)-WEEKDAY(AF24-DAY(AF24),2)+15","v":"2019-10-14"}]
[null,null,null,null,null,null,"Heures en trop\nou en moins",{"$f":"IF(OR(H23=-(B15),B15=0),\"0\",(H23-B15))","v":"0"},null,null,{"$f":"IF(I26<>\"\",1+MAX($K$14:K24),\"\")","v":""},null,null,null,null,null,null,null,null,null,null,null,null,null,null,null,null,null,null,null,"Bureau fermé congé donné",{"$f":"DATE(Année,12,25)-1","v":"2019-12-24"},null,{"$f":"'[1]Congés de l''employé'!$E$14","v":0}]
[null,null,null,null,null,null,null,null,null,null,{"$f":"IF(I27<>\"\",1+MAX($K$14:K25),\"\")","v":""},null,null,null,null,null,null,null,null,null,null,null,null,null,null,null,null,null,null,"Décembre","Férié-Noël",{"$f":"DATE(Année,12,25)","v":"2019-12-25"},null,{"$f":"Edit!M35","v":0}]
["Horaire Semaine 2",null,null,null,null,null,null,null,null,null,{"$f":"IF(I28<>\"\",1+MAX($K$14:K26),\"\")","v":""},null,null,null,null,null,null,null,null,null,null,null,null,null,null,null,null,null,null,"Décembre","Bureau fermé congé donné",{"$f":"DATE(Année,12,25)+1","v":"2019-12-26"}]
[{"$f":"B10+7","v":"2019-10-28"},null,null,null,null,null,null,{"$f":"IF(ISNA(VLOOKUP($A29,$AF$12:$AH$29,3,FALSE)),IF($I29=\"CONGÉ\",'Congés de l''employé'!$E$16,IF($I29=\"Demi congé\",'Congés de l''employé'!$BU$16,IF($I29=\"MALADIE\",'Congés de l''employé'!$E$18,IF($I29=\"Demi maladie\",'Congés de l''employé'!$BU$18,MOD($E29-($B29-($C29-$D29))+($G29-$F29),1))))),VLOOKUP($A29,$AF$12:$AH$29,3,FALSE))","v":0},null,null,{"$f":"IF(I29<>\"\",1+MAX($K$14:K28),\"\")","v":""},null,null,null,null,null,null,null,null,null,null,null,null,null,null,null,null,null,null,"Décembre","Bureau fermé congé donné",{"$f":"AF11+2-WEEKDAY(AF11)+(WEEKDAY(AF11)>2)-1","v":"2018-12-31"}]
[{"$f":"B10+8","v":"2019-10-29"},null,null,null,null,null,null,{"$f":"IF(ISNA(VLOOKUP($A30,$AF$12:$AH$29,3,FALSE)),IF($I30=\"CONGÉ\",'Congés de l''employé'!$E$16,IF($I30=\"Demi congé\",'Congés de l''employé'!$BU$16,IF($I30=\"MALADIE\",'Congés de l''employé'!$E$18,IF($I30=\"Demi maladie\",'Congés de l''employé'!$BU$18,MOD($E30-($B30-($C30-$D30))+($G30-$F30),1))))),VLOOKUP($A30,$AF$12:$AH$29,3,FALSE))","v":0},null,null,{"$f":"IF(I30<>\"\",1+MAX($K$14:K29),\"\")","v":""}]
[{"$f":"B10+9","v":"2019-10-30"},null,null,null,null,null,null,{"$f":"IF(ISNA(VLOOKUP($A31,$AF$12:$AH$29,3,FALSE)),IF($I31=\"CONGÉ\",'Congés de l''employé'!$E$16,IF($I31=\"Demi congé\",'Congés de l''employé'!$BU$16,IF($I31=\"MALADIE\",'Congés de l''employé'!$E$18,IF($I31=\"Demi maladie\",'Congés de l''employé'!$BU$18,MOD($E31-($B31-($C31-$D31))+($G31-$F31),1))))),VLOOKUP($A31,$AF$12:$AH$29,3,FALSE))","v":0},null,null,{"$f":"IF(I31<>\"\",1+MAX($K$14:K30),\"\")","v":""}]
[{"$f":"B10+10","v":"2019-10-31"},null,null,null,null,null,null,{"$f":"IF(ISNA(VLOOKUP($A32,$AF$12:$AH$29,3,FALSE)),IF($I32=\"CONGÉ\",'Congés de l''employé'!$E$16,IF($I32=\"Demi congé\",'Congés de l''employé'!$BU$16,IF($I32=\"MALADIE\",'Congés de l''employé'!$E$18,IF($I32=\"Demi maladie\",'Congés de l''employé'!$BU$18,MOD($E32-($B32-($C32-$D32))+($G32-$F32),1))))),VLOOKUP($A32,$AF$12:$AH$29,3,FALSE))","v":0},null,null,{"$f":"IF(I32<>\"\",1+MAX($K$14:K31),\"\")","v":""}]
[{"$f":"B10+11","v":"2019-11-01"},null,null,null,null,null,null,{"$f":"IF(ISNA(VLOOKUP($A33,$AF$12:$AH$29,3,FALSE)),IF($I33=\"CONGÉ\",'Congés de l''employé'!$E$16,IF($I33=\"Demi congé\",'Congés de l''employé'!$BU$16,IF($I33=\"MALADIE\",'Congés de l''employé'!$E$18,IF($I33=\"Demi maladie\",'Congés de l''employé'!$BU$18,MOD($E33-($B33-($C33-$D33))+($G33-$F33),1))))),VLOOKUP($A33,$AF$12:$AH$29,3,FALSE))","v":0},null,null,{"$f":"IF(I33<>\"\",1+MAX($K$14:K32),\"\")","v":""}]
[{"$f":"B10+12","v":"2019-11-02"},null,null,null,null,null,null,{"$f":"IF(ISNA(VLOOKUP($A34,$AF$12:$AH$29,3,FALSE)),IF($I34=\"CONGÉ\",'Congés de l''employé'!$E$16,IF($I34=\"Demi congé\",'Congés de l''employé'!$BU$16,IF($I34=\"MALADIE\",'Congés de l''employé'!$E$18,IF($I34=\"Demi maladie\",'Congés de l''employé'!$BU$18,MOD($E34-($B34-($C34-$D34))+($G34-$F34),1))))),VLOOKUP($A34,$AF$12:$AH$29,3,FALSE))","v":0},null,null,{"$f":"IF(I34<>\"\",1+MAX($K$14:K33),\"\")","v":""}]
[{"$f":"B10+13","v":"2019-11-03"},null,null,null,null,null,null,{"$f":"IF(ISNA(VLOOKUP($A35,$AF$12:$AH$29,3,FALSE)),IF($I35=\"CONGÉ\",'Congés de l''employé'!$E$16,IF($I35=\"Demi congé\",'Congés de l''employé'!$BU$16,IF($I35=\"MALADIE\",'Congés de l''employé'!$E$18,IF($I35=\"Demi maladie\",'Congés de l''employé'!$BU$18,MOD($E35-($B35-($C35-$D35))+($G35-$F35),1))))),VLOOKUP($A35,$AF$12:$AH$29,3,FALSE))","v":0},null,null,{"$f":"IF(I35<>\"\",1+MAX($K$14:K34),\"\")","v":""}]
[null,null,null,null,null,null,null,{"$f":"SUM(H29:H35)+B36","v":0}]
[]
[null,null,null,null,null,null,"Heures en trop\nou en moins",{"$f":"IF(OR(H36=-(B28),B28=0),\"0\",(H36-B28))","v":"0"}]
[]
["Heure travaillées","Heures prévues","ENTREZ le nombre d'heures à payer","Heures\n supplémentaires ou en moins","Heures à \ntransposer dans la Banque","Total de la Banque d'heures"]
[{"$f":"$H$23+$H$36","v":0},{"$f":"'Congés de l''employé'!BU8*2","v":2.9166666666666665},{"$f":"A41","v":0},{"$f":"IF($H$26>0,$H$26)+IF($H$38>0,$H$38,0)+IF($H$26<0,$H$26)+IF($H$38<0,$H$38,0)","v":0},{"$f":"$A$41-$C$41","v":0},{"$f":"SUM('Octobre-2e-3e semaine'!F41:G42)+E41","v":0}]

{"sheet":"Novembre 2e-3e semaine","index":30,"n_rows":41,"n_cols":34,"rows_kept":41,"cut":false,"hidden":false,"merged":[[1,1,5,7],[40,0,41,0],[40,1,41,1],[40,2,41,2],[40,3,41,3],[40,4,41,4],[7,29,7,31],[42,1,42,2],[7,4,7,7],[9,1,9,3],[39,5,39,6],[40,5,41,6]]}
[{"$f":"MID(CELL(\"filename\",A1),FIND(\"]\",CELL(\"filename\",A1))+1,32)","v":"Novembre 2e-3e semaine"}]
[null,"   Feuille de temps"]
[]
[]
[]
[]
[]
[null,null,null,null,null,null,null,null,null,null,null,null,null,null,null,null,null,null,null,null,null,null,null,null,null,null,null,null,null,"Congés fériés, lundi suivant la date"]
["Employé: ",{"$f":"'Congés de l''employé'!B8","v":0},null,null,null,null,null,null,null,null,null,null,null,null,null,null,null,null,null,null,null,null,null,null,null,null,null,null,null,"Mois","Type de congé férié","Année en cours"]
["Période débutant le ",{"$f":"DATE(An_ref,1,-2)-WEEKDAY(DATE(An_ref,1,3))+315","v":"2019-11-04"},null,null,null,null,null,null,null,null,null,null,null,null,null,null,null,null,null,null,null,null,null,null,null,null,null,{"$f":"OR(B11=$AF$12,B11=$AF$13,B11=$AF$14,B11=$AF$16,B11=$AF$17,B11=$AF$19,B11=$AF$21,B11=$AF$23,B11=$AF$25,B11=$AF$26,B11=$AF$27,B11=$AF$28)","v":false},null,null,null,{"$f":"An_ref","v":2019},null,"alloué au férié"]
[null,null,null,null,null,null,null,null,null,null,null,null,null,null,null,null,null,null,null,null,null,null,null,null,null,null,null,null,null,"Janvier","Jour de l'an",{"$f":"DATE(Année,1,1)","v":"2019-01-01"},"Date fixe 1er janvier"]
[null,null,null,null,null,null,null,null,null,null,null,null,null,null,null,null,null,null,null,null,null,null,null,null,null,null,null,null,null,null,"FÉRIÉ-JOUR OUVRABLE SUIVANT LE JOUR DE L'AN",{"$f":"AF11+2-WEEKDAY(AF11)+(WEEKDAY(AF11)>2)","v":"2019-01-01"},null,{"$f":"Edit!M27","v":7.4735918097323577E-190}]
["Jour","Heure\nDébut","Départ\nDiner","Retour\nDiner","Heure\nFin","Télétravail\nDépart","Télétravail\nFin","TOTAL\nJournalier","Absence",null,"Index de la ligne",null,null,null,null,null,null,null,null,null,null,null,null,null,null,null,null,null,null,null,"Bureau fermé congé donné-un jour après le jour de l'an",{"$f":"AF11+2-WEEKDAY(AF11)+(WEEKDAY(AF11)>2)+1","v":"2019-01-02"}]
[null,null,null,null,null,null,null,null,null,null,null,{"$f":"IF(MAX('Fin Oct.-Nov.-première semaine'!K16:K35)=0,'Fin Oct.-Nov.-première semaine'!L14)","v":"1904-01-01"},null,null,null,null,null,null,null,null,null,null,null,null,null,null,null,null,null,"Mars","Bureau fermé congé donné-un jour ouvré avant Pâques",{"$f":"AF15-2","v":"2019-04-19"},"3e lundi de mai",{"$f":"Edit!M28","v":0.3289473684210526}]
["Horaire Semaine 1",null,null,null,null,null,null,null,null,null,{"$f":"IF(COUNTIF(I16,\"X\"),MAX($K$13:K13)+1,\"\")","v":""},null,null,null,null,null,null,null,null,null,null,null,null,null,null,null,null,null,null,null,"Pâques",{"$f":"DATE(Année,3,29.56+0.979*MOD(204-11*MOD(Année,19),30)-\nWEEKDAY(DATE(Année,3,28.56+0.979*MOD(204-11*MOD(Année,19),30))))","v":"2019-04-21"},"Date fixe 24 juin"]
[{"$f":"$B$10","v":"2019-11-04"},null,null,null,null,null,null,{"$f":"IF(ISNA(VLOOKUP($A16,$AF$12:$AH$29,3,FALSE)),IF($I16=\"CONGÉ\",'Congés de l''employé'!$E$16,IF($I16=\"Demi congé\",'Congés de l''employé'!$BU$16,IF($I16=\"MALADIE\",'Congés de l''employé'!$E$18,IF($I16=\"Demi maladie\",'Congés de l''employé'!$BU$18,MOD($E16-($B16-($C16-$D16))+($G16-$F16),1))))),VLOOKUP($A16,$AF$12:$AH$29,3,FALSE))","v":0},null,null,{"$f":"IF(I16<>\"\",1+MAX($L$14:L14),\"\")","v":""},null,null,null,null,null,null,null,null,null,null,null,null,null,null,null,null,null,null,"Avril","Lundi de pâques",{"$f":"AF15+1","v":"2019-04-22"},"Date fixe 1er juillet"]
[{"$f":"$B$10+1","v":"2019-11-05"},null,null,null,null,null,null,{"$f":"IF(ISNA(VLOOKUP($A17,$AF$12:$AH$29,3,FALSE)),IF($I17=\"CONGÉ\",'Congés de l''employé'!$E$16,IF($I17=\"Demi congé\",'Congés de l''employé'!$BU$16,IF($I17=\"MALADIE\",'Congés de l''employé'!$E$18,IF($I17=\"Demi maladie\",'Congés de l''employé'!$BU$18,MOD($E17-($B17-($C17-$D17))+($G17-$F17),1))))),VLOOKUP($A17,$AF$12:$AH$29,3,FALSE))","v":0},null,null,{"$f":"IF(I17<>\"\",1+MAX($K$14:K15),\"\")","v":""},null,null,null,null,null,null,null,null,null,null,null,null,null,null,null,null,null,null,"Mai","Journée nationale des patriotes",{"$f":"DATE(Année,5,23)-WEEKDAY(DATE(Année,5,1),2)","v":"2019-05-20"},null,{"$f":"Edit!M30","v":0}]
[{"$f":"$B$10+2","v":"2019-11-06"},null,null,null,null,null,null,{"$f":"IF(ISNA(VLOOKUP($A18,$AF$12:$AH$29,3,FALSE)),IF($I18=\"CONGÉ\",'Congés de l''employé'!$E$16,IF($I18=\"Demi congé\",'Congés de l''employé'!$BU$16,IF($I18=\"MALADIE\",'Congés de l''employé'!$E$18,IF($I18=\"Demi maladie\",'Congés de l''employé'!$BU$18,MOD($E18-($B18-($C18-$D18))+($G18-$F18),1))))),VLOOKUP($A18,$AF$12:$AH$29,3,FALSE))","v":0},null,null,{"$f":"IF(I18<>\"\",1+MAX($K$14:K16),\"\")","v":""},null,null,null,null,null,null,null,null,null,null,null,null,null,null,null,null,null,null,"Juin","Fête nationale du Québec",{"$f":"DATE(Année,6,24)","v":"2019-06-24"},null,{"$f":"Edit!M31","v":0}]
[{"$f":"$B$10+3","v":"2019-11-07"},null,null,null,null,null,null,{"$f":"IF(ISNA(VLOOKUP($A19,$AF$12:$AH$29,3,FALSE)),IF($I19=\"CONGÉ\",'Congés de l''employé'!$E$16,IF($I19=\"Demi congé\",'Congés de l''employé'!$BU$16,IF($I19=\"MALADIE\",'Congés de l''employé'!$E$18,IF($I19=\"Demi maladie\",'Congés de l''employé'!$BU$18,MOD($E19-($B19-($C19-$D19))+($G19-$F19),1))))),VLOOKUP($A19,$AF$12:$AH$29,3,FALSE))","v":0},null,null,{"$f":"IF(I19<>\"\",1+MAX($K$14:K17),\"\")","v":""},null,null,null,null,null,null,null,null,null,null,null,null,null,null,null,null,null,null,null,"FÉRIÉ-JOUR OUVRABLE SUIVANT LA FÊTE NATIONALE DU QUÉBEC",{"$f":"AF18+2-WEEKDAY(AF18)+(WEEKDAY(AF18)>2)*7","v":"2019-06-24"},"Date fixe 25 décembre"]
[{"$f":"$B$10+4","v":"2019-11-08"},null,null,null,null,null,null,{"$f":"IF(ISNA(VLOOKUP($A20,$AF$12:$AH$29,3,FALSE)),IF($I20=\"CONGÉ\",'Congés de l''employé'!$E$16,IF($I20=\"Demi congé\",'Congés de l''employé'!$BU$16,IF($I20=\"MALADIE\",'Congés de l''employé'!$E$18,IF($I20=\"Demi maladie\",'Congés de l''employé'!$BU$18,MOD($E20-($B20-($C20-$D20))+($G20-$F20),1))))),VLOOKUP($A20,$AF$12:$AH$29,3,FALSE))","v":0},null,null,{"$f":"IF(I20<>\"\",1+MAX($K$14:K18),\"\")","v":""},null,null,null,null,null,null,null,null,null,null,null,null,null,null,null,null,null,null,"Juillet","Fête du Canada",{"$f":"DATE(Année,7,1)","v":"2019-07-01"},null,{"$f":"Edit!M32","v":1.1253746147756614E-210}]
[{"$f":"$B$10+5","v":"2019-11-09"},null,null,null,null,null,null,{"$f":"IF(ISNA(VLOOKUP($A21,$AF$12:$AH$29,3,FALSE)),IF($I21=\"CONGÉ\",'Congés de l''employé'!$E$16,IF($I21=\"Demi congé\",'Congés de l''employé'!$BU$16,IF($I21=\"MALADIE\",'Congés de l''employé'!$E$18,IF($I21=\"Demi maladie\",'Congés de l''employé'!$BU$18,MOD($E21-($B21-($C21-$D21))+($G21-$F21),1))))),VLOOKUP($A21,$AF$12:$AH$29,3,FALSE))","v":0},null,null,{"$f":"IF(I21<>\"\",1+MAX($K$14:K19),\"\")","v":""},null,null,null,null,null,null,null,null,null,null,null,null,null,null,null,null,null,null,null,"FÉRIÉ-JOUR OUVRABLE SUIVANT LA FÊTE DU CANADA",{"$f":"AF20+2-WEEKDAY(AF20)+(WEEKDAY(AF20)>2)*7","v":"2019-07-01"}]
[{"$f":"$B$10+6","v":"2019-11-10"},null,null,null,null,null,null,{"$f":"IF(ISNA(VLOOKUP($A22,$AF$12:$AH$29,3,FALSE)),IF($I22=\"CONGÉ\",'Congés de l''employé'!$E$16,IF($I22=\"Demi congé\",'Congés de l''employé'!$BU$16,IF($I22=\"MALADIE\",'Congés de l''employé'!$E$18,IF($I22=\"Demi maladie\",'Congés de l''employé'!$BU$18,MOD($E22-($B22-($C22-$D22))+($G22-$F22),1))))),VLOOKUP($A22,$AF$12:$AH$29,3,FALSE))","v":0},null,null,{"$f":"IF(I22<>\"\",1+MAX($K$14:K20),\"\")","v":""},null,null,null,null,null,null,null,null,null,null,null,null,null,null,null,null,null,null,"Septembre","Fête du travail",{"$f":"IF(MOD(DATE(Année,9,1),7)<=2,2-MOD(DATE(Année,9,1),7),9-MOD(DATE(Année,9,1),7))+DATE(Année,9,1)","v":"2019-09-01"},null,{"$f":"Edit!M33","v":0}]
[null,null,null,null,null,null,null,{"$f":"SUM(H16:H22)+B23","v":0},null,null,{"$f":"IF(I23<>\"\",1+MAX($K$14:K21),\"\")","v":""},null,null,null,null,null,null,null,null,null,null,null,null,null,null,null,null,null,null,null,"FÉRIÉ-JOUR OUVRABLE SUIVANT LA FÊTE DU TRAVAIL",{"$f":"AF22+2-WEEKDAY(AF22)+(WEEKDAY(AF22)>2)*7","v":"2019-09-02"}]
[null,null,null,null,null,null,null,null,null,null,{"$f":"IF(I24<>\"\",1+MAX($K$14:K22),\"\")","v":""},null,null,null,null,null,null,null,null,null,null,null,null,null,null,null,null,null,null,"Octobre","Action de grâce",{"$f":"DATE(AF10,10,1)","v":"2019-10-01"},null,{"$f":"Edit!M34","v":0}]
[null,null,null,null,null,null,null,null,null,null,{"$f":"IF(I25<>\"\",1+MAX($K$14:K23),\"\")","v":""},null,null,null,null,null,null,null,null,null,null,null,null,null,null,null,null,null,null,null,"FÉRIÉ-JOUR OUVRABLE SUIVANT L'ACTION DE GRÂCE",{"$f":"AF24-DAY(AF24)-WEEKDAY(AF24-DAY(AF24),2)+15","v":"2019-10-14"}]
[null,null,null,null,null,null,"Heures en trop\nou en moins",{"$f":"IF(OR(H23=-(B15),B15=0),\"0\",(H23-B15))","v":"0"},null,null,{"$f":"IF(I26<>\"\",1+MAX($K$14:K24),\"\")","v":""},null,null,null,null,null,null,null,null,null,null,null,null,null,null,null,null,null,null,null,"Bureau fermé congé donné",{"$f":"DATE(Année,12,25)-1","v":"2019-12-24"},null,{"$f":"'[1]Congés de l''employé'!$E$14","v":0}]
[null,null,null,null,null,null,null,null,null,null,{"$f":"IF(I27<>\"\",1+MAX($K$14:K25),\"\")","v":""},null,null,null,null,null,null,null,null,null,null,null,null,null,null,null,null,null,null,"Décembre","Férié-Noël",{"$f":"DATE(Année,12,25)","v":"2019-12-25"},null,{"$f":"Edit!M35","v":0}]
["Horaire Semaine 2",null,null,null,null,null,null,null,null,null,{"$f":"IF(I28<>\"\",1+MAX($K$14:K26),\"\")","v":""},null,null,null,null,null,null,null,null,null,null,null,null,null,null,null,null,null,null,"Décembre","Bureau fermé congé donné",{"$f":"DATE(Année,12,25)+1","v":"2019-12-26"}]
[{"$f":"B10+7","v":"2019-11-11"},null,null,null,null,null,null,{"$f":"IF(ISNA(VLOOKUP($A29,$AF$12:$AH$29,3,FALSE)),IF($I29=\"CONGÉ\",'Congés de l''employé'!$E$16,IF($I29=\"Demi congé\",'Congés de l''employé'!$BU$16,IF($I29=\"MALADIE\",'Congés de l''employé'!$E$18,IF($I29=\"Demi maladie\",'Congés de l''employé'!$BU$18,MOD($E29-($B29-($C29-$D29))+($G29-$F29),1))))),VLOOKUP($A29,$AF$12:$AH$29,3,FALSE))","v":0},null,null,{"$f":"IF(I29<>\"\",1+MAX($K$14:K28),\"\")","v":""},null,null,null,null,null,null,null,null,null,null,null,null,null,null,null,null,null,null,"Décembre","Bureau fermé congé donné",{"$f":"AF11+2-WEEKDAY(AF11)+(WEEKDAY(AF11)>2)-1","v":"2018-12-31"}]
[{"$f":"B10+8","v":"2019-11-12"},null,null,null,null,null,null,{"$f":"IF(ISNA(VLOOKUP($A30,$AF$12:$AH$29,3,FALSE)),IF($I30=\"CONGÉ\",'Congés de l''employé'!$E$16,IF($I30=\"Demi congé\",'Congés de l''employé'!$BU$16,IF($I30=\"MALADIE\",'Congés de l''employé'!$E$18,IF($I30=\"Demi maladie\",'Congés de l''employé'!$BU$18,MOD($E30-($B30-($C30-$D30))+($G30-$F30),1))))),VLOOKUP($A30,$AF$12:$AH$29,3,FALSE))","v":0},null,null,{"$f":"IF(I30<>\"\",1+MAX($K$14:K29),\"\")","v":""}]
[{"$f":"B10+9","v":"2019-11-13"},null,null,null,null,null,null,{"$f":"IF(ISNA(VLOOKUP($A31,$AF$12:$AH$29,3,FALSE)),IF($I31=\"CONGÉ\",'Congés de l''employé'!$E$16,IF($I31=\"Demi congé\",'Congés de l''employé'!$BU$16,IF($I31=\"MALADIE\",'Congés de l''employé'!$E$18,IF($I31=\"Demi maladie\",'Congés de l''employé'!$BU$18,MOD($E31-($B31-($C31-$D31))+($G31-$F31),1))))),VLOOKUP($A31,$AF$12:$AH$29,3,FALSE))","v":0},null,null,{"$f":"IF(I31<>\"\",1+MAX($K$14:K30),\"\")","v":""}]
[{"$f":"B10+10","v":"2019-11-14"},null,null,null,null,null,null,{"$f":"IF(ISNA(VLOOKUP($A32,$AF$12:$AH$29,3,FALSE)),IF($I32=\"CONGÉ\",'Congés de l''employé'!$E$16,IF($I32=\"Demi congé\",'Congés de l''employé'!$BU$16,IF($I32=\"MALADIE\",'Congés de l''employé'!$E$18,IF($I32=\"Demi maladie\",'Congés de l''employé'!$BU$18,MOD($E32-($B32-($C32-$D32))+($G32-$F32),1))))),VLOOKUP($A32,$AF$12:$AH$29,3,FALSE))","v":0},null,null,{"$f":"IF(I32<>\"\",1+MAX($K$14:K31),\"\")","v":""}]
[{"$f":"B10+11","v":"2019-11-15"},null,null,null,null,null,null,{"$f":"IF(ISNA(VLOOKUP($A33,$AF$12:$AH$29,3,FALSE)),IF($I33=\"CONGÉ\",'Congés de l''employé'!$E$16,IF($I33=\"Demi congé\",'Congés de l''employé'!$BU$16,IF($I33=\"MALADIE\",'Congés de l''employé'!$E$18,IF($I33=\"Demi maladie\",'Congés de l''employé'!$BU$18,MOD($E33-($B33-($C33-$D33))+($G33-$F33),1))))),VLOOKUP($A33,$AF$12:$AH$29,3,FALSE))","v":0},null,null,{"$f":"IF(I33<>\"\",1+MAX($K$14:K32),\"\")","v":""}]
[{"$f":"B10+12","v":"2019-11-16"},null,null,null,null,null,null,{"$f":"IF(ISNA(VLOOKUP($A34,$AF$12:$AH$29,3,FALSE)),IF($I34=\"CONGÉ\",'Congés de l''employé'!$E$16,IF($I34=\"Demi congé\",'Congés de l''employé'!$BU$16,IF($I34=\"MALADIE\",'Congés de l''employé'!$E$18,IF($I34=\"Demi maladie\",'Congés de l''employé'!$BU$18,MOD($E34-($B34-($C34-$D34))+($G34-$F34),1))))),VLOOKUP($A34,$AF$12:$AH$29,3,FALSE))","v":0},null,null,{"$f":"IF(I34<>\"\",1+MAX($K$14:K33),\"\")","v":""}]
[{"$f":"B10+13","v":"2019-11-17"},null,null,null,null,null,null,{"$f":"IF(ISNA(VLOOKUP($A35,$AF$12:$AH$29,3,FALSE)),IF($I35=\"CONGÉ\",'Congés de l''employé'!$E$16,IF($I35=\"Demi congé\",'Congés de l''employé'!$BU$16,IF($I35=\"MALADIE\",'Congés de l''employé'!$E$18,IF($I35=\"Demi maladie\",'Congés de l''employé'!$BU$18,MOD($E35-($B35-($C35-$D35))+($G35-$F35),1))))),VLOOKUP($A35,$AF$12:$AH$29,3,FALSE))","v":0},null,null,{"$f":"IF(I35<>\"\",1+MAX($K$14:K34),\"\")","v":""}]
[null,null,null,null,null,null,null,{"$f":"SUM(H29:H35)+B36","v":0}]
[]
[null,null,null,null,null,null,"Heures en trop\nou en moins",{"$f":"IF(OR(H36=-(B28),B28=0),\"0\",(H36-B28))","v":"0"}]
[]
["Heure travaillées","Heures prévues","ENTREZ le nombre d'heures à payer","Heures\n supplémentaires ou en moins","Heures à \ntransposer dans la Banque","Total de la Banque d'heures"]
[{"$f":"$H$23+$H$36","v":0},{"$f":"'Congés de l''employé'!BU8*2","v":2.9166666666666665},{"$f":"A41","v":0},{"$f":"IF($H$26>0,$H$26)+IF($H$38>0,$H$38,0)+IF($H$26<0,$H$26)+IF($H$38<0,$H$38,0)","v":0},{"$f":"$A$41-$C$41","v":0},{"$f":"SUM('Fin Oct.-Nov.-première semaine'!F41:G42)+E41","v":0}]

{"sheet":"Nov. 4e-5e semaine-Début Déc.","index":31,"n_rows":41,"n_cols":34,"rows_kept":41,"cut":false,"hidden":false,"merged":[[1,1,5,7],[40,0,41,0],[40,1,41,1],[40,2,41,2],[40,3,41,3],[40,4,41,4],[7,29,7,31],[42,1,42,2],[7,4,7,7],[9,1,9,3],[39,5,39,6],[40,5,41,6]]}
[{"$f":"MID(CELL(\"filename\",A1),FIND(\"]\",CELL(\"filename\",A1))+1,32)","v":"Nov. 4e-5e semaine-Début Déc."}]
[null,"   Feuille de temps"]
[]
[]
[]
[]
[]
[null,null,null,null,null,null,null,null,null,null,null,null,null,null,null,null,null,null,null,null,null,null,null,null,null,null,null,null,null,"Congés fériés, lundi suivant la date"]
["Employé: ",{"$f":"'Congés de l''employé'!B8","v":0},null,null,null,null,null,null,null,null,null,null,null,null,null,null,null,null,null,null,null,null,null,null,null,null,null,null,null,"Mois","Type de congé férié","Année en cours"]
["Période débutant le ",{"$f":"DATE(An_ref,1,-2)-WEEKDAY(DATE(An_ref,1,3))+329","v":"2019-11-18"},null,null,null,null,null,null,null,null,null,null,null,null,null,null,null,null,null,null,null,null,null,null,null,null,null,{"$f":"OR(B11=$AF$12,B11=$AF$13,B11=$AF$14,B11=$AF$16,B11=$AF$17,B11=$AF$19,B11=$AF$21,B11=$AF$23,B11=$AF$25,B11=$AF$26,B11=$AF$27,B11=$AF$28)","v":false},null,null,null,{"$f":"An_ref","v":2019},null,"alloué au férié"]
[null,null,null,null,null,null,null,null,null,null,null,null,null,null,null,null,null,null,null,null,null,null,null,null,null,null,null,null,null,"Janvier","Jour de l'an",{"$f":"DATE(Année,1,1)","v":"2019-01-01"},"Date fixe 1er janvier"]
[null,null,null,null,null,null,null,null,null,null,null,null,null,null,null,null,null,null,null,null,null,null,null,null,null,null,null,null,null,null,"FÉRIÉ-JOUR OUVRABLE SUIVANT LE JOUR DE L'AN",{"$f":"AF11+2-WEEKDAY(AF11)+(WEEKDAY(AF11)>2)","v":"2019-01-01"},null,{"$f":"Edit!M27","v":7.4735918097323577E-190}]
["Jour","Heure\nDébut","Départ\nDiner","Retour\nDiner","Heure\nFin","Télétravail\nDépart","Télétravail\nFin","TOTAL\nJournalier","Absence",null,"Index de la ligne",null,null,null,null,null,null,null,null,null,null,null,null,null,null,null,null,null,null,null,"Bureau fermé congé donné-un jour après le jour de l'an",{"$f":"AF11+2-WEEKDAY(AF11)+(WEEKDAY(AF11)>2)+1","v":"2019-01-02"}]
[null,null,null,null,null,null,null,null,null,null,null,{"$f":"MAX('Novembre 2e-3e semaine'!K16:K35)","v":"1904-01-01"},null,null,null,null,null,null,null,null,null,null,null,null,null,null,null,null,null,"Mars","Bureau fermé congé donné-un jour ouvré avant Pâques",{"$f":"AF15-2","v":"2019-04-19"},"3e lundi de mai",{"$f":"Edit!M28","v":0.3289473684210526}]
["Horaire Semaine 1",null,null,null,null,null,null,null,null,null,{"$f":"IF(COUNTIF(I16,\"X\"),MAX($K$13:K13)+1,\"\")","v":""},null,null,null,null,null,null,null,null,null,null,null,null,null,null,null,null,null,null,null,"Pâques",{"$f":"DATE(Année,3,29.56+0.979*MOD(204-11*MOD(Année,19),30)-\nWEEKDAY(DATE(Année,3,28.56+0.979*MOD(204-11*MOD(Année,19),30))))","v":"2019-04-21"},"Date fixe 24 juin"]
[{"$f":"$B$10","v":"2019-11-18"},null,null,null,null,null,null,{"$f":"IF(ISNA(VLOOKUP($A16,$AF$12:$AH$29,3,FALSE)),IF($I16=\"CONGÉ\",'Congés de l''employé'!$E$16,IF($I16=\"Demi congé\",'Congés de l''employé'!$BU$16,IF($I16=\"MALADIE\",'Congés de l''employé'!$E$18,IF($I16=\"Demi maladie\",'Congés de l''employé'!$BU$18,MOD($E16-($B16-($C16-$D16))+($G16-$F16),1))))),VLOOKUP($A16,$AF$12:$AH$29,3,FALSE))","v":0},null,null,{"$f":"IF(I16<>\"\",1+MAX($L$14:L14),\"\")","v":""},null,null,null,null,null,null,null,null,null,null,null,null,null,null,null,null,null,null,"Avril","Lundi de pâques",{"$f":"AF15+1","v":"2019-04-22"},"Date fixe 1er juillet"]
[{"$f":"$B$10+1","v":"2019-11-19"},null,null,null,null,null,null,{"$f":"IF(ISNA(VLOOKUP($A17,$AF$12:$AH$29,3,FALSE)),IF($I17=\"CONGÉ\",'Congés de l''employé'!$E$16,IF($I17=\"Demi congé\",'Congés de l''employé'!$BU$16,IF($I17=\"MALADIE\",'Congés de l''employé'!$E$18,IF($I17=\"Demi maladie\",'Congés de l''employé'!$BU$18,MOD($E17-($B17-($C17-$D17))+($G17-$F17),1))))),VLOOKUP($A17,$AF$12:$AH$29,3,FALSE))","v":0},null,null,{"$f":"IF(I17<>\"\",1+MAX($K$14:K15),\"\")","v":""},null,null,null,null,null,null,null,null,null,null,null,null,null,null,null,null,null,null,"Mai","Journée nationale des patriotes",{"$f":"DATE(Année,5,23)-WEEKDAY(DATE(Année,5,1),2)","v":"2019-05-20"},null,{"$f":"Edit!M30","v":0}]
[{"$f":"$B$10+2","v":"2019-11-20"},null,null,null,null,null,null,{"$f":"IF(ISNA(VLOOKUP($A18,$AF$12:$AH$29,3,FALSE)),IF($I18=\"CONGÉ\",'Congés de l''employé'!$E$16,IF($I18=\"Demi congé\",'Congés de l''employé'!$BU$16,IF($I18=\"MALADIE\",'Congés de l''employé'!$E$18,IF($I18=\"Demi maladie\",'Congés de l''employé'!$BU$18,MOD($E18-($B18-($C18-$D18))+($G18-$F18),1))))),VLOOKUP($A18,$AF$12:$AH$29,3,FALSE))","v":0},null,null,{"$f":"IF(I18<>\"\",1+MAX($K$14:K16),\"\")","v":""},null,null,null,null,null,null,null,null,null,null,null,null,null,null,null,null,null,null,"Juin","Fête nationale du Québec",{"$f":"DATE(Année,6,24)","v":"2019-06-24"},null,{"$f":"Edit!M31","v":0}]
[{"$f":"$B$10+3","v":"2019-11-21"},null,null,null,null,null,null,{"$f":"IF(ISNA(VLOOKUP($A19,$AF$12:$AH$29,3,FALSE)),IF($I19=\"CONGÉ\",'Congés de l''employé'!$E$16,IF($I19=\"Demi congé\",'Congés de l''employé'!$BU$16,IF($I19=\"MALADIE\",'Congés de l''employé'!$E$18,IF($I19=\"Demi maladie\",'Congés de l''employé'!$BU$18,MOD($E19-($B19-($C19-$D19))+($G19-$F19),1))))),VLOOKUP($A19,$AF$12:$AH$29,3,FALSE))","v":0},null,null,{"$f":"IF(I19<>\"\",1+MAX($K$14:K17),\"\")","v":""},null,null,null,null,null,null,null,null,null,null,null,null,null,null,null,null,null,null,null,"FÉRIÉ-JOUR OUVRABLE SUIVANT LA FÊTE NATIONALE DU QUÉBEC",{"$f":"AF18+2-WEEKDAY(AF18)+(WEEKDAY(AF18)>2)*7","v":"2019-06-24"},"Date fixe 25 décembre"]
[{"$f":"$B$10+4","v":"2019-11-22"},null,null,null,null,null,null,{"$f":"IF(ISNA(VLOOKUP($A20,$AF$12:$AH$29,3,FALSE)),IF($I20=\"CONGÉ\",'Congés de l''employé'!$E$16,IF($I20=\"Demi congé\",'Congés de l''employé'!$BU$16,IF($I20=\"MALADIE\",'Congés de l''employé'!$E$18,IF($I20=\"Demi maladie\",'Congés de l''employé'!$BU$18,MOD($E20-($B20-($C20-$D20))+($G20-$F20),1))))),VLOOKUP($A20,$AF$12:$AH$29,3,FALSE))","v":0},null,null,{"$f":"IF(I20<>\"\",1+MAX($K$14:K18),\"\")","v":""},null,null,null,null,null,null,null,null,null,null,null,null,null,null,null,null,null,null,"Juillet","Fête du Canada",{"$f":"DATE(Année,7,1)","v":"2019-07-01"},null,{"$f":"Edit!M32","v":1.1253746147756614E-210}]
[{"$f":"$B$10+5","v":"2019-11-23"},null,null,null,null,null,null,{"$f":"IF(ISNA(VLOOKUP($A21,$AF$12:$AH$29,3,FALSE)),IF($I21=\"CONGÉ\",'Congés de l''employé'!$E$16,IF($I21=\"Demi congé\",'Congés de l''employé'!$BU$16,IF($I21=\"MALADIE\",'Congés de l''employé'!$E$18,IF($I21=\"Demi maladie\",'Congés de l''employé'!$BU$18,MOD($E21-($B21-($C21-$D21))+($G21-$F21),1))))),VLOOKUP($A21,$AF$12:$AH$29,3,FALSE))","v":0},null,null,{"$f":"IF(I21<>\"\",1+MAX($K$14:K19),\"\")","v":""},null,null,null,null,null,null,null,null,null,null,null,null,null,null,null,null,null,null,null,"FÉRIÉ-JOUR OUVRABLE SUIVANT LA FÊTE DU CANADA",{"$f":"AF20+2-WEEKDAY(AF20)+(WEEKDAY(AF20)>2)*7","v":"2019-07-01"}]
[{"$f":"$B$10+6","v":"2019-11-24"},null,null,null,null,null,null,{"$f":"IF(ISNA(VLOOKUP($A22,$AF$12:$AH$29,3,FALSE)),IF($I22=\"CONGÉ\",'Congés de l''employé'!$E$16,IF($I22=\"Demi congé\",'Congés de l''employé'!$BU$16,IF($I22=\"MALADIE\",'Congés de l''employé'!$E$18,IF($I22=\"Demi maladie\",'Congés de l''employé'!$BU$18,MOD($E22-($B22-($C22-$D22))+($G22-$F22),1))))),VLOOKUP($A22,$AF$12:$AH$29,3,FALSE))","v":0},null,null,{"$f":"IF(I22<>\"\",1+MAX($K$14:K20),\"\")","v":""},null,null,null,null,null,null,null,null,null,null,null,null,null,null,null,null,null,null,"Septembre","Fête du travail",{"$f":"IF(MOD(DATE(Année,9,1),7)<=2,2-MOD(DATE(Année,9,1),7),9-MOD(DATE(Année,9,1),7))+DATE(Année,9,1)","v":"2019-09-01"},null,{"$f":"Edit!M33","v":0}]
[null,null,null,null,null,null,null,{"$f":"SUM(H16:H22)+B23","v":0},null,null,{"$f":"IF(I23<>\"\",1+MAX($K$14:K21),\"\")","v":""},null,null,null,null,null,null,null,null,null,null,null,null,null,null,null,null,null,null,null,"FÉRIÉ-JOUR OUVRABLE SUIVANT LA FÊTE DU TRAVAIL",{"$f":"AF22+2-WEEKDAY(AF22)+(WEEKDAY(AF22)>2)*7","v":"2019-09-02"}]
[null,null,null,null,null,null,null,null,null,null,{"$f":"IF(I24<>\"\",1+MAX($K$14:K22),\"\")","v":""},null,null,null,null,null,null,null,null,null,null,null,null,null,null,null,null,null,null,"Octobre","Action de grâce",{"$f":"DATE(AF10,10,1)","v":"2019-10-01"},null,{"$f":"Edit!M34","v":0}]
[null,null,null,null,null,null,null,null,null,null,{"$f":"IF(I25<>\"\",1+MAX($K$14:K23),\"\")","v":""},null,null,null,null,null,null,null,null,null,null,null,null,null,null,null,null,null,null,null,"FÉRIÉ-JOUR OUVRABLE SUIVANT L'ACTION DE GRÂCE",{"$f":"AF24-DAY(AF24)-WEEKDAY(AF24-DAY(AF24),2)+15","v":"2019-10-14"}]
[null,null,null,null,null,null,"Heures en trop\nou en moins",{"$f":"IF(OR(H23=-(B15),B15=0),\"0\",(H23-B15))","v":"0"},null,null,{"$f":"IF(I26<>\"\",1+MAX($K$14:K24),\"\")","v":""},null,null,null,null,null,null,null,null,null,null,null,null,null,null,null,null,null,null,null,"Bureau fermé congé donné",{"$f":"DATE(Année,12,25)-1","v":"2019-12-24"},null,{"$f":"'[1]Congés de l''employé'!$E$14","v":0}]
[null,null,null,null,null,null,null,null,null,null,{"$f":"IF(I27<>\"\",1+MAX($K$14:K25),\"\")","v":""},null,null,null,null,null,null,null,null,null,null,null,null,null,null,null,null,null,null,"Décembre","Férié-Noël",{"$f":"DATE(Année,12,25)","v":"2019-12-25"},null,{"$f":"Edit!M35","v":0}]
["Horaire Semaine 2",null,null,null,null,null,null,null,null,null,{"$f":"IF(I28<>\"\",1+MAX($K$14:K26),\"\")","v":""},null,null,null,null,null,null,null,null,null,null,null,null,null,null,null,null,null,null,"Décembre","Bureau fermé congé donné",{"$f":"DATE(Année,12,25)+1","v":"2019-12-26"}]
[{"$f":"B10+7","v":"2019-11-25"},null,null,null,null,null,null,{"$f":"IF(ISNA(VLOOKUP($A29,$AF$12:$AH$29,3,FALSE)),IF($I29=\"CONGÉ\",'Congés de l''employé'!$E$16,IF($I29=\"Demi congé\",'Congés de l''employé'!$BU$16,IF($I29=\"MALADIE\",'Congés de l''employé'!$E$18,IF($I29=\"Demi maladie\",'Congés de l''employé'!$BU$18,MOD($E29-($B29-($C29-$D29))+($G29-$F29),1))))),VLOOKUP($A29,$AF$12:$AH$29,3,FALSE))","v":0},null,null,{"$f":"IF(I29<>\"\",1+MAX($K$14:K28),\"\")","v":""},null,null,null,null,null,null,null,null,null,null,null,null,null,null,null,null,null,null,"Décembre","Bureau fermé congé donné",{"$f":"AF11+2-WEEKDAY(AF11)+(WEEKDAY(AF11)>2)-1","v":"2018-12-31"}]
[{"$f":"B10+8","v":"2019-11-26"},null,null,null,null,null,null,{"$f":"IF(ISNA(VLOOKUP($A30,$AF$12:$AH$29,3,FALSE)),IF($I30=\"CONGÉ\",'Congés de l''employé'!$E$16,IF($I30=\"Demi congé\",'Congés de l''employé'!$BU$16,IF($I30=\"MALADIE\",'Congés de l''employé'!$E$18,IF($I30=\"Demi maladie\",'Congés de l''employé'!$BU$18,MOD($E30-($B30-($C30-$D30))+($G30-$F30),1))))),VLOOKUP($A30,$AF$12:$AH$29,3,FALSE))","v":0},null,null,{"$f":"IF(I30<>\"\",1+MAX($K$14:K29),\"\")","v":""}]
[{"$f":"B10+9","v":"2019-11-27"},null,null,null,null,null,null,{"$f":"IF(ISNA(VLOOKUP($A31,$AF$12:$AH$29,3,FALSE)),IF($I31=\"CONGÉ\",'Congés de l''employé'!$E$16,IF($I31=\"Demi congé\",'Congés de l''employé'!$BU$16,IF($I31=\"MALADIE\",'Congés de l''employé'!$E$18,IF($I31=\"Demi maladie\",'Congés de l''employé'!$BU$18,MOD($E31-($B31-($C31-$D31))+($G31-$F31),1))))),VLOOKUP($A31,$AF$12:$AH$29,3,FALSE))","v":0},null,null,{"$f":"IF(I31<>\"\",1+MAX($K$14:K30),\"\")","v":""}]
[{"$f":"B10+10","v":"2019-11-28"},null,null,null,null,null,null,{"$f":"IF(ISNA(VLOOKUP($A32,$AF$12:$AH$29,3,FALSE)),IF($I32=\"CONGÉ\",'Congés de l''employé'!$E$16,IF($I32=\"Demi congé\",'Congés de l''employé'!$BU$16,IF($I32=\"MALADIE\",'Congés de l''employé'!$E$18,IF($I32=\"Demi maladie\",'Congés de l''employé'!$BU$18,MOD($E32-($B32-($C32-$D32))+($G32-$F32),1))))),VLOOKUP($A32,$AF$12:$AH$29,3,FALSE))","v":0},null,null,{"$f":"IF(I32<>\"\",1+MAX($K$14:K31),\"\")","v":""}]
[{"$f":"B10+11","v":"2019-11-29"},null,null,null,null,null,null,{"$f":"IF(ISNA(VLOOKUP($A33,$AF$12:$AH$29,3,FALSE)),IF($I33=\"CONGÉ\",'Congés de l''employé'!$E$16,IF($I33=\"Demi congé\",'Congés de l''employé'!$BU$16,IF($I33=\"MALADIE\",'Congés de l''employé'!$E$18,IF($I33=\"Demi maladie\",'Congés de l''employé'!$BU$18,MOD($E33-($B33-($C33-$D33))+($G33-$F33),1))))),VLOOKUP($A33,$AF$12:$AH$29,3,FALSE))","v":0},null,null,{"$f":"IF(I33<>\"\",1+MAX($K$14:K32),\"\")","v":""}]
[{"$f":"B10+12","v":"2019-11-30"},null,null,null,null,null,null,{"$f":"IF(ISNA(VLOOKUP($A34,$AF$12:$AH$29,3,FALSE)),IF($I34=\"CONGÉ\",'Congés de l''employé'!$E$16,IF($I34=\"Demi congé\",'Congés de l''employé'!$BU$16,IF($I34=\"MALADIE\",'Congés de l''employé'!$E$18,IF($I34=\"Demi maladie\",'Congés de l''employé'!$BU$18,MOD($E34-($B34-($C34-$D34))+($G34-$F34),1))))),VLOOKUP($A34,$AF$12:$AH$29,3,FALSE))","v":0},null,null,{"$f":"IF(I34<>\"\",1+MAX($K$14:K33),\"\")","v":""}]
[{"$f":"B10+13","v":"2019-12-01"},null,null,null,null,null,null,{"$f":"IF(ISNA(VLOOKUP($A35,$AF$12:$AH$29,3,FALSE)),IF($I35=\"CONGÉ\",'Congés de l''employé'!$E$16,IF($I35=\"Demi congé\",'Congés de l''employé'!$BU$16,IF($I35=\"MALADIE\",'Congés de l''employé'!$E$18,IF($I35=\"Demi maladie\",'Congés de l''employé'!$BU$18,MOD($E35-($B35-($C35-$D35))+($G35-$F35),1))))),VLOOKUP($A35,$AF$12:$AH$29,3,FALSE))","v":0},null,null,{"$f":"IF(I35<>\"\",1+MAX($K$14:K34),\"\")","v":""}]
[null,null,null,null,null,null,null,{"$f":"SUM(H29:H35)+B36","v":0}]
[]
[null,null,null,null,null,null,"Heures en trop\nou en moins",{"$f":"IF(OR(H36=-(B28),B28=0),\"0\",(H36-B28))","v":"0"}]
[]
["Heure travaillées","Heures prévues","ENTREZ le nombre d'heures à payer","Heures\n supplémentaires ou en moins","Heures à \ntransposer dans la Banque","Total de la Banque d'heures"]
[{"$f":"$H$23+$H$36","v":0},{"$f":"'Congés de l''employé'!BU8*2","v":2.9166666666666665},{"$f":"A41","v":0},{"$f":"IF($H$26>0,$H$26)+IF($H$38>0,$H$38,0)+IF($H$26<0,$H$26)+IF($H$38<0,$H$38,0)","v":0},{"$f":"$A$41-$C$41","v":0},{"$f":"SUM('Novembre 2e-3e semaine'!F41:G42)+E41","v":0}]

{"sheet":"Décembre 1e-2e semaine","index":32,"n_rows":41,"n_cols":34,"rows_kept":41,"cut":false,"hidden":false,"merged":[[1,1,5,7],[40,0,41,0],[40,1,41,1],[40,2,41,2],[40,3,41,3],[40,4,41,4],[7,29,7,31],[42,1,42,2],[7,4,7,7],[9,1,9,3],[39,5,39,6],[40,5,41,6]]}
[{"$f":"MID(CELL(\"filename\",A1),FIND(\"]\",CELL(\"filename\",A1))+1,32)","v":"Décembre 1e-2e semaine"}]
[null,"   Feuille de temps"]
[]
[]
[]
[]
[]
[null,null,null,null,null,null,null,null,null,null,null,null,null,null,null,null,null,null,null,null,null,null,null,null,null,null,null,null,null,"Congés fériés, lundi suivant la date"]
["Employé: ",{"$f":"'Congés de l''employé'!B8","v":0},null,null,null,null,null,null,null,null,null,null,null,null,null,null,null,null,null,null,null,null,null,null,null,null,null,null,null,"Mois","Type de congé férié","Année en cours"]
["Période débutant le ",{"$f":"DATE(An_ref,1,-2)-WEEKDAY(DATE(An_ref,1,3))+343","v":"2019-12-02"},null,null,null,null,null,null,null,null,null,null,null,null,null,null,null,null,null,null,null,null,null,null,null,null,null,{"$f":"OR(B11=$AF$12,B11=$AF$13,B11=$AF$14,B11=$AF$16,B11=$AF$17,B11=$AF$19,B11=$AF$21,B11=$AF$23,B11=$AF$25,B11=$AF$26,B11=$AF$27,B11=$AF$28)","v":false},null,null,null,{"$f":"An_ref","v":2019},null,"alloué au férié"]
[null,null,null,null,null,null,null,null,null,null,null,null,null,null,null,null,null,null,null,null,null,null,null,null,null,null,null,null,null,"Janvier","Jour de l'an",{"$f":"DATE(Année,1,1)","v":"2019-01-01"},"Date fixe 1er janvier"]
[null,null,null,null,null,null,null,null,null,null,null,null,null,null,null,null,null,null,null,null,null,null,null,null,null,null,null,null,null,null,"FÉRIÉ-JOUR OUVRABLE SUIVANT LE JOUR DE L'AN",{"$f":"AF11+2-WEEKDAY(AF11)+(WEEKDAY(AF11)>2)","v":"2019-01-01"},null,{"$f":"Edit!M27","v":1.4947183619464715E-188}]
["Jour","Heure\nDébut","Départ\nDiner","Retour\nDiner","Heure\nFin","Télétravail\nDépart","Télétravail\nFin","TOTAL\nJournalier","Absence",null,"Index de la ligne",null,null,null,null,null,null,null,null,null,null,null,null,null,null,null,null,null,null,null,"Bureau fermé congé donné-un jour après le jour de l'an",{"$f":"AF11+2-WEEKDAY(AF11)+(WEEKDAY(AF11)>2)+1","v":"2019-01-02"}]
[null,null,null,null,null,null,null,null,null,null,null,{"$f":"MAX('Nov. 4e-5e semaine-Début Déc.'!K16:K35)","v":"1904-01-01"},null,null,null,null,null,null,null,null,null,null,null,null,null,null,null,null,null,"Mars","Bureau fermé congé donné-un jour ouvré avant Pâques",{"$f":"AF15-2","v":"2019-04-19"},"3e lundi de mai",{"$f":"Edit!M28","v":0.3289473684210526}]
["Horaire Semaine 1",null,null,null,null,null,null,null,null,null,{"$f":"IF(COUNTIF(I16,\"X\"),MAX($K$13:K13)+1,\"\")","v":""},null,null,null,null,null,null,null,null,null,null,null,null,null,null,null,null,null,null,null,"Pâques",{"$f":"DATE(Année,3,29.56+0.979*MOD(204-11*MOD(Année,19),30)-\nWEEKDAY(DATE(Année,3,28.56+0.979*MOD(204-11*MOD(Année,19),30))))","v":"2019-04-21"},"Date fixe 24 juin"]
[{"$f":"$B$10","v":"2019-12-02"},null,null,null,null,null,null,{"$f":"IF(ISNA(VLOOKUP($A16,$AF$12:$AH$29,3,FALSE)),IF($I16=\"CONGÉ\",'Congés de l''employé'!$E$16,IF($I16=\"Demi congé\",'Congés de l''employé'!$BU$16,IF($I16=\"MALADIE\",'Congés de l''employé'!$E$18,IF($I16=\"Demi maladie\",'Congés de l''employé'!$BU$18,MOD($E16-($B16-($C16-$D16))+($G16-$F16),1))))),VLOOKUP($A16,$AF$12:$AH$29,3,FALSE))","v":0},null,null,{"$f":"IF(I16<>\"\",1+MAX($L$14:L14),\"\")","v":""},null,null,null,null,null,null,null,null,null,null,null,null,null,null,null,null,null,null,"Avril","Lundi de pâques",{"$f":"AF15+1","v":"2019-04-22"},"Date fixe 1er juillet"]
[{"$f":"$B$10+1","v":"2019-12-03"},null,null,null,null,null,null,{"$f":"IF(ISNA(VLOOKUP($A17,$AF$12:$AH$29,3,FALSE)),IF($I17=\"CONGÉ\",'Congés de l''employé'!$E$16,IF($I17=\"Demi congé\",'Congés de l''employé'!$BU$16,IF($I17=\"MALADIE\",'Congés de l''employé'!$E$18,IF($I17=\"Demi maladie\",'Congés de l''employé'!$BU$18,MOD($E17-($B17-($C17-$D17))+($G17-$F17),1))))),VLOOKUP($A17,$AF$12:$AH$29,3,FALSE))","v":0},null,null,{"$f":"IF(I17<>\"\",1+MAX($K$14:K15),\"\")","v":""},null,null,null,null,null,null,null,null,null,null,null,null,null,null,null,null,null,null,"Mai","Journée nationale des patriotes",{"$f":"DATE(Année,5,23)-WEEKDAY(DATE(Année,5,1),2)","v":"2019-05-20"},null,{"$f":"Edit!M30","v":0}]
[{"$f":"$B$10+2","v":"2019-12-04"},null,null,null,null,null,null,{"$f":"IF(ISNA(VLOOKUP($A18,$AF$12:$AH$29,3,FALSE)),IF($I18=\"CONGÉ\",'Congés de l''employé'!$E$16,IF($I18=\"Demi congé\",'Congés de l''employé'!$BU$16,IF($I18=\"MALADIE\",'Congés de l''employé'!$E$18,IF($I18=\"Demi maladie\",'Congés de l''employé'!$BU$18,MOD($E18-($B18-($C18-$D18))+($G18-$F18),1))))),VLOOKUP($A18,$AF$12:$AH$29,3,FALSE))","v":0},null,null,{"$f":"IF(I18<>\"\",1+MAX($K$14:K16),\"\")","v":""},null,null,null,null,null,null,null,null,null,null,null,null,null,null,null,null,null,null,"Juin","Fête nationale du Québec",{"$f":"DATE(Année,6,24)","v":"2019-06-24"},null,{"$f":"Edit!M31","v":0}]
[{"$f":"$B$10+3","v":"2019-12-05"},null,null,null,null,null,null,{"$f":"IF(ISNA(VLOOKUP($A19,$AF$12:$AH$29,3,FALSE)),IF($I19=\"CONGÉ\",'Congés de l''employé'!$E$16,IF($I19=\"Demi congé\",'Congés de l''employé'!$BU$16,IF($I19=\"MALADIE\",'Congés de l''employé'!$E$18,IF($I19=\"Demi maladie\",'Congés de l''employé'!$BU$18,MOD($E19-($B19-($C19-$D19))+($G19-$F19),1))))),VLOOKUP($A19,$AF$12:$AH$29,3,FALSE))","v":0},null,null,{"$f":"IF(I19<>\"\",1+MAX($K$14:K17),\"\")","v":""},null,null,null,null,null,null,null,null,null,null,null,null,null,null,null,null,null,null,null,"FÉRIÉ-JOUR OUVRABLE SUIVANT LA FÊTE NATIONALE DU QUÉBEC",{"$f":"AF18+2-WEEKDAY(AF18)+(WEEKDAY(AF18)>2)*7","v":"2019-06-24"},"Date fixe 25 décembre"]
[{"$f":"$B$10+4","v":"2019-12-06"},null,null,null,null,null,null,{"$f":"IF(ISNA(VLOOKUP($A20,$AF$12:$AH$29,3,FALSE)),IF($I20=\"CONGÉ\",'Congés de l''employé'!$E$16,IF($I20=\"Demi congé\",'Congés de l''employé'!$BU$16,IF($I20=\"MALADIE\",'Congés de l''employé'!$E$18,IF($I20=\"Demi maladie\",'Congés de l''employé'!$BU$18,MOD($E20-($B20-($C20-$D20))+($G20-$F20),1))))),VLOOKUP($A20,$AF$12:$AH$29,3,FALSE))","v":0},null,null,{"$f":"IF(I20<>\"\",1+MAX($K$14:K18),\"\")","v":""},null,null,null,null,null,null,null,null,null,null,null,null,null,null,null,null,null,null,"Juillet","Fête du Canada",{"$f":"DATE(Année,7,1)","v":"2019-07-01"},null,{"$f":"Edit!M32","v":1.1253746147756614E-210}]
[{"$f":"$B$10+5","v":"2019-12-07"},null,null,null,null,null,null,{"$f":"IF(ISNA(VLOOKUP($A21,$AF$12:$AH$29,3,FALSE)),IF($I21=\"CONGÉ\",'Congés de l''employé'!$E$16,IF($I21=\"Demi congé\",'Congés de l''employé'!$BU$16,IF($I21=\"MALADIE\",'Congés de l''employé'!$E$18,IF($I21=\"Demi maladie\",'Congés de l''employé'!$BU$18,MOD($E21-($B21-($C21-$D21))+($G21-$F21),1))))),VLOOKUP($A21,$AF$12:$AH$29,3,FALSE))","v":0},null,null,{"$f":"IF(I21<>\"\",1+MAX($K$14:K19),\"\")","v":""},null,null,null,null,null,null,null,null,null,null,null,null,null,null,null,null,null,null,null,"FÉRIÉ-JOUR OUVRABLE SUIVANT LA FÊTE DU CANADA",{"$f":"AF20+2-WEEKDAY(AF20)+(WEEKDAY(AF20)>2)*7","v":"2019-07-01"}]
[{"$f":"$B$10+6","v":"2019-12-08"},null,null,null,null,null,null,{"$f":"IF(ISNA(VLOOKUP($A22,$AF$12:$AH$29,3,FALSE)),IF($I22=\"CONGÉ\",'Congés de l''employé'!$E$16,IF($I22=\"Demi congé\",'Congés de l''employé'!$BU$16,IF($I22=\"MALADIE\",'Congés de l''employé'!$E$18,IF($I22=\"Demi maladie\",'Congés de l''employé'!$BU$18,MOD($E22-($B22-($C22-$D22))+($G22-$F22),1))))),VLOOKUP($A22,$AF$12:$AH$29,3,FALSE))","v":0},null,null,{"$f":"IF(I22<>\"\",1+MAX($K$14:K20),\"\")","v":""},null,null,null,null,null,null,null,null,null,null,null,null,null,null,null,null,null,null,"Septembre","Fête du travail",{"$f":"IF(MOD(DATE(Année,9,1),7)<=2,2-MOD(DATE(Année,9,1),7),9-MOD(DATE(Année,9,1),7))+DATE(Année,9,1)","v":"2019-09-01"},null,{"$f":"Edit!M33","v":0}]
[null,null,null,null,null,null,null,{"$f":"SUM(H16:H22)+B23","v":0},null,null,{"$f":"IF(I23<>\"\",1+MAX($K$14:K21),\"\")","v":""},null,null,null,null,null,null,null,null,null,null,null,null,null,null,null,null,null,null,null,"FÉRIÉ-JOUR OUVRABLE SUIVANT LA FÊTE DU TRAVAIL",{"$f":"AF22+2-WEEKDAY(AF22)+(WEEKDAY(AF22)>2)*7","v":"2019-09-02"}]
[null,null,null,null,null,null,null,null,null,null,{"$f":"IF(I24<>\"\",1+MAX($K$14:K22),\"\")","v":""},null,null,null,null,null,null,null,null,null,null,null,null,null,null,null,null,null,null,"Octobre","Action de grâce",{"$f":"DATE(AF10,10,1)","v":"2019-10-01"},null,{"$f":"Edit!M34","v":0}]
[null,null,null,null,null,null,null,null,null,null,{"$f":"IF(I25<>\"\",1+MAX($K$14:K23),\"\")","v":""},null,null,null,null,null,null,null,null,null,null,null,null,null,null,null,null,null,null,null,"FÉRIÉ-JOUR OUVRABLE SUIVANT L'ACTION DE GRÂCE",{"$f":"AF24-DAY(AF24)-WEEKDAY(AF24-DAY(AF24),2)+15","v":"2019-10-14"}]
[null,null,null,null,null,null,"Heures en trop\nou en moins",{"$f":"IF(OR(H23=-(B15),B15=0),\"0\",(H23-B15))","v":"0"},null,null,{"$f":"IF(I26<>\"\",1+MAX($K$14:K24),\"\")","v":""},null,null,null,null,null,null,null,null,null,null,null,null,null,null,null,null,null,null,null,"Bureau fermé congé donné",{"$f":"DATE(Année,12,25)-1","v":"2019-12-24"},null,{"$f":"'[1]Congés de l''employé'!$E$14","v":0}]
[null,null,null,null,null,null,null,null,null,null,{"$f":"IF(I27<>\"\",1+MAX($K$14:K25),\"\")","v":""},null,null,null,null,null,null,null,null,null,null,null,null,null,null,null,null,null,null,"Décembre","Férié-Noël",{"$f":"DATE(Année,12,25)","v":"2019-12-25"},null,{"$f":"Edit!M35","v":0}]
["Horaire Semaine 2",null,null,null,null,null,null,null,null,null,{"$f":"IF(I28<>\"\",1+MAX($K$14:K26),\"\")","v":""},null,null,null,null,null,null,null,null,null,null,null,null,null,null,null,null,null,null,"Décembre","Bureau fermé congé donné",{"$f":"DATE(Année,12,25)+1","v":"2019-12-26"}]
[{"$f":"B10+7","v":"2019-12-09"},null,null,null,null,null,null,{"$f":"IF(ISNA(VLOOKUP($A29,$AF$12:$AH$29,3,FALSE)),IF($I29=\"CONGÉ\",'Congés de l''employé'!$E$16,IF($I29=\"Demi congé\",'Congés de l''employé'!$BU$16,IF($I29=\"MALADIE\",'Congés de l''employé'!$E$18,IF($I29=\"Demi maladie\",'Congés de l''employé'!$BU$18,MOD($E29-($B29-($C29-$D29))+($G29-$F29),1))))),VLOOKUP($A29,$AF$12:$AH$29,3,FALSE))","v":0},null,null,{"$f":"IF(I29<>\"\",1+MAX($K$14:K28),\"\")","v":""},null,null,null,null,null,null,null,null,null,null,null,null,null,null,null,null,null,null,"Décembre","Bureau fermé congé donné",{"$f":"AF11+2-WEEKDAY(AF11)+(WEEKDAY(AF11)>2)-1","v":"2018-12-31"}]
[{"$f":"B10+8","v":"2019-12-10"},null,null,null,null,null,null,{"$f":"IF(ISNA(VLOOKUP($A30,$AF$12:$AH$29,3,FALSE)),IF($I30=\"CONGÉ\",'Congés de l''employé'!$E$16,IF($I30=\"Demi congé\",'Congés de l''employé'!$BU$16,IF($I30=\"MALADIE\",'Congés de l''employé'!$E$18,IF($I30=\"Demi maladie\",'Congés de l''employé'!$BU$18,MOD($E30-($B30-($C30-$D30))+($G30-$F30),1))))),VLOOKUP($A30,$AF$12:$AH$29,3,FALSE))","v":0},null,null,{"$f":"IF(I30<>\"\",1+MAX($K$14:K29),\"\")","v":""}]
[{"$f":"B10+9","v":"2019-12-11"},null,null,null,null,null,null,{"$f":"IF(ISNA(VLOOKUP($A31,$AF$12:$AH$29,3,FALSE)),IF($I31=\"CONGÉ\",'Congés de l''employé'!$E$16,IF($I31=\"Demi congé\",'Congés de l''employé'!$BU$16,IF($I31=\"MALADIE\",'Congés de l''employé'!$E$18,IF($I31=\"Demi maladie\",'Congés de l''employé'!$BU$18,MOD($E31-($B31-($C31-$D31))+($G31-$F31),1))))),VLOOKUP($A31,$AF$12:$AH$29,3,FALSE))","v":0},null,null,{"$f":"IF(I31<>\"\",1+MAX($K$14:K30),\"\")","v":""}]
[{"$f":"B10+10","v":"2019-12-12"},null,null,null,null,null,null,{"$f":"IF(ISNA(VLOOKUP($A32,$AF$12:$AH$29,3,FALSE)),IF($I32=\"CONGÉ\",'Congés de l''employé'!$E$16,IF($I32=\"Demi congé\",'Congés de l''employé'!$BU$16,IF($I32=\"MALADIE\",'Congés de l''employé'!$E$18,IF($I32=\"Demi maladie\",'Congés de l''employé'!$BU$18,MOD($E32-($B32-($C32-$D32))+($G32-$F32),1))))),VLOOKUP($A32,$AF$12:$AH$29,3,FALSE))","v":0},null,null,{"$f":"IF(I32<>\"\",1+MAX($K$14:K31),\"\")","v":""}]
[{"$f":"B10+11","v":"2019-12-13"},null,null,null,null,null,null,{"$f":"IF(ISNA(VLOOKUP($A33,$AF$12:$AH$29,3,FALSE)),IF($I33=\"CONGÉ\",'Congés de l''employé'!$E$16,IF($I33=\"Demi congé\",'Congés de l''employé'!$BU$16,IF($I33=\"MALADIE\",'Congés de l''employé'!$E$18,IF($I33=\"Demi maladie\",'Congés de l''employé'!$BU$18,MOD($E33-($B33-($C33-$D33))+($G33-$F33),1))))),VLOOKUP($A33,$AF$12:$AH$29,3,FALSE))","v":0},null,null,{"$f":"IF(I33<>\"\",1+MAX($K$14:K32),\"\")","v":""}]
[{"$f":"B10+12","v":"2019-12-14"},null,null,null,null,null,null,{"$f":"IF(ISNA(VLOOKUP($A34,$AF$12:$AH$29,3,FALSE)),IF($I34=\"CONGÉ\",'Congés de l''employé'!$E$16,IF($I34=\"Demi congé\",'Congés de l''employé'!$BU$16,IF($I34=\"MALADIE\",'Congés de l''employé'!$E$18,IF($I34=\"Demi maladie\",'Congés de l''employé'!$BU$18,MOD($E34-($B34-($C34-$D34))+($G34-$F34),1))))),VLOOKUP($A34,$AF$12:$AH$29,3,FALSE))","v":0},null,null,{"$f":"IF(I34<>\"\",1+MAX($K$14:K33),\"\")","v":""}]
[{"$f":"B10+13","v":"2019-12-15"},null,null,null,null,null,null,{"$f":"IF(ISNA(VLOOKUP($A35,$AF$12:$AH$29,3,FALSE)),IF($I35=\"CONGÉ\",'Congés de l''employé'!$E$16,IF($I35=\"Demi congé\",'Congés de l''employé'!$BU$16,IF($I35=\"MALADIE\",'Congés de l''employé'!$E$18,IF($I35=\"Demi maladie\",'Congés de l''employé'!$BU$18,MOD($E35-($B35-($C35-$D35))+($G35-$F35),1))))),VLOOKUP($A35,$AF$12:$AH$29,3,FALSE))","v":0},null,null,{"$f":"IF(I35<>\"\",1+MAX($K$14:K34),\"\")","v":""}]
[null,null,null,null,null,null,null,{"$f":"SUM(H29:H35)+B36","v":0}]
[]
[null,null,null,null,null,null,"Heures en trop\nou en moins",{"$f":"IF(OR(H36=-(B28),B28=0),\"0\",(H36-B28))","v":"0"}]
[]
["Heure travaillées","Heures prévues","ENTREZ le nombre d'heures à payer","Heures\n supplémentaires ou en moins","Heures à \ntransposer dans la Banque","Total de la Banque d'heures"]
[{"$f":"$H$23+$H$36","v":0},{"$f":"'Congés de l''employé'!BU8*2","v":2.9166666666666665},{"$f":"A41","v":0},{"$f":"IF($H$26>0,$H$26)+IF($H$38>0,$H$38,0)+IF($H$26<0,$H$26)+IF($H$38<0,$H$38,0)","v":0},{"$f":"$A$41-$C$41","v":0},{"$f":"SUM('Nov. 4e-5e semaine-Début Déc.'!F41:G42)+E41","v":0}]

{"sheet":"Décembre 3e-4e semaine","index":33,"n_rows":41,"n_cols":34,"rows_kept":41,"cut":false,"hidden":false,"merged":[[1,1,5,7],[40,0,41,0],[40,1,41,1],[40,2,41,2],[40,3,41,3],[40,4,41,4],[7,29,7,31],[42,1,42,2],[7,4,7,7],[9,1,9,3],[39,5,39,6],[40,5,41,6]]}
[{"$f":"MID(CELL(\"filename\",A1),FIND(\"]\",CELL(\"filename\",A1))+1,32)","v":"Décembre 3e-4e semaine"}]
[null,"Feuille de temps"]
[]
[]
[]
[]
[]
[null,null,null,null,null,null,null,null,null,null,null,null,null,null,null,null,null,null,null,null,null,null,null,null,null,null,null,null,null,"Congés fériés, lundi suivant la date"]
["Employé: ",{"$f":"'Congés de l''employé'!B8","v":0},null,null,null,null,null,null,null,null,null,null,null,null,null,null,null,null,null,null,null,null,null,null,null,null,null,null,null,"Mois","Type de congé férié","Année en cours"]
["Période débutant le ",{"$f":"DATE(An_ref,1,-2)-WEEKDAY(DATE(An_ref,1,3))+357","v":"2019-12-16"},null,null,null,null,null,null,null,null,null,null,null,null,null,null,null,null,null,null,null,null,null,null,null,null,null,{"$f":"OR(B11=$AF$12,B11=$AF$13,B11=$AF$14,B11=$AF$16,B11=$AF$17,B11=$AF$19,B11=$AF$21,B11=$AF$23,B11=$AF$25,B11=$AF$26,B11=$AF$27,B11=$AF$28)","v":false},null,null,null,{"$f":"An_ref","v":2019},null,"alloué au férié"]
[null,null,null,null,null,null,null,null,null,null,null,null,null,null,null,null,null,null,null,null,null,null,null,null,null,null,null,null,null,"Janvier","Jour de l'an",{"$f":"DATE(Année,1,1)","v":"2019-01-01"},"Date fixe 1er janvier"]
[null,null,null,null,null,null,null,null,null,null,null,null,null,null,null,null,null,null,null,null,null,null,null,null,null,null,null,null,null,null,"FÉRIÉ-JOUR OUVRABLE SUIVANT LE JOUR DE L'AN",{"$f":"AF11+2-WEEKDAY(AF11)+(WEEKDAY(AF11)>2)","v":"2019-01-01"},null,{"$f":"Edit!M27","v":1.4947183619464715E-188}]
["Jour","Heure\nDébut","Départ\nDiner","Retour\nDiner","Heure\nFin","Télétravail\nDépart","Télétravail\nFin","TOTAL\nJournalier","Absence",null,"Index de la ligne",null,null,null,null,null,null,null,null,null,null,null,null,null,null,null,null,null,null,null,"Bureau fermé congé donné-un jour après le jour de l'an",{"$f":"AF11+2-WEEKDAY(AF11)+(WEEKDAY(AF11)>2)+1","v":"2019-01-02"}]
[null,null,null,null,null,null,null,null,null,null,null,{"$f":"MAX('Décembre 1e-2e semaine'!K16:K35)","v":"1904-01-01"},null,null,null,null,null,null,null,null,null,null,null,null,null,null,null,null,null,"Mars","Bureau fermé congé donné-un jour ouvré avant Pâques",{"$f":"AF15-2","v":"2019-04-19"},"3e lundi de mai",{"$f":"Edit!M28","v":0.3289473684210526}]
["Horaire Semaine 1",null,null,null,null,null,null,null,null,null,{"$f":"IF(COUNTIF(I16,\"X\"),MAX($K$13:K13)+1,\"\")","v":""},null,null,null,null,null,null,null,null,null,null,null,null,null,null,null,null,null,null,null,"Pâques",{"$f":"DATE(Année,3,29.56+0.979*MOD(204-11*MOD(Année,19),30)-\nWEEKDAY(DATE(Année,3,28.56+0.979*MOD(204-11*MOD(Année,19),30))))","v":"2019-04-21"},"Date fixe 24 juin"]
[{"$f":"$B$10","v":"2019-12-16"},null,null,null,null,null,null,{"$f":"IF(ISNA(VLOOKUP($A16,$AF$12:$AH$29,3,FALSE)),IF($I16=\"CONGÉ\",'Congés de l''employé'!$E$16,IF($I16=\"Demi congé\",'Congés de l''employé'!$BU$16,IF($I16=\"MALADIE\",'Congés de l''employé'!$E$18,IF($I16=\"Demi maladie\",'Congés de l''employé'!$BU$18,MOD($E16-($B16-($C16-$D16))+($G16-$F16),1))))),VLOOKUP($A16,$AF$12:$AH$29,3,FALSE))","v":0},null,null,{"$f":"IF(I16<>\"\",1+MAX($L$14:L14),\"\")","v":""},null,null,null,null,null,null,null,null,null,null,null,null,null,null,null,null,null,null,"Avril","Lundi de pâques",{"$f":"AF15+1","v":"2019-04-22"},"Date fixe 1er juillet"]
[{"$f":"$B$10+1","v":"2019-12-17"},null,null,null,null,null,null,{"$f":"IF(ISNA(VLOOKUP($A17,$AF$12:$AH$29,3,FALSE)),IF($I17=\"CONGÉ\",'Congés de l''employé'!$E$16,IF($I17=\"Demi congé\",'Congés de l''employé'!$BU$16,IF($I17=\"MALADIE\",'Congés de l''employé'!$E$18,IF($I17=\"Demi maladie\",'Congés de l''employé'!$BU$18,MOD($E17-($B17-($C17-$D17))+($G17-$F17),1))))),VLOOKUP($A17,$AF$12:$AH$29,3,FALSE))","v":0},null,null,{"$f":"IF(I17<>\"\",1+MAX($K$14:K15),\"\")","v":""},null,null,null,null,null,null,null,null,null,null,null,null,null,null,null,null,null,null,"Mai","Journée nationale des patriotes",{"$f":"DATE(Année,5,23)-WEEKDAY(DATE(Année,5,1),2)","v":"2019-05-20"},null,{"$f":"Edit!M30","v":0}]
[{"$f":"$B$10+2","v":"2019-12-18"},null,null,null,null,null,null,{"$f":"IF(ISNA(VLOOKUP($A18,$AF$12:$AH$29,3,FALSE)),IF($I18=\"CONGÉ\",'Congés de l''employé'!$E$16,IF($I18=\"Demi congé\",'Congés de l''employé'!$BU$16,IF($I18=\"MALADIE\",'Congés de l''employé'!$E$18,IF($I18=\"Demi maladie\",'Congés de l''employé'!$BU$18,MOD($E18-($B18-($C18-$D18))+($G18-$F18),1))))),VLOOKUP($A18,$AF$12:$AH$29,3,FALSE))","v":0},null,null,{"$f":"IF(I18<>\"\",1+MAX($K$14:K16),\"\")","v":""},null,null,null,null,null,null,null,null,null,null,null,null,null,null,null,null,null,null,"Juin","Fête nationale du Québec",{"$f":"DATE(Année,6,24)","v":"2019-06-24"},null,{"$f":"Edit!M31","v":0}]
[{"$f":"$B$10+3","v":"2019-12-19"},null,null,null,null,null,null,{"$f":"IF(ISNA(VLOOKUP($A19,$AF$12:$AH$29,3,FALSE)),IF($I19=\"CONGÉ\",'Congés de l''employé'!$E$16,IF($I19=\"Demi congé\",'Congés de l''employé'!$BU$16,IF($I19=\"MALADIE\",'Congés de l''employé'!$E$18,IF($I19=\"Demi maladie\",'Congés de l''employé'!$BU$18,MOD($E19-($B19-($C19-$D19))+($G19-$F19),1))))),VLOOKUP($A19,$AF$12:$AH$29,3,FALSE))","v":0},null,null,{"$f":"IF(I19<>\"\",1+MAX($K$14:K17),\"\")","v":""},null,null,null,null,null,null,null,null,null,null,null,null,null,null,null,null,null,null,null,"FÉRIÉ-JOUR OUVRABLE SUIVANT LA FÊTE NATIONALE DU QUÉBEC",{"$f":"AF18+2-WEEKDAY(AF18)+(WEEKDAY(AF18)>2)*7","v":"2019-06-24"},"Date fixe 25 décembre"]
[{"$f":"$B$10+4","v":"2019-12-20"},null,null,null,null,null,null,{"$f":"IF(ISNA(VLOOKUP($A20,$AF$12:$AH$29,3,FALSE)),IF($I20=\"CONGÉ\",'Congés de l''employé'!$E$16,IF($I20=\"Demi congé\",'Congés de l''employé'!$BU$16,IF($I20=\"MALADIE\",'Congés de l''employé'!$E$18,IF($I20=\"Demi maladie\",'Congés de l''employé'!$BU$18,MOD($E20-($B20-($C20-$D20))+($G20-$F20),1))))),VLOOKUP($A20,$AF$12:$AH$29,3,FALSE))","v":0},null,null,{"$f":"IF(I20<>\"\",1+MAX($K$14:K18),\"\")","v":""},null,null,null,null,null,null,null,null,null,null,null,null,null,null,null,null,null,null,"Juillet","Fête du Canada",{"$f":"DATE(Année,7,1)","v":"2019-07-01"},null,{"$f":"Edit!M32","v":1.1253746147756614E-210}]
[{"$f":"$B$10+5","v":"2019-12-21"},null,null,null,null,null,null,{"$f":"IF(ISNA(VLOOKUP($A21,$AF$12:$AH$29,3,FALSE)),IF($I21=\"CONGÉ\",'Congés de l''employé'!$E$16,IF($I21=\"Demi congé\",'Congés de l''employé'!$BU$16,IF($I21=\"MALADIE\",'Congés de l''employé'!$E$18,IF($I21=\"Demi maladie\",'Congés de l''employé'!$BU$18,MOD($E21-($B21-($C21-$D21))+($G21-$F21),1))))),VLOOKUP($A21,$AF$12:$AH$29,3,FALSE))","v":0},null,null,{"$f":"IF(I21<>\"\",1+MAX($K$14:K19),\"\")","v":""},null,null,null,null,null,null,null,null,null,null,null,null,null,null,null,null,null,null,null,"FÉRIÉ-JOUR OUVRABLE SUIVANT LA FÊTE DU CANADA",{"$f":"AF20+2-WEEKDAY(AF20)+(WEEKDAY(AF20)>2)*7","v":"2019-07-01"}]
[{"$f":"$B$10+6","v":"2019-12-22"},null,null,null,null,null,null,{"$f":"IF(ISNA(VLOOKUP($A22,$AF$12:$AH$29,3,FALSE)),IF($I22=\"CONGÉ\",'Congés de l''employé'!$E$16,IF($I22=\"Demi congé\",'Congés de l''employé'!$BU$16,IF($I22=\"MALADIE\",'Congés de l''employé'!$E$18,IF($I22=\"Demi maladie\",'Congés de l''employé'!$BU$18,MOD($E22-($B22-($C22-$D22))+($G22-$F22),1))))),VLOOKUP($A22,$AF$12:$AH$29,3,FALSE))","v":0},null,null,{"$f":"IF(I22<>\"\",1+MAX($K$14:K20),\"\")","v":""},null,null,null,null,null,null,null,null,null,null,null,null,null,null,null,null,null,null,"Septembre","Fête du travail",{"$f":"IF(MOD(DATE(Année,9,1),7)<=2,2-MOD(DATE(Année,9,1),7),9-MOD(DATE(Année,9,1),7))+DATE(Année,9,1)","v":"2019-09-01"},null,{"$f":"Edit!M33","v":0}]
[null,null,null,null,null,null,null,{"$f":"SUM(H16:H22)+B23","v":0},null,null,{"$f":"IF(I23<>\"\",1+MAX($K$14:K21),\"\")","v":""},null,null,null,null,null,null,null,null,null,null,null,null,null,null,null,null,null,null,null,"FÉRIÉ-JOUR OUVRABLE SUIVANT LA FÊTE DU TRAVAIL",{"$f":"AF22+2-WEEKDAY(AF22)+(WEEKDAY(AF22)>2)*7","v":"2019-09-02"}]
[null,null,null,null,null,null,null,null,null,null,{"$f":"IF(I24<>\"\",1+MAX($K$14:K22),\"\")","v":""},null,null,null,null,null,null,null,null,null,null,null,null,null,null,null,null,null,null,"Octobre","Action de grâce",{"$f":"DATE(AF10,10,1)","v":"2019-10-01"},null,{"$f":"Edit!M34","v":0}]
[null,null,null,null,null,null,null,null,null,null,{"$f":"IF(I25<>\"\",1+MAX($K$14:K23),\"\")","v":""},null,null,null,null,null,null,null,null,null,null,null,null,null,null,null,null,null,null,null,"FÉRIÉ-JOUR OUVRABLE SUIVANT L'ACTION DE GRÂCE",{"$f":"AF24-DAY(AF24)-WEEKDAY(AF24-DAY(AF24),2)+15","v":"2019-10-14"}]
[null,null,null,null,null,null,"Heures en trop\nou en moins",{"$f":"IF(OR(H23=-(B15),B15=0),\"0\",(H23-B15))","v":"0"},null,null,{"$f":"IF(I26<>\"\",1+MAX($K$14:K24),\"\")","v":""},null,null,null,null,null,null,null,null,null,null,null,null,null,null,null,null,null,null,null,"Bureau fermé congé donné",{"$f":"DATE(Année,12,25)-1","v":"2019-12-24"},null,{"$f":"'[1]Congés de l''employé'!$E$14","v":0}]
[null,null,null,null,null,null,null,null,null,null,{"$f":"IF(I27<>\"\",1+MAX($K$14:K25),\"\")","v":""},null,null,null,null,null,null,null,null,null,null,null,null,null,null,null,null,null,null,"Décembre","Férié-Noël",{"$f":"DATE(Année,12,25)","v":"2019-12-25"},null,{"$f":"Edit!M35","v":0}]
["Horaire Semaine 2",null,null,null,null,null,null,null,null,null,{"$f":"IF(I28<>\"\",1+MAX($K$14:K26),\"\")","v":""},null,null,null,null,null,null,null,null,null,null,null,null,null,null,null,null,null,null,"Décembre","Bureau fermé congé donné",{"$f":"DATE(Année,12,25)+1","v":"2019-12-26"}]
[{"$f":"B10+7","v":"2019-12-23"},null,null,null,null,null,null,{"$f":"IF(ISNA(VLOOKUP($A29,$AF$12:$AH$29,3,FALSE)),IF($I29=\"CONGÉ\",'Congés de l''employé'!$E$16,IF($I29=\"Demi congé\",'Congés de l''employé'!$BU$16,IF($I29=\"MALADIE\",'Congés de l''employé'!$E$18,IF($I29=\"Demi maladie\",'Congés de l''employé'!$BU$18,MOD($E29-($B29-($C29-$D29))+($G29-$F29),1))))),VLOOKUP($A29,$AF$12:$AH$29,3,FALSE))","v":0},null,null,{"$f":"IF(I29<>\"\",1+MAX($K$14:K28),\"\")","v":""},null,null,null,null,null,null,null,null,null,null,null,null,null,null,null,null,null,null,"Décembre","Bureau fermé congé donné",{"$f":"AF11+2-WEEKDAY(AF11)+(WEEKDAY(AF11)>2)-1","v":"2018-12-31"}]
[{"$f":"B10+8","v":"2019-12-24"},null,null,null,null,null,null,{"$f":"IF(ISNA(VLOOKUP($A30,$AF$12:$AH$29,3,FALSE)),IF($I30=\"CONGÉ\",'Congés de l''employé'!$E$16,IF($I30=\"Demi congé\",'Congés de l''employé'!$BU$16,IF($I30=\"MALADIE\",'Congés de l''employé'!$E$18,IF($I30=\"Demi maladie\",'Congés de l''employé'!$BU$18,MOD($E30-($B30-($C30-$D30))+($G30-$F30),1))))),VLOOKUP($A30,$AF$12:$AH$29,3,FALSE))","v":0},null,null,{"$f":"IF(I30<>\"\",1+MAX($K$14:K29),\"\")","v":""}]
[{"$f":"B10+9","v":"2019-12-25"},null,null,null,null,null,null,{"$f":"IF(ISNA(VLOOKUP($A31,$AF$12:$AH$29,3,FALSE)),IF($I31=\"CONGÉ\",'Congés de l''employé'!$E$16,IF($I31=\"Demi congé\",'Congés de l''employé'!$BU$16,IF($I31=\"MALADIE\",'Congés de l''employé'!$E$18,IF($I31=\"Demi maladie\",'Congés de l''employé'!$BU$18,MOD($E31-($B31-($C31-$D31))+($G31-$F31),1))))),VLOOKUP($A31,$AF$12:$AH$29,3,FALSE))","v":0},null,null,{"$f":"IF(I31<>\"\",1+MAX($K$14:K30),\"\")","v":""}]
[{"$f":"B10+10","v":"2019-12-26"},null,null,null,null,null,null,{"$f":"IF(ISNA(VLOOKUP($A32,$AF$12:$AH$29,3,FALSE)),IF($I32=\"CONGÉ\",'Congés de l''employé'!$E$16,IF($I32=\"Demi congé\",'Congés de l''employé'!$BU$16,IF($I32=\"MALADIE\",'Congés de l''employé'!$E$18,IF($I32=\"Demi maladie\",'Congés de l''employé'!$BU$18,MOD($E32-($B32-($C32-$D32))+($G32-$F32),1))))),VLOOKUP($A32,$AF$12:$AH$29,3,FALSE))","v":0},null,null,{"$f":"IF(I32<>\"\",1+MAX($K$14:K31),\"\")","v":""}]
[{"$f":"B10+11","v":"2019-12-27"},null,null,null,null,null,null,{"$f":"IF(ISNA(VLOOKUP($A33,$AF$12:$AH$29,3,FALSE)),IF($I33=\"CONGÉ\",'Congés de l''employé'!$E$16,IF($I33=\"Demi congé\",'Congés de l''employé'!$BU$16,IF($I33=\"MALADIE\",'Congés de l''employé'!$E$18,IF($I33=\"Demi maladie\",'Congés de l''employé'!$BU$18,MOD($E33-($B33-($C33-$D33))+($G33-$F33),1))))),VLOOKUP($A33,$AF$12:$AH$29,3,FALSE))","v":0},null,null,{"$f":"IF(I33<>\"\",1+MAX($K$14:K32),\"\")","v":""}]
[{"$f":"B10+12","v":"2019-12-28"},null,null,null,null,null,null,{"$f":"IF(ISNA(VLOOKUP($A34,$AF$12:$AH$29,3,FALSE)),IF($I34=\"CONGÉ\",'Congés de l''employé'!$E$16,IF($I34=\"Demi congé\",'Congés de l''employé'!$BU$16,IF($I34=\"MALADIE\",'Congés de l''employé'!$E$18,IF($I34=\"Demi maladie\",'Congés de l''employé'!$BU$18,MOD($E34-($B34-($C34-$D34))+($G34-$F34),1))))),VLOOKUP($A34,$AF$12:$AH$29,3,FALSE))","v":0},null,null,{"$f":"IF(I34<>\"\",1+MAX($K$14:K33),\"\")","v":""}]
[{"$f":"B10+13","v":"2019-12-29"},null,null,null,null,null,null,{"$f":"IF(ISNA(VLOOKUP($A35,$AF$12:$AH$29,3,FALSE)),IF($I35=\"CONGÉ\",'Congés de l''employé'!$E$16,IF($I35=\"Demi congé\",'Congés de l''employé'!$BU$16,IF($I35=\"MALADIE\",'Congés de l''employé'!$E$18,IF($I35=\"Demi maladie\",'Congés de l''employé'!$BU$18,MOD($E35-($B35-($C35-$D35))+($G35-$F35),1))))),VLOOKUP($A35,$AF$12:$AH$29,3,FALSE))","v":0},null,null,{"$f":"IF(I35<>\"\",1+MAX($K$14:K34),\"\")","v":""}]
[null,null,null,null,null,null,null,{"$f":"SUM(H29:H35)+B36","v":0}]
[]
[null,null,null,null,null,null,"Heures en trop\nou en moins",{"$f":"IF(OR(H36=-(B28),B28=0),\"0\",(H36-B28))","v":"0"}]
[]
["Heure travaillées","Heures prévues","ENTREZ le nombre d'heures à payer","Heures\n supplémentaires ou en moins","Heures à \ntransposer dans la Banque","Total de la Banque d'heures"]
[{"$f":"$H$23+$H$36","v":0},{"$f":"'Congés de l''employé'!BU8*2","v":2.9166666666666665},{"$f":"A41","v":0},{"$f":"IF($H$26>0,$H$26)+IF($H$38>0,$H$38,0)+IF($H$26<0,$H$26)+IF($H$38<0,$H$38,0)","v":0},{"$f":"$A$41-$C$41","v":0},{"$f":"SUM('Décembre 1e-2e semaine'!F41:G42)+E41","v":0}]