{"text_format":"1","workbook":"xlsx","n_sheets":14,"sheets":["TR","Janvier","Février","Mars","Avril","Mai","Juin","Juillet","Aout","Septembre","Octobre","Novembre","Décembre","Recap"],"not_rendered":{"charts":0,"images":0,"macros":1,"external_links":1,"defined_names":0,"comments":0,"pivot_tables":0},"unopened":[],"bounds":{"document_bytes":16777216,"sheet_cells":100000,"rows_first":2000,"rows_last":500,"rows_between":2000,"halvings":0,"cell_chars":16384,"cell_head_chars":4096},"cells_cut":0,"cells_raw":0,"read":"whole","date_system":"1900"}

{"sheet":"TR","index":0,"n_rows":259,"n_cols":6,"rows_kept":259,"cut":false,"hidden":false,"merged":[[2,4,2,5],[2,2,2,3]]}
[]
[]
[null,"Service","Matin",null,"Soir"]
[null,"Capcli",0.35416666666666669,0.5,0.5625,0.70833333333333337]
[null,"CB","08:00:00","12:00:00","14:00:00","17:36:00"]
[null,"CC","00:00:00","00:00:00","00:00:00","00:00:00"]
[null,"CC-CP","00:00:00","00:00:00","00:00:00","00:00:00"]
[null,"CC","00:00:00","00:00:00","00:00:00","00:00:00"]
[null,"CC","00:00:00","00:00:00","00:00:00","00:00:00"]
[null,"CC","00:00:00","00:00:00","00:00:00","00:00:00"]
[null,"CCpayé",0.33333333333333331,0.5,0.58333333333333337,0.73333333333333339]
[null,"CH","00:00:00","00:00:00","00:00:00","00:00:00"]
[null,"CH-CP","00:00:00","00:00:00","00:00:00","00:00:00"]
[null,"CH","00:00:00","00:00:00","00:00:00","00:00:00"]
[null,"CH","00:00:00","00:00:00","00:00:00","00:00:00"]
[null,"CH","00:00:00","00:00:00","00:00:00","00:00:00"]
[null,"CHpayé",0.33333333333333331,0.5,0.58333333333333337,0.73333333333333339]
[null,"Congex","08:00:00","12:00:00","14:00:00","17:36:00"]
[null,"CP","00:00:00","00:00:00","00:00:00","00:00:00"]
[null,"Férié","00:00:00","00:00:00","00:00:00","00:00:00"]
[null,"FériéCC",0,0,0,0]
[null,"FériéCH",0,0,0,0]
[null,"FériéRT",0,0,0,0]
[null,"FOCO","08:00:00","12:00:00","14:00:00","17:36:00"]
[null,"JourAR","08:00:00","12:00:00","14:00:00","17:36:00"]
[null,"JourDu","08:00:00","12:00:00","14:00:00","17:36:00"]
[null,"Maladie","00:00:00","00:00:00","00:00:00","00:00:00"]
[null,"MaladieP","08:00:00","12:00:00","14:00:00","17:36:00"]
[null,"RE","08:00:00","12:00:00","14:00:00","17:36:00"]
[null,"RP","08:00:00","12:00:00","14:00:00","17:36:00"]
[null,"RT","00:00:00","00:00:00","00:00:00","00:00:00"]
[null,"RT-CP","00:00:00","00:00:00","00:00:00","00:00:00"]
[null,"RTN","00:00:00","00:00:00","00:00:00","00:00:00"]
[null,"RTA","00:00:00","00:00:00","00:00:00","00:00:00"]
[null,"RT","00:00:00","00:00:00","00:00:00","00:00:00"]
[null,"RTpayé",0.33333333333333331,0.5,0.58333333333333337,0.73333333333333339]
[null,"10RE",0.33333333333333331,0.5,0.58333333333333337,0.73333333333333339]
[null,"20RE",0.33333333333333331,0.5,0.58333333333333337,0.73333333333333339]
[null,"50RE",0.33333333333333331,0.5,0.58333333333333337,0.73333333333333339]
[null,"YCP","00:00:00","00:00:00","00:00:00","00:00:00"]
[]
[null,"201-1","09:28:00","13:04:00","15:19:00","20:04:00"]
[null,"302-1","06:41:00","10:56:00","13:42:00","17:09:00"]
[null,"s302-1","07:33:00","11:27:00","12:49:00","16:29:00"]
[null,"703-1","04:52:00","12:36:00"]
[null,"710-1","06:14:00","14:03:00"]
[null,"713-1","06:33:00","13:47:00"]
[null,"806-1",null,null,"12:32:00","20:12:00"]
[null,"v808-1",null,null,"12:24:00","20:13:00"]
[null,"s811-1",null,null,"13:04:00","20:56:00"]
[null,"v814-1",null,null,"13:54:00","21:35:00"]
[null,"202-2","11:18:00","13:44:00","16:32:00","22:15:00"]
[null,"302-2","06:13:00","10:23:00","12:17:00","16:23:00"]
[null,"s817-2",null,null,"12:00:00","18:31:00"]
[null,"v818-2",null,null,"12:09:00","19:50:00"]
[null,"v819-2",null,null,"12:37:00","18:53:00"]
[null,"903-2",null,null,"15:07:00","22:39:00"]
[null,"v903-2",null,null,"17:11:00","00:54:00"]
[null,"d610-3",null,null,0.50624999999999998,0.83333333333333337]
[null,"724-3",0.17291666666666666,0.49861111111111112]
[null,"725-3","04:24:00","12:19:00"]
[null,"726-3","05:12:00","12:49:00"]
[null,"729-3","05:48:00","13:31:00"]
[null,"v733-3","06:18:00","14:03:00"]
[null,"826-3",null,null,"12:06:00","19:48:00"]
[null,"v832-3",null,null,"14:14:00","22:13:00"]
[null,"s835-3",null,null,"12:57:00","20:43:00"]
[null,"d904-3",null,null,"16:42:00","22:43:00"]
[null,"906-3",null,null,"16:01:00","22:42:00"]
[null,"d910-3",null,null,"17:06:00","23:14:00"]
[null,"735-4","04:56:00","12:27:00"]
[null,"v735-4","04:56:00","12:32:00"]
[null,"833-4",null,null,"12:31:00","20:21:00"]
[null,"834-4",null,null,"13:15:00","20:50:00"]
[null,"835-4",null,null,"14:08:00","21:28:00"]
[null,"s837-4",null,null,"12:21:00","20:06:00"]
[null,"s838-4",null,null,"12:21:00","20:15:00"]
[null,"103-5","06:35:00","09:00:00","12:57:00","18:34:00"]
[null,"v108-5","06:35:00","09:00:00","12:15:00","17:42:00"]
[null,"d613-5",null,null,"12:23:00","20:09:00"]
[null,"d614-5",null,null,"12:40:00","20:07:00"]
[null,"s725-5","05:05:00","12:53:00"]
[null,"v736-5","04:43:00","12:43:00"]
[null,"738-5","04:55:00","12:51:00"]
[null,"739-5","05:23:00","12:50:00"]
[null,"v739-5","05:51:00","13:36:00"]
[null,"837-5",null,null,"13:04:00","20:58:00"]
[null,"838-5",null,null,"13:09:00","19:49:00"]
[null,"s841-5",null,null,"01:55:00","19:27:00"]
[null,"907-5",null,null,"15:51:00","23:00:00"]
[null,"753-6","06:15:00","14:03:00"]
[null,"v108-7","06:15:00","09:23:00","13:29:00","18:21:00"]
[null,"v112-7","07:03:00","09:03:00","14:57:00","20:00:00"]
[null,"744-7","05:55:00","13:47:00"]
[null,"746-7","06:48:00","14:02:00"]
[null,"v843-7",null,null,"15:23:00","21:29:00"]
[null,"s848-7",null,null,"12:19:00","20:18:00"]
[null,"107-8","06:30:00","09:42:00","14:21:00","19:06:00"]
[null,"108-8","06:58:00","10:07:00","14:47:00","19:55:00"]
[null,"v113-8","06:30:00","09:42:00","14:08:00","19:23:00"]
[null,"v114-8","06:58:00","10:07:00","14:47:00","19:55:00"]
[null,"v307-8","05:40:00","08:58:00","11:55:00","16:31:00"]
[null,"749-8","05:25:00","13:06:00"]
[null,"v747-9","06:02:00","13:54:00"]
[null,"s733-11","06:00:00","13:29:00"]
[null,"s734-11","06:10:00","13:20:00"]
[null,"754-11","05:21:00","13:17:00"]
[null,"756-11","06:00:00","13:49:00"]
[null,"849-11",null,null,"12:36:00","20:34:00"]
[null,"s856-11",null,null,"13:49:00","21:40:00"]
[null,"s735-12","06:23:00","13:33:00"]
[null,"v752-12","05:54:00","13:40:00"]
[null,"852-12",null,null,"13:28:00","21:18:00"]
[null,"114-15","07:22:00","10:23:00","14:54:00","20:16:00"]
[null,"761-15","05:45:00","13:06:00"]
[null,"762-15","05:52:00","13:39:00"]
[null,"857-15",null,null,"12:49:00","20:17:00"]
[null,"s106-18","09:16:00","13:44:00","18:21:00","21:49:00"]
[null,"v311-18","06:00:00","10:08:00","11:47:00","15:25:00"]
[null,"s743-18","05:55:00","12:49:00"]
[null,"772-18","05:06:00","12:27:00"]
[null,"773-18","05:55:00","13:43:00"]
[null,"866-18",null,null,"11:38:00","19:12:00"]
[null,"s866-18",null,null,"13:00:00","19:19:00"]
[null,"772-21","05:58:00","13:40:00"]
[null,"773-21","06:18:00","14:04:00"]
[null,"870-21",null,null,"13:05:00","20:50:00"]
[null,"871-21",null,null,"13:19:00","21:15:00"]
[null,"s874-21",null,null,"13:03:00","21:00:00"]
[null,"v874-25",null,null,"12:16:00","20:16:00"]
[null,"876-25",null,null,"12:40:00","20:31:00"]
[null,"117-36","06:41:00","09:21:00","14:27:00","19:23:00"]
[null,"787-73","04:36:00","12:36:00"]
[null,"RP-701","04:20:00","11:56:00"]
[null,"RP-801",null,null,"11:52:00","19:28:00"]
[null,"811-1h",null,null,"13:20:00","21:20:00"]
[null,"820-2h",null,null,"12:24:00","20:22:00"]
[null,"v853-15h",null,null,"12:56:00","20:50:00"]
[null,"s870-18n",null,null,"12:25:00","20:08:00"]
[null,"876-25",null,null,"12:09:00","20:31:00"]
[null,"838-4",null,null,"12:55:00","20:50:00"]
[null,"505-3nf","07:28:00","13:39:00"]
[null,"304-15n","05:45:00","09:48:00","11:52:00","16:18:00"]
[null,"843-8n",null,null,"13:30:00","20:50:00"]
[null,"106-12","10:25:00","13:43:00","16:23:00","21:27:00"]
[null,"d904-1n",null,null,"17:49:00","23:49:00"]
[null,"812-1",null,null,"13:15:00","20:29:00"]
[null,"757-12","05:54:00","13:40:00"]
[null,"777-73","04:36:00","12:36:00"]
[null,"113-15","07:15:00","08:32:00","14:22:00","20:08:00"]
[null,"870-18",null,null,"14:27:00","22:18:00"]
[null,"825-3","11:45:00","19:19:00"]
[null,"869-18",null,null,"14:08:00","22:01:00"]
[null,"v866-18",null,null,"14:08:00","22:01:00"]
[null,"745-7","06:15:00","14:04:00"]
[null,"709-1","06:04:00","14:04:00"]
[null,"748-7","06:56:00","13:28:00"]
[null,"308-18","06:00:00","10:08:00","11:47:00","15:25:00"]
[null,"d618-18",null,null,"12:56:00","20:27:00"]
[null,"840-5",null,null,"14:11:00","21:41:00"]
[null,"304-15","05:45:00","09:48:00","11:52:00","16:18:00"]
[null,"763-21h","06:18:00","13:49:00"]
[null,"755-11","05:30:00","13:30:00"]
[null,"s844-5",null,null,"12:43:00","20:39:00"]
[null,"820-2",null,null,"12:41:00","20:04:00"]
[null,"v759-18h","04:51:00","12:26:00"]
[null,"302-3h","06:00:00","10:11:00","11:43:00","15:05:00"]
[null,"400-1h",null,null,"14:31:00",1.0375000000000001]
[null,"FOTLBJ3","07:30:00","11:30:00","12:30:00","16:21:00"]
[null,"FOTLBN1",null,null,"15:30:00","23:06:00"]
[null,"FOTLBN0",null,null,"15:00:00","22:36:00"]
[null,"FOTLBJ6","08:40:00","12:30:00","13:30:00","17:16:00"]
[null,"FOTLBM4","05:45:00","13:21:00"]
[null,"FTLBJ9","08:00:00","11:50:00","13:00:00","16:46:00"]
[null,"FOHTJ07","08:00:00","11:50:00","13:00:00","16:46:00"]
[null,"FOHTM03f","05:45:00","13:21:00"]
[null,"FOTHM07","08:00:00","11:50:00","13:00:00","16:46:00"]
[null,"FOTLBM3","05:45:00","12:51:00"]
[null,"FOTLBM2","05:30:00","13:36:00"]
[null,"905-b",null,null,"17:32:00",1.0576388888888888]
[null,"806-b",null,null,"12:57:00","20:45:00"]
[null,"808-a",null,null,"12:59:00","20:11:00"]
[null,607,null,null,"13:19:00","20:42:00"]
[null,"815-1p",null,null,"14:47:00","22:25:00"]
[null,"813-ap",null,null,"13:27:00","20:56:00"]
[null,"109-7p","07:33:00","09:41:00"]
[null,"v841-5p",null,null,"14:06:00","21:50:00"]
[null,"803-1p",null,null,"11:46:00","19:21:00"]
[null,"902-ap",null,null,"16:20:00",1.0125]
[null,"106-21","10:25:00","13:43:00","16:23:00","21:27:00"]
[null,"v777-73","04:36:00","12:36:00"]
[null,"s106-21","10:25","13:43:00"]
[null,"v759-18p","04:51:00","12:26:00"]
[null,"s808-a",null,null,"12:59:00","20:11:00"]
[null,"d607-a",null,null,"13:19:00","20:42:00"]
[null,"s872-18p",null,null,"13:07:00","20:52:00"]
[null,"v841-5",null,null,"14:06:00","21:50:00"]
[null,"902-a",null,null,"16:20:00",1.0125]
[null,"809-1p",null,null,"12:25:00","20:16:00"]
[null,"v864-21p",null,null,"13:28:00","21:18:00"]
[null,"s719-3p","05:49:00","13:36:00"]
[null,"801-rh",null,null,"13:30:00","21:06:00"]
[null,"805-a",null,null,"12:03:00","20:02:00"]
[null,"808-b",null,null,"14:23:00","21:54:00"]
[null,"s864-15",null,null,"14:23:00","21:54:00"]
[null,"705-1p","05:49:00","13:30:00"]
[null,"714-a","06:35:00","14:02:00"]
[null,"708-a","05:09:00","13:00:00"]
[null,"801-rh",null,null,"13:30:00","21:06:00"]
[null,"805-a",null,null,"12:03:00","20:02:00"]
[null,"104-3","09:10:00","13:07:00","17:10:00","21:37:00"]
[null,"203-8","11:30:00","14:05:00","15:32:00","21:30:00"]
[null,"v723-2","05:54:00","13:20:00"]
[null,"d905-a",null,null,"18:04:00",1.0680555555555555]
[null,"869-18 2",null,null,"14:06:00","22:01:00"]
[null,"809-a",null,null,"13:12:00","21:07:00"]
[null,"712-1","06:33:00","13:38:00"]
[null,"711-a","05:53:00","13:28:00"]
[null,"732-3","06:18:00","13:42:00"]
[null,"302-b","07:58:00","12:22:00","13:17:00","17:04:00"]
[null,"809-1",null,null,"12:38:00","19:57:00"]
[null,"712-2","04:59:00","12:58:00"]
[null,"744-a","05:09:00","12:39:00"]
[null,"Form","05:46:00","13:31:00"]
[null,"304-4","05:41:00","11:35:00","12:39:00","14:41:00"]
[null,"v309-18","05:55:00","10:47:00","12:02:00","15:30:00"]
[null,"303-3e","06:46:00","10:50:00","12:39:00","15:47:00"]
[null,"s506-3e","07:42:00","13:42:00"]
[null,"d510-lae","06:30:00","13:30:00"]
[null,"911-lae",null,null,"17:20:00","23:51:00"]
[null,"201-lae","09:13:00","11:58:00","13:15:00","17:44:00"]
[null,"v836-lae",null,null,"12:35:00","19:57:00"]
[null,"s915-lae",null,null,"16:26:00","23:51:00"]
[null,"302-1e","08:29:00","12:16:00","13:20:00","16:33:00"]
[null,"301-ae","05:35:00","08:24:00","11:56:00","15:52:00"]
[null,"736-lae","03:35:00","10:51:00"]
[null,"802-be",null,null,"12:14:00","19:47:00"]
[null,"d603-ae",null,null,"12:18:00","19:31:00"]
[null,"827-12e",null,null,"12:58:00","20:40:00"]
[null,"v701-rhe",null,null,"12:58:00","20:40:00"]
[null,"s711-2e","05:42:00","13:07:00"]
[null,"835-lae","05:13:00","13:11:00"]
[null,"s724-5e","04:55:00","12:46:00"]
[null,"739-lae","05:13:00","13:11:00"]
[null,"s724-5e","04:55:00","12:46:00"]
[null,"v901-ae",null,null,"14:30:00","22:23:00"]
[null,"s912-11e",null,null,"15:09:00","23:08:00"]
[null,"v834-lae",null,null,"11:45:00","19:27:00"]
[null,"s905-2",null,null,"14:55:00","22:43:00"]
[null,"735-3","06:47:00","13:52:00"]
[null,"717-2","04:59:00","12:58:00"]
[null,"723-2","06:28:00","14:04:00"]
[null,"v709-b","06:09:00","13:58:00"]
[null,"799-3e","05:28:00","13:16:00"]
[null,"202-lae","10:45:00","11:38:00","17:28:00","21:38:00"]
[null,"911-lae",null,null,"17:20:00","23:51:00"]
[null,"730-18e","05:01:00","12:49:00"]
[null,"v301-ae","05:35:00","08:24:00","11:56:00","15:52:00"]
[null,"801-rhe",null,null,"12:57:00","20:36:00"]

{"sheet":"Janvier","index":1,"n_rows":45,"n_cols":23,"rows_kept":45,"cut":false,"hidden":false,"merged":[[0,1,0,22],[44,5,44,17],[1,19,1,22],[2,4,2,5],[2,7,2,8],[35,8,35,9],[37,19,37,20],[39,19,39,20],[41,17,41,18]]}
[null,"JANVIER"]
[null,null,null,null,null,null,null,null,null,null,null,null,null,null,null,null,null,null,null,"TOTAL"]
[null,"Date","Services","Obs.","MATIN",null,"Temps","APRES MIDI",null,"Temps","Prime nuit","PJ1","PJ2","Dimanche","Férié","ChècDej","PrimAmp","H Supp","Ampli","Heures","Centièmes","Kéolis","Écart"]
[null,"2018-01-01","505-3nf","HE",{"$f":"IFERROR(VLOOKUP(C4,TR!$B$2:$F$633,2,0),\"\")","v":"07:28:00"},{"$f":"IFERROR(VLOOKUP(C4,TR!$B$2:$F$633,3,0),\"\")","v":"13:39:00"},{"$f":"IF(ISERROR(F4-E4),0,F4-E4)","v":"06:11:00"},{"$f":"IFERROR(VLOOKUP(C4,TR!$B$2:$F$633,4,0),\"\")","v":"00:00:00"},{"$f":"IFERROR(VLOOKUP(C4,TR!$B$2:$F$633,5,0),\"\")","v":"00:00:00"},{"$f":"IF(ISERROR(I4-H4),0,(I4-H4))","v":"00:00:00"},{"$f":"IF(COUNTA(E4:F4,H4:I4)=5,1,IF(AND(E4<\"5:00\"*1,E4>\"2:00\"*1),1,IF(AND(I4>=\"22:01\"*1,I4<=\"26:01\"*1),1,IF(AND(I4<=\"22:00\"*1,SUM(I4,R4)>=\"22:01\"*1),1,\"\"))))","v":""},{"$f":"IF(AND(F4>=\"13:15\"*1,H4<\"\"),1,IF(AND(H4>=\"11:00\"*1,H4<=\"12:15\"*1),1,IF(AND(F4<=\"13:15\"*1,SUM(F4,R4)>=\"13:15\"*1),1,\"\")))","v":1},{"$f":"IF(AND(I4>=\"19:30\"*1,1,I4>\"21:30\"*1,C4<>\"\"),1,IF(AND(I4<=\"21:30\"*1,SUM(I4,R4)>=\"21:30\"*1),1,\"\"))","v":""},{"$f":"IF(AND(LEFT(C4,1)=\"d\",AND(N3<>1)),1,IF(AND(LEFT(C4,1)=\"s\",I4>=\"24:01\"*1),1,IF(AND(I4<>\"\",I4<=\"23:59\"*1,SUM(I4,R4)>=\"24:01\"*1),1,\"\")))","v":""},{"$f":"IF(AND(I4>\"24:00\"*1,ISNUMBER(FIND(\"f\",C5))),1,IF(AND(OR(ISNUMBER(FIND(\"FériéCC\",C4)),ISNUMBER(FIND(\"FériéCH\",C4)),ISNUMBER(FIND(\"f\",C4)))),1,\"\"))","v":1},{"$f":"IF(AND(L4=\"\",M4=\"\"),IF(OR(SUMPRODUCT(N(ISNUMBER(FIND({\"s\";\"d\";\"f\"},C4))))>0,G4+J4<0,AND(G4>0,J4>0,I4>\"20:30\"*1),AND(I4<=\"20:30\"*1,SUM(I4,R4)>=\"20:31\"*1)),1,\"\"),\"\")","v":""},{"$f":"IF(OR(AND(G4>0,AND(J4=0)),OR(G4=0,AND(J4>0)),OR(G4+J4>0)),IF(S4=\"\",\"\",IF(R4+S4>=\"13:01\"*1,1,\"\")))","v":""},null,{"$f":"IF(G4=0,IF(J4=0,\"\",I4-H4),IF(J4=0,F4-E4,I4-E4))","v":"06:11:00"},{"$f":"IF(ISERROR((F4-E4)+(I4-H4)),0,(F4-E4)+(I4-H4))","v":0.25763888888888886},{"$f":"T4*24","v":6.1833333333333327},0,{"$f":"IF(U4-V4=0,\"0,00\",U4-V4)","v":6.1833333333333327}]
[null,"2018-01-02","304-15n",null,{"$f":"IFERROR(VLOOKUP(C5,TR!$B$2:$F$633,2,0),\"\")","v":"05:45:00"},{"$f":"IFERROR(VLOOKUP(C5,TR!$B$2:$F$633,3,0),\"\")","v":"09:48:00"},{"$f":"IF(ISERROR(F5-E5),0,F5-E5)","v":"04:03:00"},{"$f":"IFERROR(VLOOKUP(C5,TR!$B$2:$F$633,4,0),\"\")","v":"11:52:00"},{"$f":"IFERROR(VLOOKUP(C5,TR!$B$2:$F$633,5,0),\"\")","v":"16:18:00"},{"$f":"IF(ISERROR(I5-H5),0,(I5-H5))","v":"04:26:00"},"",1,"","",{"$f":"IF(AND(I5>\"24:00\"*1,ISNUMBER(FIND(\"f\",C6))),1,IF(AND(OR(ISNUMBER(FIND(\"FériéCC\",C5)),ISNUMBER(FIND(\"FériéCH\",C5)),ISNUMBER(FIND(\"f\",C5)))),1,\"\"))","v":""},{"$f":"IF(AND(L5=\"\",M5=\"\"),IF(OR(SUMPRODUCT(N(ISNUMBER(FIND({\"s\";\"d\";\"f\"},C5))))>0,G5+J5<0,AND(G5>0,J5>0,I5>\"20:30\"*1),AND(I5<=\"20:30\"*1,SUM(I5,R5)>=\"20:31\"*1)),1,\"\"),\"\")","v":""},{"$f":"IF(OR(AND(G5>0,AND(J5=0)),OR(G5=0,AND(J5>0)),OR(G5+J5>0)),IF(S5=\"\",\"\",IF(R5+S5>=\"13:01\"*1,1,\"\")))","v":""},null,"10:33:00",{"$f":"IF(ISERROR((F5-E5)+(I5-H5)),0,(F5-E5)+(I5-H5))","v":0.35347222222222219},{"$f":"T5*24","v":8.4833333333333325},8,{"$f":"IF(U5-V5=0,\"0,00\",U5-V5)","v":0.4833333333333325}]
[null,"2018-01-03","RT",null,{"$f":"IFERROR(VLOOKUP(C6,TR!$B$2:$F$633,2,0),\"\")","v":"00:00:00"},{"$f":"IFERROR(VLOOKUP(C6,TR!$B$2:$F$633,3,0),\"\")","v":"00:00:00"},"00:00:00",{"$f":"IFERROR(VLOOKUP(C6,TR!$B$2:$F$633,4,0),\"\")","v":"00:00:00"},{"$f":"IFERROR(VLOOKUP(C6,TR!$B$2:$F$633,5,0),\"\")","v":"00:00:00"},"00:00:00","","","","","",{"$f":"IF(AND(L6=\"\",M6=\"\"),IF(OR(SUMPRODUCT(N(ISNUMBER(FIND({\"s\";\"d\";\"f\"},C6))))>0,G6+J6<0,AND(G6>0,J6>0,I6>\"20:30\"*1),AND(I6<=\"20:30\"*1,SUM(I6,R6)>=\"20:31\"*1)),1,\"\"),\"\")","v":""},"",null,"",0,{"$f":"T6*24","v":0},0,"0,00"]
[null,"2018-01-04","843-8n",null,{"$f":"IFERROR(VLOOKUP(C7,TR!$B$2:$F$633,2,0),\"\")","v":"00:00:00"},{"$f":"IFERROR(VLOOKUP(C7,TR!$B$2:$F$633,3,0),\"\")","v":"00:00:00"},"00:00:00",{"$f":"IFERROR(VLOOKUP(C7,TR!$B$2:$F$633,4,0),\"\")","v":"13:30:00"},{"$f":"IFERROR(VLOOKUP(C7,TR!$B$2:$F$633,5,0),\"\")","v":"20:50:00"},"07:20:00","","","","","",{"$f":"IF(AND(L7=\"\",M7=\"\"),IF(OR(SUMPRODUCT(N(ISNUMBER(FIND({\"s\";\"d\";\"f\"},C7))))>0,G7+J7<0,AND(G7>0,J7>0,I7>\"20:30\"*1),AND(I7<=\"20:30\"*1,SUM(I7,R7)>=\"20:31\"*1)),1,\"\"),\"\")","v":""},"",null,"07:20:00",0.30555555555555558,{"$f":"T7*24","v":7.3333333333333339},7.97,-0.63666666666666583]
[null,"2018-01-05","CH",null,{"$f":"IFERROR(VLOOKUP(C8,TR!$B$2:$F$633,2,0),\"\")","v":"00:00:00"},{"$f":"IFERROR(VLOOKUP(C8,TR!$B$2:$F$633,3,0),\"\")","v":"00:00:00"},"00:00:00",{"$f":"IFERROR(VLOOKUP(C8,TR!$B$2:$F$633,4,0),\"\")","v":"00:00:00"},{"$f":"IFERROR(VLOOKUP(C8,TR!$B$2:$F$633,5,0),\"\")","v":"00:00:00"},"00:00:00","","","","","",{"$f":"IF(AND(L8=\"\",M8=\"\"),IF(OR(SUMPRODUCT(N(ISNUMBER(FIND({\"s\";\"d\";\"f\"},C8))))>0,G8+J8<0,AND(G8>0,J8>0,I8>\"20:30\"*1),AND(I8<=\"20:30\"*1,SUM(I8,R8)>=\"20:31\"*1)),1,\"\"),\"\")","v":""},"",null,"",0,0,7.9,-7.9]
[null,"2018-01-06","s870-18n",null,{"$f":"IFERROR(VLOOKUP(C9,TR!$B$2:$F$633,2,0),\"\")","v":"00:00:00"},{"$f":"IFERROR(VLOOKUP(C9,TR!$B$2:$F$633,3,0),\"\")","v":"00:00:00"},"00:00:00",{"$f":"IFERROR(VLOOKUP(C9,TR!$B$2:$F$633,4,0),\"\")","v":"12:25:00"},{"$f":"IFERROR(VLOOKUP(C9,TR!$B$2:$F$633,5,0),\"\")","v":"20:08:00"},"07:43:00","","","","","",{"$f":"IF(AND(L9=\"\",M9=\"\"),IF(OR(SUMPRODUCT(N(ISNUMBER(FIND({\"s\";\"d\";\"f\"},C9))))>0,G9+J9<0,AND(G9>0,J9>0,I9>\"20:30\"*1),AND(I9<=\"20:30\"*1,SUM(I9,R9)>=\"20:31\"*1)),1,\"\"),\"\")","v":1},"",null,"07:43:00",0.32152777777777775,7.7166666666666659,7.72,-3.3333333333338544E-3]
[null,"2018-01-07","d904-1n",null,{"$f":"IFERROR(VLOOKUP(C10,TR!$B$2:$F$633,2,0),\"\")","v":"00:00:00"},{"$f":"IFERROR(VLOOKUP(C10,TR!$B$2:$F$633,3,0),\"\")","v":"00:00:00"},"00:00:00",{"$f":"IFERROR(VLOOKUP(C10,TR!$B$2:$F$633,4,0),\"\")","v":"17:49:00"},{"$f":"IFERROR(VLOOKUP(C10,TR!$B$2:$F$633,5,0),\"\")","v":"23:49:00"},"06:00:00",1,"",1,1,"",{"$f":"IF(AND(L10=\"\",M10=\"\"),IF(OR(SUMPRODUCT(N(ISNUMBER(FIND({\"s\";\"d\";\"f\"},C10))))>0,G10+J10<0,AND(G10>0,J10>0,I10>\"20:30\"*1),AND(I10<=\"20:30\"*1,SUM(I10,R10)>=\"20:31\"*1)),1,\"\"),\"\")","v":""},"",null,"06:00:00",0.25,6,0,6]
[null,"2018-01-08","812-1",null,{"$f":"IFERROR(VLOOKUP(C11,TR!$B$2:$F$633,2,0),\"\")","v":"00:00:00"},{"$f":"IFERROR(VLOOKUP(C11,TR!$B$2:$F$633,3,0),\"\")","v":"00:00:00"},"00:00:00",{"$f":"IFERROR(VLOOKUP(C11,TR!$B$2:$F$633,4,0),\"\")","v":"13:15:00"},{"$f":"IFERROR(VLOOKUP(C11,TR!$B$2:$F$633,5,0),\"\")","v":"20:29:00"},"07:14:00","","","","","",{"$f":"IF(AND(L11=\"\",M11=\"\"),IF(OR(SUMPRODUCT(N(ISNUMBER(FIND({\"s\";\"d\";\"f\"},C11))))>0,G11+J11<0,AND(G11>0,J11>0,I11>\"20:30\"*1),AND(I11<=\"20:30\"*1,SUM(I11,R11)>=\"20:31\"*1)),1,\"\"),\"\")","v":""},"",null,"07:14:00",0.30138888888888882,7.2333333333333316,7.85,-0.61666666666666803]
[null,"2018-01-09","CC",null,{"$f":"IFERROR(VLOOKUP(C12,TR!$B$2:$F$633,2,0),\"\")","v":"00:00:00"},{"$f":"IFERROR(VLOOKUP(C12,TR!$B$2:$F$633,3,0),\"\")","v":"00:00:00"},"00:00:00",{"$f":"IFERROR(VLOOKUP(C12,TR!$B$2:$F$633,4,0),\"\")","v":"00:00:00"},{"$f":"IFERROR(VLOOKUP(C12,TR!$B$2:$F$633,5,0),\"\")","v":"00:00:00"},"00:00:00","","","","","",{"$f":"IF(AND(L12=\"\",M12=\"\"),IF(OR(SUMPRODUCT(N(ISNUMBER(FIND({\"s\";\"d\";\"f\"},C12))))>0,G12+J12<0,AND(G12>0,J12>0,I12>\"20:30\"*1),AND(I12<=\"20:30\"*1,SUM(I12,R12)>=\"20:31\"*1)),1,\"\"),\"\")","v":""},"",null,"",0,0,8.35,-8.35]
[null,"2018-01-10","CC","RDU",{"$f":"IFERROR(VLOOKUP(C13,TR!$B$2:$F$633,2,0),\"\")","v":"00:00:00"},{"$f":"IFERROR(VLOOKUP(C13,TR!$B$2:$F$633,3,0),\"\")","v":"00:00:00"},"00:00:00",{"$f":"IFERROR(VLOOKUP(C13,TR!$B$2:$F$633,4,0),\"\")","v":"00:00:00"},{"$f":"IFERROR(VLOOKUP(C13,TR!$B$2:$F$633,5,0),\"\")","v":"00:00:00"},"00:00:00","","","","","",{"$f":"IF(AND(L13=\"\",M13=\"\"),IF(OR(SUMPRODUCT(N(ISNUMBER(FIND({\"s\";\"d\";\"f\"},C13))))>0,G13+J13<0,AND(G13>0,J13>0,I13>\"20:30\"*1),AND(I13<=\"20:30\"*1,SUM(I13,R13)>=\"20:31\"*1)),1,\"\"),\"\")","v":""},"",null,"",0,0,7.92,-7.92]
[null,"2018-01-11","757-12",null,{"$f":"IFERROR(VLOOKUP(C14,TR!$B$2:$F$633,2,0),\"\")","v":"05:54:00"},{"$f":"IFERROR(VLOOKUP(C14,TR!$B$2:$F$633,3,0),\"\")","v":"13:40:00"},"07:46:00",{"$f":"IFERROR(VLOOKUP(C14,TR!$B$2:$F$633,4,0),\"\")","v":"00:00:00"},{"$f":"IFERROR(VLOOKUP(C14,TR!$B$2:$F$633,5,0),\"\")","v":"00:00:00"},"00:00:00","",1,"","","",{"$f":"IF(AND(L14=\"\",M14=\"\"),IF(OR(SUMPRODUCT(N(ISNUMBER(FIND({\"s\";\"d\";\"f\"},C14))))>0,G14+J14<0,AND(G14>0,J14>0,I14>\"20:30\"*1),AND(I14<=\"20:30\"*1,SUM(I14,R14)>=\"20:31\"*1)),1,\"\"),\"\")","v":""},"",null,"07:46:00",0.32361111111111107,7.7666666666666657,6.67,1.0966666666666658]
[null,"2018-01-12","777-73",null,{"$f":"IFERROR(VLOOKUP(C15,TR!$B$2:$F$633,2,0),\"\")","v":"04:36:00"},{"$f":"IFERROR(VLOOKUP(C15,TR!$B$2:$F$633,3,0),\"\")","v":"12:36:00"},"08:00:00",{"$f":"IFERROR(VLOOKUP(C15,TR!$B$2:$F$633,4,0),\"\")","v":"00:00:00"},{"$f":"IFERROR(VLOOKUP(C15,TR!$B$2:$F$633,5,0),\"\")","v":"00:00:00"},"00:00:00",1,"","","","",{"$f":"IF(AND(L15=\"\",M15=\"\"),IF(OR(SUMPRODUCT(N(ISNUMBER(FIND({\"s\";\"d\";\"f\"},C15))))>0,G15+J15<0,AND(G15>0,J15>0,I15>\"20:30\"*1),AND(I15<=\"20:30\"*1,SUM(I15,R15)>=\"20:31\"*1)),1,\"\"),\"\")","v":""},"",null,"08:00:00",0.33333333333333337,8,7.68,0.32000000000000028]
[null,"2018-01-13","CC",null,{"$f":"IFERROR(VLOOKUP(C16,TR!$B$2:$F$633,2,0),\"\")","v":"00:00:00"},{"$f":"IFERROR(VLOOKUP(C16,TR!$B$2:$F$633,3,0),\"\")","v":"00:00:00"},"00:00:00",{"$f":"IFERROR(VLOOKUP(C16,TR!$B$2:$F$633,4,0),\"\")","v":"00:00:00"},{"$f":"IFERROR(VLOOKUP(C16,TR!$B$2:$F$633,5,0),\"\")","v":"00:00:00"},"00:00:00","","","","","",{"$f":"IF(AND(L16=\"\",M16=\"\"),IF(OR(SUMPRODUCT(N(ISNUMBER(FIND({\"s\";\"d\";\"f\"},C16))))>0,G16+J16<0,AND(G16>0,J16>0,I16>\"20:30\"*1),AND(I16<=\"20:30\"*1,SUM(I16,R16)>=\"20:31\"*1)),1,\"\"),\"\")","v":""},"",null,"",0,0,0,"0,00"]
[null,"2018-01-14","CH",null,{"$f":"IFERROR(VLOOKUP(C17,TR!$B$2:$F$633,2,0),\"\")","v":"00:00:00"},{"$f":"IFERROR(VLOOKUP(C17,TR!$B$2:$F$633,3,0),\"\")","v":"00:00:00"},"00:00:00",{"$f":"IFERROR(VLOOKUP(C17,TR!$B$2:$F$633,4,0),\"\")","v":"00:00:00"},{"$f":"IFERROR(VLOOKUP(C17,TR!$B$2:$F$633,5,0),\"\")","v":"00:00:00"},"00:00:00","","","","","",{"$f":"IF(AND(L17=\"\",M17=\"\"),IF(OR(SUMPRODUCT(N(ISNUMBER(FIND({\"s\";\"d\";\"f\"},C17))))>0,G17+J17<0,AND(G17>0,J17>0,I17>\"20:30\"*1),AND(I17<=\"20:30\"*1,SUM(I17,R17)>=\"20:31\"*1)),1,\"\"),\"\")","v":""},"",null,"",0,0,0,"0,00"]
[null,"2018-01-15","113-15",null,{"$f":"IFERROR(VLOOKUP(C18,TR!$B$2:$F$633,2,0),\"\")","v":"07:15:00"},{"$f":"IFERROR(VLOOKUP(C18,TR!$B$2:$F$633,3,0),\"\")","v":"08:32:00"},"01:17:00",{"$f":"IFERROR(VLOOKUP(C18,TR!$B$2:$F$633,4,0),\"\")","v":"14:22:00"},{"$f":"IFERROR(VLOOKUP(C18,TR!$B$2:$F$633,5,0),\"\")","v":"20:08:00"},"05:46:00","","","","","",{"$f":"IF(AND(L18=\"\",M18=\"\"),IF(OR(SUMPRODUCT(N(ISNUMBER(FIND({\"s\";\"d\";\"f\"},C18))))>0,G18+J18<0,AND(G18>0,J18>0,I18>\"20:30\"*1),AND(I18<=\"20:30\"*1,SUM(I18,R18)>=\"20:31\"*1)),1,\"\"),\"\")","v":""},"",null,"12:53:00",{"$f":"IF(ISERROR((F18-E18)+(I18-H18)),0,(F18-E18)+(I18-H18))","v":0.29375000000000007},7.0500000000000016,0,7.0500000000000016]
[null,"2018-01-16","870-18",null,{"$f":"IFERROR(VLOOKUP(C19,TR!$B$2:$F$633,2,0),\"\")","v":"00:00:00"},{"$f":"IFERROR(VLOOKUP(C19,TR!$B$2:$F$633,3,0),\"\")","v":"00:00:00"},"00:00:00",{"$f":"IFERROR(VLOOKUP(C19,TR!$B$2:$F$633,4,0),\"\")","v":"14:27:00"},{"$f":"IFERROR(VLOOKUP(C19,TR!$B$2:$F$633,5,0),\"\")","v":"22:18:00"},"07:51:00",1,"",1,"","",{"$f":"IF(AND(L19=\"\",M19=\"\"),IF(OR(SUMPRODUCT(N(ISNUMBER(FIND({\"s\";\"d\";\"f\"},C19))))>0,G19+J19<0,AND(G19>0,J19>0,I19>\"20:30\"*1),AND(I19<=\"20:30\"*1,SUM(I19,R19)>=\"20:31\"*1)),1,\"\"),\"\")","v":""},"",null,"07:51:00",0.32708333333333339,7.8500000000000014,0,7.8500000000000014]
[null,"2018-01-17","825-3",null,{"$f":"IFERROR(VLOOKUP(C20,TR!$B$2:$F$633,2,0),\"\")","v":"11:45:00"},{"$f":"IFERROR(VLOOKUP(C20,TR!$B$2:$F$633,3,0),\"\")","v":"19:19:00"},"07:34:00",{"$f":"IFERROR(VLOOKUP(C20,TR!$B$2:$F$633,4,0),\"\")","v":"00:00:00"},{"$f":"IFERROR(VLOOKUP(C20,TR!$B$2:$F$633,5,0),\"\")","v":"00:00:00"},"00:00:00","",1,"","","",{"$f":"IF(AND(L20=\"\",M20=\"\"),IF(OR(SUMPRODUCT(N(ISNUMBER(FIND({\"s\";\"d\";\"f\"},C20))))>0,G20+J20<0,AND(G20>0,J20>0,I20>\"20:30\"*1),AND(I20<=\"20:30\"*1,SUM(I20,R20)>=\"20:31\"*1)),1,\"\"),\"\")","v":""},"",null,"07:34:00",0.31527777777777782,7.5666666666666682,7.82,-0.25333333333333208]
[null,"2018-01-18","869-18",null,{"$f":"IFERROR(VLOOKUP(C21,TR!$B$2:$F$633,2,0),\"\")","v":"00:00:00"},{"$f":"IFERROR(VLOOKUP(C21,TR!$B$2:$F$633,3,0),\"\")","v":"00:00:00"},"00:00:00",{"$f":"IFERROR(VLOOKUP(C21,TR!$B$2:$F$633,4,0),\"\")","v":"14:08:00"},{"$f":"IFERROR(VLOOKUP(C21,TR!$B$2:$F$633,5,0),\"\")","v":"22:01:00"},"07:53:00",1,"",1,"","",{"$f":"IF(AND(L21=\"\",M21=\"\"),IF(OR(SUMPRODUCT(N(ISNUMBER(FIND({\"s\";\"d\";\"f\"},C21))))>0,G21+J21<0,AND(G21>0,J21>0,I21>\"20:30\"*1),AND(I21<=\"20:30\"*1,SUM(I21,R21)>=\"20:31\"*1)),1,\"\"),\"\")","v":""},"",null,"07:53:00",0.32847222222222217,7.883333333333332,7.52,0.3633333333333324]
[null,"2018-01-19","v866-18",null,{"$f":"IFERROR(VLOOKUP(C22,TR!$B$2:$F$633,2,0),\"\")","v":"00:00:00"},{"$f":"IFERROR(VLOOKUP(C22,TR!$B$2:$F$633,3,0),\"\")","v":"00:00:00"},"00:00:00",{"$f":"IFERROR(VLOOKUP(C22,TR!$B$2:$F$633,4,0),\"\")","v":"14:08:00"},{"$f":"IFERROR(VLOOKUP(C22,TR!$B$2:$F$633,5,0),\"\")","v":"22:01:00"},"07:53:00",1,"",1,"","",{"$f":"IF(AND(L22=\"\",M22=\"\"),IF(OR(SUMPRODUCT(N(ISNUMBER(FIND({\"s\";\"d\";\"f\"},C22))))>0,G22+J22<0,AND(G22>0,J22>0,I22>\"20:30\"*1),AND(I22<=\"20:30\"*1,SUM(I22,R22)>=\"20:31\"*1)),1,\"\"),\"\")","v":""},"",null,"07:53:00",0.32847222222222217,7.883333333333332,7.65,0.23333333333333162]
[null,"2018-01-20","CC",null,{"$f":"IFERROR(VLOOKUP(C23,TR!$B$2:$F$633,2,0),\"\")","v":"00:00:00"},{"$f":"IFERROR(VLOOKUP(C23,TR!$B$2:$F$633,3,0),\"\")","v":"00:00:00"},"00:00:00",{"$f":"IFERROR(VLOOKUP(C23,TR!$B$2:$F$633,4,0),\"\")","v":"00:00:00"},{"$f":"IFERROR(VLOOKUP(C23,TR!$B$2:$F$633,5,0),\"\")","v":"00:00:00"},"00:00:00","","","","","",{"$f":"IF(AND(L23=\"\",M23=\"\"),IF(OR(SUMPRODUCT(N(ISNUMBER(FIND({\"s\";\"d\";\"f\"},C23))))>0,G23+J23<0,AND(G23>0,J23>0,I23>\"20:30\"*1),AND(I23<=\"20:30\"*1,SUM(I23,R23)>=\"20:31\"*1)),1,\"\"),\"\")","v":""},"",null,"",0,0,7.8,-7.8]
[null,"2018-01-21","CH",null,{"$f":"IFERROR(VLOOKUP(C24,TR!$B$2:$F$633,2,0),\"\")","v":"00:00:00"},{"$f":"IFERROR(VLOOKUP(C24,TR!$B$2:$F$633,3,0),\"\")","v":"00:00:00"},"00:00:00",{"$f":"IFERROR(VLOOKUP(C24,TR!$B$2:$F$633,4,0),\"\")","v":"00:00:00"},{"$f":"IFERROR(VLOOKUP(C24,TR!$B$2:$F$633,5,0),\"\")","v":"00:00:00"},"00:00:00","","","","","",{"$f":"IF(AND(L24=\"\",M24=\"\"),IF(OR(SUMPRODUCT(N(ISNUMBER(FIND({\"s\";\"d\";\"f\"},C24))))>0,G24+J24<0,AND(G24>0,J24>0,I24>\"20:30\"*1),AND(I24<=\"20:30\"*1,SUM(I24,R24)>=\"20:31\"*1)),1,\"\"),\"\")","v":""},"",null,"",0,0,0,"0,00"]
[null,"2018-01-22","745-7",null,{"$f":"IFERROR(VLOOKUP(C25,TR!$B$2:$F$633,2,0),\"\")","v":"06:15:00"},{"$f":"IFERROR(VLOOKUP(C25,TR!$B$2:$F$633,3,0),\"\")","v":"14:04:00"},"07:49:00",{"$f":"IFERROR(VLOOKUP(C25,TR!$B$2:$F$633,4,0),\"\")","v":"00:00:00"},{"$f":"IFERROR(VLOOKUP(C25,TR!$B$2:$F$633,5,0),\"\")","v":"00:00:00"},"00:00:00","",1,"","","",{"$f":"IF(AND(L25=\"\",M25=\"\"),IF(OR(SUMPRODUCT(N(ISNUMBER(FIND({\"s\";\"d\";\"f\"},C25))))>0,G25+J25<0,AND(G25>0,J25>0,I25>\"20:30\"*1),AND(I25<=\"20:30\"*1,SUM(I25,R25)>=\"20:31\"*1)),1,\"\"),\"\")","v":""},"",null,"07:49:00",0.32569444444444445,7.8166666666666664,7.32,0.49666666666666615]
[null,"2018-01-23","709-1",null,{"$f":"IFERROR(VLOOKUP(C26,TR!$B$2:$F$633,2,0),\"\")","v":"06:04:00"},{"$f":"IFERROR(VLOOKUP(C26,TR!$B$2:$F$633,3,0),\"\")","v":"14:04:00"},"08:00:00",{"$f":"IFERROR(VLOOKUP(C26,TR!$B$2:$F$633,4,0),\"\")","v":"00:00:00"},{"$f":"IFERROR(VLOOKUP(C26,TR!$B$2:$F$633,5,0),\"\")","v":"00:00:00"},"00:00:00","",1,"","","",{"$f":"IF(AND(L26=\"\",M26=\"\"),IF(OR(SUMPRODUCT(N(ISNUMBER(FIND({\"s\";\"d\";\"f\"},C26))))>0,G26+J26<0,AND(G26>0,J26>0,I26>\"20:30\"*1),AND(I26<=\"20:30\"*1,SUM(I26,R26)>=\"20:31\"*1)),1,\"\"),\"\")","v":""},"",null,"08:00:00",0.33333333333333337,8,7.33,0.66999999999999993]
[null,"2018-01-24","748-7",null,{"$f":"IFERROR(VLOOKUP(C27,TR!$B$2:$F$633,2,0),\"\")","v":"06:56:00"},{"$f":"IFERROR(VLOOKUP(C27,TR!$B$2:$F$633,3,0),\"\")","v":"13:28:00"},"06:32:00",{"$f":"IFERROR(VLOOKUP(C27,TR!$B$2:$F$633,4,0),\"\")","v":"00:00:00"},{"$f":"IFERROR(VLOOKUP(C27,TR!$B$2:$F$633,5,0),\"\")","v":"00:00:00"},"00:00:00","",1,"","","",{"$f":"IF(AND(L27=\"\",M27=\"\"),IF(OR(SUMPRODUCT(N(ISNUMBER(FIND({\"s\";\"d\";\"f\"},C27))))>0,G27+J27<0,AND(G27>0,J27>0,I27>\"20:30\"*1),AND(I27<=\"20:30\"*1,SUM(I27,R27)>=\"20:31\"*1)),1,\"\"),\"\")","v":""},"",null,"06:32:00",0.27222222222222225,6.5333333333333341,7.57,-1.0366666666666662]
[null,"2018-01-25","308-18",null,{"$f":"IFERROR(VLOOKUP(C28,TR!$B$2:$F$633,2,0),\"\")","v":"06:00:00"},{"$f":"IFERROR(VLOOKUP(C28,TR!$B$2:$F$633,3,0),\"\")","v":"10:08:00"},"04:08:00",{"$f":"IFERROR(VLOOKUP(C28,TR!$B$2:$F$633,4,0),\"\")","v":"11:47:00"},{"$f":"IFERROR(VLOOKUP(C28,TR!$B$2:$F$633,5,0),\"\")","v":"15:25:00"},"03:38:00","",1,"","","",{"$f":"IF(AND(L28=\"\",M28=\"\"),IF(OR(SUMPRODUCT(N(ISNUMBER(FIND({\"s\";\"d\";\"f\"},C28))))>0,G28+J28<0,AND(G28>0,J28>0,I28>\"20:30\"*1),AND(I28<=\"20:30\"*1,SUM(I28,R28)>=\"20:31\"*1)),1,\"\"),\"\")","v":""},"",null,"09:25:00",0.32361111111111118,7.7666666666666684,0,7.7666666666666684]
[null,"2018-01-26","RT",null,{"$f":"IFERROR(VLOOKUP(C29,TR!$B$2:$F$633,2,0),\"\")","v":"00:00:00"},{"$f":"IFERROR(VLOOKUP(C29,TR!$B$2:$F$633,3,0),\"\")","v":"00:00:00"},"00:00:00",{"$f":"IFERROR(VLOOKUP(C29,TR!$B$2:$F$633,4,0),\"\")","v":"00:00:00"},{"$f":"IFERROR(VLOOKUP(C29,TR!$B$2:$F$633,5,0),\"\")","v":"00:00:00"},"00:00:00","","","","","",{"$f":"IF(AND(L29=\"\",M29=\"\"),IF(OR(SUMPRODUCT(N(ISNUMBER(FIND({\"s\";\"d\";\"f\"},C29))))>0,G29+J29<0,AND(G29>0,J29>0,I29>\"20:30\"*1),AND(I29<=\"20:30\"*1,SUM(I29,R29)>=\"20:31\"*1)),1,\"\"),\"\")","v":""},"",null,"",0,0,8,-8]
[null,"2018-01-27","CC",null,{"$f":"IFERROR(VLOOKUP(C30,TR!$B$2:$F$633,2,0),\"\")","v":"00:00:00"},{"$f":"IFERROR(VLOOKUP(C30,TR!$B$2:$F$633,3,0),\"\")","v":"00:00:00"},"00:00:00",{"$f":"IFERROR(VLOOKUP(C30,TR!$B$2:$F$633,4,0),\"\")","v":"00:00:00"},{"$f":"IFERROR(VLOOKUP(C30,TR!$B$2:$F$633,5,0),\"\")","v":"00:00:00"},"00:00:00","","","","","",{"$f":"IF(AND(L30=\"\",M30=\"\"),IF(OR(SUMPRODUCT(N(ISNUMBER(FIND({\"s\";\"d\";\"f\"},C30))))>0,G30+J30<0,AND(G30>0,J30>0,I30>\"20:30\"*1),AND(I30<=\"20:30\"*1,SUM(I30,R30)>=\"20:31\"*1)),1,\"\"),\"\")","v":""},"",null,"",0,0,7.83,-7.83]
[null,"2018-01-28","CH",null,{"$f":"IFERROR(VLOOKUP(C31,TR!$B$2:$F$633,2,0),\"\")","v":"00:00:00"},{"$f":"IFERROR(VLOOKUP(C31,TR!$B$2:$F$633,3,0),\"\")","v":"00:00:00"},"00:00:00",{"$f":"IFERROR(VLOOKUP(C31,TR!$B$2:$F$633,4,0),\"\")","v":"00:00:00"},{"$f":"IFERROR(VLOOKUP(C31,TR!$B$2:$F$633,5,0),\"\")","v":"00:00:00"},"00:00:00","","","","","",{"$f":"IF(AND(L31=\"\",M31=\"\"),IF(OR(SUMPRODUCT(N(ISNUMBER(FIND({\"s\";\"d\";\"f\"},C31))))>0,G31+J31<0,AND(G31>0,J31>0,I31>\"20:30\"*1),AND(I31<=\"20:30\"*1,SUM(I31,R31)>=\"20:31\"*1)),1,\"\"),\"\")","v":""},"",null,"",0,0,0,"0,00"]
[null,"2018-01-29","CC",null,{"$f":"IFERROR(VLOOKUP(C32,TR!$B$2:$F$633,2,0),\"\")","v":"00:00:00"},{"$f":"IFERROR(VLOOKUP(C32,TR!$B$2:$F$633,3,0),\"\")","v":"00:00:00"},"00:00:00",{"$f":"IFERROR(VLOOKUP(C32,TR!$B$2:$F$633,4,0),\"\")","v":"00:00:00"},{"$f":"IFERROR(VLOOKUP(C32,TR!$B$2:$F$633,5,0),\"\")","v":"00:00:00"},"00:00:00","","","","","",{"$f":"IF(AND(L32=\"\",M32=\"\"),IF(OR(SUMPRODUCT(N(ISNUMBER(FIND({\"s\";\"d\";\"f\"},C32))))>0,G32+J32<0,AND(G32>0,J32>0,I32>\"20:30\"*1),AND(I32<=\"20:30\"*1,SUM(I32,R32)>=\"20:31\"*1)),1,\"\"),\"\")","v":""},"",null,"",0,0,7.23,-7.23]
[null,"2018-01-30","CP",null,{"$f":"IFERROR(VLOOKUP(C33,TR!$B$2:$F$633,2,0),\"\")","v":"00:00:00"},{"$f":"IFERROR(VLOOKUP(C33,TR!$B$2:$F$633,3,0),\"\")","v":"00:00:00"},"00:00:00",{"$f":"IFERROR(VLOOKUP(C33,TR!$B$2:$F$633,4,0),\"\")","v":"00:00:00"},{"$f":"IFERROR(VLOOKUP(C33,TR!$B$2:$F$633,5,0),\"\")","v":"00:00:00"},"00:00:00","","","","","",{"$f":"IF(AND(L33=\"\",M33=\"\"),IF(OR(SUMPRODUCT(N(ISNUMBER(FIND({\"s\";\"d\";\"f\"},C33))))>0,G33+J33<0,AND(G33>0,J33>0,I33>\"20:30\"*1),AND(I33<=\"20:30\"*1,SUM(I33,R33)>=\"20:31\"*1)),1,\"\"),\"\")","v":""},"",null,"",0,0,7.6,-7.6]
[null,"2018-01-31","CP",null,{"$f":"IFERROR(VLOOKUP(C34,TR!$B$2:$F$633,2,0),\"\")","v":"00:00:00"},{"$f":"IFERROR(VLOOKUP(C34,TR!$B$2:$F$633,3,0),\"\")","v":"00:00:00"},"00:00:00",{"$f":"IFERROR(VLOOKUP(C34,TR!$B$2:$F$633,4,0),\"\")","v":"00:00:00"},{"$f":"IFERROR(VLOOKUP(C34,TR!$B$2:$F$633,5,0),\"\")","v":"00:00:00"},"00:00:00","","","","","",{"$f":"IF(AND(L34=\"\",M34=\"\"),IF(OR(SUMPRODUCT(N(ISNUMBER(FIND({\"s\";\"d\";\"f\"},C34))))>0,G34+J34<0,AND(G34>0,J34>0,I34>\"20:30\"*1),AND(I34<=\"20:30\"*1,SUM(I34,R34)>=\"20:31\"*1)),1,\"\"),\"\")","v":""},"",null,"",0,0,8,-8]
[]
[null,"Jours travaillés",{"$f":"COUNTIF(C4:C23,\"<>\")-(COUNTIF(C4:C23,\"CH*\")+COUNTIF(C4:C23,\"RT*\")+COUNTIF(C4:C23,\"CC*\")+COUNTIF(C4:C23,\"Mal*\")+COUNTIF(C4:C23,\"Férié*\")+COUNTIF(C4:C23,\"CP*\"))","v":13},null,null,null,null,null,"Du 21 au 20",null,{"$f":"SUM([1]Décembre!$K$24:$K$34,K4:K23)","v":5},{"$f":"SUM([1]Décembre!$L$24:$L$34,L4:L23)","v":5},{"$f":"SUM([1]Décembre!$M$24:$M$34,M4:M23)","v":4},{"$f":"SUM([1]Décembre!$N$24:$N$34,N4:N23)","v":2},{"$f":"SUM([1]Décembre!$O$24:$O$34,O4:O23)","v":1},{"$f":"SUM([1]Décembre!$P$24:$P$34,P4:P23)","v":1},{"$f":"SUM([1]Décembre!$Q$24:$Q$34,Q4:Q23)","v":0},{"$f":"SUM([1]Décembre!$R$24:$R$34,R4:R23)","v":0},null,{"$f":"SUM(T4:T23)","v":4.0395833333333337},{"$f":"SUM(U4:U34)","v":127.06666666666665},{"$f":"SUM(V4:V34)","v":161.72999999999999}]
[null,"CP",{"$f":"COUNTIF(C4:C23,\"CP\")","v":0},null,null,null,null,null,null,null,{"$f":"(I39*2)*K36","v":88.528000000000006},{"$f":"Recap!H35*L36","v":35.699999999999996},{"$f":"Recap!H35*M36","v":28.56},{"$f":"(I39*5)*N36","v":88.528000000000006},{"$f":"(Recap!H33)*O36","v":102.46900000000001},{"$f":"7.5*P36","v":7.5},{"$f":"(I39*1.5)*Q36","v":0},{"$f":"R36*24","v":0}]
[null,"CH",{"$f":"COUNTIF(C4:C23,\"CH\")","v":2},null,null,null,null,null,"VP",null,null,null,null,null,null,null,null,null,null,"Horaire mensuel",null,6.1749999999999998,{"$f":"V38*24","v":148.19999999999999}]
[null,"RT",{"$f":"COUNTIF(C4:C23,\"RT\")","v":1},null,null,null,null,null,8.8528000000000002]
[null,"CC",{"$f":"COUNTIF(C4:C23,\"CC\")","v":4},null,null,null,null,null,null,null,null,null,null,null,null,null,null,null,null,"Différence",null,{"$f":"IF(V38>T36,\"-\",\"\")&TEXT(ABS(T36-V38),\"[h]:mm\")","v":"-51:15"},{"$f":"(T36-V38)*24","v":-51.249999999999986}]
[null,"Férié",{"$f":"COUNTIF(C24:C34,\"Férié\")","v":0}]
[null,"Férié CC-CH-RT",{"$f":"(COUNTIF(C4:C23,\"FériéCC\")+COUNTIF(C4:C23,\"FériéCH\")+(COUNTIF(C4:C23,\"FériéRT\")))","v":0},null,null,null,null,null,null,null,null,null,null,null,null,null,null,"Heures réelles",null,{"$f":"SUM(T4:T34)","v":5.2944444444444443}]
[null,null,null,null,null,null,null,null,null,null,null,null,null,null,null,null,null,null,null,{"$f":"T42*24","v":127.06666666666666},null,null,{"$f":"(T42-V38)*24","v":-21.133333333333333}]
[]
[null,null,null,null,null,"NOTES"]

{"sheet":"Février","index":2,"n_rows":45,"n_cols":23,"rows_kept":45,"cut":false,"hidden":false,"merged":[[0,1,0,22],[45,5,45,16],[1,19,1,22],[44,5,44,16],[2,4,2,5],[2,7,2,8],[35,8,35,9],[37,19,37,20],[39,19,39,20],[41,17,41,18]]}
[null,"FÉVRIER"]
[null,null,null,null,null,null,null,null,null,null,null,null,null,null,null,null,null,null,null,"TOTAL"]
[null,"Date","Services","Obs.","MATIN",null,"Temps","APRES MIDI",null,"Temps","Prime nuit","PJ1","PJ2","Dimanche","Férié","ChècDej","PrimAmp","H Supp","Ampli","Heures","Centièmes","Kéolis","Écart"]
[null,"2018-02-01","CP",null,{"$f":"IFERROR(VLOOKUP(C4,TR!$B$2:$F$633,2,0),\"\")","v":"00:00:00"},{"$f":"IFERROR(VLOOKUP(C4,TR!$B$2:$F$633,3,0),\"\")","v":"00:00:00"},{"$f":"IF(ISERROR(F4-E4),0,F4-E4)","v":"00:00:00"},{"$f":"IFERROR(VLOOKUP(C4,TR!$B$2:$F$633,4,0),\"\")","v":"00:00:00"},{"$f":"IFERROR(VLOOKUP(C4,TR!$B$2:$F$633,5,0),\"\")","v":"00:00:00"},{"$f":"IF(ISERROR(I4-H4),0,(I4-H4))","v":"00:00:00"},{"$f":"IF(COUNTA(E4:F4,H4:I4)=5,1,IF(AND(E4<\"5:00\"*1,E4>\"2:00\"*1),1,IF(AND(I4>=\"22:01\"*1,I4<=\"26:01\"*1),1,IF(AND(I4<=\"22:00\"*1,SUM(I4,R4)>=\"22:01\"*1),1,\"\"))))","v":""},{"$f":"IF(AND(F4>=\"13:15\"*1,H4<\"\"),1,IF(AND(H4>=\"11:00\"*1,H4<=\"12:15\"*1),1,IF(AND(F4<=\"13:15\"*1,SUM(F4,R4)>=\"13:15\"*1),1,\"\")))","v":""},{"$f":"IF(AND(I4>=\"19:30\"*1,1,I4>\"21:30\"*1,C4<>\"\"),1,IF(AND(I4<=\"21:30\"*1,SUM(I4,R4)>=\"21:30\"*1),1,\"\"))","v":""},{"$f":"IF(AND(LEFT(C4,1)=\"d\",AND(Janvier!N34<>1)),1,IF(AND(LEFT(C4,1)=\"s\",I4>=\"24:01\"*1),1,IF(AND(I4<>\"\",I4<=\"23:59\"*1,SUM(I4,R4)>=\"24:01\"*1),1,\"\")))","v":""},{"$f":"IF(AND(I4>\"24:00\"*1,ISNUMBER(FIND(\"f\",C5))),1,IF(AND(OR(ISNUMBER(FIND(\"FériéCC\",C4)),ISNUMBER(FIND(\"FériéCH\",C4)),ISNUMBER(FIND(\"f\",C4)))),1,\"\"))","v":""},{"$f":"IF(AND(L4=\"\",M4=\"\"),IF(OR(SUMPRODUCT(N(ISNUMBER(FIND({\"s\";\"d\";\"f\"},C4))))>0,G4+J4<0,AND(G4>0,J4>0,I4>\"20:30\"*1),AND(I4<=\"20:30\"*1,SUM(I4,R4)>=\"20:31\"*1)),1,\"\"),\"\")","v":""},{"$f":"IF(OR(AND(G4>0,AND(J4=0)),OR(G4=0,AND(J4>0)),OR(G4+J4>0)),IF(S4=\"\",\"\",IF(R4+S4>=\"13:01\"*1,1,\"\")))","v":""},null,{"$f":"IF(G4=0,IF(J4=0,\"\",I4-H4),IF(J4=0,F4-E4,I4-E4))","v":""},{"$f":"IF(ISERROR((F4-E4)+(I4-H4)),0,(F4-E4)+(I4-H4))","v":0},{"$f":"T4*24","v":0},null,{"$f":"IF(U4-V4=0,\"0,00\",U4-V4)","v":"0,00"}]
[null,"2018-02-02","CP",null,{"$f":"IFERROR(VLOOKUP(C5,TR!$B$2:$F$633,2,0),\"\")","v":"00:00:00"},{"$f":"IFERROR(VLOOKUP(C5,TR!$B$2:$F$633,3,0),\"\")","v":"00:00:00"},{"$f":"IF(ISERROR(F5-E5),0,F5-E5)","v":"00:00:00"},{"$f":"IFERROR(VLOOKUP(C5,TR!$B$2:$F$633,4,0),\"\")","v":"00:00:00"},{"$f":"IFERROR(VLOOKUP(C5,TR!$B$2:$F$633,5,0),\"\")","v":"00:00:00"},{"$f":"IF(ISERROR(I5-H5),0,(I5-H5))","v":"00:00:00"},"","","",{"$f":"IF(AND(LEFT(C5,1)=\"d\",AND(N4<>1)),1,IF(AND(LEFT(C5,1)=\"s\",I5>=\"24:01\"*1),1,IF(AND(I5<>\"\",I5<=\"23:59\"*1,SUM(I5,R5)>=\"24:01\"*1),1,\"\")))","v":""},{"$f":"IF(AND(I5>\"24:00\"*1,ISNUMBER(FIND(\"f\",C6))),1,IF(AND(OR(ISNUMBER(FIND(\"FériéCC\",C5)),ISNUMBER(FIND(\"FériéCH\",C5)),ISNUMBER(FIND(\"f\",C5)))),1,\"\"))","v":""},{"$f":"IF(AND(L5=\"\",M5=\"\"),IF(OR(SUMPRODUCT(N(ISNUMBER(FIND({\"s\";\"d\";\"f\"},C5))))>0,G5+J5<0,AND(G5>0,J5>0,I5>\"20:30\"*1),AND(I5<=\"20:30\"*1,SUM(I5,R5)>=\"20:31\"*1)),1,\"\"),\"\")","v":""},{"$f":"IF(OR(AND(G5>0,AND(J5=0)),OR(G5=0,AND(J5>0)),OR(G5+J5>0)),IF(S5=\"\",\"\",IF(R5+S5>=\"13:01\"*1,1,\"\")))","v":""},null,"",0,{"$f":"T5*24","v":0},null,{"$f":"IF(U5-V5=0,\"0,00\",U5-V5)","v":"0,00"}]
[null,"2018-02-03","CP",null,{"$f":"IFERROR(VLOOKUP(C6,TR!$B$2:$F$633,2,0),\"\")","v":"00:00:00"},{"$f":"IFERROR(VLOOKUP(C6,TR!$B$2:$F$633,3,0),\"\")","v":"00:00:00"},"00:00:00",{"$f":"IFERROR(VLOOKUP(C6,TR!$B$2:$F$633,4,0),\"\")","v":"00:00:00"},{"$f":"IFERROR(VLOOKUP(C6,TR!$B$2:$F$633,5,0),\"\")","v":"00:00:00"},"00:00:00","","","","",{"$f":"IF(AND(I6>\"24:00\"*1,ISNUMBER(FIND(\"f\",C7))),1,IF(AND(OR(ISNUMBER(FIND(\"FériéCC\",C6)),ISNUMBER(FIND(\"FériéCH\",C6)),ISNUMBER(FIND(\"f\",C6)))),1,\"\"))","v":""},{"$f":"IF(AND(L6=\"\",M6=\"\"),IF(OR(SUMPRODUCT(N(ISNUMBER(FIND({\"s\";\"d\";\"f\"},C6))))>0,G6+J6<0,AND(G6>0,J6>0,I6>\"20:30\"*1),AND(I6<=\"20:30\"*1,SUM(I6,R6)>=\"20:31\"*1)),1,\"\"),\"\")","v":""},"",null,"",0,{"$f":"T6*24","v":0},null,"0,00"]
[null,"2018-02-04","CH",null,{"$f":"IFERROR(VLOOKUP(C7,TR!$B$2:$F$633,2,0),\"\")","v":"00:00:00"},{"$f":"IFERROR(VLOOKUP(C7,TR!$B$2:$F$633,3,0),\"\")","v":"00:00:00"},"00:00:00",{"$f":"IFERROR(VLOOKUP(C7,TR!$B$2:$F$633,4,0),\"\")","v":"00:00:00"},{"$f":"IFERROR(VLOOKUP(C7,TR!$B$2:$F$633,5,0),\"\")","v":"00:00:00"},"00:00:00","","","","","",{"$f":"IF(AND(L7=\"\",M7=\"\"),IF(OR(SUMPRODUCT(N(ISNUMBER(FIND({\"s\";\"d\";\"f\"},C7))))>0,G7+J7<0,AND(G7>0,J7>0,I7>\"20:30\"*1),AND(I7<=\"20:30\"*1,SUM(I7,R7)>=\"20:31\"*1)),1,\"\"),\"\")","v":""},"",null,"",0,{"$f":"T7*24","v":0},null,"0,00"]
[null,"2018-02-05","Capcli",null,{"$f":"IFERROR(VLOOKUP(C8,TR!$B$2:$F$633,2,0),\"\")","v":"08:30:00"},{"$f":"IFERROR(VLOOKUP(C8,TR!$B$2:$F$633,3,0),\"\")","v":"12:00:00"},"03:30:00",{"$f":"IFERROR(VLOOKUP(C8,TR!$B$2:$F$633,4,0),\"\")","v":"13:30:00"},{"$f":"IFERROR(VLOOKUP(C8,TR!$B$2:$F$633,5,0),\"\")","v":"17:00:00"},"03:30:00","","","","","",{"$f":"IF(AND(L8=\"\",M8=\"\"),IF(OR(SUMPRODUCT(N(ISNUMBER(FIND({\"s\";\"d\";\"f\"},C8))))>0,G8+J8<0,AND(G8>0,J8>0,I8>\"20:30\"*1),AND(I8<=\"20:30\"*1,SUM(I8,R8)>=\"20:31\"*1)),1,\"\"),\"\")","v":""},"",null,"08:30:00",0.29166666666666669,7,null,7]
[null,"2018-02-06","Capcli",null,{"$f":"IFERROR(VLOOKUP(C9,TR!$B$2:$F$633,2,0),\"\")","v":"08:30:00"},{"$f":"IFERROR(VLOOKUP(C9,TR!$B$2:$F$633,3,0),\"\")","v":"12:00:00"},"03:30:00",{"$f":"IFERROR(VLOOKUP(C9,TR!$B$2:$F$633,4,0),\"\")","v":"13:30:00"},{"$f":"IFERROR(VLOOKUP(C9,TR!$B$2:$F$633,5,0),\"\")","v":"17:00:00"},"03:30:00","","","","","",{"$f":"IF(AND(L9=\"\",M9=\"\"),IF(OR(SUMPRODUCT(N(ISNUMBER(FIND({\"s\";\"d\";\"f\"},C9))))>0,G9+J9<0,AND(G9>0,J9>0,I9>\"20:30\"*1),AND(I9<=\"20:30\"*1,SUM(I9,R9)>=\"20:31\"*1)),1,\"\"),\"\")","v":""},"",null,"08:30:00",0.29166666666666669,7,null,7]
[null,"2018-02-07","CC","NNP",{"$f":"IFERROR(VLOOKUP(C10,TR!$B$2:$F$633,2,0),\"\")","v":"00:00:00"},{"$f":"IFERROR(VLOOKUP(C10,TR!$B$2:$F$633,3,0),\"\")","v":"00:00:00"},"00:00:00",{"$f":"IFERROR(VLOOKUP(C10,TR!$B$2:$F$633,4,0),\"\")","v":"00:00:00"},{"$f":"IFERROR(VLOOKUP(C10,TR!$B$2:$F$633,5,0),\"\")","v":"00:00:00"},"00:00:00","","","","","",{"$f":"IF(AND(L10=\"\",M10=\"\"),IF(OR(SUMPRODUCT(N(ISNUMBER(FIND({\"s\";\"d\";\"f\"},C10))))>0,G10+J10<0,AND(G10>0,J10>0,I10>\"20:30\"*1),AND(I10<=\"20:30\"*1,SUM(I10,R10)>=\"20:31\"*1)),1,\"\"),\"\")","v":""},"",null,"",0,0,null,"0,00"]
[null,"2018-02-08","RTN",null,{"$f":"IFERROR(VLOOKUP(C11,TR!$B$2:$F$633,2,0),\"\")","v":"00:00:00"},{"$f":"IFERROR(VLOOKUP(C11,TR!$B$2:$F$633,3,0),\"\")","v":"00:00:00"},"00:00:00",{"$f":"IFERROR(VLOOKUP(C11,TR!$B$2:$F$633,4,0),\"\")","v":"00:00:00"},{"$f":"IFERROR(VLOOKUP(C11,TR!$B$2:$F$633,5,0),\"\")","v":"00:00:00"},"00:00:00","","","","","",{"$f":"IF(AND(L11=\"\",M11=\"\"),IF(OR(SUMPRODUCT(N(ISNUMBER(FIND({\"s\";\"d\";\"f\"},C11))))>0,G11+J11<0,AND(G11>0,J11>0,I11>\"20:30\"*1),AND(I11<=\"20:30\"*1,SUM(I11,R11)>=\"20:31\"*1)),1,\"\"),\"\")","v":""},"",null,"",0,0,null,"0,00"]
[null,"2018-02-09","RTN",null,{"$f":"IFERROR(VLOOKUP(C12,TR!$B$2:$F$633,2,0),\"\")","v":"00:00:00"},{"$f":"IFERROR(VLOOKUP(C12,TR!$B$2:$F$633,3,0),\"\")","v":"00:00:00"},"00:00:00",{"$f":"IFERROR(VLOOKUP(C12,TR!$B$2:$F$633,4,0),\"\")","v":"00:00:00"},{"$f":"IFERROR(VLOOKUP(C12,TR!$B$2:$F$633,5,0),\"\")","v":"00:00:00"},"00:00:00","","","","","",{"$f":"IF(AND(L12=\"\",M12=\"\"),IF(OR(SUMPRODUCT(N(ISNUMBER(FIND({\"s\";\"d\";\"f\"},C12))))>0,G12+J12<0,AND(G12>0,J12>0,I12>\"20:30\"*1),AND(I12<=\"20:30\"*1,SUM(I12,R12)>=\"20:31\"*1)),1,\"\"),\"\")","v":""},"",null,"",0,0,null,"0,00"]
[null,"2018-02-10","CC",null,{"$f":"IFERROR(VLOOKUP(C13,TR!$B$2:$F$633,2,0),\"\")","v":"00:00:00"},{"$f":"IFERROR(VLOOKUP(C13,TR!$B$2:$F$633,3,0),\"\")","v":"00:00:00"},"00:00:00",{"$f":"IFERROR(VLOOKUP(C13,TR!$B$2:$F$633,4,0),\"\")","v":"00:00:00"},{"$f":"IFERROR(VLOOKUP(C13,TR!$B$2:$F$633,5,0),\"\")","v":"00:00:00"},"00:00:00","","","","","",{"$f":"IF(AND(L13=\"\",M13=\"\"),IF(OR(SUMPRODUCT(N(ISNUMBER(FIND({\"s\";\"d\";\"f\"},C13))))>0,G13+J13<0,AND(G13>0,J13>0,I13>\"20:30\"*1),AND(I13<=\"20:30\"*1,SUM(I13,R13)>=\"20:31\"*1)),1,\"\"),\"\")","v":""},"",null,"",0,0,null,"0,00"]
[null,"2018-02-11","CH",null,{"$f":"IFERROR(VLOOKUP(C14,TR!$B$2:$F$633,2,0),\"\")","v":"00:00:00"},{"$f":"IFERROR(VLOOKUP(C14,TR!$B$2:$F$633,3,0),\"\")","v":"00:00:00"},"00:00:00",{"$f":"IFERROR(VLOOKUP(C14,TR!$B$2:$F$633,4,0),\"\")","v":"00:00:00"},{"$f":"IFERROR(VLOOKUP(C14,TR!$B$2:$F$633,5,0),\"\")","v":"00:00:00"},"00:00:00","","","","","",{"$f":"IF(AND(L14=\"\",M14=\"\"),IF(OR(SUMPRODUCT(N(ISNUMBER(FIND({\"s\";\"d\";\"f\"},C14))))>0,G14+J14<0,AND(G14>0,J14>0,I14>\"20:30\"*1),AND(I14<=\"20:30\"*1,SUM(I14,R14)>=\"20:31\"*1)),1,\"\"),\"\")","v":""},"",null,"",0,0,null,"0,00"]
[null,"2018-02-12","308-18",null,{"$f":"IFERROR(VLOOKUP(C15,TR!$B$2:$F$633,2,0),\"\")","v":"06:00:00"},{"$f":"IFERROR(VLOOKUP(C15,TR!$B$2:$F$633,3,0),\"\")","v":"10:08:00"},"04:08:00",{"$f":"IFERROR(VLOOKUP(C15,TR!$B$2:$F$633,4,0),\"\")","v":"11:47:00"},{"$f":"IFERROR(VLOOKUP(C15,TR!$B$2:$F$633,5,0),\"\")","v":"15:25:00"},"03:38:00","",1,"","","",{"$f":"IF(AND(L15=\"\",M15=\"\"),IF(OR(SUMPRODUCT(N(ISNUMBER(FIND({\"s\";\"d\";\"f\"},C15))))>0,G15+J15<0,AND(G15>0,J15>0,I15>\"20:30\"*1),AND(I15<=\"20:30\"*1,SUM(I15,R15)>=\"20:31\"*1)),1,\"\"),\"\")","v":""},"",null,"09:25:00",0.32361111111111118,7.7666666666666684,null,7.7666666666666684]
[null,"2018-02-13","755-11",null,{"$f":"IFERROR(VLOOKUP(C16,TR!$B$2:$F$633,2,0),\"\")","v":"05:30:00"},{"$f":"IFERROR(VLOOKUP(C16,TR!$B$2:$F$633,3,0),\"\")","v":"13:30:00"},"08:00:00",{"$f":"IFERROR(VLOOKUP(C16,TR!$B$2:$F$633,4,0),\"\")","v":"00:00:00"},{"$f":"IFERROR(VLOOKUP(C16,TR!$B$2:$F$633,5,0),\"\")","v":"00:00:00"},"00:00:00","",1,"","","",{"$f":"IF(AND(L16=\"\",M16=\"\"),IF(OR(SUMPRODUCT(N(ISNUMBER(FIND({\"s\";\"d\";\"f\"},C16))))>0,G16+J16<0,AND(G16>0,J16>0,I16>\"20:30\"*1),AND(I16<=\"20:30\"*1,SUM(I16,R16)>=\"20:31\"*1)),1,\"\"),\"\")","v":""},"",null,"08:00:00",0.33333333333333337,8,null,8]
[null,"2018-02-14","CC",null,{"$f":"IFERROR(VLOOKUP(C17,TR!$B$2:$F$633,2,0),\"\")","v":"00:00:00"},{"$f":"IFERROR(VLOOKUP(C17,TR!$B$2:$F$633,3,0),\"\")","v":"00:00:00"},"00:00:00",{"$f":"IFERROR(VLOOKUP(C17,TR!$B$2:$F$633,4,0),\"\")","v":"00:00:00"},{"$f":"IFERROR(VLOOKUP(C17,TR!$B$2:$F$633,5,0),\"\")","v":"00:00:00"},"00:00:00","","","","","",{"$f":"IF(AND(L17=\"\",M17=\"\"),IF(OR(SUMPRODUCT(N(ISNUMBER(FIND({\"s\";\"d\";\"f\"},C17))))>0,G17+J17<0,AND(G17>0,J17>0,I17>\"20:30\"*1),AND(I17<=\"20:30\"*1,SUM(I17,R17)>=\"20:31\"*1)),1,\"\"),\"\")","v":""},"",null,"",0,0,null,"0,00"]
[null,"2018-02-15","CH",null,{"$f":"IFERROR(VLOOKUP(C18,TR!$B$2:$F$633,2,0),\"\")","v":"00:00:00"},{"$f":"IFERROR(VLOOKUP(C18,TR!$B$2:$F$633,3,0),\"\")","v":"00:00:00"},"00:00:00",{"$f":"IFERROR(VLOOKUP(C18,TR!$B$2:$F$633,4,0),\"\")","v":"00:00:00"},{"$f":"IFERROR(VLOOKUP(C18,TR!$B$2:$F$633,5,0),\"\")","v":"00:00:00"},"00:00:00","","","","","",{"$f":"IF(AND(L18=\"\",M18=\"\"),IF(OR(SUMPRODUCT(N(ISNUMBER(FIND({\"s\";\"d\";\"f\"},C18))))>0,G18+J18<0,AND(G18>0,J18>0,I18>\"20:30\"*1),AND(I18<=\"20:30\"*1,SUM(I18,R18)>=\"20:31\"*1)),1,\"\"),\"\")","v":""},"",null,"",0,0,null,"0,00"]
[null,"2018-02-16","RT",null,{"$f":"IFERROR(VLOOKUP(C19,TR!$B$2:$F$633,2,0),\"\")","v":"00:00:00"},{"$f":"IFERROR(VLOOKUP(C19,TR!$B$2:$F$633,3,0),\"\")","v":"00:00:00"},"00:00:00",{"$f":"IFERROR(VLOOKUP(C19,TR!$B$2:$F$633,4,0),\"\")","v":"00:00:00"},{"$f":"IFERROR(VLOOKUP(C19,TR!$B$2:$F$633,5,0),\"\")","v":"00:00:00"},"00:00:00","","","","","",{"$f":"IF(AND(L19=\"\",M19=\"\"),IF(OR(SUMPRODUCT(N(ISNUMBER(FIND({\"s\";\"d\";\"f\"},C19))))>0,G19+J19<0,AND(G19>0,J19>0,I19>\"20:30\"*1),AND(I19<=\"20:30\"*1,SUM(I19,R19)>=\"20:31\"*1)),1,\"\"),\"\")","v":""},"",null,"",0,0,null,"0,00"]
[null,"2018-02-17","s844-5",null,{"$f":"IFERROR(VLOOKUP(C20,TR!$B$2:$F$633,2,0),\"\")","v":"00:00:00"},{"$f":"IFERROR(VLOOKUP(C20,TR!$B$2:$F$633,3,0),\"\")","v":"00:00:00"},"00:00:00",{"$f":"IFERROR(VLOOKUP(C20,TR!$B$2:$F$633,4,0),\"\")","v":"12:43:00"},{"$f":"IFERROR(VLOOKUP(C20,TR!$B$2:$F$633,5,0),\"\")","v":"20:39:00"},"07:56:00","","","","","",{"$f":"IF(AND(L20=\"\",M20=\"\"),IF(OR(SUMPRODUCT(N(ISNUMBER(FIND({\"s\";\"d\";\"f\"},C20))))>0,G20+J20<0,AND(G20>0,J20>0,I20>\"20:30\"*1),AND(I20<=\"20:30\"*1,SUM(I20,R20)>=\"20:31\"*1)),1,\"\"),\"\")","v":1},"",null,"07:56:00",0.3305555555555556,7.9333333333333345,null,7.9333333333333345]
[null,"2018-02-18","d618-18",null,{"$f":"IFERROR(VLOOKUP(C21,TR!$B$2:$F$633,2,0),\"\")","v":"00:00:00"},{"$f":"IFERROR(VLOOKUP(C21,TR!$B$2:$F$633,3,0),\"\")","v":"00:00:00"},"00:00:00",{"$f":"IFERROR(VLOOKUP(C21,TR!$B$2:$F$633,4,0),\"\")","v":"12:56:00"},{"$f":"IFERROR(VLOOKUP(C21,TR!$B$2:$F$633,5,0),\"\")","v":"20:27:00"},"07:31:00","","","",1,"",{"$f":"IF(AND(L21=\"\",M21=\"\"),IF(OR(SUMPRODUCT(N(ISNUMBER(FIND({\"s\";\"d\";\"f\"},C21))))>0,G21+J21<0,AND(G21>0,J21>0,I21>\"20:30\"*1),AND(I21<=\"20:30\"*1,SUM(I21,R21)>=\"20:31\"*1)),1,\"\"),\"\")","v":1},"",null,"07:31:00",0.31319444444444444,7.5166666666666666,null,7.5166666666666666]
[null,"2018-02-19","820-2",null,{"$f":"IFERROR(VLOOKUP(C22,TR!$B$2:$F$633,2,0),\"\")","v":"00:00:00"},{"$f":"IFERROR(VLOOKUP(C22,TR!$B$2:$F$633,3,0),\"\")","v":"00:00:00"},"00:00:00",{"$f":"IFERROR(VLOOKUP(C22,TR!$B$2:$F$633,4,0),\"\")","v":"12:41:00"},{"$f":"IFERROR(VLOOKUP(C22,TR!$B$2:$F$633,5,0),\"\")","v":"20:04:00"},"07:23:00","","","","","",{"$f":"IF(AND(L22=\"\",M22=\"\"),IF(OR(SUMPRODUCT(N(ISNUMBER(FIND({\"s\";\"d\";\"f\"},C22))))>0,G22+J22<0,AND(G22>0,J22>0,I22>\"20:30\"*1),AND(I22<=\"20:30\"*1,SUM(I22,R22)>=\"20:31\"*1)),1,\"\"),\"\")","v":""},"",null,"07:23:00",0.30763888888888891,7.3833333333333337,null,7.3833333333333337]
[null,"2018-02-20","840-5",null,{"$f":"IFERROR(VLOOKUP(C23,TR!$B$2:$F$633,2,0),\"\")","v":"00:00:00"},{"$f":"IFERROR(VLOOKUP(C23,TR!$B$2:$F$633,3,0),\"\")","v":"00:00:00"},"00:00:00",{"$f":"IFERROR(VLOOKUP(C23,TR!$B$2:$F$633,4,0),\"\")","v":"14:11:00"},{"$f":"IFERROR(VLOOKUP(C23,TR!$B$2:$F$633,5,0),\"\")","v":"21:41:00"},"07:30:00","","",1,"","",{"$f":"IF(AND(L23=\"\",M23=\"\"),IF(OR(SUMPRODUCT(N(ISNUMBER(FIND({\"s\";\"d\";\"f\"},C23))))>0,G23+J23<0,AND(G23>0,J23>0,I23>\"20:30\"*1),AND(I23<=\"20:30\"*1,SUM(I23,R23)>=\"20:31\"*1)),1,\"\"),\"\")","v":""},"",null,"07:30:00",0.3125,7.5,null,7.5]
[null,"2018-02-21","CC",null,{"$f":"IFERROR(VLOOKUP(C24,TR!$B$2:$F$633,2,0),\"\")","v":"00:00:00"},{"$f":"IFERROR(VLOOKUP(C24,TR!$B$2:$F$633,3,0),\"\")","v":"00:00:00"},"00:00:00",{"$f":"IFERROR(VLOOKUP(C24,TR!$B$2:$F$633,4,0),\"\")","v":"00:00:00"},{"$f":"IFERROR(VLOOKUP(C24,TR!$B$2:$F$633,5,0),\"\")","v":"00:00:00"},"00:00:00","","","","","",{"$f":"IF(AND(L24=\"\",M24=\"\"),IF(OR(SUMPRODUCT(N(ISNUMBER(FIND({\"s\";\"d\";\"f\"},C24))))>0,G24+J24<0,AND(G24>0,J24>0,I24>\"20:30\"*1),AND(I24<=\"20:30\"*1,SUM(I24,R24)>=\"20:31\"*1)),1,\"\"),\"\")","v":""},"",null,"",0,0,null,"0,00"]
[null,"2018-02-22","CP",null,{"$f":"IFERROR(VLOOKUP(C25,TR!$B$2:$F$633,2,0),\"\")","v":"00:00:00"},{"$f":"IFERROR(VLOOKUP(C25,TR!$B$2:$F$633,3,0),\"\")","v":"00:00:00"},"00:00:00",{"$f":"IFERROR(VLOOKUP(C25,TR!$B$2:$F$633,4,0),\"\")","v":"00:00:00"},{"$f":"IFERROR(VLOOKUP(C25,TR!$B$2:$F$633,5,0),\"\")","v":"00:00:00"},"00:00:00","","","","","",{"$f":"IF(AND(L25=\"\",M25=\"\"),IF(OR(SUMPRODUCT(N(ISNUMBER(FIND({\"s\";\"d\";\"f\"},C25))))>0,G25+J25<0,AND(G25>0,J25>0,I25>\"20:30\"*1),AND(I25<=\"20:30\"*1,SUM(I25,R25)>=\"20:31\"*1)),1,\"\"),\"\")","v":""},"",null,"",0,0,null,"0,00"]
[null,"2018-02-23","CP",null,{"$f":"IFERROR(VLOOKUP(C26,TR!$B$2:$F$633,2,0),\"\")","v":"00:00:00"},{"$f":"IFERROR(VLOOKUP(C26,TR!$B$2:$F$633,3,0),\"\")","v":"00:00:00"},"00:00:00",{"$f":"IFERROR(VLOOKUP(C26,TR!$B$2:$F$633,4,0),\"\")","v":"00:00:00"},{"$f":"IFERROR(VLOOKUP(C26,TR!$B$2:$F$633,5,0),\"\")","v":"00:00:00"},"00:00:00","","","","","",{"$f":"IF(AND(L26=\"\",M26=\"\"),IF(OR(SUMPRODUCT(N(ISNUMBER(FIND({\"s\";\"d\";\"f\"},C26))))>0,G26+J26<0,AND(G26>0,J26>0,I26>\"20:30\"*1),AND(I26<=\"20:30\"*1,SUM(I26,R26)>=\"20:31\"*1)),1,\"\"),\"\")","v":""},"",null,"",0,0,null,"0,00"]
[null,"2018-02-24",null,null,{"$f":"IFERROR(VLOOKUP(C27,TR!$B$2:$F$633,2,0),\"\")","v":""},{"$f":"IFERROR(VLOOKUP(C27,TR!$B$2:$F$633,3,0),\"\")","v":""},"00:00:00",{"$f":"IFERROR(VLOOKUP(C27,TR!$B$2:$F$633,4,0),\"\")","v":""},{"$f":"IFERROR(VLOOKUP(C27,TR!$B$2:$F$633,5,0),\"\")","v":""},"00:00:00","","","","","",{"$f":"IF(AND(L27=\"\",M27=\"\"),IF(OR(SUMPRODUCT(N(ISNUMBER(FIND({\"s\";\"d\";\"f\"},C27))))>0,G27+J27<0,AND(G27>0,J27>0,I27>\"20:30\"*1),AND(I27<=\"20:30\"*1,SUM(I27,R27)>=\"20:31\"*1)),1,\"\"),\"\")","v":""},"",null,"",0,0,null,"0,00"]
[null,"2018-02-25","CH",null,{"$f":"IFERROR(VLOOKUP(C28,TR!$B$2:$F$633,2,0),\"\")","v":"00:00:00"},{"$f":"IFERROR(VLOOKUP(C28,TR!$B$2:$F$633,3,0),\"\")","v":"00:00:00"},"00:00:00",{"$f":"IFERROR(VLOOKUP(C28,TR!$B$2:$F$633,4,0),\"\")","v":"00:00:00"},{"$f":"IFERROR(VLOOKUP(C28,TR!$B$2:$F$633,5,0),\"\")","v":"00:00:00"},"00:00:00","","","","","",{"$f":"IF(AND(L28=\"\",M28=\"\"),IF(OR(SUMPRODUCT(N(ISNUMBER(FIND({\"s\";\"d\";\"f\"},C28))))>0,G28+J28<0,AND(G28>0,J28>0,I28>\"20:30\"*1),AND(I28<=\"20:30\"*1,SUM(I28,R28)>=\"20:31\"*1)),1,\"\"),\"\")","v":""},"",null,"",0,0,null,"0,00"]
[null,"2018-02-26",null,null,{"$f":"IFERROR(VLOOKUP(C29,TR!$B$2:$F$633,2,0),\"\")","v":""},{"$f":"IFERROR(VLOOKUP(C29,TR!$B$2:$F$633,3,0),\"\")","v":""},"00:00:00",{"$f":"IFERROR(VLOOKUP(C29,TR!$B$2:$F$633,4,0),\"\")","v":""},{"$f":"IFERROR(VLOOKUP(C29,TR!$B$2:$F$633,5,0),\"\")","v":""},"00:00:00","","","","","",{"$f":"IF(AND(L29=\"\",M29=\"\"),IF(OR(SUMPRODUCT(N(ISNUMBER(FIND({\"s\";\"d\";\"f\"},C29))))>0,G29+J29<0,AND(G29>0,J29>0,I29>\"20:30\"*1),AND(I29<=\"20:30\"*1,SUM(I29,R29)>=\"20:31\"*1)),1,\"\"),\"\")","v":""},"",null,"",0,0,null,"0,00"]
[null,"2018-02-27","304-15",null,{"$f":"IFERROR(VLOOKUP(C30,TR!$B$2:$F$633,2,0),\"\")","v":"05:45:00"},{"$f":"IFERROR(VLOOKUP(C30,TR!$B$2:$F$633,3,0),\"\")","v":"09:48:00"},"04:03:00",{"$f":"IFERROR(VLOOKUP(C30,TR!$B$2:$F$633,4,0),\"\")","v":"11:52:00"},{"$f":"IFERROR(VLOOKUP(C30,TR!$B$2:$F$633,5,0),\"\")","v":"16:18:00"},"04:26:00","",1,"","","",{"$f":"IF(AND(L30=\"\",M30=\"\"),IF(OR(SUMPRODUCT(N(ISNUMBER(FIND({\"s\";\"d\";\"f\"},C30))))>0,G30+J30<0,AND(G30>0,J30>0,I30>\"20:30\"*1),AND(I30<=\"20:30\"*1,SUM(I30,R30)>=\"20:31\"*1)),1,\"\"),\"\")","v":""},"",null,"10:33:00",0.35347222222222219,8.4833333333333325,null,8.4833333333333325]
[null,"2018-02-28","763-21",null,{"$f":"IFERROR(VLOOKUP(C31,TR!$B$2:$F$633,2,0),\"\")","v":""},{"$f":"IFERROR(VLOOKUP(C31,TR!$B$2:$F$633,3,0),\"\")","v":""},"00:00:00",{"$f":"IFERROR(VLOOKUP(C31,TR!$B$2:$F$633,4,0),\"\")","v":""},{"$f":"IFERROR(VLOOKUP(C31,TR!$B$2:$F$633,5,0),\"\")","v":""},"00:00:00","","",1,"","",{"$f":"IF(AND(L31=\"\",M31=\"\"),IF(OR(SUMPRODUCT(N(ISNUMBER(FIND({\"s\";\"d\";\"f\"},C31))))>0,G31+J31<0,AND(G31>0,J31>0,I31>\"20:30\"*1),AND(I31<=\"20:30\"*1,SUM(I31,R31)>=\"20:31\"*1)),1,\"\"),\"\")","v":""},"",null,"",0,0,null,"0,00"]
[null,null,null,null,{"$f":"IFERROR(VLOOKUP(C32,TR!$B$2:$F$633,2,0),\"\")","v":""},{"$f":"IFERROR(VLOOKUP(C32,TR!$B$2:$F$633,3,0),\"\")","v":""},"00:00:00",{"$f":"IFERROR(VLOOKUP(C32,TR!$B$2:$F$633,4,0),\"\")","v":""},{"$f":"IFERROR(VLOOKUP(C32,TR!$B$2:$F$633,5,0),\"\")","v":""},"00:00:00","","","","","",{"$f":"IF(AND(L32=\"\",M32=\"\"),IF(OR(SUMPRODUCT(N(ISNUMBER(FIND({\"s\";\"d\";\"f\"},C32))))>0,G32+J32<0,AND(G32>0,J32>0,I32>\"20:30\"*1),AND(I32<=\"20:30\"*1,SUM(I32,R32)>=\"20:31\"*1)),1,\"\"),\"\")","v":""},"",null,"",0,0,null,"0,00"]
[null,null,null,null,{"$f":"IFERROR(VLOOKUP(C33,TR!$B$2:$F$633,2,0),\"\")","v":""},{"$f":"IFERROR(VLOOKUP(C33,TR!$B$2:$F$633,3,0),\"\")","v":""},"00:00:00",{"$f":"IFERROR(VLOOKUP(C33,TR!$B$2:$F$633,4,0),\"\")","v":""},{"$f":"IFERROR(VLOOKUP(C33,TR!$B$2:$F$633,5,0),\"\")","v":""},"00:00:00","","","","","",{"$f":"IF(AND(L33=\"\",M33=\"\"),IF(OR(SUMPRODUCT(N(ISNUMBER(FIND({\"s\";\"d\";\"f\"},C33))))>0,G33+J33<0,AND(G33>0,J33>0,I33>\"20:30\"*1),AND(I33<=\"20:30\"*1,SUM(I33,R33)>=\"20:31\"*1)),1,\"\"),\"\")","v":""},"",null,null,null,null,null,"0,00"]
[null,null,null,null,{"$f":"IFERROR(VLOOKUP(C34,TR!$B$2:$F$633,2,0),\"\")","v":""},{"$f":"IFERROR(VLOOKUP(C34,TR!$B$2:$F$633,3,0),\"\")","v":""},"00:00:00",{"$f":"IFERROR(VLOOKUP(C34,TR!$B$2:$F$633,4,0),\"\")","v":""},{"$f":"IFERROR(VLOOKUP(C34,TR!$B$2:$F$633,5,0),\"\")","v":""},"00:00:00","","","","","",{"$f":"IF(AND(L34=\"\",M34=\"\"),IF(OR(SUMPRODUCT(N(ISNUMBER(FIND({\"s\";\"d\";\"f\"},C34))))>0,G34+J34<0,AND(G34>0,J34>0,I34>\"20:30\"*1),AND(I34<=\"20:30\"*1,SUM(I34,R34)>=\"20:31\"*1)),1,\"\"),\"\")","v":""},"",null,null,null,null,null,"0,00"]
[]
[null,"Jours travaillés",{"$f":"(COUNTIF(Janvier!C24:C34,\"<>\")+COUNTIF(Février!C4:C23,\"<>\"))-(COUNTIF(Janvier!C24:C34,\"CC*\")+COUNTIF(Février!C4:C23,\"CC*\"))-(COUNTIF(Janvier!C24:C34,\"CH*\")+COUNTIF(Février!C4:C23,\"CH*\"))-(COUNTIF(Janvier!C24:C34,\"RT*\")+COUNTIF(Février!C4:C23,\"RT*\"))-(COUNTIF(Janvier!C24:C34,\"Férié*\")+COUNTIF(Février!C4:C23,\"Férié*\"))-(COUNTIF(Janvier!C24:C34,\"Mal*\")+COUNTIF(Février!C4:C23,\"Mal*\"))-(COUNTIF(Janvier!C24:C34,\"CP*\")+COUNTIF(Février!C4:C23,\"CP*\"))","v":12},null,null,null,null,null,"Du 21 au 20",null,{"$f":"SUM(Janvier!$K$24:$K$34,K4:K23)","v":0},{"$f":"SUM(Janvier!$L$24:$L$34,L4:L23)","v":6},{"$f":"SUM(Janvier!$M$24:$M$34,M4:M23)","v":1},{"$f":"SUM(Janvier!$N$24:$N$34,N4:N23)","v":1},{"$f":"SUM(Janvier!$O$24:$O$34,O4:O23)","v":0},{"$f":"SUM(Janvier!$P$24:$P$34,P4:P23)","v":2},{"$f":"SUM(Janvier!$Q$24:$Q$34,Q4:Q23)","v":0},{"$f":"SUM(Janvier!$R$24:$R$34,R4:R23)","v":"00:00:00"},null,{"$f":"SUM(Janvier!T24:T34)+SUM(Février!T4:T23)","v":3.7590277777777787},{"$f":"SUM(U4:U34)","v":68.583333333333329},{"$f":"SUM(V4:V34)","v":0}]
[null,"CP",{"$f":"(COUNTIF(Janvier!C24:C34,\"CP\")+COUNTIF(Février!C4:C23,\"CP\"))","v":5},null,null,null,null,null,null,null,{"$f":"(I39*2)*K36","v":0},{"$f":"Recap!H35*L36","v":42.839999999999996},{"$f":"Recap!H35*M36","v":7.14},{"$f":"(I39*5)*N36","v":44.264000000000003},{"$f":"(Recap!H33)*O36","v":0},{"$f":"7.5*P36","v":15},{"$f":"(I39*1.5)*Q36","v":0},{"$f":"R36*24","v":0}]
[null,"CH",{"$f":"(COUNTIF(Janvier!C24:C34,\"CH\")+COUNTIF(Février!C4:C23,\"CH\"))","v":5},null,null,null,null,null,"VP",null,null,null,null,null,null,null,null,null,null,"Horaire mensuel",null,6.1749999999999998,{"$f":"V38*24","v":148.19999999999999}]
[null,"RT",{"$f":"(COUNTIF(Janvier!C24:C34,\"RT\")+COUNTIF(Février!C4:C23,\"RT\"))","v":2},null,null,null,null,null,8.8528000000000002]
[null,"CC",{"$f":"(COUNTIF(Janvier!C24:C34,\"CC\")+COUNTIF(Février!C4:C23,\"CC\"))","v":5},null,null,null,null,null,null,null,null,null,null,null,null,null,null,null,null,"Différence",null,{"$f":"IF(V38>T36,\"-\",\"\")&TEXT(ABS(T36-V38),\"[h]:mm\")","v":"-57:59"},{"$f":"(T36-V38)*24","v":-57.983333333333306}]
[null,"Férié",{"$f":"(COUNTIF(Janvier!C24:C34,\"Férié\")+COUNTIF(Février!C4:C23,\"Férié\"))","v":0}]
[null,"Férié CC-CH-RT",{"$f":"(COUNTIF(Janvier!C24:C34,\"FériéCC\")+COUNTIF(Février!C4:C23,\"FériéCC\")+COUNTIF(Janvier!C24:C34,\"FériéCH\")+COUNTIF(Février!C4:C23,\"FériéCH\")+COUNTIF(Janvier!C24:C34,\"FériéRT\")+COUNTIF(Février!C4:C23,\"FériéRT\"))","v":0},null,null,null,null,null,null,null,null,null,null,null,null,null,null,"Heures réelles",null,{"$f":"SUM(T4:T34)","v":2.8576388888888893}]
[null,null,null,null,null,null,null,null,null,null,null,null,null,null,null,null,null,null,null,{"$f":"T42*24","v":68.583333333333343},null,null,{"$f":"(T42-V38)*24","v":-79.616666666666646}]
[]
[null,null,null,null,null,"NOTES"]

{"sheet":"Mars","index":3,"n_rows":45,"n_cols":23,"rows_kept":45,"cut":false,"hidden":false,"merged":[[0,1,0,22],[1,19,1,22],[44,5,44,16],[35,7,35,8],[2,4,2,5],[2,7,2,8],[37,19,37,20],[39,19,39,20],[41,17,41,18],[46,5,46,16],[52,5,52,16],[53,5,53,16],[45,5,45,16],[47,5,47,16],[48,5,48,16],[49,5,49,16],[50,5,50,16],[51,5,51,16],[54,5,54,16],[55,5,55,16],[56,5,56,16],[57,5,57,16],[58,5,58,16]]}
[null,"MARS"]
[null,null,null,null,null,null,null,null,null,null,null,null,null,null,null,null,null,null,null,"TOTAL"]
[null,"Date","Services","Obs.","MATIN",null,"Temps","APRES MIDI",null,"Temps","Prime nuit","PJ1","PJ2","Dimanche","Férié","ChècDej","PrimAmp","H Supp","Ampli","Heures","Centièmes","Kéolis","Écart"]
[null,"2018-03-01","763-21h","CC",{"$f":"IFERROR(VLOOKUP(C4,TR!$B$2:$F$633,2,0),\"\")","v":"06:18:00"},{"$f":"IFERROR(VLOOKUP(C4,TR!$B$2:$F$633,3,0),\"\")","v":"13:49:00"},{"$f":"IF(ISERROR(F4-E4),0,F4-E4)","v":"07:31:00"},{"$f":"IFERROR(VLOOKUP(C4,TR!$B$2:$F$633,4,0),\"\")","v":"00:00:00"},{"$f":"IFERROR(VLOOKUP(C4,TR!$B$2:$F$633,5,0),\"\")","v":"00:00:00"},{"$f":"IF(ISERROR(I4-H4),0,(I4-H4))","v":"00:00:00"},{"$f":"IF(COUNTA(E4:F4,H4:I4)=5,1,IF(AND(E4<\"5:00\"*1,E4>\"2:00\"*1),1,IF(AND(I4>=\"22:01\"*1,I4<=\"26:01\"*1),1,IF(AND(I4<=\"22:00\"*1,SUM(I4,R4)>=\"22:01\"*1),1,\"\"))))","v":""},{"$f":"IF(AND(F4>=\"13:15\"*1,H4<\"\"),1,IF(AND(H4>=\"11:00\"*1,H4<=\"12:15\"*1),1,IF(AND(F4<=\"13:15\"*1,SUM(F4,R4)>=\"13:15\"*1),1,\"\")))","v":1},{"$f":"IF(AND(I4>=\"19:30\"*1,1,I4>\"21:30\"*1,C4<>\"\"),1,IF(AND(I4<=\"21:30\"*1,SUM(I4,R4)>=\"21:30\"*1),1,\"\"))","v":""},{"$f":"IF(AND(LEFT(C4,1)=\"d\",AND(Février!N31<>1)),1,IF(AND(LEFT(C4,1)=\"s\",I4>=\"24:01\"*1),1,IF(AND(I4<>\"\",I4<=\"23:59\"*1,SUM(I4,R4)>=\"24:01\"*1),1,\"\")))","v":""},{"$f":"IF(AND(I4>\"24:00\"*1,ISNUMBER(FIND(\"f\",C5))),1,IF(AND(OR(ISNUMBER(FIND(\"FériéCC\",C4)),ISNUMBER(FIND(\"FériéCH\",C4)),ISNUMBER(FIND(\"f\",C4)))),1,\"\"))","v":""},{"$f":"IF(AND(L4=\"\",M4=\"\"),IF(OR(SUMPRODUCT(N(ISNUMBER(FIND({\"s\";\"d\";\"f\"},C4))))>0,G4+J4<0,AND(G4>0,J4>0,I4>\"20:30\"*1),AND(I4<=\"20:30\"*1,SUM(I4,R4)>=\"20:31\"*1)),1,\"\"),\"\")","v":""},{"$f":"IF(OR(AND(G4>0,AND(J4=0)),OR(G4=0,AND(J4>0)),OR(G4+J4>0)),IF(S4=\"\",\"\",IF(R4+S4>=\"13:01\"*1,1,\"\")))","v":""},null,{"$f":"IF(G4=0,IF(J4=0,\"\",I4-H4),IF(J4=0,F4-E4,I4-E4))","v":"07:31:00"},{"$f":"IF(ISERROR((F4-E4)+(I4-H4)),0,(F4-E4)+(I4-H4))","v":0.31319444444444439},{"$f":"T4*24","v":7.5166666666666657},7.6,{"$f":"IF(U4-V4=0,\"0,00\",U4-V4)","v":-8.3333333333333925E-2}]
[null,"2018-03-02","v759-18h",null,{"$f":"IFERROR(VLOOKUP(C5,TR!$B$2:$F$633,2,0),\"\")","v":"04:51:00"},{"$f":"IFERROR(VLOOKUP(C5,TR!$B$2:$F$633,3,0),\"\")","v":"12:26:00"},{"$f":"IF(ISERROR(F5-E5),0,F5-E5)","v":"07:35:00"},{"$f":"IFERROR(VLOOKUP(C5,TR!$B$2:$F$633,4,0),\"\")","v":"00:00:00"},{"$f":"IFERROR(VLOOKUP(C5,TR!$B$2:$F$633,5,0),\"\")","v":"00:00:00"},{"$f":"IF(ISERROR(I5-H5),0,(I5-H5))","v":"00:00:00"},1,"","",{"$f":"IF(AND(LEFT(C5,1)=\"d\",AND(N4<>1)),1,IF(AND(LEFT(C5,1)=\"s\",I5>=\"24:01\"*1),1,IF(AND(I5<>\"\",I5<=\"23:59\"*1,SUM(I5,R5)>=\"24:01\"*1),1,\"\")))","v":""},"",{"$f":"IF(AND(L5=\"\",M5=\"\"),IF(OR(SUMPRODUCT(N(ISNUMBER(FIND({\"s\";\"d\";\"f\"},C5))))>0,G5+J5<0,AND(G5>0,J5>0,I5>\"20:30\"*1),AND(I5<=\"20:30\"*1,SUM(I5,R5)>=\"20:31\"*1)),1,\"\"),\"\")","v":""},{"$f":"IF(OR(AND(G5>0,AND(J5=0)),OR(G5=0,AND(J5>0)),OR(G5+J5>0)),IF(S5=\"\",\"\",IF(R5+S5>=\"13:01\"*1,1,\"\")))","v":""},null,"07:35:00",0.31597222222222227,{"$f":"T5*24","v":7.5833333333333339},6.52,{"$f":"IF(U5-V5=0,\"0,00\",U5-V5)","v":1.0633333333333344}]
[null,"2018-03-03","CC",null,{"$f":"IFERROR(VLOOKUP(C6,TR!$B$2:$F$633,2,0),\"\")","v":"00:00:00"},{"$f":"IFERROR(VLOOKUP(C6,TR!$B$2:$F$633,3,0),\"\")","v":"00:00:00"},"00:00:00",{"$f":"IFERROR(VLOOKUP(C6,TR!$B$2:$F$633,4,0),\"\")","v":"00:00:00"},{"$f":"IFERROR(VLOOKUP(C6,TR!$B$2:$F$633,5,0),\"\")","v":"00:00:00"},"00:00:00","","","","","",{"$f":"IF(AND(L6=\"\",M6=\"\"),IF(OR(SUMPRODUCT(N(ISNUMBER(FIND({\"s\";\"d\";\"f\"},C6))))>0,G6+J6<0,AND(G6>0,J6>0,I6>\"20:30\"*1),AND(I6<=\"20:30\"*1,SUM(I6,R6)>=\"20:31\"*1)),1,\"\"),\"\")","v":""},"",null,"",0,{"$f":"T6*24","v":0},0,"0,00"]
[null,"2018-03-04","CH",null,{"$f":"IFERROR(VLOOKUP(C7,TR!$B$2:$F$633,2,0),\"\")","v":"00:00:00"},{"$f":"IFERROR(VLOOKUP(C7,TR!$B$2:$F$633,3,0),\"\")","v":"00:00:00"},"00:00:00",{"$f":"IFERROR(VLOOKUP(C7,TR!$B$2:$F$633,4,0),\"\")","v":"00:00:00"},{"$f":"IFERROR(VLOOKUP(C7,TR!$B$2:$F$633,5,0),\"\")","v":"00:00:00"},"00:00:00","","","","","",{"$f":"IF(AND(L7=\"\",M7=\"\"),IF(OR(SUMPRODUCT(N(ISNUMBER(FIND({\"s\";\"d\";\"f\"},C7))))>0,G7+J7<0,AND(G7>0,J7>0,I7>\"20:30\"*1),AND(I7<=\"20:30\"*1,SUM(I7,R7)>=\"20:31\"*1)),1,\"\"),\"\")","v":""},"",null,"",0,{"$f":"T7*24","v":0},0,"0,00"]
[null,"2018-03-05","302-3h",null,{"$f":"IFERROR(VLOOKUP(C8,TR!$B$2:$F$633,2,0),\"\")","v":"06:00:00"},{"$f":"IFERROR(VLOOKUP(C8,TR!$B$2:$F$633,3,0),\"\")","v":"10:11:00"},"04:11:00",{"$f":"IFERROR(VLOOKUP(C8,TR!$B$2:$F$633,4,0),\"\")","v":"11:43:00"},{"$f":"IFERROR(VLOOKUP(C8,TR!$B$2:$F$633,5,0),\"\")","v":"15:05:00"},"03:22:00","",1,"","","",{"$f":"IF(AND(L8=\"\",M8=\"\"),IF(OR(SUMPRODUCT(N(ISNUMBER(FIND({\"s\";\"d\";\"f\"},C8))))>0,G8+J8<0,AND(G8>0,J8>0,I8>\"20:30\"*1),AND(I8<=\"20:30\"*1,SUM(I8,R8)>=\"20:31\"*1)),1,\"\"),\"\")","v":""},"",null,"09:05:00",0.31458333333333333,7.55,7.5,4.9999999999999822E-2]
[null,"2018-03-06","302-3h",null,{"$f":"IFERROR(VLOOKUP(C9,TR!$B$2:$F$633,2,0),\"\")","v":"06:00:00"},{"$f":"IFERROR(VLOOKUP(C9,TR!$B$2:$F$633,3,0),\"\")","v":"10:11:00"},"04:11:00",{"$f":"IFERROR(VLOOKUP(C9,TR!$B$2:$F$633,4,0),\"\")","v":"11:43:00"},{"$f":"IFERROR(VLOOKUP(C9,TR!$B$2:$F$633,5,0),\"\")","v":"15:05:00"},"03:22:00","",1,"","","",{"$f":"IF(AND(L9=\"\",M9=\"\"),IF(OR(SUMPRODUCT(N(ISNUMBER(FIND({\"s\";\"d\";\"f\"},C9))))>0,G9+J9<0,AND(G9>0,J9>0,I9>\"20:30\"*1),AND(I9<=\"20:30\"*1,SUM(I9,R9)>=\"20:31\"*1)),1,\"\"),\"\")","v":""},"",null,"09:05:00",0.31458333333333333,7.55,7.9,-0.35000000000000053]
[null,"2018-03-07","RT",null,{"$f":"IFERROR(VLOOKUP(C10,TR!$B$2:$F$633,2,0),\"\")","v":"00:00:00"},{"$f":"IFERROR(VLOOKUP(C10,TR!$B$2:$F$633,3,0),\"\")","v":"00:00:00"},"00:00:00",{"$f":"IFERROR(VLOOKUP(C10,TR!$B$2:$F$633,4,0),\"\")","v":"00:00:00"},{"$f":"IFERROR(VLOOKUP(C10,TR!$B$2:$F$633,5,0),\"\")","v":"00:00:00"},"00:00:00","","","","","",{"$f":"IF(AND(L10=\"\",M10=\"\"),IF(OR(SUMPRODUCT(N(ISNUMBER(FIND({\"s\";\"d\";\"f\"},C10))))>0,G10+J10<0,AND(G10>0,J10>0,I10>\"20:30\"*1),AND(I10<=\"20:30\"*1,SUM(I10,R10)>=\"20:31\"*1)),1,\"\"),\"\")","v":""},"",null,"",0,0,8.08,-8.08]
[null,"2018-03-08","CC",null,{"$f":"IFERROR(VLOOKUP(C11,TR!$B$2:$F$633,2,0),\"\")","v":"00:00:00"},{"$f":"IFERROR(VLOOKUP(C11,TR!$B$2:$F$633,3,0),\"\")","v":"00:00:00"},"00:00:00",{"$f":"IFERROR(VLOOKUP(C11,TR!$B$2:$F$633,4,0),\"\")","v":"00:00:00"},{"$f":"IFERROR(VLOOKUP(C11,TR!$B$2:$F$633,5,0),\"\")","v":"00:00:00"},"00:00:00","","","","","",{"$f":"IF(AND(L11=\"\",M11=\"\"),IF(OR(SUMPRODUCT(N(ISNUMBER(FIND({\"s\";\"d\";\"f\"},C11))))>0,G11+J11<0,AND(G11>0,J11>0,I11>\"20:30\"*1),AND(I11<=\"20:30\"*1,SUM(I11,R11)>=\"20:31\"*1)),1,\"\"),\"\")","v":""},"",null,"",0,0,0,"0,00"]
[null,"2018-03-09","CH",null,{"$f":"IFERROR(VLOOKUP(C12,TR!$B$2:$F$633,2,0),\"\")","v":"00:00:00"},{"$f":"IFERROR(VLOOKUP(C12,TR!$B$2:$F$633,3,0),\"\")","v":"00:00:00"},"00:00:00",{"$f":"IFERROR(VLOOKUP(C12,TR!$B$2:$F$633,4,0),\"\")","v":"00:00:00"},{"$f":"IFERROR(VLOOKUP(C12,TR!$B$2:$F$633,5,0),\"\")","v":"00:00:00"},"00:00:00","","","","","",{"$f":"IF(AND(L12=\"\",M12=\"\"),IF(OR(SUMPRODUCT(N(ISNUMBER(FIND({\"s\";\"d\";\"f\"},C12))))>0,G12+J12<0,AND(G12>0,J12>0,I12>\"20:30\"*1),AND(I12<=\"20:30\"*1,SUM(I12,R12)>=\"20:31\"*1)),1,\"\"),\"\")","v":""},"",null,"",0,0,5.67,-5.67]
[null,"2018-03-10","400-1h",null,{"$f":"IFERROR(VLOOKUP(C13,TR!$B$2:$F$633,2,0),\"\")","v":"00:00:00"},{"$f":"IFERROR(VLOOKUP(C13,TR!$B$2:$F$633,3,0),\"\")","v":"00:00:00"},"00:00:00",{"$f":"IFERROR(VLOOKUP(C13,TR!$B$2:$F$633,4,0),\"\")","v":"14:31:00"},{"$f":"IFERROR(VLOOKUP(C13,TR!$B$2:$F$633,5,0),\"\")","v":1.0375000000000001},"10:23:00",1,"",1,"","",{"$f":"IF(AND(L13=\"\",M13=\"\"),IF(OR(SUMPRODUCT(N(ISNUMBER(FIND({\"s\";\"d\";\"f\"},C13))))>0,G13+J13<0,AND(G13>0,J13>0,I13>\"20:30\"*1),AND(I13<=\"20:30\"*1,SUM(I13,R13)>=\"20:31\"*1)),1,\"\"),\"\")","v":""},"",null,"10:23:00",0.43263888888888902,10.383333333333336,7.1,3.2833333333333368]
[null,"2018-03-11","RTA",null,{"$f":"IFERROR(VLOOKUP(C14,TR!$B$2:$F$633,2,0),\"\")","v":"00:00:00"},{"$f":"IFERROR(VLOOKUP(C14,TR!$B$2:$F$633,3,0),\"\")","v":"00:00:00"},"00:00:00",{"$f":"IFERROR(VLOOKUP(C14,TR!$B$2:$F$633,4,0),\"\")","v":"00:00:00"},{"$f":"IFERROR(VLOOKUP(C14,TR!$B$2:$F$633,5,0),\"\")","v":"00:00:00"},"00:00:00","","","","","",{"$f":"IF(AND(L14=\"\",M14=\"\"),IF(OR(SUMPRODUCT(N(ISNUMBER(FIND({\"s\";\"d\";\"f\"},C14))))>0,G14+J14<0,AND(G14>0,J14>0,I14>\"20:30\"*1),AND(I14<=\"20:30\"*1,SUM(I14,R14)>=\"20:31\"*1)),1,\"\"),\"\")","v":""},"",null,"",0,0,0,"0,00"]
[null,"2018-03-12","FOTLBJ3",null,{"$f":"IFERROR(VLOOKUP(C15,TR!$B$2:$F$633,2,0),\"\")","v":"07:30:00"},{"$f":"IFERROR(VLOOKUP(C15,TR!$B$2:$F$633,3,0),\"\")","v":"11:30:00"},"04:00:00",{"$f":"IFERROR(VLOOKUP(C15,TR!$B$2:$F$633,4,0),\"\")","v":"12:30:00"},{"$f":"IFERROR(VLOOKUP(C15,TR!$B$2:$F$633,5,0),\"\")","v":"16:21:00"},"03:51:00","","","","","",{"$f":"IF(AND(L15=\"\",M15=\"\"),IF(OR(SUMPRODUCT(N(ISNUMBER(FIND({\"s\";\"d\";\"f\"},C15))))>0,G15+J15<0,AND(G15>0,J15>0,I15>\"20:30\"*1),AND(I15<=\"20:30\"*1,SUM(I15,R15)>=\"20:31\"*1)),1,\"\"),\"\")","v":""},"",null,"08:51:00",0.32708333333333334,7.85,7.35,0.5]
[null,"2018-03-13","FOTLBN1",null,{"$f":"IFERROR(VLOOKUP(C16,TR!$B$2:$F$633,2,0),\"\")","v":"00:00:00"},{"$f":"IFERROR(VLOOKUP(C16,TR!$B$2:$F$633,3,0),\"\")","v":"00:00:00"},"00:00:00",{"$f":"IFERROR(VLOOKUP(C16,TR!$B$2:$F$633,4,0),\"\")","v":"15:30:00"},{"$f":"IFERROR(VLOOKUP(C16,TR!$B$2:$F$633,5,0),\"\")","v":"23:06:00"},"07:36:00",1,"",1,"","",{"$f":"IF(AND(L16=\"\",M16=\"\"),IF(OR(SUMPRODUCT(N(ISNUMBER(FIND({\"s\";\"d\";\"f\"},C16))))>0,G16+J16<0,AND(G16>0,J16>0,I16>\"20:30\"*1),AND(I16<=\"20:30\"*1,SUM(I16,R16)>=\"20:31\"*1)),1,\"\"),\"\")","v":""},"",null,"07:36:00",0.31666666666666665,7.6,7.72,-0.12000000000000011]
[null,"2018-03-14","FOTLBN1",null,{"$f":"IFERROR(VLOOKUP(C17,TR!$B$2:$F$633,2,0),\"\")","v":"00:00:00"},{"$f":"IFERROR(VLOOKUP(C17,TR!$B$2:$F$633,3,0),\"\")","v":"00:00:00"},"00:00:00",{"$f":"IFERROR(VLOOKUP(C17,TR!$B$2:$F$633,4,0),\"\")","v":"15:30:00"},{"$f":"IFERROR(VLOOKUP(C17,TR!$B$2:$F$633,5,0),\"\")","v":"23:06:00"},"07:36:00",1,"",1,"","",{"$f":"IF(AND(L17=\"\",M17=\"\"),IF(OR(SUMPRODUCT(N(ISNUMBER(FIND({\"s\";\"d\";\"f\"},C17))))>0,G17+J17<0,AND(G17>0,J17>0,I17>\"20:30\"*1),AND(I17<=\"20:30\"*1,SUM(I17,R17)>=\"20:31\"*1)),1,\"\"),\"\")","v":""},"",null,"07:36:00",0.31666666666666665,7.6,0,7.6]
[null,"2018-03-15","FOTLBN1",null,{"$f":"IFERROR(VLOOKUP(C18,TR!$B$2:$F$633,2,0),\"\")","v":"00:00:00"},{"$f":"IFERROR(VLOOKUP(C18,TR!$B$2:$F$633,3,0),\"\")","v":"00:00:00"},"00:00:00",{"$f":"IFERROR(VLOOKUP(C18,TR!$B$2:$F$633,4,0),\"\")","v":"15:30:00"},{"$f":"IFERROR(VLOOKUP(C18,TR!$B$2:$F$633,5,0),\"\")","v":"23:06:00"},"07:36:00",1,"",1,"","",{"$f":"IF(AND(L18=\"\",M18=\"\"),IF(OR(SUMPRODUCT(N(ISNUMBER(FIND({\"s\";\"d\";\"f\"},C18))))>0,G18+J18<0,AND(G18>0,J18>0,I18>\"20:30\"*1),AND(I18<=\"20:30\"*1,SUM(I18,R18)>=\"20:31\"*1)),1,\"\"),\"\")","v":""},"",4.1666666666666666E-3,"07:36:00",0.31666666666666665,7.6,7.82,-0.22000000000000064]
[null,"2018-03-16","FOTLBN0",null,{"$f":"IFERROR(VLOOKUP(C19,TR!$B$2:$F$633,2,0),\"\")","v":"00:00:00"},{"$f":"IFERROR(VLOOKUP(C19,TR!$B$2:$F$633,3,0),\"\")","v":"00:00:00"},"00:00:00",{"$f":"IFERROR(VLOOKUP(C19,TR!$B$2:$F$633,4,0),\"\")","v":"15:00:00"},{"$f":"IFERROR(VLOOKUP(C19,TR!$B$2:$F$633,5,0),\"\")","v":"22:36:00"},"07:36:00",1,"",1,"","",{"$f":"IF(AND(L19=\"\",M19=\"\"),IF(OR(SUMPRODUCT(N(ISNUMBER(FIND({\"s\";\"d\";\"f\"},C19))))>0,G19+J19<0,AND(G19>0,J19>0,I19>\"20:30\"*1),AND(I19<=\"20:30\"*1,SUM(I19,R19)>=\"20:31\"*1)),1,\"\"),\"\")","v":""},"",null,"07:36:00",0.31666666666666665,7.6,8,-0.40000000000000036]
[null,"2018-03-17","CC",null,{"$f":"IFERROR(VLOOKUP(C20,TR!$B$2:$F$633,2,0),\"\")","v":"00:00:00"},{"$f":"IFERROR(VLOOKUP(C20,TR!$B$2:$F$633,3,0),\"\")","v":"00:00:00"},"00:00:00",{"$f":"IFERROR(VLOOKUP(C20,TR!$B$2:$F$633,4,0),\"\")","v":"00:00:00"},{"$f":"IFERROR(VLOOKUP(C20,TR!$B$2:$F$633,5,0),\"\")","v":"00:00:00"},"00:00:00","","","","","",{"$f":"IF(AND(L20=\"\",M20=\"\"),IF(OR(SUMPRODUCT(N(ISNUMBER(FIND({\"s\";\"d\";\"f\"},C20))))>0,G20+J20<0,AND(G20>0,J20>0,I20>\"20:30\"*1),AND(I20<=\"20:30\"*1,SUM(I20,R20)>=\"20:31\"*1)),1,\"\"),\"\")","v":""},"",null,"",0,0,0,"0,00"]
[null,"2018-03-18","CH",null,{"$f":"IFERROR(VLOOKUP(C21,TR!$B$2:$F$633,2,0),\"\")","v":"00:00:00"},{"$f":"IFERROR(VLOOKUP(C21,TR!$B$2:$F$633,3,0),\"\")","v":"00:00:00"},"00:00:00",{"$f":"IFERROR(VLOOKUP(C21,TR!$B$2:$F$633,4,0),\"\")","v":"00:00:00"},{"$f":"IFERROR(VLOOKUP(C21,TR!$B$2:$F$633,5,0),\"\")","v":"00:00:00"},"00:00:00","","","","","",{"$f":"IF(AND(L21=\"\",M21=\"\"),IF(OR(SUMPRODUCT(N(ISNUMBER(FIND({\"s\";\"d\";\"f\"},C21))))>0,G21+J21<0,AND(G21>0,J21>0,I21>\"20:30\"*1),AND(I21<=\"20:30\"*1,SUM(I21,R21)>=\"20:31\"*1)),1,\"\"),\"\")","v":""},"",null,"",0,0,0,"0,00"]
[null,"2018-03-19","CC",null,{"$f":"IFERROR(VLOOKUP(C22,TR!$B$2:$F$633,2,0),\"\")","v":"00:00:00"},{"$f":"IFERROR(VLOOKUP(C22,TR!$B$2:$F$633,3,0),\"\")","v":"00:00:00"},"00:00:00",{"$f":"IFERROR(VLOOKUP(C22,TR!$B$2:$F$633,4,0),\"\")","v":"00:00:00"},{"$f":"IFERROR(VLOOKUP(C22,TR!$B$2:$F$633,5,0),\"\")","v":"00:00:00"},"00:00:00","","","","","",{"$f":"IF(AND(L22=\"\",M22=\"\"),IF(OR(SUMPRODUCT(N(ISNUMBER(FIND({\"s\";\"d\";\"f\"},C22))))>0,G22+J22<0,AND(G22>0,J22>0,I22>\"20:30\"*1),AND(I22<=\"20:30\"*1,SUM(I22,R22)>=\"20:31\"*1)),1,\"\"),\"\")","v":""},"",null,"",0,0,7.85,-7.85]
[null,"2018-03-20","FOTLBN1",null,{"$f":"IFERROR(VLOOKUP(C23,TR!$B$2:$F$633,2,0),\"\")","v":"00:00:00"},{"$f":"IFERROR(VLOOKUP(C23,TR!$B$2:$F$633,3,0),\"\")","v":"00:00:00"},"00:00:00",{"$f":"IFERROR(VLOOKUP(C23,TR!$B$2:$F$633,4,0),\"\")","v":"15:30:00"},{"$f":"IFERROR(VLOOKUP(C23,TR!$B$2:$F$633,5,0),\"\")","v":"23:06:00"},"07:36:00",1,"",1,"","",{"$f":"IF(AND(L23=\"\",M23=\"\"),IF(OR(SUMPRODUCT(N(ISNUMBER(FIND({\"s\";\"d\";\"f\"},C23))))>0,G23+J23<0,AND(G23>0,J23>0,I23>\"20:30\"*1),AND(I23<=\"20:30\"*1,SUM(I23,R23)>=\"20:31\"*1)),1,\"\"),\"\")","v":""},"",null,"07:36:00",0.31666666666666665,7.6,8.15,-0.55000000000000071]
[null,"2018-03-21","FOTLBN1",null,{"$f":"IFERROR(VLOOKUP(C24,TR!$B$2:$F$633,2,0),\"\")","v":"00:00:00"},{"$f":"IFERROR(VLOOKUP(C24,TR!$B$2:$F$633,3,0),\"\")","v":"00:00:00"},"00:00:00",{"$f":"IFERROR(VLOOKUP(C24,TR!$B$2:$F$633,4,0),\"\")","v":"15:30:00"},{"$f":"IFERROR(VLOOKUP(C24,TR!$B$2:$F$633,5,0),\"\")","v":"23:06:00"},"07:36:00",1,"",1,"","",{"$f":"IF(AND(L24=\"\",M24=\"\"),IF(OR(SUMPRODUCT(N(ISNUMBER(FIND({\"s\";\"d\";\"f\"},C24))))>0,G24+J24<0,AND(G24>0,J24>0,I24>\"20:30\"*1),AND(I24<=\"20:30\"*1,SUM(I24,R24)>=\"20:31\"*1)),1,\"\"),\"\")","v":""},"",null,"07:36:00",0.31666666666666665,7.6,0,7.6]
[null,"2018-03-22","FOTLBN0",null,{"$f":"IFERROR(VLOOKUP(C25,TR!$B$2:$F$633,2,0),\"\")","v":"00:00:00"},{"$f":"IFERROR(VLOOKUP(C25,TR!$B$2:$F$633,3,0),\"\")","v":"00:00:00"},"00:00:00",{"$f":"IFERROR(VLOOKUP(C25,TR!$B$2:$F$633,4,0),\"\")","v":"15:00:00"},{"$f":"IFERROR(VLOOKUP(C25,TR!$B$2:$F$633,5,0),\"\")","v":"22:36:00"},"07:36:00",1,"",1,"","",{"$f":"IF(AND(L25=\"\",M25=\"\"),IF(OR(SUMPRODUCT(N(ISNUMBER(FIND({\"s\";\"d\";\"f\"},C25))))>0,G25+J25<0,AND(G25>0,J25>0,I25>\"20:30\"*1),AND(I25<=\"20:30\"*1,SUM(I25,R25)>=\"20:31\"*1)),1,\"\"),\"\")","v":""},"",null,"07:36:00",0.31666666666666665,7.6,0,7.6]
[null,"2018-03-23","FOTLBJ6",null,{"$f":"IFERROR(VLOOKUP(C26,TR!$B$2:$F$633,2,0),\"\")","v":"08:40:00"},{"$f":"IFERROR(VLOOKUP(C26,TR!$B$2:$F$633,3,0),\"\")","v":"12:30:00"},"03:50:00",{"$f":"IFERROR(VLOOKUP(C26,TR!$B$2:$F$633,4,0),\"\")","v":"13:30:00"},{"$f":"IFERROR(VLOOKUP(C26,TR!$B$2:$F$633,5,0),\"\")","v":"17:16:00"},"03:46:00","","","","","",{"$f":"IF(AND(L26=\"\",M26=\"\"),IF(OR(SUMPRODUCT(N(ISNUMBER(FIND({\"s\";\"d\";\"f\"},C26))))>0,G26+J26<0,AND(G26>0,J26>0,I26>\"20:30\"*1),AND(I26<=\"20:30\"*1,SUM(I26,R26)>=\"20:31\"*1)),1,\"\"),\"\")","v":""},"",null,"08:36:00",0.31666666666666671,7.6000000000000014,0,7.6000000000000014]
[null,"2018-03-24","FOTLBM4",null,{"$f":"IFERROR(VLOOKUP(C27,TR!$B$2:$F$633,2,0),\"\")","v":"05:45:00"},{"$f":"IFERROR(VLOOKUP(C27,TR!$B$2:$F$633,3,0),\"\")","v":"13:21:00"},"07:36:00",{"$f":"IFERROR(VLOOKUP(C27,TR!$B$2:$F$633,4,0),\"\")","v":"00:00:00"},{"$f":"IFERROR(VLOOKUP(C27,TR!$B$2:$F$633,5,0),\"\")","v":"00:00:00"},"00:00:00","",1,"","","",{"$f":"IF(AND(L27=\"\",M27=\"\"),IF(OR(SUMPRODUCT(N(ISNUMBER(FIND({\"s\";\"d\";\"f\"},C27))))>0,G27+J27<0,AND(G27>0,J27>0,I27>\"20:30\"*1),AND(I27<=\"20:30\"*1,SUM(I27,R27)>=\"20:31\"*1)),1,\"\"),\"\")","v":""},"",null,"07:36:00",0.31666666666666665,7.6,6.52,1.08]
[null,"2018-03-25","CH",null,{"$f":"IFERROR(VLOOKUP(C28,TR!$B$2:$F$633,2,0),\"\")","v":"00:00:00"},{"$f":"IFERROR(VLOOKUP(C28,TR!$B$2:$F$633,3,0),\"\")","v":"00:00:00"},"00:00:00",{"$f":"IFERROR(VLOOKUP(C28,TR!$B$2:$F$633,4,0),\"\")","v":"00:00:00"},{"$f":"IFERROR(VLOOKUP(C28,TR!$B$2:$F$633,5,0),\"\")","v":"00:00:00"},"00:00:00","","","","","",{"$f":"IF(AND(L28=\"\",M28=\"\"),IF(OR(SUMPRODUCT(N(ISNUMBER(FIND({\"s\";\"d\";\"f\"},C28))))>0,G28+J28<0,AND(G28>0,J28>0,I28>\"20:30\"*1),AND(I28<=\"20:30\"*1,SUM(I28,R28)>=\"20:31\"*1)),1,\"\"),\"\")","v":""},"",null,"",0,0,7.85,-7.85]
[null,"2018-03-26","CC",null,{"$f":"IFERROR(VLOOKUP(C29,TR!$B$2:$F$633,2,0),\"\")","v":"00:00:00"},{"$f":"IFERROR(VLOOKUP(C29,TR!$B$2:$F$633,3,0),\"\")","v":"00:00:00"},"00:00:00",{"$f":"IFERROR(VLOOKUP(C29,TR!$B$2:$F$633,4,0),\"\")","v":"00:00:00"},{"$f":"IFERROR(VLOOKUP(C29,TR!$B$2:$F$633,5,0),\"\")","v":"00:00:00"},"00:00:00","","","","","",{"$f":"IF(AND(L29=\"\",M29=\"\"),IF(OR(SUMPRODUCT(N(ISNUMBER(FIND({\"s\";\"d\";\"f\"},C29))))>0,G29+J29<0,AND(G29>0,J29>0,I29>\"20:30\"*1),AND(I29<=\"20:30\"*1,SUM(I29,R29)>=\"20:31\"*1)),1,\"\"),\"\")","v":""},"",null,"",0,0,7.6,-7.6]
[null,"2018-03-27","FTLBJ9",null,{"$f":"IFERROR(VLOOKUP(C30,TR!$B$2:$F$633,2,0),\"\")","v":"08:00:00"},{"$f":"IFERROR(VLOOKUP(C30,TR!$B$2:$F$633,3,0),\"\")","v":"11:50:00"},"03:50:00",{"$f":"IFERROR(VLOOKUP(C30,TR!$B$2:$F$633,4,0),\"\")","v":"13:00:00"},{"$f":"IFERROR(VLOOKUP(C30,TR!$B$2:$F$633,5,0),\"\")","v":"16:46:00"},"03:46:00","","","","","",{"$f":"IF(AND(L30=\"\",M30=\"\"),IF(OR(SUMPRODUCT(N(ISNUMBER(FIND({\"s\";\"d\";\"f\"},C30))))>0,G30+J30<0,AND(G30>0,J30>0,I30>\"20:30\"*1),AND(I30<=\"20:30\"*1,SUM(I30,R30)>=\"20:31\"*1)),1,\"\"),\"\")","v":""},"",null,"08:46:00",0.31666666666666671,7.6000000000000014,0,7.6000000000000014]
[null,"2018-03-28","FTLBJ9",null,{"$f":"IFERROR(VLOOKUP(C31,TR!$B$2:$F$633,2,0),\"\")","v":"08:00:00"},{"$f":"IFERROR(VLOOKUP(C31,TR!$B$2:$F$633,3,0),\"\")","v":"11:50:00"},"03:50:00",{"$f":"IFERROR(VLOOKUP(C31,TR!$B$2:$F$633,4,0),\"\")","v":"13:00:00"},{"$f":"IFERROR(VLOOKUP(C31,TR!$B$2:$F$633,5,0),\"\")","v":"16:46:00"},"03:46:00","","","","","",{"$f":"IF(AND(L31=\"\",M31=\"\"),IF(OR(SUMPRODUCT(N(ISNUMBER(FIND({\"s\";\"d\";\"f\"},C31))))>0,G31+J31<0,AND(G31>0,J31>0,I31>\"20:30\"*1),AND(I31<=\"20:30\"*1,SUM(I31,R31)>=\"20:31\"*1)),1,\"\"),\"\")","v":""},"",null,"08:46:00",0.31666666666666671,7.6000000000000014,5.6,2.0000000000000018]
[null,"2018-03-29","FOHTM03",null,{"$f":"IFERROR(VLOOKUP(C32,TR!$B$2:$F$633,2,0),\"\")","v":""},{"$f":"IFERROR(VLOOKUP(C32,TR!$B$2:$F$633,3,0),\"\")","v":""},"00:00:00",{"$f":"IFERROR(VLOOKUP(C32,TR!$B$2:$F$633,4,0),\"\")","v":""},{"$f":"IFERROR(VLOOKUP(C32,TR!$B$2:$F$633,5,0),\"\")","v":""},"00:00:00","","",1,"","",{"$f":"IF(AND(L32=\"\",M32=\"\"),IF(OR(SUMPRODUCT(N(ISNUMBER(FIND({\"s\";\"d\";\"f\"},C32))))>0,G32+J32<0,AND(G32>0,J32>0,I32>\"20:30\"*1),AND(I32<=\"20:30\"*1,SUM(I32,R32)>=\"20:31\"*1)),1,\"\"),\"\")","v":""},"",null,"",0,0,7.7,-7.7]
[null,"2018-03-30","FOTHM07",null,{"$f":"IFERROR(VLOOKUP(C33,TR!$B$2:$F$633,2,0),\"\")","v":"08:00:00"},{"$f":"IFERROR(VLOOKUP(C33,TR!$B$2:$F$633,3,0),\"\")","v":"11:50:00"},"03:50:00",{"$f":"IFERROR(VLOOKUP(C33,TR!$B$2:$F$633,4,0),\"\")","v":"13:00:00"},{"$f":"IFERROR(VLOOKUP(C33,TR!$B$2:$F$633,5,0),\"\")","v":"16:46:00"},"03:46:00","","","","","",{"$f":"IF(AND(L33=\"\",M33=\"\"),IF(OR(SUMPRODUCT(N(ISNUMBER(FIND({\"s\";\"d\";\"f\"},C33))))>0,G33+J33<0,AND(G33>0,J33>0,I33>\"20:30\"*1),AND(I33<=\"20:30\"*1,SUM(I33,R33)>=\"20:31\"*1)),1,\"\"),\"\")","v":""},"",5.5555555555555558E-3,"08:46:00",0.31666666666666671,7.6000000000000014,6.1,1.5000000000000018]
[null,"2018-03-31","FOHTM03",null,{"$f":"IFERROR(VLOOKUP(C34,TR!$B$2:$F$633,2,0),\"\")","v":""},{"$f":"IFERROR(VLOOKUP(C34,TR!$B$2:$F$633,3,0),\"\")","v":""},"00:00:00",{"$f":"IFERROR(VLOOKUP(C34,TR!$B$2:$F$633,4,0),\"\")","v":""},{"$f":"IFERROR(VLOOKUP(C34,TR!$B$2:$F$633,5,0),\"\")","v":""},"00:00:00","","",1,"","",{"$f":"IF(AND(L34=\"\",M34=\"\"),IF(OR(SUMPRODUCT(N(ISNUMBER(FIND({\"s\";\"d\";\"f\"},C34))))>0,G34+J34<0,AND(G34>0,J34>0,I34>\"20:30\"*1),AND(I34<=\"20:30\"*1,SUM(I34,R34)>=\"20:31\"*1)),1,\"\"),\"\")","v":""},"",null,"",0,0,7.53,-7.53]
[]
[null,"Jours travaillés",{"$f":"(COUNTIF(Février!C24:C34,\"<>\")+COUNTIF(Mars!C4:C23,\"<>\"))-(COUNTIF(Février!C24:C34,\"CC*\")+COUNTIF(Mars!C4:C23,\"CC*\"))-(COUNTIF(Février!C24:C34,\"CH*\")+COUNTIF(Mars!C4:C23,\"CH*\"))-(COUNTIF(Février!C24:C34,\"RT*\")+COUNTIF(Mars!C4:C23,\"RT*\"))-(COUNTIF(Février!C24:C34,\"Férié*\")+COUNTIF(Mars!C4:C23,\"Férié*\"))-(COUNTIF(Février!C24:C34,\"Mal*\")+COUNTIF(Mars!C4:C23,\"Mal*\"))-(COUNTIF(Février!C24:C34,\"CP*\")+COUNTIF(Mars!C4:C23,\"CP*\"))","v":13},null,null,null,null,"Du 21 au 20",null,null,{"$f":"SUM(Février!$K$24:$K$34,K4:K23)","v":7},{"$f":"SUM(Février!$L$24:$L$34,L4:L23)","v":4},{"$f":"SUM(Février!$M$24:$M$34,M4:M23)","v":7},{"$f":"SUM(Février!$N$24:$N$34,N4:N23)","v":0},{"$f":"SUM(Février!$O$24:$O$34,O4:O23)","v":0},{"$f":"SUM(Février!$P$24:$P$34,P4:P23)","v":0},{"$f":"SUM(Février!$Q$24:$Q$34,Q4:Q23)","v":0},{"$f":"SUM(Février!$R$24:$R$34,R4:R23)","v":"00:06:00"},null,{"$f":"SUM(Février!T24:T34)+SUM(Mars!T4:T23)","v":3.9548611111111098},{"$f":"SUM(U4:U34)","v":139.6333333333333},{"$f":"SUM(V4:V34)","v":146.15999999999997}]
[null,"CP",{"$f":"(COUNTIF(Février!C24:C34,\"CP\")+COUNTIF(Mars!C4:C23,\"CP\"))","v":2},null,null,null,null,null,null,null,{"$f":"(I39*2)*K36","v":123.9392},{"$f":"Recap!H35*L36","v":28.56},{"$f":"Recap!H35*M36","v":49.98},{"$f":"(I39*5)*N36","v":0},{"$f":"(Recap!H33)*O36","v":0},{"$f":"7.5*P36","v":0},{"$f":"(I39*1.5)*Q36","v":0},{"$f":"R36*24","v":0.1}]
[null,"CH",{"$f":"(COUNTIF(Février!C24:C34,\"CH\")+COUNTIF(Mars!C4:C23,\"CH\"))","v":4},null,null,null,null,null,"VP",null,null,null,null,null,null,null,null,null,null,"Horaire mensuel",null,6.1749999999999998,{"$f":"V38*24","v":148.19999999999999}]
[null,"RT",{"$f":"(COUNTIF(Février!C24:C34,\"RT\")+COUNTIF(Mars!C4:C23,\"RT\"))","v":1},null,null,null,null,null,8.8528000000000002]
[null,"CC",{"$f":"(COUNTIF(Février!C24:C34,\"CC\")+COUNTIF(Mars!C4:C23,\"CC\"))","v":5},null,null,null,null,null,null,null,null,null,null,null,null,null,null,null,null,"Différence",null,{"$f":"IF(V38>T36,\"-\",\"\")&TEXT(ABS(T36-V38),\"[h]:mm\")","v":"-53:17"},{"$f":"(T36-V38)*24","v":-53.28333333333336}]
[null,"Férié",{"$f":"(COUNTIF(Février!C24:C34,\"Férié\")+COUNTIF(Mars!C4:C23,\"Férié\"))","v":0}]
[null,"Férié CC-CH-RT",{"$f":"(COUNTIF(Février!C24:C34,\"FériéCC\")+COUNTIF(Mars!C4:C23,\"FériéCC\")+COUNTIF(Février!C24:C34,\"FériéCH\")+COUNTIF(Mars!C4:C23,\"FériéCH\")+COUNTIF(Février!C24:C34,\"FériéRT\")+COUNTIF(Mars!C4:C23,\"FériéRT\"))","v":0},null,null,null,null,null,null,null,null,null,null,null,null,null,null,"Heures réelles",null,{"$f":"SUM(T4:T34)","v":5.8180555555555529}]
[null,null,null,null,null,null,null,null,null,null,null,null,null,null,null,null,null,null,null,{"$f":"T42*24","v":139.63333333333327},null,null,{"$f":"(T42-V38)*24","v":-8.5666666666667268}]
[]
[null,null,null,null,null,"NOTES"]

{"sheet":"Avril","index":4,"n_rows":45,"n_cols":23,"rows_kept":45,"cut":false,"hidden":false,"merged":[[0,1,0,22],[44,5,44,17],[1,19,1,22],[2,4,2,5],[2,7,2,8],[35,8,35,9],[37,19,37,20],[39,19,39,20],[41,17,41,18]]}
[null,"AVRIL"]
[null,null,null,null,null,null,null,null,null,null,null,null,null,null,null,null,null,null,null,"TOTAL"]
[null,"Date","Services","Obs.","MATIN",null,"Temps","APRES MIDI",null,"Temps","Prime nuit","PJ1","PJ2","Dimanche","Férié","ChècDej","PrimAmp","H Supp","Ampli","Heures","Centièmes","Kéolis","Écart"]
[null,"2018-04-01","CH",null,{"$f":"IFERROR(VLOOKUP(C4,TR!$B$2:$F$633,2,0),\"\")","v":"00:00:00"},{"$f":"IFERROR(VLOOKUP(C4,TR!$B$2:$F$633,3,0),\"\")","v":"00:00:00"},{"$f":"IF(ISERROR(F4-E4),0,F4-E4)","v":"00:00:00"},{"$f":"IFERROR(VLOOKUP(C4,TR!$B$2:$F$633,4,0),\"\")","v":"00:00:00"},{"$f":"IFERROR(VLOOKUP(C4,TR!$B$2:$F$633,5,0),\"\")","v":"00:00:00"},{"$f":"IF(ISERROR(I4-H4),0,(I4-H4))","v":"00:00:00"},{"$f":"IF(COUNTA(E4:F4,H4:I4)=5,1,IF(AND(E4<\"5:00\"*1,E4>\"2:00\"*1),1,IF(AND(I4>=\"22:01\"*1,I4<=\"26:01\"*1),1,IF(AND(I4<=\"22:00\"*1,SUM(I4,R4)>=\"22:01\"*1),1,\"\"))))","v":""},{"$f":"IF(AND(F4>=\"13:15\"*1,H4<\"\"),1,IF(AND(H4>=\"11:00\"*1,H4<=\"12:15\"*1),1,IF(AND(F4<=\"13:15\"*1,SUM(F4,R4)>=\"13:15\"*1),1,\"\")))","v":""},{"$f":"IF(AND(I4>=\"19:30\"*1,1,I4>\"21:30\"*1,C4<>\"\"),1,IF(AND(I4<=\"21:30\"*1,SUM(I4,R4)>=\"21:30\"*1),1,\"\"))","v":""},{"$f":"IF(AND(LEFT(C4,1)=\"d\",AND(Mars!N34<>1)),1,IF(AND(LEFT(C4,1)=\"s\",I4>=\"24:01\"*1),1,IF(AND(I4<>\"\",I4<=\"23:59\"*1,SUM(I4,R4)>=\"24:01\"*1),1,\"\")))","v":""},{"$f":"IF(AND(I4>\"24:00\"*1,ISNUMBER(FIND(\"f\",C5))),1,IF(AND(OR(ISNUMBER(FIND(\"FériéCC\",C4)),ISNUMBER(FIND(\"FériéCH\",C4)),ISNUMBER(FIND(\"f\",C4)))),1,\"\"))","v":""},{"$f":"IF(AND(L4=\"\",M4=\"\"),IF(OR(SUMPRODUCT(N(ISNUMBER(FIND({\"s\";\"d\";\"f\"},C4))))>0,G4+J4<0,AND(G4>0,J4>0,I4>\"20:30\"*1),AND(I4<=\"20:30\"*1,SUM(I4,R4)>=\"20:31\"*1)),1,\"\"),\"\")","v":""},{"$f":"IF(OR(AND(G4>0,AND(J4=0)),OR(G4=0,AND(J4>0)),OR(G4+J4>0)),IF(S4=\"\",\"\",IF(R4+S4>=\"13:01\"*1,1,\"\")))","v":""},null,{"$f":"IF(G4=0,IF(J4=0,\"\",I4-H4),IF(J4=0,F4-E4,I4-E4))","v":""},{"$f":"IF(ISERROR((F4-E4)+(I4-H4)),0,(F4-E4)+(I4-H4))","v":0},{"$f":"T4*24","v":0},null,{"$f":"IF(U4-V4=0,\"0,00\",U4-V4)","v":"0,00"}]
[null,"2018-04-02","FOHTM03f",null,{"$f":"IFERROR(VLOOKUP(C5,TR!$B$2:$F$633,2,0),\"\")","v":"05:45:00"},{"$f":"IFERROR(VLOOKUP(C5,TR!$B$2:$F$633,3,0),\"\")","v":"13:21:00"},{"$f":"IF(ISERROR(F5-E5),0,F5-E5)","v":"07:36:00"},{"$f":"IFERROR(VLOOKUP(C5,TR!$B$2:$F$633,4,0),\"\")","v":"00:00:00"},{"$f":"IFERROR(VLOOKUP(C5,TR!$B$2:$F$633,5,0),\"\")","v":"00:00:00"},{"$f":"IF(ISERROR(I5-H5),0,(I5-H5))","v":"00:00:00"},"",1,"",{"$f":"IF(AND(LEFT(C5,1)=\"d\",AND(N4<>1)),1,IF(AND(LEFT(C5,1)=\"s\",I5>=\"24:01\"*1),1,IF(AND(I5<>\"\",I5<=\"23:59\"*1,SUM(I5,R5)>=\"24:01\"*1),1,\"\")))","v":""},1,{"$f":"IF(AND(L5=\"\",M5=\"\"),IF(OR(SUMPRODUCT(N(ISNUMBER(FIND({\"s\";\"d\";\"f\"},C5))))>0,G5+J5<0,AND(G5>0,J5>0,I5>\"20:30\"*1),AND(I5<=\"20:30\"*1,SUM(I5,R5)>=\"20:31\"*1)),1,\"\"),\"\")","v":""},{"$f":"IF(OR(AND(G5>0,AND(J5=0)),OR(G5=0,AND(J5>0)),OR(G5+J5>0)),IF(S5=\"\",\"\",IF(R5+S5>=\"13:01\"*1,1,\"\")))","v":""},null,"07:36:00",0.31666666666666665,{"$f":"T5*24","v":7.6},null,{"$f":"IF(U5-V5=0,\"0,00\",U5-V5)","v":7.6}]
[null,"2018-04-03","FOHTJ07",null,{"$f":"IFERROR(VLOOKUP(C6,TR!$B$2:$F$633,2,0),\"\")","v":"08:00:00"},{"$f":"IFERROR(VLOOKUP(C6,TR!$B$2:$F$633,3,0),\"\")","v":"11:50:00"},"03:50:00",{"$f":"IFERROR(VLOOKUP(C6,TR!$B$2:$F$633,4,0),\"\")","v":"13:00:00"},{"$f":"IFERROR(VLOOKUP(C6,TR!$B$2:$F$633,5,0),\"\")","v":"16:46:00"},"03:46:00","","","","","",{"$f":"IF(AND(L6=\"\",M6=\"\"),IF(OR(SUMPRODUCT(N(ISNUMBER(FIND({\"s\";\"d\";\"f\"},C6))))>0,G6+J6<0,AND(G6>0,J6>0,I6>\"20:30\"*1),AND(I6<=\"20:30\"*1,SUM(I6,R6)>=\"20:31\"*1)),1,\"\"),\"\")","v":""},"",null,"08:46:00",0.31666666666666671,{"$f":"T6*24","v":7.6000000000000014},null,7.6000000000000014]
[null,"2018-04-04","FOTLBM3",null,{"$f":"IFERROR(VLOOKUP(C7,TR!$B$2:$F$633,2,0),\"\")","v":"05:45:00"},{"$f":"IFERROR(VLOOKUP(C7,TR!$B$2:$F$633,3,0),\"\")","v":"12:51:00"},"07:06:00",{"$f":"IFERROR(VLOOKUP(C7,TR!$B$2:$F$633,4,0),\"\")","v":"00:00:00"},{"$f":"IFERROR(VLOOKUP(C7,TR!$B$2:$F$633,5,0),\"\")","v":"00:00:00"},"00:00:00","","","","","",{"$f":"IF(AND(L7=\"\",M7=\"\"),IF(OR(SUMPRODUCT(N(ISNUMBER(FIND({\"s\";\"d\";\"f\"},C7))))>0,G7+J7<0,AND(G7>0,J7>0,I7>\"20:30\"*1),AND(I7<=\"20:30\"*1,SUM(I7,R7)>=\"20:31\"*1)),1,\"\"),\"\")","v":""},"",null,"07:06:00",0.29583333333333328,{"$f":"T7*24","v":7.0999999999999988},null,7.0999999999999988]
[null,"2018-04-05","FOTLBM2",null,{"$f":"IFERROR(VLOOKUP(C8,TR!$B$2:$F$633,2,0),\"\")","v":"05:30:00"},{"$f":"IFERROR(VLOOKUP(C8,TR!$B$2:$F$633,3,0),\"\")","v":"13:36:00"},"08:06:00",{"$f":"IFERROR(VLOOKUP(C8,TR!$B$2:$F$633,4,0),\"\")","v":"00:00:00"},{"$f":"IFERROR(VLOOKUP(C8,TR!$B$2:$F$633,5,0),\"\")","v":"00:00:00"},"00:00:00","",1,"","","",{"$f":"IF(AND(L8=\"\",M8=\"\"),IF(OR(SUMPRODUCT(N(ISNUMBER(FIND({\"s\";\"d\";\"f\"},C8))))>0,G8+J8<0,AND(G8>0,J8>0,I8>\"20:30\"*1),AND(I8<=\"20:30\"*1,SUM(I8,R8)>=\"20:31\"*1)),1,\"\"),\"\")","v":""},"",null,"08:06:00",0.33750000000000002,8.1000000000000014,null,8.1000000000000014]
[null,"2018-04-06","FOTLBM2",null,{"$f":"IFERROR(VLOOKUP(C9,TR!$B$2:$F$633,2,0),\"\")","v":"05:30:00"},{"$f":"IFERROR(VLOOKUP(C9,TR!$B$2:$F$633,3,0),\"\")","v":"13:36:00"},"08:06:00",{"$f":"IFERROR(VLOOKUP(C9,TR!$B$2:$F$633,4,0),\"\")","v":"00:00:00"},{"$f":"IFERROR(VLOOKUP(C9,TR!$B$2:$F$633,5,0),\"\")","v":"00:00:00"},"00:00:00","",1,"","","",{"$f":"IF(AND(L9=\"\",M9=\"\"),IF(OR(SUMPRODUCT(N(ISNUMBER(FIND({\"s\";\"d\";\"f\"},C9))))>0,G9+J9<0,AND(G9>0,J9>0,I9>\"20:30\"*1),AND(I9<=\"20:30\"*1,SUM(I9,R9)>=\"20:31\"*1)),1,\"\"),\"\")","v":""},"",null,"08:06:00",0.33750000000000002,8.1000000000000014,null,8.1000000000000014]
[null,"2018-04-07","FOHTM03",null,{"$f":"IFERROR(VLOOKUP(C10,TR!$B$2:$F$633,2,0),\"\")","v":""},{"$f":"IFERROR(VLOOKUP(C10,TR!$B$2:$F$633,3,0),\"\")","v":""},"00:00:00",{"$f":"IFERROR(VLOOKUP(C10,TR!$B$2:$F$633,4,0),\"\")","v":""},{"$f":"IFERROR(VLOOKUP(C10,TR!$B$2:$F$633,5,0),\"\")","v":""},"00:00:00","","",1,"","",{"$f":"IF(AND(L10=\"\",M10=\"\"),IF(OR(SUMPRODUCT(N(ISNUMBER(FIND({\"s\";\"d\";\"f\"},C10))))>0,G10+J10<0,AND(G10>0,J10>0,I10>\"20:30\"*1),AND(I10<=\"20:30\"*1,SUM(I10,R10)>=\"20:31\"*1)),1,\"\"),\"\")","v":""},"",null,"",0,0,null,"0,00"]
[null,"2018-04-08","CC",null,{"$f":"IFERROR(VLOOKUP(C11,TR!$B$2:$F$633,2,0),\"\")","v":"00:00:00"},{"$f":"IFERROR(VLOOKUP(C11,TR!$B$2:$F$633,3,0),\"\")","v":"00:00:00"},"00:00:00",{"$f":"IFERROR(VLOOKUP(C11,TR!$B$2:$F$633,4,0),\"\")","v":"00:00:00"},{"$f":"IFERROR(VLOOKUP(C11,TR!$B$2:$F$633,5,0),\"\")","v":"00:00:00"},"00:00:00","","","","","",{"$f":"IF(AND(L11=\"\",M11=\"\"),IF(OR(SUMPRODUCT(N(ISNUMBER(FIND({\"s\";\"d\";\"f\"},C11))))>0,G11+J11<0,AND(G11>0,J11>0,I11>\"20:30\"*1),AND(I11<=\"20:30\"*1,SUM(I11,R11)>=\"20:31\"*1)),1,\"\"),\"\")","v":""},"",null,"",0,0,null,"0,00"]
[null,"2018-04-09","CH",null,{"$f":"IFERROR(VLOOKUP(C12,TR!$B$2:$F$633,2,0),\"\")","v":"00:00:00"},{"$f":"IFERROR(VLOOKUP(C12,TR!$B$2:$F$633,3,0),\"\")","v":"00:00:00"},"00:00:00",{"$f":"IFERROR(VLOOKUP(C12,TR!$B$2:$F$633,4,0),\"\")","v":"00:00:00"},{"$f":"IFERROR(VLOOKUP(C12,TR!$B$2:$F$633,5,0),\"\")","v":"00:00:00"},"00:00:00","","","","","",{"$f":"IF(AND(L12=\"\",M12=\"\"),IF(OR(SUMPRODUCT(N(ISNUMBER(FIND({\"s\";\"d\";\"f\"},C12))))>0,G12+J12<0,AND(G12>0,J12>0,I12>\"20:30\"*1),AND(I12<=\"20:30\"*1,SUM(I12,R12)>=\"20:31\"*1)),1,\"\"),\"\")","v":""},"",null,"",0,0,null,"0,00"]
[null,"2018-04-10","CP",null,{"$f":"IFERROR(VLOOKUP(C13,TR!$B$2:$F$633,2,0),\"\")","v":"00:00:00"},{"$f":"IFERROR(VLOOKUP(C13,TR!$B$2:$F$633,3,0),\"\")","v":"00:00:00"},"00:00:00",{"$f":"IFERROR(VLOOKUP(C13,TR!$B$2:$F$633,4,0),\"\")","v":"00:00:00"},{"$f":"IFERROR(VLOOKUP(C13,TR!$B$2:$F$633,5,0),\"\")","v":"00:00:00"},"00:00:00","","","","","",{"$f":"IF(AND(L13=\"\",M13=\"\"),IF(OR(SUMPRODUCT(N(ISNUMBER(FIND({\"s\";\"d\";\"f\"},C13))))>0,G13+J13<0,AND(G13>0,J13>0,I13>\"20:30\"*1),AND(I13<=\"20:30\"*1,SUM(I13,R13)>=\"20:31\"*1)),1,\"\"),\"\")","v":""},"",null,"",0,0,null,"0,00"]
[null,"2018-04-11","CP",null,{"$f":"IFERROR(VLOOKUP(C14,TR!$B$2:$F$633,2,0),\"\")","v":"00:00:00"},{"$f":"IFERROR(VLOOKUP(C14,TR!$B$2:$F$633,3,0),\"\")","v":"00:00:00"},"00:00:00",{"$f":"IFERROR(VLOOKUP(C14,TR!$B$2:$F$633,4,0),\"\")","v":"00:00:00"},{"$f":"IFERROR(VLOOKUP(C14,TR!$B$2:$F$633,5,0),\"\")","v":"00:00:00"},"00:00:00","","","","","",{"$f":"IF(AND(L14=\"\",M14=\"\"),IF(OR(SUMPRODUCT(N(ISNUMBER(FIND({\"s\";\"d\";\"f\"},C14))))>0,G14+J14<0,AND(G14>0,J14>0,I14>\"20:30\"*1),AND(I14<=\"20:30\"*1,SUM(I14,R14)>=\"20:31\"*1)),1,\"\"),\"\")","v":""},"",null,"",0,0,null,"0,00"]
[null,"2018-04-12","CP",null,{"$f":"IFERROR(VLOOKUP(C15,TR!$B$2:$F$633,2,0),\"\")","v":"00:00:00"},{"$f":"IFERROR(VLOOKUP(C15,TR!$B$2:$F$633,3,0),\"\")","v":"00:00:00"},"00:00:00",{"$f":"IFERROR(VLOOKUP(C15,TR!$B$2:$F$633,4,0),\"\")","v":"00:00:00"},{"$f":"IFERROR(VLOOKUP(C15,TR!$B$2:$F$633,5,0),\"\")","v":"00:00:00"},"00:00:00","","","","","",{"$f":"IF(AND(L15=\"\",M15=\"\"),IF(OR(SUMPRODUCT(N(ISNUMBER(FIND({\"s\";\"d\";\"f\"},C15))))>0,G15+J15<0,AND(G15>0,J15>0,I15>\"20:30\"*1),AND(I15<=\"20:30\"*1,SUM(I15,R15)>=\"20:31\"*1)),1,\"\"),\"\")","v":""},"",null,"",0,0,null,"0,00"]
[null,"2018-04-13","CP",null,{"$f":"IFERROR(VLOOKUP(C16,TR!$B$2:$F$633,2,0),\"\")","v":"00:00:00"},{"$f":"IFERROR(VLOOKUP(C16,TR!$B$2:$F$633,3,0),\"\")","v":"00:00:00"},"00:00:00",{"$f":"IFERROR(VLOOKUP(C16,TR!$B$2:$F$633,4,0),\"\")","v":"00:00:00"},{"$f":"IFERROR(VLOOKUP(C16,TR!$B$2:$F$633,5,0),\"\")","v":"00:00:00"},"00:00:00","","","","","",{"$f":"IF(AND(L16=\"\",M16=\"\"),IF(OR(SUMPRODUCT(N(ISNUMBER(FIND({\"s\";\"d\";\"f\"},C16))))>0,G16+J16<0,AND(G16>0,J16>0,I16>\"20:30\"*1),AND(I16<=\"20:30\"*1,SUM(I16,R16)>=\"20:31\"*1)),1,\"\"),\"\")","v":""},"",null,"",0,0,null,"0,00"]
[null,"2018-04-14","CC",null,{"$f":"IFERROR(VLOOKUP(C17,TR!$B$2:$F$633,2,0),\"\")","v":"00:00:00"},{"$f":"IFERROR(VLOOKUP(C17,TR!$B$2:$F$633,3,0),\"\")","v":"00:00:00"},"00:00:00",{"$f":"IFERROR(VLOOKUP(C17,TR!$B$2:$F$633,4,0),\"\")","v":"00:00:00"},{"$f":"IFERROR(VLOOKUP(C17,TR!$B$2:$F$633,5,0),\"\")","v":"00:00:00"},"00:00:00","","","","","",{"$f":"IF(AND(L17=\"\",M17=\"\"),IF(OR(SUMPRODUCT(N(ISNUMBER(FIND({\"s\";\"d\";\"f\"},C17))))>0,G17+J17<0,AND(G17>0,J17>0,I17>\"20:30\"*1),AND(I17<=\"20:30\"*1,SUM(I17,R17)>=\"20:31\"*1)),1,\"\"),\"\")","v":""},"",null,"",0,0,null,"0,00"]
[null,"2018-04-15","CH",null,{"$f":"IFERROR(VLOOKUP(C18,TR!$B$2:$F$633,2,0),\"\")","v":"00:00:00"},{"$f":"IFERROR(VLOOKUP(C18,TR!$B$2:$F$633,3,0),\"\")","v":"00:00:00"},"00:00:00",{"$f":"IFERROR(VLOOKUP(C18,TR!$B$2:$F$633,4,0),\"\")","v":"00:00:00"},{"$f":"IFERROR(VLOOKUP(C18,TR!$B$2:$F$633,5,0),\"\")","v":"00:00:00"},"00:00:00","","","","","",{"$f":"IF(AND(L18=\"\",M18=\"\"),IF(OR(SUMPRODUCT(N(ISNUMBER(FIND({\"s\";\"d\";\"f\"},C18))))>0,G18+J18<0,AND(G18>0,J18>0,I18>\"20:30\"*1),AND(I18<=\"20:30\"*1,SUM(I18,R18)>=\"20:31\"*1)),1,\"\"),\"\")","v":""},"",null,"",0,0,null,"0,00"]
[null,"2018-04-16","905-b",null,{"$f":"IFERROR(VLOOKUP(C19,TR!$B$2:$F$633,2,0),\"\")","v":"00:00:00"},{"$f":"IFERROR(VLOOKUP(C19,TR!$B$2:$F$633,3,0),\"\")","v":"00:00:00"},"00:00:00",{"$f":"IFERROR(VLOOKUP(C19,TR!$B$2:$F$633,4,0),\"\")","v":"17:32:00"},{"$f":"IFERROR(VLOOKUP(C19,TR!$B$2:$F$633,5,0),\"\")","v":1.0576388888888888},"07:51:00",1,"",1,"","",{"$f":"IF(AND(L19=\"\",M19=\"\"),IF(OR(SUMPRODUCT(N(ISNUMBER(FIND({\"s\";\"d\";\"f\"},C19))))>0,G19+J19<0,AND(G19>0,J19>0,I19>\"20:30\"*1),AND(I19<=\"20:30\"*1,SUM(I19,R19)>=\"20:31\"*1)),1,\"\"),\"\")","v":""},"",8.3333333333333332E-3,"07:51:00",0.32708333333333328,7.8499999999999988,null,7.8499999999999988]
[null,"2018-04-17","806-b",null,{"$f":"IFERROR(VLOOKUP(C20,TR!$B$2:$F$633,2,0),\"\")","v":"00:00:00"},{"$f":"IFERROR(VLOOKUP(C20,TR!$B$2:$F$633,3,0),\"\")","v":"00:00:00"},"00:00:00",{"$f":"IFERROR(VLOOKUP(C20,TR!$B$2:$F$633,4,0),\"\")","v":"12:57:00"},{"$f":"IFERROR(VLOOKUP(C20,TR!$B$2:$F$633,5,0),\"\")","v":"20:45:00"},"07:48:00","","","","","",{"$f":"IF(AND(L20=\"\",M20=\"\"),IF(OR(SUMPRODUCT(N(ISNUMBER(FIND({\"s\";\"d\";\"f\"},C20))))>0,G20+J20<0,AND(G20>0,J20>0,I20>\"20:30\"*1),AND(I20<=\"20:30\"*1,SUM(I20,R20)>=\"20:31\"*1)),1,\"\"),\"\")","v":""},"",null,"07:48:00",0.32500000000000007,7.8000000000000016,null,7.8000000000000016]
[null,"2018-04-18","CC",null,{"$f":"IFERROR(VLOOKUP(C21,TR!$B$2:$F$633,2,0),\"\")","v":"00:00:00"},{"$f":"IFERROR(VLOOKUP(C21,TR!$B$2:$F$633,3,0),\"\")","v":"00:00:00"},"00:00:00",{"$f":"IFERROR(VLOOKUP(C21,TR!$B$2:$F$633,4,0),\"\")","v":"00:00:00"},{"$f":"IFERROR(VLOOKUP(C21,TR!$B$2:$F$633,5,0),\"\")","v":"00:00:00"},"00:00:00","","","","","",{"$f":"IF(AND(L21=\"\",M21=\"\"),IF(OR(SUMPRODUCT(N(ISNUMBER(FIND({\"s\";\"d\";\"f\"},C21))))>0,G21+J21<0,AND(G21>0,J21>0,I21>\"20:30\"*1),AND(I21<=\"20:30\"*1,SUM(I21,R21)>=\"20:31\"*1)),1,\"\"),\"\")","v":""},"",null,"",0,0,null,"0,00"]
[null,"2018-04-19","CH",null,{"$f":"IFERROR(VLOOKUP(C22,TR!$B$2:$F$633,2,0),\"\")","v":"00:00:00"},{"$f":"IFERROR(VLOOKUP(C22,TR!$B$2:$F$633,3,0),\"\")","v":"00:00:00"},"00:00:00",{"$f":"IFERROR(VLOOKUP(C22,TR!$B$2:$F$633,4,0),\"\")","v":"00:00:00"},{"$f":"IFERROR(VLOOKUP(C22,TR!$B$2:$F$633,5,0),\"\")","v":"00:00:00"},"00:00:00","","","","","",{"$f":"IF(AND(L22=\"\",M22=\"\"),IF(OR(SUMPRODUCT(N(ISNUMBER(FIND({\"s\";\"d\";\"f\"},C22))))>0,G22+J22<0,AND(G22>0,J22>0,I22>\"20:30\"*1),AND(I22<=\"20:30\"*1,SUM(I22,R22)>=\"20:31\"*1)),1,\"\"),\"\")","v":""},"",null,"",0,0,null,"0,00"]
[null,"2018-04-20","CH",null,{"$f":"IFERROR(VLOOKUP(C23,TR!$B$2:$F$633,2,0),\"\")","v":"00:00:00"},{"$f":"IFERROR(VLOOKUP(C23,TR!$B$2:$F$633,3,0),\"\")","v":"00:00:00"},"00:00:00",{"$f":"IFERROR(VLOOKUP(C23,TR!$B$2:$F$633,4,0),\"\")","v":"00:00:00"},{"$f":"IFERROR(VLOOKUP(C23,TR!$B$2:$F$633,5,0),\"\")","v":"00:00:00"},"00:00:00","","","","","",{"$f":"IF(AND(L23=\"\",M23=\"\"),IF(OR(SUMPRODUCT(N(ISNUMBER(FIND({\"s\";\"d\";\"f\"},C23))))>0,G23+J23<0,AND(G23>0,J23>0,I23>\"20:30\"*1),AND(I23<=\"20:30\"*1,SUM(I23,R23)>=\"20:31\"*1)),1,\"\"),\"\")","v":""},"",null,"",0,0,null,"0,00"]
[null,"2018-04-21","s808-a",null,{"$f":"IFERROR(VLOOKUP(C24,TR!$B$2:$F$633,2,0),\"\")","v":"00:00:00"},{"$f":"IFERROR(VLOOKUP(C24,TR!$B$2:$F$633,3,0),\"\")","v":"00:00:00"},"00:00:00",{"$f":"IFERROR(VLOOKUP(C24,TR!$B$2:$F$633,4,0),\"\")","v":"12:59:00"},{"$f":"IFERROR(VLOOKUP(C24,TR!$B$2:$F$633,5,0),\"\")","v":"20:11:00"},"07:12:00","","","","","",{"$f":"IF(AND(L24=\"\",M24=\"\"),IF(OR(SUMPRODUCT(N(ISNUMBER(FIND({\"s\";\"d\";\"f\"},C24))))>0,G24+J24<0,AND(G24>0,J24>0,I24>\"20:30\"*1),AND(I24<=\"20:30\"*1,SUM(I24,R24)>=\"20:31\"*1)),1,\"\"),\"\")","v":1},"",null,"07:12:00",0.30000000000000004,7.2000000000000011,null,7.2000000000000011]
[null,"2018-04-22","d607-a",null,{"$f":"IFERROR(VLOOKUP(C25,TR!$B$2:$F$633,2,0),\"\")","v":"00:00:00"},{"$f":"IFERROR(VLOOKUP(C25,TR!$B$2:$F$633,3,0),\"\")","v":"00:00:00"},"00:00:00",{"$f":"IFERROR(VLOOKUP(C25,TR!$B$2:$F$633,4,0),\"\")","v":"13:19:00"},{"$f":"IFERROR(VLOOKUP(C25,TR!$B$2:$F$633,5,0),\"\")","v":"20:42:00"},"07:23:00","","","",1,"",{"$f":"IF(AND(L25=\"\",M25=\"\"),IF(OR(SUMPRODUCT(N(ISNUMBER(FIND({\"s\";\"d\";\"f\"},C25))))>0,G25+J25<0,AND(G25>0,J25>0,I25>\"20:30\"*1),AND(I25<=\"20:30\"*1,SUM(I25,R25)>=\"20:31\"*1)),1,\"\"),\"\")","v":1},"",null,"07:23:00",0.30763888888888891,7.3833333333333337,null,7.3833333333333337]
[null,"2018-04-23","815-1p",null,{"$f":"IFERROR(VLOOKUP(C26,TR!$B$2:$F$633,2,0),\"\")","v":"00:00:00"},{"$f":"IFERROR(VLOOKUP(C26,TR!$B$2:$F$633,3,0),\"\")","v":"00:00:00"},"00:00:00",{"$f":"IFERROR(VLOOKUP(C26,TR!$B$2:$F$633,4,0),\"\")","v":"14:47:00"},{"$f":"IFERROR(VLOOKUP(C26,TR!$B$2:$F$633,5,0),\"\")","v":"22:25:00"},"07:38:00",1,"",1,"","",{"$f":"IF(AND(L26=\"\",M26=\"\"),IF(OR(SUMPRODUCT(N(ISNUMBER(FIND({\"s\";\"d\";\"f\"},C26))))>0,G26+J26<0,AND(G26>0,J26>0,I26>\"20:30\"*1),AND(I26<=\"20:30\"*1,SUM(I26,R26)>=\"20:31\"*1)),1,\"\"),\"\")","v":""},"",null,"07:38:00",0.31805555555555554,7.6333333333333329,null,7.6333333333333329]
[null,"2018-04-24","813-ap",null,{"$f":"IFERROR(VLOOKUP(C27,TR!$B$2:$F$633,2,0),\"\")","v":"00:00:00"},{"$f":"IFERROR(VLOOKUP(C27,TR!$B$2:$F$633,3,0),\"\")","v":"00:00:00"},"00:00:00",{"$f":"IFERROR(VLOOKUP(C27,TR!$B$2:$F$633,4,0),\"\")","v":"13:27:00"},{"$f":"IFERROR(VLOOKUP(C27,TR!$B$2:$F$633,5,0),\"\")","v":"20:56:00"},"07:29:00","","","","","",{"$f":"IF(AND(L27=\"\",M27=\"\"),IF(OR(SUMPRODUCT(N(ISNUMBER(FIND({\"s\";\"d\";\"f\"},C27))))>0,G27+J27<0,AND(G27>0,J27>0,I27>\"20:30\"*1),AND(I27<=\"20:30\"*1,SUM(I27,R27)>=\"20:31\"*1)),1,\"\"),\"\")","v":""},"",null,"07:29:00",0.31180555555555556,7.4833333333333334,null,7.4833333333333334]
[null,"2018-04-25","CC",null,{"$f":"IFERROR(VLOOKUP(C28,TR!$B$2:$F$633,2,0),\"\")","v":"00:00:00"},{"$f":"IFERROR(VLOOKUP(C28,TR!$B$2:$F$633,3,0),\"\")","v":"00:00:00"},"00:00:00",{"$f":"IFERROR(VLOOKUP(C28,TR!$B$2:$F$633,4,0),\"\")","v":"00:00:00"},{"$f":"IFERROR(VLOOKUP(C28,TR!$B$2:$F$633,5,0),\"\")","v":"00:00:00"},"00:00:00","","","","","",{"$f":"IF(AND(L28=\"\",M28=\"\"),IF(OR(SUMPRODUCT(N(ISNUMBER(FIND({\"s\";\"d\";\"f\"},C28))))>0,G28+J28<0,AND(G28>0,J28>0,I28>\"20:30\"*1),AND(I28<=\"20:30\"*1,SUM(I28,R28)>=\"20:31\"*1)),1,\"\"),\"\")","v":""},"",null,"",0,0,null,"0,00"]
[null,"2018-04-26","109-7p",null,{"$f":"IFERROR(VLOOKUP(C29,TR!$B$2:$F$633,2,0),\"\")","v":"07:33:00"},{"$f":"IFERROR(VLOOKUP(C29,TR!$B$2:$F$633,3,0),\"\")","v":"09:41:00"},"02:08:00",{"$f":"IFERROR(VLOOKUP(C29,TR!$B$2:$F$633,4,0),\"\")","v":"00:00:00"},{"$f":"IFERROR(VLOOKUP(C29,TR!$B$2:$F$633,5,0),\"\")","v":"00:00:00"},"00:00:00","","","","","",{"$f":"IF(AND(L29=\"\",M29=\"\"),IF(OR(SUMPRODUCT(N(ISNUMBER(FIND({\"s\";\"d\";\"f\"},C29))))>0,G29+J29<0,AND(G29>0,J29>0,I29>\"20:30\"*1),AND(I29<=\"20:30\"*1,SUM(I29,R29)>=\"20:31\"*1)),1,\"\"),\"\")","v":""},"",null,"02:08:00",8.8888888888888906E-2,2.1333333333333337,null,2.1333333333333337]
[null,"2018-04-27","v841-5p",null,{"$f":"IFERROR(VLOOKUP(C30,TR!$B$2:$F$633,2,0),\"\")","v":"00:00:00"},{"$f":"IFERROR(VLOOKUP(C30,TR!$B$2:$F$633,3,0),\"\")","v":"00:00:00"},"00:00:00",{"$f":"IFERROR(VLOOKUP(C30,TR!$B$2:$F$633,4,0),\"\")","v":"14:06:00"},{"$f":"IFERROR(VLOOKUP(C30,TR!$B$2:$F$633,5,0),\"\")","v":"21:50:00"},"07:44:00","","",1,"","",{"$f":"IF(AND(L30=\"\",M30=\"\"),IF(OR(SUMPRODUCT(N(ISNUMBER(FIND({\"s\";\"d\";\"f\"},C30))))>0,G30+J30<0,AND(G30>0,J30>0,I30>\"20:30\"*1),AND(I30<=\"20:30\"*1,SUM(I30,R30)>=\"20:31\"*1)),1,\"\"),\"\")","v":""},"",null,"07:44:00",0.32222222222222219,7.7333333333333325,null,7.7333333333333325]
[null,"2018-04-28","s872-18p",null,{"$f":"IFERROR(VLOOKUP(C31,TR!$B$2:$F$633,2,0),\"\")","v":"00:00:00"},{"$f":"IFERROR(VLOOKUP(C31,TR!$B$2:$F$633,3,0),\"\")","v":"00:00:00"},"00:00:00",{"$f":"IFERROR(VLOOKUP(C31,TR!$B$2:$F$633,4,0),\"\")","v":"13:07:00"},{"$f":"IFERROR(VLOOKUP(C31,TR!$B$2:$F$633,5,0),\"\")","v":"20:52:00"},"07:45:00","","","","","",{"$f":"IF(AND(L31=\"\",M31=\"\"),IF(OR(SUMPRODUCT(N(ISNUMBER(FIND({\"s\";\"d\";\"f\"},C31))))>0,G31+J31<0,AND(G31>0,J31>0,I31>\"20:30\"*1),AND(I31<=\"20:30\"*1,SUM(I31,R31)>=\"20:31\"*1)),1,\"\"),\"\")","v":1},"",null,"07:45:00",0.32291666666666674,7.7500000000000018,null,7.7500000000000018]
[null,"2018-04-29","CH",null,{"$f":"IFERROR(VLOOKUP(C32,TR!$B$2:$F$633,2,0),\"\")","v":"00:00:00"},{"$f":"IFERROR(VLOOKUP(C32,TR!$B$2:$F$633,3,0),\"\")","v":"00:00:00"},"00:00:00",{"$f":"IFERROR(VLOOKUP(C32,TR!$B$2:$F$633,4,0),\"\")","v":"00:00:00"},{"$f":"IFERROR(VLOOKUP(C32,TR!$B$2:$F$633,5,0),\"\")","v":"00:00:00"},"00:00:00","","","","","",{"$f":"IF(AND(L32=\"\",M32=\"\"),IF(OR(SUMPRODUCT(N(ISNUMBER(FIND({\"s\";\"d\";\"f\"},C32))))>0,G32+J32<0,AND(G32>0,J32>0,I32>\"20:30\"*1),AND(I32<=\"20:30\"*1,SUM(I32,R32)>=\"20:31\"*1)),1,\"\"),\"\")","v":""},"",null,"",0,0,null,"0,00"]
[null,"2018-04-30","803-1p",null,{"$f":"IFERROR(VLOOKUP(C33,TR!$B$2:$F$633,2,0),\"\")","v":"00:00:00"},{"$f":"IFERROR(VLOOKUP(C33,TR!$B$2:$F$633,3,0),\"\")","v":"00:00:00"},"00:00:00",{"$f":"IFERROR(VLOOKUP(C33,TR!$B$2:$F$633,4,0),\"\")","v":"11:46:00"},{"$f":"IFERROR(VLOOKUP(C33,TR!$B$2:$F$633,5,0),\"\")","v":"19:21:00"},"07:35:00","",1,"","","",{"$f":"IF(AND(L33=\"\",M33=\"\"),IF(OR(SUMPRODUCT(N(ISNUMBER(FIND({\"s\";\"d\";\"f\"},C33))))>0,G33+J33<0,AND(G33>0,J33>0,I33>\"20:30\"*1),AND(I33<=\"20:30\"*1,SUM(I33,R33)>=\"20:31\"*1)),1,\"\"),\"\")","v":""},"",null,"07:35:00",0.31597222222222227,7.5833333333333339,null,7.5833333333333339]
[null,null,null,null,{"$f":"IFERROR(VLOOKUP(C34,TR!$B$2:$F$633,2,0),\"\")","v":""},{"$f":"IFERROR(VLOOKUP(C34,TR!$B$2:$F$633,3,0),\"\")","v":""},null,{"$f":"IFERROR(VLOOKUP(C34,TR!$B$2:$F$633,4,0),\"\")","v":""},{"$f":"IFERROR(VLOOKUP(C34,TR!$B$2:$F$633,5,0),\"\")","v":""},null,"","","","","",{"$f":"IF(AND(L34=\"\",M34=\"\"),IF(OR(SUMPRODUCT(N(ISNUMBER(FIND({\"s\";\"d\";\"f\"},C34))))>0,G34+J34<0,AND(G34>0,J34>0,I34>\"20:30\"*1),AND(I34<=\"20:30\"*1,SUM(I34,R34)>=\"20:31\"*1)),1,\"\"),\"\")","v":""},"",null,"",null,null,null,"0,00"]
[]
[null,"Jours travaillés",{"$f":"(COUNTIF(Mars!C24:C34,\"<>\")+COUNTIF(Avril!C4:C23,\"<>\"))-(COUNTIF(Mars!C24:C34,\"CC*\")+COUNTIF(Avril!C4:C23,\"CC*\"))-(COUNTIF(Mars!C24:C34,\"CH*\")+COUNTIF(Avril!C4:C23,\"CH*\"))-(COUNTIF(Mars!C24:C34,\"RT*\")+COUNTIF(Avril!C4:C23,\"RT*\"))-(COUNTIF(Mars!C24:C34,\"Férié*\")+COUNTIF(Avril!C4:C23,\"Férié*\"))-(COUNTIF(Mars!C24:C34,\"Mal*\")+COUNTIF(Avril!C4:C23,\"Mal*\"))-(COUNTIF(Mars!C24:C34,\"CP*\")+COUNTIF(Avril!C4:C23,\"CP*\"))","v":17},null,null,null,null,null,"Du 21 au 20",null,{"$f":"SUM(Mars!$K$24:$K$34,K4:K23)","v":3},{"$f":"SUM(Mars!$L$24:$L$34,L4:L23)","v":4},{"$f":"SUM(Mars!$M$24:$M$34,M4:M23)","v":6},{"$f":"SUM(Mars!$N$24:$N$34,N4:N23)","v":0},{"$f":"SUM(Mars!$O$24:$O$34,O4:O23)","v":1},{"$f":"SUM(Mars!$P$24:$P$34,P4:P23)","v":0},{"$f":"SUM(Mars!$Q$24:$Q$34,Q4:Q23)","v":0},{"$f":"SUM(Mars!$R$24:$R$34,R4:R23)","v":1.3888888888888888E-2},null,{"$f":"SUM(Mars!T24:T34)+SUM(Avril!T4:T23)","v":4.4729166666666664},{"$f":"SUM(U4:U34)","v":109.05000000000001},{"$f":"SUM(V4:V34)","v":0}]
[null,"CP",{"$f":"(COUNTIF(Mars!C24:C34,\"CP\")+COUNTIF(Avril!C4:C23,\"CP\"))","v":4},null,null,null,null,null,null,null,{"$f":"(I39*2)*K36","v":53.116799999999998},{"$f":"Recap!H35*L36","v":28.56},{"$f":"Recap!H35*M36","v":42.839999999999996},{"$f":"(I39*5)*N36","v":0},{"$f":"(Recap!H33)*O36","v":102.46900000000001},{"$f":"7.5*P36","v":0},{"$f":"(I39*1.5)*Q36","v":0},{"$f":"R36*24","v":0.33333333333333331}]
[null,"CH",{"$f":"(COUNTIF(Mars!C24:C34,\"CH\")+COUNTIF(Avril!C4:C23,\"CH\"))","v":6},null,null,null,null,null,"VP",null,null,null,null,null,null,null,null,null,null,"Horaire mensuel",null,6.1749999999999998,{"$f":"V38*24","v":148.19999999999999}]
[null,"RT",{"$f":"(COUNTIF(Mars!C24:C34,\"RT\")+COUNTIF(Avril!C4:C23,\"RT\"))","v":0},null,null,null,null,null,8.8528000000000002]
[null,"CC",{"$f":"(COUNTIF(Mars!C24:C34,\"CC\")+COUNTIF(Avril!C4:C23,\"CC\"))","v":4},null,null,null,null,null,null,null,null,null,null,null,null,null,null,null,null,"Différence",null,{"$f":"IF(V38>T36,\"-\",\"\")&TEXT(ABS(T36-V38),\"[h]:mm\")","v":"-40:51"},{"$f":"(T36-V38)*24","v":-40.85}]
[null,"Férié",{"$f":"(COUNTIF(Mars!C24:C34,\"Férié\")+COUNTIF(Avril!C4:C23,\"Férié\"))","v":0}]
[null,"Férié CC-CH-RT",{"$f":"(COUNTIF(Mars!C24:C34,\"FériéCC\")+COUNTIF(Avril!C4:C23,\"FériéCC\")+(COUNTIF(Mars!C24:C34,\"FériéCH\")+COUNTIF(Avril!C4:C23,\"FériéCH\")+(COUNTIF(Mars!C24:C34,\"FériéRT\")+COUNTIF(Avril!C4:C23,\"FériéRT\"))))","v":0},null,null,null,null,null,null,null,null,null,null,null,null,null,null,"Heures réelles",null,{"$f":"SUM(T4:T34)","v":4.5437500000000011}]
[null,null,null,null,null,null,null,null,null,null,null,null,null,null,null,null,null,null,null,{"$f":"T42*24","v":109.05000000000003},null,null,{"$f":"(T42-V38)*24","v":-39.14999999999997}]
[]
[null,null,null,null,null,"NOTES"]

{"sheet":"Mai","index":5,"n_rows":45,"n_cols":23,"rows_kept":45,"cut":false,"hidden":false,"merged":[[0,1,0,22],[1,19,1,22],[44,5,44,16],[2,4,2,5],[2,7,2,8],[35,8,35,9],[37,19,37,20],[39,19,39,20],[41,17,41,18]]}
[null,"MAI"]
[null,null,null,null,null,null,null,null,null,null,null,null,null,null,null,null,null,null,null,"TOTAL"]
[null,"Date","Services","Obs.","MATIN",null,"Temps","APRES MIDI",null,"Temps","Prime nuit","PJ1","PJ2","Dimanche","Férié","ChècDej","PrimAmp","H Supp","Ampli","Heures","Centièmes","Kéolis","Écart"]
[null,"2018-05-01","FériéCC",null,{"$f":"IFERROR(VLOOKUP(C4,TR!$B$2:$F$633,2,0),\"\")","v":"00:00:00"},{"$f":"IFERROR(VLOOKUP(C4,TR!$B$2:$F$633,3,0),\"\")","v":"00:00:00"},{"$f":"IF(ISERROR(F4-E4),0,F4-E4)","v":"00:00:00"},{"$f":"IFERROR(VLOOKUP(C4,TR!$B$2:$F$633,4,0),\"\")","v":"00:00:00"},{"$f":"IFERROR(VLOOKUP(C4,TR!$B$2:$F$633,5,0),\"\")","v":"00:00:00"},{"$f":"IF(ISERROR(I4-H4),0,(I4-H4))","v":"00:00:00"},{"$f":"IF(COUNTA(E4:F4,H4:I4)=5,1,IF(AND(E4<\"5:00\"*1,E4>\"2:00\"*1),1,IF(AND(I4>=\"22:01\"*1,I4<=\"26:01\"*1),1,IF(AND(I4<=\"22:00\"*1,SUM(I4,R4)>=\"22:01\"*1),1,\"\"))))","v":""},{"$f":"IF(AND(F4>=\"13:15\"*1,H4<\"\"),1,IF(AND(H4>=\"11:00\"*1,H4<=\"12:15\"*1),1,IF(AND(F4<=\"13:15\"*1,SUM(F4,R4)>=\"13:15\"*1),1,\"\")))","v":""},{"$f":"IF(AND(I4>=\"19:30\"*1,1,I4>\"21:30\"*1,C4<>\"\"),1,IF(AND(I4<=\"21:30\"*1,SUM(I4,R4)>=\"21:30\"*1),1,\"\"))","v":""},{"$f":"IF(AND(LEFT(C4,1)=\"d\",AND(Avril!N33<>1)),1,IF(AND(LEFT(C4,1)=\"s\",I4>=\"24:01\"*1),1,IF(AND(I4<>\"\",I4<=\"23:59\"*1,SUM(I4,R4)>=\"24:01\"*1),1,\"\")))","v":""},{"$f":"IF(AND(I4>\"24:00\"*1,ISNUMBER(FIND(\"f\",C5))),1,IF(AND(OR(ISNUMBER(FIND(\"FériéCC\",C4)),ISNUMBER(FIND(\"FériéCH\",C4)),ISNUMBER(FIND(\"f\",C4)))),1,\"\"))","v":1},{"$f":"IF(AND(L4=\"\",M4=\"\"),IF(OR(SUMPRODUCT(N(ISNUMBER(FIND({\"s\";\"d\";\"f\"},C4))))>0,G4+J4<0,AND(G4>0,J4>0,I4>\"20:30\"*1),AND(I4<=\"20:30\"*1,SUM(I4,R4)>=\"20:31\"*1)),1,\"\"),\"\")","v":""},{"$f":"IF(OR(AND(G4>0,AND(J4=0)),OR(G4=0,AND(J4>0)),OR(G4+J4>0)),IF(S4=\"\",\"\",IF(R4+S4>=\"13:01\"*1,1,\"\")))","v":""},null,{"$f":"IF(G4=0,IF(J4=0,\"\",I4-H4),IF(J4=0,F4-E4,I4-E4))","v":""},{"$f":"IF(ISERROR((F4-E4)+(I4-H4)),0,(F4-E4)+(I4-H4))","v":0},{"$f":"T4*24","v":0},null,{"$f":"IF(U4-V4=0,\"0,00\",U4-V4)","v":"0,00"}]
[null,"2018-05-02","902-ap",null,{"$f":"IFERROR(VLOOKUP(C5,TR!$B$2:$F$633,2,0),\"\")","v":"00:00:00"},{"$f":"IFERROR(VLOOKUP(C5,TR!$B$2:$F$633,3,0),\"\")","v":"00:00:00"},{"$f":"IF(ISERROR(F5-E5),0,F5-E5)","v":"00:00:00"},{"$f":"IFERROR(VLOOKUP(C5,TR!$B$2:$F$633,4,0),\"\")","v":"16:20:00"},{"$f":"IFERROR(VLOOKUP(C5,TR!$B$2:$F$633,5,0),\"\")","v":1.0125},{"$f":"IF(ISERROR(I5-H5),0,(I5-H5))","v":"07:58:00"},1,"",1,{"$f":"IF(AND(LEFT(C5,1)=\"d\",AND(N4<>1)),1,IF(AND(LEFT(C5,1)=\"s\",I5>=\"24:01\"*1),1,IF(AND(I5<>\"\",I5<=\"23:59\"*1,SUM(I5,R5)>=\"24:01\"*1),1,\"\")))","v":""},"",{"$f":"IF(AND(L5=\"\",M5=\"\"),IF(OR(SUMPRODUCT(N(ISNUMBER(FIND({\"s\";\"d\";\"f\"},C5))))>0,G5+J5<0,AND(G5>0,J5>0,I5>\"20:30\"*1),AND(I5<=\"20:30\"*1,SUM(I5,R5)>=\"20:31\"*1)),1,\"\"),\"\")","v":""},{"$f":"IF(OR(AND(G5>0,AND(J5=0)),OR(G5=0,AND(J5>0)),OR(G5+J5>0)),IF(S5=\"\",\"\",IF(R5+S5>=\"13:01\"*1,1,\"\")))","v":""},null,"07:58:00",0.33194444444444438,{"$f":"T5*24","v":7.966666666666665},null,{"$f":"IF(U5-V5=0,\"0,00\",U5-V5)","v":7.966666666666665}]
[null,"2018-05-03","809-1p",null,{"$f":"IFERROR(VLOOKUP(C6,TR!$B$2:$F$633,2,0),\"\")","v":"00:00:00"},{"$f":"IFERROR(VLOOKUP(C6,TR!$B$2:$F$633,3,0),\"\")","v":"00:00:00"},"00:00:00",{"$f":"IFERROR(VLOOKUP(C6,TR!$B$2:$F$633,4,0),\"\")","v":"12:25:00"},{"$f":"IFERROR(VLOOKUP(C6,TR!$B$2:$F$633,5,0),\"\")","v":"20:16:00"},"07:51:00","","","","","",{"$f":"IF(AND(L6=\"\",M6=\"\"),IF(OR(SUMPRODUCT(N(ISNUMBER(FIND({\"s\";\"d\";\"f\"},C6))))>0,G6+J6<0,AND(G6>0,J6>0,I6>\"20:30\"*1),AND(I6<=\"20:30\"*1,SUM(I6,R6)>=\"20:31\"*1)),1,\"\"),\"\")","v":""},"",null,"07:51:00",0.32708333333333328,{"$f":"T6*24","v":7.8499999999999988},null,7.8499999999999988]
[null,"2018-05-04","v864-21p",null,{"$f":"IFERROR(VLOOKUP(C7,TR!$B$2:$F$633,2,0),\"\")","v":"00:00:00"},{"$f":"IFERROR(VLOOKUP(C7,TR!$B$2:$F$633,3,0),\"\")","v":"00:00:00"},"00:00:00",{"$f":"IFERROR(VLOOKUP(C7,TR!$B$2:$F$633,4,0),\"\")","v":"13:28:00"},{"$f":"IFERROR(VLOOKUP(C7,TR!$B$2:$F$633,5,0),\"\")","v":"21:18:00"},"07:50:00","","","","","",{"$f":"IF(AND(L7=\"\",M7=\"\"),IF(OR(SUMPRODUCT(N(ISNUMBER(FIND({\"s\";\"d\";\"f\"},C7))))>0,G7+J7<0,AND(G7>0,J7>0,I7>\"20:30\"*1),AND(I7<=\"20:30\"*1,SUM(I7,R7)>=\"20:31\"*1)),1,\"\"),\"\")","v":""},"",null,"07:50:00",0.32638888888888884,{"$f":"T7*24","v":7.8333333333333321},null,7.8333333333333321]
[null,"2018-05-05","CC",null,{"$f":"IFERROR(VLOOKUP(C8,TR!$B$2:$F$633,2,0),\"\")","v":"00:00:00"},{"$f":"IFERROR(VLOOKUP(C8,TR!$B$2:$F$633,3,0),\"\")","v":"00:00:00"},"00:00:00",{"$f":"IFERROR(VLOOKUP(C8,TR!$B$2:$F$633,4,0),\"\")","v":"00:00:00"},{"$f":"IFERROR(VLOOKUP(C8,TR!$B$2:$F$633,5,0),\"\")","v":"00:00:00"},"00:00:00","","","","","",{"$f":"IF(AND(L8=\"\",M8=\"\"),IF(OR(SUMPRODUCT(N(ISNUMBER(FIND({\"s\";\"d\";\"f\"},C8))))>0,G8+J8<0,AND(G8>0,J8>0,I8>\"20:30\"*1),AND(I8<=\"20:30\"*1,SUM(I8,R8)>=\"20:31\"*1)),1,\"\"),\"\")","v":""},"",null,"",0,0,null,"0,00"]
[null,"2018-05-06","FériéCC",null,{"$f":"IFERROR(VLOOKUP(C9,TR!$B$2:$F$633,2,0),\"\")","v":"00:00:00"},{"$f":"IFERROR(VLOOKUP(C9,TR!$B$2:$F$633,3,0),\"\")","v":"00:00:00"},"00:00:00",{"$f":"IFERROR(VLOOKUP(C9,TR!$B$2:$F$633,4,0),\"\")","v":"00:00:00"},{"$f":"IFERROR(VLOOKUP(C9,TR!$B$2:$F$633,5,0),\"\")","v":"00:00:00"},"00:00:00","","","","",1,{"$f":"IF(AND(L9=\"\",M9=\"\"),IF(OR(SUMPRODUCT(N(ISNUMBER(FIND({\"s\";\"d\";\"f\"},C9))))>0,G9+J9<0,AND(G9>0,J9>0,I9>\"20:30\"*1),AND(I9<=\"20:30\"*1,SUM(I9,R9)>=\"20:31\"*1)),1,\"\"),\"\")","v":""},"",null,"",0,0,null,"0,00"]
[null,"2018-05-07","RT",null,{"$f":"IFERROR(VLOOKUP(C10,TR!$B$2:$F$633,2,0),\"\")","v":"00:00:00"},{"$f":"IFERROR(VLOOKUP(C10,TR!$B$2:$F$633,3,0),\"\")","v":"00:00:00"},"00:00:00",{"$f":"IFERROR(VLOOKUP(C10,TR!$B$2:$F$633,4,0),\"\")","v":"00:00:00"},{"$f":"IFERROR(VLOOKUP(C10,TR!$B$2:$F$633,5,0),\"\")","v":"00:00:00"},"00:00:00","","","","","",{"$f":"IF(AND(L10=\"\",M10=\"\"),IF(OR(SUMPRODUCT(N(ISNUMBER(FIND({\"s\";\"d\";\"f\"},C10))))>0,G10+J10<0,AND(G10>0,J10>0,I10>\"20:30\"*1),AND(I10<=\"20:30\"*1,SUM(I10,R10)>=\"20:31\"*1)),1,\"\"),\"\")","v":""},"",null,"",0,0,null,"0,00"]
[null,"2018-05-08","CC",null,{"$f":"IFERROR(VLOOKUP(C11,TR!$B$2:$F$633,2,0),\"\")","v":"00:00:00"},{"$f":"IFERROR(VLOOKUP(C11,TR!$B$2:$F$633,3,0),\"\")","v":"00:00:00"},"00:00:00",{"$f":"IFERROR(VLOOKUP(C11,TR!$B$2:$F$633,4,0),\"\")","v":"00:00:00"},{"$f":"IFERROR(VLOOKUP(C11,TR!$B$2:$F$633,5,0),\"\")","v":"00:00:00"},"00:00:00","","","","","",{"$f":"IF(AND(L11=\"\",M11=\"\"),IF(OR(SUMPRODUCT(N(ISNUMBER(FIND({\"s\";\"d\";\"f\"},C11))))>0,G11+J11<0,AND(G11>0,J11>0,I11>\"20:30\"*1),AND(I11<=\"20:30\"*1,SUM(I11,R11)>=\"20:31\"*1)),1,\"\"),\"\")","v":""},"",null,"",0,0,null,"0,00"]
[null,"2018-05-09","705-1p",null,{"$f":"IFERROR(VLOOKUP(C12,TR!$B$2:$F$633,2,0),\"\")","v":"05:49:00"},{"$f":"IFERROR(VLOOKUP(C12,TR!$B$2:$F$633,3,0),\"\")","v":"13:30:00"},"07:41:00",{"$f":"IFERROR(VLOOKUP(C12,TR!$B$2:$F$633,4,0),\"\")","v":"00:00:00"},{"$f":"IFERROR(VLOOKUP(C12,TR!$B$2:$F$633,5,0),\"\")","v":"00:00:00"},"00:00:00","",1,"","","",{"$f":"IF(AND(L12=\"\",M12=\"\"),IF(OR(SUMPRODUCT(N(ISNUMBER(FIND({\"s\";\"d\";\"f\"},C12))))>0,G12+J12<0,AND(G12>0,J12>0,I12>\"20:30\"*1),AND(I12<=\"20:30\"*1,SUM(I12,R12)>=\"20:31\"*1)),1,\"\"),\"\")","v":""},"",null,"07:41:00",0.32013888888888886,7.6833333333333327,null,7.6833333333333327]
[null,"2018-05-10","Férié",null,{"$f":"IFERROR(VLOOKUP(C13,TR!$B$2:$F$633,2,0),\"\")","v":"00:00:00"},{"$f":"IFERROR(VLOOKUP(C13,TR!$B$2:$F$633,3,0),\"\")","v":"00:00:00"},"00:00:00",{"$f":"IFERROR(VLOOKUP(C13,TR!$B$2:$F$633,4,0),\"\")","v":"00:00:00"},{"$f":"IFERROR(VLOOKUP(C13,TR!$B$2:$F$633,5,0),\"\")","v":"00:00:00"},"00:00:00","","","","","",{"$f":"IF(AND(L13=\"\",M13=\"\"),IF(OR(SUMPRODUCT(N(ISNUMBER(FIND({\"s\";\"d\";\"f\"},C13))))>0,G13+J13<0,AND(G13>0,J13>0,I13>\"20:30\"*1),AND(I13<=\"20:30\"*1,SUM(I13,R13)>=\"20:31\"*1)),1,\"\"),\"\")","v":""},"",null,"",0,0,null,"0,00"]
[null,"2018-05-11","v759-18p",null,{"$f":"IFERROR(VLOOKUP(C14,TR!$B$2:$F$633,2,0),\"\")","v":"04:51:00"},{"$f":"IFERROR(VLOOKUP(C14,TR!$B$2:$F$633,3,0),\"\")","v":"12:26:00"},"07:35:00",{"$f":"IFERROR(VLOOKUP(C14,TR!$B$2:$F$633,4,0),\"\")","v":"00:00:00"},{"$f":"IFERROR(VLOOKUP(C14,TR!$B$2:$F$633,5,0),\"\")","v":"00:00:00"},"00:00:00",1,"","","","",{"$f":"IF(AND(L14=\"\",M14=\"\"),IF(OR(SUMPRODUCT(N(ISNUMBER(FIND({\"s\";\"d\";\"f\"},C14))))>0,G14+J14<0,AND(G14>0,J14>0,I14>\"20:30\"*1),AND(I14<=\"20:30\"*1,SUM(I14,R14)>=\"20:31\"*1)),1,\"\"),\"\")","v":""},"",null,"07:35:00",0.31597222222222227,7.5833333333333339,null,7.5833333333333339]
[null,"2018-05-12","s719-3p",null,{"$f":"IFERROR(VLOOKUP(C15,TR!$B$2:$F$633,2,0),\"\")","v":"05:49:00"},{"$f":"IFERROR(VLOOKUP(C15,TR!$B$2:$F$633,3,0),\"\")","v":"13:36:00"},"07:47:00",{"$f":"IFERROR(VLOOKUP(C15,TR!$B$2:$F$633,4,0),\"\")","v":"00:00:00"},{"$f":"IFERROR(VLOOKUP(C15,TR!$B$2:$F$633,5,0),\"\")","v":"00:00:00"},"00:00:00","",1,"","","",{"$f":"IF(AND(L15=\"\",M15=\"\"),IF(OR(SUMPRODUCT(N(ISNUMBER(FIND({\"s\";\"d\";\"f\"},C15))))>0,G15+J15<0,AND(G15>0,J15>0,I15>\"20:30\"*1),AND(I15<=\"20:30\"*1,SUM(I15,R15)>=\"20:31\"*1)),1,\"\"),\"\")","v":""},"",null,"07:47:00",0.32430555555555551,7.7833333333333323,null,7.7833333333333323]
[null,"2018-05-13","CH",null,{"$f":"IFERROR(VLOOKUP(C16,TR!$B$2:$F$633,2,0),\"\")","v":"00:00:00"},{"$f":"IFERROR(VLOOKUP(C16,TR!$B$2:$F$633,3,0),\"\")","v":"00:00:00"},"00:00:00",{"$f":"IFERROR(VLOOKUP(C16,TR!$B$2:$F$633,4,0),\"\")","v":"00:00:00"},{"$f":"IFERROR(VLOOKUP(C16,TR!$B$2:$F$633,5,0),\"\")","v":"00:00:00"},"00:00:00","","","","","",{"$f":"IF(AND(L16=\"\",M16=\"\"),IF(OR(SUMPRODUCT(N(ISNUMBER(FIND({\"s\";\"d\";\"f\"},C16))))>0,G16+J16<0,AND(G16>0,J16>0,I16>\"20:30\"*1),AND(I16<=\"20:30\"*1,SUM(I16,R16)>=\"20:31\"*1)),1,\"\"),\"\")","v":""},"",null,"",0,0,null,"0,00"]
[null,"2018-05-14","801-rh",null,{"$f":"IFERROR(VLOOKUP(C17,TR!$B$2:$F$633,2,0),\"\")","v":"00:00:00"},{"$f":"IFERROR(VLOOKUP(C17,TR!$B$2:$F$633,3,0),\"\")","v":"00:00:00"},"00:00:00",{"$f":"IFERROR(VLOOKUP(C17,TR!$B$2:$F$633,4,0),\"\")","v":"13:30:00"},{"$f":"IFERROR(VLOOKUP(C17,TR!$B$2:$F$633,5,0),\"\")","v":"21:06:00"},"07:36:00","","","","","",{"$f":"IF(AND(L17=\"\",M17=\"\"),IF(OR(SUMPRODUCT(N(ISNUMBER(FIND({\"s\";\"d\";\"f\"},C17))))>0,G17+J17<0,AND(G17>0,J17>0,I17>\"20:30\"*1),AND(I17<=\"20:30\"*1,SUM(I17,R17)>=\"20:31\"*1)),1,\"\"),\"\")","v":""},"",null,"07:36:00",0.31666666666666665,7.6,null,7.6]
[null,"2018-05-15","805-a",null,{"$f":"IFERROR(VLOOKUP(C18,TR!$B$2:$F$633,2,0),\"\")","v":"00:00:00"},{"$f":"IFERROR(VLOOKUP(C18,TR!$B$2:$F$633,3,0),\"\")","v":"00:00:00"},"00:00:00",{"$f":"IFERROR(VLOOKUP(C18,TR!$B$2:$F$633,4,0),\"\")","v":"12:03:00"},{"$f":"IFERROR(VLOOKUP(C18,TR!$B$2:$F$633,5,0),\"\")","v":"20:02:00"},"07:59:00","",1,"","","",{"$f":"IF(AND(L18=\"\",M18=\"\"),IF(OR(SUMPRODUCT(N(ISNUMBER(FIND({\"s\";\"d\";\"f\"},C18))))>0,G18+J18<0,AND(G18>0,J18>0,I18>\"20:30\"*1),AND(I18<=\"20:30\"*1,SUM(I18,R18)>=\"20:31\"*1)),1,\"\"),\"\")","v":""},"",null,"07:59:00",0.33263888888888893,7.9833333333333343,null,7.9833333333333343]
[null,"2018-05-16","808-b",null,{"$f":"IFERROR(VLOOKUP(C19,TR!$B$2:$F$633,2,0),\"\")","v":"00:00:00"},{"$f":"IFERROR(VLOOKUP(C19,TR!$B$2:$F$633,3,0),\"\")","v":"00:00:00"},"00:00:00",{"$f":"IFERROR(VLOOKUP(C19,TR!$B$2:$F$633,4,0),\"\")","v":"14:23:00"},{"$f":"IFERROR(VLOOKUP(C19,TR!$B$2:$F$633,5,0),\"\")","v":"21:54:00"},"07:31:00",1,"",1,"","",{"$f":"IF(AND(L19=\"\",M19=\"\"),IF(OR(SUMPRODUCT(N(ISNUMBER(FIND({\"s\";\"d\";\"f\"},C19))))>0,G19+J19<0,AND(G19>0,J19>0,I19>\"20:30\"*1),AND(I19<=\"20:30\"*1,SUM(I19,R19)>=\"20:31\"*1)),1,\"\"),\"\")","v":""},"",1.1111111111111112E-2,"07:31:00",0.31319444444444444,7.5166666666666666,null,7.5166666666666666]
[null,"2018-05-17","CC",null,{"$f":"IFERROR(VLOOKUP(C20,TR!$B$2:$F$633,2,0),\"\")","v":"00:00:00"},{"$f":"IFERROR(VLOOKUP(C20,TR!$B$2:$F$633,3,0),\"\")","v":"00:00:00"},"00:00:00",{"$f":"IFERROR(VLOOKUP(C20,TR!$B$2:$F$633,4,0),\"\")","v":"00:00:00"},{"$f":"IFERROR(VLOOKUP(C20,TR!$B$2:$F$633,5,0),\"\")","v":"00:00:00"},"00:00:00","","","","","",{"$f":"IF(AND(L20=\"\",M20=\"\"),IF(OR(SUMPRODUCT(N(ISNUMBER(FIND({\"s\";\"d\";\"f\"},C20))))>0,G20+J20<0,AND(G20>0,J20>0,I20>\"20:30\"*1),AND(I20<=\"20:30\"*1,SUM(I20,R20)>=\"20:31\"*1)),1,\"\"),\"\")","v":""},"",null,"",0,0,null,"0,00"]
[null,"2018-05-18","CC",null,{"$f":"IFERROR(VLOOKUP(C21,TR!$B$2:$F$633,2,0),\"\")","v":"00:00:00"},{"$f":"IFERROR(VLOOKUP(C21,TR!$B$2:$F$633,3,0),\"\")","v":"00:00:00"},"00:00:00",{"$f":"IFERROR(VLOOKUP(C21,TR!$B$2:$F$633,4,0),\"\")","v":"00:00:00"},{"$f":"IFERROR(VLOOKUP(C21,TR!$B$2:$F$633,5,0),\"\")","v":"00:00:00"},"00:00:00","","","","","",{"$f":"IF(AND(L21=\"\",M21=\"\"),IF(OR(SUMPRODUCT(N(ISNUMBER(FIND({\"s\";\"d\";\"f\"},C21))))>0,G21+J21<0,AND(G21>0,J21>0,I21>\"20:30\"*1),AND(I21<=\"20:30\"*1,SUM(I21,R21)>=\"20:31\"*1)),1,\"\"),\"\")","v":""},"",null,"",0,0,null,"0,00"]
[null,"2018-05-19","s864-15",null,{"$f":"IFERROR(VLOOKUP(C22,TR!$B$2:$F$633,2,0),\"\")","v":"00:00:00"},{"$f":"IFERROR(VLOOKUP(C22,TR!$B$2:$F$633,3,0),\"\")","v":"00:00:00"},"00:00:00",{"$f":"IFERROR(VLOOKUP(C22,TR!$B$2:$F$633,4,0),\"\")","v":"14:23:00"},{"$f":"IFERROR(VLOOKUP(C22,TR!$B$2:$F$633,5,0),\"\")","v":"21:54:00"},"07:31:00","","",1,"","",{"$f":"IF(AND(L22=\"\",M22=\"\"),IF(OR(SUMPRODUCT(N(ISNUMBER(FIND({\"s\";\"d\";\"f\"},C22))))>0,G22+J22<0,AND(G22>0,J22>0,I22>\"20:30\"*1),AND(I22<=\"20:30\"*1,SUM(I22,R22)>=\"20:31\"*1)),1,\"\"),\"\")","v":""},"",null,"07:31:00",0.31319444444444444,7.5166666666666666,null,7.5166666666666666]
[null,"2018-05-20","CH",null,{"$f":"IFERROR(VLOOKUP(C23,TR!$B$2:$F$633,2,0),\"\")","v":"00:00:00"},{"$f":"IFERROR(VLOOKUP(C23,TR!$B$2:$F$633,3,0),\"\")","v":"00:00:00"},"00:00:00",{"$f":"IFERROR(VLOOKUP(C23,TR!$B$2:$F$633,4,0),\"\")","v":"00:00:00"},{"$f":"IFERROR(VLOOKUP(C23,TR!$B$2:$F$633,5,0),\"\")","v":"00:00:00"},"00:00:00","","","","","",{"$f":"IF(AND(L23=\"\",M23=\"\"),IF(OR(SUMPRODUCT(N(ISNUMBER(FIND({\"s\";\"d\";\"f\"},C23))))>0,G23+J23<0,AND(G23>0,J23>0,I23>\"20:30\"*1),AND(I23<=\"20:30\"*1,SUM(I23,R23)>=\"20:31\"*1)),1,\"\"),\"\")","v":""},"",null,"",0,0,null,"0,00"]
[null,"2018-05-21","Férié",null,{"$f":"IFERROR(VLOOKUP(C24,TR!$B$2:$F$633,2,0),\"\")","v":"00:00:00"},{"$f":"IFERROR(VLOOKUP(C24,TR!$B$2:$F$633,3,0),\"\")","v":"00:00:00"},"00:00:00",{"$f":"IFERROR(VLOOKUP(C24,TR!$B$2:$F$633,4,0),\"\")","v":"00:00:00"},{"$f":"IFERROR(VLOOKUP(C24,TR!$B$2:$F$633,5,0),\"\")","v":"00:00:00"},"00:00:00","","","","","",{"$f":"IF(AND(L24=\"\",M24=\"\"),IF(OR(SUMPRODUCT(N(ISNUMBER(FIND({\"s\";\"d\";\"f\"},C24))))>0,G24+J24<0,AND(G24>0,J24>0,I24>\"20:30\"*1),AND(I24<=\"20:30\"*1,SUM(I24,R24)>=\"20:31\"*1)),1,\"\"),\"\")","v":""},"",null,"",0,0,null,"0,00"]
[null,"2018-05-22","714-a",null,{"$f":"IFERROR(VLOOKUP(C25,TR!$B$2:$F$633,2,0),\"\")","v":"06:35:00"},{"$f":"IFERROR(VLOOKUP(C25,TR!$B$2:$F$633,3,0),\"\")","v":"14:02:00"},"07:27:00",{"$f":"IFERROR(VLOOKUP(C25,TR!$B$2:$F$633,4,0),\"\")","v":"00:00:00"},{"$f":"IFERROR(VLOOKUP(C25,TR!$B$2:$F$633,5,0),\"\")","v":"00:00:00"},"00:00:00","",1,"","","",{"$f":"IF(AND(L25=\"\",M25=\"\"),IF(OR(SUMPRODUCT(N(ISNUMBER(FIND({\"s\";\"d\";\"f\"},C25))))>0,G25+J25<0,AND(G25>0,J25>0,I25>\"20:30\"*1),AND(I25<=\"20:30\"*1,SUM(I25,R25)>=\"20:31\"*1)),1,\"\"),\"\")","v":""},"",null,"07:27:00",0.31041666666666667,7.45,null,7.45]
[null,"2018-05-23","708-a",null,{"$f":"IFERROR(VLOOKUP(C26,TR!$B$2:$F$633,2,0),\"\")","v":"05:09:00"},{"$f":"IFERROR(VLOOKUP(C26,TR!$B$2:$F$633,3,0),\"\")","v":"13:00:00"},"07:51:00",{"$f":"IFERROR(VLOOKUP(C26,TR!$B$2:$F$633,4,0),\"\")","v":"00:00:00"},{"$f":"IFERROR(VLOOKUP(C26,TR!$B$2:$F$633,5,0),\"\")","v":"00:00:00"},"00:00:00","","","","","",{"$f":"IF(AND(L26=\"\",M26=\"\"),IF(OR(SUMPRODUCT(N(ISNUMBER(FIND({\"s\";\"d\";\"f\"},C26))))>0,G26+J26<0,AND(G26>0,J26>0,I26>\"20:30\"*1),AND(I26<=\"20:30\"*1,SUM(I26,R26)>=\"20:31\"*1)),1,\"\"),\"\")","v":""},"",null,"07:51:00",0.32708333333333328,7.8499999999999988,null,7.8499999999999988]
[null,"2018-05-24","746-7",null,{"$f":"IFERROR(VLOOKUP(C27,TR!$B$2:$F$633,2,0),\"\")","v":"06:48:00"},{"$f":"IFERROR(VLOOKUP(C27,TR!$B$2:$F$633,3,0),\"\")","v":"14:02:00"},"07:14:00",{"$f":"IFERROR(VLOOKUP(C27,TR!$B$2:$F$633,4,0),\"\")","v":"00:00:00"},{"$f":"IFERROR(VLOOKUP(C27,TR!$B$2:$F$633,5,0),\"\")","v":"00:00:00"},"00:00:00","",1,"","","",{"$f":"IF(AND(L27=\"\",M27=\"\"),IF(OR(SUMPRODUCT(N(ISNUMBER(FIND({\"s\";\"d\";\"f\"},C27))))>0,G27+J27<0,AND(G27>0,J27>0,I27>\"20:30\"*1),AND(I27<=\"20:30\"*1,SUM(I27,R27)>=\"20:31\"*1)),1,\"\"),\"\")","v":""},"",null,"07:14:00",0.30138888888888893,7.2333333333333343,null,7.2333333333333343]
[null,"2018-05-25","v723-2",null,{"$f":"IFERROR(VLOOKUP(C28,TR!$B$2:$F$633,2,0),\"\")","v":"05:54:00"},{"$f":"IFERROR(VLOOKUP(C28,TR!$B$2:$F$633,3,0),\"\")","v":"13:20:00"},"07:26:00",{"$f":"IFERROR(VLOOKUP(C28,TR!$B$2:$F$633,4,0),\"\")","v":"00:00:00"},{"$f":"IFERROR(VLOOKUP(C28,TR!$B$2:$F$633,5,0),\"\")","v":"00:00:00"},"00:00:00","",1,"","","",{"$f":"IF(AND(L28=\"\",M28=\"\"),IF(OR(SUMPRODUCT(N(ISNUMBER(FIND({\"s\";\"d\";\"f\"},C28))))>0,G28+J28<0,AND(G28>0,J28>0,I28>\"20:30\"*1),AND(I28<=\"20:30\"*1,SUM(I28,R28)>=\"20:31\"*1)),1,\"\"),\"\")","v":""},"",null,"07:26:00",0.30972222222222223,7.4333333333333336,null,7.4333333333333336]
[null,"2018-05-26","CC",null,{"$f":"IFERROR(VLOOKUP(C29,TR!$B$2:$F$633,2,0),\"\")","v":"00:00:00"},{"$f":"IFERROR(VLOOKUP(C29,TR!$B$2:$F$633,3,0),\"\")","v":"00:00:00"},"00:00:00",{"$f":"IFERROR(VLOOKUP(C29,TR!$B$2:$F$633,4,0),\"\")","v":"00:00:00"},{"$f":"IFERROR(VLOOKUP(C29,TR!$B$2:$F$633,5,0),\"\")","v":"00:00:00"},"00:00:00","","","","","",{"$f":"IF(AND(L29=\"\",M29=\"\"),IF(OR(SUMPRODUCT(N(ISNUMBER(FIND({\"s\";\"d\";\"f\"},C29))))>0,G29+J29<0,AND(G29>0,J29>0,I29>\"20:30\"*1),AND(I29<=\"20:30\"*1,SUM(I29,R29)>=\"20:31\"*1)),1,\"\"),\"\")","v":""},"",null,"",0,0,null,"0,00"]
[null,"2018-05-27","CH",null,{"$f":"IFERROR(VLOOKUP(C30,TR!$B$2:$F$633,2,0),\"\")","v":"00:00:00"},{"$f":"IFERROR(VLOOKUP(C30,TR!$B$2:$F$633,3,0),\"\")","v":"00:00:00"},"00:00:00",{"$f":"IFERROR(VLOOKUP(C30,TR!$B$2:$F$633,4,0),\"\")","v":"00:00:00"},{"$f":"IFERROR(VLOOKUP(C30,TR!$B$2:$F$633,5,0),\"\")","v":"00:00:00"},"00:00:00","","","","","",{"$f":"IF(AND(L30=\"\",M30=\"\"),IF(OR(SUMPRODUCT(N(ISNUMBER(FIND({\"s\";\"d\";\"f\"},C30))))>0,G30+J30<0,AND(G30>0,J30>0,I30>\"20:30\"*1),AND(I30<=\"20:30\"*1,SUM(I30,R30)>=\"20:31\"*1)),1,\"\"),\"\")","v":""},"",null,"",0,0,null,"0,00"]
[null,"2018-05-28","RT",null,{"$f":"IFERROR(VLOOKUP(C31,TR!$B$2:$F$633,2,0),\"\")","v":"00:00:00"},{"$f":"IFERROR(VLOOKUP(C31,TR!$B$2:$F$633,3,0),\"\")","v":"00:00:00"},"00:00:00",{"$f":"IFERROR(VLOOKUP(C31,TR!$B$2:$F$633,4,0),\"\")","v":"00:00:00"},{"$f":"IFERROR(VLOOKUP(C31,TR!$B$2:$F$633,5,0),\"\")","v":"00:00:00"},"00:00:00","","","","","",{"$f":"IF(AND(L31=\"\",M31=\"\"),IF(OR(SUMPRODUCT(N(ISNUMBER(FIND({\"s\";\"d\";\"f\"},C31))))>0,G31+J31<0,AND(G31>0,J31>0,I31>\"20:30\"*1),AND(I31<=\"20:30\"*1,SUM(I31,R31)>=\"20:31\"*1)),1,\"\"),\"\")","v":""},"",null,"",0,0,null,"0,00"]
[null,"2018-05-29","104-3",null,{"$f":"IFERROR(VLOOKUP(C32,TR!$B$2:$F$633,2,0),\"\")","v":"09:10:00"},{"$f":"IFERROR(VLOOKUP(C32,TR!$B$2:$F$633,3,0),\"\")","v":"13:07:00"},"03:57:00",{"$f":"IFERROR(VLOOKUP(C32,TR!$B$2:$F$633,4,0),\"\")","v":"17:10:00"},{"$f":"IFERROR(VLOOKUP(C32,TR!$B$2:$F$633,5,0),\"\")","v":"21:37:00"},"04:27:00","","",1,"","",{"$f":"IF(AND(L32=\"\",M32=\"\"),IF(OR(SUMPRODUCT(N(ISNUMBER(FIND({\"s\";\"d\";\"f\"},C32))))>0,G32+J32<0,AND(G32>0,J32>0,I32>\"20:30\"*1),AND(I32<=\"20:30\"*1,SUM(I32,R32)>=\"20:31\"*1)),1,\"\"),\"\")","v":""},"",null,"12:27:00",0.35,8.3999999999999986,null,8.3999999999999986]
[null,"2018-05-30","203-8",null,{"$f":"IFERROR(VLOOKUP(C33,TR!$B$2:$F$633,2,0),\"\")","v":"11:30:00"},{"$f":"IFERROR(VLOOKUP(C33,TR!$B$2:$F$633,3,0),\"\")","v":"14:05:00"},"02:35:00",{"$f":"IFERROR(VLOOKUP(C33,TR!$B$2:$F$633,4,0),\"\")","v":"15:32:00"},{"$f":"IFERROR(VLOOKUP(C33,TR!$B$2:$F$633,5,0),\"\")","v":"21:30:00"},"05:58:00","",1,1,"","",{"$f":"IF(AND(L33=\"\",M33=\"\"),IF(OR(SUMPRODUCT(N(ISNUMBER(FIND({\"s\";\"d\";\"f\"},C33))))>0,G33+J33<0,AND(G33>0,J33>0,I33>\"20:30\"*1),AND(I33<=\"20:30\"*1,SUM(I33,R33)>=\"20:31\"*1)),1,\"\"),\"\")","v":""},"",null,"10:00:00",0.35625000000000001,8.5500000000000007,null,8.5500000000000007]
[null,"2018-05-31","CC",null,{"$f":"IFERROR(VLOOKUP(C34,TR!$B$2:$F$633,2,0),\"\")","v":"00:00:00"},{"$f":"IFERROR(VLOOKUP(C34,TR!$B$2:$F$633,3,0),\"\")","v":"00:00:00"},"00:00:00",{"$f":"IFERROR(VLOOKUP(C34,TR!$B$2:$F$633,4,0),\"\")","v":"00:00:00"},{"$f":"IFERROR(VLOOKUP(C34,TR!$B$2:$F$633,5,0),\"\")","v":"00:00:00"},"00:00:00","","","","","",{"$f":"IF(AND(L34=\"\",M34=\"\"),IF(OR(SUMPRODUCT(N(ISNUMBER(FIND({\"s\";\"d\";\"f\"},C34))))>0,G34+J34<0,AND(G34>0,J34>0,I34>\"20:30\"*1),AND(I34<=\"20:30\"*1,SUM(I34,R34)>=\"20:31\"*1)),1,\"\"),\"\")","v":""},"",null,"",0,0,null,"0,00"]
[]
[null,"Jours travaillés",{"$f":"(COUNTIF(Avril!C24:C34,\"<>\")+COUNTIF(Mai!C4:C23,\"<>\"))-(COUNTIF(Avril!C24:C34,\"CC*\")+COUNTIF(Mai!C4:C23,\"CC*\"))-(COUNTIF(Mars!C24:C34,\"CH*\")+COUNTIF(Mai!C4:C23,\"CH*\"))-(COUNTIF(Avril!C24:C34,\"RT*\")+COUNTIF(Mai!C4:C23,\"RT*\"))-(COUNTIF(Avril!C24:C34,\"Férié*\")+COUNTIF(Mai!C4:C23,\"Férié*\"))-(COUNTIF(Avril!C24:C34,\"Mal*\")+COUNTIF(Mai!C4:C23,\"Mal*\"))-(COUNTIF(Avril!C24:C34,\"CP*\")+COUNTIF(Mai!C4:C23,\"CP*\"))","v":18},null,null,null,null,null,"Du 21 au 20",null,{"$f":"SUM(Avril!$K$24:$K$34,K4:K23)","v":4},{"$f":"SUM(Avril!$L$24:$L$34,L4:L23)","v":4},{"$f":"SUM(Avril!$M$24:$M$34,M4:M23)","v":5},{"$f":"SUM(Avril!$N$24:$N$34,N4:N23)","v":1},{"$f":"SUM(Avril!$O$24:$O$34,O4:O23)","v":2},{"$f":"SUM(Avril!$P$24:$P$34,P4:P23)","v":3},{"$f":"SUM(Avril!$Q$24:$Q$34,Q4:Q23)","v":0},{"$f":"SUM(Avril!$R$24:$R$34,R4:R23)","v":"00:16:00"},null,{"$f":"SUM(Avril!T24:T34)+SUM(Mai!T4:T23)","v":5.5090277777777779},{"$f":"SUM(U4:U34)","v":124.23333333333333},{"$f":"SUM(V4:V34)","v":0}]
[null,"CP",{"$f":"(COUNTIF(Avril!C24:C34,\"CP\")+COUNTIF(Mai!C4:C23,\"CP\"))","v":0},null,null,null,null,null,null,null,{"$f":"(I39*2)*K36","v":70.822400000000002},{"$f":"Recap!H35*L36","v":28.56},{"$f":"Recap!H35*M36","v":35.699999999999996},{"$f":"(I39*5)*N36","v":44.264000000000003},{"$f":"(Recap!H33)*O36","v":204.93800000000002},{"$f":"7.5*P36","v":22.5},{"$f":"(I39*1.5)*Q36","v":0},{"$f":"R36*24","v":0.26666666666666666}]
[null,"CH",{"$f":"(COUNTIF(Avril!C24:C34,\"CH\")+COUNTIF(Mai!C4:C23,\"CH\"))","v":3},null,null,null,null,null,"VP",null,null,null,null,null,null,null,null,null,null,"Horaire mensuel",null,6.1749999999999998,{"$f":"V38*24","v":148.19999999999999}]
[null,"RT",{"$f":"(COUNTIF(Avril!C24:C34,\"RT\")+COUNTIF(Mai!C4:C23,\"RT\"))","v":1},null,null,null,null,null,8.8528000000000002]
[null,"CC",{"$f":"(COUNTIF(Avril!C24:C34,\"CC\")+COUNTIF(Mai!C4:C23,\"CC\"))","v":5},null,null,null,null,null,null,null,null,null,null,null,null,null,null,null,null,"Différence",null,{"$f":"IF(V38>T36,\"-\",\"\")&TEXT(ABS(T36-V38),\"[h]:mm\")","v":"-15:59"},{"$f":"(T36-V38)*24","v":-15.983333333333327}]
[null,"Férié",{"$f":"(COUNTIF(Avril!C24:C34,\"Férié\")+COUNTIF(Mai!C4:C23,\"Férié\"))","v":1}]
[null,"Férié CC-CH-RT",{"$f":"(COUNTIF(Avril!C24:C34,\"FériéCC\")+COUNTIF(Mai!C4:C23,\"FériéCC\")+COUNTIF(Avril!C24:C34,\"FériéCH\")+COUNTIF(Mai!C4:C23,\"FériéCH\")+COUNTIF(Avril!C24:C34,\"FériéRT\")+COUNTIF(Mai!C4:C23,\"FériéRT\"))","v":2},null,null,null,null,null,null,null,null,null,null,null,null,null,null,"Heures réelles",null,{"$f":"SUM(T4:T34)","v":5.1763888888888898}]
[null,null,null,null,null,null,null,null,null,null,null,null,null,null,null,null,null,null,null,{"$f":"T42*24","v":124.23333333333335},null,null,{"$f":"(T42-V38)*24","v":-23.96666666666664}]
[]
[null,null,null,null,null,"NOTES"]

{"sheet":"Juin","index":6,"n_rows":45,"n_cols":23,"rows_kept":45,"cut":false,"hidden":false,"merged":[[0,1,0,22],[44,5,44,17],[1,19,1,22],[2,4,2,5],[2,7,2,8],[35,8,35,9],[37,19,37,20],[39,19,39,20],[41,17,41,18]]}
[null,"JUIN"]
[null,null,null,null,null,null,null,null,null,null,null,null,null,null,null,null,null,null,null,"TOTAL"]
[null,"Date","Services","Obs.","MATIN",null,"Temps","APRES MIDI",null,"Temps","Prime nuit","PJ1","PJ2","Dimanche","Férié","ChècDej","PrimAmp","H Supp","Ampli","Heures","Centièmes","Kéolis","Écart"]
[null,"2018-06-01","CH",null,{"$f":"IFERROR(VLOOKUP(C4,TR!$B$2:$F$633,2,0),\"\")","v":"00:00:00"},{"$f":"IFERROR(VLOOKUP(C4,TR!$B$2:$F$633,3,0),\"\")","v":"00:00:00"},{"$f":"IF(ISERROR(F4-E4),0,F4-E4)","v":"00:00:00"},{"$f":"IFERROR(VLOOKUP(C4,TR!$B$2:$F$633,4,0),\"\")","v":"00:00:00"},{"$f":"IFERROR(VLOOKUP(C4,TR!$B$2:$F$633,5,0),\"\")","v":"00:00:00"},{"$f":"IF(ISERROR(I4-H4),0,(I4-H4))","v":"00:00:00"},{"$f":"IF(COUNTA(E4:F4,H4:I4)=5,1,IF(AND(E4<\"5:00\"*1,E4>\"2:00\"*1),1,IF(AND(I4>=\"22:01\"*1,I4<=\"26:01\"*1),1,IF(AND(I4<=\"22:00\"*1,SUM(I4,R4)>=\"22:01\"*1),1,\"\"))))","v":""},{"$f":"IF(AND(F4>=\"13:15\"*1,H4<\"\"),1,IF(AND(H4>=\"11:00\"*1,H4<=\"12:15\"*1),1,IF(AND(F4<=\"13:15\"*1,SUM(F4,R4)>=\"13:15\"*1),1,\"\")))","v":""},{"$f":"IF(AND(I4>=\"19:30\"*1,1,I4>\"21:30\"*1,C4<>\"\"),1,IF(AND(I4<=\"21:30\"*1,SUM(I4,R4)>=\"21:30\"*1),1,\"\"))","v":""},{"$f":"IF(AND(LEFT(C4,1)=\"d\",AND(Mai!N34<>1)),1,IF(AND(LEFT(C4,1)=\"s\",I4>=\"24:01\"*1),1,IF(AND(I4<>\"\",I4<=\"23:59\"*1,SUM(I4,R4)>=\"24:01\"*1),1,\"\")))","v":""},{"$f":"IF(AND(I4>\"24:00\"*1,ISNUMBER(FIND(\"f\",Mai!O34))),1,IF(AND(OR(ISNUMBER(FIND(\"FériéCC\",C4)),ISNUMBER(FIND(\"FériéCH\",C4)),ISNUMBER(FIND(\"f\",C4)))),1,\"\"))","v":""},{"$f":"IF(AND(L4=\"\",M4=\"\"),IF(OR(SUMPRODUCT(N(ISNUMBER(FIND({\"s\";\"d\";\"f\"},C4))))>0,G4+J4<0,AND(G4>0,J4>0,I4>\"20:30\"*1),AND(I4<=\"20:30\"*1,SUM(I4,R4)>=\"20:31\"*1)),1,\"\"),\"\")","v":""},{"$f":"IF(OR(AND(G4>0,AND(J4=0)),OR(G4=0,AND(J4>0)),OR(G4+J4>0)),IF(S4=\"\",\"\",IF(R4+S4>=\"13:01\"*1,1,\"\")))","v":""},null,{"$f":"IF(G4=0,IF(J4=0,\"\",I4-H4),IF(J4=0,F4-E4,I4-E4))","v":""},{"$f":"IF(ISERROR((F4-E4)+(I4-H4)),0,(F4-E4)+(I4-H4))","v":0},{"$f":"T4*24","v":0},null,{"$f":"IF(U4-V4=0,\"0,00\",U4-V4)","v":"0,00"}]
[null,"2018-06-02","905-b",null,{"$f":"IFERROR(VLOOKUP(C5,TR!$B$2:$F$633,2,0),\"\")","v":"00:00:00"},{"$f":"IFERROR(VLOOKUP(C5,TR!$B$2:$F$633,3,0),\"\")","v":"00:00:00"},{"$f":"IF(ISERROR(F5-E5),0,F5-E5)","v":"00:00:00"},{"$f":"IFERROR(VLOOKUP(C5,TR!$B$2:$F$633,4,0),\"\")","v":"17:32:00"},{"$f":"IFERROR(VLOOKUP(C5,TR!$B$2:$F$633,5,0),\"\")","v":1.0576388888888888},{"$f":"IF(ISERROR(I5-H5),0,(I5-H5))","v":"07:51:00"},1,"",1,{"$f":"IF(AND(LEFT(C5,1)=\"d\",AND(N4<>1)),1,IF(AND(LEFT(C5,1)=\"s\",I5>=\"24:01\"*1),1,IF(AND(I5<>\"\",I5<=\"23:59\"*1,SUM(I5,R5)>=\"24:01\"*1),1,\"\")))","v":""},{"$f":"IF(AND(I5>\"24:00\"*1,ISNUMBER(FIND(\"f\",C6))),1,IF(AND(OR(ISNUMBER(FIND(\"FériéCC\",C5)),ISNUMBER(FIND(\"FériéCH\",C5)),ISNUMBER(FIND(\"f\",C5)))),1,\"\"))","v":""},{"$f":"IF(AND(L5=\"\",M5=\"\"),IF(OR(SUMPRODUCT(N(ISNUMBER(FIND({\"s\";\"d\";\"f\"},C5))))>0,G5+J5<0,AND(G5>0,J5>0,I5>\"20:30\"*1),AND(I5<=\"20:30\"*1,SUM(I5,R5)>=\"20:31\"*1)),1,\"\"),\"\")","v":""},{"$f":"IF(OR(AND(G5>0,AND(J5=0)),OR(G5=0,AND(J5>0)),OR(G5+J5>0)),IF(S5=\"\",\"\",IF(R5+S5>=\"13:01\"*1,1,\"\")))","v":""},null,"07:51:00",0.32708333333333328,{"$f":"T5*24","v":7.8499999999999988},null,{"$f":"IF(U5-V5=0,\"0,00\",U5-V5)","v":7.8499999999999988}]
[null,"2018-06-03","d905-a",null,{"$f":"IFERROR(VLOOKUP(C6,TR!$B$2:$F$633,2,0),\"\")","v":"00:00:00"},{"$f":"IFERROR(VLOOKUP(C6,TR!$B$2:$F$633,3,0),\"\")","v":"00:00:00"},"00:00:00",{"$f":"IFERROR(VLOOKUP(C6,TR!$B$2:$F$633,4,0),\"\")","v":"18:04:00"},{"$f":"IFERROR(VLOOKUP(C6,TR!$B$2:$F$633,5,0),\"\")","v":1.0680555555555555},"07:34:00",1,"",1,1,"",{"$f":"IF(AND(L6=\"\",M6=\"\"),IF(OR(SUMPRODUCT(N(ISNUMBER(FIND({\"s\";\"d\";\"f\"},C6))))>0,G6+J6<0,AND(G6>0,J6>0,I6>\"20:30\"*1),AND(I6<=\"20:30\"*1,SUM(I6,R6)>=\"20:31\"*1)),1,\"\"),\"\")","v":""},"",null,"07:34:00",0.31527777777777777,{"$f":"T6*24","v":7.5666666666666664},null,7.5666666666666664]
[null,"2018-06-04","812-1",null,{"$f":"IFERROR(VLOOKUP(C7,TR!$B$2:$F$633,2,0),\"\")","v":"00:00:00"},{"$f":"IFERROR(VLOOKUP(C7,TR!$B$2:$F$633,3,0),\"\")","v":"00:00:00"},"00:00:00",{"$f":"IFERROR(VLOOKUP(C7,TR!$B$2:$F$633,4,0),\"\")","v":"13:15:00"},{"$f":"IFERROR(VLOOKUP(C7,TR!$B$2:$F$633,5,0),\"\")","v":"20:29:00"},"07:14:00","","","","","",{"$f":"IF(AND(L7=\"\",M7=\"\"),IF(OR(SUMPRODUCT(N(ISNUMBER(FIND({\"s\";\"d\";\"f\"},C7))))>0,G7+J7<0,AND(G7>0,J7>0,I7>\"20:30\"*1),AND(I7<=\"20:30\"*1,SUM(I7,R7)>=\"20:31\"*1)),1,\"\"),\"\")","v":""},"",null,"07:14:00",0.30138888888888882,{"$f":"T7*24","v":7.2333333333333316},null,7.2333333333333316]
[null,"2018-06-05","CC",null,{"$f":"IFERROR(VLOOKUP(C8,TR!$B$2:$F$633,2,0),\"\")","v":"00:00:00"},{"$f":"IFERROR(VLOOKUP(C8,TR!$B$2:$F$633,3,0),\"\")","v":"00:00:00"},"00:00:00",{"$f":"IFERROR(VLOOKUP(C8,TR!$B$2:$F$633,4,0),\"\")","v":"00:00:00"},{"$f":"IFERROR(VLOOKUP(C8,TR!$B$2:$F$633,5,0),\"\")","v":"00:00:00"},"00:00:00","","","","","",{"$f":"IF(AND(L8=\"\",M8=\"\"),IF(OR(SUMPRODUCT(N(ISNUMBER(FIND({\"s\";\"d\";\"f\"},C8))))>0,G8+J8<0,AND(G8>0,J8>0,I8>\"20:30\"*1),AND(I8<=\"20:30\"*1,SUM(I8,R8)>=\"20:31\"*1)),1,\"\"),\"\")","v":""},"",null,"",0,0,null,"0,00"]
[null,"2018-06-06","712-1",null,{"$f":"IFERROR(VLOOKUP(C9,TR!$B$2:$F$633,2,0),\"\")","v":"06:33:00"},{"$f":"IFERROR(VLOOKUP(C9,TR!$B$2:$F$633,3,0),\"\")","v":"13:38:00"},"07:05:00",{"$f":"IFERROR(VLOOKUP(C9,TR!$B$2:$F$633,4,0),\"\")","v":"00:00:00"},{"$f":"IFERROR(VLOOKUP(C9,TR!$B$2:$F$633,5,0),\"\")","v":"00:00:00"},"00:00:00","",1,"","","",{"$f":"IF(AND(L9=\"\",M9=\"\"),IF(OR(SUMPRODUCT(N(ISNUMBER(FIND({\"s\";\"d\";\"f\"},C9))))>0,G9+J9<0,AND(G9>0,J9>0,I9>\"20:30\"*1),AND(I9<=\"20:30\"*1,SUM(I9,R9)>=\"20:31\"*1)),1,\"\"),\"\")","v":""},"",null,"07:05:00",0.2951388888888889,7.0833333333333339,null,7.0833333333333339]
[null,"2018-06-07","711-a",null,{"$f":"IFERROR(VLOOKUP(C10,TR!$B$2:$F$633,2,0),\"\")","v":"05:53:00"},{"$f":"IFERROR(VLOOKUP(C10,TR!$B$2:$F$633,3,0),\"\")","v":"13:28:00"},"07:35:00",{"$f":"IFERROR(VLOOKUP(C10,TR!$B$2:$F$633,4,0),\"\")","v":"00:00:00"},{"$f":"IFERROR(VLOOKUP(C10,TR!$B$2:$F$633,5,0),\"\")","v":"00:00:00"},"00:00:00","",1,"","","",{"$f":"IF(AND(L10=\"\",M10=\"\"),IF(OR(SUMPRODUCT(N(ISNUMBER(FIND({\"s\";\"d\";\"f\"},C10))))>0,G10+J10<0,AND(G10>0,J10>0,I10>\"20:30\"*1),AND(I10<=\"20:30\"*1,SUM(I10,R10)>=\"20:31\"*1)),1,\"\"),\"\")","v":""},"",null,"07:35:00",0.31597222222222221,7.583333333333333,null,7.583333333333333]
[null,"2018-06-08","RTN",null,{"$f":"IFERROR(VLOOKUP(C11,TR!$B$2:$F$633,2,0),\"\")","v":"00:00:00"},{"$f":"IFERROR(VLOOKUP(C11,TR!$B$2:$F$633,3,0),\"\")","v":"00:00:00"},"00:00:00",{"$f":"IFERROR(VLOOKUP(C11,TR!$B$2:$F$633,4,0),\"\")","v":"00:00:00"},{"$f":"IFERROR(VLOOKUP(C11,TR!$B$2:$F$633,5,0),\"\")","v":"00:00:00"},"00:00:00","","","","","",{"$f":"IF(AND(L11=\"\",M11=\"\"),IF(OR(SUMPRODUCT(N(ISNUMBER(FIND({\"s\";\"d\";\"f\"},C11))))>0,G11+J11<0,AND(G11>0,J11>0,I11>\"20:30\"*1),AND(I11<=\"20:30\"*1,SUM(I11,R11)>=\"20:31\"*1)),1,\"\"),\"\")","v":""},"",null,"",0,0,null,"0,00"]
[null,"2018-06-09","302-b",null,{"$f":"IFERROR(VLOOKUP(C12,TR!$B$2:$F$633,2,0),\"\")","v":"07:58:00"},{"$f":"IFERROR(VLOOKUP(C12,TR!$B$2:$F$633,3,0),\"\")","v":"12:22:00"},"04:24:00",{"$f":"IFERROR(VLOOKUP(C12,TR!$B$2:$F$633,4,0),\"\")","v":"13:17:00"},{"$f":"IFERROR(VLOOKUP(C12,TR!$B$2:$F$633,5,0),\"\")","v":"17:04:00"},"03:47:00","","","","","",{"$f":"IF(AND(L12=\"\",M12=\"\"),IF(OR(SUMPRODUCT(N(ISNUMBER(FIND({\"s\";\"d\";\"f\"},C12))))>0,G12+J12<0,AND(G12>0,J12>0,I12>\"20:30\"*1),AND(I12<=\"20:30\"*1,SUM(I12,R12)>=\"20:31\"*1)),1,\"\"),\"\")","v":""},"",null,"09:06:00",0.34097222222222218,8.1833333333333318,null,8.1833333333333318]
[null,"2018-06-10","CH",null,{"$f":"IFERROR(VLOOKUP(C13,TR!$B$2:$F$633,2,0),\"\")","v":"00:00:00"},{"$f":"IFERROR(VLOOKUP(C13,TR!$B$2:$F$633,3,0),\"\")","v":"00:00:00"},"00:00:00",{"$f":"IFERROR(VLOOKUP(C13,TR!$B$2:$F$633,4,0),\"\")","v":"00:00:00"},{"$f":"IFERROR(VLOOKUP(C13,TR!$B$2:$F$633,5,0),\"\")","v":"00:00:00"},"00:00:00","","","","","",{"$f":"IF(AND(L13=\"\",M13=\"\"),IF(OR(SUMPRODUCT(N(ISNUMBER(FIND({\"s\";\"d\";\"f\"},C13))))>0,G13+J13<0,AND(G13>0,J13>0,I13>\"20:30\"*1),AND(I13<=\"20:30\"*1,SUM(I13,R13)>=\"20:31\"*1)),1,\"\"),\"\")","v":""},"",null,"",0,0,null,"0,00"]
[null,"2018-06-11","RTA",null,{"$f":"IFERROR(VLOOKUP(C14,TR!$B$2:$F$633,2,0),\"\")","v":"00:00:00"},{"$f":"IFERROR(VLOOKUP(C14,TR!$B$2:$F$633,3,0),\"\")","v":"00:00:00"},"00:00:00",{"$f":"IFERROR(VLOOKUP(C14,TR!$B$2:$F$633,4,0),\"\")","v":"00:00:00"},{"$f":"IFERROR(VLOOKUP(C14,TR!$B$2:$F$633,5,0),\"\")","v":"00:00:00"},"00:00:00","","","","","",{"$f":"IF(AND(L14=\"\",M14=\"\"),IF(OR(SUMPRODUCT(N(ISNUMBER(FIND({\"s\";\"d\";\"f\"},C14))))>0,G14+J14<0,AND(G14>0,J14>0,I14>\"20:30\"*1),AND(I14<=\"20:30\"*1,SUM(I14,R14)>=\"20:31\"*1)),1,\"\"),\"\")","v":""},"",null,"",0,0,null,"0,00"]
[null,"2018-06-12","870-18",null,{"$f":"IFERROR(VLOOKUP(C15,TR!$B$2:$F$633,2,0),\"\")","v":"00:00:00"},{"$f":"IFERROR(VLOOKUP(C15,TR!$B$2:$F$633,3,0),\"\")","v":"00:00:00"},"00:00:00",{"$f":"IFERROR(VLOOKUP(C15,TR!$B$2:$F$633,4,0),\"\")","v":"14:27:00"},{"$f":"IFERROR(VLOOKUP(C15,TR!$B$2:$F$633,5,0),\"\")","v":"22:18:00"},"07:51:00",1,"",{"$f":"IF(AND(I15>=\"19:30\"*1,1,I15>\"21:30\"*1,C15<>\"\"),1,IF(AND(I15<=\"21:30\"*1,SUM(I15,R15)>=\"21:30\"*1),1,\"\"))","v":1},"","",{"$f":"IF(AND(L15=\"\",M15=\"\"),IF(OR(SUMPRODUCT(N(ISNUMBER(FIND({\"s\";\"d\";\"f\"},C15))))>0,G15+J15<0,AND(G15>0,J15>0,I15>\"20:30\"*1),AND(I15<=\"20:30\"*1,SUM(I15,R15)>=\"20:31\"*1)),1,\"\"),\"\")","v":""},"",null,"07:51:00",0.32708333333333339,7.8500000000000014,null,7.8500000000000014]
[null,"2018-06-13","809-a",null,{"$f":"IFERROR(VLOOKUP(C16,TR!$B$2:$F$633,2,0),\"\")","v":"00:00:00"},{"$f":"IFERROR(VLOOKUP(C16,TR!$B$2:$F$633,3,0),\"\")","v":"00:00:00"},"00:00:00",{"$f":"IFERROR(VLOOKUP(C16,TR!$B$2:$F$633,4,0),\"\")","v":"13:12:00"},{"$f":"IFERROR(VLOOKUP(C16,TR!$B$2:$F$633,5,0),\"\")","v":"21:07:00"},"07:55:00","","","","","",{"$f":"IF(AND(L16=\"\",M16=\"\"),IF(OR(SUMPRODUCT(N(ISNUMBER(FIND({\"s\";\"d\";\"f\"},C16))))>0,G16+J16<0,AND(G16>0,J16>0,I16>\"20:30\"*1),AND(I16<=\"20:30\"*1,SUM(I16,R16)>=\"20:31\"*1)),1,\"\"),\"\")","v":""},"",null,"07:55:00",0.32986111111111105,7.9166666666666652,null,7.9166666666666652]
[null,"2018-06-14","869-18 2",null,{"$f":"IFERROR(VLOOKUP(C17,TR!$B$2:$F$633,2,0),\"\")","v":"00:00:00"},{"$f":"IFERROR(VLOOKUP(C17,TR!$B$2:$F$633,3,0),\"\")","v":"00:00:00"},"00:00:00",{"$f":"IFERROR(VLOOKUP(C17,TR!$B$2:$F$633,4,0),\"\")","v":"14:06:00"},{"$f":"IFERROR(VLOOKUP(C17,TR!$B$2:$F$633,5,0),\"\")","v":"22:01:00"},"07:55:00",1,"",1,"","",{"$f":"IF(AND(L17=\"\",M17=\"\"),IF(OR(SUMPRODUCT(N(ISNUMBER(FIND({\"s\";\"d\";\"f\"},C17))))>0,G17+J17<0,AND(G17>0,J17>0,I17>\"20:30\"*1),AND(I17<=\"20:30\"*1,SUM(I17,R17)>=\"20:31\"*1)),1,\"\"),\"\")","v":""},"",null,"07:55:00",0.32986111111111105,7.9166666666666652,null,7.9166666666666652]
[null,"2018-06-15","809-1",null,{"$f":"IFERROR(VLOOKUP(C18,TR!$B$2:$F$633,2,0),\"\")","v":"00:00:00"},{"$f":"IFERROR(VLOOKUP(C18,TR!$B$2:$F$633,3,0),\"\")","v":"00:00:00"},"00:00:00",{"$f":"IFERROR(VLOOKUP(C18,TR!$B$2:$F$633,4,0),\"\")","v":"12:38:00"},{"$f":"IFERROR(VLOOKUP(C18,TR!$B$2:$F$633,5,0),\"\")","v":"19:57:00"},"07:19:00","","",{"$f":"IF(AND(I18>=\"19:30\"*1,1,I18>\"21:30\"*1,C18<>\"\"),1,IF(AND(I18<=\"21:30\"*1,SUM(I18,R18)>=\"21:30\"*1),1,\"\"))","v":""},"","",{"$f":"IF(AND(L18=\"\",M18=\"\"),IF(OR(SUMPRODUCT(N(ISNUMBER(FIND({\"s\";\"d\";\"f\"},C18))))>0,G18+J18<0,AND(G18>0,J18>0,I18>\"20:30\"*1),AND(I18<=\"20:30\"*1,SUM(I18,R18)>=\"20:31\"*1)),1,\"\"),\"\")","v":""},"",null,"07:19:00",0.30486111111111114,7.3166666666666673,null,7.3166666666666673]
[null,"2018-06-16","CC",null,{"$f":"IFERROR(VLOOKUP(C19,TR!$B$2:$F$633,2,0),\"\")","v":"00:00:00"},{"$f":"IFERROR(VLOOKUP(C19,TR!$B$2:$F$633,3,0),\"\")","v":"00:00:00"},"00:00:00",{"$f":"IFERROR(VLOOKUP(C19,TR!$B$2:$F$633,4,0),\"\")","v":"00:00:00"},{"$f":"IFERROR(VLOOKUP(C19,TR!$B$2:$F$633,5,0),\"\")","v":"00:00:00"},"00:00:00","","","","","",{"$f":"IF(AND(L19=\"\",M19=\"\"),IF(OR(SUMPRODUCT(N(ISNUMBER(FIND({\"s\";\"d\";\"f\"},C19))))>0,G19+J19<0,AND(G19>0,J19>0,I19>\"20:30\"*1),AND(I19<=\"20:30\"*1,SUM(I19,R19)>=\"20:31\"*1)),1,\"\"),\"\")","v":""},"",null,"",0,0,null,"0,00"]
[null,"2018-06-17","CH",null,{"$f":"IFERROR(VLOOKUP(C20,TR!$B$2:$F$633,2,0),\"\")","v":"00:00:00"},{"$f":"IFERROR(VLOOKUP(C20,TR!$B$2:$F$633,3,0),\"\")","v":"00:00:00"},"00:00:00",{"$f":"IFERROR(VLOOKUP(C20,TR!$B$2:$F$633,4,0),\"\")","v":"00:00:00"},{"$f":"IFERROR(VLOOKUP(C20,TR!$B$2:$F$633,5,0),\"\")","v":"00:00:00"},"00:00:00","","","","","",{"$f":"IF(AND(L20=\"\",M20=\"\"),IF(OR(SUMPRODUCT(N(ISNUMBER(FIND({\"s\";\"d\";\"f\"},C20))))>0,G20+J20<0,AND(G20>0,J20>0,I20>\"20:30\"*1),AND(I20<=\"20:30\"*1,SUM(I20,R20)>=\"20:31\"*1)),1,\"\"),\"\")","v":""},"",null,"",0,0,null,"0,00"]
[null,"2018-06-18","CP",null,{"$f":"IFERROR(VLOOKUP(C21,TR!$B$2:$F$633,2,0),\"\")","v":"00:00:00"},{"$f":"IFERROR(VLOOKUP(C21,TR!$B$2:$F$633,3,0),\"\")","v":"00:00:00"},"00:00:00",{"$f":"IFERROR(VLOOKUP(C21,TR!$B$2:$F$633,4,0),\"\")","v":"00:00:00"},{"$f":"IFERROR(VLOOKUP(C21,TR!$B$2:$F$633,5,0),\"\")","v":"00:00:00"},"00:00:00","","","","","",{"$f":"IF(AND(L21=\"\",M21=\"\"),IF(OR(SUMPRODUCT(N(ISNUMBER(FIND({\"s\";\"d\";\"f\"},C21))))>0,G21+J21<0,AND(G21>0,J21>0,I21>\"20:30\"*1),AND(I21<=\"20:30\"*1,SUM(I21,R21)>=\"20:31\"*1)),1,\"\"),\"\")","v":""},"",null,"",0,0,null,"0,00"]
[null,"2018-06-19","CP",null,{"$f":"IFERROR(VLOOKUP(C22,TR!$B$2:$F$633,2,0),\"\")","v":"00:00:00"},{"$f":"IFERROR(VLOOKUP(C22,TR!$B$2:$F$633,3,0),\"\")","v":"00:00:00"},"00:00:00",{"$f":"IFERROR(VLOOKUP(C22,TR!$B$2:$F$633,4,0),\"\")","v":"00:00:00"},{"$f":"IFERROR(VLOOKUP(C22,TR!$B$2:$F$633,5,0),\"\")","v":"00:00:00"},"00:00:00","","","","","",{"$f":"IF(AND(L22=\"\",M22=\"\"),IF(OR(SUMPRODUCT(N(ISNUMBER(FIND({\"s\";\"d\";\"f\"},C22))))>0,G22+J22<0,AND(G22>0,J22>0,I22>\"20:30\"*1),AND(I22<=\"20:30\"*1,SUM(I22,R22)>=\"20:31\"*1)),1,\"\"),\"\")","v":""},"",null,"",0,0,null,"0,00"]
[null,"2018-06-20","CP",null,{"$f":"IFERROR(VLOOKUP(C23,TR!$B$2:$F$633,2,0),\"\")","v":"00:00:00"},{"$f":"IFERROR(VLOOKUP(C23,TR!$B$2:$F$633,3,0),\"\")","v":"00:00:00"},"00:00:00",{"$f":"IFERROR(VLOOKUP(C23,TR!$B$2:$F$633,4,0),\"\")","v":"00:00:00"},{"$f":"IFERROR(VLOOKUP(C23,TR!$B$2:$F$633,5,0),\"\")","v":"00:00:00"},"00:00:00","","","","","",{"$f":"IF(AND(L23=\"\",M23=\"\"),IF(OR(SUMPRODUCT(N(ISNUMBER(FIND({\"s\";\"d\";\"f\"},C23))))>0,G23+J23<0,AND(G23>0,J23>0,I23>\"20:30\"*1),AND(I23<=\"20:30\"*1,SUM(I23,R23)>=\"20:31\"*1)),1,\"\"),\"\")","v":""},"",null,"",0,0,null,"0,00"]
[null,"2018-06-21","CP",null,{"$f":"IFERROR(VLOOKUP(C24,TR!$B$2:$F$633,2,0),\"\")","v":"00:00:00"},{"$f":"IFERROR(VLOOKUP(C24,TR!$B$2:$F$633,3,0),\"\")","v":"00:00:00"},"00:00:00",{"$f":"IFERROR(VLOOKUP(C24,TR!$B$2:$F$633,4,0),\"\")","v":"00:00:00"},{"$f":"IFERROR(VLOOKUP(C24,TR!$B$2:$F$633,5,0),\"\")","v":"00:00:00"},"00:00:00","","","","","",{"$f":"IF(AND(L24=\"\",M24=\"\"),IF(OR(SUMPRODUCT(N(ISNUMBER(FIND({\"s\";\"d\";\"f\"},C24))))>0,G24+J24<0,AND(G24>0,J24>0,I24>\"20:30\"*1),AND(I24<=\"20:30\"*1,SUM(I24,R24)>=\"20:31\"*1)),1,\"\"),\"\")","v":""},"",null,"",0,0,null,"0,00"]
[null,"2018-06-22","CP",null,{"$f":"IFERROR(VLOOKUP(C25,TR!$B$2:$F$633,2,0),\"\")","v":"00:00:00"},{"$f":"IFERROR(VLOOKUP(C25,TR!$B$2:$F$633,3,0),\"\")","v":"00:00:00"},"00:00:00",{"$f":"IFERROR(VLOOKUP(C25,TR!$B$2:$F$633,4,0),\"\")","v":"00:00:00"},{"$f":"IFERROR(VLOOKUP(C25,TR!$B$2:$F$633,5,0),\"\")","v":"00:00:00"},"00:00:00","","","","","",{"$f":"IF(AND(L25=\"\",M25=\"\"),IF(OR(SUMPRODUCT(N(ISNUMBER(FIND({\"s\";\"d\";\"f\"},C25))))>0,G25+J25<0,AND(G25>0,J25>0,I25>\"20:30\"*1),AND(I25<=\"20:30\"*1,SUM(I25,R25)>=\"20:31\"*1)),1,\"\"),\"\")","v":""},"",null,"",0,0,null,"0,00"]
[null,"2018-06-23","CC",null,{"$f":"IFERROR(VLOOKUP(C26,TR!$B$2:$F$633,2,0),\"\")","v":"00:00:00"},{"$f":"IFERROR(VLOOKUP(C26,TR!$B$2:$F$633,3,0),\"\")","v":"00:00:00"},"00:00:00",{"$f":"IFERROR(VLOOKUP(C26,TR!$B$2:$F$633,4,0),\"\")","v":"00:00:00"},{"$f":"IFERROR(VLOOKUP(C26,TR!$B$2:$F$633,5,0),\"\")","v":"00:00:00"},"00:00:00","","","","","",{"$f":"IF(AND(L26=\"\",M26=\"\"),IF(OR(SUMPRODUCT(N(ISNUMBER(FIND({\"s\";\"d\";\"f\"},C26))))>0,G26+J26<0,AND(G26>0,J26>0,I26>\"20:30\"*1),AND(I26<=\"20:30\"*1,SUM(I26,R26)>=\"20:31\"*1)),1,\"\"),\"\")","v":""},"",null,"",0,0,null,"0,00"]
[null,"2018-06-24","CH",null,{"$f":"IFERROR(VLOOKUP(C27,TR!$B$2:$F$633,2,0),\"\")","v":"00:00:00"},{"$f":"IFERROR(VLOOKUP(C27,TR!$B$2:$F$633,3,0),\"\")","v":"00:00:00"},"00:00:00",{"$f":"IFERROR(VLOOKUP(C27,TR!$B$2:$F$633,4,0),\"\")","v":"00:00:00"},{"$f":"IFERROR(VLOOKUP(C27,TR!$B$2:$F$633,5,0),\"\")","v":"00:00:00"},"00:00:00","","","","","",{"$f":"IF(AND(L27=\"\",M27=\"\"),IF(OR(SUMPRODUCT(N(ISNUMBER(FIND({\"s\";\"d\";\"f\"},C27))))>0,G27+J27<0,AND(G27>0,J27>0,I27>\"20:30\"*1),AND(I27<=\"20:30\"*1,SUM(I27,R27)>=\"20:31\"*1)),1,\"\"),\"\")","v":""},"",null,"",0,0,null,"0,00"]
[null,"2018-06-25","CC",null,{"$f":"IFERROR(VLOOKUP(C28,TR!$B$2:$F$633,2,0),\"\")","v":"00:00:00"},{"$f":"IFERROR(VLOOKUP(C28,TR!$B$2:$F$633,3,0),\"\")","v":"00:00:00"},"00:00:00",{"$f":"IFERROR(VLOOKUP(C28,TR!$B$2:$F$633,4,0),\"\")","v":"00:00:00"},{"$f":"IFERROR(VLOOKUP(C28,TR!$B$2:$F$633,5,0),\"\")","v":"00:00:00"},"00:00:00","","","","","",{"$f":"IF(AND(L28=\"\",M28=\"\"),IF(OR(SUMPRODUCT(N(ISNUMBER(FIND({\"s\";\"d\";\"f\"},C28))))>0,G28+J28<0,AND(G28>0,J28>0,I28>\"20:30\"*1),AND(I28<=\"20:30\"*1,SUM(I28,R28)>=\"20:31\"*1)),1,\"\"),\"\")","v":""},"",null,"",0,0,null,"0,00"]
[null,"2018-06-26","CP",null,{"$f":"IFERROR(VLOOKUP(C29,TR!$B$2:$F$633,2,0),\"\")","v":"00:00:00"},{"$f":"IFERROR(VLOOKUP(C29,TR!$B$2:$F$633,3,0),\"\")","v":"00:00:00"},"00:00:00",{"$f":"IFERROR(VLOOKUP(C29,TR!$B$2:$F$633,4,0),\"\")","v":"00:00:00"},{"$f":"IFERROR(VLOOKUP(C29,TR!$B$2:$F$633,5,0),\"\")","v":"00:00:00"},"00:00:00","","","","","",{"$f":"IF(AND(L29=\"\",M29=\"\"),IF(OR(SUMPRODUCT(N(ISNUMBER(FIND({\"s\";\"d\";\"f\"},C29))))>0,G29+J29<0,AND(G29>0,J29>0,I29>\"20:30\"*1),AND(I29<=\"20:30\"*1,SUM(I29,R29)>=\"20:31\"*1)),1,\"\"),\"\")","v":""},"",null,"",0,0,null,"0,00"]
[null,"2018-06-27","CP",null,{"$f":"IFERROR(VLOOKUP(C30,TR!$B$2:$F$633,2,0),\"\")","v":"00:00:00"},{"$f":"IFERROR(VLOOKUP(C30,TR!$B$2:$F$633,3,0),\"\")","v":"00:00:00"},"00:00:00",{"$f":"IFERROR(VLOOKUP(C30,TR!$B$2:$F$633,4,0),\"\")","v":"00:00:00"},{"$f":"IFERROR(VLOOKUP(C30,TR!$B$2:$F$633,5,0),\"\")","v":"00:00:00"},"00:00:00","","","","","",{"$f":"IF(AND(L30=\"\",M30=\"\"),IF(OR(SUMPRODUCT(N(ISNUMBER(FIND({\"s\";\"d\";\"f\"},C30))))>0,G30+J30<0,AND(G30>0,J30>0,I30>\"20:30\"*1),AND(I30<=\"20:30\"*1,SUM(I30,R30)>=\"20:31\"*1)),1,\"\"),\"\")","v":""},"",null,"",0,0,null,"0,00"]
[null,"2018-06-28","CP",null,{"$f":"IFERROR(VLOOKUP(C31,TR!$B$2:$F$633,2,0),\"\")","v":"00:00:00"},{"$f":"IFERROR(VLOOKUP(C31,TR!$B$2:$F$633,3,0),\"\")","v":"00:00:00"},"00:00:00",{"$f":"IFERROR(VLOOKUP(C31,TR!$B$2:$F$633,4,0),\"\")","v":"00:00:00"},{"$f":"IFERROR(VLOOKUP(C31,TR!$B$2:$F$633,5,0),\"\")","v":"00:00:00"},"00:00:00","","","","","",{"$f":"IF(AND(L31=\"\",M31=\"\"),IF(OR(SUMPRODUCT(N(ISNUMBER(FIND({\"s\";\"d\";\"f\"},C31))))>0,G31+J31<0,AND(G31>0,J31>0,I31>\"20:30\"*1),AND(I31<=\"20:30\"*1,SUM(I31,R31)>=\"20:31\"*1)),1,\"\"),\"\")","v":""},"",null,"",0,0,null,"0,00"]
[null,"2018-06-29","CP",null,{"$f":"IFERROR(VLOOKUP(C32,TR!$B$2:$F$633,2,0),\"\")","v":"00:00:00"},{"$f":"IFERROR(VLOOKUP(C32,TR!$B$2:$F$633,3,0),\"\")","v":"00:00:00"},"00:00:00",{"$f":"IFERROR(VLOOKUP(C32,TR!$B$2:$F$633,4,0),\"\")","v":"00:00:00"},{"$f":"IFERROR(VLOOKUP(C32,TR!$B$2:$F$633,5,0),\"\")","v":"00:00:00"},"00:00:00","","","","","",{"$f":"IF(AND(L32=\"\",M32=\"\"),IF(OR(SUMPRODUCT(N(ISNUMBER(FIND({\"s\";\"d\";\"f\"},C32))))>0,G32+J32<0,AND(G32>0,J32>0,I32>\"20:30\"*1),AND(I32<=\"20:30\"*1,SUM(I32,R32)>=\"20:31\"*1)),1,\"\"),\"\")","v":""},"",null,"",0,0,null,"0,00"]
[null,"2018-06-30","CP",null,{"$f":"IFERROR(VLOOKUP(C33,TR!$B$2:$F$633,2,0),\"\")","v":"00:00:00"},{"$f":"IFERROR(VLOOKUP(C33,TR!$B$2:$F$633,3,0),\"\")","v":"00:00:00"},"00:00:00",{"$f":"IFERROR(VLOOKUP(C33,TR!$B$2:$F$633,4,0),\"\")","v":"00:00:00"},{"$f":"IFERROR(VLOOKUP(C33,TR!$B$2:$F$633,5,0),\"\")","v":"00:00:00"},"00:00:00","","","","","",{"$f":"IF(AND(L33=\"\",M33=\"\"),IF(OR(SUMPRODUCT(N(ISNUMBER(FIND({\"s\";\"d\";\"f\"},C33))))>0,G33+J33<0,AND(G33>0,J33>0,I33>\"20:30\"*1),AND(I33<=\"20:30\"*1,SUM(I33,R33)>=\"20:31\"*1)),1,\"\"),\"\")","v":""},"",null,"",0,0,null,"0,00"]
[null,null,null,null,{"$f":"IFERROR(VLOOKUP(C34,TR!$B$2:$F$633,2,0),\"\")","v":""},{"$f":"IFERROR(VLOOKUP(C34,TR!$B$2:$F$633,3,0),\"\")","v":""},"00:00:00",{"$f":"IFERROR(VLOOKUP(C34,TR!$B$2:$F$633,4,0),\"\")","v":""},{"$f":"IFERROR(VLOOKUP(C34,TR!$B$2:$F$633,5,0),\"\")","v":""},"00:00:00","","","","","",{"$f":"IF(AND(L34=\"\",M34=\"\"),IF(OR(SUMPRODUCT(N(ISNUMBER(FIND({\"s\";\"d\";\"f\"},C34))))>0,G34+J34<0,AND(G34>0,J34>0,I34>\"20:30\"*1),AND(I34<=\"20:30\"*1,SUM(I34,R34)>=\"20:31\"*1)),1,\"\"),\"\")","v":""},"",null,"",0,0,null,"0,00"]
[]
[null,"Jours travaillés",{"$f":"(COUNTIF(Mai!C24:C34,\"<>\")+COUNTIF(Juin!C4:C23,\"<>\"))-(COUNTIF(Mai!C24:C34,\"CC*\")+COUNTIF(Juin!C4:C23,\"CC*\"))-(COUNTIF(Mai!C24:C34,\"CH*\")+COUNTIF(Juin!C4:C23,\"CH*\"))-(COUNTIF(Mai!C24:C34,\"RT*\")+COUNTIF(Juin!C4:C23,\"RT*\"))-(COUNTIF(Mai!C24:C34,\"Férié*\")+COUNTIF(Juin!C4:C23,\"Férié*\"))-(COUNTIF(Mai!C24:C34,\"Mal*\")+COUNTIF(Juin!C4:C23,\"Mal*\"))-(COUNTIF(Mai!C24:C34,\"CP*\")+COUNTIF(Juin!C4:C23,\"CP*\"))","v":16},null,null,null,null,null,"Du 21 au 20",null,{"$f":"SUM(Mai!$K$24:$K$34,K4:K23)","v":4},{"$f":"SUM(Mai!$L$24:$L$34,L4:L23)","v":6},{"$f":"SUM(Mai!$M$24:$M$34,M4:M23)","v":6},{"$f":"SUM(Mai!$N$24:$N$34,N4:N23)","v":1},{"$f":"SUM(Mai!$O$24:$O$34,O4:O23)","v":0},{"$f":"SUM(Mai!$P$24:$P$34,P4:P23)","v":0},{"$f":"SUM(Mai!$Q$24:$Q$34,Q4:Q23)","v":0},{"$f":"SUM(Mai!$R$24:$R$34,R4:R23)","v":0},null,{"$f":"SUM(Mai!T24:T34)+SUM(Juin!T4:T23)","v":5.1423611111111107},{"$f":"SUM(U4:U34)","v":76.499999999999986},{"$f":"SUM(V4:V34)","v":0}]
[null,"CP",{"$f":"(COUNTIF(Mai!C24:C34,\"CP\")+COUNTIF(Juin!C4:C23,\"CP\"))","v":3},null,null,null,null,null,null,null,{"$f":"(I39*2)*K36","v":70.822400000000002},{"$f":"Recap!H35*L36","v":42.839999999999996},{"$f":"Recap!H35*M36","v":42.839999999999996},{"$f":"(I39*5)*N36","v":44.264000000000003},{"$f":"(Recap!H33)*O36","v":0},{"$f":"7.5*P36","v":0},{"$f":"(I39*1.5)*Q36","v":0},{"$f":"R36*24","v":0}]
[null,"CH",{"$f":"(COUNTIF(Mai!C24:C34,\"CH\")+COUNTIF(Juin!C4:C23,\"CH\"))","v":4},null,null,null,null,null,"VP",null,null,null,null,null,null,null,null,null,null,"Horaire mensuel",null,6.1749999999999998,{"$f":"V38*24","v":148.19999999999999}]
[null,"RT",{"$f":"(COUNTIF(Mai!C24:C34,\"RT\")+COUNTIF(Juin!C4:C23,\"RT\"))","v":1},null,null,null,null,null,8.8528000000000002]
[null,"CC",{"$f":"(COUNTIF(Mai!C24:C34,\"CC\")+COUNTIF(Juin!C4:C23,\"CC\"))","v":4},null,null,null,null,null,null,null,null,null,null,null,null,null,null,null,null,"Différence",null,{"$f":"IF(V38>T36,\"-\",\"\")&TEXT(ABS(T36-V38),\"[h]:mm\")","v":"-24:47"},{"$f":"(T36-V38)*24","v":-24.783333333333339}]
[null,"Férié",{"$f":"(COUNTIF(Mai!C24:C34,\"Férié\")+COUNTIF(Juin!C4:C23,\"Férié\"))","v":1}]
[null,"Férié CC-CH",{"$f":"(COUNTIF(Mai!C24:C34,\"FériéCC\")+COUNTIF(Juin!C4:C23,\"FériéCC\")+(COUNTIF(Mai!C24:C34,\"FériéCH\")+COUNTIF(Juin!C4:C23,\"FériéCH\")+(COUNTIF(Mai!C24:C34,\"FériéRT\")+COUNTIF(Juin!C4:C23,\"FériéRT\"))))","v":0},null,null,null,null,null,null,null,null,null,null,null,null,null,null,"Heures réelles",null,{"$f":"SUM(T4:T34)","v":3.1875}]
[null,null,null,null,null,null,null,null,null,null,null,null,null,null,null,null,null,null,null,{"$f":"T42*24","v":76.5},null,null,{"$f":"(T42-V38)*24","v":-71.699999999999989}]
[]
[null,null,null,null,null,"NOTES"]

{"sheet":"Juillet","index":7,"n_rows":45,"n_cols":23,"rows_kept":45,"cut":false,"hidden":false,"merged":[[45,5,58,17],[0,1,0,22],[1,19,1,22],[2,4,2,5],[2,7,2,8],[35,8,35,9],[37,19,37,20],[39,19,39,20],[44,5,44,17],[41,17,41,18]]}
[null,"JUILLET"]
[null,null,null,null,null,null,null,null,null,null,null,null,null,null,null,null,null,null,null,"TOTAL"]
[null,"Date","Services","Obs.","MATIN",null,"Temps","APRES MIDI",null,"Temps","Prime nuit","PJ1","PJ2","Dimanche","Férié","ChècDej","PrimAmp","H Supp","Ampli","Heures","Centièmes","Kéolis","Écart"]
[null,"2018-07-01","CH",null,{"$f":"IFERROR(VLOOKUP(C4,TR!$B$2:$F$633,2,0),\"\")","v":"00:00:00"},{"$f":"IFERROR(VLOOKUP(C4,TR!$B$2:$F$633,3,0),\"\")","v":"00:00:00"},{"$f":"IF(ISERROR(F4-E4),0,F4-E4)","v":"00:00:00"},{"$f":"IFERROR(VLOOKUP(C4,TR!$B$2:$F$633,4,0),\"\")","v":"00:00:00"},{"$f":"IFERROR(VLOOKUP(C4,TR!$B$2:$F$633,5,0),\"\")","v":"00:00:00"},{"$f":"IF(ISERROR(I4-H4),0,(I4-H4))","v":"00:00:00"},{"$f":"IF(COUNTA(E4:F4,H4:I4)=5,1,IF(AND(E4<\"5:00\"*1,E4>\"2:00\"*1),1,IF(AND(I4>=\"22:01\"*1,I4<=\"26:01\"*1),1,IF(AND(I4<=\"22:00\"*1,SUM(I4,R4)>=\"22:01\"*1),1,\"\"))))","v":""},{"$f":"IF(AND(F4>=\"13:15\"*1,H4<\"\"),1,IF(AND(H4>=\"11:00\"*1,H4<=\"12:15\"*1),1,IF(AND(F4<=\"13:15\"*1,SUM(F4,R4)>=\"13:15\"*1),1,\"\")))","v":""},{"$f":"IF(AND(I4>=\"19:30\"*1,1,I4>\"21:30\"*1,C4<>\"\"),1,IF(AND(I4<=\"21:30\"*1,SUM(I4,R4)>=\"21:30\"*1),1,\"\"))","v":""},{"$f":"IF(AND(LEFT(C4,1)=\"d\",AND(N3<>1)),1,IF(AND(LEFT(C4,1)=\"s\",I4>=\"24:01\"*1),1,IF(AND(I4<>\"\",I4<=\"23:59\"*1,SUM(I4,R4)>=\"24:01\"*1),1,\"\")))","v":""},{"$f":"IF(AND(I4>\"24:00\"*1,ISNUMBER(FIND(\"f\",C5))),1,IF(AND(OR(ISNUMBER(FIND(\"FériéCC\",C4)),ISNUMBER(FIND(\"FériéCH\",C4)),ISNUMBER(FIND(\"f\",C4)))),1,\"\"))","v":""},{"$f":"IF(AND(L4=\"\",M4=\"\"),IF(OR(SUMPRODUCT(N(ISNUMBER(FIND({\"s\";\"d\";\"f\"},C4))))>0,G4+J4<0,AND(G4>0,J4>0,I4>\"20:30\"*1),AND(I4<=\"20:30\"*1,SUM(I4,R4)>=\"20:31\"*1)),1,\"\"),\"\")","v":""},{"$f":"IF(OR(AND(G4>0,AND(J4=0)),OR(G4=0,AND(J4>0)),OR(G4+J4>0)),IF(S4=\"\",\"\",IF(R4+S4>=\"13:01\"*1,1,\"\")))","v":""},null,{"$f":"IF(G4=0,IF(J4=0,\"\",I4-H4),IF(J4=0,F4-E4,I4-E4))","v":""},{"$f":"IF(ISERROR((F4-E4)+(I4-H4)),0,(F4-E4)+(I4-H4))","v":0},{"$f":"T4*24","v":0},null,{"$f":"IF(U4-V4=0,\"0,00\",U4-V4)","v":"0,00"}]
[null,"2018-07-02","712-2",null,{"$f":"IFERROR(VLOOKUP(C5,TR!$B$2:$F$633,2,0),\"\")","v":"04:59:00"},{"$f":"IFERROR(VLOOKUP(C5,TR!$B$2:$F$633,3,0),\"\")","v":"12:58:00"},{"$f":"IF(ISERROR(F5-E5),0,F5-E5)","v":"07:59:00"},{"$f":"IFERROR(VLOOKUP(C5,TR!$B$2:$F$633,4,0),\"\")","v":"00:00:00"},{"$f":"IFERROR(VLOOKUP(C5,TR!$B$2:$F$633,5,0),\"\")","v":"00:00:00"},{"$f":"IF(ISERROR(I5-H5),0,(I5-H5))","v":"00:00:00"},1,"","",{"$f":"IF(AND(LEFT(C5,1)=\"d\",AND(N4<>1)),1,IF(AND(LEFT(C5,1)=\"s\",I5>=\"24:01\"*1),1,IF(AND(I5<>\"\",I5<=\"23:59\"*1,SUM(I5,R5)>=\"24:01\"*1),1,\"\")))","v":""},{"$f":"IF(AND(I5>\"24:00\"*1,ISNUMBER(FIND(\"f\",C6))),1,IF(AND(OR(ISNUMBER(FIND(\"FériéCC\",C5)),ISNUMBER(FIND(\"FériéCH\",C5)),ISNUMBER(FIND(\"f\",C5)))),1,\"\"))","v":""},{"$f":"IF(AND(L5=\"\",M5=\"\"),IF(OR(SUMPRODUCT(N(ISNUMBER(FIND({\"s\";\"d\";\"f\"},C5))))>0,G5+J5<0,AND(G5>0,J5>0,I5>\"20:30\"*1),AND(I5<=\"20:30\"*1,SUM(I5,R5)>=\"20:31\"*1)),1,\"\"),\"\")","v":""},{"$f":"IF(OR(AND(G5>0,AND(J5=0)),OR(G5=0,AND(J5>0)),OR(G5+J5>0)),IF(S5=\"\",\"\",IF(R5+S5>=\"13:01\"*1,1,\"\")))","v":""},null,"07:59:00",0.33263888888888882,{"$f":"T5*24","v":7.9833333333333316},null,{"$f":"IF(U5-V5=0,\"0,00\",U5-V5)","v":7.9833333333333316}]
[null,"2018-07-03","744-a",null,{"$f":"IFERROR(VLOOKUP(C6,TR!$B$2:$F$633,2,0),\"\")","v":"05:09:00"},{"$f":"IFERROR(VLOOKUP(C6,TR!$B$2:$F$633,3,0),\"\")","v":"12:39:00"},"07:30:00",{"$f":"IFERROR(VLOOKUP(C6,TR!$B$2:$F$633,4,0),\"\")","v":"00:00:00"},{"$f":"IFERROR(VLOOKUP(C6,TR!$B$2:$F$633,5,0),\"\")","v":"00:00:00"},"00:00:00","","","",{"$f":"IF(AND(LEFT(C6,1)=\"d\",AND(N5<>1)),1,IF(AND(LEFT(C6,1)=\"s\",I6>=\"24:01\"*1),1,IF(AND(I6<>\"\",I6<=\"23:59\"*1,SUM(I6,R6)>=\"24:01\"*1),1,\"\")))","v":""},"",{"$f":"IF(AND(L6=\"\",M6=\"\"),IF(OR(SUMPRODUCT(N(ISNUMBER(FIND({\"s\";\"d\";\"f\"},C6))))>0,G6+J6<0,AND(G6>0,J6>0,I6>\"20:30\"*1),AND(I6<=\"20:30\"*1,SUM(I6,R6)>=\"20:31\"*1)),1,\"\"),\"\")","v":""},"",null,"07:30:00",0.3125,{"$f":"T6*24","v":7.5},null,7.5]
[null,"2018-07-04","Form",null,{"$f":"IFERROR(VLOOKUP(C7,TR!$B$2:$F$633,2,0),\"\")","v":"05:46:00"},{"$f":"IFERROR(VLOOKUP(C7,TR!$B$2:$F$633,3,0),\"\")","v":"13:31:00"},"07:45:00",{"$f":"IFERROR(VLOOKUP(C7,TR!$B$2:$F$633,4,0),\"\")","v":"00:00:00"},{"$f":"IFERROR(VLOOKUP(C7,TR!$B$2:$F$633,5,0),\"\")","v":"00:00:00"},"00:00:00","",1,"",null,"",{"$f":"IF(AND(L7=\"\",M7=\"\"),IF(OR(SUMPRODUCT(N(ISNUMBER(FIND({\"s\";\"d\";\"f\"},C7))))>0,G7+J7<0,AND(G7>0,J7>0,I7>\"20:30\"*1),AND(I7<=\"20:30\"*1,SUM(I7,R7)>=\"20:31\"*1)),1,\"\"),\"\")","v":""},"",null,"07:45:00",0.32291666666666663,{"$f":"T7*24","v":7.7499999999999991},null,7.7499999999999991]
[null,"2018-07-05","304-4",null,{"$f":"IFERROR(VLOOKUP(C8,TR!$B$2:$F$633,2,0),\"\")","v":"05:41:00"},{"$f":"IFERROR(VLOOKUP(C8,TR!$B$2:$F$633,3,0),\"\")","v":"11:35:00"},"05:54:00",{"$f":"IFERROR(VLOOKUP(C8,TR!$B$2:$F$633,4,0),\"\")","v":"12:39:00"},{"$f":"IFERROR(VLOOKUP(C8,TR!$B$2:$F$633,5,0),\"\")","v":"14:41:00"},"02:02:00","","","",null,"",{"$f":"IF(AND(L8=\"\",M8=\"\"),IF(OR(SUMPRODUCT(N(ISNUMBER(FIND({\"s\";\"d\";\"f\"},C8))))>0,G8+J8<0,AND(G8>0,J8>0,I8>\"20:30\"*1),AND(I8<=\"20:30\"*1,SUM(I8,R8)>=\"20:31\"*1)),1,\"\"),\"\")","v":""},"",null,"09:00:00",0.3305555555555556,7.9333333333333345,null,7.9333333333333345]
[null,"2018-07-06","v309-18",null,{"$f":"IFERROR(VLOOKUP(C9,TR!$B$2:$F$633,2,0),\"\")","v":"05:55:00"},{"$f":"IFERROR(VLOOKUP(C9,TR!$B$2:$F$633,3,0),\"\")","v":"10:47:00"},"04:52:00",{"$f":"IFERROR(VLOOKUP(C9,TR!$B$2:$F$633,4,0),\"\")","v":"12:02:00"},{"$f":"IFERROR(VLOOKUP(C9,TR!$B$2:$F$633,5,0),\"\")","v":"15:30:00"},"03:28:00","",1,"",null,"",{"$f":"IF(AND(L9=\"\",M9=\"\"),IF(OR(SUMPRODUCT(N(ISNUMBER(FIND({\"s\";\"d\";\"f\"},C9))))>0,G9+J9<0,AND(G9>0,J9>0,I9>\"20:30\"*1),AND(I9<=\"20:30\"*1,SUM(I9,R9)>=\"20:31\"*1)),1,\"\"),\"\")","v":""},"",null,"09:35:00",0.34722222222222227,8.3333333333333339,null,8.3333333333333339]
[null,"2018-07-07","CC",null,{"$f":"IFERROR(VLOOKUP(C10,TR!$B$2:$F$633,2,0),\"\")","v":"00:00:00"},{"$f":"IFERROR(VLOOKUP(C10,TR!$B$2:$F$633,3,0),\"\")","v":"00:00:00"},"00:00:00",{"$f":"IFERROR(VLOOKUP(C10,TR!$B$2:$F$633,4,0),\"\")","v":"00:00:00"},{"$f":"IFERROR(VLOOKUP(C10,TR!$B$2:$F$633,5,0),\"\")","v":"00:00:00"},"00:00:00","","","",null,"",{"$f":"IF(AND(L10=\"\",M10=\"\"),IF(OR(SUMPRODUCT(N(ISNUMBER(FIND({\"s\";\"d\";\"f\"},C10))))>0,G10+J10<0,AND(G10>0,J10>0,I10>\"20:30\"*1),AND(I10<=\"20:30\"*1,SUM(I10,R10)>=\"20:31\"*1)),1,\"\"),\"\")","v":""},"",null,"",0,0,null,"0,00"]
[null,"2018-07-08","CH",null,{"$f":"IFERROR(VLOOKUP(C11,TR!$B$2:$F$633,2,0),\"\")","v":"00:00:00"},{"$f":"IFERROR(VLOOKUP(C11,TR!$B$2:$F$633,3,0),\"\")","v":"00:00:00"},"00:00:00",{"$f":"IFERROR(VLOOKUP(C11,TR!$B$2:$F$633,4,0),\"\")","v":"00:00:00"},{"$f":"IFERROR(VLOOKUP(C11,TR!$B$2:$F$633,5,0),\"\")","v":"00:00:00"},"00:00:00","","","",null,"",{"$f":"IF(AND(L11=\"\",M11=\"\"),IF(OR(SUMPRODUCT(N(ISNUMBER(FIND({\"s\";\"d\";\"f\"},C11))))>0,G11+J11<0,AND(G11>0,J11>0,I11>\"20:30\"*1),AND(I11<=\"20:30\"*1,SUM(I11,R11)>=\"20:31\"*1)),1,\"\"),\"\")","v":""},"",null,"",0,0,null,"0,00"]
[null,"2018-07-09","799-3e",null,{"$f":"IFERROR(VLOOKUP(C12,TR!$B$2:$F$633,2,0),\"\")","v":"05:28:00"},{"$f":"IFERROR(VLOOKUP(C12,TR!$B$2:$F$633,3,0),\"\")","v":"13:16:00"},"07:48:00",{"$f":"IFERROR(VLOOKUP(C12,TR!$B$2:$F$633,4,0),\"\")","v":"00:00:00"},{"$f":"IFERROR(VLOOKUP(C12,TR!$B$2:$F$633,5,0),\"\")","v":"00:00:00"},"00:00:00","",1,"",null,"",{"$f":"IF(AND(L12=\"\",M12=\"\"),IF(OR(SUMPRODUCT(N(ISNUMBER(FIND({\"s\";\"d\";\"f\"},C12))))>0,G12+J12<0,AND(G12>0,J12>0,I12>\"20:30\"*1),AND(I12<=\"20:30\"*1,SUM(I12,R12)>=\"20:31\"*1)),1,\"\"),\"\")","v":""},"",null,"07:48:00",0.32500000000000007,7.8000000000000016,null,7.8000000000000016]
[null,"2018-07-10","799-3e",null,{"$f":"IFERROR(VLOOKUP(C13,TR!$B$2:$F$633,2,0),\"\")","v":"05:28:00"},{"$f":"IFERROR(VLOOKUP(C13,TR!$B$2:$F$633,3,0),\"\")","v":"13:16:00"},"07:48:00",{"$f":"IFERROR(VLOOKUP(C13,TR!$B$2:$F$633,4,0),\"\")","v":"00:00:00"},{"$f":"IFERROR(VLOOKUP(C13,TR!$B$2:$F$633,5,0),\"\")","v":"00:00:00"},"00:00:00","",1,"",null,"",{"$f":"IF(AND(L13=\"\",M13=\"\"),IF(OR(SUMPRODUCT(N(ISNUMBER(FIND({\"s\";\"d\";\"f\"},C13))))>0,G13+J13<0,AND(G13>0,J13>0,I13>\"20:30\"*1),AND(I13<=\"20:30\"*1,SUM(I13,R13)>=\"20:31\"*1)),1,\"\"),\"\")","v":""},"",null,"07:48:00",0.32500000000000007,7.8000000000000016,null,7.8000000000000016]
[null,"2018-07-11","RT",null,{"$f":"IFERROR(VLOOKUP(C14,TR!$B$2:$F$633,2,0),\"\")","v":"00:00:00"},{"$f":"IFERROR(VLOOKUP(C14,TR!$B$2:$F$633,3,0),\"\")","v":"00:00:00"},"00:00:00",{"$f":"IFERROR(VLOOKUP(C14,TR!$B$2:$F$633,4,0),\"\")","v":"00:00:00"},{"$f":"IFERROR(VLOOKUP(C14,TR!$B$2:$F$633,5,0),\"\")","v":"00:00:00"},"00:00:00","","","",{"$f":"IF(AND(LEFT(C14,1)=\"d\",AND(N13<>1)),1,IF(AND(LEFT(C14,1)=\"s\",I14>=\"24:01\"*1),1,IF(AND(I14<>\"\",I14<=\"23:59\"*1,SUM(I14,R14)>=\"24:01\"*1),1,\"\")))","v":""},"",{"$f":"IF(AND(L14=\"\",M14=\"\"),IF(OR(SUMPRODUCT(N(ISNUMBER(FIND({\"s\";\"d\";\"f\"},C14))))>0,G14+J14<0,AND(G14>0,J14>0,I14>\"20:30\"*1),AND(I14<=\"20:30\"*1,SUM(I14,R14)>=\"20:31\"*1)),1,\"\"),\"\")","v":""},"",null,"",0,0,null,"0,00"]
[null,"2018-07-12","CC",null,{"$f":"IFERROR(VLOOKUP(C15,TR!$B$2:$F$633,2,0),\"\")","v":"00:00:00"},{"$f":"IFERROR(VLOOKUP(C15,TR!$B$2:$F$633,3,0),\"\")","v":"00:00:00"},"00:00:00",{"$f":"IFERROR(VLOOKUP(C15,TR!$B$2:$F$633,4,0),\"\")","v":"00:00:00"},{"$f":"IFERROR(VLOOKUP(C15,TR!$B$2:$F$633,5,0),\"\")","v":"00:00:00"},"00:00:00","","","",{"$f":"IF(OR(AND(LEFT(C15,1)=\"d\",OR(E15>=\"0:00\"*1,H15>\"14:00\"*1)),AND(LEFT(C15,1)=\"s\",I15>=\"24:01\"*1)),1,IF(AND(I15<>\"\",I15<=\"23:59\"*1,SUM(I15,R15)>=\"24:01\"*1),1,\"\"))","v":""},"",{"$f":"IF(AND(L15=\"\",M15=\"\"),IF(OR(SUMPRODUCT(N(ISNUMBER(FIND({\"s\";\"d\";\"f\"},C15))))>0,G15+J15<0,AND(G15>0,J15>0,I15>\"20:30\"*1),AND(I15<=\"20:30\"*1,SUM(I15,R15)>=\"20:31\"*1)),1,\"\"),\"\")","v":""},"",null,"",0,0,null,"0,00"]
[null,"2018-07-13","RT",null,{"$f":"IFERROR(VLOOKUP(C16,TR!$B$2:$F$633,2,0),\"\")","v":"00:00:00"},{"$f":"IFERROR(VLOOKUP(C16,TR!$B$2:$F$633,3,0),\"\")","v":"00:00:00"},"00:00:00",{"$f":"IFERROR(VLOOKUP(C16,TR!$B$2:$F$633,4,0),\"\")","v":"00:00:00"},{"$f":"IFERROR(VLOOKUP(C16,TR!$B$2:$F$633,5,0),\"\")","v":"00:00:00"},"00:00:00","","","",{"$f":"IF(OR(AND(LEFT(C16,1)=\"d\",OR(E16>=\"0:00\"*1,H16>\"14:00\"*1)),AND(LEFT(C16,1)=\"s\",I16>=\"24:01\"*1)),1,IF(AND(I16<>\"\",I16<=\"23:59\"*1,SUM(I16,R16)>=\"24:01\"*1),1,\"\"))","v":""},"",{"$f":"IF(AND(L16=\"\",M16=\"\"),IF(OR(SUMPRODUCT(N(ISNUMBER(FIND({\"s\";\"d\";\"f\"},C16))))>0,G16+J16<0,AND(G16>0,J16>0,I16>\"20:30\"*1),AND(I16<=\"20:30\"*1,SUM(I16,R16)>=\"20:31\"*1)),1,\"\"),\"\")","v":""},"",null,"",0,0,null,"0,00"]
[null,"2018-07-14","s506-3e",null,{"$f":"IFERROR(VLOOKUP(C17,TR!$B$2:$F$633,2,0),\"\")","v":"07:42:00"},{"$f":"IFERROR(VLOOKUP(C17,TR!$B$2:$F$633,3,0),\"\")","v":"13:42:00"},"06:00:00",{"$f":"IFERROR(VLOOKUP(C17,TR!$B$2:$F$633,4,0),\"\")","v":"00:00:00"},{"$f":"IFERROR(VLOOKUP(C17,TR!$B$2:$F$633,5,0),\"\")","v":"00:00:00"},"00:00:00","",1,"",{"$f":"IF(OR(AND(LEFT(C17,1)=\"d\",OR(E17>=\"0:00\"*1,H17>\"14:00\"*1)),AND(LEFT(C17,1)=\"s\",I17>=\"24:01\"*1)),1,IF(AND(I17<>\"\",I17<=\"23:59\"*1,SUM(I17,R17)>=\"24:01\"*1),1,\"\"))","v":""},"",{"$f":"IF(AND(L17=\"\",M17=\"\"),IF(OR(SUMPRODUCT(N(ISNUMBER(FIND({\"s\";\"d\";\"f\"},C17))))>0,G17+J17<0,AND(G17>0,J17>0,I17>\"20:30\"*1),AND(I17<=\"20:30\"*1,SUM(I17,R17)>=\"20:31\"*1)),1,\"\"),\"\")","v":""},"",null,"06:00:00",0.24999999999999994,5.9999999999999982,null,5.9999999999999982]
[null,"2018-07-15","d510-lae",null,{"$f":"IFERROR(VLOOKUP(C18,TR!$B$2:$F$633,2,0),\"\")","v":"06:30:00"},{"$f":"IFERROR(VLOOKUP(C18,TR!$B$2:$F$633,3,0),\"\")","v":"13:30:00"},"07:00:00",{"$f":"IFERROR(VLOOKUP(C18,TR!$B$2:$F$633,4,0),\"\")","v":"00:00:00"},{"$f":"IFERROR(VLOOKUP(C18,TR!$B$2:$F$633,5,0),\"\")","v":"00:00:00"},"00:00:00","",1,"",{"$f":"IF(OR(AND(LEFT(C18,1)=\"d\",OR(E18>=\"0:00\"*1,H18>\"14:00\"*1)),AND(LEFT(C18,1)=\"s\",I18>=\"24:01\"*1)),1,\"\")","v":1},"",{"$f":"IF(AND(L18=\"\",M18=\"\"),IF(OR(SUMPRODUCT(N(ISNUMBER(FIND({\"s\";\"d\";\"f\"},C18))))>0,G18+J18<0,AND(G18>0,J18>0,I18>\"20:30\"*1),AND(I18<=\"20:30\"*1,SUM(I18,R18)>=\"20:31\"*1)),1,\"\"),\"\")","v":""},"",null,"07:00:00",0.29166666666666669,7,null,7]
[null,"2018-07-16","202-lae",null,{"$f":"IFERROR(VLOOKUP(C19,TR!$B$2:$F$633,2,0),\"\")","v":"10:45:00"},{"$f":"IFERROR(VLOOKUP(C19,TR!$B$2:$F$633,3,0),\"\")","v":"11:38:00"},"00:53:00",{"$f":"IFERROR(VLOOKUP(C19,TR!$B$2:$F$633,4,0),\"\")","v":"17:28:00"},{"$f":"IFERROR(VLOOKUP(C19,TR!$B$2:$F$633,5,0),\"\")","v":"21:38:00"},"04:10:00","","",1,"","",{"$f":"IF(AND(L19=\"\",M19=\"\"),IF(OR(SUMPRODUCT(N(ISNUMBER(FIND({\"s\";\"d\";\"f\"},C19))))>0,G19+J19<0,AND(G19>0,J19>0,I19>\"20:30\"*1),AND(I19<=\"20:30\"*1,SUM(I19,R19)>=\"20:31\"*1)),1,\"\"),\"\")","v":""},"",null,"10:53:00",0.2104166666666667,5.0500000000000007,null,5.0500000000000007]
[null,"2018-07-17","911-lae",null,{"$f":"IFERROR(VLOOKUP(C20,TR!$B$2:$F$633,2,0),\"\")","v":"00:00:00"},{"$f":"IFERROR(VLOOKUP(C20,TR!$B$2:$F$633,3,0),\"\")","v":"00:00:00"},"00:00:00",{"$f":"IFERROR(VLOOKUP(C20,TR!$B$2:$F$633,4,0),\"\")","v":"17:20:00"},{"$f":"IFERROR(VLOOKUP(C20,TR!$B$2:$F$633,5,0),\"\")","v":"23:51:00"},"06:31:00",1,"",1,"","",{"$f":"IF(AND(L20=\"\",M20=\"\"),IF(OR(SUMPRODUCT(N(ISNUMBER(FIND({\"s\";\"d\";\"f\"},C20))))>0,G20+J20<0,AND(G20>0,J20>0,I20>\"20:30\"*1),AND(I20<=\"20:30\"*1,SUM(I20,R20)>=\"20:31\"*1)),1,\"\"),\"\")","v":""},"",null,"06:31:00",0.27152777777777781,6.5166666666666675,null,6.5166666666666675]
[null,"2018-07-18","CC",null,{"$f":"IFERROR(VLOOKUP(C21,TR!$B$2:$F$633,2,0),\"\")","v":"00:00:00"},{"$f":"IFERROR(VLOOKUP(C21,TR!$B$2:$F$633,3,0),\"\")","v":"00:00:00"},"00:00:00",{"$f":"IFERROR(VLOOKUP(C21,TR!$B$2:$F$633,4,0),\"\")","v":"00:00:00"},{"$f":"IFERROR(VLOOKUP(C21,TR!$B$2:$F$633,5,0),\"\")","v":"00:00:00"},"00:00:00","","","",{"$f":"IF(OR(AND(LEFT(C21,1)=\"d\",OR(E21>=\"0:00\"*1,H21>\"14:00\"*1)),AND(LEFT(C21,1)=\"s\",I21>=\"24:01\"*1)),1,\"\")","v":""},"",{"$f":"IF(AND(L21=\"\",M21=\"\"),IF(OR(SUMPRODUCT(N(ISNUMBER(FIND({\"s\";\"d\";\"f\"},C21))))>0,G21+J21<0,AND(G21>0,J21>0,I21>\"20:30\"*1),AND(I21<=\"20:30\"*1,SUM(I21,R21)>=\"20:31\"*1)),1,\"\"),\"\")","v":""},"",null,"",0,0,null,"0,00"]
[null,"2018-07-19","201-lae",null,{"$f":"IFERROR(VLOOKUP(C22,TR!$B$2:$F$633,2,0),\"\")","v":"09:13:00"},{"$f":"IFERROR(VLOOKUP(C22,TR!$B$2:$F$633,3,0),\"\")","v":"11:58:00"},"02:45:00",{"$f":"IFERROR(VLOOKUP(C22,TR!$B$2:$F$633,4,0),\"\")","v":"13:15:00"},{"$f":"IFERROR(VLOOKUP(C22,TR!$B$2:$F$633,5,0),\"\")","v":"17:44:00"},"04:29:00","","","",{"$f":"IF(OR(AND(LEFT(C22,1)=\"d\",OR(E22>=\"0:00\"*1,H22>\"14:00\"*1)),AND(LEFT(C22,1)=\"s\",I22>=\"24:01\"*1)),1,\"\")","v":""},"",{"$f":"IF(AND(L22=\"\",M22=\"\"),IF(OR(SUMPRODUCT(N(ISNUMBER(FIND({\"s\";\"d\";\"f\"},C22))))>0,G22+J22<0,AND(G22>0,J22>0,I22>\"20:30\"*1),AND(I22<=\"20:30\"*1,SUM(I22,R22)>=\"20:31\"*1)),1,\"\"),\"\")","v":""},"",null,"08:31:00",0.30138888888888887,7.2333333333333325,null,7.2333333333333325]
[null,"2018-07-20","v836-lae",null,{"$f":"IFERROR(VLOOKUP(C23,TR!$B$2:$F$633,2,0),\"\")","v":"00:00:00"},{"$f":"IFERROR(VLOOKUP(C23,TR!$B$2:$F$633,3,0),\"\")","v":"00:00:00"},"00:00:00",{"$f":"IFERROR(VLOOKUP(C23,TR!$B$2:$F$633,4,0),\"\")","v":"12:35:00"},{"$f":"IFERROR(VLOOKUP(C23,TR!$B$2:$F$633,5,0),\"\")","v":"19:57:00"},"07:22:00","","","","","",{"$f":"IF(AND(L23=\"\",M23=\"\"),IF(OR(SUMPRODUCT(N(ISNUMBER(FIND({\"s\";\"d\";\"f\"},C23))))>0,G23+J23<0,AND(G23>0,J23>0,I23>\"20:30\"*1),AND(I23<=\"20:30\"*1,SUM(I23,R23)>=\"20:31\"*1)),1,\"\"),\"\")","v":""},"",null,"07:22:00",0.30694444444444446,7.3666666666666671,null,7.3666666666666671]
[null,"2018-07-21","s915-lae",null,{"$f":"IFERROR(VLOOKUP(C24,TR!$B$2:$F$633,2,0),\"\")","v":"00:00:00"},{"$f":"IFERROR(VLOOKUP(C24,TR!$B$2:$F$633,3,0),\"\")","v":"00:00:00"},"00:00:00",{"$f":"IFERROR(VLOOKUP(C24,TR!$B$2:$F$633,4,0),\"\")","v":"16:26:00"},{"$f":"IFERROR(VLOOKUP(C24,TR!$B$2:$F$633,5,0),\"\")","v":"23:51:00"},"07:25:00",1,"",1,"","",{"$f":"IF(AND(L24=\"\",M24=\"\"),IF(OR(SUMPRODUCT(N(ISNUMBER(FIND({\"s\";\"d\";\"f\"},C24))))>0,G24+J24<0,AND(G24>0,J24>0,I24>\"20:30\"*1),AND(I24<=\"20:30\"*1,SUM(I24,R24)>=\"20:31\"*1)),1,\"\"),\"\")","v":""},"",null,"07:25:00",0.30902777777777779,7.416666666666667,null,7.416666666666667]
[null,"2018-07-22","CH",null,{"$f":"IFERROR(VLOOKUP(C25,TR!$B$2:$F$633,2,0),\"\")","v":"00:00:00"},{"$f":"IFERROR(VLOOKUP(C25,TR!$B$2:$F$633,3,0),\"\")","v":"00:00:00"},"00:00:00",{"$f":"IFERROR(VLOOKUP(C25,TR!$B$2:$F$633,4,0),\"\")","v":"00:00:00"},{"$f":"IFERROR(VLOOKUP(C25,TR!$B$2:$F$633,5,0),\"\")","v":"00:00:00"},"00:00:00","","","","","",{"$f":"IF(AND(L25=\"\",M25=\"\"),IF(OR(SUMPRODUCT(N(ISNUMBER(FIND({\"s\";\"d\";\"f\"},C25))))>0,G25+J25<0,AND(G25>0,J25>0,I25>\"20:30\"*1),AND(I25<=\"20:30\"*1,SUM(I25,R25)>=\"20:31\"*1)),1,\"\"),\"\")","v":""},"",null,"",0,0,null,"0,00"]
[null,"2018-07-23","302-1e",null,{"$f":"IFERROR(VLOOKUP(C26,TR!$B$2:$F$633,2,0),\"\")","v":"08:29:00"},{"$f":"IFERROR(VLOOKUP(C26,TR!$B$2:$F$633,3,0),\"\")","v":"12:16:00"},"03:47:00",{"$f":"IFERROR(VLOOKUP(C26,TR!$B$2:$F$633,4,0),\"\")","v":"13:20:00"},{"$f":"IFERROR(VLOOKUP(C26,TR!$B$2:$F$633,5,0),\"\")","v":"16:33:00"},"03:13:00","","","","","",{"$f":"IF(AND(L26=\"\",M26=\"\"),IF(OR(SUMPRODUCT(N(ISNUMBER(FIND({\"s\";\"d\";\"f\"},C26))))>0,G26+J26<0,AND(G26>0,J26>0,I26>\"20:30\"*1),AND(I26<=\"20:30\"*1,SUM(I26,R26)>=\"20:31\"*1)),1,\"\"),\"\")","v":""},"",null,"08:04:00",0.29166666666666657,6.9999999999999982,null,6.9999999999999982]
[null,"2018-07-24","301-ae",null,{"$f":"IFERROR(VLOOKUP(C27,TR!$B$2:$F$633,2,0),\"\")","v":"05:35:00"},{"$f":"IFERROR(VLOOKUP(C27,TR!$B$2:$F$633,3,0),\"\")","v":"08:24:00"},"02:49:00",{"$f":"IFERROR(VLOOKUP(C27,TR!$B$2:$F$633,4,0),\"\")","v":"11:56:00"},{"$f":"IFERROR(VLOOKUP(C27,TR!$B$2:$F$633,5,0),\"\")","v":"15:52:00"},"03:56:00","",1,"","","",{"$f":"IF(AND(L27=\"\",M27=\"\"),IF(OR(SUMPRODUCT(N(ISNUMBER(FIND({\"s\";\"d\";\"f\"},C27))))>0,G27+J27<0,AND(G27>0,J27>0,I27>\"20:30\"*1),AND(I27<=\"20:30\"*1,SUM(I27,R27)>=\"20:31\"*1)),1,\"\"),\"\")","v":""},"",null,"10:17:00",0.28124999999999994,6.7499999999999982,null,6.7499999999999982]
[null,"2018-07-25","736-lae",null,{"$f":"IFERROR(VLOOKUP(C28,TR!$B$2:$F$633,2,0),\"\")","v":"03:35:00"},{"$f":"IFERROR(VLOOKUP(C28,TR!$B$2:$F$633,3,0),\"\")","v":"10:51:00"},"07:16:00",{"$f":"IFERROR(VLOOKUP(C28,TR!$B$2:$F$633,4,0),\"\")","v":"00:00:00"},{"$f":"IFERROR(VLOOKUP(C28,TR!$B$2:$F$633,5,0),\"\")","v":"00:00:00"},"00:00:00",1,"","","",{"$f":"IF(AND(I28>\"24:00\"*1,ISNUMBER(FIND(\"f\",#REF!))),1,IF(AND(OR(ISNUMBER(FIND(\"FériéCC\",C28)),ISNUMBER(FIND(\"FériéCH\",C28)),ISNUMBER(FIND(\"f\",C28)))),1,\"\"))","v":""},{"$f":"IF(AND(L28=\"\",M28=\"\"),IF(OR(SUMPRODUCT(N(ISNUMBER(FIND({\"s\";\"d\";\"f\"},C28))))>0,G28+J28<0,AND(G28>0,J28>0,I28>\"20:30\"*1),AND(I28<=\"20:30\"*1,SUM(I28,R28)>=\"20:31\"*1)),1,\"\"),\"\")","v":""},"",null,"07:16:00",0.30277777777777781,7.2666666666666675,null,7.2666666666666675]
[null,"2018-07-26","730-18e",null,{"$f":"IFERROR(VLOOKUP(C29,TR!$B$2:$F$633,2,0),\"\")","v":"05:01:00"},{"$f":"IFERROR(VLOOKUP(C29,TR!$B$2:$F$633,3,0),\"\")","v":"12:49:00"},"07:48:00",{"$f":"IFERROR(VLOOKUP(C29,TR!$B$2:$F$633,4,0),\"\")","v":"00:00:00"},{"$f":"IFERROR(VLOOKUP(C29,TR!$B$2:$F$633,5,0),\"\")","v":"00:00:00"},"00:00:00","","","","",{"$f":"IF(AND(I29>\"24:00\"*1,ISNUMBER(FIND(\"f\",#REF!))),1,IF(AND(OR(ISNUMBER(FIND(\"FériéCC\",C29)),ISNUMBER(FIND(\"FériéCH\",C29)),ISNUMBER(FIND(\"f\",C29)))),1,\"\"))","v":""},{"$f":"IF(AND(L29=\"\",M29=\"\"),IF(OR(SUMPRODUCT(N(ISNUMBER(FIND({\"s\";\"d\";\"f\"},C29))))>0,G29+J29<0,AND(G29>0,J29>0,I29>\"20:30\"*1),AND(I29<=\"20:30\"*1,SUM(I29,R29)>=\"20:31\"*1)),1,\"\"),\"\")","v":""},"",null,"07:48:00",0.32499999999999996,7.7999999999999989,null,7.7999999999999989]
[null,"2018-07-27","v301-ae",null,{"$f":"IFERROR(VLOOKUP(C30,TR!$B$2:$F$633,2,0),\"\")","v":"05:35:00"},{"$f":"IFERROR(VLOOKUP(C30,TR!$B$2:$F$633,3,0),\"\")","v":"08:24:00"},"02:49:00",{"$f":"IFERROR(VLOOKUP(C30,TR!$B$2:$F$633,4,0),\"\")","v":"11:56:00"},{"$f":"IFERROR(VLOOKUP(C30,TR!$B$2:$F$633,5,0),\"\")","v":"15:52:00"},"03:56:00","",1,"","",{"$f":"IF(AND(I30>\"24:00\"*1,ISNUMBER(FIND(\"f\",#REF!))),1,IF(AND(OR(ISNUMBER(FIND(\"FériéCC\",C30)),ISNUMBER(FIND(\"FériéCH\",C30)),ISNUMBER(FIND(\"f\",C30)))),1,\"\"))","v":""},{"$f":"IF(AND(L30=\"\",M30=\"\"),IF(OR(SUMPRODUCT(N(ISNUMBER(FIND({\"s\";\"d\";\"f\"},C30))))>0,G30+J30<0,AND(G30>0,J30>0,I30>\"20:30\"*1),AND(I30<=\"20:30\"*1,SUM(I30,R30)>=\"20:31\"*1)),1,\"\"),\"\")","v":""},"",null,"10:17:00",0.28124999999999994,6.7499999999999982,null,6.7499999999999982]
[null,"2018-07-28","CC",null,{"$f":"IFERROR(VLOOKUP(C31,TR!$B$2:$F$633,2,0),\"\")","v":"00:00:00"},{"$f":"IFERROR(VLOOKUP(C31,TR!$B$2:$F$633,3,0),\"\")","v":"00:00:00"},"00:00:00",{"$f":"IFERROR(VLOOKUP(C31,TR!$B$2:$F$633,4,0),\"\")","v":"00:00:00"},{"$f":"IFERROR(VLOOKUP(C31,TR!$B$2:$F$633,5,0),\"\")","v":"00:00:00"},"00:00:00","","","","","",{"$f":"IF(AND(L31=\"\",M31=\"\"),IF(OR(SUMPRODUCT(N(ISNUMBER(FIND({\"s\";\"d\";\"f\"},C31))))>0,G31+J31<0,AND(G31>0,J31>0,I31>\"20:30\"*1),AND(I31<=\"20:30\"*1,SUM(I31,R31)>=\"20:31\"*1)),1,\"\"),\"\")","v":""},"",null,"",0,0,null,"0,00"]
[null,"2018-07-29","CH",null,{"$f":"IFERROR(VLOOKUP(C32,TR!$B$2:$F$633,2,0),\"\")","v":"00:00:00"},{"$f":"IFERROR(VLOOKUP(C32,TR!$B$2:$F$633,3,0),\"\")","v":"00:00:00"},"00:00:00",{"$f":"IFERROR(VLOOKUP(C32,TR!$B$2:$F$633,4,0),\"\")","v":"00:00:00"},{"$f":"IFERROR(VLOOKUP(C32,TR!$B$2:$F$633,5,0),\"\")","v":"00:00:00"},"00:00:00","","","","","",{"$f":"IF(AND(L32=\"\",M32=\"\"),IF(OR(SUMPRODUCT(N(ISNUMBER(FIND({\"s\";\"d\";\"f\"},C32))))>0,G32+J32<0,AND(G32>0,J32>0,I32>\"20:30\"*1),AND(I32<=\"20:30\"*1,SUM(I32,R32)>=\"20:31\"*1)),1,\"\"),\"\")","v":""},"",null,"",0,0,null,"0,00"]
[null,"2018-07-30","801-rhe",null,{"$f":"IFERROR(VLOOKUP(C33,TR!$B$2:$F$633,2,0),\"\")","v":"00:00:00"},{"$f":"IFERROR(VLOOKUP(C33,TR!$B$2:$F$633,3,0),\"\")","v":"00:00:00"},"00:00:00",{"$f":"IFERROR(VLOOKUP(C33,TR!$B$2:$F$633,4,0),\"\")","v":"12:57:00"},{"$f":"IFERROR(VLOOKUP(C33,TR!$B$2:$F$633,5,0),\"\")","v":"20:36:00"},"07:39:00","","","","","",{"$f":"IF(AND(L33=\"\",M33=\"\"),IF(OR(SUMPRODUCT(N(ISNUMBER(FIND({\"s\";\"d\";\"f\"},C33))))>0,G33+J33<0,AND(G33>0,J33>0,I33>\"20:30\"*1),AND(I33<=\"20:30\"*1,SUM(I33,R33)>=\"20:31\"*1)),1,\"\"),\"\")","v":""},"",null,"07:39:00",0.31874999999999998,7.6499999999999995,null,7.6499999999999995]
[null,"2018-07-31","802-be",null,{"$f":"IFERROR(VLOOKUP(C34,TR!$B$2:$F$633,2,0),\"\")","v":"00:00:00"},{"$f":"IFERROR(VLOOKUP(C34,TR!$B$2:$F$633,3,0),\"\")","v":"00:00:00"},"00:00:00",{"$f":"IFERROR(VLOOKUP(C34,TR!$B$2:$F$633,4,0),\"\")","v":"12:14:00"},{"$f":"IFERROR(VLOOKUP(C34,TR!$B$2:$F$633,5,0),\"\")","v":"19:47:00"},"07:33:00","",1,"",{"$f":"IF(AND(LEFT(C34,1)=\"d\",AND(N33<>1)),1,IF(AND(LEFT(C34,1)=\"s\",I34>=\"24:01\"*1),1,IF(AND(I34<>\"\",I34<=\"23:59\"*1,SUM(I34,R34)>=\"24:01\"*1),1,\"\")))","v":""},"",{"$f":"IF(AND(L34=\"\",M34=\"\"),IF(OR(SUMPRODUCT(N(ISNUMBER(FIND({\"s\";\"d\";\"f\"},C34))))>0,G34+J34<0,AND(G34>0,J34>0,I34>\"20:30\"*1),AND(I34<=\"20:30\"*1,SUM(I34,R34)>=\"20:31\"*1)),1,\"\"),\"\")","v":""},"",null,"07:33:00",0.31458333333333333,7.55,null,7.55]
[]
[null,"Jours travaillés",{"$f":"(COUNTIF(Juin!C24:C34,\"<>\")+COUNTIF(Juillet!C4:C23,\"<>\"))-(COUNTIF(Juin!C24:C34,\"CC*\")+COUNTIF(Juillet!C4:C23,\"CC*\"))-(COUNTIF(Juin!C24:C34,\"CH*\")+COUNTIF(Juillet!C4:C23,\"CH*\"))-(COUNTIF(Juin!C24:C34,\"RT*\")+COUNTIF(Juillet!C4:C23,\"RT*\"))-(COUNTIF(Juin!C24:C34,\"Férié*\")+COUNTIF(Juillet!C4:C23,\"Férié*\"))-(COUNTIF(Juin!C24:C34,\"Mal*\")+COUNTIF(Juillet!C4:C23,\"Mal*\"))-(COUNTIF(Juin!C24:C34,\"CP*\")+COUNTIF(Juillet!C4:C23,\"CP*\"))","v":13},null,null,null,null,null,"Du 21 au 20",null,{"$f":"SUM(Juin!$K$24:$K$34,K4:K23)","v":2},{"$f":"SUM(Juin!$L$24:$L$34,L4:L23)","v":6},{"$f":"SUM(Juin!$M$24:$M$34,M4:M23)","v":2},{"$f":"SUM(Juin!$N$24:$N$34,N4:N23)","v":1},{"$f":"SUM(Juin!$O$24:$O$34,O4:O23)","v":0},{"$f":"SUM(Juin!$P$24:$P$34,P4:P23)","v":0},{"$f":"SUM(Juin!$Q$24:$Q$34,Q4:Q23)","v":0},{"$f":"SUM(Juin!$R$24:$R$34,R4:R23)","v":0},null,{"$f":"SUM(Juin!T24:T34)+SUM(Juillet!T4:T23)","v":3.927777777777778},{"$f":"SUM(U4:U34)","v":152.45000000000005},{"$f":"SUM(V4:V34)","v":0}]
[null,"CP",{"$f":"(COUNTIF(Juin!C24:C34,\"CP\")+COUNTIF(Juillet!C4:C23,\"CP\"))","v":7},null,null,null,null,null,null,null,{"$f":"(I39*2)*K36","v":35.411200000000001},{"$f":"Recap!H35*L36","v":42.839999999999996},{"$f":"Recap!H35*M36","v":14.28},{"$f":"(I39*5)*N36","v":44.264000000000003},{"$f":"(Recap!H33)*O36","v":0},{"$f":"7.5*P36","v":0},{"$f":"(I39*1.5)*Q36","v":0},{"$f":"R36*24","v":0}]
[null,"CH",{"$f":"(COUNTIF(Juin!C24:C34,\"CH\")+COUNTIF(Juillet!C4:C23,\"CH\"))","v":3},null,null,null,null,null,"VP",null,null,null,null,null,null,null,null,null,null,"Horaire mensuel",null,6.1749999999999998,{"$f":"V38*24","v":148.19999999999999}]
[null,"RT",{"$f":"(COUNTIF(Juin!C24:C34,\"RT\")+COUNTIF(Juillet!C4:C23,\"RT\"))","v":2},null,null,null,null,null,8.8528000000000002]
[null,"CC",{"$f":"(COUNTIF(Juin!C24:C34,\"CC\")+COUNTIF(Juillet!C4:C23,\"CC\"))","v":5},null,null,null,null,null,null,null,null,null,null,null,null,null,null,null,null,"Différence",null,{"$f":"IF(V38>T36,\"-\",\"\")&TEXT(ABS(T36-V38),\"[h]:mm\")","v":"-53:56"},{"$f":"(T36-V38)*24","v":-53.933333333333323}]
[null,"Férié",{"$f":"(COUNTIF(Juin!C24:C34,\"Férié\")+COUNTIF(Juillet!C4:C23,\"Férié\"))","v":0}]
[null,"Férié CC-CH-RT",{"$f":"(COUNTIF(Juin!C24:C34,\"FériéCC\")+COUNTIF(Juillet!C4:C23,\"FériéCC\")+(COUNTIF(Juin!C24:C34,\"FériéCH\")+COUNTIF(Juillet!C4:C23,\"FériéCH\")+(COUNTIF(Juin!C24:C34,\"FériéRT\")+COUNTIF(Juillet!C4:C23,\"FériéRT\"))))","v":0},null,null,null,null,null,null,null,null,null,null,null,null,null,null,"Heures réelles",null,{"$f":"SUM(T4:T34)","v":6.3520833333333337}]
[null,null,null,null,null,null,null,null,null,null,null,null,null,null,null,null,null,null,null,{"$f":"T42*24","v":152.45000000000002},null,null,{"$f":"(T42-V38)*24","v":4.2500000000000142}]
[]
[null,null,null,null,null,"NOTES"]

{"sheet":"Aout","index":8,"n_rows":45,"n_cols":23,"rows_kept":45,"cut":false,"hidden":false,"merged":[[0,1,0,22],[1,19,1,22],[44,5,44,16],[2,4,2,5],[2,7,2,8],[35,8,35,9],[37,19,37,20],[39,19,39,20],[41,17,41,18]]}
[null,"AOUT"]
[null,null,null,null,null,null,null,null,null,null,null,null,null,null,null,null,null,null,null,"TOTAL"]
[null,"Date","Services","Obs.","MATIN",null,"Temps","APRES MIDI",null,"Temps","Prime nuit","PJ1","PJ2","Dimanche","Férié","ChècDej","PrimAmp","H Supp","Ampli","Heures","Centièmes","Kéolis","Écart"]
[null,"2018-08-01","RT",null,{"$f":"IFERROR(VLOOKUP(C4,TR!$B$2:$F$633,2,0),\"\")","v":"00:00:00"},{"$f":"IFERROR(VLOOKUP(C4,TR!$B$2:$F$633,3,0),\"\")","v":"00:00:00"},{"$f":"IF(ISERROR(F4-E4),0,F4-E4)","v":"00:00:00"},{"$f":"IFERROR(VLOOKUP(C4,TR!$B$2:$F$633,4,0),\"\")","v":"00:00:00"},{"$f":"IFERROR(VLOOKUP(C4,TR!$B$2:$F$633,5,0),\"\")","v":"00:00:00"},{"$f":"IF(ISERROR(I4-H4),0,(I4-H4))","v":"00:00:00"},{"$f":"IF(COUNTA(E4:F4,H4:I4)=5,1,IF(AND(E4<\"5:00\"*1,E4>\"2:00\"*1),1,IF(AND(I4>=\"22:01\"*1,I4<=\"26:01\"*1),1,IF(AND(I4<=\"22:00\"*1,SUM(I4,R4)>=\"22:01\"*1),1,\"\"))))","v":""},{"$f":"IF(AND(F4>=\"13:15\"*1,H4<\"\"),1,IF(AND(H4>=\"11:00\"*1,H4<=\"12:15\"*1),1,IF(AND(F4<=\"13:15\"*1,SUM(F4,R4)>=\"13:15\"*1),1,\"\")))","v":""},{"$f":"IF(AND(I4>=\"19:30\"*1,1,I4>\"21:30\"*1,C4<>\"\"),1,IF(AND(I4<=\"21:30\"*1,SUM(I4,R4)>=\"21:30\"*1),1,\"\"))","v":""},{"$f":"IF(AND(LEFT(C4,1)=\"d\",AND(Juillet!N34<>1)),1,IF(AND(LEFT(C4,1)=\"s\",I4>=\"24:01\"*1),1,IF(AND(I4<>\"\",I4<=\"23:59\"*1,SUM(I4,R4)>=\"24:01\"*1),1,\"\")))","v":""},{"$f":"IF(AND(I4>\"24:00\"*1,ISNUMBER(FIND(\"f\",C5))),1,IF(AND(OR(ISNUMBER(FIND(\"FériéCC\",C4)),ISNUMBER(FIND(\"FériéCH\",C4)),ISNUMBER(FIND(\"f\",C4)))),1,\"\"))","v":""},{"$f":"IF(AND(L4=\"\",M4=\"\"),IF(OR(SUMPRODUCT(N(ISNUMBER(FIND({\"s\";\"d\";\"f\"},C4))))>0,G4+J4<0,AND(G4>0,J4>0,I4>\"20:30\"*1),AND(I4<=\"20:30\"*1,SUM(I4,R4)>=\"20:31\"*1)),1,\"\"),\"\")","v":""},{"$f":"IF(OR(AND(G4>0,AND(J4=0)),OR(G4=0,AND(J4>0)),OR(G4+J4>0)),IF(S4=\"\",\"\",IF(R4+S4>=\"13:01\"*1,1,\"\")))","v":""},null,{"$f":"IF(G4=0,IF(J4=0,\"\",I4-H4),IF(J4=0,F4-E4,I4-E4))","v":""},{"$f":"IF(ISERROR((F4-E4)+(I4-H4)),0,(F4-E4)+(I4-H4))","v":0},{"$f":"T4*24","v":0},null,{"$f":"IF(U4-V4=0,\"0,00\",U4-V4)","v":"0,00"}]
[null,"2018-08-02","CC",null,{"$f":"IFERROR(VLOOKUP(C5,TR!$B$2:$F$633,2,0),\"\")","v":"00:00:00"},{"$f":"IFERROR(VLOOKUP(C5,TR!$B$2:$F$633,3,0),\"\")","v":"00:00:00"},{"$f":"IF(ISERROR(F5-E5),0,F5-E5)","v":"00:00:00"},{"$f":"IFERROR(VLOOKUP(C5,TR!$B$2:$F$633,4,0),\"\")","v":"00:00:00"},{"$f":"IFERROR(VLOOKUP(C5,TR!$B$2:$F$633,5,0),\"\")","v":"00:00:00"},{"$f":"IF(ISERROR(I5-H5),0,(I5-H5))","v":"00:00:00"},"","","",{"$f":"IF(AND(LEFT(C5,1)=\"d\",AND(N4<>1)),1,IF(AND(LEFT(C5,1)=\"s\",I5>=\"24:01\"*1),1,IF(AND(I5<>\"\",I5<=\"23:59\"*1,SUM(I5,R5)>=\"24:01\"*1),1,\"\")))","v":""},{"$f":"IF(AND(I5>\"24:00\"*1,ISNUMBER(FIND(\"f\",C6))),1,IF(AND(OR(ISNUMBER(FIND(\"FériéCC\",C5)),ISNUMBER(FIND(\"FériéCH\",C5)),ISNUMBER(FIND(\"f\",C5)))),1,\"\"))","v":""},{"$f":"IF(AND(L5=\"\",M5=\"\"),IF(OR(SUMPRODUCT(N(ISNUMBER(FIND({\"s\";\"d\";\"f\"},C5))))>0,G5+J5<0,AND(G5>0,J5>0,I5>\"20:30\"*1),AND(I5<=\"20:30\"*1,SUM(I5,R5)>=\"20:31\"*1)),1,\"\"),\"\")","v":""},{"$f":"IF(OR(AND(G5>0,AND(J5=0)),OR(G5=0,AND(J5>0)),OR(G5+J5>0)),IF(S5=\"\",\"\",IF(R5+S5>=\"13:01\"*1,1,\"\")))","v":""},null,"",0,{"$f":"T5*24","v":0},null,{"$f":"IF(U5-V5=0,\"0,00\",U5-V5)","v":"0,00"}]
[null,"2018-08-03","CH",null,{"$f":"IFERROR(VLOOKUP(C6,TR!$B$2:$F$633,2,0),\"\")","v":"00:00:00"},{"$f":"IFERROR(VLOOKUP(C6,TR!$B$2:$F$633,3,0),\"\")","v":"00:00:00"},"00:00:00",{"$f":"IFERROR(VLOOKUP(C6,TR!$B$2:$F$633,4,0),\"\")","v":"00:00:00"},{"$f":"IFERROR(VLOOKUP(C6,TR!$B$2:$F$633,5,0),\"\")","v":"00:00:00"},"00:00:00","","","","","",{"$f":"IF(AND(L6=\"\",M6=\"\"),IF(OR(SUMPRODUCT(N(ISNUMBER(FIND({\"s\";\"d\";\"f\"},C6))))>0,G6+J6<0,AND(G6>0,J6>0,I6>\"20:30\"*1),AND(I6<=\"20:30\"*1,SUM(I6,R6)>=\"20:31\"*1)),1,\"\"),\"\")","v":""},"",null,"",0,{"$f":"T6*24","v":0},null,"0,00"]
[null,"2018-08-04","s101-1e",null,{"$f":"IFERROR(VLOOKUP(C7,TR!$B$2:$F$633,2,0),\"\")","v":""},{"$f":"IFERROR(VLOOKUP(C7,TR!$B$2:$F$633,3,0),\"\")","v":""},"00:00:00",{"$f":"IFERROR(VLOOKUP(C7,TR!$B$2:$F$633,4,0),\"\")","v":""},{"$f":"IFERROR(VLOOKUP(C7,TR!$B$2:$F$633,5,0),\"\")","v":""},"00:00:00","","",1,1,"",{"$f":"IF(AND(L7=\"\",M7=\"\"),IF(OR(SUMPRODUCT(N(ISNUMBER(FIND({\"s\";\"d\";\"f\"},C7))))>0,G7+J7<0,AND(G7>0,J7>0,I7>\"20:30\"*1),AND(I7<=\"20:30\"*1,SUM(I7,R7)>=\"20:31\"*1)),1,\"\"),\"\")","v":""},"",null,"",0,{"$f":"T7*24","v":0},null,"0,00"]
[null,"2018-08-05","d603-ae",null,{"$f":"IFERROR(VLOOKUP(C8,TR!$B$2:$F$633,2,0),\"\")","v":"00:00:00"},{"$f":"IFERROR(VLOOKUP(C8,TR!$B$2:$F$633,3,0),\"\")","v":"00:00:00"},"00:00:00",{"$f":"IFERROR(VLOOKUP(C8,TR!$B$2:$F$633,4,0),\"\")","v":"12:18:00"},{"$f":"IFERROR(VLOOKUP(C8,TR!$B$2:$F$633,5,0),\"\")","v":"19:31:00"},"07:13:00","","","","","",{"$f":"IF(AND(L8=\"\",M8=\"\"),IF(OR(SUMPRODUCT(N(ISNUMBER(FIND({\"s\";\"d\";\"f\"},C8))))>0,G8+J8<0,AND(G8>0,J8>0,I8>\"20:30\"*1),AND(I8<=\"20:30\"*1,SUM(I8,R8)>=\"20:31\"*1)),1,\"\"),\"\")","v":1},"",null,"07:13:00",0.30069444444444449,7.2166666666666677,null,7.2166666666666677]
[null,"2018-08-06","827-12e",null,{"$f":"IFERROR(VLOOKUP(C9,TR!$B$2:$F$633,2,0),\"\")","v":"00:00:00"},{"$f":"IFERROR(VLOOKUP(C9,TR!$B$2:$F$633,3,0),\"\")","v":"00:00:00"},"00:00:00",{"$f":"IFERROR(VLOOKUP(C9,TR!$B$2:$F$633,4,0),\"\")","v":"12:58:00"},{"$f":"IFERROR(VLOOKUP(C9,TR!$B$2:$F$633,5,0),\"\")","v":"20:40:00"},"07:42:00","","","","","",{"$f":"IF(AND(L9=\"\",M9=\"\"),IF(OR(SUMPRODUCT(N(ISNUMBER(FIND({\"s\";\"d\";\"f\"},C9))))>0,G9+J9<0,AND(G9>0,J9>0,I9>\"20:30\"*1),AND(I9<=\"20:30\"*1,SUM(I9,R9)>=\"20:31\"*1)),1,\"\"),\"\")","v":""},"",null,"07:42:00",0.32083333333333341,7.700000000000002,null,7.700000000000002]
[null,"2018-08-07","CC",null,{"$f":"IFERROR(VLOOKUP(C10,TR!$B$2:$F$633,2,0),\"\")","v":"00:00:00"},{"$f":"IFERROR(VLOOKUP(C10,TR!$B$2:$F$633,3,0),\"\")","v":"00:00:00"},"00:00:00",{"$f":"IFERROR(VLOOKUP(C10,TR!$B$2:$F$633,4,0),\"\")","v":"00:00:00"},{"$f":"IFERROR(VLOOKUP(C10,TR!$B$2:$F$633,5,0),\"\")","v":"00:00:00"},"00:00:00","","","","","",{"$f":"IF(AND(L10=\"\",M10=\"\"),IF(OR(SUMPRODUCT(N(ISNUMBER(FIND({\"s\";\"d\";\"f\"},C10))))>0,G10+J10<0,AND(G10>0,J10>0,I10>\"20:30\"*1),AND(I10<=\"20:30\"*1,SUM(I10,R10)>=\"20:31\"*1)),1,\"\"),\"\")","v":""},"",null,"",0,0,null,"0,00"]
[null,"2018-08-08","729-7e",null,{"$f":"IFERROR(VLOOKUP(C11,TR!$B$2:$F$633,2,0),\"\")","v":""},{"$f":"IFERROR(VLOOKUP(C11,TR!$B$2:$F$633,3,0),\"\")","v":""},"00:00:00",{"$f":"IFERROR(VLOOKUP(C11,TR!$B$2:$F$633,4,0),\"\")","v":""},{"$f":"IFERROR(VLOOKUP(C11,TR!$B$2:$F$633,5,0),\"\")","v":""},"00:00:00","","",1,"","",{"$f":"IF(AND(L11=\"\",M11=\"\"),IF(OR(SUMPRODUCT(N(ISNUMBER(FIND({\"s\";\"d\";\"f\"},C11))))>0,G11+J11<0,AND(G11>0,J11>0,I11>\"20:30\"*1),AND(I11<=\"20:30\"*1,SUM(I11,R11)>=\"20:31\"*1)),1,\"\"),\"\")","v":""},"",null,"",0,0,null,"0,00"]
[null,"2018-08-09","CB",null,{"$f":"IFERROR(VLOOKUP(C12,TR!$B$2:$F$633,2,0),\"\")","v":"08:00:00"},{"$f":"IFERROR(VLOOKUP(C12,TR!$B$2:$F$633,3,0),\"\")","v":"12:00:00"},"04:00:00",{"$f":"IFERROR(VLOOKUP(C12,TR!$B$2:$F$633,4,0),\"\")","v":"14:00:00"},{"$f":"IFERROR(VLOOKUP(C12,TR!$B$2:$F$633,5,0),\"\")","v":"17:36:00"},"03:36:00","","","","","",{"$f":"IF(AND(L12=\"\",M12=\"\"),IF(OR(SUMPRODUCT(N(ISNUMBER(FIND({\"s\";\"d\";\"f\"},C12))))>0,G12+J12<0,AND(G12>0,J12>0,I12>\"20:30\"*1),AND(I12<=\"20:30\"*1,SUM(I12,R12)>=\"20:31\"*1)),1,\"\"),\"\")","v":""},"",null,"09:36:00",0.31666666666666671,7.6000000000000014,null,7.6000000000000014]
[null,"2018-08-10","v701-rhe",null,{"$f":"IFERROR(VLOOKUP(C13,TR!$B$2:$F$633,2,0),\"\")","v":"00:00:00"},{"$f":"IFERROR(VLOOKUP(C13,TR!$B$2:$F$633,3,0),\"\")","v":"00:00:00"},"00:00:00",{"$f":"IFERROR(VLOOKUP(C13,TR!$B$2:$F$633,4,0),\"\")","v":"12:58:00"},{"$f":"IFERROR(VLOOKUP(C13,TR!$B$2:$F$633,5,0),\"\")","v":"20:40:00"},"07:42:00","","","","","",{"$f":"IF(AND(L13=\"\",M13=\"\"),IF(OR(SUMPRODUCT(N(ISNUMBER(FIND({\"s\";\"d\";\"f\"},C13))))>0,G13+J13<0,AND(G13>0,J13>0,I13>\"20:30\"*1),AND(I13<=\"20:30\"*1,SUM(I13,R13)>=\"20:31\"*1)),1,\"\"),\"\")","v":""},"",null,"07:42:00",0.32083333333333341,7.700000000000002,null,7.700000000000002]
[null,"2018-08-11","s711-2e",null,{"$f":"IFERROR(VLOOKUP(C14,TR!$B$2:$F$633,2,0),\"\")","v":"05:42:00"},{"$f":"IFERROR(VLOOKUP(C14,TR!$B$2:$F$633,3,0),\"\")","v":"13:07:00"},"07:25:00",{"$f":"IFERROR(VLOOKUP(C14,TR!$B$2:$F$633,4,0),\"\")","v":"00:00:00"},{"$f":"IFERROR(VLOOKUP(C14,TR!$B$2:$F$633,5,0),\"\")","v":"00:00:00"},"00:00:00","","","","","",{"$f":"IF(AND(L14=\"\",M14=\"\"),IF(OR(SUMPRODUCT(N(ISNUMBER(FIND({\"s\";\"d\";\"f\"},C14))))>0,G14+J14<0,AND(G14>0,J14>0,I14>\"20:30\"*1),AND(I14<=\"20:30\"*1,SUM(I14,R14)>=\"20:31\"*1)),1,\"\"),\"\")","v":1},"",null,"07:25:00",0.30902777777777773,7.4166666666666661,null,7.4166666666666661]
[null,"2018-08-12","CH",null,{"$f":"IFERROR(VLOOKUP(C15,TR!$B$2:$F$633,2,0),\"\")","v":"00:00:00"},{"$f":"IFERROR(VLOOKUP(C15,TR!$B$2:$F$633,3,0),\"\")","v":"00:00:00"},"00:00:00",{"$f":"IFERROR(VLOOKUP(C15,TR!$B$2:$F$633,4,0),\"\")","v":"00:00:00"},{"$f":"IFERROR(VLOOKUP(C15,TR!$B$2:$F$633,5,0),\"\")","v":"00:00:00"},"00:00:00","","","","","",{"$f":"IF(AND(L15=\"\",M15=\"\"),IF(OR(SUMPRODUCT(N(ISNUMBER(FIND({\"s\";\"d\";\"f\"},C15))))>0,G15+J15<0,AND(G15>0,J15>0,I15>\"20:30\"*1),AND(I15<=\"20:30\"*1,SUM(I15,R15)>=\"20:31\"*1)),1,\"\"),\"\")","v":""},"",null,"",0,0,null,"0,00"]
[null,"2018-08-13","20 RE",null,{"$f":"IFERROR(VLOOKUP(C16,TR!$B$2:$F$633,2,0),\"\")","v":""},{"$f":"IFERROR(VLOOKUP(C16,TR!$B$2:$F$633,3,0),\"\")","v":""},"00:00:00",{"$f":"IFERROR(VLOOKUP(C16,TR!$B$2:$F$633,4,0),\"\")","v":""},{"$f":"IFERROR(VLOOKUP(C16,TR!$B$2:$F$633,5,0),\"\")","v":""},"00:00:00","","",1,"","",{"$f":"IF(AND(L16=\"\",M16=\"\"),IF(OR(SUMPRODUCT(N(ISNUMBER(FIND({\"s\";\"d\";\"f\"},C16))))>0,G16+J16<0,AND(G16>0,J16>0,I16>\"20:30\"*1),AND(I16<=\"20:30\"*1,SUM(I16,R16)>=\"20:31\"*1)),1,\"\"),\"\")","v":""},"",null,"",0,0,null,"0,00"]
[null,"2018-08-14","20 RE",null,{"$f":"IFERROR(VLOOKUP(C17,TR!$B$2:$F$633,2,0),\"\")","v":""},{"$f":"IFERROR(VLOOKUP(C17,TR!$B$2:$F$633,3,0),\"\")","v":""},"00:00:00",{"$f":"IFERROR(VLOOKUP(C17,TR!$B$2:$F$633,4,0),\"\")","v":""},{"$f":"IFERROR(VLOOKUP(C17,TR!$B$2:$F$633,5,0),\"\")","v":""},"00:00:00","","",1,"","",{"$f":"IF(AND(L17=\"\",M17=\"\"),IF(OR(SUMPRODUCT(N(ISNUMBER(FIND({\"s\";\"d\";\"f\"},C17))))>0,G17+J17<0,AND(G17>0,J17>0,I17>\"20:30\"*1),AND(I17<=\"20:30\"*1,SUM(I17,R17)>=\"20:31\"*1)),1,\"\"),\"\")","v":""},"",null,"",0,0,null,"0,00"]
[null,"2018-08-15","Férié",null,{"$f":"IFERROR(VLOOKUP(C18,TR!$B$2:$F$633,2,0),\"\")","v":"00:00:00"},{"$f":"IFERROR(VLOOKUP(C18,TR!$B$2:$F$633,3,0),\"\")","v":"00:00:00"},"00:00:00",{"$f":"IFERROR(VLOOKUP(C18,TR!$B$2:$F$633,4,0),\"\")","v":"00:00:00"},{"$f":"IFERROR(VLOOKUP(C18,TR!$B$2:$F$633,5,0),\"\")","v":"00:00:00"},"00:00:00","","","","","",{"$f":"IF(AND(L18=\"\",M18=\"\"),IF(OR(SUMPRODUCT(N(ISNUMBER(FIND({\"s\";\"d\";\"f\"},C18))))>0,G18+J18<0,AND(G18>0,J18>0,I18>\"20:30\"*1),AND(I18<=\"20:30\"*1,SUM(I18,R18)>=\"20:31\"*1)),1,\"\"),\"\")","v":""},"",null,"",0,0,null,"0,00"]
[null,"2018-08-16","835-lae",null,{"$f":"IFERROR(VLOOKUP(C19,TR!$B$2:$F$633,2,0),\"\")","v":"05:13:00"},{"$f":"IFERROR(VLOOKUP(C19,TR!$B$2:$F$633,3,0),\"\")","v":"13:11:00"},"07:58:00",{"$f":"IFERROR(VLOOKUP(C19,TR!$B$2:$F$633,4,0),\"\")","v":"00:00:00"},{"$f":"IFERROR(VLOOKUP(C19,TR!$B$2:$F$633,5,0),\"\")","v":"00:00:00"},"00:00:00","","","","","",{"$f":"IF(AND(L19=\"\",M19=\"\"),IF(OR(SUMPRODUCT(N(ISNUMBER(FIND({\"s\";\"d\";\"f\"},C19))))>0,G19+J19<0,AND(G19>0,J19>0,I19>\"20:30\"*1),AND(I19<=\"20:30\"*1,SUM(I19,R19)>=\"20:31\"*1)),1,\"\"),\"\")","v":""},"",null,"07:58:00",0.33194444444444449,7.9666666666666677,null,7.9666666666666677]
[null,"2018-08-17","v834-lae",null,{"$f":"IFERROR(VLOOKUP(C20,TR!$B$2:$F$633,2,0),\"\")","v":"00:00:00"},{"$f":"IFERROR(VLOOKUP(C20,TR!$B$2:$F$633,3,0),\"\")","v":"00:00:00"},"00:00:00",{"$f":"IFERROR(VLOOKUP(C20,TR!$B$2:$F$633,4,0),\"\")","v":"11:45:00"},{"$f":"IFERROR(VLOOKUP(C20,TR!$B$2:$F$633,5,0),\"\")","v":"19:27:00"},"07:42:00","",1,"","","",{"$f":"IF(AND(L20=\"\",M20=\"\"),IF(OR(SUMPRODUCT(N(ISNUMBER(FIND({\"s\";\"d\";\"f\"},C20))))>0,G20+J20<0,AND(G20>0,J20>0,I20>\"20:30\"*1),AND(I20<=\"20:30\"*1,SUM(I20,R20)>=\"20:31\"*1)),1,\"\"),\"\")","v":""},"",null,"07:42:00",0.32083333333333336,7.7000000000000011,null,7.7000000000000011]
[null,"2018-08-18","CC",null,{"$f":"IFERROR(VLOOKUP(C21,TR!$B$2:$F$633,2,0),\"\")","v":"00:00:00"},{"$f":"IFERROR(VLOOKUP(C21,TR!$B$2:$F$633,3,0),\"\")","v":"00:00:00"},"00:00:00",{"$f":"IFERROR(VLOOKUP(C21,TR!$B$2:$F$633,4,0),\"\")","v":"00:00:00"},{"$f":"IFERROR(VLOOKUP(C21,TR!$B$2:$F$633,5,0),\"\")","v":"00:00:00"},"00:00:00","","","","","",{"$f":"IF(AND(L21=\"\",M21=\"\"),IF(OR(SUMPRODUCT(N(ISNUMBER(FIND({\"s\";\"d\";\"f\"},C21))))>0,G21+J21<0,AND(G21>0,J21>0,I21>\"20:30\"*1),AND(I21<=\"20:30\"*1,SUM(I21,R21)>=\"20:31\"*1)),1,\"\"),\"\")","v":""},"",null,"",0,0,null,"0,00"]
[null,"2018-08-19","CH",null,{"$f":"IFERROR(VLOOKUP(C22,TR!$B$2:$F$633,2,0),\"\")","v":"00:00:00"},{"$f":"IFERROR(VLOOKUP(C22,TR!$B$2:$F$633,3,0),\"\")","v":"00:00:00"},"00:00:00",{"$f":"IFERROR(VLOOKUP(C22,TR!$B$2:$F$633,4,0),\"\")","v":"00:00:00"},{"$f":"IFERROR(VLOOKUP(C22,TR!$B$2:$F$633,5,0),\"\")","v":"00:00:00"},"00:00:00","","","","","",{"$f":"IF(AND(L22=\"\",M22=\"\"),IF(OR(SUMPRODUCT(N(ISNUMBER(FIND({\"s\";\"d\";\"f\"},C22))))>0,G22+J22<0,AND(G22>0,J22>0,I22>\"20:30\"*1),AND(I22<=\"20:30\"*1,SUM(I22,R22)>=\"20:31\"*1)),1,\"\"),\"\")","v":""},"",null,"",0,0,null,"0,00"]
[null,"2018-08-20","RT",null,{"$f":"IFERROR(VLOOKUP(C23,TR!$B$2:$F$633,2,0),\"\")","v":"00:00:00"},{"$f":"IFERROR(VLOOKUP(C23,TR!$B$2:$F$633,3,0),\"\")","v":"00:00:00"},"00:00:00",{"$f":"IFERROR(VLOOKUP(C23,TR!$B$2:$F$633,4,0),\"\")","v":"00:00:00"},{"$f":"IFERROR(VLOOKUP(C23,TR!$B$2:$F$633,5,0),\"\")","v":"00:00:00"},"00:00:00","","","","","",{"$f":"IF(AND(L23=\"\",M23=\"\"),IF(OR(SUMPRODUCT(N(ISNUMBER(FIND({\"s\";\"d\";\"f\"},C23))))>0,G23+J23<0,AND(G23>0,J23>0,I23>\"20:30\"*1),AND(I23<=\"20:30\"*1,SUM(I23,R23)>=\"20:31\"*1)),1,\"\"),\"\")","v":""},"",null,"",0,0,null,"0,00"]
[null,"2018-08-21","CC",null,{"$f":"IFERROR(VLOOKUP(C24,TR!$B$2:$F$633,2,0),\"\")","v":"00:00:00"},{"$f":"IFERROR(VLOOKUP(C24,TR!$B$2:$F$633,3,0),\"\")","v":"00:00:00"},"00:00:00",{"$f":"IFERROR(VLOOKUP(C24,TR!$B$2:$F$633,4,0),\"\")","v":"00:00:00"},{"$f":"IFERROR(VLOOKUP(C24,TR!$B$2:$F$633,5,0),\"\")","v":"00:00:00"},"00:00:00","","","","","",{"$f":"IF(AND(L24=\"\",M24=\"\"),IF(OR(SUMPRODUCT(N(ISNUMBER(FIND({\"s\";\"d\";\"f\"},C24))))>0,G24+J24<0,AND(G24>0,J24>0,I24>\"20:30\"*1),AND(I24<=\"20:30\"*1,SUM(I24,R24)>=\"20:31\"*1)),1,\"\"),\"\")","v":""},"",null,"",0,0,null,"0,00"]
[null,"2018-08-22","10 RE",null,{"$f":"IFERROR(VLOOKUP(C25,TR!$B$2:$F$633,2,0),\"\")","v":""},{"$f":"IFERROR(VLOOKUP(C25,TR!$B$2:$F$633,3,0),\"\")","v":""},"00:00:00",{"$f":"IFERROR(VLOOKUP(C25,TR!$B$2:$F$633,4,0),\"\")","v":""},{"$f":"IFERROR(VLOOKUP(C25,TR!$B$2:$F$633,5,0),\"\")","v":""},"00:00:00","","",1,"","",{"$f":"IF(AND(L25=\"\",M25=\"\"),IF(OR(SUMPRODUCT(N(ISNUMBER(FIND({\"s\";\"d\";\"f\"},C25))))>0,G25+J25<0,AND(G25>0,J25>0,I25>\"20:30\"*1),AND(I25<=\"20:30\"*1,SUM(I25,R25)>=\"20:31\"*1)),1,\"\"),\"\")","v":""},"",null,"",0,0,null,"0,00"]
[null,"2018-08-23","739-lae",null,{"$f":"IFERROR(VLOOKUP(C26,TR!$B$2:$F$633,2,0),\"\")","v":"05:13:00"},{"$f":"IFERROR(VLOOKUP(C26,TR!$B$2:$F$633,3,0),\"\")","v":"13:11:00"},"07:58:00",{"$f":"IFERROR(VLOOKUP(C26,TR!$B$2:$F$633,4,0),\"\")","v":"00:00:00"},{"$f":"IFERROR(VLOOKUP(C26,TR!$B$2:$F$633,5,0),\"\")","v":"00:00:00"},"00:00:00","","","","","",{"$f":"IF(AND(L26=\"\",M26=\"\"),IF(OR(SUMPRODUCT(N(ISNUMBER(FIND({\"s\";\"d\";\"f\"},C26))))>0,G26+J26<0,AND(G26>0,J26>0,I26>\"20:30\"*1),AND(I26<=\"20:30\"*1,SUM(I26,R26)>=\"20:31\"*1)),1,\"\"),\"\")","v":""},"",null,"07:58:00",0.33194444444444449,7.9666666666666677,null,7.9666666666666677]
[null,"2018-08-24","10 RE",null,{"$f":"IFERROR(VLOOKUP(C27,TR!$B$2:$F$633,2,0),\"\")","v":""},{"$f":"IFERROR(VLOOKUP(C27,TR!$B$2:$F$633,3,0),\"\")","v":""},"00:00:00",{"$f":"IFERROR(VLOOKUP(C27,TR!$B$2:$F$633,4,0),\"\")","v":""},{"$f":"IFERROR(VLOOKUP(C27,TR!$B$2:$F$633,5,0),\"\")","v":""},"00:00:00","","",1,"","",{"$f":"IF(AND(L27=\"\",M27=\"\"),IF(OR(SUMPRODUCT(N(ISNUMBER(FIND({\"s\";\"d\";\"f\"},C27))))>0,G27+J27<0,AND(G27>0,J27>0,I27>\"20:30\"*1),AND(I27<=\"20:30\"*1,SUM(I27,R27)>=\"20:31\"*1)),1,\"\"),\"\")","v":""},"",null,"",0,0,null,"0,00"]
[null,"2018-08-25","s724-5e",null,{"$f":"IFERROR(VLOOKUP(C28,TR!$B$2:$F$633,2,0),\"\")","v":"04:55:00"},{"$f":"IFERROR(VLOOKUP(C28,TR!$B$2:$F$633,3,0),\"\")","v":"12:46:00"},"07:51:00",{"$f":"IFERROR(VLOOKUP(C28,TR!$B$2:$F$633,4,0),\"\")","v":"00:00:00"},{"$f":"IFERROR(VLOOKUP(C28,TR!$B$2:$F$633,5,0),\"\")","v":"00:00:00"},"00:00:00",1,"","","","",{"$f":"IF(AND(L28=\"\",M28=\"\"),IF(OR(SUMPRODUCT(N(ISNUMBER(FIND({\"s\";\"d\";\"f\"},C28))))>0,G28+J28<0,AND(G28>0,J28>0,I28>\"20:30\"*1),AND(I28<=\"20:30\"*1,SUM(I28,R28)>=\"20:31\"*1)),1,\"\"),\"\")","v":1},"",null,"07:51:00",0.32708333333333334,7.85,null,7.85]
[null,"2018-08-26","CH",null,{"$f":"IFERROR(VLOOKUP(C29,TR!$B$2:$F$633,2,0),\"\")","v":"00:00:00"},{"$f":"IFERROR(VLOOKUP(C29,TR!$B$2:$F$633,3,0),\"\")","v":"00:00:00"},"00:00:00",{"$f":"IFERROR(VLOOKUP(C29,TR!$B$2:$F$633,4,0),\"\")","v":"00:00:00"},{"$f":"IFERROR(VLOOKUP(C29,TR!$B$2:$F$633,5,0),\"\")","v":"00:00:00"},"00:00:00","","","","","",{"$f":"IF(AND(L29=\"\",M29=\"\"),IF(OR(SUMPRODUCT(N(ISNUMBER(FIND({\"s\";\"d\";\"f\"},C29))))>0,G29+J29<0,AND(G29>0,J29>0,I29>\"20:30\"*1),AND(I29<=\"20:30\"*1,SUM(I29,R29)>=\"20:31\"*1)),1,\"\"),\"\")","v":""},"",null,"",0,0,null,"0,00"]
[null,"2018-08-27","CC",null,{"$f":"IFERROR(VLOOKUP(C30,TR!$B$2:$F$633,2,0),\"\")","v":"00:00:00"},{"$f":"IFERROR(VLOOKUP(C30,TR!$B$2:$F$633,3,0),\"\")","v":"00:00:00"},"00:00:00",{"$f":"IFERROR(VLOOKUP(C30,TR!$B$2:$F$633,4,0),\"\")","v":"00:00:00"},{"$f":"IFERROR(VLOOKUP(C30,TR!$B$2:$F$633,5,0),\"\")","v":"00:00:00"},"00:00:00","","","","","",{"$f":"IF(AND(L30=\"\",M30=\"\"),IF(OR(SUMPRODUCT(N(ISNUMBER(FIND({\"s\";\"d\";\"f\"},C30))))>0,G30+J30<0,AND(G30>0,J30>0,I30>\"20:30\"*1),AND(I30<=\"20:30\"*1,SUM(I30,R30)>=\"20:31\"*1)),1,\"\"),\"\")","v":""},"",null,"",0,0,null,"0,00"]
[null,"2018-08-28","20 RE",null,{"$f":"IFERROR(VLOOKUP(C31,TR!$B$2:$F$633,2,0),\"\")","v":""},{"$f":"IFERROR(VLOOKUP(C31,TR!$B$2:$F$633,3,0),\"\")","v":""},"00:00:00",{"$f":"IFERROR(VLOOKUP(C31,TR!$B$2:$F$633,4,0),\"\")","v":""},{"$f":"IFERROR(VLOOKUP(C31,TR!$B$2:$F$633,5,0),\"\")","v":""},"00:00:00","","",1,"","",{"$f":"IF(AND(L31=\"\",M31=\"\"),IF(OR(SUMPRODUCT(N(ISNUMBER(FIND({\"s\";\"d\";\"f\"},C31))))>0,G31+J31<0,AND(G31>0,J31>0,I31>\"20:30\"*1),AND(I31<=\"20:30\"*1,SUM(I31,R31)>=\"20:31\"*1)),1,\"\"),\"\")","v":""},"",null,"",0,0,null,"0,00"]
[null,"2018-08-29","20 RE",null,{"$f":"IFERROR(VLOOKUP(C32,TR!$B$2:$F$633,2,0),\"\")","v":""},{"$f":"IFERROR(VLOOKUP(C32,TR!$B$2:$F$633,3,0),\"\")","v":""},"00:00:00",{"$f":"IFERROR(VLOOKUP(C32,TR!$B$2:$F$633,4,0),\"\")","v":""},{"$f":"IFERROR(VLOOKUP(C32,TR!$B$2:$F$633,5,0),\"\")","v":""},"00:00:00","","",1,"","",{"$f":"IF(AND(L32=\"\",M32=\"\"),IF(OR(SUMPRODUCT(N(ISNUMBER(FIND({\"s\";\"d\";\"f\"},C32))))>0,G32+J32<0,AND(G32>0,J32>0,I32>\"20:30\"*1),AND(I32<=\"20:30\"*1,SUM(I32,R32)>=\"20:31\"*1)),1,\"\"),\"\")","v":""},"",null,"",0,0,null,"0,00"]
[null,"2018-08-30","20 RE",null,{"$f":"IFERROR(VLOOKUP(C33,TR!$B$2:$F$633,2,0),\"\")","v":""},{"$f":"IFERROR(VLOOKUP(C33,TR!$B$2:$F$633,3,0),\"\")","v":""},"00:00:00",{"$f":"IFERROR(VLOOKUP(C33,TR!$B$2:$F$633,4,0),\"\")","v":""},{"$f":"IFERROR(VLOOKUP(C33,TR!$B$2:$F$633,5,0),\"\")","v":""},"00:00:00","","",1,"","",{"$f":"IF(AND(L33=\"\",M33=\"\"),IF(OR(SUMPRODUCT(N(ISNUMBER(FIND({\"s\";\"d\";\"f\"},C33))))>0,G33+J33<0,AND(G33>0,J33>0,I33>\"20:30\"*1),AND(I33<=\"20:30\"*1,SUM(I33,R33)>=\"20:31\"*1)),1,\"\"),\"\")","v":""},"",null,"",0,0,null,"0,00"]
[null,"2018-08-31","v901-ae",null,{"$f":"IFERROR(VLOOKUP(C34,TR!$B$2:$F$633,2,0),\"\")","v":"00:00:00"},{"$f":"IFERROR(VLOOKUP(C34,TR!$B$2:$F$633,3,0),\"\")","v":"00:00:00"},null,{"$f":"IFERROR(VLOOKUP(C34,TR!$B$2:$F$633,4,0),\"\")","v":"14:30:00"},{"$f":"IFERROR(VLOOKUP(C34,TR!$B$2:$F$633,5,0),\"\")","v":"22:23:00"},null,1,"",1,"","",{"$f":"IF(AND(L34=\"\",M34=\"\"),IF(OR(SUMPRODUCT(N(ISNUMBER(FIND({\"s\";\"d\";\"f\"},C34))))>0,G34+J34<0,AND(G34>0,J34>0,I34>\"20:30\"*1),AND(I34<=\"20:30\"*1,SUM(I34,R34)>=\"20:31\"*1)),1,\"\"),\"\")","v":""},"",null,"",0.32847222222222228,7.8833333333333346,null,7.8833333333333346]
[]
[null,"Jours travaillés",{"$f":"(COUNTIF(Juillet!C24:C34,\"<>\")+COUNTIF(Aout!C4:C23,\"<>\"))-(COUNTIF(Juillet!C24:C34,\"CC*\")+COUNTIF(Aout!C4:C23,\"CC*\"))-(COUNTIF(Juillet!C24:C34,\"CH*\")+COUNTIF(Aout!C4:C23,\"CH*\"))-(COUNTIF(Juillet!C24:C34,\"RT*\")+COUNTIF(Aout!C4:C23,\"RT*\"))-(COUNTIF(Juillet!C24:C34,\"Férié*\")+COUNTIF(Aout!C4:C23,\"Férié*\"))-(COUNTIF(Juillet!C24:C34,\"Mal*\")+COUNTIF(Aout!C4:C23,\"Mal*\"))-(COUNTIF(Juillet!C24:C34,\"CP*\")+COUNTIF(Aout!C4:C23,\"CP*\"))","v":19},null,null,null,null,null,"Du 21 au 20",null,{"$f":"SUM(Juillet!$K$24:$K$34,K4:K23)","v":2},{"$f":"SUM(Juillet!$L$24:$L$34,L4:L23)","v":4},{"$f":"SUM(Juillet!$M$24:$M$34,M4:M23)","v":5},{"$f":"SUM(Juillet!$N$24:$N$34,N4:N23)","v":1},{"$f":"SUM(Juillet!$O$24:$O$34,O4:O23)","v":0},{"$f":"SUM(Juillet!$P$24:$P$34,P4:P23)","v":2},{"$f":"SUM(Juillet!$Q$24:$Q$34,Q4:Q23)","v":0},{"$f":"SUM(Juillet!$R$24:$R$34,R4:R23)","v":"00:00:00"},null,{"$f":"SUM(Juillet!T24:T34)+SUM(Aout!T4:T23)","v":4.6451388888888889},{"$f":"SUM(U4:U34)","v":77.000000000000014},{"$f":"SUM(V4:V34)","v":0}]
[null,"CP",{"$f":"(COUNTIF(Juillet!C24:C34,\"CP\")+COUNTIF(Aout!C4:C23,\"CP\"))","v":0},null,null,null,null,null,null,null,{"$f":"(I39*2)*K36","v":35.411200000000001},{"$f":"Recap!H35*L36","v":28.56},{"$f":"Recap!H35*M36","v":35.699999999999996},{"$f":"(I39*5)*N36","v":44.264000000000003},{"$f":"(Recap!H33)*O36","v":0},{"$f":"7.5*P36","v":15},{"$f":"(I39*1.5)*Q36","v":0},{"$f":"R36*24","v":0}]
[null,"CH",{"$f":"(COUNTIF(Juillet!C24:C34,\"CH\")+COUNTIF(Aout!C4:C23,\"CH\"))","v":5},null,null,null,null,null,"VP",null,null,null,null,null,null,null,null,null,null,"Horaire mensuel",null,6.1749999999999998,{"$f":"V38*24","v":148.19999999999999}]
[null,"RT",{"$f":"(COUNTIF(Juillet!C24:C34,\"RT\")+COUNTIF(Aout!C4:C23,\"RT\"))","v":2},null,null,null,null,null,8.8528000000000002]
[null,"CC",{"$f":"(COUNTIF(Juillet!C24:C34,\"CC\")+COUNTIF(Aout!C4:C23,\"CC\"))","v":4},null,null,null,null,null,null,null,null,null,null,null,null,null,null,null,null,"Différence",null,{"$f":"IF(V38>T36,\"-\",\"\")&TEXT(ABS(T36-V38),\"[h]:mm\")","v":"-36:43"},{"$f":"(T36-V38)*24","v":-36.716666666666661}]
[null,"Férié",{"$f":"(COUNTIF(Juillet!C24:C34,\"Férié\")+COUNTIF(Aout!C4:C23,\"Férié\"))","v":1}]
[null,"Férié CC-CH-RT",{"$f":"(COUNTIF(Juillet!C24:C34,\"FériéCC\")+COUNTIF(Aout!C4:C23,\"FériéCC\")+(COUNTIF(Juillet!C24:C34,\"FériéCH\")+COUNTIF(Aout!C4:C23,\"FériéCH\")+(COUNTIF(Juillet!C24:C34,\"FériéRT\")+COUNTIF(Aout!C4:C23,\"FériéRT\"))))","v":0},null,null,null,null,null,null,null,null,null,null,null,null,null,null,"Heures réelles",null,{"$f":"SUM(T4:T34)","v":3.208333333333333}]
[null,null,null,null,null,null,null,null,null,null,null,null,null,null,null,null,null,null,null,{"$f":"T42*24","v":77},null,null,{"$f":"(T42-V38)*24","v":-71.2}]
[]
[null,null,null,null,null,"NOTES"]

{"sheet":"Septembre","index":9,"n_rows":45,"n_cols":23,"rows_kept":45,"cut":false,"hidden":false,"merged":[[0,1,0,22],[1,19,1,22],[44,5,44,16],[2,4,2,5],[2,7,2,8],[35,8,35,9],[37,19,37,20],[39,19,39,20],[41,17,41,18]]}
[null,"SEPTEMBRE"]
[null,null,null,null,null,null,null,null,null,null,null,null,null,null,null,null,null,null,null,"TOTAL"]
[null,"Date","Services","Obs.","MATIN",null,"Temps","APRES MIDI",null,"Temps","Prime nuit","PJ1","PJ2","Dimanche","Férié","ChècDej","PrimAmp","H Supp","Ampli","Heures","Centièmes","Kéolis","Écart"]
[null,"2018-09-01","s905-2",null,{"$f":"IFERROR(VLOOKUP(C4,TR!$B$2:$F$633,2,0),\"\")","v":"00:00:00"},{"$f":"IFERROR(VLOOKUP(C4,TR!$B$2:$F$633,3,0),\"\")","v":"00:00:00"},{"$f":"IF(ISERROR(F4-E4),0,F4-E4)","v":"00:00:00"},{"$f":"IFERROR(VLOOKUP(C4,TR!$B$2:$F$633,4,0),\"\")","v":"14:55:00"},{"$f":"IFERROR(VLOOKUP(C4,TR!$B$2:$F$633,5,0),\"\")","v":"22:43:00"},{"$f":"IF(ISERROR(I4-H4),0,(I4-H4))","v":"07:48:00"},{"$f":"IF(COUNTA(E4:F4,H4:I4)=5,1,IF(AND(E4<\"5:00\"*1,E4>\"2:00\"*1),1,IF(AND(I4>=\"22:01\"*1,I4<=\"26:01\"*1),1,IF(AND(I4<=\"22:00\"*1,SUM(I4,R4)>=\"22:01\"*1),1,\"\"))))","v":1},{"$f":"IF(AND(F4>=\"13:15\"*1,H4<\"\"),1,IF(AND(H4>=\"11:00\"*1,H4<=\"12:15\"*1),1,IF(AND(F4<=\"13:15\"*1,SUM(F4,R4)>=\"13:15\"*1),1,\"\")))","v":""},{"$f":"IF(AND(I4>=\"19:30\"*1,1,I4>\"21:30\"*1,C4<>\"\"),1,IF(AND(I4<=\"21:30\"*1,SUM(I4,R4)>=\"21:30\"*1),1,\"\"))","v":1},{"$f":"IF(AND(LEFT(C4,1)=\"d\",AND(Aout!N34<>1)),1,IF(AND(LEFT(C4,1)=\"s\",I4>=\"24:01\"*1),1,IF(AND(I4<>\"\",I4<=\"23:59\"*1,SUM(I4,R4)>=\"24:01\"*1),1,\"\")))","v":""},{"$f":"IF(AND(I4>\"24:00\"*1,ISNUMBER(FIND(\"f\",C5))),1,IF(AND(OR(ISNUMBER(FIND(\"FériéCC\",C4)),ISNUMBER(FIND(\"FériéCH\",C4)),ISNUMBER(FIND(\"f\",C4)))),1,\"\"))","v":""},{"$f":"IF(AND(L4=\"\",M4=\"\"),IF(OR(SUMPRODUCT(N(ISNUMBER(FIND({\"s\";\"d\";\"f\"},C4))))>0,G4+J4<0,AND(G4>0,J4>0,I4>\"20:30\"*1),AND(I4<=\"20:30\"*1,SUM(I4,R4)>=\"20:31\"*1)),1,\"\"),\"\")","v":""},{"$f":"IF(OR(AND(G4>0,AND(J4=0)),OR(G4=0,AND(J4>0)),OR(G4+J4>0)),IF(R4=\"\",\"\",IF(#REF!+R4>=\"13:01\"*1,1,\"\")))","v":""},null,{"$f":"IF(G4=0,IF(J4=0,\"\",I4-H4),IF(J4=0,F4-E4,I4-E4))","v":"07:48:00"},{"$f":"IF(ISERROR((F4-E4)+(I4-H4)),0,(F4-E4)+(I4-H4))","v":0.32499999999999996},{"$f":"T4*24","v":7.7999999999999989},null,{"$f":"IF(U4-V4=0,\"0,00\",U4-V4)","v":7.7999999999999989}]
[null,"2018-09-02","CH",null,{"$f":"IFERROR(VLOOKUP(C5,TR!$B$2:$F$633,2,0),\"\")","v":"00:00:00"},{"$f":"IFERROR(VLOOKUP(C5,TR!$B$2:$F$633,3,0),\"\")","v":"00:00:00"},{"$f":"IF(ISERROR(F5-E5),0,F5-E5)","v":"00:00:00"},{"$f":"IFERROR(VLOOKUP(C5,TR!$B$2:$F$633,4,0),\"\")","v":"00:00:00"},{"$f":"IFERROR(VLOOKUP(C5,TR!$B$2:$F$633,5,0),\"\")","v":"00:00:00"},{"$f":"IF(ISERROR(I5-H5),0,(I5-H5))","v":"00:00:00"},"","","",{"$f":"IF(AND(LEFT(C5,1)=\"d\",AND(N4<>1)),1,IF(AND(LEFT(C5,1)=\"s\",I5>=\"24:01\"*1),1,IF(AND(I5<>\"\",I5<=\"23:59\"*1,SUM(I5,R5)>=\"24:01\"*1),1,\"\")))","v":""},{"$f":"IF(AND(I5>\"24:00\"*1,ISNUMBER(FIND(\"f\",C6))),1,IF(AND(OR(ISNUMBER(FIND(\"FériéCC\",C5)),ISNUMBER(FIND(\"FériéCH\",C5)),ISNUMBER(FIND(\"f\",C5)))),1,\"\"))","v":""},{"$f":"IF(AND(L5=\"\",M5=\"\"),IF(OR(SUMPRODUCT(N(ISNUMBER(FIND({\"s\";\"d\";\"f\"},C5))))>0,G5+J5<0,AND(G5>0,J5>0,I5>\"20:30\"*1),AND(I5<=\"20:30\"*1,SUM(I5,R5)>=\"20:31\"*1)),1,\"\"),\"\")","v":""},{"$f":"IF(OR(AND(G5>0,AND(J5=0)),OR(G5=0,AND(J5>0)),OR(G5+J5>0)),IF(R5=\"\",\"\",IF(#REF!+R5>=\"13:01\"*1,1,\"\")))","v":""},null,"",0,{"$f":"T5*24","v":0},null,{"$f":"IF(U5-V5=0,\"0,00\",U5-V5)","v":"0,00"}]
[null,"2018-09-03","735-3",null,{"$f":"IFERROR(VLOOKUP(C6,TR!$B$2:$F$633,2,0),\"\")","v":"06:47:00"},{"$f":"IFERROR(VLOOKUP(C6,TR!$B$2:$F$633,3,0),\"\")","v":"13:52:00"},"07:05:00",{"$f":"IFERROR(VLOOKUP(C6,TR!$B$2:$F$633,4,0),\"\")","v":"00:00:00"},{"$f":"IFERROR(VLOOKUP(C6,TR!$B$2:$F$633,5,0),\"\")","v":"00:00:00"},"00:00:00","",1,"","","",{"$f":"IF(AND(L6=\"\",M6=\"\"),IF(OR(SUMPRODUCT(N(ISNUMBER(FIND({\"s\";\"d\";\"f\"},C6))))>0,G6+J6<0,AND(G6>0,J6>0,I6>\"20:30\"*1),AND(I6<=\"20:30\"*1,SUM(I6,R6)>=\"20:31\"*1)),1,\"\"),\"\")","v":""},{"$f":"IF(OR(AND(G6>0,AND(J6=0)),OR(G6=0,AND(J6>0)),OR(G6+J6>0)),IF(R6=\"\",\"\",IF(#REF!+R6>=\"13:01\"*1,1,\"\")))","v":""},null,"07:05:00",0.29513888888888895,{"$f":"T6*24","v":7.0833333333333348},null,7.0833333333333348]
[null,"2018-09-04","717-2",null,{"$f":"IFERROR(VLOOKUP(C7,TR!$B$2:$F$633,2,0),\"\")","v":"04:59:00"},{"$f":"IFERROR(VLOOKUP(C7,TR!$B$2:$F$633,3,0),\"\")","v":"12:58:00"},"07:59:00",{"$f":"IFERROR(VLOOKUP(C7,TR!$B$2:$F$633,4,0),\"\")","v":"00:00:00"},{"$f":"IFERROR(VLOOKUP(C7,TR!$B$2:$F$633,5,0),\"\")","v":"00:00:00"},"00:00:00",1,"","","","",{"$f":"IF(AND(L7=\"\",M7=\"\"),IF(OR(SUMPRODUCT(N(ISNUMBER(FIND({\"s\";\"d\";\"f\"},C7))))>0,G7+J7<0,AND(G7>0,J7>0,I7>\"20:30\"*1),AND(I7<=\"20:30\"*1,SUM(I7,R7)>=\"20:31\"*1)),1,\"\"),\"\")","v":""},{"$f":"IF(OR(AND(G7>0,AND(J7=0)),OR(G7=0,AND(J7>0)),OR(G7+J7>0)),IF(R7=\"\",\"\",IF(#REF!+R7>=\"13:01\"*1,1,\"\")))","v":""},null,"07:59:00",0.33263888888888882,{"$f":"T7*24","v":7.9833333333333316},null,7.9833333333333316]
[null,"2018-09-05","723-2",null,{"$f":"IFERROR(VLOOKUP(C8,TR!$B$2:$F$633,2,0),\"\")","v":"06:28:00"},{"$f":"IFERROR(VLOOKUP(C8,TR!$B$2:$F$633,3,0),\"\")","v":"14:04:00"},"07:36:00",{"$f":"IFERROR(VLOOKUP(C8,TR!$B$2:$F$633,4,0),\"\")","v":"00:00:00"},{"$f":"IFERROR(VLOOKUP(C8,TR!$B$2:$F$633,5,0),\"\")","v":"00:00:00"},"00:00:00","",1,"","","",{"$f":"IF(AND(L8=\"\",M8=\"\"),IF(OR(SUMPRODUCT(N(ISNUMBER(FIND({\"s\";\"d\";\"f\"},C8))))>0,G8+J8<0,AND(G8>0,J8>0,I8>\"20:30\"*1),AND(I8<=\"20:30\"*1,SUM(I8,R8)>=\"20:31\"*1)),1,\"\"),\"\")","v":""},{"$f":"IF(OR(AND(G8>0,AND(J8=0)),OR(G8=0,AND(J8>0)),OR(G8+J8>0)),IF(R8=\"\",\"\",IF(#REF!+R8>=\"13:01\"*1,1,\"\")))","v":""},null,"07:36:00",0.31666666666666671,7.6000000000000014,null,7.6000000000000014]
[null,"2018-09-06","GVE",null,{"$f":"IFERROR(VLOOKUP(C9,TR!$B$2:$F$633,2,0),\"\")","v":""},{"$f":"IFERROR(VLOOKUP(C9,TR!$B$2:$F$633,3,0),\"\")","v":""},"00:00:00",{"$f":"IFERROR(VLOOKUP(C9,TR!$B$2:$F$633,4,0),\"\")","v":""},{"$f":"IFERROR(VLOOKUP(C9,TR!$B$2:$F$633,5,0),\"\")","v":""},"00:00:00","","",1,"","",{"$f":"IF(AND(L9=\"\",M9=\"\"),IF(OR(SUMPRODUCT(N(ISNUMBER(FIND({\"s\";\"d\";\"f\"},C9))))>0,G9+J9<0,AND(G9>0,J9>0,I9>\"20:30\"*1),AND(I9<=\"20:30\"*1,SUM(I9,R9)>=\"20:31\"*1)),1,\"\"),\"\")","v":""},{"$f":"IF(OR(AND(G9>0,AND(J9=0)),OR(G9=0,AND(J9>0)),OR(G9+J9>0)),IF(R9=\"\",\"\",IF(#REF!+R9>=\"13:01\"*1,1,\"\")))","v":""},null,"",0,0,null,"0,00"]
[null,"2018-09-07","v709-b",null,{"$f":"IFERROR(VLOOKUP(C10,TR!$B$2:$F$633,2,0),\"\")","v":"06:09:00"},{"$f":"IFERROR(VLOOKUP(C10,TR!$B$2:$F$633,3,0),\"\")","v":"13:58:00"},"07:49:00",{"$f":"IFERROR(VLOOKUP(C10,TR!$B$2:$F$633,4,0),\"\")","v":"00:00:00"},{"$f":"IFERROR(VLOOKUP(C10,TR!$B$2:$F$633,5,0),\"\")","v":"00:00:00"},"00:00:00","",1,"","","",{"$f":"IF(AND(L10=\"\",M10=\"\"),IF(OR(SUMPRODUCT(N(ISNUMBER(FIND({\"s\";\"d\";\"f\"},C10))))>0,G10+J10<0,AND(G10>0,J10>0,I10>\"20:30\"*1),AND(I10<=\"20:30\"*1,SUM(I10,R10)>=\"20:31\"*1)),1,\"\"),\"\")","v":""},{"$f":"IF(OR(AND(G10>0,AND(J10=0)),OR(G10=0,AND(J10>0)),OR(G10+J10>0)),IF(R10=\"\",\"\",IF(#REF!+R10>=\"13:01\"*1,1,\"\")))","v":""},null,"07:49:00",0.32569444444444451,7.8166666666666682,null,7.8166666666666682]
[null,"2018-09-08","CC",null,{"$f":"IFERROR(VLOOKUP(C11,TR!$B$2:$F$633,2,0),\"\")","v":"00:00:00"},{"$f":"IFERROR(VLOOKUP(C11,TR!$B$2:$F$633,3,0),\"\")","v":"00:00:00"},"00:00:00",{"$f":"IFERROR(VLOOKUP(C11,TR!$B$2:$F$633,4,0),\"\")","v":"00:00:00"},{"$f":"IFERROR(VLOOKUP(C11,TR!$B$2:$F$633,5,0),\"\")","v":"00:00:00"},"00:00:00","","","","","",{"$f":"IF(AND(L11=\"\",M11=\"\"),IF(OR(SUMPRODUCT(N(ISNUMBER(FIND({\"s\";\"d\";\"f\"},C11))))>0,G11+J11<0,AND(G11>0,J11>0,I11>\"20:30\"*1),AND(I11<=\"20:30\"*1,SUM(I11,R11)>=\"20:31\"*1)),1,\"\"),\"\")","v":""},{"$f":"IF(OR(AND(G11>0,AND(J11=0)),OR(G11=0,AND(J11>0)),OR(G11+J11>0)),IF(R11=\"\",\"\",IF(#REF!+R11>=\"13:01\"*1,1,\"\")))","v":""},null,"",0,0,null,"0,00"]
[null,"2018-09-09","CH",null,{"$f":"IFERROR(VLOOKUP(C12,TR!$B$2:$F$633,2,0),\"\")","v":"00:00:00"},{"$f":"IFERROR(VLOOKUP(C12,TR!$B$2:$F$633,3,0),\"\")","v":"00:00:00"},"00:00:00",{"$f":"IFERROR(VLOOKUP(C12,TR!$B$2:$F$633,4,0),\"\")","v":"00:00:00"},{"$f":"IFERROR(VLOOKUP(C12,TR!$B$2:$F$633,5,0),\"\")","v":"00:00:00"},"00:00:00","","","","","",{"$f":"IF(AND(L12=\"\",M12=\"\"),IF(OR(SUMPRODUCT(N(ISNUMBER(FIND({\"s\";\"d\";\"f\"},C12))))>0,G12+J12<0,AND(G12>0,J12>0,I12>\"20:30\"*1),AND(I12<=\"20:30\"*1,SUM(I12,R12)>=\"20:31\"*1)),1,\"\"),\"\")","v":""},{"$f":"IF(OR(AND(G12>0,AND(J12=0)),OR(G12=0,AND(J12>0)),OR(G12+J12>0)),IF(R12=\"\",\"\",IF(#REF!+R12>=\"13:01\"*1,1,\"\")))","v":""},null,"",0,0,null,"0,00"]
[null,"2018-09-10","713-1",null,{"$f":"IFERROR(VLOOKUP(C13,TR!$B$2:$F$633,2,0),\"\")","v":"06:33:00"},{"$f":"IFERROR(VLOOKUP(C13,TR!$B$2:$F$633,3,0),\"\")","v":"13:47:00"},"07:14:00",{"$f":"IFERROR(VLOOKUP(C13,TR!$B$2:$F$633,4,0),\"\")","v":"00:00:00"},{"$f":"IFERROR(VLOOKUP(C13,TR!$B$2:$F$633,5,0),\"\")","v":"00:00:00"},"00:00:00","",1,"","","",{"$f":"IF(AND(L13=\"\",M13=\"\"),IF(OR(SUMPRODUCT(N(ISNUMBER(FIND({\"s\";\"d\";\"f\"},C13))))>0,G13+J13<0,AND(G13>0,J13>0,I13>\"20:30\"*1),AND(I13<=\"20:30\"*1,SUM(I13,R13)>=\"20:31\"*1)),1,\"\"),\"\")","v":""},{"$f":"IF(OR(AND(G13>0,AND(J13=0)),OR(G13=0,AND(J13>0)),OR(G13+J13>0)),IF(R13=\"\",\"\",IF(#REF!+R13>=\"13:01\"*1,1,\"\")))","v":""},null,"07:14:00",0.30138888888888887,7.2333333333333325,null,7.2333333333333325]
[null,"2018-09-11","891-O",null,{"$f":"IFERROR(VLOOKUP(C14,TR!$B$2:$F$633,2,0),\"\")","v":""},{"$f":"IFERROR(VLOOKUP(C14,TR!$B$2:$F$633,3,0),\"\")","v":""},"00:00:00",{"$f":"IFERROR(VLOOKUP(C14,TR!$B$2:$F$633,4,0),\"\")","v":""},{"$f":"IFERROR(VLOOKUP(C14,TR!$B$2:$F$633,5,0),\"\")","v":""},"00:00:00","","",1,"","",{"$f":"IF(AND(L14=\"\",M14=\"\"),IF(OR(SUMPRODUCT(N(ISNUMBER(FIND({\"s\";\"d\";\"f\"},C14))))>0,G14+J14<0,AND(G14>0,J14>0,I14>\"20:30\"*1),AND(I14<=\"20:30\"*1,SUM(I14,R14)>=\"20:31\"*1)),1,\"\"),\"\")","v":""},{"$f":"IF(OR(AND(G14>0,AND(J14=0)),OR(G14=0,AND(J14>0)),OR(G14+J14>0)),IF(R14=\"\",\"\",IF(#REF!+R14>=\"13:01\"*1,1,\"\")))","v":""},null,"",0,0,null,"0,00"]
[null,"2018-09-12","303-2",null,{"$f":"IFERROR(VLOOKUP(C15,TR!$B$2:$F$633,2,0),\"\")","v":""},{"$f":"IFERROR(VLOOKUP(C15,TR!$B$2:$F$633,3,0),\"\")","v":""},"00:00:00",{"$f":"IFERROR(VLOOKUP(C15,TR!$B$2:$F$633,4,0),\"\")","v":""},{"$f":"IFERROR(VLOOKUP(C15,TR!$B$2:$F$633,5,0),\"\")","v":""},"00:00:00","","",1,"","",{"$f":"IF(AND(L15=\"\",M15=\"\"),IF(OR(SUMPRODUCT(N(ISNUMBER(FIND({\"s\";\"d\";\"f\"},C15))))>0,G15+J15<0,AND(G15>0,J15>0,I15>\"20:30\"*1),AND(I15<=\"20:30\"*1,SUM(I15,R15)>=\"20:31\"*1)),1,\"\"),\"\")","v":""},{"$f":"IF(OR(AND(G15>0,AND(J15=0)),OR(G15=0,AND(J15>0)),OR(G15+J15>0)),IF(R15=\"\",\"\",IF(#REF!+R15>=\"13:01\"*1,1,\"\")))","v":""},null,"",0,0,null,"0,00"]
[null,"2018-09-13","702-a",null,{"$f":"IFERROR(VLOOKUP(C16,TR!$B$2:$F$633,2,0),\"\")","v":""},{"$f":"IFERROR(VLOOKUP(C16,TR!$B$2:$F$633,3,0),\"\")","v":""},"00:00:00",{"$f":"IFERROR(VLOOKUP(C16,TR!$B$2:$F$633,4,0),\"\")","v":""},{"$f":"IFERROR(VLOOKUP(C16,TR!$B$2:$F$633,5,0),\"\")","v":""},"00:00:00","","",1,"","",{"$f":"IF(AND(L16=\"\",M16=\"\"),IF(OR(SUMPRODUCT(N(ISNUMBER(FIND({\"s\";\"d\";\"f\"},C16))))>0,G16+J16<0,AND(G16>0,J16>0,I16>\"20:30\"*1),AND(I16<=\"20:30\"*1,SUM(I16,R16)>=\"20:31\"*1)),1,\"\"),\"\")","v":""},{"$f":"IF(OR(AND(G16>0,AND(J16=0)),OR(G16=0,AND(J16>0)),OR(G16+J16>0)),IF(R16=\"\",\"\",IF(#REF!+R16>=\"13:01\"*1,1,\"\")))","v":""},null,"",0,0,null,"0,00"]
[null,"2018-09-14","v310-3",null,{"$f":"IFERROR(VLOOKUP(C17,TR!$B$2:$F$633,2,0),\"\")","v":""},{"$f":"IFERROR(VLOOKUP(C17,TR!$B$2:$F$633,3,0),\"\")","v":""},"00:00:00",{"$f":"IFERROR(VLOOKUP(C17,TR!$B$2:$F$633,4,0),\"\")","v":""},{"$f":"IFERROR(VLOOKUP(C17,TR!$B$2:$F$633,5,0),\"\")","v":""},"00:00:00","","",1,"","",{"$f":"IF(AND(L17=\"\",M17=\"\"),IF(OR(SUMPRODUCT(N(ISNUMBER(FIND({\"s\";\"d\";\"f\"},C17))))>0,G17+J17<0,AND(G17>0,J17>0,I17>\"20:30\"*1),AND(I17<=\"20:30\"*1,SUM(I17,R17)>=\"20:31\"*1)),1,\"\"),\"\")","v":""},{"$f":"IF(OR(AND(G17>0,AND(J17=0)),OR(G17=0,AND(J17>0)),OR(G17+J17>0)),IF(R17=\"\",\"\",IF(#REF!+R17>=\"13:01\"*1,1,\"\")))","v":""},null,"",0,0,null,"0,00"]
[null,"2018-09-15","s711-2",null,{"$f":"IFERROR(VLOOKUP(C18,TR!$B$2:$F$633,2,0),\"\")","v":""},{"$f":"IFERROR(VLOOKUP(C18,TR!$B$2:$F$633,3,0),\"\")","v":""},"00:00:00",{"$f":"IFERROR(VLOOKUP(C18,TR!$B$2:$F$633,4,0),\"\")","v":""},{"$f":"IFERROR(VLOOKUP(C18,TR!$B$2:$F$633,5,0),\"\")","v":""},"00:00:00","","",1,1,"",{"$f":"IF(AND(L18=\"\",M18=\"\"),IF(OR(SUMPRODUCT(N(ISNUMBER(FIND({\"s\";\"d\";\"f\"},C18))))>0,G18+J18<0,AND(G18>0,J18>0,I18>\"20:30\"*1),AND(I18<=\"20:30\"*1,SUM(I18,R18)>=\"20:31\"*1)),1,\"\"),\"\")","v":""},{"$f":"IF(OR(AND(G18>0,AND(J18=0)),OR(G18=0,AND(J18>0)),OR(G18+J18>0)),IF(R18=\"\",\"\",IF(#REF!+R18>=\"13:01\"*1,1,\"\")))","v":""},null,"",0,0,null,"0,00"]
[null,"2018-09-16","CH",null,{"$f":"IFERROR(VLOOKUP(C19,TR!$B$2:$F$633,2,0),\"\")","v":"00:00:00"},{"$f":"IFERROR(VLOOKUP(C19,TR!$B$2:$F$633,3,0),\"\")","v":"00:00:00"},"00:00:00",{"$f":"IFERROR(VLOOKUP(C19,TR!$B$2:$F$633,4,0),\"\")","v":"00:00:00"},{"$f":"IFERROR(VLOOKUP(C19,TR!$B$2:$F$633,5,0),\"\")","v":"00:00:00"},"00:00:00","","","","","",{"$f":"IF(AND(L19=\"\",M19=\"\"),IF(OR(SUMPRODUCT(N(ISNUMBER(FIND({\"s\";\"d\";\"f\"},C19))))>0,G19+J19<0,AND(G19>0,J19>0,I19>\"20:30\"*1),AND(I19<=\"20:30\"*1,SUM(I19,R19)>=\"20:31\"*1)),1,\"\"),\"\")","v":""},{"$f":"IF(OR(AND(G19>0,AND(J19=0)),OR(G19=0,AND(J19>0)),OR(G19+J19>0)),IF(R19=\"\",\"\",IF(#REF!+R19>=\"13:01\"*1,1,\"\")))","v":""},null,"",0,0,null,"0,00"]
[null,"2018-09-17","822-2",null,{"$f":"IFERROR(VLOOKUP(C20,TR!$B$2:$F$633,2,0),\"\")","v":""},{"$f":"IFERROR(VLOOKUP(C20,TR!$B$2:$F$633,3,0),\"\")","v":""},"00:00:00",{"$f":"IFERROR(VLOOKUP(C20,TR!$B$2:$F$633,4,0),\"\")","v":""},{"$f":"IFERROR(VLOOKUP(C20,TR!$B$2:$F$633,5,0),\"\")","v":""},"00:00:00","","",1,"","",{"$f":"IF(AND(L20=\"\",M20=\"\"),IF(OR(SUMPRODUCT(N(ISNUMBER(FIND({\"s\";\"d\";\"f\"},C20))))>0,G20+J20<0,AND(G20>0,J20>0,I20>\"20:30\"*1),AND(I20<=\"20:30\"*1,SUM(I20,R20)>=\"20:31\"*1)),1,\"\"),\"\")","v":""},null,null,"",0,0,null,"0,00"]
[null,"2018-09-18","809-a",null,{"$f":"IFERROR(VLOOKUP(C21,TR!$B$2:$F$633,2,0),\"\")","v":"00:00:00"},{"$f":"IFERROR(VLOOKUP(C21,TR!$B$2:$F$633,3,0),\"\")","v":"00:00:00"},"00:00:00",{"$f":"IFERROR(VLOOKUP(C21,TR!$B$2:$F$633,4,0),\"\")","v":"13:12:00"},{"$f":"IFERROR(VLOOKUP(C21,TR!$B$2:$F$633,5,0),\"\")","v":"21:07:00"},"07:55:00","","","","","",{"$f":"IF(AND(L21=\"\",M21=\"\"),IF(OR(SUMPRODUCT(N(ISNUMBER(FIND({\"s\";\"d\";\"f\"},C21))))>0,G21+J21<0,AND(G21>0,J21>0,I21>\"20:30\"*1),AND(I21<=\"20:30\"*1,SUM(I21,R21)>=\"20:31\"*1)),1,\"\"),\"\")","v":""},{"$f":"IF(OR(AND(G21>0,AND(J21=0)),OR(G21=0,AND(J21>0)),OR(G21+J21>0)),IF(R21=\"\",\"\",IF(#REF!+R21>=\"13:01\"*1,1,\"\")))","v":""},null,"07:55:00",0.32986111111111105,7.9166666666666652,null,7.9166666666666652]
[null,"2018-09-19","819-2",null,{"$f":"IFERROR(VLOOKUP(C22,TR!$B$2:$F$633,2,0),\"\")","v":""},{"$f":"IFERROR(VLOOKUP(C22,TR!$B$2:$F$633,3,0),\"\")","v":""},"00:00:00",{"$f":"IFERROR(VLOOKUP(C22,TR!$B$2:$F$633,4,0),\"\")","v":""},{"$f":"IFERROR(VLOOKUP(C22,TR!$B$2:$F$633,5,0),\"\")","v":""},"00:00:00","","",1,"","",{"$f":"IF(AND(L22=\"\",M22=\"\"),IF(OR(SUMPRODUCT(N(ISNUMBER(FIND({\"s\";\"d\";\"f\"},C22))))>0,G22+J22<0,AND(G22>0,J22>0,I22>\"20:30\"*1),AND(I22<=\"20:30\"*1,SUM(I22,R22)>=\"20:31\"*1)),1,\"\"),\"\")","v":""},{"$f":"IF(OR(AND(G22>0,AND(J22=0)),OR(G22=0,AND(J22>0)),OR(G22+J22>0)),IF(R22=\"\",\"\",IF(#REF!+R22>=\"13:01\"*1,1,\"\")))","v":""},null,"",0,0,null,"0,00"]
[null,"2018-09-20","903-b",null,{"$f":"IFERROR(VLOOKUP(C23,TR!$B$2:$F$633,2,0),\"\")","v":""},{"$f":"IFERROR(VLOOKUP(C23,TR!$B$2:$F$633,3,0),\"\")","v":""},"00:00:00",{"$f":"IFERROR(VLOOKUP(C23,TR!$B$2:$F$633,4,0),\"\")","v":""},{"$f":"IFERROR(VLOOKUP(C23,TR!$B$2:$F$633,5,0),\"\")","v":""},"00:00:00","","",1,"","",{"$f":"IF(AND(L23=\"\",M23=\"\"),IF(OR(SUMPRODUCT(N(ISNUMBER(FIND({\"s\";\"d\";\"f\"},C23))))>0,G23+J23<0,AND(G23>0,J23>0,I23>\"20:30\"*1),AND(I23<=\"20:30\"*1,SUM(I23,R23)>=\"20:31\"*1)),1,\"\"),\"\")","v":""},{"$f":"IF(OR(AND(G23>0,AND(J23=0)),OR(G23=0,AND(J23>0)),OR(G23+J23>0)),IF(R23=\"\",\"\",IF(#REF!+R23>=\"13:01\"*1,1,\"\")))","v":""},null,"",0,0,null,"0,00"]
[null,"2018-09-21","v908-2",null,{"$f":"IFERROR(VLOOKUP(C24,TR!$B$2:$F$633,2,0),\"\")","v":""},{"$f":"IFERROR(VLOOKUP(C24,TR!$B$2:$F$633,3,0),\"\")","v":""},"00:00:00",{"$f":"IFERROR(VLOOKUP(C24,TR!$B$2:$F$633,4,0),\"\")","v":""},{"$f":"IFERROR(VLOOKUP(C24,TR!$B$2:$F$633,5,0),\"\")","v":""},"00:00:00","","",1,"","",{"$f":"IF(AND(L24=\"\",M24=\"\"),IF(OR(SUMPRODUCT(N(ISNUMBER(FIND({\"s\";\"d\";\"f\"},C24))))>0,G24+J24<0,AND(G24>0,J24>0,I24>\"20:30\"*1),AND(I24<=\"20:30\"*1,SUM(I24,R24)>=\"20:31\"*1)),1,\"\"),\"\")","v":""},{"$f":"IF(OR(AND(G24>0,AND(J24=0)),OR(G24=0,AND(J24>0)),OR(G24+J24>0)),IF(R24=\"\",\"\",IF(#REF!+R24>=\"13:01\"*1,1,\"\")))","v":""},null,"",0,0,null,"0,00"]
[null,"2018-09-22","CC",null,{"$f":"IFERROR(VLOOKUP(C25,TR!$B$2:$F$633,2,0),\"\")","v":"00:00:00"},{"$f":"IFERROR(VLOOKUP(C25,TR!$B$2:$F$633,3,0),\"\")","v":"00:00:00"},"00:00:00",{"$f":"IFERROR(VLOOKUP(C25,TR!$B$2:$F$633,4,0),\"\")","v":"00:00:00"},{"$f":"IFERROR(VLOOKUP(C25,TR!$B$2:$F$633,5,0),\"\")","v":"00:00:00"},"00:00:00","","","","","",{"$f":"IF(AND(L25=\"\",M25=\"\"),IF(OR(SUMPRODUCT(N(ISNUMBER(FIND({\"s\";\"d\";\"f\"},C25))))>0,G25+J25<0,AND(G25>0,J25>0,I25>\"20:30\"*1),AND(I25<=\"20:30\"*1,SUM(I25,R25)>=\"20:31\"*1)),1,\"\"),\"\")","v":""},{"$f":"IF(OR(AND(G25>0,AND(J25=0)),OR(G25=0,AND(J25>0)),OR(G25+J25>0)),IF(R25=\"\",\"\",IF(#REF!+R25>=\"13:01\"*1,1,\"\")))","v":""},null,"",0,0,null,"0,00"]
[null,"2018-09-23","CH",null,{"$f":"IFERROR(VLOOKUP(C26,TR!$B$2:$F$633,2,0),\"\")","v":"00:00:00"},{"$f":"IFERROR(VLOOKUP(C26,TR!$B$2:$F$633,3,0),\"\")","v":"00:00:00"},"00:00:00",{"$f":"IFERROR(VLOOKUP(C26,TR!$B$2:$F$633,4,0),\"\")","v":"00:00:00"},{"$f":"IFERROR(VLOOKUP(C26,TR!$B$2:$F$633,5,0),\"\")","v":"00:00:00"},"00:00:00","","","","","",{"$f":"IF(AND(L26=\"\",M26=\"\"),IF(OR(SUMPRODUCT(N(ISNUMBER(FIND({\"s\";\"d\";\"f\"},C26))))>0,G26+J26<0,AND(G26>0,J26>0,I26>\"20:30\"*1),AND(I26<=\"20:30\"*1,SUM(I26,R26)>=\"20:31\"*1)),1,\"\"),\"\")","v":""},{"$f":"IF(OR(AND(G26>0,AND(J26=0)),OR(G26=0,AND(J26>0)),OR(G26+J26>0)),IF(R26=\"\",\"\",IF(#REF!+R26>=\"13:01\"*1,1,\"\")))","v":""},null,"",0,0,null,"0,00"]
[null,"2018-09-24","722-2",null,{"$f":"IFERROR(VLOOKUP(C27,TR!$B$2:$F$633,2,0),\"\")","v":""},{"$f":"IFERROR(VLOOKUP(C27,TR!$B$2:$F$633,3,0),\"\")","v":""},"00:00:00",{"$f":"IFERROR(VLOOKUP(C27,TR!$B$2:$F$633,4,0),\"\")","v":""},{"$f":"IFERROR(VLOOKUP(C27,TR!$B$2:$F$633,5,0),\"\")","v":""},"00:00:00","","",1,"","",{"$f":"IF(AND(L27=\"\",M27=\"\"),IF(OR(SUMPRODUCT(N(ISNUMBER(FIND({\"s\";\"d\";\"f\"},C27))))>0,G27+J27<0,AND(G27>0,J27>0,I27>\"20:30\"*1),AND(I27<=\"20:30\"*1,SUM(I27,R27)>=\"20:31\"*1)),1,\"\"),\"\")","v":""},{"$f":"IF(OR(AND(G27>0,AND(J27=0)),OR(G27=0,AND(J27>0)),OR(G27+J27>0)),IF(R27=\"\",\"\",IF(#REF!+R27>=\"13:01\"*1,1,\"\")))","v":""},null,"",0,0,null,"0,00"]
[null,"2018-09-25","724-2",null,{"$f":"IFERROR(VLOOKUP(C28,TR!$B$2:$F$633,2,0),\"\")","v":""},{"$f":"IFERROR(VLOOKUP(C28,TR!$B$2:$F$633,3,0),\"\")","v":""},"00:00:00",{"$f":"IFERROR(VLOOKUP(C28,TR!$B$2:$F$633,4,0),\"\")","v":""},{"$f":"IFERROR(VLOOKUP(C28,TR!$B$2:$F$633,5,0),\"\")","v":""},"00:00:00","","",1,"","",{"$f":"IF(AND(L28=\"\",M28=\"\"),IF(OR(SUMPRODUCT(N(ISNUMBER(FIND({\"s\";\"d\";\"f\"},C28))))>0,G28+J28<0,AND(G28>0,J28>0,I28>\"20:30\"*1),AND(I28<=\"20:30\"*1,SUM(I28,R28)>=\"20:31\"*1)),1,\"\"),\"\")","v":""},{"$f":"IF(OR(AND(G28>0,AND(J28=0)),OR(G28=0,AND(J28>0)),OR(G28+J28>0)),IF(R28=\"\",\"\",IF(#REF!+R28>=\"13:01\"*1,1,\"\")))","v":""},null,"",0,0,null,"0,00"]
[null,"2018-09-26","722-2",null,{"$f":"IFERROR(VLOOKUP(C29,TR!$B$2:$F$633,2,0),\"\")","v":""},{"$f":"IFERROR(VLOOKUP(C29,TR!$B$2:$F$633,3,0),\"\")","v":""},"00:00:00",{"$f":"IFERROR(VLOOKUP(C29,TR!$B$2:$F$633,4,0),\"\")","v":""},{"$f":"IFERROR(VLOOKUP(C29,TR!$B$2:$F$633,5,0),\"\")","v":""},"00:00:00","","",1,"","",{"$f":"IF(AND(L29=\"\",M29=\"\"),IF(OR(SUMPRODUCT(N(ISNUMBER(FIND({\"s\";\"d\";\"f\"},C29))))>0,G29+J29<0,AND(G29>0,J29>0,I29>\"20:30\"*1),AND(I29<=\"20:30\"*1,SUM(I29,R29)>=\"20:31\"*1)),1,\"\"),\"\")","v":""},{"$f":"IF(OR(AND(G29>0,AND(J29=0)),OR(G29=0,AND(J29>0)),OR(G29+J29>0)),IF(R29=\"\",\"\",IF(#REF!+R29>=\"13:01\"*1,1,\"\")))","v":""},null,"",0,0,null,"0,00"]
[null,"2018-09-27","715-a",null,{"$f":"IFERROR(VLOOKUP(C30,TR!$B$2:$F$633,2,0),\"\")","v":""},{"$f":"IFERROR(VLOOKUP(C30,TR!$B$2:$F$633,3,0),\"\")","v":""},"00:00:00",{"$f":"IFERROR(VLOOKUP(C30,TR!$B$2:$F$633,4,0),\"\")","v":""},{"$f":"IFERROR(VLOOKUP(C30,TR!$B$2:$F$633,5,0),\"\")","v":""},"00:00:00","","",1,"","",{"$f":"IF(AND(L30=\"\",M30=\"\"),IF(OR(SUMPRODUCT(N(ISNUMBER(FIND({\"s\";\"d\";\"f\"},C30))))>0,G30+J30<0,AND(G30>0,J30>0,I30>\"20:30\"*1),AND(I30<=\"20:30\"*1,SUM(I30,R30)>=\"20:31\"*1)),1,\"\"),\"\")","v":""},{"$f":"IF(OR(AND(G30>0,AND(J30=0)),OR(G30=0,AND(J30>0)),OR(G30+J30>0)),IF(R30=\"\",\"\",IF(#REF!+R30>=\"13:01\"*1,1,\"\")))","v":""},null,"",0,0,null,"0,00"]
[null,"2018-09-28","v707-b",null,{"$f":"IFERROR(VLOOKUP(C31,TR!$B$2:$F$633,2,0),\"\")","v":""},{"$f":"IFERROR(VLOOKUP(C31,TR!$B$2:$F$633,3,0),\"\")","v":""},"00:00:00",{"$f":"IFERROR(VLOOKUP(C31,TR!$B$2:$F$633,4,0),\"\")","v":""},{"$f":"IFERROR(VLOOKUP(C31,TR!$B$2:$F$633,5,0),\"\")","v":""},"00:00:00","","",1,"","",{"$f":"IF(AND(L31=\"\",M31=\"\"),IF(OR(SUMPRODUCT(N(ISNUMBER(FIND({\"s\";\"d\";\"f\"},C31))))>0,G31+J31<0,AND(G31>0,J31>0,I31>\"20:30\"*1),AND(I31<=\"20:30\"*1,SUM(I31,R31)>=\"20:31\"*1)),1,\"\"),\"\")","v":""},{"$f":"IF(OR(AND(G31>0,AND(J31=0)),OR(G31=0,AND(J31>0)),OR(G31+J31>0)),IF(R31=\"\",\"\",IF(#REF!+R31>=\"13:01\"*1,1,\"\")))","v":""},null,"",0,0,null,"0,00"]
[null,"2018-09-29","CC",null,{"$f":"IFERROR(VLOOKUP(C32,TR!$B$2:$F$633,2,0),\"\")","v":"00:00:00"},{"$f":"IFERROR(VLOOKUP(C32,TR!$B$2:$F$633,3,0),\"\")","v":"00:00:00"},"00:00:00",{"$f":"IFERROR(VLOOKUP(C32,TR!$B$2:$F$633,4,0),\"\")","v":"00:00:00"},{"$f":"IFERROR(VLOOKUP(C32,TR!$B$2:$F$633,5,0),\"\")","v":"00:00:00"},"00:00:00","","","","","",{"$f":"IF(AND(L32=\"\",M32=\"\"),IF(OR(SUMPRODUCT(N(ISNUMBER(FIND({\"s\";\"d\";\"f\"},C32))))>0,G32+J32<0,AND(G32>0,J32>0,I32>\"20:30\"*1),AND(I32<=\"20:30\"*1,SUM(I32,R32)>=\"20:31\"*1)),1,\"\"),\"\")","v":""},{"$f":"IF(OR(AND(G32>0,AND(J32=0)),OR(G32=0,AND(J32>0)),OR(G32+J32>0)),IF(R32=\"\",\"\",IF(#REF!+R32>=\"13:01\"*1,1,\"\")))","v":""},null,"",0,0,null,"0,00"]
[null,"2018-09-30","CH",null,{"$f":"IFERROR(VLOOKUP(C33,TR!$B$2:$F$633,2,0),\"\")","v":"00:00:00"},{"$f":"IFERROR(VLOOKUP(C33,TR!$B$2:$F$633,3,0),\"\")","v":"00:00:00"},"00:00:00",{"$f":"IFERROR(VLOOKUP(C33,TR!$B$2:$F$633,4,0),\"\")","v":"00:00:00"},{"$f":"IFERROR(VLOOKUP(C33,TR!$B$2:$F$633,5,0),\"\")","v":"00:00:00"},"00:00:00","","","","","",{"$f":"IF(AND(L33=\"\",M33=\"\"),IF(OR(SUMPRODUCT(N(ISNUMBER(FIND({\"s\";\"d\";\"f\"},C33))))>0,G33+J33<0,AND(G33>0,J33>0,I33>\"20:30\"*1),AND(I33<=\"20:30\"*1,SUM(I33,R33)>=\"20:31\"*1)),1,\"\"),\"\")","v":""},{"$f":"IF(OR(AND(G33>0,AND(J33=0)),OR(G33=0,AND(J33>0)),OR(G33+J33>0)),IF(R33=\"\",\"\",IF(#REF!+R33>=\"13:01\"*1,1,\"\")))","v":""},null,"",0,0,null,"0,00"]
[null,null,null,null,{"$f":"IFERROR(VLOOKUP(C34,TR!$B$2:$F$633,2,0),\"\")","v":""},{"$f":"IFERROR(VLOOKUP(C34,TR!$B$2:$F$633,3,0),\"\")","v":""},null,{"$f":"IFERROR(VLOOKUP(C34,TR!$B$2:$F$633,4,0),\"\")","v":""},{"$f":"IFERROR(VLOOKUP(C34,TR!$B$2:$F$633,5,0),\"\")","v":""},null,"","","","","",{"$f":"IF(AND(L34=\"\",M34=\"\"),IF(OR(SUMPRODUCT(N(ISNUMBER(FIND({\"s\";\"d\";\"f\"},C34))))>0,G34+J34<0,AND(G34>0,J34>0,I34>\"20:30\"*1),AND(I34<=\"20:30\"*1,SUM(I34,R34)>=\"20:31\"*1)),1,\"\"),\"\")","v":""},{"$f":"IF(OR(AND(G34>0,AND(J34=0)),OR(G34=0,AND(J34>0)),OR(G34+J34>0)),IF(R34=\"\",\"\",IF(#REF!+R34>=\"13:01\"*1,1,\"\")))","v":""},null,"",0,0,null,"0,00"]
[]
[null,"Jours travaillés",{"$f":"(COUNTIF(Aout!C24:C34,\"<>\")+COUNTIF(Septembre!C4:C23,\"<>\"))-(COUNTIF(Aout!C24:C34,\"CC*\")+COUNTIF(Septembre!C4:C23,\"CC*\"))-(COUNTIF(Aout!C24:C34,\"CH*\")+COUNTIF(Septembre!C4:C23,\"CH*\"))-(COUNTIF(Aout!C24:C34,\"RT*\")+COUNTIF(Septembre!C4:C23,\"RT*\"))-(COUNTIF(Aout!C24:C34,\"Férié*\")+COUNTIF(Septembre!C4:C23,\"Férié*\"))-(COUNTIF(Aout!C24:C34,\"Mal*\")+COUNTIF(Septembre!C4:C23,\"Mal*\"))-(COUNTIF(Aout!C24:C34,\"CP*\")+COUNTIF(Septembre!C4:C23,\"CP*\"))","v":24},null,null,null,null,null,"Du 21 au 20",null,{"$f":"SUM(Aout!$K$24:$K$34,K4:K23)","v":4},{"$f":"SUM(Aout!$L$24:$L$34,L4:L23)","v":4},{"$f":"SUM(Aout!$M$24:$M$34,M4:M23)","v":16},{"$f":"SUM(Aout!$N$24:$N$34,N4:N23)","v":1},{"$f":"SUM(Aout!$O$24:$O$34,O4:O23)","v":0},{"$f":"SUM(Aout!$P$24:$P$34,P4:P23)","v":1},{"$f":"SUM(Aout!$Q$24:$Q$34,Q4:Q23)","v":0},{"$f":"SUM(Aout!$R$24:$R$34,R4:R23)","v":"00:00:00"},null,{"$f":"SUM(Aout!T24:T34)+SUM(Septembre!T4:T23)","v":3.2138888888888886},{"$f":"SUM(U4:U34)","v":53.43333333333333},{"$f":"SUM(V4:V34)","v":0}]
[null,"CP",{"$f":"(COUNTIF(Aout!C24:C34,\"CP\")+COUNTIF(Septembre!C4:C23,\"CP\"))","v":0},null,null,null,null,null,null,null,{"$f":"(I39*2)*K36","v":70.822400000000002},{"$f":"Recap!H35*L36","v":28.56},{"$f":"Recap!H35*M36","v":114.24},{"$f":"(I39*5)*N36","v":44.264000000000003},{"$f":"(Recap!H33)*O36","v":0},{"$f":"7.5*P36","v":7.5},{"$f":"(I39*1.5)*Q36","v":0},{"$f":"R36*24","v":0}]
[null,"CH",{"$f":"(COUNTIF(Aout!C24:C34,\"CH\")+COUNTIF(Septembre!C4:C23,\"CH\"))","v":4},null,null,null,null,null,"VP",null,null,null,null,null,null,null,null,null,null,"Horaire mensuel",null,6.1749999999999998,{"$f":"V38*24","v":148.19999999999999}]
[null,"RT",{"$f":"(COUNTIF(Aout!C24:C34,\"RT\")+COUNTIF(Septembre!C4:C23,\"RT\"))","v":0},null,null,null,null,null,8.8528000000000002]
[null,"CC",{"$f":"(COUNTIF(Aout!C24:C34,\"CC\")+COUNTIF(Septembre!C4:C23,\"CC\"))","v":3},null,null,null,null,null,null,null,null,null,null,null,null,null,null,null,null,"Différence",null,{"$f":"IF(V38>T36,\"-\",\"\")&TEXT(ABS(T36-V38),\"[h]:mm\")","v":"-71:04"},{"$f":"(T36-V38)*24","v":-71.066666666666663}]
[null,"Férié",{"$f":"(COUNTIF(Aout!C24:C34,\"Férié\")+COUNTIF(Septembre!C4:C23,\"Férié\"))","v":0}]
[null,"Férié CC-CH-RT",{"$f":"(COUNTIF(Aout!C24:C34,\"FériéCC\")+COUNTIF(Septembre!C4:C23,\"FériéCC\")+(COUNTIF(Aout!C24:C34,\"FériéCH\")+COUNTIF(Septembre!C4:C23,\"FériéCH\")+(COUNTIF(Aout!C24:C34,\"FériéRT\")+COUNTIF(Septembre!C4:C23,\"FériéRT\"))))","v":0},null,null,null,null,null,null,null,null,null,null,null,null,null,null,"Heures réelles",null,{"$f":"SUM(T4:T34)","v":2.2263888888888888}]
[null,null,null,null,null,null,null,null,null,null,null,null,null,null,null,null,null,null,null,{"$f":"T42*24","v":53.43333333333333},null,null,{"$f":"(T42-V38)*24","v":-94.766666666666666}]
[]
[null,null,null,null,null,"NOTES"]

{"sheet":"Octobre","index":10,"n_rows":45,"n_cols":23,"rows_kept":45,"cut":false,"hidden":false,"merged":[[0,1,0,22],[1,19,1,22],[44,5,44,16],[2,4,2,5],[2,7,2,8],[35,8,35,9],[37,19,37,20],[39,19,39,20],[41,17,41,18]]}
[null,"OCTOBRE"]
[null,null,null,null,null,null,null,null,null,null,null,null,null,null,null,null,null,null,null,"TOTAL"]
[null,"Date","Services","Obs.","MATIN",null,"Temps","APRES MIDI",null,"Temps","Prime nuit","PJ1","PJ2","Dimanche","Férié","ChècDej","PrimAmp","H Supp","Ampli","Heures","Centièmes","Kéolis","Écart"]
[null,"2018-10-01",null,null,{"$f":"IFERROR(VLOOKUP(C4,TR!$B$2:$F$633,2,0),\"\")","v":""},{"$f":"IFERROR(VLOOKUP(C4,TR!$B$2:$F$633,3,0),\"\")","v":""},{"$f":"IF(ISERROR(F4-E4),0,F4-E4)","v":"00:00:00"},{"$f":"IFERROR(VLOOKUP(C4,TR!$B$2:$F$633,4,0),\"\")","v":""},{"$f":"IFERROR(VLOOKUP(C4,TR!$B$2:$F$633,5,0),\"\")","v":""},{"$f":"IF(ISERROR(I4-H4),0,(I4-H4))","v":"00:00:00"},{"$f":"IF(COUNTA(E4:F4,H4:I4)=5,1,IF(AND(E4<\"5:00\"*1,E4>\"2:00\"*1),1,IF(AND(I4>=\"22:01\"*1,I4<=\"26:01\"*1),1,IF(AND(I4<=\"22:00\"*1,SUM(I4,R4)>=\"22:01\"*1),1,\"\"))))","v":""},{"$f":"IF(AND(F4>=\"13:15\"*1,H4<\"\"),1,IF(AND(H4>=\"11:00\"*1,H4<=\"12:15\"*1),1,IF(AND(F4<=\"13:15\"*1,SUM(F4,R4)>=\"13:15\"*1),1,\"\")))","v":""},{"$f":"IF(AND(I4>=\"19:30\"*1,1,I4>\"21:30\"*1,C4<>\"\"),1,IF(AND(I4<=\"21:30\"*1,SUM(I4,R4)>=\"21:30\"*1),1,\"\"))","v":""},{"$f":"IF(AND(LEFT(C4,1)=\"d\",AND(Septembre!N33<>1)),1,IF(AND(LEFT(C4,1)=\"s\",I4>=\"24:01\"*1),1,IF(AND(I4<>\"\",I4<=\"23:59\"*1,SUM(I4,R4)>=\"24:01\"*1),1,\"\")))","v":""},{"$f":"IF(AND(I4>\"24:00\"*1,ISNUMBER(FIND(\"f\",C5))),1,IF(AND(OR(ISNUMBER(FIND(\"FériéCC\",C4)),ISNUMBER(FIND(\"FériéCH\",C4)),ISNUMBER(FIND(\"f\",C4)))),1,\"\"))","v":""},{"$f":"IF(AND(L4=\"\",M4=\"\"),IF(OR(SUMPRODUCT(N(ISNUMBER(FIND({\"s\";\"d\";\"f\"},C4))))>0,G4+J4<0,AND(G4>0,J4>0,I4>\"20:30\"*1),AND(I4<=\"20:30\"*1,SUM(I4,R4)>=\"20:31\"*1)),1,\"\"),\"\")","v":""},{"$f":"IF(OR(AND(G4>0,AND(J4=0)),OR(G4=0,AND(J4>0)),OR(G4+J4>0)),IF(S4=\"\",\"\",IF(R4+S4>=\"13:01\"*1,1,\"\")))","v":""},null,{"$f":"IF(G4=0,IF(J4=0,\"\",I4-H4),IF(J4=0,F4-E4,I4-E4))","v":""},{"$f":"IF(ISERROR((F4-E4)+(I4-H4)),0,(F4-E4)+(I4-H4))","v":0},{"$f":"T4*24","v":0},null,{"$f":"IF(U4-V4=0,\"0,00\",U4-V4)","v":"0,00"}]
[null,"2018-10-02",null,null,{"$f":"IFERROR(VLOOKUP(C5,TR!$B$2:$F$633,2,0),\"\")","v":""},{"$f":"IFERROR(VLOOKUP(C5,TR!$B$2:$F$633,3,0),\"\")","v":""},{"$f":"IF(ISERROR(F5-E5),0,F5-E5)","v":"00:00:00"},{"$f":"IFERROR(VLOOKUP(C5,TR!$B$2:$F$633,4,0),\"\")","v":""},{"$f":"IFERROR(VLOOKUP(C5,TR!$B$2:$F$633,5,0),\"\")","v":""},{"$f":"IF(ISERROR(I5-H5),0,(I5-H5))","v":"00:00:00"},"",{"$f":"IF(AND(F5>=\"13:15\"*1,H5<\"\"),1,IF(AND(H5>=\"11:00\"*1,H5<=\"12:15\"*1),1,IF(AND(F5<=\"13:15\"*1,SUM(F5,R5)>=\"13:15\"*1),1,\"\")))","v":""},"",{"$f":"IF(AND(LEFT(C5,1)=\"d\",AND(N4<>1)),1,IF(AND(LEFT(C5,1)=\"s\",I5>=\"24:01\"*1),1,IF(AND(I5<>\"\",I5<=\"23:59\"*1,SUM(I5,R5)>=\"24:01\"*1),1,\"\")))","v":""},{"$f":"IF(AND(I5>\"24:00\"*1,ISNUMBER(FIND(\"f\",C6))),1,IF(AND(OR(ISNUMBER(FIND(\"FériéCC\",C5)),ISNUMBER(FIND(\"FériéCH\",C5)),ISNUMBER(FIND(\"f\",C5)))),1,\"\"))","v":""},{"$f":"IF(AND(L5=\"\",M5=\"\"),IF(OR(SUMPRODUCT(N(ISNUMBER(FIND({\"s\";\"d\";\"f\"},C5))))>0,G5+J5<0,AND(G5>0,J5>0,I5>\"20:30\"*1),AND(I5<=\"20:30\"*1,SUM(I5,R5)>=\"20:31\"*1)),1,\"\"),\"\")","v":""},{"$f":"IF(OR(AND(G5>0,AND(J5=0)),OR(G5=0,AND(J5>0)),OR(G5+J5>0)),IF(S5=\"\",\"\",IF(R5+S5>=\"13:01\"*1,1,\"\")))","v":""},null,"",0,{"$f":"T5*24","v":0},null,{"$f":"IF(U5-V5=0,\"0,00\",U5-V5)","v":"0,00"}]
[null,"2018-10-03",null,null,{"$f":"IFERROR(VLOOKUP(C6,TR!$B$2:$F$633,2,0),\"\")","v":""},{"$f":"IFERROR(VLOOKUP(C6,TR!$B$2:$F$633,3,0),\"\")","v":""},"00:00:00",{"$f":"IFERROR(VLOOKUP(C6,TR!$B$2:$F$633,4,0),\"\")","v":""},{"$f":"IFERROR(VLOOKUP(C6,TR!$B$2:$F$633,5,0),\"\")","v":""},"00:00:00","","","","","",{"$f":"IF(AND(L6=\"\",M6=\"\"),IF(OR(SUMPRODUCT(N(ISNUMBER(FIND({\"s\";\"d\";\"f\"},C6))))>0,G6+J6<0,AND(G6>0,J6>0,I6>\"20:30\"*1),AND(I6<=\"20:30\"*1,SUM(I6,R6)>=\"20:31\"*1)),1,\"\"),\"\")","v":""},"",null,"",0,{"$f":"T6*24","v":0},null,"0,00"]
[null,"2018-10-04",null,null,{"$f":"IFERROR(VLOOKUP(C7,TR!$B$2:$F$633,2,0),\"\")","v":""},{"$f":"IFERROR(VLOOKUP(C7,TR!$B$2:$F$633,3,0),\"\")","v":""},"00:00:00",{"$f":"IFERROR(VLOOKUP(C7,TR!$B$2:$F$633,4,0),\"\")","v":""},{"$f":"IFERROR(VLOOKUP(C7,TR!$B$2:$F$633,5,0),\"\")","v":""},"00:00:00","","","","","",{"$f":"IF(AND(L7=\"\",M7=\"\"),IF(OR(SUMPRODUCT(N(ISNUMBER(FIND({\"s\";\"d\";\"f\"},C7))))>0,G7+J7<0,AND(G7>0,J7>0,I7>\"20:30\"*1),AND(I7<=\"20:30\"*1,SUM(I7,R7)>=\"20:31\"*1)),1,\"\"),\"\")","v":""},"",null,"",0,{"$f":"T7*24","v":0},null,"0,00"]
[null,"2018-10-05",null,null,{"$f":"IFERROR(VLOOKUP(C8,TR!$B$2:$F$633,2,0),\"\")","v":""},{"$f":"IFERROR(VLOOKUP(C8,TR!$B$2:$F$633,3,0),\"\")","v":""},"00:00:00",{"$f":"IFERROR(VLOOKUP(C8,TR!$B$2:$F$633,4,0),\"\")","v":""},{"$f":"IFERROR(VLOOKUP(C8,TR!$B$2:$F$633,5,0),\"\")","v":""},"00:00:00","","","","","",{"$f":"IF(AND(L8=\"\",M8=\"\"),IF(OR(SUMPRODUCT(N(ISNUMBER(FIND({\"s\";\"d\";\"f\"},C8))))>0,G8+J8<0,AND(G8>0,J8>0,I8>\"20:30\"*1),AND(I8<=\"20:30\"*1,SUM(I8,R8)>=\"20:31\"*1)),1,\"\"),\"\")","v":""},"",null,"",0,0,null,"0,00"]
[null,"2018-10-06",null,null,{"$f":"IFERROR(VLOOKUP(C9,TR!$B$2:$F$633,2,0),\"\")","v":""},{"$f":"IFERROR(VLOOKUP(C9,TR!$B$2:$F$633,3,0),\"\")","v":""},"00:00:00",{"$f":"IFERROR(VLOOKUP(C9,TR!$B$2:$F$633,4,0),\"\")","v":""},{"$f":"IFERROR(VLOOKUP(C9,TR!$B$2:$F$633,5,0),\"\")","v":""},"00:00:00","","","","","",{"$f":"IF(AND(L9=\"\",M9=\"\"),IF(OR(SUMPRODUCT(N(ISNUMBER(FIND({\"s\";\"d\";\"f\"},C9))))>0,G9+J9<0,AND(G9>0,J9>0,I9>\"20:30\"*1),AND(I9<=\"20:30\"*1,SUM(I9,R9)>=\"20:31\"*1)),1,\"\"),\"\")","v":""},"",null,"",0,0,null,"0,00"]
[null,"2018-10-07",null,null,{"$f":"IFERROR(VLOOKUP(C10,TR!$B$2:$F$633,2,0),\"\")","v":""},{"$f":"IFERROR(VLOOKUP(C10,TR!$B$2:$F$633,3,0),\"\")","v":""},"00:00:00",{"$f":"IFERROR(VLOOKUP(C10,TR!$B$2:$F$633,4,0),\"\")","v":""},{"$f":"IFERROR(VLOOKUP(C10,TR!$B$2:$F$633,5,0),\"\")","v":""},"00:00:00","","","","","",{"$f":"IF(AND(L10=\"\",M10=\"\"),IF(OR(SUMPRODUCT(N(ISNUMBER(FIND({\"s\";\"d\";\"f\"},C10))))>0,G10+J10<0,AND(G10>0,J10>0,I10>\"20:30\"*1),AND(I10<=\"20:30\"*1,SUM(I10,R10)>=\"20:31\"*1)),1,\"\"),\"\")","v":""},"",null,"",0,0,null,"0,00"]
[null,"2018-10-08",null,null,{"$f":"IFERROR(VLOOKUP(C11,TR!$B$2:$F$633,2,0),\"\")","v":""},{"$f":"IFERROR(VLOOKUP(C11,TR!$B$2:$F$633,3,0),\"\")","v":""},"00:00:00",{"$f":"IFERROR(VLOOKUP(C11,TR!$B$2:$F$633,4,0),\"\")","v":""},{"$f":"IFERROR(VLOOKUP(C11,TR!$B$2:$F$633,5,0),\"\")","v":""},"00:00:00","","","","","",{"$f":"IF(AND(L11=\"\",M11=\"\"),IF(OR(SUMPRODUCT(N(ISNUMBER(FIND({\"s\";\"d\";\"f\"},C11))))>0,G11+J11<0,AND(G11>0,J11>0,I11>\"20:30\"*1),AND(I11<=\"20:30\"*1,SUM(I11,R11)>=\"20:31\"*1)),1,\"\"),\"\")","v":""},"",null,"",0,0,null,"0,00"]
[null,"2018-10-09",null,null,{"$f":"IFERROR(VLOOKUP(C12,TR!$B$2:$F$633,2,0),\"\")","v":""},{"$f":"IFERROR(VLOOKUP(C12,TR!$B$2:$F$633,3,0),\"\")","v":""},"00:00:00",{"$f":"IFERROR(VLOOKUP(C12,TR!$B$2:$F$633,4,0),\"\")","v":""},{"$f":"IFERROR(VLOOKUP(C12,TR!$B$2:$F$633,5,0),\"\")","v":""},"00:00:00","","","","","",{"$f":"IF(AND(L12=\"\",M12=\"\"),IF(OR(SUMPRODUCT(N(ISNUMBER(FIND({\"s\";\"d\";\"f\"},C12))))>0,G12+J12<0,AND(G12>0,J12>0,I12>\"20:30\"*1),AND(I12<=\"20:30\"*1,SUM(I12,R12)>=\"20:31\"*1)),1,\"\"),\"\")","v":""},"",null,"",0,0,null,"0,00"]
[null,"2018-10-10",null,null,{"$f":"IFERROR(VLOOKUP(C13,TR!$B$2:$F$633,2,0),\"\")","v":""},{"$f":"IFERROR(VLOOKUP(C13,TR!$B$2:$F$633,3,0),\"\")","v":""},"00:00:00",{"$f":"IFERROR(VLOOKUP(C13,TR!$B$2:$F$633,4,0),\"\")","v":""},{"$f":"IFERROR(VLOOKUP(C13,TR!$B$2:$F$633,5,0),\"\")","v":""},"00:00:00","","","","","",{"$f":"IF(AND(L13=\"\",M13=\"\"),IF(OR(SUMPRODUCT(N(ISNUMBER(FIND({\"s\";\"d\";\"f\"},C13))))>0,G13+J13<0,AND(G13>0,J13>0,I13>\"20:30\"*1),AND(I13<=\"20:30\"*1,SUM(I13,R13)>=\"20:31\"*1)),1,\"\"),\"\")","v":""},"",null,"",0,0,null,"0,00"]
[null,"2018-10-11",null,null,{"$f":"IFERROR(VLOOKUP(C14,TR!$B$2:$F$633,2,0),\"\")","v":""},{"$f":"IFERROR(VLOOKUP(C14,TR!$B$2:$F$633,3,0),\"\")","v":""},"00:00:00",{"$f":"IFERROR(VLOOKUP(C14,TR!$B$2:$F$633,4,0),\"\")","v":""},{"$f":"IFERROR(VLOOKUP(C14,TR!$B$2:$F$633,5,0),\"\")","v":""},"00:00:00","","","","","",{"$f":"IF(AND(L14=\"\",M14=\"\"),IF(OR(SUMPRODUCT(N(ISNUMBER(FIND({\"s\";\"d\";\"f\"},C14))))>0,G14+J14<0,AND(G14>0,J14>0,I14>\"20:30\"*1),AND(I14<=\"20:30\"*1,SUM(I14,R14)>=\"20:31\"*1)),1,\"\"),\"\")","v":""},"",null,"",0,0,null,"0,00"]
[null,"2018-10-12",null,null,{"$f":"IFERROR(VLOOKUP(C15,TR!$B$2:$F$633,2,0),\"\")","v":""},{"$f":"IFERROR(VLOOKUP(C15,TR!$B$2:$F$633,3,0),\"\")","v":""},"00:00:00",{"$f":"IFERROR(VLOOKUP(C15,TR!$B$2:$F$633,4,0),\"\")","v":""},{"$f":"IFERROR(VLOOKUP(C15,TR!$B$2:$F$633,5,0),\"\")","v":""},"00:00:00","","","","","",{"$f":"IF(AND(L15=\"\",M15=\"\"),IF(OR(SUMPRODUCT(N(ISNUMBER(FIND({\"s\";\"d\";\"f\"},C15))))>0,G15+J15<0,AND(G15>0,J15>0,I15>\"20:30\"*1),AND(I15<=\"20:30\"*1,SUM(I15,R15)>=\"20:31\"*1)),1,\"\"),\"\")","v":""},"",null,"",0,0,null,"0,00"]
[null,"2018-10-13",null,null,{"$f":"IFERROR(VLOOKUP(C16,TR!$B$2:$F$633,2,0),\"\")","v":""},{"$f":"IFERROR(VLOOKUP(C16,TR!$B$2:$F$633,3,0),\"\")","v":""},"00:00:00",{"$f":"IFERROR(VLOOKUP(C16,TR!$B$2:$F$633,4,0),\"\")","v":""},{"$f":"IFERROR(VLOOKUP(C16,TR!$B$2:$F$633,5,0),\"\")","v":""},"00:00:00","","","","","",{"$f":"IF(AND(L16=\"\",M16=\"\"),IF(OR(SUMPRODUCT(N(ISNUMBER(FIND({\"s\";\"d\";\"f\"},C16))))>0,G16+J16<0,AND(G16>0,J16>0,I16>\"20:30\"*1),AND(I16<=\"20:30\"*1,SUM(I16,R16)>=\"20:31\"*1)),1,\"\"),\"\")","v":""},"",null,"",0,0,null,"0,00"]
[null,"2018-10-14",null,null,{"$f":"IFERROR(VLOOKUP(C17,TR!$B$2:$F$633,2,0),\"\")","v":""},{"$f":"IFERROR(VLOOKUP(C17,TR!$B$2:$F$633,3,0),\"\")","v":""},"00:00:00",{"$f":"IFERROR(VLOOKUP(C17,TR!$B$2:$F$633,4,0),\"\")","v":""},{"$f":"IFERROR(VLOOKUP(C17,TR!$B$2:$F$633,5,0),\"\")","v":""},"00:00:00","","","","","",{"$f":"IF(AND(L17=\"\",M17=\"\"),IF(OR(SUMPRODUCT(N(ISNUMBER(FIND({\"s\";\"d\";\"f\"},C17))))>0,G17+J17<0,AND(G17>0,J17>0,I17>\"20:30\"*1),AND(I17<=\"20:30\"*1,SUM(I17,R17)>=\"20:31\"*1)),1,\"\"),\"\")","v":""},"",null,"",0,0,null,"0,00"]
[null,"2018-10-15",null,null,{"$f":"IFERROR(VLOOKUP(C18,TR!$B$2:$F$633,2,0),\"\")","v":""},{"$f":"IFERROR(VLOOKUP(C18,TR!$B$2:$F$633,3,0),\"\")","v":""},"00:00:00",{"$f":"IFERROR(VLOOKUP(C18,TR!$B$2:$F$633,4,0),\"\")","v":""},{"$f":"IFERROR(VLOOKUP(C18,TR!$B$2:$F$633,5,0),\"\")","v":""},"00:00:00","","","","","",{"$f":"IF(AND(L18=\"\",M18=\"\"),IF(OR(SUMPRODUCT(N(ISNUMBER(FIND({\"s\";\"d\";\"f\"},C18))))>0,G18+J18<0,AND(G18>0,J18>0,I18>\"20:30\"*1),AND(I18<=\"20:30\"*1,SUM(I18,R18)>=\"20:31\"*1)),1,\"\"),\"\")","v":""},"",null,"",0,0,null,"0,00"]
[null,"2018-10-16",null,null,{"$f":"IFERROR(VLOOKUP(C19,TR!$B$2:$F$633,2,0),\"\")","v":""},{"$f":"IFERROR(VLOOKUP(C19,TR!$B$2:$F$633,3,0),\"\")","v":""},"00:00:00",{"$f":"IFERROR(VLOOKUP(C19,TR!$B$2:$F$633,4,0),\"\")","v":""},{"$f":"IFERROR(VLOOKUP(C19,TR!$B$2:$F$633,5,0),\"\")","v":""},"00:00:00","","","","","",{"$f":"IF(AND(L19=\"\",M19=\"\"),IF(OR(SUMPRODUCT(N(ISNUMBER(FIND({\"s\";\"d\";\"f\"},C19))))>0,G19+J19<0,AND(G19>0,J19>0,I19>\"20:30\"*1),AND(I19<=\"20:30\"*1,SUM(I19,R19)>=\"20:31\"*1)),1,\"\"),\"\")","v":""},"",null,"",0,0,null,"0,00"]
[null,"2018-10-17",null,null,{"$f":"IFERROR(VLOOKUP(C20,TR!$B$2:$F$633,2,0),\"\")","v":""},{"$f":"IFERROR(VLOOKUP(C20,TR!$B$2:$F$633,3,0),\"\")","v":""},"00:00:00",{"$f":"IFERROR(VLOOKUP(C20,TR!$B$2:$F$633,4,0),\"\")","v":""},{"$f":"IFERROR(VLOOKUP(C20,TR!$B$2:$F$633,5,0),\"\")","v":""},"00:00:00","","","","","",{"$f":"IF(AND(L20=\"\",M20=\"\"),IF(OR(SUMPRODUCT(N(ISNUMBER(FIND({\"s\";\"d\";\"f\"},C20))))>0,G20+J20<0,AND(G20>0,J20>0,I20>\"20:30\"*1),AND(I20<=\"20:30\"*1,SUM(I20,R20)>=\"20:31\"*1)),1,\"\"),\"\")","v":""},"",null,"",0,0,null,"0,00"]
[null,"2018-10-18",null,null,{"$f":"IFERROR(VLOOKUP(C21,TR!$B$2:$F$633,2,0),\"\")","v":""},{"$f":"IFERROR(VLOOKUP(C21,TR!$B$2:$F$633,3,0),\"\")","v":""},"00:00:00",{"$f":"IFERROR(VLOOKUP(C21,TR!$B$2:$F$633,4,0),\"\")","v":""},{"$f":"IFERROR(VLOOKUP(C21,TR!$B$2:$F$633,5,0),\"\")","v":""},"00:00:00","","","","","",{"$f":"IF(AND(L21=\"\",M21=\"\"),IF(OR(SUMPRODUCT(N(ISNUMBER(FIND({\"s\";\"d\";\"f\"},C21))))>0,G21+J21<0,AND(G21>0,J21>0,I21>\"20:30\"*1),AND(I21<=\"20:30\"*1,SUM(I21,R21)>=\"20:31\"*1)),1,\"\"),\"\")","v":""},"",null,"",0,0,null,"0,00"]
[null,"2018-10-19",null,null,{"$f":"IFERROR(VLOOKUP(C22,TR!$B$2:$F$633,2,0),\"\")","v":""},{"$f":"IFERROR(VLOOKUP(C22,TR!$B$2:$F$633,3,0),\"\")","v":""},"00:00:00",{"$f":"IFERROR(VLOOKUP(C22,TR!$B$2:$F$633,4,0),\"\")","v":""},{"$f":"IFERROR(VLOOKUP(C22,TR!$B$2:$F$633,5,0),\"\")","v":""},"00:00:00","","","","","",{"$f":"IF(AND(L22=\"\",M22=\"\"),IF(OR(SUMPRODUCT(N(ISNUMBER(FIND({\"s\";\"d\";\"f\"},C22))))>0,G22+J22<0,AND(G22>0,J22>0,I22>\"20:30\"*1),AND(I22<=\"20:30\"*1,SUM(I22,R22)>=\"20:31\"*1)),1,\"\"),\"\")","v":""},"",null,"",0,0,null,"0,00"]
[null,"2018-10-20",null,null,{"$f":"IFERROR(VLOOKUP(C23,TR!$B$2:$F$633,2,0),\"\")","v":""},{"$f":"IFERROR(VLOOKUP(C23,TR!$B$2:$F$633,3,0),\"\")","v":""},"00:00:00",{"$f":"IFERROR(VLOOKUP(C23,TR!$B$2:$F$633,4,0),\"\")","v":""},{"$f":"IFERROR(VLOOKUP(C23,TR!$B$2:$F$633,5,0),\"\")","v":""},"00:00:00","","","","","",{"$f":"IF(AND(L23=\"\",M23=\"\"),IF(OR(SUMPRODUCT(N(ISNUMBER(FIND({\"s\";\"d\";\"f\"},C23))))>0,G23+J23<0,AND(G23>0,J23>0,I23>\"20:30\"*1),AND(I23<=\"20:30\"*1,SUM(I23,R23)>=\"20:31\"*1)),1,\"\"),\"\")","v":""},"",null,"",0,0,null,"0,00"]
[null,"2018-10-21",null,null,{"$f":"IFERROR(VLOOKUP(C24,TR!$B$2:$F$633,2,0),\"\")","v":""},{"$f":"IFERROR(VLOOKUP(C24,TR!$B$2:$F$633,3,0),\"\")","v":""},"00:00:00",{"$f":"IFERROR(VLOOKUP(C24,TR!$B$2:$F$633,4,0),\"\")","v":""},{"$f":"IFERROR(VLOOKUP(C24,TR!$B$2:$F$633,5,0),\"\")","v":""},"00:00:00","","","","","",{"$f":"IF(AND(L24=\"\",M24=\"\"),IF(OR(SUMPRODUCT(N(ISNUMBER(FIND({\"s\";\"d\";\"f\"},C24))))>0,G24+J24<0,AND(G24>0,J24>0,I24>\"20:30\"*1),AND(I24<=\"20:30\"*1,SUM(I24,R24)>=\"20:31\"*1)),1,\"\"),\"\")","v":""},"",null,"",0,0,null,"0,00"]
[null,"2018-10-22",null,null,{"$f":"IFERROR(VLOOKUP(C25,TR!$B$2:$F$633,2,0),\"\")","v":""},{"$f":"IFERROR(VLOOKUP(C25,TR!$B$2:$F$633,3,0),\"\")","v":""},"00:00:00",{"$f":"IFERROR(VLOOKUP(C25,TR!$B$2:$F$633,4,0),\"\")","v":""},{"$f":"IFERROR(VLOOKUP(C25,TR!$B$2:$F$633,5,0),\"\")","v":""},"00:00:00","","","","","",{"$f":"IF(AND(L25=\"\",M25=\"\"),IF(OR(SUMPRODUCT(N(ISNUMBER(FIND({\"s\";\"d\";\"f\"},C25))))>0,G25+J25<0,AND(G25>0,J25>0,I25>\"20:30\"*1),AND(I25<=\"20:30\"*1,SUM(I25,R25)>=\"20:31\"*1)),1,\"\"),\"\")","v":""},"",null,"",0,0,null,"0,00"]
[null,"2018-10-23",null,null,{"$f":"IFERROR(VLOOKUP(C26,TR!$B$2:$F$633,2,0),\"\")","v":""},{"$f":"IFERROR(VLOOKUP(C26,TR!$B$2:$F$633,3,0),\"\")","v":""},"00:00:00",{"$f":"IFERROR(VLOOKUP(C26,TR!$B$2:$F$633,4,0),\"\")","v":""},{"$f":"IFERROR(VLOOKUP(C26,TR!$B$2:$F$633,5,0),\"\")","v":""},"00:00:00","","","","","",{"$f":"IF(AND(L26=\"\",M26=\"\"),IF(OR(SUMPRODUCT(N(ISNUMBER(FIND({\"s\";\"d\";\"f\"},C26))))>0,G26+J26<0,AND(G26>0,J26>0,I26>\"20:30\"*1),AND(I26<=\"20:30\"*1,SUM(I26,R26)>=\"20:31\"*1)),1,\"\"),\"\")","v":""},"",null,"",0,0,null,"0,00"]
[null,"2018-10-24",null,null,{"$f":"IFERROR(VLOOKUP(C27,TR!$B$2:$F$633,2,0),\"\")","v":""},{"$f":"IFERROR(VLOOKUP(C27,TR!$B$2:$F$633,3,0),\"\")","v":""},"00:00:00",{"$f":"IFERROR(VLOOKUP(C27,TR!$B$2:$F$633,4,0),\"\")","v":""},{"$f":"IFERROR(VLOOKUP(C27,TR!$B$2:$F$633,5,0),\"\")","v":""},"00:00:00","","","","","",{"$f":"IF(AND(L27=\"\",M27=\"\"),IF(OR(SUMPRODUCT(N(ISNUMBER(FIND({\"s\";\"d\";\"f\"},C27))))>0,G27+J27<0,AND(G27>0,J27>0,I27>\"20:30\"*1),AND(I27<=\"20:30\"*1,SUM(I27,R27)>=\"20:31\"*1)),1,\"\"),\"\")","v":""},"",null,"",0,0,null,"0,00"]
[null,"2018-10-25",null,null,{"$f":"IFERROR(VLOOKUP(C28,TR!$B$2:$F$633,2,0),\"\")","v":""},{"$f":"IFERROR(VLOOKUP(C28,TR!$B$2:$F$633,3,0),\"\")","v":""},"00:00:00",{"$f":"IFERROR(VLOOKUP(C28,TR!$B$2:$F$633,4,0),\"\")","v":""},{"$f":"IFERROR(VLOOKUP(C28,TR!$B$2:$F$633,5,0),\"\")","v":""},"00:00:00","","","","","",{"$f":"IF(AND(L28=\"\",M28=\"\"),IF(OR(SUMPRODUCT(N(ISNUMBER(FIND({\"s\";\"d\";\"f\"},C28))))>0,G28+J28<0,AND(G28>0,J28>0,I28>\"20:30\"*1),AND(I28<=\"20:30\"*1,SUM(I28,R28)>=\"20:31\"*1)),1,\"\"),\"\")","v":""},"",null,"",0,0,null,"0,00"]
[null,"2018-10-26",null,null,{"$f":"IFERROR(VLOOKUP(C29,TR!$B$2:$F$633,2,0),\"\")","v":""},{"$f":"IFERROR(VLOOKUP(C29,TR!$B$2:$F$633,3,0),\"\")","v":""},"00:00:00",{"$f":"IFERROR(VLOOKUP(C29,TR!$B$2:$F$633,4,0),\"\")","v":""},{"$f":"IFERROR(VLOOKUP(C29,TR!$B$2:$F$633,5,0),\"\")","v":""},"00:00:00","","","","","",{"$f":"IF(AND(L29=\"\",M29=\"\"),IF(OR(SUMPRODUCT(N(ISNUMBER(FIND({\"s\";\"d\";\"f\"},C29))))>0,G29+J29<0,AND(G29>0,J29>0,I29>\"20:30\"*1),AND(I29<=\"20:30\"*1,SUM(I29,R29)>=\"20:31\"*1)),1,\"\"),\"\")","v":""},"",null,"",0,0,null,"0,00"]
[null,"2018-10-27",null,null,{"$f":"IFERROR(VLOOKUP(C30,TR!$B$2:$F$633,2,0),\"\")","v":""},{"$f":"IFERROR(VLOOKUP(C30,TR!$B$2:$F$633,3,0),\"\")","v":""},"00:00:00",{"$f":"IFERROR(VLOOKUP(C30,TR!$B$2:$F$633,4,0),\"\")","v":""},{"$f":"IFERROR(VLOOKUP(C30,TR!$B$2:$F$633,5,0),\"\")","v":""},"00:00:00","","","","","",{"$f":"IF(AND(L30=\"\",M30=\"\"),IF(OR(SUMPRODUCT(N(ISNUMBER(FIND({\"s\";\"d\";\"f\"},C30))))>0,G30+J30<0,AND(G30>0,J30>0,I30>\"20:30\"*1),AND(I30<=\"20:30\"*1,SUM(I30,R30)>=\"20:31\"*1)),1,\"\"),\"\")","v":""},"",null,"",0,0,null,"0,00"]
[null,"2018-10-28",null,null,{"$f":"IFERROR(VLOOKUP(C31,TR!$B$2:$F$633,2,0),\"\")","v":""},{"$f":"IFERROR(VLOOKUP(C31,TR!$B$2:$F$633,3,0),\"\")","v":""},"00:00:00",{"$f":"IFERROR(VLOOKUP(C31,TR!$B$2:$F$633,4,0),\"\")","v":""},{"$f":"IFERROR(VLOOKUP(C31,TR!$B$2:$F$633,5,0),\"\")","v":""},"00:00:00","","","","","",{"$f":"IF(AND(L31=\"\",M31=\"\"),IF(OR(SUMPRODUCT(N(ISNUMBER(FIND({\"s\";\"d\";\"f\"},C31))))>0,G31+J31<0,AND(G31>0,J31>0,I31>\"20:30\"*1),AND(I31<=\"20:30\"*1,SUM(I31,R31)>=\"20:31\"*1)),1,\"\"),\"\")","v":""},"",null,"",0,0,null,"0,00"]
[null,"2018-10-29",null,null,{"$f":"IFERROR(VLOOKUP(C32,TR!$B$2:$F$633,2,0),\"\")","v":""},{"$f":"IFERROR(VLOOKUP(C32,TR!$B$2:$F$633,3,0),\"\")","v":""},"00:00:00",{"$f":"IFERROR(VLOOKUP(C32,TR!$B$2:$F$633,4,0),\"\")","v":""},{"$f":"IFERROR(VLOOKUP(C32,TR!$B$2:$F$633,5,0),\"\")","v":""},"00:00:00","","","","","",{"$f":"IF(AND(L32=\"\",M32=\"\"),IF(OR(SUMPRODUCT(N(ISNUMBER(FIND({\"s\";\"d\";\"f\"},C32))))>0,G32+J32<0,AND(G32>0,J32>0,I32>\"20:30\"*1),AND(I32<=\"20:30\"*1,SUM(I32,R32)>=\"20:31\"*1)),1,\"\"),\"\")","v":""},"",null,"",0,0,null,"0,00"]
[null,"2018-10-30",null,null,{"$f":"IFERROR(VLOOKUP(C33,TR!$B$2:$F$633,2,0),\"\")","v":""},{"$f":"IFERROR(VLOOKUP(C33,TR!$B$2:$F$633,3,0),\"\")","v":""},"00:00:00",{"$f":"IFERROR(VLOOKUP(C33,TR!$B$2:$F$633,4,0),\"\")","v":""},{"$f":"IFERROR(VLOOKUP(C33,TR!$B$2:$F$633,5,0),\"\")","v":""},"00:00:00","","","","","",{"$f":"IF(AND(L33=\"\",M33=\"\"),IF(OR(SUMPRODUCT(N(ISNUMBER(FIND({\"s\";\"d\";\"f\"},C33))))>0,G33+J33<0,AND(G33>0,J33>0,I33>\"20:30\"*1),AND(I33<=\"20:30\"*1,SUM(I33,R33)>=\"20:31\"*1)),1,\"\"),\"\")","v":""},"",null,"",0,0,null,"0,00"]
[null,"2018-10-31",null,null,{"$f":"IFERROR(VLOOKUP(C34,TR!$B$2:$F$633,2,0),\"\")","v":""},{"$f":"IFERROR(VLOOKUP(C34,TR!$B$2:$F$633,3,0),\"\")","v":""},"00:00:00",{"$f":"IFERROR(VLOOKUP(C34,TR!$B$2:$F$633,4,0),\"\")","v":""},{"$f":"IFERROR(VLOOKUP(C34,TR!$B$2:$F$633,5,0),\"\")","v":""},"00:00:00","","","","","",{"$f":"IF(AND(L34=\"\",M34=\"\"),IF(OR(SUMPRODUCT(N(ISNUMBER(FIND({\"s\";\"d\";\"f\"},C34))))>0,G34+J34<0,AND(G34>0,J34>0,I34>\"20:30\"*1),AND(I34<=\"20:30\"*1,SUM(I34,R34)>=\"20:31\"*1)),1,\"\"),\"\")","v":""},"",null,"",0,0,null,"0,00"]
[]
[null,"Jours travaillés",{"$f":"(COUNTIF(Septembre!C24:C34,\"<>\")+COUNTIF(Octobre!C4:C23,\"<>\"))-(COUNTIF(Septembre!C24:C34,\"CC*\")+COUNTIF(Octobre!C4:C23,\"CC*\"))-(COUNTIF(Septembre!C24:C34,\"CH*\")+COUNTIF(Octobre!C4:C23,\"CH*\"))-(COUNTIF(Septembre!C24:C34,\"RT*\")+COUNTIF(Octobre!C4:C23,\"RT*\"))-(COUNTIF(Septembre!C24:C34,\"Férié*\")+COUNTIF(Octobre!C4:C23,\"Férié*\"))-(COUNTIF(Septembre!C24:C34,\"Mal*\")+COUNTIF(Octobre!C4:C23,\"Mal*\"))-(COUNTIF(Septembre!C24:C34,\"CP*\")+COUNTIF(Octobre!C4:C23,\"CP*\"))","v":6},null,null,null,null,null,"Du 21 au 20",null,{"$f":"SUM(Septembre!$K$24:$K$34,K4:K23)","v":0},{"$f":"SUM(Septembre!$L$24:$L$34,L4:L23)","v":0},{"$f":"SUM(Septembre!$M$24:$M$34,M4:M23)","v":6},{"$f":"SUM(Septembre!$N$24:$N$34,N4:N23)","v":0},{"$f":"SUM(Septembre!$O$24:$O$34,O4:O23)","v":0},{"$f":"SUM(Septembre!$P$24:$P$34,P4:P23)","v":0},{"$f":"SUM(Septembre!$Q$24:$Q$34,Q4:Q23)","v":0},{"$f":"SUM(Septembre!$R$24:$R$34,R4:R23)","v":0},null,{"$f":"SUM(Septembre!T24:T34)+SUM(Octobre!T4:T23)","v":0},{"$f":"SUM(U4:U34)","v":0},{"$f":"SUM(V4:V34)","v":0}]
[null,"CP",{"$f":"(COUNTIF(Septembre!C24:C34,\"CP\")+COUNTIF(Octobre!C4:C23,\"CP\"))","v":0},null,null,null,null,null,null,null,{"$f":"(I39*2)*K36","v":0},{"$f":"Recap!H35*L36","v":0},{"$f":"Recap!H35*M36","v":42.839999999999996},{"$f":"(L39*5)*N36","v":0},{"$f":"(Recap!H33)*O36","v":0},{"$f":"7.5*P36","v":0},{"$f":"(I39*1.5)*Q36","v":0},{"$f":"R36*24","v":0}]
[null,"CH",{"$f":"(COUNTIF(Septembre!C24:C34,\"CH\")+COUNTIF(Octobre!C4:C23,\"CH\"))","v":2},null,null,null,null,null,"VP",null,null,null,null,null,null,null,null,null,null,"Horaire mensuel",null,6.1749999999999998,{"$f":"V38*24","v":148.19999999999999}]
[null,"RT",{"$f":"(COUNTIF(Septembre!C24:C34,\"RT\")+COUNTIF(Octobre!C4:C23,\"RT\"))","v":0},null,null,null,null,null,8.8528000000000002]
[null,"CC",{"$f":"(COUNTIF(Septembre!C24:C34,\"CC\")+COUNTIF(Octobre!C4:C23,\"CC\"))","v":2},null,null,null,null,null,null,null,null,null,null,null,null,null,null,null,null,"Différence",null,{"$f":"IF(V38>T36,\"-\",\"\")&TEXT(ABS(T36-V38),\"[h]:mm\")","v":"-148:12"},{"$f":"(T36-V38)*24","v":-148.19999999999999}]
[null,"Férié",{"$f":"(COUNTIF(Septembre!C24:C34,\"Férié\")+COUNTIF(Octobre!C4:C23,\"Férié\"))","v":0}]
[null,"Férié CC-CH-RT",{"$f":"(COUNTIF(Septembre!C24:C34,\"FériéCC\")+COUNTIF(Octobre!C4:C23,\"FériéCC\")+(COUNTIF(Septembre!C24:C34,\"FériéCH\")+COUNTIF(Octobre!C4:C23,\"FériéCH\")+(COUNTIF(Septembre!C24:C34,\"FériéRT\")+COUNTIF(Octobre!C4:C23,\"FériéRT\"))))","v":0},null,null,null,null,null,null,null,null,null,null,null,null,null,null,"Heures réelles",null,{"$f":"SUM(T4:T34)","v":0}]
[null,null,null,null,null,null,null,null,null,null,null,null,null,null,null,null,null,null,null,{"$f":"T42*24","v":0},null,null,{"$f":"(T42-V38)*24","v":-148.19999999999999}]
[]
[null,null,null,null,null,"NOTES"]

{"sheet":"Novembre","index":11,"n_rows":45,"n_cols":23,"rows_kept":45,"cut":false,"hidden":false,"merged":[[0,1,0,22],[1,19,1,22],[44,5,44,16],[2,4,2,5],[2,7,2,8],[35,8,35,9],[37,19,37,20],[39,19,39,20],[41,17,41,18]]}
[null,"NOVEMBRE"]
[null,null,null,null,null,null,null,null,null,null,null,null,null,null,null,null,null,null,null,"TOTAL"]
[null,"Date","Services","Obs.","MATIN",null,"Temps","APRES MIDI",null,"Temps","Prime nuit","PJ1","PJ2","Dimanche","Férié","ChècDej","PrimAmp","H Supp","Ampli","Heures","Centièmes","Kéolis","Écart"]
[null,"2018-11-01",null,null,{"$f":"IFERROR(VLOOKUP(C4,TR!$B$2:$F$633,2,0),\"\")","v":""},{"$f":"IFERROR(VLOOKUP(C4,TR!$B$2:$F$633,3,0),\"\")","v":""},{"$f":"IF(ISERROR(F4-E4),0,F4-E4)","v":"00:00:00"},{"$f":"IFERROR(VLOOKUP(C4,TR!$B$2:$F$633,4,0),\"\")","v":""},{"$f":"IFERROR(VLOOKUP(C4,TR!$B$2:$F$633,5,0),\"\")","v":""},{"$f":"IF(ISERROR(I4-H4),0,(I4-H4))","v":"00:00:00"},{"$f":"IF(COUNTA(E4:F4,H4:I4)=5,1,IF(AND(E4<\"5:00\"*1,E4>\"2:00\"*1),1,IF(AND(I4>=\"22:01\"*1,I4<=\"26:01\"*1),1,IF(AND(I4<=\"22:00\"*1,SUM(I4,R4)>=\"22:01\"*1),1,\"\"))))","v":""},{"$f":"IF(AND(F4>=\"13:15\"*1,H4<\"\"),1,IF(AND(H4>=\"11:00\"*1,H4<=\"12:15\"*1),1,IF(AND(F4<=\"13:15\"*1,SUM(F4,R4)>=\"13:15\"*1),1,\"\")))","v":""},{"$f":"IF(AND(I4>=\"19:30\"*1,1,I4>\"21:30\"*1,C4<>\"\"),1,IF(AND(I4<=\"21:30\"*1,SUM(I4,R4)>=\"21:30\"*1),1,\"\"))","v":""},{"$f":"IF(AND(LEFT(C4,1)=\"d\",AND(Octobre!N34<>1)),1,IF(AND(LEFT(C4,1)=\"s\",I4>=\"24:01\"*1),1,IF(AND(I4<>\"\",I4<=\"23:59\"*1,SUM(I4,R4)>=\"24:01\"*1),1,\"\")))","v":""},{"$f":"IF(AND(I4>\"24:00\"*1,ISNUMBER(FIND(\"f\",C5))),1,IF(AND(OR(ISNUMBER(FIND(\"FériéCC\",C4)),ISNUMBER(FIND(\"FériéCH\",C4)),ISNUMBER(FIND(\"f\",C4)))),1,\"\"))","v":""},{"$f":"IF(AND(L4=\"\",M4=\"\"),IF(OR(SUMPRODUCT(N(ISNUMBER(FIND({\"s\";\"d\";\"f\"},C4))))>0,G4+J4<0,AND(G4>0,J4>0,I4>\"20:30\"*1),AND(I4<=\"20:30\"*1,SUM(I4,R4)>=\"20:31\"*1)),1,\"\"),\"\")","v":""},{"$f":"IF(OR(AND(G4>0,AND(J4=0)),OR(G4=0,AND(J4>0)),OR(G4+J4>0)),IF(R4=\"\",\"\",IF(#REF!+R4>=\"13:01\"*1,1,\"\")))","v":""},null,{"$f":"IF(G4=0,IF(J4=0,\"\",I4-H4),IF(J4=0,F4-E4,I4-E4))","v":""},{"$f":"IF(ISERROR((F4-E4)+(I4-H4)),0,(F4-E4)+(I4-H4))","v":0},{"$f":"T4*24","v":0},null,{"$f":"IF(U4-V4=0,\"0,00\",U4-V4)","v":"0,00"}]
[null,"2018-11-02",null,null,{"$f":"IFERROR(VLOOKUP(C5,TR!$B$2:$F$633,2,0),\"\")","v":""},{"$f":"IFERROR(VLOOKUP(C5,TR!$B$2:$F$633,3,0),\"\")","v":""},{"$f":"IF(ISERROR(F5-E5),0,F5-E5)","v":"00:00:00"},{"$f":"IFERROR(VLOOKUP(C5,TR!$B$2:$F$633,4,0),\"\")","v":""},{"$f":"IFERROR(VLOOKUP(C5,TR!$B$2:$F$633,5,0),\"\")","v":""},{"$f":"IF(ISERROR(I5-H5),0,(I5-H5))","v":"00:00:00"},"","","",{"$f":"IF(AND(LEFT(C5,1)=\"d\",AND(N4<>1)),1,IF(AND(LEFT(C5,1)=\"s\",I5>=\"24:01\"*1),1,IF(AND(I5<>\"\",I5<=\"23:59\"*1,SUM(I5,R5)>=\"24:01\"*1),1,\"\")))","v":""},{"$f":"IF(AND(I5>\"24:00\"*1,ISNUMBER(FIND(\"f\",C6))),1,IF(AND(OR(ISNUMBER(FIND(\"FériéCC\",C5)),ISNUMBER(FIND(\"FériéCH\",C5)),ISNUMBER(FIND(\"f\",C5)))),1,\"\"))","v":""},{"$f":"IF(AND(L5=\"\",M5=\"\"),IF(OR(SUMPRODUCT(N(ISNUMBER(FIND({\"s\";\"d\";\"f\"},C5))))>0,G5+J5<0,AND(G5>0,J5>0,I5>\"20:30\"*1),AND(I5<=\"20:30\"*1,SUM(I5,R5)>=\"20:31\"*1)),1,\"\"),\"\")","v":""},{"$f":"IF(OR(AND(G5>0,AND(J5=0)),OR(G5=0,AND(J5>0)),OR(G5+J5>0)),IF(R5=\"\",\"\",IF(#REF!+R5>=\"13:01\"*1,1,\"\")))","v":""},null,"",0,{"$f":"T5*24","v":0},null,{"$f":"IF(U5-V5=0,\"0,00\",U5-V5)","v":"0,00"}]
[null,"2018-11-03",null,null,{"$f":"IFERROR(VLOOKUP(C6,TR!$B$2:$F$633,2,0),\"\")","v":""},{"$f":"IFERROR(VLOOKUP(C6,TR!$B$2:$F$633,3,0),\"\")","v":""},"00:00:00",{"$f":"IFERROR(VLOOKUP(C6,TR!$B$2:$F$633,4,0),\"\")","v":""},{"$f":"IFERROR(VLOOKUP(C6,TR!$B$2:$F$633,5,0),\"\")","v":""},"00:00:00","","","","","",{"$f":"IF(AND(L6=\"\",M6=\"\"),IF(OR(SUMPRODUCT(N(ISNUMBER(FIND({\"s\";\"d\";\"f\"},C6))))>0,G6+J6<0,AND(G6>0,J6>0,I6>\"20:30\"*1),AND(I6<=\"20:30\"*1,SUM(I6,R6)>=\"20:31\"*1)),1,\"\"),\"\")","v":""},{"$f":"IF(OR(AND(G6>0,AND(J6=0)),OR(G6=0,AND(J6>0)),OR(G6+J6>0)),IF(R6=\"\",\"\",IF(#REF!+R6>=\"13:01\"*1,1,\"\")))","v":""},null,"",0,{"$f":"T6*24","v":0},null,"0,00"]
[null,"2018-11-04",null,null,{"$f":"IFERROR(VLOOKUP(C7,TR!$B$2:$F$633,2,0),\"\")","v":""},{"$f":"IFERROR(VLOOKUP(C7,TR!$B$2:$F$633,3,0),\"\")","v":""},"00:00:00",{"$f":"IFERROR(VLOOKUP(C7,TR!$B$2:$F$633,4,0),\"\")","v":""},{"$f":"IFERROR(VLOOKUP(C7,TR!$B$2:$F$633,5,0),\"\")","v":""},"00:00:00","","","","","",{"$f":"IF(AND(L7=\"\",M7=\"\"),IF(OR(SUMPRODUCT(N(ISNUMBER(FIND({\"s\";\"d\";\"f\"},C7))))>0,G7+J7<0,AND(G7>0,J7>0,I7>\"20:30\"*1),AND(I7<=\"20:30\"*1,SUM(I7,R7)>=\"20:31\"*1)),1,\"\"),\"\")","v":""},{"$f":"IF(OR(AND(G7>0,AND(J7=0)),OR(G7=0,AND(J7>0)),OR(G7+J7>0)),IF(R7=\"\",\"\",IF(#REF!+R7>=\"13:01\"*1,1,\"\")))","v":""},null,"",0,{"$f":"T7*24","v":0},null,"0,00"]
[null,"2018-11-05",null,null,{"$f":"IFERROR(VLOOKUP(C8,TR!$B$2:$F$633,2,0),\"\")","v":""},{"$f":"IFERROR(VLOOKUP(C8,TR!$B$2:$F$633,3,0),\"\")","v":""},"00:00:00",{"$f":"IFERROR(VLOOKUP(C8,TR!$B$2:$F$633,4,0),\"\")","v":""},{"$f":"IFERROR(VLOOKUP(C8,TR!$B$2:$F$633,5,0),\"\")","v":""},"00:00:00","","","","","",{"$f":"IF(AND(L8=\"\",M8=\"\"),IF(OR(SUMPRODUCT(N(ISNUMBER(FIND({\"s\";\"d\";\"f\"},C8))))>0,G8+J8<0,AND(G8>0,J8>0,I8>\"20:30\"*1),AND(I8<=\"20:30\"*1,SUM(I8,R8)>=\"20:31\"*1)),1,\"\"),\"\")","v":""},{"$f":"IF(OR(AND(G8>0,AND(J8=0)),OR(G8=0,AND(J8>0)),OR(G8+J8>0)),IF(R8=\"\",\"\",IF(#REF!+R8>=\"13:01\"*1,1,\"\")))","v":""},null,"",0,0,null,"0,00"]
[null,"2018-11-06",null,null,{"$f":"IFERROR(VLOOKUP(C9,TR!$B$2:$F$633,2,0),\"\")","v":""},{"$f":"IFERROR(VLOOKUP(C9,TR!$B$2:$F$633,3,0),\"\")","v":""},"00:00:00",{"$f":"IFERROR(VLOOKUP(C9,TR!$B$2:$F$633,4,0),\"\")","v":""},{"$f":"IFERROR(VLOOKUP(C9,TR!$B$2:$F$633,5,0),\"\")","v":""},"00:00:00","","","","","",{"$f":"IF(AND(L9=\"\",M9=\"\"),IF(OR(SUMPRODUCT(N(ISNUMBER(FIND({\"s\";\"d\";\"f\"},C9))))>0,G9+J9<0,AND(G9>0,J9>0,I9>\"20:30\"*1),AND(I9<=\"20:30\"*1,SUM(I9,R9)>=\"20:31\"*1)),1,\"\"),\"\")","v":""},{"$f":"IF(OR(AND(G9>0,AND(J9=0)),OR(G9=0,AND(J9>0)),OR(G9+J9>0)),IF(R9=\"\",\"\",IF(#REF!+R9>=\"13:01\"*1,1,\"\")))","v":""},null,"",0,0,null,"0,00"]
[null,"2018-11-07",null,null,{"$f":"IFERROR(VLOOKUP(C10,TR!$B$2:$F$633,2,0),\"\")","v":""},{"$f":"IFERROR(VLOOKUP(C10,TR!$B$2:$F$633,3,0),\"\")","v":""},"00:00:00",{"$f":"IFERROR(VLOOKUP(C10,TR!$B$2:$F$633,4,0),\"\")","v":""},{"$f":"IFERROR(VLOOKUP(C10,TR!$B$2:$F$633,5,0),\"\")","v":""},"00:00:00","","","","","",{"$f":"IF(AND(L10=\"\",M10=\"\"),IF(OR(SUMPRODUCT(N(ISNUMBER(FIND({\"s\";\"d\";\"f\"},C10))))>0,G10+J10<0,AND(G10>0,J10>0,I10>\"20:30\"*1),AND(I10<=\"20:30\"*1,SUM(I10,R10)>=\"20:31\"*1)),1,\"\"),\"\")","v":""},{"$f":"IF(OR(AND(G10>0,AND(J10=0)),OR(G10=0,AND(J10>0)),OR(G10+J10>0)),IF(R10=\"\",\"\",IF(#REF!+R10>=\"13:01\"*1,1,\"\")))","v":""},null,"",0,0,null,"0,00"]
[null,"2018-11-08",null,null,{"$f":"IFERROR(VLOOKUP(C11,TR!$B$2:$F$633,2,0),\"\")","v":""},{"$f":"IFERROR(VLOOKUP(C11,TR!$B$2:$F$633,3,0),\"\")","v":""},"00:00:00",{"$f":"IFERROR(VLOOKUP(C11,TR!$B$2:$F$633,4,0),\"\")","v":""},{"$f":"IFERROR(VLOOKUP(C11,TR!$B$2:$F$633,5,0),\"\")","v":""},"00:00:00","","","","","",{"$f":"IF(AND(L11=\"\",M11=\"\"),IF(OR(SUMPRODUCT(N(ISNUMBER(FIND({\"s\";\"d\";\"f\"},C11))))>0,G11+J11<0,AND(G11>0,J11>0,I11>\"20:30\"*1),AND(I11<=\"20:30\"*1,SUM(I11,R11)>=\"20:31\"*1)),1,\"\"),\"\")","v":""},{"$f":"IF(OR(AND(G11>0,AND(J11=0)),OR(G11=0,AND(J11>0)),OR(G11+J11>0)),IF(R11=\"\",\"\",IF(#REF!+R11>=\"13:01\"*1,1,\"\")))","v":""},null,"",0,0,null,"0,00"]
[null,"2018-11-09",null,null,{"$f":"IFERROR(VLOOKUP(C12,TR!$B$2:$F$633,2,0),\"\")","v":""},{"$f":"IFERROR(VLOOKUP(C12,TR!$B$2:$F$633,3,0),\"\")","v":""},"00:00:00",{"$f":"IFERROR(VLOOKUP(C12,TR!$B$2:$F$633,4,0),\"\")","v":""},{"$f":"IFERROR(VLOOKUP(C12,TR!$B$2:$F$633,5,0),\"\")","v":""},"00:00:00","","","","","",{"$f":"IF(AND(L12=\"\",M12=\"\"),IF(OR(SUMPRODUCT(N(ISNUMBER(FIND({\"s\";\"d\";\"f\"},C12))))>0,G12+J12<0,AND(G12>0,J12>0,I12>\"20:30\"*1),AND(I12<=\"20:30\"*1,SUM(I12,R12)>=\"20:31\"*1)),1,\"\"),\"\")","v":""},{"$f":"IF(OR(AND(G12>0,AND(J12=0)),OR(G12=0,AND(J12>0)),OR(G12+J12>0)),IF(R12=\"\",\"\",IF(#REF!+R12>=\"13:01\"*1,1,\"\")))","v":""},null,"",0,0,null,"0,00"]
[null,"2018-11-10",null,null,{"$f":"IFERROR(VLOOKUP(C13,TR!$B$2:$F$633,2,0),\"\")","v":""},{"$f":"IFERROR(VLOOKUP(C13,TR!$B$2:$F$633,3,0),\"\")","v":""},"00:00:00",{"$f":"IFERROR(VLOOKUP(C13,TR!$B$2:$F$633,4,0),\"\")","v":""},{"$f":"IFERROR(VLOOKUP(C13,TR!$B$2:$F$633,5,0),\"\")","v":""},"00:00:00","","","","","",{"$f":"IF(AND(L13=\"\",M13=\"\"),IF(OR(SUMPRODUCT(N(ISNUMBER(FIND({\"s\";\"d\";\"f\"},C13))))>0,G13+J13<0,AND(G13>0,J13>0,I13>\"20:30\"*1),AND(I13<=\"20:30\"*1,SUM(I13,R13)>=\"20:31\"*1)),1,\"\"),\"\")","v":""},{"$f":"IF(OR(AND(G13>0,AND(J13=0)),OR(G13=0,AND(J13>0)),OR(G13+J13>0)),IF(R13=\"\",\"\",IF(#REF!+R13>=\"13:01\"*1,1,\"\")))","v":""},null,"",0,0,null,"0,00"]
[null,"2018-11-11",null,null,{"$f":"IFERROR(VLOOKUP(C14,TR!$B$2:$F$633,2,0),\"\")","v":""},{"$f":"IFERROR(VLOOKUP(C14,TR!$B$2:$F$633,3,0),\"\")","v":""},"00:00:00",{"$f":"IFERROR(VLOOKUP(C14,TR!$B$2:$F$633,4,0),\"\")","v":""},{"$f":"IFERROR(VLOOKUP(C14,TR!$B$2:$F$633,5,0),\"\")","v":""},"00:00:00","","","","","",{"$f":"IF(AND(L14=\"\",M14=\"\"),IF(OR(SUMPRODUCT(N(ISNUMBER(FIND({\"s\";\"d\";\"f\"},C14))))>0,G14+J14<0,AND(G14>0,J14>0,I14>\"20:30\"*1),AND(I14<=\"20:30\"*1,SUM(I14,R14)>=\"20:31\"*1)),1,\"\"),\"\")","v":""},{"$f":"IF(OR(AND(G14>0,AND(J14=0)),OR(G14=0,AND(J14>0)),OR(G14+J14>0)),IF(R14=\"\",\"\",IF(#REF!+R14>=\"13:01\"*1,1,\"\")))","v":""},null,"",0,0,null,"0,00"]
[null,"2018-11-12",null,null,{"$f":"IFERROR(VLOOKUP(C15,TR!$B$2:$F$633,2,0),\"\")","v":""},{"$f":"IFERROR(VLOOKUP(C15,TR!$B$2:$F$633,3,0),\"\")","v":""},"00:00:00",{"$f":"IFERROR(VLOOKUP(C15,TR!$B$2:$F$633,4,0),\"\")","v":""},{"$f":"IFERROR(VLOOKUP(C15,TR!$B$2:$F$633,5,0),\"\")","v":""},"00:00:00","","","","","",{"$f":"IF(AND(L15=\"\",M15=\"\"),IF(OR(SUMPRODUCT(N(ISNUMBER(FIND({\"s\";\"d\";\"f\"},C15))))>0,G15+J15<0,AND(G15>0,J15>0,I15>\"20:30\"*1),AND(I15<=\"20:30\"*1,SUM(I15,R15)>=\"20:31\"*1)),1,\"\"),\"\")","v":""},{"$f":"IF(OR(AND(G15>0,AND(J15=0)),OR(G15=0,AND(J15>0)),OR(G15+J15>0)),IF(R15=\"\",\"\",IF(#REF!+R15>=\"13:01\"*1,1,\"\")))","v":""},null,"",0,0,null,"0,00"]
[null,"2018-11-13",null,null,{"$f":"IFERROR(VLOOKUP(C16,TR!$B$2:$F$633,2,0),\"\")","v":""},{"$f":"IFERROR(VLOOKUP(C16,TR!$B$2:$F$633,3,0),\"\")","v":""},"00:00:00",{"$f":"IFERROR(VLOOKUP(C16,TR!$B$2:$F$633,4,0),\"\")","v":""},{"$f":"IFERROR(VLOOKUP(C16,TR!$B$2:$F$633,5,0),\"\")","v":""},"00:00:00","","","","","",{"$f":"IF(AND(L16=\"\",M16=\"\"),IF(OR(SUMPRODUCT(N(ISNUMBER(FIND({\"s\";\"d\";\"f\"},C16))))>0,G16+J16<0,AND(G16>0,J16>0,I16>\"20:30\"*1),AND(I16<=\"20:30\"*1,SUM(I16,R16)>=\"20:31\"*1)),1,\"\"),\"\")","v":""},{"$f":"IF(OR(AND(G16>0,AND(J16=0)),OR(G16=0,AND(J16>0)),OR(G16+J16>0)),IF(R16=\"\",\"\",IF(#REF!+R16>=\"13:01\"*1,1,\"\")))","v":""},null,"",0,0,null,"0,00"]
[null,"2018-11-14",null,null,{"$f":"IFERROR(VLOOKUP(C17,TR!$B$2:$F$633,2,0),\"\")","v":""},{"$f":"IFERROR(VLOOKUP(C17,TR!$B$2:$F$633,3,0),\"\")","v":""},"00:00:00",{"$f":"IFERROR(VLOOKUP(C17,TR!$B$2:$F$633,4,0),\"\")","v":""},{"$f":"IFERROR(VLOOKUP(C17,TR!$B$2:$F$633,5,0),\"\")","v":""},"00:00:00","","","","","",{"$f":"IF(AND(L17=\"\",M17=\"\"),IF(OR(SUMPRODUCT(N(ISNUMBER(FIND({\"s\";\"d\";\"f\"},C17))))>0,G17+J17<0,AND(G17>0,J17>0,I17>\"20:30\"*1),AND(I17<=\"20:30\"*1,SUM(I17,R17)>=\"20:31\"*1)),1,\"\"),\"\")","v":""},{"$f":"IF(OR(AND(G17>0,AND(J17=0)),OR(G17=0,AND(J17>0)),OR(G17+J17>0)),IF(R17=\"\",\"\",IF(#REF!+R17>=\"13:01\"*1,1,\"\")))","v":""},null,"",0,0,null,"0,00"]
[null,"2018-11-15",null,null,{"$f":"IFERROR(VLOOKUP(C18,TR!$B$2:$F$633,2,0),\"\")","v":""},{"$f":"IFERROR(VLOOKUP(C18,TR!$B$2:$F$633,3,0),\"\")","v":""},"00:00:00",{"$f":"IFERROR(VLOOKUP(C18,TR!$B$2:$F$633,4,0),\"\")","v":""},{"$f":"IFERROR(VLOOKUP(C18,TR!$B$2:$F$633,5,0),\"\")","v":""},"00:00:00","","","","","",{"$f":"IF(AND(L18=\"\",M18=\"\"),IF(OR(SUMPRODUCT(N(ISNUMBER(FIND({\"s\";\"d\";\"f\"},C18))))>0,G18+J18<0,AND(G18>0,J18>0,I18>\"20:30\"*1),AND(I18<=\"20:30\"*1,SUM(I18,R18)>=\"20:31\"*1)),1,\"\"),\"\")","v":""},null,null,"",0,0,null,"0,00"]
[null,"2018-11-16",null,null,{"$f":"IFERROR(VLOOKUP(C19,TR!$B$2:$F$633,2,0),\"\")","v":""},{"$f":"IFERROR(VLOOKUP(C19,TR!$B$2:$F$633,3,0),\"\")","v":""},"00:00:00",{"$f":"IFERROR(VLOOKUP(C19,TR!$B$2:$F$633,4,0),\"\")","v":""},{"$f":"IFERROR(VLOOKUP(C19,TR!$B$2:$F$633,5,0),\"\")","v":""},"00:00:00","","","","","",{"$f":"IF(AND(L19=\"\",M19=\"\"),IF(OR(SUMPRODUCT(N(ISNUMBER(FIND({\"s\";\"d\";\"f\"},C19))))>0,G19+J19<0,AND(G19>0,J19>0,I19>\"20:30\"*1),AND(I19<=\"20:30\"*1,SUM(I19,R19)>=\"20:31\"*1)),1,\"\"),\"\")","v":""},{"$f":"IF(OR(AND(G19>0,AND(J19=0)),OR(G19=0,AND(J19>0)),OR(G19+J19>0)),IF(R19=\"\",\"\",IF(#REF!+R19>=\"13:01\"*1,1,\"\")))","v":""},null,"",0,0,null,"0,00"]
[null,"2018-11-17",null,null,{"$f":"IFERROR(VLOOKUP(C20,TR!$B$2:$F$633,2,0),\"\")","v":""},{"$f":"IFERROR(VLOOKUP(C20,TR!$B$2:$F$633,3,0),\"\")","v":""},"00:00:00",{"$f":"IFERROR(VLOOKUP(C20,TR!$B$2:$F$633,4,0),\"\")","v":""},{"$f":"IFERROR(VLOOKUP(C20,TR!$B$2:$F$633,5,0),\"\")","v":""},"00:00:00","","","","","",{"$f":"IF(AND(L20=\"\",M20=\"\"),IF(OR(SUMPRODUCT(N(ISNUMBER(FIND({\"s\";\"d\";\"f\"},C20))))>0,G20+J20<0,AND(G20>0,J20>0,I20>\"20:30\"*1),AND(I20<=\"20:30\"*1,SUM(I20,R20)>=\"20:31\"*1)),1,\"\"),\"\")","v":""},{"$f":"IF(OR(AND(G20>0,AND(J20=0)),OR(G20=0,AND(J20>0)),OR(G20+J20>0)),IF(R20=\"\",\"\",IF(#REF!+R20>=\"13:01\"*1,1,\"\")))","v":""},null,"",0,0,null,"0,00"]
[null,"2018-11-18",null,null,{"$f":"IFERROR(VLOOKUP(C21,TR!$B$2:$F$633,2,0),\"\")","v":""},{"$f":"IFERROR(VLOOKUP(C21,TR!$B$2:$F$633,3,0),\"\")","v":""},"00:00:00",{"$f":"IFERROR(VLOOKUP(C21,TR!$B$2:$F$633,4,0),\"\")","v":""},{"$f":"IFERROR(VLOOKUP(C21,TR!$B$2:$F$633,5,0),\"\")","v":""},"00:00:00","","","","","",{"$f":"IF(AND(L21=\"\",M21=\"\"),IF(OR(SUMPRODUCT(N(ISNUMBER(FIND({\"s\";\"d\";\"f\"},C21))))>0,G21+J21<0,AND(G21>0,J21>0,I21>\"20:30\"*1),AND(I21<=\"20:30\"*1,SUM(I21,R21)>=\"20:31\"*1)),1,\"\"),\"\")","v":""},{"$f":"IF(OR(AND(G21>0,AND(J21=0)),OR(G21=0,AND(J21>0)),OR(G21+J21>0)),IF(R21=\"\",\"\",IF(#REF!+R21>=\"13:01\"*1,1,\"\")))","v":""},null,"",0,0,null,"0,00"]
[null,"2018-11-19",null,null,{"$f":"IFERROR(VLOOKUP(C22,TR!$B$2:$F$633,2,0),\"\")","v":""},{"$f":"IFERROR(VLOOKUP(C22,TR!$B$2:$F$633,3,0),\"\")","v":""},"00:00:00",{"$f":"IFERROR(VLOOKUP(C22,TR!$B$2:$F$633,4,0),\"\")","v":""},{"$f":"IFERROR(VLOOKUP(C22,TR!$B$2:$F$633,5,0),\"\")","v":""},"00:00:00","","","","","",{"$f":"IF(AND(L22=\"\",M22=\"\"),IF(OR(SUMPRODUCT(N(ISNUMBER(FIND({\"s\";\"d\";\"f\"},C22))))>0,G22+J22<0,AND(G22>0,J22>0,I22>\"20:30\"*1),AND(I22<=\"20:30\"*1,SUM(I22,R22)>=\"20:31\"*1)),1,\"\"),\"\")","v":""},{"$f":"IF(OR(AND(G22>0,AND(J22=0)),OR(G22=0,AND(J22>0)),OR(G22+J22>0)),IF(R22=\"\",\"\",IF(#REF!+R22>=\"13:01\"*1,1,\"\")))","v":""},null,"",0,0,null,"0,00"]
[null,"2018-11-20",null,null,{"$f":"IFERROR(VLOOKUP(C23,TR!$B$2:$F$633,2,0),\"\")","v":""},{"$f":"IFERROR(VLOOKUP(C23,TR!$B$2:$F$633,3,0),\"\")","v":""},"00:00:00",{"$f":"IFERROR(VLOOKUP(C23,TR!$B$2:$F$633,4,0),\"\")","v":""},{"$f":"IFERROR(VLOOKUP(C23,TR!$B$2:$F$633,5,0),\"\")","v":""},"00:00:00","","","","","",{"$f":"IF(AND(L23=\"\",M23=\"\"),IF(OR(SUMPRODUCT(N(ISNUMBER(FIND({\"s\";\"d\";\"f\"},C23))))>0,G23+J23<0,AND(G23>0,J23>0,I23>\"20:30\"*1),AND(I23<=\"20:30\"*1,SUM(I23,R23)>=\"20:31\"*1)),1,\"\"),\"\")","v":""},{"$f":"IF(OR(AND(G23>0,AND(J23=0)),OR(G23=0,AND(J23>0)),OR(G23+J23>0)),IF(R23=\"\",\"\",IF(#REF!+R23>=\"13:01\"*1,1,\"\")))","v":""},null,"",0,0,null,"0,00"]
[null,"2018-11-21",null,null,{"$f":"IFERROR(VLOOKUP(C24,TR!$B$2:$F$633,2,0),\"\")","v":""},{"$f":"IFERROR(VLOOKUP(C24,TR!$B$2:$F$633,3,0),\"\")","v":""},"00:00:00",{"$f":"IFERROR(VLOOKUP(C24,TR!$B$2:$F$633,4,0),\"\")","v":""},{"$f":"IFERROR(VLOOKUP(C24,TR!$B$2:$F$633,5,0),\"\")","v":""},"00:00:00","","","","","",{"$f":"IF(AND(L24=\"\",M24=\"\"),IF(OR(SUMPRODUCT(N(ISNUMBER(FIND({\"s\";\"d\";\"f\"},C24))))>0,G24+J24<0,AND(G24>0,J24>0,I24>\"20:30\"*1),AND(I24<=\"20:30\"*1,SUM(I24,R24)>=\"20:31\"*1)),1,\"\"),\"\")","v":""},{"$f":"IF(OR(AND(G24>0,AND(J24=0)),OR(G24=0,AND(J24>0)),OR(G24+J24>0)),IF(R24=\"\",\"\",IF(#REF!+R24>=\"13:01\"*1,1,\"\")))","v":""},null,"",0,0,null,"0,00"]
[null,"2018-11-22",null,null,{"$f":"IFERROR(VLOOKUP(C25,TR!$B$2:$F$633,2,0),\"\")","v":""},{"$f":"IFERROR(VLOOKUP(C25,TR!$B$2:$F$633,3,0),\"\")","v":""},"00:00:00",{"$f":"IFERROR(VLOOKUP(C25,TR!$B$2:$F$633,4,0),\"\")","v":""},{"$f":"IFERROR(VLOOKUP(C25,TR!$B$2:$F$633,5,0),\"\")","v":""},"00:00:00","","","","","",{"$f":"IF(AND(L25=\"\",M25=\"\"),IF(OR(SUMPRODUCT(N(ISNUMBER(FIND({\"s\";\"d\";\"f\"},C25))))>0,G25+J25<0,AND(G25>0,J25>0,I25>\"20:30\"*1),AND(I25<=\"20:30\"*1,SUM(I25,R25)>=\"20:31\"*1)),1,\"\"),\"\")","v":""},{"$f":"IF(OR(AND(G25>0,AND(J25=0)),OR(G25=0,AND(J25>0)),OR(G25+J25>0)),IF(R25=\"\",\"\",IF(#REF!+R25>=\"13:01\"*1,1,\"\")))","v":""},null,"",0,0,null,"0,00"]
[null,"2018-11-23",null,null,{"$f":"IFERROR(VLOOKUP(C26,TR!$B$2:$F$633,2,0),\"\")","v":""},{"$f":"IFERROR(VLOOKUP(C26,TR!$B$2:$F$633,3,0),\"\")","v":""},"00:00:00",{"$f":"IFERROR(VLOOKUP(C26,TR!$B$2:$F$633,4,0),\"\")","v":""},{"$f":"IFERROR(VLOOKUP(C26,TR!$B$2:$F$633,5,0),\"\")","v":""},"00:00:00","","","","","",{"$f":"IF(AND(L26=\"\",M26=\"\"),IF(OR(SUMPRODUCT(N(ISNUMBER(FIND({\"s\";\"d\";\"f\"},C26))))>0,G26+J26<0,AND(G26>0,J26>0,I26>\"20:30\"*1),AND(I26<=\"20:30\"*1,SUM(I26,R26)>=\"20:31\"*1)),1,\"\"),\"\")","v":""},{"$f":"IF(OR(AND(G26>0,AND(J26=0)),OR(G26=0,AND(J26>0)),OR(G26+J26>0)),IF(R26=\"\",\"\",IF(#REF!+R26>=\"13:01\"*1,1,\"\")))","v":""},null,"",0,0,null,"0,00"]
[null,"2018-11-24",null,null,{"$f":"IFERROR(VLOOKUP(C27,TR!$B$2:$F$633,2,0),\"\")","v":""},{"$f":"IFERROR(VLOOKUP(C27,TR!$B$2:$F$633,3,0),\"\")","v":""},"00:00:00",{"$f":"IFERROR(VLOOKUP(C27,TR!$B$2:$F$633,4,0),\"\")","v":""},{"$f":"IFERROR(VLOOKUP(C27,TR!$B$2:$F$633,5,0),\"\")","v":""},"00:00:00","","","","","",{"$f":"IF(AND(L27=\"\",M27=\"\"),IF(OR(SUMPRODUCT(N(ISNUMBER(FIND({\"s\";\"d\";\"f\"},C27))))>0,G27+J27<0,AND(G27>0,J27>0,I27>\"20:30\"*1),AND(I27<=\"20:30\"*1,SUM(I27,R27)>=\"20:31\"*1)),1,\"\"),\"\")","v":""},{"$f":"IF(OR(AND(G27>0,AND(J27=0)),OR(G27=0,AND(J27>0)),OR(G27+J27>0)),IF(R27=\"\",\"\",IF(#REF!+R27>=\"13:01\"*1,1,\"\")))","v":""},null,"",0,0,null,"0,00"]
[null,"2018-11-25",null,null,{"$f":"IFERROR(VLOOKUP(C28,TR!$B$2:$F$633,2,0),\"\")","v":""},{"$f":"IFERROR(VLOOKUP(C28,TR!$B$2:$F$633,3,0),\"\")","v":""},"00:00:00",{"$f":"IFERROR(VLOOKUP(C28,TR!$B$2:$F$633,4,0),\"\")","v":""},{"$f":"IFERROR(VLOOKUP(C28,TR!$B$2:$F$633,5,0),\"\")","v":""},"00:00:00","","","","","",{"$f":"IF(AND(L28=\"\",M28=\"\"),IF(OR(SUMPRODUCT(N(ISNUMBER(FIND({\"s\";\"d\";\"f\"},C28))))>0,G28+J28<0,AND(G28>0,J28>0,I28>\"20:30\"*1),AND(I28<=\"20:30\"*1,SUM(I28,R28)>=\"20:31\"*1)),1,\"\"),\"\")","v":""},{"$f":"IF(OR(AND(G28>0,AND(J28=0)),OR(G28=0,AND(J28>0)),OR(G28+J28>0)),IF(R28=\"\",\"\",IF(#REF!+R28>=\"13:01\"*1,1,\"\")))","v":""},null,"",0,0,null,"0,00"]
[null,"2018-11-26",null,null,{"$f":"IFERROR(VLOOKUP(C29,TR!$B$2:$F$633,2,0),\"\")","v":""},{"$f":"IFERROR(VLOOKUP(C29,TR!$B$2:$F$633,3,0),\"\")","v":""},"00:00:00",{"$f":"IFERROR(VLOOKUP(C29,TR!$B$2:$F$633,4,0),\"\")","v":""},{"$f":"IFERROR(VLOOKUP(C29,TR!$B$2:$F$633,5,0),\"\")","v":""},"00:00:00","","","","","",{"$f":"IF(AND(L29=\"\",M29=\"\"),IF(OR(SUMPRODUCT(N(ISNUMBER(FIND({\"s\";\"d\";\"f\"},C29))))>0,G29+J29<0,AND(G29>0,J29>0,I29>\"20:30\"*1),AND(I29<=\"20:30\"*1,SUM(I29,R29)>=\"20:31\"*1)),1,\"\"),\"\")","v":""},{"$f":"IF(OR(AND(G29>0,AND(J29=0)),OR(G29=0,AND(J29>0)),OR(G29+J29>0)),IF(R29=\"\",\"\",IF(#REF!+R29>=\"13:01\"*1,1,\"\")))","v":""},null,"",0,0,null,"0,00"]
[null,"2018-11-27",null,null,{"$f":"IFERROR(VLOOKUP(C30,TR!$B$2:$F$633,2,0),\"\")","v":""},{"$f":"IFERROR(VLOOKUP(C30,TR!$B$2:$F$633,3,0),\"\")","v":""},"00:00:00",{"$f":"IFERROR(VLOOKUP(C30,TR!$B$2:$F$633,4,0),\"\")","v":""},{"$f":"IFERROR(VLOOKUP(C30,TR!$B$2:$F$633,5,0),\"\")","v":""},"00:00:00","","","","","",{"$f":"IF(AND(L30=\"\",M30=\"\"),IF(OR(SUMPRODUCT(N(ISNUMBER(FIND({\"s\";\"d\";\"f\"},C30))))>0,G30+J30<0,AND(G30>0,J30>0,I30>\"20:30\"*1),AND(I30<=\"20:30\"*1,SUM(I30,R30)>=\"20:31\"*1)),1,\"\"),\"\")","v":""},{"$f":"IF(OR(AND(G30>0,AND(J30=0)),OR(G30=0,AND(J30>0)),OR(G30+J30>0)),IF(R30=\"\",\"\",IF(#REF!+R30>=\"13:01\"*1,1,\"\")))","v":""},null,"",0,0,null,"0,00"]
[null,"2018-11-28",null,null,{"$f":"IFERROR(VLOOKUP(C31,TR!$B$2:$F$633,2,0),\"\")","v":""},{"$f":"IFERROR(VLOOKUP(C31,TR!$B$2:$F$633,3,0),\"\")","v":""},"00:00:00",{"$f":"IFERROR(VLOOKUP(C31,TR!$B$2:$F$633,4,0),\"\")","v":""},{"$f":"IFERROR(VLOOKUP(C31,TR!$B$2:$F$633,5,0),\"\")","v":""},"00:00:00","","","","","",{"$f":"IF(AND(L31=\"\",M31=\"\"),IF(OR(SUMPRODUCT(N(ISNUMBER(FIND({\"s\";\"d\";\"f\"},C31))))>0,G31+J31<0,AND(G31>0,J31>0,I31>\"20:30\"*1),AND(I31<=\"20:30\"*1,SUM(I31,R31)>=\"20:31\"*1)),1,\"\"),\"\")","v":""},{"$f":"IF(OR(AND(G31>0,AND(J31=0)),OR(G31=0,AND(J31>0)),OR(G31+J31>0)),IF(R31=\"\",\"\",IF(#REF!+R31>=\"13:01\"*1,1,\"\")))","v":""},null,"",0,0,null,"0,00"]
[null,"2018-11-29",null,null,{"$f":"IFERROR(VLOOKUP(C32,TR!$B$2:$F$633,2,0),\"\")","v":""},{"$f":"IFERROR(VLOOKUP(C32,TR!$B$2:$F$633,3,0),\"\")","v":""},"00:00:00",{"$f":"IFERROR(VLOOKUP(C32,TR!$B$2:$F$633,4,0),\"\")","v":""},{"$f":"IFERROR(VLOOKUP(C32,TR!$B$2:$F$633,5,0),\"\")","v":""},"00:00:00","","","","","",{"$f":"IF(AND(L32=\"\",M32=\"\"),IF(OR(SUMPRODUCT(N(ISNUMBER(FIND({\"s\";\"d\";\"f\"},C32))))>0,G32+J32<0,AND(G32>0,J32>0,I32>\"20:30\"*1),AND(I32<=\"20:30\"*1,SUM(I32,R32)>=\"20:31\"*1)),1,\"\"),\"\")","v":""},{"$f":"IF(OR(AND(G32>0,AND(J32=0)),OR(G32=0,AND(J32>0)),OR(G32+J32>0)),IF(R32=\"\",\"\",IF(#REF!+R32>=\"13:01\"*1,1,\"\")))","v":""},null,"",0,0,null,"0,00"]
[null,"2018-11-30",null,null,{"$f":"IFERROR(VLOOKUP(C33,TR!$B$2:$F$633,2,0),\"\")","v":""},{"$f":"IFERROR(VLOOKUP(C33,TR!$B$2:$F$633,3,0),\"\")","v":""},"00:00:00",{"$f":"IFERROR(VLOOKUP(C33,TR!$B$2:$F$633,4,0),\"\")","v":""},{"$f":"IFERROR(VLOOKUP(C33,TR!$B$2:$F$633,5,0),\"\")","v":""},"00:00:00","","","","","",{"$f":"IF(AND(L33=\"\",M33=\"\"),IF(OR(SUMPRODUCT(N(ISNUMBER(FIND({\"s\";\"d\";\"f\"},C33))))>0,G33+J33<0,AND(G33>0,J33>0,I33>\"20:30\"*1),AND(I33<=\"20:30\"*1,SUM(I33,R33)>=\"20:31\"*1)),1,\"\"),\"\")","v":""},{"$f":"IF(OR(AND(G33>0,AND(J33=0)),OR(G33=0,AND(J33>0)),OR(G33+J33>0)),IF(R33=\"\",\"\",IF(#REF!+R33>=\"13:01\"*1,1,\"\")))","v":""},null,"",0,0,null,"0,00"]
[null,null,null,null,{"$f":"IFERROR(VLOOKUP(C34,TR!$B$2:$F$633,2,0),\"\")","v":""},{"$f":"IFERROR(VLOOKUP(C34,TR!$B$2:$F$633,3,0),\"\")","v":""},null,{"$f":"IFERROR(VLOOKUP(C34,TR!$B$2:$F$633,4,0),\"\")","v":""},{"$f":"IFERROR(VLOOKUP(C34,TR!$B$2:$F$633,5,0),\"\")","v":""},null,"","","","",{"$f":"IF(AND(LEFT(C34,1)=\"f\",AND(O33<>1)),1,IF(OR(ISNUMBER(FIND(\"FériéCC\",C34)),ISNUMBER(FIND(\"FériéCH\",C34)),ISNUMBER(FIND(\"f\",C34))),1,\"\"))","v":""},{"$f":"IF(AND(L34=\"\",M34=\"\"),IF(OR(SUMPRODUCT(N(ISNUMBER(FIND({\"s\";\"d\";\"f\"},C34))))>0,G34+J34<0,AND(G34>0,J34>0,I34>\"20:30\"*1),AND(I34<=\"20:30\"*1,SUM(I34,R34)>=\"20:31\"*1)),1,\"\"),\"\")","v":""},{"$f":"IF(OR(AND(G34>0,AND(J34=0)),OR(G34=0,AND(J34>0)),OR(G34+J34>0)),IF(R34=\"\",\"\",IF(#REF!+R34>=\"13:01\"*1,1,\"\")))","v":""},null,"",0,0,null,"0,00"]
[]
[null,"Jours travaillés",{"$f":"(COUNTIF(Octobre!C24:C34,\"<>\")+COUNTIF(Novembre!C4:C23,\"<>\"))-(COUNTIF(Octobre!C24:C34,\"CC*\")+COUNTIF(Novembre!C4:C23,\"CC*\"))-(COUNTIF(Octobre!C24:C34,\"CH*\")+COUNTIF(Novembre!C4:C23,\"CH*\"))-(COUNTIF(Octobre!C24:C34,\"RT*\")+COUNTIF(Novembre!C4:C23,\"RT*\"))-(COUNTIF(Octobre!C24:C34,\"Férié*\")+COUNTIF(Novembre!C4:C23,\"Férié*\"))-(COUNTIF(Octobre!C24:C34,\"Mal*\")+COUNTIF(Novembre!C4:C23,\"Mal*\"))-(COUNTIF(Octobre!C24:C34,\"CP*\")+COUNTIF(Novembre!C4:C23,\"CP*\"))","v":0},null,null,null,null,null,"Du 21 au 20",null,{"$f":"SUM(Octobre!$K$24:$K$34,K4:K23)","v":0},{"$f":"SUM(Octobre!$L$24:$L$34,L4:L23)","v":0},{"$f":"SUM(Octobre!$M$24:$M$34,M4:M23)","v":0},{"$f":"SUM(Octobre!$N$24:$N$34,N4:N23)","v":0},{"$f":"SUM(Octobre!$O$24:$O$34,O4:O23)","v":0},{"$f":"SUM(Octobre!$P$24:$P$34,P4:P23)","v":0},{"$f":"SUM(Octobre!$Q$24:$Q$34,Q4:Q23)","v":0},{"$f":"SUM(Octobre!$R$24:$R$34,R4:R23)","v":0},null,{"$f":"SUM(Octobre!T24:T34)+SUM(Novembre!T4:T23)","v":0},{"$f":"SUM(U4:U34)","v":0},{"$f":"SUM(V4:V34)","v":0}]
[null,"CP",{"$f":"(COUNTIF(Octobre!C24:C34,\"CP\")+COUNTIF(Novembre!C4:C23,\"CP\"))","v":0},null,null,null,null,null,null,null,{"$f":"(I39*2)*K36","v":0},{"$f":"Recap!H35*L36","v":0},{"$f":"Recap!H35*M36","v":0},{"$f":"(I39*5)*N36","v":0},{"$f":"(Recap!H33)*O36","v":0},{"$f":"7.5*P36","v":0},{"$f":"(I39*1.5)*Q36","v":0},{"$f":"R36*24","v":0}]
[null,"CH",{"$f":"(COUNTIF(Octobre!C24:C34,\"CH\")+COUNTIF(Novembre!C4:C23,\"CH\"))","v":0},null,null,null,null,null,"VP",null,null,null,null,null,null,null,null,null,null,"Horaire mensuel",null,6.1749999999999998,{"$f":"V38*24","v":148.19999999999999}]
[null,"RT",{"$f":"(COUNTIF(Octobre!C24:C34,\"RT\")+COUNTIF(Novembre!C4:C23,\"RT\"))","v":0},null,null,null,null,null,8.8528000000000002]
[null,"CC",{"$f":"(COUNTIF(Octobre!C24:C34,\"CC\")+COUNTIF(Novembre!C4:C23,\"CC\"))","v":0},null,null,null,null,null,null,null,null,null,null,null,null,null,null,null,null,"Différence",null,{"$f":"IF(V38>T36,\"-\",\"\")&TEXT(ABS(T36-V38),\"[h]:mm\")","v":"-148:12"},{"$f":"(T36-V38)*24","v":-148.19999999999999}]
[null,"Férié",{"$f":"(COUNTIF(Octobre!C24:C34,\"Férié\")+COUNTIF(Novembre!C4:C23,\"Férié\"))","v":0}]
[null,"Férié CC-CH-RT",{"$f":"(COUNTIF(Octobre!C24:C34,\"FériéCC\")+COUNTIF(Novembre!C4:C23,\"FériéCC\")+(COUNTIF(Octobre!C24:C34,\"FériéCH\")+COUNTIF(Novembre!C4:C23,\"FériéCH\")+(COUNTIF(Octobre!C24:C34,\"FériéRT\")+COUNTIF(Novembre!C4:C23,\"FériéRT\"))))","v":0},null,null,null,null,null,null,null,null,null,null,null,null,null,null,"Heures réelles",null,{"$f":"SUM(T4:T34)","v":0}]
[null,null,null,null,null,null,null,null,null,null,null,null,null,null,null,null,null,null,null,{"$f":"T42*24","v":0},null,null,{"$f":"(T42-V38)*24","v":-148.19999999999999}]
[]
[null,null,null,null,null,"NOTES"]

{"sheet":"Décembre","index":12,"n_rows":51,"n_cols":23,"rows_kept":51,"cut":false,"hidden":false,"merged":[[0,1,0,22],[1,19,1,22],[44,5,44,16],[2,4,2,5],[2,7,2,8],[35,8,35,9],[37,19,37,20],[39,19,39,20],[43,1,43,2],[41,17,41,18]]}
[null,"DÉCEMBRE"]
[null,null,null,null,null,null,null,null,null,null,null,null,null,null,null,null,null,null,null,"TOTAL"]
[null,"Date","Services","Obs.","MATIN",null,"Temps","APRES MIDI",null,"Temps","Prime nuit","PJ1","PJ2","Dimanche","Férié","ChècDej","PrimAmp","H Supp","Ampli","Heures","Centièmes","Kéolis","Écart"]
[null,"2018-12-01",null,null,{"$f":"IFERROR(VLOOKUP(C4,TR!$B$2:$F$633,2,0),\"\")","v":""},{"$f":"IFERROR(VLOOKUP(C4,TR!$B$2:$F$633,3,0),\"\")","v":""},{"$f":"IF(ISERROR(F4-E4),0,F4-E4)","v":"00:00:00"},{"$f":"IFERROR(VLOOKUP(C4,TR!$B$2:$F$633,4,0),\"\")","v":""},{"$f":"IFERROR(VLOOKUP(C4,TR!$B$2:$F$633,5,0),\"\")","v":""},{"$f":"IF(ISERROR(I4-H4),0,(I4-H4))","v":"00:00:00"},{"$f":"IF(COUNTA(E4:F4,H4:I4)=5,1,IF(AND(E4<\"5:00\"*1,E4>\"2:00\"*1),1,IF(AND(I4>=\"22:01\"*1,I4<=\"26:01\"*1),1,IF(AND(I4<=\"22:00\"*1,SUM(I4,R4)>=\"22:01\"*1),1,\"\"))))","v":""},{"$f":"IF(AND(F4>=\"13:15\"*1,H4<\"\"),1,IF(AND(H4>=\"11:00\"*1,H4<=\"12:15\"*1),1,IF(AND(F4<=\"13:15\"*1,SUM(F4,R4)>=\"13:15\"*1),1,\"\")))","v":""},{"$f":"IF(AND(I4>=\"19:30\"*1,1,I4>\"21:30\"*1,C4<>\"\"),1,IF(AND(I4<=\"21:30\"*1,SUM(I4,R4)>=\"21:30\"*1),1,\"\"))","v":""},{"$f":"IF(AND(LEFT(C4,1)=\"d\",AND(Novembre!N33<>1)),1,IF(AND(LEFT(C4,1)=\"s\",I4>=\"24:01\"*1),1,IF(AND(I4<>\"\",I4<=\"23:59\"*1,SUM(I4,R4)>=\"24:01\"*1),1,\"\")))","v":""},{"$f":"IF(AND(I4>\"24:00\"*1,ISNUMBER(FIND(\"f\",C5))),1,IF(AND(OR(ISNUMBER(FIND(\"FériéCC\",C4)),ISNUMBER(FIND(\"FériéCH\",C4)),ISNUMBER(FIND(\"f\",C4)))),1,\"\"))","v":""},{"$f":"IF(AND(L4=\"\",M4=\"\"),IF(OR(SUMPRODUCT(N(ISNUMBER(FIND({\"s\";\"d\";\"f\"},C4))))>0,G4+J4<0,AND(G4>0,J4>0,I4>\"20:30\"*1),AND(I4<=\"20:30\"*1,SUM(I4,R4)>=\"20:31\"*1)),1,\"\"),\"\")","v":""},{"$f":"IF(OR(AND(G4>0,AND(J4=0)),OR(G4=0,AND(J4>0)),OR(G4+J4>0)),IF(S4=\"\",\"\",IF(R4+S4>=\"13:01\"*1,1,\"\")))","v":""},null,{"$f":"IF(G4=0,IF(J4=0,\"\",I4-H4),IF(J4=0,F4-E4,I4-E4))","v":""},{"$f":"IF(ISERROR((F4-E4)+(I4-H4)),0,(F4-E4)+(I4-H4))","v":0},{"$f":"T4*24","v":0},null,{"$f":"IF(U4-V4=0,\"0,00\",U4-V4)","v":"0,00"}]
[null,"2018-12-02",null,null,{"$f":"IFERROR(VLOOKUP(C5,TR!$B$2:$F$633,2,0),\"\")","v":""},{"$f":"IFERROR(VLOOKUP(C5,TR!$B$2:$F$633,3,0),\"\")","v":""},{"$f":"IF(ISERROR(F5-E5),0,F5-E5)","v":"00:00:00"},{"$f":"IFERROR(VLOOKUP(C5,TR!$B$2:$F$633,4,0),\"\")","v":""},{"$f":"IFERROR(VLOOKUP(C5,TR!$B$2:$F$633,5,0),\"\")","v":""},{"$f":"IF(ISERROR(I5-H5),0,(I5-H5))","v":"00:00:00"},"","","",{"$f":"IF(AND(LEFT(C5,1)=\"d\",AND(N4<>1)),1,IF(AND(LEFT(C5,1)=\"s\",I5>=\"24:01\"*1),1,IF(AND(I5<>\"\",I5<=\"23:59\"*1,SUM(I5,R5)>=\"24:01\"*1),1,\"\")))","v":""},{"$f":"IF(AND(I5>\"24:00\"*1,ISNUMBER(FIND(\"f\",C6))),1,IF(AND(OR(ISNUMBER(FIND(\"FériéCC\",C5)),ISNUMBER(FIND(\"FériéCH\",C5)),ISNUMBER(FIND(\"f\",C5)))),1,\"\"))","v":""},{"$f":"IF(AND(L5=\"\",M5=\"\"),IF(OR(SUMPRODUCT(N(ISNUMBER(FIND({\"s\";\"d\";\"f\"},C5))))>0,G5+J5<0,AND(G5>0,J5>0,I5>\"20:30\"*1),AND(I5<=\"20:30\"*1,SUM(I5,R5)>=\"20:31\"*1)),1,\"\"),\"\")","v":""},{"$f":"IF(OR(AND(G5>0,AND(J5=0)),OR(G5=0,AND(J5>0)),OR(G5+J5>0)),IF(S5=\"\",\"\",IF(R5+S5>=\"13:01\"*1,1,\"\")))","v":""},null,"",0,{"$f":"T5*24","v":0},null,{"$f":"IF(U5-V5=0,\"0,00\",U5-V5)","v":"0,00"}]
[null,"2018-12-03",null,null,{"$f":"IFERROR(VLOOKUP(C6,TR!$B$2:$F$633,2,0),\"\")","v":""},{"$f":"IFERROR(VLOOKUP(C6,TR!$B$2:$F$633,3,0),\"\")","v":""},"00:00:00",{"$f":"IFERROR(VLOOKUP(C6,TR!$B$2:$F$633,4,0),\"\")","v":""},{"$f":"IFERROR(VLOOKUP(C6,TR!$B$2:$F$633,5,0),\"\")","v":""},"00:00:00","","","","","",{"$f":"IF(AND(L6=\"\",M6=\"\"),IF(OR(SUMPRODUCT(N(ISNUMBER(FIND({\"s\";\"d\";\"f\"},C6))))>0,G6+J6<0,AND(G6>0,J6>0,I6>\"20:30\"*1),AND(I6<=\"20:30\"*1,SUM(I6,R6)>=\"20:31\"*1)),1,\"\"),\"\")","v":""},"",null,"",0,{"$f":"T6*24","v":0},null,"0,00"]
[null,"2018-12-04",null,null,{"$f":"IFERROR(VLOOKUP(C7,TR!$B$2:$F$633,2,0),\"\")","v":""},{"$f":"IFERROR(VLOOKUP(C7,TR!$B$2:$F$633,3,0),\"\")","v":""},"00:00:00",{"$f":"IFERROR(VLOOKUP(C7,TR!$B$2:$F$633,4,0),\"\")","v":""},{"$f":"IFERROR(VLOOKUP(C7,TR!$B$2:$F$633,5,0),\"\")","v":""},"00:00:00","","","","","",{"$f":"IF(AND(L7=\"\",M7=\"\"),IF(OR(SUMPRODUCT(N(ISNUMBER(FIND({\"s\";\"d\";\"f\"},C7))))>0,G7+J7<0,AND(G7>0,J7>0,I7>\"20:30\"*1),AND(I7<=\"20:30\"*1,SUM(I7,R7)>=\"20:31\"*1)),1,\"\"),\"\")","v":""},"",null,"",0,{"$f":"T7*24","v":0},null,"0,00"]
[null,"2018-12-05",null,null,{"$f":"IFERROR(VLOOKUP(C8,TR!$B$2:$F$633,2,0),\"\")","v":""},{"$f":"IFERROR(VLOOKUP(C8,TR!$B$2:$F$633,3,0),\"\")","v":""},"00:00:00",{"$f":"IFERROR(VLOOKUP(C8,TR!$B$2:$F$633,4,0),\"\")","v":""},{"$f":"IFERROR(VLOOKUP(C8,TR!$B$2:$F$633,5,0),\"\")","v":""},"00:00:00","","","","","",{"$f":"IF(AND(L8=\"\",M8=\"\"),IF(OR(SUMPRODUCT(N(ISNUMBER(FIND({\"s\";\"d\";\"f\"},C8))))>0,G8+J8<0,AND(G8>0,J8>0,I8>\"20:30\"*1),AND(I8<=\"20:30\"*1,SUM(I8,R8)>=\"20:31\"*1)),1,\"\"),\"\")","v":""},"",null,"",0,0,null,"0,00"]
[null,"2018-12-06",null,null,{"$f":"IFERROR(VLOOKUP(C9,TR!$B$2:$F$633,2,0),\"\")","v":""},{"$f":"IFERROR(VLOOKUP(C9,TR!$B$2:$F$633,3,0),\"\")","v":""},"00:00:00",{"$f":"IFERROR(VLOOKUP(C9,TR!$B$2:$F$633,4,0),\"\")","v":""},{"$f":"IFERROR(VLOOKUP(C9,TR!$B$2:$F$633,5,0),\"\")","v":""},"00:00:00","","","","","",{"$f":"IF(AND(L9=\"\",M9=\"\"),IF(OR(SUMPRODUCT(N(ISNUMBER(FIND({\"s\";\"d\";\"f\"},C9))))>0,G9+J9<0,AND(G9>0,J9>0,I9>\"20:30\"*1),AND(I9<=\"20:30\"*1,SUM(I9,R9)>=\"20:31\"*1)),1,\"\"),\"\")","v":""},"",null,"",0,0,null,"0,00"]
[null,"2018-12-07",null,null,{"$f":"IFERROR(VLOOKUP(C10,TR!$B$2:$F$633,2,0),\"\")","v":""},{"$f":"IFERROR(VLOOKUP(C10,TR!$B$2:$F$633,3,0),\"\")","v":""},"00:00:00",{"$f":"IFERROR(VLOOKUP(C10,TR!$B$2:$F$633,4,0),\"\")","v":""},{"$f":"IFERROR(VLOOKUP(C10,TR!$B$2:$F$633,5,0),\"\")","v":""},"00:00:00","","","","","",{"$f":"IF(AND(L10=\"\",M10=\"\"),IF(OR(SUMPRODUCT(N(ISNUMBER(FIND({\"s\";\"d\";\"f\"},C10))))>0,G10+J10<0,AND(G10>0,J10>0,I10>\"20:30\"*1),AND(I10<=\"20:30\"*1,SUM(I10,R10)>=\"20:31\"*1)),1,\"\"),\"\")","v":""},"",null,"",0,0,null,"0,00"]
[null,"2018-12-08",null,null,{"$f":"IFERROR(VLOOKUP(C11,TR!$B$2:$F$633,2,0),\"\")","v":""},{"$f":"IFERROR(VLOOKUP(C11,TR!$B$2:$F$633,3,0),\"\")","v":""},"00:00:00",{"$f":"IFERROR(VLOOKUP(C11,TR!$B$2:$F$633,4,0),\"\")","v":""},{"$f":"IFERROR(VLOOKUP(C11,TR!$B$2:$F$633,5,0),\"\")","v":""},"00:00:00","","","","","",{"$f":"IF(AND(L11=\"\",M11=\"\"),IF(OR(SUMPRODUCT(N(ISNUMBER(FIND({\"s\";\"d\";\"f\"},C11))))>0,G11+J11<0,AND(G11>0,J11>0,I11>\"20:30\"*1),AND(I11<=\"20:30\"*1,SUM(I11,R11)>=\"20:31\"*1)),1,\"\"),\"\")","v":""},"",null,"",0,0,null,"0,00"]
[null,"2018-12-09",null,null,{"$f":"IFERROR(VLOOKUP(C12,TR!$B$2:$F$633,2,0),\"\")","v":""},{"$f":"IFERROR(VLOOKUP(C12,TR!$B$2:$F$633,3,0),\"\")","v":""},"00:00:00",{"$f":"IFERROR(VLOOKUP(C12,TR!$B$2:$F$633,4,0),\"\")","v":""},{"$f":"IFERROR(VLOOKUP(C12,TR!$B$2:$F$633,5,0),\"\")","v":""},"00:00:00","","","","","",{"$f":"IF(AND(L12=\"\",M12=\"\"),IF(OR(SUMPRODUCT(N(ISNUMBER(FIND({\"s\";\"d\";\"f\"},C12))))>0,G12+J12<0,AND(G12>0,J12>0,I12>\"20:30\"*1),AND(I12<=\"20:30\"*1,SUM(I12,R12)>=\"20:31\"*1)),1,\"\"),\"\")","v":""},"",null,"",0,0,null,"0,00"]
[null,"2018-12-10",null,null,{"$f":"IFERROR(VLOOKUP(C13,TR!$B$2:$F$633,2,0),\"\")","v":""},{"$f":"IFERROR(VLOOKUP(C13,TR!$B$2:$F$633,3,0),\"\")","v":""},"00:00:00",{"$f":"IFERROR(VLOOKUP(C13,TR!$B$2:$F$633,4,0),\"\")","v":""},{"$f":"IFERROR(VLOOKUP(C13,TR!$B$2:$F$633,5,0),\"\")","v":""},"00:00:00","","","","","",{"$f":"IF(AND(L13=\"\",M13=\"\"),IF(OR(SUMPRODUCT(N(ISNUMBER(FIND({\"s\";\"d\";\"f\"},C13))))>0,G13+J13<0,AND(G13>0,J13>0,I13>\"20:30\"*1),AND(I13<=\"20:30\"*1,SUM(I13,R13)>=\"20:31\"*1)),1,\"\"),\"\")","v":""},"",null,"",0,0,null,"0,00"]
[null,"2018-12-11",null,null,{"$f":"IFERROR(VLOOKUP(C14,TR!$B$2:$F$633,2,0),\"\")","v":""},{"$f":"IFERROR(VLOOKUP(C14,TR!$B$2:$F$633,3,0),\"\")","v":""},"00:00:00",{"$f":"IFERROR(VLOOKUP(C14,TR!$B$2:$F$633,4,0),\"\")","v":""},{"$f":"IFERROR(VLOOKUP(C14,TR!$B$2:$F$633,5,0),\"\")","v":""},"00:00:00","","","","","",{"$f":"IF(AND(L14=\"\",M14=\"\"),IF(OR(SUMPRODUCT(N(ISNUMBER(FIND({\"s\";\"d\";\"f\"},C14))))>0,G14+J14<0,AND(G14>0,J14>0,I14>\"20:30\"*1),AND(I14<=\"20:30\"*1,SUM(I14,R14)>=\"20:31\"*1)),1,\"\"),\"\")","v":""},"",null,"",0,0,null,"0,00"]
[null,"2018-12-12",null,null,{"$f":"IFERROR(VLOOKUP(C15,TR!$B$2:$F$633,2,0),\"\")","v":""},{"$f":"IFERROR(VLOOKUP(C15,TR!$B$2:$F$633,3,0),\"\")","v":""},"00:00:00",{"$f":"IFERROR(VLOOKUP(C15,TR!$B$2:$F$633,4,0),\"\")","v":""},{"$f":"IFERROR(VLOOKUP(C15,TR!$B$2:$F$633,5,0),\"\")","v":""},"00:00:00","","","","","",{"$f":"IF(AND(L15=\"\",M15=\"\"),IF(OR(SUMPRODUCT(N(ISNUMBER(FIND({\"s\";\"d\";\"f\"},C15))))>0,G15+J15<0,AND(G15>0,J15>0,I15>\"20:30\"*1),AND(I15<=\"20:30\"*1,SUM(I15,R15)>=\"20:31\"*1)),1,\"\"),\"\")","v":""},"",null,"",0,0,null,"0,00"]
[null,"2018-12-13",null,null,{"$f":"IFERROR(VLOOKUP(C16,TR!$B$2:$F$633,2,0),\"\")","v":""},{"$f":"IFERROR(VLOOKUP(C16,TR!$B$2:$F$633,3,0),\"\")","v":""},"00:00:00",{"$f":"IFERROR(VLOOKUP(C16,TR!$B$2:$F$633,4,0),\"\")","v":""},{"$f":"IFERROR(VLOOKUP(C16,TR!$B$2:$F$633,5,0),\"\")","v":""},"00:00:00","","","","","",{"$f":"IF(AND(L16=\"\",M16=\"\"),IF(OR(SUMPRODUCT(N(ISNUMBER(FIND({\"s\";\"d\";\"f\"},C16))))>0,G16+J16<0,AND(G16>0,J16>0,I16>\"20:30\"*1),AND(I16<=\"20:30\"*1,SUM(I16,R16)>=\"20:31\"*1)),1,\"\"),\"\")","v":""},"",null,"",0,0,null,"0,00"]
[null,"2018-12-14",null,null,{"$f":"IFERROR(VLOOKUP(C17,TR!$B$2:$F$633,2,0),\"\")","v":""},{"$f":"IFERROR(VLOOKUP(C17,TR!$B$2:$F$633,3,0),\"\")","v":""},"00:00:00",{"$f":"IFERROR(VLOOKUP(C17,TR!$B$2:$F$633,4,0),\"\")","v":""},{"$f":"IFERROR(VLOOKUP(C17,TR!$B$2:$F$633,5,0),\"\")","v":""},"00:00:00","","","","","",{"$f":"IF(AND(L17=\"\",M17=\"\"),IF(OR(SUMPRODUCT(N(ISNUMBER(FIND({\"s\";\"d\";\"f\"},C17))))>0,G17+J17<0,AND(G17>0,J17>0,I17>\"20:30\"*1),AND(I17<=\"20:30\"*1,SUM(I17,R17)>=\"20:31\"*1)),1,\"\"),\"\")","v":""},"",null,"",0,0,null,"0,00"]
[null,"2018-12-15",null,null,{"$f":"IFERROR(VLOOKUP(C18,TR!$B$2:$F$633,2,0),\"\")","v":""},{"$f":"IFERROR(VLOOKUP(C18,TR!$B$2:$F$633,3,0),\"\")","v":""},"00:00:00",{"$f":"IFERROR(VLOOKUP(C18,TR!$B$2:$F$633,4,0),\"\")","v":""},{"$f":"IFERROR(VLOOKUP(C18,TR!$B$2:$F$633,5,0),\"\")","v":""},"00:00:00","","","","","",{"$f":"IF(AND(L18=\"\",M18=\"\"),IF(OR(SUMPRODUCT(N(ISNUMBER(FIND({\"s\";\"d\";\"f\"},C18))))>0,G18+J18<0,AND(G18>0,J18>0,I18>\"20:30\"*1),AND(I18<=\"20:30\"*1,SUM(I18,R18)>=\"20:31\"*1)),1,\"\"),\"\")","v":""},"",null,"",0,0,null,"0,00"]
[null,"2018-12-16",null,null,{"$f":"IFERROR(VLOOKUP(C19,TR!$B$2:$F$633,2,0),\"\")","v":""},{"$f":"IFERROR(VLOOKUP(C19,TR!$B$2:$F$633,3,0),\"\")","v":""},"00:00:00",{"$f":"IFERROR(VLOOKUP(C19,TR!$B$2:$F$633,4,0),\"\")","v":""},{"$f":"IFERROR(VLOOKUP(C19,TR!$B$2:$F$633,5,0),\"\")","v":""},"00:00:00","","","","","",{"$f":"IF(AND(L19=\"\",M19=\"\"),IF(OR(SUMPRODUCT(N(ISNUMBER(FIND({\"s\";\"d\";\"f\"},C19))))>0,G19+J19<0,AND(G19>0,J19>0,I19>\"20:30\"*1),AND(I19<=\"20:30\"*1,SUM(I19,R19)>=\"20:31\"*1)),1,\"\"),\"\")","v":""},"",null,"",0,0,null,"0,00"]
[null,"2018-12-17",null,null,{"$f":"IFERROR(VLOOKUP(C20,TR!$B$2:$F$633,2,0),\"\")","v":""},{"$f":"IFERROR(VLOOKUP(C20,TR!$B$2:$F$633,3,0),\"\")","v":""},"00:00:00",{"$f":"IFERROR(VLOOKUP(C20,TR!$B$2:$F$633,4,0),\"\")","v":""},{"$f":"IFERROR(VLOOKUP(C20,TR!$B$2:$F$633,5,0),\"\")","v":""},"00:00:00","","","","","",{"$f":"IF(AND(L20=\"\",M20=\"\"),IF(OR(SUMPRODUCT(N(ISNUMBER(FIND({\"s\";\"d\";\"f\"},C20))))>0,G20+J20<0,AND(G20>0,J20>0,I20>\"20:30\"*1),AND(I20<=\"20:30\"*1,SUM(I20,R20)>=\"20:31\"*1)),1,\"\"),\"\")","v":""},"",null,"",0,0,null,"0,00"]
[null,"2018-12-18",null,null,{"$f":"IFERROR(VLOOKUP(C21,TR!$B$2:$F$633,2,0),\"\")","v":""},{"$f":"IFERROR(VLOOKUP(C21,TR!$B$2:$F$633,3,0),\"\")","v":""},"00:00:00",{"$f":"IFERROR(VLOOKUP(C21,TR!$B$2:$F$633,4,0),\"\")","v":""},{"$f":"IFERROR(VLOOKUP(C21,TR!$B$2:$F$633,5,0),\"\")","v":""},"00:00:00","","","","","",{"$f":"IF(AND(L21=\"\",M21=\"\"),IF(OR(SUMPRODUCT(N(ISNUMBER(FIND({\"s\";\"d\";\"f\"},C21))))>0,G21+J21<0,AND(G21>0,J21>0,I21>\"20:30\"*1),AND(I21<=\"20:30\"*1,SUM(I21,R21)>=\"20:31\"*1)),1,\"\"),\"\")","v":""},"",null,"",0,0,null,"0,00"]
[null,"2018-12-19",null,null,{"$f":"IFERROR(VLOOKUP(C22,TR!$B$2:$F$633,2,0),\"\")","v":""},{"$f":"IFERROR(VLOOKUP(C22,TR!$B$2:$F$633,3,0),\"\")","v":""},"00:00:00",{"$f":"IFERROR(VLOOKUP(C22,TR!$B$2:$F$633,4,0),\"\")","v":""},{"$f":"IFERROR(VLOOKUP(C22,TR!$B$2:$F$633,5,0),\"\")","v":""},"00:00:00","","","","","",{"$f":"IF(AND(L22=\"\",M22=\"\"),IF(OR(SUMPRODUCT(N(ISNUMBER(FIND({\"s\";\"d\";\"f\"},C22))))>0,G22+J22<0,AND(G22>0,J22>0,I22>\"20:30\"*1),AND(I22<=\"20:30\"*1,SUM(I22,R22)>=\"20:31\"*1)),1,\"\"),\"\")","v":""},"",null,"",0,0,null,"0,00"]
[null,"2018-12-20",null,null,{"$f":"IFERROR(VLOOKUP(C23,TR!$B$2:$F$633,2,0),\"\")","v":""},{"$f":"IFERROR(VLOOKUP(C23,TR!$B$2:$F$633,3,0),\"\")","v":""},"00:00:00",{"$f":"IFERROR(VLOOKUP(C23,TR!$B$2:$F$633,4,0),\"\")","v":""},{"$f":"IFERROR(VLOOKUP(C23,TR!$B$2:$F$633,5,0),\"\")","v":""},"00:00:00","","","","","",{"$f":"IF(AND(L23=\"\",M23=\"\"),IF(OR(SUMPRODUCT(N(ISNUMBER(FIND({\"s\";\"d\";\"f\"},C23))))>0,G23+J23<0,AND(G23>0,J23>0,I23>\"20:30\"*1),AND(I23<=\"20:30\"*1,SUM(I23,R23)>=\"20:31\"*1)),1,\"\"),\"\")","v":""},"",null,"",0,0,null,"0,00"]
[null,"2018-12-21",null,null,{"$f":"IFERROR(VLOOKUP(C24,TR!$B$2:$F$633,2,0),\"\")","v":""},{"$f":"IFERROR(VLOOKUP(C24,TR!$B$2:$F$633,3,0),\"\")","v":""},"00:00:00",{"$f":"IFERROR(VLOOKUP(C24,TR!$B$2:$F$633,4,0),\"\")","v":""},{"$f":"IFERROR(VLOOKUP(C24,TR!$B$2:$F$633,5,0),\"\")","v":""},"00:00:00","","","","","",{"$f":"IF(AND(L24=\"\",M24=\"\"),IF(OR(SUMPRODUCT(N(ISNUMBER(FIND({\"s\";\"d\";\"f\"},C24))))>0,G24+J24<0,AND(G24>0,J24>0,I24>\"20:30\"*1),AND(I24<=\"20:30\"*1,SUM(I24,R24)>=\"20:31\"*1)),1,\"\"),\"\")","v":""},"",null,"",0,0,null,"0,00"]
[null,"2018-12-22",null,null,{"$f":"IFERROR(VLOOKUP(C25,TR!$B$2:$F$633,2,0),\"\")","v":""},{"$f":"IFERROR(VLOOKUP(C25,TR!$B$2:$F$633,3,0),\"\")","v":""},"00:00:00",{"$f":"IFERROR(VLOOKUP(C25,TR!$B$2:$F$633,4,0),\"\")","v":""},{"$f":"IFERROR(VLOOKUP(C25,TR!$B$2:$F$633,5,0),\"\")","v":""},"00:00:00","","","","","",{"$f":"IF(AND(L25=\"\",M25=\"\"),IF(OR(SUMPRODUCT(N(ISNUMBER(FIND({\"s\";\"d\";\"f\"},C25))))>0,G25+J25<0,AND(G25>0,J25>0,I25>\"20:30\"*1),AND(I25<=\"20:30\"*1,SUM(I25,R25)>=\"20:31\"*1)),1,\"\"),\"\")","v":""},"",null,"",0,0,null,"0,00"]
[null,"2018-12-23",null,null,{"$f":"IFERROR(VLOOKUP(C26,TR!$B$2:$F$633,2,0),\"\")","v":""},{"$f":"IFERROR(VLOOKUP(C26,TR!$B$2:$F$633,3,0),\"\")","v":""},"00:00:00",{"$f":"IFERROR(VLOOKUP(C26,TR!$B$2:$F$633,4,0),\"\")","v":""},{"$f":"IFERROR(VLOOKUP(C26,TR!$B$2:$F$633,5,0),\"\")","v":""},"00:00:00","","","","","",{"$f":"IF(AND(L26=\"\",M26=\"\"),IF(OR(SUMPRODUCT(N(ISNUMBER(FIND({\"s\";\"d\";\"f\"},C26))))>0,G26+J26<0,AND(G26>0,J26>0,I26>\"20:30\"*1),AND(I26<=\"20:30\"*1,SUM(I26,R26)>=\"20:31\"*1)),1,\"\"),\"\")","v":""},"",null,"",0,0,null,"0,00"]
[null,"2018-12-24",null,null,{"$f":"IFERROR(VLOOKUP(C27,TR!$B$2:$F$633,2,0),\"\")","v":""},{"$f":"IFERROR(VLOOKUP(C27,TR!$B$2:$F$633,3,0),\"\")","v":""},"00:00:00",{"$f":"IFERROR(VLOOKUP(C27,TR!$B$2:$F$633,4,0),\"\")","v":""},{"$f":"IFERROR(VLOOKUP(C27,TR!$B$2:$F$633,5,0),\"\")","v":""},"00:00:00","","","","","",{"$f":"IF(AND(L27=\"\",M27=\"\"),IF(OR(SUMPRODUCT(N(ISNUMBER(FIND({\"s\";\"d\";\"f\"},C27))))>0,G27+J27<0,AND(G27>0,J27>0,I27>\"20:30\"*1),AND(I27<=\"20:30\"*1,SUM(I27,R27)>=\"20:31\"*1)),1,\"\"),\"\")","v":""},"",null,"",0,0,null,"0,00"]
[null,"2018-12-25",null,null,{"$f":"IFERROR(VLOOKUP(C28,TR!$B$2:$F$633,2,0),\"\")","v":""},{"$f":"IFERROR(VLOOKUP(C28,TR!$B$2:$F$633,3,0),\"\")","v":""},"00:00:00",{"$f":"IFERROR(VLOOKUP(C28,TR!$B$2:$F$633,4,0),\"\")","v":""},{"$f":"IFERROR(VLOOKUP(C28,TR!$B$2:$F$633,5,0),\"\")","v":""},"00:00:00","","","","","",{"$f":"IF(AND(L28=\"\",M28=\"\"),IF(OR(SUMPRODUCT(N(ISNUMBER(FIND({\"s\";\"d\";\"f\"},C28))))>0,G28+J28<0,AND(G28>0,J28>0,I28>\"20:30\"*1),AND(I28<=\"20:30\"*1,SUM(I28,R28)>=\"20:31\"*1)),1,\"\"),\"\")","v":""},"",null,"",0,0,null,"0,00"]
[null,"2018-12-26",null,null,{"$f":"IFERROR(VLOOKUP(C29,TR!$B$2:$F$633,2,0),\"\")","v":""},{"$f":"IFERROR(VLOOKUP(C29,TR!$B$2:$F$633,3,0),\"\")","v":""},"00:00:00",{"$f":"IFERROR(VLOOKUP(C29,TR!$B$2:$F$633,4,0),\"\")","v":""},{"$f":"IFERROR(VLOOKUP(C29,TR!$B$2:$F$633,5,0),\"\")","v":""},"00:00:00","","","","","",{"$f":"IF(AND(L29=\"\",M29=\"\"),IF(OR(SUMPRODUCT(N(ISNUMBER(FIND({\"s\";\"d\";\"f\"},C29))))>0,G29+J29<0,AND(G29>0,J29>0,I29>\"20:30\"*1),AND(I29<=\"20:30\"*1,SUM(I29,R29)>=\"20:31\"*1)),1,\"\"),\"\")","v":""},"",null,"",0,0,null,"0,00"]
[null,"2018-12-27",null,null,{"$f":"IFERROR(VLOOKUP(C30,TR!$B$2:$F$633,2,0),\"\")","v":""},{"$f":"IFERROR(VLOOKUP(C30,TR!$B$2:$F$633,3,0),\"\")","v":""},"00:00:00",{"$f":"IFERROR(VLOOKUP(C30,TR!$B$2:$F$633,4,0),\"\")","v":""},{"$f":"IFERROR(VLOOKUP(C30,TR!$B$2:$F$633,5,0),\"\")","v":""},"00:00:00","","","","","",{"$f":"IF(AND(L30=\"\",M30=\"\"),IF(OR(SUMPRODUCT(N(ISNUMBER(FIND({\"s\";\"d\";\"f\"},C30))))>0,G30+J30<0,AND(G30>0,J30>0,I30>\"20:30\"*1),AND(I30<=\"20:30\"*1,SUM(I30,R30)>=\"20:31\"*1)),1,\"\"),\"\")","v":""},"",null,"",0,0,null,"0,00"]
[null,"2018-12-28",null,null,{"$f":"IFERROR(VLOOKUP(C31,TR!$B$2:$F$633,2,0),\"\")","v":""},{"$f":"IFERROR(VLOOKUP(C31,TR!$B$2:$F$633,3,0),\"\")","v":""},"00:00:00",{"$f":"IFERROR(VLOOKUP(C31,TR!$B$2:$F$633,4,0),\"\")","v":""},{"$f":"IFERROR(VLOOKUP(C31,TR!$B$2:$F$633,5,0),\"\")","v":""},"00:00:00","","","","","",{"$f":"IF(AND(L31=\"\",M31=\"\"),IF(OR(SUMPRODUCT(N(ISNUMBER(FIND({\"s\";\"d\";\"f\"},C31))))>0,G31+J31<0,AND(G31>0,J31>0,I31>\"20:30\"*1),AND(I31<=\"20:30\"*1,SUM(I31,R31)>=\"20:31\"*1)),1,\"\"),\"\")","v":""},"",null,"",0,0,null,"0,00"]
[null,"2018-12-29",null,null,{"$f":"IFERROR(VLOOKUP(C32,TR!$B$2:$F$633,2,0),\"\")","v":""},{"$f":"IFERROR(VLOOKUP(C32,TR!$B$2:$F$633,3,0),\"\")","v":""},"00:00:00",{"$f":"IFERROR(VLOOKUP(C32,TR!$B$2:$F$633,4,0),\"\")","v":""},{"$f":"IFERROR(VLOOKUP(C32,TR!$B$2:$F$633,5,0),\"\")","v":""},"00:00:00","","","","","",{"$f":"IF(AND(L32=\"\",M32=\"\"),IF(OR(SUMPRODUCT(N(ISNUMBER(FIND({\"s\";\"d\";\"f\"},C32))))>0,G32+J32<0,AND(G32>0,J32>0,I32>\"20:30\"*1),AND(I32<=\"20:30\"*1,SUM(I32,R32)>=\"20:31\"*1)),1,\"\"),\"\")","v":""},"",null,"",0,0,null,"0,00"]
[null,"2018-12-30",null,null,{"$f":"IFERROR(VLOOKUP(C33,TR!$B$2:$F$633,2,0),\"\")","v":""},{"$f":"IFERROR(VLOOKUP(C33,TR!$B$2:$F$633,3,0),\"\")","v":""},"00:00:00",{"$f":"IFERROR(VLOOKUP(C33,TR!$B$2:$F$633,4,0),\"\")","v":""},{"$f":"IFERROR(VLOOKUP(C33,TR!$B$2:$F$633,5,0),\"\")","v":""},"00:00:00","","","","","",{"$f":"IF(AND(L33=\"\",M33=\"\"),IF(OR(SUMPRODUCT(N(ISNUMBER(FIND({\"s\";\"d\";\"f\"},C33))))>0,G33+J33<0,AND(G33>0,J33>0,I33>\"20:30\"*1),AND(I33<=\"20:30\"*1,SUM(I33,R33)>=\"20:31\"*1)),1,\"\"),\"\")","v":""},"",null,"",0,0,null,"0,00"]
[null,"2018-12-31",null,null,{"$f":"IFERROR(VLOOKUP(C34,TR!$B$2:$F$633,2,0),\"\")","v":""},{"$f":"IFERROR(VLOOKUP(C34,TR!$B$2:$F$633,3,0),\"\")","v":""},"00:00:00",{"$f":"IFERROR(VLOOKUP(C34,TR!$B$2:$F$633,4,0),\"\")","v":""},{"$f":"IFERROR(VLOOKUP(C34,TR!$B$2:$F$633,5,0),\"\")","v":""},"00:00:00","","","","",{"$f":"IF(AND(LEFT(C34,1)=\"f\",AND(O33<>1)),1,IF(OR(ISNUMBER(FIND(\"FériéCC\",C34)),ISNUMBER(FIND(\"FériéCH\",C34)),ISNUMBER(FIND(\"f\",C34))),1,\"\"))","v":""},{"$f":"IF(AND(L34=\"\",M34=\"\"),IF(OR(SUMPRODUCT(N(ISNUMBER(FIND({\"s\";\"d\";\"f\"},C34))))>0,G34+J34<0,AND(G34>0,J34>0,I34>\"20:30\"*1),AND(I34<=\"20:30\"*1,SUM(I34,R34)>=\"20:31\"*1)),1,\"\"),\"\")","v":""},"",null,"",0,0,null,"0,00"]
[]
[null,"Jours travaillés",{"$f":"(COUNTIF(Novembre!C24:C34,\"<>\")+COUNTIF(Décembre!C4:C23,\"<>\"))-(COUNTIF(Novembre!C24:C34,\"CC*\")+COUNTIF(Décembre!C4:C23,\"CC*\"))-(COUNTIF(Novembre!C24:C34,\"CH*\")+COUNTIF(Décembre!C4:C23,\"CH*\"))-(COUNTIF(Novembre!C24:C34,\"RT*\")+COUNTIF(Décembre!C4:C23,\"RT*\"))-(COUNTIF(Novembre!C24:C34,\"Férié*\")+COUNTIF(Décembre!C4:C23,\"Férié*\"))-(COUNTIF(Novembre!C24:C34,\"Mal*\")+COUNTIF(Décembre!C4:C23,\"Mal*\"))-(COUNTIF(Novembre!C24:C34,\"CP*\")+COUNTIF(Décembre!C4:C23,\"CP*\"))","v":0},null,null,null,null,null,"Du 21 au 20",null,{"$f":"SUM(Novembre!$K$24:$K$34,K4:K23)","v":0},{"$f":"SUM(Novembre!$L$24:$L$34,L4:L23)","v":0},{"$f":"SUM(Novembre!$M$24:$M$34,M4:M23)","v":0},{"$f":"SUM(Novembre!$N$24:$N$34,N4:N23)","v":0},{"$f":"SUM(Novembre!$O$24:$O$34,O4:O23)","v":0},{"$f":"SUM(Novembre!$P$24:$P$34,P4:P23)","v":0},{"$f":"SUM(Novembre!$Q$24:$Q$34,Q4:Q23)","v":0},{"$f":"SUM(Novembre!$R$24:$R$34,R4:R23)","v":0},null,{"$f":"SUM(Novembre!T24:T34)+SUM(Décembre!T4:T23)","v":0},{"$f":"SUM(U4:U34)","v":0},{"$f":"SUM(V4:V34)","v":0}]
[null,"CP",{"$f":"(COUNTIF(Novembre!C24:C34,\"CP\")+COUNTIF(Décembre!C4:C23,\"CP\"))","v":0},null,null,null,null,null,null,null,{"$f":"(I39*2)*K36","v":0},{"$f":"Recap!H35*L36","v":0},{"$f":"Recap!H35*M36","v":0},{"$f":"(I39*5)*N36","v":0},{"$f":"(Recap!H33)*O36","v":0},{"$f":"7.5*P36","v":0},{"$f":"(I39*1.5)*Q36","v":0},{"$f":"R36*24","v":0}]
[null,"CH",{"$f":"(COUNTIF(Novembre!C24:C34,\"CH\")+COUNTIF(Décembre!C4:C23,\"CH\"))","v":0},null,null,null,null,null,"VP",null,null,null,null,null,null,null,null,null,null,"Horaire mensuel",null,6.1749999999999998,{"$f":"V38*24","v":148.19999999999999}]
[null,"RT",{"$f":"(COUNTIF(Novembre!C24:C34,\"RT\")+COUNTIF(Décembre!C4:C23,\"RT\"))","v":0},null,null,null,null,null,8.8528000000000002]
[null,"CC",{"$f":"(COUNTIF(Novembre!C24:C34,\"CC\")+COUNTIF(Décembre!C4:C23,\"CC\"))","v":0},null,null,null,null,null,null,null,null,null,null,null,null,null,null,null,null,"Différence",null,{"$f":"IF(V38>T36,\"-\",\"\")&TEXT(ABS(T36-V38),\"[h]:mm\")","v":"-148:12"},{"$f":"(T36-V38)*24","v":-148.19999999999999}]
[null,"Férié",{"$f":"(COUNTIF(Novembre!C24:C34,\"Férié\")+COUNTIF(Décembre!C4:C23,\"Férié\"))","v":0}]
[null,"Férié CC-CH-RT",{"$f":"(COUNTIF(Novembre!C24:C34,\"FériéCC\")+COUNTIF(Décembre!C4:C23,\"FériéCC\")+(COUNTIF(Novembre!C24:C34,\"FériéCH\")+COUNTIF(Décembre!C4:C23,\"FériéCH\")+(COUNTIF(Novembre!C24:C34,\"FériéRT\")+COUNTIF(Décembre!C4:C23,\"FériéRT\"))))","v":0},null,null,null,null,null,null,null,null,null,null,null,null,null,null,"Heures réelles",null,{"$f":"SUM(T4:T34)","v":0}]
[null,null,null,null,null,null,null,null,null,null,null,null,null,null,null,null,null,null,null,{"$f":"T42*24","v":0},null,null,{"$f":"(T42-V38)*24","v":-148.19999999999999}]
[null,"RESTE DECEMBRE"]
[null,"Jours travaillés",{"$f":"COUNTIF(C24:C34,\"<>\")-(COUNTIF(C24:C34,\"CH*\")+COUNTIF(C24:C34,\"RT*\")+COUNTIF(C24:C34,\"CC*\")+COUNTIF(C24:C34,\"Férié*\")+COUNTIF(C24:C34,\"CP*\"))","v":0},null,null,"NOTES"]
[null,"CP",{"$f":"COUNTIF(C24:C34,\"CP\")","v":0}]
[null,"CH",{"$f":"COUNTIF(C24:C34,\"CH\")","v":0}]
[null,"RT",{"$f":"COUNTIF(C24:C34,\"RT\")","v":0}]
[null,"CC",{"$f":"COUNTIF(C24:C34,\"CC\")","v":0}]
[null,"Férié",{"$f":"COUNTIF(C24:C34,\"Férié\")","v":0}]
[null,"Férié CC-CH",{"$f":"COUNTIF(C24:C34,\"FériéCC\")+COUNTIF(C24:C34,\"FériéCH\")+COUNTIF(C24:C34,\"FériéRT\")","v":0}]

{"sheet":"Recap","index":13,"n_rows":35,"n_cols":15,"rows_kept":35,"cut":false,"hidden":false,"merged":[[2,2,2,3],[2,4,2,5],[3,2,3,3],[3,4,3,5],[4,2,4,3],[4,4,4,5],[10,4,10,5],[5,2,5,3],[5,4,5,5],[6,2,6,3],[6,4,6,5],[7,2,7,3],[7,4,7,5],[28,9,28,10],[28,1,28,2],[27,1,27,2],[18,1,18,2],[19,1,19,2],[20,1,20,2],[21,9,21,10],[20,9,20,10],[19,9,19,10],[18,9,18,10],[21,1,21,2],[26,1,26,2],[18,5,18,6],[19,5,19,6],[20,5,20,6],[21,5,21,6],[0,1,0,14],[14,2,14,3],[14,4,14,5],[15,2,15,3],[15,4,15,5],[11,2,11,3],[11,4,11,5],[12,2,12,3],[12,4,12,5],[13,2,13,3],[13,4,13,5],[8,2,8,3],[8,4,8,5],[9,2,9,3],[9,4,9,5],[10,2,10,3]]}
[null,"DU 21 au 20"]
[]
[null,null,"HEURES",null,"CENTIÈMES",null,"MOYENNE","Jours travaillés","CP","CH","RT","CC","Férié","Férié CC-CH-RT","Si H.Sup payées"]
[null,"JANVIER",{"$f":"Janvier!T36","v":4.0395833333333337},null,{"$f":"C4*24","v":96.950000000000017},null,{"$f":"IFERROR(C4/H4,\"\")","v":0.31073717948717949},{"$f":"Janvier!C36","v":13},{"$f":"Janvier!C37","v":0},{"$f":"Janvier!C38","v":2},{"$f":"Janvier!C39","v":1},{"$f":"Janvier!C40","v":4},{"$f":"Janvier!C41","v":0},{"$f":"Janvier!C42","v":0},{"$f":"IF(Janvier!W43<0,\"\",Janvier!W43*D35)","v":""}]
[null,"FÉVRIER",{"$f":"Février!T36","v":3.7590277777777787},null,90.216666666666697,null,{"$f":"IFERROR(C5/H5,\"\")","v":0.31325231481481491},{"$f":"Février!C36","v":12},{"$f":"Février!C37","v":5},{"$f":"Février!C38","v":5},{"$f":"Février!C39","v":2},{"$f":"Février!C40","v":5},{"$f":"Février!C41","v":0},{"$f":"Février!C42","v":0},{"$f":"IF(Février!W43<0,\"\",Février!W43*D35)","v":""}]
[null,"MARS",{"$f":"Mars!T36","v":3.9548611111111098},null,94.916666666666629,null,0.30422008547008539,{"$f":"Mars!C36","v":13},{"$f":"Mars!C37","v":2},{"$f":"Mars!C38","v":4},{"$f":"Mars!C39","v":1},{"$f":"Mars!C40","v":5},{"$f":"Mars!C41","v":0},{"$f":"Mars!C42","v":0},{"$f":"IF(Mars!W43<0,\"\",Mars!W43*D35)","v":""}]
[null,"AVRIL ",{"$f":"Avril!T36","v":4.4729166666666664},null,107.35,null,0.26311274509803922,{"$f":"Avril!C36","v":17},{"$f":"Avril!C37","v":4},{"$f":"Avril!C38","v":6},{"$f":"Avril!C39","v":0},{"$f":"Avril!C40","v":4},{"$f":"Avril!C41","v":0},{"$f":"Avril!C42","v":0},{"$f":"IF(Avril!W43<0,\"\",Avril!W43*D35)","v":""}]
[null,"MAI",{"$f":"Mai!T36","v":5.5090277777777779},null,132.21666666666667,null,0.30605709876543208,{"$f":"Mai!C36","v":18},{"$f":"Mai!C37","v":0},{"$f":"Mai!C38","v":3},{"$f":"Mai!C39","v":1},{"$f":"Mai!C40","v":5},{"$f":"Mai!C41","v":1},{"$f":"Mai!C42","v":2},{"$f":"IF(Mai!W43<0,\"\",Mai!W43*D35)","v":""}]
[null,"JUIN",{"$f":"Juin!T36","v":5.1423611111111107},null,123.41666666666666,null,0.32139756944444442,{"$f":"Juin!C36","v":16},{"$f":"Juin!C37","v":3},{"$f":"Juin!C38","v":4},{"$f":"Juin!C39","v":1},{"$f":"Juin!C40","v":4},{"$f":"Juin!C41","v":1},{"$f":"Juin!C42","v":0},{"$f":"IF(Juin!W43<0,\"\",Juin!W43*D35)","v":""}]
[null,"JUILLET",{"$f":"Juillet!T36","v":3.927777777777778},null,94.26666666666668,null,0.30213675213675217,{"$f":"Juillet!C36","v":13},{"$f":"Juillet!C37","v":7},{"$f":"Juillet!C38","v":3},{"$f":"Juillet!C39","v":2},{"$f":"Juillet!C40","v":5},{"$f":"Juillet!C41","v":0},{"$f":"Juillet!C42","v":0},{"$f":"IF(Juillet!W43<0,\"\",Juillet!W43*D35)","v":58.77101889338752}]
[null,"AOUT",{"$f":"Aout!T36","v":4.6451388888888889},null,111.48333333333333,null,0.2444809941520468,{"$f":"Aout!C36","v":19},{"$f":"Aout!C37","v":0},{"$f":"Aout!C38","v":5},{"$f":"Aout!C39","v":2},{"$f":"Aout!C40","v":4},{"$f":"Aout!C41","v":1},{"$f":"Aout!C42","v":0},{"$f":"IF(Aout!W43<0,\"\",Aout!W43*D35)","v":""}]
[null,"SEPTEMBRE",{"$f":"Septembre!T36","v":3.2138888888888886},null,77.133333333333326,null,0.13391203703703702,{"$f":"Septembre!C36","v":24},{"$f":"Septembre!C37","v":0},{"$f":"Septembre!C38","v":4},{"$f":"Septembre!C39","v":0},{"$f":"Septembre!C40","v":3},{"$f":"Septembre!C41","v":0},{"$f":"Septembre!C42","v":0},{"$f":"IF(Septembre!W43<0,\"\",Septembre!W43*D35)","v":""}]
[null,"OCTOBRE",{"$f":"Octobre!T36","v":0},null,0,null,0,{"$f":"Octobre!C36","v":6},{"$f":"Octobre!C37","v":0},{"$f":"Octobre!C38","v":2},{"$f":"Octobre!C39","v":0},{"$f":"Octobre!C40","v":2},{"$f":"Octobre!C41","v":0},{"$f":"Octobre!C42","v":0},{"$f":"IF(Octobre!W43<0,\"\",Octobre!W43*D35)","v":""}]
[null,"NOVEMBRE",{"$f":"Novembre!T36","v":0},null,0,null,"",{"$f":"Novembre!C36","v":0},{"$f":"Novembre!C37","v":0},{"$f":"Novembre!C38","v":0},{"$f":"Novembre!C39","v":0},{"$f":"Novembre!C40","v":0},{"$f":"Novembre!C41","v":0},{"$f":"Novembre!C42","v":0},{"$f":"IF(Novembre!W43<0,\"\",Novembre!W43*D35)","v":""}]
[null,"DÉCEMBRE",{"$f":"Décembre!T36","v":0},null,0,null,"",{"$f":"Décembre!C36","v":0},{"$f":"Décembre!C37","v":0},{"$f":"Décembre!C38","v":0},{"$f":"Décembre!C39","v":0},{"$f":"Décembre!C40","v":0},{"$f":"Décembre!C41","v":0},{"$f":"Décembre!C42","v":0},{"$f":"IF(Décembre!W43<0,\"\",Décembre!W43*D35)","v":""}]
[null,"TOTAL",{"$f":"SUM(C4:D15)","v":38.664583333333333},null,{"$f":"SUM(E4:F15)","v":927.95},null,{"$f":"SUM(G4:G15)/12","v":0.20827556470048594},{"$f":"SUM(H4:H15)","v":151},21,38,10,41,3,{"$f":"SUM(N4:N15)","v":2},{"$f":"SUM(O4:O15)","v":58.77101889338752}]
[]
[]
[null,"RTT acquis",null,22.5,null,"CP acquis",null,25,null,"Jours dus"]
[null,"RTT pris",null,{"$f":"K16","v":10},null,"CP pris",null,{"$f":"I16","v":21}]
[]
[null,"Valorisation RTT",null,{"$f":"(D19-D20-0.92)*7.6","v":88.007999999999996},null,"Valorisation CP",null,{"$f":"(H20-H19)*7.6","v":-30.4},null,"Valorisation J.dus",null,{"$f":"(L19)*7.6","v":0}]
[]
[]
[]
[null,"Fériés sur CC CH RT",null,{"$f":"N16","v":2},null,null,null,null,null,"Temps de travail",null,{"$f":"E16","v":927.95}]
[null,null,null,null,null,null,null,null,null,"Horaire de base",null,{"$f":"D34","v":148.19999999999999}]
[null,null,null,null,null,null,null,null,null,"Horaire de référence",null,1556]
[null,"Valorisation CC CH ",null,{"$f":"D26*7.6","v":15.2},null,null,null,null,null,"Solde",null,{"$f":"L26-L28","v":-628.04999999999995}]
[]
[]
[null,"Salaire de base",null,208]
[null,"Prime d'ancienneté",null,1841.38,null,null,"PJ Férié",{"$f":"(D32+D33)/20","v":102.46900000000001}]
[null,"Horaire de base ",null,148.19999999999999]
[null,"Taux horaire",null,{"$f":"IFERROR((D32+D33)/D34,\"\")","v":13.828475033738194},null,null,"PJ 1 et 2",7.14]