{"text_format":"1","workbook":"xlsx","n_sheets":177,"sheets":["  MENU GENERAL"," Liste élèves"," Récapitulatif","Dépenses","AKKURT","BARBET","BARROU","BAUDOUX","BAURAIN","BAUWENS","BEAURY","BEHETSK","BEHETSP","BELLENS","BERTINOTTI","BERTRANDB","BERTRANDd","BIZET","BOBOUCH","BOEMBEKE","BOSSU","BOUAOUDA","BOUAROUROU","BOUAYACHE","BUYS","CAMBRON","CARBONNELLE","CHAVATTE","CHOMEZ","CLAESSENS","COUILLARD","CWIKLA","DAHMANI","DAMBROSIO","DAMIEN","DASPREMONT","DAU","DEBESSELLE","DEBOCK","DEGANDMJ","DEGANDT","DEGEYTERE","DEHBI","DEHOUX","DELCROIX","DELDUCA","DELFABBRO","DELIGNE","DELMARCHE","DENIES","DENIS","DENISTYA","DENISTYQ","DESANTOSMIGUEL","DETROGH","DEVLEESCHAUWER","DEWEVER","DIKER","DISANTO","DONCA","DRIESSENS","DURANT","DUVALA","DUVALG","ELYAMANI","ERYIGITI","ERYIGITS","FAIETAJ","FAKIR","FALANGA","FARCI","FAROOQ","FERRI","FUMIERE","GEORGE","GHERDAOUI","GILLE","GRETZERD","GRETZERV","GUECIOEUR","HAINAUT","HARVANEK","HECQUET","HEMBISE","HOUART","HUBLETG","HUBLETO","HUYBRECHTS","IBOMA","IBRAHIMOVIC","IMPENSJamie","IMPENSJason","ITERBEKE","JACOBS","JAMMES","JAQUBIAK","JEZIERSKI","JOCHMANS","KADRI","KONE","KUYS","LACROIXB","LACROIXM","LAMY","LARDINOIS","LATLASSI","LESSIRE","LOMBARDO","LORSE","MALFROIDT","MANTEAU","MARECHALBRE","MARECHALBRY","MARGUERITE","MARYF","MARYG","MASSART","MASSON","MINNAERTA","MINNAERTC","MINNAERTG","MISEUR","MONSIEUR","MONTEMITRO","MORTELETTE","MOULIN","MOYERSOON","NICAISE","OIKONOMAKIS","OULADBENTAYED","OULJIHATE","OZMEN","PAULUS","PAYEN","PENSIS","PERRONE","PIEDFORTG","PIERRE","PIERROT","PONCIN","POTTEAU","POUSSEUR","PRINCIVALLID","PRINCIVALLIY","RAFFAELE","RENDERS","RINCHARD","SAGHROU","SAUTEUR","SAYE","SCHOBERT","SERDAR","SIGISMONDI","SISSOKO","SOUFFRIAU","SPREUTELS","STEEGMANS","STEVENS","TAMBOUR","TEMSAMANI","TERASSE","TILMAN","TYVAERT","VANBELLINGHEN","VANDAELE","VANDENNOORGATE","VANDEPONTSELE","VANDERHAEGEN","VANHAELEWIJN","VANHUMBEECK","VINCITORIO","VOICU","VULLO","WATHY","WILLEMS","ZEROUALI","ZOULOUFOS"],"not_rendered":{"charts":0,"images":2,"macros":1,"external_links":0,"defined_names":7,"comments":101,"pivot_tables":0},"unopened":[],"bounds":{"document_bytes":16777216,"sheet_cells":100000,"rows_first":2000,"rows_last":500,"rows_between":2000,"halvings":0,"cell_chars":16384,"cell_head_chars":4096},"cells_cut":0,"cells_raw":0,"read":"whole","date_system":"1900"}

{"sheet":"  MENU GENERAL","index":0,"n_rows":48,"n_cols":12,"rows_kept":48,"cut":false,"hidden":false,"merged":[]}
[]
[]
[]
[]
[null,null,null,null," "]
[]
[]
[]
[]
[]
[]
[]
[null,{"$f":"SUM(B9:B12)","v":0}]
[]
[]
[]
[]
[]
[]
[]
[]
[null,null,null,null,"Report Sept",null,null,{"$f":"B8","v":0}]
[null,null,null,null,null,null,null,{"$f":"SUM(H18:H22)","v":0}]
[]
[]
[]
[]
[]
[]
[]
[]
[]
[]
[]
[]
[]
[]
[]
[]
[]
[null,null,null,null,null,null,null,null,null,null,null,{"$f":"H23","v":0}]
[]
[]
[]
[]
[]
[]
[null,null,null,null,null,null,null,null,null,{"$f":"SUM(J42:J47)","v":0},{"$f":"SUM(K42:K47)","v":0},{"$f":"SUM(L41:L47)","v":0}]

{"sheet":" Liste élèves","index":1,"n_rows":177,"n_cols":4,"rows_kept":177,"cut":false,"hidden":false,"merged":[]}
["Année scolaire : ","2018-2019"]
[]
[null,"Liste élèves"]
["NOM","PRENOM","Section","NUM ORDRE"]
["AKKURT","Addin","Classe 10",1]
["BARBET","Gaetan","Classe JB",2]
["BARROU","Othman","Classe 7",3]
["BAUDOUX","Shana","Classe MB",4]
["BAURAIN","Ludovic","Classe FB",5]
["BAUWENS","Jimmy","Classe PA",6]
["BEAURY","Conrad ","Classe PB",7]
["BEHETSK","Kelly","Classe PC",8]
["BEHETSP","Pascal","Classe FB",9]
["BELLENS","Manola","Classe 5",10]
["BERTINOTTI","Synthia","Classe 4",11]
["BERTRANDB","Brandon","Classe FB",12]
["BERTRANDd","Daisy","Classe PB",13]
["BIZET","Dylan","Classe PB",14]
["BOBOUCH","Leila","Classe 5",15]
["BOEMBEKE","Emilie","Classe MC",16]
["BOSSU","Océane","Classe 5",17]
["BOUAOUDA","Anass","Classe PB",18]
["BOUAROUROU","Sofian","Classe FB",19]
["BOUAYACHE","Nouheila","Classe 2",20]
["BUYS","Tom","Classe 11",21]
["CAMBRON","Sullivan","Classe 8",22]
["CARBONNELLE","Cheyenne","Classe MB",23]
["CHAVATTE","Nicolas","Classe PC",24]
["CHOMEZ","Logan","Classe MC",25]
["CLAESSENS","Océane","Classe PA",26]
["COUILLARD","Valentin","Classe MA",27]
["CWIKLA","Morgan","Classe MC",28]
["DAMBROSIO","Nadine","Classe MC",29]
["DAHMANI","Abdelkrim","Classe 4",30]
["DAMIEN","Hélène","Classe MC",31]
["DASPREMONT","Kimberley","Classe MB",32]
["DAU","Qani","Classe 2",33]
["DEBOCK","Ophélie","Classa 4",34]
["DEGEYTERE","Emilie","Classe PA",35]
["DESANTOSMIGUEL","Julian","Classe 3",36]
["DEVLEESCHAUWER","Manon","Classe PC",37]
["DEWEVER","Bryan","Classe PA",38]
["DEBESSELLE","Manon","Classe MB",39]
["DEGANDT","Thomas","Classe 10",40]
["DEGANDMJ","Marry-Jhones","Classe PA",41]
["DEHBI","Yassin","Classe AA",42]
["DEHOUX","Ilona","Classe 1",43]
["DELDUCA","Juliano","Classe AA",44]
["DELFABBRO","Savanna","Classe 2",45]
["DELCROIX","Gaëtan","Classe JB",46]
["DELIGNE","Laurie","Classe 5",47]
["DELMARCHE","Etan","Classe 3",48]
["DENIES","Jason","Classe 8",49]
["DENIS","Bryan","Classe 12",50]
["DENISTYQ","Quentin","Classe 10",51]
["DENISTYA","Arthur","Classe MC",52]
["DETROGH","Miky","Classe JB",53]
["DISANTO","Anthony","Classe AA",54]
["DIKER","Adem","Classe JB",55]
["DONCA","Ionita Alex","Classe 6",56]
["DRIESSENS","Pierre","Classe 3",57]
["DURANT","Morgane","Classe 11",58]
["DUVALA","Anna","Classe MA",59]
["DUVALG","Gabriel","Classe FB",60]
["ELYAMANI","Billal","Classe PC",61]
["ERYIGITI","Ilhan","Classe 2",62]
["ERYIGITS","Sinan","Classe 11",63]
["FAIETAJ","Jodie","Classe JB",64]
["FAKIR","Yassin","Classe 1",65]
["FALANGA","Tony","Classe 9",66]
["FARCI","Jimmy","Classe FB",67]
["FAROOQ","Ramish","Classe 7",68]
["FERRI","Vitoria","Classe 5",69]
["FUMIERE","Aurélie","Classe 2",70]
["GEORGE","Gwendal","Classe 6",71]
["GHERDAOUI","Ines","Classe 4",72]
["GILLE","Mickaël","Classe FB",73]
["GRETZERD","Dylan","Classe 6",74]
["GRETZERV","Victoria","Classe PA",75]
["GUECIOEUR","Hamza","Classe PB",76]
["HAINAUT","Dylan","Classe 4",77]
["HARVANEK","Aaron","Classe JB",78]
["HECQUET","Alicia","Classe MC",79]
["HEMBISE","Vanessa","Classe 11",80]
["HOUART","Logan","Classe 11",81]
["HUBLETG","Giuseppe","Classe PA",82]
["HUBLETO","Ornella","Classe 2",83]
["HUYBRECHTS","Antoine","Classe 1",84]
["IBOMA","Elie","Classe 9",85]
["IBRAHIMOVIC","Tarik","Classe 4",86]
["IMPENSJamie","Jamie","Classe 11",87]
["IMPENSJason","Jason","Classe 3",88]
["ITERBEKE","Obryan","Classe PC",89]
["JACOBS","Jordy","Classe JB",90]
["JAMMES","Maverick","Classe AA",91]
["JAQUBIAK","Youri","Classe 9",92]
["JEZIERSKI","Marine","Classe 1",93]
["JOCHMANS","Emma","Classe 9",94]
["KADRI","Mohammed","Classe 6",95]
["KONE","Anthony","Classe 8",96]
["KUYS","Océane","Classe MA",97]
["LACROIXB","Brandon","Classe 7",98]
["LACROIXM","Marina","Classe PA",99]
["LAMY","Alexandre","Classe 8",100]
["LARDINOIS","Enola","Classe MA",101]
["LATLASSI","Samia","Classe 12",102]
["LESSIRE","Océane","Classe AA",103]
["LOMBARDO","Sébastien","Classe 1",104]
["LORSE","Vincent","Classe JB",105]
["MALFROIDT","Laura","Classe MC",106]
["MANTEAU","Christopher","Classe FB",107]
["MARECHALBRY","Bryan","Classe 7",108]
["MARECHALBRE","Brendan","Classe 6",109]
["MARGUERITE","Laurent","Classe 7",110]
["MARYF","Fiona","Classe 12",111]
["MARYG","Gwendoline","Classe MA",112]
["MASSART","Lorenzo","Classe PC",113]
["MASSON","Noah","Classe 10",114]
["MINNAERTA","Alexandra","Classe 4",115]
["MINNAERTC","Cassandra","Classe MA",116]
["MINNAERTG","Grégory","Classe 8",117]
["MISEUR","Thomas","Classe JB",118]
["MONSIEUR","Manuel","Classe FB",119]
["MONTEMITRO","Samuel","Classe PC",120]
["MORTELETTE","Lucas","Classe MC",121]
["MOULIN","Christopher","Classe 6",122]
["MOYERSOON","Laure","Classe 5",123]
["NICAISE","Bryan","Classe MA",124]
["OIKONOMAKIS","Iosif","Classe 3",125]
["OULADBENTAYED","Nadir","Classe 10",126]
["OULJIHATE","Wassin","Classe 12",127]
["OZMEN","Furkan","Classe 6",128]
["PAULUS","Kévin","Classe PC",129]
["PAYEN","Dorian","Classe 12",130]
["PENSIS","Loris","Classe PA",131]
["PERRONE","Luigi","Classe AA",132]
["PIEDFORTG","Gauthier","Classe MA",133]
["PIERRE","Valentin","Classe 9",134]
["PIERROT","Fabrice","Classe PB",135]
["PONCIN","Stéphanie","Classe PB",136]
["POTTEAU","Noah","Classe MC",137]
["POUSSEUR","Noah","Classe 11",138]
["PRINCIVALLID","Dylan","Classe 6",139]
["PRINCIVALLIY","Yohan","Classe 8",140]
["RAFFAELE","Alessia","Classe MA",141]
["RENDERS","Benoît","Classe 12",142]
["RINCHARD","Esteban","Classe AA",143]
["SAGHROU","Zakariya","Classe 3",144]
["SAUTEUR","Nolan","Classe MB",145]
["SAYE","Gwendoline","Classe MC",146]
["SCHOBERT","Noémie","Classe 5",147]
["SERDAR","Huda","Classe 9",148]
["SIGISMONDI","Lhoïk","Classe 7",149]
["SISSOKO","Djimeta","Classe 10",150]
["SOUFFRIAU","Jordy","Classe 3",151]
["SPREUTELS","Nicolas","Classe 3",152]
["STEEGMANS","Bryan","Classe 7",153]
["STEVENS","Rémy","Classe JB",154]
["TAMBOUR","Samuel","Classe MA",155]
["TEMSAMANI","Moad Nail","Classe FB",156]
["TERASSE","Florian","Classe MB",157]
["TILMAN","Leslie","Classe 5",158]
["TYVAERT","Kayrrigan","Classe 12",159]
["VANDAELE","Steven","Classe 10",160]
["VANBELLINGHEN","Adeline","Classe MB",161]
["VANDEPONTSELE","Mélinda","Classe 5",162]
["VANDENNOORGATE","Loredana","Classe 2",163]
["VANDERHAEGEN","Tim ","Classe 1",164]
["VANHAELEWIJN","Quentin","Classe PC",165]
["VANHUMBEECK","Mickael","Classe FB",166]
["VINCITORIO","Dorian","Classe AA",167]
["VOICU","Ionut Cristian","Classe 1",168]
["VULLO","Massimo","Classe 2",169]
["WATHY","Scott","Classe 11",170]
["WILLEMS","Killian","Classe 3",171]
["ZEROUALI","Mohamed","Classe 8",172]
["ZOULOUFOS","Nicolas","Classe 4",173]

{"sheet":" Récapitulatif","index":2,"n_rows":178,"n_cols":16,"rows_kept":178,"cut":false,"hidden":false,"merged":[[2,11,3,11],[3,4,3,6],[3,7,3,9]]}
["18/19",null,null,null,null,null,"total = report +recette -depenses"]
[]
[null,"Récapitulatif",null,null,null,null,null,null,null,null,null,"a rembourser  de 16/17",null,154.77000000000001]
[null,null,null,null,{"$f":"BARBET!E16","v":"Situation fin décembre"},null,null,{"$f":"BARBET!I39","v":"Situation fin juin"},null,null,"A RBSER",null,"A FACTURER","ODR163/17","vérif L50  ","vérif L52 "]
["NOM","Prénom","Classe","report","Recettes","Dépenses","Total","Recettes","Dépenses","Total"]
[{"$f":"' Liste élèves'!A5","v":"AKKURT"},{"$f":"' Liste élèves'!B5","v":"Addin"},{"$f":"' Liste élèves'!C5","v":"Classe 10"},{"$f":"INDIRECT($A6&\"!$B$8\")","v":0}]
[{"$f":"' Liste élèves'!A6","v":"BARBET"},{"$f":"' Liste élèves'!B6","v":"Gaetan"},{"$f":"' Liste élèves'!C6","v":"Classe JB"},{"$f":"INDIRECT($A7&\"!$B$8\")","v":37.5},{"$f":"INDIRECT($A7&\"!$F$23\")","v":0},{"$f":"INDIRECT($A7&\"!$G$23\")","v":0},{"$f":"INDIRECT($A7&\"!$H$23\")","v":37.5},{"$f":"INDIRECT($A7&\"!$J$48\")","v":0},{"$f":"INDIRECT($A7&\"!$K$48\")","v":0},{"$f":"INDIRECT($A7&\"!$L$48\")","v":37.5},null,null,null,null,{"$f":"INDIRECT($A7&\"!$L$50\")","v":37.5},{"$f":"INDIRECT($A7&\"!$L$52\")","v":37.5}]
[{"$f":"' Liste élèves'!A7","v":"BARROU"},{"$f":"' Liste élèves'!B7","v":"Othman"},{"$f":"' Liste élèves'!C7","v":"Classe 7"},0,0,{"$f":"INDIRECT($A8&\"!$G$23\")","v":0},{"$f":"INDIRECT($A8&\"!$H$23\")","v":0},{"$f":"INDIRECT($A8&\"!$J$48\")","v":0},{"$f":"INDIRECT($A8&\"!$K$48\")","v":0},{"$f":"INDIRECT($A8&\"!$L$48\")","v":0},null,null,null,null,{"$f":"INDIRECT($A8&\"!$L$50\")","v":0},{"$f":"INDIRECT($A8&\"!$L$52\")","v":0}]
[{"$f":"' Liste élèves'!A8","v":"BAUDOUX"},{"$f":"' Liste élèves'!B8","v":"Shana"},{"$f":"' Liste élèves'!C8","v":"Classe MB"},0,0,0,0,0,0,0,null,null,null,null,0,0]
[{"$f":"' Liste élèves'!A9","v":"BAURAIN"},{"$f":"' Liste élèves'!B9","v":"Ludovic"},{"$f":"' Liste élèves'!C9","v":"Classe FB"},50.6,0,0,50.6,0,0,50.6,null,null,null,null,50.6,50.6]
[{"$f":"' Liste élèves'!A10","v":"BAUWENS"},{"$f":"' Liste élèves'!B10","v":"Jimmy"},{"$f":"' Liste élèves'!C10","v":"Classe PA"},{"$f":"INDIRECT($A11&\"!$B$8\")","v":0},0,0,0,0,0,0,null,null,null,null,0,0]
[{"$f":"' Liste élèves'!A11","v":"BEAURY"},{"$f":"' Liste élèves'!B11","v":"Conrad "},{"$f":"' Liste élèves'!C11","v":"Classe PB"},0,0,0,0,0,0,0,null,null,null,null,0,0]
[{"$f":"' Liste élèves'!A12","v":"BEHETSK"},{"$f":"' Liste élèves'!B12","v":"Kelly"},{"$f":"' Liste élèves'!C12","v":"Classe PC"},39,0,0,39,0,0,39,null,null,null,null,39,39]
[{"$f":"' Liste élèves'!A13","v":"BEHETSP"},{"$f":"' Liste élèves'!B13","v":"Pascal"},{"$f":"' Liste élèves'!C13","v":"Classe FB"},38,0,0,38,0,0,38,null,null,null,null,38,38]
[{"$f":"' Liste élèves'!A14","v":"BELLENS"},{"$f":"' Liste élèves'!B14","v":"Manola"},{"$f":"' Liste élèves'!C14","v":"Classe 5"},0,0,0,0,0,0,0,null,null,null,null,0,0]
[{"$f":"' Liste élèves'!A15","v":"BERTINOTTI"},{"$f":"' Liste élèves'!B15","v":"Synthia"},{"$f":"' Liste élèves'!C15","v":"Classe 4"},67,0,0,67,0,0,67,null,null,null,null,67,67]
[{"$f":"' Liste élèves'!A16","v":"BERTRANDB"},{"$f":"' Liste élèves'!B16","v":"Brandon"},{"$f":"' Liste élèves'!C16","v":"Classe FB"},-12,0,0,-12,0,0,-12,null,null,null,null,-12,-12]
[{"$f":"' Liste élèves'!A17","v":"BERTRANDd"},{"$f":"' Liste élèves'!B17","v":"Daisy"},{"$f":"' Liste élèves'!C17","v":"Classe PB"},-3,0,0,-3,0,0,-3,null,null,null,null,-3,-3]
[{"$f":"' Liste élèves'!A18","v":"BIZET"},{"$f":"' Liste élèves'!B18","v":"Dylan"},{"$f":"' Liste élèves'!C18","v":"Classe PB"},-10.5,0,0,-10.5,0,0,-10.5,null,null,null,null,-10.5,-10.5]
[{"$f":"' Liste élèves'!A19","v":"BOBOUCH"},{"$f":"' Liste élèves'!B19","v":"Leila"},{"$f":"' Liste élèves'!C19","v":"Classe 5"},18.03,0,0,18.03,0,0,18.03,null,null,null,null,18.03,18.03]
[{"$f":"' Liste élèves'!A20","v":"BOEMBEKE"},{"$f":"' Liste élèves'!B20","v":"Emilie"},{"$f":"' Liste élèves'!C20","v":"Classe MC"},51.6,0,0,51.6,0,0,51.6,null,null,null,null,51.6,51.6]
[{"$f":"' Liste élèves'!A21","v":"BOSSU"},{"$f":"' Liste élèves'!B21","v":"Océane"},{"$f":"' Liste élèves'!C21","v":"Classe 5"},54.5,0,0,54.5,0,0,54.5,null,null,null,null,54.5,54.5]
[{"$f":"' Liste élèves'!A22","v":"BOUAOUDA"},{"$f":"' Liste élèves'!B22","v":"Anass"},{"$f":"' Liste élèves'!C22","v":"Classe PB"},0.5,0,0,0.5,0,0,0.5,null,null,null,null,0.5,0.5]
[{"$f":"' Liste élèves'!A23","v":"BOUAROUROU"},{"$f":"' Liste élèves'!B23","v":"Sofian"},{"$f":"' Liste élèves'!C23","v":"Classe FB"},23,0,0,23,0,0,23,null,null,null,null,23,23]
[{"$f":"' Liste élèves'!A24","v":"BOUAYACHE"},{"$f":"' Liste élèves'!B24","v":"Nouheila"},{"$f":"' Liste élèves'!C24","v":"Classe 2"},0,0,0,0,0,0,0,null,null,null,null,0,0]
[{"$f":"' Liste élèves'!A25","v":"BUYS"},{"$f":"' Liste élèves'!B25","v":"Tom"},{"$f":"' Liste élèves'!C25","v":"Classe 11"},72,0,0,72,0,0,72,null,null,null,null,72,72]
[{"$f":"' Liste élèves'!A26","v":"CAMBRON"},{"$f":"' Liste élèves'!B26","v":"Sullivan"},{"$f":"' Liste élèves'!C26","v":"Classe 8"},-6,0,0,-6,0,0,-6,null,null,null,null,-6,-6]
[{"$f":"' Liste élèves'!A27","v":"CARBONNELLE"},{"$f":"' Liste élèves'!B27","v":"Cheyenne"},{"$f":"' Liste élèves'!C27","v":"Classe MB"},39.5,0,0,39.5,0,0,39.5,null,null,null,null,39.5,39.5]
[{"$f":"' Liste élèves'!A28","v":"CHAVATTE"},{"$f":"' Liste élèves'!B28","v":"Nicolas"},{"$f":"' Liste élèves'!C28","v":"Classe PC"},36,0,0,36,0,0,36,null,null,null,null,36,36]
[{"$f":"' Liste élèves'!A29","v":"CHOMEZ"},{"$f":"' Liste élèves'!B29","v":"Logan"},{"$f":"' Liste élèves'!C29","v":"Classe MC"},55,0,0,55,0,0,55,null,null,null,null,55,55]
[{"$f":"' Liste élèves'!A30","v":"CLAESSENS"},{"$f":"' Liste élèves'!B30","v":"Océane"},{"$f":"' Liste élèves'!C30","v":"Classe PA"},37.5,0,0,37.5,0,0,37.5,null,null,null,null,37.5,37.5]
[{"$f":"' Liste élèves'!A31","v":"COUILLARD"},{"$f":"' Liste élèves'!B31","v":"Valentin"},{"$f":"' Liste élèves'!C31","v":"Classe MA"},37.5,0,0,37.5,0,0,37.5,null,null,null,null,37.5,37.5]
[{"$f":"' Liste élèves'!A32","v":"CWIKLA"},{"$f":"' Liste élèves'!B32","v":"Morgan"},{"$f":"' Liste élèves'!C32","v":"Classe MC"},61.06,0,0,61.06,0,0,61.06,null,null,null,null,61.06,61.06]
[{"$f":"' Liste élèves'!A33","v":"DAMBROSIO"},{"$f":"' Liste élèves'!B33","v":"Nadine"},{"$f":"' Liste élèves'!C33","v":"Classe MC"},128.5,0,{"$f":"INDIRECT($A34&\"!$G$23\")","v":0},128.5,0,0,128.5,null,null,null,null,128.5,128.5]
[{"$f":"' Liste élèves'!A34","v":"DAHMANI"},{"$f":"' Liste élèves'!B34","v":"Abdelkrim"},{"$f":"' Liste élèves'!C34","v":"Classe 4"},40.700000000000003,0,0,40.700000000000003,0,0,40.700000000000003,null,null,null,null,40.700000000000003,40.700000000000003]
[{"$f":"' Liste élèves'!A35","v":"DAMIEN"},{"$f":"' Liste élèves'!B35","v":"Hélène"},{"$f":"' Liste élèves'!C35","v":"Classe MC"},43.7,0,0,43.7,0,0,43.7,null,null,null,null,43.7,43.7]
[{"$f":"' Liste élèves'!A36","v":"DASPREMONT"},{"$f":"' Liste élèves'!B36","v":"Kimberley"},{"$f":"' Liste élèves'!C36","v":"Classe MB"},36,0,0,36,0,0,36,null,null,null,null,36,36]
[{"$f":"' Liste élèves'!A37","v":"DAU"},{"$f":"' Liste élèves'!B37","v":"Qani"},{"$f":"' Liste élèves'!C37","v":"Classe 2"},0,0,0,0,0,0,0,null,null,null,null,0,0]
[{"$f":"' Liste élèves'!A38","v":"DEBOCK"},{"$f":"' Liste élèves'!B38","v":"Ophélie"},{"$f":"' Liste élèves'!C38","v":"Classa 4"},0,0,0,0,0,0,0,null,null,null,null,0,0]
[{"$f":"' Liste élèves'!A39","v":"DEGEYTERE"},{"$f":"' Liste élèves'!B39","v":"Emilie"},{"$f":"' Liste élèves'!C39","v":"Classe PA"},0,0,0,0,0,0,0,null,null,null,null,0,0]
[{"$f":"' Liste élèves'!A40","v":"DESANTOSMIGUEL"},{"$f":"' Liste élèves'!B40","v":"Julian"},{"$f":"' Liste élèves'!C40","v":"Classe 3"},38,0,0,38,0,0,38,null,null,null,null,38,38]
[{"$f":"' Liste élèves'!A41","v":"DEVLEESCHAUWER"},{"$f":"' Liste élèves'!B41","v":"Manon"},{"$f":"' Liste élèves'!C41","v":"Classe PC"},55.5,0,0,55.5,0,0,55.5,null,null,null,null,55.5,55.5]
[{"$f":"' Liste élèves'!A42","v":"DEWEVER"},{"$f":"' Liste élèves'!B42","v":"Bryan"},{"$f":"' Liste élèves'!C42","v":"Classe PA"},0,0,0,0,0,0,0,null,null,null,null,0,0]
[{"$f":"' Liste élèves'!A43","v":"DEBESSELLE"},{"$f":"' Liste élèves'!B43","v":"Manon"},{"$f":"' Liste élèves'!C43","v":"Classe MB"},-2.5,0,0,-2.5,0,0,-2.5,null,null,null,null,-2.5,-2.5]
[{"$f":"' Liste élèves'!A44","v":"DEGANDT"},{"$f":"' Liste élèves'!B44","v":"Thomas"},{"$f":"' Liste élèves'!C44","v":"Classe 10"},-49.1,0,0,-49.1,0,0,-49.1,null,null,null,null,-49.1,-49.1]
[{"$f":"' Liste élèves'!A45","v":"DEGANDMJ"},{"$f":"' Liste élèves'!B45","v":"Marry-Jhones"},{"$f":"' Liste élèves'!C45","v":"Classe PA"},0,0,0,0,0,0,0,null,null,null,null,0,0]
[{"$f":"' Liste élèves'!A46","v":"DEHBI"},{"$f":"' Liste élèves'!B46","v":"Yassin"},{"$f":"' Liste élèves'!C46","v":"Classe AA"},0,0,0,0,0,0,0,null,null,null,null,0,0]
[{"$f":"' Liste élèves'!A47","v":"DEHOUX"},{"$f":"' Liste élèves'!B47","v":"Ilona"},{"$f":"' Liste élèves'!C47","v":"Classe 1"},48.7,0,0,48.7,0,0,48.7,null,null,null,null,48.7,48.7]
[{"$f":"' Liste élèves'!A48","v":"DELDUCA"},{"$f":"' Liste élèves'!B48","v":"Juliano"},{"$f":"' Liste élèves'!C48","v":"Classe AA"},79.55,0,0,79.55,0,0,79.55,null,null,null,null,79.55,79.55]
[{"$f":"' Liste élèves'!A49","v":"DELFABBRO"},{"$f":"' Liste élèves'!B49","v":"Savanna"},{"$f":"' Liste élèves'!C49","v":"Classe 2"},56,0,0,56,0,0,56,null,null,null,null,56,56]
[{"$f":"' Liste élèves'!A50","v":"DELCROIX"},{"$f":"' Liste élèves'!B50","v":"Gaëtan"},{"$f":"' Liste élèves'!C50","v":"Classe JB"},43.5,0,0,43.5,0,0,43.5,null,null,null,null,43.5,43.5]
[{"$f":"' Liste élèves'!A51","v":"DELIGNE"},{"$f":"' Liste élèves'!B51","v":"Laurie"},{"$f":"' Liste élèves'!C51","v":"Classe 5"},39.520000000000003,0,0,39.520000000000003,0,0,39.520000000000003,null,null,null,null,39.520000000000003,39.520000000000003]
[{"$f":"' Liste élèves'!A52","v":"DELMARCHE"},{"$f":"' Liste élèves'!B52","v":"Etan"},{"$f":"' Liste élèves'!C52","v":"Classe 3"},52.03,0,0,52.03,0,0,52.03,null,null,null,null,52.03,52.03]
[{"$f":"' Liste élèves'!A53","v":"DENIES"},{"$f":"' Liste élèves'!B53","v":"Jason"},{"$f":"' Liste élèves'!C53","v":"Classe 8"},30.77,0,0,30.77,0,0,30.77,null,null,null,null,30.77,30.77]
[{"$f":"' Liste élèves'!A54","v":"DENIS"},{"$f":"' Liste élèves'!B54","v":"Bryan"},{"$f":"' Liste élèves'!C54","v":"Classe 12"},0,0,0,0,0,0,0,null,null,null,null,0,0]
[{"$f":"' Liste élèves'!A55","v":"DENISTYQ"},{"$f":"' Liste élèves'!B55","v":"Quentin"},{"$f":"' Liste élèves'!C55","v":"Classe 10"},27.9,0,0,27.9,0,0,27.9,null,null,null,null,27.9,27.9]
[{"$f":"' Liste élèves'!A56","v":"DENISTYA"},{"$f":"' Liste élèves'!B56","v":"Arthur"},{"$f":"' Liste élèves'!C56","v":"Classe MC"},43.1,0,0,43.1,0,0,43.1,null,null,null,null,43.1,43.1]
[{"$f":"' Liste élèves'!A57","v":"DETROGH"},{"$f":"' Liste élèves'!B57","v":"Miky"},{"$f":"' Liste élèves'!C57","v":"Classe JB"},42,0,0,42,0,0,42,null,null,null,null,42,42]
[{"$f":"' Liste élèves'!A58","v":"DISANTO"},{"$f":"' Liste élèves'!B58","v":"Anthony"},{"$f":"' Liste élèves'!C58","v":"Classe AA"},52.5,0,0,52.5,0,0,52.5,null,null,null,null,52.5,52.5]
[{"$f":"' Liste élèves'!A59","v":"DIKER"},{"$f":"' Liste élèves'!B59","v":"Adem"},{"$f":"' Liste élèves'!C59","v":"Classe JB"},40.5,0,0,40.5,0,0,40.5,null,null,null,null,40.5,40.5]
[{"$f":"' Liste élèves'!A60","v":"DONCA"},{"$f":"' Liste élèves'!B60","v":"Ionita Alex"},{"$f":"' Liste élèves'!C60","v":"Classe 6"},41.93,{"$f":"INDIRECT($A61&\"!$F$23\")","v":0},{"$f":"INDIRECT($A61&\"!$G$23\")","v":0},{"$f":"INDIRECT($A61&\"!$H$23\")","v":41.93},{"$f":"INDIRECT($A61&\"!$J$48\")","v":0},{"$f":"INDIRECT($A61&\"!$K$48\")","v":0},{"$f":"INDIRECT($A61&\"!$L$48\")","v":41.93},null,null,null,null,{"$f":"INDIRECT($A61&\"!$L$50\")","v":41.93},{"$f":"INDIRECT($A61&\"!$L$52\")","v":41.93}]
[{"$f":"' Liste élèves'!A61","v":"DRIESSENS"},{"$f":"' Liste élèves'!B61","v":"Pierre"},{"$f":"' Liste élèves'!C61","v":"Classe 3"},60,0,0,60,0,0,60,null,null,null,null,60,60]
[{"$f":"' Liste élèves'!A62","v":"DURANT"},{"$f":"' Liste élèves'!B62","v":"Morgane"},{"$f":"' Liste élèves'!C62","v":"Classe 11"},56,0,0,56,0,0,56,null,null,null,null,56,56]
[{"$f":"' Liste élèves'!A63","v":"DUVALA"},{"$f":"' Liste élèves'!B63","v":"Anna"},{"$f":"' Liste élèves'!C63","v":"Classe MA"},40.24,0,0,40.24,0,0,40.24,null,null,null,null,40.24,40.24]
[{"$f":"' Liste élèves'!A64","v":"DUVALG"},{"$f":"' Liste élèves'!B64","v":"Gabriel"},{"$f":"' Liste élèves'!C64","v":"Classe FB"},45.5,0,0,45.5,0,0,45.5,null,null,null,null,45.5,45.5]
[{"$f":"' Liste élèves'!A65","v":"ELYAMANI"},{"$f":"' Liste élèves'!B65","v":"Billal"},{"$f":"' Liste élèves'!C65","v":"Classe PC"},74,0,0,74,0,0,74,null,null,null,null,74,74]
[{"$f":"' Liste élèves'!A66","v":"ERYIGITI"},{"$f":"' Liste élèves'!B66","v":"Ilhan"},{"$f":"' Liste élèves'!C66","v":"Classe 2"},55.5,0,0,55.5,0,0,55.5,null,null,null,null,55.5,55.5]
[{"$f":"' Liste élèves'!A67","v":"ERYIGITS"},{"$f":"' Liste élèves'!B67","v":"Sinan"},{"$f":"' Liste élèves'!C67","v":"Classe 11"},-6,0,0,-6,0,0,-6,null,null,null,null,-6,-6]
[{"$f":"' Liste élèves'!A68","v":"FAIETAJ"},{"$f":"' Liste élèves'!B68","v":"Jodie"},{"$f":"' Liste élèves'!C68","v":"Classe JB"},29.13,0,0,29.13,0,0,29.13,null,null,null,null,29.13,29.13]
[{"$f":"' Liste élèves'!A69","v":"FAKIR"},{"$f":"' Liste élèves'!B69","v":"Yassin"},{"$f":"' Liste élèves'!C69","v":"Classe 1"},0.52,0,0,0.52,0,0,0.52,null,null,null,null,0.52,0.52]
[{"$f":"' Liste élèves'!A70","v":"FALANGA"},{"$f":"' Liste élèves'!B70","v":"Tony"},{"$f":"' Liste élèves'!C70","v":"Classe 9"},{"$f":"INDIRECT($A71&\"!$B$8\")","v":56},0,0,56,0,0,56,null,null,null,null,56,56]
[{"$f":"' Liste élèves'!A71","v":"FARCI"},{"$f":"' Liste élèves'!B71","v":"Jimmy"},{"$f":"' Liste élèves'!C71","v":"Classe FB"},51.5,0,0,51.5,0,0,51.5,null,null,null,null,51.5,51.5]
[{"$f":"' Liste élèves'!A72","v":"FAROOQ"},{"$f":"' Liste élèves'!B72","v":"Ramish"},{"$f":"' Liste élèves'!C72","v":"Classe 7"},62.1,0,0,62.1,0,0,62.1,null,null,null,null,62.1,62.1]
[{"$f":"' Liste élèves'!A73","v":"FERRI"},{"$f":"' Liste élèves'!B73","v":"Vitoria"},{"$f":"' Liste élèves'!C73","v":"Classe 5"},23.4,0,0,23.4,0,0,23.4,null,null,null,null,23.4,23.4]
[{"$f":"' Liste élèves'!A74","v":"FUMIERE"},{"$f":"' Liste élèves'!B74","v":"Aurélie"},{"$f":"' Liste élèves'!C74","v":"Classe 2"},47.5,0,0,47.5,0,0,47.5,null,null,null,null,47.5,47.5]
[{"$f":"' Liste élèves'!A75","v":"GEORGE"},{"$f":"' Liste élèves'!B75","v":"Gwendal"},{"$f":"' Liste élèves'!C75","v":"Classe 6"},58.53,0,0,58.53,0,0,58.53,null,null,null,null,58.53,58.53]
[{"$f":"' Liste élèves'!A76","v":"GHERDAOUI"},{"$f":"' Liste élèves'!B76","v":"Ines"},{"$f":"' Liste élèves'!C76","v":"Classe 4"},38.380000000000003,0,0,38.380000000000003,0,0,38.380000000000003,null,null,{"$f":"J77","v":38.380000000000003},null,38.380000000000003,38.380000000000003]
[{"$f":"' Liste élèves'!A77","v":"GILLE"},{"$f":"' Liste élèves'!B77","v":"Mickaël"},{"$f":"' Liste élèves'!C77","v":"Classe FB"},45.5,0,0,45.5,0,0,45.5,null,null,null,null,45.5,45.5]
[{"$f":"' Liste élèves'!A78","v":"GRETZERD"},{"$f":"' Liste élèves'!B78","v":"Dylan"},{"$f":"' Liste élèves'!C78","v":"Classe 6"},-2.5,0,0,-2.5,0,0,-2.5,null,null,null,null,-2.5,-2.5]
[{"$f":"' Liste élèves'!A79","v":"GRETZERV"},{"$f":"' Liste élèves'!B79","v":"Victoria"},{"$f":"' Liste élèves'!C79","v":"Classe PA"},-10.5,0,0,-10.5,0,0,-10.5,null,null,null,null,-10.5,-10.5]
[{"$f":"' Liste élèves'!A80","v":"GUECIOEUR"},{"$f":"' Liste élèves'!B80","v":"Hamza"},{"$f":"' Liste élèves'!C80","v":"Classe PB"},0,0,0,0,0,0,0,null,null,null,null,0,0]
[{"$f":"' Liste élèves'!A81","v":"HAINAUT"},{"$f":"' Liste élèves'!B81","v":"Dylan"},{"$f":"' Liste élèves'!C81","v":"Classe 4"},38,0,0,38,0,0,38,null,null,null,null,38,38]
[{"$f":"' Liste élèves'!A82","v":"HARVANEK"},{"$f":"' Liste élèves'!B82","v":"Aaron"},{"$f":"' Liste élèves'!C82","v":"Classe JB"},0.55000000000000004,0,0,0.55000000000000004,0,0,0.55000000000000004,null,null,null,null,0.55000000000000004,0.55000000000000004]
[{"$f":"' Liste élèves'!A83","v":"HECQUET"},{"$f":"' Liste élèves'!B83","v":"Alicia"},{"$f":"' Liste élèves'!C83","v":"Classe MC"},41.02,0,0,41.02,0,0,41.02,null,null,null,null,41.02,41.02]
[{"$f":"' Liste élèves'!A84","v":"HEMBISE"},{"$f":"' Liste élèves'!B84","v":"Vanessa"},{"$f":"' Liste élèves'!C84","v":"Classe 11"},60,0,0,60,0,0,60,null,null,null,null,60,60]
[{"$f":"' Liste élèves'!A85","v":"HOUART"},{"$f":"' Liste élèves'!B85","v":"Logan"},{"$f":"' Liste élèves'!C85","v":"Classe 11"},48.71,0,0,48.71,0,0,48.71,null,null,null,null,48.71,48.71]
[{"$f":"' Liste élèves'!A86","v":"HUBLETG"},{"$f":"' Liste élèves'!B86","v":"Giuseppe"},{"$f":"' Liste élèves'!C86","v":"Classe PA"},0,0,0,0,0,0,0,null,null,null,null,0,0]
[{"$f":"' Liste élèves'!A87","v":"HUBLETO"},{"$f":"' Liste élèves'!B87","v":"Ornella"},{"$f":"' Liste élèves'!C87","v":"Classe 2"},36.42,0,0,36.42,0,0,36.42,null,null,null,null,36.42,36.42]
[{"$f":"' Liste élèves'!A88","v":"HUYBRECHTS"},{"$f":"' Liste élèves'!B88","v":"Antoine"},{"$f":"' Liste élèves'!C88","v":"Classe 1"},25.32,0,0,25.32,0,0,25.32,null,null,null,null,25.32,25.32]
[{"$f":"' Liste élèves'!A89","v":"IBOMA"},{"$f":"' Liste élèves'!B89","v":"Elie"},{"$f":"' Liste élèves'!C89","v":"Classe 9"},-32.799999999999997,0,0,-32.799999999999997,0,0,-32.799999999999997,null,null,null,null,-32.799999999999997,-32.799999999999997]
[{"$f":"' Liste élèves'!A90","v":"IBRAHIMOVIC"},{"$f":"' Liste élèves'!B90","v":"Tarik"},{"$f":"' Liste élèves'!C90","v":"Classe 4"},43.03,0,0,43.03,0,0,43.03,null,null,null,null,43.03,43.03]
[{"$f":"' Liste élèves'!A91","v":"IMPENSJamie"},{"$f":"' Liste élèves'!B91","v":"Jamie"},{"$f":"' Liste élèves'!C91","v":"Classe 11"},54.46,0,0,54.46,0,0,54.46,null,null,null,null,54.46,54.46]
[{"$f":"' Liste élèves'!A92","v":"IMPENSJason"},{"$f":"' Liste élèves'!B92","v":"Jason"},{"$f":"' Liste élèves'!C92","v":"Classe 3"},38,0,0,38,0,0,38,null,null,null,null,38,38]
[{"$f":"' Liste élèves'!A93","v":"ITERBEKE"},{"$f":"' Liste élèves'!B93","v":"Obryan"},{"$f":"' Liste élèves'!C93","v":"Classe PC"},81,0,0,81,0,0,81,null,null,null,null,81,81]
[{"$f":"' Liste élèves'!A94","v":"JACOBS"},{"$f":"' Liste élèves'!B94","v":"Jordy"},{"$f":"' Liste élèves'!C94","v":"Classe JB"},-1.5,0,0,-1.5,0,0,-1.5,null,null,null,null,-1.5,-1.5]
[{"$f":"' Liste élèves'!A95","v":"JAMMES"},{"$f":"' Liste élèves'!B95","v":"Maverick"},{"$f":"' Liste élèves'!C95","v":"Classe AA"},55.5,0,0,55.5,0,0,55.5,null,null,null,null,55.5,55.5]
[{"$f":"' Liste élèves'!A96","v":"JAQUBIAK"},{"$f":"' Liste élèves'!B96","v":"Youri"},{"$f":"' Liste élèves'!C96","v":"Classe 9"},32.299999999999997,0,0,32.299999999999997,0,0,32.299999999999997,null,null,null,null,32.299999999999997,32.299999999999997]
[{"$f":"' Liste élèves'!A97","v":"JEZIERSKI"},{"$f":"' Liste élèves'!B97","v":"Marine"},{"$f":"' Liste élèves'!C97","v":"Classe 1"},0,0,0,0,0,0,0,null,null,null,null,0,0]
[{"$f":"' Liste élèves'!A98","v":"JOCHMANS"},{"$f":"' Liste élèves'!B98","v":"Emma"},{"$f":"' Liste élèves'!C98","v":"Classe 9"},0,0,0,0,0,0,0,null,null,null,null,0,0]
[{"$f":"' Liste élèves'!A99","v":"KADRI"},{"$f":"' Liste élèves'!B99","v":"Mohammed"},{"$f":"' Liste élèves'!C99","v":"Classe 6"},28.5,0,0,28.5,0,0,28.5,null,null,null,null,28.5,28.5]
[{"$f":"' Liste élèves'!A100","v":"KONE"},{"$f":"' Liste élèves'!B100","v":"Anthony"},{"$f":"' Liste élèves'!C100","v":"Classe 8"},30.14,0,0,30.14,0,0,30.14,null,null,null,null,30.14,30.14]
[{"$f":"' Liste élèves'!A101","v":"KUYS"},{"$f":"' Liste élèves'!B101","v":"Océane"},{"$f":"' Liste élèves'!C101","v":"Classe MA"},43.5,0,0,43.5,0,0,43.5,null,null,null,null,43.5,43.5]
[{"$f":"' Liste élèves'!A102","v":"LACROIXB"},{"$f":"' Liste élèves'!B102","v":"Brandon"},{"$f":"' Liste élèves'!C102","v":"Classe 7"},56.9,0,0,56.9,0,0,56.9,null,null,null,null,56.9,56.9]
[{"$f":"' Liste élèves'!A103","v":"LACROIXM"},{"$f":"' Liste élèves'!B103","v":"Marina"},{"$f":"' Liste élèves'!C103","v":"Classe PA"},-7.5,0,0,-7.5,0,0,-7.5,null,null,null,null,-7.5,-7.5]
[{"$f":"' Liste élèves'!A104","v":"LAMY"},{"$f":"' Liste élèves'!B104","v":"Alexandre"},{"$f":"' Liste élèves'!C104","v":"Classe 8"},19.010000000000002,0,0,19.010000000000002,0,0,19.010000000000002,null,null,null,null,19.010000000000002,19.010000000000002]
[{"$f":"' Liste élèves'!A105","v":"LARDINOIS"},{"$f":"' Liste élèves'!B105","v":"Enola"},{"$f":"' Liste élèves'!C105","v":"Classe MA"},0.5,0,0,0.5,0,0,0.5,null,null,null,null,0.5,0.5]
[{"$f":"' Liste élèves'!A106","v":"LATLASSI"},{"$f":"' Liste élèves'!B106","v":"Samia"},{"$f":"' Liste élèves'!C106","v":"Classe 12"},0,0,0,0,0,0,0,null,null,null,null,0,0]
[{"$f":"' Liste élèves'!A107","v":"LESSIRE"},{"$f":"' Liste élèves'!B107","v":"Océane"},{"$f":"' Liste élèves'!C107","v":"Classe AA"},40,0,0,40,0,0,40,null,null,null,null,40,40]
[{"$f":"' Liste élèves'!A108","v":"LOMBARDO"},{"$f":"' Liste élèves'!B108","v":"Sébastien"},{"$f":"' Liste élèves'!C108","v":"Classe 1"},31.72,{"$f":"INDIRECT($A109&\"!$F$23\")","v":0},{"$f":"INDIRECT($A109&\"!$G$23\")","v":0},{"$f":"INDIRECT($A109&\"!$H$23\")","v":31.72},{"$f":"INDIRECT($A109&\"!$J$48\")","v":0},{"$f":"INDIRECT($A109&\"!$K$48\")","v":0},{"$f":"INDIRECT($A109&\"!$L$48\")","v":31.72},null,null,null,null,{"$f":"INDIRECT($A109&\"!$L$50\")","v":31.72},{"$f":"INDIRECT($A109&\"!$L$52\")","v":31.72}]
[{"$f":"' Liste élèves'!A109","v":"LORSE"},{"$f":"' Liste élèves'!B109","v":"Vincent"},{"$f":"' Liste élèves'!C109","v":"Classe JB"},32.35,0,0,32.35,0,0,32.35,null,null,null,null,32.35,32.35]
[{"$f":"' Liste élèves'!A110","v":"MALFROIDT"},{"$f":"' Liste élèves'!B110","v":"Laura"},{"$f":"' Liste élèves'!C110","v":"Classe MC"},-1.8,0,0,-1.8,0,0,-1.8,null,null,null,null,-1.8,-1.8]
[{"$f":"' Liste élèves'!A111","v":"MANTEAU"},{"$f":"' Liste élèves'!B111","v":"Christopher"},{"$f":"' Liste élèves'!C111","v":"Classe FB"},39,0,0,39,0,0,39,null,null,null,null,39,39]
[{"$f":"' Liste élèves'!A112","v":"MARECHALBRY"},{"$f":"' Liste élèves'!B112","v":"Bryan"},{"$f":"' Liste élèves'!C112","v":"Classe 7"},57.2,0,0,57.2,0,0,57.2,null,null,null,null,57.2,57.2]
[{"$f":"' Liste élèves'!A113","v":"MARECHALBRE"},{"$f":"' Liste élèves'!B113","v":"Brendan"},{"$f":"' Liste élèves'!C113","v":"Classe 6"},59.53,0,0,59.53,0,0,59.53,null,null,null,null,59.53,59.53]
[{"$f":"' Liste élèves'!A114","v":"MARGUERITE"},{"$f":"' Liste élèves'!B114","v":"Laurent"},{"$f":"' Liste élèves'!C114","v":"Classe 7"},31.2,0,0,31.2,0,0,31.2,null,null,null,null,31.2,31.2]
[{"$f":"' Liste élèves'!A115","v":"MARYF"},{"$f":"' Liste élèves'!B115","v":"Fiona"},{"$f":"' Liste élèves'!C115","v":"Classe 12"},0,0,0,0,0,0,0,null,null,null,null,0,0]
[{"$f":"' Liste élèves'!A116","v":"MARYG"},{"$f":"' Liste élèves'!B116","v":"Gwendoline"},{"$f":"' Liste élèves'!C116","v":"Classe MA"},-3,0,0,-3,0,0,-3,null,null,null,null,-3,-3]
[{"$f":"' Liste élèves'!A117","v":"MASSART"},{"$f":"' Liste élèves'!B117","v":"Lorenzo"},{"$f":"' Liste élèves'!C117","v":"Classe PC"},-6,0,0,-6,0,0,-6,null,null,null,null,-6,-6]
[{"$f":"' Liste élèves'!A118","v":"MASSON"},{"$f":"' Liste élèves'!B118","v":"Noah"},{"$f":"' Liste élèves'!C118","v":"Classe 10"},33.9,0,0,33.9,0,0,33.9,null,null,null,null,33.9,33.9]
[{"$f":"' Liste élèves'!A119","v":"MINNAERTA"},{"$f":"' Liste élèves'!B119","v":"Alexandra"},{"$f":"' Liste élèves'!C119","v":"Classe 4"},45.5,0,0,45.5,0,0,45.5,null,null,null,null,45.5,45.5]
[{"$f":"' Liste élèves'!A120","v":"MINNAERTC"},{"$f":"' Liste élèves'!B120","v":"Cassandra"},{"$f":"' Liste élèves'!C120","v":"Classe MA"},49.5,0,0,49.5,0,0,49.5,null,null,null,null,49.5,49.5]
[{"$f":"' Liste élèves'!A121","v":"MINNAERTG"},{"$f":"' Liste élèves'!B121","v":"Grégory"},{"$f":"' Liste élèves'!C121","v":"Classe 8"},28.74,0,0,28.74,0,0,28.74,null,null,null,null,28.74,28.74]
[{"$f":"' Liste élèves'!A122","v":"MISEUR"},{"$f":"' Liste élèves'!B122","v":"Thomas"},{"$f":"' Liste élèves'!C122","v":"Classe JB"},39.049999999999997,0,0,39.049999999999997,0,0,39.049999999999997,null,null,null,null,39.049999999999997,39.049999999999997]
[{"$f":"' Liste élèves'!A123","v":"MONSIEUR"},{"$f":"' Liste élèves'!B123","v":"Manuel"},{"$f":"' Liste élèves'!C123","v":"Classe FB"},31.4,0,0,31.4,0,0,31.4,null,null,null,null,31.4,31.4]
[{"$f":"' Liste élèves'!A124","v":"MONTEMITRO"},{"$f":"' Liste élèves'!B124","v":"Samuel"},{"$f":"' Liste élèves'!C124","v":"Classe PC"},16,0,0,16,0,0,16,null,null,null,null,16,16]
[{"$f":"' Liste élèves'!A125","v":"MORTELETTE"},{"$f":"' Liste élèves'!B125","v":"Lucas"},{"$f":"' Liste élèves'!C125","v":"Classe MC"},36,0,0,36,0,0,36,null,null,null,null,36,36]
[{"$f":"' Liste élèves'!A126","v":"MOULIN"},{"$f":"' Liste élèves'!B126","v":"Christopher"},{"$f":"' Liste élèves'!C126","v":"Classe 6"},58.03,0,0,58.03,0,0,58.03,null,null,null,null,58.03,58.03]
[{"$f":"' Liste élèves'!A127","v":"MOYERSOON"},{"$f":"' Liste élèves'!B127","v":"Laure"},{"$f":"' Liste élèves'!C127","v":"Classe 5"},0,0,0,0,0,0,0,null,null,null,null,0,0]
[{"$f":"' Liste élèves'!A128","v":"NICAISE"},{"$f":"' Liste élèves'!B128","v":"Bryan"},{"$f":"' Liste élèves'!C128","v":"Classe MA"},200,0,0,200,0,0,200,null,null,null,null,200,200]
[{"$f":"' Liste élèves'!A129","v":"OIKONOMAKIS"},{"$f":"' Liste élèves'!B129","v":"Iosif"},{"$f":"' Liste élèves'!C129","v":"Classe 3"},94.5,0,0,94.5,0,0,94.5,null,null,null,null,94.5,94.5]
[{"$f":"' Liste élèves'!A130","v":"OULADBENTAYED"},{"$f":"' Liste élèves'!B130","v":"Nadir"},{"$f":"' Liste élèves'!C130","v":"Classe 10"},32.9,0,0,32.9,0,0,32.9,null,null,null,null,32.9,32.9]
[{"$f":"' Liste élèves'!A131","v":"OULJIHATE"},{"$f":"' Liste élèves'!B131","v":"Wassin"},{"$f":"' Liste élèves'!C131","v":"Classe 12"},114.5,0,0,114.5,0,0,114.5,null,null,null,null,114.5,114.5]
[{"$f":"' Liste élèves'!A132","v":"OZMEN"},{"$f":"' Liste élèves'!B132","v":"Furkan"},{"$f":"' Liste élèves'!C132","v":"Classe 6"},60.03,0,0,60.03,0,0,60.03,null,null,null,null,60.03,60.03]
[{"$f":"' Liste élèves'!A133","v":"PAULUS"},{"$f":"' Liste élèves'!B133","v":"Kévin"},{"$f":"' Liste élèves'!C133","v":"Classe PC"},35,0,0,35,0,0,35,null,null,null,null,35,35]
[{"$f":"' Liste élèves'!A134","v":"PAYEN"},{"$f":"' Liste élèves'!B134","v":"Dorian"},{"$f":"' Liste élèves'!C134","v":"Classe 12"},{"$f":"INDIRECT($A135&\"!$B$8\")","v":0},0,0,0,0,0,0,null,null,null,null,0,0]
[{"$f":"' Liste élèves'!A135","v":"PENSIS"},{"$f":"' Liste élèves'!B135","v":"Loris"},{"$f":"' Liste élèves'!C135","v":"Classe PA"},52.5,0,0,52.5,0,0,52.5,null,null,null,null,52.5,52.5]
[{"$f":"' Liste élèves'!A136","v":"PERRONE"},{"$f":"' Liste élèves'!B136","v":"Luigi"},{"$f":"' Liste élèves'!C136","v":"Classe AA"},50,0,0,50,0,0,50,null,null,null,null,50,50]
[{"$f":"' Liste élèves'!A137","v":"PIEDFORTG"},{"$f":"' Liste élèves'!B137","v":"Gauthier"},{"$f":"' Liste élèves'!C137","v":"Classe MA"},49,0,0,49,0,0,49,null,null,null,null,49,49]
[{"$f":"' Liste élèves'!A138","v":"PIERRE"},{"$f":"' Liste élèves'!B138","v":"Valentin"},{"$f":"' Liste élèves'!C138","v":"Classe 9"},21.3,0,0,21.3,0,0,21.3,null,null,null,null,21.3,21.3]
[{"$f":"' Liste élèves'!A139","v":"PIERROT"},{"$f":"' Liste élèves'!B139","v":"Fabrice"},{"$f":"' Liste élèves'!C139","v":"Classe PB"},0,0,0,0,0,0,0,null,null,null,null,0,0]
[{"$f":"' Liste élèves'!A140","v":"PONCIN"},{"$f":"' Liste élèves'!B140","v":"Stéphanie"},{"$f":"' Liste élèves'!C140","v":"Classe PB"},48.5,0,0,48.5,0,0,48.5,null,null,null,null,48.5,48.5]
[{"$f":"' Liste élèves'!A141","v":"POTTEAU"},{"$f":"' Liste élèves'!B141","v":"Noah"},{"$f":"' Liste élèves'!C141","v":"Classe MC"},58,0,0,58,0,0,58,null,null,null,null,58,58]
[{"$f":"' Liste élèves'!A142","v":"POUSSEUR"},{"$f":"' Liste élèves'!B142","v":"Noah"},{"$f":"' Liste élèves'!C142","v":"Classe 11"},50.9,0,0,50.9,0,0,50.9,null,null,null,null,50.9,50.9]
[{"$f":"' Liste élèves'!A143","v":"PRINCIVALLID"},{"$f":"' Liste élèves'!B143","v":"Dylan"},{"$f":"' Liste élèves'!C143","v":"Classe 6"},59.53,0,0,59.53,0,0,59.53,null,null,null,null,59.53,59.53]
[{"$f":"' Liste élèves'!A144","v":"PRINCIVALLIY"},{"$f":"' Liste élèves'!B144","v":"Yohan"},{"$f":"' Liste élèves'!C144","v":"Classe 8"},40.200000000000003,0,0,40.200000000000003,0,0,40.200000000000003,null,null,null,null,40.200000000000003,40.200000000000003]
[{"$f":"' Liste élèves'!A145","v":"RAFFAELE"},{"$f":"' Liste élèves'!B145","v":"Alessia"},{"$f":"' Liste élèves'!C145","v":"Classe MA"},-5.5,0,0,-5.5,0,0,-5.5,null,null,null,null,-5.5,-5.5]
[{"$f":"' Liste élèves'!A146","v":"RENDERS"},{"$f":"' Liste élèves'!B146","v":"Benoît"},{"$f":"' Liste élèves'!C146","v":"Classe 12"},38,0,0,38,0,0,38,null,null,null,null,38,38]
[{"$f":"' Liste élèves'!A147","v":"RINCHARD"},{"$f":"' Liste élèves'!B147","v":"Esteban"},{"$f":"' Liste élèves'!C147","v":"Classe AA"},-3,0,0,-3,0,0,-3,null,null,null,null,-3,-3]
[{"$f":"' Liste élèves'!A148","v":"SAGHROU"},{"$f":"' Liste élèves'!B148","v":"Zakariya"},{"$f":"' Liste élèves'!C148","v":"Classe 3"},38,0,0,38,0,0,38,null,null,null,null,38,38]
[{"$f":"' Liste élèves'!A149","v":"SAUTEUR"},{"$f":"' Liste élèves'!B149","v":"Nolan"},{"$f":"' Liste élèves'!C149","v":"Classe MB"},0,32,0,32,0,0,32,null,null,null,null,32,32]
[{"$f":"' Liste élèves'!A150","v":"SAYE"},{"$f":"' Liste élèves'!B150","v":"Gwendoline"},{"$f":"' Liste élèves'!C150","v":"Classe MC"},14.1,0,0,14.1,0,0,14.1,null,null,null,null,14.1,14.1]
[{"$f":"' Liste élèves'!A151","v":"SCHOBERT"},{"$f":"' Liste élèves'!B151","v":"Noémie"},{"$f":"' Liste élèves'!C151","v":"Classe 5"},38.020000000000003,0,0,38.020000000000003,0,0,38.020000000000003,null,null,null,null,38.020000000000003,38.020000000000003]
[{"$f":"' Liste élèves'!A152","v":"SERDAR"},{"$f":"' Liste élèves'!B152","v":"Huda"},{"$f":"' Liste élèves'!C152","v":"Classe 9"},42.5,{"$f":"INDIRECT($A153&\"!$F$23\")","v":0},{"$f":"INDIRECT($A153&\"!$G$23\")","v":0},{"$f":"INDIRECT($A153&\"!$H$23\")","v":42.5},{"$f":"INDIRECT($A153&\"!$J$48\")","v":0},{"$f":"INDIRECT($A153&\"!$K$48\")","v":0},{"$f":"INDIRECT($A153&\"!$L$48\")","v":42.5},null,null,null,null,{"$f":"INDIRECT($A153&\"!$L$50\")","v":42.5},{"$f":"INDIRECT($A153&\"!$L$52\")","v":42.5}]
[{"$f":"' Liste élèves'!A153","v":"SIGISMONDI"},{"$f":"' Liste élèves'!B153","v":"Lhoïk"},{"$f":"' Liste élèves'!C153","v":"Classe 7"},0,0,0,0,0,0,0,null,null,null,null,0,0]
[{"$f":"' Liste élèves'!A154","v":"SISSOKO"},{"$f":"' Liste élèves'!B154","v":"Djimeta"},{"$f":"' Liste élèves'!C154","v":"Classe 10"},0,0,0,0,0,0,0,null,null,null,null,0,0]
[{"$f":"' Liste élèves'!A155","v":"SOUFFRIAU"},{"$f":"' Liste élèves'!B155","v":"Jordy"},{"$f":"' Liste élèves'!C155","v":"Classe 3"},0,0,0,0,0,0,0,null,null,null,null,0,{"$f":"INDIRECT($A156&\"!$L$52\")","v":0}]
[{"$f":"' Liste élèves'!A156","v":"SPREUTELS"},{"$f":"' Liste élèves'!B156","v":"Nicolas"},{"$f":"' Liste élèves'!C156","v":"Classe 3"},0]
[{"$f":"' Liste élèves'!A157","v":"STEEGMANS"},{"$f":"' Liste élèves'!B157","v":"Bryan"},{"$f":"' Liste élèves'!C157","v":"Classe 7"},0]
[{"$f":"' Liste élèves'!A158","v":"STEVENS"},{"$f":"' Liste élèves'!B158","v":"Rémy"},{"$f":"' Liste élèves'!C158","v":"Classe JB"},0]
[{"$f":"' Liste élèves'!A159","v":"TAMBOUR"},{"$f":"' Liste élèves'!B159","v":"Samuel"},{"$f":"' Liste élèves'!C159","v":"Classe MA"},0]
[{"$f":"' Liste élèves'!A160","v":"TEMSAMANI"},{"$f":"' Liste élèves'!B160","v":"Moad Nail"},{"$f":"' Liste élèves'!C160","v":"Classe FB"},0]
[{"$f":"' Liste élèves'!A161","v":"TERASSE"},{"$f":"' Liste élèves'!B161","v":"Florian"},{"$f":"' Liste élèves'!C161","v":"Classe MB"},0]
[{"$f":"' Liste élèves'!A162","v":"TILMAN"},{"$f":"' Liste élèves'!B162","v":"Leslie"},{"$f":"' Liste élèves'!C162","v":"Classe 5"},0]
[{"$f":"' Liste élèves'!A163","v":"TYVAERT"},{"$f":"' Liste élèves'!B163","v":"Kayrrigan"},{"$f":"' Liste élèves'!C163","v":"Classe 12"},0]
[{"$f":"' Liste élèves'!A164","v":"VANDAELE"},{"$f":"' Liste élèves'!B164","v":"Steven"},{"$f":"' Liste élèves'!C164","v":"Classe 10"},0]
[{"$f":"' Liste élèves'!A165","v":"VANBELLINGHEN"},{"$f":"' Liste élèves'!B165","v":"Adeline"},{"$f":"' Liste élèves'!C165","v":"Classe MB"},0]
[{"$f":"' Liste élèves'!A166","v":"VANDEPONTSELE"},{"$f":"' Liste élèves'!B166","v":"Mélinda"},{"$f":"' Liste élèves'!C166","v":"Classe 5"},0]
[{"$f":"' Liste élèves'!A167","v":"VANDENNOORGATE"},{"$f":"' Liste élèves'!B167","v":"Loredana"},{"$f":"' Liste élèves'!C167","v":"Classe 2"},0]
[{"$f":"' Liste élèves'!A168","v":"VANDERHAEGEN"},{"$f":"' Liste élèves'!B168","v":"Tim "},{"$f":"' Liste élèves'!C168","v":"Classe 1"},0]
[{"$f":"' Liste élèves'!A169","v":"VANHAELEWIJN"},{"$f":"' Liste élèves'!B169","v":"Quentin"},{"$f":"' Liste élèves'!C169","v":"Classe PC"},0]
[{"$f":"' Liste élèves'!A170","v":"VANHUMBEECK"},{"$f":"' Liste élèves'!B170","v":"Mickael"},{"$f":"' Liste élèves'!C170","v":"Classe FB"},0]
[{"$f":"' Liste élèves'!A171","v":"VINCITORIO"},{"$f":"' Liste élèves'!B171","v":"Dorian"},{"$f":"' Liste élèves'!C171","v":"Classe AA"},0]
[{"$f":"' Liste élèves'!A172","v":"VOICU"},{"$f":"' Liste élèves'!B172","v":"Ionut Cristian"},{"$f":"' Liste élèves'!C172","v":"Classe 1"},0]
[{"$f":"' Liste élèves'!A173","v":"VULLO"},{"$f":"' Liste élèves'!B173","v":"Massimo"},{"$f":"' Liste élèves'!C173","v":"Classe 2"},0]
[{"$f":"' Liste élèves'!A174","v":"WATHY"},{"$f":"' Liste élèves'!B174","v":"Scott"},{"$f":"' Liste élèves'!C174","v":"Classe 11"},0]
[{"$f":"' Liste élèves'!A175","v":"WILLEMS"},{"$f":"' Liste élèves'!B175","v":"Killian"},{"$f":"' Liste élèves'!C175","v":"Classe 3"},0]
[{"$f":"' Liste élèves'!A176","v":"ZEROUALI"},{"$f":"' Liste élèves'!B176","v":"Mohamed"},{"$f":"' Liste élèves'!C176","v":"Classe 8"},0]
[{"$f":"' Liste élèves'!A177","v":"ZOULOUFOS"},{"$f":"' Liste élèves'!B177","v":"Nicolas"},{"$f":"' Liste élèves'!C177","v":"Classe 4"},0]

{"sheet":"Dépenses","index":3,"n_rows":51,"n_cols":9,"rows_kept":51,"cut":false,"hidden":false,"merged":[]}
["Date","INTITULE FACTURE ","MONTANT FRE compta","MONTANT / PROV ","NBRE PARTICIPANT","COUT UNITAIRE","cellule ","verif ","DIFF entre vérif et montantprov"]
["2017-10-02","HELIOS SEPT 17  AC11016/17",205.5,205.5,137,{"$f":"D2/E2","v":1.5},"D8",{"$f":"SUM(BARBET:ZOULOUFOS!D8)","v":0},{"$f":"D2-H2","v":205.5}]
["2018-02-27","IPSMALYMPIADESDEXC191/18",87,69,null,{"$f":"D3/E3","v":{"$error":"#DIV/0!"}},"D30",{"$f":"SUM(BARBET:ZOULOUFOS!D30)","v":0},{"$f":"D3-H3","v":69}]
[null,"FLEURUS SEPT17 AC1 1030/17",30.6,30.6,17,1.8,"D10",{"$f":"SUM(BARBET:ZOULOUFOS!D10)","v":0},30.6]
[null,"HELIOS OCT 17  AC1 1174/17",247.5,247.5,169,1.5,"H8",{"$f":"SUM(BARBET:ZOULOUFOS!H8)","v":0},247.5]
[null,"HELIOS NOV 17 AC1 1295/17",121.5,121.5,81,1.5,"L8",{"$f":"SUM(BARBET:ZOULOUFOS!L8)","v":0},121.5]
[null,null,null,null,null,null,null,null,0]
[null,null,null,null,null,null,null,null,0]
["JANVIER","PATINOIRE DU 8 AU 19/01/18 (171,5€ +241,50€)",null,413,118,3.5,"L20",{"$f":"SUM(BARBET:ZOULOUFOS!L20)","v":0},413]
[null,null,null,null,null,null,null,null,0]
[null,"PATINOIRE DEC17  CAI 6,36/17",206.5,206.5,59,3.5,"D22",{"$f":"SUM(BARBET:ZOULOUFOS!D22)","v":0},206.5]
[null,"voir les suppressions ( docs farde marilyn)",null,null,null,null,null,null,0]
[null,"PISCINE MONTIGNIES SEPT17 AC1 1163/17",16.2,16.2,27,0.6,"D9",{"$f":"SUM(BARBET:ZOULOUFOS!D9)","v":0},16.2]
[null,"FLEURUS OCT17 AC1 1173/17",16.2,16.2,9,1.7999999999999998,"H10",{"$f":"SUM(BARBET:ZOULOUFOS!H10)","v":0},16.2]
[null,"FLEURUS NOV17 AC1 1399/17",16.2,16.2,9,1.7999999999999998,"L10",{"$f":"SUM(BARBET:ZOULOUFOS!L10)","v":0},16.2]
[null,"MONTIGNIES AC1 1436/17 - OCTOBRE",42,42,70,0.6,"H9",{"$f":"SUM(BARBET:ZOULOUFOS!H9)","v":0},42]
[null,"MUSCU  NOV DEC17 CAI 604/17",65,65,26,2.5,"D23 + L12",{"$f":"SUM(BARBET:ZOULOUFOS!D23)+SUM(BARBET:ZOULOUFOS!L12)","v":0},65]
[null,"MARCHE NOEL NAMUR CAI 637/17 ",104.72,104.72,14,7.4799999999999995,"D21",{"$f":"SUM(BARBET:ZOULOUFOS!D21)","v":0},104.72]
["2018-02-19","FLEURUS AC1128/18 JANVIER 2018",19.8,19.8,11,1.8,"L22",{"$f":"SUM(BARBET:ZOULOUFOS!L22)","v":0},19.8]
[null,"HELIOS JANV18 AC1 130/18",36,36,24,1.5,"L21",{"$f":"SUM(BARBET:ZOULOUFOS!L21)","v":0},36]
["2018-03-20","HELIOS FEV18 AC1203/18",217.5,217.5,145,1.5,"D32",{"$f":"SUM(BARBET:ZOULOUFOS!D32)","v":0},217.5]
["2018-03-15","FLEURUS AC1228/18 FEVRIER 18",5.4,5.4,3,1.8,"D33",{"$f":"SUM(BARBET:ZOULOUFOS!D33)","v":0},5.4]
[null,null,null,null,null,null,null,null,0]
[null,"MONTIGNIES PISC NOV17 AC1298/18",43.2,43.2,72,0.6,"L9",{"$f":"SUM(BARBET:ZOULOUFOS!L9)","v":0},43.2]
[null,"MONTIGNIES DEC17 AC1367/18",20.399999999999999,20.399999999999999,34,0.6,"D19",{"$f":"SUM(BARBET:ZOULOUFOS!D19)","v":0},20.399999999999999]
[null,"MONTIGNIES JANV18 AC1 368/18",45.6,45.6,76,0.6,"L19",{"$f":"SUM(BARBET:ZOULOUFOS!L19)","v":0},45.6]
["2018-04-17","MONTIGNIES FEV18 AC1 370/18",27,27,45,0.6,"D31",{"$f":"SUM(BARBET:ZOULOUFOS!D31)","v":0},27]
["2018-04-09","FLEURUS  AC1 376/18 MARS",16.2,16.2,9,1.7999999999999998,"H33",{"$f":"SUM(BARBET:ZOULOUFOS!H33)","v":0},16.2]
[null,"HELIOS MARS 18 AC1 385/18",72,72,48,1.5,"H31",{"$f":"SUM(BARBET:ZOULOUFOS!H31)","v":0},72]
[null,"MONTIGNIES MARS18 AC1 430/18",25.2,25.2,42,0.6,"H30",{"$f":"SUM(BARBET:ZOULOUFOS!H30)","v":0},25.2]
["2018-05-16","HELIOS AVRIL 18 AC1 477/18",15,15,10,1.5,"L30",{"$f":"SUM(BARBET:ZOULOUFOS!L30)","v":0},15]
["2018-05-30","MAISON DE L'ADOLESCENT ",5,5,1,5,"D43",{"$f":"SUM(BARBET:ZOULOUFOS!D43)-NICAISE!D43","v":0},5]
["2018-05-22","REMBOURSEMENT ROCHET SORTI DOC 883",46,46,1,46,"D46",{"$f":"SUM(BARBET:ZOULOUFOS!D46)-#REF!","v":{"$error":"#REF!"}},{"$error":"#REF!"}]
["2018-05-24","WALIBI",135,135,27,5,"D44",{"$f":"SUM(BARBET:ZOULOUFOS!D44)","v":0},135]
["2018-01-17","FLEURUS DECEMBRE 2017",null,5.4,3,1.8,"D20",{"$f":"SUM(BARBET:ZOULOUFOS!D20)","v":0},5.4]
[null,"REMBOURSEMENT DEPREZ SORTI ",28.03,28.03,null,null,"D46",{"$f":"#REF!","v":{"$error":"#REF!"}},{"$error":"#REF!"}]
[null,null,null,null,null,null,null,null,0]
[null,null,null,null,null,null,null,null,0]
["2018-06-01","Transfert ticket nicaise du 31/05/18",null,17.5,1,17.5,"D43",{"$f":"NICAISE!D43","v":0},17.5]
["2018-01-26","PATINOIRE 26/01",null,49,14,3.5,"L23",{"$f":"SUM(BARBET:ZOULOUFOS!L23)","v":0},49]
["2018-02-01","PATINOIRE 01/02 classe 8",null,28,8,3.5,"D34",{"$f":"SUM(BARBET:ZOULOUFOS!D34)","v":0},28]
["2018-06-11","MONTIGNIES AVRIL 2018",null,13.8,23,0.6,"L31",{"$f":"SUM(BARBET:ZOULOUFOS!L31)","v":0},13.8]
["2018-06-12","MONTIGNIES MAI 2018",null,26.4,44,0.6,"D42",{"$f":"SUM(BARBET:ZOULOUFOS!D42)","v":0},26.4]
["2018-06-12","HELIOS MAI 2018",null,27,18,1.5,"D45",{"$f":"SUM(BARBET:ZOULOUFOS!D45)","v":0},27]
[null,"HELIOS JUIN 2018",28.5,28.5,19,1.5,"H46",{"$f":"SUM(BARBET:ZOULOUFOS!H46)","v":0}]
[null,"MONTIGNIES S/S JUIN 2018",9,9,15,0.6,"H45",{"$f":"SUM(BARBET:ZOULOUFOS!H45)","v":0}]
[null,"OCEADE 26 juin 2018 (DELAITE)",null,61.3,5,12.26,"H43",{"$f":"SUM(BARBET:ZOULOUFOS!H43)","v":0},{"$f":"D47-H47","v":61.3}]
[null,"JOURNEE SPORTIVE QUERTEMONT DORIAN",null,3.5,1,3.5,"H44",{"$f":"SUM(BARBET:ZOULOUFOS!H44)","v":0}]
[null,"Voir lettre accord Direction du 28/06/18"]
[]
[null,"total",null,{"$f":"SUM(D2:D50)","v":2580.650000000001},null,null,null,{"$f":"SUM(H2:H50)","v":{"$error":"#REF!"}},{"$f":"SUM(I2:I50)","v":{"$error":"#REF!"}}]

{"sheet":"AKKURT","index":4,"n_rows":52,"n_cols":12,"rows_kept":52,"cut":false,"hidden":false,"merged":[[5,10,5,11],[0,9,0,10],[2,1,2,2],[2,4,2,5],[2,8,2,9],[4,0,4,3],[4,4,4,7],[4,8,4,11],[5,0,5,1],[5,2,5,3],[5,4,5,5],[5,6,5,7],[5,8,5,9],[13,0,13,2],[13,4,13,6],[13,8,13,10],[15,0,15,3],[15,4,15,7],[15,8,15,11],[16,0,16,1],[16,2,16,3],[16,8,16,9],[16,10,16,11],[24,0,24,2],[24,8,24,10],[26,0,26,3],[26,4,26,7],[26,8,26,11],[27,4,27,5],[27,6,27,7],[27,8,27,9],[27,10,27,11],[35,8,35,10],[37,9,37,10],[38,0,38,3],[38,4,38,7],[38,8,38,11],[39,4,39,5],[39,6,39,7],[47,0,47,2],[47,4,47,6],[35,0,35,2],[35,4,35,6]]}
[null,null,null,null,null,null,null,null,null,"Année scolaire : ",null,{"$f":"' Liste élèves'!B1","v":"2018-2019"}]
[]
["NOM : ",{"$f":"+' Liste élèves'!A5","v":"AKKURT"},null,"PRENOM:",{"$f":"+' Liste élèves'!B5","v":"Addin"},null,null,"CLASSE :",{"$f":"+' Liste élèves'!C5","v":"Classe 10"}]
[]
["SEPTEMBRE",null,null,null,"OCTOBRE",null,null,null,"NOVEMBRE"]
["RECETTES",null,"DEPENSES",null,"RECETTES",null,"DEPENSES",null,"RECETTES",null,"DEPENSES"]
["Dates","Montant","Activités","Montant","Dates","Montant","Activités","Montant","Dates","Montant","Activités","Montant"]
["Report juin"]
[]
[]
[]
[]
[null,{"$f":"SUM(B9:B12)","v":0},null,{"$f":"SUM(D8:D12)","v":0},null,{"$f":"SUM(F8:F12)","v":0},null,{"$f":"SUM(H8:H12)","v":0},null,{"$f":"SUM(J8:J12)","v":0},null,{"$f":"SUM(L8:L12)","v":0}]
["Récap 30/09",null,null,{"$f":"+B13-D13","v":0},"Récap 31/10",null,null,{"$f":"+F13-H13","v":0},"Récap 30/11",null,null,{"$f":"+J13-L13","v":0}]
[]
["DÉCEMBRE",null,null,null,"Situation fin décembre",null,null,null,"JANVIER"]
["RECETTES",null,"DEPENSES",null,null,"Recettes","Dépenses","Total","RECETTES",null,"DEPENSES"]
["Dates","Montant","Activités","Montant",{"$f":"A14","v":"Récap 30/09"},{"$f":"B13","v":0},{"$f":"D13","v":0},{"$f":"D14","v":0},"Dates","Montant","Activités","Montant"]
[null,null,null,null,{"$f":"E14","v":"Récap 31/10"},{"$f":"F13","v":0},{"$f":"H13","v":0},{"$f":"H14","v":0}]
[null,null,null,null,{"$f":"I14","v":"Récap 30/11"},{"$f":"J13","v":0},{"$f":"L13","v":0},{"$f":"L14","v":0}]
[null,null,null,null,{"$f":"A25","v":"Récap 31/12"},{"$f":"B24","v":0},{"$f":"D24","v":0},{"$f":"D25","v":0}]
[null,null,null,null,"Report Sept",null,null,{"$f":"B8","v":0}]
[null,null,null,null,"Situation 31/12",{"$f":"SUM(F18:F22)","v":0},{"$f":"SUM(G18:G22)","v":0},{"$f":"SUM(H18:H22)","v":0}]
[null,{"$f":"SUM(B19:B23)","v":0},null,{"$f":"SUM(D19:D23)","v":0},null,null,null,null,null,{"$f":"SUM(J19:J23)","v":0},null,{"$f":"SUM(L19:L23)","v":0}]
["Récap 31/12",null,null,{"$f":"+B24-D24","v":0},null,null,null,null,"Récap 31/01",null,null,{"$f":"+J24-L24","v":0}]
[]
["FÉVRIER",null,null,null,"MARS",null,null,null,"AVRIL"]
["RECETTES",null,"DEPENSES",null,"RECETTES",null,"DEPENSES",null,"RECETTES",null,"DEPENSES"]
["Dates","Montant","Activités","Montant","Dates","Montant","Activités","Montant","Dates","Montant","Activités","Montant"]
[]
[]
[]
[]
[]
[null,{"$f":"SUM(B30:B34)","v":0},null,{"$f":"SUM(D30:D34)","v":0},null,{"$f":"SUM(F30:F34)","v":0},null,{"$f":"SUM(H30:H34)","v":0},null,{"$f":"SUM(J30:J34)","v":0},null,{"$f":"SUM(L30:L34)","v":0}]
["Récap 28/02",null,null,{"$f":"+B35-D35","v":0},"Récap 31/03",null,null,{"$f":"+F35-H35","v":0},"Récap 30/04",null,null,{"$f":"+J35-L35","v":0}]
[]
[]
["MAI",null,null,null,"JUIN",null,null,null,"Situation fin juin"]
["RECETTES",null,"DEPENSES",null,"RECETTES",null,"DEPENSES",null,null,"Recettes","Dépenses","Total"]
["Dates","Montant","Activités","Montant","Dates","Montant","Activités","Montant",{"$f":"E23","v":"Situation 31/12"},null,null,{"$f":"H23","v":0}]
[null,null,null,null,null,null,null,null,{"$f":"I25","v":"Récap 31/01"},{"$f":"J24","v":0},{"$f":"L24","v":0},{"$f":"L25","v":0}]
[null,null,null,null,null,null,null,null,{"$f":"A36","v":"Récap 28/02"},{"$f":"B35","v":0},{"$f":"D35","v":0},{"$f":"D36","v":0}]
[null,null,null,null,null,null,null,null,{"$f":"E36","v":"Récap 31/03"},{"$f":"F35","v":0},{"$f":"H35","v":0},{"$f":"H36","v":0}]
[null,null,null,null,null,null,null,null,{"$f":"I36","v":"Récap 30/04"},{"$f":"J35","v":0},{"$f":"L35","v":0},{"$f":"L36","v":0}]
[null,null,null,null,null,null,null,null,{"$f":"A48","v":"Récap 31/05"},{"$f":"B47","v":0},{"$f":"D47","v":0},{"$f":"D48","v":0}]
[null,{"$f":"SUM(B42:B46)","v":0},null,{"$f":"SUM(D42:D46)","v":0},null,{"$f":"SUM(F42:F46)","v":0},null,{"$f":"SUM(H42:H46)","v":0},{"$f":"E48","v":"Récap 30/06"},{"$f":"F47","v":0},{"$f":"H47","v":0},{"$f":"H48","v":0}]
["Récap 31/05",null,null,{"$f":"+B47-D47","v":0},"Récap 30/06",null,null,{"$f":"+F47-H47","v":0},"Situation 30/06",{"$f":"SUM(J42:J47)","v":0},{"$f":"SUM(K42:K47)","v":0},{"$f":"SUM(L41:L47)","v":0}]
[]
[null,null,null,null,null,null,null,null,null,null,null,{"$f":"F23+J48-G23-K48+B8","v":0}]
[]
[null,null,null,null,null,null,null,null,null,{"$f":"B13+F13+J13+B24+J24+B35+F35+J35+B47+F47","v":0},{"$f":"D13+H13+L13+D24+L24+D35+H35+L35+D47+H47","v":0},{"$f":"B8+J52-K52","v":0}]

{"sheet":"BARBET","index":5,"n_rows":52,"n_cols":12,"rows_kept":52,"cut":false,"hidden":false,"merged":[[0,9,0,10],[2,1,2,2],[2,4,2,5],[2,8,2,9],[5,8,5,9],[5,10,5,11],[4,0,4,3],[4,4,4,7],[4,8,4,11],[5,0,5,1],[5,2,5,3],[5,4,5,5],[5,6,5,7],[24,0,24,2],[13,0,13,2],[13,4,13,6],[16,2,16,3],[37,9,37,10],[16,0,16,1],[27,6,27,7],[24,8,24,10],[38,8,38,11],[13,8,13,10],[15,0,15,3],[15,4,15,7],[15,8,15,11],[16,10,16,11],[26,0,26,3],[26,4,26,7],[26,8,26,11],[27,8,27,9],[35,0,35,2],[35,4,35,6],[35,8,35,10],[27,10,27,11],[16,8,16,9],[27,4,27,5],[47,0,47,2],[47,4,47,6],[38,0,38,3],[38,4,38,7],[39,4,39,5],[39,6,39,7]]}
[null,null,null,null,null,null,null,null,null,"Année scolaire : ",null,{"$f":"' Liste élèves'!B1","v":"2018-2019"}]
[]
["NOM : ",{"$f":"+' Liste élèves'!A6","v":"BARBET"},null,"PRENOM:",{"$f":"+' Liste élèves'!B6","v":"Gaetan"},null,null,"CLASSE :",{"$f":"+' Liste élèves'!C6","v":"Classe JB"}]
[]
["SEPTEMBRE",null,null,null,"OCTOBRE",null,null,null,"NOVEMBRE"]
["RECETTES",null,"DEPENSES",null,"RECETTES",null,"DEPENSES",null,"RECETTES",null,"DEPENSES"]
["Dates","Montant","Activités","Montant","Dates","Montant","Activités","Montant","Dates","Montant","Activités","Montant"]
["Report juin",37.5]
[]
[]
[]
[]
[null,{"$f":"SUM(B9:B12)","v":0},null,{"$f":"SUM(D8:D12)","v":0},null,{"$f":"SUM(F8:F12)","v":0},null,{"$f":"SUM(H8:H12)","v":0},null,{"$f":"SUM(J8:J12)","v":0},null,{"$f":"SUM(L8:L12)","v":0}]
["Récap 30/09",null,null,{"$f":"+B13-D13","v":0},"Récap 31/10",null,null,{"$f":"+F13-H13","v":0},"Récap 30/11",null,null,{"$f":"+J13-L13","v":0}]
[]
["DÉCEMBRE",null,null,null,"Situation fin décembre",null,null,null,"JANVIER"]
["RECETTES",null,"DEPENSES",null,null,"Recettes","Dépenses","Total","RECETTES",null,"DEPENSES"]
["Dates","Montant","Activités","Montant",{"$f":"A14","v":"Récap 30/09"},{"$f":"B13","v":0},{"$f":"D13","v":0},{"$f":"D14","v":0},"Dates","Montant","Activités","Montant"]
[null,null,null,null,{"$f":"E14","v":"Récap 31/10"},{"$f":"F13","v":0},{"$f":"H13","v":0},{"$f":"H14","v":0}]
[null,null,null,null,{"$f":"I14","v":"Récap 30/11"},{"$f":"J13","v":0},{"$f":"L13","v":0},{"$f":"L14","v":0}]
[null,null,null,null,{"$f":"A25","v":"Récap 31/12"},{"$f":"B24","v":0},{"$f":"D24","v":0},{"$f":"D25","v":0}]
[null,null,null,null,"Report Sept",null,null,{"$f":"B8","v":37.5}]
[null,null,null,null,"Situation 31/12",{"$f":"SUM(F18:F22)","v":0},{"$f":"SUM(G18:G22)","v":0},{"$f":"SUM(H18:H22)","v":37.5}]
[null,{"$f":"SUM(B19:B23)","v":0},null,{"$f":"SUM(D19:D23)","v":0},null,null,null,null,null,{"$f":"SUM(J19:J23)","v":0},null,{"$f":"SUM(L19:L23)","v":0}]
["Récap 31/12",null,null,{"$f":"+B24-D24","v":0},null,null,null,null,"Récap 31/01",null,null,{"$f":"+J24-L24","v":0}]
[]
["FÉVRIER",null,null,null,"MARS",null,null,null,"AVRIL"]
["RECETTES",null,"DEPENSES",null,"RECETTES",null,"DEPENSES",null,"RECETTES",null,"DEPENSES"]
["Dates","Montant","Activités","Montant","Dates","Montant","Activités","Montant","Dates","Montant","Activités","Montant"]
[]
[]
[]
[]
[]
[null,{"$f":"SUM(B30:B34)","v":0},null,{"$f":"SUM(D30:D34)","v":0},null,{"$f":"SUM(F30:F34)","v":0},null,{"$f":"SUM(H30:H34)","v":0},null,{"$f":"SUM(J30:J34)","v":0},null,{"$f":"SUM(L30:L34)","v":0}]
["Récap 28/02",null,null,{"$f":"+B35-D35","v":0},"Récap 31/03",null,null,{"$f":"+F35-H35","v":0},"Récap 30/04",null,null,{"$f":"+J35-L35","v":0}]
[]
[]
["MAI",null,null,null,"JUIN",null,null,null,"Situation fin juin"]
["RECETTES",null,"DEPENSES",null,"RECETTES",null,"DEPENSES",null,null,"Recettes","Dépenses","Total"]
["Dates","Montant","Activités","Montant","Dates","Montant","Activités","Montant",{"$f":"E23","v":"Situation 31/12"},null,null,{"$f":"H23","v":37.5}]
[null,null,null,null,null,null,null,null,{"$f":"I25","v":"Récap 31/01"},{"$f":"J24","v":0},{"$f":"L24","v":0},{"$f":"L25","v":0}]
[null,null,null,null,null,null,null,null,{"$f":"A36","v":"Récap 28/02"},{"$f":"B35","v":0},{"$f":"D35","v":0},{"$f":"D36","v":0}]
[null,null,null,null,null,null,null,null,{"$f":"E36","v":"Récap 31/03"},{"$f":"F35","v":0},{"$f":"H35","v":0},{"$f":"H36","v":0}]
[null,null,null,null,null,null,null,null,{"$f":"I36","v":"Récap 30/04"},{"$f":"J35","v":0},{"$f":"L35","v":0},{"$f":"L36","v":0}]
[null,null,null,null,null,null,null,null,{"$f":"A48","v":"Récap 31/05"},{"$f":"B47","v":0},{"$f":"D47","v":0},{"$f":"D48","v":0}]
[null,{"$f":"SUM(B42:B46)","v":0},null,{"$f":"SUM(D42:D46)","v":0},null,{"$f":"SUM(F42:F46)","v":0},null,{"$f":"SUM(H42:H46)","v":0},{"$f":"E48","v":"Récap 30/06"},{"$f":"F47","v":0},{"$f":"H47","v":0},{"$f":"H48","v":0}]
["Récap 31/05",null,null,{"$f":"+B47-D47","v":0},"Récap 30/06",null,null,{"$f":"+F47-H47","v":0},"Situation 30/06",{"$f":"SUM(J42:J47)","v":0},{"$f":"SUM(K42:K47)","v":0},{"$f":"SUM(L41:L47)","v":37.5}]
[]
[null,null,null,null,null,null,null,null,null,null,null,{"$f":"F23+J48-G23-K48+B8","v":37.5}]
[]
[null,null,null,null,null,null,null,null,null,{"$f":"B13+F13+J13+B24+J24+B35+F35+J35+B47+F47","v":0},{"$f":"D13+H13+L13+D24+L24+D35+H35+L35+D47+H47","v":0},{"$f":"B8+J52-K52","v":37.5}]

{"sheet":"BARROU","index":6,"n_rows":52,"n_cols":12,"rows_kept":52,"cut":false,"hidden":false,"merged":[[5,10,5,11],[0,9,0,10],[2,1,2,2],[2,4,2,5],[2,8,2,9],[4,0,4,3],[4,4,4,7],[4,8,4,11],[5,0,5,1],[5,2,5,3],[5,4,5,5],[5,6,5,7],[5,8,5,9],[13,0,13,2],[13,4,13,6],[13,8,13,10],[15,0,15,3],[15,4,15,7],[15,8,15,11],[16,0,16,1],[16,2,16,3],[16,8,16,9],[16,10,16,11],[24,0,24,2],[24,8,24,10],[26,0,26,3],[26,4,26,7],[26,8,26,11],[27,4,27,5],[27,6,27,7],[27,8,27,9],[27,10,27,11],[35,8,35,10],[37,9,37,10],[38,0,38,3],[38,4,38,7],[38,8,38,11],[39,4,39,5],[39,6,39,7],[47,0,47,2],[47,4,47,6],[35,0,35,2],[35,4,35,6]]}
[null,null,null,null,null,null,null,null,null,"Année scolaire : ",null,{"$f":"' Liste élèves'!B1","v":"2018-2019"}]
[]
["NOM : ",{"$f":"+' Liste élèves'!A7","v":"BARROU"},null,"PRENOM:",{"$f":"+' Liste élèves'!B7","v":"Othman"},null,null,"CLASSE :",{"$f":"+' Liste élèves'!C7","v":"Classe 7"}]
[]
["SEPTEMBRE",null,null,null,"OCTOBRE",null,null,null,"NOVEMBRE"]
["RECETTES",null,"DEPENSES",null,"RECETTES",null,"DEPENSES",null,"RECETTES",null,"DEPENSES"]
["Dates","Montant","Activités","Montant","Dates","Montant","Activités","Montant","Dates","Montant","Activités","Montant"]
["Report juin"]
[]
[]
[]
[]
[null,{"$f":"SUM(B9:B12)","v":0},null,{"$f":"SUM(D8:D12)","v":0},null,{"$f":"SUM(F8:F12)","v":0},null,{"$f":"SUM(H8:H12)","v":0},null,{"$f":"SUM(J8:J12)","v":0},null,{"$f":"SUM(L8:L12)","v":0}]
["Récap 30/09",null,null,{"$f":"+B13-D13","v":0},"Récap 31/10",null,null,{"$f":"+F13-H13","v":0},"Récap 30/11",null,null,{"$f":"+J13-L13","v":0}]
[]
["DÉCEMBRE",null,null,null,"Situation fin décembre",null,null,null,"JANVIER"]
["RECETTES",null,"DEPENSES",null,null,"Recettes","Dépenses","Total","RECETTES",null,"DEPENSES"]
["Dates","Montant","Activités","Montant",{"$f":"A14","v":"Récap 30/09"},{"$f":"B13","v":0},{"$f":"D13","v":0},{"$f":"D14","v":0},"Dates","Montant","Activités","Montant"]
[null,null,null,null,{"$f":"E14","v":"Récap 31/10"},{"$f":"F13","v":0},{"$f":"H13","v":0},{"$f":"H14","v":0}]
[null,null,null,null,{"$f":"I14","v":"Récap 30/11"},{"$f":"J13","v":0},{"$f":"L13","v":0},{"$f":"L14","v":0}]
[null,null,null,null,{"$f":"A25","v":"Récap 31/12"},{"$f":"B24","v":0},{"$f":"D24","v":0},{"$f":"D25","v":0}]
[null,null,null,null,"Report Sept",null,null,{"$f":"B8","v":0}]
[null,null,null,null,"Situation 31/12",{"$f":"SUM(F18:F22)","v":0},{"$f":"SUM(G18:G22)","v":0},{"$f":"SUM(H18:H22)","v":0}]
[null,{"$f":"SUM(B19:B23)","v":0},null,{"$f":"SUM(D19:D23)","v":0},null,null,null,null,null,{"$f":"SUM(J19:J23)","v":0},null,{"$f":"SUM(L19:L23)","v":0}]
["Récap 31/12",null,null,{"$f":"+B24-D24","v":0},null,null,null,null,"Récap 31/01",null,null,{"$f":"+J24-L24","v":0}]
[]
["FÉVRIER",null,null,null,"MARS",null,null,null,"AVRIL"]
["RECETTES",null,"DEPENSES",null,"RECETTES",null,"DEPENSES",null,"RECETTES",null,"DEPENSES"]
["Dates","Montant","Activités","Montant","Dates","Montant","Activités","Montant","Dates","Montant","Activités","Montant"]
[]
[]
[]
[]
[]
[null,{"$f":"SUM(B30:B34)","v":0},null,{"$f":"SUM(D30:D34)","v":0},null,{"$f":"SUM(F30:F34)","v":0},null,{"$f":"SUM(H30:H34)","v":0},null,{"$f":"SUM(J30:J34)","v":0},null,{"$f":"SUM(L30:L34)","v":0}]
["Récap 28/02",null,null,{"$f":"+B35-D35","v":0},"Récap 31/03",null,null,{"$f":"+F35-H35","v":0},"Récap 30/04",null,null,{"$f":"+J35-L35","v":0}]
[]
[]
["MAI",null,null,null,"JUIN",null,null,null,"Situation fin juin"]
["RECETTES",null,"DEPENSES",null,"RECETTES",null,"DEPENSES",null,null,"Recettes","Dépenses","Total"]
["Dates","Montant","Activités","Montant","Dates","Montant","Activités","Montant",{"$f":"E23","v":"Situation 31/12"},null,null,{"$f":"H23","v":0}]
[null,null,null,null,null,null,null,null,{"$f":"I25","v":"Récap 31/01"},{"$f":"J24","v":0},{"$f":"L24","v":0},{"$f":"L25","v":0}]
[null,null,null,null,null,null,null,null,{"$f":"A36","v":"Récap 28/02"},{"$f":"B35","v":0},{"$f":"D35","v":0},{"$f":"D36","v":0}]
[null,null,null,null,null,null,null,null,{"$f":"E36","v":"Récap 31/03"},{"$f":"F35","v":0},{"$f":"H35","v":0},{"$f":"H36","v":0}]
[null,null,null,null,null,null,null,null,{"$f":"I36","v":"Récap 30/04"},{"$f":"J35","v":0},{"$f":"L35","v":0},{"$f":"L36","v":0}]
[null,null,null,null,null,null,null,null,{"$f":"A48","v":"Récap 31/05"},{"$f":"B47","v":0},{"$f":"D47","v":0},{"$f":"D48","v":0}]
[null,{"$f":"SUM(B42:B46)","v":0},null,{"$f":"SUM(D42:D46)","v":0},null,{"$f":"SUM(F42:F46)","v":0},null,{"$f":"SUM(H42:H46)","v":0},{"$f":"E48","v":"Récap 30/06"},{"$f":"F47","v":0},{"$f":"H47","v":0},{"$f":"H48","v":0}]
["Récap 31/05",null,null,{"$f":"+B47-D47","v":0},"Récap 30/06",null,null,{"$f":"+F47-H47","v":0},"Situation 30/06",{"$f":"SUM(J42:J47)","v":0},{"$f":"SUM(K42:K47)","v":0},{"$f":"SUM(L41:L47)","v":0}]
[]
[null,null,null,null,null,null,null,null,null,null,null,{"$f":"F23+J48-G23-K48+B8","v":0}]
[]
[null,null,null,null,null,null,null,null,null,{"$f":"B13+F13+J13+B24+J24+B35+F35+J35+B47+F47","v":0},{"$f":"D13+H13+L13+D24+L24+D35+H35+L35+D47+H47","v":0},{"$f":"B8+J52-K52","v":0}]

{"sheet":"BAUDOUX","index":7,"n_rows":52,"n_cols":12,"rows_kept":52,"cut":false,"hidden":false,"merged":[[5,10,5,11],[0,9,0,10],[2,1,2,2],[2,4,2,5],[2,8,2,9],[4,0,4,3],[4,4,4,7],[4,8,4,11],[5,0,5,1],[5,2,5,3],[5,4,5,5],[5,6,5,7],[5,8,5,9],[13,0,13,2],[13,4,13,6],[13,8,13,10],[15,0,15,3],[15,4,15,7],[15,8,15,11],[16,0,16,1],[16,2,16,3],[16,8,16,9],[16,10,16,11],[24,0,24,2],[24,8,24,10],[26,0,26,3],[26,4,26,7],[26,8,26,11],[27,4,27,5],[27,6,27,7],[27,8,27,9],[27,10,27,11],[35,8,35,10],[37,9,37,10],[38,0,38,3],[38,4,38,7],[38,8,38,11],[39,4,39,5],[39,6,39,7],[47,0,47,2],[47,4,47,6],[35,0,35,2],[35,4,35,6]]}
[null,null,null,null,null,null,null,null,null,"Année scolaire : ",null,{"$f":"' Liste élèves'!B1","v":"2018-2019"}]
[]
["NOM : ",{"$f":"+' Liste élèves'!A8","v":"BAUDOUX"},null,"PRENOM:",{"$f":"+' Liste élèves'!B8","v":"Shana"},null,null,"CLASSE :",{"$f":"+' Liste élèves'!C8","v":"Classe MB"}]
[]
["SEPTEMBRE",null,null,null,"OCTOBRE",null,null,null,"NOVEMBRE"]
["RECETTES",null,"DEPENSES",null,"RECETTES",null,"DEPENSES",null,"RECETTES",null,"DEPENSES"]
["Dates","Montant","Activités","Montant","Dates","Montant","Activités","Montant","Dates","Montant","Activités","Montant"]
["Report juin"]
[]
[]
[]
[]
[null,{"$f":"SUM(B9:B12)","v":0},null,{"$f":"SUM(D8:D12)","v":0},null,{"$f":"SUM(F8:F12)","v":0},null,{"$f":"SUM(H8:H12)","v":0},null,{"$f":"SUM(J8:J12)","v":0},null,{"$f":"SUM(L8:L12)","v":0}]
["Récap 30/09",null,null,{"$f":"+B13-D13","v":0},"Récap 31/10",null,null,{"$f":"+F13-H13","v":0},"Récap 30/11",null,null,{"$f":"+J13-L13","v":0}]
[]
["DÉCEMBRE",null,null,null,"Situation fin décembre",null,null,null,"JANVIER"]
["RECETTES",null,"DEPENSES",null,null,"Recettes","Dépenses","Total","RECETTES",null,"DEPENSES"]
["Dates","Montant","Activités","Montant",{"$f":"A14","v":"Récap 30/09"},{"$f":"B13","v":0},{"$f":"D13","v":0},{"$f":"D14","v":0},"Dates","Montant","Activités","Montant"]
[null,null,null,null,{"$f":"E14","v":"Récap 31/10"},{"$f":"F13","v":0},{"$f":"H13","v":0},{"$f":"H14","v":0}]
[null,null,null,null,{"$f":"I14","v":"Récap 30/11"},{"$f":"J13","v":0},{"$f":"L13","v":0},{"$f":"L14","v":0}]
[null,null,null,null,{"$f":"A25","v":"Récap 31/12"},{"$f":"B24","v":0},{"$f":"D24","v":0},{"$f":"D25","v":0}]
[null,null,null,null,"Report Sept",null,null,{"$f":"B8","v":0}]
[null,null,null,null,"Situation 31/12",{"$f":"SUM(F18:F22)","v":0},{"$f":"SUM(G18:G22)","v":0},{"$f":"SUM(H18:H22)","v":0}]
[null,{"$f":"SUM(B19:B23)","v":0},null,{"$f":"SUM(D19:D23)","v":0},null,null,null,null,null,{"$f":"SUM(J19:J23)","v":0},null,{"$f":"SUM(L19:L23)","v":0}]
["Récap 31/12",null,null,{"$f":"+B24-D24","v":0},null,null,null,null,"Récap 31/01",null,null,{"$f":"+J24-L24","v":0}]
[]
["FÉVRIER",null,null,null,"MARS",null,null,null,"AVRIL"]
["RECETTES",null,"DEPENSES",null,"RECETTES",null,"DEPENSES",null,"RECETTES",null,"DEPENSES"]
["Dates","Montant","Activités","Montant","Dates","Montant","Activités","Montant","Dates","Montant","Activités","Montant"]
[]
[]
[]
[]
[]
[null,{"$f":"SUM(B30:B34)","v":0},null,{"$f":"SUM(D30:D34)","v":0},null,{"$f":"SUM(F30:F34)","v":0},null,{"$f":"SUM(H30:H34)","v":0},null,{"$f":"SUM(J30:J34)","v":0},null,{"$f":"SUM(L30:L34)","v":0}]
["Récap 28/02",null,null,{"$f":"+B35-D35","v":0},"Récap 31/03",null,null,{"$f":"+F35-H35","v":0},"Récap 30/04",null,null,{"$f":"+J35-L35","v":0}]
[]
[]
["MAI",null,null,null,"JUIN",null,null,null,"Situation fin juin"]
["RECETTES",null,"DEPENSES",null,"RECETTES",null,"DEPENSES",null,null,"Recettes","Dépenses","Total"]
["Dates","Montant","Activités","Montant","Dates","Montant","Activités","Montant",{"$f":"E23","v":"Situation 31/12"},null,null,{"$f":"H23","v":0}]
[null,null,null,null,null,null,null,null,{"$f":"I25","v":"Récap 31/01"},{"$f":"J24","v":0},{"$f":"L24","v":0},{"$f":"L25","v":0}]
[null,null,null,null,null,null,null,null,{"$f":"A36","v":"Récap 28/02"},{"$f":"B35","v":0},{"$f":"D35","v":0},{"$f":"D36","v":0}]
[null,null,null,null,null,null,null,null,{"$f":"E36","v":"Récap 31/03"},{"$f":"F35","v":0},{"$f":"H35","v":0},{"$f":"H36","v":0}]
[null,null,null,null,null,null,null,null,{"$f":"I36","v":"Récap 30/04"},{"$f":"J35","v":0},{"$f":"L35","v":0},{"$f":"L36","v":0}]
[null,null,null,null,null,null,null,null,{"$f":"A48","v":"Récap 31/05"},{"$f":"B47","v":0},{"$f":"D47","v":0},{"$f":"D48","v":0}]
[null,{"$f":"SUM(B42:B46)","v":0},null,{"$f":"SUM(D42:D46)","v":0},null,{"$f":"SUM(F42:F46)","v":0},null,{"$f":"SUM(H42:H46)","v":0},{"$f":"E48","v":"Récap 30/06"},{"$f":"F47","v":0},{"$f":"H47","v":0},{"$f":"H48","v":0}]
["Récap 31/05",null,null,{"$f":"+B47-D47","v":0},"Récap 30/06",null,null,{"$f":"+F47-H47","v":0},"Situation 30/06",{"$f":"SUM(J42:J47)","v":0},{"$f":"SUM(K42:K47)","v":0},{"$f":"SUM(L41:L47)","v":0}]
[]
[null,null,null,null,null,null,null,null,null,null,null,{"$f":"F23+J48-G23-K48+B8","v":0}]
[]
[null,null,null,null,null,null,null,null,null,{"$f":"B13+F13+J13+B24+J24+B35+F35+J35+B47+F47","v":0},{"$f":"D13+H13+L13+D24+L24+D35+H35+L35+D47+H47","v":0},{"$f":"B8+J52-K52","v":0}]

{"sheet":"BAURAIN","index":8,"n_rows":52,"n_cols":12,"rows_kept":52,"cut":false,"hidden":false,"merged":[[0,9,0,10],[2,1,2,2],[2,4,2,5],[2,8,2,9],[5,8,5,9],[5,10,5,11],[4,0,4,3],[4,4,4,7],[4,8,4,11],[5,0,5,1],[5,2,5,3],[5,4,5,5],[5,6,5,7],[24,0,24,2],[13,0,13,2],[13,4,13,6],[16,2,16,3],[37,9,37,10],[16,0,16,1],[27,6,27,7],[24,8,24,10],[38,8,38,11],[13,8,13,10],[15,0,15,3],[15,4,15,7],[15,8,15,11],[16,10,16,11],[26,0,26,3],[26,4,26,7],[26,8,26,11],[27,8,27,9],[35,0,35,2],[35,4,35,6],[35,8,35,10],[27,10,27,11],[16,8,16,9],[27,4,27,5],[47,0,47,2],[47,4,47,6],[38,0,38,3],[38,4,38,7],[39,4,39,5],[39,6,39,7]]}
[null,null,null,null,null,null,null,null,null,"Année scolaire : ",null,{"$f":"' Liste élèves'!B1","v":"2018-2019"}]
[]
["NOM : ",{"$f":"' Liste élèves'!A9","v":"BAURAIN"},null,"PRENOM:",{"$f":"' Liste élèves'!B9","v":"Ludovic"},null,null,"CLASSE :",{"$f":"' Liste élèves'!C9","v":"Classe FB"}]
[]
["SEPTEMBRE",null,null,null,"OCTOBRE",null,null,null,"NOVEMBRE"]
["RECETTES",null,"DEPENSES",null,"RECETTES",null,"DEPENSES",null,"RECETTES",null,"DEPENSES"]
["Dates","Montant","Activités","Montant","Dates","Montant","Activités","Montant","Dates","Montant","Activités","Montant"]
["Report juin",50.6]
[]
[]
[]
[]
[null,{"$f":"SUM(B9:B12)","v":0},null,{"$f":"SUM(D8:D12)","v":0},null,{"$f":"SUM(F8:F12)","v":0},null,{"$f":"SUM(H8:H12)","v":0},null,{"$f":"SUM(J8:J12)","v":0},null,{"$f":"SUM(L8:L12)","v":0}]
["Récap 30/09",null,null,{"$f":"+B13-D13","v":0},"Récap 31/10",null,null,{"$f":"+F13-H13","v":0},"Récap 30/11",null,null,{"$f":"+J13-L13","v":0}]
[]
["DÉCEMBRE",null,null,null,"Situation fin décembre",null,null,null,"JANVIER"]
["RECETTES",null,"DEPENSES",null,null,"Recettes","Dépenses","Total","RECETTES",null,"DEPENSES"]
["Dates","Montant","Activités","Montant",{"$f":"A14","v":"Récap 30/09"},{"$f":"B13","v":0},{"$f":"D13","v":0},{"$f":"D14","v":0},null,"Montant","Activités","Montant"]
[null,null,null,null,null,{"$f":"F13","v":0},{"$f":"H13","v":0},{"$f":"H14","v":0}]
[null,null,null,null,{"$f":"I14","v":"Récap 30/11"},{"$f":"J13","v":0},{"$f":"L13","v":0},{"$f":"L14","v":0}]
[null,null,null,null,{"$f":"A25","v":"Récap 31/12"},{"$f":"B24","v":0},{"$f":"D24","v":0},{"$f":"D25","v":0}]
[null,null,null,null,"Report Sept",null,null,{"$f":"B8","v":50.6}]
[null,null,null,null,"Situation 31/12",{"$f":"SUM(F18:F22)","v":0},{"$f":"SUM(G18:G22)","v":0},{"$f":"SUM(H18:H22)","v":50.6}]
[null,{"$f":"SUM(B19:B23)","v":0},null,{"$f":"SUM(D19:D23)","v":0},null,null,null,null,null,{"$f":"SUM(J19:J23)","v":0},null,{"$f":"SUM(L19:L23)","v":0}]
["Récap 31/12",null,null,{"$f":"+B24-D24","v":0},null,null,null,null,"Récap 31/01",null,null,{"$f":"+J24-L24","v":0}]
[]
["FÉVRIER",null,null,null,"MARS",null,null,null,"AVRIL"]
["RECETTES",null,"DEPENSES",null,"RECETTES",null,"DEPENSES",null,"RECETTES",null,"DEPENSES"]
["Dates","Montant","Activités","Montant","Dates","Montant","Activités","Montant","Dates","Montant","Activités","Montant"]
[]
[]
[]
[]
[]
[null,{"$f":"SUM(B30:B34)","v":0},null,{"$f":"SUM(D30:D34)","v":0},null,{"$f":"SUM(F30:F34)","v":0},null,{"$f":"SUM(H30:H34)","v":0},null,{"$f":"SUM(J30:J34)","v":0},null,{"$f":"SUM(L30:L34)","v":0}]
["Récap 28/02",null,null,{"$f":"+B35-D35","v":0},"Récap 31/03",null,null,{"$f":"+F35-H35","v":0},"Récap 30/04",null,null,{"$f":"+J35-L35","v":0}]
[]
[]
["MAI",null,null,null,"JUIN",null,null,null,"Situation fin juin"]
["RECETTES",null,"DEPENSES",null,"RECETTES",null,"DEPENSES",null,null,"Recettes","Dépenses","Total"]
["Dates","Montant","Activités","Montant","Dates","Montant","Activités","Montant",{"$f":"E23","v":"Situation 31/12"},null,null,{"$f":"H23","v":50.6}]
[null,null,null,null,null,null,null,null,{"$f":"I25","v":"Récap 31/01"},{"$f":"J24","v":0},{"$f":"L24","v":0},{"$f":"L25","v":0}]
[null,null,null,null,null,null,null,null,{"$f":"A36","v":"Récap 28/02"},{"$f":"B35","v":0},{"$f":"D35","v":0},{"$f":"D36","v":0}]
[null,null,null,null,null,null,null,null,{"$f":"E36","v":"Récap 31/03"},{"$f":"F35","v":0},{"$f":"H35","v":0},{"$f":"H36","v":0}]
[null,null,null,null,null,null,null,null,{"$f":"I36","v":"Récap 30/04"},{"$f":"J35","v":0},{"$f":"L35","v":0},{"$f":"L36","v":0}]
[null,null,null,null,null,null,null,null,{"$f":"A48","v":"Récap 31/05"},{"$f":"B47","v":0},{"$f":"D47","v":0},{"$f":"D48","v":0}]
[null,{"$f":"SUM(B42:B46)","v":0},null,{"$f":"SUM(D42:D46)","v":0},null,{"$f":"SUM(F42:F46)","v":0},null,{"$f":"SUM(H42:H46)","v":0},{"$f":"E48","v":"Récap 30/06"},{"$f":"F47","v":0},{"$f":"H47","v":0},{"$f":"H48","v":0}]
["Récap 31/05",null,null,{"$f":"+B47-D47","v":0},"Récap 30/06",null,null,{"$f":"+F47-H47","v":0},"Situation 30/06",{"$f":"SUM(J42:J47)","v":0},{"$f":"SUM(K42:K47)","v":0},{"$f":"SUM(L41:L47)","v":50.6}]
[]
[null,null,null,null,null,null,null,null,null,null,null,{"$f":"F23+J48-G23-K48+B8","v":50.6}]
[]
[null,null,null,null,null,null,null,null,null,{"$f":"B13+F13+J13+B24+J24+B35+F35+J35+B47+F47","v":0},{"$f":"D13+H13+L13+D24+L24+D35+H35+L35+D47+H47","v":0},{"$f":"B8+J52-K52","v":50.6}]

{"sheet":"BAUWENS","index":9,"n_rows":52,"n_cols":12,"rows_kept":52,"cut":false,"hidden":false,"merged":[[5,10,5,11],[0,9,0,10],[2,1,2,2],[2,4,2,5],[2,8,2,9],[4,0,4,3],[4,4,4,7],[4,8,4,11],[5,0,5,1],[5,2,5,3],[5,4,5,5],[5,6,5,7],[5,8,5,9],[13,0,13,2],[13,4,13,6],[13,8,13,10],[15,0,15,3],[15,4,15,7],[15,8,15,11],[16,0,16,1],[16,2,16,3],[16,8,16,9],[16,10,16,11],[24,0,24,2],[24,8,24,10],[26,0,26,3],[26,4,26,7],[26,8,26,11],[27,4,27,5],[27,6,27,7],[27,8,27,9],[27,10,27,11],[35,8,35,10],[37,9,37,10],[38,0,38,3],[38,4,38,7],[38,8,38,11],[39,4,39,5],[39,6,39,7],[47,0,47,2],[47,4,47,6],[35,0,35,2],[35,4,35,6]]}
[null,null,null,null,null,null,null,null,null,"Année scolaire : ",null,{"$f":"' Liste élèves'!B1","v":"2018-2019"}]
[]
["NOM : ",{"$f":"' Liste élèves'!A10","v":"BAUWENS"},null,"PRENOM:",{"$f":"' Liste élèves'!B10","v":"Jimmy"},null,null,"CLASSE :",{"$f":"' Liste élèves'!C10","v":"Classe PA"}]
[]
["SEPTEMBRE",null,null,null,"OCTOBRE",null,null,null,"NOVEMBRE"]
["RECETTES",null,"DEPENSES",null,"RECETTES",null,"DEPENSES",null,"RECETTES",null,"DEPENSES"]
["Dates","Montant","Activités","Montant","Dates","Montant","Activités","Montant","Dates","Montant","Activités","Montant"]
["Report juin"]
[]
[]
[]
[]
[null,{"$f":"SUM(B9:B12)","v":0},null,{"$f":"SUM(D8:D12)","v":0},null,{"$f":"SUM(F8:F12)","v":0},null,{"$f":"SUM(H8:H12)","v":0},null,{"$f":"SUM(J8:J12)","v":0},null,{"$f":"SUM(L8:L12)","v":0}]
["Récap 30/09",null,null,{"$f":"+B13-D13","v":0},"Récap 31/10",null,null,{"$f":"+F13-H13","v":0},"Récap 30/11",null,null,{"$f":"+J13-L13","v":0}]
[]
["DÉCEMBRE",null,null,null,"Situation fin décembre",null,null,null,"JANVIER"]
["RECETTES",null,"DEPENSES",null,null,"Recettes","Dépenses","Total","RECETTES",null,"DEPENSES"]
["Dates","Montant","Activités","Montant",{"$f":"A14","v":"Récap 30/09"},{"$f":"B13","v":0},{"$f":"D13","v":0},{"$f":"D14","v":0},null,"Montant","Activités","Montant"]
[null,null,null,null,null,{"$f":"F13","v":0},{"$f":"H13","v":0},{"$f":"H14","v":0}]
[null,null,null,null,{"$f":"I14","v":"Récap 30/11"},{"$f":"J13","v":0},{"$f":"L13","v":0},{"$f":"L14","v":0}]
[null,null,null,null,{"$f":"A25","v":"Récap 31/12"},{"$f":"B24","v":0},{"$f":"D24","v":0},{"$f":"D25","v":0}]
[null,null,null,null,"Report Sept",null,null,{"$f":"B8","v":0}]
[null,null,null,null,"Situation 31/12",{"$f":"SUM(F18:F22)","v":0},{"$f":"SUM(G18:G22)","v":0},{"$f":"SUM(H18:H22)","v":0}]
[null,{"$f":"SUM(B19:B23)","v":0},null,{"$f":"SUM(D19:D23)","v":0},null,null,null,null,null,{"$f":"SUM(J19:J23)","v":0},null,{"$f":"SUM(L19:L23)","v":0}]
["Récap 31/12",null,null,{"$f":"+B24-D24","v":0},null,null,null,null,"Récap 31/01",null,null,{"$f":"+J24-L24","v":0}]
[]
["FÉVRIER",null,null,null,"MARS",null,null,null,"AVRIL"]
["RECETTES",null,"DEPENSES",null,"RECETTES",null,"DEPENSES",null,"RECETTES",null,"DEPENSES"]
["Dates","Montant","Activités","Montant","Dates","Montant","Activités","Montant","Dates","Montant","Activités","Montant"]
[]
[]
[]
[]
[]
[null,{"$f":"SUM(B30:B34)","v":0},null,{"$f":"SUM(D30:D34)","v":0},null,{"$f":"SUM(F30:F34)","v":0},null,{"$f":"SUM(H30:H34)","v":0},null,{"$f":"SUM(J30:J34)","v":0},null,{"$f":"SUM(L30:L34)","v":0}]
["Récap 28/02",null,null,{"$f":"+B35-D35","v":0},"Récap 31/03",null,null,{"$f":"+F35-H35","v":0},"Récap 30/04",null,null,{"$f":"+J35-L35","v":0}]
[]
[]
["MAI",null,null,null,"JUIN",null,null,null,"Situation fin juin"]
["RECETTES",null,"DEPENSES",null,"RECETTES",null,"DEPENSES",null,null,"Recettes","Dépenses","Total"]
["Dates","Montant","Activités","Montant","Dates","Montant","Activités","Montant",{"$f":"E23","v":"Situation 31/12"},null,null,{"$f":"H23","v":0}]
[null,null,null,null,null,null,null,null,{"$f":"I25","v":"Récap 31/01"},{"$f":"J24","v":0},{"$f":"L24","v":0},{"$f":"L25","v":0}]
[null,null,null,null,null,null,null,null,{"$f":"A36","v":"Récap 28/02"},{"$f":"B35","v":0},{"$f":"D35","v":0},{"$f":"D36","v":0}]
[null,null,null,null,null,null,null,null,{"$f":"E36","v":"Récap 31/03"},{"$f":"F35","v":0},{"$f":"H35","v":0},{"$f":"H36","v":0}]
[null,null,null,null,null,null,null,null,{"$f":"I36","v":"Récap 30/04"},{"$f":"J35","v":0},{"$f":"L35","v":0},{"$f":"L36","v":0}]
[null,null,null,null,null,null,null,null,{"$f":"A48","v":"Récap 31/05"},{"$f":"B47","v":0},{"$f":"D47","v":0},{"$f":"D48","v":0}]
[null,{"$f":"SUM(B42:B46)","v":0},null,{"$f":"SUM(D42:D46)","v":0},null,{"$f":"SUM(F42:F46)","v":0},null,{"$f":"SUM(H42:H46)","v":0},{"$f":"E48","v":"Récap 30/06"},{"$f":"F47","v":0},{"$f":"H47","v":0},{"$f":"H48","v":0}]
["Récap 31/05",null,null,{"$f":"+B47-D47","v":0},"Récap 30/06",null,null,{"$f":"+F47-H47","v":0},"Situation 30/06",{"$f":"SUM(J42:J47)","v":0},{"$f":"SUM(K42:K47)","v":0},{"$f":"SUM(L41:L47)","v":0}]
[]
[null,null,null,null,null,null,null,null,null,null,null,{"$f":"F23+J48-G23-K48+B8","v":0}]
[]
[null,null,null,null,null,null,null,null,null,{"$f":"B13+F13+J13+B24+J24+B35+F35+J35+B47+F47","v":0},{"$f":"D13+H13+L13+D24+L24+D35+H35+L35+D47+H47","v":0},{"$f":"B8+J52-K52","v":0}]

{"sheet":"BEAURY","index":10,"n_rows":52,"n_cols":12,"rows_kept":52,"cut":false,"hidden":false,"merged":[[39,4,39,5],[39,6,39,7],[47,0,47,2],[47,4,47,6],[35,0,35,2],[35,4,35,6],[35,8,35,10],[37,9,37,10],[38,0,38,3],[38,4,38,7],[38,8,38,11],[26,0,26,3],[26,4,26,7],[26,8,26,11],[27,4,27,5],[27,6,27,7],[27,8,27,9],[27,10,27,11],[16,0,16,1],[16,2,16,3],[16,8,16,9],[16,10,16,11],[24,0,24,2],[24,8,24,10],[13,0,13,2],[13,4,13,6],[13,8,13,10],[15,0,15,3],[15,4,15,7],[15,8,15,11],[5,0,5,1],[5,2,5,3],[5,4,5,5],[5,6,5,7],[5,8,5,9],[5,10,5,11],[0,9,0,10],[2,1,2,2],[2,4,2,5],[2,8,2,9],[4,0,4,3],[4,4,4,7],[4,8,4,11]]}
[null,null,null,null,null,null,null,null,null,"Année scolaire : ",null,{"$f":"' Liste élèves'!B1","v":"2018-2019"}]
[]
["NOM : ",{"$f":"' Liste élèves'!A11","v":"BEAURY"},null,"PRENOM:",{"$f":"' Liste élèves'!B11","v":"Conrad "},null,null,"CLASSE :",{"$f":"' Liste élèves'!C11","v":"Classe PB"}]
[]
["SEPTEMBRE",null,null,null,"OCTOBRE",null,null,null,"NOVEMBRE"]
["RECETTES",null,"DEPENSES",null,"RECETTES",null,"DEPENSES",null,"RECETTES",null,"DEPENSES"]
["Dates","Montant","Activités","Montant","Dates","Montant","Activités","Montant","Dates","Montant","Activités","Montant"]
["Report juin"]
[]
[]
[]
[]
[null,{"$f":"SUM(B9:B12)","v":0},null,{"$f":"SUM(D8:D12)","v":0},null,{"$f":"SUM(F8:F12)","v":0},null,{"$f":"SUM(H8:H12)","v":0},null,{"$f":"SUM(J8:J12)","v":0},null,{"$f":"SUM(L8:L12)","v":0}]
["Récap 30/09",null,null,{"$f":"+B13-D13","v":0},"Récap 31/10",null,null,{"$f":"+F13-H13","v":0},"Récap 30/11",null,null,{"$f":"+J13-L13","v":0}]
[]
["DÉCEMBRE",null,null,null,"Situation fin décembre",null,null,null,"JANVIER"]
["RECETTES",null,"DEPENSES",null,null,"Recettes","Dépenses","Total","RECETTES",null,"DEPENSES"]
["Dates","Montant","Activités","Montant",{"$f":"A14","v":"Récap 30/09"},{"$f":"B13","v":0},{"$f":"D13","v":0},{"$f":"D14","v":0},null,"Montant","Activités","Montant"]
[null,null,null,null,null,{"$f":"F13","v":0},{"$f":"H13","v":0},{"$f":"H14","v":0}]
[null,null,null,null,{"$f":"I14","v":"Récap 30/11"},{"$f":"J13","v":0},{"$f":"L13","v":0},{"$f":"L14","v":0}]
[null,null,null,null,{"$f":"A25","v":"Récap 31/12"},{"$f":"B24","v":0},{"$f":"D24","v":0},{"$f":"D25","v":0}]
[null,null,null,null,"Report Sept",null,null,{"$f":"B8","v":0}]
[null,null,null,null,"Situation 31/12",{"$f":"SUM(F18:F22)","v":0},{"$f":"SUM(G18:G22)","v":0},{"$f":"SUM(H18:H22)","v":0}]
[null,{"$f":"SUM(B19:B23)","v":0},null,{"$f":"SUM(D19:D23)","v":0},null,null,null,null,null,{"$f":"SUM(J19:J23)","v":0},null,{"$f":"SUM(L19:L23)","v":0}]
["Récap 31/12",null,null,{"$f":"+B24-D24","v":0},null,null,null,null,"Récap 31/01",null,null,{"$f":"+J24-L24","v":0}]
[]
["FÉVRIER",null,null,null,"MARS",null,null,null,"AVRIL"]
["RECETTES",null,"DEPENSES",null,"RECETTES",null,"DEPENSES",null,"RECETTES",null,"DEPENSES"]
["Dates","Montant","Activités","Montant","Dates","Montant","Activités","Montant","Dates","Montant","Activités","Montant"]
[]
[]
[]
[]
[]
[null,{"$f":"SUM(B30:B34)","v":0},null,{"$f":"SUM(D30:D34)","v":0},null,{"$f":"SUM(F30:F34)","v":0},null,{"$f":"SUM(H30:H34)","v":0},null,{"$f":"SUM(J30:J34)","v":0},null,{"$f":"SUM(L30:L34)","v":0}]
["Récap 28/02",null,null,{"$f":"+B35-D35","v":0},"Récap 31/03",null,null,{"$f":"+F35-H35","v":0},"Récap 30/04",null,null,{"$f":"+J35-L35","v":0}]
[]
[]
["MAI",null,null,null,"JUIN",null,null,null,"Situation fin juin"]
["RECETTES",null,"DEPENSES",null,"RECETTES",null,"DEPENSES",null,null,"Recettes","Dépenses","Total"]
["Dates","Montant","Activités","Montant","Dates","Montant","Activités","Montant",{"$f":"E23","v":"Situation 31/12"},null,null,{"$f":"H23","v":0}]
[null,null,null,null,null,null,null,null,{"$f":"I25","v":"Récap 31/01"},{"$f":"J24","v":0},{"$f":"L24","v":0},{"$f":"L25","v":0}]
[null,null,null,null,null,null,null,null,{"$f":"A36","v":"Récap 28/02"},{"$f":"B35","v":0},{"$f":"D35","v":0},{"$f":"D36","v":0}]
[null,null,null,null,null,null,null,null,{"$f":"E36","v":"Récap 31/03"},{"$f":"F35","v":0},{"$f":"H35","v":0},{"$f":"H36","v":0}]
[null,null,null,null,null,null,null,null,{"$f":"I36","v":"Récap 30/04"},{"$f":"J35","v":0},{"$f":"L35","v":0},{"$f":"L36","v":0}]
[null,null,null,null,null,null,null,null,{"$f":"A48","v":"Récap 31/05"},{"$f":"B47","v":0},{"$f":"D47","v":0},{"$f":"D48","v":0}]
[null,{"$f":"SUM(B42:B46)","v":0},null,{"$f":"SUM(D42:D46)","v":0},null,{"$f":"SUM(F42:F46)","v":0},null,{"$f":"SUM(H42:H46)","v":0},{"$f":"E48","v":"Récap 30/06"},{"$f":"F47","v":0},{"$f":"H47","v":0},{"$f":"H48","v":0}]
["Récap 31/05",null,null,{"$f":"+B47-D47","v":0},"Récap 30/06",null,null,{"$f":"+F47-H47","v":0},"Situation 30/06",{"$f":"SUM(J42:J47)","v":0},{"$f":"SUM(K42:K47)","v":0},{"$f":"SUM(L41:L47)","v":0}]
[]
[null,null,null,null,null,null,null,null,null,null,null,{"$f":"F23+J48-G23-K48+B8","v":0}]
[]
[null,null,null,null,null,null,null,null,null,{"$f":"B13+F13+J13+B24+J24+B35+F35+J35+B47+F47","v":0},{"$f":"D13+H13+L13+D24+L24+D35+H35+L35+D47+H47","v":0},{"$f":"B8+J52-K52","v":0}]

{"sheet":"BEHETSK","index":11,"n_rows":52,"n_cols":12,"rows_kept":52,"cut":false,"hidden":false,"merged":[[47,0,47,2],[47,4,47,6],[38,0,38,3],[38,4,38,7],[35,0,35,2],[35,4,35,6],[38,8,38,11],[39,4,39,5],[39,6,39,7],[16,2,16,3],[16,8,16,9],[16,10,16,11],[27,4,27,5],[27,6,27,7],[27,8,27,9],[27,10,27,11],[24,0,24,2],[24,8,24,10],[37,9,37,10],[26,0,26,3],[26,4,26,7],[26,8,26,11],[16,0,16,1],[35,8,35,10],[15,0,15,3],[15,4,15,7],[13,0,13,2],[13,4,13,6],[13,8,13,10],[15,8,15,11],[0,9,0,10],[2,1,2,2],[2,4,2,5],[2,8,2,9],[5,8,5,9],[5,10,5,11],[5,0,5,1],[4,0,4,3],[4,4,4,7],[4,8,4,11],[5,2,5,3],[5,4,5,5],[5,6,5,7]]}
[null,null,null,null,null,null,null,null,null,"Année scolaire : ",null,{"$f":"' Liste élèves'!B1","v":"2018-2019"}]
[]
["NOM : ",{"$f":"' Liste élèves'!A12","v":"BEHETSK"},null,"PRENOM:",{"$f":"' Liste élèves'!B12","v":"Kelly"},null,null,"CLASSE :",{"$f":"' Liste élèves'!C12","v":"Classe PC"}]
[]
["SEPTEMBRE",null,null,null,"OCTOBRE",null,null,null,"NOVEMBRE"]
["RECETTES",null,"DEPENSES",null,"RECETTES",null,"DEPENSES",null,"RECETTES",null,"DEPENSES"]
["Dates","Montant","Activités","Montant","Dates","Montant","Activités","Montant","Dates","Montant","Activités","Montant"]
["Report juin",39]
[]
[]
[]
[]
[null,{"$f":"SUM(B9:B12)","v":0},null,{"$f":"SUM(D8:D12)","v":0},null,{"$f":"SUM(F8:F12)","v":0},null,{"$f":"SUM(H8:H12)","v":0},null,{"$f":"SUM(J8:J12)","v":0},null,{"$f":"SUM(L8:L12)","v":0}]
["Récap 30/09",null,null,{"$f":"+B13-D13","v":0},"Récap 31/10",null,null,{"$f":"+F13-H13","v":0},"Récap 30/11",null,null,{"$f":"+J13-L13","v":0}]
[]
["DÉCEMBRE",null,null,null,"Situation fin décembre",null,null,null,"JANVIER"]
["RECETTES",null,"DEPENSES",null,null,"Recettes","Dépenses","Total","RECETTES",null,"DEPENSES"]
["Dates","Montant","Activités","Montant",{"$f":"A14","v":"Récap 30/09"},{"$f":"B13","v":0},{"$f":"D13","v":0},{"$f":"D14","v":0},"Dates","Montant","Activités","Montant"]
[null,null,null,null,{"$f":"E14","v":"Récap 31/10"},{"$f":"F13","v":0},{"$f":"H13","v":0},{"$f":"H14","v":0}]
[null,null,null,null,{"$f":"I14","v":"Récap 30/11"},{"$f":"J13","v":0},{"$f":"L13","v":0},{"$f":"L14","v":0}]
[null,null,null,null,{"$f":"A25","v":"Récap 31/12"},{"$f":"B24","v":0},{"$f":"D24","v":0},{"$f":"D25","v":0}]
[null,null,null,null,"Report Sept",null,null,{"$f":"B8","v":39}]
[null,null,null,null,"Situation 31/12",{"$f":"SUM(F18:F22)","v":0},{"$f":"SUM(G18:G22)","v":0},{"$f":"SUM(H18:H22)","v":39}]
[null,{"$f":"SUM(B19:B23)","v":0},null,{"$f":"SUM(D19:D23)","v":0},null,null,null,null,null,{"$f":"SUM(J19:J23)","v":0},null,{"$f":"SUM(L19:L23)","v":0}]
["Récap 31/12",null,null,{"$f":"+B24-D24","v":0},null,null,null,null,"Récap 31/01",null,null,{"$f":"+J24-L24","v":0}]
[]
["FÉVRIER",null,null,null,"MARS",null,null,null,"AVRIL"]
["RECETTES",null,"DEPENSES",null,"RECETTES",null,"DEPENSES",null,"RECETTES",null,"DEPENSES"]
["Dates","Montant","Activités","Montant","Dates","Montant","Activités","Montant","Dates","Montant","Activités","Montant"]
[]
[]
[]
[]
[]
[null,{"$f":"SUM(B30:B34)","v":0},null,{"$f":"SUM(D30:D34)","v":0},null,{"$f":"SUM(F30:F34)","v":0},null,{"$f":"SUM(H30:H34)","v":0},null,{"$f":"SUM(J30:J34)","v":0},null,{"$f":"SUM(L30:L34)","v":0}]
["Récap 28/02",null,null,{"$f":"+B35-D35","v":0},"Récap 31/03",null,null,{"$f":"+F35-H35","v":0},"Récap 30/04",null,null,{"$f":"+J35-L35","v":0}]
[]
[]
["MAI",null,null,null,"JUIN",null,null,null,"Situation fin juin"]
["RECETTES",null,"DEPENSES",null,"RECETTES",null,"DEPENSES",null,null,"Recettes","Dépenses","Total"]
["Dates","Montant","Activités","Montant","Dates","Montant","Activités","Montant",{"$f":"E23","v":"Situation 31/12"},null,null,{"$f":"H23","v":39}]
[null,null,null,null,null,null,null,null,{"$f":"I25","v":"Récap 31/01"},{"$f":"J24","v":0},{"$f":"L24","v":0},{"$f":"L25","v":0}]
[null,null,null,null,null,null,null,null,{"$f":"A36","v":"Récap 28/02"},{"$f":"B35","v":0},{"$f":"D35","v":0},{"$f":"D36","v":0}]
[null,null,null,null,null,null,null,null,{"$f":"E36","v":"Récap 31/03"},{"$f":"F35","v":0},{"$f":"H35","v":0},{"$f":"H36","v":0}]
[null,null,null,null,null,null,null,null,{"$f":"I36","v":"Récap 30/04"},{"$f":"J35","v":0},{"$f":"L35","v":0},{"$f":"L36","v":0}]
[null,null,null,null,null,null,null,null,{"$f":"A48","v":"Récap 31/05"},{"$f":"B47","v":0},{"$f":"D47","v":0},{"$f":"D48","v":0}]
[null,{"$f":"SUM(B42:B46)","v":0},null,{"$f":"SUM(D42:D46)","v":0},null,{"$f":"SUM(F42:F46)","v":0},null,{"$f":"SUM(H42:H46)","v":0},{"$f":"E48","v":"Récap 30/06"},{"$f":"F47","v":0},{"$f":"H47","v":0},{"$f":"H48","v":0}]
["Récap 31/05",null,null,{"$f":"+B47-D47","v":0},"Récap 30/06",null,null,{"$f":"+F47-H47","v":0},"Situation 30/06",{"$f":"SUM(J42:J47)","v":0},{"$f":"SUM(K42:K47)","v":0},{"$f":"SUM(L41:L47)","v":39}]
[]
[null,null,null,null,null,null,null,null,null,null,null,{"$f":"F23+J48-G23-K48+B8","v":39}]
[]
[null,null,null,null,null,null,null,null,null,{"$f":"B13+F13+J13+B24+J24+B35+F35+J35+B47+F47","v":0},{"$f":"D13+H13+L13+D24+L24+D35+H35+L35+D47+H47","v":0},{"$f":"B8+J52-K52","v":39}]

{"sheet":"BEHETSP","index":12,"n_rows":52,"n_cols":12,"rows_kept":52,"cut":false,"hidden":false,"merged":[[0,9,0,10],[2,1,2,2],[2,4,2,5],[2,8,2,9],[5,8,5,9],[5,10,5,11],[4,0,4,3],[4,4,4,7],[4,8,4,11],[5,0,5,1],[5,2,5,3],[5,4,5,5],[5,6,5,7],[24,0,24,2],[13,0,13,2],[13,4,13,6],[16,2,16,3],[37,9,37,10],[16,0,16,1],[27,6,27,7],[24,8,24,10],[38,8,38,11],[13,8,13,10],[15,0,15,3],[15,4,15,7],[15,8,15,11],[16,10,16,11],[26,0,26,3],[26,4,26,7],[26,8,26,11],[27,8,27,9],[35,0,35,2],[35,4,35,6],[35,8,35,10],[27,10,27,11],[16,8,16,9],[27,4,27,5],[47,0,47,2],[47,4,47,6],[38,0,38,3],[38,4,38,7],[39,4,39,5],[39,6,39,7]]}
[null,null,null,null,null,null,null,null,null,"Année scolaire : ",null,{"$f":"' Liste élèves'!B1","v":"2018-2019"}]
[]
["NOM : ",{"$f":"' Liste élèves'!A13","v":"BEHETSP"},null,"PRENOM:",{"$f":"' Liste élèves'!B13","v":"Pascal"},null,null,"CLASSE :",{"$f":"' Liste élèves'!C13","v":"Classe FB"}]
[]
["SEPTEMBRE",null,null,null,"OCTOBRE",null,null,null,"NOVEMBRE"]
["RECETTES",null,"DEPENSES",null,"RECETTES",null,"DEPENSES",null,"RECETTES",null,"DEPENSES"]
["Dates","Montant","Activités","Montant","Dates","Montant","Activités","Montant","Dates","Montant","Activités","Montant"]
["Report juin",38]
[]
[]
[]
[]
[null,{"$f":"SUM(B9:B12)","v":0},null,{"$f":"SUM(D8:D12)","v":0},null,{"$f":"SUM(F8:F12)","v":0},null,{"$f":"SUM(H8:H12)","v":0},null,{"$f":"SUM(J8:J12)","v":0},null,{"$f":"SUM(L8:L12)","v":0}]
["Récap 30/09",null,null,{"$f":"+B13-D13","v":0},"Récap 31/10",null,null,{"$f":"+F13-H13","v":0},"Récap 30/11",null,null,{"$f":"+J13-L13","v":0}]
[]
["DÉCEMBRE",null,null,null,"Situation fin décembre",null,null,null,"JANVIER"]
["RECETTES",null,"DEPENSES",null,null,"Recettes","Dépenses","Total","RECETTES",null,"DEPENSES"]
["Dates","Montant","Activités","Montant",{"$f":"A14","v":"Récap 30/09"},{"$f":"B13","v":0},{"$f":"D13","v":0},{"$f":"D14","v":0},"Dates","Montant","Activités","Montant"]
[null,null,null,null,{"$f":"E14","v":"Récap 31/10"},{"$f":"F13","v":0},{"$f":"H13","v":0},{"$f":"H14","v":0}]
[null,null,null,null,{"$f":"I14","v":"Récap 30/11"},{"$f":"J13","v":0},{"$f":"L13","v":0},{"$f":"L14","v":0}]
[null,null,null,null,{"$f":"A25","v":"Récap 31/12"},{"$f":"B24","v":0},{"$f":"D24","v":0},{"$f":"D25","v":0}]
[null,null,null,null,"Report Sept",null,null,{"$f":"B8","v":38}]
[null,null,null,null,"Situation 31/12",{"$f":"SUM(F18:F22)","v":0},{"$f":"SUM(G18:G22)","v":0},{"$f":"SUM(H18:H22)","v":38}]
[null,{"$f":"SUM(B19:B23)","v":0},null,{"$f":"SUM(D19:D23)","v":0},null,null,null,null,null,{"$f":"SUM(J19:J23)","v":0},null,{"$f":"SUM(L19:L23)","v":0}]
["Récap 31/12",null,null,{"$f":"+B24-D24","v":0},null,null,null,null,"Récap 31/01",null,null,{"$f":"+J24-L24","v":0}]
[]
["FÉVRIER",null,null,null,"MARS",null,null,null,"AVRIL"]
["RECETTES",null,"DEPENSES",null,"RECETTES",null,"DEPENSES",null,"RECETTES",null,"DEPENSES"]
["Dates","Montant","Activités","Montant","Dates","Montant","Activités","Montant","Dates","Montant","Activités","Montant"]
[]
[]
[]
[]
[]
[null,{"$f":"SUM(B30:B34)","v":0},null,{"$f":"SUM(D30:D34)","v":0},null,{"$f":"SUM(F30:F34)","v":0},null,{"$f":"SUM(H30:H34)","v":0},null,{"$f":"SUM(J30:J34)","v":0},null,{"$f":"SUM(L30:L34)","v":0}]
["Récap 28/02",null,null,{"$f":"+B35-D35","v":0},"Récap 31/03",null,null,{"$f":"+F35-H35","v":0},"Récap 30/04",null,null,{"$f":"+J35-L35","v":0}]
[]
[]
["MAI",null,null,null,"JUIN",null,null,null,"Situation fin juin"]
["RECETTES",null,"DEPENSES",null,"RECETTES",null,"DEPENSES",null,null,"Recettes","Dépenses","Total"]
["Dates","Montant","Activités","Montant","Dates","Montant","Activités","Montant",{"$f":"E23","v":"Situation 31/12"},null,null,{"$f":"H23","v":38}]
[null,null,null,null,null,null,null,null,{"$f":"I25","v":"Récap 31/01"},{"$f":"J24","v":0},{"$f":"L24","v":0},{"$f":"L25","v":0}]
[null,null,null,null,null,null,null,null,{"$f":"A36","v":"Récap 28/02"},{"$f":"B35","v":0},{"$f":"D35","v":0},{"$f":"D36","v":0}]
[null,null,null,null,null,null,null,null,{"$f":"E36","v":"Récap 31/03"},{"$f":"F35","v":0},{"$f":"H35","v":0},{"$f":"H36","v":0}]
[null,null,null,null,null,null,null,null,{"$f":"I36","v":"Récap 30/04"},{"$f":"J35","v":0},{"$f":"L35","v":0},{"$f":"L36","v":0}]
[null,null,null,null,null,null,null,null,{"$f":"A48","v":"Récap 31/05"},{"$f":"B47","v":0},{"$f":"D47","v":0},{"$f":"D48","v":0}]
[null,{"$f":"SUM(B42:B46)","v":0},null,{"$f":"SUM(D42:D46)","v":0},null,{"$f":"SUM(F42:F46)","v":0},null,{"$f":"SUM(H42:H46)","v":0},{"$f":"E48","v":"Récap 30/06"},{"$f":"F47","v":0},{"$f":"H47","v":0},{"$f":"H48","v":0}]
["Récap 31/05",null,null,{"$f":"+B47-D47","v":0},"Récap 30/06",null,null,{"$f":"+F47-H47","v":0},"Situation 30/06",{"$f":"SUM(J42:J47)","v":0},{"$f":"SUM(K42:K47)","v":0},{"$f":"SUM(L41:L47)","v":38}]
[]
[null,null,null,null,null,null,null,null,null,null,null,{"$f":"F23+J48-G23-K48+B8","v":38}]
[]
[null,null,null,null,null,null,null,null,null,{"$f":"B13+F13+J13+B24+J24+B35+F35+J35+B47+F47","v":0},{"$f":"D13+H13+L13+D24+L24+D35+H35+L35+D47+H47","v":0},{"$f":"B8+J52-K52","v":38}]

{"sheet":"BELLENS","index":13,"n_rows":52,"n_cols":12,"rows_kept":52,"cut":false,"hidden":false,"merged":[[5,10,5,11],[0,9,0,10],[2,1,2,2],[2,4,2,5],[2,8,2,9],[4,0,4,3],[4,4,4,7],[4,8,4,11],[5,0,5,1],[5,2,5,3],[5,4,5,5],[5,6,5,7],[5,8,5,9],[13,0,13,2],[13,4,13,6],[13,8,13,10],[15,0,15,3],[15,4,15,7],[15,8,15,11],[16,0,16,1],[16,2,16,3],[16,8,16,9],[16,10,16,11],[24,0,24,2],[24,8,24,10],[26,0,26,3],[26,4,26,7],[26,8,26,11],[27,4,27,5],[27,6,27,7],[27,8,27,9],[27,10,27,11],[35,8,35,10],[37,9,37,10],[38,0,38,3],[38,4,38,7],[38,8,38,11],[39,4,39,5],[39,6,39,7],[47,0,47,2],[47,4,47,6],[35,0,35,2],[35,4,35,6]]}
[null,null,null,null,null,null,null,null,null,"Année scolaire : ",null,{"$f":"' Liste élèves'!B1","v":"2018-2019"}]
[]
["NOM : ",{"$f":"' Liste élèves'!A14","v":"BELLENS"},null,"PRENOM:",{"$f":"' Liste élèves'!B14","v":"Manola"},null,null,"CLASSE :",{"$f":"' Liste élèves'!C14","v":"Classe 5"}]
[]
["SEPTEMBRE",null,null,null,"OCTOBRE",null,null,null,"NOVEMBRE"]
["RECETTES",null,"DEPENSES",null,"RECETTES",null,"DEPENSES",null,"RECETTES",null,"DEPENSES"]
["Dates","Montant","Activités","Montant","Dates","Montant","Activités","Montant","Dates","Montant","Activités","Montant"]
["Report juin"]
[]
[]
[]
[]
[null,{"$f":"SUM(B9:B12)","v":0},null,{"$f":"SUM(D8:D12)","v":0},null,{"$f":"SUM(F8:F12)","v":0},null,{"$f":"SUM(H8:H12)","v":0},null,{"$f":"SUM(J8:J12)","v":0},null,{"$f":"SUM(L8:L12)","v":0}]
["Récap 30/09",null,null,{"$f":"+B13-D13","v":0},"Récap 31/10",null,null,{"$f":"+F13-H13","v":0},"Récap 30/11",null,null,{"$f":"+J13-L13","v":0}]
[]
["DÉCEMBRE",null,null,null,"Situation fin décembre",null,null,null,"JANVIER"]
["RECETTES",null,"DEPENSES",null,null,"Recettes","Dépenses","Total","RECETTES",null,"DEPENSES"]
["Dates","Montant","Activités","Montant",{"$f":"A14","v":"Récap 30/09"},{"$f":"B13","v":0},{"$f":"D13","v":0},{"$f":"D14","v":0},"Dates","Montant","Activités","Montant"]
[null,null,null,null,{"$f":"E14","v":"Récap 31/10"},{"$f":"F13","v":0},{"$f":"H13","v":0},{"$f":"H14","v":0}]
[null,null,null,null,{"$f":"I14","v":"Récap 30/11"},{"$f":"J13","v":0},{"$f":"L13","v":0},{"$f":"L14","v":0}]
[null,null,null,null,{"$f":"A25","v":"Récap 31/12"},{"$f":"B24","v":0},{"$f":"D24","v":0},{"$f":"D25","v":0}]
[null,null,null,null,"Report Sept",null,null,{"$f":"B8","v":0}]
[null,null,null,null,"Situation 31/12",{"$f":"SUM(F18:F22)","v":0},{"$f":"SUM(G18:G22)","v":0},{"$f":"SUM(H18:H22)","v":0}]
[null,{"$f":"SUM(B19:B23)","v":0},null,{"$f":"SUM(D19:D23)","v":0},null,null,null,null,null,{"$f":"SUM(J19:J23)","v":0},null,{"$f":"SUM(L19:L23)","v":0}]
["Récap 31/12",null,null,{"$f":"+B24-D24","v":0},null,null,null,null,"Récap 31/01",null,null,{"$f":"+J24-L24","v":0}]
[]
["FÉVRIER",null,null,null,"MARS",null,null,null,"AVRIL"]
["RECETTES",null,"DEPENSES",null,"RECETTES",null,"DEPENSES",null,"RECETTES",null,"DEPENSES"]
["Dates","Montant","Activités","Montant","Dates","Montant","Activités","Montant","Dates","Montant","Activités","Montant"]
[]
[]
[]
[]
[]
[null,{"$f":"SUM(B30:B34)","v":0},null,{"$f":"SUM(D30:D34)","v":0},null,{"$f":"SUM(F30:F34)","v":0},null,{"$f":"SUM(H30:H34)","v":0},null,{"$f":"SUM(J30:J34)","v":0},null,{"$f":"SUM(L30:L34)","v":0}]
["Récap 28/02",null,null,{"$f":"+B35-D35","v":0},"Récap 31/03",null,null,{"$f":"+F35-H35","v":0},"Récap 30/04",null,null,{"$f":"+J35-L35","v":0}]
[]
[]
["MAI",null,null,null,"JUIN",null,null,null,"Situation fin juin"]
["RECETTES",null,"DEPENSES",null,"RECETTES",null,"DEPENSES",null,null,"Recettes","Dépenses","Total"]
["Dates","Montant","Activités","Montant","Dates","Montant","Activités","Montant",{"$f":"E23","v":"Situation 31/12"},null,null,{"$f":"H23","v":0}]
[null,null,null,null,null,null,null,null,{"$f":"I25","v":"Récap 31/01"},{"$f":"J24","v":0},{"$f":"L24","v":0},{"$f":"L25","v":0}]
[null,null,null,null,null,null,null,null,{"$f":"A36","v":"Récap 28/02"},{"$f":"B35","v":0},{"$f":"D35","v":0},{"$f":"D36","v":0}]
[null,null,null,null,null,null,null,null,{"$f":"E36","v":"Récap 31/03"},{"$f":"F35","v":0},{"$f":"H35","v":0},{"$f":"H36","v":0}]
[null,null,null,null,null,null,null,null,{"$f":"I36","v":"Récap 30/04"},{"$f":"J35","v":0},{"$f":"L35","v":0},{"$f":"L36","v":0}]
[null,null,null,null,null,null,null,null,{"$f":"A48","v":"Récap 31/05"},{"$f":"B47","v":0},{"$f":"D47","v":0},{"$f":"D48","v":0}]
[null,{"$f":"SUM(B42:B46)","v":0},null,{"$f":"SUM(D42:D46)","v":0},null,{"$f":"SUM(F42:F46)","v":0},null,{"$f":"SUM(H42:H46)","v":0},{"$f":"E48","v":"Récap 30/06"},{"$f":"F47","v":0},{"$f":"H47","v":0},{"$f":"H48","v":0}]
["Récap 31/05",null,null,{"$f":"+B47-D47","v":0},"Récap 30/06",null,null,{"$f":"+F47-H47","v":0},"Situation 30/06",{"$f":"SUM(J42:J47)","v":0},{"$f":"SUM(K42:K47)","v":0},{"$f":"SUM(L41:L47)","v":0}]
[]
[null,null,null,null,null,null,null,null,null,null,null,{"$f":"F23+J48-G23-K48+B8","v":0}]
[]
[null,null,null,null,null,null,null,null,null,{"$f":"B13+F13+J13+B24+J24+B35+F35+J35+B47+F47","v":0},{"$f":"D13+H13+L13+D24+L24+D35+H35+L35+D47+H47","v":0},{"$f":"B8+J52-K52","v":0}]

{"sheet":"BERTINOTTI","index":14,"n_rows":52,"n_cols":12,"rows_kept":52,"cut":false,"hidden":false,"merged":[[0,9,0,10],[2,1,2,2],[2,4,2,5],[2,8,2,9],[5,8,5,9],[5,10,5,11],[4,0,4,3],[4,4,4,7],[4,8,4,11],[5,0,5,1],[5,2,5,3],[5,4,5,5],[5,6,5,7],[24,0,24,2],[13,0,13,2],[13,4,13,6],[16,2,16,3],[37,9,37,10],[16,0,16,1],[27,6,27,7],[24,8,24,10],[38,8,38,11],[13,8,13,10],[15,0,15,3],[15,4,15,7],[15,8,15,11],[16,10,16,11],[26,0,26,3],[26,4,26,7],[26,8,26,11],[27,8,27,9],[35,0,35,2],[35,4,35,6],[35,8,35,10],[27,10,27,11],[16,8,16,9],[27,4,27,5],[47,0,47,2],[47,4,47,6],[38,0,38,3],[38,4,38,7],[39,4,39,5],[39,6,39,7]]}
[null,null,null,null,null,null,null,null,null,"Année scolaire : ",null,{"$f":"' Liste élèves'!B1","v":"2018-2019"}]
[]
["NOM : ",{"$f":"' Liste élèves'!A15","v":"BERTINOTTI"},null,"PRENOM:",{"$f":"' Liste élèves'!B15","v":"Synthia"},null,null,"CLASSE :",{"$f":"' Liste élèves'!C15","v":"Classe 4"}]
[]
["SEPTEMBRE",null,null,null,"OCTOBRE",null,null,null,"NOVEMBRE"]
["RECETTES",null,"DEPENSES",null,"RECETTES",null,"DEPENSES",null,"RECETTES",null,"DEPENSES"]
["Dates","Montant","Activités","Montant","Dates","Montant","Activités","Montant","Dates","Montant","Activités","Montant"]
["Report juin",67]
[]
[]
[]
[]
[null,{"$f":"SUM(B9:B12)","v":0},null,{"$f":"SUM(D8:D12)","v":0},null,{"$f":"SUM(F8:F12)","v":0},null,{"$f":"SUM(H8:H12)","v":0},null,{"$f":"SUM(J8:J12)","v":0},null,{"$f":"SUM(L8:L12)","v":0}]
["Récap 30/09",null,null,{"$f":"+B13-D13","v":0},"Récap 31/10",null,null,{"$f":"+F13-H13","v":0},"Récap 30/11",null,null,{"$f":"+J13-L13","v":0}]
[]
["DÉCEMBRE",null,null,null,"Situation fin décembre",null,null,null,"JANVIER"]
["RECETTES",null,"DEPENSES",null,null,"Recettes","Dépenses","Total","RECETTES",null,"DEPENSES"]
["Dates","Montant","Activités","Montant",{"$f":"A14","v":"Récap 30/09"},{"$f":"B13","v":0},{"$f":"D13","v":0},{"$f":"D14","v":0},"Dates","Montant","Activités","Montant"]
[null,null,null,null,{"$f":"E14","v":"Récap 31/10"},{"$f":"F13","v":0},{"$f":"H13","v":0},{"$f":"H14","v":0}]
[null,null,null,null,{"$f":"I14","v":"Récap 30/11"},{"$f":"J13","v":0},{"$f":"L13","v":0},{"$f":"L14","v":0}]
[null,null,null,null,{"$f":"A25","v":"Récap 31/12"},{"$f":"B24","v":0},{"$f":"D24","v":0},{"$f":"D25","v":0}]
[null,null,null,null,"Report Sept",null,null,{"$f":"B8","v":67}]
[null,null,null,null,"Situation 31/12",{"$f":"SUM(F18:F22)","v":0},{"$f":"SUM(G18:G22)","v":0},{"$f":"SUM(H18:H22)","v":67}]
[null,{"$f":"SUM(B19:B23)","v":0},null,{"$f":"SUM(D19:D23)","v":0},null,null,null,null,null,{"$f":"SUM(J19:J23)","v":0},null,{"$f":"SUM(L19:L23)","v":0}]
["Récap 31/12",null,null,{"$f":"+B24-D24","v":0},null,null,null,null,"Récap 31/01",null,null,{"$f":"+J24-L24","v":0}]
[]
["FÉVRIER",null,null,null,"MARS",null,null,null,"AVRIL"]
["RECETTES",null,"DEPENSES",null,"RECETTES",null,"DEPENSES",null,"RECETTES",null,"DEPENSES"]
["Dates","Montant","Activités","Montant","Dates","Montant","Activités","Montant","Dates","Montant","Activités","Montant"]
[]
[]
[]
[]
[]
[null,{"$f":"SUM(B30:B34)","v":0},null,{"$f":"SUM(D30:D34)","v":0},null,{"$f":"SUM(F30:F34)","v":0},null,{"$f":"SUM(H30:H34)","v":0},null,{"$f":"SUM(J30:J34)","v":0},null,{"$f":"SUM(L30:L34)","v":0}]
["Récap 28/02",null,null,{"$f":"+B35-D35","v":0},"Récap 31/03",null,null,{"$f":"+F35-H35","v":0},"Récap 30/04",null,null,{"$f":"+J35-L35","v":0}]
[]
[]
["MAI",null,null,null,"JUIN",null,null,null,"Situation fin juin"]
["RECETTES",null,"DEPENSES",null,"RECETTES",null,"DEPENSES",null,null,"Recettes","Dépenses","Total"]
["Dates","Montant","Activités","Montant","Dates","Montant","Activités","Montant",{"$f":"E23","v":"Situation 31/12"},null,null,{"$f":"H23","v":67}]
[null,null,null,null,null,null,null,null,{"$f":"I25","v":"Récap 31/01"},{"$f":"J24","v":0},{"$f":"L24","v":0},{"$f":"L25","v":0}]
[null,null,null,null,null,null,null,null,{"$f":"A36","v":"Récap 28/02"},{"$f":"B35","v":0},{"$f":"D35","v":0},{"$f":"D36","v":0}]
[null,null,null,null,null,null,null,null,{"$f":"E36","v":"Récap 31/03"},{"$f":"F35","v":0},{"$f":"H35","v":0},{"$f":"H36","v":0}]
[null,null,null,null,null,null,null,null,{"$f":"I36","v":"Récap 30/04"},{"$f":"J35","v":0},{"$f":"L35","v":0},{"$f":"L36","v":0}]
[null,null,null,null,null,null,null,null,{"$f":"A48","v":"Récap 31/05"},{"$f":"B47","v":0},{"$f":"D47","v":0},{"$f":"D48","v":0}]
[null,{"$f":"SUM(B42:B46)","v":0},null,{"$f":"SUM(D42:D46)","v":0},null,{"$f":"SUM(F42:F46)","v":0},null,{"$f":"SUM(H42:H46)","v":0},{"$f":"E48","v":"Récap 30/06"},{"$f":"F47","v":0},{"$f":"H47","v":0},{"$f":"H48","v":0}]
["Récap 31/05",null,null,{"$f":"+B47-D47","v":0},"Récap 30/06",null,null,{"$f":"+F47-H47","v":0},"Situation 30/06",{"$f":"SUM(J42:J47)","v":0},{"$f":"SUM(K42:K47)","v":0},{"$f":"SUM(L41:L47)","v":67}]
[]
[null,null,null,null,null,null,null,null,null,null,null,{"$f":"F23+J48-G23-K48+B8","v":67}]
[]
[null,null,null,null,null,null,null,null,null,{"$f":"B13+F13+J13+B24+J24+B35+F35+J35+B47+F47","v":0},{"$f":"D13+H13+L13+D24+L24+D35+H35+L35+D47+H47","v":0},{"$f":"B8+J52-K52","v":67}]

{"sheet":"BERTRANDB","index":15,"n_rows":52,"n_cols":12,"rows_kept":52,"cut":false,"hidden":false,"merged":[[0,9,0,10],[2,1,2,2],[2,4,2,5],[2,8,2,9],[5,8,5,9],[5,10,5,11],[4,0,4,3],[4,4,4,7],[4,8,4,11],[5,0,5,1],[5,2,5,3],[5,4,5,5],[5,6,5,7],[24,0,24,2],[13,0,13,2],[13,4,13,6],[16,2,16,3],[37,9,37,10],[16,0,16,1],[27,6,27,7],[24,8,24,10],[38,8,38,11],[13,8,13,10],[15,0,15,3],[15,4,15,7],[15,8,15,11],[16,10,16,11],[26,0,26,3],[26,4,26,7],[26,8,26,11],[27,8,27,9],[35,0,35,2],[35,4,35,6],[35,8,35,10],[27,10,27,11],[16,8,16,9],[27,4,27,5],[47,0,47,2],[47,4,47,6],[38,0,38,3],[38,4,38,7],[39,4,39,5],[39,6,39,7]]}
[null,null,null,null,null,null,null,null,null,"Année scolaire : ",null,{"$f":"' Liste élèves'!B1","v":"2018-2019"}]
[]
["NOM : ",{"$f":"' Liste élèves'!A16","v":"BERTRANDB"},null,"PRENOM:",{"$f":"' Liste élèves'!B16","v":"Brandon"},null,null,"CLASSE :",{"$f":"' Liste élèves'!C16","v":"Classe FB"}]
[]
["SEPTEMBRE",null,null,null,"OCTOBRE",null,null,null,"NOVEMBRE"]
["RECETTES",null,"DEPENSES",null,"RECETTES",null,"DEPENSES",null,"RECETTES",null,"DEPENSES"]
["Dates","Montant","Activités","Montant","Dates","Montant","Activités","Montant","Dates","Montant","Activités","Montant"]
["Report juin",-12]
[]
[]
[]
[]
[null,{"$f":"SUM(B9:B12)","v":0},null,{"$f":"SUM(D8:D12)","v":0},null,{"$f":"SUM(F8:F12)","v":0},null,{"$f":"SUM(H8:H12)","v":0},null,{"$f":"SUM(J8:J12)","v":0},null,{"$f":"SUM(L8:L12)","v":0}]
["Récap 30/09",null,null,{"$f":"+B13-D13","v":0},"Récap 31/10",null,null,{"$f":"+F13-H13","v":0},"Récap 30/11",null,null,{"$f":"+J13-L13","v":0}]
[]
["DÉCEMBRE",null,null,null,"Situation fin décembre",null,null,null,"JANVIER"]
["RECETTES",null,"DEPENSES",null,null,"Recettes","Dépenses","Total","RECETTES",null,"DEPENSES"]
["Dates","Montant","Activités","Montant",{"$f":"A14","v":"Récap 30/09"},{"$f":"B13","v":0},{"$f":"D13","v":0},{"$f":"D14","v":0},"Dates","Montant","Activités","Montant"]
[null,null,null,null,{"$f":"E14","v":"Récap 31/10"},{"$f":"F13","v":0},{"$f":"H13","v":0},{"$f":"H14","v":0}]
[null,null,null,null,{"$f":"I14","v":"Récap 30/11"},{"$f":"J13","v":0},{"$f":"L13","v":0},{"$f":"L14","v":0}]
[null,null,null,null,{"$f":"A25","v":"Récap 31/12"},{"$f":"B24","v":0},{"$f":"D24","v":0},{"$f":"D25","v":0}]
[null,null,null,null,"Report Sept",null,null,{"$f":"B8","v":-12}]
[null,null,null,null,"Situation 31/12",{"$f":"SUM(F18:F22)","v":0},{"$f":"SUM(G18:G22)","v":0},{"$f":"SUM(H18:H22)","v":-12}]
[null,{"$f":"SUM(B19:B23)","v":0},null,{"$f":"SUM(D19:D23)","v":0},null,null,null,null,null,{"$f":"SUM(J19:J23)","v":0},null,{"$f":"SUM(L19:L23)","v":0}]
["Récap 31/12",null,null,{"$f":"+B24-D24","v":0},null,null,null,null,"Récap 31/01",null,null,{"$f":"+J24-L24","v":0}]
[]
["FÉVRIER",null,null,null,"MARS",null,null,null,"AVRIL"]
["RECETTES",null,"DEPENSES",null,"RECETTES",null,"DEPENSES",null,"RECETTES",null,"DEPENSES"]
["Dates","Montant","Activités","Montant","Dates","Montant","Activités","Montant","Dates","Montant","Activités","Montant"]
[]
[]
[]
[]
[]
[null,{"$f":"SUM(B30:B34)","v":0},null,{"$f":"SUM(D30:D34)","v":0},null,{"$f":"SUM(F30:F34)","v":0},null,{"$f":"SUM(H30:H34)","v":0},null,{"$f":"SUM(J30:J34)","v":0},null,{"$f":"SUM(L30:L34)","v":0}]
["Récap 28/02",null,null,{"$f":"+B35-D35","v":0},"Récap 31/03",null,null,{"$f":"+F35-H35","v":0},"Récap 30/04",null,null,{"$f":"+J35-L35","v":0}]
[]
[]
["MAI",null,null,null,"JUIN",null,null,null,"Situation fin juin"]
["RECETTES",null,"DEPENSES",null,"RECETTES",null,"DEPENSES",null,null,"Recettes","Dépenses","Total"]
["Dates","Montant","Activités","Montant","Dates","Montant","Activités","Montant",{"$f":"E23","v":"Situation 31/12"},null,null,{"$f":"H23","v":-12}]
[null,null,null,null,null,null,null,null,{"$f":"I25","v":"Récap 31/01"},{"$f":"J24","v":0},{"$f":"L24","v":0},{"$f":"L25","v":0}]
[null,null,null,null,null,null,null,null,{"$f":"A36","v":"Récap 28/02"},{"$f":"B35","v":0},{"$f":"D35","v":0},{"$f":"D36","v":0}]
[null,null,null,null,null,null,null,null,{"$f":"E36","v":"Récap 31/03"},{"$f":"F35","v":0},{"$f":"H35","v":0},{"$f":"H36","v":0}]
[null,null,null,null,null,null,null,null,{"$f":"I36","v":"Récap 30/04"},{"$f":"J35","v":0},{"$f":"L35","v":0},{"$f":"L36","v":0}]
[null,null,null,null,null,null,null,null,{"$f":"A48","v":"Récap 31/05"},{"$f":"B47","v":0},{"$f":"D47","v":0},{"$f":"D48","v":0}]
[null,{"$f":"SUM(B42:B46)","v":0},null,{"$f":"SUM(D42:D46)","v":0},null,{"$f":"SUM(F42:F46)","v":0},null,{"$f":"SUM(H42:H46)","v":0},{"$f":"E48","v":"Récap 30/06"},{"$f":"F47","v":0},{"$f":"H47","v":0},{"$f":"H48","v":0}]
["Récap 31/05",null,null,{"$f":"+B47-D47","v":0},"Récap 30/06",null,null,{"$f":"+F47-H47","v":0},"Situation 30/06",{"$f":"SUM(J42:J47)","v":0},{"$f":"SUM(K42:K47)","v":0},{"$f":"SUM(L41:L47)","v":-12}]
[]
[null,null,null,null,null,null,null,null,null,null,null,{"$f":"F23+J48-G23-K48+B8","v":-12}]
[]
[null,null,null,null,null,null,null,null,null,{"$f":"B13+F13+J13+B24+J24+B35+F35+J35+B47+F47","v":0},{"$f":"D13+H13+L13+D24+L24+D35+H35+L35+D47+H47","v":0},{"$f":"B8+J52-K52","v":-12}]

{"sheet":"BERTRANDd","index":16,"n_rows":52,"n_cols":12,"rows_kept":52,"cut":false,"hidden":false,"merged":[[39,4,39,5],[39,6,39,7],[47,0,47,2],[47,4,47,6],[35,0,35,2],[35,4,35,6],[35,8,35,10],[37,9,37,10],[38,0,38,3],[38,4,38,7],[38,8,38,11],[26,0,26,3],[26,4,26,7],[26,8,26,11],[27,4,27,5],[27,6,27,7],[27,8,27,9],[27,10,27,11],[16,0,16,1],[16,2,16,3],[16,8,16,9],[16,10,16,11],[24,0,24,2],[24,8,24,10],[13,0,13,2],[13,4,13,6],[13,8,13,10],[15,0,15,3],[15,4,15,7],[15,8,15,11],[5,10,5,11],[0,9,0,10],[2,1,2,2],[2,4,2,5],[2,8,2,9],[4,0,4,3],[4,4,4,7],[4,8,4,11],[5,0,5,1],[5,2,5,3],[5,4,5,5],[5,6,5,7],[5,8,5,9]]}
[null,null,null,null,null,null,null,null,null,"Année scolaire : ",null,{"$f":"' Liste élèves'!B1","v":"2018-2019"}]
[]
["NOM : ",{"$f":"' Liste élèves'!A17","v":"BERTRANDd"},null,"PRENOM:",{"$f":"' Liste élèves'!B17","v":"Daisy"},null,null,"CLASSE :",{"$f":"' Liste élèves'!C17","v":"Classe PB"}]
[]
["SEPTEMBRE",null,null,null,"OCTOBRE",null,null,null,"NOVEMBRE"]
["RECETTES",null,"DEPENSES",null,"RECETTES",null,"DEPENSES",null,"RECETTES",null,"DEPENSES"]
["Dates","Montant","Activités","Montant","Dates","Montant","Activités","Montant","Dates","Montant","Activités","Montant"]
["Report juin",-3]
[]
[]
[]
[]
[null,{"$f":"SUM(B9:B12)","v":0},null,{"$f":"SUM(D8:D12)","v":0},null,{"$f":"SUM(F8:F12)","v":0},null,{"$f":"SUM(H8:H12)","v":0},null,{"$f":"SUM(J8:J12)","v":0},null,{"$f":"SUM(L8:L12)","v":0}]
["Récap 30/09",null,null,{"$f":"+B13-D13","v":0},"Récap 31/10",null,null,{"$f":"+F13-H13","v":0},"Récap 30/11",null,null,{"$f":"+J13-L13","v":0}]
[]
["DÉCEMBRE",null,null,null,"Situation fin décembre",null,null,null,"JANVIER"]
["RECETTES",null,"DEPENSES",null,null,"Recettes","Dépenses","Total","RECETTES",null,"DEPENSES"]
["Dates","Montant","Activités","Montant",{"$f":"A14","v":"Récap 30/09"},{"$f":"B13","v":0},{"$f":"D13","v":0},{"$f":"D14","v":0},"Dates","Montant","Activités","Montant"]
[null,null,null,null,{"$f":"E14","v":"Récap 31/10"},{"$f":"F13","v":0},{"$f":"H13","v":0},{"$f":"H14","v":0}]
[null,null,null,null,{"$f":"I14","v":"Récap 30/11"},{"$f":"J13","v":0},{"$f":"L13","v":0},{"$f":"L14","v":0}]
[null,null,null,null,{"$f":"A25","v":"Récap 31/12"},{"$f":"B24","v":0},{"$f":"D24","v":0},{"$f":"D25","v":0}]
[null,null,null,null,"Report Sept",null,null,{"$f":"B8","v":-3}]
[null,null,null,null,"Situation 31/12",{"$f":"SUM(F18:F22)","v":0},{"$f":"SUM(G18:G22)","v":0},{"$f":"SUM(H18:H22)","v":-3}]
[null,{"$f":"SUM(B19:B23)","v":0},null,{"$f":"SUM(D19:D23)","v":0},null,null,null,null,null,{"$f":"SUM(J19:J23)","v":0},null,{"$f":"SUM(L19:L23)","v":0}]
["Récap 31/12",null,null,{"$f":"+B24-D24","v":0},null,null,null,null,"Récap 31/01",null,null,{"$f":"+J24-L24","v":0}]
[]
["FÉVRIER",null,null,null,"MARS",null,null,null,"AVRIL"]
["RECETTES",null,"DEPENSES",null,"RECETTES",null,"DEPENSES",null,"RECETTES",null,"DEPENSES"]
["Dates","Montant","Activités","Montant","Dates","Montant","Activités","Montant","Dates","Montant","Activités","Montant"]
[]
[]
[]
[]
[]
[null,{"$f":"SUM(B30:B34)","v":0},null,{"$f":"SUM(D30:D34)","v":0},null,{"$f":"SUM(F30:F34)","v":0},null,{"$f":"SUM(H30:H34)","v":0},null,{"$f":"SUM(J30:J34)","v":0},null,{"$f":"SUM(L30:L34)","v":0}]
["Récap 28/02",null,null,{"$f":"+B35-D35","v":0},"Récap 31/03",null,null,{"$f":"+F35-H35","v":0},"Récap 30/04",null,null,{"$f":"+J35-L35","v":0}]
[]
[]
["MAI",null,null,null,"JUIN",null,null,null,"Situation fin juin"]
["RECETTES",null,"DEPENSES",null,"RECETTES",null,"DEPENSES",null,null,"Recettes","Dépenses","Total"]
["Dates","Montant","Activités","Montant","Dates","Montant","Activités","Montant",{"$f":"E23","v":"Situation 31/12"},null,null,{"$f":"H23","v":-3}]
[null,null,null,null,null,null,null,null,{"$f":"I25","v":"Récap 31/01"},{"$f":"J24","v":0},{"$f":"L24","v":0},{"$f":"L25","v":0}]
[null,null,null,null,null,null,null,null,{"$f":"A36","v":"Récap 28/02"},{"$f":"B35","v":0},{"$f":"D35","v":0},{"$f":"D36","v":0}]
[null,null,null,null,null,null,null,null,{"$f":"E36","v":"Récap 31/03"},{"$f":"F35","v":0},{"$f":"H35","v":0},{"$f":"H36","v":0}]
[null,null,null,null,null,null,null,null,{"$f":"I36","v":"Récap 30/04"},{"$f":"J35","v":0},{"$f":"L35","v":0},{"$f":"L36","v":0}]
[null,null,null,null,null,null,null,null,{"$f":"A48","v":"Récap 31/05"},{"$f":"B47","v":0},{"$f":"D47","v":0},{"$f":"D48","v":0}]
[null,{"$f":"SUM(B42:B46)","v":0},null,{"$f":"SUM(D42:D46)","v":0},null,{"$f":"SUM(F42:F46)","v":0},null,{"$f":"SUM(H42:H46)","v":0},{"$f":"E48","v":"Récap 30/06"},{"$f":"F47","v":0},{"$f":"H47","v":0},{"$f":"H48","v":0}]
["Récap 31/05",null,null,{"$f":"+B47-D47","v":0},"Récap 30/06",null,null,{"$f":"+F47-H47","v":0},"Situation 30/06",{"$f":"SUM(J42:J47)","v":0},{"$f":"SUM(K42:K47)","v":0},{"$f":"SUM(L41:L47)","v":-3}]
[]
[null,null,null,null,null,null,null,null,null,null,null,{"$f":"F23+J48-G23-K48+B8","v":-3}]
[]
[null,null,null,null,null,null,null,null,null,{"$f":"B13+F13+J13+B24+J24+B35+F35+J35+B47+F47","v":0},{"$f":"D13+H13+L13+D24+L24+D35+H35+L35+D47+H47","v":0},{"$f":"B8+J52-K52","v":-3}]

{"sheet":"BIZET","index":17,"n_rows":52,"n_cols":12,"rows_kept":52,"cut":false,"hidden":false,"merged":[[47,0,47,2],[47,4,47,6],[38,0,38,3],[38,4,38,7],[35,0,35,2],[35,4,35,6],[38,8,38,11],[39,4,39,5],[39,6,39,7],[16,2,16,3],[16,8,16,9],[16,10,16,11],[27,4,27,5],[27,6,27,7],[27,8,27,9],[27,10,27,11],[24,0,24,2],[24,8,24,10],[37,9,37,10],[26,0,26,3],[26,4,26,7],[26,8,26,11],[16,0,16,1],[35,8,35,10],[15,0,15,3],[15,4,15,7],[13,0,13,2],[13,4,13,6],[13,8,13,10],[15,8,15,11],[0,9,0,10],[2,1,2,2],[2,4,2,5],[2,8,2,9],[5,8,5,9],[5,10,5,11],[5,0,5,1],[4,0,4,3],[4,4,4,7],[4,8,4,11],[5,2,5,3],[5,4,5,5],[5,6,5,7]]}
[null,null,null,null,null,null,null,null,null,"Année scolaire : ",null,{"$f":"' Liste élèves'!B1","v":"2018-2019"}]
[]
["NOM : ",{"$f":"' Liste élèves'!A18","v":"BIZET"},null,"PRENOM:",{"$f":"' Liste élèves'!B18","v":"Dylan"},null,null,"CLASSE :",{"$f":"' Liste élèves'!C18","v":"Classe PB"}]
[]
["SEPTEMBRE",null,null,null,"OCTOBRE",null,null,null,"NOVEMBRE"]
["RECETTES",null,"DEPENSES",null,"RECETTES",null,"DEPENSES",null,"RECETTES",null,"DEPENSES"]
["Dates","Montant","Activités","Montant","Dates","Montant","Activités","Montant","Dates","Montant","Activités","Montant"]
["Report juin",-10.5]
[]
[]
[]
[]
[null,{"$f":"SUM(B9:B12)","v":0},null,{"$f":"SUM(D8:D12)","v":0},null,{"$f":"SUM(F8:F12)","v":0},null,{"$f":"SUM(H8:H12)","v":0},null,{"$f":"SUM(J8:J12)","v":0},null,{"$f":"SUM(L8:L12)","v":0}]
["Récap 30/09",null,null,{"$f":"+B13-D13","v":0},"Récap 31/10",null,null,{"$f":"+F13-H13","v":0},"Récap 30/11",null,null,{"$f":"+J13-L13","v":0}]
[]
["DÉCEMBRE",null,null,null,"Situation fin décembre",null,null,null,"JANVIER"]
["RECETTES",null,"DEPENSES",null,null,"Recettes","Dépenses","Total","RECETTES",null,"DEPENSES"]
["Dates","Montant","Activités","Montant",{"$f":"A14","v":"Récap 30/09"},{"$f":"B13","v":0},{"$f":"D13","v":0},{"$f":"D14","v":0},"Dates","Montant","Activités","Montant"]
[null,null,null,null,{"$f":"E14","v":"Récap 31/10"},{"$f":"F13","v":0},{"$f":"H13","v":0},{"$f":"H14","v":0}]
[null,null,null,null,{"$f":"I14","v":"Récap 30/11"},{"$f":"J13","v":0},{"$f":"L13","v":0},{"$f":"L14","v":0}]
[null,null,null,null,{"$f":"A25","v":"Récap 31/12"},{"$f":"B24","v":0},{"$f":"D24","v":0},{"$f":"D25","v":0}]
[null,null,null,null,"Report Sept",null,null,{"$f":"B8","v":-10.5}]
[null,null,null,null,"Situation 31/12",{"$f":"SUM(F18:F22)","v":0},{"$f":"SUM(G18:G22)","v":0},{"$f":"SUM(H18:H22)","v":-10.5}]
[null,{"$f":"SUM(B19:B23)","v":0},null,{"$f":"SUM(D19:D23)","v":0},null,null,null,null,null,{"$f":"SUM(J19:J23)","v":0},null,{"$f":"SUM(L19:L23)","v":0}]
["Récap 31/12",null,null,{"$f":"+B24-D24","v":0},null,null,null,null,"Récap 31/01",null,null,{"$f":"+J24-L24","v":0}]
[]
["FÉVRIER",null,null,null,"MARS",null,null,null,"AVRIL"]
["RECETTES",null,"DEPENSES",null,"RECETTES",null,"DEPENSES",null,"RECETTES",null,"DEPENSES"]
["Dates","Montant","Activités","Montant","Dates","Montant","Activités","Montant","Dates","Montant","Activités","Montant"]
[]
[]
[]
[]
[]
[null,{"$f":"SUM(B30:B34)","v":0},null,{"$f":"SUM(D30:D34)","v":0},null,{"$f":"SUM(F30:F34)","v":0},null,{"$f":"SUM(H30:H34)","v":0},null,{"$f":"SUM(J30:J34)","v":0},null,{"$f":"SUM(L30:L34)","v":0}]
["Récap 28/02",null,null,{"$f":"+B35-D35","v":0},"Récap 31/03",null,null,{"$f":"+F35-H35","v":0},"Récap 30/04",null,null,{"$f":"+J35-L35","v":0}]
[]
[]
["MAI",null,null,null,"JUIN",null,null,null,"Situation fin juin"]
["RECETTES",null,"DEPENSES",null,"RECETTES",null,"DEPENSES",null,null,"Recettes","Dépenses","Total"]
["Dates","Montant","Activités","Montant","Dates","Montant","Activités","Montant",{"$f":"E23","v":"Situation 31/12"},null,null,{"$f":"H23","v":-10.5}]
[null,null,null,null,null,null,null,null,{"$f":"I25","v":"Récap 31/01"},{"$f":"J24","v":0},{"$f":"L24","v":0},{"$f":"L25","v":0}]
[null,null,null,null,null,null,null,null,{"$f":"A36","v":"Récap 28/02"},{"$f":"B35","v":0},{"$f":"D35","v":0},{"$f":"D36","v":0}]
[null,null,null,null,null,null,null,null,{"$f":"E36","v":"Récap 31/03"},{"$f":"F35","v":0},{"$f":"H35","v":0},{"$f":"H36","v":0}]
[null,null,null,null,null,null,null,null,{"$f":"I36","v":"Récap 30/04"},{"$f":"J35","v":0},{"$f":"L35","v":0},{"$f":"L36","v":0}]
[null,null,null,null,null,null,null,null,{"$f":"A48","v":"Récap 31/05"},{"$f":"B47","v":0},{"$f":"D47","v":0},{"$f":"D48","v":0}]
[null,{"$f":"SUM(B42:B46)","v":0},null,{"$f":"SUM(D42:D46)","v":0},null,{"$f":"SUM(F42:F46)","v":0},null,{"$f":"SUM(H42:H46)","v":0},{"$f":"E48","v":"Récap 30/06"},{"$f":"F47","v":0},{"$f":"H47","v":0},{"$f":"H48","v":0}]
["Récap 31/05",null,null,{"$f":"+B47-D47","v":0},"Récap 30/06",null,null,{"$f":"+F47-H47","v":0},"Situation 30/06",{"$f":"SUM(J42:J47)","v":0},{"$f":"SUM(K42:K47)","v":0},{"$f":"SUM(L41:L47)","v":-10.5}]
[]
[null,null,null,null,null,null,null,null,null,null,null,{"$f":"F23+J48-G23-K48+B8","v":-10.5}]
[]
[null,null,null,null,null,null,null,null,null,{"$f":"B13+F13+J13+B24+J24+B35+F35+J35+B47+F47","v":0},{"$f":"D13+H13+L13+D24+L24+D35+H35+L35+D47+H47","v":0},{"$f":"B8+J52-K52","v":-10.5}]

{"sheet":"BOBOUCH","index":18,"n_rows":52,"n_cols":12,"rows_kept":52,"cut":false,"hidden":false,"merged":[[39,4,39,5],[39,6,39,7],[47,0,47,2],[47,4,47,6],[35,0,35,2],[35,4,35,6],[35,8,35,10],[37,9,37,10],[38,0,38,3],[38,4,38,7],[38,8,38,11],[26,0,26,3],[26,4,26,7],[26,8,26,11],[27,4,27,5],[27,6,27,7],[27,8,27,9],[27,10,27,11],[16,0,16,1],[16,2,16,3],[16,8,16,9],[16,10,16,11],[24,0,24,2],[24,8,24,10],[13,0,13,2],[13,4,13,6],[13,8,13,10],[15,0,15,3],[15,4,15,7],[15,8,15,11],[5,10,5,11],[0,9,0,10],[2,1,2,2],[2,4,2,5],[2,8,2,9],[4,0,4,3],[4,4,4,7],[4,8,4,11],[5,0,5,1],[5,2,5,3],[5,4,5,5],[5,6,5,7],[5,8,5,9]]}
[null,null,null,null,null,null,null,null,null,"Année scolaire : ",null,{"$f":"' Liste élèves'!B1","v":"2018-2019"}]
[]
["NOM : ",{"$f":"' Liste élèves'!A19","v":"BOBOUCH"},null,"PRENOM:",{"$f":"' Liste élèves'!B19","v":"Leila"},null,null,"CLASSE :",{"$f":"' Liste élèves'!C19","v":"Classe 5"}]
[]
["SEPTEMBRE",null,null,null,"OCTOBRE",null,null,null,"NOVEMBRE"]
["RECETTES",null,"DEPENSES",null,"RECETTES",null,"DEPENSES",null,"RECETTES",null,"DEPENSES"]
["Dates","Montant","Activités","Montant","Dates","Montant","Activités","Montant","Dates","Montant","Activités","Montant"]
["Report juin",18.03]
[]
[]
[]
[]
[null,{"$f":"SUM(B9:B12)","v":0},null,{"$f":"SUM(D8:D12)","v":0},null,{"$f":"SUM(F8:F12)","v":0},null,{"$f":"SUM(H8:H12)","v":0},null,{"$f":"SUM(J8:J12)","v":0},null,{"$f":"SUM(L8:L12)","v":0}]
["Récap 30/09",null,null,{"$f":"+B13-D13","v":0},"Récap 31/10",null,null,{"$f":"+F13-H13","v":0},"Récap 30/11",null,null,{"$f":"+J13-L13","v":0}]
[]
["DÉCEMBRE",null,null,null,"Situation fin décembre",null,null,null,"JANVIER"]
["RECETTES",null,"DEPENSES",null,null,"Recettes","Dépenses","Total","RECETTES",null,"DEPENSES"]
["Dates","Montant","Activités","Montant",{"$f":"A14","v":"Récap 30/09"},{"$f":"B13","v":0},{"$f":"D13","v":0},{"$f":"D14","v":0},"Dates","Montant","Activités","Montant"]
[null,null,null,null,{"$f":"E14","v":"Récap 31/10"},{"$f":"F13","v":0},{"$f":"H13","v":0},{"$f":"H14","v":0}]
[null,null,null,null,{"$f":"I14","v":"Récap 30/11"},{"$f":"J13","v":0},{"$f":"L13","v":0},{"$f":"L14","v":0}]
[null,null,null,null,{"$f":"A25","v":"Récap 31/12"},{"$f":"B24","v":0},{"$f":"D24","v":0},{"$f":"D25","v":0}]
[null,null,null,null,"Report Sept",null,null,{"$f":"B8","v":18.03}]
[null,null,null,null,"Situation 31/12",{"$f":"SUM(F18:F22)","v":0},{"$f":"SUM(G18:G22)","v":0},{"$f":"SUM(H18:H22)","v":18.03}]
[null,{"$f":"SUM(B19:B23)","v":0},null,{"$f":"SUM(D19:D23)","v":0},null,null,null,null,null,{"$f":"SUM(J19:J23)","v":0},null,{"$f":"SUM(L19:L23)","v":0}]
["Récap 31/12",null,null,{"$f":"+B24-D24","v":0},null,null,null,null,"Récap 31/01",null,null,{"$f":"+J24-L24","v":0}]
[]
["FÉVRIER",null,null,null,"MARS",null,null,null,"AVRIL"]
["RECETTES",null,"DEPENSES",null,"RECETTES",null,"DEPENSES",null,"RECETTES",null,"DEPENSES"]
["Dates","Montant","Activités","Montant","Dates","Montant","Activités","Montant","Dates","Montant","Activités","Montant"]
[]
[]
[]
[]
[]
[null,{"$f":"SUM(B30:B34)","v":0},null,{"$f":"SUM(D30:D34)","v":0},null,{"$f":"SUM(F30:F34)","v":0},null,{"$f":"SUM(H30:H34)","v":0},null,{"$f":"SUM(J30:J34)","v":0},null,{"$f":"SUM(L30:L34)","v":0}]
["Récap 28/02",null,null,{"$f":"+B35-D35","v":0},"Récap 31/03",null,null,{"$f":"+F35-H35","v":0},"Récap 30/04",null,null,{"$f":"+J35-L35","v":0}]
[]
[]
["MAI",null,null,null,"JUIN",null,null,null,"Situation fin juin"]
["RECETTES",null,"DEPENSES",null,"RECETTES",null,"DEPENSES",null,null,"Recettes","Dépenses","Total"]
["Dates","Montant","Activités","Montant","Dates","Montant","Activités","Montant",{"$f":"E23","v":"Situation 31/12"},null,null,{"$f":"H23","v":18.03}]
[null,null,null,null,null,null,null,null,{"$f":"I25","v":"Récap 31/01"},{"$f":"J24","v":0},{"$f":"L24","v":0},{"$f":"L25","v":0}]
[null,null,null,null,null,null,null,null,{"$f":"A36","v":"Récap 28/02"},{"$f":"B35","v":0},{"$f":"D35","v":0},{"$f":"D36","v":0}]
[null,null,null,null,null,null,null,null,{"$f":"E36","v":"Récap 31/03"},{"$f":"F35","v":0},{"$f":"H35","v":0},{"$f":"H36","v":0}]
[null,null,null,null,null,null,null,null,{"$f":"I36","v":"Récap 30/04"},{"$f":"J35","v":0},{"$f":"L35","v":0},{"$f":"L36","v":0}]
[null,null,null,null,null,null,null,null,{"$f":"A48","v":"Récap 31/05"},{"$f":"B47","v":0},{"$f":"D47","v":0},{"$f":"D48","v":0}]
[null,{"$f":"SUM(B42:B46)","v":0},null,{"$f":"SUM(D42:D46)","v":0},null,{"$f":"SUM(F42:F46)","v":0},null,{"$f":"SUM(H42:H46)","v":0},{"$f":"E48","v":"Récap 30/06"},{"$f":"F47","v":0},{"$f":"H47","v":0},{"$f":"H48","v":0}]
["Récap 31/05",null,null,{"$f":"+B47-D47","v":0},"Récap 30/06",null,null,{"$f":"+F47-H47","v":0},"Situation 30/06",{"$f":"SUM(J42:J47)","v":0},{"$f":"SUM(K42:K47)","v":0},{"$f":"SUM(L41:L47)","v":18.03}]
[]
[null,null,null,null,null,null,null,null,null,null,null,{"$f":"F23+J48-G23-K48+B8","v":18.03}]
[]
[null,null,null,null,null,null,null,null,null,{"$f":"B13+F13+J13+B24+J24+B35+F35+J35+B47+F47","v":0},{"$f":"D13+H13+L13+D24+L24+D35+H35+L35+D47+H47","v":0},{"$f":"B8+J52-K52","v":18.03}]

{"sheet":"BOEMBEKE","index":19,"n_rows":52,"n_cols":12,"rows_kept":52,"cut":false,"hidden":false,"merged":[[0,9,0,10],[2,1,2,2],[2,4,2,5],[2,8,2,9],[5,8,5,9],[5,10,5,11],[4,0,4,3],[4,4,4,7],[4,8,4,11],[5,0,5,1],[5,2,5,3],[5,4,5,5],[5,6,5,7],[24,0,24,2],[13,0,13,2],[13,4,13,6],[16,2,16,3],[37,9,37,10],[16,0,16,1],[27,6,27,7],[24,8,24,10],[38,8,38,11],[13,8,13,10],[15,0,15,3],[15,4,15,7],[15,8,15,11],[16,10,16,11],[26,0,26,3],[26,4,26,7],[26,8,26,11],[27,8,27,9],[35,0,35,2],[35,4,35,6],[35,8,35,10],[27,10,27,11],[16,8,16,9],[27,4,27,5],[47,0,47,2],[47,4,47,6],[38,0,38,3],[38,4,38,7],[39,4,39,5],[39,6,39,7]]}
[null,null,null,null,null,null,null,null,null,"Année scolaire : ",null,{"$f":"' Liste élèves'!B1","v":"2018-2019"}]
[]
["NOM : ",{"$f":"' Liste élèves'!A20","v":"BOEMBEKE"},null,"PRENOM:",{"$f":"' Liste élèves'!B20","v":"Emilie"},null,null,"CLASSE :",{"$f":"' Liste élèves'!C20","v":"Classe MC"}]
[]
["SEPTEMBRE",null,null,null,"OCTOBRE",null,null,null,"NOVEMBRE"]
["RECETTES",null,"DEPENSES",null,"RECETTES",null,"DEPENSES",null,"RECETTES",null,"DEPENSES"]
["Dates","Montant","Activités","Montant","Dates","Montant","Activités","Montant","Dates","Montant","Activités","Montant"]
["Report juin",51.6]
[]
[]
[]
[]
[null,{"$f":"SUM(B9:B12)","v":0},null,{"$f":"SUM(D8:D12)","v":0},null,{"$f":"SUM(F8:F12)","v":0},null,{"$f":"SUM(H8:H12)","v":0},null,{"$f":"SUM(J8:J12)","v":0},null,{"$f":"SUM(L8:L12)","v":0}]
["Récap 30/09",null,null,{"$f":"+B13-D13","v":0},"Récap 31/10",null,null,{"$f":"+F13-H13","v":0},"Récap 30/11",null,null,{"$f":"+J13-L13","v":0}]
[]
["DÉCEMBRE",null,null,null,"Situation fin décembre",null,null,null,"JANVIER"]
["RECETTES",null,"DEPENSES",null,null,"Recettes","Dépenses","Total","RECETTES",null,"DEPENSES"]
["Dates","Montant","Activités","Montant",{"$f":"A14","v":"Récap 30/09"},{"$f":"B13","v":0},{"$f":"D13","v":0},{"$f":"D14","v":0},"Dates","Montant","Activités","Montant"]
[null,null,null,null,{"$f":"E14","v":"Récap 31/10"},{"$f":"F13","v":0},{"$f":"H13","v":0},{"$f":"H14","v":0}]
[null,null,null,null,{"$f":"I14","v":"Récap 30/11"},{"$f":"J13","v":0},{"$f":"L13","v":0},{"$f":"L14","v":0}]
[null,null,null,null,{"$f":"A25","v":"Récap 31/12"},{"$f":"B24","v":0},{"$f":"D24","v":0},{"$f":"D25","v":0}]
[null,null,null,null,"Report Sept",null,null,{"$f":"B8","v":51.6}]
[null,null,null,null,"Situation 31/12",{"$f":"SUM(F18:F22)","v":0},{"$f":"SUM(G18:G22)","v":0},{"$f":"SUM(H18:H22)","v":51.6}]
[null,{"$f":"SUM(B19:B23)","v":0},null,{"$f":"SUM(D19:D23)","v":0},null,null,null,null,null,{"$f":"SUM(J19:J23)","v":0},null,{"$f":"SUM(L19:L23)","v":0}]
["Récap 31/12",null,null,{"$f":"+B24-D24","v":0},null,null,null,null,"Récap 31/01",null,null,{"$f":"+J24-L24","v":0}]
[]
["FÉVRIER",null,null,null,"MARS",null,null,null,"AVRIL"]
["RECETTES",null,"DEPENSES",null,"RECETTES",null,"DEPENSES",null,"RECETTES",null,"DEPENSES"]
["Dates","Montant","Activités","Montant","Dates","Montant","Activités","Montant","Dates","Montant","Activités","Montant"]
[]
[]
[]
[]
[]
[null,{"$f":"SUM(B30:B34)","v":0},null,{"$f":"SUM(D30:D34)","v":0},null,{"$f":"SUM(F30:F34)","v":0},null,{"$f":"SUM(H30:H34)","v":0},null,{"$f":"SUM(J30:J34)","v":0},null,{"$f":"SUM(L30:L34)","v":0}]
["Récap 28/02",null,null,{"$f":"+B35-D35","v":0},"Récap 31/03",null,null,{"$f":"+F35-H35","v":0},"Récap 30/04",null,null,{"$f":"+J35-L35","v":0}]
[]
[]
["MAI",null,null,null,"JUIN",null,null,null,"Situation fin juin"]
["RECETTES",null,"DEPENSES",null,"RECETTES",null,"DEPENSES",null,null,"Recettes","Dépenses","Total"]
["Dates","Montant","Activités","Montant","Dates","Montant","Activités","Montant",{"$f":"E23","v":"Situation 31/12"},null,null,{"$f":"H23","v":51.6}]
[null,null,null,null,null,null,null,null,{"$f":"I25","v":"Récap 31/01"},{"$f":"J24","v":0},{"$f":"L24","v":0},{"$f":"L25","v":0}]
[null,null,null,null,null,null,null,null,{"$f":"A36","v":"Récap 28/02"},{"$f":"B35","v":0},{"$f":"D35","v":0},{"$f":"D36","v":0}]
[null,null,null,null,null,null,null,null,{"$f":"E36","v":"Récap 31/03"},{"$f":"F35","v":0},{"$f":"H35","v":0},{"$f":"H36","v":0}]
[null,null,null,null,null,null,null,null,{"$f":"I36","v":"Récap 30/04"},{"$f":"J35","v":0},{"$f":"L35","v":0},{"$f":"L36","v":0}]
[null,null,null,null,null,null,null,null,{"$f":"A48","v":"Récap 31/05"},{"$f":"B47","v":0},{"$f":"D47","v":0},{"$f":"D48","v":0}]
[null,{"$f":"SUM(B42:B46)","v":0},null,{"$f":"SUM(D42:D46)","v":0},null,{"$f":"SUM(F42:F46)","v":0},null,{"$f":"SUM(H42:H46)","v":0},{"$f":"E48","v":"Récap 30/06"},{"$f":"F47","v":0},{"$f":"H47","v":0},{"$f":"H48","v":0}]
["Récap 31/05",null,null,{"$f":"+B47-D47","v":0},"Récap 30/06",null,null,{"$f":"+F47-H47","v":0},"Situation 30/06",{"$f":"SUM(J42:J47)","v":0},{"$f":"SUM(K42:K47)","v":0},{"$f":"SUM(L41:L47)","v":51.6}]
[]
[null,null,null,null,null,null,null,null,null,null,null,{"$f":"F23+J48-G23-K48+B8","v":51.6}]
[]
[null,null,null,null,null,null,null,null,null,{"$f":"B13+F13+J13+B24+J24+B35+F35+J35+B47+F47","v":0},{"$f":"D13+H13+L13+D24+L24+D35+H35+L35+D47+H47","v":0},{"$f":"B8+J52-K52","v":51.6}]

{"sheet":"BOSSU","index":20,"n_rows":52,"n_cols":12,"rows_kept":52,"cut":false,"hidden":false,"merged":[[0,9,0,10],[2,1,2,2],[2,4,2,5],[2,8,2,9],[5,8,5,9],[5,10,5,11],[4,0,4,3],[4,4,4,7],[4,8,4,11],[5,0,5,1],[5,2,5,3],[5,4,5,5],[5,6,5,7],[24,0,24,2],[13,0,13,2],[13,4,13,6],[16,2,16,3],[37,9,37,10],[16,0,16,1],[27,6,27,7],[24,8,24,10],[38,8,38,11],[13,8,13,10],[15,0,15,3],[15,4,15,7],[15,8,15,11],[16,10,16,11],[26,0,26,3],[26,4,26,7],[26,8,26,11],[27,8,27,9],[35,0,35,2],[35,4,35,6],[35,8,35,10],[27,10,27,11],[16,8,16,9],[27,4,27,5],[47,0,47,2],[47,4,47,6],[38,0,38,3],[38,4,38,7],[39,4,39,5],[39,6,39,7]]}
[null,null,null,null,null,null,null,null,null,"Année scolaire : ",null,{"$f":"' Liste élèves'!B1","v":"2018-2019"}]
[]
["NOM : ",{"$f":"' Liste élèves'!A21","v":"BOSSU"},null,"PRENOM:",{"$f":"' Liste élèves'!B21","v":"Océane"},null,null,"CLASSE :",{"$f":"' Liste élèves'!C21","v":"Classe 5"}]
[]
["SEPTEMBRE",null,null,null,"OCTOBRE",null,null,null,"NOVEMBRE"]
["RECETTES",null,"DEPENSES",null,"RECETTES",null,"DEPENSES",null,"RECETTES",null,"DEPENSES"]
["Dates","Montant","Activités","Montant","Dates","Montant","Activités","Montant","Dates","Montant","Activités","Montant"]
["Report juin",54.5]
[]
[]
[]
[]
[null,{"$f":"SUM(B9:B12)","v":0},null,{"$f":"SUM(D8:D12)","v":0},null,{"$f":"SUM(F8:F12)","v":0},null,{"$f":"SUM(H8:H12)","v":0},null,{"$f":"SUM(J8:J12)","v":0},null,{"$f":"SUM(L8:L12)","v":0}]
["Récap 30/09",null,null,{"$f":"+B13-D13","v":0},"Récap 31/10",null,null,{"$f":"+F13-H13","v":0},"Récap 30/11",null,null,{"$f":"+J13-L13","v":0}]
[]
["DÉCEMBRE",null,null,null,"Situation fin décembre",null,null,null,"JANVIER"]
["RECETTES",null,"DEPENSES",null,null,"Recettes","Dépenses","Total","RECETTES",null,"DEPENSES"]
["Dates","Montant","Activités","Montant",{"$f":"A14","v":"Récap 30/09"},{"$f":"B13","v":0},{"$f":"D13","v":0},{"$f":"D14","v":0},"Dates","Montant","Activités","Montant"]
[null,null,null,null,{"$f":"E14","v":"Récap 31/10"},{"$f":"F13","v":0},{"$f":"H13","v":0},{"$f":"H14","v":0}]
[null,null,null,null,{"$f":"I14","v":"Récap 30/11"},{"$f":"J13","v":0},{"$f":"L13","v":0},{"$f":"L14","v":0}]
[null,null,null,null,{"$f":"A25","v":"Récap 31/12"},{"$f":"B24","v":0},{"$f":"D24","v":0},{"$f":"D25","v":0}]
[null,null,null,null,"Report Sept",null,null,{"$f":"B8","v":54.5}]
[null,null,null,null,"Situation 31/12",{"$f":"SUM(F18:F22)","v":0},{"$f":"SUM(G18:G22)","v":0},{"$f":"SUM(H18:H22)","v":54.5}]
[null,{"$f":"SUM(B19:B23)","v":0},null,{"$f":"SUM(D19:D23)","v":0},null,null,null,null,null,{"$f":"SUM(J19:J23)","v":0},null,{"$f":"SUM(L19:L23)","v":0}]
["Récap 31/12",null,null,{"$f":"+B24-D24","v":0},null,null,null,null,"Récap 31/01",null,null,{"$f":"+J24-L24","v":0}]
[]
["FÉVRIER",null,null,null,"MARS",null,null,null,"AVRIL"]
["RECETTES",null,"DEPENSES",null,"RECETTES",null,"DEPENSES",null,"RECETTES",null,"DEPENSES"]
["Dates","Montant","Activités","Montant","Dates","Montant","Activités","Montant","Dates","Montant","Activités","Montant"]
[]
[]
[]
[]
[]
[null,{"$f":"SUM(B30:B34)","v":0},null,{"$f":"SUM(D30:D34)","v":0},null,{"$f":"SUM(F30:F34)","v":0},null,{"$f":"SUM(H30:H34)","v":0},null,{"$f":"SUM(J30:J34)","v":0},null,{"$f":"SUM(L30:L34)","v":0}]
["Récap 28/02",null,null,{"$f":"+B35-D35","v":0},"Récap 31/03",null,null,{"$f":"+F35-H35","v":0},"Récap 30/04",null,null,{"$f":"+J35-L35","v":0}]
[]
[]
["MAI",null,null,null,"JUIN",null,null,null,"Situation fin juin"]
["RECETTES",null,"DEPENSES",null,"RECETTES",null,"DEPENSES",null,null,"Recettes","Dépenses","Total"]
["Dates","Montant","Activités","Montant","Dates","Montant","Activités","Montant",{"$f":"E23","v":"Situation 31/12"},null,null,{"$f":"H23","v":54.5}]
[null,null,null,null,null,null,null,null,{"$f":"I25","v":"Récap 31/01"},{"$f":"J24","v":0},{"$f":"L24","v":0},{"$f":"L25","v":0}]
[null,null,null,null,null,null,null,null,{"$f":"A36","v":"Récap 28/02"},{"$f":"B35","v":0},{"$f":"D35","v":0},{"$f":"D36","v":0}]
[null,null,null,null,null,null,null,null,{"$f":"E36","v":"Récap 31/03"},{"$f":"F35","v":0},{"$f":"H35","v":0},{"$f":"H36","v":0}]
[null,null,null,null,null,null,null,null,{"$f":"I36","v":"Récap 30/04"},{"$f":"J35","v":0},{"$f":"L35","v":0},{"$f":"L36","v":0}]
[null,null,null,null,null,null,null,null,{"$f":"A48","v":"Récap 31/05"},{"$f":"B47","v":0},{"$f":"D47","v":0},{"$f":"D48","v":0}]
[null,{"$f":"SUM(B42:B46)","v":0},null,{"$f":"SUM(D42:D46)","v":0},null,{"$f":"SUM(F42:F46)","v":0},null,{"$f":"SUM(H42:H46)","v":0},{"$f":"E48","v":"Récap 30/06"},{"$f":"F47","v":0},{"$f":"H47","v":0},{"$f":"H48","v":0}]
["Récap 31/05",null,null,{"$f":"+B47-D47","v":0},"Récap 30/06",null,null,{"$f":"+F47-H47","v":0},"Situation 30/06",{"$f":"SUM(J42:J47)","v":0},{"$f":"SUM(K42:K47)","v":0},{"$f":"SUM(L41:L47)","v":54.5}]
[]
[null,null,null,null,null,null,null,null,null,null,null,{"$f":"F23+J48-G23-K48+B8","v":54.5}]
[]
[null,null,null,null,null,null,null,null,null,{"$f":"B13+F13+J13+B24+J24+B35+F35+J35+B47+F47","v":0},{"$f":"D13+H13+L13+D24+L24+D35+H35+L35+D47+H47","v":0},{"$f":"B8+J52-K52","v":54.5}]

{"sheet":"BOUAOUDA","index":21,"n_rows":52,"n_cols":12,"rows_kept":52,"cut":false,"hidden":false,"merged":[[39,4,39,5],[39,6,39,7],[47,0,47,2],[47,4,47,6],[35,0,35,2],[35,4,35,6],[35,8,35,10],[37,9,37,10],[38,0,38,3],[38,4,38,7],[38,8,38,11],[26,0,26,3],[26,4,26,7],[26,8,26,11],[27,4,27,5],[27,6,27,7],[27,8,27,9],[27,10,27,11],[16,0,16,1],[16,2,16,3],[16,8,16,9],[16,10,16,11],[24,0,24,2],[24,8,24,10],[13,0,13,2],[13,4,13,6],[13,8,13,10],[15,0,15,3],[15,4,15,7],[15,8,15,11],[5,10,5,11],[0,9,0,10],[2,1,2,2],[2,4,2,5],[2,8,2,9],[4,0,4,3],[4,4,4,7],[4,8,4,11],[5,0,5,1],[5,2,5,3],[5,4,5,5],[5,6,5,7],[5,8,5,9]]}
[null,null,null,null,null,null,null,null,null,"Année scolaire : ",null,{"$f":"' Liste élèves'!B1","v":"2018-2019"}]
[]
["NOM : ",{"$f":"' Liste élèves'!A22","v":"BOUAOUDA"},null,"PRENOM:",{"$f":"' Liste élèves'!B22","v":"Anass"},null,null,"CLASSE :",{"$f":"' Liste élèves'!C22","v":"Classe PB"}]
[]
["SEPTEMBRE",null,null,null,"OCTOBRE",null,null,null,"NOVEMBRE"]
["RECETTES",null,"DEPENSES",null,"RECETTES",null,"DEPENSES",null,"RECETTES",null,"DEPENSES"]
["Dates","Montant","Activités","Montant","Dates","Montant","Activités","Montant","Dates","Montant","Activités","Montant"]
["Report juin",0.5]
[]
[]
[]
[]
[null,{"$f":"SUM(B9:B12)","v":0},null,{"$f":"SUM(D8:D12)","v":0},null,{"$f":"SUM(F8:F12)","v":0},null,{"$f":"SUM(H8:H12)","v":0},null,{"$f":"SUM(J8:J12)","v":0},null,{"$f":"SUM(L8:L12)","v":0}]
["Récap 30/09",null,null,{"$f":"+B13-D13","v":0},"Récap 31/10",null,null,{"$f":"+F13-H13","v":0},"Récap 30/11",null,null,{"$f":"+J13-L13","v":0}]
[]
["DÉCEMBRE",null,null,null,"Situation fin décembre",null,null,null,"JANVIER"]
["RECETTES",null,"DEPENSES",null,null,"Recettes","Dépenses","Total","RECETTES",null,"DEPENSES"]
["Dates","Montant","Activités","Montant",{"$f":"A14","v":"Récap 30/09"},{"$f":"B13","v":0},{"$f":"D13","v":0},{"$f":"D14","v":0},"Dates","Montant","Activités","Montant"]
[null,null,null,null,{"$f":"E14","v":"Récap 31/10"},{"$f":"F13","v":0},{"$f":"H13","v":0},{"$f":"H14","v":0}]
[null,null,null,null,{"$f":"I14","v":"Récap 30/11"},{"$f":"J13","v":0},{"$f":"L13","v":0},{"$f":"L14","v":0}]
[null,null,null,null,{"$f":"A25","v":"Récap 31/12"},{"$f":"B24","v":0},{"$f":"D24","v":0},{"$f":"D25","v":0}]
[null,null,null,null,"Report Sept",null,null,{"$f":"B8","v":0.5}]
[null,null,null,null,"Situation 31/12",{"$f":"SUM(F18:F22)","v":0},{"$f":"SUM(G18:G22)","v":0},{"$f":"SUM(H18:H22)","v":0.5}]
[null,{"$f":"SUM(B19:B23)","v":0},null,{"$f":"SUM(D19:D23)","v":0},null,null,null,null,null,{"$f":"SUM(J19:J23)","v":0},null,{"$f":"SUM(L19:L23)","v":0}]
["Récap 31/12",null,null,{"$f":"+B24-D24","v":0},null,null,null,null,"Récap 31/01",null,null,{"$f":"+J24-L24","v":0}]
[]
["FÉVRIER",null,null,null,"MARS",null,null,null,"AVRIL"]
["RECETTES",null,"DEPENSES",null,"RECETTES",null,"DEPENSES",null,"RECETTES",null,"DEPENSES"]
["Dates","Montant","Activités","Montant","Dates","Montant","Activités","Montant","Dates","Montant","Activités","Montant"]
[]
[]
[]
[]
[]
[null,{"$f":"SUM(B30:B34)","v":0},null,{"$f":"SUM(D30:D34)","v":0},null,{"$f":"SUM(F30:F34)","v":0},null,{"$f":"SUM(H30:H34)","v":0},null,{"$f":"SUM(J30:J34)","v":0},null,{"$f":"SUM(L30:L34)","v":0}]
["Récap 28/02",null,null,{"$f":"+B35-D35","v":0},"Récap 31/03",null,null,{"$f":"+F35-H35","v":0},"Récap 30/04",null,null,{"$f":"+J35-L35","v":0}]
[]
[]
["MAI",null,null,null,"JUIN",null,null,null,"Situation fin juin"]
["RECETTES",null,"DEPENSES",null,"RECETTES",null,"DEPENSES",null,null,"Recettes","Dépenses","Total"]
["Dates","Montant","Activités","Montant","Dates","Montant","Activités","Montant",{"$f":"E23","v":"Situation 31/12"},null,null,{"$f":"H23","v":0.5}]
[null,null,null,null,null,null,null,null,{"$f":"I25","v":"Récap 31/01"},{"$f":"J24","v":0},{"$f":"L24","v":0},{"$f":"L25","v":0}]
[null,null,null,null,null,null,null,null,{"$f":"A36","v":"Récap 28/02"},{"$f":"B35","v":0},{"$f":"D35","v":0},{"$f":"D36","v":0}]
[null,null,null,null,null,null,null,null,{"$f":"E36","v":"Récap 31/03"},{"$f":"F35","v":0},{"$f":"H35","v":0},{"$f":"H36","v":0}]
[null,null,null,null,null,null,null,null,{"$f":"I36","v":"Récap 30/04"},{"$f":"J35","v":0},{"$f":"L35","v":0},{"$f":"L36","v":0}]
[null,null,null,null,null,null,null,null,{"$f":"A48","v":"Récap 31/05"},{"$f":"B47","v":0},{"$f":"D47","v":0},{"$f":"D48","v":0}]
[null,{"$f":"SUM(B42:B46)","v":0},null,{"$f":"SUM(D42:D46)","v":0},null,{"$f":"SUM(F42:F46)","v":0},null,{"$f":"SUM(H42:H46)","v":0},{"$f":"E48","v":"Récap 30/06"},{"$f":"F47","v":0},{"$f":"H47","v":0},{"$f":"H48","v":0}]
["Récap 31/05",null,null,{"$f":"+B47-D47","v":0},"Récap 30/06",null,null,{"$f":"+F47-H47","v":0},"Situation 30/06",{"$f":"SUM(J42:J47)","v":0},{"$f":"SUM(K42:K47)","v":0},{"$f":"SUM(L41:L47)","v":0.5}]
[]
[null,null,null,null,null,null,null,null,null,null,null,{"$f":"F23+J48-G23-K48+B8","v":0.5}]
[]
[null,null,null,null,null,null,null,null,null,{"$f":"B13+F13+J13+B24+J24+B35+F35+J35+B47+F47","v":0},{"$f":"D13+H13+L13+D24+L24+D35+H35+L35+D47+H47","v":0},{"$f":"B8+J52-K52","v":0.5}]

{"sheet":"BOUAROUROU","index":22,"n_rows":52,"n_cols":12,"rows_kept":52,"cut":false,"hidden":false,"merged":[[0,9,0,10],[2,1,2,2],[2,4,2,5],[2,8,2,9],[5,8,5,9],[5,10,5,11],[4,0,4,3],[4,4,4,7],[4,8,4,11],[5,0,5,1],[5,2,5,3],[5,4,5,5],[5,6,5,7],[24,0,24,2],[13,0,13,2],[13,4,13,6],[16,2,16,3],[37,9,37,10],[16,0,16,1],[27,6,27,7],[24,8,24,10],[38,8,38,11],[13,8,13,10],[15,0,15,3],[15,4,15,7],[15,8,15,11],[16,10,16,11],[26,0,26,3],[26,4,26,7],[26,8,26,11],[27,8,27,9],[35,0,35,2],[35,4,35,6],[35,8,35,10],[27,10,27,11],[16,8,16,9],[27,4,27,5],[47,0,47,2],[47,4,47,6],[38,0,38,3],[38,4,38,7],[39,4,39,5],[39,6,39,7]]}
[null,null,null,null,null,null,null,null,null,"Année scolaire : ",null,{"$f":"' Liste élèves'!B1","v":"2018-2019"}]
[]
["NOM : ",{"$f":"' Liste élèves'!A23","v":"BOUAROUROU"},null,"PRENOM:",{"$f":"' Liste élèves'!B23","v":"Sofian"},null,null,"CLASSE :",{"$f":"' Liste élèves'!C23","v":"Classe FB"}]
[]
["SEPTEMBRE",null,null,null,"OCTOBRE",null,null,null,"NOVEMBRE"]
["RECETTES",null,"DEPENSES",null,"RECETTES",null,"DEPENSES",null,"RECETTES",null,"DEPENSES"]
["Dates","Montant","Activités","Montant","Dates","Montant","Activités","Montant","Dates","Montant","Activités","Montant"]
["Report juin",23]
[]
[]
[]
[]
[null,{"$f":"SUM(B9:B12)","v":0},null,{"$f":"SUM(D8:D12)","v":0},null,{"$f":"SUM(F8:F12)","v":0},null,{"$f":"SUM(H8:H12)","v":0},null,{"$f":"SUM(J8:J12)","v":0},null,{"$f":"SUM(L8:L12)","v":0}]
["Récap 30/09",null,null,{"$f":"+B13-D13","v":0},"Récap 31/10",null,null,{"$f":"+F13-H13","v":0},"Récap 30/11",null,null,{"$f":"+J13-L13","v":0}]
[]
["DÉCEMBRE",null,null,null,"Situation fin décembre",null,null,null,"JANVIER"]
["RECETTES",null,"DEPENSES",null,null,"Recettes","Dépenses","Total","RECETTES",null,"DEPENSES"]
["Dates","Montant","Activités","Montant",{"$f":"A14","v":"Récap 30/09"},{"$f":"B13","v":0},{"$f":"D13","v":0},{"$f":"D14","v":0},"Dates","Montant","Activités","Montant"]
[null,null,null,null,{"$f":"E14","v":"Récap 31/10"},{"$f":"F13","v":0},{"$f":"H13","v":0},{"$f":"H14","v":0}]
[null,null,null,null,{"$f":"I14","v":"Récap 30/11"},{"$f":"J13","v":0},{"$f":"L13","v":0},{"$f":"L14","v":0}]
[null,null,null,null,{"$f":"A25","v":"Récap 31/12"},{"$f":"B24","v":0},{"$f":"D24","v":0},{"$f":"D25","v":0}]
[null,null,null,null,"Report Sept",null,null,{"$f":"B8","v":23}]
[null,null,null,null,"Situation 31/12",{"$f":"SUM(F18:F22)","v":0},{"$f":"SUM(G18:G22)","v":0},{"$f":"SUM(H18:H22)","v":23}]
[null,{"$f":"SUM(B19:B23)","v":0},null,{"$f":"SUM(D19:D23)","v":0},null,null,null,null,null,{"$f":"SUM(J19:J23)","v":0},null,{"$f":"SUM(L19:L23)","v":0}]
["Récap 31/12",null,null,{"$f":"+B24-D24","v":0},null,null,null,null,"Récap 31/01",null,null,{"$f":"+J24-L24","v":0}]
[]
["FÉVRIER",null,null,null,"MARS",null,null,null,"AVRIL"]
["RECETTES",null,"DEPENSES",null,"RECETTES",null,"DEPENSES",null,"RECETTES",null,"DEPENSES"]
["Dates","Montant","Activités","Montant","Dates","Montant","Activités","Montant","Dates","Montant","Activités","Montant"]
[]
[]
[]
[]
[]
[null,{"$f":"SUM(B30:B34)","v":0},null,{"$f":"SUM(D30:D34)","v":0},null,{"$f":"SUM(F30:F34)","v":0},null,{"$f":"SUM(H30:H34)","v":0},null,{"$f":"SUM(J30:J34)","v":0},null,{"$f":"SUM(L30:L34)","v":0}]
["Récap 28/02",null,null,{"$f":"+B35-D35","v":0},"Récap 31/03",null,null,{"$f":"+F35-H35","v":0},"Récap 30/04",null,null,{"$f":"+J35-L35","v":0}]
[]
[]
["MAI",null,null,null,"JUIN",null,null,null,"Situation fin juin"]
["RECETTES",null,"DEPENSES",null,"RECETTES",null,"DEPENSES",null,null,"Recettes","Dépenses","Total"]
["Dates","Montant","Activités","Montant","Dates","Montant","Activités","Montant",{"$f":"E23","v":"Situation 31/12"},null,null,{"$f":"H23","v":23}]
[null,null,null,null,null,null,null,null,{"$f":"I25","v":"Récap 31/01"},{"$f":"J24","v":0},{"$f":"L24","v":0},{"$f":"L25","v":0}]
[null,null,null,null,null,null,null,null,{"$f":"A36","v":"Récap 28/02"},{"$f":"B35","v":0},{"$f":"D35","v":0},{"$f":"D36","v":0}]
[null,null,null,null,null,null,null,null,{"$f":"E36","v":"Récap 31/03"},{"$f":"F35","v":0},{"$f":"H35","v":0},{"$f":"H36","v":0}]
[null,null,null,null,null,null,null,null,{"$f":"I36","v":"Récap 30/04"},{"$f":"J35","v":0},{"$f":"L35","v":0},{"$f":"L36","v":0}]
[null,null,null,null,null,null,null,null,{"$f":"A48","v":"Récap 31/05"},{"$f":"B47","v":0},{"$f":"D47","v":0},{"$f":"D48","v":0}]
[null,{"$f":"SUM(B42:B46)","v":0},null,{"$f":"SUM(D42:D46)","v":0},null,{"$f":"SUM(F42:F46)","v":0},null,{"$f":"SUM(H42:H46)","v":0},{"$f":"E48","v":"Récap 30/06"},{"$f":"F47","v":0},{"$f":"H47","v":0},{"$f":"H48","v":0}]
["Récap 31/05",null,null,{"$f":"+B47-D47","v":0},"Récap 30/06",null,null,{"$f":"+F47-H47","v":0},"Situation 30/06",{"$f":"SUM(J42:J47)","v":0},{"$f":"SUM(K42:K47)","v":0},{"$f":"SUM(L41:L47)","v":23}]
[]
[null,null,null,null,null,null,null,null,null,null,null,{"$f":"F23+J48-G23-K48+B8","v":23}]
[]
[null,null,null,null,null,null,null,null,null,{"$f":"B13+F13+J13+B24+J24+B35+F35+J35+B47+F47","v":0},{"$f":"D13+H13+L13+D24+L24+D35+H35+L35+D47+H47","v":0},{"$f":"B8+J52-K52","v":23}]

{"sheet":"BOUAYACHE","index":23,"n_rows":52,"n_cols":14,"rows_kept":52,"cut":false,"hidden":false,"merged":[[0,9,0,10],[2,1,2,2],[2,4,2,5],[2,8,2,9],[5,8,5,9],[5,10,5,11],[4,0,4,3],[4,4,4,7],[4,8,4,11],[5,0,5,1],[5,2,5,3],[5,4,5,5],[5,6,5,7],[24,0,24,2],[13,0,13,2],[13,4,13,6],[16,2,16,3],[37,9,37,10],[16,0,16,1],[27,6,27,7],[24,8,24,10],[38,8,38,11],[13,8,13,10],[15,0,15,3],[15,4,15,7],[15,8,15,11],[16,10,16,11],[26,0,26,3],[26,4,26,7],[26,8,26,11],[27,8,27,9],[35,0,35,2],[35,4,35,6],[35,8,35,10],[27,10,27,11],[16,8,16,9],[27,4,27,5],[47,0,47,2],[47,4,47,6],[38,0,38,3],[38,4,38,7],[39,4,39,5],[39,6,39,7]]}
[null,null,null,null,null,null,null,null,null,"Année scolaire : ",null,{"$f":"' Liste élèves'!B1","v":"2018-2019"}]
[]
["NOM : ",{"$f":"' Liste élèves'!A24","v":"BOUAYACHE"},null,"PRENOM:",{"$f":"' Liste élèves'!B24","v":"Nouheila"},null,null,"CLASSE :",{"$f":"' Liste élèves'!C24","v":"Classe 2"}]
[]
["SEPTEMBRE",null,null,null,"OCTOBRE",null,null,null,"NOVEMBRE"]
["RECETTES",null,"DEPENSES",null,"RECETTES",null,"DEPENSES",null,"RECETTES",null,"DEPENSES"]
["Dates","Montant","Activités","Montant","Dates","Montant","Activités","Montant","Dates","Montant","Activités","Montant"]
["Report juin"]
[]
[]
[]
[]
[null,{"$f":"SUM(B9:B12)","v":0},null,{"$f":"SUM(D8:D12)","v":0},null,{"$f":"SUM(F8:F12)","v":0},null,{"$f":"SUM(H8:H12)","v":0},null,{"$f":"SUM(J8:J12)","v":0},null,{"$f":"SUM(L8:L12)","v":0}]
["Récap 30/09",null,null,{"$f":"+B13-D13","v":0},"Récap 31/10",null,null,{"$f":"+F13-H13","v":0},"Récap 30/11",null,null,{"$f":"+J13-L13","v":0}]
[]
["DÉCEMBRE",null,null,null,"Situation fin décembre",null,null,null,"JANVIER"]
["RECETTES",null,"DEPENSES",null,null,"Recettes","Dépenses","Total","RECETTES",null,"DEPENSES"]
["Dates","Montant","Activités","Montant",{"$f":"A14","v":"Récap 30/09"},{"$f":"B13","v":0},{"$f":"D13","v":0},{"$f":"D14","v":0},"Dates","Montant","Activités","Montant"]
[null,null,null,null,{"$f":"E14","v":"Récap 31/10"},{"$f":"F13","v":0},{"$f":"H13","v":0},{"$f":"H14","v":0}]
[null,null,null,null,{"$f":"I14","v":"Récap 30/11"},{"$f":"J13","v":0},{"$f":"L13","v":0},{"$f":"L14","v":0}]
[null,null,null,null,{"$f":"A25","v":"Récap 31/12"},{"$f":"B24","v":0},{"$f":"D24","v":0},{"$f":"D25","v":0}]
[null,null,null,null,"Report Sept",null,null,{"$f":"B8","v":0}]
[null,null,null,null,"Situation 31/12",{"$f":"SUM(F18:F22)","v":0},{"$f":"SUM(G18:G22)","v":0},{"$f":"SUM(H18:H22)","v":0}]
[null,{"$f":"SUM(B19:B23)","v":0},null,{"$f":"SUM(D19:D23)","v":0},null,null,null,null,null,{"$f":"SUM(J19:J23)","v":0},null,{"$f":"SUM(L19:L23)","v":0}]
["Récap 31/12",null,null,{"$f":"+B24-D24","v":0},null,null,null,null,"Récap 31/01",null,null,{"$f":"+J24-L24","v":0}]
[]
["FÉVRIER",null,null,null,"MARS",null,null,null,"AVRIL"]
["RECETTES",null,"DEPENSES",null,"RECETTES",null,"DEPENSES",null,"RECETTES",null,"DEPENSES"]
["Dates","Montant","Activités","Montant","Dates","Montant","Activités","Montant","Dates","Montant","Activités","Montant"]
[]
[]
[]
[]
[]
[null,{"$f":"SUM(B30:B34)","v":0},null,{"$f":"SUM(D30:D34)","v":0},null,{"$f":"SUM(F30:F34)","v":0},null,{"$f":"SUM(H30:H34)","v":0},null,{"$f":"SUM(J30:J34)","v":0},null,{"$f":"SUM(L30:L34)","v":0}]
["Récap 28/02",null,null,{"$f":"+B35-D35","v":0},"Récap 31/03",null,null,{"$f":"+F35-H35","v":0},"Récap 30/04",null,null,{"$f":"+J35-L35","v":0}]
[]
[]
["MAI",null,null,null,"JUIN",null,null,null,"Situation fin juin"]
["RECETTES",null,"DEPENSES",null,"RECETTES",null,"DEPENSES",null,null,"Recettes","Dépenses","Total"]
["Dates","Montant","Activités","Montant","Dates","Montant","Activités","Montant",{"$f":"E23","v":"Situation 31/12"},null,null,{"$f":"H23","v":0}]
[null,null,null,null,null,null,null,null,{"$f":"I25","v":"Récap 31/01"},{"$f":"J24","v":0},{"$f":"L24","v":0},{"$f":"L25","v":0}]
[null,null,null,null,null,null,null,null,{"$f":"A36","v":"Récap 28/02"},{"$f":"B35","v":0},{"$f":"D35","v":0},{"$f":"D36","v":0}]
[null,null,null,null,null,null,null,null,{"$f":"E36","v":"Récap 31/03"},{"$f":"F35","v":0},{"$f":"H35","v":0},{"$f":"H36","v":0}]
[null,null,null,null,null,null,null,null,{"$f":"I36","v":"Récap 30/04"},{"$f":"J35","v":0},{"$f":"L35","v":0},{"$f":"L36","v":0}]
[null,null,null,null,null,null,null,null,{"$f":"A48","v":"Récap 31/05"},{"$f":"B47","v":0},{"$f":"D47","v":0},{"$f":"D48","v":0}]
[null,{"$f":"SUM(B42:B46)","v":0},null,{"$f":"SUM(D42:D46)","v":0},null,{"$f":"SUM(F42:F46)","v":0},null,{"$f":"SUM(H42:H46)","v":0},{"$f":"E48","v":"Récap 30/06"},{"$f":"F47","v":0},{"$f":"H47","v":0},{"$f":"H48","v":0},null,59.86]
["Récap 31/05",null,null,{"$f":"+B47-D47","v":0},"Récap 30/06",null,null,{"$f":"+F47-H47","v":0},"Situation 30/06",{"$f":"SUM(J42:J47)","v":0},{"$f":"SUM(K42:K47)","v":0},{"$f":"SUM(L41:L47)","v":0}]
[]
[null,null,null,null,null,null,null,null,null,null,null,{"$f":"F23+J48-G23-K48+B8","v":0}]
[]
[null,null,null,null,null,null,null,null,null,{"$f":"B13+F13+J13+B24+J24+B35+F35+J35+B47+F47","v":0},{"$f":"D13+H13+L13+D24+L24+D35+H35+L35+D47+H47","v":0},{"$f":"B8+J52-K52","v":0}]

{"sheet":"BUYS","index":24,"n_rows":52,"n_cols":14,"rows_kept":52,"cut":false,"hidden":false,"merged":[[39,4,39,5],[39,6,39,7],[47,0,47,2],[47,4,47,6],[35,0,35,2],[35,4,35,6],[35,8,35,10],[37,9,37,10],[38,0,38,3],[38,4,38,7],[38,8,38,11],[26,0,26,3],[26,4,26,7],[26,8,26,11],[27,4,27,5],[27,6,27,7],[27,8,27,9],[27,10,27,11],[16,0,16,1],[16,2,16,3],[16,8,16,9],[16,10,16,11],[24,0,24,2],[24,8,24,10],[13,0,13,2],[13,4,13,6],[13,8,13,10],[15,0,15,3],[15,4,15,7],[15,8,15,11],[5,10,5,11],[0,9,0,10],[2,1,2,2],[2,4,2,5],[2,8,2,9],[4,0,4,3],[4,4,4,7],[4,8,4,11],[5,0,5,1],[5,2,5,3],[5,4,5,5],[5,6,5,7],[5,8,5,9]]}
[null,null,null,null,null,null,null,null,null,"Année scolaire : ",null,{"$f":"' Liste élèves'!B1","v":"2018-2019"}]
[]
["NOM : ",{"$f":"' Liste élèves'!A25","v":"BUYS"},null,"PRENOM:",{"$f":"' Liste élèves'!B25","v":"Tom"},null,null,"CLASSE :",{"$f":"' Liste élèves'!C25","v":"Classe 11"}]
[]
["SEPTEMBRE",null,null,null,"OCTOBRE",null,null,null,"NOVEMBRE"]
["RECETTES",null,"DEPENSES",null,"RECETTES",null,"DEPENSES",null,"RECETTES",null,"DEPENSES"]
["Dates","Montant","Activités","Montant","Dates","Montant","Activités","Montant","Dates","Montant","Activités","Montant"]
["Report juin",72]
[]
[]
[]
[]
[null,{"$f":"SUM(B9:B12)","v":0},null,{"$f":"SUM(D8:D12)","v":0},null,{"$f":"SUM(F8:F12)","v":0},null,{"$f":"SUM(H8:H12)","v":0},null,{"$f":"SUM(J8:J12)","v":0},null,{"$f":"SUM(L8:L12)","v":0}]
["Récap 30/09",null,null,{"$f":"+B13-D13","v":0},"Récap 31/10",null,null,{"$f":"+F13-H13","v":0},"Récap 30/11",null,null,{"$f":"+J13-L13","v":0}]
[]
["DÉCEMBRE",null,null,null,"Situation fin décembre",null,null,null,"JANVIER"]
["RECETTES",null,"DEPENSES",null,null,"Recettes","Dépenses","Total","RECETTES",null,"DEPENSES"]
["Dates","Montant","Activités","Montant",{"$f":"A14","v":"Récap 30/09"},{"$f":"B13","v":0},{"$f":"D13","v":0},{"$f":"D14","v":0},"Dates","Montant","Activités","Montant"]
[null,null,null,null,{"$f":"E14","v":"Récap 31/10"},{"$f":"F13","v":0},{"$f":"H13","v":0},{"$f":"H14","v":0}]
[null,null,null,null,{"$f":"I14","v":"Récap 30/11"},{"$f":"J13","v":0},{"$f":"L13","v":0},{"$f":"L14","v":0}]
[null,null,null,null,{"$f":"A25","v":"Récap 31/12"},{"$f":"B24","v":0},{"$f":"D24","v":0},{"$f":"D25","v":0}]
[null,null,null,null,"Report Sept",null,null,{"$f":"B8","v":72}]
[null,null,null,null,"Situation 31/12",{"$f":"SUM(F18:F22)","v":0},{"$f":"SUM(G18:G22)","v":0},{"$f":"SUM(H18:H22)","v":72}]
[null,{"$f":"SUM(B19:B23)","v":0},null,{"$f":"SUM(D19:D23)","v":0},null,null,null,null,null,{"$f":"SUM(J19:J23)","v":0},null,{"$f":"SUM(L19:L23)","v":0}]
["Récap 31/12",null,null,{"$f":"+B24-D24","v":0},null,null,null,null,"Récap 31/01",null,null,{"$f":"+J24-L24","v":0}]
[]
["FÉVRIER",null,null,null,"MARS",null,null,null,"AVRIL"]
["RECETTES",null,"DEPENSES",null,"RECETTES",null,"DEPENSES",null,"RECETTES",null,"DEPENSES"]
["Dates","Montant","Activités","Montant","Dates","Montant","Activités","Montant","Dates","Montant","Activités","Montant"]
[]
[]
[]
[]
[]
[null,{"$f":"SUM(B30:B34)","v":0},null,{"$f":"SUM(D30:D34)","v":0},null,{"$f":"SUM(F30:F34)","v":0},null,{"$f":"SUM(H30:H34)","v":0},null,{"$f":"SUM(J30:J34)","v":0},null,{"$f":"SUM(L30:L34)","v":0}]
["Récap 28/02",null,null,{"$f":"+B35-D35","v":0},"Récap 31/03",null,null,{"$f":"+F35-H35","v":0},"Récap 30/04",null,null,{"$f":"+J35-L35","v":0}]
[]
[]
["MAI",null,null,null,"JUIN",null,null,null,"Situation fin juin"]
["RECETTES",null,"DEPENSES",null,"RECETTES",null,"DEPENSES",null,null,"Recettes","Dépenses","Total"]
["Dates","Montant","Activités","Montant","Dates","Montant","Activités","Montant",{"$f":"E23","v":"Situation 31/12"},null,null,{"$f":"H23","v":72}]
[null,null,null,null,null,null,null,null,{"$f":"I25","v":"Récap 31/01"},{"$f":"J24","v":0},{"$f":"L24","v":0},{"$f":"L25","v":0}]
[null,null,null,null,null,null,null,null,{"$f":"A36","v":"Récap 28/02"},{"$f":"B35","v":0},{"$f":"D35","v":0},{"$f":"D36","v":0}]
[null,null,null,null,null,null,null,null,{"$f":"E36","v":"Récap 31/03"},{"$f":"F35","v":0},{"$f":"H35","v":0},{"$f":"H36","v":0}]
[null,null,null,null,null,null,null,null,{"$f":"I36","v":"Récap 30/04"},{"$f":"J35","v":0},{"$f":"L35","v":0},{"$f":"L36","v":0}]
[null,null,null,null,null,null,null,null,{"$f":"A48","v":"Récap 31/05"},{"$f":"B47","v":0},{"$f":"D47","v":0},{"$f":"D48","v":0}]
[null,{"$f":"SUM(B42:B46)","v":0},null,{"$f":"SUM(D42:D46)","v":0},null,{"$f":"SUM(F42:F46)","v":0},null,{"$f":"SUM(H42:H46)","v":0},{"$f":"E48","v":"Récap 30/06"},{"$f":"F47","v":0},{"$f":"H47","v":0},{"$f":"H48","v":0},null,7]
["Récap 31/05",null,null,{"$f":"+B47-D47","v":0},"Récap 30/06",null,null,{"$f":"+F47-H47","v":0},"Situation 30/06",{"$f":"SUM(J42:J47)","v":0},{"$f":"SUM(K42:K47)","v":0},{"$f":"SUM(L41:L47)","v":72}]
[]
[null,null,null,null,null,null,null,null,null,null,null,{"$f":"F23+J48-G23-K48+B8","v":72}]
[]
[null,null,null,null,null,null,null,null,null,{"$f":"B13+F13+J13+B24+J24+B35+F35+J35+B47+F47","v":0},{"$f":"D13+H13+L13+D24+L24+D35+H35+L35+D47+H47","v":0},{"$f":"B8+J52-K52","v":72}]

{"sheet":"CAMBRON","index":25,"n_rows":52,"n_cols":12,"rows_kept":52,"cut":false,"hidden":false,"merged":[[0,9,0,10],[2,1,2,2],[2,4,2,5],[2,8,2,9],[5,8,5,9],[5,10,5,11],[4,0,4,3],[4,4,4,7],[4,8,4,11],[5,0,5,1],[5,2,5,3],[5,4,5,5],[5,6,5,7],[24,0,24,2],[13,0,13,2],[13,4,13,6],[16,2,16,3],[37,9,37,10],[16,0,16,1],[27,6,27,7],[24,8,24,10],[38,8,38,11],[13,8,13,10],[15,0,15,3],[15,4,15,7],[15,8,15,11],[16,10,16,11],[26,0,26,3],[26,4,26,7],[26,8,26,11],[27,8,27,9],[35,0,35,2],[35,4,35,6],[35,8,35,10],[27,10,27,11],[16,8,16,9],[27,4,27,5],[47,0,47,2],[47,4,47,6],[38,0,38,3],[38,4,38,7],[39,4,39,5],[39,6,39,7]]}
[null,null,null,null,null,null,null,null,null,"Année scolaire : ",null,{"$f":"' Liste élèves'!B1","v":"2018-2019"}]
[]
["NOM : ",{"$f":"' Liste élèves'!A26","v":"CAMBRON"},null,"PRENOM:",{"$f":"' Liste élèves'!B26","v":"Sullivan"},null,null,"CLASSE :",{"$f":"' Liste élèves'!C26","v":"Classe 8"}]
[]
["SEPTEMBRE",null,null,null,"OCTOBRE",null,null,null,"NOVEMBRE"]
["RECETTES",null,"DEPENSES",null,"RECETTES",null,"DEPENSES",null,"RECETTES",null,"DEPENSES"]
["Dates","Montant","Activités","Montant","Dates","Montant","Activités","Montant","Dates","Montant","Activités","Montant"]
["Report juin",-6]
[]
[]
[]
[]
[null,{"$f":"SUM(B9:B12)","v":0},null,{"$f":"SUM(D8:D12)","v":0},null,{"$f":"SUM(F8:F12)","v":0},null,{"$f":"SUM(H8:H12)","v":0},null,{"$f":"SUM(J8:J12)","v":0},null,{"$f":"SUM(L8:L12)","v":0}]
["Récap 30/09",null,null,{"$f":"+B13-D13","v":0},"Récap 31/10",null,null,{"$f":"+F13-H13","v":0},"Récap 30/11",null,null,{"$f":"+J13-L13","v":0}]
[]
["DÉCEMBRE",null,null,null,"Situation fin décembre",null,null,null,"JANVIER"]
["RECETTES",null,"DEPENSES",null,null,"Recettes","Dépenses","Total","RECETTES",null,"DEPENSES"]
["Dates","Montant","Activités","Montant",{"$f":"A14","v":"Récap 30/09"},{"$f":"B13","v":0},{"$f":"D13","v":0},{"$f":"D14","v":0},"Dates","Montant","Activités","Montant"]
[null,null,null,null,{"$f":"E14","v":"Récap 31/10"},{"$f":"F13","v":0},{"$f":"H13","v":0},{"$f":"H14","v":0}]
[null,null,null,null,{"$f":"I14","v":"Récap 30/11"},{"$f":"J13","v":0},{"$f":"L13","v":0},{"$f":"L14","v":0}]
[null,null,null,null,{"$f":"A25","v":"Récap 31/12"},{"$f":"B24","v":0},{"$f":"D24","v":0},{"$f":"D25","v":0}]
[null,null,null,null,"Report Sept",null,null,{"$f":"B8","v":-6}]
[null,null,null,null,"Situation 31/12",{"$f":"SUM(F18:F22)","v":0},{"$f":"SUM(G18:G22)","v":0},{"$f":"SUM(H18:H22)","v":-6}]
[null,{"$f":"SUM(B19:B23)","v":0},null,{"$f":"SUM(D19:D23)","v":0},null,null,null,null,null,{"$f":"SUM(J19:J23)","v":0},null,{"$f":"SUM(L19:L23)","v":0}]
["Récap 31/12",null,null,{"$f":"+B24-D24","v":0},null,null,null,null,"Récap 31/01",null,null,{"$f":"+J24-L24","v":0}]
[]
["FÉVRIER",null,null,null,"MARS",null,null,null,"AVRIL"]
["RECETTES",null,"DEPENSES",null,"RECETTES",null,"DEPENSES",null,"RECETTES",null,"DEPENSES"]
["Dates","Montant","Activités","Montant","Dates","Montant","Activités","Montant","Dates","Montant","Activités","Montant"]
[]
[]
[]
[]
[]
[null,{"$f":"SUM(B30:B34)","v":0},null,{"$f":"SUM(D30:D34)","v":0},null,{"$f":"SUM(F30:F34)","v":0},null,{"$f":"SUM(H30:H34)","v":0},null,{"$f":"SUM(J30:J34)","v":0},null,{"$f":"SUM(L30:L34)","v":0}]
["Récap 28/02",null,null,{"$f":"+B35-D35","v":0},"Récap 31/03",null,null,{"$f":"+F35-H35","v":0},"Récap 30/04",null,null,{"$f":"+J35-L35","v":0}]
[]
[]
["MAI",null,null,null,"JUIN",null,null,null,"Situation fin juin"]
["RECETTES",null,"DEPENSES",null,"RECETTES",null,"DEPENSES",null,null,"Recettes","Dépenses","Total"]
["Dates","Montant","Activités","Montant","Dates","Montant","Activités","Montant",{"$f":"E23","v":"Situation 31/12"},null,null,{"$f":"H23","v":-6}]
[null,null,null,null,null,null,null,null,{"$f":"I25","v":"Récap 31/01"},{"$f":"J24","v":0},{"$f":"L24","v":0},{"$f":"L25","v":0}]
[null,null,null,null,null,null,null,null,{"$f":"A36","v":"Récap 28/02"},{"$f":"B35","v":0},{"$f":"D35","v":0},{"$f":"D36","v":0}]
[null,null,null,null,null,null,null,null,{"$f":"E36","v":"Récap 31/03"},{"$f":"F35","v":0},{"$f":"H35","v":0},{"$f":"H36","v":0}]
[null,null,null,null,null,null,null,null,{"$f":"I36","v":"Récap 30/04"},{"$f":"J35","v":0},{"$f":"L35","v":0},{"$f":"L36","v":0}]
[null,null,null,null,null,null,null,null,{"$f":"A48","v":"Récap 31/05"},{"$f":"B47","v":0},{"$f":"D47","v":0},{"$f":"D48","v":0}]
[null,{"$f":"SUM(B42:B46)","v":0},null,{"$f":"SUM(D42:D46)","v":0},null,{"$f":"SUM(F42:F46)","v":0},null,{"$f":"SUM(H42:H46)","v":0},{"$f":"E48","v":"Récap 30/06"},{"$f":"F47","v":0},{"$f":"H47","v":0},{"$f":"H48","v":0}]
["Récap 31/05",null,null,{"$f":"+B47-D47","v":0},"Récap 30/06",null,null,{"$f":"+F47-H47","v":0},"Situation 30/06",{"$f":"SUM(J42:J47)","v":0},{"$f":"SUM(K42:K47)","v":0},{"$f":"SUM(L41:L47)","v":-6}]
[]
[null,null,null,null,null,null,null,null,null,null,null,{"$f":"F23+J48-G23-K48+B8","v":-6}]
[]
[null,null,null,null,null,null,null,null,null,{"$f":"B13+F13+J13+B24+J24+B35+F35+J35+B47+F47","v":0},{"$f":"D13+H13+L13+D24+L24+D35+H35+L35+D47+H47","v":0},{"$f":"B8+J52-K52","v":-6}]

{"sheet":"CARBONNELLE","index":26,"n_rows":52,"n_cols":12,"rows_kept":52,"cut":false,"hidden":false,"merged":[[0,9,0,10],[2,1,2,2],[2,4,2,5],[2,8,2,9],[5,8,5,9],[5,10,5,11],[4,0,4,3],[4,4,4,7],[4,8,4,11],[5,0,5,1],[5,2,5,3],[5,4,5,5],[5,6,5,7],[24,0,24,2],[13,0,13,2],[13,4,13,6],[16,2,16,3],[37,9,37,10],[16,0,16,1],[27,6,27,7],[24,8,24,10],[38,8,38,11],[13,8,13,10],[15,0,15,3],[15,4,15,7],[15,8,15,11],[16,10,16,11],[26,0,26,3],[26,4,26,7],[26,8,26,11],[27,8,27,9],[35,0,35,2],[35,4,35,6],[35,8,35,10],[27,10,27,11],[16,8,16,9],[27,4,27,5],[47,0,47,2],[47,4,47,6],[38,0,38,3],[38,4,38,7],[39,4,39,5],[39,6,39,7]]}
[null,null,null,null,null,null,null,null,null,"Année scolaire : ",null,{"$f":"' Liste élèves'!B1","v":"2018-2019"}]
[]
["NOM : ",{"$f":"' Liste élèves'!A27","v":"CARBONNELLE"},null,"PRENOM:",{"$f":"' Liste élèves'!B27","v":"Cheyenne"},null,null,"CLASSE :",{"$f":"' Liste élèves'!C27","v":"Classe MB"}]
[]
["SEPTEMBRE",null,null,null,"OCTOBRE",null,null,null,"NOVEMBRE"]
["RECETTES",null,"DEPENSES",null,"RECETTES",null,"DEPENSES",null,"RECETTES",null,"DEPENSES"]
["Dates","Montant","Activités","Montant","Dates","Montant","Activités","Montant","Dates","Montant","Activités","Montant"]
["Report juin",39.5]
[]
[]
[]
[]
[null,{"$f":"SUM(B9:B12)","v":0},null,{"$f":"SUM(D8:D12)","v":0},null,{"$f":"SUM(F8:F12)","v":0},null,{"$f":"SUM(H8:H12)","v":0},null,{"$f":"SUM(J8:J12)","v":0},null,{"$f":"SUM(L8:L12)","v":0}]
["Récap 30/09",null,null,{"$f":"+B13-D13","v":0},"Récap 31/10",null,null,{"$f":"+F13-H13","v":0},"Récap 30/11",null,null,{"$f":"+J13-L13","v":0}]
[]
["DÉCEMBRE",null,null,null,"Situation fin décembre",null,null,null,"JANVIER"]
["RECETTES",null,"DEPENSES",null,null,"Recettes","Dépenses","Total","RECETTES",null,"DEPENSES"]
["Dates","Montant","Activités","Montant",{"$f":"A14","v":"Récap 30/09"},{"$f":"B13","v":0},{"$f":"D13","v":0},{"$f":"D14","v":0},"Dates","Montant","Activités","Montant"]
[null,null,null,null,{"$f":"E14","v":"Récap 31/10"},{"$f":"F13","v":0},{"$f":"H13","v":0},{"$f":"H14","v":0}]
[null,null,null,null,{"$f":"I14","v":"Récap 30/11"},{"$f":"J13","v":0},{"$f":"L13","v":0},{"$f":"L14","v":0}]
[null,null,null,null,{"$f":"A25","v":"Récap 31/12"},{"$f":"B24","v":0},{"$f":"D24","v":0},{"$f":"D25","v":0}]
[null,null,null,null,"Report Sept",null,null,{"$f":"B8","v":39.5}]
[null,null,null,null,"Situation 31/12",{"$f":"SUM(F18:F22)","v":0},{"$f":"SUM(G18:G22)","v":0},{"$f":"SUM(H18:H22)","v":39.5}]
[null,{"$f":"SUM(B19:B23)","v":0},null,{"$f":"SUM(D19:D23)","v":0},null,null,null,null,null,{"$f":"SUM(J19:J23)","v":0},null,{"$f":"SUM(L19:L23)","v":0}]
["Récap 31/12",null,null,{"$f":"+B24-D24","v":0},null,null,null,null,"Récap 31/01",null,null,{"$f":"+J24-L24","v":0}]
[]
["FÉVRIER",null,null,null,"MARS",null,null,null,"AVRIL"]
["RECETTES",null,"DEPENSES",null,"RECETTES",null,"DEPENSES",null,"RECETTES",null,"DEPENSES"]
["Dates","Montant","Activités","Montant","Dates","Montant","Activités","Montant","Dates","Montant","Activités","Montant"]
[]
[]
[]
[]
[]
[null,{"$f":"SUM(B30:B34)","v":0},null,{"$f":"SUM(D30:D34)","v":0},null,{"$f":"SUM(F30:F34)","v":0},null,{"$f":"SUM(H30:H34)","v":0},null,{"$f":"SUM(J30:J34)","v":0},null,{"$f":"SUM(L30:L34)","v":0}]
["Récap 28/02",null,null,{"$f":"+B35-D35","v":0},"Récap 31/03",null,null,{"$f":"+F35-H35","v":0},"Récap 30/04",null,null,{"$f":"+J35-L35","v":0}]
[]
[]
["MAI",null,null,null,"JUIN",null,null,null,"Situation fin juin"]
["RECETTES",null,"DEPENSES",null,"RECETTES",null,"DEPENSES",null,null,"Recettes","Dépenses","Total"]
["Dates","Montant","Activités","Montant","Dates","Montant","Activités","Montant",{"$f":"E23","v":"Situation 31/12"},null,null,{"$f":"H23","v":39.5}]
[null,null,null,null,null,null,null,null,{"$f":"I25","v":"Récap 31/01"},{"$f":"J24","v":0},{"$f":"L24","v":0},{"$f":"L25","v":0}]
[null,null,null,null,null,null,null,null,{"$f":"A36","v":"Récap 28/02"},{"$f":"B35","v":0},{"$f":"D35","v":0},{"$f":"D36","v":0}]
[null,null,null,null,null,null,null,null,{"$f":"E36","v":"Récap 31/03"},{"$f":"F35","v":0},{"$f":"H35","v":0},{"$f":"H36","v":0}]
[null,null,null,null,null,null,null,null,{"$f":"I36","v":"Récap 30/04"},{"$f":"J35","v":0},{"$f":"L35","v":0},{"$f":"L36","v":0}]
[null,null,null,null,null,null,null,null,{"$f":"A48","v":"Récap 31/05"},{"$f":"B47","v":0},{"$f":"D47","v":0},{"$f":"D48","v":0}]
[null,{"$f":"SUM(B42:B46)","v":0},null,{"$f":"SUM(D42:D46)","v":0},null,{"$f":"SUM(F42:F46)","v":0},null,{"$f":"SUM(H42:H46)","v":0},{"$f":"E48","v":"Récap 30/06"},{"$f":"F47","v":0},{"$f":"H47","v":0},{"$f":"H48","v":0}]
["Récap 31/05",null,null,{"$f":"+B47-D47","v":0},"Récap 30/06",null,null,{"$f":"+F47-H47","v":0},"Situation 30/06",{"$f":"SUM(J42:J47)","v":0},{"$f":"SUM(K42:K47)","v":0},{"$f":"SUM(L41:L47)","v":39.5}]
[]
[null,null,null,null,null,null,null,null,null,null,null,{"$f":"F23+J48-G23-K48+B8","v":39.5}]
[]
[null,null,null,null,null,null,null,null,null,{"$f":"B13+F13+J13+B24+J24+B35+F35+J35+B47+F47","v":0},{"$f":"D13+H13+L13+D24+L24+D35+H35+L35+D47+H47","v":0},{"$f":"B8+J52-K52","v":39.5}]

{"sheet":"CHAVATTE","index":27,"n_rows":52,"n_cols":12,"rows_kept":52,"cut":false,"hidden":false,"merged":[[39,4,39,5],[39,6,39,7],[47,0,47,2],[47,4,47,6],[35,0,35,2],[35,4,35,6],[35,8,35,10],[37,9,37,10],[38,0,38,3],[38,4,38,7],[38,8,38,11],[26,0,26,3],[26,4,26,7],[26,8,26,11],[27,4,27,5],[27,6,27,7],[27,8,27,9],[27,10,27,11],[16,0,16,1],[16,2,16,3],[16,8,16,9],[16,10,16,11],[24,0,24,2],[24,8,24,10],[13,0,13,2],[13,4,13,6],[13,8,13,10],[15,0,15,3],[15,4,15,7],[15,8,15,11],[5,10,5,11],[0,9,0,10],[2,1,2,2],[2,4,2,5],[2,8,2,9],[4,0,4,3],[4,4,4,7],[4,8,4,11],[5,0,5,1],[5,2,5,3],[5,4,5,5],[5,6,5,7],[5,8,5,9]]}
[null,null,null,null,null,null,null,null,null,"Année scolaire : ",null,{"$f":"' Liste élèves'!B1","v":"2018-2019"}]
[]
["NOM : ",{"$f":"' Liste élèves'!A28","v":"CHAVATTE"},null,"PRENOM:",{"$f":"' Liste élèves'!B28","v":"Nicolas"},null,null,"CLASSE :",{"$f":"' Liste élèves'!C28","v":"Classe PC"}]
[]
["SEPTEMBRE",null,null,null,"OCTOBRE",null,null,null,"NOVEMBRE"]
["RECETTES",null,"DEPENSES",null,"RECETTES",null,"DEPENSES",null,"RECETTES",null,"DEPENSES"]
["Dates","Montant","Activités","Montant","Dates","Montant","Activités","Montant","Dates","Montant","Activités","Montant"]
["Report juin",36]
[]
[]
[]
[]
[null,{"$f":"SUM(B9:B12)","v":0},null,{"$f":"SUM(D8:D12)","v":0},null,{"$f":"SUM(F8:F12)","v":0},null,{"$f":"SUM(H8:H12)","v":0},null,{"$f":"SUM(J8:J12)","v":0},null,{"$f":"SUM(L8:L12)","v":0}]
["Récap 30/09",null,null,{"$f":"+B13-D13","v":0},"Récap 31/10",null,null,{"$f":"+F13-H13","v":0},"Récap 30/11",null,null,{"$f":"+J13-L13","v":0}]
[]
["DÉCEMBRE",null,null,null,"Situation fin décembre",null,null,null,"JANVIER"]
["RECETTES",null,"DEPENSES",null,null,"Recettes","Dépenses","Total","RECETTES",null,"DEPENSES"]
["Dates","Montant","Activités","Montant",{"$f":"A14","v":"Récap 30/09"},{"$f":"B13","v":0},{"$f":"D13","v":0},{"$f":"D14","v":0},"Dates","Montant","Activités","Montant"]
[null,null,null,null,{"$f":"E14","v":"Récap 31/10"},{"$f":"F13","v":0},{"$f":"H13","v":0},{"$f":"H14","v":0}]
[null,null,null,null,{"$f":"I14","v":"Récap 30/11"},{"$f":"J13","v":0},{"$f":"L13","v":0},{"$f":"L14","v":0}]
[null,null,null,null,{"$f":"A25","v":"Récap 31/12"},{"$f":"B24","v":0},{"$f":"D24","v":0},{"$f":"D25","v":0}]
[null,null,null,null,"Report Sept",null,null,{"$f":"B8","v":36}]
[null,null,null,null,"Situation 31/12",{"$f":"SUM(F18:F22)","v":0},{"$f":"SUM(G18:G22)","v":0},{"$f":"SUM(H18:H22)","v":36}]
[null,{"$f":"SUM(B19:B23)","v":0},null,{"$f":"SUM(D19:D23)","v":0},null,null,null,null,null,{"$f":"SUM(J19:J23)","v":0},null,{"$f":"SUM(L19:L23)","v":0}]
["Récap 31/12",null,null,{"$f":"+B24-D24","v":0},null,null,null,null,"Récap 31/01",null,null,{"$f":"+J24-L24","v":0}]
[]
["FÉVRIER",null,null,null,"MARS",null,null,null,"AVRIL"]
["RECETTES",null,"DEPENSES",null,"RECETTES",null,"DEPENSES",null,"RECETTES",null,"DEPENSES"]
["Dates","Montant","Activités","Montant","Dates","Montant","Activités","Montant","Dates","Montant","Activités","Montant"]
[]
[]
[]
[]
[]
[null,{"$f":"SUM(B30:B34)","v":0},null,{"$f":"SUM(D30:D34)","v":0},null,{"$f":"SUM(F30:F34)","v":0},null,{"$f":"SUM(H30:H34)","v":0},null,{"$f":"SUM(J30:J34)","v":0},null,{"$f":"SUM(L30:L34)","v":0}]
["Récap 28/02",null,null,{"$f":"+B35-D35","v":0},"Récap 31/03",null,null,{"$f":"+F35-H35","v":0},"Récap 30/04",null,null,{"$f":"+J35-L35","v":0}]
[]
[]
["MAI",null,null,null,"JUIN",null,null,null,"Situation fin juin"]
["RECETTES",null,"DEPENSES",null,"RECETTES",null,"DEPENSES",null,null,"Recettes","Dépenses","Total"]
["Dates","Montant","Activités","Montant","Dates","Montant","Activités","Montant",{"$f":"E23","v":"Situation 31/12"},null,null,{"$f":"H23","v":36}]
[null,null,null,null,null,null,null,null,{"$f":"I25","v":"Récap 31/01"},{"$f":"J24","v":0},{"$f":"L24","v":0},{"$f":"L25","v":0}]
[null,null,null,null,null,null,null,null,{"$f":"A36","v":"Récap 28/02"},{"$f":"B35","v":0},{"$f":"D35","v":0},{"$f":"D36","v":0}]
[null,null,null,null,null,null,null,null,{"$f":"E36","v":"Récap 31/03"},{"$f":"F35","v":0},{"$f":"H35","v":0},{"$f":"H36","v":0}]
[null,null,null,null,null,null,null,null,{"$f":"I36","v":"Récap 30/04"},{"$f":"J35","v":0},{"$f":"L35","v":0},{"$f":"L36","v":0}]
[null,null,null,null,null,null,null,null,{"$f":"A48","v":"Récap 31/05"},{"$f":"B47","v":0},{"$f":"D47","v":0},{"$f":"D48","v":0}]
[null,{"$f":"SUM(B42:B46)","v":0},null,{"$f":"SUM(D42:D46)","v":0},null,{"$f":"SUM(F42:F46)","v":0},null,{"$f":"SUM(H42:H46)","v":0},{"$f":"E48","v":"Récap 30/06"},{"$f":"F47","v":0},{"$f":"H47","v":0},{"$f":"H48","v":0}]
["Récap 31/05",null,null,{"$f":"+B47-D47","v":0},"Récap 30/06",null,null,{"$f":"+F47-H47","v":0},"Situation 30/06",{"$f":"SUM(J42:J47)","v":0},{"$f":"SUM(K42:K47)","v":0},{"$f":"SUM(L41:L47)","v":36}]
[]
[null,null,null,null,null,null,null,null,null,null,null,{"$f":"F23+J48-G23-K48+B8","v":36}]
[]
[null,null,null,null,null,null,null,null,null,{"$f":"B13+F13+J13+B24+J24+B35+F35+J35+B47+F47","v":0},{"$f":"D13+H13+L13+D24+L24+D35+H35+L35+D47+H47","v":0},{"$f":"B8+J52-K52","v":36}]

{"sheet":"CHOMEZ","index":28,"n_rows":52,"n_cols":12,"rows_kept":52,"cut":false,"hidden":false,"merged":[[0,9,0,10],[2,1,2,2],[2,4,2,5],[2,8,2,9],[5,8,5,9],[5,10,5,11],[4,0,4,3],[4,4,4,7],[4,8,4,11],[5,0,5,1],[5,2,5,3],[5,4,5,5],[5,6,5,7],[24,0,24,2],[13,0,13,2],[13,4,13,6],[16,2,16,3],[37,9,37,10],[16,0,16,1],[27,6,27,7],[24,8,24,10],[38,8,38,11],[13,8,13,10],[15,0,15,3],[15,4,15,7],[15,8,15,11],[16,10,16,11],[26,0,26,3],[26,4,26,7],[26,8,26,11],[27,8,27,9],[35,0,35,2],[35,4,35,6],[35,8,35,10],[27,10,27,11],[16,8,16,9],[27,4,27,5],[47,0,47,2],[47,4,47,6],[38,0,38,3],[38,4,38,7],[39,4,39,5],[39,6,39,7]]}
[null,null,null,null,null,null,null,null,null,"Année scolaire : ",null,{"$f":"' Liste élèves'!B1","v":"2018-2019"}]
[]
["NOM : ",{"$f":"' Liste élèves'!A29","v":"CHOMEZ"},null,"PRENOM:",{"$f":"' Liste élèves'!B29","v":"Logan"},null,null,"CLASSE :",{"$f":"' Liste élèves'!C29","v":"Classe MC"}]
[]
["SEPTEMBRE",null,null,null,"OCTOBRE",null,null,null,"NOVEMBRE"]
["RECETTES",null,"DEPENSES",null,"RECETTES",null,"DEPENSES",null,"RECETTES",null,"DEPENSES"]
["Dates","Montant","Activités","Montant","Dates","Montant","Activités","Montant","Dates","Montant","Activités","Montant"]
["Report juin",55]
[]
[]
[]
[]
[null,{"$f":"SUM(B9:B12)","v":0},null,{"$f":"SUM(D8:D12)","v":0},null,{"$f":"SUM(F8:F12)","v":0},null,{"$f":"SUM(H8:H12)","v":0},null,{"$f":"SUM(J8:J12)","v":0},null,{"$f":"SUM(L8:L12)","v":0}]
["Récap 30/09",null,null,{"$f":"+B13-D13","v":0},"Récap 31/10",null,null,{"$f":"+F13-H13","v":0},"Récap 30/11",null,null,{"$f":"+J13-L13","v":0}]
[]
["DÉCEMBRE",null,null,null,"Situation fin décembre",null,null,null,"JANVIER"]
["RECETTES",null,"DEPENSES",null,null,"Recettes","Dépenses","Total","RECETTES",null,"DEPENSES"]
["Dates","Montant","Activités","Montant",{"$f":"A14","v":"Récap 30/09"},{"$f":"B13","v":0},{"$f":"D13","v":0},{"$f":"D14","v":0},"Dates","Montant","Activités","Montant"]
[null,null,null,null,{"$f":"E14","v":"Récap 31/10"},{"$f":"F13","v":0},{"$f":"H13","v":0},{"$f":"H14","v":0}]
[null,null,null,null,{"$f":"I14","v":"Récap 30/11"},{"$f":"J13","v":0},{"$f":"L13","v":0},{"$f":"L14","v":0}]
[null,null,null,null,{"$f":"A25","v":"Récap 31/12"},{"$f":"B24","v":0},{"$f":"D24","v":0},{"$f":"D25","v":0}]
[null,null,null,null,"Report Sept",null,null,{"$f":"B8","v":55}]
[null,null,null,null,"Situation 31/12",{"$f":"SUM(F18:F22)","v":0},{"$f":"SUM(G18:G22)","v":0},{"$f":"SUM(H18:H22)","v":55}]
[null,{"$f":"SUM(B19:B23)","v":0},null,{"$f":"SUM(D19:D23)","v":0},null,null,null,null,null,{"$f":"SUM(J19:J23)","v":0},null,{"$f":"SUM(L19:L23)","v":0}]
["Récap 31/12",null,null,{"$f":"+B24-D24","v":0},null,null,null,null,"Récap 31/01",null,null,{"$f":"+J24-L24","v":0}]
[]
["FÉVRIER",null,null,null,"MARS",null,null,null,"AVRIL"]
["RECETTES",null,"DEPENSES",null,"RECETTES",null,"DEPENSES",null,"RECETTES",null,"DEPENSES"]
["Dates","Montant","Activités","Montant","Dates","Montant","Activités","Montant","Dates","Montant","Activités","Montant"]
[]
[]
[]
[]
[]
[null,{"$f":"SUM(B30:B34)","v":0},null,{"$f":"SUM(D30:D34)","v":0},null,{"$f":"SUM(F30:F34)","v":0},null,{"$f":"SUM(H30:H34)","v":0},null,{"$f":"SUM(J30:J34)","v":0},null,{"$f":"SUM(L30:L34)","v":0}]
["Récap 28/02",null,null,{"$f":"+B35-D35","v":0},"Récap 31/03",null,null,{"$f":"+F35-H35","v":0},"Récap 30/04",null,null,{"$f":"+J35-L35","v":0}]
[]
[]
["MAI",null,null,null,"JUIN",null,null,null,"Situation fin juin"]
["RECETTES",null,"DEPENSES",null,"RECETTES",null,"DEPENSES",null,null,"Recettes","Dépenses","Total"]
["Dates","Montant","Activités","Montant","Dates","Montant","Activités","Montant",{"$f":"E23","v":"Situation 31/12"},null,null,{"$f":"H23","v":55}]
[null,null,null,null,null,null,null,null,{"$f":"I25","v":"Récap 31/01"},{"$f":"J24","v":0},{"$f":"L24","v":0},{"$f":"L25","v":0}]
[null,null,null,null,null,null,null,null,{"$f":"A36","v":"Récap 28/02"},{"$f":"B35","v":0},{"$f":"D35","v":0},{"$f":"D36","v":0}]
[null,null,null,null,null,null,null,null,{"$f":"E36","v":"Récap 31/03"},{"$f":"F35","v":0},{"$f":"H35","v":0},{"$f":"H36","v":0}]
[null,null,null,null,null,null,null,null,{"$f":"I36","v":"Récap 30/04"},{"$f":"J35","v":0},{"$f":"L35","v":0},{"$f":"L36","v":0}]
[null,null,null,null,null,null,null,null,{"$f":"A48","v":"Récap 31/05"},{"$f":"B47","v":0},{"$f":"D47","v":0},{"$f":"D48","v":0}]
[null,{"$f":"SUM(B42:B46)","v":0},null,{"$f":"SUM(D42:D46)","v":0},null,{"$f":"SUM(F42:F46)","v":0},null,{"$f":"SUM(H42:H46)","v":0},{"$f":"E48","v":"Récap 30/06"},{"$f":"F47","v":0},{"$f":"H47","v":0},{"$f":"H48","v":0}]
["Récap 31/05",null,null,{"$f":"+B47-D47","v":0},"Récap 30/06",null,null,{"$f":"+F47-H47","v":0},"Situation 30/06",{"$f":"SUM(J42:J47)","v":0},{"$f":"SUM(K42:K47)","v":0},{"$f":"SUM(L41:L47)","v":55}]
[]
[null,null,null,null,null,null,null,null,null,null,null,{"$f":"F23+J48-G23-K48+B8","v":55}]
[]
[null,null,null,null,null,null,null,null,null,{"$f":"B13+F13+J13+B24+J24+B35+F35+J35+B47+F47","v":0},{"$f":"D13+H13+L13+D24+L24+D35+H35+L35+D47+H47","v":0},{"$f":"B8+J52-K52","v":55}]

{"sheet":"CLAESSENS","index":29,"n_rows":52,"n_cols":12,"rows_kept":52,"cut":false,"hidden":false,"merged":[[39,4,39,5],[39,6,39,7],[47,0,47,2],[47,4,47,6],[35,0,35,2],[35,4,35,6],[35,8,35,10],[37,9,37,10],[38,0,38,3],[38,4,38,7],[38,8,38,11],[26,0,26,3],[26,4,26,7],[26,8,26,11],[27,4,27,5],[27,6,27,7],[27,8,27,9],[27,10,27,11],[16,0,16,1],[16,2,16,3],[16,8,16,9],[16,10,16,11],[24,0,24,2],[24,8,24,10],[13,0,13,2],[13,4,13,6],[13,8,13,10],[15,0,15,3],[15,4,15,7],[15,8,15,11],[5,10,5,11],[0,9,0,10],[2,1,2,2],[2,4,2,5],[2,8,2,9],[4,0,4,3],[4,4,4,7],[4,8,4,11],[5,0,5,1],[5,2,5,3],[5,4,5,5],[5,6,5,7],[5,8,5,9]]}
[null,null,null,null,null,null,null,null,null,"Année scolaire : ",null,{"$f":"' Liste élèves'!B1","v":"2018-2019"}]
[]
["NOM : ",{"$f":"' Liste élèves'!A30","v":"CLAESSENS"},null,"PRENOM:",{"$f":"' Liste élèves'!B30","v":"Océane"},null,null,"CLASSE :",{"$f":"' Liste élèves'!C30","v":"Classe PA"}]
[]
["SEPTEMBRE",null,null,null,"OCTOBRE",null,null,null,"NOVEMBRE"]
["RECETTES",null,"DEPENSES",null,"RECETTES",null,"DEPENSES",null,"RECETTES",null,"DEPENSES"]
["Dates","Montant","Activités","Montant","Dates","Montant","Activités","Montant","Dates","Montant","Activités","Montant"]
["Report juin",37.5]
[]
[]
[]
[]
[null,{"$f":"SUM(B9:B12)","v":0},null,{"$f":"SUM(D8:D12)","v":0},null,{"$f":"SUM(F8:F12)","v":0},null,{"$f":"SUM(H8:H12)","v":0},null,{"$f":"SUM(J8:J12)","v":0},null,{"$f":"SUM(L8:L12)","v":0}]
["Récap 30/09",null,null,{"$f":"+B13-D13","v":0},"Récap 31/10",null,null,{"$f":"+F13-H13","v":0},"Récap 30/11",null,null,{"$f":"+J13-L13","v":0}]
[]
["DÉCEMBRE",null,null,null,"Situation fin décembre",null,null,null,"JANVIER"]
["RECETTES",null,"DEPENSES",null,null,"Recettes","Dépenses","Total","RECETTES",null,"DEPENSES"]
["Dates","Montant","Activités","Montant",{"$f":"A14","v":"Récap 30/09"},{"$f":"B13","v":0},{"$f":"D13","v":0},{"$f":"D14","v":0},"Dates","Montant","Activités","Montant"]
[null,null,null,null,{"$f":"E14","v":"Récap 31/10"},{"$f":"F13","v":0},{"$f":"H13","v":0},{"$f":"H14","v":0}]
[null,null,null,null,{"$f":"I14","v":"Récap 30/11"},{"$f":"J13","v":0},{"$f":"L13","v":0},{"$f":"L14","v":0}]
[null,null,null,null,{"$f":"A25","v":"Récap 31/12"},{"$f":"B24","v":0},{"$f":"D24","v":0},{"$f":"D25","v":0}]
[null,null,null,null,"Report Sept",null,null,{"$f":"B8","v":37.5}]
[null,null,null,null,"Situation 31/12",{"$f":"SUM(F18:F22)","v":0},{"$f":"SUM(G18:G22)","v":0},{"$f":"SUM(H18:H22)","v":37.5}]
[null,{"$f":"SUM(B19:B23)","v":0},null,{"$f":"SUM(D19:D23)","v":0},null,null,null,null,null,{"$f":"SUM(J19:J23)","v":0},null,{"$f":"SUM(L19:L23)","v":0}]
["Récap 31/12",null,null,{"$f":"+B24-D24","v":0},null,null,null,null,"Récap 31/01",null,null,{"$f":"+J24-L24","v":0}]
[]
["FÉVRIER",null,null,null,"MARS",null,null,null,"AVRIL"]
["RECETTES",null,"DEPENSES",null,"RECETTES",null,"DEPENSES",null,"RECETTES",null,"DEPENSES"]
["Dates","Montant","Activités","Montant","Dates","Montant","Activités","Montant","Dates","Montant","Activités","Montant"]
[]
[]
[]
[]
[]
[null,{"$f":"SUM(B30:B34)","v":0},null,{"$f":"SUM(D30:D34)","v":0},null,{"$f":"SUM(F30:F34)","v":0},null,{"$f":"SUM(H30:H34)","v":0},null,{"$f":"SUM(J30:J34)","v":0},null,{"$f":"SUM(L30:L34)","v":0}]
["Récap 28/02",null,null,{"$f":"+B35-D35","v":0},"Récap 31/03",null,null,{"$f":"+F35-H35","v":0},"Récap 30/04",null,null,{"$f":"+J35-L35","v":0}]
[]
[]
["MAI",null,null,null,"JUIN",null,null,null,"Situation fin juin"]
["RECETTES",null,"DEPENSES",null,"RECETTES",null,"DEPENSES",null,null,"Recettes","Dépenses","Total"]
["Dates","Montant","Activités","Montant","Dates","Montant","Activités","Montant",{"$f":"E23","v":"Situation 31/12"},null,null,{"$f":"H23","v":37.5}]
[null,null,null,null,null,null,null,null,{"$f":"I25","v":"Récap 31/01"},{"$f":"J24","v":0},{"$f":"L24","v":0},{"$f":"L25","v":0}]
[null,null,null,null,null,null,null,null,{"$f":"A36","v":"Récap 28/02"},{"$f":"B35","v":0},{"$f":"D35","v":0},{"$f":"D36","v":0}]
[null,null,null,null,null,null,null,null,{"$f":"E36","v":"Récap 31/03"},{"$f":"F35","v":0},{"$f":"H35","v":0},{"$f":"H36","v":0}]
[null,null,null,null,null,null,null,null,{"$f":"I36","v":"Récap 30/04"},{"$f":"J35","v":0},{"$f":"L35","v":0},{"$f":"L36","v":0}]
[null,null,null,null,null,null,null,null,{"$f":"A48","v":"Récap 31/05"},{"$f":"B47","v":0},{"$f":"D47","v":0},{"$f":"D48","v":0}]
[null,{"$f":"SUM(B42:B46)","v":0},null,{"$f":"SUM(D42:D46)","v":0},null,{"$f":"SUM(F42:F46)","v":0},null,{"$f":"SUM(H42:H46)","v":0},{"$f":"E48","v":"Récap 30/06"},{"$f":"F47","v":0},{"$f":"H47","v":0},{"$f":"H48","v":0}]
["Récap 31/05",null,null,{"$f":"+B47-D47","v":0},"Récap 30/06",null,null,{"$f":"+F47-H47","v":0},"Situation 30/06",{"$f":"SUM(J42:J47)","v":0},{"$f":"SUM(K42:K47)","v":0},{"$f":"SUM(L41:L47)","v":37.5}]
[]
[null,null,null,null,null,null,null,null,null,null,null,{"$f":"F23+J48-G23-K48+B8","v":37.5}]
[]
[null,null,null,null,null,null,null,null,null,{"$f":"B13+F13+J13+B24+J24+B35+F35+J35+B47+F47","v":0},{"$f":"D13+H13+L13+D24+L24+D35+H35+L35+D47+H47","v":0},{"$f":"B8+J52-K52","v":37.5}]

{"sheet":"COUILLARD","index":30,"n_rows":52,"n_cols":12,"rows_kept":52,"cut":false,"hidden":false,"merged":[[0,9,0,10],[2,1,2,2],[2,4,2,5],[2,8,2,9],[5,8,5,9],[5,10,5,11],[4,0,4,3],[4,4,4,7],[4,8,4,11],[5,0,5,1],[5,2,5,3],[5,4,5,5],[5,6,5,7],[24,0,24,2],[13,0,13,2],[13,4,13,6],[16,2,16,3],[37,9,37,10],[16,0,16,1],[27,6,27,7],[24,8,24,10],[38,8,38,11],[13,8,13,10],[15,0,15,3],[15,4,15,7],[15,8,15,11],[16,10,16,11],[26,0,26,3],[26,4,26,7],[26,8,26,11],[27,8,27,9],[35,0,35,2],[35,4,35,6],[35,8,35,10],[27,10,27,11],[16,8,16,9],[27,4,27,5],[47,0,47,2],[47,4,47,6],[38,0,38,3],[38,4,38,7],[39,4,39,5],[39,6,39,7]]}
[null,null,null,null,null,null,null,null,null,"Année scolaire : ",null,{"$f":"' Liste élèves'!B1","v":"2018-2019"}]
[]
["NOM : ",{"$f":"' Liste élèves'!A31","v":"COUILLARD"},null,"PRENOM:",{"$f":"' Liste élèves'!B31","v":"Valentin"},null,null,"CLASSE :",{"$f":"' Liste élèves'!C31","v":"Classe MA"}]
[]
["SEPTEMBRE",null,null,null,"OCTOBRE",null,null,null,"NOVEMBRE"]
["RECETTES",null,"DEPENSES",null,"RECETTES",null,"DEPENSES",null,"RECETTES",null,"DEPENSES"]
["Dates","Montant","Activités","Montant","Dates","Montant","Activités","Montant","Dates","Montant","Activités","Montant"]
["Report juin",37.5]
[]
[]
[]
[]
[null,{"$f":"SUM(B9:B12)","v":0},null,{"$f":"SUM(D8:D12)","v":0},null,{"$f":"SUM(F8:F12)","v":0},null,{"$f":"SUM(H8:H12)","v":0},null,{"$f":"SUM(J8:J12)","v":0},null,{"$f":"SUM(L8:L12)","v":0}]
["Récap 30/09",null,null,{"$f":"+B13-D13","v":0},"Récap 31/10",null,null,{"$f":"+F13-H13","v":0},"Récap 30/11",null,null,{"$f":"+J13-L13","v":0}]
[]
["DÉCEMBRE",null,null,null,"Situation fin décembre",null,null,null,"JANVIER"]
["RECETTES",null,"DEPENSES",null,null,"Recettes","Dépenses","Total","RECETTES",null,"DEPENSES"]
["Dates","Montant","Activités","Montant",{"$f":"A14","v":"Récap 30/09"},{"$f":"B13","v":0},{"$f":"D13","v":0},{"$f":"D14","v":0},"Dates","Montant","Activités","Montant"]
[null,null,null,null,{"$f":"E14","v":"Récap 31/10"},{"$f":"F13","v":0},{"$f":"H13","v":0},{"$f":"H14","v":0}]
[null,null,null,null,{"$f":"I14","v":"Récap 30/11"},{"$f":"J13","v":0},{"$f":"L13","v":0},{"$f":"L14","v":0}]
[null,null,null,null,{"$f":"A25","v":"Récap 31/12"},{"$f":"B24","v":0},{"$f":"D24","v":0},{"$f":"D25","v":0}]
[null,null,null,null,"Report Sept",null,null,{"$f":"B8","v":37.5}]
[null,null,null,null,"Situation 31/12",{"$f":"SUM(F18:F22)","v":0},{"$f":"SUM(G18:G22)","v":0},{"$f":"SUM(H18:H22)","v":37.5}]
[null,{"$f":"SUM(B19:B23)","v":0},null,{"$f":"SUM(D19:D23)","v":0},null,null,null,null,null,{"$f":"SUM(J19:J23)","v":0},null,{"$f":"SUM(L19:L23)","v":0}]
["Récap 31/12",null,null,{"$f":"+B24-D24","v":0},null,null,null,null,"Récap 31/01",null,null,{"$f":"+J24-L24","v":0}]
[]
["FÉVRIER",null,null,null,"MARS",null,null,null,"AVRIL"]
["RECETTES",null,"DEPENSES",null,"RECETTES",null,"DEPENSES",null,"RECETTES",null,"DEPENSES"]
["Dates","Montant","Activités","Montant","Dates","Montant","Activités","Montant","Dates","Montant","Activités","Montant"]
[]
[]
[]
[]
[]
[null,{"$f":"SUM(B30:B34)","v":0},null,{"$f":"SUM(D30:D34)","v":0},null,{"$f":"SUM(F30:F34)","v":0},null,{"$f":"SUM(H30:H34)","v":0},null,{"$f":"SUM(J30:J34)","v":0},null,{"$f":"SUM(L30:L34)","v":0}]
["Récap 28/02",null,null,{"$f":"+B35-D35","v":0},"Récap 31/03",null,null,{"$f":"+F35-H35","v":0},"Récap 30/04",null,null,{"$f":"+J35-L35","v":0}]
[]
[]
["MAI",null,null,null,"JUIN",null,null,null,"Situation fin juin"]
["RECETTES",null,"DEPENSES",null,"RECETTES",null,"DEPENSES",null,null,"Recettes","Dépenses","Total"]
["Dates","Montant","Activités","Montant","Dates","Montant","Activités","Montant",{"$f":"E23","v":"Situation 31/12"},null,null,{"$f":"H23","v":37.5}]
[null,null,null,null,null,null,null,null,{"$f":"I25","v":"Récap 31/01"},{"$f":"J24","v":0},{"$f":"L24","v":0},{"$f":"L25","v":0}]
[null,null,null,null,null,null,null,null,{"$f":"A36","v":"Récap 28/02"},{"$f":"B35","v":0},{"$f":"D35","v":0},{"$f":"D36","v":0}]
[null,null,null,null,null,null,null,null,{"$f":"E36","v":"Récap 31/03"},{"$f":"F35","v":0},{"$f":"H35","v":0},{"$f":"H36","v":0}]
[null,null,null,null,null,null,null,null,{"$f":"I36","v":"Récap 30/04"},{"$f":"J35","v":0},{"$f":"L35","v":0},{"$f":"L36","v":0}]
[null,null,null,null,null,null,null,null,{"$f":"A48","v":"Récap 31/05"},{"$f":"B47","v":0},{"$f":"D47","v":0},{"$f":"D48","v":0}]
[null,{"$f":"SUM(B42:B46)","v":0},null,{"$f":"SUM(D42:D46)","v":0},null,{"$f":"SUM(F42:F46)","v":0},null,{"$f":"SUM(H42:H46)","v":0},{"$f":"E48","v":"Récap 30/06"},{"$f":"F47","v":0},{"$f":"H47","v":0},{"$f":"H48","v":0}]
["Récap 31/05",null,null,{"$f":"+B47-D47","v":0},"Récap 30/06",null,null,{"$f":"+F47-H47","v":0},"Situation 30/06",{"$f":"SUM(J42:J47)","v":0},{"$f":"SUM(K42:K47)","v":0},{"$f":"SUM(L41:L47)","v":37.5}]
[]
[null,null,null,null,null,null,null,null,null,null,null,{"$f":"F23+J48-G23-K48+B8","v":37.5}]
[]
[null,null,null,null,null,null,null,null,null,{"$f":"B13+F13+J13+B24+J24+B35+F35+J35+B47+F47","v":0},{"$f":"D13+H13+L13+D24+L24+D35+H35+L35+D47+H47","v":0},{"$f":"B8+J52-K52","v":37.5}]

{"sheet":"CWIKLA","index":31,"n_rows":52,"n_cols":12,"rows_kept":52,"cut":false,"hidden":false,"merged":[[0,9,0,10],[2,1,2,2],[2,4,2,5],[2,8,2,9],[5,8,5,9],[5,10,5,11],[4,0,4,3],[4,4,4,7],[4,8,4,11],[5,0,5,1],[5,2,5,3],[5,4,5,5],[5,6,5,7],[24,0,24,2],[13,0,13,2],[13,4,13,6],[16,2,16,3],[37,9,37,10],[16,0,16,1],[27,6,27,7],[24,8,24,10],[38,8,38,11],[13,8,13,10],[15,0,15,3],[15,4,15,7],[15,8,15,11],[16,10,16,11],[26,0,26,3],[26,4,26,7],[26,8,26,11],[27,8,27,9],[35,0,35,2],[35,4,35,6],[35,8,35,10],[27,10,27,11],[16,8,16,9],[27,4,27,5],[47,0,47,2],[47,4,47,6],[38,0,38,3],[38,4,38,7],[39,4,39,5],[39,6,39,7]]}
[null,null,null,null,null,null,null,null,null,"Année scolaire : ",null,{"$f":"' Liste élèves'!B1","v":"2018-2019"}]
[]
["NOM : ",{"$f":"' Liste élèves'!A32","v":"CWIKLA"},null,"PRENOM:",{"$f":"' Liste élèves'!B32","v":"Morgan"},null,null,"CLASSE :",{"$f":"' Liste élèves'!C32","v":"Classe MC"}]
[]
["SEPTEMBRE",null,null,null,"OCTOBRE",null,null,null,"NOVEMBRE"]
["RECETTES",null,"DEPENSES",null,"RECETTES",null,"DEPENSES",null,"RECETTES",null,"DEPENSES"]
["Dates","Montant","Activités","Montant","Dates","Montant","Activités","Montant","Dates","Montant","Activités","Montant"]
["Report juin",61.06]
[]
[]
[]
[]
[null,{"$f":"SUM(B9:B12)","v":0},null,{"$f":"SUM(D8:D12)","v":0},null,{"$f":"SUM(F8:F12)","v":0},null,{"$f":"SUM(H8:H12)","v":0},null,{"$f":"SUM(J8:J12)","v":0},null,{"$f":"SUM(L8:L12)","v":0}]
["Récap 30/09",null,null,{"$f":"+B13-D13","v":0},"Récap 31/10",null,null,{"$f":"+F13-H13","v":0},"Récap 30/11",null,null,{"$f":"+J13-L13","v":0}]
[]
["DÉCEMBRE",null,null,null,"Situation fin décembre",null,null,null,"JANVIER"]
["RECETTES",null,"DEPENSES",null,null,"Recettes","Dépenses","Total","RECETTES",null,"DEPENSES"]
["Dates","Montant","Activités","Montant",{"$f":"A14","v":"Récap 30/09"},{"$f":"B13","v":0},{"$f":"D13","v":0},{"$f":"D14","v":0},"Dates","Montant","Activités","Montant"]
[null,null,null,null,{"$f":"E14","v":"Récap 31/10"},{"$f":"F13","v":0},{"$f":"H13","v":0},{"$f":"H14","v":0}]
[null,null,null,null,{"$f":"I14","v":"Récap 30/11"},{"$f":"J13","v":0},{"$f":"L13","v":0},{"$f":"L14","v":0}]
[null,null,null,null,{"$f":"A25","v":"Récap 31/12"},{"$f":"B24","v":0},{"$f":"D24","v":0},{"$f":"D25","v":0}]
[null,null,null,null,"Report Sept",null,null,{"$f":"B8","v":61.06}]
[null,null,null,null,"Situation 31/12",{"$f":"SUM(F18:F22)","v":0},{"$f":"SUM(G18:G22)","v":0},{"$f":"SUM(H18:H22)","v":61.06}]
[null,{"$f":"SUM(B19:B23)","v":0},null,{"$f":"SUM(D19:D23)","v":0},null,null,null,null,null,{"$f":"SUM(J19:J23)","v":0},null,{"$f":"SUM(L19:L23)","v":0}]
["Récap 31/12",null,null,{"$f":"+B24-D24","v":0},null,null,null,null,"Récap 31/01",null,null,{"$f":"+J24-L24","v":0}]
[]
["FÉVRIER",null,null,null,"MARS",null,null,null,"AVRIL"]
["RECETTES",null,"DEPENSES",null,"RECETTES",null,"DEPENSES",null,"RECETTES",null,"DEPENSES"]
["Dates","Montant","Activités","Montant","Dates","Montant","Activités","Montant","Dates","Montant","Activités","Montant"]
[]
[]
[]
[]
[]
[null,{"$f":"SUM(B30:B34)","v":0},null,{"$f":"SUM(D30:D34)","v":0},null,{"$f":"SUM(F30:F34)","v":0},null,{"$f":"SUM(H30:H34)","v":0},null,{"$f":"SUM(J30:J34)","v":0},null,{"$f":"SUM(L30:L34)","v":0}]
["Récap 28/02",null,null,{"$f":"+B35-D35","v":0},"Récap 31/03",null,null,{"$f":"+F35-H35","v":0},"Récap 30/04",null,null,{"$f":"+J35-L35","v":0}]
[]
[]
["MAI",null,null,null,"JUIN",null,null,null,"Situation fin juin"]
["RECETTES",null,"DEPENSES",null,"RECETTES",null,"DEPENSES",null,null,"Recettes","Dépenses","Total"]
["Dates","Montant","Activités","Montant","Dates","Montant","Activités","Montant",{"$f":"E23","v":"Situation 31/12"},null,null,{"$f":"H23","v":61.06}]
[null,null,null,null,null,null,null,null,{"$f":"I25","v":"Récap 31/01"},{"$f":"J24","v":0},{"$f":"L24","v":0},{"$f":"L25","v":0}]
[null,null,null,null,null,null,null,null,{"$f":"A36","v":"Récap 28/02"},{"$f":"B35","v":0},{"$f":"D35","v":0},{"$f":"D36","v":0}]
[null,null,null,null,null,null,null,null,{"$f":"E36","v":"Récap 31/03"},{"$f":"F35","v":0},{"$f":"H35","v":0},{"$f":"H36","v":0}]
[null,null,null,null,null,null,null,null,{"$f":"I36","v":"Récap 30/04"},{"$f":"J35","v":0},{"$f":"L35","v":0},{"$f":"L36","v":0}]
[null,null,null,null,null,null,null,null,{"$f":"A48","v":"Récap 31/05"},{"$f":"B47","v":0},{"$f":"D47","v":0},{"$f":"D48","v":0}]
[null,{"$f":"SUM(B42:B46)","v":0},null,{"$f":"SUM(D42:D46)","v":0},null,{"$f":"SUM(F42:F46)","v":0},null,{"$f":"SUM(H42:H46)","v":0},{"$f":"E48","v":"Récap 30/06"},{"$f":"F47","v":0},{"$f":"H47","v":0},{"$f":"H48","v":0}]
["Récap 31/05",null,null,{"$f":"+B47-D47","v":0},"Récap 30/06",null,null,{"$f":"+F47-H47","v":0},"Situation 30/06",{"$f":"SUM(J42:J47)","v":0},{"$f":"SUM(K42:K47)","v":0},{"$f":"SUM(L41:L47)","v":61.06}]
[]
[null,null,null,null,null,null,null,null,null,null,null,{"$f":"F23+J48-G23-K48+B8","v":61.06}]
[]
[null,null,null,null,null,null,null,null,null,{"$f":"B13+F13+J13+B24+J24+B35+F35+J35+B47+F47","v":0},{"$f":"D13+H13+L13+D24+L24+D35+H35+L35+D47+H47","v":0},{"$f":"B8+J52-K52","v":61.06}]

{"sheet":"DAHMANI","index":32,"n_rows":52,"n_cols":12,"rows_kept":52,"cut":false,"hidden":false,"merged":[[0,9,0,10],[2,1,2,2],[2,4,2,5],[2,8,2,9],[5,8,5,9],[5,10,5,11],[4,0,4,3],[4,4,4,7],[4,8,4,11],[5,0,5,1],[5,2,5,3],[5,4,5,5],[5,6,5,7],[24,0,24,2],[13,0,13,2],[13,4,13,6],[16,2,16,3],[37,9,37,10],[16,0,16,1],[27,6,27,7],[24,8,24,10],[38,8,38,11],[13,8,13,10],[15,0,15,3],[15,4,15,7],[15,8,15,11],[16,10,16,11],[26,0,26,3],[26,4,26,7],[26,8,26,11],[27,8,27,9],[35,0,35,2],[35,4,35,6],[35,8,35,10],[27,10,27,11],[16,8,16,9],[27,4,27,5],[47,0,47,2],[47,4,47,6],[38,0,38,3],[38,4,38,7],[39,4,39,5],[39,6,39,7]]}
[null,null,null,null,null,null,null,null,null,"Année scolaire : ",null,{"$f":"' Liste élèves'!B1","v":"2018-2019"}]
[]
["NOM : ",{"$f":"' Liste élèves'!A34","v":"DAHMANI"},null,"PRENOM:",{"$f":"' Liste élèves'!B34","v":"Abdelkrim"},null,null,"CLASSE :",{"$f":"' Liste élèves'!C34","v":"Classe 4"}]
[]
["SEPTEMBRE",null,null,null,"OCTOBRE",null,null,null,"NOVEMBRE"]
["RECETTES",null,"DEPENSES",null,"RECETTES",null,"DEPENSES",null,"RECETTES",null,"DEPENSES"]
["Dates","Montant","Activités","Montant","Dates","Montant","Activités","Montant","Dates","Montant","Activités","Montant"]
["Report juin",40.700000000000003]
[]
[]
[]
[]
[null,{"$f":"SUM(B9:B12)","v":0},null,{"$f":"SUM(D8:D12)","v":0},null,{"$f":"SUM(F8:F12)","v":0},null,{"$f":"SUM(H8:H12)","v":0},null,{"$f":"SUM(J8:J12)","v":0},null,{"$f":"SUM(L8:L12)","v":0}]
["Récap 30/09",null,null,{"$f":"+B13-D13","v":0},"Récap 31/10",null,null,{"$f":"+F13-H13","v":0},"Récap 30/11",null,null,{"$f":"+J13-L13","v":0}]
[]
["DÉCEMBRE",null,null,null,"Situation fin décembre",null,null,null,"JANVIER"]
["RECETTES",null,"DEPENSES",null,null,"Recettes","Dépenses","Total","RECETTES",null,"DEPENSES"]
["Dates","Montant","Activités","Montant",{"$f":"A14","v":"Récap 30/09"},{"$f":"B13","v":0},{"$f":"D13","v":0},{"$f":"D14","v":0},"Dates","Montant","Activités","Montant"]
[null,null,null,null,{"$f":"E14","v":"Récap 31/10"},{"$f":"F13","v":0},{"$f":"H13","v":0},{"$f":"H14","v":0}]
[null,null,null,null,{"$f":"I14","v":"Récap 30/11"},{"$f":"J13","v":0},{"$f":"L13","v":0},{"$f":"L14","v":0}]
[null,null,null,null,{"$f":"A25","v":"Récap 31/12"},{"$f":"B24","v":0},{"$f":"D24","v":0},{"$f":"D25","v":0}]
[null,null,null,null,"Report Sept",null,null,{"$f":"B8","v":40.700000000000003}]
[null,null,null,null,"Situation 31/12",{"$f":"SUM(F18:F22)","v":0},{"$f":"SUM(G18:G22)","v":0},{"$f":"SUM(H18:H22)","v":40.700000000000003}]
[null,{"$f":"SUM(B19:B23)","v":0},null,{"$f":"SUM(D19:D23)","v":0},null,null,null,null,null,{"$f":"SUM(J19:J23)","v":0},null,{"$f":"SUM(L19:L23)","v":0}]
["Récap 31/12",null,null,{"$f":"+B24-D24","v":0},null,null,null,null,"Récap 31/01",null,null,{"$f":"+J24-L24","v":0}]
[]
["FÉVRIER",null,null,null,"MARS",null,null,null,"AVRIL"]
["RECETTES",null,"DEPENSES",null,"RECETTES",null,"DEPENSES",null,"RECETTES",null,"DEPENSES"]
["Dates","Montant","Activités","Montant","Dates","Montant","Activités","Montant","Dates","Montant","Activités","Montant"]
[]
[]
[]
[]
[]
[null,{"$f":"SUM(B30:B34)","v":0},null,{"$f":"SUM(D30:D34)","v":0},null,{"$f":"SUM(F30:F34)","v":0},null,{"$f":"SUM(H30:H34)","v":0},null,{"$f":"SUM(J30:J34)","v":0},null,{"$f":"SUM(L30:L34)","v":0}]
["Récap 28/02",null,null,{"$f":"+B35-D35","v":0},"Récap 31/03",null,null,{"$f":"+F35-H35","v":0},"Récap 30/04",null,null,{"$f":"+J35-L35","v":0}]
[]
[]
["MAI",null,null,null,"JUIN",null,null,null,"Situation fin juin"]
["RECETTES",null,"DEPENSES",null,"RECETTES",null,"DEPENSES",null,null,"Recettes","Dépenses","Total"]
["Dates","Montant","Activités","Montant","Dates","Montant","Activités","Montant",{"$f":"E23","v":"Situation 31/12"},null,null,{"$f":"H23","v":40.700000000000003}]
[null,null,null,null,null,null,null,null,{"$f":"I25","v":"Récap 31/01"},{"$f":"J24","v":0},{"$f":"L24","v":0},{"$f":"L25","v":0}]
[null,null,null,null,null,null,null,null,{"$f":"A36","v":"Récap 28/02"},{"$f":"B35","v":0},{"$f":"D35","v":0},{"$f":"D36","v":0}]
[null,null,null,null,null,null,null,null,{"$f":"E36","v":"Récap 31/03"},{"$f":"F35","v":0},{"$f":"H35","v":0},{"$f":"H36","v":0}]
[null,null,null,null,null,null,null,null,{"$f":"I36","v":"Récap 30/04"},{"$f":"J35","v":0},{"$f":"L35","v":0},{"$f":"L36","v":0}]
[null,null,null,null,null,null,null,null,{"$f":"A48","v":"Récap 31/05"},{"$f":"B47","v":0},{"$f":"D47","v":0},{"$f":"D48","v":0}]
[null,{"$f":"SUM(B42:B46)","v":0},null,{"$f":"SUM(D42:D46)","v":0},null,{"$f":"SUM(F42:F46)","v":0},null,{"$f":"SUM(H42:H46)","v":0},{"$f":"E48","v":"Récap 30/06"},{"$f":"F47","v":0},{"$f":"H47","v":0},{"$f":"H48","v":0}]
["Récap 31/05",null,null,{"$f":"+B47-D47","v":0},"Récap 30/06",null,null,{"$f":"+F47-H47","v":0},"Situation 30/06",{"$f":"SUM(J42:J47)","v":0},{"$f":"SUM(K42:K47)","v":0},{"$f":"SUM(L41:L47)","v":40.700000000000003}]
[]
[null,null,null,null,null,null,null,null,null,null,null,{"$f":"F23+J48-G23-K48+B8","v":40.700000000000003}]
[]
[null,null,null,null,null,null,null,null,null,{"$f":"B13+F13+J13+B24+J24+B35+F35+J35+B47+F47","v":0},{"$f":"D13+H13+L13+D24+L24+D35+H35+L35+D47+H47","v":0},{"$f":"B8+J52-K52","v":40.700000000000003}]

{"sheet":"DAMBROSIO","index":33,"n_rows":52,"n_cols":12,"rows_kept":52,"cut":false,"hidden":false,"merged":[[0,9,0,10],[2,1,2,2],[2,4,2,5],[2,8,2,9],[5,8,5,9],[5,10,5,11],[4,0,4,3],[4,4,4,7],[4,8,4,11],[5,0,5,1],[5,2,5,3],[5,4,5,5],[5,6,5,7],[24,0,24,2],[13,0,13,2],[13,4,13,6],[16,2,16,3],[37,9,37,10],[16,0,16,1],[27,6,27,7],[24,8,24,10],[38,8,38,11],[13,8,13,10],[15,0,15,3],[15,4,15,7],[15,8,15,11],[16,10,16,11],[26,0,26,3],[26,4,26,7],[26,8,26,11],[27,8,27,9],[35,0,35,2],[35,4,35,6],[35,8,35,10],[27,10,27,11],[16,8,16,9],[27,4,27,5],[47,0,47,2],[47,4,47,6],[38,0,38,3],[38,4,38,7],[39,4,39,5],[39,6,39,7]]}
[null,null,null,null,null,null,null,null,null,"Année scolaire : ",null,{"$f":"' Liste élèves'!B1","v":"2018-2019"}]
[]
["NOM : ",{"$f":"' Liste élèves'!A33","v":"DAMBROSIO"},null,"PRENOM:",{"$f":"' Liste élèves'!B33","v":"Nadine"},null,null,"CLASSE :",{"$f":"' Liste élèves'!C33","v":"Classe MC"}]
[]
["SEPTEMBRE",null,null,null,"OCTOBRE",null,null,null,"NOVEMBRE"]
["RECETTES",null,"DEPENSES",null,"RECETTES",null,"DEPENSES",null,"RECETTES",null,"DEPENSES"]
["Dates","Montant","Activités","Montant","Dates","Montant","Activités","Montant","Dates","Montant","Activités","Montant"]
["Report juin",128.5]
[]
[]
[]
[]
[null,{"$f":"SUM(B9:B12)","v":0},null,{"$f":"SUM(D8:D12)","v":0},null,{"$f":"SUM(F8:F12)","v":0},null,{"$f":"SUM(H8:H12)","v":0},null,{"$f":"SUM(J8:J12)","v":0},null,{"$f":"SUM(L8:L12)","v":0}]
["Récap 30/09",null,null,{"$f":"+B13-D13","v":0},"Récap 31/10",null,null,{"$f":"+F13-H13","v":0},"Récap 30/11",null,null,{"$f":"+J13-L13","v":0}]
[]
["DÉCEMBRE",null,null,null,"Situation fin décembre",null,null,null,"JANVIER"]
["RECETTES",null,"DEPENSES",null,null,"Recettes","Dépenses","Total","RECETTES",null,"DEPENSES"]
["Dates","Montant","Activités","Montant",{"$f":"A14","v":"Récap 30/09"},{"$f":"B13","v":0},{"$f":"D13","v":0},{"$f":"D14","v":0},"Dates","Montant","Activités","Montant"]
[null,null,null,null,{"$f":"E14","v":"Récap 31/10"},{"$f":"F13","v":0},{"$f":"H13","v":0},{"$f":"H14","v":0}]
[null,null,null,null,{"$f":"I14","v":"Récap 30/11"},{"$f":"J13","v":0},{"$f":"L13","v":0},{"$f":"L14","v":0}]
[null,null,null,null,{"$f":"A25","v":"Récap 31/12"},{"$f":"B24","v":0},{"$f":"D24","v":0},{"$f":"D25","v":0}]
[null,null,null,null,"Report Sept",null,null,{"$f":"B8","v":128.5}]
[null,null,null,null,"Situation 31/12",{"$f":"SUM(F18:F22)","v":0},{"$f":"SUM(G18:G22)","v":0},{"$f":"SUM(H18:H22)","v":128.5}]
[null,{"$f":"SUM(B19:B23)","v":0},null,{"$f":"SUM(D19:D23)","v":0},null,null,null,null,null,{"$f":"SUM(J19:J23)","v":0},null,{"$f":"SUM(L19:L23)","v":0}]
["Récap 31/12",null,null,{"$f":"+B24-D24","v":0},null,null,null,null,"Récap 31/01",null,null,{"$f":"+J24-L24","v":0}]
[]
["FÉVRIER",null,null,null,"MARS",null,null,null,"AVRIL"]
["RECETTES",null,"DEPENSES",null,"RECETTES",null,"DEPENSES",null,"RECETTES",null,"DEPENSES"]
["Dates","Montant","Activités","Montant","Dates","Montant","Activités","Montant","Dates","Montant","Activités","Montant"]
[]
[]
[]
[]
[]
[null,{"$f":"SUM(B30:B34)","v":0},null,{"$f":"SUM(D30:D34)","v":0},null,{"$f":"SUM(F30:F34)","v":0},null,{"$f":"SUM(H30:H34)","v":0},null,{"$f":"SUM(J30:J34)","v":0},null,{"$f":"SUM(L30:L34)","v":0}]
["Récap 28/02",null,null,{"$f":"+B35-D35","v":0},"Récap 31/03",null,null,{"$f":"+F35-H35","v":0},"Récap 30/04",null,null,{"$f":"+J35-L35","v":0}]
[]
[]
["MAI",null,null,null,"JUIN",null,null,null,"Situation fin juin"]
["RECETTES",null,"DEPENSES",null,"RECETTES",null,"DEPENSES",null,null,"Recettes","Dépenses","Total"]
["Dates","Montant","Activités","Montant","Dates","Montant","Activités","Montant",{"$f":"E23","v":"Situation 31/12"},null,null,{"$f":"H23","v":128.5}]
[null,null,null,null,null,null,null,null,{"$f":"I25","v":"Récap 31/01"},{"$f":"J24","v":0},{"$f":"L24","v":0},{"$f":"L25","v":0}]
[null,null,null,null,null,null,null,null,{"$f":"A36","v":"Récap 28/02"},{"$f":"B35","v":0},{"$f":"D35","v":0},{"$f":"D36","v":0}]
[null,null,null,null,null,null,null,null,{"$f":"E36","v":"Récap 31/03"},{"$f":"F35","v":0},{"$f":"H35","v":0},{"$f":"H36","v":0}]
[null,null,null,null,null,null,null,null,{"$f":"I36","v":"Récap 30/04"},{"$f":"J35","v":0},{"$f":"L35","v":0},{"$f":"L36","v":0}]
[null,null,null,null,null,null,null,null,{"$f":"A48","v":"Récap 31/05"},{"$f":"B47","v":0},{"$f":"D47","v":0},{"$f":"D48","v":0}]
[null,{"$f":"SUM(B42:B46)","v":0},null,{"$f":"SUM(D42:D46)","v":0},null,{"$f":"SUM(F42:F46)","v":0},null,{"$f":"SUM(H42:H46)","v":0},{"$f":"E48","v":"Récap 30/06"},{"$f":"F47","v":0},{"$f":"H47","v":0},{"$f":"H48","v":0}]
["Récap 31/05",null,null,{"$f":"+B47-D47","v":0},"Récap 30/06",null,null,{"$f":"+F47-H47","v":0},"Situation 30/06",{"$f":"SUM(J42:J47)","v":0},{"$f":"SUM(K42:K47)","v":0},{"$f":"SUM(L41:L47)","v":128.5}]
[]
[null,null,null,null,null,null,null,null,null,null,null,{"$f":"F23+J48-G23-K48+B8","v":128.5}]
[]
[null,null,null,null,null,null,null,null,null,{"$f":"B13+F13+J13+B24+J24+B35+F35+J35+B47+F47","v":0},{"$f":"D13+H13+L13+D24+L24+D35+H35+L35+D47+H47","v":0},{"$f":"B8+J52-K52","v":128.5}]

{"sheet":"DAMIEN","index":34,"n_rows":52,"n_cols":12,"rows_kept":52,"cut":false,"hidden":false,"merged":[[0,9,0,10],[2,1,2,2],[2,4,2,5],[2,8,2,9],[5,8,5,9],[5,10,5,11],[4,0,4,3],[4,4,4,7],[4,8,4,11],[5,0,5,1],[5,2,5,3],[5,4,5,5],[5,6,5,7],[24,0,24,2],[13,0,13,2],[13,4,13,6],[16,2,16,3],[37,9,37,10],[16,0,16,1],[27,6,27,7],[24,8,24,10],[38,8,38,11],[13,8,13,10],[15,0,15,3],[15,4,15,7],[15,8,15,11],[16,10,16,11],[26,0,26,3],[26,4,26,7],[26,8,26,11],[27,8,27,9],[35,0,35,2],[35,4,35,6],[35,8,35,10],[27,10,27,11],[16,8,16,9],[27,4,27,5],[47,0,47,2],[47,4,47,6],[38,0,38,3],[38,4,38,7],[39,4,39,5],[39,6,39,7]]}
[null,null,null,null,null,null,null,null,null,"Année scolaire : ",null,{"$f":"' Liste élèves'!B1","v":"2018-2019"}]
[]
["NOM : ",{"$f":"' Liste élèves'!A35","v":"DAMIEN"},null,"PRENOM:",{"$f":"' Liste élèves'!B35","v":"Hélène"},null,null,"CLASSE :",{"$f":"' Liste élèves'!C35","v":"Classe MC"}]
[]
["SEPTEMBRE",null,null,null,"OCTOBRE",null,null,null,"NOVEMBRE"]
["RECETTES",null,"DEPENSES",null,"RECETTES",null,"DEPENSES",null,"RECETTES",null,"DEPENSES"]
["Dates","Montant","Activités","Montant","Dates","Montant","Activités","Montant","Dates","Montant","Activités","Montant"]
["Report juin",43.7]
[]
[]
[]
[]
[null,{"$f":"SUM(B9:B12)","v":0},null,{"$f":"SUM(D8:D12)","v":0},null,{"$f":"SUM(F8:F12)","v":0},null,{"$f":"SUM(H8:H12)","v":0},null,{"$f":"SUM(J8:J12)","v":0},null,{"$f":"SUM(L8:L12)","v":0}]
["Récap 30/09",null,null,{"$f":"+B13-D13","v":0},"Récap 31/10",null,null,{"$f":"+F13-H13","v":0},"Récap 30/11",null,null,{"$f":"+J13-L13","v":0}]
[]
["DÉCEMBRE",null,null,null,"Situation fin décembre",null,null,null,"JANVIER"]
["RECETTES",null,"DEPENSES",null,null,"Recettes","Dépenses","Total","RECETTES",null,"DEPENSES"]
["Dates","Montant","Activités","Montant",{"$f":"A14","v":"Récap 30/09"},{"$f":"B13","v":0},{"$f":"D13","v":0},{"$f":"D14","v":0},"Dates","Montant","Activités","Montant"]
[null,null,null,null,{"$f":"E14","v":"Récap 31/10"},{"$f":"F13","v":0},{"$f":"H13","v":0},{"$f":"H14","v":0}]
[null,null,null,null,{"$f":"I14","v":"Récap 30/11"},{"$f":"J13","v":0},{"$f":"L13","v":0},{"$f":"L14","v":0}]
[null,null,null,null,{"$f":"A25","v":"Récap 31/12"},{"$f":"B24","v":0},{"$f":"D24","v":0},{"$f":"D25","v":0}]
[null,null,null,null,"Report Sept",null,null,{"$f":"B8","v":43.7}]
[null,null,null,null,"Situation 31/12",{"$f":"SUM(F18:F22)","v":0},{"$f":"SUM(G18:G22)","v":0},{"$f":"SUM(H18:H22)","v":43.7}]
[null,{"$f":"SUM(B19:B23)","v":0},null,{"$f":"SUM(D19:D23)","v":0},null,null,null,null,null,{"$f":"SUM(J19:J23)","v":0},null,{"$f":"SUM(L19:L23)","v":0}]
["Récap 31/12",null,null,{"$f":"+B24-D24","v":0},null,null,null,null,"Récap 31/01",null,null,{"$f":"+J24-L24","v":0}]
[]
["FÉVRIER",null,null,null,"MARS",null,null,null,"AVRIL"]
["RECETTES",null,"DEPENSES",null,"RECETTES",null,"DEPENSES",null,"RECETTES",null,"DEPENSES"]
["Dates","Montant","Activités","Montant","Dates","Montant","Activités","Montant","Dates","Montant","Activités","Montant"]
[]
[]
[]
[]
[]
[null,{"$f":"SUM(B30:B34)","v":0},null,{"$f":"SUM(D30:D34)","v":0},null,{"$f":"SUM(F30:F34)","v":0},null,{"$f":"SUM(H30:H34)","v":0},null,{"$f":"SUM(J30:J34)","v":0},null,{"$f":"SUM(L30:L34)","v":0}]
["Récap 28/02",null,null,{"$f":"+B35-D35","v":0},"Récap 31/03",null,null,{"$f":"+F35-H35","v":0},"Récap 30/04",null,null,{"$f":"+J35-L35","v":0}]
[]
[]
["MAI",null,null,null,"JUIN",null,null,null,"Situation fin juin"]
["RECETTES",null,"DEPENSES",null,"RECETTES",null,"DEPENSES",null,null,"Recettes","Dépenses","Total"]
["Dates","Montant","Activités","Montant","Dates","Montant","Activités","Montant",{"$f":"E23","v":"Situation 31/12"},null,null,{"$f":"H23","v":43.7}]
[null,null,null,null,null,null,null,null,{"$f":"I25","v":"Récap 31/01"},{"$f":"J24","v":0},{"$f":"L24","v":0},{"$f":"L25","v":0}]
[null,null,null,null,null,null,null,null,{"$f":"A36","v":"Récap 28/02"},{"$f":"B35","v":0},{"$f":"D35","v":0},{"$f":"D36","v":0}]
[null,null,null,null,null,null,null,null,{"$f":"E36","v":"Récap 31/03"},{"$f":"F35","v":0},{"$f":"H35","v":0},{"$f":"H36","v":0}]
[null,null,null,null,null,null,null,null,{"$f":"I36","v":"Récap 30/04"},{"$f":"J35","v":0},{"$f":"L35","v":0},{"$f":"L36","v":0}]
[null,null,null,null,null,null,null,null,{"$f":"A48","v":"Récap 31/05"},{"$f":"B47","v":0},{"$f":"D47","v":0},{"$f":"D48","v":0}]
[null,{"$f":"SUM(B42:B46)","v":0},null,{"$f":"SUM(D42:D46)","v":0},null,{"$f":"SUM(F42:F46)","v":0},null,{"$f":"SUM(H42:H46)","v":0},{"$f":"E48","v":"Récap 30/06"},{"$f":"F47","v":0},{"$f":"H47","v":0},{"$f":"H48","v":0}]
["Récap 31/05",null,null,{"$f":"+B47-D47","v":0},"Récap 30/06",null,null,{"$f":"+F47-H47","v":0},"Situation 30/06",{"$f":"SUM(J42:J47)","v":0},{"$f":"SUM(K42:K47)","v":0},{"$f":"SUM(L41:L47)","v":43.7}]
[]
[null,null,null,null,null,null,null,null,null,null,null,{"$f":"F23+J48-G23-K48+B8","v":43.7}]
[]
[null,null,null,null,null,null,null,null,null,{"$f":"B13+F13+J13+B24+J24+B35+F35+J35+B47+F47","v":0},{"$f":"D13+H13+L13+D24+L24+D35+H35+L35+D47+H47","v":0},{"$f":"B8+J52-K52","v":43.7}]

{"sheet":"DASPREMONT","index":35,"n_rows":52,"n_cols":12,"rows_kept":52,"cut":false,"hidden":false,"merged":[[0,9,0,10],[2,1,2,2],[2,4,2,5],[2,8,2,9],[5,8,5,9],[5,10,5,11],[4,0,4,3],[4,4,4,7],[4,8,4,11],[5,0,5,1],[5,2,5,3],[5,4,5,5],[5,6,5,7],[24,0,24,2],[13,0,13,2],[13,4,13,6],[16,2,16,3],[37,9,37,10],[16,0,16,1],[27,6,27,7],[24,8,24,10],[38,8,38,11],[13,8,13,10],[15,0,15,3],[15,4,15,7],[15,8,15,11],[16,10,16,11],[26,0,26,3],[26,4,26,7],[26,8,26,11],[27,8,27,9],[35,0,35,2],[35,4,35,6],[35,8,35,10],[27,10,27,11],[16,8,16,9],[27,4,27,5],[47,0,47,2],[47,4,47,6],[38,0,38,3],[38,4,38,7],[39,4,39,5],[39,6,39,7]]}
[null,null,null,null,null,null,null,null,null,"Année scolaire : ",null,{"$f":"' Liste élèves'!B1","v":"2018-2019"}]
[]
["NOM : ",{"$f":"' Liste élèves'!A36","v":"DASPREMONT"},null,"PRENOM:",{"$f":"' Liste élèves'!B36","v":"Kimberley"},null,null,"CLASSE :",{"$f":"' Liste élèves'!C36","v":"Classe MB"}]
[]
["SEPTEMBRE",null,null,null,"OCTOBRE",null,null,null,"NOVEMBRE"]
["RECETTES",null,"DEPENSES",null,"RECETTES",null,"DEPENSES",null,"RECETTES",null,"DEPENSES"]
["Dates","Montant","Activités","Montant","Dates","Montant","Activités","Montant","Dates","Montant","Activités","Montant"]
["Report juin",36]
[]
[]
[]
[]
[null,{"$f":"SUM(B9:B12)","v":0},null,{"$f":"SUM(D8:D12)","v":0},null,{"$f":"SUM(F8:F12)","v":0},null,{"$f":"SUM(H8:H12)","v":0},null,{"$f":"SUM(J8:J12)","v":0},null,{"$f":"SUM(L8:L12)","v":0}]
["Récap 30/09",null,null,{"$f":"+B13-D13","v":0},"Récap 31/10",null,null,{"$f":"+F13-H13","v":0},"Récap 30/11",null,null,{"$f":"+J13-L13","v":0}]
[]
["DÉCEMBRE",null,null,null,"Situation fin décembre",null,null,null,"JANVIER"]
["RECETTES",null,"DEPENSES",null,null,"Recettes","Dépenses","Total","RECETTES",null,"DEPENSES"]
["Dates","Montant","Activités","Montant",{"$f":"A14","v":"Récap 30/09"},{"$f":"B13","v":0},{"$f":"D13","v":0},{"$f":"D14","v":0},"Dates","Montant","Activités","Montant"]
[null,null,null,null,{"$f":"E14","v":"Récap 31/10"},{"$f":"F13","v":0},{"$f":"H13","v":0},{"$f":"H14","v":0}]
[null,null,null,null,{"$f":"I14","v":"Récap 30/11"},{"$f":"J13","v":0},{"$f":"L13","v":0},{"$f":"L14","v":0}]
[null,null,null,null,{"$f":"A25","v":"Récap 31/12"},{"$f":"B24","v":0},{"$f":"D24","v":0},{"$f":"D25","v":0}]
[null,null,null,null,"Report Sept",null,null,{"$f":"B8","v":36}]
[null,null,null,null,"Situation 31/12",{"$f":"SUM(F18:F22)","v":0},{"$f":"SUM(G18:G22)","v":0},{"$f":"SUM(H18:H22)","v":36}]
[null,{"$f":"SUM(B19:B23)","v":0},null,{"$f":"SUM(D19:D23)","v":0},null,null,null,null,null,{"$f":"SUM(J19:J23)","v":0},null,{"$f":"SUM(L19:L23)","v":0}]
["Récap 31/12",null,null,{"$f":"+B24-D24","v":0},null,null,null,null,"Récap 31/01",null,null,{"$f":"+J24-L24","v":0}]
[]
["FÉVRIER",null,null,null,"MARS",null,null,null,"AVRIL"]
["RECETTES",null,"DEPENSES",null,"RECETTES",null,"DEPENSES",null,"RECETTES",null,"DEPENSES"]
["Dates","Montant","Activités","Montant","Dates","Montant","Activités","Montant","Dates","Montant","Activités","Montant"]
[]
[]
[]
[]
[]
[null,{"$f":"SUM(B30:B34)","v":0},null,{"$f":"SUM(D30:D34)","v":0},null,{"$f":"SUM(F30:F34)","v":0},null,{"$f":"SUM(H30:H34)","v":0},null,{"$f":"SUM(J30:J34)","v":0},null,{"$f":"SUM(L30:L34)","v":0}]
["Récap 28/02",null,null,{"$f":"+B35-D35","v":0},"Récap 31/03",null,null,{"$f":"+F35-H35","v":0},"Récap 30/04",null,null,{"$f":"+J35-L35","v":0}]
[]
[]
["MAI",null,null,null,"JUIN",null,null,null,"Situation fin juin"]
["RECETTES",null,"DEPENSES",null,"RECETTES",null,"DEPENSES",null,null,"Recettes","Dépenses","Total"]
["Dates","Montant","Activités","Montant","Dates","Montant","Activités","Montant",{"$f":"E23","v":"Situation 31/12"},null,null,{"$f":"H23","v":36}]
[null,null,null,null,null,null,null,null,{"$f":"I25","v":"Récap 31/01"},{"$f":"J24","v":0},{"$f":"L24","v":0},{"$f":"L25","v":0}]
[null,null,null,null,null,null,null,null,{"$f":"A36","v":"Récap 28/02"},{"$f":"B35","v":0},{"$f":"D35","v":0},{"$f":"D36","v":0}]
[null,null,null,null,null,null,null,null,{"$f":"E36","v":"Récap 31/03"},{"$f":"F35","v":0},{"$f":"H35","v":0},{"$f":"H36","v":0}]
[null,null,null,null,null,null,null,null,{"$f":"I36","v":"Récap 30/04"},{"$f":"J35","v":0},{"$f":"L35","v":0},{"$f":"L36","v":0}]
[null,null,null,null,null,null,null,null,{"$f":"A48","v":"Récap 31/05"},{"$f":"B47","v":0},{"$f":"D47","v":0},{"$f":"D48","v":0}]
[null,{"$f":"SUM(B42:B46)","v":0},null,{"$f":"SUM(D42:D46)","v":0},null,{"$f":"SUM(F42:F46)","v":0},null,{"$f":"SUM(H42:H46)","v":0},{"$f":"E48","v":"Récap 30/06"},{"$f":"F47","v":0},{"$f":"H47","v":0},{"$f":"H48","v":0}]
["Récap 31/05",null,null,{"$f":"+B47-D47","v":0},"Récap 30/06",null,null,{"$f":"+F47-H47","v":0},"Situation 30/06",{"$f":"SUM(J42:J47)","v":0},{"$f":"SUM(K42:K47)","v":0},{"$f":"SUM(L41:L47)","v":36}]
[]
[null,null,null,null,null,null,null,null,null,null,null,{"$f":"F23+J48-G23-K48+B8","v":36}]
[]
[null,null,null,null,null,null,null,null,null,{"$f":"B13+F13+J13+B24+J24+B35+F35+J35+B47+F47","v":0},{"$f":"D13+H13+L13+D24+L24+D35+H35+L35+D47+H47","v":0},{"$f":"B8+J52-K52","v":36}]

{"sheet":"DAU","index":36,"n_rows":52,"n_cols":12,"rows_kept":52,"cut":false,"hidden":false,"merged":[[0,9,0,10],[2,1,2,2],[2,4,2,5],[2,8,2,9],[5,8,5,9],[5,10,5,11],[4,0,4,3],[4,4,4,7],[4,8,4,11],[5,0,5,1],[5,2,5,3],[5,4,5,5],[5,6,5,7],[24,0,24,2],[13,0,13,2],[13,4,13,6],[16,2,16,3],[37,9,37,10],[16,0,16,1],[27,6,27,7],[24,8,24,10],[38,8,38,11],[13,8,13,10],[15,0,15,3],[15,4,15,7],[15,8,15,11],[16,10,16,11],[26,0,26,3],[26,4,26,7],[26,8,26,11],[27,8,27,9],[35,0,35,2],[35,4,35,6],[35,8,35,10],[27,10,27,11],[16,8,16,9],[27,4,27,5],[47,0,47,2],[47,4,47,6],[38,0,38,3],[38,4,38,7],[39,4,39,5],[39,6,39,7]]}
[null,null,null,null,null,null,null,null,null,"Année scolaire : ",null,{"$f":"' Liste élèves'!B1","v":"2018-2019"}]
[]
["NOM : ",{"$f":"' Liste élèves'!A37","v":"DAU"},null,"PRENOM:",{"$f":"' Liste élèves'!B37","v":"Qani"},null,null,"CLASSE :",{"$f":"' Liste élèves'!C37","v":"Classe 2"}]
[]
["SEPTEMBRE",null,null,null,"OCTOBRE",null,null,null,"NOVEMBRE"]
["RECETTES",null,"DEPENSES",null,"RECETTES",null,"DEPENSES",null,"RECETTES",null,"DEPENSES"]
["Dates","Montant","Activités","Montant","Dates","Montant","Activités","Montant","Dates","Montant","Activités","Montant"]
["Report juin"]
[]
[]
[]
[]
[null,{"$f":"SUM(B9:B12)","v":0},null,{"$f":"SUM(D8:D12)","v":0},null,{"$f":"SUM(F8:F12)","v":0},null,{"$f":"SUM(H8:H12)","v":0},null,{"$f":"SUM(J8:J12)","v":0},null,{"$f":"SUM(L8:L12)","v":0}]
["Récap 30/09",null,null,{"$f":"+B13-D13","v":0},"Récap 31/10",null,null,{"$f":"+F13-H13","v":0},"Récap 30/11",null,null,{"$f":"+J13-L13","v":0}]
[]
["DÉCEMBRE",null,null,null,"Situation fin décembre",null,null,null,"JANVIER"]
["RECETTES",null,"DEPENSES",null,null,"Recettes","Dépenses","Total","RECETTES",null,"DEPENSES"]
["Dates","Montant","Activités","Montant",{"$f":"A14","v":"Récap 30/09"},{"$f":"B13","v":0},{"$f":"D13","v":0},{"$f":"D14","v":0},"Dates","Montant","Activités","Montant"]
[null,null,null,null,{"$f":"E14","v":"Récap 31/10"},{"$f":"F13","v":0},{"$f":"H13","v":0},{"$f":"H14","v":0}]
[null,null,null,null,{"$f":"I14","v":"Récap 30/11"},{"$f":"J13","v":0},{"$f":"L13","v":0},{"$f":"L14","v":0}]
[null,null,null,null,{"$f":"A25","v":"Récap 31/12"},{"$f":"B24","v":0},{"$f":"D24","v":0},{"$f":"D25","v":0}]
[null,null,null,null,"Report Sept",null,null,{"$f":"B8","v":0}]
[null,null,null,null,"Situation 31/12",{"$f":"SUM(F18:F22)","v":0},{"$f":"SUM(G18:G22)","v":0},{"$f":"SUM(H18:H22)","v":0}]
[null,{"$f":"SUM(B19:B23)","v":0},null,{"$f":"SUM(D19:D23)","v":0},null,null,null,null,null,{"$f":"SUM(J19:J23)","v":0},null,{"$f":"SUM(L19:L23)","v":0}]
["Récap 31/12",null,null,{"$f":"+B24-D24","v":0},null,null,null,null,"Récap 31/01",null,null,{"$f":"+J24-L24","v":0}]
[]
["FÉVRIER",null,null,null,"MARS",null,null,null,"AVRIL"]
["RECETTES",null,"DEPENSES",null,"RECETTES",null,"DEPENSES",null,"RECETTES",null,"DEPENSES"]
["Dates","Montant","Activités","Montant","Dates","Montant","Activités","Montant","Dates","Montant","Activités","Montant"]
[]
[]
[]
[]
[]
[null,{"$f":"SUM(B30:B34)","v":0},null,{"$f":"SUM(D30:D34)","v":0},null,{"$f":"SUM(F30:F34)","v":0},null,{"$f":"SUM(H30:H34)","v":0},null,{"$f":"SUM(J30:J34)","v":0},null,{"$f":"SUM(L30:L34)","v":0}]
["Récap 28/02",null,null,{"$f":"+B35-D35","v":0},"Récap 31/03",null,null,{"$f":"+F35-H35","v":0},"Récap 30/04",null,null,{"$f":"+J35-L35","v":0}]
[]
[]
["MAI",null,null,null,"JUIN",null,null,null,"Situation fin juin"]
["RECETTES",null,"DEPENSES",null,"RECETTES",null,"DEPENSES",null,null,"Recettes","Dépenses","Total"]
["Dates","Montant","Activités","Montant","Dates","Montant","Activités","Montant",{"$f":"E23","v":"Situation 31/12"},null,null,{"$f":"H23","v":0}]
[null,null,null,null,null,null,null,null,{"$f":"I25","v":"Récap 31/01"},{"$f":"J24","v":0},{"$f":"L24","v":0},{"$f":"L25","v":0}]
[null,null,null,null,null,null,null,null,{"$f":"A36","v":"Récap 28/02"},{"$f":"B35","v":0},{"$f":"D35","v":0},{"$f":"D36","v":0}]
[null,null,null,null,null,null,null,null,{"$f":"E36","v":"Récap 31/03"},{"$f":"F35","v":0},{"$f":"H35","v":0},{"$f":"H36","v":0}]
[null,null,null,null,null,null,null,null,{"$f":"I36","v":"Récap 30/04"},{"$f":"J35","v":0},{"$f":"L35","v":0},{"$f":"L36","v":0}]
[null,null,null,null,null,null,null,null,{"$f":"A48","v":"Récap 31/05"},{"$f":"B47","v":0},{"$f":"D47","v":0},{"$f":"D48","v":0}]
[null,{"$f":"SUM(B42:B46)","v":0},null,{"$f":"SUM(D42:D46)","v":0},null,{"$f":"SUM(F42:F46)","v":0},null,{"$f":"SUM(H42:H46)","v":0},{"$f":"E48","v":"Récap 30/06"},{"$f":"F47","v":0},{"$f":"H47","v":0},{"$f":"H48","v":0}]
["Récap 31/05",null,null,{"$f":"+B47-D47","v":0},"Récap 30/06",null,null,{"$f":"+F47-H47","v":0},"Situation 30/06",{"$f":"SUM(J42:J47)","v":0},{"$f":"SUM(K42:K47)","v":0},{"$f":"SUM(L41:L47)","v":0}]
[]
[null,null,null,null,null,null,null,null,null,null,null,{"$f":"F23+J48-G23-K48+B8","v":0}]
[]
[null,null,null,null,null,null,null,null,null,{"$f":"B13+F13+J13+B24+J24+B35+F35+J35+B47+F47","v":0},{"$f":"D13+H13+L13+D24+L24+D35+H35+L35+D47+H47","v":0},{"$f":"B8+J52-K52","v":0}]

{"sheet":"DEBESSELLE","index":37,"n_rows":52,"n_cols":12,"rows_kept":52,"cut":false,"hidden":false,"merged":[[0,9,0,10],[2,1,2,2],[2,4,2,5],[2,8,2,9],[5,8,5,9],[5,10,5,11],[4,0,4,3],[4,4,4,7],[4,8,4,11],[5,0,5,1],[5,2,5,3],[5,4,5,5],[5,6,5,7],[24,0,24,2],[13,0,13,2],[13,4,13,6],[16,2,16,3],[37,9,37,10],[16,0,16,1],[27,6,27,7],[24,8,24,10],[38,8,38,11],[13,8,13,10],[15,0,15,3],[15,4,15,7],[15,8,15,11],[16,10,16,11],[26,0,26,3],[26,4,26,7],[26,8,26,11],[27,8,27,9],[35,0,35,2],[35,4,35,6],[35,8,35,10],[27,10,27,11],[16,8,16,9],[27,4,27,5],[47,0,47,2],[47,4,47,6],[38,0,38,3],[38,4,38,7],[39,4,39,5],[39,6,39,7]]}
[null,null,null,null,null,null,null,null,null,"Année scolaire : ",null,{"$f":"' Liste élèves'!B1","v":"2018-2019"}]
[]
["NOM : ",{"$f":"' Liste élèves'!A43","v":"DEBESSELLE"},null,"PRENOM:",{"$f":"' Liste élèves'!B43","v":"Manon"},null,null,"CLASSE :",{"$f":"' Liste élèves'!C43","v":"Classe MB"}]
[]
["SEPTEMBRE",null,null,null,"OCTOBRE",null,null,null,"NOVEMBRE"]
["RECETTES",null,"DEPENSES",null,"RECETTES",null,"DEPENSES",null,"RECETTES",null,"DEPENSES"]
["Dates","Montant","Activités","Montant","Dates","Montant","Activités","Montant","Dates","Montant","Activités","Montant"]
["Report juin",-2.5]
[]
[]
[]
[]
[null,{"$f":"SUM(B9:B12)","v":0},null,{"$f":"SUM(D8:D12)","v":0},null,{"$f":"SUM(F8:F12)","v":0},null,{"$f":"SUM(H8:H12)","v":0},null,{"$f":"SUM(J8:J12)","v":0},null,{"$f":"SUM(L8:L12)","v":0}]
["Récap 30/09",null,null,{"$f":"+B13-D13","v":0},"Récap 31/10",null,null,{"$f":"+F13-H13","v":0},"Récap 30/11",null,null,{"$f":"+J13-L13","v":0}]
[]
["DÉCEMBRE",null,null,null,"Situation fin décembre",null,null,null,"JANVIER"]
["RECETTES",null,"DEPENSES",null,null,"Recettes","Dépenses","Total","RECETTES",null,"DEPENSES"]
["Dates","Montant","Activités","Montant",{"$f":"A14","v":"Récap 30/09"},{"$f":"B13","v":0},{"$f":"D13","v":0},{"$f":"D14","v":0},"Dates","Montant","Activités","Montant"]
[null,null,null,null,{"$f":"E14","v":"Récap 31/10"},{"$f":"F13","v":0},{"$f":"H13","v":0},{"$f":"H14","v":0}]
[null,null,null,null,{"$f":"I14","v":"Récap 30/11"},{"$f":"J13","v":0},{"$f":"L13","v":0},{"$f":"L14","v":0}]
[null,null,null,null,{"$f":"A25","v":"Récap 31/12"},{"$f":"B24","v":0},{"$f":"D24","v":0},{"$f":"D25","v":0}]
[null,null,null,null,"Report Sept",null,null,{"$f":"B8","v":-2.5}]
[null,null,null,null,"Situation 31/12",{"$f":"SUM(F18:F22)","v":0},{"$f":"SUM(G18:G22)","v":0},{"$f":"SUM(H18:H22)","v":-2.5}]
[null,{"$f":"SUM(B19:B23)","v":0},null,{"$f":"SUM(D19:D23)","v":0},null,null,null,null,null,{"$f":"SUM(J19:J23)","v":0},null,{"$f":"SUM(L19:L23)","v":0}]
["Récap 31/12",null,null,{"$f":"+B24-D24","v":0},null,null,null,null,"Récap 31/01",null,null,{"$f":"+J24-L24","v":0}]
[]
["FÉVRIER",null,null,null,"MARS",null,null,null,"AVRIL"]
["RECETTES",null,"DEPENSES",null,"RECETTES",null,"DEPENSES",null,"RECETTES",null,"DEPENSES"]
["Dates","Montant","Activités","Montant","Dates","Montant","Activités","Montant","Dates","Montant","Activités","Montant"]
[]
[]
[]
[]
[]
[null,{"$f":"SUM(B30:B34)","v":0},null,{"$f":"SUM(D30:D34)","v":0},null,{"$f":"SUM(F30:F34)","v":0},null,{"$f":"SUM(H30:H34)","v":0},null,{"$f":"SUM(J30:J34)","v":0},null,{"$f":"SUM(L30:L34)","v":0}]
["Récap 28/02",null,null,{"$f":"+B35-D35","v":0},"Récap 31/03",null,null,{"$f":"+F35-H35","v":0},"Récap 30/04",null,null,{"$f":"+J35-L35","v":0}]
[]
[]
["MAI",null,null,null,"JUIN",null,null,null,"Situation fin juin"]
["RECETTES",null,"DEPENSES",null,"RECETTES",null,"DEPENSES",null,null,"Recettes","Dépenses","Total"]
["Dates","Montant","Activités","Montant","Dates","Montant","Activités","Montant",{"$f":"E23","v":"Situation 31/12"},null,null,{"$f":"H23","v":-2.5}]
[null,null,null,null,null,null,null,null,{"$f":"I25","v":"Récap 31/01"},{"$f":"J24","v":0},{"$f":"L24","v":0},{"$f":"L25","v":0}]
[null,null,null,null,null,null,null,null,{"$f":"A36","v":"Récap 28/02"},{"$f":"B35","v":0},{"$f":"D35","v":0},{"$f":"D36","v":0}]
[null,null,null,null,null,null,null,null,{"$f":"E36","v":"Récap 31/03"},{"$f":"F35","v":0},{"$f":"H35","v":0},{"$f":"H36","v":0}]
[null,null,null,null,null,null,null,null,{"$f":"I36","v":"Récap 30/04"},{"$f":"J35","v":0},{"$f":"L35","v":0},{"$f":"L36","v":0}]
[null,null,null,null,null,null,null,null,{"$f":"A48","v":"Récap 31/05"},{"$f":"B47","v":0},{"$f":"D47","v":0},{"$f":"D48","v":0}]
[null,{"$f":"SUM(B42:B46)","v":0},null,{"$f":"SUM(D42:D46)","v":0},null,{"$f":"SUM(F42:F46)","v":0},null,{"$f":"SUM(H42:H46)","v":0},{"$f":"E48","v":"Récap 30/06"},{"$f":"F47","v":0},{"$f":"H47","v":0},{"$f":"H48","v":0}]
["Récap 31/05",null,null,{"$f":"+B47-D47","v":0},"Récap 30/06",null,null,{"$f":"+F47-H47","v":0},"Situation 30/06",{"$f":"SUM(J42:J47)","v":0},{"$f":"SUM(K42:K47)","v":0},{"$f":"SUM(L41:L47)","v":-2.5}]
[]
[null,null,null,null,null,null,null,null,null,null,null,{"$f":"F23+J48-G23-K48+B8","v":-2.5}]
[]
[null,null,null,null,null,null,null,null,null,{"$f":"B13+F13+J13+B24+J24+B35+F35+J35+B47+F47","v":0},{"$f":"D13+H13+L13+D24+L24+D35+H35+L35+D47+H47","v":0},{"$f":"B8+J52-K52","v":-2.5}]

{"sheet":"DEBOCK","index":38,"n_rows":52,"n_cols":12,"rows_kept":52,"cut":false,"hidden":false,"merged":[[5,10,5,11],[0,9,0,10],[2,1,2,2],[2,4,2,5],[2,8,2,9],[4,0,4,3],[4,4,4,7],[4,8,4,11],[5,0,5,1],[5,2,5,3],[5,4,5,5],[5,6,5,7],[5,8,5,9],[13,0,13,2],[13,4,13,6],[13,8,13,10],[15,0,15,3],[15,4,15,7],[15,8,15,11],[16,0,16,1],[16,2,16,3],[16,8,16,9],[16,10,16,11],[24,0,24,2],[24,8,24,10],[26,0,26,3],[26,4,26,7],[26,8,26,11],[27,4,27,5],[27,6,27,7],[27,8,27,9],[27,10,27,11],[35,8,35,10],[37,9,37,10],[38,0,38,3],[38,4,38,7],[38,8,38,11],[39,4,39,5],[39,6,39,7],[47,0,47,2],[47,4,47,6],[35,0,35,2],[35,4,35,6]]}
[null,null,null,null,null,null,null,null,null,"Année scolaire : ",null,{"$f":"' Liste élèves'!B1","v":"2018-2019"}]
[]
["NOM : ",{"$f":"' Liste élèves'!A38","v":"DEBOCK"},null,"PRENOM:",{"$f":"' Liste élèves'!B38","v":"Ophélie"},null,null,"CLASSE :",{"$f":"' Liste élèves'!C38","v":"Classa 4"}]
[]
["SEPTEMBRE",null,null,null,"OCTOBRE",null,null,null,"NOVEMBRE"]
["RECETTES",null,"DEPENSES",null,"RECETTES",null,"DEPENSES",null,"RECETTES",null,"DEPENSES"]
["Dates","Montant","Activités","Montant","Dates","Montant","Activités","Montant","Dates","Montant","Activités","Montant"]
["Report juin"]
[]
[]
[]
[]
[null,{"$f":"SUM(B9:B12)","v":0},null,{"$f":"SUM(D8:D12)","v":0},null,{"$f":"SUM(F8:F12)","v":0},null,{"$f":"SUM(H8:H12)","v":0},null,{"$f":"SUM(J8:J12)","v":0},null,{"$f":"SUM(L8:L12)","v":0}]
["Récap 30/09",null,null,{"$f":"+B13-D13","v":0},"Récap 31/10",null,null,{"$f":"+F13-H13","v":0},"Récap 30/11",null,null,{"$f":"+J13-L13","v":0}]
[]
["DÉCEMBRE",null,null,null,"Situation fin décembre",null,null,null,"JANVIER"]
["RECETTES",null,"DEPENSES",null,null,"Recettes","Dépenses","Total","RECETTES",null,"DEPENSES"]
["Dates","Montant","Activités","Montant",{"$f":"A14","v":"Récap 30/09"},{"$f":"B13","v":0},{"$f":"D13","v":0},{"$f":"D14","v":0},"Dates","Montant","Activités","Montant"]
[null,null,null,null,{"$f":"E14","v":"Récap 31/10"},{"$f":"F13","v":0},{"$f":"H13","v":0},{"$f":"H14","v":0}]
[null,null,null,null,{"$f":"I14","v":"Récap 30/11"},{"$f":"J13","v":0},{"$f":"L13","v":0},{"$f":"L14","v":0}]
[null,null,null,null,{"$f":"A25","v":"Récap 31/12"},{"$f":"B24","v":0},{"$f":"D24","v":0},{"$f":"D25","v":0}]
[null,null,null,null,"Report Sept",null,null,{"$f":"B8","v":0}]
[null,null,null,null,"Situation 31/12",{"$f":"SUM(F18:F22)","v":0},{"$f":"SUM(G18:G22)","v":0},{"$f":"SUM(H18:H22)","v":0}]
[null,{"$f":"SUM(B19:B23)","v":0},null,{"$f":"SUM(D19:D23)","v":0},null,null,null,null,null,{"$f":"SUM(J19:J23)","v":0},null,{"$f":"SUM(L19:L23)","v":0}]
["Récap 31/12",null,null,{"$f":"+B24-D24","v":0},null,null,null,null,"Récap 31/01",null,null,{"$f":"+J24-L24","v":0}]
[]
["FÉVRIER",null,null,null,"MARS",null,null,null,"AVRIL"]
["RECETTES",null,"DEPENSES",null,"RECETTES",null,"DEPENSES",null,"RECETTES",null,"DEPENSES"]
["Dates","Montant","Activités","Montant","Dates","Montant","Activités","Montant","Dates","Montant","Activités","Montant"]
[]
[]
[]
[]
[]
[null,{"$f":"SUM(B30:B34)","v":0},null,{"$f":"SUM(D30:D34)","v":0},null,{"$f":"SUM(F30:F34)","v":0},null,{"$f":"SUM(H30:H34)","v":0},null,{"$f":"SUM(J30:J34)","v":0},null,{"$f":"SUM(L30:L34)","v":0}]
["Récap 28/02",null,null,{"$f":"+B35-D35","v":0},"Récap 31/03",null,null,{"$f":"+F35-H35","v":0},"Récap 30/04",null,null,{"$f":"+J35-L35","v":0}]
[]
[]
["MAI",null,null,null,"JUIN",null,null,null,"Situation fin juin"]
["RECETTES",null,"DEPENSES",null,"RECETTES",null,"DEPENSES",null,null,"Recettes","Dépenses","Total"]
["Dates","Montant","Activités","Montant","Dates","Montant","Activités","Montant",{"$f":"E23","v":"Situation 31/12"},null,null,{"$f":"H23","v":0}]
[null,null,null,null,null,null,null,null,{"$f":"I25","v":"Récap 31/01"},{"$f":"J24","v":0},{"$f":"L24","v":0},{"$f":"L25","v":0}]
[null,null,null,null,null,null,null,null,{"$f":"A36","v":"Récap 28/02"},{"$f":"B35","v":0},{"$f":"D35","v":0},{"$f":"D36","v":0}]
[null,null,null,null,null,null,null,null,{"$f":"E36","v":"Récap 31/03"},{"$f":"F35","v":0},{"$f":"H35","v":0},{"$f":"H36","v":0}]
[null,null,null,null,null,null,null,null,{"$f":"I36","v":"Récap 30/04"},{"$f":"J35","v":0},{"$f":"L35","v":0},{"$f":"L36","v":0}]
[null,null,null,null,null,null,null,null,{"$f":"A48","v":"Récap 31/05"},{"$f":"B47","v":0},{"$f":"D47","v":0},{"$f":"D48","v":0}]
[null,{"$f":"SUM(B42:B46)","v":0},null,{"$f":"SUM(D42:D46)","v":0},null,{"$f":"SUM(F42:F46)","v":0},null,{"$f":"SUM(H42:H46)","v":0},{"$f":"E48","v":"Récap 30/06"},{"$f":"F47","v":0},{"$f":"H47","v":0},{"$f":"H48","v":0}]
["Récap 31/05",null,null,{"$f":"+B47-D47","v":0},"Récap 30/06",null,null,{"$f":"+F47-H47","v":0},"Situation 30/06",{"$f":"SUM(J42:J47)","v":0},{"$f":"SUM(K42:K47)","v":0},{"$f":"SUM(L41:L47)","v":0}]
[]
[null,null,null,null,null,null,null,null,null,null,null,{"$f":"F23+J48-G23-K48+B8","v":0}]
[]
[null,null,null,null,null,null,null,null,null,{"$f":"B13+F13+J13+B24+J24+B35+F35+J35+B47+F47","v":0},{"$f":"D13+H13+L13+D24+L24+D35+H35+L35+D47+H47","v":0},{"$f":"B8+J52-K52","v":0}]

{"sheet":"DEGANDMJ","index":39,"n_rows":52,"n_cols":12,"rows_kept":52,"cut":false,"hidden":false,"merged":[[5,10,5,11],[0,9,0,10],[2,1,2,2],[2,4,2,5],[2,8,2,9],[4,0,4,3],[4,4,4,7],[4,8,4,11],[5,0,5,1],[5,2,5,3],[5,4,5,5],[5,6,5,7],[5,8,5,9],[13,0,13,2],[13,4,13,6],[13,8,13,10],[15,0,15,3],[15,4,15,7],[15,8,15,11],[16,0,16,1],[16,2,16,3],[16,8,16,9],[16,10,16,11],[24,0,24,2],[24,8,24,10],[26,0,26,3],[26,4,26,7],[26,8,26,11],[27,4,27,5],[27,6,27,7],[27,8,27,9],[27,10,27,11],[35,8,35,10],[37,9,37,10],[38,0,38,3],[38,4,38,7],[38,8,38,11],[39,4,39,5],[39,6,39,7],[47,0,47,2],[47,4,47,6],[35,0,35,2],[35,4,35,6]]}
[null,null,null,null,null,null,null,null,null,"Année scolaire : ",null,{"$f":"' Liste élèves'!B1","v":"2018-2019"}]
[]
["NOM : ",{"$f":"' Liste élèves'!A45","v":"DEGANDMJ"},null,"PRENOM:",{"$f":"' Liste élèves'!B45","v":"Marry-Jhones"},null,null,"CLASSE :",{"$f":"' Liste élèves'!C45","v":"Classe PA"}]
[]
["SEPTEMBRE",null,null,null,"OCTOBRE",null,null,null,"NOVEMBRE"]
["RECETTES",null,"DEPENSES",null,"RECETTES",null,"DEPENSES",null,"RECETTES",null,"DEPENSES"]
["Dates","Montant","Activités","Montant","Dates","Montant","Activités","Montant","Dates","Montant","Activités","Montant"]
["Report juin"]
[]
[]
[]
[]
[null,{"$f":"SUM(B9:B12)","v":0},null,{"$f":"SUM(D8:D12)","v":0},null,{"$f":"SUM(F8:F12)","v":0},null,{"$f":"SUM(H8:H12)","v":0},null,{"$f":"SUM(J8:J12)","v":0},null,{"$f":"SUM(L8:L12)","v":0}]
["Récap 30/09",null,null,{"$f":"+B13-D13","v":0},"Récap 31/10",null,null,{"$f":"+F13-H13","v":0},"Récap 30/11",null,null,{"$f":"+J13-L13","v":0}]
[]
["DÉCEMBRE",null,null,null,"Situation fin décembre",null,null,null,"JANVIER"]
["RECETTES",null,"DEPENSES",null,null,"Recettes","Dépenses","Total","RECETTES",null,"DEPENSES"]
["Dates","Montant","Activités","Montant",{"$f":"A14","v":"Récap 30/09"},{"$f":"B13","v":0},{"$f":"D13","v":0},{"$f":"D14","v":0},"Dates","Montant","Activités","Montant"]
[null,null,null,null,{"$f":"E14","v":"Récap 31/10"},{"$f":"F13","v":0},{"$f":"H13","v":0},{"$f":"H14","v":0}]
[null,null,null,null,{"$f":"I14","v":"Récap 30/11"},{"$f":"J13","v":0},{"$f":"L13","v":0},{"$f":"L14","v":0}]
[null,null,null,null,{"$f":"A25","v":"Récap 31/12"},{"$f":"B24","v":0},{"$f":"D24","v":0},{"$f":"D25","v":0}]
[null,null,null,null,"Report Sept",null,null,{"$f":"B8","v":0}]
[null,null,null,null,"Situation 31/12",{"$f":"SUM(F18:F22)","v":0},{"$f":"SUM(G18:G22)","v":0},{"$f":"SUM(H18:H22)","v":0}]
[null,{"$f":"SUM(B19:B23)","v":0},null,{"$f":"SUM(D19:D23)","v":0},null,null,null,null,null,{"$f":"SUM(J19:J23)","v":0},null,{"$f":"SUM(L19:L23)","v":0}]
["Récap 31/12",null,null,{"$f":"+B24-D24","v":0},null,null,null,null,"Récap 31/01",null,null,{"$f":"+J24-L24","v":0}]
[]
["FÉVRIER",null,null,null,"MARS",null,null,null,"AVRIL"]
["RECETTES",null,"DEPENSES",null,"RECETTES",null,"DEPENSES",null,"RECETTES",null,"DEPENSES"]
["Dates","Montant","Activités","Montant","Dates","Montant","Activités","Montant","Dates","Montant","Activités","Montant"]
[]
[]
[]
[]
[]
[null,{"$f":"SUM(B30:B34)","v":0},null,{"$f":"SUM(D30:D34)","v":0},null,{"$f":"SUM(F30:F34)","v":0},null,{"$f":"SUM(H30:H34)","v":0},null,{"$f":"SUM(J30:J34)","v":0},null,{"$f":"SUM(L30:L34)","v":0}]
["Récap 28/02",null,null,{"$f":"+B35-D35","v":0},"Récap 31/03",null,null,{"$f":"+F35-H35","v":0},"Récap 30/04",null,null,{"$f":"+J35-L35","v":0}]
[]
[]
["MAI",null,null,null,"JUIN",null,null,null,"Situation fin juin"]
["RECETTES",null,"DEPENSES",null,"RECETTES",null,"DEPENSES",null,null,"Recettes","Dépenses","Total"]
["Dates","Montant","Activités","Montant","Dates","Montant","Activités","Montant",{"$f":"E23","v":"Situation 31/12"},null,null,{"$f":"H23","v":0}]
[null,null,null,null,null,null,null,null,{"$f":"I25","v":"Récap 31/01"},{"$f":"J24","v":0},{"$f":"L24","v":0},{"$f":"L25","v":0}]
[null,null,null,null,null,null,null,null,{"$f":"A36","v":"Récap 28/02"},{"$f":"B35","v":0},{"$f":"D35","v":0},{"$f":"D36","v":0}]
[null,null,null,null,null,null,null,null,{"$f":"E36","v":"Récap 31/03"},{"$f":"F35","v":0},{"$f":"H35","v":0},{"$f":"H36","v":0}]
[null,null,null,null,null,null,null,null,{"$f":"I36","v":"Récap 30/04"},{"$f":"J35","v":0},{"$f":"L35","v":0},{"$f":"L36","v":0}]
[null,null,null,null,null,null,null,null,{"$f":"A48","v":"Récap 31/05"},{"$f":"B47","v":0},{"$f":"D47","v":0},{"$f":"D48","v":0}]
[null,{"$f":"SUM(B42:B46)","v":0},null,{"$f":"SUM(D42:D46)","v":0},null,{"$f":"SUM(F42:F46)","v":0},null,{"$f":"SUM(H42:H46)","v":0},{"$f":"E48","v":"Récap 30/06"},{"$f":"F47","v":0},{"$f":"H47","v":0},{"$f":"H48","v":0}]
["Récap 31/05",null,null,{"$f":"+B47-D47","v":0},"Récap 30/06",null,null,{"$f":"+F47-H47","v":0},"Situation 30/06",{"$f":"SUM(J42:J47)","v":0},{"$f":"SUM(K42:K47)","v":0},{"$f":"SUM(L41:L47)","v":0}]
[]
[null,null,null,null,null,null,null,null,null,null,null,{"$f":"F23+J48-G23-K48+B8","v":0}]
[]
[null,null,null,null,null,null,null,null,null,{"$f":"B13+F13+J13+B24+J24+B35+F35+J35+B47+F47","v":0},{"$f":"D13+H13+L13+D24+L24+D35+H35+L35+D47+H47","v":0},{"$f":"B8+J52-K52","v":0}]

{"sheet":"DEGANDT","index":40,"n_rows":52,"n_cols":12,"rows_kept":52,"cut":false,"hidden":false,"merged":[[0,9,0,10],[2,1,2,2],[2,4,2,5],[2,8,2,9],[5,8,5,9],[5,10,5,11],[4,0,4,3],[4,4,4,7],[4,8,4,11],[5,0,5,1],[5,2,5,3],[5,4,5,5],[5,6,5,7],[24,0,24,2],[13,0,13,2],[13,4,13,6],[16,2,16,3],[37,9,37,10],[16,0,16,1],[27,6,27,7],[24,8,24,10],[38,8,38,11],[13,8,13,10],[15,0,15,3],[15,4,15,7],[15,8,15,11],[16,10,16,11],[26,0,26,3],[26,4,26,7],[26,8,26,11],[27,8,27,9],[35,0,35,2],[35,4,35,6],[35,8,35,10],[27,10,27,11],[16,8,16,9],[27,4,27,5],[47,0,47,2],[47,4,47,6],[38,0,38,3],[38,4,38,7],[39,4,39,5],[39,6,39,7]]}
[null,null,null,null,null,null,null,null,null,"Année scolaire : ",null,{"$f":"' Liste élèves'!B1","v":"2018-2019"}]
[]
["NOM : ",{"$f":"' Liste élèves'!A44","v":"DEGANDT"},null,"PRENOM:",{"$f":"' Liste élèves'!B44","v":"Thomas"},null,null,"CLASSE :",{"$f":"' Liste élèves'!C44","v":"Classe 10"}]
[]
["SEPTEMBRE",null,null,null,"OCTOBRE",null,null,null,"NOVEMBRE"]
["RECETTES",null,"DEPENSES",null,"RECETTES",null,"DEPENSES",null,"RECETTES",null,"DEPENSES"]
["Dates","Montant","Activités","Montant","Dates","Montant","Activités","Montant","Dates","Montant","Activités","Montant"]
["Report juin",-49.1]
[]
[]
[]
[]
[null,{"$f":"SUM(B9:B12)","v":0},null,{"$f":"SUM(D8:D12)","v":0},null,{"$f":"SUM(F8:F12)","v":0},null,{"$f":"SUM(H8:H12)","v":0},null,{"$f":"SUM(J8:J12)","v":0},null,{"$f":"SUM(L8:L12)","v":0}]
["Récap 30/09",null,null,{"$f":"+B13-D13","v":0},"Récap 31/10",null,null,{"$f":"+F13-H13","v":0},"Récap 30/11",null,null,{"$f":"+J13-L13","v":0}]
[]
["DÉCEMBRE",null,null,null,"Situation fin décembre",null,null,null,"JANVIER"]
["RECETTES",null,"DEPENSES",null,null,"Recettes","Dépenses","Total","RECETTES",null,"DEPENSES"]
["Dates","Montant","Activités","Montant",{"$f":"A14","v":"Récap 30/09"},{"$f":"B13","v":0},{"$f":"D13","v":0},{"$f":"D14","v":0},"Dates","Montant","Activités","Montant"]
[null,null,null,null,{"$f":"E14","v":"Récap 31/10"},{"$f":"F13","v":0},{"$f":"H13","v":0},{"$f":"H14","v":0}]
[null,null,null,null,{"$f":"I14","v":"Récap 30/11"},{"$f":"J13","v":0},{"$f":"L13","v":0},{"$f":"L14","v":0}]
[null,null,null,null,{"$f":"A25","v":"Récap 31/12"},{"$f":"B24","v":0},{"$f":"D24","v":0},{"$f":"D25","v":0}]
[null,null,null,null,"Report Sept",null,null,{"$f":"B8","v":-49.1}]
[null,null,null,null,"Situation 31/12",{"$f":"SUM(F18:F22)","v":0},{"$f":"SUM(G18:G22)","v":0},{"$f":"SUM(H18:H22)","v":-49.1}]
[null,{"$f":"SUM(B19:B23)","v":0},null,{"$f":"SUM(D19:D23)","v":0},null,null,null,null,null,{"$f":"SUM(J19:J23)","v":0},null,{"$f":"SUM(L19:L23)","v":0}]
["Récap 31/12",null,null,{"$f":"+B24-D24","v":0},null,null,null,null,"Récap 31/01",null,null,{"$f":"+J24-L24","v":0}]
[]
["FÉVRIER",null,null,null,"MARS",null,null,null,"AVRIL"]
["RECETTES",null,"DEPENSES",null,"RECETTES",null,"DEPENSES",null,"RECETTES",null,"DEPENSES"]
["Dates","Montant","Activités","Montant","Dates","Montant","Activités","Montant","Dates","Montant","Activités","Montant"]
[]
[]
[]
[]
[]
[null,{"$f":"SUM(B30:B34)","v":0},null,{"$f":"SUM(D30:D34)","v":0},null,{"$f":"SUM(F30:F34)","v":0},null,{"$f":"SUM(H30:H34)","v":0},null,{"$f":"SUM(J30:J34)","v":0},null,{"$f":"SUM(L30:L34)","v":0}]
["Récap 28/02",null,null,{"$f":"+B35-D35","v":0},"Récap 31/03",null,null,{"$f":"+F35-H35","v":0},"Récap 30/04",null,null,{"$f":"+J35-L35","v":0}]
[]
[]
["MAI",null,null,null,"JUIN",null,null,null,"Situation fin juin"]
["RECETTES",null,"DEPENSES",null,"RECETTES",null,"DEPENSES",null,null,"Recettes","Dépenses","Total"]
["Dates","Montant","Activités","Montant","Dates","Montant","Activités","Montant",{"$f":"E23","v":"Situation 31/12"},null,null,{"$f":"H23","v":-49.1}]
[null,null,null,null,null,null,null,null,{"$f":"I25","v":"Récap 31/01"},{"$f":"J24","v":0},{"$f":"L24","v":0},{"$f":"L25","v":0}]
[null,null,null,null,null,null,null,null,{"$f":"A36","v":"Récap 28/02"},{"$f":"B35","v":0},{"$f":"D35","v":0},{"$f":"D36","v":0}]
[null,null,null,null,null,null,null,null,{"$f":"E36","v":"Récap 31/03"},{"$f":"F35","v":0},{"$f":"H35","v":0},{"$f":"H36","v":0}]
[null,null,null,null,null,null,null,null,{"$f":"I36","v":"Récap 30/04"},{"$f":"J35","v":0},{"$f":"L35","v":0},{"$f":"L36","v":0}]
[null,null,null,null,null,null,null,null,{"$f":"A48","v":"Récap 31/05"},{"$f":"B47","v":0},{"$f":"D47","v":0},{"$f":"D48","v":0}]
[null,{"$f":"SUM(B42:B46)","v":0},null,{"$f":"SUM(D42:D46)","v":0},null,{"$f":"SUM(F42:F46)","v":0},null,{"$f":"SUM(H42:H46)","v":0},{"$f":"E48","v":"Récap 30/06"},{"$f":"F47","v":0},{"$f":"H47","v":0},{"$f":"H48","v":0}]
["Récap 31/05",null,null,{"$f":"+B47-D47","v":0},"Récap 30/06",null,null,{"$f":"+F47-H47","v":0},"Situation 30/06",{"$f":"SUM(J42:J47)","v":0},{"$f":"SUM(K42:K47)","v":0},{"$f":"SUM(L41:L47)","v":-49.1}]
[]
[null,null,null,null,null,null,null,null,null,null,null,{"$f":"F23+J48-G23-K48+B8","v":-49.1}]
[]
[null,null,null,null,null,null,null,null,null,{"$f":"B13+F13+J13+B24+J24+B35+F35+J35+B47+F47","v":0},{"$f":"D13+H13+L13+D24+L24+D35+H35+L35+D47+H47","v":0},{"$f":"B8+J52-K52","v":-49.1}]

{"sheet":"DEGEYTERE","index":41,"n_rows":52,"n_cols":12,"rows_kept":52,"cut":false,"hidden":false,"merged":[[5,10,5,11],[0,9,0,10],[2,1,2,2],[2,4,2,5],[2,8,2,9],[4,0,4,3],[4,4,4,7],[4,8,4,11],[5,0,5,1],[5,2,5,3],[5,4,5,5],[5,6,5,7],[5,8,5,9],[13,0,13,2],[13,4,13,6],[13,8,13,10],[15,0,15,3],[15,4,15,7],[15,8,15,11],[16,0,16,1],[16,2,16,3],[16,8,16,9],[16,10,16,11],[24,0,24,2],[24,8,24,10],[26,0,26,3],[26,4,26,7],[26,8,26,11],[27,4,27,5],[27,6,27,7],[27,8,27,9],[27,10,27,11],[35,8,35,10],[37,9,37,10],[38,0,38,3],[38,4,38,7],[38,8,38,11],[39,4,39,5],[39,6,39,7],[47,0,47,2],[47,4,47,6],[35,0,35,2],[35,4,35,6]]}
[null,null,null,null,null,null,null,null,null,"Année scolaire : ",null,{"$f":"' Liste élèves'!B1","v":"2018-2019"}]
[]
["NOM : ",{"$f":"' Liste élèves'!A39","v":"DEGEYTERE"},null,"PRENOM:",{"$f":"' Liste élèves'!B39","v":"Emilie"},null,null,"CLASSE :",{"$f":"' Liste élèves'!C39","v":"Classe PA"}]
[]
["SEPTEMBRE",null,null,null,"OCTOBRE",null,null,null,"NOVEMBRE"]
["RECETTES",null,"DEPENSES",null,"RECETTES",null,"DEPENSES",null,"RECETTES",null,"DEPENSES"]
["Dates","Montant","Activités","Montant","Dates","Montant","Activités","Montant","Dates","Montant","Activités","Montant"]
["Report juin"]
[]
[]
[]
[]
[null,{"$f":"SUM(B9:B12)","v":0},null,{"$f":"SUM(D8:D12)","v":0},null,{"$f":"SUM(F8:F12)","v":0},null,{"$f":"SUM(H8:H12)","v":0},null,{"$f":"SUM(J8:J12)","v":0},null,{"$f":"SUM(L8:L12)","v":0}]
["Récap 30/09",null,null,{"$f":"+B13-D13","v":0},"Récap 31/10",null,null,{"$f":"+F13-H13","v":0},"Récap 30/11",null,null,{"$f":"+J13-L13","v":0}]
[]
["DÉCEMBRE",null,null,null,"Situation fin décembre",null,null,null,"JANVIER"]
["RECETTES",null,"DEPENSES",null,null,"Recettes","Dépenses","Total","RECETTES",null,"DEPENSES"]
["Dates","Montant","Activités","Montant",{"$f":"A14","v":"Récap 30/09"},{"$f":"B13","v":0},{"$f":"D13","v":0},{"$f":"D14","v":0},"Dates","Montant","Activités","Montant"]
[null,null,null,null,{"$f":"E14","v":"Récap 31/10"},{"$f":"F13","v":0},{"$f":"H13","v":0},{"$f":"H14","v":0}]
[null,null,null,null,{"$f":"I14","v":"Récap 30/11"},{"$f":"J13","v":0},{"$f":"L13","v":0},{"$f":"L14","v":0}]
[null,null,null,null,{"$f":"A25","v":"Récap 31/12"},{"$f":"B24","v":0},{"$f":"D24","v":0},{"$f":"D25","v":0}]
[null,null,null,null,"Report Sept",null,null,{"$f":"B8","v":0}]
[null,null,null,null,"Situation 31/12",{"$f":"SUM(F18:F22)","v":0},{"$f":"SUM(G18:G22)","v":0},{"$f":"SUM(H18:H22)","v":0}]
[null,{"$f":"SUM(B19:B23)","v":0},null,{"$f":"SUM(D19:D23)","v":0},null,null,null,null,null,{"$f":"SUM(J19:J23)","v":0},null,{"$f":"SUM(L19:L23)","v":0}]
["Récap 31/12",null,null,{"$f":"+B24-D24","v":0},null,null,null,null,"Récap 31/01",null,null,{"$f":"+J24-L24","v":0}]
[]
["FÉVRIER",null,null,null,"MARS",null,null,null,"AVRIL"]
["RECETTES",null,"DEPENSES",null,"RECETTES",null,"DEPENSES",null,"RECETTES",null,"DEPENSES"]
["Dates","Montant","Activités","Montant","Dates","Montant","Activités","Montant","Dates","Montant","Activités","Montant"]
[]
[]
[]
[]
[]
[null,{"$f":"SUM(B30:B34)","v":0},null,{"$f":"SUM(D30:D34)","v":0},null,{"$f":"SUM(F30:F34)","v":0},null,{"$f":"SUM(H30:H34)","v":0},null,{"$f":"SUM(J30:J34)","v":0},null,{"$f":"SUM(L30:L34)","v":0}]
["Récap 28/02",null,null,{"$f":"+B35-D35","v":0},"Récap 31/03",null,null,{"$f":"+F35-H35","v":0},"Récap 30/04",null,null,{"$f":"+J35-L35","v":0}]
[]
[]
["MAI",null,null,null,"JUIN",null,null,null,"Situation fin juin"]
["RECETTES",null,"DEPENSES",null,"RECETTES",null,"DEPENSES",null,null,"Recettes","Dépenses","Total"]
["Dates","Montant","Activités","Montant","Dates","Montant","Activités","Montant",{"$f":"E23","v":"Situation 31/12"},null,null,{"$f":"H23","v":0}]
[null,null,null,null,null,null,null,null,{"$f":"I25","v":"Récap 31/01"},{"$f":"J24","v":0},{"$f":"L24","v":0},{"$f":"L25","v":0}]
[null,null,null,null,null,null,null,null,{"$f":"A36","v":"Récap 28/02"},{"$f":"B35","v":0},{"$f":"D35","v":0},{"$f":"D36","v":0}]
[null,null,null,null,null,null,null,null,{"$f":"E36","v":"Récap 31/03"},{"$f":"F35","v":0},{"$f":"H35","v":0},{"$f":"H36","v":0}]
[null,null,null,null,null,null,null,null,{"$f":"I36","v":"Récap 30/04"},{"$f":"J35","v":0},{"$f":"L35","v":0},{"$f":"L36","v":0}]
[null,null,null,null,null,null,null,null,{"$f":"A48","v":"Récap 31/05"},{"$f":"B47","v":0},{"$f":"D47","v":0},{"$f":"D48","v":0}]
[null,{"$f":"SUM(B42:B46)","v":0},null,{"$f":"SUM(D42:D46)","v":0},null,{"$f":"SUM(F42:F46)","v":0},null,{"$f":"SUM(H42:H46)","v":0},{"$f":"E48","v":"Récap 30/06"},{"$f":"F47","v":0},{"$f":"H47","v":0},{"$f":"H48","v":0}]
["Récap 31/05",null,null,{"$f":"+B47-D47","v":0},"Récap 30/06",null,null,{"$f":"+F47-H47","v":0},"Situation 30/06",{"$f":"SUM(J42:J47)","v":0},{"$f":"SUM(K42:K47)","v":0},{"$f":"SUM(L41:L47)","v":0}]
[]
[null,null,null,null,null,null,null,null,null,null,null,{"$f":"F23+J48-G23-K48+B8","v":0}]
[]
[null,null,null,null,null,null,null,null,null,{"$f":"B13+F13+J13+B24+J24+B35+F35+J35+B47+F47","v":0},{"$f":"D13+H13+L13+D24+L24+D35+H35+L35+D47+H47","v":0},{"$f":"B8+J52-K52","v":0}]

{"sheet":"DEHBI","index":42,"n_rows":52,"n_cols":12,"rows_kept":52,"cut":false,"hidden":false,"merged":[[39,4,39,5],[39,6,39,7],[47,0,47,2],[47,4,47,6],[35,0,35,2],[35,4,35,6],[35,8,35,10],[37,9,37,10],[38,0,38,3],[38,4,38,7],[38,8,38,11],[26,0,26,3],[26,4,26,7],[26,8,26,11],[27,4,27,5],[27,6,27,7],[27,8,27,9],[27,10,27,11],[16,0,16,1],[16,2,16,3],[16,8,16,9],[16,10,16,11],[24,0,24,2],[24,8,24,10],[13,0,13,2],[13,4,13,6],[13,8,13,10],[15,0,15,3],[15,4,15,7],[15,8,15,11],[5,10,5,11],[0,9,0,10],[2,1,2,2],[2,4,2,5],[2,8,2,9],[4,0,4,3],[4,4,4,7],[4,8,4,11],[5,0,5,1],[5,2,5,3],[5,4,5,5],[5,6,5,7],[5,8,5,9]]}
[null,null,null,null,null,null,null,null,null,"Année scolaire : ",null,{"$f":"' Liste élèves'!B1","v":"2018-2019"}]
[]
["NOM : ",{"$f":"' Liste élèves'!A46","v":"DEHBI"},null,"PRENOM:",{"$f":"' Liste élèves'!B46","v":"Yassin"},null,null,"CLASSE :",{"$f":"' Liste élèves'!C46","v":"Classe AA"}]
[]
["SEPTEMBRE",null,null,null,"OCTOBRE",null,null,null,"NOVEMBRE"]
["RECETTES",null,"DEPENSES",null,"RECETTES",null,"DEPENSES",null,"RECETTES",null,"DEPENSES"]
["Dates","Montant","Activités","Montant","Dates","Montant","Activités","Montant","Dates","Montant","Activités","Montant"]
["Report juin"]
[42989]
[]
[]
[]
[null,{"$f":"SUM(B9:B12)","v":0},null,{"$f":"SUM(D8:D12)","v":0},null,{"$f":"SUM(F8:F12)","v":0},null,{"$f":"SUM(H8:H12)","v":0},null,{"$f":"SUM(J8:J12)","v":0},null,{"$f":"SUM(L8:L12)","v":0}]
["Récap 30/09",null,null,{"$f":"+B13-D13","v":0},"Récap 31/10",null,null,{"$f":"+F13-H13","v":0},"Récap 30/11",null,null,{"$f":"+J13-L13","v":0}]
[]
["DÉCEMBRE",null,null,null,"Situation fin décembre",null,null,null,"JANVIER"]
["RECETTES",null,"DEPENSES",null,null,"Recettes","Dépenses","Total","RECETTES",null,"DEPENSES"]
["Dates","Montant","Activités","Montant",{"$f":"A14","v":"Récap 30/09"},{"$f":"B13","v":0},{"$f":"D13","v":0},{"$f":"D14","v":0},"Dates","Montant","Activités","Montant"]
[null,null,null,null,{"$f":"E14","v":"Récap 31/10"},{"$f":"F13","v":0},{"$f":"H13","v":0},{"$f":"H14","v":0}]
[null,null,null,null,{"$f":"I14","v":"Récap 30/11"},{"$f":"J13","v":0},{"$f":"L13","v":0},{"$f":"L14","v":0}]
[null,null,null,null,{"$f":"A25","v":"Récap 31/12"},{"$f":"B24","v":0},{"$f":"D24","v":0},{"$f":"D25","v":0}]
[null,null,null,null,"Report Sept",null,null,{"$f":"B8","v":0}]
[null,null,null,null,"Situation 31/12",{"$f":"SUM(F18:F22)","v":0},{"$f":"SUM(G18:G22)","v":0},{"$f":"SUM(H18:H22)","v":0}]
[null,{"$f":"SUM(B19:B23)","v":0},null,{"$f":"SUM(D19:D23)","v":0},null,null,null,null,null,{"$f":"SUM(J19:J23)","v":0},null,{"$f":"SUM(L19:L23)","v":0}]
["Récap 31/12",null,null,{"$f":"+B24-D24","v":0},null,null,null,null,"Récap 31/01",null,null,{"$f":"+J24-L24","v":0}]
[]
["FÉVRIER",null,null,null,"MARS",null,null,null,"AVRIL"]
["RECETTES",null,"DEPENSES",null,"RECETTES",null,"DEPENSES",null,"RECETTES",null,"DEPENSES"]
["Dates","Montant","Activités","Montant","Dates","Montant","Activités","Montant","Dates","Montant","Activités","Montant"]
[]
[]
[]
[]
[]
[null,{"$f":"SUM(B30:B34)","v":0},null,{"$f":"SUM(D30:D34)","v":0},null,{"$f":"SUM(F30:F34)","v":0},null,{"$f":"SUM(H30:H34)","v":0},null,{"$f":"SUM(J30:J34)","v":0},null,{"$f":"SUM(L30:L34)","v":0}]
["Récap 28/02",null,null,{"$f":"+B35-D35","v":0},"Récap 31/03",null,null,{"$f":"+F35-H35","v":0},"Récap 30/04",null,null,{"$f":"+J35-L35","v":0}]
[]
[]
["MAI",null,null,null,"JUIN",null,null,null,"Situation fin juin"]
["RECETTES",null,"DEPENSES",null,"RECETTES",null,"DEPENSES",null,null,"Recettes","Dépenses","Total"]
["Dates","Montant","Activités","Montant","Dates","Montant","Activités","Montant",{"$f":"E23","v":"Situation 31/12"},null,null,{"$f":"H23","v":0}]
[null,null,null,null,null,null,null,null,{"$f":"I25","v":"Récap 31/01"},{"$f":"J24","v":0},{"$f":"L24","v":0},{"$f":"L25","v":0}]
[null,null,null,null,null,null,null,null,{"$f":"A36","v":"Récap 28/02"},{"$f":"B35","v":0},{"$f":"D35","v":0},{"$f":"D36","v":0}]
[null,null,null,null,null,null,null,null,{"$f":"E36","v":"Récap 31/03"},{"$f":"F35","v":0},{"$f":"H35","v":0},{"$f":"H36","v":0}]
[null,null,null,null,null,null,null,null,{"$f":"I36","v":"Récap 30/04"},{"$f":"J35","v":0},{"$f":"L35","v":0},{"$f":"L36","v":0}]
[null,null,null,null,null,null,null,null,{"$f":"A48","v":"Récap 31/05"},{"$f":"B47","v":0},{"$f":"D47","v":0},{"$f":"D48","v":0}]
[null,{"$f":"SUM(B42:B46)","v":0},null,{"$f":"SUM(D42:D46)","v":0},null,{"$f":"SUM(F42:F46)","v":0},null,{"$f":"SUM(H42:H46)","v":0},{"$f":"E48","v":"Récap 30/06"},{"$f":"F47","v":0},{"$f":"H47","v":0},{"$f":"H48","v":0}]
["Récap 31/05",null,null,{"$f":"+B47-D47","v":0},"Récap 30/06",null,null,{"$f":"+F47-H47","v":0},"Situation 30/06",{"$f":"SUM(J42:J47)","v":0},{"$f":"SUM(K42:K47)","v":0},{"$f":"SUM(L41:L47)","v":0}]
[]
[null,null,null,null,null,null,null,null,null,null,null,{"$f":"F23+J48-G23-K48+B8","v":0}]
[]
[null,null,null,null,null,null,null,null,null,{"$f":"B13+F13+J13+B24+J24+B35+F35+J35+B47+F47","v":0},{"$f":"D13+H13+L13+D24+L24+D35+H35+L35+D47+H47","v":0},{"$f":"B8+J52-K52","v":0}]

{"sheet":"DEHOUX","index":43,"n_rows":52,"n_cols":12,"rows_kept":52,"cut":false,"hidden":false,"merged":[[0,9,0,10],[2,1,2,2],[2,4,2,5],[2,8,2,9],[5,8,5,9],[5,10,5,11],[4,0,4,3],[4,4,4,7],[4,8,4,11],[5,0,5,1],[5,2,5,3],[5,4,5,5],[5,6,5,7],[24,0,24,2],[13,0,13,2],[13,4,13,6],[16,2,16,3],[37,9,37,10],[16,0,16,1],[27,6,27,7],[24,8,24,10],[38,8,38,11],[13,8,13,10],[15,0,15,3],[15,4,15,7],[15,8,15,11],[16,10,16,11],[26,0,26,3],[26,4,26,7],[26,8,26,11],[27,8,27,9],[35,0,35,2],[35,4,35,6],[35,8,35,10],[27,10,27,11],[16,8,16,9],[27,4,27,5],[47,0,47,2],[47,4,47,6],[38,0,38,3],[38,4,38,7],[39,4,39,5],[39,6,39,7]]}
[0,null,null,null,null,null,null,null,null,"Année scolaire : ",null,{"$f":"' Liste élèves'!B1","v":"2018-2019"}]
[]
["NOM : ",{"$f":"' Liste élèves'!A47","v":"DEHOUX"},null,"PRENOM:",{"$f":"' Liste élèves'!B47","v":"Ilona"},null,null,"CLASSE :",{"$f":"' Liste élèves'!C47","v":"Classe 1"}]
[]
["SEPTEMBRE",null,null,null,"OCTOBRE",null,null,null,"NOVEMBRE"]
["RECETTES",null,"DEPENSES",null,"RECETTES",null,"DEPENSES",null,"RECETTES",null,"DEPENSES"]
["Dates","Montant","Activités","Montant","Dates","Montant","Activités","Montant","Dates","Montant","Activités","Montant"]
["Report juin",48.7]
[]
[]
[]
[]
[null,{"$f":"SUM(B9:B12)","v":0},null,{"$f":"SUM(D8:D12)","v":0},null,{"$f":"SUM(F8:F12)","v":0},null,{"$f":"SUM(H8:H12)","v":0},null,{"$f":"SUM(J8:J12)","v":0},null,{"$f":"SUM(L8:L12)","v":0}]
["Récap 30/09",null,null,{"$f":"+B13-D13","v":0},"Récap 31/10",null,null,{"$f":"+F13-H13","v":0},"Récap 30/11",null,null,{"$f":"+J13-L13","v":0}]
[]
["DÉCEMBRE",null,null,null,"Situation fin décembre",null,null,null,"JANVIER"]
["RECETTES",null,"DEPENSES",null,null,"Recettes","Dépenses","Total","RECETTES",null,"DEPENSES"]
["Dates","Montant","Activités","Montant",{"$f":"A14","v":"Récap 30/09"},{"$f":"B13","v":0},{"$f":"D13","v":0},{"$f":"D14","v":0},"Dates","Montant","Activités","Montant"]
[null,null,null,null,{"$f":"E14","v":"Récap 31/10"},{"$f":"F13","v":0},{"$f":"H13","v":0},{"$f":"H14","v":0}]
[null,null,null,null,{"$f":"I14","v":"Récap 30/11"},{"$f":"J13","v":0},{"$f":"L13","v":0},{"$f":"L14","v":0}]
[null,null,null,null,{"$f":"A25","v":"Récap 31/12"},{"$f":"B24","v":0},{"$f":"D24","v":0},{"$f":"D25","v":0}]
[null,null,null,null,"Report Sept",null,null,{"$f":"B8","v":48.7}]
[null,null,null,null,"Situation 31/12",{"$f":"SUM(F18:F22)","v":0},{"$f":"SUM(G18:G22)","v":0},{"$f":"SUM(H18:H22)","v":48.7}]
[null,{"$f":"SUM(B19:B23)","v":0},null,{"$f":"SUM(D19:D23)","v":0},null,null,null,null,null,{"$f":"SUM(J19:J23)","v":0},null,{"$f":"SUM(L19:L23)","v":0}]
["Récap 31/12",null,null,{"$f":"+B24-D24","v":0},null,null,null,null,"Récap 31/01",null,null,{"$f":"+J24-L24","v":0}]
[]
["FÉVRIER",null,null,null,"MARS",null,null,null,"AVRIL"]
["RECETTES",null,"DEPENSES",null,"RECETTES",null,"DEPENSES",null,"RECETTES",null,"DEPENSES"]
["Dates","Montant","Activités","Montant","Dates","Montant","Activités","Montant","Dates","Montant","Activités","Montant"]
[]
[]
[]
[]
[]
[null,{"$f":"SUM(B30:B34)","v":0},null,{"$f":"SUM(D30:D34)","v":0},null,{"$f":"SUM(F30:F34)","v":0},null,{"$f":"SUM(H30:H34)","v":0},null,{"$f":"SUM(J30:J34)","v":0},null,{"$f":"SUM(L30:L34)","v":0}]
["Récap 28/02",null,null,{"$f":"+B35-D35","v":0},"Récap 31/03",null,null,{"$f":"+F35-H35","v":0},"Récap 30/04",null,null,{"$f":"+J35-L35","v":0}]
[]
[]
["MAI",null,null,null,"JUIN",null,null,null,"Situation fin juin"]
["RECETTES",null,"DEPENSES",null,"RECETTES",null,"DEPENSES",null,null,"Recettes","Dépenses","Total"]
["Dates","Montant","Activités","Montant","Dates","Montant","Activités","Montant",{"$f":"E23","v":"Situation 31/12"},null,null,{"$f":"H23","v":48.7}]
[null,null,null,null,null,null,null,null,{"$f":"I25","v":"Récap 31/01"},{"$f":"J24","v":0},{"$f":"L24","v":0},{"$f":"L25","v":0}]
[null,null,null,null,null,null,null,null,{"$f":"A36","v":"Récap 28/02"},{"$f":"B35","v":0},{"$f":"D35","v":0},{"$f":"D36","v":0}]
[null,null,null,null,null,null,null,null,{"$f":"E36","v":"Récap 31/03"},{"$f":"F35","v":0},{"$f":"H35","v":0},{"$f":"H36","v":0}]
[null,null,null,null,null,null,null,null,{"$f":"I36","v":"Récap 30/04"},{"$f":"J35","v":0},{"$f":"L35","v":0},{"$f":"L36","v":0}]
[null,null,null,null,null,null,null,null,{"$f":"A48","v":"Récap 31/05"},{"$f":"B47","v":0},{"$f":"D47","v":0},{"$f":"D48","v":0}]
[null,{"$f":"SUM(B42:B46)","v":0},null,{"$f":"SUM(D42:D46)","v":0},null,{"$f":"SUM(F42:F46)","v":0},null,{"$f":"SUM(H42:H46)","v":0},{"$f":"E48","v":"Récap 30/06"},{"$f":"F47","v":0},{"$f":"H47","v":0},{"$f":"H48","v":0}]
["Récap 31/05",null,null,{"$f":"+B47-D47","v":0},"Récap 30/06",null,null,{"$f":"+F47-H47","v":0},"Situation 30/06",{"$f":"SUM(J42:J47)","v":0},{"$f":"SUM(K42:K47)","v":0},{"$f":"SUM(L41:L47)","v":48.7}]
[]
[null,null,null,null,null,null,null,null,null,null,null,{"$f":"F23+J48-G23-K48+B8","v":48.7}]
[]
[null,null,null,null,null,null,null,null,null,{"$f":"B13+F13+J13+B24+J24+B35+F35+J35+B47+F47","v":0},{"$f":"D13+H13+L13+D24+L24+D35+H35+L35+D47+H47","v":0},{"$f":"B8+J52-K52","v":48.7}]

{"sheet":"DELCROIX","index":44,"n_rows":52,"n_cols":12,"rows_kept":52,"cut":false,"hidden":false,"merged":[[0,9,0,10],[2,1,2,2],[2,4,2,5],[2,8,2,9],[5,8,5,9],[5,10,5,11],[4,0,4,3],[4,4,4,7],[4,8,4,11],[5,0,5,1],[5,2,5,3],[5,4,5,5],[5,6,5,7],[24,0,24,2],[13,0,13,2],[13,4,13,6],[16,2,16,3],[37,9,37,10],[16,0,16,1],[27,6,27,7],[24,8,24,10],[38,8,38,11],[13,8,13,10],[15,0,15,3],[15,4,15,7],[15,8,15,11],[16,10,16,11],[26,0,26,3],[26,4,26,7],[26,8,26,11],[27,8,27,9],[35,0,35,2],[35,4,35,6],[35,8,35,10],[27,10,27,11],[16,8,16,9],[27,4,27,5],[47,0,47,2],[47,4,47,6],[38,0,38,3],[38,4,38,7],[39,4,39,5],[39,6,39,7]]}
[null,null,null,null,null,null,null,null,null,"Année scolaire : ",null,{"$f":"' Liste élèves'!B1","v":"2018-2019"}]
[]
["NOM : ",{"$f":"' Liste élèves'!A50","v":"DELCROIX"},null,"PRENOM:",{"$f":"' Liste élèves'!B50","v":"Gaëtan"},null,null,"CLASSE :",{"$f":"' Liste élèves'!C50","v":"Classe JB"}]
[]
["SEPTEMBRE",null,null,null,"OCTOBRE",null,null,null,"NOVEMBRE"]
["RECETTES",null,"DEPENSES",null,"RECETTES",null,"DEPENSES",null,"RECETTES",null,"DEPENSES"]
["Dates","Montant","Activités","Montant","Dates","Montant","Activités","Montant","Dates","Montant","Activités","Montant"]
["Report juin",43.5]
[]
[]
[]
[]
[null,{"$f":"SUM(B9:B12)","v":0},null,{"$f":"SUM(D8:D12)","v":0},null,{"$f":"SUM(F8:F12)","v":0},null,{"$f":"SUM(H8:H12)","v":0},null,{"$f":"SUM(J8:J12)","v":0},null,{"$f":"SUM(L8:L12)","v":0}]
["Récap 30/09",null,null,{"$f":"+B13-D13","v":0},"Récap 31/10",null,null,{"$f":"+F13-H13","v":0},"Récap 30/11",null,null,{"$f":"+J13-L13","v":0}]
[]
["DÉCEMBRE",null,null,null,"Situation fin décembre",null,null,null,"JANVIER"]
["RECETTES",null,"DEPENSES",null,null,"Recettes","Dépenses","Total","RECETTES",null,"DEPENSES"]
["Dates","Montant","Activités","Montant",{"$f":"A14","v":"Récap 30/09"},{"$f":"B13","v":0},{"$f":"D13","v":0},{"$f":"D14","v":0},"Dates","Montant","Activités","Montant"]
[null,null,null,null,{"$f":"E14","v":"Récap 31/10"},{"$f":"F13","v":0},{"$f":"H13","v":0},{"$f":"H14","v":0}]
[null,null,null,null,{"$f":"I14","v":"Récap 30/11"},{"$f":"J13","v":0},{"$f":"L13","v":0},{"$f":"L14","v":0}]
[null,null,null,null,{"$f":"A25","v":"Récap 31/12"},{"$f":"B24","v":0},{"$f":"D24","v":0},{"$f":"D25","v":0}]
[null,null,null,null,"Report Sept",null,null,{"$f":"B8","v":43.5}]
[null,null,null,null,"Situation 31/12",{"$f":"SUM(F18:F22)","v":0},{"$f":"SUM(G18:G22)","v":0},{"$f":"SUM(H18:H22)","v":43.5}]
[null,{"$f":"SUM(B19:B23)","v":0},null,{"$f":"SUM(D19:D23)","v":0},null,null,null,null,null,{"$f":"SUM(J19:J23)","v":0},null,{"$f":"SUM(L19:L23)","v":0}]
["Récap 31/12",null,null,{"$f":"+B24-D24","v":0},null,null,null,null,"Récap 31/01",null,null,{"$f":"+J24-L24","v":0}]
[]
["FÉVRIER",null,null,null,"MARS",null,null,null,"AVRIL"]
["RECETTES",null,"DEPENSES",null,"RECETTES",null,"DEPENSES",null,"RECETTES",null,"DEPENSES"]
["Dates","Montant","Activités","Montant","Dates","Montant","Activités","Montant","Dates","Montant","Activités","Montant"]
[]
[]
[]
[]
[]
[null,{"$f":"SUM(B30:B34)","v":0},null,{"$f":"SUM(D30:D34)","v":0},null,{"$f":"SUM(F30:F34)","v":0},null,{"$f":"SUM(H30:H34)","v":0},null,{"$f":"SUM(J30:J34)","v":0},null,{"$f":"SUM(L30:L34)","v":0}]
["Récap 28/02",null,null,{"$f":"+B35-D35","v":0},"Récap 31/03",null,null,{"$f":"+F35-H35","v":0},"Récap 30/04",null,null,{"$f":"+J35-L35","v":0}]
[]
[]
["MAI",null,null,null,"JUIN",null,null,null,"Situation fin juin"]
["RECETTES",null,"DEPENSES",null,"RECETTES",null,"DEPENSES",null,null,"Recettes","Dépenses","Total"]
["Dates","Montant","Activités","Montant","Dates","Montant","Activités","Montant",{"$f":"E23","v":"Situation 31/12"},null,null,{"$f":"H23","v":43.5}]
[null,null,null,null,null,null,null,null,{"$f":"I25","v":"Récap 31/01"},{"$f":"J24","v":0},{"$f":"L24","v":0},{"$f":"L25","v":0}]
[null,null,null,null,null,null,null,null,{"$f":"A36","v":"Récap 28/02"},{"$f":"B35","v":0},{"$f":"D35","v":0},{"$f":"D36","v":0}]
[null,null,null,null,null,null,null,null,{"$f":"E36","v":"Récap 31/03"},{"$f":"F35","v":0},{"$f":"H35","v":0},{"$f":"H36","v":0}]
[null,null,null,null,null,null,null,null,{"$f":"I36","v":"Récap 30/04"},{"$f":"J35","v":0},{"$f":"L35","v":0},{"$f":"L36","v":0}]
[null,null,null,null,null,null,null,null,{"$f":"A48","v":"Récap 31/05"},{"$f":"B47","v":0},{"$f":"D47","v":0},{"$f":"D48","v":0}]
[null,{"$f":"SUM(B42:B46)","v":0},null,{"$f":"SUM(D42:D46)","v":0},null,{"$f":"SUM(F42:F46)","v":0},null,{"$f":"SUM(H42:H46)","v":0},{"$f":"E48","v":"Récap 30/06"},{"$f":"F47","v":0},{"$f":"H47","v":0},{"$f":"H48","v":0}]
["Récap 31/05",null,null,{"$f":"+B47-D47","v":0},"Récap 30/06",null,null,{"$f":"+F47-H47","v":0},"Situation 30/06",{"$f":"SUM(J42:J47)","v":0},{"$f":"SUM(K42:K47)","v":0},{"$f":"SUM(L41:L47)","v":43.5}]
[]
[null,null,null,null,null,null,null,null,null,null,null,{"$f":"F23+J48-G23-K48+B8","v":43.5}]
[]
[null,null,null,null,null,null,null,null,null,{"$f":"B13+F13+J13+B24+J24+B35+F35+J35+B47+F47","v":0},{"$f":"D13+H13+L13+D24+L24+D35+H35+L35+D47+H47","v":0},{"$f":"B8+J52-K52","v":43.5}]

{"sheet":"DELDUCA","index":45,"n_rows":52,"n_cols":12,"rows_kept":52,"cut":false,"hidden":false,"merged":[[0,9,0,10],[2,1,2,2],[2,4,2,5],[2,8,2,9],[5,8,5,9],[5,10,5,11],[4,0,4,3],[4,4,4,7],[4,8,4,11],[5,0,5,1],[5,2,5,3],[5,4,5,5],[5,6,5,7],[24,0,24,2],[13,0,13,2],[13,4,13,6],[16,2,16,3],[37,9,37,10],[16,0,16,1],[27,6,27,7],[24,8,24,10],[38,8,38,11],[13,8,13,10],[15,0,15,3],[15,4,15,7],[15,8,15,11],[16,10,16,11],[26,0,26,3],[26,4,26,7],[26,8,26,11],[27,8,27,9],[35,0,35,2],[35,4,35,6],[35,8,35,10],[27,10,27,11],[16,8,16,9],[27,4,27,5],[47,0,47,2],[47,4,47,6],[38,0,38,3],[38,4,38,7],[39,4,39,5],[39,6,39,7]]}
[null,null,null,null,null,null,null,null,null,"Année scolaire : ",null,{"$f":"' Liste élèves'!B1","v":"2018-2019"}]
[]
["NOM : ",{"$f":"' Liste élèves'!A48","v":"DELDUCA"},null,"PRENOM:",{"$f":"' Liste élèves'!B48","v":"Juliano"},null,null,"CLASSE :",{"$f":"' Liste élèves'!C48","v":"Classe AA"}]
[]
["SEPTEMBRE",null,null,null,"OCTOBRE",null,null,null,"NOVEMBRE"]
["RECETTES",null,"DEPENSES",null,"RECETTES",null,"DEPENSES",null,"RECETTES",null,"DEPENSES"]
["Dates","Montant","Activités","Montant","Dates","Montant","Activités","Montant","Dates","Montant","Activités","Montant"]
["Report juin",79.55]
[]
[]
[]
[]
[null,{"$f":"SUM(B9:B12)","v":0},null,{"$f":"SUM(D8:D12)","v":0},null,{"$f":"SUM(F8:F12)","v":0},null,{"$f":"SUM(H8:H12)","v":0},null,{"$f":"SUM(J8:J12)","v":0},null,{"$f":"SUM(L8:L12)","v":0}]
["Récap 30/09",null,null,{"$f":"+B13-D13","v":0},"Récap 31/10",null,null,{"$f":"+F13-H13","v":0},"Récap 30/11",null,null,{"$f":"+J13-L13","v":0}]
[]
["DÉCEMBRE",null,null,null,"Situation fin décembre",null,null,null,"JANVIER"]
["RECETTES",null,"DEPENSES",null,null,"Recettes","Dépenses","Total","RECETTES",null,"DEPENSES"]
["Dates","Montant","Activités","Montant",{"$f":"A14","v":"Récap 30/09"},{"$f":"B13","v":0},{"$f":"D13","v":0},{"$f":"D14","v":0},"Dates","Montant","Activités","Montant"]
[null,null,null,null,{"$f":"E14","v":"Récap 31/10"},{"$f":"F13","v":0},{"$f":"H13","v":0},{"$f":"H14","v":0}]
[null,null,null,null,{"$f":"I14","v":"Récap 30/11"},{"$f":"J13","v":0},{"$f":"L13","v":0},{"$f":"L14","v":0}]
[null,null,null,null,{"$f":"A25","v":"Récap 31/12"},{"$f":"B24","v":0},{"$f":"D24","v":0},{"$f":"D25","v":0}]
[null,null,null,null,"Report Sept",null,null,{"$f":"B8","v":79.55}]
[null,null,null,null,"Situation 31/12",{"$f":"SUM(F18:F22)","v":0},{"$f":"SUM(G18:G22)","v":0},{"$f":"SUM(H18:H22)","v":79.55}]
[null,{"$f":"SUM(B19:B23)","v":0},null,{"$f":"SUM(D19:D23)","v":0},null,null,null,null,null,{"$f":"SUM(J19:J23)","v":0},null,{"$f":"SUM(L19:L23)","v":0}]
["Récap 31/12",null,null,{"$f":"+B24-D24","v":0},null,null,null,null,"Récap 31/01",null,null,{"$f":"+J24-L24","v":0}]
[]
["FÉVRIER",null,null,null,"MARS",null,null,null,"AVRIL"]
["RECETTES",null,"DEPENSES",null,"RECETTES",null,"DEPENSES",null,"RECETTES",null,"DEPENSES"]
["Dates","Montant","Activités","Montant","Dates","Montant","Activités","Montant","Dates","Montant","Activités","Montant"]
[]
[]
[]
[]
[]
[null,{"$f":"SUM(B30:B34)","v":0},null,{"$f":"SUM(D30:D34)","v":0},null,{"$f":"SUM(F30:F34)","v":0},null,{"$f":"SUM(H30:H34)","v":0},null,{"$f":"SUM(J30:J34)","v":0},null,{"$f":"SUM(L30:L34)","v":0}]
["Récap 28/02",null,null,{"$f":"+B35-D35","v":0},"Récap 31/03",null,null,{"$f":"+F35-H35","v":0},"Récap 30/04",null,null,{"$f":"+J35-L35","v":0}]
[]
[]
["MAI",null,null,null,"JUIN",null,null,null,"Situation fin juin"]
["RECETTES",null,"DEPENSES",null,"RECETTES",null,"DEPENSES",null,null,"Recettes","Dépenses","Total"]
["Dates","Montant","Activités","Montant","Dates","Montant","Activités","Montant",{"$f":"E23","v":"Situation 31/12"},null,null,{"$f":"H23","v":79.55}]
[null,null,null,null,null,null,null,null,{"$f":"I25","v":"Récap 31/01"},{"$f":"J24","v":0},{"$f":"L24","v":0},{"$f":"L25","v":0}]
[null,null,null,null,null,null,null,null,{"$f":"A36","v":"Récap 28/02"},{"$f":"B35","v":0},{"$f":"D35","v":0},{"$f":"D36","v":0}]
[null,null,null,null,null,null,null,null,{"$f":"E36","v":"Récap 31/03"},{"$f":"F35","v":0},{"$f":"H35","v":0},{"$f":"H36","v":0}]
[null,null,null,null,null,null,null,null,{"$f":"I36","v":"Récap 30/04"},{"$f":"J35","v":0},{"$f":"L35","v":0},{"$f":"L36","v":0}]
[null,null,null,null,null,null,null,null,{"$f":"A48","v":"Récap 31/05"},{"$f":"B47","v":0},{"$f":"D47","v":0},{"$f":"D48","v":0}]
[null,{"$f":"SUM(B42:B46)","v":0},null,{"$f":"SUM(D42:D46)","v":0},null,{"$f":"SUM(F42:F46)","v":0},null,{"$f":"SUM(H42:H46)","v":0},{"$f":"E48","v":"Récap 30/06"},{"$f":"F47","v":0},{"$f":"H47","v":0},{"$f":"H48","v":0}]
["Récap 31/05",null,null,{"$f":"+B47-D47","v":0},"Récap 30/06",null,null,{"$f":"+F47-H47","v":0},"Situation 30/06",{"$f":"SUM(J42:J47)","v":0},{"$f":"SUM(K42:K47)","v":0},{"$f":"SUM(L41:L47)","v":79.55}]
[]
[null,null,null,null,null,null,null,null,null,null,null,{"$f":"F23+J48-G23-K48+B8","v":79.55}]
[]
[null,null,null,null,null,null,null,null,null,{"$f":"B13+F13+J13+B24+J24+B35+F35+J35+B47+F47","v":0},{"$f":"D13+H13+L13+D24+L24+D35+H35+L35+D47+H47","v":0},{"$f":"B8+J52-K52","v":79.55}]

{"sheet":"DELFABBRO","index":46,"n_rows":52,"n_cols":12,"rows_kept":52,"cut":false,"hidden":false,"merged":[[0,9,0,10],[2,1,2,2],[2,4,2,5],[2,8,2,9],[5,8,5,9],[5,10,5,11],[4,0,4,3],[4,4,4,7],[4,8,4,11],[5,0,5,1],[5,2,5,3],[5,4,5,5],[5,6,5,7],[24,0,24,2],[13,0,13,2],[13,4,13,6],[16,2,16,3],[37,9,37,10],[16,0,16,1],[27,6,27,7],[24,8,24,10],[38,8,38,11],[13,8,13,10],[15,0,15,3],[15,4,15,7],[15,8,15,11],[16,10,16,11],[26,0,26,3],[26,4,26,7],[26,8,26,11],[27,8,27,9],[35,0,35,2],[35,4,35,6],[35,8,35,10],[27,10,27,11],[16,8,16,9],[27,4,27,5],[47,0,47,2],[47,4,47,6],[38,0,38,3],[38,4,38,7],[39,4,39,5],[39,6,39,7]]}
[null,null,null,null,null,null,null,null,null,"Année scolaire : ",null,{"$f":"' Liste élèves'!B1","v":"2018-2019"}]
[]
["NOM : ",{"$f":"' Liste élèves'!A49","v":"DELFABBRO"},null,"PRENOM:",{"$f":"' Liste élèves'!B49","v":"Savanna"},null,null,"CLASSE :",{"$f":"' Liste élèves'!C49","v":"Classe 2"}]
[]
["SEPTEMBRE",null,null,null,"OCTOBRE",null,null,null,"NOVEMBRE"]
["RECETTES",null,"DEPENSES",null,"RECETTES",null,"DEPENSES",null,"RECETTES",null,"DEPENSES"]
["Dates","Montant","Activités","Montant","Dates","Montant","Activités","Montant","Dates","Montant","Activités","Montant"]
["Report juin",56]
[]
[]
[]
[]
[null,{"$f":"SUM(B9:B12)","v":0},null,{"$f":"SUM(D8:D12)","v":0},null,{"$f":"SUM(F8:F12)","v":0},null,{"$f":"SUM(H8:H12)","v":0},null,{"$f":"SUM(J8:J12)","v":0},null,{"$f":"SUM(L8:L12)","v":0}]
["Récap 30/09",null,null,{"$f":"+B13-D13","v":0},"Récap 31/10",null,null,{"$f":"+F13-H13","v":0},"Récap 30/11",null,null,{"$f":"+J13-L13","v":0}]
[]
["DÉCEMBRE",null,null,null,"Situation fin décembre",null,null,null,"JANVIER"]
["RECETTES",null,"DEPENSES",null,null,"Recettes","Dépenses","Total","RECETTES",null,"DEPENSES"]
["Dates","Montant","Activités","Montant",{"$f":"A14","v":"Récap 30/09"},{"$f":"B13","v":0},{"$f":"D13","v":0},{"$f":"D14","v":0},"Dates","Montant","Activités","Montant"]
[null,null,null,null,{"$f":"E14","v":"Récap 31/10"},{"$f":"F13","v":0},{"$f":"H13","v":0},{"$f":"H14","v":0}]
[null,null,null,null,{"$f":"I14","v":"Récap 30/11"},{"$f":"J13","v":0},{"$f":"L13","v":0},{"$f":"L14","v":0}]
[null,null,null,null,{"$f":"A25","v":"Récap 31/12"},{"$f":"B24","v":0},{"$f":"D24","v":0},{"$f":"D25","v":0}]
[null,null,null,null,"Report Sept",null,null,{"$f":"B8","v":56}]
[null,null,null,null,"Situation 31/12",{"$f":"SUM(F18:F22)","v":0},{"$f":"SUM(G18:G22)","v":0},{"$f":"SUM(H18:H22)","v":56}]
[null,{"$f":"SUM(B19:B23)","v":0},null,{"$f":"SUM(D19:D23)","v":0},null,null,null,null,null,{"$f":"SUM(J19:J23)","v":0},null,{"$f":"SUM(L19:L23)","v":0}]
["Récap 31/12",null,null,{"$f":"+B24-D24","v":0},null,null,null,null,"Récap 31/01",null,null,{"$f":"+J24-L24","v":0}]
[]
["FÉVRIER",null,null,null,"MARS",null,null,null,"AVRIL"]
["RECETTES",null,"DEPENSES",null,"RECETTES",null,"DEPENSES",null,"RECETTES",null,"DEPENSES"]
["Dates","Montant","Activités","Montant","Dates","Montant","Activités","Montant","Dates","Montant","Activités","Montant"]
[]
[]
[]
[]
[]
[null,{"$f":"SUM(B30:B34)","v":0},null,{"$f":"SUM(D30:D34)","v":0},null,{"$f":"SUM(F30:F34)","v":0},null,{"$f":"SUM(H30:H34)","v":0},null,{"$f":"SUM(J30:J34)","v":0},null,{"$f":"SUM(L30:L34)","v":0}]
["Récap 28/02",null,null,{"$f":"+B35-D35","v":0},"Récap 31/03",null,null,{"$f":"+F35-H35","v":0},"Récap 30/04",null,null,{"$f":"+J35-L35","v":0}]
[]
[]
["MAI",null,null,null,"JUIN",null,null,null,"Situation fin juin"]
["RECETTES",null,"DEPENSES",null,"RECETTES",null,"DEPENSES",null,null,"Recettes","Dépenses","Total"]
["Dates","Montant","Activités","Montant","Dates","Montant","Activités","Montant",{"$f":"E23","v":"Situation 31/12"},null,null,{"$f":"H23","v":56}]
[null,null,null,null,null,null,null,null,{"$f":"I25","v":"Récap 31/01"},{"$f":"J24","v":0},{"$f":"L24","v":0},{"$f":"L25","v":0}]
[null,null,null,null,null,null,null,null,{"$f":"A36","v":"Récap 28/02"},{"$f":"B35","v":0},{"$f":"D35","v":0},{"$f":"D36","v":0}]
[null,null,null,null,null,null,null,null,{"$f":"E36","v":"Récap 31/03"},{"$f":"F35","v":0},{"$f":"H35","v":0},{"$f":"H36","v":0}]
[null,null,null,null,null,null,null,null,{"$f":"I36","v":"Récap 30/04"},{"$f":"J35","v":0},{"$f":"L35","v":0},{"$f":"L36","v":0}]
[null,null,null,null,null,null,null,null,{"$f":"A48","v":"Récap 31/05"},{"$f":"B47","v":0},{"$f":"D47","v":0},{"$f":"D48","v":0}]
[null,{"$f":"SUM(B42:B46)","v":0},null,{"$f":"SUM(D42:D46)","v":0},null,{"$f":"SUM(F42:F46)","v":0},null,{"$f":"SUM(H42:H46)","v":0},{"$f":"E48","v":"Récap 30/06"},{"$f":"F47","v":0},{"$f":"H47","v":0},{"$f":"H48","v":0}]
["Récap 31/05",null,null,{"$f":"+B47-D47","v":0},"Récap 30/06",null,null,{"$f":"+F47-H47","v":0},"Situation 30/06",{"$f":"SUM(J42:J47)","v":0},{"$f":"SUM(K42:K47)","v":0},{"$f":"SUM(L41:L47)","v":56}]
[]
[null,null,null,null,null,null,null,null,null,null,null,{"$f":"F23+J48-G23-K48+B8","v":56}]
[]
[null,null,null,null,null,null,null,null,null,{"$f":"B13+F13+J13+B24+J24+B35+F35+J35+B47+F47","v":0},{"$f":"D13+H13+L13+D24+L24+D35+H35+L35+D47+H47","v":0},{"$f":"B8+J52-K52","v":56}]

{"sheet":"DELIGNE","index":47,"n_rows":52,"n_cols":12,"rows_kept":52,"cut":false,"hidden":false,"merged":[[0,9,0,10],[2,1,2,2],[2,4,2,5],[2,8,2,9],[5,8,5,9],[5,10,5,11],[4,0,4,3],[4,4,4,7],[4,8,4,11],[5,0,5,1],[5,2,5,3],[5,4,5,5],[5,6,5,7],[24,0,24,2],[13,0,13,2],[13,4,13,6],[16,2,16,3],[37,9,37,10],[16,0,16,1],[27,6,27,7],[24,8,24,10],[38,8,38,11],[13,8,13,10],[15,0,15,3],[15,4,15,7],[15,8,15,11],[16,10,16,11],[26,0,26,3],[26,4,26,7],[26,8,26,11],[27,8,27,9],[35,0,35,2],[35,4,35,6],[35,8,35,10],[27,10,27,11],[16,8,16,9],[27,4,27,5],[47,0,47,2],[47,4,47,6],[38,0,38,3],[38,4,38,7],[39,4,39,5],[39,6,39,7]]}
[null,null,null,null,null,null,null,null,null,"Année scolaire : ",null,{"$f":"' Liste élèves'!B1","v":"2018-2019"}]
[]
["NOM : ",{"$f":"' Liste élèves'!A51","v":"DELIGNE"},null,"PRENOM:",{"$f":"' Liste élèves'!B51","v":"Laurie"},null,null,"CLASSE :",{"$f":"' Liste élèves'!C51","v":"Classe 5"}]
[]
["SEPTEMBRE",null,null,null,"OCTOBRE",null,null,null,"NOVEMBRE"]
["RECETTES",null,"DEPENSES",null,"RECETTES",null,"DEPENSES",null,"RECETTES",null,"DEPENSES"]
["Dates","Montant","Activités","Montant","Dates","Montant","Activités","Montant","Dates","Montant","Activités","Montant"]
["Report juin",39.520000000000003]
[]
[]
[]
[]
[null,{"$f":"SUM(B9:B12)","v":0},null,{"$f":"SUM(D8:D12)","v":0},null,{"$f":"SUM(F8:F12)","v":0},null,{"$f":"SUM(H8:H12)","v":0},null,{"$f":"SUM(J8:J12)","v":0},null,{"$f":"SUM(L8:L12)","v":0}]
["Récap 30/09",null,null,{"$f":"+B13-D13","v":0},"Récap 31/10",null,null,{"$f":"+F13-H13","v":0},"Récap 30/11",null,null,{"$f":"+J13-L13","v":0}]
[]
["DÉCEMBRE",null,null,null,"Situation fin décembre",null,null,null,"JANVIER"]
["RECETTES",null,"DEPENSES",null,null,"Recettes","Dépenses","Total","RECETTES",null,"DEPENSES"]
["Dates","Montant","Activités","Montant",{"$f":"A14","v":"Récap 30/09"},{"$f":"B13","v":0},{"$f":"D13","v":0},{"$f":"D14","v":0},"Dates","Montant","Activités","Montant"]
[null,null,null,null,{"$f":"E14","v":"Récap 31/10"},{"$f":"F13","v":0},{"$f":"H13","v":0},{"$f":"H14","v":0}]
[null,null,null,null,{"$f":"I14","v":"Récap 30/11"},{"$f":"J13","v":0},{"$f":"L13","v":0},{"$f":"L14","v":0}]
[null,null,null,null,{"$f":"A25","v":"Récap 31/12"},{"$f":"B24","v":0},{"$f":"D24","v":0},{"$f":"D25","v":0}]
[null,null,null,null,"Report Sept",null,null,{"$f":"B8","v":39.520000000000003}]
[null,null,null,null,"Situation 31/12",{"$f":"SUM(F18:F22)","v":0},{"$f":"SUM(G18:G22)","v":0},{"$f":"SUM(H18:H22)","v":39.520000000000003}]
[null,{"$f":"SUM(B19:B23)","v":0},null,{"$f":"SUM(D19:D23)","v":0},null,null,null,null,null,{"$f":"SUM(J19:J23)","v":0},null,{"$f":"SUM(L19:L23)","v":0}]
["Récap 31/12",null,null,{"$f":"+B24-D24","v":0},null,null,null,null,"Récap 31/01",null,null,{"$f":"+J24-L24","v":0}]
[]
["FÉVRIER",null,null,null,"MARS",null,null,null,"AVRIL"]
["RECETTES",null,"DEPENSES",null,"RECETTES",null,"DEPENSES",null,"RECETTES",null,"DEPENSES"]
["Dates","Montant","Activités","Montant","Dates","Montant","Activités","Montant","Dates","Montant","Activités","Montant"]
[]
[]
[]
[]
[]
[null,{"$f":"SUM(B30:B34)","v":0},null,{"$f":"SUM(D30:D34)","v":0},null,{"$f":"SUM(F30:F34)","v":0},null,{"$f":"SUM(H30:H34)","v":0},null,{"$f":"SUM(J30:J34)","v":0},null,{"$f":"SUM(L30:L34)","v":0}]
["Récap 28/02",null,null,{"$f":"+B35-D35","v":0},"Récap 31/03",null,null,{"$f":"+F35-H35","v":0},"Récap 30/04",null,null,{"$f":"+J35-L35","v":0}]
[]
[]
["MAI",null,null,null,"JUIN",null,null,null,"Situation fin juin"]
["RECETTES",null,"DEPENSES",null,"RECETTES",null,"DEPENSES",null,null,"Recettes","Dépenses","Total"]
["Dates","Montant","Activités","Montant","Dates","Montant","Activités","Montant",{"$f":"E23","v":"Situation 31/12"},null,null,{"$f":"H23","v":39.520000000000003}]
[null,null,null,null,null,null,null,null,{"$f":"I25","v":"Récap 31/01"},{"$f":"J24","v":0},{"$f":"L24","v":0},{"$f":"L25","v":0}]
[null,null,null,null,null,null,null,null,{"$f":"A36","v":"Récap 28/02"},{"$f":"B35","v":0},{"$f":"D35","v":0},{"$f":"D36","v":0}]
[null,null,null,null,null,null,null,null,{"$f":"E36","v":"Récap 31/03"},{"$f":"F35","v":0},{"$f":"H35","v":0},{"$f":"H36","v":0}]
[null,null,null,null,null,null,null,null,{"$f":"I36","v":"Récap 30/04"},{"$f":"J35","v":0},{"$f":"L35","v":0},{"$f":"L36","v":0}]
[null,null,null,null,null,null,null,null,{"$f":"A48","v":"Récap 31/05"},{"$f":"B47","v":0},{"$f":"D47","v":0},{"$f":"D48","v":0}]
[null,{"$f":"SUM(B42:B46)","v":0},null,{"$f":"SUM(D42:D46)","v":0},null,{"$f":"SUM(F42:F46)","v":0},null,{"$f":"SUM(H42:H46)","v":0},{"$f":"E48","v":"Récap 30/06"},{"$f":"F47","v":0},{"$f":"H47","v":0},{"$f":"H48","v":0}]
["Récap 31/05",null,null,{"$f":"+B47-D47","v":0},"Récap 30/06",null,null,{"$f":"+F47-H47","v":0},"Situation 30/06",{"$f":"SUM(J42:J47)","v":0},{"$f":"SUM(K42:K47)","v":0},{"$f":"SUM(L41:L47)","v":39.520000000000003}]
[]
[null,null,null,null,null,null,null,null,null,null,null,{"$f":"F23+J48-G23-K48+B8","v":39.520000000000003}]
[]
[null,null,null,null,null,null,null,null,null,{"$f":"B13+F13+J13+B24+J24+B35+F35+J35+B47+F47","v":0},{"$f":"D13+H13+L13+D24+L24+D35+H35+L35+D47+H47","v":0},{"$f":"B8+J52-K52","v":39.520000000000003}]

{"sheet":"DELMARCHE","index":48,"n_rows":52,"n_cols":12,"rows_kept":52,"cut":false,"hidden":false,"merged":[[0,9,0,10],[2,1,2,2],[2,4,2,5],[2,8,2,9],[5,8,5,9],[5,10,5,11],[4,0,4,3],[4,4,4,7],[4,8,4,11],[5,0,5,1],[5,2,5,3],[5,4,5,5],[5,6,5,7],[24,0,24,2],[13,0,13,2],[13,4,13,6],[16,2,16,3],[37,9,37,10],[16,0,16,1],[27,6,27,7],[24,8,24,10],[38,8,38,11],[13,8,13,10],[15,0,15,3],[15,4,15,7],[15,8,15,11],[16,10,16,11],[26,0,26,3],[26,4,26,7],[26,8,26,11],[27,8,27,9],[35,0,35,2],[35,4,35,6],[35,8,35,10],[27,10,27,11],[16,8,16,9],[27,4,27,5],[47,0,47,2],[47,4,47,6],[38,0,38,3],[38,4,38,7],[39,4,39,5],[39,6,39,7]]}
[null,null,null,null,null,null,null,null,null,"Année scolaire : ",null,{"$f":"' Liste élèves'!B1","v":"2018-2019"}]
[]
["NOM : ",{"$f":"' Liste élèves'!A52","v":"DELMARCHE"},null,"PRENOM:",{"$f":"' Liste élèves'!B52","v":"Etan"},null,null,"CLASSE :",{"$f":"' Liste élèves'!C52","v":"Classe 3"}]
[]
["SEPTEMBRE",null,null,null,"OCTOBRE",null,null,null,"NOVEMBRE"]
["RECETTES",null,"DEPENSES",null,"RECETTES",null,"DEPENSES",null,"RECETTES",null,"DEPENSES"]
["Dates","Montant","Activités","Montant","Dates","Montant","Activités","Montant","Dates","Montant","Activités","Montant"]
["Report juin",52.03]
[]
[]
[]
[]
[null,{"$f":"SUM(B9:B12)","v":0},null,{"$f":"SUM(D8:D12)","v":0},null,{"$f":"SUM(F8:F12)","v":0},null,{"$f":"SUM(H8:H12)","v":0},null,{"$f":"SUM(J8:J12)","v":0},null,{"$f":"SUM(L8:L12)","v":0}]
["Récap 30/09",null,null,{"$f":"+B13-D13","v":0},"Récap 31/10",null,null,{"$f":"+F13-H13","v":0},"Récap 30/11",null,null,{"$f":"+J13-L13","v":0}]
[]
["DÉCEMBRE",null,null,null,"Situation fin décembre",null,null,null,"JANVIER"]
["RECETTES",null,"DEPENSES",null,null,"Recettes","Dépenses","Total","RECETTES",null,"DEPENSES"]
["Dates","Montant","Activités","Montant",{"$f":"A14","v":"Récap 30/09"},{"$f":"B13","v":0},{"$f":"D13","v":0},{"$f":"D14","v":0},"Dates","Montant","Activités","Montant"]
[null,null,null,null,{"$f":"E14","v":"Récap 31/10"},{"$f":"F13","v":0},{"$f":"H13","v":0},{"$f":"H14","v":0}]
[null,null,null,null,{"$f":"I14","v":"Récap 30/11"},{"$f":"J13","v":0},{"$f":"L13","v":0},{"$f":"L14","v":0}]
[null,null,null,null,{"$f":"A25","v":"Récap 31/12"},{"$f":"B24","v":0},{"$f":"D24","v":0},{"$f":"D25","v":0}]
[null,null,null,null,"Report Sept",null,null,{"$f":"B8","v":52.03}]
[null,null,null,null,"Situation 31/12",{"$f":"SUM(F18:F22)","v":0},{"$f":"SUM(G18:G22)","v":0},{"$f":"SUM(H18:H22)","v":52.03}]
[null,{"$f":"SUM(B19:B23)","v":0},null,{"$f":"SUM(D19:D23)","v":0},null,null,null,null,null,{"$f":"SUM(J19:J23)","v":0},null,{"$f":"SUM(L19:L23)","v":0}]
["Récap 31/12",null,null,{"$f":"+B24-D24","v":0},null,null,null,null,"Récap 31/01",null,null,{"$f":"+J24-L24","v":0}]
[]
["FÉVRIER",null,null,null,"MARS",null,null,null,"AVRIL"]
["RECETTES",null,"DEPENSES",null,"RECETTES",null,"DEPENSES",null,"RECETTES",null,"DEPENSES"]
["Dates","Montant","Activités","Montant","Dates","Montant","Activités","Montant","Dates","Montant","Activités","Montant"]
[]
[]
[]
[]
[]
[null,{"$f":"SUM(B30:B34)","v":0},null,{"$f":"SUM(D30:D34)","v":0},null,{"$f":"SUM(F30:F34)","v":0},null,{"$f":"SUM(H30:H34)","v":0},null,{"$f":"SUM(J30:J34)","v":0},null,{"$f":"SUM(L30:L34)","v":0}]
["Récap 28/02",null,null,{"$f":"+B35-D35","v":0},"Récap 31/03",null,null,{"$f":"+F35-H35","v":0},"Récap 30/04",null,null,{"$f":"+J35-L35","v":0}]
[]
[]
["MAI",null,null,null,"JUIN",null,null,null,"Situation fin juin"]
["RECETTES",null,"DEPENSES",null,"RECETTES",null,"DEPENSES",null,null,"Recettes","Dépenses","Total"]
["Dates","Montant","Activités","Montant","Dates","Montant","Activités","Montant",{"$f":"E23","v":"Situation 31/12"},null,null,{"$f":"H23","v":52.03}]
[null,null,null,null,null,null,null,null,{"$f":"I25","v":"Récap 31/01"},{"$f":"J24","v":0},{"$f":"L24","v":0},{"$f":"L25","v":0}]
[null,null,null,null,null,null,null,null,{"$f":"A36","v":"Récap 28/02"},{"$f":"B35","v":0},{"$f":"D35","v":0},{"$f":"D36","v":0}]
[null,null,null,null,null,null,null,null,{"$f":"E36","v":"Récap 31/03"},{"$f":"F35","v":0},{"$f":"H35","v":0},{"$f":"H36","v":0}]
[null,null,null,null,null,null,null,null,{"$f":"I36","v":"Récap 30/04"},{"$f":"J35","v":0},{"$f":"L35","v":0},{"$f":"L36","v":0}]
[null,null,null,null,null,null,null,null,{"$f":"A48","v":"Récap 31/05"},{"$f":"B47","v":0},{"$f":"D47","v":0},{"$f":"D48","v":0}]
[null,{"$f":"SUM(B42:B46)","v":0},null,{"$f":"SUM(D42:D46)","v":0},null,{"$f":"SUM(F42:F46)","v":0},null,{"$f":"SUM(H42:H46)","v":0},{"$f":"E48","v":"Récap 30/06"},{"$f":"F47","v":0},{"$f":"H47","v":0},{"$f":"H48","v":0}]
["Récap 31/05",null,null,{"$f":"+B47-D47","v":0},"Récap 30/06",null,null,{"$f":"+F47-H47","v":0},"Situation 30/06",{"$f":"SUM(J42:J47)","v":0},{"$f":"SUM(K42:K47)","v":0},{"$f":"SUM(L41:L47)","v":52.03}]
[]
[null,null,null,null,null,null,null,null,null,null,null,{"$f":"F23+J48-G23-K48+B8","v":52.03}]
[]
[null,null,null,null,null,null,null,null,null,{"$f":"B13+F13+J13+B24+J24+B35+F35+J35+B47+F47","v":0},{"$f":"D13+H13+L13+D24+L24+D35+H35+L35+D47+H47","v":0},{"$f":"B8+J52-K52","v":52.03}]

{"sheet":"DENIES","index":49,"n_rows":52,"n_cols":12,"rows_kept":52,"cut":false,"hidden":false,"merged":[[0,9,0,10],[2,1,2,2],[2,4,2,5],[2,8,2,9],[5,8,5,9],[5,10,5,11],[4,0,4,3],[4,4,4,7],[4,8,4,11],[5,0,5,1],[5,2,5,3],[5,4,5,5],[5,6,5,7],[24,0,24,2],[13,0,13,2],[13,4,13,6],[16,2,16,3],[37,9,37,10],[16,0,16,1],[27,6,27,7],[24,8,24,10],[38,8,38,11],[13,8,13,10],[15,0,15,3],[15,4,15,7],[15,8,15,11],[16,10,16,11],[26,0,26,3],[26,4,26,7],[26,8,26,11],[27,8,27,9],[35,0,35,2],[35,4,35,6],[35,8,35,10],[27,10,27,11],[16,8,16,9],[27,4,27,5],[47,0,47,2],[47,4,47,6],[38,0,38,3],[38,4,38,7],[39,4,39,5],[39,6,39,7]]}
[null,null,null,null,null,null,null,null,null,"Année scolaire : ",null,{"$f":"' Liste élèves'!B1","v":"2018-2019"}]
[]
["NOM : ",{"$f":"' Liste élèves'!A53","v":"DENIES"},null,"PRENOM:",{"$f":"' Liste élèves'!B53","v":"Jason"},null,null,"CLASSE :",{"$f":"' Liste élèves'!C53","v":"Classe 8"}]
[]
["SEPTEMBRE",null,null,null,"OCTOBRE",null,null,null,"NOVEMBRE"]
["RECETTES",null,"DEPENSES",null,"RECETTES",null,"DEPENSES",null,"RECETTES",null,"DEPENSES"]
["Dates","Montant","Activités","Montant","Dates","Montant","Activités","Montant","Dates","Montant","Activités","Montant"]
["Report juin",30.77]
[]
[]
[]
[]
[null,{"$f":"SUM(B9:B12)","v":0},null,{"$f":"SUM(D8:D12)","v":0},null,{"$f":"SUM(F8:F12)","v":0},null,{"$f":"SUM(H8:H12)","v":0},null,{"$f":"SUM(J8:J12)","v":0},null,{"$f":"SUM(L8:L12)","v":0}]
["Récap 30/09",null,null,{"$f":"+B13-D13","v":0},"Récap 31/10",null,null,{"$f":"+F13-H13","v":0},"Récap 30/11",null,null,{"$f":"+J13-L13","v":0}]
[]
["DÉCEMBRE",null,null,null,"Situation fin décembre",null,null,null,"JANVIER"]
["RECETTES",null,"DEPENSES",null,null,"Recettes","Dépenses","Total","RECETTES",null,"DEPENSES"]
["Dates","Montant","Activités","Montant",{"$f":"A14","v":"Récap 30/09"},{"$f":"B13","v":0},{"$f":"D13","v":0},{"$f":"D14","v":0},"Dates","Montant","Activités","Montant"]
[null,null,null,null,{"$f":"E14","v":"Récap 31/10"},{"$f":"F13","v":0},{"$f":"H13","v":0},{"$f":"H14","v":0}]
[null,null,null,null,{"$f":"I14","v":"Récap 30/11"},{"$f":"J13","v":0},{"$f":"L13","v":0},{"$f":"L14","v":0}]
[null,null,null,null,{"$f":"A25","v":"Récap 31/12"},{"$f":"B24","v":0},{"$f":"D24","v":0},{"$f":"D25","v":0}]
[null,null,null,null,"Report Sept",null,null,{"$f":"B8","v":30.77}]
[null,null,null,null,"Situation 31/12",{"$f":"SUM(F18:F22)","v":0},{"$f":"SUM(G18:G22)","v":0},{"$f":"SUM(H18:H22)","v":30.77}]
[null,{"$f":"SUM(B19:B23)","v":0},null,{"$f":"SUM(D19:D23)","v":0},null,null,null,null,null,{"$f":"SUM(J19:J23)","v":0},null,{"$f":"SUM(L19:L23)","v":0}]
["Récap 31/12",null,null,{"$f":"+B24-D24","v":0},null,null,null,null,"Récap 31/01",null,null,{"$f":"+J24-L24","v":0}]
[]
["FÉVRIER",null,null,null,"MARS",null,null,null,"AVRIL"]
["RECETTES",null,"DEPENSES",null,"RECETTES",null,"DEPENSES",null,"RECETTES",null,"DEPENSES"]
["Dates","Montant","Activités","Montant","Dates","Montant","Activités","Montant","Dates","Montant","Activités","Montant"]
[]
[]
[]
[]
[]
[null,{"$f":"SUM(B30:B34)","v":0},null,{"$f":"SUM(D30:D34)","v":0},null,{"$f":"SUM(F30:F34)","v":0},null,{"$f":"SUM(H30:H34)","v":0},null,{"$f":"SUM(J30:J34)","v":0},null,{"$f":"SUM(L30:L34)","v":0}]
["Récap 28/02",null,null,{"$f":"+B35-D35","v":0},"Récap 31/03",null,null,{"$f":"+F35-H35","v":0},"Récap 30/04",null,null,{"$f":"+J35-L35","v":0}]
[]
[]
["MAI",null,null,null,"JUIN",null,null,null,"Situation fin juin"]
["RECETTES",null,"DEPENSES",null,"RECETTES",null,"DEPENSES",null,null,"Recettes","Dépenses","Total"]
["Dates","Montant","Activités","Montant","Dates","Montant","Activités","Montant",{"$f":"E23","v":"Situation 31/12"},null,null,{"$f":"H23","v":30.77}]
[null,null,null,null,null,null,null,null,{"$f":"I25","v":"Récap 31/01"},{"$f":"J24","v":0},{"$f":"L24","v":0},{"$f":"L25","v":0}]
[null,null,null,null,null,null,null,null,{"$f":"A36","v":"Récap 28/02"},{"$f":"B35","v":0},{"$f":"D35","v":0},{"$f":"D36","v":0}]
[null,null,null,null,null,null,null,null,{"$f":"E36","v":"Récap 31/03"},{"$f":"F35","v":0},{"$f":"H35","v":0},{"$f":"H36","v":0}]
[null,null,null,null,null,null,null,null,{"$f":"I36","v":"Récap 30/04"},{"$f":"J35","v":0},{"$f":"L35","v":0},{"$f":"L36","v":0}]
[null,null,null,null,null,null,null,null,{"$f":"A48","v":"Récap 31/05"},{"$f":"B47","v":0},{"$f":"D47","v":0},{"$f":"D48","v":0}]
[null,{"$f":"SUM(B42:B46)","v":0},null,{"$f":"SUM(D42:D46)","v":0},null,{"$f":"SUM(F42:F46)","v":0},null,{"$f":"SUM(H42:H46)","v":0},{"$f":"E48","v":"Récap 30/06"},{"$f":"F47","v":0},{"$f":"H47","v":0},{"$f":"H48","v":0}]
["Récap 31/05",null,null,{"$f":"+B47-D47","v":0},"Récap 30/06",null,null,{"$f":"+F47-H47","v":0},"Situation 30/06",{"$f":"SUM(J42:J47)","v":0},{"$f":"SUM(K42:K47)","v":0},{"$f":"SUM(L41:L47)","v":30.77}]
[]
[null,null,null,null,null,null,null,null,null,null,null,{"$f":"F23+J48-G23-K48+B8","v":30.77}]
[]
[null,null,null,null,null,null,null,null,null,{"$f":"B13+F13+J13+B24+J24+B35+F35+J35+B47+F47","v":0},{"$f":"D13+H13+L13+D24+L24+D35+H35+L35+D47+H47","v":0},{"$f":"B8+J52-K52","v":30.77}]

{"sheet":"DENIS","index":50,"n_rows":52,"n_cols":12,"rows_kept":52,"cut":false,"hidden":false,"merged":[[5,10,5,11],[0,9,0,10],[2,1,2,2],[2,4,2,5],[2,8,2,9],[4,0,4,3],[4,4,4,7],[4,8,4,11],[5,0,5,1],[5,2,5,3],[5,4,5,5],[5,6,5,7],[5,8,5,9],[13,0,13,2],[13,4,13,6],[13,8,13,10],[15,0,15,3],[15,4,15,7],[15,8,15,11],[16,0,16,1],[16,2,16,3],[16,8,16,9],[16,10,16,11],[24,0,24,2],[24,8,24,10],[26,0,26,3],[26,4,26,7],[26,8,26,11],[27,4,27,5],[27,6,27,7],[27,8,27,9],[27,10,27,11],[35,8,35,10],[37,9,37,10],[38,0,38,3],[38,4,38,7],[38,8,38,11],[39,4,39,5],[39,6,39,7],[47,0,47,2],[47,4,47,6],[35,0,35,2],[35,4,35,6]]}
[null,null,null,null,null,null,null,null,null,"Année scolaire : ",null,{"$f":"' Liste élèves'!B1","v":"2018-2019"}]
[]
["NOM : ",{"$f":"' Liste élèves'!A54","v":"DENIS"},null,"PRENOM:",{"$f":"' Liste élèves'!B54","v":"Bryan"},null,null,"CLASSE :",{"$f":"' Liste élèves'!C54","v":"Classe 12"}]
[]
["SEPTEMBRE",null,null,null,"OCTOBRE",null,null,null,"NOVEMBRE"]
["RECETTES",null,"DEPENSES",null,"RECETTES",null,"DEPENSES",null,"RECETTES",null,"DEPENSES"]
["Dates","Montant","Activités","Montant","Dates","Montant","Activités","Montant","Dates","Montant","Activités","Montant"]
["Report juin"]
[]
[]
[]
[]
[null,{"$f":"SUM(B9:B12)","v":0},null,{"$f":"SUM(D8:D12)","v":0},null,{"$f":"SUM(F8:F12)","v":0},null,{"$f":"SUM(H8:H12)","v":0},null,{"$f":"SUM(J8:J12)","v":0},null,{"$f":"SUM(L8:L12)","v":0}]
["Récap 30/09",null,null,{"$f":"+B13-D13","v":0},"Récap 31/10",null,null,{"$f":"+F13-H13","v":0},"Récap 30/11",null,null,{"$f":"+J13-L13","v":0}]
[]
["DÉCEMBRE",null,null,null,"Situation fin décembre",null,null,null,"JANVIER"]
["RECETTES",null,"DEPENSES",null,null,"Recettes","Dépenses","Total","RECETTES",null,"DEPENSES"]
["Dates","Montant","Activités","Montant",{"$f":"A14","v":"Récap 30/09"},{"$f":"B13","v":0},{"$f":"D13","v":0},{"$f":"D14","v":0},"Dates","Montant","Activités","Montant"]
[null,null,null,null,{"$f":"E14","v":"Récap 31/10"},{"$f":"F13","v":0},{"$f":"H13","v":0},{"$f":"H14","v":0}]
[null,null,null,null,{"$f":"I14","v":"Récap 30/11"},{"$f":"J13","v":0},{"$f":"L13","v":0},{"$f":"L14","v":0}]
[null,null,null,null,{"$f":"A25","v":"Récap 31/12"},{"$f":"B24","v":0},{"$f":"D24","v":0},{"$f":"D25","v":0}]
[null,null,null,null,"Report Sept",null,null,{"$f":"B8","v":0}]
[null,null,null,null,"Situation 31/12",{"$f":"SUM(F18:F22)","v":0},{"$f":"SUM(G18:G22)","v":0},{"$f":"SUM(H18:H22)","v":0}]
[null,{"$f":"SUM(B19:B23)","v":0},null,{"$f":"SUM(D19:D23)","v":0},null,null,null,null,null,{"$f":"SUM(J19:J23)","v":0},null,{"$f":"SUM(L19:L23)","v":0}]
["Récap 31/12",null,null,{"$f":"+B24-D24","v":0},null,null,null,null,"Récap 31/01",null,null,{"$f":"+J24-L24","v":0}]
[]
["FÉVRIER",null,null,null,"MARS",null,null,null,"AVRIL"]
["RECETTES",null,"DEPENSES",null,"RECETTES",null,"DEPENSES",null,"RECETTES",null,"DEPENSES"]
["Dates","Montant","Activités","Montant","Dates","Montant","Activités","Montant","Dates","Montant","Activités","Montant"]
[]
[]
[]
[]
[]
[null,{"$f":"SUM(B30:B34)","v":0},null,{"$f":"SUM(D30:D34)","v":0},null,{"$f":"SUM(F30:F34)","v":0},null,{"$f":"SUM(H30:H34)","v":0},null,{"$f":"SUM(J30:J34)","v":0},null,{"$f":"SUM(L30:L34)","v":0}]
["Récap 28/02",null,null,{"$f":"+B35-D35","v":0},"Récap 31/03",null,null,{"$f":"+F35-H35","v":0},"Récap 30/04",null,null,{"$f":"+J35-L35","v":0}]
[]
[]
["MAI",null,null,null,"JUIN",null,null,null,"Situation fin juin"]
["RECETTES",null,"DEPENSES",null,"RECETTES",null,"DEPENSES",null,null,"Recettes","Dépenses","Total"]
["Dates","Montant","Activités","Montant","Dates","Montant","Activités","Montant",{"$f":"E23","v":"Situation 31/12"},null,null,{"$f":"H23","v":0}]
[null,null,null,null,null,null,null,null,{"$f":"I25","v":"Récap 31/01"},{"$f":"J24","v":0},{"$f":"L24","v":0},{"$f":"L25","v":0}]
[null,null,null,null,null,null,null,null,{"$f":"A36","v":"Récap 28/02"},{"$f":"B35","v":0},{"$f":"D35","v":0},{"$f":"D36","v":0}]
[null,null,null,null,null,null,null,null,{"$f":"E36","v":"Récap 31/03"},{"$f":"F35","v":0},{"$f":"H35","v":0},{"$f":"H36","v":0}]
[null,null,null,null,null,null,null,null,{"$f":"I36","v":"Récap 30/04"},{"$f":"J35","v":0},{"$f":"L35","v":0},{"$f":"L36","v":0}]
[null,null,null,null,null,null,null,null,{"$f":"A48","v":"Récap 31/05"},{"$f":"B47","v":0},{"$f":"D47","v":0},{"$f":"D48","v":0}]
[null,{"$f":"SUM(B42:B46)","v":0},null,{"$f":"SUM(D42:D46)","v":0},null,{"$f":"SUM(F42:F46)","v":0},null,{"$f":"SUM(H42:H46)","v":0},{"$f":"E48","v":"Récap 30/06"},{"$f":"F47","v":0},{"$f":"H47","v":0},{"$f":"H48","v":0}]
["Récap 31/05",null,null,{"$f":"+B47-D47","v":0},"Récap 30/06",null,null,{"$f":"+F47-H47","v":0},"Situation 30/06",{"$f":"SUM(J42:J47)","v":0},{"$f":"SUM(K42:K47)","v":0},{"$f":"SUM(L41:L47)","v":0}]
[]
[null,null,null,null,null,null,null,null,null,null,null,{"$f":"F23+J48-G23-K48+B8","v":0}]
[]
[null,null,null,null,null,null,null,null,null,{"$f":"B13+F13+J13+B24+J24+B35+F35+J35+B47+F47","v":0},{"$f":"D13+H13+L13+D24+L24+D35+H35+L35+D47+H47","v":0},{"$f":"B8+J52-K52","v":0}]

{"sheet":"DENISTYA","index":51,"n_rows":52,"n_cols":12,"rows_kept":52,"cut":false,"hidden":false,"merged":[[0,9,0,10],[2,1,2,2],[2,4,2,5],[2,8,2,9],[5,8,5,9],[5,10,5,11],[4,0,4,3],[4,4,4,7],[4,8,4,11],[5,0,5,1],[5,2,5,3],[5,4,5,5],[5,6,5,7],[24,0,24,2],[13,0,13,2],[13,4,13,6],[16,2,16,3],[37,9,37,10],[16,0,16,1],[27,6,27,7],[24,8,24,10],[38,8,38,11],[13,8,13,10],[15,0,15,3],[15,4,15,7],[15,8,15,11],[16,10,16,11],[26,0,26,3],[26,4,26,7],[26,8,26,11],[27,8,27,9],[35,0,35,2],[35,4,35,6],[35,8,35,10],[27,10,27,11],[16,8,16,9],[27,4,27,5],[47,0,47,2],[47,4,47,6],[38,0,38,3],[38,4,38,7],[39,4,39,5],[39,6,39,7]]}
[null,null,null,null,null,null,null,null,null,"Année scolaire : ",null,{"$f":"' Liste élèves'!B1","v":"2018-2019"}]
[]
["NOM : ",{"$f":"' Liste élèves'!A56","v":"DENISTYA"},null,"PRENOM:",{"$f":"' Liste élèves'!B56","v":"Arthur"},null,null,"CLASSE :",{"$f":"' Liste élèves'!C56","v":"Classe MC"}]
[]
["SEPTEMBRE",null,null,null,"OCTOBRE",null,null,null,"NOVEMBRE"]
["RECETTES",null,"DEPENSES",null,"RECETTES",null,"DEPENSES",null,"RECETTES",null,"DEPENSES"]
["Dates","Montant","Activités","Montant","Dates","Montant","Activités","Montant","Dates","Montant","Activités","Montant"]
["Report juin",43.1]
[]
[]
[]
[]
[null,{"$f":"SUM(B9:B12)","v":0},null,{"$f":"SUM(D8:D12)","v":0},null,{"$f":"SUM(F8:F12)","v":0},null,{"$f":"SUM(H8:H12)","v":0},null,{"$f":"SUM(J8:J12)","v":0},null,{"$f":"SUM(L8:L12)","v":0}]
["Récap 30/09",null,null,{"$f":"+B13-D13","v":0},"Récap 31/10",null,null,{"$f":"+F13-H13","v":0},"Récap 30/11",null,null,{"$f":"+J13-L13","v":0}]
[]
["DÉCEMBRE",null,null,null,"Situation fin décembre",null,null,null,"JANVIER"]
["RECETTES",null,"DEPENSES",null,null,"Recettes","Dépenses","Total","RECETTES",null,"DEPENSES"]
["Dates","Montant","Activités","Montant",{"$f":"A14","v":"Récap 30/09"},{"$f":"B13","v":0},{"$f":"D13","v":0},{"$f":"D14","v":0},"Dates","Montant","Activités","Montant"]
[null,null,null,null,{"$f":"E14","v":"Récap 31/10"},{"$f":"F13","v":0},{"$f":"H13","v":0},{"$f":"H14","v":0}]
[null,null,null,null,{"$f":"I14","v":"Récap 30/11"},{"$f":"J13","v":0},{"$f":"L13","v":0},{"$f":"L14","v":0}]
[null,null,null,null,{"$f":"A25","v":"Récap 31/12"},{"$f":"B24","v":0},{"$f":"D24","v":0},{"$f":"D25","v":0}]
[null,null,null,null,"Report Sept",null,null,{"$f":"B8","v":43.1}]
[null,null,null,null,"Situation 31/12",{"$f":"SUM(F18:F22)","v":0},{"$f":"SUM(G18:G22)","v":0},{"$f":"SUM(H18:H22)","v":43.1}]
[null,{"$f":"SUM(B19:B23)","v":0},null,{"$f":"SUM(D19:D23)","v":0},null,null,null,null,null,{"$f":"SUM(J19:J23)","v":0},null,{"$f":"SUM(L19:L23)","v":0}]
["Récap 31/12",null,null,{"$f":"+B24-D24","v":0},null,null,null,null,"Récap 31/01",null,null,{"$f":"+J24-L24","v":0}]
[]
["FÉVRIER",null,null,null,"MARS",null,null,null,"AVRIL"]
["RECETTES",null,"DEPENSES",null,"RECETTES",null,"DEPENSES",null,"RECETTES",null,"DEPENSES"]
["Dates","Montant","Activités","Montant","Dates","Montant","Activités","Montant","Dates","Montant","Activités","Montant"]
[]
[]
[]
[]
[]
[null,{"$f":"SUM(B30:B34)","v":0},null,{"$f":"SUM(D30:D34)","v":0},null,{"$f":"SUM(F30:F34)","v":0},null,{"$f":"SUM(H30:H34)","v":0},null,{"$f":"SUM(J30:J34)","v":0},null,{"$f":"SUM(L30:L34)","v":0}]
["Récap 28/02",null,null,{"$f":"+B35-D35","v":0},"Récap 31/03",null,null,{"$f":"+F35-H35","v":0},"Récap 30/04",null,null,{"$f":"+J35-L35","v":0}]
[]
[]
["MAI",null,null,null,"JUIN",null,null,null,"Situation fin juin"]
["RECETTES",null,"DEPENSES",null,"RECETTES",null,"DEPENSES",null,null,"Recettes","Dépenses","Total"]
["Dates","Montant","Activités","Montant","Dates","Montant","Activités","Montant",{"$f":"E23","v":"Situation 31/12"},null,null,{"$f":"H23","v":43.1}]
[null,null,null,null,null,null,null,null,{"$f":"I25","v":"Récap 31/01"},{"$f":"J24","v":0},{"$f":"L24","v":0},{"$f":"L25","v":0}]
[null,null,null,null,null,null,null,null,{"$f":"A36","v":"Récap 28/02"},{"$f":"B35","v":0},{"$f":"D35","v":0},{"$f":"D36","v":0}]
[null,null,null,null,null,null,null,null,{"$f":"E36","v":"Récap 31/03"},{"$f":"F35","v":0},{"$f":"H35","v":0},{"$f":"H36","v":0}]
[null,null,null,null,null,null,null,null,{"$f":"I36","v":"Récap 30/04"},{"$f":"J35","v":0},{"$f":"L35","v":0},{"$f":"L36","v":0}]
[null,null,null,null,null,null,null,null,{"$f":"A48","v":"Récap 31/05"},{"$f":"B47","v":0},{"$f":"D47","v":0},{"$f":"D48","v":0}]
[null,{"$f":"SUM(B42:B46)","v":0},null,{"$f":"SUM(D42:D46)","v":0},null,{"$f":"SUM(F42:F46)","v":0},null,{"$f":"SUM(H42:H46)","v":0},{"$f":"E48","v":"Récap 30/06"},{"$f":"F47","v":0},{"$f":"H47","v":0},{"$f":"H48","v":0}]
["Récap 31/05",null,null,{"$f":"+B47-D47","v":0},"Récap 30/06",null,null,{"$f":"+F47-H47","v":0},"Situation 30/06",{"$f":"SUM(J42:J47)","v":0},{"$f":"SUM(K42:K47)","v":0},{"$f":"SUM(L41:L47)","v":43.1}]
[]
[null,null,null,null,null,null,null,null,null,null,null,{"$f":"F23+J48-G23-K48+B8","v":43.1}]
[]
[null,null,null,null,null,null,null,null,null,{"$f":"B13+F13+J13+B24+J24+B35+F35+J35+B47+F47","v":0},{"$f":"D13+H13+L13+D24+L24+D35+H35+L35+D47+H47","v":0},{"$f":"B8+J52-K52","v":43.1}]

{"sheet":"DENISTYQ","index":52,"n_rows":52,"n_cols":12,"rows_kept":52,"cut":false,"hidden":false,"merged":[[0,9,0,10],[2,1,2,2],[2,4,2,5],[2,8,2,9],[5,8,5,9],[5,10,5,11],[4,0,4,3],[4,4,4,7],[4,8,4,11],[5,0,5,1],[5,2,5,3],[5,4,5,5],[5,6,5,7],[24,0,24,2],[13,0,13,2],[13,4,13,6],[16,2,16,3],[37,9,37,10],[16,0,16,1],[27,6,27,7],[24,8,24,10],[38,8,38,11],[13,8,13,10],[15,0,15,3],[15,4,15,7],[15,8,15,11],[16,10,16,11],[26,0,26,3],[26,4,26,7],[26,8,26,11],[27,8,27,9],[35,0,35,2],[35,4,35,6],[35,8,35,10],[27,10,27,11],[16,8,16,9],[27,4,27,5],[47,0,47,2],[47,4,47,6],[38,0,38,3],[38,4,38,7],[39,4,39,5],[39,6,39,7]]}
[null,null,null,null,null,null,null,null,null,"Année scolaire : ",null,{"$f":"' Liste élèves'!B1","v":"2018-2019"}]
[]
["NOM : ",{"$f":"' Liste élèves'!A55","v":"DENISTYQ"},null,"PRENOM:",{"$f":"' Liste élèves'!B55","v":"Quentin"},null,null,"CLASSE :",{"$f":"' Liste élèves'!C55","v":"Classe 10"}]
[]
["SEPTEMBRE",null,null,null,"OCTOBRE",null,null,null,"NOVEMBRE"]
["RECETTES",null,"DEPENSES",null,"RECETTES",null,"DEPENSES",null,"RECETTES",null,"DEPENSES"]
["Dates","Montant","Activités","Montant","Dates","Montant","Activités","Montant","Dates","Montant","Activités","Montant"]
["Report juin",27.9]
[]
[]
[]
[]
[null,{"$f":"SUM(B9:B12)","v":0},null,{"$f":"SUM(D8:D12)","v":0},null,{"$f":"SUM(F8:F12)","v":0},null,{"$f":"SUM(H8:H12)","v":0},null,{"$f":"SUM(J8:J12)","v":0},null,{"$f":"SUM(L8:L12)","v":0}]
["Récap 30/09",null,null,{"$f":"+B13-D13","v":0},"Récap 31/10",null,null,{"$f":"+F13-H13","v":0},"Récap 30/11",null,null,{"$f":"+J13-L13","v":0}]
[]
["DÉCEMBRE",null,null,null,"Situation fin décembre",null,null,null,"JANVIER"]
["RECETTES",null,"DEPENSES",null,null,"Recettes","Dépenses","Total","RECETTES",null,"DEPENSES"]
["Dates","Montant","Activités","Montant",{"$f":"A14","v":"Récap 30/09"},{"$f":"B13","v":0},{"$f":"D13","v":0},{"$f":"D14","v":0},"Dates","Montant","Activités","Montant"]
[null,null,null,null,{"$f":"E14","v":"Récap 31/10"},{"$f":"F13","v":0},{"$f":"H13","v":0},{"$f":"H14","v":0}]
[null,null,null,null,{"$f":"I14","v":"Récap 30/11"},{"$f":"J13","v":0},{"$f":"L13","v":0},{"$f":"L14","v":0}]
[null,null,null,null,{"$f":"A25","v":"Récap 31/12"},{"$f":"B24","v":0},{"$f":"D24","v":0},{"$f":"D25","v":0}]
[null,null,null,null,"Report Sept",null,null,{"$f":"B8","v":27.9}]
[null,null,null,null,"Situation 31/12",{"$f":"SUM(F18:F22)","v":0},{"$f":"SUM(G18:G22)","v":0},{"$f":"SUM(H18:H22)","v":27.9}]
[null,{"$f":"SUM(B19:B23)","v":0},null,{"$f":"SUM(D19:D23)","v":0},null,null,null,null,null,{"$f":"SUM(J19:J23)","v":0},null,{"$f":"SUM(L19:L23)","v":0}]
["Récap 31/12",null,null,{"$f":"+B24-D24","v":0},null,null,null,null,"Récap 31/01",null,null,{"$f":"+J24-L24","v":0}]
[]
["FÉVRIER",null,null,null,"MARS",null,null,null,"AVRIL"]
["RECETTES",null,"DEPENSES",null,"RECETTES",null,"DEPENSES",null,"RECETTES",null,"DEPENSES"]
["Dates","Montant","Activités","Montant","Dates","Montant","Activités","Montant","Dates","Montant","Activités","Montant"]
[]
[]
[]
[]
[]
[null,{"$f":"SUM(B30:B34)","v":0},null,{"$f":"SUM(D30:D34)","v":0},null,{"$f":"SUM(F30:F34)","v":0},null,{"$f":"SUM(H30:H34)","v":0},null,{"$f":"SUM(J30:J34)","v":0},null,{"$f":"SUM(L30:L34)","v":0}]
["Récap 28/02",null,null,{"$f":"+B35-D35","v":0},"Récap 31/03",null,null,{"$f":"+F35-H35","v":0},"Récap 30/04",null,null,{"$f":"+J35-L35","v":0}]
[]
[]
["MAI",null,null,null,"JUIN",null,null,null,"Situation fin juin"]
["RECETTES",null,"DEPENSES",null,"RECETTES",null,"DEPENSES",null,null,"Recettes","Dépenses","Total"]
["Dates","Montant","Activités","Montant","Dates","Montant","Activités","Montant",{"$f":"E23","v":"Situation 31/12"},null,null,{"$f":"H23","v":27.9}]
[null,null,null,null,null,null,null,null,{"$f":"I25","v":"Récap 31/01"},{"$f":"J24","v":0},{"$f":"L24","v":0},{"$f":"L25","v":0}]
[null,null,null,null,null,null,null,null,{"$f":"A36","v":"Récap 28/02"},{"$f":"B35","v":0},{"$f":"D35","v":0},{"$f":"D36","v":0}]
[null,null,null,null,null,null,null,null,{"$f":"E36","v":"Récap 31/03"},{"$f":"F35","v":0},{"$f":"H35","v":0},{"$f":"H36","v":0}]
[null,null,null,null,null,null,null,null,{"$f":"I36","v":"Récap 30/04"},{"$f":"J35","v":0},{"$f":"L35","v":0},{"$f":"L36","v":0}]
[null,null,null,null,null,null,null,null,{"$f":"A48","v":"Récap 31/05"},{"$f":"B47","v":0},{"$f":"D47","v":0},{"$f":"D48","v":0}]
[null,{"$f":"SUM(B42:B46)","v":0},null,{"$f":"SUM(D42:D46)","v":0},null,{"$f":"SUM(F42:F46)","v":0},null,{"$f":"SUM(H42:H46)","v":0},{"$f":"E48","v":"Récap 30/06"},{"$f":"F47","v":0},{"$f":"H47","v":0},{"$f":"H48","v":0}]
["Récap 31/05",null,null,{"$f":"+B47-D47","v":0},"Récap 30/06",null,null,{"$f":"+F47-H47","v":0},"Situation 30/06",{"$f":"SUM(J42:J47)","v":0},{"$f":"SUM(K42:K47)","v":0},{"$f":"SUM(L41:L47)","v":27.9}]
[]
[null,null,null,null,null,null,null,null,null,null,null,{"$f":"F23+J48-G23-K48+B8","v":27.9}]
[]
[null,null,null,null,null,null,null,null,null,{"$f":"B13+F13+J13+B24+J24+B35+F35+J35+B47+F47","v":0},{"$f":"D13+H13+L13+D24+L24+D35+H35+L35+D47+H47","v":0},{"$f":"B8+J52-K52","v":27.9}]

{"sheet":"DESANTOSMIGUEL","index":53,"n_rows":52,"n_cols":12,"rows_kept":52,"cut":false,"hidden":false,"merged":[[0,9,0,10],[2,1,2,2],[2,4,2,5],[2,8,2,9],[5,8,5,9],[5,10,5,11],[4,0,4,3],[4,4,4,7],[4,8,4,11],[5,0,5,1],[5,2,5,3],[5,4,5,5],[5,6,5,7],[24,0,24,2],[13,0,13,2],[13,4,13,6],[16,2,16,3],[37,9,37,10],[16,0,16,1],[27,6,27,7],[24,8,24,10],[38,8,38,11],[13,8,13,10],[15,0,15,3],[15,4,15,7],[15,8,15,11],[16,10,16,11],[26,0,26,3],[26,4,26,7],[26,8,26,11],[27,8,27,9],[35,0,35,2],[35,4,35,6],[35,8,35,10],[27,10,27,11],[16,8,16,9],[27,4,27,5],[47,0,47,2],[47,4,47,6],[38,0,38,3],[38,4,38,7],[39,4,39,5],[39,6,39,7]]}
[null,null,null,null,null,null,null,null,null,"Année scolaire : ",null,{"$f":"' Liste élèves'!B1","v":"2018-2019"}]
[]
["NOM : ",{"$f":"' Liste élèves'!A40","v":"DESANTOSMIGUEL"},null,"PRENOM:",{"$f":"' Liste élèves'!B40","v":"Julian"},null,null,"CLASSE :",{"$f":"' Liste élèves'!C40","v":"Classe 3"}]
[]
["SEPTEMBRE",null,null,null,"OCTOBRE",null,null,null,"NOVEMBRE"]
["RECETTES",null,"DEPENSES",null,"RECETTES",null,"DEPENSES",null,"RECETTES",null,"DEPENSES"]
["Dates","Montant","Activités","Montant","Dates","Montant","Activités","Montant","Dates","Montant","Activités","Montant"]
["Report juin",38]
[]
[]
[]
[]
[null,{"$f":"SUM(B9:B12)","v":0},null,{"$f":"SUM(D8:D12)","v":0},null,{"$f":"SUM(F8:F12)","v":0},null,{"$f":"SUM(H8:H12)","v":0},null,{"$f":"SUM(J8:J12)","v":0},null,{"$f":"SUM(L8:L12)","v":0}]
["Récap 30/09",null,null,{"$f":"+B13-D13","v":0},"Récap 31/10",null,null,{"$f":"+F13-H13","v":0},"Récap 30/11",null,null,{"$f":"+J13-L13","v":0}]
[]
["DÉCEMBRE",null,null,null,"Situation fin décembre",null,null,null,"JANVIER"]
["RECETTES",null,"DEPENSES",null,null,"Recettes","Dépenses","Total","RECETTES",null,"DEPENSES"]
["Dates","Montant","Activités","Montant",{"$f":"A14","v":"Récap 30/09"},{"$f":"B13","v":0},{"$f":"D13","v":0},{"$f":"D14","v":0},"Dates","Montant","Activités","Montant"]
[null,null,null,null,{"$f":"E14","v":"Récap 31/10"},{"$f":"F13","v":0},{"$f":"H13","v":0},{"$f":"H14","v":0}]
[null,null,null,null,{"$f":"I14","v":"Récap 30/11"},{"$f":"J13","v":0},{"$f":"L13","v":0},{"$f":"L14","v":0}]
[null,null,null,null,{"$f":"A25","v":"Récap 31/12"},{"$f":"B24","v":0},{"$f":"D24","v":0},{"$f":"D25","v":0}]
[null,null,null,null,"Report Sept",null,null,{"$f":"B8","v":38}]
[null,null,null,null,"Situation 31/12",{"$f":"SUM(F18:F22)","v":0},{"$f":"SUM(G18:G22)","v":0},{"$f":"SUM(H18:H22)","v":38}]
[null,{"$f":"SUM(B19:B23)","v":0},null,{"$f":"SUM(D19:D23)","v":0},null,null,null,null,null,{"$f":"SUM(J19:J23)","v":0},null,{"$f":"SUM(L19:L23)","v":0}]
["Récap 31/12",null,null,{"$f":"+B24-D24","v":0},null,null,null,null,"Récap 31/01",null,null,{"$f":"+J24-L24","v":0}]
[]
["FÉVRIER",null,null,null,"MARS",null,null,null,"AVRIL"]
["RECETTES",null,"DEPENSES",null,"RECETTES",null,"DEPENSES",null,"RECETTES",null,"DEPENSES"]
["Dates","Montant","Activités","Montant","Dates","Montant","Activités","Montant","Dates","Montant","Activités","Montant"]
[]
[]
[]
[]
[]
[null,{"$f":"SUM(B30:B34)","v":0},null,{"$f":"SUM(D30:D34)","v":0},null,{"$f":"SUM(F30:F34)","v":0},null,{"$f":"SUM(H30:H34)","v":0},null,{"$f":"SUM(J30:J34)","v":0},null,{"$f":"SUM(L30:L34)","v":0}]
["Récap 28/02",null,null,{"$f":"+B35-D35","v":0},"Récap 31/03",null,null,{"$f":"+F35-H35","v":0},"Récap 30/04",null,null,{"$f":"+J35-L35","v":0}]
[]
[]
["MAI",null,null,null,"JUIN",null,null,null,"Situation fin juin"]
["RECETTES",null,"DEPENSES",null,"RECETTES",null,"DEPENSES",null,null,"Recettes","Dépenses","Total"]
["Dates","Montant","Activités","Montant","Dates","Montant","Activités","Montant",{"$f":"E23","v":"Situation 31/12"},null,null,{"$f":"H23","v":38}]
[null,null,null,null,null,null,null,null,{"$f":"I25","v":"Récap 31/01"},{"$f":"J24","v":0},{"$f":"L24","v":0},{"$f":"L25","v":0}]
[null,null,null,null,null,null,null,null,{"$f":"A36","v":"Récap 28/02"},{"$f":"B35","v":0},{"$f":"D35","v":0},{"$f":"D36","v":0}]
[null,null,null,null,null,null,null,null,{"$f":"E36","v":"Récap 31/03"},{"$f":"F35","v":0},{"$f":"H35","v":0},{"$f":"H36","v":0}]
[null,null,null,null,null,null,null,null,{"$f":"I36","v":"Récap 30/04"},{"$f":"J35","v":0},{"$f":"L35","v":0},{"$f":"L36","v":0}]
[null,null,null,null,null,null,null,null,{"$f":"A48","v":"Récap 31/05"},{"$f":"B47","v":0},{"$f":"D47","v":0},{"$f":"D48","v":0}]
[null,{"$f":"SUM(B42:B46)","v":0},null,{"$f":"SUM(D42:D46)","v":0},null,{"$f":"SUM(F42:F46)","v":0},null,{"$f":"SUM(H42:H46)","v":0},{"$f":"E48","v":"Récap 30/06"},{"$f":"F47","v":0},{"$f":"H47","v":0},{"$f":"H48","v":0}]
["Récap 31/05",null,null,{"$f":"+B47-D47","v":0},"Récap 30/06",null,null,{"$f":"+F47-H47","v":0},"Situation 30/06",{"$f":"SUM(J42:J47)","v":0},{"$f":"SUM(K42:K47)","v":0},{"$f":"SUM(L41:L47)","v":38}]
[]
[null,null,null,null,null,null,null,null,null,null,null,{"$f":"F23+J48-G23-K48+B8","v":38}]
[]
[null,null,null,null,null,null,null,null,null,{"$f":"B13+F13+J13+B24+J24+B35+F35+J35+B47+F47","v":0},{"$f":"D13+H13+L13+D24+L24+D35+H35+L35+D47+H47","v":0},{"$f":"B8+J52-K52","v":38}]

{"sheet":"DETROGH","index":54,"n_rows":52,"n_cols":12,"rows_kept":52,"cut":false,"hidden":false,"merged":[[0,9,0,10],[2,1,2,2],[2,4,2,5],[2,8,2,9],[5,8,5,9],[5,10,5,11],[4,0,4,3],[4,4,4,7],[4,8,4,11],[5,0,5,1],[5,2,5,3],[5,4,5,5],[5,6,5,7],[24,0,24,2],[13,0,13,2],[13,4,13,6],[16,2,16,3],[37,9,37,10],[16,0,16,1],[27,6,27,7],[24,8,24,10],[38,8,38,11],[13,8,13,10],[15,0,15,3],[15,4,15,7],[15,8,15,11],[16,10,16,11],[26,0,26,3],[26,4,26,7],[26,8,26,11],[27,8,27,9],[35,0,35,2],[35,4,35,6],[35,8,35,10],[27,10,27,11],[16,8,16,9],[27,4,27,5],[47,0,47,2],[47,4,47,6],[38,0,38,3],[38,4,38,7],[39,4,39,5],[39,6,39,7]]}
[null,null,null,null,null,null,null,null,null,"Année scolaire : ",null,{"$f":"' Liste élèves'!B1","v":"2018-2019"}]
[]
["NOM : ",{"$f":"' Liste élèves'!A57","v":"DETROGH"},null,"PRENOM:",{"$f":"' Liste élèves'!B57","v":"Miky"},null,null,"CLASSE :",{"$f":"' Liste élèves'!C57","v":"Classe JB"}]
[]
["SEPTEMBRE",null,null,null,"OCTOBRE",null,null,null,"NOVEMBRE"]
["RECETTES",null,"DEPENSES",null,"RECETTES",null,"DEPENSES",null,"RECETTES",null,"DEPENSES"]
["Dates","Montant","Activités","Montant","Dates","Montant","Activités","Montant","Dates","Montant","Activités","Montant"]
["Report juin",42]
[]
[]
[]
[]
[null,{"$f":"SUM(B9:B12)","v":0},null,{"$f":"SUM(D8:D12)","v":0},null,{"$f":"SUM(F8:F12)","v":0},null,{"$f":"SUM(H8:H12)","v":0},null,{"$f":"SUM(J8:J12)","v":0},null,{"$f":"SUM(L8:L12)","v":0}]
["Récap 30/09",null,null,{"$f":"+B13-D13","v":0},"Récap 31/10",null,null,{"$f":"+F13-H13","v":0},"Récap 30/11",null,null,{"$f":"+J13-L13","v":0}]
[]
["DÉCEMBRE",null,null,null,"Situation fin décembre",null,null,null,"JANVIER"]
["RECETTES",null,"DEPENSES",null,null,"Recettes","Dépenses","Total","RECETTES",null,"DEPENSES"]
["Dates","Montant","Activités","Montant",{"$f":"A14","v":"Récap 30/09"},{"$f":"B13","v":0},{"$f":"D13","v":0},{"$f":"D14","v":0},"Dates","Montant","Activités","Montant"]
[null,null,null,null,{"$f":"E14","v":"Récap 31/10"},{"$f":"F13","v":0},{"$f":"H13","v":0},{"$f":"H14","v":0}]
[null,null,null,null,{"$f":"I14","v":"Récap 30/11"},{"$f":"J13","v":0},{"$f":"L13","v":0},{"$f":"L14","v":0}]
[null,null,null,null,{"$f":"A25","v":"Récap 31/12"},{"$f":"B24","v":0},{"$f":"D24","v":0},{"$f":"D25","v":0}]
[null,null,null,null,"Report Sept",null,null,{"$f":"B8","v":42}]
[null,null,null,null,"Situation 31/12",{"$f":"SUM(F18:F22)","v":0},{"$f":"SUM(G18:G22)","v":0},{"$f":"SUM(H18:H22)","v":42}]
[null,{"$f":"SUM(B19:B23)","v":0},null,{"$f":"SUM(D19:D23)","v":0},null,null,null,null,null,{"$f":"SUM(J19:J23)","v":0},null,{"$f":"SUM(L19:L23)","v":0}]
["Récap 31/12",null,null,{"$f":"+B24-D24","v":0},null,null,null,null,"Récap 31/01",null,null,{"$f":"+J24-L24","v":0}]
[]
["FÉVRIER",null,null,null,"MARS",null,null,null,"AVRIL"]
["RECETTES",null,"DEPENSES",null,"RECETTES",null,"DEPENSES",null,"RECETTES",null,"DEPENSES"]
["Dates","Montant","Activités","Montant","Dates","Montant","Activités","Montant","Dates","Montant","Activités","Montant"]
[]
[]
[]
[]
[]
[null,{"$f":"SUM(B30:B34)","v":0},null,{"$f":"SUM(D30:D34)","v":0},null,{"$f":"SUM(F30:F34)","v":0},null,{"$f":"SUM(H30:H34)","v":0},null,{"$f":"SUM(J30:J34)","v":0},null,{"$f":"SUM(L30:L34)","v":0}]
["Récap 28/02",null,null,{"$f":"+B35-D35","v":0},"Récap 31/03",null,null,{"$f":"+F35-H35","v":0},"Récap 30/04",null,null,{"$f":"+J35-L35","v":0}]
[]
[]
["MAI",null,null,null,"JUIN",null,null,null,"Situation fin juin"]
["RECETTES",null,"DEPENSES",null,"RECETTES",null,"DEPENSES",null,null,"Recettes","Dépenses","Total"]
["Dates","Montant","Activités","Montant","Dates","Montant","Activités","Montant",{"$f":"E23","v":"Situation 31/12"},null,null,{"$f":"H23","v":42}]
[null,null,null,null,null,null,null,null,{"$f":"I25","v":"Récap 31/01"},{"$f":"J24","v":0},{"$f":"L24","v":0},{"$f":"L25","v":0}]
[null,null,null,null,null,null,null,null,{"$f":"A36","v":"Récap 28/02"},{"$f":"B35","v":0},{"$f":"D35","v":0},{"$f":"D36","v":0}]
[null,null,null,null,null,null,null,null,{"$f":"E36","v":"Récap 31/03"},{"$f":"F35","v":0},{"$f":"H35","v":0},{"$f":"H36","v":0}]
[null,null,null,null,null,null,null,null,{"$f":"I36","v":"Récap 30/04"},{"$f":"J35","v":0},{"$f":"L35","v":0},{"$f":"L36","v":0}]
[null,null,null,null,null,null,null,null,{"$f":"A48","v":"Récap 31/05"},{"$f":"B47","v":0},{"$f":"D47","v":0},{"$f":"D48","v":0}]
[null,{"$f":"SUM(B42:B46)","v":0},null,{"$f":"SUM(D42:D46)","v":0},null,{"$f":"SUM(F42:F46)","v":0},null,{"$f":"SUM(H42:H46)","v":0},{"$f":"E48","v":"Récap 30/06"},{"$f":"F47","v":0},{"$f":"H47","v":0},{"$f":"H48","v":0}]
["Récap 31/05",null,null,{"$f":"+B47-D47","v":0},"Récap 30/06",null,null,{"$f":"+F47-H47","v":0},"Situation 30/06",{"$f":"SUM(J42:J47)","v":0},{"$f":"SUM(K42:K47)","v":0},{"$f":"SUM(L41:L47)","v":42}]
[]
[null,null,null,null,null,null,null,null,null,null,null,{"$f":"F23+J48-G23-K48+B8","v":42}]
[]
[null,null,null,null,null,null,null,null,null,{"$f":"B13+F13+J13+B24+J24+B35+F35+J35+B47+F47","v":0},{"$f":"D13+H13+L13+D24+L24+D35+H35+L35+D47+H47","v":0},{"$f":"B8+J52-K52","v":42}]

{"sheet":"DEVLEESCHAUWER","index":55,"n_rows":52,"n_cols":12,"rows_kept":52,"cut":false,"hidden":false,"merged":[[0,9,0,10],[2,1,2,2],[2,4,2,5],[2,8,2,9],[5,8,5,9],[5,10,5,11],[4,0,4,3],[4,4,4,7],[4,8,4,11],[5,0,5,1],[5,2,5,3],[5,4,5,5],[5,6,5,7],[24,0,24,2],[13,0,13,2],[13,4,13,6],[16,2,16,3],[37,9,37,10],[16,0,16,1],[27,6,27,7],[24,8,24,10],[38,8,38,11],[13,8,13,10],[15,0,15,3],[15,4,15,7],[15,8,15,11],[16,10,16,11],[26,0,26,3],[26,4,26,7],[26,8,26,11],[27,8,27,9],[35,0,35,2],[35,4,35,6],[35,8,35,10],[27,10,27,11],[16,8,16,9],[27,4,27,5],[47,0,47,2],[47,4,47,6],[38,0,38,3],[38,4,38,7],[39,4,39,5],[39,6,39,7]]}
[null,null,null,null,null,null,null,null,null,"Année scolaire : ",null,{"$f":"' Liste élèves'!B1","v":"2018-2019"}]
[]
["NOM : ",{"$f":"' Liste élèves'!A41","v":"DEVLEESCHAUWER"},null,"PRENOM:",{"$f":"' Liste élèves'!B41","v":"Manon"},null,null,"CLASSE :",{"$f":"' Liste élèves'!C41","v":"Classe PC"}]
[]
["SEPTEMBRE",null,null,null,"OCTOBRE",null,null,null,"NOVEMBRE"]
["RECETTES",null,"DEPENSES",null,"RECETTES",null,"DEPENSES",null,"RECETTES",null,"DEPENSES"]
["Dates","Montant","Activités","Montant","Dates","Montant","Activités","Montant","Dates","Montant","Activités","Montant"]
["Report juin",55.5]
[]
[]
[]
[]
[null,{"$f":"SUM(B9:B12)","v":0},null,{"$f":"SUM(D8:D12)","v":0},null,{"$f":"SUM(F8:F12)","v":0},null,{"$f":"SUM(H8:H12)","v":0},null,{"$f":"SUM(J8:J12)","v":0},null,{"$f":"SUM(L8:L12)","v":0}]
["Récap 30/09",null,null,{"$f":"+B13-D13","v":0},"Récap 31/10",null,null,{"$f":"+F13-H13","v":0},"Récap 30/11",null,null,{"$f":"+J13-L13","v":0}]
[]
["DÉCEMBRE",null,null,null,"Situation fin décembre",null,null,null,"JANVIER"]
["RECETTES",null,"DEPENSES",null,null,"Recettes","Dépenses","Total","RECETTES",null,"DEPENSES"]
["Dates","Montant","Activités","Montant",{"$f":"A14","v":"Récap 30/09"},{"$f":"B13","v":0},{"$f":"D13","v":0},{"$f":"D14","v":0},"Dates","Montant","Activités","Montant"]
[null,null,null,null,{"$f":"E14","v":"Récap 31/10"},{"$f":"F13","v":0},{"$f":"H13","v":0},{"$f":"H14","v":0}]
[null,null,null,null,{"$f":"I14","v":"Récap 30/11"},{"$f":"J13","v":0},{"$f":"L13","v":0},{"$f":"L14","v":0}]
[null,null,null,null,{"$f":"A25","v":"Récap 31/12"},{"$f":"B24","v":0},{"$f":"D24","v":0},{"$f":"D25","v":0}]
[null,null,null,null,"Report Sept",null,null,{"$f":"B8","v":55.5}]
[null,null,null,null,"Situation 31/12",{"$f":"SUM(F18:F22)","v":0},{"$f":"SUM(G18:G22)","v":0},{"$f":"SUM(H18:H22)","v":55.5}]
[null,{"$f":"SUM(B19:B23)","v":0},null,{"$f":"SUM(D19:D23)","v":0},null,null,null,null,null,{"$f":"SUM(J19:J23)","v":0},null,{"$f":"SUM(L19:L23)","v":0}]
["Récap 31/12",null,null,{"$f":"+B24-D24","v":0},null,null,null,null,"Récap 31/01",null,null,{"$f":"+J24-L24","v":0}]
[]
["FÉVRIER",null,null,null,"MARS",null,null,null,"AVRIL"]
["RECETTES",null,"DEPENSES",null,"RECETTES",null,"DEPENSES",null,"RECETTES",null,"DEPENSES"]
["Dates","Montant","Activités","Montant","Dates","Montant","Activités","Montant","Dates","Montant","Activités","Montant"]
[]
[]
[]
[]
[]
[null,{"$f":"SUM(B30:B34)","v":0},null,{"$f":"SUM(D30:D34)","v":0},null,{"$f":"SUM(F30:F34)","v":0},null,{"$f":"SUM(H30:H34)","v":0},null,{"$f":"SUM(J30:J34)","v":0},null,{"$f":"SUM(L30:L34)","v":0}]
["Récap 28/02",null,null,{"$f":"+B35-D35","v":0},"Récap 31/03",null,null,{"$f":"+F35-H35","v":0},"Récap 30/04",null,null,{"$f":"+J35-L35","v":0}]
[]
[]
["MAI",null,null,null,"JUIN",null,null,null,"Situation fin juin"]
["RECETTES",null,"DEPENSES",null,"RECETTES",null,"DEPENSES",null,null,"Recettes","Dépenses","Total"]
["Dates","Montant","Activités","Montant","Dates","Montant","Activités","Montant",{"$f":"E23","v":"Situation 31/12"},null,null,{"$f":"H23","v":55.5}]
[null,null,null,null,null,null,null,null,{"$f":"I25","v":"Récap 31/01"},{"$f":"J24","v":0},{"$f":"L24","v":0},{"$f":"L25","v":0}]
[null,null,null,null,null,null,null,null,{"$f":"A36","v":"Récap 28/02"},{"$f":"B35","v":0},{"$f":"D35","v":0},{"$f":"D36","v":0}]
[null,null,null,null,null,null,null,null,{"$f":"E36","v":"Récap 31/03"},{"$f":"F35","v":0},{"$f":"H35","v":0},{"$f":"H36","v":0}]
[null,null,null,null,null,null,null,null,{"$f":"I36","v":"Récap 30/04"},{"$f":"J35","v":0},{"$f":"L35","v":0},{"$f":"L36","v":0}]
[null,null,null,null,null,null,null,null,{"$f":"A48","v":"Récap 31/05"},{"$f":"B47","v":0},{"$f":"D47","v":0},{"$f":"D48","v":0}]
[null,{"$f":"SUM(B42:B46)","v":0},null,{"$f":"SUM(D42:D46)","v":0},null,{"$f":"SUM(F42:F46)","v":0},null,{"$f":"SUM(H42:H46)","v":0},{"$f":"E48","v":"Récap 30/06"},{"$f":"F47","v":0},{"$f":"H47","v":0},{"$f":"H48","v":0}]
["Récap 31/05",null,null,{"$f":"+B47-D47","v":0},"Récap 30/06",null,null,{"$f":"+F47-H47","v":0},"Situation 30/06",{"$f":"SUM(J42:J47)","v":0},{"$f":"SUM(K42:K47)","v":0},{"$f":"SUM(L41:L47)","v":55.5}]
[]
[null,null,null,null,null,null,null,null,null,null,null,{"$f":"F23+J48-G23-K48+B8","v":55.5}]
[]
[null,null,null,null,null,null,null,null,null,{"$f":"B13+F13+J13+B24+J24+B35+F35+J35+B47+F47","v":0},{"$f":"D13+H13+L13+D24+L24+D35+H35+L35+D47+H47","v":0},{"$f":"B8+J52-K52","v":55.5}]

{"sheet":"DEWEVER","index":56,"n_rows":52,"n_cols":12,"rows_kept":52,"cut":false,"hidden":false,"merged":[[39,4,39,5],[39,6,39,7],[47,0,47,2],[47,4,47,6],[35,0,35,2],[35,4,35,6],[35,8,35,10],[37,9,37,10],[38,0,38,3],[38,4,38,7],[38,8,38,11],[26,0,26,3],[26,4,26,7],[26,8,26,11],[27,4,27,5],[27,6,27,7],[27,8,27,9],[27,10,27,11],[16,0,16,1],[16,2,16,3],[16,8,16,9],[16,10,16,11],[24,0,24,2],[24,8,24,10],[13,0,13,2],[13,4,13,6],[13,8,13,10],[15,0,15,3],[15,4,15,7],[15,8,15,11],[5,0,5,1],[5,2,5,3],[5,4,5,5],[5,6,5,7],[5,8,5,9],[5,10,5,11],[0,9,0,10],[2,1,2,2],[2,4,2,5],[2,8,2,9],[4,0,4,3],[4,4,4,7],[4,8,4,11]]}
[null,null,null,null,null,null,null,null,null,"Année scolaire : ",null,{"$f":"' Liste élèves'!B1","v":"2018-2019"}]
[]
["NOM : ",{"$f":"' Liste élèves'!A42","v":"DEWEVER"},null,"PRENOM:",{"$f":"' Liste élèves'!B42","v":"Bryan"},null,null,"CLASSE :",{"$f":"' Liste élèves'!C42","v":"Classe PA"}]
[]
["SEPTEMBRE",null,null,null,"OCTOBRE",null,null,null,"NOVEMBRE"]
["RECETTES",null,"DEPENSES",null,"RECETTES",null,"DEPENSES",null,"RECETTES",null,"DEPENSES"]
["Dates","Montant","Activités","Montant","Dates","Montant","Activités","Montant","Dates","Montant","Activités","Montant"]
["Report juin"]
[]
[]
[]
[]
[null,{"$f":"SUM(B9:B12)","v":0},null,{"$f":"SUM(D8:D12)","v":0},null,{"$f":"SUM(F8:F12)","v":0},null,{"$f":"SUM(H8:H12)","v":0},null,{"$f":"SUM(J8:J12)","v":0},null,{"$f":"SUM(L8:L12)","v":0}]
["Récap 30/09",null,null,{"$f":"+B13-D13","v":0},"Récap 31/10",null,null,{"$f":"+F13-H13","v":0},"Récap 30/11",null,null,{"$f":"+J13-L13","v":0}]
[]
["DÉCEMBRE",null,null,null,"Situation fin décembre",null,null,null,"JANVIER"]
["RECETTES",null,"DEPENSES",null,null,"Recettes","Dépenses","Total","RECETTES",null,"DEPENSES"]
["Dates","Montant","Activités","Montant",{"$f":"A14","v":"Récap 30/09"},{"$f":"B13","v":0},{"$f":"D13","v":0},{"$f":"D14","v":0},"Dates","Montant","Activités","Montant"]
[null,null,null,null,{"$f":"E14","v":"Récap 31/10"},{"$f":"F13","v":0},{"$f":"H13","v":0},{"$f":"H14","v":0}]
[null,null,null,null,{"$f":"I14","v":"Récap 30/11"},{"$f":"J13","v":0},{"$f":"L13","v":0},{"$f":"L14","v":0}]
[null,null,null,null,{"$f":"A25","v":"Récap 31/12"},{"$f":"B24","v":0},{"$f":"D24","v":0},{"$f":"D25","v":0}]
[null,null,null,null,"Report Sept",null,null,{"$f":"B8","v":0}]
[null,null,null,null,"Situation 31/12",{"$f":"SUM(F18:F22)","v":0},{"$f":"SUM(G18:G22)","v":0},{"$f":"SUM(H18:H22)","v":0}]
[null,{"$f":"SUM(B19:B23)","v":0},null,{"$f":"SUM(D19:D23)","v":0},null,null,null,null,null,{"$f":"SUM(J19:J23)","v":0},null,{"$f":"SUM(L19:L23)","v":0}]
["Récap 31/12",null,null,{"$f":"+B24-D24","v":0},null,null,null,null,"Récap 31/01",null,null,{"$f":"+J24-L24","v":0}]
[]
["FÉVRIER",null,null,null,"MARS",null,null,null,"AVRIL"]
["RECETTES",null,"DEPENSES",null,"RECETTES",null,"DEPENSES",null,"RECETTES",null,"DEPENSES"]
["Dates","Montant","Activités","Montant","Dates","Montant","Activités","Montant","Dates","Montant","Activités","Montant"]
[]
[]
[]
[]
[]
[null,{"$f":"SUM(B30:B34)","v":0},null,{"$f":"SUM(D30:D34)","v":0},null,{"$f":"SUM(F30:F34)","v":0},null,{"$f":"SUM(H30:H34)","v":0},null,{"$f":"SUM(J30:J34)","v":0},null,{"$f":"SUM(L30:L34)","v":0}]
["Récap 28/02",null,null,{"$f":"+B35-D35","v":0},"Récap 31/03",null,null,{"$f":"+F35-H35","v":0},"Récap 30/04",null,null,{"$f":"+J35-L35","v":0}]
[]
[]
["MAI",null,null,null,"JUIN",null,null,null,"Situation fin juin"]
["RECETTES",null,"DEPENSES",null,"RECETTES",null,"DEPENSES",null,null,"Recettes","Dépenses","Total"]
["Dates","Montant","Activités","Montant","Dates","Montant","Activités","Montant",{"$f":"E23","v":"Situation 31/12"},null,null,{"$f":"H23","v":0}]
[null,null,null,null,null,null,null,null,{"$f":"I25","v":"Récap 31/01"},{"$f":"J24","v":0},{"$f":"L24","v":0},{"$f":"L25","v":0}]
[null,null,null,null,null,null,null,null,{"$f":"A36","v":"Récap 28/02"},{"$f":"B35","v":0},{"$f":"D35","v":0},{"$f":"D36","v":0}]
[null,null,null,null,null,null,null,null,{"$f":"E36","v":"Récap 31/03"},{"$f":"F35","v":0},{"$f":"H35","v":0},{"$f":"H36","v":0}]
[null,null,null,null,null,null,null,null,{"$f":"I36","v":"Récap 30/04"},{"$f":"J35","v":0},{"$f":"L35","v":0},{"$f":"L36","v":0}]
[null,null,null,null,null,null,null,null,{"$f":"A48","v":"Récap 31/05"},{"$f":"B47","v":0},{"$f":"D47","v":0},{"$f":"D48","v":0}]
[null,{"$f":"SUM(B42:B46)","v":0},null,{"$f":"SUM(D42:D46)","v":0},null,{"$f":"SUM(F42:F46)","v":0},null,{"$f":"SUM(H42:H46)","v":0},{"$f":"E48","v":"Récap 30/06"},{"$f":"F47","v":0},{"$f":"H47","v":0},{"$f":"H48","v":0}]
["Récap 31/05",null,null,{"$f":"+B47-D47","v":0},"Récap 30/06",null,null,{"$f":"+F47-H47","v":0},"Situation 30/06",{"$f":"SUM(J42:J47)","v":0},{"$f":"SUM(K42:K47)","v":0},{"$f":"SUM(L41:L47)","v":0}]
[]
[null,null,null,null,null,null,null,null,null,null,null,{"$f":"F23+J48-G23-K48+B8","v":0}]
[]
[null,null,null,null,null,null,null,null,null,{"$f":"B13+F13+J13+B24+J24+B35+F35+J35+B47+F47","v":0},{"$f":"D13+H13+L13+D24+L24+D35+H35+L35+D47+H47","v":0},{"$f":"B8+J52-K52","v":0}]

{"sheet":"DIKER","index":57,"n_rows":52,"n_cols":12,"rows_kept":52,"cut":false,"hidden":false,"merged":[[0,9,0,10],[2,1,2,2],[2,4,2,5],[2,8,2,9],[5,8,5,9],[5,10,5,11],[4,0,4,3],[4,4,4,7],[4,8,4,11],[5,0,5,1],[5,2,5,3],[5,4,5,5],[5,6,5,7],[24,0,24,2],[13,0,13,2],[13,4,13,6],[16,2,16,3],[37,9,37,10],[16,0,16,1],[27,6,27,7],[24,8,24,10],[38,8,38,11],[13,8,13,10],[15,0,15,3],[15,4,15,7],[15,8,15,11],[16,10,16,11],[26,0,26,3],[26,4,26,7],[26,8,26,11],[27,8,27,9],[35,0,35,2],[35,4,35,6],[35,8,35,10],[27,10,27,11],[16,8,16,9],[27,4,27,5],[47,0,47,2],[47,4,47,6],[38,0,38,3],[38,4,38,7],[39,4,39,5],[39,6,39,7]]}
[null,null,null,null,null,null,null,null,null,"Année scolaire : ",null,{"$f":"' Liste élèves'!B1","v":"2018-2019"}]
[]
["NOM : ",{"$f":"' Liste élèves'!A59","v":"DIKER"},null,"PRENOM:",{"$f":"' Liste élèves'!B59","v":"Adem"},null,null,"CLASSE :",{"$f":"' Liste élèves'!C59","v":"Classe JB"}]
[]
["SEPTEMBRE",null,null,null,"OCTOBRE",null,null,null,"NOVEMBRE"]
["RECETTES",null,"DEPENSES",null,"RECETTES",null,"DEPENSES",null,"RECETTES",null,"DEPENSES"]
["Dates","Montant","Activités","Montant","Dates","Montant","Activités","Montant","Dates","Montant","Activités","Montant"]
["Report juin",40.5]
[]
[]
[]
[]
[null,{"$f":"SUM(B9:B12)","v":0},null,{"$f":"SUM(D8:D12)","v":0},null,{"$f":"SUM(F8:F12)","v":0},null,{"$f":"SUM(H8:H12)","v":0},null,{"$f":"SUM(J8:J12)","v":0},null,{"$f":"SUM(L8:L12)","v":0}]
["Récap 30/09",null,null,{"$f":"+B13-D13","v":0},"Récap 31/10",null,null,{"$f":"+F13-H13","v":0},"Récap 30/11",null,null,{"$f":"+J13-L13","v":0}]
[]
["DÉCEMBRE",null,null,null,"Situation fin décembre",null,null,null,"JANVIER"]
["RECETTES",null,"DEPENSES",null,null,"Recettes","Dépenses","Total","RECETTES",null,"DEPENSES"]
["Dates","Montant","Activités","Montant",{"$f":"A14","v":"Récap 30/09"},{"$f":"B13","v":0},{"$f":"D13","v":0},{"$f":"D14","v":0},"Dates","Montant","Activités","Montant"]
[null,null,null,null,{"$f":"E14","v":"Récap 31/10"},{"$f":"F13","v":0},{"$f":"H13","v":0},{"$f":"H14","v":0}]
[null,null,null,null,{"$f":"I14","v":"Récap 30/11"},{"$f":"J13","v":0},{"$f":"L13","v":0},{"$f":"L14","v":0}]
[null,null,null,null,{"$f":"A25","v":"Récap 31/12"},{"$f":"B24","v":0},{"$f":"D24","v":0},{"$f":"D25","v":0}]
[null,null,null,null,"Report Sept",null,null,{"$f":"B8","v":40.5}]
[null,null,null,null,"Situation 31/12",{"$f":"SUM(F18:F22)","v":0},{"$f":"SUM(G18:G22)","v":0},{"$f":"SUM(H18:H22)","v":40.5}]
[null,{"$f":"SUM(B19:B23)","v":0},null,{"$f":"SUM(D19:D23)","v":0},null,null,null,null,null,{"$f":"SUM(J19:J23)","v":0},null,{"$f":"SUM(L19:L23)","v":0}]
["Récap 31/12",null,null,{"$f":"+B24-D24","v":0},null,null,null,null,"Récap 31/01",null,null,{"$f":"+J24-L24","v":0}]
[]
["FÉVRIER",null,null,null,"MARS",null,null,null,"AVRIL"]
["RECETTES",null,"DEPENSES",null,"RECETTES",null,"DEPENSES",null,"RECETTES",null,"DEPENSES"]
["Dates","Montant","Activités","Montant","Dates","Montant","Activités","Montant","Dates","Montant","Activités","Montant"]
[]
[]
[]
[]
[]
[null,{"$f":"SUM(B30:B34)","v":0},null,{"$f":"SUM(D30:D34)","v":0},null,{"$f":"SUM(F30:F34)","v":0},null,{"$f":"SUM(H30:H34)","v":0},null,{"$f":"SUM(J30:J34)","v":0},null,{"$f":"SUM(L30:L34)","v":0}]
["Récap 28/02",null,null,{"$f":"+B35-D35","v":0},"Récap 31/03",null,null,{"$f":"+F35-H35","v":0},"Récap 30/04",null,null,{"$f":"+J35-L35","v":0}]
[]
[]
["MAI",null,null,null,"JUIN",null,null,null,"Situation fin juin"]
["RECETTES",null,"DEPENSES",null,"RECETTES",null,"DEPENSES",null,null,"Recettes","Dépenses","Total"]
["Dates","Montant","Activités","Montant","Dates","Montant","Activités","Montant",{"$f":"E23","v":"Situation 31/12"},null,null,{"$f":"H23","v":40.5}]
[null,null,null,null,null,null,null,null,{"$f":"I25","v":"Récap 31/01"},{"$f":"J24","v":0},{"$f":"L24","v":0},{"$f":"L25","v":0}]
[null,null,null,null,null,null,null,null,{"$f":"A36","v":"Récap 28/02"},{"$f":"B35","v":0},{"$f":"D35","v":0},{"$f":"D36","v":0}]
[null,null,null,null,null,null,null,null,{"$f":"E36","v":"Récap 31/03"},{"$f":"F35","v":0},{"$f":"H35","v":0},{"$f":"H36","v":0}]
[null,null,null,null,null,null,null,null,{"$f":"I36","v":"Récap 30/04"},{"$f":"J35","v":0},{"$f":"L35","v":0},{"$f":"L36","v":0}]
[null,null,null,null,null,null,null,null,{"$f":"A48","v":"Récap 31/05"},{"$f":"B47","v":0},{"$f":"D47","v":0},{"$f":"D48","v":0}]
[null,{"$f":"SUM(B42:B46)","v":0},null,{"$f":"SUM(D42:D46)","v":0},null,{"$f":"SUM(F42:F46)","v":0},null,{"$f":"SUM(H42:H46)","v":0},{"$f":"E48","v":"Récap 30/06"},{"$f":"F47","v":0},{"$f":"H47","v":0},{"$f":"H48","v":0}]
["Récap 31/05",null,null,{"$f":"+B47-D47","v":0},"Récap 30/06",null,null,{"$f":"+F47-H47","v":0},"Situation 30/06",{"$f":"SUM(J42:J47)","v":0},{"$f":"SUM(K42:K47)","v":0},{"$f":"SUM(L41:L47)","v":40.5}]
[]
[null,null,null,null,null,null,null,null,null,null,null,{"$f":"F23+J48-G23-K48+B8","v":40.5}]
[]
[null,null,null,null,null,null,null,null,null,{"$f":"B13+F13+J13+B24+J24+B35+F35+J35+B47+F47","v":0},{"$f":"D13+H13+L13+D24+L24+D35+H35+L35+D47+H47","v":0},{"$f":"B8+J52-K52","v":40.5}]

{"sheet":"DISANTO","index":58,"n_rows":52,"n_cols":12,"rows_kept":52,"cut":false,"hidden":false,"merged":[[0,9,0,10],[2,1,2,2],[2,4,2,5],[2,8,2,9],[5,8,5,9],[5,10,5,11],[4,0,4,3],[4,4,4,7],[4,8,4,11],[5,0,5,1],[5,2,5,3],[5,4,5,5],[5,6,5,7],[24,0,24,2],[13,0,13,2],[13,4,13,6],[16,2,16,3],[37,9,37,10],[16,0,16,1],[27,6,27,7],[24,8,24,10],[38,8,38,11],[13,8,13,10],[15,0,15,3],[15,4,15,7],[15,8,15,11],[16,10,16,11],[26,0,26,3],[26,4,26,7],[26,8,26,11],[27,8,27,9],[35,0,35,2],[35,4,35,6],[35,8,35,10],[27,10,27,11],[16,8,16,9],[27,4,27,5],[47,0,47,2],[47,4,47,6],[38,0,38,3],[38,4,38,7],[39,4,39,5],[39,6,39,7]]}
[null,null,null,null,null,null,null,null,null,"Année scolaire : ",null,{"$f":"' Liste élèves'!B1","v":"2018-2019"}]
[]
["NOM : ",{"$f":"' Liste élèves'!A58","v":"DISANTO"},null,"PRENOM:",{"$f":"' Liste élèves'!B58","v":"Anthony"},null,null,"CLASSE :",{"$f":"' Liste élèves'!C58","v":"Classe AA"}]
[]
["SEPTEMBRE",null,null,null,"OCTOBRE",null,null,null,"NOVEMBRE"]
["RECETTES",null,"DEPENSES",null,"RECETTES",null,"DEPENSES",null,"RECETTES",null,"DEPENSES"]
["Dates","Montant","Activités","Montant","Dates","Montant","Activités","Montant","Dates","Montant","Activités","Montant"]
["Report juin",52.5]
[]
[]
[]
[]
[null,{"$f":"SUM(B9:B12)","v":0},null,{"$f":"SUM(D8:D12)","v":0},null,{"$f":"SUM(F8:F12)","v":0},null,{"$f":"SUM(H8:H12)","v":0},null,{"$f":"SUM(J8:J12)","v":0},null,{"$f":"SUM(L8:L12)","v":0}]
["Récap 30/09",null,null,{"$f":"+B13-D13","v":0},"Récap 31/10",null,null,{"$f":"+F13-H13","v":0},"Récap 30/11",null,null,{"$f":"+J13-L13","v":0}]
[]
["DÉCEMBRE",null,null,null,"Situation fin décembre",null,null,null,"JANVIER"]
["RECETTES",null,"DEPENSES",null,null,"Recettes","Dépenses","Total","RECETTES",null,"DEPENSES"]
["Dates","Montant","Activités","Montant",{"$f":"A14","v":"Récap 30/09"},{"$f":"B13","v":0},{"$f":"D13","v":0},{"$f":"D14","v":0},"Dates","Montant","Activités","Montant"]
[null,null,null,null,{"$f":"E14","v":"Récap 31/10"},{"$f":"F13","v":0},{"$f":"H13","v":0},{"$f":"H14","v":0}]
[null,null,null,null,{"$f":"I14","v":"Récap 30/11"},{"$f":"J13","v":0},{"$f":"L13","v":0},{"$f":"L14","v":0}]
[null,null,null,null,{"$f":"A25","v":"Récap 31/12"},{"$f":"B24","v":0},{"$f":"D24","v":0},{"$f":"D25","v":0}]
[null,null,null,null,"Report Sept",null,null,{"$f":"B8","v":52.5}]
[null,null,null,null,"Situation 31/12",{"$f":"SUM(F18:F22)","v":0},{"$f":"SUM(G18:G22)","v":0},{"$f":"SUM(H18:H22)","v":52.5}]
[null,{"$f":"SUM(B19:B23)","v":0},null,{"$f":"SUM(D19:D23)","v":0},null,null,null,null,null,{"$f":"SUM(J19:J23)","v":0},null,{"$f":"SUM(L19:L23)","v":0}]
["Récap 31/12",null,null,{"$f":"+B24-D24","v":0},null,null,null,null,"Récap 31/01",null,null,{"$f":"+J24-L24","v":0}]
[]
["FÉVRIER",null,null,null,"MARS",null,null,null,"AVRIL"]
["RECETTES",null,"DEPENSES",null,"RECETTES",null,"DEPENSES",null,"RECETTES",null,"DEPENSES"]
["Dates","Montant","Activités","Montant","Dates","Montant","Activités","Montant","Dates","Montant","Activités","Montant"]
[]
[]
[]
[]
[]
[null,{"$f":"SUM(B30:B34)","v":0},null,{"$f":"SUM(D30:D34)","v":0},null,{"$f":"SUM(F30:F34)","v":0},null,{"$f":"SUM(H30:H34)","v":0},null,{"$f":"SUM(J30:J34)","v":0},null,{"$f":"SUM(L30:L34)","v":0}]
["Récap 28/02",null,null,{"$f":"+B35-D35","v":0},"Récap 31/03",null,null,{"$f":"+F35-H35","v":0},"Récap 30/04",null,null,{"$f":"+J35-L35","v":0}]
[]
[]
["MAI",null,null,null,"JUIN",null,null,null,"Situation fin juin"]
["RECETTES",null,"DEPENSES",null,"RECETTES",null,"DEPENSES",null,null,"Recettes","Dépenses","Total"]
["Dates","Montant","Activités","Montant","Dates","Montant","Activités","Montant",{"$f":"E23","v":"Situation 31/12"},null,null,{"$f":"H23","v":52.5}]
[null,null,null,null,null,null,null,null,{"$f":"I25","v":"Récap 31/01"},{"$f":"J24","v":0},{"$f":"L24","v":0},{"$f":"L25","v":0}]
[null,null,null,null,null,null,null,null,{"$f":"A36","v":"Récap 28/02"},{"$f":"B35","v":0},{"$f":"D35","v":0},{"$f":"D36","v":0}]
[null,null,null,null,null,null,null,null,{"$f":"E36","v":"Récap 31/03"},{"$f":"F35","v":0},{"$f":"H35","v":0},{"$f":"H36","v":0}]
[null,null,null,null,null,null,null,null,{"$f":"I36","v":"Récap 30/04"},{"$f":"J35","v":0},{"$f":"L35","v":0},{"$f":"L36","v":0}]
[null,null,null,null,null,null,null,null,{"$f":"A48","v":"Récap 31/05"},{"$f":"B47","v":0},{"$f":"D47","v":0},{"$f":"D48","v":0}]
[null,{"$f":"SUM(B42:B46)","v":0},null,{"$f":"SUM(D42:D46)","v":0},null,{"$f":"SUM(F42:F46)","v":0},null,{"$f":"SUM(H42:H46)","v":0},{"$f":"E48","v":"Récap 30/06"},{"$f":"F47","v":0},{"$f":"H47","v":0},{"$f":"H48","v":0}]
["Récap 31/05",null,null,{"$f":"+B47-D47","v":0},"Récap 30/06",null,null,{"$f":"+F47-H47","v":0},"Situation 30/06",{"$f":"SUM(J42:J47)","v":0},{"$f":"SUM(K42:K47)","v":0},{"$f":"SUM(L41:L47)","v":52.5}]
[]
[null,null,null,null,null,null,null,null,null,null,null,{"$f":"F23+J48-G23-K48+B8","v":52.5}]
[]
[null,null,null,null,null,null,null,null,null,{"$f":"B13+F13+J13+B24+J24+B35+F35+J35+B47+F47","v":0},{"$f":"D13+H13+L13+D24+L24+D35+H35+L35+D47+H47","v":0},{"$f":"B8+J52-K52","v":52.5}]

{"sheet":"DONCA","index":59,"n_rows":52,"n_cols":12,"rows_kept":52,"cut":false,"hidden":false,"merged":[[0,9,0,10],[2,1,2,2],[2,4,2,5],[2,8,2,9],[5,8,5,9],[5,10,5,11],[4,0,4,3],[4,4,4,7],[4,8,4,11],[5,0,5,1],[5,2,5,3],[5,4,5,5],[5,6,5,7],[24,0,24,2],[13,0,13,2],[13,4,13,6],[16,2,16,3],[37,9,37,10],[16,0,16,1],[27,6,27,7],[24,8,24,10],[38,8,38,11],[13,8,13,10],[15,0,15,3],[15,4,15,7],[15,8,15,11],[16,10,16,11],[26,0,26,3],[26,4,26,7],[26,8,26,11],[27,8,27,9],[35,0,35,2],[35,4,35,6],[35,8,35,10],[27,10,27,11],[16,8,16,9],[27,4,27,5],[47,0,47,2],[47,4,47,6],[38,0,38,3],[38,4,38,7],[39,4,39,5],[39,6,39,7]]}
[null,null,null,null,null,null,null,null,null,"Année scolaire : ",null,{"$f":"' Liste élèves'!B1","v":"2018-2019"}]
[]
["NOM : ",{"$f":"' Liste élèves'!A60","v":"DONCA"},null,"PRENOM:",{"$f":"' Liste élèves'!B60","v":"Ionita Alex"},null,null,"CLASSE :",{"$f":"' Liste élèves'!C60","v":"Classe 6"}]
[]
["SEPTEMBRE",null,null,null,"OCTOBRE",null,null,null,"NOVEMBRE"]
["RECETTES",null,"DEPENSES",null,"RECETTES",null,"DEPENSES",null,"RECETTES",null,"DEPENSES"]
["Dates","Montant","Activités","Montant","Dates","Montant","Activités","Montant","Dates","Montant","Activités","Montant"]
["Report juin",41.93]
[]
[]
[]
[]
[null,{"$f":"SUM(B9:B12)","v":0},null,{"$f":"SUM(D8:D12)","v":0},null,{"$f":"SUM(F8:F12)","v":0},null,{"$f":"SUM(H8:H12)","v":0},null,{"$f":"SUM(J8:J12)","v":0},null,{"$f":"SUM(L8:L12)","v":0}]
["Récap 30/09",null,null,{"$f":"+B13-D13","v":0},"Récap 31/10",null,null,{"$f":"+F13-H13","v":0},"Récap 30/11",null,null,{"$f":"+J13-L13","v":0}]
[]
["DÉCEMBRE",null,null,null,"Situation fin décembre",null,null,null,"JANVIER"]
["RECETTES",null,"DEPENSES",null,null,"Recettes","Dépenses","Total","RECETTES",null,"DEPENSES"]
["Dates","Montant","Activités","Montant",{"$f":"A14","v":"Récap 30/09"},{"$f":"B13","v":0},{"$f":"D13","v":0},{"$f":"D14","v":0},"Dates","Montant","Activités","Montant"]
[null,null,null,null,{"$f":"E14","v":"Récap 31/10"},{"$f":"F13","v":0},{"$f":"H13","v":0},{"$f":"H14","v":0}]
[null,null,null,null,{"$f":"I14","v":"Récap 30/11"},{"$f":"J13","v":0},{"$f":"L13","v":0},{"$f":"L14","v":0}]
[null,null,null,null,{"$f":"A25","v":"Récap 31/12"},{"$f":"B24","v":0},{"$f":"D24","v":0},{"$f":"D25","v":0}]
[null,null,null,null,"Report Sept",null,null,{"$f":"B8","v":41.93}]
[null,null,null,null,"Situation 31/12",{"$f":"SUM(F18:F22)","v":0},{"$f":"SUM(G18:G22)","v":0},{"$f":"SUM(H18:H22)","v":41.93}]
[null,{"$f":"SUM(B19:B23)","v":0},null,{"$f":"SUM(D19:D23)","v":0},null,null,null,null,null,{"$f":"SUM(J19:J23)","v":0},null,{"$f":"SUM(L19:L23)","v":0}]
["Récap 31/12",null,null,{"$f":"+B24-D24","v":0},null,null,null,null,"Récap 31/01",null,null,{"$f":"+J24-L24","v":0}]
[]
["FÉVRIER",null,null,null,"MARS",null,null,null,"AVRIL"]
["RECETTES",null,"DEPENSES",null,"RECETTES",null,"DEPENSES",null,"RECETTES",null,"DEPENSES"]
["Dates","Montant","Activités","Montant","Dates","Montant","Activités","Montant","Dates","Montant","Activités","Montant"]
[]
[]
[]
[]
[]
[null,{"$f":"SUM(B30:B34)","v":0},null,{"$f":"SUM(D30:D34)","v":0},null,{"$f":"SUM(F30:F34)","v":0},null,{"$f":"SUM(H30:H34)","v":0},null,{"$f":"SUM(J30:J34)","v":0},null,{"$f":"SUM(L30:L34)","v":0}]
["Récap 28/02",null,null,{"$f":"+B35-D35","v":0},"Récap 31/03",null,null,{"$f":"+F35-H35","v":0},"Récap 30/04",null,null,{"$f":"+J35-L35","v":0}]
[]
[]
["MAI",null,null,null,"JUIN",null,null,null,"Situation fin juin"]
["RECETTES",null,"DEPENSES",null,"RECETTES",null,"DEPENSES",null,null,"Recettes","Dépenses","Total"]
["Dates","Montant","Activités","Montant","Dates","Montant","Activités","Montant",{"$f":"E23","v":"Situation 31/12"},null,null,{"$f":"H23","v":41.93}]
[null,null,null,null,null,null,null,null,{"$f":"I25","v":"Récap 31/01"},{"$f":"J24","v":0},{"$f":"L24","v":0},{"$f":"L25","v":0}]
[null,null,null,null,null,null,null,null,{"$f":"A36","v":"Récap 28/02"},{"$f":"B35","v":0},{"$f":"D35","v":0},{"$f":"D36","v":0}]
[null,null,null,null,null,null,null,null,{"$f":"E36","v":"Récap 31/03"},{"$f":"F35","v":0},{"$f":"H35","v":0},{"$f":"H36","v":0}]
[null,null,null,null,null,null,null,null,{"$f":"I36","v":"Récap 30/04"},{"$f":"J35","v":0},{"$f":"L35","v":0},{"$f":"L36","v":0}]
[null,null,null,null,null,null,null,null,{"$f":"A48","v":"Récap 31/05"},{"$f":"B47","v":0},{"$f":"D47","v":0},{"$f":"D48","v":0}]
[null,{"$f":"SUM(B42:B46)","v":0},null,{"$f":"SUM(D42:D46)","v":0},null,{"$f":"SUM(F42:F46)","v":0},null,{"$f":"SUM(H42:H46)","v":0},{"$f":"E48","v":"Récap 30/06"},{"$f":"F47","v":0},{"$f":"H47","v":0},{"$f":"H48","v":0}]
["Récap 31/05",null,null,{"$f":"+B47-D47","v":0},"Récap 30/06",null,null,{"$f":"+F47-H47","v":0},"Situation 30/06",{"$f":"SUM(J42:J47)","v":0},{"$f":"SUM(K42:K47)","v":0},{"$f":"SUM(L41:L47)","v":41.93}]
[]
[null,null,null,null,null,null,null,null,null,null,null,{"$f":"F23+J48-G23-K48+B8","v":41.93}]
[]
[null,null,null,null,null,null,null,null,null,{"$f":"B13+F13+J13+B24+J24+B35+F35+J35+B47+F47","v":0},{"$f":"D13+H13+L13+D24+L24+D35+H35+L35+D47+H47","v":0},{"$f":"B8+J52-K52","v":41.93}]

{"sheet":"DRIESSENS","index":60,"n_rows":52,"n_cols":12,"rows_kept":52,"cut":false,"hidden":false,"merged":[[0,9,0,10],[2,1,2,2],[2,4,2,5],[2,8,2,9],[5,8,5,9],[5,10,5,11],[4,0,4,3],[4,4,4,7],[4,8,4,11],[5,0,5,1],[5,2,5,3],[5,4,5,5],[5,6,5,7],[24,0,24,2],[13,0,13,2],[13,4,13,6],[16,2,16,3],[37,9,37,10],[16,0,16,1],[27,6,27,7],[24,8,24,10],[38,8,38,11],[13,8,13,10],[15,0,15,3],[15,4,15,7],[15,8,15,11],[16,10,16,11],[26,0,26,3],[26,4,26,7],[26,8,26,11],[27,8,27,9],[35,0,35,2],[35,4,35,6],[35,8,35,10],[27,10,27,11],[16,8,16,9],[27,4,27,5],[47,0,47,2],[47,4,47,6],[38,0,38,3],[38,4,38,7],[39,4,39,5],[39,6,39,7]]}
[null,null,null,null,null,null,null,null,null,"Année scolaire : ",null,{"$f":"' Liste élèves'!B1","v":"2018-2019"}]
[]
["NOM : ",{"$f":"' Liste élèves'!A61","v":"DRIESSENS"},null,"PRENOM:",{"$f":"' Liste élèves'!B61","v":"Pierre"},null,null,"CLASSE :",{"$f":"' Liste élèves'!C61","v":"Classe 3"}]
[]
["SEPTEMBRE",null,null,null,"OCTOBRE",null,null,null,"NOVEMBRE"]
["RECETTES",null,"DEPENSES",null,"RECETTES",null,"DEPENSES",null,"RECETTES",null,"DEPENSES"]
["Dates","Montant","Activités","Montant","Dates","Montant","Activités","Montant","Dates","Montant","Activités","Montant"]
["Report juin",60]
[]
[]
[]
[]
[null,{"$f":"SUM(B9:B12)","v":0},null,{"$f":"SUM(D8:D12)","v":0},null,{"$f":"SUM(F8:F12)","v":0},null,{"$f":"SUM(H8:H12)","v":0},null,{"$f":"SUM(J8:J12)","v":0},null,{"$f":"SUM(L8:L12)","v":0}]
["Récap 30/09",null,null,{"$f":"+B13-D13","v":0},"Récap 31/10",null,null,{"$f":"+F13-H13","v":0},"Récap 30/11",null,null,{"$f":"+J13-L13","v":0}]
[]
["DÉCEMBRE",null,null,null,"Situation fin décembre",null,null,null,"JANVIER"]
["RECETTES",null,"DEPENSES",null,null,"Recettes","Dépenses","Total","RECETTES",null,"DEPENSES"]
["Dates","Montant","Activités","Montant",{"$f":"A14","v":"Récap 30/09"},{"$f":"B13","v":0},{"$f":"D13","v":0},{"$f":"D14","v":0},"Dates","Montant","Activités","Montant"]
[null,null,null,null,{"$f":"E14","v":"Récap 31/10"},{"$f":"F13","v":0},{"$f":"H13","v":0},{"$f":"H14","v":0}]
[null,null,null,null,{"$f":"I14","v":"Récap 30/11"},{"$f":"J13","v":0},{"$f":"L13","v":0},{"$f":"L14","v":0}]
[null,null,null,null,{"$f":"A25","v":"Récap 31/12"},{"$f":"B24","v":0},{"$f":"D24","v":0},{"$f":"D25","v":0}]
[null,null,null,null,"Report Sept",null,null,{"$f":"B8","v":60}]
[null,null,null,null,"Situation 31/12",{"$f":"SUM(F18:F22)","v":0},{"$f":"SUM(G18:G22)","v":0},{"$f":"SUM(H18:H22)","v":60}]
[null,{"$f":"SUM(B19:B23)","v":0},null,{"$f":"SUM(D19:D23)","v":0},null,null,null,null,null,{"$f":"SUM(J19:J23)","v":0},null,{"$f":"SUM(L19:L23)","v":0}]
["Récap 31/12",null,null,{"$f":"+B24-D24","v":0},null,null,null,null,"Récap 31/01",null,null,{"$f":"+J24-L24","v":0}]
[]
["FÉVRIER",null,null,null,"MARS",null,null,null,"AVRIL"]
["RECETTES",null,"DEPENSES",null,"RECETTES",null,"DEPENSES",null,"RECETTES",null,"DEPENSES"]
["Dates","Montant","Activités","Montant","Dates","Montant","Activités","Montant","Dates","Montant","Activités","Montant"]
[]
[]
[]
[]
[]
[null,{"$f":"SUM(B30:B34)","v":0},null,{"$f":"SUM(D30:D34)","v":0},null,{"$f":"SUM(F30:F34)","v":0},null,{"$f":"SUM(H30:H34)","v":0},null,{"$f":"SUM(J30:J34)","v":0},null,{"$f":"SUM(L30:L34)","v":0}]
["Récap 28/02",null,null,{"$f":"+B35-D35","v":0},"Récap 31/03",null,null,{"$f":"+F35-H35","v":0},"Récap 30/04",null,null,{"$f":"+J35-L35","v":0}]
[]
[]
["MAI",null,null,null,"JUIN",null,null,null,"Situation fin juin"]
["RECETTES",null,"DEPENSES",null,"RECETTES",null,"DEPENSES",null,null,"Recettes","Dépenses","Total"]
["Dates","Montant","Activités","Montant","Dates","Montant","Activités","Montant",{"$f":"E23","v":"Situation 31/12"},null,null,{"$f":"H23","v":60}]
[null,null,null,null,null,null,null,null,{"$f":"I25","v":"Récap 31/01"},{"$f":"J24","v":0},{"$f":"L24","v":0},{"$f":"L25","v":0}]
[null,null,null,null,null,null,null,null,{"$f":"A36","v":"Récap 28/02"},{"$f":"B35","v":0},{"$f":"D35","v":0},{"$f":"D36","v":0}]
[null,null,null,null,null,null,null,null,{"$f":"E36","v":"Récap 31/03"},{"$f":"F35","v":0},{"$f":"H35","v":0},{"$f":"H36","v":0}]
[null,null,null,null,null,null,null,null,{"$f":"I36","v":"Récap 30/04"},{"$f":"J35","v":0},{"$f":"L35","v":0},{"$f":"L36","v":0}]
[null,null,null,null,null,null,null,null,{"$f":"A48","v":"Récap 31/05"},{"$f":"B47","v":0},{"$f":"D47","v":0},{"$f":"D48","v":0}]
[null,{"$f":"SUM(B42:B46)","v":0},null,{"$f":"SUM(D42:D46)","v":0},null,{"$f":"SUM(F42:F46)","v":0},null,{"$f":"SUM(H42:H46)","v":0},{"$f":"E48","v":"Récap 30/06"},{"$f":"F47","v":0},{"$f":"H47","v":0},{"$f":"H48","v":0}]
["Récap 31/05",null,null,{"$f":"+B47-D47","v":0},"Récap 30/06",null,null,{"$f":"+F47-H47","v":0},"Situation 30/06",{"$f":"SUM(J42:J47)","v":0},{"$f":"SUM(K42:K47)","v":0},{"$f":"SUM(L41:L47)","v":60}]
[]
[null,null,null,null,null,null,null,null,null,null,null,{"$f":"F23+J48-G23-K48+B8","v":60}]
[]
[null,null,null,null,null,null,null,null,null,{"$f":"B13+F13+J13+B24+J24+B35+F35+J35+B47+F47","v":0},{"$f":"D13+H13+L13+D24+L24+D35+H35+L35+D47+H47","v":0},{"$f":"B8+J52-K52","v":60}]

{"sheet":"DURANT","index":61,"n_rows":52,"n_cols":12,"rows_kept":52,"cut":false,"hidden":false,"merged":[[39,4,39,5],[39,6,39,7],[47,0,47,2],[47,4,47,6],[35,0,35,2],[35,4,35,6],[35,8,35,10],[37,9,37,10],[38,0,38,3],[38,4,38,7],[38,8,38,11],[26,0,26,3],[26,4,26,7],[26,8,26,11],[27,4,27,5],[27,6,27,7],[27,8,27,9],[27,10,27,11],[16,0,16,1],[16,2,16,3],[16,8,16,9],[16,10,16,11],[24,0,24,2],[24,8,24,10],[13,0,13,2],[13,4,13,6],[13,8,13,10],[15,0,15,3],[15,4,15,7],[15,8,15,11],[5,10,5,11],[0,9,0,10],[2,1,2,2],[2,4,2,5],[2,8,2,9],[4,0,4,3],[4,4,4,7],[4,8,4,11],[5,0,5,1],[5,2,5,3],[5,4,5,5],[5,6,5,7],[5,8,5,9]]}
[null,null,null,null,null,null,null,null,null,"Année scolaire : ",null,{"$f":"' Liste élèves'!B1","v":"2018-2019"}]
[]
["NOM : ",{"$f":"' Liste élèves'!A62","v":"DURANT"},null,"PRENOM:",{"$f":"' Liste élèves'!B62","v":"Morgane"},null,null,"CLASSE :",{"$f":"' Liste élèves'!C62","v":"Classe 11"}]
[]
["SEPTEMBRE",null,null,null,"OCTOBRE",null,null,null,"NOVEMBRE"]
["RECETTES",null,"DEPENSES",null,"RECETTES",null,"DEPENSES",null,"RECETTES",null,"DEPENSES"]
["Dates","Montant","Activités","Montant","Dates","Montant","Activités","Montant","Dates","Montant","Activités","Montant"]
["Report juin",56]
[]
[]
[]
[]
[null,{"$f":"SUM(B9:B12)","v":0},null,{"$f":"SUM(D8:D12)","v":0},null,{"$f":"SUM(F8:F12)","v":0},null,{"$f":"SUM(H8:H12)","v":0},null,{"$f":"SUM(J8:J12)","v":0},null,{"$f":"SUM(L8:L12)","v":0}]
["Récap 30/09",null,null,{"$f":"+B13-D13","v":0},"Récap 31/10",null,null,{"$f":"+F13-H13","v":0},"Récap 30/11",null,null,{"$f":"+J13-L13","v":0}]
[]
["DÉCEMBRE",null,null,null,"Situation fin décembre",null,null,null,"JANVIER"]
["RECETTES",null,"DEPENSES",null,null,"Recettes","Dépenses","Total","RECETTES",null,"DEPENSES"]
["Dates","Montant","Activités","Montant",{"$f":"A14","v":"Récap 30/09"},{"$f":"B13","v":0},{"$f":"D13","v":0},{"$f":"D14","v":0},"Dates","Montant","Activités","Montant"]
[null,null,null,null,{"$f":"E14","v":"Récap 31/10"},{"$f":"F13","v":0},{"$f":"H13","v":0},{"$f":"H14","v":0}]
[null,null,null,null,{"$f":"I14","v":"Récap 30/11"},{"$f":"J13","v":0},{"$f":"L13","v":0},{"$f":"L14","v":0}]
[null,null,null,null,{"$f":"A25","v":"Récap 31/12"},{"$f":"B24","v":0},{"$f":"D24","v":0},{"$f":"D25","v":0}]
[null,null,null,null,"Report Sept",null,null,{"$f":"B8","v":56}]
[null,null,null,null,"Situation 31/12",{"$f":"SUM(F18:F22)","v":0},{"$f":"SUM(G18:G22)","v":0},{"$f":"SUM(H18:H22)","v":56}]
[null,{"$f":"SUM(B19:B23)","v":0},null,{"$f":"SUM(D19:D23)","v":0},null,null,null,null,null,{"$f":"SUM(J19:J23)","v":0},null,{"$f":"SUM(L19:L23)","v":0}]
["Récap 31/12",null,null,{"$f":"+B24-D24","v":0},null,null,null,null,"Récap 31/01",null,null,{"$f":"+J24-L24","v":0}]
[]
["FÉVRIER",null,null,null,"MARS",null,null,null,"AVRIL"]
["RECETTES",null,"DEPENSES",null,"RECETTES",null,"DEPENSES",null,"RECETTES",null,"DEPENSES"]
["Dates","Montant","Activités","Montant","Dates","Montant","Activités","Montant","Dates","Montant","Activités","Montant"]
[]
[]
[]
[]
[]
[null,{"$f":"SUM(B30:B34)","v":0},null,{"$f":"SUM(D30:D34)","v":0},null,{"$f":"SUM(F30:F34)","v":0},null,{"$f":"SUM(H30:H34)","v":0},null,{"$f":"SUM(J30:J34)","v":0},null,{"$f":"SUM(L30:L34)","v":0}]
["Récap 28/02",null,null,{"$f":"+B35-D35","v":0},"Récap 31/03",null,null,{"$f":"+F35-H35","v":0},"Récap 30/04",null,null,{"$f":"+J35-L35","v":0}]
[]
[]
["MAI",null,null,null,"JUIN",null,null,null,"Situation fin juin"]
["RECETTES",null,"DEPENSES",null,"RECETTES",null,"DEPENSES",null,null,"Recettes","Dépenses","Total"]
["Dates","Montant","Activités","Montant","Dates","Montant","Activités","Montant",{"$f":"E23","v":"Situation 31/12"},null,null,{"$f":"H23","v":56}]
[null,null,null,null,null,null,null,null,{"$f":"I25","v":"Récap 31/01"},{"$f":"J24","v":0},{"$f":"L24","v":0},{"$f":"L25","v":0}]
[null,null,null,null,null,null,null,null,{"$f":"A36","v":"Récap 28/02"},{"$f":"B35","v":0},{"$f":"D35","v":0},{"$f":"D36","v":0}]
[null,null,null,null,null,null,null,null,{"$f":"E36","v":"Récap 31/03"},{"$f":"F35","v":0},{"$f":"H35","v":0},{"$f":"H36","v":0}]
[null,null,null,null,null,null,null,null,{"$f":"I36","v":"Récap 30/04"},{"$f":"J35","v":0},{"$f":"L35","v":0},{"$f":"L36","v":0}]
[null,null,null,null,null,null,null,null,{"$f":"A48","v":"Récap 31/05"},{"$f":"B47","v":0},{"$f":"D47","v":0},{"$f":"D48","v":0}]
[null,{"$f":"SUM(B42:B46)","v":0},null,{"$f":"SUM(D42:D46)","v":0},null,{"$f":"SUM(F42:F46)","v":0},null,{"$f":"SUM(H42:H46)","v":0},{"$f":"E48","v":"Récap 30/06"},{"$f":"F47","v":0},{"$f":"H47","v":0},{"$f":"H48","v":0}]
["Récap 31/05",null,null,{"$f":"+B47-D47","v":0},"Récap 30/06",null,null,{"$f":"+F47-H47","v":0},"Situation 30/06",{"$f":"SUM(J42:J47)","v":0},{"$f":"SUM(K42:K47)","v":0},{"$f":"SUM(L41:L47)","v":56}]
[]
[null,null,null,null,null,null,null,null,null,null,null,{"$f":"F23+J48-G23-K48+B8","v":56}]
[]
[null,null,null,null,null,null,null,null,null,{"$f":"B13+F13+J13+B24+J24+B35+F35+J35+B47+F47","v":0},{"$f":"D13+H13+L13+D24+L24+D35+H35+L35+D47+H47","v":0},{"$f":"B8+J52-K52","v":56}]

{"sheet":"DUVALA","index":62,"n_rows":52,"n_cols":12,"rows_kept":52,"cut":false,"hidden":false,"merged":[[0,9,0,10],[2,1,2,2],[2,4,2,5],[2,8,2,9],[5,8,5,9],[5,10,5,11],[4,0,4,3],[4,4,4,7],[4,8,4,11],[5,0,5,1],[5,2,5,3],[5,4,5,5],[5,6,5,7],[24,0,24,2],[13,0,13,2],[13,4,13,6],[16,2,16,3],[37,9,37,10],[16,0,16,1],[27,6,27,7],[24,8,24,10],[38,8,38,11],[13,8,13,10],[15,0,15,3],[15,4,15,7],[15,8,15,11],[16,10,16,11],[26,0,26,3],[26,4,26,7],[26,8,26,11],[27,8,27,9],[35,0,35,2],[35,4,35,6],[35,8,35,10],[27,10,27,11],[16,8,16,9],[27,4,27,5],[47,0,47,2],[47,4,47,6],[38,0,38,3],[38,4,38,7],[39,4,39,5],[39,6,39,7]]}
[null,null,null,null,null,null,null,null,null,"Année scolaire : ",null,{"$f":"' Liste élèves'!B1","v":"2018-2019"}]
[]
["NOM : ",{"$f":"' Liste élèves'!A63","v":"DUVALA"},null,"PRENOM:",{"$f":"' Liste élèves'!B63","v":"Anna"},null,null,"CLASSE :",{"$f":"' Liste élèves'!C63","v":"Classe MA"}]
[]
["SEPTEMBRE",null,null,null,"OCTOBRE",null,null,null,"NOVEMBRE"]
["RECETTES",null,"DEPENSES",null,"RECETTES",null,"DEPENSES",null,"RECETTES",null,"DEPENSES"]
["Dates","Montant","Activités","Montant","Dates","Montant","Activités","Montant","Dates","Montant","Activités","Montant"]
["Report juin",40.24]
[]
[]
[]
[]
[null,{"$f":"SUM(B9:B12)","v":0},null,{"$f":"SUM(D8:D12)","v":0},null,{"$f":"SUM(F8:F12)","v":0},null,{"$f":"SUM(H8:H12)","v":0},null,{"$f":"SUM(J8:J12)","v":0},null,{"$f":"SUM(L8:L12)","v":0}]
["Récap 30/09",null,null,{"$f":"+B13-D13","v":0},"Récap 31/10",null,null,{"$f":"+F13-H13","v":0},"Récap 30/11",null,null,{"$f":"+J13-L13","v":0}]
[]
["DÉCEMBRE",null,null,null,"Situation fin décembre",null,null,null,"JANVIER"]
["RECETTES",null,"DEPENSES",null,null,"Recettes","Dépenses","Total","RECETTES",null,"DEPENSES"]
["Dates","Montant","Activités","Montant",{"$f":"A14","v":"Récap 30/09"},{"$f":"B13","v":0},{"$f":"D13","v":0},{"$f":"D14","v":0},"Dates","Montant","Activités","Montant"]
[null,null,null,null,{"$f":"E14","v":"Récap 31/10"},{"$f":"F13","v":0},{"$f":"H13","v":0},{"$f":"H14","v":0}]
[null,null,null,null,{"$f":"I14","v":"Récap 30/11"},{"$f":"J13","v":0},{"$f":"L13","v":0},{"$f":"L14","v":0}]
[null,null,null,null,{"$f":"A25","v":"Récap 31/12"},{"$f":"B24","v":0},{"$f":"D24","v":0},{"$f":"D25","v":0}]
[null,null,null,null,"Report Sept",null,null,{"$f":"B8","v":40.24}]
[null,null,null,null,"Situation 31/12",{"$f":"SUM(F18:F22)","v":0},{"$f":"SUM(G18:G22)","v":0},{"$f":"SUM(H18:H22)","v":40.24}]
[null,{"$f":"SUM(B19:B23)","v":0},null,{"$f":"SUM(D19:D23)","v":0},null,null,null,null,null,{"$f":"SUM(J19:J23)","v":0},null,{"$f":"SUM(L19:L23)","v":0}]
["Récap 31/12",null,null,{"$f":"+B24-D24","v":0},null,null,null,null,"Récap 31/01",null,null,{"$f":"+J24-L24","v":0}]
[]
["FÉVRIER",null,null,null,"MARS",null,null,null,"AVRIL"]
["RECETTES",null,"DEPENSES",null,"RECETTES",null,"DEPENSES",null,"RECETTES",null,"DEPENSES"]
["Dates","Montant","Activités","Montant","Dates","Montant","Activités","Montant","Dates","Montant","Activités","Montant"]
[]
[]
[]
[]
[]
[null,{"$f":"SUM(B30:B34)","v":0},null,{"$f":"SUM(D30:D34)","v":0},null,{"$f":"SUM(F30:F34)","v":0},null,{"$f":"SUM(H30:H34)","v":0},null,{"$f":"SUM(J30:J34)","v":0},null,{"$f":"SUM(L30:L34)","v":0}]
["Récap 28/02",null,null,{"$f":"+B35-D35","v":0},"Récap 31/03",null,null,{"$f":"+F35-H35","v":0},"Récap 30/04",null,null,{"$f":"+J35-L35","v":0}]
[]
[]
["MAI",null,null,null,"JUIN",null,null,null,"Situation fin juin"]
["RECETTES",null,"DEPENSES",null,"RECETTES",null,"DEPENSES",null,null,"Recettes","Dépenses","Total"]
["Dates","Montant","Activités","Montant","Dates","Montant","Activités","Montant",{"$f":"E23","v":"Situation 31/12"},null,null,{"$f":"H23","v":40.24}]
[null,null,null,null,null,null,null,null,{"$f":"I25","v":"Récap 31/01"},{"$f":"J24","v":0},{"$f":"L24","v":0},{"$f":"L25","v":0}]
[null,null,null,null,null,null,null,null,{"$f":"A36","v":"Récap 28/02"},{"$f":"B35","v":0},{"$f":"D35","v":0},{"$f":"D36","v":0}]
[null,null,null,null,null,null,null,null,{"$f":"E36","v":"Récap 31/03"},{"$f":"F35","v":0},{"$f":"H35","v":0},{"$f":"H36","v":0}]
[null,null,null,null,null,null,null,null,{"$f":"I36","v":"Récap 30/04"},{"$f":"J35","v":0},{"$f":"L35","v":0},{"$f":"L36","v":0}]
[null,null,null,null,null,null,null,null,{"$f":"A48","v":"Récap 31/05"},{"$f":"B47","v":0},{"$f":"D47","v":0},{"$f":"D48","v":0}]
[null,{"$f":"SUM(B42:B46)","v":0},null,{"$f":"SUM(D42:D46)","v":0},null,{"$f":"SUM(F42:F46)","v":0},null,{"$f":"SUM(H42:H46)","v":0},{"$f":"E48","v":"Récap 30/06"},{"$f":"F47","v":0},{"$f":"H47","v":0},{"$f":"H48","v":0}]
["Récap 31/05",null,null,{"$f":"+B47-D47","v":0},"Récap 30/06",null,null,{"$f":"+F47-H47","v":0},"Situation 30/06",{"$f":"SUM(J42:J47)","v":0},{"$f":"SUM(K42:K47)","v":0},{"$f":"SUM(L41:L47)","v":40.24}]
[]
[null,null,null,null,null,null,null,null,null,null,null,{"$f":"F23+J48-G23-K48+B8","v":40.24}]
[]
[null,null,null,null,null,null,null,null,null,{"$f":"B13+F13+J13+B24+J24+B35+F35+J35+B47+F47","v":0},{"$f":"D13+H13+L13+D24+L24+D35+H35+L35+D47+H47","v":0},{"$f":"B8+J52-K52","v":40.24}]

{"sheet":"DUVALG","index":63,"n_rows":52,"n_cols":12,"rows_kept":52,"cut":false,"hidden":false,"merged":[[0,9,0,10],[2,1,2,2],[2,4,2,5],[2,8,2,9],[5,8,5,9],[5,10,5,11],[4,0,4,3],[4,4,4,7],[4,8,4,11],[5,0,5,1],[5,2,5,3],[5,4,5,5],[5,6,5,7],[24,0,24,2],[13,0,13,2],[13,4,13,6],[16,2,16,3],[37,9,37,10],[16,0,16,1],[27,6,27,7],[24,8,24,10],[38,8,38,11],[13,8,13,10],[15,0,15,3],[15,4,15,7],[15,8,15,11],[16,10,16,11],[26,0,26,3],[26,4,26,7],[26,8,26,11],[27,8,27,9],[35,0,35,2],[35,4,35,6],[35,8,35,10],[27,10,27,11],[16,8,16,9],[27,4,27,5],[47,0,47,2],[47,4,47,6],[38,0,38,3],[38,4,38,7],[39,4,39,5],[39,6,39,7]]}
[null,null,null,null,null,null,null,null,null,"Année scolaire : ",null,{"$f":"' Liste élèves'!B1","v":"2018-2019"}]
[]
["NOM : ",{"$f":"' Liste élèves'!A64","v":"DUVALG"},null,"PRENOM:",{"$f":"' Liste élèves'!B64","v":"Gabriel"},null,null,"CLASSE :",{"$f":"' Liste élèves'!C64","v":"Classe FB"}]
[]
["SEPTEMBRE",null,null,null,"OCTOBRE",null,null,null,"NOVEMBRE"]
["RECETTES",null,"DEPENSES",null,"RECETTES",null,"DEPENSES",null,"RECETTES",null,"DEPENSES"]
["Dates","Montant","Activités","Montant","Dates","Montant","Activités","Montant","Dates","Montant","Activités","Montant"]
["Report juin",45.5]
[]
[]
[]
[]
[null,{"$f":"SUM(B9:B12)","v":0},null,{"$f":"SUM(D8:D12)","v":0},null,{"$f":"SUM(F8:F12)","v":0},null,{"$f":"SUM(H8:H12)","v":0},null,{"$f":"SUM(J8:J12)","v":0},null,{"$f":"SUM(L8:L12)","v":0}]
["Récap 30/09",null,null,{"$f":"+B13-D13","v":0},"Récap 31/10",null,null,{"$f":"+F13-H13","v":0},"Récap 30/11",null,null,{"$f":"+J13-L13","v":0}]
[]
["DÉCEMBRE",null,null,null,"Situation fin décembre",null,null,null,"JANVIER"]
["RECETTES",null,"DEPENSES",null,null,"Recettes","Dépenses","Total","RECETTES",null,"DEPENSES"]
["Dates","Montant","Activités","Montant",{"$f":"A14","v":"Récap 30/09"},{"$f":"B13","v":0},{"$f":"D13","v":0},{"$f":"D14","v":0},"Dates","Montant","Activités","Montant"]
[null,null,null,null,{"$f":"E14","v":"Récap 31/10"},{"$f":"F13","v":0},{"$f":"H13","v":0},{"$f":"H14","v":0}]
[null,null,null,null,{"$f":"I14","v":"Récap 30/11"},{"$f":"J13","v":0},{"$f":"L13","v":0},{"$f":"L14","v":0}]
[null,null,null,null,{"$f":"A25","v":"Récap 31/12"},{"$f":"B24","v":0},{"$f":"D24","v":0},{"$f":"D25","v":0}]
[null,null,null,null,"Report Sept",null,null,{"$f":"B8","v":45.5}]
[null,null,null,null,"Situation 31/12",{"$f":"SUM(F18:F22)","v":0},{"$f":"SUM(G18:G22)","v":0},{"$f":"SUM(H18:H22)","v":45.5}]
[null,{"$f":"SUM(B19:B23)","v":0},null,{"$f":"SUM(D19:D23)","v":0},null,null,null,null,null,{"$f":"SUM(J19:J23)","v":0},null,{"$f":"SUM(L19:L23)","v":0}]
["Récap 31/12",null,null,{"$f":"+B24-D24","v":0},null,null,null,null,"Récap 31/01",null,null,{"$f":"+J24-L24","v":0}]
[]
["FÉVRIER",null,null,null,"MARS",null,null,null,"AVRIL"]
["RECETTES",null,"DEPENSES",null,"RECETTES",null,"DEPENSES",null,"RECETTES",null,"DEPENSES"]
["Dates","Montant","Activités","Montant","Dates","Montant","Activités","Montant","Dates","Montant","Activités","Montant"]
[]
[]
[]
[]
[]
[null,{"$f":"SUM(B30:B34)","v":0},null,{"$f":"SUM(D30:D34)","v":0},null,{"$f":"SUM(F30:F34)","v":0},null,{"$f":"SUM(H30:H34)","v":0},null,{"$f":"SUM(J30:J34)","v":0},null,{"$f":"SUM(L30:L34)","v":0}]
["Récap 28/02",null,null,{"$f":"+B35-D35","v":0},"Récap 31/03",null,null,{"$f":"+F35-H35","v":0},"Récap 30/04",null,null,{"$f":"+J35-L35","v":0}]
[]
[]
["MAI",null,null,null,"JUIN",null,null,null,"Situation fin juin"]
["RECETTES",null,"DEPENSES",null,"RECETTES",null,"DEPENSES",null,null,"Recettes","Dépenses","Total"]
["Dates","Montant","Activités","Montant","Dates","Montant","Activités","Montant",{"$f":"E23","v":"Situation 31/12"},null,null,{"$f":"H23","v":45.5}]
[null,null,null,null,null,null,null,null,{"$f":"I25","v":"Récap 31/01"},{"$f":"J24","v":0},{"$f":"L24","v":0},{"$f":"L25","v":0}]
[null,null,null,null,null,null,null,null,{"$f":"A36","v":"Récap 28/02"},{"$f":"B35","v":0},{"$f":"D35","v":0},{"$f":"D36","v":0}]
[null,null,null,null,null,null,null,null,{"$f":"E36","v":"Récap 31/03"},{"$f":"F35","v":0},{"$f":"H35","v":0},{"$f":"H36","v":0}]
[null,null,null,null,null,null,null,null,{"$f":"I36","v":"Récap 30/04"},{"$f":"J35","v":0},{"$f":"L35","v":0},{"$f":"L36","v":0}]
[null,null,null,null,null,null,null,null,{"$f":"A48","v":"Récap 31/05"},{"$f":"B47","v":0},{"$f":"D47","v":0},{"$f":"D48","v":0}]
[null,{"$f":"SUM(B42:B46)","v":0},null,{"$f":"SUM(D42:D46)","v":0},null,{"$f":"SUM(F42:F46)","v":0},null,{"$f":"SUM(H42:H46)","v":0},{"$f":"E48","v":"Récap 30/06"},{"$f":"F47","v":0},{"$f":"H47","v":0},{"$f":"H48","v":0}]
["Récap 31/05",null,null,{"$f":"+B47-D47","v":0},"Récap 30/06",null,null,{"$f":"+F47-H47","v":0},"Situation 30/06",{"$f":"SUM(J42:J47)","v":0},{"$f":"SUM(K42:K47)","v":0},{"$f":"SUM(L41:L47)","v":45.5}]
[]
[null,null,null,null,null,null,null,null,null,null,null,{"$f":"F23+J48-G23-K48+B8","v":45.5}]
[]
[null,null,null,null,null,null,null,null,null,{"$f":"B13+F13+J13+B24+J24+B35+F35+J35+B47+F47","v":0},{"$f":"D13+H13+L13+D24+L24+D35+H35+L35+D47+H47","v":0},{"$f":"B8+J52-K52","v":45.5}]

{"sheet":"ELYAMANI","index":64,"n_rows":52,"n_cols":12,"rows_kept":52,"cut":false,"hidden":false,"merged":[[39,4,39,5],[39,6,39,7],[47,0,47,2],[47,4,47,6],[35,0,35,2],[35,4,35,6],[35,8,35,10],[37,9,37,10],[38,0,38,3],[38,4,38,7],[38,8,38,11],[26,0,26,3],[26,4,26,7],[26,8,26,11],[27,4,27,5],[27,6,27,7],[27,8,27,9],[27,10,27,11],[16,0,16,1],[16,2,16,3],[16,8,16,9],[16,10,16,11],[24,0,24,2],[24,8,24,10],[13,0,13,2],[13,4,13,6],[13,8,13,10],[15,0,15,3],[15,4,15,7],[15,8,15,11],[5,10,5,11],[0,9,0,10],[2,1,2,2],[2,4,2,5],[2,8,2,9],[4,0,4,3],[4,4,4,7],[4,8,4,11],[5,0,5,1],[5,2,5,3],[5,4,5,5],[5,6,5,7],[5,8,5,9]]}
[null,null,null,null,null,null,null,null,null,"Année scolaire : ",null,{"$f":"' Liste élèves'!B1","v":"2018-2019"}]
[]
["NOM : ",{"$f":"' Liste élèves'!A65","v":"ELYAMANI"},null,"PRENOM:",{"$f":"' Liste élèves'!B65","v":"Billal"},null,null,"CLASSE :",{"$f":"' Liste élèves'!C65","v":"Classe PC"}]
[]
["SEPTEMBRE",null,null,null,"OCTOBRE",null,null,null,"NOVEMBRE"]
["RECETTES",null,"DEPENSES",null,"RECETTES",null,"DEPENSES",null,"RECETTES",null,"DEPENSES"]
["Dates","Montant","Activités","Montant","Dates","Montant","Activités","Montant","Dates","Montant","Activités","Montant"]
["Report juin",74]
[]
[]
[]
[]
[null,{"$f":"SUM(B9:B12)","v":0},null,{"$f":"SUM(D8:D12)","v":0},null,{"$f":"SUM(F8:F12)","v":0},null,{"$f":"SUM(H8:H12)","v":0},null,{"$f":"SUM(J8:J12)","v":0},null,{"$f":"SUM(L8:L12)","v":0}]
["Récap 30/09",null,null,{"$f":"+B13-D13","v":0},"Récap 31/10",null,null,{"$f":"+F13-H13","v":0},"Récap 30/11",null,null,{"$f":"+J13-L13","v":0}]
[]
["DÉCEMBRE",null,null,null,"Situation fin décembre",null,null,null,"JANVIER"]
["RECETTES",null,"DEPENSES",null,null,"Recettes","Dépenses","Total","RECETTES",null,"DEPENSES"]
["Dates","Montant","Activités","Montant",{"$f":"A14","v":"Récap 30/09"},{"$f":"B13","v":0},{"$f":"D13","v":0},{"$f":"D14","v":0},"Dates","Montant","Activités","Montant"]
[null,null,null,null,{"$f":"E14","v":"Récap 31/10"},{"$f":"F13","v":0},{"$f":"H13","v":0},{"$f":"H14","v":0}]
[null,null,null,null,{"$f":"I14","v":"Récap 30/11"},{"$f":"J13","v":0},{"$f":"L13","v":0},{"$f":"L14","v":0}]
[null,null,null,null,{"$f":"A25","v":"Récap 31/12"},{"$f":"B24","v":0},{"$f":"D24","v":0},{"$f":"D25","v":0}]
[null,null,null,null,"Report Sept",null,null,{"$f":"B8","v":74}]
[null,null,null,null,"Situation 31/12",{"$f":"SUM(F18:F22)","v":0},{"$f":"SUM(G18:G22)","v":0},{"$f":"SUM(H18:H22)","v":74}]
[null,{"$f":"SUM(B19:B23)","v":0},null,{"$f":"SUM(D19:D23)","v":0},null,null,null,null,null,{"$f":"SUM(J19:J23)","v":0},null,{"$f":"SUM(L19:L23)","v":0}]
["Récap 31/12",null,null,{"$f":"+B24-D24","v":0},null,null,null,null,"Récap 31/01",null,null,{"$f":"+J24-L24","v":0}]
[]
["FÉVRIER",null,null,null,"MARS",null,null,null,"AVRIL"]
["RECETTES",null,"DEPENSES",null,"RECETTES",null,"DEPENSES",null,"RECETTES",null,"DEPENSES"]
["Dates","Montant","Activités","Montant","Dates","Montant","Activités","Montant","Dates","Montant","Activités","Montant"]
[]
[]
[]
[]
[]
[null,{"$f":"SUM(B30:B34)","v":0},null,{"$f":"SUM(D30:D34)","v":0},null,{"$f":"SUM(F30:F34)","v":0},null,{"$f":"SUM(H30:H34)","v":0},null,{"$f":"SUM(J30:J34)","v":0},null,{"$f":"SUM(L30:L34)","v":0}]
["Récap 28/02",null,null,{"$f":"+B35-D35","v":0},"Récap 31/03",null,null,{"$f":"+F35-H35","v":0},"Récap 30/04",null,null,{"$f":"+J35-L35","v":0}]
[]
[]
["MAI",null,null,null,"JUIN",null,null,null,"Situation fin juin"]
["RECETTES",null,"DEPENSES",null,"RECETTES",null,"DEPENSES",null,null,"Recettes","Dépenses","Total"]
["Dates","Montant","Activités","Montant","Dates","Montant","Activités","Montant",{"$f":"E23","v":"Situation 31/12"},null,null,{"$f":"H23","v":74}]
[null,null,null,null,null,null,null,null,{"$f":"I25","v":"Récap 31/01"},{"$f":"J24","v":0},{"$f":"L24","v":0},{"$f":"L25","v":0}]
[null,null,null,null,null,null,null,null,{"$f":"A36","v":"Récap 28/02"},{"$f":"B35","v":0},{"$f":"D35","v":0},{"$f":"D36","v":0}]
[null,null,null,null,null,null,null,null,{"$f":"E36","v":"Récap 31/03"},{"$f":"F35","v":0},{"$f":"H35","v":0},{"$f":"H36","v":0}]
[null,null,null,null,null,null,null,null,{"$f":"I36","v":"Récap 30/04"},{"$f":"J35","v":0},{"$f":"L35","v":0},{"$f":"L36","v":0}]
[null,null,null,null,null,null,null,null,{"$f":"A48","v":"Récap 31/05"},{"$f":"B47","v":0},{"$f":"D47","v":0},{"$f":"D48","v":0}]
[null,{"$f":"SUM(B42:B46)","v":0},null,{"$f":"SUM(D42:D46)","v":0},null,{"$f":"SUM(F42:F46)","v":0},null,{"$f":"SUM(H42:H46)","v":0},{"$f":"E48","v":"Récap 30/06"},{"$f":"F47","v":0},{"$f":"H47","v":0},{"$f":"H48","v":0}]
["Récap 31/05",null,null,{"$f":"+B47-D47","v":0},"Récap 30/06",null,null,{"$f":"+F47-H47","v":0},"Situation 30/06",{"$f":"SUM(J42:J47)","v":0},{"$f":"SUM(K42:K47)","v":0},{"$f":"SUM(L41:L47)","v":74}]
[]
[null,null,null,null,null,null,null,null,null,null,null,{"$f":"F23+J48-G23-K48+B8","v":74}]
[]
[null,null,null,null,null,null,null,null,null,{"$f":"B13+F13+J13+B24+J24+B35+F35+J35+B47+F47","v":0},{"$f":"D13+H13+L13+D24+L24+D35+H35+L35+D47+H47","v":0},{"$f":"B8+J52-K52","v":74}]

{"sheet":"ERYIGITI","index":65,"n_rows":52,"n_cols":12,"rows_kept":52,"cut":false,"hidden":false,"merged":[[0,9,0,10],[2,1,2,2],[2,4,2,5],[2,8,2,9],[5,8,5,9],[5,10,5,11],[4,0,4,3],[4,4,4,7],[4,8,4,11],[5,0,5,1],[5,2,5,3],[5,4,5,5],[5,6,5,7],[24,0,24,2],[13,0,13,2],[13,4,13,6],[16,2,16,3],[37,9,37,10],[16,0,16,1],[27,6,27,7],[24,8,24,10],[38,8,38,11],[13,8,13,10],[15,0,15,3],[15,4,15,7],[15,8,15,11],[16,10,16,11],[26,0,26,3],[26,4,26,7],[26,8,26,11],[27,8,27,9],[35,0,35,2],[35,4,35,6],[35,8,35,10],[27,10,27,11],[16,8,16,9],[27,4,27,5],[47,0,47,2],[47,4,47,6],[38,0,38,3],[38,4,38,7],[39,4,39,5],[39,6,39,7]]}
[null,null,null,null,null,null,null,null,null,"Année scolaire : ",null,{"$f":"' Liste élèves'!B1","v":"2018-2019"}]
[]
["NOM : ",{"$f":"' Liste élèves'!A66","v":"ERYIGITI"},null,"PRENOM:",{"$f":"' Liste élèves'!B66","v":"Ilhan"},null,null,"CLASSE :",{"$f":"' Liste élèves'!C66","v":"Classe 2"}]
[]
["SEPTEMBRE",null,null,null,"OCTOBRE",null,null,null,"NOVEMBRE"]
["RECETTES",null,"DEPENSES",null,"RECETTES",null,"DEPENSES",null,"RECETTES",null,"DEPENSES"]
["Dates","Montant","Activités","Montant","Dates","Montant","Activités","Montant","Dates","Montant","Activités","Montant"]
["Report juin",55.5]
[]
[]
[]
[]
[null,{"$f":"SUM(B9:B12)","v":0},null,{"$f":"SUM(D8:D12)","v":0},null,{"$f":"SUM(F8:F12)","v":0},null,{"$f":"SUM(H8:H12)","v":0},null,{"$f":"SUM(J8:J12)","v":0},null,{"$f":"SUM(L8:L12)","v":0}]
["Récap 30/09",null,null,{"$f":"+B13-D13","v":0},"Récap 31/10",null,null,{"$f":"+F13-H13","v":0},"Récap 30/11",null,null,{"$f":"+J13-L13","v":0}]
[]
["DÉCEMBRE",null,null,null,"Situation fin décembre",null,null,null,"JANVIER"]
["RECETTES",null,"DEPENSES",null,null,"Recettes","Dépenses","Total","RECETTES",null,"DEPENSES"]
["Dates","Montant","Activités","Montant",{"$f":"A14","v":"Récap 30/09"},{"$f":"B13","v":0},{"$f":"D13","v":0},{"$f":"D14","v":0},"Dates","Montant","Activités","Montant"]
[null,null,null,null,{"$f":"E14","v":"Récap 31/10"},{"$f":"F13","v":0},{"$f":"H13","v":0},{"$f":"H14","v":0}]
[null,null,null,null,{"$f":"I14","v":"Récap 30/11"},{"$f":"J13","v":0},{"$f":"L13","v":0},{"$f":"L14","v":0}]
[null,null,null,null,{"$f":"A25","v":"Récap 31/12"},{"$f":"B24","v":0},{"$f":"D24","v":0},{"$f":"D25","v":0}]
[null,null,null,null,"Report Sept",null,null,{"$f":"B8","v":55.5}]
[null,null,null,null,"Situation 31/12",{"$f":"SUM(F18:F22)","v":0},{"$f":"SUM(G18:G22)","v":0},{"$f":"SUM(H18:H22)","v":55.5}]
[null,{"$f":"SUM(B19:B23)","v":0},null,{"$f":"SUM(D19:D23)","v":0},null,null,null,null,null,{"$f":"SUM(J19:J23)","v":0},null,{"$f":"SUM(L19:L23)","v":0}]
["Récap 31/12",null,null,{"$f":"+B24-D24","v":0},null,null,null,null,"Récap 31/01",null,null,{"$f":"+J24-L24","v":0}]
[]
["FÉVRIER",null,null,null,"MARS",null,null,null,"AVRIL"]
["RECETTES",null,"DEPENSES",null,"RECETTES",null,"DEPENSES",null,"RECETTES",null,"DEPENSES"]
["Dates","Montant","Activités","Montant","Dates","Montant","Activités","Montant","Dates","Montant","Activités","Montant"]
[]
[]
[]
[]
[]
[null,{"$f":"SUM(B30:B34)","v":0},null,{"$f":"SUM(D30:D34)","v":0},null,{"$f":"SUM(F30:F34)","v":0},null,{"$f":"SUM(H30:H34)","v":0},null,{"$f":"SUM(J30:J34)","v":0},null,{"$f":"SUM(L30:L34)","v":0}]
["Récap 28/02",null,null,{"$f":"+B35-D35","v":0},"Récap 31/03",null,null,{"$f":"+F35-H35","v":0},"Récap 30/04",null,null,{"$f":"+J35-L35","v":0}]
[]
[]
["MAI",null,null,null,"JUIN",null,null,null,"Situation fin juin"]
["RECETTES",null,"DEPENSES",null,"RECETTES",null,"DEPENSES",null,null,"Recettes","Dépenses","Total"]
["Dates","Montant","Activités","Montant","Dates","Montant","Activités","Montant",{"$f":"E23","v":"Situation 31/12"},null,null,{"$f":"H23","v":55.5}]
[null,null,null,null,null,null,null,null,{"$f":"I25","v":"Récap 31/01"},{"$f":"J24","v":0},{"$f":"L24","v":0},{"$f":"L25","v":0}]
[null,null,null,null,null,null,null,null,{"$f":"A36","v":"Récap 28/02"},{"$f":"B35","v":0},{"$f":"D35","v":0},{"$f":"D36","v":0}]
[null,null,null,null,null,null,null,null,{"$f":"E36","v":"Récap 31/03"},{"$f":"F35","v":0},{"$f":"H35","v":0},{"$f":"H36","v":0}]
[null,null,null,null,null,null,null,null,{"$f":"I36","v":"Récap 30/04"},{"$f":"J35","v":0},{"$f":"L35","v":0},{"$f":"L36","v":0}]
[null,null,null,null,null,null,null,null,{"$f":"A48","v":"Récap 31/05"},{"$f":"B47","v":0},{"$f":"D47","v":0},{"$f":"D48","v":0}]
[null,{"$f":"SUM(B42:B46)","v":0},null,{"$f":"SUM(D42:D46)","v":0},null,{"$f":"SUM(F42:F46)","v":0},null,{"$f":"SUM(H42:H46)","v":0},{"$f":"E48","v":"Récap 30/06"},{"$f":"F47","v":0},{"$f":"H47","v":0},{"$f":"H48","v":0}]
["Récap 31/05",null,null,{"$f":"+B47-D47","v":0},"Récap 30/06",null,null,{"$f":"+F47-H47","v":0},"Situation 30/06",{"$f":"SUM(J42:J47)","v":0},{"$f":"SUM(K42:K47)","v":0},{"$f":"SUM(L41:L47)","v":55.5}]
[]
[null,null,null,null,null,null,null,null,null,null,null,{"$f":"F23+J48-G23-K48+B8","v":55.5}]
[]
[null,null,null,null,null,null,null,null,null,{"$f":"B13+F13+J13+B24+J24+B35+F35+J35+B47+F47","v":0},{"$f":"D13+H13+L13+D24+L24+D35+H35+L35+D47+H47","v":0},{"$f":"B8+J52-K52","v":55.5}]

{"sheet":"ERYIGITS","index":66,"n_rows":52,"n_cols":12,"rows_kept":52,"cut":false,"hidden":false,"merged":[[39,4,39,5],[39,6,39,7],[47,0,47,2],[47,4,47,6],[35,0,35,2],[35,4,35,6],[35,8,35,10],[37,9,37,10],[38,0,38,3],[38,4,38,7],[38,8,38,11],[26,0,26,3],[26,4,26,7],[26,8,26,11],[27,4,27,5],[27,6,27,7],[27,8,27,9],[27,10,27,11],[16,0,16,1],[16,2,16,3],[16,8,16,9],[16,10,16,11],[24,0,24,2],[24,8,24,10],[13,0,13,2],[13,4,13,6],[13,8,13,10],[15,0,15,3],[15,4,15,7],[15,8,15,11],[5,10,5,11],[0,9,0,10],[2,1,2,2],[2,4,2,5],[2,8,2,9],[4,0,4,3],[4,4,4,7],[4,8,4,11],[5,0,5,1],[5,2,5,3],[5,4,5,5],[5,6,5,7],[5,8,5,9]]}
[null,null,null,null,null,null,null,null,null,"Année scolaire : ",null,{"$f":"' Liste élèves'!B1","v":"2018-2019"}]
[]
["NOM : ",{"$f":"' Liste élèves'!A67","v":"ERYIGITS"},null,"PRENOM:",{"$f":"' Liste élèves'!B67","v":"Sinan"},null,null,"CLASSE :",{"$f":"' Liste élèves'!C67","v":"Classe 11"}]
[]
["SEPTEMBRE",null,null,null,"OCTOBRE",null,null,null,"NOVEMBRE"]
["RECETTES",null,"DEPENSES",null,"RECETTES",null,"DEPENSES",null,"RECETTES",null,"DEPENSES"]
["Dates","Montant","Activités","Montant","Dates","Montant","Activités","Montant","Dates","Montant","Activités","Montant"]
["Report juin",-6]
[]
[]
[]
[]
[null,{"$f":"SUM(B9:B12)","v":0},null,{"$f":"SUM(D8:D12)","v":0},null,{"$f":"SUM(F8:F12)","v":0},null,{"$f":"SUM(H8:H12)","v":0},null,{"$f":"SUM(J8:J12)","v":0},null,{"$f":"SUM(L8:L12)","v":0}]
["Récap 30/09",null,null,{"$f":"+B13-D13","v":0},"Récap 31/10",null,null,{"$f":"+F13-H13","v":0},"Récap 30/11",null,null,{"$f":"+J13-L13","v":0}]
[]
["DÉCEMBRE",null,null,null,"Situation fin décembre",null,null,null,"JANVIER"]
["RECETTES",null,"DEPENSES",null,null,"Recettes","Dépenses","Total","RECETTES",null,"DEPENSES"]
["Dates","Montant","Activités","Montant",{"$f":"A14","v":"Récap 30/09"},{"$f":"B13","v":0},{"$f":"D13","v":0},{"$f":"D14","v":0},"Dates","Montant","Activités","Montant"]
[null,null,null,null,{"$f":"E14","v":"Récap 31/10"},{"$f":"F13","v":0},{"$f":"H13","v":0},{"$f":"H14","v":0}]
[null,null,null,null,{"$f":"I14","v":"Récap 30/11"},{"$f":"J13","v":0},{"$f":"L13","v":0},{"$f":"L14","v":0}]
[null,null,null,null,{"$f":"A25","v":"Récap 31/12"},{"$f":"B24","v":0},{"$f":"D24","v":0},{"$f":"D25","v":0}]
[null,null,null,null,"Report Sept",null,null,{"$f":"B8","v":-6}]
[null,null,null,null,"Situation 31/12",{"$f":"SUM(F18:F22)","v":0},{"$f":"SUM(G18:G22)","v":0},{"$f":"SUM(H18:H22)","v":-6}]
[null,{"$f":"SUM(B19:B23)","v":0},null,{"$f":"SUM(D19:D23)","v":0},null,null,null,null,null,{"$f":"SUM(J19:J23)","v":0},null,{"$f":"SUM(L19:L23)","v":0}]
["Récap 31/12",null,null,{"$f":"+B24-D24","v":0},null,null,null,null,"Récap 31/01",null,null,{"$f":"+J24-L24","v":0}]
[]
["FÉVRIER",null,null,null,"MARS",null,null,null,"AVRIL"]
["RECETTES",null,"DEPENSES",null,"RECETTES",null,"DEPENSES",null,"RECETTES",null,"DEPENSES"]
["Dates","Montant","Activités","Montant","Dates","Montant","Activités","Montant","Dates","Montant","Activités","Montant"]
[]
[]
[]
[]
[]
[null,{"$f":"SUM(B30:B34)","v":0},null,{"$f":"SUM(D30:D34)","v":0},null,{"$f":"SUM(F30:F34)","v":0},null,{"$f":"SUM(H30:H34)","v":0},null,{"$f":"SUM(J30:J34)","v":0},null,{"$f":"SUM(L30:L34)","v":0}]
["Récap 28/02",null,null,{"$f":"+B35-D35","v":0},"Récap 31/03",null,null,{"$f":"+F35-H35","v":0},"Récap 30/04",null,null,{"$f":"+J35-L35","v":0}]
[]
[]
["MAI",null,null,null,"JUIN",null,null,null,"Situation fin juin"]
["RECETTES",null,"DEPENSES",null,"RECETTES",null,"DEPENSES",null,null,"Recettes","Dépenses","Total"]
["Dates","Montant","Activités","Montant","Dates","Montant","Activités","Montant",{"$f":"E23","v":"Situation 31/12"},null,null,{"$f":"H23","v":-6}]
[null,null,null,null,null,null,null,null,{"$f":"I25","v":"Récap 31/01"},{"$f":"J24","v":0},{"$f":"L24","v":0},{"$f":"L25","v":0}]
[null,null,null,null,null,null,null,null,{"$f":"A36","v":"Récap 28/02"},{"$f":"B35","v":0},{"$f":"D35","v":0},{"$f":"D36","v":0}]
[null,null,null,null,null,null,null,null,{"$f":"E36","v":"Récap 31/03"},{"$f":"F35","v":0},{"$f":"H35","v":0},{"$f":"H36","v":0}]
[null,null,null,null,null,null,null,null,{"$f":"I36","v":"Récap 30/04"},{"$f":"J35","v":0},{"$f":"L35","v":0},{"$f":"L36","v":0}]
[null,null,null,null,null,null,null,null,{"$f":"A48","v":"Récap 31/05"},{"$f":"B47","v":0},{"$f":"D47","v":0},{"$f":"D48","v":0}]
[null,{"$f":"SUM(B42:B46)","v":0},null,{"$f":"SUM(D42:D46)","v":0},null,{"$f":"SUM(F42:F46)","v":0},null,{"$f":"SUM(H42:H46)","v":0},{"$f":"E48","v":"Récap 30/06"},{"$f":"F47","v":0},{"$f":"H47","v":0},{"$f":"H48","v":0}]
["Récap 31/05",null,null,{"$f":"+B47-D47","v":0},"Récap 30/06",null,null,{"$f":"+F47-H47","v":0},"Situation 30/06",{"$f":"SUM(J42:J47)","v":0},{"$f":"SUM(K42:K47)","v":0},{"$f":"SUM(L41:L47)","v":-6}]
[]
[null,null,null,null,null,null,null,null,null,null,null,{"$f":"F23+J48-G23-K48+B8","v":-6}]
[]
[null,null,null,null,null,null,null,null,null,{"$f":"B13+F13+J13+B24+J24+B35+F35+J35+B47+F47","v":0},{"$f":"D13+H13+L13+D24+L24+D35+H35+L35+D47+H47","v":0},{"$f":"B8+J52-K52","v":-6}]

{"sheet":"FAIETAJ","index":67,"n_rows":52,"n_cols":12,"rows_kept":52,"cut":false,"hidden":false,"merged":[[0,9,0,10],[2,1,2,2],[2,4,2,5],[2,8,2,9],[5,8,5,9],[5,10,5,11],[4,0,4,3],[4,4,4,7],[4,8,4,11],[5,0,5,1],[5,2,5,3],[5,4,5,5],[5,6,5,7],[24,0,24,2],[13,0,13,2],[13,4,13,6],[16,2,16,3],[37,9,37,10],[16,0,16,1],[27,6,27,7],[24,8,24,10],[38,8,38,11],[13,8,13,10],[15,0,15,3],[15,4,15,7],[15,8,15,11],[16,10,16,11],[26,0,26,3],[26,4,26,7],[26,8,26,11],[27,8,27,9],[35,0,35,2],[35,4,35,6],[35,8,35,10],[27,10,27,11],[16,8,16,9],[27,4,27,5],[47,0,47,2],[47,4,47,6],[38,0,38,3],[38,4,38,7],[39,4,39,5],[39,6,39,7]]}
[null,null,null,null,null,null,null,null,null,"Année scolaire : ",null,{"$f":"' Liste élèves'!B1","v":"2018-2019"}]
[]
["NOM : ",{"$f":"' Liste élèves'!A68","v":"FAIETAJ"},null,"PRENOM:",{"$f":"' Liste élèves'!B68","v":"Jodie"},null,null,"CLASSE :",{"$f":"' Liste élèves'!C68","v":"Classe JB"}]
[]
["SEPTEMBRE",null,null,null,"OCTOBRE",null,null,null,"NOVEMBRE"]
["RECETTES",null,"DEPENSES",null,"RECETTES",null,"DEPENSES",null,"RECETTES",null,"DEPENSES"]
["Dates","Montant","Activités","Montant","Dates","Montant","Activités","Montant","Dates","Montant","Activités","Montant"]
["Report juin",29.13]
[]
[]
[]
[]
[null,{"$f":"SUM(B9:B12)","v":0},null,{"$f":"SUM(D8:D12)","v":0},null,{"$f":"SUM(F8:F12)","v":0},null,{"$f":"SUM(H8:H12)","v":0},null,{"$f":"SUM(J8:J12)","v":0},null,{"$f":"SUM(L8:L12)","v":0}]
["Récap 30/09",null,null,{"$f":"+B13-D13","v":0},"Récap 31/10",null,null,{"$f":"+F13-H13","v":0},"Récap 30/11",null,null,{"$f":"+J13-L13","v":0}]
[]
["DÉCEMBRE",null,null,null,"Situation fin décembre",null,null,null,"JANVIER"]
["RECETTES",null,"DEPENSES",null,null,"Recettes","Dépenses","Total","RECETTES",null,"DEPENSES"]
["Dates","Montant","Activités","Montant",{"$f":"A14","v":"Récap 30/09"},{"$f":"B13","v":0},{"$f":"D13","v":0},{"$f":"D14","v":0},"Dates","Montant","Activités","Montant"]
[null,null,null,null,{"$f":"E14","v":"Récap 31/10"},{"$f":"F13","v":0},{"$f":"H13","v":0},{"$f":"H14","v":0}]
[null,null,null,null,{"$f":"I14","v":"Récap 30/11"},{"$f":"J13","v":0},{"$f":"L13","v":0},{"$f":"L14","v":0}]
[null,null,null,null,{"$f":"A25","v":"Récap 31/12"},{"$f":"B24","v":0},{"$f":"D24","v":0},{"$f":"D25","v":0}]
[null,null,null,null,"Report Sept",null,null,{"$f":"B8","v":29.13}]
[null,null,null,null,"Situation 31/12",{"$f":"SUM(F18:F22)","v":0},{"$f":"SUM(G18:G22)","v":0},{"$f":"SUM(H18:H22)","v":29.13}]
[null,{"$f":"SUM(B19:B23)","v":0},null,{"$f":"SUM(D19:D23)","v":0},null,null,null,null,null,{"$f":"SUM(J19:J23)","v":0},null,{"$f":"SUM(L19:L23)","v":0}]
["Récap 31/12",null,null,{"$f":"+B24-D24","v":0},null,null,null,null,"Récap 31/01",null,null,{"$f":"+J24-L24","v":0}]
[]
["FÉVRIER",null,null,null,"MARS",null,null,null,"AVRIL"]
["RECETTES",null,"DEPENSES",null,"RECETTES",null,"DEPENSES",null,"RECETTES",null,"DEPENSES"]
["Dates","Montant","Activités","Montant","Dates","Montant","Activités","Montant","Dates","Montant","Activités","Montant"]
[]
[]
[]
[]
[]
[null,{"$f":"SUM(B30:B34)","v":0},null,{"$f":"SUM(D30:D34)","v":0},null,{"$f":"SUM(F30:F34)","v":0},null,{"$f":"SUM(H30:H34)","v":0},null,{"$f":"SUM(J30:J34)","v":0},null,{"$f":"SUM(L30:L34)","v":0}]
["Récap 28/02",null,null,{"$f":"+B35-D35","v":0},"Récap 31/03",null,null,{"$f":"+F35-H35","v":0},"Récap 30/04",null,null,{"$f":"+J35-L35","v":0}]
[]
[]
["MAI",null,null,null,"JUIN",null,null,null,"Situation fin juin"]
["RECETTES",null,"DEPENSES",null,"RECETTES",null,"DEPENSES",null,null,"Recettes","Dépenses","Total"]
["Dates","Montant","Activités","Montant","Dates","Montant","Activités","Montant",{"$f":"E23","v":"Situation 31/12"},null,null,{"$f":"H23","v":29.13}]
[null,null,null,null,null,null,null,null,{"$f":"I25","v":"Récap 31/01"},{"$f":"J24","v":0},{"$f":"L24","v":0},{"$f":"L25","v":0}]
[null,null,null,null,null,null,null,null,{"$f":"A36","v":"Récap 28/02"},{"$f":"B35","v":0},{"$f":"D35","v":0},{"$f":"D36","v":0}]
[null,null,null,null,null,null,null,null,{"$f":"E36","v":"Récap 31/03"},{"$f":"F35","v":0},{"$f":"H35","v":0},{"$f":"H36","v":0}]
[null,null,null,null,null,null,null,null,{"$f":"I36","v":"Récap 30/04"},{"$f":"J35","v":0},{"$f":"L35","v":0},{"$f":"L36","v":0}]
[null,null,null,null,null,null,null,null,{"$f":"A48","v":"Récap 31/05"},{"$f":"B47","v":0},{"$f":"D47","v":0},{"$f":"D48","v":0}]
[null,{"$f":"SUM(B42:B46)","v":0},null,{"$f":"SUM(D42:D46)","v":0},null,{"$f":"SUM(F42:F46)","v":0},null,{"$f":"SUM(H42:H46)","v":0},{"$f":"E48","v":"Récap 30/06"},{"$f":"F47","v":0},{"$f":"H47","v":0},{"$f":"H48","v":0}]
["Récap 31/05",null,null,{"$f":"+B47-D47","v":0},"Récap 30/06",null,null,{"$f":"+F47-H47","v":0},"Situation 30/06",{"$f":"SUM(J42:J47)","v":0},{"$f":"SUM(K42:K47)","v":0},{"$f":"SUM(L41:L47)","v":29.13}]
[]
[null,null,null,null,null,null,null,null,null,null,null,{"$f":"F23+J48-G23-K48+B8","v":29.13}]
[]
[null,null,null,null,null,null,null,null,null,{"$f":"B13+F13+J13+B24+J24+B35+F35+J35+B47+F47","v":0},{"$f":"D13+H13+L13+D24+L24+D35+H35+L35+D47+H47","v":0},{"$f":"B8+J52-K52","v":29.13}]

{"sheet":"FAKIR","index":68,"n_rows":52,"n_cols":12,"rows_kept":52,"cut":false,"hidden":false,"merged":[[47,0,47,2],[47,4,47,6],[38,0,38,3],[38,4,38,7],[35,0,35,2],[35,4,35,6],[38,8,38,11],[39,4,39,5],[39,6,39,7],[16,2,16,3],[16,8,16,9],[16,10,16,11],[27,4,27,5],[27,6,27,7],[27,8,27,9],[27,10,27,11],[24,0,24,2],[24,8,24,10],[37,9,37,10],[26,0,26,3],[26,4,26,7],[26,8,26,11],[16,0,16,1],[35,8,35,10],[15,0,15,3],[15,4,15,7],[13,0,13,2],[13,4,13,6],[13,8,13,10],[15,8,15,11],[0,9,0,10],[2,1,2,2],[2,4,2,5],[2,8,2,9],[5,8,5,9],[5,10,5,11],[5,0,5,1],[4,0,4,3],[4,4,4,7],[4,8,4,11],[5,2,5,3],[5,4,5,5],[5,6,5,7]]}
[null,null,null,null,null,null,null,null,null,"Année scolaire : ",null,{"$f":"' Liste élèves'!B1","v":"2018-2019"}]
[]
["NOM : ",{"$f":"' Liste élèves'!A69","v":"FAKIR"},null,"PRENOM:",{"$f":"' Liste élèves'!B69","v":"Yassin"},null,null,"CLASSE :",{"$f":"' Liste élèves'!C69","v":"Classe 1"}]
[]
["SEPTEMBRE",null,null,null,"OCTOBRE",null,null,null,"NOVEMBRE"]
["RECETTES",null,"DEPENSES",null,"RECETTES",null,"DEPENSES",null,"RECETTES",null,"DEPENSES"]
["Dates","Montant","Activités","Montant","Dates","Montant","Activités","Montant","Dates","Montant","Activités","Montant"]
["Report juin",0.52]
[]
[]
[]
[]
[null,{"$f":"SUM(B9:B12)","v":0},null,{"$f":"SUM(D8:D12)","v":0},null,{"$f":"SUM(F8:F12)","v":0},null,{"$f":"SUM(H8:H12)","v":0},null,{"$f":"SUM(J8:J12)","v":0},null,{"$f":"SUM(L8:L12)","v":0}]
["Récap 30/09",null,null,{"$f":"+B13-D13","v":0},"Récap 31/10",null,null,{"$f":"+F13-H13","v":0},"Récap 30/11",null,null,{"$f":"+J13-L13","v":0}]
[]
["DÉCEMBRE",null,null,null,"Situation fin décembre",null,null,null,"JANVIER"]
["RECETTES",null,"DEPENSES",null,null,"Recettes","Dépenses","Total","RECETTES",null,"DEPENSES"]
["Dates","Montant","Activités","Montant",{"$f":"A14","v":"Récap 30/09"},{"$f":"B13","v":0},{"$f":"D13","v":0},{"$f":"D14","v":0},"Dates","Montant","Activités","Montant"]
[null,null,null,null,{"$f":"E14","v":"Récap 31/10"},{"$f":"F13","v":0},{"$f":"H13","v":0},{"$f":"H14","v":0}]
[null,null,null,null,{"$f":"I14","v":"Récap 30/11"},{"$f":"J13","v":0},{"$f":"L13","v":0},{"$f":"L14","v":0}]
[null,null,null,null,{"$f":"A25","v":"Récap 31/12"},{"$f":"B24","v":0},{"$f":"D24","v":0},{"$f":"D25","v":0}]
[null,null,null,null,"Report Sept",null,null,{"$f":"B8","v":0.52}]
[null,null,null,null,"Situation 31/12",{"$f":"SUM(F18:F22)","v":0},{"$f":"SUM(G18:G22)","v":0},{"$f":"SUM(H18:H22)","v":0.52}]
[null,{"$f":"SUM(B19:B23)","v":0},null,{"$f":"SUM(D19:D23)","v":0},null,null,null,null,null,{"$f":"SUM(J19:J23)","v":0},null,{"$f":"SUM(L19:L23)","v":0}]
["Récap 31/12",null,null,{"$f":"+B24-D24","v":0},null,null,null,null,"Récap 31/01",null,null,{"$f":"+J24-L24","v":0}]
[]
["FÉVRIER",null,null,null,"MARS",null,null,null,"AVRIL"]
["RECETTES",null,"DEPENSES",null,"RECETTES",null,"DEPENSES",null,"RECETTES",null,"DEPENSES"]
["Dates","Montant","Activités","Montant","Dates","Montant","Activités","Montant","Dates","Montant","Activités","Montant"]
[]
[]
[]
[]
[]
[null,{"$f":"SUM(B30:B34)","v":0},null,{"$f":"SUM(D30:D34)","v":0},null,{"$f":"SUM(F30:F34)","v":0},null,{"$f":"SUM(H30:H34)","v":0},null,{"$f":"SUM(J30:J34)","v":0},null,{"$f":"SUM(L30:L34)","v":0}]
["Récap 28/02",null,null,{"$f":"+B35-D35","v":0},"Récap 31/03",null,null,{"$f":"+F35-H35","v":0},"Récap 30/04",null,null,{"$f":"+J35-L35","v":0}]
[]
[]
["MAI",null,null,null,"JUIN",null,null,null,"Situation fin juin"]
["RECETTES",null,"DEPENSES",null,"RECETTES",null,"DEPENSES",null,null,"Recettes","Dépenses","Total"]
["Dates","Montant","Activités","Montant","Dates","Montant","Activités","Montant",{"$f":"E23","v":"Situation 31/12"},null,null,{"$f":"H23","v":0.52}]
[null,null,null,null,null,null,null,null,{"$f":"I25","v":"Récap 31/01"},{"$f":"J24","v":0},{"$f":"L24","v":0},{"$f":"L25","v":0}]
[null,null,null,null,null,null,null,null,{"$f":"A36","v":"Récap 28/02"},{"$f":"B35","v":0},{"$f":"D35","v":0},{"$f":"D36","v":0}]
[null,null,null,null,null,null,null,null,{"$f":"E36","v":"Récap 31/03"},{"$f":"F35","v":0},{"$f":"H35","v":0},{"$f":"H36","v":0}]
[null,null,null,null,null,null,null,null,{"$f":"I36","v":"Récap 30/04"},{"$f":"J35","v":0},{"$f":"L35","v":0},{"$f":"L36","v":0}]
[null,null,null,null,null,null,null,null,{"$f":"A48","v":"Récap 31/05"},{"$f":"B47","v":0},{"$f":"D47","v":0},{"$f":"D48","v":0}]
[null,{"$f":"SUM(B42:B46)","v":0},null,{"$f":"SUM(D42:D46)","v":0},null,{"$f":"SUM(F42:F46)","v":0},null,{"$f":"SUM(H42:H46)","v":0},{"$f":"E48","v":"Récap 30/06"},{"$f":"F47","v":0},{"$f":"H47","v":0},{"$f":"H48","v":0}]
["Récap 31/05",null,null,{"$f":"+B47-D47","v":0},"Récap 30/06",null,null,{"$f":"+F47-H47","v":0},"Situation 30/06",{"$f":"SUM(J42:J47)","v":0},{"$f":"SUM(K42:K47)","v":0},{"$f":"SUM(L41:L47)","v":0.52}]
[]
[null,null,null,null,null,null,null,null,null,null,null,{"$f":"F23+J48-G23-K48+B8","v":0.52}]
[]
[null,null,null,null,null,null,null,null,null,{"$f":"B13+F13+J13+B24+J24+B35+F35+J35+B47+F47","v":0},{"$f":"D13+H13+L13+D24+L24+D35+H35+L35+D47+H47","v":0},{"$f":"B8+J52-K52","v":0.52}]

{"sheet":"FALANGA","index":69,"n_rows":52,"n_cols":12,"rows_kept":52,"cut":false,"hidden":false,"merged":[[39,4,39,5],[39,6,39,7],[47,0,47,2],[47,4,47,6],[35,0,35,2],[35,4,35,6],[35,8,35,10],[37,9,37,10],[38,0,38,3],[38,4,38,7],[38,8,38,11],[26,0,26,3],[26,4,26,7],[26,8,26,11],[27,4,27,5],[27,6,27,7],[27,8,27,9],[27,10,27,11],[16,0,16,1],[16,2,16,3],[16,8,16,9],[16,10,16,11],[24,0,24,2],[24,8,24,10],[13,0,13,2],[13,4,13,6],[13,8,13,10],[15,0,15,3],[15,4,15,7],[15,8,15,11],[5,10,5,11],[0,9,0,10],[2,1,2,2],[2,4,2,5],[2,8,2,9],[4,0,4,3],[4,4,4,7],[4,8,4,11],[5,0,5,1],[5,2,5,3],[5,4,5,5],[5,6,5,7],[5,8,5,9]]}
[null,null,null,null,null,null,null,null,null,"Année scolaire : ",null,{"$f":"' Liste élèves'!B1","v":"2018-2019"}]
[]
["NOM : ",{"$f":"' Liste élèves'!A70","v":"FALANGA"},null,"PRENOM:",{"$f":"' Liste élèves'!B70","v":"Tony"},null,null,"CLASSE :",{"$f":"' Liste élèves'!C70","v":"Classe 9"}]
[]
["SEPTEMBRE",null,null,null,"OCTOBRE",null,null,null,"NOVEMBRE"]
["RECETTES",null,"DEPENSES",null,"RECETTES",null,"DEPENSES",null,"RECETTES",null,"DEPENSES"]
["Dates","Montant","Activités","Montant","Dates","Montant","Activités","Montant","Dates","Montant","Activités","Montant"]
["Report juin",56]
[]
[]
[]
[]
[null,{"$f":"SUM(B9:B12)","v":0},null,{"$f":"SUM(D8:D12)","v":0},null,{"$f":"SUM(F8:F12)","v":0},null,{"$f":"SUM(H8:H12)","v":0},null,{"$f":"SUM(J8:J12)","v":0},null,{"$f":"SUM(L8:L12)","v":0}]
["Récap 30/09",null,null,{"$f":"+B13-D13","v":0},"Récap 31/10",null,null,{"$f":"+F13-H13","v":0},"Récap 30/11",null,null,{"$f":"+J13-L13","v":0}]
[]
["DÉCEMBRE",null,null,null,"Situation fin décembre",null,null,null,"JANVIER"]
["RECETTES",null,"DEPENSES",null,null,"Recettes","Dépenses","Total","RECETTES",null,"DEPENSES"]
["Dates","Montant","Activités","Montant",{"$f":"A14","v":"Récap 30/09"},{"$f":"B13","v":0},{"$f":"D13","v":0},{"$f":"D14","v":0},"Dates","Montant","Activités","Montant"]
[null,null,null,null,{"$f":"E14","v":"Récap 31/10"},{"$f":"F13","v":0},{"$f":"H13","v":0},{"$f":"H14","v":0}]
[null,null,null,null,{"$f":"I14","v":"Récap 30/11"},{"$f":"J13","v":0},{"$f":"L13","v":0},{"$f":"L14","v":0}]
[null,null,null,null,{"$f":"A25","v":"Récap 31/12"},{"$f":"B24","v":0},{"$f":"D24","v":0},{"$f":"D25","v":0}]
[null,null,null,null,"Report Sept",null,null,{"$f":"B8","v":56}]
[null,null,null,null,"Situation 31/12",{"$f":"SUM(F18:F22)","v":0},{"$f":"SUM(G18:G22)","v":0},{"$f":"SUM(H18:H22)","v":56}]
[null,{"$f":"SUM(B19:B23)","v":0},null,{"$f":"SUM(D19:D23)","v":0},null,null,null,null,null,{"$f":"SUM(J19:J23)","v":0},null,{"$f":"SUM(L19:L23)","v":0}]
["Récap 31/12",null,null,{"$f":"+B24-D24","v":0},null,null,null,null,"Récap 31/01",null,null,{"$f":"+J24-L24","v":0}]
[]
["FÉVRIER",null,null,null,"MARS",null,null,null,"AVRIL"]
["RECETTES",null,"DEPENSES",null,"RECETTES",null,"DEPENSES",null,"RECETTES",null,"DEPENSES"]
["Dates","Montant","Activités","Montant","Dates","Montant","Activités","Montant","Dates","Montant","Activités","Montant"]
[]
[]
[]
[]
[]
[null,{"$f":"SUM(B30:B34)","v":0},null,{"$f":"SUM(D30:D34)","v":0},null,{"$f":"SUM(F30:F34)","v":0},null,{"$f":"SUM(H30:H34)","v":0},null,{"$f":"SUM(J30:J34)","v":0},null,{"$f":"SUM(L30:L34)","v":0}]
["Récap 28/02",null,null,{"$f":"+B35-D35","v":0},"Récap 31/03",null,null,{"$f":"+F35-H35","v":0},"Récap 30/04",null,null,{"$f":"+J35-L35","v":0}]
[]
[]
["MAI",null,null,null,"JUIN",null,null,null,"Situation fin juin"]
["RECETTES",null,"DEPENSES",null,"RECETTES",null,"DEPENSES",null,null,"Recettes","Dépenses","Total"]
["Dates","Montant","Activités","Montant","Dates","Montant","Activités","Montant",{"$f":"E23","v":"Situation 31/12"},null,null,{"$f":"H23","v":56}]
[null,null,null,null,null,null,null,null,{"$f":"I25","v":"Récap 31/01"},{"$f":"J24","v":0},{"$f":"L24","v":0},{"$f":"L25","v":0}]
[null,null,null,null,null,null,null,null,{"$f":"A36","v":"Récap 28/02"},{"$f":"B35","v":0},{"$f":"D35","v":0},{"$f":"D36","v":0}]
[null,null,null,null,null,null,null,null,{"$f":"E36","v":"Récap 31/03"},{"$f":"F35","v":0},{"$f":"H35","v":0},{"$f":"H36","v":0}]
[null,null,null,null,null,null,null,null,{"$f":"I36","v":"Récap 30/04"},{"$f":"J35","v":0},{"$f":"L35","v":0},{"$f":"L36","v":0}]
[null,null,null,null,null,null,null,null,{"$f":"A48","v":"Récap 31/05"},{"$f":"B47","v":0},{"$f":"D47","v":0},{"$f":"D48","v":0}]
[null,{"$f":"SUM(B42:B46)","v":0},null,{"$f":"SUM(D42:D46)","v":0},null,{"$f":"SUM(F42:F46)","v":0},null,{"$f":"SUM(H42:H46)","v":0},{"$f":"E48","v":"Récap 30/06"},{"$f":"F47","v":0},{"$f":"H47","v":0},{"$f":"H48","v":0}]
["Récap 31/05",null,null,{"$f":"+B47-D47","v":0},"Récap 30/06",null,null,{"$f":"+F47-H47","v":0},"Situation 30/06",{"$f":"SUM(J42:J47)","v":0},{"$f":"SUM(K42:K47)","v":0},{"$f":"SUM(L41:L47)","v":56}]
[]
[null,null,null,null,null,null,null,null,null,null,null,{"$f":"F23+J48-G23-K48+B8","v":56}]
[]
[null,null,null,null,null,null,null,null,null,{"$f":"B13+F13+J13+B24+J24+B35+F35+J35+B47+F47","v":0},{"$f":"D13+H13+L13+D24+L24+D35+H35+L35+D47+H47","v":0},{"$f":"B8+J52-K52","v":56}]

{"sheet":"FARCI","index":70,"n_rows":52,"n_cols":12,"rows_kept":52,"cut":false,"hidden":false,"merged":[[0,9,0,10],[2,1,2,2],[2,4,2,5],[2,8,2,9],[5,8,5,9],[5,10,5,11],[4,0,4,3],[4,4,4,7],[4,8,4,11],[5,0,5,1],[5,2,5,3],[5,4,5,5],[5,6,5,7],[24,0,24,2],[13,0,13,2],[13,4,13,6],[16,2,16,3],[37,9,37,10],[16,0,16,1],[27,6,27,7],[24,8,24,10],[38,8,38,11],[13,8,13,10],[15,0,15,3],[15,4,15,7],[15,8,15,11],[16,10,16,11],[26,0,26,3],[26,4,26,7],[26,8,26,11],[27,8,27,9],[35,0,35,2],[35,4,35,6],[35,8,35,10],[27,10,27,11],[16,8,16,9],[27,4,27,5],[47,0,47,2],[47,4,47,6],[38,0,38,3],[38,4,38,7],[39,4,39,5],[39,6,39,7]]}
[null,null,null,null,null,null,null,null,null,"Année scolaire : ",null,{"$f":"' Liste élèves'!B1","v":"2018-2019"}]
[]
["NOM : ",{"$f":"' Liste élèves'!A71","v":"FARCI"},null,"PRENOM:",{"$f":"' Liste élèves'!B71","v":"Jimmy"},null,null,"CLASSE :",{"$f":"' Liste élèves'!C71","v":"Classe FB"}]
[]
["SEPTEMBRE",null,null,null,"OCTOBRE",null,null,null,"NOVEMBRE"]
["RECETTES",null,"DEPENSES",null,"RECETTES",null,"DEPENSES",null,"RECETTES",null,"DEPENSES"]
["Dates","Montant","Activités","Montant","Dates","Montant","Activités","Montant","Dates","Montant","Activités","Montant"]
["Report juin",51.5]
[]
[]
[]
[]
[null,{"$f":"SUM(B9:B12)","v":0},null,{"$f":"SUM(D8:D12)","v":0},null,{"$f":"SUM(F8:F12)","v":0},null,{"$f":"SUM(H8:H12)","v":0},null,{"$f":"SUM(J8:J12)","v":0},null,{"$f":"SUM(L8:L12)","v":0}]
["Récap 30/09",null,null,{"$f":"+B13-D13","v":0},"Récap 31/10",null,null,{"$f":"+F13-H13","v":0},"Récap 30/11",null,null,{"$f":"+J13-L13","v":0}]
[]
["DÉCEMBRE",null,null,null,"Situation fin décembre",null,null,null,"JANVIER"]
["RECETTES",null,"DEPENSES",null,null,"Recettes","Dépenses","Total","RECETTES",null,"DEPENSES"]
["Dates","Montant","Activités","Montant",{"$f":"A14","v":"Récap 30/09"},{"$f":"B13","v":0},{"$f":"D13","v":0},{"$f":"D14","v":0},"Dates","Montant","Activités","Montant"]
[null,null,null,null,{"$f":"E14","v":"Récap 31/10"},{"$f":"F13","v":0},{"$f":"H13","v":0},{"$f":"H14","v":0}]
[null,null,null,null,{"$f":"I14","v":"Récap 30/11"},{"$f":"J13","v":0},{"$f":"L13","v":0},{"$f":"L14","v":0}]
[null,null,null,null,{"$f":"A25","v":"Récap 31/12"},{"$f":"B24","v":0},{"$f":"D24","v":0},{"$f":"D25","v":0}]
[null,null,null,null,"Report Sept",null,null,{"$f":"B8","v":51.5}]
[null,null,null,null,"Situation 31/12",{"$f":"SUM(F18:F22)","v":0},{"$f":"SUM(G18:G22)","v":0},{"$f":"SUM(H18:H22)","v":51.5}]
[null,{"$f":"SUM(B19:B23)","v":0},null,{"$f":"SUM(D19:D23)","v":0},null,null,null,null,null,{"$f":"SUM(J19:J23)","v":0},null,{"$f":"SUM(L19:L23)","v":0}]
["Récap 31/12",null,null,{"$f":"+B24-D24","v":0},null,null,null,null,"Récap 31/01",null,null,{"$f":"+J24-L24","v":0}]
[]
["FÉVRIER",null,null,null,"MARS",null,null,null,"AVRIL"]
["RECETTES",null,"DEPENSES",null,"RECETTES",null,"DEPENSES",null,"RECETTES",null,"DEPENSES"]
["Dates","Montant","Activités","Montant","Dates","Montant","Activités","Montant","Dates","Montant","Activités","Montant"]
[]
[]
[]
[]
[]
[null,{"$f":"SUM(B30:B34)","v":0},null,{"$f":"SUM(D30:D34)","v":0},null,{"$f":"SUM(F30:F34)","v":0},null,{"$f":"SUM(H30:H34)","v":0},null,{"$f":"SUM(J30:J34)","v":0},null,{"$f":"SUM(L30:L34)","v":0}]
["Récap 28/02",null,null,{"$f":"+B35-D35","v":0},"Récap 31/03",null,null,{"$f":"+F35-H35","v":0},"Récap 30/04",null,null,{"$f":"+J35-L35","v":0}]
[]
[]
["MAI",null,null,null,"JUIN",null,null,null,"Situation fin juin"]
["RECETTES",null,"DEPENSES",null,"RECETTES",null,"DEPENSES",null,null,"Recettes","Dépenses","Total"]
["Dates","Montant","Activités","Montant","Dates","Montant","Activités","Montant",{"$f":"E23","v":"Situation 31/12"},null,null,{"$f":"H23","v":51.5}]
[null,null,null,null,null,null,null,null,{"$f":"I25","v":"Récap 31/01"},{"$f":"J24","v":0},{"$f":"L24","v":0},{"$f":"L25","v":0}]
[null,null,null,null,null,null,null,null,{"$f":"A36","v":"Récap 28/02"},{"$f":"B35","v":0},{"$f":"D35","v":0},{"$f":"D36","v":0}]
[null,null,null,null,null,null,null,null,{"$f":"E36","v":"Récap 31/03"},{"$f":"F35","v":0},{"$f":"H35","v":0},{"$f":"H36","v":0}]
[null,null,null,null,null,null,null,null,{"$f":"I36","v":"Récap 30/04"},{"$f":"J35","v":0},{"$f":"L35","v":0},{"$f":"L36","v":0}]
[null,null,null,null,null,null,null,null,{"$f":"A48","v":"Récap 31/05"},{"$f":"B47","v":0},{"$f":"D47","v":0},{"$f":"D48","v":0}]
[null,{"$f":"SUM(B42:B46)","v":0},null,{"$f":"SUM(D42:D46)","v":0},null,{"$f":"SUM(F42:F46)","v":0},null,{"$f":"SUM(H42:H46)","v":0},{"$f":"E48","v":"Récap 30/06"},{"$f":"F47","v":0},{"$f":"H47","v":0},{"$f":"H48","v":0}]
["Récap 31/05",null,null,{"$f":"+B47-D47","v":0},"Récap 30/06",null,null,{"$f":"+F47-H47","v":0},"Situation 30/06",{"$f":"SUM(J42:J47)","v":0},{"$f":"SUM(K42:K47)","v":0},{"$f":"SUM(L41:L47)","v":51.5}]
[]
[null,null,null,null,null,null,null,null,null,null,null,{"$f":"F23+J48-G23-K48+B8","v":51.5}]
[]
[null,null,null,null,null,null,null,null,null,{"$f":"B13+F13+J13+B24+J24+B35+F35+J35+B47+F47","v":0},{"$f":"D13+H13+L13+D24+L24+D35+H35+L35+D47+H47","v":0},{"$f":"B8+J52-K52","v":51.5}]

{"sheet":"FAROOQ","index":71,"n_rows":52,"n_cols":12,"rows_kept":52,"cut":false,"hidden":false,"merged":[[0,9,0,10],[2,1,2,2],[2,4,2,5],[2,8,2,9],[5,8,5,9],[5,10,5,11],[4,0,4,3],[4,4,4,7],[4,8,4,11],[5,0,5,1],[5,2,5,3],[5,4,5,5],[5,6,5,7],[24,0,24,2],[13,0,13,2],[13,4,13,6],[16,2,16,3],[37,9,37,10],[16,0,16,1],[27,6,27,7],[24,8,24,10],[38,8,38,11],[13,8,13,10],[15,0,15,3],[15,4,15,7],[15,8,15,11],[16,10,16,11],[26,0,26,3],[26,4,26,7],[26,8,26,11],[27,8,27,9],[35,0,35,2],[35,4,35,6],[35,8,35,10],[27,10,27,11],[16,8,16,9],[27,4,27,5],[47,0,47,2],[47,4,47,6],[38,0,38,3],[38,4,38,7],[39,4,39,5],[39,6,39,7]]}
[null,null,null,null,null,null,null,null,null,"Année scolaire : ",null,{"$f":"' Liste élèves'!B1","v":"2018-2019"}]
[]
["NOM : ",{"$f":"' Liste élèves'!A72","v":"FAROOQ"},null,"PRENOM:",{"$f":"' Liste élèves'!B72","v":"Ramish"},null,null,"CLASSE :",{"$f":"' Liste élèves'!C72","v":"Classe 7"}]
[]
["SEPTEMBRE",null,null,null,"OCTOBRE",null,null,null,"NOVEMBRE"]
["RECETTES",null,"DEPENSES",null,"RECETTES",null,"DEPENSES",null,"RECETTES",null,"DEPENSES"]
["Dates","Montant","Activités","Montant","Dates","Montant","Activités","Montant","Dates","Montant","Activités","Montant"]
["Report juin",62.1]
[]
[]
[]
[]
[null,{"$f":"SUM(B9:B12)","v":0},null,{"$f":"SUM(D8:D12)","v":0},null,{"$f":"SUM(F8:F12)","v":0},null,{"$f":"SUM(H8:H12)","v":0},null,{"$f":"SUM(J8:J12)","v":0},null,{"$f":"SUM(L8:L12)","v":0}]
["Récap 30/09",null,null,{"$f":"+B13-D13","v":0},"Récap 31/10",null,null,{"$f":"+F13-H13","v":0},"Récap 30/11",null,null,{"$f":"+J13-L13","v":0}]
[]
["DÉCEMBRE",null,null,null,"Situation fin décembre",null,null,null,"JANVIER"]
["RECETTES",null,"DEPENSES",null,null,"Recettes","Dépenses","Total","RECETTES",null,"DEPENSES"]
["Dates","Montant","Activités","Montant",{"$f":"A14","v":"Récap 30/09"},{"$f":"B13","v":0},{"$f":"D13","v":0},{"$f":"D14","v":0},"Dates","Montant","Activités","Montant"]
[null,null,null,null,{"$f":"E14","v":"Récap 31/10"},{"$f":"F13","v":0},{"$f":"H13","v":0},{"$f":"H14","v":0}]
[null,null,null,null,{"$f":"I14","v":"Récap 30/11"},{"$f":"J13","v":0},{"$f":"L13","v":0},{"$f":"L14","v":0}]
[null,null,null,null,{"$f":"A25","v":"Récap 31/12"},{"$f":"B24","v":0},{"$f":"D24","v":0},{"$f":"D25","v":0}]
[null,null,null,null,"Report Sept",null,null,{"$f":"B8","v":62.1}]
[null,null,null,null,"Situation 31/12",{"$f":"SUM(F18:F22)","v":0},{"$f":"SUM(G18:G22)","v":0},{"$f":"SUM(H18:H22)","v":62.1}]
[null,{"$f":"SUM(B19:B23)","v":0},null,{"$f":"SUM(D19:D23)","v":0},null,null,null,null,null,{"$f":"SUM(J19:J23)","v":0},null,{"$f":"SUM(L19:L23)","v":0}]
["Récap 31/12",null,null,{"$f":"+B24-D24","v":0},null,null,null,null,"Récap 31/01",null,null,{"$f":"+J24-L24","v":0}]
[]
["FÉVRIER",null,null,null,"MARS",null,null,null,"AVRIL"]
["RECETTES",null,"DEPENSES",null,"RECETTES",null,"DEPENSES",null,"RECETTES",null,"DEPENSES"]
["Dates","Montant","Activités","Montant","Dates","Montant","Activités","Montant","Dates","Montant","Activités","Montant"]
[]
[]
[]
[]
[]
[null,{"$f":"SUM(B30:B34)","v":0},null,{"$f":"SUM(D30:D34)","v":0},null,{"$f":"SUM(F30:F34)","v":0},null,{"$f":"SUM(H30:H34)","v":0},null,{"$f":"SUM(J30:J34)","v":0},null,{"$f":"SUM(L30:L34)","v":0}]
["Récap 28/02",null,null,{"$f":"+B35-D35","v":0},"Récap 31/03",null,null,{"$f":"+F35-H35","v":0},"Récap 30/04",null,null,{"$f":"+J35-L35","v":0}]
[]
[]
["MAI",null,null,null,"JUIN",null,null,null,"Situation fin juin"]
["RECETTES",null,"DEPENSES",null,"RECETTES",null,"DEPENSES",null,null,"Recettes","Dépenses","Total"]
["Dates","Montant","Activités","Montant","Dates","Montant","Activités","Montant",{"$f":"E23","v":"Situation 31/12"},null,null,{"$f":"H23","v":62.1}]
[null,null,null,null,null,null,null,null,{"$f":"I25","v":"Récap 31/01"},{"$f":"J24","v":0},{"$f":"L24","v":0},{"$f":"L25","v":0}]
[null,null,null,null,null,null,null,null,{"$f":"A36","v":"Récap 28/02"},{"$f":"B35","v":0},{"$f":"D35","v":0},{"$f":"D36","v":0}]
[null,null,null,null,null,null,null,null,{"$f":"E36","v":"Récap 31/03"},{"$f":"F35","v":0},{"$f":"H35","v":0},{"$f":"H36","v":0}]
[null,null,null,null,null,null,null,null,{"$f":"I36","v":"Récap 30/04"},{"$f":"J35","v":0},{"$f":"L35","v":0},{"$f":"L36","v":0}]
[null,null,null,null,null,null,null,null,{"$f":"A48","v":"Récap 31/05"},{"$f":"B47","v":0},{"$f":"D47","v":0},{"$f":"D48","v":0}]
[null,{"$f":"SUM(B42:B46)","v":0},null,{"$f":"SUM(D42:D46)","v":0},null,{"$f":"SUM(F42:F46)","v":0},null,{"$f":"SUM(H42:H46)","v":0},{"$f":"E48","v":"Récap 30/06"},{"$f":"F47","v":0},{"$f":"H47","v":0},{"$f":"H48","v":0}]
["Récap 31/05",null,null,{"$f":"+B47-D47","v":0},"Récap 30/06",null,null,{"$f":"+F47-H47","v":0},"Situation 30/06",{"$f":"SUM(J42:J47)","v":0},{"$f":"SUM(K42:K47)","v":0},{"$f":"SUM(L41:L47)","v":62.1}]
[]
[null,null,null,null,null,null,null,null,null,null,null,{"$f":"F23+J48-G23-K48+B8","v":62.1}]
[]
[null,null,null,null,null,null,null,null,null,{"$f":"B13+F13+J13+B24+J24+B35+F35+J35+B47+F47","v":0},{"$f":"D13+H13+L13+D24+L24+D35+H35+L35+D47+H47","v":0},{"$f":"B8+J52-K52","v":62.1}]

{"sheet":"FERRI","index":72,"n_rows":52,"n_cols":12,"rows_kept":52,"cut":false,"hidden":false,"merged":[[0,9,0,10],[2,1,2,2],[2,4,2,5],[2,8,2,9],[5,8,5,9],[5,10,5,11],[4,0,4,3],[4,4,4,7],[4,8,4,11],[5,0,5,1],[5,2,5,3],[5,4,5,5],[5,6,5,7],[24,0,24,2],[13,0,13,2],[13,4,13,6],[16,2,16,3],[37,9,37,10],[16,0,16,1],[27,6,27,7],[24,8,24,10],[38,8,38,11],[13,8,13,10],[15,0,15,3],[15,4,15,7],[15,8,15,11],[16,10,16,11],[26,0,26,3],[26,4,26,7],[26,8,26,11],[27,8,27,9],[35,0,35,2],[35,4,35,6],[35,8,35,10],[27,10,27,11],[16,8,16,9],[27,4,27,5],[47,0,47,2],[47,4,47,6],[38,0,38,3],[38,4,38,7],[39,4,39,5],[39,6,39,7]]}
[null,null,null,null,null,null,null,null,null,"Année scolaire : ",null,{"$f":"' Liste élèves'!B1","v":"2018-2019"}]
[]
["NOM : ",{"$f":"' Liste élèves'!A73","v":"FERRI"},null,"PRENOM:",{"$f":"' Liste élèves'!B73","v":"Vitoria"},null,null,"CLASSE :",{"$f":"' Liste élèves'!C73","v":"Classe 5"}]
[]
["SEPTEMBRE",null,null,null,"OCTOBRE",null,null,null,"NOVEMBRE"]
["RECETTES",null,"DEPENSES",null,"RECETTES",null,"DEPENSES",null,"RECETTES",null,"DEPENSES"]
["Dates","Montant","Activités","Montant","Dates","Montant","Activités","Montant","Dates","Montant","Activités","Montant"]
["Report juin",23.4]
[]
[]
[]
[]
[null,{"$f":"SUM(B9:B12)","v":0},null,{"$f":"SUM(D8:D12)","v":0},null,{"$f":"SUM(F8:F12)","v":0},null,{"$f":"SUM(H8:H12)","v":0},null,{"$f":"SUM(J8:J12)","v":0},null,{"$f":"SUM(L8:L12)","v":0}]
["Récap 30/09",null,null,{"$f":"+B13-D13","v":0},"Récap 31/10",null,null,{"$f":"+F13-H13","v":0},"Récap 30/11",null,null,{"$f":"+J13-L13","v":0}]
[]
["DÉCEMBRE",null,null,null,"Situation fin décembre",null,null,null,"JANVIER"]
["RECETTES",null,"DEPENSES",null,null,"Recettes","Dépenses","Total","RECETTES",null,"DEPENSES"]
["Dates","Montant","Activités","Montant",{"$f":"A14","v":"Récap 30/09"},{"$f":"B13","v":0},{"$f":"D13","v":0},{"$f":"D14","v":0},"Dates","Montant","Activités","Montant"]
[null,null,null,null,{"$f":"E14","v":"Récap 31/10"},{"$f":"F13","v":0},{"$f":"H13","v":0},{"$f":"H14","v":0}]
[null,null,null,null,{"$f":"I14","v":"Récap 30/11"},{"$f":"J13","v":0},{"$f":"L13","v":0},{"$f":"L14","v":0}]
[null,null,null,null,{"$f":"A25","v":"Récap 31/12"},{"$f":"B24","v":0},{"$f":"D24","v":0},{"$f":"D25","v":0}]
[null,null,null,null,"Report Sept",null,null,{"$f":"B8","v":23.4}]
[null,null,null,null,"Situation 31/12",{"$f":"SUM(F18:F22)","v":0},{"$f":"SUM(G18:G22)","v":0},{"$f":"SUM(H18:H22)","v":23.4}]
[null,{"$f":"SUM(B19:B23)","v":0},null,{"$f":"SUM(D19:D23)","v":0},null,null,null,null,null,{"$f":"SUM(J19:J23)","v":0},null,{"$f":"SUM(L19:L23)","v":0}]
["Récap 31/12",null,null,{"$f":"+B24-D24","v":0},null,null,null,null,"Récap 31/01",null,null,{"$f":"+J24-L24","v":0}]
[]
["FÉVRIER",null,null,null,"MARS",null,null,null,"AVRIL"]
["RECETTES",null,"DEPENSES",null,"RECETTES",null,"DEPENSES",null,"RECETTES",null,"DEPENSES"]
["Dates","Montant","Activités","Montant","Dates","Montant","Activités","Montant","Dates","Montant","Activités","Montant"]
[]
[]
[]
[]
[]
[null,{"$f":"SUM(B30:B34)","v":0},null,{"$f":"SUM(D30:D34)","v":0},null,{"$f":"SUM(F30:F34)","v":0},null,{"$f":"SUM(H30:H34)","v":0},null,{"$f":"SUM(J30:J34)","v":0},null,{"$f":"SUM(L30:L34)","v":0}]
["Récap 28/02",null,null,{"$f":"+B35-D35","v":0},"Récap 31/03",null,null,{"$f":"+F35-H35","v":0},"Récap 30/04",null,null,{"$f":"+J35-L35","v":0}]
[]
[]
["MAI",null,null,null,"JUIN",null,null,null,"Situation fin juin"]
["RECETTES",null,"DEPENSES",null,"RECETTES",null,"DEPENSES",null,null,"Recettes","Dépenses","Total"]
["Dates","Montant","Activités","Montant","Dates","Montant","Activités","Montant",{"$f":"E23","v":"Situation 31/12"},null,null,{"$f":"H23","v":23.4}]
[null,null,null,null,null,null,null,null,{"$f":"I25","v":"Récap 31/01"},{"$f":"J24","v":0},{"$f":"L24","v":0},{"$f":"L25","v":0}]
[null,null,null,null,null,null,null,null,{"$f":"A36","v":"Récap 28/02"},{"$f":"B35","v":0},{"$f":"D35","v":0},{"$f":"D36","v":0}]
[null,null,null,null,null,null,null,null,{"$f":"E36","v":"Récap 31/03"},{"$f":"F35","v":0},{"$f":"H35","v":0},{"$f":"H36","v":0}]
[null,null,null,null,null,null,null,null,{"$f":"I36","v":"Récap 30/04"},{"$f":"J35","v":0},{"$f":"L35","v":0},{"$f":"L36","v":0}]
[null,null,null,null,null,null,null,null,{"$f":"A48","v":"Récap 31/05"},{"$f":"B47","v":0},{"$f":"D47","v":0},{"$f":"D48","v":0}]
[null,{"$f":"SUM(B42:B46)","v":0},null,{"$f":"SUM(D42:D46)","v":0},null,{"$f":"SUM(F42:F46)","v":0},null,{"$f":"SUM(H42:H46)","v":0},{"$f":"E48","v":"Récap 30/06"},{"$f":"F47","v":0},{"$f":"H47","v":0},{"$f":"H48","v":0}]
["Récap 31/05",null,null,{"$f":"+B47-D47","v":0},"Récap 30/06",null,null,{"$f":"+F47-H47","v":0},"Situation 30/06",{"$f":"SUM(J42:J47)","v":0},{"$f":"SUM(K42:K47)","v":0},{"$f":"SUM(L41:L47)","v":23.4}]
[]
[null,null,null,null,null,null,null,null,null,null,null,{"$f":"F23+J48-G23-K48+B8","v":23.4}]
[]
[null,null,null,null,null,null,null,null,null,{"$f":"B13+F13+J13+B24+J24+B35+F35+J35+B47+F47","v":0},{"$f":"D13+H13+L13+D24+L24+D35+H35+L35+D47+H47","v":0},{"$f":"B8+J52-K52","v":23.4}]

{"sheet":"FUMIERE","index":73,"n_rows":52,"n_cols":12,"rows_kept":52,"cut":false,"hidden":false,"merged":[[0,9,0,10],[2,1,2,2],[2,4,2,5],[2,8,2,9],[5,8,5,9],[5,10,5,11],[4,0,4,3],[4,4,4,7],[4,8,4,11],[5,0,5,1],[5,2,5,3],[5,4,5,5],[5,6,5,7],[24,0,24,2],[13,0,13,2],[13,4,13,6],[16,2,16,3],[37,9,37,10],[16,0,16,1],[27,6,27,7],[24,8,24,10],[38,8,38,11],[13,8,13,10],[15,0,15,3],[15,4,15,7],[15,8,15,11],[16,10,16,11],[26,0,26,3],[26,4,26,7],[26,8,26,11],[27,8,27,9],[35,0,35,2],[35,4,35,6],[35,8,35,10],[27,10,27,11],[16,8,16,9],[27,4,27,5],[47,0,47,2],[47,4,47,6],[38,0,38,3],[38,4,38,7],[39,4,39,5],[39,6,39,7]]}
[null,null,null,null,null,null,null,null,null,"Année scolaire : ",null,{"$f":"' Liste élèves'!B1","v":"2018-2019"}]
[]
["NOM : ",{"$f":"' Liste élèves'!A74","v":"FUMIERE"},null,"PRENOM:",{"$f":"' Liste élèves'!B74","v":"Aurélie"},null,null,"CLASSE :",{"$f":"' Liste élèves'!C74","v":"Classe 2"}]
[]
["SEPTEMBRE",null,null,null,"OCTOBRE",null,null,null,"NOVEMBRE"]
["RECETTES",null,"DEPENSES",null,"RECETTES",null,"DEPENSES",null,"RECETTES",null,"DEPENSES"]
["Dates","Montant","Activités","Montant","Dates","Montant","Activités","Montant","Dates","Montant","Activités","Montant"]
["Report juin",47.5]
[]
[]
[]
[]
[null,{"$f":"SUM(B9:B12)","v":0},null,{"$f":"SUM(D8:D12)","v":0},null,{"$f":"SUM(F8:F12)","v":0},null,{"$f":"SUM(H8:H12)","v":0},null,{"$f":"SUM(J8:J12)","v":0},null,{"$f":"SUM(L8:L12)","v":0}]
["Récap 30/09",null,null,{"$f":"+B13-D13","v":0},"Récap 31/10",null,null,{"$f":"+F13-H13","v":0},"Récap 30/11",null,null,{"$f":"+J13-L13","v":0}]
[]
["DÉCEMBRE",null,null,null,"Situation fin décembre",null,null,null,"JANVIER"]
["RECETTES",null,"DEPENSES",null,null,"Recettes","Dépenses","Total","RECETTES",null,"DEPENSES"]
["Dates","Montant","Activités","Montant",{"$f":"A14","v":"Récap 30/09"},{"$f":"B13","v":0},{"$f":"D13","v":0},{"$f":"D14","v":0},"Dates","Montant","Activités","Montant"]
[null,null,null,null,{"$f":"E14","v":"Récap 31/10"},{"$f":"F13","v":0},{"$f":"H13","v":0},{"$f":"H14","v":0}]
[null,null,null,null,{"$f":"I14","v":"Récap 30/11"},{"$f":"J13","v":0},{"$f":"L13","v":0},{"$f":"L14","v":0}]
[null,null,null,null,{"$f":"A25","v":"Récap 31/12"},{"$f":"B24","v":0},{"$f":"D24","v":0},{"$f":"D25","v":0}]
[null,null,null,null,"Report Sept",null,null,{"$f":"B8","v":47.5}]
[null,null,null,null,"Situation 31/12",{"$f":"SUM(F18:F22)","v":0},{"$f":"SUM(G18:G22)","v":0},{"$f":"SUM(H18:H22)","v":47.5}]
[null,{"$f":"SUM(B19:B23)","v":0},null,{"$f":"SUM(D19:D23)","v":0},null,null,null,null,null,{"$f":"SUM(J19:J23)","v":0},null,{"$f":"SUM(L19:L23)","v":0}]
["Récap 31/12",null,null,{"$f":"+B24-D24","v":0},null,null,null,null,"Récap 31/01",null,null,{"$f":"+J24-L24","v":0}]
[]
["FÉVRIER",null,null,null,"MARS",null,null,null,"AVRIL"]
["RECETTES",null,"DEPENSES",null,"RECETTES",null,"DEPENSES",null,"RECETTES",null,"DEPENSES"]
["Dates","Montant","Activités","Montant","Dates","Montant","Activités","Montant","Dates","Montant","Activités","Montant"]
[]
[]
[]
[]
[]
[null,{"$f":"SUM(B30:B34)","v":0},null,{"$f":"SUM(D30:D34)","v":0},null,{"$f":"SUM(F30:F34)","v":0},null,{"$f":"SUM(H30:H34)","v":0},null,{"$f":"SUM(J30:J34)","v":0},null,{"$f":"SUM(L30:L34)","v":0}]
["Récap 28/02",null,null,{"$f":"+B35-D35","v":0},"Récap 31/03",null,null,{"$f":"+F35-H35","v":0},"Récap 30/04",null,null,{"$f":"+J35-L35","v":0}]
[]
[]
["MAI",null,null,null,"JUIN",null,null,null,"Situation fin juin"]
["RECETTES",null,"DEPENSES",null,"RECETTES",null,"DEPENSES",null,null,"Recettes","Dépenses","Total"]
["Dates","Montant","Activités","Montant","Dates","Montant","Activités","Montant",{"$f":"E23","v":"Situation 31/12"},null,null,{"$f":"H23","v":47.5}]
[null,null,null,null,null,null,null,null,{"$f":"I25","v":"Récap 31/01"},{"$f":"J24","v":0},{"$f":"L24","v":0},{"$f":"L25","v":0}]
[null,null,null,null,null,null,null,null,{"$f":"A36","v":"Récap 28/02"},{"$f":"B35","v":0},{"$f":"D35","v":0},{"$f":"D36","v":0}]
[null,null,null,null,null,null,null,null,{"$f":"E36","v":"Récap 31/03"},{"$f":"F35","v":0},{"$f":"H35","v":0},{"$f":"H36","v":0}]
[null,null,null,null,null,null,null,null,{"$f":"I36","v":"Récap 30/04"},{"$f":"J35","v":0},{"$f":"L35","v":0},{"$f":"L36","v":0}]
[null,null,null,null,null,null,null,null,{"$f":"A48","v":"Récap 31/05"},{"$f":"B47","v":0},{"$f":"D47","v":0},{"$f":"D48","v":0}]
[null,{"$f":"SUM(B42:B46)","v":0},null,{"$f":"SUM(D42:D46)","v":0},null,{"$f":"SUM(F42:F46)","v":0},null,{"$f":"SUM(H42:H46)","v":0},{"$f":"E48","v":"Récap 30/06"},{"$f":"F47","v":0},{"$f":"H47","v":0},{"$f":"H48","v":0}]
["Récap 31/05",null,null,{"$f":"+B47-D47","v":0},"Récap 30/06",null,null,{"$f":"+F47-H47","v":0},"Situation 30/06",{"$f":"SUM(J42:J47)","v":0},{"$f":"SUM(K42:K47)","v":0},{"$f":"SUM(L41:L47)","v":47.5}]
[]
[null,null,null,null,null,null,null,null,null,null,null,{"$f":"F23+J48-G23-K48+B8","v":47.5}]
[]
[null,null,null,null,null,null,null,null,null,{"$f":"B13+F13+J13+B24+J24+B35+F35+J35+B47+F47","v":0},{"$f":"D13+H13+L13+D24+L24+D35+H35+L35+D47+H47","v":0},{"$f":"B8+J52-K52","v":47.5}]

{"sheet":"GEORGE","index":74,"n_rows":52,"n_cols":12,"rows_kept":52,"cut":false,"hidden":false,"merged":[[0,9,0,10],[2,1,2,2],[2,4,2,5],[2,8,2,9],[5,8,5,9],[5,10,5,11],[4,0,4,3],[4,4,4,7],[4,8,4,11],[5,0,5,1],[5,2,5,3],[5,4,5,5],[5,6,5,7],[24,0,24,2],[13,0,13,2],[13,4,13,6],[16,2,16,3],[37,9,37,10],[16,0,16,1],[27,6,27,7],[24,8,24,10],[38,8,38,11],[13,8,13,10],[15,0,15,3],[15,4,15,7],[15,8,15,11],[16,10,16,11],[26,0,26,3],[26,4,26,7],[26,8,26,11],[27,8,27,9],[35,0,35,2],[35,4,35,6],[35,8,35,10],[27,10,27,11],[16,8,16,9],[27,4,27,5],[47,0,47,2],[47,4,47,6],[38,0,38,3],[38,4,38,7],[39,4,39,5],[39,6,39,7]]}
[null,null,null,null,null,null,null,null,null,"Année scolaire : ",null,{"$f":"' Liste élèves'!B1","v":"2018-2019"}]
[]
["NOM : ",{"$f":"' Liste élèves'!A75","v":"GEORGE"},null,"PRENOM:",{"$f":"' Liste élèves'!B75","v":"Gwendal"},null,null,"CLASSE :",{"$f":"' Liste élèves'!C75","v":"Classe 6"}]
[]
["SEPTEMBRE",null,null,null,"OCTOBRE",null,null,null,"NOVEMBRE"]
["RECETTES",null,"DEPENSES",null,"RECETTES",null,"DEPENSES",null,"RECETTES",null,"DEPENSES"]
["Dates","Montant","Activités","Montant","Dates","Montant","Activités","Montant","Dates","Montant","Activités","Montant"]
["Report juin",58.53]
[]
[]
[]
[]
[null,{"$f":"SUM(B9:B12)","v":0},null,{"$f":"SUM(D8:D12)","v":0},null,{"$f":"SUM(F8:F12)","v":0},null,{"$f":"SUM(H8:H12)","v":0},null,{"$f":"SUM(J8:J12)","v":0},null,{"$f":"SUM(L8:L12)","v":0}]
["Récap 30/09",null,null,{"$f":"+B13-D13","v":0},"Récap 31/10",null,null,{"$f":"+F13-H13","v":0},"Récap 30/11",null,null,{"$f":"+J13-L13","v":0}]
[]
["DÉCEMBRE",null,null,null,"Situation fin décembre",null,null,null,"JANVIER"]
["RECETTES",null,"DEPENSES",null,null,"Recettes","Dépenses","Total","RECETTES",null,"DEPENSES"]
["Dates","Montant","Activités","Montant",{"$f":"A14","v":"Récap 30/09"},{"$f":"B13","v":0},{"$f":"D13","v":0},{"$f":"D14","v":0},"Dates","Montant","Activités","Montant"]
[null,null,null,null,{"$f":"E14","v":"Récap 31/10"},{"$f":"F13","v":0},{"$f":"H13","v":0},{"$f":"H14","v":0}]
[null,null,null,null,{"$f":"I14","v":"Récap 30/11"},{"$f":"J13","v":0},{"$f":"L13","v":0},{"$f":"L14","v":0}]
[null,null,null,null,{"$f":"A25","v":"Récap 31/12"},{"$f":"B24","v":0},{"$f":"D24","v":0},{"$f":"D25","v":0}]
[null,null,null,null,"Report Sept",null,null,{"$f":"B8","v":58.53}]
[null,null,null,null,"Situation 31/12",{"$f":"SUM(F18:F22)","v":0},{"$f":"SUM(G18:G22)","v":0},{"$f":"SUM(H18:H22)","v":58.53}]
[null,{"$f":"SUM(B19:B23)","v":0},null,{"$f":"SUM(D19:D23)","v":0},null,null,null,null,null,{"$f":"SUM(J19:J23)","v":0},null,{"$f":"SUM(L19:L23)","v":0}]
["Récap 31/12",null,null,{"$f":"+B24-D24","v":0},null,null,null,null,"Récap 31/01",null,null,{"$f":"+J24-L24","v":0}]
[]
["FÉVRIER",null,null,null,"MARS",null,null,null,"AVRIL"]
["RECETTES",null,"DEPENSES",null,"RECETTES",null,"DEPENSES",null,"RECETTES",null,"DEPENSES"]
["Dates","Montant","Activités","Montant","Dates","Montant","Activités","Montant","Dates","Montant","Activités","Montant"]
[]
[]
[]
[]
[]
[null,{"$f":"SUM(B30:B34)","v":0},null,{"$f":"SUM(D30:D34)","v":0},null,{"$f":"SUM(F30:F34)","v":0},null,{"$f":"SUM(H30:H34)","v":0},null,{"$f":"SUM(J30:J34)","v":0},null,{"$f":"SUM(L30:L34)","v":0}]
["Récap 28/02",null,null,{"$f":"+B35-D35","v":0},"Récap 31/03",null,null,{"$f":"+F35-H35","v":0},"Récap 30/04",null,null,{"$f":"+J35-L35","v":0}]
[]
[]
["MAI",null,null,null,"JUIN",null,null,null,"Situation fin juin"]
["RECETTES",null,"DEPENSES",null,"RECETTES",null,"DEPENSES",null,null,"Recettes","Dépenses","Total"]
["Dates","Montant","Activités","Montant","Dates","Montant","Activités","Montant",{"$f":"E23","v":"Situation 31/12"},null,null,{"$f":"H23","v":58.53}]
[null,null,null,null,null,null,null,null,{"$f":"I25","v":"Récap 31/01"},{"$f":"J24","v":0},{"$f":"L24","v":0},{"$f":"L25","v":0}]
[null,null,null,null,null,null,null,null,{"$f":"A36","v":"Récap 28/02"},{"$f":"B35","v":0},{"$f":"D35","v":0},{"$f":"D36","v":0}]
[null,null,null,null,null,null,null,null,{"$f":"E36","v":"Récap 31/03"},{"$f":"F35","v":0},{"$f":"H35","v":0},{"$f":"H36","v":0}]
[null,null,null,null,null,null,null,null,{"$f":"I36","v":"Récap 30/04"},{"$f":"J35","v":0},{"$f":"L35","v":0},{"$f":"L36","v":0}]
[null,null,null,null,null,null,null,null,{"$f":"A48","v":"Récap 31/05"},{"$f":"B47","v":0},{"$f":"D47","v":0},{"$f":"D48","v":0}]
[null,{"$f":"SUM(B42:B46)","v":0},null,{"$f":"SUM(D42:D46)","v":0},null,{"$f":"SUM(F42:F46)","v":0},null,{"$f":"SUM(H42:H46)","v":0},{"$f":"E48","v":"Récap 30/06"},{"$f":"F47","v":0},{"$f":"H47","v":0},{"$f":"H48","v":0}]
["Récap 31/05",null,null,{"$f":"+B47-D47","v":0},"Récap 30/06",null,null,{"$f":"+F47-H47","v":0},"Situation 30/06",{"$f":"SUM(J42:J47)","v":0},{"$f":"SUM(K42:K47)","v":0},{"$f":"SUM(L41:L47)","v":58.53}]
[]
[null,null,null,null,null,null,null,null,null,null,null,{"$f":"F23+J48-G23-K48+B8","v":58.53}]
[]
[null,null,null,null,null,null,null,null,null,{"$f":"B13+F13+J13+B24+J24+B35+F35+J35+B47+F47","v":0},{"$f":"D13+H13+L13+D24+L24+D35+H35+L35+D47+H47","v":0},{"$f":"B8+J52-K52","v":58.53}]

{"sheet":"GHERDAOUI","index":75,"n_rows":52,"n_cols":12,"rows_kept":52,"cut":false,"hidden":false,"merged":[[0,9,0,10],[2,1,2,2],[2,4,2,5],[2,8,2,9],[5,8,5,9],[5,10,5,11],[4,0,4,3],[4,4,4,7],[4,8,4,11],[5,0,5,1],[5,2,5,3],[5,4,5,5],[5,6,5,7],[24,0,24,2],[13,0,13,2],[13,4,13,6],[16,2,16,3],[37,9,37,10],[16,0,16,1],[27,6,27,7],[24,8,24,10],[38,8,38,11],[13,8,13,10],[15,0,15,3],[15,4,15,7],[15,8,15,11],[16,10,16,11],[26,0,26,3],[26,4,26,7],[26,8,26,11],[27,8,27,9],[35,0,35,2],[35,4,35,6],[35,8,35,10],[27,10,27,11],[16,8,16,9],[27,4,27,5],[47,0,47,2],[47,4,47,6],[38,0,38,3],[38,4,38,7],[39,4,39,5],[39,6,39,7]]}
[null,null,null,null,null,null,null,null,null,"Année scolaire : ",null,{"$f":"' Liste élèves'!B1","v":"2018-2019"}]
[]
["NOM : ",{"$f":"' Liste élèves'!A76","v":"GHERDAOUI"},null,"PRENOM:",{"$f":"' Liste élèves'!B76","v":"Ines"},null,null,"CLASSE :",{"$f":"' Liste élèves'!C76","v":"Classe 4"}]
[]
["SEPTEMBRE",null,null,null,"OCTOBRE",null,null,null,"NOVEMBRE"]
["RECETTES",null,"DEPENSES",null,"RECETTES",null,"DEPENSES",null,"RECETTES",null,"DEPENSES"]
["Dates","Montant","Activités","Montant","Dates","Montant","Activités","Montant","Dates","Montant","Activités","Montant"]
["Report juin",38.380000000000003]
[]
[]
[]
[]
[null,{"$f":"SUM(B9:B12)","v":0},null,{"$f":"SUM(D8:D12)","v":0},null,{"$f":"SUM(F8:F12)","v":0},null,{"$f":"SUM(H8:H12)","v":0},null,{"$f":"SUM(J8:J12)","v":0},null,{"$f":"SUM(L8:L12)","v":0}]
["Récap 30/09",null,null,{"$f":"+B13-D13","v":0},"Récap 31/10",null,null,{"$f":"+F13-H13","v":0},"Récap 30/11",null,null,{"$f":"+J13-L13","v":0}]
[]
["DÉCEMBRE",null,null,null,"Situation fin décembre",null,null,null,"JANVIER"]
["RECETTES",null,"DEPENSES",null,null,"Recettes","Dépenses","Total","RECETTES",null,"DEPENSES"]
["Dates","Montant","Activités","Montant",{"$f":"A14","v":"Récap 30/09"},{"$f":"B13","v":0},{"$f":"D13","v":0},{"$f":"D14","v":0},"Dates","Montant","Activités","Montant"]
[null,null,null,null,{"$f":"E14","v":"Récap 31/10"},{"$f":"F13","v":0},{"$f":"H13","v":0},{"$f":"H14","v":0}]
[null,null,null,null,{"$f":"I14","v":"Récap 30/11"},{"$f":"J13","v":0},{"$f":"L13","v":0},{"$f":"L14","v":0}]
[null,null,null,null,{"$f":"A25","v":"Récap 31/12"},{"$f":"B24","v":0},{"$f":"D24","v":0},{"$f":"D25","v":0}]
[null,null,null,null,"Report Sept",null,null,{"$f":"B8","v":38.380000000000003}]
[null,null,null,null,"Situation 31/12",{"$f":"SUM(F18:F22)","v":0},{"$f":"SUM(G18:G22)","v":0},{"$f":"SUM(H18:H22)","v":38.380000000000003}]
[null,{"$f":"SUM(B19:B23)","v":0},null,{"$f":"SUM(D19:D23)","v":0},null,null,null,null,null,{"$f":"SUM(J19:J23)","v":0},null,{"$f":"SUM(L19:L23)","v":0}]
["Récap 31/12",null,null,{"$f":"+B24-D24","v":0},null,null,null,null,"Récap 31/01",null,null,{"$f":"+J24-L24","v":0}]
[]
["FÉVRIER",null,null,null,"MARS",null,null,null,"AVRIL"]
["RECETTES",null,"DEPENSES",null,"RECETTES",null,"DEPENSES",null,"RECETTES",null,"DEPENSES"]
["Dates","Montant","Activités","Montant","Dates","Montant","Activités","Montant","Dates","Montant","Activités","Montant"]
[]
[]
[]
[]
[]
[null,{"$f":"SUM(B30:B34)","v":0},null,{"$f":"SUM(D30:D34)","v":0},null,{"$f":"SUM(F30:F34)","v":0},null,{"$f":"SUM(H30:H34)","v":0},null,{"$f":"SUM(J30:J34)","v":0},null,{"$f":"SUM(L30:L34)","v":0}]
["Récap 28/02",null,null,{"$f":"+B35-D35","v":0},"Récap 31/03",null,null,{"$f":"+F35-H35","v":0},"Récap 30/04",null,null,{"$f":"+J35-L35","v":0}]
[]
[]
["MAI",null,null,null,"JUIN",null,null,null,"Situation fin juin"]
["RECETTES",null,"DEPENSES",null,"RECETTES",null,"DEPENSES",null,null,"Recettes","Dépenses","Total"]
["Dates","Montant","Activités","Montant","Dates","Montant","Activités","Montant",{"$f":"E23","v":"Situation 31/12"},null,null,{"$f":"H23","v":38.380000000000003}]
[null,null,null,null,null,null,null,null,{"$f":"I25","v":"Récap 31/01"},{"$f":"J24","v":0},{"$f":"L24","v":0},{"$f":"L25","v":0}]
[null,null,null,null,null,null,null,null,{"$f":"A36","v":"Récap 28/02"},{"$f":"B35","v":0},{"$f":"D35","v":0},{"$f":"D36","v":0}]
[null,null,null,null,null,null,null,null,{"$f":"E36","v":"Récap 31/03"},{"$f":"F35","v":0},{"$f":"H35","v":0},{"$f":"H36","v":0}]
[null,null,null,null,null,null,null,null,{"$f":"I36","v":"Récap 30/04"},{"$f":"J35","v":0},{"$f":"L35","v":0},{"$f":"L36","v":0}]
[null,null,null,null,null,null,null,null,{"$f":"A48","v":"Récap 31/05"},{"$f":"B47","v":0},{"$f":"D47","v":0},{"$f":"D48","v":0}]
[null,{"$f":"SUM(B42:B46)","v":0},null,{"$f":"SUM(D42:D46)","v":0},null,{"$f":"SUM(F42:F46)","v":0},null,{"$f":"SUM(H42:H46)","v":0},{"$f":"E48","v":"Récap 30/06"},{"$f":"F47","v":0},{"$f":"H47","v":0},{"$f":"H48","v":0}]
["Récap 31/05",null,null,{"$f":"+B47-D47","v":0},"Récap 30/06",null,null,{"$f":"+F47-H47","v":0},"Situation 30/06",{"$f":"SUM(J42:J47)","v":0},{"$f":"SUM(K42:K47)","v":0},{"$f":"SUM(L41:L47)","v":38.380000000000003}]
[]
[null,null,null,null,null,null,null,null,null,null,null,{"$f":"F23+J48-G23-K48+B8","v":38.380000000000003}]
[]
[null,null,null,null,null,null,null,null,null,{"$f":"B13+F13+J13+B24+J24+B35+F35+J35+B47+F47","v":0},{"$f":"D13+H13+L13+D24+L24+D35+H35+L35+D47+H47","v":0},{"$f":"B8+J52-K52","v":38.380000000000003}]

{"sheet":"GILLE","index":76,"n_rows":52,"n_cols":12,"rows_kept":52,"cut":false,"hidden":false,"merged":[[0,9,0,10],[2,1,2,2],[2,4,2,5],[2,8,2,9],[5,8,5,9],[5,10,5,11],[4,0,4,3],[4,4,4,7],[4,8,4,11],[5,0,5,1],[5,2,5,3],[5,4,5,5],[5,6,5,7],[24,0,24,2],[13,0,13,2],[13,4,13,6],[16,2,16,3],[37,9,37,10],[16,0,16,1],[27,6,27,7],[24,8,24,10],[38,8,38,11],[13,8,13,10],[15,0,15,3],[15,4,15,7],[15,8,15,11],[16,10,16,11],[26,0,26,3],[26,4,26,7],[26,8,26,11],[27,8,27,9],[35,0,35,2],[35,4,35,6],[35,8,35,10],[27,10,27,11],[16,8,16,9],[27,4,27,5],[47,0,47,2],[47,4,47,6],[38,0,38,3],[38,4,38,7],[39,4,39,5],[39,6,39,7]]}
[null,null,null,null,null,null,null,null,null,"Année scolaire : ",null,{"$f":"' Liste élèves'!B1","v":"2018-2019"}]
[]
["NOM : ",{"$f":"' Liste élèves'!A77","v":"GILLE"},null,"PRENOM:",{"$f":"' Liste élèves'!B77","v":"Mickaël"},null,null,"CLASSE :",{"$f":"' Liste élèves'!C77","v":"Classe FB"}]
[]
["SEPTEMBRE",null,null,null,"OCTOBRE",null,null,null,"NOVEMBRE"]
["RECETTES",null,"DEPENSES",null,"RECETTES",null,"DEPENSES",null,"RECETTES",null,"DEPENSES"]
["Dates","Montant","Activités","Montant","Dates","Montant","Activités","Montant","Dates","Montant","Activités","Montant"]
["Report juin",45.5]
[]
[]
[]
[]
[null,{"$f":"SUM(B9:B12)","v":0},null,{"$f":"SUM(D8:D12)","v":0},null,{"$f":"SUM(F8:F12)","v":0},null,{"$f":"SUM(H8:H12)","v":0},null,{"$f":"SUM(J8:J12)","v":0},null,{"$f":"SUM(L8:L12)","v":0}]
["Récap 30/09",null,null,{"$f":"+B13-D13","v":0},"Récap 31/10",null,null,{"$f":"+F13-H13","v":0},"Récap 30/11",null,null,{"$f":"+J13-L13","v":0}]
[]
["DÉCEMBRE",null,null,null,"Situation fin décembre",null,null,null,"JANVIER"]
["RECETTES",null,"DEPENSES",null,null,"Recettes","Dépenses","Total","RECETTES",null,"DEPENSES"]
["Dates","Montant","Activités","Montant",{"$f":"A14","v":"Récap 30/09"},{"$f":"B13","v":0},{"$f":"D13","v":0},{"$f":"D14","v":0},"Dates","Montant","Activités","Montant"]
[null,null,null,null,{"$f":"E14","v":"Récap 31/10"},{"$f":"F13","v":0},{"$f":"H13","v":0},{"$f":"H14","v":0}]
[null,null,null,null,{"$f":"I14","v":"Récap 30/11"},{"$f":"J13","v":0},{"$f":"L13","v":0},{"$f":"L14","v":0}]
[null,null,null,null,{"$f":"A25","v":"Récap 31/12"},{"$f":"B24","v":0},{"$f":"D24","v":0},{"$f":"D25","v":0}]
[null,null,null,null,"Report Sept",null,null,{"$f":"B8","v":45.5}]
[null,null,null,null,"Situation 31/12",{"$f":"SUM(F18:F22)","v":0},{"$f":"SUM(G18:G22)","v":0},{"$f":"SUM(H18:H22)","v":45.5}]
[null,{"$f":"SUM(B19:B23)","v":0},null,{"$f":"SUM(D19:D23)","v":0},null,null,null,null,null,{"$f":"SUM(J19:J23)","v":0},null,{"$f":"SUM(L19:L23)","v":0}]
["Récap 31/12",null,null,{"$f":"+B24-D24","v":0},null,null,null,null,"Récap 31/01",null,null,{"$f":"+J24-L24","v":0}]
[]
["FÉVRIER",null,null,null,"MARS",null,null,null,"AVRIL"]
["RECETTES",null,"DEPENSES",null,"RECETTES",null,"DEPENSES",null,"RECETTES",null,"DEPENSES"]
["Dates","Montant","Activités","Montant","Dates","Montant","Activités","Montant","Dates","Montant","Activités","Montant"]
[]
[]
[]
[]
[]
[null,{"$f":"SUM(B30:B34)","v":0},null,{"$f":"SUM(D30:D34)","v":0},null,{"$f":"SUM(F30:F34)","v":0},null,{"$f":"SUM(H30:H34)","v":0},null,{"$f":"SUM(J30:J34)","v":0},null,{"$f":"SUM(L30:L34)","v":0}]
["Récap 28/02",null,null,{"$f":"+B35-D35","v":0},"Récap 31/03",null,null,{"$f":"+F35-H35","v":0},"Récap 30/04",null,null,{"$f":"+J35-L35","v":0}]
[]
[]
["MAI",null,null,null,"JUIN",null,null,null,"Situation fin juin"]
["RECETTES",null,"DEPENSES",null,"RECETTES",null,"DEPENSES",null,null,"Recettes","Dépenses","Total"]
["Dates","Montant","Activités","Montant","Dates","Montant","Activités","Montant",{"$f":"E23","v":"Situation 31/12"},null,null,{"$f":"H23","v":45.5}]
[null,null,null,null,null,null,null,null,{"$f":"I25","v":"Récap 31/01"},{"$f":"J24","v":0},{"$f":"L24","v":0},{"$f":"L25","v":0}]
[null,null,null,null,null,null,null,null,{"$f":"A36","v":"Récap 28/02"},{"$f":"B35","v":0},{"$f":"D35","v":0},{"$f":"D36","v":0}]
[null,null,null,null,null,null,null,null,{"$f":"E36","v":"Récap 31/03"},{"$f":"F35","v":0},{"$f":"H35","v":0},{"$f":"H36","v":0}]
[null,null,null,null,null,null,null,null,{"$f":"I36","v":"Récap 30/04"},{"$f":"J35","v":0},{"$f":"L35","v":0},{"$f":"L36","v":0}]
[null,null,null,null,null,null,null,null,{"$f":"A48","v":"Récap 31/05"},{"$f":"B47","v":0},{"$f":"D47","v":0},{"$f":"D48","v":0}]
[null,{"$f":"SUM(B42:B46)","v":0},null,{"$f":"SUM(D42:D46)","v":0},null,{"$f":"SUM(F42:F46)","v":0},null,{"$f":"SUM(H42:H46)","v":0},{"$f":"E48","v":"Récap 30/06"},{"$f":"F47","v":0},{"$f":"H47","v":0},{"$f":"H48","v":0}]
["Récap 31/05",null,null,{"$f":"+B47-D47","v":0},"Récap 30/06",null,null,{"$f":"+F47-H47","v":0},"Situation 30/06",{"$f":"SUM(J42:J47)","v":0},{"$f":"SUM(K42:K47)","v":0},{"$f":"SUM(L41:L47)","v":45.5}]
[]
[null,null,null,null,null,null,null,null,null,null,null,{"$f":"F23+J48-G23-K48+B8","v":45.5}]
[]
[null,null,null,null,null,null,null,null,null,{"$f":"B13+F13+J13+B24+J24+B35+F35+J35+B47+F47","v":0},{"$f":"D13+H13+L13+D24+L24+D35+H35+L35+D47+H47","v":0},{"$f":"B8+J52-K52","v":45.5}]

{"sheet":"GRETZERD","index":77,"n_rows":52,"n_cols":12,"rows_kept":52,"cut":false,"hidden":false,"merged":[[0,9,0,10],[2,1,2,2],[2,4,2,5],[2,8,2,9],[5,8,5,9],[5,10,5,11],[4,0,4,3],[4,4,4,7],[4,8,4,11],[5,0,5,1],[5,2,5,3],[5,4,5,5],[5,6,5,7],[24,0,24,2],[13,0,13,2],[13,4,13,6],[16,2,16,3],[37,9,37,10],[16,0,16,1],[27,6,27,7],[24,8,24,10],[38,8,38,11],[13,8,13,10],[15,0,15,3],[15,4,15,7],[15,8,15,11],[16,10,16,11],[26,0,26,3],[26,4,26,7],[26,8,26,11],[27,8,27,9],[35,0,35,2],[35,4,35,6],[35,8,35,10],[27,10,27,11],[16,8,16,9],[27,4,27,5],[47,0,47,2],[47,4,47,6],[38,0,38,3],[38,4,38,7],[39,4,39,5],[39,6,39,7]]}
[null,null,null,null,null,null,null,null,null,"Année scolaire : ",null,{"$f":"' Liste élèves'!B1","v":"2018-2019"}]
[]
["NOM : ",{"$f":"' Liste élèves'!A78","v":"GRETZERD"},null,"PRENOM:",{"$f":"' Liste élèves'!B78","v":"Dylan"},null,null,"CLASSE :",{"$f":"' Liste élèves'!C78","v":"Classe 6"}]
[]
["SEPTEMBRE",null,null,null,"OCTOBRE",null,null,null,"NOVEMBRE"]
["RECETTES",null,"DEPENSES",null,"RECETTES",null,"DEPENSES",null,"RECETTES",null,"DEPENSES"]
["Dates","Montant","Activités","Montant","Dates","Montant","Activités","Montant","Dates","Montant","Activités","Montant"]
["Report juin",-2.5]
[]
[]
[]
[]
[null,{"$f":"SUM(B9:B12)","v":0},null,{"$f":"SUM(D8:D12)","v":0},null,{"$f":"SUM(F8:F12)","v":0},null,{"$f":"SUM(H8:H12)","v":0},null,{"$f":"SUM(J8:J12)","v":0},null,{"$f":"SUM(L8:L12)","v":0}]
["Récap 30/09",null,null,{"$f":"+B13-D13","v":0},"Récap 31/10",null,null,{"$f":"+F13-H13","v":0},"Récap 30/11",null,null,{"$f":"+J13-L13","v":0}]
[]
["DÉCEMBRE",null,null,null,"Situation fin décembre",null,null,null,"JANVIER"]
["RECETTES",null,"DEPENSES",null,null,"Recettes","Dépenses","Total","RECETTES",null,"DEPENSES"]
["Dates","Montant","Activités","Montant",{"$f":"A14","v":"Récap 30/09"},{"$f":"B13","v":0},{"$f":"D13","v":0},{"$f":"D14","v":0},"Dates","Montant","Activités","Montant"]
[null,null,null,null,{"$f":"E14","v":"Récap 31/10"},{"$f":"F13","v":0},{"$f":"H13","v":0},{"$f":"H14","v":0}]
[null,null,null,null,{"$f":"I14","v":"Récap 30/11"},{"$f":"J13","v":0},{"$f":"L13","v":0},{"$f":"L14","v":0}]
[null,null,null,null,{"$f":"A25","v":"Récap 31/12"},{"$f":"B24","v":0},{"$f":"D24","v":0},{"$f":"D25","v":0}]
[null,null,null,null,"Report Sept",null,null,{"$f":"B8","v":-2.5}]
[null,null,null,null,"Situation 31/12",{"$f":"SUM(F18:F22)","v":0},{"$f":"SUM(G18:G22)","v":0},{"$f":"SUM(H18:H22)","v":-2.5}]
[null,{"$f":"SUM(B19:B23)","v":0},null,{"$f":"SUM(D19:D23)","v":0},null,null,null,null,null,{"$f":"SUM(J19:J23)","v":0},null,{"$f":"SUM(L19:L23)","v":0}]
["Récap 31/12",null,null,{"$f":"+B24-D24","v":0},null,null,null,null,"Récap 31/01",null,null,{"$f":"+J24-L24","v":0}]
[]
["FÉVRIER",null,null,null,"MARS",null,null,null,"AVRIL"]
["RECETTES",null,"DEPENSES",null,"RECETTES",null,"DEPENSES",null,"RECETTES",null,"DEPENSES"]
["Dates","Montant","Activités","Montant","Dates","Montant","Activités","Montant","Dates","Montant","Activités","Montant"]
[]
[]
[]
[]
[]
[null,{"$f":"SUM(B30:B34)","v":0},null,{"$f":"SUM(D30:D34)","v":0},null,{"$f":"SUM(F30:F34)","v":0},null,{"$f":"SUM(H30:H34)","v":0},null,{"$f":"SUM(J30:J34)","v":0},null,{"$f":"SUM(L30:L34)","v":0}]
["Récap 28/02",null,null,{"$f":"+B35-D35","v":0},"Récap 31/03",null,null,{"$f":"+F35-H35","v":0},"Récap 30/04",null,null,{"$f":"+J35-L35","v":0}]
[]
[]
["MAI",null,null,null,"JUIN",null,null,null,"Situation fin juin"]
["RECETTES",null,"DEPENSES",null,"RECETTES",null,"DEPENSES",null,null,"Recettes","Dépenses","Total"]
["Dates","Montant","Activités","Montant","Dates","Montant","Activités","Montant",{"$f":"E23","v":"Situation 31/12"},null,null,{"$f":"H23","v":-2.5}]
[null,null,null,null,null,null,null,null,{"$f":"I25","v":"Récap 31/01"},{"$f":"J24","v":0},{"$f":"L24","v":0},{"$f":"L25","v":0}]
[null,null,null,null,null,null,null,null,{"$f":"A36","v":"Récap 28/02"},{"$f":"B35","v":0},{"$f":"D35","v":0},{"$f":"D36","v":0}]
[null,null,null,null,null,null,null,null,{"$f":"E36","v":"Récap 31/03"},{"$f":"F35","v":0},{"$f":"H35","v":0},{"$f":"H36","v":0}]
[null,null,null,null,null,null,null,null,{"$f":"I36","v":"Récap 30/04"},{"$f":"J35","v":0},{"$f":"L35","v":0},{"$f":"L36","v":0}]
[null,null,null,null,null,null,null,null,{"$f":"A48","v":"Récap 31/05"},{"$f":"B47","v":0},{"$f":"D47","v":0},{"$f":"D48","v":0}]
[null,{"$f":"SUM(B42:B46)","v":0},null,{"$f":"SUM(D42:D46)","v":0},null,{"$f":"SUM(F42:F46)","v":0},null,{"$f":"SUM(H42:H46)","v":0},{"$f":"E48","v":"Récap 30/06"},{"$f":"F47","v":0},{"$f":"H47","v":0},{"$f":"H48","v":0}]
["Récap 31/05",null,null,{"$f":"+B47-D47","v":0},"Récap 30/06",null,null,{"$f":"+F47-H47","v":0},"Situation 30/06",{"$f":"SUM(J42:J47)","v":0},{"$f":"SUM(K42:K47)","v":0},{"$f":"SUM(L41:L47)","v":-2.5}]
[]
[null,null,null,null,null,null,null,null,null,null,null,{"$f":"F23+J48-G23-K48+B8","v":-2.5}]
[]
[null,null,null,null,null,null,null,null,null,{"$f":"B13+F13+J13+B24+J24+B35+F35+J35+B47+F47","v":0},{"$f":"D13+H13+L13+D24+L24+D35+H35+L35+D47+H47","v":0},{"$f":"B8+J52-K52","v":-2.5}]

{"sheet":"GRETZERV","index":78,"n_rows":52,"n_cols":12,"rows_kept":52,"cut":false,"hidden":false,"merged":[[0,9,0,10],[2,1,2,2],[2,4,2,5],[2,8,2,9],[5,8,5,9],[5,10,5,11],[4,0,4,3],[4,4,4,7],[4,8,4,11],[5,0,5,1],[5,2,5,3],[5,4,5,5],[5,6,5,7],[24,0,24,2],[13,0,13,2],[13,4,13,6],[16,2,16,3],[37,9,37,10],[16,0,16,1],[27,6,27,7],[24,8,24,10],[38,8,38,11],[13,8,13,10],[15,0,15,3],[15,4,15,7],[15,8,15,11],[16,10,16,11],[26,0,26,3],[26,4,26,7],[26,8,26,11],[27,8,27,9],[35,0,35,2],[35,4,35,6],[35,8,35,10],[27,10,27,11],[16,8,16,9],[27,4,27,5],[47,0,47,2],[47,4,47,6],[38,0,38,3],[38,4,38,7],[39,4,39,5],[39,6,39,7]]}
[null,null,null,null,null,null,null,null,null,"Année scolaire : ",null,{"$f":"' Liste élèves'!B1","v":"2018-2019"}]
[]
["NOM : ",{"$f":"' Liste élèves'!A79","v":"GRETZERV"},null,"PRENOM:",{"$f":"' Liste élèves'!B79","v":"Victoria"},null,null,"CLASSE :",{"$f":"' Liste élèves'!C79","v":"Classe PA"}]
[]
["SEPTEMBRE",null,null,null,"OCTOBRE",null,null,null,"NOVEMBRE"]
["RECETTES",null,"DEPENSES",null,"RECETTES",null,"DEPENSES",null,"RECETTES",null,"DEPENSES"]
["Dates","Montant","Activités","Montant","Dates","Montant","Activités","Montant","Dates","Montant","Activités","Montant"]
["Report juin",-10.5]
[]
[]
[]
[]
[null,{"$f":"SUM(B9:B12)","v":0},null,{"$f":"SUM(D8:D12)","v":0},null,{"$f":"SUM(F8:F12)","v":0},null,{"$f":"SUM(H8:H12)","v":0},null,{"$f":"SUM(J8:J12)","v":0},null,{"$f":"SUM(L8:L12)","v":0}]
["Récap 30/09",null,null,{"$f":"+B13-D13","v":0},"Récap 31/10",null,null,{"$f":"+F13-H13","v":0},"Récap 30/11",null,null,{"$f":"+J13-L13","v":0}]
[]
["DÉCEMBRE",null,null,null,"Situation fin décembre",null,null,null,"JANVIER"]
["RECETTES",null,"DEPENSES",null,null,"Recettes","Dépenses","Total","RECETTES",null,"DEPENSES"]
["Dates","Montant","Activités","Montant",{"$f":"A14","v":"Récap 30/09"},{"$f":"B13","v":0},{"$f":"D13","v":0},{"$f":"D14","v":0},"Dates","Montant","Activités","Montant"]
[null,null,null,null,{"$f":"E14","v":"Récap 31/10"},{"$f":"F13","v":0},{"$f":"H13","v":0},{"$f":"H14","v":0}]
[null,null,null,null,{"$f":"I14","v":"Récap 30/11"},{"$f":"J13","v":0},{"$f":"L13","v":0},{"$f":"L14","v":0}]
[null,null,null,null,{"$f":"A25","v":"Récap 31/12"},{"$f":"B24","v":0},{"$f":"D24","v":0},{"$f":"D25","v":0}]
[null,null,null,null,"Report Sept",null,null,{"$f":"B8","v":-10.5}]
[null,null,null,null,"Situation 31/12",{"$f":"SUM(F18:F22)","v":0},{"$f":"SUM(G18:G22)","v":0},{"$f":"SUM(H18:H22)","v":-10.5}]
[null,{"$f":"SUM(B19:B23)","v":0},null,{"$f":"SUM(D19:D23)","v":0},null,null,null,null,null,{"$f":"SUM(J19:J23)","v":0},null,{"$f":"SUM(L19:L23)","v":0}]
["Récap 31/12",null,null,{"$f":"+B24-D24","v":0},null,null,null,null,"Récap 31/01",null,null,{"$f":"+J24-L24","v":0}]
[]
["FÉVRIER",null,null,null,"MARS",null,null,null,"AVRIL"]
["RECETTES",null,"DEPENSES",null,"RECETTES",null,"DEPENSES",null,"RECETTES",null,"DEPENSES"]
["Dates","Montant","Activités","Montant","Dates","Montant","Activités","Montant","Dates","Montant","Activités","Montant"]
[]
[]
[]
[]
[]
[null,{"$f":"SUM(B30:B34)","v":0},null,{"$f":"SUM(D30:D34)","v":0},null,{"$f":"SUM(F30:F34)","v":0},null,{"$f":"SUM(H30:H34)","v":0},null,{"$f":"SUM(J30:J34)","v":0},null,{"$f":"SUM(L30:L34)","v":0}]
["Récap 28/02",null,null,{"$f":"+B35-D35","v":0},"Récap 31/03",null,null,{"$f":"+F35-H35","v":0},"Récap 30/04",null,null,{"$f":"+J35-L35","v":0}]
[]
[]
["MAI",null,null,null,"JUIN",null,null,null,"Situation fin juin"]
["RECETTES",null,"DEPENSES",null,"RECETTES",null,"DEPENSES",null,null,"Recettes","Dépenses","Total"]
["Dates","Montant","Activités","Montant","Dates","Montant","Activités","Montant",{"$f":"E23","v":"Situation 31/12"},null,null,{"$f":"H23","v":-10.5}]
[null,null,null,null,null,null,null,null,{"$f":"I25","v":"Récap 31/01"},{"$f":"J24","v":0},{"$f":"L24","v":0},{"$f":"L25","v":0}]
[null,null,null,null,null,null,null,null,{"$f":"A36","v":"Récap 28/02"},{"$f":"B35","v":0},{"$f":"D35","v":0},{"$f":"D36","v":0}]
[null,null,null,null,null,null,null,null,{"$f":"E36","v":"Récap 31/03"},{"$f":"F35","v":0},{"$f":"H35","v":0},{"$f":"H36","v":0}]
[null,null,null,null,null,null,null,null,{"$f":"I36","v":"Récap 30/04"},{"$f":"J35","v":0},{"$f":"L35","v":0},{"$f":"L36","v":0}]
[null,null,null,null,null,null,null,null,{"$f":"A48","v":"Récap 31/05"},{"$f":"B47","v":0},{"$f":"D47","v":0},{"$f":"D48","v":0}]
[null,{"$f":"SUM(B42:B46)","v":0},null,{"$f":"SUM(D42:D46)","v":0},null,{"$f":"SUM(F42:F46)","v":0},null,{"$f":"SUM(H42:H46)","v":0},{"$f":"E48","v":"Récap 30/06"},{"$f":"F47","v":0},{"$f":"H47","v":0},{"$f":"H48","v":0}]
["Récap 31/05",null,null,{"$f":"+B47-D47","v":0},"Récap 30/06",null,null,{"$f":"+F47-H47","v":0},"Situation 30/06",{"$f":"SUM(J42:J47)","v":0},{"$f":"SUM(K42:K47)","v":0},{"$f":"SUM(L41:L47)","v":-10.5}]
[]
[null,null,null,null,null,null,null,null,null,null,null,{"$f":"F23+J48-G23-K48+B8","v":-10.5}]
[]
[null,null,null,null,null,null,null,null,null,{"$f":"B13+F13+J13+B24+J24+B35+F35+J35+B47+F47","v":0},{"$f":"D13+H13+L13+D24+L24+D35+H35+L35+D47+H47","v":0},{"$f":"B8+J52-K52","v":-10.5}]

{"sheet":"GUECIOEUR","index":79,"n_rows":52,"n_cols":12,"rows_kept":52,"cut":false,"hidden":false,"merged":[[5,10,5,11],[0,9,0,10],[2,1,2,2],[2,4,2,5],[2,8,2,9],[4,0,4,3],[4,4,4,7],[4,8,4,11],[5,0,5,1],[5,2,5,3],[5,4,5,5],[5,6,5,7],[5,8,5,9],[13,0,13,2],[13,4,13,6],[13,8,13,10],[15,0,15,3],[15,4,15,7],[15,8,15,11],[16,0,16,1],[16,2,16,3],[16,8,16,9],[16,10,16,11],[24,0,24,2],[24,8,24,10],[26,0,26,3],[26,4,26,7],[26,8,26,11],[27,4,27,5],[27,6,27,7],[27,8,27,9],[27,10,27,11],[35,8,35,10],[37,9,37,10],[38,0,38,3],[38,4,38,7],[38,8,38,11],[39,4,39,5],[39,6,39,7],[47,0,47,2],[47,4,47,6],[35,0,35,2],[35,4,35,6]]}
[null,null,null,null,null,null,null,null,null,"Année scolaire : ",null,{"$f":"' Liste élèves'!B1","v":"2018-2019"}]
[]
["NOM : ",{"$f":"' Liste élèves'!A80","v":"GUECIOEUR"},null,"PRENOM:",{"$f":"' Liste élèves'!B80","v":"Hamza"},null,null,"CLASSE :",{"$f":"' Liste élèves'!C80","v":"Classe PB"}]
[]
["SEPTEMBRE",null,null,null,"OCTOBRE",null,null,null,"NOVEMBRE"]
["RECETTES",null,"DEPENSES",null,"RECETTES",null,"DEPENSES",null,"RECETTES",null,"DEPENSES"]
["Dates","Montant","Activités","Montant","Dates","Montant","Activités","Montant","Dates","Montant","Activités","Montant"]
["Report juin"]
[]
[]
[]
[]
[null,{"$f":"SUM(B9:B12)","v":0},null,{"$f":"SUM(D8:D12)","v":0},null,{"$f":"SUM(F8:F12)","v":0},null,{"$f":"SUM(H8:H12)","v":0},null,{"$f":"SUM(J8:J12)","v":0},null,{"$f":"SUM(L8:L12)","v":0}]
["Récap 30/09",null,null,{"$f":"+B13-D13","v":0},"Récap 31/10",null,null,{"$f":"+F13-H13","v":0},"Récap 30/11",null,null,{"$f":"+J13-L13","v":0}]
[]
["DÉCEMBRE",null,null,null,"Situation fin décembre",null,null,null,"JANVIER"]
["RECETTES",null,"DEPENSES",null,null,"Recettes","Dépenses","Total","RECETTES",null,"DEPENSES"]
["Dates","Montant","Activités","Montant",{"$f":"A14","v":"Récap 30/09"},{"$f":"B13","v":0},{"$f":"D13","v":0},{"$f":"D14","v":0},"Dates","Montant","Activités","Montant"]
[null,null,null,null,{"$f":"E14","v":"Récap 31/10"},{"$f":"F13","v":0},{"$f":"H13","v":0},{"$f":"H14","v":0}]
[null,null,null,null,{"$f":"I14","v":"Récap 30/11"},{"$f":"J13","v":0},{"$f":"L13","v":0},{"$f":"L14","v":0}]
[null,null,null,null,{"$f":"A25","v":"Récap 31/12"},{"$f":"B24","v":0},{"$f":"D24","v":0},{"$f":"D25","v":0}]
[null,null,null,null,"Report Sept",null,null,{"$f":"B8","v":0}]
[null,null,null,null,"Situation 31/12",{"$f":"SUM(F18:F22)","v":0},{"$f":"SUM(G18:G22)","v":0},{"$f":"SUM(H18:H22)","v":0}]
[null,{"$f":"SUM(B19:B23)","v":0},null,{"$f":"SUM(D19:D23)","v":0},null,null,null,null,null,{"$f":"SUM(J19:J23)","v":0},null,{"$f":"SUM(L19:L23)","v":0}]
["Récap 31/12",null,null,{"$f":"+B24-D24","v":0},null,null,null,null,"Récap 31/01",null,null,{"$f":"+J24-L24","v":0}]
[]
["FÉVRIER",null,null,null,"MARS",null,null,null,"AVRIL"]
["RECETTES",null,"DEPENSES",null,"RECETTES",null,"DEPENSES",null,"RECETTES",null,"DEPENSES"]
["Dates","Montant","Activités","Montant","Dates","Montant","Activités","Montant","Dates","Montant","Activités","Montant"]
[]
[]
[]
[]
[]
[null,{"$f":"SUM(B30:B34)","v":0},null,{"$f":"SUM(D30:D34)","v":0},null,{"$f":"SUM(F30:F34)","v":0},null,{"$f":"SUM(H30:H34)","v":0},null,{"$f":"SUM(J30:J34)","v":0},null,{"$f":"SUM(L30:L34)","v":0}]
["Récap 28/02",null,null,{"$f":"+B35-D35","v":0},"Récap 31/03",null,null,{"$f":"+F35-H35","v":0},"Récap 30/04",null,null,{"$f":"+J35-L35","v":0}]
[]
[]
["MAI",null,null,null,"JUIN",null,null,null,"Situation fin juin"]
["RECETTES",null,"DEPENSES",null,"RECETTES",null,"DEPENSES",null,null,"Recettes","Dépenses","Total"]
["Dates","Montant","Activités","Montant","Dates","Montant","Activités","Montant",{"$f":"E23","v":"Situation 31/12"},null,null,{"$f":"H23","v":0}]
[null,null,null,null,null,null,null,null,{"$f":"I25","v":"Récap 31/01"},{"$f":"J24","v":0},{"$f":"L24","v":0},{"$f":"L25","v":0}]
[null,null,null,null,null,null,null,null,{"$f":"A36","v":"Récap 28/02"},{"$f":"B35","v":0},{"$f":"D35","v":0},{"$f":"D36","v":0}]
[null,null,null,null,null,null,null,null,{"$f":"E36","v":"Récap 31/03"},{"$f":"F35","v":0},{"$f":"H35","v":0},{"$f":"H36","v":0}]
[null,null,null,null,null,null,null,null,{"$f":"I36","v":"Récap 30/04"},{"$f":"J35","v":0},{"$f":"L35","v":0},{"$f":"L36","v":0}]
[null,null,null,null,null,null,null,null,{"$f":"A48","v":"Récap 31/05"},{"$f":"B47","v":0},{"$f":"D47","v":0},{"$f":"D48","v":0}]
[null,{"$f":"SUM(B42:B46)","v":0},null,{"$f":"SUM(D42:D46)","v":0},null,{"$f":"SUM(F42:F46)","v":0},null,{"$f":"SUM(H42:H46)","v":0},{"$f":"E48","v":"Récap 30/06"},{"$f":"F47","v":0},{"$f":"H47","v":0},{"$f":"H48","v":0}]
["Récap 31/05",null,null,{"$f":"+B47-D47","v":0},"Récap 30/06",null,null,{"$f":"+F47-H47","v":0},"Situation 30/06",{"$f":"SUM(J42:J47)","v":0},{"$f":"SUM(K42:K47)","v":0},{"$f":"SUM(L41:L47)","v":0}]
[]
[null,null,null,null,null,null,null,null,null,null,null,{"$f":"F23+J48-G23-K48+B8","v":0}]
[]
[null,null,null,null,null,null,null,null,null,{"$f":"B13+F13+J13+B24+J24+B35+F35+J35+B47+F47","v":0},{"$f":"D13+H13+L13+D24+L24+D35+H35+L35+D47+H47","v":0},{"$f":"B8+J52-K52","v":0}]

{"sheet":"HAINAUT","index":80,"n_rows":52,"n_cols":12,"rows_kept":52,"cut":false,"hidden":false,"merged":[[0,9,0,10],[2,1,2,2],[2,4,2,5],[2,8,2,9],[5,8,5,9],[5,10,5,11],[4,0,4,3],[4,4,4,7],[4,8,4,11],[5,0,5,1],[5,2,5,3],[5,4,5,5],[5,6,5,7],[24,0,24,2],[13,0,13,2],[13,4,13,6],[16,2,16,3],[37,9,37,10],[16,0,16,1],[27,6,27,7],[24,8,24,10],[38,8,38,11],[13,8,13,10],[15,0,15,3],[15,4,15,7],[15,8,15,11],[16,10,16,11],[26,0,26,3],[26,4,26,7],[26,8,26,11],[27,8,27,9],[35,0,35,2],[35,4,35,6],[35,8,35,10],[27,10,27,11],[16,8,16,9],[27,4,27,5],[47,0,47,2],[47,4,47,6],[38,0,38,3],[38,4,38,7],[39,4,39,5],[39,6,39,7]]}
[null,null,null,null,null,null,null,null,null,"Année scolaire : ",null,{"$f":"' Liste élèves'!B1","v":"2018-2019"}]
[]
["NOM : ",{"$f":"' Liste élèves'!A81","v":"HAINAUT"},null,"PRENOM:",{"$f":"' Liste élèves'!B81","v":"Dylan"},null,null,"CLASSE :",{"$f":"' Liste élèves'!C81","v":"Classe 4"}]
[]
["SEPTEMBRE",null,null,null,"OCTOBRE",null,null,null,"NOVEMBRE"]
["RECETTES",null,"DEPENSES",null,"RECETTES",null,"DEPENSES",null,"RECETTES",null,"DEPENSES"]
["Dates","Montant","Activités","Montant","Dates","Montant","Activités","Montant","Dates","Montant","Activités","Montant"]
["Report juin",38]
[]
[]
[]
[]
[null,{"$f":"SUM(B9:B12)","v":0},null,{"$f":"SUM(D8:D12)","v":0},null,{"$f":"SUM(F8:F12)","v":0},null,{"$f":"SUM(H8:H12)","v":0},null,{"$f":"SUM(J8:J12)","v":0},null,{"$f":"SUM(L8:L12)","v":0}]
["Récap 30/09",null,null,{"$f":"+B13-D13","v":0},"Récap 31/10",null,null,{"$f":"+F13-H13","v":0},"Récap 30/11",null,null,{"$f":"+J13-L13","v":0}]
[]
["DÉCEMBRE",null,null,null,"Situation fin décembre",null,null,null,"JANVIER"]
["RECETTES",null,"DEPENSES",null,null,"Recettes","Dépenses","Total","RECETTES",null,"DEPENSES"]
["Dates","Montant","Activités","Montant",{"$f":"A14","v":"Récap 30/09"},{"$f":"B13","v":0},{"$f":"D13","v":0},{"$f":"D14","v":0},"Dates","Montant","Activités","Montant"]
[null,null,null,null,{"$f":"E14","v":"Récap 31/10"},{"$f":"F13","v":0},{"$f":"H13","v":0},{"$f":"H14","v":0}]
[null,null,null,null,{"$f":"I14","v":"Récap 30/11"},{"$f":"J13","v":0},{"$f":"L13","v":0},{"$f":"L14","v":0}]
[null,null,null,null,{"$f":"A25","v":"Récap 31/12"},{"$f":"B24","v":0},{"$f":"D24","v":0},{"$f":"D25","v":0}]
[null,null,null,null,"Report Sept",null,null,{"$f":"B8","v":38}]
[null,null,null,null,"Situation 31/12",{"$f":"SUM(F18:F22)","v":0},{"$f":"SUM(G18:G22)","v":0},{"$f":"SUM(H18:H22)","v":38}]
[null,{"$f":"SUM(B19:B23)","v":0},null,{"$f":"SUM(D19:D23)","v":0},null,null,null,null,null,{"$f":"SUM(J19:J23)","v":0},null,{"$f":"SUM(L19:L23)","v":0}]
["Récap 31/12",null,null,{"$f":"+B24-D24","v":0},null,null,null,null,"Récap 31/01",null,null,{"$f":"+J24-L24","v":0}]
[]
["FÉVRIER",null,null,null,"MARS",null,null,null,"AVRIL"]
["RECETTES",null,"DEPENSES",null,"RECETTES",null,"DEPENSES",null,"RECETTES",null,"DEPENSES"]
["Dates","Montant","Activités","Montant","Dates","Montant","Activités","Montant","Dates","Montant","Activités","Montant"]
[]
[]
[]
[]
[]
[null,{"$f":"SUM(B30:B34)","v":0},null,{"$f":"SUM(D30:D34)","v":0},null,{"$f":"SUM(F30:F34)","v":0},null,{"$f":"SUM(H30:H34)","v":0},null,{"$f":"SUM(J30:J34)","v":0},null,{"$f":"SUM(L30:L34)","v":0}]
["Récap 28/02",null,null,{"$f":"+B35-D35","v":0},"Récap 31/03",null,null,{"$f":"+F35-H35","v":0},"Récap 30/04",null,null,{"$f":"+J35-L35","v":0}]
[]
[]
["MAI",null,null,null,"JUIN",null,null,null,"Situation fin juin"]
["RECETTES",null,"DEPENSES",null,"RECETTES",null,"DEPENSES",null,null,"Recettes","Dépenses","Total"]
["Dates","Montant","Activités","Montant","Dates","Montant","Activités","Montant",{"$f":"E23","v":"Situation 31/12"},null,null,{"$f":"H23","v":38}]
[null,null,null,null,null,null,null,null,{"$f":"I25","v":"Récap 31/01"},{"$f":"J24","v":0},{"$f":"L24","v":0},{"$f":"L25","v":0}]
[null,null,null,null,null,null,null,null,{"$f":"A36","v":"Récap 28/02"},{"$f":"B35","v":0},{"$f":"D35","v":0},{"$f":"D36","v":0}]
[null,null,null,null,null,null,null,null,{"$f":"E36","v":"Récap 31/03"},{"$f":"F35","v":0},{"$f":"H35","v":0},{"$f":"H36","v":0}]
[null,null,null,null,null,null,null,null,{"$f":"I36","v":"Récap 30/04"},{"$f":"J35","v":0},{"$f":"L35","v":0},{"$f":"L36","v":0}]
[null,null,null,null,null,null,null,null,{"$f":"A48","v":"Récap 31/05"},{"$f":"B47","v":0},{"$f":"D47","v":0},{"$f":"D48","v":0}]
[null,{"$f":"SUM(B42:B46)","v":0},null,{"$f":"SUM(D42:D46)","v":0},null,{"$f":"SUM(F42:F46)","v":0},null,{"$f":"SUM(H42:H46)","v":0},{"$f":"E48","v":"Récap 30/06"},{"$f":"F47","v":0},{"$f":"H47","v":0},{"$f":"H48","v":0}]
["Récap 31/05",null,null,{"$f":"+B47-D47","v":0},"Récap 30/06",null,null,{"$f":"+F47-H47","v":0},"Situation 30/06",{"$f":"SUM(J42:J47)","v":0},{"$f":"SUM(K42:K47)","v":0},{"$f":"SUM(L41:L47)","v":38}]
[]
[null,null,null,null,null,null,null,null,null,null,null,{"$f":"F23+J48-G23-K48+B8","v":38}]
[]
[null,null,null,null,null,null,null,null,null,{"$f":"B13+F13+J13+B24+J24+B35+F35+J35+B47+F47","v":0},{"$f":"D13+H13+L13+D24+L24+D35+H35+L35+D47+H47","v":0},{"$f":"B8+J52-K52","v":38}]

{"sheet":"HARVANEK","index":81,"n_rows":52,"n_cols":12,"rows_kept":52,"cut":false,"hidden":false,"merged":[[0,9,0,10],[2,1,2,2],[2,4,2,5],[2,8,2,9],[5,8,5,9],[5,10,5,11],[4,0,4,3],[4,4,4,7],[4,8,4,11],[5,0,5,1],[5,2,5,3],[5,4,5,5],[5,6,5,7],[24,0,24,2],[13,0,13,2],[13,4,13,6],[16,2,16,3],[37,9,37,10],[16,0,16,1],[27,6,27,7],[24,8,24,10],[38,8,38,11],[13,8,13,10],[15,0,15,3],[15,4,15,7],[15,8,15,11],[16,10,16,11],[26,0,26,3],[26,4,26,7],[26,8,26,11],[27,8,27,9],[35,0,35,2],[35,4,35,6],[35,8,35,10],[27,10,27,11],[16,8,16,9],[27,4,27,5],[47,0,47,2],[47,4,47,6],[38,0,38,3],[38,4,38,7],[39,4,39,5],[39,6,39,7]]}
[null,null,null,null,null,null,null,null,null,"Année scolaire : ",null,{"$f":"' Liste élèves'!B1","v":"2018-2019"}]
[]
["NOM : ",{"$f":"' Liste élèves'!A82","v":"HARVANEK"},null,"PRENOM:",{"$f":"' Liste élèves'!B82","v":"Aaron"},null,null,"CLASSE :",{"$f":"' Liste élèves'!C82","v":"Classe JB"}]
[]
["SEPTEMBRE",null,null,null,"OCTOBRE",null,null,null,"NOVEMBRE"]
["RECETTES",null,"DEPENSES",null,"RECETTES",null,"DEPENSES",null,"RECETTES",null,"DEPENSES"]
["Dates","Montant","Activités","Montant","Dates","Montant","Activités","Montant","Dates","Montant","Activités","Montant"]
["Report juin",0.55000000000000004]
[]
[]
[]
[]
[null,{"$f":"SUM(B9:B12)","v":0},null,{"$f":"SUM(D8:D12)","v":0},null,{"$f":"SUM(F8:F12)","v":0},null,{"$f":"SUM(H8:H12)","v":0},null,{"$f":"SUM(J8:J12)","v":0},null,{"$f":"SUM(L8:L12)","v":0}]
["Récap 30/09",null,null,{"$f":"+B13-D13","v":0},"Récap 31/10",null,null,{"$f":"+F13-H13","v":0},"Récap 30/11",null,null,{"$f":"+J13-L13","v":0}]
[]
["DÉCEMBRE",null,null,null,"Situation fin décembre",null,null,null,"JANVIER"]
["RECETTES",null,"DEPENSES",null,null,"Recettes","Dépenses","Total","RECETTES",null,"DEPENSES"]
["Dates","Montant","Activités","Montant",{"$f":"A14","v":"Récap 30/09"},{"$f":"B13","v":0},{"$f":"D13","v":0},{"$f":"D14","v":0},"Dates","Montant","Activités","Montant"]
[null,null,null,null,{"$f":"E14","v":"Récap 31/10"},{"$f":"F13","v":0},{"$f":"H13","v":0},{"$f":"H14","v":0}]
[null,null,null,null,{"$f":"I14","v":"Récap 30/11"},{"$f":"J13","v":0},{"$f":"L13","v":0},{"$f":"L14","v":0}]
[null,null,null,null,{"$f":"A25","v":"Récap 31/12"},{"$f":"B24","v":0},{"$f":"D24","v":0},{"$f":"D25","v":0}]
[null,null,null,null,"Report Sept",null,null,{"$f":"B8","v":0.55000000000000004}]
[null,null,null,null,"Situation 31/12",{"$f":"SUM(F18:F22)","v":0},{"$f":"SUM(G18:G22)","v":0},{"$f":"SUM(H18:H22)","v":0.55000000000000004}]
[null,{"$f":"SUM(B19:B23)","v":0},null,{"$f":"SUM(D19:D23)","v":0},null,null,null,null,null,{"$f":"SUM(J19:J23)","v":0},null,{"$f":"SUM(L19:L23)","v":0}]
["Récap 31/12",null,null,{"$f":"+B24-D24","v":0},null,null,null,null,"Récap 31/01",null,null,{"$f":"+J24-L24","v":0}]
[]
["FÉVRIER",null,null,null,"MARS",null,null,null,"AVRIL"]
["RECETTES",null,"DEPENSES",null,"RECETTES",null,"DEPENSES",null,"RECETTES",null,"DEPENSES"]
["Dates","Montant","Activités","Montant","Dates","Montant","Activités","Montant","Dates","Montant","Activités","Montant"]
[]
[]
[]
[]
[]
[null,{"$f":"SUM(B30:B34)","v":0},null,{"$f":"SUM(D30:D34)","v":0},null,{"$f":"SUM(F30:F34)","v":0},null,{"$f":"SUM(H30:H34)","v":0},null,{"$f":"SUM(J30:J34)","v":0},null,{"$f":"SUM(L30:L34)","v":0}]
["Récap 28/02",null,null,{"$f":"+B35-D35","v":0},"Récap 31/03",null,null,{"$f":"+F35-H35","v":0},"Récap 30/04",null,null,{"$f":"+J35-L35","v":0}]
[]
[]
["MAI",null,null,null,"JUIN",null,null,null,"Situation fin juin"]
["RECETTES",null,"DEPENSES",null,"RECETTES",null,"DEPENSES",null,null,"Recettes","Dépenses","Total"]
["Dates","Montant","Activités","Montant","Dates","Montant","Activités","Montant",{"$f":"E23","v":"Situation 31/12"},null,null,{"$f":"H23","v":0.55000000000000004}]
[null,null,null,null,null,null,null,null,{"$f":"I25","v":"Récap 31/01"},{"$f":"J24","v":0},{"$f":"L24","v":0},{"$f":"L25","v":0}]
[null,null,null,null,null,null,null,null,{"$f":"A36","v":"Récap 28/02"},{"$f":"B35","v":0},{"$f":"D35","v":0},{"$f":"D36","v":0}]
[null,null,null,null,null,null,null,null,{"$f":"E36","v":"Récap 31/03"},{"$f":"F35","v":0},{"$f":"H35","v":0},{"$f":"H36","v":0}]
[null,null,null,null,null,null,null,null,{"$f":"I36","v":"Récap 30/04"},{"$f":"J35","v":0},{"$f":"L35","v":0},{"$f":"L36","v":0}]
[null,null,null,null,null,null,null,null,{"$f":"A48","v":"Récap 31/05"},{"$f":"B47","v":0},{"$f":"D47","v":0},{"$f":"D48","v":0}]
[null,{"$f":"SUM(B42:B46)","v":0},null,{"$f":"SUM(D42:D46)","v":0},null,{"$f":"SUM(F42:F46)","v":0},null,{"$f":"SUM(H42:H46)","v":0},{"$f":"E48","v":"Récap 30/06"},{"$f":"F47","v":0},{"$f":"H47","v":0},{"$f":"H48","v":0}]
["Récap 31/05",null,null,{"$f":"+B47-D47","v":0},"Récap 30/06",null,null,{"$f":"+F47-H47","v":0},"Situation 30/06",{"$f":"SUM(J42:J47)","v":0},{"$f":"SUM(K42:K47)","v":0},{"$f":"SUM(L41:L47)","v":0.55000000000000004}]
[]
[null,null,null,null,null,null,null,null,null,null,null,{"$f":"F23+J48-G23-K48+B8","v":0.55000000000000004}]
[]
[null,null,null,null,null,null,null,null,null,{"$f":"B13+F13+J13+B24+J24+B35+F35+J35+B47+F47","v":0},{"$f":"D13+H13+L13+D24+L24+D35+H35+L35+D47+H47","v":0},{"$f":"B8+J52-K52","v":0.55000000000000004}]

{"sheet":"HECQUET","index":82,"n_rows":52,"n_cols":12,"rows_kept":52,"cut":false,"hidden":false,"merged":[[0,9,0,10],[2,1,2,2],[2,4,2,5],[2,8,2,9],[5,8,5,9],[5,10,5,11],[4,0,4,3],[4,4,4,7],[4,8,4,11],[5,0,5,1],[5,2,5,3],[5,4,5,5],[5,6,5,7],[24,0,24,2],[13,0,13,2],[13,4,13,6],[16,2,16,3],[37,9,37,10],[16,0,16,1],[27,6,27,7],[24,8,24,10],[38,8,38,11],[13,8,13,10],[15,0,15,3],[15,4,15,7],[15,8,15,11],[16,10,16,11],[26,0,26,3],[26,4,26,7],[26,8,26,11],[27,8,27,9],[35,0,35,2],[35,4,35,6],[35,8,35,10],[27,10,27,11],[16,8,16,9],[27,4,27,5],[47,0,47,2],[47,4,47,6],[38,0,38,3],[38,4,38,7],[39,4,39,5],[39,6,39,7]]}
[null,null,null,null,null,null,null,null,null,"Année scolaire : ",null,{"$f":"' Liste élèves'!B1","v":"2018-2019"}]
[]
["NOM : ",{"$f":"' Liste élèves'!A83","v":"HECQUET"},null,"PRENOM:",{"$f":"' Liste élèves'!B83","v":"Alicia"},null,null,"CLASSE :",{"$f":"' Liste élèves'!C83","v":"Classe MC"}]
[]
["SEPTEMBRE",null,null,null,"OCTOBRE",null,null,null,"NOVEMBRE"]
["RECETTES",null,"DEPENSES",null,"RECETTES",null,"DEPENSES",null,"RECETTES",null,"DEPENSES"]
["Dates","Montant","Activités","Montant","Dates","Montant","Activités","Montant","Dates","Montant","Activités","Montant"]
["Report juin",41.02]
[]
[]
[]
[]
[null,{"$f":"SUM(B9:B12)","v":0},null,{"$f":"SUM(D8:D12)","v":0},null,{"$f":"SUM(F8:F12)","v":0},null,{"$f":"SUM(H8:H12)","v":0},null,{"$f":"SUM(J8:J12)","v":0},null,{"$f":"SUM(L8:L12)","v":0}]
["Récap 30/09",null,null,{"$f":"+B13-D13","v":0},"Récap 31/10",null,null,{"$f":"+F13-H13","v":0},"Récap 30/11",null,null,{"$f":"+J13-L13","v":0}]
[]
["DÉCEMBRE",null,null,null,"Situation fin décembre",null,null,null,"JANVIER"]
["RECETTES",null,"DEPENSES",null,null,"Recettes","Dépenses","Total","RECETTES",null,"DEPENSES"]
["Dates","Montant","Activités","Montant",{"$f":"A14","v":"Récap 30/09"},{"$f":"B13","v":0},{"$f":"D13","v":0},{"$f":"D14","v":0},"Dates","Montant","Activités","Montant"]
[null,null,null,null,{"$f":"E14","v":"Récap 31/10"},{"$f":"F13","v":0},{"$f":"H13","v":0},{"$f":"H14","v":0}]
[null,null,null,null,{"$f":"I14","v":"Récap 30/11"},{"$f":"J13","v":0},{"$f":"L13","v":0},{"$f":"L14","v":0}]
[null,null,null,null,{"$f":"A25","v":"Récap 31/12"},{"$f":"B24","v":0},{"$f":"D24","v":0},{"$f":"D25","v":0}]
[null,null,null,null,"Report Sept",null,null,{"$f":"B8","v":41.02}]
[null,null,null,null,"Situation 31/12",{"$f":"SUM(F18:F22)","v":0},{"$f":"SUM(G18:G22)","v":0},{"$f":"SUM(H18:H22)","v":41.02}]
[null,{"$f":"SUM(B19:B23)","v":0},null,{"$f":"SUM(D19:D23)","v":0},null,null,null,null,null,{"$f":"SUM(J19:J23)","v":0},null,{"$f":"SUM(L19:L23)","v":0}]
["Récap 31/12",null,null,{"$f":"+B24-D24","v":0},null,null,null,null,"Récap 31/01",null,null,{"$f":"+J24-L24","v":0}]
[]
["FÉVRIER",null,null,null,"MARS",null,null,null,"AVRIL"]
["RECETTES",null,"DEPENSES",null,"RECETTES",null,"DEPENSES",null,"RECETTES",null,"DEPENSES"]
["Dates","Montant","Activités","Montant","Dates","Montant","Activités","Montant","Dates","Montant","Activités","Montant"]
[]
[]
[]
[]
[]
[null,{"$f":"SUM(B30:B34)","v":0},null,{"$f":"SUM(D30:D34)","v":0},null,{"$f":"SUM(F30:F34)","v":0},null,{"$f":"SUM(H30:H34)","v":0},null,{"$f":"SUM(J30:J34)","v":0},null,{"$f":"SUM(L30:L34)","v":0}]
["Récap 28/02",null,null,{"$f":"+B35-D35","v":0},"Récap 31/03",null,null,{"$f":"+F35-H35","v":0},"Récap 30/04",null,null,{"$f":"+J35-L35","v":0}]
[]
[]
["MAI",null,null,null,"JUIN",null,null,null,"Situation fin juin"]
["RECETTES",null,"DEPENSES",null,"RECETTES",null,"DEPENSES",null,null,"Recettes","Dépenses","Total"]
["Dates","Montant","Activités","Montant","Dates","Montant","Activités","Montant",{"$f":"E23","v":"Situation 31/12"},null,null,{"$f":"H23","v":41.02}]
[null,null,null,null,null,null,null,null,{"$f":"I25","v":"Récap 31/01"},{"$f":"J24","v":0},{"$f":"L24","v":0},{"$f":"L25","v":0}]
[null,null,null,null,null,null,null,null,{"$f":"A36","v":"Récap 28/02"},{"$f":"B35","v":0},{"$f":"D35","v":0},{"$f":"D36","v":0}]
[null,null,null,null,null,null,null,null,{"$f":"E36","v":"Récap 31/03"},{"$f":"F35","v":0},{"$f":"H35","v":0},{"$f":"H36","v":0}]
[null,null,null,null,null,null,null,null,{"$f":"I36","v":"Récap 30/04"},{"$f":"J35","v":0},{"$f":"L35","v":0},{"$f":"L36","v":0}]
[null,null,null,null,null,null,null,null,{"$f":"A48","v":"Récap 31/05"},{"$f":"B47","v":0},{"$f":"D47","v":0},{"$f":"D48","v":0}]
[null,{"$f":"SUM(B42:B46)","v":0},null,{"$f":"SUM(D42:D46)","v":0},null,{"$f":"SUM(F42:F46)","v":0},null,{"$f":"SUM(H42:H46)","v":0},{"$f":"E48","v":"Récap 30/06"},{"$f":"F47","v":0},{"$f":"H47","v":0},{"$f":"H48","v":0}]
["Récap 31/05",null,null,{"$f":"+B47-D47","v":0},"Récap 30/06",null,null,{"$f":"+F47-H47","v":0},"Situation 30/06",{"$f":"SUM(J42:J47)","v":0},{"$f":"SUM(K42:K47)","v":0},{"$f":"SUM(L41:L47)","v":41.02}]
[]
[null,null,null,null,null,null,null,null,null,null,null,{"$f":"F23+J48-G23-K48+B8","v":41.02}]
[]
[null,null,null,null,null,null,null,null,null,{"$f":"B13+F13+J13+B24+J24+B35+F35+J35+B47+F47","v":0},{"$f":"D13+H13+L13+D24+L24+D35+H35+L35+D47+H47","v":0},{"$f":"B8+J52-K52","v":41.02}]

{"sheet":"HEMBISE","index":83,"n_rows":52,"n_cols":12,"rows_kept":52,"cut":false,"hidden":false,"merged":[[0,9,0,10],[2,1,2,2],[2,4,2,5],[2,8,2,9],[5,8,5,9],[5,10,5,11],[4,0,4,3],[4,4,4,7],[4,8,4,11],[5,0,5,1],[5,2,5,3],[5,4,5,5],[5,6,5,7],[24,0,24,2],[13,0,13,2],[13,4,13,6],[16,2,16,3],[37,9,37,10],[16,0,16,1],[27,6,27,7],[24,8,24,10],[38,8,38,11],[13,8,13,10],[15,0,15,3],[15,4,15,7],[15,8,15,11],[16,10,16,11],[26,0,26,3],[26,4,26,7],[26,8,26,11],[27,8,27,9],[35,0,35,2],[35,4,35,6],[35,8,35,10],[27,10,27,11],[16,8,16,9],[27,4,27,5],[47,0,47,2],[47,4,47,6],[38,0,38,3],[38,4,38,7],[39,4,39,5],[39,6,39,7]]}
[null,null,null,null,null,null,null,null,null,"Année scolaire : ",null,{"$f":"' Liste élèves'!B1","v":"2018-2019"}]
[]
["NOM : ",{"$f":"' Liste élèves'!A84","v":"HEMBISE"},null,"PRENOM:",{"$f":"' Liste élèves'!B84","v":"Vanessa"},null,null,"CLASSE :",{"$f":"' Liste élèves'!C84","v":"Classe 11"}]
[]
["SEPTEMBRE",null,null,null,"OCTOBRE",null,null,null,"NOVEMBRE"]
["RECETTES",null,"DEPENSES",null,"RECETTES",null,"DEPENSES",null,"RECETTES",null,"DEPENSES"]
["Dates","Montant","Activités","Montant","Dates","Montant","Activités","Montant","Dates","Montant","Activités","Montant"]
["Report juin",60]
[]
[]
[]
[]
[null,{"$f":"SUM(B9:B12)","v":0},null,{"$f":"SUM(D8:D12)","v":0},null,{"$f":"SUM(F8:F12)","v":0},null,{"$f":"SUM(H8:H12)","v":0},null,{"$f":"SUM(J8:J12)","v":0},null,{"$f":"SUM(L8:L12)","v":0}]
["Récap 30/09",null,null,{"$f":"+B13-D13","v":0},"Récap 31/10",null,null,{"$f":"+F13-H13","v":0},"Récap 30/11",null,null,{"$f":"+J13-L13","v":0}]
[]
["DÉCEMBRE",null,null,null,"Situation fin décembre",null,null,null,"JANVIER"]
["RECETTES",null,"DEPENSES",null,null,"Recettes","Dépenses","Total","RECETTES",null,"DEPENSES"]
["Dates","Montant","Activités","Montant",{"$f":"A14","v":"Récap 30/09"},{"$f":"B13","v":0},{"$f":"D13","v":0},{"$f":"D14","v":0},"Dates","Montant","Activités","Montant"]
[null,null,null,null,{"$f":"E14","v":"Récap 31/10"},{"$f":"F13","v":0},{"$f":"H13","v":0},{"$f":"H14","v":0}]
[null,null,null,null,{"$f":"I14","v":"Récap 30/11"},{"$f":"J13","v":0},{"$f":"L13","v":0},{"$f":"L14","v":0}]
[null,null,null,null,{"$f":"A25","v":"Récap 31/12"},{"$f":"B24","v":0},{"$f":"D24","v":0},{"$f":"D25","v":0}]
[null,null,null,null,"Report Sept",null,null,{"$f":"B8","v":60}]
[null,null,null,null,"Situation 31/12",{"$f":"SUM(F18:F22)","v":0},{"$f":"SUM(G18:G22)","v":0},{"$f":"SUM(H18:H22)","v":60}]
[null,{"$f":"SUM(B19:B23)","v":0},null,{"$f":"SUM(D19:D23)","v":0},null,null,null,null,null,{"$f":"SUM(J19:J23)","v":0},null,{"$f":"SUM(L19:L23)","v":0}]
["Récap 31/12",null,null,{"$f":"+B24-D24","v":0},null,null,null,null,"Récap 31/01",null,null,{"$f":"+J24-L24","v":0}]
[]
["FÉVRIER",null,null,null,"MARS",null,null,null,"AVRIL"]
["RECETTES",null,"DEPENSES",null,"RECETTES",null,"DEPENSES",null,"RECETTES",null,"DEPENSES"]
["Dates","Montant","Activités","Montant","Dates","Montant","Activités","Montant","Dates","Montant","Activités","Montant"]
[]
[]
[]
[]
[]
[null,{"$f":"SUM(B30:B34)","v":0},null,{"$f":"SUM(D30:D34)","v":0},null,{"$f":"SUM(F30:F34)","v":0},null,{"$f":"SUM(H30:H34)","v":0},null,{"$f":"SUM(J30:J34)","v":0},null,{"$f":"SUM(L30:L34)","v":0}]
["Récap 28/02",null,null,{"$f":"+B35-D35","v":0},"Récap 31/03",null,null,{"$f":"+F35-H35","v":0},"Récap 30/04",null,null,{"$f":"+J35-L35","v":0}]
[]
[]
["MAI",null,null,null,"JUIN",null,null,null,"Situation fin juin"]
["RECETTES",null,"DEPENSES",null,"RECETTES",null,"DEPENSES",null,null,"Recettes","Dépenses","Total"]
["Dates","Montant","Activités","Montant","Dates","Montant","Activités","Montant",{"$f":"E23","v":"Situation 31/12"},null,null,{"$f":"H23","v":60}]
[null,null,null,null,null,null,null,null,{"$f":"I25","v":"Récap 31/01"},{"$f":"J24","v":0},{"$f":"L24","v":0},{"$f":"L25","v":0}]
[null,null,null,null,null,null,null,null,{"$f":"A36","v":"Récap 28/02"},{"$f":"B35","v":0},{"$f":"D35","v":0},{"$f":"D36","v":0}]
[null,null,null,null,null,null,null,null,{"$f":"E36","v":"Récap 31/03"},{"$f":"F35","v":0},{"$f":"H35","v":0},{"$f":"H36","v":0}]
[null,null,null,null,null,null,null,null,{"$f":"I36","v":"Récap 30/04"},{"$f":"J35","v":0},{"$f":"L35","v":0},{"$f":"L36","v":0}]
[null,null,null,null,null,null,null,null,{"$f":"A48","v":"Récap 31/05"},{"$f":"B47","v":0},{"$f":"D47","v":0},{"$f":"D48","v":0}]
[null,{"$f":"SUM(B42:B46)","v":0},null,{"$f":"SUM(D42:D46)","v":0},null,{"$f":"SUM(F42:F46)","v":0},null,{"$f":"SUM(H42:H46)","v":0},{"$f":"E48","v":"Récap 30/06"},{"$f":"F47","v":0},{"$f":"H47","v":0},{"$f":"H48","v":0}]
["Récap 31/05",null,null,{"$f":"+B47-D47","v":0},"Récap 30/06",null,null,{"$f":"+F47-H47","v":0},"Situation 30/06",{"$f":"SUM(J42:J47)","v":0},{"$f":"SUM(K42:K47)","v":0},{"$f":"SUM(L41:L47)","v":60}]
[]
[null,null,null,null,null,null,null,null,null,null,null,{"$f":"F23+J48-G23-K48+B8","v":60}]
[]
[null,null,null,null,null,null,null,null,null,{"$f":"B13+F13+J13+B24+J24+B35+F35+J35+B47+F47","v":0},{"$f":"D13+H13+L13+D24+L24+D35+H35+L35+D47+H47","v":0},{"$f":"B8+J52-K52","v":60}]

{"sheet":"HOUART","index":84,"n_rows":52,"n_cols":12,"rows_kept":52,"cut":false,"hidden":false,"merged":[[39,4,39,5],[39,6,39,7],[47,0,47,2],[47,4,47,6],[35,0,35,2],[35,4,35,6],[35,8,35,10],[37,9,37,10],[38,0,38,3],[38,4,38,7],[38,8,38,11],[26,0,26,3],[26,4,26,7],[26,8,26,11],[27,4,27,5],[27,6,27,7],[27,8,27,9],[27,10,27,11],[16,0,16,1],[16,2,16,3],[16,8,16,9],[16,10,16,11],[24,0,24,2],[24,8,24,10],[13,0,13,2],[13,4,13,6],[13,8,13,10],[15,0,15,3],[15,4,15,7],[15,8,15,11],[5,10,5,11],[0,9,0,10],[2,1,2,2],[2,4,2,5],[2,8,2,9],[4,0,4,3],[4,4,4,7],[4,8,4,11],[5,0,5,1],[5,2,5,3],[5,4,5,5],[5,6,5,7],[5,8,5,9]]}
[null,null,null,null,null,null,null,null,null,"Année scolaire : ",null,{"$f":"' Liste élèves'!B1","v":"2018-2019"}]
[]
["NOM : ",{"$f":"' Liste élèves'!A85","v":"HOUART"},null,"PRENOM:",{"$f":"' Liste élèves'!B85","v":"Logan"},null,null,"CLASSE :",{"$f":"' Liste élèves'!C85","v":"Classe 11"}]
[]
["SEPTEMBRE",null,null,null,"OCTOBRE",null,null,null,"NOVEMBRE"]
["RECETTES",null,"DEPENSES",null,"RECETTES",null,"DEPENSES",null,"RECETTES",null,"DEPENSES"]
["Dates","Montant","Activités","Montant","Dates","Montant","Activités","Montant","Dates","Montant","Activités","Montant"]
["Report juin",48.71]
[]
[]
[]
[]
[null,{"$f":"SUM(B9:B12)","v":0},null,{"$f":"SUM(D8:D12)","v":0},null,{"$f":"SUM(F8:F12)","v":0},null,{"$f":"SUM(H8:H12)","v":0},null,{"$f":"SUM(J8:J12)","v":0},null,{"$f":"SUM(L8:L12)","v":0}]
["Récap 30/09",null,null,{"$f":"+B13-D13","v":0},"Récap 31/10",null,null,{"$f":"+F13-H13","v":0},"Récap 30/11",null,null,{"$f":"+J13-L13","v":0}]
[]
["DÉCEMBRE",null,null,null,"Situation fin décembre",null,null,null,"JANVIER"]
["RECETTES",null,"DEPENSES",null,null,"Recettes","Dépenses","Total","RECETTES",null,"DEPENSES"]
["Dates","Montant","Activités","Montant",{"$f":"A14","v":"Récap 30/09"},{"$f":"B13","v":0},{"$f":"D13","v":0},{"$f":"D14","v":0},"Dates","Montant","Activités","Montant"]
[null,null,null,null,{"$f":"E14","v":"Récap 31/10"},{"$f":"F13","v":0},{"$f":"H13","v":0},{"$f":"H14","v":0}]
[null,null,null,null,{"$f":"I14","v":"Récap 30/11"},{"$f":"J13","v":0},{"$f":"L13","v":0},{"$f":"L14","v":0}]
[null,null,null,null,{"$f":"A25","v":"Récap 31/12"},{"$f":"B24","v":0},{"$f":"D24","v":0},{"$f":"D25","v":0}]
[null,null,null,null,"Report Sept",null,null,{"$f":"B8","v":48.71}]
[null,null,null,null,"Situation 31/12",{"$f":"SUM(F18:F22)","v":0},{"$f":"SUM(G18:G22)","v":0},{"$f":"SUM(H18:H22)","v":48.71}]
[null,{"$f":"SUM(B19:B23)","v":0},null,{"$f":"SUM(D19:D23)","v":0},null,null,null,null,null,{"$f":"SUM(J19:J23)","v":0},null,{"$f":"SUM(L19:L23)","v":0}]
["Récap 31/12",null,null,{"$f":"+B24-D24","v":0},null,null,null,null,"Récap 31/01",null,null,{"$f":"+J24-L24","v":0}]
[]
["FÉVRIER",null,null,null,"MARS",null,null,null,"AVRIL"]
["RECETTES",null,"DEPENSES",null,"RECETTES",null,"DEPENSES",null,"RECETTES",null,"DEPENSES"]
["Dates","Montant","Activités","Montant","Dates","Montant","Activités","Montant","Dates","Montant","Activités","Montant"]
[]
[]
[]
[]
[]
[null,{"$f":"SUM(B30:B34)","v":0},null,{"$f":"SUM(D30:D34)","v":0},null,{"$f":"SUM(F30:F34)","v":0},null,{"$f":"SUM(H30:H34)","v":0},null,{"$f":"SUM(J30:J34)","v":0},null,{"$f":"SUM(L30:L34)","v":0}]
["Récap 28/02",null,null,{"$f":"+B35-D35","v":0},"Récap 31/03",null,null,{"$f":"+F35-H35","v":0},"Récap 30/04",null,null,{"$f":"+J35-L35","v":0}]
[]
[]
["MAI",null,null,null,"JUIN",null,null,null,"Situation fin juin"]
["RECETTES",null,"DEPENSES",null,"RECETTES",null,"DEPENSES",null,null,"Recettes","Dépenses","Total"]
["Dates","Montant","Activités","Montant","Dates","Montant","Activités","Montant",{"$f":"E23","v":"Situation 31/12"},null,null,{"$f":"H23","v":48.71}]
[null,null,null,null,null,null,null,null,{"$f":"I25","v":"Récap 31/01"},{"$f":"J24","v":0},{"$f":"L24","v":0},{"$f":"L25","v":0}]
[null,null,null,null,null,null,null,null,{"$f":"A36","v":"Récap 28/02"},{"$f":"B35","v":0},{"$f":"D35","v":0},{"$f":"D36","v":0}]
[null,null,null,null,null,null,null,null,{"$f":"E36","v":"Récap 31/03"},{"$f":"F35","v":0},{"$f":"H35","v":0},{"$f":"H36","v":0}]
[null,null,null,null,null,null,null,null,{"$f":"I36","v":"Récap 30/04"},{"$f":"J35","v":0},{"$f":"L35","v":0},{"$f":"L36","v":0}]
[null,null,null,null,null,null,null,null,{"$f":"A48","v":"Récap 31/05"},{"$f":"B47","v":0},{"$f":"D47","v":0},{"$f":"D48","v":0}]
[null,{"$f":"SUM(B42:B46)","v":0},null,{"$f":"SUM(D42:D46)","v":0},null,{"$f":"SUM(F42:F46)","v":0},null,{"$f":"SUM(H42:H46)","v":0},{"$f":"E48","v":"Récap 30/06"},{"$f":"F47","v":0},{"$f":"H47","v":0},{"$f":"H48","v":0}]
["Récap 31/05",null,null,{"$f":"+B47-D47","v":0},"Récap 30/06",null,null,{"$f":"+F47-H47","v":0},"Situation 30/06",{"$f":"SUM(J42:J47)","v":0},{"$f":"SUM(K42:K47)","v":0},{"$f":"SUM(L41:L47)","v":48.71}]
[]
[null,null,null,null,null,null,null,null,null,null,null,{"$f":"F23+J48-G23-K48+B8","v":48.71}]
[]
[null,null,null,null,null,null,null,null,null,{"$f":"B13+F13+J13+B24+J24+B35+F35+J35+B47+F47","v":0},{"$f":"D13+H13+L13+D24+L24+D35+H35+L35+D47+H47","v":0},{"$f":"B8+J52-K52","v":48.71}]

{"sheet":"HUBLETG","index":85,"n_rows":52,"n_cols":12,"rows_kept":52,"cut":false,"hidden":false,"merged":[[0,9,0,10],[2,1,2,2],[2,4,2,5],[2,8,2,9],[5,8,5,9],[5,10,5,11],[4,0,4,3],[4,4,4,7],[4,8,4,11],[5,0,5,1],[5,2,5,3],[5,4,5,5],[5,6,5,7],[24,0,24,2],[13,0,13,2],[13,4,13,6],[16,2,16,3],[37,9,37,10],[16,0,16,1],[27,6,27,7],[24,8,24,10],[38,8,38,11],[13,8,13,10],[15,0,15,3],[15,4,15,7],[15,8,15,11],[16,10,16,11],[26,0,26,3],[26,4,26,7],[26,8,26,11],[27,8,27,9],[35,0,35,2],[35,4,35,6],[35,8,35,10],[27,10,27,11],[16,8,16,9],[27,4,27,5],[47,0,47,2],[47,4,47,6],[38,0,38,3],[38,4,38,7],[39,4,39,5],[39,6,39,7]]}
[null,null,null,null,null,null,null,null,null,"Année scolaire : ",null,{"$f":"' Liste élèves'!B1","v":"2018-2019"}]
[]
["NOM : ",{"$f":"' Liste élèves'!A86","v":"HUBLETG"},null,"PRENOM:",{"$f":"' Liste élèves'!B86","v":"Giuseppe"},null,null,"CLASSE :",{"$f":"' Liste élèves'!C86","v":"Classe PA"}]
[]
["SEPTEMBRE",null,null,null,"OCTOBRE",null,null,null,"NOVEMBRE"]
["RECETTES",null,"DEPENSES",null,"RECETTES",null,"DEPENSES",null,"RECETTES",null,"DEPENSES"]
["Dates","Montant","Activités","Montant","Dates","Montant","Activités","Montant","Dates","Montant","Activités","Montant"]
["Report juin"]
[]
[]
[]
[]
[null,{"$f":"SUM(B9:B12)","v":0},null,{"$f":"SUM(D8:D12)","v":0},null,{"$f":"SUM(F8:F12)","v":0},null,{"$f":"SUM(H8:H12)","v":0},null,{"$f":"SUM(J8:J12)","v":0},null,{"$f":"SUM(L8:L12)","v":0}]
["Récap 30/09",null,null,{"$f":"+B13-D13","v":0},"Récap 31/10",null,null,{"$f":"+F13-H13","v":0},"Récap 30/11",null,null,{"$f":"+J13-L13","v":0}]
[]
["DÉCEMBRE",null,null,null,"Situation fin décembre",null,null,null,"JANVIER"]
["RECETTES",null,"DEPENSES",null,null,"Recettes","Dépenses","Total","RECETTES",null,"DEPENSES"]
["Dates","Montant","Activités","Montant",{"$f":"A14","v":"Récap 30/09"},{"$f":"B13","v":0},{"$f":"D13","v":0},{"$f":"D14","v":0},"Dates","Montant","Activités","Montant"]
[null,null,null,null,{"$f":"E14","v":"Récap 31/10"},{"$f":"F13","v":0},{"$f":"H13","v":0},{"$f":"H14","v":0}]
[null,null,null,null,{"$f":"I14","v":"Récap 30/11"},{"$f":"J13","v":0},{"$f":"L13","v":0},{"$f":"L14","v":0}]
[null,null,null,null,{"$f":"A25","v":"Récap 31/12"},{"$f":"B24","v":0},{"$f":"D24","v":0},{"$f":"D25","v":0}]
[null,null,null,null,"Report Sept",null,null,{"$f":"B8","v":0}]
[null,null,null,null,"Situation 31/12",{"$f":"SUM(F18:F22)","v":0},{"$f":"SUM(G18:G22)","v":0},{"$f":"SUM(H18:H22)","v":0}]
[null,{"$f":"SUM(B19:B23)","v":0},null,{"$f":"SUM(D19:D23)","v":0},null,null,null,null,null,{"$f":"SUM(J19:J23)","v":0},null,{"$f":"SUM(L19:L23)","v":0}]
["Récap 31/12",null,null,{"$f":"+B24-D24","v":0},null,null,null,null,"Récap 31/01",null,null,{"$f":"+J24-L24","v":0}]
[]
["FÉVRIER",null,null,null,"MARS",null,null,null,"AVRIL"]
["RECETTES",null,"DEPENSES",null,"RECETTES",null,"DEPENSES",null,"RECETTES",null,"DEPENSES"]
["Dates","Montant","Activités","Montant","Dates","Montant","Activités","Montant","Dates","Montant","Activités","Montant"]
[]
[]
[]
[]
[]
[null,{"$f":"SUM(B30:B34)","v":0},null,{"$f":"SUM(D30:D34)","v":0},null,{"$f":"SUM(F30:F34)","v":0},null,{"$f":"SUM(H30:H34)","v":0},null,{"$f":"SUM(J30:J34)","v":0},null,{"$f":"SUM(L30:L34)","v":0}]
["Récap 28/02",null,null,{"$f":"+B35-D35","v":0},"Récap 31/03",null,null,{"$f":"+F35-H35","v":0},"Récap 30/04",null,null,{"$f":"+J35-L35","v":0}]
[]
[]
["MAI",null,null,null,"JUIN",null,null,null,"Situation fin juin"]
["RECETTES",null,"DEPENSES",null,"RECETTES",null,"DEPENSES",null,null,"Recettes","Dépenses","Total"]
["Dates","Montant","Activités","Montant","Dates","Montant","Activités","Montant",{"$f":"E23","v":"Situation 31/12"},null,null,{"$f":"H23","v":0}]
[null,null,null,null,null,null,null,null,{"$f":"I25","v":"Récap 31/01"},{"$f":"J24","v":0},{"$f":"L24","v":0},{"$f":"L25","v":0}]
[null,null,null,null,null,null,null,null,{"$f":"A36","v":"Récap 28/02"},{"$f":"B35","v":0},{"$f":"D35","v":0},{"$f":"D36","v":0}]
[null,null,null,null,null,null,null,null,{"$f":"E36","v":"Récap 31/03"},{"$f":"F35","v":0},{"$f":"H35","v":0},{"$f":"H36","v":0}]
[null,null,null,null,null,null,null,null,{"$f":"I36","v":"Récap 30/04"},{"$f":"J35","v":0},{"$f":"L35","v":0},{"$f":"L36","v":0}]
[null,null,null,null,null,null,null,null,{"$f":"A48","v":"Récap 31/05"},{"$f":"B47","v":0},{"$f":"D47","v":0},{"$f":"D48","v":0}]
[null,{"$f":"SUM(B42:B46)","v":0},null,{"$f":"SUM(D42:D46)","v":0},null,{"$f":"SUM(F42:F46)","v":0},null,{"$f":"SUM(H42:H46)","v":0},{"$f":"E48","v":"Récap 30/06"},{"$f":"F47","v":0},{"$f":"H47","v":0},{"$f":"H48","v":0}]
["Récap 31/05",null,null,{"$f":"+B47-D47","v":0},"Récap 30/06",null,null,{"$f":"+F47-H47","v":0},"Situation 30/06",{"$f":"SUM(J42:J47)","v":0},{"$f":"SUM(K42:K47)","v":0},{"$f":"SUM(L41:L47)","v":0}]
[]
[null,null,null,null,null,null,null,null,null,null,null,{"$f":"F23+J48-G23-K48+B8","v":0}]
[]
[null,null,null,null,null,null,null,null,null,{"$f":"B13+F13+J13+B24+J24+B35+F35+J35+B47+F47","v":0},{"$f":"D13+H13+L13+D24+L24+D35+H35+L35+D47+H47","v":0},{"$f":"B8+J52-K52","v":0}]

{"sheet":"HUBLETO","index":86,"n_rows":52,"n_cols":12,"rows_kept":52,"cut":false,"hidden":false,"merged":[[5,10,5,11],[0,9,0,10],[2,1,2,2],[2,4,2,5],[2,8,2,9],[4,0,4,3],[4,4,4,7],[4,8,4,11],[5,0,5,1],[5,2,5,3],[5,4,5,5],[5,6,5,7],[5,8,5,9],[13,0,13,2],[13,4,13,6],[13,8,13,10],[15,0,15,3],[15,4,15,7],[15,8,15,11],[16,0,16,1],[16,2,16,3],[16,8,16,9],[16,10,16,11],[24,0,24,2],[24,8,24,10],[26,0,26,3],[26,4,26,7],[26,8,26,11],[27,4,27,5],[27,6,27,7],[27,8,27,9],[27,10,27,11],[35,8,35,10],[37,9,37,10],[38,0,38,3],[38,4,38,7],[38,8,38,11],[39,4,39,5],[39,6,39,7],[47,0,47,2],[47,4,47,6],[35,0,35,2],[35,4,35,6]]}
[null,null,null,null,null,null,null,null,null,"Année scolaire : ",null,{"$f":"' Liste élèves'!B1","v":"2018-2019"}]
[]
["NOM : ",{"$f":"' Liste élèves'!A87","v":"HUBLETO"},null,"PRENOM:",{"$f":"' Liste élèves'!B87","v":"Ornella"},null,null,"CLASSE :",{"$f":"' Liste élèves'!C87","v":"Classe 2"}]
[]
["SEPTEMBRE",null,null,null,"OCTOBRE",null,null,null,"NOVEMBRE"]
["RECETTES",null,"DEPENSES",null,"RECETTES",null,"DEPENSES",null,"RECETTES",null,"DEPENSES"]
["Dates","Montant","Activités","Montant","Dates","Montant","Activités","Montant","Dates","Montant","Activités","Montant"]
["Report juin",36.42]
[]
[]
[]
[]
[null,{"$f":"SUM(B9:B12)","v":0},null,{"$f":"SUM(D8:D12)","v":0},null,{"$f":"SUM(F8:F12)","v":0},null,{"$f":"SUM(H8:H12)","v":0},null,{"$f":"SUM(J8:J12)","v":0},null,{"$f":"SUM(L8:L12)","v":0}]
["Récap 30/09",null,null,{"$f":"+B13-D13","v":0},"Récap 31/10",null,null,{"$f":"+F13-H13","v":0},"Récap 30/11",null,null,{"$f":"+J13-L13","v":0}]
[]
["DÉCEMBRE",null,null,null,"Situation fin décembre",null,null,null,"JANVIER"]
["RECETTES",null,"DEPENSES",null,null,"Recettes","Dépenses","Total","RECETTES",null,"DEPENSES"]
["Dates","Montant","Activités","Montant",{"$f":"A14","v":"Récap 30/09"},{"$f":"B13","v":0},{"$f":"D13","v":0},{"$f":"D14","v":0},"Dates","Montant","Activités","Montant"]
[null,null,null,null,{"$f":"E14","v":"Récap 31/10"},{"$f":"F13","v":0},{"$f":"H13","v":0},{"$f":"H14","v":0}]
[null,null,null,null,{"$f":"I14","v":"Récap 30/11"},{"$f":"J13","v":0},{"$f":"L13","v":0},{"$f":"L14","v":0}]
[null,null,null,null,{"$f":"A25","v":"Récap 31/12"},{"$f":"B24","v":0},{"$f":"D24","v":0},{"$f":"D25","v":0}]
[null,null,null,null,"Report Sept",null,null,{"$f":"B8","v":36.42}]
[null,null,null,null,"Situation 31/12",{"$f":"SUM(F18:F22)","v":0},{"$f":"SUM(G18:G22)","v":0},{"$f":"SUM(H18:H22)","v":36.42}]
[null,{"$f":"SUM(B19:B23)","v":0},null,{"$f":"SUM(D19:D23)","v":0},null,null,null,null,null,{"$f":"SUM(J19:J23)","v":0},null,{"$f":"SUM(L19:L23)","v":0}]
["Récap 31/12",null,null,{"$f":"+B24-D24","v":0},null,null,null,null,"Récap 31/01",null,null,{"$f":"+J24-L24","v":0}]
[]
["FÉVRIER",null,null,null,"MARS",null,null,null,"AVRIL"]
["RECETTES",null,"DEPENSES",null,"RECETTES",null,"DEPENSES",null,"RECETTES",null,"DEPENSES"]
["Dates","Montant","Activités","Montant","Dates","Montant","Activités","Montant","Dates","Montant","Activités","Montant"]
[]
[]
[]
[]
[]
[null,{"$f":"SUM(B30:B34)","v":0},null,{"$f":"SUM(D30:D34)","v":0},null,{"$f":"SUM(F30:F34)","v":0},null,{"$f":"SUM(H30:H34)","v":0},null,{"$f":"SUM(J30:J34)","v":0},null,{"$f":"SUM(L30:L34)","v":0}]
["Récap 28/02",null,null,{"$f":"+B35-D35","v":0},"Récap 31/03",null,null,{"$f":"+F35-H35","v":0},"Récap 30/04",null,null,{"$f":"+J35-L35","v":0}]
[]
[]
["MAI",null,null,null,"JUIN",null,null,null,"Situation fin juin"]
["RECETTES",null,"DEPENSES",null,"RECETTES",null,"DEPENSES",null,null,"Recettes","Dépenses","Total"]
["Dates","Montant","Activités","Montant","Dates","Montant","Activités","Montant",{"$f":"E23","v":"Situation 31/12"},null,null,{"$f":"H23","v":36.42}]
[null,null,null,null,null,null,null,null,{"$f":"I25","v":"Récap 31/01"},{"$f":"J24","v":0},{"$f":"L24","v":0},{"$f":"L25","v":0}]
[null,null,null,null,null,null,null,null,{"$f":"A36","v":"Récap 28/02"},{"$f":"B35","v":0},{"$f":"D35","v":0},{"$f":"D36","v":0}]
[null,null,null,null,null,null,null,null,{"$f":"E36","v":"Récap 31/03"},{"$f":"F35","v":0},{"$f":"H35","v":0},{"$f":"H36","v":0}]
[null,null,null,null,null,null,null,null,{"$f":"I36","v":"Récap 30/04"},{"$f":"J35","v":0},{"$f":"L35","v":0},{"$f":"L36","v":0}]
[null,null,null,null,null,null,null,null,{"$f":"A48","v":"Récap 31/05"},{"$f":"B47","v":0},{"$f":"D47","v":0},{"$f":"D48","v":0}]
[null,{"$f":"SUM(B42:B46)","v":0},null,{"$f":"SUM(D42:D46)","v":0},null,{"$f":"SUM(F42:F46)","v":0},null,{"$f":"SUM(H42:H46)","v":0},{"$f":"E48","v":"Récap 30/06"},{"$f":"F47","v":0},{"$f":"H47","v":0},{"$f":"H48","v":0}]
["Récap 31/05",null,null,{"$f":"+B47-D47","v":0},"Récap 30/06",null,null,{"$f":"+F47-H47","v":0},"Situation 30/06",{"$f":"SUM(J42:J47)","v":0},{"$f":"SUM(K42:K47)","v":0},{"$f":"SUM(L41:L47)","v":36.42}]
[]
[null,null,null,null,null,null,null,null,null,null,null,{"$f":"F23+J48-G23-K48+B8","v":36.42}]
[]
[null,null,null,null,null,null,null,null,null,{"$f":"B13+F13+J13+B24+J24+B35+F35+J35+B47+F47","v":0},{"$f":"D13+H13+L13+D24+L24+D35+H35+L35+D47+H47","v":0},{"$f":"B8+J52-K52","v":36.42}]

{"sheet":"HUYBRECHTS","index":87,"n_rows":52,"n_cols":12,"rows_kept":52,"cut":false,"hidden":false,"merged":[[0,9,0,10],[2,1,2,2],[2,4,2,5],[2,8,2,9],[5,8,5,9],[5,10,5,11],[4,0,4,3],[4,4,4,7],[4,8,4,11],[5,0,5,1],[5,2,5,3],[5,4,5,5],[5,6,5,7],[24,0,24,2],[13,0,13,2],[13,4,13,6],[16,2,16,3],[37,9,37,10],[16,0,16,1],[27,6,27,7],[24,8,24,10],[38,8,38,11],[13,8,13,10],[15,0,15,3],[15,4,15,7],[15,8,15,11],[16,10,16,11],[26,0,26,3],[26,4,26,7],[26,8,26,11],[27,8,27,9],[35,0,35,2],[35,4,35,6],[35,8,35,10],[27,10,27,11],[16,8,16,9],[27,4,27,5],[47,0,47,2],[47,4,47,6],[38,0,38,3],[38,4,38,7],[39,4,39,5],[39,6,39,7]]}
[null,null,null,null,null,null,null,null,null,"Année scolaire : ",null,{"$f":"' Liste élèves'!B1","v":"2018-2019"}]
[]
["NOM : ",{"$f":"' Liste élèves'!A88","v":"HUYBRECHTS"},null,"PRENOM:",{"$f":"' Liste élèves'!B88","v":"Antoine"},null,null,"CLASSE :",{"$f":"' Liste élèves'!C88","v":"Classe 1"}]
[]
["SEPTEMBRE",null,null,null,"OCTOBRE",null,null,null,"NOVEMBRE"]
["RECETTES",null,"DEPENSES",null,"RECETTES",null,"DEPENSES",null,"RECETTES",null,"DEPENSES"]
["Dates","Montant","Activités","Montant","Dates","Montant","Activités","Montant","Dates","Montant","Activités","Montant"]
["Report juin",25.32]
[]
[]
[]
[]
[null,{"$f":"SUM(B9:B12)","v":0},null,{"$f":"SUM(D8:D12)","v":0},null,{"$f":"SUM(F8:F12)","v":0},null,{"$f":"SUM(H8:H12)","v":0},null,{"$f":"SUM(J8:J12)","v":0},null,{"$f":"SUM(L8:L12)","v":0}]
["Récap 30/09",null,null,{"$f":"+B13-D13","v":0},"Récap 31/10",null,null,{"$f":"+F13-H13","v":0},"Récap 30/11",null,null,{"$f":"+J13-L13","v":0}]
[]
["DÉCEMBRE",null,null,null,"Situation fin décembre",null,null,null,"JANVIER"]
["RECETTES",null,"DEPENSES",null,null,"Recettes","Dépenses","Total","RECETTES",null,"DEPENSES"]
["Dates","Montant","Activités","Montant",{"$f":"A14","v":"Récap 30/09"},{"$f":"B13","v":0},{"$f":"D13","v":0},{"$f":"D14","v":0},"Dates","Montant","Activités","Montant"]
[null,null,null,null,{"$f":"E14","v":"Récap 31/10"},{"$f":"F13","v":0},{"$f":"H13","v":0},{"$f":"H14","v":0}]
[null,null,null,null,{"$f":"I14","v":"Récap 30/11"},{"$f":"J13","v":0},{"$f":"L13","v":0},{"$f":"L14","v":0}]
[null,null,null,null,{"$f":"A25","v":"Récap 31/12"},{"$f":"B24","v":0},{"$f":"D24","v":0},{"$f":"D25","v":0}]
[null,null,null,null,"Report Sept",null,null,{"$f":"B8","v":25.32}]
[null,null,null,null,"Situation 31/12",{"$f":"SUM(F18:F22)","v":0},{"$f":"SUM(G18:G22)","v":0},{"$f":"SUM(H18:H22)","v":25.32}]
[null,{"$f":"SUM(B19:B23)","v":0},null,{"$f":"SUM(D19:D23)","v":0},null,null,null,null,null,{"$f":"SUM(J19:J23)","v":0},null,{"$f":"SUM(L19:L23)","v":0}]
["Récap 31/12",null,null,{"$f":"+B24-D24","v":0},null,null,null,null,"Récap 31/01",null,null,{"$f":"+J24-L24","v":0}]
[]
["FÉVRIER",null,null,null,"MARS",null,null,null,"AVRIL"]
["RECETTES",null,"DEPENSES",null,"RECETTES",null,"DEPENSES",null,"RECETTES",null,"DEPENSES"]
["Dates","Montant","Activités","Montant","Dates","Montant","Activités","Montant","Dates","Montant","Activités","Montant"]
[]
[]
[]
[]
[]
[null,{"$f":"SUM(B30:B34)","v":0},null,{"$f":"SUM(D30:D34)","v":0},null,{"$f":"SUM(F30:F34)","v":0},null,{"$f":"SUM(H30:H34)","v":0},null,{"$f":"SUM(J30:J34)","v":0},null,{"$f":"SUM(L30:L34)","v":0}]
["Récap 28/02",null,null,{"$f":"+B35-D35","v":0},"Récap 31/03",null,null,{"$f":"+F35-H35","v":0},"Récap 30/04",null,null,{"$f":"+J35-L35","v":0}]
[]
[]
["MAI",null,null,null,"JUIN",null,null,null,"Situation fin juin"]
["RECETTES",null,"DEPENSES",null,"RECETTES",null,"DEPENSES",null,null,"Recettes","Dépenses","Total"]
["Dates","Montant","Activités","Montant","Dates","Montant","Activités","Montant",{"$f":"E23","v":"Situation 31/12"},null,null,{"$f":"H23","v":25.32}]
[null,null,null,null,null,null,null,null,{"$f":"I25","v":"Récap 31/01"},{"$f":"J24","v":0},{"$f":"L24","v":0},{"$f":"L25","v":0}]
[null,null,null,null,null,null,null,null,{"$f":"A36","v":"Récap 28/02"},{"$f":"B35","v":0},{"$f":"D35","v":0},{"$f":"D36","v":0}]
[null,null,null,null,null,null,null,null,{"$f":"E36","v":"Récap 31/03"},{"$f":"F35","v":0},{"$f":"H35","v":0},{"$f":"H36","v":0}]
[null,null,null,null,null,null,null,null,{"$f":"I36","v":"Récap 30/04"},{"$f":"J35","v":0},{"$f":"L35","v":0},{"$f":"L36","v":0}]
[null,null,null,null,null,null,null,null,{"$f":"A48","v":"Récap 31/05"},{"$f":"B47","v":0},{"$f":"D47","v":0},{"$f":"D48","v":0}]
[null,{"$f":"SUM(B42:B46)","v":0},null,{"$f":"SUM(D42:D46)","v":0},null,{"$f":"SUM(F42:F46)","v":0},null,{"$f":"SUM(H42:H46)","v":0},{"$f":"E48","v":"Récap 30/06"},{"$f":"F47","v":0},{"$f":"H47","v":0},{"$f":"H48","v":0}]
["Récap 31/05",null,null,{"$f":"+B47-D47","v":0},"Récap 30/06",null,null,{"$f":"+F47-H47","v":0},"Situation 30/06",{"$f":"SUM(J42:J47)","v":0},{"$f":"SUM(K42:K47)","v":0},{"$f":"SUM(L41:L47)","v":25.32}]
[]
[null,null,null,null,null,null,null,null,null,null,null,{"$f":"F23+J48-G23-K48+B8","v":25.32}]
[]
[null,null,null,null,null,null,null,null,null,{"$f":"B13+F13+J13+B24+J24+B35+F35+J35+B47+F47","v":0},{"$f":"D13+H13+L13+D24+L24+D35+H35+L35+D47+H47","v":0},{"$f":"B8+J52-K52","v":25.32}]

{"sheet":"IBOMA","index":88,"n_rows":52,"n_cols":12,"rows_kept":52,"cut":false,"hidden":false,"merged":[[0,9,0,10],[2,1,2,2],[2,4,2,5],[2,8,2,9],[5,8,5,9],[5,10,5,11],[4,0,4,3],[4,4,4,7],[4,8,4,11],[5,0,5,1],[5,2,5,3],[5,4,5,5],[5,6,5,7],[24,0,24,2],[13,0,13,2],[13,4,13,6],[16,2,16,3],[37,9,37,10],[16,0,16,1],[27,6,27,7],[24,8,24,10],[38,8,38,11],[13,8,13,10],[15,0,15,3],[15,4,15,7],[15,8,15,11],[16,10,16,11],[26,0,26,3],[26,4,26,7],[26,8,26,11],[27,8,27,9],[35,0,35,2],[35,4,35,6],[35,8,35,10],[27,10,27,11],[16,8,16,9],[27,4,27,5],[47,0,47,2],[47,4,47,6],[38,0,38,3],[38,4,38,7],[39,4,39,5],[39,6,39,7]]}
[null,null,null,null,null,null,null,null,null,"Année scolaire : ",null,{"$f":"' Liste élèves'!B1","v":"2018-2019"}]
[]
["NOM : ",{"$f":"' Liste élèves'!A89","v":"IBOMA"},null,"PRENOM:",{"$f":"' Liste élèves'!B89","v":"Elie"},null,null,"CLASSE :",{"$f":"' Liste élèves'!C89","v":"Classe 9"}]
[]
["SEPTEMBRE",null,null,null,"OCTOBRE",null,null,null,"NOVEMBRE"]
["RECETTES",null,"DEPENSES",null,"RECETTES",null,"DEPENSES",null,"RECETTES",null,"DEPENSES"]
["Dates","Montant","Activités","Montant","Dates","Montant","Activités","Montant","Dates","Montant","Activités","Montant"]
["Report juin",-32.799999999999997]
[]
[]
[]
[]
[null,{"$f":"SUM(B9:B12)","v":0},null,{"$f":"SUM(D8:D12)","v":0},null,{"$f":"SUM(F8:F12)","v":0},null,{"$f":"SUM(H8:H12)","v":0},null,{"$f":"SUM(J8:J12)","v":0},null,{"$f":"SUM(L8:L12)","v":0}]
["Récap 30/09",null,null,{"$f":"+B13-D13","v":0},"Récap 31/10",null,null,{"$f":"+F13-H13","v":0},"Récap 30/11",null,null,{"$f":"+J13-L13","v":0}]
[]
["DÉCEMBRE",null,null,null,"Situation fin décembre",null,null,null,"JANVIER"]
["RECETTES",null,"DEPENSES",null,null,"Recettes","Dépenses","Total","RECETTES",null,"DEPENSES"]
["Dates","Montant","Activités","Montant",{"$f":"A14","v":"Récap 30/09"},{"$f":"B13","v":0},{"$f":"D13","v":0},{"$f":"D14","v":0},"Dates","Montant","Activités","Montant"]
[null,null,null,null,{"$f":"E14","v":"Récap 31/10"},{"$f":"F13","v":0},{"$f":"H13","v":0},{"$f":"H14","v":0}]
[null,null,null,null,{"$f":"I14","v":"Récap 30/11"},{"$f":"J13","v":0},{"$f":"L13","v":0},{"$f":"L14","v":0}]
[null,null,null,null,{"$f":"A25","v":"Récap 31/12"},{"$f":"B24","v":0},{"$f":"D24","v":0},{"$f":"D25","v":0}]
[null,null,null,null,"Report Sept",null,null,{"$f":"B8","v":-32.799999999999997}]
[null,null,null,null,"Situation 31/12",{"$f":"SUM(F18:F22)","v":0},{"$f":"SUM(G18:G22)","v":0},{"$f":"SUM(H18:H22)","v":-32.799999999999997}]
[null,{"$f":"SUM(B19:B23)","v":0},null,{"$f":"SUM(D19:D23)","v":0},null,null,null,null,null,{"$f":"SUM(J19:J23)","v":0},null,{"$f":"SUM(L19:L23)","v":0}]
["Récap 31/12",null,null,{"$f":"+B24-D24","v":0},null,null,null,null,"Récap 31/01",null,null,{"$f":"+J24-L24","v":0}]
[]
["FÉVRIER",null,null,null,"MARS",null,null,null,"AVRIL"]
["RECETTES",null,"DEPENSES",null,"RECETTES",null,"DEPENSES",null,"RECETTES",null,"DEPENSES"]
["Dates","Montant","Activités","Montant","Dates","Montant","Activités","Montant","Dates","Montant","Activités","Montant"]
[]
[]
[]
[]
[]
[null,{"$f":"SUM(B30:B34)","v":0},null,{"$f":"SUM(D30:D34)","v":0},null,{"$f":"SUM(F30:F34)","v":0},null,{"$f":"SUM(H30:H34)","v":0},null,{"$f":"SUM(J30:J34)","v":0},null,{"$f":"SUM(L30:L34)","v":0}]
["Récap 28/02",null,null,{"$f":"+B35-D35","v":0},"Récap 31/03",null,null,{"$f":"+F35-H35","v":0},"Récap 30/04",null,null,{"$f":"+J35-L35","v":0}]
[]
[]
["MAI",null,null,null,"JUIN",null,null,null,"Situation fin juin"]
["RECETTES",null,"DEPENSES",null,"RECETTES",null,"DEPENSES",null,null,"Recettes","Dépenses","Total"]
["Dates","Montant","Activités","Montant","Dates","Montant","Activités","Montant",{"$f":"E23","v":"Situation 31/12"},null,null,{"$f":"H23","v":-32.799999999999997}]
[null,null,null,null,null,null,null,null,{"$f":"I25","v":"Récap 31/01"},{"$f":"J24","v":0},{"$f":"L24","v":0},{"$f":"L25","v":0}]
[null,null,null,null,null,null,null,null,{"$f":"A36","v":"Récap 28/02"},{"$f":"B35","v":0},{"$f":"D35","v":0},{"$f":"D36","v":0}]
[null,null,null,null,null,null,null,null,{"$f":"E36","v":"Récap 31/03"},{"$f":"F35","v":0},{"$f":"H35","v":0},{"$f":"H36","v":0}]
[null,null,null,null,null,null,null,null,{"$f":"I36","v":"Récap 30/04"},{"$f":"J35","v":0},{"$f":"L35","v":0},{"$f":"L36","v":0}]
[null,null,null,null,null,null,null,null,{"$f":"A48","v":"Récap 31/05"},{"$f":"B47","v":0},{"$f":"D47","v":0},{"$f":"D48","v":0}]
[null,{"$f":"SUM(B42:B46)","v":0},null,{"$f":"SUM(D42:D46)","v":0},null,{"$f":"SUM(F42:F46)","v":0},null,{"$f":"SUM(H42:H46)","v":0},{"$f":"E48","v":"Récap 30/06"},{"$f":"F47","v":0},{"$f":"H47","v":0},{"$f":"H48","v":0}]
["Récap 31/05",null,null,{"$f":"+B47-D47","v":0},"Récap 30/06",null,null,{"$f":"+F47-H47","v":0},"Situation 30/06",{"$f":"SUM(J42:J47)","v":0},{"$f":"SUM(K42:K47)","v":0},{"$f":"SUM(L41:L47)","v":-32.799999999999997}]
[]
[null,null,null,null,null,null,null,null,null,null,null,{"$f":"F23+J48-G23-K48+B8","v":-32.799999999999997}]
[]
[null,null,null,null,null,null,null,null,null,{"$f":"B13+F13+J13+B24+J24+B35+F35+J35+B47+F47","v":0},{"$f":"D13+H13+L13+D24+L24+D35+H35+L35+D47+H47","v":0},{"$f":"B8+J52-K52","v":-32.799999999999997}]

{"sheet":"IBRAHIMOVIC","index":89,"n_rows":52,"n_cols":12,"rows_kept":52,"cut":false,"hidden":false,"merged":[[0,9,0,10],[2,1,2,2],[2,4,2,5],[2,8,2,9],[5,8,5,9],[5,10,5,11],[4,0,4,3],[4,4,4,7],[4,8,4,11],[5,0,5,1],[5,2,5,3],[5,4,5,5],[5,6,5,7],[24,0,24,2],[13,0,13,2],[13,4,13,6],[16,2,16,3],[37,9,37,10],[16,0,16,1],[27,6,27,7],[24,8,24,10],[38,8,38,11],[13,8,13,10],[15,0,15,3],[15,4,15,7],[15,8,15,11],[16,10,16,11],[26,0,26,3],[26,4,26,7],[26,8,26,11],[27,8,27,9],[35,0,35,2],[35,4,35,6],[35,8,35,10],[27,10,27,11],[16,8,16,9],[27,4,27,5],[47,0,47,2],[47,4,47,6],[38,0,38,3],[38,4,38,7],[39,4,39,5],[39,6,39,7]]}
[null,null,null,null,null,null,null,null,null,"Année scolaire : ",null,{"$f":"' Liste élèves'!B1","v":"2018-2019"}]
[]
["NOM : ",{"$f":"' Liste élèves'!A90","v":"IBRAHIMOVIC"},null,"PRENOM:",{"$f":"' Liste élèves'!B90","v":"Tarik"},null,null,"CLASSE :",{"$f":"' Liste élèves'!C90","v":"Classe 4"}]
[]
["SEPTEMBRE",null,null,null,"OCTOBRE",null,null,null,"NOVEMBRE"]
["RECETTES",null,"DEPENSES",null,"RECETTES",null,"DEPENSES",null,"RECETTES",null,"DEPENSES"]
["Dates","Montant","Activités","Montant","Dates","Montant","Activités","Montant","Dates","Montant","Activités","Montant"]
["Report juin",43.03]
[]
[]
[]
[]
[null,{"$f":"SUM(B9:B12)","v":0},null,{"$f":"SUM(D8:D12)","v":0},null,{"$f":"SUM(F8:F12)","v":0},null,{"$f":"SUM(H8:H12)","v":0},null,{"$f":"SUM(J8:J12)","v":0},null,{"$f":"SUM(L8:L12)","v":0}]
["Récap 30/09",null,null,{"$f":"+B13-D13","v":0},"Récap 31/10",null,null,{"$f":"+F13-H13","v":0},"Récap 30/11",null,null,{"$f":"+J13-L13","v":0}]
[]
["DÉCEMBRE",null,null,null,"Situation fin décembre",null,null,null,"JANVIER"]
["RECETTES",null,"DEPENSES",null,null,"Recettes","Dépenses","Total","RECETTES",null,"DEPENSES"]
["Dates","Montant","Activités","Montant",{"$f":"A14","v":"Récap 30/09"},{"$f":"B13","v":0},{"$f":"D13","v":0},{"$f":"D14","v":0},"Dates","Montant","Activités","Montant"]
[null,null,null,null,{"$f":"E14","v":"Récap 31/10"},{"$f":"F13","v":0},{"$f":"H13","v":0},{"$f":"H14","v":0}]
[null,null,null,null,{"$f":"I14","v":"Récap 30/11"},{"$f":"J13","v":0},{"$f":"L13","v":0},{"$f":"L14","v":0}]
[null,null,null,null,{"$f":"A25","v":"Récap 31/12"},{"$f":"B24","v":0},{"$f":"D24","v":0},{"$f":"D25","v":0}]
[null,null,null,null,"Report Sept",null,null,{"$f":"B8","v":43.03}]
[null,null,null,null,"Situation 31/12",{"$f":"SUM(F18:F22)","v":0},{"$f":"SUM(G18:G22)","v":0},{"$f":"SUM(H18:H22)","v":43.03}]
[null,{"$f":"SUM(B19:B23)","v":0},null,{"$f":"SUM(D19:D23)","v":0},null,null,null,null,null,{"$f":"SUM(J19:J23)","v":0},null,{"$f":"SUM(L19:L23)","v":0}]
["Récap 31/12",null,null,{"$f":"+B24-D24","v":0},null,null,null,null,"Récap 31/01",null,null,{"$f":"+J24-L24","v":0}]
[]
["FÉVRIER",null,null,null,"MARS",null,null,null,"AVRIL"]
["RECETTES",null,"DEPENSES",null,"RECETTES",null,"DEPENSES",null,"RECETTES",null,"DEPENSES"]
["Dates","Montant","Activités","Montant","Dates","Montant","Activités","Montant","Dates","Montant","Activités","Montant"]
[]
[]
[]
[]
[]
[null,{"$f":"SUM(B30:B34)","v":0},null,{"$f":"SUM(D30:D34)","v":0},null,{"$f":"SUM(F30:F34)","v":0},null,{"$f":"SUM(H30:H34)","v":0},null,{"$f":"SUM(J30:J34)","v":0},null,{"$f":"SUM(L30:L34)","v":0}]
["Récap 28/02",null,null,{"$f":"+B35-D35","v":0},"Récap 31/03",null,null,{"$f":"+F35-H35","v":0},"Récap 30/04",null,null,{"$f":"+J35-L35","v":0}]
[]
[]
["MAI",null,null,null,"JUIN",null,null,null,"Situation fin juin"]
["RECETTES",null,"DEPENSES",null,"RECETTES",null,"DEPENSES",null,null,"Recettes","Dépenses","Total"]
["Dates","Montant","Activités","Montant","Dates","Montant","Activités","Montant",{"$f":"E23","v":"Situation 31/12"},null,null,{"$f":"H23","v":43.03}]
[null,null,null,null,null,null,null,null,{"$f":"I25","v":"Récap 31/01"},{"$f":"J24","v":0},{"$f":"L24","v":0},{"$f":"L25","v":0}]
[null,null,null,null,null,null,null,null,{"$f":"A36","v":"Récap 28/02"},{"$f":"B35","v":0},{"$f":"D35","v":0},{"$f":"D36","v":0}]
[null,null,null,null,null,null,null,null,{"$f":"E36","v":"Récap 31/03"},{"$f":"F35","v":0},{"$f":"H35","v":0},{"$f":"H36","v":0}]
[null,null,null,null,null,null,null,null,{"$f":"I36","v":"Récap 30/04"},{"$f":"J35","v":0},{"$f":"L35","v":0},{"$f":"L36","v":0}]
[null,null,null,null,null,null,null,null,{"$f":"A48","v":"Récap 31/05"},{"$f":"B47","v":0},{"$f":"D47","v":0},{"$f":"D48","v":0}]
[null,{"$f":"SUM(B42:B46)","v":0},null,{"$f":"SUM(D42:D46)","v":0},null,{"$f":"SUM(F42:F46)","v":0},null,{"$f":"SUM(H42:H46)","v":0},{"$f":"E48","v":"Récap 30/06"},{"$f":"F47","v":0},{"$f":"H47","v":0},{"$f":"H48","v":0}]
["Récap 31/05",null,null,{"$f":"+B47-D47","v":0},"Récap 30/06",null,null,{"$f":"+F47-H47","v":0},"Situation 30/06",{"$f":"SUM(J42:J47)","v":0},{"$f":"SUM(K42:K47)","v":0},{"$f":"SUM(L41:L47)","v":43.03}]
[]
[null,null,null,null,null,null,null,null,null,null,null,{"$f":"F23+J48-G23-K48+B8","v":43.03}]
[]
[null,null,null,null,null,null,null,null,null,{"$f":"B13+F13+J13+B24+J24+B35+F35+J35+B47+F47","v":0},{"$f":"D13+H13+L13+D24+L24+D35+H35+L35+D47+H47","v":0},{"$f":"B8+J52-K52","v":43.03}]

{"sheet":"IMPENSJamie","index":90,"n_rows":52,"n_cols":12,"rows_kept":52,"cut":false,"hidden":false,"merged":[[39,4,39,5],[39,6,39,7],[47,0,47,2],[47,4,47,6],[35,0,35,2],[35,4,35,6],[35,8,35,10],[37,9,37,10],[38,0,38,3],[38,4,38,7],[38,8,38,11],[26,0,26,3],[26,4,26,7],[26,8,26,11],[27,4,27,5],[27,6,27,7],[27,8,27,9],[27,10,27,11],[16,0,16,1],[16,2,16,3],[16,8,16,9],[16,10,16,11],[24,0,24,2],[24,8,24,10],[13,0,13,2],[13,4,13,6],[13,8,13,10],[15,0,15,3],[15,4,15,7],[15,8,15,11],[5,10,5,11],[0,9,0,10],[2,1,2,2],[2,4,2,5],[2,8,2,9],[4,0,4,3],[4,4,4,7],[4,8,4,11],[5,0,5,1],[5,2,5,3],[5,4,5,5],[5,6,5,7],[5,8,5,9]]}
[null,null,null,null,null,null,null,null,null,"Année scolaire : ",null,{"$f":"' Liste élèves'!B1","v":"2018-2019"}]
[]
["NOM : ",{"$f":"' Liste élèves'!A91","v":"IMPENSJamie"},null,"PRENOM:",{"$f":"' Liste élèves'!B91","v":"Jamie"},null,null,"CLASSE :",{"$f":"' Liste élèves'!C91","v":"Classe 11"}]
[]
["SEPTEMBRE",null,null,null,"OCTOBRE",null,null,null,"NOVEMBRE"]
["RECETTES",null,"DEPENSES",null,"RECETTES",null,"DEPENSES",null,"RECETTES",null,"DEPENSES"]
["Dates","Montant","Activités","Montant","Dates","Montant","Activités","Montant","Dates","Montant","Activités","Montant"]
["Report juin",54.46]
[]
[]
[]
[]
[null,{"$f":"SUM(B9:B12)","v":0},null,{"$f":"SUM(D8:D12)","v":0},null,{"$f":"SUM(F8:F12)","v":0},null,{"$f":"SUM(H8:H12)","v":0},null,{"$f":"SUM(J8:J12)","v":0},null,{"$f":"SUM(L8:L12)","v":0}]
["Récap 30/09",null,null,{"$f":"+B13-D13","v":0},"Récap 31/10",null,null,{"$f":"+F13-H13","v":0},"Récap 30/11",null,null,{"$f":"+J13-L13","v":0}]
[]
["DÉCEMBRE",null,null,null,"Situation fin décembre",null,null,null,"JANVIER"]
["RECETTES",null,"DEPENSES",null,null,"Recettes","Dépenses","Total","RECETTES",null,"DEPENSES"]
["Dates","Montant","Activités","Montant",{"$f":"A14","v":"Récap 30/09"},{"$f":"B13","v":0},{"$f":"D13","v":0},{"$f":"D14","v":0},"Dates","Montant","Activités","Montant"]
[null,null,null,null,{"$f":"E14","v":"Récap 31/10"},{"$f":"F13","v":0},{"$f":"H13","v":0},{"$f":"H14","v":0}]
[null,null,null,null,{"$f":"I14","v":"Récap 30/11"},{"$f":"J13","v":0},{"$f":"L13","v":0},{"$f":"L14","v":0}]
[null,null,null,null,{"$f":"A25","v":"Récap 31/12"},{"$f":"B24","v":0},{"$f":"D24","v":0},{"$f":"D25","v":0}]
[null,null,null,null,"Report Sept",null,null,{"$f":"B8","v":54.46}]
[null,null,null,null,"Situation 31/12",{"$f":"SUM(F18:F22)","v":0},{"$f":"SUM(G18:G22)","v":0},{"$f":"SUM(H18:H22)","v":54.46}]
[null,{"$f":"SUM(B19:B23)","v":0},null,{"$f":"SUM(D19:D23)","v":0},null,null,null,null,null,{"$f":"SUM(J19:J23)","v":0},null,{"$f":"SUM(L19:L23)","v":0}]
["Récap 31/12",null,null,{"$f":"+B24-D24","v":0},null,null,null,null,"Récap 31/01",null,null,{"$f":"+J24-L24","v":0}]
[]
["FÉVRIER",null,null,null,"MARS",null,null,null,"AVRIL"]
["RECETTES",null,"DEPENSES",null,"RECETTES",null,"DEPENSES",null,"RECETTES",null,"DEPENSES"]
["Dates","Montant","Activités","Montant","Dates","Montant","Activités","Montant","Dates","Montant","Activités","Montant"]
[]
[]
[]
[]
[]
[null,{"$f":"SUM(B30:B34)","v":0},null,{"$f":"SUM(D30:D34)","v":0},null,{"$f":"SUM(F30:F34)","v":0},null,{"$f":"SUM(H30:H34)","v":0},null,{"$f":"SUM(J30:J34)","v":0},null,{"$f":"SUM(L30:L34)","v":0}]
["Récap 28/02",null,null,{"$f":"+B35-D35","v":0},"Récap 31/03",null,null,{"$f":"+F35-H35","v":0},"Récap 30/04",null,null,{"$f":"+J35-L35","v":0}]
[]
[]
["MAI",null,null,null,"JUIN",null,null,null,"Situation fin juin"]
["RECETTES",null,"DEPENSES",null,"RECETTES",null,"DEPENSES",null,null,"Recettes","Dépenses","Total"]
["Dates","Montant","Activités","Montant","Dates","Montant","Activités","Montant",{"$f":"E23","v":"Situation 31/12"},null,null,{"$f":"H23","v":54.46}]
[null,null,null,null,null,null,null,null,{"$f":"I25","v":"Récap 31/01"},{"$f":"J24","v":0},{"$f":"L24","v":0},{"$f":"L25","v":0}]
[null,null,null,null,null,null,null,null,{"$f":"A36","v":"Récap 28/02"},{"$f":"B35","v":0},{"$f":"D35","v":0},{"$f":"D36","v":0}]
[null,null,null,null,null,null,null,null,{"$f":"E36","v":"Récap 31/03"},{"$f":"F35","v":0},{"$f":"H35","v":0},{"$f":"H36","v":0}]
[null,null,null,null,null,null,null,null,{"$f":"I36","v":"Récap 30/04"},{"$f":"J35","v":0},{"$f":"L35","v":0},{"$f":"L36","v":0}]
[null,null,null,null,null,null,null,null,{"$f":"A48","v":"Récap 31/05"},{"$f":"B47","v":0},{"$f":"D47","v":0},{"$f":"D48","v":0}]
[null,{"$f":"SUM(B42:B46)","v":0},null,{"$f":"SUM(D42:D46)","v":0},null,{"$f":"SUM(F42:F46)","v":0},null,{"$f":"SUM(H42:H46)","v":0},{"$f":"E48","v":"Récap 30/06"},{"$f":"F47","v":0},{"$f":"H47","v":0},{"$f":"H48","v":0}]
["Récap 31/05",null,null,{"$f":"+B47-D47","v":0},"Récap 30/06",null,null,{"$f":"+F47-H47","v":0},"Situation 30/06",{"$f":"SUM(J42:J47)","v":0},{"$f":"SUM(K42:K47)","v":0},{"$f":"SUM(L41:L47)","v":54.46}]
[]
[null,null,null,null,null,null,null,null,null,null,null,{"$f":"F23+J48-G23-K48+B8","v":54.46}]
[]
[null,null,null,null,null,null,null,null,null,{"$f":"B13+F13+J13+B24+J24+B35+F35+J35+B47+F47","v":0},{"$f":"D13+H13+L13+D24+L24+D35+H35+L35+D47+H47","v":0},{"$f":"B8+J52-K52","v":54.46}]

{"sheet":"IMPENSJason","index":91,"n_rows":52,"n_cols":12,"rows_kept":52,"cut":false,"hidden":false,"merged":[[0,9,0,10],[2,1,2,2],[2,4,2,5],[2,8,2,9],[5,8,5,9],[5,10,5,11],[4,0,4,3],[4,4,4,7],[4,8,4,11],[5,0,5,1],[5,2,5,3],[5,4,5,5],[5,6,5,7],[24,0,24,2],[13,0,13,2],[13,4,13,6],[16,2,16,3],[37,9,37,10],[16,0,16,1],[27,6,27,7],[24,8,24,10],[38,8,38,11],[13,8,13,10],[15,0,15,3],[15,4,15,7],[15,8,15,11],[16,10,16,11],[26,0,26,3],[26,4,26,7],[26,8,26,11],[27,8,27,9],[35,0,35,2],[35,4,35,6],[35,8,35,10],[27,10,27,11],[16,8,16,9],[27,4,27,5],[47,0,47,2],[47,4,47,6],[38,0,38,3],[38,4,38,7],[39,4,39,5],[39,6,39,7]]}
[null,null,null,null,null,null,null,null,null,"Année scolaire : ",null,{"$f":"' Liste élèves'!B1","v":"2018-2019"}]
[]
["NOM : ",{"$f":"' Liste élèves'!A92","v":"IMPENSJason"},null,"PRENOM:",{"$f":"' Liste élèves'!B92","v":"Jason"},null,null,"CLASSE :",{"$f":"' Liste élèves'!C92","v":"Classe 3"}]
[]
["SEPTEMBRE",null,null,null,"OCTOBRE",null,null,null,"NOVEMBRE"]
["RECETTES",null,"DEPENSES",null,"RECETTES",null,"DEPENSES",null,"RECETTES",null,"DEPENSES"]
["Dates","Montant","Activités","Montant","Dates","Montant","Activités","Montant","Dates","Montant","Activités","Montant"]
["Report juin",38]
[]
[]
[]
[]
[null,{"$f":"SUM(B9:B12)","v":0},null,{"$f":"SUM(D8:D12)","v":0},null,{"$f":"SUM(F8:F12)","v":0},null,{"$f":"SUM(H8:H12)","v":0},null,{"$f":"SUM(J8:J12)","v":0},null,{"$f":"SUM(L8:L12)","v":0}]
["Récap 30/09",null,null,{"$f":"+B13-D13","v":0},"Récap 31/10",null,null,{"$f":"+F13-H13","v":0},"Récap 30/11",null,null,{"$f":"+J13-L13","v":0}]
[]
["DÉCEMBRE",null,null,null,"Situation fin décembre",null,null,null,"JANVIER"]
["RECETTES",null,"DEPENSES",null,null,"Recettes","Dépenses","Total","RECETTES",null,"DEPENSES"]
["Dates","Montant","Activités","Montant",{"$f":"A14","v":"Récap 30/09"},{"$f":"B13","v":0},{"$f":"D13","v":0},{"$f":"D14","v":0},"Dates","Montant","Activités","Montant"]
[null,null,null,null,{"$f":"E14","v":"Récap 31/10"},{"$f":"F13","v":0},{"$f":"H13","v":0},{"$f":"H14","v":0}]
[null,null,null,null,{"$f":"I14","v":"Récap 30/11"},{"$f":"J13","v":0},{"$f":"L13","v":0},{"$f":"L14","v":0}]
[null,null,null,null,{"$f":"A25","v":"Récap 31/12"},{"$f":"B24","v":0},{"$f":"D24","v":0},{"$f":"D25","v":0}]
[null,null,null,null,"Report Sept",null,null,{"$f":"B8","v":38}]
[null,null,null,null,"Situation 31/12",{"$f":"SUM(F18:F22)","v":0},{"$f":"SUM(G18:G22)","v":0},{"$f":"SUM(H18:H22)","v":38}]
[null,{"$f":"SUM(B19:B23)","v":0},null,{"$f":"SUM(D19:D23)","v":0},null,null,null,null,null,{"$f":"SUM(J19:J23)","v":0},null,{"$f":"SUM(L19:L23)","v":0}]
["Récap 31/12",null,null,{"$f":"+B24-D24","v":0},null,null,null,null,"Récap 31/01",null,null,{"$f":"+J24-L24","v":0}]
[]
["FÉVRIER",null,null,null,"MARS",null,null,null,"AVRIL"]
["RECETTES",null,"DEPENSES",null,"RECETTES",null,"DEPENSES",null,"RECETTES",null,"DEPENSES"]
["Dates","Montant","Activités","Montant","Dates","Montant","Activités","Montant","Dates","Montant","Activités","Montant"]
[]
[]
[]
[]
[]
[null,{"$f":"SUM(B30:B34)","v":0},null,{"$f":"SUM(D30:D34)","v":0},null,{"$f":"SUM(F30:F34)","v":0},null,{"$f":"SUM(H30:H34)","v":0},null,{"$f":"SUM(J30:J34)","v":0},null,{"$f":"SUM(L30:L34)","v":0}]
["Récap 28/02",null,null,{"$f":"+B35-D35","v":0},"Récap 31/03",null,null,{"$f":"+F35-H35","v":0},"Récap 30/04",null,null,{"$f":"+J35-L35","v":0}]
[]
[]
["MAI",null,null,null,"JUIN",null,null,null,"Situation fin juin"]
["RECETTES",null,"DEPENSES",null,"RECETTES",null,"DEPENSES",null,null,"Recettes","Dépenses","Total"]
["Dates","Montant","Activités","Montant","Dates","Montant","Activités","Montant",{"$f":"E23","v":"Situation 31/12"},null,null,{"$f":"H23","v":38}]
[null,null,null,null,null,null,null,null,{"$f":"I25","v":"Récap 31/01"},{"$f":"J24","v":0},{"$f":"L24","v":0},{"$f":"L25","v":0}]
[null,null,null,null,null,null,null,null,{"$f":"A36","v":"Récap 28/02"},{"$f":"B35","v":0},{"$f":"D35","v":0},{"$f":"D36","v":0}]
[null,null,null,null,null,null,null,null,{"$f":"E36","v":"Récap 31/03"},{"$f":"F35","v":0},{"$f":"H35","v":0},{"$f":"H36","v":0}]
[null,null,null,null,null,null,null,null,{"$f":"I36","v":"Récap 30/04"},{"$f":"J35","v":0},{"$f":"L35","v":0},{"$f":"L36","v":0}]
[null,null,null,null,null,null,null,null,{"$f":"A48","v":"Récap 31/05"},{"$f":"B47","v":0},{"$f":"D47","v":0},{"$f":"D48","v":0}]
[null,{"$f":"SUM(B42:B46)","v":0},null,{"$f":"SUM(D42:D46)","v":0},null,{"$f":"SUM(F42:F46)","v":0},null,{"$f":"SUM(H42:H46)","v":0},{"$f":"E48","v":"Récap 30/06"},{"$f":"F47","v":0},{"$f":"H47","v":0},{"$f":"H48","v":0}]
["Récap 31/05",null,null,{"$f":"+B47-D47","v":0},"Récap 30/06",null,null,{"$f":"+F47-H47","v":0},"Situation 30/06",{"$f":"SUM(J42:J47)","v":0},{"$f":"SUM(K42:K47)","v":0},{"$f":"SUM(L41:L47)","v":38}]
[]
[null,null,null,null,null,null,null,null,null,null,null,{"$f":"F23+J48-G23-K48+B8","v":38}]
[]
[null,null,null,null,null,null,null,null,null,{"$f":"B13+F13+J13+B24+J24+B35+F35+J35+B47+F47","v":0},{"$f":"D13+H13+L13+D24+L24+D35+H35+L35+D47+H47","v":0},{"$f":"B8+J52-K52","v":38}]

{"sheet":"ITERBEKE","index":92,"n_rows":52,"n_cols":12,"rows_kept":52,"cut":false,"hidden":false,"merged":[[39,4,39,5],[39,6,39,7],[47,0,47,2],[47,4,47,6],[35,0,35,2],[35,4,35,6],[35,8,35,10],[37,9,37,10],[38,0,38,3],[38,4,38,7],[38,8,38,11],[26,0,26,3],[26,4,26,7],[26,8,26,11],[27,4,27,5],[27,6,27,7],[27,8,27,9],[27,10,27,11],[16,0,16,1],[16,2,16,3],[16,8,16,9],[16,10,16,11],[24,0,24,2],[24,8,24,10],[13,0,13,2],[13,4,13,6],[13,8,13,10],[15,0,15,3],[15,4,15,7],[15,8,15,11],[5,10,5,11],[0,9,0,10],[2,1,2,2],[2,4,2,5],[2,8,2,9],[4,0,4,3],[4,4,4,7],[4,8,4,11],[5,0,5,1],[5,2,5,3],[5,4,5,5],[5,6,5,7],[5,8,5,9]]}
[null,null,null,null,null,null,null,null,null,"Année scolaire : ",null,{"$f":"' Liste élèves'!B1","v":"2018-2019"}]
[]
["NOM : ",{"$f":"' Liste élèves'!A93","v":"ITERBEKE"},null,"PRENOM:",{"$f":"' Liste élèves'!B93","v":"Obryan"},null,null,"CLASSE :",{"$f":"' Liste élèves'!C93","v":"Classe PC"}]
[]
["SEPTEMBRE",null,null,null,"OCTOBRE",null,null,null,"NOVEMBRE"]
["RECETTES",null,"DEPENSES",null,"RECETTES",null,"DEPENSES",null,"RECETTES",null,"DEPENSES"]
["Dates","Montant","Activités","Montant","Dates","Montant","Activités","Montant","Dates","Montant","Activités","Montant"]
["Report juin",81]
[]
[]
[]
[]
[null,{"$f":"SUM(B9:B12)","v":0},null,{"$f":"SUM(D8:D12)","v":0},null,{"$f":"SUM(F8:F12)","v":0},null,{"$f":"SUM(H8:H12)","v":0},null,{"$f":"SUM(J8:J12)","v":0},null,{"$f":"SUM(L8:L12)","v":0}]
["Récap 30/09",null,null,{"$f":"+B13-D13","v":0},"Récap 31/10",null,null,{"$f":"+F13-H13","v":0},"Récap 30/11",null,null,{"$f":"+J13-L13","v":0}]
[]
["DÉCEMBRE",null,null,null,"Situation fin décembre",null,null,null,"JANVIER"]
["RECETTES",null,"DEPENSES",null,null,"Recettes","Dépenses","Total","RECETTES",null,"DEPENSES"]
["Dates","Montant","Activités","Montant",{"$f":"A14","v":"Récap 30/09"},{"$f":"B13","v":0},{"$f":"D13","v":0},{"$f":"D14","v":0},"Dates","Montant","Activités","Montant"]
[null,null,null,null,{"$f":"E14","v":"Récap 31/10"},{"$f":"F13","v":0},{"$f":"H13","v":0},{"$f":"H14","v":0}]
[null,null,null,null,{"$f":"I14","v":"Récap 30/11"},{"$f":"J13","v":0},{"$f":"L13","v":0},{"$f":"L14","v":0}]
[null,null,null,null,{"$f":"A25","v":"Récap 31/12"},{"$f":"B24","v":0},{"$f":"D24","v":0},{"$f":"D25","v":0}]
[null,null,null,null,"Report Sept",null,null,{"$f":"B8","v":81}]
[null,null,null,null,"Situation 31/12",{"$f":"SUM(F18:F22)","v":0},{"$f":"SUM(G18:G22)","v":0},{"$f":"SUM(H18:H22)","v":81}]
[null,{"$f":"SUM(B19:B23)","v":0},null,{"$f":"SUM(D19:D23)","v":0},null,null,null,null,null,{"$f":"SUM(J19:J23)","v":0},null,{"$f":"SUM(L19:L23)","v":0}]
["Récap 31/12",null,null,{"$f":"+B24-D24","v":0},null,null,null,null,"Récap 31/01",null,null,{"$f":"+J24-L24","v":0}]
[]
["FÉVRIER",null,null,null,"MARS",null,null,null,"AVRIL"]
["RECETTES",null,"DEPENSES",null,"RECETTES",null,"DEPENSES",null,"RECETTES",null,"DEPENSES"]
["Dates","Montant","Activités","Montant","Dates","Montant","Activités","Montant","Dates","Montant","Activités","Montant"]
[]
[]
[]
[]
[]
[null,{"$f":"SUM(B30:B34)","v":0},null,{"$f":"SUM(D30:D34)","v":0},null,{"$f":"SUM(F30:F34)","v":0},null,{"$f":"SUM(H30:H34)","v":0},null,{"$f":"SUM(J30:J34)","v":0},null,{"$f":"SUM(L30:L34)","v":0}]
["Récap 28/02",null,null,{"$f":"+B35-D35","v":0},"Récap 31/03",null,null,{"$f":"+F35-H35","v":0},"Récap 30/04",null,null,{"$f":"+J35-L35","v":0}]
[]
[]
["MAI",null,null,null,"JUIN",null,null,null,"Situation fin juin"]
["RECETTES",null,"DEPENSES",null,"RECETTES",null,"DEPENSES",null,null,"Recettes","Dépenses","Total"]
["Dates","Montant","Activités","Montant","Dates","Montant","Activités","Montant",{"$f":"E23","v":"Situation 31/12"},null,null,{"$f":"H23","v":81}]
[null,null,null,null,null,null,null,null,{"$f":"I25","v":"Récap 31/01"},{"$f":"J24","v":0},{"$f":"L24","v":0},{"$f":"L25","v":0}]
[null,null,null,null,null,null,null,null,{"$f":"A36","v":"Récap 28/02"},{"$f":"B35","v":0},{"$f":"D35","v":0},{"$f":"D36","v":0}]
[null,null,null,null,null,null,null,null,{"$f":"E36","v":"Récap 31/03"},{"$f":"F35","v":0},{"$f":"H35","v":0},{"$f":"H36","v":0}]
[null,null,null,null,null,null,null,null,{"$f":"I36","v":"Récap 30/04"},{"$f":"J35","v":0},{"$f":"L35","v":0},{"$f":"L36","v":0}]
[null,null,null,null,null,null,null,null,{"$f":"A48","v":"Récap 31/05"},{"$f":"B47","v":0},{"$f":"D47","v":0},{"$f":"D48","v":0}]
[null,{"$f":"SUM(B42:B46)","v":0},null,{"$f":"SUM(D42:D46)","v":0},null,{"$f":"SUM(F42:F46)","v":0},null,{"$f":"SUM(H42:H46)","v":0},{"$f":"E48","v":"Récap 30/06"},{"$f":"F47","v":0},{"$f":"H47","v":0},{"$f":"H48","v":0}]
["Récap 31/05",null,null,{"$f":"+B47-D47","v":0},"Récap 30/06",null,null,{"$f":"+F47-H47","v":0},"Situation 30/06",{"$f":"SUM(J42:J47)","v":0},{"$f":"SUM(K42:K47)","v":0},{"$f":"SUM(L41:L47)","v":81}]
[]
[null,null,null,null,null,null,null,null,null,null,null,{"$f":"F23+J48-G23-K48+B8","v":81}]
[]
[null,null,null,null,null,null,null,null,null,{"$f":"B13+F13+J13+B24+J24+B35+F35+J35+B47+F47","v":0},{"$f":"D13+H13+L13+D24+L24+D35+H35+L35+D47+H47","v":0},{"$f":"B8+J52-K52","v":81}]

{"sheet":"JACOBS","index":93,"n_rows":52,"n_cols":12,"rows_kept":52,"cut":false,"hidden":false,"merged":[[0,9,0,10],[2,1,2,2],[2,4,2,5],[2,8,2,9],[5,8,5,9],[5,10,5,11],[4,0,4,3],[4,4,4,7],[4,8,4,11],[5,0,5,1],[5,2,5,3],[5,4,5,5],[5,6,5,7],[24,0,24,2],[13,0,13,2],[13,4,13,6],[16,2,16,3],[37,9,37,10],[16,0,16,1],[27,6,27,7],[24,8,24,10],[38,8,38,11],[13,8,13,10],[15,0,15,3],[15,4,15,7],[15,8,15,11],[16,10,16,11],[26,0,26,3],[26,4,26,7],[26,8,26,11],[27,8,27,9],[35,0,35,2],[35,4,35,6],[35,8,35,10],[27,10,27,11],[16,8,16,9],[27,4,27,5],[47,0,47,2],[47,4,47,6],[38,0,38,3],[38,4,38,7],[39,4,39,5],[39,6,39,7]]}
[null,null,null,null,null,null,null,null,null,"Année scolaire : ",null,{"$f":"' Liste élèves'!B1","v":"2018-2019"}]
[]
["NOM : ",{"$f":"' Liste élèves'!A94","v":"JACOBS"},null,"PRENOM:",{"$f":"' Liste élèves'!B94","v":"Jordy"},null,null,"CLASSE :",{"$f":"' Liste élèves'!C94","v":"Classe JB"}]
[]
["SEPTEMBRE",null,null,null,"OCTOBRE",null,null,null,"NOVEMBRE"]
["RECETTES",null,"DEPENSES",null,"RECETTES",null,"DEPENSES",null,"RECETTES",null,"DEPENSES"]
["Dates","Montant","Activités","Montant","Dates","Montant","Activités","Montant","Dates","Montant","Activités","Montant"]
["Report juin",-1.5]
[]
[]
[]
[]
[null,{"$f":"SUM(B9:B12)","v":0},null,{"$f":"SUM(D8:D12)","v":0},null,{"$f":"SUM(F8:F12)","v":0},null,{"$f":"SUM(H8:H12)","v":0},null,{"$f":"SUM(J8:J12)","v":0},null,{"$f":"SUM(L8:L12)","v":0}]
["Récap 30/09",null,null,{"$f":"+B13-D13","v":0},"Récap 31/10",null,null,{"$f":"+F13-H13","v":0},"Récap 30/11",null,null,{"$f":"+J13-L13","v":0}]
[]
["DÉCEMBRE",null,null,null,"Situation fin décembre",null,null,null,"JANVIER"]
["RECETTES",null,"DEPENSES",null,null,"Recettes","Dépenses","Total","RECETTES",null,"DEPENSES"]
["Dates","Montant","Activités","Montant",{"$f":"A14","v":"Récap 30/09"},{"$f":"B13","v":0},{"$f":"D13","v":0},{"$f":"D14","v":0},"Dates","Montant","Activités","Montant"]
[null,null,null,null,{"$f":"E14","v":"Récap 31/10"},{"$f":"F13","v":0},{"$f":"H13","v":0},{"$f":"H14","v":0}]
[null,null,null,null,{"$f":"I14","v":"Récap 30/11"},{"$f":"J13","v":0},{"$f":"L13","v":0},{"$f":"L14","v":0}]
[null,null,null,null,{"$f":"A25","v":"Récap 31/12"},{"$f":"B24","v":0},{"$f":"D24","v":0},{"$f":"D25","v":0}]
[null,null,null,null,"Report Sept",null,null,{"$f":"B8","v":-1.5}]
[null,null,null,null,"Situation 31/12",{"$f":"SUM(F18:F22)","v":0},{"$f":"SUM(G18:G22)","v":0},{"$f":"SUM(H18:H22)","v":-1.5}]
[null,{"$f":"SUM(B19:B23)","v":0},null,{"$f":"SUM(D19:D23)","v":0},null,null,null,null,null,{"$f":"SUM(J19:J23)","v":0},null,{"$f":"SUM(L19:L23)","v":0}]
["Récap 31/12",null,null,{"$f":"+B24-D24","v":0},null,null,null,null,"Récap 31/01",null,null,{"$f":"+J24-L24","v":0}]
[]
["FÉVRIER",null,null,null,"MARS",null,null,null,"AVRIL"]
["RECETTES",null,"DEPENSES",null,"RECETTES",null,"DEPENSES",null,"RECETTES",null,"DEPENSES"]
["Dates","Montant","Activités","Montant","Dates","Montant","Activités","Montant","Dates","Montant","Activités","Montant"]
[]
[]
[]
[]
[]
[null,{"$f":"SUM(B30:B34)","v":0},null,{"$f":"SUM(D30:D34)","v":0},null,{"$f":"SUM(F30:F34)","v":0},null,{"$f":"SUM(H30:H34)","v":0},null,{"$f":"SUM(J30:J34)","v":0},null,{"$f":"SUM(L30:L34)","v":0}]
["Récap 28/02",null,null,{"$f":"+B35-D35","v":0},"Récap 31/03",null,null,{"$f":"+F35-H35","v":0},"Récap 30/04",null,null,{"$f":"+J35-L35","v":0}]
[]
[]
["MAI",null,null,null,"JUIN",null,null,null,"Situation fin juin"]
["RECETTES",null,"DEPENSES",null,"RECETTES",null,"DEPENSES",null,null,"Recettes","Dépenses","Total"]
["Dates","Montant","Activités","Montant","Dates","Montant","Activités","Montant",{"$f":"E23","v":"Situation 31/12"},null,null,{"$f":"H23","v":-1.5}]
[null,null,null,null,null,null,null,null,{"$f":"I25","v":"Récap 31/01"},{"$f":"J24","v":0},{"$f":"L24","v":0},{"$f":"L25","v":0}]
[null,null,null,null,null,null,null,null,{"$f":"A36","v":"Récap 28/02"},{"$f":"B35","v":0},{"$f":"D35","v":0},{"$f":"D36","v":0}]
[null,null,null,null,null,null,null,null,{"$f":"E36","v":"Récap 31/03"},{"$f":"F35","v":0},{"$f":"H35","v":0},{"$f":"H36","v":0}]
[null,null,null,null,null,null,null,null,{"$f":"I36","v":"Récap 30/04"},{"$f":"J35","v":0},{"$f":"L35","v":0},{"$f":"L36","v":0}]
[null,null,null,null,null,null,null,null,{"$f":"A48","v":"Récap 31/05"},{"$f":"B47","v":0},{"$f":"D47","v":0},{"$f":"D48","v":0}]
[null,{"$f":"SUM(B42:B46)","v":0},null,{"$f":"SUM(D42:D46)","v":0},null,{"$f":"SUM(F42:F46)","v":0},null,{"$f":"SUM(H42:H46)","v":0},{"$f":"E48","v":"Récap 30/06"},{"$f":"F47","v":0},{"$f":"H47","v":0},{"$f":"H48","v":0}]
["Récap 31/05",null,null,{"$f":"+B47-D47","v":0},"Récap 30/06",null,null,{"$f":"+F47-H47","v":0},"Situation 30/06",{"$f":"SUM(J42:J47)","v":0},{"$f":"SUM(K42:K47)","v":0},{"$f":"SUM(L41:L47)","v":-1.5}]
[]
[null,null,null,null,null,null,null,null,null,null,null,{"$f":"F23+J48-G23-K48+B8","v":-1.5}]
[]
[null,null,null,null,null,null,null,null,null,{"$f":"B13+F13+J13+B24+J24+B35+F35+J35+B47+F47","v":0},{"$f":"D13+H13+L13+D24+L24+D35+H35+L35+D47+H47","v":0},{"$f":"B8+J52-K52","v":-1.5}]

{"sheet":"JAMMES","index":94,"n_rows":52,"n_cols":12,"rows_kept":52,"cut":false,"hidden":false,"merged":[[0,9,0,10],[2,1,2,2],[2,4,2,5],[2,8,2,9],[5,8,5,9],[5,10,5,11],[4,0,4,3],[4,4,4,7],[4,8,4,11],[5,0,5,1],[5,2,5,3],[5,4,5,5],[5,6,5,7],[24,0,24,2],[13,0,13,2],[13,4,13,6],[16,2,16,3],[37,9,37,10],[16,0,16,1],[27,6,27,7],[24,8,24,10],[38,8,38,11],[13,8,13,10],[15,0,15,3],[15,4,15,7],[15,8,15,11],[16,10,16,11],[26,0,26,3],[26,4,26,7],[26,8,26,11],[27,8,27,9],[35,0,35,2],[35,4,35,6],[35,8,35,10],[27,10,27,11],[16,8,16,9],[27,4,27,5],[47,0,47,2],[47,4,47,6],[38,0,38,3],[38,4,38,7],[39,4,39,5],[39,6,39,7]]}
[null,null,null,null,null,null,null,null,null,"Année scolaire : ",null,{"$f":"' Liste élèves'!B1","v":"2018-2019"}]
[]
["NOM : ",{"$f":"' Liste élèves'!A95","v":"JAMMES"},null,"PRENOM:",{"$f":"' Liste élèves'!B95","v":"Maverick"},null,null,"CLASSE :",{"$f":"' Liste élèves'!C95","v":"Classe AA"}]
[]
["SEPTEMBRE",null,null,null,"OCTOBRE",null,null,null,"NOVEMBRE"]
["RECETTES",null,"DEPENSES",null,"RECETTES",null,"DEPENSES",null,"RECETTES",null,"DEPENSES"]
["Dates","Montant","Activités","Montant","Dates","Montant","Activités","Montant","Dates","Montant","Activités","Montant"]
["Report juin",55.5]
[]
[]
[]
[]
[null,{"$f":"SUM(B9:B12)","v":0},null,{"$f":"SUM(D8:D12)","v":0},null,{"$f":"SUM(F8:F12)","v":0},null,{"$f":"SUM(H8:H12)","v":0},null,{"$f":"SUM(J8:J12)","v":0},null,{"$f":"SUM(L8:L12)","v":0}]
["Récap 30/09",null,null,{"$f":"+B13-D13","v":0},"Récap 31/10",null,null,{"$f":"+F13-H13","v":0},"Récap 30/11",null,null,{"$f":"+J13-L13","v":0}]
[]
["DÉCEMBRE",null,null,null,"Situation fin décembre",null,null,null,"JANVIER"]
["RECETTES",null,"DEPENSES",null,null,"Recettes","Dépenses","Total","RECETTES",null,"DEPENSES"]
["Dates","Montant","Activités","Montant",{"$f":"A14","v":"Récap 30/09"},{"$f":"B13","v":0},{"$f":"D13","v":0},{"$f":"D14","v":0},"Dates","Montant","Activités","Montant"]
[null,null,null,null,{"$f":"E14","v":"Récap 31/10"},{"$f":"F13","v":0},{"$f":"H13","v":0},{"$f":"H14","v":0}]
[null,null,null,null,{"$f":"I14","v":"Récap 30/11"},{"$f":"J13","v":0},{"$f":"L13","v":0},{"$f":"L14","v":0}]
[null,null,null,null,{"$f":"A25","v":"Récap 31/12"},{"$f":"B24","v":0},{"$f":"D24","v":0},{"$f":"D25","v":0}]
[null,null,null,null,"Report Sept",null,null,{"$f":"B8","v":55.5}]
[null,null,null,null,"Situation 31/12",{"$f":"SUM(F18:F22)","v":0},{"$f":"SUM(G18:G22)","v":0},{"$f":"SUM(H18:H22)","v":55.5}]
[null,{"$f":"SUM(B19:B23)","v":0},null,{"$f":"SUM(D19:D23)","v":0},null,null,null,null,null,{"$f":"SUM(J19:J23)","v":0},null,{"$f":"SUM(L19:L23)","v":0}]
["Récap 31/12",null,null,{"$f":"+B24-D24","v":0},null,null,null,null,"Récap 31/01",null,null,{"$f":"+J24-L24","v":0}]
[]
["FÉVRIER",null,null,null,"MARS",null,null,null,"AVRIL"]
["RECETTES",null,"DEPENSES",null,"RECETTES",null,"DEPENSES",null,"RECETTES",null,"DEPENSES"]
["Dates","Montant","Activités","Montant","Dates","Montant","Activités","Montant","Dates","Montant","Activités","Montant"]
[]
[]
[]
[]
[]
[null,{"$f":"SUM(B30:B34)","v":0},null,{"$f":"SUM(D30:D34)","v":0},null,{"$f":"SUM(F30:F34)","v":0},null,{"$f":"SUM(H30:H34)","v":0},null,{"$f":"SUM(J30:J34)","v":0},null,{"$f":"SUM(L30:L34)","v":0}]
["Récap 28/02",null,null,{"$f":"+B35-D35","v":0},"Récap 31/03",null,null,{"$f":"+F35-H35","v":0},"Récap 30/04",null,null,{"$f":"+J35-L35","v":0}]
[]
[]
["MAI",null,null,null,"JUIN",null,null,null,"Situation fin juin"]
["RECETTES",null,"DEPENSES",null,"RECETTES",null,"DEPENSES",null,null,"Recettes","Dépenses","Total"]
["Dates","Montant","Activités","Montant","Dates","Montant","Activités","Montant",{"$f":"E23","v":"Situation 31/12"},null,null,{"$f":"H23","v":55.5}]
[null,null,null,null,null,null,null,null,{"$f":"I25","v":"Récap 31/01"},{"$f":"J24","v":0},{"$f":"L24","v":0},{"$f":"L25","v":0}]
[null,null,null,null,null,null,null,null,{"$f":"A36","v":"Récap 28/02"},{"$f":"B35","v":0},{"$f":"D35","v":0},{"$f":"D36","v":0}]
[null,null,null,null,null,null,null,null,{"$f":"E36","v":"Récap 31/03"},{"$f":"F35","v":0},{"$f":"H35","v":0},{"$f":"H36","v":0}]
[null,null,null,null,null,null,null,null,{"$f":"I36","v":"Récap 30/04"},{"$f":"J35","v":0},{"$f":"L35","v":0},{"$f":"L36","v":0}]
[null,null,null,null,null,null,null,null,{"$f":"A48","v":"Récap 31/05"},{"$f":"B47","v":0},{"$f":"D47","v":0},{"$f":"D48","v":0}]
[null,{"$f":"SUM(B42:B46)","v":0},null,{"$f":"SUM(D42:D46)","v":0},null,{"$f":"SUM(F42:F46)","v":0},null,{"$f":"SUM(H42:H46)","v":0},{"$f":"E48","v":"Récap 30/06"},{"$f":"F47","v":0},{"$f":"H47","v":0},{"$f":"H48","v":0}]
["Récap 31/05",null,null,{"$f":"+B47-D47","v":0},"Récap 30/06",null,null,{"$f":"+F47-H47","v":0},"Situation 30/06",{"$f":"SUM(J42:J47)","v":0},{"$f":"SUM(K42:K47)","v":0},{"$f":"SUM(L41:L47)","v":55.5}]
[]
[null,null,null,null,null,null,null,null,null,null,null,{"$f":"F23+J48-G23-K48+B8","v":55.5}]
[]
[null,null,null,null,null,null,null,null,null,{"$f":"B13+F13+J13+B24+J24+B35+F35+J35+B47+F47","v":0},{"$f":"D13+H13+L13+D24+L24+D35+H35+L35+D47+H47","v":0},{"$f":"B8+J52-K52","v":55.5}]

{"sheet":"JAQUBIAK","index":95,"n_rows":52,"n_cols":12,"rows_kept":52,"cut":false,"hidden":false,"merged":[[39,4,39,5],[39,6,39,7],[47,0,47,2],[47,4,47,6],[35,0,35,2],[35,4,35,6],[35,8,35,10],[37,9,37,10],[38,0,38,3],[38,4,38,7],[38,8,38,11],[26,0,26,3],[26,4,26,7],[26,8,26,11],[27,4,27,5],[27,6,27,7],[27,8,27,9],[27,10,27,11],[16,0,16,1],[16,2,16,3],[16,8,16,9],[16,10,16,11],[24,0,24,2],[24,8,24,10],[13,0,13,2],[13,4,13,6],[13,8,13,10],[15,0,15,3],[15,4,15,7],[15,8,15,11],[5,10,5,11],[0,9,0,10],[2,1,2,2],[2,4,2,5],[2,8,2,9],[4,0,4,3],[4,4,4,7],[4,8,4,11],[5,0,5,1],[5,2,5,3],[5,4,5,5],[5,6,5,7],[5,8,5,9]]}
[null,null,null,null,null,null,null,null,null,"Année scolaire : ",null,{"$f":"' Liste élèves'!B1","v":"2018-2019"}]
[]
["NOM : ",{"$f":"' Liste élèves'!A96","v":"JAQUBIAK"},null,"PRENOM:",{"$f":"' Liste élèves'!B96","v":"Youri"},null,null,"CLASSE :",{"$f":"' Liste élèves'!C96","v":"Classe 9"}]
[]
["SEPTEMBRE",null,null,null,"OCTOBRE",null,null,null,"NOVEMBRE"]
["RECETTES",null,"DEPENSES",null,"RECETTES",null,"DEPENSES",null,"RECETTES",null,"DEPENSES"]
["Dates","Montant","Activités","Montant","Dates","Montant","Activités","Montant","Dates","Montant","Activités","Montant"]
["Report juin",32.299999999999997]
[]
[]
[]
[]
[null,{"$f":"SUM(B9:B12)","v":0},null,{"$f":"SUM(D8:D12)","v":0},null,{"$f":"SUM(F8:F12)","v":0},null,{"$f":"SUM(H8:H12)","v":0},null,{"$f":"SUM(J8:J12)","v":0},null,{"$f":"SUM(L8:L12)","v":0}]
["Récap 30/09",null,null,{"$f":"+B13-D13","v":0},"Récap 31/10",null,null,{"$f":"+F13-H13","v":0},"Récap 30/11",null,null,{"$f":"+J13-L13","v":0}]
[]
["DÉCEMBRE",null,null,null,"Situation fin décembre",null,null,null,"JANVIER"]
["RECETTES",null,"DEPENSES",null,null,"Recettes","Dépenses","Total","RECETTES",null,"DEPENSES"]
["Dates","Montant","Activités","Montant",{"$f":"A14","v":"Récap 30/09"},{"$f":"B13","v":0},{"$f":"D13","v":0},{"$f":"D14","v":0},"Dates","Montant","Activités","Montant"]
[null,null,null,null,{"$f":"E14","v":"Récap 31/10"},{"$f":"F13","v":0},{"$f":"H13","v":0},{"$f":"H14","v":0}]
[null,null,null,null,{"$f":"I14","v":"Récap 30/11"},{"$f":"J13","v":0},{"$f":"L13","v":0},{"$f":"L14","v":0}]
[null,null,null,null,{"$f":"A25","v":"Récap 31/12"},{"$f":"B24","v":0},{"$f":"D24","v":0},{"$f":"D25","v":0}]
[null,null,null,null,"Report Sept",null,null,{"$f":"B8","v":32.299999999999997}]
[null,null,null,null,"Situation 31/12",{"$f":"SUM(F18:F22)","v":0},{"$f":"SUM(G18:G22)","v":0},{"$f":"SUM(H18:H22)","v":32.299999999999997}]
[null,{"$f":"SUM(B19:B23)","v":0},null,{"$f":"SUM(D19:D23)","v":0},null,null,null,null,null,{"$f":"SUM(J19:J23)","v":0},null,{"$f":"SUM(L19:L23)","v":0}]
["Récap 31/12",null,null,{"$f":"+B24-D24","v":0},null,null,null,null,"Récap 31/01",null,null,{"$f":"+J24-L24","v":0}]
[]
["FÉVRIER",null,null,null,"MARS",null,null,null,"AVRIL"]
["RECETTES",null,"DEPENSES",null,"RECETTES",null,"DEPENSES",null,"RECETTES",null,"DEPENSES"]
["Dates","Montant","Activités","Montant","Dates","Montant","Activités","Montant","Dates","Montant","Activités","Montant"]
[]
[]
[]
[]
[]
[null,{"$f":"SUM(B30:B34)","v":0},null,{"$f":"SUM(D30:D34)","v":0},null,{"$f":"SUM(F30:F34)","v":0},null,{"$f":"SUM(H30:H34)","v":0},null,{"$f":"SUM(J30:J34)","v":0},null,{"$f":"SUM(L30:L34)","v":0}]
["Récap 28/02",null,null,{"$f":"+B35-D35","v":0},"Récap 31/03",null,null,{"$f":"+F35-H35","v":0},"Récap 30/04",null,null,{"$f":"+J35-L35","v":0}]
[]
[]
["MAI",null,null,null,"JUIN",null,null,null,"Situation fin juin"]
["RECETTES",null,"DEPENSES",null,"RECETTES",null,"DEPENSES",null,null,"Recettes","Dépenses","Total"]
["Dates","Montant","Activités","Montant","Dates","Montant","Activités","Montant",{"$f":"E23","v":"Situation 31/12"},null,null,{"$f":"H23","v":32.299999999999997}]
[null,null,null,null,null,null,null,null,{"$f":"I25","v":"Récap 31/01"},{"$f":"J24","v":0},{"$f":"L24","v":0},{"$f":"L25","v":0}]
[null,null,null,null,null,null,null,null,{"$f":"A36","v":"Récap 28/02"},{"$f":"B35","v":0},{"$f":"D35","v":0},{"$f":"D36","v":0}]
[null,null,null,null,null,null,null,null,{"$f":"E36","v":"Récap 31/03"},{"$f":"F35","v":0},{"$f":"H35","v":0},{"$f":"H36","v":0}]
[null,null,null,null,null,null,null,null,{"$f":"I36","v":"Récap 30/04"},{"$f":"J35","v":0},{"$f":"L35","v":0},{"$f":"L36","v":0}]
[null,null,null,null,null,null,null,null,{"$f":"A48","v":"Récap 31/05"},{"$f":"B47","v":0},{"$f":"D47","v":0},{"$f":"D48","v":0}]
[null,{"$f":"SUM(B42:B46)","v":0},null,{"$f":"SUM(D42:D46)","v":0},null,{"$f":"SUM(F42:F46)","v":0},null,{"$f":"SUM(H42:H46)","v":0},{"$f":"E48","v":"Récap 30/06"},{"$f":"F47","v":0},{"$f":"H47","v":0},{"$f":"H48","v":0}]
["Récap 31/05",null,null,{"$f":"+B47-D47","v":0},"Récap 30/06",null,null,{"$f":"+F47-H47","v":0},"Situation 30/06",{"$f":"SUM(J42:J47)","v":0},{"$f":"SUM(K42:K47)","v":0},{"$f":"SUM(L41:L47)","v":32.299999999999997}]
[]
[null,null,null,null,null,null,null,null,null,null,null,{"$f":"F23+J48-G23-K48+B8","v":32.299999999999997}]
[]
[null,null,null,null,null,null,null,null,null,{"$f":"B13+F13+J13+B24+J24+B35+F35+J35+B47+F47","v":0},{"$f":"D13+H13+L13+D24+L24+D35+H35+L35+D47+H47","v":0},{"$f":"B8+J52-K52","v":32.299999999999997}]

{"sheet":"JEZIERSKI","index":96,"n_rows":52,"n_cols":12,"rows_kept":52,"cut":false,"hidden":false,"merged":[[5,10,5,11],[0,9,0,10],[2,1,2,2],[2,4,2,5],[2,8,2,9],[4,0,4,3],[4,4,4,7],[4,8,4,11],[5,0,5,1],[5,2,5,3],[5,4,5,5],[5,6,5,7],[5,8,5,9],[13,0,13,2],[13,4,13,6],[13,8,13,10],[15,0,15,3],[15,4,15,7],[15,8,15,11],[16,0,16,1],[16,2,16,3],[16,8,16,9],[16,10,16,11],[24,0,24,2],[24,8,24,10],[26,0,26,3],[26,4,26,7],[26,8,26,11],[27,4,27,5],[27,6,27,7],[27,8,27,9],[27,10,27,11],[35,8,35,10],[37,9,37,10],[38,0,38,3],[38,4,38,7],[38,8,38,11],[39,4,39,5],[39,6,39,7],[47,0,47,2],[47,4,47,6],[35,0,35,2],[35,4,35,6]]}
[null,null,null,null,null,null,null,null,null,"Année scolaire : ",null,{"$f":"' Liste élèves'!B1","v":"2018-2019"}]
[]
["NOM : ",{"$f":"' Liste élèves'!A97","v":"JEZIERSKI"},null,"PRENOM:",{"$f":"' Liste élèves'!B97","v":"Marine"},null,null,"CLASSE :",{"$f":"' Liste élèves'!C97","v":"Classe 1"}]
[]
["SEPTEMBRE",null,null,null,"OCTOBRE",null,null,null,"NOVEMBRE"]
["RECETTES",null,"DEPENSES",null,"RECETTES",null,"DEPENSES",null,"RECETTES",null,"DEPENSES"]
["Dates","Montant","Activités","Montant","Dates","Montant","Activités","Montant","Dates","Montant","Activités","Montant"]
["Report juin"]
[]
[]
[]
[]
[null,{"$f":"SUM(B9:B12)","v":0},null,{"$f":"SUM(D8:D12)","v":0},null,{"$f":"SUM(F8:F12)","v":0},null,{"$f":"SUM(H8:H12)","v":0},null,{"$f":"SUM(J8:J12)","v":0},null,{"$f":"SUM(L8:L12)","v":0}]
["Récap 30/09",null,null,{"$f":"+B13-D13","v":0},"Récap 31/10",null,null,{"$f":"+F13-H13","v":0},"Récap 30/11",null,null,{"$f":"+J13-L13","v":0}]
[]
["DÉCEMBRE",null,null,null,"Situation fin décembre",null,null,null,"JANVIER"]
["RECETTES",null,"DEPENSES",null,null,"Recettes","Dépenses","Total","RECETTES",null,"DEPENSES"]
["Dates","Montant","Activités","Montant",{"$f":"A14","v":"Récap 30/09"},{"$f":"B13","v":0},{"$f":"D13","v":0},{"$f":"D14","v":0},"Dates","Montant","Activités","Montant"]
[null,null,null,null,{"$f":"E14","v":"Récap 31/10"},{"$f":"F13","v":0},{"$f":"H13","v":0},{"$f":"H14","v":0}]
[null,null,null,null,{"$f":"I14","v":"Récap 30/11"},{"$f":"J13","v":0},{"$f":"L13","v":0},{"$f":"L14","v":0}]
[null,null,null,null,{"$f":"A25","v":"Récap 31/12"},{"$f":"B24","v":0},{"$f":"D24","v":0},{"$f":"D25","v":0}]
[null,null,null,null,"Report Sept",null,null,{"$f":"B8","v":0}]
[null,null,null,null,"Situation 31/12",{"$f":"SUM(F18:F22)","v":0},{"$f":"SUM(G18:G22)","v":0},{"$f":"SUM(H18:H22)","v":0}]
[null,{"$f":"SUM(B19:B23)","v":0},null,{"$f":"SUM(D19:D23)","v":0},null,null,null,null,null,{"$f":"SUM(J19:J23)","v":0},null,{"$f":"SUM(L19:L23)","v":0}]
["Récap 31/12",null,null,{"$f":"+B24-D24","v":0},null,null,null,null,"Récap 31/01",null,null,{"$f":"+J24-L24","v":0}]
[]
["FÉVRIER",null,null,null,"MARS",null,null,null,"AVRIL"]
["RECETTES",null,"DEPENSES",null,"RECETTES",null,"DEPENSES",null,"RECETTES",null,"DEPENSES"]
["Dates","Montant","Activités","Montant","Dates","Montant","Activités","Montant","Dates","Montant","Activités","Montant"]
[]
[]
[]
[]
[]
[null,{"$f":"SUM(B30:B34)","v":0},null,{"$f":"SUM(D30:D34)","v":0},null,{"$f":"SUM(F30:F34)","v":0},null,{"$f":"SUM(H30:H34)","v":0},null,{"$f":"SUM(J30:J34)","v":0},null,{"$f":"SUM(L30:L34)","v":0}]
["Récap 28/02",null,null,{"$f":"+B35-D35","v":0},"Récap 31/03",null,null,{"$f":"+F35-H35","v":0},"Récap 30/04",null,null,{"$f":"+J35-L35","v":0}]
[]
[]
["MAI",null,null,null,"JUIN",null,null,null,"Situation fin juin"]
["RECETTES",null,"DEPENSES",null,"RECETTES",null,"DEPENSES",null,null,"Recettes","Dépenses","Total"]
["Dates","Montant","Activités","Montant","Dates","Montant","Activités","Montant",{"$f":"E23","v":"Situation 31/12"},null,null,{"$f":"H23","v":0}]
[null,null,null,null,null,null,null,null,{"$f":"I25","v":"Récap 31/01"},{"$f":"J24","v":0},{"$f":"L24","v":0},{"$f":"L25","v":0}]
[null,null,null,null,null,null,null,null,{"$f":"A36","v":"Récap 28/02"},{"$f":"B35","v":0},{"$f":"D35","v":0},{"$f":"D36","v":0}]
[null,null,null,null,null,null,null,null,{"$f":"E36","v":"Récap 31/03"},{"$f":"F35","v":0},{"$f":"H35","v":0},{"$f":"H36","v":0}]
[null,null,null,null,null,null,null,null,{"$f":"I36","v":"Récap 30/04"},{"$f":"J35","v":0},{"$f":"L35","v":0},{"$f":"L36","v":0}]
[null,null,null,null,null,null,null,null,{"$f":"A48","v":"Récap 31/05"},{"$f":"B47","v":0},{"$f":"D47","v":0},{"$f":"D48","v":0}]
[null,{"$f":"SUM(B42:B46)","v":0},null,{"$f":"SUM(D42:D46)","v":0},null,{"$f":"SUM(F42:F46)","v":0},null,{"$f":"SUM(H42:H46)","v":0},{"$f":"E48","v":"Récap 30/06"},{"$f":"F47","v":0},{"$f":"H47","v":0},{"$f":"H48","v":0}]
["Récap 31/05",null,null,{"$f":"+B47-D47","v":0},"Récap 30/06",null,null,{"$f":"+F47-H47","v":0},"Situation 30/06",{"$f":"SUM(J42:J47)","v":0},{"$f":"SUM(K42:K47)","v":0},{"$f":"SUM(L41:L47)","v":0}]
[]
[null,null,null,null,null,null,null,null,null,null,null,{"$f":"F23+J48-G23-K48+B8","v":0}]
[]
[null,null,null,null,null,null,null,null,null,{"$f":"B13+F13+J13+B24+J24+B35+F35+J35+B47+F47","v":0},{"$f":"D13+H13+L13+D24+L24+D35+H35+L35+D47+H47","v":0},{"$f":"B8+J52-K52","v":0}]

{"sheet":"JOCHMANS","index":97,"n_rows":52,"n_cols":12,"rows_kept":52,"cut":false,"hidden":false,"merged":[[5,10,5,11],[0,9,0,10],[2,1,2,2],[2,4,2,5],[2,8,2,9],[4,0,4,3],[4,4,4,7],[4,8,4,11],[5,0,5,1],[5,2,5,3],[5,4,5,5],[5,6,5,7],[5,8,5,9],[13,0,13,2],[13,4,13,6],[13,8,13,10],[15,0,15,3],[15,4,15,7],[15,8,15,11],[16,0,16,1],[16,2,16,3],[16,8,16,9],[16,10,16,11],[24,0,24,2],[24,8,24,10],[26,0,26,3],[26,4,26,7],[26,8,26,11],[27,4,27,5],[27,6,27,7],[27,8,27,9],[27,10,27,11],[35,8,35,10],[37,9,37,10],[38,0,38,3],[38,4,38,7],[38,8,38,11],[39,4,39,5],[39,6,39,7],[47,0,47,2],[47,4,47,6],[35,0,35,2],[35,4,35,6]]}
[null,null,null,null,null,null,null,null,null,"Année scolaire : ",null,{"$f":"' Liste élèves'!B1","v":"2018-2019"}]
[]
["NOM : ",{"$f":"' Liste élèves'!A98","v":"JOCHMANS"},null,"PRENOM:",{"$f":"' Liste élèves'!B98","v":"Emma"},null,null,"CLASSE :",{"$f":"' Liste élèves'!C98","v":"Classe 9"}]
[]
["SEPTEMBRE",null,null,null,"OCTOBRE",null,null,null,"NOVEMBRE"]
["RECETTES",null,"DEPENSES",null,"RECETTES",null,"DEPENSES",null,"RECETTES",null,"DEPENSES"]
["Dates","Montant","Activités","Montant","Dates","Montant","Activités","Montant","Dates","Montant","Activités","Montant"]
["Report juin"]
[]
[]
[]
[]
[null,{"$f":"SUM(B9:B12)","v":0},null,{"$f":"SUM(D8:D12)","v":0},null,{"$f":"SUM(F8:F12)","v":0},null,{"$f":"SUM(H8:H12)","v":0},null,{"$f":"SUM(J8:J12)","v":0},null,{"$f":"SUM(L8:L12)","v":0}]
["Récap 30/09",null,null,{"$f":"+B13-D13","v":0},"Récap 31/10",null,null,{"$f":"+F13-H13","v":0},"Récap 30/11",null,null,{"$f":"+J13-L13","v":0}]
[]
["DÉCEMBRE",null,null,null,"Situation fin décembre",null,null,null,"JANVIER"]
["RECETTES",null,"DEPENSES",null,null,"Recettes","Dépenses","Total","RECETTES",null,"DEPENSES"]
["Dates","Montant","Activités","Montant",{"$f":"A14","v":"Récap 30/09"},{"$f":"B13","v":0},{"$f":"D13","v":0},{"$f":"D14","v":0},"Dates","Montant","Activités","Montant"]
[null,null,null,null,{"$f":"E14","v":"Récap 31/10"},{"$f":"F13","v":0},{"$f":"H13","v":0},{"$f":"H14","v":0}]
[null,null,null,null,{"$f":"I14","v":"Récap 30/11"},{"$f":"J13","v":0},{"$f":"L13","v":0},{"$f":"L14","v":0}]
[null,null,null,null,{"$f":"A25","v":"Récap 31/12"},{"$f":"B24","v":0},{"$f":"D24","v":0},{"$f":"D25","v":0}]
[null,null,null,null,"Report Sept",null,null,{"$f":"B8","v":0}]
[null,null,null,null,"Situation 31/12",{"$f":"SUM(F18:F22)","v":0},{"$f":"SUM(G18:G22)","v":0},{"$f":"SUM(H18:H22)","v":0}]
[null,{"$f":"SUM(B19:B23)","v":0},null,{"$f":"SUM(D19:D23)","v":0},null,null,null,null,null,{"$f":"SUM(J19:J23)","v":0},null,{"$f":"SUM(L19:L23)","v":0}]
["Récap 31/12",null,null,{"$f":"+B24-D24","v":0},null,null,null,null,"Récap 31/01",null,null,{"$f":"+J24-L24","v":0}]
[]
["FÉVRIER",null,null,null,"MARS",null,null,null,"AVRIL"]
["RECETTES",null,"DEPENSES",null,"RECETTES",null,"DEPENSES",null,"RECETTES",null,"DEPENSES"]
["Dates","Montant","Activités","Montant","Dates","Montant","Activités","Montant","Dates","Montant","Activités","Montant"]
[]
[]
[]
[]
[]
[null,{"$f":"SUM(B30:B34)","v":0},null,{"$f":"SUM(D30:D34)","v":0},null,{"$f":"SUM(F30:F34)","v":0},null,{"$f":"SUM(H30:H34)","v":0},null,{"$f":"SUM(J30:J34)","v":0},null,{"$f":"SUM(L30:L34)","v":0}]
["Récap 28/02",null,null,{"$f":"+B35-D35","v":0},"Récap 31/03",null,null,{"$f":"+F35-H35","v":0},"Récap 30/04",null,null,{"$f":"+J35-L35","v":0}]
[]
[]
["MAI",null,null,null,"JUIN",null,null,null,"Situation fin juin"]
["RECETTES",null,"DEPENSES",null,"RECETTES",null,"DEPENSES",null,null,"Recettes","Dépenses","Total"]
["Dates","Montant","Activités","Montant","Dates","Montant","Activités","Montant",{"$f":"E23","v":"Situation 31/12"},null,null,{"$f":"H23","v":0}]
[null,null,null,null,null,null,null,null,{"$f":"I25","v":"Récap 31/01"},{"$f":"J24","v":0},{"$f":"L24","v":0},{"$f":"L25","v":0}]
[null,null,null,null,null,null,null,null,{"$f":"A36","v":"Récap 28/02"},{"$f":"B35","v":0},{"$f":"D35","v":0},{"$f":"D36","v":0}]
[null,null,null,null,null,null,null,null,{"$f":"E36","v":"Récap 31/03"},{"$f":"F35","v":0},{"$f":"H35","v":0},{"$f":"H36","v":0}]
[null,null,null,null,null,null,null,null,{"$f":"I36","v":"Récap 30/04"},{"$f":"J35","v":0},{"$f":"L35","v":0},{"$f":"L36","v":0}]
[null,null,null,null,null,null,null,null,{"$f":"A48","v":"Récap 31/05"},{"$f":"B47","v":0},{"$f":"D47","v":0},{"$f":"D48","v":0}]
[null,{"$f":"SUM(B42:B46)","v":0},null,{"$f":"SUM(D42:D46)","v":0},null,{"$f":"SUM(F42:F46)","v":0},null,{"$f":"SUM(H42:H46)","v":0},{"$f":"E48","v":"Récap 30/06"},{"$f":"F47","v":0},{"$f":"H47","v":0},{"$f":"H48","v":0}]
["Récap 31/05",null,null,{"$f":"+B47-D47","v":0},"Récap 30/06",null,null,{"$f":"+F47-H47","v":0},"Situation 30/06",{"$f":"SUM(J42:J47)","v":0},{"$f":"SUM(K42:K47)","v":0},{"$f":"SUM(L41:L47)","v":0}]
[]
[null,null,null,null,null,null,null,null,null,null,null,{"$f":"F23+J48-G23-K48+B8","v":0}]
[]
[null,null,null,null,null,null,null,null,null,{"$f":"B13+F13+J13+B24+J24+B35+F35+J35+B47+F47","v":0},{"$f":"D13+H13+L13+D24+L24+D35+H35+L35+D47+H47","v":0},{"$f":"B8+J52-K52","v":0}]

{"sheet":"KADRI","index":98,"n_rows":52,"n_cols":12,"rows_kept":52,"cut":false,"hidden":false,"merged":[[0,9,0,10],[2,1,2,2],[2,4,2,5],[2,8,2,9],[5,8,5,9],[5,10,5,11],[4,0,4,3],[4,4,4,7],[4,8,4,11],[5,0,5,1],[5,2,5,3],[5,4,5,5],[5,6,5,7],[24,0,24,2],[13,0,13,2],[13,4,13,6],[16,2,16,3],[37,9,37,10],[16,0,16,1],[27,6,27,7],[24,8,24,10],[38,8,38,11],[13,8,13,10],[15,0,15,3],[15,4,15,7],[15,8,15,11],[16,10,16,11],[26,0,26,3],[26,4,26,7],[26,8,26,11],[27,8,27,9],[35,0,35,2],[35,4,35,6],[35,8,35,10],[27,10,27,11],[16,8,16,9],[27,4,27,5],[47,0,47,2],[47,4,47,6],[38,0,38,3],[38,4,38,7],[39,4,39,5],[39,6,39,7]]}
[null,null,null,null,null,null,null,null,null,"Année scolaire : ",null,{"$f":"' Liste élèves'!B1","v":"2018-2019"}]
[]
["NOM : ",{"$f":"' Liste élèves'!A99","v":"KADRI"},null,"PRENOM:",{"$f":"' Liste élèves'!B99","v":"Mohammed"},null,null,"CLASSE :",{"$f":"' Liste élèves'!C99","v":"Classe 6"}]
[]
["SEPTEMBRE",null,null,null,"OCTOBRE",null,null,null,"NOVEMBRE"]
["RECETTES",null,"DEPENSES",null,"RECETTES",null,"DEPENSES",null,"RECETTES",null,"DEPENSES"]
["Dates","Montant","Activités","Montant","Dates","Montant","Activités","Montant","Dates","Montant","Activités","Montant"]
["Report juin",28.5]
[]
[]
[]
[]
[null,{"$f":"SUM(B9:B12)","v":0},null,{"$f":"SUM(D8:D12)","v":0},null,{"$f":"SUM(F8:F12)","v":0},null,{"$f":"SUM(H8:H12)","v":0},null,{"$f":"SUM(J8:J12)","v":0},null,{"$f":"SUM(L8:L12)","v":0}]
["Récap 30/09",null,null,{"$f":"+B13-D13","v":0},"Récap 31/10",null,null,{"$f":"+F13-H13","v":0},"Récap 30/11",null,null,{"$f":"+J13-L13","v":0}]
[]
["DÉCEMBRE",null,null,null,"Situation fin décembre",null,null,null,"JANVIER"]
["RECETTES",null,"DEPENSES",null,null,"Recettes","Dépenses","Total","RECETTES",null,"DEPENSES"]
["Dates","Montant","Activités","Montant",{"$f":"A14","v":"Récap 30/09"},{"$f":"B13","v":0},{"$f":"D13","v":0},{"$f":"D14","v":0},"Dates","Montant","Activités","Montant"]
[null,null,null,null,{"$f":"E14","v":"Récap 31/10"},{"$f":"F13","v":0},{"$f":"H13","v":0},{"$f":"H14","v":0}]
[null,null,null,null,{"$f":"I14","v":"Récap 30/11"},{"$f":"J13","v":0},{"$f":"L13","v":0},{"$f":"L14","v":0}]
[null,null,null,null,{"$f":"A25","v":"Récap 31/12"},{"$f":"B24","v":0},{"$f":"D24","v":0},{"$f":"D25","v":0}]
[null,null,null,null,"Report Sept",null,null,{"$f":"B8","v":28.5}]
[null,null,null,null,"Situation 31/12",{"$f":"SUM(F18:F22)","v":0},{"$f":"SUM(G18:G22)","v":0},{"$f":"SUM(H18:H22)","v":28.5}]
[null,{"$f":"SUM(B19:B23)","v":0},null,{"$f":"SUM(D19:D23)","v":0},null,null,null,null,null,{"$f":"SUM(J19:J23)","v":0},null,{"$f":"SUM(L19:L23)","v":0}]
["Récap 31/12",null,null,{"$f":"+B24-D24","v":0},null,null,null,null,"Récap 31/01",null,null,{"$f":"+J24-L24","v":0}]
[]
["FÉVRIER",null,null,null,"MARS",null,null,null,"AVRIL"]
["RECETTES",null,"DEPENSES",null,"RECETTES",null,"DEPENSES",null,"RECETTES",null,"DEPENSES"]
["Dates","Montant","Activités","Montant","Dates","Montant","Activités","Montant","Dates","Montant","Activités","Montant"]
[]
[]
[]
[]
[]
[null,{"$f":"SUM(B30:B34)","v":0},null,{"$f":"SUM(D30:D34)","v":0},null,{"$f":"SUM(F30:F34)","v":0},null,{"$f":"SUM(H30:H34)","v":0},null,{"$f":"SUM(J30:J34)","v":0},null,{"$f":"SUM(L30:L34)","v":0}]
["Récap 28/02",null,null,{"$f":"+B35-D35","v":0},"Récap 31/03",null,null,{"$f":"+F35-H35","v":0},"Récap 30/04",null,null,{"$f":"+J35-L35","v":0}]
[]
[]
["MAI",null,null,null,"JUIN",null,null,null,"Situation fin juin"]
["RECETTES",null,"DEPENSES",null,"RECETTES",null,"DEPENSES",null,null,"Recettes","Dépenses","Total"]
["Dates","Montant","Activités","Montant","Dates","Montant","Activités","Montant",{"$f":"E23","v":"Situation 31/12"},null,null,{"$f":"H23","v":28.5}]
[null,null,null,null,null,null,null,null,{"$f":"I25","v":"Récap 31/01"},{"$f":"J24","v":0},{"$f":"L24","v":0},{"$f":"L25","v":0}]
[null,null,null,null,null,null,null,null,{"$f":"A36","v":"Récap 28/02"},{"$f":"B35","v":0},{"$f":"D35","v":0},{"$f":"D36","v":0}]
[null,null,null,null,null,null,null,null,{"$f":"E36","v":"Récap 31/03"},{"$f":"F35","v":0},{"$f":"H35","v":0},{"$f":"H36","v":0}]
[null,null,null,null,null,null,null,null,{"$f":"I36","v":"Récap 30/04"},{"$f":"J35","v":0},{"$f":"L35","v":0},{"$f":"L36","v":0}]
[null,null,null,null,null,null,null,null,{"$f":"A48","v":"Récap 31/05"},{"$f":"B47","v":0},{"$f":"D47","v":0},{"$f":"D48","v":0}]
[null,{"$f":"SUM(B42:B46)","v":0},null,{"$f":"SUM(D42:D46)","v":0},null,{"$f":"SUM(F42:F46)","v":0},null,{"$f":"SUM(H42:H46)","v":0},{"$f":"E48","v":"Récap 30/06"},{"$f":"F47","v":0},{"$f":"H47","v":0},{"$f":"H48","v":0}]
["Récap 31/05",null,null,{"$f":"+B47-D47","v":0},"Récap 30/06",null,null,{"$f":"+F47-H47","v":0},"Situation 30/06",{"$f":"SUM(J42:J47)","v":0},{"$f":"SUM(K42:K47)","v":0},{"$f":"SUM(L41:L47)","v":28.5}]
[]
[null,null,null,null,null,null,null,null,null,null,null,{"$f":"F23+J48-G23-K48+B8","v":28.5}]
[]
[null,null,null,null,null,null,null,null,null,{"$f":"B13+F13+J13+B24+J24+B35+F35+J35+B47+F47","v":0},{"$f":"D13+H13+L13+D24+L24+D35+H35+L35+D47+H47","v":0},{"$f":"B8+J52-K52","v":28.5}]

{"sheet":"KONE","index":99,"n_rows":52,"n_cols":12,"rows_kept":52,"cut":false,"hidden":false,"merged":[[0,9,0,10],[2,1,2,2],[2,4,2,5],[2,8,2,9],[5,8,5,9],[5,10,5,11],[4,0,4,3],[4,4,4,7],[4,8,4,11],[5,0,5,1],[5,2,5,3],[5,4,5,5],[5,6,5,7],[24,0,24,2],[13,0,13,2],[13,4,13,6],[16,2,16,3],[37,9,37,10],[16,0,16,1],[27,6,27,7],[24,8,24,10],[38,8,38,11],[13,8,13,10],[15,0,15,3],[15,4,15,7],[15,8,15,11],[16,10,16,11],[26,0,26,3],[26,4,26,7],[26,8,26,11],[27,8,27,9],[35,0,35,2],[35,4,35,6],[35,8,35,10],[27,10,27,11],[16,8,16,9],[27,4,27,5],[47,0,47,2],[47,4,47,6],[38,0,38,3],[38,4,38,7],[39,4,39,5],[39,6,39,7]]}
[null,null,null,null,null,null,null,null,null,"Année scolaire : ",null,{"$f":"' Liste élèves'!B1","v":"2018-2019"}]
[]
["NOM : ",{"$f":"' Liste élèves'!A100","v":"KONE"},null,"PRENOM:",{"$f":"' Liste élèves'!B100","v":"Anthony"},null,null,"CLASSE :",{"$f":"' Liste élèves'!C100","v":"Classe 8"}]
[]
["SEPTEMBRE",null,null,null,"OCTOBRE",null,null,null,"NOVEMBRE"]
["RECETTES",null,"DEPENSES",null,"RECETTES",null,"DEPENSES",null,"RECETTES",null,"DEPENSES"]
["Dates","Montant","Activités","Montant","Dates","Montant","Activités","Montant","Dates","Montant","Activités","Montant"]
["Report juin",30.14]
[]
[]
[]
[]
[null,{"$f":"SUM(B9:B12)","v":0},null,{"$f":"SUM(D8:D12)","v":0},null,{"$f":"SUM(F8:F12)","v":0},null,{"$f":"SUM(H8:H12)","v":0},null,{"$f":"SUM(J8:J12)","v":0},null,{"$f":"SUM(L8:L12)","v":0}]
["Récap 30/09",null,null,{"$f":"+B13-D13","v":0},"Récap 31/10",null,null,{"$f":"+F13-H13","v":0},"Récap 30/11",null,null,{"$f":"+J13-L13","v":0}]
[]
["DÉCEMBRE",null,null,null,"Situation fin décembre",null,null,null,"JANVIER"]
["RECETTES",null,"DEPENSES",null,null,"Recettes","Dépenses","Total","RECETTES",null,"DEPENSES"]
["Dates","Montant","Activités","Montant",{"$f":"A14","v":"Récap 30/09"},{"$f":"B13","v":0},{"$f":"D13","v":0},{"$f":"D14","v":0},"Dates","Montant","Activités","Montant"]
[null,null,null,null,{"$f":"E14","v":"Récap 31/10"},{"$f":"F13","v":0},{"$f":"H13","v":0},{"$f":"H14","v":0}]
[null,null,null,null,{"$f":"I14","v":"Récap 30/11"},{"$f":"J13","v":0},{"$f":"L13","v":0},{"$f":"L14","v":0}]
[null,null,null,null,{"$f":"A25","v":"Récap 31/12"},{"$f":"B24","v":0},{"$f":"D24","v":0},{"$f":"D25","v":0}]
[null,null,null,null,"Report Sept",null,null,{"$f":"B8","v":30.14}]
[null,null,null,null,"Situation 31/12",{"$f":"SUM(F18:F22)","v":0},{"$f":"SUM(G18:G22)","v":0},{"$f":"SUM(H18:H22)","v":30.14}]
[null,{"$f":"SUM(B19:B23)","v":0},null,{"$f":"SUM(D19:D23)","v":0},null,null,null,null,null,{"$f":"SUM(J19:J23)","v":0},null,{"$f":"SUM(L19:L23)","v":0}]
["Récap 31/12",null,null,{"$f":"+B24-D24","v":0},null,null,null,null,"Récap 31/01",null,null,{"$f":"+J24-L24","v":0}]
[]
["FÉVRIER",null,null,null,"MARS",null,null,null,"AVRIL"]
["RECETTES",null,"DEPENSES",null,"RECETTES",null,"DEPENSES",null,"RECETTES",null,"DEPENSES"]
["Dates","Montant","Activités","Montant","Dates","Montant","Activités","Montant","Dates","Montant","Activités","Montant"]
[]
[]
[]
[]
[]
[null,{"$f":"SUM(B30:B34)","v":0},null,{"$f":"SUM(D30:D34)","v":0},null,{"$f":"SUM(F30:F34)","v":0},null,{"$f":"SUM(H30:H34)","v":0},null,{"$f":"SUM(J30:J34)","v":0},null,{"$f":"SUM(L30:L34)","v":0}]
["Récap 28/02",null,null,{"$f":"+B35-D35","v":0},"Récap 31/03",null,null,{"$f":"+F35-H35","v":0},"Récap 30/04",null,null,{"$f":"+J35-L35","v":0}]
[]
[]
["MAI",null,null,null,"JUIN",null,null,null,"Situation fin juin"]
["RECETTES",null,"DEPENSES",null,"RECETTES",null,"DEPENSES",null,null,"Recettes","Dépenses","Total"]
["Dates","Montant","Activités","Montant","Dates","Montant","Activités","Montant",{"$f":"E23","v":"Situation 31/12"},null,null,{"$f":"H23","v":30.14}]
[null,null,null,null,null,null,null,null,{"$f":"I25","v":"Récap 31/01"},{"$f":"J24","v":0},{"$f":"L24","v":0},{"$f":"L25","v":0}]
[null,null,null,null,null,null,null,null,{"$f":"A36","v":"Récap 28/02"},{"$f":"B35","v":0},{"$f":"D35","v":0},{"$f":"D36","v":0}]
[null,null,null,null,null,null,null,null,{"$f":"E36","v":"Récap 31/03"},{"$f":"F35","v":0},{"$f":"H35","v":0},{"$f":"H36","v":0}]
[null,null,null,null,null,null,null,null,{"$f":"I36","v":"Récap 30/04"},{"$f":"J35","v":0},{"$f":"L35","v":0},{"$f":"L36","v":0}]
[null,null,null,null,null,null,null,null,{"$f":"A48","v":"Récap 31/05"},{"$f":"B47","v":0},{"$f":"D47","v":0},{"$f":"D48","v":0}]
[null,{"$f":"SUM(B42:B46)","v":0},null,{"$f":"SUM(D42:D46)","v":0},null,{"$f":"SUM(F42:F46)","v":0},null,{"$f":"SUM(H42:H46)","v":0},{"$f":"E48","v":"Récap 30/06"},{"$f":"F47","v":0},{"$f":"H47","v":0},{"$f":"H48","v":0}]
["Récap 31/05",null,null,{"$f":"+B47-D47","v":0},"Récap 30/06",null,null,{"$f":"+F47-H47","v":0},"Situation 30/06",{"$f":"SUM(J42:J47)","v":0},{"$f":"SUM(K42:K47)","v":0},{"$f":"SUM(L41:L47)","v":30.14}]
[]
[null,null,null,null,null,null,null,null,null,null,null,{"$f":"F23+J48-G23-K48+B8","v":30.14}]
[]
[null,null,null,null,null,null,null,null,null,{"$f":"B13+F13+J13+B24+J24+B35+F35+J35+B47+F47","v":0},{"$f":"D13+H13+L13+D24+L24+D35+H35+L35+D47+H47","v":0},{"$f":"B8+J52-K52","v":30.14}]

{"sheet":"KUYS","index":100,"n_rows":52,"n_cols":12,"rows_kept":52,"cut":false,"hidden":false,"merged":[[0,9,0,10],[2,1,2,2],[2,4,2,5],[2,8,2,9],[5,8,5,9],[5,10,5,11],[4,0,4,3],[4,4,4,7],[4,8,4,11],[5,0,5,1],[5,2,5,3],[5,4,5,5],[5,6,5,7],[24,0,24,2],[13,0,13,2],[13,4,13,6],[16,2,16,3],[37,9,37,10],[16,0,16,1],[27,6,27,7],[24,8,24,10],[38,8,38,11],[13,8,13,10],[15,0,15,3],[15,4,15,7],[15,8,15,11],[16,10,16,11],[26,0,26,3],[26,4,26,7],[26,8,26,11],[27,8,27,9],[35,0,35,2],[35,4,35,6],[35,8,35,10],[27,10,27,11],[16,8,16,9],[27,4,27,5],[47,0,47,2],[47,4,47,6],[38,0,38,3],[38,4,38,7],[39,4,39,5],[39,6,39,7]]}
[null,null,null,null,null,null,null,null,null,"Année scolaire : ",null,{"$f":"' Liste élèves'!B1","v":"2018-2019"}]
[]
["NOM : ",{"$f":"' Liste élèves'!A101","v":"KUYS"},null,"PRENOM:",{"$f":"' Liste élèves'!B101","v":"Océane"},null,null,"CLASSE :",{"$f":"' Liste élèves'!C101","v":"Classe MA"}]
[]
["SEPTEMBRE",null,null,null,"OCTOBRE",null,null,null,"NOVEMBRE"]
["RECETTES",null,"DEPENSES",null,"RECETTES",null,"DEPENSES",null,"RECETTES",null,"DEPENSES"]
["Dates","Montant","Activités","Montant","Dates","Montant","Activités","Montant","Dates","Montant","Activités","Montant"]
["Report juin",43.5]
[]
[]
[]
[]
[null,{"$f":"SUM(B9:B12)","v":0},null,{"$f":"SUM(D8:D12)","v":0},null,{"$f":"SUM(F8:F12)","v":0},null,{"$f":"SUM(H8:H12)","v":0},null,{"$f":"SUM(J8:J12)","v":0},null,{"$f":"SUM(L8:L12)","v":0}]
["Récap 30/09",null,null,{"$f":"+B13-D13","v":0},"Récap 31/10",null,null,{"$f":"+F13-H13","v":0},"Récap 30/11",null,null,{"$f":"+J13-L13","v":0}]
[]
["DÉCEMBRE",null,null,null,"Situation fin décembre",null,null,null,"JANVIER"]
["RECETTES",null,"DEPENSES",null,null,"Recettes","Dépenses","Total","RECETTES",null,"DEPENSES"]
["Dates","Montant","Activités","Montant",{"$f":"A14","v":"Récap 30/09"},{"$f":"B13","v":0},{"$f":"D13","v":0},{"$f":"D14","v":0},"Dates","Montant","Activités","Montant"]
[null,null,null,null,{"$f":"E14","v":"Récap 31/10"},{"$f":"F13","v":0},{"$f":"H13","v":0},{"$f":"H14","v":0}]
[null,null,null,null,{"$f":"I14","v":"Récap 30/11"},{"$f":"J13","v":0},{"$f":"L13","v":0},{"$f":"L14","v":0}]
[null,null,null,null,{"$f":"A25","v":"Récap 31/12"},{"$f":"B24","v":0},{"$f":"D24","v":0},{"$f":"D25","v":0}]
[null,null,null,null,"Report Sept",null,null,{"$f":"B8","v":43.5}]
[null,null,null,null,"Situation 31/12",{"$f":"SUM(F18:F22)","v":0},{"$f":"SUM(G18:G22)","v":0},{"$f":"SUM(H18:H22)","v":43.5}]
[null,{"$f":"SUM(B19:B23)","v":0},null,{"$f":"SUM(D19:D23)","v":0},null,null,null,null,null,{"$f":"SUM(J19:J23)","v":0},null,{"$f":"SUM(L19:L23)","v":0}]
["Récap 31/12",null,null,{"$f":"+B24-D24","v":0},null,null,null,null,"Récap 31/01",null,null,{"$f":"+J24-L24","v":0}]
[]
["FÉVRIER",null,null,null,"MARS",null,null,null,"AVRIL"]
["RECETTES",null,"DEPENSES",null,"RECETTES",null,"DEPENSES",null,"RECETTES",null,"DEPENSES"]
["Dates","Montant","Activités","Montant","Dates","Montant","Activités","Montant","Dates","Montant","Activités","Montant"]
[]
[]
[]
[]
[]
[null,{"$f":"SUM(B30:B34)","v":0},null,{"$f":"SUM(D30:D34)","v":0},null,{"$f":"SUM(F30:F34)","v":0},null,{"$f":"SUM(H30:H34)","v":0},null,{"$f":"SUM(J30:J34)","v":0},null,{"$f":"SUM(L30:L34)","v":0}]
["Récap 28/02",null,null,{"$f":"+B35-D35","v":0},"Récap 31/03",null,null,{"$f":"+F35-H35","v":0},"Récap 30/04",null,null,{"$f":"+J35-L35","v":0}]
[]
[]
["MAI",null,null,null,"JUIN",null,null,null,"Situation fin juin"]
["RECETTES",null,"DEPENSES",null,"RECETTES",null,"DEPENSES",null,null,"Recettes","Dépenses","Total"]
["Dates","Montant","Activités","Montant","Dates","Montant","Activités","Montant",{"$f":"E23","v":"Situation 31/12"},null,null,{"$f":"H23","v":43.5}]
[null,null,null,null,null,null,null,null,{"$f":"I25","v":"Récap 31/01"},{"$f":"J24","v":0},{"$f":"L24","v":0},{"$f":"L25","v":0}]
[null,null,null,null,null,null,null,null,{"$f":"A36","v":"Récap 28/02"},{"$f":"B35","v":0},{"$f":"D35","v":0},{"$f":"D36","v":0}]
[null,null,null,null,null,null,null,null,{"$f":"E36","v":"Récap 31/03"},{"$f":"F35","v":0},{"$f":"H35","v":0},{"$f":"H36","v":0}]
[null,null,null,null,null,null,null,null,{"$f":"I36","v":"Récap 30/04"},{"$f":"J35","v":0},{"$f":"L35","v":0},{"$f":"L36","v":0}]
[null,null,null,null,null,null,null,null,{"$f":"A48","v":"Récap 31/05"},{"$f":"B47","v":0},{"$f":"D47","v":0},{"$f":"D48","v":0}]
[null,{"$f":"SUM(B42:B46)","v":0},null,{"$f":"SUM(D42:D46)","v":0},null,{"$f":"SUM(F42:F46)","v":0},null,{"$f":"SUM(H42:H46)","v":0},{"$f":"E48","v":"Récap 30/06"},{"$f":"F47","v":0},{"$f":"H47","v":0},{"$f":"H48","v":0}]
["Récap 31/05",null,null,{"$f":"+B47-D47","v":0},"Récap 30/06",null,null,{"$f":"+F47-H47","v":0},"Situation 30/06",{"$f":"SUM(J42:J47)","v":0},{"$f":"SUM(K42:K47)","v":0},{"$f":"SUM(L41:L47)","v":43.5}]
[]
[null,null,null,null,null,null,null,null,null,null,null,{"$f":"F23+J48-G23-K48+B8","v":43.5}]
[]
[null,null,null,null,null,null,null,null,null,{"$f":"B13+F13+J13+B24+J24+B35+F35+J35+B47+F47","v":0},{"$f":"D13+H13+L13+D24+L24+D35+H35+L35+D47+H47","v":0},{"$f":"B8+J52-K52","v":43.5}]

{"sheet":"LACROIXB","index":101,"n_rows":52,"n_cols":14,"rows_kept":52,"cut":false,"hidden":false,"merged":[[0,9,0,10],[2,1,2,2],[2,4,2,5],[2,8,2,9],[5,8,5,9],[5,10,5,11],[4,0,4,3],[4,4,4,7],[4,8,4,11],[5,0,5,1],[5,2,5,3],[5,4,5,5],[5,6,5,7],[24,0,24,2],[13,0,13,2],[13,4,13,6],[16,2,16,3],[37,9,37,10],[16,0,16,1],[27,6,27,7],[24,8,24,10],[38,8,38,11],[13,8,13,10],[15,0,15,3],[15,4,15,7],[15,8,15,11],[16,10,16,11],[26,0,26,3],[26,4,26,7],[26,8,26,11],[27,8,27,9],[35,0,35,2],[35,4,35,6],[35,8,35,10],[27,10,27,11],[16,8,16,9],[27,4,27,5],[47,0,47,2],[47,4,47,6],[38,0,38,3],[38,4,38,7],[39,4,39,5],[39,6,39,7]]}
[null,null,null,null,null,null,null,null,null,"Année scolaire : ",null,{"$f":"' Liste élèves'!B1","v":"2018-2019"}]
[]
["NOM : ",{"$f":"' Liste élèves'!A102","v":"LACROIXB"},null,"PRENOM:",{"$f":"' Liste élèves'!B102","v":"Brandon"},null,null,"CLASSE :",{"$f":"' Liste élèves'!C102","v":"Classe 7"}]
[]
["SEPTEMBRE",null,null,null,"OCTOBRE",null,null,null,"NOVEMBRE"]
["RECETTES",null,"DEPENSES",null,"RECETTES",null,"DEPENSES",null,"RECETTES",null,"DEPENSES"]
["Dates","Montant","Activités","Montant","Dates","Montant","Activités","Montant","Dates","Montant","Activités","Montant"]
["Report juin",56.9]
[]
[]
[]
[]
[null,{"$f":"SUM(B9:B12)","v":0},null,{"$f":"SUM(D8:D12)","v":0},null,{"$f":"SUM(F8:F12)","v":0},null,{"$f":"SUM(H8:H12)","v":0},null,{"$f":"SUM(J8:J12)","v":0},null,{"$f":"SUM(L8:L12)","v":0}]
["Récap 30/09",null,null,{"$f":"+B13-D13","v":0},"Récap 31/10",null,null,{"$f":"+F13-H13","v":0},"Récap 30/11",null,null,{"$f":"+J13-L13","v":0}]
[]
["DÉCEMBRE",null,null,null,"Situation fin décembre",null,null,null,"JANVIER"]
["RECETTES",null,"DEPENSES",null,null,"Recettes","Dépenses","Total","RECETTES",null,"DEPENSES"]
["Dates","Montant","Activités","Montant",{"$f":"A14","v":"Récap 30/09"},{"$f":"B13","v":0},{"$f":"D13","v":0},{"$f":"D14","v":0},"Dates","Montant","Activités","Montant"]
[null,null,null,null,{"$f":"E14","v":"Récap 31/10"},{"$f":"F13","v":0},{"$f":"H13","v":0},{"$f":"H14","v":0}]
[null,null,null,null,{"$f":"I14","v":"Récap 30/11"},{"$f":"J13","v":0},{"$f":"L13","v":0},{"$f":"L14","v":0}]
[null,null,null,null,{"$f":"A25","v":"Récap 31/12"},{"$f":"B24","v":0},{"$f":"D24","v":0},{"$f":"D25","v":0}]
[null,null,null,null,"Report Sept",null,null,{"$f":"B8","v":56.9}]
[null,null,null,null,"Situation 31/12",{"$f":"SUM(F18:F22)","v":0},{"$f":"SUM(G18:G22)","v":0},{"$f":"SUM(H18:H22)","v":56.9}]
[null,{"$f":"SUM(B19:B23)","v":0},null,{"$f":"SUM(D19:D23)","v":0},null,null,null,null,null,{"$f":"SUM(J19:J23)","v":0},null,{"$f":"SUM(L19:L23)","v":0}]
["Récap 31/12",null,null,{"$f":"+B24-D24","v":0},null,null,null,null,"Récap 31/01",null,null,{"$f":"+J24-L24","v":0}]
[]
["FÉVRIER",null,null,null,"MARS",null,null,null,"AVRIL"]
["RECETTES",null,"DEPENSES",null,"RECETTES",null,"DEPENSES",null,"RECETTES",null,"DEPENSES"]
["Dates","Montant","Activités","Montant","Dates","Montant","Activités","Montant","Dates","Montant","Activités","Montant"]
[]
[null,null,null,null,null,null,null,null,null,null,null,null,null,1.8]
[]
[]
[]
[null,{"$f":"SUM(B30:B34)","v":0},null,{"$f":"SUM(D30:D34)","v":0},null,{"$f":"SUM(F30:F34)","v":0},null,{"$f":"SUM(H30:H34)","v":0},null,{"$f":"SUM(J30:J34)","v":0},null,{"$f":"SUM(L30:L34)","v":0}]
["Récap 28/02",null,null,{"$f":"+B35-D35","v":0},"Récap 31/03",null,null,{"$f":"+F35-H35","v":0},"Récap 30/04",null,null,{"$f":"+J35-L35","v":0}]
[]
[]
["MAI",null,null,null,"JUIN",null,null,null,"Situation fin juin"]
["RECETTES",null,"DEPENSES",null,"RECETTES",null,"DEPENSES",null,null,"Recettes","Dépenses","Total"]
["Dates","Montant","Activités","Montant","Dates","Montant","Activités","Montant",{"$f":"E23","v":"Situation 31/12"},null,null,{"$f":"H23","v":56.9}]
[null,null,null,null,null,null,null,null,{"$f":"I25","v":"Récap 31/01"},{"$f":"J24","v":0},{"$f":"L24","v":0},{"$f":"L25","v":0}]
[null,null,null,null,null,null,null,null,{"$f":"A36","v":"Récap 28/02"},{"$f":"B35","v":0},{"$f":"D35","v":0},{"$f":"D36","v":0}]
[null,null,null,null,null,null,null,null,{"$f":"E36","v":"Récap 31/03"},{"$f":"F35","v":0},{"$f":"H35","v":0},{"$f":"H36","v":0}]
[null,null,null,null,null,null,null,null,{"$f":"I36","v":"Récap 30/04"},{"$f":"J35","v":0},{"$f":"L35","v":0},{"$f":"L36","v":0}]
[null,null,null,null,null,null,null,null,{"$f":"A48","v":"Récap 31/05"},{"$f":"B47","v":0},{"$f":"D47","v":0},{"$f":"D48","v":0}]
[null,{"$f":"SUM(B42:B46)","v":0},null,{"$f":"SUM(D42:D46)","v":0},null,{"$f":"SUM(F42:F46)","v":0},null,{"$f":"SUM(H42:H46)","v":0},{"$f":"E48","v":"Récap 30/06"},{"$f":"F47","v":0},{"$f":"H47","v":0},{"$f":"H48","v":0}]
["Récap 31/05",null,null,{"$f":"+B47-D47","v":0},"Récap 30/06",null,null,{"$f":"+F47-H47","v":0},"Situation 30/06",{"$f":"SUM(J42:J47)","v":0},{"$f":"SUM(K42:K47)","v":0},{"$f":"SUM(L41:L47)","v":56.9}]
[]
[null,null,null,null,null,null,null,null,null,null,null,{"$f":"F23+J48-G23-K48+B8","v":56.9}]
[]
[null,null,null,null,null,null,null,null,null,{"$f":"B13+F13+J13+B24+J24+B35+F35+J35+B47+F47","v":0},{"$f":"D13+H13+L13+D24+L24+D35+H35+L35+D47+H47","v":0},{"$f":"B8+J52-K52","v":56.9}]

{"sheet":"LACROIXM","index":102,"n_rows":52,"n_cols":12,"rows_kept":52,"cut":false,"hidden":false,"merged":[[39,4,39,5],[39,6,39,7],[47,0,47,2],[47,4,47,6],[35,0,35,2],[35,4,35,6],[35,8,35,10],[37,9,37,10],[38,0,38,3],[38,4,38,7],[38,8,38,11],[26,0,26,3],[26,4,26,7],[26,8,26,11],[27,4,27,5],[27,6,27,7],[27,8,27,9],[27,10,27,11],[16,0,16,1],[16,2,16,3],[16,8,16,9],[16,10,16,11],[24,0,24,2],[24,8,24,10],[13,0,13,2],[13,4,13,6],[13,8,13,10],[15,0,15,3],[15,4,15,7],[15,8,15,11],[5,10,5,11],[0,9,0,10],[2,1,2,2],[2,4,2,5],[2,8,2,9],[4,0,4,3],[4,4,4,7],[4,8,4,11],[5,0,5,1],[5,2,5,3],[5,4,5,5],[5,6,5,7],[5,8,5,9]]}
[null,null,null,null,null,null,null,null,null,"Année scolaire : ",null,{"$f":"' Liste élèves'!B1","v":"2018-2019"}]
[]
["NOM : ",{"$f":"' Liste élèves'!A103","v":"LACROIXM"},null,"PRENOM:",{"$f":"' Liste élèves'!B103","v":"Marina"},null,null,"CLASSE :",{"$f":"' Liste élèves'!C103","v":"Classe PA"}]
[]
["SEPTEMBRE",null,null,null,"OCTOBRE",null,null,null,"NOVEMBRE"]
["RECETTES",null,"DEPENSES",null,"RECETTES",null,"DEPENSES",null,"RECETTES",null,"DEPENSES"]
["Dates","Montant","Activités","Montant","Dates","Montant","Activités","Montant","Dates","Montant","Activités","Montant"]
["Report juin",-7.5]
[]
[]
[]
[]
[null,{"$f":"SUM(B9:B12)","v":0},null,{"$f":"SUM(D8:D12)","v":0},null,{"$f":"SUM(F8:F12)","v":0},null,{"$f":"SUM(H8:H12)","v":0},null,{"$f":"SUM(J8:J12)","v":0},null,{"$f":"SUM(L8:L12)","v":0}]
["Récap 30/09",null,null,{"$f":"+B13-D13","v":0},"Récap 31/10",null,null,{"$f":"+F13-H13","v":0},"Récap 30/11",null,null,{"$f":"+J13-L13","v":0}]
[]
["DÉCEMBRE",null,null,null,"Situation fin décembre",null,null,null,"JANVIER"]
["RECETTES",null,"DEPENSES",null,null,"Recettes","Dépenses","Total","RECETTES",null,"DEPENSES"]
["Dates","Montant","Activités","Montant",{"$f":"A14","v":"Récap 30/09"},{"$f":"B13","v":0},{"$f":"D13","v":0},{"$f":"D14","v":0},"Dates","Montant","Activités","Montant"]
[null,null,null,null,{"$f":"E14","v":"Récap 31/10"},{"$f":"F13","v":0},{"$f":"H13","v":0},{"$f":"H14","v":0}]
[null,null,null,null,{"$f":"I14","v":"Récap 30/11"},{"$f":"J13","v":0},{"$f":"L13","v":0},{"$f":"L14","v":0}]
[null,null,null,null,{"$f":"A25","v":"Récap 31/12"},{"$f":"B24","v":0},{"$f":"D24","v":0},{"$f":"D25","v":0}]
[null,null,null,null,"Report Sept",null,null,{"$f":"B8","v":-7.5}]
[null,null,null,null,"Situation 31/12",{"$f":"SUM(F18:F22)","v":0},{"$f":"SUM(G18:G22)","v":0},{"$f":"SUM(H18:H22)","v":-7.5}]
[null,{"$f":"SUM(B19:B23)","v":0},null,{"$f":"SUM(D19:D23)","v":0},null,null,null,null,null,{"$f":"SUM(J19:J23)","v":0},null,{"$f":"SUM(L19:L23)","v":0}]
["Récap 31/12",null,null,{"$f":"+B24-D24","v":0},null,null,null,null,"Récap 31/01",null,null,{"$f":"+J24-L24","v":0}]
[]
["FÉVRIER",null,null,null,"MARS",null,null,null,"AVRIL"]
["RECETTES",null,"DEPENSES",null,"RECETTES",null,"DEPENSES",null,"RECETTES",null,"DEPENSES"]
["Dates","Montant","Activités","Montant","Dates","Montant","Activités","Montant","Dates","Montant","Activités","Montant"]
[]
[]
[]
[]
[]
[null,{"$f":"SUM(B30:B34)","v":0},null,{"$f":"SUM(D30:D34)","v":0},null,{"$f":"SUM(F30:F34)","v":0},null,{"$f":"SUM(H30:H34)","v":0},null,{"$f":"SUM(J30:J34)","v":0},null,{"$f":"SUM(L30:L34)","v":0}]
["Récap 28/02",null,null,{"$f":"+B35-D35","v":0},"Récap 31/03",null,null,{"$f":"+F35-H35","v":0},"Récap 30/04",null,null,{"$f":"+J35-L35","v":0}]
[]
[]
["MAI",null,null,null,"JUIN",null,null,null,"Situation fin juin"]
["RECETTES",null,"DEPENSES",null,"RECETTES",null,"DEPENSES",null,null,"Recettes","Dépenses","Total"]
["Dates","Montant","Activités","Montant","Dates","Montant","Activités","Montant",{"$f":"E23","v":"Situation 31/12"},null,null,{"$f":"H23","v":-7.5}]
[null,null,null,null,null,null,null,null,{"$f":"I25","v":"Récap 31/01"},{"$f":"J24","v":0},{"$f":"L24","v":0},{"$f":"L25","v":0}]
[null,null,null,null,null,null,null,null,{"$f":"A36","v":"Récap 28/02"},{"$f":"B35","v":0},{"$f":"D35","v":0},{"$f":"D36","v":0}]
[null,null,null,null,null,null,null,null,{"$f":"E36","v":"Récap 31/03"},{"$f":"F35","v":0},{"$f":"H35","v":0},{"$f":"H36","v":0}]
[null,null,null,null,null,null,null,null,{"$f":"I36","v":"Récap 30/04"},{"$f":"J35","v":0},{"$f":"L35","v":0},{"$f":"L36","v":0}]
[null,null,null,null,null,null,null,null,{"$f":"A48","v":"Récap 31/05"},{"$f":"B47","v":0},{"$f":"D47","v":0},{"$f":"D48","v":0}]
[null,{"$f":"SUM(B42:B46)","v":0},null,{"$f":"SUM(D42:D46)","v":0},null,{"$f":"SUM(F42:F46)","v":0},null,{"$f":"SUM(H42:H46)","v":0},{"$f":"E48","v":"Récap 30/06"},{"$f":"F47","v":0},{"$f":"H47","v":0},{"$f":"H48","v":0}]
["Récap 31/05",null,null,{"$f":"+B47-D47","v":0},"Récap 30/06",null,null,{"$f":"+F47-H47","v":0},"Situation 30/06",{"$f":"SUM(J42:J47)","v":0},{"$f":"SUM(K42:K47)","v":0},{"$f":"SUM(L41:L47)","v":-7.5}]
[]
[null,null,null,null,null,null,null,null,null,null,null,{"$f":"F23+J48-G23-K48+B8","v":-7.5}]
[]
[null,null,null,null,null,null,null,null,null,{"$f":"B13+F13+J13+B24+J24+B35+F35+J35+B47+F47","v":0},{"$f":"D13+H13+L13+D24+L24+D35+H35+L35+D47+H47","v":0},{"$f":"B8+J52-K52","v":-7.5}]

{"sheet":"LAMY","index":103,"n_rows":52,"n_cols":12,"rows_kept":52,"cut":false,"hidden":false,"merged":[[0,9,0,10],[2,1,2,2],[2,4,2,5],[2,8,2,9],[5,8,5,9],[5,10,5,11],[4,0,4,3],[4,4,4,7],[4,8,4,11],[5,0,5,1],[5,2,5,3],[5,4,5,5],[5,6,5,7],[24,0,24,2],[13,0,13,2],[13,4,13,6],[16,2,16,3],[37,9,37,10],[16,0,16,1],[27,6,27,7],[24,8,24,10],[38,8,38,11],[13,8,13,10],[15,0,15,3],[15,4,15,7],[15,8,15,11],[16,10,16,11],[26,0,26,3],[26,4,26,7],[26,8,26,11],[27,8,27,9],[35,0,35,2],[35,4,35,6],[35,8,35,10],[27,10,27,11],[16,8,16,9],[27,4,27,5],[47,0,47,2],[47,4,47,6],[38,0,38,3],[38,4,38,7],[39,4,39,5],[39,6,39,7]]}
[null,null,null,null,null,null,null,null,null,"Année scolaire : ",null,{"$f":"' Liste élèves'!B1","v":"2018-2019"}]
[]
["NOM : ",{"$f":"' Liste élèves'!A104","v":"LAMY"},null,"PRENOM:",{"$f":"' Liste élèves'!B104","v":"Alexandre"},null,null,"CLASSE :",{"$f":"' Liste élèves'!C104","v":"Classe 8"}]
[]
["SEPTEMBRE",null,null,null,"OCTOBRE",null,null,null,"NOVEMBRE"]
["RECETTES",null,"DEPENSES",null,"RECETTES",null,"DEPENSES",null,"RECETTES",null,"DEPENSES"]
["Dates","Montant","Activités","Montant","Dates","Montant","Activités","Montant","Dates","Montant","Activités","Montant"]
["Report juin",19.010000000000002]
[]
[]
[]
[]
[null,{"$f":"SUM(B9:B12)","v":0},null,{"$f":"SUM(D8:D12)","v":0},null,{"$f":"SUM(F8:F12)","v":0},null,{"$f":"SUM(H8:H12)","v":0},null,{"$f":"SUM(J8:J12)","v":0},null,{"$f":"SUM(L8:L12)","v":0}]
["Récap 30/09",null,null,{"$f":"+B13-D13","v":0},"Récap 31/10",null,null,{"$f":"+F13-H13","v":0},"Récap 30/11",null,null,{"$f":"+J13-L13","v":0}]
[]
["DÉCEMBRE",null,null,null,"Situation fin décembre",null,null,null,"JANVIER"]
["RECETTES",null,"DEPENSES",null,null,"Recettes","Dépenses","Total","RECETTES",null,"DEPENSES"]
["Dates","Montant","Activités","Montant",{"$f":"A14","v":"Récap 30/09"},{"$f":"B13","v":0},{"$f":"D13","v":0},{"$f":"D14","v":0},"Dates","Montant","Activités","Montant"]
[null,null,null,null,{"$f":"E14","v":"Récap 31/10"},{"$f":"F13","v":0},{"$f":"H13","v":0},{"$f":"H14","v":0}]
[null,null,null,null,{"$f":"I14","v":"Récap 30/11"},{"$f":"J13","v":0},{"$f":"L13","v":0},{"$f":"L14","v":0}]
[null,null,null,null,{"$f":"A25","v":"Récap 31/12"},{"$f":"B24","v":0},{"$f":"D24","v":0},{"$f":"D25","v":0}]
[null,null,null,null,"Report Sept",null,null,{"$f":"B8","v":19.010000000000002}]
[null,null,null,null,"Situation 31/12",{"$f":"SUM(F18:F22)","v":0},{"$f":"SUM(G18:G22)","v":0},{"$f":"SUM(H18:H22)","v":19.010000000000002}]
[null,{"$f":"SUM(B19:B23)","v":0},null,{"$f":"SUM(D19:D23)","v":0},null,null,null,null,null,{"$f":"SUM(J19:J23)","v":0},null,{"$f":"SUM(L19:L23)","v":0}]
["Récap 31/12",null,null,{"$f":"+B24-D24","v":0},null,null,null,null,"Récap 31/01",null,null,{"$f":"+J24-L24","v":0}]
[]
["FÉVRIER",null,null,null,"MARS",null,null,null,"AVRIL"]
["RECETTES",null,"DEPENSES",null,"RECETTES",null,"DEPENSES",null,"RECETTES",null,"DEPENSES"]
["Dates","Montant","Activités","Montant","Dates","Montant","Activités","Montant","Dates","Montant","Activités","Montant"]
[]
[]
[]
[]
[]
[null,{"$f":"SUM(B30:B34)","v":0},null,{"$f":"SUM(D30:D34)","v":0},null,{"$f":"SUM(F30:F34)","v":0},null,{"$f":"SUM(H30:H34)","v":0},null,{"$f":"SUM(J30:J34)","v":0},null,{"$f":"SUM(L30:L34)","v":0}]
["Récap 28/02",null,null,{"$f":"+B35-D35","v":0},"Récap 31/03",null,null,{"$f":"+F35-H35","v":0},"Récap 30/04",null,null,{"$f":"+J35-L35","v":0}]
[]
[]
["MAI",null,null,null,"JUIN",null,null,null,"Situation fin juin"]
["RECETTES",null,"DEPENSES",null,"RECETTES",null,"DEPENSES",null,null,"Recettes","Dépenses","Total"]
["Dates","Montant","Activités","Montant","Dates","Montant","Activités","Montant",{"$f":"E23","v":"Situation 31/12"},null,null,{"$f":"H23","v":19.010000000000002}]
[null,null,null,null,null,null,null,null,{"$f":"I25","v":"Récap 31/01"},{"$f":"J24","v":0},{"$f":"L24","v":0},{"$f":"L25","v":0}]
[null,null,null,null,null,null,null,null,{"$f":"A36","v":"Récap 28/02"},{"$f":"B35","v":0},{"$f":"D35","v":0},{"$f":"D36","v":0}]
[null,null,null,null,null,null,null,null,{"$f":"E36","v":"Récap 31/03"},{"$f":"F35","v":0},{"$f":"H35","v":0},{"$f":"H36","v":0}]
[null,null,null,null,null,null,null,null,{"$f":"I36","v":"Récap 30/04"},{"$f":"J35","v":0},{"$f":"L35","v":0},{"$f":"L36","v":0}]
[null,null,null,null,null,null,null,null,{"$f":"A48","v":"Récap 31/05"},{"$f":"B47","v":0},{"$f":"D47","v":0},{"$f":"D48","v":0}]
[null,{"$f":"SUM(B42:B46)","v":0},null,{"$f":"SUM(D42:D46)","v":0},null,{"$f":"SUM(F42:F46)","v":0},null,{"$f":"SUM(H42:H46)","v":0},{"$f":"E48","v":"Récap 30/06"},{"$f":"F47","v":0},{"$f":"H47","v":0},{"$f":"H48","v":0}]
["Récap 31/05",null,null,{"$f":"+B47-D47","v":0},"Récap 30/06",null,null,{"$f":"+F47-H47","v":0},"Situation 30/06",{"$f":"SUM(J42:J47)","v":0},{"$f":"SUM(K42:K47)","v":0},{"$f":"SUM(L41:L47)","v":19.010000000000002}]
[]
[null,null,null,null,null,null,null,null,null,null,null,{"$f":"F23+J48-G23-K48+B8","v":19.010000000000002}]
[]
[null,null,null,null,null,null,null,null,null,{"$f":"B13+F13+J13+B24+J24+B35+F35+J35+B47+F47","v":0},{"$f":"D13+H13+L13+D24+L24+D35+H35+L35+D47+H47","v":0},{"$f":"B8+J52-K52","v":19.010000000000002}]

{"sheet":"LARDINOIS","index":104,"n_rows":52,"n_cols":12,"rows_kept":52,"cut":false,"hidden":false,"merged":[[0,9,0,10],[2,1,2,2],[2,4,2,5],[2,8,2,9],[5,8,5,9],[5,10,5,11],[4,0,4,3],[4,4,4,7],[4,8,4,11],[5,0,5,1],[5,2,5,3],[5,4,5,5],[5,6,5,7],[24,0,24,2],[13,0,13,2],[13,4,13,6],[16,2,16,3],[37,9,37,10],[16,0,16,1],[27,6,27,7],[24,8,24,10],[38,8,38,11],[13,8,13,10],[15,0,15,3],[15,4,15,7],[15,8,15,11],[16,10,16,11],[26,0,26,3],[26,4,26,7],[26,8,26,11],[27,8,27,9],[35,0,35,2],[35,4,35,6],[35,8,35,10],[27,10,27,11],[16,8,16,9],[27,4,27,5],[47,0,47,2],[47,4,47,6],[38,0,38,3],[38,4,38,7],[39,4,39,5],[39,6,39,7]]}
[null,null,null,null,null,null,null,null,null,"Année scolaire : ",null,{"$f":"' Liste élèves'!B1","v":"2018-2019"}]
[]
["NOM : ",{"$f":"' Liste élèves'!A105","v":"LARDINOIS"},null,"PRENOM:",{"$f":"' Liste élèves'!B105","v":"Enola"},null,null,"CLASSE :",{"$f":"' Liste élèves'!C105","v":"Classe MA"}]
[]
["SEPTEMBRE",null,null,null,"OCTOBRE",null,null,null,"NOVEMBRE"]
["RECETTES",null,"DEPENSES",null,"RECETTES",null,"DEPENSES",null,"RECETTES",null,"DEPENSES"]
["Dates","Montant","Activités","Montant","Dates","Montant","Activités","Montant","Dates","Montant","Activités","Montant"]
["Report juin",0.5]
[]
[]
[]
[]
[null,{"$f":"SUM(B9:B12)","v":0},null,{"$f":"SUM(D8:D12)","v":0},null,{"$f":"SUM(F8:F12)","v":0},null,{"$f":"SUM(H8:H12)","v":0},null,{"$f":"SUM(J8:J12)","v":0},null,{"$f":"SUM(L8:L12)","v":0}]
["Récap 30/09",null,null,{"$f":"+B13-D13","v":0},"Récap 31/10",null,null,{"$f":"+F13-H13","v":0},"Récap 30/11",null,null,{"$f":"+J13-L13","v":0}]
[]
["DÉCEMBRE",null,null,null,"Situation fin décembre",null,null,null,"JANVIER"]
["RECETTES",null,"DEPENSES",null,null,"Recettes","Dépenses","Total","RECETTES",null,"DEPENSES"]
["Dates","Montant","Activités","Montant",{"$f":"A14","v":"Récap 30/09"},{"$f":"B13","v":0},{"$f":"D13","v":0},{"$f":"D14","v":0},"Dates","Montant","Activités","Montant"]
[null,null,null,null,{"$f":"E14","v":"Récap 31/10"},{"$f":"F13","v":0},{"$f":"H13","v":0},{"$f":"H14","v":0}]
[null,null,null,null,{"$f":"I14","v":"Récap 30/11"},{"$f":"J13","v":0},{"$f":"L13","v":0},{"$f":"L14","v":0}]
[null,null,null,null,{"$f":"A25","v":"Récap 31/12"},{"$f":"B24","v":0},{"$f":"D24","v":0},{"$f":"D25","v":0}]
[null,null,null,null,"Report Sept",null,null,{"$f":"B8","v":0.5}]
[null,null,null,null,"Situation 31/12",{"$f":"SUM(F18:F22)","v":0},{"$f":"SUM(G18:G22)","v":0},{"$f":"SUM(H18:H22)","v":0.5}]
[null,{"$f":"SUM(B19:B23)","v":0},null,{"$f":"SUM(D19:D23)","v":0},null,null,null,null,null,{"$f":"SUM(J19:J23)","v":0},null,{"$f":"SUM(L19:L23)","v":0}]
["Récap 31/12",null,null,{"$f":"+B24-D24","v":0},null,null,null,null,"Récap 31/01",null,null,{"$f":"+J24-L24","v":0}]
[]
["FÉVRIER",null,null,null,"MARS",null,null,null,"AVRIL"]
["RECETTES",null,"DEPENSES",null,"RECETTES",null,"DEPENSES",null,"RECETTES",null,"DEPENSES"]
["Dates","Montant","Activités","Montant","Dates","Montant","Activités","Montant","Dates","Montant","Activités","Montant"]
[]
[]
[]
[]
[]
[null,{"$f":"SUM(B30:B34)","v":0},null,{"$f":"SUM(D30:D34)","v":0},null,{"$f":"SUM(F30:F34)","v":0},null,{"$f":"SUM(H30:H34)","v":0},null,{"$f":"SUM(J30:J34)","v":0},null,{"$f":"SUM(L30:L34)","v":0}]
["Récap 28/02",null,null,{"$f":"+B35-D35","v":0},"Récap 31/03",null,null,{"$f":"+F35-H35","v":0},"Récap 30/04",null,null,{"$f":"+J35-L35","v":0}]
[]
[]
["MAI",null,null,null,"JUIN",null,null,null,"Situation fin juin"]
["RECETTES",null,"DEPENSES",null,"RECETTES",null,"DEPENSES",null,null,"Recettes","Dépenses","Total"]
["Dates","Montant","Activités","Montant","Dates","Montant","Activités","Montant",{"$f":"E23","v":"Situation 31/12"},null,null,{"$f":"H23","v":0.5}]
[null,null,null,null,null,null,null,null,{"$f":"I25","v":"Récap 31/01"},{"$f":"J24","v":0},{"$f":"L24","v":0},{"$f":"L25","v":0}]
[null,null,null,null,null,null,null,null,{"$f":"A36","v":"Récap 28/02"},{"$f":"B35","v":0},{"$f":"D35","v":0},{"$f":"D36","v":0}]
[null,null,null,null,null,null,null,null,{"$f":"E36","v":"Récap 31/03"},{"$f":"F35","v":0},{"$f":"H35","v":0},{"$f":"H36","v":0}]
[null,null,null,null,null,null,null,null,{"$f":"I36","v":"Récap 30/04"},{"$f":"J35","v":0},{"$f":"L35","v":0},{"$f":"L36","v":0}]
[null,null,null,null,null,null,null,null,{"$f":"A48","v":"Récap 31/05"},{"$f":"B47","v":0},{"$f":"D47","v":0},{"$f":"D48","v":0}]
[null,{"$f":"SUM(B42:B46)","v":0},null,{"$f":"SUM(D42:D46)","v":0},null,{"$f":"SUM(F42:F46)","v":0},null,{"$f":"SUM(H42:H46)","v":0},{"$f":"E48","v":"Récap 30/06"},{"$f":"F47","v":0},{"$f":"H47","v":0},{"$f":"H48","v":0}]
["Récap 31/05",null,null,{"$f":"+B47-D47","v":0},"Récap 30/06",null,null,{"$f":"+F47-H47","v":0},"Situation 30/06",{"$f":"SUM(J42:J47)","v":0},{"$f":"SUM(K42:K47)","v":0},{"$f":"SUM(L41:L47)","v":0.5}]
[]
[null,null,null,null,null,null,null,null,null,null,null,{"$f":"F23+J48-G23-K48+B8","v":0.5}]
[]
[null,null,null,null,null,null,null,null,null,{"$f":"B13+F13+J13+B24+J24+B35+F35+J35+B47+F47","v":0},{"$f":"D13+H13+L13+D24+L24+D35+H35+L35+D47+H47","v":0},{"$f":"B8+J52-K52","v":0.5}]

{"sheet":"LATLASSI","index":105,"n_rows":52,"n_cols":12,"rows_kept":52,"cut":false,"hidden":false,"merged":[[5,10,5,11],[0,9,0,10],[2,1,2,2],[2,4,2,5],[2,8,2,9],[4,0,4,3],[4,4,4,7],[4,8,4,11],[5,0,5,1],[5,2,5,3],[5,4,5,5],[5,6,5,7],[5,8,5,9],[13,0,13,2],[13,4,13,6],[13,8,13,10],[15,0,15,3],[15,4,15,7],[15,8,15,11],[16,0,16,1],[16,2,16,3],[16,8,16,9],[16,10,16,11],[24,0,24,2],[24,8,24,10],[26,0,26,3],[26,4,26,7],[26,8,26,11],[27,4,27,5],[27,6,27,7],[27,8,27,9],[27,10,27,11],[35,8,35,10],[37,9,37,10],[38,0,38,3],[38,4,38,7],[38,8,38,11],[39,4,39,5],[39,6,39,7],[47,0,47,2],[47,4,47,6],[35,0,35,2],[35,4,35,6]]}
[null,null,null,null,null,null,null,null,null,"Année scolaire : ",null,{"$f":"' Liste élèves'!B1","v":"2018-2019"}]
[]
["NOM : ",{"$f":"' Liste élèves'!A106","v":"LATLASSI"},null,"PRENOM:",{"$f":"' Liste élèves'!B106","v":"Samia"},null,null,"CLASSE :",{"$f":"' Liste élèves'!C106","v":"Classe 12"}]
[]
["SEPTEMBRE",null,null,null,"OCTOBRE",null,null,null,"NOVEMBRE"]
["RECETTES",null,"DEPENSES",null,"RECETTES",null,"DEPENSES",null,"RECETTES",null,"DEPENSES"]
["Dates","Montant","Activités","Montant","Dates","Montant","Activités","Montant","Dates","Montant","Activités","Montant"]
["Report juin"]
[]
[]
[]
[]
[null,{"$f":"SUM(B9:B12)","v":0},null,{"$f":"SUM(D8:D12)","v":0},null,{"$f":"SUM(F8:F12)","v":0},null,{"$f":"SUM(H8:H12)","v":0},null,{"$f":"SUM(J8:J12)","v":0},null,{"$f":"SUM(L8:L12)","v":0}]
["Récap 30/09",null,null,{"$f":"+B13-D13","v":0},"Récap 31/10",null,null,{"$f":"+F13-H13","v":0},"Récap 30/11",null,null,{"$f":"+J13-L13","v":0}]
[]
["DÉCEMBRE",null,null,null,"Situation fin décembre",null,null,null,"JANVIER"]
["RECETTES",null,"DEPENSES",null,null,"Recettes","Dépenses","Total","RECETTES",null,"DEPENSES"]
["Dates","Montant","Activités","Montant",{"$f":"A14","v":"Récap 30/09"},{"$f":"B13","v":0},{"$f":"D13","v":0},{"$f":"D14","v":0},"Dates","Montant","Activités","Montant"]
[null,null,null,null,{"$f":"E14","v":"Récap 31/10"},{"$f":"F13","v":0},{"$f":"H13","v":0},{"$f":"H14","v":0}]
[null,null,null,null,{"$f":"I14","v":"Récap 30/11"},{"$f":"J13","v":0},{"$f":"L13","v":0},{"$f":"L14","v":0}]
[null,null,null,null,{"$f":"A25","v":"Récap 31/12"},{"$f":"B24","v":0},{"$f":"D24","v":0},{"$f":"D25","v":0}]
[null,null,null,null,"Report Sept",null,null,{"$f":"B8","v":0}]
[null,null,null,null,"Situation 31/12",{"$f":"SUM(F18:F22)","v":0},{"$f":"SUM(G18:G22)","v":0},{"$f":"SUM(H18:H22)","v":0}]
[null,{"$f":"SUM(B19:B23)","v":0},null,{"$f":"SUM(D19:D23)","v":0},null,null,null,null,null,{"$f":"SUM(J19:J23)","v":0},null,{"$f":"SUM(L19:L23)","v":0}]
["Récap 31/12",null,null,{"$f":"+B24-D24","v":0},null,null,null,null,"Récap 31/01",null,null,{"$f":"+J24-L24","v":0}]
[]
["FÉVRIER",null,null,null,"MARS",null,null,null,"AVRIL"]
["RECETTES",null,"DEPENSES",null,"RECETTES",null,"DEPENSES",null,"RECETTES",null,"DEPENSES"]
["Dates","Montant","Activités","Montant","Dates","Montant","Activités","Montant","Dates","Montant","Activités","Montant"]
[]
[]
[]
[]
[]
[null,{"$f":"SUM(B30:B34)","v":0},null,{"$f":"SUM(D30:D34)","v":0},null,{"$f":"SUM(F30:F34)","v":0},null,{"$f":"SUM(H30:H34)","v":0},null,{"$f":"SUM(J30:J34)","v":0},null,{"$f":"SUM(L30:L34)","v":0}]
["Récap 28/02",null,null,{"$f":"+B35-D35","v":0},"Récap 31/03",null,null,{"$f":"+F35-H35","v":0},"Récap 30/04",null,null,{"$f":"+J35-L35","v":0}]
[]
[]
["MAI",null,null,null,"JUIN",null,null,null,"Situation fin juin"]
["RECETTES",null,"DEPENSES",null,"RECETTES",null,"DEPENSES",null,null,"Recettes","Dépenses","Total"]
["Dates","Montant","Activités","Montant","Dates","Montant","Activités","Montant",{"$f":"E23","v":"Situation 31/12"},null,null,{"$f":"H23","v":0}]
[null,null,null,null,null,null,null,null,{"$f":"I25","v":"Récap 31/01"},{"$f":"J24","v":0},{"$f":"L24","v":0},{"$f":"L25","v":0}]
[null,null,null,null,null,null,null,null,{"$f":"A36","v":"Récap 28/02"},{"$f":"B35","v":0},{"$f":"D35","v":0},{"$f":"D36","v":0}]
[null,null,null,null,null,null,null,null,{"$f":"E36","v":"Récap 31/03"},{"$f":"F35","v":0},{"$f":"H35","v":0},{"$f":"H36","v":0}]
[null,null,null,null,null,null,null,null,{"$f":"I36","v":"Récap 30/04"},{"$f":"J35","v":0},{"$f":"L35","v":0},{"$f":"L36","v":0}]
[null,null,null,null,null,null,null,null,{"$f":"A48","v":"Récap 31/05"},{"$f":"B47","v":0},{"$f":"D47","v":0},{"$f":"D48","v":0}]
[null,{"$f":"SUM(B42:B46)","v":0},null,{"$f":"SUM(D42:D46)","v":0},null,{"$f":"SUM(F42:F46)","v":0},null,{"$f":"SUM(H42:H46)","v":0},{"$f":"E48","v":"Récap 30/06"},{"$f":"F47","v":0},{"$f":"H47","v":0},{"$f":"H48","v":0}]
["Récap 31/05",null,null,{"$f":"+B47-D47","v":0},"Récap 30/06",null,null,{"$f":"+F47-H47","v":0},"Situation 30/06",{"$f":"SUM(J42:J47)","v":0},{"$f":"SUM(K42:K47)","v":0},{"$f":"SUM(L41:L47)","v":0}]
[]
[null,null,null,null,null,null,null,null,null,null,null,{"$f":"F23+J48-G23-K48+B8","v":0}]
[]
[null,null,null,null,null,null,null,null,null,{"$f":"B13+F13+J13+B24+J24+B35+F35+J35+B47+F47","v":0},{"$f":"D13+H13+L13+D24+L24+D35+H35+L35+D47+H47","v":0},{"$f":"B8+J52-K52","v":0}]

{"sheet":"LESSIRE","index":106,"n_rows":52,"n_cols":12,"rows_kept":52,"cut":false,"hidden":false,"merged":[[0,9,0,10],[2,1,2,2],[2,4,2,5],[2,8,2,9],[5,8,5,9],[5,10,5,11],[4,0,4,3],[4,4,4,7],[4,8,4,11],[5,0,5,1],[5,2,5,3],[5,4,5,5],[5,6,5,7],[24,0,24,2],[13,0,13,2],[13,4,13,6],[16,2,16,3],[37,9,37,10],[16,0,16,1],[27,6,27,7],[24,8,24,10],[38,8,38,11],[13,8,13,10],[15,0,15,3],[15,4,15,7],[15,8,15,11],[16,10,16,11],[26,0,26,3],[26,4,26,7],[26,8,26,11],[27,8,27,9],[35,0,35,2],[35,4,35,6],[35,8,35,10],[27,10,27,11],[16,8,16,9],[27,4,27,5],[47,0,47,2],[47,4,47,6],[38,0,38,3],[38,4,38,7],[39,4,39,5],[39,6,39,7]]}
[null,null,null,null,null,null,null,null,null,"Année scolaire : ",null,{"$f":"' Liste élèves'!B1","v":"2018-2019"}]
[]
["NOM : ",{"$f":"' Liste élèves'!A107","v":"LESSIRE"},null,"PRENOM:",{"$f":"' Liste élèves'!B107","v":"Océane"},null,null,"CLASSE :",{"$f":"' Liste élèves'!C107","v":"Classe AA"}]
[]
["SEPTEMBRE",null,null,null,"OCTOBRE",null,null,null,"NOVEMBRE"]
["RECETTES",null,"DEPENSES",null,"RECETTES",null,"DEPENSES",null,"RECETTES",null,"DEPENSES"]
["Dates","Montant","Activités","Montant","Dates","Montant","Activités","Montant","Dates","Montant","Activités","Montant"]
["Report juin",40]
[]
[]
[]
[]
[null,{"$f":"SUM(B9:B12)","v":0},null,{"$f":"SUM(D8:D12)","v":0},null,{"$f":"SUM(F8:F12)","v":0},null,{"$f":"SUM(H8:H12)","v":0},null,{"$f":"SUM(J8:J12)","v":0},null,{"$f":"SUM(L8:L12)","v":0}]
["Récap 30/09",null,null,{"$f":"+B13-D13","v":0},"Récap 31/10",null,null,{"$f":"+F13-H13","v":"00:00:00"},"Récap 30/11",null,null,{"$f":"+J13-L13","v":0}]
[]
["DÉCEMBRE",null,null,null,"Situation fin décembre",null,null,null,"JANVIER"]
["RECETTES",null,"DEPENSES",null,null,"Recettes","Dépenses","Total","RECETTES",null,"DEPENSES"]
["Dates","Montant","Activités","Montant",{"$f":"A14","v":"Récap 30/09"},{"$f":"B13","v":0},{"$f":"D13","v":0},{"$f":"D14","v":0},"Dates","Montant","Activités","Montant"]
[null,null,null,null,{"$f":"E14","v":"Récap 31/10"},{"$f":"F13","v":0},{"$f":"H13","v":0},{"$f":"H14","v":0}]
[null,null,null,null,{"$f":"I14","v":"Récap 30/11"},{"$f":"J13","v":0},{"$f":"L13","v":0},{"$f":"L14","v":0}]
[null,null,null,null,{"$f":"A25","v":"Récap 31/12"},{"$f":"B24","v":0},{"$f":"D24","v":0},{"$f":"D25","v":0}]
[null,null,null,null,"Report Sept",null,null,{"$f":"B8","v":40}]
[null,null,null,null,"Situation 31/12",{"$f":"SUM(F18:F22)","v":0},{"$f":"SUM(G18:G22)","v":0},{"$f":"SUM(H18:H22)","v":40}]
[null,{"$f":"SUM(B19:B23)","v":0},null,{"$f":"SUM(D19:D23)","v":0},null,null,null,null,null,{"$f":"SUM(J19:J23)","v":0},null,{"$f":"SUM(L19:L23)","v":0}]
["Récap 31/12",null,null,{"$f":"+B24-D24","v":0},null,null,null,null,"Récap 31/01",null,null,{"$f":"+J24-L24","v":0}]
[]
["FÉVRIER",null,null,null,"MARS",null,null,null,"AVRIL"]
["RECETTES",null,"DEPENSES",null,"RECETTES",null,"DEPENSES",null,"RECETTES",null,"DEPENSES"]
["Dates","Montant","Activités","Montant","Dates","Montant","Activités","Montant","Dates","Montant","Activités","Montant"]
[]
[]
[]
[]
[]
[null,{"$f":"SUM(B30:B34)","v":0},null,{"$f":"SUM(D30:D34)","v":0},null,{"$f":"SUM(F30:F34)","v":0},null,{"$f":"SUM(H30:H34)","v":0},null,{"$f":"SUM(J30:J34)","v":0},null,{"$f":"SUM(L30:L34)","v":0}]
["Récap 28/02",null,null,{"$f":"+B35-D35","v":0},"Récap 31/03",null,null,{"$f":"+F35-H35","v":0},"Récap 30/04",null,null,{"$f":"+J35-L35","v":0}]
[]
[]
["MAI",null,null,null,"JUIN",null,null,null,"Situation fin juin"]
["RECETTES",null,"DEPENSES",null,"RECETTES",null,"DEPENSES",null,null,"Recettes","Dépenses","Total"]
["Dates","Montant","Activités","Montant","Dates","Montant","Activités","Montant",{"$f":"E23","v":"Situation 31/12"},null,null,{"$f":"H23","v":40}]
[null,null,null,null,null,null,null,null,{"$f":"I25","v":"Récap 31/01"},{"$f":"J24","v":0},{"$f":"L24","v":0},{"$f":"L25","v":0}]
[null,null,null,null,null,null,null,null,{"$f":"A36","v":"Récap 28/02"},{"$f":"B35","v":0},{"$f":"D35","v":0},{"$f":"D36","v":0}]
[null,null,null,null,null,null,null,null,{"$f":"E36","v":"Récap 31/03"},{"$f":"F35","v":0},{"$f":"H35","v":0},{"$f":"H36","v":0}]
[null,null,null,null,null,null,null,null,{"$f":"I36","v":"Récap 30/04"},{"$f":"J35","v":0},{"$f":"L35","v":0},{"$f":"L36","v":0}]
[null,null,null,null,null,null,null,null,{"$f":"A48","v":"Récap 31/05"},{"$f":"B47","v":0},{"$f":"D47","v":0},{"$f":"D48","v":0}]
[null,{"$f":"SUM(B42:B46)","v":0},null,{"$f":"SUM(D42:D46)","v":0},null,{"$f":"SUM(F42:F46)","v":0},null,{"$f":"SUM(H42:H46)","v":0},{"$f":"E48","v":"Récap 30/06"},{"$f":"F47","v":0},{"$f":"H47","v":0},{"$f":"H48","v":0}]
["Récap 31/05",null,null,{"$f":"+B47-D47","v":0},"Récap 30/06",null,null,{"$f":"+F47-H47","v":0},"Situation 30/06",{"$f":"SUM(J42:J47)","v":0},{"$f":"SUM(K42:K47)","v":0},{"$f":"SUM(L41:L47)","v":40}]
[]
[null,null,null,null,null,null,null,null,null,null,null,{"$f":"F23+J48-G23-K48+B8","v":40}]
[]
[null,null,null,null,null,null,null,null,null,{"$f":"B13+F13+J13+B24+J24+B35+F35+J35+B47+F47","v":"00:00:00"},{"$f":"D13+H13+L13+D24+L24+D35+H35+L35+D47+H47","v":0},{"$f":"B8+J52-K52","v":"1900-02-09"}]

{"sheet":"LOMBARDO","index":107,"n_rows":52,"n_cols":12,"rows_kept":52,"cut":false,"hidden":false,"merged":[[39,4,39,5],[39,6,39,7],[47,0,47,2],[47,4,47,6],[35,0,35,2],[35,4,35,6],[35,8,35,10],[37,9,37,10],[38,0,38,3],[38,4,38,7],[38,8,38,11],[26,0,26,3],[26,4,26,7],[26,8,26,11],[27,4,27,5],[27,6,27,7],[27,8,27,9],[27,10,27,11],[16,0,16,1],[16,2,16,3],[16,8,16,9],[16,10,16,11],[24,0,24,2],[24,8,24,10],[13,0,13,2],[13,4,13,6],[13,8,13,10],[15,0,15,3],[15,4,15,7],[15,8,15,11],[5,10,5,11],[0,9,0,10],[2,1,2,2],[2,4,2,5],[2,8,2,9],[4,0,4,3],[4,4,4,7],[4,8,4,11],[5,0,5,1],[5,2,5,3],[5,4,5,5],[5,6,5,7],[5,8,5,9]]}
[null,null,null,null,null,null,null,null,null,"Année scolaire : ",null,{"$f":"' Liste élèves'!B1","v":"2018-2019"}]
[]
["NOM : ",{"$f":"' Liste élèves'!A108","v":"LOMBARDO"},null,"PRENOM:",{"$f":"' Liste élèves'!B108","v":"Sébastien"},null,null,"CLASSE :",{"$f":"' Liste élèves'!C108","v":"Classe 1"}]
[]
["SEPTEMBRE",null,null,null,"OCTOBRE",null,null,null,"NOVEMBRE"]
["RECETTES",null,"DEPENSES",null,"RECETTES",null,"DEPENSES",null,"RECETTES",null,"DEPENSES"]
["Dates","Montant","Activités","Montant","Dates","Montant","Activités","Montant","Dates","Montant","Activités","Montant"]
["Report juin",31.72]
[]
[]
[]
[]
[null,{"$f":"SUM(B9:B12)","v":0},null,{"$f":"SUM(D8:D12)","v":0},null,{"$f":"SUM(F8:F12)","v":0},null,{"$f":"SUM(H8:H12)","v":0},null,{"$f":"SUM(J8:J12)","v":0},null,{"$f":"SUM(L8:L12)","v":0}]
["Récap 30/09",null,null,{"$f":"+B13-D13","v":0},"Récap 31/10",null,null,{"$f":"+F13-H13","v":0},"Récap 30/11",null,null,{"$f":"+J13-L13","v":0}]
[]
["DÉCEMBRE",null,null,null,"Situation fin décembre",null,null,null,"JANVIER"]
["RECETTES",null,"DEPENSES",null,null,"Recettes","Dépenses","Total","RECETTES",null,"DEPENSES"]
["Dates","Montant","Activités","Montant",{"$f":"A14","v":"Récap 30/09"},{"$f":"B13","v":0},{"$f":"D13","v":0},{"$f":"D14","v":0},"Dates","Montant","Activités","Montant"]
[null,null,null,null,{"$f":"E14","v":"Récap 31/10"},{"$f":"F13","v":0},{"$f":"H13","v":0},{"$f":"H14","v":0}]
[null,null,null,null,{"$f":"I14","v":"Récap 30/11"},{"$f":"J13","v":0},{"$f":"L13","v":0},{"$f":"L14","v":0}]
[null,null,null,null,{"$f":"A25","v":"Récap 31/12"},{"$f":"B24","v":0},{"$f":"D24","v":0},{"$f":"D25","v":0}]
[null,null,null,null,"Report Sept",null,null,{"$f":"B8","v":31.72}]
[null,null,null,null,"Situation 31/12",{"$f":"SUM(F18:F22)","v":0},{"$f":"SUM(G18:G22)","v":0},{"$f":"SUM(H18:H22)","v":31.72}]
[null,{"$f":"SUM(B19:B23)","v":0},null,{"$f":"SUM(D19:D23)","v":0},null,null,null,null,null,{"$f":"SUM(J19:J23)","v":0},null,{"$f":"SUM(L19:L23)","v":0}]
["Récap 31/12",null,null,{"$f":"+B24-D24","v":0},null,null,null,null,"Récap 31/01",null,null,{"$f":"+J24-L24","v":0}]
[]
["FÉVRIER",null,null,null,"MARS",null,null,null,"AVRIL"]
["RECETTES",null,"DEPENSES",null,"RECETTES",null,"DEPENSES",null,"RECETTES",null,"DEPENSES"]
["Dates","Montant","Activités","Montant","Dates","Montant","Activités","Montant","Dates","Montant","Activités","Montant"]
[]
[]
[]
[]
[]
[null,{"$f":"SUM(B30:B34)","v":0},null,{"$f":"SUM(D30:D34)","v":0},null,{"$f":"SUM(F30:F34)","v":0},null,{"$f":"SUM(H30:H34)","v":0},null,{"$f":"SUM(J30:J34)","v":0},null,{"$f":"SUM(L30:L34)","v":0}]
["Récap 28/02",null,null,{"$f":"+B35-D35","v":0},"Récap 31/03",null,null,{"$f":"+F35-H35","v":0},"Récap 30/04",null,null,{"$f":"+J35-L35","v":0}]
[]
[]
["MAI",null,null,null,"JUIN",null,null,null,"Situation fin juin"]
["RECETTES",null,"DEPENSES",null,"RECETTES",null,"DEPENSES",null,null,"Recettes","Dépenses","Total"]
["Dates","Montant","Activités","Montant","Dates","Montant","Activités","Montant",{"$f":"E23","v":"Situation 31/12"},null,null,{"$f":"H23","v":31.72}]
[null,null,null,null,null,null,null,null,{"$f":"I25","v":"Récap 31/01"},{"$f":"J24","v":0},{"$f":"L24","v":0},{"$f":"L25","v":0}]
[null,null,null,null,null,null,null,null,{"$f":"A36","v":"Récap 28/02"},{"$f":"B35","v":0},{"$f":"D35","v":0},{"$f":"D36","v":0}]
[null,null,null,null,null,null,null,null,{"$f":"E36","v":"Récap 31/03"},{"$f":"F35","v":0},{"$f":"H35","v":0},{"$f":"H36","v":0}]
[null,null,null,null,null,null,null,null,{"$f":"I36","v":"Récap 30/04"},{"$f":"J35","v":0},{"$f":"L35","v":0},{"$f":"L36","v":0}]
[null,null,null,null,null,null,null,null,{"$f":"A48","v":"Récap 31/05"},{"$f":"B47","v":0},{"$f":"D47","v":0},{"$f":"D48","v":0}]
[null,{"$f":"SUM(B42:B46)","v":0},null,{"$f":"SUM(D42:D46)","v":0},null,{"$f":"SUM(F42:F46)","v":0},null,{"$f":"SUM(H42:H46)","v":0},{"$f":"E48","v":"Récap 30/06"},{"$f":"F47","v":0},{"$f":"H47","v":0},{"$f":"H48","v":0}]
["Récap 31/05",null,null,{"$f":"+B47-D47","v":0},"Récap 30/06",null,null,{"$f":"+F47-H47","v":0},"Situation 30/06",{"$f":"SUM(J42:J47)","v":0},{"$f":"SUM(K42:K47)","v":0},{"$f":"SUM(L41:L47)","v":31.72}]
[]
[null,null,null,null,null,null,null,null,null,null,null,{"$f":"F23+J48-G23-K48+B8","v":31.72}]
[]
[null,null,null,null,null,null,null,null,null,{"$f":"B13+F13+J13+B24+J24+B35+F35+J35+B47+F47","v":0},{"$f":"D13+H13+L13+D24+L24+D35+H35+L35+D47+H47","v":0},{"$f":"B8+J52-K52","v":31.72}]

{"sheet":"LORSE","index":108,"n_rows":52,"n_cols":12,"rows_kept":52,"cut":false,"hidden":false,"merged":[[0,9,0,10],[2,1,2,2],[2,4,2,5],[2,8,2,9],[5,8,5,9],[5,10,5,11],[4,0,4,3],[4,4,4,7],[4,8,4,11],[5,0,5,1],[5,2,5,3],[5,4,5,5],[5,6,5,7],[24,0,24,2],[13,0,13,2],[13,4,13,6],[16,2,16,3],[37,9,37,10],[16,0,16,1],[27,6,27,7],[24,8,24,10],[38,8,38,11],[13,8,13,10],[15,0,15,3],[15,4,15,7],[15,8,15,11],[16,10,16,11],[26,0,26,3],[26,4,26,7],[26,8,26,11],[27,8,27,9],[35,0,35,2],[35,4,35,6],[35,8,35,10],[27,10,27,11],[16,8,16,9],[27,4,27,5],[47,0,47,2],[47,4,47,6],[38,0,38,3],[38,4,38,7],[39,4,39,5],[39,6,39,7]]}
[null,null,null,null,null,null,null,null,null,"Année scolaire : ",null,{"$f":"' Liste élèves'!B1","v":"2018-2019"}]
[]
["NOM : ",{"$f":"' Liste élèves'!A109","v":"LORSE"},null,"PRENOM:",{"$f":"' Liste élèves'!B109","v":"Vincent"},null,null,"CLASSE :",{"$f":"' Liste élèves'!C109","v":"Classe JB"}]
[]
["SEPTEMBRE",null,null,null,"OCTOBRE",null,null,null,"NOVEMBRE"]
["RECETTES",null,"DEPENSES",null,"RECETTES",null,"DEPENSES",null,"RECETTES",null,"DEPENSES"]
["Dates","Montant","Activités","Montant","Dates","Montant","Activités","Montant","Dates","Montant","Activités","Montant"]
["Report juin",32.35]
[]
[]
[]
[]
[null,{"$f":"SUM(B9:B12)","v":0},null,{"$f":"SUM(D8:D12)","v":0},null,{"$f":"SUM(F8:F12)","v":0},null,{"$f":"SUM(H8:H12)","v":0},null,{"$f":"SUM(J8:J12)","v":0},null,{"$f":"SUM(L8:L12)","v":0}]
["Récap 30/09",null,null,{"$f":"+B13-D13","v":0},"Récap 31/10",null,null,{"$f":"+F13-H13","v":0},"Récap 30/11",null,null,{"$f":"+J13-L13","v":0}]
[]
["DÉCEMBRE",null,null,null,"Situation fin décembre",null,null,null,"JANVIER"]
["RECETTES",null,"DEPENSES",null,null,"Recettes","Dépenses","Total","RECETTES",null,"DEPENSES"]
["Dates","Montant","Activités","Montant",{"$f":"A14","v":"Récap 30/09"},{"$f":"B13","v":0},{"$f":"D13","v":0},{"$f":"D14","v":0},"Dates","Montant","Activités","Montant"]
[null,null,null,null,{"$f":"E14","v":"Récap 31/10"},{"$f":"F13","v":0},{"$f":"H13","v":0},{"$f":"H14","v":0}]
[null,null,null,null,{"$f":"I14","v":"Récap 30/11"},{"$f":"J13","v":0},{"$f":"L13","v":0},{"$f":"L14","v":0}]
[null,null,null,null,{"$f":"A25","v":"Récap 31/12"},{"$f":"B24","v":0},{"$f":"D24","v":0},{"$f":"D25","v":0}]
[null,null,null,null,"Report Sept",null,null,{"$f":"B8","v":32.35}]
[null,null,null,null,"Situation 31/12",{"$f":"SUM(F18:F22)","v":0},{"$f":"SUM(G18:G22)","v":0},{"$f":"SUM(H18:H22)","v":32.35}]
[null,{"$f":"SUM(B19:B23)","v":0},null,{"$f":"SUM(D19:D23)","v":0},null,null,null,null,null,{"$f":"SUM(J19:J23)","v":0},null,{"$f":"SUM(L19:L23)","v":0}]
["Récap 31/12",null,null,{"$f":"+B24-D24","v":0},null,null,null,null,"Récap 31/01",null,null,{"$f":"+J24-L24","v":0}]
[]
["FÉVRIER",null,null,null,"MARS",null,null,null,"AVRIL"]
["RECETTES",null,"DEPENSES",null,"RECETTES",null,"DEPENSES",null,"RECETTES",null,"DEPENSES"]
["Dates","Montant","Activités","Montant","Dates","Montant","Activités","Montant","Dates","Montant","Activités","Montant"]
[]
[]
[]
[]
[]
[null,{"$f":"SUM(B30:B34)","v":0},null,{"$f":"SUM(D30:D34)","v":0},null,{"$f":"SUM(F30:F34)","v":0},null,{"$f":"SUM(H30:H34)","v":0},null,{"$f":"SUM(J30:J34)","v":0},null,{"$f":"SUM(L30:L34)","v":0}]
["Récap 28/02",null,null,{"$f":"+B35-D35","v":0},"Récap 31/03",null,null,{"$f":"+F35-H35","v":0},"Récap 30/04",null,null,{"$f":"+J35-L35","v":0}]
[]
[]
["MAI",null,null,null,"JUIN",null,null,null,"Situation fin juin"]
["RECETTES",null,"DEPENSES",null,"RECETTES",null,"DEPENSES",null,null,"Recettes","Dépenses","Total"]
["Dates","Montant","Activités","Montant","Dates","Montant","Activités","Montant",{"$f":"E23","v":"Situation 31/12"},null,null,{"$f":"H23","v":32.35}]
[null,null,null,null,null,null,null,null,{"$f":"I25","v":"Récap 31/01"},{"$f":"J24","v":0},{"$f":"L24","v":0},{"$f":"L25","v":0}]
[null,null,null,null,null,null,null,null,{"$f":"A36","v":"Récap 28/02"},{"$f":"B35","v":0},{"$f":"D35","v":0},{"$f":"D36","v":0}]
[null,null,null,null,null,null,null,null,{"$f":"E36","v":"Récap 31/03"},{"$f":"F35","v":0},{"$f":"H35","v":0},{"$f":"H36","v":0}]
[null,null,null,null,null,null,null,null,{"$f":"I36","v":"Récap 30/04"},{"$f":"J35","v":0},{"$f":"L35","v":0},{"$f":"L36","v":0}]
[null,null,null,null,null,null,null,null,{"$f":"A48","v":"Récap 31/05"},{"$f":"B47","v":0},{"$f":"D47","v":0},{"$f":"D48","v":0}]
[null,{"$f":"SUM(B42:B46)","v":0},null,{"$f":"SUM(D42:D46)","v":0},null,{"$f":"SUM(F42:F46)","v":0},null,{"$f":"SUM(H42:H46)","v":0},{"$f":"E48","v":"Récap 30/06"},{"$f":"F47","v":0},{"$f":"H47","v":0},{"$f":"H48","v":0}]
["Récap 31/05",null,null,{"$f":"+B47-D47","v":0},"Récap 30/06",null,null,{"$f":"+F47-H47","v":0},"Situation 30/06",{"$f":"SUM(J42:J47)","v":0},{"$f":"SUM(K42:K47)","v":0},{"$f":"SUM(L41:L47)","v":32.35}]
[]
[null,null,null,null,null,null,null,null,null,null,null,{"$f":"F23+J48-G23-K48+B8","v":32.35}]
[]
[null,null,null,null,null,null,null,null,null,{"$f":"B13+F13+J13+B24+J24+B35+F35+J35+B47+F47","v":0},{"$f":"D13+H13+L13+D24+L24+D35+H35+L35+D47+H47","v":0},{"$f":"B8+J52-K52","v":32.35}]

{"sheet":"MALFROIDT","index":109,"n_rows":52,"n_cols":12,"rows_kept":52,"cut":false,"hidden":false,"merged":[[0,9,0,10],[2,1,2,2],[2,4,2,5],[2,8,2,9],[5,8,5,9],[5,10,5,11],[4,0,4,3],[4,4,4,7],[4,8,4,11],[5,0,5,1],[5,2,5,3],[5,4,5,5],[5,6,5,7],[24,0,24,2],[13,0,13,2],[13,4,13,6],[16,2,16,3],[37,9,37,10],[16,0,16,1],[27,6,27,7],[24,8,24,10],[38,8,38,11],[13,8,13,10],[15,0,15,3],[15,4,15,7],[15,8,15,11],[16,10,16,11],[26,0,26,3],[26,4,26,7],[26,8,26,11],[27,8,27,9],[35,0,35,2],[35,4,35,6],[35,8,35,10],[27,10,27,11],[16,8,16,9],[27,4,27,5],[47,0,47,2],[47,4,47,6],[38,0,38,3],[38,4,38,7],[39,4,39,5],[39,6,39,7]]}
[null,null,null,null,null,null,null,null,null,"Année scolaire : ",null,{"$f":"' Liste élèves'!B1","v":"2018-2019"}]
[]
["NOM : ",{"$f":"' Liste élèves'!A110","v":"MALFROIDT"},null,"PRENOM:",{"$f":"' Liste élèves'!B110","v":"Laura"},null,null,"CLASSE :",{"$f":"' Liste élèves'!C110","v":"Classe MC"}]
[]
["SEPTEMBRE",null,null,null,"OCTOBRE",null,null,null,"NOVEMBRE"]
["RECETTES",null,"DEPENSES",null,"RECETTES",null,"DEPENSES",null,"RECETTES",null,"DEPENSES"]
["Dates","Montant","Activités","Montant","Dates","Montant","Activités","Montant","Dates","Montant","Activités","Montant"]
["Report juin",-1.8]
[]
[]
[]
[]
[null,{"$f":"SUM(B9:B12)","v":0},null,{"$f":"SUM(D8:D12)","v":0},null,{"$f":"SUM(F8:F12)","v":0},null,{"$f":"SUM(H8:H12)","v":0},null,{"$f":"SUM(J8:J12)","v":0},null,{"$f":"SUM(L8:L12)","v":0}]
["Récap 30/09",null,null,{"$f":"+B13-D13","v":0},"Récap 31/10",null,null,{"$f":"+F13-H13","v":0},"Récap 30/11",null,null,{"$f":"+J13-L13","v":0}]
[]
["DÉCEMBRE",null,null,null,"Situation fin décembre",null,null,null,"JANVIER"]
["RECETTES",null,"DEPENSES",null,null,"Recettes","Dépenses","Total","RECETTES",null,"DEPENSES"]
["Dates","Montant","Activités","Montant",{"$f":"A14","v":"Récap 30/09"},{"$f":"B13","v":0},{"$f":"D13","v":0},{"$f":"D14","v":0},"Dates","Montant","Activités","Montant"]
[null,null,null,null,{"$f":"E14","v":"Récap 31/10"},{"$f":"F13","v":0},{"$f":"H13","v":0},{"$f":"H14","v":0}]
[null,null,null,null,{"$f":"I14","v":"Récap 30/11"},{"$f":"J13","v":0},{"$f":"L13","v":0},{"$f":"L14","v":0}]
[null,null,null,null,{"$f":"A25","v":"Récap 31/12"},{"$f":"B24","v":0},{"$f":"D24","v":0},{"$f":"D25","v":0}]
[null,null,null,null,"Report Sept",null,null,{"$f":"B8","v":-1.8}]
[null,null,null,null,"Situation 31/12",{"$f":"SUM(F18:F22)","v":0},{"$f":"SUM(G18:G22)","v":0},{"$f":"SUM(H18:H22)","v":-1.8}]
[null,{"$f":"SUM(B19:B23)","v":0},null,{"$f":"SUM(D19:D23)","v":0},null,null,null,null,null,{"$f":"SUM(J19:J23)","v":0},null,{"$f":"SUM(L19:L23)","v":0}]
["Récap 31/12",null,null,{"$f":"+B24-D24","v":0},null,null,null,null,"Récap 31/01",null,null,{"$f":"+J24-L24","v":0}]
[]
["FÉVRIER",null,null,null,"MARS",null,null,null,"AVRIL"]
["RECETTES",null,"DEPENSES",null,"RECETTES",null,"DEPENSES",null,"RECETTES",null,"DEPENSES"]
["Dates","Montant","Activités","Montant","Dates","Montant","Activités","Montant","Dates","Montant","Activités","Montant"]
[]
[]
[]
[]
[]
[null,{"$f":"SUM(B30:B34)","v":0},null,{"$f":"SUM(D30:D34)","v":0},null,{"$f":"SUM(F30:F34)","v":0},null,{"$f":"SUM(H30:H34)","v":0},null,{"$f":"SUM(J30:J34)","v":0},null,{"$f":"SUM(L30:L34)","v":0}]
["Récap 28/02",null,null,{"$f":"+B35-D35","v":0},"Récap 31/03",null,null,{"$f":"+F35-H35","v":0},"Récap 30/04",null,null,{"$f":"+J35-L35","v":0}]
[]
[]
["MAI",null,null,null,"JUIN",null,null,null,"Situation fin juin"]
["RECETTES",null,"DEPENSES",null,"RECETTES",null,"DEPENSES",null,null,"Recettes","Dépenses","Total"]
["Dates","Montant","Activités","Montant","Dates","Montant","Activités","Montant",{"$f":"E23","v":"Situation 31/12"},null,null,{"$f":"H23","v":-1.8}]
[null,null,null,null,null,null,null,null,{"$f":"I25","v":"Récap 31/01"},{"$f":"J24","v":0},{"$f":"L24","v":0},{"$f":"L25","v":0}]
[null,null,null,null,null,null,null,null,{"$f":"A36","v":"Récap 28/02"},{"$f":"B35","v":0},{"$f":"D35","v":0},{"$f":"D36","v":0}]
[null,null,null,null,null,null,null,null,{"$f":"E36","v":"Récap 31/03"},{"$f":"F35","v":0},{"$f":"H35","v":0},{"$f":"H36","v":0}]
[null,null,null,null,null,null,null,null,{"$f":"I36","v":"Récap 30/04"},{"$f":"J35","v":0},{"$f":"L35","v":0},{"$f":"L36","v":0}]
[null,null,null,null,null,null,null,null,{"$f":"A48","v":"Récap 31/05"},{"$f":"B47","v":0},{"$f":"D47","v":0},{"$f":"D48","v":0}]
[null,{"$f":"SUM(B42:B46)","v":0},null,{"$f":"SUM(D42:D46)","v":0},null,{"$f":"SUM(F42:F46)","v":0},null,{"$f":"SUM(H42:H46)","v":0},{"$f":"E48","v":"Récap 30/06"},{"$f":"F47","v":0},{"$f":"H47","v":0},{"$f":"H48","v":0}]
["Récap 31/05",null,null,{"$f":"+B47-D47","v":0},"Récap 30/06",null,null,{"$f":"+F47-H47","v":0},"Situation 30/06",{"$f":"SUM(J42:J47)","v":0},{"$f":"SUM(K42:K47)","v":0},{"$f":"SUM(L41:L47)","v":-1.8}]
[]
[null,null,null,null,null,null,null,null,null,null,null,{"$f":"F23+J48-G23-K48+B8","v":-1.8}]
[]
[null,null,null,null,null,null,null,null,null,{"$f":"B13+F13+J13+B24+J24+B35+F35+J35+B47+F47","v":0},{"$f":"D13+H13+L13+D24+L24+D35+H35+L35+D47+H47","v":0},{"$f":"B8+J52-K52","v":-1.8}]

{"sheet":"MANTEAU","index":110,"n_rows":52,"n_cols":12,"rows_kept":52,"cut":false,"hidden":false,"merged":[[0,9,0,10],[2,1,2,2],[2,4,2,5],[2,8,2,9],[5,8,5,9],[5,10,5,11],[4,0,4,3],[4,4,4,7],[4,8,4,11],[5,0,5,1],[5,2,5,3],[5,4,5,5],[5,6,5,7],[24,0,24,2],[13,0,13,2],[13,4,13,6],[16,2,16,3],[37,9,37,10],[16,0,16,1],[27,6,27,7],[24,8,24,10],[38,8,38,11],[13,8,13,10],[15,0,15,3],[15,4,15,7],[15,8,15,11],[16,10,16,11],[26,0,26,3],[26,4,26,7],[26,8,26,11],[27,8,27,9],[35,0,35,2],[35,4,35,6],[35,8,35,10],[27,10,27,11],[16,8,16,9],[27,4,27,5],[47,0,47,2],[47,4,47,6],[38,0,38,3],[38,4,38,7],[39,4,39,5],[39,6,39,7]]}
[null,null,null,null,null,null,null,null,null,"Année scolaire : ",null,{"$f":"' Liste élèves'!B1","v":"2018-2019"}]
[]
["NOM : ",{"$f":"' Liste élèves'!A111","v":"MANTEAU"},null,"PRENOM:",{"$f":"' Liste élèves'!B111","v":"Christopher"},null,null,"CLASSE :",{"$f":"' Liste élèves'!C111","v":"Classe FB"}]
[]
["SEPTEMBRE",null,null,null,"OCTOBRE",null,null,null,"NOVEMBRE"]
["RECETTES",null,"DEPENSES",null,"RECETTES",null,"DEPENSES",null,"RECETTES",null,"DEPENSES"]
["Dates","Montant","Activités","Montant","Dates","Montant","Activités","Montant","Dates","Montant","Activités","Montant"]
["Report juin",39]
[]
[]
[]
[]
[null,{"$f":"SUM(B9:B12)","v":0},null,{"$f":"SUM(D8:D12)","v":0},null,{"$f":"SUM(F8:F12)","v":0},null,{"$f":"SUM(H8:H12)","v":0},null,{"$f":"SUM(J8:J12)","v":0},null,{"$f":"SUM(L8:L12)","v":0}]
["Récap 30/09",null,null,{"$f":"+B13-D13","v":0},"Récap 31/10",null,null,{"$f":"+F13-H13","v":0},"Récap 30/11",null,null,{"$f":"+J13-L13","v":0}]
[]
["DÉCEMBRE",null,null,null,"Situation fin décembre",null,null,null,"JANVIER"]
["RECETTES",null,"DEPENSES",null,null,"Recettes","Dépenses","Total","RECETTES",null,"DEPENSES"]
["Dates","Montant","Activités","Montant",{"$f":"A14","v":"Récap 30/09"},{"$f":"B13","v":0},{"$f":"D13","v":0},{"$f":"D14","v":0},"Dates","Montant","Activités","Montant"]
[null,null,null,null,{"$f":"E14","v":"Récap 31/10"},{"$f":"F13","v":0},{"$f":"H13","v":0},{"$f":"H14","v":0}]
[null,null,null,null,{"$f":"I14","v":"Récap 30/11"},{"$f":"J13","v":0},{"$f":"L13","v":0},{"$f":"L14","v":0}]
[null,null,null,null,{"$f":"A25","v":"Récap 31/12"},{"$f":"B24","v":0},{"$f":"D24","v":0},{"$f":"D25","v":0}]
[null,null,null,null,"Report Sept",null,null,{"$f":"B8","v":39}]
[null,null,null,null,"Situation 31/12",{"$f":"SUM(F18:F22)","v":0},{"$f":"SUM(G18:G22)","v":0},{"$f":"SUM(H18:H22)","v":39}]
[null,{"$f":"SUM(B19:B23)","v":0},null,{"$f":"SUM(D19:D23)","v":0},null,null,null,null,null,{"$f":"SUM(J19:J23)","v":0},null,{"$f":"SUM(L19:L23)","v":0}]
["Récap 31/12",null,null,{"$f":"+B24-D24","v":0},null,null,null,null,"Récap 31/01",null,null,{"$f":"+J24-L24","v":0}]
[]
["FÉVRIER",null,null,null,"MARS",null,null,null,"AVRIL"]
["RECETTES",null,"DEPENSES",null,"RECETTES",null,"DEPENSES",null,"RECETTES",null,"DEPENSES"]
["Dates","Montant","Activités","Montant","Dates","Montant","Activités","Montant","Dates","Montant","Activités","Montant"]
[]
[]
[]
[]
[]
[null,{"$f":"SUM(B30:B34)","v":0},null,{"$f":"SUM(D30:D34)","v":0},null,{"$f":"SUM(F30:F34)","v":0},null,{"$f":"SUM(H30:H34)","v":0},null,{"$f":"SUM(J30:J34)","v":0},null,{"$f":"SUM(L30:L34)","v":0}]
["Récap 28/02",null,null,{"$f":"+B35-D35","v":0},"Récap 31/03",null,null,{"$f":"+F35-H35","v":0},"Récap 30/04",null,null,{"$f":"+J35-L35","v":0}]
[]
[]
["MAI",null,null,null,"JUIN",null,null,null,"Situation fin juin"]
["RECETTES",null,"DEPENSES",null,"RECETTES",null,"DEPENSES",null,null,"Recettes","Dépenses","Total"]
["Dates","Montant","Activités","Montant","Dates","Montant","Activités","Montant",{"$f":"E23","v":"Situation 31/12"},null,null,{"$f":"H23","v":39}]
[null,null,null,null,null,null,null,null,{"$f":"I25","v":"Récap 31/01"},{"$f":"J24","v":0},{"$f":"L24","v":0},{"$f":"L25","v":0}]
[null,null,null,null,null,null,null,null,{"$f":"A36","v":"Récap 28/02"},{"$f":"B35","v":0},{"$f":"D35","v":0},{"$f":"D36","v":0}]
[null,null,null,null,null,null,null,null,{"$f":"E36","v":"Récap 31/03"},{"$f":"F35","v":0},{"$f":"H35","v":0},{"$f":"H36","v":0}]
[null,null,null,null,null,null,null,null,{"$f":"I36","v":"Récap 30/04"},{"$f":"J35","v":0},{"$f":"L35","v":0},{"$f":"L36","v":0}]
[null,null,null,null,null,null,null,null,{"$f":"A48","v":"Récap 31/05"},{"$f":"B47","v":0},{"$f":"D47","v":0},{"$f":"D48","v":0}]
[null,{"$f":"SUM(B42:B46)","v":0},null,{"$f":"SUM(D42:D46)","v":0},null,{"$f":"SUM(F42:F46)","v":0},null,{"$f":"SUM(H42:H46)","v":0},{"$f":"E48","v":"Récap 30/06"},{"$f":"F47","v":0},{"$f":"H47","v":0},{"$f":"H48","v":0}]
["Récap 31/05",null,null,{"$f":"+B47-D47","v":0},"Récap 30/06",null,null,{"$f":"+F47-H47","v":0},"Situation 30/06",{"$f":"SUM(J42:J47)","v":0},{"$f":"SUM(K42:K47)","v":0},{"$f":"SUM(L41:L47)","v":39}]
[]
[null,null,null,null,null,null,null,null,null,null,null,{"$f":"F23+J48-G23-K48+B8","v":39}]
[]
[null,null,null,null,null,null,null,null,null,{"$f":"B13+F13+J13+B24+J24+B35+F35+J35+B47+F47","v":0},{"$f":"D13+H13+L13+D24+L24+D35+H35+L35+D47+H47","v":0},{"$f":"B8+J52-K52","v":39}]

{"sheet":"MARECHALBRE","index":111,"n_rows":52,"n_cols":12,"rows_kept":52,"cut":false,"hidden":false,"merged":[[0,9,0,10],[2,1,2,2],[2,4,2,5],[2,8,2,9],[5,8,5,9],[5,10,5,11],[4,0,4,3],[4,4,4,7],[4,8,4,11],[5,0,5,1],[5,2,5,3],[5,4,5,5],[5,6,5,7],[24,0,24,2],[13,0,13,2],[13,4,13,6],[16,2,16,3],[37,9,37,10],[16,0,16,1],[27,6,27,7],[24,8,24,10],[38,8,38,11],[13,8,13,10],[15,0,15,3],[15,4,15,7],[15,8,15,11],[16,10,16,11],[26,0,26,3],[26,4,26,7],[26,8,26,11],[27,8,27,9],[35,0,35,2],[35,4,35,6],[35,8,35,10],[27,10,27,11],[16,8,16,9],[27,4,27,5],[47,0,47,2],[47,4,47,6],[38,0,38,3],[38,4,38,7],[39,4,39,5],[39,6,39,7]]}
[null,null,null,null,null,null,null,null,null,"Année scolaire : ",null,{"$f":"' Liste élèves'!B1","v":"2018-2019"}]
[]
["NOM : ",{"$f":"' Liste élèves'!A113","v":"MARECHALBRE"},null,"PRENOM:",{"$f":"' Liste élèves'!B113","v":"Brendan"},null,null,"CLASSE :",{"$f":"' Liste élèves'!C113","v":"Classe 6"}]
[]
["SEPTEMBRE",null,null,null,"OCTOBRE",null,null,null,"NOVEMBRE"]
["RECETTES",null,"DEPENSES",null,"RECETTES",null,"DEPENSES",null,"RECETTES",null,"DEPENSES"]
["Dates","Montant","Activités","Montant","Dates","Montant","Activités","Montant","Dates","Montant","Activités","Montant"]
["Report juin",59.53]
[]
[]
[]
[]
[null,{"$f":"SUM(B9:B12)","v":0},null,{"$f":"SUM(D8:D12)","v":0},null,{"$f":"SUM(F8:F12)","v":0},null,{"$f":"SUM(H8:H12)","v":0},null,{"$f":"SUM(J8:J12)","v":0},null,{"$f":"SUM(L8:L12)","v":0}]
["Récap 30/09",null,null,{"$f":"+B13-D13","v":0},"Récap 31/10",null,null,{"$f":"+F13-H13","v":0},"Récap 30/11",null,null,{"$f":"+J13-L13","v":0}]
[]
["DÉCEMBRE",null,null,null,"Situation fin décembre",null,null,null,"JANVIER"]
["RECETTES",null,"DEPENSES",null,null,"Recettes","Dépenses","Total","RECETTES",null,"DEPENSES"]
["Dates","Montant","Activités","Montant",{"$f":"A14","v":"Récap 30/09"},{"$f":"B13","v":0},{"$f":"D13","v":0},{"$f":"D14","v":0},"Dates","Montant","Activités","Montant"]
[null,null,null,null,{"$f":"E14","v":"Récap 31/10"},{"$f":"F13","v":0},{"$f":"H13","v":0},{"$f":"H14","v":0}]
[null,null,null,null,{"$f":"I14","v":"Récap 30/11"},{"$f":"J13","v":0},{"$f":"L13","v":0},{"$f":"L14","v":0}]
[null,null,null,null,{"$f":"A25","v":"Récap 31/12"},{"$f":"B24","v":0},{"$f":"D24","v":0},{"$f":"D25","v":0}]
[null,null,null,null,"Report Sept",null,null,{"$f":"B8","v":59.53}]
[null,null,null,null,"Situation 31/12",{"$f":"SUM(F18:F22)","v":0},{"$f":"SUM(G18:G22)","v":0},{"$f":"SUM(H18:H22)","v":59.53}]
[null,{"$f":"SUM(B19:B23)","v":0},null,{"$f":"SUM(D19:D23)","v":0},null,null,null,null,null,{"$f":"SUM(J19:J23)","v":0},null,{"$f":"SUM(L19:L23)","v":0}]
["Récap 31/12",null,null,{"$f":"+B24-D24","v":0},null,null,null,null,"Récap 31/01",null,null,{"$f":"+J24-L24","v":0}]
[]
["FÉVRIER",null,null,null,"MARS",null,null,null,"AVRIL"]
["RECETTES",null,"DEPENSES",null,"RECETTES",null,"DEPENSES",null,"RECETTES",null,"DEPENSES"]
["Dates","Montant","Activités","Montant","Dates","Montant","Activités","Montant","Dates","Montant","Activités","Montant"]
[]
[]
[]
[]
[]
[null,{"$f":"SUM(B30:B34)","v":0},null,{"$f":"SUM(D30:D34)","v":0},null,{"$f":"SUM(F30:F34)","v":0},null,{"$f":"SUM(H30:H34)","v":0},null,{"$f":"SUM(J30:J34)","v":0},null,{"$f":"SUM(L30:L34)","v":0}]
["Récap 28/02",null,null,{"$f":"+B35-D35","v":0},"Récap 31/03",null,null,{"$f":"+F35-H35","v":0},"Récap 30/04",null,null,{"$f":"+J35-L35","v":0}]
[]
[]
["MAI",null,null,null,"JUIN",null,null,null,"Situation fin juin"]
["RECETTES",null,"DEPENSES",null,"RECETTES",null,"DEPENSES",null,null,"Recettes","Dépenses","Total"]
["Dates","Montant","Activités","Montant","Dates","Montant","Activités","Montant",{"$f":"E23","v":"Situation 31/12"},null,null,{"$f":"H23","v":59.53}]
[null,null,null,null,null,null,null,null,{"$f":"I25","v":"Récap 31/01"},{"$f":"J24","v":0},{"$f":"L24","v":0},{"$f":"L25","v":0}]
[null,null,null,null,null,null,null,null,{"$f":"A36","v":"Récap 28/02"},{"$f":"B35","v":0},{"$f":"D35","v":0},{"$f":"D36","v":0}]
[null,null,null,null,null,null,null,null,{"$f":"E36","v":"Récap 31/03"},{"$f":"F35","v":0},{"$f":"H35","v":0},{"$f":"H36","v":0}]
[null,null,null,null,null,null,null,null,{"$f":"I36","v":"Récap 30/04"},{"$f":"J35","v":0},{"$f":"L35","v":0},{"$f":"L36","v":0}]
[null,null,null,null,null,null,null,null,{"$f":"A48","v":"Récap 31/05"},{"$f":"B47","v":0},{"$f":"D47","v":0},{"$f":"D48","v":0}]
[null,{"$f":"SUM(B42:B46)","v":0},null,{"$f":"SUM(D42:D46)","v":0},null,{"$f":"SUM(F42:F46)","v":0},null,{"$f":"SUM(H42:H46)","v":0},{"$f":"E48","v":"Récap 30/06"},{"$f":"F47","v":0},{"$f":"H47","v":0},{"$f":"H48","v":0}]
["Récap 31/05",null,null,{"$f":"+B47-D47","v":0},"Récap 30/06",null,null,{"$f":"+F47-H47","v":0},"Situation 30/06",{"$f":"SUM(J42:J47)","v":0},{"$f":"SUM(K42:K47)","v":0},{"$f":"SUM(L41:L47)","v":59.53}]
[]
[null,null,null,null,null,null,null,null,null,null,null,{"$f":"F23+J48-G23-K48+B8","v":59.53}]
[]
[null,null,null,null,null,null,null,null,null,{"$f":"B13+F13+J13+B24+J24+B35+F35+J35+B47+F47","v":0},{"$f":"D13+H13+L13+D24+L24+D35+H35+L35+D47+H47","v":0},{"$f":"B8+J52-K52","v":59.53}]

{"sheet":"MARECHALBRY","index":112,"n_rows":52,"n_cols":12,"rows_kept":52,"cut":false,"hidden":false,"merged":[[0,9,0,10],[2,1,2,2],[2,4,2,5],[2,8,2,9],[5,8,5,9],[5,10,5,11],[4,0,4,3],[4,4,4,7],[4,8,4,11],[5,0,5,1],[5,2,5,3],[5,4,5,5],[5,6,5,7],[24,0,24,2],[13,0,13,2],[13,4,13,6],[16,2,16,3],[37,9,37,10],[16,0,16,1],[27,6,27,7],[24,8,24,10],[38,8,38,11],[13,8,13,10],[15,0,15,3],[15,4,15,7],[15,8,15,11],[16,10,16,11],[26,0,26,3],[26,4,26,7],[26,8,26,11],[27,8,27,9],[35,0,35,2],[35,4,35,6],[35,8,35,10],[27,10,27,11],[16,8,16,9],[27,4,27,5],[47,0,47,2],[47,4,47,6],[38,0,38,3],[38,4,38,7],[39,4,39,5],[39,6,39,7]]}
[null,null,null,null,null,null,null,null,null,"Année scolaire : ",null,{"$f":"' Liste élèves'!B1","v":"2018-2019"}]
[]
["NOM : ",{"$f":"' Liste élèves'!A112","v":"MARECHALBRY"},null,"PRENOM:",{"$f":"' Liste élèves'!B112","v":"Bryan"},null,null,"CLASSE :",{"$f":"' Liste élèves'!C112","v":"Classe 7"}]
[]
["SEPTEMBRE",null,null,null,"OCTOBRE",null,null,null,"NOVEMBRE"]
["RECETTES",null,"DEPENSES",null,"RECETTES",null,"DEPENSES",null,"RECETTES",null,"DEPENSES"]
["Dates","Montant","Activités","Montant","Dates","Montant","Activités","Montant","Dates","Montant","Activités","Montant"]
["Report juin",57.2]
[]
[]
[]
[]
[null,{"$f":"SUM(B9:B12)","v":0},null,{"$f":"SUM(D8:D12)","v":0},null,{"$f":"SUM(F8:F12)","v":0},null,{"$f":"SUM(H8:H12)","v":0},null,{"$f":"SUM(J8:J12)","v":0},null,{"$f":"SUM(L8:L12)","v":0}]
["Récap 30/09",null,null,{"$f":"+B13-D13","v":0},"Récap 31/10",null,null,{"$f":"+F13-H13","v":0},"Récap 30/11",null,null,{"$f":"+J13-L13","v":0}]
[]
["DÉCEMBRE",null,null,null,"Situation fin décembre",null,null,null,"JANVIER"]
["RECETTES",null,"DEPENSES",null,null,"Recettes","Dépenses","Total","RECETTES",null,"DEPENSES"]
["Dates","Montant","Activités","Montant",{"$f":"A14","v":"Récap 30/09"},{"$f":"B13","v":0},{"$f":"D13","v":0},{"$f":"D14","v":0},"Dates","Montant","Activités","Montant"]
[null,null,null,null,{"$f":"E14","v":"Récap 31/10"},{"$f":"F13","v":0},{"$f":"H13","v":0},{"$f":"H14","v":0}]
[null,null,null,null,{"$f":"I14","v":"Récap 30/11"},{"$f":"J13","v":0},{"$f":"L13","v":0},{"$f":"L14","v":0}]
[null,null,null,null,{"$f":"A25","v":"Récap 31/12"},{"$f":"B24","v":0},{"$f":"D24","v":0},{"$f":"D25","v":0}]
[null,null,null,null,"Report Sept",null,null,{"$f":"B8","v":57.2}]
[null,null,null,null,"Situation 31/12",{"$f":"SUM(F18:F22)","v":0},{"$f":"SUM(G18:G22)","v":0},{"$f":"SUM(H18:H22)","v":57.2}]
[null,{"$f":"SUM(B19:B23)","v":0},null,{"$f":"SUM(D19:D23)","v":0},null,null,null,null,null,{"$f":"SUM(J19:J23)","v":0},null,{"$f":"SUM(L19:L23)","v":0}]
["Récap 31/12",null,null,{"$f":"+B24-D24","v":0},null,null,null,null,"Récap 31/01",null,null,{"$f":"+J24-L24","v":0}]
[]
["FÉVRIER",null,null,null,"MARS",null,null,null,"AVRIL"]
["RECETTES",null,"DEPENSES",null,"RECETTES",null,"DEPENSES",null,"RECETTES",null,"DEPENSES"]
["Dates","Montant","Activités","Montant","Dates","Montant","Activités","Montant","Dates","Montant","Activités","Montant"]
[]
[]
[]
[]
[]
[null,{"$f":"SUM(B30:B34)","v":0},null,{"$f":"SUM(D30:D34)","v":0},null,{"$f":"SUM(F30:F34)","v":0},null,{"$f":"SUM(H30:H34)","v":0},null,{"$f":"SUM(J30:J34)","v":0},null,{"$f":"SUM(L30:L34)","v":0}]
["Récap 28/02",null,null,{"$f":"+B35-D35","v":0},"Récap 31/03",null,null,{"$f":"+F35-H35","v":0},"Récap 30/04",null,null,{"$f":"+J35-L35","v":0}]
[]
[]
["MAI",null,null,null,"JUIN",null,null,null,"Situation fin juin"]
["RECETTES",null,"DEPENSES",null,"RECETTES",null,"DEPENSES",null,null,"Recettes","Dépenses","Total"]
["Dates","Montant","Activités","Montant","Dates","Montant","Activités","Montant",{"$f":"E23","v":"Situation 31/12"},null,null,{"$f":"H23","v":57.2}]
[null,null,null,null,null,null,null,null,{"$f":"I25","v":"Récap 31/01"},{"$f":"J24","v":0},{"$f":"L24","v":0},{"$f":"L25","v":0}]
[null,null,null,null,null,null,null,null,{"$f":"A36","v":"Récap 28/02"},{"$f":"B35","v":0},{"$f":"D35","v":0},{"$f":"D36","v":0}]
[null,null,null,null,null,null,null,null,{"$f":"E36","v":"Récap 31/03"},{"$f":"F35","v":0},{"$f":"H35","v":0},{"$f":"H36","v":0}]
[null,null,null,null,null,null,null,null,{"$f":"I36","v":"Récap 30/04"},{"$f":"J35","v":0},{"$f":"L35","v":0},{"$f":"L36","v":0}]
[null,null,null,null,null,null,null,null,{"$f":"A48","v":"Récap 31/05"},{"$f":"B47","v":0},{"$f":"D47","v":0},{"$f":"D48","v":0}]
[null,{"$f":"SUM(B42:B46)","v":0},null,{"$f":"SUM(D42:D46)","v":0},null,{"$f":"SUM(F42:F46)","v":0},null,{"$f":"SUM(H42:H46)","v":0},{"$f":"E48","v":"Récap 30/06"},{"$f":"F47","v":0},{"$f":"H47","v":0},{"$f":"H48","v":0}]
["Récap 31/05",null,null,{"$f":"+B47-D47","v":0},"Récap 30/06",null,null,{"$f":"+F47-H47","v":0},"Situation 30/06",{"$f":"SUM(J42:J47)","v":0},{"$f":"SUM(K42:K47)","v":0},{"$f":"SUM(L41:L47)","v":57.2}]
[]
[null,null,null,null,null,null,null,null,null,null,null,{"$f":"F23+J48-G23-K48+B8","v":57.2}]
[]
[null,null,null,null,null,null,null,null,null,{"$f":"B13+F13+J13+B24+J24+B35+F35+J35+B47+F47","v":0},{"$f":"D13+H13+L13+D24+L24+D35+H35+L35+D47+H47","v":0},{"$f":"B8+J52-K52","v":57.2}]

{"sheet":"MARGUERITE","index":113,"n_rows":52,"n_cols":12,"rows_kept":52,"cut":false,"hidden":false,"merged":[[0,9,0,10],[2,1,2,2],[2,4,2,5],[2,8,2,9],[5,8,5,9],[5,10,5,11],[4,0,4,3],[4,4,4,7],[4,8,4,11],[5,0,5,1],[5,2,5,3],[5,4,5,5],[5,6,5,7],[24,0,24,2],[13,0,13,2],[13,4,13,6],[16,2,16,3],[37,9,37,10],[16,0,16,1],[27,6,27,7],[24,8,24,10],[38,8,38,11],[13,8,13,10],[15,0,15,3],[15,4,15,7],[15,8,15,11],[16,10,16,11],[26,0,26,3],[26,4,26,7],[26,8,26,11],[27,8,27,9],[35,0,35,2],[35,4,35,6],[35,8,35,10],[27,10,27,11],[16,8,16,9],[27,4,27,5],[47,0,47,2],[47,4,47,6],[38,0,38,3],[38,4,38,7],[39,4,39,5],[39,6,39,7]]}
[null,null,null,null,null,null,null,null,null,"Année scolaire : ",null,{"$f":"' Liste élèves'!B1","v":"2018-2019"}]
[]
["NOM : ",{"$f":"' Liste élèves'!A114","v":"MARGUERITE"},null,"PRENOM:",{"$f":"' Liste élèves'!B114","v":"Laurent"},null,null,"CLASSE :",{"$f":"' Liste élèves'!C114","v":"Classe 7"}]
[]
["SEPTEMBRE",null,null,null,"OCTOBRE",null,null,null,"NOVEMBRE"]
["RECETTES",null,"DEPENSES",null,"RECETTES",null,"DEPENSES",null,"RECETTES",null,"DEPENSES"]
["Dates","Montant","Activités","Montant","Dates","Montant","Activités","Montant","Dates","Montant","Activités","Montant"]
["Report juin",31.2]
[]
[]
[]
[]
[null,{"$f":"SUM(B9:B12)","v":0},null,{"$f":"SUM(D8:D12)","v":0},null,{"$f":"SUM(F8:F12)","v":0},null,{"$f":"SUM(H8:H12)","v":0},null,{"$f":"SUM(J8:J12)","v":0},null,{"$f":"SUM(L8:L12)","v":0}]
["Récap 30/09",null,null,{"$f":"+B13-D13","v":0},"Récap 31/10",null,null,{"$f":"+F13-H13","v":0},"Récap 30/11",null,null,{"$f":"+J13-L13","v":0}]
[]
["DÉCEMBRE",null,null,null,"Situation fin décembre",null,null,null,"JANVIER"]
["RECETTES",null,"DEPENSES",null,null,"Recettes","Dépenses","Total","RECETTES",null,"DEPENSES"]
["Dates","Montant","Activités","Montant",{"$f":"A14","v":"Récap 30/09"},{"$f":"B13","v":0},{"$f":"D13","v":0},{"$f":"D14","v":0},"Dates","Montant","Activités","Montant"]
[null,null,null,null,{"$f":"E14","v":"Récap 31/10"},{"$f":"F13","v":0},{"$f":"H13","v":0},{"$f":"H14","v":0}]
[null,null,null,null,{"$f":"I14","v":"Récap 30/11"},{"$f":"J13","v":0},{"$f":"L13","v":0},{"$f":"L14","v":0}]
[null,null,null,null,{"$f":"A25","v":"Récap 31/12"},{"$f":"B24","v":0},{"$f":"D24","v":0},{"$f":"D25","v":0}]
[null,null,null,null,"Report Sept",null,null,{"$f":"B8","v":31.2}]
[null,null,null,null,"Situation 31/12",{"$f":"SUM(F18:F22)","v":0},{"$f":"SUM(G18:G22)","v":0},{"$f":"SUM(H18:H22)","v":31.2}]
[null,{"$f":"SUM(B19:B23)","v":0},null,{"$f":"SUM(D19:D23)","v":0},null,null,null,null,null,{"$f":"SUM(J19:J23)","v":0},null,{"$f":"SUM(L19:L23)","v":0}]
["Récap 31/12",null,null,{"$f":"+B24-D24","v":0},null,null,null,null,"Récap 31/01",null,null,{"$f":"+J24-L24","v":0}]
[]
["FÉVRIER",null,null,null,"MARS",null,null,null,"AVRIL"]
["RECETTES",null,"DEPENSES",null,"RECETTES",null,"DEPENSES",null,"RECETTES",null,"DEPENSES"]
["Dates","Montant","Activités","Montant","Dates","Montant","Activités","Montant","Dates","Montant","Activités","Montant"]
[]
[]
[]
[]
[]
[null,{"$f":"SUM(B30:B34)","v":0},null,{"$f":"SUM(D30:D34)","v":0},null,{"$f":"SUM(F30:F34)","v":0},null,{"$f":"SUM(H30:H34)","v":0},null,{"$f":"SUM(J30:J34)","v":0},null,{"$f":"SUM(L30:L34)","v":0}]
["Récap 28/02",null,null,{"$f":"+B35-D35","v":0},"Récap 31/03",null,null,{"$f":"+F35-H35","v":0},"Récap 30/04",null,null,{"$f":"+J35-L35","v":0}]
[]
[]
["MAI",null,null,null,"JUIN",null,null,null,"Situation fin juin"]
["RECETTES",null,"DEPENSES",null,"RECETTES",null,"DEPENSES",null,null,"Recettes","Dépenses","Total"]
["Dates","Montant","Activités","Montant","Dates","Montant","Activités","Montant",{"$f":"E23","v":"Situation 31/12"},null,null,{"$f":"H23","v":31.2}]
[null,null,null,null,null,null,null,null,{"$f":"I25","v":"Récap 31/01"},{"$f":"J24","v":0},{"$f":"L24","v":0},{"$f":"L25","v":0}]
[null,null,null,null,null,null,null,null,{"$f":"A36","v":"Récap 28/02"},{"$f":"B35","v":0},{"$f":"D35","v":0},{"$f":"D36","v":0}]
[null,null,null,null,null,null,null,null,{"$f":"E36","v":"Récap 31/03"},{"$f":"F35","v":0},{"$f":"H35","v":0},{"$f":"H36","v":0}]
[null,null,null,null,null,null,null,null,{"$f":"I36","v":"Récap 30/04"},{"$f":"J35","v":0},{"$f":"L35","v":0},{"$f":"L36","v":0}]
[null,null,null,null,null,null,null,null,{"$f":"A48","v":"Récap 31/05"},{"$f":"B47","v":0},{"$f":"D47","v":0},{"$f":"D48","v":0}]
[null,{"$f":"SUM(B42:B46)","v":0},null,{"$f":"SUM(D42:D46)","v":0},null,{"$f":"SUM(F42:F46)","v":0},null,{"$f":"SUM(H42:H46)","v":0},{"$f":"E48","v":"Récap 30/06"},{"$f":"F47","v":0},{"$f":"H47","v":0},{"$f":"H48","v":0}]
["Récap 31/05",null,null,{"$f":"+B47-D47","v":0},"Récap 30/06",null,null,{"$f":"+F47-H47","v":0},"Situation 30/06",{"$f":"SUM(J42:J47)","v":0},{"$f":"SUM(K42:K47)","v":0},{"$f":"SUM(L41:L47)","v":31.2}]
[]
[null,null,null,null,null,null,null,null,null,null,null,{"$f":"F23+J48-G23-K48+B8","v":31.2}]
[]
[null,null,null,null,null,null,null,null,null,{"$f":"B13+F13+J13+B24+J24+B35+F35+J35+B47+F47","v":0},{"$f":"D13+H13+L13+D24+L24+D35+H35+L35+D47+H47","v":0},{"$f":"B8+J52-K52","v":31.2}]

{"sheet":"MARYF","index":114,"n_rows":52,"n_cols":12,"rows_kept":52,"cut":false,"hidden":false,"merged":[[0,9,0,10],[2,1,2,2],[2,4,2,5],[2,8,2,9],[5,8,5,9],[5,10,5,11],[4,0,4,3],[4,4,4,7],[4,8,4,11],[5,0,5,1],[5,2,5,3],[5,4,5,5],[5,6,5,7],[24,0,24,2],[13,0,13,2],[13,4,13,6],[16,2,16,3],[37,9,37,10],[16,0,16,1],[27,6,27,7],[24,8,24,10],[38,8,38,11],[13,8,13,10],[15,0,15,3],[15,4,15,7],[15,8,15,11],[16,10,16,11],[26,0,26,3],[26,4,26,7],[26,8,26,11],[27,8,27,9],[35,0,35,2],[35,4,35,6],[35,8,35,10],[27,10,27,11],[16,8,16,9],[27,4,27,5],[47,0,47,2],[47,4,47,6],[38,0,38,3],[38,4,38,7],[39,4,39,5],[39,6,39,7]]}
[null,null,null,null,null,null,null,null,null,"Année scolaire : ",null,{"$f":"' Liste élèves'!B1","v":"2018-2019"}]
[]
["NOM : ",{"$f":"' Liste élèves'!A115","v":"MARYF"},null,"PRENOM:",{"$f":"' Liste élèves'!B115","v":"Fiona"},null,null,"CLASSE :",{"$f":"' Liste élèves'!C115","v":"Classe 12"}]
[]
["SEPTEMBRE",null,null,null,"OCTOBRE",null,null,null,"NOVEMBRE"]
["RECETTES",null,"DEPENSES",null,"RECETTES",null,"DEPENSES",null,"RECETTES",null,"DEPENSES"]
["Dates","Montant","Activités","Montant","Dates","Montant","Activités","Montant","Dates","Montant","Activités","Montant"]
["Report juin"]
[]
[]
[]
[]
[null,{"$f":"SUM(B9:B12)","v":0},null,{"$f":"SUM(D8:D12)","v":0},null,{"$f":"SUM(F8:F12)","v":0},null,{"$f":"SUM(H8:H12)","v":0},null,{"$f":"SUM(J8:J12)","v":0},null,{"$f":"SUM(L8:L12)","v":0}]
["Récap 30/09",null,null,{"$f":"+B13-D13","v":0},"Récap 31/10",null,null,{"$f":"+F13-H13","v":0},"Récap 30/11",null,null,{"$f":"+J13-L13","v":0}]
[]
["DÉCEMBRE",null,null,null,"Situation fin décembre",null,null,null,"JANVIER"]
["RECETTES",null,"DEPENSES",null,null,"Recettes","Dépenses","Total","RECETTES",null,"DEPENSES"]
["Dates","Montant","Activités","Montant",{"$f":"A14","v":"Récap 30/09"},{"$f":"B13","v":0},{"$f":"D13","v":0},{"$f":"D14","v":0},"Dates","Montant","Activités","Montant"]
[null,null,null,null,{"$f":"E14","v":"Récap 31/10"},{"$f":"F13","v":0},{"$f":"H13","v":0},{"$f":"H14","v":0}]
[null,null,null,null,{"$f":"I14","v":"Récap 30/11"},{"$f":"J13","v":0},{"$f":"L13","v":0},{"$f":"L14","v":0}]
[null,null,null,null,{"$f":"A25","v":"Récap 31/12"},{"$f":"B24","v":0},{"$f":"D24","v":0},{"$f":"D25","v":0}]
[null,null,null,null,"Report Sept",null,null,{"$f":"B8","v":0}]
[null,null,null,null,"Situation 31/12",{"$f":"SUM(F18:F22)","v":0},{"$f":"SUM(G18:G22)","v":0},{"$f":"SUM(H18:H22)","v":0}]
[null,{"$f":"SUM(B19:B23)","v":0},null,{"$f":"SUM(D19:D23)","v":0},null,null,null,null,null,{"$f":"SUM(J19:J23)","v":0},null,{"$f":"SUM(L19:L23)","v":0}]
["Récap 31/12",null,null,{"$f":"+B24-D24","v":0},null,null,null,null,"Récap 31/01",null,null,{"$f":"+J24-L24","v":0}]
[]
["FÉVRIER",null,null,null,"MARS",null,null,null,"AVRIL"]
["RECETTES",null,"DEPENSES",null,"RECETTES",null,"DEPENSES",null,"RECETTES",null,"DEPENSES"]
["Dates","Montant","Activités","Montant","Dates","Montant","Activités","Montant","Dates","Montant","Activités","Montant"]
[]
[]
[]
[]
[]
[null,{"$f":"SUM(B30:B34)","v":0},null,{"$f":"SUM(D30:D34)","v":0},null,{"$f":"SUM(F30:F34)","v":0},null,{"$f":"SUM(H30:H34)","v":0},null,{"$f":"SUM(J30:J34)","v":0},null,{"$f":"SUM(L30:L34)","v":0}]
["Récap 28/02",null,null,{"$f":"+B35-D35","v":0},"Récap 31/03",null,null,{"$f":"+F35-H35","v":0},"Récap 30/04",null,null,{"$f":"+J35-L35","v":0}]
[]
[]
["MAI",null,null,null,"JUIN",null,null,null,"Situation fin juin"]
["RECETTES",null,"DEPENSES",null,"RECETTES",null,"DEPENSES",null,null,"Recettes","Dépenses","Total"]
["Dates","Montant","Activités","Montant","Dates","Montant","Activités","Montant",{"$f":"E23","v":"Situation 31/12"},null,null,{"$f":"H23","v":0}]
[null,null,null,null,null,null,null,null,{"$f":"I25","v":"Récap 31/01"},{"$f":"J24","v":0},{"$f":"L24","v":0},{"$f":"L25","v":0}]
[null,null,null,null,null,null,null,null,{"$f":"A36","v":"Récap 28/02"},{"$f":"B35","v":0},{"$f":"D35","v":0},{"$f":"D36","v":0}]
[null,null,null,null,null,null,null,null,{"$f":"E36","v":"Récap 31/03"},{"$f":"F35","v":0},{"$f":"H35","v":0},{"$f":"H36","v":0}]
[null,null,null,null,null,null,null,null,{"$f":"I36","v":"Récap 30/04"},{"$f":"J35","v":0},{"$f":"L35","v":0},{"$f":"L36","v":0}]
[null,null,null,null,null,null,null,null,{"$f":"A48","v":"Récap 31/05"},{"$f":"B47","v":0},{"$f":"D47","v":0},{"$f":"D48","v":0}]
[null,{"$f":"SUM(B42:B46)","v":0},null,{"$f":"SUM(D42:D46)","v":0},null,{"$f":"SUM(F42:F46)","v":0},null,{"$f":"SUM(H42:H46)","v":0},{"$f":"E48","v":"Récap 30/06"},{"$f":"F47","v":0},{"$f":"H47","v":0},{"$f":"H48","v":0}]
["Récap 31/05",null,null,{"$f":"+B47-D47","v":0},"Récap 30/06",null,null,{"$f":"+F47-H47","v":0},"Situation 30/06",{"$f":"SUM(J42:J47)","v":0},{"$f":"SUM(K42:K47)","v":0},{"$f":"SUM(L41:L47)","v":0}]
[]
[null,null,null,null,null,null,null,null,null,null,null,{"$f":"F23+J48-G23-K48+B8","v":0}]
[]
[null,null,null,null,null,null,null,null,null,{"$f":"B13+F13+J13+B24+J24+B35+F35+J35+B47+F47","v":0},{"$f":"D13+H13+L13+D24+L24+D35+H35+L35+D47+H47","v":0},{"$f":"B8+J52-K52","v":0}]

{"sheet":"MARYG","index":115,"n_rows":52,"n_cols":12,"rows_kept":52,"cut":false,"hidden":false,"merged":[[5,10,5,11],[0,9,0,10],[2,1,2,2],[2,4,2,5],[2,8,2,9],[4,0,4,3],[4,4,4,7],[4,8,4,11],[5,0,5,1],[5,2,5,3],[5,4,5,5],[5,6,5,7],[5,8,5,9],[13,0,13,2],[13,4,13,6],[13,8,13,10],[15,0,15,3],[15,4,15,7],[15,8,15,11],[16,0,16,1],[16,2,16,3],[16,8,16,9],[16,10,16,11],[24,0,24,2],[24,8,24,10],[26,0,26,3],[26,4,26,7],[26,8,26,11],[27,4,27,5],[27,6,27,7],[27,8,27,9],[27,10,27,11],[35,8,35,10],[37,9,37,10],[38,0,38,3],[38,4,38,7],[38,8,38,11],[39,4,39,5],[39,6,39,7],[47,0,47,2],[47,4,47,6],[35,0,35,2],[35,4,35,6]]}
[null,null,null,null,null,null,null,null,null,"Année scolaire : ",null,{"$f":"' Liste élèves'!B1","v":"2018-2019"}]
[]
["NOM : ",{"$f":"' Liste élèves'!A116","v":"MARYG"},null,"PRENOM:",{"$f":"' Liste élèves'!B116","v":"Gwendoline"},null,null,"CLASSE :",{"$f":"' Liste élèves'!C116","v":"Classe MA"}]
[]
["SEPTEMBRE",null,null,null,"OCTOBRE",null,null,null,"NOVEMBRE"]
["RECETTES",null,"DEPENSES",null,"RECETTES",null,"DEPENSES",null,"RECETTES",null,"DEPENSES"]
["Dates","Montant","Activités","Montant","Dates","Montant","Activités","Montant","Dates","Montant","Activités","Montant"]
["Report juin",-3]
[]
[]
[]
[]
[null,{"$f":"SUM(B9:B12)","v":0},null,{"$f":"SUM(D8:D12)","v":0},null,{"$f":"SUM(F8:F12)","v":0},null,{"$f":"SUM(H8:H12)","v":0},null,{"$f":"SUM(J8:J12)","v":0},null,{"$f":"SUM(L8:L12)","v":0}]
["Récap 30/09",null,null,{"$f":"+B13-D13","v":0},"Récap 31/10",null,null,{"$f":"+F13-H13","v":0},"Récap 30/11",null,null,{"$f":"+J13-L13","v":0}]
[]
["DÉCEMBRE",null,null,null,"Situation fin décembre",null,null,null,"JANVIER"]
["RECETTES",null,"DEPENSES",null,null,"Recettes","Dépenses","Total","RECETTES",null,"DEPENSES"]
["Dates","Montant","Activités","Montant",{"$f":"A14","v":"Récap 30/09"},{"$f":"B13","v":0},{"$f":"D13","v":0},{"$f":"D14","v":0},"Dates","Montant","Activités","Montant"]
[null,null,null,null,{"$f":"E14","v":"Récap 31/10"},{"$f":"F13","v":0},{"$f":"H13","v":0},{"$f":"H14","v":0}]
[null,null,null,null,{"$f":"I14","v":"Récap 30/11"},{"$f":"J13","v":0},{"$f":"L13","v":0},{"$f":"L14","v":0}]
[null,null,null,null,{"$f":"A25","v":"Récap 31/12"},{"$f":"B24","v":0},{"$f":"D24","v":0},{"$f":"D25","v":0}]
[null,null,null,null,"Report Sept",null,null,{"$f":"B8","v":-3}]
[null,null,null,null,"Situation 31/12",{"$f":"SUM(F18:F22)","v":0},{"$f":"SUM(G18:G22)","v":0},{"$f":"SUM(H18:H22)","v":-3}]
[null,{"$f":"SUM(B19:B23)","v":0},null,{"$f":"SUM(D19:D23)","v":0},null,null,null,null,null,{"$f":"SUM(J19:J23)","v":0},null,{"$f":"SUM(L19:L23)","v":0}]
["Récap 31/12",null,null,{"$f":"+B24-D24","v":0},null,null,null,null,"Récap 31/01",null,null,{"$f":"+J24-L24","v":0}]
[]
["FÉVRIER",null,null,null,"MARS",null,null,null,"AVRIL"]
["RECETTES",null,"DEPENSES",null,"RECETTES",null,"DEPENSES",null,"RECETTES",null,"DEPENSES"]
["Dates","Montant","Activités","Montant","Dates","Montant","Activités","Montant","Dates","Montant","Activités","Montant"]
[]
[]
[]
[]
[]
[null,{"$f":"SUM(B30:B34)","v":0},null,{"$f":"SUM(D30:D34)","v":0},null,{"$f":"SUM(F30:F34)","v":0},null,{"$f":"SUM(H30:H34)","v":0},null,{"$f":"SUM(J30:J34)","v":0},null,{"$f":"SUM(L30:L34)","v":0}]
["Récap 28/02",null,null,{"$f":"+B35-D35","v":0},"Récap 31/03",null,null,{"$f":"+F35-H35","v":0},"Récap 30/04",null,null,{"$f":"+J35-L35","v":0}]
[]
[]
["MAI",null,null,null,"JUIN",null,null,null,"Situation fin juin"]
["RECETTES",null,"DEPENSES",null,"RECETTES",null,"DEPENSES",null,null,"Recettes","Dépenses","Total"]
["Dates","Montant","Activités","Montant","Dates","Montant","Activités","Montant",{"$f":"E23","v":"Situation 31/12"},null,null,{"$f":"H23","v":-3}]
[null,null,null,null,null,null,null,null,{"$f":"I25","v":"Récap 31/01"},{"$f":"J24","v":0},{"$f":"L24","v":0},{"$f":"L25","v":0}]
[null,null,null,null,null,null,null,null,{"$f":"A36","v":"Récap 28/02"},{"$f":"B35","v":0},{"$f":"D35","v":0},{"$f":"D36","v":0}]
[null,null,null,null,null,null,null,null,{"$f":"E36","v":"Récap 31/03"},{"$f":"F35","v":0},{"$f":"H35","v":0},{"$f":"H36","v":0}]
[null,null,null,null,null,null,null,null,{"$f":"I36","v":"Récap 30/04"},{"$f":"J35","v":0},{"$f":"L35","v":0},{"$f":"L36","v":0}]
[null,null,null,null,null,null,null,null,{"$f":"A48","v":"Récap 31/05"},{"$f":"B47","v":0},{"$f":"D47","v":0},{"$f":"D48","v":0}]
[null,{"$f":"SUM(B42:B46)","v":0},null,{"$f":"SUM(D42:D46)","v":0},null,{"$f":"SUM(F42:F46)","v":0},null,{"$f":"SUM(H42:H46)","v":0},{"$f":"E48","v":"Récap 30/06"},{"$f":"F47","v":0},{"$f":"H47","v":0},{"$f":"H48","v":0}]
["Récap 31/05",null,null,{"$f":"+B47-D47","v":0},"Récap 30/06",null,null,{"$f":"+F47-H47","v":0},"Situation 30/06",{"$f":"SUM(J42:J47)","v":0},{"$f":"SUM(K42:K47)","v":0},{"$f":"SUM(L41:L47)","v":-3}]
[]
[null,null,null,null,null,null,null,null,null,null,null,{"$f":"F23+J48-G23-K48+B8","v":-3}]
[]
[null,null,null,null,null,null,null,null,null,{"$f":"B13+F13+J13+B24+J24+B35+F35+J35+B47+F47","v":0},{"$f":"D13+H13+L13+D24+L24+D35+H35+L35+D47+H47","v":0},{"$f":"B8+J52-K52","v":-3}]

{"sheet":"MASSART","index":116,"n_rows":52,"n_cols":12,"rows_kept":52,"cut":false,"hidden":false,"merged":[[0,9,0,10],[2,1,2,2],[2,4,2,5],[2,8,2,9],[5,8,5,9],[5,10,5,11],[4,0,4,3],[4,4,4,7],[4,8,4,11],[5,0,5,1],[5,2,5,3],[5,4,5,5],[5,6,5,7],[24,0,24,2],[13,0,13,2],[13,4,13,6],[16,2,16,3],[37,9,37,10],[16,0,16,1],[27,6,27,7],[24,8,24,10],[38,8,38,11],[13,8,13,10],[15,0,15,3],[15,4,15,7],[15,8,15,11],[16,10,16,11],[26,0,26,3],[26,4,26,7],[26,8,26,11],[27,8,27,9],[35,0,35,2],[35,4,35,6],[35,8,35,10],[27,10,27,11],[16,8,16,9],[27,4,27,5],[47,0,47,2],[47,4,47,6],[38,0,38,3],[38,4,38,7],[39,4,39,5],[39,6,39,7]]}
[null,null,null,null,null,null,null,null,null,"Année scolaire : ",null,{"$f":"' Liste élèves'!B1","v":"2018-2019"}]
[]
["NOM : ",{"$f":"' Liste élèves'!A117","v":"MASSART"},null,"PRENOM:",{"$f":"' Liste élèves'!B117","v":"Lorenzo"},null,null,"CLASSE :",{"$f":"' Liste élèves'!C117","v":"Classe PC"}]
[]
["SEPTEMBRE",null,null,null,"OCTOBRE",null,null,null,"NOVEMBRE"]
["RECETTES",null,"DEPENSES",null,"RECETTES",null,"DEPENSES",null,"RECETTES",null,"DEPENSES"]
["Dates","Montant","Activités","Montant","Dates","Montant","Activités","Montant","Dates","Montant","Activités","Montant"]
["Report juin",-6]
[]
[]
[]
[]
[null,{"$f":"SUM(B9:B12)","v":0},null,{"$f":"SUM(D8:D12)","v":0},null,{"$f":"SUM(F8:F12)","v":0},null,{"$f":"SUM(H8:H12)","v":0},null,{"$f":"SUM(J8:J12)","v":0},null,{"$f":"SUM(L8:L12)","v":0}]
["Récap 30/09",null,null,{"$f":"+B13-D13","v":0},"Récap 31/10",null,null,{"$f":"+F13-H13","v":0},"Récap 30/11",null,null,{"$f":"+J13-L13","v":0}]
[]
["DÉCEMBRE",null,null,null,"Situation fin décembre",null,null,null,"JANVIER"]
["RECETTES",null,"DEPENSES",null,null,"Recettes","Dépenses","Total","RECETTES",null,"DEPENSES"]
["Dates","Montant","Activités","Montant",{"$f":"A14","v":"Récap 30/09"},{"$f":"B13","v":0},{"$f":"D13","v":0},{"$f":"D14","v":0},"Dates","Montant","Activités","Montant"]
[null,null,null,null,{"$f":"E14","v":"Récap 31/10"},{"$f":"F13","v":0},{"$f":"H13","v":0},{"$f":"H14","v":0}]
[null,null,null,null,{"$f":"I14","v":"Récap 30/11"},{"$f":"J13","v":0},{"$f":"L13","v":0},{"$f":"L14","v":0}]
[null,null,null,null,{"$f":"A25","v":"Récap 31/12"},{"$f":"B24","v":0},{"$f":"D24","v":0},{"$f":"D25","v":0}]
[null,null,null,null,"Report Sept",null,null,{"$f":"B8","v":-6}]
[null,null,null,null,"Situation 31/12",{"$f":"SUM(F18:F22)","v":0},{"$f":"SUM(G18:G22)","v":0},{"$f":"SUM(H18:H22)","v":-6}]
[null,{"$f":"SUM(B19:B23)","v":0},null,{"$f":"SUM(D19:D23)","v":0},null,null,null,null,null,{"$f":"SUM(J19:J23)","v":0},null,{"$f":"SUM(L19:L23)","v":0}]
["Récap 31/12",null,null,{"$f":"+B24-D24","v":0},null,null,null,null,"Récap 31/01",null,null,{"$f":"+J24-L24","v":0}]
[]
["FÉVRIER",null,null,null,"MARS",null,null,null,"AVRIL"]
["RECETTES",null,"DEPENSES",null,"RECETTES",null,"DEPENSES",null,"RECETTES",null,"DEPENSES"]
["Dates","Montant","Activités","Montant","Dates","Montant","Activités","Montant","Dates","Montant","Activités","Montant"]
[]
[]
[]
[]
[]
[null,{"$f":"SUM(B30:B34)","v":0},null,{"$f":"SUM(D30:D34)","v":0},null,{"$f":"SUM(F30:F34)","v":0},null,{"$f":"SUM(H30:H34)","v":0},null,{"$f":"SUM(J30:J34)","v":0},null,{"$f":"SUM(L30:L34)","v":0}]
["Récap 28/02",null,null,{"$f":"+B35-D35","v":0},"Récap 31/03",null,null,{"$f":"+F35-H35","v":0},"Récap 30/04",null,null,{"$f":"+J35-L35","v":0}]
[]
[]
["MAI",null,null,null,"JUIN",null,null,null,"Situation fin juin"]
["RECETTES",null,"DEPENSES",null,"RECETTES",null,"DEPENSES",null,null,"Recettes","Dépenses","Total"]
["Dates","Montant","Activités","Montant","Dates","Montant","Activités","Montant",{"$f":"E23","v":"Situation 31/12"},null,null,{"$f":"H23","v":-6}]
[null,null,null,null,null,null,null,null,{"$f":"I25","v":"Récap 31/01"},{"$f":"J24","v":0},{"$f":"L24","v":0},{"$f":"L25","v":0}]
[null,null,null,null,null,null,null,null,{"$f":"A36","v":"Récap 28/02"},{"$f":"B35","v":0},{"$f":"D35","v":0},{"$f":"D36","v":0}]
[null,null,null,null,null,null,null,null,{"$f":"E36","v":"Récap 31/03"},{"$f":"F35","v":0},{"$f":"H35","v":0},{"$f":"H36","v":0}]
[null,null,null,null,null,null,null,null,{"$f":"I36","v":"Récap 30/04"},{"$f":"J35","v":0},{"$f":"L35","v":0},{"$f":"L36","v":0}]
[null,null,null,null,null,null,null,null,{"$f":"A48","v":"Récap 31/05"},{"$f":"B47","v":0},{"$f":"D47","v":0},{"$f":"D48","v":0}]
[null,{"$f":"SUM(B42:B46)","v":0},null,{"$f":"SUM(D42:D46)","v":0},null,{"$f":"SUM(F42:F46)","v":0},null,{"$f":"SUM(H42:H46)","v":0},{"$f":"E48","v":"Récap 30/06"},{"$f":"F47","v":0},{"$f":"H47","v":0},{"$f":"H48","v":0}]
["Récap 31/05",null,null,{"$f":"+B47-D47","v":0},"Récap 30/06",null,null,{"$f":"+F47-H47","v":0},"Situation 30/06",{"$f":"SUM(J42:J47)","v":0},{"$f":"SUM(K42:K47)","v":0},{"$f":"SUM(L41:L47)","v":-6}]
[]
[null,null,null,null,null,null,null,null,null,null,null,{"$f":"F23+J48-G23-K48+B8","v":-6}]
[]
[null,null,null,null,null,null,null,null,null,{"$f":"B13+F13+J13+B24+J24+B35+F35+J35+B47+F47","v":0},{"$f":"D13+H13+L13+D24+L24+D35+H35+L35+D47+H47","v":0},{"$f":"B8+J52-K52","v":-6}]

{"sheet":"MASSON","index":117,"n_rows":52,"n_cols":12,"rows_kept":52,"cut":false,"hidden":false,"merged":[[39,4,39,5],[39,6,39,7],[47,0,47,2],[47,4,47,6],[35,0,35,2],[35,4,35,6],[35,8,35,10],[37,9,37,10],[38,0,38,3],[38,4,38,7],[38,8,38,11],[26,0,26,3],[26,4,26,7],[26,8,26,11],[27,4,27,5],[27,6,27,7],[27,8,27,9],[27,10,27,11],[16,0,16,1],[16,2,16,3],[16,8,16,9],[16,10,16,11],[24,0,24,2],[24,8,24,10],[13,0,13,2],[13,4,13,6],[13,8,13,10],[15,0,15,3],[15,4,15,7],[15,8,15,11],[5,10,5,11],[0,9,0,10],[2,1,2,2],[2,4,2,5],[2,8,2,9],[4,0,4,3],[4,4,4,7],[4,8,4,11],[5,0,5,1],[5,2,5,3],[5,4,5,5],[5,6,5,7],[5,8,5,9]]}
[null,null,null,null,null,null,null,null,null,"Année scolaire : ",null,{"$f":"' Liste élèves'!B1","v":"2018-2019"}]
[]
["NOM : ",{"$f":"' Liste élèves'!A118","v":"MASSON"},null,"PRENOM:",{"$f":"' Liste élèves'!B118","v":"Noah"},null,null,"CLASSE :",{"$f":"' Liste élèves'!C118","v":"Classe 10"}]
[]
["SEPTEMBRE",null,null,null,"OCTOBRE",null,null,null,"NOVEMBRE"]
["RECETTES",null,"DEPENSES",null,"RECETTES",null,"DEPENSES",null,"RECETTES",null,"DEPENSES"]
["Dates","Montant","Activités","Montant","Dates","Montant","Activités","Montant","Dates","Montant","Activités","Montant"]
["Report juin",33.9]
[]
[]
[]
[]
[null,{"$f":"SUM(B9:B12)","v":0},null,{"$f":"SUM(D8:D12)","v":0},null,{"$f":"SUM(F8:F12)","v":0},null,{"$f":"SUM(H8:H12)","v":0},null,{"$f":"SUM(J8:J12)","v":0},null,{"$f":"SUM(L8:L12)","v":0}]
["Récap 30/09",null,null,{"$f":"+B13-D13","v":0},"Récap 31/10",null,null,{"$f":"+F13-H13","v":0},"Récap 30/11",null,null,{"$f":"+J13-L13","v":0}]
[]
["DÉCEMBRE",null,null,null,"Situation fin décembre",null,null,null,"JANVIER"]
["RECETTES",null,"DEPENSES",null,null,"Recettes","Dépenses","Total","RECETTES",null,"DEPENSES"]
["Dates","Montant","Activités","Montant",{"$f":"A14","v":"Récap 30/09"},{"$f":"B13","v":0},{"$f":"D13","v":0},{"$f":"D14","v":0},"Dates","Montant","Activités","Montant"]
[null,null,null,null,{"$f":"E14","v":"Récap 31/10"},{"$f":"F13","v":0},{"$f":"H13","v":0},{"$f":"H14","v":0}]
[null,null,null,null,{"$f":"I14","v":"Récap 30/11"},{"$f":"J13","v":0},{"$f":"L13","v":0},{"$f":"L14","v":0}]
[null,null,null,null,{"$f":"A25","v":"Récap 31/12"},{"$f":"B24","v":0},{"$f":"D24","v":0},{"$f":"D25","v":0}]
[null,null,null,null,"Report Sept",null,null,{"$f":"B8","v":33.9}]
[null,null,null,null,"Situation 31/12",{"$f":"SUM(F18:F22)","v":0},{"$f":"SUM(G18:G22)","v":0},{"$f":"SUM(H18:H22)","v":33.9}]
[null,{"$f":"SUM(B19:B23)","v":0},null,{"$f":"SUM(D19:D23)","v":0},null,null,null,null,null,{"$f":"SUM(J19:J23)","v":0},null,{"$f":"SUM(L19:L23)","v":0}]
["Récap 31/12",null,null,{"$f":"+B24-D24","v":0},null,null,null,null,"Récap 31/01",null,null,{"$f":"+J24-L24","v":0}]
[]
["FÉVRIER",null,null,null,"MARS",null,null,null,"AVRIL"]
["RECETTES",null,"DEPENSES",null,"RECETTES",null,"DEPENSES",null,"RECETTES",null,"DEPENSES"]
["Dates","Montant","Activités","Montant","Dates","Montant","Activités","Montant","Dates","Montant","Activités","Montant"]
[]
[]
[]
[]
[]
[null,{"$f":"SUM(B30:B34)","v":0},null,{"$f":"SUM(D30:D34)","v":0},null,{"$f":"SUM(F30:F34)","v":0},null,{"$f":"SUM(H30:H34)","v":0},null,{"$f":"SUM(J30:J34)","v":0},null,{"$f":"SUM(L30:L34)","v":0}]
["Récap 28/02",null,null,{"$f":"+B35-D35","v":0},"Récap 31/03",null,null,{"$f":"+F35-H35","v":0},"Récap 30/04",null,null,{"$f":"+J35-L35","v":0}]
[]
[]
["MAI",null,null,null,"JUIN",null,null,null,"Situation fin juin"]
["RECETTES",null,"DEPENSES",null,"RECETTES",null,"DEPENSES",null,null,"Recettes","Dépenses","Total"]
["Dates","Montant","Activités","Montant","Dates","Montant","Activités","Montant",{"$f":"E23","v":"Situation 31/12"},null,null,{"$f":"H23","v":33.9}]
[null,null,null,null,null,null,null,null,{"$f":"I25","v":"Récap 31/01"},{"$f":"J24","v":0},{"$f":"L24","v":0},{"$f":"L25","v":0}]
[null,null,null,null,null,null,null,null,{"$f":"A36","v":"Récap 28/02"},{"$f":"B35","v":0},{"$f":"D35","v":0},{"$f":"D36","v":0}]
[null,null,null,null,null,null,null,null,{"$f":"E36","v":"Récap 31/03"},{"$f":"F35","v":0},{"$f":"H35","v":0},{"$f":"H36","v":0}]
[null,null,null,null,null,null,null,null,{"$f":"I36","v":"Récap 30/04"},{"$f":"J35","v":0},{"$f":"L35","v":0},{"$f":"L36","v":0}]
[null,null,null,null,null,null,null,null,{"$f":"A48","v":"Récap 31/05"},{"$f":"B47","v":0},{"$f":"D47","v":0},{"$f":"D48","v":0}]
[null,{"$f":"SUM(B42:B46)","v":0},null,{"$f":"SUM(D42:D46)","v":0},null,{"$f":"SUM(F42:F46)","v":0},null,{"$f":"SUM(H42:H46)","v":0},{"$f":"E48","v":"Récap 30/06"},{"$f":"F47","v":0},{"$f":"H47","v":0},{"$f":"H48","v":0}]
["Récap 31/05",null,null,{"$f":"+B47-D47","v":0},"Récap 30/06",null,null,{"$f":"+F47-H47","v":0},"Situation 30/06",{"$f":"SUM(J42:J47)","v":0},{"$f":"SUM(K42:K47)","v":0},{"$f":"SUM(L41:L47)","v":33.9}]
[]
[null,null,null,null,null,null,null,null,null,null,null,{"$f":"F23+J48-G23-K48+B8","v":33.9}]
[]
[null,null,null,null,null,null,null,null,null,{"$f":"B13+F13+J13+B24+J24+B35+F35+J35+B47+F47","v":0},{"$f":"D13+H13+L13+D24+L24+D35+H35+L35+D47+H47","v":0},{"$f":"B8+J52-K52","v":33.9}]

{"sheet":"MINNAERTA","index":118,"n_rows":52,"n_cols":12,"rows_kept":52,"cut":false,"hidden":false,"merged":[[0,9,0,10],[2,1,2,2],[2,4,2,5],[2,8,2,9],[5,8,5,9],[5,10,5,11],[4,0,4,3],[4,4,4,7],[4,8,4,11],[5,0,5,1],[5,2,5,3],[5,4,5,5],[5,6,5,7],[24,0,24,2],[13,0,13,2],[13,4,13,6],[16,2,16,3],[37,9,37,10],[16,0,16,1],[27,6,27,7],[24,8,24,10],[38,8,38,11],[13,8,13,10],[15,0,15,3],[15,4,15,7],[15,8,15,11],[16,10,16,11],[26,0,26,3],[26,4,26,7],[26,8,26,11],[27,8,27,9],[35,0,35,2],[35,4,35,6],[35,8,35,10],[27,10,27,11],[16,8,16,9],[27,4,27,5],[47,0,47,2],[47,4,47,6],[38,0,38,3],[38,4,38,7],[39,4,39,5],[39,6,39,7]]}
[null,null,null,null,null,null,null,null,null,"Année scolaire : ",null,{"$f":"' Liste élèves'!B1","v":"2018-2019"}]
[]
["NOM : ",{"$f":"' Liste élèves'!A119","v":"MINNAERTA"},null,"PRENOM:",{"$f":"' Liste élèves'!B119","v":"Alexandra"},null,null,"CLASSE :",{"$f":"' Liste élèves'!C119","v":"Classe 4"}]
[]
["SEPTEMBRE",null,null,null,"OCTOBRE",null,null,null,"NOVEMBRE"]
["RECETTES",null,"DEPENSES",null,"RECETTES",null,"DEPENSES",null,"RECETTES",null,"DEPENSES"]
["Dates","Montant","Activités","Montant","Dates","Montant","Activités","Montant","Dates","Montant","Activités","Montant"]
["Report juin",45.5]
[]
[]
[]
[]
[null,{"$f":"SUM(B9:B12)","v":0},null,{"$f":"SUM(D8:D12)","v":0},null,{"$f":"SUM(F8:F12)","v":0},null,{"$f":"SUM(H8:H12)","v":0},null,{"$f":"SUM(J8:J12)","v":0},null,{"$f":"SUM(L8:L12)","v":0}]
["Récap 30/09",null,null,{"$f":"+B13-D13","v":0},"Récap 31/10",null,null,{"$f":"+F13-H13","v":0},"Récap 30/11",null,null,{"$f":"+J13-L13","v":0}]
[]
["DÉCEMBRE",null,null,null,"Situation fin décembre",null,null,null,"JANVIER"]
["RECETTES",null,"DEPENSES",null,null,"Recettes","Dépenses","Total","RECETTES",null,"DEPENSES"]
["Dates","Montant","Activités","Montant",{"$f":"A14","v":"Récap 30/09"},{"$f":"B13","v":0},{"$f":"D13","v":0},{"$f":"D14","v":0},"Dates","Montant","Activités","Montant"]
[null,null,null,null,{"$f":"E14","v":"Récap 31/10"},{"$f":"F13","v":0},{"$f":"H13","v":0},{"$f":"H14","v":0}]
[null,null,null,null,{"$f":"I14","v":"Récap 30/11"},{"$f":"J13","v":0},{"$f":"L13","v":0},{"$f":"L14","v":0}]
[null,null,null,null,{"$f":"A25","v":"Récap 31/12"},{"$f":"B24","v":0},{"$f":"D24","v":0},{"$f":"D25","v":0}]
[null,null,null,null,"Report Sept",null,null,{"$f":"B8","v":45.5}]
[null,null,null,null,"Situation 31/12",{"$f":"SUM(F18:F22)","v":0},{"$f":"SUM(G18:G22)","v":0},{"$f":"SUM(H18:H22)","v":45.5}]
[null,{"$f":"SUM(B19:B23)","v":0},null,{"$f":"SUM(D19:D23)","v":0},null,null,null,null,null,{"$f":"SUM(J19:J23)","v":0},null,{"$f":"SUM(L19:L23)","v":0}]
["Récap 31/12",null,null,{"$f":"+B24-D24","v":0},null,null,null,null,"Récap 31/01",null,null,{"$f":"+J24-L24","v":0}]
[]
["FÉVRIER",null,null,null,"MARS",null,null,null,"AVRIL"]
["RECETTES",null,"DEPENSES",null,"RECETTES",null,"DEPENSES",null,"RECETTES",null,"DEPENSES"]
["Dates","Montant","Activités","Montant","Dates","Montant","Activités","Montant","Dates","Montant","Activités","Montant"]
[]
[]
[]
[]
[]
[null,{"$f":"SUM(B30:B34)","v":0},null,{"$f":"SUM(D30:D34)","v":0},null,{"$f":"SUM(F30:F34)","v":0},null,{"$f":"SUM(H30:H34)","v":0},null,{"$f":"SUM(J30:J34)","v":0},null,{"$f":"SUM(L30:L34)","v":0}]
["Récap 28/02",null,null,{"$f":"+B35-D35","v":0},"Récap 31/03",null,null,{"$f":"+F35-H35","v":0},"Récap 30/04",null,null,{"$f":"+J35-L35","v":0}]
[]
[]
["MAI",null,null,null,"JUIN",null,null,null,"Situation fin juin"]
["RECETTES",null,"DEPENSES",null,"RECETTES",null,"DEPENSES",null,null,"Recettes","Dépenses","Total"]
["Dates","Montant","Activités","Montant","Dates","Montant","Activités","Montant",{"$f":"E23","v":"Situation 31/12"},null,null,{"$f":"H23","v":45.5}]
[null,null,null,null,null,null,null,null,{"$f":"I25","v":"Récap 31/01"},{"$f":"J24","v":0},{"$f":"L24","v":0},{"$f":"L25","v":0}]
[null,null,null,null,null,null,null,null,{"$f":"A36","v":"Récap 28/02"},{"$f":"B35","v":0},{"$f":"D35","v":0},{"$f":"D36","v":0}]
[null,null,null,null,null,null,null,null,{"$f":"E36","v":"Récap 31/03"},{"$f":"F35","v":0},{"$f":"H35","v":0},{"$f":"H36","v":0}]
[null,null,null,null,null,null,null,null,{"$f":"I36","v":"Récap 30/04"},{"$f":"J35","v":0},{"$f":"L35","v":0},{"$f":"L36","v":0}]
[null,null,null,null,null,null,null,null,{"$f":"A48","v":"Récap 31/05"},{"$f":"B47","v":0},{"$f":"D47","v":0},{"$f":"D48","v":0}]
[null,{"$f":"SUM(B42:B46)","v":0},null,{"$f":"SUM(D42:D46)","v":0},null,{"$f":"SUM(F42:F46)","v":0},null,{"$f":"SUM(H42:H46)","v":0},{"$f":"E48","v":"Récap 30/06"},{"$f":"F47","v":0},{"$f":"H47","v":0},{"$f":"H48","v":0}]
["Récap 31/05",null,null,{"$f":"+B47-D47","v":0},"Récap 30/06",null,null,{"$f":"+F47-H47","v":0},"Situation 30/06",{"$f":"SUM(J42:J47)","v":0},{"$f":"SUM(K42:K47)","v":0},{"$f":"SUM(L41:L47)","v":45.5}]
[]
[null,null,null,null,null,null,null,null,null,null,null,{"$f":"F23+J48-G23-K48+B8","v":45.5}]
[]
[null,null,null,null,null,null,null,null,null,{"$f":"B13+F13+J13+B24+J24+B35+F35+J35+B47+F47","v":0},{"$f":"D13+H13+L13+D24+L24+D35+H35+L35+D47+H47","v":0},{"$f":"B8+J52-K52","v":45.5}]

{"sheet":"MINNAERTC","index":119,"n_rows":52,"n_cols":12,"rows_kept":52,"cut":false,"hidden":false,"merged":[[0,9,0,10],[2,1,2,2],[2,4,2,5],[2,8,2,9],[5,8,5,9],[5,10,5,11],[4,0,4,3],[4,4,4,7],[4,8,4,11],[5,0,5,1],[5,2,5,3],[5,4,5,5],[5,6,5,7],[24,0,24,2],[13,0,13,2],[13,4,13,6],[16,2,16,3],[37,9,37,10],[16,0,16,1],[27,6,27,7],[24,8,24,10],[38,8,38,11],[13,8,13,10],[15,0,15,3],[15,4,15,7],[15,8,15,11],[16,10,16,11],[26,0,26,3],[26,4,26,7],[26,8,26,11],[27,8,27,9],[35,0,35,2],[35,4,35,6],[35,8,35,10],[27,10,27,11],[16,8,16,9],[27,4,27,5],[47,0,47,2],[47,4,47,6],[38,0,38,3],[38,4,38,7],[39,4,39,5],[39,6,39,7]]}
[null,null,null,null,null,null,null,null,null,"Année scolaire : ",null,{"$f":"' Liste élèves'!B1","v":"2018-2019"}]
[]
["NOM : ",{"$f":"' Liste élèves'!A120","v":"MINNAERTC"},null,"PRENOM:",{"$f":"' Liste élèves'!B120","v":"Cassandra"},null,null,"CLASSE :",{"$f":"' Liste élèves'!C120","v":"Classe MA"}]
[]
["SEPTEMBRE",null,null,null,"OCTOBRE",null,null,null,"NOVEMBRE"]
["RECETTES",null,"DEPENSES",null,"RECETTES",null,"DEPENSES",null,"RECETTES",null,"DEPENSES"]
["Dates","Montant","Activités","Montant","Dates","Montant","Activités","Montant","Dates","Montant","Activités","Montant"]
["Report juin",49.5]
[]
[]
[]
[]
[null,{"$f":"SUM(B9:B12)","v":0},null,{"$f":"SUM(D8:D12)","v":0},null,{"$f":"SUM(F8:F12)","v":0},null,{"$f":"SUM(H8:H12)","v":0},null,{"$f":"SUM(J8:J12)","v":0},null,{"$f":"SUM(L8:L12)","v":0}]
["Récap 30/09",null,null,{"$f":"+B13-D13","v":0},"Récap 31/10",null,null,{"$f":"+F13-H13","v":0},"Récap 30/11",null,null,{"$f":"+J13-L13","v":0}]
[]
["DÉCEMBRE",null,null,null,"Situation fin décembre",null,null,null,"JANVIER"]
["RECETTES",null,"DEPENSES",null,null,"Recettes","Dépenses","Total","RECETTES",null,"DEPENSES"]
["Dates","Montant","Activités","Montant",{"$f":"A14","v":"Récap 30/09"},{"$f":"B13","v":0},{"$f":"D13","v":0},{"$f":"D14","v":0},"Dates","Montant","Activités","Montant"]
[null,null,null,null,{"$f":"E14","v":"Récap 31/10"},{"$f":"F13","v":0},{"$f":"H13","v":0},{"$f":"H14","v":0}]
[null,null,null,null,{"$f":"I14","v":"Récap 30/11"},{"$f":"J13","v":0},{"$f":"L13","v":0},{"$f":"L14","v":0}]
[null,null,null,null,{"$f":"A25","v":"Récap 31/12"},{"$f":"B24","v":0},{"$f":"D24","v":0},{"$f":"D25","v":0}]
[null,null,null,null,"Report Sept",null,null,{"$f":"B8","v":49.5}]
[null,null,null,null,"Situation 31/12",{"$f":"SUM(F18:F22)","v":0},{"$f":"SUM(G18:G22)","v":0},{"$f":"SUM(H18:H22)","v":49.5}]
[null,{"$f":"SUM(B19:B23)","v":0},null,{"$f":"SUM(D19:D23)","v":0},null,null,null,null,null,{"$f":"SUM(J19:J23)","v":0},null,{"$f":"SUM(L19:L23)","v":0}]
["Récap 31/12",null,null,{"$f":"+B24-D24","v":0},null,null,null,null,"Récap 31/01",null,null,{"$f":"+J24-L24","v":0}]
[]
["FÉVRIER",null,null,null,"MARS",null,null,null,"AVRIL"]
["RECETTES",null,"DEPENSES",null,"RECETTES",null,"DEPENSES",null,"RECETTES",null,"DEPENSES"]
["Dates","Montant","Activités","Montant","Dates","Montant","Activités","Montant","Dates","Montant","Activités","Montant"]
[]
[]
[]
[]
[]
[null,{"$f":"SUM(B30:B34)","v":0},null,{"$f":"SUM(D30:D34)","v":0},null,{"$f":"SUM(F30:F34)","v":0},null,{"$f":"SUM(H30:H34)","v":0},null,{"$f":"SUM(J30:J34)","v":0},null,{"$f":"SUM(L30:L34)","v":0}]
["Récap 28/02",null,null,{"$f":"+B35-D35","v":0},"Récap 31/03",null,null,{"$f":"+F35-H35","v":0},"Récap 30/04",null,null,{"$f":"+J35-L35","v":0}]
[]
[]
["MAI",null,null,null,"JUIN",null,null,null,"Situation fin juin"]
["RECETTES",null,"DEPENSES",null,"RECETTES",null,"DEPENSES",null,null,"Recettes","Dépenses","Total"]
["Dates","Montant","Activités","Montant","Dates","Montant","Activités","Montant",{"$f":"E23","v":"Situation 31/12"},null,null,{"$f":"H23","v":49.5}]
[null,null,null,null,null,null,null,null,{"$f":"I25","v":"Récap 31/01"},{"$f":"J24","v":0},{"$f":"L24","v":0},{"$f":"L25","v":0}]
[null,null,null,null,null,null,null,null,{"$f":"A36","v":"Récap 28/02"},{"$f":"B35","v":0},{"$f":"D35","v":0},{"$f":"D36","v":0}]
[null,null,null,null,null,null,null,null,{"$f":"E36","v":"Récap 31/03"},{"$f":"F35","v":0},{"$f":"H35","v":0},{"$f":"H36","v":0}]
[null,null,null,null,null,null,null,null,{"$f":"I36","v":"Récap 30/04"},{"$f":"J35","v":0},{"$f":"L35","v":0},{"$f":"L36","v":0}]
[null,null,null,null,null,null,null,null,{"$f":"A48","v":"Récap 31/05"},{"$f":"B47","v":0},{"$f":"D47","v":0},{"$f":"D48","v":0}]
[null,{"$f":"SUM(B42:B46)","v":0},null,{"$f":"SUM(D42:D46)","v":0},null,{"$f":"SUM(F42:F46)","v":0},null,{"$f":"SUM(H42:H46)","v":0},{"$f":"E48","v":"Récap 30/06"},{"$f":"F47","v":0},{"$f":"H47","v":0},{"$f":"H48","v":0}]
["Récap 31/05",null,null,{"$f":"+B47-D47","v":0},"Récap 30/06",null,null,{"$f":"+F47-H47","v":0},"Situation 30/06",{"$f":"SUM(J42:J47)","v":0},{"$f":"SUM(K42:K47)","v":0},{"$f":"SUM(L41:L47)","v":49.5}]
[]
[null,null,null,null,null,null,null,null,null,null,null,{"$f":"F23+J48-G23-K48+B8","v":49.5}]
[]
[null,null,null,null,null,null,null,null,null,{"$f":"B13+F13+J13+B24+J24+B35+F35+J35+B47+F47","v":0},{"$f":"D13+H13+L13+D24+L24+D35+H35+L35+D47+H47","v":0},{"$f":"B8+J52-K52","v":49.5}]

{"sheet":"MINNAERTG","index":120,"n_rows":52,"n_cols":12,"rows_kept":52,"cut":false,"hidden":false,"merged":[[0,9,0,10],[2,1,2,2],[2,4,2,5],[2,8,2,9],[5,8,5,9],[5,10,5,11],[4,0,4,3],[4,4,4,7],[4,8,4,11],[5,0,5,1],[5,2,5,3],[5,4,5,5],[5,6,5,7],[24,0,24,2],[13,0,13,2],[13,4,13,6],[16,2,16,3],[37,9,37,10],[16,0,16,1],[27,6,27,7],[24,8,24,10],[38,8,38,11],[13,8,13,10],[15,0,15,3],[15,4,15,7],[15,8,15,11],[16,10,16,11],[26,0,26,3],[26,4,26,7],[26,8,26,11],[27,8,27,9],[35,0,35,2],[35,4,35,6],[35,8,35,10],[27,10,27,11],[16,8,16,9],[27,4,27,5],[47,0,47,2],[47,4,47,6],[38,0,38,3],[38,4,38,7],[39,4,39,5],[39,6,39,7]]}
[null,null,null,null,null,null,null,null,null,"Année scolaire : ",null,{"$f":"' Liste élèves'!B1","v":"2018-2019"}]
[]
["NOM : ",{"$f":"' Liste élèves'!A121","v":"MINNAERTG"},null,"PRENOM:",{"$f":"' Liste élèves'!B121","v":"Grégory"},null,null,"CLASSE :",{"$f":"' Liste élèves'!C121","v":"Classe 8"}]
[]
["SEPTEMBRE",null,null,null,"OCTOBRE",null,null,null,"NOVEMBRE"]
["RECETTES",null,"DEPENSES",null,"RECETTES",null,"DEPENSES",null,"RECETTES",null,"DEPENSES"]
["Dates","Montant","Activités","Montant","Dates","Montant","Activités","Montant","Dates","Montant","Activités","Montant"]
["Report juin",28.74]
[]
[]
[]
[]
[null,{"$f":"SUM(B9:B12)","v":0},null,{"$f":"SUM(D8:D12)","v":0},null,{"$f":"SUM(F8:F12)","v":0},null,{"$f":"SUM(H8:H12)","v":0},null,{"$f":"SUM(J8:J12)","v":0},null,{"$f":"SUM(L8:L12)","v":0}]
["Récap 30/09",null,null,{"$f":"+B13-D13","v":0},"Récap 31/10",null,null,{"$f":"+F13-H13","v":0},"Récap 30/11",null,null,{"$f":"+J13-L13","v":0}]
[]
["DÉCEMBRE",null,null,null,"Situation fin décembre",null,null,null,"JANVIER"]
["RECETTES",null,"DEPENSES",null,null,"Recettes","Dépenses","Total","RECETTES",null,"DEPENSES"]
["Dates","Montant","Activités","Montant",{"$f":"A14","v":"Récap 30/09"},{"$f":"B13","v":0},{"$f":"D13","v":0},{"$f":"D14","v":0},"Dates","Montant","Activités","Montant"]
[null,null,null,null,{"$f":"E14","v":"Récap 31/10"},{"$f":"F13","v":0},{"$f":"H13","v":0},{"$f":"H14","v":0}]
[null,null,null,null,{"$f":"I14","v":"Récap 30/11"},{"$f":"J13","v":0},{"$f":"L13","v":0},{"$f":"L14","v":0}]
[null,null,null,null,{"$f":"A25","v":"Récap 31/12"},{"$f":"B24","v":0},{"$f":"D24","v":0},{"$f":"D25","v":0}]
[null,null,null,null,"Report Sept",null,null,{"$f":"B8","v":28.74}]
[null,null,null,null,"Situation 31/12",{"$f":"SUM(F18:F22)","v":0},{"$f":"SUM(G18:G22)","v":0},{"$f":"SUM(H18:H22)","v":28.74}]
[null,{"$f":"SUM(B19:B23)","v":0},null,{"$f":"SUM(D19:D23)","v":0},null,null,null,null,null,{"$f":"SUM(J19:J23)","v":0},null,{"$f":"SUM(L19:L23)","v":0}]
["Récap 31/12",null,null,{"$f":"+B24-D24","v":0},null,null,null,null,"Récap 31/01",null,null,{"$f":"+J24-L24","v":0}]
[]
["FÉVRIER",null,null,null,"MARS",null,null,null,"AVRIL"]
["RECETTES",null,"DEPENSES",null,"RECETTES",null,"DEPENSES",null,"RECETTES",null,"DEPENSES"]
["Dates","Montant","Activités","Montant","Dates","Montant","Activités","Montant","Dates","Montant","Activités","Montant"]
[]
[]
[]
[]
[]
[null,{"$f":"SUM(B30:B34)","v":0},null,{"$f":"SUM(D30:D34)","v":0},null,{"$f":"SUM(F30:F34)","v":0},null,{"$f":"SUM(H30:H34)","v":0},null,{"$f":"SUM(J30:J34)","v":0},null,{"$f":"SUM(L30:L34)","v":0}]
["Récap 28/02",null,null,{"$f":"+B35-D35","v":0},"Récap 31/03",null,null,{"$f":"+F35-H35","v":0},"Récap 30/04",null,null,{"$f":"+J35-L35","v":0}]
[]
[]
["MAI",null,null,null,"JUIN",null,null,null,"Situation fin juin"]
["RECETTES",null,"DEPENSES",null,"RECETTES",null,"DEPENSES",null,null,"Recettes","Dépenses","Total"]
["Dates","Montant","Activités","Montant","Dates","Montant","Activités","Montant",{"$f":"E23","v":"Situation 31/12"},null,null,{"$f":"H23","v":28.74}]
[null,null,null,null,null,null,null,null,{"$f":"I25","v":"Récap 31/01"},{"$f":"J24","v":0},{"$f":"L24","v":0},{"$f":"L25","v":0}]
[null,null,null,null,null,null,null,null,{"$f":"A36","v":"Récap 28/02"},{"$f":"B35","v":0},{"$f":"D35","v":0},{"$f":"D36","v":0}]
[null,null,null,null,null,null,null,null,{"$f":"E36","v":"Récap 31/03"},{"$f":"F35","v":0},{"$f":"H35","v":0},{"$f":"H36","v":0}]
[null,null,null,null,null,null,null,null,{"$f":"I36","v":"Récap 30/04"},{"$f":"J35","v":0},{"$f":"L35","v":0},{"$f":"L36","v":0}]
[null,null,null,null,null,null,null,null,{"$f":"A48","v":"Récap 31/05"},{"$f":"B47","v":0},{"$f":"D47","v":0},{"$f":"D48","v":0}]
[null,{"$f":"SUM(B42:B46)","v":0},null,{"$f":"SUM(D42:D46)","v":0},null,{"$f":"SUM(F42:F46)","v":0},null,{"$f":"SUM(H42:H46)","v":0},{"$f":"E48","v":"Récap 30/06"},{"$f":"F47","v":0},{"$f":"H47","v":0},{"$f":"H48","v":0}]
["Récap 31/05",null,null,{"$f":"+B47-D47","v":0},"Récap 30/06",null,null,{"$f":"+F47-H47","v":0},"Situation 30/06",{"$f":"SUM(J42:J47)","v":0},{"$f":"SUM(K42:K47)","v":0},{"$f":"SUM(L41:L47)","v":28.74}]
[]
[null,null,null,null,null,null,null,null,null,null,null,{"$f":"F23+J48-G23-K48+B8","v":28.74}]
[]
[null,null,null,null,null,null,null,null,null,{"$f":"B13+F13+J13+B24+J24+B35+F35+J35+B47+F47","v":0},{"$f":"D13+H13+L13+D24+L24+D35+H35+L35+D47+H47","v":0},{"$f":"B8+J52-K52","v":28.74}]

{"sheet":"MISEUR","index":121,"n_rows":52,"n_cols":12,"rows_kept":52,"cut":false,"hidden":false,"merged":[[0,9,0,10],[2,1,2,2],[2,4,2,5],[2,8,2,9],[5,8,5,9],[5,10,5,11],[4,0,4,3],[4,4,4,7],[4,8,4,11],[5,0,5,1],[5,2,5,3],[5,4,5,5],[5,6,5,7],[24,0,24,2],[13,0,13,2],[13,4,13,6],[16,2,16,3],[37,9,37,10],[16,0,16,1],[27,6,27,7],[24,8,24,10],[38,8,38,11],[13,8,13,10],[15,0,15,3],[15,4,15,7],[15,8,15,11],[16,10,16,11],[26,0,26,3],[26,4,26,7],[26,8,26,11],[27,8,27,9],[35,0,35,2],[35,4,35,6],[35,8,35,10],[27,10,27,11],[16,8,16,9],[27,4,27,5],[47,0,47,2],[47,4,47,6],[38,0,38,3],[38,4,38,7],[39,4,39,5],[39,6,39,7]]}
[null,null,null,null,null,null,null,null,null,"Année scolaire : ",null,{"$f":"' Liste élèves'!B1","v":"2018-2019"}]
[]
["NOM : ",{"$f":"' Liste élèves'!A122","v":"MISEUR"},null,"PRENOM:",{"$f":"' Liste élèves'!B122","v":"Thomas"},null,null,"CLASSE :",{"$f":"' Liste élèves'!C122","v":"Classe JB"}]
[]
["SEPTEMBRE",null,null,null,"OCTOBRE",null,null,null,"NOVEMBRE"]
["RECETTES",null,"DEPENSES",null,"RECETTES",null,"DEPENSES",null,"RECETTES",null,"DEPENSES"]
["Dates","Montant","Activités","Montant","Dates","Montant","Activités","Montant","Dates","Montant","Activités","Montant"]
["Report juin",39.049999999999997]
[]
[]
[]
[]
[null,{"$f":"SUM(B9:B12)","v":0},null,{"$f":"SUM(D8:D12)","v":0},null,{"$f":"SUM(F8:F12)","v":0},null,{"$f":"SUM(H8:H12)","v":0},null,{"$f":"SUM(J8:J12)","v":0},null,{"$f":"SUM(L8:L12)","v":0}]
["Récap 30/09",null,null,{"$f":"+B13-D13","v":0},"Récap 31/10",null,null,{"$f":"+F13-H13","v":0},"Récap 30/11",null,null,{"$f":"+J13-L13","v":0}]
[]
["DÉCEMBRE",null,null,null,"Situation fin décembre",null,null,null,"JANVIER"]
["RECETTES",null,"DEPENSES",null,null,"Recettes","Dépenses","Total","RECETTES",null,"DEPENSES"]
["Dates","Montant","Activités","Montant",{"$f":"A14","v":"Récap 30/09"},{"$f":"B13","v":0},{"$f":"D13","v":0},{"$f":"D14","v":0},"Dates","Montant","Activités","Montant"]
[null,null,null,null,{"$f":"E14","v":"Récap 31/10"},{"$f":"F13","v":0},{"$f":"H13","v":0},{"$f":"H14","v":0}]
[null,null,null,null,{"$f":"I14","v":"Récap 30/11"},{"$f":"J13","v":0},{"$f":"L13","v":0},{"$f":"L14","v":0}]
[null,null,null,null,{"$f":"A25","v":"Récap 31/12"},{"$f":"B24","v":0},{"$f":"D24","v":0},{"$f":"D25","v":0}]
[null,null,null,null,"Report Sept",null,null,{"$f":"B8","v":39.049999999999997}]
[null,null,null,null,"Situation 31/12",{"$f":"SUM(F18:F22)","v":0},{"$f":"SUM(G18:G22)","v":0},{"$f":"SUM(H18:H22)","v":39.049999999999997}]
[null,{"$f":"SUM(B19:B23)","v":0},null,{"$f":"SUM(D19:D23)","v":0},null,null,null,null,null,{"$f":"SUM(J19:J23)","v":0},null,{"$f":"SUM(L19:L23)","v":0}]
["Récap 31/12",null,null,{"$f":"+B24-D24","v":0},null,null,null,null,"Récap 31/01",null,null,{"$f":"+J24-L24","v":0}]
[]
["FÉVRIER",null,null,null,"MARS",null,null,null,"AVRIL"]
["RECETTES",null,"DEPENSES",null,"RECETTES",null,"DEPENSES",null,"RECETTES",null,"DEPENSES"]
["Dates","Montant","Activités","Montant","Dates","Montant","Activités","Montant","Dates","Montant","Activités","Montant"]
[]
[]
[]
[]
[]
[null,{"$f":"SUM(B30:B34)","v":0},null,{"$f":"SUM(D30:D34)","v":0},null,{"$f":"SUM(F30:F34)","v":0},null,{"$f":"SUM(H30:H34)","v":0},null,{"$f":"SUM(J30:J34)","v":0},null,{"$f":"SUM(L30:L34)","v":0}]
["Récap 28/02",null,null,{"$f":"+B35-D35","v":0},"Récap 31/03",null,null,{"$f":"+F35-H35","v":0},"Récap 30/04",null,null,{"$f":"+J35-L35","v":0}]
[]
[]
["MAI",null,null,null,"JUIN",null,null,null,"Situation fin juin"]
["RECETTES",null,"DEPENSES",null,"RECETTES",null,"DEPENSES",null,null,"Recettes","Dépenses","Total"]
["Dates","Montant","Activités","Montant","Dates","Montant","Activités","Montant",{"$f":"E23","v":"Situation 31/12"},null,null,{"$f":"H23","v":39.049999999999997}]
[null,null,null,null,null,null,null,null,{"$f":"I25","v":"Récap 31/01"},{"$f":"J24","v":0},{"$f":"L24","v":0},{"$f":"L25","v":0}]
[null,null,null,null,null,null,null,null,{"$f":"A36","v":"Récap 28/02"},{"$f":"B35","v":0},{"$f":"D35","v":0},{"$f":"D36","v":0}]
[null,null,null,null,null,null,null,null,{"$f":"E36","v":"Récap 31/03"},{"$f":"F35","v":0},{"$f":"H35","v":0},{"$f":"H36","v":0}]
[null,null,null,null,null,null,null,null,{"$f":"I36","v":"Récap 30/04"},{"$f":"J35","v":0},{"$f":"L35","v":0},{"$f":"L36","v":0}]
[null,null,null,null,null,null,null,null,{"$f":"A48","v":"Récap 31/05"},{"$f":"B47","v":0},{"$f":"D47","v":0},{"$f":"D48","v":0}]
[null,{"$f":"SUM(B42:B46)","v":0},null,{"$f":"SUM(D42:D46)","v":0},null,{"$f":"SUM(F42:F46)","v":0},null,{"$f":"SUM(H42:H46)","v":0},{"$f":"E48","v":"Récap 30/06"},{"$f":"F47","v":0},{"$f":"H47","v":0},{"$f":"H48","v":0}]
["Récap 31/05",null,null,{"$f":"+B47-D47","v":0},"Récap 30/06",null,null,{"$f":"+F47-H47","v":0},"Situation 30/06",{"$f":"SUM(J42:J47)","v":0},{"$f":"SUM(K42:K47)","v":0},{"$f":"SUM(L41:L47)","v":39.049999999999997}]
[]
[null,null,null,null,null,null,null,null,null,null,null,{"$f":"F23+J48-G23-K48+B8","v":39.049999999999997}]
[]
[null,null,null,null,null,null,null,null,null,{"$f":"B13+F13+J13+B24+J24+B35+F35+J35+B47+F47","v":0},{"$f":"D13+H13+L13+D24+L24+D35+H35+L35+D47+H47","v":0},{"$f":"B8+J52-K52","v":39.049999999999997}]

{"sheet":"MONSIEUR","index":122,"n_rows":52,"n_cols":12,"rows_kept":52,"cut":false,"hidden":false,"merged":[[0,9,0,10],[2,1,2,2],[2,4,2,5],[2,8,2,9],[5,8,5,9],[5,10,5,11],[4,0,4,3],[4,4,4,7],[4,8,4,11],[5,0,5,1],[5,2,5,3],[5,4,5,5],[5,6,5,7],[24,0,24,2],[13,0,13,2],[13,4,13,6],[16,2,16,3],[37,9,37,10],[16,0,16,1],[27,6,27,7],[24,8,24,10],[38,8,38,11],[13,8,13,10],[15,0,15,3],[15,4,15,7],[15,8,15,11],[16,10,16,11],[26,0,26,3],[26,4,26,7],[26,8,26,11],[27,8,27,9],[35,0,35,2],[35,4,35,6],[35,8,35,10],[27,10,27,11],[16,8,16,9],[27,4,27,5],[47,0,47,2],[47,4,47,6],[38,0,38,3],[38,4,38,7],[39,4,39,5],[39,6,39,7]]}
[null,null,null,null,null,null,null,null,null,"Année scolaire : ",null,{"$f":"' Liste élèves'!B1","v":"2018-2019"}]
[]
["NOM : ",{"$f":"' Liste élèves'!A123","v":"MONSIEUR"},null,"PRENOM:",{"$f":"' Liste élèves'!B123","v":"Manuel"},null,null,"CLASSE :",{"$f":"' Liste élèves'!C123","v":"Classe FB"}]
[]
["SEPTEMBRE",null,null,null,"OCTOBRE",null,null,null,"NOVEMBRE"]
["RECETTES",null,"DEPENSES",null,"RECETTES",null,"DEPENSES",null,"RECETTES",null,"DEPENSES"]
["Dates","Montant","Activités","Montant","Dates","Montant","Activités","Montant","Dates","Montant","Activités","Montant"]
["Report juin",31.4]
[]
[]
[]
[]
[null,{"$f":"SUM(B9:B12)","v":0},null,{"$f":"SUM(D8:D12)","v":0},null,{"$f":"SUM(F8:F12)","v":0},null,{"$f":"SUM(H8:H12)","v":0},null,{"$f":"SUM(J8:J12)","v":0},null,{"$f":"SUM(L8:L12)","v":0}]
["Récap 30/09",null,null,{"$f":"+B13-D13","v":0},"Récap 31/10",null,null,{"$f":"+F13-H13","v":0},"Récap 30/11",null,null,{"$f":"+J13-L13","v":0}]
[]
["DÉCEMBRE",null,null,null,"Situation fin décembre",null,null,null,"JANVIER"]
["RECETTES",null,"DEPENSES",null,null,"Recettes","Dépenses","Total","RECETTES",null,"DEPENSES"]
["Dates","Montant","Activités","Montant",{"$f":"A14","v":"Récap 30/09"},{"$f":"B13","v":0},{"$f":"D13","v":0},{"$f":"D14","v":0},"Dates","Montant","Activités","Montant"]
[null,null,null,null,{"$f":"E14","v":"Récap 31/10"},{"$f":"F13","v":0},{"$f":"H13","v":0},{"$f":"H14","v":0}]
[null,null,null,null,{"$f":"I14","v":"Récap 30/11"},{"$f":"J13","v":0},{"$f":"L13","v":0},{"$f":"L14","v":0}]
[null,null,null,null,{"$f":"A25","v":"Récap 31/12"},{"$f":"B24","v":0},{"$f":"D24","v":0},{"$f":"D25","v":0}]
[null,null,null,null,"Report Sept",null,null,{"$f":"B8","v":31.4}]
[null,null,null,null,"Situation 31/12",{"$f":"SUM(F18:F22)","v":0},{"$f":"SUM(G18:G22)","v":0},{"$f":"SUM(H18:H22)","v":31.4}]
[null,{"$f":"SUM(B19:B23)","v":0},null,{"$f":"SUM(D19:D23)","v":0},null,null,null,null,null,{"$f":"SUM(J19:J23)","v":0},null,{"$f":"SUM(L19:L23)","v":0}]
["Récap 31/12",null,null,{"$f":"+B24-D24","v":0},null,null,null,null,"Récap 31/01",null,null,{"$f":"+J24-L24","v":0}]
[]
["FÉVRIER",null,null,null,"MARS",null,null,null,"AVRIL"]
["RECETTES",null,"DEPENSES",null,"RECETTES",null,"DEPENSES",null,"RECETTES",null,"DEPENSES"]
["Dates","Montant","Activités","Montant","Dates","Montant","Activités","Montant","Dates","Montant","Activités","Montant"]
[]
[]
[]
[]
[]
[null,{"$f":"SUM(B30:B34)","v":0},null,{"$f":"SUM(D30:D34)","v":0},null,{"$f":"SUM(F30:F34)","v":0},null,{"$f":"SUM(H30:H34)","v":0},null,{"$f":"SUM(J30:J34)","v":0},null,{"$f":"SUM(L30:L34)","v":0}]
["Récap 28/02",null,null,{"$f":"+B35-D35","v":0},"Récap 31/03",null,null,{"$f":"+F35-H35","v":0},"Récap 30/04",null,null,{"$f":"+J35-L35","v":0}]
[]
[]
["MAI",null,null,null,"JUIN",null,null,null,"Situation fin juin"]
["RECETTES",null,"DEPENSES",null,"RECETTES",null,"DEPENSES",null,null,"Recettes","Dépenses","Total"]
["Dates","Montant","Activités","Montant","Dates","Montant","Activités","Montant",{"$f":"E23","v":"Situation 31/12"},null,null,{"$f":"H23","v":31.4}]
[null,null,null,null,null,null,null,null,{"$f":"I25","v":"Récap 31/01"},{"$f":"J24","v":0},{"$f":"L24","v":0},{"$f":"L25","v":0}]
[null,null,null,null,null,null,null,null,{"$f":"A36","v":"Récap 28/02"},{"$f":"B35","v":0},{"$f":"D35","v":0},{"$f":"D36","v":0}]
[null,null,null,null,null,null,null,null,{"$f":"E36","v":"Récap 31/03"},{"$f":"F35","v":0},{"$f":"H35","v":0},{"$f":"H36","v":0}]
[null,null,null,null,null,null,null,null,{"$f":"I36","v":"Récap 30/04"},{"$f":"J35","v":0},{"$f":"L35","v":0},{"$f":"L36","v":0}]
[null,null,null,null,null,null,null,null,{"$f":"A48","v":"Récap 31/05"},{"$f":"B47","v":0},{"$f":"D47","v":0},{"$f":"D48","v":0}]
[null,{"$f":"SUM(B42:B46)","v":0},null,{"$f":"SUM(D42:D46)","v":0},null,{"$f":"SUM(F42:F46)","v":0},null,{"$f":"SUM(H42:H46)","v":0},{"$f":"E48","v":"Récap 30/06"},{"$f":"F47","v":0},{"$f":"H47","v":0},{"$f":"H48","v":0}]
["Récap 31/05",null,null,{"$f":"+B47-D47","v":0},"Récap 30/06",null,null,{"$f":"+F47-H47","v":0},"Situation 30/06",{"$f":"SUM(J42:J47)","v":0},{"$f":"SUM(K42:K47)","v":0},{"$f":"SUM(L41:L47)","v":31.4}]
[]
[null,null,null,null,null,null,null,null,null,null,null,{"$f":"F23+J48-G23-K48+B8","v":31.4}]
[]
[null,null,null,null,null,null,null,null,null,{"$f":"B13+F13+J13+B24+J24+B35+F35+J35+B47+F47","v":0},{"$f":"D13+H13+L13+D24+L24+D35+H35+L35+D47+H47","v":0},{"$f":"B8+J52-K52","v":31.4}]

{"sheet":"MONTEMITRO","index":123,"n_rows":52,"n_cols":12,"rows_kept":52,"cut":false,"hidden":false,"merged":[[39,4,39,5],[39,6,39,7],[47,0,47,2],[47,4,47,6],[35,0,35,2],[35,4,35,6],[35,8,35,10],[37,9,37,10],[38,0,38,3],[38,4,38,7],[38,8,38,11],[26,0,26,3],[26,4,26,7],[26,8,26,11],[27,4,27,5],[27,6,27,7],[27,8,27,9],[27,10,27,11],[16,0,16,1],[16,2,16,3],[16,8,16,9],[16,10,16,11],[24,0,24,2],[24,8,24,10],[13,0,13,2],[13,4,13,6],[13,8,13,10],[15,0,15,3],[15,4,15,7],[15,8,15,11],[5,10,5,11],[0,9,0,10],[2,1,2,2],[2,4,2,5],[2,8,2,9],[4,0,4,3],[4,4,4,7],[4,8,4,11],[5,0,5,1],[5,2,5,3],[5,4,5,5],[5,6,5,7],[5,8,5,9]]}
[null,null,null,null,null,null,null,null,null,"Année scolaire : ",null,{"$f":"' Liste élèves'!B1","v":"2018-2019"}]
[]
["NOM : ",{"$f":"' Liste élèves'!A124","v":"MONTEMITRO"},null,"PRENOM:",{"$f":"' Liste élèves'!B124","v":"Samuel"},null,null,"CLASSE :",{"$f":"' Liste élèves'!C124","v":"Classe PC"}]
[]
["SEPTEMBRE",null,null,null,"OCTOBRE",null,null,null,"NOVEMBRE"]
["RECETTES",null,"DEPENSES",null,"RECETTES",null,"DEPENSES",null,"RECETTES",null,"DEPENSES"]
["Dates","Montant","Activités","Montant","Dates","Montant","Activités","Montant","Dates","Montant","Activités","Montant"]
["Report juin",16]
[]
[]
[]
[]
[null,{"$f":"SUM(B9:B12)","v":0},null,{"$f":"SUM(D8:D12)","v":0},null,{"$f":"SUM(F8:F12)","v":0},null,{"$f":"SUM(H8:H12)","v":0},null,{"$f":"SUM(J8:J12)","v":0},null,{"$f":"SUM(L8:L12)","v":0}]
["Récap 30/09",null,null,{"$f":"+B13-D13","v":0},"Récap 31/10",null,null,{"$f":"+F13-H13","v":0},"Récap 30/11",null,null,{"$f":"+J13-L13","v":0}]
[]
["DÉCEMBRE",null,null,null,"Situation fin décembre",null,null,null,"JANVIER"]
["RECETTES",null,"DEPENSES",null,null,"Recettes","Dépenses","Total","RECETTES",null,"DEPENSES"]
["Dates","Montant","Activités","Montant",{"$f":"A14","v":"Récap 30/09"},{"$f":"B13","v":0},{"$f":"D13","v":0},{"$f":"D14","v":0},"Dates","Montant","Activités","Montant"]
[null,null,null,null,{"$f":"E14","v":"Récap 31/10"},{"$f":"F13","v":0},{"$f":"H13","v":0},{"$f":"H14","v":0}]
[null,null,null,null,{"$f":"I14","v":"Récap 30/11"},{"$f":"J13","v":0},{"$f":"L13","v":0},{"$f":"L14","v":0}]
[null,null,null,null,{"$f":"A25","v":"Récap 31/12"},{"$f":"B24","v":0},{"$f":"D24","v":0},{"$f":"D25","v":0}]
[null,null,null,null,"Report Sept",null,null,{"$f":"B8","v":16}]
[null,null,null,null,"Situation 31/12",{"$f":"SUM(F18:F22)","v":0},{"$f":"SUM(G18:G22)","v":0},{"$f":"SUM(H18:H22)","v":16}]
[null,{"$f":"SUM(B19:B23)","v":0},null,{"$f":"SUM(D19:D23)","v":0},null,null,null,null,null,{"$f":"SUM(J19:J23)","v":0},null,{"$f":"SUM(L19:L23)","v":0}]
["Récap 31/12",null,null,{"$f":"+B24-D24","v":0},null,null,null,null,"Récap 31/01",null,null,{"$f":"+J24-L24","v":0}]
[]
["FÉVRIER",null,null,null,"MARS",null,null,null,"AVRIL"]
["RECETTES",null,"DEPENSES",null,"RECETTES",null,"DEPENSES",null,"RECETTES",null,"DEPENSES"]
["Dates","Montant","Activités","Montant","Dates","Montant","Activités","Montant","Dates","Montant","Activités","Montant"]
[]
[]
[]
[]
[]
[null,{"$f":"SUM(B30:B34)","v":0},null,{"$f":"SUM(D30:D34)","v":0},null,{"$f":"SUM(F30:F34)","v":0},null,{"$f":"SUM(H30:H34)","v":0},null,{"$f":"SUM(J30:J34)","v":0},null,{"$f":"SUM(L30:L34)","v":0}]
["Récap 28/02",null,null,{"$f":"+B35-D35","v":0},"Récap 31/03",null,null,{"$f":"+F35-H35","v":0},"Récap 30/04",null,null,{"$f":"+J35-L35","v":0}]
[]
[]
["MAI",null,null,null,"JUIN",null,null,null,"Situation fin juin"]
["RECETTES",null,"DEPENSES",null,"RECETTES",null,"DEPENSES",null,null,"Recettes","Dépenses","Total"]
["Dates","Montant","Activités","Montant","Dates","Montant","Activités","Montant",{"$f":"E23","v":"Situation 31/12"},null,null,{"$f":"H23","v":16}]
[null,null,null,null,null,null,null,null,{"$f":"I25","v":"Récap 31/01"},{"$f":"J24","v":0},{"$f":"L24","v":0},{"$f":"L25","v":0}]
[null,null,null,null,null,null,null,null,{"$f":"A36","v":"Récap 28/02"},{"$f":"B35","v":0},{"$f":"D35","v":0},{"$f":"D36","v":0}]
[null,null,null,null,null,null,null,null,{"$f":"E36","v":"Récap 31/03"},{"$f":"F35","v":0},{"$f":"H35","v":0},{"$f":"H36","v":0}]
[null,null,null,null,null,null,null,null,{"$f":"I36","v":"Récap 30/04"},{"$f":"J35","v":0},{"$f":"L35","v":0},{"$f":"L36","v":0}]
[null,null,null,null,null,null,null,null,{"$f":"A48","v":"Récap 31/05"},{"$f":"B47","v":0},{"$f":"D47","v":0},{"$f":"D48","v":0}]
[null,{"$f":"SUM(B42:B46)","v":0},null,{"$f":"SUM(D42:D46)","v":0},null,{"$f":"SUM(F42:F46)","v":0},null,{"$f":"SUM(H42:H46)","v":0},{"$f":"E48","v":"Récap 30/06"},{"$f":"F47","v":0},{"$f":"H47","v":0},{"$f":"H48","v":0}]
["Récap 31/05",null,null,{"$f":"+B47-D47","v":0},"Récap 30/06",null,null,{"$f":"+F47-H47","v":0},"Situation 30/06",{"$f":"SUM(J42:J47)","v":0},{"$f":"SUM(K42:K47)","v":0},{"$f":"SUM(L41:L47)","v":16}]
[]
[null,null,null,null,null,null,null,null,null,null,null,{"$f":"F23+J48-G23-K48+B8","v":16}]
[]
[null,null,null,null,null,null,null,null,null,{"$f":"B13+F13+J13+B24+J24+B35+F35+J35+B47+F47","v":0},{"$f":"D13+H13+L13+D24+L24+D35+H35+L35+D47+H47","v":0},{"$f":"B8+J52-K52","v":16}]

{"sheet":"MORTELETTE","index":124,"n_rows":52,"n_cols":12,"rows_kept":52,"cut":false,"hidden":false,"merged":[[0,9,0,10],[2,1,2,2],[2,4,2,5],[2,8,2,9],[5,8,5,9],[5,10,5,11],[4,0,4,3],[4,4,4,7],[4,8,4,11],[5,0,5,1],[5,2,5,3],[5,4,5,5],[5,6,5,7],[24,0,24,2],[13,0,13,2],[13,4,13,6],[16,2,16,3],[37,9,37,10],[16,0,16,1],[27,6,27,7],[24,8,24,10],[38,8,38,11],[13,8,13,10],[15,0,15,3],[15,4,15,7],[15,8,15,11],[16,10,16,11],[26,0,26,3],[26,4,26,7],[26,8,26,11],[27,8,27,9],[35,0,35,2],[35,4,35,6],[35,8,35,10],[27,10,27,11],[16,8,16,9],[27,4,27,5],[47,0,47,2],[47,4,47,6],[38,0,38,3],[38,4,38,7],[39,4,39,5],[39,6,39,7]]}
[null,null,null,null,null,null,null,null,null,"Année scolaire : ",null,{"$f":"' Liste élèves'!B1","v":"2018-2019"}]
[]
["NOM : ",{"$f":"' Liste élèves'!A125","v":"MORTELETTE"},null,"PRENOM:",{"$f":"' Liste élèves'!B125","v":"Lucas"},null,null,"CLASSE :",{"$f":"' Liste élèves'!C125","v":"Classe MC"}]
[]
["SEPTEMBRE",null,null,null,"OCTOBRE",null,null,null,"NOVEMBRE"]
["RECETTES",null,"DEPENSES",null,"RECETTES",null,"DEPENSES",null,"RECETTES",null,"DEPENSES"]
["Dates","Montant","Activités","Montant","Dates","Montant","Activités","Montant","Dates","Montant","Activités","Montant"]
["Report juin",36]
[]
[]
[]
[]
[null,{"$f":"SUM(B9:B12)","v":0},null,{"$f":"SUM(D8:D12)","v":0},null,{"$f":"SUM(F8:F12)","v":0},null,{"$f":"SUM(H8:H12)","v":0},null,{"$f":"SUM(J8:J12)","v":0},null,{"$f":"SUM(L8:L12)","v":0}]
["Récap 30/09",null,null,{"$f":"+B13-D13","v":0},"Récap 31/10",null,null,{"$f":"+F13-H13","v":0},"Récap 30/11",null,null,{"$f":"+J13-L13","v":0}]
[]
["DÉCEMBRE",null,null,null,"Situation fin décembre",null,null,null,"JANVIER"]
["RECETTES",null,"DEPENSES",null,null,"Recettes","Dépenses","Total","RECETTES",null,"DEPENSES"]
["Dates","Montant","Activités","Montant",{"$f":"A14","v":"Récap 30/09"},{"$f":"B13","v":0},{"$f":"D13","v":0},{"$f":"D14","v":0},"Dates","Montant","Activités","Montant"]
[null,null,null,null,{"$f":"E14","v":"Récap 31/10"},{"$f":"F13","v":0},{"$f":"H13","v":0},{"$f":"H14","v":0}]
[null,null,null,null,{"$f":"I14","v":"Récap 30/11"},{"$f":"J13","v":0},{"$f":"L13","v":0},{"$f":"L14","v":0}]
[null,null,null,null,{"$f":"A25","v":"Récap 31/12"},{"$f":"B24","v":0},{"$f":"D24","v":0},{"$f":"D25","v":0}]
[null,null,null,null,"Report Sept",null,null,{"$f":"B8","v":36}]
[null,null,null,null,"Situation 31/12",{"$f":"SUM(F18:F22)","v":0},{"$f":"SUM(G18:G22)","v":0},{"$f":"SUM(H18:H22)","v":36}]
[null,{"$f":"SUM(B19:B23)","v":0},null,{"$f":"SUM(D19:D23)","v":0},null,null,null,null,null,{"$f":"SUM(J19:J23)","v":0},null,{"$f":"SUM(L19:L23)","v":0}]
["Récap 31/12",null,null,{"$f":"+B24-D24","v":0},null,null,null,null,"Récap 31/01",null,null,{"$f":"+J24-L24","v":0}]
[]
["FÉVRIER",null,null,null,"MARS",null,null,null,"AVRIL"]
["RECETTES",null,"DEPENSES",null,"RECETTES",null,"DEPENSES",null,"RECETTES",null,"DEPENSES"]
["Dates","Montant","Activités","Montant","Dates","Montant","Activités","Montant","Dates","Montant","Activités","Montant"]
[]
[]
[]
[]
[]
[null,{"$f":"SUM(B30:B34)","v":0},null,{"$f":"SUM(D30:D34)","v":0},null,{"$f":"SUM(F30:F34)","v":0},null,{"$f":"SUM(H30:H34)","v":0},null,{"$f":"SUM(J30:J34)","v":0},null,{"$f":"SUM(L30:L34)","v":0}]
["Récap 28/02",null,null,{"$f":"+B35-D35","v":0},"Récap 31/03",null,null,{"$f":"+F35-H35","v":0},"Récap 30/04",null,null,{"$f":"+J35-L35","v":0}]
[]
[]
["MAI",null,null,null,"JUIN",null,null,null,"Situation fin juin"]
["RECETTES",null,"DEPENSES",null,"RECETTES",null,"DEPENSES",null,null,"Recettes","Dépenses","Total"]
["Dates","Montant","Activités","Montant","Dates","Montant","Activités","Montant",{"$f":"E23","v":"Situation 31/12"},null,null,{"$f":"H23","v":36}]
[null,null,null,null,null,null,null,null,{"$f":"I25","v":"Récap 31/01"},{"$f":"J24","v":0},{"$f":"L24","v":0},{"$f":"L25","v":0}]
[null,null,null,null,null,null,null,null,{"$f":"A36","v":"Récap 28/02"},{"$f":"B35","v":0},{"$f":"D35","v":0},{"$f":"D36","v":0}]
[null,null,null,null,null,null,null,null,{"$f":"E36","v":"Récap 31/03"},{"$f":"F35","v":0},{"$f":"H35","v":0},{"$f":"H36","v":0}]
[null,null,null,null,null,null,null,null,{"$f":"I36","v":"Récap 30/04"},{"$f":"J35","v":0},{"$f":"L35","v":0},{"$f":"L36","v":0}]
[null,null,null,null,null,null,null,null,{"$f":"A48","v":"Récap 31/05"},{"$f":"B47","v":0},{"$f":"D47","v":0},{"$f":"D48","v":0}]
[null,{"$f":"SUM(B42:B46)","v":0},null,{"$f":"SUM(D42:D46)","v":0},null,{"$f":"SUM(F42:F46)","v":0},null,{"$f":"SUM(H42:H46)","v":0},{"$f":"E48","v":"Récap 30/06"},{"$f":"F47","v":0},{"$f":"H47","v":0},{"$f":"H48","v":0}]
["Récap 31/05",null,null,{"$f":"+B47-D47","v":0},"Récap 30/06",null,null,{"$f":"+F47-H47","v":0},"Situation 30/06",{"$f":"SUM(J42:J47)","v":0},{"$f":"SUM(K42:K47)","v":0},{"$f":"SUM(L41:L47)","v":36}]
[]
[null,null,null,null,null,null,null,null,null,null,null,{"$f":"F23+J48-G23-K48+B8","v":36}]
[]
[null,null,null,null,null,null,null,null,null,{"$f":"B13+F13+J13+B24+J24+B35+F35+J35+B47+F47","v":0},{"$f":"D13+H13+L13+D24+L24+D35+H35+L35+D47+H47","v":0},{"$f":"B8+J52-K52","v":36}]

{"sheet":"MOULIN","index":125,"n_rows":52,"n_cols":12,"rows_kept":52,"cut":false,"hidden":false,"merged":[[0,9,0,10],[2,1,2,2],[2,4,2,5],[2,8,2,9],[5,8,5,9],[5,10,5,11],[4,0,4,3],[4,4,4,7],[4,8,4,11],[5,0,5,1],[5,2,5,3],[5,4,5,5],[5,6,5,7],[24,0,24,2],[13,0,13,2],[13,4,13,6],[16,2,16,3],[37,9,37,10],[16,0,16,1],[27,6,27,7],[24,8,24,10],[38,8,38,11],[13,8,13,10],[15,0,15,3],[15,4,15,7],[15,8,15,11],[16,10,16,11],[26,0,26,3],[26,4,26,7],[26,8,26,11],[27,8,27,9],[35,0,35,2],[35,4,35,6],[35,8,35,10],[27,10,27,11],[16,8,16,9],[27,4,27,5],[47,0,47,2],[47,4,47,6],[38,0,38,3],[38,4,38,7],[39,4,39,5],[39,6,39,7]]}
[null,null,null,null,null,null,null,null,null,"Année scolaire : ",null,{"$f":"' Liste élèves'!B1","v":"2018-2019"}]
[]
["NOM : ",{"$f":"' Liste élèves'!A126","v":"MOULIN"},null,"PRENOM:",{"$f":"' Liste élèves'!B126","v":"Christopher"},null,null,"CLASSE :",{"$f":"' Liste élèves'!C126","v":"Classe 6"}]
[]
["SEPTEMBRE",null,null,null,"OCTOBRE",null,null,null,"NOVEMBRE"]
["RECETTES",null,"DEPENSES",null,"RECETTES",null,"DEPENSES",null,"RECETTES",null,"DEPENSES"]
["Dates","Montant","Activités","Montant","Dates","Montant","Activités","Montant","Dates","Montant","Activités","Montant"]
["Report juin",58.03]
[]
[]
[]
[]
[null,{"$f":"SUM(B9:B12)","v":0},null,{"$f":"SUM(D8:D12)","v":0},null,{"$f":"SUM(F8:F12)","v":0},null,{"$f":"SUM(H8:H12)","v":0},null,{"$f":"SUM(J8:J12)","v":0},null,{"$f":"SUM(L8:L12)","v":0}]
["Récap 30/09",null,null,{"$f":"+B13-D13","v":0},"Récap 31/10",null,null,{"$f":"+F13-H13","v":0},"Récap 30/11",null,null,{"$f":"+J13-L13","v":0}]
[]
["DÉCEMBRE",null,null,null,"Situation fin décembre",null,null,null,"JANVIER"]
["RECETTES",null,"DEPENSES",null,null,"Recettes","Dépenses","Total","RECETTES",null,"DEPENSES"]
["Dates","Montant","Activités","Montant",{"$f":"A14","v":"Récap 30/09"},{"$f":"B13","v":0},{"$f":"D13","v":0},{"$f":"D14","v":0},"Dates","Montant","Activités","Montant"]
[null,null,null,null,{"$f":"E14","v":"Récap 31/10"},{"$f":"F13","v":0},{"$f":"H13","v":0},{"$f":"H14","v":0}]
[null,null,null,null,{"$f":"I14","v":"Récap 30/11"},{"$f":"J13","v":0},{"$f":"L13","v":0},{"$f":"L14","v":0}]
[null,null,null,null,{"$f":"A25","v":"Récap 31/12"},{"$f":"B24","v":0},{"$f":"D24","v":0},{"$f":"D25","v":0}]
[null,null,null,null,"Report Sept",null,null,{"$f":"B8","v":58.03}]
[null,null,null,null,"Situation 31/12",{"$f":"SUM(F18:F22)","v":0},{"$f":"SUM(G18:G22)","v":0},{"$f":"SUM(H18:H22)","v":58.03}]
[null,{"$f":"SUM(B19:B23)","v":0},null,{"$f":"SUM(D19:D23)","v":0},null,null,null,null,null,{"$f":"SUM(J19:J23)","v":0},null,{"$f":"SUM(L19:L23)","v":0}]
["Récap 31/12",null,null,{"$f":"+B24-D24","v":0},null,null,null,null,"Récap 31/01",null,null,{"$f":"+J24-L24","v":0}]
[]
["FÉVRIER",null,null,null,"MARS",null,null,null,"AVRIL"]
["RECETTES",null,"DEPENSES",null,"RECETTES",null,"DEPENSES",null,"RECETTES",null,"DEPENSES"]
["Dates","Montant","Activités","Montant","Dates","Montant","Activités","Montant","Dates","Montant","Activités","Montant"]
[]
[]
[]
[]
[]
[null,{"$f":"SUM(B30:B34)","v":0},null,{"$f":"SUM(D30:D34)","v":0},null,{"$f":"SUM(F30:F34)","v":0},null,{"$f":"SUM(H30:H34)","v":0},null,{"$f":"SUM(J30:J34)","v":0},null,{"$f":"SUM(L30:L34)","v":0}]
["Récap 28/02",null,null,{"$f":"+B35-D35","v":0},"Récap 31/03",null,null,{"$f":"+F35-H35","v":0},"Récap 30/04",null,null,{"$f":"+J35-L35","v":0}]
[]
[]
["MAI",null,null,null,"JUIN",null,null,null,"Situation fin juin"]
["RECETTES",null,"DEPENSES",null,"RECETTES",null,"DEPENSES",null,null,"Recettes","Dépenses","Total"]
["Dates","Montant","Activités","Montant","Dates","Montant","Activités","Montant",{"$f":"E23","v":"Situation 31/12"},null,null,{"$f":"H23","v":58.03}]
[null,null,null,null,null,null,null,null,{"$f":"I25","v":"Récap 31/01"},{"$f":"J24","v":0},{"$f":"L24","v":0},{"$f":"L25","v":0}]
[null,null,null,null,null,null,null,null,{"$f":"A36","v":"Récap 28/02"},{"$f":"B35","v":0},{"$f":"D35","v":0},{"$f":"D36","v":0}]
[null,null,null,null,null,null,null,null,{"$f":"E36","v":"Récap 31/03"},{"$f":"F35","v":0},{"$f":"H35","v":0},{"$f":"H36","v":0}]
[null,null,null,null,null,null,null,null,{"$f":"I36","v":"Récap 30/04"},{"$f":"J35","v":0},{"$f":"L35","v":0},{"$f":"L36","v":0}]
[null,null,null,null,null,null,null,null,{"$f":"A48","v":"Récap 31/05"},{"$f":"B47","v":0},{"$f":"D47","v":0},{"$f":"D48","v":0}]
[null,{"$f":"SUM(B42:B46)","v":0},null,{"$f":"SUM(D42:D46)","v":0},null,{"$f":"SUM(F42:F46)","v":0},null,{"$f":"SUM(H42:H46)","v":0},{"$f":"E48","v":"Récap 30/06"},{"$f":"F47","v":0},{"$f":"H47","v":0},{"$f":"H48","v":0}]
["Récap 31/05",null,null,{"$f":"+B47-D47","v":0},"Récap 30/06",null,null,{"$f":"+F47-H47","v":0},"Situation 30/06",{"$f":"SUM(J42:J47)","v":0},{"$f":"SUM(K42:K47)","v":0},{"$f":"SUM(L41:L47)","v":58.03}]
[]
[null,null,null,null,null,null,null,null,null,null,null,{"$f":"F23+J48-G23-K48+B8","v":58.03}]
[]
[null,null,null,null,null,null,null,null,null,{"$f":"B13+F13+J13+B24+J24+B35+F35+J35+B47+F47","v":0},{"$f":"D13+H13+L13+D24+L24+D35+H35+L35+D47+H47","v":0},{"$f":"B8+J52-K52","v":58.03}]

{"sheet":"MOYERSOON","index":126,"n_rows":52,"n_cols":12,"rows_kept":52,"cut":false,"hidden":false,"merged":[[5,10,5,11],[0,9,0,10],[2,1,2,2],[2,4,2,5],[2,8,2,9],[4,0,4,3],[4,4,4,7],[4,8,4,11],[5,0,5,1],[5,2,5,3],[5,4,5,5],[5,6,5,7],[5,8,5,9],[13,0,13,2],[13,4,13,6],[13,8,13,10],[15,0,15,3],[15,4,15,7],[15,8,15,11],[16,0,16,1],[16,2,16,3],[16,8,16,9],[16,10,16,11],[24,0,24,2],[24,8,24,10],[26,0,26,3],[26,4,26,7],[26,8,26,11],[27,4,27,5],[27,6,27,7],[27,8,27,9],[27,10,27,11],[35,8,35,10],[37,9,37,10],[38,0,38,3],[38,4,38,7],[38,8,38,11],[39,4,39,5],[39,6,39,7],[47,0,47,2],[47,4,47,6],[35,0,35,2],[35,4,35,6]]}
[null,null,null,null,null,null,null,null,null,"Année scolaire : ",null,{"$f":"' Liste élèves'!B1","v":"2018-2019"}]
[]
["NOM : ",{"$f":"' Liste élèves'!A127","v":"MOYERSOON"},null,"PRENOM:",{"$f":"' Liste élèves'!B127","v":"Laure"},null,null,"CLASSE :",{"$f":"' Liste élèves'!C127","v":"Classe 5"}]
[]
["SEPTEMBRE",null,null,null,"OCTOBRE",null,null,null,"NOVEMBRE"]
["RECETTES",null,"DEPENSES",null,"RECETTES",null,"DEPENSES",null,"RECETTES",null,"DEPENSES"]
["Dates","Montant","Activités","Montant","Dates","Montant","Activités","Montant","Dates","Montant","Activités","Montant"]
["Report juin"]
[]
[]
[]
[]
[null,{"$f":"SUM(B9:B12)","v":0},null,{"$f":"SUM(D8:D12)","v":0},null,{"$f":"SUM(F8:F12)","v":0},null,{"$f":"SUM(H8:H12)","v":0},null,{"$f":"SUM(J8:J12)","v":0},null,{"$f":"SUM(L8:L12)","v":0}]
["Récap 30/09",null,null,{"$f":"+B13-D13","v":0},"Récap 31/10",null,null,{"$f":"+F13-H13","v":0},"Récap 30/11",null,null,{"$f":"+J13-L13","v":0}]
[]
["DÉCEMBRE",null,null,null,"Situation fin décembre",null,null,null,"JANVIER"]
["RECETTES",null,"DEPENSES",null,null,"Recettes","Dépenses","Total","RECETTES",null,"DEPENSES"]
["Dates","Montant","Activités","Montant",{"$f":"A14","v":"Récap 30/09"},{"$f":"B13","v":0},{"$f":"D13","v":0},{"$f":"D14","v":0},"Dates","Montant","Activités","Montant"]
[null,null,null,null,{"$f":"E14","v":"Récap 31/10"},{"$f":"F13","v":0},{"$f":"H13","v":0},{"$f":"H14","v":0}]
[null,null,null,null,{"$f":"I14","v":"Récap 30/11"},{"$f":"J13","v":0},{"$f":"L13","v":0},{"$f":"L14","v":0}]
[null,null,null,null,{"$f":"A25","v":"Récap 31/12"},{"$f":"B24","v":0},{"$f":"D24","v":0},{"$f":"D25","v":0}]
[null,null,null,null,"Report Sept",null,null,{"$f":"B8","v":0}]
[null,null,null,null,"Situation 31/12",{"$f":"SUM(F18:F22)","v":0},{"$f":"SUM(G18:G22)","v":0},{"$f":"SUM(H18:H22)","v":0}]
[null,{"$f":"SUM(B19:B23)","v":0},null,{"$f":"SUM(D19:D23)","v":0},null,null,null,null,null,{"$f":"SUM(J19:J23)","v":0},null,{"$f":"SUM(L19:L23)","v":0}]
["Récap 31/12",null,null,{"$f":"+B24-D24","v":0},null,null,null,null,"Récap 31/01",null,null,{"$f":"+J24-L24","v":0}]
[]
["FÉVRIER",null,null,null,"MARS",null,null,null,"AVRIL"]
["RECETTES",null,"DEPENSES",null,"RECETTES",null,"DEPENSES",null,"RECETTES",null,"DEPENSES"]
["Dates","Montant","Activités","Montant","Dates","Montant","Activités","Montant","Dates","Montant","Activités","Montant"]
[]
[]
[]
[]
[]
[null,{"$f":"SUM(B30:B34)","v":0},null,{"$f":"SUM(D30:D34)","v":0},null,{"$f":"SUM(F30:F34)","v":0},null,{"$f":"SUM(H30:H34)","v":0},null,{"$f":"SUM(J30:J34)","v":0},null,{"$f":"SUM(L30:L34)","v":0}]
["Récap 28/02",null,null,{"$f":"+B35-D35","v":0},"Récap 31/03",null,null,{"$f":"+F35-H35","v":0},"Récap 30/04",null,null,{"$f":"+J35-L35","v":0}]
[]
[]
["MAI",null,null,null,"JUIN",null,null,null,"Situation fin juin"]
["RECETTES",null,"DEPENSES",null,"RECETTES",null,"DEPENSES",null,null,"Recettes","Dépenses","Total"]
["Dates","Montant","Activités","Montant","Dates","Montant","Activités","Montant",{"$f":"E23","v":"Situation 31/12"},null,null,{"$f":"H23","v":0}]
[null,null,null,null,null,null,null,null,{"$f":"I25","v":"Récap 31/01"},{"$f":"J24","v":0},{"$f":"L24","v":0},{"$f":"L25","v":0}]
[null,null,null,null,null,null,null,null,{"$f":"A36","v":"Récap 28/02"},{"$f":"B35","v":0},{"$f":"D35","v":0},{"$f":"D36","v":0}]
[null,null,null,null,null,null,null,null,{"$f":"E36","v":"Récap 31/03"},{"$f":"F35","v":0},{"$f":"H35","v":0},{"$f":"H36","v":0}]
[null,null,null,null,null,null,null,null,{"$f":"I36","v":"Récap 30/04"},{"$f":"J35","v":0},{"$f":"L35","v":0},{"$f":"L36","v":0}]
[null,null,null,null,null,null,null,null,{"$f":"A48","v":"Récap 31/05"},{"$f":"B47","v":0},{"$f":"D47","v":0},{"$f":"D48","v":0}]
[null,{"$f":"SUM(B42:B46)","v":0},null,{"$f":"SUM(D42:D46)","v":0},null,{"$f":"SUM(F42:F46)","v":0},null,{"$f":"SUM(H42:H46)","v":0},{"$f":"E48","v":"Récap 30/06"},{"$f":"F47","v":0},{"$f":"H47","v":0},{"$f":"H48","v":0}]
["Récap 31/05",null,null,{"$f":"+B47-D47","v":0},"Récap 30/06",null,null,{"$f":"+F47-H47","v":0},"Situation 30/06",{"$f":"SUM(J42:J47)","v":0},{"$f":"SUM(K42:K47)","v":0},{"$f":"SUM(L41:L47)","v":0}]
[]
[null,null,null,null,null,null,null,null,null,null,null,{"$f":"F23+J48-G23-K48+B8","v":0}]
[]
[null,null,null,null,null,null,null,null,null,{"$f":"B13+F13+J13+B24+J24+B35+F35+J35+B47+F47","v":0},{"$f":"D13+H13+L13+D24+L24+D35+H35+L35+D47+H47","v":0},{"$f":"B8+J52-K52","v":0}]

{"sheet":"NICAISE","index":127,"n_rows":52,"n_cols":12,"rows_kept":52,"cut":false,"hidden":false,"merged":[[0,9,0,10],[2,1,2,2],[2,4,2,5],[2,8,2,9],[5,8,5,9],[5,10,5,11],[4,0,4,3],[4,4,4,7],[4,8,4,11],[5,0,5,1],[5,2,5,3],[5,4,5,5],[5,6,5,7],[24,0,24,2],[13,0,13,2],[13,4,13,6],[16,2,16,3],[37,9,37,10],[16,0,16,1],[27,6,27,7],[24,8,24,10],[38,8,38,11],[13,8,13,10],[15,0,15,3],[15,4,15,7],[15,8,15,11],[16,10,16,11],[26,0,26,3],[26,4,26,7],[26,8,26,11],[27,8,27,9],[35,0,35,2],[35,4,35,6],[35,8,35,10],[27,10,27,11],[16,8,16,9],[27,4,27,5],[47,0,47,2],[47,4,47,6],[38,0,38,3],[38,4,38,7],[39,4,39,5],[39,6,39,7]]}
[null,null,null,null,null,null,null,null,null,"Année scolaire : ",null,{"$f":"' Liste élèves'!B1","v":"2018-2019"}]
[]
["NOM : ",{"$f":"' Liste élèves'!A128","v":"NICAISE"},null,"PRENOM:",{"$f":"' Liste élèves'!B128","v":"Bryan"},null,null,"CLASSE :",{"$f":"' Liste élèves'!C128","v":"Classe MA"}]
[]
["SEPTEMBRE",null,null,null,"OCTOBRE",null,null,null,"NOVEMBRE"]
["RECETTES",null,"DEPENSES",null,"RECETTES",null,"DEPENSES",null,"RECETTES",null,"DEPENSES"]
["Dates","Montant","Activités","Montant","Dates","Montant","Activités","Montant","Dates","Montant","Activités","Montant"]
["Report juin",200]
[]
[]
[]
[]
[null,{"$f":"SUM(B9:B12)","v":0},null,{"$f":"SUM(D8:D12)","v":0},null,{"$f":"SUM(F8:F12)","v":0},null,{"$f":"SUM(H8:H12)","v":0},null,{"$f":"SUM(J8:J12)","v":0},null,{"$f":"SUM(L8:L12)","v":0}]
["Récap 30/09",null,null,{"$f":"+B13-D13","v":0},"Récap 31/10",null,null,{"$f":"+F13-H13","v":0},"Récap 30/11",null,null,{"$f":"+J13-L13","v":0}]
[]
["DÉCEMBRE",null,null,null,"Situation fin décembre",null,null,null,"JANVIER"]
["RECETTES",null,"DEPENSES",null,null,"Recettes","Dépenses","Total","RECETTES",null,"DEPENSES"]
["Dates","Montant","Activités","Montant",{"$f":"A14","v":"Récap 30/09"},{"$f":"B13","v":0},{"$f":"D13","v":0},{"$f":"D14","v":0},"Dates","Montant","Activités","Montant"]
[null,null,null,null,{"$f":"E14","v":"Récap 31/10"},{"$f":"F13","v":0},{"$f":"H13","v":0},{"$f":"H14","v":0}]
[null,null,null,null,{"$f":"I14","v":"Récap 30/11"},{"$f":"J13","v":0},{"$f":"L13","v":0},{"$f":"L14","v":0}]
[null,null,null,null,{"$f":"A25","v":"Récap 31/12"},{"$f":"B24","v":0},{"$f":"D24","v":0},{"$f":"D25","v":0}]
[null,null,null,null,"Report Sept",null,null,{"$f":"B8","v":200}]
[null,null,null,null,"Situation 31/12",{"$f":"SUM(F18:F22)","v":0},{"$f":"SUM(G18:G22)","v":0},{"$f":"SUM(H18:H22)","v":200}]
[null,{"$f":"SUM(B19:B23)","v":0},null,{"$f":"SUM(D19:D23)","v":0},null,null,null,null,null,{"$f":"SUM(J19:J23)","v":0},null,{"$f":"SUM(L19:L23)","v":0}]
["Récap 31/12",null,null,{"$f":"+B24-D24","v":0},null,null,null,null,"Récap 31/01",null,null,{"$f":"+J24-L24","v":0}]
[]
["FÉVRIER",null,null,null,"MARS",null,null,null,"AVRIL"]
["RECETTES",null,"DEPENSES",null,"RECETTES",null,"DEPENSES",null,"RECETTES",null,"DEPENSES"]
["Dates","Montant","Activités","Montant","Dates","Montant","Activités","Montant","Dates","Montant","Activités","Montant"]
[]
[]
[]
[]
[]
[null,{"$f":"SUM(B30:B34)","v":0},null,{"$f":"SUM(D30:D34)","v":0},null,{"$f":"SUM(F30:F34)","v":0},null,{"$f":"SUM(H30:H34)","v":0},null,{"$f":"SUM(J30:J34)","v":0},null,{"$f":"SUM(L30:L34)","v":0}]
["Récap 28/02",null,null,{"$f":"+B35-D35","v":0},"Récap 31/03",null,null,{"$f":"+F35-H35","v":0},"Récap 30/04",null,null,{"$f":"+J35-L35","v":0}]
[]
[]
["MAI",null,null,null,"JUIN",null,null,null,"Situation fin juin"]
["RECETTES",null,"DEPENSES",null,"RECETTES",null,"DEPENSES",null,null,"Recettes","Dépenses","Total"]
["Dates","Montant","Activités","Montant","Dates","Montant","Activités","Montant",{"$f":"E23","v":"Situation 31/12"},null,null,{"$f":"H23","v":200}]
[null,null,null,null,null,null,null,null,{"$f":"I25","v":"Récap 31/01"},{"$f":"J24","v":0},{"$f":"L24","v":0},{"$f":"L25","v":0}]
[null,null,null,null,null,null,null,null,{"$f":"A36","v":"Récap 28/02"},{"$f":"B35","v":0},{"$f":"D35","v":0},{"$f":"D36","v":0}]
[null,null,null,null,null,null,null,null,{"$f":"E36","v":"Récap 31/03"},{"$f":"F35","v":0},{"$f":"H35","v":0},{"$f":"H36","v":0}]
[null,null,null,null,null,null,null,null,{"$f":"I36","v":"Récap 30/04"},{"$f":"J35","v":0},{"$f":"L35","v":0},{"$f":"L36","v":0}]
[null,null,null,null,null,null,null,null,{"$f":"A48","v":"Récap 31/05"},{"$f":"B47","v":0},{"$f":"D47","v":0},{"$f":"D48","v":0}]
[null,{"$f":"SUM(B42:B46)","v":0},null,{"$f":"SUM(D42:D46)","v":0},null,{"$f":"SUM(F42:F46)","v":0},null,{"$f":"SUM(H42:H46)","v":0},{"$f":"E48","v":"Récap 30/06"},{"$f":"F47","v":0},{"$f":"H47","v":0},{"$f":"H48","v":0}]
["Récap 31/05",null,null,{"$f":"+B47-D47","v":0},"Récap 30/06",null,null,{"$f":"+F47-H47","v":0},"Situation 30/06",{"$f":"SUM(J42:J47)","v":0},{"$f":"SUM(K42:K47)","v":0},{"$f":"SUM(L41:L47)","v":200}]
[]
[null,null,null,null,null,null,null,null,null,null,null,{"$f":"F23+J48-G23-K48+B8","v":200}]
[]
[null,null,null,null,null,null,null,null,null,{"$f":"B13+F13+J13+B24+J24+B35+F35+J35+B47+F47","v":0},{"$f":"D13+H13+L13+D24+L24+D35+H35+L35+D47+H47","v":0},{"$f":"B8+J52-K52","v":200}]

{"sheet":"OIKONOMAKIS","index":128,"n_rows":52,"n_cols":12,"rows_kept":52,"cut":false,"hidden":false,"merged":[[39,4,39,5],[39,6,39,7],[47,0,47,2],[47,4,47,6],[35,0,35,2],[35,4,35,6],[35,8,35,10],[37,9,37,10],[38,0,38,3],[38,4,38,7],[38,8,38,11],[26,0,26,3],[26,4,26,7],[26,8,26,11],[27,4,27,5],[27,6,27,7],[27,8,27,9],[27,10,27,11],[16,0,16,1],[16,2,16,3],[16,8,16,9],[16,10,16,11],[24,0,24,2],[24,8,24,10],[13,0,13,2],[13,4,13,6],[13,8,13,10],[15,0,15,3],[15,4,15,7],[15,8,15,11],[5,10,5,11],[0,9,0,10],[2,1,2,2],[2,4,2,5],[2,8,2,9],[4,0,4,3],[4,4,4,7],[4,8,4,11],[5,0,5,1],[5,2,5,3],[5,4,5,5],[5,6,5,7],[5,8,5,9]]}
[null,null,null,null,null,null,null,null,null,"Année scolaire : ",null,{"$f":"' Liste élèves'!B1","v":"2018-2019"}]
[]
["NOM : ",{"$f":"' Liste élèves'!A129","v":"OIKONOMAKIS"},null,"PRENOM:",{"$f":"' Liste élèves'!B129","v":"Iosif"},null,null,"CLASSE :",{"$f":"' Liste élèves'!C129","v":"Classe 3"}]
[]
["SEPTEMBRE",null,null,null,"OCTOBRE",null,null,null,"NOVEMBRE"]
["RECETTES",null,"DEPENSES",null,"RECETTES",null,"DEPENSES",null,"RECETTES",null,"DEPENSES"]
["Dates","Montant","Activités","Montant","Dates","Montant","Activités","Montant","Dates","Montant","Activités","Montant"]
["Report juin",94.5]
[]
[]
[]
[]
[null,{"$f":"SUM(B9:B12)","v":0},null,{"$f":"SUM(D8:D12)","v":0},null,{"$f":"SUM(F8:F12)","v":0},null,{"$f":"SUM(H8:H12)","v":0},null,{"$f":"SUM(J8:J12)","v":0},null,{"$f":"SUM(L8:L12)","v":0}]
["Récap 30/09",null,null,{"$f":"+B13-D13","v":0},"Récap 31/10",null,null,{"$f":"+F13-H13","v":0},"Récap 30/11",null,null,{"$f":"+J13-L13","v":0}]
[]
["DÉCEMBRE",null,null,null,"Situation fin décembre",null,null,null,"JANVIER"]
["RECETTES",null,"DEPENSES",null,null,"Recettes","Dépenses","Total","RECETTES",null,"DEPENSES"]
["Dates","Montant","Activités","Montant",{"$f":"A14","v":"Récap 30/09"},{"$f":"B13","v":0},{"$f":"D13","v":0},{"$f":"D14","v":0},"Dates","Montant","Activités","Montant"]
[null,null,null,null,{"$f":"E14","v":"Récap 31/10"},{"$f":"F13","v":0},{"$f":"H13","v":0},{"$f":"H14","v":0}]
[null,null,null,null,{"$f":"I14","v":"Récap 30/11"},{"$f":"J13","v":0},{"$f":"L13","v":0},{"$f":"L14","v":0}]
[null,null,null,null,{"$f":"A25","v":"Récap 31/12"},{"$f":"B24","v":0},{"$f":"D24","v":0},{"$f":"D25","v":0}]
[null,null,null,null,"Report Sept",null,null,{"$f":"B8","v":94.5}]
[null,null,null,null,"Situation 31/12",{"$f":"SUM(F18:F22)","v":0},{"$f":"SUM(G18:G22)","v":0},{"$f":"SUM(H18:H22)","v":94.5}]
[null,{"$f":"SUM(B19:B23)","v":0},null,{"$f":"SUM(D19:D23)","v":0},null,null,null,null,null,{"$f":"SUM(J19:J23)","v":0},null,{"$f":"SUM(L19:L23)","v":0}]
["Récap 31/12",null,null,{"$f":"+B24-D24","v":0},null,null,null,null,"Récap 31/01",null,null,{"$f":"+J24-L24","v":0}]
[]
["FÉVRIER",null,null,null,"MARS",null,null,null,"AVRIL"]
["RECETTES",null,"DEPENSES",null,"RECETTES",null,"DEPENSES",null,"RECETTES",null,"DEPENSES"]
["Dates","Montant","Activités","Montant","Dates","Montant","Activités","Montant","Dates","Montant","Activités","Montant"]
[]
[]
[]
[]
[]
[null,{"$f":"SUM(B30:B34)","v":0},null,{"$f":"SUM(D30:D34)","v":0},null,{"$f":"SUM(F30:F34)","v":0},null,{"$f":"SUM(H30:H34)","v":0},null,{"$f":"SUM(J30:J34)","v":0},null,{"$f":"SUM(L30:L34)","v":0}]
["Récap 28/02",null,null,{"$f":"+B35-D35","v":0},"Récap 31/03",null,null,{"$f":"+F35-H35","v":0},"Récap 30/04",null,null,{"$f":"+J35-L35","v":0}]
[]
[]
["MAI",null,null,null,"JUIN",null,null,null,"Situation fin juin"]
["RECETTES",null,"DEPENSES",null,"RECETTES",null,"DEPENSES",null,null,"Recettes","Dépenses","Total"]
["Dates","Montant","Activités","Montant","Dates","Montant","Activités","Montant",{"$f":"E23","v":"Situation 31/12"},null,null,{"$f":"H23","v":94.5}]
[null,null,null,null,null,null,null,null,{"$f":"I25","v":"Récap 31/01"},{"$f":"J24","v":0},{"$f":"L24","v":0},{"$f":"L25","v":0}]
[null,null,null,null,null,null,null,null,{"$f":"A36","v":"Récap 28/02"},{"$f":"B35","v":0},{"$f":"D35","v":0},{"$f":"D36","v":0}]
[null,null,null,null,null,null,null,null,{"$f":"E36","v":"Récap 31/03"},{"$f":"F35","v":0},{"$f":"H35","v":0},{"$f":"H36","v":0}]
[null,null,null,null,null,null,null,null,{"$f":"I36","v":"Récap 30/04"},{"$f":"J35","v":0},{"$f":"L35","v":0},{"$f":"L36","v":0}]
[null,null,null,null,null,null,null,null,{"$f":"A48","v":"Récap 31/05"},{"$f":"B47","v":0},{"$f":"D47","v":0},{"$f":"D48","v":0}]
[null,{"$f":"SUM(B42:B46)","v":0},null,{"$f":"SUM(D42:D46)","v":0},null,{"$f":"SUM(F42:F46)","v":0},null,{"$f":"SUM(H42:H46)","v":0},{"$f":"E48","v":"Récap 30/06"},{"$f":"F47","v":0},{"$f":"H47","v":0},{"$f":"H48","v":0}]
["Récap 31/05",null,null,{"$f":"+B47-D47","v":0},"Récap 30/06",null,null,{"$f":"+F47-H47","v":0},"Situation 30/06",{"$f":"SUM(J42:J47)","v":0},{"$f":"SUM(K42:K47)","v":0},{"$f":"SUM(L41:L47)","v":94.5}]
[]
[null,null,null,null,null,null,null,null,null,null,null,{"$f":"F23+J48-G23-K48+B8","v":94.5}]
[]
[null,null,null,null,null,null,null,null,null,{"$f":"B13+F13+J13+B24+J24+B35+F35+J35+B47+F47","v":0},{"$f":"D13+H13+L13+D24+L24+D35+H35+L35+D47+H47","v":0},{"$f":"B8+J52-K52","v":94.5}]

{"sheet":"OULADBENTAYED","index":129,"n_rows":52,"n_cols":12,"rows_kept":52,"cut":false,"hidden":false,"merged":[[39,4,39,5],[39,6,39,7],[47,0,47,2],[47,4,47,6],[35,0,35,2],[35,4,35,6],[35,8,35,10],[37,9,37,10],[38,0,38,3],[38,4,38,7],[38,8,38,11],[26,0,26,3],[26,4,26,7],[26,8,26,11],[27,4,27,5],[27,6,27,7],[27,8,27,9],[27,10,27,11],[16,0,16,1],[16,2,16,3],[16,8,16,9],[16,10,16,11],[24,0,24,2],[24,8,24,10],[13,0,13,2],[13,4,13,6],[13,8,13,10],[15,0,15,3],[15,4,15,7],[15,8,15,11],[5,10,5,11],[0,9,0,10],[2,1,2,2],[2,4,2,5],[2,8,2,9],[4,0,4,3],[4,4,4,7],[4,8,4,11],[5,0,5,1],[5,2,5,3],[5,4,5,5],[5,6,5,7],[5,8,5,9]]}
["         ",null,null,null,null,null,null,null,null,"Année scolaire : ",null,{"$f":"' Liste élèves'!B1","v":"2018-2019"}]
[]
["NOM : ",{"$f":"' Liste élèves'!A130","v":"OULADBENTAYED"},null,"PRENOM:",{"$f":"' Liste élèves'!B130","v":"Nadir"},null,null,"CLASSE :",{"$f":"' Liste élèves'!C130","v":"Classe 10"}]
[]
["SEPTEMBRE",null,null,null,"OCTOBRE",null,null,null,"NOVEMBRE"]
["RECETTES",null,"DEPENSES",null,"RECETTES",null,"DEPENSES",null,"RECETTES",null,"DEPENSES"]
["Dates","Montant","Activités","Montant","Dates","Montant","Activités","Montant","Dates","Montant","Activités","Montant"]
["Report juin",32.9]
[]
[]
[]
[]
[null,{"$f":"SUM(B9:B12)","v":0},null,{"$f":"SUM(D8:D12)","v":0},null,{"$f":"SUM(F8:F12)","v":0},null,{"$f":"SUM(H8:H12)","v":0},null,{"$f":"SUM(J8:J12)","v":0},null,{"$f":"SUM(L8:L12)","v":0}]
["Récap 30/09",null,null,{"$f":"+B13-D13","v":0},"Récap 31/10",null,null,{"$f":"+F13-H13","v":0},"Récap 30/11",null,null,{"$f":"+J13-L13","v":0}]
[]
["DÉCEMBRE",null,null,null,"Situation fin décembre",null,null,null,"JANVIER"]
["RECETTES",null,"DEPENSES",null,null,"Recettes","Dépenses","Total","RECETTES",null,"DEPENSES"]
["Dates","Montant","Activités","Montant",{"$f":"A14","v":"Récap 30/09"},{"$f":"B13","v":0},{"$f":"D13","v":0},{"$f":"D14","v":0},"Dates","Montant","Activités","Montant"]
[null,null,null,null,{"$f":"E14","v":"Récap 31/10"},{"$f":"F13","v":0},{"$f":"H13","v":0},{"$f":"H14","v":0}]
[null,null,null,null,{"$f":"I14","v":"Récap 30/11"},{"$f":"J13","v":0},{"$f":"L13","v":0},{"$f":"L14","v":0}]
[null,null,null,null,{"$f":"A25","v":"Récap 31/12"},{"$f":"B24","v":0},{"$f":"D24","v":0},{"$f":"D25","v":0}]
[null,null,null,null,"Report Sept",null,null,{"$f":"B8","v":32.9}]
[null,null,null,null,"Situation 31/12",{"$f":"SUM(F18:F22)","v":0},{"$f":"SUM(G18:G22)","v":0},{"$f":"SUM(H18:H22)","v":32.9}]
[null,{"$f":"SUM(B19:B23)","v":0},null,{"$f":"SUM(D19:D23)","v":0},null,null,null,null,null,{"$f":"SUM(J19:J23)","v":0},null,{"$f":"SUM(L19:L23)","v":0}]
["Récap 31/12",null,null,{"$f":"+B24-D24","v":0},null,null,null,null,"Récap 31/01",null,null,{"$f":"+J24-L24","v":0}]
[]
["FÉVRIER",null,null,null,"MARS",null,null,null,"AVRIL"]
["RECETTES",null,"DEPENSES",null,"RECETTES",null,"DEPENSES",null,"RECETTES",null,"DEPENSES"]
["Dates","Montant","Activités","Montant","Dates","Montant","Activités","Montant","Dates","Montant","Activités","Montant"]
[]
[]
[]
[]
[]
[null,{"$f":"SUM(B30:B34)","v":0},null,{"$f":"SUM(D30:D34)","v":0},null,{"$f":"SUM(F30:F34)","v":0},null,{"$f":"SUM(H30:H34)","v":0},null,{"$f":"SUM(J30:J34)","v":0},null,{"$f":"SUM(L30:L34)","v":0}]
["Récap 28/02",null,null,{"$f":"+B35-D35","v":0},"Récap 31/03",null,null,{"$f":"+F35-H35","v":0},"Récap 30/04",null,null,{"$f":"+J35-L35","v":0}]
[]
[]
["MAI",null,null,null,"JUIN",null,null,null,"Situation fin juin"]
["RECETTES",null,"DEPENSES",null,"RECETTES",null,"DEPENSES",null,null,"Recettes","Dépenses","Total"]
["Dates","Montant","Activités","Montant","Dates","Montant","Activités","Montant",{"$f":"E23","v":"Situation 31/12"},null,null,{"$f":"H23","v":32.9}]
[null,null,null,null,null,null,null,null,{"$f":"I25","v":"Récap 31/01"},{"$f":"J24","v":0},{"$f":"L24","v":0},{"$f":"L25","v":0}]
[null,null,null,null,null,null,null,null,{"$f":"A36","v":"Récap 28/02"},{"$f":"B35","v":0},{"$f":"D35","v":0},{"$f":"D36","v":0}]
[null,null,null,null,null,null,null,null,{"$f":"E36","v":"Récap 31/03"},{"$f":"F35","v":0},{"$f":"H35","v":0},{"$f":"H36","v":0}]
[null,null,null,null,null,null,null,null,{"$f":"I36","v":"Récap 30/04"},{"$f":"J35","v":0},{"$f":"L35","v":0},{"$f":"L36","v":0}]
[null,null,null,null,null,null,null,null,{"$f":"A48","v":"Récap 31/05"},{"$f":"B47","v":0},{"$f":"D47","v":0},{"$f":"D48","v":0}]
[null,{"$f":"SUM(B42:B46)","v":0},null,{"$f":"SUM(D42:D46)","v":0},null,{"$f":"SUM(F42:F46)","v":0},null,{"$f":"SUM(H42:H46)","v":0},{"$f":"E48","v":"Récap 30/06"},{"$f":"F47","v":0},{"$f":"H47","v":0},{"$f":"H48","v":0}]
["Récap 31/05",null,null,{"$f":"+B47-D47","v":0},"Récap 30/06",null,null,{"$f":"+F47-H47","v":0},"Situation 30/06",{"$f":"SUM(J42:J47)","v":0},{"$f":"SUM(K42:K47)","v":0},{"$f":"SUM(L41:L47)","v":32.9}]
[]
[null,null,null,null,null,null,null,null,null,null,null,{"$f":"F23+J48-G23-K48+B8","v":32.9}]
[]
[null,null,null,null,null,null,null,null,null,{"$f":"B13+F13+J13+B24+J24+B35+F35+J35+B47+F47","v":0},{"$f":"D13+H13+L13+D24+L24+D35+H35+L35+D47+H47","v":0},{"$f":"B8+J52-K52","v":32.9}]

{"sheet":"OULJIHATE","index":130,"n_rows":52,"n_cols":12,"rows_kept":52,"cut":false,"hidden":false,"merged":[[39,4,39,5],[39,6,39,7],[47,0,47,2],[47,4,47,6],[35,0,35,2],[35,4,35,6],[35,8,35,10],[37,9,37,10],[38,0,38,3],[38,4,38,7],[38,8,38,11],[26,0,26,3],[26,4,26,7],[26,8,26,11],[27,4,27,5],[27,6,27,7],[27,8,27,9],[27,10,27,11],[16,0,16,1],[16,2,16,3],[16,8,16,9],[16,10,16,11],[24,0,24,2],[24,8,24,10],[13,0,13,2],[13,4,13,6],[13,8,13,10],[15,0,15,3],[15,4,15,7],[15,8,15,11],[5,10,5,11],[0,9,0,10],[2,1,2,2],[2,4,2,5],[2,8,2,9],[4,0,4,3],[4,4,4,7],[4,8,4,11],[5,0,5,1],[5,2,5,3],[5,4,5,5],[5,6,5,7],[5,8,5,9]]}
[null,null,null,null,null,null,null,null,null,"Année scolaire : ",null,{"$f":"' Liste élèves'!B1","v":"2018-2019"}]
[]
["NOM : ",{"$f":"' Liste élèves'!A131","v":"OULJIHATE"},null,"PRENOM:",{"$f":"' Liste élèves'!B131","v":"Wassin"},null,null,"CLASSE :",{"$f":"' Liste élèves'!C131","v":"Classe 12"}]
[]
["SEPTEMBRE",null,null,null,"OCTOBRE",null,null,null,"NOVEMBRE"]
["RECETTES",null,"DEPENSES",null,"RECETTES",null,"DEPENSES",null,"RECETTES",null,"DEPENSES"]
["Dates","Montant","Activités","Montant","Dates","Montant","Activités","Montant","Dates","Montant","Activités","Montant"]
["Report juin",114.5]
[]
[]
[]
[]
[null,{"$f":"SUM(B9:B12)","v":0},null,{"$f":"SUM(D8:D12)","v":0},null,{"$f":"SUM(F8:F12)","v":0},null,{"$f":"SUM(H8:H12)","v":0},null,{"$f":"SUM(J8:J12)","v":0},null,{"$f":"SUM(L8:L12)","v":0}]
["Récap 30/09",null,null,{"$f":"+B13-D13","v":0},"Récap 31/10",null,null,{"$f":"+F13-H13","v":0},"Récap 30/11",null,null,{"$f":"+J13-L13","v":0}]
[]
["DÉCEMBRE",null,null,null,"Situation fin décembre",null,null,null,"JANVIER"]
["RECETTES",null,"DEPENSES",null,null,"Recettes","Dépenses","Total","RECETTES",null,"DEPENSES"]
["Dates","Montant","Activités","Montant",{"$f":"A14","v":"Récap 30/09"},{"$f":"B13","v":0},{"$f":"D13","v":0},{"$f":"D14","v":0},"Dates","Montant","Activités","Montant"]
[null,null,null,null,{"$f":"E14","v":"Récap 31/10"},{"$f":"F13","v":0},{"$f":"H13","v":0},{"$f":"H14","v":0}]
[null,null,null,null,{"$f":"I14","v":"Récap 30/11"},{"$f":"J13","v":0},{"$f":"L13","v":0},{"$f":"L14","v":0}]
[null,null,null,null,{"$f":"A25","v":"Récap 31/12"},{"$f":"B24","v":0},{"$f":"D24","v":0},{"$f":"D25","v":0}]
[null,null,null,null,"Report Sept",null,null,{"$f":"B8","v":114.5}]
[null,null,null,null,"Situation 31/12",{"$f":"SUM(F18:F22)","v":0},{"$f":"SUM(G18:G22)","v":0},{"$f":"SUM(H18:H22)","v":114.5}]
[null,{"$f":"SUM(B19:B23)","v":0},null,{"$f":"SUM(D19:D23)","v":0},null,null,null,null,null,{"$f":"SUM(J19:J23)","v":0},null,{"$f":"SUM(L19:L23)","v":0}]
["Récap 31/12",null,null,{"$f":"+B24-D24","v":0},null,null,null,null,"Récap 31/01",null,null,{"$f":"+J24-L24","v":0}]
[]
["FÉVRIER",null,null,null,"MARS",null,null,null,"AVRIL"]
["RECETTES",null,"DEPENSES",null,"RECETTES",null,"DEPENSES",null,"RECETTES",null,"DEPENSES"]
["Dates","Montant","Activités","Montant","Dates","Montant","Activités","Montant","Dates","Montant","Activités","Montant"]
[]
[]
[]
[]
[]
[null,{"$f":"SUM(B30:B34)","v":0},null,{"$f":"SUM(D30:D34)","v":0},null,{"$f":"SUM(F30:F34)","v":0},null,{"$f":"SUM(H30:H34)","v":0},null,{"$f":"SUM(J30:J34)","v":0},null,{"$f":"SUM(L30:L34)","v":0}]
["Récap 28/02",null,null,{"$f":"+B35-D35","v":0},"Récap 31/03",null,null,{"$f":"+F35-H35","v":0},"Récap 30/04",null,null,{"$f":"+J35-L35","v":0}]
[]
[]
["MAI",null,null,null,"JUIN",null,null,null,"Situation fin juin"]
["RECETTES",null,"DEPENSES",null,"RECETTES",null,"DEPENSES",null,null,"Recettes","Dépenses","Total"]
["Dates","Montant","Activités","Montant","Dates","Montant","Activités","Montant",{"$f":"E23","v":"Situation 31/12"},null,null,{"$f":"H23","v":114.5}]
[null,null,null,null,null,null,null,null,{"$f":"I25","v":"Récap 31/01"},{"$f":"J24","v":0},{"$f":"L24","v":0},{"$f":"L25","v":0}]
[null,null,null,null,null,null,null,null,{"$f":"A36","v":"Récap 28/02"},{"$f":"B35","v":0},{"$f":"D35","v":0},{"$f":"D36","v":0}]
[null,null,null,null,null,null,null,null,{"$f":"E36","v":"Récap 31/03"},{"$f":"F35","v":0},{"$f":"H35","v":0},{"$f":"H36","v":0}]
[null,null,null,null,null,null,null,null,{"$f":"I36","v":"Récap 30/04"},{"$f":"J35","v":0},{"$f":"L35","v":0},{"$f":"L36","v":0}]
[null,null,null,null,null,null,null,null,{"$f":"A48","v":"Récap 31/05"},{"$f":"B47","v":0},{"$f":"D47","v":0},{"$f":"D48","v":0}]
[null,{"$f":"SUM(B42:B46)","v":0},null,{"$f":"SUM(D42:D46)","v":0},null,{"$f":"SUM(F42:F46)","v":0},null,{"$f":"SUM(H42:H46)","v":0},{"$f":"E48","v":"Récap 30/06"},{"$f":"F47","v":0},{"$f":"H47","v":0},{"$f":"H48","v":0}]
["Récap 31/05",null,null,{"$f":"+B47-D47","v":0},"Récap 30/06",null,null,{"$f":"+F47-H47","v":0},"Situation 30/06",{"$f":"SUM(J42:J47)","v":0},{"$f":"SUM(K42:K47)","v":0},{"$f":"SUM(L41:L47)","v":114.5}]
[]
[null,null,null,null,null,null,null,null,null,null,null,{"$f":"F23+J48-G23-K48+B8","v":114.5}]
[]
[null,null,null,null,null,null,null,null,null,{"$f":"B13+F13+J13+B24+J24+B35+F35+J35+B47+F47","v":0},{"$f":"D13+H13+L13+D24+L24+D35+H35+L35+D47+H47","v":0},{"$f":"B8+J52-K52","v":114.5}]

{"sheet":"OZMEN","index":131,"n_rows":52,"n_cols":12,"rows_kept":52,"cut":false,"hidden":false,"merged":[[0,9,0,10],[2,1,2,2],[2,4,2,5],[2,8,2,9],[5,8,5,9],[5,10,5,11],[4,0,4,3],[4,4,4,7],[4,8,4,11],[5,0,5,1],[5,2,5,3],[5,4,5,5],[5,6,5,7],[24,0,24,2],[13,0,13,2],[13,4,13,6],[16,2,16,3],[37,9,37,10],[16,0,16,1],[27,6,27,7],[24,8,24,10],[38,8,38,11],[13,8,13,10],[15,0,15,3],[15,4,15,7],[15,8,15,11],[16,10,16,11],[26,0,26,3],[26,4,26,7],[26,8,26,11],[27,8,27,9],[35,0,35,2],[35,4,35,6],[35,8,35,10],[27,10,27,11],[16,8,16,9],[27,4,27,5],[47,0,47,2],[47,4,47,6],[38,0,38,3],[38,4,38,7],[39,4,39,5],[39,6,39,7]]}
[" ",null,null,null,null,null,null,null,null,"Année scolaire : ",null,{"$f":"' Liste élèves'!B1","v":"2018-2019"}]
[]
["NOM : ",{"$f":"' Liste élèves'!A132","v":"OZMEN"},null,"PRENOM:",{"$f":"' Liste élèves'!B132","v":"Furkan"},null,null,"CLASSE :",{"$f":"' Liste élèves'!C132","v":"Classe 6"}]
[]
["SEPTEMBRE",null,null,null,"OCTOBRE",null,null,null,"NOVEMBRE"]
["RECETTES",null,"DEPENSES",null,"RECETTES",null,"DEPENSES",null,"RECETTES",null,"DEPENSES"]
["Dates","Montant","Activités","Montant","Dates","Montant","Activités","Montant","Dates","Montant","Activités","Montant"]
["Report juin",60.03]
[]
[]
[]
[]
[null,{"$f":"SUM(B9:B12)","v":0},null,{"$f":"SUM(D8:D12)","v":0},null,{"$f":"SUM(F8:F12)","v":0},null,{"$f":"SUM(H8:H12)","v":0},null,{"$f":"SUM(J8:J12)","v":0},null,{"$f":"SUM(L8:L12)","v":0}]
["Récap 30/09",null,null,{"$f":"+B13-D13","v":0},"Récap 31/10",null,null,{"$f":"+F13-H13","v":0},"Récap 30/11",null,null,{"$f":"+J13-L13","v":0}]
[]
["DÉCEMBRE",null,null,null,"Situation fin décembre",null,null,null,"JANVIER"]
["RECETTES",null,"DEPENSES",null,null,"Recettes","Dépenses","Total","RECETTES",null,"DEPENSES"]
["Dates","Montant","Activités","Montant",{"$f":"A14","v":"Récap 30/09"},{"$f":"B13","v":0},{"$f":"D13","v":0},{"$f":"D14","v":0},"Dates","Montant","Activités","Montant"]
[null,null,null,null,{"$f":"E14","v":"Récap 31/10"},{"$f":"F13","v":0},{"$f":"H13","v":0},{"$f":"H14","v":0}]
[null,null,null,null,{"$f":"I14","v":"Récap 30/11"},{"$f":"J13","v":0},{"$f":"L13","v":0},{"$f":"L14","v":0}]
[null,null,null,null,{"$f":"A25","v":"Récap 31/12"},{"$f":"B24","v":0},{"$f":"D24","v":0},{"$f":"D25","v":0}]
[null,null,null,null,"Report Sept",null,null,{"$f":"B8","v":60.03}]
[null,null,null,null,"Situation 31/12",{"$f":"SUM(F18:F22)","v":0},{"$f":"SUM(G18:G22)","v":0},{"$f":"SUM(H18:H22)","v":60.03}]
[null,{"$f":"SUM(B19:B23)","v":0},null,{"$f":"SUM(D19:D23)","v":0},null,null,null,null,null,{"$f":"SUM(J19:J23)","v":0},null,{"$f":"SUM(L19:L23)","v":0}]
["Récap 31/12",null,null,{"$f":"+B24-D24","v":0},null,null,null,null,"Récap 31/01",null,null,{"$f":"+J24-L24","v":0}]
[]
["FÉVRIER",null,null,null,"MARS",null,null,null,"AVRIL"]
["RECETTES",null,"DEPENSES",null,"RECETTES",null,"DEPENSES",null,"RECETTES",null,"DEPENSES"]
["Dates","Montant","Activités","Montant","Dates","Montant","Activités","Montant","Dates","Montant","Activités","Montant"]
[]
[]
[]
[]
[]
[null,{"$f":"SUM(B30:B34)","v":0},null,{"$f":"SUM(D30:D34)","v":0},null,{"$f":"SUM(F30:F34)","v":0},null,{"$f":"SUM(H30:H34)","v":0},null,{"$f":"SUM(J30:J34)","v":0},null,{"$f":"SUM(L30:L34)","v":0}]
["Récap 28/02",null,null,{"$f":"+B35-D35","v":0},"Récap 31/03",null,null,{"$f":"+F35-H35","v":0},"Récap 30/04",null,null,{"$f":"+J35-L35","v":0}]
[]
[]
["MAI",null,null,null,"JUIN",null,null,null,"Situation fin juin"]
["RECETTES",null,"DEPENSES",null,"RECETTES",null,"DEPENSES",null,null,"Recettes","Dépenses","Total"]
["Dates","Montant","Activités","Montant","Dates","Montant","Activités","Montant",{"$f":"E23","v":"Situation 31/12"},null,null,{"$f":"H23","v":60.03}]
[null,null,null,null,null,null,null,null,{"$f":"I25","v":"Récap 31/01"},{"$f":"J24","v":0},{"$f":"L24","v":0},{"$f":"L25","v":0}]
[null,null,null,null,null,null,null,null,{"$f":"A36","v":"Récap 28/02"},{"$f":"B35","v":0},{"$f":"D35","v":0},{"$f":"D36","v":0}]
[null,null,null,null,null,null,null,null,{"$f":"E36","v":"Récap 31/03"},{"$f":"F35","v":0},{"$f":"H35","v":0},{"$f":"H36","v":0}]
[null,null,null,null,null,null,null,null,{"$f":"I36","v":"Récap 30/04"},{"$f":"J35","v":0},{"$f":"L35","v":0},{"$f":"L36","v":0}]
[null,null,null,null,null,null,null,null,{"$f":"A48","v":"Récap 31/05"},{"$f":"B47","v":0},{"$f":"D47","v":0},{"$f":"D48","v":0}]
[null,{"$f":"SUM(B42:B46)","v":0},null,{"$f":"SUM(D42:D46)","v":0},null,{"$f":"SUM(F42:F46)","v":0},null,{"$f":"SUM(H42:H46)","v":0},{"$f":"E48","v":"Récap 30/06"},{"$f":"F47","v":0},{"$f":"H47","v":0},{"$f":"H48","v":0}]
["Récap 31/05",null,null,{"$f":"+B47-D47","v":0},"Récap 30/06",null,null,{"$f":"+F47-H47","v":0},"Situation 30/06",{"$f":"SUM(J42:J47)","v":0},{"$f":"SUM(K42:K47)","v":0},{"$f":"SUM(L41:L47)","v":60.03}]
[]
[null,null,null,null,null,null,null,null,null,null,null,{"$f":"F23+J48-G23-K48+B8","v":60.03}]
[]
[null,null,null,null,null,null,null,null,null,{"$f":"B13+F13+J13+B24+J24+B35+F35+J35+B47+F47","v":0},{"$f":"D13+H13+L13+D24+L24+D35+H35+L35+D47+H47","v":0},{"$f":"B8+J52-K52","v":60.03}]

{"sheet":"PAULUS","index":132,"n_rows":52,"n_cols":12,"rows_kept":52,"cut":false,"hidden":false,"merged":[[0,9,0,10],[2,1,2,2],[2,4,2,5],[2,8,2,9],[5,8,5,9],[5,10,5,11],[4,0,4,3],[4,4,4,7],[4,8,4,11],[5,0,5,1],[5,2,5,3],[5,4,5,5],[5,6,5,7],[24,0,24,2],[13,0,13,2],[13,4,13,6],[16,2,16,3],[37,9,37,10],[16,0,16,1],[27,6,27,7],[24,8,24,10],[38,8,38,11],[13,8,13,10],[15,0,15,3],[15,4,15,7],[15,8,15,11],[16,10,16,11],[26,0,26,3],[26,4,26,7],[26,8,26,11],[27,8,27,9],[35,0,35,2],[35,4,35,6],[35,8,35,10],[27,10,27,11],[16,8,16,9],[27,4,27,5],[47,0,47,2],[47,4,47,6],[38,0,38,3],[38,4,38,7],[39,4,39,5],[39,6,39,7]]}
[null,null,null,null,null,null,null,null,null,"Année scolaire : ",null,{"$f":"' Liste élèves'!B1","v":"2018-2019"}]
[]
["NOM : ",{"$f":"' Liste élèves'!A133","v":"PAULUS"},null,"PRENOM:",{"$f":"' Liste élèves'!B133","v":"Kévin"},null,null,"CLASSE :",{"$f":"' Liste élèves'!C133","v":"Classe PC"}]
[]
["SEPTEMBRE",null,null,null,"OCTOBRE",null,null,null,"NOVEMBRE"]
["RECETTES",null,"DEPENSES",null,"RECETTES",null,"DEPENSES",null,"RECETTES",null,"DEPENSES"]
["Dates","Montant","Activités","Montant","Dates","Montant","Activités","Montant","Dates","Montant","Activités","Montant"]
["Report juin",35]
[]
[]
[]
[]
[null,{"$f":"SUM(B9:B12)","v":0},null,{"$f":"SUM(D8:D12)","v":0},null,{"$f":"SUM(F8:F12)","v":0},null,{"$f":"SUM(H8:H12)","v":0},null,{"$f":"SUM(J8:J12)","v":0},null,{"$f":"SUM(L8:L12)","v":0}]
["Récap 30/09",null,null,{"$f":"+B13-D13","v":0},"Récap 31/10",null,null,{"$f":"+F13-H13","v":0},"Récap 30/11",null,null,{"$f":"+J13-L13","v":0}]
[]
["DÉCEMBRE",null,null,null,"Situation fin décembre",null,null,null,"JANVIER"]
["RECETTES",null,"DEPENSES",null,null,"Recettes","Dépenses","Total","RECETTES",null,"DEPENSES"]
["Dates","Montant","Activités","Montant",{"$f":"A14","v":"Récap 30/09"},{"$f":"B13","v":0},{"$f":"D13","v":0},{"$f":"D14","v":0},"Dates","Montant","Activités","Montant"]
[null,null,null,null,{"$f":"E14","v":"Récap 31/10"},{"$f":"F13","v":0},{"$f":"H13","v":0},{"$f":"H14","v":0}]
[null,null,null,null,{"$f":"I14","v":"Récap 30/11"},{"$f":"J13","v":0},{"$f":"L13","v":0},{"$f":"L14","v":0}]
[null,null,null,null,{"$f":"A25","v":"Récap 31/12"},{"$f":"B24","v":0},{"$f":"D24","v":0},{"$f":"D25","v":0}]
[null,null,null,null,"Report Sept",null,null,{"$f":"B8","v":35}]
[null,null,null,null,"Situation 31/12",{"$f":"SUM(F18:F22)","v":0},{"$f":"SUM(G18:G22)","v":0},{"$f":"SUM(H18:H22)","v":35}]
[null,{"$f":"SUM(B19:B23)","v":0},null,{"$f":"SUM(D19:D23)","v":0},null,null,null,null,null,{"$f":"SUM(J19:J23)","v":0},null,{"$f":"SUM(L19:L23)","v":0}]
["Récap 31/12",null,null,{"$f":"+B24-D24","v":0},null,null,null,null,"Récap 31/01",null,null,{"$f":"+J24-L24","v":0}]
[]
["FÉVRIER",null,null,null,"MARS",null,null,null,"AVRIL"]
["RECETTES",null,"DEPENSES",null,"RECETTES",null,"DEPENSES",null,"RECETTES",null,"DEPENSES"]
["Dates","Montant","Activités","Montant","Dates","Montant","Activités","Montant","Dates","Montant","Activités","Montant"]
[]
[]
[]
[]
[]
[null,{"$f":"SUM(B30:B34)","v":0},null,{"$f":"SUM(D30:D34)","v":0},null,{"$f":"SUM(F30:F34)","v":0},null,{"$f":"SUM(H30:H34)","v":0},null,{"$f":"SUM(J30:J34)","v":0},null,{"$f":"SUM(L30:L34)","v":0}]
["Récap 28/02",null,null,{"$f":"+B35-D35","v":0},"Récap 31/03",null,null,{"$f":"+F35-H35","v":0},"Récap 30/04",null,null,{"$f":"+J35-L35","v":0}]
[]
[]
["MAI",null,null,null,"JUIN",null,null,null,"Situation fin juin"]
["RECETTES",null,"DEPENSES",null,"RECETTES",null,"DEPENSES",null,null,"Recettes","Dépenses","Total"]
["Dates","Montant","Activités","Montant","Dates","Montant","Activités","Montant",{"$f":"E23","v":"Situation 31/12"},null,null,{"$f":"H23","v":35}]
[null,null,null,null,null,null,null,null,{"$f":"I25","v":"Récap 31/01"},{"$f":"J24","v":0},{"$f":"L24","v":0},{"$f":"L25","v":0}]
[null,null,null,null,null,null,null,null,{"$f":"A36","v":"Récap 28/02"},{"$f":"B35","v":0},{"$f":"D35","v":0},{"$f":"D36","v":0}]
[null,null,null,null,null,null,null,null,{"$f":"E36","v":"Récap 31/03"},{"$f":"F35","v":0},{"$f":"H35","v":0},{"$f":"H36","v":0}]
[null,null,null,null,null,null,null,null,{"$f":"I36","v":"Récap 30/04"},{"$f":"J35","v":0},{"$f":"L35","v":0},{"$f":"L36","v":0}]
[null,null,null,null,null,null,null,null,{"$f":"A48","v":"Récap 31/05"},{"$f":"B47","v":0},{"$f":"D47","v":0},{"$f":"D48","v":0}]
[null,{"$f":"SUM(B42:B46)","v":0},null,{"$f":"SUM(D42:D46)","v":0},null,{"$f":"SUM(F42:F46)","v":0},null,{"$f":"SUM(H42:H46)","v":0},{"$f":"E48","v":"Récap 30/06"},{"$f":"F47","v":0},{"$f":"H47","v":0},{"$f":"H48","v":0}]
["Récap 31/05",null,null,{"$f":"+B47-D47","v":0},"Récap 30/06",null,null,{"$f":"+F47-H47","v":0},"Situation 30/06",{"$f":"SUM(J42:J47)","v":0},{"$f":"SUM(K42:K47)","v":0},{"$f":"SUM(L41:L47)","v":35}]
[]
[null,null,null,null,null,null,null,null,null,null,null,{"$f":"F23+J48-G23-K48+B8","v":35}]
[]
[null,null,null,null,null,null,null,null,null,{"$f":"B13+F13+J13+B24+J24+B35+F35+J35+B47+F47","v":0},{"$f":"D13+H13+L13+D24+L24+D35+H35+L35+D47+H47","v":0},{"$f":"B8+J52-K52","v":35}]

{"sheet":"PAYEN","index":133,"n_rows":52,"n_cols":12,"rows_kept":52,"cut":false,"hidden":false,"merged":[[5,10,5,11],[0,9,0,10],[2,1,2,2],[2,4,2,5],[2,8,2,9],[4,0,4,3],[4,4,4,7],[4,8,4,11],[5,0,5,1],[5,2,5,3],[5,4,5,5],[5,6,5,7],[5,8,5,9],[13,0,13,2],[13,4,13,6],[13,8,13,10],[15,0,15,3],[15,4,15,7],[15,8,15,11],[16,0,16,1],[16,2,16,3],[16,8,16,9],[16,10,16,11],[24,0,24,2],[24,8,24,10],[26,0,26,3],[26,4,26,7],[26,8,26,11],[27,4,27,5],[27,6,27,7],[27,8,27,9],[27,10,27,11],[35,8,35,10],[37,9,37,10],[38,0,38,3],[38,4,38,7],[38,8,38,11],[39,4,39,5],[39,6,39,7],[47,0,47,2],[47,4,47,6],[35,0,35,2],[35,4,35,6]]}
[null,null,null,null,null,null,null,null,null,"Année scolaire : ",null,{"$f":"' Liste élèves'!B1","v":"2018-2019"}]
[]
["NOM : ",{"$f":"' Liste élèves'!A134","v":"PAYEN"},null,"PRENOM:",{"$f":"' Liste élèves'!B134","v":"Dorian"},null,null,"CLASSE :",{"$f":"' Liste élèves'!C134","v":"Classe 12"}]
[]
["SEPTEMBRE",null,null,null,"OCTOBRE",null,null,null,"NOVEMBRE"]
["RECETTES",null,"DEPENSES",null,"RECETTES",null,"DEPENSES",null,"RECETTES",null,"DEPENSES"]
["Dates","Montant","Activités","Montant","Dates","Montant","Activités","Montant","Dates","Montant","Activités","Montant"]
["Report juin"]
[]
[]
[]
[]
[null,{"$f":"SUM(B9:B12)","v":0},null,{"$f":"SUM(D8:D12)","v":0},null,{"$f":"SUM(F8:F12)","v":0},null,{"$f":"SUM(H8:H12)","v":0},null,{"$f":"SUM(J8:J12)","v":0},null,{"$f":"SUM(L8:L12)","v":0}]
["Récap 30/09",null,null,{"$f":"+B13-D13","v":0},"Récap 31/10",null,null,{"$f":"+F13-H13","v":0},"Récap 30/11",null,null,{"$f":"+J13-L13","v":0}]
[]
["DÉCEMBRE",null,null,null,"Situation fin décembre",null,null,null,"JANVIER"]
["RECETTES",null,"DEPENSES",null,null,"Recettes","Dépenses","Total","RECETTES",null,"DEPENSES"]
["Dates","Montant","Activités","Montant",{"$f":"A14","v":"Récap 30/09"},{"$f":"B13","v":0},{"$f":"D13","v":0},{"$f":"D14","v":0},"Dates","Montant","Activités","Montant"]
[null,null,null,null,{"$f":"E14","v":"Récap 31/10"},{"$f":"F13","v":0},{"$f":"H13","v":0},{"$f":"H14","v":0}]
[null,null,null,null,{"$f":"I14","v":"Récap 30/11"},{"$f":"J13","v":0},{"$f":"L13","v":0},{"$f":"L14","v":0}]
[null,null,null,null,{"$f":"A25","v":"Récap 31/12"},{"$f":"B24","v":0},{"$f":"D24","v":0},{"$f":"D25","v":0}]
[null,null,null,null,"Report Sept",null,null,{"$f":"B8","v":0}]
[null,null,null,null,"Situation 31/12",{"$f":"SUM(F18:F22)","v":0},{"$f":"SUM(G18:G22)","v":0},{"$f":"SUM(H18:H22)","v":0}]
[null,{"$f":"SUM(B19:B23)","v":0},null,{"$f":"SUM(D19:D23)","v":0},null,null,null,null,null,{"$f":"SUM(J19:J23)","v":0},null,{"$f":"SUM(L19:L23)","v":0}]
["Récap 31/12",null,null,{"$f":"+B24-D24","v":0},null,null,null,null,"Récap 31/01",null,null,{"$f":"+J24-L24","v":0}]
[]
["FÉVRIER",null,null,null,"MARS",null,null,null,"AVRIL"]
["RECETTES",null,"DEPENSES",null,"RECETTES",null,"DEPENSES",null,"RECETTES",null,"DEPENSES"]
["Dates","Montant","Activités","Montant","Dates","Montant","Activités","Montant","Dates","Montant","Activités","Montant"]
[]
[]
[]
[]
[]
[null,{"$f":"SUM(B30:B34)","v":0},null,{"$f":"SUM(D30:D34)","v":0},null,{"$f":"SUM(F30:F34)","v":0},null,{"$f":"SUM(H30:H34)","v":0},null,{"$f":"SUM(J30:J34)","v":0},null,{"$f":"SUM(L30:L34)","v":0}]
["Récap 28/02",null,null,{"$f":"+B35-D35","v":0},"Récap 31/03",null,null,{"$f":"+F35-H35","v":0},"Récap 30/04",null,null,{"$f":"+J35-L35","v":0}]
[]
[]
["MAI",null,null,null,"JUIN",null,null,null,"Situation fin juin"]
["RECETTES",null,"DEPENSES",null,"RECETTES",null,"DEPENSES",null,null,"Recettes","Dépenses","Total"]
["Dates","Montant","Activités","Montant","Dates","Montant","Activités","Montant",{"$f":"E23","v":"Situation 31/12"},null,null,{"$f":"H23","v":0}]
[null,null,null,null,null,null,null,null,{"$f":"I25","v":"Récap 31/01"},{"$f":"J24","v":0},{"$f":"L24","v":0},{"$f":"L25","v":0}]
[null,null,null,null,null,null,null,null,{"$f":"A36","v":"Récap 28/02"},{"$f":"B35","v":0},{"$f":"D35","v":0},{"$f":"D36","v":0}]
[null,null,null,null,null,null,null,null,{"$f":"E36","v":"Récap 31/03"},{"$f":"F35","v":0},{"$f":"H35","v":0},{"$f":"H36","v":0}]
[null,null,null,null,null,null,null,null,{"$f":"I36","v":"Récap 30/04"},{"$f":"J35","v":0},{"$f":"L35","v":0},{"$f":"L36","v":0}]
[null,null,null,null,null,null,null,null,{"$f":"A48","v":"Récap 31/05"},{"$f":"B47","v":0},{"$f":"D47","v":0},{"$f":"D48","v":0}]
[null,{"$f":"SUM(B42:B46)","v":0},null,{"$f":"SUM(D42:D46)","v":0},null,{"$f":"SUM(F42:F46)","v":0},null,{"$f":"SUM(H42:H46)","v":0},{"$f":"E48","v":"Récap 30/06"},{"$f":"F47","v":0},{"$f":"H47","v":0},{"$f":"H48","v":0}]
["Récap 31/05",null,null,{"$f":"+B47-D47","v":0},"Récap 30/06",null,null,{"$f":"+F47-H47","v":0},"Situation 30/06",{"$f":"SUM(J42:J47)","v":0},{"$f":"SUM(K42:K47)","v":0},{"$f":"SUM(L41:L47)","v":0}]
[]
[null,null,null,null,null,null,null,null,null,null,null,{"$f":"F23+J48-G23-K48+B8","v":0}]
[]
[null,null,null,null,null,null,null,null,null,{"$f":"B13+F13+J13+B24+J24+B35+F35+J35+B47+F47","v":0},{"$f":"D13+H13+L13+D24+L24+D35+H35+L35+D47+H47","v":0},{"$f":"B8+J52-K52","v":0}]

{"sheet":"PENSIS","index":134,"n_rows":52,"n_cols":12,"rows_kept":52,"cut":false,"hidden":false,"merged":[[0,9,0,10],[2,1,2,2],[2,4,2,5],[2,8,2,9],[5,8,5,9],[5,10,5,11],[4,0,4,3],[4,4,4,7],[4,8,4,11],[5,0,5,1],[5,2,5,3],[5,4,5,5],[5,6,5,7],[24,0,24,2],[13,0,13,2],[13,4,13,6],[16,2,16,3],[37,9,37,10],[16,0,16,1],[27,6,27,7],[24,8,24,10],[38,8,38,11],[13,8,13,10],[15,0,15,3],[15,4,15,7],[15,8,15,11],[16,10,16,11],[26,0,26,3],[26,4,26,7],[26,8,26,11],[27,8,27,9],[35,0,35,2],[35,4,35,6],[35,8,35,10],[27,10,27,11],[16,8,16,9],[27,4,27,5],[47,0,47,2],[47,4,47,6],[38,0,38,3],[38,4,38,7],[39,4,39,5],[39,6,39,7]]}
[null,null,null,null,null,null,null,null,null,"Année scolaire : ",null,{"$f":"' Liste élèves'!B1","v":"2018-2019"}]
[]
["NOM : ",{"$f":"' Liste élèves'!A135","v":"PENSIS"},null,"PRENOM:",{"$f":"' Liste élèves'!B135","v":"Loris"},null,null,"CLASSE :",{"$f":"' Liste élèves'!C135","v":"Classe PA"}]
[]
["SEPTEMBRE",null,null,null,"OCTOBRE",null,null,null,"NOVEMBRE"]
["RECETTES",null,"DEPENSES",null,"RECETTES",null,"DEPENSES",null,"RECETTES",null,"DEPENSES"]
["Dates","Montant","Activités","Montant","Dates","Montant","Activités","Montant","Dates","Montant","Activités","Montant"]
["Report juin",52.5]
[]
[]
[]
[]
[null,{"$f":"SUM(B9:B12)","v":0},null,{"$f":"SUM(D8:D12)","v":0},null,{"$f":"SUM(F8:F12)","v":0},null,{"$f":"SUM(H8:H12)","v":0},null,{"$f":"SUM(J8:J12)","v":0},null,{"$f":"SUM(L8:L12)","v":0}]
["Récap 30/09",null,null,{"$f":"+B13-D13","v":0},"Récap 31/10",null,null,{"$f":"+F13-H13","v":0},"Récap 30/11",null,null,{"$f":"+J13-L13","v":0}]
[]
["DÉCEMBRE",null,null,null,"Situation fin décembre",null,null,null,"JANVIER"]
["RECETTES",null,"DEPENSES",null,null,"Recettes","Dépenses","Total","RECETTES",null,"DEPENSES"]
["Dates","Montant","Activités","Montant",{"$f":"A14","v":"Récap 30/09"},{"$f":"B13","v":0},{"$f":"D13","v":0},{"$f":"D14","v":0},"Dates","Montant","Activités","Montant"]
[null,null,null,null,{"$f":"E14","v":"Récap 31/10"},{"$f":"F13","v":0},{"$f":"H13","v":0},{"$f":"H14","v":0}]
[null,null,null,null,{"$f":"I14","v":"Récap 30/11"},{"$f":"J13","v":0},{"$f":"L13","v":0},{"$f":"L14","v":0}]
[null,null,null,null,{"$f":"A25","v":"Récap 31/12"},{"$f":"B24","v":0},{"$f":"D24","v":0},{"$f":"D25","v":0}]
[null,null,null,null,"Report Sept",null,null,{"$f":"B8","v":52.5}]
[null,null,null,null,"Situation 31/12",{"$f":"SUM(F18:F22)","v":0},{"$f":"SUM(G18:G22)","v":0},{"$f":"SUM(H18:H22)","v":52.5}]
[null,{"$f":"SUM(B19:B23)","v":0},null,{"$f":"SUM(D19:D23)","v":0},null,null,null,null,null,{"$f":"SUM(J19:J23)","v":0},null,{"$f":"SUM(L19:L23)","v":0}]
["Récap 31/12",null,null,{"$f":"+B24-D24","v":0},null,null,null,null,"Récap 31/01",null,null,{"$f":"+J24-L24","v":0}]
[]
["FÉVRIER",null,null,null,"MARS",null,null,null,"AVRIL"]
["RECETTES",null,"DEPENSES",null,"RECETTES",null,"DEPENSES",null,"RECETTES",null,"DEPENSES"]
["Dates","Montant","Activités","Montant","Dates","Montant","Activités","Montant","Dates","Montant","Activités","Montant"]
[]
[]
[]
[]
[]
[null,{"$f":"SUM(B30:B34)","v":0},null,{"$f":"SUM(D30:D34)","v":0},null,{"$f":"SUM(F30:F34)","v":0},null,{"$f":"SUM(H30:H34)","v":0},null,{"$f":"SUM(J30:J34)","v":0},null,{"$f":"SUM(L30:L34)","v":0}]
["Récap 28/02",null,null,{"$f":"+B35-D35","v":0},"Récap 31/03",null,null,{"$f":"+F35-H35","v":0},"Récap 30/04",null,null,{"$f":"+J35-L35","v":0}]
[]
[]
["MAI",null,null,null,"JUIN",null,null,null,"Situation fin juin"]
["RECETTES",null,"DEPENSES",null,"RECETTES",null,"DEPENSES",null,null,"Recettes","Dépenses","Total"]
["Dates","Montant","Activités","Montant","Dates","Montant","Activités","Montant",{"$f":"E23","v":"Situation 31/12"},null,null,{"$f":"H23","v":52.5}]
[null,null,null,null,null,null,null,null,{"$f":"I25","v":"Récap 31/01"},{"$f":"J24","v":0},{"$f":"L24","v":0},{"$f":"L25","v":0}]
[null,null,null,null,null,null,null,null,{"$f":"A36","v":"Récap 28/02"},{"$f":"B35","v":0},{"$f":"D35","v":0},{"$f":"D36","v":0}]
[null,null,null,null,null,null,null,null,{"$f":"E36","v":"Récap 31/03"},{"$f":"F35","v":0},{"$f":"H35","v":0},{"$f":"H36","v":0}]
[null,null,null,null,null,null,null,null,{"$f":"I36","v":"Récap 30/04"},{"$f":"J35","v":0},{"$f":"L35","v":0},{"$f":"L36","v":0}]
[null,null,null,null,null,null,null,null,{"$f":"A48","v":"Récap 31/05"},{"$f":"B47","v":0},{"$f":"D47","v":0},{"$f":"D48","v":0}]
[null,{"$f":"SUM(B42:B46)","v":0},null,{"$f":"SUM(D42:D46)","v":0},null,{"$f":"SUM(F42:F46)","v":0},null,{"$f":"SUM(H42:H46)","v":0},{"$f":"E48","v":"Récap 30/06"},{"$f":"F47","v":0},{"$f":"H47","v":0},{"$f":"H48","v":0}]
["Récap 31/05",null,null,{"$f":"+B47-D47","v":0},"Récap 30/06",null,null,{"$f":"+F47-H47","v":0},"Situation 30/06",{"$f":"SUM(J42:J47)","v":0},{"$f":"SUM(K42:K47)","v":0},{"$f":"SUM(L41:L47)","v":52.5}]
[]
[null,null,null,null,null,null,null,null,null,null,null,{"$f":"F23+J48-G23-K48+B8","v":52.5}]
[]
[null,null,null,null,null,null,null,null,null,{"$f":"B13+F13+J13+B24+J24+B35+F35+J35+B47+F47","v":0},{"$f":"D13+H13+L13+D24+L24+D35+H35+L35+D47+H47","v":0},{"$f":"B8+J52-K52","v":52.5}]

{"sheet":"PERRONE","index":135,"n_rows":52,"n_cols":12,"rows_kept":52,"cut":false,"hidden":false,"merged":[[0,9,0,10],[2,1,2,2],[2,4,2,5],[2,8,2,9],[5,8,5,9],[5,10,5,11],[4,0,4,3],[4,4,4,7],[4,8,4,11],[5,0,5,1],[5,2,5,3],[5,4,5,5],[5,6,5,7],[24,0,24,2],[13,0,13,2],[13,4,13,6],[16,2,16,3],[37,9,37,10],[16,0,16,1],[27,6,27,7],[24,8,24,10],[38,8,38,11],[13,8,13,10],[15,0,15,3],[15,4,15,7],[15,8,15,11],[16,10,16,11],[26,0,26,3],[26,4,26,7],[26,8,26,11],[27,8,27,9],[35,0,35,2],[35,4,35,6],[35,8,35,10],[27,10,27,11],[16,8,16,9],[27,4,27,5],[47,0,47,2],[47,4,47,6],[38,0,38,3],[38,4,38,7],[39,4,39,5],[39,6,39,7]]}
[null,null,null,null,null,null,null,null,null,"Année scolaire : ",null,{"$f":"' Liste élèves'!B1","v":"2018-2019"}]
[]
["NOM : ",{"$f":"' Liste élèves'!A136","v":"PERRONE"},null,"PRENOM:",{"$f":"' Liste élèves'!B136","v":"Luigi"},null,null,"CLASSE :",{"$f":"' Liste élèves'!C136","v":"Classe AA"}]
[]
["SEPTEMBRE",null,null,null,"OCTOBRE",null,null,null,"NOVEMBRE"]
["RECETTES",null,"DEPENSES",null,"RECETTES",null,"DEPENSES",null,"RECETTES",null,"DEPENSES"]
["Dates","Montant","Activités","Montant","Dates","Montant","Activités","Montant","Dates","Montant","Activités","Montant"]
["Report juin",50]
[]
[]
[]
[]
[null,{"$f":"SUM(B9:B12)","v":0},null,{"$f":"SUM(D8:D12)","v":0},null,{"$f":"SUM(F8:F12)","v":0},null,{"$f":"SUM(H8:H12)","v":0},null,{"$f":"SUM(J8:J12)","v":0},null,{"$f":"SUM(L8:L12)","v":0}]
["Récap 30/09",null,null,{"$f":"+B13-D13","v":0},"Récap 31/10",null,null,{"$f":"+F13-H13","v":0},"Récap 30/11",null,null,{"$f":"+J13-L13","v":0}]
[]
["DÉCEMBRE",null,null,null,"Situation fin décembre",null,null,null,"JANVIER"]
["RECETTES",null,"DEPENSES",null,null,"Recettes","Dépenses","Total","RECETTES",null,"DEPENSES"]
["Dates","Montant","Activités","Montant",{"$f":"A14","v":"Récap 30/09"},{"$f":"B13","v":0},{"$f":"D13","v":0},{"$f":"D14","v":0},"Dates","Montant","Activités","Montant"]
[null,null,null,null,{"$f":"E14","v":"Récap 31/10"},{"$f":"F13","v":0},{"$f":"H13","v":0},{"$f":"H14","v":0}]
[null,null,null,null,{"$f":"I14","v":"Récap 30/11"},{"$f":"J13","v":0},{"$f":"L13","v":0},{"$f":"L14","v":0}]
[null,null,null,null,{"$f":"A25","v":"Récap 31/12"},{"$f":"B24","v":0},{"$f":"D24","v":0},{"$f":"D25","v":0}]
[null,null,null,null,"Report Sept",null,null,{"$f":"B8","v":50}]
[null,null,null,null,"Situation 31/12",{"$f":"SUM(F18:F22)","v":0},{"$f":"SUM(G18:G22)","v":0},{"$f":"SUM(H18:H22)","v":50}]
[null,{"$f":"SUM(B19:B23)","v":0},null,{"$f":"SUM(D19:D23)","v":0},null,null,null,null,null,{"$f":"SUM(J19:J23)","v":0},null,{"$f":"SUM(L19:L23)","v":0}]
["Récap 31/12",null,null,{"$f":"+B24-D24","v":0},null,null,null,null,"Récap 31/01",null,null,{"$f":"+J24-L24","v":0}]
[]
["FÉVRIER",null,null,null,"MARS",null,null,null,"AVRIL"]
["RECETTES",null,"DEPENSES",null,"RECETTES",null,"DEPENSES",null,"RECETTES",null,"DEPENSES"]
["Dates","Montant","Activités","Montant","Dates","Montant","Activités","Montant","Dates","Montant","Activités","Montant"]
[]
[]
[]
[]
[]
[null,{"$f":"SUM(B30:B34)","v":0},null,{"$f":"SUM(D30:D34)","v":0},null,{"$f":"SUM(F30:F34)","v":0},null,{"$f":"SUM(H30:H34)","v":0},null,{"$f":"SUM(J30:J34)","v":0},null,{"$f":"SUM(L30:L34)","v":0}]
["Récap 28/02",null,null,{"$f":"+B35-D35","v":0},"Récap 31/03",null,null,{"$f":"+F35-H35","v":0},"Récap 30/04",null,null,{"$f":"+J35-L35","v":0}]
[]
[]
["MAI",null,null,null,"JUIN",null,null,null,"Situation fin juin"]
["RECETTES",null,"DEPENSES",null,"RECETTES",null,"DEPENSES",null,null,"Recettes","Dépenses","Total"]
["Dates","Montant","Activités","Montant","Dates","Montant","Activités","Montant",{"$f":"E23","v":"Situation 31/12"},null,null,{"$f":"H23","v":50}]
[null,null,null,null,null,null,null,null,{"$f":"I25","v":"Récap 31/01"},{"$f":"J24","v":0},{"$f":"L24","v":0},{"$f":"L25","v":0}]
[null,null,null,null,null,null,null,null,{"$f":"A36","v":"Récap 28/02"},{"$f":"B35","v":0},{"$f":"D35","v":0},{"$f":"D36","v":0}]
[null,null,null,null,null,null,null,null,{"$f":"E36","v":"Récap 31/03"},{"$f":"F35","v":0},{"$f":"H35","v":0},{"$f":"H36","v":0}]
[null,null,null,null,null,null,null,null,{"$f":"I36","v":"Récap 30/04"},{"$f":"J35","v":0},{"$f":"L35","v":0},{"$f":"L36","v":0}]
[null,null,null,null,null,null,null,null,{"$f":"A48","v":"Récap 31/05"},{"$f":"B47","v":0},{"$f":"D47","v":0},{"$f":"D48","v":0}]
[null,{"$f":"SUM(B42:B46)","v":0},null,{"$f":"SUM(D42:D46)","v":0},null,{"$f":"SUM(F42:F46)","v":0},null,{"$f":"SUM(H42:H46)","v":0},{"$f":"E48","v":"Récap 30/06"},{"$f":"F47","v":0},{"$f":"H47","v":0},{"$f":"H48","v":0}]
["Récap 31/05",null,null,{"$f":"+B47-D47","v":0},"Récap 30/06",null,null,{"$f":"+F47-H47","v":0},"Situation 30/06",{"$f":"SUM(J42:J47)","v":0},{"$f":"SUM(K42:K47)","v":0},{"$f":"SUM(L41:L47)","v":50}]
[]
[null,null,null,null,null,null,null,null,null,null,null,{"$f":"F23+J48-G23-K48+B8","v":50}]
[]
[null,null,null,null,null,null,null,null,null,{"$f":"B13+F13+J13+B24+J24+B35+F35+J35+B47+F47","v":0},{"$f":"D13+H13+L13+D24+L24+D35+H35+L35+D47+H47","v":0},{"$f":"B8+J52-K52","v":50}]

{"sheet":"PIEDFORTG","index":136,"n_rows":52,"n_cols":12,"rows_kept":52,"cut":false,"hidden":false,"merged":[[0,9,0,10],[2,1,2,2],[2,4,2,5],[2,8,2,9],[5,8,5,9],[5,10,5,11],[4,0,4,3],[4,4,4,7],[4,8,4,11],[5,0,5,1],[5,2,5,3],[5,4,5,5],[5,6,5,7],[24,0,24,2],[13,0,13,2],[13,4,13,6],[16,2,16,3],[37,9,37,10],[16,0,16,1],[27,6,27,7],[24,8,24,10],[38,8,38,11],[13,8,13,10],[15,0,15,3],[15,4,15,7],[15,8,15,11],[16,10,16,11],[26,0,26,3],[26,4,26,7],[26,8,26,11],[27,8,27,9],[35,0,35,2],[35,4,35,6],[35,8,35,10],[27,10,27,11],[16,8,16,9],[27,4,27,5],[47,0,47,2],[47,4,47,6],[38,0,38,3],[38,4,38,7],[39,4,39,5],[39,6,39,7]]}
[null,null,null,null,null,null,null,null,null,"Année scolaire : ",null,{"$f":"' Liste élèves'!B1","v":"2018-2019"}]
[]
["NOM : ",{"$f":"' Liste élèves'!A137","v":"PIEDFORTG"},null,"PRENOM:",{"$f":"' Liste élèves'!B137","v":"Gauthier"},null,null,"CLASSE :",{"$f":"' Liste élèves'!C137","v":"Classe MA"}]
[]
["SEPTEMBRE",null,null,null,"OCTOBRE",null,null,null,"NOVEMBRE"]
["RECETTES",null,"DEPENSES",null,"RECETTES",null,"DEPENSES",null,"RECETTES",null,"DEPENSES"]
["Dates","Montant","Activités","Montant","Dates","Montant","Activités","Montant","Dates","Montant","Activités","Montant"]
["Report juin",49]
[]
[]
[]
[]
[null,{"$f":"SUM(B9:B12)","v":0},null,{"$f":"SUM(D8:D12)","v":0},null,{"$f":"SUM(F8:F12)","v":0},null,{"$f":"SUM(H8:H12)","v":0},null,{"$f":"SUM(J8:J12)","v":0},null,{"$f":"SUM(L8:L12)","v":0}]
["Récap 30/09",null,null,{"$f":"+B13-D13","v":0},"Récap 31/10",null,null,{"$f":"+F13-H13","v":0},"Récap 30/11",null,null,{"$f":"+J13-L13","v":0}]
[]
["DÉCEMBRE",null,null,null,"Situation fin décembre",null,null,null,"JANVIER"]
["RECETTES",null,"DEPENSES",null,null,"Recettes","Dépenses","Total","RECETTES",null,"DEPENSES"]
["Dates","Montant","Activités","Montant",{"$f":"A14","v":"Récap 30/09"},{"$f":"B13","v":0},{"$f":"D13","v":0},{"$f":"D14","v":0},"Dates","Montant","Activités","Montant"]
[null,null,null,null,{"$f":"E14","v":"Récap 31/10"},{"$f":"F13","v":0},{"$f":"H13","v":0},{"$f":"H14","v":0}]
[null,null,null,null,{"$f":"I14","v":"Récap 30/11"},{"$f":"J13","v":0},{"$f":"L13","v":0},{"$f":"L14","v":0}]
[null,null,null,null,{"$f":"A25","v":"Récap 31/12"},{"$f":"B24","v":0},{"$f":"D24","v":0},{"$f":"D25","v":0}]
[null,null,null,null,"Report Sept",null,null,{"$f":"B8","v":49}]
[null,null,null,null,"Situation 31/12",{"$f":"SUM(F18:F22)","v":0},{"$f":"SUM(G18:G22)","v":0},{"$f":"SUM(H18:H22)","v":49}]
[null,{"$f":"SUM(B19:B23)","v":0},null,{"$f":"SUM(D19:D23)","v":0},null,null,null,null,null,{"$f":"SUM(J19:J23)","v":0},null,{"$f":"SUM(L19:L23)","v":0}]
["Récap 31/12",null,null,{"$f":"+B24-D24","v":0},null,null,null,null,"Récap 31/01",null,null,{"$f":"+J24-L24","v":0}]
[]
["FÉVRIER",null,null,null,"MARS",null,null,null,"AVRIL"]
["RECETTES",null,"DEPENSES",null,"RECETTES",null,"DEPENSES",null,"RECETTES",null,"DEPENSES"]
["Dates","Montant","Activités","Montant","Dates","Montant","Activités","Montant","Dates","Montant","Activités","Montant"]
[]
[]
[]
[]
[]
[null,{"$f":"SUM(B30:B34)","v":0},null,{"$f":"SUM(D30:D34)","v":0},null,{"$f":"SUM(F30:F34)","v":0},null,{"$f":"SUM(H30:H34)","v":0},null,{"$f":"SUM(J30:J34)","v":0},null,{"$f":"SUM(L30:L34)","v":0}]
["Récap 28/02",null,null,{"$f":"+B35-D35","v":0},"Récap 31/03",null,null,{"$f":"+F35-H35","v":0},"Récap 30/04",null,null,{"$f":"+J35-L35","v":0}]
[]
[]
["MAI",null,null,null,"JUIN",null,null,null,"Situation fin juin"]
["RECETTES",null,"DEPENSES",null,"RECETTES",null,"DEPENSES",null,null,"Recettes","Dépenses","Total"]
["Dates","Montant","Activités","Montant","Dates","Montant","Activités","Montant",{"$f":"E23","v":"Situation 31/12"},null,null,{"$f":"H23","v":49}]
[null,null,null,null,null,null,null,null,{"$f":"I25","v":"Récap 31/01"},{"$f":"J24","v":0},{"$f":"L24","v":0},{"$f":"L25","v":0}]
[null,null,null,null,null,null,null,null,{"$f":"A36","v":"Récap 28/02"},{"$f":"B35","v":0},{"$f":"D35","v":0},{"$f":"D36","v":0}]
[null,null,null,null,null,null,null,null,{"$f":"E36","v":"Récap 31/03"},{"$f":"F35","v":0},{"$f":"H35","v":0},{"$f":"H36","v":0}]
[null,null,null,null,null,null,null,null,{"$f":"I36","v":"Récap 30/04"},{"$f":"J35","v":0},{"$f":"L35","v":0},{"$f":"L36","v":0}]
[null,null,null,null,null,null,null,null,{"$f":"A48","v":"Récap 31/05"},{"$f":"B47","v":0},{"$f":"D47","v":0},{"$f":"D48","v":0}]
[null,{"$f":"SUM(B42:B46)","v":0},null,{"$f":"SUM(D42:D46)","v":0},null,{"$f":"SUM(F42:F46)","v":0},null,{"$f":"SUM(H42:H46)","v":0},{"$f":"E48","v":"Récap 30/06"},{"$f":"F47","v":0},{"$f":"H47","v":0},{"$f":"H48","v":0}]
["Récap 31/05",null,null,{"$f":"+B47-D47","v":0},"Récap 30/06",null,null,{"$f":"+F47-H47","v":0},"Situation 30/06",{"$f":"SUM(J42:J47)","v":0},{"$f":"SUM(K42:K47)","v":0},{"$f":"SUM(L41:L47)","v":49}]
[]
[null,null,null,null,null,null,null,null,null,null,null,{"$f":"F23+J48-G23-K48+B8","v":49}]
[]
[null,null,null,null,null,null,null,null,null,{"$f":"B13+F13+J13+B24+J24+B35+F35+J35+B47+F47","v":0},{"$f":"D13+H13+L13+D24+L24+D35+H35+L35+D47+H47","v":0},{"$f":"B8+J52-K52","v":49}]

{"sheet":"PIERRE","index":137,"n_rows":52,"n_cols":12,"rows_kept":52,"cut":false,"hidden":false,"merged":[[0,9,0,10],[2,1,2,2],[2,4,2,5],[2,8,2,9],[5,8,5,9],[5,10,5,11],[4,0,4,3],[4,4,4,7],[4,8,4,11],[5,0,5,1],[5,2,5,3],[5,4,5,5],[5,6,5,7],[24,0,24,2],[13,0,13,2],[13,4,13,6],[16,2,16,3],[37,9,37,10],[16,0,16,1],[27,6,27,7],[24,8,24,10],[38,8,38,11],[13,8,13,10],[15,0,15,3],[15,4,15,7],[15,8,15,11],[16,10,16,11],[26,0,26,3],[26,4,26,7],[26,8,26,11],[27,8,27,9],[35,0,35,2],[35,4,35,6],[35,8,35,10],[27,10,27,11],[16,8,16,9],[27,4,27,5],[47,0,47,2],[47,4,47,6],[38,0,38,3],[38,4,38,7],[39,4,39,5],[39,6,39,7]]}
[null,null,null,null,null,null,null,null,null,"Année scolaire : ",null,{"$f":"' Liste élèves'!B1","v":"2018-2019"}]
[]
["NOM : ",{"$f":"' Liste élèves'!A138","v":"PIERRE"},null,"PRENOM:",{"$f":"' Liste élèves'!B138","v":"Valentin"},null,null,"CLASSE :",{"$f":"' Liste élèves'!C138","v":"Classe 9"}]
[]
["SEPTEMBRE",null,null,null,"OCTOBRE",null,null,null,"NOVEMBRE"]
["RECETTES",null,"DEPENSES",null,"RECETTES",null,"DEPENSES",null,"RECETTES",null,"DEPENSES"]
["Dates","Montant","Activités","Montant","Dates","Montant","Activités","Montant","Dates","Montant","Activités","Montant"]
["Report juin",21.3]
[]
[]
[]
[]
[null,{"$f":"SUM(B9:B12)","v":0},null,{"$f":"SUM(D8:D12)","v":0},null,{"$f":"SUM(F8:F12)","v":0},null,{"$f":"SUM(H8:H12)","v":0},null,{"$f":"SUM(J8:J12)","v":0},null,{"$f":"SUM(L8:L12)","v":0}]
["Récap 30/09",null,null,{"$f":"+B13-D13","v":0},"Récap 31/10",null,null,{"$f":"+F13-H13","v":0},"Récap 30/11",null,null,{"$f":"+J13-L13","v":0}]
[]
["DÉCEMBRE",null,null,null,"Situation fin décembre",null,null,null,"JANVIER"]
["RECETTES",null,"DEPENSES",null,null,"Recettes","Dépenses","Total","RECETTES",null,"DEPENSES"]
["Dates","Montant","Activités","Montant",{"$f":"A14","v":"Récap 30/09"},{"$f":"B13","v":0},{"$f":"D13","v":0},{"$f":"D14","v":0},"Dates","Montant","Activités","Montant"]
[null,null,null,null,{"$f":"E14","v":"Récap 31/10"},{"$f":"F13","v":0},{"$f":"H13","v":0},{"$f":"H14","v":0}]
[null,null,null,null,{"$f":"I14","v":"Récap 30/11"},{"$f":"J13","v":0},{"$f":"L13","v":0},{"$f":"L14","v":0}]
[null,null,null,null,{"$f":"A25","v":"Récap 31/12"},{"$f":"B24","v":0},{"$f":"D24","v":0},{"$f":"D25","v":0}]
[null,null,null,null,"Report Sept",null,null,{"$f":"B8","v":21.3}]
[null,null,null,null,"Situation 31/12",{"$f":"SUM(F18:F22)","v":0},{"$f":"SUM(G18:G22)","v":0},{"$f":"SUM(H18:H22)","v":21.3}]
[null,{"$f":"SUM(B19:B23)","v":0},null,{"$f":"SUM(D19:D23)","v":0},null,null,null,null,null,{"$f":"SUM(J19:J23)","v":0},null,{"$f":"SUM(L19:L23)","v":0}]
["Récap 31/12",null,null,{"$f":"+B24-D24","v":0},null,null,null,null,"Récap 31/01",null,null,{"$f":"+J24-L24","v":0}]
[]
["FÉVRIER",null,null,null,"MARS",null,null,null,"AVRIL"]
["RECETTES",null,"DEPENSES",null,"RECETTES",null,"DEPENSES",null,"RECETTES",null,"DEPENSES"]
["Dates","Montant","Activités","Montant","Dates","Montant","Activités","Montant","Dates","Montant","Activités","Montant"]
[]
[]
[]
[]
[]
[null,{"$f":"SUM(B30:B34)","v":0},null,{"$f":"SUM(D30:D34)","v":0},null,{"$f":"SUM(F30:F34)","v":0},null,{"$f":"SUM(H30:H34)","v":0},null,{"$f":"SUM(J30:J34)","v":0},null,{"$f":"SUM(L30:L34)","v":0}]
["Récap 28/02",null,null,{"$f":"+B35-D35","v":0},"Récap 31/03",null,null,{"$f":"+F35-H35","v":0},"Récap 30/04",null,null,{"$f":"+J35-L35","v":0}]
[]
[]
["MAI",null,null,null,"JUIN",null,null,null,"Situation fin juin"]
["RECETTES",null,"DEPENSES",null,"RECETTES",null,"DEPENSES",null,null,"Recettes","Dépenses","Total"]
["Dates","Montant","Activités","Montant","Dates","Montant","Activités","Montant",{"$f":"E23","v":"Situation 31/12"},null,null,{"$f":"H23","v":21.3}]
[null,null,null,null,null,null,null,null,{"$f":"I25","v":"Récap 31/01"},{"$f":"J24","v":0},{"$f":"L24","v":0},{"$f":"L25","v":0}]
[null,null,null,null,null,null,null,null,{"$f":"A36","v":"Récap 28/02"},{"$f":"B35","v":0},{"$f":"D35","v":0},{"$f":"D36","v":0}]
[null,null,null,null,null,null,null,null,{"$f":"E36","v":"Récap 31/03"},{"$f":"F35","v":0},{"$f":"H35","v":0},{"$f":"H36","v":0}]
[null,null,null,null,null,null,null,null,{"$f":"I36","v":"Récap 30/04"},{"$f":"J35","v":0},{"$f":"L35","v":0},{"$f":"L36","v":0}]
[null,null,null,null,null,null,null,null,{"$f":"A48","v":"Récap 31/05"},{"$f":"B47","v":0},{"$f":"D47","v":0},{"$f":"D48","v":0}]
[null,{"$f":"SUM(B42:B46)","v":0},null,{"$f":"SUM(D42:D46)","v":0},null,{"$f":"SUM(F42:F46)","v":0},null,{"$f":"SUM(H42:H46)","v":0},{"$f":"E48","v":"Récap 30/06"},{"$f":"F47","v":0},{"$f":"H47","v":0},{"$f":"H48","v":0}]
["Récap 31/05",null,null,{"$f":"+B47-D47","v":0},"Récap 30/06",null,null,{"$f":"+F47-H47","v":0},"Situation 30/06",{"$f":"SUM(J42:J47)","v":0},{"$f":"SUM(K42:K47)","v":0},{"$f":"SUM(L41:L47)","v":21.3}]
[]
[null,null,null,null,null,null,null,null,null,null,null,{"$f":"F23+J48-G23-K48+B8","v":21.3}]
[]
[null,null,null,null,null,null,null,null,null,{"$f":"B13+F13+J13+B24+J24+B35+F35+J35+B47+F47","v":0},{"$f":"D13+H13+L13+D24+L24+D35+H35+L35+D47+H47","v":0},{"$f":"B8+J52-K52","v":21.3}]

{"sheet":"PIERROT","index":138,"n_rows":52,"n_cols":12,"rows_kept":52,"cut":false,"hidden":false,"merged":[[5,10,5,11],[0,9,0,10],[2,1,2,2],[2,4,2,5],[2,8,2,9],[4,0,4,3],[4,4,4,7],[4,8,4,11],[5,0,5,1],[5,2,5,3],[5,4,5,5],[5,6,5,7],[5,8,5,9],[13,0,13,2],[13,4,13,6],[13,8,13,10],[15,0,15,3],[15,4,15,7],[15,8,15,11],[16,0,16,1],[16,2,16,3],[16,8,16,9],[16,10,16,11],[24,0,24,2],[24,8,24,10],[26,0,26,3],[26,4,26,7],[26,8,26,11],[27,4,27,5],[27,6,27,7],[27,8,27,9],[27,10,27,11],[35,8,35,10],[37,9,37,10],[38,0,38,3],[38,4,38,7],[38,8,38,11],[39,4,39,5],[39,6,39,7],[47,0,47,2],[47,4,47,6],[35,0,35,2],[35,4,35,6]]}
[null,null,null,null,null,null,null,null,null,"Année scolaire : ",null,{"$f":"' Liste élèves'!B1","v":"2018-2019"}]
[]
["NOM : ",{"$f":"' Liste élèves'!A139","v":"PIERROT"},null,"PRENOM:",{"$f":"' Liste élèves'!B139","v":"Fabrice"},null,null,"CLASSE :",{"$f":"' Liste élèves'!C139","v":"Classe PB"}]
[]
["SEPTEMBRE",null,null,null,"OCTOBRE",null,null,null,"NOVEMBRE"]
["RECETTES",null,"DEPENSES",null,"RECETTES",null,"DEPENSES",null,"RECETTES",null,"DEPENSES"]
["Dates","Montant","Activités","Montant","Dates","Montant","Activités","Montant","Dates","Montant","Activités","Montant"]
["Report juin"]
[]
[]
[]
[]
[null,{"$f":"SUM(B9:B12)","v":0},null,{"$f":"SUM(D8:D12)","v":0},null,{"$f":"SUM(F8:F12)","v":0},null,{"$f":"SUM(H8:H12)","v":0},null,{"$f":"SUM(J8:J12)","v":0},null,{"$f":"SUM(L8:L12)","v":0}]
["Récap 30/09",null,null,{"$f":"+B13-D13","v":0},"Récap 31/10",null,null,{"$f":"+F13-H13","v":0},"Récap 30/11",null,null,{"$f":"+J13-L13","v":0}]
[]
["DÉCEMBRE",null,null,null,"Situation fin décembre",null,null,null,"JANVIER"]
["RECETTES",null,"DEPENSES",null,null,"Recettes","Dépenses","Total","RECETTES",null,"DEPENSES"]
["Dates","Montant","Activités","Montant",{"$f":"A14","v":"Récap 30/09"},{"$f":"B13","v":0},{"$f":"D13","v":0},{"$f":"D14","v":0},"Dates","Montant","Activités","Montant"]
[null,null,null,null,{"$f":"E14","v":"Récap 31/10"},{"$f":"F13","v":0},{"$f":"H13","v":0},{"$f":"H14","v":0}]
[null,null,null,null,{"$f":"I14","v":"Récap 30/11"},{"$f":"J13","v":0},{"$f":"L13","v":0},{"$f":"L14","v":0}]
[null,null,null,null,{"$f":"A25","v":"Récap 31/12"},{"$f":"B24","v":0},{"$f":"D24","v":0},{"$f":"D25","v":0}]
[null,null,null,null,"Report Sept",null,null,{"$f":"B8","v":0}]
[null,null,null,null,"Situation 31/12",{"$f":"SUM(F18:F22)","v":0},{"$f":"SUM(G18:G22)","v":0},{"$f":"SUM(H18:H22)","v":0}]
[null,{"$f":"SUM(B19:B23)","v":0},null,{"$f":"SUM(D19:D23)","v":0},null,null,null,null,null,{"$f":"SUM(J19:J23)","v":0},null,{"$f":"SUM(L19:L23)","v":0}]
["Récap 31/12",null,null,{"$f":"+B24-D24","v":0},null,null,null,null,"Récap 31/01",null,null,{"$f":"+J24-L24","v":0}]
[]
["FÉVRIER",null,null,null,"MARS",null,null,null,"AVRIL"]
["RECETTES",null,"DEPENSES",null,"RECETTES",null,"DEPENSES",null,"RECETTES",null,"DEPENSES"]
["Dates","Montant","Activités","Montant","Dates","Montant","Activités","Montant","Dates","Montant","Activités","Montant"]
[]
[]
[]
[]
[]
[null,{"$f":"SUM(B30:B34)","v":0},null,{"$f":"SUM(D30:D34)","v":0},null,{"$f":"SUM(F30:F34)","v":0},null,{"$f":"SUM(H30:H34)","v":0},null,{"$f":"SUM(J30:J34)","v":0},null,{"$f":"SUM(L30:L34)","v":0}]
["Récap 28/02",null,null,{"$f":"+B35-D35","v":0},"Récap 31/03",null,null,{"$f":"+F35-H35","v":0},"Récap 30/04",null,null,{"$f":"+J35-L35","v":0}]
[]
[]
["MAI",null,null,null,"JUIN",null,null,null,"Situation fin juin"]
["RECETTES",null,"DEPENSES",null,"RECETTES",null,"DEPENSES",null,null,"Recettes","Dépenses","Total"]
["Dates","Montant","Activités","Montant","Dates","Montant","Activités","Montant",{"$f":"E23","v":"Situation 31/12"},null,null,{"$f":"H23","v":0}]
[null,null,null,null,null,null,null,null,{"$f":"I25","v":"Récap 31/01"},{"$f":"J24","v":0},{"$f":"L24","v":0},{"$f":"L25","v":0}]
[null,null,null,null,null,null,null,null,{"$f":"A36","v":"Récap 28/02"},{"$f":"B35","v":0},{"$f":"D35","v":0},{"$f":"D36","v":0}]
[null,null,null,null,null,null,null,null,{"$f":"E36","v":"Récap 31/03"},{"$f":"F35","v":0},{"$f":"H35","v":0},{"$f":"H36","v":0}]
[null,null,null,null,null,null,null,null,{"$f":"I36","v":"Récap 30/04"},{"$f":"J35","v":0},{"$f":"L35","v":0},{"$f":"L36","v":0}]
[null,null,null,null,null,null,null,null,{"$f":"A48","v":"Récap 31/05"},{"$f":"B47","v":0},{"$f":"D47","v":0},{"$f":"D48","v":0}]
[null,{"$f":"SUM(B42:B46)","v":0},null,{"$f":"SUM(D42:D46)","v":0},null,{"$f":"SUM(F42:F46)","v":0},null,{"$f":"SUM(H42:H46)","v":0},{"$f":"E48","v":"Récap 30/06"},{"$f":"F47","v":0},{"$f":"H47","v":0},{"$f":"H48","v":0}]
["Récap 31/05",null,null,{"$f":"+B47-D47","v":0},"Récap 30/06",null,null,{"$f":"+F47-H47","v":0},"Situation 30/06",{"$f":"SUM(J42:J47)","v":0},{"$f":"SUM(K42:K47)","v":0},{"$f":"SUM(L41:L47)","v":0}]
[]
[null,null,null,null,null,null,null,null,null,null,null,{"$f":"F23+J48-G23-K48+B8","v":0}]
[]
[null,null,null,null,null,null,null,null,null,{"$f":"B13+F13+J13+B24+J24+B35+F35+J35+B47+F47","v":0},{"$f":"D13+H13+L13+D24+L24+D35+H35+L35+D47+H47","v":0},{"$f":"B8+J52-K52","v":0}]

{"sheet":"PONCIN","index":139,"n_rows":52,"n_cols":12,"rows_kept":52,"cut":false,"hidden":false,"merged":[[0,9,0,10],[2,1,2,2],[2,4,2,5],[2,8,2,9],[5,8,5,9],[5,10,5,11],[4,0,4,3],[4,4,4,7],[4,8,4,11],[5,0,5,1],[5,2,5,3],[5,4,5,5],[5,6,5,7],[24,0,24,2],[13,0,13,2],[13,4,13,6],[16,2,16,3],[37,9,37,10],[16,0,16,1],[27,6,27,7],[24,8,24,10],[38,8,38,11],[13,8,13,10],[15,0,15,3],[15,4,15,7],[15,8,15,11],[16,10,16,11],[26,0,26,3],[26,4,26,7],[26,8,26,11],[27,8,27,9],[35,0,35,2],[35,4,35,6],[35,8,35,10],[27,10,27,11],[16,8,16,9],[27,4,27,5],[47,0,47,2],[47,4,47,6],[38,0,38,3],[38,4,38,7],[39,4,39,5],[39,6,39,7]]}
[null,null,null,null,null,null,null,null,null,"Année scolaire : ",null,{"$f":"' Liste élèves'!B1","v":"2018-2019"}]
[]
["NOM : ",{"$f":"' Liste élèves'!A140","v":"PONCIN"},null,"PRENOM:",{"$f":"' Liste élèves'!B140","v":"Stéphanie"},null,null,"CLASSE :",{"$f":"' Liste élèves'!C140","v":"Classe PB"}]
[]
["SEPTEMBRE",null,null,null,"OCTOBRE",null,null,null,"NOVEMBRE"]
["RECETTES",null,"DEPENSES",null,"RECETTES",null,"DEPENSES",null,"RECETTES",null,"DEPENSES"]
["Dates","Montant","Activités","Montant","Dates","Montant","Activités","Montant","Dates","Montant","Activités","Montant"]
["Report juin",48.5]
[]
[]
[]
[]
[null,{"$f":"SUM(B9:B12)","v":0},null,{"$f":"SUM(D8:D12)","v":0},null,{"$f":"SUM(F8:F12)","v":0},null,{"$f":"SUM(H8:H12)","v":0},null,{"$f":"SUM(J8:J12)","v":0},null,{"$f":"SUM(L8:L12)","v":0}]
["Récap 30/09",null,null,{"$f":"+B13-D13","v":0},"Récap 31/10",null,null,{"$f":"+F13-H13","v":0},"Récap 30/11",null,null,{"$f":"+J13-L13","v":0}]
[]
["DÉCEMBRE",null,null,null,"Situation fin décembre",null,null,null,"JANVIER"]
["RECETTES",null,"DEPENSES",null,null,"Recettes","Dépenses","Total","RECETTES",null,"DEPENSES"]
["Dates","Montant","Activités","Montant",{"$f":"A14","v":"Récap 30/09"},{"$f":"B13","v":0},{"$f":"D13","v":0},{"$f":"D14","v":0},"Dates","Montant","Activités","Montant"]
[null,null,null,null,{"$f":"E14","v":"Récap 31/10"},{"$f":"F13","v":0},{"$f":"H13","v":0},{"$f":"H14","v":0}]
[null,null,null,null,{"$f":"I14","v":"Récap 30/11"},{"$f":"J13","v":0},{"$f":"L13","v":0},{"$f":"L14","v":0}]
[null,null,null,null,{"$f":"A25","v":"Récap 31/12"},{"$f":"B24","v":0},{"$f":"D24","v":0},{"$f":"D25","v":0}]
[null,null,null,null,"Report Sept",null,null,{"$f":"B8","v":48.5}]
[null,null,null,null,"Situation 31/12",{"$f":"SUM(F18:F22)","v":0},{"$f":"SUM(G18:G22)","v":0},{"$f":"SUM(H18:H22)","v":48.5}]
[null,{"$f":"SUM(B19:B23)","v":0},null,{"$f":"SUM(D19:D23)","v":0},null,null,null,null,null,{"$f":"SUM(J19:J23)","v":0},null,{"$f":"SUM(L19:L23)","v":0}]
["Récap 31/12",null,null,{"$f":"+B24-D24","v":0},null,null,null,null,"Récap 31/01",null,null,{"$f":"+J24-L24","v":0}]
[]
["FÉVRIER",null,null,null,"MARS",null,null,null,"AVRIL"]
["RECETTES",null,"DEPENSES",null,"RECETTES",null,"DEPENSES",null,"RECETTES",null,"DEPENSES"]
["Dates","Montant","Activités","Montant","Dates","Montant","Activités","Montant","Dates","Montant","Activités","Montant"]
[]
[]
[]
[]
[]
[null,{"$f":"SUM(B30:B34)","v":0},null,{"$f":"SUM(D30:D34)","v":0},null,{"$f":"SUM(F30:F34)","v":0},null,{"$f":"SUM(H30:H34)","v":0},null,{"$f":"SUM(J30:J34)","v":0},null,{"$f":"SUM(L30:L34)","v":0}]
["Récap 28/02",null,null,{"$f":"+B35-D35","v":0},"Récap 31/03",null,null,{"$f":"+F35-H35","v":0},"Récap 30/04",null,null,{"$f":"+J35-L35","v":0}]
[]
[]
["MAI",null,null,null,"JUIN",null,null,null,"Situation fin juin"]
["RECETTES",null,"DEPENSES",null,"RECETTES",null,"DEPENSES",null,null,"Recettes","Dépenses","Total"]
["Dates","Montant","Activités","Montant","Dates","Montant","Activités","Montant",{"$f":"E23","v":"Situation 31/12"},null,null,{"$f":"H23","v":48.5}]
[null,null,null,null,null,null,null,null,{"$f":"I25","v":"Récap 31/01"},{"$f":"J24","v":0},{"$f":"L24","v":0},{"$f":"L25","v":0}]
[null,null,null,null,null,null,null,null,{"$f":"A36","v":"Récap 28/02"},{"$f":"B35","v":0},{"$f":"D35","v":0},{"$f":"D36","v":0}]
[null,null,null,null,null,null,null,null,{"$f":"E36","v":"Récap 31/03"},{"$f":"F35","v":0},{"$f":"H35","v":0},{"$f":"H36","v":0}]
[null,null,null,null,null,null,null,null,{"$f":"I36","v":"Récap 30/04"},{"$f":"J35","v":0},{"$f":"L35","v":0},{"$f":"L36","v":0}]
[null,null,null,null,null,null,null,null,{"$f":"A48","v":"Récap 31/05"},{"$f":"B47","v":0},{"$f":"D47","v":0},{"$f":"D48","v":0}]
[null,{"$f":"SUM(B42:B46)","v":0},null,{"$f":"SUM(D42:D46)","v":0},null,{"$f":"SUM(F42:F46)","v":0},null,{"$f":"SUM(H42:H46)","v":0},{"$f":"E48","v":"Récap 30/06"},{"$f":"F47","v":0},{"$f":"H47","v":0},{"$f":"H48","v":0}]
["Récap 31/05",null,null,{"$f":"+B47-D47","v":0},"Récap 30/06",null,null,{"$f":"+F47-H47","v":0},"Situation 30/06",{"$f":"SUM(J42:J47)","v":0},{"$f":"SUM(K42:K47)","v":0},{"$f":"SUM(L41:L47)","v":48.5}]
[]
[null,null,null,null,null,null,null,null,null,null,null,{"$f":"F23+J48-G23-K48+B8","v":48.5}]
[]
[null,null,null,null,null,null,null,null,null,{"$f":"B13+F13+J13+B24+J24+B35+F35+J35+B47+F47","v":0},{"$f":"D13+H13+L13+D24+L24+D35+H35+L35+D47+H47","v":0},{"$f":"B8+J52-K52","v":48.5}]

{"sheet":"POTTEAU","index":140,"n_rows":52,"n_cols":12,"rows_kept":52,"cut":false,"hidden":false,"merged":[[0,9,0,10],[2,1,2,2],[2,4,2,5],[2,8,2,9],[5,8,5,9],[5,10,5,11],[4,0,4,3],[4,4,4,7],[4,8,4,11],[5,0,5,1],[5,2,5,3],[5,4,5,5],[5,6,5,7],[24,0,24,2],[13,0,13,2],[13,4,13,6],[16,2,16,3],[37,9,37,10],[16,0,16,1],[27,6,27,7],[24,8,24,10],[38,8,38,11],[13,8,13,10],[15,0,15,3],[15,4,15,7],[15,8,15,11],[16,10,16,11],[26,0,26,3],[26,4,26,7],[26,8,26,11],[27,8,27,9],[35,0,35,2],[35,4,35,6],[35,8,35,10],[27,10,27,11],[16,8,16,9],[27,4,27,5],[47,0,47,2],[47,4,47,6],[38,0,38,3],[38,4,38,7],[39,4,39,5],[39,6,39,7]]}
[null,null,null,null,null,null,null,null,null,"Année scolaire : ",null,{"$f":"' Liste élèves'!B1","v":"2018-2019"}]
[]
["NOM : ",{"$f":"' Liste élèves'!A141","v":"POTTEAU"},null,"PRENOM:",{"$f":"' Liste élèves'!B141","v":"Noah"},null,null,"CLASSE :",{"$f":"' Liste élèves'!C141","v":"Classe MC"}]
[]
["SEPTEMBRE",null,null,null,"OCTOBRE",null,null,null,"NOVEMBRE"]
["RECETTES",null,"DEPENSES",null,"RECETTES",null,"DEPENSES",null,"RECETTES",null,"DEPENSES"]
["Dates","Montant","Activités","Montant","Dates","Montant","Activités","Montant","Dates","Montant","Activités","Montant"]
["Report juin",58]
[]
[]
[]
[]
[null,{"$f":"SUM(B9:B12)","v":0},null,{"$f":"SUM(D8:D12)","v":0},null,{"$f":"SUM(F8:F12)","v":0},null,{"$f":"SUM(H8:H12)","v":0},null,{"$f":"SUM(J8:J12)","v":0},null,{"$f":"SUM(L8:L12)","v":0}]
["Récap 30/09",null,null,{"$f":"+B13-D13","v":0},"Récap 31/10",null,null,{"$f":"+F13-H13","v":0},"Récap 30/11",null,null,{"$f":"+J13-L13","v":0}]
[]
["DÉCEMBRE",null,null,null,"Situation fin décembre",null,null,null,"JANVIER"]
["RECETTES",null,"DEPENSES",null,null,"Recettes","Dépenses","Total","RECETTES",null,"DEPENSES"]
["Dates","Montant","Activités","Montant",{"$f":"A14","v":"Récap 30/09"},{"$f":"B13","v":0},{"$f":"D13","v":0},{"$f":"D14","v":0},"Dates","Montant","Activités","Montant"]
[null,null,null,null,{"$f":"E14","v":"Récap 31/10"},{"$f":"F13","v":0},{"$f":"H13","v":0},{"$f":"H14","v":0}]
[null,null,null,null,{"$f":"I14","v":"Récap 30/11"},{"$f":"J13","v":0},{"$f":"L13","v":0},{"$f":"L14","v":0}]
[null,null,null,null,{"$f":"A25","v":"Récap 31/12"},{"$f":"B24","v":0},{"$f":"D24","v":0},{"$f":"D25","v":0}]
[null,null,null,null,"Report Sept",null,null,{"$f":"B8","v":58}]
[null,null,null,null,"Situation 31/12",{"$f":"SUM(F18:F22)","v":0},{"$f":"SUM(G18:G22)","v":0},{"$f":"SUM(H18:H22)","v":58}]
[null,{"$f":"SUM(B19:B23)","v":0},null,{"$f":"SUM(D19:D23)","v":0},null,null,null,null,null,{"$f":"SUM(J19:J23)","v":0},null,{"$f":"SUM(L19:L23)","v":0}]
["Récap 31/12",null,null,{"$f":"+B24-D24","v":0},null,null,null,null,"Récap 31/01",null,null,{"$f":"+J24-L24","v":0}]
[]
["FÉVRIER",null,null,null,"MARS",null,null,null,"AVRIL"]
["RECETTES",null,"DEPENSES",null,"RECETTES",null,"DEPENSES",null,"RECETTES",null,"DEPENSES"]
["Dates","Montant","Activités","Montant","Dates","Montant","Activités","Montant","Dates","Montant","Activités","Montant"]
[]
[]
[]
[]
[]
[null,{"$f":"SUM(B30:B34)","v":0},null,{"$f":"SUM(D30:D34)","v":0},null,{"$f":"SUM(F30:F34)","v":0},null,{"$f":"SUM(H30:H34)","v":0},null,{"$f":"SUM(J30:J34)","v":0},null,{"$f":"SUM(L30:L34)","v":0}]
["Récap 28/02",null,null,{"$f":"+B35-D35","v":0},"Récap 31/03",null,null,{"$f":"+F35-H35","v":0},"Récap 30/04",null,null,{"$f":"+J35-L35","v":0}]
[]
[]
["MAI",null,null,null,"JUIN",null,null,null,"Situation fin juin"]
["RECETTES",null,"DEPENSES",null,"RECETTES",null,"DEPENSES",null,null,"Recettes","Dépenses","Total"]
["Dates","Montant","Activités","Montant","Dates","Montant","Activités","Montant",{"$f":"E23","v":"Situation 31/12"},null,null,{"$f":"H23","v":58}]
[null,null,null,null,null,null,null,null,{"$f":"I25","v":"Récap 31/01"},{"$f":"J24","v":0},{"$f":"L24","v":0},{"$f":"L25","v":0}]
[null,null,null,null,null,null,null,null,{"$f":"A36","v":"Récap 28/02"},{"$f":"B35","v":0},{"$f":"D35","v":0},{"$f":"D36","v":0}]
[null,null,null,null,null,null,null,null,{"$f":"E36","v":"Récap 31/03"},{"$f":"F35","v":0},{"$f":"H35","v":0},{"$f":"H36","v":0}]
[null,null,null,null,null,null,null,null,{"$f":"I36","v":"Récap 30/04"},{"$f":"J35","v":0},{"$f":"L35","v":0},{"$f":"L36","v":0}]
[null,null,null,null,null,null,null,null,{"$f":"A48","v":"Récap 31/05"},{"$f":"B47","v":0},{"$f":"D47","v":0},{"$f":"D48","v":0}]
[null,{"$f":"SUM(B42:B46)","v":0},null,{"$f":"SUM(D42:D46)","v":0},null,{"$f":"SUM(F42:F46)","v":0},null,{"$f":"SUM(H42:H46)","v":0},{"$f":"E48","v":"Récap 30/06"},{"$f":"F47","v":0},{"$f":"H47","v":0},{"$f":"H48","v":0}]
["Récap 31/05",null,null,{"$f":"+B47-D47","v":0},"Récap 30/06",null,null,{"$f":"+F47-H47","v":0},"Situation 30/06",{"$f":"SUM(J42:J47)","v":0},{"$f":"SUM(K42:K47)","v":0},{"$f":"SUM(L41:L47)","v":58}]
[]
[null,null,null,null,null,null,null,null,null,null,null,{"$f":"F23+J48-G23-K48+B8","v":58}]
[]
[null,null,null,null,null,null,null,null,null,{"$f":"B13+F13+J13+B24+J24+B35+F35+J35+B47+F47","v":0},{"$f":"D13+H13+L13+D24+L24+D35+H35+L35+D47+H47","v":0},{"$f":"B8+J52-K52","v":58}]

{"sheet":"POUSSEUR","index":141,"n_rows":52,"n_cols":12,"rows_kept":52,"cut":false,"hidden":false,"merged":[[0,9,0,10],[2,1,2,2],[2,4,2,5],[2,8,2,9],[5,8,5,9],[5,10,5,11],[4,0,4,3],[4,4,4,7],[4,8,4,11],[5,0,5,1],[5,2,5,3],[5,4,5,5],[5,6,5,7],[24,0,24,2],[13,0,13,2],[13,4,13,6],[16,2,16,3],[37,9,37,10],[16,0,16,1],[27,6,27,7],[24,8,24,10],[38,8,38,11],[13,8,13,10],[15,0,15,3],[15,4,15,7],[15,8,15,11],[16,10,16,11],[26,0,26,3],[26,4,26,7],[26,8,26,11],[27,8,27,9],[35,0,35,2],[35,4,35,6],[35,8,35,10],[27,10,27,11],[16,8,16,9],[27,4,27,5],[47,0,47,2],[47,4,47,6],[38,0,38,3],[38,4,38,7],[39,4,39,5],[39,6,39,7]]}
[null,null,null,null,null,null,null,null,null,"Année scolaire : ",null,{"$f":"' Liste élèves'!B1","v":"2018-2019"}]
[]
["NOM : ",{"$f":"' Liste élèves'!A142","v":"POUSSEUR"},null,"PRENOM:",{"$f":"' Liste élèves'!B142","v":"Noah"},null,null,"CLASSE :",{"$f":"' Liste élèves'!C142","v":"Classe 11"}]
[]
["SEPTEMBRE",null,null,null,"OCTOBRE",null,null,null,"NOVEMBRE"]
["RECETTES",null,"DEPENSES",null,"RECETTES",null,"DEPENSES",null,"RECETTES",null,"DEPENSES"]
["Dates","Montant","Activités","Montant","Dates","Montant","Activités","Montant","Dates","Montant","Activités","Montant"]
["Report juin",50.9]
[]
[]
[]
[]
[null,{"$f":"SUM(B9:B12)","v":0},null,{"$f":"SUM(D8:D12)","v":0},null,{"$f":"SUM(F8:F12)","v":0},null,{"$f":"SUM(H8:H12)","v":0},null,{"$f":"SUM(J8:J12)","v":0},null,{"$f":"SUM(L8:L12)","v":0}]
["Récap 30/09",null,null,{"$f":"+B13-D13","v":0},"Récap 31/10",null,null,{"$f":"+F13-H13","v":0},"Récap 30/11",null,null,{"$f":"+J13-L13","v":0}]
[]
["DÉCEMBRE",null,null,null,"Situation fin décembre",null,null,null,"JANVIER"]
["RECETTES",null,"DEPENSES",null,null,"Recettes","Dépenses","Total","RECETTES",null,"DEPENSES"]
["Dates","Montant","Activités","Montant",{"$f":"A14","v":"Récap 30/09"},{"$f":"B13","v":0},{"$f":"D13","v":0},{"$f":"D14","v":0},"Dates","Montant","Activités","Montant"]
[null,null,null,null,{"$f":"E14","v":"Récap 31/10"},{"$f":"F13","v":0},{"$f":"H13","v":0},{"$f":"H14","v":0}]
[null,null,null,null,{"$f":"I14","v":"Récap 30/11"},{"$f":"J13","v":0},{"$f":"L13","v":0},{"$f":"L14","v":0}]
[null,null,null,null,{"$f":"A25","v":"Récap 31/12"},{"$f":"B24","v":0},{"$f":"D24","v":0},{"$f":"D25","v":0}]
[null,null,null,null,"Report Sept",null,null,{"$f":"B8","v":50.9}]
[null,null,null,null,"Situation 31/12",{"$f":"SUM(F18:F22)","v":0},{"$f":"SUM(G18:G22)","v":0},{"$f":"SUM(H18:H22)","v":50.9}]
[null,{"$f":"SUM(B19:B23)","v":0},null,{"$f":"SUM(D19:D23)","v":0},null,null,null,null,null,{"$f":"SUM(J19:J23)","v":0},null,{"$f":"SUM(L19:L23)","v":0}]
["Récap 31/12",null,null,{"$f":"+B24-D24","v":0},null,null,null,null,"Récap 31/01",null,null,{"$f":"+J24-L24","v":0}]
[]
["FÉVRIER",null,null,null,"MARS",null,null,null,"AVRIL"]
["RECETTES",null,"DEPENSES",null,"RECETTES",null,"DEPENSES",null,"RECETTES",null,"DEPENSES"]
["Dates","Montant","Activités","Montant","Dates","Montant","Activités","Montant","Dates","Montant","Activités","Montant"]
[]
[]
[]
[]
[]
[null,{"$f":"SUM(B30:B34)","v":0},null,{"$f":"SUM(D30:D34)","v":0},null,{"$f":"SUM(F30:F34)","v":0},null,{"$f":"SUM(H30:H34)","v":0},null,{"$f":"SUM(J30:J34)","v":0},null,{"$f":"SUM(L30:L34)","v":0}]
["Récap 28/02",null,null,{"$f":"+B35-D35","v":0},"Récap 31/03",null,null,{"$f":"+F35-H35","v":0},"Récap 30/04",null,null,{"$f":"+J35-L35","v":0}]
[]
[]
["MAI",null,null,null,"JUIN",null,null,null,"Situation fin juin"]
["RECETTES",null,"DEPENSES",null,"RECETTES",null,"DEPENSES",null,null,"Recettes","Dépenses","Total"]
["Dates","Montant","Activités","Montant","Dates","Montant","Activités","Montant",{"$f":"E23","v":"Situation 31/12"},null,null,{"$f":"H23","v":50.9}]
[null,null,null,null,null,null,null,null,{"$f":"I25","v":"Récap 31/01"},{"$f":"J24","v":0},{"$f":"L24","v":0},{"$f":"L25","v":0}]
[null,null,null,null,null,null,null,null,{"$f":"A36","v":"Récap 28/02"},{"$f":"B35","v":0},{"$f":"D35","v":0},{"$f":"D36","v":0}]
[null,null,null,null,null,null,null,null,{"$f":"E36","v":"Récap 31/03"},{"$f":"F35","v":0},{"$f":"H35","v":0},{"$f":"H36","v":0}]
[null,null,null,null,null,null,null,null,{"$f":"I36","v":"Récap 30/04"},{"$f":"J35","v":0},{"$f":"L35","v":0},{"$f":"L36","v":0}]
[null,null,null,null,null,null,null,null,{"$f":"A48","v":"Récap 31/05"},{"$f":"B47","v":0},{"$f":"D47","v":0},{"$f":"D48","v":0}]
[null,{"$f":"SUM(B42:B46)","v":0},null,{"$f":"SUM(D42:D46)","v":0},null,{"$f":"SUM(F42:F46)","v":0},null,{"$f":"SUM(H42:H46)","v":0},{"$f":"E48","v":"Récap 30/06"},{"$f":"F47","v":0},{"$f":"H47","v":0},{"$f":"H48","v":0}]
["Récap 31/05",null,null,{"$f":"+B47-D47","v":0},"Récap 30/06",null,null,{"$f":"+F47-H47","v":0},"Situation 30/06",{"$f":"SUM(J42:J47)","v":0},{"$f":"SUM(K42:K47)","v":0},{"$f":"SUM(L41:L47)","v":50.9}]
[]
[null,null,null,null,null,null,null,null,null,null,null,{"$f":"F23+J48-G23-K48+B8","v":50.9}]
[]
[null,null,null,null,null,null,null,null,null,{"$f":"B13+F13+J13+B24+J24+B35+F35+J35+B47+F47","v":0},{"$f":"D13+H13+L13+D24+L24+D35+H35+L35+D47+H47","v":0},{"$f":"B8+J52-K52","v":50.9}]

{"sheet":"PRINCIVALLID","index":142,"n_rows":52,"n_cols":12,"rows_kept":52,"cut":false,"hidden":false,"merged":[[0,9,0,10],[2,1,2,2],[2,4,2,5],[2,8,2,9],[5,8,5,9],[5,10,5,11],[4,0,4,3],[4,4,4,7],[4,8,4,11],[5,0,5,1],[5,2,5,3],[5,4,5,5],[5,6,5,7],[24,0,24,2],[13,0,13,2],[13,4,13,6],[16,2,16,3],[37,9,37,10],[16,0,16,1],[27,6,27,7],[24,8,24,10],[38,8,38,11],[13,8,13,10],[15,0,15,3],[15,4,15,7],[15,8,15,11],[16,10,16,11],[26,0,26,3],[26,4,26,7],[26,8,26,11],[27,8,27,9],[35,0,35,2],[35,4,35,6],[35,8,35,10],[27,10,27,11],[16,8,16,9],[27,4,27,5],[47,0,47,2],[47,4,47,6],[38,0,38,3],[38,4,38,7],[39,4,39,5],[39,6,39,7]]}
[null,null,null,null,null,null,null,null,null,"Année scolaire : ",null,{"$f":"' Liste élèves'!B1","v":"2018-2019"}]
[]
["NOM : ",{"$f":"' Liste élèves'!A143","v":"PRINCIVALLID"},null,"PRENOM:",{"$f":"' Liste élèves'!B143","v":"Dylan"},null,null,"CLASSE :",{"$f":"' Liste élèves'!C143","v":"Classe 6"}]
[]
["SEPTEMBRE",null,null,null,"OCTOBRE",null,null,null,"NOVEMBRE"]
["RECETTES",null,"DEPENSES",null,"RECETTES",null,"DEPENSES",null,"RECETTES",null,"DEPENSES"]
["Dates","Montant","Activités","Montant","Dates","Montant","Activités","Montant","Dates","Montant","Activités","Montant"]
["Report juin",59.53]
[]
[]
[]
[]
[null,{"$f":"SUM(B9:B12)","v":0},null,{"$f":"SUM(D8:D12)","v":0},null,{"$f":"SUM(F8:F12)","v":0},null,{"$f":"SUM(H8:H12)","v":0},null,{"$f":"SUM(J8:J12)","v":0},null,{"$f":"SUM(L8:L12)","v":0}]
["Récap 30/09",null,null,{"$f":"+B13-D13","v":0},"Récap 31/10",null,null,{"$f":"+F13-H13","v":0},"Récap 30/11",null,null,{"$f":"+J13-L13","v":0}]
[]
["DÉCEMBRE",null,null,null,"Situation fin décembre",null,null,null,"JANVIER"]
["RECETTES",null,"DEPENSES",null,null,"Recettes","Dépenses","Total","RECETTES",null,"DEPENSES"]
["Dates","Montant","Activités","Montant",{"$f":"A14","v":"Récap 30/09"},{"$f":"B13","v":0},{"$f":"D13","v":0},{"$f":"D14","v":0},"Dates","Montant","Activités","Montant"]
[null,null,null,null,{"$f":"E14","v":"Récap 31/10"},{"$f":"F13","v":0},{"$f":"H13","v":0},{"$f":"H14","v":0}]
[null,null,null,null,{"$f":"I14","v":"Récap 30/11"},{"$f":"J13","v":0},{"$f":"L13","v":0},{"$f":"L14","v":0}]
[null,null,null,null,{"$f":"A25","v":"Récap 31/12"},{"$f":"B24","v":0},{"$f":"D24","v":0},{"$f":"D25","v":0}]
[null,null,null,null,"Report Sept",null,null,{"$f":"B8","v":59.53}]
[null,null,null,null,"Situation 31/12",{"$f":"SUM(F18:F22)","v":0},{"$f":"SUM(G18:G22)","v":0},{"$f":"SUM(H18:H22)","v":59.53}]
[null,{"$f":"SUM(B19:B23)","v":0},null,{"$f":"SUM(D19:D23)","v":0},null,null,null,null,null,{"$f":"SUM(J19:J23)","v":0},null,{"$f":"SUM(L19:L23)","v":0}]
["Récap 31/12",null,null,{"$f":"+B24-D24","v":0},null,null,null,null,"Récap 31/01",null,null,{"$f":"+J24-L24","v":0}]
[]
["FÉVRIER",null,null,null,"MARS",null,null,null,"AVRIL"]
["RECETTES",null,"DEPENSES",null,"RECETTES",null,"DEPENSES",null,"RECETTES",null,"DEPENSES"]
["Dates","Montant","Activités","Montant","Dates","Montant","Activités","Montant","Dates","Montant","Activités","Montant"]
[]
[]
[]
[]
[]
[null,{"$f":"SUM(B30:B34)","v":0},null,{"$f":"SUM(D30:D34)","v":0},null,{"$f":"SUM(F30:F34)","v":0},null,{"$f":"SUM(H30:H34)","v":0},null,{"$f":"SUM(J30:J34)","v":0},null,{"$f":"SUM(L30:L34)","v":0}]
["Récap 28/02",null,null,{"$f":"+B35-D35","v":0},"Récap 31/03",null,null,{"$f":"+F35-H35","v":0},"Récap 30/04",null,null,{"$f":"+J35-L35","v":0}]
[]
[]
["MAI",null,null,null,"JUIN",null,null,null,"Situation fin juin"]
["RECETTES",null,"DEPENSES",null,"RECETTES",null,"DEPENSES",null,null,"Recettes","Dépenses","Total"]
["Dates","Montant","Activités","Montant","Dates","Montant","Activités","Montant",{"$f":"E23","v":"Situation 31/12"},null,null,{"$f":"H23","v":59.53}]
[null,null,null,null,null,null,null,null,{"$f":"I25","v":"Récap 31/01"},{"$f":"J24","v":0},{"$f":"L24","v":0},{"$f":"L25","v":0}]
[null,null,null,null,null,null,null,null,{"$f":"A36","v":"Récap 28/02"},{"$f":"B35","v":0},{"$f":"D35","v":0},{"$f":"D36","v":0}]
[null,null,null,null,null,null,null,null,{"$f":"E36","v":"Récap 31/03"},{"$f":"F35","v":0},{"$f":"H35","v":0},{"$f":"H36","v":0}]
[null,null,null,null,null,null,null,null,{"$f":"I36","v":"Récap 30/04"},{"$f":"J35","v":0},{"$f":"L35","v":0},{"$f":"L36","v":0}]
[null,null,null,null,null,null,null,null,{"$f":"A48","v":"Récap 31/05"},{"$f":"B47","v":0},{"$f":"D47","v":0},{"$f":"D48","v":0}]
[null,{"$f":"SUM(B42:B46)","v":0},null,{"$f":"SUM(D42:D46)","v":0},null,{"$f":"SUM(F42:F46)","v":0},null,{"$f":"SUM(H42:H46)","v":0},{"$f":"E48","v":"Récap 30/06"},{"$f":"F47","v":0},{"$f":"H47","v":0},{"$f":"H48","v":0}]
["Récap 31/05",null,null,{"$f":"+B47-D47","v":0},"Récap 30/06",null,null,{"$f":"+F47-H47","v":0},"Situation 30/06",{"$f":"SUM(J42:J47)","v":0},{"$f":"SUM(K42:K47)","v":0},{"$f":"SUM(L41:L47)","v":59.53}]
[]
[null,null,null,null,null,null,null,null,null,null,null,{"$f":"F23+J48-G23-K48+B8","v":59.53}]
[]
[null,null,null,null,null,null,null,null,null,{"$f":"B13+F13+J13+B24+J24+B35+F35+J35+B47+F47","v":0},{"$f":"D13+H13+L13+D24+L24+D35+H35+L35+D47+H47","v":0},{"$f":"B8+J52-K52","v":59.53}]

{"sheet":"PRINCIVALLIY","index":143,"n_rows":52,"n_cols":12,"rows_kept":52,"cut":false,"hidden":false,"merged":[[0,9,0,10],[2,1,2,2],[2,4,2,5],[2,8,2,9],[5,8,5,9],[5,10,5,11],[4,0,4,3],[4,4,4,7],[4,8,4,11],[5,0,5,1],[5,2,5,3],[5,4,5,5],[5,6,5,7],[24,0,24,2],[13,0,13,2],[13,4,13,6],[16,2,16,3],[37,9,37,10],[16,0,16,1],[27,6,27,7],[24,8,24,10],[38,8,38,11],[13,8,13,10],[15,0,15,3],[15,4,15,7],[15,8,15,11],[16,10,16,11],[26,0,26,3],[26,4,26,7],[26,8,26,11],[27,8,27,9],[35,0,35,2],[35,4,35,6],[35,8,35,10],[27,10,27,11],[16,8,16,9],[27,4,27,5],[47,0,47,2],[47,4,47,6],[38,0,38,3],[38,4,38,7],[39,4,39,5],[39,6,39,7]]}
[null,null,null,null,null,null,null,null,null,"Année scolaire : ",null,{"$f":"' Liste élèves'!B1","v":"2018-2019"}]
[]
["NOM : ",{"$f":"' Liste élèves'!A144","v":"PRINCIVALLIY"},null,"PRENOM:",{"$f":"' Liste élèves'!B144","v":"Yohan"},null,null,"CLASSE :",{"$f":"' Liste élèves'!C144","v":"Classe 8"}]
[]
["SEPTEMBRE",null,null,null,"OCTOBRE",null,null,null,"NOVEMBRE"]
["RECETTES",null,"DEPENSES",null,"RECETTES",null,"DEPENSES",null,"RECETTES",null,"DEPENSES"]
["Dates","Montant","Activités","Montant","Dates","Montant","Activités","Montant","Dates","Montant","Activités","Montant"]
["Report juin",40.200000000000003]
[]
[]
[]
[]
[null,{"$f":"SUM(B9:B12)","v":0},null,{"$f":"SUM(D8:D12)","v":0},null,{"$f":"SUM(F8:F12)","v":0},null,{"$f":"SUM(H8:H12)","v":0},null,{"$f":"SUM(J8:J12)","v":0},null,{"$f":"SUM(L8:L12)","v":0}]
["Récap 30/09",null,null,{"$f":"+B13-D13","v":0},"Récap 31/10",null,null,{"$f":"+F13-H13","v":0},"Récap 30/11",null,null,{"$f":"+J13-L13","v":0}]
[]
["DÉCEMBRE",null,null,null,"Situation fin décembre",null,null,null,"JANVIER"]
["RECETTES",null,"DEPENSES",null,null,"Recettes","Dépenses","Total","RECETTES",null,"DEPENSES"]
["Dates","Montant","Activités","Montant",{"$f":"A14","v":"Récap 30/09"},{"$f":"B13","v":0},{"$f":"D13","v":0},{"$f":"D14","v":0},"Dates","Montant","Activités","Montant"]
[null,null,null,null,{"$f":"E14","v":"Récap 31/10"},{"$f":"F13","v":0},{"$f":"H13","v":0},{"$f":"H14","v":0}]
[null,null,null,null,{"$f":"I14","v":"Récap 30/11"},{"$f":"J13","v":0},{"$f":"L13","v":0},{"$f":"L14","v":0}]
[null,null,null,null,{"$f":"A25","v":"Récap 31/12"},{"$f":"B24","v":0},{"$f":"D24","v":0},{"$f":"D25","v":0}]
[null,null,null,null,"Report Sept",null,null,{"$f":"B8","v":40.200000000000003}]
[null,null,null,null,"Situation 31/12",{"$f":"SUM(F18:F22)","v":0},{"$f":"SUM(G18:G22)","v":0},{"$f":"SUM(H18:H22)","v":40.200000000000003}]
[null,{"$f":"SUM(B19:B23)","v":0},null,{"$f":"SUM(D19:D23)","v":0},null,null,null,null,null,{"$f":"SUM(J19:J23)","v":0},null,{"$f":"SUM(L19:L23)","v":0}]
["Récap 31/12",null,null,{"$f":"+B24-D24","v":0},null,null,null,null,"Récap 31/01",null,null,{"$f":"+J24-L24","v":0}]
[]
["FÉVRIER",null,null,null,"MARS",null,null,null,"AVRIL"]
["RECETTES",null,"DEPENSES",null,"RECETTES",null,"DEPENSES",null,"RECETTES",null,"DEPENSES"]
["Dates","Montant","Activités","Montant","Dates","Montant","Activités","Montant","Dates","Montant","Activités","Montant"]
[]
[]
[]
[]
[]
[null,{"$f":"SUM(B30:B34)","v":0},null,{"$f":"SUM(D30:D34)","v":0},null,{"$f":"SUM(F30:F34)","v":0},null,{"$f":"SUM(H30:H34)","v":0},null,{"$f":"SUM(J30:J34)","v":0},null,{"$f":"SUM(L30:L34)","v":0}]
["Récap 28/02",null,null,{"$f":"+B35-D35","v":0},"Récap 31/03",null,null,{"$f":"+F35-H35","v":0},"Récap 30/04",null,null,{"$f":"+J35-L35","v":0}]
[]
[]
["MAI",null,null,null,"JUIN",null,null,null,"Situation fin juin"]
["RECETTES",null,"DEPENSES",null,"RECETTES",null,"DEPENSES",null,null,"Recettes","Dépenses","Total"]
["Dates","Montant","Activités","Montant","Dates","Montant","Activités","Montant",{"$f":"E23","v":"Situation 31/12"},null,null,{"$f":"H23","v":40.200000000000003}]
[null,null,null,null,null,null,null,null,{"$f":"I25","v":"Récap 31/01"},{"$f":"J24","v":0},{"$f":"L24","v":0},{"$f":"L25","v":0}]
[null,null,null,null,null,null,null,null,{"$f":"A36","v":"Récap 28/02"},{"$f":"B35","v":0},{"$f":"D35","v":0},{"$f":"D36","v":0}]
[null,null,null,null,null,null,null,null,{"$f":"E36","v":"Récap 31/03"},{"$f":"F35","v":0},{"$f":"H35","v":0},{"$f":"H36","v":0}]
[null,null,null,null,null,null,null,null,{"$f":"I36","v":"Récap 30/04"},{"$f":"J35","v":0},{"$f":"L35","v":0},{"$f":"L36","v":0}]
[null,null,null,null,null,null,null,null,{"$f":"A48","v":"Récap 31/05"},{"$f":"B47","v":0},{"$f":"D47","v":0},{"$f":"D48","v":0}]
[null,{"$f":"SUM(B42:B46)","v":0},null,{"$f":"SUM(D42:D46)","v":0},null,{"$f":"SUM(F42:F46)","v":0},null,{"$f":"SUM(H42:H46)","v":0},{"$f":"E48","v":"Récap 30/06"},{"$f":"F47","v":0},{"$f":"H47","v":0},{"$f":"H48","v":0}]
["Récap 31/05",null,null,{"$f":"+B47-D47","v":0},"Récap 30/06",null,null,{"$f":"+F47-H47","v":0},"Situation 30/06",{"$f":"SUM(J42:J47)","v":0},{"$f":"SUM(K42:K47)","v":0},{"$f":"SUM(L41:L47)","v":40.200000000000003}]
[]
[null,null,null,null,null,null,null,null,null,null,null,{"$f":"F23+J48-G23-K48+B8","v":40.200000000000003}]
[]
[null,null,null,null,null,null,null,null,null,{"$f":"B13+F13+J13+B24+J24+B35+F35+J35+B47+F47","v":0},{"$f":"D13+H13+L13+D24+L24+D35+H35+L35+D47+H47","v":0},{"$f":"B8+J52-K52","v":40.200000000000003}]

{"sheet":"RAFFAELE","index":144,"n_rows":52,"n_cols":12,"rows_kept":52,"cut":false,"hidden":false,"merged":[[0,9,0,10],[2,1,2,2],[2,4,2,5],[2,8,2,9],[5,8,5,9],[5,10,5,11],[4,0,4,3],[4,4,4,7],[4,8,4,11],[5,0,5,1],[5,2,5,3],[5,4,5,5],[5,6,5,7],[24,0,24,2],[13,0,13,2],[13,4,13,6],[16,2,16,3],[37,9,37,10],[16,0,16,1],[27,6,27,7],[24,8,24,10],[38,8,38,11],[13,8,13,10],[15,0,15,3],[15,4,15,7],[15,8,15,11],[16,10,16,11],[26,0,26,3],[26,4,26,7],[26,8,26,11],[27,8,27,9],[35,0,35,2],[35,4,35,6],[35,8,35,10],[27,10,27,11],[16,8,16,9],[27,4,27,5],[47,0,47,2],[47,4,47,6],[38,0,38,3],[38,4,38,7],[39,4,39,5],[39,6,39,7]]}
[null,null,null,null,null,null,null,null,null,"Année scolaire : ",null,{"$f":"' Liste élèves'!B1","v":"2018-2019"}]
[]
["NOM : ",{"$f":"' Liste élèves'!A145","v":"RAFFAELE"},null,"PRENOM:",{"$f":"' Liste élèves'!B145","v":"Alessia"},null,null,"CLASSE :",{"$f":"' Liste élèves'!C145","v":"Classe MA"}]
[]
["SEPTEMBRE",null,null,null,"OCTOBRE",null,null,null,"NOVEMBRE"]
["RECETTES",null,"DEPENSES",null,"RECETTES",null,"DEPENSES",null,"RECETTES",null,"DEPENSES"]
["Dates","Montant","Activités","Montant","Dates","Montant","Activités","Montant","Dates","Montant","Activités","Montant"]
["Report juin",-5.5]
[]
[]
[]
[]
[null,{"$f":"SUM(B9:B12)","v":0},null,{"$f":"SUM(D8:D12)","v":0},null,{"$f":"SUM(F8:F12)","v":0},null,{"$f":"SUM(H8:H12)","v":0},null,{"$f":"SUM(J8:J12)","v":0},null,{"$f":"SUM(L8:L12)","v":0}]
["Récap 30/09",null,null,{"$f":"+B13-D13","v":0},"Récap 31/10",null,null,{"$f":"+F13-H13","v":0},"Récap 30/11",null,null,{"$f":"+J13-L13","v":0}]
[]
["DÉCEMBRE",null,null,null,"Situation fin décembre",null,null,null,"JANVIER"]
["RECETTES",null,"DEPENSES",null,null,"Recettes","Dépenses","Total","RECETTES",null,"DEPENSES"]
["Dates","Montant","Activités","Montant",{"$f":"A14","v":"Récap 30/09"},{"$f":"B13","v":0},{"$f":"D13","v":0},{"$f":"D14","v":0},"Dates","Montant","Activités","Montant"]
[null,null,null,null,{"$f":"E14","v":"Récap 31/10"},{"$f":"F13","v":0},{"$f":"H13","v":0},{"$f":"H14","v":0}]
[null,null,null,null,{"$f":"I14","v":"Récap 30/11"},{"$f":"J13","v":0},{"$f":"L13","v":0},{"$f":"L14","v":0}]
[null,null,null,null,{"$f":"A25","v":"Récap 31/12"},{"$f":"B24","v":0},{"$f":"D24","v":0},{"$f":"D25","v":0}]
[null,null,null,null,"Report Sept",null,null,{"$f":"B8","v":-5.5}]
[null,null,null,null,"Situation 31/12",{"$f":"SUM(F18:F22)","v":0},{"$f":"SUM(G18:G22)","v":0},{"$f":"SUM(H18:H22)","v":-5.5}]
[null,{"$f":"SUM(B19:B23)","v":0},null,{"$f":"SUM(D19:D23)","v":0},null,null,null,null,null,{"$f":"SUM(J19:J23)","v":0},null,{"$f":"SUM(L19:L23)","v":0}]
["Récap 31/12",null,null,{"$f":"+B24-D24","v":0},null,null,null,null,"Récap 31/01",null,null,{"$f":"+J24-L24","v":0}]
[]
["FÉVRIER",null,null,null,"MARS",null,null,null,"AVRIL"]
["RECETTES",null,"DEPENSES",null,"RECETTES",null,"DEPENSES",null,"RECETTES",null,"DEPENSES"]
["Dates","Montant","Activités","Montant","Dates","Montant","Activités","Montant","Dates","Montant","Activités","Montant"]
[]
[]
[]
[]
[]
[null,{"$f":"SUM(B30:B34)","v":0},null,{"$f":"SUM(D30:D34)","v":0},null,{"$f":"SUM(F30:F34)","v":0},null,{"$f":"SUM(H30:H34)","v":0},null,{"$f":"SUM(J30:J34)","v":0},null,{"$f":"SUM(L30:L34)","v":0}]
["Récap 28/02",null,null,{"$f":"+B35-D35","v":0},"Récap 31/03",null,null,{"$f":"+F35-H35","v":0},"Récap 30/04",null,null,{"$f":"+J35-L35","v":0}]
[]
[]
["MAI",null,null,null,"JUIN",null,null,null,"Situation fin juin"]
["RECETTES",null,"DEPENSES",null,"RECETTES",null,"DEPENSES",null,null,"Recettes","Dépenses","Total"]
["Dates","Montant","Activités","Montant","Dates","Montant","Activités","Montant",{"$f":"E23","v":"Situation 31/12"},null,null,{"$f":"H23","v":-5.5}]
[null,null,null,null,null,null,null,null,{"$f":"I25","v":"Récap 31/01"},{"$f":"J24","v":0},{"$f":"L24","v":0},{"$f":"L25","v":0}]
[null,null,null,null,null,null,null,null,{"$f":"A36","v":"Récap 28/02"},{"$f":"B35","v":0},{"$f":"D35","v":0},{"$f":"D36","v":0}]
[null,null,null,null,null,null,null,null,{"$f":"E36","v":"Récap 31/03"},{"$f":"F35","v":0},{"$f":"H35","v":0},{"$f":"H36","v":0}]
[null,null,null,null,null,null,null,null,{"$f":"I36","v":"Récap 30/04"},{"$f":"J35","v":0},{"$f":"L35","v":0},{"$f":"L36","v":0}]
[null,null,null,null,null,null,null,null,{"$f":"A48","v":"Récap 31/05"},{"$f":"B47","v":0},{"$f":"D47","v":0},{"$f":"D48","v":0}]
[null,{"$f":"SUM(B42:B46)","v":0},null,{"$f":"SUM(D42:D46)","v":0},null,{"$f":"SUM(F42:F46)","v":0},null,{"$f":"SUM(H42:H46)","v":0},{"$f":"E48","v":"Récap 30/06"},{"$f":"F47","v":0},{"$f":"H47","v":0},{"$f":"H48","v":0}]
["Récap 31/05",null,null,{"$f":"+B47-D47","v":0},"Récap 30/06",null,null,{"$f":"+F47-H47","v":0},"Situation 30/06",{"$f":"SUM(J42:J47)","v":0},{"$f":"SUM(K42:K47)","v":0},{"$f":"SUM(L41:L47)","v":-5.5}]
[]
[null,null,null,null,null,null,null,null,null,null,null,{"$f":"F23+J48-G23-K48+B8","v":-5.5}]
[]
[null,null,null,null,null,null,null,null,null,{"$f":"B13+F13+J13+B24+J24+B35+F35+J35+B47+F47","v":0},{"$f":"D13+H13+L13+D24+L24+D35+H35+L35+D47+H47","v":0},{"$f":"B8+J52-K52","v":-5.5}]

{"sheet":"RENDERS","index":145,"n_rows":52,"n_cols":12,"rows_kept":52,"cut":false,"hidden":false,"merged":[[0,9,0,10],[2,1,2,2],[2,4,2,5],[2,8,2,9],[5,8,5,9],[5,10,5,11],[4,0,4,3],[4,4,4,7],[4,8,4,11],[5,0,5,1],[5,2,5,3],[5,4,5,5],[5,6,5,7],[24,0,24,2],[13,0,13,2],[13,4,13,6],[16,2,16,3],[37,9,37,10],[16,0,16,1],[27,6,27,7],[24,8,24,10],[38,8,38,11],[13,8,13,10],[15,0,15,3],[15,4,15,7],[15,8,15,11],[16,10,16,11],[26,0,26,3],[26,4,26,7],[26,8,26,11],[27,8,27,9],[35,0,35,2],[35,4,35,6],[35,8,35,10],[27,10,27,11],[16,8,16,9],[27,4,27,5],[47,0,47,2],[47,4,47,6],[38,0,38,3],[38,4,38,7],[39,4,39,5],[39,6,39,7]]}
[null,null,null,null,null,null,null,null,null,"Année scolaire : ",null,{"$f":"' Liste élèves'!B1","v":"2018-2019"}]
[]
["NOM : ",{"$f":"' Liste élèves'!A146","v":"RENDERS"},null,"PRENOM:",{"$f":"' Liste élèves'!B146","v":"Benoît"},null,null,"CLASSE :",{"$f":"' Liste élèves'!C146","v":"Classe 12"}]
[]
["SEPTEMBRE",null,null,null,"OCTOBRE",null,null,null,"NOVEMBRE"]
["RECETTES",null,"DEPENSES",null,"RECETTES",null,"DEPENSES",null,"RECETTES",null,"DEPENSES"]
["Dates","Montant","Activités","Montant","Dates","Montant","Activités","Montant","Dates","Montant","Activités","Montant"]
["Report juin",38]
[]
[]
[]
[]
[null,{"$f":"SUM(B9:B12)","v":0},null,{"$f":"SUM(D8:D12)","v":0},null,{"$f":"SUM(F8:F12)","v":0},null,{"$f":"SUM(H8:H12)","v":0},null,{"$f":"SUM(J8:J12)","v":0},null,{"$f":"SUM(L8:L12)","v":0}]
["Récap 30/09",null,null,{"$f":"+B13-D13","v":0},"Récap 31/10",null,null,{"$f":"+F13-H13","v":0},"Récap 30/11",null,null,{"$f":"+J13-L13","v":0}]
[]
["DÉCEMBRE",null,null,null,"Situation fin décembre",null,null,null,"JANVIER"]
["RECETTES",null,"DEPENSES",null,null,"Recettes","Dépenses","Total","RECETTES",null,"DEPENSES"]
["Dates","Montant","Activités","Montant",{"$f":"A14","v":"Récap 30/09"},{"$f":"B13","v":0},{"$f":"D13","v":0},{"$f":"D14","v":0},"Dates","Montant","Activités","Montant"]
[null,null,null,null,{"$f":"E14","v":"Récap 31/10"},{"$f":"F13","v":0},{"$f":"H13","v":0},{"$f":"H14","v":0}]
[null,null,null,null,{"$f":"I14","v":"Récap 30/11"},{"$f":"J13","v":0},{"$f":"L13","v":0},{"$f":"L14","v":0}]
[null,null,null,null,{"$f":"A25","v":"Récap 31/12"},{"$f":"B24","v":0},{"$f":"D24","v":0},{"$f":"D25","v":0}]
[null,null,null,null,"Report Sept",null,null,{"$f":"B8","v":38}]
[null,null,null,null,"Situation 31/12",{"$f":"SUM(F18:F22)","v":0},{"$f":"SUM(G18:G22)","v":0},{"$f":"SUM(H18:H22)","v":38}]
[null,{"$f":"SUM(B19:B23)","v":0},null,{"$f":"SUM(D19:D23)","v":0},null,null,null,null,null,{"$f":"SUM(J19:J23)","v":0},null,{"$f":"SUM(L19:L23)","v":0}]
["Récap 31/12",null,null,{"$f":"+B24-D24","v":0},null,null,null,null,"Récap 31/01",null,null,{"$f":"+J24-L24","v":0}]
[]
["FÉVRIER",null,null,null,"MARS",null,null,null,"AVRIL"]
["RECETTES",null,"DEPENSES",null,"RECETTES",null,"DEPENSES",null,"RECETTES",null,"DEPENSES"]
["Dates","Montant","Activités","Montant","Dates","Montant","Activités","Montant","Dates","Montant","Activités","Montant"]
[]
[]
[]
[]
[]
[null,{"$f":"SUM(B30:B34)","v":0},null,{"$f":"SUM(D30:D34)","v":0},null,{"$f":"SUM(F30:F34)","v":0},null,{"$f":"SUM(H30:H34)","v":0},null,{"$f":"SUM(J30:J34)","v":0},null,{"$f":"SUM(L30:L34)","v":0}]
["Récap 28/02",null,null,{"$f":"+B35-D35","v":0},"Récap 31/03",null,null,{"$f":"+F35-H35","v":0},"Récap 30/04",null,null,{"$f":"+J35-L35","v":0}]
[]
[]
["MAI",null,null,null,"JUIN",null,null,null,"Situation fin juin"]
["RECETTES",null,"DEPENSES",null,"RECETTES",null,"DEPENSES",null,null,"Recettes","Dépenses","Total"]
["Dates","Montant","Activités","Montant","Dates","Montant","Activités","Montant",{"$f":"E23","v":"Situation 31/12"},null,null,{"$f":"H23","v":38}]
[null,null,null,null,null,null,null,null,{"$f":"I25","v":"Récap 31/01"},{"$f":"J24","v":0},{"$f":"L24","v":0},{"$f":"L25","v":0}]
[null,null,null,null,null,null,null,null,{"$f":"A36","v":"Récap 28/02"},{"$f":"B35","v":0},{"$f":"D35","v":0},{"$f":"D36","v":0}]
[null,null,null,null,null,null,null,null,{"$f":"E36","v":"Récap 31/03"},{"$f":"F35","v":0},{"$f":"H35","v":0},{"$f":"H36","v":0}]
[null,null,null,null,null,null,null,null,{"$f":"I36","v":"Récap 30/04"},{"$f":"J35","v":0},{"$f":"L35","v":0},{"$f":"L36","v":0}]
[null,null,null,null,null,null,null,null,{"$f":"A48","v":"Récap 31/05"},{"$f":"B47","v":0},{"$f":"D47","v":0},{"$f":"D48","v":0}]
[null,{"$f":"SUM(B42:B46)","v":0},null,{"$f":"SUM(D42:D46)","v":0},null,{"$f":"SUM(F42:F46)","v":0},null,{"$f":"SUM(H42:H46)","v":0},{"$f":"E48","v":"Récap 30/06"},{"$f":"F47","v":0},{"$f":"H47","v":0},{"$f":"H48","v":0}]
["Récap 31/05",null,null,{"$f":"+B47-D47","v":0},"Récap 30/06",null,null,{"$f":"+F47-H47","v":0},"Situation 30/06",{"$f":"SUM(J42:J47)","v":0},{"$f":"SUM(K42:K47)","v":0},{"$f":"SUM(L41:L47)","v":38}]
[]
[null,null,null,null,null,null,null,null,null,null,null,{"$f":"F23+J48-G23-K48+B8","v":38}]
[]
[null,null,null,null,null,null,null,null,null,{"$f":"B13+F13+J13+B24+J24+B35+F35+J35+B47+F47","v":0},{"$f":"D13+H13+L13+D24+L24+D35+H35+L35+D47+H47","v":0},{"$f":"B8+J52-K52","v":38}]

{"sheet":"RINCHARD","index":146,"n_rows":52,"n_cols":12,"rows_kept":52,"cut":false,"hidden":false,"merged":[[0,9,0,10],[2,1,2,2],[2,4,2,5],[2,8,2,9],[5,8,5,9],[5,10,5,11],[4,0,4,3],[4,4,4,7],[4,8,4,11],[5,0,5,1],[5,2,5,3],[5,4,5,5],[5,6,5,7],[24,0,24,2],[13,0,13,2],[13,4,13,6],[16,2,16,3],[37,9,37,10],[16,0,16,1],[27,6,27,7],[24,8,24,10],[38,8,38,11],[13,8,13,10],[15,0,15,3],[15,4,15,7],[15,8,15,11],[16,10,16,11],[26,0,26,3],[26,4,26,7],[26,8,26,11],[27,8,27,9],[35,0,35,2],[35,4,35,6],[35,8,35,10],[27,10,27,11],[16,8,16,9],[27,4,27,5],[47,0,47,2],[47,4,47,6],[38,0,38,3],[38,4,38,7],[39,4,39,5],[39,6,39,7]]}
[null,null,null,null,null,null,null,null,null,"Année scolaire : ",null,{"$f":"' Liste élèves'!B1","v":"2018-2019"}]
[]
["NOM : ",{"$f":"' Liste élèves'!A147","v":"RINCHARD"},null,"PRENOM:",{"$f":"' Liste élèves'!B147","v":"Esteban"},null,null,"CLASSE :",{"$f":"' Liste élèves'!C147","v":"Classe AA"}]
[]
["SEPTEMBRE",null,null,null,"OCTOBRE",null,null,null,"NOVEMBRE"]
["RECETTES",null,"DEPENSES",null,"RECETTES",null,"DEPENSES",null,"RECETTES",null,"DEPENSES"]
["Dates","Montant","Activités","Montant","Dates","Montant","Activités","Montant","Dates","Montant","Activités","Montant"]
["Report juin",-3]
[]
[]
[]
[]
[null,{"$f":"SUM(B9:B12)","v":0},null,{"$f":"SUM(D8:D12)","v":0},null,{"$f":"SUM(F8:F12)","v":0},null,{"$f":"SUM(H8:H12)","v":0},null,{"$f":"SUM(J8:J12)","v":0},null,{"$f":"SUM(L8:L12)","v":0}]
["Récap 30/09",null,null,{"$f":"+B13-D13","v":0},"Récap 31/10",null,null,{"$f":"+F13-H13","v":0},"Récap 30/11",null,null,{"$f":"+J13-L13","v":0}]
[]
["DÉCEMBRE",null,null,null,"Situation fin décembre",null,null,null,"JANVIER"]
["RECETTES",null,"DEPENSES",null,null,"Recettes","Dépenses","Total","RECETTES",null,"DEPENSES"]
["Dates","Montant","Activités","Montant",{"$f":"A14","v":"Récap 30/09"},{"$f":"B13","v":0},{"$f":"D13","v":0},{"$f":"D14","v":0},"Dates","Montant","Activités","Montant"]
[null,null,null,null,{"$f":"E14","v":"Récap 31/10"},{"$f":"F13","v":0},{"$f":"H13","v":0},{"$f":"H14","v":0}]
[null,null,null,null,{"$f":"I14","v":"Récap 30/11"},{"$f":"J13","v":0},{"$f":"L13","v":0},{"$f":"L14","v":0}]
[null,null,null,null,{"$f":"A25","v":"Récap 31/12"},{"$f":"B24","v":0},{"$f":"D24","v":0},{"$f":"D25","v":0}]
[null,null,null,null,"Report Sept",null,null,{"$f":"B8","v":-3}]
[null,null,null,null,"Situation 31/12",{"$f":"SUM(F18:F22)","v":0},{"$f":"SUM(G18:G22)","v":0},{"$f":"SUM(H18:H22)","v":-3}]
[null,{"$f":"SUM(B19:B23)","v":0},null,{"$f":"SUM(D19:D23)","v":0},null,null,null,null,null,{"$f":"SUM(J19:J23)","v":0},null,{"$f":"SUM(L19:L23)","v":0}]
["Récap 31/12",null,null,{"$f":"+B24-D24","v":0},null,null,null,null,"Récap 31/01",null,null,{"$f":"+J24-L24","v":0}]
[]
["FÉVRIER",null,null,null,"MARS",null,null,null,"AVRIL"]
["RECETTES",null,"DEPENSES",null,"RECETTES",null,"DEPENSES",null,"RECETTES",null,"DEPENSES"]
["Dates","Montant","Activités","Montant","Dates","Montant","Activités","Montant","Dates","Montant","Activités","Montant"]
[]
[]
[]
[]
[]
[null,{"$f":"SUM(B30:B34)","v":0},null,{"$f":"SUM(D30:D34)","v":0},null,{"$f":"SUM(F30:F34)","v":0},null,{"$f":"SUM(H30:H34)","v":0},null,{"$f":"SUM(J30:J34)","v":0},null,{"$f":"SUM(L30:L34)","v":0}]
["Récap 28/02",null,null,{"$f":"+B35-D35","v":0},"Récap 31/03",null,null,{"$f":"+F35-H35","v":0},"Récap 30/04",null,null,{"$f":"+J35-L35","v":0}]
[]
[]
["MAI",null,null,null,"JUIN",null,null,null,"Situation fin juin"]
["RECETTES",null,"DEPENSES",null,"RECETTES",null,"DEPENSES",null,null,"Recettes","Dépenses","Total"]
["Dates","Montant","Activités","Montant","Dates","Montant","Activités","Montant",{"$f":"E23","v":"Situation 31/12"},null,null,{"$f":"H23","v":-3}]
[null,null,null,null,null,null,null,null,{"$f":"I25","v":"Récap 31/01"},{"$f":"J24","v":0},{"$f":"L24","v":0},{"$f":"L25","v":0}]
[null,null,null,null,null,null,null,null,{"$f":"A36","v":"Récap 28/02"},{"$f":"B35","v":0},{"$f":"D35","v":0},{"$f":"D36","v":0}]
[null,null,null,null,null,null,null,null,{"$f":"E36","v":"Récap 31/03"},{"$f":"F35","v":0},{"$f":"H35","v":0},{"$f":"H36","v":0}]
[null,null,null,null,null,null,null,null,{"$f":"I36","v":"Récap 30/04"},{"$f":"J35","v":0},{"$f":"L35","v":0},{"$f":"L36","v":0}]
[null,null,null,null,null,null,null,null,{"$f":"A48","v":"Récap 31/05"},{"$f":"B47","v":0},{"$f":"D47","v":0},{"$f":"D48","v":0}]
[null,{"$f":"SUM(B42:B46)","v":0},null,{"$f":"SUM(D42:D46)","v":0},null,{"$f":"SUM(F42:F46)","v":0},null,{"$f":"SUM(H42:H46)","v":0},{"$f":"E48","v":"Récap 30/06"},{"$f":"F47","v":0},{"$f":"H47","v":0},{"$f":"H48","v":0}]
["Récap 31/05",null,null,{"$f":"+B47-D47","v":0},"Récap 30/06",null,null,{"$f":"+F47-H47","v":0},"Situation 30/06",{"$f":"SUM(J42:J47)","v":0},{"$f":"SUM(K42:K47)","v":0},{"$f":"SUM(L41:L47)","v":-3}]
[]
[null,null,null,null,null,null,null,null,null,null,null,{"$f":"F23+J48-G23-K48+B8","v":-3}]
[]
[null,null,null,null,null,null,null,null,null,{"$f":"B13+F13+J13+B24+J24+B35+F35+J35+B47+F47","v":0},{"$f":"D13+H13+L13+D24+L24+D35+H35+L35+D47+H47","v":0},{"$f":"B8+J52-K52","v":-3}]

{"sheet":"SAGHROU","index":147,"n_rows":52,"n_cols":12,"rows_kept":52,"cut":false,"hidden":false,"merged":[[47,0,47,2],[47,4,47,6],[38,0,38,3],[38,4,38,7],[35,0,35,2],[35,4,35,6],[38,8,38,11],[39,4,39,5],[39,6,39,7],[16,2,16,3],[16,8,16,9],[16,10,16,11],[27,4,27,5],[27,6,27,7],[27,8,27,9],[27,10,27,11],[24,0,24,2],[24,8,24,10],[37,9,37,10],[26,0,26,3],[26,4,26,7],[26,8,26,11],[16,0,16,1],[35,8,35,10],[15,0,15,3],[15,4,15,7],[13,0,13,2],[13,4,13,6],[13,8,13,10],[15,8,15,11],[0,9,0,10],[2,1,2,2],[2,4,2,5],[2,8,2,9],[5,8,5,9],[5,10,5,11],[5,0,5,1],[4,0,4,3],[4,4,4,7],[4,8,4,11],[5,2,5,3],[5,4,5,5],[5,6,5,7]]}
[null,null,null,null,null,null,null,null,null,"Année scolaire : ",null,{"$f":"' Liste élèves'!B1","v":"2018-2019"}]
[]
["NOM : ",{"$f":"' Liste élèves'!A148","v":"SAGHROU"},null,"PRENOM:",{"$f":"' Liste élèves'!B148","v":"Zakariya"},null,null,"CLASSE :",{"$f":"' Liste élèves'!C148","v":"Classe 3"}]
[]
["SEPTEMBRE",null,null,null,"OCTOBRE",null,null,null,"NOVEMBRE"]
["RECETTES",null,"DEPENSES",null,"RECETTES",null,"DEPENSES",null,"RECETTES",null,"DEPENSES"]
["Dates","Montant","Activités","Montant","Dates","Montant","Activités","Montant","Dates","Montant","Activités","Montant"]
["Report juin",38]
[]
[]
[]
[]
[null,{"$f":"SUM(B9:B12)","v":0},null,{"$f":"SUM(D8:D12)","v":0},null,{"$f":"SUM(F8:F12)","v":0},null,{"$f":"SUM(H8:H12)","v":0},null,{"$f":"SUM(J8:J12)","v":0},null,{"$f":"SUM(L8:L12)","v":0}]
["Récap 30/09",null,null,{"$f":"+B13-D13","v":0},"Récap 31/10",null,null,{"$f":"+F13-H13","v":0},"Récap 30/11",null,null,{"$f":"+J13-L13","v":0}]
[]
["DÉCEMBRE",null,null,null,"Situation fin décembre",null,null,null,"JANVIER"]
["RECETTES",null,"DEPENSES",null,null,"Recettes","Dépenses","Total","RECETTES",null,"DEPENSES"]
["Dates","Montant","Activités","Montant",{"$f":"A14","v":"Récap 30/09"},{"$f":"B13","v":0},{"$f":"D13","v":0},{"$f":"D14","v":0},"Dates","Montant","Activités","Montant"]
[null,null,null,null,{"$f":"E14","v":"Récap 31/10"},{"$f":"F13","v":0},{"$f":"H13","v":0},{"$f":"H14","v":0}]
[null,null,null,null,{"$f":"I14","v":"Récap 30/11"},{"$f":"J13","v":0},{"$f":"L13","v":0},{"$f":"L14","v":0}]
[null,null,null,null,{"$f":"A25","v":"Récap 31/12"},{"$f":"B24","v":0},{"$f":"D24","v":0},{"$f":"D25","v":0}]
[null,null,null,null,"Report Sept",null,null,{"$f":"B8","v":38}]
[null,null,null,null,"Situation 31/12",{"$f":"SUM(F18:F22)","v":0},{"$f":"SUM(G18:G22)","v":0},{"$f":"SUM(H18:H22)","v":38}]
[null,{"$f":"SUM(B19:B23)","v":0},null,{"$f":"SUM(D19:D23)","v":0},null,null,null,null,null,{"$f":"SUM(J19:J23)","v":0},null,{"$f":"SUM(L19:L23)","v":0}]
["Récap 31/12",null,null,{"$f":"+B24-D24","v":0},null,null,null,null,"Récap 31/01",null,null,{"$f":"+J24-L24","v":0}]
[]
["FÉVRIER",null,null,null,"MARS",null,null,null,"AVRIL"]
["RECETTES",null,"DEPENSES",null,"RECETTES",null,"DEPENSES",null,"RECETTES",null,"DEPENSES"]
["Dates",null,"Activités","Montant","Dates","Montant","Activités","Montant","Dates","Montant","Activités","Montant"]
[]
[]
[]
[]
[]
[null,{"$f":"SUM(B30:B34)","v":0},null,{"$f":"SUM(D30:D34)","v":0},null,{"$f":"SUM(F30:F34)","v":0},null,{"$f":"SUM(H30:H34)","v":0},null,{"$f":"SUM(J30:J34)","v":0},null,{"$f":"SUM(L30:L34)","v":0}]
["Récap 28/02",null,null,{"$f":"+B35-D35","v":0},"Récap 31/03",null,null,{"$f":"+F35-H35","v":0},"Récap 30/04",null,null,{"$f":"+J35-L35","v":0}]
[]
[]
["MAI",null,null,null,"JUIN",null,null,null,"Situation fin juin"]
["RECETTES",null,"DEPENSES",null,"RECETTES",null,"DEPENSES",null,null,"Recettes","Dépenses","Total"]
["Dates","Montant","Activités","Montant","Dates","Montant","Activités","Montant",{"$f":"E23","v":"Situation 31/12"},null,null,{"$f":"H23","v":38}]
[null,null,null,null,null,null,null,null,{"$f":"I25","v":"Récap 31/01"},{"$f":"J24","v":0},{"$f":"L24","v":0},{"$f":"L25","v":0}]
[null,null,null,null,null,null,null,null,{"$f":"A36","v":"Récap 28/02"},{"$f":"B35","v":0},{"$f":"D35","v":0},{"$f":"D36","v":0}]
[null,null,null,null,null,null,null,null,{"$f":"E36","v":"Récap 31/03"},{"$f":"F35","v":0},{"$f":"H35","v":0},{"$f":"H36","v":0}]
[null,null,null,null,null,null,null,null,{"$f":"I36","v":"Récap 30/04"},{"$f":"J35","v":0},{"$f":"L35","v":0},{"$f":"L36","v":0}]
[null,null,null,null,null,null,null,null,{"$f":"A48","v":"Récap 31/05"},{"$f":"B47","v":0},{"$f":"D47","v":0},{"$f":"D48","v":0}]
[null,{"$f":"SUM(B42:B46)","v":0},null,{"$f":"SUM(D42:D46)","v":0},null,{"$f":"SUM(F42:F46)","v":0},null,{"$f":"SUM(H42:H46)","v":0},{"$f":"E48","v":"Récap 30/06"},{"$f":"F47","v":0},{"$f":"H47","v":0},{"$f":"H48","v":0}]
["Récap 31/05",null,null,{"$f":"+B47-D47","v":0},"Récap 30/06",null,null,{"$f":"+F47-H47","v":0},"Situation 30/06",{"$f":"SUM(J42:J47)","v":0},{"$f":"SUM(K42:K47)","v":0},{"$f":"SUM(L41:L47)","v":38}]
[]
[null,null,null,null,null,null,null,null,null,null,null,{"$f":"F23+J48-G23-K48+B8","v":38}]
[]
[null,null,null,null,null,null,null,null,null,{"$f":"B13+F13+J13+B24+J24+B35+F35+J35+B47+F47","v":0},{"$f":"D13+H13+L13+D24+L24+D35+H35+L35+D47+H47","v":0},{"$f":"B8+J52-K52","v":38}]

{"sheet":"SAUTEUR","index":148,"n_rows":52,"n_cols":12,"rows_kept":52,"cut":false,"hidden":false,"merged":[[47,0,47,2],[47,4,47,6],[38,0,38,3],[38,4,38,7],[35,0,35,2],[35,4,35,6],[38,8,38,11],[39,4,39,5],[39,6,39,7],[16,2,16,3],[16,8,16,9],[16,10,16,11],[27,4,27,5],[27,6,27,7],[27,8,27,9],[27,10,27,11],[24,0,24,2],[24,8,24,10],[37,9,37,10],[26,0,26,3],[26,4,26,7],[26,8,26,11],[16,0,16,1],[35,8,35,10],[15,0,15,3],[15,4,15,7],[13,0,13,2],[13,4,13,6],[13,8,13,10],[15,8,15,11],[0,9,0,10],[2,1,2,2],[2,4,2,5],[2,8,2,9],[5,8,5,9],[5,10,5,11],[5,0,5,1],[4,0,4,3],[4,4,4,7],[4,8,4,11],[5,2,5,3],[5,4,5,5],[5,6,5,7]]}
[null,null,null,null,null,null,null,null,null,"Année scolaire : ",null,{"$f":"' Liste élèves'!B1","v":"2018-2019"}]
[]
["NOM : ",{"$f":"' Liste élèves'!A149","v":"SAUTEUR"},null,"PRENOM:",{"$f":"' Liste élèves'!B149","v":"Nolan"},null,null,"CLASSE :",{"$f":"' Liste élèves'!C149","v":"Classe MB"}]
[]
["SEPTEMBRE",null,null,null,"OCTOBRE",null,null,null,"NOVEMBRE"]
["RECETTES",null,"DEPENSES",null,"RECETTES",null,"DEPENSES",null,"RECETTES",null,"DEPENSES"]
["Dates","Montant","Activités","Montant","Dates","Montant","Activités","Montant","Dates","Montant","Activités","Montant"]
["Report juin"]
[null,32]
[]
[]
[]
[null,{"$f":"SUM(B9:B12)","v":32},null,{"$f":"SUM(D8:D12)","v":0},null,{"$f":"SUM(F8:F12)","v":0},null,{"$f":"SUM(H8:H12)","v":0},null,{"$f":"SUM(J8:J12)","v":0},null,{"$f":"SUM(L8:L12)","v":0}]
["Récap 30/09",null,null,{"$f":"+B13-D13","v":32},"Récap 31/10",null,null,{"$f":"+F13-H13","v":0},"Récap 30/11",null,null,{"$f":"+J13-L13","v":0}]
[]
["DÉCEMBRE",null,null,null,"Situation fin décembre",null,null,null,"JANVIER"]
["RECETTES",null,"DEPENSES",null,null,"Recettes","Dépenses","Total","RECETTES",null,"DEPENSES"]
["Dates","Montant","Activités","Montant",{"$f":"A14","v":"Récap 30/09"},{"$f":"B13","v":32},{"$f":"D13","v":0},{"$f":"D14","v":32},"Dates","Montant","Activités","Montant"]
[null,null,null,null,{"$f":"E14","v":"Récap 31/10"},{"$f":"F13","v":0},{"$f":"H13","v":0},{"$f":"H14","v":0}]
[null,null,null,null,{"$f":"I14","v":"Récap 30/11"},{"$f":"J13","v":0},{"$f":"L13","v":0},{"$f":"L14","v":0}]
[null,null,null,null,{"$f":"A25","v":"Récap 31/12"},{"$f":"B24","v":0},{"$f":"D24","v":0},{"$f":"D25","v":0}]
[null,null,null,null,"Report Sept",null,null,{"$f":"B8","v":0}]
[null,null,null,null,"Situation 31/12",{"$f":"SUM(F18:F22)","v":32},{"$f":"SUM(G18:G22)","v":0},{"$f":"SUM(H18:H22)","v":32}]
[null,{"$f":"SUM(B19:B23)","v":0},null,{"$f":"SUM(D19:D23)","v":0},null,null,null,null,null,{"$f":"SUM(J19:J23)","v":0},null,{"$f":"SUM(L19:L23)","v":0}]
["Récap 31/12",null,null,{"$f":"+B24-D24","v":0},null,null,null,null,"Récap 31/01",null,null,{"$f":"+J24-L24","v":0}]
[]
["FÉVRIER",null,null,null,"MARS",null,null,null,"AVRIL"]
["RECETTES",null,"DEPENSES",null,"RECETTES",null,"DEPENSES",null,"RECETTES",null,"DEPENSES"]
["Dates","Montant","Activités","Montant","Dates","Montant","Activités","Montant","Dates","Montant","Activités","Montant"]
[]
[]
[]
[]
[]
[null,{"$f":"SUM(B30:B34)","v":0},null,{"$f":"SUM(D30:D34)","v":0},null,{"$f":"SUM(F30:F34)","v":0},null,{"$f":"SUM(H30:H34)","v":0},null,{"$f":"SUM(J30:J34)","v":0},null,{"$f":"SUM(L30:L34)","v":0}]
["Récap 28/02",null,null,{"$f":"+B35-D35","v":0},"Récap 31/03",null,null,{"$f":"+F35-H35","v":0},"Récap 30/04",null,null,{"$f":"+J35-L35","v":0}]
[]
[]
["MAI",null,null,null,"JUIN",null,null,null,"Situation fin juin"]
["RECETTES",null,"DEPENSES",null,"RECETTES",null,"DEPENSES",null,null,"Recettes","Dépenses","Total"]
["Dates","Montant","Activités","Montant","Dates","Montant","Activités","Montant",{"$f":"E23","v":"Situation 31/12"},null,null,{"$f":"H23","v":32}]
[null,null,null,null,null,null,null,null,{"$f":"I25","v":"Récap 31/01"},{"$f":"J24","v":0},{"$f":"L24","v":0},{"$f":"L25","v":0}]
[null,null,null,null,null,null,null,null,{"$f":"A36","v":"Récap 28/02"},{"$f":"B35","v":0},{"$f":"D35","v":0},{"$f":"D36","v":0}]
[null,null,null,null,null,null,null,null,{"$f":"E36","v":"Récap 31/03"},{"$f":"F35","v":0},{"$f":"H35","v":0},{"$f":"H36","v":0}]
[null,null,null,null,null,null,null,null,{"$f":"I36","v":"Récap 30/04"},{"$f":"J35","v":0},{"$f":"L35","v":0},{"$f":"L36","v":0}]
[null,null,null,null,null,null,null,null,{"$f":"A48","v":"Récap 31/05"},{"$f":"B47","v":0},{"$f":"D47","v":0},{"$f":"D48","v":0}]
[null,{"$f":"SUM(B42:B46)","v":0},null,{"$f":"SUM(D42:D46)","v":0},null,{"$f":"SUM(F42:F46)","v":0},null,{"$f":"SUM(H42:H46)","v":0},{"$f":"E48","v":"Récap 30/06"},{"$f":"F47","v":0},{"$f":"H47","v":0},{"$f":"H48","v":0}]
["Récap 31/05",null,null,{"$f":"+B47-D47","v":0},"Récap 30/06",null,null,{"$f":"+F47-H47","v":0},"Situation 30/06",{"$f":"SUM(J42:J47)","v":0},{"$f":"SUM(K42:K47)","v":0},{"$f":"SUM(L41:L47)","v":32}]
[]
[null,null,null,null,null,null,null,null,null,null,null,{"$f":"F23+J48-G23-K48+B8","v":32}]
[]
[null,null,null,null,null,null,null,null,null,{"$f":"B13+F13+J13+B24+J24+B35+F35+J35+B47+F47","v":32},{"$f":"D13+H13+L13+D24+L24+D35+H35+L35+D47+H47","v":0},{"$f":"B8+J52-K52","v":32}]

{"sheet":"SAYE","index":149,"n_rows":52,"n_cols":12,"rows_kept":52,"cut":false,"hidden":false,"merged":[[47,0,47,2],[47,4,47,6],[38,0,38,3],[38,4,38,7],[35,0,35,2],[35,4,35,6],[38,8,38,11],[39,4,39,5],[39,6,39,7],[16,2,16,3],[16,8,16,9],[16,10,16,11],[27,4,27,5],[27,6,27,7],[27,8,27,9],[27,10,27,11],[24,0,24,2],[24,8,24,10],[37,9,37,10],[26,0,26,3],[26,4,26,7],[26,8,26,11],[16,0,16,1],[35,8,35,10],[15,0,15,3],[15,4,15,7],[13,0,13,2],[13,4,13,6],[13,8,13,10],[15,8,15,11],[0,9,0,10],[2,1,2,2],[2,4,2,5],[2,8,2,9],[5,8,5,9],[5,10,5,11],[5,0,5,1],[4,0,4,3],[4,4,4,7],[4,8,4,11],[5,2,5,3],[5,4,5,5],[5,6,5,7]]}
[null,null,null,null,null,null,null,null,null,"Année scolaire : ",null,{"$f":"' Liste élèves'!B1","v":"2018-2019"}]
[]
["NOM : ",{"$f":"' Liste élèves'!A150","v":"SAYE"},null,"PRENOM:",{"$f":"' Liste élèves'!B150","v":"Gwendoline"},null,null,"CLASSE :",{"$f":"' Liste élèves'!C150","v":"Classe MC"}]
[]
["SEPTEMBRE",null,null,null,"OCTOBRE",null,null,null,"NOVEMBRE"]
["RECETTES",null,"DEPENSES",null,"RECETTES",null,"DEPENSES",null,"RECETTES",null,"DEPENSES"]
["Dates","Montant","Activités","Montant","Dates","Montant","Activités","Montant","Dates","Montant","Activités","Montant"]
["Report juin",14.1]
[]
[]
[]
[]
[null,{"$f":"SUM(B9:B12)","v":0},null,{"$f":"SUM(D8:D12)","v":0},null,{"$f":"SUM(F8:F12)","v":0},null,{"$f":"SUM(H8:H12)","v":0},null,{"$f":"SUM(J8:J12)","v":0},null,{"$f":"SUM(L8:L12)","v":0}]
["Récap 30/09",null,null,{"$f":"+B13-D13","v":0},"Récap 31/10",null,null,{"$f":"+F13-H13","v":0},"Récap 30/11",null,null,{"$f":"+J13-L13","v":0}]
[]
["DÉCEMBRE",null,null,null,"Situation fin décembre",null,null,null,"JANVIER"]
["RECETTES",null,"DEPENSES",null,null,"Recettes","Dépenses","Total","RECETTES",null,"DEPENSES"]
["Dates","Montant","Activités","Montant",{"$f":"A14","v":"Récap 30/09"},{"$f":"B13","v":0},{"$f":"D13","v":0},{"$f":"D14","v":0},"Dates","Montant","Activités","Montant"]
[null,null,null,null,{"$f":"E14","v":"Récap 31/10"},{"$f":"F13","v":0},{"$f":"H13","v":0},{"$f":"H14","v":0}]
[null,null,null,null,{"$f":"I14","v":"Récap 30/11"},{"$f":"J13","v":0},{"$f":"L13","v":0},{"$f":"L14","v":0}]
[null,null,null,null,{"$f":"A25","v":"Récap 31/12"},{"$f":"B24","v":0},{"$f":"D24","v":0},{"$f":"D25","v":0}]
[null,null,null,null,"Report Sept",null,null,{"$f":"B8","v":14.1}]
[null,null,null,null,"Situation 31/12",{"$f":"SUM(F18:F22)","v":0},{"$f":"SUM(G18:G22)","v":0},{"$f":"SUM(H18:H22)","v":14.1}]
[null,{"$f":"SUM(B19:B23)","v":0},null,{"$f":"SUM(D19:D23)","v":0},null,null,null,null,null,{"$f":"SUM(J19:J23)","v":0},null,{"$f":"SUM(L19:L23)","v":0}]
["Récap 31/12",null,null,{"$f":"+B24-D24","v":0},null,null,null,null,"Récap 31/01",null,null,{"$f":"+J24-L24","v":0}]
[]
["FÉVRIER",null,null,null,"MARS",null,null,null,"AVRIL"]
["RECETTES",null,"DEPENSES",null,"RECETTES",null,"DEPENSES",null,"RECETTES",null,"DEPENSES"]
["Dates","Montant","Activités","Montant","Dates","Montant","Activités","Montant","Dates","Montant","Activités","Montant"]
[]
[]
[]
[]
[]
[null,{"$f":"SUM(B30:B34)","v":0},null,{"$f":"SUM(D30:D34)","v":0},null,{"$f":"SUM(F30:F34)","v":0},null,{"$f":"SUM(H30:H34)","v":0},null,{"$f":"SUM(J30:J34)","v":0},null,{"$f":"SUM(L30:L34)","v":0}]
["Récap 28/02",null,null,{"$f":"+B35-D35","v":0},"Récap 31/03",null,null,{"$f":"+F35-H35","v":0},"Récap 30/04",null,null,{"$f":"+J35-L35","v":0}]
[]
[]
["MAI",null,null,null,"JUIN",null,null,null,"Situation fin juin"]
["RECETTES",null,"DEPENSES",null,"RECETTES",null,"DEPENSES",null,null,"Recettes","Dépenses","Total"]
["Dates","Montant","Activités","Montant","Dates","Montant","Activités","Montant",{"$f":"E23","v":"Situation 31/12"},null,null,{"$f":"H23","v":14.1}]
[null,null,null,null,null,null,null,null,{"$f":"I25","v":"Récap 31/01"},{"$f":"J24","v":0},{"$f":"L24","v":0},{"$f":"L25","v":0}]
[null,null,null,null,null,null,null,null,{"$f":"A36","v":"Récap 28/02"},{"$f":"B35","v":0},{"$f":"D35","v":0},{"$f":"D36","v":0}]
[null,null,null,null,null,null,null,null,{"$f":"E36","v":"Récap 31/03"},{"$f":"F35","v":0},{"$f":"H35","v":0},{"$f":"H36","v":0}]
[null,null,null,null,null,null,null,null,{"$f":"I36","v":"Récap 30/04"},{"$f":"J35","v":0},{"$f":"L35","v":0},{"$f":"L36","v":0}]
[null,null,null,null,null,null,null,null,{"$f":"A48","v":"Récap 31/05"},{"$f":"B47","v":0},{"$f":"D47","v":0},{"$f":"D48","v":0}]
[null,{"$f":"SUM(B42:B46)","v":0},null,{"$f":"SUM(D42:D46)","v":0},null,{"$f":"SUM(F42:F46)","v":0},null,{"$f":"SUM(H42:H46)","v":0},{"$f":"E48","v":"Récap 30/06"},{"$f":"F47","v":0},{"$f":"H47","v":0},{"$f":"H48","v":0}]
["Récap 31/05",null,null,{"$f":"+B47-D47","v":0},"Récap 30/06",null,null,{"$f":"+F47-H47","v":0},"Situation 30/06",{"$f":"SUM(J42:J47)","v":0},{"$f":"SUM(K42:K47)","v":0},{"$f":"SUM(L41:L47)","v":14.1}]
[]
[null,null,null,null,null,null,null,null,null,null,null,{"$f":"F23+J48-G23-K48+B8","v":14.1}]
[]
[null,null,null,null,null,null,null,null,null,{"$f":"B13+F13+J13+B24+J24+B35+F35+J35+B47+F47","v":0},{"$f":"D13+H13+L13+D24+L24+D35+H35+L35+D47+H47","v":0},{"$f":"B8+J52-K52","v":14.1}]

{"sheet":"SCHOBERT","index":150,"n_rows":52,"n_cols":12,"rows_kept":52,"cut":false,"hidden":false,"merged":[[47,0,47,2],[47,4,47,6],[38,0,38,3],[38,4,38,7],[35,0,35,2],[35,4,35,6],[38,8,38,11],[39,4,39,5],[39,6,39,7],[16,2,16,3],[16,8,16,9],[16,10,16,11],[27,4,27,5],[27,6,27,7],[27,8,27,9],[27,10,27,11],[24,0,24,2],[24,8,24,10],[37,9,37,10],[26,0,26,3],[26,4,26,7],[26,8,26,11],[16,0,16,1],[35,8,35,10],[15,0,15,3],[15,4,15,7],[13,0,13,2],[13,4,13,6],[13,8,13,10],[15,8,15,11],[0,9,0,10],[2,1,2,2],[2,4,2,5],[2,8,2,9],[5,8,5,9],[5,10,5,11],[5,0,5,1],[4,0,4,3],[4,4,4,7],[4,8,4,11],[5,2,5,3],[5,4,5,5],[5,6,5,7]]}
[null,null,null,null,null,null,null,null,null,"Année scolaire : ",null,{"$f":"' Liste élèves'!B1","v":"2018-2019"}]
[]
["NOM : ",{"$f":"' Liste élèves'!A151","v":"SCHOBERT"},null,"PRENOM:",{"$f":"' Liste élèves'!B151","v":"Noémie"},null,null,"CLASSE :",{"$f":"' Liste élèves'!C151","v":"Classe 5"}]
[]
["SEPTEMBRE",null,null,null,"OCTOBRE",null,null,null,"NOVEMBRE"]
["RECETTES",null,"DEPENSES",null,"RECETTES",null,"DEPENSES",null,"RECETTES",null,"DEPENSES"]
["Dates","Montant","Activités","Montant","Dates","Montant","Activités","Montant","Dates","Montant","Activités","Montant"]
["Report juin",38.020000000000003]
[]
[]
[]
[]
[null,{"$f":"SUM(B9:B12)","v":0},null,{"$f":"SUM(D8:D12)","v":0},null,{"$f":"SUM(F8:F12)","v":0},null,{"$f":"SUM(H8:H12)","v":0},null,{"$f":"SUM(J8:J12)","v":0},null,{"$f":"SUM(L8:L12)","v":0}]
["Récap 30/09",null,null,{"$f":"+B13-D13","v":0},"Récap 31/10",null,null,{"$f":"+F13-H13","v":0},"Récap 30/11",null,null,{"$f":"+J13-L13","v":0}]
[]
["DÉCEMBRE",null,null,null,"Situation fin décembre",null,null,null,"JANVIER"]
["RECETTES",null,"DEPENSES",null,null,"Recettes","Dépenses","Total","RECETTES",null,"DEPENSES"]
["Dates","Montant","Activités","Montant",{"$f":"A14","v":"Récap 30/09"},{"$f":"B13","v":0},{"$f":"D13","v":0},{"$f":"D14","v":0},"Dates","Montant","Activités","Montant"]
[null,null,null,null,{"$f":"E14","v":"Récap 31/10"},{"$f":"F13","v":0},{"$f":"H13","v":0},{"$f":"H14","v":0}]
[null,null,null,null,{"$f":"I14","v":"Récap 30/11"},{"$f":"J13","v":0},{"$f":"L13","v":0},{"$f":"L14","v":0}]
[null,null,null,null,{"$f":"A25","v":"Récap 31/12"},{"$f":"B24","v":0},{"$f":"D24","v":0},{"$f":"D25","v":0}]
[null,null,null,null,"Report Sept",null,null,{"$f":"B8","v":38.020000000000003}]
[null,null,null,null,"Situation 31/12",{"$f":"SUM(F18:F22)","v":0},{"$f":"SUM(G18:G22)","v":0},{"$f":"SUM(H18:H22)","v":38.020000000000003}]
[null,{"$f":"SUM(B19:B23)","v":0},null,{"$f":"SUM(D19:D23)","v":0},null,null,null,null,null,{"$f":"SUM(J19:J23)","v":0},null,{"$f":"SUM(L19:L23)","v":0}]
["Récap 31/12",null,null,{"$f":"+B24-D24","v":0},null,null,null,null,"Récap 31/01",null,null,{"$f":"+J24-L24","v":0}]
[]
["FÉVRIER",null,null,null,"MARS",null,null,null,"AVRIL"]
["RECETTES",null,"DEPENSES",null,"RECETTES",null,"DEPENSES",null,"RECETTES",null,"DEPENSES"]
["Dates","Montant","Activités","Montant","Dates","Montant","Activités","Montant","Dates","Montant","Activités","Montant"]
[]
[]
[]
[]
[]
[null,{"$f":"SUM(B30:B34)","v":0},null,{"$f":"SUM(D30:D34)","v":0},null,{"$f":"SUM(F30:F34)","v":0},null,{"$f":"SUM(H30:H34)","v":0},null,{"$f":"SUM(J30:J34)","v":0},null,{"$f":"SUM(L30:L34)","v":0}]
["Récap 28/02",null,null,{"$f":"+B35-D35","v":0},"Récap 31/03",null,null,{"$f":"+F35-H35","v":0},"Récap 30/04",null,null,{"$f":"+J35-L35","v":0}]
[]
[]
["MAI",null,null,null,"JUIN",null,null,null,"Situation fin juin"]
["RECETTES",null,"DEPENSES",null,"RECETTES",null,"DEPENSES",null,null,"Recettes","Dépenses","Total"]
["Dates","Montant","Activités","Montant","Dates","Montant","Activités","Montant",{"$f":"E23","v":"Situation 31/12"},null,null,{"$f":"H23","v":38.020000000000003}]
[null,null,null,null,null,null,null,null,{"$f":"I25","v":"Récap 31/01"},{"$f":"J24","v":0},{"$f":"L24","v":0},{"$f":"L25","v":0}]
[null,null,null,null,null,null,null,null,{"$f":"A36","v":"Récap 28/02"},{"$f":"B35","v":0},{"$f":"D35","v":0},{"$f":"D36","v":0}]
[null,null,null,null,null,null,null,null,{"$f":"E36","v":"Récap 31/03"},{"$f":"F35","v":0},{"$f":"H35","v":0},{"$f":"H36","v":0}]
[null,null,null,null,null,null,null,null,{"$f":"I36","v":"Récap 30/04"},{"$f":"J35","v":0},{"$f":"L35","v":0},{"$f":"L36","v":0}]
[null,null,null,null,null,null,null,null,{"$f":"A48","v":"Récap 31/05"},{"$f":"B47","v":0},{"$f":"D47","v":0},{"$f":"D48","v":0}]
[null,{"$f":"SUM(B42:B46)","v":0},null,{"$f":"SUM(D42:D46)","v":0},null,{"$f":"SUM(F42:F46)","v":0},null,{"$f":"SUM(H42:H46)","v":0},{"$f":"E48","v":"Récap 30/06"},{"$f":"F47","v":0},{"$f":"H47","v":0},{"$f":"H48","v":0}]
["Récap 31/05",null,null,{"$f":"+B47-D47","v":0},"Récap 30/06",null,null,{"$f":"+F47-H47","v":0},"Situation 30/06",{"$f":"SUM(J42:J47)","v":0},{"$f":"SUM(K42:K47)","v":0},{"$f":"SUM(L41:L47)","v":38.020000000000003}]
[]
[null,null,null,null,null,null,null,null,null,null,null,{"$f":"F23+J48-G23-K48+B8","v":38.020000000000003}]
[]
[null,null,null,null,null,null,null,null,null,{"$f":"B13+F13+J13+B24+J24+B35+F35+J35+B47+F47","v":0},{"$f":"D13+H13+L13+D24+L24+D35+H35+L35+D47+H47","v":0},{"$f":"B8+J52-K52","v":38.020000000000003}]

{"sheet":"SERDAR","index":151,"n_rows":52,"n_cols":12,"rows_kept":52,"cut":false,"hidden":false,"merged":[[47,0,47,2],[47,4,47,6],[38,0,38,3],[38,4,38,7],[35,0,35,2],[35,4,35,6],[38,8,38,11],[39,4,39,5],[39,6,39,7],[16,2,16,3],[16,8,16,9],[16,10,16,11],[27,4,27,5],[27,6,27,7],[27,8,27,9],[27,10,27,11],[24,0,24,2],[24,8,24,10],[37,9,37,10],[26,0,26,3],[26,4,26,7],[26,8,26,11],[16,0,16,1],[35,8,35,10],[15,0,15,3],[15,4,15,7],[13,0,13,2],[13,4,13,6],[13,8,13,10],[15,8,15,11],[0,9,0,10],[2,1,2,2],[2,4,2,5],[2,8,2,9],[5,8,5,9],[5,10,5,11],[5,0,5,1],[4,0,4,3],[4,4,4,7],[4,8,4,11],[5,2,5,3],[5,4,5,5],[5,6,5,7]]}
[null,null,null,null,null,null,null,null,null,"Année scolaire : ",null,{"$f":"' Liste élèves'!B1","v":"2018-2019"}]
[]
["NOM : ",{"$f":"' Liste élèves'!A152","v":"SERDAR"},null,"PRENOM:",{"$f":"' Liste élèves'!B152","v":"Huda"},null,null,"CLASSE :",{"$f":"' Liste élèves'!C152","v":"Classe 9"}]
[]
["SEPTEMBRE",null,null,null,"OCTOBRE",null,null,null,"NOVEMBRE"]
["RECETTES",null,"DEPENSES",null,"RECETTES",null,"DEPENSES",null,"RECETTES",null,"DEPENSES"]
["Dates","Montant","Activités","Montant","Dates","Montant","Activités","Montant","Dates","Montant","Activités","Montant"]
["Report juin",42.5]
[]
[]
[]
[]
[null,{"$f":"SUM(B9:B12)","v":0},null,{"$f":"SUM(D8:D12)","v":0},null,{"$f":"SUM(F8:F12)","v":0},null,{"$f":"SUM(H8:H12)","v":0},null,{"$f":"SUM(J8:J12)","v":0},null,{"$f":"SUM(L8:L12)","v":0}]
["Récap 30/09",null,null,{"$f":"+B13-D13","v":0},"Récap 31/10",null,null,{"$f":"+F13-H13","v":0},"Récap 30/11",null,null,{"$f":"+J13-L13","v":0}]
[]
["DÉCEMBRE",null,null,null,"Situation fin décembre",null,null,null,"JANVIER"]
["RECETTES",null,"DEPENSES",null,null,"Recettes","Dépenses","Total","RECETTES",null,"DEPENSES"]
["Dates","Montant","Activités","Montant",{"$f":"A14","v":"Récap 30/09"},{"$f":"B13","v":0},{"$f":"D13","v":0},{"$f":"D14","v":0},"Dates","Montant","Activités","Montant"]
[null,null,null,null,{"$f":"E14","v":"Récap 31/10"},{"$f":"F13","v":0},{"$f":"H13","v":0},{"$f":"H14","v":0}]
[null,null,null,null,{"$f":"I14","v":"Récap 30/11"},{"$f":"J13","v":0},{"$f":"L13","v":0},{"$f":"L14","v":0}]
[null,null,null,null,{"$f":"A25","v":"Récap 31/12"},{"$f":"B24","v":0},{"$f":"D24","v":0},{"$f":"D25","v":0}]
[null,null,null,null,"Report Sept",null,null,{"$f":"B8","v":42.5}]
[null,null,null,null,"Situation 31/12",{"$f":"SUM(F18:F22)","v":0},{"$f":"SUM(G18:G22)","v":0},{"$f":"SUM(H18:H22)","v":42.5}]
[null,{"$f":"SUM(B19:B23)","v":0},null,{"$f":"SUM(D19:D23)","v":0},null,null,null,null,null,{"$f":"SUM(J19:J23)","v":0},null,{"$f":"SUM(L19:L23)","v":0}]
["Récap 31/12",null,null,{"$f":"+B24-D24","v":0},null,null,null,null,"Récap 31/01",null,null,{"$f":"+J24-L24","v":0}]
[]
["FÉVRIER",null,null,null,"MARS",null,null,null,"AVRIL"]
["RECETTES",null,"DEPENSES",null,"RECETTES",null,"DEPENSES",null,"RECETTES",null,"DEPENSES"]
["Dates","Montant","Activités","Montant","Dates","Montant","Activités","Montant","Dates","Montant","Activités","Montant"]
[]
[]
[]
[]
[]
[null,{"$f":"SUM(B30:B34)","v":0},null,{"$f":"SUM(D30:D34)","v":0},null,{"$f":"SUM(F30:F34)","v":0},null,{"$f":"SUM(H30:H34)","v":0},null,{"$f":"SUM(J30:J34)","v":0},null,{"$f":"SUM(L30:L34)","v":0}]
["Récap 28/02",null,null,{"$f":"+B35-D35","v":0},"Récap 31/03",null,null,{"$f":"+F35-H35","v":0},"Récap 30/04",null,null,{"$f":"+J35-L35","v":0}]
[]
[]
["MAI",null,null,null,"JUIN",null,null,null,"Situation fin juin"]
["RECETTES",null,"DEPENSES",null,"RECETTES",null,"DEPENSES",null,null,"Recettes","Dépenses","Total"]
["Dates","Montant","Activités","Montant","Dates","Montant","Activités","Montant",{"$f":"E23","v":"Situation 31/12"},null,null,{"$f":"H23","v":42.5}]
[null,null,null,null,null,null,null,null,{"$f":"I25","v":"Récap 31/01"},{"$f":"J24","v":0},{"$f":"L24","v":0},{"$f":"L25","v":0}]
[null,null,null,null,null,null,null,null,{"$f":"A36","v":"Récap 28/02"},{"$f":"B35","v":0},{"$f":"D35","v":0},{"$f":"D36","v":0}]
[null,null,null,null,null,null,null,null,{"$f":"E36","v":"Récap 31/03"},{"$f":"F35","v":0},{"$f":"H35","v":0},{"$f":"H36","v":0}]
[null,null,null,null,null,null,null,null,{"$f":"I36","v":"Récap 30/04"},{"$f":"J35","v":0},{"$f":"L35","v":0},{"$f":"L36","v":0}]
[null,null,null,null,null,null,null,null,{"$f":"A48","v":"Récap 31/05"},{"$f":"B47","v":0},{"$f":"D47","v":0},{"$f":"D48","v":0}]
[null,{"$f":"SUM(B42:B46)","v":0},null,{"$f":"SUM(D42:D46)","v":0},null,{"$f":"SUM(F42:F46)","v":0},null,{"$f":"SUM(H42:H46)","v":0},{"$f":"E48","v":"Récap 30/06"},{"$f":"F47","v":0},{"$f":"H47","v":0},{"$f":"H48","v":0}]
["Récap 31/05",null,null,{"$f":"+B47-D47","v":0},"Récap 30/06",null,null,{"$f":"+F47-H47","v":0},"Situation 30/06",{"$f":"SUM(J42:J47)","v":0},{"$f":"SUM(K42:K47)","v":0},{"$f":"SUM(L41:L47)","v":42.5}]
[]
[null,null,null,null,null,null,null,null,null,null,null,{"$f":"F23+J48-G23-K48+B8","v":42.5}]
[]
[null,null,null,null,null,null,null,null,null,{"$f":"B13+F13+J13+B24+J24+B35+F35+J35+B47+F47","v":0},{"$f":"D13+H13+L13+D24+L24+D35+H35+L35+D47+H47","v":0},{"$f":"B8+J52-K52","v":42.5}]

{"sheet":"SIGISMONDI","index":152,"n_rows":52,"n_cols":12,"rows_kept":52,"cut":false,"hidden":false,"merged":[[47,0,47,2],[47,4,47,6],[38,0,38,3],[38,4,38,7],[35,0,35,2],[35,4,35,6],[38,8,38,11],[39,4,39,5],[39,6,39,7],[16,2,16,3],[16,8,16,9],[16,10,16,11],[27,4,27,5],[27,6,27,7],[27,8,27,9],[27,10,27,11],[24,0,24,2],[24,8,24,10],[37,9,37,10],[26,0,26,3],[26,4,26,7],[26,8,26,11],[16,0,16,1],[35,8,35,10],[15,0,15,3],[15,4,15,7],[13,0,13,2],[13,4,13,6],[13,8,13,10],[15,8,15,11],[0,9,0,10],[2,1,2,2],[2,4,2,5],[2,8,2,9],[5,8,5,9],[5,10,5,11],[5,0,5,1],[4,0,4,3],[4,4,4,7],[4,8,4,11],[5,2,5,3],[5,4,5,5],[5,6,5,7]]}
[null,null,null,null,null,null,null,null,null,"Année scolaire : ",null,{"$f":"' Liste élèves'!B1","v":"2018-2019"}]
[]
["NOM : ",{"$f":"' Liste élèves'!A153","v":"SIGISMONDI"},null,"PRENOM:",{"$f":"' Liste élèves'!B153","v":"Lhoïk"},null,null,"CLASSE :",{"$f":"' Liste élèves'!C153","v":"Classe 7"}]
[]
["SEPTEMBRE",null,null,null,"OCTOBRE",null,null,null,"NOVEMBRE"]
["RECETTES",null,"DEPENSES",null,"RECETTES",null,"DEPENSES",null,"RECETTES",null,"DEPENSES"]
["Dates","Montant","Activités","Montant","Dates","Montant","Activités","Montant","Dates","Montant","Activités","Montant"]
["Report juin"]
[]
[]
[]
[]
[null,{"$f":"SUM(B9:B12)","v":0},null,{"$f":"SUM(D8:D12)","v":0},null,{"$f":"SUM(F8:F12)","v":0},null,{"$f":"SUM(H8:H12)","v":0},null,{"$f":"SUM(J8:J12)","v":0},null,{"$f":"SUM(L8:L12)","v":0}]
["Récap 30/09",null,null,{"$f":"+B13-D13","v":0},"Récap 31/10",null,null,{"$f":"+F13-H13","v":0},"Récap 30/11",null,null,{"$f":"+J13-L13","v":0}]
[]
["DÉCEMBRE",null,null,null,"Situation fin décembre",null,null,null,"JANVIER"]
["RECETTES",null,"DEPENSES",null,null,"Recettes","Dépenses","Total","RECETTES",null,"DEPENSES"]
["Dates","Montant","Activités","Montant",{"$f":"A14","v":"Récap 30/09"},{"$f":"B13","v":0},{"$f":"D13","v":0},{"$f":"D14","v":0},"Dates","Montant","Activités","Montant"]
[null,null,null,null,{"$f":"E14","v":"Récap 31/10"},{"$f":"F13","v":0},{"$f":"H13","v":0},{"$f":"H14","v":0}]
[null,null,null,null,{"$f":"I14","v":"Récap 30/11"},{"$f":"J13","v":0},{"$f":"L13","v":0},{"$f":"L14","v":0}]
[null,null,null,null,{"$f":"A25","v":"Récap 31/12"},{"$f":"B24","v":0},{"$f":"D24","v":0},{"$f":"D25","v":0}]
[null,null,null,null,"Report Sept",null,null,{"$f":"B8","v":0}]
[null,null,null,null,"Situation 31/12",{"$f":"SUM(F18:F22)","v":0},{"$f":"SUM(G18:G22)","v":0},{"$f":"SUM(H18:H22)","v":0}]
[null,{"$f":"SUM(B19:B23)","v":0},null,{"$f":"SUM(D19:D23)","v":0},null,null,null,null,null,{"$f":"SUM(J19:J23)","v":0},null,{"$f":"SUM(L19:L23)","v":0}]
["Récap 31/12",null,null,{"$f":"+B24-D24","v":0},null,null,null,null,"Récap 31/01",null,null,{"$f":"+J24-L24","v":0}]
[]
["FÉVRIER",null,null,null,"MARS",null,null,null,"AVRIL"]
["RECETTES",null,"DEPENSES",null,"RECETTES",null,"DEPENSES",null,"RECETTES",null,"DEPENSES"]
["Dates","Montant","Activités","Montant","Dates","Montant","Activités","Montant","Dates","Montant","Activités","Montant"]
[]
[]
[]
[]
[]
[null,{"$f":"SUM(B30:B34)","v":0},null,{"$f":"SUM(D30:D34)","v":0},null,{"$f":"SUM(F30:F34)","v":0},null,{"$f":"SUM(H30:H34)","v":0},null,{"$f":"SUM(J30:J34)","v":0},null,{"$f":"SUM(L30:L34)","v":0}]
["Récap 28/02",null,null,{"$f":"+B35-D35","v":0},"Récap 31/03",null,null,{"$f":"+F35-H35","v":0},"Récap 30/04",null,null,{"$f":"+J35-L35","v":0}]
[]
[]
["MAI",null,null,null,"JUIN",null,null,null,"Situation fin juin"]
["RECETTES",null,"DEPENSES",null,"RECETTES",null,"DEPENSES",null,null,"Recettes","Dépenses","Total"]
["Dates","Montant","Activités","Montant","Dates","Montant","Activités","Montant",{"$f":"E23","v":"Situation 31/12"},null,null,{"$f":"H23","v":0}]
[null,null,null,null,null,null,null,null,{"$f":"I25","v":"Récap 31/01"},{"$f":"J24","v":0},{"$f":"L24","v":0},{"$f":"L25","v":0}]
[null,null,null,null,null,null,null,null,{"$f":"A36","v":"Récap 28/02"},{"$f":"B35","v":0},{"$f":"D35","v":0},{"$f":"D36","v":0}]
[null,null,null,null,null,null,null,null,{"$f":"E36","v":"Récap 31/03"},{"$f":"F35","v":0},{"$f":"H35","v":0},{"$f":"H36","v":0}]
[null,null,null,null,null,null,null,null,{"$f":"I36","v":"Récap 30/04"},{"$f":"J35","v":0},{"$f":"L35","v":0},{"$f":"L36","v":0}]
[null,null,null,null,null,null,null,null,{"$f":"A48","v":"Récap 31/05"},{"$f":"B47","v":0},{"$f":"D47","v":0},{"$f":"D48","v":0}]
[null,{"$f":"SUM(B42:B46)","v":0},null,{"$f":"SUM(D42:D46)","v":0},null,{"$f":"SUM(F42:F46)","v":0},null,{"$f":"SUM(H42:H46)","v":0},{"$f":"E48","v":"Récap 30/06"},{"$f":"F47","v":0},{"$f":"H47","v":0},{"$f":"H48","v":0}]
["Récap 31/05",null,null,{"$f":"+B47-D47","v":0},"Récap 30/06",null,null,{"$f":"+F47-H47","v":0},"Situation 30/06",{"$f":"SUM(J42:J47)","v":0},{"$f":"SUM(K42:K47)","v":0},{"$f":"SUM(L41:L47)","v":0}]
[]
[null,null,null,null,null,null,null,null,null,null,null,{"$f":"F23+J48-G23-K48+B8","v":0}]
[]
[null,null,null,null,null,null,null,null,null,{"$f":"B13+F13+J13+B24+J24+B35+F35+J35+B47+F47","v":0},{"$f":"D13+H13+L13+D24+L24+D35+H35+L35+D47+H47","v":0},{"$f":"B8+J52-K52","v":0}]

{"sheet":"SISSOKO","index":153,"n_rows":52,"n_cols":12,"rows_kept":52,"cut":false,"hidden":false,"merged":[[47,0,47,2],[47,4,47,6],[38,0,38,3],[38,4,38,7],[35,0,35,2],[35,4,35,6],[38,8,38,11],[39,4,39,5],[39,6,39,7],[16,2,16,3],[16,8,16,9],[16,10,16,11],[27,4,27,5],[27,6,27,7],[27,8,27,9],[27,10,27,11],[24,0,24,2],[24,8,24,10],[37,9,37,10],[26,0,26,3],[26,4,26,7],[26,8,26,11],[16,0,16,1],[35,8,35,10],[15,0,15,3],[15,4,15,7],[13,0,13,2],[13,4,13,6],[13,8,13,10],[15,8,15,11],[0,9,0,10],[2,1,2,2],[2,4,2,5],[2,8,2,9],[5,8,5,9],[5,10,5,11],[5,0,5,1],[4,0,4,3],[4,4,4,7],[4,8,4,11],[5,2,5,3],[5,4,5,5],[5,6,5,7]]}
[null,null,null,null,null,null,null,null,null,"Année scolaire : ",null,{"$f":"' Liste élèves'!B1","v":"2018-2019"}]
[]
["NOM : ",{"$f":"' Liste élèves'!A154","v":"SISSOKO"},null,"PRENOM:",{"$f":"' Liste élèves'!B154","v":"Djimeta"},null,null,"CLASSE :",{"$f":"' Liste élèves'!C154","v":"Classe 10"}]
[]
["SEPTEMBRE",null,null,null,"OCTOBRE",null,null,null,"NOVEMBRE"]
["RECETTES",null,"DEPENSES",null,"RECETTES",null,"DEPENSES",null,"RECETTES",null,"DEPENSES"]
["Dates","Montant","Activités","Montant","Dates","Montant","Activités","Montant","Dates","Montant","Activités","Montant"]
["Report juin"]
[]
[]
[]
[]
[null,{"$f":"SUM(B9:B12)","v":0},null,{"$f":"SUM(D8:D12)","v":0},null,{"$f":"SUM(F8:F12)","v":0},null,{"$f":"SUM(H8:H12)","v":0},null,{"$f":"SUM(J8:J12)","v":0},null,{"$f":"SUM(L8:L12)","v":0}]
["Récap 30/09",null,null,{"$f":"+B13-D13","v":0},"Récap 31/10",null,null,{"$f":"+F13-H13","v":0},"Récap 30/11",null,null,{"$f":"+J13-L13","v":0}]
[]
["DÉCEMBRE",null,null,null,"Situation fin décembre",null,null,null,"JANVIER"]
["RECETTES",null,"DEPENSES",null,null,"Recettes","Dépenses","Total","RECETTES",null,"DEPENSES"]
["Dates","Montant","Activités","Montant",{"$f":"A14","v":"Récap 30/09"},{"$f":"B13","v":0},{"$f":"D13","v":0},{"$f":"D14","v":0},"Dates","Montant","Activités","Montant"]
[null,null,null,null,{"$f":"E14","v":"Récap 31/10"},{"$f":"F13","v":0},{"$f":"H13","v":0},{"$f":"H14","v":0}]
[null,null,null,null,{"$f":"I14","v":"Récap 30/11"},{"$f":"J13","v":0},{"$f":"L13","v":0},{"$f":"L14","v":0}]
[null,null,null,null,{"$f":"A25","v":"Récap 31/12"},{"$f":"B24","v":0},{"$f":"D24","v":0},{"$f":"D25","v":0}]
[null,null,null,null,"Report Sept",null,null,{"$f":"B8","v":0}]
[null,null,null,null,"Situation 31/12",{"$f":"SUM(F18:F22)","v":0},{"$f":"SUM(G18:G22)","v":0},{"$f":"SUM(H18:H22)","v":0}]
[null,{"$f":"SUM(B19:B23)","v":0},null,{"$f":"SUM(D19:D23)","v":0},null,null,null,null,null,{"$f":"SUM(J19:J23)","v":0},null,{"$f":"SUM(L19:L23)","v":0}]
["Récap 31/12",null,null,{"$f":"+B24-D24","v":0},null,null,null,null,"Récap 31/01",null,null,{"$f":"+J24-L24","v":0}]
[]
["FÉVRIER",null,null,null,"MARS",null,null,null,"AVRIL"]
["RECETTES",null,"DEPENSES",null,"RECETTES",null,"DEPENSES",null,"RECETTES",null,"DEPENSES"]
["Dates","Montant","Activités","Montant","Dates","Montant","Activités","Montant","Dates","Montant","Activités","Montant"]
[]
[]
[]
[]
[]
[null,{"$f":"SUM(B30:B34)","v":0},null,{"$f":"SUM(D30:D34)","v":0},null,{"$f":"SUM(F30:F34)","v":0},null,{"$f":"SUM(H30:H34)","v":0},null,{"$f":"SUM(J30:J34)","v":0},null,{"$f":"SUM(L30:L34)","v":0}]
["Récap 28/02",null,null,{"$f":"+B35-D35","v":0},"Récap 31/03",null,null,{"$f":"+F35-H35","v":0},"Récap 30/04",null,null,{"$f":"+J35-L35","v":0}]
[]
[]
["MAI",null,null,null,"JUIN",null,null,null,"Situation fin juin"]
["RECETTES",null,"DEPENSES",null,"RECETTES",null,"DEPENSES",null,null,"Recettes","Dépenses","Total"]
["Dates","Montant","Activités","Montant","Dates","Montant","Activités","Montant",{"$f":"E23","v":"Situation 31/12"},null,null,{"$f":"H23","v":0}]
[null,null,null,null,null,null,null,null,{"$f":"I25","v":"Récap 31/01"},{"$f":"J24","v":0},{"$f":"L24","v":0},{"$f":"L25","v":0}]
[null,null,null,null,null,null,null,null,{"$f":"A36","v":"Récap 28/02"},{"$f":"B35","v":0},{"$f":"D35","v":0},{"$f":"D36","v":0}]
[null,null,null,null,null,null,null,null,{"$f":"E36","v":"Récap 31/03"},{"$f":"F35","v":0},{"$f":"H35","v":0},{"$f":"H36","v":0}]
[null,null,null,null,null,null,null,null,{"$f":"I36","v":"Récap 30/04"},{"$f":"J35","v":0},{"$f":"L35","v":0},{"$f":"L36","v":0}]
[null,null,null,null,null,null,null,null,{"$f":"A48","v":"Récap 31/05"},{"$f":"B47","v":0},{"$f":"D47","v":0},{"$f":"D48","v":0}]
[null,{"$f":"SUM(B42:B46)","v":0},null,{"$f":"SUM(D42:D46)","v":0},null,{"$f":"SUM(F42:F46)","v":0},null,{"$f":"SUM(H42:H46)","v":0},{"$f":"E48","v":"Récap 30/06"},{"$f":"F47","v":0},{"$f":"H47","v":0},{"$f":"H48","v":0}]
["Récap 31/05",null,null,{"$f":"+B47-D47","v":0},"Récap 30/06",null,null,{"$f":"+F47-H47","v":0},"Situation 30/06",{"$f":"SUM(J42:J47)","v":0},{"$f":"SUM(K42:K47)","v":0},{"$f":"SUM(L41:L47)","v":0}]
[]
[null,null,null,null,null,null,null,null,null,null,null,{"$f":"F23+J48-G23-K48+B8","v":0}]
[]
[null,null,null,null,null,null,null,null,null,{"$f":"B13+F13+J13+B24+J24+B35+F35+J35+B47+F47","v":0},{"$f":"D13+H13+L13+D24+L24+D35+H35+L35+D47+H47","v":0},{"$f":"B8+J52-K52","v":0}]

{"sheet":"SOUFFRIAU","index":154,"n_rows":52,"n_cols":12,"rows_kept":52,"cut":false,"hidden":false,"merged":[[47,0,47,2],[47,4,47,6],[38,0,38,3],[38,4,38,7],[35,0,35,2],[35,4,35,6],[38,8,38,11],[39,4,39,5],[39,6,39,7],[16,2,16,3],[16,8,16,9],[16,10,16,11],[27,4,27,5],[27,6,27,7],[27,8,27,9],[27,10,27,11],[24,0,24,2],[24,8,24,10],[37,9,37,10],[26,0,26,3],[26,4,26,7],[26,8,26,11],[16,0,16,1],[35,8,35,10],[15,0,15,3],[15,4,15,7],[13,0,13,2],[13,4,13,6],[13,8,13,10],[15,8,15,11],[0,9,0,10],[2,1,2,2],[2,4,2,5],[2,8,2,9],[5,8,5,9],[5,10,5,11],[5,0,5,1],[4,0,4,3],[4,4,4,7],[4,8,4,11],[5,2,5,3],[5,4,5,5],[5,6,5,7]]}
[null,null,null,null,null,null,null,null,null,"Année scolaire : ",null,{"$f":"' Liste élèves'!B1","v":"2018-2019"}]
[]
["NOM : ",{"$f":"' Liste élèves'!A155","v":"SOUFFRIAU"},null,"PRENOM:",{"$f":"' Liste élèves'!B155","v":"Jordy"},null,null,"CLASSE :",{"$f":"' Liste élèves'!C155","v":"Classe 3"}]
[]
["SEPTEMBRE",null,null,null,"OCTOBRE",null,null,null,"NOVEMBRE"]
["RECETTES",null,"DEPENSES",null,"RECETTES",null,"DEPENSES",null,"RECETTES",null,"DEPENSES"]
["Dates","Montant","Activités","Montant","Dates","Montant","Activités","Montant","Dates","Montant","Activités","Montant"]
["Report juin"]
[]
[]
[]
[]
[null,{"$f":"SUM(B9:B12)","v":0},null,{"$f":"SUM(D8:D12)","v":0},null,{"$f":"SUM(F8:F12)","v":0},null,{"$f":"SUM(H8:H12)","v":0},null,{"$f":"SUM(J8:J12)","v":0},null,{"$f":"SUM(L8:L12)","v":0}]
["Récap 30/09",null,null,{"$f":"+B13-D13","v":0},"Récap 31/10",null,null,{"$f":"+F13-H13","v":0},"Récap 30/11",null,null,{"$f":"+J13-L13","v":0}]
[]
["DÉCEMBRE",null,null,null,"Situation fin décembre",null,null,null,"JANVIER"]
["RECETTES",null,"DEPENSES",null,null,"Recettes","Dépenses","Total","RECETTES",null,"DEPENSES"]
["Dates","Montant","Activités","Montant",{"$f":"A14","v":"Récap 30/09"},{"$f":"B13","v":0},{"$f":"D13","v":0},{"$f":"D14","v":0},"Dates","Montant","Activités","Montant"]
[null,null,null,null,{"$f":"E14","v":"Récap 31/10"},{"$f":"F13","v":0},{"$f":"H13","v":0},{"$f":"H14","v":0}]
[null,null,null,null,{"$f":"I14","v":"Récap 30/11"},{"$f":"J13","v":0},{"$f":"L13","v":0},{"$f":"L14","v":0}]
[null,null,null,null,{"$f":"A25","v":"Récap 31/12"},{"$f":"B24","v":0},{"$f":"D24","v":0},{"$f":"D25","v":0}]
[null,null,null,null,"Report Sept",null,null,{"$f":"B8","v":0}]
[null,null,null,null,"Situation 31/12",{"$f":"SUM(F18:F22)","v":0},{"$f":"SUM(G18:G22)","v":0},{"$f":"SUM(H18:H22)","v":0}]
[null,{"$f":"SUM(B19:B23)","v":0},null,{"$f":"SUM(D19:D23)","v":0},null,null,null,null,null,{"$f":"SUM(J19:J23)","v":0},null,{"$f":"SUM(L19:L23)","v":0}]
["Récap 31/12",null,null,{"$f":"+B24-D24","v":0},null,null,null,null,"Récap 31/01",null,null,{"$f":"+J24-L24","v":0}]
[]
["FÉVRIER",null,null,null,"MARS",null,null,null,"AVRIL"]
["RECETTES",null,"DEPENSES",null,"RECETTES",null,"DEPENSES",null,"RECETTES",null,"DEPENSES"]
["Dates","Montant","Activités","Montant","Dates","Montant","Activités","Montant","Dates","Montant","Activités","Montant"]
[]
[]
[]
[]
[]
[null,{"$f":"SUM(B30:B34)","v":0},null,{"$f":"SUM(D30:D34)","v":0},null,{"$f":"SUM(F30:F34)","v":0},null,{"$f":"SUM(H30:H34)","v":0},null,{"$f":"SUM(J30:J34)","v":0},null,{"$f":"SUM(L30:L34)","v":0}]
["Récap 28/02",null,null,{"$f":"+B35-D35","v":0},"Récap 31/03",null,null,{"$f":"+F35-H35","v":0},"Récap 30/04",null,null,{"$f":"+J35-L35","v":0}]
[]
[]
["MAI",null,null,null,"JUIN",null,null,null,"Situation fin juin"]
["RECETTES",null,"DEPENSES",null,"RECETTES",null,"DEPENSES",null,null,"Recettes","Dépenses","Total"]
["Dates","Montant","Activités","Montant","Dates","Montant","Activités","Montant",{"$f":"E23","v":"Situation 31/12"},null,null,{"$f":"H23","v":0}]
[null,null,null,null,null,null,null,null,{"$f":"I25","v":"Récap 31/01"},{"$f":"J24","v":0},{"$f":"L24","v":0},{"$f":"L25","v":0}]
[null,null,null,null,null,null,null,null,{"$f":"A36","v":"Récap 28/02"},{"$f":"B35","v":0},{"$f":"D35","v":0},{"$f":"D36","v":0}]
[null,null,null,null,null,null,null,null,{"$f":"E36","v":"Récap 31/03"},{"$f":"F35","v":0},{"$f":"H35","v":0},{"$f":"H36","v":0}]
[null,null,null,null,null,null,null,null,{"$f":"I36","v":"Récap 30/04"},{"$f":"J35","v":0},{"$f":"L35","v":0},{"$f":"L36","v":0}]
[null,null,null,null,null,null,null,null,{"$f":"A48","v":"Récap 31/05"},{"$f":"B47","v":0},{"$f":"D47","v":0},{"$f":"D48","v":0}]
[null,{"$f":"SUM(B42:B46)","v":0},null,{"$f":"SUM(D42:D46)","v":0},null,{"$f":"SUM(F42:F46)","v":0},null,{"$f":"SUM(H42:H46)","v":0},{"$f":"E48","v":"Récap 30/06"},{"$f":"F47","v":0},{"$f":"H47","v":0},{"$f":"H48","v":0}]
["Récap 31/05",null,null,{"$f":"+B47-D47","v":0},"Récap 30/06",null,null,{"$f":"+F47-H47","v":0},"Situation 30/06",{"$f":"SUM(J42:J47)","v":0},{"$f":"SUM(K42:K47)","v":0},{"$f":"SUM(L41:L47)","v":0}]
[]
[null,null,null,null,null,null,null,null,null,null,null,{"$f":"F23+J48-G23-K48+B8","v":0}]
[]
[null,null,null,null,null,null,null,null,null,{"$f":"B13+F13+J13+B24+J24+B35+F35+J35+B47+F47","v":0},{"$f":"D13+H13+L13+D24+L24+D35+H35+L35+D47+H47","v":0},{"$f":"B8+J52-K52","v":0}]

{"sheet":"SPREUTELS","index":155,"n_rows":52,"n_cols":12,"rows_kept":52,"cut":false,"hidden":false,"merged":[[47,0,47,2],[47,4,47,6],[38,0,38,3],[38,4,38,7],[35,0,35,2],[35,4,35,6],[38,8,38,11],[39,4,39,5],[39,6,39,7],[16,2,16,3],[16,8,16,9],[16,10,16,11],[27,4,27,5],[27,6,27,7],[27,8,27,9],[27,10,27,11],[24,0,24,2],[24,8,24,10],[37,9,37,10],[26,0,26,3],[26,4,26,7],[26,8,26,11],[16,0,16,1],[35,8,35,10],[15,0,15,3],[15,4,15,7],[13,0,13,2],[13,4,13,6],[13,8,13,10],[15,8,15,11],[0,9,0,10],[2,1,2,2],[2,4,2,5],[2,8,2,9],[5,8,5,9],[5,10,5,11],[5,0,5,1],[4,0,4,3],[4,4,4,7],[4,8,4,11],[5,2,5,3],[5,4,5,5],[5,6,5,7]]}
[null,null,null,null,null,null,null,null,null,"Année scolaire : ",null,{"$f":"' Liste élèves'!B1","v":"2018-2019"}]
[]
["NOM : ",{"$f":"' Liste élèves'!A156","v":"SPREUTELS"},null,"PRENOM:",{"$f":"' Liste élèves'!B156","v":"Nicolas"},null,null,"CLASSE :",{"$f":"' Liste élèves'!C156","v":"Classe 3"}]
[]
["SEPTEMBRE",null,null,null,"OCTOBRE",null,null,null,"NOVEMBRE"]
["RECETTES",null,"DEPENSES",null,"RECETTES",null,"DEPENSES",null,"RECETTES",null,"DEPENSES"]
["Dates","Montant","Activités","Montant","Dates","Montant","Activités","Montant","Dates","Montant","Activités","Montant"]
["Report juin"]
[]
[]
[]
[]
[null,{"$f":"SUM(B9:B12)","v":0},null,{"$f":"SUM(D8:D12)","v":0},null,{"$f":"SUM(F8:F12)","v":0},null,{"$f":"SUM(H8:H12)","v":0},null,{"$f":"SUM(J8:J12)","v":0},null,{"$f":"SUM(L8:L12)","v":0}]
["Récap 30/09",null,null,{"$f":"+B13-D13","v":0},"Récap 31/10",null,null,{"$f":"+F13-H13","v":0},"Récap 30/11",null,null,{"$f":"+J13-L13","v":0}]
[]
["DÉCEMBRE",null,null,null,"Situation fin décembre",null,null,null,"JANVIER"]
["RECETTES",null,"DEPENSES",null,null,"Recettes","Dépenses","Total","RECETTES",null,"DEPENSES"]
["Dates","Montant","Activités","Montant",{"$f":"A14","v":"Récap 30/09"},{"$f":"B13","v":0},{"$f":"D13","v":0},{"$f":"D14","v":0},"Dates","Montant","Activités","Montant"]
[null,null,null,null,{"$f":"E14","v":"Récap 31/10"},{"$f":"F13","v":0},{"$f":"H13","v":0},{"$f":"H14","v":0}]
[null,null,null,null,{"$f":"I14","v":"Récap 30/11"},{"$f":"J13","v":0},{"$f":"L13","v":0},{"$f":"L14","v":0}]
[null,null,null,null,{"$f":"A25","v":"Récap 31/12"},{"$f":"B24","v":0},{"$f":"D24","v":0},{"$f":"D25","v":0}]
[null,null,null,null,"Report Sept",null,null,{"$f":"B8","v":0}]
[null,null,null,null,"Situation 31/12",{"$f":"SUM(F18:F22)","v":0},{"$f":"SUM(G18:G22)","v":0},{"$f":"SUM(H18:H22)","v":0}]
[null,{"$f":"SUM(B19:B23)","v":0},null,{"$f":"SUM(D19:D23)","v":0},null,null,null,null,null,{"$f":"SUM(J19:J23)","v":0},null,{"$f":"SUM(L19:L23)","v":0}]
["Récap 31/12",null,null,{"$f":"+B24-D24","v":0},null,null,null,null,"Récap 31/01",null,null,{"$f":"+J24-L24","v":0}]
[]
["FÉVRIER",null,null,null,"MARS",null,null,null,"AVRIL"]
["RECETTES",null,"DEPENSES",null,"RECETTES",null,"DEPENSES",null,"RECETTES",null,"DEPENSES"]
["Dates","Montant","Activités","Montant","Dates","Montant","Activités","Montant","Dates","Montant","Activités","Montant"]
[]
[]
[]
[]
[]
[null,{"$f":"SUM(B30:B34)","v":0},null,{"$f":"SUM(D30:D34)","v":0},null,{"$f":"SUM(F30:F34)","v":0},null,{"$f":"SUM(H30:H34)","v":0},null,{"$f":"SUM(J30:J34)","v":0},null,{"$f":"SUM(L30:L34)","v":0}]
["Récap 28/02",null,null,{"$f":"+B35-D35","v":0},"Récap 31/03",null,null,{"$f":"+F35-H35","v":0},"Récap 30/04",null,null,{"$f":"+J35-L35","v":0}]
[]
[]
["MAI",null,null,null,"JUIN",null,null,null,"Situation fin juin"]
["RECETTES",null,"DEPENSES",null,"RECETTES",null,"DEPENSES",null,null,"Recettes","Dépenses","Total"]
["Dates","Montant","Activités","Montant","Dates","Montant","Activités","Montant",{"$f":"E23","v":"Situation 31/12"},null,null,{"$f":"H23","v":0}]
[null,null,null,null,null,null,null,null,{"$f":"I25","v":"Récap 31/01"},{"$f":"J24","v":0},{"$f":"L24","v":0},{"$f":"L25","v":0}]
[null,null,null,null,null,null,null,null,{"$f":"A36","v":"Récap 28/02"},{"$f":"B35","v":0},{"$f":"D35","v":0},{"$f":"D36","v":0}]
[null,null,null,null,null,null,null,null,{"$f":"E36","v":"Récap 31/03"},{"$f":"F35","v":0},{"$f":"H35","v":0},{"$f":"H36","v":0}]
[null,null,null,null,null,null,null,null,{"$f":"I36","v":"Récap 30/04"},{"$f":"J35","v":0},{"$f":"L35","v":0},{"$f":"L36","v":0}]
[null,null,null,null,null,null,null,null,{"$f":"A48","v":"Récap 31/05"},{"$f":"B47","v":0},{"$f":"D47","v":0},{"$f":"D48","v":0}]
[null,{"$f":"SUM(B42:B46)","v":0},null,{"$f":"SUM(D42:D46)","v":0},null,{"$f":"SUM(F42:F46)","v":0},null,{"$f":"SUM(H42:H46)","v":0},{"$f":"E48","v":"Récap 30/06"},{"$f":"F47","v":0},{"$f":"H47","v":0},{"$f":"H48","v":0}]
["Récap 31/05",null,null,{"$f":"+B47-D47","v":0},"Récap 30/06",null,null,{"$f":"+F47-H47","v":0},"Situation 30/06",{"$f":"SUM(J42:J47)","v":0},{"$f":"SUM(K42:K47)","v":0},{"$f":"SUM(L41:L47)","v":0}]
[]
[null,null,null,null,null,null,null,null,null,null,null,{"$f":"F23+J48-G23-K48+B8","v":0}]
[]
[null,null,null,null,null,null,null,null,null,{"$f":"B13+F13+J13+B24+J24+B35+F35+J35+B47+F47","v":0},{"$f":"D13+H13+L13+D24+L24+D35+H35+L35+D47+H47","v":0},{"$f":"B8+J52-K52","v":0}]

{"sheet":"STEEGMANS","index":156,"n_rows":52,"n_cols":12,"rows_kept":52,"cut":false,"hidden":false,"merged":[[47,0,47,2],[47,4,47,6],[38,0,38,3],[38,4,38,7],[35,0,35,2],[35,4,35,6],[38,8,38,11],[39,4,39,5],[39,6,39,7],[16,2,16,3],[16,8,16,9],[16,10,16,11],[27,4,27,5],[27,6,27,7],[27,8,27,9],[27,10,27,11],[24,0,24,2],[24,8,24,10],[37,9,37,10],[26,0,26,3],[26,4,26,7],[26,8,26,11],[16,0,16,1],[35,8,35,10],[15,0,15,3],[15,4,15,7],[13,0,13,2],[13,4,13,6],[13,8,13,10],[15,8,15,11],[0,9,0,10],[2,1,2,2],[2,4,2,5],[2,8,2,9],[5,8,5,9],[5,10,5,11],[5,0,5,1],[4,0,4,3],[4,4,4,7],[4,8,4,11],[5,2,5,3],[5,4,5,5],[5,6,5,7]]}
[null,null,null,null,null,null,null,null,null,"Année scolaire : ",null,{"$f":"' Liste élèves'!B1","v":"2018-2019"}]
[]
["NOM : ",{"$f":"' Liste élèves'!A157","v":"STEEGMANS"},null,"PRENOM:",{"$f":"' Liste élèves'!B157","v":"Bryan"},null,null,"CLASSE :",{"$f":"' Liste élèves'!C157","v":"Classe 7"}]
[]
["SEPTEMBRE",null,null,null,"OCTOBRE",null,null,null,"NOVEMBRE"]
["RECETTES",null,"DEPENSES",null,"RECETTES",null,"DEPENSES",null,"RECETTES",null,"DEPENSES"]
["Dates","Montant","Activités","Montant","Dates","Montant","Activités","Montant","Dates","Montant","Activités","Montant"]
["Report juin"]
[]
[]
[]
[]
[null,{"$f":"SUM(B9:B12)","v":0},null,{"$f":"SUM(D8:D12)","v":0},null,{"$f":"SUM(F8:F12)","v":0},null,{"$f":"SUM(H8:H12)","v":0},null,{"$f":"SUM(J8:J12)","v":0},null,{"$f":"SUM(L8:L12)","v":0}]
["Récap 30/09",null,null,{"$f":"+B13-D13","v":0},"Récap 31/10",null,null,{"$f":"+F13-H13","v":0},"Récap 30/11",null,null,{"$f":"+J13-L13","v":0}]
[]
["DÉCEMBRE",null,null,null,"Situation fin décembre",null,null,null,"JANVIER"]
["RECETTES",null,"DEPENSES",null,null,"Recettes","Dépenses","Total","RECETTES",null,"DEPENSES"]
["Dates","Montant","Activités","Montant",{"$f":"A14","v":"Récap 30/09"},{"$f":"B13","v":0},{"$f":"D13","v":0},{"$f":"D14","v":0},"Dates","Montant","Activités","Montant"]
[null,null,null,null,{"$f":"E14","v":"Récap 31/10"},{"$f":"F13","v":0},{"$f":"H13","v":0},{"$f":"H14","v":0}]
[null,null,null,null,{"$f":"I14","v":"Récap 30/11"},{"$f":"J13","v":0},{"$f":"L13","v":0},{"$f":"L14","v":0}]
[null,null,null,null,{"$f":"A25","v":"Récap 31/12"},{"$f":"B24","v":0},{"$f":"D24","v":0},{"$f":"D25","v":0}]
[null,null,null,null,"Report Sept",null,null,{"$f":"B8","v":0}]
[null,null,null,null,"Situation 31/12",{"$f":"SUM(F18:F22)","v":0},{"$f":"SUM(G18:G22)","v":0},{"$f":"SUM(H18:H22)","v":0}]
[null,{"$f":"SUM(B19:B23)","v":0},null,{"$f":"SUM(D19:D23)","v":0},null,null,null,null,null,{"$f":"SUM(J19:J23)","v":0},null,{"$f":"SUM(L19:L23)","v":0}]
["Récap 31/12",null,null,{"$f":"+B24-D24","v":0},null,null,null,null,"Récap 31/01",null,null,{"$f":"+J24-L24","v":0}]
[]
["FÉVRIER",null,null,null,"MARS",null,null,null,"AVRIL"]
["RECETTES",null,"DEPENSES",null,"RECETTES",null,"DEPENSES",null,"RECETTES",null,"DEPENSES"]
["Dates","Montant","Activités","Montant","Dates","Montant","Activités","Montant","Dates","Montant","Activités","Montant"]
[]
[]
[]
[]
[]
[null,{"$f":"SUM(B30:B34)","v":0},null,{"$f":"SUM(D30:D34)","v":0},null,{"$f":"SUM(F30:F34)","v":0},null,{"$f":"SUM(H30:H34)","v":0},null,{"$f":"SUM(J30:J34)","v":0},null,{"$f":"SUM(L30:L34)","v":0}]
["Récap 28/02",null,null,{"$f":"+B35-D35","v":0},"Récap 31/03",null,null,{"$f":"+F35-H35","v":0},"Récap 30/04",null,null,{"$f":"+J35-L35","v":0}]
[]
[]
["MAI",null,null,null,"JUIN",null,null,null,"Situation fin juin"]
["RECETTES",null,"DEPENSES",null,"RECETTES",null,"DEPENSES",null,null,"Recettes","Dépenses","Total"]
["Dates","Montant","Activités","Montant","Dates","Montant","Activités","Montant",{"$f":"E23","v":"Situation 31/12"},null,null,{"$f":"H23","v":0}]
[null,null,null,null,null,null,null,null,{"$f":"I25","v":"Récap 31/01"},{"$f":"J24","v":0},{"$f":"L24","v":0},{"$f":"L25","v":0}]
[null,null,null,null,null,null,null,null,{"$f":"A36","v":"Récap 28/02"},{"$f":"B35","v":0},{"$f":"D35","v":0},{"$f":"D36","v":0}]
[null,null,null,null,null,null,null,null,{"$f":"E36","v":"Récap 31/03"},{"$f":"F35","v":0},{"$f":"H35","v":0},{"$f":"H36","v":0}]
[null,null,null,null,null,null,null,null,{"$f":"I36","v":"Récap 30/04"},{"$f":"J35","v":0},{"$f":"L35","v":0},{"$f":"L36","v":0}]
[null,null,null,null,null,null,null,null,{"$f":"A48","v":"Récap 31/05"},{"$f":"B47","v":0},{"$f":"D47","v":0},{"$f":"D48","v":0}]
[null,{"$f":"SUM(B42:B46)","v":0},null,{"$f":"SUM(D42:D46)","v":0},null,{"$f":"SUM(F42:F46)","v":0},null,{"$f":"SUM(H42:H46)","v":0},{"$f":"E48","v":"Récap 30/06"},{"$f":"F47","v":0},{"$f":"H47","v":0},{"$f":"H48","v":0}]
["Récap 31/05",null,null,{"$f":"+B47-D47","v":0},"Récap 30/06",null,null,{"$f":"+F47-H47","v":0},"Situation 30/06",{"$f":"SUM(J42:J47)","v":0},{"$f":"SUM(K42:K47)","v":0},{"$f":"SUM(L41:L47)","v":0}]
[]
[null,null,null,null,null,null,null,null,null,null,null,{"$f":"F23+J48-G23-K48+B8","v":0}]
[]
[null,null,null,null,null,null,null,null,null,{"$f":"B13+F13+J13+B24+J24+B35+F35+J35+B47+F47","v":0},{"$f":"D13+H13+L13+D24+L24+D35+H35+L35+D47+H47","v":0},{"$f":"B8+J52-K52","v":0}]

{"sheet":"STEVENS","index":157,"n_rows":52,"n_cols":12,"rows_kept":52,"cut":false,"hidden":false,"merged":[[47,0,47,2],[47,4,47,6],[38,0,38,3],[38,4,38,7],[35,0,35,2],[35,4,35,6],[38,8,38,11],[39,4,39,5],[39,6,39,7],[16,2,16,3],[16,8,16,9],[16,10,16,11],[27,4,27,5],[27,6,27,7],[27,8,27,9],[27,10,27,11],[24,0,24,2],[24,8,24,10],[37,9,37,10],[26,0,26,3],[26,4,26,7],[26,8,26,11],[16,0,16,1],[35,8,35,10],[15,0,15,3],[15,4,15,7],[13,0,13,2],[13,4,13,6],[13,8,13,10],[15,8,15,11],[0,9,0,10],[2,1,2,2],[2,4,2,5],[2,8,2,9],[5,8,5,9],[5,10,5,11],[5,0,5,1],[4,0,4,3],[4,4,4,7],[4,8,4,11],[5,2,5,3],[5,4,5,5],[5,6,5,7]]}
[null,null,null,null,null,null,null,null,null,"Année scolaire : ",null,{"$f":"' Liste élèves'!B1","v":"2018-2019"}]
[]
["NOM : ",{"$f":"' Liste élèves'!A158","v":"STEVENS"},null,"PRENOM:",{"$f":"' Liste élèves'!B158","v":"Rémy"},null,null,"CLASSE :",{"$f":"' Liste élèves'!C158","v":"Classe JB"}]
[]
["SEPTEMBRE",null,null,null,"OCTOBRE",null,null,null,"NOVEMBRE"]
["RECETTES",null,"DEPENSES",null,"RECETTES",null,"DEPENSES",null,"RECETTES",null,"DEPENSES"]
["Dates","Montant","Activités","Montant","Dates","Montant","Activités","Montant","Dates","Montant","Activités","Montant"]
["Report juin"]
[]
[]
[]
[]
[null,{"$f":"SUM(B9:B12)","v":0},null,{"$f":"SUM(D8:D12)","v":0},null,{"$f":"SUM(F8:F12)","v":0},null,{"$f":"SUM(H8:H12)","v":0},null,{"$f":"SUM(J8:J12)","v":0},null,{"$f":"SUM(L8:L12)","v":0}]
["Récap 30/09",null,null,{"$f":"+B13-D13","v":0},"Récap 31/10",null,null,{"$f":"+F13-H13","v":0},"Récap 30/11",null,null,{"$f":"+J13-L13","v":0}]
[]
["DÉCEMBRE",null,null,null,"Situation fin décembre",null,null,null,"JANVIER"]
["RECETTES",null,"DEPENSES",null,null,"Recettes","Dépenses","Total","RECETTES",null,"DEPENSES"]
["Dates","Montant","Activités","Montant",{"$f":"A14","v":"Récap 30/09"},{"$f":"B13","v":0},{"$f":"D13","v":0},{"$f":"D14","v":0},"Dates","Montant","Activités","Montant"]
[null,null,null,null,{"$f":"E14","v":"Récap 31/10"},{"$f":"F13","v":0},{"$f":"H13","v":0},{"$f":"H14","v":0}]
[null,null,null,null,{"$f":"I14","v":"Récap 30/11"},{"$f":"J13","v":0},{"$f":"L13","v":0},{"$f":"L14","v":0}]
[null,null,null,null,{"$f":"A25","v":"Récap 31/12"},{"$f":"B24","v":0},{"$f":"D24","v":0},{"$f":"D25","v":0}]
[null,null,null,null,"Report Sept",null,null,{"$f":"B8","v":0}]
[null,null,null,null,"Situation 31/12",{"$f":"SUM(F18:F22)","v":0},{"$f":"SUM(G18:G22)","v":0},{"$f":"SUM(H18:H22)","v":0}]
[null,{"$f":"SUM(B19:B23)","v":0},null,{"$f":"SUM(D19:D23)","v":0},null,null,null,null,null,{"$f":"SUM(J19:J23)","v":0},null,{"$f":"SUM(L19:L23)","v":0}]
["Récap 31/12",null,null,{"$f":"+B24-D24","v":0},null,null,null,null,"Récap 31/01",null,null,{"$f":"+J24-L24","v":0}]
[]
["FÉVRIER",null,null,null,"MARS",null,null,null,"AVRIL"]
["RECETTES",null,"DEPENSES",null,"RECETTES",null,"DEPENSES",null,"RECETTES",null,"DEPENSES"]
["Dates","Montant","Activités","Montant","Dates","Montant","Activités","Montant","Dates","Montant","Activités","Montant"]
[]
[]
[]
[]
[]
[null,{"$f":"SUM(B30:B34)","v":0},null,{"$f":"SUM(D30:D34)","v":0},null,{"$f":"SUM(F30:F34)","v":0},null,{"$f":"SUM(H30:H34)","v":0},null,{"$f":"SUM(J30:J34)","v":0},null,{"$f":"SUM(L30:L34)","v":0}]
["Récap 28/02",null,null,{"$f":"+B35-D35","v":0},"Récap 31/03",null,null,{"$f":"+F35-H35","v":0},"Récap 30/04",null,null,{"$f":"+J35-L35","v":0}]
[]
[]
["MAI",null,null,null,"JUIN",null,null,null,"Situation fin juin"]
["RECETTES",null,"DEPENSES",null,"RECETTES",null,"DEPENSES",null,null,"Recettes","Dépenses","Total"]
["Dates","Montant","Activités","Montant","Dates","Montant","Activités","Montant",{"$f":"E23","v":"Situation 31/12"},null,null,{"$f":"H23","v":0}]
[null,null,null,null,null,null,null,null,{"$f":"I25","v":"Récap 31/01"},{"$f":"J24","v":0},{"$f":"L24","v":0},{"$f":"L25","v":0}]
[null,null,null,null,null,null,null,null,{"$f":"A36","v":"Récap 28/02"},{"$f":"B35","v":0},{"$f":"D35","v":0},{"$f":"D36","v":0}]
[null,null,null,null,null,null,null,null,{"$f":"E36","v":"Récap 31/03"},{"$f":"F35","v":0},{"$f":"H35","v":0},{"$f":"H36","v":0}]
[null,null,null,null,null,null,null,null,{"$f":"I36","v":"Récap 30/04"},{"$f":"J35","v":0},{"$f":"L35","v":0},{"$f":"L36","v":0}]
[null,null,null,null,null,null,null,null,{"$f":"A48","v":"Récap 31/05"},{"$f":"B47","v":0},{"$f":"D47","v":0},{"$f":"D48","v":0}]
[null,{"$f":"SUM(B42:B46)","v":0},null,{"$f":"SUM(D42:D46)","v":0},null,{"$f":"SUM(F42:F46)","v":0},null,{"$f":"SUM(H42:H46)","v":0},{"$f":"E48","v":"Récap 30/06"},{"$f":"F47","v":0},{"$f":"H47","v":0},{"$f":"H48","v":0}]
["Récap 31/05",null,null,{"$f":"+B47-D47","v":0},"Récap 30/06",null,null,{"$f":"+F47-H47","v":0},"Situation 30/06",{"$f":"SUM(J42:J47)","v":0},{"$f":"SUM(K42:K47)","v":0},{"$f":"SUM(L41:L47)","v":0}]
[]
[null,null,null,null,null,null,null,null,null,null,null,{"$f":"F23+J48-G23-K48+B8","v":0}]
[]
[null,null,null,null,null,null,null,null,null,{"$f":"B13+F13+J13+B24+J24+B35+F35+J35+B47+F47","v":0},{"$f":"D13+H13+L13+D24+L24+D35+H35+L35+D47+H47","v":0},{"$f":"B8+J52-K52","v":0}]

{"sheet":"TAMBOUR","index":158,"n_rows":52,"n_cols":12,"rows_kept":52,"cut":false,"hidden":false,"merged":[[47,0,47,2],[47,4,47,6],[38,0,38,3],[38,4,38,7],[35,0,35,2],[35,4,35,6],[38,8,38,11],[39,4,39,5],[39,6,39,7],[16,2,16,3],[16,8,16,9],[16,10,16,11],[27,4,27,5],[27,6,27,7],[27,8,27,9],[27,10,27,11],[24,0,24,2],[24,8,24,10],[37,9,37,10],[26,0,26,3],[26,4,26,7],[26,8,26,11],[16,0,16,1],[35,8,35,10],[15,0,15,3],[15,4,15,7],[13,0,13,2],[13,4,13,6],[13,8,13,10],[15,8,15,11],[0,9,0,10],[2,1,2,2],[2,4,2,5],[2,8,2,9],[5,8,5,9],[5,10,5,11],[5,0,5,1],[4,0,4,3],[4,4,4,7],[4,8,4,11],[5,2,5,3],[5,4,5,5],[5,6,5,7]]}
[null,null,null,null,null,null,null,null,null,"Année scolaire : ",null,{"$f":"' Liste élèves'!B1","v":"2018-2019"}]
[]
["NOM : ",{"$f":"' Liste élèves'!A159","v":"TAMBOUR"},null,"PRENOM:",{"$f":"' Liste élèves'!B159","v":"Samuel"},null,null,"CLASSE :",{"$f":"' Liste élèves'!C159","v":"Classe MA"}]
[]
["SEPTEMBRE",null,null,null,"OCTOBRE",null,null,null,"NOVEMBRE"]
["RECETTES",null,"DEPENSES",null,"RECETTES",null,"DEPENSES",null,"RECETTES",null,"DEPENSES"]
["Dates","Montant","Activités","Montant","Dates","Montant","Activités","Montant","Dates","Montant","Activités","Montant"]
["Report juin"]
[]
[]
[]
[]
[null,{"$f":"SUM(B9:B12)","v":0},null,{"$f":"SUM(D8:D12)","v":0},null,{"$f":"SUM(F8:F12)","v":0},null,{"$f":"SUM(H8:H12)","v":0},null,{"$f":"SUM(J8:J12)","v":0},null,{"$f":"SUM(L8:L12)","v":0}]
["Récap 30/09",null,null,{"$f":"+B13-D13","v":0},"Récap 31/10",null,null,{"$f":"+F13-H13","v":0},"Récap 30/11",null,null,{"$f":"+J13-L13","v":0}]
[]
["DÉCEMBRE",null,null,null,"Situation fin décembre",null,null,null,"JANVIER"]
["RECETTES",null,"DEPENSES",null,null,"Recettes","Dépenses","Total","RECETTES",null,"DEPENSES"]
["Dates","Montant","Activités","Montant",{"$f":"A14","v":"Récap 30/09"},{"$f":"B13","v":0},{"$f":"D13","v":0},{"$f":"D14","v":0},"Dates","Montant","Activités","Montant"]
[null,null,null,null,{"$f":"E14","v":"Récap 31/10"},{"$f":"F13","v":0},{"$f":"H13","v":0},{"$f":"H14","v":0}]
[null,null,null,null,{"$f":"I14","v":"Récap 30/11"},{"$f":"J13","v":0},{"$f":"L13","v":0},{"$f":"L14","v":0}]
[null,null,null,null,{"$f":"A25","v":"Récap 31/12"},{"$f":"B24","v":0},{"$f":"D24","v":0},{"$f":"D25","v":0}]
[null,null,null,null,"Report Sept",null,null,{"$f":"B8","v":0}]
[null,null,null,null,"Situation 31/12",{"$f":"SUM(F18:F22)","v":0},{"$f":"SUM(G18:G22)","v":0},{"$f":"SUM(H18:H22)","v":0}]
[null,{"$f":"SUM(B19:B23)","v":0},null,{"$f":"SUM(D19:D23)","v":0},null,null,null,null,null,{"$f":"SUM(J19:J23)","v":0},null,{"$f":"SUM(L19:L23)","v":0}]
["Récap 31/12",null,null,{"$f":"+B24-D24","v":0},null,null,null,null,"Récap 31/01",null,null,{"$f":"+J24-L24","v":0}]
[]
["FÉVRIER",null,null,null,"MARS",null,null,null,"AVRIL"]
["RECETTES",null,"DEPENSES",null,"RECETTES",null,"DEPENSES",null,"RECETTES",null,"DEPENSES"]
["Dates","Montant","Activités","Montant","Dates","Montant","Activités","Montant","Dates","Montant","Activités","Montant"]
[]
[]
[]
[]
[]
[null,{"$f":"SUM(B30:B34)","v":0},null,{"$f":"SUM(D30:D34)","v":0},null,{"$f":"SUM(F30:F34)","v":0},null,{"$f":"SUM(H30:H34)","v":0},null,{"$f":"SUM(J30:J34)","v":0},null,{"$f":"SUM(L30:L34)","v":0}]
["Récap 28/02",null,null,{"$f":"+B35-D35","v":0},"Récap 31/03",null,null,{"$f":"+F35-H35","v":0},"Récap 30/04",null,null,{"$f":"+J35-L35","v":0}]
[]
[]
["MAI",null,null,null,"JUIN",null,null,null,"Situation fin juin"]
["RECETTES",null,"DEPENSES",null,"RECETTES",null,"DEPENSES",null,null,"Recettes","Dépenses","Total"]
["Dates","Montant","Activités","Montant","Dates","Montant","Activités","Montant",{"$f":"E23","v":"Situation 31/12"},null,null,{"$f":"H23","v":0}]
[null,null,null,null,null,null,null,null,{"$f":"I25","v":"Récap 31/01"},{"$f":"J24","v":0},{"$f":"L24","v":0},{"$f":"L25","v":0}]
[null,null,null,null,null,null,null,null,{"$f":"A36","v":"Récap 28/02"},{"$f":"B35","v":0},{"$f":"D35","v":0},{"$f":"D36","v":0}]
[null,null,null,null,null,null,null,null,{"$f":"E36","v":"Récap 31/03"},{"$f":"F35","v":0},{"$f":"H35","v":0},{"$f":"H36","v":0}]
[null,null,null,null,null,null,null,null,{"$f":"I36","v":"Récap 30/04"},{"$f":"J35","v":0},{"$f":"L35","v":0},{"$f":"L36","v":0}]
[null,null,null,null,null,null,null,null,{"$f":"A48","v":"Récap 31/05"},{"$f":"B47","v":0},{"$f":"D47","v":0},{"$f":"D48","v":0}]
[null,{"$f":"SUM(B42:B46)","v":0},null,{"$f":"SUM(D42:D46)","v":0},null,{"$f":"SUM(F42:F46)","v":0},null,{"$f":"SUM(H42:H46)","v":0},{"$f":"E48","v":"Récap 30/06"},{"$f":"F47","v":0},{"$f":"H47","v":0},{"$f":"H48","v":0}]
["Récap 31/05",null,null,{"$f":"+B47-D47","v":0},"Récap 30/06",null,null,{"$f":"+F47-H47","v":0},"Situation 30/06",{"$f":"SUM(J42:J47)","v":0},{"$f":"SUM(K42:K47)","v":0},{"$f":"SUM(L41:L47)","v":0}]
[]
[null,null,null,null,null,null,null,null,null,null,null,{"$f":"F23+J48-G23-K48+B8","v":0}]
[]
[null,null,null,null,null,null,null,null,null,{"$f":"B13+F13+J13+B24+J24+B35+F35+J35+B47+F47","v":0},{"$f":"D13+H13+L13+D24+L24+D35+H35+L35+D47+H47","v":0},{"$f":"B8+J52-K52","v":0}]

{"sheet":"TEMSAMANI","index":159,"n_rows":52,"n_cols":12,"rows_kept":52,"cut":false,"hidden":false,"merged":[[47,0,47,2],[47,4,47,6],[38,0,38,3],[38,4,38,7],[35,0,35,2],[35,4,35,6],[38,8,38,11],[39,4,39,5],[39,6,39,7],[16,2,16,3],[16,8,16,9],[16,10,16,11],[27,4,27,5],[27,6,27,7],[27,8,27,9],[27,10,27,11],[24,0,24,2],[24,8,24,10],[37,9,37,10],[26,0,26,3],[26,4,26,7],[26,8,26,11],[16,0,16,1],[35,8,35,10],[15,0,15,3],[15,4,15,7],[13,0,13,2],[13,4,13,6],[13,8,13,10],[15,8,15,11],[0,9,0,10],[2,1,2,2],[2,4,2,5],[2,8,2,9],[5,8,5,9],[5,10,5,11],[5,0,5,1],[4,0,4,3],[4,4,4,7],[4,8,4,11],[5,2,5,3],[5,4,5,5],[5,6,5,7]]}
[null,null,null,null,null,null,null,null,null,"Année scolaire : ",null,{"$f":"' Liste élèves'!B1","v":"2018-2019"}]
[]
["NOM : ",{"$f":"' Liste élèves'!A160","v":"TEMSAMANI"},null,"PRENOM:",{"$f":"' Liste élèves'!B160","v":"Moad Nail"},null,null,"CLASSE :",{"$f":"' Liste élèves'!C160","v":"Classe FB"}]
[]
["SEPTEMBRE",null,null,null,"OCTOBRE",null,null,null,"NOVEMBRE"]
["RECETTES",null,"DEPENSES",null,"RECETTES",null,"DEPENSES",null,"RECETTES",null,"DEPENSES"]
["Dates","Montant","Activités","Montant","Dates","Montant","Activités","Montant","Dates","Montant","Activités","Montant"]
["Report juin"]
[]
[]
[]
[]
[null,{"$f":"SUM(B9:B12)","v":0},null,{"$f":"SUM(D8:D12)","v":0},null,{"$f":"SUM(F8:F12)","v":0},null,{"$f":"SUM(H8:H12)","v":0},null,{"$f":"SUM(J8:J12)","v":0},null,{"$f":"SUM(L8:L12)","v":0}]
["Récap 30/09",null,null,{"$f":"+B13-D13","v":0},"Récap 31/10",null,null,{"$f":"+F13-H13","v":0},"Récap 30/11",null,null,{"$f":"+J13-L13","v":0}]
[]
["DÉCEMBRE",null,null,null,"Situation fin décembre",null,null,null,"JANVIER"]
["RECETTES",null,"DEPENSES",null,null,"Recettes","Dépenses","Total","RECETTES",null,"DEPENSES"]
["Dates","Montant","Activités","Montant",{"$f":"A14","v":"Récap 30/09"},{"$f":"B13","v":0},{"$f":"D13","v":0},{"$f":"D14","v":0},"Dates","Montant","Activités","Montant"]
[null,null,null,null,{"$f":"E14","v":"Récap 31/10"},{"$f":"F13","v":0},{"$f":"H13","v":0},{"$f":"H14","v":0}]
[null,null,null,null,{"$f":"I14","v":"Récap 30/11"},{"$f":"J13","v":0},{"$f":"L13","v":0},{"$f":"L14","v":0}]
[null,null,null,null,{"$f":"A25","v":"Récap 31/12"},{"$f":"B24","v":0},{"$f":"D24","v":0},{"$f":"D25","v":0}]
[null,null,null,null,"Report Sept",null,null,{"$f":"B8","v":0}]
[null,null,null,null,"Situation 31/12",{"$f":"SUM(F18:F22)","v":0},{"$f":"SUM(G18:G22)","v":0},{"$f":"SUM(H18:H22)","v":0}]
[null,{"$f":"SUM(B19:B23)","v":0},null,{"$f":"SUM(D19:D23)","v":0},null,null,null,null,null,{"$f":"SUM(J19:J23)","v":0},null,{"$f":"SUM(L19:L23)","v":0}]
["Récap 31/12",null,null,{"$f":"+B24-D24","v":0},null,null,null,null,"Récap 31/01",null,null,{"$f":"+J24-L24","v":0}]
[]
["FÉVRIER",null,null,null,"MARS",null,null,null,"AVRIL"]
["RECETTES",null,"DEPENSES",null,"RECETTES",null,"DEPENSES",null,"RECETTES",null,"DEPENSES"]
["Dates","Montant","Activités","Montant","Dates","Montant","Activités","Montant","Dates","Montant","Activités","Montant"]
[]
[]
[]
[]
[]
[null,{"$f":"SUM(B30:B34)","v":0},null,{"$f":"SUM(D30:D34)","v":0},null,{"$f":"SUM(F30:F34)","v":0},null,{"$f":"SUM(H30:H34)","v":0},null,{"$f":"SUM(J30:J34)","v":0},null,{"$f":"SUM(L30:L34)","v":0}]
["Récap 28/02",null,null,{"$f":"+B35-D35","v":0},"Récap 31/03",null,null,{"$f":"+F35-H35","v":0},"Récap 30/04",null,null,{"$f":"+J35-L35","v":0}]
[]
[]
["MAI",null,null,null,"JUIN",null,null,null,"Situation fin juin"]
["RECETTES",null,"DEPENSES",null,"RECETTES",null,"DEPENSES",null,null,"Recettes","Dépenses","Total"]
["Dates","Montant","Activités","Montant","Dates","Montant","Activités","Montant",{"$f":"E23","v":"Situation 31/12"},null,null,{"$f":"H23","v":0}]
[null,null,null,null,null,null,null,null,{"$f":"I25","v":"Récap 31/01"},{"$f":"J24","v":0},{"$f":"L24","v":0},{"$f":"L25","v":0}]
[null,null,null,null,null,null,null,null,{"$f":"A36","v":"Récap 28/02"},{"$f":"B35","v":0},{"$f":"D35","v":0},{"$f":"D36","v":0}]
[null,null,null,null,null,null,null,null,{"$f":"E36","v":"Récap 31/03"},{"$f":"F35","v":0},{"$f":"H35","v":0},{"$f":"H36","v":0}]
[null,null,null,null,null,null,null,null,{"$f":"I36","v":"Récap 30/04"},{"$f":"J35","v":0},{"$f":"L35","v":0},{"$f":"L36","v":0}]
[null,null,null,null,null,null,null,null,{"$f":"A48","v":"Récap 31/05"},{"$f":"B47","v":0},{"$f":"D47","v":0},{"$f":"D48","v":0}]
[null,{"$f":"SUM(B42:B46)","v":0},null,{"$f":"SUM(D42:D46)","v":0},null,{"$f":"SUM(F42:F46)","v":0},null,{"$f":"SUM(H42:H46)","v":0},{"$f":"E48","v":"Récap 30/06"},{"$f":"F47","v":0},{"$f":"H47","v":0},{"$f":"H48","v":0}]
["Récap 31/05",null,null,{"$f":"+B47-D47","v":0},"Récap 30/06",null,null,{"$f":"+F47-H47","v":0},"Situation 30/06",{"$f":"SUM(J42:J47)","v":0},{"$f":"SUM(K42:K47)","v":0},{"$f":"SUM(L41:L47)","v":0}]
[]
[null,null,null,null,null,null,null,null,null,null,null,{"$f":"F23+J48-G23-K48+B8","v":0}]
[]
[null,null,null,null,null,null,null,null,null,{"$f":"B13+F13+J13+B24+J24+B35+F35+J35+B47+F47","v":0},{"$f":"D13+H13+L13+D24+L24+D35+H35+L35+D47+H47","v":0},{"$f":"B8+J52-K52","v":0}]

{"sheet":"TERASSE","index":160,"n_rows":52,"n_cols":12,"rows_kept":52,"cut":false,"hidden":false,"merged":[[47,0,47,2],[47,4,47,6],[38,0,38,3],[38,4,38,7],[35,0,35,2],[35,4,35,6],[38,8,38,11],[39,4,39,5],[39,6,39,7],[16,2,16,3],[16,8,16,9],[16,10,16,11],[27,4,27,5],[27,6,27,7],[27,8,27,9],[27,10,27,11],[24,0,24,2],[24,8,24,10],[37,9,37,10],[26,0,26,3],[26,4,26,7],[26,8,26,11],[16,0,16,1],[35,8,35,10],[15,0,15,3],[15,4,15,7],[13,0,13,2],[13,4,13,6],[13,8,13,10],[15,8,15,11],[0,9,0,10],[2,1,2,2],[2,4,2,5],[2,8,2,9],[5,8,5,9],[5,10,5,11],[5,0,5,1],[4,0,4,3],[4,4,4,7],[4,8,4,11],[5,2,5,3],[5,4,5,5],[5,6,5,7]]}
[null,null,null,null,null,null,null,null,null,"Année scolaire : ",null,{"$f":"' Liste élèves'!B1","v":"2018-2019"}]
[]
["NOM : ",{"$f":"' Liste élèves'!A161","v":"TERASSE"},null,"PRENOM:",{"$f":"' Liste élèves'!B161","v":"Florian"},null,null,"CLASSE :",{"$f":"' Liste élèves'!C161","v":"Classe MB"}]
[]
["SEPTEMBRE",null,null,null,"OCTOBRE",null,null,null,"NOVEMBRE"]
["RECETTES",null,"DEPENSES",null,"RECETTES",null,"DEPENSES",null,"RECETTES",null,"DEPENSES"]
["Dates","Montant","Activités","Montant","Dates","Montant","Activités","Montant","Dates","Montant","Activités","Montant"]
["Report juin"]
[]
[]
[]
[]
[null,{"$f":"SUM(B9:B12)","v":0},null,{"$f":"SUM(D8:D12)","v":0},null,{"$f":"SUM(F8:F12)","v":0},null,{"$f":"SUM(H8:H12)","v":0},null,{"$f":"SUM(J8:J12)","v":0},null,{"$f":"SUM(L8:L12)","v":0}]
["Récap 30/09",null,null,{"$f":"+B13-D13","v":0},"Récap 31/10",null,null,{"$f":"+F13-H13","v":0},"Récap 30/11",null,null,{"$f":"+J13-L13","v":0}]
[]
["DÉCEMBRE",null,null,null,"Situation fin décembre",null,null,null,"JANVIER"]
["RECETTES",null,"DEPENSES",null,null,"Recettes","Dépenses","Total","RECETTES",null,"DEPENSES"]
["Dates","Montant","Activités","Montant",{"$f":"A14","v":"Récap 30/09"},{"$f":"B13","v":0},{"$f":"D13","v":0},{"$f":"D14","v":0},"Dates","Montant","Activités","Montant"]
[null,null,null,null,{"$f":"E14","v":"Récap 31/10"},{"$f":"F13","v":0},{"$f":"H13","v":0},{"$f":"H14","v":0}]
[null,null,null,null,{"$f":"I14","v":"Récap 30/11"},{"$f":"J13","v":0},{"$f":"L13","v":0},{"$f":"L14","v":0}]
[null,null,null,null,{"$f":"A25","v":"Récap 31/12"},{"$f":"B24","v":0},{"$f":"D24","v":0},{"$f":"D25","v":0}]
[null,null,null,null,"Report Sept",null,null,{"$f":"B8","v":0}]
[null,null,null,null,"Situation 31/12",{"$f":"SUM(F18:F22)","v":0},{"$f":"SUM(G18:G22)","v":0},{"$f":"SUM(H18:H22)","v":0}]
[null,{"$f":"SUM(B19:B23)","v":0},null,{"$f":"SUM(D19:D23)","v":0},null,null,null,null,null,{"$f":"SUM(J19:J23)","v":0},null,{"$f":"SUM(L19:L23)","v":0}]
["Récap 31/12",null,null,{"$f":"+B24-D24","v":0},null,null,null,null,"Récap 31/01",null,null,{"$f":"+J24-L24","v":0}]
[]
["FÉVRIER",null,null,null,"MARS",null,null,null,"AVRIL"]
["RECETTES",null,"DEPENSES",null,"RECETTES",null,"DEPENSES",null,"RECETTES",null,"DEPENSES"]
["Dates","Montant","Activités","Montant","Dates","Montant","Activités","Montant","Dates","Montant","Activités","Montant"]
[]
[]
[]
[]
[]
[null,{"$f":"SUM(B30:B34)","v":0},null,{"$f":"SUM(D30:D34)","v":0},null,{"$f":"SUM(F30:F34)","v":0},null,{"$f":"SUM(H30:H34)","v":0},null,{"$f":"SUM(J30:J34)","v":0},null,{"$f":"SUM(L30:L34)","v":0}]
["Récap 28/02",null,null,{"$f":"+B35-D35","v":0},"Récap 31/03",null,null,{"$f":"+F35-H35","v":0},"Récap 30/04",null,null,{"$f":"+J35-L35","v":0}]
[]
[]
["MAI",null,null,null,"JUIN",null,null,null,"Situation fin juin"]
["RECETTES",null,"DEPENSES",null,"RECETTES",null,"DEPENSES",null,null,"Recettes","Dépenses","Total"]
["Dates","Montant","Activités","Montant","Dates","Montant","Activités","Montant",{"$f":"E23","v":"Situation 31/12"},null,null,{"$f":"H23","v":0}]
[null,null,null,null,null,null,null,null,{"$f":"I25","v":"Récap 31/01"},{"$f":"J24","v":0},{"$f":"L24","v":0},{"$f":"L25","v":0}]
[null,null,null,null,null,null,null,null,{"$f":"A36","v":"Récap 28/02"},{"$f":"B35","v":0},{"$f":"D35","v":0},{"$f":"D36","v":0}]
[null,null,null,null,null,null,null,null,{"$f":"E36","v":"Récap 31/03"},{"$f":"F35","v":0},{"$f":"H35","v":0},{"$f":"H36","v":0}]
[null,null,null,null,null,null,null,null,{"$f":"I36","v":"Récap 30/04"},{"$f":"J35","v":0},{"$f":"L35","v":0},{"$f":"L36","v":0}]
[null,null,null,null,null,null,null,null,{"$f":"A48","v":"Récap 31/05"},{"$f":"B47","v":0},{"$f":"D47","v":0},{"$f":"D48","v":0}]
[null,{"$f":"SUM(B42:B46)","v":0},null,{"$f":"SUM(D42:D46)","v":0},null,{"$f":"SUM(F42:F46)","v":0},null,{"$f":"SUM(H42:H46)","v":0},{"$f":"E48","v":"Récap 30/06"},{"$f":"F47","v":0},{"$f":"H47","v":0},{"$f":"H48","v":0}]
["Récap 31/05",null,null,{"$f":"+B47-D47","v":0},"Récap 30/06",null,null,{"$f":"+F47-H47","v":0},"Situation 30/06",{"$f":"SUM(J42:J47)","v":0},{"$f":"SUM(K42:K47)","v":0},{"$f":"SUM(L41:L47)","v":0}]
[]
[null,null,null,null,null,null,null,null,null,null,null,{"$f":"F23+J48-G23-K48+B8","v":0}]
[]
[null,null,null,null,null,null,null,null,null,{"$f":"B13+F13+J13+B24+J24+B35+F35+J35+B47+F47","v":0},{"$f":"D13+H13+L13+D24+L24+D35+H35+L35+D47+H47","v":0},{"$f":"B8+J52-K52","v":0}]

{"sheet":"TILMAN","index":161,"n_rows":52,"n_cols":12,"rows_kept":52,"cut":false,"hidden":false,"merged":[[47,0,47,2],[47,4,47,6],[38,0,38,3],[38,4,38,7],[35,0,35,2],[35,4,35,6],[38,8,38,11],[39,4,39,5],[39,6,39,7],[16,2,16,3],[16,8,16,9],[16,10,16,11],[27,4,27,5],[27,6,27,7],[27,8,27,9],[27,10,27,11],[24,0,24,2],[24,8,24,10],[37,9,37,10],[26,0,26,3],[26,4,26,7],[26,8,26,11],[16,0,16,1],[35,8,35,10],[15,0,15,3],[15,4,15,7],[13,0,13,2],[13,4,13,6],[13,8,13,10],[15,8,15,11],[0,9,0,10],[2,1,2,2],[2,4,2,5],[2,8,2,9],[5,8,5,9],[5,10,5,11],[5,0,5,1],[4,0,4,3],[4,4,4,7],[4,8,4,11],[5,2,5,3],[5,4,5,5],[5,6,5,7]]}
[null,null,null,null,null,null,null,null,null,"Année scolaire : ",null,{"$f":"' Liste élèves'!B1","v":"2018-2019"}]
[]
["NOM : ",{"$f":"' Liste élèves'!A162","v":"TILMAN"},null,"PRENOM:",{"$f":"' Liste élèves'!B162","v":"Leslie"},null,null,"CLASSE :",{"$f":"' Liste élèves'!C162","v":"Classe 5"}]
[]
["SEPTEMBRE",null,null,null,"OCTOBRE",null,null,null,"NOVEMBRE"]
["RECETTES",null,"DEPENSES",null,"RECETTES",null,"DEPENSES",null,"RECETTES",null,"DEPENSES"]
["Dates","Montant","Activités","Montant","Dates","Montant","Activités","Montant","Dates","Montant","Activités","Montant"]
["Report juin"]
[]
[]
[]
[]
[null,{"$f":"SUM(B9:B12)","v":0},null,{"$f":"SUM(D8:D12)","v":0},null,{"$f":"SUM(F8:F12)","v":0},null,{"$f":"SUM(H8:H12)","v":0},null,{"$f":"SUM(J8:J12)","v":0},null,{"$f":"SUM(L8:L12)","v":0}]
["Récap 30/09",null,null,{"$f":"+B13-D13","v":0},"Récap 31/10",null,null,{"$f":"+F13-H13","v":0},"Récap 30/11",null,null,{"$f":"+J13-L13","v":0}]
[]
["DÉCEMBRE",null,null,null,"Situation fin décembre",null,null,null,"JANVIER"]
["RECETTES",null,"DEPENSES",null,null,"Recettes","Dépenses","Total","RECETTES",null,"DEPENSES"]
["Dates","Montant","Activités","Montant",{"$f":"A14","v":"Récap 30/09"},{"$f":"B13","v":0},{"$f":"D13","v":0},{"$f":"D14","v":0},"Dates","Montant","Activités","Montant"]
[null,null,null,null,{"$f":"E14","v":"Récap 31/10"},{"$f":"F13","v":0},{"$f":"H13","v":0},{"$f":"H14","v":0}]
[null,null,null,null,{"$f":"I14","v":"Récap 30/11"},{"$f":"J13","v":0},{"$f":"L13","v":0},{"$f":"L14","v":0}]
[null,null,null,null,{"$f":"A25","v":"Récap 31/12"},{"$f":"B24","v":0},{"$f":"D24","v":0},{"$f":"D25","v":0}]
[null,null,null,null,"Report Sept",null,null,{"$f":"B8","v":0}]
[null,null,null,null,"Situation 31/12",{"$f":"SUM(F18:F22)","v":0},{"$f":"SUM(G18:G22)","v":0},{"$f":"SUM(H18:H22)","v":0}]
[null,{"$f":"SUM(B19:B23)","v":0},null,{"$f":"SUM(D19:D23)","v":0},null,null,null,null,null,{"$f":"SUM(J19:J23)","v":0},null,{"$f":"SUM(L19:L23)","v":0}]
["Récap 31/12",null,null,{"$f":"+B24-D24","v":0},null,null,null,null,"Récap 31/01",null,null,{"$f":"+J24-L24","v":0}]
[]
["FÉVRIER",null,null,null,"MARS",null,null,null,"AVRIL"]
["RECETTES",null,"DEPENSES",null,"RECETTES",null,"DEPENSES",null,"RECETTES",null,"DEPENSES"]
["Dates","Montant","Activités","Montant","Dates","Montant","Activités","Montant","Dates","Montant","Activités","Montant"]
[]
[]
[]
[]
[]
[null,{"$f":"SUM(B30:B34)","v":0},null,{"$f":"SUM(D30:D34)","v":0},null,{"$f":"SUM(F30:F34)","v":0},null,{"$f":"SUM(H30:H34)","v":0},null,{"$f":"SUM(J30:J34)","v":0},null,{"$f":"SUM(L30:L34)","v":0}]
["Récap 28/02",null,null,{"$f":"+B35-D35","v":0},"Récap 31/03",null,null,{"$f":"+F35-H35","v":0},"Récap 30/04",null,null,{"$f":"+J35-L35","v":0}]
[]
[]
["MAI",null,null,null,"JUIN",null,null,null,"Situation fin juin"]
["RECETTES",null,"DEPENSES",null,"RECETTES",null,"DEPENSES",null,null,"Recettes","Dépenses","Total"]
["Dates","Montant","Activités","Montant","Dates","Montant","Activités","Montant",{"$f":"E23","v":"Situation 31/12"},null,null,{"$f":"H23","v":0}]
[null,null,null,null,null,null,null,null,{"$f":"I25","v":"Récap 31/01"},{"$f":"J24","v":0},{"$f":"L24","v":0},{"$f":"L25","v":0}]
[null,null,null,null,null,null,null,null,{"$f":"A36","v":"Récap 28/02"},{"$f":"B35","v":0},{"$f":"D35","v":0},{"$f":"D36","v":0}]
[null,null,null,null,null,null,null,null,{"$f":"E36","v":"Récap 31/03"},{"$f":"F35","v":0},{"$f":"H35","v":0},{"$f":"H36","v":0}]
[null,null,null,null,null,null,null,null,{"$f":"I36","v":"Récap 30/04"},{"$f":"J35","v":0},{"$f":"L35","v":0},{"$f":"L36","v":0}]
[null,null,null,null,null,null,null,null,{"$f":"A48","v":"Récap 31/05"},{"$f":"B47","v":0},{"$f":"D47","v":0},{"$f":"D48","v":0}]
[null,{"$f":"SUM(B42:B46)","v":0},null,{"$f":"SUM(D42:D46)","v":0},null,{"$f":"SUM(F42:F46)","v":0},null,{"$f":"SUM(H42:H46)","v":0},{"$f":"E48","v":"Récap 30/06"},{"$f":"F47","v":0},{"$f":"H47","v":0},{"$f":"H48","v":0}]
["Récap 31/05",null,null,{"$f":"+B47-D47","v":0},"Récap 30/06",null,null,{"$f":"+F47-H47","v":0},"Situation 30/06",{"$f":"SUM(J42:J47)","v":0},{"$f":"SUM(K42:K47)","v":0},{"$f":"SUM(L41:L47)","v":0}]
[]
[null,null,null,null,null,null,null,null,null,null,null,{"$f":"F23+J48-G23-K48+B8","v":0}]
[]
[null,null,null,null,null,null,null,null,null,{"$f":"B13+F13+J13+B24+J24+B35+F35+J35+B47+F47","v":0},{"$f":"D13+H13+L13+D24+L24+D35+H35+L35+D47+H47","v":0},{"$f":"B8+J52-K52","v":0}]

{"sheet":"TYVAERT","index":162,"n_rows":52,"n_cols":12,"rows_kept":52,"cut":false,"hidden":false,"merged":[[47,0,47,2],[47,4,47,6],[38,0,38,3],[38,4,38,7],[35,0,35,2],[35,4,35,6],[38,8,38,11],[39,4,39,5],[39,6,39,7],[16,2,16,3],[16,8,16,9],[16,10,16,11],[27,4,27,5],[27,6,27,7],[27,8,27,9],[27,10,27,11],[24,0,24,2],[24,8,24,10],[37,9,37,10],[26,0,26,3],[26,4,26,7],[26,8,26,11],[16,0,16,1],[35,8,35,10],[15,0,15,3],[15,4,15,7],[13,0,13,2],[13,4,13,6],[13,8,13,10],[15,8,15,11],[0,9,0,10],[2,1,2,2],[2,4,2,5],[2,8,2,9],[5,8,5,9],[5,10,5,11],[5,0,5,1],[4,0,4,3],[4,4,4,7],[4,8,4,11],[5,2,5,3],[5,4,5,5],[5,6,5,7]]}
[null,null,null,null,null,null,null,null,null,"Année scolaire : ",null,{"$f":"' Liste élèves'!B1","v":"2018-2019"}]
[]
["NOM : ",{"$f":"' Liste élèves'!A163","v":"TYVAERT"},null,"PRENOM:",{"$f":"' Liste élèves'!B163","v":"Kayrrigan"},null,null,"CLASSE :",{"$f":"' Liste élèves'!C163","v":"Classe 12"}]
[]
["SEPTEMBRE",null,null,null,"OCTOBRE",null,null,null,"NOVEMBRE"]
["RECETTES",null,"DEPENSES",null,"RECETTES",null,"DEPENSES",null,"RECETTES",null,"DEPENSES"]
["Dates","Montant","Activités","Montant","Dates","Montant","Activités","Montant","Dates","Montant","Activités","Montant"]
["Report juin"]
[]
[]
[]
[]
[null,{"$f":"SUM(B9:B12)","v":0},null,{"$f":"SUM(D8:D12)","v":0},null,{"$f":"SUM(F8:F12)","v":0},null,{"$f":"SUM(H8:H12)","v":0},null,{"$f":"SUM(J8:J12)","v":0},null,{"$f":"SUM(L8:L12)","v":0}]
["Récap 30/09",null,null,{"$f":"+B13-D13","v":0},"Récap 31/10",null,null,{"$f":"+F13-H13","v":0},"Récap 30/11",null,null,{"$f":"+J13-L13","v":0}]
[]
["DÉCEMBRE",null,null,null,"Situation fin décembre",null,null,null,"JANVIER"]
["RECETTES",null,"DEPENSES",null,null,"Recettes","Dépenses","Total","RECETTES",null,"DEPENSES"]
["Dates","Montant","Activités","Montant",{"$f":"A14","v":"Récap 30/09"},{"$f":"B13","v":0},{"$f":"D13","v":0},{"$f":"D14","v":0},"Dates","Montant","Activités","Montant"]
[null,null,null,null,{"$f":"E14","v":"Récap 31/10"},{"$f":"F13","v":0},{"$f":"H13","v":0},{"$f":"H14","v":0}]
[null,null,null,null,{"$f":"I14","v":"Récap 30/11"},{"$f":"J13","v":0},{"$f":"L13","v":0},{"$f":"L14","v":0}]
[null,null,null,null,{"$f":"A25","v":"Récap 31/12"},{"$f":"B24","v":0},{"$f":"D24","v":0},{"$f":"D25","v":0}]
[null,null,null,null,"Report Sept",null,null,{"$f":"B8","v":0}]
[null,null,null,null,"Situation 31/12",{"$f":"SUM(F18:F22)","v":0},{"$f":"SUM(G18:G22)","v":0},{"$f":"SUM(H18:H22)","v":0}]
[null,{"$f":"SUM(B19:B23)","v":0},null,{"$f":"SUM(D19:D23)","v":0},null,null,null,null,null,{"$f":"SUM(J19:J23)","v":0},null,{"$f":"SUM(L19:L23)","v":0}]
["Récap 31/12",null,null,{"$f":"+B24-D24","v":0},null,null,null,null,"Récap 31/01",null,null,{"$f":"+J24-L24","v":0}]
[]
["FÉVRIER",null,null,null,"MARS",null,null,null,"AVRIL"]
["RECETTES",null,"DEPENSES",null,"RECETTES",null,"DEPENSES",null,"RECETTES",null,"DEPENSES"]
["Dates","Montant","Activités","Montant","Dates","Montant","Activités","Montant","Dates","Montant","Activités","Montant"]
[]
[]
[]
[]
[]
[null,{"$f":"SUM(B30:B34)","v":0},null,{"$f":"SUM(D30:D34)","v":0},null,{"$f":"SUM(F30:F34)","v":0},null,{"$f":"SUM(H30:H34)","v":0},null,{"$f":"SUM(J30:J34)","v":0},null,{"$f":"SUM(L30:L34)","v":0}]
["Récap 28/02",null,null,{"$f":"+B35-D35","v":0},"Récap 31/03",null,null,{"$f":"+F35-H35","v":0},"Récap 30/04",null,null,{"$f":"+J35-L35","v":0}]
[]
[]
["MAI",null,null,null,"JUIN",null,null,null,"Situation fin juin"]
["RECETTES",null,"DEPENSES",null,"RECETTES",null,"DEPENSES",null,null,"Recettes","Dépenses","Total"]
["Dates","Montant","Activités","Montant","Dates","Montant","Activités","Montant",{"$f":"E23","v":"Situation 31/12"},null,null,{"$f":"H23","v":0}]
[null,null,null,null,null,null,null,null,{"$f":"I25","v":"Récap 31/01"},{"$f":"J24","v":0},{"$f":"L24","v":0},{"$f":"L25","v":0}]
[null,null,null,null,null,null,null,null,{"$f":"A36","v":"Récap 28/02"},{"$f":"B35","v":0},{"$f":"D35","v":0},{"$f":"D36","v":0}]
[null,null,null,null,null,null,null,null,{"$f":"E36","v":"Récap 31/03"},{"$f":"F35","v":0},{"$f":"H35","v":0},{"$f":"H36","v":0}]
[null,null,null,null,null,null,null,null,{"$f":"I36","v":"Récap 30/04"},{"$f":"J35","v":0},{"$f":"L35","v":0},{"$f":"L36","v":0}]
[null,null,null,null,null,null,null,null,{"$f":"A48","v":"Récap 31/05"},{"$f":"B47","v":0},{"$f":"D47","v":0},{"$f":"D48","v":0}]
[null,{"$f":"SUM(B42:B46)","v":0},null,{"$f":"SUM(D42:D46)","v":0},null,{"$f":"SUM(F42:F46)","v":0},null,{"$f":"SUM(H42:H46)","v":0},{"$f":"E48","v":"Récap 30/06"},{"$f":"F47","v":0},{"$f":"H47","v":0},{"$f":"H48","v":0}]
["Récap 31/05",null,null,{"$f":"+B47-D47","v":0},"Récap 30/06",null,null,{"$f":"+F47-H47","v":0},"Situation 30/06",{"$f":"SUM(J42:J47)","v":0},{"$f":"SUM(K42:K47)","v":0},{"$f":"SUM(L41:L47)","v":0}]
[]
[null,null,null,null,null,null,null,null,null,null,null,{"$f":"F23+J48-G23-K48+B8","v":0}]
[]
[null,null,null,null,null,null,null,null,null,{"$f":"B13+F13+J13+B24+J24+B35+F35+J35+B47+F47","v":0},{"$f":"D13+H13+L13+D24+L24+D35+H35+L35+D47+H47","v":0},{"$f":"B8+J52-K52","v":0}]

{"sheet":"VANBELLINGHEN","index":163,"n_rows":52,"n_cols":12,"rows_kept":52,"cut":false,"hidden":false,"merged":[[47,0,47,2],[47,4,47,6],[38,0,38,3],[38,4,38,7],[35,0,35,2],[35,4,35,6],[38,8,38,11],[39,4,39,5],[39,6,39,7],[16,2,16,3],[16,8,16,9],[16,10,16,11],[27,4,27,5],[27,6,27,7],[27,8,27,9],[27,10,27,11],[24,0,24,2],[24,8,24,10],[37,9,37,10],[26,0,26,3],[26,4,26,7],[26,8,26,11],[16,0,16,1],[35,8,35,10],[15,0,15,3],[15,4,15,7],[13,0,13,2],[13,4,13,6],[13,8,13,10],[15,8,15,11],[0,9,0,10],[2,1,2,2],[2,4,2,5],[2,8,2,9],[5,8,5,9],[5,10,5,11],[5,0,5,1],[4,0,4,3],[4,4,4,7],[4,8,4,11],[5,2,5,3],[5,4,5,5],[5,6,5,7]]}
[null,null,null,null,null,null,null,null,null,"Année scolaire : ",null,{"$f":"' Liste élèves'!B1","v":"2018-2019"}]
[]
["NOM : ",{"$f":"' Liste élèves'!A165","v":"VANBELLINGHEN"},null,"PRENOM:",{"$f":"' Liste élèves'!B165","v":"Adeline"},null,null,"CLASSE :",{"$f":"' Liste élèves'!C165","v":"Classe MB"}]
[]
["SEPTEMBRE",null,null,null,"OCTOBRE",null,null,null,"NOVEMBRE"]
["RECETTES",null,"DEPENSES",null,"RECETTES",null,"DEPENSES",null,"RECETTES",null,"DEPENSES"]
["Dates","Montant","Activités","Montant","Dates","Montant","Activités","Montant","Dates","Montant","Activités","Montant"]
["Report juin"]
[]
[]
[]
[]
[null,{"$f":"SUM(B9:B12)","v":0},null,{"$f":"SUM(D8:D12)","v":0},null,{"$f":"SUM(F8:F12)","v":0},null,{"$f":"SUM(H8:H12)","v":0},null,{"$f":"SUM(J8:J12)","v":0},null,{"$f":"SUM(L8:L12)","v":0}]
["Récap 30/09",null,null,{"$f":"+B13-D13","v":0},"Récap 31/10",null,null,{"$f":"+F13-H13","v":0},"Récap 30/11",null,null,{"$f":"+J13-L13","v":0}]
[]
["DÉCEMBRE",null,null,null,"Situation fin décembre",null,null,null,"JANVIER"]
["RECETTES",null,"DEPENSES",null,null,"Recettes","Dépenses","Total","RECETTES",null,"DEPENSES"]
["Dates","Montant","Activités","Montant",{"$f":"A14","v":"Récap 30/09"},{"$f":"B13","v":0},{"$f":"D13","v":0},{"$f":"D14","v":0},"Dates","Montant","Activités","Montant"]
[null,null,null,null,{"$f":"E14","v":"Récap 31/10"},{"$f":"F13","v":0},{"$f":"H13","v":0},{"$f":"H14","v":0}]
[null,null,null,null,{"$f":"I14","v":"Récap 30/11"},{"$f":"J13","v":0},{"$f":"L13","v":0},{"$f":"L14","v":0}]
[null,null,null,null,{"$f":"A25","v":"Récap 31/12"},{"$f":"B24","v":0},{"$f":"D24","v":0},{"$f":"D25","v":0}]
[null,null,null,null,"Report Sept",null,null,{"$f":"B8","v":0}]
[null,null,null,null,"Situation 31/12",{"$f":"SUM(F18:F22)","v":0},{"$f":"SUM(G18:G22)","v":0},{"$f":"SUM(H18:H22)","v":0}]
[null,{"$f":"SUM(B19:B23)","v":0},null,{"$f":"SUM(D19:D23)","v":0},null,null,null,null,null,{"$f":"SUM(J19:J23)","v":0},null,{"$f":"SUM(L19:L23)","v":0}]
["Récap 31/12",null,null,{"$f":"+B24-D24","v":0},null,null,null,null,"Récap 31/01",null,null,{"$f":"+J24-L24","v":0}]
[]
["FÉVRIER",null,null,null,"MARS",null,null,null,"AVRIL"]
["RECETTES",null,"DEPENSES",null,"RECETTES",null,"DEPENSES",null,"RECETTES",null,"DEPENSES"]
["Dates","Montant","Activités","Montant","Dates","Montant","Activités","Montant","Dates","Montant","Activités","Montant"]
[]
[]
[]
[]
[]
[null,{"$f":"SUM(B30:B34)","v":0},null,{"$f":"SUM(D30:D34)","v":0},null,{"$f":"SUM(F30:F34)","v":0},null,{"$f":"SUM(H30:H34)","v":0},null,{"$f":"SUM(J30:J34)","v":0},null,{"$f":"SUM(L30:L34)","v":0}]
["Récap 28/02",null,null,{"$f":"+B35-D35","v":0},"Récap 31/03",null,null,{"$f":"+F35-H35","v":0},"Récap 30/04",null,null,{"$f":"+J35-L35","v":0}]
[]
[]
["MAI",null,null,null,"JUIN",null,null,null,"Situation fin juin"]
["RECETTES",null,"DEPENSES",null,"RECETTES",null,"DEPENSES",null,null,"Recettes","Dépenses","Total"]
["Dates","Montant","Activités","Montant","Dates","Montant","Activités","Montant",{"$f":"E23","v":"Situation 31/12"},null,null,{"$f":"H23","v":0}]
[null,null,null,null,null,null,null,null,{"$f":"I25","v":"Récap 31/01"},{"$f":"J24","v":0},{"$f":"L24","v":0},{"$f":"L25","v":0}]
[null,null,null,null,null,null,null,null,{"$f":"A36","v":"Récap 28/02"},{"$f":"B35","v":0},{"$f":"D35","v":0},{"$f":"D36","v":0}]
[null,null,null,null,null,null,null,null,{"$f":"E36","v":"Récap 31/03"},{"$f":"F35","v":0},{"$f":"H35","v":0},{"$f":"H36","v":0}]
[null,null,null,null,null,null,null,null,{"$f":"I36","v":"Récap 30/04"},{"$f":"J35","v":0},{"$f":"L35","v":0},{"$f":"L36","v":0}]
[null,null,null,null,null,null,null,null,{"$f":"A48","v":"Récap 31/05"},{"$f":"B47","v":0},{"$f":"D47","v":0},{"$f":"D48","v":0}]
[null,{"$f":"SUM(B42:B46)","v":0},null,{"$f":"SUM(D42:D46)","v":0},null,{"$f":"SUM(F42:F46)","v":0},null,{"$f":"SUM(H42:H46)","v":0},{"$f":"E48","v":"Récap 30/06"},{"$f":"F47","v":0},{"$f":"H47","v":0},{"$f":"H48","v":0}]
["Récap 31/05",null,null,{"$f":"+B47-D47","v":0},"Récap 30/06",null,null,{"$f":"+F47-H47","v":0},"Situation 30/06",{"$f":"SUM(J42:J47)","v":0},{"$f":"SUM(K42:K47)","v":0},{"$f":"SUM(L41:L47)","v":0}]
[]
[null,null,null,null,null,null,null,null,null,null,null,{"$f":"F23+J48-G23-K48+B8","v":0}]
[]
[null,null,null,null,null,null,null,null,null,{"$f":"B13+F13+J13+B24+J24+B35+F35+J35+B47+F47","v":0},{"$f":"D13+H13+L13+D24+L24+D35+H35+L35+D47+H47","v":0},{"$f":"B8+J52-K52","v":0}]

{"sheet":"VANDAELE","index":164,"n_rows":52,"n_cols":12,"rows_kept":52,"cut":false,"hidden":false,"merged":[[47,0,47,2],[47,4,47,6],[38,0,38,3],[38,4,38,7],[35,0,35,2],[35,4,35,6],[38,8,38,11],[39,4,39,5],[39,6,39,7],[16,2,16,3],[16,8,16,9],[16,10,16,11],[27,4,27,5],[27,6,27,7],[27,8,27,9],[27,10,27,11],[24,0,24,2],[24,8,24,10],[37,9,37,10],[26,0,26,3],[26,4,26,7],[26,8,26,11],[16,0,16,1],[35,8,35,10],[15,0,15,3],[15,4,15,7],[13,0,13,2],[13,4,13,6],[13,8,13,10],[15,8,15,11],[0,9,0,10],[2,1,2,2],[2,4,2,5],[2,8,2,9],[5,8,5,9],[5,10,5,11],[5,0,5,1],[4,0,4,3],[4,4,4,7],[4,8,4,11],[5,2,5,3],[5,4,5,5],[5,6,5,7]]}
[null,null,null,null,null,null,null,null,null,"Année scolaire : ",null,{"$f":"' Liste élèves'!B1","v":"2018-2019"}]
[]
["NOM : ",{"$f":"' Liste élèves'!A164","v":"VANDAELE"},null,"PRENOM:",{"$f":"' Liste élèves'!B164","v":"Steven"},null,null,"CLASSE :",{"$f":"' Liste élèves'!C164","v":"Classe 10"}]
[]
["SEPTEMBRE",null,null,null,"OCTOBRE",null,null,null,"NOVEMBRE"]
["RECETTES",null,"DEPENSES",null,"RECETTES",null,"DEPENSES",null,"RECETTES",null,"DEPENSES"]
["Dates","Montant","Activités","Montant","Dates","Montant","Activités","Montant","Dates","Montant","Activités","Montant"]
["Report juin"]
[]
[]
[]
[]
[null,{"$f":"SUM(B9:B12)","v":0},null,{"$f":"SUM(D8:D12)","v":0},null,{"$f":"SUM(F8:F12)","v":0},null,{"$f":"SUM(H8:H12)","v":0},null,{"$f":"SUM(J8:J12)","v":0},null,{"$f":"SUM(L8:L12)","v":0}]
["Récap 30/09",null,null,{"$f":"+B13-D13","v":0},"Récap 31/10",null,null,{"$f":"+F13-H13","v":0},"Récap 30/11",null,null,{"$f":"+J13-L13","v":0}]
[]
["DÉCEMBRE",null,null,null,"Situation fin décembre",null,null,null,"JANVIER"]
["RECETTES",null,"DEPENSES",null,null,"Recettes","Dépenses","Total","RECETTES",null,"DEPENSES"]
["Dates","Montant","Activités","Montant",{"$f":"A14","v":"Récap 30/09"},{"$f":"B13","v":0},{"$f":"D13","v":0},{"$f":"D14","v":0},"Dates","Montant","Activités","Montant"]
[null,null,null,null,{"$f":"E14","v":"Récap 31/10"},{"$f":"F13","v":0},{"$f":"H13","v":0},{"$f":"H14","v":0}]
[null,null,null,null,{"$f":"I14","v":"Récap 30/11"},{"$f":"J13","v":0},{"$f":"L13","v":0},{"$f":"L14","v":0}]
[null,null,null,null,{"$f":"A25","v":"Récap 31/12"},{"$f":"B24","v":0},{"$f":"D24","v":0},{"$f":"D25","v":0}]
[null,null,null,null,"Report Sept",null,null,{"$f":"B8","v":0}]
[null,null,null,null,"Situation 31/12",{"$f":"SUM(F18:F22)","v":0},{"$f":"SUM(G18:G22)","v":0},{"$f":"SUM(H18:H22)","v":0}]
[null,{"$f":"SUM(B19:B23)","v":0},null,{"$f":"SUM(D19:D23)","v":0},null,null,null,null,null,{"$f":"SUM(J19:J23)","v":0},null,{"$f":"SUM(L19:L23)","v":0}]
["Récap 31/12",null,null,{"$f":"+B24-D24","v":0},null,null,null,null,"Récap 31/01",null,null,{"$f":"+J24-L24","v":0}]
[]
["FÉVRIER",null,null,null,"MARS",null,null,null,"AVRIL"]
["RECETTES",null,"DEPENSES",null,"RECETTES",null,"DEPENSES",null,"RECETTES",null,"DEPENSES"]
["Dates","Montant","Activités","Montant","Dates","Montant","Activités","Montant","Dates","Montant","Activités","Montant"]
[]
[]
[]
[]
[]
[null,{"$f":"SUM(B30:B34)","v":0},null,{"$f":"SUM(D30:D34)","v":0},null,{"$f":"SUM(F30:F34)","v":0},null,{"$f":"SUM(H30:H34)","v":0},null,{"$f":"SUM(J30:J34)","v":0},null,{"$f":"SUM(L30:L34)","v":0}]
["Récap 28/02",null,null,{"$f":"+B35-D35","v":0},"Récap 31/03",null,null,{"$f":"+F35-H35","v":0},"Récap 30/04",null,null,{"$f":"+J35-L35","v":0}]
[]
[]
["MAI",null,null,null,"JUIN",null,null,null,"Situation fin juin"]
["RECETTES",null,"DEPENSES",null,"RECETTES",null,"DEPENSES",null,null,"Recettes","Dépenses","Total"]
["Dates","Montant","Activités","Montant","Dates","Montant","Activités","Montant",{"$f":"E23","v":"Situation 31/12"},null,null,{"$f":"H23","v":0}]
[null,null,null,null,null,null,null,null,{"$f":"I25","v":"Récap 31/01"},{"$f":"J24","v":0},{"$f":"L24","v":0},{"$f":"L25","v":0}]
[null,null,null,null,null,null,null,null,{"$f":"A36","v":"Récap 28/02"},{"$f":"B35","v":0},{"$f":"D35","v":0},{"$f":"D36","v":0}]
[null,null,null,null,null,null,null,null,{"$f":"E36","v":"Récap 31/03"},{"$f":"F35","v":0},{"$f":"H35","v":0},{"$f":"H36","v":0}]
[null,null,null,null,null,null,null,null,{"$f":"I36","v":"Récap 30/04"},{"$f":"J35","v":0},{"$f":"L35","v":0},{"$f":"L36","v":0}]
[null,null,null,null,null,null,null,null,{"$f":"A48","v":"Récap 31/05"},{"$f":"B47","v":0},{"$f":"D47","v":0},{"$f":"D48","v":0}]
[null,{"$f":"SUM(B42:B46)","v":0},null,{"$f":"SUM(D42:D46)","v":0},null,{"$f":"SUM(F42:F46)","v":0},null,{"$f":"SUM(H42:H46)","v":0},{"$f":"E48","v":"Récap 30/06"},{"$f":"F47","v":0},{"$f":"H47","v":0},{"$f":"H48","v":0}]
["Récap 31/05",null,null,{"$f":"+B47-D47","v":0},"Récap 30/06",null,null,{"$f":"+F47-H47","v":0},"Situation 30/06",{"$f":"SUM(J42:J47)","v":0},{"$f":"SUM(K42:K47)","v":0},{"$f":"SUM(L41:L47)","v":0}]
[]
[null,null,null,null,null,null,null,null,null,null,null,{"$f":"F23+J48-G23-K48+B8","v":0}]
[]
[null,null,null,null,null,null,null,null,null,{"$f":"B13+F13+J13+B24+J24+B35+F35+J35+B47+F47","v":0},{"$f":"D13+H13+L13+D24+L24+D35+H35+L35+D47+H47","v":0},{"$f":"B8+J52-K52","v":0}]

{"sheet":"VANDENNOORGATE","index":165,"n_rows":52,"n_cols":12,"rows_kept":52,"cut":false,"hidden":false,"merged":[[47,0,47,2],[47,4,47,6],[38,0,38,3],[38,4,38,7],[35,0,35,2],[35,4,35,6],[38,8,38,11],[39,4,39,5],[39,6,39,7],[16,2,16,3],[16,8,16,9],[16,10,16,11],[27,4,27,5],[27,6,27,7],[27,8,27,9],[27,10,27,11],[24,0,24,2],[24,8,24,10],[37,9,37,10],[26,0,26,3],[26,4,26,7],[26,8,26,11],[16,0,16,1],[35,8,35,10],[15,0,15,3],[15,4,15,7],[13,0,13,2],[13,4,13,6],[13,8,13,10],[15,8,15,11],[0,9,0,10],[2,1,2,2],[2,4,2,5],[2,8,2,9],[5,8,5,9],[5,10,5,11],[5,0,5,1],[4,0,4,3],[4,4,4,7],[4,8,4,11],[5,2,5,3],[5,4,5,5],[5,6,5,7]]}
[null,null,null,null,null,null,null,null,null,"Année scolaire : ",null,{"$f":"' Liste élèves'!B1","v":"2018-2019"}]
[]
["NOM : ",{"$f":"' Liste élèves'!A167","v":"VANDENNOORGATE"},null,"PRENOM:",{"$f":"' Liste élèves'!B167","v":"Loredana"},null,null,"CLASSE :",{"$f":"' Liste élèves'!C167","v":"Classe 2"}]
[]
["SEPTEMBRE",null,null,null,"OCTOBRE",null,null,null,"NOVEMBRE"]
["RECETTES",null,"DEPENSES",null,"RECETTES",null,"DEPENSES",null,"RECETTES",null,"DEPENSES"]
["Dates","Montant","Activités","Montant","Dates","Montant","Activités","Montant","Dates","Montant","Activités","Montant"]
["Report juin"]
[]
[]
[]
[]
[null,{"$f":"SUM(B9:B12)","v":0},null,{"$f":"SUM(D8:D12)","v":0},null,{"$f":"SUM(F8:F12)","v":0},null,{"$f":"SUM(H8:H12)","v":0},null,{"$f":"SUM(J8:J12)","v":0},null,{"$f":"SUM(L8:L12)","v":0}]
["Récap 30/09",null,null,{"$f":"+B13-D13","v":0},"Récap 31/10",null,null,{"$f":"+F13-H13","v":0},"Récap 30/11",null,null,{"$f":"+J13-L13","v":0}]
[]
["DÉCEMBRE",null,null,null,"Situation fin décembre",null,null,null,"JANVIER"]
["RECETTES",null,"DEPENSES",null,null,"Recettes","Dépenses","Total","RECETTES",null,"DEPENSES"]
["Dates","Montant","Activités","Montant",{"$f":"A14","v":"Récap 30/09"},{"$f":"B13","v":0},{"$f":"D13","v":0},{"$f":"D14","v":0},"Dates","Montant","Activités","Montant"]
[null,null,null,null,{"$f":"E14","v":"Récap 31/10"},{"$f":"F13","v":0},{"$f":"H13","v":0},{"$f":"H14","v":0}]
[null,null,null,null,{"$f":"I14","v":"Récap 30/11"},{"$f":"J13","v":0},{"$f":"L13","v":0},{"$f":"L14","v":0}]
[null,null,null,null,{"$f":"A25","v":"Récap 31/12"},{"$f":"B24","v":0},{"$f":"D24","v":0},{"$f":"D25","v":0}]
[null,null,null,null,"Report Sept",null,null,{"$f":"B8","v":0}]
[null,null,null,null,"Situation 31/12",{"$f":"SUM(F18:F22)","v":0},{"$f":"SUM(G18:G22)","v":0},{"$f":"SUM(H18:H22)","v":0}]
[null,{"$f":"SUM(B19:B23)","v":0},null,{"$f":"SUM(D19:D23)","v":0},null,null,null,null,null,{"$f":"SUM(J19:J23)","v":0},null,{"$f":"SUM(L19:L23)","v":0}]
["Récap 31/12",null,null,{"$f":"+B24-D24","v":0},null,null,null,null,"Récap 31/01",null,null,{"$f":"+J24-L24","v":0}]
[]
["FÉVRIER",null,null,null,"MARS",null,null,null,"AVRIL"]
["RECETTES",null,"DEPENSES",null,"RECETTES",null,"DEPENSES",null,"RECETTES",null,"DEPENSES"]
["Dates","Montant","Activités","Montant","Dates","Montant","Activités","Montant","Dates","Montant","Activités","Montant"]
[]
[]
[]
[]
[]
[null,{"$f":"SUM(B30:B34)","v":0},null,{"$f":"SUM(D30:D34)","v":0},null,{"$f":"SUM(F30:F34)","v":0},null,{"$f":"SUM(H30:H34)","v":0},null,{"$f":"SUM(J30:J34)","v":0},null,{"$f":"SUM(L30:L34)","v":0}]
["Récap 28/02",null,null,{"$f":"+B35-D35","v":0},"Récap 31/03",null,null,{"$f":"+F35-H35","v":0},"Récap 30/04",null,null,{"$f":"+J35-L35","v":0}]
[]
[]
["MAI",null,null,null,"JUIN",null,null,null,"Situation fin juin"]
["RECETTES",null,"DEPENSES",null,"RECETTES",null,"DEPENSES",null,null,"Recettes","Dépenses","Total"]
["Dates","Montant","Activités","Montant","Dates","Montant","Activités","Montant",{"$f":"E23","v":"Situation 31/12"},null,null,{"$f":"H23","v":0}]
[null,null,null,null,null,null,null,null,{"$f":"I25","v":"Récap 31/01"},{"$f":"J24","v":0},{"$f":"L24","v":0},{"$f":"L25","v":0}]
[null,null,null,null,null,null,null,null,{"$f":"A36","v":"Récap 28/02"},{"$f":"B35","v":0},{"$f":"D35","v":0},{"$f":"D36","v":0}]
[null,null,null,null,null,null,null,null,{"$f":"E36","v":"Récap 31/03"},{"$f":"F35","v":0},{"$f":"H35","v":0},{"$f":"H36","v":0}]
[null,null,null,null,null,null,null,null,{"$f":"I36","v":"Récap 30/04"},{"$f":"J35","v":0},{"$f":"L35","v":0},{"$f":"L36","v":0}]
[null,null,null,null,null,null,null,null,{"$f":"A48","v":"Récap 31/05"},{"$f":"B47","v":0},{"$f":"D47","v":0},{"$f":"D48","v":0}]
[null,{"$f":"SUM(B42:B46)","v":0},null,{"$f":"SUM(D42:D46)","v":0},null,{"$f":"SUM(F42:F46)","v":0},null,{"$f":"SUM(H42:H46)","v":0},{"$f":"E48","v":"Récap 30/06"},{"$f":"F47","v":0},{"$f":"H47","v":0},{"$f":"H48","v":0}]
["Récap 31/05",null,null,{"$f":"+B47-D47","v":0},"Récap 30/06",null,null,{"$f":"+F47-H47","v":0},"Situation 30/06",{"$f":"SUM(J42:J47)","v":0},{"$f":"SUM(K42:K47)","v":0},{"$f":"SUM(L41:L47)","v":0}]
[]
[null,null,null,null,null,null,null,null,null,null,null,{"$f":"F23+J48-G23-K48+B8","v":0}]
[]
[null,null,null,null,null,null,null,null,null,{"$f":"B13+F13+J13+B24+J24+B35+F35+J35+B47+F47","v":0},{"$f":"D13+H13+L13+D24+L24+D35+H35+L35+D47+H47","v":0},{"$f":"B8+J52-K52","v":0}]

{"sheet":"VANDEPONTSELE","index":166,"n_rows":52,"n_cols":12,"rows_kept":52,"cut":false,"hidden":false,"merged":[[5,10,5,11],[0,9,0,10],[2,1,2,2],[2,4,2,5],[2,8,2,9],[4,0,4,3],[4,4,4,7],[4,8,4,11],[5,0,5,1],[5,2,5,3],[5,4,5,5],[5,6,5,7],[5,8,5,9],[13,0,13,2],[13,4,13,6],[13,8,13,10],[15,0,15,3],[15,4,15,7],[15,8,15,11],[16,0,16,1],[16,2,16,3],[16,8,16,9],[16,10,16,11],[24,0,24,2],[24,8,24,10],[26,0,26,3],[26,4,26,7],[26,8,26,11],[27,4,27,5],[27,6,27,7],[27,8,27,9],[27,10,27,11],[35,8,35,10],[37,9,37,10],[38,0,38,3],[38,4,38,7],[38,8,38,11],[39,4,39,5],[39,6,39,7],[47,0,47,2],[47,4,47,6],[35,0,35,2],[35,4,35,6]]}
[null,null,null,null,null,null,null,null,null,"Année scolaire : ",null,{"$f":"' Liste élèves'!B1","v":"2018-2019"}]
[]
["NOM : ",{"$f":"' Liste élèves'!A166","v":"VANDEPONTSELE"},null,"PRENOM:",{"$f":"' Liste élèves'!B166","v":"Mélinda"},null,null,"CLASSE :",{"$f":"' Liste élèves'!C166","v":"Classe 5"}]
[]
["SEPTEMBRE",null,null,null,"OCTOBRE",null,null,null,"NOVEMBRE"]
["RECETTES",null,"DEPENSES",null,"RECETTES",null,"DEPENSES",null,"RECETTES",null,"DEPENSES"]
["Dates","Montant","Activités","Montant","Dates","Montant","Activités","Montant","Dates","Montant","Activités","Montant"]
["Report juin"]
[]
[]
[]
[]
[null,{"$f":"SUM(B9:B12)","v":0},null,{"$f":"SUM(D8:D12)","v":0},null,{"$f":"SUM(F8:F12)","v":0},null,{"$f":"SUM(H8:H12)","v":0},null,{"$f":"SUM(J8:J12)","v":0},null,{"$f":"SUM(L8:L12)","v":0}]
["Récap 30/09",null,null,{"$f":"+B13-D13","v":0},"Récap 31/10",null,null,{"$f":"+F13-H13","v":0},"Récap 30/11",null,null,{"$f":"+J13-L13","v":0}]
[]
["DÉCEMBRE",null,null,null,"Situation fin décembre",null,null,null,"JANVIER"]
["RECETTES",null,"DEPENSES",null,null,"Recettes","Dépenses","Total","RECETTES",null,"DEPENSES"]
["Dates","Montant","Activités","Montant",{"$f":"A14","v":"Récap 30/09"},{"$f":"B13","v":0},{"$f":"D13","v":0},{"$f":"D14","v":0},"Dates","Montant","Activités","Montant"]
[null,null,null,null,{"$f":"E14","v":"Récap 31/10"},{"$f":"F13","v":0},{"$f":"H13","v":0},{"$f":"H14","v":0}]
[null,null,null,null,{"$f":"I14","v":"Récap 30/11"},{"$f":"J13","v":0},{"$f":"L13","v":0},{"$f":"L14","v":0}]
[null,null,null,null,{"$f":"A25","v":"Récap 31/12"},{"$f":"B24","v":0},{"$f":"D24","v":0},{"$f":"D25","v":0}]
[null,null,null,null,"Report Sept",null,null,{"$f":"B8","v":0}]
[null,null,null,null,"Situation 31/12",{"$f":"SUM(F18:F22)","v":0},{"$f":"SUM(G18:G22)","v":0},{"$f":"SUM(H18:H22)","v":0}]
[null,{"$f":"SUM(B19:B23)","v":0},null,{"$f":"SUM(D19:D23)","v":0},null,null,null,null,null,{"$f":"SUM(J19:J23)","v":0},null,{"$f":"SUM(L19:L23)","v":0}]
["Récap 31/12",null,null,{"$f":"+B24-D24","v":0},null,null,null,null,"Récap 31/01",null,null,{"$f":"+J24-L24","v":0}]
[]
["FÉVRIER",null,null,null,"MARS",null,null,null,"AVRIL"]
["RECETTES",null,"DEPENSES",null,"RECETTES",null,"DEPENSES",null,"RECETTES",null,"DEPENSES"]
["Dates","Montant","Activités","Montant","Dates","Montant","Activités","Montant","Dates","Montant","Activités","Montant"]
[]
[]
[]
[]
[]
[null,{"$f":"SUM(B30:B34)","v":0},null,{"$f":"SUM(D30:D34)","v":0},null,{"$f":"SUM(F30:F34)","v":0},null,{"$f":"SUM(H30:H34)","v":0},null,{"$f":"SUM(J30:J34)","v":0},null,{"$f":"SUM(L30:L34)","v":0}]
["Récap 28/02",null,null,{"$f":"+B35-D35","v":0},"Récap 31/03",null,null,{"$f":"+F35-H35","v":0},"Récap 30/04",null,null,{"$f":"+J35-L35","v":0}]
[]
[]
["MAI",null,null,null,"JUIN",null,null,null,"Situation fin juin"]
["RECETTES",null,"DEPENSES",null,"RECETTES",null,"DEPENSES",null,null,"Recettes","Dépenses","Total"]
["Dates","Montant","Activités","Montant","Dates","Montant","Activités","Montant",{"$f":"E23","v":"Situation 31/12"},null,null,{"$f":"H23","v":0}]
[null,null,null,null,null,null,null,null,{"$f":"I25","v":"Récap 31/01"},{"$f":"J24","v":0},{"$f":"L24","v":0},{"$f":"L25","v":0}]
[null,null,null,null,null,null,null,null,{"$f":"A36","v":"Récap 28/02"},{"$f":"B35","v":0},{"$f":"D35","v":0},{"$f":"D36","v":0}]
[null,null,null,null,null,null,null,null,{"$f":"E36","v":"Récap 31/03"},{"$f":"F35","v":0},{"$f":"H35","v":0},{"$f":"H36","v":0}]
[null,null,null,null,null,null,null,null,{"$f":"I36","v":"Récap 30/04"},{"$f":"J35","v":0},{"$f":"L35","v":0},{"$f":"L36","v":0}]
[null,null,null,null,null,null,null,null,{"$f":"A48","v":"Récap 31/05"},{"$f":"B47","v":0},{"$f":"D47","v":0},{"$f":"D48","v":0}]
[null,{"$f":"SUM(B42:B46)","v":0},null,{"$f":"SUM(D42:D46)","v":0},null,{"$f":"SUM(F42:F46)","v":0},null,{"$f":"SUM(H42:H46)","v":0},{"$f":"E48","v":"Récap 30/06"},{"$f":"F47","v":0},{"$f":"H47","v":0},{"$f":"H48","v":0}]
["Récap 31/05",null,null,{"$f":"+B47-D47","v":0},"Récap 30/06",null,null,{"$f":"+F47-H47","v":0},"Situation 30/06",{"$f":"SUM(J42:J47)","v":0},{"$f":"SUM(K42:K47)","v":0},{"$f":"SUM(L41:L47)","v":0}]
[]
[null,null,null,null,null,null,null,null,null,null,null,{"$f":"F23+J48-G23-K48+B8","v":0}]
[]
[null,null,null,null,null,null,null,null,null,{"$f":"B13+F13+J13+B24+J24+B35+F35+J35+B47+F47","v":0},{"$f":"D13+H13+L13+D24+L24+D35+H35+L35+D47+H47","v":0},{"$f":"B8+J52-K52","v":0}]

{"sheet":"VANDERHAEGEN","index":167,"n_rows":52,"n_cols":12,"rows_kept":52,"cut":false,"hidden":false,"merged":[[39,4,39,5],[39,6,39,7],[47,0,47,2],[47,4,47,6],[35,0,35,2],[35,4,35,6],[35,8,35,10],[37,9,37,10],[38,0,38,3],[38,4,38,7],[38,8,38,11],[26,0,26,3],[26,4,26,7],[26,8,26,11],[27,4,27,5],[27,6,27,7],[27,8,27,9],[27,10,27,11],[16,0,16,1],[16,2,16,3],[16,8,16,9],[16,10,16,11],[24,0,24,2],[24,8,24,10],[13,0,13,2],[13,4,13,6],[13,8,13,10],[15,0,15,3],[15,4,15,7],[15,8,15,11],[5,0,5,1],[5,2,5,3],[5,4,5,5],[5,6,5,7],[5,8,5,9],[5,10,5,11],[0,9,0,10],[2,1,2,2],[2,4,2,5],[2,8,2,9],[4,0,4,3],[4,4,4,7],[4,8,4,11]]}
[null,null,null,null,null,null,null,null,null,"Année scolaire : ",null,{"$f":"' Liste élèves'!B1","v":"2018-2019"}]
[]
["NOM : ",{"$f":"' Liste élèves'!A168","v":"VANDERHAEGEN"},null,"PRENOM:",{"$f":"' Liste élèves'!B168","v":"Tim "},null,null,"CLASSE :",{"$f":"' Liste élèves'!C168","v":"Classe 1"}]
[]
["SEPTEMBRE",null,null,null,"OCTOBRE",null,null,null,"NOVEMBRE"]
["RECETTES",null,"DEPENSES",null,"RECETTES",null,"DEPENSES",null,"RECETTES",null,"DEPENSES"]
["Dates","Montant","Activités","Montant","Dates","Montant","Activités","Montant","Dates","Montant","Activités","Montant"]
["Report juin"]
[]
[]
[]
[]
[null,{"$f":"SUM(B9:B12)","v":0},null,{"$f":"SUM(D8:D12)","v":0},null,{"$f":"SUM(F8:F12)","v":0},null,{"$f":"SUM(H8:H12)","v":0},null,{"$f":"SUM(J8:J12)","v":0},null,{"$f":"SUM(L8:L12)","v":0}]
["Récap 30/09",null,null,{"$f":"+B13-D13","v":0},"Récap 31/10",null,null,{"$f":"+F13-H13","v":0},"Récap 30/11",null,null,{"$f":"+J13-L13","v":0}]
[]
["DÉCEMBRE",null,null,null,"Situation fin décembre",null,null,null,"JANVIER"]
["RECETTES",null,"DEPENSES",null,null,"Recettes","Dépenses","Total","RECETTES",null,"DEPENSES"]
["Dates","Montant","Activités","Montant",{"$f":"A14","v":"Récap 30/09"},{"$f":"B13","v":0},{"$f":"D13","v":0},{"$f":"D14","v":0},"Dates","Montant","Activités","Montant"]
[null,null,null,null,{"$f":"E14","v":"Récap 31/10"},{"$f":"F13","v":0},{"$f":"H13","v":0},{"$f":"H14","v":0}]
[null,null,null,null,{"$f":"I14","v":"Récap 30/11"},{"$f":"J13","v":0},{"$f":"L13","v":0},{"$f":"L14","v":0}]
[null,null,null,null,{"$f":"A25","v":"Récap 31/12"},{"$f":"B24","v":0},{"$f":"D24","v":0},{"$f":"D25","v":0}]
[null,null,null,null,"Report Sept",null,null,{"$f":"B8","v":0}]
[null,null,null,null,"Situation 31/12",{"$f":"SUM(F18:F22)","v":0},{"$f":"SUM(G18:G22)","v":0},{"$f":"SUM(H18:H22)","v":0}]
[null,{"$f":"SUM(B19:B23)","v":0},null,{"$f":"SUM(D19:D23)","v":0},null,null,null,null,null,{"$f":"SUM(J19:J23)","v":0},null,{"$f":"SUM(L19:L23)","v":0}]
["Récap 31/12",null,null,{"$f":"+B24-D24","v":0},null,null,null,null,"Récap 31/01",null,null,{"$f":"+J24-L24","v":0}]
[]
["FÉVRIER",null,null,null,"MARS",null,null,null,"AVRIL"]
["RECETTES",null,"DEPENSES",null,"RECETTES",null,"DEPENSES",null,"RECETTES",null,"DEPENSES"]
["Dates","Montant","Activités","Montant","Dates","Montant","Activités","Montant","Dates","Montant","Activités","Montant"]
[]
[]
[]
[]
[]
[null,{"$f":"SUM(B30:B34)","v":0},null,{"$f":"SUM(D30:D34)","v":0},null,{"$f":"SUM(F30:F34)","v":0},null,{"$f":"SUM(H30:H34)","v":0},null,{"$f":"SUM(J30:J34)","v":0},null,{"$f":"SUM(L30:L34)","v":0}]
["Récap 28/02",null,null,{"$f":"+B35-D35","v":0},"Récap 31/03",null,null,{"$f":"+F35-H35","v":0},"Récap 30/04",null,null,{"$f":"+J35-L35","v":0}]
[]
[]
["MAI",null,null,null,"JUIN",null,null,null,"Situation fin juin"]
["RECETTES",null,"DEPENSES",null,"RECETTES",null,"DEPENSES",null,null,"Recettes","Dépenses","Total"]
["Dates","Montant","Activités","Montant","Dates","Montant","Activités","Montant",{"$f":"E23","v":"Situation 31/12"},null,null,{"$f":"H23","v":0}]
[null,null,null,null,null,null,null,null,{"$f":"I25","v":"Récap 31/01"},{"$f":"J24","v":0},{"$f":"L24","v":0},{"$f":"L25","v":0}]
[null,null,null,null,null,null,null,null,{"$f":"A36","v":"Récap 28/02"},{"$f":"B35","v":0},{"$f":"D35","v":0},{"$f":"D36","v":0}]
[null,null,null,null,null,null,null,null,{"$f":"E36","v":"Récap 31/03"},{"$f":"F35","v":0},{"$f":"H35","v":0},{"$f":"H36","v":0}]
[null,null,null,null,null,null,null,null,{"$f":"I36","v":"Récap 30/04"},{"$f":"J35","v":0},{"$f":"L35","v":0},{"$f":"L36","v":0}]
[null,null,null,null,null,null,null,null,{"$f":"A48","v":"Récap 31/05"},{"$f":"B47","v":0},{"$f":"D47","v":0},{"$f":"D48","v":0}]
[null,{"$f":"SUM(B42:B46)","v":0},null,{"$f":"SUM(D42:D46)","v":0},null,{"$f":"SUM(F42:F46)","v":0},null,{"$f":"SUM(H42:H46)","v":0},{"$f":"E48","v":"Récap 30/06"},{"$f":"F47","v":0},{"$f":"H47","v":0},{"$f":"H48","v":0}]
["Récap 31/05",null,null,{"$f":"+B47-D47","v":0},"Récap 30/06",null,null,{"$f":"+F47-H47","v":0},"Situation 30/06",{"$f":"SUM(J42:J47)","v":0},{"$f":"SUM(K42:K47)","v":0},{"$f":"SUM(L41:L47)","v":0}]
[]
[null,null,null,null,null,null,null,null,null,null,null,{"$f":"F23+J48-G23-K48+B8","v":0}]
[]
[null,null,null,null,null,null,null,null,null,{"$f":"B13+F13+J13+B24+J24+B35+F35+J35+B47+F47","v":0},{"$f":"D13+H13+L13+D24+L24+D35+H35+L35+D47+H47","v":0},{"$f":"B8+J52-K52","v":0}]

{"sheet":"VANHAELEWIJN","index":168,"n_rows":52,"n_cols":12,"rows_kept":52,"cut":false,"hidden":false,"merged":[[39,4,39,5],[39,6,39,7],[47,0,47,2],[47,4,47,6],[35,0,35,2],[35,4,35,6],[35,8,35,10],[37,9,37,10],[38,0,38,3],[38,4,38,7],[38,8,38,11],[26,0,26,3],[26,4,26,7],[26,8,26,11],[27,4,27,5],[27,6,27,7],[27,8,27,9],[27,10,27,11],[16,0,16,1],[16,2,16,3],[16,8,16,9],[16,10,16,11],[24,0,24,2],[24,8,24,10],[13,0,13,2],[13,4,13,6],[13,8,13,10],[15,0,15,3],[15,4,15,7],[15,8,15,11],[5,10,5,11],[0,9,0,10],[2,1,2,2],[2,4,2,5],[2,8,2,9],[4,0,4,3],[4,4,4,7],[4,8,4,11],[5,0,5,1],[5,2,5,3],[5,4,5,5],[5,6,5,7],[5,8,5,9]]}
[null,null,null,null,null,null,null,null,null,"Année scolaire : ",null,{"$f":"' Liste élèves'!B1","v":"2018-2019"}]
[]
["NOM : ",{"$f":"' Liste élèves'!A169","v":"VANHAELEWIJN"},null,"PRENOM:",{"$f":"' Liste élèves'!B169","v":"Quentin"},null,null,"CLASSE :",{"$f":"' Liste élèves'!C169","v":"Classe PC"}]
[]
["SEPTEMBRE",null,null,null,"OCTOBRE",null,null,null,"NOVEMBRE"]
["RECETTES",null,"DEPENSES",null,"RECETTES",null,"DEPENSES",null,"RECETTES",null,"DEPENSES"]
["Dates","Montant","Activités","Montant","Dates","Montant","Activités","Montant","Dates","Montant","Activités","Montant"]
["Report juin"]
[]
[]
[]
[]
[null,{"$f":"SUM(B9:B12)","v":0},null,{"$f":"SUM(D8:D12)","v":0},null,{"$f":"SUM(F8:F12)","v":0},null,{"$f":"SUM(H8:H12)","v":0},null,{"$f":"SUM(J8:J12)","v":0},null,{"$f":"SUM(L8:L12)","v":0}]
["Récap 30/09",null,null,{"$f":"+B13-D13","v":0},"Récap 31/10",null,null,{"$f":"+F13-H13","v":0},"Récap 30/11",null,null,{"$f":"+J13-L13","v":0}]
[]
["DÉCEMBRE",null,null,null,"Situation fin décembre",null,null,null,"JANVIER"]
["RECETTES",null,"DEPENSES",null,null,"Recettes","Dépenses","Total","RECETTES",null,"DEPENSES"]
["Dates","Montant","Activités","Montant",{"$f":"A14","v":"Récap 30/09"},{"$f":"B13","v":0},{"$f":"D13","v":0},{"$f":"D14","v":0},"Dates","Montant","Activités","Montant"]
[null,null,null,null,{"$f":"E14","v":"Récap 31/10"},{"$f":"F13","v":0},{"$f":"H13","v":0},{"$f":"H14","v":0}]
[null,null,null,null,{"$f":"I14","v":"Récap 30/11"},{"$f":"J13","v":0},{"$f":"L13","v":0},{"$f":"L14","v":0}]
[null,null,null,null,{"$f":"A25","v":"Récap 31/12"},{"$f":"B24","v":0},{"$f":"D24","v":0},{"$f":"D25","v":0}]
[null,null,null,null,"Report Sept",null,null,{"$f":"B8","v":0}]
[null,null,null,null,"Situation 31/12",{"$f":"SUM(F18:F22)","v":0},{"$f":"SUM(G18:G22)","v":0},{"$f":"SUM(H18:H22)","v":0}]
[null,{"$f":"SUM(B19:B23)","v":0},null,{"$f":"SUM(D19:D23)","v":0},null,null,null,null,null,{"$f":"SUM(J19:J23)","v":0},null,{"$f":"SUM(L19:L23)","v":0}]
["Récap 31/12",null,null,{"$f":"+B24-D24","v":0},null,null,null,null,"Récap 31/01",null,null,{"$f":"+J24-L24","v":0}]
[]
["FÉVRIER",null,null,null,"MARS",null,null,null,"AVRIL"]
["RECETTES",null,"DEPENSES",null,"RECETTES",null,"DEPENSES",null,"RECETTES",null,"DEPENSES"]
["Dates","Montant","Activités","Montant","Dates","Montant","Activités","Montant","Dates","Montant","Activités","Montant"]
[]
[]
[]
[]
[]
[null,{"$f":"SUM(B30:B34)","v":0},null,{"$f":"SUM(D30:D34)","v":0},null,{"$f":"SUM(F30:F34)","v":0},null,{"$f":"SUM(H30:H34)","v":0},null,{"$f":"SUM(J30:J34)","v":0},null,{"$f":"SUM(L30:L34)","v":0}]
["Récap 28/02",null,null,{"$f":"+B35-D35","v":0},"Récap 31/03",null,null,{"$f":"+F35-H35","v":0},"Récap 30/04",null,null,{"$f":"+J35-L35","v":0}]
[]
[]
["MAI",null,null,null,"JUIN",null,null,null,"Situation fin juin"]
["RECETTES",null,"DEPENSES",null,"RECETTES",null,"DEPENSES",null,null,"Recettes","Dépenses","Total"]
["Dates","Montant","Activités","Montant","Dates","Montant","Activités","Montant",{"$f":"E23","v":"Situation 31/12"},null,null,{"$f":"H23","v":0}]
[null,null,null,null,null,null,null,null,{"$f":"I25","v":"Récap 31/01"},{"$f":"J24","v":0},{"$f":"L24","v":0},{"$f":"L25","v":0}]
[null,null,null,null,null,null,null,null,{"$f":"A36","v":"Récap 28/02"},{"$f":"B35","v":0},{"$f":"D35","v":0},{"$f":"D36","v":0}]
[null,null,null,null,null,null,null,null,{"$f":"E36","v":"Récap 31/03"},{"$f":"F35","v":0},{"$f":"H35","v":0},{"$f":"H36","v":0}]
[null,null,null,null,null,null,null,null,{"$f":"I36","v":"Récap 30/04"},{"$f":"J35","v":0},{"$f":"L35","v":0},{"$f":"L36","v":0}]
[null,null,null,null,null,null,null,null,{"$f":"A48","v":"Récap 31/05"},{"$f":"B47","v":0},{"$f":"D47","v":0},{"$f":"D48","v":0}]
[null,{"$f":"SUM(B42:B46)","v":0},null,{"$f":"SUM(D42:D46)","v":0},null,{"$f":"SUM(F42:F46)","v":0},null,{"$f":"SUM(H42:H46)","v":0},{"$f":"E48","v":"Récap 30/06"},{"$f":"F47","v":0},{"$f":"H47","v":0},{"$f":"H48","v":0}]
["Récap 31/05",null,null,{"$f":"+B47-D47","v":0},"Récap 30/06",null,null,{"$f":"+F47-H47","v":0},"Situation 30/06",{"$f":"SUM(J42:J47)","v":0},{"$f":"SUM(K42:K47)","v":0},{"$f":"SUM(L41:L47)","v":0}]
[]
[null,null,null,null,null,null,null,null,null,null,null,{"$f":"F23+J48-G23-K48+B8","v":0}]
[]
[null,null,null,null,null,null,null,null,null,{"$f":"B13+F13+J13+B24+J24+B35+F35+J35+B47+F47","v":0},{"$f":"D13+H13+L13+D24+L24+D35+H35+L35+D47+H47","v":0},{"$f":"B8+J52-K52","v":0}]

{"sheet":"VANHUMBEECK","index":169,"n_rows":52,"n_cols":15,"rows_kept":52,"cut":false,"hidden":false,"merged":[[47,0,47,2],[47,4,47,6],[38,0,38,3],[38,4,38,7],[35,0,35,2],[35,4,35,6],[38,8,38,11],[39,4,39,5],[39,6,39,7],[16,2,16,3],[16,8,16,9],[16,10,16,11],[27,4,27,5],[27,6,27,7],[27,8,27,9],[27,10,27,11],[24,0,24,2],[24,8,24,10],[37,9,37,10],[26,0,26,3],[26,4,26,7],[26,8,26,11],[16,0,16,1],[35,8,35,10],[15,0,15,3],[15,4,15,7],[13,0,13,2],[13,4,13,6],[13,8,13,10],[15,8,15,11],[0,9,0,10],[2,1,2,2],[2,4,2,5],[2,8,2,9],[5,8,5,9],[5,10,5,11],[5,0,5,1],[4,0,4,3],[4,4,4,7],[4,8,4,11],[5,2,5,3],[5,4,5,5],[5,6,5,7]]}
[null,null,null,null,null,null,null,null,null,"Année scolaire : ",null,{"$f":"' Liste élèves'!B1","v":"2018-2019"}]
[]
["NOM : ",{"$f":"' Liste élèves'!A170","v":"VANHUMBEECK"},null,"PRENOM:",{"$f":"' Liste élèves'!B170","v":"Mickael"},null,null,"CLASSE :",{"$f":"' Liste élèves'!C170","v":"Classe FB"}]
[]
["SEPTEMBRE",null,null,null,"OCTOBRE",null,null,null,"NOVEMBRE"]
["RECETTES",null,"DEPENSES",null,"RECETTES",null,"DEPENSES",null,"RECETTES",null,"DEPENSES",null,null,null," "]
["Dates","Montant","Activités","Montant","Dates","Montant","Activités","Montant","Dates","Montant","Activités","Montant"]
["Report juin"]
[]
[]
[]
[]
[null,{"$f":"SUM(B9:B12)","v":0},null,{"$f":"SUM(D8:D12)","v":0},null,{"$f":"SUM(F8:F12)","v":0},null,{"$f":"SUM(H8:H12)","v":0},null,{"$f":"SUM(J8:J12)","v":0},null,{"$f":"SUM(L8:L12)","v":0}]
["Récap 30/09",null,null,{"$f":"+B13-D13","v":0},"Récap 31/10",null,null,{"$f":"+F13-H13","v":0},"Récap 30/11",null,null,{"$f":"+J13-L13","v":0}]
[]
["DÉCEMBRE",null,null,null,"Situation fin décembre",null,null,null,"JANVIER"]
["RECETTES",null,"DEPENSES",null,null,"Recettes","Dépenses","Total","RECETTES",null,"DEPENSES"]
["Dates","Montant","Activités","Montant",{"$f":"A14","v":"Récap 30/09"},{"$f":"B13","v":0},{"$f":"D13","v":0},{"$f":"D14","v":0},"Dates","Montant","Activités","Montant"]
[null,null,null,null,{"$f":"E14","v":"Récap 31/10"},{"$f":"F13","v":0},{"$f":"H13","v":0},{"$f":"H14","v":0}]
[null,null,null,null,{"$f":"I14","v":"Récap 30/11"},{"$f":"J13","v":0},{"$f":"L13","v":0},{"$f":"L14","v":0}]
[null,null,null,null,{"$f":"A25","v":"Récap 31/12"},{"$f":"B24","v":0},{"$f":"D24","v":0},{"$f":"D25","v":0}]
[null,null,null,null,"Report Sept",null,null,{"$f":"B8","v":0}]
[null,null,null,null,"Situation 31/12",{"$f":"SUM(F18:F22)","v":0},{"$f":"SUM(G18:G22)","v":0},{"$f":"SUM(H18:H22)","v":0}]
[null,{"$f":"SUM(B19:B23)","v":0},null,{"$f":"SUM(D19:D23)","v":0},null,null,null,null,null,{"$f":"SUM(J19:J23)","v":0},null,{"$f":"SUM(L19:L23)","v":0}]
["Récap 31/12",null,null,{"$f":"+B24-D24","v":0},null,null,null,null,"Récap 31/01",null,null,{"$f":"+J24-L24","v":0}]
[]
["FÉVRIER",null,null,null,"MARS",null,null,null,"AVRIL"]
["RECETTES",null,"DEPENSES",null,"RECETTES",null,"DEPENSES",null,"RECETTES",null,"DEPENSES"]
["Dates","Montant","Activités","Montant","Dates","Montant","Activités","Montant","Dates","Montant","Activités","Montant"]
[]
[]
[]
[]
[]
[null,{"$f":"SUM(B30:B34)","v":0},null,{"$f":"SUM(D30:D34)","v":0},null,{"$f":"SUM(F30:F34)","v":0},null,{"$f":"SUM(H30:H34)","v":0},null,{"$f":"SUM(J30:J34)","v":0},null,{"$f":"SUM(L30:L34)","v":0}]
["Récap 28/02",null,null,{"$f":"+B35-D35","v":0},"Récap 31/03",null,null,{"$f":"+F35-H35","v":0},"Récap 30/04",null,null,{"$f":"+J35-L35","v":0}]
[]
[]
["MAI",null,null,null,"JUIN",null,null,null,"Situation fin juin"]
["RECETTES",null,"DEPENSES",null,"RECETTES",null,"DEPENSES",null,null,"Recettes","Dépenses","Total"]
["Dates","Montant","Activités","Montant","Dates","Montant","Activités","Montant",{"$f":"E23","v":"Situation 31/12"},null,null,{"$f":"H23","v":0}]
[null,null,null,null,null,null,null,null,{"$f":"I25","v":"Récap 31/01"},{"$f":"J24","v":0},{"$f":"L24","v":0},{"$f":"L25","v":0}]
[null,null,null,null,null,null,null,null,{"$f":"A36","v":"Récap 28/02"},{"$f":"B35","v":0},{"$f":"D35","v":0},{"$f":"D36","v":0}]
[null,null,null,null,null,null,null,null,{"$f":"E36","v":"Récap 31/03"},{"$f":"F35","v":0},{"$f":"H35","v":0},{"$f":"H36","v":0}]
[null,null,null,null,null,null,null,null,{"$f":"I36","v":"Récap 30/04"},{"$f":"J35","v":0},{"$f":"L35","v":0},{"$f":"L36","v":0}]
[null,null,null,null,null,null,null,null,{"$f":"A48","v":"Récap 31/05"},{"$f":"B47","v":0},{"$f":"D47","v":0},{"$f":"D48","v":0}]
[null,{"$f":"SUM(B42:B46)","v":0},null,{"$f":"SUM(D42:D46)","v":0},null,{"$f":"SUM(F42:F46)","v":0},null,{"$f":"SUM(H42:H46)","v":0},{"$f":"E48","v":"Récap 30/06"},{"$f":"F47","v":0},{"$f":"H47","v":0},{"$f":"H48","v":0}]
["Récap 31/05",null,null,{"$f":"+B47-D47","v":0},"Récap 30/06",null,null,{"$f":"+F47-H47","v":0},"Situation 30/06",{"$f":"SUM(J42:J47)","v":0},{"$f":"SUM(K42:K47)","v":0},{"$f":"SUM(L41:L47)","v":0}]
[]
[null,null,null,null,null,null,null,null,null,null,null,{"$f":"F23+J48-G23-K48+B8","v":0}]
[]
[null,null,null,null,null,null,null,null,null,{"$f":"B13+F13+J13+B24+J24+B35+F35+J35+B47+F47","v":0},{"$f":"D13+H13+L13+D24+L24+D35+H35+L35+D47+H47","v":0},{"$f":"B8+J52-K52","v":0}]

{"sheet":"VINCITORIO","index":170,"n_rows":52,"n_cols":12,"rows_kept":52,"cut":false,"hidden":false,"merged":[[47,0,47,2],[47,4,47,6],[38,0,38,3],[38,4,38,7],[35,0,35,2],[35,4,35,6],[38,8,38,11],[39,4,39,5],[39,6,39,7],[16,2,16,3],[16,8,16,9],[16,10,16,11],[27,4,27,5],[27,6,27,7],[27,8,27,9],[27,10,27,11],[24,0,24,2],[24,8,24,10],[37,9,37,10],[26,0,26,3],[26,4,26,7],[26,8,26,11],[16,0,16,1],[35,8,35,10],[15,0,15,3],[15,4,15,7],[13,0,13,2],[13,4,13,6],[13,8,13,10],[15,8,15,11],[0,9,0,10],[2,1,2,2],[2,4,2,5],[2,8,2,9],[5,8,5,9],[5,10,5,11],[5,0,5,1],[4,0,4,3],[4,4,4,7],[4,8,4,11],[5,2,5,3],[5,4,5,5],[5,6,5,7]]}
[null,null,null,null,null,null,null,null,null,"Année scolaire : ",null,{"$f":"' Liste élèves'!B1","v":"2018-2019"}]
[]
["NOM : ",{"$f":"' Liste élèves'!A171","v":"VINCITORIO"},null,"PRENOM:",{"$f":"' Liste élèves'!B171","v":"Dorian"},null,null,"CLASSE :",{"$f":"' Liste élèves'!C171","v":"Classe AA"}]
[]
["SEPTEMBRE",null,null,null,"OCTOBRE",null,null,null,"NOVEMBRE"]
["RECETTES",null,"DEPENSES",null,"RECETTES",null,"DEPENSES",null,"RECETTES",null,"DEPENSES"]
["Dates","Montant","Activités","Montant","Dates","Montant","Activités","Montant","Dates","Montant","Activités","Montant"]
["Report juin"]
[]
[]
[]
[]
[null,{"$f":"SUM(B9:B12)","v":0},null,{"$f":"SUM(D8:D12)","v":0},null,{"$f":"SUM(F8:F12)","v":0},null,{"$f":"SUM(H8:H12)","v":0},null,{"$f":"SUM(J8:J12)","v":0},null,{"$f":"SUM(L8:L12)","v":0}]
["Récap 30/09",null,null,{"$f":"+B13-D13","v":0},"Récap 31/10",null,null,{"$f":"+F13-H13","v":0},"Récap 30/11",null,null,{"$f":"+J13-L13","v":0}]
[]
["DÉCEMBRE",null,null,null,"Situation fin décembre",null,null,null,"JANVIER"]
["RECETTES",null,"DEPENSES",null,null,"Recettes","Dépenses","Total","RECETTES",null,"DEPENSES"]
["Dates","Montant","Activités","Montant",{"$f":"A14","v":"Récap 30/09"},{"$f":"B13","v":0},{"$f":"D13","v":0},{"$f":"D14","v":0},"Dates","Montant","Activités","Montant"]
[null,null,null,null,{"$f":"E14","v":"Récap 31/10"},{"$f":"F13","v":0},{"$f":"H13","v":0},{"$f":"H14","v":0}]
[null,null,null,null,{"$f":"I14","v":"Récap 30/11"},{"$f":"J13","v":0},{"$f":"L13","v":0},{"$f":"L14","v":0}]
[null,null,null,null,{"$f":"A25","v":"Récap 31/12"},{"$f":"B24","v":0},{"$f":"D24","v":0},{"$f":"D25","v":0}]
[null,null,null,null,"Report Sept",null,null,{"$f":"B8","v":0}]
[null,null,null,null,"Situation 31/12",{"$f":"SUM(F18:F22)","v":0},{"$f":"SUM(G18:G22)","v":0},{"$f":"SUM(H18:H22)","v":0}]
[null,{"$f":"SUM(B19:B23)","v":0},null,{"$f":"SUM(D19:D23)","v":0},null,null,null,null,null,{"$f":"SUM(J19:J23)","v":0},null,{"$f":"SUM(L19:L23)","v":0}]
["Récap 31/12",null,null,{"$f":"+B24-D24","v":0},null,null,null,null,"Récap 31/01",null,null,{"$f":"+J24-L24","v":0}]
[]
["FÉVRIER",null,null,null,"MARS",null,null,null,"AVRIL"]
["RECETTES",null,"DEPENSES",null,"RECETTES",null,"DEPENSES",null,"RECETTES",null,"DEPENSES"]
["Dates","Montant","Activités","Montant","Dates","Montant","Activités","Montant","Dates","Montant","Activités","Montant"]
[]
[]
[]
[]
[]
[null,{"$f":"SUM(B30:B34)","v":0},null,{"$f":"SUM(D30:D34)","v":0},null,{"$f":"SUM(F30:F34)","v":0},null,{"$f":"SUM(H30:H34)","v":0},null,{"$f":"SUM(J30:J34)","v":0},null,{"$f":"SUM(L30:L34)","v":0}]
["Récap 28/02",null,null,{"$f":"+B35-D35","v":0},"Récap 31/03",null,null,{"$f":"+F35-H35","v":0},"Récap 30/04",null,null,{"$f":"+J35-L35","v":0}]
[]
[]
["MAI",null,null,null,"JUIN",null,null,null,"Situation fin juin"]
["RECETTES",null,"DEPENSES",null,"RECETTES",null,"DEPENSES",null,null,"Recettes","Dépenses","Total"]
["Dates","Montant","Activités","Montant","Dates","Montant","Activités","Montant",{"$f":"E23","v":"Situation 31/12"},null,null,{"$f":"H23","v":0}]
[null,null,null,null,null,null,null,null,{"$f":"I25","v":"Récap 31/01"},{"$f":"J24","v":0},{"$f":"L24","v":0},{"$f":"L25","v":0}]
[null,null,null,null,null,null,null,null,{"$f":"A36","v":"Récap 28/02"},{"$f":"B35","v":0},{"$f":"D35","v":0},{"$f":"D36","v":0}]
[null,null,null,null,null,null,null,null,{"$f":"E36","v":"Récap 31/03"},{"$f":"F35","v":0},{"$f":"H35","v":0},{"$f":"H36","v":0}]
[null,null,null,null,null,null,null,null,{"$f":"I36","v":"Récap 30/04"},{"$f":"J35","v":0},{"$f":"L35","v":0},{"$f":"L36","v":0}]
[null,null,null,null,null,null,null,null,{"$f":"A48","v":"Récap 31/05"},{"$f":"B47","v":0},{"$f":"D47","v":0},{"$f":"D48","v":0}]
[null,{"$f":"SUM(B42:B46)","v":0},null,{"$f":"SUM(D42:D46)","v":0},null,{"$f":"SUM(F42:F46)","v":0},null,{"$f":"SUM(H42:H46)","v":0},{"$f":"E48","v":"Récap 30/06"},{"$f":"F47","v":0},{"$f":"H47","v":0},{"$f":"H48","v":0}]
["Récap 31/05",null,null,{"$f":"+B47-D47","v":0},"Récap 30/06",null,null,{"$f":"+F47-H47","v":0},"Situation 30/06",{"$f":"SUM(J42:J47)","v":0},{"$f":"SUM(K42:K47)","v":0},{"$f":"SUM(L41:L47)","v":0}]
[]
[null,null,null,null,null,null,null,null,null,null,null,{"$f":"F23+J48-G23-K48+B8","v":0}]
[]
[null,null,null,null,null,null,null,null,null,{"$f":"B13+F13+J13+B24+J24+B35+F35+J35+B47+F47","v":0},{"$f":"D13+H13+L13+D24+L24+D35+H35+L35+D47+H47","v":0},{"$f":"B8+J52-K52","v":0}]

{"sheet":"VOICU","index":171,"n_rows":52,"n_cols":12,"rows_kept":52,"cut":false,"hidden":false,"merged":[[47,0,47,2],[47,4,47,6],[38,0,38,3],[38,4,38,7],[35,0,35,2],[35,4,35,6],[38,8,38,11],[39,4,39,5],[39,6,39,7],[16,2,16,3],[16,8,16,9],[16,10,16,11],[27,4,27,5],[27,6,27,7],[27,8,27,9],[27,10,27,11],[24,0,24,2],[24,8,24,10],[37,9,37,10],[26,0,26,3],[26,4,26,7],[26,8,26,11],[16,0,16,1],[35,8,35,10],[15,0,15,3],[15,4,15,7],[13,0,13,2],[13,4,13,6],[13,8,13,10],[15,8,15,11],[0,9,0,10],[2,1,2,2],[2,4,2,5],[2,8,2,9],[5,8,5,9],[5,10,5,11],[5,0,5,1],[4,0,4,3],[4,4,4,7],[4,8,4,11],[5,2,5,3],[5,4,5,5],[5,6,5,7]]}
[null,null,null,null,null,null,null,null,null,"Année scolaire : ",null,{"$f":"' Liste élèves'!B1","v":"2018-2019"}]
[]
["NOM : ",{"$f":"' Liste élèves'!A172","v":"VOICU"},null,"PRENOM:",{"$f":"' Liste élèves'!B172","v":"Ionut Cristian"},null,null,"CLASSE :",{"$f":"' Liste élèves'!C172","v":"Classe 1"}]
[]
["SEPTEMBRE",null,null,null,"OCTOBRE",null,null,null,"NOVEMBRE"]
["RECETTES",null,"DEPENSES",null,"RECETTES",null,"DEPENSES",null,"RECETTES",null,"DEPENSES"]
["Dates","Montant","Activités","Montant","Dates","Montant","Activités","Montant","Dates","Montant","Activités","Montant"]
["Report juin"]
[]
[]
[]
[]
[null,{"$f":"SUM(B9:B12)","v":0},null,{"$f":"SUM(D8:D12)","v":0},null,{"$f":"SUM(F8:F12)","v":0},null,{"$f":"SUM(H8:H12)","v":0},null,{"$f":"SUM(J8:J12)","v":0},null,{"$f":"SUM(L8:L12)","v":0}]
["Récap 30/09",null,null,{"$f":"+B13-D13","v":0},"Récap 31/10",null,null,{"$f":"+F13-H13","v":0},"Récap 30/11",null,null,{"$f":"+J13-L13","v":0}]
[]
["DÉCEMBRE",null,null,null,"Situation fin décembre",null,null,null,"JANVIER"]
["RECETTES",null,"DEPENSES",null,null,"Recettes","Dépenses","Total","RECETTES",null,"DEPENSES"]
["Dates","Montant","Activités","Montant",{"$f":"A14","v":"Récap 30/09"},{"$f":"B13","v":0},{"$f":"D13","v":0},{"$f":"D14","v":0},"Dates","Montant","Activités","Montant"]
[null,null,null,null,{"$f":"E14","v":"Récap 31/10"},{"$f":"F13","v":0},{"$f":"H13","v":0},{"$f":"H14","v":0}]
[null,null,null,null,{"$f":"I14","v":"Récap 30/11"},{"$f":"J13","v":0},{"$f":"L13","v":0},{"$f":"L14","v":0}]
[null,null,null,null,{"$f":"A25","v":"Récap 31/12"},{"$f":"B24","v":0},{"$f":"D24","v":0},{"$f":"D25","v":0}]
[null,null,null,null,"Report Sept",null,null,{"$f":"B8","v":0}]
[null,null,null,null,"Situation 31/12",{"$f":"SUM(F18:F22)","v":0},{"$f":"SUM(G18:G22)","v":0},{"$f":"SUM(H18:H22)","v":0}]
[null,{"$f":"SUM(B19:B23)","v":0},null,{"$f":"SUM(D19:D23)","v":0},null,null,null,null,null,{"$f":"SUM(J19:J23)","v":0},null,{"$f":"SUM(L19:L23)","v":0}]
["Récap 31/12",null,null,{"$f":"+B24-D24","v":0},null,null,null,null,"Récap 31/01",null,null,{"$f":"+J24-L24","v":0}]
[]
["FÉVRIER",null,null,null,"MARS",null,null,null,"AVRIL"]
["RECETTES",null,"DEPENSES",null,"RECETTES",null,"DEPENSES",null,"RECETTES",null,"DEPENSES"]
["Dates","Montant","Activités","Montant","Dates","Montant","Activités","Montant","Dates","Montant","Activités","Montant"]
[]
[]
[]
[]
[]
[null,{"$f":"SUM(B30:B34)","v":0},null,{"$f":"SUM(D30:D34)","v":0},null,{"$f":"SUM(F30:F34)","v":0},null,{"$f":"SUM(H30:H34)","v":0},null,{"$f":"SUM(J30:J34)","v":0},null,{"$f":"SUM(L30:L34)","v":0}]
["Récap 28/02",null,null,{"$f":"+B35-D35","v":0},"Récap 31/03",null,null,{"$f":"+F35-H35","v":0},"Récap 30/04",null,null,{"$f":"+J35-L35","v":0}]
[]
[]
["MAI",null,null,null,"JUIN",null,null,null,"Situation fin juin"]
["RECETTES",null,"DEPENSES",null,"RECETTES",null,"DEPENSES",null,null,"Recettes","Dépenses","Total"]
["Dates","Montant","Activités","Montant","Dates","Montant","Activités","Montant",{"$f":"E23","v":"Situation 31/12"},null,null,{"$f":"H23","v":0}]
[null,null,null,null,null,null,null,null,{"$f":"I25","v":"Récap 31/01"},{"$f":"J24","v":0},{"$f":"L24","v":0},{"$f":"L25","v":0}]
[null,null,null,null,null,null,null,null,{"$f":"A36","v":"Récap 28/02"},{"$f":"B35","v":0},{"$f":"D35","v":0},{"$f":"D36","v":0}]
[null,null,null,null,null,null,null,null,{"$f":"E36","v":"Récap 31/03"},{"$f":"F35","v":0},{"$f":"H35","v":0},{"$f":"H36","v":0}]
[null,null,null,null,null,null,null,null,{"$f":"I36","v":"Récap 30/04"},{"$f":"J35","v":0},{"$f":"L35","v":0},{"$f":"L36","v":0}]
[null,null,null,null,null,null,null,null,{"$f":"A48","v":"Récap 31/05"},{"$f":"B47","v":0},{"$f":"D47","v":0},{"$f":"D48","v":0}]
[null,{"$f":"SUM(B42:B46)","v":0},null,{"$f":"SUM(D42:D46)","v":0},null,{"$f":"SUM(F42:F46)","v":0},null,{"$f":"SUM(H42:H46)","v":0},{"$f":"E48","v":"Récap 30/06"},{"$f":"F47","v":0},{"$f":"H47","v":0},{"$f":"H48","v":0}]
["Récap 31/05",null,null,{"$f":"+B47-D47","v":0},"Récap 30/06",null,null,{"$f":"+F47-H47","v":0},"Situation 30/06",{"$f":"SUM(J42:J47)","v":0},{"$f":"SUM(K42:K47)","v":0},{"$f":"SUM(L41:L47)","v":0}]
[]
[null,null,null,null,null,null,null,null,null,null,null,{"$f":"F23+J48-G23-K48+B8","v":0}]
[]
[null,null,null,null,null,null,null,null,null,{"$f":"B13+F13+J13+B24+J24+B35+F35+J35+B47+F47","v":0},{"$f":"D13+H13+L13+D24+L24+D35+H35+L35+D47+H47","v":0},{"$f":"B8+J52-K52","v":0}]

{"sheet":"VULLO","index":172,"n_rows":52,"n_cols":12,"rows_kept":52,"cut":false,"hidden":false,"merged":[[39,4,39,5],[39,6,39,7],[47,0,47,2],[47,4,47,6],[35,0,35,2],[35,4,35,6],[35,8,35,10],[37,9,37,10],[38,0,38,3],[38,4,38,7],[38,8,38,11],[26,0,26,3],[26,4,26,7],[26,8,26,11],[27,4,27,5],[27,6,27,7],[27,8,27,9],[27,10,27,11],[16,0,16,1],[16,2,16,3],[16,8,16,9],[16,10,16,11],[24,0,24,2],[24,8,24,10],[13,0,13,2],[13,4,13,6],[13,8,13,10],[15,0,15,3],[15,4,15,7],[15,8,15,11],[5,10,5,11],[0,9,0,10],[2,1,2,2],[2,4,2,5],[2,8,2,9],[4,0,4,3],[4,4,4,7],[4,8,4,11],[5,0,5,1],[5,2,5,3],[5,4,5,5],[5,6,5,7],[5,8,5,9]]}
[null,null,null,null,null,null,null,null,null,"Année scolaire : ",null,{"$f":"' Liste élèves'!B1","v":"2018-2019"}]
[]
["NOM : ",{"$f":"' Liste élèves'!A173","v":"VULLO"},null,"PRENOM:",{"$f":"' Liste élèves'!B173","v":"Massimo"},null,null,"CLASSE :",{"$f":"' Liste élèves'!C173","v":"Classe 2"}]
[]
["SEPTEMBRE",null,null,null,"OCTOBRE",null,null,null,"NOVEMBRE"]
["RECETTES",null,"DEPENSES",null,"RECETTES",null,"DEPENSES",null,"RECETTES",null,"DEPENSES"]
["Dates","Montant","Activités","Montant","Dates","Montant","Activités","Montant","Dates","Montant","Activités","Montant"]
["Report juin"]
[]
[]
[]
[]
[null,{"$f":"SUM(B9:B12)","v":0},null,{"$f":"SUM(D8:D12)","v":0},null,{"$f":"SUM(F8:F12)","v":0},null,{"$f":"SUM(H8:H12)","v":0},null,{"$f":"SUM(J8:J12)","v":0},null,{"$f":"SUM(L8:L12)","v":0}]
["Récap 30/09",null,null,{"$f":"+B13-D13","v":0},"Récap 31/10",null,null,{"$f":"+F13-H13","v":0},"Récap 30/11",null,null,{"$f":"+J13-L13","v":0}]
[]
["DÉCEMBRE",null,null,null,"Situation fin décembre",null,null,null,"JANVIER"]
["RECETTES",null,"DEPENSES",null,null,"Recettes","Dépenses","Total","RECETTES",null,"DEPENSES"]
["Dates","Montant","Activités","Montant",{"$f":"A14","v":"Récap 30/09"},{"$f":"B13","v":0},{"$f":"D13","v":0},{"$f":"D14","v":0},"Dates","Montant","Activités","Montant"]
[null,null,null,null,{"$f":"E14","v":"Récap 31/10"},{"$f":"F13","v":0},{"$f":"H13","v":0},{"$f":"H14","v":0}]
[null,null,null,null,{"$f":"I14","v":"Récap 30/11"},{"$f":"J13","v":0},{"$f":"L13","v":0},{"$f":"L14","v":0}]
[null,null,null,null,{"$f":"A25","v":"Récap 31/12"},{"$f":"B24","v":0},{"$f":"D24","v":0},{"$f":"D25","v":0}]
[null,null,null,null,"Report Sept",null,null,{"$f":"B8","v":0}]
[null,null,null,null,"Situation 31/12",{"$f":"SUM(F18:F22)","v":0},{"$f":"SUM(G18:G22)","v":0},{"$f":"SUM(H18:H22)","v":0}]
[null,{"$f":"SUM(B19:B23)","v":0},null,{"$f":"SUM(D19:D23)","v":0},null,null,null,null,null,{"$f":"SUM(J19:J23)","v":0},null,{"$f":"SUM(L19:L23)","v":0}]
["Récap 31/12",null,null,{"$f":"+B24-D24","v":0},null,null,null,null,"Récap 31/01",null,null,{"$f":"+J24-L24","v":0}]
[]
["FÉVRIER",null,null,null,"MARS",null,null,null,"AVRIL"]
["RECETTES",null,"DEPENSES",null,"RECETTES",null,"DEPENSES",null,"RECETTES",null,"DEPENSES"]
["Dates","Montant","Activités","Montant","Dates","Montant","Activités","Montant","Dates","Montant","Activités","Montant"]
[]
[]
[]
[]
[]
[null,{"$f":"SUM(B30:B34)","v":0},null,{"$f":"SUM(D30:D34)","v":0},null,{"$f":"SUM(F30:F34)","v":0},null,{"$f":"SUM(H30:H34)","v":0},null,{"$f":"SUM(J30:J34)","v":0},null,{"$f":"SUM(L30:L34)","v":0}]
["Récap 28/02",null,null,{"$f":"+B35-D35","v":0},"Récap 31/03",null,null,{"$f":"+F35-H35","v":0},"Récap 30/04",null,null,{"$f":"+J35-L35","v":0}]
[]
[]
["MAI",null,null,null,"JUIN",null,null,null,"Situation fin juin"]
["RECETTES",null,"DEPENSES",null,"RECETTES",null,"DEPENSES",null,null,"Recettes","Dépenses","Total"]
["Dates","Montant","Activités","Montant","Dates","Montant","Activités","Montant",{"$f":"E23","v":"Situation 31/12"},null,null,{"$f":"H23","v":0}]
[null,null,null,null,null,null,null,null,{"$f":"I25","v":"Récap 31/01"},{"$f":"J24","v":0},{"$f":"L24","v":0},{"$f":"L25","v":0}]
[null,null,null,null,null,null,null,null,{"$f":"A36","v":"Récap 28/02"},{"$f":"B35","v":0},{"$f":"D35","v":0},{"$f":"D36","v":0}]
[null,null,null,null,null,null,null,null,{"$f":"E36","v":"Récap 31/03"},{"$f":"F35","v":0},{"$f":"H35","v":0},{"$f":"H36","v":0}]
[null,null,null,null,null,null,null,null,{"$f":"I36","v":"Récap 30/04"},{"$f":"J35","v":0},{"$f":"L35","v":0},{"$f":"L36","v":0}]
[null,null,null,null,null,null,null,null,{"$f":"A48","v":"Récap 31/05"},{"$f":"B47","v":0},{"$f":"D47","v":0},{"$f":"D48","v":0}]
[null,{"$f":"SUM(B42:B46)","v":0},null,{"$f":"SUM(D42:D46)","v":0},null,{"$f":"SUM(F42:F46)","v":0},null,{"$f":"SUM(H42:H46)","v":0},{"$f":"E48","v":"Récap 30/06"},{"$f":"F47","v":0},{"$f":"H47","v":0},{"$f":"H48","v":0}]
["Récap 31/05",null,null,{"$f":"+B47-D47","v":0},"Récap 30/06",null,null,{"$f":"+F47-H47","v":0},"Situation 30/06",{"$f":"SUM(J42:J47)","v":0},{"$f":"SUM(K42:K47)","v":0},{"$f":"SUM(L41:L47)","v":0}]
[]
[null,null,null,null,null,null,null,null,null,null,null,{"$f":"F23+J48-G23-K48+B8","v":0}]
[]
[null,null,null,null,null,null,null,null,null,{"$f":"B13+F13+J13+B24+J24+B35+F35+J35+B47+F47","v":0},{"$f":"D13+H13+L13+D24+L24+D35+H35+L35+D47+H47","v":0},{"$f":"B8+J52-K52","v":0}]

{"sheet":"WATHY","index":173,"n_rows":52,"n_cols":12,"rows_kept":52,"cut":false,"hidden":false,"merged":[[39,4,39,5],[39,6,39,7],[47,0,47,2],[47,4,47,6],[35,0,35,2],[35,4,35,6],[35,8,35,10],[37,9,37,10],[38,0,38,3],[38,4,38,7],[38,8,38,11],[26,0,26,3],[26,4,26,7],[26,8,26,11],[27,4,27,5],[27,6,27,7],[27,8,27,9],[27,10,27,11],[16,0,16,1],[16,2,16,3],[16,8,16,9],[16,10,16,11],[24,0,24,2],[24,8,24,10],[13,0,13,2],[13,4,13,6],[13,8,13,10],[15,0,15,3],[15,4,15,7],[15,8,15,11],[5,10,5,11],[0,9,0,10],[2,1,2,2],[2,4,2,5],[2,8,2,9],[4,0,4,3],[4,4,4,7],[4,8,4,11],[5,0,5,1],[5,2,5,3],[5,4,5,5],[5,6,5,7],[5,8,5,9]]}
[null,null,null,null,null,null,null,null,null,"Année scolaire : ",null,{"$f":"' Liste élèves'!B1","v":"2018-2019"}]
[]
["NOM : ",{"$f":"' Liste élèves'!A174","v":"WATHY"},null,"PRENOM:",{"$f":"' Liste élèves'!B174","v":"Scott"},null,null,"CLASSE :",{"$f":"' Liste élèves'!C174","v":"Classe 11"}]
[]
["SEPTEMBRE",null,null,null,"OCTOBRE",null,null,null,"NOVEMBRE"]
["RECETTES",null,"DEPENSES",null,"RECETTES",null,"DEPENSES",null,"RECETTES",null,"DEPENSES"]
["Dates","Montant","Activités","Montant","Dates","Montant","Activités","Montant","Dates","Montant","Activités","Montant"]
["Report juin"]
[]
[]
[]
[]
[null,{"$f":"SUM(B9:B12)","v":0},null,{"$f":"SUM(D8:D12)","v":0},null,{"$f":"SUM(F8:F12)","v":0},null,{"$f":"SUM(H8:H12)","v":0},null,{"$f":"SUM(J8:J12)","v":0},null,{"$f":"SUM(L8:L12)","v":0}]
["Récap 30/09",null,null,{"$f":"+B13-D13","v":0},"Récap 31/10",null,null,{"$f":"+F13-H13","v":0},"Récap 30/11",null,null,{"$f":"+J13-L13","v":0}]
[]
["DÉCEMBRE",null,null,null,"Situation fin décembre",null,null,null,"JANVIER"]
["RECETTES",null,"DEPENSES",null,null,"Recettes","Dépenses","Total","RECETTES",null,"DEPENSES"]
["Dates","Montant","Activités","Montant",{"$f":"A14","v":"Récap 30/09"},{"$f":"B13","v":0},{"$f":"D13","v":0},{"$f":"D14","v":0},"Dates","Montant","Activités","Montant"]
[null,null,null,null,{"$f":"E14","v":"Récap 31/10"},{"$f":"F13","v":0},{"$f":"H13","v":0},{"$f":"H14","v":0}]
[null,null,null,null,{"$f":"I14","v":"Récap 30/11"},{"$f":"J13","v":0},{"$f":"L13","v":0},{"$f":"L14","v":0}]
[null,null,null,null,{"$f":"A25","v":"Récap 31/12"},{"$f":"B24","v":0},{"$f":"D24","v":0},{"$f":"D25","v":0}]
[null,null,null,null,"Report Sept",null,null,{"$f":"B8","v":0}]
[null,null,null,null,"Situation 31/12",{"$f":"SUM(F18:F22)","v":0},{"$f":"SUM(G18:G22)","v":0},{"$f":"SUM(H18:H22)","v":0}]
[null,{"$f":"SUM(B19:B23)","v":0},null,{"$f":"SUM(D19:D23)","v":0},null,null,null,null,null,{"$f":"SUM(J19:J23)","v":0},null,{"$f":"SUM(L19:L23)","v":0}]
["Récap 31/12",null,null,{"$f":"+B24-D24","v":0},null,null,null,null,"Récap 31/01",null,null,{"$f":"+J24-L24","v":0}]
[]
["FÉVRIER",null,null,null,"MARS",null,null,null,"AVRIL"]
["RECETTES",null,"DEPENSES",null,"RECETTES",null,"DEPENSES",null,"RECETTES",null,"DEPENSES"]
["Dates","Montant","Activités","Montant","Dates","Montant","Activités","Montant","Dates","Montant","Activités","Montant"]
[]
[]
[]
[]
[]
[null,{"$f":"SUM(B30:B34)","v":0},null,{"$f":"SUM(D30:D34)","v":0},null,{"$f":"SUM(F30:F34)","v":0},null,{"$f":"SUM(H30:H34)","v":0},null,{"$f":"SUM(J30:J34)","v":0},null,{"$f":"SUM(L30:L34)","v":0}]
["Récap 28/02",null,null,{"$f":"+B35-D35","v":0},"Récap 31/03",null,null,{"$f":"+F35-H35","v":0},"Récap 30/04",null,null,{"$f":"+J35-L35","v":0}]
[]
[]
["MAI",null,null,null,"JUIN",null,null,null,"Situation fin juin"]
["RECETTES",null,"DEPENSES",null,"RECETTES",null,"DEPENSES",null,null,"Recettes","Dépenses","Total"]
["Dates","Montant","Activités","Montant","Dates","Montant","Activités","Montant",{"$f":"E23","v":"Situation 31/12"},null,null,{"$f":"H23","v":0}]
[null,null,null,null,null,null,null,null,{"$f":"I25","v":"Récap 31/01"},{"$f":"J24","v":0},{"$f":"L24","v":0},{"$f":"L25","v":0}]
[null,null,null,null,null,null,null,null,{"$f":"A36","v":"Récap 28/02"},{"$f":"B35","v":0},{"$f":"D35","v":0},{"$f":"D36","v":0}]
[null,null,null,null,null,null,null,null,{"$f":"E36","v":"Récap 31/03"},{"$f":"F35","v":0},{"$f":"H35","v":0},{"$f":"H36","v":0}]
[null,null,null,null,null,null,null,null,{"$f":"I36","v":"Récap 30/04"},{"$f":"J35","v":0},{"$f":"L35","v":0},{"$f":"L36","v":0}]
[null,null,null,null,null,null,null,null,{"$f":"A48","v":"Récap 31/05"},{"$f":"B47","v":0},{"$f":"D47","v":0},{"$f":"D48","v":0}]
[null,{"$f":"SUM(B42:B46)","v":0},null,{"$f":"SUM(D42:D46)","v":0},null,{"$f":"SUM(F42:F46)","v":0},null,{"$f":"SUM(H42:H46)","v":0},{"$f":"E48","v":"Récap 30/06"},{"$f":"F47","v":0},{"$f":"H47","v":0},{"$f":"H48","v":0}]
["Récap 31/05",null,null,{"$f":"+B47-D47","v":0},"Récap 30/06",null,null,{"$f":"+F47-H47","v":0},"Situation 30/06",{"$f":"SUM(J42:J47)","v":0},{"$f":"SUM(K42:K47)","v":0},{"$f":"SUM(L41:L47)","v":0}]
[]
[null,null,null,null,null,null,null,null,null,null,null,{"$f":"F23+J48-G23-K48+B8","v":0}]
[]
[null,null,null,null,null,null,null,null,null,{"$f":"B13+F13+J13+B24+J24+B35+F35+J35+B47+F47","v":0},{"$f":"D13+H13+L13+D24+L24+D35+H35+L35+D47+H47","v":0},{"$f":"B8+J52-K52","v":0}]

{"sheet":"WILLEMS","index":174,"n_rows":52,"n_cols":12,"rows_kept":52,"cut":false,"hidden":false,"merged":[[47,0,47,2],[47,4,47,6],[38,0,38,3],[38,4,38,7],[35,0,35,2],[35,4,35,6],[38,8,38,11],[39,4,39,5],[39,6,39,7],[16,2,16,3],[16,8,16,9],[16,10,16,11],[27,4,27,5],[27,6,27,7],[27,8,27,9],[27,10,27,11],[24,0,24,2],[24,8,24,10],[37,9,37,10],[26,0,26,3],[26,4,26,7],[26,8,26,11],[16,0,16,1],[35,8,35,10],[15,0,15,3],[15,4,15,7],[13,0,13,2],[13,4,13,6],[13,8,13,10],[15,8,15,11],[0,9,0,10],[2,1,2,2],[2,4,2,5],[2,8,2,9],[5,8,5,9],[5,10,5,11],[5,0,5,1],[4,0,4,3],[4,4,4,7],[4,8,4,11],[5,2,5,3],[5,4,5,5],[5,6,5,7]]}
[null,null,null,null,null,null,null,null,null,"Année scolaire : ",null,{"$f":"' Liste élèves'!B1","v":"2018-2019"}]
[]
["NOM : ",{"$f":"' Liste élèves'!A175","v":"WILLEMS"},null,"PRENOM:",{"$f":"' Liste élèves'!B175","v":"Killian"},null,null,"CLASSE :",{"$f":"' Liste élèves'!C175","v":"Classe 3"}]
[]
["SEPTEMBRE",null,null,null,"OCTOBRE",null,null,null,"NOVEMBRE"]
["RECETTES",null,"DEPENSES",null,"RECETTES",null,"DEPENSES",null,"RECETTES",null,"DEPENSES"]
["Dates","Montant","Activités","Montant","Dates","Montant","Activités","Montant","Dates","Montant","Activités","Montant"]
["Report juin"]
[]
[]
[]
[]
[null,{"$f":"SUM(B9:B12)","v":0},null,{"$f":"SUM(D8:D12)","v":0},null,{"$f":"SUM(F8:F12)","v":0},null,{"$f":"SUM(H8:H12)","v":0},null,{"$f":"SUM(J8:J12)","v":0},null,{"$f":"SUM(L8:L12)","v":0}]
["Récap 30/09",null,null,{"$f":"+B13-D13","v":0},"Récap 31/10",null,null,{"$f":"+F13-H13","v":0},"Récap 30/11",null,null,{"$f":"+J13-L13","v":0}]
[]
["DÉCEMBRE",null,null,null,"Situation fin décembre",null,null,null,"JANVIER"]
["RECETTES",null,"DEPENSES",null,null,"Recettes","Dépenses","Total","RECETTES",null,"DEPENSES"]
["Dates","Montant","Activités","Montant",{"$f":"A14","v":"Récap 30/09"},{"$f":"B13","v":0},{"$f":"D13","v":0},{"$f":"D14","v":0},"Dates","Montant","Activités","Montant"]
[null,null,null,null,{"$f":"E14","v":"Récap 31/10"},{"$f":"F13","v":0},{"$f":"H13","v":0},{"$f":"H14","v":0}]
[null,null,null,null,{"$f":"I14","v":"Récap 30/11"},{"$f":"J13","v":0},{"$f":"L13","v":0},{"$f":"L14","v":0}]
[null,null,null,null,{"$f":"A25","v":"Récap 31/12"},{"$f":"B24","v":0},{"$f":"D24","v":0},{"$f":"D25","v":0}]
[null,null,null,null,"Report Sept",null,null,{"$f":"B8","v":0}]
[null,null,null,null,"Situation 31/12",{"$f":"SUM(F18:F22)","v":0},{"$f":"SUM(G18:G22)","v":0},{"$f":"SUM(H18:H22)","v":0}]
[null,{"$f":"SUM(B19:B23)","v":0},null,{"$f":"SUM(D19:D23)","v":0},null,null,null,null,null,{"$f":"SUM(J19:J23)","v":0},null,{"$f":"SUM(L19:L23)","v":0}]
["Récap 31/12",null,null,{"$f":"+B24-D24","v":0},null,null,null,null,"Récap 31/01",null,null,{"$f":"+J24-L24","v":0}]
[]
["FÉVRIER",null,null,null,"MARS",null,null,null,"AVRIL"]
["RECETTES",null,"DEPENSES",null,"RECETTES",null,"DEPENSES",null,"RECETTES",null,"DEPENSES"]
["Dates","Montant","Activités","Montant","Dates","Montant","Activités","Montant","Dates","Montant","Activités","Montant"]
[]
[]
[]
[]
[]
[null,{"$f":"SUM(B30:B34)","v":0},null,{"$f":"SUM(D30:D34)","v":0},null,{"$f":"SUM(F30:F34)","v":0},null,{"$f":"SUM(H30:H34)","v":0},null,{"$f":"SUM(J30:J34)","v":0},null,{"$f":"SUM(L30:L34)","v":0}]
["Récap 28/02",null,null,{"$f":"+B35-D35","v":0},"Récap 31/03",null,null,{"$f":"+F35-H35","v":0},"Récap 30/04",null,null,{"$f":"+J35-L35","v":0}]
[]
[]
["MAI",null,null,null,"JUIN",null,null,null,"Situation fin juin"]
["RECETTES",null,"DEPENSES",null,"RECETTES",null,"DEPENSES",null,null,"Recettes","Dépenses","Total"]
["Dates","Montant","Activités","Montant","Dates","Montant","Activités","Montant",{"$f":"E23","v":"Situation 31/12"},null,null,{"$f":"H23","v":0}]
[null,null,null,null,null,null,null,null,{"$f":"I25","v":"Récap 31/01"},{"$f":"J24","v":0},{"$f":"L24","v":0},{"$f":"L25","v":0}]
[null,null,null,null,null,null,null,null,{"$f":"A36","v":"Récap 28/02"},{"$f":"B35","v":0},{"$f":"D35","v":0},{"$f":"D36","v":0}]
[null,null,null,null,null,null,null,null,{"$f":"E36","v":"Récap 31/03"},{"$f":"F35","v":0},{"$f":"H35","v":0},{"$f":"H36","v":0}]
[null,null,null,null,null,null,null,null,{"$f":"I36","v":"Récap 30/04"},{"$f":"J35","v":0},{"$f":"L35","v":0},{"$f":"L36","v":0}]
[null,null,null,null,null,null,null,null,{"$f":"A48","v":"Récap 31/05"},{"$f":"B47","v":0},{"$f":"D47","v":0},{"$f":"D48","v":0}]
[null,{"$f":"SUM(B42:B46)","v":0},null,{"$f":"SUM(D42:D46)","v":0},null,{"$f":"SUM(F42:F46)","v":0},null,{"$f":"SUM(H42:H46)","v":0},{"$f":"E48","v":"Récap 30/06"},{"$f":"F47","v":0},{"$f":"H47","v":0},{"$f":"H48","v":0}]
["Récap 31/05",null,null,{"$f":"+B47-D47","v":0},"Récap 30/06",null,null,{"$f":"+F47-H47","v":0},"Situation 30/06",{"$f":"SUM(J42:J47)","v":0},{"$f":"SUM(K42:K47)","v":0},{"$f":"SUM(L41:L47)","v":0}]
[]
[null,null,null,null,null,null,null,null,null,null,null,{"$f":"F23+J48-G23-K48+B8","v":0}]
[]
[null,null,null,null,null,null,null,null,null,{"$f":"B13+F13+J13+B24+J24+B35+F35+J35+B47+F47","v":0},{"$f":"D13+H13+L13+D24+L24+D35+H35+L35+D47+H47","v":0},{"$f":"B8+J52-K52","v":0}]

{"sheet":"ZEROUALI","index":175,"n_rows":52,"n_cols":12,"rows_kept":52,"cut":false,"hidden":false,"merged":[[47,0,47,2],[47,4,47,6],[38,0,38,3],[38,4,38,7],[35,0,35,2],[35,4,35,6],[38,8,38,11],[39,4,39,5],[39,6,39,7],[16,2,16,3],[16,8,16,9],[16,10,16,11],[27,4,27,5],[27,6,27,7],[27,8,27,9],[27,10,27,11],[24,0,24,2],[24,8,24,10],[37,9,37,10],[26,0,26,3],[26,4,26,7],[26,8,26,11],[16,0,16,1],[35,8,35,10],[15,0,15,3],[15,4,15,7],[13,0,13,2],[13,4,13,6],[13,8,13,10],[15,8,15,11],[0,9,0,10],[2,1,2,2],[2,4,2,5],[2,8,2,9],[5,8,5,9],[5,10,5,11],[5,0,5,1],[4,0,4,3],[4,4,4,7],[4,8,4,11],[5,2,5,3],[5,4,5,5],[5,6,5,7]]}
[null,null,null,null,null,null,null,null,null,"Année scolaire : ",null,{"$f":"' Liste élèves'!B1","v":"2018-2019"}]
[]
["NOM : ",{"$f":"' Liste élèves'!A176","v":"ZEROUALI"},null,"PRENOM:",{"$f":"' Liste élèves'!B176","v":"Mohamed"},null,null,"CLASSE :",{"$f":"' Liste élèves'!C176","v":"Classe 8"}]
[]
["SEPTEMBRE",null,null,null,"OCTOBRE",null,null,null,"NOVEMBRE"]
["RECETTES",null,"DEPENSES",null,"RECETTES",null,"DEPENSES",null,"RECETTES",null,"DEPENSES"]
["Dates","Montant","Activités","Montant","Dates","Montant","Activités","Montant","Dates","Montant","Activités","Montant"]
["Report juin"]
[]
[]
[]
[]
[null,{"$f":"SUM(B9:B12)","v":0},null,{"$f":"SUM(D8:D12)","v":0},null,{"$f":"SUM(F8:F12)","v":0},null,{"$f":"SUM(H8:H12)","v":0},null,{"$f":"SUM(J8:J12)","v":0},null,{"$f":"SUM(L8:L12)","v":0}]
["Récap 30/09",null,null,{"$f":"+B13-D13","v":0},"Récap 31/10",null,null,{"$f":"+F13-H13","v":0},"Récap 30/11",null,null,{"$f":"+J13-L13","v":0}]
[]
["DÉCEMBRE",null,null,null,"Situation fin décembre",null,null,null,"JANVIER"]
["RECETTES",null,"DEPENSES",null,null,"Recettes","Dépenses","Total","RECETTES",null,"DEPENSES"]
["Dates","Montant","Activités","Montant",{"$f":"A14","v":"Récap 30/09"},{"$f":"B13","v":0},{"$f":"D13","v":0},{"$f":"D14","v":0},"Dates","Montant","Activités","Montant"]
[null,null,null,null,{"$f":"E14","v":"Récap 31/10"},{"$f":"F13","v":0},{"$f":"H13","v":0},{"$f":"H14","v":0}]
[null,null,null,null,{"$f":"I14","v":"Récap 30/11"},{"$f":"J13","v":0},{"$f":"L13","v":0},{"$f":"L14","v":0}]
[null,null,null,null,{"$f":"A25","v":"Récap 31/12"},{"$f":"B24","v":0},{"$f":"D24","v":0},{"$f":"D25","v":0}]
[null,null,null,null,"Report Sept",null,null,{"$f":"B8","v":0}]
[null,null,null,null,"Situation 31/12",{"$f":"SUM(F18:F22)","v":0},{"$f":"SUM(G18:G22)","v":0},{"$f":"SUM(H18:H22)","v":0}]
[null,{"$f":"SUM(B19:B23)","v":0},null,{"$f":"SUM(D19:D23)","v":0},null,null,null,null,null,{"$f":"SUM(J19:J23)","v":0},null,{"$f":"SUM(L19:L23)","v":0}]
["Récap 31/12",null,null,{"$f":"+B24-D24","v":0},null,null,null,null,"Récap 31/01",null,null,{"$f":"+J24-L24","v":0}]
[]
["FÉVRIER",null,null,null,"MARS",null,null,null,"AVRIL"]
["RECETTES",null,"DEPENSES",null,"RECETTES",null,"DEPENSES",null,"RECETTES",null,"DEPENSES"]
["Dates","Montant","Activités","Montant","Dates","Montant","Activités","Montant","Dates","Montant","Activités","Montant"]
[]
[]
[]
[]
[]
[null,{"$f":"SUM(B30:B34)","v":0},null,{"$f":"SUM(D30:D34)","v":0},null,{"$f":"SUM(F30:F34)","v":0},null,{"$f":"SUM(H30:H34)","v":0},null,{"$f":"SUM(J30:J34)","v":0},null,{"$f":"SUM(L30:L34)","v":0}]
["Récap 28/02",null,null,{"$f":"+B35-D35","v":0},"Récap 31/03",null,null,{"$f":"+F35-H35","v":0},"Récap 30/04",null,null,{"$f":"+J35-L35","v":0}]
[]
[]
["MAI",null,null,null,"JUIN",null,null,null,"Situation fin juin"]
["RECETTES",null,"DEPENSES",null,"RECETTES",null,"DEPENSES",null,null,"Recettes","Dépenses","Total"]
["Dates","Montant","Activités","Montant","Dates","Montant","Activités","Montant",{"$f":"E23","v":"Situation 31/12"},null,null,{"$f":"H23","v":0}]
[null,null,null,null,null,null,null,null,{"$f":"I25","v":"Récap 31/01"},{"$f":"J24","v":0},{"$f":"L24","v":0},{"$f":"L25","v":0}]
[null,null,null,null,null,null,null,null,{"$f":"A36","v":"Récap 28/02"},{"$f":"B35","v":0},{"$f":"D35","v":0},{"$f":"D36","v":0}]
[null,null,null,null,null,null,null,null,{"$f":"E36","v":"Récap 31/03"},{"$f":"F35","v":0},{"$f":"H35","v":0},{"$f":"H36","v":0}]
[null,null,null,null,null,null,null,null,{"$f":"I36","v":"Récap 30/04"},{"$f":"J35","v":0},{"$f":"L35","v":0},{"$f":"L36","v":0}]
[null,null,null,null,null,null,null,null,{"$f":"A48","v":"Récap 31/05"},{"$f":"B47","v":0},{"$f":"D47","v":0},{"$f":"D48","v":0}]
[null,{"$f":"SUM(B42:B46)","v":0},null,{"$f":"SUM(D42:D46)","v":0},null,{"$f":"SUM(F42:F46)","v":0},null,{"$f":"SUM(H42:H46)","v":0},{"$f":"E48","v":"Récap 30/06"},{"$f":"F47","v":0},{"$f":"H47","v":0},{"$f":"H48","v":0}]
["Récap 31/05",null,null,{"$f":"+B47-D47","v":0},"Récap 30/06",null,null,{"$f":"+F47-H47","v":0},"Situation 30/06",{"$f":"SUM(J42:J47)","v":0},{"$f":"SUM(K42:K47)","v":0},{"$f":"SUM(L41:L47)","v":0}]
[]
[null,null,null,null,null,null,null,null,null,null,null,{"$f":"F23+J48-G23-K48+B8","v":0}]
[]
[null,null,null,null,null,null,null,null,null,{"$f":"B13+F13+J13+B24+J24+B35+F35+J35+B47+F47","v":0},{"$f":"D13+H13+L13+D24+L24+D35+H35+L35+D47+H47","v":0},{"$f":"B8+J52-K52","v":0}]

{"sheet":"ZOULOUFOS","index":176,"n_rows":52,"n_cols":12,"rows_kept":52,"cut":false,"hidden":false,"merged":[[47,0,47,2],[47,4,47,6],[38,0,38,3],[38,4,38,7],[35,0,35,2],[35,4,35,6],[38,8,38,11],[39,4,39,5],[39,6,39,7],[16,2,16,3],[16,8,16,9],[16,10,16,11],[27,4,27,5],[27,6,27,7],[27,8,27,9],[27,10,27,11],[24,0,24,2],[24,8,24,10],[37,9,37,10],[26,0,26,3],[26,4,26,7],[26,8,26,11],[16,0,16,1],[35,8,35,10],[15,0,15,3],[15,4,15,7],[13,0,13,2],[13,4,13,6],[13,8,13,10],[15,8,15,11],[0,9,0,10],[2,1,2,2],[2,4,2,5],[2,8,2,9],[5,8,5,9],[5,10,5,11],[5,0,5,1],[4,0,4,3],[4,4,4,7],[4,8,4,11],[5,2,5,3],[5,4,5,5],[5,6,5,7]]}
[null,null,null,null,null,null,null,null,null,"Année scolaire : ",null,{"$f":"' Liste élèves'!B1","v":"2018-2019"}]
[]
["NOM : ",{"$f":"' Liste élèves'!A177","v":"ZOULOUFOS"},null,"PRENOM:",{"$f":"' Liste élèves'!B177","v":"Nicolas"},null,null,"CLASSE :",{"$f":"' Liste élèves'!C177","v":"Classe 4"}]
[]
["SEPTEMBRE",null,null,null,"OCTOBRE",null,null,null,"NOVEMBRE"]
["RECETTES",null,"DEPENSES",null,"RECETTES",null,"DEPENSES",null,"RECETTES",null,"DEPENSES"]
["Dates","Montant","Activités","Montant","Dates","Montant","Activités","Montant","Dates","Montant","Activités","Montant"]
["Report juin"]
[]
[]
[]
[]
[null,{"$f":"SUM(B9:B12)","v":0},null,{"$f":"SUM(D8:D12)","v":0},null,{"$f":"SUM(F8:F12)","v":0},null,{"$f":"SUM(H8:H12)","v":0},null,{"$f":"SUM(J8:J12)","v":0},null,{"$f":"SUM(L8:L12)","v":0}]
["Récap 30/09",null,null,{"$f":"+B13-D13","v":0},"Récap 31/10",null,null,{"$f":"+F13-H13","v":0},"Récap 30/11",null,null,{"$f":"+J13-L13","v":0}]
[]
["DÉCEMBRE",null,null,null,"Situation fin décembre",null,null,null,"JANVIER"]
["RECETTES",null,"DEPENSES",null,null,"Recettes","Dépenses","Total","RECETTES",null,"DEPENSES"]
["Dates","Montant","Activités","Montant",{"$f":"A14","v":"Récap 30/09"},{"$f":"B13","v":0},{"$f":"D13","v":0},{"$f":"D14","v":0},"Dates","Montant","Activités","Montant"]
[null,null,null,null,{"$f":"E14","v":"Récap 31/10"},{"$f":"F13","v":0},{"$f":"H13","v":0},{"$f":"H14","v":0}]
[null,null,null,null,{"$f":"I14","v":"Récap 30/11"},{"$f":"J13","v":0},{"$f":"L13","v":0},{"$f":"L14","v":0}]
[null,null,null,null,{"$f":"A25","v":"Récap 31/12"},{"$f":"B24","v":0},{"$f":"D24","v":0},{"$f":"D25","v":0}]
[null,null,null,null,"Report Sept",null,null,{"$f":"B8","v":0}]
[null,null,null,null,"Situation 31/12",{"$f":"SUM(F18:F22)","v":0},{"$f":"SUM(G18:G22)","v":0},{"$f":"SUM(H18:H22)","v":0}]
[null,{"$f":"SUM(B19:B23)","v":0},null,{"$f":"SUM(D19:D23)","v":0},null,null,null,null,null,{"$f":"SUM(J19:J23)","v":0},null,{"$f":"SUM(L19:L23)","v":0}]
["Récap 31/12",null,null,{"$f":"+B24-D24","v":0},null,null,null,null,"Récap 31/01",null,null,{"$f":"+J24-L24","v":0}]
[]
["FÉVRIER",null,null,null,"MARS",null,null,null,"AVRIL"]
["RECETTES",null,"DEPENSES",null,"RECETTES",null,"DEPENSES",null,"RECETTES",null,"DEPENSES"]
["Dates","Montant","Activités","Montant","Dates","Montant","Activités","Montant","Dates","Montant","Activités","Montant"]
[]
[]
[]
[]
[]
[null,{"$f":"SUM(B30:B34)","v":0},null,{"$f":"SUM(D30:D34)","v":0},null,{"$f":"SUM(F30:F34)","v":0},null,{"$f":"SUM(H30:H34)","v":0},null,{"$f":"SUM(J30:J34)","v":0},null,{"$f":"SUM(L30:L34)","v":0}]
["Récap 28/02",null,null,{"$f":"+B35-D35","v":0},"Récap 31/03",null,null,{"$f":"+F35-H35","v":0},"Récap 30/04",null,null,{"$f":"+J35-L35","v":0}]
[]
[]
["MAI",null,null,null,"JUIN",null,null,null,"Situation fin juin"]
["RECETTES",null,"DEPENSES",null,"RECETTES",null,"DEPENSES",null,null,"Recettes","Dépenses","Total"]
["Dates","Montant","Activités","Montant","Dates","Montant","Activités","Montant",{"$f":"E23","v":"Situation 31/12"},null,null,{"$f":"H23","v":0}]
[null,null,null,null,null,null,null,null,{"$f":"I25","v":"Récap 31/01"},{"$f":"J24","v":0},{"$f":"L24","v":0},{"$f":"L25","v":0}]
[null,null,null,null,null,null,null,null,{"$f":"A36","v":"Récap 28/02"},{"$f":"B35","v":0},{"$f":"D35","v":0},{"$f":"D36","v":0}]
[null,null,null,null,null,null,null,null,{"$f":"E36","v":"Récap 31/03"},{"$f":"F35","v":0},{"$f":"H35","v":0},{"$f":"H36","v":0}]
[null,null,null,null,null,null,null,null,{"$f":"I36","v":"Récap 30/04"},{"$f":"J35","v":0},{"$f":"L35","v":0},{"$f":"L36","v":0}]
[null,null,null,null,null,null,null,null,{"$f":"A48","v":"Récap 31/05"},{"$f":"B47","v":0},{"$f":"D47","v":0},{"$f":"D48","v":0}]
[null,{"$f":"SUM(B42:B46)","v":0},null,{"$f":"SUM(D42:D46)","v":0},null,{"$f":"SUM(F42:F46)","v":0},null,{"$f":"SUM(H42:H46)","v":0},{"$f":"E48","v":"Récap 30/06"},{"$f":"F47","v":0},{"$f":"H47","v":0},{"$f":"H48","v":0}]
["Récap 31/05",null,null,{"$f":"+B47-D47","v":0},"Récap 30/06",null,null,{"$f":"+F47-H47","v":0},"Situation 30/06",{"$f":"SUM(J42:J47)","v":0},{"$f":"SUM(K42:K47)","v":0},{"$f":"SUM(L41:L47)","v":0}]
[]
[null,null,null,null,null,null,null,null,null,null,null,{"$f":"F23+J48-G23-K48+B8","v":0}]
[]
[null,null,null,null,null,null,null,null,null,{"$f":"B13+F13+J13+B24+J24+B35+F35+J35+B47+F47","v":0},{"$f":"D13+H13+L13+D24+L24+D35+H35+L35+D47+H47","v":0},{"$f":"B8+J52-K52","v":0}]