{"text_format":"1","workbook":"xlsx","n_sheets":2,"sheets":["Feuille 1 ","LOCATION"],"not_rendered":{"charts":0,"images":0,"macros":1,"external_links":0,"defined_names":1,"comments":0,"pivot_tables":0},"unopened":[],"bounds":{"document_bytes":16777216,"sheet_cells":100000,"rows_first":2000,"rows_last":500,"rows_between":2000,"halvings":0,"cell_chars":16384,"cell_head_chars":4096},"cells_cut":0,"cells_raw":0,"read":"whole","date_system":"1900"}

{"sheet":"Feuille 1 ","index":0,"n_rows":201,"n_cols":10,"rows_kept":201,"cut":false,"hidden":false,"merged":[]}
["N°","Description du problème","Zone","Date","Compte","Importance","Solutioned by","Resolve date","Statut","Composants / Note"]
[1,"AA010004",{"$f":"VLOOKUP(LEFT(B2,5),LOCATION!E:F,2,FALSE)","v":1},{"$f":"IF(ISNUMBER(SEARCH(\"\",B2)),NOW(),\"\")","v":"2018-08-30T15:27:03.660"},{"$f":"COUNTIF(B:B,B2)","v":1},null,{"$f":"IF(ISNUMBER(SEARCH(\"\",B2)),getEnviron(\"username\"),\"\")","v":"cbonfils"},{"$f":"IF(ISNUMBER(SEARCH(\"\",B2)),NOW(),\"\")","v":"2018-08-30T15:27:03.660"}]
[2,"AB020005",{"$f":"VLOOKUP(LEFT(B3,5),LOCATION!E:F,2,FALSE)","v":1},{"$f":"IF(ISNUMBER(SEARCH(\"\",B3)),NOW(),\"\")","v":"2018-08-30T15:27:03.660"},1,null,{"$f":"IF(ISNUMBER(SEARCH(\"\",B3)),getEnviron(\"username\"),\"\")","v":"cbonfils"},"2018-08-30T15:27:03.670"]
[3,"AA030006",{"$f":"VLOOKUP(LEFT(B4,5),LOCATION!E:F,2,FALSE)","v":2},"2018-08-30T15:27:03.660",1,null,{"$f":"IF(ISNUMBER(SEARCH(\"\",B4)),getEnviron(\"username\"),\"\")","v":"cbonfils"},"2018-08-30T15:27:03.660"]
[4,null,null,"",0,null,{"$f":"IF(ISNUMBER(SEARCH(\"\",B5)),getEnviron(\"username\"),\"\")","v":""},""]
[5,"AA190",{"$f":"INDEX(LOCATION!E:F,MATCH(LEFT('Feuille 1 '!B6,5),LOCATION!E:E,0),2)","v":10},"2018-08-30T15:27:03.660",1,null,{"$f":"IF(ISNUMBER(SEARCH(\"\",B6)),getEnviron(\"username\"),\"\")","v":"cbonfils"},"2018-08-30T15:27:03.660"]
[6,"AA210",{"$f":"INDEX(LOCATION!E:F,MATCH(LEFT('Feuille 1 '!B7,5),LOCATION!E:E,0),2)","v":11},"2018-08-30T15:27:03.660",1,null,{"$f":"IF(ISNUMBER(SEARCH(\"\",B7)),getEnviron(\"username\"),\"\")","v":"cbonfils"},"2018-08-30T15:27:03.670"]
[7,"AA230",{"$f":"INDEX(LOCATION!E:F,MATCH(LEFT('Feuille 1 '!B8,5),LOCATION!E:E,0),2)","v":12},"2018-08-30T15:27:03.660",1,null,{"$f":"IF(ISNUMBER(SEARCH(\"\",B8)),getEnviron(\"username\"),\"\")","v":"cbonfils"},"2018-08-30T15:27:03.670"]
[8,"AA250",{"$f":"INDEX(LOCATION!E:F,MATCH(LEFT('Feuille 1 '!B9,5),LOCATION!E:E,0),2)","v":13},"2018-08-30T15:27:03.660",1,null,{"$f":"IF(ISNUMBER(SEARCH(\"\",B9)),getEnviron(\"username\"),\"\")","v":"cbonfils"},"2018-08-30T15:27:03.670"]
[9,null,null,"",0,null,{"$f":"IF(ISNUMBER(SEARCH(\"\",B10)),getEnviron(\"username\"),\"\")","v":""},""]
[10,null,null,"",0,null,{"$f":"IF(ISNUMBER(SEARCH(\"\",B11)),getEnviron(\"username\"),\"\")","v":""},""]
[11,null,null,"",0,null,{"$f":"IF(ISNUMBER(SEARCH(\"\",B12)),getEnviron(\"username\"),\"\")","v":""},""]
[12,null,null,"",{"$f":"COUNTIF(B:B,B13)","v":0},null,{"$f":"IF(ISNUMBER(SEARCH(\"\",B13)),getEnviron(\"username\"),\"\")","v":""},""]
[13,null,null,"",0,null,{"$f":"IF(ISNUMBER(SEARCH(\"\",B14)),getEnviron(\"username\"),\"\")","v":""},""]
[14,null,null,"",0,null,{"$f":"IF(ISNUMBER(SEARCH(\"\",B15)),getEnviron(\"username\"),\"\")","v":""},""]
[15,null,null,"",0,null,{"$f":"IF(ISNUMBER(SEARCH(\"\",B16)),getEnviron(\"username\"),\"\")","v":""},""]
[16,null,null,"",0,null,{"$f":"IF(ISNUMBER(SEARCH(\"\",B17)),getEnviron(\"username\"),\"\")","v":""},""]
[17,null,null,"",0,null,{"$f":"IF(ISNUMBER(SEARCH(\"\",B18)),getEnviron(\"username\"),\"\")","v":""},""]
[18,null,null,"",0,null,{"$f":"IF(ISNUMBER(SEARCH(\"\",B19)),getEnviron(\"username\"),\"\")","v":""},""]
[19,null,null,"",0,null,{"$f":"IF(ISNUMBER(SEARCH(\"\",B20)),getEnviron(\"username\"),\"\")","v":""},""]
[20,null,null,"",0,null,{"$f":"IF(ISNUMBER(SEARCH(\"\",B21)),getEnviron(\"username\"),\"\")","v":""},""]
[21,null,null,"",0,null,{"$f":"IF(ISNUMBER(SEARCH(\"\",B22)),getEnviron(\"username\"),\"\")","v":""},""]
[22,null,null,"",0,null,{"$f":"IF(ISNUMBER(SEARCH(\"\",B23)),getEnviron(\"username\"),\"\")","v":""},""]
[23,null,null,"",0,null,{"$f":"IF(ISNUMBER(SEARCH(\"\",B24)),getEnviron(\"username\"),\"\")","v":""},""]
[24,null,null,"",0,null,{"$f":"IF(ISNUMBER(SEARCH(\"\",B25)),getEnviron(\"username\"),\"\")","v":""},""]
[25,null,null,"",0,null,{"$f":"IF(ISNUMBER(SEARCH(\"\",B26)),getEnviron(\"username\"),\"\")","v":""},""]
[26,null,null,"",0,null,{"$f":"IF(ISNUMBER(SEARCH(\"\",B27)),getEnviron(\"username\"),\"\")","v":""},""]
[27,null,null,"",0,null,{"$f":"IF(ISNUMBER(SEARCH(\"\",B28)),getEnviron(\"username\"),\"\")","v":""},""]
[28,null,null,"",0,null,{"$f":"IF(ISNUMBER(SEARCH(\"\",B29)),getEnviron(\"username\"),\"\")","v":""},""]
[29,null,null,"",0,null,{"$f":"IF(ISNUMBER(SEARCH(\"\",B30)),getEnviron(\"username\"),\"\")","v":""},""]
[30,null,null,"",0,null,{"$f":"IF(ISNUMBER(SEARCH(\"\",B31)),getEnviron(\"username\"),\"\")","v":""},""]
[31,null,null,"",0,null,{"$f":"IF(ISNUMBER(SEARCH(\"\",B32)),getEnviron(\"username\"),\"\")","v":""},""]
[32,null,null,"",0,null,{"$f":"IF(ISNUMBER(SEARCH(\"\",B33)),getEnviron(\"username\"),\"\")","v":""},""]
[33,null,null,"",0,null,{"$f":"IF(ISNUMBER(SEARCH(\"\",B34)),getEnviron(\"username\"),\"\")","v":""},{"$f":"IF(ISNUMBER(SEARCH(\"\",B34)),NOW(),\"\")","v":""}]
[34,null,null,"",0,null,{"$f":"IF(ISNUMBER(SEARCH(\"\",B35)),getEnviron(\"username\"),\"\")","v":""},""]
[35,null,null,"",0,null,{"$f":"IF(ISNUMBER(SEARCH(\"\",B36)),getEnviron(\"username\"),\"\")","v":""},""]
[36,null,null,"",0,null,{"$f":"IF(ISNUMBER(SEARCH(\"\",B37)),getEnviron(\"username\"),\"\")","v":""},""]
[37,null,null,"",0,null,{"$f":"IF(ISNUMBER(SEARCH(\"\",B38)),getEnviron(\"username\"),\"\")","v":""},""]
[38,null,null,"",0,null,{"$f":"IF(ISNUMBER(SEARCH(\"\",B39)),getEnviron(\"username\"),\"\")","v":""},""]
[39,null,null,"",0,null,{"$f":"IF(ISNUMBER(SEARCH(\"\",B40)),getEnviron(\"username\"),\"\")","v":""},""]
[40,null,null,"",0,null,{"$f":"IF(ISNUMBER(SEARCH(\"\",B41)),getEnviron(\"username\"),\"\")","v":""},""]
[41,null,null,"",0,null,{"$f":"IF(ISNUMBER(SEARCH(\"\",B42)),getEnviron(\"username\"),\"\")","v":""},""]
[42,null,null,"",0,null,{"$f":"IF(ISNUMBER(SEARCH(\"\",B43)),getEnviron(\"username\"),\"\")","v":""},""]
[43,null,null,"",0,null,{"$f":"IF(ISNUMBER(SEARCH(\"\",B44)),getEnviron(\"username\"),\"\")","v":""},""]
[44,null,null,"",0,null,{"$f":"IF(ISNUMBER(SEARCH(\"\",B45)),getEnviron(\"username\"),\"\")","v":""},""]
[45,null,null,"",0,null,{"$f":"IF(ISNUMBER(SEARCH(\"\",B46)),getEnviron(\"username\"),\"\")","v":""},""]
[46,null,null,"",0,null,{"$f":"IF(ISNUMBER(SEARCH(\"\",B47)),getEnviron(\"username\"),\"\")","v":""},""]
[47,null,null,"",0,null,{"$f":"IF(ISNUMBER(SEARCH(\"\",B48)),getEnviron(\"username\"),\"\")","v":""},""]
[48,null,null,"",0,null,{"$f":"IF(ISNUMBER(SEARCH(\"\",B49)),getEnviron(\"username\"),\"\")","v":""},""]
[49,null,null,"",0,null,{"$f":"IF(ISNUMBER(SEARCH(\"\",B50)),getEnviron(\"username\"),\"\")","v":""},""]
[50,null,null,"",0,null,{"$f":"IF(ISNUMBER(SEARCH(\"\",B51)),getEnviron(\"username\"),\"\")","v":""},""]
[51,null,null,"",0,null,{"$f":"IF(ISNUMBER(SEARCH(\"\",B52)),getEnviron(\"username\"),\"\")","v":""},""]
[52,null,null,"",0,null,{"$f":"IF(ISNUMBER(SEARCH(\"\",B53)),getEnviron(\"username\"),\"\")","v":""},""]
[53,null,null,"",0,null,{"$f":"IF(ISNUMBER(SEARCH(\"\",B54)),getEnviron(\"username\"),\"\")","v":""},""]
[54,null,null,"",0,null,{"$f":"IF(ISNUMBER(SEARCH(\"\",B55)),getEnviron(\"username\"),\"\")","v":""},""]
[55,null,null,"",0,null,{"$f":"IF(ISNUMBER(SEARCH(\"\",B56)),getEnviron(\"username\"),\"\")","v":""},""]
[56,null,null,"",0,null,{"$f":"IF(ISNUMBER(SEARCH(\"\",B57)),getEnviron(\"username\"),\"\")","v":""},""]
[57,null,null,"",0,null,{"$f":"IF(ISNUMBER(SEARCH(\"\",B58)),getEnviron(\"username\"),\"\")","v":""},""]
[58,null,null,"",0,null,{"$f":"IF(ISNUMBER(SEARCH(\"\",B59)),getEnviron(\"username\"),\"\")","v":""},""]
[59,null,null,"",0,null,{"$f":"IF(ISNUMBER(SEARCH(\"\",B60)),getEnviron(\"username\"),\"\")","v":""},""]
[60,null,null,"",0,null,{"$f":"IF(ISNUMBER(SEARCH(\"\",B61)),getEnviron(\"username\"),\"\")","v":""},""]
[61,null,null,"",0,null,{"$f":"IF(ISNUMBER(SEARCH(\"\",B62)),getEnviron(\"username\"),\"\")","v":""},""]
[62,null,null,"",0,null,{"$f":"IF(ISNUMBER(SEARCH(\"\",B63)),getEnviron(\"username\"),\"\")","v":""},""]
[63,null,null,"",0,null,{"$f":"IF(ISNUMBER(SEARCH(\"\",B64)),getEnviron(\"username\"),\"\")","v":""},""]
[64,null,null,"",0,null,{"$f":"IF(ISNUMBER(SEARCH(\"\",B65)),getEnviron(\"username\"),\"\")","v":""},""]
[65,null,null,"",0,null,{"$f":"IF(ISNUMBER(SEARCH(\"\",B66)),getEnviron(\"username\"),\"\")","v":""},{"$f":"IF(ISNUMBER(SEARCH(\"\",B66)),NOW(),\"\")","v":""}]
[66,null,null,{"$f":"IF(ISNUMBER(SEARCH(\"\",B67)),NOW(),\"\")","v":""},{"$f":"COUNTIF(B:B,B67)","v":0},null,{"$f":"IF(ISNUMBER(SEARCH(\"\",B67)),getEnviron(\"username\"),\"\")","v":""},""]
[67,null,null,"",0,null,{"$f":"IF(ISNUMBER(SEARCH(\"\",B68)),getEnviron(\"username\"),\"\")","v":""},""]
[68,null,null,"",0,null,{"$f":"IF(ISNUMBER(SEARCH(\"\",B69)),getEnviron(\"username\"),\"\")","v":""},""]
[69,null,null,"",0,null,{"$f":"IF(ISNUMBER(SEARCH(\"\",B70)),getEnviron(\"username\"),\"\")","v":""},""]
[70,null,null,"",0,null,{"$f":"IF(ISNUMBER(SEARCH(\"\",B71)),getEnviron(\"username\"),\"\")","v":""},""]
[71,null,null,"",0,null,{"$f":"IF(ISNUMBER(SEARCH(\"\",B72)),getEnviron(\"username\"),\"\")","v":""},""]
[72,null,null,"",0,null,{"$f":"IF(ISNUMBER(SEARCH(\"\",B73)),getEnviron(\"username\"),\"\")","v":""},""]
[73,null,null,"",0,null,{"$f":"IF(ISNUMBER(SEARCH(\"\",B74)),getEnviron(\"username\"),\"\")","v":""},""]
[74,null,null,"",{"$f":"COUNTIF(B:B,B75)","v":0},null,{"$f":"IF(ISNUMBER(SEARCH(\"\",B75)),getEnviron(\"username\"),\"\")","v":""},""]
[75,null,null,"",0,null,{"$f":"IF(ISNUMBER(SEARCH(\"\",B76)),getEnviron(\"username\"),\"\")","v":""},""]
[76,null,null,"",0,null,{"$f":"IF(ISNUMBER(SEARCH(\"\",B77)),getEnviron(\"username\"),\"\")","v":""},""]
[77,null,null,"",0,null,{"$f":"IF(ISNUMBER(SEARCH(\"\",B78)),getEnviron(\"username\"),\"\")","v":""},""]
[78,null,null,"",0,null,{"$f":"IF(ISNUMBER(SEARCH(\"\",B79)),getEnviron(\"username\"),\"\")","v":""},""]
[79,null,null,"",0,null,{"$f":"IF(ISNUMBER(SEARCH(\"\",B80)),getEnviron(\"username\"),\"\")","v":""},""]
[80,null,null,"",0,null,{"$f":"IF(ISNUMBER(SEARCH(\"\",B81)),getEnviron(\"username\"),\"\")","v":""},""]
[81,null,null,"",0,null,{"$f":"IF(ISNUMBER(SEARCH(\"\",B82)),getEnviron(\"username\"),\"\")","v":""},""]
[82,null,null,"",0,null,{"$f":"IF(ISNUMBER(SEARCH(\"\",B83)),getEnviron(\"username\"),\"\")","v":""},""]
[83,null,null,"",0,null,{"$f":"IF(ISNUMBER(SEARCH(\"\",B84)),getEnviron(\"username\"),\"\")","v":""},""]
[84,null,null,"",0,null,{"$f":"IF(ISNUMBER(SEARCH(\"\",B85)),getEnviron(\"username\"),\"\")","v":""},""]
[85,null,null,"",0,null,{"$f":"IF(ISNUMBER(SEARCH(\"\",B86)),getEnviron(\"username\"),\"\")","v":""},""]
[86,null,null,"",0,null,{"$f":"IF(ISNUMBER(SEARCH(\"\",B87)),getEnviron(\"username\"),\"\")","v":""},""]
[87,null,null,"",0,null,{"$f":"IF(ISNUMBER(SEARCH(\"\",B88)),getEnviron(\"username\"),\"\")","v":""},""]
[88,null,null,"",0,null,{"$f":"IF(ISNUMBER(SEARCH(\"\",B89)),getEnviron(\"username\"),\"\")","v":""},""]
[89,null,null,"",0,null,{"$f":"IF(ISNUMBER(SEARCH(\"\",B90)),getEnviron(\"username\"),\"\")","v":""},""]
[90,null,null,"",0,null,{"$f":"IF(ISNUMBER(SEARCH(\"\",B91)),getEnviron(\"username\"),\"\")","v":""},""]
[91,null,null,"",0,null,{"$f":"IF(ISNUMBER(SEARCH(\"\",B92)),getEnviron(\"username\"),\"\")","v":""},""]
[92,null,null,"",0,null,{"$f":"IF(ISNUMBER(SEARCH(\"\",B93)),getEnviron(\"username\"),\"\")","v":""},""]
[93,null,null,"",0,null,{"$f":"IF(ISNUMBER(SEARCH(\"\",B94)),getEnviron(\"username\"),\"\")","v":""},""]
[94,null,null,"",0,null,{"$f":"IF(ISNUMBER(SEARCH(\"\",B95)),getEnviron(\"username\"),\"\")","v":""},""]
[95,null,null,"",0,null,{"$f":"IF(ISNUMBER(SEARCH(\"\",B96)),getEnviron(\"username\"),\"\")","v":""},""]
[96,null,null,"",0,null,{"$f":"IF(ISNUMBER(SEARCH(\"\",B97)),getEnviron(\"username\"),\"\")","v":""},""]
[97,null,null,"",0,null,{"$f":"IF(ISNUMBER(SEARCH(\"\",B98)),getEnviron(\"username\"),\"\")","v":""},{"$f":"IF(ISNUMBER(SEARCH(\"\",B98)),NOW(),\"\")","v":""}]
[98,null,null,"",0,null,{"$f":"IF(ISNUMBER(SEARCH(\"\",B99)),getEnviron(\"username\"),\"\")","v":""},""]
[99,null,null,"",0,null,{"$f":"IF(ISNUMBER(SEARCH(\"\",B100)),getEnviron(\"username\"),\"\")","v":""},""]
[100,null,null,"",0,null,{"$f":"IF(ISNUMBER(SEARCH(\"\",B101)),getEnviron(\"username\"),\"\")","v":""},""]
[101,null,null,"",0,null,{"$f":"IF(ISNUMBER(SEARCH(\"\",B102)),getEnviron(\"username\"),\"\")","v":""},""]
[102,null,null,"",0,null,{"$f":"IF(ISNUMBER(SEARCH(\"\",B103)),getEnviron(\"username\"),\"\")","v":""},""]
[103,null,null,"",0,null,{"$f":"IF(ISNUMBER(SEARCH(\"\",B104)),getEnviron(\"username\"),\"\")","v":""},""]
[104,null,null,"",0,null,{"$f":"IF(ISNUMBER(SEARCH(\"\",B105)),getEnviron(\"username\"),\"\")","v":""},""]
[105,null,null,"",0,null,{"$f":"IF(ISNUMBER(SEARCH(\"\",B106)),getEnviron(\"username\"),\"\")","v":""},""]
[106,null,null,"",0,null,{"$f":"IF(ISNUMBER(SEARCH(\"\",B107)),getEnviron(\"username\"),\"\")","v":""},""]
[107,null,null,"",0,null,{"$f":"IF(ISNUMBER(SEARCH(\"\",B108)),getEnviron(\"username\"),\"\")","v":""},""]
[108,null,null,"",0,null,{"$f":"IF(ISNUMBER(SEARCH(\"\",B109)),getEnviron(\"username\"),\"\")","v":""},""]
[109,null,null,"",0,null,{"$f":"IF(ISNUMBER(SEARCH(\"\",B110)),getEnviron(\"username\"),\"\")","v":""},""]
[110,null,null,"",0,null,{"$f":"IF(ISNUMBER(SEARCH(\"\",B111)),getEnviron(\"username\"),\"\")","v":""},""]
[111,null,null,"",0,null,{"$f":"IF(ISNUMBER(SEARCH(\"\",B112)),getEnviron(\"username\"),\"\")","v":""},""]
[112,null,null,"",0,null,{"$f":"IF(ISNUMBER(SEARCH(\"\",B113)),getEnviron(\"username\"),\"\")","v":""},""]
[113,null,null,"",0,null,{"$f":"IF(ISNUMBER(SEARCH(\"\",B114)),getEnviron(\"username\"),\"\")","v":""},""]
[114,null,null,"",0,null,{"$f":"IF(ISNUMBER(SEARCH(\"\",B115)),getEnviron(\"username\"),\"\")","v":""},""]
[115,null,null,"",0,null,{"$f":"IF(ISNUMBER(SEARCH(\"\",B116)),getEnviron(\"username\"),\"\")","v":""},""]
[116,null,null,"",0,null,{"$f":"IF(ISNUMBER(SEARCH(\"\",B117)),getEnviron(\"username\"),\"\")","v":""},""]
[117,null,null,"",0,null,{"$f":"IF(ISNUMBER(SEARCH(\"\",B118)),getEnviron(\"username\"),\"\")","v":""},""]
[118,null,null,"",0,null,{"$f":"IF(ISNUMBER(SEARCH(\"\",B119)),getEnviron(\"username\"),\"\")","v":""},""]
[119,null,null,"",0,null,{"$f":"IF(ISNUMBER(SEARCH(\"\",B120)),getEnviron(\"username\"),\"\")","v":""},""]
[120,null,null,"",0,null,{"$f":"IF(ISNUMBER(SEARCH(\"\",B121)),getEnviron(\"username\"),\"\")","v":""},""]
[121,null,null,"",0,null,{"$f":"IF(ISNUMBER(SEARCH(\"\",B122)),getEnviron(\"username\"),\"\")","v":""},""]
[122,null,null,"",0,null,{"$f":"IF(ISNUMBER(SEARCH(\"\",B123)),getEnviron(\"username\"),\"\")","v":""},""]
[123,null,null,"",0,null,{"$f":"IF(ISNUMBER(SEARCH(\"\",B124)),getEnviron(\"username\"),\"\")","v":""},""]
[124,null,null,"",0,null,{"$f":"IF(ISNUMBER(SEARCH(\"\",B125)),getEnviron(\"username\"),\"\")","v":""},""]
[125,null,null,"",0,null,{"$f":"IF(ISNUMBER(SEARCH(\"\",B126)),getEnviron(\"username\"),\"\")","v":""},""]
[126,null,null,"",0,null,{"$f":"IF(ISNUMBER(SEARCH(\"\",B127)),getEnviron(\"username\"),\"\")","v":""},""]
[127,null,null,"",0,null,{"$f":"IF(ISNUMBER(SEARCH(\"\",B128)),getEnviron(\"username\"),\"\")","v":""},""]
[128,null,null,"",{"$f":"COUNTIF(B:B,B129)","v":0},null,{"$f":"IF(ISNUMBER(SEARCH(\"\",B129)),getEnviron(\"username\"),\"\")","v":""},""]
[129,null,null,"",0,null,{"$f":"IF(ISNUMBER(SEARCH(\"\",B130)),getEnviron(\"username\"),\"\")","v":""},{"$f":"IF(ISNUMBER(SEARCH(\"\",B130)),NOW(),\"\")","v":""}]
[130,null,null,{"$f":"IF(ISNUMBER(SEARCH(\"\",B131)),NOW(),\"\")","v":""},0,null,{"$f":"IF(ISNUMBER(SEARCH(\"\",B131)),getEnviron(\"username\"),\"\")","v":""},""]
[131,null,null,"",0,null,{"$f":"IF(ISNUMBER(SEARCH(\"\",B132)),getEnviron(\"username\"),\"\")","v":""},""]
[132,null,null,"",0,null,{"$f":"IF(ISNUMBER(SEARCH(\"\",B133)),getEnviron(\"username\"),\"\")","v":""},""]
[133,null,null,"",0,null,{"$f":"IF(ISNUMBER(SEARCH(\"\",B134)),getEnviron(\"username\"),\"\")","v":""},""]
[134,null,null,"",0,null,{"$f":"IF(ISNUMBER(SEARCH(\"\",B135)),getEnviron(\"username\"),\"\")","v":""},""]
[135,null,null,"",0,null,{"$f":"IF(ISNUMBER(SEARCH(\"\",B136)),getEnviron(\"username\"),\"\")","v":""},""]
[136,null,null,"",0,null,{"$f":"IF(ISNUMBER(SEARCH(\"\",B137)),getEnviron(\"username\"),\"\")","v":""},""]
[137,null,null,"",0,null,{"$f":"IF(ISNUMBER(SEARCH(\"\",B138)),getEnviron(\"username\"),\"\")","v":""},""]
[138,null,null,"",0,null,{"$f":"IF(ISNUMBER(SEARCH(\"\",B139)),getEnviron(\"username\"),\"\")","v":""},""]
[139,null,null,"",0,null,{"$f":"IF(ISNUMBER(SEARCH(\"\",B140)),getEnviron(\"username\"),\"\")","v":""},""]
[140,null,null,"",0,null,{"$f":"IF(ISNUMBER(SEARCH(\"\",B141)),getEnviron(\"username\"),\"\")","v":""},""]
[141,null,null,"",0,null,{"$f":"IF(ISNUMBER(SEARCH(\"\",B142)),getEnviron(\"username\"),\"\")","v":""},""]
[142,null,null,"",0,null,{"$f":"IF(ISNUMBER(SEARCH(\"\",B143)),getEnviron(\"username\"),\"\")","v":""},""]
[143,null,null,"",0,null,{"$f":"IF(ISNUMBER(SEARCH(\"\",B144)),getEnviron(\"username\"),\"\")","v":""},""]
[144,null,null,"",0,null,{"$f":"IF(ISNUMBER(SEARCH(\"\",B145)),getEnviron(\"username\"),\"\")","v":""},""]
[145,null,null,"",0,null,{"$f":"IF(ISNUMBER(SEARCH(\"\",B146)),getEnviron(\"username\"),\"\")","v":""},""]
[146,null,null,"",0,null,{"$f":"IF(ISNUMBER(SEARCH(\"\",B147)),getEnviron(\"username\"),\"\")","v":""},""]
[147,null,null,"",0,null,{"$f":"IF(ISNUMBER(SEARCH(\"\",B148)),getEnviron(\"username\"),\"\")","v":""},""]
[148,null,null,"",0,null,{"$f":"IF(ISNUMBER(SEARCH(\"\",B149)),getEnviron(\"username\"),\"\")","v":""},""]
[149,null,null,"",0,null,{"$f":"IF(ISNUMBER(SEARCH(\"\",B150)),getEnviron(\"username\"),\"\")","v":""},""]
[150,null,null,"",0,null,{"$f":"IF(ISNUMBER(SEARCH(\"\",B151)),getEnviron(\"username\"),\"\")","v":""},""]
[151,null,null,"",0,null,{"$f":"IF(ISNUMBER(SEARCH(\"\",B152)),getEnviron(\"username\"),\"\")","v":""},""]
[152,null,null,"",0,null,{"$f":"IF(ISNUMBER(SEARCH(\"\",B153)),getEnviron(\"username\"),\"\")","v":""},""]
[153,null,null,"",0,null,{"$f":"IF(ISNUMBER(SEARCH(\"\",B154)),getEnviron(\"username\"),\"\")","v":""},""]
[154,null,null,"",0,null,{"$f":"IF(ISNUMBER(SEARCH(\"\",B155)),getEnviron(\"username\"),\"\")","v":""},""]
[155,null,null,"",0,null,{"$f":"IF(ISNUMBER(SEARCH(\"\",B156)),getEnviron(\"username\"),\"\")","v":""},""]
[156,null,null,"",0,null,{"$f":"IF(ISNUMBER(SEARCH(\"\",B157)),getEnviron(\"username\"),\"\")","v":""},""]
[157,null,null,"",0,null,{"$f":"IF(ISNUMBER(SEARCH(\"\",B158)),getEnviron(\"username\"),\"\")","v":""},""]
[158,null,null,"",0,null,{"$f":"IF(ISNUMBER(SEARCH(\"\",B159)),getEnviron(\"username\"),\"\")","v":""},""]
[159,null,null,"",0,null,{"$f":"IF(ISNUMBER(SEARCH(\"\",B160)),getEnviron(\"username\"),\"\")","v":""},""]
[160,null,null,"",0,null,{"$f":"IF(ISNUMBER(SEARCH(\"\",B161)),getEnviron(\"username\"),\"\")","v":""},""]
[161,null,null,"",0,null,{"$f":"IF(ISNUMBER(SEARCH(\"\",B162)),getEnviron(\"username\"),\"\")","v":""},{"$f":"IF(ISNUMBER(SEARCH(\"\",B162)),NOW(),\"\")","v":""}]
[162,null,null,"",0,null,{"$f":"IF(ISNUMBER(SEARCH(\"\",B163)),getEnviron(\"username\"),\"\")","v":""},""]
[163,null,null,"",0,null,{"$f":"IF(ISNUMBER(SEARCH(\"\",B164)),getEnviron(\"username\"),\"\")","v":""},""]
[164,null,null,"",0,null,{"$f":"IF(ISNUMBER(SEARCH(\"\",B165)),getEnviron(\"username\"),\"\")","v":""},""]
[165,null,null,"",0,null,{"$f":"IF(ISNUMBER(SEARCH(\"\",B166)),getEnviron(\"username\"),\"\")","v":""},""]
[166,null,null,"",0,null,{"$f":"IF(ISNUMBER(SEARCH(\"\",B167)),getEnviron(\"username\"),\"\")","v":""},""]
[167,null,null,"",0,null,{"$f":"IF(ISNUMBER(SEARCH(\"\",B168)),getEnviron(\"username\"),\"\")","v":""},""]
[168,null,null,"",0,null,{"$f":"IF(ISNUMBER(SEARCH(\"\",B169)),getEnviron(\"username\"),\"\")","v":""},""]
[169,null,null,"",0,null,{"$f":"IF(ISNUMBER(SEARCH(\"\",B170)),getEnviron(\"username\"),\"\")","v":""},""]
[170,null,null,"",0,null,{"$f":"IF(ISNUMBER(SEARCH(\"\",B171)),getEnviron(\"username\"),\"\")","v":""},""]
[171,null,null,"",0,null,{"$f":"IF(ISNUMBER(SEARCH(\"\",B172)),getEnviron(\"username\"),\"\")","v":""},""]
[172,null,null,"",0,null,{"$f":"IF(ISNUMBER(SEARCH(\"\",B173)),getEnviron(\"username\"),\"\")","v":""},""]
[173,null,null,"",0,null,{"$f":"IF(ISNUMBER(SEARCH(\"\",B174)),getEnviron(\"username\"),\"\")","v":""},""]
[174,null,null,"",0,null,{"$f":"IF(ISNUMBER(SEARCH(\"\",B175)),getEnviron(\"username\"),\"\")","v":""},""]
[175,null,null,"",0,null,{"$f":"IF(ISNUMBER(SEARCH(\"\",B176)),getEnviron(\"username\"),\"\")","v":""},""]
[176,null,null,"",0,null,{"$f":"IF(ISNUMBER(SEARCH(\"\",B177)),getEnviron(\"username\"),\"\")","v":""},""]
[177,null,null,"",0,null,{"$f":"IF(ISNUMBER(SEARCH(\"\",B178)),getEnviron(\"username\"),\"\")","v":""},""]
[178,null,null,"",0,null,{"$f":"IF(ISNUMBER(SEARCH(\"\",B179)),getEnviron(\"username\"),\"\")","v":""},""]
[179,null,null,"",0,null,{"$f":"IF(ISNUMBER(SEARCH(\"\",B180)),getEnviron(\"username\"),\"\")","v":""},""]
[180,null,null,"",0,null,{"$f":"IF(ISNUMBER(SEARCH(\"\",B181)),getEnviron(\"username\"),\"\")","v":""},""]
[181,null,null,"",0,null,{"$f":"IF(ISNUMBER(SEARCH(\"\",B182)),getEnviron(\"username\"),\"\")","v":""},""]
[182,null,null,"",0,null,{"$f":"IF(ISNUMBER(SEARCH(\"\",B183)),getEnviron(\"username\"),\"\")","v":""},""]
[183,null,null,"",0,null,{"$f":"IF(ISNUMBER(SEARCH(\"\",B184)),getEnviron(\"username\"),\"\")","v":""},""]
[184,null,null,"",0,null,{"$f":"IF(ISNUMBER(SEARCH(\"\",B185)),getEnviron(\"username\"),\"\")","v":""},""]
[185,null,null,"",0,null,{"$f":"IF(ISNUMBER(SEARCH(\"\",B186)),getEnviron(\"username\"),\"\")","v":""},""]
[186,null,null,"",0,null,{"$f":"IF(ISNUMBER(SEARCH(\"\",B187)),getEnviron(\"username\"),\"\")","v":""},""]
[187,null,null,"",0,null,{"$f":"IF(ISNUMBER(SEARCH(\"\",B188)),getEnviron(\"username\"),\"\")","v":""},""]
[188,null,null,"",0,null,{"$f":"IF(ISNUMBER(SEARCH(\"\",B189)),getEnviron(\"username\"),\"\")","v":""},""]
[189,null,null,"",0,null,{"$f":"IF(ISNUMBER(SEARCH(\"\",B190)),getEnviron(\"username\"),\"\")","v":""},""]
[190,null,null,"",0,null,{"$f":"IF(ISNUMBER(SEARCH(\"\",B191)),getEnviron(\"username\"),\"\")","v":""},""]
[191,null,null,"",0,null,{"$f":"IF(ISNUMBER(SEARCH(\"\",B192)),getEnviron(\"username\"),\"\")","v":""},""]
[192,null,null,"",{"$f":"COUNTIF(B:B,B193)","v":0},null,{"$f":"IF(ISNUMBER(SEARCH(\"\",B193)),getEnviron(\"username\"),\"\")","v":""},""]
[193,null,null,"",0,null,{"$f":"IF(ISNUMBER(SEARCH(\"\",B194)),getEnviron(\"username\"),\"\")","v":""},""]
[194,null,null,{"$f":"IF(ISNUMBER(SEARCH(\"\",B195)),NOW(),\"\")","v":""},0,null,{"$f":"IF(ISNUMBER(SEARCH(\"\",B195)),getEnviron(\"username\"),\"\")","v":""},{"$f":"IF(ISNUMBER(SEARCH(\"\",B195)),NOW(),\"\")","v":""}]
[195,null,null,"",0,null,"",""]
[196,null,null,"",0,null,"",""]
[197,null,null,"",0,null,"",""]
[198,null,null,"",0,null,"",""]
[199,null,null,"",0,null,"",""]
[200,null,null,"",0,null,"",""]

{"sheet":"LOCATION","index":1,"n_rows":69,"n_cols":6,"rows_kept":69,"cut":false,"hidden":false,"merged":[]}
["LOCATION IMPAIRE","LOCATION PAIRE","SECTION",null,"Toutes location","Section"]
["AA010","AB020",1,null,"AA010",1]
["AA030","AB040",2,null,"AA030",2]
["AA050","AB060",3,null,"AA050",3]
["AA070","AB080",4,null,"AA070",4]
["AA090","AB100",5,null,"AA090",5]
["AA110","AB120",6,null,"AA110",6]
["AA130","AB140",7,null,"AA130",7]
["AA150","AB160",8,null,"AA150",8]
["AA170","AB180",9,null,"AA170",9]
["AA190","AB200",10,null,"AA190",10]
["AA210","AB220",11,null,"AA210",11]
["AA230","AB240",12,null,"AA230",12]
["AA250","AB260",13,null,"AA250",13]
["AA270","AB280",14,null,"AA270",14]
["AA290","AB300",15,null,"AA290",15]
["AA310","AB320",16,null,"AA310",16]
["AA330","AB340",17,null,"AA330",17]
["AC010","AD010",18,null,"AC010",18]
["AC030","AD030",19,null,"AC030",19]
["AC050","AD050",20,null,"AC050",20]
["AC070","AD070",21,null,"AC070",21]
["AC090","AD090",22,null,"AC090",22]
["AC110","AD110",23,null,"AC110",23]
["AC130","AD130",24,null,"AC130",24]
["AC150","AD150",25,null,"AC150",25]
["AC170","AD170",26,null,"AC170",26]
["AC190","AD190",27,null,"AC190",27]
["AC210","AD210",28,null,"AC210",28]
["AC230","AD230",29,null,"AC230",29]
["AC250","AD250",30,null,"AC250",30]
["AC270","AD270",31,null,"AC270",31]
["AC290","AD290",32,null,"AC290",32]
["AC310","AD310",33,null,"AC310",33]
["AC330","AD330",34,null,"AC330",34]
[null,null,null,null,"AB020",1]
[null,null,null,null,"AB040",2]
[null,null,null,null,"AB060",3]
[null,null,null,null,"AB080",4]
[null,null,null,null,"AB100",5]
[null,null,null,null,"AB120",6]
[null,null,null,null,"AB140",7]
[null,null,null,null,"AB160",8]
[null,null,null,null,"AB180",9]
[null,null,null,null,"AB200",10]
[null,null,null,null,"AB220",11]
[null,null,null,null,"AB240",12]
[null,null,null,null,"AB260",13]
[null,null,null,null,"AB280",14]
[null,null,null,null,"AB300",15]
[null,null,null,null,"AB320",16]
[null,null,null,null,"AB340",17]
[null,null,null,null,"AD010",18]
[null,null,null,null,"AD030",19]
[null,null,null,null,"AD050",20]
[null,null,null,null,"AD070",21]
[null,null,null,null,"AD090",22]
[null,null,null,null,"AD110",23]
[null,null,null,null,"AD130",24]
[null,null,null,null,"AD150",25]
[null,null,null,null,"AD170",26]
[null,null,null,null,"AD190",27]
[null,null,null,null,"AD210",28]
[null,null,null,null,"AD230",29]
[null,null,null,null,"AD250",30]
[null,null,null,null,"AD270",31]
[null,null,null,null,"AD290",32]
[null,null,null,null,"AD310",33]
[null,null,null,null,"AD330",34]