{"text_format":"1","workbook":"xlsx","n_sheets":3,"sheets":["Feuil1","Feuil3","Feuil2"],"not_rendered":{"charts":0,"images":5,"macros":1,"external_links":0,"defined_names":0,"comments":0,"pivot_tables":0},"unopened":[],"bounds":{"document_bytes":16777216,"sheet_cells":100000,"rows_first":2000,"rows_last":500,"rows_between":2000,"halvings":0,"cell_chars":16384,"cell_head_chars":4096},"cells_cut":0,"cells_raw":0,"read":"whole","date_system":"1900"}

{"sheet":"Feuil1","index":0,"n_rows":29,"n_cols":6,"rows_kept":29,"cut":false,"hidden":false,"merged":[[35,3,35,5],[35,7,39,10],[11,3,13,5],[15,3,17,5],[19,3,21,5],[23,3,24,5],[11,7,13,7],[11,8,13,8],[11,9,13,9],[11,10,13,10],[15,7,17,7],[2,3,4,10],[23,7,24,7],[23,8,24,8],[23,9,24,9],[23,10,24,10],[15,8,17,8],[15,9,17,9],[15,10,17,10],[19,7,21,7],[19,8,21,8],[19,9,21,9],[19,10,21,10]]}
[]
[]
[null,null,null,"METEO LOCALE"]
[]
[]
[]
[]
[]
[]
[]
[]
[null,null,null,"Relations entre collègues au sein du CDS (ambiance, convivialité, collaboration…)"]
[]
[]
[]
[null,null,null,"Accompagnement dans le travail (outils, soutien technique…)"]
[]
[]
[]
[null,null,null,"Relation avec le manager (disponibilités, communication…)"]
[]
[]
[]
[null,null,null,"Globalement, mon état d'esprit."]
[]
[]
[]
[]
[null,null,null,"Les bons points du moment",null,"Les GRR du moment"]

{"sheet":"Feuil3","index":1,"n_rows":5,"n_cols":13,"rows_kept":5,"cut":false,"hidden":false,"merged":[]}
[]
[]
[]
[]
[null,"RESULTATS",null,"Relations entre collègues","Accompagnement","Relation avec le manager","Globalement","Les bons points","Les grrr","Relations entre collègues","Accompagnement","Relation avec le manager","Globalement"]

{"sheet":"Feuil2","index":2,"n_rows":35,"n_cols":11,"rows_kept":35,"cut":false,"hidden":false,"merged":[[2,3,3,10],[21,3,21,4]]}
[]
[]
[null,null,null,"RESTITUTION DES RESULTATS"]
[]
[]
[]
[]
[null,null,null,"Relations entre collègues","Accompagnement","Relation avec le manager","Globalement",null,"Les bons points",null,"Les grr"]
[]
[null,null,null,{"$f":"COUNTIF(Feuil3!J:J,1)","v":0},{"$f":"COUNTIF(Feuil3!K:K,1)","v":0},{"$f":"COUNTIF(Feuil3!L:L,1)","v":0},{"$f":"COUNTIF(Feuil3!M:M,1)","v":0},null,{"$f":"Feuil3!H12","v":0},null,{"$f":"Feuil3!I12","v":0}]
[null,null,null,{"$f":"COUNTIF(Feuil3!J:J,2)","v":0},{"$f":"COUNTIF(Feuil3!K:K,2)","v":0},{"$f":"COUNTIF(Feuil3!L:L,2)","v":0},{"$f":"COUNTIF(Feuil3!M:M,2)","v":0},null,{"$f":"Feuil3!H13","v":0},null,{"$f":"Feuil3!I13","v":0}]
[null,null,null,{"$f":"COUNTIF(Feuil3!J:J,3)","v":0},{"$f":"COUNTIF(Feuil3!K:K,3)","v":0},{"$f":"COUNTIF(Feuil3!L:L,3)","v":0},{"$f":"COUNTIF(Feuil3!M:M,3)","v":0},null,{"$f":"Feuil3!H14","v":0},null,{"$f":"Feuil3!I14","v":0}]
[null,null,null,{"$f":"COUNTIF(Feuil3!J:J,4)","v":0},{"$f":"COUNTIF(Feuil3!K:K,4)","v":0},{"$f":"COUNTIF(Feuil3!L:L,4)","v":0},{"$f":"COUNTIF(Feuil3!M:M,4)","v":0},null,{"$f":"Feuil3!H15","v":0},null,{"$f":"Feuil3!I15","v":0}]
[null,null,null,null,null,null,null,null,{"$f":"Feuil3!H16","v":0},null,{"$f":"Feuil3!I16","v":0}]
[null,null,null,"Relations entre collègues","Accompagnement","Relation avec le manager","Globalement",null,{"$f":"Feuil3!H17","v":0},null,{"$f":"Feuil3!I17","v":0}]
[null,null,null,{"$f":"(D10/F22)*100","v":{"$error":"#DIV/0!"}},{"$f":"(E10/F22)*100","v":{"$error":"#DIV/0!"}},{"$f":"(F10/F22)*100","v":{"$error":"#DIV/0!"}},{"$f":"(G10/F22)*100","v":{"$error":"#DIV/0!"}},null,{"$f":"Feuil3!H18","v":0},null,{"$f":"Feuil3!I18","v":0}]
[null,null,null,{"$f":"(D11/F22)*100","v":{"$error":"#DIV/0!"}},{"$f":"(E11/F22)*100","v":{"$error":"#DIV/0!"}},{"$f":"(F11/F22)*100","v":{"$error":"#DIV/0!"}},{"$f":"(G11/F22)*100","v":{"$error":"#DIV/0!"}},null,{"$f":"Feuil3!H19","v":0},null,{"$f":"Feuil3!I19","v":0}]
[null,null,null,{"$f":"(D12/F22)*100","v":{"$error":"#DIV/0!"}},{"$f":"(E12/F22)*100","v":{"$error":"#DIV/0!"}},{"$f":"(F12/F22)*100","v":{"$error":"#DIV/0!"}},{"$f":"(G12/F22)*100","v":{"$error":"#DIV/0!"}},null,{"$f":"Feuil3!H20","v":0},null,{"$f":"Feuil3!I20","v":0}]
[null,null,null,{"$f":"(D13/F22)*100","v":{"$error":"#DIV/0!"}},{"$f":"(E13/F22)*100","v":{"$error":"#DIV/0!"}},{"$f":"(F13/F22)*100","v":{"$error":"#DIV/0!"}},{"$f":"(G13/F22)*100","v":{"$error":"#DIV/0!"}},null,{"$f":"Feuil3!H21","v":0},null,{"$f":"Feuil3!I21","v":0}]
[null,null,null,null,null,null,null,null,{"$f":"Feuil3!H22","v":0},null,{"$f":"Feuil3!I22","v":0}]
[null,null,null,null,null,null,null,null,{"$f":"Feuil3!H23","v":0},null,{"$f":"Feuil3!I23","v":0}]
[null,null,null,"NOMBRE DE REPONDANTS",null,{"$f":"D10+D11+D12+D13","v":0},null,null,{"$f":"Feuil3!H24","v":0},null,{"$f":"Feuil3!I24","v":0}]
[null,null,null,null,null,null,null,null,{"$f":"Feuil3!H25","v":0},null,{"$f":"Feuil3!I25","v":0}]
[null,null,null,null,null,null,null,null,{"$f":"Feuil3!H26","v":0},null,{"$f":"Feuil3!I26","v":0}]
[null,null,null,null,null,null,null,null,{"$f":"Feuil3!H27","v":0},null,{"$f":"Feuil3!I27","v":0}]
[null,null,null,null,null,null,null,null,{"$f":"Feuil3!H28","v":0},null,{"$f":"Feuil3!I28","v":0}]
[null,null,null,null,null,null,null,null,{"$f":"Feuil3!H29","v":0},null,{"$f":"Feuil3!I29","v":0}]
[null,null,null,null,null,null,null,null,{"$f":"Feuil3!H30","v":0},null,{"$f":"Feuil3!I30","v":0}]
[null,null,null,null,null,null,null,null,{"$f":"Feuil3!H31","v":0},null,{"$f":"Feuil3!I31","v":0}]
[null,null,null,null,null,null,null,null,{"$f":"Feuil3!H32","v":0},null,{"$f":"Feuil3!I32","v":0}]
[null,null,null,null,null,null,null,null,{"$f":"Feuil3!H33","v":0},null,{"$f":"Feuil3!I33","v":0}]
[null,null,null,null,null,null,null,null,{"$f":"Feuil3!H34","v":0},null,{"$f":"Feuil3!I34","v":0}]
[null,null,null,null,null,null,null,null,{"$f":"Feuil3!H35","v":0},null,{"$f":"Feuil3!I35","v":0}]
[null,null,null,null,null,null,null,null,{"$f":"Feuil3!H36","v":0},null,{"$f":"Feuil3!I36","v":0}]
[null,null,null,null,null,null,null,null,{"$f":"Feuil3!H37","v":0},null,{"$f":"Feuil3!I37","v":0}]