{"text_format":"1","workbook":"xlsx","n_sheets":26,"sheets":["Menu","Liste","Licencies","VentillationJournées","FicheClubAcceuillant","DGAC","Parametres","VentillationCompta","Page essai","CP","Planche de vol","Relevé","ListeDesRelevés","Centiéme heures","SaisieVols","CodeOACI","Adresse logements","Répartition planeurs","Ordre de décollage","Tab Dépenses","Graphique heures par planeurs","GraphHeuresPilotes","Aide","Icones","Feuil1","Feuil2"],"not_rendered":{"charts":2,"images":16,"macros":1,"external_links":4,"defined_names":60,"comments":4,"pivot_tables":0},"unopened":[],"bounds":{"document_bytes":16777216,"sheet_cells":100000,"rows_first":2000,"rows_last":500,"rows_between":2000,"halvings":0,"cell_chars":16384,"cell_head_chars":4096},"cells_cut":0,"cells_raw":0,"read":"whole","date_system":"1904"}

{"sheet":"Menu","index":0,"n_rows":9,"n_cols":3,"rows_kept":9,"cut":false,"hidden":false,"merged":[[9,7,10,10]]}
[]
[]
[]
[]
[]
[]
[]
[]
[null,null," "]

{"sheet":"Liste","index":1,"n_rows":7,"n_cols":22,"rows_kept":7,"cut":false,"hidden":true,"merged":[]}
[null,null,null,null,null,null,null,null,null,{"$f":"$V$1","v":"  Planche -  N° 102"},null,null,null,null,null,null,null,null,null,null,null,{"$f":"CONCATENATE(\"  Planche - \",,\" N° \",V3)","v":"  Planche -  N° 102"}]
[null,null,null,{"$f":"Parametres!$B$19","v":"Stage vol à voile luchon Automne 2018"},null,null,null,null,null,null,null,null,null,null,null,null,null,null,null,null,null,{"$f":"TODAY()","v":"2018-06-20"}]
[null,null,null,null,null,null,null,null,null,null,null,null,null,null,null,null,null,null,null,null,null,102]
[null,null,null,"Planche des  vols du ",null,null,"19/06/2018",null,null,null,null,null,null,null,null,null,null,null,null,null,null,"Planche du "]
[]
["Nbr","Type","Cdbl","Instructeur / éléves","Décollage","Atterissage","Nbr Heures\neffectuées","Type de \nlancer","Vol \nmutuel","Observations"]
[1,"PEGASE EU","BIL  Bill","","10:00","12:00","02:00:00","T","",""]

{"sheet":"Licencies","index":2,"n_rows":22,"n_cols":157,"rows_kept":22,"cut":false,"hidden":true,"merged":[[1,3,1,4],[1,30,1,34],[1,35,1,39],[1,40,1,44],[1,45,1,49],[1,5,1,9],[1,10,1,14],[1,15,1,19],[1,20,1,24],[1,25,1,29],[1,75,1,79],[1,50,1,54],[1,55,1,59],[1,60,1,64],[1,65,1,69],[1,70,1,74],[1,112,1,127],[1,101,1,108],[1,80,1,84],[1,85,1,89],[1,90,1,94]]}
[null,null,null,null,null,null,null,null,null,null,null,null,null,null,null,null,null,null,null,null,null,null,null,null,null,null,null,null,null,null,null,null,null,null,null,null,null,null,null,null,null,null,null,null,null,null,null,null,null,null,null,null,null,null,null,null,null,null,null,null,null,null,null,null,null,null,null,null,null,null,null,null,null,null,null,null,null,null,null,null,null,null,null,null,null,null,null,null,null,null,null,null,null,null,null,null,null,null,null,null,101]
[null,{"$f":"MAX(A:A)","v":3},null,{"$f":"Parametres!$AJ$16","v":"2018-10-20"},null,{"$f":"DATE(Parametres!$A$2,Parametres!$A$3,Parametres!A4)+MOD(-DATE(Parametres!A2,Parametres!A3,-5),7)","v":"2018-10-20"},null,null,null,null,{"$f":"1+F2","v":"2018-10-21"},null,null,null,null,{"$f":"1+K2","v":"2018-10-22"},null,null,null,null,{"$f":"1+P2","v":"2018-10-23"},null,null,null,null,{"$f":"1+U2","v":"2018-10-24"},null,null,null,null,{"$f":"1+Z2","v":"2018-10-25"},null,null,null,null,{"$f":"1+AE2","v":"2018-10-26"},null,null,null,null,{"$f":"1+AJ2","v":"2018-10-27"},null,null,null,null,{"$f":"1+AO2","v":"2018-10-28"},null,null,null,null,{"$f":"1+AT2","v":"2018-10-29"},null,null,null,null,{"$f":"1+AY2","v":"2018-10-30"},null,null,null,null,{"$f":"1+BD2","v":"2018-10-31"},null,null,null,null,{"$f":"1+BI2","v":"2018-11-01"},null,null,null,null,{"$f":"1+BN2","v":"2018-11-02"},null,null,null,null,{"$f":"1+BS2","v":"2018-11-03"},null,null,null,null,{"$f":"1+BX2","v":"2018-11-04"},null,null,null,null,{"$f":"1+CC2","v":"2018-11-05"},null,null,null,null,{"$f":"1+CH2","v":"2018-11-06"},null,null,null,null,{"$f":"SUM(CR4:CR22)","v":5},{"$f":"SUM(CS4:CS22)","v":0},{"$f":"SUM(CT4:CT22)","v":5},{"$f":"SUM(CU4:CU22)","v":3},{"$f":"SUM(CV4:CV22)","v":0},null,"Suite renseignements",null,null,null,null,null,null,null,null,null,null,"Statut Stagiaire"]
["N°","Code_inscrits","Sexe","Nom","Prénom","Journée de vol","Petit dej","Repas du midi","Repas du soir","Nuitée","Journée de vol","Petit dej","Repas du midi","Repas du soir","Nuitée","Journée de vol","Petit dej","Repas du midi","Repas du soir","Nuitée","Journée de vol","Petit dej","Repas du midi","Repas du soir","Nuitée","Journée de vol","Petit dej","Repas du midi","Repas du soir","Nuitée","Journée de vol","Petit dej","Repas du midi","Repas du soir","Nuitée","Journée de vol","Petit dej","Repas du midi","Repas du soir","Nuitée","Journée de vol","Petit dej","Repas du midi","Repas du soir","Nuitée","Journée de vol","Petit dej","Repas du midi","Repas du soir","Nuitée","Journée de vol","Petit dej","Repas du midi","Repas du soir","Nuitée","Journée de vol","Petit dej","Repas du midi","Repas du soir","Nuitée","Journée de vol","Petit dej","Repas du midi","Repas du soir","Nuitée","Journée de vol","Petit dej","Repas du midi","Repas du soir","Nuitée","Journée de vol","Petit dej","Repas du midi","Repas du soir","Nuitée","Journée de vol","Petit dej","Repas du midi","Repas du soir","Nuitée","Journée de vol","Petit dej","Repas du midi","Repas du soir","Nuitée","Journée de vol","Petit dej","Repas du midi","Repas du soir","Nuitée","Journée de vol","Petit dej","Repas du midi","Repas du soir","Nuitée","Total Journée","Total petit dejeunée","Total midi","Total Repas  soir","Total Nuitées","Observations","Adresse1","Mail","CP","Ville","TéléphoneF","TelephoneP","Date\nde naissance ","Début du \nvol à voile","Profession","Réserve","Réserve","Eleve pilote","laché solo","BPP","Campagne","Montagne ","Planeur","Avion","ULM","Instructeur ITP/ITV","Instructeur Avion/ULM","Accompagnat","Invité","Passage","Boule remorque","Démontage Aire/Luchon","Convoyage Air","N° licence\npilote et instructeur",null,null,null,"Visite\noui/non","Visite Médicale\ndébut","Visite Médicale\nfin","N°\ninstructeur","Reserve","Nbr d'heure \nmontagne","Reserve","Reserve","Reserve","NBr JOURS volés",null,null,null,"Nombre de cases remplies\npar J,P,M,N,S"]
[1,"BIL Bill","M","BIL","Bill","J",null,"M",null,null,"J",null,"M",null,null,null,null,null,null,null,null,null,null,null,null,null,null,null,null,null,null,null,null,null,null,null,null,null,null,null,null,null,null,null,null,null,null,null,null,null,null,null,null,null,null,null,null,null,null,null,null,null,null,null,null,null,null,null,null,null,null,null,null,null,null,null,null,null,null,null,null,null,null,null,null,null,null,null,null,null,null,null,null,null,null,{"$f":"COUNTIF(F4:CQ4,\"J\")","v":2},{"$f":"COUNTIF(F4:CQ4,\"P\")","v":0},{"$f":"COUNTIF(F4:CQ4,\"M\")","v":2},{"$f":"COUNTIF(F4:CQ4,\"S\")","v":0},{"$f":"COUNTIF(F4:CQ4,\"N\")","v":0},"","","","64000","PAU","","","","","Géométre",null,null,"x","x","x",null,null,"x",null,null,null,null,null,null,null,null,null,null,null,null,null,null,null,null,null,null,null,"",null,null,null,{"$f":"COUNTIF(F4:CQ4,\"*J*\")","v":2},null,null,null,null,null,null,null,null,null,null,null,null,null,null,"P"]
[2,"XX Xx","M","XX","Xx","J",null,"M","S",null,"J",null,"M","S",null,"J",null,"M","S",null,null,null,null,null,null,null,null,null,null,null,null,null,null,null,null,null,null,null,null,null,null,null,null,null,null,null,null,null,null,null,null,null,null,null,null,null,null,null,null,null,null,null,null,null,null,null,null,null,null,null,null,null,null,null,null,null,null,null,null,null,null,null,null,null,null,null,null,null,null,null,null,null,null,null,null,{"$f":"COUNTIF(F5:CQ5,\"J\")","v":3},{"$f":"COUNTIF(F5:CQ5,\"P\")","v":0},{"$f":"COUNTIF(F5:CQ5,\"M\")","v":3},{"$f":"COUNTIF(F5:CQ5,\"S\")","v":3},{"$f":"COUNTIF(F5:CQ5,\"N\")","v":0},"","79","","64000","PAU","","","","",null,null,null,null,null,null,null,null,null,null,null,null,null,null,null,null,null,null,null,null,null,null,null,null,null,null,null,null,null,null,null,null,3,null,null,null,null,null,null,null,null,null,null,null,null,null,null,"M"]
[3,"YYY Yy","M","YYY","Yy",null,null,null,null,null,null,null,null,null,null,null,null,null,null,null,null,null,null,null,null,null,null,null,null,null,null,null,null,null,null,null,null,null,null,null,null,null,null,null,null,null,null,null,null,null,null,null,null,null,null,null,null,null,null,null,null,null,null,null,null,null,null,null,null,null,null,null,null,null,null,null,null,null,null,null,null,null,null,null,null,null,null,null,null,null,null,null,null,null,null,{"$f":"COUNTIF(F6:CQ6,\"J\")","v":0},{"$f":"COUNTIF(F6:CQ6,\"P\")","v":0},{"$f":"COUNTIF(F6:CQ6,\"M\")","v":0},{"$f":"COUNTIF(F6:CQ6,\"S\")","v":0},{"$f":"COUNTIF(F6:CQ6,\"N\")","v":0},"","79","","64000","PAU","05.59.","","1946","1997",null,null,null,"x","x","x",null,"x",null,null,null,null,null,null,"x","x",null,null,null,null,null,null,null,null,null,null,null,null,null,null,null,null,0,null,null,null,null,null,null,null,null,null,null,null,null,null,null,"S"]
[null,null,null,null,null,null,null,null,null,null,null,null,null,null,null,null,null,null,null,null,null,null,null,null,null,null,null,null,null,null,null,null,null,null,null,null,null,null,null,null,null,null,null,null,null,null,null,null,null,null,null,null,null,null,null,null,null,null,null,null,null,null,null,null,null,null,null,null,null,null,null,null,null,null,null,null,null,null,null,null,null,null,null,null,null,null,null,null,null,null,null,null,null,null,null,{"$f":"COUNTIF(F7:CQ7,\"J\")","v":0},{"$f":"COUNTIF(F7:CQ7,\"P\")","v":0},{"$f":"COUNTIF(F7:CQ7,\"M\")","v":0},{"$f":"COUNTIF(F7:CQ7,\"S\")","v":0},{"$f":"COUNTIF(F7:CQ7,\"N\")","v":0},null,null,null,null,null,null,null,null,null,null,null,null,null,null,null,null,null,null,null,null,null,null,null,null,null,null,null,null,null,null,null,null,null,null,null,null,null,null,null,null,null,0,null,null,null,null,null,null,null,null,null,null,null,null,null,null,"N"]
[null,null,null,null,null,null,null,null,null,null,null,null,null,null,null,null,null,null,null,null,null,null,null,null,null,null,null,null,null,null,null,null,null,null,null,null,null,null,null,null,null,null,null,null,null,null,null,null,null,null,null,null,null,null,null,null,null,null,null,null,null,null,null,null,null,null,null,null,null,null,null,null,null,null,null,null,null,null,null,null,null,null,null,null,null,null,null,null,null,null,null,null,null,null,null,0,0,0,0,0,null,null,null,null,null,null,null,null,null,null,null,null,null,null,null,null,null,null,null,null,null,null,null,null,null,null,null,null,null,null,null,null,null,null,null,null,null,null,null,null,null,0]
[null,null,null,null,null,null,null,null,null,null,null,null,null,null,null,null,null,null,null,null,null,null,null,null,null,null,null,null,null,null,null,null,null,null,null,null,null,null,null,null,null,null,null,null,null,null,null,null,null,null,null,null,null,null,null,null,null,null,null,null,null,null,null,null,null,null,null,null,null,null,null,null,null,null,null,null,null,null,null,null,null,null,null,null,null,null,null,null,null,null,null,null,null,null,null,0,0,0,0,0,null,null,null,null,null,null,null,null,null,null,null,null,null,null,null,null,null,null,null,null,null,null,null,null,null,null,null,null,null,null,null,null,null,null,null,null,null,null,null,null,null,0]
[null,null,null,null,null,null,null,null,null,null,null,null,null,null,null,null,null,null,null,null,null,null,null,null,null,null,null,null,null,null,null,null,null,null,null,null,null,null,null,null,null,null,null,null,null,null,null,null,null,null,null,null,null,null,null,null,null,null,null,null,null,null,null,null,null,null,null,null,null,null,null,null,null,null,null,null,null,null,null,null,null,null,null,null,null,null,null,null,null,null,null,null,null,null,null,0,0,0,0,0,null,null,null,null,null,null,null,null,null,null,null,null,null,null,null,null,null,null,null,null,null,null,null,null,null,null,null,null,null,null,null,null,null,null,null,null,null,null,null,null,null,0]
[null,null,null,null,null,null,null,null,null,null,null,null,null,null,null,null,null,null,null,null,null,null,null,null,null,null,null,null,null,null,null,null,null,null,null,null,null,null,null,null,null,null,null,null,null,null,null,null,null,null,null,null,null,null,null,null,null,null,null,null,null,null,null,null,null,null,null,null,null,null,null,null,null,null,null,null,null,null,null,null,null,null,null,null,null,null,null,null,null,null,null,null,null,null,null,0,0,0,0,0,null,null,null,null,null,null,null,null,null,null,null,null,null,null,null,null,null,null,null,null,null,null,null,null,null,null,null,null,null,null,null,null,null,null,null,null,null,null,null,null,null,0]
[null,null,null,null,null,null,null,null,null,null,null,null,null,null,null,null,null,null,null,null,null,null,null,null,null,null,null,null,null,null,null,null,null,null,null,null,null,null,null,null,null,null,null,null,null,null,null,null,null,null,null,null,null,null,null,null,null,null,null,null,null,null,null,null,null,null,null,null,null,null,null,null,null,null,null,null,null,null,null,null,null,null,null,null,null,null,null,null,null,null,null,null,null,null,null,0,0,0,0,0,null,null,null,null,null,null,null,null,null,null,null,null,null,null,null,null,null,null,null,null,null,null,null,null,null,null,null,null,null,null,null,null,null,null,null,null,null,null,null,null,null,0]
[null,null,null,null,null,null,null,null,null,null,null,null,null,null,null,null,null,null,null,null,null,null,null,null,null,null,null,null,null,null,null,null,null,null,null,null,null,null,null,null,null,null,null,null,null,null,null,null,null,null,null,null,null,null,null,null,null,null,null,null,null,null,null,null,null,null,null,null,null,null,null,null,null,null,null,null,null,null,null,null,null,null,null,null,null,null,null,null,null,null,null,null,null,null,null,0,0,0,0,0,null,null,null,null,null,null,null,null,null,null,null,null,null,null,null,null,null,null,null,null,null,null,null,null,null,null,null,null,null,null,null,null,null,null,null,null,null,null,null,null,null,0]
[null,null,null,null,null,null,null,null,null,null,null,null,null,null,null,null,null,null,null,null,null,null,null,null,null,null,null,null,null,null,null,null,null,null,null,null,null,null,null,null,null,null,null,null,null,null,null,null,null,null,null,null,null,null,null,null,null,null,null,null,null,null,null,null,null,null,null,null,null,null,null,null,null,null,null,null,null,null,null,null,null,null,null,null,null,null,null,null,null,null,null,null,null,null,null,0,0,0,0,0,null,null,null,null,null,null,null,null,null,null,null,null,null,null,null,null,null,null,null,null,null,null,null,null,null,null,null,null,null,null,null,null,null,null,null,null,null,null,null,null,null,0]
[null,null,null,null,null,null,null,null,null,null,null,null,null,null,null,null,null,null,null,null,null,null,null,null,null,null,null,null,null,null,null,null,null,null,null,null,null,null,null,null,null,null,null,null,null,null,null,null,null,null,null,null,null,null,null,null,null,null,null,null,null,null,null,null,null,null,null,null,null,null,null,null,null,null,null,null,null,null,null,null,null,null,null,null,null,null,null,null,null,null,null,null,null,null,null,0,0,0,0,0,null,null,null,null,null,null,null,null,null,null,null,null,null,null,null,null,null,null,null,null,null,null,null,null,null,null,null,null,null,null,null,null,null,null,null,null,null,null,null,null,null,0]
[null,null,null,null,null,null,null,null,null,null,null,null,null,null,null,null,null,null,null,null,null,null,null,null,null,null,null,null,null,null,null,null,null,null,null,null,null,null,null,null,null,null,null,null,null,null,null,null,null,null,null,null,null,null,null,null,null,null,null,null,null,null,null,null,null,null,null,null,null,null,null,null,null,null,null,null,null,null,null,null,null,null,null,null,null,null,null,null,null,null,null,null,null,null,null,0,0,0,0,0,null,null,null,null,null,null,null,null,null,null,null,null,null,null,null,null,null,null,null,null,null,null,null,null,null,null,null,null,null,null,null,null,null,null,null,null,null,null,null,null,null,0]
[null,null,null,null,null,null,null,null,null,null,null,null,null,null,null,null,null,null,null,null,null,null,null,null,null,null,null,null,null,null,null,null,null,null,null,null,null,null,null,null,null,null,null,null,null,null,null,null,null,null,null,null,null,null,null,null,null,null,null,null,null,null,null,null,null,null,null,null,null,null,null,null,null,null,null,null,null,null,null,null,null,null,null,null,null,null,null,null,null,null,null,null,null,null,null,0,0,0,0,0,null,null,null,null,null,null,null,null,null,null,null,null,null,null,null,null,null,null,null,null,null,null,null,null,null,null,null,null,null,null,null,null,null,null,null,null,null,null,null,null,null,0]
[null,null,null,null,null,null,null,null,null,null,null,null,null,null,null,null,null,null,null,null,null,null,null,null,null,null,null,null,null,null,null,null,null,null,null,null,null,null,null,null,null,null,null,null,null,null,null,null,null,null,null,null,null,null,null,null,null,null,null,null,null,null,null,null,null,null,null,null,null,null,null,null,null,null,null,null,null,null,null,null,null,null,null,null,null,null,null,null,null,null,null,null,null,null,null,0,0,0,0,0,null,null,null,null,null,null,null,null,null,null,null,null,null,null,null,null,null,null,null,null,null,null,null,null,null,null,null,null,null,null,null,null,null,null,null,null,null,null,null,null,null,0]
[null,null,null,null,null,null,null,null,null,null,null,null,null,null,null,null,null,null,null,null,null,null,null,null,null,null,null,null,null,null,null,null,null,null,null,null,null,null,null,null,null,null,null,null,null,null,null,null,null,null,null,null,null,null,null,null,null,null,null,null,null,null,null,null,null,null,null,null,null,null,null,null,null,null,null,null,null,null,null,null,null,null,null,null,null,null,null,null,null,null,null,null,null,null,null,0,0,0,0,0]
[null,null,null,null,null,null,null,null,null,null,null,null,null,null,null,null,null,null,null,null,null,null,null,null,null,null,null,null,null,null,null,null,null,null,null,null,null,null,null,null,null,null,null,null,null,null,null,null,null,null,null,null,null,null,null,null,null,null,null,null,null,null,null,null,null,null,null,null,null,null,null,null,null,null,null,null,null,null,null,null,null,null,null,null,null,null,null,null,null,null,null,null,null,null,null,0,0,0,0,0]
[null,null,null,null,null,null,null,null,null,null,null,null,null,null,null,null,null,null,null,null,null,null,null,null,null,null,null,null,null,null,null,null,null,null,null,null,null,null,null,null,null,null,null,null,null,null,null,null,null,null,null,null,null,null,null,null,null,null,null,null,null,null,null,null,null,null,null,null,null,null,null,null,null,null,null,null,null,null,null,null,null,null,null,null,null,null,null,null,null,null,null,null,null,null,null,0,0,0,0,0]
[null,null,null,null,null,null,null,null,null,null,null,null,null,null,null,null,null,null,null,null,null,null,null,null,null,null,null,null,null,null,null,null,null,null,null,null,null,null,null,null,null,null,null,null,null,null,null,null,null,null,null,null,null,null,null,null,null,null,null,null,null,null,null,null,null,null,null,null,null,null,null,null,null,null,null,null,null,null,null,null,null,null,null,null,null,null,null,null,null,null,null,null,null,null,null,0,0,0,0,0]

{"sheet":"VentillationJournées","index":3,"n_rows":84,"n_cols":123,"rows_kept":84,"cut":false,"hidden":true,"merged":[[74,38,74,41],[77,32,77,36],[52,35,52,37],[52,39,52,40],[53,39,53,40],[54,39,54,40],[55,39,55,40],[56,39,56,40],[51,39,51,40],[1,92,1,97],[1,98,1,103],[1,104,1,109],[1,118,1,122],[1,74,1,79],[1,80,1,85],[1,86,1,91],[46,39,46,40],[47,39,47,40],[48,39,48,40],[49,39,49,40],[50,39,50,40],[44,8,44,15],[44,39,44,40],[1,56,1,61],[1,62,1,67],[1,68,1,73],[0,111,0,116],[1,2,1,7],[1,8,1,13],[1,14,1,19],[1,20,1,25],[1,26,1,31],[1,32,1,37],[1,38,1,43],[1,44,1,49],[1,50,1,55]]}
[null,null,null,null,null,null,null,null,null,null,null,null,null,null,null,null,null,null,null,null,null,null,null,null,null,null,null,null,null,null,null,null,null,null,null,null,null,null,null,null,null,7,null,null,null,null,null,null,null,null,null,null,null,null,null,null,null,null,null,null,null,null,null,null,null,null,null,null,null,null,null,null,null,null,null,null,null,null,null,null,null,null,null,null,null,null,null,null,null,15,null,null,null,null,null,null,null,null,null,null,null,null,null,null,null,null,null,null,null,null,null,"RECAPITULATION PAR LIGNES"]
[null,null,{"$f":"DATE(Parametres!$A$2,Parametres!$A$3,Parametres!A4)+MOD(-DATE(Parametres!A2,Parametres!A3,-5),7)","v":"2018-10-20"},null,null,null,null,null,{"$f":"1+C2","v":"2018-10-21"},null,null,null,null,null,{"$f":"1+I2","v":"2018-10-22"},null,null,null,null,null,{"$f":"1+O2","v":"2018-10-23"},null,null,null,null,null,{"$f":"1+U2","v":"2018-10-24"},null,null,null,null,null,{"$f":"1+AA2","v":"2018-10-25"},null,null,null,null,null,{"$f":"1+AG2","v":"2018-10-26"},null,null,null,null,null,{"$f":"1+AM2","v":"2018-10-27"},null,null,null,null,null,{"$f":"1+AS2","v":"2018-10-28"},null,null,null,null,null,{"$f":"1+AY2","v":"2018-10-29"},null,null,null,null,null,{"$f":"1+BE2","v":"2018-10-30"},null,null,null,null,null,{"$f":"1+BK2","v":"2018-10-31"},null,null,null,null,null,{"$f":"1+BQ2","v":"2018-11-01"},null,null,null,null,null,{"$f":"1+BW2","v":"2018-11-02"},null,null,null,null,null,{"$f":"1+CC2","v":"2018-11-03"},null,null,null,null,null,{"$f":"1+CI2","v":"2018-11-04"},null,null,null,null,null,{"$f":"1+CO2","v":"2018-11-05"},null,null,null,null,null,{"$f":"1+CU2","v":"2018-11-06"},null,null,null,null,null,null,{"$f":"SUM(DH4:DH38)","v":80},114,123,86,47,1784.84,null,"Extraction pour ventillation compta"]
["NBR","Noms","Matin","Midi","Soir","Nuit"," Jour de vol\nClub","Frais \nDépensé\npar pilote","Matin","Midi","Soir","Nuit"," Jour de vol\nClub","Frais \nDépensé\npar pilote","Matin","Midi","Soir","Nuit"," Jour de vol\nClub","Frais \nDépensé\npar pilote","Matin","Midi","Soir","Nuit"," Jour de vol\nClub","Frais \nDépensé\npar pilote","Matin","Midi","Soir","Nuit"," Jour de vol\nClub","Frais \nDépensé\npar pilote","Matin","Midi","Soir","Nuit","Jour de vol\nClub","Frais \nDépensé\npar pilote","Matin","Midi","Soir","Nuit","Jour de vol\nClub","Frais \nDépensé\npar pilote","Matin","Midi","Soir","Nuit","Jour de vol\nClub","Frais \nDépensé\npar pilote","Matin","Midi","Soir","Nuit","Cotis\n Jour de vol\nClub","Frais \nDépensé\npar pilote","Matin","Midi","Soir","Nuit","Cotis\n Jour de vol\nClub","Frais \nDépensé\npar pilote","Matin","Midi","Soir","Nuit","Cotis\n Jour de vol\nClub","Frais \nDépensé\npar pilote","Matin","Midi","Soir","Nuit","Cotis\n Jour de vol\nClub","Frais \nDépensé\npar pilote","Matin","Midi","Soir","Nuit","Cotis\n Jour de vol\nClub","Frais \nDépensé\npar pilote","Matin","Midi","Soir","Nuit","Cotis\n Jour de vol\nClub","Frais \nDépensé\npar pilote","Matin","Midi","Soir","Nuit","Cotis\n Jour de vol\nClub","Frais \nDépensé\npar pilote","Matin","Midi","Soir","Nuit","Cotis\n Jour de vol\nClub","Frais \nDépensé\npar pilote","Matin","Midi","Soir","Nuit","Cotis\n Jour de vol\nClub","Frais \nDépensé\npar pilote","Matin","Midi","Soir","Nuit","Cotis\n Jour de vol\nClub","Frais \nDépensé\npar pilote",null,"Matin","Midi","Soir","Nuit"," Jour de vol\nClub","Frais \nDépensé\npar pilote","Satut stage","Paye le","Par \nCH ou\n Esp","Caisse","Solde \npayé","Solde\ndéfinitif"]
[1,"FERDINAND  Jean claude",0,0,0,0,0,0,0,0,0,0,0,0,0,0,0,0,0,0,0,0,0,0,0,0,1,0,0,0,0,null,1,1,2,1,0,null,0,1,1,1,0,null,1,1,1,1,0,null,1,1,0,0,0,null,0,0,0,0,0,null,null,null,null,null,0,null,null,null,null,null,0,null,null,null,null,null,0,null,null,null,null,null,0,null,null,null,null,null,0,null,null,null,null,null,0,null,null,null,null,null,0,null,null,null,null,null,0,null,null,{"$f":"SUM(C4,I4,O4,U4,AA4,AG4,AM4,AS4,AY4,BE4,BK4,BQ4,BW4,CC4,CI4,CN4,CO4,CU4,DA4)","v":4},{"$f":"SUM(D4,J4,P4,V4,AB4,AH4,AN4,AT4,AZ4,BF4,BL4,BR4,BX4,CD4,CJ4,CP4,CV4,DB4)","v":4},4,3,0,0,"P","13/11/2014","CH",0,90,{"$f":"[1]VentillationCompta!X4","v":"13/11/2014"}]
[2,"BOUZIGUES  Patrick",0,0,0,0,0,0,0,0,0,0,0,0,0,0,0,0,0,0,null,null,1,0,null,null,null,null,1,0,null,null,null,null,1,0,null,null,null,null,1,0,null,null,null,null,1,null,null,null,null,null,1,null,null,null,null,null,1,null,null,null,null,1,1,null,null,null,null,null,1,null,null,null,null,null,1,null,null,null,null,null,null,null,null,null,null,null,null,null,null,null,null,null,null,null,null,null,null,null,null,null,null,null,null,null,null,null,null,null,null,0,1,10,0,0,0,"V","30/10/2014","CH",0,53,{"$f":"[1]VentillationCompta!X5","v":"30/10/2014"}]
[3,"BIL  Bill",0,4,0,0,1,0,0,4,0,0,1,0,0,0,0,0,0,0,null,null,null,null,null,null,null,null,1,null,null,null,null,1,1,null,null,null,null,1,1,null,null,23.79,null,1,1,null,null,null,null,null,1,null,null,null,null,1,1,null,null,null,null,1,1,null,null,null,null,1,1,null,null,null,null,1,1,null,null,null,null,1,1,null,null,null,null,null,null,null,null,null,null,null,null,null,null,null,null,null,null,null,null,null,null,null,null,null,null,null,null,0,16,10,0,2,23.79,"P",0,"CH",0,50.21,{"$f":"[1]VentillationCompta!X6","v":"23/11/2014"}]
[4,"XX  Xx",0,0,0,0,1,40,0,0,0,0,0,0,0,0,0,0,0,0,null,null,1,null,null,null,null,1,1,null,null,null,null,1,1,null,null,null,null,1,1,null,null,null,null,1,1,null,null,null,null,null,1,null,null,null,null,1,1,null,null,null,null,1,1,null,null,null,null,1,1,null,null,null,null,1,1,null,null,null,null,null,null,null,null,null,null,null,null,null,null,null,null,null,null,null,null,null,null,null,null,null,null,null,null,null,null,null,null,null,null,0,8,10,0,1,40,"V",0,0,0,74,{"$f":"[1]VentillationCompta!X7","v":"23/11/2014"}]
[5,"YYY  Yy",0,0,0,0,0,0,0,0,0,0,0,0,0,0,0,0,0,0,0,0,0,0,0,0,0,0,0,0,0,0,0,0,0,0,0,0,0,0,0,0,0,0,0,0,0,0,0,0,0,0,0,0,0,0,0,0,0,0,0,0,0,0,0,0,0,0,0,0,0,0,0,0,0,0,0,0,0,0,0,0,0,0,0,0,0,0,0,0,0,0,0,0,0,0,0,0,0,0,0,0,0,0,0,0,0,0,0,0,null,0,0,0,0,0,0,"P","2014-11-05","CH",0,69,{"$f":"[1]VentillationCompta!X8","v":40308}]
[6,"BIENVENUE  Jean",0,0,0,0,0,0,0,0,0,0,0,0,0,0,0,0,0,0,null,null,null,null,null,null,null,null,null,null,null,null,null,null,null,null,null,null,null,null,null,null,null,null,null,null,null,null,null,null,null,null,1,1,null,null,1,1,1,1,null,null,1,1,1,1,null,null,1,1,1,1,null,null,1,1,0,0,null,null,0,0,null,null,null,null,null,null,null,null,null,null,null,null,null,null,null,null,null,null,null,null,null,null,null,null,null,null,null,null,null,4,4,4,4,0,0,"V",0,0,0,0,{"$f":"[1]VentillationCompta!X9","v":0}]
[7,"BIENVENUE  Manuel",0,0,0,0,0,0,0,0,0,0,0,0,0,0,0,0,0,0,null,null,null,null,null,null,null,null,null,null,null,null,null,null,null,null,null,null,null,null,null,null,null,null,null,null,null,null,null,null,null,null,null,null,null,null,null,null,null,null,null,null,null,null,null,null,null,null,null,null,1,1,null,null,1,1,0,0,null,null,null,null,null,null,null,null,null,null,null,null,null,null,null,null,null,null,null,null,null,null,null,null,null,null,null,null,null,null,null,null,null,1,1,1,1,0,0,"V",0,0,0,0,{"$f":"[1]VentillationCompta!X10","v":0}]
[8,"JONQUET  Alain",0,0,0,0,0,0,0,0,0,0,0,0,0,0,0,0,0,0,0,0,0,0,0,0,null,null,null,null,0,null,null,null,1,1,0,null,1,1,1,1,0,null,1,1,1,1,null,59.73,1,1,1,1,null,null,1,1,1,1,null,null,1,1,1,1,null,null,1,1,1,1,null,null,1,1,null,1,null,null,null,null,null,null,null,null,null,null,null,null,null,null,null,null,null,null,null,null,null,null,null,null,null,null,null,null,null,null,null,null,null,{"$f":"SUM(C11,I11,O11,U11,AA11,AG11,AM11,AS11,AY11,BE11,BK11,BQ11,BW11,CC11,CI11,CN11,CO11,CU11,DA11)","v":7},{"$f":"SUM(D11,J11,P11,V11,AB11,AH11,AN11,AT11,AZ11,BF11,BL11,BR11,BX11,CD11,CJ11,CP11,CV11,DB11)","v":7},{"$f":"SUM(E11,K11,Q11,W11,AC11,AI11,AO11,AU11,BA11,BG11,BM11,BS11,BY11,CE11,CK11,CQ11,CW11,DC11)","v":7},{"$f":"SUM(F11,L11,R11,X11,AD11,AJ11,AP11,AV11,BB11,BH11,BN11,BT11,BZ11,CF11,CL11,CR11,CX11,DD11)","v":8},{"$f":"SUM(G11,M11,S11,Y11,AE11,AK11,AQ11,AW11,BC11,BI11,BO11,BU11,CA11,CG11,CM11,CS11,CY11,DE11)","v":0},{"$f":"SUM(H11,N11,T11,Z11,AF11,AL11,AR11,AX11,BD11,BJ11,BP11,BV11,CB11,CH11,CN11,CT11,CZ11,DF11)","v":59.73},"P",0,"CH",0,62.4,{"$f":"[1]VentillationCompta!X11","v":"23/11/2014"}]
[9,"FABERES  Robert",0,0,0,0,0,0,0,0,0,0,0,0,0,0,0,0,0,0,0,0,0,0,null,0,null,null,null,null,null,null,null,null,null,null,null,null,null,null,null,null,null,null,null,null,null,null,null,null,null,null,null,null,null,null,null,1,null,null,null,null,null,null,null,null,null,null,null,null,null,null,null,null,null,null,null,null,null,null,null,null,null,null,null,null,null,null,null,null,null,null,null,null,null,null,null,null,null,null,null,null,null,null,null,null,null,null,null,null,null,0,1,0,0,{"$f":"SUM(G12,M12,S12,Y12,AE12,AK12,AQ12,AW12,BC12,BI12,BO12,BU12,CA12,CG12,CM12,CS12,CY12,DE12)","v":0},0,"V",0,0,0,3,{"$f":"[1]VentillationCompta!X12","v":"23/11/2014"}]
[10,"PEREZ  Michel",0,0,0,0,0,0,0,0,0,0,0,0,0,0,0,0,0,0,null,null,null,null,null,null,null,null,null,null,null,null,null,null,null,null,null,null,null,null,null,null,null,null,null,null,null,null,null,null,null,null,null,null,null,null,null,1,null,null,null,null,null,null,null,null,null,null,null,null,null,null,null,null,null,null,null,null,null,null,null,null,null,null,null,null,null,null,null,null,null,null,null,null,null,null,null,null,null,null,null,null,null,null,null,null,null,null,null,null,null,0,1,0,0,0,0,"V",0,0,0,3,{"$f":"[1]VentillationCompta!X13","v":"23/11/2014"}]
[11,"BOUZIGUES  Patrick",0,0,0,0,0,0,0,1,1,1,0,92.94,1,1,1,1,1,79.59,1,1,1,1,1,11.23,1,1,1,1,1,714,1,1,1,1,1,25.29,1,1,1,1,1,91.58,1,1,1,1,1,39.520000000000003,1,1,1,1,1,67.75,1,1,1,1,1,109.39,1,1,1,1,1,130.80000000000001,1,1,1,1,1,50.43,1,1,1,1,1,58.35,1,1,1,1,1,null,null,null,null,1,null,null,null,null,null,null,null,null,null,null,null,null,null,null,null,null,null,null,null,null,null,12,13,13,14,12,{"$f":"SUM(H14,N14,T14,Z14,AF14,AL14,AR14,AX14,BD14,BJ14,BP14,BV14,CB14,CH14,CN14,CT14,CZ14,DF14)","v":1470.87},"P",0,0,0,0,{"$f":"[1]VentillationCompta!X14","v":"21/11/2014"}]
[12,"BEAUMONT  Camille",0,0,0,0,0,0,0,0,0,0,0,0,0,0,0,0,0,0,null,null,null,null,null,null,null,null,null,null,null,null,null,null,null,null,null,null,null,null,null,null,null,null,null,null,1,1,null,null,1,1,1,1,1,null,1,1,1,1,1,null,1,1,1,1,0,null,1,1,1,1,1,null,1,1,null,null,1,null,null,null,null,null,null,null,null,null,null,null,null,null,null,null,null,null,null,null,null,null,null,null,null,null,null,null,null,null,null,null,null,5,5,5,5,4,0,"P",0,0,0,0,{"$f":"[1]VentillationCompta!X15","v":"23/11/2014"}]
[13,"DUCOURNEAU  Bernard",0,0,0,0,0,0,0,0,0,0,0,0,0,0,0,0,0,0,null,null,null,null,null,null,null,null,null,null,null,null,null,null,null,null,null,null,null,null,null,null,null,null,null,null,null,null,null,null,null,null,null,null,null,null,null,null,null,null,null,null,null,null,1,1,null,null,1,1,1,1,0,null,1,1,1,1,null,null,1,1,1,1,null,null,0,null,null,1,null,null,null,null,null,null,null,null,null,null,null,null,null,null,null,null,null,null,null,null,null,3,3,4,5,0,0,"V",0,0,0,71.099999999999994,{"$f":"[1]VentillationCompta!X16","v":0}]
[14,"MERCIER  Marie francoise",0,0,0,0,0,0,0,0,0,0,0,0,0,0,0,0,0,0,null,null,1,1,1,null,1,1,3,1,null,80.86,1,1,null,null,null,41.63,null,null,null,null,null,null,null,null,null,null,null,null,null,1,null,null,1,null,null,null,null,null,null,null,null,null,null,null,null,null,null,null,null,null,null,null,null,null,null,null,null,null,null,null,1,null,null,null,null,null,null,null,null,null,null,null,null,null,null,null,null,null,null,null,null,null,null,null,null,null,null,null,null,2,3,5,2,2,122.49,"P",0,0,0,0,{"$f":"[1]VentillationCompta!X17","v":0}]
[15,"L48  A",0,0,0,0,0,0,0,0,0,0,0,0,0,0,0,0,0,0,null,null,1,1,null,null,1,1,null,null,0,null,null,null,null,null,null,null,null,null,1,null,null,null,null,null,null,null,null,null,null,null,null,null,null,null,null,null,null,null,null,null,null,null,null,null,null,null,null,null,null,null,null,null,null,null,null,null,null,null,null,null,null,null,null,null,null,null,null,null,null,null,null,null,null,null,null,null,null,null,null,null,null,null,null,null,null,null,null,null,null,1,1,2,1,0,0,"V",0,0,0,24.13,{"$f":"[1]VentillationCompta!X18","v":40401}]
[16,"FISCHER  Geoffrey",0,0,0,0,0,0,0,0,0,0,0,0,0,1,1,1,0,0,1,1,1,1,1,null,1,1,1,1,null,null,1,1,1,1,1,null,1,1,1,null,1,null,null,null,null,null,null,null,null,null,null,null,null,null,null,null,null,null,null,null,null,null,null,null,null,null,null,null,null,null,null,null,null,null,null,null,null,null,null,null,null,null,null,null,null,null,null,null,null,null,null,null,null,null,null,null,null,null,null,null,null,null,null,null,null,null,null,null,null,4,5,5,4,3,0,"P",0,0,0,74.28,{"$f":"[1]VentillationCompta!X19","v":0}]
[17,"POLLY  X",0,0,0,0,0,0,0,0,0,0,0,0,0,0,0,0,0,0,null,null,null,null,null,null,null,null,null,null,null,null,null,null,null,null,null,null,null,null,null,null,null,null,null,null,null,null,null,null,null,null,null,null,null,null,null,null,null,null,null,null,null,1,1,1,null,null,1,1,1,1,1,null,1,null,1,1,null,null,1,1,1,1,0,null,1,null,null,null,1,null,null,null,null,null,null,null,null,null,null,null,null,null,null,null,null,null,null,null,null,4,{"$f":"SUM(D20,J20,P20,V20,AB20,AH20,AN20,AT20,AZ20,BF20,BL20,BR20,BX20,CD20,CJ20,CP20,CV20,DB20)","v":3},4,4,2,0,"V",0,0,0,65,{"$f":"[1]VentillationCompta!X20","v":0}]
[18,"CA  X",0,0,0,0,0,0,0,0,0,0,0,0,0,0,0,0,0,0,null,null,null,null,null,null,null,null,null,null,null,null,null,null,null,null,null,null,null,null,null,null,null,null,null,null,null,null,null,null,null,null,null,null,null,null,null,null,null,null,null,null,null,null,null,null,null,null,null,null,null,null,null,null,null,null,null,null,null,null,null,null,null,null,null,null,null,null,null,null,null,null,null,null,null,null,null,null,null,null,null,null,null,null,null,null,null,null,null,null,null,0,0,0,0,0,0,"V",0,0,0,0,{"$f":"[1]VentillationCompta!X21","v":0}]
[19,"FRED  X",0,0,0,0,0,0,0,0,0,0,0,0,0,0,0,0,0,0,null,null,null,null,null,null,null,null,null,null,null,null,null,null,null,null,null,null,null,null,null,null,null,null,null,null,null,null,null,null,null,null,null,null,null,null,null,null,null,null,null,null,null,null,null,null,null,null,null,null,1,1,null,null,1,1,1,1,null,null,1,1,1,1,null,null,null,null,null,null,null,null,null,null,null,null,null,null,null,null,null,null,null,null,null,null,null,null,null,null,null,2,2,3,3,0,0,"V",0,"CH",0,46.56,{"$f":"[1]VentillationCompta!X22","v":0}]
[20,"FARIA  Nicolas",0,0,0,0,0,0,0,0,0,0,0,0,0,0,0,0,0,0,null,null,null,null,null,null,null,null,null,null,null,null,null,null,null,null,null,null,null,null,null,null,null,null,null,null,null,null,null,null,null,null,null,null,null,null,null,null,null,null,null,null,null,null,null,null,null,null,null,null,null,null,null,null,null,null,null,null,null,null,null,null,null,null,null,null,null,null,null,null,null,null,null,null,null,null,null,null,null,null,null,null,null,null,null,null,null,null,null,null,null,0,0,0,0,0,0,"P",0,0,0,0,{"$f":"[1]VentillationCompta!X23","v":0}]
[21,"PASTOR  Bernard",0,0,0,0,0,0,0,0,0,0,0,0,0,0,0,0,0,0,null,null,null,null,null,null,null,null,null,null,null,null,null,null,null,null,null,null,null,1,1,1,null,null,1,1,1,1,1,null,1,1,null,null,null,null,null,null,null,null,null,null,null,null,null,null,null,null,null,null,null,null,null,null,null,null,null,null,null,null,null,null,null,null,null,null,null,null,null,null,null,null,null,null,null,null,null,null,null,null,null,null,null,null,null,null,null,null,null,null,null,2,3,2,2,1,0,"P",0,"CH",0,36.57,{"$f":"[1]VentillationCompta!X24","v":0}]
[22,"GRABE  Olivier",0,0,0,0,0,0,0,0,0,0,0,55.83,0,1,0,0,0,6.63,null,null,null,null,null,null,null,null,null,null,null,null,null,null,null,null,null,null,null,null,null,null,null,null,null,null,null,null,null,null,null,null,1,1,null,null,1,1,null,null,null,5.5,null,null,null,null,null,null,null,null,null,null,null,null,null,null,null,null,null,null,null,null,null,null,null,null,null,null,null,null,null,null,null,null,null,null,null,null,null,null,null,null,null,null,null,null,null,null,null,null,null,1,2,1,1,0,67.959999999999994,"P",0,0,0,0,{"$f":"[1]VentillationCompta!X25","v":"21/11/2014"}]
[23,"MONTORIO  Céline",0,0,0,0,0,0,0,0,0,0,0,0,0,1,0,0,0,0,null,null,null,null,null,null,null,null,null,null,null,null,null,null,null,null,null,null,null,null,null,null,null,null,null,null,null,null,null,null,null,null,1,1,null,null,1,1,null,null,0,null,null,null,null,null,null,null,null,null,null,null,null,null,null,null,null,null,null,null,null,null,null,null,null,null,null,null,null,null,null,null,null,null,null,null,null,null,null,null,null,null,null,null,null,null,null,null,null,null,null,1,2,1,1,0,0,"P",0,0,0,0,{"$f":"[1]VentillationCompta!X26","v":0}]
[24,"CATTARRINNUSI  Paul",0,0,0,0,0,0,0,0,0,0,0,0,0,1,1,1,1,0,1,1,1,1,1,null,1,1,1,1,1,null,1,1,1,1,1,null,1,1,1,null,0,null,null,null,null,null,null,null,null,null,null,null,null,null,null,null,null,null,null,null,null,null,null,null,null,null,null,null,null,null,null,null,null,null,null,null,null,null,null,null,null,null,null,null,null,null,null,null,null,null,null,null,null,null,null,null,null,null,null,null,null,null,null,null,null,null,null,null,null,4,5,5,4,4,0,"P",0,"CH",0,76.06,{"$f":"[1]VentillationCompta!X27","v":0}]
[25,"MAUREL  Phillipe",0,0,0,0,0,0,0,0,0,0,0,0,0,0,0,0,0,0,null,null,null,null,null,null,null,null,null,null,null,null,null,null,null,null,null,null,null,null,null,null,null,null,null,null,null,null,null,null,null,null,null,null,null,null,null,null,null,null,1,null,null,null,null,null,null,null,null,null,null,null,null,null,null,null,null,null,null,null,null,null,null,null,null,null,null,null,null,null,null,null,null,null,null,null,null,null,null,null,null,null,null,null,null,null,null,null,null,null,null,0,0,0,0,1,0,"P",0,0,0,0,{"$f":"[1]VentillationCompta!X28","v":0}]
[26,"MAUREL  Benjamin",0,0,0,0,0,0,0,0,0,0,0,0,0,0,0,0,0,0,0,1,1,1,1,null,1,1,1,1,1,null,1,1,1,1,1,null,1,1,1,1,1,null,1,1,null,null,null,null,null,null,null,null,null,null,null,null,null,null,null,null,null,null,null,null,null,null,null,null,null,null,null,null,null,null,null,null,null,null,null,null,null,null,null,null,null,null,null,null,null,null,null,null,null,null,null,null,null,null,null,null,null,null,null,null,null,null,null,null,null,4,5,4,4,4,0,"P",0,0,0,71,{"$f":"[1]VentillationCompta!X29","v":0}]
[27,"MICHELOT  Pierre",0,0,0,0,0,0,0,0,1,1,0,0,1,1,1,1,1,0,1,1,1,1,1,null,1,1,1,1,1,null,1,1,1,1,1,null,1,1,1,null,null,null,null,null,null,null,null,null,null,null,null,null,null,null,null,null,null,null,null,null,null,null,null,null,null,null,null,null,null,null,null,null,null,null,null,null,null,null,null,null,null,null,null,null,null,null,null,null,null,null,null,null,null,null,null,null,null,null,null,null,null,null,null,null,null,null,null,null,null,5,5,6,5,4,0,"P",0,0,0,90.08,{"$f":"[1]VentillationCompta!X30","v":0}]
[28,"MICHELOT  Francois",0,0,0,0,0,0,0,0,2,2,0,0,2,0,0,0,0,0,null,null,null,null,null,null,null,null,null,null,null,null,null,null,null,null,null,null,null,null,null,null,null,null,null,null,null,null,null,null,null,null,null,null,null,null,null,null,null,null,null,null,null,null,null,null,null,null,null,null,null,null,null,null,null,null,null,null,null,null,null,null,null,null,null,null,null,null,null,null,null,null,null,null,null,null,null,null,null,null,null,null,null,null,null,null,null,null,null,null,null,2,0,2,2,0,0,"V",0,0,0,28.03,{"$f":"[1]VentillationCompta!X31","v":0}]
[29,"ISNARD  Mathieu",0,0,0,0,0,0,0,0,0,0,0,0,0,0,0,0,0,0,null,null,1,1,null,null,1,1,1,1,0,null,1,1,1,1,0,null,1,1,null,null,null,null,null,null,null,null,null,null,null,null,null,null,null,null,null,null,null,null,null,null,null,null,null,null,null,null,null,null,null,null,null,null,null,null,null,null,null,null,null,null,null,null,null,null,null,null,null,null,null,null,null,null,null,null,null,null,null,null,null,null,null,null,null,null,null,null,null,null,null,3,3,3,3,0,0,"V",0,0,0,51,{"$f":"[1]VentillationCompta!X32","v":0}]
[30,"LABADIE  Louis",0,0,0,0,0,0,0,0,0,0,0,0,0,1,1,1,1,0,1,1,1,1,1,null,1,1,1,1,1,null,1,1,1,1,1,null,1,1,2,null,1,null,null,null,null,null,null,null,null,null,null,null,null,null,null,null,null,null,null,null,null,null,null,null,null,null,null,null,null,null,null,null,null,null,null,null,null,null,null,null,null,null,null,null,null,null,null,null,null,null,null,null,null,null,null,null,null,null,null,null,null,null,null,null,null,null,null,null,null,4,5,6,4,5,0,"P",0,0,0,79.28,{"$f":"[1]VentillationCompta!X33","v":0}]
[31,"MARTIN  Yoan",0,0,0,0,0,0,0,0,0,0,0,0,0,0,0,0,0,0,null,null,null,null,null,null,null,null,null,null,null,null,null,null,null,null,null,null,null,null,null,null,null,null,null,null,null,null,null,null,null,1,1,1,null,null,1,1,1,1,1,null,1,1,null,null,1,null,null,null,null,null,null,null,null,null,null,null,null,null,null,null,null,null,null,null,null,null,null,null,null,null,null,null,null,null,null,null,null,null,null,null,null,null,null,null,null,null,null,null,null,2,3,2,2,2,0,"P",0,0,0,37.03,{"$f":"[1]VentillationCompta!X34","v":0}]
[32,"FARIA  Marie farnce",0,0,0,0,0,0,0,0,0,0,0,0,0,0,0,0,0,0,null,null,null,null,null,null,null,null,null,null,null,null,null,null,null,0,null,null,null,null,null,0,null,null,0,null,null,null,null,null,null,null,null,null,null,null,null,null,null,null,null,null,null,null,null,null,null,null,null,null,null,null,null,null,null,null,null,null,null,null,null,null,null,null,null,null,null,null,null,null,null,null,null,null,null,null,null,null,null,null,null,null,null,null,null,null,null,null,null,null,null,0,0,0,0,0,0,"P",0,0,0,0,{"$f":"[1]VentillationCompta!X35","v":0}]
[33,"MARIF  Ami",0,0,0,0,0,0,0,0,0,0,0,0,0,0,0,0,0,0,null,null,null,null,null,null,null,null,null,null,null,null,null,null,null,null,null,null,null,null,null,null,null,null,null,null,null,null,null,null,null,null,2,2,null,null,2,2,null,null,null,null,null,null,null,null,null,null,null,null,null,null,null,null,null,null,null,null,null,null,null,null,null,null,null,null,null,null,null,null,null,null,null,null,null,null,null,null,null,null,null,null,null,null,null,null,null,null,null,null,null,2,2,2,2,0,0,"V",0,0,0,34,{"$f":"[1]VentillationCompta!X36","v":0}]
[34,"MAJOT  Laurent",0,0,0,0,0,0,0,0,0,0,0,0,0,0,0,0,0,0,null,null,null,null,null,null,null,null,null,null,null,null,null,null,null,null,null,null,null,null,null,null,null,null,null,null,null,null,null,null,null,null,null,null,null,null,null,null,null,null,null,null,null,null,null,null,null,null,null,null,1,1,null,null,1,1,1,1,null,null,null,null,null,null,null,null,null,null,null,null,null,null,null,null,null,null,null,null,null,null,null,null,null,null,null,null,null,null,null,null,null,1,1,2,2,0,0,"V",0,0,0,29.53,{"$f":"[1]VentillationCompta!X37","v":"21/11/2014"}]
[35,"XX  Xx",0,0,0,0,0,0,0,0,0,0,0,0,0,0,0,0,0,0,0,0,0,0,0,0,0,0,0,0,0,0,0,0,0,0,0,0,0,0,0,0,0,0,0,0,0,0,0,0,0,0,0,0,0,0,0,0,0,0,0,0,0,0,0,0,0,0,0,0,0,0,0,0,0,0,0,0,0,0,0,0,0,0,0,0,0,0,0,0,0,0,0,0,0,0,0,0,0,0,0,0,0,0,0,0,0,0,0,0,null,0,0,0,0,0,0,"P",0,0,0,0,{"$f":"[1]VentillationCompta!X38","v":0}]
[null,null,null,null,null,null,null,0,null,null,null,null,null,null,null,null,null,null,null,null,null,null,null,null,null,null,null,null,null,null,null,null,null,null,null,null,null,null,null,null,null,null,null,null,null,null,null,null,null,null,null,null,null,null,null,null,null,null,null,null,null,null,null,null,null,null,null,null,null,null,null,null,null,null,null,null,null,null,null,null,null,null,null,null,null,null,null,null,null,null,null,null,null,null,null,null,null,null,null,null,null,null,null,null,null,null,null,null,null,null,null,0,0,0,0,0,0,null,0,0,0,0,{"$f":"[1]VentillationCompta!X39","v":0}]
[null,null,null,null,null,null,null,0,null,null,null,null,null,null,null,null,null,null,null,null,null,null,null,null,null,null,null,null,null,null,null,null,null,null,null,null,null,null,null,null,null,null,null,null,null,null,null,null,null,null,null,null,null,null,null,null,null,null,null,null,null,null,null,null,null,null,null,null,null,null,null,null,null,null,null,null,null,null,null,null,null,null,null,null,null,null,null,null,null,null,null,null,null,null,null,null,null,null,null,null,null,null,null,null,null,null,null,null,null,null,null,0,0,0,0,0,0,null,0,0,0,0,{"$f":"[1]VentillationCompta!X40","v":0}]
[null,null,null,null,null,null,null,0,null,null,null,null,null,null,null,null,null,null,null,null,null,null,null,null,null,null,null,null,null,null,null,null,null,null,null,null,null,null,null,null,null,null,null,null,null,null,null,null,null,null,null,null,null,null,null,null,null,null,null,null,null,null,null,null,null,null,null,null,null,null,null,null,null,null,null,null,null,null,null,null,null,null,null,null,null,null,null,null,null,null,null,null,null,null,null,null,null,null,null,null,null,null,null,null,null,null,null,null,null,null,null,0,0,0,0,0,0,null,0,0,0,0,{"$f":"[1]VentillationCompta!X41","v":0}]
[null,null,null,null,null,null,null,0,null,null,null,null,null,null,null,null,null,null,null,null,null,null,null,null,null,null,null,null,null,null,null,null,null,null,null,null,null,null,null,null,null,null,null,null,null,null,null,null,null,null,null,null,null,null,null,null,null,null,null,null,null,null,null,null,null,null,null,null,null,null,null,null,null,null,null,null,null,null,null,null,null,null,null,null,null,null,null,null,null,null,null,null,null,null,null,null,null,null,null,null,null,null,null,null,null,null,null,null,null,null,null,0,0,0,0,0,0,null,0,0,0,0,{"$f":"[1]VentillationCompta!X42","v":0}]
[null,null,null,null,null,null,null,0,null,null,null,null,null,null,null,null,null,null,null,null,null,null,null,null,null,null,null,null,null,null,null,null,null,null,null,null,null,null,null,null,null,null,null,null,null,null,null,null,null,null,null,null,null,null,null,null,null,null,null,null,null,null,null,null,null,null,null,null,null,null,null,null,null,null,null,null,null,null,null,null,null,null,null,null,null,null,null,null,null,null,null,null,null,null,null,null,null,null,null,null,null,null,null,null,null,null,null,null,null,null,null,0,0,0,0,0,0,null,0,0,0,0,{"$f":"[1]VentillationCompta!X43","v":0}]
[null,null,null,null,null,null,null,0,null,null,null,null,null,null,null,null,null,null,null,null,null,null,null,null,null,null,null,null,null,null,null,null,null,null,null,null,null,null,null,null,null,null,null,null,null,null,null,null,null,null,null,null,null,null,null,null,null,null,null,null,null,null,null,null,null,null,null,null,null,null,null,null,null,null,null,null,null,null,null,null,null,null,null,null,null,null,null,null,null,null,null,null,null,null,null,null,null,null,null,null,null,null,null,null,null,null,null,null,null,null,null,0,0,0,0,0,0,null,0,0,0,0,{"$f":"[1]VentillationCompta!X44","v":0}]
[]
[]
[]
[]
[]
[]
[]
[]
[]
[]
[]
[]
[]
[]
[]
[]
[]
[]
[]
[]
[]
[]
[]
[]
[]
[]
[]
[]
[]
[]
[]
[]
[]
[]
[]
[]
[]
[null,null,null,null,null,null,null,null,null,null,null,null,null,null,null,null,null,null,null,null,null,null,null,null,null,{"$f":"SUM(Z48:Z77)","v":0}]
[]
[null,null,null,null,null,null,null,null,null,null,null,null,null,null,null,null,null,null,null,{"$f":"SUM(T63)+T62+T60+T50+T48","v":0}]

{"sheet":"FicheClubAcceuillant","index":4,"n_rows":41,"n_cols":4,"rows_kept":41,"cut":false,"hidden":true,"merged":[[5,0,5,3],[6,0,6,3],[37,2,38,3],[37,1,38,1],[19,1,19,3],[32,2,32,3],[36,0,36,1],[23,1,23,2],[35,2,36,3],[27,2,27,3],[31,2,31,3],[33,2,33,3],[34,2,34,3],[28,2,28,3],[30,2,30,3]]}
[]
["Date d'enregistrement",{"$f":"TODAY()","v":"2018-06-20"}]
[]
["Nom du Club",{"$f":"Parametres!$B$26","v":"Aire sur l'Adour"}]
[]
[{"$f":"Parametres!$B$23","v":"Aéroclub de Luchon"}]
[{"$f":"Parametres!$A$2","v":2018}]
[]
[]
[]
[]
[]
[]
["Civilité","M"]
[]
["Nom","BOUZIGUES","Prénom","Patrick"]
[]
["Date de naissance",null,"Profession"]
[]
["Adresse complette"," - 64121 - MONTARDON"]
[]
["Téléphone"]
[]
["Mail"]
[]
[null,"jcferdinand@gmail.com"]
[]
[null,null,"PLANEUR"]
["Pilote","N° de licence"]
["et"]
["Instructeur","N° Instructeur, x = oui"]
[]
[null,"Visite médicale"]
[null,"Fin Visite médicale"]
[null,"Nombre d'heure montagne"]
[null,null,1]
["Nombre de jour de stage"]
[null,"A payer au club ",{"$f":"SUM(C36)*Parametres!AE5","v":5}]
[]
[]
["Signature"]

{"sheet":"DGAC","index":5,"n_rows":29,"n_cols":6,"rows_kept":29,"cut":false,"hidden":true,"merged":[[25,3,25,5],[13,3,13,5],[14,3,14,4],[17,1,26,1],[17,2,17,3],[18,2,18,3],[19,2,19,3],[20,2,20,3],[20,4,20,5],[21,2,21,3],[22,2,22,3],[12,3,12,4],[1,1,3,1],[4,1,8,1],[8,3,8,5],[9,3,9,5],[10,3,10,5]]}
[]
[null,null,null,36,"DATE :","2021-04-27"]
[null,null,null,36,"HEURE :","18:57:29"]
[null,null,null,null,"LIEU : N°","Auch"]
[null,"          APPAREIL\n\n1. PROPRIETAIRE\n2. LOCATAIRE\n3. EXPLOITANT\n","Immatriculation :","ZS-GDE"]
[null,null,"Marque et type :","JS1-C"]
[null,null,"Aérodrome d’attache :","Pole france / Armée de l'air"]
[null,null,"Nom (ou raison sociale) :"]
[null,null,"Adresse planeur :"]
[null,"PILOTE","Nom & Prénom (s) :","Christophe - COUSSEAU"]
[null,null,"Adresse :","33, allée Christian Martell 13300 Salon de provence"]
[null,null,"Né le :","1983-12-05"]
[null,null,"à :"]
[null,null,"Profession :"]
[null,null,"License N° :",36]
[null,null,"Certificat médical délivré le :",null,"Valable jusqu’au :"]
[null,null,"Carnet de route à bord :"]
[null,"Documents\nAccès Aide Memento\nPolice Aéronautique\n\nAccès Aide Memento\nPolice Aéronautique\n\nAccès Aide Memento\nPolice Aéronautique\n\nAccès Aide Memento\nPolice Aéronautique\n\nAccès Aide Memento\nPolice Aéronautique\n\nAccès Aide Memento\nPolice Aéronautique\n\nAccès Aide Memento\nPolice Aéronautique\n\n",null,null,"Délivrance :"]
[null,null,null,null," Délivrance :"]
[null,null,null,null,"Délivrance :"]
[]
[null,null,null,null," Validité :"]
[null,null,"Fiche de pesée Centrage à bord :"]
[null,null,"Manuel de Vol à bord : "]
[null,null,"Personne à prévenir :"]
[null,null,"Nom & Prénom (s) :"]
[null,null,"Téléphone :"]
[]
[null,"Date :",{"$f":"TODAY()","v":"2018-06-20"},"Signature:"]

{"sheet":"Parametres","index":6,"n_rows":34,"n_cols":59,"rows_kept":34,"cut":false,"hidden":true,"merged":[[8,10,8,12],[1,14,1,15],[3,14,3,15],[0,2,0,15],[4,14,4,15],[5,14,5,15],[6,14,6,15],[7,14,7,15],[13,14,13,15],[9,14,9,15],[11,14,11,15],[12,14,12,15],[0,27,0,30],[0,17,0,18],[0,22,0,24],[0,20,0,21],[10,14,10,15],[0,36,0,39],[2,36,2,39],[3,36,3,39],[4,34,4,35],[4,36,4,37],[6,34,6,41],[13,34,13,41],[15,35,15,37],[15,39,15,42],[16,35,16,37],[16,39,16,42],[17,35,17,37],[17,39,17,42],[18,35,18,37],[18,39,18,42],[19,35,19,37],[19,39,19,42],[20,35,20,37],[20,39,20,42],[21,35,21,37],[21,39,21,42],[22,35,22,37],[22,39,22,42],[28,39,28,42],[23,35,23,37],[23,39,23,42],[24,35,24,37],[24,39,24,42],[25,35,25,37],[25,39,25,42],[33,36,33,37],[32,35,32,37],[32,39,32,42],[5,34,5,35],[5,36,5,37],[29,35,29,37],[29,39,29,42],[30,35,30,37],[30,39,30,42],[31,35,31,37],[31,39,31,42],[26,35,26,37],[26,39,26,42],[27,35,27,37],[27,39,27,42],[28,35,28,37]]}
["Paramètres dates",null,"Saisir les sommes par ventillation des rubriques",null,null,null,null,null,null,null,null,null,null,null,null,null,null,"Banque",null,"Colonne=20","Code OACI",null,"Liste planeur et prix",null,null,"Club","Maxi facturer","Frais Remorqué et treuil",null,null,null,"Couleur texte",null,null,null,null,"Dates et Durée et lieu  effective ",null,null,null,null,null,null,null,null,null,null,null,null,null,null,null,"ID","FACTURES",null,null,"Descriptif","Chemins des divers dossiers "]
[2018,null,"LOYER et charges",null,null,null,null,null,null,null,null,null,null,null,556,null,null,"Crédit Mutuel",null,null,"Autres",null,"JANUS B-PR","F-CEPR",24,"Aire","04:00:00",null,"Centiémes","Treuillé","Journée","J",null,null,null,null,null,null,null,null,null,null,null,null,null,null,null,null,null,null,null,null,"RE",101600]
[10,null,"PRIX DE LA NUIT",null,null,null,null,null,null,null,null,null,{"$f":"SUM(O2)/M4","v":14.63},null,null,null,null,"La Poste",null,null,"Local",null,"LIBELLE","F-CELG",20,"Aire","03:00:00","Membres club",1.8,9,null,"P",null,null,null,"Premier jour",{"$f":"$AJ$16","v":"2018-10-20"},null,null,null,null,null,null,null,null,null,null,null,null,null,null,null,null,null,null,null,"Relevé de compte pilotes","D:\\Stage Aire\\Stage-2018\\ReleveCompte","BF3"]
[17,null,"Nombre de nuit estimé aux inscriptions",null,null,null,null,null,null,{"$f":"Licencies!$CV$2","v":0},"Réelles",null,38,null,null,null,null,"Crédit Lyonnais",null,null,"Circuit",null,"PEGASE EU","F-CHEU",22,"Aire","03:00:00","Membres Extérieur",2.2000000000000002,10,null,"M",null,null,null,"Dernier jour",{"$f":"$AJ$33","v":"2018-11-04"},null,null,null,null,null,null,null,null,null,null,null,null,null,null,null,"ID","PLANCHE",null,null,"Planches de vols par jours","D:\\Stage Aire\\Stage-2018\\PDF-Planches","BF4"]
[{"$f":"$AJ$16","v":"2018-10-20"},null,"PRIX  petit déjeuner   Matin",null,null,null,null,null,null,null,null,null,null,null,1.6,null,null,"Banque Populaire",null,null,"LFDA","Aire / Adour","ASTIR","F-CECC",20,"Aire","03:00:00","Participation journaliére au club",null,null,5,"S",null,null,"Nombre de jours :",null,{"$f":"$AJ$34","v":16},null,null,null,null,null,null,null,null,null,null,null,null,null,null,null,"PL","04-2015-01",null,null,"Factures pilotes","D:\\Stage Aire\\Stage-2018\\PDF-FAC","BF5"]
[null,null,"PRIX  repas  Midi",null,null,null,null,null,null,null,null,null,null,null,3.6,null,null,"CIC",null,null,"LFDM","Marmande","CIRRUS","F-CFDA",20,"Aire","03:00:00",null,null,null,null,"N",null,null,"Lieu du stage  :",null,{"$f":"$AN$33","v":"Luchon"},null,null,null,null,null,null,null,null,null,null,null,null,null,null,null,null,null,null,null,"Archives dossier","D:\\Stage Aire\\Stage-2018\\Archives","BF6"]
[null,null,"PRIX  repas Soir",null,null,null,null,null,null,null,null,null,null,null,5.0999999999999996,null,null,"Crédit Agricole",null,null,"LFDT","Tarbes","TWIN","F-CFYB",20,"Aire","03:00:00",null,null,null,null,null,null,null,null,null,null,null,null,null,null,null,null,null,null,null,null,null,null,null,null,null,null,null,null,null,"Dossier stages AIRE","D:\\Stage Aire\\Stage-2018","BF7"]
[null,null,"PRIX  de la nuit",null,null,null,null,null,null,null,null,null,null,null,{"$f":"SUM(M3)","v":14.63},null,null,"HSBC",null,null,"LFCO","oloron","Pegase VE","F-CVVE",22,"Aire","03:00:00",null,null,null,null,null,null,null,null,null,null,null,null,null,null,null,null,null,null,null,null,null,null,null,null,null,null,null,null,null,"Fiche pilotes jours volés","D:\\Stage Aire\\Stage-2018\\PDF-Fiche","BF8"]
[null,null,"Frais divers convoyage ou autres =",null,null,null,null,null,null,null,null,null,null,null,null,null,null,"Caisse d'épargne",null,null,"LFCB","Luchon","Pegase EP","F-CGEP",20,"Luchon","03:00:00"]
[null,null,"Montant du convoyage par nuitées ",null,null,null,null,null,null,null,null,null,null,null,{"$f":"SUM(K9)/M4","v":0},null,null,"Chéque Cadeaux",null,null,null,null,"Janus B-PI","F-CEPI",28,"Luchon","03:00:00"]
[null,null,"Relicat de 2015 printemps",null,null,null,null,null,null,null,null,null,0,null,{"$f":"SUM(M11)/M4","v":0},null,null,"BNP Paribas",null,null,null,null,"ALLIANCE","F-CJHH",null,"Luchon","03:00:00"]
[null,null,null,null,null,null,null,null,null,null,null,null,null,null,null,null,null,"Société Générale",null,null,null,null,"ASK 21","F-CDCY",null,"Bourg","03:00:00"]
[null,null,null,null,null,null,null,null,null,null,null,null,null,null,null,null,null,null,null,null,null,null,"Janus C",null,28,"Luchon","03:00:00"]
[null,null,null,null,null,null,null,null,null,null,null,null,null,null,null,null,null,null,null,null,null,null,"LS6 ",null,25,"Luchon","03:00:00",null,null,null,null,null,null,null,"DUREE, DATES et LIEUX"]
[null,null,null,null,null,null,null,null,null,null,null,null,null,null,null,null,null,null,null,null,null,null,"SF28 18m Cellule",null,20,"Luchon","03:00:00",null,null,null,null,null,null,null,"Nombre de jours",16,"1) Indiquer le nombre de jours prévu maximum 17 jours"]
[null,null,null,null,null,null,null,null,null,null,null,null,null,null,null,null,null,null,null,null,null,null,"SF28 18m Moteur",null,45,"Luchon","03:00:00",null,null,null,null,null,null,null,"1er jour","2018-10-20",null,null,"Lieu :","Luchon",null,null,null,{"$f":"IF(AN16=\"\",0,1)","v":1},"2)  MANUELLEMENT VEUILLEZ  Indiquer la date au format 01/01/2000  en AJ16   ET LE NOM DU STAGE en AN 16"]
[null,null,null,null,null,null,null,null,null,null,null,null,null,null,null,null,null,null,null,null,null,null,null,null,null,null,null,null,null,null,null,null,null,null,"Jour 2",{"$f":"IF(AJ15>1,AJ16+1,\"\")","v":"2018-10-21"},null,null,{"$f":"IF(AN17=\"\",\"\",\"Lieu :\")","v":"Lieu :"},{"$f":"IF(AJ17=\"\",\"\",AN16)","v":"Luchon"},null,null,null,1,{"$f":"IF(AN17=\"\",\"\",\"(Affichage automatique : ne modifier que si nécessaire)\")","v":"(Affichage automatique : ne modifier que si nécessaire)"}]
[null," Nom du stage ",null,null,null,null,null,null,null,null,null,null,null,null,null,null,null,"Mode de Payement",null,null,null,null,null,null,null,null,null,null,null,null,null,null,null,null,"Jour 3",{"$f":"IF(AJ15>2,AJ17+1,\"\")","v":"2018-10-22"},null,null,"Lieu :","Luchon",null,null,null,1,"(Affichage automatique : ne modifier que si nécessaire)"]
[null,"Stage vol à voile luchon Automne 2018",null,null,null,null,null,null,null,null,null,null,null,null,null,null,null,"Chéque",null,null,null,null,null,null,null,null,null,null,null,null,null,null,null,null,"Jour 4",{"$f":"IF(AJ15>3,AJ18+1,\"\")","v":"2018-10-23"},null,null,"Lieu :","Luchon",null,null,null,1,"(Affichage automatique : ne modifier que si nécessaire)"]
[null,null,null,null,null,null,null,null,null,null,null,null,null,null,null,null,null,"Espece",null,null,null,null,null,null,null,null,null,null,null,null,null,null,null,null,"Jour 5",{"$f":"IF(AJ15>4,AJ19+1,\"\")","v":"2018-10-24"},null,null,"Lieu :","Luchon",null,null,null,1,{"$f":"IF(AN20=\"\",\"\",\"(Affichage automatique : ne modifier que si nécessaire)\")","v":"(Affichage automatique : ne modifier que si nécessaire)"}]
[null,null,null,null,null,null,null,null,null,null,null,null,null,null,null,null,null,"Chéque cadeau",null,null,null,null,null,null,null,null,null,null,null,null,null,null,null,null,"Jour 6",{"$f":"IF(AJ15>5,AJ20+1,\"\")","v":"2018-10-25"},null,null,"Lieu :","Luchon",null,null,null,1,"(Affichage automatique : ne modifier que si nécessaire)"]
[null,"  Nom du club acceuillant",null,null,null,null,null,null,null,null,null,null,null,null,null,null,null,null,null,null,null,null,null,null,null,null,null,null,null,null,null,null,null,null,"Jour 7",{"$f":"IF(AJ15>6,AJ21+1,\"\")","v":"2018-10-26"},null,null,"Lieu :","Luchon",null,null,null,1,"(Affichage automatique : ne modifier que si nécessaire)"]
[null,"Aéroclub de Luchon",null,null,null,null,null,null,null,null,null,null,null,null,null,null,null,null,null,null,null,null,null,null,null,null,null,null,null,null,null,null,null,null,"Jour 8",{"$f":"IF(AJ15>7,AJ22+1,\"\")","v":"2018-10-27"},null,null,"Lieu :","Luchon",null,null,null,1,"(Affichage automatique : ne modifier que si nécessaire)"]
[null,null,null,null,null,null,null,null,null,null,null,null,null,null,null,null,null,null,null,null,null,null,null,null,null,null,null,null,null,null,null,null,null,null,"Jour 9",{"$f":"IF(AJ15>8,AJ23+1,\"\")","v":"2018-10-28"},null,null,"Lieu :","Luchon",null,null,null,1,"(Affichage automatique : ne modifier que si nécessaire)"]
[null,"Club en stage",null,null,null,null,null,null,null,null,null,null,null,null,null,null,null,null,null,null,null,null,null,null,null,null,null,null,null,null,null,null,null,null,"Jour 10",{"$f":"IF(AJ15>9,AJ24+1,\"\")","v":"2018-10-29"},null,null,"Lieu :","Luchon",null,null,null,1,"(Affichage automatique : ne modifier que si nécessaire)"]
[null,"Aire sur l'Adour",null,null,null,null,null,null,null,null,null,null,null,null,null,null,null,null,null,null,null,null,null,null,null,null,null,null,null,null,null,null,null,null,"Jour 11",{"$f":"IF(AJ15>10,AJ25+1,\"\")","v":"2018-10-30"},null,null,"Lieu :","Luchon",null,null,null,1,"(Affichage automatique : ne modifier que si nécessaire)"]
[null,null,null,null,null,null,null,null,null,null,null,null,null,null,null,null,null,null,null,null,null,null,null,null,null,null,null,null,null,null,null,null,null,null,"Jour 12",{"$f":"IF(AJ15>11,AJ26+1,\"\")","v":"2018-10-31"},null,null,"Lieu :","Luchon",null,null,null,1,"(Affichage automatique : ne modifier que si nécessaire)"]
[null,null,null,null,null,null,null,null,null,null,null,null,null,null,null,null,null,null,null,null,null,null,null,null,null,null,null,null,null,null,null,null,null,null,"Jour 13",{"$f":"IF(AJ15>12,AJ27+1,\"\")","v":"2018-11-01"},null,null,"Lieu :","Luchon",null,null,null,1,"(Affichage automatique : ne modifier que si nécessaire)"]
[null,null,null,null,null,null,null,null,null,null,null,null,null,null,null,null,null,null,null,null,null,null,null,null,null,null,null,null,null,null,null,null,null,null,"Jour 14",{"$f":"IF(AJ15>13,AJ28+1,\"\")","v":"2018-11-02"},null,null,"Lieu :","Luchon",null,null,null,1,"(Affichage automatique : ne modifier que si nécessaire)"]
[null,null,null,null,null,null,null,null,null,null,null,null,null,null,null,null,null,null,null,null,null,null,null,null,null,null,null,null,null,null,null,null,null,null,"Jour 15",{"$f":"IF(AJ15>14,AJ29+1,\"\")","v":"2018-11-03"},null,null,"Lieu :","Luchon",null,null,null,1,"(Affichage automatique : ne modifier que si nécessaire)"]
[null,null,null,null,null,null,null,null,null,null,null,null,null,null,null,null,null,null,null,null,null,null,null,null,null,null,null,null,null,null,null,null,null,null,"Jour 16",{"$f":"IF(AJ15>15,AJ30+1,\"\")","v":"2018-11-04"},null,null,"Lieu :","Luchon",null,null,null,1,"(Affichage automatique : ne modifier que si nécessaire)"]
[null,null,null,null,null,null,null,null,null,null,null,null,null,null,null,null,null,null,null,null,null,null,null,null,null,null,null,null,null,null,null,null,null,null,"Jour 17",{"$f":"IF(AJ15>16,AJ31+1,\"\")","v":""},null,null,"",{"$f":"IF(AJ32=\"\",\"\",AN31)","v":""},null,null,null,0,""]
[null,null,null,null,null,null,null,null,null,null,null,null,null,null,null,null,null,null,null,null,null,null,null,null,null,null,null,null,null,null,null,null,null,null,"Dernier jour",{"$f":"IF($AJ15=17,AJ32,IF($AJ15=16,AJ31,IF($AJ15=15,AJ30,IF($AJ15=14,AJ29,IF($AJ15=13,AJ28,IF($AJ15=12,AJ27,IF($AJ15=11,AJ26,IF($AJ15=10,AJ25,IF($AJ15=9,AJ24,IF($AJ15=8,AJ23,IF($AJ15=7,AJ22,IF($AJ15=6,AJ21,IF($AJ15=5,AJ20,IF($AJ15=4,AJ19,IF($AJ15=3,AJ18,IF($AJ15=2,AJ17,IF($AJ15=1,AJ16,\"\")))))))))))))))))","v":"2018-11-04"},null,null,"Lieu :",{"$f":"IF(AJ34=17,AN32,IF(AJ34=16,AN31,IF(AJ34=15,AN30,IF(AJ34=14,AN29,IF(AJ34=13,AN28,IF(AJ34=12,AN27,IF(AJ34=11,AN26,IF(AJ34=10,AN25,IF(AJ34=9,AN24,IF(AJ34=8,AN23,IF(AJ34=7,AN22,IF(AJ34=6,AN21,IF(AJ34=5,AN20,IF(AJ34=4,AN19,IF(AJ34=3,AN18,IF(AJ34=2,AN17,IF(AJ34=1,AN16,\"\")))))))))))))))))","v":"Luchon"},null,null,null,null,"Affichage automatique : ne pas modifier"]
[null,null,null,null,null,null,null,null,null,null,null,null,null,null,null,null,null,null,null,null,null,null,null,null,null,null,null,null,null,null,null,null,null,null,null,{"$f":"SUM(AR16:AR32)","v":16},"Nombre de jours (contrôle)"]

{"sheet":"VentillationCompta","index":7,"n_rows":61,"n_cols":160,"rows_kept":61,"cut":false,"hidden":true,"merged":[[0,52,0,159],[1,142,1,147],[1,148,1,153],[1,154,1,159],[1,112,1,117],[1,118,1,123],[1,124,1,129],[1,130,1,135],[1,136,1,141],[1,82,1,87],[1,88,1,93],[1,94,1,99],[1,100,1,105],[1,106,1,111],[1,52,1,57],[1,58,1,63],[1,64,1,69],[1,70,1,75],[1,76,1,81],[1,46,2,46],[0,8,0,23],[0,27,0,43],[1,33,2,33],[1,34,2,34],[1,30,2,30],[1,31,2,31],[1,32,2,32],[1,21,2,21],[1,23,2,23],[1,24,2,24],[1,25,2,25],[1,26,2,26],[1,45,2,45],[1,2,2,2],[1,20,2,20],[1,44,2,44],[1,16,2,16],[57,0,57,1],[1,43,2,43],[59,38,59,39],[58,38,58,39],[58,18,58,19],[1,19,2,19],[1,41,2,41],[1,42,2,42],[1,36,2,36],[1,29,2,29],[1,22,2,22],[1,35,2,35],[1,39,2,39]]}
[null,null,null,null,null,null,null,null,"SUIVIE  DES FRAIS PAR PILOTES",null,null,null,null,null,null,null,null,null,null,null,null,null,null,null,null,null,null,"Frais plateforme luchon",null,null,null,null,null,null,null,null,null,null,null,null,null,null,null,null,null,null,null,null,null,null,null,null,"POUR CONTRÔLE DES SAISIES DES JOURNEES"]
[null,{"$f":"[2]Feuil1!A126","v":0},"Satut stage",{"$f":"SUM(D4:D26)","v":0},{"$f":"SUM(E4:E26)","v":24},{"$f":"SUM(F4:F26)","v":20},{"$f":"SUM(G4:G26)","v":0},{"$f":"SUM(H4:H26)","v":3},null,{"$f":"SUM(J4:J26)","v":0},{"$f":"SUM(K4:K26)","v":86.4},{"$f":"SUM(L4:L26)","v":102},null,{"$f":"SUM(N4:N26)","v":188.4},{"$f":"SUM(O4:O26)","v":0},{"$f":"SUM(P4:P26)","v":188.4},"relicat piote\nN-1",{"$f":"SUM(R4:R26)","v":63.79},{"$f":"SUM(S4:S26)","v":0},"Acompte\n 2","Solde \nprovisoire","Remboursement\nDe trop perçu ","Solde\nDéfinitif","Date saisi\npaiement","Payer \nPar\nCH / ESP","Banque","N° du \nchèque",{"$f":"SUM(AB4:AB26)","v":15},{"$f":"SUM(AC4:AC26)","v":1},"Montant\nTREUILLE\nAire","Nbr \ntreuillé\nLuchon","Montant\nTREUILLE\nLuchon","Nbr\ncentiémes\nAire","Montant \ncentième\nAire","Nbr\ncentiémes\nLuchon","Montant \ncentième\nLuchon","Montant \ncellules Luchon",{"$f":"SUM(AL4:AL26)","v":25},{"$f":"SUM(AM4:AM26)","v":0},"Solde ",{"$f":"SUM(AO4:AO26)","v":0},"Payer \nPar\nCH / ESP","Banque","N°\nChéque","Date de \nPaiement","Descriptions des observations","Téléphone P",null,null,null,null,null,{"$f":"DATE(Parametres!$A$2,Parametres!$A$3,Parametres!A4)+MOD(-DATE(Parametres!A2,Parametres!A3,-5),7)","v":"2018-10-20"},null,null,null,null,null,{"$f":"1+BA2","v":"2018-10-21"},null,null,null,null,null,{"$f":"1+BG2","v":"2018-10-22"},null,null,null,null,null,{"$f":"1+BM2","v":"2018-10-23"},null,null,null,null,null,{"$f":"1+BS2","v":"2018-10-24"},null,null,null,null,null,{"$f":"1+BY2","v":"2018-10-25"},null,null,null,null,null,{"$f":"1+CE2","v":"2018-10-26"},null,null,null,null,null,{"$f":"1+CK2","v":"2018-10-27"},null,null,null,null,null,{"$f":"1+CQ2","v":"2018-10-28"},null,null,null,null,null,{"$f":"1+CW2","v":"2018-10-29"},null,null,null,null,null,{"$f":"1+DC2","v":"2018-10-30"},null,null,null,null,null,{"$f":"1+DI2","v":"2018-10-31"},null,null,null,null,null,{"$f":"1+DO2","v":"2018-11-01"},null,null,null,null,null,{"$f":"1+DU2","v":"2018-11-02"},null,null,null,null,null,{"$f":"1+EA2","v":"2018-11-03"},null,null,null,null,null,{"$f":"1+EG2","v":"2018-11-04"},null,null,null,null,null,{"$f":"1+EM2","v":"2018-11-05"},null,null,null,null,null,{"$f":"1+ES2","v":"2018-11-06"}]
["Nbr","Noms",null,"Matin","Midi","Soir","Nuit","Jour",null,"Matin","Midi","Soir",null,"Total en €\ndes repas","Total en €\nDes nuits","Total\ndû",null,"Dépenses\n Fait par le\npilote","Acompte payé",null,null,null,null,null,null,null,null,"TAXES \nCLUB","Nbr \ntreuillé\nAire",null,null,null,null,null,null,null,null,"Total dû\nplateforme\nluchon","Avance \nPayé",null,"Reste\ndû\nluchon",null,null,null,null,null,null,null,null,null,null,null,"Matin","Midi","Soir","Nuit"," Jour de vol\nClub","Frais \nDépensé\npar pilote","Matin","Midi","Soir","Nuit"," Jour de vol\nClub","Frais \nDépensé\npar pilote","Matin","Midi","Soir","Nuit"," Jour de vol\nClub","Frais \nDépensé\npar pilote","Matin","Midi","Soir","Nuit"," Jour de vol\nClub","Frais \nDépensé\npar pilote","Matin","Midi","Soir","Nuit"," Jour de vol\nClub","Frais \nDépensé\npar pilote","Matin","Midi","Soir","Nuit","Jour de vol\nClub","Frais \nDépensé\npar pilote","Matin","Midi","Soir","Nuit","Jour de vol\nClub","Frais \nDépensé\npar pilote","Matin","Midi","Soir","Nuit","Jour de vol\nClub","Frais \nDépensé\npar pilote","Matin","Midi","Soir","Nuit","Cotis\n Jour de vol\nClub","Frais \nDépensé\npar pilote","Matin","Midi","Soir","Nuit","Cotis\n Jour de vol\nClub","Frais \nDépensé\npar pilote","Matin","Midi","Soir","Nuit","Cotis\n Jour de vol\nClub","Frais \nDépensé\npar pilote","Matin","Midi","Soir","Nuit","Cotis\n Jour de vol\nClub","Frais \nDépensé\npar pilote","Matin","Midi","Soir","Nuit","Cotis\n Jour de vol\nClub","Frais \nDépensé\npar pilote","Matin","Midi","Soir","Nuit","Cotis\n Jour de vol\nClub","Frais \nDépensé\npar pilote","Matin","Midi","Soir","Nuit","Cotis\n Jour de vol\nClub","Frais \nDépensé\npar pilote","Matin","Midi","Soir","Nuit","Cotis\n Jour de vol\nClub","Frais \nDépensé\npar pilote","Matin","Midi","Soir","Nuit","Cotis\n Jour de vol\nClub","Frais \nDépensé\npar pilote","Matin","Midi","Soir","Nuit","Cotis\n Jour de vol\nClub","Frais \nDépensé\npar pilote"]
[1,"BIL  Bill","P",{"$f":"SUM(BA4+BG4+BM4+BS4+BY4+CE4+CK4+CQ4+CW4+DC4+DI4+DO4+DU4+EA4+EG4+EM4+ES4+EY4)","v":0},{"$f":"SUM(BB4+BH4+BN4+BT4+BZ4+CF4+CL4+CR4+CX4+DD4+DJ4+DP4+DV4+EB4+EH4+EN4+ET4+EZ4)","v":16},{"$f":"SUM(BC4+BI4+BO4+BU4+CA4+CG4+CM4+CS4+CY4+DE4+DK4+DQ4+DW4+EC4+EI4+EO4+EU4+FA4)","v":10},{"$f":"SUM(BD4+BJ4+BP4+BV4+CB4+CH4+CN4+CT4+CZ4+DF4+DL4+DR4+DX4+ED4+EJ4+EP4+EV4+FB4)","v":0},{"$f":"SUM(BE4+BK4+BQ4+BW4+CC4+CI4+CO4+CU4+DA4+DG4+DM4+DS4+DY4+EE4+EK4+EQ4+EW4+FC4)","v":2},null,{"$f":"SUM(D4)*Parametres!O$5","v":0},{"$f":"SUM(E4)*Parametres!O$6","v":57.6},{"$f":"SUM(F4)*Parametres!O$7","v":51},"=",{"$f":"SUM(J4:L4)","v":108.6},{"$f":"SUM(G4)*Parametres!O$8","v":0},{"$f":"SUM(N4:O4)","v":108.6},null,{"$f":"SUM(BL4+BF4+BR4+BX4+CD4+CJ4+CP4+CV4+DB4+DH4+DN4+DT4+DZ4+EF4+EL4+ER4+EX4+FD4)","v":23.79},null,null,null,null,null,null,null,null,null,{"$f":"SUM(H4)*Parametres!AE$5","v":10},{"$f":"IF(C4<>\"P\",\"\",IF(C4=\"P\",IF(ISNA(VLOOKUP(B4,SaisieVols!$Y$4:$AA$48,2,FALSE)),\"\",VLOOKUP(B4,SaisieVols!$Y$4:$AA$48,2,FALSE))))","v":1},{"$f":"SUM(AC4)*Parametres!AD$4","v":10},{"$f":"IF(C4<>\"P\",\"\",IF(C4=\"P\",IF(ISNA(VLOOKUP(B4,SaisieVols!$Y$4:$AC$48,4,FALSE)),\"\",VLOOKUP(B4,SaisieVols!$Y$4:$AC$48,4,FALSE))))","v":0},{"$f":"SUM(AE4)*Parametres!AD$3","v":0},{"$f":"IF(C4<>\"P\",\"\",IF(C4=\"P\",IF(ISNA(VLOOKUP(B4,SaisieVols!$Y$4:$AC$48,3,FALSE)),\"\",VLOOKUP(B4,SaisieVols!$Y$4:$AC$48,3,FALSE))))","v":0},{"$f":"SUM(AG4)*Parametres!AC$4","v":0},{"$f":"IF(C4<>\"P\",\"\",IF(C4=\"P\",IF(ISNA(VLOOKUP(B4,SaisieVols!$Y$4:$AC$48,5,FALSE)),\"\",VLOOKUP(B4,SaisieVols!$Y$4:$AC$48,5,FALSE))))","v":0},{"$f":"SUM(AI4)*Parametres!AC$3","v":0},null,{"$f":"SUM(AB4)+AD4+AF4+AH4+AJ4","v":20},null,null,null,null,null,null,null,null,"",null,null,null,null,null,0,4,0,0,1,0,0,4,0,0,1,0,0,0,0,0,0,0,null,null,null,null,null,null,null,null,1,null,null,null,null,1,1,null,null,null,null,1,1,null,null,23.79,null,1,1,null,null,null,null,null,1,null,null,null,null,1,1,null,null,null,null,1,1,null,null,null,null,1,1,null,null,null,null,1,1,null,null,null,null,1,1]
[2,"XX  Xx","V",0,8,10,0,1,null,{"$f":"SUM(D5)*Parametres!O$5","v":0},{"$f":"SUM(E5)*Parametres!O$6","v":28.8},{"$f":"SUM(F5)*Parametres!O$7","v":51},"=",79.8,{"$f":"SUM(G5)*Parametres!O$8","v":0},79.8,null,40,null,null,null,null,null,null,null,null,null,{"$f":"SUM(H5)*Parametres!AE$5","v":5},{"$f":"IF(C5<>\"P\",\"\",IF(C5=\"P\",IF(ISNA(VLOOKUP(B5,SaisieVols!$Y$4:$AA$48,2,FALSE)),\"\",VLOOKUP(B5,SaisieVols!$Y$4:$AA$48,2,FALSE))))","v":""},{"$f":"SUM(AC5)*Parametres!AD$4","v":0},{"$f":"IF(C5<>\"P\",\"\",IF(C5=\"P\",IF(ISNA(VLOOKUP(B5,SaisieVols!$Y$4:$AC$48,4,FALSE)),\"\",VLOOKUP(B5,SaisieVols!$Y$4:$AC$48,4,FALSE))))","v":""},{"$f":"SUM(AE5)*Parametres!AD$3","v":0},{"$f":"IF(C5<>\"P\",\"\",IF(C5=\"P\",IF(ISNA(VLOOKUP(B5,SaisieVols!$Y$4:$AC$48,3,FALSE)),\"\",VLOOKUP(B5,SaisieVols!$Y$4:$AC$48,3,FALSE))))","v":""},{"$f":"SUM(AG5)*Parametres!AC$4","v":0},{"$f":"IF(C5<>\"P\",\"\",IF(C5=\"P\",IF(ISNA(VLOOKUP(B5,SaisieVols!$Y$4:$AC$48,5,FALSE)),\"\",VLOOKUP(B5,SaisieVols!$Y$4:$AC$48,5,FALSE))))","v":""},{"$f":"SUM(AI5)*Parametres!AC$3","v":0},null,5,null,null,null,null,null,null,null,null,"",null,null,null,null,null,0,0,0,0,1,40,0,0,0,0,0,0,0,0,0,0,0,0,null,null,1,null,null,null,null,1,1,null,null,null,null,1,1,null,null,null,null,1,1,null,null,null,null,1,1,null,null,null,null,null,1,null,null,null,null,1,1,null,null,null,null,1,1,null,null,null,null,1,1,null,null,null,null,1,1]
[3,"YYY  Yy","P",0,0,0,0,0,null,{"$f":"SUM(D6)*Parametres!O$5","v":0},{"$f":"SUM(E6)*Parametres!O$6","v":0},{"$f":"SUM(F6)*Parametres!O$7","v":0},"=",0,{"$f":"SUM(G6)*Parametres!O$8","v":0},0,null,0,null,null,null,null,null,null,null,null,null,{"$f":"SUM(H6)*Parametres!AE$5","v":0},{"$f":"IF(C6<>\"P\",\"\",IF(C6=\"P\",IF(ISNA(VLOOKUP(B6,SaisieVols!$Y$4:$AA$48,2,FALSE)),\"\",VLOOKUP(B6,SaisieVols!$Y$4:$AA$48,2,FALSE))))","v":""},{"$f":"SUM(AC6)*Parametres!AD$4","v":0},{"$f":"IF(C6<>\"P\",\"\",IF(C6=\"P\",IF(ISNA(VLOOKUP(B6,SaisieVols!$Y$4:$AC$48,4,FALSE)),\"\",VLOOKUP(B6,SaisieVols!$Y$4:$AC$48,4,FALSE))))","v":""},{"$f":"SUM(AE6)*Parametres!AD$3","v":0},{"$f":"IF(C6<>\"P\",\"\",IF(C6=\"P\",IF(ISNA(VLOOKUP(B6,SaisieVols!$Y$4:$AC$48,3,FALSE)),\"\",VLOOKUP(B6,SaisieVols!$Y$4:$AC$48,3,FALSE))))","v":""},{"$f":"SUM(AG6)*Parametres!AC$4","v":0},{"$f":"IF(C6<>\"P\",\"\",IF(C6=\"P\",IF(ISNA(VLOOKUP(B6,SaisieVols!$Y$4:$AC$48,5,FALSE)),\"\",VLOOKUP(B6,SaisieVols!$Y$4:$AC$48,5,FALSE))))","v":""},{"$f":"SUM(AI6)*Parametres!AC$3","v":0},null,0,null,null,null,null,null,null,null,null,"",null,null,null,null,null,0,0,0,0,0,0,0,0,0,0,0,0,0,0,0,0,0,0,0,0,0,0,0,0,0,0,0,0,0,0,0,0,0,0,0,0,0,0,0,0,0,0,0,0,0,0,0,0,0,0,0,0,0,0,0,0,0,0,0,0,0,0,0,0,0,0,0,0,0,0,0,0,0,0,0,0,0,0,0,0,0,0,0,0,0,0,0,0,0,0,0,0,0,0,0,0,0,0,0,0,0,0,0,0,0,0,0,0]
[null,null,null,0,0,0,0,0,null,{"$f":"SUM(D7)*Parametres!O$5","v":0},{"$f":"SUM(E7)*Parametres!O$6","v":0},{"$f":"SUM(F7)*Parametres!O$7","v":0},"=",0,{"$f":"SUM(G7)*Parametres!O$8","v":0},0,null,0,null,null,null,null,null,null,null,null,null,{"$f":"SUM(H7)*Parametres!AE$5","v":0},{"$f":"IF(C7<>\"P\",\"\",IF(C7=\"P\",IF(ISNA(VLOOKUP(B7,SaisieVols!$Y$4:$AA$48,2,FALSE)),\"\",VLOOKUP(B7,SaisieVols!$Y$4:$AA$48,2,FALSE))))","v":""},{"$f":"SUM(AC7)*Parametres!AD$4","v":0},{"$f":"IF(C7<>\"P\",\"\",IF(C7=\"P\",IF(ISNA(VLOOKUP(B7,SaisieVols!$Y$4:$AC$48,4,FALSE)),\"\",VLOOKUP(B7,SaisieVols!$Y$4:$AC$48,4,FALSE))))","v":""},{"$f":"SUM(AE7)*Parametres!AD$3","v":0},{"$f":"IF(C7<>\"P\",\"\",IF(C7=\"P\",IF(ISNA(VLOOKUP(B7,SaisieVols!$Y$4:$AC$48,3,FALSE)),\"\",VLOOKUP(B7,SaisieVols!$Y$4:$AC$48,3,FALSE))))","v":""},{"$f":"SUM(AG7)*Parametres!AC$4","v":0},{"$f":"IF(C7<>\"P\",\"\",IF(C7=\"P\",IF(ISNA(VLOOKUP(B7,SaisieVols!$Y$4:$AC$48,5,FALSE)),\"\",VLOOKUP(B7,SaisieVols!$Y$4:$AC$48,5,FALSE))))","v":""},{"$f":"SUM(AI7)*Parametres!AC$3","v":0},null,0]
[null,null,null,0,0,0,0,0,null,{"$f":"SUM(D8)*Parametres!O$5","v":0},{"$f":"SUM(E8)*Parametres!O$6","v":0},{"$f":"SUM(F8)*Parametres!O$7","v":0},"=",0,{"$f":"SUM(G8)*Parametres!O$8","v":0},0,null,0,null,null,null,null,null,null,null,null,null,{"$f":"SUM(H8)*Parametres!AE$5","v":0},{"$f":"IF(C8<>\"P\",\"\",IF(C8=\"P\",IF(ISNA(VLOOKUP(B8,SaisieVols!$Y$4:$AA$48,2,FALSE)),\"\",VLOOKUP(B8,SaisieVols!$Y$4:$AA$48,2,FALSE))))","v":""},{"$f":"SUM(AC8)*Parametres!AD$4","v":0},{"$f":"IF(C8<>\"P\",\"\",IF(C8=\"P\",IF(ISNA(VLOOKUP(B8,SaisieVols!$Y$4:$AC$48,4,FALSE)),\"\",VLOOKUP(B8,SaisieVols!$Y$4:$AC$48,4,FALSE))))","v":""},{"$f":"SUM(AE8)*Parametres!AD$3","v":0},{"$f":"IF(C8<>\"P\",\"\",IF(C8=\"P\",IF(ISNA(VLOOKUP(B8,SaisieVols!$Y$4:$AC$48,3,FALSE)),\"\",VLOOKUP(B8,SaisieVols!$Y$4:$AC$48,3,FALSE))))","v":""},{"$f":"SUM(AG8)*Parametres!AC$4","v":0},{"$f":"IF(C8<>\"P\",\"\",IF(C8=\"P\",IF(ISNA(VLOOKUP(B8,SaisieVols!$Y$4:$AC$48,5,FALSE)),\"\",VLOOKUP(B8,SaisieVols!$Y$4:$AC$48,5,FALSE))))","v":""},{"$f":"SUM(AI8)*Parametres!AC$3","v":0},null,0]
[null,null,null,0,0,0,0,0,null,{"$f":"SUM(D9)*Parametres!O$5","v":0},{"$f":"SUM(E9)*Parametres!O$6","v":0},{"$f":"SUM(F9)*Parametres!O$7","v":0},"=",0,{"$f":"SUM(G9)*Parametres!O$8","v":0},0,null,0,null,null,null,null,null,null,null,null,null,{"$f":"SUM(H9)*Parametres!AE$5","v":0},{"$f":"IF(C9<>\"P\",\"\",IF(C9=\"P\",IF(ISNA(VLOOKUP(B9,SaisieVols!$Y$4:$AA$48,2,FALSE)),\"\",VLOOKUP(B9,SaisieVols!$Y$4:$AA$48,2,FALSE))))","v":""},{"$f":"SUM(AC9)*Parametres!AD$4","v":0},{"$f":"IF(C9<>\"P\",\"\",IF(C9=\"P\",IF(ISNA(VLOOKUP(B9,SaisieVols!$Y$4:$AC$48,4,FALSE)),\"\",VLOOKUP(B9,SaisieVols!$Y$4:$AC$48,4,FALSE))))","v":""},{"$f":"SUM(AE9)*Parametres!AD$3","v":0},{"$f":"IF(C9<>\"P\",\"\",IF(C9=\"P\",IF(ISNA(VLOOKUP(B9,SaisieVols!$Y$4:$AC$48,3,FALSE)),\"\",VLOOKUP(B9,SaisieVols!$Y$4:$AC$48,3,FALSE))))","v":""},{"$f":"SUM(AG9)*Parametres!AC$4","v":0},{"$f":"IF(C9<>\"P\",\"\",IF(C9=\"P\",IF(ISNA(VLOOKUP(B9,SaisieVols!$Y$4:$AC$48,5,FALSE)),\"\",VLOOKUP(B9,SaisieVols!$Y$4:$AC$48,5,FALSE))))","v":""},{"$f":"SUM(AI9)*Parametres!AC$3","v":0},null,0]
[null,null,null,{"$f":"SUM(BA10+BG10+BM10+BS10+BY10+CE10+CK10+CQ10+CW10+DC10+DI10+DO10+DU10+EA10+EG10+EM10+ES10+EY10)","v":0},{"$f":"SUM(BB10+BH10+BN10+BT10+BZ10+CF10+CL10+CR10+CX10+DD10+DJ10+DP15+DV15+EB15+EH15+EN15+ET15+EZ15)","v":0},{"$f":"SUM(BC10+BI10+BO10+BU10+CA10+CG10+CM10+CS10+CY10+DE10+DK10+DQ10+DW10+EC10+EI10+EO10+EU10+FA10)","v":0},{"$f":"SUM(BD10+BJ10+BP10+BV10+CB10+CH10+CN10+CT10+CZ10+DF10+DL10+DR10+DX10+ED10+EJ10+EP10+EV10+FB10)","v":0},{"$f":"SUM(BE10+BK10+BQ10+BW10+CC10+CI10+CO10+CU10+DA10+DG10+DM10+DS15+DY15+EE15+EK15+EQ15+EW15+FC15)","v":0},null,{"$f":"SUM(D10)*Parametres!O$5","v":0},{"$f":"SUM(E10)*Parametres!O$6","v":0},{"$f":"SUM(F10)*Parametres!O$7","v":0},"=",0,{"$f":"SUM(G10)*Parametres!O$8","v":0},0,null,0,null,null,null,null,null,null,null,null,null,{"$f":"SUM(H10)*Parametres!AE$5","v":0},{"$f":"IF(C10<>\"P\",\"\",IF(C10=\"P\",IF(ISNA(VLOOKUP(B10,SaisieVols!$Y$4:$AA$48,2,FALSE)),\"\",VLOOKUP(B10,SaisieVols!$Y$4:$AA$48,2,FALSE))))","v":""},{"$f":"SUM(AC10)*Parametres!AD$4","v":0},{"$f":"IF(C10<>\"P\",\"\",IF(C10=\"P\",IF(ISNA(VLOOKUP(B10,SaisieVols!$Y$4:$AC$48,4,FALSE)),\"\",VLOOKUP(B10,SaisieVols!$Y$4:$AC$48,4,FALSE))))","v":""},{"$f":"SUM(AE10)*Parametres!AD$3","v":0},{"$f":"IF(C10<>\"P\",\"\",IF(C10=\"P\",IF(ISNA(VLOOKUP(B10,SaisieVols!$Y$4:$AC$48,3,FALSE)),\"\",VLOOKUP(B10,SaisieVols!$Y$4:$AC$48,3,FALSE))))","v":""},{"$f":"SUM(AG10)*Parametres!AC$4","v":0},{"$f":"IF(C10<>\"P\",\"\",IF(C10=\"P\",IF(ISNA(VLOOKUP(B10,SaisieVols!$Y$4:$AC$48,5,FALSE)),\"\",VLOOKUP(B10,SaisieVols!$Y$4:$AC$48,5,FALSE))))","v":""},{"$f":"SUM(AI10)*Parametres!AC$3","v":0},null,0]
[null,null,null,0,0,0,0,0,null,{"$f":"SUM(D11)*Parametres!O$5","v":0},{"$f":"SUM(E11)*Parametres!O$6","v":0},{"$f":"SUM(F11)*Parametres!O$7","v":0},"=",0,{"$f":"SUM(G11)*Parametres!O$8","v":0},0,null,0,null,null,null,null,null,null,null,null,null,{"$f":"SUM(H11)*Parametres!AE$5","v":0},{"$f":"IF(C11<>\"P\",\"\",IF(C11=\"P\",IF(ISNA(VLOOKUP(B11,SaisieVols!$Y$4:$AA$48,2,FALSE)),\"\",VLOOKUP(B11,SaisieVols!$Y$4:$AA$48,2,FALSE))))","v":""},{"$f":"SUM(AC11)*Parametres!AD$4","v":0},{"$f":"IF(C11<>\"P\",\"\",IF(C11=\"P\",IF(ISNA(VLOOKUP(B11,SaisieVols!$Y$4:$AC$48,4,FALSE)),\"\",VLOOKUP(B11,SaisieVols!$Y$4:$AC$48,4,FALSE))))","v":""},{"$f":"SUM(AE11)*Parametres!AD$3","v":0},{"$f":"IF(C11<>\"P\",\"\",IF(C11=\"P\",IF(ISNA(VLOOKUP(B11,SaisieVols!$Y$4:$AC$48,3,FALSE)),\"\",VLOOKUP(B11,SaisieVols!$Y$4:$AC$48,3,FALSE))))","v":""},{"$f":"SUM(AG11)*Parametres!AC$4","v":0},{"$f":"IF(C11<>\"P\",\"\",IF(C11=\"P\",IF(ISNA(VLOOKUP(B11,SaisieVols!$Y$4:$AC$48,5,FALSE)),\"\",VLOOKUP(B11,SaisieVols!$Y$4:$AC$48,5,FALSE))))","v":""},{"$f":"SUM(AI11)*Parametres!AC$3","v":0},null,0]
[null,null,null,0,0,0,0,0,null,{"$f":"SUM(D12)*Parametres!O$5","v":0},{"$f":"SUM(E12)*Parametres!O$6","v":0},{"$f":"SUM(F12)*Parametres!O$7","v":0},"=",0,{"$f":"SUM(G12)*Parametres!O$8","v":0},0,null,0,null,null,null,null,null,null,null,null,null,{"$f":"SUM(H12)*Parametres!AE$5","v":0},{"$f":"IF(C12<>\"P\",\"\",IF(C12=\"P\",IF(ISNA(VLOOKUP(B12,SaisieVols!$Y$4:$AA$48,2,FALSE)),\"\",VLOOKUP(B12,SaisieVols!$Y$4:$AA$48,2,FALSE))))","v":""},{"$f":"SUM(AC12)*Parametres!AD$4","v":0},{"$f":"IF(C12<>\"P\",\"\",IF(C12=\"P\",IF(ISNA(VLOOKUP(B12,SaisieVols!$Y$4:$AC$48,4,FALSE)),\"\",VLOOKUP(B12,SaisieVols!$Y$4:$AC$48,4,FALSE))))","v":""},{"$f":"SUM(AE12)*Parametres!AD$3","v":0},{"$f":"IF(C12<>\"P\",\"\",IF(C12=\"P\",IF(ISNA(VLOOKUP(B12,SaisieVols!$Y$4:$AC$48,3,FALSE)),\"\",VLOOKUP(B12,SaisieVols!$Y$4:$AC$48,3,FALSE))))","v":""},{"$f":"SUM(AG12)*Parametres!AC$4","v":0},{"$f":"IF(C12<>\"P\",\"\",IF(C12=\"P\",IF(ISNA(VLOOKUP(B12,SaisieVols!$Y$4:$AC$48,5,FALSE)),\"\",VLOOKUP(B12,SaisieVols!$Y$4:$AC$48,5,FALSE))))","v":""},{"$f":"SUM(AI12)*Parametres!AC$3","v":0},null,0]
[null,null,null,0,0,{"$f":"SUM(BC13+BI13+BO13+BU13+CA13+CG13+CM13+CS13+CY13+DE13+DK13+DQ18+DW18+EC18+EI18+EO18+EU18+FA18)","v":0},0,0,null,{"$f":"SUM(D13)*Parametres!O$5","v":0},{"$f":"SUM(E13)*Parametres!O$6","v":0},{"$f":"SUM(F13)*Parametres!O$7","v":0},"=",0,{"$f":"SUM(G13)*Parametres!O$8","v":0},0,null,0,null,null,null,null,null,null,null,null,null,{"$f":"SUM(H13)*Parametres!AE$5","v":0},{"$f":"IF(C13<>\"P\",\"\",IF(C13=\"P\",IF(ISNA(VLOOKUP(B13,SaisieVols!$Y$4:$AA$48,2,FALSE)),\"\",VLOOKUP(B13,SaisieVols!$Y$4:$AA$48,2,FALSE))))","v":""},{"$f":"SUM(AC13)*Parametres!AD$4","v":0},{"$f":"IF(C13<>\"P\",\"\",IF(C13=\"P\",IF(ISNA(VLOOKUP(B13,SaisieVols!$Y$4:$AC$48,4,FALSE)),\"\",VLOOKUP(B13,SaisieVols!$Y$4:$AC$48,4,FALSE))))","v":""},{"$f":"SUM(AE13)*Parametres!AD$3","v":0},{"$f":"IF(C13<>\"P\",\"\",IF(C13=\"P\",IF(ISNA(VLOOKUP(B13,SaisieVols!$Y$4:$AC$48,3,FALSE)),\"\",VLOOKUP(B13,SaisieVols!$Y$4:$AC$48,3,FALSE))))","v":""},{"$f":"SUM(AG13)*Parametres!AC$4","v":0},{"$f":"IF(C13<>\"P\",\"\",IF(C13=\"P\",IF(ISNA(VLOOKUP(B13,SaisieVols!$Y$4:$AC$48,5,FALSE)),\"\",VLOOKUP(B13,SaisieVols!$Y$4:$AC$48,5,FALSE))))","v":""},{"$f":"SUM(AI13)*Parametres!AC$3","v":0},null,0]
[null,null,null,0,0,0,0,0,null,{"$f":"SUM(D14)*Parametres!O$5","v":0},{"$f":"SUM(E14)*Parametres!O$6","v":0},{"$f":"SUM(F14)*Parametres!O$7","v":0},"=",0,{"$f":"SUM(G14)*Parametres!O$8","v":0},0,null,0,null,null,null,null,null,null,null,null,null,{"$f":"SUM(H14)*Parametres!AE$5","v":0},{"$f":"IF(C14<>\"P\",\"\",IF(C14=\"P\",IF(ISNA(VLOOKUP(B14,SaisieVols!$Y$4:$AA$48,2,FALSE)),\"\",VLOOKUP(B14,SaisieVols!$Y$4:$AA$48,2,FALSE))))","v":""},{"$f":"SUM(AC14)*Parametres!AD$4","v":0},{"$f":"IF(C14<>\"P\",\"\",IF(C14=\"P\",IF(ISNA(VLOOKUP(B14,SaisieVols!$Y$4:$AC$48,4,FALSE)),\"\",VLOOKUP(B14,SaisieVols!$Y$4:$AC$48,4,FALSE))))","v":""},{"$f":"SUM(AE14)*Parametres!AD$3","v":0},{"$f":"IF(C14<>\"P\",\"\",IF(C14=\"P\",IF(ISNA(VLOOKUP(B14,SaisieVols!$Y$4:$AC$48,3,FALSE)),\"\",VLOOKUP(B14,SaisieVols!$Y$4:$AC$48,3,FALSE))))","v":""},{"$f":"SUM(AG14)*Parametres!AC$4","v":0},{"$f":"IF(C14<>\"P\",\"\",IF(C14=\"P\",IF(ISNA(VLOOKUP(B14,SaisieVols!$Y$4:$AC$48,5,FALSE)),\"\",VLOOKUP(B14,SaisieVols!$Y$4:$AC$48,5,FALSE))))","v":""},{"$f":"SUM(AI14)*Parametres!AC$3","v":0},null,0]
[null,null,null,0,0,0,0,0,null,{"$f":"SUM(D15)*Parametres!O$5","v":0},{"$f":"SUM(E15)*Parametres!O$6","v":0},{"$f":"SUM(F15)*Parametres!O$7","v":0},"=",{"$f":"SUM(J15:L15)","v":0},{"$f":"SUM(G15)*Parametres!O$8","v":0},{"$f":"SUM(N15:O15)","v":0},null,0,null,null,null,null,null,null,null,null,null,{"$f":"SUM(H15)*Parametres!AE$5","v":0},{"$f":"IF(C15<>\"P\",\"\",IF(C15=\"P\",IF(ISNA(VLOOKUP(B15,SaisieVols!$Y$4:$AA$48,2,FALSE)),\"\",VLOOKUP(B15,SaisieVols!$Y$4:$AA$48,2,FALSE))))","v":""},{"$f":"SUM(AC15)*Parametres!AD$4","v":0},{"$f":"IF(C15<>\"P\",\"\",IF(C15=\"P\",IF(ISNA(VLOOKUP(B15,SaisieVols!$Y$4:$AC$48,4,FALSE)),\"\",VLOOKUP(B15,SaisieVols!$Y$4:$AC$48,4,FALSE))))","v":""},{"$f":"SUM(AE15)*Parametres!AD$3","v":0},{"$f":"IF(C15<>\"P\",\"\",IF(C15=\"P\",IF(ISNA(VLOOKUP(B15,SaisieVols!$Y$4:$AC$48,3,FALSE)),\"\",VLOOKUP(B15,SaisieVols!$Y$4:$AC$48,3,FALSE))))","v":""},{"$f":"SUM(AG15)*Parametres!AC$4","v":0},{"$f":"IF(C15<>\"P\",\"\",IF(C15=\"P\",IF(ISNA(VLOOKUP(B15,SaisieVols!$Y$4:$AC$48,5,FALSE)),\"\",VLOOKUP(B15,SaisieVols!$Y$4:$AC$48,5,FALSE))))","v":""},{"$f":"SUM(AI15)*Parametres!AC$3","v":0},null,0]
[null,null,null,0,0,0,0,0,null,{"$f":"SUM(D16)*Parametres!O$5","v":0},{"$f":"SUM(E16)*Parametres!O$6","v":0},{"$f":"SUM(F16)*Parametres!O$7","v":0},"=",{"$f":"SUM(J16:L16)","v":0},{"$f":"SUM(G16)*Parametres!O$8","v":0},{"$f":"SUM(N16:O16)","v":0},null,0,null,null,null,null,null,null,null,null,null,{"$f":"SUM(H16)*Parametres!AE$5","v":0},{"$f":"IF(C16<>\"P\",\"\",IF(C16=\"P\",IF(ISNA(VLOOKUP(B16,SaisieVols!$Y$4:$AA$48,2,FALSE)),\"\",VLOOKUP(B16,SaisieVols!$Y$4:$AA$48,2,FALSE))))","v":""},{"$f":"SUM(AC16)*Parametres!AD$4","v":0},{"$f":"IF(C16<>\"P\",\"\",IF(C16=\"P\",IF(ISNA(VLOOKUP(B16,SaisieVols!$Y$4:$AC$48,4,FALSE)),\"\",VLOOKUP(B16,SaisieVols!$Y$4:$AC$48,4,FALSE))))","v":""},{"$f":"SUM(AE16)*Parametres!AD$3","v":0},{"$f":"IF(C16<>\"P\",\"\",IF(C16=\"P\",IF(ISNA(VLOOKUP(B16,SaisieVols!$Y$4:$AC$48,3,FALSE)),\"\",VLOOKUP(B16,SaisieVols!$Y$4:$AC$48,3,FALSE))))","v":""},{"$f":"SUM(AG16)*Parametres!AC$4","v":0},{"$f":"IF(C16<>\"P\",\"\",IF(C16=\"P\",IF(ISNA(VLOOKUP(B16,SaisieVols!$Y$4:$AC$48,5,FALSE)),\"\",VLOOKUP(B16,SaisieVols!$Y$4:$AC$48,5,FALSE))))","v":""},{"$f":"SUM(AI16)*Parametres!AC$3","v":0},null,0]
[null,null,null,0,0,0,{"$f":"SUM(BD17+BJ17+BP17+BV17+CB17+CH17+CN17+CT17+CZ17+DF17+DL17+DR22+DX22+ED22+EJ22+EP22+EV22+FB22)","v":0},0,null,{"$f":"SUM(D17)*Parametres!O$5","v":0},{"$f":"SUM(E17)*Parametres!O$6","v":0},{"$f":"SUM(F17)*Parametres!O$7","v":0},"=",0,{"$f":"SUM(G17)*Parametres!O$8","v":0},0,null,0,null,null,null,null,null,null,null,null,null,{"$f":"SUM(H17)*Parametres!AE$5","v":0},{"$f":"IF(C17<>\"P\",\"\",IF(C17=\"P\",IF(ISNA(VLOOKUP(B17,SaisieVols!$Y$4:$AA$48,2,FALSE)),\"\",VLOOKUP(B17,SaisieVols!$Y$4:$AA$48,2,FALSE))))","v":""},{"$f":"SUM(AC17)*Parametres!AD$4","v":0},{"$f":"IF(C17<>\"P\",\"\",IF(C17=\"P\",IF(ISNA(VLOOKUP(B17,SaisieVols!$Y$4:$AC$48,4,FALSE)),\"\",VLOOKUP(B17,SaisieVols!$Y$4:$AC$48,4,FALSE))))","v":""},{"$f":"SUM(AE17)*Parametres!AD$3","v":0},{"$f":"IF(C17<>\"P\",\"\",IF(C17=\"P\",IF(ISNA(VLOOKUP(B17,SaisieVols!$Y$4:$AC$48,3,FALSE)),\"\",VLOOKUP(B17,SaisieVols!$Y$4:$AC$48,3,FALSE))))","v":""},{"$f":"SUM(AG17)*Parametres!AC$4","v":0},{"$f":"IF(C17<>\"P\",\"\",IF(C17=\"P\",IF(ISNA(VLOOKUP(B17,SaisieVols!$Y$4:$AC$48,5,FALSE)),\"\",VLOOKUP(B17,SaisieVols!$Y$4:$AC$48,5,FALSE))))","v":""},{"$f":"SUM(AI17)*Parametres!AC$3","v":0},null,0]
[null,null,null,0,0,0,0,0,null,{"$f":"SUM(D18)*Parametres!O$5","v":0},{"$f":"SUM(E18)*Parametres!O$6","v":0},{"$f":"SUM(F18)*Parametres!O$7","v":0},"=",0,{"$f":"SUM(G18)*Parametres!O$8","v":0},0,null,0,null,null,null,null,null,null,null,null,null,{"$f":"SUM(H18)*Parametres!AE$5","v":0},{"$f":"IF(C18<>\"P\",\"\",IF(C18=\"P\",IF(ISNA(VLOOKUP(B18,SaisieVols!$Y$4:$AA$48,2,FALSE)),\"\",VLOOKUP(B18,SaisieVols!$Y$4:$AA$48,2,FALSE))))","v":""},{"$f":"SUM(AC18)*Parametres!AD$4","v":0},{"$f":"IF(C18<>\"P\",\"\",IF(C18=\"P\",IF(ISNA(VLOOKUP(B18,SaisieVols!$Y$4:$AC$48,4,FALSE)),\"\",VLOOKUP(B18,SaisieVols!$Y$4:$AC$48,4,FALSE))))","v":""},{"$f":"SUM(AE18)*Parametres!AD$3","v":0},{"$f":"IF(C18<>\"P\",\"\",IF(C18=\"P\",IF(ISNA(VLOOKUP(B18,SaisieVols!$Y$4:$AC$48,3,FALSE)),\"\",VLOOKUP(B18,SaisieVols!$Y$4:$AC$48,3,FALSE))))","v":""},{"$f":"SUM(AG18)*Parametres!AC$4","v":0},{"$f":"IF(C18<>\"P\",\"\",IF(C18=\"P\",IF(ISNA(VLOOKUP(B18,SaisieVols!$Y$4:$AC$48,5,FALSE)),\"\",VLOOKUP(B18,SaisieVols!$Y$4:$AC$48,5,FALSE))))","v":""},{"$f":"SUM(AI18)*Parametres!AC$3","v":0},null,0]
[null,null,null,0,0,0,0,0,null,{"$f":"SUM(D19)*Parametres!O$5","v":0},{"$f":"SUM(E19)*Parametres!O$6","v":0},{"$f":"SUM(F19)*Parametres!O$7","v":0},"=",0,{"$f":"SUM(G19)*Parametres!O$8","v":0},0,null,0,null,null,null,null,null,null,null,null,null,{"$f":"SUM(H19)*Parametres!AE$5","v":0},{"$f":"IF(C19<>\"P\",\"\",IF(C19=\"P\",IF(ISNA(VLOOKUP(B19,SaisieVols!$Y$4:$AA$48,2,FALSE)),\"\",VLOOKUP(B19,SaisieVols!$Y$4:$AA$48,2,FALSE))))","v":""},{"$f":"SUM(AC19)*Parametres!AD$4","v":0},{"$f":"IF(C19<>\"P\",\"\",IF(C19=\"P\",IF(ISNA(VLOOKUP(B19,SaisieVols!$Y$4:$AC$48,4,FALSE)),\"\",VLOOKUP(B19,SaisieVols!$Y$4:$AC$48,4,FALSE))))","v":""},{"$f":"SUM(AE19)*Parametres!AD$3","v":0},{"$f":"IF(C19<>\"P\",\"\",IF(C19=\"P\",IF(ISNA(VLOOKUP(B19,SaisieVols!$Y$4:$AC$48,3,FALSE)),\"\",VLOOKUP(B19,SaisieVols!$Y$4:$AC$48,3,FALSE))))","v":""},{"$f":"SUM(AG19)*Parametres!AC$4","v":0},{"$f":"IF(C19<>\"P\",\"\",IF(C19=\"P\",IF(ISNA(VLOOKUP(B19,SaisieVols!$Y$4:$AC$48,5,FALSE)),\"\",VLOOKUP(B19,SaisieVols!$Y$4:$AC$48,5,FALSE))))","v":""},{"$f":"SUM(AI19)*Parametres!AC$3","v":0},null,0]
[null,null,null,0,0,0,0,0,null,{"$f":"SUM(D20)*Parametres!O$5","v":0},{"$f":"SUM(E20)*Parametres!O$6","v":0},{"$f":"SUM(F20)*Parametres!O$7","v":0},"=",0,{"$f":"SUM(G20)*Parametres!O$8","v":0},0,null,0,null,null,null,null,null,null,null,null,null,{"$f":"SUM(H20)*Parametres!AE$5","v":0},{"$f":"IF(C20<>\"P\",\"\",IF(C20=\"P\",IF(ISNA(VLOOKUP(B20,SaisieVols!$Y$4:$AA$48,2,FALSE)),\"\",VLOOKUP(B20,SaisieVols!$Y$4:$AA$48,2,FALSE))))","v":""},{"$f":"SUM(AC20)*Parametres!AD$4","v":0},{"$f":"IF(C20<>\"P\",\"\",IF(C20=\"P\",IF(ISNA(VLOOKUP(B20,SaisieVols!$Y$4:$AC$48,4,FALSE)),\"\",VLOOKUP(B20,SaisieVols!$Y$4:$AC$48,4,FALSE))))","v":""},{"$f":"SUM(AE20)*Parametres!AD$3","v":0},{"$f":"IF(C20<>\"P\",\"\",IF(C20=\"P\",IF(ISNA(VLOOKUP(B20,SaisieVols!$Y$4:$AC$48,3,FALSE)),\"\",VLOOKUP(B20,SaisieVols!$Y$4:$AC$48,3,FALSE))))","v":""},{"$f":"SUM(AG20)*Parametres!AC$4","v":0},{"$f":"IF(C20<>\"P\",\"\",IF(C20=\"P\",IF(ISNA(VLOOKUP(B20,SaisieVols!$Y$4:$AC$48,5,FALSE)),\"\",VLOOKUP(B20,SaisieVols!$Y$4:$AC$48,5,FALSE))))","v":""},{"$f":"SUM(AI20)*Parametres!AC$3","v":0},null,0]
[null,null,null,0,{"$f":"SUM(BB21+BH21+BN21+BT21+BZ21+CF21+CL21+CR21+CX21+DD21+DJ21+DP37+DV37+EB37+EH37+EN37+ET37+EZ37)","v":0},0,0,0,null,{"$f":"SUM(D21)*Parametres!O$5","v":0},{"$f":"SUM(E21)*Parametres!O$6","v":0},{"$f":"SUM(F21)*Parametres!O$7","v":0},"=",0,{"$f":"SUM(G21)*Parametres!O$8","v":0},0,null,0,null,null,null,null,null,null,null,null,null,{"$f":"SUM(H21)*Parametres!AE$5","v":0},{"$f":"IF(C21<>\"P\",\"\",IF(C21=\"P\",IF(ISNA(VLOOKUP(B21,SaisieVols!$Y$4:$AA$48,2,FALSE)),\"\",VLOOKUP(B21,SaisieVols!$Y$4:$AA$48,2,FALSE))))","v":""},{"$f":"SUM(AC21)*Parametres!AD$4","v":0},{"$f":"IF(C21<>\"P\",\"\",IF(C21=\"P\",IF(ISNA(VLOOKUP(B21,SaisieVols!$Y$4:$AC$48,4,FALSE)),\"\",VLOOKUP(B21,SaisieVols!$Y$4:$AC$48,4,FALSE))))","v":""},{"$f":"SUM(AE21)*Parametres!AD$3","v":0},{"$f":"IF(C21<>\"P\",\"\",IF(C21=\"P\",IF(ISNA(VLOOKUP(B21,SaisieVols!$Y$4:$AC$48,3,FALSE)),\"\",VLOOKUP(B21,SaisieVols!$Y$4:$AC$48,3,FALSE))))","v":""},{"$f":"SUM(AG21)*Parametres!AC$4","v":0},{"$f":"IF(C21<>\"P\",\"\",IF(C21=\"P\",IF(ISNA(VLOOKUP(B21,SaisieVols!$Y$4:$AC$48,5,FALSE)),\"\",VLOOKUP(B21,SaisieVols!$Y$4:$AC$48,5,FALSE))))","v":""},{"$f":"SUM(AI21)*Parametres!AC$3","v":0},null,0]
[null,null,null,0,0,0,0,0,null,{"$f":"SUM(D22)*Parametres!O$5","v":0},{"$f":"SUM(E22)*Parametres!O$6","v":0},{"$f":"SUM(F22)*Parametres!O$7","v":0},"=",0,{"$f":"SUM(G22)*Parametres!O$8","v":0},0,null,0,null,null,null,null,null,null,null,null,null,{"$f":"SUM(H22)*Parametres!AE$5","v":0},{"$f":"IF(C22<>\"P\",\"\",IF(C22=\"P\",IF(ISNA(VLOOKUP(B22,SaisieVols!$Y$4:$AA$48,2,FALSE)),\"\",VLOOKUP(B22,SaisieVols!$Y$4:$AA$48,2,FALSE))))","v":""},{"$f":"SUM(AC22)*Parametres!AD$4","v":0},{"$f":"IF(C22<>\"P\",\"\",IF(C22=\"P\",IF(ISNA(VLOOKUP(B22,SaisieVols!$Y$4:$AC$48,4,FALSE)),\"\",VLOOKUP(B22,SaisieVols!$Y$4:$AC$48,4,FALSE))))","v":""},{"$f":"SUM(AE22)*Parametres!AD$3","v":0},{"$f":"IF(C22<>\"P\",\"\",IF(C22=\"P\",IF(ISNA(VLOOKUP(B22,SaisieVols!$Y$4:$AC$48,3,FALSE)),\"\",VLOOKUP(B22,SaisieVols!$Y$4:$AC$48,3,FALSE))))","v":""},{"$f":"SUM(AG22)*Parametres!AC$4","v":0},{"$f":"IF(C22<>\"P\",\"\",IF(C22=\"P\",IF(ISNA(VLOOKUP(B22,SaisieVols!$Y$4:$AC$48,5,FALSE)),\"\",VLOOKUP(B22,SaisieVols!$Y$4:$AC$48,5,FALSE))))","v":""},{"$f":"SUM(AI22)*Parametres!AC$3","v":0},null,0]
[null,null,null,0,0,0,0,0,null,{"$f":"SUM(D23)*Parametres!O$5","v":0},{"$f":"SUM(E23)*Parametres!O$6","v":0},{"$f":"SUM(F23)*Parametres!O$7","v":0},"=",0,{"$f":"SUM(G23)*Parametres!O$8","v":0},0,null,0,null,null,null,null,null,null,null,null,null,{"$f":"SUM(H23)*Parametres!AE$5","v":0},{"$f":"IF(C23<>\"P\",\"\",IF(C23=\"P\",IF(ISNA(VLOOKUP(B23,SaisieVols!$Y$4:$AA$48,2,FALSE)),\"\",VLOOKUP(B23,SaisieVols!$Y$4:$AA$48,2,FALSE))))","v":""},{"$f":"SUM(AC23)*Parametres!AD$4","v":0},{"$f":"IF(C23<>\"P\",\"\",IF(C23=\"P\",IF(ISNA(VLOOKUP(B23,SaisieVols!$Y$4:$AC$48,4,FALSE)),\"\",VLOOKUP(B23,SaisieVols!$Y$4:$AC$48,4,FALSE))))","v":""},{"$f":"SUM(AE23)*Parametres!AD$3","v":0},{"$f":"IF(C23<>\"P\",\"\",IF(C23=\"P\",IF(ISNA(VLOOKUP(B23,SaisieVols!$Y$4:$AC$48,3,FALSE)),\"\",VLOOKUP(B23,SaisieVols!$Y$4:$AC$48,3,FALSE))))","v":""},{"$f":"SUM(AG23)*Parametres!AC$4","v":0},{"$f":"IF(C23<>\"P\",\"\",IF(C23=\"P\",IF(ISNA(VLOOKUP(B23,SaisieVols!$Y$4:$AC$48,5,FALSE)),\"\",VLOOKUP(B23,SaisieVols!$Y$4:$AC$48,5,FALSE))))","v":""},{"$f":"SUM(AI23)*Parametres!AC$3","v":0},null,0]
[null,null,null,0,0,0,0,0,null,{"$f":"SUM(D24)*Parametres!O$5","v":0},{"$f":"SUM(E24)*Parametres!O$6","v":0},{"$f":"SUM(F24)*Parametres!O$7","v":0},"=",{"$f":"SUM(J24:L24)","v":0},{"$f":"SUM(G24)*Parametres!O$8","v":0},{"$f":"SUM(N24:O24)","v":0},null,0,null,null,null,null,null,null,null,null,null,{"$f":"SUM(H24)*Parametres!AE$5","v":0},{"$f":"IF(C24<>\"P\",\"\",IF(C24=\"P\",IF(ISNA(VLOOKUP(B24,SaisieVols!$Y$4:$AA$48,2,FALSE)),\"\",VLOOKUP(B24,SaisieVols!$Y$4:$AA$48,2,FALSE))))","v":""},{"$f":"SUM(AC24)*Parametres!AD$4","v":0},{"$f":"IF(C24<>\"P\",\"\",IF(C24=\"P\",IF(ISNA(VLOOKUP(B24,SaisieVols!$Y$4:$AC$48,4,FALSE)),\"\",VLOOKUP(B24,SaisieVols!$Y$4:$AC$48,4,FALSE))))","v":""},{"$f":"SUM(AE24)*Parametres!AD$3","v":0},{"$f":"IF(C24<>\"P\",\"\",IF(C24=\"P\",IF(ISNA(VLOOKUP(B24,SaisieVols!$Y$4:$AC$48,3,FALSE)),\"\",VLOOKUP(B24,SaisieVols!$Y$4:$AC$48,3,FALSE))))","v":""},{"$f":"SUM(AG24)*Parametres!AC$4","v":0},{"$f":"IF(C24<>\"P\",\"\",IF(C24=\"P\",IF(ISNA(VLOOKUP(B24,SaisieVols!$Y$4:$AC$48,5,FALSE)),\"\",VLOOKUP(B24,SaisieVols!$Y$4:$AC$48,5,FALSE))))","v":""},{"$f":"SUM(AI24)*Parametres!AC$3","v":0},null,{"$f":"SUM(AB24+AD24+AF24+AH24+AJ24)","v":0}]
[null,null,null,0,0,0,0,0,null,{"$f":"SUM(D25)*Parametres!O$5","v":0},{"$f":"SUM(E25)*Parametres!O$6","v":0},{"$f":"SUM(F25)*Parametres!O$7","v":0},"=",0,{"$f":"SUM(G25)*Parametres!O$8","v":0},0,null,{"$f":"SUM(BL25+BF25+BR25+BX25+CD25+CJ25+CP25+CV25+DB25+DH25+DN25+DT41+DZ41+EF41+EL41+ER41+EX41+FD41)","v":0},null,null,null,null,null,null,null,null,null,{"$f":"SUM(H25)*Parametres!AE$5","v":0},{"$f":"IF(C25<>\"P\",\"\",IF(C25=\"P\",IF(ISNA(VLOOKUP(B25,SaisieVols!$Y$4:$AA$48,2,FALSE)),\"\",VLOOKUP(B25,SaisieVols!$Y$4:$AA$48,2,FALSE))))","v":""},{"$f":"SUM(AC25)*Parametres!AD$4","v":0},{"$f":"IF(C25<>\"P\",\"\",IF(C25=\"P\",IF(ISNA(VLOOKUP(B25,SaisieVols!$Y$4:$AC$48,4,FALSE)),\"\",VLOOKUP(B25,SaisieVols!$Y$4:$AC$48,4,FALSE))))","v":""},{"$f":"SUM(AE25)*Parametres!AD$3","v":0},{"$f":"IF(C25<>\"P\",\"\",IF(C25=\"P\",IF(ISNA(VLOOKUP(B25,SaisieVols!$Y$4:$AC$48,3,FALSE)),\"\",VLOOKUP(B25,SaisieVols!$Y$4:$AC$48,3,FALSE))))","v":""},{"$f":"SUM(AG25)*Parametres!AC$4","v":0},{"$f":"IF(C25<>\"P\",\"\",IF(C25=\"P\",IF(ISNA(VLOOKUP(B25,SaisieVols!$Y$4:$AC$48,5,FALSE)),\"\",VLOOKUP(B25,SaisieVols!$Y$4:$AC$48,5,FALSE))))","v":""},{"$f":"SUM(AI25)*Parametres!AC$3","v":0},null,0]
[null,null,null,0,null,null,null,null,null,null,null,null,null,null,null,null,null,null,null,null,null,null,null,null,null,null,null,{"$f":"SUM(H26)*Parametres!AE$5","v":0},{"$f":"IF(C26<>\"P\",\"\",IF(C26=\"P\",IF(ISNA(VLOOKUP(B26,SaisieVols!$Y$4:$AA$48,2,FALSE)),\"\",VLOOKUP(B26,SaisieVols!$Y$4:$AA$48,2,FALSE))))","v":""},{"$f":"SUM(AC26)*Parametres!AD$4","v":0},{"$f":"IF(C26<>\"P\",\"\",IF(C26=\"P\",IF(ISNA(VLOOKUP(B26,SaisieVols!$Y$4:$AC$48,4,FALSE)),\"\",VLOOKUP(B26,SaisieVols!$Y$4:$AC$48,4,FALSE))))","v":""},{"$f":"SUM(AE26)*Parametres!AD$3","v":0},{"$f":"IF(C26<>\"P\",\"\",IF(C26=\"P\",IF(ISNA(VLOOKUP(B26,SaisieVols!$Y$4:$AC$48,3,FALSE)),\"\",VLOOKUP(B26,SaisieVols!$Y$4:$AC$48,3,FALSE))))","v":""},{"$f":"SUM(AG26)*Parametres!AC$4","v":0},{"$f":"IF(C26<>\"P\",\"\",IF(C26=\"P\",IF(ISNA(VLOOKUP(B26,SaisieVols!$Y$4:$AC$48,5,FALSE)),\"\",VLOOKUP(B26,SaisieVols!$Y$4:$AC$48,5,FALSE))))","v":""},{"$f":"SUM(AI26)*Parametres!AC$3","v":0}]
[null,null,null,0,null,null,null,null,null,null,null,null,null,null,null,null,null,null,null,null,null,null,null,null,null,null,null,{"$f":"SUM(H27)*Parametres!AE$5","v":0},{"$f":"IF(C27<>\"P\",\"\",IF(C27=\"P\",IF(ISNA(VLOOKUP(B27,SaisieVols!$Y$4:$AA$48,2,FALSE)),\"\",VLOOKUP(B27,SaisieVols!$Y$4:$AA$48,2,FALSE))))","v":""},{"$f":"SUM(AC27)*Parametres!AD$4","v":0},{"$f":"IF(C27<>\"P\",\"\",IF(C27=\"P\",IF(ISNA(VLOOKUP(B27,SaisieVols!$Y$4:$AC$48,4,FALSE)),\"\",VLOOKUP(B27,SaisieVols!$Y$4:$AC$48,4,FALSE))))","v":""},{"$f":"SUM(AE27)*Parametres!AD$3","v":0},{"$f":"IF(C27<>\"P\",\"\",IF(C27=\"P\",IF(ISNA(VLOOKUP(B27,SaisieVols!$Y$4:$AC$48,3,FALSE)),\"\",VLOOKUP(B27,SaisieVols!$Y$4:$AC$48,3,FALSE))))","v":""},{"$f":"SUM(AG27)*Parametres!AC$4","v":0},{"$f":"IF(C27<>\"P\",\"\",IF(C27=\"P\",IF(ISNA(VLOOKUP(B27,SaisieVols!$Y$4:$AC$48,5,FALSE)),\"\",VLOOKUP(B27,SaisieVols!$Y$4:$AC$48,5,FALSE))))","v":""},{"$f":"SUM(AI27)*Parametres!AC$3","v":0}]
[null,null,null,0,null,null,null,null,null,null,null,null,null,null,null,null,null,null,null,null,null,null,null,null,null,null,null,{"$f":"SUM(H28)*Parametres!AE$5","v":0},{"$f":"IF(C28<>\"P\",\"\",IF(C28=\"P\",IF(ISNA(VLOOKUP(B28,SaisieVols!$Y$4:$AA$48,2,FALSE)),\"\",VLOOKUP(B28,SaisieVols!$Y$4:$AA$48,2,FALSE))))","v":""},{"$f":"SUM(AC28)*Parametres!AD$4","v":0},{"$f":"IF(C28<>\"P\",\"\",IF(C28=\"P\",IF(ISNA(VLOOKUP(B28,SaisieVols!$Y$4:$AC$48,4,FALSE)),\"\",VLOOKUP(B28,SaisieVols!$Y$4:$AC$48,4,FALSE))))","v":""},{"$f":"SUM(AE28)*Parametres!AD$3","v":0},{"$f":"IF(C28<>\"P\",\"\",IF(C28=\"P\",IF(ISNA(VLOOKUP(B28,SaisieVols!$Y$4:$AC$48,3,FALSE)),\"\",VLOOKUP(B28,SaisieVols!$Y$4:$AC$48,3,FALSE))))","v":""},{"$f":"SUM(AG28)*Parametres!AC$4","v":0},{"$f":"IF(C28<>\"P\",\"\",IF(C28=\"P\",IF(ISNA(VLOOKUP(B28,SaisieVols!$Y$4:$AC$48,5,FALSE)),\"\",VLOOKUP(B28,SaisieVols!$Y$4:$AC$48,5,FALSE))))","v":""},{"$f":"SUM(AI28)*Parametres!AC$3","v":0}]
[null,null,null,0,null,null,null,null,null,null,null,null,null,null,null,null,null,null,null,null,null,null,null,null,null,null,null,{"$f":"SUM(H29)*Parametres!AE$5","v":0},{"$f":"IF(C29<>\"P\",\"\",IF(C29=\"P\",IF(ISNA(VLOOKUP(B29,SaisieVols!$Y$4:$AA$48,2,FALSE)),\"\",VLOOKUP(B29,SaisieVols!$Y$4:$AA$48,2,FALSE))))","v":""},{"$f":"SUM(AC29)*Parametres!AD$4","v":0},{"$f":"IF(C29<>\"P\",\"\",IF(C29=\"P\",IF(ISNA(VLOOKUP(B29,SaisieVols!$Y$4:$AC$48,4,FALSE)),\"\",VLOOKUP(B29,SaisieVols!$Y$4:$AC$48,4,FALSE))))","v":""},{"$f":"SUM(AE29)*Parametres!AD$3","v":0},{"$f":"IF(C29<>\"P\",\"\",IF(C29=\"P\",IF(ISNA(VLOOKUP(B29,SaisieVols!$Y$4:$AC$48,3,FALSE)),\"\",VLOOKUP(B29,SaisieVols!$Y$4:$AC$48,3,FALSE))))","v":""},{"$f":"SUM(AG29)*Parametres!AC$4","v":0},{"$f":"IF(C29<>\"P\",\"\",IF(C29=\"P\",IF(ISNA(VLOOKUP(B29,SaisieVols!$Y$4:$AC$48,5,FALSE)),\"\",VLOOKUP(B29,SaisieVols!$Y$4:$AC$48,5,FALSE))))","v":""},{"$f":"SUM(AI29)*Parametres!AC$3","v":0}]
[null,null,null,0,null,null,null,null,null,null,null,null,null,null,null,null,null,null,null,null,null,null,null,null,null,null,null,{"$f":"SUM(H30)*Parametres!AE$5","v":0},{"$f":"IF(C30<>\"P\",\"\",IF(C30=\"P\",IF(ISNA(VLOOKUP(B30,SaisieVols!$Y$4:$AA$48,2,FALSE)),\"\",VLOOKUP(B30,SaisieVols!$Y$4:$AA$48,2,FALSE))))","v":""},{"$f":"SUM(AC30)*Parametres!AD$4","v":0},{"$f":"IF(C30<>\"P\",\"\",IF(C30=\"P\",IF(ISNA(VLOOKUP(B30,SaisieVols!$Y$4:$AC$48,4,FALSE)),\"\",VLOOKUP(B30,SaisieVols!$Y$4:$AC$48,4,FALSE))))","v":""},{"$f":"SUM(AE30)*Parametres!AD$3","v":0},{"$f":"IF(C30<>\"P\",\"\",IF(C30=\"P\",IF(ISNA(VLOOKUP(B30,SaisieVols!$Y$4:$AC$48,3,FALSE)),\"\",VLOOKUP(B30,SaisieVols!$Y$4:$AC$48,3,FALSE))))","v":""},{"$f":"SUM(AG30)*Parametres!AC$4","v":0},{"$f":"IF(C30<>\"P\",\"\",IF(C30=\"P\",IF(ISNA(VLOOKUP(B30,SaisieVols!$Y$4:$AC$48,5,FALSE)),\"\",VLOOKUP(B30,SaisieVols!$Y$4:$AC$48,5,FALSE))))","v":""},{"$f":"SUM(AI30)*Parametres!AC$3","v":0}]
[null,null,null,0,null,null,null,null,null,null,null,null,null,null,null,null,null,null,null,null,null,null,null,null,null,null,null,{"$f":"SUM(H31)*Parametres!AE$5","v":0},{"$f":"IF(C31<>\"P\",\"\",IF(C31=\"P\",IF(ISNA(VLOOKUP(B31,SaisieVols!$Y$4:$AA$48,2,FALSE)),\"\",VLOOKUP(B31,SaisieVols!$Y$4:$AA$48,2,FALSE))))","v":""},{"$f":"SUM(AC31)*Parametres!AD$4","v":0},{"$f":"IF(C31<>\"P\",\"\",IF(C31=\"P\",IF(ISNA(VLOOKUP(B31,SaisieVols!$Y$4:$AC$48,4,FALSE)),\"\",VLOOKUP(B31,SaisieVols!$Y$4:$AC$48,4,FALSE))))","v":""},{"$f":"SUM(AE31)*Parametres!AD$3","v":0},{"$f":"IF(C31<>\"P\",\"\",IF(C31=\"P\",IF(ISNA(VLOOKUP(B31,SaisieVols!$Y$4:$AC$48,3,FALSE)),\"\",VLOOKUP(B31,SaisieVols!$Y$4:$AC$48,3,FALSE))))","v":""},{"$f":"SUM(AG31)*Parametres!AC$4","v":0},{"$f":"IF(C31<>\"P\",\"\",IF(C31=\"P\",IF(ISNA(VLOOKUP(B31,SaisieVols!$Y$4:$AC$48,5,FALSE)),\"\",VLOOKUP(B31,SaisieVols!$Y$4:$AC$48,5,FALSE))))","v":""},{"$f":"SUM(AI31)*Parametres!AC$3","v":0}]
[null,null,null,0,null,null,null,null,null,null,null,null,null,null,null,null,null,null,null,null,null,null,null,null,null,null,null,{"$f":"SUM(H32)*Parametres!AE$5","v":0},{"$f":"IF(C32<>\"P\",\"\",IF(C32=\"P\",IF(ISNA(VLOOKUP(B32,SaisieVols!$Y$4:$AA$48,2,FALSE)),\"\",VLOOKUP(B32,SaisieVols!$Y$4:$AA$48,2,FALSE))))","v":""},{"$f":"SUM(AC32)*Parametres!AD$4","v":0},{"$f":"IF(C32<>\"P\",\"\",IF(C32=\"P\",IF(ISNA(VLOOKUP(B32,SaisieVols!$Y$4:$AC$48,4,FALSE)),\"\",VLOOKUP(B32,SaisieVols!$Y$4:$AC$48,4,FALSE))))","v":""},{"$f":"SUM(AE32)*Parametres!AD$3","v":0},{"$f":"IF(C32<>\"P\",\"\",IF(C32=\"P\",IF(ISNA(VLOOKUP(B32,SaisieVols!$Y$4:$AC$48,3,FALSE)),\"\",VLOOKUP(B32,SaisieVols!$Y$4:$AC$48,3,FALSE))))","v":""},{"$f":"SUM(AG32)*Parametres!AC$4","v":0},{"$f":"IF(C32<>\"P\",\"\",IF(C32=\"P\",IF(ISNA(VLOOKUP(B32,SaisieVols!$Y$4:$AC$48,5,FALSE)),\"\",VLOOKUP(B32,SaisieVols!$Y$4:$AC$48,5,FALSE))))","v":""},{"$f":"SUM(AI32)*Parametres!AC$3","v":0}]
[null,null,null,0,null,null,null,null,null,null,null,null,null,null,null,null,null,null,null,null,null,null,null,null,null,null,null,{"$f":"SUM(H33)*Parametres!AE$5","v":0},{"$f":"IF(C33<>\"P\",\"\",IF(C33=\"P\",IF(ISNA(VLOOKUP(B33,SaisieVols!$Y$4:$AA$48,2,FALSE)),\"\",VLOOKUP(B33,SaisieVols!$Y$4:$AA$48,2,FALSE))))","v":""},{"$f":"SUM(AC33)*Parametres!AD$4","v":0},{"$f":"IF(C33<>\"P\",\"\",IF(C33=\"P\",IF(ISNA(VLOOKUP(B33,SaisieVols!$Y$4:$AC$48,4,FALSE)),\"\",VLOOKUP(B33,SaisieVols!$Y$4:$AC$48,4,FALSE))))","v":""},{"$f":"SUM(AE33)*Parametres!AD$3","v":0},{"$f":"IF(C33<>\"P\",\"\",IF(C33=\"P\",IF(ISNA(VLOOKUP(B33,SaisieVols!$Y$4:$AC$48,3,FALSE)),\"\",VLOOKUP(B33,SaisieVols!$Y$4:$AC$48,3,FALSE))))","v":""},{"$f":"SUM(AG33)*Parametres!AC$4","v":0},{"$f":"IF(C33<>\"P\",\"\",IF(C33=\"P\",IF(ISNA(VLOOKUP(B33,SaisieVols!$Y$4:$AC$48,5,FALSE)),\"\",VLOOKUP(B33,SaisieVols!$Y$4:$AC$48,5,FALSE))))","v":""},{"$f":"SUM(AI33)*Parametres!AC$3","v":0}]
[null,null,null,0,null,null,null,null,null,null,null,null,null,null,null,null,null,null,null,null,null,null,null,null,null,null,null,{"$f":"SUM(H34)*Parametres!AE$5","v":0},{"$f":"IF(C34<>\"P\",\"\",IF(C34=\"P\",IF(ISNA(VLOOKUP(B34,SaisieVols!$Y$4:$AA$48,2,FALSE)),\"\",VLOOKUP(B34,SaisieVols!$Y$4:$AA$48,2,FALSE))))","v":""},{"$f":"SUM(AC34)*Parametres!AD$4","v":0},{"$f":"IF(C34<>\"P\",\"\",IF(C34=\"P\",IF(ISNA(VLOOKUP(B34,SaisieVols!$Y$4:$AC$48,4,FALSE)),\"\",VLOOKUP(B34,SaisieVols!$Y$4:$AC$48,4,FALSE))))","v":""},{"$f":"SUM(AE34)*Parametres!AD$3","v":0},{"$f":"IF(C34<>\"P\",\"\",IF(C34=\"P\",IF(ISNA(VLOOKUP(B34,SaisieVols!$Y$4:$AC$48,3,FALSE)),\"\",VLOOKUP(B34,SaisieVols!$Y$4:$AC$48,3,FALSE))))","v":""},{"$f":"SUM(AG34)*Parametres!AC$4","v":0},{"$f":"IF(C34<>\"P\",\"\",IF(C34=\"P\",IF(ISNA(VLOOKUP(B34,SaisieVols!$Y$4:$AC$48,5,FALSE)),\"\",VLOOKUP(B34,SaisieVols!$Y$4:$AC$48,5,FALSE))))","v":""},{"$f":"SUM(AI34)*Parametres!AC$3","v":0}]
[null,null,null,0,null,null,null,null,null,null,null,null,null,null,null,null,null,null,null,null,null,null,null,null,null,null,null,{"$f":"SUM(H35)*Parametres!AE$5","v":0},{"$f":"IF(C35<>\"P\",\"\",IF(C35=\"P\",IF(ISNA(VLOOKUP(B35,SaisieVols!$Y$4:$AA$48,2,FALSE)),\"\",VLOOKUP(B35,SaisieVols!$Y$4:$AA$48,2,FALSE))))","v":""},{"$f":"SUM(AC35)*Parametres!AD$4","v":0},{"$f":"IF(C35<>\"P\",\"\",IF(C35=\"P\",IF(ISNA(VLOOKUP(B35,SaisieVols!$Y$4:$AC$48,4,FALSE)),\"\",VLOOKUP(B35,SaisieVols!$Y$4:$AC$48,4,FALSE))))","v":""},{"$f":"SUM(AE35)*Parametres!AD$3","v":0},{"$f":"IF(C35<>\"P\",\"\",IF(C35=\"P\",IF(ISNA(VLOOKUP(B35,SaisieVols!$Y$4:$AC$48,3,FALSE)),\"\",VLOOKUP(B35,SaisieVols!$Y$4:$AC$48,3,FALSE))))","v":""},{"$f":"SUM(AG35)*Parametres!AC$4","v":0},{"$f":"IF(C35<>\"P\",\"\",IF(C35=\"P\",IF(ISNA(VLOOKUP(B35,SaisieVols!$Y$4:$AC$48,5,FALSE)),\"\",VLOOKUP(B35,SaisieVols!$Y$4:$AC$48,5,FALSE))))","v":""},{"$f":"SUM(AI35)*Parametres!AC$3","v":0}]
[null,null,null,0,null,null,null,null,null,null,null,null,null,null,null,null,null,null,null,null,null,null,null,null,null,null,null,{"$f":"SUM(H36)*Parametres!AE$5","v":0},{"$f":"IF(C36<>\"P\",\"\",IF(C36=\"P\",IF(ISNA(VLOOKUP(B36,SaisieVols!$Y$4:$AA$48,2,FALSE)),\"\",VLOOKUP(B36,SaisieVols!$Y$4:$AA$48,2,FALSE))))","v":""},{"$f":"SUM(AC36)*Parametres!AD$4","v":0},{"$f":"IF(C36<>\"P\",\"\",IF(C36=\"P\",IF(ISNA(VLOOKUP(B36,SaisieVols!$Y$4:$AC$48,4,FALSE)),\"\",VLOOKUP(B36,SaisieVols!$Y$4:$AC$48,4,FALSE))))","v":""},{"$f":"SUM(AE36)*Parametres!AD$3","v":0},{"$f":"IF(C36<>\"P\",\"\",IF(C36=\"P\",IF(ISNA(VLOOKUP(B36,SaisieVols!$Y$4:$AC$48,3,FALSE)),\"\",VLOOKUP(B36,SaisieVols!$Y$4:$AC$48,3,FALSE))))","v":""},{"$f":"SUM(AG36)*Parametres!AC$4","v":0},{"$f":"IF(C36<>\"P\",\"\",IF(C36=\"P\",IF(ISNA(VLOOKUP(B36,SaisieVols!$Y$4:$AC$48,5,FALSE)),\"\",VLOOKUP(B36,SaisieVols!$Y$4:$AC$48,5,FALSE))))","v":""},{"$f":"SUM(AI36)*Parametres!AC$3","v":0}]
[null,null,null,0,{"$f":"SUM(BB37+BH37+BN37+BT37+BZ37+CF37+CL37+CR37+CX37+DD37+DJ37+DP42+DV42+EB42+EH42+EN42+ET42+EZ42)","v":0},{"$f":"SUM(BC37+BI37+BO37+BU37+CA37+CG37+CM37+CS37+CY37+DE37+DK37+DQ42+DW42+EC42+EI42+EO42+EU42+FA42)","v":0},{"$f":"SUM(BD37+BJ37+BP37+BV37+CB37+CH37+CN37+CT37+CZ37+DF37+DL37+DR42+DX42+ED42+EJ42+EP42+EV42+FB42)","v":0},{"$f":"SUM(BE37+BK37+BQ37+BW37+CC37+CI37+CO37+CU37+DA37+DG37+DM37+DS42+DY42+EE42+EK42+EQ42+EW42+FC42)","v":0},null,{"$f":"SUM(D37)*Parametres!O$5","v":0},{"$f":"SUM(E37)*Parametres!O$6","v":0},{"$f":"SUM(F37)*Parametres!O$7","v":0},"=",0,{"$f":"SUM(G37)*Parametres!O$8","v":0},0,null,{"$f":"SUM(BL37+BF37+BR37+BX37+CD37+CJ37+CP37+CV37+DB37+DH37+DN37+DT42+DZ42+EF42+EL42+ER42+EX42+FD42)","v":0},null,null,null,null,null,null,null,null,null,{"$f":"SUM(H37)*Parametres!AE$5","v":0},{"$f":"IF(C37<>\"P\",\"\",IF(C37=\"P\",IF(ISNA(VLOOKUP(B37,SaisieVols!$Y$4:$AA$48,2,FALSE)),\"\",VLOOKUP(B37,SaisieVols!$Y$4:$AA$48,2,FALSE))))","v":""},{"$f":"SUM(AC37)*Parametres!AD$4","v":0},{"$f":"IF(C37<>\"P\",\"\",IF(C37=\"P\",IF(ISNA(VLOOKUP(B37,SaisieVols!$Y$4:$AC$48,4,FALSE)),\"\",VLOOKUP(B37,SaisieVols!$Y$4:$AC$48,4,FALSE))))","v":""},{"$f":"SUM(AE37)*Parametres!AD$3","v":0},{"$f":"IF(C37<>\"P\",\"\",IF(C37=\"P\",IF(ISNA(VLOOKUP(B37,SaisieVols!$Y$4:$AC$48,3,FALSE)),\"\",VLOOKUP(B37,SaisieVols!$Y$4:$AC$48,3,FALSE))))","v":""},{"$f":"SUM(AG37)*Parametres!AC$4","v":0},{"$f":"IF(C37<>\"P\",\"\",IF(C37=\"P\",IF(ISNA(VLOOKUP(B37,SaisieVols!$Y$4:$AC$48,5,FALSE)),\"\",VLOOKUP(B37,SaisieVols!$Y$4:$AC$48,5,FALSE))))","v":""},{"$f":"SUM(AI37)*Parametres!AC$3","v":0},null,0]
[null,null,null,0,0,0,0,0,null,{"$f":"SUM(D38)*Parametres!O$5","v":0},{"$f":"SUM(E38)*Parametres!O$6","v":0},{"$f":"SUM(F38)*Parametres!O$7","v":0},"=",0,{"$f":"SUM(G38)*Parametres!O$8","v":0},0,null,0,null,null,null,null,null,null,null,null,null,{"$f":"SUM(H38)*Parametres!AE$5","v":0},{"$f":"IF(C38<>\"P\",\"\",IF(C38=\"P\",IF(ISNA(VLOOKUP(B38,SaisieVols!$Y$4:$AA$48,2,FALSE)),\"\",VLOOKUP(B38,SaisieVols!$Y$4:$AA$48,2,FALSE))))","v":""},{"$f":"SUM(AC38)*Parametres!AD$4","v":0},{"$f":"IF(C38<>\"P\",\"\",IF(C38=\"P\",IF(ISNA(VLOOKUP(B38,SaisieVols!$Y$4:$AC$48,4,FALSE)),\"\",VLOOKUP(B38,SaisieVols!$Y$4:$AC$48,4,FALSE))))","v":""},{"$f":"SUM(AE38)*Parametres!AD$3","v":0},{"$f":"IF(C38<>\"P\",\"\",IF(C38=\"P\",IF(ISNA(VLOOKUP(B38,SaisieVols!$Y$4:$AC$48,3,FALSE)),\"\",VLOOKUP(B38,SaisieVols!$Y$4:$AC$48,3,FALSE))))","v":""},{"$f":"SUM(AG38)*Parametres!AC$4","v":0},{"$f":"IF(C38<>\"P\",\"\",IF(C38=\"P\",IF(ISNA(VLOOKUP(B38,SaisieVols!$Y$4:$AC$48,5,FALSE)),\"\",VLOOKUP(B38,SaisieVols!$Y$4:$AC$48,5,FALSE))))","v":""},{"$f":"SUM(AI38)*Parametres!AC$3","v":0},null,0]
[null,null,null,0,0,0,0,0,null,{"$f":"SUM(D39)*Parametres!O$5","v":0},{"$f":"SUM(E39)*Parametres!O$6","v":0},{"$f":"SUM(F39)*Parametres!O$7","v":0},"=",0,{"$f":"SUM(G39)*Parametres!O$8","v":0},0,null,0,null,null,null,null,null,null,null,null,null,{"$f":"SUM(H39)*Parametres!AE$5","v":0},{"$f":"IF(C39<>\"P\",\"\",IF(C39=\"P\",IF(ISNA(VLOOKUP(B39,SaisieVols!$Y$4:$AA$48,2,FALSE)),\"\",VLOOKUP(B39,SaisieVols!$Y$4:$AA$48,2,FALSE))))","v":""},{"$f":"SUM(AC39)*Parametres!AD$4","v":0},{"$f":"IF(C39<>\"P\",\"\",IF(C39=\"P\",IF(ISNA(VLOOKUP(B39,SaisieVols!$Y$4:$AC$48,4,FALSE)),\"\",VLOOKUP(B39,SaisieVols!$Y$4:$AC$48,4,FALSE))))","v":""},{"$f":"SUM(AE39)*Parametres!AD$3","v":0},{"$f":"IF(C39<>\"P\",\"\",IF(C39=\"P\",IF(ISNA(VLOOKUP(B39,SaisieVols!$Y$4:$AC$48,3,FALSE)),\"\",VLOOKUP(B39,SaisieVols!$Y$4:$AC$48,3,FALSE))))","v":""},{"$f":"SUM(AG39)*Parametres!AC$4","v":0},{"$f":"IF(C39<>\"P\",\"\",IF(C39=\"P\",IF(ISNA(VLOOKUP(B39,SaisieVols!$Y$4:$AC$48,5,FALSE)),\"\",VLOOKUP(B39,SaisieVols!$Y$4:$AC$48,5,FALSE))))","v":""},{"$f":"SUM(AI39)*Parametres!AC$3","v":0},null,0]
[null,null,null,0,0,0,0,0,null,{"$f":"SUM(D40)*Parametres!O$5","v":0},{"$f":"SUM(E40)*Parametres!O$6","v":0},{"$f":"SUM(F40)*Parametres!O$7","v":0},"=",0,{"$f":"SUM(G40)*Parametres!O$8","v":0},0,null,0,null,null,null,null,null,null,null,null,null,{"$f":"SUM(H40)*Parametres!AE$5","v":0},{"$f":"IF(C40<>\"P\",\"\",IF(C40=\"P\",IF(ISNA(VLOOKUP(B40,SaisieVols!$Y$4:$AA$48,2,FALSE)),\"\",VLOOKUP(B40,SaisieVols!$Y$4:$AA$48,2,FALSE))))","v":""},{"$f":"SUM(AC40)*Parametres!AD$4","v":0},{"$f":"IF(C40<>\"P\",\"\",IF(C40=\"P\",IF(ISNA(VLOOKUP(B40,SaisieVols!$Y$4:$AC$48,4,FALSE)),\"\",VLOOKUP(B40,SaisieVols!$Y$4:$AC$48,4,FALSE))))","v":""},{"$f":"SUM(AE40)*Parametres!AD$3","v":0},{"$f":"IF(C40<>\"P\",\"\",IF(C40=\"P\",IF(ISNA(VLOOKUP(B40,SaisieVols!$Y$4:$AC$48,3,FALSE)),\"\",VLOOKUP(B40,SaisieVols!$Y$4:$AC$48,3,FALSE))))","v":""},{"$f":"SUM(AG40)*Parametres!AC$4","v":0},{"$f":"IF(C40<>\"P\",\"\",IF(C40=\"P\",IF(ISNA(VLOOKUP(B40,SaisieVols!$Y$4:$AC$48,5,FALSE)),\"\",VLOOKUP(B40,SaisieVols!$Y$4:$AC$48,5,FALSE))))","v":""},{"$f":"SUM(AI40)*Parametres!AC$3","v":0},null,0]
[null,null,null,0,0,0,0,0,null,{"$f":"SUM(D41)*Parametres!O$5","v":0},{"$f":"SUM(E41)*Parametres!O$6","v":0},{"$f":"SUM(F41)*Parametres!O$7","v":0},"=",0,{"$f":"SUM(G41)*Parametres!O$8","v":0},0,null,0,null,null,null,null,null,null,null,null,null,{"$f":"SUM(H41)*Parametres!AE$5","v":0},{"$f":"IF(C41<>\"P\",\"\",IF(C41=\"P\",IF(ISNA(VLOOKUP(B41,SaisieVols!$Y$4:$AA$48,2,FALSE)),\"\",VLOOKUP(B41,SaisieVols!$Y$4:$AA$48,2,FALSE))))","v":""},{"$f":"SUM(AC41)*Parametres!AD$4","v":0},{"$f":"IF(C41<>\"P\",\"\",IF(C41=\"P\",IF(ISNA(VLOOKUP(B41,SaisieVols!$Y$4:$AC$48,4,FALSE)),\"\",VLOOKUP(B41,SaisieVols!$Y$4:$AC$48,4,FALSE))))","v":""},{"$f":"SUM(AE41)*Parametres!AD$3","v":0},{"$f":"IF(C41<>\"P\",\"\",IF(C41=\"P\",IF(ISNA(VLOOKUP(B41,SaisieVols!$Y$4:$AC$48,3,FALSE)),\"\",VLOOKUP(B41,SaisieVols!$Y$4:$AC$48,3,FALSE))))","v":""},{"$f":"SUM(AG41)*Parametres!AC$4","v":0},{"$f":"IF(C41<>\"P\",\"\",IF(C41=\"P\",IF(ISNA(VLOOKUP(B41,SaisieVols!$Y$4:$AC$48,5,FALSE)),\"\",VLOOKUP(B41,SaisieVols!$Y$4:$AC$48,5,FALSE))))","v":""},{"$f":"SUM(AI41)*Parametres!AC$3","v":0},null,0]
[null,null,null,0,0,0,0,0,null,{"$f":"SUM(D42)*Parametres!O$5","v":0},{"$f":"SUM(E42)*Parametres!O$6","v":0},{"$f":"SUM(F42)*Parametres!O$7","v":0},"=",0,{"$f":"SUM(G42)*Parametres!O$8","v":0},0,null,0,null,null,null,null,null,null,null,null,null,{"$f":"SUM(H42)*Parametres!AE$5","v":0},{"$f":"IF(C42<>\"P\",\"\",IF(C42=\"P\",IF(ISNA(VLOOKUP(B42,SaisieVols!$Y$4:$AA$48,2,FALSE)),\"\",VLOOKUP(B42,SaisieVols!$Y$4:$AA$48,2,FALSE))))","v":""},{"$f":"SUM(AC42)*Parametres!AD$4","v":0},{"$f":"IF(C42<>\"P\",\"\",IF(C42=\"P\",IF(ISNA(VLOOKUP(B42,SaisieVols!$Y$4:$AC$48,4,FALSE)),\"\",VLOOKUP(B42,SaisieVols!$Y$4:$AC$48,4,FALSE))))","v":""},{"$f":"SUM(AE42)*Parametres!AD$3","v":0},{"$f":"IF(C42<>\"P\",\"\",IF(C42=\"P\",IF(ISNA(VLOOKUP(B42,SaisieVols!$Y$4:$AC$48,3,FALSE)),\"\",VLOOKUP(B42,SaisieVols!$Y$4:$AC$48,3,FALSE))))","v":""},{"$f":"SUM(AG42)*Parametres!AC$4","v":0},{"$f":"IF(C42<>\"P\",\"\",IF(C42=\"P\",IF(ISNA(VLOOKUP(B42,SaisieVols!$Y$4:$AC$48,5,FALSE)),\"\",VLOOKUP(B42,SaisieVols!$Y$4:$AC$48,5,FALSE))))","v":""},{"$f":"SUM(AI42)*Parametres!AC$3","v":0},null,0]
[null,null,null,0,{"$f":"SUM(BB43+BH43+BN43+BT43+BZ43+CF43+CL43+CR43+CX43+DD43+DJ43+DP51+DV51+EB51+EH51+EN51+ET51+EZ51)","v":0},0,0,0,null,{"$f":"SUM(D43)*Parametres!O$5","v":0},{"$f":"SUM(E43)*Parametres!O$6","v":0},{"$f":"SUM(F43)*Parametres!O$7","v":0},"=",0,{"$f":"SUM(G43)*Parametres!O$8","v":0},0,null,{"$f":"SUM(BL43+BF43+BR43+BX43+CD43+CJ43+CP43+CV43+DB43+DH43+DN43+DT51+DZ51+EF51+EL51+ER51+EX51+FD51)","v":0},null,null,null,null,null,null,null,null,null,{"$f":"SUM(H43)*Parametres!AE$5","v":0},{"$f":"IF(C43<>\"P\",\"\",IF(C43=\"P\",IF(ISNA(VLOOKUP(B43,SaisieVols!$Y$4:$AA$48,2,FALSE)),\"\",VLOOKUP(B43,SaisieVols!$Y$4:$AA$48,2,FALSE))))","v":""},{"$f":"SUM(AC43)*Parametres!AD$4","v":0},{"$f":"IF(C43<>\"P\",\"\",IF(C43=\"P\",IF(ISNA(VLOOKUP(B43,SaisieVols!$Y$4:$AC$48,4,FALSE)),\"\",VLOOKUP(B43,SaisieVols!$Y$4:$AC$48,4,FALSE))))","v":""},{"$f":"SUM(AE43)*Parametres!AD$3","v":0},{"$f":"IF(C43<>\"P\",\"\",IF(C43=\"P\",IF(ISNA(VLOOKUP(B43,SaisieVols!$Y$4:$AC$48,3,FALSE)),\"\",VLOOKUP(B43,SaisieVols!$Y$4:$AC$48,3,FALSE))))","v":""},{"$f":"SUM(AG43)*Parametres!AC$4","v":0},{"$f":"IF(C43<>\"P\",\"\",IF(C43=\"P\",IF(ISNA(VLOOKUP(B43,SaisieVols!$Y$4:$AC$48,5,FALSE)),\"\",VLOOKUP(B43,SaisieVols!$Y$4:$AC$48,5,FALSE))))","v":""},{"$f":"SUM(AI43)*Parametres!AC$3","v":0},null,0]
[null,null,null,0,0,0,0,0,null,{"$f":"SUM(D44)*Parametres!O$5","v":0},{"$f":"SUM(E44)*Parametres!O$6","v":0},{"$f":"SUM(F44)*Parametres!O$7","v":0},"=",0,{"$f":"SUM(G44)*Parametres!O$8","v":0},0,null,{"$f":"SUM(BL44+BF44+BR44+BX44+CD44+CJ44+CP44+CV44+DB44+DH44+DN44+DT52+DZ52+EF52+EL52+ER52+EX52+FD52)","v":0},null,null,null,null,null,null,null,null,null,{"$f":"SUM(H44)*Parametres!AE$5","v":0},{"$f":"IF(C44<>\"P\",\"\",IF(C44=\"P\",IF(ISNA(VLOOKUP(B44,SaisieVols!$Y$4:$AA$48,2,FALSE)),\"\",VLOOKUP(B44,SaisieVols!$Y$4:$AA$48,2,FALSE))))","v":""},{"$f":"SUM(AC44)*Parametres!AD$4","v":0},{"$f":"IF(C44<>\"P\",\"\",IF(C44=\"P\",IF(ISNA(VLOOKUP(B44,SaisieVols!$Y$4:$AC$48,4,FALSE)),\"\",VLOOKUP(B44,SaisieVols!$Y$4:$AC$48,4,FALSE))))","v":""},{"$f":"SUM(AE44)*Parametres!AD$3","v":0},{"$f":"IF(C44<>\"P\",\"\",IF(C44=\"P\",IF(ISNA(VLOOKUP(B44,SaisieVols!$Y$4:$AC$48,3,FALSE)),\"\",VLOOKUP(B44,SaisieVols!$Y$4:$AC$48,3,FALSE))))","v":""},{"$f":"SUM(AG44)*Parametres!AC$4","v":0},{"$f":"IF(C44<>\"P\",\"\",IF(C44=\"P\",IF(ISNA(VLOOKUP(B44,SaisieVols!$Y$4:$AC$48,5,FALSE)),\"\",VLOOKUP(B44,SaisieVols!$Y$4:$AC$48,5,FALSE))))","v":""},{"$f":"SUM(AI44)*Parametres!AC$3","v":0},null,0]
[null,null,null,0,0,0,0,0,null,{"$f":"SUM(D45)*Parametres!O$5","v":0},{"$f":"SUM(E45)*Parametres!O$6","v":0},{"$f":"SUM(F45)*Parametres!O$7","v":0},"=",0,{"$f":"SUM(G45)*Parametres!O$8","v":0},0,null,{"$f":"SUM(BL45+BF45+BR45+BX45+CD45+CJ45+CP45+CV45+DB45+DH45+DN45+DT53+DZ53+EF53+EL53+ER53+EX53+FD53)","v":0},null,null,null,null,null,null,null,null,null,{"$f":"SUM(H45)*Parametres!AE$5","v":0},{"$f":"IF(C45<>\"P\",\"\",IF(C45=\"P\",IF(ISNA(VLOOKUP(B45,SaisieVols!$Y$4:$AA$48,2,FALSE)),\"\",VLOOKUP(B45,SaisieVols!$Y$4:$AA$48,2,FALSE))))","v":""},{"$f":"SUM(AC45)*Parametres!AD$4","v":0},{"$f":"IF(C45<>\"P\",\"\",IF(C45=\"P\",IF(ISNA(VLOOKUP(B45,SaisieVols!$Y$4:$AC$48,4,FALSE)),\"\",VLOOKUP(B45,SaisieVols!$Y$4:$AC$48,4,FALSE))))","v":""},{"$f":"SUM(AE45)*Parametres!AD$3","v":0},{"$f":"IF(C45<>\"P\",\"\",IF(C45=\"P\",IF(ISNA(VLOOKUP(B45,SaisieVols!$Y$4:$AC$48,3,FALSE)),\"\",VLOOKUP(B45,SaisieVols!$Y$4:$AC$48,3,FALSE))))","v":""},{"$f":"SUM(AG45)*Parametres!AC$4","v":0},{"$f":"IF(C45<>\"P\",\"\",IF(C45=\"P\",IF(ISNA(VLOOKUP(B45,SaisieVols!$Y$4:$AC$48,5,FALSE)),\"\",VLOOKUP(B45,SaisieVols!$Y$4:$AC$48,5,FALSE))))","v":""},{"$f":"SUM(AI45)*Parametres!AC$3","v":0},null,0]
[null,null,null,0,0,0,0,0,null,{"$f":"SUM(D46)*Parametres!O$5","v":0},{"$f":"SUM(E46)*Parametres!O$6","v":0},{"$f":"SUM(F46)*Parametres!O$7","v":0},"=",0,{"$f":"SUM(G46)*Parametres!O$8","v":0},0,null,{"$f":"SUM(BL46+BF46+BR46+BX46+CD46+CJ46+CP46+CV46+DB46+DH46+DN46+DT54+DZ54+EF54+EL54+ER54+EX54+FD54)","v":0},null,null,null,null,null,null,null,null,null,{"$f":"SUM(H46)*Parametres!AE$5","v":0},{"$f":"IF(C46<>\"P\",\"\",IF(C46=\"P\",IF(ISNA(VLOOKUP(B46,SaisieVols!$Y$4:$AA$48,2,FALSE)),\"\",VLOOKUP(B46,SaisieVols!$Y$4:$AA$48,2,FALSE))))","v":""},{"$f":"SUM(AC46)*Parametres!AD$4","v":0},{"$f":"IF(C46<>\"P\",\"\",IF(C46=\"P\",IF(ISNA(VLOOKUP(B46,SaisieVols!$Y$4:$AC$48,4,FALSE)),\"\",VLOOKUP(B46,SaisieVols!$Y$4:$AC$48,4,FALSE))))","v":""},{"$f":"SUM(AE46)*Parametres!AD$3","v":0},{"$f":"IF(C46<>\"P\",\"\",IF(C46=\"P\",IF(ISNA(VLOOKUP(B46,SaisieVols!$Y$4:$AC$48,3,FALSE)),\"\",VLOOKUP(B46,SaisieVols!$Y$4:$AC$48,3,FALSE))))","v":""},{"$f":"SUM(AG46)*Parametres!AC$4","v":0},{"$f":"IF(C46<>\"P\",\"\",IF(C46=\"P\",IF(ISNA(VLOOKUP(B46,SaisieVols!$Y$4:$AC$48,5,FALSE)),\"\",VLOOKUP(B46,SaisieVols!$Y$4:$AC$48,5,FALSE))))","v":""},{"$f":"SUM(AI46)*Parametres!AC$3","v":0},null,0]
[null,null,null,0,{"$f":"SUM(BB47+BH47+BN47+BT47+BZ47+CF47+CL47+CR47+CX47+DD47+DJ47+DP56+DV56+EB56+EH56+EN56+ET56+EZ56)","v":0},{"$f":"SUM(BC47+BI47+BO47+BU47+CA47+CG47+CM47+CS47+CY47+DE47+DK47+DQ56+DW56+EC56+EI56+EO56+EU56+FA56)","v":0},{"$f":"SUM(BD47+BJ47+BP47+BV47+CB47+CH47+CN47+CT47+CZ47+DF47+DL47+DR56+DX56+ED56+EJ56+EP56+EV56+FB56)","v":0},{"$f":"SUM(BE47+BK47+BQ47+BW47+CC47+CI47+CO47+CU47+DA47+DG47+DM47+DS56+DY56+EE56+EK56+EQ56+EW56+FC56)","v":0},null,{"$f":"SUM(D47)*Parametres!O$5","v":0},{"$f":"SUM(E47)*Parametres!O$6","v":0},{"$f":"SUM(F47)*Parametres!O$7","v":0},"=",0,{"$f":"SUM(G47)*Parametres!O$8","v":0},0,null,{"$f":"SUM(BL47+BF47+BR47+BX47+CD47+CJ47+CP47+CV47+DB47+DH47+DN47+DT56+DZ56+EF56+EL56+ER56+EX56+FD56)","v":0},null,null,null,null,null,null,null,null,null,{"$f":"SUM(H47)*Parametres!AE$5","v":0},{"$f":"IF(C47<>\"P\",\"\",IF(C47=\"P\",IF(ISNA(VLOOKUP(B47,SaisieVols!$Y$4:$AA$48,2,FALSE)),\"\",VLOOKUP(B47,SaisieVols!$Y$4:$AA$48,2,FALSE))))","v":""},{"$f":"SUM(AC47)*Parametres!AD$4","v":0},{"$f":"IF(C47<>\"P\",\"\",IF(C47=\"P\",IF(ISNA(VLOOKUP(B47,SaisieVols!$Y$4:$AC$48,4,FALSE)),\"\",VLOOKUP(B47,SaisieVols!$Y$4:$AC$48,4,FALSE))))","v":""},{"$f":"SUM(AE47)*Parametres!AD$3","v":0},{"$f":"IF(C47<>\"P\",\"\",IF(C47=\"P\",IF(ISNA(VLOOKUP(B47,SaisieVols!$Y$4:$AC$48,3,FALSE)),\"\",VLOOKUP(B47,SaisieVols!$Y$4:$AC$48,3,FALSE))))","v":""},{"$f":"SUM(AG47)*Parametres!AC$4","v":0},{"$f":"IF(C47<>\"P\",\"\",IF(C47=\"P\",IF(ISNA(VLOOKUP(B47,SaisieVols!$Y$4:$AC$48,5,FALSE)),\"\",VLOOKUP(B47,SaisieVols!$Y$4:$AC$48,5,FALSE))))","v":""},{"$f":"SUM(AI47)*Parametres!AC$3","v":0},null,0]
[null,null,null,0,null,null,null,null,null,null,null,null,null,null,null,null,null,null,null,null,null,null,null,null,null,null,null,{"$f":"SUM(H48)*Parametres!AE$5","v":0},{"$f":"IF(C48<>\"P\",\"\",IF(C48=\"P\",IF(ISNA(VLOOKUP(B48,SaisieVols!$Y$4:$AA$48,2,FALSE)),\"\",VLOOKUP(B48,SaisieVols!$Y$4:$AA$48,2,FALSE))))","v":""},{"$f":"SUM(AC48)*Parametres!AD$4","v":0},{"$f":"IF(C48<>\"P\",\"\",IF(C48=\"P\",IF(ISNA(VLOOKUP(B48,SaisieVols!$Y$4:$AC$48,4,FALSE)),\"\",VLOOKUP(B48,SaisieVols!$Y$4:$AC$48,4,FALSE))))","v":""},{"$f":"SUM(AE48)*Parametres!AD$3","v":0},{"$f":"IF(C48<>\"P\",\"\",IF(C48=\"P\",IF(ISNA(VLOOKUP(B48,SaisieVols!$Y$4:$AC$48,3,FALSE)),\"\",VLOOKUP(B48,SaisieVols!$Y$4:$AC$48,3,FALSE))))","v":""},{"$f":"SUM(AG48)*Parametres!AC$4","v":0},{"$f":"IF(C48<>\"P\",\"\",IF(C48=\"P\",IF(ISNA(VLOOKUP(B48,SaisieVols!$Y$4:$AC$48,5,FALSE)),\"\",VLOOKUP(B48,SaisieVols!$Y$4:$AC$48,5,FALSE))))","v":""},{"$f":"SUM(AI48)*Parametres!AC$3","v":0}]
[null,null,null,0,null,null,null,null,null,null,null,null,null,null,null,null,null,null,null,null,null,null,null,null,null,null,null,{"$f":"SUM(H49)*Parametres!AE$5","v":0},{"$f":"IF(C49<>\"P\",\"\",IF(C49=\"P\",IF(ISNA(VLOOKUP(B49,SaisieVols!$Y$4:$AA$48,2,FALSE)),\"\",VLOOKUP(B49,SaisieVols!$Y$4:$AA$48,2,FALSE))))","v":""},{"$f":"SUM(AC49)*Parametres!AD$4","v":0},{"$f":"IF(C49<>\"P\",\"\",IF(C49=\"P\",IF(ISNA(VLOOKUP(B49,SaisieVols!$Y$4:$AC$48,4,FALSE)),\"\",VLOOKUP(B49,SaisieVols!$Y$4:$AC$48,4,FALSE))))","v":""},{"$f":"SUM(AE49)*Parametres!AD$3","v":0},{"$f":"IF(C49<>\"P\",\"\",IF(C49=\"P\",IF(ISNA(VLOOKUP(B49,SaisieVols!$Y$4:$AC$48,3,FALSE)),\"\",VLOOKUP(B49,SaisieVols!$Y$4:$AC$48,3,FALSE))))","v":""},{"$f":"SUM(AG49)*Parametres!AC$4","v":0},{"$f":"IF(C49<>\"P\",\"\",IF(C49=\"P\",IF(ISNA(VLOOKUP(B49,SaisieVols!$Y$4:$AC$48,5,FALSE)),\"\",VLOOKUP(B49,SaisieVols!$Y$4:$AC$48,5,FALSE))))","v":""},{"$f":"SUM(AI49)*Parametres!AC$3","v":0}]
[null,null,null,0,null,null,null,null,null,null,null,null,null,null,null,null,null,null,null,null,null,null,null,null,null,null,null,{"$f":"SUM(H50)*Parametres!AE$5","v":0},{"$f":"IF(C50<>\"P\",\"\",IF(C50=\"P\",IF(ISNA(VLOOKUP(B50,SaisieVols!$Y$4:$AA$48,2,FALSE)),\"\",VLOOKUP(B50,SaisieVols!$Y$4:$AA$48,2,FALSE))))","v":""},{"$f":"SUM(AC50)*Parametres!AD$4","v":0},{"$f":"IF(C50<>\"P\",\"\",IF(C50=\"P\",IF(ISNA(VLOOKUP(B50,SaisieVols!$Y$4:$AC$48,4,FALSE)),\"\",VLOOKUP(B50,SaisieVols!$Y$4:$AC$48,4,FALSE))))","v":""},{"$f":"SUM(AE50)*Parametres!AD$3","v":0},{"$f":"IF(C50<>\"P\",\"\",IF(C50=\"P\",IF(ISNA(VLOOKUP(B50,SaisieVols!$Y$4:$AC$48,3,FALSE)),\"\",VLOOKUP(B50,SaisieVols!$Y$4:$AC$48,3,FALSE))))","v":""},{"$f":"SUM(AG50)*Parametres!AC$4","v":0},{"$f":"IF(C50<>\"P\",\"\",IF(C50=\"P\",IF(ISNA(VLOOKUP(B50,SaisieVols!$Y$4:$AC$48,5,FALSE)),\"\",VLOOKUP(B50,SaisieVols!$Y$4:$AC$48,5,FALSE))))","v":""},{"$f":"SUM(AI50)*Parametres!AC$3","v":0}]
[null,null,null,0,{"$f":"SUM(BB51+BH51+BN51+BT51+BZ51+CF51+CL51+CR51+CX51+DD51+DJ51+DP57+DV57+EB57+EH57+EN57+ET57+EZ57)","v":0},0,0,0,null,{"$f":"SUM(D51)*Parametres!O$5","v":0},{"$f":"SUM(E51)*Parametres!O$6","v":0},{"$f":"SUM(F51)*Parametres!O$7","v":0},"=",0,{"$f":"SUM(G51)*Parametres!O$8","v":0},0,null,{"$f":"SUM(BL51+BF51+BR51+BX51+CD51+CJ51+CP51+CV51+DB51+DH51+DN51+DT57+DZ57+EF57+EL57+ER57+EX57+FD57)","v":0},null,null,null,null,null,null,null,null,null,{"$f":"SUM(H51)*Parametres!AE$5","v":0},{"$f":"IF(C51<>\"P\",\"\",IF(C51=\"P\",IF(ISNA(VLOOKUP(B51,SaisieVols!$Y$4:$AA$48,2,FALSE)),\"\",VLOOKUP(B51,SaisieVols!$Y$4:$AA$48,2,FALSE))))","v":""},{"$f":"SUM(AC51)*Parametres!AD$4","v":0},{"$f":"IF(C51<>\"P\",\"\",IF(C51=\"P\",IF(ISNA(VLOOKUP(B51,SaisieVols!$Y$4:$AC$48,4,FALSE)),\"\",VLOOKUP(B51,SaisieVols!$Y$4:$AC$48,4,FALSE))))","v":""},{"$f":"SUM(AE51)*Parametres!AD$3","v":0},{"$f":"IF(C51<>\"P\",\"\",IF(C51=\"P\",IF(ISNA(VLOOKUP(B51,SaisieVols!$Y$4:$AC$48,3,FALSE)),\"\",VLOOKUP(B51,SaisieVols!$Y$4:$AC$48,3,FALSE))))","v":""},{"$f":"SUM(AG51)*Parametres!AC$4","v":0},{"$f":"IF(C51<>\"P\",\"\",IF(C51=\"P\",IF(ISNA(VLOOKUP(B51,SaisieVols!$Y$4:$AC$48,5,FALSE)),\"\",VLOOKUP(B51,SaisieVols!$Y$4:$AC$48,5,FALSE))))","v":""},{"$f":"SUM(AI51)*Parametres!AC$3","v":0},null,0]
[null,null,null,0,0,0,0,0,null,{"$f":"SUM(D52)*Parametres!O$5","v":0},{"$f":"SUM(E52)*Parametres!O$6","v":0},{"$f":"SUM(F52)*Parametres!O$7","v":0},"=",0,{"$f":"SUM(G52)*Parametres!O$8","v":0},0,null,{"$f":"SUM(BL52+BF52+BR52+BX52+CD52+CJ52+CP52+CV52+DB52+DH52+DN52+DT58+DZ58+EF58+EL58+ER58+EX58+FD58)","v":0},null,null,null,null,null,null,null,null,null,{"$f":"SUM(H52)*Parametres!AE$5","v":0},{"$f":"IF(C52<>\"P\",\"\",IF(C52=\"P\",IF(ISNA(VLOOKUP(B52,SaisieVols!$Y$4:$AA$48,2,FALSE)),\"\",VLOOKUP(B52,SaisieVols!$Y$4:$AA$48,2,FALSE))))","v":""},{"$f":"SUM(AC52)*Parametres!AD$4","v":0},{"$f":"IF(C52<>\"P\",\"\",IF(C52=\"P\",IF(ISNA(VLOOKUP(B52,SaisieVols!$Y$4:$AC$48,4,FALSE)),\"\",VLOOKUP(B52,SaisieVols!$Y$4:$AC$48,4,FALSE))))","v":""},{"$f":"SUM(AE52)*Parametres!AD$3","v":0},{"$f":"IF(C52<>\"P\",\"\",IF(C52=\"P\",IF(ISNA(VLOOKUP(B52,SaisieVols!$Y$4:$AC$48,3,FALSE)),\"\",VLOOKUP(B52,SaisieVols!$Y$4:$AC$48,3,FALSE))))","v":""},{"$f":"SUM(AG52)*Parametres!AC$4","v":0},{"$f":"IF(C52<>\"P\",\"\",IF(C52=\"P\",IF(ISNA(VLOOKUP(B52,SaisieVols!$Y$4:$AC$48,5,FALSE)),\"\",VLOOKUP(B52,SaisieVols!$Y$4:$AC$48,5,FALSE))))","v":""},{"$f":"SUM(AI52)*Parametres!AC$3","v":0},null,0]
[null,null,null,0,0,0,0,0,null,{"$f":"SUM(D53)*Parametres!O$5","v":0},{"$f":"SUM(E53)*Parametres!O$6","v":0},{"$f":"SUM(F53)*Parametres!O$7","v":0},"=",0,{"$f":"SUM(G53)*Parametres!O$8","v":0},0,null,{"$f":"SUM(BL53+BF53+BR53+BX53+CD53+CJ53+CP53+CV53+DB53+DH53+DN53+DT59+DZ59+EF59+EL59+ER59+EX59+FD59)","v":0},null,null,null,null,null,null,null,null,null,{"$f":"SUM(H53)*Parametres!AE$5","v":0},{"$f":"IF(C53<>\"P\",\"\",IF(C53=\"P\",IF(ISNA(VLOOKUP(B53,SaisieVols!$Y$4:$AA$48,2,FALSE)),\"\",VLOOKUP(B53,SaisieVols!$Y$4:$AA$48,2,FALSE))))","v":""},{"$f":"SUM(AC53)*Parametres!AD$4","v":0},{"$f":"IF(C53<>\"P\",\"\",IF(C53=\"P\",IF(ISNA(VLOOKUP(B53,SaisieVols!$Y$4:$AC$48,4,FALSE)),\"\",VLOOKUP(B53,SaisieVols!$Y$4:$AC$48,4,FALSE))))","v":""},{"$f":"SUM(AE53)*Parametres!AD$3","v":0},{"$f":"IF(C53<>\"P\",\"\",IF(C53=\"P\",IF(ISNA(VLOOKUP(B53,SaisieVols!$Y$4:$AC$48,3,FALSE)),\"\",VLOOKUP(B53,SaisieVols!$Y$4:$AC$48,3,FALSE))))","v":""},{"$f":"SUM(AG53)*Parametres!AC$4","v":0},{"$f":"IF(C53<>\"P\",\"\",IF(C53=\"P\",IF(ISNA(VLOOKUP(B53,SaisieVols!$Y$4:$AC$48,5,FALSE)),\"\",VLOOKUP(B53,SaisieVols!$Y$4:$AC$48,5,FALSE))))","v":""},{"$f":"SUM(AI53)*Parametres!AC$3","v":0},null,0]
[null,null,null,0,0,0,0,0,null,{"$f":"SUM(D54)*Parametres!O$5","v":0},{"$f":"SUM(E54)*Parametres!O$6","v":0},{"$f":"SUM(F54)*Parametres!O$7","v":0},"=",0,{"$f":"SUM(G54)*Parametres!O$8","v":0},0,null,{"$f":"SUM(BL54+BF54+BR54+BX54+CD54+CJ54+CP54+CV54+DB54+DH54+DN54+DT60+DZ60+EF60+EL60+ER60+EX60+FD60)","v":0},null,null,null,null,null,null,null,null,null,{"$f":"SUM(H54)*Parametres!AE$5","v":0},{"$f":"IF(C54<>\"P\",\"\",IF(C54=\"P\",IF(ISNA(VLOOKUP(B54,SaisieVols!$Y$4:$AA$48,2,FALSE)),\"\",VLOOKUP(B54,SaisieVols!$Y$4:$AA$48,2,FALSE))))","v":""},{"$f":"SUM(AC54)*Parametres!AD$4","v":0},{"$f":"IF(C54<>\"P\",\"\",IF(C54=\"P\",IF(ISNA(VLOOKUP(B54,SaisieVols!$Y$4:$AC$48,4,FALSE)),\"\",VLOOKUP(B54,SaisieVols!$Y$4:$AC$48,4,FALSE))))","v":""},{"$f":"SUM(AE54)*Parametres!AD$3","v":0},{"$f":"IF(C54<>\"P\",\"\",IF(C54=\"P\",IF(ISNA(VLOOKUP(B54,SaisieVols!$Y$4:$AC$48,3,FALSE)),\"\",VLOOKUP(B54,SaisieVols!$Y$4:$AC$48,3,FALSE))))","v":""},{"$f":"SUM(AG54)*Parametres!AC$4","v":0},{"$f":"IF(C54<>\"P\",\"\",IF(C54=\"P\",IF(ISNA(VLOOKUP(B54,SaisieVols!$Y$4:$AC$48,5,FALSE)),\"\",VLOOKUP(B54,SaisieVols!$Y$4:$AC$48,5,FALSE))))","v":""},{"$f":"SUM(AI54)*Parametres!AC$3","v":0},null,0]
[null,null,null,0]
[null,null,null,0,0,0,0,0,null,{"$f":"SUM(D56)*Parametres!O$5","v":0},{"$f":"SUM(E56)*Parametres!O$6","v":0},{"$f":"SUM(F56)*Parametres!O$7","v":0},"=",0,{"$f":"SUM(G56)*Parametres!O$8","v":0},0,null,0,null,null,null,null,null,null,null,null,null,{"$f":"SUM(H56)*Parametres!AE$5","v":0},{"$f":"IF(C56<>\"P\",\"\",IF(C56=\"P\",IF(ISNA(VLOOKUP(B56,SaisieVols!$Y$4:$AA$48,2,FALSE)),\"\",VLOOKUP(B56,SaisieVols!$Y$4:$AA$48,2,FALSE))))","v":""},{"$f":"SUM(AC56)*Parametres!AD$4","v":0},{"$f":"IF(C56<>\"P\",\"\",IF(C56=\"P\",IF(ISNA(VLOOKUP(B56,SaisieVols!$Y$4:$AC$48,4,FALSE)),\"\",VLOOKUP(B56,SaisieVols!$Y$4:$AC$48,4,FALSE))))","v":""},{"$f":"SUM(AE56)*Parametres!AD$3","v":0},{"$f":"IF(C56<>\"P\",\"\",IF(C56=\"P\",IF(ISNA(VLOOKUP(B56,SaisieVols!$Y$4:$AC$48,3,FALSE)),\"\",VLOOKUP(B56,SaisieVols!$Y$4:$AC$48,3,FALSE))))","v":""},{"$f":"SUM(AG56)*Parametres!AC$4","v":0},{"$f":"IF(C56<>\"P\",\"\",IF(C56=\"P\",IF(ISNA(VLOOKUP(B56,SaisieVols!$Y$4:$AC$48,5,FALSE)),\"\",VLOOKUP(B56,SaisieVols!$Y$4:$AC$48,5,FALSE))))","v":""},{"$f":"SUM(AI56)*Parametres!AC$3","v":0},null,{"$f":"SUM(AB56+AD56+AF56+AH56+AJ56)","v":0}]
[null,null,null,0,0,0,0,0,null,{"$f":"SUM(D57)*Parametres!O$5","v":0},{"$f":"SUM(E57)*Parametres!O$6","v":0},{"$f":"SUM(F57)*Parametres!O$7","v":0},"=",0,{"$f":"SUM(G57)*Parametres!O$8","v":0},0,null,0,null,null,null,null,null,null,null,null,null,{"$f":"SUM(H57)*Parametres!AE$5","v":0},{"$f":"IF(C57<>\"P\",\"\",IF(C57=\"P\",IF(ISNA(VLOOKUP(B57,SaisieVols!$Y$4:$AA$48,2,FALSE)),\"\",VLOOKUP(B57,SaisieVols!$Y$4:$AA$48,2,FALSE))))","v":""},{"$f":"SUM(AC57)*Parametres!AD$4","v":0},{"$f":"IF(C57<>\"P\",\"\",IF(C57=\"P\",IF(ISNA(VLOOKUP(B57,SaisieVols!$Y$4:$AC$48,4,FALSE)),\"\",VLOOKUP(B57,SaisieVols!$Y$4:$AC$48,4,FALSE))))","v":""},{"$f":"SUM(AE57)*Parametres!AD$3","v":0},{"$f":"IF(C57<>\"P\",\"\",IF(C57=\"P\",IF(ISNA(VLOOKUP(B57,SaisieVols!$Y$4:$AC$48,3,FALSE)),\"\",VLOOKUP(B57,SaisieVols!$Y$4:$AC$48,3,FALSE))))","v":""},{"$f":"SUM(AG57)*Parametres!AC$4","v":0},{"$f":"IF(C57<>\"P\",\"\",IF(C57=\"P\",IF(ISNA(VLOOKUP(B57,SaisieVols!$Y$4:$AC$48,5,FALSE)),\"\",VLOOKUP(B57,SaisieVols!$Y$4:$AC$48,5,FALSE))))","v":""},{"$f":"SUM(AI57)*Parametres!AC$3","v":0},null,{"$f":"SUM(AB57+AD57+AF57+AH57+AJ57)","v":0}]
[null,null,null,null,null,null,null,null,{"$f":"SUM(#REF!)","v":{"$error":"#REF!"}},{"$f":"SUM(#REF!)","v":{"$error":"#REF!"}},{"$f":"SUM(#REF!)","v":{"$error":"#REF!"}},{"$f":"SUM(#REF!)","v":{"$error":"#REF!"}},{"$f":"SUM(#REF!)","v":{"$error":"#REF!"}},{"$f":"SUM(#REF!)","v":{"$error":"#REF!"}},{"$f":"SUM(#REF!)","v":{"$error":"#REF!"}},{"$f":"SUM(#REF!)","v":{"$error":"#REF!"}},{"$f":"SUM(#REF!)","v":{"$error":"#REF!"}},{"$f":"SUM(R4:R57)","v":63.79},0,0,0,0,0,null,{"$f":"SUM(Y4:Y57)","v":0},null,{"$f":"SUM(#REF!)","v":{"$error":"#REF!"}},{"$f":"SUM(AB4:AB57)","v":15},1,10,0,0,0,0,0,0,0,25,0,0,0,null,null,{"$f":"[2]Feuil1!T157","v":0},null,null,null,null,null,null,null,null,{"$f":"SUM(BA4:BA57)","v":0},4,0,0,2,40,0,4,0,0,1,0]
[null,null,null,null,null,null,null,null,null,null,null,null,null,null,null,null,null,null,{"$f":"SUM(S58)+T58","v":0},null,null,null,null,null,null,null,null,null,null,null,null,null,null,null,null,null,null,null,"Total acompte",null,null,null,null,{"$f":"[2]Feuil1!T158","v":0}]
[null,null,null,null,null,null,null,null,null,null,null,null,null,null,null,null,null,{"$f":"[2]Feuil1!N162","v":0},null,{"$f":"[2]Feuil1!P162","v":0},null,null,null,{"$f":"[2]Feuil1!Q162","v":0},null,null,null,null,null,null,null,null,null,null,null,null,null,null,{"$f":"SUM(AM58)+AN58","v":0},null,null,null,null,{"$f":"[2]Feuil1!T159","v":0}]
[null,null,null,null,null,null,null,null,null,null,null,null,null,null,null,null,null,null,null,null,"Solde caisse",{"$f":"SUM(S59+AM60)","v":0},null,null,null,null,null,null,null,null,null,null,null,null,null,null,null,null,null,null,null,null,null,{"$f":"[2]Feuil1!T160","v":0},null,null,{"$f":"[2]Feuil1!W160","v":0},null,null,null,null,null,{"$f":"[2]Feuil1!Y160","v":0},{"$f":"[2]Feuil1!Z160","v":0}]

{"sheet":"Page essai","index":8,"n_rows":0,"n_cols":0,"rows_kept":0,"cut":false,"hidden":true,"merged":[]}

{"sheet":"CP","index":9,"n_rows":38950,"n_cols":5,"rows_kept":4500,"cut":true,"hidden":true,"merged":[],"bounds":{"rows_first":2000,"rows_last":500,"rows_between":2000,"halvings":0}}
["Villes","CP","Dep","N°","Région"]
["AAST",64460,"PYRENEES ATLANTIQUES",64001,"Nouvelle Aquitaine"]
["ABAINVILLE",55130,"MEUSE",55001]
["ABANCOURT",59265,"NORD",59001]
["ABANCOURT",60220,"OISE",60001]
["ABAUCOURT",54610,"MEURTHE ET MOSELLE",54001]
["ABAUCOURT HAUTECOURT",55400,"MEUSE",55002]
["ABBANS DESSOUS",25320,"DOUBS",25001]
["ABBANS DESSUS",25440,"DOUBS",25002]
["ABBARETZ",44170,"LOIRE ATLANTIQUE",44001]
["ABBAZIA",20243,"CORSE",20937]
["ABBECOURT",2300,"AISNE",2001]
["ABBECOURT",60430,"OISE",60002]
["ABBENANS",25340,"DOUBS",25003]
["ABBEVILLE",80100,"SOMME",80001]
["ABBEVILLE LA RIVIERE",91150,"ESSONNE",91001]
["ABBEVILLE LES CONFLANS",54800,"MEURTHE ET MOSELLE",54002]
["ABBEVILLE ST LUCIEN",60480,"OISE",60003]
["ABBEVILLERS",25310,"DOUBS",25004]
["ABEILHAN",34290,"HERAULT",34001]
["ABELCOURT",70300,"HAUTE SAONE",70001]
["ABERE",64160,"PYRENEES ATLANTIQUES",64002,"Nouvelle Aquitaine"]
["ABERGEMENT LA RONCE",39500,"JURA",39001]
["ABERGEMENT LE GRAND",39600,"JURA",39002]
["ABERGEMENT LE PETIT",39800,"JURA",39003]
["ABERGEMENT LES THESY",39110,"JURA",39004]
["ABERGEMENT ST JEAN",39120,"JURA",39005]
["ABERWRACH",29870,"FINISTERE",29931]
["ABIDOS",64150,"PYRENEES ATLANTIQUES",64003,"Nouvelle Aquitaine"]
["ABILLY",37160,"INDRE ET LOIRE",37001]
["ABITAIN",64390,"PYRENEES ATLANTIQUES",64004,"Nouvelle Aquitaine"]
["ABJAT SUR BANDIAT",24300,"DORDOGNE",24001]
["ABLAIN ST NAZAIRE",62153,"PAS DE CALAIS",62001]
["ABLAINCOURT PRESSOIRE",80320,"SOMME",80002]
["ABLAINZEVELLE",62116,"PAS DE CALAIS",62002]
["ABLANCOURT",51240,"MARNE",51001]
["ABLEIGES",95450,"VAL D'OISE",95002]
["ABLIS",78660,"YVELINES",78003]
["ABLON",14600,"CALVADOS",14001]
["ABLON SUR SEINE",94480,"VAL DE MARNE",94001]
["ABOEN",42380,"LOIRE",42001]
["ABONCOURT",54115,"MEURTHE ET MOSELLE",54003]
["ABONCOURT",57920,"MOSELLE",57001]
["ABONCOURT GESINCOURT",70500,"HAUTE SAONE",70002]
["ABONCOURT SUR SEILLE",57590,"MOSELLE",57002]
["ABONDANCE",74360,"HAUTE SAVOIE",74001]
["ABONDANT",28570,"EURE ET LOIR",28001]
["ABOS",64360,"PYRENEES ATLANTIQUES",64005,"Nouvelle Aquitaine"]
["ABRESCHVILLER",57560,"MOSELLE",57003]
["ABREST",3200,"ALLIER",3001]
["ABRIES",5460,"HAUTES ALPES",5001]
["ABSCON",59215,"NORD",59002]
["ABZAC",16500,"CHARENTE",16001]
["ABZAC",33230,"GIRONDE",33001]
["ACCOLANS",25250,"DOUBS",25005]
["ACCOLAY",89460,"YONNE",89001]
["ACCONS",7160,"ARDECHE",7001]
["ACCOUS",64490,"PYRENEES ATLANTIQUES",64006,"Nouvelle Aquitaine"]
["ACHAIN",57340,"MOSELLE",57004]
["ACHEN",57410,"MOSELLE",57006]
["ACHENHEIM",67204,"BAS RHIN",67001]
["ACHERES",18250,"CHER",18001]
["ACHERES",78260,"YVELINES",78005]
["ACHERES LA FORET",77760,"SEINE ET MARNE",77001]
["ACHERY",2800,"AISNE",2002]
["ACHEUX EN AMIENOIS",80560,"SOMME",80003]
["ACHEUX EN VIMEU",80210,"SOMME",80004]
["ACHEVILLE",62320,"PAS DE CALAIS",62003]
["ACHEY",70180,"HAUTE SAONE",70003]
["ACHICOURT",62217,"PAS DE CALAIS",62004]
["ACHIET LE GRAND",62121,"PAS DE CALAIS",62005]
["ACHIET LE PETIT",62121,"PAS DE CALAIS",62006]
["ACHUN",58110,"NIEVRE",58001]
["ACHY",60690,"OISE",60004]
["ACIGNE",35690,"ILLE ET VILAINE",35001]
["ACLOU",27800,"EURE",27001]
["ACON",27570,"EURE",27002]
["ACOUA",97600,"MAYOTTE",98501]
["ACQ",62144,"PAS DE CALAIS",62007]
["ACQUEVILLE",14220,"CALVADOS",14002]
["ACQUEVILLE",50440,"MANCHE",50001]
["ACQUIGNY",27400,"EURE",27003]
["ACQUIN WESTBECOURT",62380,"PAS DE CALAIS",62008]
["ACY",2200,"AISNE",2003]
["ACY EN MULTIEN",60620,"OISE",60005]
["ACY ROMANCE",8300,"ARDENNES",8001]
["ADAINCOURT",57580,"MOSELLE",57007]
["ADAINVILLE",78113,"YVELINES",78006]
["ADAM LES PASSAVANT",25360,"DOUBS",25006]
["ADAM LES VERCEL",25530,"DOUBS",25007]
["ADAMSWILLER",67320,"BAS RHIN",67002]
["ADAST",65260,"HAUTES PYRENEES",65001]
["ADE",65100,"HAUTES PYRENEES",65002]
["ADELANGE",57380,"MOSELLE",57008]
["ADELANS ET LE VAL DE BITH",70200,"HAUTE SAONE",70004]
["ADERVIELLE POUCHERGUES",65240,"HAUTES PYRENEES",65003]
["ADILLY",79200,"DEUX SEVRES",79002]
["ADINFER",62116,"PAS DE CALAIS",62009]
["ADISSAN",34230,"HERAULT",34002]
["ADOMPT",88270,"VOSGES",88910]
["ADON",45230,"LOIRET",45001]
["ADRIERS",86430,"VIENNE",86001]
["AEROPORT D ORLY",94390,"VAL DE MARNE",94900]
["AFA",20167,"CORSE",20001]
["AFAAHITI",98719,"POLYNESIE FRANCAISE",98774]
["AFFIEUX",19260,"CORREZE",19001]
["AFFLEVILLE",54800,"MEURTHE ET MOSELLE",54004]
["AFFOUX",69170,"RHONE",69001]
["AFFRACOURT",54740,"MEURTHE ET MOSELLE",54005]
["AFFRINGUES",62380,"PAS DE CALAIS",62010]
["AGASSAC",31230,"HAUTE GARONNE",31001]
["AGAY",83530,"VAR",83920]
["AGDE",34300,"HERAULT",34003]
["AGEL",34210,"HERAULT",34004]
["AGEN",47000,"LOT ET GARONNE",47001]
["AGEN D AVEYRON",12630,"AVEYRON",12001]
["AGENCOURT",21700,"COTE D'OR",21001]
["AGENVILLE",80370,"SOMME",80005]
["AGENVILLERS",80150,"SOMME",80006]
["AGEVILLE",52340,"HAUTE MARNE",52001]
["AGEY",21410,"COTE D'OR",21002]
["AGHIONE",20270,"CORSE",20002]
["AGINCOURT",54770,"MEURTHE ET MOSELLE",54006]
["AGME",47350,"LOT ET GARONNE",47002]
["AGNAC",47800,"LOT ET GARONNE",47003]
["AGNAT",43100,"HAUTE LOIRE",43001]
["AGNEAUX",50180,"MANCHE",50002]
["AGNETZ",60600,"OISE",60007]
["AGNEZ LES DUISANS",62161,"PAS DE CALAIS",62011]
["AGNICOURT ET SECHELLES",2340,"AISNE",2004]
["AGNIERES",62690,"PAS DE CALAIS",62012]
["AGNIERES",80290,"SOMME",80007]
["AGNIERES EN DEVOLUY",5250,"HAUTES ALPES",5002]
["AGNIN",38150,"ISERE",38003]
["AGNOS",64400,"PYRENEES ATLANTIQUES",64007,"Nouvelle Aquitaine"]
["AGNY",62217,"PAS DE CALAIS",62013]
["AGON COUTAINVILLE",50230,"MANCHE",50003]
["AGONAC",24460,"DORDOGNE",24002]
["AGONES",34190,"HERAULT",34005]
["AGONGES",3210,"ALLIER",3002]
["AGONNAY",17350,"CHARENTE MARITIME",17001]
["AGOS VIDALOS",65400,"HAUTES PYRENEES",65004]
["AGRIS",16110,"CHARENTE",16003]
["AGUDELLE",17500,"CHARENTE MARITIME",17002]
["AGUESSAC",12520,"AVEYRON",12002]
["AGUILCOURT",2190,"AISNE",2005]
["AGUTS",81470,"TARN",81001]
["AGY",14400,"CALVADOS",14003]
["AHAXE ALCIETTE BASCASSAN",64220,"PYRENEES ATLANTIQUES",64008,"Nouvelle Aquitaine"]
["AHETZE",64210,"PYRENEES ATLANTIQUES",64009,"Nouvelle Aquitaine"]
["AHEVILLE",88500,"VOSGES",88002]
["AHUILLE",53940,"MAYENNE",53001]
["AHUN",23150,"CREUSE",23001]
["AHUY",21121,"COTE D'OR",21003]
["AIBES",59149,"NORD",59003]
["AIBRE",25750,"DOUBS",25008]
["AICIRITS CAMOU SUHAST",64120,"PYRENEES ATLANTIQUES",64010,"Nouvelle Aquitaine"]
["AIFFRES",79230,"DEUX SEVRES",79003]
["AIGALIERS",30700,"GARD",30001]
["AIGLEMONT",8090,"ARDENNES",8003]
["AIGLEPIERRE",39110,"JURA",39006]
["AIGLEVILLE",27120,"EURE",27004]
["AIGLUN",4510,"ALPES DE HAUTE PROVENCE",4001]
["AIGLUN",6910,"ALPES MARITIMES",6001]
["AIGNAN",32290,"GERS",32001]
["AIGNAY LE DUC",21510,"COTE D'OR",21004]
["AIGNE",34210,"HERAULT",34006]
["AIGNE",72650,"SARTHE",72001]
["AIGNERVILLE",14710,"CALVADOS",14004]
["AIGNES",31550,"HAUTE GARONNE",31002]
["AIGNES ET PUYPEROUX",16190,"CHARENTE",16004]
["AIGNEVILLE",80210,"SOMME",80008]
["AIGNY",51150,"MARNE",51003]
["AIGONNAY",79370,"DEUX SEVRES",79004]
["AIGRE",16140,"CHARENTE",16005]
["AIGREFEUILLE",31280,"HAUTE GARONNE",31003]
["AIGREFEUILLE D AUNIS",17290,"CHARENTE MARITIME",17003]
["AIGREFEUILLE SUR MAINE",44140,"LOIRE ATLANTIQUE",44002]
["AIGREMONT",30350,"GARD",30002]
["AIGREMONT",52400,"HAUTE MARNE",52002]
["AIGREMONT",78240,"YVELINES",78007]
["AIGREMONT",89800,"YONNE",89002]
["AIGUEBELETTE LE LAC",73610,"SAVOIE",73001]
["AIGUEBELLE",73220,"SAVOIE",73002]
["AIGUEBLANCHE",73260,"SAVOIE",73003]
["AIGUEFONDE",81200,"TARN",81002]
["AIGUEPERSE",63260,"PUY DE DOME",63001]
["AIGUEPERSE",69790,"RHONE",69002]
["AIGUES JUNTES",9240,"ARIEGE",9001]
["AIGUES MORTES",30220,"GARD",30003]
["AIGUES VIVES",9600,"ARIEGE",9002]
["AIGUES VIVES",11800,"AUDE",11001]
["AIGUES VIVES",30670,"GARD",30004]
["AIGUES VIVES",34210,"HERAULT",34007]
["AIGUEZE",30760,"GARD",30005]
["AIGUILHE",43000,"HAUTE LOIRE",43002]
["AIGUILLES",5470,"HAUTES ALPES",5003]
["AIGUILLON",47190,"LOT ET GARONNE",47004]
["AIGUINES",83630,"VAR",83002]
["AIGURANDE",36140,"INDRE",36001]
["AILEFROIDE",5340,"HAUTES ALPES",5900]
["AILHON",7200,"ARDECHE",7002]
["AILLANT SUR MILLERON",45230,"LOIRET",45002]
["AILLANT SUR THOLON",89110,"YONNE",89003]
["AILLAS",33124,"GIRONDE",33002]
["AILLEUX",42130,"LOIRE",42002]
["AILLEVANS",70110,"HAUTE SAONE",70005]
["AILLEVILLE",10200,"AUBE",10002]
["AILLEVILLERS ET LYAUMONT",70320,"HAUTE SAONE",70006]
["AILLIANVILLE",52700,"HAUTE MARNE",52003]
["AILLIERES BEAUVOIR",72600,"SARTHE",72002]
["AILLON LE JEUNE",73340,"SAVOIE",73004]
["AILLON LE VIEUX",73340,"SAVOIE",73005]
["AILLONCOURT",70300,"HAUTE SAONE",70007]
["AILLY",27600,"EURE",27005]
["AILLY LE HAUT CLOCHER",80690,"SOMME",80009]
["AILLY SUR MEUSE",55300,"MEUSE",55003]
["AILLY SUR NOYE",80250,"SOMME",80010]
["AILLY SUR SOMME",80470,"SOMME",80011]
["AIMARGUES",30470,"GARD",30006]
["AIME",73210,"SAVOIE",73006]
["AINAC",4000,"ALPES DE HAUTE PROVENCE",4002]
["AINAY LE CHATEAU",3360,"ALLIER",3003]
["AINAY LE VIEIL",18200,"CHER",18002]
["AINCILLE",64220,"PYRENEES ATLANTIQUES",64011,"Nouvelle Aquitaine"]
["AINCOURT",95510,"VAL D'OISE",95008]
["AINCREVILLE",55110,"MEUSE",55004]
["AINGERAY",54460,"MEURTHE ET MOSELLE",54007]
["AINGEVILLE",88140,"VOSGES",88003]
["AINGOULAINCOURT",52230,"HAUTE MARNE",52004]
["AINHARP",64130,"PYRENEES ATLANTIQUES",64012,"Nouvelle Aquitaine"]
["AINHICE MONGELOS",64220,"PYRENEES ATLANTIQUES",64013,"Nouvelle Aquitaine"]
["AINHOA",64250,"PYRENEES ATLANTIQUES",64014,"Nouvelle Aquitaine"]
["AINVELLE",70800,"HAUTE SAONE",70008]
["AINVELLE",88320,"VOSGES",88004]
["AIRAINES",80270,"SOMME",80013]
["AIRAN",14370,"CALVADOS",14005]
["AIRE",8190,"ARDENNES",8004]
["AIRE SUR L ADOUR",40800,"LANDES",40001]
["AIRE SUR LA LYS",62120,"PAS DE CALAIS",62014]
["AIREL",50680,"MANCHE",50004]
["AIRION",60600,"OISE",60008]
["AIRON NOTRE DAME",62180,"PAS DE CALAIS",62015]
["AIRON ST VAAST",62180,"PAS DE CALAIS",62016]
["AIROUX",11320,"AUDE",11002]
["AIRVAULT",79600,"DEUX SEVRES",79005]
["AISEREY",21110,"COTE D'OR",21005]
["AISEY ET RICHECOURT",70500,"HAUTE SAONE",70009]
["AISEY SUR SEINE",21400,"COTE D'OR",21006]
["AISNE",85450,"VENDEE",85903]
["AISONVILLE ET BERNOVILLE",2110,"AISNE",2006]
["AISSEY",25360,"DOUBS",25009]
["AISY SOUS THIL",21390,"COTE D'OR",21007]
["AISY SUR ARMANCON",89390,"YONNE",89004]
["AITI",20244,"CORSE",20003]
["AITON",73220,"SAVOIE",73007]
["AIX",19200,"CORREZE",19002]
["AIX",59310,"NORD",59004]
["AIX EN DIOIS",26150,"DROME",26001]
["AIX EN ERGNY",62650,"PAS DE CALAIS",62017]
["AIX EN ISSART",62170,"PAS DE CALAIS",62018]
["AIX EN OTHE",10160,"AUBE",10003]
["AIX EN PROVENCE",13090,"BOUCHES DU RHONE",13001]
["AIX LA FAYETTE",63980,"PUY DE DOME",63002]
["AIX LES BAINS",73100,"SAVOIE",73008]
["AIX NOULETTE",62160,"PAS DE CALAIS",62019]
["AIXE SUR VIENNE",87700,"HAUTE VIENNE",87001]
["AIZAC",7530,"ARDECHE",7003]
["AIZANVILLE",52120,"HAUTE MARNE",52005]
["AIZE",36150,"INDRE",36002]
["AIZECOURT LE BAS",80240,"SOMME",80014]
["AIZECOURT LE HAUT",80200,"SOMME",80015]
["AIZECQ",16700,"CHARENTE",16006]
["AIZELLES",2820,"AISNE",2007]
["AIZENAY",85190,"VENDEE",85003]
["AIZIER",27500,"EURE",27006]
["AIZY JOUY",2370,"AISNE",2008]
["AJAC",11300,"AUDE",11003]
["AJACCIO",20000,"CORSE",20004]
["AJAIN",23380,"CREUSE",23002]
["AJAT",24210,"DORDOGNE",24004]
["AJIOLA",20243,"CORSE",20938]
["AJONCOURT",57590,"MOSELLE",57009]
["AJOU",27410,"EURE",27007]
["AJOUX",7000,"ARDECHE",7004]
["ALAIGNE",11240,"AUDE",11004]
["ALAINCOURT",2240,"AISNE",2009]
["ALAINCOURT",70210,"HAUTE SAONE",70010]
["ALAINCOURT LA COTE",57590,"MOSELLE",57010]
["ALAIRAC",11290,"AUDE",11005]
["ALAISE",25330,"DOUBS",25010]
["ALAN",31420,"HAUTE GARONNE",31005]
["ALANDO",20212,"CORSE",20005]
["ALATA",20167,"CORSE",20006]
["ALBA LA ROMAINE",7400,"ARDECHE",7005]
["ALBAN",81250,"TARN",81003]
["ALBARET LE COMTAL",48310,"LOZERE",48001]
["ALBARET STE MARIE",48200,"LOZERE",48002]
["ALBAS",11360,"AUDE",11006]
["ALBAS",46140,"LOT",46001]
["ALBE",67220,"BAS RHIN",67003]
["ALBEFEUILLE LAGARDE",82290,"TARN ET GARONNE",82001]
["ALBENS",73410,"SAVOIE",73010]
["ALBEPIERRE BREDONS",15300,"CANTAL",15025]
["ALBERT",80300,"SOMME",80016]
["ALBERTACCE",20224,"CORSE",20007]
["ALBERTVILLE",73200,"SAVOIE",73011]
["ALBESTROFF",57670,"MOSELLE",57011]
["ALBI",81000,"TARN",81004]
["ALBIAC",31460,"HAUTE GARONNE",31006]
["ALBIAC",46500,"LOT",46002]
["ALBIAS",82350,"TARN ET GARONNE",82002]
["ALBIERES",11330,"AUDE",11007]
["ALBIES",9310,"ARIEGE",9004]
["ALBIEZ LE JEUNE",73300,"SAVOIE",73012]
["ALBIEZ MONTROND",73300,"SAVOIE",73013]
["ALBIGNAC",19190,"CORREZE",19003]
["ALBIGNY SUR SAONE",69250,"RHONE",69003]
["ALBINE",81240,"TARN",81005]
["ALBIOSC",4550,"ALPES DE HAUTE PROVENCE",4003]
["ALBITRECCIA",20128,"CORSE",20008]
["ALBON",7190,"ARDECHE",7006]
["ALBON",26140,"DROME",26002]
["ALBOUSSIERE",7440,"ARDECHE",7007]
["ALBUSSAC",19380,"CORREZE",19004]
["ALBY SUR CHERAN",74540,"HAUTE SAVOIE",74002]
["ALCAY ALCABEHETY SUNHARET",64470,"PYRENEES ATLANTIQUES",64015,"Nouvelle Aquitaine"]
["ALDUDES",64430,"PYRENEES ATLANTIQUES",64016,"Nouvelle Aquitaine"]
["ALEMBON",62850,"PAS DE CALAIS",62020]
["ALENCON",61000,"ORNE",61001]
["ALENYA",66200,"PYRENEES ORIENTALES",66002]
["ALERIA",20270,"CORSE",20009]
["ALES",30100,"GARD",30007]
["ALET LES BAINS",11580,"AUDE",11008]
["ALETTE",62650,"PAS DE CALAIS",62021]
["ALEU",9320,"ARIEGE",9005]
["ALEX",74290,"HAUTE SAVOIE",74003]
["ALEXAIN",53240,"MAYENNE",53002]
["ALEYRAC",26770,"DROME",26003]
["ALFORTVILLE",94140,"VAL DE MARNE",94002]
["ALGAJOLA",20220,"CORSE",20010]
["ALGANS",81470,"TARN",81006]
["ALGOLSHEIM",68600,"HAUT RHIN",68001]
["ALGRANGE",57440,"MOSELLE",57012]
["ALIEZE",39270,"JURA",39007]
["ALIGNAN DU VENT",34290,"HERAULT",34009]
["ALINCOURT",8310,"ARDENNES",8005]
["ALINCTHUN",62142,"PAS DE CALAIS",62022]
["ALISE STE REINE",21150,"COTE D'OR",21008]
["ALISSAS",7210,"ARDECHE",7008]
["ALISTRO",20230,"CORSE",20939]
["ALIX",69380,"RHONE",69004]
["ALIXAN",26300,"DROME",26004]
["ALIZAY",27460,"EURE",27008]
["ALLAIN",54170,"MEURTHE ET MOSELLE",54008]
["ALLAINES",80200,"SOMME",80017]
["ALLAINES MERVILLIERS",28310,"EURE ET LOIR",28002]
["ALLAINVILLE",28500,"EURE ET LOIR",28003]
["ALLAINVILLE",78660,"YVELINES",78009]
["ALLAINVILLE EN BEAUCE",45480,"LOIRET",45003]
["ALLAIRE",56350,"MORBIHAN",56001]
["ALLAMONT",54800,"MEURTHE ET MOSELLE",54009]
["ALLAMPS",54112,"MEURTHE ET MOSELLE",54010]
["ALLAN",26780,"DROME",26005]
["ALLANCHE",15160,"CANTAL",15001]
["ALLAND HUY ET SAUSSEUIL",8130,"ARDENNES",8006]
["ALLARMONT",88110,"VOSGES",88005]
["ALLAS BOCAGE",17150,"CHARENTE MARITIME",17005]
["ALLAS CHAMPAGNE",17500,"CHARENTE MARITIME",17006]
["ALLAS LES MINES",24220,"DORDOGNE",24006]
["ALLASSAC",19240,"CORREZE",19005]
["ALLAUCH",13190,"BOUCHES DU RHONE",13002]
["ALLEGRE",30500,"GARD",30008]
["ALLEGRE",43270,"HAUTE LOIRE",43003]
["ALLEINS",13980,"BOUCHES DU RHONE",13003]
["ALLEMAGNE EN PROVENCE",4550,"ALPES DE HAUTE PROVENCE",4004]
["ALLEMANCHE LAUNAY ET SOYE",51260,"MARNE",51004]
["ALLEMANS",24600,"DORDOGNE",24007]
["ALLEMANS DU DROPT",47800,"LOT ET GARONNE",47005]
["ALLEMANT",2320,"AISNE",2010]
["ALLEMANT",51120,"MARNE",51005]
["ALLEMOND",38114,"ISERE",38005]
["ALLENAY",80530,"SOMME",80018]
["ALLENC",48190,"LOZERE",48003]
["ALLENJOIE",25490,"DOUBS",25011]
["ALLENNES LES MARAIS",59251,"NORD",59005]
["ALLENWILLER",67310,"BAS RHIN",67004]
["ALLEREY",21230,"COTE D'OR",21009]
["ALLEREY SUR SAONE",71350,"SAONE ET LOIRE",71003]
["ALLERIOT",71380,"SAONE ET LOIRE",71004]
["ALLERY",80270,"SOMME",80019]
["ALLES SUR DORDOGNE",24480,"DORDOGNE",24005]
["ALLEUZE",15100,"CANTAL",15002]
["ALLEVARD",38580,"ISERE",38006]
["ALLEVES",74540,"HAUTE SAVOIE",74004]
["ALLEX",26400,"DROME",26006]
["ALLEYRAC",43150,"HAUTE LOIRE",43004]
["ALLEYRAS",43580,"HAUTE LOIRE",43005]
["ALLEYRAT",19200,"CORREZE",19006]
["ALLEYRAT",23200,"CREUSE",23003]
["ALLEZ ET CAZENEUVE",47110,"LOT ET GARONNE",47006]
["ALLIANCELLES",51250,"MARNE",51006]
["ALLIAT",9400,"ARIEGE",9006]
["ALLIBAUDIERES",10700,"AUBE",10004]
["ALLICHAMPS",52130,"HAUTE MARNE",52006]
["ALLIER",65360,"HAUTES PYRENEES",65005]
["ALLIERES",9240,"ARIEGE",9007]
["ALLIGNY COSNE",58200,"NIEVRE",58002]
["ALLIGNY EN MORVAN",58230,"NIEVRE",58003]
["ALLINEUC",22460,"COTES D'ARMOR",22001]
["ALLINGES",74200,"HAUTE SAVOIE",74005]
["ALLOGNY",18110,"CHER",18004]
["ALLONDANS",25550,"DOUBS",25013]
["ALLONDAZ",73200,"SAVOIE",73014]
["ALLONDRELLE LA MALMAISON",54260,"MEURTHE ET MOSELLE",54011]
["ALLONNE",60000,"OISE",60009]
["ALLONNE",79130,"DEUX SEVRES",79007]
["ALLONNES",28150,"EURE ET LOIR",28004]
["ALLONNES",49650,"MAINE ET LOIRE",49002]
["ALLONNES",72700,"SARTHE",72003]
["ALLONS",4170,"ALPES DE HAUTE PROVENCE",4005]
["ALLONS",47420,"LOT ET GARONNE",47007]
["ALLONVILLE",80260,"SOMME",80020]
["ALLONZIER LA CAILLE",74350,"HAUTE SAVOIE",74006]
["ALLOS",4260,"ALPES DE HAUTE PROVENCE",4006]
["ALLOUAGNE",62157,"PAS DE CALAIS",62023]
["ALLOUE",16490,"CHARENTE",16007]
["ALLOUIS",18500,"CHER",18005]
["ALLOUVILLE BELLEFOSSE",76190,"SEINE MARITIME",76001]
["ALLUY",58110,"NIEVRE",58004]
["ALLUYES",28800,"EURE ET LOIR",28005]
["ALLY",15700,"CANTAL",15003]
["ALLY",43380,"HAUTE LOIRE",43006]
["ALMAYRAC",81190,"TARN",81008]
["ALMENECHES",61570,"ORNE",61002]
["ALMONT LES JUNIES",12300,"AVEYRON",12004]
["ALO",98610,"WALLIS ET FUTUNA",98611]
["ALOS",9200,"ARIEGE",9008]
["ALOS",81140,"TARN",81007]
["ALOS SIBAS ABENSE",64470,"PYRENEES ATLANTIQUES",64017,"Nouvelle Aquitaine"]
["ALOXE CORTON",21420,"COTE D'OR",21010]
["ALPUECH",12210,"AVEYRON",12005]
["ALQUINES",62850,"PAS DE CALAIS",62024]
["ALRANCE",12430,"AVEYRON",12006]
["ALSTING",57520,"MOSELLE",57013]
["ALTAGENE",20112,"CORSE",20011]
["ALTECKENDORF",67270,"BAS RHIN",67005]
["ALTENACH",68210,"HAUT RHIN",68002]
["ALTENBACH",68760,"HAUT RHIN",68003]
["ALTENHEIM",67490,"BAS RHIN",67006]
["ALTENSTADT",67160,"BAS RHIN",67007]
["ALTHEN DES PALUDS",84210,"VAUCLUSE",84001]
["ALTIANI",20251,"CORSE",20012]
["ALTIER",48800,"LOZERE",48004]
["ALTILLAC",19120,"CORREZE",19007]
["ALTKIRCH",68130,"HAUT RHIN",68004]
["ALTORF",67120,"BAS RHIN",67008]
["ALTRIPPE",57660,"MOSELLE",57014]
["ALTVILLER",57730,"MOSELLE",57015]
["ALTWILLER",67260,"BAS RHIN",67009]
["ALUZE",71510,"SAONE ET LOIRE",71005]
["ALVIGNAC",46500,"LOT",46003]
["ALVIMARE",76640,"SEINE MARITIME",76002]
["ALZEN",9240,"ARIEGE",9009]
["ALZI",20212,"CORSE",20013]
["ALZING",57320,"MOSELLE",57016]
["ALZITONE",20240,"CORSE",20940]
["ALZON",30770,"GARD",30009]
["ALZONNE",11170,"AUDE",11009]
["AMAGE",70280,"HAUTE SAONE",70011]
["AMAGNE",8300,"ARDENNES",8008]
["AMAGNEY",25220,"DOUBS",25014]
["AMAILLOUX",79350,"DEUX SEVRES",79008]
["AMANCE",10140,"AUBE",10005]
["AMANCE",54770,"MEURTHE ET MOSELLE",54012]
["AMANCE",70160,"HAUTE SAONE",70012]
["AMANCEY",25330,"DOUBS",25015]
["AMANCY",74800,"HAUTE SAVOIE",74007]
["AMANGE",39700,"JURA",39008]
["AMANLIS",35150,"ILLE ET VILAINE",35002]
["AMANTY",55130,"MEUSE",55005]
["AMANVILLERS",57111,"MOSELLE",57017]
["AMANZE",71610,"SAONE ET LOIRE",71006]
["AMAREINS",1090,"AIN",1003]
["AMAREINS FRANCHELEINS CES",1090,"AIN",1165]
["AMARENS",81170,"TARN",81009]
["AMATHAY VESIGNEUX",25330,"DOUBS",25016]
["AMAYE SUR ORNE",14210,"CALVADOS",14006]
["AMAYE SUR SEULLES",14310,"CALVADOS",14007]
["AMAZY",58190,"NIEVRE",58005]
["AMBACOURT",88500,"VOSGES",88006]
["AMBARES ET LAGRAVE",33440,"GIRONDE",33003]
["AMBAX",31230,"HAUTE GARONNE",31007]
["AMBAZAC",87240,"HAUTE VIENNE",87002]
["AMBEL",38970,"ISERE",38008]
["AMBENAY",27250,"EURE",27009]
["AMBERAC",16140,"CHARENTE",16008]
["AMBERIEU EN BUGEY",1500,"AIN",1004]
["AMBERIEUX",69480,"RHONE",69005]
["AMBERIEUX EN DOMBES",1330,"AIN",1005]
["AMBERNAC",16490,"CHARENTE",16009]
["AMBERRE",86110,"VIENNE",86002]
["AMBERT",63600,"PUY DE DOME",63003]
["AMBES",33810,"GIRONDE",33004]
["AMBEYRAC",12260,"AVEYRON",12007]
["AMBIALET",81430,"TARN",81010]
["AMBIEGNA",20151,"CORSE",20014]
["AMBIERLE",42820,"LOIRE",42003]
["AMBIEVILLERS",70210,"HAUTE SAONE",70013]
["AMBILLOU",37340,"INDRE ET LOIRE",37002]
["AMBILLOU CHATEAU",49700,"MAINE ET LOIRE",49003]
["AMBILLY",74100,"HAUTE SAVOIE",74008]
["AMBLAINCOURT",55250,"MEUSE",55006]
["AMBLAINVILLE",60110,"OISE",60010]
["AMBLANS ET VELOTTE",70200,"HAUTE SAONE",70014]
["AMBLENY",2290,"AISNE",2011]
["AMBLEON",1300,"AIN",1006]
["AMBLETEUSE",62164,"PAS DE CALAIS",62025]
["AMBLEVILLE",16300,"CHARENTE",16010]
["AMBLEVILLE",95710,"VAL D'OISE",95011]
["AMBLIE",14480,"CALVADOS",14008]
["AMBLIMONT",8210,"ARDENNES",8009]
["AMBLOY",41310,"LOIR ET CHER",41001]
["AMBLY FLEURY",8130,"ARDENNES",8010]
["AMBLY SUR MEUSE",55300,"MEUSE",55007]
["AMBOISE",37400,"INDRE ET LOIRE",37003]
["AMBON",56190,"MORBIHAN",56002]
["AMBONIL",26800,"DROME",26007]
["AMBONNAY",51150,"MARNE",51007]
["AMBONVILLE",52110,"HAUTE MARNE",52007]
["AMBOURVILLE",76480,"SEINE MARITIME",76003]
["AMBRAULT",36120,"INDRE",36003]
["AMBRES",81500,"TARN",81011]
["AMBRICOURT",62310,"PAS DE CALAIS",62026]
["AMBRIEF",2200,"AISNE",2012]
["AMBRIERES",51290,"MARNE",51008]
["AMBRIERES LES VALLEES",53300,"MAYENNE",53003]
["AMBRINES",62127,"PAS DE CALAIS",62027]
["AMBRONAY",1500,"AIN",1007]
["AMBRUGEAT",19250,"CORREZE",19008]
["AMBRUMESNIL",76550,"SEINE MARITIME",76004]
["AMBRUS",47160,"LOT ET GARONNE",47008]
["AMBUTRIX",1500,"AIN",1008]
["AMECOURT",27140,"EURE",27010]
["AMEL SUR L ETANG",55230,"MEUSE",55008]
["AMELECOURT",57170,"MOSELLE",57018]
["AMELIE LES BAINS PALALDA",66110,"PYRENEES ORIENTALES",66003]
["AMENDEUIX ONEIX",64120,"PYRENEES ATLANTIQUES",64018,"Nouvelle Aquitaine"]
["AMENONCOURT",54450,"MEURTHE ET MOSELLE",54013]
["AMENUCOURT",95510,"VAL D'OISE",95012]
["AMEREY",88220,"VOSGES",88901]
["AMES",62190,"PAS DE CALAIS",62028]
["AMETTES",62260,"PAS DE CALAIS",62029]
["AMEUGNY",71460,"SAONE ET LOIRE",71007]
["AMEUVELLE",88410,"VOSGES",88007]
["AMFREVILLE",14860,"CALVADOS",14009]
["AMFREVILLE",50480,"MANCHE",50005]
["AMFREVILLE LA CAMPAGNE",27370,"EURE",27011]
["AMFREVILLE LA MI VOIE",76920,"SEINE MARITIME",76005]
["AMFREVILLE LES CHAMPS",27380,"EURE",27012]
["AMFREVILLE LES CHAMPS",76560,"SEINE MARITIME",76006]
["AMFREVILLE SOUS LES MONTS",27380,"EURE",27013]
["AMFREVILLE SUR ITON",27400,"EURE",27014]
["AMFROIPRET",59144,"NORD",59006]
["AMIENS",80000,"SOMME",80021]
["AMIFONTAINE",2190,"AISNE",2013]
["AMIGNY",50620,"MANCHE",50006]
["AMIGNY ROUY",2700,"AISNE",2014]
["AMILLIS",77120,"SEINE ET MARNE",77002]
["AMILLY",28300,"EURE ET LOIR",28006]
["AMILLY",45200,"LOIRET",45004]
["AMIONS",42260,"LOIRE",42004]
["AMIRAT",6910,"ALPES MARITIMES",6002]
["AMMERSCHWIHR",68770,"HAUT RHIN",68005]
["AMMERZWILLER",68210,"HAUT RHIN",68006]
["AMMEVILLE",14170,"CALVADOS",14010]
["AMNE",72540,"SARTHE",72004]
["AMNEVILLE",57360,"MOSELLE",57019]
["AMONCOURT",70170,"HAUTE SAONE",70015]
["AMONDANS",25330,"DOUBS",25017]
["AMONT ET EFFRENEY",70310,"HAUTE SAONE",70016]
["AMOROTS SUCCOS",64120,"PYRENEES ATLANTIQUES",64019,"Nouvelle Aquitaine"]
["AMOU",40330,"LANDES",40002,"Nouvelle Aquitaine"]
["AMPHION LES BAINS",74500,"HAUTE SAVOIE",74931]
["AMPIAC",12000,"AVEYRON",12907]
["AMPILLY LE SEC",21400,"COTE D'OR",21012]
["AMPILLY LES BORDES",21450,"COTE D'OR",21011]
["AMPLAING",9400,"ARIEGE",9010]
["AMPLEPUIS",69550,"RHONE",69006]
["AMPLIER",62760,"PAS DE CALAIS",62030]
["AMPOIGNE",53200,"MAYENNE",53004]
["AMPONVILLE",77760,"SEINE ET MARNE",77003]
["AMPRIANI",20272,"CORSE",20015]
["AMPUIS",69420,"RHONE",69007]
["AMPUS",83111,"VAR",83003]
["AMURE",79210,"DEUX SEVRES",79009]
["AMY",60310,"OISE",60011]
["ANAA",98760,"POLYNESIE FRANCAISE",98711]
["ANAIS",16560,"CHARENTE",16011]
["ANAIS",17540,"CHARENTE MARITIME",17007]
["ANAN",31230,"HAUTE GARONNE",31008]
["ANCE",64570,"PYRENEES ATLANTIQUES",64020,"Nouvelle Aquitaine"]
["ANCEAUMEVILLE",76710,"SEINE MARITIME",76007]
["ANCEINS",61550,"ORNE",61003]
["ANCELLE",5260,"HAUTES ALPES",5004]
["ANCEMONT",55320,"MEUSE",55009]
["ANCENIS",44150,"LOIRE ATLANTIQUE",44003]
["ANCERVILLE",55170,"MEUSE",55010]
["ANCERVILLE",57580,"MOSELLE",57020]
["ANCERVILLER",54450,"MEURTHE ET MOSELLE",54014]
["ANCEY",21410,"COTE D'OR",21013]
["ANCHAMPS",8500,"ARDENNES",8011]
["ANCHE",37500,"INDRE ET LOIRE",37004]
["ANCHE",86700,"VIENNE",86003]
["ANCHENONCOURT ET CHAZEL",70210,"HAUTE SAONE",70017]
["ANCIENVILLE",2600,"AISNE",2015]
["ANCIER",70100,"HAUTE SAONE",70018]
["ANCINNES",72610,"SARTHE",72005]
["ANCIZAN",65440,"HAUTES PYRENEES",65006]
["ANCONE",26200,"DROME",26008]
["ANCOURT",76370,"SEINE MARITIME",76008]
["ANCOURTEVILLE SUR HERICOU",76560,"SEINE MARITIME",76009]
["ANCRETIEVILLE VICTOR",76760,"SEINE MARITIME",76010]
["ANCRETTEVILLE SUR MER",76540,"SEINE MARITIME",76011]
["ANCTEVILLE",50200,"MANCHE",50007]
["ANCTOVILLE",14240,"CALVADOS",14011]
["ANCTOVILLE SUR BOSCQ",50400,"MANCHE",50008]
["ANCY",69490,"RHONE",69008]
["ANCY LE FRANC",89160,"YONNE",89005]
["ANCY LE LIBRE",89160,"YONNE",89006]
["ANCY SUR MOSELLE",57130,"MOSELLE",57021]
["ANDAINVILLE",80140,"SOMME",80022]
["ANDANCE",7340,"ARDECHE",7009]
["ANDANCETTE",26140,"DROME",26009]
["ANDARD",49800,"MAINE ET LOIRE",49004]
["ANDE",27430,"EURE",27015]
["ANDECHY",80700,"SOMME",80023]
["ANDEL",22400,"COTES D'ARMOR",22002]
["ANDELAIN",2800,"AISNE",2016]
["ANDELAROCHE",3120,"ALLIER",3004]
["ANDELARRE",70000,"HAUTE SAONE",70019]
["ANDELARROT",70000,"HAUTE SAONE",70020]
["ANDELAT",15100,"CANTAL",15004]
["ANDELNANS",90400,"TERRITOIRE DE BELFORT",90001]
["ANDELOT BLANCHEVILLE",52700,"HAUTE MARNE",52008]
["ANDELOT EN MONTAGNE",39110,"JURA",39009]
["ANDELOT MORVAL",39320,"JURA",39010]
["ANDELU",78770,"YVELINES",78013]
["ANDERNAY",55800,"MEUSE",55011]
["ANDERNOS LES BAINS",33510,"GIRONDE",33005]
["ANDERNY",54560,"MEURTHE ET MOSELLE",54015]
["ANDERT ET CONDON",1300,"AIN",1009]
["ANDEVANNE",8240,"ARDENNES",8012]
["ANDEVILLE",60570,"OISE",60012]
["ANDIGNE",49220,"MAINE ET LOIRE",49005]
["ANDILLAC",81140,"TARN",81012]
["ANDILLY",17230,"CHARENTE MARITIME",17008]
["ANDILLY",54200,"MEURTHE ET MOSELLE",54016]
["ANDILLY",74350,"HAUTE SAVOIE",74009]
["ANDILLY",95580,"VAL D'OISE",95014]
["ANDILLY EN BASSIGNY",52360,"HAUTE MARNE",52009]
["ANDIRAN",47170,"LOT ET GARONNE",47009]
["ANDLAU",67140,"BAS RHIN",67010]
["ANDOINS",64420,"PYRENEES ATLANTIQUES",64021,"Nouvelle Aquitaine"]
["ANDOLSHEIM",68280,"HAUT RHIN",68007]
["ANDON",6750,"ALPES MARITIMES",6003]
["ANDONVILLE",45480,"LOIRET",45005]
["ANDORNAY",70200,"HAUTE SAONE",70021]
["ANDOUILLE",53240,"MAYENNE",53005]
["ANDOUILLE NEUVILLE",35250,"ILLE ET VILAINE",35003]
["ANDOUQUE",81350,"TARN",81013]
["ANDREIN",64390,"PYRENEES ATLANTIQUES",64022,"Nouvelle Aquitaine"]
["ANDRES",62340,"PAS DE CALAIS",62031]
["ANDREST",65390,"HAUTES PYRENEES",65007]
["ANDRESY",78570,"YVELINES",78015]
["ANDREZE",49600,"MAINE ET LOIRE",49006]
["ANDREZEL",77390,"SEINE ET MARNE",77004]
["ANDREZIEUX BOUTHEON",42160,"LOIRE",42005]
["ANDRYES",89480,"YONNE",89007]
["ANDUZE",30140,"GARD",30010]
["ANERAN CAMORS",65510,"HAUTES PYRENEES",65008]
["ANERES",65150,"HAUTES PYRENEES",65009]
["ANET",28260,"EURE ET LOIR",28007]
["ANETZ",44150,"LOIRE ATLANTIQUE",44004]
["ANGAIS",64510,"PYRENEES ATLANTIQUES",64023,"Nouvelle Aquitaine"]
["ANGE",41400,"LOIR ET CHER",41002]
["ANGEAC CHAMPAGNE",16130,"CHARENTE",16012]
["ANGEAC CHARENTE",16120,"CHARENTE",16013]
["ANGECOURT",8450,"ARDENNES",8013]
["ANGEDUC",16300,"CHARENTE",16014]
["ANGELY",89440,"YONNE",89008]
["ANGEOT",90150,"TERRITOIRE DE BELFORT",90002]
["ANGERS",49000,"MAINE ET LOIRE",49007]
["ANGERVILLE",14430,"CALVADOS",14012]
["ANGERVILLE",91670,"ESSONNE",91016]
["ANGERVILLE BAILLEUL",76110,"SEINE MARITIME",76012]
["ANGERVILLE L ORCHER",76280,"SEINE MARITIME",76014]
["ANGERVILLE LA CAMPAGNE",27930,"EURE",27017]
["ANGERVILLE LA MARTEL",76540,"SEINE MARITIME",76013]
["ANGERVILLIERS",91470,"ESSONNE",91017]
["ANGEVILLE",82210,"TARN ET GARONNE",82003]
["ANGEVILLERS",57440,"MOSELLE",57022]
["ANGEY",50530,"MANCHE",50009]
["ANGICOURT",60940,"OISE",60013]
["ANGIENS",76740,"SEINE MARITIME",76015]
["ANGIREY",70700,"HAUTE SAONE",70022]
["ANGIVILLERS",60130,"OISE",60014]
["ANGLADE",33390,"GIRONDE",33006]
["ANGLARDS DE SALERS",15380,"CANTAL",15006]
["ANGLARDS DE ST FLOUR",15100,"CANTAL",15005]
["ANGLARS",46120,"LOT",46004]
["ANGLARS JUILLAC",46140,"LOT",46005]
["ANGLARS NOZAC",46300,"LOT",46006]
["ANGLARS ST FELIX",12390,"AVEYRON",12008]
["ANGLEFORT",1350,"AIN",1010]
["ANGLEMONT",88700,"VOSGES",88008]
["ANGLES",4170,"ALPES DE HAUTE PROVENCE",4007]
["ANGLES",81260,"TARN",81014]
["ANGLES",85750,"VENDEE",85004]
["ANGLES SUR L ANGLIN",86260,"VIENNE",86004]
["ANGLESQUEVILLE L ESNEVAL",76280,"SEINE MARITIME",76017]
["ANGLESQUEVILLE LA BRAS LO",76740,"SEINE MARITIME",76016]
["ANGLET",64600,"PYRENEES ATLANTIQUES",64024,"Nouvelle Aquitaine"]
["ANGLIERS",17540,"CHARENTE MARITIME",17009]
["ANGLIERS",86330,"VIENNE",86005]
["ANGLURE",51260,"MARNE",51009]
["ANGLURE SOUS DUN",71170,"SAONE ET LOIRE",71008]
["ANGLUS",52220,"HAUTE MARNE",52010]
["ANGLUZELLES ET COURCELLES",51230,"MARNE",51010]
["ANGOISSE",24270,"DORDOGNE",24008]
["ANGOMONT",54540,"MEURTHE ET MOSELLE",54017]
["ANGOS",65690,"HAUTES PYRENEES",65010]
["ANGOULEME",16000,"CHARENTE",16015]
["ANGOULINS",17690,"CHARENTE MARITIME",17010]
["ANGOUME",40990,"LANDES",40003]
["ANGOUS",64190,"PYRENEES ATLANTIQUES",64025,"Nouvelle Aquitaine"]
["ANGOUSTRINE VILLENEUVE DE",66760,"PYRENEES ORIENTALES",66005]
["ANGOVILLE",14220,"CALVADOS",14013]
["ANGOVILLE AU PLAIN",50480,"MANCHE",50010]
["ANGOVILLE EN SAIRE",50330,"MANCHE",50011]
["ANGOVILLE SUR AY",50430,"MANCHE",50012]
["ANGRES",62143,"PAS DE CALAIS",62032]
["ANGRESSE",40150,"LANDES",40004,"Nouvelle Aquitaine"]
["ANGRIE",49440,"MAINE ET LOIRE",49008]
["ANGUERNY",14610,"CALVADOS",14014]
["ANGUILCOURT LE SART",2800,"AISNE",2017]
["ANGVILLER LES BISPING",57930,"MOSELLE",57023]
["ANGY",60250,"OISE",60015]
["ANHAUX",64220,"PYRENEES ATLANTIQUES",64026,"Nouvelle Aquitaine"]
["ANHIERS",59194,"NORD",59007]
["ANIANE",34150,"HERAULT",34010]
["ANICHE",59580,"NORD",59008]
["ANISY",14610,"CALVADOS",14015]
["ANIZY LE CHATEAU",2320,"AISNE",2018]
["ANJEUX",70800,"HAUTE SAONE",70023]
["ANJOU",38150,"ISERE",38009]
["ANJOUIN",36210,"INDRE",36004]
["ANJOUTEY",90170,"TERRITOIRE DE BELFORT",90003]
["ANLA",65370,"HAUTES PYRENEES",65012]
["ANLEZY",58270,"NIEVRE",58006]
["ANLHIAC",24160,"DORDOGNE",24009]
["ANNAY",58450,"NIEVRE",58007]
["ANNAY",62880,"PAS DE CALAIS",62033]
["ANNAY LA COTE",89200,"YONNE",89009]
["ANNAY SUR SEREIN",89310,"YONNE",89010]
["ANNEBAULT",14430,"CALVADOS",14016]
["ANNEBECQ",14380,"CALVADOS",14017]
["ANNECY",74000,"HAUTE SAVOIE",74010]
["ANNECY LE VIEUX",74940,"HAUTE SAVOIE",74011]
["ANNELLES",8310,"ARDENNES",8014]
["ANNEMASSE",74100,"HAUTE SAVOIE",74012]
["ANNEOT",89200,"YONNE",89011]
["ANNEPONT",17350,"CHARENTE MARITIME",17011]
["ANNEQUIN",62149,"PAS DE CALAIS",62034]
["ANNESSE ET BEAULIEU",24430,"DORDOGNE",24010]
["ANNET SUR MARNE",77410,"SEINE ET MARNE",77005]
["ANNEUX",59400,"NORD",59010]
["ANNEVILLE AMBOURVILLE",76480,"SEINE MARITIME",76020]
["ANNEVILLE EN SAIRE",50760,"MANCHE",50013]
["ANNEVILLE LA PRAIRIE",52310,"HAUTE MARNE",52011]
["ANNEVILLE SUR MER",50560,"MANCHE",50014]
["ANNEVILLE SUR SCIE",76590,"SEINE MARITIME",76019]
["ANNEYRON",26140,"DROME",26010]
["ANNEZAY",17380,"CHARENTE MARITIME",17012]
["ANNEZIN",62232,"PAS DE CALAIS",62035]
["ANNOEULLIN",59112,"NORD",59011]
["ANNOIRE",39120,"JURA",39011]
["ANNOIS",2480,"AISNE",2019]
["ANNOISIN CHATELANS",38460,"ISERE",38010]
["ANNOIX",18340,"CHER",18006]
["ANNONAY",7100,"ARDECHE",7010]
["ANNONVILLE",52230,"HAUTE MARNE",52012]
["ANNOT",4240,"ALPES DE HAUTE PROVENCE",4008]
["ANNOUVILLE VILMESNIL",76110,"SEINE MARITIME",76021]
["ANNOUX",89440,"YONNE",89012]
["ANNOVILLE",50660,"MANCHE",50015]
["ANOR",59186,"NORD",59012]
["ANOS",64160,"PYRENEES ATLANTIQUES",64027,"Nouvelle Aquitaine"]
["ANOST",71550,"SAONE ET LOIRE",71009]
["ANOULD",88650,"VOSGES",88009]
["ANOUX",54150,"MEURTHE ET MOSELLE",54018]
["ANOYE",64350,"PYRENEES ATLANTIQUES",64028,"Nouvelle Aquitaine"]
["ANQUETIERVILLE",76490,"SEINE MARITIME",76022]
["ANROSEY",52500,"HAUTE MARNE",52013]
["ANSAC SUR VIENNE",16500,"CHARENTE",16016]
["ANSACQ",60250,"OISE",60016]
["ANSAN",32270,"GERS",32002]
["ANSAUVILLE",54470,"MEURTHE ET MOSELLE",54019]
["ANSAUVILLERS",60120,"OISE",60017]
["ANSE",69480,"RHONE",69009]
["ANSE BERTRAND",97121,"GUADELOUPE",97102]
["ANSERVILLE",60540,"OISE",60018]
["ANSIGNAN",66220,"PYRENEES ORIENTALES",66006]
["ANSIGNY",73410,"SAVOIE",73016]
["ANSOST",65140,"HAUTES PYRENEES",65013]
["ANSOUIS",84240,"VAUCLUSE",84002]
["ANSTAING",59152,"NORD",59013]
["ANTAGNAC",47700,"LOT ET GARONNE",47010]
["ANTERRIEUX",15110,"CANTAL",15007]
["ANTEUIL",25340,"DOUBS",25018]
["ANTEZANT LA CHAPELLE",17400,"CHARENTE MARITIME",17013]
["ANTHE",47370,"LOT ET GARONNE",47011]
["ANTHELUPT",54110,"MEURTHE ET MOSELLE",54020]
["ANTHENAY",51700,"MARNE",51012]
["ANTHENY",8260,"ARDENNES",8015]
["ANTHEOR",83530,"VAR",83904]
["ANTHEUIL",21360,"COTE D'OR",21014]
["ANTHEUIL PORTES",60162,"OISE",60019]
["ANTHIEN",58800,"NIEVRE",58008]
["ANTHON",38280,"ISERE",38011]
["ANTHY SUR LEMAN",74200,"HAUTE SAVOIE",74013]
["ANTIBES",6600,"ALPES MARITIMES",6004]
["ANTICHAN",65370,"HAUTES PYRENEES",65014]
["ANTICHAN DE FRONTIGNES",31510,"HAUTE GARONNE",31009]
["ANTIGNAC",15240,"CANTAL",15008]
["ANTIGNAC",17240,"CHARENTE MARITIME",17014]
["ANTIGNAC",31110,"HAUTE GARONNE",31010]
["ANTIGNY",85120,"VENDEE",85005]
["ANTIGNY",86310,"VIENNE",86006]
["ANTIGNY LA VILLE",21230,"COTE D'OR",21015]
["ANTILLY",57640,"MOSELLE",57024]
["ANTILLY",60620,"OISE",60020]
["ANTIN",65220,"HAUTES PYRENEES",65015]
["ANTISANTI",20270,"CORSE",20016]
["ANTIST",65200,"HAUTES PYRENEES",65016]
["ANTOGNY LE TILLAC",37800,"INDRE ET LOIRE",37005]
["ANTOIGNE",49260,"MAINE ET LOIRE",49009]
["ANTOIGNE",72380,"SARTHE",72900]
["ANTOIGNY",61410,"ORNE",61004]
["ANTOINGT",63340,"PUY DE DOME",63005]
["ANTONAVES",5300,"HAUTES ALPES",5005]
["ANTONNE ET TRIGONANT",24420,"DORDOGNE",24011]
["ANTONY",92160,"HAUTS DE SEINE",92002]
["ANTORPE",25410,"DOUBS",39012]
["ANTRAIGUES SUR VOLANE",7530,"ARDECHE",7011]
["ANTRAIN",35560,"ILLE ET VILAINE",35004]
["ANTRAN",86100,"VIENNE",86007]
["ANTRAS",9800,"ARIEGE",9011]
["ANTRAS",32360,"GERS",32003]
["ANTRENAS",48100,"LOZERE",48005]
["ANTUGNAC",11190,"AUDE",11010]
["ANTULLY",71400,"SAONE ET LOIRE",71010]
["ANVEVILLE",76560,"SEINE MARITIME",76023]
["ANVILLE",16170,"CHARENTE",16017]
["ANVIN",62134,"PAS DE CALAIS",62036]
["ANY MARTIN RIEUX",2500,"AISNE",2020]
["ANZAT LE LUGUET",63420,"PUY DE DOME",63006]
["ANZELING",57320,"MOSELLE",57025]
["ANZEME",23000,"CREUSE",23004]
["ANZEX",47700,"LOT ET GARONNE",47012]
["ANZIN",59410,"NORD",59014]
["ANZIN ST AUBIN",62223,"PAS DE CALAIS",62037]
["ANZY LE DUC",71110,"SAONE ET LOIRE",71011]
["AOSTE",38490,"ISERE",38012]
["AOUGNY",51170,"MARNE",51013]
["AOUSTE",8290,"ARDENNES",8016]
["AOUSTE SUR SYE",26400,"DROME",26011]
["AOUZE",88170,"VOSGES",88010]
["APACH",57480,"MOSELLE",57026]
["APATOU",97317,"GUYANE",97360]
["APCHAT",63420,"PUY DE DOME",63007]
["APCHON",15400,"CANTAL",15009]
["APINAC",42550,"LOIRE",42006]
["APPELLE",81700,"TARN",81015]
["APPENAI SOUS BELLEME",61130,"ORNE",61005]
["APPENANS",25250,"DOUBS",25019]
["APPENWIHR",68280,"HAUT RHIN",68008]
["APPEVILLE",50500,"MANCHE",50016]
["APPEVILLE ANNEBAULT",27290,"EURE",27018]
["APPIETTO",20167,"CORSE",20017]
["APPILLY",60400,"OISE",60021]
["APPOIGNY",89380,"YONNE",89013]
["APPRIEU",38140,"ISERE",38013]
["APPY",9250,"ARIEGE",9012]
["APREMONT",1100,"AIN",1011]
["APREMONT",8250,"ARDENNES",8017]
["APREMONT",60300,"OISE",60022]
["APREMONT",70100,"HAUTE SAONE",70024]
["APREMONT",73190,"SAVOIE",73017]
["APREMONT",85220,"VENDEE",85006]
["APREMONT LA FORET",55300,"MEUSE",55012]
["APREMONT SUR ALLIER",18150,"CHER",18007]
["APREY",52250,"HAUTE MARNE",52014]
["APT",84400,"VAUCLUSE",84003]
["ARABAUX",9000,"ARIEGE",9013]
["ARACHES",74300,"HAUTE SAVOIE",74014]
["ARAGNOUET",65170,"HAUTES PYRENEES",65017]
["ARAGON",11600,"AUDE",11011]
["ARAMITS",64570,"PYRENEES ATLANTIQUES",64029,"Nouvelle Aquitaine"]
["ARAMON",30390,"GARD",30012]
["ARANC",1110,"AIN",1012]
["ARANCE",64300,"PYRENEES ATLANTIQUES",64030,"Nouvelle Aquitaine"]
["ARANCOU",64270,"PYRENEES ATLANTIQUES",64031,"Nouvelle Aquitaine"]
["ARANDAS",1230,"AIN",1013]
["ARANDON",38510,"ISERE",38014]
["ARATIKA",98764,"POLYNESIE FRANCAISE",98785]
["ARAUJUZON",64190,"PYRENEES ATLANTIQUES",64032,"Nouvelle Aquitaine"]
["ARAULES",43200,"HAUTE LOIRE",43007]
["ARAUX",64190,"PYRENEES ATLANTIQUES",64033,"Nouvelle Aquitaine"]
["ARBANATS",33640,"GIRONDE",33007]
["ARBAS",31160,"HAUTE GARONNE",31011]
["ARBECEY",70160,"HAUTE SAONE",70025]
["ARBELLARA",20110,"CORSE",20018]
["ARBENT",1100,"AIN",1014]
["ARBEOST",65560,"HAUTES PYRENEES",65018]
["ARBERATS SILLEGUE",64120,"PYRENEES ATLANTIQUES",64034,"Nouvelle Aquitaine"]
["ARBIGNIEU",1300,"AIN",1015]
["ARBIGNY",1190,"AIN",1016]
["ARBIGNY SOUS VARENNES",52500,"HAUTE MARNE",52015]
["ARBIN",73800,"SAVOIE",73018]
["ARBIS",33760,"GIRONDE",33008]
["ARBLADE LE BAS",32720,"GERS",32004]
["ARBLADE LE HAUT",32110,"GERS",32005]
["ARBOIS",39600,"JURA",39013]
["ARBON",31160,"HAUTE GARONNE",31012]
["ARBONNE",64210,"PYRENEES ATLANTIQUES",64035,"Nouvelle Aquitaine"]
["ARBONNE LA FORET",77630,"SEINE ET MARNE",77006]
["ARBORAS",34150,"HERAULT",34011]
["ARBORI",20160,"CORSE",20019]
["ARBOT",52160,"HAUTE MARNE",52016]
["ARBOUANS",25400,"DOUBS",25020]
["ARBOUCAVE",40320,"LANDES",40005,"Nouvelle Aquitaine"]
["ARBOUET SUSSAUTE",64120,"PYRENEES ATLANTIQUES",64036,"Nouvelle Aquitaine"]
["ARBOURSE",58350,"NIEVRE",58009]
["ARBOUSSOLS",66320,"PYRENEES ORIENTALES",66007]
["ARBRISSEL",35130,"ILLE ET VILAINE",35005]
["ARBUISSONNAS",69460,"RHONE",69011]
["ARBUS",64230,"PYRENEES ATLANTIQUES",64037,"Nouvelle Aquitaine"]
["ARBUSIGNY",74930,"HAUTE SAVOIE",74015]
["ARC EN BARROIS",52210,"HAUTE MARNE",52017]
["ARC ET SENANS",25610,"DOUBS",25021]
["ARC LES GRAY",70100,"HAUTE SAONE",70026]
["ARC SOUS CICON",25520,"DOUBS",25025]
["ARC SOUS MONTENOT",25270,"DOUBS",25026]
["ARC SUR TILLE",21560,"COTE D'OR",21021]
["ARCACHON",33120,"GIRONDE",33009]
["ARCAIS",79210,"DEUX SEVRES",79010]
["ARCAMBAL",46090,"LOT",46007]
["ARCANGUES",64200,"PYRENEES ATLANTIQUES",64038,"Nouvelle Aquitaine"]
["ARCAY",18340,"CHER",18008]
["ARCAY",86200,"VIENNE",86008]
["ARCEAU",21310,"COTE D'OR",21016]
["ARCENANT",21700,"COTE D'OR",21017]
["ARCENS",7310,"ARDECHE",7012]
["ARCES",17120,"CHARENTE MARITIME",17015]
["ARCES DILO",89320,"YONNE",89014]
["ARCEY",21410,"COTE D'OR",21018]
["ARCEY",25750,"DOUBS",25022]
["ARCHAIL",4420,"ALPES DE HAUTE PROVENCE",4009]
["ARCHAMPS",74160,"HAUTE SAVOIE",74016]
["ARCHELANGE",39290,"JURA",39014]
["ARCHES",15200,"CANTAL",15010]
["ARCHES",88380,"VOSGES",88011]
["ARCHETTES",88380,"VOSGES",88012]
["ARCHIAC",17520,"CHARENTE MARITIME",17016]
["ARCHIGNAC",24590,"DORDOGNE",24012]
["ARCHIGNAT",3380,"ALLIER",3005]
["ARCHIGNY",86210,"VIENNE",86009]
["ARCHINGEAY",17380,"CHARENTE MARITIME",17017]
["ARCHON",2360,"AISNE",2021]
["ARCIER",25220,"DOUBS",25023]
["ARCINE",74270,"HAUTE SAVOIE",74017]
["ARCINGES",42460,"LOIRE",42007]
["ARCINS",33460,"GIRONDE",33010]
["ARCIS LE PONSART",51170,"MARNE",51014]
["ARCIS SUR AUBE",10700,"AUBE",10006]
["ARCIZAC ADOUR",65360,"HAUTES PYRENEES",65019]
["ARCIZAC EZ ANGLES",65100,"HAUTES PYRENEES",65020]
["ARCIZANS AVANT",65400,"HAUTES PYRENEES",65021]
["ARCIZANS DESSUS",65400,"HAUTES PYRENEES",65022]
["ARCOMIE",48200,"LOZERE",48006]
["ARCOMPS",18200,"CHER",18009]
["ARCON",25300,"DOUBS",25024]
["ARCON",42370,"LOIRE",42008]
["ARCONCEY",21320,"COTE D'OR",21020]
["ARCONNAY",72610,"SARTHE",72006]
["ARCONSAT",63250,"PUY DE DOME",63008]
["ARCONVILLE",10200,"AUBE",10007]
["ARCUEIL",94110,"VAL DE MARNE",94003]
["ARCY STE RESTITUE",2130,"AISNE",2022]
["ARCY SUR CURE",89270,"YONNE",89015]
["ARDELLES",28170,"EURE ET LOIR",28008]
["ARDELU",28700,"EURE ET LOIR",28009]
["ARDENAIS",18170,"CHER",18010]
["ARDENAY SUR MERIZE",72370,"SARTHE",72007]
["ARDENGOST",65240,"HAUTES PYRENEES",65023]
["ARDENTES",36120,"INDRE",36005]
["ARDES",63420,"PUY DE DOME",63009]
["ARDEUIL ET MONTFAUXELLES",8400,"ARDENNES",8018]
["ARDEVON",50170,"MANCHE",50017]
["ARDIEGE",31210,"HAUTE GARONNE",31013]
["ARDILLEUX",79110,"DEUX SEVRES",79011]
["ARDILLIERES",17290,"CHARENTE MARITIME",17018]
["ARDIN",79160,"DEUX SEVRES",79012]
["ARDIZAS",32430,"GERS",32007]
["ARDOIX",7290,"ARDECHE",7013]
["ARDON",39300,"JURA",39015]
["ARDON",45160,"LOIRET",45006]
["ARDOUVAL",76680,"SEINE MARITIME",76024]
["ARDRES",62610,"PAS DE CALAIS",62038]
["ARECHES",73270,"SAVOIE",73922]
["AREGNO",20220,"CORSE",20020]
["AREINES",41100,"LOIR ET CHER",41003]
["AREMBERG",59135,"NORD",59900]
["AREN",64400,"PYRENEES ATLANTIQUES",64039,"Nouvelle Aquitaine"]
["ARENGOSSE",40110,"LANDES",40006,"Nouvelle Aquitaine"]
["ARENTHON",74800,"HAUTE SAVOIE",74018]
["ARES",33740,"GIRONDE",33011]
["ARESCHES",39110,"JURA",39586]
["ARESSY",64320,"PYRENEES ATLANTIQUES",64041,"Nouvelle Aquitaine"]
["ARETTE",64570,"PYRENEES ATLANTIQUES",64040,"Nouvelle Aquitaine"]
["ARFEUILLE CHATAIN",23700,"CREUSE",23005]
["ARFEUILLES",3640,"ALLIER",3006]
["ARFONS",81110,"TARN",81016]
["ARGAGNON",64300,"PYRENEES ATLANTIQUES",64042,"Nouvelle Aquitaine"]
["ARGANCHY",14400,"CALVADOS",14019]
["ARGANCON",10140,"AUBE",10008]
["ARGANCY",57640,"MOSELLE",57028]
["ARGEIN",9800,"ARIEGE",9014]
["ARGELES",65200,"HAUTES PYRENEES",65024]
["ARGELES GAZOST",65400,"HAUTES PYRENEES",65025]
["ARGELES PLAGE",66700,"PYRENEES ORIENTALES",66910]
["ARGELES SUR MER",66700,"PYRENEES ORIENTALES",66008]
["ARGELIERS",11120,"AUDE",11012]
["ARGELLIERS",34380,"HERAULT",34012]
["ARGELOS",40700,"LANDES",40007]
["ARGELOS",64450,"PYRENEES ATLANTIQUES",64043,"Nouvelle Aquitaine"]
["ARGELOUSE",40430,"LANDES",40008,"Nouvelle Aquitaine"]
["ARGENCES",14370,"CALVADOS",14020]
["ARGENS",4170,"ALPES DE HAUTE PROVENCE",4010]
["ARGENS MINERVOIS",11200,"AUDE",11013]
["ARGENT SUR SAULDRE",18410,"CHER",18011]
["ARGENTAN",61200,"ORNE",61006]
["ARGENTAT",19400,"CORREZE",19010]
["ARGENTELLA",20260,"CORSE",20941]
["ARGENTENAY",89160,"YONNE",89016]
["ARGENTEUIL",95100,"VAL D'OISE",95018]
["ARGENTEUIL SUR ARMANCON",89160,"YONNE",89017]
["ARGENTIERE",74400,"HAUTE SAVOIE",74920]
["ARGENTIERES",77390,"SEINE ET MARNE",77007]
["ARGENTINE",73220,"SAVOIE",73019]
["ARGENTOLLES",10150,"AUBE",10902]
["ARGENTOLLES",52330,"HAUTE MARNE",52018]
["ARGENTON",47250,"LOT ET GARONNE",47013]
["ARGENTON CHATEAU",79150,"DEUX SEVRES",79013]
["ARGENTON L EGLISE",79290,"DEUX SEVRES",79014]
["ARGENTON NOTRE DAME",53290,"MAYENNE",53006]
["ARGENTON SUR CREUSE",36200,"INDRE",36006]
["ARGENTRE",53210,"MAYENNE",53007]
["ARGENTRE DU PLESSIS",35370,"ILLE ET VILAINE",35006]
["ARGENVIERES",18140,"CHER",18012]
["ARGENVILLIERS",28420,"EURE ET LOIR",28010]
["ARGERS",51800,"MARNE",51015]
["ARGET",64410,"PYRENEES ATLANTIQUES",64044,"Nouvelle Aquitaine"]
["ARGIESANS",90800,"TERRITOIRE DE BELFORT",90004]
["ARGILLIERES",70600,"HAUTE SAONE",70027]
["ARGILLIERS",30210,"GARD",30013]
["ARGILLY",21700,"COTE D'OR",21022]
["ARGIS",1230,"AIN",1017]
["ARGIUSTA MORICCIO",20140,"CORSE",20021]
["ARGOEUVES",80730,"SOMME",80024]
["ARGOL",29560,"FINISTERE",29001]
["ARGONAY",74370,"HAUTE SAVOIE",74019]
["ARGOUGES",50240,"MANCHE",50018]
["ARGOULES",80120,"SOMME",80025]
["ARGUEIL",76780,"SEINE MARITIME",76025]
["ARGUEL",25720,"DOUBS",25027]
["ARGUEL",80140,"SOMME",80026]
["ARGUENOS",31160,"HAUTE GARONNE",31014]
["ARGUT DESSOUS",31440,"HAUTE GARONNE",31015]
["ARGUT DESSUS",31440,"HAUTE GARONNE",31016]
["ARGY",36500,"INDRE",36007]
["ARHANSUS",64120,"PYRENEES ATLANTIQUES",64045,"Nouvelle Aquitaine"]
["ARIES ESPENAN",65230,"HAUTES PYRENEES",65026]
["ARIFAT",81360,"TARN",81017]
["ARIGNAC",9400,"ARIEGE",9015]
["ARINTHOD",39240,"JURA",39016]
["ARITH",73340,"SAVOIE",73020]
["ARJUZANX",40110,"LANDES",40009,"Nouvelle Aquitaine"]
["ARLANC",63220,"PUY DE DOME",63010]
["ARLAY",39140,"JURA",39017]
["ARLEBOSC",7410,"ARDECHE",7014]
["ARLEMPDES",43490,"HAUTE LOIRE",43008]
["ARLES",13200,"BOUCHES DU RHONE",13004]
["ARLES SUR TECH",66150,"PYRENEES ORIENTALES",66009]
["ARLET",43380,"HAUTE LOIRE",43009]
["ARLEUF",58430,"NIEVRE",58010]
["ARLEUX",59151,"NORD",59015]
["ARLEUX EN GOHELLE",62580,"PAS DE CALAIS",62039]
["ARLOS",31440,"HAUTE GARONNE",31017]
["ARMAILLE",49420,"MAINE ET LOIRE",49010]
["ARMANCOURT",60880,"OISE",60023]
["ARMANCOURT",80700,"SOMME",80027]
["ARMAUCOURT",54760,"MEURTHE ET MOSELLE",54021]
["ARMBOUTS CAPPEL",59380,"NORD",59016]
["ARMEAU",89500,"YONNE",89018]
["ARMENDARITS",64640,"PYRENEES ATLANTIQUES",64046,"Nouvelle Aquitaine"]
["ARMENONVILLE LES GATINEAU",28320,"EURE ET LOIR",28011]
["ARMENTEULE",65510,"HAUTES PYRENEES",65027]
["ARMENTIERES",59280,"NORD",59017]
["ARMENTIERES EN BRIE",77440,"SEINE ET MARNE",77008]
["ARMENTIERES SUR AVRE",27820,"EURE",27019]
["ARMENTIERES SUR OURCQ",2210,"AISNE",2023]
["ARMENTIEUX",32230,"GERS",32008]
["ARMES",58500,"NIEVRE",58011]
["ARMILLAC",47800,"LOT ET GARONNE",47014]
["ARMISSAN",11110,"AUDE",11014]
["ARMIX",1510,"AIN",1019]
["ARMOUS ET CAU",32230,"GERS",32009]
["ARMOY",74200,"HAUTE SAVOIE",74020]
["ARNAC",15150,"CANTAL",15011]
["ARNAC LA POSTE",87160,"HAUTE VIENNE",87003]
["ARNAC POMPADOUR",19230,"CORREZE",19011]
["ARNAC SUR DOURDOU",12360,"AVEYRON",12009]
["ARNAGE",72230,"SARTHE",72008]
["ARNANCOURT",52110,"HAUTE MARNE",52019]
["ARNAS",69400,"RHONE",69013]
["ARNAUD GUILHEM",31360,"HAUTE GARONNE",31018]
["ARNAVE",9400,"ARIEGE",9016]
["ARNAVILLE",54530,"MEURTHE ET MOSELLE",54022]
["ARNAY LE DUC",21230,"COTE D'OR",21023]
["ARNAY SOUS VITTEAUX",21350,"COTE D'OR",21024]
["ARNAYON",26470,"DROME",26012]
["ARNE",65670,"HAUTES PYRENEES",65028]
["ARNEGUY",64220,"PYRENEES ATLANTIQUES",64047,"Nouvelle Aquitaine"]
["ARNEKE",59285,"NORD",59018]
["ARNICOURT",8300,"ARDENNES",8021]
["ARNIERES SUR ITON",27180,"EURE",27020]
["ARNONCOURT SUR APANCE",52400,"HAUTE MARNE",52020]
["ARNOS",64370,"PYRENEES ATLANTIQUES",64048,"Nouvelle Aquitaine"]
["ARNOUVILLE LES GONESSE",95400,"VAL D'OISE",95019]
["ARNOUVILLE LES MANTES",78790,"YVELINES",78020]
["AROFFE",88170,"VOSGES",88013]
["AROMAS",39240,"JURA",39018]
["ARON",53440,"MAYENNE",53008]
["AROUE ITHORROTS OLHAIBY",64120,"PYRENEES ATLANTIQUES",64049,"Nouvelle Aquitaine"]
["AROZ",70360,"HAUTE SAONE",70028]
["ARPAILLARGUES ET AUREILLA",30700,"GARD",30014]
["ARPAJON",91290,"ESSONNE",91021]
["ARPAJON SUR CERE",15130,"CANTAL",15012]
["ARPAVON",26110,"DROME",26013]
["ARPENANS",70200,"HAUTE SAONE",70029]
["ARPHEUILLES",18200,"CHER",18013]
["ARPHEUILLES",36700,"INDRE",36008]
["ARPHEUILLES ST PRIEST",3420,"ALLIER",3007]
["ARPHY",30120,"GARD",30015]
["ARQUENAY",53170,"MAYENNE",53009]
["ARQUES",11190,"AUDE",11015]
["ARQUES",12290,"AVEYRON",12010]
["ARQUES",62510,"PAS DE CALAIS",62040]
["ARQUES LA BATAILLE",76880,"SEINE MARITIME",76026]
["ARQUETTES EN VAL",11220,"AUDE",11016]
["ARQUEVES",80560,"SOMME",80028]
["ARQUIAN",58310,"NIEVRE",58012]
["ARRABLOY",45500,"LOIRET",45007]
["ARRACOURT",54370,"MEURTHE ET MOSELLE",54023]
["ARRADON",56610,"MORBIHAN",56003]
["ARRAINCOURT",57380,"MOSELLE",57027]
["ARRANCOURT",91690,"ESSONNE",91022]
["ARRANCY",2860,"AISNE",2024]
["ARRANCY SUR CRUSNE",55230,"MEUSE",55013]
["ARRANS",21500,"COTE D'OR",21025]
["ARRAS",62000,"PAS DE CALAIS",62041]
["ARRAS EN LAVEDAN",65400,"HAUTES PYRENEES",65029]
["ARRAS SUR RHONE",7370,"ARDECHE",7015]
["ARRAST LARREBIEU",64130,"PYRENEES ATLANTIQUES",64050,"Nouvelle Aquitaine"]
["ARRAUTE CHARRITTE",64120,"PYRENEES ATLANTIQUES",64051,"Nouvelle Aquitaine"]
["ARRAYE ET HAN",54760,"MEURTHE ET MOSELLE",54024]
["ARRE",30120,"GARD",30016]
["ARREAU",65240,"HAUTES PYRENEES",65031]
["ARRELLES",10340,"AUBE",10009]
["ARREMBECOURT",10330,"AUBE",10010]
["ARRENES",23210,"CREUSE",23006]
["ARRENS MARSOUS",65400,"HAUTES PYRENEES",65032]
["ARRENTES DE CORCIEUX",88430,"VOSGES",88014]
["ARRENTIERES",10200,"AUBE",10011]
["ARREST",80820,"SOMME",80029]
["ARREUX",8090,"ARDENNES",8022]
["ARRIANCE",57580,"MOSELLE",57029]
["ARRICAU BORDES",64350,"PYRENEES ATLANTIQUES",64052,"Nouvelle Aquitaine"]
["ARRIEN",64420,"PYRENEES ATLANTIQUES",64053,"Nouvelle Aquitaine"]
["ARRIEN EN BETHMALE",9800,"ARIEGE",9017]
["ARRIGAS",30770,"GARD",30017]
["ARRIGNY",51290,"MARNE",51016]
["ARRO",20151,"CORSE",20022]
["ARRODETS",65130,"HAUTES PYRENEES",65034]
["ARRODETS EZ ANGLES",65100,"HAUTES PYRENEES",65033]
["ARROMANCHES LES BAINS",14117,"CALVADOS",14021]
["ARRONNES",3250,"ALLIER",3008]
["ARRONVILLE",95810,"VAL D'OISE",95023]
["ARROS",64800,"PYRENEES ATLANTIQUES",64054,"Nouvelle Aquitaine"]
["ARROS D OLORON",64660,"PYRENEES ATLANTIQUES",64055,"Nouvelle Aquitaine"]
["ARROSES",64350,"PYRENEES ATLANTIQUES",64056,"Nouvelle Aquitaine"]
["ARROU",28290,"EURE ET LOIR",28012]
["ARROUEDE",32140,"GERS",32010]
["ARROUT",9800,"ARIEGE",9018]
["ARRY",57680,"MOSELLE",57030]
["ARRY",80120,"SOMME",80030]
["ARS",16130,"CHARENTE",16018]
["ARS",23480,"CREUSE",23007]
["ARS EN RE",17590,"CHARENTE MARITIME",17019]
["ARS LAQUENEXY",57530,"MOSELLE",57031]
["ARS LES FAVETS",63700,"PUY DE DOME",63011]
["ARS SUR FORMANS",1480,"AIN",1021]
["ARS SUR MOSELLE",57130,"MOSELLE",57032]
["ARSAC",33460,"GIRONDE",33012]
["ARSAC EN VELAY",43700,"HAUTE LOIRE",43010]
["ARSAGUE",40330,"LANDES",40011,"Nouvelle Aquitaine"]
["ARSANS",70100,"HAUTE SAONE",70030]
["ARSONVAL",10200,"AUBE",10012]
["ARSURE ARSURETTE",39250,"JURA",39020]
["ARSY",60190,"OISE",60024]
["ART SUR MEURTHE",54510,"MEURTHE ET MOSELLE",54025]
["ARTAGNAN",65500,"HAUTES PYRENEES",65035]
["ARTAISE LE VIVIER",8390,"ARDENNES",8023]
["ARTAIX",71110,"SAONE ET LOIRE",71012]
["ARTALENS SOUIN",65400,"HAUTES PYRENEES",65036]
["ARTANNES SUR INDRE",37260,"INDRE ET LOIRE",37006]
["ARTANNES SUR THOUET",49260,"MAINE ET LOIRE",49011]
["ARTAS",38440,"ISERE",38015]
["ARTASSENX",40090,"LANDES",40012,"Nouvelle Aquitaine"]
["ARTEMARE",1510,"AIN",1022]
["ARTEMPS",2480,"AISNE",2025]
["ARTENAY",45410,"LOIRET",45008]
["ARTHAZ PONT NOTRE DAME",74380,"HAUTE SAVOIE",74021]
["ARTHEL",58700,"NIEVRE",58013]
["ARTHEMONAY",26260,"DROME",26014]
["ARTHENAC",17520,"CHARENTE MARITIME",17020]
["ARTHENAS",39270,"JURA",39021]
["ARTHES",81160,"TARN",81018]
["ARTHEZ D ARMAGNAC",40190,"LANDES",40013,"Nouvelle Aquitaine"]
["ARTHEZ D ASSON",64800,"PYRENEES ATLANTIQUES",64058,"Nouvelle Aquitaine"]
["ARTHEZ DE BEARN",64370,"PYRENEES ATLANTIQUES",64057,"Nouvelle Aquitaine"]
["ARTHEZE",72270,"SARTHE",72009]
["ARTHIES",95420,"VAL D'OISE",95024]
["ARTHON",36330,"INDRE",36009]
["ARTHON EN RETZ",44320,"LOIRE ATLANTIQUE",44005]
["ARTHONNAY",89740,"YONNE",89019]
["ARTHUN",42130,"LOIRE",42009]
["ARTIGAT",9130,"ARIEGE",9019]
["ARTIGNOSC SUR VERDON",83630,"VAR",83005]
["ARTIGUE",31110,"HAUTE GARONNE",31019]
["ARTIGUEDIEU",32260,"GERS",32011]
["ARTIGUELOUTAN",64420,"PYRENEES ATLANTIQUES",64059,"Nouvelle Aquitaine"]
["ARTIGUELOUVE",64230,"PYRENEES ATLANTIQUES",64060,"Nouvelle Aquitaine"]
["ARTIGUEMY",65130,"HAUTES PYRENEES",65037]
["ARTIGUES",9460,"ARIEGE",9020]
["ARTIGUES",11140,"AUDE",11017]
["ARTIGUES",65100,"HAUTES PYRENEES",65038]
["ARTIGUES",83560,"VAR",83006]
["ARTIGUES CAMPAN",65710,"HAUTES PYRENEES",65907]
["ARTIGUES PRES BORDEAUX",33370,"GIRONDE",33013]
["ARTINS",41800,"LOIR ET CHER",41004]
["ARTIX",9120,"ARIEGE",9021]
["ARTIX",64170,"PYRENEES ATLANTIQUES",64061,"Nouvelle Aquitaine"]
["ARTOLSHEIM",67390,"BAS RHIN",67011]
["ARTONGES",2330,"AISNE",2026]
["ARTONNE",63460,"PUY DE DOME",63012]
["ARTRES",59269,"NORD",59019]
["ARTZENHEIM",68320,"HAUT RHIN",68009]
["ARUDY",64260,"PYRENEES ATLANTIQUES",64062,"Nouvelle Aquitaine"]
["ARUE",40120,"LANDES",40014,"Nouvelle Aquitaine"]
["ARUE",98701,"POLYNESIE FRANCAISE",98712]
["ARUTUA",98761,"POLYNESIE FRANCAISE",98713]
["ARVANT",43360,"HAUTE LOIRE",43901]
["ARVERT",17530,"CHARENTE MARITIME",17021]
["ARVEYRES",33500,"GIRONDE",33015]
["ARVIEU",12120,"AVEYRON",12011]
["ARVIEUX",5350,"HAUTES ALPES",5007]
["ARVIGNA",9100,"ARIEGE",9022]
["ARVILLARD",73110,"SAVOIE",73021]
["ARVILLE",41170,"LOIR ET CHER",41005]
["ARVILLE",77890,"SEINE ET MARNE",77009]
["ARVILLERS",80910,"SOMME",80031]
["ARX",40310,"LANDES",40015,"Nouvelle Aquitaine"]
["ARZACQ ARRAZIGUET",64410,"PYRENEES ATLANTIQUES",64063,"Nouvelle Aquitaine"]
["ARZAL",56190,"MORBIHAN",56004]
["ARZANO",29300,"FINISTERE",29002]
["ARZAY",38260,"ISERE",38016]
["ARZEMBOUY",58700,"NIEVRE",58014]
["ARZENC D APCHER",48310,"LOZERE",48007]
["ARZENC DE RANDON",48170,"LOZERE",48008]
["ARZENS",11290,"AUDE",11018]
["ARZILLIERES NEUVILLE",51290,"MARNE",51017]
["ARZON",56640,"MORBIHAN",56005]
["ARZVILLER",57400,"MOSELLE",57033]
["ASASP ARROS",64660,"PYRENEES ATLANTIQUES",64064,"Nouvelle Aquitaine"]
["ASCAIN",64310,"PYRENEES ATLANTIQUES",64065,"Nouvelle Aquitaine"]
["ASCARAT",64220,"PYRENEES ATLANTIQUES",64066,"Nouvelle Aquitaine"]
["ASCHBACH",67250,"BAS RHIN",67012]
["ASCHERES LE MARCHE",45170,"LOIRET",45009]
["ASCO",20276,"CORSE",20023]
["ASCOU",9110,"ARIEGE",9023]
["ASCOUX",45300,"LOIRET",45010]
["ASCROS",6260,"ALPES MARITIMES",6005]
["ASFELD",8190,"ARDENNES",8024]
["ASLONNES",86340,"VIENNE",86010]
["ASNAN",58420,"NIEVRE",58015]
["ASNANS BEAUVOISIN",39120,"JURA",39022]
["ASNELLES",14960,"CALVADOS",14022]
["ASNIERES",27260,"EURE",27021]
["ASNIERES",38280,"ISERE",38902]
["ASNIERES EN BESSIN",14710,"CALVADOS",14023]
["ASNIERES EN MONTAGNE",21500,"COTE D'OR",21026]
["ASNIERES EN POITOU",79170,"DEUX SEVRES",79015]
["ASNIERES LA GIRAUD",17400,"CHARENTE MARITIME",17022]
["ASNIERES LES DIJON",21380,"COTE D'OR",21027]
["ASNIERES SOUS BOIS",89660,"YONNE",89020]
["ASNIERES SUR BLOUR",86430,"VIENNE",86011]
["ASNIERES SUR NOUERE",16290,"CHARENTE",16019]
["ASNIERES SUR OISE",95270,"VAL D'OISE",95026]
["ASNIERES SUR SAONE",1570,"AIN",1023]
["ASNIERES SUR SEINE",92600,"HAUTS DE SEINE",92004]
["ASNIERES SUR VEGRE",72430,"SARTHE",72010]
["ASNOIS",58190,"NIEVRE",58016]
["ASNOIS",86250,"VIENNE",86012]
["ASPACH",57790,"MOSELLE",57034]
["ASPACH",68130,"HAUT RHIN",68010]
["ASPACH LE BAS",68700,"HAUT RHIN",68011]
["ASPACH LE HAUT",68700,"HAUT RHIN",68012]
["ASPERES",30250,"GARD",30018]
["ASPERJOC",7600,"ARDECHE",7016]
["ASPET",31160,"HAUTE GARONNE",31020]
["ASPIN AURE",65240,"HAUTES PYRENEES",65039]
["ASPIN EN LAVEDAN",65100,"HAUTES PYRENEES",65040]
["ASPIRAN",34800,"HERAULT",34013]
["ASPREMONT",5140,"HAUTES ALPES",5008]
["ASPREMONT",6790,"ALPES MARITIMES",6006]
["ASPRES LES CORPS",5800,"HAUTES ALPES",5009]
["ASPRES SUR BUECH",5140,"HAUTES ALPES",5010]
["ASPRET SARRAT",31800,"HAUTE GARONNE",31021]
["ASPRIERES",12700,"AVEYRON",12012]
["ASQUE",65130,"HAUTES PYRENEES",65041]
["ASQUES",33240,"GIRONDE",33016]
["ASQUES",82120,"TARN ET GARONNE",82004]
["ASQUINS",89450,"YONNE",89021]
["ASSAC",81340,"TARN",81019]
["ASSAINVILLERS",80500,"SOMME",80032]
["ASSAIS LES JUMEAUX",79600,"DEUX SEVRES",79016]
["ASSAS",34820,"HERAULT",34014]
["ASSAT",64510,"PYRENEES ATLANTIQUES",64067,"Nouvelle Aquitaine"]
["ASSAY",37120,"INDRE ET LOIRE",37007]
["ASSE LE BERENGER",53600,"MAYENNE",53010]
["ASSE LE BOISNE",72130,"SARTHE",72011]
["ASSE LE RIBOUL",72170,"SARTHE",72012]
["ASSENAY",10320,"AUBE",10013]
["ASSENCIERES",10220,"AUBE",10014]
["ASSENONCOURT",57810,"MOSELLE",57035]
["ASSERAC",44410,"LOIRE ATLANTIQUE",44006]
["ASSEVENT",59600,"NORD",59021]
["ASSEVILLERS",80200,"SOMME",80033]
["ASSIER",46320,"LOT",46009]
["ASSIEU",38150,"ISERE",38017]
["ASSIGNAN",34360,"HERAULT",34015]
["ASSIGNY",18260,"CHER",18014]
["ASSIGNY",76630,"SEINE MARITIME",76027]
["ASSIS SUR SERRE",2270,"AISNE",2027]
["ASSON",64800,"PYRENEES ATLANTIQUES",64068,"Nouvelle Aquitaine"]
["ASSWILLER",67320,"BAS RHIN",67013]
["ASTAFFORT",47220,"LOT ET GARONNE",47015]
["ASTAILLAC",19120,"CORREZE",19012]
["ASTE",65200,"HAUTES PYRENEES",65042]
["ASTE BEON",64260,"PYRENEES ATLANTIQUES",64069,"Nouvelle Aquitaine"]
["ASTET",7330,"ARDECHE",7018]
["ASTILLE",53230,"MAYENNE",53011]
["ASTIS",64450,"PYRENEES ATLANTIQUES",64070,"Nouvelle Aquitaine"]
["ASTOIN",4250,"ALPES DE HAUTE PROVENCE",4011]
["ASTON",9310,"ARIEGE",9024]
["ASTUGUE",65200,"HAUTES PYRENEES",65043]
["ATHEE",21130,"COTE D'OR",21028]
["ATHEE",53400,"MAYENNE",53012]
["ATHEE SUR CHER",37270,"INDRE ET LOIRE",37008]
["ATHESANS ETROITE FONTAINE",70110,"HAUTE SAONE",70031]
["ATHIE",21500,"COTE D'OR",21029]
["ATHIE",89440,"YONNE",89022]
["ATHIENVILLE",54370,"MEURTHE ET MOSELLE",54026]
["ATHIES",62223,"PAS DE CALAIS",62042]
["ATHIES",80200,"SOMME",80034]
["ATHIES SOUS LAON",2840,"AISNE",2028]
["ATHIS",51150,"MARNE",51018]
["ATHIS DE L ORNE",61430,"ORNE",61007]
["ATHIS MONS",91200,"ESSONNE",91027]
["ATHOS ASPIS",64390,"PYRENEES ATLANTIQUES",64071,"Nouvelle Aquitaine"]
["ATHOSE",25580,"DOUBS",25028]
["ATTAINVILLE",95570,"VAL D'OISE",95028]
["ATTANCOURT",52130,"HAUTE MARNE",52021]
["ATTENSCHWILLER",68220,"HAUT RHIN",68013]
["ATTICHES",59551,"NORD",59022]
["ATTICHY",60350,"OISE",60025]
["ATTIGNAT",1340,"AIN",1024]
["ATTIGNAT ONCIN",73610,"SAVOIE",73022]
["ATTIGNEVILLE",88300,"VOSGES",88015]
["ATTIGNY",8130,"ARDENNES",8025]
["ATTIGNY",88260,"VOSGES",88016]
["ATTILLONCOURT",57170,"MOSELLE",57036]
["ATTILLY",2490,"AISNE",2029]
["ATTIN",62170,"PAS DE CALAIS",62044]
["ATTON",54700,"MEURTHE ET MOSELLE",54027]
["ATTRAY",45170,"LOIRET",45011]
["ATTRICOURT",70100,"HAUTE SAONE",70032]
["ATUR",24750,"DORDOGNE",24013]
["AUBAGNAN",40700,"LANDES",40016]
["AUBAGNE",13400,"BOUCHES DU RHONE",13005]
["AUBAINE",21360,"COTE D'OR",21030]
["AUBAIS",30250,"GARD",30019]
["AUBAREDE",65350,"HAUTES PYRENEES",65044]
["AUBAS",24290,"DORDOGNE",24014]
["AUBAZAT",43380,"HAUTE LOIRE",43011]
["AUBAZINE",19190,"CORREZE",19013]
["AUBE",57580,"MOSELLE",57037]
["AUBE",61270,"ORNE",61008]
["AUBEGUIMONT",76390,"SEINE MARITIME",76028]
["AUBENAS",7200,"ARDECHE",7019]
["AUBENAS LES ALPES",4110,"ALPES DE HAUTE PROVENCE",4012]
["AUBENASSON",26340,"DROME",26015]
["AUBENCHEUL AU BAC",59265,"NORD",59023]
["AUBENCHEUL AUX BOIS",2420,"AISNE",2030]
["AUBENTON",2500,"AISNE",2031]
["AUBEPIERRE OZOUER LE REPO",77720,"SEINE ET MARNE",77010]
["AUBEPIERRE SUR AUBE",52210,"HAUTE MARNE",52022]
["AUBERCHICOURT",59165,"NORD",59024]
["AUBERCOURT",80110,"SOMME",80035]
["AUBERGENVILLE",78410,"YVELINES",78029]
["AUBERIVE",51600,"MARNE",51019]
["AUBERIVE",52160,"HAUTE MARNE",52023]
["AUBERIVES EN ROYANS",38680,"ISERE",38018]
["AUBERIVES SUR VAREZE",38550,"ISERE",38019]
["AUBERMESNIL AUX ERABLES",76340,"SEINE MARITIME",76029]
["AUBERMESNIL BEAUMAIS",76550,"SEINE MARITIME",76030]
["AUBERS",59249,"NORD",59025]
["AUBERTANS",70190,"HAUTE SAONE",70033]
["AUBERTIN",64290,"PYRENEES ATLANTIQUES",64072,"Nouvelle Aquitaine"]
["AUBERVILLE",14640,"CALVADOS",14024]
["AUBERVILLE LA CAMPAGNE",76170,"SEINE MARITIME",76031]
["AUBERVILLE LA MANUEL",76450,"SEINE MARITIME",76032]
["AUBERVILLE LA RENAULT",76110,"SEINE MARITIME",76033]
["AUBERVILLIERS",93300,"SEINE SAINT DENIS",93001]
["AUBETERRE",10150,"AUBE",10015]
["AUBETERRE SUR DRONNE",16390,"CHARENTE",16020]
["AUBEVILLE",16250,"CHARENTE",16021]
["AUBEVOYE",27940,"EURE",27022]
["AUBIAC",33430,"GIRONDE",33017]
["AUBIAC",47310,"LOT ET GARONNE",47016]
["AUBIAT",63260,"PUY DE DOME",63013]
["AUBIE ET ESPESSAS",33240,"GIRONDE",33018]
["AUBIERE",63170,"PUY DE DOME",63014]
["AUBIET",32270,"GERS",32012]
["AUBIGNAN",84810,"VAUCLUSE",84004]
["AUBIGNAS",7400,"ARDECHE",7020]
["AUBIGNE",35250,"ILLE ET VILAINE",35007]
["AUBIGNE",79110,"DEUX SEVRES",79018]
["AUBIGNE RACAN",72800,"SARTHE",72013]
["AUBIGNE SUR LAYON",49540,"MAINE ET LOIRE",49012]
["AUBIGNEY",70140,"HAUTE SAONE",70034]
["AUBIGNOSC",4200,"ALPES DE HAUTE PROVENCE",4013]
["AUBIGNY",3460,"ALLIER",3009]
["AUBIGNY",14700,"CALVADOS",14025]
["AUBIGNY",79390,"DEUX SEVRES",79019]
["AUBIGNY",80800,"SOMME",80036]
["AUBIGNY",85430,"VENDEE",85008]
["AUBIGNY AU BAC",59265,"NORD",59026]
["AUBIGNY AUX KAISNES",2590,"AISNE",2032]
["AUBIGNY EN ARTOIS",62690,"PAS DE CALAIS",62045]
["AUBIGNY EN LAONNOIS",2820,"AISNE",2033]
["AUBIGNY EN PLAINE",21170,"COTE D'OR",21031]
["AUBIGNY LA RONCE",21340,"COTE D'OR",21032]
["AUBIGNY LES POTHEES",8150,"ARDENNES",8026]
["AUBIGNY LES SOMBERNON",21540,"COTE D'OR",21033]
["AUBIGNY SUR NERE",18700,"CHER",18015]
["AUBILLY",51170,"MARNE",51020]
["AUBIN",12110,"AVEYRON",12013]
["AUBIN",64230,"PYRENEES ATLANTIQUES",64073,"Nouvelle Aquitaine"]
["AUBIN ST VAAST",62140,"PAS DE CALAIS",62046]
["AUBINGES",18220,"CHER",18016]
["AUBONCOURT VAUZELLES",8270,"ARDENNES",8027]
["AUBONNE",25520,"DOUBS",25029]
["AUBORD",30620,"GARD",30020]
["AUBOUE",54580,"MEURTHE ET MOSELLE",54028]
["AUBOUS",64330,"PYRENEES ATLANTIQUES",64074,"Nouvelle Aquitaine"]
["AUBRAC",12470,"AVEYRON",12900]
["AUBRES",26110,"DROME",26016]
["AUBREVILLE",55120,"MEUSE",55014]
["AUBRIVES",8320,"ARDENNES",8028]
["AUBROMETZ",62390,"PAS DE CALAIS",62047]
["AUBRY DU HAINAUT",59494,"NORD",59027]
["AUBRY EN EXMES",61160,"ORNE",61009]
["AUBRY LE PANTHOU",61120,"ORNE",61010]
["AUBURE",68150,"HAUT RHIN",68014]
["AUBUSSARGUES",30190,"GARD",30021]
["AUBUSSON",23200,"CREUSE",23008]
["AUBUSSON",61100,"ORNE",61011]
["AUBUSSON D AUVERGNE",63120,"PUY DE DOME",63015]
["AUBVILLERS",80110,"SOMME",80037]
["AUBY",59950,"NORD",59028]
["AUCALEUC",22100,"COTES D'ARMOR",22003]
["AUCAMVILLE",31140,"HAUTE GARONNE",31022]
["AUCAMVILLE",82600,"TARN ET GARONNE",82005]
["AUCAZEIN",9800,"ARIEGE",9025]
["AUCELON",26340,"DROME",26017]
["AUCEY LA PLAINE",50170,"MANCHE",50019]
["AUCH",32000,"GERS",32013]
["AUCHEL",62260,"PAS DE CALAIS",62048]
["AUCHONVILLERS",80560,"SOMME",80038]
["AUCHY AU BOIS",62190,"PAS DE CALAIS",62049]
["AUCHY LA MONTAGNE",60360,"OISE",60026]
["AUCHY LES HESDIN",62770,"PAS DE CALAIS",62050]
["AUCHY LES MINES",62138,"PAS DE CALAIS",62051]
["AUCHY LES ORCHIES",59310,"NORD",59029]
["AUCUN",65400,"HAUTES PYRENEES",65045]
["AUDAUX",64190,"PYRENEES ATLANTIQUES",64075,"Nouvelle Aquitaine"]
["AUDEJOS",64170,"PYRENEES ATLANTIQUES",64076,"Nouvelle Aquitaine"]
["AUDELANGE",39700,"JURA",39024]
["AUDELONCOURT",52240,"HAUTE MARNE",52025]
["AUDEMBERT",62250,"PAS DE CALAIS",62052]
["AUDENCOURT",59540,"NORD",59030]
["AUDENGE",33980,"GIRONDE",33019]
["AUDERVILLE",50440,"MANCHE",50020]
["AUDES",3190,"ALLIER",3010]
["AUDEUX",25170,"DOUBS",25030]
["AUDEVILLE",45300,"LOIRET",45012]
["AUDIERNE",29770,"FINISTERE",29003]
["AUDIGNICOURT",2300,"AISNE",2034]
["AUDIGNIES",59570,"NORD",59031]
["AUDIGNON",40500,"LANDES",40017,"Nouvelle Aquitaine"]
["AUDIGNY",2120,"AISNE",2035]
["AUDINAC LES BAINS",9200,"ARIEGE",9901]
["AUDINCOURT",25400,"DOUBS",25031]
["AUDINCTHUN",62560,"PAS DE CALAIS",62053]
["AUDINGHEN",62179,"PAS DE CALAIS",62054]
["AUDON",40400,"LANDES",40018,"Nouvelle Aquitaine"]
["AUDOUVILLE LA HUBERT",50480,"MANCHE",50021]
["AUDREHEM",62890,"PAS DE CALAIS",62055]
["AUDRESSEIN",9800,"ARIEGE",9026]
["AUDRESSELLES",62164,"PAS DE CALAIS",62056]
["AUDRIEU",14250,"CALVADOS",14026]
["AUDRIX",24260,"DORDOGNE",24015]
["AUDRUICQ",62370,"PAS DE CALAIS",62057]
["AUDUN LE ROMAN",54560,"MEURTHE ET MOSELLE",54029]
["AUDUN LE TICHE",57390,"MOSELLE",57038]
["AUENHEIM",67480,"BAS RHIN",67014]
["AUFFARGIS",78610,"YVELINES",78030]
["AUFFAY",76720,"SEINE MARITIME",76034]
["AUFFERVILLE",77570,"SEINE ET MARNE",77011]
["AUFLANCE",8370,"ARDENNES",8029]
["AUFREVILLE BRASSEUIL",78930,"YVELINES",78031]
["AUGA",64450,"PYRENEES ATLANTIQUES",64077,"Nouvelle Aquitaine"]
["AUGAN",56800,"MORBIHAN",56006]
["AUGE",8380,"ARDENNES",8030]
["AUGE",16170,"CHARENTE",16022]
["AUGE",23170,"CREUSE",23009]
["AUGE",79400,"DEUX SEVRES",79020]
["AUGE ST MEDARD",16170,"CHARENTE",16339]
["AUGEA",39190,"JURA",39025]
["AUGER ST VINCENT",60800,"OISE",60027]
["AUGERANS",39380,"JURA",39026]
["AUGERES",23210,"CREUSE",23010]
["AUGEROLLES",63930,"PUY DE DOME",63016]
["AUGERS EN BRIE",77560,"SEINE ET MARNE",77012]
["AUGERVILLE LA RIVIERE",45330,"LOIRET",45013]
["AUGES",4310,"ALPES DE HAUTE PROVENCE",4014]
["AUGEVILLE",52270,"HAUTE MARNE",52026]
["AUGICOURT",70500,"HAUTE SAONE",70035]
["AUGIGNAC",24300,"DORDOGNE",24016]
["AUGIREIN",9800,"ARIEGE",9027]
["AUGISEY",39270,"JURA",39027]
["AUGNAT",63340,"PUY DE DOME",63017]
["AUGNAX",32120,"GERS",32014]
["AUGNE",87120,"HAUTE VIENNE",87004]
["AUGNY",57176,"MOSELLE",57039]
["AUGUAISE",61270,"ORNE",61012]
["AUGY",2220,"AISNE",2036]
["AUGY",89290,"YONNE",89023]
["AUGY SUR AUBOIS",18600,"CHER",18017]
["AUJAC",17770,"CHARENTE MARITIME",17023]
["AUJAC",30450,"GARD",30022]
["AUJAN MOURNEDE",32300,"GERS",32015]
["AUJARGUES",30250,"GARD",30023]
["AUJEURRES",52190,"HAUTE MARNE",52027]
["AUJOLS",46090,"LOT",46010]
["AULAN",26570,"DROME",26018]
["AULAS",30120,"GARD",30024]
["AULHAT ST PRIVAT",63500,"PUY DE DOME",63018]
["AULLENE",20116,"CORSE",20024]
["AULNAT",63510,"PUY DE DOME",63019]
["AULNAY",10240,"AUBE",10017]
["AULNAY",17470,"CHARENTE MARITIME",17024]
["AULNAY",86330,"VIENNE",86013]
["AULNAY AUX PLANCHES",51130,"MARNE",51021]
["AULNAY L AITRE",51240,"MARNE",51022]
["AULNAY LA RIVIERE",45390,"LOIRET",45014]
["AULNAY SOUS BOIS",93600,"SEINE SAINT DENIS",93005]
["AULNAY SUR ITON",27180,"EURE",27023]
["AULNAY SUR MARNE",51150,"MARNE",51023]
["AULNAY SUR MAULDRE",78126,"YVELINES",78033]
["AULNIZEUX",51130,"MARNE",51024]
["AULNOIS",88300,"VOSGES",88017]
["AULNOIS EN PERTHOIS",55170,"MEUSE",55015]
["AULNOIS SOUS LAON",2000,"AISNE",2037]
["AULNOIS SOUS VERTUZEY",55200,"MEUSE",55016]
["AULNOIS SUR SEILLE",57590,"MOSELLE",57040]
["AULNOY",77120,"SEINE ET MARNE",77013]
["AULNOY LEZ VALENCIENNES",59300,"NORD",59032]
["AULNOY SUR AUBE",52160,"HAUTE MARNE",52028]
["AULNOYE AYMERIES",59620,"NORD",59033]
["AULON",23210,"CREUSE",23011]
["AULON",31420,"HAUTE GARONNE",31023]
["AULON",65440,"HAUTES PYRENEES",65046]
["AULOS",9310,"ARIEGE",9028]
["AULT",80460,"SOMME",80039]
["AULUS LES BAINS",9140,"ARIEGE",9029]
["AULX LES CROMARY",70190,"HAUTE SAONE",70036]
["AUMAGNE",17770,"CHARENTE MARITIME",17025]
["AUMALE",76390,"SEINE MARITIME",76035]
["AUMATRE",80140,"SOMME",80040]
["AUMELAS",34230,"HERAULT",34016]
["AUMENANCOURT",51110,"MARNE",51025]
["AUMERVAL",62550,"PAS DE CALAIS",62058]
["AUMES",34530,"HERAULT",34017]
["AUMESSAS",30770,"GARD",30025]
["AUMETZ",57710,"MOSELLE",57041]
["AUMEVILLE LESTRE",50630,"MANCHE",50022]
["AUMONT",39800,"JURA",39028]
["AUMONT",80640,"SOMME",80041]
["AUMONT AUBRAC",48130,"LOZERE",48009]
["AUMONT EN HALATTE",60300,"OISE",60028]
["AUMONTZEY",88640,"VOSGES",88018]
["AUMUR",39410,"JURA",39029]
["AUNAC",16460,"CHARENTE",16023]
["AUNAT",11140,"AUDE",11019]
["AUNAY EN BAZOIS",58110,"NIEVRE",58017]
["AUNAY LES BOIS",61500,"ORNE",61013]
["AUNAY SOUS AUNEAU",28700,"EURE ET LOIR",28013]
["AUNAY SOUS CRECY",28500,"EURE ET LOIR",28014]
["AUNAY SUR ODON",14260,"CALVADOS",14027]
["AUNEAU",28700,"EURE ET LOIR",28015]
["AUNEUIL",60390,"OISE",60029]
["AUNOU LE FAUCON",61200,"ORNE",61014]
["AUNOU SUR ORNE",61500,"ORNE",61015]
["AUPPEGARD",76730,"SEINE MARITIME",76036]
["AUPS",83630,"VAR",83007]
["AUQUAINVILLE",14140,"CALVADOS",14028]
["AUQUEMESNIL",76630,"SEINE MARITIME",76037]
["AURADE",32600,"GERS",32016]
["AURADOU",47140,"LOT ET GARONNE",47017]
["AURAGNE",31190,"HAUTE GARONNE",31024]
["AURAY",56400,"MORBIHAN",56007]
["AURE",8400,"ARDENNES",8031]
["AUREC SUR LOIRE",43110,"HAUTE LOIRE",43012]
["AUREIL",87220,"HAUTE VIENNE",87005]
["AUREILHAN",40200,"LANDES",40019,"Nouvelle Aquitaine"]
["AUREILHAN",65800,"HAUTES PYRENEES",65047]
["AUREILLE",13930,"BOUCHES DU RHONE",13006]
["AUREL",26340,"DROME",26019]
["AUREL",84390,"VAUCLUSE",84005]
["AURELLE VERLAC",12130,"AVEYRON",12014]
["AURENSAN",32400,"GERS",32017]
["AURENSAN",65390,"HAUTES PYRENEES",65048]
["AUREVILLE",31320,"HAUTE GARONNE",31025]
["AURIAC",11330,"AUDE",11020]
["AURIAC",19220,"CORREZE",19014]
["AURIAC",64450,"PYRENEES ATLANTIQUES",64078,"Nouvelle Aquitaine"]
["AURIAC DE BOURZAC",24320,"DORDOGNE",24017]
["AURIAC DU PERIGORD",24290,"DORDOGNE",24018]
["AURIAC L EGLISE",15500,"CANTAL",15013]
["AURIAC LAGAST",12120,"AVEYRON",12015]
["AURIAC SUR DROPT",47120,"LOT ET GARONNE",47018]
["AURIAC SUR VENDINELLE",31460,"HAUTE GARONNE",31026]
["AURIAT",23400,"CREUSE",23012]
["AURIBAIL",31190,"HAUTE GARONNE",31027]
["AURIBEAU",4380,"ALPES DE HAUTE PROVENCE",4015]
["AURIBEAU",84400,"VAUCLUSE",84006]
["AURIBEAU SUR SIAGNE",6810,"ALPES MARITIMES",6007]
["AURICE",40500,"LANDES",40020,"Nouvelle Aquitaine"]
["AURIEBAT",65700,"HAUTES PYRENEES",65049]
["AURIERES",63210,"PUY DE DOME",63020]
["AURIGNAC",31420,"HAUTE GARONNE",31028]
["AURILLAC",15000,"CANTAL",15014]
["AURIMONT",32450,"GERS",32018]
["AURIN",31570,"HAUTE GARONNE",31029]
["AURIOL",13390,"BOUCHES DU RHONE",13007]
["AURIOLLES",7120,"ARDECHE",7021]
["AURIOLLES",33790,"GIRONDE",33020]
["AURIONS IDERNES",64350,"PYRENEES ATLANTIQUES",64079,"Nouvelle Aquitaine"]
["AURIS",38142,"ISERE",38020]
["AURON",6660,"ALPES MARITIMES",6901]
["AURONS",13121,"BOUCHES DU RHONE",13008]
["AUROS",33124,"GIRONDE",33021]
["AUROUER",3460,"ALLIER",3011]
["AUROUX",48600,"LOZERE",48010]
["AUSSAC",81600,"TARN",81020]
["AUSSAC VADALLE",16560,"CHARENTE",16024]
["AUSSEING",31260,"HAUTE GARONNE",31030]
["AUSSEVIELLE",64230,"PYRENEES ATLANTIQUES",64080,"Nouvelle Aquitaine"]
["AUSSILLON",81200,"TARN",81021]
["AUSSOIS",73500,"SAVOIE",73023]
["AUSSON",31210,"HAUTE GARONNE",31031]
["AUSSONCE",8310,"ARDENNES",8032]
["AUSSONNE",31840,"HAUTE GARONNE",31032]
["AUSSOS",32140,"GERS",32468]
["AUSSURUCQ",64130,"PYRENEES ATLANTIQUES",64081,"Nouvelle Aquitaine"]
["AUTAINVILLE",41240,"LOIR ET CHER",41006]
["AUTECHAUX",25110,"DOUBS",25032]
["AUTECHAUX ROIDE",25150,"DOUBS",25033]
["AUTERIVE",31190,"HAUTE GARONNE",31033]
["AUTERIVE",32550,"GERS",32019]
["AUTERIVE",82500,"TARN ET GARONNE",82006]
["AUTERRIVE",64270,"PYRENEES ATLANTIQUES",64082,"Nouvelle Aquitaine"]
["AUTET",70180,"HAUTE SAONE",70037]
["AUTEUIL",60390,"OISE",60030]
["AUTEUIL",78770,"YVELINES",78034]
["AUTEVIELLE ST MARTIN BIDE",64390,"PYRENEES ATLANTIQUES",64083,"Nouvelle Aquitaine"]
["AUTHE",8240,"ARDENNES",8033]
["AUTHEUIL",28220,"EURE ET LOIR",28017]
["AUTHEUIL",61190,"ORNE",61016]
["AUTHEUIL AUTHOUILLET",27490,"EURE",27025]
["AUTHEUIL EN VALOIS",60890,"OISE",60031]
["AUTHEUX",80600,"SOMME",80042]
["AUTHEVERNES",27420,"EURE",27026]
["AUTHEZAT",63730,"PUY DE DOME",63021]
["AUTHIE",14280,"CALVADOS",14030]
["AUTHIE",80560,"SOMME",80043]
["AUTHIEULE",80600,"SOMME",80044]
["AUTHIEUX RATIEVILLE",76690,"SEINE MARITIME",76038]
["AUTHIEUX SUR LE PORT ST O",76520,"SEINE MARITIME",76039]
["AUTHIOU",58700,"NIEVRE",58018]
["AUTHOISON",70190,"HAUTE SAONE",70038]
["AUTHON",4200,"ALPES DE HAUTE PROVENCE",4016]
["AUTHON",41310,"LOIR ET CHER",41007]
["AUTHON DU PERCHE",28330,"EURE ET LOIR",28018]
["AUTHON EBEON",17770,"CHARENTE MARITIME",17026]
["AUTHON LA PLAINE",91410,"ESSONNE",91035]
["AUTHOU",27290,"EURE",27028]
["AUTHOUILLET",27490,"EURE",27029]
["AUTHUILLE",80300,"SOMME",80045]
["AUTHUME",39100,"JURA",39030]
["AUTHUMES",71270,"SAONE ET LOIRE",71013]
["AUTICHAMP",26400,"DROME",26021]
["AUTIGNAC",34480,"HERAULT",34018]
["AUTIGNY",76740,"SEINE MARITIME",76040]
["AUTIGNY LA TOUR",88300,"VOSGES",88019]
["AUTIGNY LE GRAND",52300,"HAUTE MARNE",52029]
["AUTIGNY LE PETIT",52300,"HAUTE MARNE",52030]
["AUTINGUES",62610,"PAS DE CALAIS",62059]
["AUTOIRE",46400,"LOT",46011]
["AUTOREILLE",70700,"HAUTE SAONE",70039]
["AUTOUILLET",78770,"YVELINES",78036]
["AUTRAC",43450,"HAUTE LOIRE",43014]
["AUTRANS",38880,"ISERE",38021]
["AUTRECHE",37110,"INDRE ET LOIRE",37009]
["AUTRECHENE",90140,"TERRITOIRE DE BELFORT",90082]
["AUTRECHES",60350,"OISE",60032]
["AUTRECOURT ET POURRON",8210,"ARDENNES",8034]
["AUTRECOURT SUR AIRE",55120,"MEUSE",55017]
["AUTREMENCOURT",2250,"AISNE",2039]
["AUTREPIERRE",54450,"MEURTHE ET MOSELLE",54030]
["AUTREPPES",2580,"AISNE",2040]
["AUTRETOT",76190,"SEINE MARITIME",76041]
["AUTREVILLE",2300,"AISNE",2041]
["AUTREVILLE",88300,"VOSGES",88020]
["AUTREVILLE ST LAMBERT",55700,"MEUSE",55018]
["AUTREVILLE SUR LA RENNE",52120,"HAUTE MARNE",52031]
["AUTREVILLE SUR MOSELLE",54380,"MEURTHE ET MOSELLE",54031]
["AUTREY",54160,"MEURTHE ET MOSELLE",54032]
["AUTREY",88700,"VOSGES",88021]
["AUTREY LE VAY",70110,"HAUTE SAONE",70042]
["AUTREY LES CERRE",70110,"HAUTE SAONE",70040]
["AUTREY LES GRAY",70100,"HAUTE SAONE",70041]
["AUTRICOURT",21570,"COTE D'OR",21034]
["AUTRUCHE",8240,"ARDENNES",8035]
["AUTRUY LE CHATEL",45500,"LOIRET",45016]
["AUTRUY SUR JUINE",45480,"LOIRET",45015]
["AUTRY",8250,"ARDENNES",8036]
["AUTRY ISSARDS",3210,"ALLIER",3012]
["AUTUN",71400,"SAONE ET LOIRE",71014]
["AUTY",82220,"TARN ET GARONNE",82007]
["AUVARE",6260,"ALPES MARITIMES",6008]
["AUVE",51800,"MARNE",51027]
["AUVERGNY",27250,"EURE",27030]
["AUVERNAUX",91830,"ESSONNE",91037]
["AUVERS",43300,"HAUTE LOIRE",43015]
["AUVERS",50500,"MANCHE",50023]
["AUVERS LE HAMON",72300,"SARTHE",72016]
["AUVERS SOUS MONTFAUCON",72540,"SARTHE",72017]
["AUVERS ST GEORGES",91580,"ESSONNE",91038]
["AUVERS SUR OISE",95430,"VAL D'OISE",95039]
["AUVERSE",49490,"MAINE ET LOIRE",49013]
["AUVET ET LA CHAPELOTTE",70100,"HAUTE SAONE",70043]
["AUVILLAR",82340,"TARN ET GARONNE",82008]
["AUVILLARS",14340,"CALVADOS",14033]
["AUVILLARS SUR SAONE",21250,"COTE D'OR",21035]
["AUVILLERS LES FORGES",8260,"ARDENNES",8037]
["AUVILLIERS",76270,"SEINE MARITIME",76042]
["AUVILLIERS EN GATINAIS",45270,"LOIRET",45017]
["AUX AUSSAT",32170,"GERS",32020]
["AUX MARAIS",60000,"OISE",60703]
["AUXAIS",50500,"MANCHE",50024]
["AUXANGE",39700,"JURA",39031]
["AUXANT",21360,"COTE D'OR",21036]
["AUXELLES BAS",90200,"TERRITOIRE DE BELFORT",90005]
["AUXELLES HAUT",90200,"TERRITOIRE DE BELFORT",90006]
["AUXERRE",89000,"YONNE",89024]
["AUXEY DURESSES",21190,"COTE D'OR",21037]
["AUXI LE CHATEAU",62390,"PAS DE CALAIS",62060]
["AUXILLAC",48500,"LOZERE",48011]
["AUXON",10130,"AUBE",10018]
["AUXON",70000,"HAUTE SAONE",70044]
["AUXON DESSOUS",25870,"DOUBS",25034]
["AUXON DESSUS",25870,"DOUBS",25035]
["AUXONNE",21130,"COTE D'OR",21038]
["AUXY",45340,"LOIRET",45018]
["AUXY",71400,"SAONE ET LOIRE",71015]
["AUZAINVILLIERS",88140,"VOSGES",88022]
["AUZANCES",23700,"CREUSE",23013]
["AUZAS",31360,"HAUTE GARONNE",31034]
["AUZAT",9220,"ARIEGE",9030]
["AUZAT SUR ALLIER",63570,"PUY DE DOME",63022]
["AUZAY",85200,"VENDEE",85009]
["AUZEBOSC",76190,"SEINE MARITIME",76043]
["AUZECOURT",55800,"MEUSE",55019]
["AUZELLES",63590,"PUY DE DOME",63023]
["AUZERS",15240,"CANTAL",15015]
["AUZET",4140,"ALPES DE HAUTE PROVENCE",4017]
["AUZEVILLE EN ARGONNE",55120,"MEUSE",55020]
["AUZEVILLE TOLOSANE",31320,"HAUTE GARONNE",31035]
["AUZIELLE",31650,"HAUTE GARONNE",31036]
["AUZITS",12390,"AVEYRON",12016]
["AUZON",43390,"HAUTE LOIRE",43016]
["AUZOUER EN TOURAINE",37110,"INDRE ET LOIRE",37010]
["AUZOUVILLE AUBERBOSC",76640,"SEINE MARITIME",76044]
["AUZOUVILLE L ESNEVAL",76760,"SEINE MARITIME",76045]
["AUZOUVILLE SUR RY",76116,"SEINE MARITIME",76046]
["AUZOUVILLE SUR SAANE",76730,"SEINE MARITIME",76047]
["AVAILLES EN CHATELLERAULT",86530,"VIENNE",86014]
["AVAILLES LIMOUZINE",86460,"VIENNE",86015]
["AVAILLES SUR CHIZE",79170,"DEUX SEVRES",79021]
["AVAILLES SUR SEICHE",35130,"ILLE ET VILAINE",35008]
["AVAILLES THOUARSAIS",79600,"DEUX SEVRES",79022]
["AVAJAN",65240,"HAUTES PYRENEES",65050]
["AVALLON",89200,"YONNE",89025]
["AVANCON",5230,"HAUTES ALPES",5011]
["AVANCON",8300,"ARDENNES",8038]
["AVANNE AVENEY",25720,"DOUBS",25036]
["AVANT LES MARCILLY",10400,"AUBE",10020]
["AVANT LES RAMERUPT",10240,"AUBE",10021]
["AVANTON",86170,"VIENNE",86016]
["AVAPESSA",20225,"CORSE",20025]
["AVARAY",41500,"LOIR ET CHER",41008]
["AVAUX",8190,"ARDENNES",8039]
["AVEIZE",69610,"RHONE",69014]
["AVEIZIEUX",42330,"LOIRE",42010]
["AVELANGES",21120,"COTE D'OR",21039]
["AVELESGES",80270,"SOMME",80046]
["AVELIN",59710,"NORD",59034]
["AVELUY",80300,"SOMME",80047]
["AVENAS",69430,"RHONE",69015]
["AVENAY",14210,"CALVADOS",14034]
["AVENAY VAL D OR",51160,"MARNE",51028]
["AVENE",34260,"HERAULT",34019]
["AVENEY",25720,"DOUBS",25037]
["AVENHEIM",67370,"BAS RHIN",67015]
["AVENSAC",32120,"GERS",32021]
["AVENSAN",33480,"GIRONDE",33022]
["AVENTIGNAN",65660,"HAUTES PYRENEES",65051]
["AVERAN",65380,"HAUTES PYRENEES",65052]
["AVERDOINGT",62127,"PAS DE CALAIS",62061]
["AVERDON",41330,"LOIR ET CHER",41009]
["AVERMES",3000,"ALLIER",3013]
["AVERNES",95450,"VAL D'OISE",95040]
["AVERNES SOUS EXMES",61310,"ORNE",61019]
["AVERNES ST GOURGON",61470,"ORNE",61018]
["AVERON BERGELLE",32290,"GERS",32022]
["AVERTON",53700,"MAYENNE",53013]
["AVESNELLES",59440,"NORD",59035]
["AVESNES",62650,"PAS DE CALAIS",62062]
["AVESNES CHAUSSOY",80140,"SOMME",80048]
["AVESNES EN BRAY",76220,"SEINE MARITIME",76048]
["AVESNES EN SAOSNOIS",72260,"SARTHE",72018]
["AVESNES EN VAL",76630,"SEINE MARITIME",76049]
["AVESNES LE COMTE",62810,"PAS DE CALAIS",62063]
["AVESNES LE SEC",59296,"NORD",59038]
["AVESNES LES AUBERT",59129,"NORD",59037]
["AVESNES LES BAPAUME",62450,"PAS DE CALAIS",62064]
["AVESNES SUR HELPE",59440,"NORD",59036]
["AVESSAC",44460,"LOIRE ATLANTIQUE",44007]
["AVESSE",72350,"SARTHE",72019]
["AVEUX",65370,"HAUTES PYRENEES",65053]
["AVEZAC PRAT LAHITTE",65130,"HAUTES PYRENEES",65054]
["AVEZAN",32380,"GERS",32023]
["AVEZE",30120,"GARD",30026]
["AVEZE",63690,"PUY DE DOME",63024]
["AVEZE",72400,"SARTHE",72020]
["AVIERNOZ",74570,"HAUTE SAVOIE",74022]
["AVIGNON",84000,"VAUCLUSE",84007]
["AVIGNON LES ST CLAUDE",39200,"JURA",39032]
["AVIGNONET",38650,"ISERE",38023]
["AVIGNONET LAURAGAIS",31290,"HAUTE GARONNE",31037]
["AVILLERS",54490,"MEURTHE ET MOSELLE",54033]
["AVILLERS",88500,"VOSGES",88023]
["AVILLERS STE CROIX",55210,"MEUSE",55021]
["AVILLEY",25680,"DOUBS",25038]
["AVILLY ST LEONARD",60300,"OISE",60033]
["AVION",62210,"PAS DE CALAIS",62065]
["AVIOTH",55600,"MEUSE",55022]
["AVIRE",49500,"MAINE ET LOIRE",49014]
["AVIREY LINGEY",10340,"AUBE",10022]
["AVIRON",27930,"EURE",27031]
["AVIZE",51190,"MARNE",51029]
["AVOCOURT",55270,"MEUSE",55023]
["AVOINE",37420,"INDRE ET LOIRE",37011]
["AVOINE",61150,"ORNE",61020]
["AVOISE",72430,"SARTHE",72021]
["AVOLSHEIM",67120,"BAS RHIN",67016]
["AVON",77210,"SEINE ET MARNE",77014]
["AVON",79800,"DEUX SEVRES",79023]
["AVON LA PEZE",10290,"AUBE",10023]
["AVON LES ROCHES",37220,"INDRE ET LOIRE",37012]
["AVONDANCE",62310,"PAS DE CALAIS",62066]
["AVORD",18520,"CHER",18018]
["AVORIAZ",74110,"HAUTE SAVOIE",74950]
["AVOSNES",21350,"COTE D'OR",21040]
["AVOT",21580,"COTE D'OR",21041]
["AVOUDREY",25690,"DOUBS",25039]
["AVRAINVILLE",52130,"HAUTE MARNE",52032]
["AVRAINVILLE",54385,"MEURTHE ET MOSELLE",54034]
["AVRAINVILLE",88130,"VOSGES",88024]
["AVRAINVILLE",91630,"ESSONNE",91041]
["AVRANCHES",50300,"MANCHE",50025]
["AVRANVILLE",88630,"VOSGES",88025]
["AVRECHY",60130,"OISE",60034]
["AVRECOURT",52140,"HAUTE MARNE",52033]
["AVREE",58170,"NIEVRE",58019]
["AVREGNY",74350,"HAUTE SAVOIE",74023]
["AVREMESNIL",76730,"SEINE MARITIME",76050]
["AVRESSIEUX",73240,"SAVOIE",73025]
["AVREUIL",10130,"AUBE",10024]
["AVRICOURT",54450,"MEURTHE ET MOSELLE",54035]
["AVRICOURT",57810,"MOSELLE",57042]
["AVRICOURT",60310,"OISE",60035]
["AVRIEUX",73500,"SAVOIE",73026]
["AVRIGNEY VIREY",70150,"HAUTE SAONE",70045]
["AVRIGNY",60190,"OISE",60036]
["AVRIL",54150,"MEURTHE ET MOSELLE",54036]
["AVRIL SUR LOIRE",58300,"NIEVRE",58020]
["AVRILLE",49240,"MAINE ET LOIRE",49015]
["AVRILLE",85440,"VENDEE",85010]
["AVRILLE LES PONCEAUX",37340,"INDRE ET LOIRE",37013]
["AVRILLY",3130,"ALLIER",3014]
["AVRILLY",27240,"EURE",27032]
["AVRILLY",61700,"ORNE",61021]
["AVROLLES",89600,"YONNE",89026]
["AVROULT",62560,"PAS DE CALAIS",62067]
["AVY",17800,"CHARENTE MARITIME",17027]
["AWOINGT",59400,"NORD",59039]
["AX LES THERMES",9110,"ARIEGE",9032]
["AXAT",11140,"AUDE",11021]
["AXIAT",9250,"ARIEGE",9031]
["AY",51160,"MARNE",51030]
["AY SUR MOSELLE",57300,"MOSELLE",57043]
["AYAT SUR SIOULE",63390,"PUY DE DOME",63025]
["AYDAT",63970,"PUY DE DOME",63026]
["AYDIE",64330,"PYRENEES ATLANTIQUES",64084,"Nouvelle Aquitaine"]
["AYDIUS",64490,"PYRENEES ATLANTIQUES",64085,"Nouvelle Aquitaine"]
["AYDOILLES",88600,"VOSGES",88026]
["AYEN",19310,"CORREZE",19015]
["AYENCOURT",80500,"SOMME",80049]
["AYETTE",62116,"PAS DE CALAIS",62068]
["AYGUADE CEINTURON",83400,"VAR",83905]
["AYGUATEBIA TALAU",66360,"PYRENEES ORIENTALES",66010]
["AYGUEMORTE LES GRAVES",33640,"GIRONDE",33023]
["AYGUESVIVES",31450,"HAUTE GARONNE",31004]
["AYGUETINTE",32410,"GERS",32024]
["AYHERRE",64240,"PYRENEES ATLANTIQUES",64086,"Nouvelle Aquitaine"]
["AYN",73470,"SAVOIE",73027]
["AYNAC",46120,"LOT",46012]
["AYRENS",15250,"CANTAL",15016]
["AYRON",86190,"VIENNE",86017]
["AYROS ARBOUIX",65400,"HAUTES PYRENEES",65055]
["AYSE",74130,"HAUTE SAVOIE",74024]
["AYSSENES",12430,"AVEYRON",12017]
["AYTRE",17440,"CHARENTE MARITIME",17028]
["AZELOT",54210,"MEURTHE ET MOSELLE",54037]
["AZEVILLE",50310,"MANCHE",50026]
["BACHAS",31420,"HAUTE GARONNE",31039]
["BAERENDORF",67320,"BAS RHIN",67017]
["BAGIRY",31510,"HAUTE GARONNE",31041]
["BAGNEUX LA FOSSE",10340,"AUBE",10025]
["BAILLARGUES",34670,"HERAULT",34022]
["BAILLOLET",76660,"SEINE MARITIME",76053]
["BAILLY EN RIVIERE",76630,"SEINE MARITIME",76054]
["BAJUS",62150,"PAS DE CALAIS",62077]
["BALBINS",38260,"ISERE",38025]
["BALLEE",53340,"MAYENNE",53017]
["BALZAC",16430,"CHARENTE",16026]
["BANANIER",97130,"GUADELOUPE",97150]
["BANNES",46400,"LOT",46017]
["BANVILLARS",90800,"TERRITOIRE DE BELFORT",90007]
["BAPAUME",62450,"PAS DE CALAIS",62080]
["BARBEZIERES",16140,"CHARENTE",16027]
["BARBOTAN",32150,"GERS",32920]
["BAREMBACH",67130,"BAS RHIN",67020]
["BARJAC",9190,"ARIEGE",9037]
["BARLEST",65100,"HAUTES PYRENEES",65065]
["BARR",67140,"BAS RHIN",67021]
["BARRY",65380,"HAUTES PYRENEES",65067]
["BART",25420,"DOUBS",25043]
["BASILLON VAUZE",64350,"PYRENEES ATLANTIQUES",64098,"Nouvelle Aquitaine"]
["BASSING",57260,"MOSELLE",57053]
["BASVILLE",23260,"CREUSE",23017]
["BAUDIGNAN",40310,"LANDES",40030,"Nouvelle Aquitaine"]
["BAUDRECOURT",57580,"MOSELLE",57054]
["BAUME LES DAMES",25110,"DOUBS",25047]
["BAY",70150,"HAUTE SAONE",70057]
["BAYENCOURT",80560,"SOMME",80057]
["BAZAUGES",17490,"CHARENTE MARITIME",17035]
["BAZOCHES EN DUNOIS",28140,"EURE ET LOIR",28028]
["BAZOQUES",27230,"EURE",27046]
["BEAUCHE",28270,"EURE ET LOIR",28030]
["BEAUCOURT",90500,"TERRITOIRE DE BELFORT",90009]
["BEAUFORT",73270,"SAVOIE",73034]
["BEAULANDAIS",61140,"ORNE",61033]
["BEAULIEU",61190,"ORNE",61034]
["BEAUMERIE ST MARTIN",62170,"PAS DE CALAIS",62094]
["BEAUMONT EN AUGE",14950,"CALVADOS",14055]
["BEAUMONT SUR LEZE",31870,"HAUTE GARONNE",31052]
["BEAUMONTEL",27170,"EURE",27050]
["BEAURECUEIL",13100,"BOUCHES DU RHONE",13012]
["BEAUSOLEIL",6240,"ALPES MARITIMES",6012]
["BEAUVEZER",4370,"ALPES DE HAUTE PROVENCE",4025]
["BEAUVOISIN",26170,"DROME",26043]
["BEC DE MORTAGNE",76110,"SEINE MARITIME",76068]
["BEDUER",46100,"LOT",46021]
["BEHERICOURT",60400,"OISE",60059]
["BELBERAUD",31450,"HAUTE GARONNE",31057]
["BELCASTEL ET BUC",11580,"AUDE",11029]
["BELIS",40120,"LANDES",40033,"Nouvelle Aquitaine"]
["BELLEFONTAINE",50520,"MANCHE",50043]
["BELLEFONTAINE",97222,"MARTINIQUE",97234]
["BELLESERRE",81540,"TARN",81027]
["BELLEY",1300,"AIN",1034]
["BELLOY SUR SOMME",80310,"SOMME",80082]
["BELONCHAMP",70270,"HAUTE SAONE",70063]
["BELVAL",50210,"MANCHE",50044]
["BEMECOURT",27160,"EURE",27054]
["BENIVAY OLLON",26170,"DROME",26048]
["BENNEY",54740,"MEURTHE ET MOSELLE",54062]
["BERAUT",32100,"GERS",32044]
["BERGHOLTZ",68500,"HAUT RHIN",68029]
["BERLAIMONT",59145,"NORD",59068]
["BERNAC DESSUS",65360,"HAUTES PYRENEES",65084]
["BERNAVILLE",80370,"SOMME",80086]
["BERNICA",97435,"REUNION",97477]
["BERRAC",32480,"GERS",32047]
["BERROGAIN LARUNS",64130,"PYRENEES ATLANTIQUES",64115,"Nouvelle Aquitaine"]
["BERTHELMING",57930,"MOSELLE",57066]
["BERTRY",59980,"NORD",59074]
["BESINGRAND",64150,"PYRENEES ATLANTIQUES",64117,"Nouvelle Aquitaine"]
["BESNANS",70230,"HAUTE SAONE",70065]
["BESSEGES",30160,"GARD",30037]
["BETBEZE",65230,"HAUTES PYRENEES",65088]
["BETHON",51260,"MARNE",51056]
["BETONCOURT LES MENETRIERS",70120,"HAUTE SAONE",70068]
["BETTENDORF",68560,"HAUT RHIN",68033]
["BEUREY",10140,"AUBE",10045]
["BEUVRON EN AUGE",14430,"CALVADOS",14070]
["BEUZEVILLE AU PLAIN",50480,"MANCHE",50051]
["BEYREDE JUMET",65410,"HAUTES PYRENEES",65092]
["BEZIERS",34500,"HERAULT",34032]
["BIBLISHEIM",67360,"BAS RHIN",67037]
["BIDON",7700,"ARDECHE",7034]
["BIENVILLE LA PETITE",54300,"MEURTHE ET MOSELLE",54074]
["BIEVRES",91570,"ESSONNE",91064]
["BILLANCOURT",80190,"SOMME",80105]
["BILLIEME",73170,"SAVOIE",73042]
["BILLY SUR OURCQ",2210,"AISNE",2090]
["BIRAC SUR TREC",47200,"LOT ET GARONNE",47028]
["BISSEY LA COTE",21520,"COTE D'OR",21077]
["BISSEZEELE",59380,"NORD",59083]
["BLACQUEVILLE",76190,"SEINE MARITIME",76099]
["BLAIRVILLE",62173,"PAS DE CALAIS",62135]
["BLANCHERUPT",67130,"BAS RHIN",67050]
["BLANDY",91150,"ESSONNE",91067]
["BLANZAY SUR BOUTONNE",17470,"CHARENTE MARITIME",17049]
["BLAUDEIX",23140,"CREUSE",23023]
["BLESSONVILLE",52120,"HAUTE MARNE",52056]
["BLETTERANS",39140,"JURA",39056]
["BLOIS SUR SEILLE",39210,"JURA",39057]
["BOCOGNANO",20136,"CORSE",20040]
["BOGNY SUR MEUSE",8120,"ARDENNES",8081]
["BOHAS MEYRIAT RIGNAT",1250,"AIN",1245]
["BOIS DE CHAMP",88600,"VOSGES",88064]
["BOISDON",77970,"SEINE ET MARNE",77036]
["BOISMONT",80230,"SOMME",80110]
["BOISSEJOUR",63122,"PUY DE DOME",63902]
["BOISSY FRESNOY",60440,"OISE",60079]
["BOLANDOZ",25330,"DOUBS",25070]
["BONA",58330,"NIEVRE",58035]
["BONCOURT",54800,"MEURTHE ET MOSELLE",54082]
["BONNAT",23220,"CREUSE",23025]
["BONNET",55130,"MEUSE",55059]
["BONNEUIL SUR MARNE",94380,"VAL DE MARNE",94011]
["BONNEVILLE APTOT",27290,"EURE",27083]
["BONVILLARET",73220,"SAVOIE",73049]
["BORDEAUX ST CLAIR",76790,"SEINE MARITIME",76117]
["BORNEL",60540,"OISE",60088]
["BOSC ROGER SUR BUCHY",76750,"SEINE MARITIME",76127]
["BOSMONT SUR SERRE",2250,"AISNE",2101]
["BOTSORHEL",29650,"FINISTERE",29014]
["BOUCHET",26790,"DROME",26054]
["BOUCLANS",25360,"DOUBS",25078]
["BOUEX",16410,"CHARENTE",16055]
["BOUGY LEZ NEUVILLE",45170,"LOIRET",45044]
["BOUHY",58310,"NIEVRE",58036]
["BOUILLY",89600,"YONNE",89052]
["BOULIN",65350,"HAUTES PYRENEES",65104]
["BOULOT",70190,"HAUTE SAONE",70084]
["BOURBON L ARCHAMBAULT",3160,"ALLIER",3036]
["BOURBOURG",59630,"NORD",59094]
["BOURG ARCHAMBAULT",86390,"VIENNE",86035]
["BOURG LASTIC",63760,"PUY DE DOME",63048]
["BOURG ST BERNARD",31570,"HAUTE GARONNE",31082]
["BOURGOIN JALLIEU",38300,"ISERE",38053]
["BOURNAINVILLE",27230,"EURE",27903]
["BOURNONVILLE",62240,"PAS DE CALAIS",62165]
["BOUSSAC",23600,"CREUSE",23031]
["BOUSSE",57310,"MOSELLE",57102]
["BOUTAVENT",60220,"OISE",60096]
["BOUVELINGHEM",62380,"PAS DE CALAIS",62169]
["BOUVILLE",91880,"ESSONNE",91100]
["BOUZE LES BEAUNE",21200,"COTE D'OR",21099]
["BOYARDVILLE",17190,"CHARENTE MARITIME",17908]
["BRAGASSARGUES",30260,"GARD",30050]
["BRAHIC",7140,"ARDECHE",7043]
["BRAN",17210,"CHARENTE MARITIME",17061]
["BRANSAT",3500,"ALLIER",3038]
["BRASSEITTE",55300,"MEUSE",55074]
["BRAY",71250,"SAONE ET LOIRE",71057]
["BRAYE",2880,"AISNE",2118]
["BRECHAMPS",28210,"EURE ET LOIR",28058]
["BREITENAU",67220,"BAS RHIN",67062]
["BREM SUR MER",85470,"VENDEE",85243]
["BRENTHONNE",74890,"HAUTE SAVOIE",74048]
["BRETAGNE",36110,"INDRE",36024]
["BRETIGNY",27800,"EURE",27113]
["BRETTEN",68780,"HAUT RHIN",68052]
["BREUREY LES FAVERNEY",70160,"HAUTE SAONE",70095]
["BREVILLERS",62140,"PAS DE CALAIS",62175]
["BRIATEXTE",81390,"TARN",81039]
["BRIE SOUS ARCHIAC",17520,"CHARENTE MARITIME",17066]
["BRIELLES",35370,"ILLE ET VILAINE",35042]
["BRIGNOLES",83170,"VAR",83023]
["BRINON SUR SAULDRE",18410,"CHER",18037]
["BRION",49250,"MAINE ET LOIRE",49049]
["BRISSAY CHOIGNY",2240,"AISNE",2123]
["BRONCOURT",52500,"HAUTE MARNE",52077]
["BROU",28160,"EURE ET LOIR",28061]
["BROUSSEVAL",52130,"HAUTE MARNE",52079]
["BROUVELIEURES",88600,"VOSGES",88076]
["BRUAY SUR L ESCAUT",59860,"NORD",59112]
["BRULON",72350,"SARTHE",72050]
["BRUNET",4210,"ALPES DE HAUTE PROVENCE",4035]
["BRY",59144,"NORD",59116]
["BUCY LES PIERREPONT",2350,"AISNE",2133]
["BUHL",68530,"HAUT RHIN",68058]
["BUJALEUF",87460,"HAUTE VIENNE",87024]
["BULHON",63350,"PUY DE DOME",63058]
["BUOUX",84480,"VAUCLUSE",84023]
["BUREY",27190,"EURE",27120]
["BURIVILLE",54450,"MEURTHE ET MOSELLE",54107]
["BUSIGNY",59137,"NORD",59118]
["BUSSIERES",71960,"SAONE ET LOIRE",71069]
["BUSSY LES DAOURS",80800,"SOMME",80156]
["BUVILLY",39800,"JURA",39081]
["BUXIERES LES FRONCLES",52320,"HAUTE MARNE",52086]
["BY",25440,"DOUBS",25104]
["CABRIES",13480,"BOUCHES DU RHONE",13019]
["CADEILHAN TRACHERE",65170,"HAUTES PYRENEES",65117]
["CAEN",14000,"CALVADOS",14118]
["CAILHAU",11240,"AUDE",11058]
["CALAIS",62100,"PAS DE CALAIS",62193]
["CALCATOGGIO",20111,"CORSE",20048]
["CALONGES",47430,"LOT ET GARONNE",47046]
["CAMBES",33880,"GIRONDE",33084]
["CAMBURAT",46100,"LOT",46053]
["CAMELAS",66300,"PYRENEES ORIENTALES",66033]
["CAMPAGNE",34160,"HERAULT",34048]
["CAMPET ET LAMOLERE",40090,"LANDES",40062,"Nouvelle Aquitaine"]
["CAMPS EN AMIENOIS",80540,"SOMME",80165]
["CAMPUAC",12580,"AVEYRON",12049]
["CANCALE",35260,"ILLE ET VILAINE",35049]
["CANLY",60680,"OISE",60125]
["CANTIERS",27420,"EURE",27128]
["CANTIN",59169,"NORD",59126]
["CAPENDU",11700,"AUDE",11068]
["CARBUCCIA",20133,"CORSE",20062]
["CARELLES",53120,"MAYENNE",53047]
["CARHAIX PLOUGUER",29270,"FINISTERE",29024]
["CARNEVILLE",50330,"MANCHE",50101]
["CARS",33390,"GIRONDE",33100]
["CASABIANCA",20237,"CORSE",20069]
["CASALTA",20215,"CORSE",20072]
["CASSEL",59670,"NORD",59135]
["CASTANS",11160,"AUDE",11075]
["CASTELLARE DI MERCURIO",20212,"CORSE",20078]
["CASTELNAU CHALOSSE",40360,"LANDES",40071,"Nouvelle Aquitaine"]
["CASTELNAU TURSAN",40320,"LANDES",40072,"Nouvelle Aquitaine"]
["CASTERAT BOUZET",82120,"TARN ET GARONNE",82034]
["CASTEX D ARMAGNAC",32240,"GERS",32087]
["CASTILLON EN COUSERANS",9800,"ARIEGE",9085]
["CATTEVILLE",50390,"MANCHE",50105]
["CAUDROT",33490,"GIRONDE",33111]
["CAUNAY",79190,"DEUX SEVRES",79060]
["CAUSSINIOJOULS",34600,"HERAULT",34062]
["CAUVILLE",14770,"CALVADOS",14146]
["CAYEUX EN SANTERRE",80720,"SOMME",80181]
["CAZAUX FRECHET",65510,"HAUTES PYRENEES",65941]
["CAZEAUX DE LARBOUST",31110,"HAUTE GARONNE",31133]
["CEBAZAT",63118,"PUY DE DOME",63063]
["CELLES SUR BELLE",79370,"DEUX SEVRES",79061]
["CENDREY",25640,"DOUBS",25107]
["CERCIE",69220,"RHONE",69036]
["CERE LA RONDE",37460,"INDRE ET LOIRE",37046]
["CERNAY",68700,"HAUT RHIN",68063]
["CERQUEUX DE MAULEVRIER",49360,"MAINE ET LOIRE",49058]
["CERS",34420,"HERAULT",34073]
["CESSENS",73410,"SAVOIE",73062]
["CEYROUX",23210,"CREUSE",23042]
["CHABRELOCHE",63250,"PUY DE DOME",63072]
["CHACRISE",2200,"AISNE",2154]
["CHAILLY EN BIERE",77930,"SEINE ET MARNE",77069]
["CHALAINES",55140,"MEUSE",55097]
["CHALEY",1230,"AIN",1076]
["CHALIERS",15320,"CANTAL",15034]
["CHALONNES SUR LOIRE",49290,"MAINE ET LOIRE",49063]
["CHAMANT",60300,"OISE",60138]
["CHAMBON",18190,"CHER",18046]
["CHAMBON LA FORET",45340,"LOIRET",45069]
["CHAMBOURG SUR INDRE",37310,"INDRE ET LOIRE",37049]
["CHAMERY",51500,"MARNE",51112]
["CHAMPAGNE",7340,"ARDECHE",7051]
["CHAMPAGNE",72470,"SARTHE",72054]
["CHAMPANGES",74500,"HAUTE SAVOIE",74057]
["CHAMPEAUX",35500,"ILLE ET VILAINE",35052]
["CHAMPGENETEUX",53160,"MAYENNE",53053]
["CHAMPIGNEULLE",8250,"ARDENNES",8098]
["CHAMPLAT ET BOUJACOURT",51480,"MARNE",51120]
["CHAMPOUX",25640,"DOUBS",25117]
["CHAMPVALLON",89710,"YONNE",89078]
["CHAMPVANS",39100,"JURA",39101]
["CHANDAI",61300,"ORNE",61092]
["CHANOS CURSON",26600,"DROME",26071]
["CHANTERAC",24190,"DORDOGNE",24104]
["CHANTRAINES",52700,"HAUTE MARNE",52107]
["CHAPDEUIL",24320,"DORDOGNE",24105]
["CHAPPES",8220,"ARDENNES",8102]
["CHARCENNE",70700,"HAUTE SAONE",70130]
["CHARDOGNE",55000,"MEUSE",55101]
["CHARIEZ",70000,"HAUTE SAONE",70134]
["CHARMES",3800,"ALLIER",3061]
["CHARNAS",7340,"ARDECHE",7056]
["CHARNY",21350,"COTE D'OR",21147]
["CHARRAIX",43300,"HAUTE LOIRE",43060]
["CHARVIEU CHAVAGNEUX",38230,"ISERE",38085]
["CHASSELAS",71570,"SAONE ET LOIRE",71108]
["CHASSENEUIL SUR BONNIEURE",16260,"CHARENTE",16085]
["CHASSIGNY SOUS DUN",71170,"SAONE ET LOIRE",71110]
["CHATEAU CHINON CAMPAGNE",58120,"NIEVRE",58063]
["CHATEAU SUR EPTE",27420,"EURE",27152]
["CHATEAU VERDUN",9310,"ARIEGE",9096]
["CHATEAUNEUF DU FAOU",29520,"FINISTERE",29027]
["CHATEAUNEUF VAL DE BARGIS",58350,"NIEVRE",58064]
["CHATEL DE NEUVRE",3500,"ALLIER",3065]
["CHATELAIN",53200,"MAYENNE",53063]
["CHATENAY",28700,"EURE ET LOIR",28092]
["CHATENOIS",88170,"VOSGES",88095]
["CHATILLON SUR LISON",25440,"DOUBS",25134]
["CHATILLON SUR MORIN",51310,"MARNE",51137]
["CHAUCONIN NEUFMONTIERS",77124,"SEINE ET MARNE",77335]
["CHAUFFECOURT",88500,"VOSGES",88097]
["CHAUMERE",35113,"ILLE ET VILAINE",35074]
["CHAUMONT",61230,"ORNE",61103]
["CHAUNAY",86510,"VIENNE",86068]
["CHAUVIREY LE VIEIL",70500,"HAUTE SAONE",70144]
["CHAVAGNAC",24120,"DORDOGNE",24117]
["CHAVANNE",39570,"JURA",39902]
["CHAVIN",36200,"INDRE",36048]
["CHAZEMAIS",3370,"ALLIER",3072]
["CHEILLE",37190,"INDRE ET LOIRE",37067]
["CHELLES",60350,"OISE",60145]
["CHEMILLY SUR SEREIN",89800,"YONNE",89095]
["CHENECEY BUILLON",25440,"DOUBS",25149]
["CHENNEBRUN",27820,"EURE",27155]
["CHENOMMET",16460,"CHARENTE",16094]
["CHERBOURG",50100,"MANCHE",50129]
["CHERRE",72400,"SARTHE",72080]
["CHESSY",77700,"SEINE ET MARNE",77111]
["CHEVENON",58160,"NIEVRE",58072]
["CHEVIGNEY SUR L OGNON",25170,"DOUBS",25150]
["CHEVRIERES",42140,"LOIRE",42062]
["CHEZELLES",36500,"INDRE",36050]
["CHEZY SUR MARNE",2570,"AISNE",2186]
["CHILLEURS AUX BOIS",45170,"LOIRET",45095]
["CHIROUBLES",69115,"RHONE",69058]
["CHOIGNES",52000,"HAUTE MARNE",52906]
["CHOISY AU BAC",60750,"OISE",60151]
["CHOZEAU",38460,"ISERE",38109]
["CIERGES",2130,"AISNE",2193]
["CINTRAY",28300,"EURE ET LOIR",28100]
["CIPIERES",6620,"ALPES MARITIMES",6041]
["CITERNE",80490,"SOMME",80196]
["CIZANCOURT",80200,"SOMME",80197]
["CLADECH",24170,"DORDOGNE",24122]
["CLAMECY",2880,"AISNE",2198]
["CLASTRES",2440,"AISNE",2199]
["CLAYE SOUILLY",77410,"SEINE ET MARNE",77118]
["CLERGOUX",19320,"CORREZE",19056]
["CLERMAIN",71520,"SAONE ET LOIRE",71134]
["CLERY PETIT",55110,"MEUSE",55119]
["CLIMBACH",67510,"BAS RHIN",67075]
["CLOHARS FOUESNANT",29950,"FINISTERE",29032]
["COATREVEN",22450,"COTES D'ARMOR",22042]
["COGGIA",20160,"CORSE",20090]
["COIMERES",33210,"GIRONDE",33130]
["COINCY",2210,"AISNE",2203]
["COLLAT",43230,"HAUTE LOIRE",43075]
["COLLONGES LES PREMIERES",21110,"COTE D'OR",21183]
["COLOMBE LES VESOUL",70000,"HAUTE SAONE",70162]
["COLOMBIERS",17460,"CHARENTE MARITIME",17115]
["COLOMBY",50700,"MANCHE",50138]
["COMBERANCHE ET EPELUCHE",24600,"DORDOGNE",24128]
["COMBRESSOL",19250,"CORREZE",19058]
["COMMER",53470,"MAYENNE",53072]
["COMPAINVILLE",76440,"SEINE MARITIME",76185]
["CONCEZE",19350,"CORREZE",19059]
["CONDAT EN COMBRAILLES",63380,"PUY DE DOME",63118]
["CONDE",36100,"INDRE",36059]
["CONDOM D AUBRAC",12470,"AVEYRON",12074]
["CONFORT",1200,"AIN",1114]
["CONNEZAC",24300,"DORDOGNE",24131]
["CONTESCOURT",2680,"AISNE",2214]
["CONTEVILLE EN TERNOIS",62130,"PAS DE CALAIS",62238]
["CONZIEU",1300,"AIN",1117]
["CORBERE",66130,"PYRENEES ORIENTALES",66055]
["CORBIERES",11230,"AUDE",11100]
["CORDEBUGLE",14100,"CALVADOS",14179]
["CORMEILLES EN VEXIN",95830,"VAL D'OISE",95177]
["CORMOZ",1560,"AIN",1124]
["CORNILLE",35500,"ILLE ET VILAINE",35087]
["CORNOD",39240,"JURA",39166]
["CORRE",70500,"HAUTE SAONE",70177]
["COSNAC",19360,"CORREZE",19063]
["COSSE EN CHAMPAGNE",53340,"MAYENNE",53076]
["COUBLANC",71170,"SAONE ET LOIRE",71148]
["COUDRECEAU",28400,"EURE ET LOIR",28112]
["COULANGES",3470,"ALLIER",3086]
["COULOBRES",34290,"HERAULT",34085]
["COULOMBS EN VALOIS",77840,"SEINE ET MARNE",77129]
["COULONVILLERS",80135,"SOMME",80215]
["COUPVRAY",77700,"SEINE ET MARNE",77132]
["COURBEHAYE",28140,"EURE ET LOIR",28114]
["COURCELLES",58210,"NIEVRE",58090]
["COURCELLES SUR SEINE",27940,"EURE",27180]
["COURCON",17170,"CHARENTE MARITIME",17127]
["COURGEON",61400,"ORNE",61129]
["COURLANS",39570,"JURA",39170]
["COURNONTERRAL",34660,"HERAULT",34088]
["COURSEULLES SUR MER",14470,"CALVADOS",14191]
["COURTEFONTAINE",25470,"DOUBS",25174]
["COURTERON",10250,"AUBE",10111]
["COURZIEU",69690,"RHONE",69067]
["COUTENCON",77154,"SEINE ET MARNE",77140]
["COUVAINS",50680,"MANCHE",50148]
["COUVIGNON",10200,"AUBE",10113]
["CRACHES",78660,"YVELINES",78187]
["CRAON",86110,"VIENNE",86087]
["CRAPEAUMESNIL",60310,"OISE",60174]
["CREANCES",50710,"MANCHE",50151]
["CREMERY",80700,"SOMME",80223]
["CRESANCEY",70100,"HAUTE SAONE",70185]
["CRESPINET",81350,"TARN",81073]
["CREST",26400,"DROME",26108]
["CREVOUX",5200,"HAUTES ALPES",5044]
["CRIQUETOT L ESNEVAL",76280,"SEINE MARITIME",76196]
["CRIQUETOT SUR OUVILLE",76760,"SEINE MARITIME",76198]
["CROISETTE",62130,"PAS DE CALAIS",62258]
["CROLLES",38190,"ISERE",38140]
["CROSVILLE SUR DOUVE",50360,"MANCHE",50156]
["CROTTET",1620,"AIN",1134]
["CRUCEY VILLAGES",28270,"EURE ET LOIR",28120]
["CRUSEILLES",74350,"HAUTE SAVOIE",74096]
["CUGES LES PINS",13780,"BOUCHES DU RHONE",13030]
["CUGNY",2480,"AISNE",2246]
["CUISIAT",1370,"AIN",1137]
["CUNCY LES VARZY",58210,"NIEVRE",58093]
["CURCY SUR ORNE",14220,"CALVADOS",14213]
["CURIERES",12210,"AVEYRON",12088]
["CUSSAC FORT MEDOC",33460,"GIRONDE",33146]
["CUTTURA",39170,"JURA",39186]
["CUXAC CABARDES",11390,"AUDE",11115]
["DABO",57850,"MOSELLE",57163]
["DAMAS ET BETTEGNEY",88270,"VOSGES",88122]
["DAMLOUP",55400,"MEUSE",55143]
["DAMPIERRE EN BRAY",76220,"SEINE MARITIME",76209]
["DAMPIERRE SUR SALON",70180,"HAUTE SAONE",70198]
["DAMPVALLEY ST PANCRAS",70210,"HAUTE SAONE",70200]
["DANJOUTIN",90400,"TERRITOIRE DE BELFORT",90032]
["DARGIES",60210,"OISE",60194]
["DARNAC",87320,"HAUTE VIENNE",87055]
["DAVAYAT",63200,"PUY DE DOME",63135]
["DEHLINGEN",67430,"BAS RHIN",67088]
["DENAT",81120,"TARN",81079]
["DENEVRE",70180,"HAUTE SAONE",70204]
["DESHAIES",97126,"GUADELOUPE",97111]
["DEULEMONT",59890,"NORD",59173]
["DEZIZE LES MARANGES",71150,"SAONE ET LOIRE",71174]
["DHUIZON",41220,"LOIR ET CHER",41074]
["DIEPPEDALLE CROISSET",76380,"SEINE MARITIME",76922]
["DIGNY",28250,"EURE ET LOIR",28130]
["DIO ET VALQUIERES",34650,"HERAULT",34093]
["DIRINON",29460,"FINISTERE",29045]
["DOINGT",80200,"SOMME",80240]
["DOLUS D OLERON",17550,"CHARENTE MARITIME",17140]
["DOMBROT SUR VAIR",88170,"VOSGES",88141]
["DOMELIERS",60360,"OISE",60199]
["DOMLEGER LONGVILLERS",80370,"SOMME",80245]
["DOMMARTIN LES REMIREMONT",88200,"VOSGES",88148]
["DOMPIERRE LES ORMES",71520,"SAONE ET LOIRE",71178]
["DOMPIERRE SUR HELPE",59440,"NORD",59177]
["DOMVALLIER",88500,"VOSGES",88155]
["DONJEUX",57590,"MOSELLE",57182]
["DORMELLES",77130,"SEINE ET MARNE",77161]
["DORNECY",58530,"NIEVRE",58103]
["DOUDEAUVILLE",62830,"PAS DE CALAIS",62273]
["DOURBIES",30750,"GARD",30105]
["DOUVRIN",62138,"PAS DE CALAIS",62276]
["DOUZIES FEIGNIES",59750,"NORD",59908]
["DRAMELAY",39240,"JURA",39204]
["DROITURIER",3120,"ALLIER",3105]
["DROSNAY",51290,"MARNE",51219]
["DRUMETTAZ CLARAFOND",73420,"SAVOIE",73103]
["DUN LE POELIER",36210,"INDRE",36068]
["DURBAN CORBIERES",11360,"AUDE",11124]
["DURETTE",69430,"RHONE",69079]
["EAUX BONNES",64440,"PYRENEES ATLANTIQUES",64204,"Nouvelle Aquitaine"]
["EBLANGE",57220,"MOSELLE",57187]
["ECHAY",25440,"DOUBS",25209]
["ECHIRE",79410,"DEUX SEVRES",79109]
["ECOIVRES",62270,"PAS DE CALAIS",62283]
["ECORDAL",8130,"ARDENNES",8151]
["ECRETTEVILLE LES BAONS",76190,"SEINE MARITIME",76225]
["ECTOT L AUBER",76760,"SEINE MARITIME",76227]
["ECUTIGNY",21360,"COTE D'OR",21243]
["EGUILLY",21320,"COTE D'OR",21244]
["ELINCOURT",59127,"NORD",59191]
["EMBERMENIL",54370,"MEURTHE ET MOSELLE",54177]
["EMERCHICOURT",59580,"NORD",59192]
["ENENCOURT LE SEC",60240,"OISE",60209]
["ENNORDRES",18380,"CHER",18088]
["ENTRAGES",4000,"ALPES DE HAUTE PROVENCE",4074]
["ENTREVERNES",74410,"HAUTE SAVOIE",74111]
["EPEHY",80740,"SOMME",80271]
["EPIEDS",2400,"AISNE",2280]
["EPINEUSE",60190,"OISE",60210]
["EPIRY",58800,"NIEVRE",58110]
["EPUISAY",41360,"LOIR ET CHER",41078]
["ERAINES",14700,"CALVADOS",14244]
["ERCKARTSWILLER",67290,"BAS RHIN",67126]
["ERMENONVILLE LA PETITE",28120,"EURE ET LOIR",28142]
["ERRE",59171,"NORD",59203]
["ESCARDES",51310,"MARNE",51233]
["ESCLAGNE",9600,"ARIEGE",9115]
["ESCLAVOLLES LUREY",51260,"MARNE",51234]
["ESCOULIS",31260,"HAUTE GARONNE",31591]
["ESMERY HALLON",80400,"SOMME",80284]
["ESPALY ST MARCEL",43000,"HAUTE LOIRE",43089]
["ESPECHEDE",64160,"PYRENEES ATLANTIQUES",64212,"Nouvelle Aquitaine"]
["ESPIRA DE CONFLENT",66320,"PYRENEES ORIENTALES",66070]
["ESSARS",62400,"PAS DE CALAIS",62310]
["ESSEY ET MAIZERAIS",54470,"MEURTHE ET MOSELLE",54182]
["ESSON",14220,"CALVADOS",14251]
["ESTENSAN",65170,"HAUTES PYRENEES",65172]
["ESTOUCHES",91660,"ESSONNE",91222]
["ESTREBOEUF",80230,"SOMME",80287]
["ETAGNAC",16150,"CHARENTE",16132]
["ETAVES ET BOCQUIAUX",2110,"AISNE",2293]
["ETIVAL LES LE MANS",72700,"SARTHE",72127]
["ETRECHY",18800,"CHER",18090]
["ETRECHY",91580,"ESSONNE",91226]
["ETRUN",62161,"PAS DE CALAIS",62320]
["EVANS",39700,"JURA",39219]
["EVE",60330,"OISE",60226]
["EVRON",53600,"MAYENNE",53097]
["EYHARCE",64780,"PYRENEES ATLANTIQUES",64900,"Nouvelle Aquitaine"]
["EYZAHUT",26160,"DROME",26131]
["FAGNON",8090,"ARDENNES",8162]
["FAINS LA FOLIE",28150,"EURE ET LOIR",28145]
["FARAMANS",1800,"AIN",1156]
["FARGUES ST HILAIRE",33370,"GIRONDE",33165]
["FARINOLE",20253,"CORSE",20109]
["FAUGUEROLLES",47400,"LOT ET GARONNE",47094]
["FAVEROLLES",2600,"AISNE",2302]
["FAY",80200,"SOMME",80304]
["FAY LES NEMOURS",77167,"SEINE ET MARNE",77178]
["FEAS",64570,"PYRENEES ATLANTIQUES",64225,"Nouvelle Aquitaine"]
["FELDBACH",68640,"HAUT RHIN",68087]
["FENAIN",59179,"NORD",59227]
["FEPIN",8170,"ARDENNES",8166]
["FERRAN",11240,"AUDE",11141]
["FERRIERES LES BOIS",25410,"DOUBS",25235]
["FESSANVILLIERS MATTANVILL",28270,"EURE ET LOIR",28151]
["FETERNES",74500,"HAUTE SAVOIE",74127]
["FEY EN HAYE",54470,"MEURTHE ET MOSELLE",54193]
["FIGAROL",31260,"HAUTE GARONNE",31183]
["FITILIEU",38490,"ISERE",38165]
["FLABAS",55150,"MEUSE",55187]
["FLAINE",74300,"HAUTE SAVOIE",74951]
["FLAVIGNAC",87230,"HAUTE VIENNE",87066]
["FLEISHEIM",57119,"MOSELLE",57216]
["FLEUREY",25190,"DOUBS",25244]
["FLEURIGNE",35133,"ILLE ET VILAINE",35112]
["FLEURY SUR LOIRE",58240,"NIEVRE",58115]
["FLOING",8200,"ARDENNES",8174]
["FLOIRAC",46600,"LOT",46106]
["FOCICCHIA",20212,"CORSE",20116]
["FOLPERSVILLER",57200,"MOSELLE",57223]
["FONS SUR LUSSAN",30580,"GARD",30113]
["FONTAINE",38600,"ISERE",38169]
["FONTAINE LE COMTE",86240,"VIENNE",86100]
["FONTAINE LES GRES",10280,"AUBE",10151]
["FONTAINES",85200,"VENDEE",85091]
["FONTAINES EN DUESMOIS",21450,"COTE D'OR",21276]
["FONTCOUVERTE",11700,"AUDE",11148]
["FONTENAY LE MARMION",14320,"CALVADOS",14277]
["FONTENILLE ST MARTIN D EN",79110,"DEUX SEVRES",79122]
["FONTENOY",89520,"YONNE",89179]
["FONTRAILLES",65220,"HAUTES PYRENEES",65177]
["FORGES",61250,"ORNE",61175]
["FORT MARDYCK",59430,"NORD",59248]
["FORTEL EN ARTOIS",62270,"PAS DE CALAIS",62346]
["FOUCHERANS",25620,"DOUBS",25250]
["FOUGERES",35300,"ILLE ET VILAINE",35115]
["FOUQUEURE",16140,"CHARENTE",16144]
["FOURCATIER ET MAISON NEUV",25370,"DOUBS",25252]
["FOURNES",30210,"GARD",30116]
["FOUVENT ST ANDOCHE",70600,"HAUTE SAONE",70247]
["FRAIZE",88230,"VOSGES",88181]
["FRALIGNES",10110,"AUBE",10159]
["FRANCIERES",60190,"OISE",60254]
["FRANOIS",25770,"DOUBS",25258]
["FRANXAULT",21170,"COTE D'OR",21285]
["FRAZE",28160,"EURE ET LOIR",28161]
["FREJAIROLLES",81990,"TARN",81097]
["FRENOIS",88270,"VOSGES",88187]
["FRESNES",21500,"COTE D'OR",21287]
["FRESNOIS LA MONTAGNE",54260,"MEURTHE ET MOSELLE",54212]
["FRESNOY LA RIVIERE",60127,"OISE",60260]
["FRETHUN",62185,"PAS DE CALAIS",62360]
["FRIAIZE",28240,"EURE ET LOIR",28166]
["FRIESEN",68580,"HAUT RHIN",68098]
["FROIDCUL",57250,"MOSELLE",57913]
["FRONCLES",52320,"HAUTE MARNE",52211]
["FROUARD",54390,"MEURTHE ET MOSELLE",54215]
["FROVILLE",54290,"MEURTHE ET MOSELLE",54216]
["FURDENHEIM",67117,"BAS RHIN",67150]
["GADANCOURT",95450,"VAL D'OISE",95259]
["GAJAC",33430,"GIRONDE",33178]
["GAJOUBERT",87330,"HAUTE VIENNE",87069]
["GAN",64290,"PYRENEES ATLANTIQUES",64230,"Nouvelle Aquitaine"]
["GARAT",16410,"CHARENTE",16146]
["GARGAS",84400,"VAUCLUSE",84047]
["GARGILESSE DAMPIERRE",36190,"INDRE",36081]
["GARTEMPE",23320,"CREUSE",23088]
["GATTIERES",6510,"ALPES MARITIMES",6064]
["GAVRAY",50450,"MANCHE",50197]
["GAVRUS",14210,"CALVADOS",14297]
["GEISPITZEN",68510,"HAUT RHIN",68103]
["GENAC",16170,"CHARENTE",16148]
["GENESTELLE",7530,"ARDECHE",7093]
["GENEY",25250,"DOUBS",25266]
["GENOLHAC",30450,"GARD",30130]
["GENSAC",65140,"HAUTES PYRENEES",65196]
["GERLAND",21700,"COTE D'OR",21294]
["GERMAGNY",71460,"SAONE ET LOIRE",71216]
["GERMINY",54170,"MEURTHE ET MOSELLE",54223]
["GESPUNSART",8700,"ARDENNES",8188]
["GEVRY",39100,"JURA",39252]
["GHISSIGNIES",59530,"NORD",59259]
["GIFFAUMONT CHAMPAUBERT",51290,"MARNE",51269]
["GILHOC SUR ORMEZE",7270,"ARDECHE",7095]
["GIMBREDE",32340,"GERS",32146]
["GINESTAS",11120,"AUDE",11164]
["GIRIVILLER",54830,"MEURTHE ET MOSELLE",54228]
["GISSEY SUR OUCHE",21410,"COTE D'OR",21300]
["GIVRY",89200,"YONNE",89190]
["GLANNES",51300,"MARNE",51275]
["GLAY",69850,"RHONE",69903]
["GOAS",82500,"TARN ET GARONNE",82071]
["GOMENE",22230,"COTES D'ARMOR",22062]
["GOMMECOURT",78270,"YVELINES",78276]
["GONDREXANGE",57142,"MOSELLE",57253]
["GONZEVILLE",76560,"SEINE MARITIME",76309]
["GOTTENHOUSE",67700,"BAS RHIN",67161]
["GOUAUX DE LUCHON",31110,"HAUTE GARONNE",31222]
["GOUPILLIERES",76570,"SEINE MARITIME",76311]
["GOURDON",46300,"LOT",46127]
["GOUSSAINCOURT",55140,"MEUSE",55217]
["GOUSSANCOURT",2130,"AISNE",2351]
["GOUY EN TERNOIS",62127,"PAS DE CALAIS",62381]
["GRACES",22200,"COTES D'ARMOR",22067]
["GRAMMONT",70110,"HAUTE SAONE",70273]
["GRAND AUVERNE",44520,"LOIRE ATLANTIQUE",44065]
["GRAND RIVIERE",97218,"MARTINIQUE",97211]
["GRANDCHAMPS DES FONTAINES",44119,"LOIRE ATLANTIQUE",44066]
["GRANDVILLERS",88600,"VOSGES",88216]
["GRANDVILLIERS",60210,"OISE",60286]
["GRANIEU",38490,"ISERE",38183]
["GRAUVES",51190,"MARNE",51281]
["GREEZ SUR ROC",72320,"SARTHE",72144]
["GREMILLY",55150,"MEUSE",55218]
["GRESIN",73240,"SAVOIE",73127]
["GREVILLY",71700,"SAONE ET LOIRE",71226]
["GRIGNONCOURT",88410,"VOSGES",88220]
["GRIGNY",91350,"ESSONNE",91286]
["GRIVESNES",80250,"SOMME",80390]
["GROSLEE",1680,"AIN",1182]
["GROUGIS",2110,"AISNE",2358]
["GRUNY",80700,"SOMME",80393]
["GUEBLING",57260,"MOSELLE",57268]
["GUERARD",77580,"SEINE ET MARNE",77219]
["GUERET",23000,"CREUSE",23096]
["GUESNES",86420,"VIENNE",86109]
["GUIGNEN",35580,"ILLE ET VILAINE",35127]
["GUILLIGOMARC H",29300,"FINISTERE",29071]
["GUILMECOURT",76630,"SEINE MARITIME",76337]
["GUITINIERES",17500,"CHARENTE MARITIME",17187]
["GUMIERES",42560,"LOIRE",42107]
["GUYENCOURT SAULCOURT",80240,"SOMME",80404]
["HACOURT",52150,"HAUTE MARNE",52234]
["HACQUEVILLE",27150,"EURE",27310]
["HAIRONVILLE",55000,"MEUSE",55224]
["HAM EN ARTOIS",62190,"PAS DE CALAIS",62407]
["HAMBERS",53160,"MAYENNE",53113]
["HANGENBIETEN",67980,"BAS RHIN",67182]
["HARAUMONT",55110,"MEUSE",55230]
["HAREVILLE",88800,"VOSGES",88231]
["HARRICOURT",8240,"ARDENNES",8215]
["HARTZVILLER",57870,"MOSELLE",57299]
["HATTSTATT",68420,"HAUT RHIN",68123]
["HAUSSY",59294,"NORD",59289]
["HAUT MAUCO",40280,"LANDES",40122,"Nouvelle Aquitaine"]
["HAUTEFAYE",24300,"DORDOGNE",24209]
["HAUTEVILLE",73390,"SAVOIE",73133]
["HAVRINCOURT",62147,"PAS DE CALAIS",62421]
["HECQ",59530,"NORD",59296]
["HEIDOLSHEIM",67390,"BAS RHIN",67187]
["HELLEAN",56120,"MORBIHAN",56082]
["HEMEVILLERS",60190,"OISE",60308]
["HENINEL",62128,"PAS DE CALAIS",62426]
["HERBEVILLE",78580,"YVELINES",78305]
["HERICOURT SUR THERAIN",60380,"OISE",60312]
["HERMILLON",73300,"SAVOIE",73135]
["HERRLISHEIM PRES COLMAR",68420,"HAUT RHIN",68134]
["HERVILLY",80240,"SOMME",80434]
["HEUBECOURT",27630,"EURE",27912]
["HEUQUEVILLE",27700,"EURE",27337]
["HIERS BROUAGE",17320,"CHARENTE MARITIME",17189]
["HINDISHEIM",67150,"BAS RHIN",67197]
["HODENC L EVEQUE",60430,"OISE",60316]
["HOLTZWIHR",68320,"HAUT RHIN",68143]
["HONFLEUR",14600,"CALVADOS",14333]
["HORGUES",65310,"HAUTES PYRENEES",65223]
["HOUDANCOURT",60710,"OISE",60318]
["HOUNOUX",11240,"AUDE",11173]
["HOURS",64420,"PYRENEES ATLANTIQUES",64266,"Nouvelle Aquitaine"]
["HUCQUELIERS",62650,"PAS DE CALAIS",62463]
["HUMBERCAMPS",62158,"PAS DE CALAIS",62465]
["HURES LA PARADE",48150,"LOZERE",48074]
["IBARROLLE",64120,"PYRENEES ATLANTIQUES",64267,"Nouvelle Aquitaine"]
["IBOS",65420,"HAUTES PYRENEES",65226]
["ILE D HOUAT",56170,"MORBIHAN",56086]
["ILLARTEIN",9800,"ARIEGE",9141]
["ILLIER ET LARAMADE",9220,"ARIEGE",9143]
["INCHY",59540,"NORD",59321]
["INSVILLER",57670,"MOSELLE",57347]
["IRON",2510,"AISNE",2386]
["ISLES SUR SUIPPE",51110,"MARNE",51299]
["ISQUES",62360,"PAS DE CALAIS",62474]
["ISSENHEIM",68500,"HAUT RHIN",68156]
["IVRY LA BATAILLE",27540,"EURE",27355]
["IWUY",59141,"NORD",59322]
["JABRUN",15110,"CANTAL",15078]
["JAMBLES",71640,"SAONE ET LOIRE",71241]
["JANZE",35150,"ILLE ET VILAINE",35136]
["JASSEINES",10330,"AUBE",10175]
["JAUJAC",7380,"ARDECHE",7107]
["JAVREZAC",16100,"CHARENTE",16169]
["JEANTES",2140,"AISNE",2391]
["JEUX LES BARD",21460,"COTE D'OR",21324]
["JONCHEREY",90100,"TERRITOIRE DE BELFORT",90056]
["JORQUENAY",52200,"HAUTE MARNE",52252]
["JOUDES",71480,"SAONE ET LOIRE",71243]
["JOUGNE",25370,"DOUBS",25318]
["JOUY",89150,"YONNE",89209]
["JUBECOURT",55120,"MEUSE",55259]
["JUILLEY",50220,"MANCHE",50259]
["JULIENAS",69840,"RHONE",69103]
["JUMILHAC LE GRAND",24630,"DORDOGNE",24218]
["JUSSY",89290,"YONNE",89212]
["JUVIGNY SUR LOISON",55600,"MEUSE",55262]
["KAPPELEN",68510,"HAUT RHIN",68160]
["KEFFENACH",67250,"BAS RHIN",67232]
["KERNASCLEDEN",56540,"MORBIHAN",56264]
["KIRRWILLER BOSSELSHAUSEN",67330,"BAS RHIN",67242]
["KIRVILLER",57430,"MOSELLE",57366]
["KOUROU",97310,"GUYANE",97304]
["L ALPE DE MONT DE LANS",38860,"ISERE",38913]
["L EPINE",51460,"MARNE",51231]
["L ETANG BERTRAND",50260,"MANCHE",50176]
["L HOSPITALET",4150,"ALPES DE HAUTE PROVENCE",4095]
["L ISLE ADAM",95290,"VAL D'OISE",95313]
["LA BARBEN",13330,"BOUCHES DU RHONE",13009]
["LA BAROCHE SOUS LUCE",61330,"ORNE",61025]
["LA BASTIDE SOLAGES",12550,"AVEYRON",12023]
["LA BAUME D HOSTUN",26730,"DROME",26034]
["LA BERNARDIERE",85610,"VENDEE",85021]
["LA BIGNE",14260,"CALVADOS",14073]
["LA BOSSE",25210,"DOUBS",25077]
["LA BREVENNE",69690,"RHONE",69950]
["LA CABANASSE",66210,"PYRENEES ORIENTALES",66027]
["LA CAILLERE ST HILAIRE",85410,"VENDEE",85040]
["LA CELLE",3600,"ALLIER",3047]
["LA CERLEAU",8290,"ARDENNES",8093]
["LA CHAPELAUDE",3380,"ALLIER",3055]
["LA CHAPELLE AUX CHOUX",72800,"SARTHE",72060]
["LA CHAPELLE CRAONNAISE",53230,"MAYENNE",53058]
["LA CHAPELLE DU MONT DE FR",71520,"SAONE ET LOIRE",71091]
["LA CHAPELLE EN SERVAL",60520,"OISE",60142]
["LA CHAPELLE HEULIN",44330,"LOIRE ATLANTIQUE",44032]
["LA CHAPELLE ONZERAIN",45310,"LOIRET",45074]
["LA CHAPELLE ST FLORENT",49410,"MAINE ET LOIRE",49075]
["LA CHAPELLE ST OUEN",76780,"SEINE MARITIME",76171]
["LA CHAPELLE SUR OREUSE",89260,"YONNE",89080]
["LA CHARRIERE",79360,"DEUX SEVRES",79903]
["LA CHAVATTE",80700,"SOMME",80189]
["LA CLUSE ET MIJOUX",25300,"DOUBS",25157]
["LA COTE D ARBROZ",74110,"HAUTE SAVOIE",74091]
["LA COULONCHE",61220,"ORNE",61124]
["LA CROIX AUX BOIS",8400,"ARDENNES",8135]
["LA CURE",39220,"JURA",39912]
["LA FALAISE",78410,"YVELINES",78230]
["LA FERRIERE",37110,"INDRE ET LOIRE",37106]
["LA FERTE MILON",2460,"AISNE",2307]
["LA FOLLETIERE",76190,"SEINE MARITIME",76267]
["LA FONTAINE ST MARTIN",72330,"SARTHE",72135]
["LA FORTERESSE",38590,"ISERE",38171]
["LA GARDE",38520,"ISERE",38177]
["LA GAUBRETIERE",85130,"VENDEE",85097]
["LA GOUESNIERE",35350,"ILLE ET VILAINE",35122]
["LA GROUTTE",18200,"CHER",18107]
["LA HAYE",88240,"VOSGES",88236]
["LA HOUSSAYE BERANGER",76690,"SEINE MARITIME",76369]
["LA HOUSSOYE",60390,"OISE",60319]
["LA LANDE SUR EURE",61290,"ORNE",61220]
["LA LOGE",62140,"PAS DE CALAIS",62521]
["LA MACHINE",58260,"NIEVRE",58151]
["LA MANCELIERE",28270,"EURE ET LOIR",28231]
["LA MESNIERE",61560,"ORNE",61277]
["LA MOTTE FANJAS",26190,"DROME",26217]
["LA NEUVELLE LES LURE",70200,"HAUTE SAONE",70385]
["LA NEUVEVILLE SOUS MONTFO",88800,"VOSGES",88325]
["LA NOCLE MAULAIX",58250,"NIEVRE",58195]
["LA PENNE SUR HUVEAUNE",13821,"BOUCHES DU RHONE",13070]
["LA PETITE PIERRE",67290,"BAS RHIN",67371]
["LA PLANCHE",44140,"LOIRE ATLANTIQUE",44127]
["LA PRESTE",66230,"PYRENEES ORIENTALES",66900]
["LA REORTHE",85210,"VENDEE",85188]
["LA ROCHE",69640,"RHONE",69983]
["LA ROCHE DES ARNAUDS",5400,"HAUTES ALPES",5123]
["LA ROCHENARD",79270,"DEUX SEVRES",79229]
["LA ROQUE BAIGNARD",14340,"CALVADOS",14541]
["LA ROUAUDIERE",53390,"MAYENNE",53192]
["LA SALLE DE VIHIERS",49310,"MAINE ET LOIRE",49325]
["LA SAUZIERE ST JEAN",81630,"TARN",81279]
["LA SUZE SUR SARTHE",72210,"SARTHE",72346]
["LA TOUR D ARBOIS",13129,"BOUCHES DU RHONE",13904]
["LA TOUR DE SALVAGNY",69890,"RHONE",69250]
["LA TRINITE DU MONT",76170,"SEINE MARITIME",76712]
["LA VALLA EN GIER",42131,"LOIRE",42322]
["LA VARENNE ST HILAIRE",94210,"VAL DE MARNE",94901]
["LA VILLE",69470,"RHONE",69262]
["LA VILLENEUVE LES CONVERS",21450,"COTE D'OR",21695]
["LABARTHE",82220,"TARN ET GARONNE",82077]
["LABASTIDE EN VAL",11220,"AUDE",11179]
["LABASTIDE ROUAIROUX",81270,"TARN",81115]
["LABESSETTE",63690,"PUY DE DOME",63183]
["LABOSSE",60590,"OISE",60331]
["LABOUTARIE",81120,"TARN",81119]
["LACANAU",33680,"GIRONDE",33214]
["LACHAMBRE",57730,"MOSELLE",57373]
["LACHAUX",63290,"PUY DE DOME",63184]
["LACROIX SUR MEUSE",55300,"MEUSE",55268]
["LADERN SUR LAUQUET",11250,"AUDE",11183]
["LAFERTE SUR AMANCE",52500,"HAUTE MARNE",52257]
["LAGARDE SUR LE NE",16300,"CHARENTE",16178]
["LAGARDELLE SUR LEZE",31870,"HAUTE GARONNE",31263]
["LAGOS",64800,"PYRENEES ATLANTIQUES",64302,"Nouvelle Aquitaine"]
["LAHAYVILLE",55300,"MEUSE",55270]
["LAIGNY",2140,"AISNE",2401]
["LAJOUX",null,"JURA",39274]
["LALANNE",32500,"GERS",32184]
["LALOUBERE",65310,"HAUTES PYRENEES",65251]
["LAMASTRE",7270,"ARDECHE",7129]
["LAMAZIERE HAUTE",19340,"CORREZE",19103]
["LAMETZ",8130,"ARDENNES",8244]
["LAMOTTE DU RHONE",84840,"VAUCLUSE",84063]
["LANCOME",41190,"LOIR ET CHER",41108]
["LANDEDA",29870,"FINISTERE",29101]
["LANDES VIEILLES ET NEUVES",76390,"SEINE MARITIME",76381]
["LANDRECOURT LEMPIRE",55100,"MEUSE",55276]
["LANEUVEVILLE AUX BOIS",54370,"MEURTHE ET MOSELLE",54297]
["LANEUVEVILLE LES LORQUIN",57790,"MOSELLE",57380]
["LANGEY",28220,"EURE ET LOIR",28204]
["LANHELIN",35720,"ILLE ET VILAINE",35147]
["LANNEPAX",32190,"GERS",32190]
["LANRIVAIN",22480,"COTES D'ARMOR",22115]
["LANTENAY",1430,"AIN",1206]
["LANTON",33138,"GIRONDE",33229]
["LAPARROUQUIAL",81640,"TARN",81135]
["LAPENNE",9500,"ARIEGE",9153]
["LAPRUGNE",3250,"ALLIER",3139]
["LARGENTIERE",7110,"ARDECHE",7132]
["LAROQUE",33410,"GIRONDE",33231]
["LAROQUEBROU",15150,"CANTAL",15094]
["LARROQUE",81140,"TARN",81136]
["LASSE",64220,"PYRENEES ATLANTIQUES",64322,"Nouvelle Aquitaine"]
["LASTIC",63760,"PUY DE DOME",63191]
["LATHUILE",74210,"HAUTE SAVOIE",74147]
["LAUBACH",67580,"BAS RHIN",67260]
["LAURAET",32330,"GERS",32203]
["LAUZERTE",82110,"TARN ET GARONNE",82094]
["LAVAL",53000,"MAYENNE",53130]
["LAVALETTE",34700,"HERAULT",34133]
["LAVAU",89170,"YONNE",89220]
["LAVERNHE",12150,"AVEYRON",12126]
["LAVERNOSE LACASSE",31410,"HAUTE GARONNE",31287]
["LAVIRON",25510,"DOUBS",25333]
["LAYS SUR LE DOUBS",71270,"SAONE ET LOIRE",71254]
["LE BATARD",69440,"RHONE",69916]
["LE BIGNON DU MAINE",53170,"MAYENNE",53030]
["LE BOSC",9000,"ARIEGE",9063]
["LE BOULVE",46800,"LOT",46033]
["LE BREUIL EN AUGE",14130,"CALVADOS",14102]
["LE BURET",53170,"MAYENNE",53046]
["LE CANNET DES MAURES",83340,"VAR",83031]
["LE CHAFFAL",26190,"DROME",26066]
["LE CHATELARD",73630,"SAVOIE",73081]
["LE CHEIX",63200,"PUY DE DOME",63108]
["LE CLERJUS",88240,"VOSGES",88108]
["LE CRESTET",7270,"ARDECHE",7073]
["LE DOURN",81340,"TARN",81082]
["LE FENOUILLER",85800,"VENDEE",85088]
["LE FOSSAT",9130,"ARIEGE",9124]
["LE FUILET",49270,"MAINE ET LOIRE",49145]
["LE GRAND BOURG",23240,"CREUSE",23095]
["LE GRAND QUEVILLY",76120,"SEINE MARITIME",76322]
["LE HAMEL",80800,"SOMME",80411]
["LE LANDIN",27350,"EURE",27363]
["LE LOREY",50570,"MANCHE",50279]
["LE LORRAIN",97214,"MARTINIQUE",97214]
["LE MARAIS LA CHAPELLE",14620,"CALVADOS",14402]
["LE MENIL",88160,"VOSGES",88302]
["LE MESNIL AU VAL",50110,"MANCHE",50305]
["LE MESNIL BONANT",50450,"MANCHE",50307]
["LE MESNIL MAUGER",14270,"CALVADOS",14422]
["LE MESNILLARD",50600,"MANCHE",50315]
["LE MONTEIL",43700,"HAUTE LOIRE",43140]
["LE MONTET",3240,"ALLIER",3183]
["LE PAS",53300,"MAYENNE",53176]
["LE PELLERIN",44640,"LOIRE ATLANTIQUE",44120]
["LE PIN",77181,"SEINE ET MARNE",77363]
["LE PIN AU HARAS",61310,"ORNE",61328]
["LE PLESSIS BELLEVILLE",60330,"OISE",60500]
["LE POET CELARD",26460,"DROME",26241]
["LE PONTET",73110,"SAVOIE",73205]
["LE PORT MARINE",97420,"REUNION",97444]
["LE PUY",33580,"GIRONDE",33345]
["LE RENOUARD",61120,"ORNE",61346]
["LE RONCENAY",27240,"EURE",27494]
["LE SAIX",5400,"HAUTES ALPES",5158]
["LE SOURN",56300,"MORBIHAN",56246]
["LE THEIL BOCAGE",14410,"CALVADOS",14686]
["LE THUIT SIMER",27370,"EURE",27639]
["LE TRAIT",76580,"SEINE MARITIME",76709]
["LE TRIOULOU",15600,"CANTAL",15242]
["LE VAST",50630,"MANCHE",50619]
["LE VESINET",78110,"YVELINES",78650]
["LE VIEIL BAUGE",49150,"MAINE ET LOIRE",49372]
["LE VIVIER SUR MER",35960,"ILLE ET VILAINE",35361]
["LECT",39260,"JURA",39289]
["LEFOREST",62790,"PAS DE CALAIS",62497]
["LELIN LAPUJOLLE",32400,"GERS",32209]
["LEMENIL MITRY",54740,"MEURTHE ET MOSELLE",54310]
["LENGELSHEIM",57720,"MOSELLE",57393]
["LEOTOING",43410,"HAUTE LOIRE",43121]
["LEPANGES SUR VOLOGNE",88600,"VOSGES",88266]
["LERZY",2260,"AISNE",2418]
["LES ARDILLATS",69430,"RHONE",69012]
["LES BARILS",27130,"EURE",27038]
["LES BAUX DE BRETEUIL",27160,"EURE",27043]
["LES CABANNES",81170,"TARN",81045]
["LES CHAPELLES",53250,"MAYENNE",53060]
["LES CROUTES",10130,"AUBE",10118]
["LES DAMPS",27340,"EURE",27196]
["LES ESSARTS",27240,"EURE",27225]
["LES FORGES",88390,"VOSGES",88178]
["LES GRANGES GONTARDES",26290,"DROME",26145]
["LES GROSEILLERS",79220,"DEUX SEVRES",79139]
["LES ISLES BARDEL",14690,"CALVADOS",14343]
["LES MAGES",30960,"GARD",30152]
["LES MESNEUX",51370,"MARNE",51365]
["LES MICHELS",13790,"BOUCHES DU RHONE",13931]
["LES OLIVES",13013,"BOUCHES DU RHONE",13975]
["LES PIARDS",39150,"JURA",39417]
["LES PONTETS",25240,"DOUBS",25464]
["LES RICEYS",10340,"AUBE",10317]
["LES SALLES",42440,"LOIRE",42295]
["LES TOURRETTES",26740,"DROME",26353]
["LES ULMES",49700,"MAINE ET LOIRE",49359]
["LESCHAUX",74320,"HAUTE SAVOIE",74148]
["LESIGNY",86270,"VIENNE",86129]
["LESQUIELLES ST GERMAIN",2120,"AISNE",2422]
["LETANNE",8210,"ARDENNES",8252]
["LEUGNY",86220,"VIENNE",86130]
["LEVAL",59620,"NORD",59344]
["LEY",57810,"MOSELLE",57397]
["LEZENNES",59260,"NORD",59346]
["LEZEVILLE",52230,"HAUTE MARNE",52288]
["LIART",8290,"ARDENNES",8254]
["LIEBENSWILLER",68220,"HAUT RHIN",68183]
["LIESVILLE SUR DOUVE",50480,"MANCHE",50269]
["LIEUVILLERS",60130,"OISE",60364]
["LIGNAC",36370,"INDRE",36094]
["LIGNIERES LA CARELLE",72610,"SARTHE",72162]
["LIGUEIL",37240,"INDRE ET LOIRE",37130]
["LIGUGE",86240,"VIENNE",86133]
["LIMERZEL",56220,"MORBIHAN",56111]
["LINAY",8110,"ARDENNES",8255]
["LINSELLES",59126,"NORD",59352]
["LINY DEVANT DUN",55110,"MEUSE",55292]
["LISLE",41100,"LOIR ET CHER",41116]
["LIT ET MIXE",40170,"LANDES",40157,"Nouvelle Aquitaine"]
["LIVRON SUR DROME",26250,"DROME",26165]
["LIVRY GARGAN",93190,"SEINE SAINT DENIS",93046]
["LOC EGUINER",29400,"FINISTERE",29128]
["LOCMARIA BERRIEN",29690,"FINISTERE",29129]
["LOCTUDY",29750,"FINISTERE",29135]
["LOGUIVY PLOUGRAS",22780,"COTES D'ARMOR",22131]
["LOISY",71290,"SAONE ET LOIRE",71261]
["LONDIGNY",16700,"CHARENTE",16189]
["LONGECHAUX",25690,"DOUBS",25342]
["LONGECOURT LES CULETRE",21230,"COTE D'OR",21354]
["LONGNY AU PERCHE",61290,"ORNE",61230]
["LONGUESSE",95450,"VAL D'OISE",95348]
["LONGVILLERS",80370,"SOMME",80492]
["LOON PLAGE",59279,"NORD",59359]
["LORGIES",62840,"PAS DE CALAIS",62529]
["LOSNE",21170,"COTE D'OR",21356]
["LOUBENS",33190,"GIRONDE",33250]
["LOUBLANDE",79700,"DEUX SEVRES",79155]
["LOUEUSE",60380,"OISE",60371]
["LOUPIAC",15700,"CANTAL",15109]
["LOUPMONT",55300,"MEUSE",55303]
["LOUSSOUS DEBAT",32290,"GERS",32218]
["LOUVIERES",52800,"HAUTE MARNE",52295]
["LOUZOUER",45210,"LOIRET",45189]
["LUBINE",88490,"VOSGES",88275]
["LUBRET ST LUC",65220,"HAUTES PYRENEES",65288]
["LUCGARIER",64420,"PYRENEES ATLANTIQUES",64358,"Nouvelle Aquitaine"]
["LUDES",51500,"MARNE",51333]
["LUEMSCHWILLER",68720,"HAUT RHIN",68191]
["LUITRE",35133,"ILLE ET VILAINE",35163]
["LUNEL VIEL",34400,"HERAULT",34146]
["LURIECQ",42380,"LOIRE",42126]
["LUSSAN",32270,"GERS",32221]
["LUSSAULT SUR LOIRE",37400,"INDRE ET LOIRE",37138]
["LUTZELBOURG",57820,"MOSELLE",57427]
["LY FONTAINE",2440,"AISNE",2446]
["LYON 1ER ARRONDISSEMENT",69001,"RHONE",69381]
["MACEY",10300,"AUBE",10211]
["MACOUBA",97218,"MARTINIQUE",97215]
["MAFFLIERS",95560,"VAL D'OISE",95353]
["MAGNEUX HAUTE RIVE",42600,"LOIRE",42130]
["MAGNIEU",1300,"AIN",1227]
["MAGNY LES HAMEAUX",78114,"YVELINES",78356]
["MAILLAS",40120,"LANDES",40169,"Nouvelle Aquitaine"]
["MAILLE",37800,"INDRE ET LOIRE",37142]
["MAINBRESSON",8220,"ARDENNES",8265]
["MAISDON SUR SEVRE",44690,"LOIRE ATLANTIQUE",44088]
["MAISONCELLES",72440,"SARTHE",72178]
["MAISY",14450,"CALVADOS",14392]
["MAIZICOURT",80370,"SOMME",80503]
["MALAKOFF",92240,"HAUTS DE SEINE",92046]
["MALAY LE PETIT",89100,"YONNE",89240]
["MALEMORT SUR CORREZE",19360,"CORREZE",19123]
["MALLEMOISSON",4510,"ALPES DE HAUTE PROVENCE",4110]
["MALTAT",71140,"SAONE ET LOIRE",71273]
["MANAS BASTANOUS",32170,"GERS",32226]
["MANDELIEU LA NAPOULE",6210,"ALPES MARITIMES",6079]
["MANE",31260,"HAUTE GARONNE",31315]
["MANNEVILLE LA GOUPIL",76110,"SEINE MARITIME",76408]
["MANSO",20245,"CORSE",20153]
["MANSPACH",68210,"HAUT RHIN",68200]
["MARAC",52260,"HAUTE MARNE",52307]
["MARBOUE",28200,"EURE ET LOIR",28233]
["MARCHAINVILLE",61290,"ORNE",61250]
["MARCHEVILLE EN WOEVRE",55160,"MEUSE",55320]
["MARCILLAT EN COMBRAILLE",3420,"ALLIER",3161]
["MARCILLY LA GUEURCE",71120,"SAONE ET LOIRE",71276]
["MARCOUX",42130,"LOIRE",42136]
["MARCQ EN BAROEUL",59700,"NORD",59378]
["MAREIL MARLY",78750,"YVELINES",78367]
["MAREUIL SUR CHER",41110,"LOIR ET CHER",41126]
["MARGNY LES COMPIEGNE",60280,"OISE",60382]
["MARGUERON",33220,"GIRONDE",33269]
["MARIGNANE",13700,"BOUCHES DU RHONE",13054]
["MARIMONT LES BENESTROFF",57670,"MOSELLE",57446]
["MARLIAC",31550,"HAUTE GARONNE",31319]
["MARLIOZ",74270,"HAUTE SAVOIE",74168]
["MARNANS",38980,"ISERE",38221]
["MAROLLES EN BRIE",77120,"SEINE ET MARNE",77278]
["MARQUEIN",11410,"AUDE",11218]
["MARQUION",62860,"PAS DE CALAIS",62559]
["MARSAIS",17700,"CHARENTE MARITIME",17221]
["MARSEILLE 10EME ARRONDISS",13010,"BOUCHES DU RHONE",13210]
["MARSEILLE 3EME ARRONDISSE",13003,"BOUCHES DU RHONE",13203]
["MARSPICH",57700,"MOSELLE",57450]
["MARTIGNE FERCHAUD",35640,"ILLE ET VILAINE",35167]
["MARTRES DE RIVIERE",31210,"HAUTE GARONNE",31323]
["MARVILLE MOUTIERS BRULE",28500,"EURE ET LOIR",28239]
["MASBARAUD MERIGNAT",23400,"CREUSE",23126]
["MASSALS",81250,"TARN",81161]
["MASSINGY LES VITTEAUX",21350,"COTE D'OR",21395]
["MATOUR",71520,"SAONE ET LOIRE",71289]
["MAUCOURT SUR ORNE",55400,"MEUSE",55325]
["MAULEON",79700,"DEUX SEVRES",79079]
["MAUQUENCHY",76440,"SEINE MARITIME",76420]
["MAURIES",40320,"LANDES",40174,"Nouvelle Aquitaine"]
["MAUVAGES",55190,"MEUSE",55327]
["MAUX",58290,"NIEVRE",58161]
["MAYENNE",53100,"MAYENNE",53147]
["MAZERAY",17400,"CHARENTE MARITIME",17226]
["MAZERES DE NESTE",65660,"HAUTES PYRENEES",65307]
["MAZIERES EN GATINE",79310,"DEUX SEVRES",79172]
["MECE",35450,"ILLE ET VILAINE",35170]
["MEHARIN",64120,"PYRENEES ATLANTIQUES",64375,"Nouvelle Aquitaine"]
["MEIGNEUX",77520,"SEINE ET MARNE",77286]
["MELAMARE",76170,"SEINE MARITIME",76421]
["MELLE",35420,"ILLE ET VILAINE",35174]
["MENARMONT",88700,"VOSGES",88298]
["MENAUCOURT",55500,"MEUSE",55332]
["MENETOU RATEL",18300,"CHER",18144]
["MENIL LA TOUR",54200,"MEURTHE ET MOSELLE",54360]
["MENOUVILLE",95810,"VAL D'OISE",95387]
["MENTHONNEX EN BORNES",74350,"HAUTE SAVOIE",74177]
["MERCEY LE GRAND",25410,"DOUBS",25374]
["MERENVIELLE",31530,"HAUTE GARONNE",31339]
["MERIGNAC",17210,"CHARENTE MARITIME",17229]
["MERIGNAT",1450,"AIN",1242]
["MEROBERT",91780,"ESSONNE",91393]
["MERRY SUR YONNE",89660,"YONNE",89253]
["MESANGUEVILLE",76780,"SEINE MARITIME",76426]
["MESLAND",41150,"LOIR ET CHER",41137]
["MESNIL LA COMTESSE",10700,"AUBE",10235]
["MESSAC",17130,"CHARENTE MARITIME",17231]
["MESSON",10190,"AUBE",10240]
["METABIEF",25370,"DOUBS",25380]
["MEUNET PLANCHES",36100,"INDRE",36121]
["MEXY",54135,"MEURTHE ET MOSELLE",54367]
["MEYRIEUX TROUET",73170,"SAVOIE",73156]
["MEZENS",81800,"TARN",81164]
["MEZILLES",89130,"YONNE",89254]
["MIETESHEIM",67580,"BAS RHIN",67292]
["MIJANES",9460,"ARIEGE",9193]
["MILLAU",12100,"AVEYRON",12145]
["MILLY",89800,"YONNE",89258]
["MINZAC",24610,"DORDOGNE",24272]
["MIOSSENS LANUSSE",64450,"PYRENEES ATLANTIQUES",64385,"Nouvelle Aquitaine"]
["MIRBEL",52320,"HAUTE MARNE",52326]
["MIRIBEL LES ECHELLES",38380,"ISERE",38236]
["MITTAINVILLIERS",28190,"EURE ET LOIR",28254]
["MOESLAINS",52100,"HAUTE MARNE",52327]
["MOEZE",17780,"CHARENTE MARITIME",17237]
["MOISSAT",63190,"PUY DE DOME",63229]
["MOIVRE",51240,"MARNE",51371]
["MOLANDIER",11420,"AUDE",11236]
["MOLINET",3510,"ALLIER",3173]
["MOLOY",21120,"COTE D'OR",21421]
["MONBLANC",32130,"GERS",32261]
["MONCEAUX SUR DORDOGNE",19400,"CORREZE",19140]
["MONCHAUX SORENG",76340,"SEINE MARITIME",76441]
["MONDELANGE",57300,"MOSELLE",57474]
["MONDORFF",57570,"MOSELLE",57475]
["MONDREVILLE",77570,"SEINE ET MARNE",77297]
["MONFERRAN SAVES",32490,"GERS",32268]
["MONMARVES",24560,"DORDOGNE",24279]
["MONS",34390,"HERAULT",34160]
["MONT BERNANCHON",62350,"PAS DE CALAIS",62584]
["MONT DAUPHIN",5600,"HAUTES ALPES",5082]
["MONT LE VIGNOBLE",54113,"MEURTHE ET MOSELLE",54380]
["MONT SUR COURVILLE",51170,"MARNE",51382]
["MONT VERT",97410,"REUNION",97469]
["MONTAGNE FAYEL",80540,"SOMME",80559]
["MONTAIGU",85600,"VENDEE",85146]
["MONTALET LE BOIS",78440,"YVELINES",78416]
["MONTANGON",10220,"AUBE",10244]
["MONTASTRUC",82130,"TARN ET GARONNE",82120]
["MONTAUT",9700,"ARIEGE",9199]
["MONTBAZIN",34560,"HERAULT",34165]
["MONTBERNARD",31230,"HAUTE GARONNE",31363]
["MONTBOZON",70230,"HAUTE SAONE",70357]
["MONTCEAUX",1090,"AIN",1258]
["MONTCHAUVET",78790,"YVELINES",78417]
["MONTCOURT",70500,"HAUTE SAONE",70359]
["MONTE",20290,"CORSE",20166]
["MONTEGUT PLANTAUREL",9120,"ARIEGE",9202]
["MONTENEUF",56380,"MORBIHAN",56136]
["MONTEPREUX",51320,"MARNE",51377]
["MONTESQUIEU VOLVESTRE",31310,"HAUTE GARONNE",31375]
["MONTFERNEY",25680,"DOUBS",25396]
["MONTFORT LE GESNOIS",72450,"SARTHE",72241]
["MONTGAUCH",9160,"ARIEGE",9208]
["MONTGENOST",51260,"MARNE",51376]
["MONTHAUT",11240,"AUDE",11247]
["MONTHYON",77122,"SEINE ET MARNE",77309]
["MONTIER EN L ISLE",10200,"AUBE",10250]
["MONTIGNY",45170,"LOIRET",45214]
["MONTIGNY LENCOUP",77520,"SEINE ET MARNE",77311]
["MONTIGNY SUR VESLE",51140,"MARNE",51379]
["MONTJEAN",53320,"MAYENNE",53158]
["MONTJOIE LE CHATEAU",25190,"DOUBS",25402]
["MONTLIOT ET COURCELLES",21400,"COTE D'OR",21435]
["MONTMARTIN LE HAUT",10140,"AUBE",10252]
["MONTMAUR",11320,"AUDE",11252]
["MONTMORENCY BEAUFORT",10330,"AUBE",10253]
["MONTOULIERS",34310,"HERAULT",34170]
["MONTPENSIER",63260,"PUY DE DOME",63240]
["MONTREAL LA CLUSE",1460,"AIN",1265]
["MONTREGARD",43290,"HAUTE LOIRE",43142]
["MONTREUIL LE CHETIF",72130,"SARTHE",72209]
["MONTRIEUX EN SOLOGNE",41210,"LOIR ET CHER",41152]
["MONTRIOND",74110,"HAUTE SAVOIE",74188]
["MONTS EN TERNOIS",62130,"PAS DE CALAIS",62590]
["MONTSURVENT",50200,"MANCHE",50354]
["MONVIEL",47290,"LOT ET GARONNE",47192]
["MORAND",37110,"INDRE ET LOIRE",37160]
["MORCOURT",2100,"AISNE",2525]
["MORGNY",27150,"EURE",27417]
["MORLAIX",29600,"FINISTERE",29151]
["MORNAY",71220,"SAONE ET LOIRE",71323]
["MOROGUES",18220,"CHER",18156]
["MORTEFONTAINE",60128,"OISE",60432]
["MORVILLE LES VIC",57170,"MOSELLE",57485]
["MORVILLIERS",28340,"EURE ET LOIR",28271]
["MOUANS SARTOUX",6370,"ALPES MARITIMES",6084]
["MOUGON",79370,"DEUX SEVRES",79185]
["MOULIHERNE",49390,"MAINE ET LOIRE",49221]
["MOULIN NEUF",24700,"DORDOGNE",24297]
["MOULINS SUR ORNE",61200,"ORNE",61298]
["MOURMELON LE PETIT",51400,"MARNE",51389]
["MOUSSON",54700,"MEURTHE ET MOSELLE",54390]
["MOUSSY LE VIEUX",77230,"SEINE ET MARNE",77323]
["MOUTIER D AHUN",23150,"CREUSE",23138]
["MOUVAUX",59420,"NORD",59421]
["MOYENCOURT LES POIX",80290,"SOMME",80577]
["MOYENNEVILLE",62121,"PAS DE CALAIS",62597]
["MUIZON",51140,"MARNE",51391]
["MUNEVILLE LE BINGARD",50490,"MANCHE",50364]
["MURS",36700,"INDRE",36136]
["MURVIEL LES MONTPELLIER",34570,"HERAULT",34179]
["MUZERAY",55230,"MEUSE",55367]
["NAILHAC",24390,"DORDOGNE",24302]
["NANCES",73470,"SAVOIE",73184]
["NANCOIS SUR ORNAIN",55500,"MEUSE",55372]
["NANTEUIL AURIAC DE BOURZA",24320,"DORDOGNE",24303]
["NANTOUX",21190,"COTE D'OR",21450]
["NARBONNE PLAGE",11100,"AUDE",11910]
["NAUSSAC",12700,"AVEYRON",12170]
["NAZELLES NEGRON",37530,"INDRE ET LOIRE",37163]
["NEGREPELISSE",82800,"TARN ET GARONNE",82134]
["NERET",36400,"INDRE",36138]
["NERONDE",42510,"LOIRE",42154]
["NESSA",20225,"CORSE",20175]
["NEUFFONS",33580,"GIRONDE",33304]
["NEUILLAY LES BOIS",36500,"INDRE",36139]
["NEUILLY EN THELLE",60530,"OISE",60450]
["NEULETTE",62770,"PAS DE CALAIS",62605]
["NEUVICQ",17270,"CHARENTE MARITIME",17260]
["NEUVILLE LES DECIZE",58300,"NIEVRE",58192]
["NEUVILLE SUR AIN",1160,"AIN",1273]
["NEUVILLERS SUR FAVE",88100,"VOSGES",88326]
["NEUVY LE BARROIS",18600,"CHER",18164]
["NEYDENS",74160,"HAUTE SAVOIE",74201]
["NIBELLE",45340,"LOIRET",45228]
["NIEDERNAI",67210,"BAS RHIN",67329]
["NIJON",52150,"HAUTE MARNE",52351]
["NIZAS",34320,"HERAULT",34184]
["NOAILHAC",12320,"AVEYRON",12173]
["NOGENT LE ROI",28210,"EURE ET LOIR",28279]
["NOGUERES",64150,"PYRENEES ATLANTIQUES",64418,"Nouvelle Aquitaine"]
["NOIRON SOUS GEVREY",21910,"COTE D'OR",21458]
["NOIRONTE",25170,"DOUBS",25427]
["NOMAIN",59310,"NORD",59435]
["NONVILLIERS GRANDHOUX",28120,"EURE ET LOIR",28282]
["NORROY",88800,"VOSGES",88332]
["NORROY LES PONT A MOUSSON",54700,"MEURTHE ET MOSELLE",54403]
["NOTRE DAME DE COURSON",14140,"CALVADOS",14471]
["NOTRE DAME DU ROCHER",61100,"ORNE",61313]
["NOURRAY",41310,"LOIR ET CHER",41163]
["NOUSSEVILLER ST NABOR",57990,"MOSELLE",57514]
["NOVES",13550,"BOUCHES DU RHONE",13066]
["NOYANT LA PLAINE",49700,"MAINE ET LOIRE",49230]
["NOYERS SUR JABRON",4200,"ALPES DE HAUTE PROVENCE",4139]
["NOZIERES",18200,"CHER",18169]
["NULLY TREMILLY",52110,"HAUTE MARNE",52359]
["OBERHOFFEN SUR MODER",67240,"BAS RHIN",67345]
["OBERROEDERN",67250,"BAS RHIN",67349]
["OCCOCHES",80600,"SOMME",80602]
["OERMINGEN",67970,"BAS RHIN",67355]
["OGEVILLER",54450,"MEURTHE ET MOSELLE",54406]
["OHNENHEIM",67390,"BAS RHIN",67360]
["OISLY",41700,"LOIR ET CHER",41166]
["OLETTE",66360,"PYRENEES ORIENTALES",66125]
["OLMETA DI CAPOCORSO",20217,"CORSE",20187]
["OMMERAY",57810,"MOSELLE",57524]
["OMMOY",61160,"ORNE",61316]
["ONNAING",59264,"NORD",59447]
["ORAIN",21610,"COTE D'OR",21468]
["ORCHAMPS",39700,"JURA",39396]
["ORE",31510,"HAUTE GARONNE",31405]
["ORGERUS",78910,"YVELINES",78465]
["ORIGNY LE SEC",10510,"AUBE",10271]
["ORMEAUX",77540,"SEINE ET MARNE",77346]
["ORMES",10700,"AUBE",10272]
["ORNEL",55400,"MEUSE",55393]
["ORSAY",91400,"ESSONNE",91471]
["ORVAUX",27190,"EURE",27447]
["ORVILLE",61120,"ORNE",61320]
["OSSE EN ASPE",64490,"PYRENEES ATLANTIQUES",64433,"Nouvelle Aquitaine"]
["OTA",20150,"CORSE",20198]
["OUDRENNE",57110,"MOSELLE",57531]
["OUEILLOUX",65190,"HAUTES PYRENEES",65346]
["OULON",58700,"NIEVRE",58203]
["OUROUX EN MORVAN",58230,"NIEVRE",58205]
["OUVROUER LES CHAMPS",45150,"LOIRET",45241]
["OUZOUER SUR LOIRE",45570,"LOIRET",45244]
["OZERAILLES",54150,"MEURTHE ET MOSELLE",54413]
["PAGNOZ",39330,"JURA",39403]
["PAIMPOL",22500,"COTES D'ARMOR",22162]
["PAIR ET GRANDRUPT",88100,"VOSGES",88341]
["PALINGES",71430,"SAONE ET LOIRE",71340]
["PALLUD",73200,"SAVOIE",73196]
["PANNES",54470,"MEURTHE ET MOSELLE",54416]
["PAPEARI",98727,"POLYNESIE FRANCAISE",98781]
["PARCE SUR SARTHE",72300,"SARTHE",72228]
["PARFOURU SUR ODON",14310,"CALVADOS",14491]
["PARIGNY LES VAUX",58320,"NIEVRE",58207]
["PARIS 14EME ARRONDISSEMENT",75014,"PARIS",75114]
["PARMILIEU",38390,"ISERE",38295]
["PARS LES CHAVANGES",10330,"AUBE",10279]
["PARVES",1300,"AIN",1286]
["PASSIN",1260,"AIN",1287]
["PAULE",22340,"COTES D'ARMOR",22163]
["PAYRA SUR L HERS",11410,"AUDE",11275]
["PECHABOU",31320,"HAUTE GARONNE",31409]
["PEILLAC",56220,"MORBIHAN",56154]
["PELLEPORT",31480,"HAUTE GARONNE",31413]
["PENNE D AGENAIS",47140,"LOT ET GARONNE",47203]
["PENTA DI CASINCA",20213,"CORSE",20207]
["PEREYRES",7450,"ARDECHE",7173]
["PERILLOS",66600,"PYRENEES ORIENTALES",66135]
["PERPEZAC LE NOIR",19410,"CORREZE",19162]
["PERRIGNY SUR ARMANCON",89390,"YONNE",89296]
["PERROGNEY LES FONTAINES",52160,"HAUTE MARNE",52384]
["PERTHES",8300,"ARDENNES",8339]
["PETIT FAYT",59244,"NORD",59461]
["PETIT REDERCHING",57410,"MOSELLE",57535]
["PEUMERIT QUINTIN",22480,"COTES D'ARMOR",22169]
["PEYRE",40700,"LANDES",40223]
["PEYROLES",30124,"GARD",30195]
["PEZENS",11170,"AUDE",11288]
["PEZOU",41100,"LOIR ET CHER",41175]
["PIAZZOLE",20229,"CORSE",20217]
["PIERRE LA TREICHE",54200,"MEURTHE ET MOSELLE",54426]
["PIERRE MORAINS",51130,"MARNE",51430]
["PIERREFITTE SUR AIRE",55260,"MEUSE",55404]
["PIERRERUE",4300,"ALPES DE HAUTE PROVENCE",4151]
["PIEVE",20258,"CORSE",20230]
["PINCE",72300,"SARTHE",72236]
["PINO",20228,"CORSE",20233]
["PIRE SUR SEICHE",35150,"ILLE ET VILAINE",35220]
["PIZAY",1120,"AIN",1297]
["PLACE",53240,"MAYENNE",53179]
["PLAINTEL",22940,"COTES D'ARMOR",22171]
["PLAN DE LA TOUR",83120,"VAR",83094]
["PLASNE",39210,"JURA",39426]
["PLEBOULLE",22550,"COTES D'ARMOR",22174]
["PLEMET",22210,"COTES D'ARMOR",22183]
["PLESSIS ST JEAN",89140,"YONNE",89302]
["PLEVENON",22240,"COTES D'ARMOR",22201]
["PLOBSHEIM",67115,"BAS RHIN",67378]
["PLONEIS",29710,"FINISTERE",29173]
["PLOUEZEC",22470,"COTES D'ARMOR",22214]
["PLOUHINEC",29780,"FINISTERE",29197]
["PLOURIN",29830,"FINISTERE",29208]
["PLUFUR",22310,"COTES D'ARMOR",22238]
["PLURIEN",22240,"COTES D'ARMOR",22242]
["POGNY",51240,"MARNE",51436]
["POILLE SUR VEGRE",72350,"SARTHE",72239]
["POINTIS INARD",31800,"HAUTE GARONNE",31427]
["POLIENAS",38210,"ISERE",38310]
["POMAYROLS",12130,"AVEYRON",12184]
["POMMIERS",2200,"AISNE",2610]
["POMOY",70240,"HAUTE SAONE",70416]
["PONERIHOUEN",98823,"NOUVELLE-CALEDONIE",98823]
["PONT ARCY",2160,"AISNE",2612]
["PONT CROIX",29790,"FINISTERE",29218]
["PONT DE METZ",80480,"SOMME",80632]
["PONT L EVEQUE",14130,"CALVADOS",14514]
["PONT SUR VANNE",89190,"YONNE",89308]
["PONTCHARRAUD",23260,"CREUSE",23156]
["PONTENX LES FORGES",40200,"LANDES",40229,"Nouvelle Aquitaine"]
["PONTORSON",50170,"MANCHE",50410]
["PONTS",50300,"MANCHE",50411]
["PORT",1460,"AIN",1307]
["PORT LOUIS",56290,"MORBIHAN",56181]
["PORTET SUR GARONNE",31120,"HAUTE GARONNE",31433]
["POSTROFF",57930,"MOSELLE",57551]
["POUILLE",41110,"LOIR ET CHER",41181]
["POUILLON",40350,"LANDES",40233,"Nouvelle Aquitaine"]
["POULAY",53640,"MAYENNE",53183]
["POURRIERES",83910,"VAR",83097]
["POURSAY GARNAUD",17400,"CHARENTE MARITIME",17288]
["POUYDRAGUIN",32290,"GERS",32325]
["PRADELLES EN VAL",11220,"AUDE",11298]
["PRAHECQ",79230,"DEUX SEVRES",79216]
["PRATO DI GIOVELLINA",20218,"CORSE",20248]
["PRAZ COUTANT",74480,"HAUTE SAVOIE",74937]
["PRECHACQ NAVARRENX",64190,"PYRENEES ATLANTIQUES",64459,"Nouvelle Aquitaine"]
["PREMERY",58700,"NIEVRE",58218]
["PRESEAU",59990,"NORD",59471]
["PRESLE",73110,"SAVOIE",73207]
["PRETZ EN ARGONNE",55250,"MEUSE",55409]
["PREZ",8290,"ARDENNES",8344]
["PRIGNAC EN MEDOC",33340,"GIRONDE",33338]
["PRIVEZAC",12350,"AVEYRON",12191]
["PROUILLY",51140,"MARNE",51448]
["PRUGNANES",66220,"PYRENEES ORIENTALES",66152]
["PRUILLE L EGUILLE",72150,"SARTHE",72248]
["PUCHEVILLERS",80560,"SOMME",80645]
["PUGINIER",11400,"AUDE",11300]
["PUISEUX LE HAUBERGER",60540,"OISE",60517]
["PUISSEGUIN",33570,"GIRONDE",33342]
["PULVERSHEIM",68840,"HAUT RHIN",68258]
["PUTTIGNY",57170,"MOSELLE",57558]
["PUYGAILLARD DE LOMAGNE",82120,"TARN ET GARONNE",82146]
["PUYGOUZON",81990,"TARN",81218]
["PUYSSEGUR",31480,"HAUTE GARONNE",31444]
["QUAIX EN CHARTREUSE",38950,"ISERE",38328]
["QUERIGUT",9460,"ARIEGE",9239]
["QUESMY",60640,"OISE",60519]
["QUEVEN",56530,"MORBIHAN",56185]
["QUIEVRECHAIN",59920,"NORD",59484]
["QUINCIEUX",69650,"RHONE",69163]
["QUINCY SOUS SENART",91480,"ESSONNE",91514]
["QUOEUX HAUT MAINIL",62390,"PAS DE CALAIS",62683]
["RADONVILLIERS",10500,"AUBE",10313]
["RAHON",25430,"DOUBS",25476]
["RAIVAL",55260,"MEUSE",55442]
["RAMOULU",45300,"LOIRET",45260]
["RANCOUDRAY",50140,"MANCHE",50424]
["RANSPACH LE HAUT",68220,"HAUT RHIN",68264]
["RANZEVELLE",70500,"HAUTE SAONE",70437]
["RAUCOURT ET FLABA",8450,"ARDENNES",8354]
["RAVINE DES CABRIS",97432,"REUNION",97451]
["REALVILLE",82440,"TARN ET GARONNE",82149]
["REBECQUES",62120,"PAS DE CALAIS",62691]
["RECHICOURT LA PETITE",54370,"MEURTHE ET MOSELLE",54446]
["REDANGE",57390,"MOSELLE",57565]
["REGNIOWEZ",8230,"ARDENNES",8355]
["REIGNAC",16360,"CHARENTE",16276]
["REIMERSWILLER",67660,"BAS RHIN",67390]
["REMBERCOURT SOMMAISNE",55250,"MEUSE",55423]
["REMILLY AILLICOURT",8450,"ARDENNES",8357]
["REMIRE MONTJOLY",97354,"GUYANE",97309]
["RENAISON",42370,"LOIRE",42182]
["RENUNG",40270,"LANDES",40240,"Nouvelle Aquitaine"]
["RETHEL",8300,"ARDENNES",8362]
["RETHONVILLERS",80700,"SOMME",80669]
["REVENS",30750,"GARD",30213]
["REVIN",8500,"ARDENNES",8363]
["REYNES",66400,"PYRENEES ORIENTALES",66160]
["RIANS",18220,"CHER",18194]
["RIBIERS",5300,"HAUTES ALPES",5118]
["RICHEVILLE",27420,"EURE",27490]
["RIEUX",51210,"MARNE",51460]
["RIEUX",76340,"SEINE MARITIME",76528]
["RILHAC LASTOURS",87800,"HAUTE VIENNE",87124]
["RIMPLAS",6420,"ALPES MARITIMES",6102]
["RINGENDORF",67350,"BAS RHIN",67403]
["RISOUL",5600,"HAUTES ALPES",5119]
["RIVIERE",37500,"INDRE ET LOIRE",37201]
["ROBECOURT",88320,"VOSGES",88390]
["ROCE",41100,"LOIR ET CHER",41190]
["ROCHE LINOTTE SORANS",70230,"HAUTE SAONE",70449]
["ROCHEJEAN",25370,"DOUBS",25494]
["ROCHONVILLERS",57840,"MOSELLE",57586]
["ROCQUEFORT",76640,"SEINE MARITIME",76531]
["ROELLECOURT",62130,"PAS DE CALAIS",62717]
["ROGUES",30120,"GARD",30219]
["ROLLANCOURT",62770,"PAS DE CALAIS",62719]
["ROMAGNY",68210,"HAUT RHIN",68282]
["ROMANS SUR ISERE",26100,"DROME",26281]
["ROMILLE",35850,"ILLE ET VILAINE",35245]
["RONCOURT",57860,"MOSELLE",57593]
["RONNET",3420,"ALLIER",3216]
["ROQUEBRUNE CAP MARTIN",6190,"ALPES MARITIMES",6104]
["ROQUEREDONDE",34650,"HERAULT",34233]
["ROSEL",14740,"CALVADOS",14542]
["ROSIERS DE JUILLAC",19350,"CORREZE",19177]
["ROSPEZ",22300,"COTES D'ARMOR",22265]
["ROTHBACH",67340,"BAS RHIN",67415]
["ROUELLE",61700,"ORNE",61355]
["ROUEZ",72140,"SARTHE",72256]
["ROUGEMONT",25680,"DOUBS",25505]
["ROUILLE",86480,"VIENNE",86213]
["ROUSSAYROLLES",81140,"TARN",81234]
["ROUTIER",11240,"AUDE",11328]
["ROUVILLERS",60190,"OISE",60553]
["ROUVROY",2100,"AISNE",2659]
["ROVILLE DEVANT BAYON",54290,"MEURTHE ET MOSELLE",54465]
["ROYAUCOURT ET CHAILVET",2000,"AISNE",2661]
["ROZIER EN DONZY",42810,"LOIRE",42193]
["RUE",80120,"SOMME",80688]
["RUFFEY SUR SEILLE",39140,"JURA",39471]
["RUMILLY EN CAMBRESIS",59281,"NORD",59520]
["RUOMS",7120,"ARDECHE",7201]
["RUSTROFF",57480,"MOSELLE",57604]
["SABLEAU",85450,"VENDEE",85902]
["SABONNERES",31370,"HAUTE GARONNE",31464]
["SADEILLAN",32170,"GERS",32355]
["SAIGUEDE",31470,"HAUTE GARONNE",31466]
["SAILLY LABOURSE",62113,"PAS DE CALAIS",62735]
["SAINGHIN EN MELANTOIS",59262,"NORD",59523]
["SAINVILLE",28700,"EURE ET LOIR",28363]
["SALAVAS",7150,"ARDECHE",7304]
["SALIES DU SALAT",31260,"HAUTE GARONNE",31523]
["SALLANCHES",74700,"HAUTE SAVOIE",74256]
["SALLELES CABARDES",11600,"AUDE",11368]
["SALLES MONGISCARD",64300,"PYRENEES ATLANTIQUES",64500,"Nouvelle Aquitaine"]
["SALSES LE CHATEAU",66600,"PYRENEES ORIENTALES",66190]
["SALZA",11330,"AUDE",11374]
["SAMOUILLAN",31420,"HAUTE GARONNE",31529]
["SANARY SUR MER",83110,"VAR",83123]
["SANGUINET",40460,"LANDES",40287,"Nouvelle Aquitaine"]
["SANNAT",23110,"CREUSE",23167]
["SANTENOGE",52160,"HAUTE MARNE",52458]
["SANVIGNES LES MINES",71410,"SAONE ET LOIRE",71499]
["SARBAZAN",40120,"LANDES",40288,"Nouvelle Aquitaine"]
["SARIAC MAGNOAC",65230,"HAUTES PYRENEES",65404]
["SARRAGACHIES",32400,"GERS",32414]
["SARREINSMING",57115,"MOSELLE",57633]
["SASNIERES",41310,"LOIR ET CHER",41236]
["SASSEGNIES",59145,"NORD",59556]
["SAUBUSSE",40180,"LANDES",40293,"Nouvelle Aquitaine"]
["SAUGON",33920,"GIRONDE",33502]
["SAULNY",57140,"MOSELLE",57634]
["SAULT ST REMY",8190,"ARDENNES",8404]
["SAUMANE",30125,"GARD",30310]
["SAUSSAY LA CAMPAGNE",27150,"EURE",27617]
["SAUVE",30610,"GARD",30311]
["SAUVESSANGES",63840,"PUY DE DOME",63412]
["SAUVIGNY LE BEUREAL",89420,"YONNE",89377]
["SAVENAY",44260,"LOIRE ATLANTIQUE",44195]
["SAVEUSE",80730,"SOMME",80730]
["SAVIGNEUX",42600,"LOIRE",42299]
["SAVIGNY SUR ARDRES",51170,"MARNE",51527]
["SAXEL",74420,"HAUTE SAVOIE",74261]
["SCHAFFHOUSE PRES SELTZ",67470,"BAS RHIN",67440]
["SCHERWILLER",67750,"BAS RHIN",67445]
["SCHWEIGHOUSE SUR MODER",67590,"BAS RHIN",67458]
["SEBAZAC CONCOURES",12740,"AVEYRON",12264]
["SEDERON",26560,"DROME",26340]
["SEGONZAC",16130,"CHARENTE",16366]
["SEICHEBRIERES",45530,"LOIRET",45305]
["SELAINCOURT",54170,"MEURTHE ET MOSELLE",54500]
["SEMBAS",47360,"LOT ET GARONNE",47297]
["SEMIDE",8400,"ARDENNES",8410]
["SEMUR EN AUXOIS",21140,"COTE D'OR",21603]
["SENCONAC",9250,"ARIEGE",9287]
["SENNECAY",18340,"CHER",18248]
["SENON",55230,"MEUSE",55481]
["SENTHEIM",68780,"HAUT RHIN",68304]
["SEPTFONDS",82240,"TARN ET GARONNE",82179]
["SERBANNES",3110,"ALLIER",3271]
["SERCOEUR",88600,"VOSGES",88454]
["SERIGNE",85200,"VENDEE",85281]
["SERMAIZE LES BAINS",51250,"MARNE",51531]
["SERQUEUX",76440,"SEINE MARITIME",76672]
["SERRE CHEVALIER",5240,"HAUTES ALPES",5902]
["SERRIERES EN CHAUTAGNE",73310,"SAVOIE",73286]
["SERVIGNY",50200,"MANCHE",50573]
["SEUGY",95270,"VAL D'OISE",95594]
["SEUILLET",3260,"ALLIER",3273]
["SEVRY",18140,"CHER",18251]
["SIBIRIL",29250,"FINISTERE",29276]
["SIEWILLER",67320,"BAS RHIN",67467]
["SIGNES",83870,"VAR",83127]
["SILLANS LA CASCADE",83690,"VAR",83128]
["SIMANDRE",71290,"SAONE ET LOIRE",71522]
["SIONIAC",19120,"CORREZE",19260]
["SIORAC DE RIBERAC",24600,"DORDOGNE",24537]
["SIVRY SUR MEUSE",55110,"MEUSE",55490]
["SOING CUBRY CHARENTENAY",70130,"HAUTE SAONE",70492]
["SOLESMES",72300,"SARTHE",72336]
["SOLIGNAC SOUS ROCHE",43130,"HAUTE LOIRE",43240]
["SOMLOIRE",49360,"MAINE ET LOIRE",49336]
["SOMMERY",76440,"SEINE MARITIME",76678]
["SONAC",46320,"LOT",46306]
["SONNAC SUR L HERS",11230,"AUDE",11380]
["SORCY BAUTHEMONT",8270,"ARDENNES",8428]
["SORNEVILLE",54280,"MEURTHE ET MOSELLE",54510]
["SOUBLECAUSE",65700,"HAUTES PYRENEES",65432]
["SOUBRAN",17150,"CHARENTE MARITIME",17430]
["SOUEL",81170,"TARN",81290]
["SOULAGES",15100,"CANTAL",15229]
["SOULIGNONNE",17250,"CHARENTE MARITIME",17431]
["SOULTZ LES BAINS",67120,"BAS RHIN",67473]
["SOURCIEUX LES MINES",69210,"RHONE",69177]
["SOUSTONS",40140,"LANDES",40310,"Nouvelle Aquitaine"]
["SOYONS",7130,"ARDECHE",7316]
["ST ACHEUL",80370,"SOMME",80697]
["ST AGIL",41170,"LOIR ET CHER",41197]
["ST AIGNAN",82100,"TARN ET GARONNE",82152]
["ST ALBAN DES VILLARDS",73130,"SAVOIE",73221]
["ST ALEXANDRE",30130,"GARD",30226]
["ST AMAND SUR SEVRE",79700,"DEUX SEVRES",79235]
["ST AMBROIX",18290,"CHER",18198]
["ST ANDRE CAPCEZE",48800,"LOZERE",48135]
["ST ANDRE D EMBRUN",5200,"HAUTES ALPES",5128]
["ST ANDRE EN BRESSE",71440,"SAONE ET LOIRE",71386]
["ST ANDRE LE PUY",42210,"LOIRE",42200]
["ST ANTOINE",25370,"DOUBS",25514]
["ST ANTOINE DU QUEYRET",33790,"GIRONDE",33372]
["ST AQUILIN D AUGERONS",27390,"EURE",27509]
["ST ASTIER",24110,"DORDOGNE",24372]
["ST AUBIN DE BONNEVAL",61470,"ORNE",61366]
["ST AUBIN DE COURTERAIE",61560,"ORNE",61367]
["ST AUBIN DU PAVAIL",35410,"ILLE ET VILAINE",35254]
["ST AUBIN LES ELBEUF",76410,"SEINE MARITIME",76561]
["ST AVERTIN",37550,"INDRE ET LOIRE",37208]
["ST AVIT",81110,"TARN",81242]
["ST BARDOUX",26260,"DROME",26294]
["ST BAUDEL",18160,"CHER",18199]
["ST BENEZET",30350,"GARD",30234]
["ST BENOIST SUR VANNE",10160,"AUBE",10335]
["ST BERNARD",97417,"REUNION",97442]
["ST BON",51310,"MARNE",51473]
["ST BONNET DE CONDAT",15190,"CANTAL",15173]
["ST BONNET LE CHASTEL",63630,"PUY DE DOME",63324]
["ST BRESSON",70280,"HAUTE SAONE",70460]
["ST BRIS LE VINEUX",89530,"YONNE",89337]
["ST CARREUC",22150,"COTES D'ARMOR",22281]
["ST CERNIN DE LABARDE",24560,"DORDOGNE",24385]
["ST CHAMASSY",24260,"DORDOGNE",24388]
["ST CHRISTOL",7160,"ARDECHE",7220]
["ST CHRISTOPHE DE VALAINS",35140,"ILLE ET VILAINE",35261]
["ST CHRISTOPHE EN BOUCHERI",36400,"INDRE",36186]
["ST CIERGUES",52200,"HAUTE MARNE",52447]
["ST CIRQ SOUILLAGUET",46300,"LOT",46258]
["ST CLEMENT",30260,"GARD",30244]
["ST CLEMENT SUR GUYE",71460,"SAONE ET LOIRE",71400]
["ST CONGARD",56140,"MORBIHAN",56211]
["ST CREPIN D AUBEROCHE",24330,"DORDOGNE",24390]
["ST CYPRIEN SUR DOURDOU",12320,"AVEYRON",12218]
["ST CYR DE FAVIERES",42132,"LOIRE",42212]
["ST CYR LE CHATOUX",69870,"RHONE",69192]
["ST DENIS D ANJOU",53290,"MAYENNE",53210]
["ST DENIS DU PAYRE",85580,"VENDEE",85207]
["ST DENIS EN MARGERIDE",48700,"LOZERE",48145]
["ST DIDIER AU MONT D OR",69370,"RHONE",69194]
["ST DIDIER SOUS AUBENAS",7200,"ARDECHE",7229]
["ST DIZIER LEYRENNE",23400,"CREUSE",23189]
["ST DOS",64270,"PYRENEES ATLANTIQUES",64474,"Nouvelle Aquitaine"]
["ST ELOI",23000,"CREUSE",23191]
["ST ESTEPHE",24360,"DORDOGNE",24398]
["ST ETIENNE DE LISSE",33330,"GIRONDE",33396]
["ST ETIENNE DE MER MORTE",44270,"LOIRE ATLANTIQUE",44157]
["ST ETIENNE ESTRECHOUX",34260,"HERAULT",34252]
["ST EUSEBE",71210,"SAONE ET LOIRE",71412]
["ST EUSTACHE",74410,"HAUTE SAVOIE",74232]
["ST FELIX",74540,"HAUTE SAVOIE",74233]
["ST FERREOL TRENTE PAS",26110,"DROME",26304]
["ST FLORET",63320,"PUY DE DOME",63342]
["ST FORT SUR GIRONDE",17240,"CHARENTE MARITIME",17328]
["ST FRANCOIS DE SALES",73340,"SAVOIE",73234]
["ST GALMIER",42330,"LOIRE",42222]
["ST GENES DE CASTILLON",33350,"GIRONDE",33406]
["ST GENEST DE CONTEST",81440,"TARN",81250]
["ST GENIS",38710,"ISERE",38385]
["ST GEORGES",57830,"MOSELLE",57611]
["ST GEORGES DE LUZENCON",12100,"AVEYRON",12225]
["ST GEORGES DU VIEVRE",27450,"EURE",27542]
["ST GEORGES LES BAINS",7800,"ARDECHE",7240]
["ST GEOSMES",52200,"HAUTE MARNE",52449]
["ST GERMAIN D ECTOT",14240,"CALVADOS",14581]
["ST GERMAIN DE CONFOLENS",16500,"CHARENTE",16322]
["ST GERMAIN DE VARREVILLE",50480,"MANCHE",50479]
["ST GERMAIN DU SALEMBRE",24190,"DORDOGNE",24418]
["ST GERMAIN LE FOUILLOUX",53240,"MAYENNE",53224]
["ST GERMAIN SUR AVRE",27320,"EURE",27548]
["ST GERMAIN TALLEVENDE",14500,"CALVADOS",14584]
["ST GERVAIS",33240,"GIRONDE",33415]
["ST GEYRAC",24330,"DORDOGNE",24421]
["ST GILLES",36170,"INDRE",36196]
["ST GIRONS D AIGUEVIVES",33920,"GIRONDE",33416]
["ST GORGON MAIN",25520,"DOUBS",25517]
["ST HERBLON",44150,"LOIRE ATLANTIQUE",44163]
["ST HILAIRE DE BRENS",38460,"ISERE",38392]
["ST HILAIRE DE LA COTE",38260,"ISERE",38393]
["ST HILAIRE LA GRAVELLE",41160,"LOIR ET CHER",41214]
["ST HILAIRE PEYROUX",19560,"CORREZE",19211]
["ST HILAIRE SUR HELPE",59440,"NORD",59534]
["ST HONORE",76590,"SEINE MARITIME",76589]
["ST IZAIRE",12480,"AVEYRON",12228]
["ST JACUT DE LA MER",22750,"COTES D'ARMOR",22302]
["ST JEAN D HERANS",38710,"ISERE",38403]
["ST JEAN DE BELLEVILLE",73440,"SAVOIE",73244]
["ST JEAN DE GONVILLE",1630,"AIN",1360]
["ST JEAN DE MAURIENNE",73300,"SAVOIE",73248]
["ST JEAN DE POURCHARESSE",7140,"ARDECHE",7246]
["ST JEAN DES BAISANTS",50810,"MANCHE",50492]
["ST JEAN FROIDMENTEL",41160,"LOIR ET CHER",41216]
["ST JEAN LES DEUX JUMEAUX",77660,"SEINE ET MARNE",77415]
["ST JEAN PLELO",22170,"COTES D'ARMOR",22904]
["ST JEANNET",4270,"ALPES DE HAUTE PROVENCE",4181]
["ST JOSEPH DES BANCS",7530,"ARDECHE",7251]
["ST JULIEN",34390,"HERAULT",34271]
["ST JULIEN DE CREMPSE",24140,"DORDOGNE",24431]
["ST JULIEN DE LA LIEGUE",27600,"EURE",27553]
["ST JULIEN EN VERCORS",26420,"DROME",26309]
["ST JULIEN MOLIN MOLETTE",42220,"LOIRE",42246]
["ST JUST",18340,"CHER",18218]
["ST JUST EN BRIE",77370,"SEINE ET MARNE",77416]
["ST JUVAT",22630,"COTES D'ARMOR",22308]
["ST LAURENT",22140,"COTES D'ARMOR",22310]
["ST LAURENT",47130,"LOT ET GARONNE",47249]
["ST LAURENT DE MURE",69720,"RHONE",69288]
["ST LAURENT DES HOMMES",24400,"DORDOGNE",24436]
["ST LAURENT LA GATINE",28210,"EURE ET LOIR",28343]
["ST LEGER",6260,"ALPES MARITIMES",6124]
["ST LEGER AUX BOIS",76340,"SEINE MARITIME",76598]
["ST LEGER EN BRAY",60155,"OISE",60583]
["ST LEOMER",86290,"VIENNE",86230]
["ST LEON",33670,"GIRONDE",33431]
["ST LEZIN",49120,"MAINE ET LOIRE",49300]
["ST LOUBES",33450,"GIRONDE",33433]
["ST LOUP DE NAUD",77650,"SEINE ET MARNE",77418]
["ST LUMIER EN CHAMPAGNE",51300,"MARNE",51496]
["ST LUPIEN",10350,"AUBE",10348]
["ST MAIME DE PEREYROL",24380,"DORDOGNE",24459]
["ST MARC",15390,"CANTAL",15197]
["ST MARC DU COR",41170,"LOIR ET CHER",41224]
["ST MARCEL D ARDECHE",7700,"ARDECHE",7264]
["ST MARD",80700,"SOMME",80708]
["ST MARDS DE FRESNE",27230,"EURE",27564]
["ST MARTIAL",16190,"CHARENTE",16334]
["ST MARTIN",66220,"PYRENEES ORIENTALES",66184]
["ST MARTIN D ABBAT",45110,"LOIRET",45290]
["ST MARTIN D ONEY",40090,"LANDES",40274,"Nouvelle Aquitaine"]
["ST MARTIN DE BERNEGOUE",79230,"DEUX SEVRES",79273]
["ST MARTIN DE FRESNAY",14170,"CALVADOS",14902]
["ST MARTIN DE MAILLOC",14100,"CALVADOS",14626]
["ST MARTIN DES BOIS",41800,"LOIR ET CHER",41225]
["ST MARTIN DES LAIS",3230,"ALLIER",3245]
["ST MARTIN DU LAC",71110,"SAONE ET LOIRE",71453]
["ST MARTIN EN VERCORS",26420,"DROME",26315]
["ST MARTIN LE GREARD",50690,"MANCHE",50519]
["ST MARTIN LYS",11500,"AUDE",11358]
["ST MARTIN SUR LE PRE",51520,"MARNE",51504]
["ST MAUDAN",22600,"COTES D'ARMOR",22314]
["ST MAURICE D ARDECHE",7200,"ARDECHE",7272]
["ST MAURICE DE LESTAPEL",47290,"LOT ET GARONNE",47259]
["ST MAURICE LA FOUGEREUSE",79150,"DEUX SEVRES",79280]
["ST MAURICE SUR VINGEANN",21610,"COTE D'OR",21562]
["ST MEDARD D AUNIS",17220,"CHARENTE MARITIME",17373]
["ST MEDARD DE GUIZIERES",33230,"GIRONDE",33447]
["ST MICAUD",71460,"SAONE ET LOIRE",71465]
["ST MICHEL D AURANCE",7160,"ARDECHE",7276]
["ST MICHEL DE PLELAN",22980,"COTES D'ARMOR",22318]
["ST MICHEL DE VOLANGIS",18390,"CHER",18226]
["ST MICHEL SUR MEURTHE",88470,"VOSGES",88428]
["ST NAZAIRE",44600,"LOIRE ATLANTIQUE",44184]
["ST NICOLAS DE LA HAIE",76490,"SEINE MARITIME",76626]
["ST NICOLAS DE PIERREPONT",50250,"MANCHE",50528]
["ST NOLFF",56250,"MORBIHAN",56231]
["ST OUEN DE SECHEROUVRE",61560,"ORNE",61438]
["ST OUEN LE HOUX",14140,"CALVADOS",14638]
["ST OUEN SUR GARTEMPE",87300,"HAUTE VIENNE",87172]
["ST PALAIS",18110,"CHER",18229]
["ST PARDON DE CONQUES",33210,"GIRONDE",33457]
["ST PASTOUS",65400,"HAUTES PYRENEES",65393]
["ST PATHUS",77178,"SEINE ET MARNE",77430]
["ST PAUL DE JARRAT",9000,"ARIEGE",9272]
["ST PAUL LA ROCHE",24800,"DORDOGNE",24481]
["ST PE DELBOSC",31350,"HAUTE GARONNE",31510]
["ST PERAVY LA COLOMBE",45310,"LOIRET",45296]
["ST PHILBERT EN MAUGES",49600,"MAINE ET LOIRE",49312]
["ST PIERRE AVEZ",5300,"HAUTES ALPES",5155]
["ST PIERRE D ARGENCON",5140,"HAUTES ALPES",5154]
["ST PIERRE DE BAILLEUL",27920,"EURE",27589]
["ST PIERRE DE LA FAGE",34520,"HERAULT",34283]
["ST PIERRE DES BOIS",72430,"SARTHE",72312]
["ST PIERRE DES JONQUIERES",76660,"SEINE MARITIME",76635]
["ST PIERRE DU REGARD",61790,"ORNE",61447]
["ST PIERRE LE BOST",23600,"CREUSE",23233]
["ST PIERREMONT",2250,"AISNE",2689]
["ST PONS",4400,"ALPES DE HAUTE PROVENCE",4195]
["ST POUANGE",10120,"AUBE",10360]
["ST PRIEST LA PRUGNE",42830,"LOIRE",42276]
["ST PRIVE",71390,"SAONE ET LOIRE",71471]
["ST PROJET",46300,"LOT",46290]
["ST QUENTIN EN MAUGES",49110,"MAINE ET LOIRE",49314]
["ST QUENTIN SUR INDROIS",37310,"INDRE ET LOIRE",37234]
["ST REMY BLANZY",2210,"AISNE",2693]
["ST REMY L HONORE",78690,"YVELINES",78576]
["ST REMY LE PETIT",8300,"ARDENNES",8397]
["ST ROMAIN",21190,"COTE D'OR",21569]
["ST ROMAIN ET ST CLEMENT",24800,"DORDOGNE",24496]
["ST ROMAIN LES ATHEUX",42660,"LOIRE",42286]
["ST SALVADOUR",19700,"CORREZE",19240]
["ST SAUFLIEU",80160,"SOMME",80717]
["ST SAUVEUR",54480,"MEURTHE ET MOSELLE",54488]
["ST SAUVEUR EN DIOIS",26340,"DROME",26328]
["ST SAUVEUR LALANDE",24700,"DORDOGNE",24500]
["ST SEBASTIEN DE RAIDS",50190,"MANCHE",50552]
["ST SERNIN SUR RANCE",12380,"AVEYRON",12248]
["ST SEURIN DE CADOURNE",33180,"GIRONDE",33476]
["ST SILVAIN BELLEGARDE",23190,"CREUSE",23241]
["ST SORLIN DE CONAC",17150,"CHARENTE MARITIME",17405]
["ST SOZY",46200,"LOT",46293]
["ST SULPICE LA FORET",35250,"ILLE ET VILAINE",35315]
["ST SULPICE LES FEUILLES",87160,"HAUTE VIENNE",87182]
["ST SYMPHORIEN",72240,"SARTHE",72321]
["ST THEOFFREY",38119,"ISERE",38462]
["ST THURIAU",56300,"MORBIHAN",56237]
["ST TRINIT",84390,"VAUCLUSE",84120]
["ST UZE",26240,"DROME",26332]
["ST VALLIER SUR MARNE",52200,"HAUTE MARNE",52457]
["ST VERAND",69620,"RHONE",69239]
["ST VICTOR L ABBAYE",76890,"SEINE MARITIME",76656]
["ST VINCENT",43800,"HAUTE LOIRE",43230]
["ST VINCENT DE TYROSSE",40230,"LANDES",40284,"Nouvelle Aquitaine"]
["ST VINCENT DU PENDIT",46400,"LOT",46295]
["ST WAAST",59570,"NORD",59548]
["ST YRIEIX LES BOIS",23150,"CREUSE",23250]
["STE AGNES",38190,"ISERE",38350]
["STE AUSTREBERTHE",76570,"SEINE MARITIME",76566]
["STE CATHERINE",62223,"PAS DE CALAIS",62744]
["STE CLOTILDE",97490,"REUNION",97454]
["STE COLOMBE PRES VERNON",27950,"EURE",27525]
["STE CONSORCE",69280,"RHONE",69190]
["STE CROIX SUR ORNE",61210,"ORNE",61378]
["STE EULALIE D EYMET",24500,"DORDOGNE",24402]
["STE GAUBURGE ST COLOMBE",61370,"ORNE",61389]
["STE GENEVIEVE DES BOIS",45230,"LOIRET",45278]
["STE HELENE",71390,"SAONE ET LOIRE",71426]
["STE LIVRADE",31530,"HAUTE GARONNE",31496]
["STE MARIE",32200,"GERS",32388]
["STE MARIE",65370,"HAUTES PYRENEES",65391]
["STE MARIE DES CHAZES",43300,"HAUTE LOIRE",43209]
["STE MARIE SUR MER",44210,"LOIRE ATLANTIQUE",44177]
["STE RADEGONDE",12850,"AVEYRON",12241]
["STE SEGREE",80290,"SOMME",80719]
["STE SOULINE",16480,"CHARENTE",16354]
["STEENE",59380,"NORD",59579]
["STOTZHEIM",67140,"BAS RHIN",67481]
["STUNDWILLER",67250,"BAS RHIN",67484]
["SUIN",71220,"SAONE ET LOIRE",71529]
["SURDOUX",87130,"HAUTE VIENNE",87193]
["SURY LE COMTAL",42450,"LOIRE",42304]
["SUZE",26400,"DROME",26346]
["SYLVAINS LES MOULINS",27240,"EURE",27693]
["TAILLEBOIS",61100,"ORNE",61478]
["TAIZE COMMUNAUTE",71250,"SAONE ET LOIRE",71904]
["TALENCIEUX",7340,"ARDECHE",7317]
["TALLUD STE GEMME",85390,"VENDEE",85287]
["TANGRY",62550,"PAS DE CALAIS",62805]
["TARASCON",13150,"BOUCHES DU RHONE",13108]
["TARENTAISE",42660,"LOIRE",42306]
["TARTECOURT",70500,"HAUTE SAONE",70496]
["TAURIAC",46130,"LOT",46313]
["TAVERNY",95150,"VAL D'OISE",95607]
["TAXAT SENAT",3140,"ALLIER",3278]
["TELOCHE",72220,"SARTHE",72350]
["TERDEGHEM",59114,"NORD",59587]
["TERRANS",71270,"SAONE ET LOIRE",71536]
["TERRE NATALE",52400,"HAUTE MARNE",52504]
["TESSENS",73210,"SAVOIE",73291]
["THAL DRULINGEN",67320,"BAS RHIN",67488]
["THEIX",63122,"PUY DE DOME",63917]
["THELIGNY",72320,"SARTHE",72353]
["THENNELIERES",10410,"AUBE",10375]
["THEZAN DES CORBIERES",11200,"AUDE",11390]
["THIBIVILLERS",60240,"OISE",60630]
["THIEFFRANS",70230,"HAUTE SAONE",70500]
["THIEVILLE",14170,"CALVADOS",14688]
["THILLOMBOIS",55260,"MEUSE",55506]
["THOIGNE",72260,"SARTHE",72354]
["THOIRE SUR DINAN",72500,"SARTHE",72356]
["THONNELLE",55600,"MEUSE",55511]
["THORIGNY SUR OREUSE",89260,"YONNE",89414]
["THOURY",41220,"LOIR ET CHER",41260]
["THUGNY TRUGNY",8300,"ARDENNES",8452]
["THURY EN VALOIS",60890,"OISE",60637]
["TIGNECOURT",88320,"VOSGES",88473]
["TILLOLOY",80700,"SOMME",80759]
["TILLY CAPELLE",62134,"PAS DE CALAIS",62818]
["TOCANE ST APRE",24350,"DORDOGNE",24553]
["TONNEVILLE",50460,"MANCHE",50600]
["TORDERES",66300,"PYRENEES ORIENTALES",66211]
["TORPES",71270,"SAONE ET LOIRE",71541]
["TOUCY",89130,"YONNE",89419]
["TOULON SUR ARROUX",71320,"SAONE ET LOIRE",71542]
["TOURETTE SUR LOUP",6140,"ALPES MARITIMES",6148]
["TOURNAN EN BRIE",77220,"SEINE ET MARNE",77470]
["TOURNOISIS",45310,"LOIRET",45326]
["TOURS SUR MEYMONT",63590,"PUY DE DOME",63434]
["TOURZEL RONZIERES",63320,"PUY DE DOME",63435]
["TRACY SUR LOIRE",58150,"NIEVRE",58295]
["TRAINOU",45470,"LOIRET",45327]
["TRANS SUR ERDRE",44440,"LOIRE ATLANTIQUE",44207]
["TREBEURDEN",22560,"COTES D'ARMOR",22343]
["TREBONS SUR LA GRASSE",31290,"HAUTE GARONNE",31560]
["TREGLAMUS",22540,"COTES D'ARMOR",22354]
["TREILLES",11510,"AUDE",11398]
["TREMBLAY EN FRANCE",93290,"SEINE SAINT DENIS",93073]
["TREMELOIR",22590,"COTES D'ARMOR",22367]
["TREPREL",14690,"CALVADOS",14710]
["TRESSAN",34230,"HERAULT",34313]
["TREVES",30750,"GARD",30332]
["TREVEY",70230,"HAUTE SAONE",70508]
["TRIE CHATEAU",60590,"OISE",60644]
["TRITH ST LEGER",59125,"NORD",59603]
["TROISGOTS",50420,"MANCHE",50608]
["TROISVAUX",62130,"PAS DE CALAIS",62831]
["TROUHAUT",21440,"COTE D'OR",21646]
["TRUCY L ORGUEILLEUX",58460,"NIEVRE",58299]
["TURGON",16350,"CHARENTE",16389]
["TURQUANT",49730,"MAINE ET LOIRE",49358]
["UFFHEIM",68510,"HAUT RHIN",68341]
["UNIAS",42210,"LOIRE",42315]
["URIMENIL",88220,"VOSGES",88481]
["UROU ET CRENNES",61200,"ORNE",61496]
["USINENS",74910,"HAUTE SAVOIE",74285]
["UXELLES",39130,"JURA",39538]
["UZEL",22460,"COTES D'ARMOR",22384]
["VACOGNES-NEUILLY",14210,"CALVADOS",14721]
["VAIGES",53480,"MAYENNE",53267]
["VAIVRE ET MONTOILLE",70000,"HAUTE SAONE",70513]
["VAL MARAVEL",26310,"DROME",26136]
["VALAILLES",27300,"EURE",27667]
["VALDELANCOURT",52120,"HAUTE MARNE",52501]
["VALENTIGNEY",25700,"DOUBS",25580]
["VALIERGUES",19200,"CORREZE",19277]
["VALLANS",79270,"DEUX SEVRES",79335]
["VALLEROIS LE BOIS",70000,"HAUTE SAONE",70516]
["VALLOIS",54830,"MEURTHE ET MOSELLE",54543]
["VALREAS",84600,"VAUCLUSE",84138]
["VALVIGNERES",7400,"ARDECHE",7332]
["VANDELEVILLE",54115,"MEURTHE ET MOSELLE",54545]
["VANVES",92170,"HAUTS DE SEINE",92075]
["VAREILLES",71800,"SAONE ET LOIRE",71553]
["VARENNE SUR LE DOUBS",71270,"SAONE ET LOIRE",71560]
["VARENNES SUR LOIRE",49730,"MAINE ET LOIRE",49361]
["VARREDDES",77910,"SEINE ET MARNE",77483]
["VATAN",36150,"INDRE",36230]
["VATILIEU",38470,"ISERE",38526]
["VAUCOURT",54370,"MEURTHE ET MOSELLE",54551]
["VAUDEVANT",7410,"ARDECHE",7335]
["VAUDRY",14500,"CALVADOS",14730]
["VAUJANY",38114,"ISERE",38527]
["VAUQUOIS",55270,"MEUSE",55536]
["VAUX",57130,"MOSELLE",57701]
["VAUX SUR BLAISE",52130,"HAUTE MARNE",52510]
["VAUX SUR MER",17640,"CHARENTE MARITIME",17461]
["VAYRAC",46110,"LOT",46330]
["VEHO",54450,"MEURTHE ET MOSELLE",54556]
["VELET",70100,"HAUTE SAONE",70529]
["VELLECHEVREUX COURBENANS",70110,"HAUTE SAONE",70530]
["VELOSNES",55600,"MEUSE",55544]
["VENCE",6140,"ALPES MARITIMES",6157]
["VENDREST",77440,"SEINE ET MARNE",77490]
["VENERAND",17100,"CHARENTE MARITIME",17462]
["VENOY",89290,"YONNE",89438]
["VER SUR LAUNETTE",60950,"OISE",60666]
["VERDELOT",77510,"SEINE ET MARNE",77492]
["VERDIGNY",18300,"CHER",18274]
["VERGER SUR DIVE",86110,"VIENNE",86283]
["VERISSEY",71440,"SAONE ET LOIRE",71568]
["VERMENTON",89270,"YONNE",89441]
["VERNAUX",9250,"ARIEGE",9330]
["VERNEUIL SUR INDRE",37600,"INDRE ET LOIRE",37269]
["VERNONVILLIERS",10200,"AUBE",10403]
["VERPEL",8240,"ARDENNES",8470]
["VERQUIN",62131,"PAS DE CALAIS",62848]
["VERS",71240,"SAONE ET LOIRE",71572]
["VERT ST DENIS",77240,"SEINE ET MARNE",77495]
["VERVINS",2140,"AISNE",2789]
["VESC",26220,"DROME",26373]
["VETRAZ MONTHOUX",74100,"HAUTE SAVOIE",74298]
["VEYRINES DE DOMME",24250,"DORDOGNE",24575]
["VEZAC",24220,"DORDOGNE",24577]
["VEZZANI",20242,"CORSE",20347]
["VIAZAC",46100,"LOT",46332]
["VICQ SUR NAHON",36600,"INDRE",36237]
["VIEILLES MAISONS SUR JOUD",45260,"LOIRET",45334]
["VIEILLEVIGNE",31290,"HAUTE GARONNE",31576]
["VIENNE LA VILLE",51800,"MARNE",51620]
["VIEUSSAN",34390,"HERAULT",34334]
["VIEUX BOURG",14130,"CALVADOS",14748]
["VIEUX PORT",27680,"EURE",27686]
["VIGGIANELLO",20110,"CORSE",20349]
["VIGNEUX SUR SEINE",91270,"ESSONNE",91657]
["VILLABON",18800,"CHER",18282]
["VILLACOURT",54290,"MEURTHE ET MOSELLE",54567]
["VILLANOVA",20167,"CORSE",20351]
["VILLARDEBELLE",11580,"AUDE",11412]
["VILLARLURIN",73600,"SAVOIE",73321]
["VILLARS SOUS DAMPJOUX",25190,"DOUBS",25617]
["VILLE DI PIETRABUGNO",20200,"CORSE",20353]
["VILLE SOUS LA FERTE",10310,"AUBE",10426]
["VILLEBRAMAR",47380,"LOT ET GARONNE",47319]
["VILLECHAUVE",41310,"LOIR ET CHER",41278]
["VILLEDIEU LES POELES",50800,"MANCHE",50639]
["VILLEFRANCHE DE LONCHAT",24610,"DORDOGNE",24584]
["VILLEGRUIS",77560,"SEINE ET MARNE",77503]
["VILLEJUIF",94800,"VAL DE MARNE",94076]
["VILLEMBRAY",60650,"OISE",60677]
["VILLEMUS",4110,"ALPES DE HAUTE PROVENCE",4241]
["VILLENAVOTTE",89140,"YONNE",89458]
["VILLENEUVE DE RIVIERE",31800,"HAUTE GARONNE",31585]
["VILLENEUVE LES BOULOC",31620,"HAUTE GARONNE",31587]
["VILLENEUVE ST VISTRE VILL",51120,"MARNE",51628]
["VILLENEUVE SUR LOT",47300,"LOT ET GARONNE",47323]
["VILLEREAU",45170,"LOIRET",45342]
["VILLERS",42460,"LOIRE",42333]
["VILLERS CHATEL",62690,"PAS DE CALAIS",62857]
["VILLERS L HOPITAL",62390,"PAS DE CALAIS",62859]
["VILLERS LE SEC",51250,"MARNE",51635]
["VILLERS PLOUICH",59231,"NORD",59625]
["VILLERS ST SEPULCRE",60134,"OISE",60685]
["VILLERS SUR FERE",2130,"AISNE",2816]
["VILLESENEUX",51130,"MARNE",51638]
["VILLETTE",78930,"YVELINES",78677]
["VILLIERS AU BOUIN",37330,"INDRE ET LOIRE",37279]
["VILLIERS LE ROUX",16240,"CHARENTE",16413]
["VILLIERS LOUIS",89760,"YONNE",89471]
["VILLIERSFAUX",41100,"LOIR ET CHER",41293]
["VILLY LE BOIS",10800,"AUBE",10434]
["VILOSNES HARAUMONT",55110,"MEUSE",55571]
["VINCELOTTES",89290,"YONNE",89479]
["VINS SUR CARAMY",83170,"VAR",83151]
["VIOLAINES",62138,"PAS DE CALAIS",62863]
["VIRICELLES",42140,"LOIRE",42335]
["VIRLET",63330,"PUY DE DOME",63462]
["VISONCOURT",70300,"HAUTE SAONE",70571]
["VITREY SUR MANCE",70500,"HAUTE SAONE",70572]
["VITRY EN CHAROLLAIS",71600,"SAONE ET LOIRE",71588]
["VIUZ LA CHIESAZ",74540,"HAUTE SAVOIE",74310]
["VIVONNE",86370,"VIENNE",86293]
["VOCANCE",7690,"ARDECHE",7347]
["VOIPREUX",51130,"MARNE",51651]
["VOIRES",25580,"DOUBS",25630]
["VOIRON",38500,"ISERE",38563]
["VOISCREVILLE",27520,"EURE",27699]
["VOISE",28700,"EURE ET LOIR",28421]
["VOISENON",77950,"SEINE ET MARNE",77528]
["VOISEY",52400,"HAUTE MARNE",52544]
["VOISINES",52200,"HAUTE MARNE",52545]
["VOISINES",89260,"YONNE",89483]
["VOISINS LE BRETONNEUX",78960,"YVELINES",78688]
["VOISSANT",38620,"ISERE",38564]
["VOISSAY",17400,"CHARENTE MARITIME",17481]
["VOITEUR",39210,"JURA",39582]
["VOIVRES LES LE MANS",72210,"SARTHE",72381]
["VOLCKERINCKHOVE",59470,"NORD",59628]
["VOLESVRES",71600,"SAONE ET LOIRE",71590]
["VOLGELSHEIM",68600,"HAUT RHIN",68352]
["VOLGRE",89710,"YONNE",89484]
["VOLKSBERG",67290,"BAS RHIN",67509]
["VOLLORE MONTAGNE",63120,"PUY DE DOME",63468]
["VOLLORE VILLE",63120,"PUY DE DOME",63469]
["VOLMERANGE LES BOULAY",57220,"MOSELLE",57730]
["VOLMERANGE LES MINES",57330,"MOSELLE",57731]
["VOLMUNSTER",57720,"MOSELLE",57732]
["VOLNAY",21190,"COTE D'OR",21712]
["VOLNAY",72440,"SARTHE",72382]
["VOLOGNAT",1460,"AIN",1455]
["VOLON",70180,"HAUTE SAONE",70574]
["VOLONNE",4290,"ALPES DE HAUTE PROVENCE",4244]
["VOLPAJOLA",20290,"CORSE",20355]
["VOLSTROFF",57940,"MOSELLE",57733]
["VOLVENT",26470,"DROME",26378]
["VOLVIC",63530,"PUY DE DOME",63470]
["VOLX",4130,"ALPES DE HAUTE PROVENCE",4245]
["VOMECOURT",88700,"VOSGES",88521]
["VOMECOURT SUR MADON",88500,"VOSGES",88522]
["VONCOURT",52500,"HAUTE MARNE",52546]
["VONCQ",8400,"ARDENNES",8489]
["VONGES",21270,"COTE D'OR",21713]
["VONGNES",1350,"AIN",1456]
["VONGY",74200,"HAUTE SAVOIE",74953]
["VONNAS",1540,"AIN",1457]
["VORAY SUR L OGNON",70190,"HAUTE SAONE",70575]
["VOREPPE",38340,"ISERE",38565]
["VOREY",43800,"HAUTE LOIRE",43267]
["VORGES",2860,"AISNE",2824]
["VORGES LES PINS",25320,"DOUBS",25631]
["VORLY",18340,"CHER",18288]
["VORNAY",18130,"CHER",18289]
["VORS",12160,"AVEYRON",12306]
["VOSBLES",39240,"JURA",39583]
["VOSNE ROMANEE",21700,"COTE D'OR",21714]
["VOSNON",10130,"AUBE",10441]
["VOU",37240,"INDRE ET LOIRE",37280]
["VOUARCES",51260,"MARNE",51652]
["VOUCIENNES",51240,"MARNE",51653]
["VOUDENAY",21230,"COTE D'OR",21715]
["VOUE",10150,"AUBE",10442]
["VOUECOURT",52320,"HAUTE MARNE",52547]
["VOUEL",2700,"AISNE",2825]
["VOUGECOURT",70500,"HAUTE SAONE",70576]
["VOUGEOT",21640,"COTE D'OR",21716]
["VOUGLANS",39260,"JURA",39910]
["VOUGREY",10210,"AUBE",10443]
["VOUGY",42720,"LOIRE",42338]
["VOUGY",74130,"HAUTE SAVOIE",74312]
["VOUHARTE",16330,"CHARENTE",16419]
["VOUHE",17700,"CHARENTE MARITIME",17482]
["VOUHE",79310,"DEUX SEVRES",79354]
["VOUHENANS",70200,"HAUTE SAONE",70577]
["VOUILLE",79230,"DEUX SEVRES",79355]
["VOUILLE",86190,"VIENNE",86294]
["VOUILLE LES MARAIS",85450,"VENDEE",85304]
["VOUILLERS",51340,"MARNE",51654]
["VOUILLON",36100,"INDRE",36248]
["VOUILLY",14230,"CALVADOS",14763]
["VOUJEAUCOURT",25420,"DOUBS",25632]
["VOULAINES LES TEMPLIERS",21290,"COTE D'OR",21717]
["VOULANGIS",77580,"SEINE ET MARNE",77529]
["VOULEME",86400,"VIENNE",86295]
["VOULGEZAC",16250,"CHARENTE",16420]
["VOULON",86700,"VIENNE",86296]
["VOULPAIX",2140,"AISNE",2826]
["VOULTEGON",79150,"DEUX SEVRES",79356]
["VOULTON",77560,"SEINE ET MARNE",77530]
["VOULX",77940,"SEINE ET MARNE",77531]
["VOUNEUIL SOUS BIARD",86580,"VIENNE",86297]
["VOUNEUIL SUR VIENNE",86210,"VIENNE",86298]
["VOUREY",38210,"ISERE",38566]
["VOURLES",69390,"RHONE",69268]
["VOUSSAC",3140,"ALLIER",3319]
["VOUTENAY SUR CURE",89270,"YONNE",89485]
["VOUTEZAC",19130,"CORREZE",19288]
["VOUTHON",16220,"CHARENTE",16421]
["VOUTHON BAS",55130,"MEUSE",55574]
["VOUTHON HAUT",55130,"MEUSE",55575]
["VOUTRE",53600,"MAYENNE",53276]
["VOUVANT",85120,"VENDEE",85305]
["VOUVRAY",1200,"AIN",1458]
["VOUVRAY",37210,"INDRE ET LOIRE",37281]
["VOUVRAY SUR HUISNE",72160,"SARTHE",72383]
["VOUVRAY SUR LOIR",72500,"SARTHE",72384]
["VOUXEY",88170,"VOSGES",88523]
["VOUZAILLES",86170,"VIENNE",86299]
["VOUZAN",16410,"CHARENTE",16422]
["VOUZERON",18330,"CHER",18290]
["VOUZIERS",8400,"ARDENNES",8490]
["VOUZON",41600,"LOIR ET CHER",41296]
["VOUZY",51130,"MARNE",51655]
["VOVES",28150,"EURE ET LOIR",28422]
["VOVRAY EN BORNES",74350,"HAUTE SAVOIE",74313]
["VOYENNE",2250,"AISNE",2827]
["VOYENNES",80400,"SOMME",80811]
["VOYER",57560,"MOSELLE",57734]
["VRAIGNES LES HORNOY",80640,"SOMME",80813]
["VRAIGNES VERMANDOIS",80240,"SOMME",80812]
["VRAINCOURT",52310,"HAUTE MARNE",52548]
["VRAIVILLE",27370,"EURE",27700]
["VRASVILLE",50330,"MANCHE",50645]
["VRAUX",51150,"MARNE",51656]
["VRECOURT",88140,"VOSGES",88524]
["VRED",59870,"NORD",59629]
["VREGILLE",70150,"HAUTE SAONE",70578]
["VREGNY",2880,"AISNE",2828]
["VRELY",80170,"SOMME",80814]
["VREMY",57640,"MOSELLE",57735]
["VRIANGE",39700,"JURA",39584]
["VRIGNE AUX BOIS",8330,"ARDENNES",8491]
["VRIGNE MEUSE",8350,"ARDENNES",8492]
["VRIGNY",45300,"LOIRET",45347]
["VRIGNY",51390,"MARNE",51657]
["VRIGNY",61570,"ORNE",61511]
["VRITZ",49440,"MAINE ET LOIRE",44219]
["VRIZY",8400,"ARDENNES",8493]
["VROCOURT",60112,"OISE",60697]
["VROIL",51330,"MARNE",51658]
["VRON",80120,"SOMME",80815]
["VRONCOURT",54330,"MEURTHE ET MOSELLE",54592]
["VRONCOURT LA COTE",52240,"HAUTE MARNE",52549]
["VROVILLE",88500,"VOSGES",88525]
["VRY",57640,"MOSELLE",57736]
["VUE",44640,"LOIRE ATLANTIQUE",44220]
["VUILLAFANS",25840,"DOUBS",25633]
["VUILLECIN",25300,"DOUBS",25634]
["VUILLERY",2880,"AISNE",2829]
["VULAINES",10160,"AUBE",10444]
["VULAINES LES PROVINS",77160,"SEINE ET MARNE",77532]
["VULAINES SUR SEINE",77870,"SEINE ET MARNE",77533]
["VULBENS",74520,"HAUTE SAVOIE",74314]
["VULMONT",57420,"MOSELLE",57737]
["VULVOZ",39360,"JURA",39585]
["VY LE FERROUX",70130,"HAUTE SAONE",70580]
["VY LES FILAIN",70230,"HAUTE SAONE",70583]
["VY LES LURE",70200,"HAUTE SAONE",70581]
["VY LES RUPT",70120,"HAUTE SAONE",70582]
["VYANS LE VAL",70400,"HAUTE SAONE",70579]
["VYT LES BELVOIR",25430,"DOUBS",25635]
["WABEN",62180,"PAS DE CALAIS",62866]
["WACKENBACH",67130,"BAS RHIN",67939]
["WACQUEMOULIN",60420,"OISE",60698]
["WACQUENOUX",67130,"BAS RHIN",67940]
["WACQUINGHEN",62250,"PAS DE CALAIS",62867]
["WADELINCOURT",8200,"ARDENNES",8494]
["WADIMONT",8220,"ARDENNES",8495]
["WADONVILLE EN WOEVRE",55160,"MEUSE",55576]
["WAGENBACH",67220,"BAS RHIN",67938]
["WAGNON",8270,"ARDENNES",8496]
["WAHAGNIES",59261,"NORD",59630]
["WAHLBACH",68130,"HAUT RHIN",68353]
["WAHLENHEIM",67170,"BAS RHIN",67510]
["WAIL",62770,"PAS DE CALAIS",62868]
["WAILLY",62217,"PAS DE CALAIS",62869]
["WAILLY",80160,"SOMME",80816]
["WAILLY BEAUCAMP",62170,"PAS DE CALAIS",62870]
["WALBACH",68230,"HAUT RHIN",68354]
["WALBOURG",67360,"BAS RHIN",67511]
["WALDERSBACH",67130,"BAS RHIN",67513]
["WALDERSBACH",67130,"BAS RHIN",67941]
["WALDHAMBACH",67430,"BAS RHIN",67514]
["WALDHOUSE",57720,"MOSELLE",57738]
["WALDIGHOFEN",68640,"HAUT RHIN",68355]
["WALDOLWISHEIM",67700,"BAS RHIN",67515]
["WALDWEISTROFF",57320,"MOSELLE",57739]
["WALDWISSE",57480,"MOSELLE",57740]
["WALHEIM",68130,"HAUT RHIN",68356]
["WALINCOURT SELVIGNY",59127,"NORD",59631]
["WALLERS",59135,"NORD",59632]
["WALLERS TRELON",59132,"NORD",59633]
["WALLON CAPPEL",59190,"NORD",59634]
["WALSCHBRONN",57720,"MOSELLE",57741]
["WALSCHEID",57870,"MOSELLE",57742]
["WALTEMBOURG",57370,"MOSELLE",57743]
["WALTENHEIM",68510,"HAUT RHIN",68357]
["WALTENHEIM SUR ZORN",67670,"BAS RHIN",67516]
["WALY",55250,"MEUSE",55577]
["WAMBAIX",59400,"NORD",59635]
["WAMBERCOURT",62140,"PAS DE CALAIS",62871]
["WAMBEZ",60380,"OISE",60699]
["WAMBRECHIES",59118,"NORD",59636]
["WAMIN",62770,"PAS DE CALAIS",62872]
["WANCHY CAPVAL",76660,"SEINE MARITIME",76749]
["WANCOURT",62128,"PAS DE CALAIS",62873]
["WANDIGNIES HAMAGE",59870,"NORD",59637]
["WANEL",80490,"SOMME",80817]
["WANGEN",67520,"BAS RHIN",67517]
["WANGENBOURG",67710,"BAS RHIN",67518]
["WANGENBOURG ENGENTHAL",67710,"BAS RHIN",67122]
["WANNEHAIN",59830,"NORD",59638]
["WANQUETIN",62123,"PAS DE CALAIS",62874]
["WARCQ",8000,"ARDENNES",8497]
["WARCQ",55400,"MEUSE",55578]
["WARDRECQUES",62120,"PAS DE CALAIS",62875]
["WARFUSEE ABANCOURT",80720,"SOMME",80818]
["WARGEMOULIN HURLUS",51800,"MARNE",51659]
["WARGNIES",80670,"SOMME",80819]
["WARGNIES LE GRAND",59144,"NORD",59639]
["WARGNIES LE PETIT",59144,"NORD",59640]
["WARHEM",59380,"NORD",59641]
["WARLAING",59870,"NORD",59642]
["WARLENCOURT EAUCOURT",62450,"PAS DE CALAIS",62876]
["WARLINCOURT LES PAS",62760,"PAS DE CALAIS",62877]
["WARLOY BAILLON",80300,"SOMME",80820]
["WARLUIS",60430,"OISE",60700]
["WARLUS",62123,"PAS DE CALAIS",62878]
["WARLUS",80270,"SOMME",80821]
["WARLUZEL",62810,"PAS DE CALAIS",62879]
["WARMERIVILLE",51110,"MARNE",51660]
["WARNECOURT",8090,"ARDENNES",8498]
["WARNETON",59560,"NORD",59643]
["WARSY",80500,"SOMME",80822]
["WARVILLERS",80170,"SOMME",80823]
["WASIGNY",8270,"ARDENNES",8499]
["WASNES AU BAC",59252,"NORD",59645]
["WASQUEHAL",59290,"NORD",59646]
["WASSELONNE",67310,"BAS RHIN",67520]
["WASSERBOURG",68230,"HAUT RHIN",68358]
["WASSIGNY",2630,"AISNE",2830]
["WASSY",52130,"HAUTE MARNE",52550]
["WATIGNY",2830,"AISNE",2831]
["WATRONVILLE",55160,"MEUSE",55579]
["WATTEN",59143,"NORD",59647]
["WATTIGNIES",59139,"NORD",59648]
["WATTIGNIES LA VICTOIRE",59680,"NORD",59649]
["WATTRELOS",59150,"NORD",59650]
["WATTWILLER",68700,"HAUT RHIN",68359]
["WAVIGNIES",60130,"OISE",60701]
["WAVILLE",54890,"MEURTHE ET MOSELLE",54593]
["WAVRANS SUR L AA",62380,"PAS DE CALAIS",62882]
["WAVRANS SUR TERNOISE",62130,"PAS DE CALAIS",62883]
["WAVRECHAIN SOUS DENAIN",59220,"NORD",59651]
["WAVRECHAIN SOUS FAULX",59111,"NORD",59652]
["WAVRILLE",55150,"MEUSE",55580]
["WAVRIN",59136,"NORD",59653]
["WAZIERS",59119,"NORD",59654]
["WE",8110,"ARDENNES",8918]
["WECKOLSHEIM",68600,"HAUT RHIN",68360]
["WEGSCHEID",68290,"HAUT RHIN",68361]
["WEILER",67160,"BAS RHIN",67942]
["WEINBOURG",67340,"BAS RHIN",67521]
["WEISLINGEN",67290,"BAS RHIN",67522]
["WEITBRUCH",67500,"BAS RHIN",67523]
["WEITERSWILLER",67340,"BAS RHIN",67524]
["WELLES PERENNES",60420,"OISE",60702]
["WEMAERS CAPPEL",59670,"NORD",59655]
["WENTZWILLER",68220,"HAUT RHIN",68362]
["WERENTZHOUSE",68480,"HAUT RHIN",68363]
["WERVICQ SUD",59117,"NORD",59656]
["WESSERLING",68470,"HAUT RHIN",68901]
["WEST CAPPEL",59380,"NORD",59657]
["WESTBECOURT",62380,"PAS DE CALAIS",62884]
["WESTHALTEN",68250,"HAUT RHIN",68364]
["WESTHOFFEN",67310,"BAS RHIN",67525]
["WESTHOUSE",67230,"BAS RHIN",67526]
["WESTHOUSE MARMOUTIER",67440,"BAS RHIN",67527]
["WESTREHEM",62960,"PAS DE CALAIS",62885]
["WETTOLSHEIM",68920,"HAUT RHIN",68365]
["WEYER",67320,"BAS RHIN",67528]
["WEYERSHEIM",67720,"BAS RHIN",67529]
["WICKERSCHWIHR",68320,"HAUT RHIN",68366]
["WICKERSHEIM WILSHAUSSEN",67270,"BAS RHIN",67530]
["WICQUINGHEM",62650,"PAS DE CALAIS",62886]
["WICRES",59134,"NORD",59658]
["WIDEHEM",62630,"PAS DE CALAIS",62887]
["WIDENSOHLEN",68320,"HAUT RHIN",68367]
["WIEGE FATY",2120,"AISNE",2832]
["WIENCOURT L EQUIPEE",80170,"SOMME",80824]
["WIERRE AU BOIS",62830,"PAS DE CALAIS",62888]
["WIERRE EFFROY",62720,"PAS DE CALAIS",62889]
["WIESVILLER",57200,"MOSELLE",57745]
["WIGNEHIES",59212,"NORD",59659]
["WIGNICOURT",8270,"ARDENNES",8500]
["WIHR AU VAL",68230,"HAUT RHIN",68368]
["WIHR EN PLAINE",68180,"HAUT RHIN",68369]
["WILDENSTEIN",68820,"HAUT RHIN",68370]
["WILDERSBACH",67130,"BAS RHIN",67531]
["WILLEMAN",62770,"PAS DE CALAIS",62890]
["WILLEMS",59780,"NORD",59660]
["WILLENCOURT",62390,"PAS DE CALAIS",62891]
["WILLER",68960,"HAUT RHIN",68371]
["WILLER SUR THUR",68760,"HAUT RHIN",68372]
["WILLERONCOURT",55500,"MEUSE",55581]
["WILLERVAL",62580,"PAS DE CALAIS",62892]
["WILLERWALD",57430,"MOSELLE",57746]
["WILLGOTTHEIM",67370,"BAS RHIN",67532]
["WILLIERS",8110,"ARDENNES",8501]
["WILLIES",59740,"NORD",59661]
["WILSHAUSEN",67270,"BAS RHIN",67533]
["WILWISHEIM",67270,"BAS RHIN",67534]
["WIMEREUX",62930,"PAS DE CALAIS",62893]
["WIMILLE",62126,"PAS DE CALAIS",62894]
["WIMMENAU",67290,"BAS RHIN",67535]
["WIMY",2500,"AISNE",2833]
["WINDSTEIN",67110,"BAS RHIN",67536]
["WINGEN",67510,"BAS RHIN",67537]
["WINGEN SUR MODER",67290,"BAS RHIN",67538]
["WINGERSHEIM",67170,"BAS RHIN",67539]
["WINGLES",62410,"PAS DE CALAIS",62895]
["WINKEL",68480,"HAUT RHIN",68373]
["WINNEZEELE",59670,"NORD",59662]
["WINTERSBOURG",57119,"MOSELLE",57747]
["WINTERSHOUSE",67590,"BAS RHIN",67540]
["WINTZENBACH",67470,"BAS RHIN",67541]
["WINTZENHEIM",68920,"HAUT RHIN",68374]
["WINTZENHEIM KOCHERSBERG",67370,"BAS RHIN",67542]
["WINTZFELDEN",68570,"HAUT RHIN",68909]
["WIRWIGNES",62240,"PAS DE CALAIS",62896]
["WIRY AU MONT",80270,"SOMME",80825]
["WISCHES",67130,"BAS RHIN",67543]
["WISEMBACH",88520,"VOSGES",88526]
["WISEPPE",55700,"MEUSE",55582]
["WISMES",62380,"PAS DE CALAIS",62897]
["WISQUES",62219,"PAS DE CALAIS",62898]
["WISSANT",62179,"PAS DE CALAIS",62899]
["WISSEMBOURG",67160,"BAS RHIN",67544]
["WISSIGNICOURT",2320,"AISNE",2834]
["WISSOUS",91320,"ESSONNE",91689]
["WITRY LES REIMS",51420,"MARNE",51662]
["WITTELSHEIM",68310,"HAUT RHIN",68375]
["WITTENHEIM",68270,"HAUT RHIN",68376]
["WITTERNESSE",62120,"PAS DE CALAIS",62900]
["WITTERNHEIM",67230,"BAS RHIN",67545]
["WITTERSDORF",68130,"HAUT RHIN",68377]
["WITTERSHEIM",67670,"BAS RHIN",67546]
["WITTES",62120,"PAS DE CALAIS",62901]
["WITTISHEIM",67820,"BAS RHIN",67547]
["WITTRING",57137,"MOSELLE",57748]
["WIWERSHEIM",67370,"BAS RHIN",67548]
["WIZERNES",62570,"PAS DE CALAIS",62902]
["WOEL",55210,"MEUSE",55583]
["WOELFLING LES SARREGUEMIN",57200,"MOSELLE",57750]
["WOELLENHEIM",67370,"BAS RHIN",67549]
["WOERTH",67360,"BAS RHIN",67550]
["WOIGNARUE",80460,"SOMME",80826]
["WOIMBEY",55300,"MEUSE",55584]
["WOINCOURT",80520,"SOMME",80827]
["WOINVILLE",55300,"MEUSE",55585]
["WOIPPY",57140,"MOSELLE",57751]
["WOIREL",80140,"SOMME",80828]
["WOLFERSDORF",68210,"HAUT RHIN",68378]
["WOLFGANTZEN",68600,"HAUT RHIN",68379]
["WOLFISHEIM",67202,"BAS RHIN",67551]
["WOLFSKIRCHEN",67260,"BAS RHIN",67552]
["WOLFSTHAL",67710,"BAS RHIN",67943]
["WOLSCHHEIM",67700,"BAS RHIN",67553]
["WOLSCHWILLER",68480,"HAUT RHIN",68380]
["WOLXHEIM",67120,"BAS RHIN",67554]
["WORMHOUT",59470,"NORD",59663]
["WOUSTVILLER",57145,"MOSELLE",57752]
["WUENHEIM",68500,"HAUT RHIN",68381]
["WUISSE",57170,"MOSELLE",57753]
["WULVERDINGHE",59143,"NORD",59664]
["WY DIT JOLI VILLAGE",95420,"VAL D'OISE",95690]
["WYLDER",59380,"NORD",59665]
["XAFFEVILLERS",88700,"VOSGES",88527]
["XAINTRAILLES",47230,"LOT ET GARONNE",47327]
["XAINTRAY",79220,"DEUX SEVRES",79357]
["XAMBES",16330,"CHARENTE",16423]
["XAMMES",54470,"MEURTHE ET MOSELLE",54594]
["XAMONTARUPT",88460,"VOSGES",88528]
["XANREY",57630,"MOSELLE",57754]
["XANTON CHASSENON",85240,"VENDEE",85306]
["XARONVAL",88130,"VOSGES",88529]
["XERMAMENIL",54300,"MEURTHE ET MOSELLE",54595]
["XERTIGNY",88220,"VOSGES",88530]
["XEUILLEY",54990,"MEURTHE ET MOSELLE",54596]
["XIROCOURT",54740,"MEURTHE ET MOSELLE",54597]
["XIVRAY ET MARVOISIN",55300,"MEUSE",55586]
["XIVRY CIRCOURT",54490,"MEURTHE ET MOSELLE",54598]
["XOCOURT",57590,"MOSELLE",57755]
["XONRUPT LONGEMER",88400,"VOSGES",88531]
["XONVILLE",54800,"MEURTHE ET MOSELLE",54599]
["XOUAXANGE",57830,"MOSELLE",57756]
["XOUSSE",54370,"MEURTHE ET MOSELLE",54600]
["XURES",54370,"MEURTHE ET MOSELLE",54601]
["Y",80190,"SOMME",80829]
["YAINVILLE",76480,"SEINE MARITIME",76750]
["YATE",98834,"NOUVELLE-CALEDONIE",98832]
["YAUCOURT BUSSUS",80135,"SOMME",80830]
["YCHOUX",40160,"LANDES",40332,"Nouvelle Aquitaine"]
["YDES",15210,"CANTAL",15265]
["YEBLERON",76640,"SEINE MARITIME",76751]
["YEBLES",77390,"SEINE ET MARNE",77534]
["YENNE",73170,"SAVOIE",73330]
["YERMENONVILLE",28130,"EURE ET LOIR",28423]
["YERRES",91330,"ESSONNE",91691]
["YERVILLE",76760,"SEINE MARITIME",76752]
["YEVRE LA VILLE",45300,"LOIRET",45348]
["YEVRE LE CHATEL",45300,"LOIRET",45349]
["YEVRES",28160,"EURE ET LOIR",28424]
["YEVRES LE PETIT",10500,"AUBE",10445]
["YFFINIAC",22120,"COTES D'ARMOR",22389]
["YGOS ST SATURNIN",40110,"LANDES",40333,"Nouvelle Aquitaine"]
["YGRANDE",3160,"ALLIER",3320]
["YMARE",76520,"SEINE MARITIME",76753]
["YMERAY",28320,"EURE ET LOIR",28425]
["YMONVILLE",28150,"EURE ET LOIR",28426]
["YOLET",15130,"CANTAL",15266]
["YONCQ",8210,"ARDENNES",8502]
["YONVAL",80132,"SOMME",80836]
["YOUX",63700,"PUY DE DOME",63471]
["YPORT",76111,"SEINE MARITIME",76754]
["YPREVILLE",76540,"SEINE MARITIME",76900]
["YPREVILLE BIVILLE",76540,"SEINE MARITIME",76755]
["YQUEBEUF",76690,"SEINE MARITIME",76756]
["YQUELON",50400,"MANCHE",50647]
["YRONDE ET BURON",63270,"PUY DE DOME",63472]
["YROUERRE",89700,"YONNE",89486]
["YSSAC LA TOURETTE",63200,"PUY DE DOME",63473]
["YSSANDON",19310,"CORREZE",19289]
["YSSINGEAUX",43200,"HAUTE LOIRE",43268]
["YTRAC",15000,"CANTAL",15267]
["YTRES",62124,"PAS DE CALAIS",62909]
["YUTZ",57110,"MOSELLE",57757]
["YVECRIQUE",76560,"SEINE MARITIME",76757]
["YVERNAUMONT",8430,"ARDENNES",8503]
["YVERSAY",86170,"VIENNE",86300]
["YVES",17340,"CHARENTE MARITIME",17483]
["YVETOT",76190,"SEINE MARITIME",76758]
["YVETOT BOCAGE",50700,"MANCHE",50648]
["YVIAS",22930,"COTES D'ARMOR",22390]
["YVIERS",16210,"CHARENTE",16424]
["YVIGNAC",22350,"COTES D'ARMOR",22391]
["YVILLE SUR SEINE",76530,"SEINE MARITIME",76759]
["YVOIRE",74140,"HAUTE SAVOIE",74315]
["YVOY LE MARRON",41600,"LOIR ET CHER",41297]
["YVRAC",33370,"GIRONDE",33554]
["YVRAC ET MALLEYRAND",16110,"CHARENTE",16425]
["YVRANDES",61800,"ORNE",61513]
["YVRE L EVEQUE",72530,"SARTHE",72386]
["YVRE LE POLIN",72330,"SARTHE",72385]
["YVRENCH",80150,"SOMME",80832]
["YVRENCHEUX",80150,"SOMME",80833]
["YZENGREMER",80520,"SOMME",80834]
["YZERNAY",49360,"MAINE ET LOIRE",49381]
["YZERON",69510,"RHONE",69269]
["YZEURE",3400,"ALLIER",3321]
["YZEURES SUR CREUSE",37290,"INDRE ET LOIRE",37282]
["YZEUX",80310,"SOMME",80835]
["YZOSSE",40180,"LANDES",40334,"Nouvelle Aquitaine"]
["ZAESSINGUE",68130,"HAUT RHIN",68382]
["ZALANA",20272,"CORSE",20356]
["ZARBELING",57340,"MOSELLE",57759]
["ZEGERSCAPPEL",59470,"NORD",59666]
["ZEHNACKER",67310,"BAS RHIN",67555]
["ZEINHEIM",67310,"BAS RHIN",67556]
["ZELLENBERG",68340,"HAUT RHIN",68383]
["ZELLWILLER",67140,"BAS RHIN",67557]
["ZERMEZEELE",59670,"NORD",59667]
["ZERUBIA",20116,"CORSE",20357]
["ZETTING",57115,"MOSELLE",57760]
["ZEVACO",20173,"CORSE",20358]
["ZICAVO",20132,"CORSE",20359]
["ZIGLIARA",20190,"CORSE",20360]
["ZILIA",20214,"CORSE",20361]
["ZILLING",57370,"MOSELLE",57761]
["ZILLISHEIM",68720,"HAUT RHIN",68384]
["ZIMMERBACH",68230,"HAUT RHIN",68385]
["ZIMMERSHEIM",68440,"HAUT RHIN",68386]
["ZIMMING",57690,"MOSELLE",57762]
["ZINCOURT",88330,"VOSGES",88532]
["ZINSWILLER",67110,"BAS RHIN",67558]
["ZITTERSHEIM",67290,"BAS RHIN",67559]
["ZOEBERSDORF",67270,"BAS RHIN",67560]
["ZOLLINGEN",67260,"BAS RHIN",67561]
["ZOMMANGE",57260,"MOSELLE",57763]
["ZONZA",20124,"CORSE",20362]
["ZORNHOF",67700,"BAS RHIN",67944]
["ZORNTHAL",67700,"BAS RHIN",67945]
["ZOTEUX",62650,"PAS DE CALAIS",62903]
["ZOUAFQUES",62890,"PAS DE CALAIS",62904]
["ZOUFFTGEN",57330,"MOSELLE",57764]
["ZOZA",20112,"CORSE",20363]
["ZUANI",20272,"CORSE",20364]
["ZUDAUSQUES",62500,"PAS DE CALAIS",62905]
["ZUTKERQUE",62370,"PAS DE CALAIS",62906]
["ZUTZENDORF",67330,"BAS RHIN",67562]
["ZUYDCOOTE",59123,"NORD",59668]
["ZUYTPEENE",59670,"NORD",59669]
[false,8270,"ARDENNES",8165]
[false,24560,"DORDOGNE",24177]

{"sheet":"Planche de vol","index":10,"n_rows":196,"n_cols":59,"rows_kept":196,"cut":false,"hidden":true,"merged":[[154,2,154,13],[0,2,0,13],[0,21,0,33],[4,2,4,5],[4,6,4,9],[4,10,4,12],[153,2,153,13]]}
[null,null,"VOL A VOILE",null,null,null,null,null,null,null,null,null,null,null,null,null,"liste Déroulante","Critères","Extraction","Nb Date",null,"Zone critère extraction lignes"]
[null,null,null,null,null,null,null,null,null,null,null,"SEANCE DE VOL DU:",null,null,null,null,"APERCU","Date","Date",{"$f":"COUNTA(S3:S313)","v":1},null,"Date","TYPE","IMMAT","PILOTE","INSTRUCTEUR OU PAX","HEURE DECOLLAGE","HEURE ATT","DUREE DU VOL","Type de vol","T ou R","TREUIL","CENTIEME","EPREUVES ET CIRCUITS KMS PARCOURUS"," "]
[null,null,"AERO-CLUB D'AIRE SUR L'ADOUR",null,null,null,null,null,null,null,null,null,null,null,null,null,"IMPRESSION",">0","2017-10-31",null,null,"2017-11-01"]
[null,null,null,null,null,null,null,null,null,null,null,null,null,null,null,null,"IMP RECAP"]
[null,null,"PLANEUR",null,null,null,"DUREE ET VENTILATION",null,null,null,"TREUIL OU REMORQUEUR",null,null,"OBSERVATIONS",null,null,1]
[null,"Date","TYPE","IMMAT","PILOTE","INSTRUCTEUR OU PAX","HEURE DECOLLAGE","HEURE ATT","DUREE DU VOL","Type de vol","T\n ou R","TREUIL","CENTIE,","EPREUVES ET CIRCUITS KMS PARCOURUS",null,null,null,null,null,null,null,null,null,null,null,null,null,null,null,null,null,null,null,null,null,null,null,null,null,null,null,null,null,null,null,null,null,null,null,null,null,null,null,"PILOTE","TREUIL","CENTIEME"]
[null,"2014-11-10","JANUS B",null,"FERDINAND   bernard","a   bill",0.58333333333333304,0.70833333333333304,{"$f":"SUM(H7)-G7","v":0.125},null,"t",1,18,"50/50",null,null,null,null,null,null,null,null,null,null,null,null,null,null,null,null,null,null,null,null,null,null,null,null,null,null,null,null,null,null,null,null,null,null,null,null,null,null,null,"FERDINAND   bernard",{"$f":"SUM(($E$7:$E$150=BB7)*($L$7:$L$150))","v":1},{"$f":"SUM(($E$7:$E$150=BB7)*($M$7:$M$150))","v":34}]
[null,"2014-11-11","JANUS B",null,"a   bill",null,0.5,0.70833333333333304,{"$f":"SUM(H8)-G8","v":0.20833333333333301},null,null,1,16,null,null,null,null,null,null,null,null,null,null,null,null,null,null,null,null,null,null,null,null,null,null,null,null,null,null,null,null,null,null,null,null,null,null,null,null,null,null,null,null,"toto   toto",{"$f":"SUM(($E$7:$E$150=BB8)*($L$7:$L$150))","v":2},{"$f":"SUM(($E$7:$E$150=BB8)*($M$7:$M$150))","v":20},{"$f":"SUM(($E$7:$E$150=BB8)*($L$7:$L$150))","v":2}]
[null,"2014-11-12",null,null,"FERDINAND   bernard",null,"14:10:00",0.72916666666666696,{"$f":"SUM(H9)-G9","v":0.13888888888888901},null,null,2,16,null,null,null,null,null,null,null,null,null,null,null,null,null,null,null,null,null,null,null,null,null,null,null,null,null,null,null,null,null,null,null,null,null,null,null,null,null,null,null,null,"titi   titi",{"$f":"SUM(($E$7:$E$150=BB9)*($L$7:$L$150))","v":1},{"$f":"SUM(($E$7:$E$150=BB9)*($M$7:$M$150))","v":0}]
[null,null,null,{"$f":"IF(C10=\"\",\"\",VLOOKUP(C10,Immat,2,FALSE))","v":""},"toto   toto","FERDINAND   bernard",0.50694444444444398,0.75694444444444497,{"$f":"SUM(H10)-G10","v":0.250000000000001},null,null,2,20,null,null,null,null,null,null,null,null,null,null,null,null,null,null,null,null,null,null,null,null,null,null,null,null,null,null,null,null,null,null,null,null,null,null,null,null,null,null,null,null,"a   bill",{"$f":"SUM(($E$7:$E$150=BB10)*($L$7:$L$150))","v":1},{"$f":"SUM(($E$7:$E$150=BB10)*($M$7:$M$150))","v":16}]
[null,null,null,"","titi   titi",null,null,null,0,null,null,1,null,null,null,null,null,null,null,null,null,null,null,null,null,null,null,null,null,null,null,null,null,null,null,null,null,null,null,null,null,null,null,null,null,null,null,null,null,null,null,null,null,"roro   roro",{"$f":"SUM(($E$7:$E$150=BB11)*($L$7:$L$150))","v":1},{"$f":"SUM(($E$7:$E$150=BB11)*($M$7:$M$150))","v":0}]
[null,null,null,"","roro   roro",null,null,null,0,null,null,1,null,null,null,null,null,null,null,null,null,null,null,null,null,null,null,null,null,null,null,null,null,null,null,null,null,null,null,null,null,null,null,null,null,null,null,null,null,null,null,null,null,"a   f",{"$f":"SUM(($E$7:$E$150=BB12)*($L$7:$L$150))","v":0},{"$f":"SUM(($E$7:$E$150=BB12)*($M$7:$M$150))","v":0}]
[null,null,null,"",null,null,null,null,0,null,null,null,null,null,null,null,null,null,null,null,null,null,null,null,null,null,null,null,null,null,null,null,null,null,null,null,null,null,null,null,null,null,null,null,null,null,null,null,null,null,null,null,null,null,{"$f":"SUM(($E$7:$E$150=BB13)*($L$7:$L$150))","v":0},{"$f":"SUM(($E$7:$E$150=BB13)*($M$7:$M$150))","v":0}]
[null,null,null,"",null,null,null,null,0,null,null,null,null,null,null,null,null,null,null,null,null,null,null,null,null,null,null,null,null,null,null,null,null,null,null,null,null,null,null,null,null,null,null,null,null,null,null,null,null,null,null,null,null,null,{"$f":"SUM(($E$7:$E$150=BB14)*($L$7:$L$150))","v":0},{"$f":"SUM(($E$7:$E$150=BB14)*($M$7:$M$150))","v":0}]
[null,null,null,"",null,null,null,null,0,null,null,null,null,null,null,null,null,null,null,null,null,null,null,null,null,null,null,null,null,null,null,null,null,null,null,null,null,null,null,null,null,null,null,null,null,null,null,null,null,null,null,null,null,null,{"$f":"SUM(($E$7:$E$150=BB15)*($L$7:$L$150))","v":0},{"$f":"SUM(($E$7:$E$150=BB15)*($M$7:$M$150))","v":0},null,null,{"$f":"SUM(BC15:BF15)","v":0}]
[null,null,null,"",null,null,null,null,0,null,null,null,null,null,null,null,null,null,null,null,null,null,null,null,null,null,null,null,null,null,null,null,null,null,null,null,null,null,null,null,null,null,null,null,null,null,null,null,null,null,null,null,null,null,{"$f":"SUM(($E$7:$E$150=BB16)*($L$7:$L$150))","v":0},{"$f":"SUM(($E$7:$E$150=BB16)*($M$7:$M$150))","v":0}]
[null,null,null,"",null,null,null,null,0,null,null,null,null,null,null,null,null,null,null,null,null,null,null,null,null,null,null,null,null,null,null,null,null,null,null,null,null,null,null,null,null,null,null,null,null,null,null,null,null,null,null,null,null,null,{"$f":"SUM(($E$7:$E$150=BB17)*($L$7:$L$150))","v":0},{"$f":"SUM(($E$7:$E$150=BB17)*($M$7:$M$150))","v":0}]
[null,null,null,"",null,null,null,null,0,null,null,null,null,null,null,null,null,null,null,null,null,null,null,null,null,null,null,null,null,null,null,null,null,null,null,null,null,null,null,null,null,null,null,null,null,null,null,null,null,null,null,null,null,null,{"$f":"SUM(($E$7:$E$150=BB18)*($L$7:$L$150))","v":0},{"$f":"SUM(($E$7:$E$150=BB18)*($M$7:$M$150))","v":0}]
[null,null,null,"",null,null,null,null,0,null,null,null,null,null,null,null,null,null,null,null,null,null,null,null,null,null,null,null,null,null,null,null,null,null,null,null,null,null,null,null,null,null,null,null,null,null,null,null,null,null,null,null,null,null,{"$f":"SUM(($E$7:$E$150=BB19)*($L$7:$L$150))","v":0},{"$f":"SUM(($E$7:$E$150=BB19)*($M$7:$M$150))","v":0}]
[null,null,null,"",null,null,null,null,0,null,null,null,null,null,null,null,null,null,null,null,null,null,null,null,null,null,null,null,null,null,null,null,null,null,null,null,null,null,null,null,null,null,null,null,null,null,null,null,null,null,null,null,null,null,{"$f":"SUM(($E$7:$E$150=BB20)*($L$7:$L$150))","v":0},{"$f":"SUM(($E$7:$E$150=BB20)*($M$7:$M$150))","v":0}]
[null,null,null,"",null,null,null,null,0,null,null,null,null,null,null,null,null,null,null,null,null,null,null,null,null,null,null,null,null,null,null,null,null,null,null,null,null,null,null,null,null,null,null,null,null,null,null,null,null,null,null,null,null,null,{"$f":"SUM(($E$7:$E$150=BB21)*($L$7:$L$150))","v":0},{"$f":"SUM(($E$7:$E$150=BB21)*($M$7:$M$150))","v":0}]
[null,null,null,"",null,null,null,null,0,null,null,null,null,null,null,null,null,null,null,null,null,null,null,null,null,null,null,null,null,null,null,null,null,null,null,null,null,null,null,null,null,null,null,null,null,null,null,null,null,null,null,null,null,null,{"$f":"SUM(($E$7:$E$150=BB22)*($L$7:$L$150))","v":0},{"$f":"SUM(($E$7:$E$150=BB22)*($M$7:$M$150))","v":0}]
[null,null,null,"",null,null,null,null,0,null,null,null,null,null,null,null,null,null,null,null,null,null,null,null,null,null,null,null,null,null,null,null,null,null,null,null,null,null,null,null,null,null,null,null,null,null,null,null,null,null,null,null,null,null,{"$f":"SUM(($E$7:$E$150=BB23)*($L$7:$L$150))","v":0},{"$f":"SUM(($E$7:$E$150=BB23)*($M$7:$M$150))","v":0}]
[null,null,null,"",null,null,null,null,0,null,null,null,null,null,null,null,null,null,null,null,null,null,null,null,null,null,null,null,null,null,null,null,null,null,null,null,null,null,null,null,null,null,null,null,null,null,null,null,null,null,null,null,null,null,{"$f":"SUM(($E$7:$E$150=BB24)*($L$7:$L$150))","v":0},{"$f":"SUM(($E$7:$E$150=BB24)*($M$7:$M$150))","v":0}]
[null,null,null,"",null,null,null,null,0,null,null,null,null,null,null,null,null,null,null,null,null,null,null,null,null,null,null,null,null,null,null,null,null,null,null,null,null,null,null,null,null,null,null,null,null,null,null,null,null,null,null,null,null,null,{"$f":"SUM(($E$7:$E$150=BB25)*($L$7:$L$150))","v":0},{"$f":"SUM(($E$7:$E$150=BB25)*($M$7:$M$150))","v":0}]
[null,null,null,"",null,null,null,null,0,null,null,null,null,null,null,null,null,null,null,null,null,null,null,null,null,null,null,null,null,null,null,null,null,null,null,null,null,null,null,null,null,null,null,null,null,null,null,null,null,null,null,null,null,null,{"$f":"SUM(($E$7:$E$150=BB26)*($L$7:$L$150))","v":0},{"$f":"SUM(($E$7:$E$150=BB26)*($M$7:$M$150))","v":0}]
[null,null,null,"",null,null,null,null,0,null,null,null,null,null,null,null,null,null,null,null,null,null,null,null,null,null,null,null,null,null,null,null,null,null,null,null,null,null,null,null,null,null,null,null,null,null,null,null,null,null,null,null,null,null,{"$f":"SUM(($E$7:$E$150=BB27)*($L$7:$L$150))","v":0},{"$f":"SUM(($E$7:$E$150=BB27)*($M$7:$M$150))","v":0}]
[null,null,null,"",null,null,null,null,0,null,null,null,null,null,null,null,null,null,null,null,null,null,null,null,null,null,null,null,null,null,null,null,null,null,null,null,null,null,null,null,null,null,null,null,null,null,null,null,null,null,null,null,null,null,{"$f":"SUM(($E$7:$E$150=BB28)*($L$7:$L$150))","v":0},{"$f":"SUM(($E$7:$E$150=BB28)*($M$7:$M$150))","v":0}]
[null,null,null,"",null,null,null,null,0,null,null,null,null,null,null,null,null,null,null,null,null,null,null,null,null,null,null,null,null,null,null,null,null,null,null,null,null,null,null,null,null,null,null,null,null,null,null,null,null,null,null,null,null,null,{"$f":"SUM(($E$7:$E$150=BB29)*($L$7:$L$150))","v":0},{"$f":"SUM(($E$7:$E$150=BB29)*($M$7:$M$150))","v":0}]
[null,null,null,"",null,null,null,null,0,null,null,null,null,null,null,null,null,null,null,null,null,null,null,null,null,null,null,null,null,null,null,null,null,null,null,null,null,null,null,null,null,null,null,null,null,null,null,null,null,null,null,null,null,null,{"$f":"SUM(($E$7:$E$150=BB30)*($L$7:$L$150))","v":0},{"$f":"SUM(($E$7:$E$150=BB30)*($M$7:$M$150))","v":0}]
[null,null,null,"",null,null,null,null,0,null,null,null,null,null,null,null,null,null,null,null,null,null,null,null,null,null,null,null,null,null,null,null,null,null,null,null,null,null,null,null,null,null,null,null,null,null,null,null,null,null,null,null,null,null,{"$f":"SUM(($E$7:$E$150=BB31)*($L$7:$L$150))","v":0},{"$f":"SUM(($E$7:$E$150=BB31)*($M$7:$M$150))","v":0}]
[null,null,null,"",null,null,null,null,0,null,null,null,null,null,null,null,null,null,null,null,null,null,null,null,null,null,null,null,null,null,null,null,null,null,null,null,null,null,null,null,null,null,null,null,null,null,null,null,null,null,null,null,null,null,{"$f":"SUM(($E$7:$E$150=BB32)*($L$7:$L$150))","v":0},{"$f":"SUM(($E$7:$E$150=BB32)*($M$7:$M$150))","v":0}]
[null,null,null,"",null,null,null,null,0,null,null,null,null,null,null,null,null,null,null,null,null,null,null,null,null,null,null,null,null,null,null,null,null,null,null,null,null,null,null,null,null,null,null,null,null,null,null,null,null,null,null,null,null,null,{"$f":"SUM(($E$7:$E$150=BB33)*($L$7:$L$150))","v":0},{"$f":"SUM(($E$7:$E$150=BB33)*($M$7:$M$150))","v":0}]
[null,null,null,"",null,null,null,null,0,null,null,null,null,null,null,null,null,null,null,null,null,null,null,null,null,null,null,null,null,null,null,null,null,null,null,null,null,null,null,null,null,null,null,null,null,null,null,null,null,null,null,null,null,null,{"$f":"SUM(($E$7:$E$150=BB34)*($L$7:$L$150))","v":0},{"$f":"SUM(($E$7:$E$150=BB34)*($M$7:$M$150))","v":0}]
[null,null,null,"",null,null,null,null,0,null,null,null,null,null,null,null,null,null,null,null,null,null,null,null,null,null,null,null,null,null,null,null,null,null,null,null,null,null,null,null,null,null,null,null,null,null,null,null,null,null,null,null,null,null,{"$f":"SUM(($E$7:$E$150=BB35)*($L$7:$L$150))","v":0},{"$f":"SUM(($E$7:$E$150=BB35)*($M$7:$M$150))","v":0}]
[null,null,null,"",null,null,null,null,0,null,null,null,null,null,null,null,null,null,null,null,null,null,null,null,null,null,null,null,null,null,null,null,null,null,null,null,null,null,null,null,null,null,null,null,null,null,null,null,null,null,null,null,null,null,{"$f":"SUM(($E$7:$E$150=BB36)*($L$7:$L$150))","v":0},{"$f":"SUM(($E$7:$E$150=BB36)*($M$7:$M$150))","v":0}]
[null,null,null,"",null,null,null,null,0,null,null,null,null,null,null,null,null,null,null,null,null,null,null,null,null,null,null,null,null,null,null,null,null,null,null,null,null,null,null,null,null,null,null,null,null,null,null,null,null,null,null,null,null,null,{"$f":"SUM(($E$7:$E$150=BB37)*($L$7:$L$150))","v":0},{"$f":"SUM(($E$7:$E$150=BB37)*($M$7:$M$150))","v":0}]
[null,null,null,"",null,null,null,null,0,null,null,null,null,null,null,null,null,null,null,null,null,null,null,null,null,null,null,null,null,null,null,null,null,null,null,null,null,null,null,null,null,null,null,null,null,null,null,null,null,null,null,null,null,null,{"$f":"SUM(($E$7:$E$150=BB38)*($L$7:$L$150))","v":0},{"$f":"SUM(($E$7:$E$150=BB38)*($M$7:$M$150))","v":0}]
[null,null,null,"",null,null,null,null,0,null,null,null,null,null,null,null,null,null,null,null,null,null,null,null,null,null,null,null,null,null,null,null,null,null,null,null,null,null,null,null,null,null,null,null,null,null,null,null,null,null,null,null,null,null,{"$f":"SUM(($E$7:$E$150=BB39)*($L$7:$L$150))","v":0},{"$f":"SUM(($E$7:$E$150=BB39)*($M$7:$M$150))","v":0}]
[null,null,null,{"$f":"IF(C40=\"\",\"\",VLOOKUP(C40,Immat,2,FALSE))","v":""},null,null,null,null,0]
[null,null,null,"",null,null,null,null,0]
[null,null,null,"",null,null,null,null,0]
[null,null,null,"",null,null,null,null,0]
[null,null,null,"",null,null,null,null,0]
[null,null,null,"",null,null,null,null,0]
[null,null,null,"",null,null,null,null,0]
[null,null,null,"",null,null,null,null,0]
[null,null,null,"",null,null,null,null,0]
[null,null,null,"",null,null,null,null,0]
[null,null,null,"",null,null,null,null,0]
[null,null,null,"",null,null,null,null,0]
[null,null,null,"",null,null,null,null,0]
[null,null,null,"",null,null,null,null,0]
[null,null,null,"",null,null,null,null,0]
[null,null,null,"",null,null,null,null,0]
[null,null,null,"",null,null,null,null,0]
[null,null,null,"",null,null,null,null,0]
[null,null,null,"",null,null,null,null,0]
[null,null,null,"",null,null,null,null,0]
[null,null,null,"",null,null,null,null,0]
[null,null,null,"",null,null,null,null,0]
[null,null,null,"",null,null,null,null,0]
[null,null,null,"",null,null,null,null,0]
[null,null,null,"",null,null,null,null,0]
[null,null,null,"",null,null,null,null,0]
[null,null,null,"",null,null,null,null,0]
[null,null,null,"",null,null,null,null,0]
[null,null,null,"",null,null,null,null,0]
[null,null,null,"",null,null,null,null,0]
[null,null,null,"",null,null,null,null,0]
[null,null,null,{"$f":"IF(C71=\"\",\"\",VLOOKUP(C71,Immat,2,FALSE))","v":""},null,null,null,null,0]
[null,null,null,"",null,null,null,null,0]
[null,null,null,"",null,null,null,null,0]
[null,null,null,"",null,null,null,null,{"$f":"SUM(H74)-G74","v":0}]
[null,null,null,"",null,null,null,null,0]
[null,null,null,"",null,null,null,null,0]
[null,null,null,"",null,null,null,null,0]
[null,null,null,"",null,null,null,null,0]
[null,null,null,"",null,null,null,null,0]
[null,null,null,"",null,null,null,null,0]
[null,null,null,"",null,null,null,null,0]
[null,null,null,"",null,null,null,null,0]
[null,null,null,"",null,null,null,null,0]
[null,null,null,"",null,null,null,null,0]
[null,null,null,"",null,null,null,null,0]
[null,null,null,"",null,null,null,null,0]
[null,null,null,"",null,null,null,null,0]
[null,null,null,"",null,null,null,null,0]
[null,null,null,"",null,null,null,null,0]
[null,null,null,"",null,null,null,null,0]
[null,null,null,"",null,null,null,null,0]
[null,null,null,"",null,null,null,null,0]
[null,null,null,"",null,null,null,null,0]
[null,null,null,"",null,null,null,null,0]
[null,null,null,"",null,null,null,null,0]
[null,null,null,"",null,null,null,null,0]
[null,null,null,"",null,null,null,null,0]
[null,null,null,"",null,null,null,null,0]
[null,null,null,null,null,null,null,null,0]
[null,null,null,null,null,null,null,null,0]
[null,null,null,null,null,null,null,null,0]
[null,null,null,null,null,null,null,null,0]
[null,null,null,null,null,null,null,null,0]
[null,null,null,null,null,null,null,null,0]
[null,null,null,null,null,null,null,null,0]
[null,null,null,null,null,null,null,null,0]
[null,null,null,null,null,null,null,null,0]
[null,null,null,null,null,null,null,null,0]
[null,null,null,null,null,null,null,null,0]
[null,null,null,null,null,null,null,null,0]
[null,null,null,null,null,null,null,null,0]
[null,null,null,null,null,null,null,null,0]
[null,null,null,null,null,null,null,null,0]
[null,null,null,null,null,null,null,null,0]
[null,null,null,null,null,null,null,null,0]
[null,null,null,null,null,null,null,null,0]
[null,null,null,null,null,null,null,null,0]
[null,null,null,null,null,null,null,null,0]
[null,null,null,null,null,null,null,null,0]
[null,null,null,null,null,null,null,null,0]
[null,null,null,null,null,null,null,null,0]
[null,null,null,null,null,null,null,null,0]
[null,null,null,null,null,null,null,null,0]
[null,null,null,null,null,null,null,null,0]
[null,null,null,null,null,null,null,null,0]
[null,null,null,null,null,null,null,null,0]
[null,null,null,null,null,null,null,null,0]
[null,null,null,null,null,null,null,null,0]
[null,null,null,null,null,null,null,null,0]
[null,null,null,null,null,null,null,null,0]
[null,null,null,null,null,null,null,null,0]
[null,null,null,null,null,null,null,null,0]
[null,null,null,null,null,null,null,null,0]
[null,null,null,null,null,null,null,null,0]
[null,null,null,null,null,null,null,null,0]
[null,null,null,null,null,null,null,null,0]
[null,null,null,null,null,null,null,null,0]
[null,null,null,null,null,null,null,null,{"$f":"SUM(H138)-G138","v":0}]
[null,null,null,null,null,null,null,null,0]
[null,null,null,null,null,null,null,null,0]
[null,null,null,null,null,null,null,null,0]
[null,null,null,null,null,null,null,null,0]
[null,null,null,null,null,null,null,null,0]
[null,null,null,null,null,null,null,null,0]
[null,null,null,null,null,null,null,null,0]
[null,null,null,null,null,null,null,null,0]
[null,null,null,null,null,null,null,null,0]
[null,null,null,null,null,null,null,null,0]
[null,null,null,null,null,null,null,null,0]
[null,null,null,null,null,null,null,null,0]
[]
[]
[]
[null,null,"STAGE LUCHON AUTONNE  2013"]
[null,null,"TEMPS DE VOL TOTAL STAGE"]
[]
[null,null,null,null,null,"TEMPS DE VOL PAR PILOTE",null,null,null,"TEMPS DE VOL PAR MACHINE"]
[null,null,null,null,null,"Pilotes","Solo","Dbc OU \nPax",null,null,"Machines","Immat"]
[null,null,null,null,null,"FERDINAND   bernard",{"$f":"SUMIF(E7:E150,F159,I7:I150)","v":0.26388888888888901},{"$f":"SUMIF(F7:F150,F159,I7:I150)","v":0.250000000000001},null,null,{"$f":"[2]Fichiers!A2","v":"JANUS B"},{"$f":"[2]Fichiers!B2","v":"F-CEPR"},{"$f":"SUMIF(C7:C150,K159,I7:I150)","v":0.33333333333333298}]
[null,null,null,null,null,"a   bill",{"$f":"SUMIF(E7:E150,F160,I7:I150)","v":0.20833333333333301},{"$f":"SUMIF(F7:F150,F160,I7:I150)","v":0.125},null,null,{"$f":"[2]Fichiers!A3","v":"LIBELLE"},{"$f":"[2]Fichiers!B3","v":"F-CELG"},{"$f":"SUMIF(C7:C150,K160,I7:I150)","v":0}]
[null,null,null,null,null,{"$f":"[2]Fichiers!E4","v":0},{"$f":"SUMIF(E7:E150,F161,I7:I150)","v":0},{"$f":"SUMIF(F7:F150,F161,I7:I150)","v":0},null,null,{"$f":"[2]Fichiers!A4","v":"LS7"},{"$f":"[2]Fichiers!B4","v":"F-CGYE"},{"$f":"SUMIF(C7:C150,K161,I7:I150)","v":0}]
[null,null,null,null,null,{"$f":"[2]Fichiers!E5","v":0},{"$f":"SUMIF(E7:E150,F162,I7:I150)","v":0},{"$f":"SUMIF(F7:F150,F162,I7:I150)","v":0},null,null,{"$f":"[2]Fichiers!A5","v":"PEGASE"},{"$f":"[2]Fichiers!B5","v":"F-CHEU"},{"$f":"SUMIF(C7:C150,K162,I7:I150)","v":0}]
[null,null,null,null,null,{"$f":"[2]Fichiers!E6","v":0},{"$f":"SUMIF(E7:E150,F163,I7:I150)","v":0},{"$f":"SUMIF(F7:F150,F163,I7:I150)","v":0},null,null,{"$f":"[2]Fichiers!A6","v":"ASTIR"},{"$f":"[2]Fichiers!B6","v":"F-CECC"},{"$f":"SUMIF(C7:C150,K163,I7:I150)","v":0}]
[null,null,null,null,null,{"$f":"[2]Fichiers!E7","v":0},{"$f":"SUMIF(E7:E150,F164,I7:I150)","v":0},{"$f":"SUMIF(F7:F150,F164,I7:I150)","v":0},null,null,{"$f":"[2]Fichiers!A7","v":"CIRRUS"},{"$f":"[2]Fichiers!B7","v":"F-CFDA"},{"$f":"SUMIF(C7:C150,K164,I7:I150)","v":0}]
[null,null,null,null,null,{"$f":"[2]Fichiers!E8","v":0},{"$f":"SUMIF(E7:E150,F165,I7:I150)","v":0},{"$f":"SUMIF(F7:F150,F165,I7:I150)","v":0},null,null,{"$f":"[2]Fichiers!A8","v":"TWIN"},{"$f":"[2]Fichiers!B8","v":"F-CFYB"},{"$f":"SUMIF(C7:C150,K165,I7:I150)","v":0}]
[null,null,null,null,null,{"$f":"[2]Fichiers!E9","v":0},{"$f":"SUMIF(E7:E150,F166,I7:I150)","v":0},{"$f":"SUMIF(F7:F150,F166,I7:I150)","v":0},null,null,{"$f":"[2]Fichiers!A9","v":"ASK"},{"$f":"[2]Fichiers!B9","v":"F-CDCY"},{"$f":"SUMIF(C7:C150,K166,I7:I150)","v":0}]
[null,null,null,null,null,{"$f":"[2]Fichiers!E10","v":0},{"$f":"SUMIF(E7:E150,F167,I7:I150)","v":0},{"$f":"SUMIF(F7:F150,F167,I7:I150)","v":0},null,null,{"$f":"[2]Fichiers!A10","v":"JANUS C"},{"$f":"[2]Fichiers!B10","v":"F-C"},{"$f":"SUMIF(C7:C150,K167,I7:I150)","v":0}]
[null,null,null,null,null,{"$f":"[2]Fichiers!E11","v":0},{"$f":"SUMIF(E7:E150,F168,I7:I150)","v":0},{"$f":"SUMIF(F7:F150,F168,I7:I150)","v":0},null,null,{"$f":"[2]Fichiers!A11","v":0},{"$f":"[2]Fichiers!B11","v":0}]
[null,null,null,null,null,{"$f":"[2]Fichiers!E12","v":0},{"$f":"SUMIF(E7:E150,F169,I7:I150)","v":0},{"$f":"SUMIF(F7:F150,F169,I7:I150)","v":0},null,null,{"$f":"[2]Fichiers!A12","v":0},{"$f":"[2]Fichiers!B12","v":0}]
[null,null,null,null,null,{"$f":"[2]Fichiers!E13","v":0},{"$f":"SUMIF(E7:E150,F170,I7:I150)","v":0},{"$f":"SUMIF(F7:F150,F170,I7:I150)","v":0},null,null,{"$f":"[2]Fichiers!A13","v":0},{"$f":"[2]Fichiers!B13","v":0}]
[null,null,null,null,null,{"$f":"[2]Fichiers!E14","v":0},{"$f":"SUMIF(E7:E150,F171,I7:I150)","v":0},{"$f":"SUMIF(F7:F150,F171,I7:I150)","v":0},null,null,{"$f":"[2]Fichiers!A14","v":0},{"$f":"[2]Fichiers!B14","v":0}]
[null,null,null,null,null,{"$f":"[2]Fichiers!E15","v":0},{"$f":"SUMIF(E7:E150,F172,I7:I150)","v":0},{"$f":"SUMIF(F7:F150,F172,I7:I150)","v":0},null,null,{"$f":"[2]Fichiers!A15","v":0},{"$f":"[2]Fichiers!B15","v":0}]
[null,null,null,null,null,{"$f":"[2]Fichiers!E16","v":0},{"$f":"SUMIF(E7:E150,F173,I7:I150)","v":0},{"$f":"SUMIF(F7:F150,F173,I7:I150)","v":0},null,null,{"$f":"[2]Fichiers!A16","v":0},{"$f":"[2]Fichiers!B16","v":0}]
[null,null,null,null,null,{"$f":"[2]Fichiers!E17","v":0},{"$f":"SUMIF(E7:E156,F174,I7:I156)","v":0},{"$f":"SUMIF(F7:F150,F174,I7:I150)","v":0},null,null,{"$f":"[2]Fichiers!A17","v":0},{"$f":"[2]Fichiers!B17","v":0}]
[null,null,null,null,null,{"$f":"[2]Fichiers!E18","v":0},{"$f":"SUMIF(E7:E150,F175,I7:I150)","v":0},{"$f":"SUMIF(F7:F150,F175,I7:I150)","v":0},null,null,{"$f":"[2]Fichiers!A18","v":0},{"$f":"[2]Fichiers!B18","v":0}]
[null,null,null,null,null,{"$f":"[2]Fichiers!E19","v":0},{"$f":"SUMIF(E8:E151,F176,I8:I151)","v":0},{"$f":"SUMIF(F8:F151,F176,I8:I151)","v":0},null,null,{"$f":"[2]Fichiers!A19","v":0},{"$f":"[2]Fichiers!B19","v":0}]
[null,null,null,null,null,{"$f":"[2]Fichiers!E20","v":0},0,{"$f":"SUMIF(F9:F152,F177,I9:I152)","v":0},null,null,{"$f":"[2]Fichiers!A20","v":0},{"$f":"[2]Fichiers!B20","v":0}]
[null,null,null,null,null,{"$f":"[2]Fichiers!E21","v":0},0,{"$f":"SUMIF(F8:F153,F178,I10:I153)","v":0},null,null,{"$f":"[2]Fichiers!A21","v":0},{"$f":"[2]Fichiers!B21","v":0}]
[null,null,null,null,null,{"$f":"[2]Fichiers!E22","v":0},0,0,null,null,{"$f":"[2]Fichiers!A22","v":0},{"$f":"[2]Fichiers!B22","v":0}]
[null,null,null,null,null,{"$f":"[2]Fichiers!E23","v":0},0,0,null,null,{"$f":"[2]Fichiers!A23","v":0},{"$f":"[2]Fichiers!B23","v":0}]
[null,null,null,null,null,{"$f":"[2]Fichiers!E24","v":0},0,0,null,null,{"$f":"[2]Fichiers!A24","v":0},{"$f":"[2]Fichiers!B24","v":0}]
[null,null,null,null,null,{"$f":"[2]Fichiers!E25","v":0},0,0,null,null,{"$f":"[2]Fichiers!A25","v":0},{"$f":"[2]Fichiers!B25","v":0}]
[null,null,null,null,null,{"$f":"[2]Fichiers!E26","v":0},0,0,null,null,{"$f":"[2]Fichiers!A26","v":0},{"$f":"[2]Fichiers!B26","v":0}]
[null,null,null,null,null,{"$f":"[2]Fichiers!E27","v":0},0,0,null,null,{"$f":"[2]Fichiers!A27","v":0},{"$f":"[2]Fichiers!B27","v":0}]
[null,null,null,null,null,{"$f":"[2]Fichiers!E28","v":0},0,0,null,null,{"$f":"[2]Fichiers!A28","v":0},{"$f":"[2]Fichiers!B28","v":0}]
[null,null,null,null,null,{"$f":"[2]Fichiers!E29","v":0},0,0,null,null,{"$f":"[2]Fichiers!A29","v":0},{"$f":"[2]Fichiers!B29","v":0}]
[null,null,null,null,null,{"$f":"[2]Fichiers!E30","v":0},0,0,null,null,{"$f":"[2]Fichiers!A30","v":0},{"$f":"[2]Fichiers!B30","v":0}]
[null,null,null,null,null,{"$f":"[2]Fichiers!E31","v":0},0,0,null,null,{"$f":"[2]Fichiers!A31","v":0},{"$f":"[2]Fichiers!B31","v":0}]
[null,null,null,null,null,{"$f":"[2]Fichiers!E32","v":0},0,0,null,null,{"$f":"[2]Fichiers!A32","v":0},{"$f":"[2]Fichiers!B32","v":0}]
[null,null,null,null,null,{"$f":"[2]Fichiers!E33","v":0},0,0,null,null,{"$f":"[2]Fichiers!A33","v":0},{"$f":"[2]Fichiers!B33","v":0}]
[null,null,null,null,null,{"$f":"[2]Fichiers!E34","v":0},0,0,null,null,{"$f":"[2]Fichiers!A34","v":0},{"$f":"[2]Fichiers!B34","v":0}]
[null,null,null,null,null,{"$f":"[2]Fichiers!E35","v":0},0,0,null,null,{"$f":"[2]Fichiers!A35","v":0},{"$f":"[2]Fichiers!B35","v":0}]
[null,null,null,null,null,{"$f":"[2]Fichiers!E36","v":0},0,0,null,null,{"$f":"[2]Fichiers!A36","v":0},{"$f":"[2]Fichiers!B36","v":0}]
[null,null,null,null,null,{"$f":"[2]Fichiers!E37","v":0},0,0,null,null,{"$f":"[2]Fichiers!A37","v":0},{"$f":"[2]Fichiers!B37","v":0}]
[null,null,null,null,null,{"$f":"[2]Fichiers!E38","v":0},0,0,null,null,{"$f":"[2]Fichiers!A38","v":0},{"$f":"[2]Fichiers!B38","v":0}]
[null,null,null,null,null,"Tot,colonne",{"$f":"SUM(G159:G195)","v":0.47222222222222199},{"$f":"SUM(H159:H195)","v":0.375000000000001},null,null,null,null,{"$f":"SUM(M159:M195)","v":0.33333333333333298}]

{"sheet":"Relevé","index":11,"n_rows":49,"n_cols":5,"rows_kept":49,"cut":false,"hidden":true,"merged":[[3,3,3,4],[13,0,13,4],[15,0,15,3],[30,0,30,3],[14,0,14,1]]}
[null,null,null,"Relevé édité le : mardi 19/06/2018"]
[]
[null,null,null,"Nom Prénom du Pilote"]
[null,null,null,"XX  Xx"]
[]
[]
[]
[]
[]
[]
[null,null,null,"Numéro du relevé : ","RE 101599"]
[]
[]
[{"$f":"Parametres!$B$19","v":"Stage vol à voile luchon Automne 2018"}]
[{"$f":"Parametres!AK$3","v":"2018-10-20"},null,{"$f":"IF(Parametres!AK$5=1,\"\",\"au\")","v":"au"},{"$f":"IF(Parametres!AK$3=1,\"\",Parametres!AK$4)","v":"2018-11-04"}]
["Détail Frais Hébergement"]
["Nbr Petit dejeuné",0,"Montant PtDej",0]
["Nbr Repas Midi",8,"Montant Midi",28.8]
["Nbr repas soir",10,"Montant Rep.Soir",51]
["Nbr Nuitées",0,"Montant Nuitées",0]
[]
[null,null,"Total dû",79.8]
[null,null,"Frais engagé pilote",40]
[null,null,"Acompte 1"]
[null,null,"Acompte 2"]
[null,null,"Reste dû"]
[null,null,"Payé le"]
[null,null,"Par"]
[null,null,"Banque"]
[]
["Détail Frais plateforme"]
["Nbr de treuillés-A",null,"Solde treuillés",0]
["Nbr Centiémes-A",null,"Solde Centiéme",0]
["Nbr de treuillés-L",null,"Solde treuillés",0]
["Nbr Centiémes-L",null,"Solde Centiéme",0]
["Nbr Jours Volés",1,"taxtes plateforme",5]
[]
[]
[null,null,"total Dû",5]
[null,null,"Acompte 1"]
[null,null,"Acompte 2"]
[null,null,"Reste Dû"]
[null,null,"Payé le"]
[null,null,"Par"]
[null,null,"Nom Banque"]
[null,null,"N° Chèque"]
[]
[]
[null,null,"Total à Payer",{"$f":"SUM(D42)+D26","v":0}]

{"sheet":"ListeDesRelevés","index":12,"n_rows":3,"n_cols":11,"rows_kept":3,"cut":false,"hidden":true,"merged":[[0,0,0,10],[1,3,1,7],[1,8,1,10]]}
["Relevé de la Consultation des frais du stage par incrits"]
[null,null,null,"Hebergement",null,null,null,null,"Plateforme"]
["N° relevé","Date \nd'édition","Noms prénoms","Total Dû","Dep par \nPilote","Acompte\n Payé","Acompte\n 2","Solde \nDéfinitif","Total Dû","Acompte\npayé","Solde\nDéfinitif"]

{"sheet":"Centiéme heures","index":13,"n_rows":39,"n_cols":6,"rows_kept":39,"cut":false,"hidden":true,"merged":[[1,0,1,5]]}
[]
["Page centiémes"]
[]
[null,"Membres club",1.8,9]
[null,"Prix centiémes",2.2000000000000002,10]
["Noms","Centiémes","Montant","Treuil","Montant","Total"]
[{"$f":"'Planche de vol'!BB7","v":"FERDINAND   bernard"},{"$f":"'Planche de vol'!BD7","v":34},{"$f":"SUM(B7)*C5","v":74.8},{"$f":"'[2]Planche de vol'!BB7","v":0},{"$f":"SUM(D7)*D5","v":0},{"$f":"SUM(C7)+E7","v":74.8}]
[{"$f":"'Planche de vol'!BB8","v":"toto   toto"},{"$f":"'Planche de vol'!BD8","v":20},{"$f":"SUM(B8)*C5","v":44},{"$f":"'[2]Planche de vol'!BB8","v":0},{"$f":"SUM(D8)*D5","v":0},{"$f":"SUM(C8)+E8","v":44}]
[{"$f":"'Planche de vol'!BB9","v":"titi   titi"},{"$f":"'Planche de vol'!BD9","v":0},{"$f":"SUM(B9)*C5","v":0},{"$f":"'[2]Planche de vol'!BB9","v":0},{"$f":"SUM(D9)*D5","v":0},0]
[{"$f":"'Planche de vol'!BB10","v":"a   bill"},{"$f":"'Planche de vol'!BD10","v":16},{"$f":"SUM(B10)*C5","v":35.200000000000003},{"$f":"'[2]Planche de vol'!BB10","v":0},{"$f":"SUM(D10)*D5","v":0},35.200000000000003]
[{"$f":"'Planche de vol'!BB11","v":"roro   roro"},{"$f":"'Planche de vol'!BD11","v":0},{"$f":"SUM(B11)*C5","v":0},{"$f":"'[2]Planche de vol'!BB11","v":0},{"$f":"SUM(D11)*D5","v":0},0]
[{"$f":"'Planche de vol'!BB12","v":"a   f"},{"$f":"'Planche de vol'!BD12","v":0},{"$f":"SUM(B12)*C5","v":0},{"$f":"'[2]Planche de vol'!BB12","v":0},{"$f":"SUM(D12)*D5","v":0},0]
[{"$f":"'Planche de vol'!BB13","v":0},{"$f":"'Planche de vol'!BD13","v":0},{"$f":"SUM(B13)*C5","v":0},{"$f":"'[2]Planche de vol'!BB13","v":0},{"$f":"SUM(D13)*D5","v":0},0]
[{"$f":"'Planche de vol'!BB14","v":0},{"$f":"'Planche de vol'!BD14","v":0},{"$f":"SUM(B14)*C5","v":0},{"$f":"'[2]Planche de vol'!BB14","v":0},{"$f":"SUM(D14)*D5","v":0},0]
[{"$f":"'Planche de vol'!BB15","v":0},{"$f":"'Planche de vol'!BD15","v":0},{"$f":"SUM(B15)*C5","v":0},{"$f":"'[2]Planche de vol'!BB15","v":0},{"$f":"SUM(D15)*D5","v":0},0]
[{"$f":"'Planche de vol'!BB16","v":0},{"$f":"'Planche de vol'!BD16","v":0},{"$f":"SUM(B16)*C5","v":0},{"$f":"'[2]Planche de vol'!BB16","v":0},{"$f":"SUM(D16)*D5","v":0},0]
[{"$f":"'Planche de vol'!BB17","v":0},{"$f":"'Planche de vol'!BD17","v":0},{"$f":"SUM(B17)*C5","v":0},{"$f":"'[2]Planche de vol'!BB17","v":0},{"$f":"SUM(D17)*D5","v":0},0]
[{"$f":"'Planche de vol'!BB18","v":0},{"$f":"'Planche de vol'!BD18","v":0},{"$f":"SUM(B18)*C5","v":0},{"$f":"'[2]Planche de vol'!BB18","v":0},{"$f":"SUM(D18)*D5","v":0},0]
[{"$f":"'Planche de vol'!BB19","v":0},{"$f":"'Planche de vol'!BD19","v":0},{"$f":"SUM(B19)*C5","v":0},{"$f":"'[2]Planche de vol'!BB19","v":0},{"$f":"SUM(D19)*D5","v":0},0]
[{"$f":"'Planche de vol'!BB20","v":0},{"$f":"'Planche de vol'!BD20","v":0},{"$f":"SUM(B20)*C5","v":0},{"$f":"'[2]Planche de vol'!BB20","v":0},{"$f":"SUM(D20)*D5","v":0},0]
[{"$f":"'Planche de vol'!BB21","v":0},{"$f":"'Planche de vol'!BD21","v":0},{"$f":"SUM(B21)*C5","v":0},{"$f":"'[2]Planche de vol'!BB21","v":0},{"$f":"SUM(D21)*D5","v":0},0]
[{"$f":"'Planche de vol'!BB22","v":0},{"$f":"'Planche de vol'!BD22","v":0},{"$f":"SUM(B22)*C5","v":0},{"$f":"'[2]Planche de vol'!BB22","v":0},{"$f":"SUM(D22)*D5","v":0},0]
[{"$f":"'Planche de vol'!BB23","v":0},{"$f":"'Planche de vol'!BD23","v":0},{"$f":"SUM(B23)*C5","v":0},{"$f":"'[2]Planche de vol'!BB23","v":0},{"$f":"SUM(D23)*D5","v":0},0]
[{"$f":"'Planche de vol'!BB24","v":0},{"$f":"'Planche de vol'!BD24","v":0},{"$f":"SUM(B24)*C5","v":0},{"$f":"'[2]Planche de vol'!BB24","v":0},{"$f":"SUM(D24)*D5","v":0},0]
[{"$f":"'Planche de vol'!BB25","v":0},{"$f":"'Planche de vol'!BD25","v":0},{"$f":"SUM(B25)*C5","v":0},{"$f":"'[2]Planche de vol'!BB25","v":0},{"$f":"SUM(D25)*D5","v":0},0]
[{"$f":"'Planche de vol'!BB26","v":0},{"$f":"'Planche de vol'!BD26","v":0},{"$f":"SUM(B26)*C5","v":0},{"$f":"'[2]Planche de vol'!BB26","v":0},{"$f":"SUM(D26)*D5","v":0},0]
[{"$f":"'Planche de vol'!BB27","v":0},{"$f":"'Planche de vol'!BD27","v":0},{"$f":"SUM(B27)*C5","v":0},{"$f":"'[2]Planche de vol'!BB27","v":0},{"$f":"SUM(D27)*D5","v":0},0]
[{"$f":"'Planche de vol'!BB28","v":0},{"$f":"'Planche de vol'!BD28","v":0},{"$f":"SUM(B28)*C5","v":0},{"$f":"'[2]Planche de vol'!BB28","v":0},{"$f":"SUM(D28)*D5","v":0},0]
[{"$f":"'Planche de vol'!BB29","v":0},{"$f":"'Planche de vol'!BD29","v":0},{"$f":"SUM(B29)*C5","v":0},{"$f":"'[2]Planche de vol'!BB29","v":0},{"$f":"SUM(D29)*D5","v":0},0]
[{"$f":"'Planche de vol'!BB30","v":0},{"$f":"'Planche de vol'!BD30","v":0},{"$f":"SUM(B30)*C5","v":0},{"$f":"'[2]Planche de vol'!BB30","v":0},{"$f":"SUM(D30)*D5","v":0},0]
[{"$f":"'Planche de vol'!BB31","v":0},{"$f":"'Planche de vol'!BD31","v":0},{"$f":"SUM(B31)*C5","v":0},{"$f":"'[2]Planche de vol'!BB31","v":0},{"$f":"SUM(D31)*D5","v":0},0]
[{"$f":"'Planche de vol'!BB32","v":0},{"$f":"'Planche de vol'!BD32","v":0},{"$f":"SUM(B32)*C5","v":0},{"$f":"'[2]Planche de vol'!BB32","v":0},{"$f":"SUM(D32)*D5","v":0},0]
[{"$f":"'Planche de vol'!BB33","v":0},{"$f":"'Planche de vol'!BD33","v":0},{"$f":"SUM(B33)*C5","v":0},{"$f":"'[2]Planche de vol'!BB33","v":0},{"$f":"SUM(D33)*D5","v":0},0]
[{"$f":"'Planche de vol'!BB34","v":0},{"$f":"'Planche de vol'!BD34","v":0},{"$f":"SUM(B34)*C5","v":0},{"$f":"'[2]Planche de vol'!BB34","v":0},{"$f":"SUM(D34)*D5","v":0},0]
[{"$f":"'Planche de vol'!BB35","v":0},{"$f":"'Planche de vol'!BD35","v":0},{"$f":"SUM(B35)*C5","v":0},{"$f":"'[2]Planche de vol'!BB35","v":0},{"$f":"SUM(D35)*D5","v":0},0]
[{"$f":"'Planche de vol'!BB36","v":0},{"$f":"'Planche de vol'!BD36","v":0},{"$f":"SUM(B36)*C5","v":0},{"$f":"'[2]Planche de vol'!BB36","v":0},{"$f":"SUM(D36)*D5","v":0},0]
[{"$f":"'Planche de vol'!BB37","v":0},{"$f":"'Planche de vol'!BD37","v":0},{"$f":"SUM(B37)*C5","v":0},{"$f":"'[2]Planche de vol'!BB37","v":0},{"$f":"SUM(D37)*D5","v":0},0]
[{"$f":"'Planche de vol'!BB38","v":0},{"$f":"'Planche de vol'!BD38","v":0},{"$f":"SUM(B38)*C5","v":0},{"$f":"'[2]Planche de vol'!BB38","v":0},{"$f":"SUM(D38)*D5","v":0},0]
[{"$f":"'Planche de vol'!BB39","v":0},{"$f":"'Planche de vol'!BD39","v":0},{"$f":"SUM(B39)*C5","v":0},{"$f":"'[2]Planche de vol'!BB39","v":0},{"$f":"SUM(D39)*D5","v":0},0]

{"sheet":"SaisieVols","index":14,"n_rows":54,"n_cols":44,"rows_kept":54,"cut":false,"hidden":true,"merged":[[1,40,1,43],[52,27,52,28],[50,33,50,36],[52,33,52,36],[53,27,53,28],[1,24,1,28]]}
[]
[null,null,null,"PLANEUR",null,null,null,null,null,"DUREE ET VENTILATION",null,null,null,"TREUIL OU REMORQUEUR",null,null,null,"OBSERVATIONS",null,null,null,null,null,null,"VENTILLATION PILOTES",null,null,null,null,null,null,null,null,{"$f":"SUM(AH4:AH39)","v":8.3333333333333301E-2},null,null,null,null,null,null,"Temps de vols par machines"]
["Nbr","Code vols","Date","TYPE","IMMAT","Club","Prix","Pilotes","INSTRUCTEUR OU PAX","HEURE DECOLLAGE","HEURE \nAtterissage","DUREE DU VOL","Type de vol","T\n ou R","TREUIL","CENTIE,","Ratio\nentre pilote","EPREUVES ET CIRCUITS KMS PARCOURUS","Heures Maxi \nà facturer","Montant\n Heures","Max H\nFacturer",null,null,null,"TYPE","Treuillé\nExt Aire","Centiémes\nExt Aire","Treuillé \nclub luchon","Centiéme \nclub luchon","Heures\next Aire","Heures \nclub Luchon",null,null,"Total heures\npilotes","Montant \nluchon\nTreuillés","Montant\nLuchon\ncentiémes","Montant\ncellules\n Aire","Montant\ncellules Luchon",null,null,"TYPE","IMMAT","Club","Nbr d'heures \nfaites"]
[1,"19/06/2018 / BIL  Bill / ","19/06/2018","PEGASE EU","F-CHEU","Aire","22","BIL  Bill","","10:00","12:00","02:00:00","Local","T","1","","","","0.125"," 44.00 €","02:00",null,null,null,{"$f":"IF(ROWS(Y$3:Y3)<=SUM(IF(H$4:H$38<>\"\",1/COUNTIF(H$4:H$38,H$4:H$38))),INDEX(H$1:H$38,MIN(IF(COUNTIF(Y$3:Y3,H$4:H$38)=0,ROW(H$4:H$38)))),INDEX(I$1:I$38,MIN(IF((I$4:I$38<>\"\")*(COUNTIF(Y$3:Y3,I$4:I$38)=0),ROW(H$4:H$38)))))","v":"BIL  Bill"},{"$f":"IF(Y4=0,\"\",SUMPRODUCT((F$4:F$76=\"Aire\")*((H$4:H$76=Y4)+(I$4:I$76=Y4))*IF(O$4:O$76=\"\",0,O$4:O$76)*((Q$4:Q$76=\"\")+(Q$4:Q$76=\"50/50\")/2)))","v":1},{"$f":"IF(Y4=0,\"\",SUMPRODUCT((F$4:F$56=\"Aire\")*((H$4:H$56=Y4)+(I$4:I$56=Y4))*IF(P$4:P$56=\"\",0,P$4:P$56)*((Q$4:Q$56=\"\")+(Q$4:Q$56=\"50/50\")/2)))","v":0},{"$f":"IF(Y4=0,\"\",SUMPRODUCT((F$4:F$4=\"Luchon\")*((H$4:H$4=Y4)+(I$4:I$4=Y4))*IF(O$4:O$4=\"\",0,O$4:O$4)*((Q$4:Q$4=\"\")+(Q$4:Q$4=\"50/50\")/2)))","v":0},{"$f":"IF(Y4=0,\"\",SUMPRODUCT((F$4:F$4=\"Luchon\")*((H$4:H$4=Y4)+(I$4:I$4=Y4))*IF(P$4:P$4=\"\",0,P$4:P$4)*((Q$4:Q$4=\"\")+(Q$4:Q$4=\"50/50\")/2)))","v":0},{"$f":"IF(Y4=0,\"\",SUMPRODUCT((F$4:F$38=\"Aire\")*((H$4:H$38=Y4)+(I$4:I$38=Y4))*(L$4:L$38)))","v":8.3333333333333301E-2},{"$f":"IF(Y4=0,\"\",SUMPRODUCT((F$4:F$4=\"Luchon\")*((H$4:H$4=Y4)+(I$4:I$4=Y4))*(L$4:L$4)))","v":0},null,null,{"$f":"SUM(AD4:AE4)","v":8.3333333333333301E-2},{"$f":"SUM(AB4)*Parametres!AD4","v":0},{"$f":"SUM(AC4)*Parametres!AC4","v":0},{"$f":"IF(Y4=0,\"\",SUMPRODUCT((F$4:F$4=\"Aire\")*((H$4:H$4=Y4)+(I$4:I$4=Y4))*IF(T$4:T$4=\"\",0,T$4:T$4)))","v":44},{"$f":"IF(Y4=0,\"\",SUMPRODUCT((F$4:F$4=\"Luchon\")*((H$4:H$4=Y4)+(I$4:I$4=Y4))*IF(T$4:T$4=\"\",0,T$4:T$4)))","v":0},null,null,{"$f":"IF(ROWS(AO$3:AO3)<=SUM(IF(D$4:D$4<>\"\",COUNTIF(D$4:D$4,D$4:D$4))),INDEX(D$1:D$4,MIN(IF(COUNTIF(AO$3:AO3,D$4:D$4)=0,ROW(D$4:D$4)))))","v":"PEGASE EU"},{"$f":"IF(ROWS(AP$3:AP3)<=SUM(IF(E$4:E$4<>\"\",COUNTIF(E$4:E$4,E$4:E$4))),INDEX(E$1:E$4,MIN(IF(COUNTIF(AP$3:AP3,E$4:E$4)=0,ROW(E$4:E$4)))))","v":"F-CHEU"},{"$f":"IF(AO4=\"\",\"\",VLOOKUP(AO4,Immat,4,FALSE))","v":"Aire"},{"$f":"SUMIF(D4:D122,AO4,L4:L122)","v":8.3333333333333301E-2}]
[null,null,null,null,null,null,null,null,null,null,null,null,null,null,null,null,null,null,null,null,null,null,null,null,{"$f":"IF(ROWS(Y$3:Y4)<=SUM(IF(H$4:H$38<>\"\",1/COUNTIF(H$4:H$38,H$4:H$38))),INDEX(H$1:H$38,MIN(IF(COUNTIF(Y$3:Y4,H$4:H$38)=0,ROW(H$4:H$38)))),INDEX(I$1:I$38,MIN(IF((I$4:I$38<>\"\")*(COUNTIF(Y$3:Y4,I$4:I$38)=0),ROW(H$4:H$38)))))","v":0},{"$f":"IF(Y5=0,\"\",SUMPRODUCT((F$4:F$76=\"Aire\")*((H$4:H$76=Y5)+(I$4:I$76=Y5))*IF(O$4:O$76=\"\",0,O$4:O$76)*((Q$4:Q$76=\"\")+(Q$4:Q$76=\"50/50\")/2)))","v":""},{"$f":"IF(Y5=0,\"\",SUMPRODUCT((F$4:F$56=\"Aire\")*((H$4:H$56=Y5)+(I$4:I$56=Y5))*IF(P$4:P$56=\"\",0,P$4:P$56)*((Q$4:Q$56=\"\")+(Q$4:Q$56=\"50/50\")/2)))","v":""},{"$f":"IF(Y5=0,\"\",SUMPRODUCT((F$4:F$4=\"Luchon\")*((H$4:H$4=Y5)+(I$4:I$4=Y5))*IF(O$4:O$4=\"\",0,O$4:O$4)*((Q$4:Q$4=\"\")+(Q$4:Q$4=\"50/50\")/2)))","v":""},{"$f":"IF(Y5=0,\"\",SUMPRODUCT((F$4:F$4=\"Luchon\")*((H$4:H$4=Y5)+(I$4:I$4=Y5))*IF(P$4:P$4=\"\",0,P$4:P$4)*((Q$4:Q$4=\"\")+(Q$4:Q$4=\"50/50\")/2)))","v":""},{"$f":"IF(Y5=0,\"\",SUMPRODUCT((F$4:F$38=\"Aire\")*((H$4:H$38=Y5)+(I$4:I$38=Y5))*(L$4:L$38)))","v":""},{"$f":"IF(Y5=0,\"\",SUMPRODUCT((F$4:F$4=\"Luchon\")*((H$4:H$4=Y5)+(I$4:I$4=Y5))*(L$4:L$4)))","v":""},null,null,{"$f":"SUM(AD5:AE5)","v":0},{"$f":"SUM(AB5)*Parametres!AD5","v":0},{"$f":"SUM(AC5)*Parametres!AC5","v":0},{"$f":"IF(Y5=0,\"\",SUMPRODUCT((F$4:F$4=\"Aire\")*((H$4:H$4=Y5)+(I$4:I$4=Y5))*IF(T$4:T$4=\"\",0,T$4:T$4)))","v":""},{"$f":"IF(Y5=0,\"\",SUMPRODUCT((F$4:F$4=\"Luchon\")*((H$4:H$4=Y5)+(I$4:I$4=Y5))*IF(T$4:T$4=\"\",0,T$4:T$4)))","v":""},null,null,{"$f":"IF(ROWS(AO$3:AO4)<=SUM(IF(D$4:D$4<>\"\",COUNTIF(D$4:D$4,D$4:D$4))),INDEX(D$1:D$4,MIN(IF(COUNTIF(AO$3:AO4,D$4:D$4)=0,ROW(D$4:D$4)))))","v":false},{"$f":"IF(ROWS(AP$3:AP4)<=SUM(IF(E$4:E$4<>\"\",COUNTIF(E$4:E$4,E$4:E$4))),INDEX(E$1:E$4,MIN(IF(COUNTIF(AP$3:AP4,E$4:E$4)=0,ROW(E$4:E$4)))))","v":false},{"$error":"#N/A"},{"$f":"SUMIF(D4:D123,AO5,L4:L123)","v":0}]
[null,null,null,null,null,null,null,null,null,null,null,null,null,null,null,null,null,null,null,null,null,null,null,null,{"$f":"IF(ROWS(Y$3:Y5)<=SUM(IF(H$4:H$38<>\"\",1/COUNTIF(H$4:H$38,H$4:H$38))),INDEX(H$1:H$38,MIN(IF(COUNTIF(Y$3:Y5,H$4:H$38)=0,ROW(H$4:H$38)))),INDEX(I$1:I$38,MIN(IF((I$4:I$38<>\"\")*(COUNTIF(Y$3:Y5,I$4:I$38)=0),ROW(H$4:H$38)))))","v":0},{"$f":"IF(Y6=0,\"\",SUMPRODUCT((F$4:F$76=\"Aire\")*((H$4:H$76=Y6)+(I$4:I$76=Y6))*IF(O$4:O$76=\"\",0,O$4:O$76)*((Q$4:Q$76=\"\")+(Q$4:Q$76=\"50/50\")/2)))","v":""},{"$f":"IF(Y6=0,\"\",SUMPRODUCT((F$4:F$56=\"Aire\")*((H$4:H$56=Y6)+(I$4:I$56=Y6))*IF(P$4:P$56=\"\",0,P$4:P$56)*((Q$4:Q$56=\"\")+(Q$4:Q$56=\"50/50\")/2)))","v":""},{"$f":"IF(Y6=0,\"\",SUMPRODUCT((F$4:F$4=\"Luchon\")*((H$4:H$4=Y6)+(I$4:I$4=Y6))*IF(O$4:O$4=\"\",0,O$4:O$4)*((Q$4:Q$4=\"\")+(Q$4:Q$4=\"50/50\")/2)))","v":""},{"$f":"IF(Y6=0,\"\",SUMPRODUCT((F$4:F$4=\"Luchon\")*((H$4:H$4=Y6)+(I$4:I$4=Y6))*IF(P$4:P$4=\"\",0,P$4:P$4)*((Q$4:Q$4=\"\")+(Q$4:Q$4=\"50/50\")/2)))","v":""},{"$f":"IF(Y6=0,\"\",SUMPRODUCT((F$4:F$38=\"Aire\")*((H$4:H$38=Y6)+(I$4:I$38=Y6))*(L$4:L$38)))","v":""},{"$f":"IF(Y6=0,\"\",SUMPRODUCT((F$4:F$4=\"Luchon\")*((H$4:H$4=Y6)+(I$4:I$4=Y6))*(L$4:L$4)))","v":""},null,null,0,{"$f":"SUM(AB6)*Parametres!AD6","v":0},{"$f":"SUM(AC6)*Parametres!AC6","v":0},{"$f":"IF(Y6=0,\"\",SUMPRODUCT((F$4:F$4=\"Aire\")*((H$4:H$4=Y6)+(I$4:I$4=Y6))*IF(T$4:T$4=\"\",0,T$4:T$4)))","v":""},{"$f":"IF(Y6=0,\"\",SUMPRODUCT((F$4:F$4=\"Luchon\")*((H$4:H$4=Y6)+(I$4:I$4=Y6))*IF(T$4:T$4=\"\",0,T$4:T$4)))","v":""},null,null,{"$f":"IF(ROWS(AO$3:AO5)<=SUM(IF(D$4:D$4<>\"\",COUNTIF(D$4:D$4,D$4:D$4))),INDEX(D$1:D$4,MIN(IF(COUNTIF(AO$3:AO5,D$4:D$4)=0,ROW(D$4:D$4)))))","v":false},{"$f":"IF(ROWS(AP$3:AP5)<=SUM(IF(E$4:E$4<>\"\",COUNTIF(E$4:E$4,E$4:E$4))),INDEX(E$1:E$4,MIN(IF(COUNTIF(AP$3:AP5,E$4:E$4)=0,ROW(E$4:E$4)))))","v":false},{"$error":"#N/A"},{"$f":"SUMIF(D4:D124,AO6,L4:L124)","v":0}]
[null,null,null,null,null,null,null,null,null,null,null,null,null,null,null,null,null,null,null,null,null,null,null,null,{"$f":"IF(ROWS(Y$3:Y6)<=SUM(IF(H$4:H$38<>\"\",1/COUNTIF(H$4:H$38,H$4:H$38))),INDEX(H$1:H$38,MIN(IF(COUNTIF(Y$3:Y6,H$4:H$38)=0,ROW(H$4:H$38)))),INDEX(I$1:I$38,MIN(IF((I$4:I$38<>\"\")*(COUNTIF(Y$3:Y6,I$4:I$38)=0),ROW(H$4:H$38)))))","v":0},{"$f":"IF(Y7=0,\"\",SUMPRODUCT((F$4:F$76=\"Aire\")*((H$4:H$76=Y7)+(I$4:I$76=Y7))*IF(O$4:O$76=\"\",0,O$4:O$76)*((Q$4:Q$76=\"\")+(Q$4:Q$76=\"50/50\")/2)))","v":""},{"$f":"IF(Y7=0,\"\",SUMPRODUCT((F$4:F$56=\"Aire\")*((H$4:H$56=Y7)+(I$4:I$56=Y7))*IF(P$4:P$56=\"\",0,P$4:P$56)*((Q$4:Q$56=\"\")+(Q$4:Q$56=\"50/50\")/2)))","v":""},{"$f":"IF(Y7=0,\"\",SUMPRODUCT((F$4:F$4=\"Luchon\")*((H$4:H$4=Y7)+(I$4:I$4=Y7))*IF(O$4:O$4=\"\",0,O$4:O$4)*((Q$4:Q$4=\"\")+(Q$4:Q$4=\"50/50\")/2)))","v":""},{"$f":"IF(Y7=0,\"\",SUMPRODUCT((F$4:F$4=\"Luchon\")*((H$4:H$4=Y7)+(I$4:I$4=Y7))*IF(P$4:P$4=\"\",0,P$4:P$4)*((Q$4:Q$4=\"\")+(Q$4:Q$4=\"50/50\")/2)))","v":""},{"$f":"IF(Y7=0,\"\",SUMPRODUCT((F$4:F$38=\"Aire\")*((H$4:H$38=Y7)+(I$4:I$38=Y7))*(L$4:L$38)))","v":""},{"$f":"IF(Y7=0,\"\",SUMPRODUCT((F$4:F$4=\"Luchon\")*((H$4:H$4=Y7)+(I$4:I$4=Y7))*(L$4:L$4)))","v":""},null,null,0,{"$f":"SUM(AB7)*Parametres!AD7","v":0},{"$f":"SUM(AC7)*Parametres!AC7","v":0},{"$f":"IF(Y7=0,\"\",SUMPRODUCT((F$4:F$4=\"Aire\")*((H$4:H$4=Y7)+(I$4:I$4=Y7))*IF(T$4:T$4=\"\",0,T$4:T$4)))","v":""},{"$f":"IF(Y7=0,\"\",SUMPRODUCT((F$4:F$4=\"Luchon\")*((H$4:H$4=Y7)+(I$4:I$4=Y7))*IF(T$4:T$4=\"\",0,T$4:T$4)))","v":""},null,null,{"$f":"IF(ROWS(AO$3:AO6)<=SUM(IF(D$4:D$4<>\"\",COUNTIF(D$4:D$4,D$4:D$4))),INDEX(D$1:D$4,MIN(IF(COUNTIF(AO$3:AO6,D$4:D$4)=0,ROW(D$4:D$4)))))","v":false},{"$f":"IF(ROWS(AP$3:AP6)<=SUM(IF(E$4:E$4<>\"\",COUNTIF(E$4:E$4,E$4:E$4))),INDEX(E$1:E$4,MIN(IF(COUNTIF(AP$3:AP6,E$4:E$4)=0,ROW(E$4:E$4)))))","v":false},{"$error":"#N/A"},{"$f":"SUMIF(D4:D125,AO7,L4:L125)","v":0}]
[null,null,null,null,null,null,null,null,null,null,null,null,null,null,null,null,null,null,null,null,null,null,null,null,{"$f":"IF(ROWS(Y$3:Y7)<=SUM(IF(H$4:H$38<>\"\",1/COUNTIF(H$4:H$38,H$4:H$38))),INDEX(H$1:H$38,MIN(IF(COUNTIF(Y$3:Y7,H$4:H$38)=0,ROW(H$4:H$38)))),INDEX(I$1:I$38,MIN(IF((I$4:I$38<>\"\")*(COUNTIF(Y$3:Y7,I$4:I$38)=0),ROW(H$4:H$38)))))","v":0},{"$f":"IF(Y8=0,\"\",SUMPRODUCT((F$4:F$76=\"Aire\")*((H$4:H$76=Y8)+(I$4:I$76=Y8))*IF(O$4:O$76=\"\",0,O$4:O$76)*((Q$4:Q$76=\"\")+(Q$4:Q$76=\"50/50\")/2)))","v":""},{"$f":"IF(Y8=0,\"\",SUMPRODUCT((F$4:F$56=\"Aire\")*((H$4:H$56=Y8)+(I$4:I$56=Y8))*IF(P$4:P$56=\"\",0,P$4:P$56)*((Q$4:Q$56=\"\")+(Q$4:Q$56=\"50/50\")/2)))","v":""},{"$f":"IF(Y8=0,\"\",SUMPRODUCT((F$4:F$4=\"Luchon\")*((H$4:H$4=Y8)+(I$4:I$4=Y8))*IF(O$4:O$4=\"\",0,O$4:O$4)*((Q$4:Q$4=\"\")+(Q$4:Q$4=\"50/50\")/2)))","v":""},{"$f":"IF(Y8=0,\"\",SUMPRODUCT((F$4:F$4=\"Luchon\")*((H$4:H$4=Y8)+(I$4:I$4=Y8))*IF(P$4:P$4=\"\",0,P$4:P$4)*((Q$4:Q$4=\"\")+(Q$4:Q$4=\"50/50\")/2)))","v":""},{"$f":"IF(Y8=0,\"\",SUMPRODUCT((F$4:F$38=\"Aire\")*((H$4:H$38=Y8)+(I$4:I$38=Y8))*(L$4:L$38)))","v":""},{"$f":"IF(Y8=0,\"\",SUMPRODUCT((F$4:F$4=\"Luchon\")*((H$4:H$4=Y8)+(I$4:I$4=Y8))*(L$4:L$4)))","v":""},null,null,0,{"$f":"SUM(AB8)*Parametres!AD8","v":0},{"$f":"SUM(AC8)*Parametres!AC8","v":0},{"$f":"IF(Y8=0,\"\",SUMPRODUCT((F$4:F$4=\"Aire\")*((H$4:H$4=Y8)+(I$4:I$4=Y8))*IF(T$4:T$4=\"\",0,T$4:T$4)))","v":""},{"$f":"IF(Y8=0,\"\",SUMPRODUCT((F$4:F$4=\"Luchon\")*((H$4:H$4=Y8)+(I$4:I$4=Y8))*IF(T$4:T$4=\"\",0,T$4:T$4)))","v":""},null,null,{"$f":"IF(ROWS(AO$3:AO7)<=SUM(IF(D$4:D$4<>\"\",COUNTIF(D$4:D$4,D$4:D$4))),INDEX(D$1:D$4,MIN(IF(COUNTIF(AO$3:AO7,D$4:D$4)=0,ROW(D$4:D$4)))))","v":false},{"$f":"IF(ROWS(AP$3:AP7)<=SUM(IF(E$4:E$4<>\"\",COUNTIF(E$4:E$4,E$4:E$4))),INDEX(E$1:E$4,MIN(IF(COUNTIF(AP$3:AP7,E$4:E$4)=0,ROW(E$4:E$4)))))","v":false},{"$error":"#N/A"},{"$f":"SUMIF(D5:D126,AO8,L5:L126)","v":0}]
[null,null,null,null,null,null,null,null,null,null,null,null,null,null,null,null,null,null,null,null,null,null,null,null,{"$f":"IF(ROWS(Y$3:Y8)<=SUM(IF(H$4:H$38<>\"\",1/COUNTIF(H$4:H$38,H$4:H$38))),INDEX(H$1:H$38,MIN(IF(COUNTIF(Y$3:Y8,H$4:H$38)=0,ROW(H$4:H$38)))),INDEX(I$1:I$38,MIN(IF((I$4:I$38<>\"\")*(COUNTIF(Y$3:Y8,I$4:I$38)=0),ROW(H$4:H$38)))))","v":0},{"$f":"IF(Y9=0,\"\",SUMPRODUCT((F$4:F$76=\"Aire\")*((H$4:H$76=Y9)+(I$4:I$76=Y9))*IF(O$4:O$76=\"\",0,O$4:O$76)*((Q$4:Q$76=\"\")+(Q$4:Q$76=\"50/50\")/2)))","v":""},{"$f":"IF(Y9=0,\"\",SUMPRODUCT((F$4:F$56=\"Aire\")*((H$4:H$56=Y9)+(I$4:I$56=Y9))*IF(P$4:P$56=\"\",0,P$4:P$56)*((Q$4:Q$56=\"\")+(Q$4:Q$56=\"50/50\")/2)))","v":""},{"$f":"IF(Y9=0,\"\",SUMPRODUCT((F$4:F$4=\"Luchon\")*((H$4:H$4=Y9)+(I$4:I$4=Y9))*IF(O$4:O$4=\"\",0,O$4:O$4)*((Q$4:Q$4=\"\")+(Q$4:Q$4=\"50/50\")/2)))","v":""},{"$f":"IF(Y9=0,\"\",SUMPRODUCT((F$4:F$4=\"Luchon\")*((H$4:H$4=Y9)+(I$4:I$4=Y9))*IF(P$4:P$4=\"\",0,P$4:P$4)*((Q$4:Q$4=\"\")+(Q$4:Q$4=\"50/50\")/2)))","v":""},{"$f":"IF(Y9=0,\"\",SUMPRODUCT((F$4:F$38=\"Aire\")*((H$4:H$38=Y9)+(I$4:I$38=Y9))*(L$4:L$38)))","v":""},{"$f":"IF(Y9=0,\"\",SUMPRODUCT((F$4:F$4=\"Luchon\")*((H$4:H$4=Y9)+(I$4:I$4=Y9))*(L$4:L$4)))","v":""},null,null,0,null,null,{"$f":"IF(Y9=0,\"\",SUMPRODUCT((F$4:F$4=\"Aire\")*((H$4:H$4=Y9)+(I$4:I$4=Y9))*IF(T$4:T$4=\"\",0,T$4:T$4)))","v":""},{"$f":"IF(Y9=0,\"\",SUMPRODUCT((F$4:F$4=\"Luchon\")*((H$4:H$4=Y9)+(I$4:I$4=Y9))*IF(T$4:T$4=\"\",0,T$4:T$4)))","v":""},null,null,{"$f":"IF(ROWS(AO$3:AO8)<=SUM(IF(D$4:D$4<>\"\",COUNTIF(D$4:D$4,D$4:D$4))),INDEX(D$1:D$4,MIN(IF(COUNTIF(AO$3:AO8,D$4:D$4)=0,ROW(D$4:D$4)))))","v":false},{"$f":"IF(ROWS(AP$3:AP8)<=SUM(IF(E$4:E$4<>\"\",COUNTIF(E$4:E$4,E$4:E$4))),INDEX(E$1:E$4,MIN(IF(COUNTIF(AP$3:AP8,E$4:E$4)=0,ROW(E$4:E$4)))))","v":false},{"$f":"IF(AO9=\"\",\"\",VLOOKUP(AO9,Immat,4,FALSE))","v":{"$error":"#N/A"}},{"$f":"SUMIF(D5:D127,AO9,L5:L127)","v":0}]
[null,null,null,null,null,null,null,null,null,null,null,null,null,null,null,null,null,null,null,null,null,null,null,null,{"$f":"IF(ROWS(Y$3:Y9)<=SUM(IF(H$4:H$38<>\"\",1/COUNTIF(H$4:H$38,H$4:H$38))),INDEX(H$1:H$38,MIN(IF(COUNTIF(Y$3:Y9,H$4:H$38)=0,ROW(H$4:H$38)))),INDEX(I$1:I$38,MIN(IF((I$4:I$38<>\"\")*(COUNTIF(Y$3:Y9,I$4:I$38)=0),ROW(H$4:H$38)))))","v":0},{"$f":"IF(Y10=0,\"\",SUMPRODUCT((F$4:F$76=\"Aire\")*((H$4:H$76=Y10)+(I$4:I$76=Y10))*IF(O$4:O$76=\"\",0,O$4:O$76)*((Q$4:Q$76=\"\")+(Q$4:Q$76=\"50/50\")/2)))","v":""},{"$f":"IF(Y10=0,\"\",SUMPRODUCT((F$4:F$56=\"Aire\")*((H$4:H$56=Y10)+(I$4:I$56=Y10))*IF(P$4:P$56=\"\",0,P$4:P$56)*((Q$4:Q$56=\"\")+(Q$4:Q$56=\"50/50\")/2)))","v":""},{"$f":"IF(Y10=0,\"\",SUMPRODUCT((F$4:F$4=\"Luchon\")*((H$4:H$4=Y10)+(I$4:I$4=Y10))*IF(O$4:O$4=\"\",0,O$4:O$4)*((Q$4:Q$4=\"\")+(Q$4:Q$4=\"50/50\")/2)))","v":""},{"$f":"IF(Y10=0,\"\",SUMPRODUCT((F$4:F$4=\"Luchon\")*((H$4:H$4=Y10)+(I$4:I$4=Y10))*IF(P$4:P$4=\"\",0,P$4:P$4)*((Q$4:Q$4=\"\")+(Q$4:Q$4=\"50/50\")/2)))","v":""},{"$f":"IF(Y10=0,\"\",SUMPRODUCT((F$4:F$38=\"Aire\")*((H$4:H$38=Y10)+(I$4:I$38=Y10))*(L$4:L$38)))","v":""},{"$f":"IF(Y10=0,\"\",SUMPRODUCT((F$4:F$4=\"Luchon\")*((H$4:H$4=Y10)+(I$4:I$4=Y10))*(L$4:L$4)))","v":""},null,null,0,null,null,{"$f":"IF(Y10=0,\"\",SUMPRODUCT((F$4:F$4=\"Aire\")*((H$4:H$4=Y10)+(I$4:I$4=Y10))*IF(T$4:T$4=\"\",0,T$4:T$4)))","v":""},{"$f":"IF(Y10=0,\"\",SUMPRODUCT((F$4:F$4=\"Luchon\")*((H$4:H$4=Y10)+(I$4:I$4=Y10))*IF(T$4:T$4=\"\",0,T$4:T$4)))","v":""},null,null,{"$f":"IF(ROWS(AO$3:AO9)<=SUM(IF(D$4:D$4<>\"\",COUNTIF(D$4:D$4,D$4:D$4))),INDEX(D$1:D$4,MIN(IF(COUNTIF(AO$3:AO9,D$4:D$4)=0,ROW(D$4:D$4)))))","v":false},{"$f":"IF(ROWS(AP$3:AP9)<=SUM(IF(E$4:E$4<>\"\",COUNTIF(E$4:E$4,E$4:E$4))),INDEX(E$1:E$4,MIN(IF(COUNTIF(AP$3:AP9,E$4:E$4)=0,ROW(E$4:E$4)))))","v":false},{"$error":"#N/A"},{"$f":"SUMIF(D5:D128,AO10,L5:L128)","v":0}]
[null,null,null,null,null,null,null,null,null,null,null,null,null,null,null,null,null,null,null,null,null,null,null,null,{"$f":"IF(ROWS(Y$3:Y10)<=SUM(IF(H$4:H$38<>\"\",1/COUNTIF(H$4:H$38,H$4:H$38))),INDEX(H$1:H$38,MIN(IF(COUNTIF(Y$3:Y10,H$4:H$38)=0,ROW(H$4:H$38)))),INDEX(I$1:I$38,MIN(IF((I$4:I$38<>\"\")*(COUNTIF(Y$3:Y10,I$4:I$38)=0),ROW(H$4:H$38)))))","v":0},{"$f":"IF(Y11=0,\"\",SUMPRODUCT((F$4:F$76=\"Aire\")*((H$4:H$76=Y11)+(I$4:I$76=Y11))*IF(O$4:O$76=\"\",0,O$4:O$76)*((Q$4:Q$76=\"\")+(Q$4:Q$76=\"50/50\")/2)))","v":""},{"$f":"IF(Y11=0,\"\",SUMPRODUCT((F$4:F$56=\"Aire\")*((H$4:H$56=Y11)+(I$4:I$56=Y11))*IF(P$4:P$56=\"\",0,P$4:P$56)*((Q$4:Q$56=\"\")+(Q$4:Q$56=\"50/50\")/2)))","v":""},{"$f":"IF(Y11=0,\"\",SUMPRODUCT((F$4:F$4=\"Luchon\")*((H$4:H$4=Y11)+(I$4:I$4=Y11))*IF(O$4:O$4=\"\",0,O$4:O$4)*((Q$4:Q$4=\"\")+(Q$4:Q$4=\"50/50\")/2)))","v":""},{"$f":"IF(Y11=0,\"\",SUMPRODUCT((F$4:F$4=\"Luchon\")*((H$4:H$4=Y11)+(I$4:I$4=Y11))*IF(P$4:P$4=\"\",0,P$4:P$4)*((Q$4:Q$4=\"\")+(Q$4:Q$4=\"50/50\")/2)))","v":""},{"$f":"IF(Y11=0,\"\",SUMPRODUCT((F$4:F$38=\"Aire\")*((H$4:H$38=Y11)+(I$4:I$38=Y11))*(L$4:L$38)))","v":""},{"$f":"IF(Y11=0,\"\",SUMPRODUCT((F$4:F$4=\"Luchon\")*((H$4:H$4=Y11)+(I$4:I$4=Y11))*(L$4:L$4)))","v":""},null,null,0,null,null,{"$f":"IF(Y11=0,\"\",SUMPRODUCT((F$4:F$4=\"Aire\")*((H$4:H$4=Y11)+(I$4:I$4=Y11))*IF(G$4:G$4=\"\",0,G$4:G$4)*((Q$4:Q$4=\"\")+(Q$4:Q$4=\"50/50\")/2)))","v":""},{"$f":"IF(Y11=0,\"\",SUMPRODUCT((F$4:F$4=\"Luchon\")*((H$4:H$4=Y11)+(I$4:I$4=Y11))*IF(G$4:G$4=\"\",0,G$4:G$4)*((Q$4:Q$4=\"\")+(Q$4:Q$4=\"50/50\")/2)))","v":""},null,null,{"$f":"IF(ROWS(AO$3:AO10)<=SUM(IF(D$4:D$4<>\"\",COUNTIF(D$4:D$4,D$4:D$4))),INDEX(D$1:D$4,MIN(IF(COUNTIF(AO$3:AO10,D$4:D$4)=0,ROW(D$4:D$4)))))","v":false},{"$f":"IF(ROWS(AP$3:AP10)<=SUM(IF(E$4:E$4<>\"\",COUNTIF(E$4:E$4,E$4:E$4))),INDEX(E$1:E$4,MIN(IF(COUNTIF(AP$3:AP10,E$4:E$4)=0,ROW(E$4:E$4)))))","v":false},{"$error":"#N/A"},{"$f":"SUMIF(D5:D129,AO11,L5:L129)","v":0}]
[null,null,null,null,null,null,null,null,null,null,null,null,null,null,null,null,null,null,null,null,null,null,null,null,{"$f":"IF(ROWS(Y$3:Y11)<=SUM(IF(H$4:H$38<>\"\",1/COUNTIF(H$4:H$38,H$4:H$38))),INDEX(H$1:H$38,MIN(IF(COUNTIF(Y$3:Y11,H$4:H$38)=0,ROW(H$4:H$38)))),INDEX(I$1:I$38,MIN(IF((I$4:I$38<>\"\")*(COUNTIF(Y$3:Y11,I$4:I$38)=0),ROW(H$4:H$38)))))","v":0},{"$f":"IF(Y12=0,\"\",SUMPRODUCT((F$4:F$76=\"Aire\")*((H$4:H$76=Y12)+(I$4:I$76=Y12))*IF(O$4:O$76=\"\",0,O$4:O$76)*((Q$4:Q$76=\"\")+(Q$4:Q$76=\"50/50\")/2)))","v":""},{"$f":"IF(Y12=0,\"\",SUMPRODUCT((F$4:F$56=\"Aire\")*((H$4:H$56=Y12)+(I$4:I$56=Y12))*IF(P$4:P$56=\"\",0,P$4:P$56)*((Q$4:Q$56=\"\")+(Q$4:Q$56=\"50/50\")/2)))","v":""},{"$f":"IF(Y12=0,\"\",SUMPRODUCT((F$4:F$4=\"Luchon\")*((H$4:H$4=Y12)+(I$4:I$4=Y12))*IF(O$4:O$4=\"\",0,O$4:O$4)*((Q$4:Q$4=\"\")+(Q$4:Q$4=\"50/50\")/2)))","v":""},{"$f":"IF(Y12=0,\"\",SUMPRODUCT((F$4:F$4=\"Luchon\")*((H$4:H$4=Y12)+(I$4:I$4=Y12))*IF(P$4:P$4=\"\",0,P$4:P$4)*((Q$4:Q$4=\"\")+(Q$4:Q$4=\"50/50\")/2)))","v":""},{"$f":"IF(Y12=0,\"\",SUMPRODUCT((F$4:F$38=\"Aire\")*((H$4:H$38=Y12)+(I$4:I$38=Y12))*(L$4:L$38)))","v":""},{"$f":"IF(Y12=0,\"\",SUMPRODUCT((F$4:F$4=\"Luchon\")*((H$4:H$4=Y12)+(I$4:I$4=Y12))*(L$4:L$4)))","v":""},null,null,0,null,null,{"$f":"IF(Y12=0,\"\",SUMPRODUCT((F$4:F$4=\"Aire\")*((H$4:H$4=Y12)+(I$4:I$4=Y12))*IF(G$4:G$4=\"\",0,G$4:G$4)*((Q$4:Q$4=\"\")+(Q$4:Q$4=\"50/50\")/2)))","v":""},{"$f":"IF(Y12=0,\"\",SUMPRODUCT((F$4:F$4=\"Luchon\")*((H$4:H$4=Y12)+(I$4:I$4=Y12))*IF(G$4:G$4=\"\",0,G$4:G$4)*((Q$4:Q$4=\"\")+(Q$4:Q$4=\"50/50\")/2)))","v":""},null,null,{"$f":"IF(ROWS(AO$3:AO11)<=SUM(IF(D$4:D$4<>\"\",COUNTIF(D$4:D$4,D$4:D$4))),INDEX(D$1:D$4,MIN(IF(COUNTIF(AO$3:AO11,D$4:D$4)=0,ROW(D$4:D$4)))))","v":false},{"$f":"IF(ROWS(AP$3:AP11)<=SUM(IF(E$4:E$4<>\"\",COUNTIF(E$4:E$4,E$4:E$4))),INDEX(E$1:E$4,MIN(IF(COUNTIF(AP$3:AP11,E$4:E$4)=0,ROW(E$4:E$4)))))","v":false},{"$error":"#N/A"},{"$f":"SUMIF(D5:D130,AO12,L5:L130)","v":0}]
[null,null,null,null,null,null,null,null,null,null,null,null,null,null,null,null,null,null,null,null,null,null,null,null,{"$f":"IF(ROWS(Y$3:Y12)<=SUM(IF(H$4:H$38<>\"\",1/COUNTIF(H$4:H$38,H$4:H$38))),INDEX(H$1:H$38,MIN(IF(COUNTIF(Y$3:Y12,H$4:H$38)=0,ROW(H$4:H$38)))),INDEX(I$1:I$38,MIN(IF((I$4:I$38<>\"\")*(COUNTIF(Y$3:Y12,I$4:I$38)=0),ROW(H$4:H$38)))))","v":0},{"$f":"IF(Y13=0,\"\",SUMPRODUCT((F$4:F$76=\"Aire\")*((H$4:H$76=Y13)+(I$4:I$76=Y13))*IF(O$4:O$76=\"\",0,O$4:O$76)*((Q$4:Q$76=\"\")+(Q$4:Q$76=\"50/50\")/2)))","v":""},{"$f":"IF(Y13=0,\"\",SUMPRODUCT((F$4:F$56=\"Aire\")*((H$4:H$56=Y13)+(I$4:I$56=Y13))*IF(P$4:P$56=\"\",0,P$4:P$56)*((Q$4:Q$56=\"\")+(Q$4:Q$56=\"50/50\")/2)))","v":""},{"$f":"IF(Y13=0,\"\",SUMPRODUCT((F$4:F$4=\"Luchon\")*((H$4:H$4=Y13)+(I$4:I$4=Y13))*IF(O$4:O$4=\"\",0,O$4:O$4)*((Q$4:Q$4=\"\")+(Q$4:Q$4=\"50/50\")/2)))","v":""},{"$f":"IF(Y13=0,\"\",SUMPRODUCT((F$4:F$4=\"Luchon\")*((H$4:H$4=Y13)+(I$4:I$4=Y13))*IF(P$4:P$4=\"\",0,P$4:P$4)*((Q$4:Q$4=\"\")+(Q$4:Q$4=\"50/50\")/2)))","v":""},{"$f":"IF(Y13=0,\"\",SUMPRODUCT((F$4:F$38=\"Aire\")*((H$4:H$38=Y13)+(I$4:I$38=Y13))*(L$4:L$38)))","v":""},{"$f":"IF(Y13=0,\"\",SUMPRODUCT((F$4:F$4=\"Luchon\")*((H$4:H$4=Y13)+(I$4:I$4=Y13))*(L$4:L$4)))","v":""},null,null,0,null,null,{"$f":"IF(Y13=0,\"\",SUMPRODUCT((F$4:F$4=\"Aire\")*((H$4:H$4=Y13)+(I$4:I$4=Y13))*IF(G$4:G$4=\"\",0,G$4:G$4)*((Q$4:Q$4=\"\")+(Q$4:Q$4=\"50/50\")/2)))","v":""},{"$f":"IF(Y13=0,\"\",SUMPRODUCT((F$4:F$4=\"Luchon\")*((H$4:H$4=Y13)+(I$4:I$4=Y13))*IF(G$4:G$4=\"\",0,G$4:G$4)*((Q$4:Q$4=\"\")+(Q$4:Q$4=\"50/50\")/2)))","v":""},null,null,{"$f":"IF(ROWS(AO$3:AO12)<=SUM(IF(D$4:D$4<>\"\",COUNTIF(D$4:D$4,D$4:D$4))),INDEX(D$1:D$4,MIN(IF(COUNTIF(AO$3:AO12,D$4:D$4)=0,ROW(D$4:D$4)))))","v":false},{"$f":"IF(ROWS(AP$3:AP12)<=SUM(IF(E$4:E$4<>\"\",COUNTIF(E$4:E$4,E$4:E$4))),INDEX(E$1:E$4,MIN(IF(COUNTIF(AP$3:AP12,E$4:E$4)=0,ROW(E$4:E$4)))))","v":false},{"$error":"#N/A"},{"$f":"SUMIF(D5:D131,AO13,L5:L131)","v":0}]
[null,null,null,null,null,null,null,null,null,null,null,null,null,null,null,null,null,null,null,null,null,null,null,null,{"$f":"IF(ROWS(Y$3:Y13)<=SUM(IF(H$4:H$38<>\"\",1/COUNTIF(H$4:H$38,H$4:H$38))),INDEX(H$1:H$38,MIN(IF(COUNTIF(Y$3:Y13,H$4:H$38)=0,ROW(H$4:H$38)))),INDEX(I$1:I$38,MIN(IF((I$4:I$38<>\"\")*(COUNTIF(Y$3:Y13,I$4:I$38)=0),ROW(H$4:H$38)))))","v":0},{"$f":"IF(Y14=0,\"\",SUMPRODUCT((F$4:F$76=\"Aire\")*((H$4:H$76=Y14)+(I$4:I$76=Y14))*IF(O$4:O$76=\"\",0,O$4:O$76)*((Q$4:Q$76=\"\")+(Q$4:Q$76=\"50/50\")/2)))","v":""},{"$f":"IF(Y14=0,\"\",SUMPRODUCT((F$4:F$56=\"Aire\")*((H$4:H$56=Y14)+(I$4:I$56=Y14))*IF(P$4:P$56=\"\",0,P$4:P$56)*((Q$4:Q$56=\"\")+(Q$4:Q$56=\"50/50\")/2)))","v":""},{"$f":"IF(Y14=0,\"\",SUMPRODUCT((F$4:F$4=\"Luchon\")*((H$4:H$4=Y14)+(I$4:I$4=Y14))*IF(O$4:O$4=\"\",0,O$4:O$4)*((Q$4:Q$4=\"\")+(Q$4:Q$4=\"50/50\")/2)))","v":""},{"$f":"IF(Y14=0,\"\",SUMPRODUCT((F$4:F$4=\"Luchon\")*((H$4:H$4=Y14)+(I$4:I$4=Y14))*IF(P$4:P$4=\"\",0,P$4:P$4)*((Q$4:Q$4=\"\")+(Q$4:Q$4=\"50/50\")/2)))","v":""},{"$f":"IF(Y14=0,\"\",SUMPRODUCT((F$4:F$38=\"Aire\")*((H$4:H$38=Y14)+(I$4:I$38=Y14))*(L$4:L$38)))","v":""},{"$f":"IF(Y14=0,\"\",SUMPRODUCT((F$4:F$4=\"Luchon\")*((H$4:H$4=Y14)+(I$4:I$4=Y14))*(L$4:L$4)))","v":""},null,null,0,null,{"$f":"SUMIF(H5:H132,AH14,L5:L132)","v":"00:00:00"},{"$f":"IF(Y14=0,\"\",SUMPRODUCT((F$4:F$4=\"Aire\")*((H$4:H$4=Y14)+(I$4:I$4=Y14))*IF(G$4:G$4=\"\",0,G$4:G$4)*((Q$4:Q$4=\"\")+(Q$4:Q$4=\"50/50\")/2)))","v":""},{"$f":"IF(Y14=0,\"\",SUMPRODUCT((F$4:F$4=\"Luchon\")*((H$4:H$4=Y14)+(I$4:I$4=Y14))*IF(G$4:G$4=\"\",0,G$4:G$4)*((Q$4:Q$4=\"\")+(Q$4:Q$4=\"50/50\")/2)))","v":""},null,null,{"$f":"IF(ROWS(AO$3:AO13)<=SUM(IF(D$4:D$4<>\"\",COUNTIF(D$4:D$4,D$4:D$4))),INDEX(D$1:D$4,MIN(IF(COUNTIF(AO$3:AO13,D$4:D$4)=0,ROW(D$4:D$4)))))","v":false},{"$f":"IF(ROWS(AP$3:AP13)<=SUM(IF(E$4:E$4<>\"\",COUNTIF(E$4:E$4,E$4:E$4))),INDEX(E$1:E$4,MIN(IF(COUNTIF(AP$3:AP13,E$4:E$4)=0,ROW(E$4:E$4)))))","v":false},{"$error":"#N/A"},{"$f":"SUMIF(D5:D132,AO14,L5:L132)","v":0}]
[null,null,null,null,null,null,null,null,null,null,null,null,null,null,null,null,null,null,null,null,null,null,null,null,{"$f":"IF(ROWS(Y$3:Y14)<=SUM(IF(H$4:H$38<>\"\",1/COUNTIF(H$4:H$38,H$4:H$38))),INDEX(H$1:H$38,MIN(IF(COUNTIF(Y$3:Y14,H$4:H$38)=0,ROW(H$4:H$38)))),INDEX(I$1:I$38,MIN(IF((I$4:I$38<>\"\")*(COUNTIF(Y$3:Y14,I$4:I$38)=0),ROW(H$4:H$38)))))","v":0},{"$f":"IF(Y15=0,\"\",SUMPRODUCT((F$4:F$76=\"Aire\")*((H$4:H$76=Y15)+(I$4:I$76=Y15))*IF(O$4:O$76=\"\",0,O$4:O$76)*((Q$4:Q$76=\"\")+(Q$4:Q$76=\"50/50\")/2)))","v":""},{"$f":"IF(Y15=0,\"\",SUMPRODUCT((F$4:F$56=\"Aire\")*((H$4:H$56=Y15)+(I$4:I$56=Y15))*IF(P$4:P$56=\"\",0,P$4:P$56)*((Q$4:Q$56=\"\")+(Q$4:Q$56=\"50/50\")/2)))","v":""},{"$f":"IF(Y15=0,\"\",SUMPRODUCT((F$4:F$4=\"Luchon\")*((H$4:H$4=Y15)+(I$4:I$4=Y15))*IF(O$4:O$4=\"\",0,O$4:O$4)*((Q$4:Q$4=\"\")+(Q$4:Q$4=\"50/50\")/2)))","v":""},{"$f":"IF(Y15=0,\"\",SUMPRODUCT((F$4:F$4=\"Luchon\")*((H$4:H$4=Y15)+(I$4:I$4=Y15))*IF(P$4:P$4=\"\",0,P$4:P$4)*((Q$4:Q$4=\"\")+(Q$4:Q$4=\"50/50\")/2)))","v":""},{"$f":"IF(Y15=0,\"\",SUMPRODUCT((F$4:F$38=\"Aire\")*((H$4:H$38=Y15)+(I$4:I$38=Y15))*(L$4:L$38)))","v":""},{"$f":"IF(Y15=0,\"\",SUMPRODUCT((F$4:F$4=\"Luchon\")*((H$4:H$4=Y15)+(I$4:I$4=Y15))*(L$4:L$4)))","v":""},null,null,0,null,{"$f":"SUMIF(H5:H133,AH15,L5:L133)","v":"00:00:00"},{"$f":"IF(Y15=0,\"\",SUMPRODUCT((F$4:F$4=\"Aire\")*((H$4:H$4=Y15)+(I$4:I$4=Y15))*IF(G$4:G$4=\"\",0,G$4:G$4)*((Q$4:Q$4=\"\")+(Q$4:Q$4=\"50/50\")/2)))","v":""},{"$f":"IF(Y15=0,\"\",SUMPRODUCT((F$4:F$4=\"Luchon\")*((H$4:H$4=Y15)+(I$4:I$4=Y15))*IF(G$4:G$4=\"\",0,G$4:G$4)*((Q$4:Q$4=\"\")+(Q$4:Q$4=\"50/50\")/2)))","v":""},null,null,{"$f":"IF(ROWS(AO$3:AO14)<=SUM(IF(D$4:D$4<>\"\",COUNTIF(D$4:D$4,D$4:D$4))),INDEX(D$1:D$4,MIN(IF(COUNTIF(AO$3:AO14,D$4:D$4)=0,ROW(D$4:D$4)))))","v":false},{"$f":"IF(ROWS(AP$3:AP14)<=SUM(IF(E$4:E$4<>\"\",COUNTIF(E$4:E$4,E$4:E$4))),INDEX(E$1:E$4,MIN(IF(COUNTIF(AP$3:AP14,E$4:E$4)=0,ROW(E$4:E$4)))))","v":false},{"$error":"#N/A"},{"$f":"SUMIF(D5:D133,AO15,L5:L133)","v":0}]
[null,null,null,null,null,null,null,null,null,null,null,null,null,null,null,null,null,null,null,null,null,null,null,null,{"$f":"IF(ROWS(Y$3:Y15)<=SUM(IF(H$4:H$38<>\"\",1/COUNTIF(H$4:H$38,H$4:H$38))),INDEX(H$1:H$38,MIN(IF(COUNTIF(Y$3:Y15,H$4:H$38)=0,ROW(H$4:H$38)))),INDEX(I$1:I$38,MIN(IF((I$4:I$38<>\"\")*(COUNTIF(Y$3:Y15,I$4:I$38)=0),ROW(H$4:H$38)))))","v":0},{"$f":"IF(Y16=0,\"\",SUMPRODUCT((F$4:F$76=\"Aire\")*((H$4:H$76=Y16)+(I$4:I$76=Y16))*IF(O$4:O$76=\"\",0,O$4:O$76)*((Q$4:Q$76=\"\")+(Q$4:Q$76=\"50/50\")/2)))","v":""},{"$f":"IF(Y16=0,\"\",SUMPRODUCT((F$4:F$56=\"Aire\")*((H$4:H$56=Y16)+(I$4:I$56=Y16))*IF(P$4:P$56=\"\",0,P$4:P$56)*((Q$4:Q$56=\"\")+(Q$4:Q$56=\"50/50\")/2)))","v":""},{"$f":"IF(Y16=0,\"\",SUMPRODUCT((F$4:F$4=\"Luchon\")*((H$4:H$4=Y16)+(I$4:I$4=Y16))*IF(O$4:O$4=\"\",0,O$4:O$4)*((Q$4:Q$4=\"\")+(Q$4:Q$4=\"50/50\")/2)))","v":""},{"$f":"IF(Y16=0,\"\",SUMPRODUCT((F$4:F$4=\"Luchon\")*((H$4:H$4=Y16)+(I$4:I$4=Y16))*IF(P$4:P$4=\"\",0,P$4:P$4)*((Q$4:Q$4=\"\")+(Q$4:Q$4=\"50/50\")/2)))","v":""},{"$f":"IF(Y16=0,\"\",SUMPRODUCT((F$4:F$38=\"Aire\")*((H$4:H$38=Y16)+(I$4:I$38=Y16))*(L$4:L$38)))","v":""},{"$f":"IF(Y16=0,\"\",SUMPRODUCT((F$4:F$4=\"Luchon\")*((H$4:H$4=Y16)+(I$4:I$4=Y16))*(L$4:L$4)))","v":""},null,null,0,null,{"$f":"SUMIF(H5:H135,AH16,L5:L135)","v":"00:00:00"},{"$f":"IF(Y16=0,\"\",SUMPRODUCT((F$4:F$4=\"Aire\")*((H$4:H$4=Y16)+(I$4:I$4=Y16))*IF(G$4:G$4=\"\",0,G$4:G$4)*((Q$4:Q$4=\"\")+(Q$4:Q$4=\"50/50\")/2)))","v":""},{"$f":"IF(Y16=0,\"\",SUMPRODUCT((F$4:F$4=\"Luchon\")*((H$4:H$4=Y16)+(I$4:I$4=Y16))*IF(G$4:G$4=\"\",0,G$4:G$4)*((Q$4:Q$4=\"\")+(Q$4:Q$4=\"50/50\")/2)))","v":""},null,null,{"$f":"IF(ROWS(AO$3:AO15)<=SUM(IF(D$4:D$4<>\"\",COUNTIF(D$4:D$4,D$4:D$4))),INDEX(D$1:D$4,MIN(IF(COUNTIF(AO$3:AO15,D$4:D$4)=0,ROW(D$4:D$4)))))","v":false},{"$f":"IF(ROWS(AP$3:AP15)<=SUM(IF(E$4:E$4<>\"\",COUNTIF(E$4:E$4,E$4:E$4))),INDEX(E$1:E$4,MIN(IF(COUNTIF(AP$3:AP15,E$4:E$4)=0,ROW(E$4:E$4)))))","v":false},{"$error":"#N/A"},{"$f":"SUMIF(D5:D135,AO16,L5:L135)","v":0}]
[null,null,null,null,null,null,null,null,null,null,null,null,null,null,null,null,null,null,null,null,null,null,null,null,{"$f":"IF(ROWS(Y$3:Y16)<=SUM(IF(H$4:H$38<>\"\",1/COUNTIF(H$4:H$38,H$4:H$38))),INDEX(H$1:H$38,MIN(IF(COUNTIF(Y$3:Y16,H$4:H$38)=0,ROW(H$4:H$38)))),INDEX(I$1:I$38,MIN(IF((I$4:I$38<>\"\")*(COUNTIF(Y$3:Y16,I$4:I$38)=0),ROW(H$4:H$38)))))","v":0},{"$f":"IF(Y17=0,\"\",SUMPRODUCT((F$4:F$76=\"Aire\")*((H$4:H$76=Y17)+(I$4:I$76=Y17))*IF(O$4:O$76=\"\",0,O$4:O$76)*((Q$4:Q$76=\"\")+(Q$4:Q$76=\"50/50\")/2)))","v":""},{"$f":"IF(Y17=0,\"\",SUMPRODUCT((F$4:F$56=\"Aire\")*((H$4:H$56=Y17)+(I$4:I$56=Y17))*IF(P$4:P$56=\"\",0,P$4:P$56)*((Q$4:Q$56=\"\")+(Q$4:Q$56=\"50/50\")/2)))","v":""},{"$f":"IF(Y17=0,\"\",SUMPRODUCT((F$4:F$4=\"Luchon\")*((H$4:H$4=Y17)+(I$4:I$4=Y17))*IF(O$4:O$4=\"\",0,O$4:O$4)*((Q$4:Q$4=\"\")+(Q$4:Q$4=\"50/50\")/2)))","v":""},{"$f":"IF(Y17=0,\"\",SUMPRODUCT((F$4:F$4=\"Luchon\")*((H$4:H$4=Y17)+(I$4:I$4=Y17))*IF(P$4:P$4=\"\",0,P$4:P$4)*((Q$4:Q$4=\"\")+(Q$4:Q$4=\"50/50\")/2)))","v":""},{"$f":"IF(Y17=0,\"\",SUMPRODUCT((F$4:F$38=\"Aire\")*((H$4:H$38=Y17)+(I$4:I$38=Y17))*(L$4:L$38)))","v":""},{"$f":"IF(Y17=0,\"\",SUMPRODUCT((F$4:F$4=\"Luchon\")*((H$4:H$4=Y17)+(I$4:I$4=Y17))*(L$4:L$4)))","v":""},null,null,0,null,{"$f":"SUMIF(H5:H136,AH17,L5:L136)","v":"00:00:00"},{"$f":"IF(Y17=0,\"\",SUMPRODUCT((F$4:F$4=\"Aire\")*((H$4:H$4=Y17)+(I$4:I$4=Y17))*IF(G$4:G$4=\"\",0,G$4:G$4)*((Q$4:Q$4=\"\")+(Q$4:Q$4=\"50/50\")/2)))","v":""},{"$f":"IF(Y17=0,\"\",SUMPRODUCT((F$4:F$4=\"Luchon\")*((H$4:H$4=Y17)+(I$4:I$4=Y17))*IF(G$4:G$4=\"\",0,G$4:G$4)*((Q$4:Q$4=\"\")+(Q$4:Q$4=\"50/50\")/2)))","v":""},null,null,{"$f":"IF(ROWS(AO$3:AO16)<=SUM(IF(D$4:D$4<>\"\",COUNTIF(D$4:D$4,D$4:D$4))),INDEX(D$1:D$4,MIN(IF(COUNTIF(AO$3:AO16,D$4:D$4)=0,ROW(D$4:D$4)))))","v":false},{"$f":"IF(ROWS(AP$3:AP16)<=SUM(IF(E$4:E$4<>\"\",COUNTIF(E$4:E$4,E$4:E$4))),INDEX(E$1:E$4,MIN(IF(COUNTIF(AP$3:AP16,E$4:E$4)=0,ROW(E$4:E$4)))))","v":false},{"$error":"#N/A"},{"$f":"SUMIF(D5:D136,AO17,L5:L136)","v":0}]
[null,null,null,null,null,null,null,null,null,null,null,null,null,null,null,null,null,null,null,null,null," ",null,null,{"$f":"IF(ROWS(Y$3:Y17)<=SUM(IF(H$4:H$38<>\"\",1/COUNTIF(H$4:H$38,H$4:H$38))),INDEX(H$1:H$38,MIN(IF(COUNTIF(Y$3:Y17,H$4:H$38)=0,ROW(H$4:H$38)))),INDEX(I$1:I$38,MIN(IF((I$4:I$38<>\"\")*(COUNTIF(Y$3:Y17,I$4:I$38)=0),ROW(H$4:H$38)))))","v":0},{"$f":"IF(Y18=0,\"\",SUMPRODUCT((F$4:F$76=\"Aire\")*((H$4:H$76=Y18)+(I$4:I$76=Y18))*IF(O$4:O$76=\"\",0,O$4:O$76)*((Q$4:Q$76=\"\")+(Q$4:Q$76=\"50/50\")/2)))","v":""},{"$f":"IF(Y18=0,\"\",SUMPRODUCT((F$4:F$56=\"Aire\")*((H$4:H$56=Y18)+(I$4:I$56=Y18))*IF(P$4:P$56=\"\",0,P$4:P$56)*((Q$4:Q$56=\"\")+(Q$4:Q$56=\"50/50\")/2)))","v":""},{"$f":"IF(Y18=0,\"\",SUMPRODUCT((F$4:F$4=\"Luchon\")*((H$4:H$4=Y18)+(I$4:I$4=Y18))*IF(O$4:O$4=\"\",0,O$4:O$4)*((Q$4:Q$4=\"\")+(Q$4:Q$4=\"50/50\")/2)))","v":""},{"$f":"IF(Y18=0,\"\",SUMPRODUCT((F$4:F$4=\"Luchon\")*((H$4:H$4=Y18)+(I$4:I$4=Y18))*IF(P$4:P$4=\"\",0,P$4:P$4)*((Q$4:Q$4=\"\")+(Q$4:Q$4=\"50/50\")/2)))","v":""},{"$f":"IF(Y18=0,\"\",SUMPRODUCT((F$4:F$38=\"Aire\")*((H$4:H$38=Y18)+(I$4:I$38=Y18))*(L$4:L$38)))","v":""},{"$f":"IF(Y18=0,\"\",SUMPRODUCT((F$4:F$4=\"Luchon\")*((H$4:H$4=Y18)+(I$4:I$4=Y18))*(L$4:L$4)))","v":""},null,null,0,null,{"$f":"SUMIF(H5:H137,AH18,L5:L137)","v":"00:00:00"},{"$f":"IF(Y18=0,\"\",SUMPRODUCT((F$4:F$4=\"Aire\")*((H$4:H$4=Y18)+(I$4:I$4=Y18))*IF(G$4:G$4=\"\",0,G$4:G$4)*((Q$4:Q$4=\"\")+(Q$4:Q$4=\"50/50\")/2)))","v":""},{"$f":"IF(Y18=0,\"\",SUMPRODUCT((F$4:F$4=\"Luchon\")*((H$4:H$4=Y18)+(I$4:I$4=Y18))*IF(G$4:G$4=\"\",0,G$4:G$4)*((Q$4:Q$4=\"\")+(Q$4:Q$4=\"50/50\")/2)))","v":""},null,null,{"$f":"IF(ROWS(AO$3:AO17)<=SUM(IF(D$4:D$4<>\"\",COUNTIF(D$4:D$4,D$4:D$4))),INDEX(D$1:D$4,MIN(IF(COUNTIF(AO$3:AO17,D$4:D$4)=0,ROW(D$4:D$4)))))","v":false},{"$f":"IF(ROWS(AP$3:AP17)<=SUM(IF(E$4:E$4<>\"\",COUNTIF(E$4:E$4,E$4:E$4))),INDEX(E$1:E$4,MIN(IF(COUNTIF(AP$3:AP17,E$4:E$4)=0,ROW(E$4:E$4)))))","v":false},{"$error":"#N/A"},{"$f":"SUMIF(D5:D137,AO18,L5:L137)","v":0}]
[null,null,null,null,null,null,null,null,null,null,null,null,null,null,null,null,null,null,null,null,null,null,null,null,{"$f":"IF(ROWS(Y$3:Y18)<=SUM(IF(H$4:H$38<>\"\",1/COUNTIF(H$4:H$38,H$4:H$38))),INDEX(H$1:H$38,MIN(IF(COUNTIF(Y$3:Y18,H$4:H$38)=0,ROW(H$4:H$38)))),INDEX(I$1:I$38,MIN(IF((I$4:I$38<>\"\")*(COUNTIF(Y$3:Y18,I$4:I$38)=0),ROW(H$4:H$38)))))","v":0},{"$f":"IF(Y19=0,\"\",SUMPRODUCT((F$4:F$76=\"Aire\")*((H$4:H$76=Y19)+(I$4:I$76=Y19))*IF(O$4:O$76=\"\",0,O$4:O$76)*((Q$4:Q$76=\"\")+(Q$4:Q$76=\"50/50\")/2)))","v":""},{"$f":"IF(Y19=0,\"\",SUMPRODUCT((F$4:F$56=\"Aire\")*((H$4:H$56=Y19)+(I$4:I$56=Y19))*IF(P$4:P$56=\"\",0,P$4:P$56)*((Q$4:Q$56=\"\")+(Q$4:Q$56=\"50/50\")/2)))","v":""},{"$f":"IF(Y19=0,\"\",SUMPRODUCT((F$4:F$4=\"Luchon\")*((H$4:H$4=Y19)+(I$4:I$4=Y19))*IF(O$4:O$4=\"\",0,O$4:O$4)*((Q$4:Q$4=\"\")+(Q$4:Q$4=\"50/50\")/2)))","v":""},{"$f":"IF(Y19=0,\"\",SUMPRODUCT((F$4:F$4=\"Luchon\")*((H$4:H$4=Y19)+(I$4:I$4=Y19))*IF(P$4:P$4=\"\",0,P$4:P$4)*((Q$4:Q$4=\"\")+(Q$4:Q$4=\"50/50\")/2)))","v":""},{"$f":"IF(Y19=0,\"\",SUMPRODUCT((F$4:F$38=\"Aire\")*((H$4:H$38=Y19)+(I$4:I$38=Y19))*(L$4:L$38)))","v":""},{"$f":"IF(Y19=0,\"\",SUMPRODUCT((F$4:F$4=\"Luchon\")*((H$4:H$4=Y19)+(I$4:I$4=Y19))*(L$4:L$4)))","v":""},null,null,0,null,{"$f":"SUMIF(H5:H139,AH19,L5:L139)","v":"00:00:00"},{"$f":"IF(Y19=0,\"\",SUMPRODUCT((F$4:F$4=\"Aire\")*((H$4:H$4=Y19)+(I$4:I$4=Y19))*IF(G$4:G$4=\"\",0,G$4:G$4)*((Q$4:Q$4=\"\")+(Q$4:Q$4=\"50/50\")/2)))","v":""},{"$f":"IF(Y19=0,\"\",SUMPRODUCT((F$4:F$4=\"Luchon\")*((H$4:H$4=Y19)+(I$4:I$4=Y19))*IF(G$4:G$4=\"\",0,G$4:G$4)*((Q$4:Q$4=\"\")+(Q$4:Q$4=\"50/50\")/2)))","v":""},null,null,{"$f":"IF(ROWS(AO$3:AO18)<=SUM(IF(D$4:D$4<>\"\",COUNTIF(D$4:D$4,D$4:D$4))),INDEX(D$1:D$4,MIN(IF(COUNTIF(AO$3:AO18,D$4:D$4)=0,ROW(D$4:D$4)))))","v":false},{"$f":"IF(ROWS(AP$3:AP18)<=SUM(IF(E$4:E$4<>\"\",COUNTIF(E$4:E$4,E$4:E$4))),INDEX(E$1:E$4,MIN(IF(COUNTIF(AP$3:AP18,E$4:E$4)=0,ROW(E$4:E$4)))))","v":false},{"$error":"#N/A"},{"$f":"SUMIF(D5:D139,AO19,L5:L139)","v":0}]
[null,null,null,null,null,null,null,null,null,null,null,null,null,null,null,null,null,null,null,null,null,null,null,null,{"$f":"IF(ROWS(Y$3:Y19)<=SUM(IF(H$4:H$38<>\"\",1/COUNTIF(H$4:H$38,H$4:H$38))),INDEX(H$1:H$38,MIN(IF(COUNTIF(Y$3:Y19,H$4:H$38)=0,ROW(H$4:H$38)))),INDEX(I$1:I$38,MIN(IF((I$4:I$38<>\"\")*(COUNTIF(Y$3:Y19,I$4:I$38)=0),ROW(H$4:H$38)))))","v":0},{"$f":"IF(Y20=0,\"\",SUMPRODUCT((F$4:F$76=\"Aire\")*((H$4:H$76=Y20)+(I$4:I$76=Y20))*IF(O$4:O$76=\"\",0,O$4:O$76)*((Q$4:Q$76=\"\")+(Q$4:Q$76=\"50/50\")/2)))","v":""},{"$f":"IF(Y20=0,\"\",SUMPRODUCT((F$4:F$56=\"Aire\")*((H$4:H$56=Y20)+(I$4:I$56=Y20))*IF(P$4:P$56=\"\",0,P$4:P$56)*((Q$4:Q$56=\"\")+(Q$4:Q$56=\"50/50\")/2)))","v":""},{"$f":"IF(Y20=0,\"\",SUMPRODUCT((F$4:F$4=\"Luchon\")*((H$4:H$4=Y20)+(I$4:I$4=Y20))*IF(O$4:O$4=\"\",0,O$4:O$4)*((Q$4:Q$4=\"\")+(Q$4:Q$4=\"50/50\")/2)))","v":""},{"$f":"IF(Y20=0,\"\",SUMPRODUCT((F$4:F$4=\"Luchon\")*((H$4:H$4=Y20)+(I$4:I$4=Y20))*IF(P$4:P$4=\"\",0,P$4:P$4)*((Q$4:Q$4=\"\")+(Q$4:Q$4=\"50/50\")/2)))","v":""},{"$f":"IF(Y20=0,\"\",SUMPRODUCT((F$4:F$38=\"Aire\")*((H$4:H$38=Y20)+(I$4:I$38=Y20))*(L$4:L$38)))","v":""},{"$f":"IF(Y20=0,\"\",SUMPRODUCT((F$4:F$4=\"Luchon\")*((H$4:H$4=Y20)+(I$4:I$4=Y20))*(L$4:L$4)))","v":""},null,null,0,null,{"$f":"SUMIF(H5:H140,AH20,L5:L140)","v":"00:00:00"},{"$f":"IF(Y20=0,\"\",SUMPRODUCT((F$4:F$4=\"Aire\")*((H$4:H$4=Y20)+(I$4:I$4=Y20))*IF(G$4:G$4=\"\",0,G$4:G$4)*((Q$4:Q$4=\"\")+(Q$4:Q$4=\"50/50\")/2)))","v":""},{"$f":"IF(Y20=0,\"\",SUMPRODUCT((F$4:F$4=\"Luchon\")*((H$4:H$4=Y20)+(I$4:I$4=Y20))*IF(G$4:G$4=\"\",0,G$4:G$4)*((Q$4:Q$4=\"\")+(Q$4:Q$4=\"50/50\")/2)))","v":""},null,null,{"$f":"IF(ROWS(AO$3:AO19)<=SUM(IF(D$4:D$4<>\"\",COUNTIF(D$4:D$4,D$4:D$4))),INDEX(D$1:D$4,MIN(IF(COUNTIF(AO$3:AO19,D$4:D$4)=0,ROW(D$4:D$4)))))","v":false},{"$f":"IF(ROWS(AP$3:AP19)<=SUM(IF(E$4:E$4<>\"\",COUNTIF(E$4:E$4,E$4:E$4))),INDEX(E$1:E$4,MIN(IF(COUNTIF(AP$3:AP19,E$4:E$4)=0,ROW(E$4:E$4)))))","v":false},{"$error":"#N/A"},{"$f":"SUMIF(D5:D140,AO20,L5:L140)","v":0}]
[null,null,null,null,null,null,null,null,null,null,null,null,null,null,null,null,null,null,null,null,null,null,null,null,{"$f":"IF(ROWS(Y$3:Y20)<=SUM(IF(H$4:H$38<>\"\",1/COUNTIF(H$4:H$38,H$4:H$38))),INDEX(H$1:H$38,MIN(IF(COUNTIF(Y$3:Y20,H$4:H$38)=0,ROW(H$4:H$38)))),INDEX(I$1:I$38,MIN(IF((I$4:I$38<>\"\")*(COUNTIF(Y$3:Y20,I$4:I$38)=0),ROW(H$4:H$38)))))","v":0},{"$f":"IF(Y21=0,\"\",SUMPRODUCT((F$4:F$76=\"Aire\")*((H$4:H$76=Y21)+(I$4:I$76=Y21))*IF(O$4:O$76=\"\",0,O$4:O$76)*((Q$4:Q$76=\"\")+(Q$4:Q$76=\"50/50\")/2)))","v":""},{"$f":"IF(Y21=0,\"\",SUMPRODUCT((F$4:F$56=\"Aire\")*((H$4:H$56=Y21)+(I$4:I$56=Y21))*IF(P$4:P$56=\"\",0,P$4:P$56)*((Q$4:Q$56=\"\")+(Q$4:Q$56=\"50/50\")/2)))","v":""},{"$f":"IF(Y21=0,\"\",SUMPRODUCT((F$4:F$4=\"Luchon\")*((H$4:H$4=Y21)+(I$4:I$4=Y21))*IF(O$4:O$4=\"\",0,O$4:O$4)*((Q$4:Q$4=\"\")+(Q$4:Q$4=\"50/50\")/2)))","v":""},{"$f":"IF(Y21=0,\"\",SUMPRODUCT((F$4:F$4=\"Luchon\")*((H$4:H$4=Y21)+(I$4:I$4=Y21))*IF(P$4:P$4=\"\",0,P$4:P$4)*((Q$4:Q$4=\"\")+(Q$4:Q$4=\"50/50\")/2)))","v":""},{"$f":"IF(Y21=0,\"\",SUMPRODUCT((F$4:F$38=\"Aire\")*((H$4:H$38=Y21)+(I$4:I$38=Y21))*(L$4:L$38)))","v":""},{"$f":"IF(Y21=0,\"\",SUMPRODUCT((F$4:F$4=\"Luchon\")*((H$4:H$4=Y21)+(I$4:I$4=Y21))*(L$4:L$4)))","v":""},null,null,0,null,{"$f":"SUMIF(H5:H141,AH21,L5:L141)","v":"00:00:00"},{"$f":"IF(Y21=0,\"\",SUMPRODUCT((F$4:F$4=\"Aire\")*((H$4:H$4=Y21)+(I$4:I$4=Y21))*IF(G$4:G$4=\"\",0,G$4:G$4)*((Q$4:Q$4=\"\")+(Q$4:Q$4=\"50/50\")/2)))","v":""},{"$f":"IF(Y21=0,\"\",SUMPRODUCT((F$4:F$4=\"Luchon\")*((H$4:H$4=Y21)+(I$4:I$4=Y21))*IF(G$4:G$4=\"\",0,G$4:G$4)*((Q$4:Q$4=\"\")+(Q$4:Q$4=\"50/50\")/2)))","v":""},null,null,{"$f":"IF(ROWS(AO$3:AO20)<=SUM(IF(D$4:D$4<>\"\",COUNTIF(D$4:D$4,D$4:D$4))),INDEX(D$1:D$4,MIN(IF(COUNTIF(AO$3:AO20,D$4:D$4)=0,ROW(D$4:D$4)))))","v":false},{"$f":"IF(ROWS(AP$3:AP20)<=SUM(IF(E$4:E$4<>\"\",COUNTIF(E$4:E$4,E$4:E$4))),INDEX(E$1:E$4,MIN(IF(COUNTIF(AP$3:AP20,E$4:E$4)=0,ROW(E$4:E$4)))))","v":false},{"$error":"#N/A"},{"$f":"SUMIF(D5:D141,AO21,L5:L141)","v":0}]
[null,null,null,null,null,null,null,null,null,null,null,null,null,null,null,null,null,null,null,null,null,null,null,null,{"$f":"IF(ROWS(Y$3:Y21)<=SUM(IF(H$4:H$38<>\"\",1/COUNTIF(H$4:H$38,H$4:H$38))),INDEX(H$1:H$38,MIN(IF(COUNTIF(Y$3:Y21,H$4:H$38)=0,ROW(H$4:H$38)))),INDEX(I$1:I$38,MIN(IF((I$4:I$38<>\"\")*(COUNTIF(Y$3:Y21,I$4:I$38)=0),ROW(H$4:H$38)))))","v":0},{"$f":"IF(Y22=0,\"\",SUMPRODUCT((F$4:F$76=\"Aire\")*((H$4:H$76=Y22)+(I$4:I$76=Y22))*IF(O$4:O$76=\"\",0,O$4:O$76)*((Q$4:Q$76=\"\")+(Q$4:Q$76=\"50/50\")/2)))","v":""},{"$f":"IF(Y22=0,\"\",SUMPRODUCT((F$4:F$56=\"Aire\")*((H$4:H$56=Y22)+(I$4:I$56=Y22))*IF(P$4:P$56=\"\",0,P$4:P$56)*((Q$4:Q$56=\"\")+(Q$4:Q$56=\"50/50\")/2)))","v":""},{"$f":"IF(Y22=0,\"\",SUMPRODUCT((F$4:F$4=\"Luchon\")*((H$4:H$4=Y22)+(I$4:I$4=Y22))*IF(O$4:O$4=\"\",0,O$4:O$4)*((Q$4:Q$4=\"\")+(Q$4:Q$4=\"50/50\")/2)))","v":""},{"$f":"IF(Y22=0,\"\",SUMPRODUCT((F$4:F$4=\"Luchon\")*((H$4:H$4=Y22)+(I$4:I$4=Y22))*IF(P$4:P$4=\"\",0,P$4:P$4)*((Q$4:Q$4=\"\")+(Q$4:Q$4=\"50/50\")/2)))","v":""},{"$f":"IF(Y22=0,\"\",SUMPRODUCT((F$4:F$38=\"Aire\")*((H$4:H$38=Y22)+(I$4:I$38=Y22))*(L$4:L$38)))","v":""},{"$f":"IF(Y22=0,\"\",SUMPRODUCT((F$4:F$4=\"Luchon\")*((H$4:H$4=Y22)+(I$4:I$4=Y22))*(L$4:L$4)))","v":""},null,null,0,null,{"$f":"SUMIF(H5:H142,AH22,L5:L142)","v":"00:00:00"},{"$f":"IF(Y22=0,\"\",SUMPRODUCT((F$4:F$4=\"Aire\")*((H$4:H$4=Y22)+(I$4:I$4=Y22))*IF(G$4:G$4=\"\",0,G$4:G$4)*((Q$4:Q$4=\"\")+(Q$4:Q$4=\"50/50\")/2)))","v":""},{"$f":"IF(Y22=0,\"\",SUMPRODUCT((F$4:F$4=\"Luchon\")*((H$4:H$4=Y22)+(I$4:I$4=Y22))*IF(G$4:G$4=\"\",0,G$4:G$4)*((Q$4:Q$4=\"\")+(Q$4:Q$4=\"50/50\")/2)))","v":""},null,null,{"$f":"IF(ROWS(AO$3:AO21)<=SUM(IF(D$4:D$4<>\"\",COUNTIF(D$4:D$4,D$4:D$4))),INDEX(D$1:D$4,MIN(IF(COUNTIF(AO$3:AO21,D$4:D$4)=0,ROW(D$4:D$4)))))","v":false},{"$f":"IF(ROWS(AP$3:AP21)<=SUM(IF(E$4:E$4<>\"\",COUNTIF(E$4:E$4,E$4:E$4))),INDEX(E$1:E$4,MIN(IF(COUNTIF(AP$3:AP21,E$4:E$4)=0,ROW(E$4:E$4)))))","v":false},{"$error":"#N/A"},{"$f":"SUMIF(D5:D142,AO22,L5:L142)","v":0}]
[null,null,null,null,null,null,null,null,null,null,null,null,null,null,null,null,null,null,null,null,null,null,null,null,{"$f":"IF(ROWS(Y$3:Y22)<=SUM(IF(H$4:H$38<>\"\",1/COUNTIF(H$4:H$38,H$4:H$38))),INDEX(H$1:H$38,MIN(IF(COUNTIF(Y$3:Y22,H$4:H$38)=0,ROW(H$4:H$38)))),INDEX(I$1:I$38,MIN(IF((I$4:I$38<>\"\")*(COUNTIF(Y$3:Y22,I$4:I$38)=0),ROW(H$4:H$38)))))","v":0},{"$f":"IF(Y23=0,\"\",SUMPRODUCT((F$4:F$76=\"Aire\")*((H$4:H$76=Y23)+(I$4:I$76=Y23))*IF(O$4:O$76=\"\",0,O$4:O$76)*((Q$4:Q$76=\"\")+(Q$4:Q$76=\"50/50\")/2)))","v":""},{"$f":"IF(Y23=0,\"\",SUMPRODUCT((F$4:F$56=\"Aire\")*((H$4:H$56=Y23)+(I$4:I$56=Y23))*IF(P$4:P$56=\"\",0,P$4:P$56)*((Q$4:Q$56=\"\")+(Q$4:Q$56=\"50/50\")/2)))","v":""},{"$f":"IF(Y23=0,\"\",SUMPRODUCT((F$4:F$4=\"Luchon\")*((H$4:H$4=Y23)+(I$4:I$4=Y23))*IF(O$4:O$4=\"\",0,O$4:O$4)*((Q$4:Q$4=\"\")+(Q$4:Q$4=\"50/50\")/2)))","v":""},{"$f":"IF(Y23=0,\"\",SUMPRODUCT((F$4:F$4=\"Luchon\")*((H$4:H$4=Y23)+(I$4:I$4=Y23))*IF(P$4:P$4=\"\",0,P$4:P$4)*((Q$4:Q$4=\"\")+(Q$4:Q$4=\"50/50\")/2)))","v":""},{"$f":"IF(Y23=0,\"\",SUMPRODUCT((F$4:F$38=\"Aire\")*((H$4:H$38=Y23)+(I$4:I$38=Y23))*(L$4:L$38)))","v":""},{"$f":"IF(Y23=0,\"\",SUMPRODUCT((F$4:F$4=\"Luchon\")*((H$4:H$4=Y23)+(I$4:I$4=Y23))*(L$4:L$4)))","v":""},null,null,0,null,{"$f":"SUMIF(H5:H143,AH23,L5:L143)","v":"00:00:00"},{"$f":"IF(Y23=0,\"\",SUMPRODUCT((F$4:F$4=\"Aire\")*((H$4:H$4=Y23)+(I$4:I$4=Y23))*IF(G$4:G$4=\"\",0,G$4:G$4)*((Q$4:Q$4=\"\")+(Q$4:Q$4=\"50/50\")/2)))","v":""},{"$f":"IF(Y23=0,\"\",SUMPRODUCT((F$4:F$4=\"Luchon\")*((H$4:H$4=Y23)+(I$4:I$4=Y23))*IF(G$4:G$4=\"\",0,G$4:G$4)*((Q$4:Q$4=\"\")+(Q$4:Q$4=\"50/50\")/2)))","v":""},null,null,{"$f":"IF(ROWS(AO$3:AO22)<=SUM(IF(D$4:D$4<>\"\",COUNTIF(D$4:D$4,D$4:D$4))),INDEX(D$1:D$4,MIN(IF(COUNTIF(AO$3:AO22,D$4:D$4)=0,ROW(D$4:D$4)))))","v":false},{"$f":"IF(ROWS(AP$3:AP22)<=SUM(IF(E$4:E$4<>\"\",COUNTIF(E$4:E$4,E$4:E$4))),INDEX(E$1:E$4,MIN(IF(COUNTIF(AP$3:AP22,E$4:E$4)=0,ROW(E$4:E$4)))))","v":false},{"$error":"#N/A"},{"$f":"SUMIF(D5:D143,AO23,L5:L143)","v":0}]
[null,null,null,null,null,null,null,null,null,null,null,null,null,null,null,null,null,null,null,null,null,null,null,null,{"$f":"IF(ROWS(Y$3:Y23)<=SUM(IF(H$4:H$38<>\"\",1/COUNTIF(H$4:H$38,H$4:H$38))),INDEX(H$1:H$38,MIN(IF(COUNTIF(Y$3:Y23,H$4:H$38)=0,ROW(H$4:H$38)))),INDEX(I$1:I$38,MIN(IF((I$4:I$38<>\"\")*(COUNTIF(Y$3:Y23,I$4:I$38)=0),ROW(H$4:H$38)))))","v":0},{"$f":"IF(Y24=0,\"\",SUMPRODUCT((F$4:F$76=\"Aire\")*((H$4:H$76=Y24)+(I$4:I$76=Y24))*IF(O$4:O$76=\"\",0,O$4:O$76)*((Q$4:Q$76=\"\")+(Q$4:Q$76=\"50/50\")/2)))","v":""},{"$f":"IF(Y24=0,\"\",SUMPRODUCT((F$4:F$56=\"Aire\")*((H$4:H$56=Y24)+(I$4:I$56=Y24))*IF(P$4:P$56=\"\",0,P$4:P$56)*((Q$4:Q$56=\"\")+(Q$4:Q$56=\"50/50\")/2)))","v":""},{"$f":"IF(Y24=0,\"\",SUMPRODUCT((F$4:F$4=\"Luchon\")*((H$4:H$4=Y24)+(I$4:I$4=Y24))*IF(O$4:O$4=\"\",0,O$4:O$4)*((Q$4:Q$4=\"\")+(Q$4:Q$4=\"50/50\")/2)))","v":""},{"$f":"IF(Y24=0,\"\",SUMPRODUCT((F$4:F$4=\"Luchon\")*((H$4:H$4=Y24)+(I$4:I$4=Y24))*IF(P$4:P$4=\"\",0,P$4:P$4)*((Q$4:Q$4=\"\")+(Q$4:Q$4=\"50/50\")/2)))","v":""},{"$f":"IF(Y24=0,\"\",SUMPRODUCT((F$4:F$38=\"Aire\")*((H$4:H$38=Y24)+(I$4:I$38=Y24))*(L$4:L$38)))","v":""},{"$f":"IF(Y24=0,\"\",SUMPRODUCT((F$4:F$4=\"Luchon\")*((H$4:H$4=Y24)+(I$4:I$4=Y24))*(L$4:L$4)))","v":""},null,null,0,null,{"$f":"SUMIF(H5:H144,AH24,L5:L144)","v":"00:00:00"},{"$f":"IF(Y24=0,\"\",SUMPRODUCT((F$4:F$4=\"Aire\")*((H$4:H$4=Y24)+(I$4:I$4=Y24))*IF(G$4:G$4=\"\",0,G$4:G$4)*((Q$4:Q$4=\"\")+(Q$4:Q$4=\"50/50\")/2)))","v":""},{"$f":"IF(Y24=0,\"\",SUMPRODUCT((F$4:F$4=\"Luchon\")*((H$4:H$4=Y24)+(I$4:I$4=Y24))*IF(G$4:G$4=\"\",0,G$4:G$4)*((Q$4:Q$4=\"\")+(Q$4:Q$4=\"50/50\")/2)))","v":""},null,null,{"$f":"IF(ROWS(AO$3:AO23)<=SUM(IF(D$4:D$4<>\"\",COUNTIF(D$4:D$4,D$4:D$4))),INDEX(D$1:D$4,MIN(IF(COUNTIF(AO$3:AO23,D$4:D$4)=0,ROW(D$4:D$4)))))","v":false},{"$f":"IF(ROWS(AP$3:AP23)<=SUM(IF(E$4:E$4<>\"\",COUNTIF(E$4:E$4,E$4:E$4))),INDEX(E$1:E$4,MIN(IF(COUNTIF(AP$3:AP23,E$4:E$4)=0,ROW(E$4:E$4)))))","v":false},{"$error":"#N/A"},{"$f":"SUMIF(D5:D144,AO24,L5:L144)","v":0}]
[null,null,null,null,null,null,null,null,null,null,null,null,null,null,null,null,null,null,null,null,null,null,null,null,{"$f":"IF(ROWS(Y$3:Y24)<=SUM(IF(H$4:H$38<>\"\",1/COUNTIF(H$4:H$38,H$4:H$38))),INDEX(H$1:H$38,MIN(IF(COUNTIF(Y$3:Y24,H$4:H$38)=0,ROW(H$4:H$38)))),INDEX(I$1:I$38,MIN(IF((I$4:I$38<>\"\")*(COUNTIF(Y$3:Y24,I$4:I$38)=0),ROW(H$4:H$38)))))","v":0},{"$f":"IF(Y25=0,\"\",SUMPRODUCT((F$4:F$76=\"Aire\")*((H$4:H$76=Y25)+(I$4:I$76=Y25))*IF(O$4:O$76=\"\",0,O$4:O$76)*((Q$4:Q$76=\"\")+(Q$4:Q$76=\"50/50\")/2)))","v":""},{"$f":"IF(Y25=0,\"\",SUMPRODUCT((F$4:F$56=\"Aire\")*((H$4:H$56=Y25)+(I$4:I$56=Y25))*IF(P$4:P$56=\"\",0,P$4:P$56)*((Q$4:Q$56=\"\")+(Q$4:Q$56=\"50/50\")/2)))","v":""},{"$f":"IF(Y25=0,\"\",SUMPRODUCT((F$4:F$4=\"Luchon\")*((H$4:H$4=Y25)+(I$4:I$4=Y25))*IF(O$4:O$4=\"\",0,O$4:O$4)*((Q$4:Q$4=\"\")+(Q$4:Q$4=\"50/50\")/2)))","v":""},{"$f":"IF(Y25=0,\"\",SUMPRODUCT((F$4:F$4=\"Luchon\")*((H$4:H$4=Y25)+(I$4:I$4=Y25))*IF(P$4:P$4=\"\",0,P$4:P$4)*((Q$4:Q$4=\"\")+(Q$4:Q$4=\"50/50\")/2)))","v":""},{"$f":"IF(Y25=0,\"\",SUMPRODUCT((F$4:F$38=\"Aire\")*((H$4:H$38=Y25)+(I$4:I$38=Y25))*(L$4:L$38)))","v":""},{"$f":"IF(Y25=0,\"\",SUMPRODUCT((F$4:F$4=\"Luchon\")*((H$4:H$4=Y25)+(I$4:I$4=Y25))*(L$4:L$4)))","v":""},null,null,0,null,{"$f":"SUMIF(H5:H145,AH25,L5:L145)","v":"00:00:00"},{"$f":"IF(Y25=0,\"\",SUMPRODUCT((F$4:F$4=\"Aire\")*((H$4:H$4=Y25)+(I$4:I$4=Y25))*IF(G$4:G$4=\"\",0,G$4:G$4)*((Q$4:Q$4=\"\")+(Q$4:Q$4=\"50/50\")/2)))","v":""},{"$f":"IF(Y25=0,\"\",SUMPRODUCT((F$4:F$4=\"Luchon\")*((H$4:H$4=Y25)+(I$4:I$4=Y25))*IF(G$4:G$4=\"\",0,G$4:G$4)*((Q$4:Q$4=\"\")+(Q$4:Q$4=\"50/50\")/2)))","v":""},null,null,{"$f":"IF(ROWS(AO$3:AO24)<=SUM(IF(D$4:D$4<>\"\",COUNTIF(D$4:D$4,D$4:D$4))),INDEX(D$1:D$4,MIN(IF(COUNTIF(AO$3:AO24,D$4:D$4)=0,ROW(D$4:D$4)))))","v":false},{"$f":"IF(ROWS(AP$3:AP24)<=SUM(IF(E$4:E$4<>\"\",COUNTIF(E$4:E$4,E$4:E$4))),INDEX(E$1:E$4,MIN(IF(COUNTIF(AP$3:AP24,E$4:E$4)=0,ROW(E$4:E$4)))))","v":false},{"$error":"#N/A"},{"$f":"SUMIF(D5:D145,AO25,L5:L145)","v":0}]
[null,null,null,null,null,null,null,null,null,null,null,null,null,null,null,null,null,null,null,null,null,null,null,null,{"$f":"IF(ROWS(Y$3:Y25)<=SUM(IF(H$4:H$38<>\"\",1/COUNTIF(H$4:H$38,H$4:H$38))),INDEX(H$1:H$38,MIN(IF(COUNTIF(Y$3:Y25,H$4:H$38)=0,ROW(H$4:H$38)))),INDEX(I$1:I$38,MIN(IF((I$4:I$38<>\"\")*(COUNTIF(Y$3:Y25,I$4:I$38)=0),ROW(H$4:H$38)))))","v":0},{"$f":"IF(Y26=0,\"\",SUMPRODUCT((F$4:F$76=\"Aire\")*((H$4:H$76=Y26)+(I$4:I$76=Y26))*IF(O$4:O$76=\"\",0,O$4:O$76)*((Q$4:Q$76=\"\")+(Q$4:Q$76=\"50/50\")/2)))","v":""},{"$f":"IF(Y26=0,\"\",SUMPRODUCT((F$4:F$56=\"Aire\")*((H$4:H$56=Y26)+(I$4:I$56=Y26))*IF(P$4:P$56=\"\",0,P$4:P$56)*((Q$4:Q$56=\"\")+(Q$4:Q$56=\"50/50\")/2)))","v":""},{"$f":"IF(Y26=0,\"\",SUMPRODUCT((F$4:F$4=\"Luchon\")*((H$4:H$4=Y26)+(I$4:I$4=Y26))*IF(O$4:O$4=\"\",0,O$4:O$4)*((Q$4:Q$4=\"\")+(Q$4:Q$4=\"50/50\")/2)))","v":""},{"$f":"IF(Y26=0,\"\",SUMPRODUCT((F$4:F$4=\"Luchon\")*((H$4:H$4=Y26)+(I$4:I$4=Y26))*IF(P$4:P$4=\"\",0,P$4:P$4)*((Q$4:Q$4=\"\")+(Q$4:Q$4=\"50/50\")/2)))","v":""},{"$f":"IF(Y26=0,\"\",SUMPRODUCT((F$4:F$38=\"Aire\")*((H$4:H$38=Y26)+(I$4:I$38=Y26))*(L$4:L$38)))","v":""},{"$f":"IF(Y26=0,\"\",SUMPRODUCT((F$4:F$4=\"Luchon\")*((H$4:H$4=Y26)+(I$4:I$4=Y26))*(L$4:L$4)))","v":""},null,null,0,null,{"$f":"SUMIF(H5:H146,AH26,L5:L146)","v":"00:00:00"},{"$f":"IF(Y26=0,\"\",SUMPRODUCT((F$4:F$4=\"Aire\")*((H$4:H$4=Y26)+(I$4:I$4=Y26))*IF(G$4:G$4=\"\",0,G$4:G$4)*((Q$4:Q$4=\"\")+(Q$4:Q$4=\"50/50\")/2)))","v":""},{"$f":"IF(Y26=0,\"\",SUMPRODUCT((F$4:F$4=\"Luchon\")*((H$4:H$4=Y26)+(I$4:I$4=Y26))*IF(G$4:G$4=\"\",0,G$4:G$4)*((Q$4:Q$4=\"\")+(Q$4:Q$4=\"50/50\")/2)))","v":""},null,null,{"$f":"IF(ROWS(AO$3:AO25)<=SUM(IF(D$4:D$4<>\"\",COUNTIF(D$4:D$4,D$4:D$4))),INDEX(D$1:D$4,MIN(IF(COUNTIF(AO$3:AO25,D$4:D$4)=0,ROW(D$4:D$4)))))","v":false},{"$f":"IF(ROWS(AP$3:AP25)<=SUM(IF(E$4:E$4<>\"\",COUNTIF(E$4:E$4,E$4:E$4))),INDEX(E$1:E$4,MIN(IF(COUNTIF(AP$3:AP25,E$4:E$4)=0,ROW(E$4:E$4)))))","v":false},{"$error":"#N/A"},{"$f":"SUMIF(D5:D146,AO26,L5:L146)","v":0}]
[null,null,null,null,null,null,null,null,null,null,null,null,null,null,null,null,null,null,null,null,null,null,null,null,{"$f":"IF(ROWS(Y$3:Y26)<=SUM(IF(H$4:H$38<>\"\",1/COUNTIF(H$4:H$38,H$4:H$38))),INDEX(H$1:H$38,MIN(IF(COUNTIF(Y$3:Y26,H$4:H$38)=0,ROW(H$4:H$38)))),INDEX(I$1:I$38,MIN(IF((I$4:I$38<>\"\")*(COUNTIF(Y$3:Y26,I$4:I$38)=0),ROW(H$4:H$38)))))","v":0},{"$f":"IF(Y27=0,\"\",SUMPRODUCT((F$4:F$76=\"Aire\")*((H$4:H$76=Y27)+(I$4:I$76=Y27))*IF(O$4:O$76=\"\",0,O$4:O$76)*((Q$4:Q$76=\"\")+(Q$4:Q$76=\"50/50\")/2)))","v":""},{"$f":"IF(Y27=0,\"\",SUMPRODUCT((F$4:F$56=\"Aire\")*((H$4:H$56=Y27)+(I$4:I$56=Y27))*IF(P$4:P$56=\"\",0,P$4:P$56)*((Q$4:Q$56=\"\")+(Q$4:Q$56=\"50/50\")/2)))","v":""},{"$f":"IF(Y27=0,\"\",SUMPRODUCT((F$4:F$4=\"Luchon\")*((H$4:H$4=Y27)+(I$4:I$4=Y27))*IF(O$4:O$4=\"\",0,O$4:O$4)*((Q$4:Q$4=\"\")+(Q$4:Q$4=\"50/50\")/2)))","v":""},{"$f":"IF(Y27=0,\"\",SUMPRODUCT((F$4:F$4=\"Luchon\")*((H$4:H$4=Y27)+(I$4:I$4=Y27))*IF(P$4:P$4=\"\",0,P$4:P$4)*((Q$4:Q$4=\"\")+(Q$4:Q$4=\"50/50\")/2)))","v":""},{"$f":"IF(Y27=0,\"\",SUMPRODUCT((F$4:F$38=\"Aire\")*((H$4:H$38=Y27)+(I$4:I$38=Y27))*(L$4:L$38)))","v":""},{"$f":"IF(Y27=0,\"\",SUMPRODUCT((F$4:F$4=\"Luchon\")*((H$4:H$4=Y27)+(I$4:I$4=Y27))*(L$4:L$4)))","v":""},null,null,0,null,{"$f":"SUMIF(H5:H147,AH27,L5:L147)","v":"00:00:00"},{"$f":"IF(Y27=0,\"\",SUMPRODUCT((F$4:F$4=\"Aire\")*((H$4:H$4=Y27)+(I$4:I$4=Y27))*IF(G$4:G$4=\"\",0,G$4:G$4)*((Q$4:Q$4=\"\")+(Q$4:Q$4=\"50/50\")/2)))","v":""},{"$f":"IF(Y27=0,\"\",SUMPRODUCT((F$4:F$4=\"Luchon\")*((H$4:H$4=Y27)+(I$4:I$4=Y27))*IF(G$4:G$4=\"\",0,G$4:G$4)*((Q$4:Q$4=\"\")+(Q$4:Q$4=\"50/50\")/2)))","v":""},null,null,{"$f":"IF(ROWS(AO$3:AO26)<=SUM(IF(D$4:D$4<>\"\",COUNTIF(D$4:D$4,D$4:D$4))),INDEX(D$1:D$4,MIN(IF(COUNTIF(AO$3:AO26,D$4:D$4)=0,ROW(D$4:D$4)))))","v":false},{"$f":"IF(ROWS(AP$3:AP26)<=SUM(IF(E$4:E$4<>\"\",COUNTIF(E$4:E$4,E$4:E$4))),INDEX(E$1:E$4,MIN(IF(COUNTIF(AP$3:AP26,E$4:E$4)=0,ROW(E$4:E$4)))))","v":false},{"$error":"#N/A"},{"$f":"SUMIF(D5:D147,AO27,L5:L147)","v":0}]
[null,null,null,null,null,null,null,null,null,null,null,null,null,null,null,null,null,null,null,null,null,null,null,null,{"$f":"IF(ROWS(Y$3:Y27)<=SUM(IF(H$4:H$38<>\"\",1/COUNTIF(H$4:H$38,H$4:H$38))),INDEX(H$1:H$38,MIN(IF(COUNTIF(Y$3:Y27,H$4:H$38)=0,ROW(H$4:H$38)))),INDEX(I$1:I$38,MIN(IF((I$4:I$38<>\"\")*(COUNTIF(Y$3:Y27,I$4:I$38)=0),ROW(H$4:H$38)))))","v":0},{"$f":"IF(Y28=0,\"\",SUMPRODUCT((F$4:F$76=\"Aire\")*((H$4:H$76=Y28)+(I$4:I$76=Y28))*IF(O$4:O$76=\"\",0,O$4:O$76)*((Q$4:Q$76=\"\")+(Q$4:Q$76=\"50/50\")/2)))","v":""},{"$f":"IF(Y28=0,\"\",SUMPRODUCT((F$4:F$56=\"Aire\")*((H$4:H$56=Y28)+(I$4:I$56=Y28))*IF(P$4:P$56=\"\",0,P$4:P$56)*((Q$4:Q$56=\"\")+(Q$4:Q$56=\"50/50\")/2)))","v":""},{"$f":"IF(Y28=0,\"\",SUMPRODUCT((F$4:F$4=\"Luchon\")*((H$4:H$4=Y28)+(I$4:I$4=Y28))*IF(O$4:O$4=\"\",0,O$4:O$4)*((Q$4:Q$4=\"\")+(Q$4:Q$4=\"50/50\")/2)))","v":""},{"$f":"IF(Y28=0,\"\",SUMPRODUCT((F$4:F$4=\"Luchon\")*((H$4:H$4=Y28)+(I$4:I$4=Y28))*IF(P$4:P$4=\"\",0,P$4:P$4)*((Q$4:Q$4=\"\")+(Q$4:Q$4=\"50/50\")/2)))","v":""},{"$f":"IF(Y28=0,\"\",SUMPRODUCT((F$4:F$38=\"Aire\")*((H$4:H$38=Y28)+(I$4:I$38=Y28))*(L$4:L$38)))","v":""},{"$f":"IF(Y28=0,\"\",SUMPRODUCT((F$4:F$4=\"Luchon\")*((H$4:H$4=Y28)+(I$4:I$4=Y28))*(L$4:L$4)))","v":""},null,null,0,null,{"$f":"SUMIF(H5:H148,AH28,L5:L148)","v":"00:00:00"},{"$f":"IF(Y28=0,\"\",SUMPRODUCT((F$4:F$4=\"Aire\")*((H$4:H$4=Y28)+(I$4:I$4=Y28))*IF(G$4:G$4=\"\",0,G$4:G$4)*((Q$4:Q$4=\"\")+(Q$4:Q$4=\"50/50\")/2)))","v":""},{"$f":"IF(Y28=0,\"\",SUMPRODUCT((F$4:F$4=\"Luchon\")*((H$4:H$4=Y28)+(I$4:I$4=Y28))*IF(G$4:G$4=\"\",0,G$4:G$4)*((Q$4:Q$4=\"\")+(Q$4:Q$4=\"50/50\")/2)))","v":""},null,null,{"$f":"IF(ROWS(AO$3:AO27)<=SUM(IF(D$4:D$4<>\"\",COUNTIF(D$4:D$4,D$4:D$4))),INDEX(D$1:D$4,MIN(IF(COUNTIF(AO$3:AO27,D$4:D$4)=0,ROW(D$4:D$4)))))","v":false},{"$f":"IF(ROWS(AP$3:AP27)<=SUM(IF(E$4:E$4<>\"\",COUNTIF(E$4:E$4,E$4:E$4))),INDEX(E$1:E$4,MIN(IF(COUNTIF(AP$3:AP27,E$4:E$4)=0,ROW(E$4:E$4)))))","v":false},{"$error":"#N/A"},{"$f":"SUMIF(D5:D148,AO28,L5:L148)","v":0}]
[null,null,null,null,null,null,null,null,null,null,null,null,null,null,null,null,null,null,null,null,null,null,null,null,{"$f":"IF(ROWS(Y$3:Y28)<=SUM(IF(H$4:H$38<>\"\",1/COUNTIF(H$4:H$38,H$4:H$38))),INDEX(H$1:H$38,MIN(IF(COUNTIF(Y$3:Y28,H$4:H$38)=0,ROW(H$4:H$38)))),INDEX(I$1:I$38,MIN(IF((I$4:I$38<>\"\")*(COUNTIF(Y$3:Y28,I$4:I$38)=0),ROW(H$4:H$38)))))","v":0},{"$f":"IF(Y29=0,\"\",SUMPRODUCT((F$4:F$76=\"Aire\")*((H$4:H$76=Y29)+(I$4:I$76=Y29))*IF(O$4:O$76=\"\",0,O$4:O$76)*((Q$4:Q$76=\"\")+(Q$4:Q$76=\"50/50\")/2)))","v":""},{"$f":"IF(Y29=0,\"\",SUMPRODUCT((F$4:F$4=\"Aire\")*((H$4:H$4=Y29)+(I$4:I$4=Y29))*IF(P$4:P$4=\"\",0,P$4:P$4)*((Q$4:Q$4=\"\")+(Q$4:Q$4=\"50/50\")/2)))","v":""},{"$f":"IF(Y29=0,\"\",SUMPRODUCT((F$4:F$4=\"Luchon\")*((H$4:H$4=Y29)+(I$4:I$4=Y29))*IF(O$4:O$4=\"\",0,O$4:O$4)*((Q$4:Q$4=\"\")+(Q$4:Q$4=\"50/50\")/2)))","v":""},{"$f":"IF(Y29=0,\"\",SUMPRODUCT((F$4:F$4=\"Luchon\")*((H$4:H$4=Y29)+(I$4:I$4=Y29))*IF(P$4:P$4=\"\",0,P$4:P$4)*((Q$4:Q$4=\"\")+(Q$4:Q$4=\"50/50\")/2)))","v":""},{"$f":"IF(Y29=0,\"\",SUMPRODUCT((F$4:F$38=\"Aire\")*((H$4:H$38=Y29)+(I$4:I$38=Y29))*(L$4:L$38)))","v":""},{"$f":"IF(Y29=0,\"\",SUMPRODUCT((F$4:F$4=\"Luchon\")*((H$4:H$4=Y29)+(I$4:I$4=Y29))*(L$4:L$4)))","v":""},null,null,0,null,{"$f":"SUMIF(H5:H149,AH29,L5:L149)","v":"00:00:00"},{"$f":"IF(Y29=0,\"\",SUMPRODUCT((F$4:F$4=\"Aire\")*((H$4:H$4=Y29)+(I$4:I$4=Y29))*IF(G$4:G$4=\"\",0,G$4:G$4)*((Q$4:Q$4=\"\")+(Q$4:Q$4=\"50/50\")/2)))","v":""},{"$f":"IF(Y29=0,\"\",SUMPRODUCT((F$4:F$4=\"Luchon\")*((H$4:H$4=Y29)+(I$4:I$4=Y29))*IF(G$4:G$4=\"\",0,G$4:G$4)*((Q$4:Q$4=\"\")+(Q$4:Q$4=\"50/50\")/2)))","v":""}]
[null,null,null,null,null,null,null,null,null,null,null,null,null,null,null,null,null,null,null,null,null,null,null,null,{"$f":"IF(ROWS(Y$3:Y29)<=SUM(IF(H$4:H$38<>\"\",1/COUNTIF(H$4:H$38,H$4:H$38))),INDEX(H$1:H$38,MIN(IF(COUNTIF(Y$3:Y29,H$4:H$38)=0,ROW(H$4:H$38)))),INDEX(I$1:I$38,MIN(IF((I$4:I$38<>\"\")*(COUNTIF(Y$3:Y29,I$4:I$38)=0),ROW(H$4:H$38)))))","v":0},{"$f":"IF(Y30=0,\"\",SUMPRODUCT((F$4:F$76=\"Aire\")*((H$4:H$76=Y30)+(I$4:I$76=Y30))*IF(O$4:O$76=\"\",0,O$4:O$76)*((Q$4:Q$76=\"\")+(Q$4:Q$76=\"50/50\")/2)))","v":""},{"$f":"IF(Y30=0,\"\",SUMPRODUCT((F$4:F$4=\"Aire\")*((H$4:H$4=Y30)+(I$4:I$4=Y30))*IF(P$4:P$4=\"\",0,P$4:P$4)*((Q$4:Q$4=\"\")+(Q$4:Q$4=\"50/50\")/2)))","v":""},{"$f":"IF(Y30=0,\"\",SUMPRODUCT((F$4:F$4=\"Luchon\")*((H$4:H$4=Y30)+(I$4:I$4=Y30))*IF(O$4:O$4=\"\",0,O$4:O$4)*((Q$4:Q$4=\"\")+(Q$4:Q$4=\"50/50\")/2)))","v":""},{"$f":"IF(Y30=0,\"\",SUMPRODUCT((F$4:F$4=\"Luchon\")*((H$4:H$4=Y30)+(I$4:I$4=Y30))*IF(P$4:P$4=\"\",0,P$4:P$4)*((Q$4:Q$4=\"\")+(Q$4:Q$4=\"50/50\")/2)))","v":""},{"$f":"IF(Y30=0,\"\",SUMPRODUCT((F$4:F$4=\"Aire\")*((H$4:H$4=Y30)+(I$4:I$4=Y30))*(L$4:L$4)))","v":""},{"$f":"IF(Y30=0,\"\",SUMPRODUCT((F$4:F$4=\"Luchon\")*((H$4:H$4=Y30)+(I$4:I$4=Y30))*(L$4:L$4)))","v":""},null,null,0,null,{"$f":"SUMIF(H5:H150,AH30,L5:L150)","v":"00:00:00"},{"$f":"IF(Y30=0,\"\",SUMPRODUCT((F$4:F$4=\"Aire\")*((H$4:H$4=Y30)+(I$4:I$4=Y30))*IF(G$4:G$4=\"\",0,G$4:G$4)*((Q$4:Q$4=\"\")+(Q$4:Q$4=\"50/50\")/2)))","v":""},{"$f":"IF(Y30=0,\"\",SUMPRODUCT((F$4:F$4=\"Luchon\")*((H$4:H$4=Y30)+(I$4:I$4=Y30))*IF(G$4:G$4=\"\",0,G$4:G$4)*((Q$4:Q$4=\"\")+(Q$4:Q$4=\"50/50\")/2)))","v":""}]
[null,null,null,null,null,null,null,null,null,null,null,null,null,null,null,null,null,null,null,null,null,null,null,null,{"$f":"IF(ROWS(Y$3:Y30)<=SUM(IF(H$4:H$38<>\"\",1/COUNTIF(H$4:H$38,H$4:H$38))),INDEX(H$1:H$38,MIN(IF(COUNTIF(Y$3:Y30,H$4:H$38)=0,ROW(H$4:H$38)))),INDEX(I$1:I$38,MIN(IF((I$4:I$38<>\"\")*(COUNTIF(Y$3:Y30,I$4:I$38)=0),ROW(H$4:H$38)))))","v":0},{"$f":"IF(Y31=0,\"\",SUMPRODUCT((F$4:F$76=\"Aire\")*((H$4:H$76=Y31)+(I$4:I$76=Y31))*IF(O$4:O$76=\"\",0,O$4:O$76)*((Q$4:Q$76=\"\")+(Q$4:Q$76=\"50/50\")/2)))","v":""},{"$f":"IF(Y31=0,\"\",SUMPRODUCT((F$4:F$4=\"Aire\")*((H$4:H$4=Y31)+(I$4:I$4=Y31))*IF(P$4:P$4=\"\",0,P$4:P$4)*((Q$4:Q$4=\"\")+(Q$4:Q$4=\"50/50\")/2)))","v":""},{"$f":"IF(Y31=0,\"\",SUMPRODUCT((F$4:F$4=\"Luchon\")*((H$4:H$4=Y31)+(I$4:I$4=Y31))*IF(O$4:O$4=\"\",0,O$4:O$4)*((Q$4:Q$4=\"\")+(Q$4:Q$4=\"50/50\")/2)))","v":""},{"$f":"IF(Y31=0,\"\",SUMPRODUCT((F$4:F$4=\"Luchon\")*((H$4:H$4=Y31)+(I$4:I$4=Y31))*IF(P$4:P$4=\"\",0,P$4:P$4)*((Q$4:Q$4=\"\")+(Q$4:Q$4=\"50/50\")/2)))","v":""},{"$f":"IF(Y31=0,\"\",SUMPRODUCT((F$4:F$4=\"Aire\")*((H$4:H$4=Y31)+(I$4:I$4=Y31))*(L$4:L$4)))","v":""},{"$f":"IF(Y31=0,\"\",SUMPRODUCT((F$4:F$4=\"Luchon\")*((H$4:H$4=Y31)+(I$4:I$4=Y31))*(L$4:L$4)))","v":""},null,null,0,null,{"$f":"SUMIF(H5:H151,AH31,L5:L151)","v":"00:00:00"},{"$f":"IF(Y31=0,\"\",SUMPRODUCT((F$4:F$4=\"Aire\")*((H$4:H$4=Y31)+(I$4:I$4=Y31))*IF(G$4:G$4=\"\",0,G$4:G$4)*((Q$4:Q$4=\"\")+(Q$4:Q$4=\"50/50\")/2)))","v":""},{"$f":"IF(Y31=0,\"\",SUMPRODUCT((F$4:F$4=\"Luchon\")*((H$4:H$4=Y31)+(I$4:I$4=Y31))*IF(G$4:G$4=\"\",0,G$4:G$4)*((Q$4:Q$4=\"\")+(Q$4:Q$4=\"50/50\")/2)))","v":""}]
[null,null,null,null,null,null,null,null,null,null,null,null,null,null,null,null,null,null,null,null,null,null,null,null,{"$f":"IF(ROWS(Y$3:Y31)<=SUM(IF(H$4:H$38<>\"\",1/COUNTIF(H$4:H$38,H$4:H$38))),INDEX(H$1:H$38,MIN(IF(COUNTIF(Y$3:Y31,H$4:H$38)=0,ROW(H$4:H$38)))),INDEX(I$1:I$38,MIN(IF((I$4:I$38<>\"\")*(COUNTIF(Y$3:Y31,I$4:I$38)=0),ROW(H$4:H$38)))))","v":0},{"$f":"IF(Y32=0,\"\",SUMPRODUCT((F$4:F$76=\"Aire\")*((H$4:H$76=Y32)+(I$4:I$76=Y32))*IF(O$4:O$76=\"\",0,O$4:O$76)*((Q$4:Q$76=\"\")+(Q$4:Q$76=\"50/50\")/2)))","v":""},{"$f":"IF(Y32=0,\"\",SUMPRODUCT((F$4:F$4=\"Aire\")*((H$4:H$4=Y32)+(I$4:I$4=Y32))*IF(P$4:P$4=\"\",0,P$4:P$4)*((Q$4:Q$4=\"\")+(Q$4:Q$4=\"50/50\")/2)))","v":""},{"$f":"IF(Y32=0,\"\",SUMPRODUCT((F$4:F$4=\"Luchon\")*((H$4:H$4=Y32)+(I$4:I$4=Y32))*IF(O$4:O$4=\"\",0,O$4:O$4)*((Q$4:Q$4=\"\")+(Q$4:Q$4=\"50/50\")/2)))","v":""},{"$f":"IF(Y32=0,\"\",SUMPRODUCT((F$4:F$4=\"Luchon\")*((H$4:H$4=Y32)+(I$4:I$4=Y32))*IF(P$4:P$4=\"\",0,P$4:P$4)*((Q$4:Q$4=\"\")+(Q$4:Q$4=\"50/50\")/2)))","v":""},{"$f":"IF(Y32=0,\"\",SUMPRODUCT((F$4:F$4=\"Aire\")*((H$4:H$4=Y32)+(I$4:I$4=Y32))*(L$4:L$4)))","v":""},{"$f":"IF(Y32=0,\"\",SUMPRODUCT((F$4:F$4=\"Luchon\")*((H$4:H$4=Y32)+(I$4:I$4=Y32))*(L$4:L$4)))","v":""},null,null,0,null,{"$f":"SUMIF(H5:H152,AH32,L5:L152)","v":"00:00:00"},{"$f":"IF(Y32=0,\"\",SUMPRODUCT((F$4:F$4=\"Aire\")*((H$4:H$4=Y32)+(I$4:I$4=Y32))*IF(G$4:G$4=\"\",0,G$4:G$4)*((Q$4:Q$4=\"\")+(Q$4:Q$4=\"50/50\")/2)))","v":""},{"$f":"IF(Y32=0,\"\",SUMPRODUCT((F$4:F$4=\"Luchon\")*((H$4:H$4=Y32)+(I$4:I$4=Y32))*IF(G$4:G$4=\"\",0,G$4:G$4)*((Q$4:Q$4=\"\")+(Q$4:Q$4=\"50/50\")/2)))","v":""}]
[null,null,null,null,null,null,null,null,null,null,null,null,null,null,null,null,null,null,null,null,null,null,null,null,{"$f":"IF(ROWS(Y$3:Y32)<=SUM(IF(H$4:H$38<>\"\",1/COUNTIF(H$4:H$38,H$4:H$38))),INDEX(H$1:H$38,MIN(IF(COUNTIF(Y$3:Y32,H$4:H$38)=0,ROW(H$4:H$38)))),INDEX(I$1:I$38,MIN(IF((I$4:I$38<>\"\")*(COUNTIF(Y$3:Y32,I$4:I$38)=0),ROW(H$4:H$38)))))","v":0},{"$f":"IF(Y33=0,\"\",SUMPRODUCT((F$4:F$76=\"Aire\")*((H$4:H$76=Y33)+(I$4:I$76=Y33))*IF(O$4:O$76=\"\",0,O$4:O$76)*((Q$4:Q$76=\"\")+(Q$4:Q$76=\"50/50\")/2)))","v":""},{"$f":"IF(Y33=0,\"\",SUMPRODUCT((F$4:F$4=\"Aire\")*((H$4:H$4=Y33)+(I$4:I$4=Y33))*IF(P$4:P$4=\"\",0,P$4:P$4)*((Q$4:Q$4=\"\")+(Q$4:Q$4=\"50/50\")/2)))","v":""},{"$f":"IF(Y33=0,\"\",SUMPRODUCT((F$4:F$4=\"Luchon\")*((H$4:H$4=Y33)+(I$4:I$4=Y33))*IF(O$4:O$4=\"\",0,O$4:O$4)*((Q$4:Q$4=\"\")+(Q$4:Q$4=\"50/50\")/2)))","v":""},{"$f":"IF(Y33=0,\"\",SUMPRODUCT((F$4:F$4=\"Luchon\")*((H$4:H$4=Y33)+(I$4:I$4=Y33))*IF(P$4:P$4=\"\",0,P$4:P$4)*((Q$4:Q$4=\"\")+(Q$4:Q$4=\"50/50\")/2)))","v":""},{"$f":"IF(Y33=0,\"\",SUMPRODUCT((F$4:F$4=\"Aire\")*((H$4:H$4=Y33)+(I$4:I$4=Y33))*(L$4:L$4)))","v":""},{"$f":"IF(Y33=0,\"\",SUMPRODUCT((F$4:F$4=\"Luchon\")*((H$4:H$4=Y33)+(I$4:I$4=Y33))*(L$4:L$4)))","v":""},null,null,0,null,{"$f":"SUMIF(H5:H153,AH33,L5:L153)","v":"00:00:00"},{"$f":"IF(Y33=0,\"\",SUMPRODUCT((F$4:F$4=\"Aire\")*((H$4:H$4=Y33)+(I$4:I$4=Y33))*IF(G$4:G$4=\"\",0,G$4:G$4)*((Q$4:Q$4=\"\")+(Q$4:Q$4=\"50/50\")/2)))","v":""},{"$f":"IF(Y33=0,\"\",SUMPRODUCT((F$4:F$4=\"Luchon\")*((H$4:H$4=Y33)+(I$4:I$4=Y33))*IF(G$4:G$4=\"\",0,G$4:G$4)*((Q$4:Q$4=\"\")+(Q$4:Q$4=\"50/50\")/2)))","v":""}]
[null,null,null,null,null,null,null,null,null,null,null,null,null,null,null,null,null,null,null,null,null,null,null,null,{"$f":"IF(ROWS(Y$3:Y33)<=SUM(IF(H$4:H$38<>\"\",1/COUNTIF(H$4:H$38,H$4:H$38))),INDEX(H$1:H$38,MIN(IF(COUNTIF(Y$3:Y33,H$4:H$38)=0,ROW(H$4:H$38)))),INDEX(I$1:I$38,MIN(IF((I$4:I$38<>\"\")*(COUNTIF(Y$3:Y33,I$4:I$38)=0),ROW(H$4:H$38)))))","v":0},{"$f":"IF(Y34=0,\"\",SUMPRODUCT((F$4:F$76=\"Aire\")*((H$4:H$76=Y34)+(I$4:I$76=Y34))*IF(O$4:O$76=\"\",0,O$4:O$76)*((Q$4:Q$76=\"\")+(Q$4:Q$76=\"50/50\")/2)))","v":""},{"$f":"IF(Y34=0,\"\",SUMPRODUCT((F$4:F$4=\"Aire\")*((H$4:H$4=Y34)+(I$4:I$4=Y34))*IF(P$4:P$4=\"\",0,P$4:P$4)*((Q$4:Q$4=\"\")+(Q$4:Q$4=\"50/50\")/2)))","v":""},{"$f":"IF(Y34=0,\"\",SUMPRODUCT((F$4:F$4=\"Luchon\")*((H$4:H$4=Y34)+(I$4:I$4=Y34))*IF(O$4:O$4=\"\",0,O$4:O$4)*((Q$4:Q$4=\"\")+(Q$4:Q$4=\"50/50\")/2)))","v":""},{"$f":"IF(Y34=0,\"\",SUMPRODUCT((F$4:F$4=\"Luchon\")*((H$4:H$4=Y34)+(I$4:I$4=Y34))*IF(P$4:P$4=\"\",0,P$4:P$4)*((Q$4:Q$4=\"\")+(Q$4:Q$4=\"50/50\")/2)))","v":""},{"$f":"IF(Y34=0,\"\",SUMPRODUCT((F$4:F$4=\"Aire\")*((H$4:H$4=Y34)+(I$4:I$4=Y34))*(L$4:L$4)))","v":""},{"$f":"IF(Y34=0,\"\",SUMPRODUCT((F$4:F$4=\"Luchon\")*((H$4:H$4=Y34)+(I$4:I$4=Y34))*(L$4:L$4)))","v":""},null,null,0,null,{"$f":"SUMIF(H5:H154,AH34,L5:L154)","v":"00:00:00"},{"$f":"IF(Y34=0,\"\",SUMPRODUCT((F$4:F$4=\"Aire\")*((H$4:H$4=Y34)+(I$4:I$4=Y34))*IF(G$4:G$4=\"\",0,G$4:G$4)*((Q$4:Q$4=\"\")+(Q$4:Q$4=\"50/50\")/2)))","v":""},{"$f":"IF(Y34=0,\"\",SUMPRODUCT((F$4:F$4=\"Luchon\")*((H$4:H$4=Y34)+(I$4:I$4=Y34))*IF(G$4:G$4=\"\",0,G$4:G$4)*((Q$4:Q$4=\"\")+(Q$4:Q$4=\"50/50\")/2)))","v":""}]
[null,null,null,null,null,null,null,null,null,null,null,null,null,null,null,null,null,null,null,null,null,null,null,null,{"$f":"IF(ROWS(Y$3:Y34)<=SUM(IF(H$4:H$38<>\"\",1/COUNTIF(H$4:H$38,H$4:H$38))),INDEX(H$1:H$38,MIN(IF(COUNTIF(Y$3:Y34,H$4:H$38)=0,ROW(H$4:H$38)))),INDEX(I$1:I$38,MIN(IF((I$4:I$38<>\"\")*(COUNTIF(Y$3:Y34,I$4:I$38)=0),ROW(H$4:H$38)))))","v":0},{"$f":"IF(Y35=0,\"\",SUMPRODUCT((F$4:F$76=\"Aire\")*((H$4:H$76=Y35)+(I$4:I$76=Y35))*IF(O$4:O$76=\"\",0,O$4:O$76)*((Q$4:Q$76=\"\")+(Q$4:Q$76=\"50/50\")/2)))","v":""},{"$f":"IF(Y35=0,\"\",SUMPRODUCT((F$4:F$4=\"Aire\")*((H$4:H$4=Y35)+(I$4:I$4=Y35))*IF(P$4:P$4=\"\",0,P$4:P$4)*((Q$4:Q$4=\"\")+(Q$4:Q$4=\"50/50\")/2)))","v":""},{"$f":"IF(Y35=0,\"\",SUMPRODUCT((F$4:F$4=\"Luchon\")*((H$4:H$4=Y35)+(I$4:I$4=Y35))*IF(O$4:O$4=\"\",0,O$4:O$4)*((Q$4:Q$4=\"\")+(Q$4:Q$4=\"50/50\")/2)))","v":""},{"$f":"IF(Y35=0,\"\",SUMPRODUCT((F$4:F$4=\"Luchon\")*((H$4:H$4=Y35)+(I$4:I$4=Y35))*IF(P$4:P$4=\"\",0,P$4:P$4)*((Q$4:Q$4=\"\")+(Q$4:Q$4=\"50/50\")/2)))","v":""},{"$f":"IF(Y35=0,\"\",SUMPRODUCT((F$4:F$4=\"Aire\")*((H$4:H$4=Y35)+(I$4:I$4=Y35))*(L$4:L$4)))","v":""},{"$f":"IF(Y35=0,\"\",SUMPRODUCT((F$4:F$4=\"Luchon\")*((H$4:H$4=Y35)+(I$4:I$4=Y35))*(L$4:L$4)))","v":""},null,null,0,null,{"$f":"SUMIF(H5:H155,AH35,L5:L155)","v":"00:00:00"},{"$f":"IF(Y35=0,\"\",SUMPRODUCT((F$4:F$4=\"Aire\")*((H$4:H$4=Y35)+(I$4:I$4=Y35))*IF(G$4:G$4=\"\",0,G$4:G$4)*((Q$4:Q$4=\"\")+(Q$4:Q$4=\"50/50\")/2)))","v":""},{"$f":"IF(Y35=0,\"\",SUMPRODUCT((F$4:F$4=\"Luchon\")*((H$4:H$4=Y35)+(I$4:I$4=Y35))*IF(G$4:G$4=\"\",0,G$4:G$4)*((Q$4:Q$4=\"\")+(Q$4:Q$4=\"50/50\")/2)))","v":""}]
[null,null,null,null,null,null,null,null,null,null,null,null,null,null,null,null,null,null,null,null,null,null,null,null,{"$f":"IF(ROWS(Y$3:Y35)<=SUM(IF(H$4:H$38<>\"\",1/COUNTIF(H$4:H$38,H$4:H$38))),INDEX(H$1:H$38,MIN(IF(COUNTIF(Y$3:Y35,H$4:H$38)=0,ROW(H$4:H$38)))),INDEX(I$1:I$38,MIN(IF((I$4:I$38<>\"\")*(COUNTIF(Y$3:Y35,I$4:I$38)=0),ROW(H$4:H$38)))))","v":0},{"$f":"IF(Y36=0,\"\",SUMPRODUCT((F$4:F$4=\"Aire\")*((H$4:H$4=Y36)+(I$4:I$4=Y36))*IF(O$4:O$4=\"\",0,O$4:O$4)*((Q$4:Q$4=\"\")+(Q$4:Q$4=\"50/50\")/2)))","v":""},{"$f":"IF(Y36=0,\"\",SUMPRODUCT((F$4:F$4=\"Aire\")*((H$4:H$4=Y36)+(I$4:I$4=Y36))*IF(P$4:P$4=\"\",0,P$4:P$4)*((Q$4:Q$4=\"\")+(Q$4:Q$4=\"50/50\")/2)))","v":""},{"$f":"IF(Y36=0,\"\",SUMPRODUCT((F$4:F$4=\"Luchon\")*((H$4:H$4=Y36)+(I$4:I$4=Y36))*IF(O$4:O$4=\"\",0,O$4:O$4)*((Q$4:Q$4=\"\")+(Q$4:Q$4=\"50/50\")/2)))","v":""},{"$f":"IF(Y36=0,\"\",SUMPRODUCT((F$4:F$4=\"Luchon\")*((H$4:H$4=Y36)+(I$4:I$4=Y36))*IF(P$4:P$4=\"\",0,P$4:P$4)*((Q$4:Q$4=\"\")+(Q$4:Q$4=\"50/50\")/2)))","v":""},{"$f":"IF(Y36=0,\"\",SUMPRODUCT((F$4:F$4=\"Aire\")*((H$4:H$4=Y36)+(I$4:I$4=Y36))*(L$4:L$4)))","v":""},{"$f":"IF(Y36=0,\"\",SUMPRODUCT((F$4:F$4=\"Luchon\")*((H$4:H$4=Y36)+(I$4:I$4=Y36))*(L$4:L$4)))","v":""},null,null,0,null,{"$f":"SUMIF(H5:H156,AH36,L5:L156)","v":"00:00:00"},{"$f":"IF(Y36=0,\"\",SUMPRODUCT((F$4:F$4=\"Aire\")*((H$4:H$4=Y36)+(I$4:I$4=Y36))*IF(G$4:G$4=\"\",0,G$4:G$4)*((Q$4:Q$4=\"\")+(Q$4:Q$4=\"50/50\")/2)))","v":""},{"$f":"IF(Y36=0,\"\",SUMPRODUCT((F$4:F$4=\"Luchon\")*((H$4:H$4=Y36)+(I$4:I$4=Y36))*IF(G$4:G$4=\"\",0,G$4:G$4)*((Q$4:Q$4=\"\")+(Q$4:Q$4=\"50/50\")/2)))","v":""}]
[null,null,null,null,null,null,null,null,null,null,null,null,null,null,null,null,null,null,null,null,null,null,null,null,{"$f":"IF(ROWS(Y$3:Y36)<=SUM(IF(H$4:H$38<>\"\",1/COUNTIF(H$4:H$38,H$4:H$38))),INDEX(H$1:H$38,MIN(IF(COUNTIF(Y$3:Y36,H$4:H$38)=0,ROW(H$4:H$38)))),INDEX(I$1:I$38,MIN(IF((I$4:I$38<>\"\")*(COUNTIF(Y$3:Y36,I$4:I$38)=0),ROW(H$4:H$38)))))","v":0},{"$f":"IF(Y37=0,\"\",SUMPRODUCT((F$4:F$4=\"Aire\")*((H$4:H$4=Y37)+(I$4:I$4=Y37))*IF(O$4:O$4=\"\",0,O$4:O$4)*((Q$4:Q$4=\"\")+(Q$4:Q$4=\"50/50\")/2)))","v":""},{"$f":"IF(Y37=0,\"\",SUMPRODUCT((F$4:F$4=\"Aire\")*((H$4:H$4=Y37)+(I$4:I$4=Y37))*IF(P$4:P$4=\"\",0,P$4:P$4)*((Q$4:Q$4=\"\")+(Q$4:Q$4=\"50/50\")/2)))","v":""},{"$f":"IF(Y37=0,\"\",SUMPRODUCT((F$4:F$4=\"Luchon\")*((H$4:H$4=Y37)+(I$4:I$4=Y37))*IF(O$4:O$4=\"\",0,O$4:O$4)*((Q$4:Q$4=\"\")+(Q$4:Q$4=\"50/50\")/2)))","v":""},{"$f":"IF(Y37=0,\"\",SUMPRODUCT((F$4:F$4=\"Luchon\")*((H$4:H$4=Y37)+(I$4:I$4=Y37))*IF(P$4:P$4=\"\",0,P$4:P$4)*((Q$4:Q$4=\"\")+(Q$4:Q$4=\"50/50\")/2)))","v":""},{"$f":"IF(Y37=0,\"\",SUMPRODUCT((F$4:F$4=\"Aire\")*((H$4:H$4=Y37)+(I$4:I$4=Y37))*(L$4:L$4)))","v":""},{"$f":"IF(Y37=0,\"\",SUMPRODUCT((F$4:F$4=\"Luchon\")*((H$4:H$4=Y37)+(I$4:I$4=Y37))*(L$4:L$4)))","v":""},null,null,0,null,{"$f":"SUMIF(H5:H157,AH37,L5:L157)","v":"00:00:00"},{"$f":"IF(Y37=0,\"\",SUMPRODUCT((F$4:F$4=\"Aire\")*((H$4:H$4=Y37)+(I$4:I$4=Y37))*IF(G$4:G$4=\"\",0,G$4:G$4)*((Q$4:Q$4=\"\")+(Q$4:Q$4=\"50/50\")/2)))","v":""},{"$f":"IF(Y37=0,\"\",SUMPRODUCT((F$4:F$4=\"Luchon\")*((H$4:H$4=Y37)+(I$4:I$4=Y37))*IF(G$4:G$4=\"\",0,G$4:G$4)*((Q$4:Q$4=\"\")+(Q$4:Q$4=\"50/50\")/2)))","v":""}]
[null,null,null,null,null,null,null,null,null,null,null,null,null,null,null,null,null,null,null,null,null,null,null,null,{"$f":"IF(ROWS(Y$3:Y37)<=SUM(IF(H$4:H$38<>\"\",1/COUNTIF(H$4:H$38,H$4:H$38))),INDEX(H$1:H$38,MIN(IF(COUNTIF(Y$3:Y37,H$4:H$38)=0,ROW(H$4:H$38)))),INDEX(I$1:I$38,MIN(IF((I$4:I$38<>\"\")*(COUNTIF(Y$3:Y37,I$4:I$38)=0),ROW(H$4:H$38)))))","v":0},{"$f":"IF(Y38=0,\"\",SUMPRODUCT((F$4:F$4=\"Aire\")*((H$4:H$4=Y38)+(I$4:I$4=Y38))*IF(O$4:O$4=\"\",0,O$4:O$4)*((Q$4:Q$4=\"\")+(Q$4:Q$4=\"50/50\")/2)))","v":""},{"$f":"IF(Y38=0,\"\",SUMPRODUCT((F$4:F$4=\"Aire\")*((H$4:H$4=Y38)+(I$4:I$4=Y38))*IF(P$4:P$4=\"\",0,P$4:P$4)*((Q$4:Q$4=\"\")+(Q$4:Q$4=\"50/50\")/2)))","v":""},{"$f":"IF(Y38=0,\"\",SUMPRODUCT((F$4:F$4=\"Luchon\")*((H$4:H$4=Y38)+(I$4:I$4=Y38))*IF(O$4:O$4=\"\",0,O$4:O$4)*((Q$4:Q$4=\"\")+(Q$4:Q$4=\"50/50\")/2)))","v":""},{"$f":"IF(Y38=0,\"\",SUMPRODUCT((F$4:F$4=\"Luchon\")*((H$4:H$4=Y38)+(I$4:I$4=Y38))*IF(P$4:P$4=\"\",0,P$4:P$4)*((Q$4:Q$4=\"\")+(Q$4:Q$4=\"50/50\")/2)))","v":""},{"$f":"IF(Y38=0,\"\",SUMPRODUCT((F$4:F$4=\"Aire\")*((H$4:H$4=Y38)+(I$4:I$4=Y38))*(L$4:L$4)))","v":""},{"$f":"IF(Y38=0,\"\",SUMPRODUCT((F$4:F$4=\"Luchon\")*((H$4:H$4=Y38)+(I$4:I$4=Y38))*(L$4:L$4)))","v":""},null,null,0,null,{"$f":"SUMIF(H5:H158,AH38,L5:L158)","v":"00:00:00"},{"$f":"IF(Y38=0,\"\",SUMPRODUCT((F$4:F$4=\"Aire\")*((H$4:H$4=Y38)+(I$4:I$4=Y38))*IF(G$4:G$4=\"\",0,G$4:G$4)*((Q$4:Q$4=\"\")+(Q$4:Q$4=\"50/50\")/2)))","v":""},{"$f":"IF(Y38=0,\"\",SUMPRODUCT((F$4:F$4=\"Luchon\")*((H$4:H$4=Y38)+(I$4:I$4=Y38))*IF(G$4:G$4=\"\",0,G$4:G$4)*((Q$4:Q$4=\"\")+(Q$4:Q$4=\"50/50\")/2)))","v":""}]
[null,null,null,null,null,null,null,null,null,null,null,null,null,null,null,null,null,null,null,null,null,null,null,null,{"$f":"IF(ROWS(Y$3:Y38)<=SUM(IF(H$4:H$38<>\"\",1/COUNTIF(H$4:H$38,H$4:H$38))),INDEX(H$1:H$38,MIN(IF(COUNTIF(Y$3:Y38,H$4:H$38)=0,ROW(H$4:H$38)))),INDEX(I$1:I$38,MIN(IF((I$4:I$38<>\"\")*(COUNTIF(Y$3:Y38,I$4:I$38)=0),ROW(H$4:H$38)))))","v":0},{"$f":"IF(Y39=0,\"\",SUMPRODUCT((F$4:F$4=\"Aire\")*((H$4:H$4=Y39)+(I$4:I$4=Y39))*IF(O$4:O$4=\"\",0,O$4:O$4)*((Q$4:Q$4=\"\")+(Q$4:Q$4=\"50/50\")/2)))","v":""},{"$f":"IF(Y39=0,\"\",SUMPRODUCT((F$4:F$4=\"Aire\")*((H$4:H$4=Y39)+(I$4:I$4=Y39))*IF(P$4:P$4=\"\",0,P$4:P$4)*((Q$4:Q$4=\"\")+(Q$4:Q$4=\"50/50\")/2)))","v":""},{"$f":"IF(Y39=0,\"\",SUMPRODUCT((F$4:F$4=\"Luchon\")*((H$4:H$4=Y39)+(I$4:I$4=Y39))*IF(O$4:O$4=\"\",0,O$4:O$4)*((Q$4:Q$4=\"\")+(Q$4:Q$4=\"50/50\")/2)))","v":""},{"$f":"IF(Y39=0,\"\",SUMPRODUCT((F$4:F$4=\"Luchon\")*((H$4:H$4=Y39)+(I$4:I$4=Y39))*IF(P$4:P$4=\"\",0,P$4:P$4)*((Q$4:Q$4=\"\")+(Q$4:Q$4=\"50/50\")/2)))","v":""},{"$f":"IF(Y39=0,\"\",SUMPRODUCT((F$4:F$4=\"Aire\")*((H$4:H$4=Y39)+(I$4:I$4=Y39))*(L$4:L$4)))","v":""},{"$f":"IF(Y39=0,\"\",SUMPRODUCT((F$4:F$4=\"Luchon\")*((H$4:H$4=Y39)+(I$4:I$4=Y39))*(L$4:L$4)))","v":""},null,null,0,null,{"$f":"SUMIF(H5:H159,AH39,L5:L159)","v":"00:00:00"},{"$f":"IF(Y39=0,\"\",SUMPRODUCT((F$4:F$4=\"Aire\")*((H$4:H$4=Y39)+(I$4:I$4=Y39))*IF(G$4:G$4=\"\",0,G$4:G$4)*((Q$4:Q$4=\"\")+(Q$4:Q$4=\"50/50\")/2)))","v":""},{"$f":"IF(Y39=0,\"\",SUMPRODUCT((F$4:F$4=\"Luchon\")*((H$4:H$4=Y39)+(I$4:I$4=Y39))*IF(G$4:G$4=\"\",0,G$4:G$4)*((Q$4:Q$4=\"\")+(Q$4:Q$4=\"50/50\")/2)))","v":""}]
[null,null,null,null,null,null,null,null,null,null,null,null,null,null,null,null,null,null,null,null,null,null,null,null,{"$f":"IF(ROWS(Y$3:Y39)<=SUM(IF(H$4:H$38<>\"\",1/COUNTIF(H$4:H$38,H$4:H$38))),INDEX(H$1:H$38,MIN(IF(COUNTIF(Y$3:Y39,H$4:H$38)=0,ROW(H$4:H$38)))),INDEX(I$1:I$38,MIN(IF((I$4:I$38<>\"\")*(COUNTIF(Y$3:Y39,I$4:I$38)=0),ROW(H$4:H$38)))))","v":0},{"$f":"IF(Y40=0,\"\",SUMPRODUCT((F$4:F$4=\"Aire\")*((H$4:H$4=Y40)+(I$4:I$4=Y40))*IF(O$4:O$4=\"\",0,O$4:O$4)*((Q$4:Q$4=\"\")+(Q$4:Q$4=\"50/50\")/2)))","v":""},{"$f":"IF(Y40=0,\"\",SUMPRODUCT((F$4:F$4=\"Aire\")*((H$4:H$4=Y40)+(I$4:I$4=Y40))*IF(P$4:P$4=\"\",0,P$4:P$4)*((Q$4:Q$4=\"\")+(Q$4:Q$4=\"50/50\")/2)))","v":""},{"$f":"IF(Y40=0,\"\",SUMPRODUCT((F$4:F$4=\"Luchon\")*((H$4:H$4=Y40)+(I$4:I$4=Y40))*IF(O$4:O$4=\"\",0,O$4:O$4)*((Q$4:Q$4=\"\")+(Q$4:Q$4=\"50/50\")/2)))","v":""},{"$f":"IF(Y40=0,\"\",SUMPRODUCT((F$4:F$4=\"Luchon\")*((H$4:H$4=Y40)+(I$4:I$4=Y40))*IF(P$4:P$4=\"\",0,P$4:P$4)*((Q$4:Q$4=\"\")+(Q$4:Q$4=\"50/50\")/2)))","v":""},{"$f":"IF(Y40=0,\"\",SUMPRODUCT((F$4:F$4=\"Aire\")*((H$4:H$4=Y40)+(I$4:I$4=Y40))*(L$4:L$4)))","v":""},{"$f":"IF(Y40=0,\"\",SUMPRODUCT((F$4:F$4=\"Luchon\")*((H$4:H$4=Y40)+(I$4:I$4=Y40))*(L$4:L$4)))","v":""},null,null,0,null,{"$f":"SUMIF(H5:H160,AH40,L5:L160)","v":"00:00:00"},{"$f":"IF(Y40=0,\"\",SUMPRODUCT((F$4:F$4=\"Aire\")*((H$4:H$4=Y40)+(I$4:I$4=Y40))*IF(G$4:G$4=\"\",0,G$4:G$4)*((Q$4:Q$4=\"\")+(Q$4:Q$4=\"50/50\")/2)))","v":""},{"$f":"IF(Y40=0,\"\",SUMPRODUCT((F$4:F$4=\"Luchon\")*((H$4:H$4=Y40)+(I$4:I$4=Y40))*IF(G$4:G$4=\"\",0,G$4:G$4)*((Q$4:Q$4=\"\")+(Q$4:Q$4=\"50/50\")/2)))","v":""}]
[null,null,null,null,null,null,null,null,null,null,null,null,null,null,null,null,null,null,null,null,null,null,null,null,{"$f":"IF(ROWS(Y$3:Y40)<=SUM(IF(H$4:H$38<>\"\",1/COUNTIF(H$4:H$38,H$4:H$38))),INDEX(H$1:H$38,MIN(IF(COUNTIF(Y$3:Y40,H$4:H$38)=0,ROW(H$4:H$38)))),INDEX(I$1:I$38,MIN(IF((I$4:I$38<>\"\")*(COUNTIF(Y$3:Y40,I$4:I$38)=0),ROW(H$4:H$38)))))","v":0},{"$f":"IF(Y41=0,\"\",SUMPRODUCT((F$4:F$4=\"Aire\")*((H$4:H$4=Y41)+(I$4:I$4=Y41))*IF(O$4:O$4=\"\",0,O$4:O$4)*((Q$4:Q$4=\"\")+(Q$4:Q$4=\"50/50\")/2)))","v":""},{"$f":"IF(Y41=0,\"\",SUMPRODUCT((F$4:F$4=\"Aire\")*((H$4:H$4=Y41)+(I$4:I$4=Y41))*IF(P$4:P$4=\"\",0,P$4:P$4)*((Q$4:Q$4=\"\")+(Q$4:Q$4=\"50/50\")/2)))","v":""},{"$f":"IF(Y41=0,\"\",SUMPRODUCT((F$4:F$4=\"Luchon\")*((H$4:H$4=Y41)+(I$4:I$4=Y41))*IF(O$4:O$4=\"\",0,O$4:O$4)*((Q$4:Q$4=\"\")+(Q$4:Q$4=\"50/50\")/2)))","v":""},{"$f":"IF(Y41=0,\"\",SUMPRODUCT((F$4:F$4=\"Luchon\")*((H$4:H$4=Y41)+(I$4:I$4=Y41))*IF(P$4:P$4=\"\",0,P$4:P$4)*((Q$4:Q$4=\"\")+(Q$4:Q$4=\"50/50\")/2)))","v":""},{"$f":"IF(Y41=0,\"\",SUMPRODUCT((F$4:F$4=\"Aire\")*((H$4:H$4=Y41)+(I$4:I$4=Y41))*(L$4:L$4)))","v":""},{"$f":"IF(Y41=0,\"\",SUMPRODUCT((F$4:F$4=\"Luchon\")*((H$4:H$4=Y41)+(I$4:I$4=Y41))*(L$4:L$4)))","v":""},null,null,0,null,{"$f":"SUMIF(H5:H161,AH41,L5:L161)","v":"00:00:00"},{"$f":"IF(Y41=0,\"\",SUMPRODUCT((F$4:F$4=\"Aire\")*((H$4:H$4=Y41)+(I$4:I$4=Y41))*IF(G$4:G$4=\"\",0,G$4:G$4)*((Q$4:Q$4=\"\")+(Q$4:Q$4=\"50/50\")/2)))","v":""},{"$f":"IF(Y41=0,\"\",SUMPRODUCT((F$4:F$4=\"Luchon\")*((H$4:H$4=Y41)+(I$4:I$4=Y41))*IF(G$4:G$4=\"\",0,G$4:G$4)*((Q$4:Q$4=\"\")+(Q$4:Q$4=\"50/50\")/2)))","v":""}]
[null,null,null,null,null,null,null,null,null,null,null,null,null,null,null,null,null,null,null,null,null,null,null,null,{"$f":"IF(ROWS(Y$3:Y41)<=SUM(IF(H$4:H$38<>\"\",1/COUNTIF(H$4:H$38,H$4:H$38))),INDEX(H$1:H$38,MIN(IF(COUNTIF(Y$3:Y41,H$4:H$38)=0,ROW(H$4:H$38)))),INDEX(I$1:I$38,MIN(IF((I$4:I$38<>\"\")*(COUNTIF(Y$3:Y41,I$4:I$38)=0),ROW(H$4:H$38)))))","v":0},{"$f":"IF(Y42=0,\"\",SUMPRODUCT((F$4:F$4=\"Aire\")*((H$4:H$4=Y42)+(I$4:I$4=Y42))*IF(O$4:O$4=\"\",0,O$4:O$4)*((Q$4:Q$4=\"\")+(Q$4:Q$4=\"50/50\")/2)))","v":""},{"$f":"IF(Y42=0,\"\",SUMPRODUCT((F$4:F$4=\"Aire\")*((H$4:H$4=Y42)+(I$4:I$4=Y42))*IF(P$4:P$4=\"\",0,P$4:P$4)*((Q$4:Q$4=\"\")+(Q$4:Q$4=\"50/50\")/2)))","v":""},{"$f":"IF(Y42=0,\"\",SUMPRODUCT((F$4:F$4=\"Luchon\")*((H$4:H$4=Y42)+(I$4:I$4=Y42))*IF(O$4:O$4=\"\",0,O$4:O$4)*((Q$4:Q$4=\"\")+(Q$4:Q$4=\"50/50\")/2)))","v":""},{"$f":"IF(Y42=0,\"\",SUMPRODUCT((F$4:F$4=\"Luchon\")*((H$4:H$4=Y42)+(I$4:I$4=Y42))*IF(P$4:P$4=\"\",0,P$4:P$4)*((Q$4:Q$4=\"\")+(Q$4:Q$4=\"50/50\")/2)))","v":""},{"$f":"IF(Y42=0,\"\",SUMPRODUCT((F$4:F$4=\"Aire\")*((H$4:H$4=Y42)+(I$4:I$4=Y42))*(L$4:L$4)))","v":""},{"$f":"IF(Y42=0,\"\",SUMPRODUCT((F$4:F$4=\"Luchon\")*((H$4:H$4=Y42)+(I$4:I$4=Y42))*(L$4:L$4)))","v":""},null,null,0,null,{"$f":"SUMIF(H5:H162,AH42,L5:L162)","v":"00:00:00"},{"$f":"IF(Y42=0,\"\",SUMPRODUCT((F$4:F$4=\"Aire\")*((H$4:H$4=Y42)+(I$4:I$4=Y42))*IF(G$4:G$4=\"\",0,G$4:G$4)*((Q$4:Q$4=\"\")+(Q$4:Q$4=\"50/50\")/2)))","v":""},{"$f":"IF(Y42=0,\"\",SUMPRODUCT((F$4:F$4=\"Luchon\")*((H$4:H$4=Y42)+(I$4:I$4=Y42))*IF(G$4:G$4=\"\",0,G$4:G$4)*((Q$4:Q$4=\"\")+(Q$4:Q$4=\"50/50\")/2)))","v":""}]
[null,null,null,null,null,null,null,null,null,null,null,null,null,null,null,null,null,null,null,null,null,null,null,null,{"$f":"IF(ROWS(Y$3:Y42)<=SUM(IF(H$4:H$38<>\"\",1/COUNTIF(H$4:H$38,H$4:H$38))),INDEX(H$1:H$38,MIN(IF(COUNTIF(Y$3:Y42,H$4:H$38)=0,ROW(H$4:H$38)))),INDEX(I$1:I$38,MIN(IF((I$4:I$38<>\"\")*(COUNTIF(Y$3:Y42,I$4:I$38)=0),ROW(H$4:H$38)))))","v":0},{"$f":"IF(Y43=0,\"\",SUMPRODUCT((F$4:F$4=\"Aire\")*((H$4:H$4=Y43)+(I$4:I$4=Y43))*IF(O$4:O$4=\"\",0,O$4:O$4)*((Q$4:Q$4=\"\")+(Q$4:Q$4=\"50/50\")/2)))","v":""},{"$f":"IF(Y43=0,\"\",SUMPRODUCT((F$4:F$4=\"Aire\")*((H$4:H$4=Y43)+(I$4:I$4=Y43))*IF(P$4:P$4=\"\",0,P$4:P$4)*((Q$4:Q$4=\"\")+(Q$4:Q$4=\"50/50\")/2)))","v":""},{"$f":"IF(Y43=0,\"\",SUMPRODUCT((F$4:F$4=\"Luchon\")*((H$4:H$4=Y43)+(I$4:I$4=Y43))*IF(O$4:O$4=\"\",0,O$4:O$4)*((Q$4:Q$4=\"\")+(Q$4:Q$4=\"50/50\")/2)))","v":""},{"$f":"IF(Y43=0,\"\",SUMPRODUCT((F$4:F$4=\"Luchon\")*((H$4:H$4=Y43)+(I$4:I$4=Y43))*IF(P$4:P$4=\"\",0,P$4:P$4)*((Q$4:Q$4=\"\")+(Q$4:Q$4=\"50/50\")/2)))","v":""},{"$f":"IF(Y43=0,\"\",SUMPRODUCT((F$4:F$4=\"Aire\")*((H$4:H$4=Y43)+(I$4:I$4=Y43))*(L$4:L$4)))","v":""},{"$f":"IF(Y43=0,\"\",SUMPRODUCT((F$4:F$4=\"Luchon\")*((H$4:H$4=Y43)+(I$4:I$4=Y43))*(L$4:L$4)))","v":""},null,null,0,null,{"$f":"SUMIF(H5:H163,AH43,L5:L163)","v":"00:00:00"},{"$f":"IF(Y43=0,\"\",SUMPRODUCT((F$4:F$4=\"Aire\")*((H$4:H$4=Y43)+(I$4:I$4=Y43))*IF(G$4:G$4=\"\",0,G$4:G$4)*((Q$4:Q$4=\"\")+(Q$4:Q$4=\"50/50\")/2)))","v":""},{"$f":"IF(Y43=0,\"\",SUMPRODUCT((F$4:F$4=\"Luchon\")*((H$4:H$4=Y43)+(I$4:I$4=Y43))*IF(G$4:G$4=\"\",0,G$4:G$4)*((Q$4:Q$4=\"\")+(Q$4:Q$4=\"50/50\")/2)))","v":""}]
[null,null,null,null,null,null,null,null,null,null,null,null,null,null,null,null,null,null,null,null,null,null,null,null,{"$f":"IF(ROWS(Y$3:Y43)<=SUM(IF(H$4:H$38<>\"\",1/COUNTIF(H$4:H$38,H$4:H$38))),INDEX(H$1:H$38,MIN(IF(COUNTIF(Y$3:Y43,H$4:H$38)=0,ROW(H$4:H$38)))),INDEX(I$1:I$38,MIN(IF((I$4:I$38<>\"\")*(COUNTIF(Y$3:Y43,I$4:I$38)=0),ROW(H$4:H$38)))))","v":0},{"$f":"IF(Y44=0,\"\",SUMPRODUCT((F$4:F$4=\"Aire\")*((H$4:H$4=Y44)+(I$4:I$4=Y44))*IF(O$4:O$4=\"\",0,O$4:O$4)*((Q$4:Q$4=\"\")+(Q$4:Q$4=\"50/50\")/2)))","v":""},{"$f":"IF(Y44=0,\"\",SUMPRODUCT((F$4:F$4=\"Aire\")*((H$4:H$4=Y44)+(I$4:I$4=Y44))*IF(P$4:P$4=\"\",0,P$4:P$4)*((Q$4:Q$4=\"\")+(Q$4:Q$4=\"50/50\")/2)))","v":""},{"$f":"IF(Y44=0,\"\",SUMPRODUCT((F$4:F$4=\"Luchon\")*((H$4:H$4=Y44)+(I$4:I$4=Y44))*IF(O$4:O$4=\"\",0,O$4:O$4)*((Q$4:Q$4=\"\")+(Q$4:Q$4=\"50/50\")/2)))","v":""},{"$f":"IF(Y44=0,\"\",SUMPRODUCT((F$4:F$4=\"Luchon\")*((H$4:H$4=Y44)+(I$4:I$4=Y44))*IF(P$4:P$4=\"\",0,P$4:P$4)*((Q$4:Q$4=\"\")+(Q$4:Q$4=\"50/50\")/2)))","v":""},{"$f":"IF(Y44=0,\"\",SUMPRODUCT((F$4:F$4=\"Aire\")*((H$4:H$4=Y44)+(I$4:I$4=Y44))*(L$4:L$4)))","v":""},{"$f":"IF(Y44=0,\"\",SUMPRODUCT((F$4:F$4=\"Luchon\")*((H$4:H$4=Y44)+(I$4:I$4=Y44))*(L$4:L$4)))","v":""},null,null,0,null,{"$f":"SUMIF(H5:H164,AH44,L5:L164)","v":"00:00:00"},{"$f":"IF(Y44=0,\"\",SUMPRODUCT((F$4:F$4=\"Aire\")*((H$4:H$4=Y44)+(I$4:I$4=Y44))*IF(G$4:G$4=\"\",0,G$4:G$4)*((Q$4:Q$4=\"\")+(Q$4:Q$4=\"50/50\")/2)))","v":""},{"$f":"IF(Y44=0,\"\",SUMPRODUCT((F$4:F$4=\"Luchon\")*((H$4:H$4=Y44)+(I$4:I$4=Y44))*IF(G$4:G$4=\"\",0,G$4:G$4)*((Q$4:Q$4=\"\")+(Q$4:Q$4=\"50/50\")/2)))","v":""}]
[null,null,null,null,null,null,null,null,null,null,null,null,null,null,null,null,null,null,null,null,null,null,null,null,{"$f":"IF(ROWS(Y$3:Y44)<=SUM(IF(H$4:H$38<>\"\",1/COUNTIF(H$4:H$38,H$4:H$38))),INDEX(H$1:H$38,MIN(IF(COUNTIF(Y$3:Y44,H$4:H$38)=0,ROW(H$4:H$38)))),INDEX(I$1:I$38,MIN(IF((I$4:I$38<>\"\")*(COUNTIF(Y$3:Y44,I$4:I$38)=0),ROW(H$4:H$38)))))","v":0},{"$f":"IF(Y45=0,\"\",SUMPRODUCT((F$4:F$4=\"Aire\")*((H$4:H$4=Y45)+(I$4:I$4=Y45))*IF(O$4:O$4=\"\",0,O$4:O$4)*((Q$4:Q$4=\"\")+(Q$4:Q$4=\"50/50\")/2)))","v":""},{"$f":"IF(Y45=0,\"\",SUMPRODUCT((F$4:F$4=\"Aire\")*((H$4:H$4=Y45)+(I$4:I$4=Y45))*IF(P$4:P$4=\"\",0,P$4:P$4)*((Q$4:Q$4=\"\")+(Q$4:Q$4=\"50/50\")/2)))","v":""},{"$f":"IF(Y45=0,\"\",SUMPRODUCT((F$4:F$4=\"Luchon\")*((H$4:H$4=Y45)+(I$4:I$4=Y45))*IF(O$4:O$4=\"\",0,O$4:O$4)*((Q$4:Q$4=\"\")+(Q$4:Q$4=\"50/50\")/2)))","v":""},{"$f":"IF(Y45=0,\"\",SUMPRODUCT((F$4:F$4=\"Luchon\")*((H$4:H$4=Y45)+(I$4:I$4=Y45))*IF(P$4:P$4=\"\",0,P$4:P$4)*((Q$4:Q$4=\"\")+(Q$4:Q$4=\"50/50\")/2)))","v":""},{"$f":"IF(Y45=0,\"\",SUMPRODUCT((F$4:F$4=\"Aire\")*((H$4:H$4=Y45)+(I$4:I$4=Y45))*(L$4:L$4)))","v":""},{"$f":"IF(Y45=0,\"\",SUMPRODUCT((F$4:F$4=\"Luchon\")*((H$4:H$4=Y45)+(I$4:I$4=Y45))*(L$4:L$4)))","v":""},null,null,0,null,{"$f":"SUMIF(H5:H165,AH45,L5:L165)","v":"00:00:00"},{"$f":"IF(Y45=0,\"\",SUMPRODUCT((F$4:F$4=\"Aire\")*((H$4:H$4=Y45)+(I$4:I$4=Y45))*IF(G$4:G$4=\"\",0,G$4:G$4)*((Q$4:Q$4=\"\")+(Q$4:Q$4=\"50/50\")/2)))","v":""},{"$f":"IF(Y45=0,\"\",SUMPRODUCT((F$4:F$4=\"Luchon\")*((H$4:H$4=Y45)+(I$4:I$4=Y45))*IF(G$4:G$4=\"\",0,G$4:G$4)*((Q$4:Q$4=\"\")+(Q$4:Q$4=\"50/50\")/2)))","v":""}]
[null,null,null,null,null,null,null,null,null,null,null,null,null,null,null,null,null,null,null,null,null,null,null,null,{"$f":"IF(ROWS(Y$3:Y45)<=SUM(IF(H$4:H$38<>\"\",1/COUNTIF(H$4:H$38,H$4:H$38))),INDEX(H$1:H$38,MIN(IF(COUNTIF(Y$3:Y45,H$4:H$38)=0,ROW(H$4:H$38)))),INDEX(I$1:I$38,MIN(IF((I$4:I$38<>\"\")*(COUNTIF(Y$3:Y45,I$4:I$38)=0),ROW(H$4:H$38)))))","v":0},{"$f":"IF(Y46=0,\"\",SUMPRODUCT((F$4:F$4=\"Aire\")*((H$4:H$4=Y46)+(I$4:I$4=Y46))*IF(O$4:O$4=\"\",0,O$4:O$4)*((Q$4:Q$4=\"\")+(Q$4:Q$4=\"50/50\")/2)))","v":""},{"$f":"IF(Y46=0,\"\",SUMPRODUCT((F$4:F$4=\"Aire\")*((H$4:H$4=Y46)+(I$4:I$4=Y46))*IF(P$4:P$4=\"\",0,P$4:P$4)*((Q$4:Q$4=\"\")+(Q$4:Q$4=\"50/50\")/2)))","v":""},{"$f":"IF(Y46=0,\"\",SUMPRODUCT((F$4:F$4=\"Luchon\")*((H$4:H$4=Y46)+(I$4:I$4=Y46))*IF(O$4:O$4=\"\",0,O$4:O$4)*((Q$4:Q$4=\"\")+(Q$4:Q$4=\"50/50\")/2)))","v":""},{"$f":"IF(Y46=0,\"\",SUMPRODUCT((F$4:F$4=\"Luchon\")*((H$4:H$4=Y46)+(I$4:I$4=Y46))*IF(P$4:P$4=\"\",0,P$4:P$4)*((Q$4:Q$4=\"\")+(Q$4:Q$4=\"50/50\")/2)))","v":""},{"$f":"IF(Y46=0,\"\",SUMPRODUCT((F$4:F$4=\"Aire\")*((H$4:H$4=Y46)+(I$4:I$4=Y46))*(L$4:L$4)))","v":""},{"$f":"IF(Y46=0,\"\",SUMPRODUCT((F$4:F$4=\"Luchon\")*((H$4:H$4=Y46)+(I$4:I$4=Y46))*(L$4:L$4)))","v":""},null,null,0,null,{"$f":"SUMIF(H5:H166,AH46,L5:L166)","v":"00:00:00"},{"$f":"IF(Y46=0,\"\",SUMPRODUCT((F$4:F$4=\"Aire\")*((H$4:H$4=Y46)+(I$4:I$4=Y46))*IF(G$4:G$4=\"\",0,G$4:G$4)*((Q$4:Q$4=\"\")+(Q$4:Q$4=\"50/50\")/2)))","v":""},{"$f":"IF(Y46=0,\"\",SUMPRODUCT((F$4:F$4=\"Luchon\")*((H$4:H$4=Y46)+(I$4:I$4=Y46))*IF(G$4:G$4=\"\",0,G$4:G$4)*((Q$4:Q$4=\"\")+(Q$4:Q$4=\"50/50\")/2)))","v":""}]
[null,null,null,null,null,null,null,null,null,null,null,null,null,null,null,null,null,null,null,null,null,null,null,null,{"$f":"IF(ROWS(Y$3:Y46)<=SUM(IF(H$4:H$38<>\"\",1/COUNTIF(H$4:H$38,H$4:H$38))),INDEX(H$1:H$38,MIN(IF(COUNTIF(Y$3:Y46,H$4:H$38)=0,ROW(H$4:H$38)))),INDEX(I$1:I$38,MIN(IF((I$4:I$38<>\"\")*(COUNTIF(Y$3:Y46,I$4:I$38)=0),ROW(H$4:H$38)))))","v":0},{"$f":"IF(Y47=0,\"\",SUMPRODUCT((F$4:F$4=\"Aire\")*((H$4:H$4=Y47)+(I$4:I$4=Y47))*IF(O$4:O$4=\"\",0,O$4:O$4)*((Q$4:Q$4=\"\")+(Q$4:Q$4=\"50/50\")/2)))","v":""},{"$f":"IF(Y47=0,\"\",SUMPRODUCT((F$4:F$4=\"Aire\")*((H$4:H$4=Y47)+(I$4:I$4=Y47))*IF(P$4:P$4=\"\",0,P$4:P$4)*((Q$4:Q$4=\"\")+(Q$4:Q$4=\"50/50\")/2)))","v":""},{"$f":"IF(Y47=0,\"\",SUMPRODUCT((F$4:F$4=\"Luchon\")*((H$4:H$4=Y47)+(I$4:I$4=Y47))*IF(O$4:O$4=\"\",0,O$4:O$4)*((Q$4:Q$4=\"\")+(Q$4:Q$4=\"50/50\")/2)))","v":""},{"$f":"IF(Y47=0,\"\",SUMPRODUCT((F$4:F$4=\"Luchon\")*((H$4:H$4=Y47)+(I$4:I$4=Y47))*IF(P$4:P$4=\"\",0,P$4:P$4)*((Q$4:Q$4=\"\")+(Q$4:Q$4=\"50/50\")/2)))","v":""},{"$f":"IF(Y47=0,\"\",SUMPRODUCT((F$4:F$4=\"Aire\")*((H$4:H$4=Y47)+(I$4:I$4=Y47))*(L$4:L$4)))","v":""},{"$f":"IF(Y47=0,\"\",SUMPRODUCT((F$4:F$4=\"Luchon\")*((H$4:H$4=Y47)+(I$4:I$4=Y47))*(L$4:L$4)))","v":""},null,null,0,null,{"$f":"SUMIF(H5:H167,AH47,L5:L167)","v":"00:00:00"},{"$f":"IF(Y47=0,\"\",SUMPRODUCT((F$4:F$4=\"Aire\")*((H$4:H$4=Y47)+(I$4:I$4=Y47))*IF(G$4:G$4=\"\",0,G$4:G$4)*((Q$4:Q$4=\"\")+(Q$4:Q$4=\"50/50\")/2)))","v":""},{"$f":"IF(Y47=0,\"\",SUMPRODUCT((F$4:F$4=\"Luchon\")*((H$4:H$4=Y47)+(I$4:I$4=Y47))*IF(G$4:G$4=\"\",0,G$4:G$4)*((Q$4:Q$4=\"\")+(Q$4:Q$4=\"50/50\")/2)))","v":""}]
[null,null,null,null,null,null,null,null,null,null,null,null,null,null,null,null,null,null,null,null,null,null,null,null,{"$f":"IF(ROWS(Y$3:Y47)<=SUM(IF(H$4:H$38<>\"\",1/COUNTIF(H$4:H$38,H$4:H$38))),INDEX(H$1:H$38,MIN(IF(COUNTIF(Y$3:Y47,H$4:H$38)=0,ROW(H$4:H$38)))),INDEX(I$1:I$38,MIN(IF((I$4:I$38<>\"\")*(COUNTIF(Y$3:Y47,I$4:I$38)=0),ROW(H$4:H$38)))))","v":0},{"$f":"IF(Y48=0,\"\",SUMPRODUCT((F$4:F$4=\"Aire\")*((H$4:H$4=Y48)+(I$4:I$4=Y48))*IF(O$4:O$4=\"\",0,O$4:O$4)*((Q$4:Q$4=\"\")+(Q$4:Q$4=\"50/50\")/2)))","v":""},{"$f":"IF(Y48=0,\"\",SUMPRODUCT((F$4:F$4=\"Aire\")*((H$4:H$4=Y48)+(I$4:I$4=Y48))*IF(P$4:P$4=\"\",0,P$4:P$4)*((Q$4:Q$4=\"\")+(Q$4:Q$4=\"50/50\")/2)))","v":""},{"$f":"IF(Y48=0,\"\",SUMPRODUCT((F$4:F$4=\"Luchon\")*((H$4:H$4=Y48)+(I$4:I$4=Y48))*IF(O$4:O$4=\"\",0,O$4:O$4)*((Q$4:Q$4=\"\")+(Q$4:Q$4=\"50/50\")/2)))","v":""},{"$f":"IF(Y48=0,\"\",SUMPRODUCT((F$4:F$4=\"Luchon\")*((H$4:H$4=Y48)+(I$4:I$4=Y48))*IF(P$4:P$4=\"\",0,P$4:P$4)*((Q$4:Q$4=\"\")+(Q$4:Q$4=\"50/50\")/2)))","v":""},{"$f":"IF(Y48=0,\"\",SUMPRODUCT((F$4:F$4=\"Aire\")*((H$4:H$4=Y48)+(I$4:I$4=Y48))*(L$4:L$4)))","v":""},{"$f":"IF(Y48=0,\"\",SUMPRODUCT((F$4:F$4=\"Luchon\")*((H$4:H$4=Y48)+(I$4:I$4=Y48))*(L$4:L$4)))","v":""},null,null,0,null,{"$f":"SUMIF(H5:H169,AH48,L5:L169)","v":"00:00:00"},{"$f":"IF(Y48=0,\"\",SUMPRODUCT((F$4:F$4=\"Aire\")*((H$4:H$4=Y48)+(I$4:I$4=Y48))*IF(G$4:G$4=\"\",0,G$4:G$4)*((Q$4:Q$4=\"\")+(Q$4:Q$4=\"50/50\")/2)))","v":""},{"$f":"IF(Y48=0,\"\",SUMPRODUCT((F$4:F$4=\"Luchon\")*((H$4:H$4=Y48)+(I$4:I$4=Y48))*IF(G$4:G$4=\"\",0,G$4:G$4)*((Q$4:Q$4=\"\")+(Q$4:Q$4=\"50/50\")/2)))","v":""}]
[null,null,null,null,null,null,null,null,null,null,null,null,null,null,null,null,null,null,null,null,null,null,null,null,null,{"$f":"SUM(Z4:Z48)","v":1},{"$f":"SUM(AA4:AA48)","v":0},{"$f":"SUM(AB4:AB48)","v":0},{"$f":"SUM(AC4:AC48)","v":0},null,null,null,null,{"$f":"SUM(AH4:AH48)","v":8.3333333333333301E-2},{"$f":"SUM(AI4:AI48)","v":0},{"$f":"SUM(AJ4:AJ48)","v":0},{"$f":"SUM(AK4:AK48)","v":44},{"$f":"SUM(AL4:AL48)","v":0}]
[]
[null,null,null,null,null,null,null,null,null,null,null,null,null,null,null,null,null,null,null,null,null,null,null,null,null,null,null,{"$f":"SUM(AB49)*Parametres!AD3","v":0},{"$f":"SUM(AC49)*Parametres!AC3","v":0},null,null,null,null,{"$f":"SUM(AI4:AI48)","v":0}]
[]
[null,null,null,null,null,null,null,null,null,null,null,null,null,null,null,null,null,null,null,null,null,null,null,null,null,null,null,{"$f":"SUM(AB49)*Parametres!AD3","v":0},null,null,null,null,null,{"$f":"SUM(AJ49)","v":0}]
[null,null,null,null,null,null,null,null,null,null,null,null,null,null,null,null,null,null,null,null,null,null,null,null,null,null,null,{"$f":"SUM(AC49)*Parametres!AD3","v":0}]

{"sheet":"CodeOACI","index":15,"n_rows":546,"n_cols":8,"rows_kept":546,"cut":false,"hidden":true,"merged":[]}
[]
[]
["Code OACI","Code AITA","Nom de l'aérodrome","Ville desservie","Dépt","Alt. en m","Nb de pistes","Remarque"]
[null,"JAH","Héliport d'Aubagne - Agora","Aubagne",13,null,null,"héliport"]
[null,"JCA","Héliport de Nice - La Croisette","Nice",6,null,null,"héliport"]
[null,"JEV","Héliport d'Évry","Évry",91,null,null,"héliport"]
[null,"JLP","Héliport de Juan-les-Pins","Juan-les-Pins",6,null,null,"héliport"]
[null,"JPU","Héliport de Paris - La Défense","Paris",92,null,null,"héliport"]
["FMCZ","DZA","Aérodrome de Dzaoudzi Pamandzi","Dzaoudzi",976,7,1]
["FMEE","RUN","Aéroport Roland Garros Réunion","Saint-Denis Gillot",974,20,2]
["FMEP","ZSE","Aéroport de Pierrefonds","Saint-Pierre",974,18,1]
["LF34",null,"Base aérienne de Moussoulens","Moussoulens",11,177,1,"militaire"]
["LFAB","DPE","Aéroport de Dieppe - Saint-Aubin","Dieppe",76,104,2]
["LFAC","CQF","Aéroport de Calais - Dunkerque","Calais",62,3,1]
["LFAD",null,"Aéroport de Compiègne - Margny","Compiègne",60,96,1]
["LFAE",null,"Aérodrome d'Eu - Mers - Le Tréport","Eu",76,99,1,"usage restreint"]
["LFAF",null,"Aéroport de Laon - Chambry","Laon",2,78,2]
["LFAG",null,"Aéroport de Peronne - Saint-Quentin","Péronne",80,89,1]
["LFAI",null,"Aéroport de Nangis Les Loges","Nangis",77,130,2]
["LFAJ",null,"Aéroport d'Argentan","Argentan",61,177,1]
["LFAK",null,"Aérodrome de Dunkerque - Les Moëres","Dunkerque",59,-1,1,"usage restreint"]
["LFAL",null,"Aérodrome de La Flèche - Thorée-les-Pins","La Flèche",72,36,1,"usage restreint"]
["LFAM",null,"Aéroport de Berck-sur-Mer","Berck",62,9,2]
["LFAN",null,"Aérodrome de Condé-sur-Noireau","Condé-sur-Noireau",14,254,null,"désaffecté"]
["LFAO",null,"Aéroport de Bagnoles-de-l'Orne - Couterne","Bagnoles-de-l'Orne",61,218,1]
["LFAP",null,"Aérodrome de Rethel - Perthes","Rethel",8,126,1,"usage restreint"]
["LFAQ",null,"Aérodrome d'Albert - Bray","Albert",80,110,1,"usage restreint"]
["LFAR",null,"Aérodrome de Montdidier","Montdidier",80,109,1,"usage restreint"]
["LFAS",null,"Aérodrome de Falaise Mont d'Eraines","Falaise",14,156,1,"usage restreint"]
["LFAT","LTQ","Aéroport du Touquet-Paris-Plage","Le Touquet-Paris-Plage",62,10,1]
["LFAU",null,"Aérodrome de Vauville","Vauville",50,138,1,"usage restreint"]
["LFAV",null,"Aéroport de Valenciennes - Denain","Valenciennes",59,53,3]
["LFAW",null,"Aérodrome de Villerupt","Villerupt",54,397,1,"usage restreint"]
["LFAX",null,"Aéroport de Mortagne-au-Perche","Mortagne-au-Perche",61,270,1]
["LFAY",null,"Aéroport d'Amiens - Glisy","Amiens",80,63,2]
["LFBA","AGF","Aéroport Agen-La Garenne","Agen",47,62,1]
["LFBC",null,"Base aérienne de Cazaux","La Teste-de-Buch",33,25,1,"militaire"]
["LFBD","BOD","Aéroport de Bordeaux - Mérignac","Bordeaux",33,50,2]
["LFBE","EGC","Aéroport Bergerac-Roumanière","Bergerac",24,52,2]
["LFBF",null,"Base aérienne de Toulouse - Francazal","Toulouse",31,163,1,"militaire"]
["LFBG","CNG","Base aérienne de Cognac Châteaubernard","Cognac",16,31,3,"militaire"]
["LFBH","LRH","Aéroport de La Rochelle - île de Ré","La Rochelle",17,22,1]
["LFBI","PIS","Aéroport de Poitiers-Biard","Poitiers",86,128,3]
["LFBJ",null,"Aéroport de Saint-Junien","Saint-Junien",87,274,1]
["LFBK","MCU","Aéroport de Montluçon Guéret","Montluçon",23,412,2]
["LFBL","LIG","Aéroport de Limoges Bellegarde","Limoges",87,396,2]
["LFBM",null,"Base aérienne 118 Mont-de-Marsan","Mont-de-Marsan",40,61,1,"militaire"]
["LFBN","NIT","Aéroport de Niort Souché","Niort",79,61,2]
["LFBO","TLS","Aéroport Toulouse Blagnac","Toulouse",31,152,2]
["LFBP","PUF","Aéroport Pau-Pyrénées","Pau",64,187,1]
["LFBR",null,"Aérodrome de Muret-Lherm","Muret",31,189,3]
["LFBS",null,"Aéroport de Biscarrosse - Parentis","Biscarrosse",40,29,3]
["LFBT","LDE","Aéroport de Tarbes-Lourdes-Pyrénées","Tarbes",65,384,1]
["LFBU","ANG","Aéroport d'Angoulême - Brie - Champniers","Angoulême",16,132,2]
["LFBV","BVE","Aéroport de Brive La Roche","Brive-la-Gaillarde",19,116,2]
["LFBX","PGX","Aéroport Périgueux-Bassillac","Périgueux",24,99,2]
["LFBY",null,"Aéroport de Dax - Seyresse","Dax",40,32,1]
["LFBZ","BIQ","Aéroport de Biarritz-Anglet-Bayonne","Biarritz",64,74,1]
["LFCA",null,"Aéroport de Châtellerault Targé","Châtellerault",86,63,1]
["LFCB",null,"Aéroport de Bagnères-de-Luchon","Bagnères-de-Luchon",31,618,1]
["LFCC","ZAO","Aéroport de Cahors - Lalbenque","Cahors",46,277,2]
["LFCD",null,"Aéroport d'Andernos-les-Bains","Andernos-les-Bains",33,20,1]
["LFCE",null,"Aéroport de Guéret - Saint-Laurent","Guéret",23,367,1]
["LFCF",null,"Aéroport de Figeac - Livernon","Figeac",46,331,1]
["LFCG",null,"Aéroport de Saint-Girons - Antichan","Saint-Girons",9,416,3]
["LFCH",null,"Aéroport d'Arcachon - La Teste-de-Buch","Arcachon",33,14,2]
["LFCI","LBI","Aéroport d'Albi Le Sequestre","Albi",81,171,1]
["LFCJ",null,"Aéroport de Jonzac - Neulles","Jonzac",17,39,3]
["LFCK","DCM","Aéroport de Castres Mazamet","Castres",81,239,1]
["LFCL",null,"Aéroport de Toulouse - Lasbordes","Toulouse",31,139,1]
["LFCM",null,"Aéroport de Millau Larzac","Millau",12,794,1]
["LFCN",null,"Aéroport de Nogaro","Nogaro",32,92,2]
["LFCO",null,"Aéroport d'Oloron - Herrère","Oloron-Sainte-Marie",64,299,2]
["LFCP",null,"Aéroport de Pons - Avy","Pons",17,35,1]
["LFCQ",null,"Aéroport de Graulhet - Montdragon","Graulhet",81,177,2]
["LFCR","RDZ","Aéroport de Rodez Marcillac","Rodez",12,582,2]
["LFCS",null,"Aéroport de Bordeaux - Léognan - Saucats","Bordeaux",33,57,2]
["LFCT",null,"Aéroport de Thouars","Thouars",79,103,2]
["LFCU",null,"Aéroport d'Ussel - Thalamy","Ussel",19,740,2]
["LFCV",null,"Aéroport de Villefranche-de-Rouergue","Villefranche-de-Rouergue",12,334,1]
["LFCW",null,"Aéroport de Villeneuve-sur-Lot","Villeneuve-sur-Lot",47,57,1]
["LFCX",null,"Aéroport de Castelsarrasin - Moissac","Castelsarrasin",82,74,2]
["LFCY","RYN","Aéroport de Royan - Médis","Royan",17,21,2]
["LFCZ",null,"Aéroport de Mimizan","Mimizan",40,49,1]
["LFDA",null,"Aéroport d'Aire-sur-l'Adour","Aire-sur-l'Adour",40,78,2]
["LFDB",null,"Aéroport de Montauban","Montauban",82,106,1]
["LFDC",null,"Aéroport de Montendre - Marcillac","Montendre",33,45,1]
["LFDE",null,"Aéroport d'Égletons","Égletons",19,566,2]
["LFDF",null,"Aéroport de Sainte-Foy-la-Grande","Sainte-Foy-la-Grande",24,85,1]
["LFDG",null,"Aéroport de Gaillac - Lisle -sur-Tarn","Gaillac",81,135,1]
["LFDH",null,"Aéroport d'Auch Lamothe","Auch",32,125,2]
["LFDI",null,"Aéroport de Libourne - Artigues-de-Lussac","Libourne",33,47,2]
["LFDJ",null,"Aéroport de Pamiers - Les Pujols","Pamiers",9,339,1]
["LFDK",null,"Aéroport de Soulac-sur-Mer","Soulac-sur-Mer",33,2,1]
["LFDL",null,"Aéroport de Loudun","Loudun",86,96,1]
["LFDM",null,"Aéroport de Marmande - Virazeil","Marmande",47,32,2]
["LFDN","RCO","Aéroport de Rochefort - Saint-Agnant","Rochefort",17,17,2]
["LFDO",null,"Aérodrome de Bordeaux – Souge","Bordeaux",33,42,null,"désaffecté"]
["LFDP",null,"Aéroport de Saint-Pierre-d'Oléron","Saint-Pierre-d'Oléron",17,6,1]
["LFDQ",null,"Aérodrome de Castelnau Magnoac","Castelnau-Magnoac",65,299,1,"usage restreint"]
["LFDR",null,"Aéroport de La Réole - Floudès","La Réole",33,13,1]
["LFDS",null,"Aéroport de Sarlat - Domme","Sarlat-la-Canéda",24,298,2]
["LFDT",null,"Aéroport de Tarbes - Laloubère","Tarbes",65,327,2]
["LFDU",null,"Aéroport de Lesparre - Saint-Laurent-de-Médoc","Lesparre-Médoc",33,32,1]
["LFDV",null,"Aéroport de Couhé Vérac","Couhé",86,152,1]
["LFDW",null,"Aéroport de Chauvigny","Chauvigny",86,134,1]
["LFDX",null,"Aéroport de Fumel - Montayral","Fumel",47,210,1]
["LFDY",null,"Aérodrome de Bordeaux - Yvrac","Bordeaux",33,73,1,"usage restreint"]
["LFEA",null,"Aéroport de Belle-Île","Le Palais",56,52,1]
["LFEB",null,"Aéroport de Dinan - Trélivan","Dinan",22,120,1]
["LFEC",null,"Aéroport d'Ouessant","Ouessant",29,42,1]
["LFED",null,"Aéroport de Pontivy","Pontivy",56,124,1]
["LFEF",null,"Aéroport d'Amboise - Dierre","Amboise",37,53,2]
["LFEG",null,"Aéroport d'Argenton-sur-Creuse","Argenton-sur-Creuse",36,202,2]
["LFEH",null,"Aéroport d'Aubigny-sur-Nère","Aubigny-sur-Nère",18,192,1]
["LFEI",null,"Aéroport de Briare Chatillon","Briare",45,163,1]
["LFEJ",null,"Aéroport de Châteauroux - Villers","Châteauroux",36,165,1]
["LFEK",null,"Aéroport d'Issoudun Le Fay","Issoudun",36,161,3]
["LFEL",null,"Aéroport du Blanc","Le Blanc",36,116,2]
["LFEM",null,"Aéroport de Montargis - Vimory","Montargis",45,93,3]
["LFEN",null,"Aéroport de Tours - Sorigny","Tours",37,91,2]
["LFEP",null,"Aérodrome de Pouilly - Maconge","Pouilly-en-Auxois",21,430,1,"usage restreint"]
["LFEQ",null,"Aéroport de Quiberon","Quiberon",56,11,1]
["LFER",null,"Aéroport de Redon - Bains-sur-Oust","Redon",35,67,1]
["LFES",null,"Aéroport de Guiscriff - Scaër","Guiscriff",56,174,1]
["LFET",null,"Aéroport de Til-Châtel","Til-Châtel",21,286,2]
["LFEU",null,"Aéroport de Bar-le-Duc - Les Hauts-de-Chée","Bar-le-Duc",55,274,1]
["LFEV",null,"Aéroport de Gray Saint-Adrien","Gray",70,206,2]
["LFEW",null,"Aéroport de Saulieu - Liernais","Saulieu",21,522,1]
["LFEX",null,"Aérodrome de Nancy - Azelot","Nancy",54,291,2,"usage restreint"]
["LFEY","IDY","Aéroport de l'Île-d'Yeu","L'Île-d'Yeu",85,24,2]
["LFEZ",null,"Aérodrome de Nancy - Malzéville","Nancy",54,380,3,"usage restreint"]
["LFFB",null,"Aérodrome de Buno-Bonnevaux","Buno-Bonnevaux",91,127,2,"usage restreint"]
["LFFC",null,"Aérodrome de Mantes - Chérence","Mantes-la-Jolie",95,156,2,"usage restreint"]
["LFFD",null,"Aérodrome de Saint-André-de-l'Eure","Saint-André-de-l'Eure",27,149,2,"usage restreint"]
["LFFE",null,"Aérodrome d'Enghien - Moisselles","Enghien-les-Bains",95,102,2,"usage restreint"]
["LFFG",null,"Aérodrome de La Ferté-Gaucher","La Ferté-Gaucher",77,163,1,"usage restreint"]
["LFFH",null,"Aérodrome de Château-Thierry - Belleau","Château-Thierry",2,220,1,"usage restreint"]
["LFFI",null,"Aéroport d'Ancenis","Ancenis",44,33,1]
["LFFJ",null,"Aérodrome de Joinville - Mussey","Joinville",52,313,1,"usage restreint"]
["LFFK",null,"Aéroport de Fontenay-le-Comte","Fontenay-le-Comte",85,25,1]
["LFFL",null,"Aérodrome de Bailleau-Armenonville","Bailleau-Armenonville",28,154,2,"usage restreint"]
["LFFM",null,"Aérodrome de Lamotte-Beuvron","Lamotte-Beuvron",41,125,1,"usage restreint"]
["LFFN",null,"Aéroport de Brienne-le-Château","Brienne-le-Château",10,116,2]
["LFFP",null,"Aérodrome de Pithiviers","Pithiviers",45,119,1,"usage restreint"]
["LFFQ",null,"Aérodrome de La Ferté-Alais","La Ferté-Alais",91,138,1,"usage restreint"]
["LFFR",null,"Aérodrome de Bar-sur-Seine","Bar-sur-Seine",10,285,1,"usage restreint"]
["LFFT",null,"Aérodrome de Neufchâteau Rouceux","Neufchâteau",88,374,1,"usage restreint"]
["LFFU",null,"Aéroport de Châteauneuf-sur-Cher","Châteauneuf-sur-Cher",18,167,1]
["LFFV",null,"Aérodrome de Vierzon - Méreau","Vierzon",18,131,1,"usage restreint"]
["LFFW",null,"Aéroport de Montaigu - Saint-Georges","Montaigu",85,56,2]
["LFFX",null,"Aérodrome de Tournus - Cuisery","Tournus",71,210,1,"usage restreint"]
["LFFY",null,"Aérodrome d'Étrépagny","Étrépagny",27,93,1,"usage restreint"]
["LFFZ",null,"Aéroport de Sézanne - Saint-Remy","Sézanne",51,108,2]
["LFGA","CMR","Aéroport de Colmar - Houssen","Colmar",68,192,2]
["LFGB",null,"Aéroport de Mulhouse - Habsheim","Mulhouse",68,240,4]
["LFGC",null,"Aéroport de Strasbourg Neuhof","Strasbourg",67,139,2]
["LFGD",null,"Aérodrome d'Arbois","Arbois",39,266,1,"usage restreint"]
["LFGE",null,"Aéroport d'Avallon","Avallon",89,239,1]
["LFGF",null,"Aéroport de Beaune Challanges","Beaune",21,199,2]
["LFGG",null,"Aéroport de Belfort - Chaux","Belfort",90,417,2]
["LFGH",null,"Aéroport de Cosne-sur-Loire","Cosne-Cours-sur-Loire",58,176,1]
["LFGI","DIJ","Aéroport de Dijon - Darois","Dijon",21,483,2]
["LFGJ","DLE","Aéroport de Dole - Tavaux","Dole",39,196,2]
["LFGK",null,"Aéroport de Joigny","Joigny",89,223,2]
["LFGL",null,"Aéroport de Lons-le-Saunier - Courlaoux","Lons-le-Saunier",39,232,1]
["LFGM",null,"Aéroport de Montceau-les-Mines - Pouilloux","Montceau-les-Mines",71,314,1]
["LFGN",null,"Aéroport de Paray-le-Monial","Paray-le-Monial",71,305,1]
["LFGO",null,"Aéroport de Pont-sur-Yonne","Pont-sur-Yonne",89,70,2]
["LFGP",null,"Aéroport de Saint-Florentin - Chéu","Saint-Florentin",89,108,3]
["LFGQ",null,"Aéroport de Semur-en-Auxois","Semur-en-Auxois",21,320,2]
["LFGR",null,"Aéroport de Doncourt-lès-Conflans","Doncourt-lès-Conflans",54,246,1]
["LFGS",null,"Aéroport de Longuyon - Villette","Longuyon",54,351,1]
["LFGT",null,"Aéroport de Sarrebourg - Buhl","Sarrebourg",57,266,2]
["LFGU",null,"Aéroport de Sarreguemines Neunkirch","Sarreguemines",57,263,2]
["LFGV",null,"Aéroport de Thionville - Yutz","Thionville",57,157,2]
["LFGW",null,"Aéroport de Verdun Le Rozelier","Verdun",55,374,2]
["LFGX",null,"Aérodrome de Champagnole - Crotenay","Champagnole",39,531,1,"usage restreint"]
["LFGY",null,"Aérodrome de Saint-Dié - Remomeix","Saint-Dié-des-Vosges",88,361,1]
["LFGZ",null,"Aérodrome de Nuits-Saint-Georges","Nuits-Saint-Georges",21,242,1,"usage restreint"]
["LFHA",null,"Aéroport d'Issoire - Le Broc","Issoire",63,377,2]
["LFHC",null,"Aéroport de Pérouges - Meximieux","Pérouges",1,213,1]
["LFHD",null,"Aéroport de Pierrelatte","Pierrelatte",26,60,2]
["LFHE",null,"Aéroport de Romans - Saint-Paul","Romans-sur-Isère",26,181,3]
["LFHF",null,"Aérodrome de Ruoms","Ruoms",7,110,1,"usage restreint"]
["LFHG",null,"Aéroport de Saint-Chamond - L'Horme","Saint-Chamond",42,395,1]
["LFHH",null,"Aéroport de Vienne Reventin","Vienne",38,219,1]
["LFHI",null,"Aéroport de Morestel","Morestel",38,245,1]
["LFHJ",null,"Aérodrome de Lyon - Corbas","Lyon",69,198,2,"usage restreint"]
["LFHL",null,"Aéroport de Langogne - Lespéron","Langogne",7,1014,1]
["LFHM","MVV","Aérodrome de Megève","Megève",74,1470,1,"usage restreint"]
["LFHN",null,"Aéroport de Bellegarde Vouvray","Bellegarde-sur-Valserine",1,494,2]
["LFHO","OBS","Aéroport d'Aubenas Ardèche méridionale","Aubenas",7,280,1]
["LFHP","LPY","Aéroport du Puy - Loudes","Le Puy-en-Velay",43,832,2]
["LFHQ",null,"Aéroport de Saint-Flour - Coltines","Saint-Flour",15,979,1]
["LFHR",null,"Aéroport de Brioude - Beaumont","Brioude",43,452,2]
["LFHS",null,"Aéroport de Bourg - Ceyzériat","Bourg-en-Bresse",1,260,2]
["LFHT",null,"Aéroport d'Ambert Le Poyet","Ambert",63,562,1]
["LFHU","AHZ","Aérodrome de l'Alpe d'Huez","Huez",38,1859,1,"usage restreint"]
["LFHV",null,"Aéroport de Villefranche - Tarare","Tarare",69,327,2]
["LFHW",null,"Aérodrome de Belleville - Villié-Morgon","Belleville",69,214,1,"usage restreint"]
["LFHX",null,"Aéroport de Lapalisse - Périgny","Lapalisse",3,316,1]
["LFHY",null,"Aéroport de Moulins - Montbeugny","Moulins",3,277,2]
["LFHZ",null,"Aérodrome de Sallanches Mont Blanc","Sallanches",74,534,1,"usage restreint"]
["LFIB",null,"Aérodrome de Belvès - Saint-Pardoux","Belvès",24,241,1,"usage restreint"]
["LFID",null,"Aéroport de Condom - Valence-sur-Baïse","Condom",32,135,1]
["LFIF",null,"Aérodrome de Saint-Affrique - Belmont","Saint-Affrique",12,513,2,"usage restreint"]
["LFIG",null,"Aéroport de Cassagnes-Bégonhès","Cassagnes-Bégonhès",12,616,1]
["LFIH",null,"Aéroport de Chalais","Chalais",16,86,1]
["LFIK",null,"Aérodrome de Ribérac - Saint-Aulaye","Ribérac",24,106,1,"usage restreint"]
["LFIL",null,"Aérodrome de Rion-des-Landes","Rion-des-Landes",40,78,1,"usage restreint"]
["LFIM",null,"Aéroport de Saint-Gaudens - Montréjeau","Saint-Gaudens",31,403,1]
["LFIP",null,"Aérodrome de Peyresourde - Balestas","Peyresourde",65,1581,1,"usage restreint"]
["LFIR",null,"Aérodrome de Revel - Montgey","Revel",31,195,1,"usage restreint"]
["LFIT",null,"Aérodrome de Toulouse - Bourg-Saint-Bernard","Toulouse",31,160,1,"usage restreint"]
["LFIV",null,"Aérodrome de Vendays-Montalivet","Vendays-Montalivet",33,4,1,"usage restreint"]
["LFIX",null,"Aérodrome d'Itxassou","Itxassou",64,185,1,"usage restreint"]
["LFIY",null,"Aérodrome de Saint-Jean-d'Angély - Saint-Denis-du-Pin","Saint-Jean-d'Angély",17,74,1,"usage restreint"]
["LFJA",null,"Base aérienne de Chaumont - Semoutiers","Chaumont",52,305,1,"militaire"]
["LFJB",null,"Aéroport de Mauleon","Mauléon",79,175,1]
["LFJC",null,"Aéroport de Clamecy","Clamecy",58,217,1]
["LFJD",null,"Aérodrome de Corlier","Corlier",1,841,1,"usage restreint"]
["LFJE",null,"Aérodrome de La Motte-Chalancon","La Motte-Chalancon",26,879,1,"usage restreint"]
["LFJF",null,"Aérodrome d'Aubenasson","Aubenasson",26,246,1,"usage restreint"]
["LFJH",null,"Aérodrome de Cazères - Palaminy","Cazères",31,247,1,"usage restreint"]
["LFJI",null,"Aérodrome de Marennes","Marennes",17,7,1,"usage restreint"]
["LFJL","ETZ","Aéroport Metz-Nancy-Lorraine","Nancy/Metz",57,265,1]
["LFJR","ANE","Aéroport d'Angers - Marce","Angers",49,59,2]
["LFJS",null,"Aéroport de Soissons - Courmelles","Soissons",2,157,1]
["LFJT",null,"Aérodrome de Tours - Le Louroux","Tours",37,125,1,"usage restreint"]
["LFJU",null,"Aérodrome de Lurcy-Levis","Lurcy-Lévis",3,227,2,"usage restreint"]
["LFKA",null,"Aérodrome d'Albertville","Albertville",73,314,1,"usage restreint"]
["LFKB","BIA","Aéroport de Bastia Poretta","Bastia","2B",7,1]
["LFKC","CLY","Aéroport de Calvi-Sainte-Catherine","Calvi","2B",63,1]
["LFKD",null,"Aérodrome de Sollières-Sardières","Sollières-Sardières",73,1296,1,"usage restreint"]
["LFKE",null,"Aérodrome de Saint-Jean-en-Royans","Saint-Jean-en-Royans",26,263,1,"usage restreint"]
["LFKF","FSC","Aéroport de Figari Sud Corse","Figari","2A",26,1]
["LFKG",null,"Aérodrome de Ghisonaccia Alzitone","Ghisonaccia","2B",53,1,"usage restreint"]
["LFKH",null,"Aérodrome de Saint-Jean-d'Avelanne","Saint-Jean-d'Avelanne",38,295,1,"usage restreint"]
["LFKJ","AJA","Aéroport d'Ajaccio Campo dell'Oro","Ajaccio","2A",4,2]
["LFKL",null,"Aérodrome de Lyon - Brindas","Lyon",69,316,1,"usage restreint"]
["LFKM",null,"Aérodrome de Saint-Galmier","Saint-Galmier",42,385,1,"usage restreint"]
["LFKO","PRP","Aéroport de Propriano","Propriano","2A",3,1]
["LFKP",null,"Aérodrome de La Tour-du-Pin - Cessieu","La Tour-du-Pin",38,320,1,"usage restreint"]
["LFKS","SOZ","Base aérienne de Solenzara","Sari-Solenzara","2A",null,1,"militaire"]
["LFKT",null,"Aéroport de Corte","Corte","2B",345,1]
["LFKX","MFX","Aérodrome de Méribel","Les Allues",73,1717,1,"usage restreint"]
["LFKY",null,"Aérodrome de Belley-Peyrieu","Belley",1,224,1,"usage restreint"]
["LFKZ",null,"Aérodrome de Saint-Claude - Pratz","Saint-Claude",39,625,1,"usage restreint"]
["LFLA","AUF","Aéroport d'Auxerre - Branches","Auxerre",89,159,1]
["LFLB","CMF","Aéroport de Chambéry - Aix-les-Bains","Chambéry",73,237,2]
["LFLC","CFE","Aéroport de Clermont-Ferrand Auvergne","Clermont-Ferrand",63,332,3]
["LFLD","BOU","Aéroport de Bourges","Bourges",18,161,2]
["LFLE",null,"Aéroport de Chambéry - Challes-les-Eaux","Chambéry",73,299,2]
["LFLG",null,"Aéroport de Grenoble - Le Versoud","Grenoble",38,220,2]
["LFLH",null,"Aéroport de Chalon - Champforgeuil","Chalon-sur-Saône",71,189,2]
["LFLI",null,"Aéroport d'Annemasse","Annemasse",74,492,1]
["LFLJ","CVF","Aérodrome de Courchevel","Saint-Bon-Tarentaise",73,2005,1,"usage restreint"]
["LFLK",null,"Aéroport d'Oyonnax - Arbent","Oyonnax",1,534,2]
["LFLL","LYS","Aéroport Lyon-Saint-Exupéry","Lyon",69,250,2]
["LFLM",null,"Aéroport de Mâcon - Charnay","Mâcon",71,222,1]
["LFLN","SYT","Aéroport de Saint-Yan","Saint-Yan",71,242,2]
["LFLO","RNE","Aéroport de Roanne - Renaison","Roanne",42,337,2]
["LFLP","NCY","Aéroport d'Annecy - Meythet","Annecy",74,462,2]
["LFLQ",null,"Aéroport de Montélimar - Ancône","Montélimar",26,73,1]
["LFLR",null,"Aéroport de Saint-Rambert-d'Albon","Saint-Rambert-d'Albon",26,155,2]
["LFLS","GNB","Aéroport de Grenoble - Saint-Geoirs","Grenoble",38,396,3]
["LFLT","MCU","Aérodrome de Montluçon - Domérat","Montluçon",3,235,1,"usage restreint"]
["LFLU","VAF","Aéroport de Valence - Chabeuil","Valence",26,160,3]
["LFLV","VHY","Aéroport de Vichy - Charmeil","Vichy",3,249,1]
["LFLW","AUR","Aéroport d'Aurillac","Aurillac",15,638,1]
["LFLX","CHR","Aéroport de Châteauroux - Déols","Châteauroux",36,161,1]
["LFLY","LYN","Aéroport de Lyon-Bron","Lyon",69,200,1]
["LFLZ",null,"Aéroport de Feurs - Chambéon","Feurs",42,334,1]
["LFMA",null,"Aéroport d'Aix Les Milles","Aix-en-Provence",13,111,1]
["LFMC",null,"Aéroport du Luc - Le Cannet","Le Luc",83,80,2]
["LFMD","CEQ","Aéroport de Cannes - Mandelieu","Cannes",6,3,3]
["LFME",null,"Aéroport de Nîmes Courbessac","Nîmes",30,60,1]
["LFMF",null,"Aéroport de Fayence","Fayence",83,225,2]
["LFMG",null,"Aérodrome de Montagne Noire","Revel",31,448,3,"usage restreint"]
["LFMH","EBU","Aéroport de Saint-Étienne - Bouthéon","Saint-Étienne",42,403,1]
["LFMI",null,"Aéroport d'Istres Le Tube","Istres",13,24,1]
["LFMK","CCF","Aéroport de Carcassonne Salvaza","Carcassonne",11,131,2]
["LFML","MRS","Aéroport de Marseille Provence","Marseille",13,22,2]
["LFMN","NCE","Aéroport Nice Côte d'Azur","Nice",6,3,2]
["LFMO",null,"Base aérienne d'Orange Caritat","Orange",84,60,1,"militaire"]
["LFMP","PGF","Aéroport de Perpignan - Rivesaltes","Perpignan",66,43,2]
["LFMQ","CTT","Aéroport du Castellet","Le Castellet",83,423,1]
["LFMR","BAE","Aéroport de Barcelonnette - Saint-Pons","Barcelonnette",4,1132,1]
["LFMS",null,"Aéroport d'Alès - Deaux","Alès",30,203,1]
["LFMT","MPL","Aéroport Montpellier Méditerranée","Montpellier",34,5,2]
["LFMU","BZR","Aéroport de Béziers - Vias","Béziers",34,17,1]
["LFMV","AVN","Aéroport d'Avignon - Caumont","Avignon",84,37,3]
["LFMW",null,"Aéroport de Castelnaudary - Villeneuve","Castelnaudary",11,167,1]
["LFMX",null,"Aéroport de Château-Arnoux-Saint-Auban","Château-Arnoux-Saint-Auban",4,459,1]
["LFMY",null,"Base aérienne de Salon-de-Provence","Salon-de-Provence",13,60,1,"militaire"]
["LFMZ",null,"Aéroport de Lézignan-Corbières","Lézignan-Corbières",11,63,2]
["LFNA","GAT","Aéroport de Gap - Tallard","Gap",5,605,2]
["LFNB","MEN","Aéroport de Mende - Brenoux","Mende",48,1024,1]
["LFNC",null,"Aéroport de Mont-Dauphin - Saint-Crépin","Mont-Dauphin",5,903,2]
["LFND",null,"Aéroport de Pont-Saint-Esprit","Pont-Saint-Esprit",84,43,1]
["LFNE",null,"Aéroport de Salon - Eyguières","Salon-de-Provence",13,74,2]
["LFNF",null,"Aéroport de Vinon","Vinon-sur-Verdon",83,274,3]
["LFNG",null,"Aéroport de Montpellier - Candillargues","Montpellier",34,1,1]
["LFNH",null,"Aéroport de Carpentras","Carpentras",84,120,2]
["LFNJ",null,"Aérodrome d'Aspres-sur-Buëch","Aspres-sur-Buëch",5,830,2,"usage restreint"]
["LFNL",null,"Aérodrome de Saint-Martin-de-Londres","Saint-Martin-de-Londres",34,181,1,"usage restreint"]
["LFNO",null,"Aérodrome de Florac - Sainte-Enimie","Florac",48,930,2,"usage restreint"]
["LFNP",null,"Aérodrome de Pézenas - Nizas","Pézenas",34,98,1,"usage restreint"]
["LFNQ",null,"Aérodrome de Mont Louis La Quillane","Mont-Louis",66,1709,1,"usage restreint"]
["LFNR",null,"Aérodrome de Berre - La Fare","La Fare-les-Oliviers",13,32,2,"usage restreint"]
["LFNS",null,"Aérodrome de Sisteron Thèze","Sisteron",4,540,1,"usage restreint"]
["LFNT",null,"Aérodrome d'Avignon - Pujaut","Avignon",30,45,3,"usage restreint"]
["LFNU",null,"Aérodrome d'Uzès","Uzès",30,270,1,"usage restreint"]
["LFNV",null,"Aéroport de Valréas - Visan","Valréas",84,143,1]
["LFNW",null,"Aérodrome de Puivert","Puivert",11,490,1,"usage restreint"]
["LFNX",null,"Aérodrome de Bédarieux - La Tour-sur-Orb","Bédarieux",34,377,1,"usage restreint"]
["LFNZ",null,"Aérodrome du Mazet de Romanin","Saint-Rémy-de-Provence",13,117,1,"usage restreint"]
["LFOA",null,"Base aérienne d'Avord","Avord",18,176,1,"militaire"]
["LFOB","BVA","Aéroport de Paris Beauvais Tillé","Paris",60,109,3]
["LFOC",null,"Aéroport de Châteaudun","Châteaudun",28,131,1]
["LFOD",null,"Aéroport de Saumur Saint-Florent","Saumur",49,81,2]
["LFOE","EVX","Base aérienne d'Évreux - Fauville","Évreux",27,141,1,"militaire"]
["LFOF",null,"Aéroport d'Alençon - Valframbert","Alençon",61,145,2]
["LFOG",null,"Aéroport de Flers - Saint-Paul","Flers",61,199,1]
["LFOH","LEH","Aéroport du Havre-Octeville","Le Havre",76,95,1]
["LFOI",null,"Aéroport d'Abbeville","Abbeville",80,67,3]
["LFOJ","ORE","Base aérienne d'Orléans - Bricy","Orléans",45,125,1,"militaire"]
["LFOK","XCR","Aéroport de Vatry","Châlons-en-Champagne",51,178,1]
["LFOL",null,"Aéroport de L'Aigle - Saint-Michel","L'Aigle",61,239,1]
["LFOM",null,"Aéroport de Lessay","Lessay",50,28,1]
["LFON",null,"Aéroport de Dreux Vernouillet","Dreux",28,135,1]
["LFOO","LSO","Aéroport des Sables-d'Olonne - Talmont","Les Sables-d'Olonne",85,32,2]
["LFOP","URO","Aéroport Rouen Vallée de Seine","Rouen",76,156,2]
["LFOQ",null,"Aéroport de Blois - Le Breuil","Blois",41,121,5]
["LFOR",null,"Aéroport de Chartres - Champhol","Chartres",28,155,2]
["LFOS",null,"Aéroport de Saint-Valery - Vittefleur","Saint-Valery-en-Caux",76,81,1]
["LFOT","TUF","Aéroport de Tours Val de Loire","Tours",37,108,1]
["LFOU","CET","Aéroport de Cholet Le Pontreau","Cholet",49,135,2]
["LFOV","LVA","Aéroport de Laval - Entrammes","Laval",53,100,2]
["LFOW",null,"Aéroport de Saint-Quentin - Roupy","Saint-Quentin",2,99,2]
["LFOX",null,"Aéroport d'Étampes Mondésir","Étampes",91,150,2]
["LFOY",null,"Aéroport du Havre - Saint-Romain","Le Havre",76,128,2]
["LFOZ",null,"Aéroport d'Orléans - Saint-Denis-de-l'Hôtel","Orléans",45,120,2]
["LFPA",null,"Aéroport de Persan - Beaumont","Persan",95,45,3]
["LFPB","LBG","Aéroport du Bourget","Paris",93,66,3]
["LFPC","CSF","Base aérienne de Creil","Creil",60,88,1,"militaire"]
["LFPD",null,"Aéroport de Bernay - Saint-Martin","Bernay",27,169,1]
["LFPE",null,"Aéroport de Meaux - Esbly","Meaux",77,67,4]
["LFPF",null,"Aérodrome de Beynes - Thiverval","Beynes",78,113,1,"usage restreint"]
["LFPG","CDG","Aéroport Roissy-Charles-de-Gaulle","Paris",93,119,4]
["LFPH",null,"Aéroport de Chelles - Le Pin","Chelles",77,63,2]
["LFPI","JDP","Héliport de Paris - Issy-les-Moulineaux","Paris",92,null,null,"héliport"]
["LFPK",null,"Aéroport de Coulommiers Voisins","Coulommiers",77,143,3]
["LFPL",null,"Aéroport de Lognes - Émerainville","Lognes",77,108,2]
["LFPM",null,"Base aérienne de Melun Villaroche","Melun",77,92,2,"militaire"]
["LFPN","TNF","Aéroport de Toussus-le-Noble","Toussus-le-Noble",78,163,2]
["LFPO","ORY","Aéroport d'Orly","Paris",91,88,3]
["LFPP",null,"Aéroport du Plessis-Belleville","Le Plessis-Belleville",60,117,2]
["LFPQ",null,"Aéroport de Fontenay-Trésigny","Fontenay-Trésigny",77,113,2]
["LFPT","POX","Aéroport de Pontoise - Cormeilles-en-Vexin","Pontoise",95,99,2]
["LFPU",null,"Aérodrome de Moret-Épisy","Moret-sur-Loing",77,77,1]
["LFPV",null,"Base aérienne de Villacoublay Vélizy","Vélizy-Villacoublay",78,178,1,"militaire"]
["LFPX",null,"Aéroport de Chavenay - Villepreux","Chavenay",78,129,2]
["LFPY",null,"Base aérienne de Brétigny-sur-Orge","Brétigny-sur-Orge",91,82,1,"militaire"]
["LFPZ",null,"Aéroport de Saint-Cyr-l'École","Saint-Cyr-l'École",78,113,2]
["LFQA",null,"Aéroport de Reims - Prunay","Reims",51,95,2]
["LFQB",null,"Aéroport de Troyes - Barberey","Troyes",10,118,3]
["LFQC",null,"Aéroport de Lunéville - Croismare","Lunéville",54,240,2]
["LFQD",null,"Aéroport d'Arras Roclincourt","Arras",62,102,1]
["LFQE",null,"Base aérienne d'Étain - Rouvres","Étain",55,234,1,"militaire"]
["LFQF",null,"Aéroport d'Autun Bellevue","Autun",71,305,2]
["LFQG","NVS","Aéroport de Nevers - Fourchambault","Nevers",58,183,2]
["LFQH",null,"Aéroport de Chatillon Sur Seine","Châtillon-sur-Seine",21,276,1]
["LFQI",null,"Base aérienne de Cambrai - Épinoy","Cambrai",59,78,1,"militaire"]
["LFQJ",null,"Aéroport de Maubeuge - Élesmes","Maubeuge",59,137,2]
["LFQK",null,"Aéroport de Châlons - Écury-sur-Coole","Châlons-en-Champagne",51,97,2]
["LFQL",null,"Aéroport de Lens - Bénifontaine","Lens",62,51,2]
["LFQM",null,"Aéroport de Besançon - La Vèze","Besançon",25,387,1]
["LFQN",null,"Aéroport de Saint-Omer - Wizernes","Saint-Omer",62,75,2]
["LFQO",null,"Aéroport de Lille - Marcq-en-Barœul","Lille",59,21,4]
["LFQP",null,"Base aérienne de Phalsbourg - Bourscheid","Phalsbourg",57,309,1,"militaire"]
["LFQQ","LIL","Aéroport de Lille - Lesquin","Lille",59,47,2]
["LFQR",null,"Aéroport de Romilly-sur-Seine","Romilly-sur-Seine",10,82,2]
["LFQS",null,"Aéroport de Vitry-en-Artois","Vitry-en-Artois",62,53,2]
["LFQT","HZB","Aéroport de Merville - Calonne","Merville",59,18,2]
["LFQU",null,"Aérodrome de Sarre-Union","Sarre-Union",67,256,2,"usage restreint"]
["LFQV",null,"Aéroport de Charleville-Mézières","Charleville-Mézières",8,149,1]
["LFQW",null,"Aéroport de Vesoul - Frotey","Vesoul",70,380,1]
["LFQX",null,"Aérodrome de Juvancourt","Juvancourt",10,349,1,"usage restreint"]
["LFQY",null,"Aérodrome de Saverne - Steinbourg","Saverne",67,190,1,"usage restreint"]
["LFQZ",null,"Aérodrome de Dieuze - Guéblange","Dieuze",57,218,1,"usage restreint"]
["LFRA",null,"Aérodrome d'Angers - Avrillé","Angers",49,57,null,"désaffecté"]
["LFRB","BES","Aéroport de Brest Bretagne","Brest",29,99,2]
["LFRC","CER","Aéroport de Cherbourg - Maupertus","Cherbourg-Octeville",50,139,1]
["LFRD","DNR","Aéroport de Dinard Pleurtuit Saint-Malo","Dinard",35,66,3]
["LFRE","LBY","Aéroport de La Baule-Escoublac","La Baule-Escoublac",44,32,1]
["LFRF","GFR","Aéroport de Granville","Granville",50,13,1]
["LFRG","DOL","Aéroport de Deauville - Saint-Gatien","Deauville",14,145,2]
["LFRH","LRT","Aéroport de Lorient Bretagne Sud","Lorient",56,51,2,"militaire/civil"]
["LFRI","EDM","Aéroport de La Roche-sur-Yon - Les Ajoncs","La Roche-sur-Yon",85,91,2]
["LFRJ","LDV","Base aérienne de Landivisiau","Landivisiau",29,106,1,"militaire"]
["LFRK","CFR","Aéroport de Caen - Carpiquet","Caen",14,78,4]
["LFRL",null,"Base aérienne de Lanvéoc Poulmic","Lanvéoc",29,87,1,"militaire"]
["LFRM","LME","Aéroport du Mans - Arnage","Le Mans",72,59,2]
["LFRN","RNS","Aéroport de Rennes - Saint-Jacques","Rennes",35,37,3]
["LFRO","LAI","Aéroport de Lannion","Lannion",22,88,1]
["LFRP",null,"Aéroport de Ploërmel - Loyat","Ploërmel",56,71,1]
["LFRQ","UIP","Aéroport de Quimper Cornouaille","Quimper",29,90,2]
["LFRS","NTE","Aéroport Nantes Atlantique","Nantes",44,27,1]
["LFRT","SBK","Aéroport de Saint-Brieuc Armor","Saint-Brieuc",22,137,1]
["LFRU","MXN","Aéroport de Morlaix Ploujean","Morlaix",29,84,3]
["LFRV","VNE","Aéroport de Vannes - Meucon","Vannes",56,135,2]
["LFRW",null,"Aérodrome d'Avranches - Le Val-Saint-Père","Avranches",50,7,2,"usage restreint"]
["LFRZ","SNR","Aéroport de Saint-Nazaire - Montoir","Saint-Nazaire",44,3,1]
["LFSA",null,"Aéroport de Besançon - Thise","Besançon",25,245,2]
["LFSB","BSL","Aéroport international Basel-Mulhouse-Freiburg","Bâle (Suisse)",null,269,3]
["LFSB","MLH","Aéroport international Basel-Mulhouse-Freiburg","Mulhouse",68,269,3]
["LFSC",null,"Base aérienne de Colmar - Meyenheim","Colmar",68,211,1,"militaire"]
["LFSD","DIJ","Aéroport de Dijon - Longvic","Dijon",21,221,2]
["LFSE",null,"Aéroport d'Épinal - Dogneville","Épinal",88,317,1]
["LFSF","MZM","Base aérienne de Metz Frescaty","Metz",57,191,1,"militaire"]
["LFSG","EPL","Aéroport d'Épinal-Mirecourt","Épinal",88,330,1]
["LFSH",null,"Aéroport d'Haguenau","Haguenau",67,149,2]
["LFSI",null,"Base aérienne de Saint-Dizier - Robinson","Saint-Dizier",52,139,1,"militaire"]
["LFSJ",null,"Aéroport de Sedan - Douzy","Sedan",8,156,3]
["LFSK",null,"Aéroport de Vitry-le-François - Vauclerc","Vitry-le-François",51,125,2]
["LFSL",null,"Base aérienne de Toul – Rosières","Toul",54,285,null,"militaire"]
["LFSM",null,"Aéroport de Montbéliard - Courcelles","Montbéliard",25,317,2]
["LFSN","ENC","Aéroport de Nancy - Essey","Nancy",54,228,2]
["LFSO",null,"Base aérienne de Nancy - Ochey","Toul/Nancy",54,337,1,"militaire"]
["LFSP",null,"Aéroport de Pontarlier","Pontarlier",25,817,2]
["LFSQ","BOR","Aérodrome de Belfort - Fontaine","Belfort",90,null,null,"désaffecté"]
["LFSR","RHE","Aéroport de Reims Champagne","Reims",51,95,1]
["LFST","SXB","Aéroport de Strasbourg Entzheim","Strasbourg",67,153,1]
["LFSU",null,"Aéroport de Langres - Rolampont","Langres",52,419,1]
["LFSV",null,"Aérodrome de Pont-Saint-Vincent","Pont-Saint-Vincent",54,408,4,"usage restreint"]
["LFSW",null,"Aéroport d'Épernay - Plivot","Épernay",51,88,2]
["LFSX",null,"Base aérienne de Luxeuil - Saint-Sauveur","Luxeuil-les-Bains",70,278,2,"militaire"]
["LFSZ","VTL","Aéroport de Vittel Champ de courses","Vittel",88,327,1,"désaffecté"]
["LFTB",null,"Hydroaérodrome de Marignane - Berre","Berre-l'Étang",13,0,1,"hydroaérodrome"]
["LFTF",null,"Aéroport de Cuers - Pierrefeu","Cuers",83,81,1]
["LFTH","TLN","Aéroport de Toulon - Hyères - Le Palyvestre","Toulon",83,2,2,"mixte"]
["LFTM",null,"Aérodrome de Serres - La Bâtie-Montsaléon","Serres",5,714,1,"usage restreint"]
["LFTN",null,"Aérodrome de La Grand'Combe","La Grand-Combe",30,502,1,"usage restreint"]
["LFTP",null,"Aérodrome de Puimoisson","Puimoisson",4,769,1,"usage restreint"]
["LFTQ",null,"Aérodrome de Châteaubriant - Pouancé","Châteaubriant",49,98,1,"usage restreint"]
["LFTW","FNI","Aéroport de Nîmes - Garons","Nîmes",30,94,1]
["LFTZ",null,"Aérodrome de La Môle","La Môle",83,17,1,"usage restreint"]
["LFVM","MQC","Aéroport de Miquelon","Miquelon",975,3,1]
["LFVP","FSP","Aéroport de Saint-Pierre","Saint-Pierre",975,8,1]
["LFXA",null,"Aéroport d'Ambérieu","Ambérieu-en-Bugey",1,250,2]
["LFXB",null,"Aéroport de Saintes - Thénac","Saintes",17,35,4]
["LFXG",null,"Base aérienne de Bitche","Bitche",57,300,1,"militaire"]
["LFXH",null,"Base aérienne du Valdahon","Valdahon",25,630,1,"militaire"]
["LFXI",null,"Aéroport de Saint-Christol","Saint-Christol",84,833,1,"désaffecté"]
["LFXM",null,"Aérodrome de Mourmelon","Mourmelon-le-Grand",51,117,1,"usage restreint"]
["LFXQ",null,"Base aérienne de Coëtquidan","Guer",56,152,1,"militaire"]
["LFXU",null,"Aéroport des Mureaux","Les Mureaux",78,27,1]
["LFYD",null,"Aéroport de Damblain","Damblain",88,390,1,"désaffecté"]
["LFYG",null,"Aéroport de Cambrai - Niergnies","Cambrai",59,95,2]
["LFYH",null,"Aéroport de Broyes-lès-Pesmes","Broye-Aubigney-Montseugny",70,207,1,"désaffecté"]
["LFYM",null,"Aéroport de Marigny Le Grand","Marigny",51,100,1,"désaffecté"]
["LFYR",null,"Aéroport de Romorantin - Pruniers","Romorantin-Lanthenay",41,88,2]
["LFYS",null,"Aérodrome de Sainte-Léocadie","Sainte-Léocadie",66,1320,1,"usage restreint"]
["LFYT",null,"Base aérienne de Saint-Simon - Clastres","Saint-Simon",2,null,1,"militaire"]
["NLWF","FUT","Aérodrome de Pointe Velé","Futuna",986,6,1]
["NLWW","WLS","Aérodrome de Hihifo","Wallis",986,24,1]
["NTAA","PPT","Aéroport international Tahiti Faa'a","Papeete",987,3,1]
["NTAR","RUR","Aérodrome de Rurutu","Rurutu",987,4,1]
["NTAT","TUB","Aérodrome de Mataura","Tubuai",987,3,1]
["NTAV",null,"Aérodrome de Raivavae","Raivavae",987,2,1]
["NTGA","AAA","Aérodrome de Anaa","Anaa",987,3,1]
["NTGB","FGU","Aérodrome de Fangatau","Fangatau",987,3,1]
["NTGC","TIH","Aérodrome de Tikehau","Tikehau",987,4,1]
["NTGD","APK","Aérodrome de Apataki","Apataki",987,2,1]
["NTGE","REA","Aérodrome de Reao","Reao",987,3,1]
["NTGF","FAV","Aérodrome de Fakarava","Fakarava",987,0,1]
["NTGH","HHZ","Aérodrome de Hikueru","Hikueru",987,2,1]
["NTGI","XMH","Aérodrome de Manihi","Manihi",987,3,1]
["NTGJ","GMR","Aérodrome de Totegegie","Totegegie",987,35,1]
["NTGK","KKR","Aérodrome de Kaukura","Kaukura",987,1,1]
["NTGM","MKP","Aérodrome de Makemo","Makemo",987,5,1]
["NTGN","NAU","Aérodrome de Napuka","Napuka",987,4,1]
["NTGO","TKV","Aérodrome de Tatakoto","Tatakoto",987,4,1]
["NTGP","PKP","Aérodrome de Puka Puka","Puka Puka",987,2,1]
["NTGQ","PUK","Aérodrome de Pukarua","Pukarua",987,6,1]
["NTGR",null,"Aérodrome de Aratika Perles","Aratika",987,53,1]
["NTGT","TKP","Aérodrome de Takapoto","Takapoto",987,4,1]
["NTGU","AGR","Aérodrome de Arutua","Arutua",987,3,1]
["NTGV","MVT","Aérodrome de Mataiva","Mataiva",987,3,1]
["NTGW","NUK","Aérodrome de Nukutavake","Nukutavake",987,4,1]
["NTGY",null,"Aérodrome de Tureai","Tureai",987,0,1]
["NTHE",null,"Aérodrome de Ahe","Ahe",987,2,1]
["NTKA",null,"Aérodrome de Kauehi","Kauehi",987,2,1]
["NTKF",null,"Aérodrome de Faaite","Faaite",987,2,1]
["NTKH","FHZ","Aérodrome de Fakahina","Fakahina",987,0,1]
["NTKK",null,"Aérodrome de Aratika Nord","Aratika",987,5,1]
["NTKM",null,"Aérodrome de Takume","Takume",987,2,1]
["NTKN",null,"Aérodrome de Niau","Niau",987,3,1]
["NTKR","TKX","Aérodrome de Takaroa","Takaroa",987,4,1]
["NTKT",null,"Aérodrome de Katiu","Katiu",987,3,1]
["NTMD","NHV","Aérodrome de Nuku Hiva","Nuku Hiva",987,1,1]
["NTMN","HIX","Aérodrome de Atuona","Hiva Oa",987,3,1,"usage restreint"]
["NTMP","UAP","Aérodrome de Ua Pou","Ua Pou",987,37,1,"usage restreint"]
["NTMU","UAH","Aérodrome de Ua Huka","Ua Huka",987,0,1,"usage restreint"]
["NTTB","BOB","Aéroport de Motu Mute","Bora Bora",987,1,1]
["NTTE","TTI","Aérodrome de Tetiaroa","Tetiaroa",987,2,1]
["NTTG","RGI","Aérodrome de Rangiroa","Rangiroa",987,2,1]
["NTTH","HUH","Aérodrome de Fare","Huahiné",987,2,1]
["NTTM","MOZ","Aéroport de Moorea Temae","Moorea",987,4,1]
["NTTO","HOI","Aérodrome de Hao","Hao",987,3,1]
["NTTP","MAU","Aérodrome de Maupiti","Maupiti",987,2,1]
["NTTR","RFP","Aérodrome de Uturoa","Raiatea",987,7,1]
["NTUV","VHZ","Aérodrome de Vahitahi","Vahitahi",987,451,1]
["NWWA","TGJ","Aérodrome de Tiga","Tiga",988,39,1]
["NWWB",null,"Aérodrome de Bourail Poe","Bourail",988,2,1]
["NWWC","BMY","Aérodrome de Waala","Île Art",988,93,1,"usage restreint"]
["NWWD","KNQ","Aérodrome de Koné","Koné",988,7,1]
["NWWE","ILP","Aérodrome de Moué","Île des Pins",988,97,1]
["NWWK","KOC","Aérodrome de Koumac","Koumac",988,13,1]
["NWWL","LIF","Aérodrome de Lifou Ouanaham","Lifou",988,28,1]
["NWWM","GEA","Aérodrome de Nouméa Magenta","Nouméa",988,3,1]
["NWWP","PUV","Aérodrome de Poum Malabou","Poum",988,2,1]
["NWWR","MEE","Aérodrome de Maré La Roche","Maré",988,42,1]
["NWWT",null,"Aérodrome de La Foa Oua Tom","La Foa",988,30,1]
["NWWU","TOU","Aérodrome de Touho","Touho",988,3,1]
["NWWV","UVE","Aérodrome de Ouvéa Ouloup","Ouvéa",988,7,1]
["NWWW","NOU","Aéroport international Nouméa La Tontouta","Nouméa",988,16,1,"mixte"]
["NWWX",null,"Aérodrome de Canala","Canala",988,2,1]
["SOCA","CAY","Aérodrome de Cayenne - Rochambeau","Cayenne",973,9,1]
["SOGS",null,"Aérodrome de Grand-Santi","Grand-Santi",973,56,1,"usage restreint"]
["SOOA","MPY","Aérodrome de Maripasoula","Maripasoula",973,114,1,"usage restreint"]
["SOOG","OXP","Aérodrome de Saint-Georges-de-l'Oyapock","Saint-Georges-de-l'Oyapock",973,11,1,"usage restreint"]
["SOOM","LDX","Aérodrome de Saint-Laurent-du-Maroni","Saint-Laurent-du-Maroni",973,5,1]
["SOOR","REI","Aérodrome de Régina","Régina",973,6,1,"usage restreint"]
["SOOS","XAU","Aérodrome de Saül","Saül",973,224,1,"usage restreint"]
["TFFA","DSD","Aérodrome de Grande Anse","La Désirade",971,3,1,"usage restreint"]
["TFFB","BBR","Aérodrome de Baillif","Basse-Terre",971,18,1,"usage restreint"]
["TFFC","SFC","Aérodrome de Saint-François","Saint-François",971,3,1]
["TFFF","FDF","Aéroport Fort-de-France - Le Lamentin","Fort-de-France",972,5,1]
["TFFG","SFG","Aérodrome de Grand-Case Espérance","Saint-Martin",971,7,1]
["TFFJ","SBH","Aérodrome de Saint-Barthélemy","Saint-Barthélemy",971,15,1,"usage restreint"]
["TFFM","GBJ","Aérodrome de Grand-Bourg","Marie-Galante",971,5,1]
["TFFR","PTP","Aéroport de Guadeloupe - Pôle Caraïbes","Pointe-à-Pitre",971,11,1]
["TFFS","LSS","Aérodrome les Saintes - Terre de Haut","Les Saintes",971,14,1,"usage restreint"]

{"sheet":"Adresse logements","index":16,"n_rows":4,"n_cols":9,"rows_kept":4,"cut":false,"hidden":true,"merged":[]}
[null,null,null,null,"Adresses logements "]
[]
["Noms","N° Tél","Lieux",null,null,"Objet","Date","Prix"]
["chalets-luchon-peyragudes","05.61.79.88.44","Garin"," http://www.chalets-luchon-peyragudes.com/chalets.html","Chalet 8 personnes","Couchages","2015-10-18","253/semaine","année 2015/10"]

{"sheet":"Répartition planeurs","index":17,"n_rows":4,"n_cols":4,"rows_kept":4,"cut":false,"hidden":true,"merged":[[1,0,1,3]]}
[]
["Ventillations des planeurs par pilotes"]
[]
["Planeurs","Immat.","Pilote","Club"]

{"sheet":"Ordre de décollage","index":18,"n_rows":4,"n_cols":3,"rows_kept":4,"cut":false,"hidden":true,"merged":[[1,0,1,2]]}
[]
["Ordre de position des planeurs sur la grille de départ"]
[]
["Immatriculation","Pilote","Club"]

{"sheet":"Tab Dépenses","index":19,"n_rows":3,"n_cols":4,"rows_kept":3,"cut":false,"hidden":true,"merged":[[0,0,0,3]]}
["Frais et dépenses du stage"]
[]
["Date","Noms","Montant","Objet"]

{"sheet":"Graphique heures par planeurs","index":20,"n_rows":0,"n_cols":0,"rows_kept":0,"cut":false,"hidden":true,"merged":[]}

{"sheet":"GraphHeuresPilotes","index":21,"n_rows":0,"n_cols":0,"rows_kept":0,"cut":false,"hidden":true,"merged":[]}

{"sheet":"Aide","index":22,"n_rows":115,"n_cols":4,"rows_kept":115,"cut":false,"hidden":true,"merged":[[1,3,1,10],[30,3,30,10],[95,3,95,10],[90,3,90,10],[57,3,57,10],[33,3,33,10],[17,3,17,10],[39,3,39,10],[47,3,47,10],[52,3,52,10],[55,3,55,10],[100,3,100,9],[114,3,114,8],[8,3,8,10],[21,3,21,10],[23,3,23,10]]}
[]
[null,null,null,"Bonjour, \n  ne pas intervenir sur les pages tout passe par les formulaires alors \n  ATTENTION AU MANIPULATION\nattention au projet et bibliothèque manquante dans VBA outils -->références  décocher manquante"]
[]
[null,"Menu",null,"A l'ouverture du fichier vous arrivez sur ATTENTION vous lisez et valider "]
[null,null,null,"Vous arrivez sur le menu du classeur "]
[]
[1,"En premier temps ",null,"Ouvrir la feuille ( Gestion des paramètres)"]
[null,null,null,"Attention aux notations en rouge "]
[null,null,null,"Mettre à jour ( Paramètres dates) { année en cours , mois du stage,\n  jours en moins = nombre de jour avant le début du stage,\n  Date est automatique ne pas modifier  }"]
[null,null,null,"Mettre à jour (Saisir les sommes par ventillation des rubriques)"]
[null,null,null,"Mettre à jour (Nom du stage )"]
[null,null,null,"Mettre à jour  ( les noms des banques)"]
[null,null,null,"Mettre à jour ( Liste planeur et prix)"]
[null,null,null,"Mettre à jour (Frais Remorqué et treuil)"]
[null,null,null,"Mettre à jour (Dates et Durée et lieu  effective )"]
[null,null,null,"ID et Facture (ne rien modifier)"]
[]
[2,"Gestion des participants",null,"En cliquant sur le menu ( gestion des participants) \n   vous arrivez sur la feuille de la gestion des stagiaires (licencies)\n   Vous cliquez sur (Formulaire de gestion des inscrits) vous remplissez le formulaire,"]
[null,null,null,"Pour un nouveau Stagiaire  ( cliquez sur nouveau stagiaire +)"]
[]
[null,null,null,"Page 1 ( Infos stagiaire)"]
[null,null,null,"Statut au stage {1} Pilotes = pilotes planeurs \nStatut au stage {2} Visiteurs = pilotes ULM, Avion, gens de passage, invités "]
[null,null,null,"Statut du pilote = ( vous cochez les informations relative au pilote ou au stagiaire)"]
[null,null,null,"Le reste des informations sont à remplir aussi le nom et prénom sont obligatoire \n  (car cela induit sur  tout le classeur) pour les calculs automatiques"]
[]
[null,null,null,"Page 2 ( Saisie des Journées de présences)"]
[null,null,null,"Au-dessous de chaque intitulé  Journée est afficher la date du jour qui est automatique"]
[null,null,null,"Cocher les cases suivant les présences du pilote"]
[]
[null,null,null,"Page 3 ( Saisie de la Comptabilité )"]
[null,null,null,"Au-dessous de chaque intitulé  Journée est afficher la date du jour qui est automatique \n  comme pour la page 2"]
[null,null,null,"Mettre les prestations de la journée suivant les pilotes choisi ( chiffres uniquement )"]
[]
[null,null,null,"En fin de saisi des informations du pilote ou des modifications de toutes les pages faire  (  Valider/Modifier ) \n  pour enregistrer les informations saisies  \n  vous faites idem pour les autres pilotes "]
[]
[]
[]
[]
[]
[3,"Ventillation   compta",null,"En cliquant sur le menu ( gestion de la comptabilités)  \n  vous arrivez sur la feuille de la gestion de la comptabilité  (VentillationCompta)\n"]
[]
[null,null,null,"Page 1 ( Suivi hébergement comptabilité )"]
[null,null,null,"Choisir un nom  et ventilé le paiement, date, caisse, acompte,  du pilote ou les autres participants "]
[]
[null,null,null,"Page 2 (Saisie de la compta des vols) de la plateforme"]
[null,null,null,"Choisir un nom  et ventilé le paiement, date, acompte1, acompte2,  du pilote ou les autres participants "]
[]
[null,null,null,"En fin de saisi des informations du pilote ou des modifications faite sur la page ou autres pages faire  (Valider/Modifier)   pour enregistrer les informations saisie du pilote,  \n   vous choisisez un autre pilote avec la liste de gauche vous faites les  modifications et valider\n   idem pour les autres pilotes, "]
[]
[]
[]
[]
[4,"Gestion des vols",null,"En cliquant sur le menu ( Gestion des vols) \n   vous arrivez sur la feuille de la gestion de  (SaisiVols)\n   Vous cliquez sur (Gestion des vols) vous remplissez le formulaire"]
[]
[null,null,null,"Page 1 (Saisie des vols)"]
[null,null,null,"--Pour ajouter un nouveau Vol  cliquez sur ( Ajouter un vol  +) et remplissez le formulaire\n--Pour une mise à jour d'un pilote vous choisisez un nom et vous modifier la fiche en prenent soin d'enregistrer par (Valider/Modifier)"]
[]
[null,null,null,"En fin de saisi des informations du vol ou des modifications  faire  (Valider/Modifier)   pour enregistré les informations saisies,  \n Pour créer un autre vol cliquez sur  ( Ajouter un vol  +) vous remplissez la fiche et vous faite (Valider/Modifier) pour enregistré le vol,\n   idem pour les autres vols, "]
[]
[]
[5,"Liste Des Relevés",null,"En cliquant sur ce menu apparait la liste des relevés éditer pour les pilotes ne rien modifier,!!! "]
[null,null,null,"Vous pouvez éditer cette page avec le bouton il sortira une page en PDF que vous pouvez imprimé"]
[]
[]
[]
[6,"Menu Graphique ",null,"Ce menu permet de visualiser les graphiques heures pilotes et planeurs  et les imprimer"]
[]
[]
[]
[]
[7,"Synthése comptabilité",null,"Ce menu sert à vérifier la balance des comptes total du stage , hors plateforme,"]
[]
[]
[]
[8,"Liste appartements",null,"Ce menu sert à afficher et à saisir les appartements que nous avons loués "]
[]
[]
[]
[9,"Menu de la partie compta","ce menu est ouvert depuis la page ","Ce menu est ouvert depuis la page ( Ventillation Compta )"]
[]
[]
[]
[]
[]
[]
[]
[]
[]
[]
[]
[null,null,null,"Vous pouvez depuis ce menu faire la gestion des (inscrits et faire la gestion des paiements )"]
[null,null,null,"Le menu (Visualisation compte) sert à éditer et l'impression des comptes pilotes"]
[]
[]
[]
[10,"Visualisation compte",null,"A l'ouverture du formulaire   (Visualisation compte) vous avez la compta du stagiaire, \n   vous pouvez l'imprimer avec le logo imprimante et le remettre au \n   stagiaire"]
[]
[]
[]
[]
[11,"Tableau de bord",null,"A l'ouverture du formulaire ce présente la visualisation de la compta de la plateforme \n  en cliquant sur (Bilan compta plateforme)"]
[]
[]
[]
[]
[]
[]
[]
[]
[]
[]
[]
[]
[]
[null,null,null,"Sur le haut (Effacement inscrit ) attention au manipulation de ce programme\n il efface tout !!!"]

{"sheet":"Icones","index":23,"n_rows":0,"n_cols":0,"rows_kept":0,"cut":false,"hidden":true,"merged":[]}

{"sheet":"Feuil1","index":24,"n_rows":0,"n_cols":0,"rows_kept":0,"cut":false,"hidden":true,"merged":[]}

{"sheet":"Feuil2","index":25,"n_rows":17,"n_cols":3,"rows_kept":17,"cut":false,"hidden":true,"merged":[]}
[]
[]
[]
[null,null,{"$f":"SUM(C5:C17)","v":44}]
[null,"FERDINAND  Jean claude",6]
[null,"BOUZIGUES  Patrick",10]
[null,"PASTOR  Bernard",3]
[null,"CATTARINUSSI  Paul",4]
[null,"HERNANDEZ   Sylvain",3]
[null,"MAUREL  Bengamin",6]
[null,null,0]
[null,"MICHELOT  Pierre",4]
[null,"MULLER  Klaus",3]
[null,null,0]
[null,null,0]
[null,"BERTELLI  Bernard",4]
[null,"MIMAUD  Eric",1]